BOTTLE,20081218PRINUNIVRMK
EXPOCODE,SECT_ID,STNNBR,CASTNO,SAMPNO,BTLNBR,BTLNBR_FLAG_W,DATE,TIME,LATITUDE,LONGITUDE,DEPTH,CTDPRS,CTDTMP,CTDSAL,CTDSAL_FLAG_W,SALNTY,SALNTY_FLAG_W,CTDOXY,CTDOXY_FLAG_W,OXYGEN,OXYGEN_FLAG_W,SILCAT,SILCAT_FLAG_W,NITRAT,NITRAT_FLAG_W,NITRIT,NITRIT_FLAG_W,PHSPHT,PHSPHT_FLAG_W,THETA
,,,,,,,,,,,METERS,DBARS,ITS-90,PSS-78,,PSS-78,,UMOL/KG,,UMOL/KG,,UMOL/KG,,UMOL/KG,,UMOL/KG,,UMOL/KG,,DEGC
  316N20060130,AAIW06,   172,  1,     36,     36,2,20060212,1719,-59.2757, -86.1687, 5069,      6.0,   7.2325,  33.9789,2,  33.9785,2,    292.0,2,    292.8,2,     1.21,2,    19.50,2,     0.20,2,     1.41,2,   7.2319
  316N20060130,AAIW06,   172,  1,     35,     35,2,20060212,1719,-59.2757, -86.1687, 5069,     17.5,   7.2219,  33.9787,2,  33.9787,2,    293.2,2,    292.7,2,     1.15,2,    19.50,2,     0.20,2,     1.40,2,   7.2203
  316N20060130,AAIW06,   172,  1,     34,     34,2,20060212,1719,-59.2757, -86.1687, 5069,     42.5,   7.2104,  33.9786,2,  33.9785,2,    293.5,2,    293.7,2,     1.10,2,    19.50,2,     0.20,2,     1.40,2,   7.2065
  316N20060130,AAIW06,   172,  1,     33,     33,2,20060212,1719,-59.2757, -86.1687, 5069,     66.4,   6.7909,  34.0094,2,  34.0071,2,    299.4,2,    297.1,2,     1.44,2,    19.62,2,     0.19,2,     1.42,2,   6.7849
  316N20060130,AAIW06,   172,  1,     32,     32,9,20060212,1719,-59.2757, -86.1687, 5069,    103.4,   5.1259,  34.1284,2,-999.0000,9,   -999.0,9,   -999.0,9,  -999.00,9,  -999.00,9,  -999.00,9,  -999.00,9,   5.1179
  316N20060130,AAIW06,   172,  1,     31,     31,2,20060212,1719,-59.2757, -86.1687, 5069,    141.4,   4.8371,  34.1172,2,  34.1183,2,    293.2,2,    293.2,2,     8.19,2,    22.71,2,     0.01,2,     1.61,2,   4.8265
  316N20060130,AAIW06,   172,  1,     30,     30,2,20060212,1719,-59.2757, -86.1687, 5069,    191.6,   4.5083,  34.0898,2,-999.0000,9,    292.1,2,    293.4,2,     9.34,2,    23.44,2,     0.01,2,     1.66,2,   4.4943
  316N20060130,AAIW06,   172,  1,     29,     29,2,20060212,1719,-59.2757, -86.1687, 5069,    242.9,   4.2417,  34.0727,2,-999.0000,9,    293.4,2,    293.8,2,    10.08,2,    23.90,2,     0.00,2,     1.70,2,   4.2244
  316N20060130,AAIW06,   172,  1,     28,     28,2,20060212,1719,-59.2757, -86.1687, 5069,    290.9,   4.2156,  34.0877,2,-999.0000,9,    287.7,2,    284.5,2,    11.63,2,    24.72,2,     0.00,2,     1.75,2,   4.1949
  316N20060130,AAIW06,   172,  1,     27,     27,2,20060212,1719,-59.2757, -86.1687, 5069,    338.2,   4.0934,  34.0990,2,-999.0000,9,    278.3,2,    276.7,2,    13.57,2,    25.65,2,     0.00,2,     1.81,2,   4.0695
  316N20060130,AAIW06,   172,  1,     26,     26,2,20060212,1719,-59.2757, -86.1687, 5069,    389.2,   4.3155,  34.1621,2,-999.0000,9,    254.5,2,    255.2,2,    17.51,2,    26.93,2,     0.00,2,     1.89,2,   4.2871
  316N20060130,AAIW06,   172,  1,     25,     25,2,20060212,1719,-59.2757, -86.1687, 5069,    437.8,   4.2765,  34.1980,2,-999.0000,9,    241.9,2,    241.4,2,    21.06,2,    28.17,2,     0.00,2,     1.97,2,   4.2445
  316N20060130,AAIW06,   172,  1,     24,     24,2,20060212,1719,-59.2757, -86.1687, 5069,    487.9,   4.2595,  34.2431,2,-999.0000,9,    230.5,2,    227.8,2,    25.42,2,    29.24,2,     0.00,2,     2.04,2,   4.2237
  316N20060130,AAIW06,   172,  1,     23,     23,2,20060212,1719,-59.2757, -86.1687, 5069,    570.7,   4.0572,  34.2810,2,-999.0000,9,    223.4,2,    216.1,2,    30.77,2,    30.42,2,     0.00,2,     2.14,2,   4.0158
  316N20060130,AAIW06,   172,  1,     22,     22,2,20060212,1719,-59.2757, -86.1687, 5069,    671.5,   3.5118,  34.2963,2,-999.0000,9,    212.8,2,    210.6,2,    38.13,2,    31.82,2,     0.00,2,     2.23,2,   3.4655
  316N20060130,AAIW06,   172,  1,     21,     21,9,20060212,1719,-59.2757, -86.1687, 5069,    769.5,   3.2085,  34.3357,2,-999.0000,9,   -999.0,9,   -999.0,9,  -999.00,9,  -999.00,9,  -999.00,9,  -999.00,9,   3.1566
  316N20060130,AAIW06,   172,  1,     20,     20,2,20060212,1719,-59.2757, -86.1687, 5069,    771.3,   3.2103,  34.3368,2,-999.0000,9,    201.6,2,    201.3,2,    45.29,2,    32.75,2,     0.00,2,     2.31,2,   3.1583
  316N20060130,AAIW06,   172,  1,     19,     19,2,20060212,1719,-59.2757, -86.1687, 5069,    863.0,   3.0178,  34.3806,2,-999.0000,9,    192.8,2,    192.0,2,    52.06,2,    33.21,2,     0.00,2,     2.36,2,   2.9602
  316N20060130,AAIW06,   172,  1,     18,     18,2,20060212,1719,-59.2757, -86.1687, 5069,    973.1,   2.7501,  34.4216,2,-999.0000,9,    184.2,2,    185.0,2,    59.25,2,    34.04,2,     0.00,2,     2.40,2,   2.6863
  316N20060130,AAIW06,   172,  1,     17,     17,2,20060212,1719,-59.2757, -86.1687, 5069,   1072.1,   2.6424,  34.4689,2,-999.0000,9,    178.7,2,    179.0,2,    64.83,2,    34.18,2,     0.00,2,     2.41,2,   2.5721
  316N20060130,AAIW06,   172,  1,     16,     16,2,20060212,1719,-59.2757, -86.1687, 5069,   1172.1,   2.5196,  34.5204,2,-999.0000,9,    174.8,2,    174.6,2,    70.21,2,    34.24,2,     0.00,2,     2.41,2,   2.4428
  316N20060130,AAIW06,   172,  1,     15,     15,2,20060212,1719,-59.2757, -86.1687, 5069,   1271.4,   2.4454,  34.5618,2,-999.0000,9,    172.7,2,    172.6,2,    74.19,2,    34.02,2,     0.00,2,     2.40,2,   2.3617
  316N20060130,AAIW06,   172,  1,     14,     14,2,20060212,1719,-59.2757, -86.1687, 5069,   1374.5,   2.3885,  34.5972,2,-999.0000,9,    171.8,2,    171.9,2,    76.96,2,    33.71,2,     0.00,2,     2.38,2,   2.2974
  316N20060130,AAIW06,   172,  1,     13,     13,2,20060212,1719,-59.2757, -86.1687, 5069,   1574.2,   2.2673,  34.6566,2,-999.0000,9,    173.4,2,    173.7,2,    82.36,2,    32.99,2,     0.00,2,     2.33,2,   2.1619
  316N20060130,AAIW06,   172,  1,     12,     12,2,20060212,1719,-59.2757, -86.1687, 5069,   1776.7,   2.1435,  34.6905,2,-999.0000,9,    177.6,2,    177.3,2,    85.75,2,    32.37,2,     0.00,2,     2.29,2,   2.0233
  316N20060130,AAIW06,   172,  1,     11,     11,2,20060212,1719,-59.2757, -86.1687, 5069,   1976.4,   2.0084,  34.7127,2,-999.0000,9,    181.2,2,    181.7,2,    90.16,2,    31.85,2,     0.00,2,     2.25,2,   1.8735
  316N20060130,AAIW06,   172,  1,     10,     10,2,20060212,1719,-59.2757, -86.1687, 5069,   2109.6,   1.9150,  34.7193,2,-999.0000,9,    183.2,2,    183.4,2,    96.80,4,    31.74,2,     0.00,2,     2.25,2,   1.7703
  316N20060130,AAIW06,   172,  1,      9,      9,2,20060212,1719,-59.2757, -86.1687, 5069,   2534.7,   1.6057,  34.7235,2,  34.7243,2,    187.9,2,    187.8,2,   104.28,2,    31.90,2,     0.00,2,     2.25,2,   1.4294
  316N20060130,AAIW06,   172,  1,      8,      8,2,20060212,1719,-59.2757, -86.1687, 5069,   2814.9,   1.4462,  34.7245,2,  34.7255,2,    192.3,2,    192.5,2,   107.89,2,    31.84,2,     0.00,2,     2.25,2,   1.2476
  316N20060130,AAIW06,   172,  1,      7,      7,2,20060212,1719,-59.2757, -86.1687, 5069,   3140.8,   1.2679,  34.7219,2,  34.7235,0,    196.8,2,    196.9,2,   112.75,2,    31.84,2,     0.00,2,     2.25,2,   1.0426
  316N20060130,AAIW06,   172,  1,      6,      6,2,20060212,1719,-59.2757, -86.1687, 5069,   3424.8,   1.0789,  34.7169,2,  34.7178,2,    200.4,2,    200.7,2,   118.64,2,    32.00,2,     0.00,2,     2.26,2,   0.8306
  316N20060130,AAIW06,   172,  1,      5,      5,2,20060212,1719,-59.2757, -86.1687, 5069,   3727.7,   0.8879,  34.7119,2,  34.7124,2,    204.0,2,    204.1,2,   124.95,2,    32.25,2,     0.00,2,     2.27,2,   0.6142
  316N20060130,AAIW06,   172,  1,      4,      4,2,20060212,1719,-59.2757, -86.1687, 5069,   4032.0,   0.6826,  34.7082,2,  34.7096,2,    207.8,2,    208.0,2,   131.27,2,    32.41,2,     0.00,2,     2.29,2,   0.3833
  316N20060130,AAIW06,   172,  1,      3,      3,2,20060212,1719,-59.2757, -86.1687, 5069,   4336.7,   0.5905,  34.7062,2,  34.7073,2,    210.2,2,    210.4,2,   134.73,2,    32.46,2,     0.00,2,     2.29,2,   0.2616
  316N20060130,AAIW06,   172,  1,      2,      2,2,20060212,1719,-59.2757, -86.1687, 5069,   4741.6,   0.5625,  34.7053,2,  34.7061,2,    211.1,2,    211.3,2,   137.79,2,    32.51,2,     0.00,2,     2.30,2,   0.1896
  316N20060130,AAIW06,   172,  1,      1,      1,2,20060212,1719,-59.2757, -86.1687, 5069,   5139.6,   0.5819,  34.7048,2,  34.7057,2,    211.7,2,    211.9,2,   138.57,2,    32.35,2,     0.00,2,     2.30,2,   0.1623
  316N20060130,AAIW06,   173,  1,     34,     34,2,20060213, 144,-59.7363, -86.5612, 5089,      7.9,   6.4484,  33.9226,2,  33.9228,2,   -999.0,9,   -999.0,9,     1.37,2,    20.62,2,     0.19,2,     1.51,2,   6.4477
  316N20060130,AAIW06,   173,  1,     33,     33,2,20060213, 144,-59.7363, -86.5612, 5089,     23.9,   6.4488,  33.9222,2,  33.9234,2,    297.3,2,    297.3,2,     1.35,2,    20.67,2,     0.19,2,     1.53,2,   6.4467
  316N20060130,AAIW06,   173,  1,     32,     32,2,20060213, 144,-59.7363, -86.5612, 5089,     52.3,   6.4364,  33.9229,2,  33.9231,2,    298.1,2,    297.3,2,     1.33,2,    20.67,2,     0.19,2,     1.50,2,   6.4319
  316N20060130,AAIW06,   173,  1,     31,     31,2,20060213, 144,-59.7363, -86.5612, 5089,     70.3,   4.3160,  34.0081,2,-999.0000,9,    309.2,2,    309.2,2,     5.11,2,    21.72,2,     0.26,2,     1.73,2,   4.3111
  316N20060130,AAIW06,   173,  1,     30,     30,2,20060213, 144,-59.7363, -86.5612, 5089,    131.2,   3.7385,  34.0125,2,-999.0000,9,    303.6,2,    304.4,2,    10.30,2,    23.97,2,     0.02,2,     1.71,2,   3.7298
  316N20060130,AAIW06,   173,  1,     29,     29,2,20060213, 144,-59.7363, -86.5612, 5089,    155.4,   3.6173,  34.0158,2,-999.0000,9,    300.7,2,    300.0,2,    11.49,2,    24.49,2,     0.01,2,     1.74,2,   3.6072
  316N20060130,AAIW06,   173,  1,     28,     28,2,20060213, 144,-59.7363, -86.5612, 5089,    206.2,   3.4899,  34.0308,2,-999.0000,9,    293.3,2,    293.6,2,    13.07,2,    25.28,2,     0.05,2,     1.80,2,   3.4766
  316N20060130,AAIW06,   173,  1,     27,     27,2,20060213, 144,-59.7363, -86.5612, 5089,    254.7,   3.3833,  34.0608,2,-999.0000,9,    275.6,2,    284.5,2,    15.66,2,    26.39,2,     0.01,2,     1.87,2,   3.3669
  316N20060130,AAIW06,   173,  1,     26,     26,2,20060213, 144,-59.7363, -86.5612, 5089,    295.0,   3.3526,  34.1049,2,-999.0000,9,    266.0,2,    267.7,2,    20.85,2,    27.74,2,     0.00,2,     1.95,2,   3.3336
  316N20060130,AAIW06,   173,  1,     25,     25,2,20060213, 144,-59.7363, -86.5612, 5089,    342.9,   3.0651,  34.1007,2,-999.0000,9,    282.9,2,    271.8,2,    22.03,2,    28.10,2,     0.00,2,     1.97,2,   3.0437
  316N20060130,AAIW06,   173,  1,     24,     24,2,20060213, 144,-59.7363, -86.5612, 5089,    391.2,   3.3050,  34.1723,2,-999.0000,9,    255.0,2,    247.5,2,    27.03,2,    29.39,2,     0.00,2,     2.06,2,   3.2796
  316N20060130,AAIW06,   173,  1,     23,     23,2,20060213, 144,-59.7363, -86.5612, 5089,    443.8,   2.9088,  34.1643,2,  34.1643,2,    254.2,2,    252.0,2,    28.81,2,    29.90,2,     0.00,2,     2.10,2,   2.8812
  316N20060130,AAIW06,   173,  1,     22,     22,2,20060213, 144,-59.7363, -86.5612, 5089,    504.0,   3.3912,  34.2730,2,-999.0000,9,    223.2,2,    216.1,2,    36.81,2,    31.30,2,     0.00,2,     2.20,2,   3.3576
  316N20060130,AAIW06,   173,  1,     21,     21,9,20060213, 144,-59.7363, -86.5612, 5089,    549.3,   3.2356,  34.2883,2,-999.0000,9,   -999.0,9,   -999.0,9,  -999.00,9,  -999.00,9,  -999.00,9,  -999.00,9,   3.1994
  316N20060130,AAIW06,   173,  1,     20,     20,2,20060213, 144,-59.7363, -86.5612, 5089,    604.6,   3.1073,  34.3155,2,-999.0000,9,    205.9,2,    204.9,2,    44.21,2,    32.43,2,     0.00,2,     2.29,2,   3.0678
  316N20060130,AAIW06,   173,  1,     19,     19,2,20060213, 144,-59.7363, -86.5612, 5089,    703.0,   2.9205,  34.3668,2,-999.0000,9,    195.1,2,    193.8,2,    51.62,2,    33.26,2,     0.00,2,     2.35,2,   2.8750
  316N20060130,AAIW06,   173,  1,     18,     18,2,20060213, 144,-59.7363, -86.5612, 5089,    803.2,   2.7356,  34.4175,2,-999.0000,9,    186.0,2,    185.3,2,    58.63,2,    33.77,2,     0.00,2,     2.38,2,   2.6841
  316N20060130,AAIW06,   173,  1,     17,     17,2,20060213, 144,-59.7363, -86.5612, 5089,    895.2,   2.5890,  34.4673,2,-999.0000,9,    180.3,2,    179.0,2,    64.64,2,    34.04,2,     0.00,2,     2.40,2,   2.5319
  316N20060130,AAIW06,   173,  1,     16,     16,2,20060213, 144,-59.7363, -86.5612, 5089,   1000.2,   2.4975,  34.5136,2,-999.0000,9,    175.9,2,    175.4,2,    69.05,2,    34.08,2,     0.00,2,     2.40,2,   2.4335
  316N20060130,AAIW06,   173,  1,     15,     15,2,20060213, 144,-59.7363, -86.5612, 5089,   1100.0,   2.4238,  34.5586,2,-999.0000,9,    173.9,2,    173.0,2,    73.46,2,    33.67,2,     0.00,2,     2.39,2,   2.3531
  316N20060130,AAIW06,   173,  1,     14,     14,2,20060213, 144,-59.7363, -86.5612, 5089,   1202.7,   2.3704,  34.5969,2,-999.0000,9,    171.7,2,    171.7,2,    76.68,2,    33.48,2,     0.00,2,     2.37,2,   2.2925
  316N20060130,AAIW06,   173,  1,     13,     13,2,20060213, 144,-59.7363, -86.5612, 5089,   1405.1,   2.2415,  34.6549,2,-999.0000,9,    173.5,2,    173.7,2,    82.71,2,    32.70,2,     0.00,2,     2.32,2,   2.1495
  316N20060130,AAIW06,   173,  1,     12,     12,2,20060213, 144,-59.7363, -86.5612, 5089,   1608.6,   2.1218,  34.6909,2,-999.0000,9,    175.4,2,    176.6,2,    86.73,2,    32.18,2,     0.00,2,     2.28,2,   2.0153
  316N20060130,AAIW06,   173,  1,     11,     11,2,20060213, 144,-59.7363, -86.5612, 5089,   1807.6,   2.0110,  34.7127,2,-999.0000,9,    181.6,2,    182.2,2,    88.75,2,    31.62,2,     0.00,2,     2.23,2,   1.8900
  316N20060130,AAIW06,   173,  1,     10,     10,2,20060213, 144,-59.7363, -86.5612, 5089,   2009.4,   1.8571,  34.7242,2,  34.7271,2,    185.4,2,    185.4,2,    93.39,2,    31.42,2,     0.00,2,     2.21,2,   1.7217
  316N20060130,AAIW06,   173,  1,      9,      9,2,20060213, 144,-59.7363, -86.5612, 5089,   2310.5,   1.6068,  34.7262,2,  34.7277,2,    188.8,2,    189.0,2,   102.09,2,    31.47,2,     0.00,2,     2.22,2,   1.4501
  316N20060130,AAIW06,   173,  1,      8,      8,2,20060213, 144,-59.7363, -86.5612, 5089,   2612.0,   1.4265,  34.7254,2,  34.7276,2,    192.5,2,    193.1,2,   107.16,2,    31.58,2,     0.00,2,     2.23,2,   1.2467
  316N20060130,AAIW06,   173,  1,      7,      7,2,20060213, 144,-59.7363, -86.5612, 5089,   2915.9,   1.2519,  34.7225,2,  34.7254,0,    196.9,2,    196.9,2,   112.45,2,    31.58,2,     0.00,2,     2.23,2,   1.0481
  316N20060130,AAIW06,   173,  1,      6,      6,2,20060213, 144,-59.7363, -86.5612, 5089,   3216.3,   1.0738,  34.7175,2,  34.7199,0,    200.5,2,    200.6,2,   117.74,2,    31.69,2,     0.00,2,     2.24,2,   0.8458
  316N20060130,AAIW06,   173,  1,      5,      5,2,20060213, 144,-59.7363, -86.5612, 5089,   3613.7,   0.8549,  34.7110,2,  34.7123,2,    204.6,2,    204.7,2,   124.90,2,    31.89,2,     0.00,2,     2.25,2,   0.5936
  316N20060130,AAIW06,   173,  1,      4,      4,2,20060213, 144,-59.7363, -86.5612, 5089,   4011.0,   0.6474,  34.7067,2,  34.7082,2,    208.9,2,    208.8,2,   130.84,2,    32.11,2,     0.00,2,     2.26,2,   0.3513
  316N20060130,AAIW06,   173,  1,      3,      3,2,20060213, 144,-59.7363, -86.5612, 5089,   4415.4,   0.5545,  34.7059,2,  34.7082,0,    211.1,2,    210.6,2,   136.80,2,    32.26,2,     0.00,2,     2.27,2,   0.2181
  316N20060130,AAIW06,   173,  1,      2,      2,2,20060213, 144,-59.7363, -86.5612, 5089,   4825.5,   0.5447,  34.7049,2,  34.7065,2,    212.1,2,    211.9,2,   138.02,2,    32.26,2,     0.00,2,     2.28,2,   0.1629
  316N20060130,AAIW06,   173,  1,      1,      1,2,20060213, 144,-59.7363, -86.5612, 5089,   5154.3,   0.5564,  34.7041,2,  34.7057,2,    212.8,2,    212.9,2,   139.04,2,    32.26,2,     0.00,2,     2.28,2,   0.1359