BOTTLE,20081218PRINUNIVRMK
EXPOCODE,SECT_ID,STNNBR,CASTNO,SAMPNO,BTLNBR,BTLNBR_FLAG_W,DATE,TIME,LATITUDE,LONGITUDE,DEPTH,CTDPRS,CTDTMP,CTDSAL,CTDSAL_FLAG_W,SALNTY,SALNTY_FLAG_W,CTDOXY,CTDOXY_FLAG_W,OXYGEN,OXYGEN_FLAG_W,SILCAT,SILCAT_FLAG_W,NITRAT,NITRAT_FLAG_W,NITRIT,NITRIT_FLAG_W,PHSPHT,PHSPHT_FLAG_W,THETA
,,,,,,,,,,,METERS,DBARS,ITS-90,PSS-78,,PSS-78,,UMOL/KG,,UMOL/KG,,UMOL/KG,,UMOL/KG,,UMOL/KG,,UMOL/KG,,DEGC
  316N20060130,AAIW06,   212,  1,     36,     36,2,20060226, 354,-57.8592,-102.9903, 4649,      6.2,   6.9210,  34.1168,2,  34.1160,2,    293.4,2,    293.6,2,     3.21,2,    18.50,2,     0.22,2,     1.33,2,   6.9204
  316N20060130,AAIW06,   212,  1,     35,     35,2,20060226, 354,-57.8592,-102.9903, 4649,     16.3,   6.9131,  34.1170,2,  34.1154,2,    294.2,2,    293.7,2,     3.15,2,    18.50,2,     0.22,2,     1.33,2,   6.9116
  316N20060130,AAIW06,   212,  1,     34,     34,2,20060226, 354,-57.8592,-102.9903, 4649,     39.2,   6.9153,  34.1175,2,  34.1153,2,    294.4,2,    293.9,2,     3.10,2,    18.50,2,     0.22,2,     1.33,2,   6.9117
  316N20060130,AAIW06,   212,  1,     33,     33,2,20060226, 354,-57.8592,-102.9903, 4649,     80.0,   6.9209,  34.1185,2,  34.1183,2,    294.1,2,    293.7,2,     3.05,2,    18.44,2,     0.22,2,     1.33,2,   6.9136
  316N20060130,AAIW06,   212,  1,     32,     32,2,20060226, 354,-57.8592,-102.9903, 4649,    120.5,   5.0475,  34.0811,2,  34.0816,2,    302.2,2,    301.6,2,     6.93,2,    21.56,2,     0.41,2,     1.56,2,   5.0383
  316N20060130,AAIW06,   212,  1,     31,     31,2,20060226, 354,-57.8592,-102.9903, 4649,    160.4,   5.0618,  34.1297,2,  34.1316,2,    289.9,2,    290.8,2,     8.12,2,    22.45,2,     0.07,2,     1.57,2,   5.0494
  316N20060130,AAIW06,   212,  1,     30,     30,2,20060226, 354,-57.8592,-102.9903, 4649,    199.4,   4.7724,  34.1172,2,  34.1155,2,    286.2,2,    288.1,2,     9.52,2,    23.38,2,     0.01,2,     1.63,2,   4.7574
  316N20060130,AAIW06,   212,  1,     29,     29,2,20060226, 354,-57.8592,-102.9903, 4649,    240.3,   4.5790,  34.1150,2,  34.1106,2,    286.1,2,    284.5,2,    10.92,2,    23.98,2,     0.01,2,     1.67,2,   4.5613
  316N20060130,AAIW06,   212,  1,     28,     28,2,20060226, 354,-57.8592,-102.9903, 4649,    289.7,   4.2452,  34.0928,2,  34.0921,2,    284.3,2,    284.7,2,    12.10,2,    24.76,2,     0.00,2,     1.72,2,   4.2245
  316N20060130,AAIW06,   212,  1,     27,     27,2,20060226, 354,-57.8592,-102.9903, 4649,    339.7,   4.0566,  34.0918,2,  34.0898,2,    278.2,2,    282.1,2,    13.50,2,    25.41,2,     0.00,2,     1.76,2,   4.0327
  316N20060130,AAIW06,   212,  1,     26,     26,2,20060226, 354,-57.8592,-102.9903, 4649,    389.4,   3.8533,  34.0953,2,  34.0945,2,    276.7,2,    276.3,2,    15.94,2,    26.28,2,     0.00,2,     1.82,2,   3.8264
  316N20060130,AAIW06,   212,  1,     25,     25,2,20060226, 354,-57.8592,-102.9903, 4649,    438.9,   4.0554,  34.1643,2,  34.1646,2,    254.0,2,    253.4,2,    19.61,2,    27.70,2,     0.00,2,     1.92,2,   4.0241
  316N20060130,AAIW06,   212,  1,     24,     24,2,20060226, 354,-57.8592,-102.9903, 4649,    487.3,   3.9539,  34.1829,2,  34.1752,0,    249.8,2,    245.7,2,    22.46,2,    28.46,2,     0.00,2,     1.97,2,   3.9194
  316N20060130,AAIW06,   212,  1,     23,     23,2,20060226, 354,-57.8592,-102.9903, 4649,    572.6,   3.7872,  34.2351,2,  34.2289,0,    227.4,2,    227.6,2,    29.04,2,    30.25,2,     0.00,2,     2.08,2,   3.7469
  316N20060130,AAIW06,   212,  1,     22,     22,2,20060226, 354,-57.8592,-102.9903, 4649,    671.4,   3.3793,  34.2645,2,  34.2605,2,    215.6,2,    219.7,2,    36.01,2,    31.42,2,     0.00,2,     2.18,2,   3.3337
  316N20060130,AAIW06,   212,  1,     21,     21,9,20060226, 354,-57.8592,-102.9903, 4649,    671.4,   3.3774,  34.2640,2,-999.0000,9,   -999.0,9,   -999.0,9,  -999.00,9,  -999.00,9,  -999.00,9,  -999.00,9,   3.3318
  316N20060130,AAIW06,   212,  1,     20,     20,2,20060226, 354,-57.8592,-102.9903, 4649,    772.5,   3.1276,  34.3158,2,  34.3170,2,    202.7,2,    206.0,2,    44.25,2,    32.64,2,     0.00,2,     2.26,2,   3.0760
  316N20060130,AAIW06,   212,  1,     19,     19,2,20060226, 354,-57.8592,-102.9903, 4649,    871.8,   2.9903,  34.3700,2,  34.3709,2,    192.9,2,    193.3,2,    51.66,2,    33.35,2,     0.00,2,     2.33,2,   2.9322
  316N20060130,AAIW06,   212,  1,     18,     18,2,20060226, 354,-57.8592,-102.9903, 4649,    972.1,   2.8136,  34.4282,2,  34.4206,0,    183.9,2,    183.1,2,    59.27,2,    34.06,2,     0.00,2,     2.38,2,   2.7493
  316N20060130,AAIW06,   212,  1,     17,     17,2,20060226, 354,-57.8592,-102.9903, 4649,   1072.8,   2.6808,  34.4698,2,  34.4635,0,    178.3,2,    178.4,2,    64.41,2,    34.21,2,     0.00,2,     2.38,2,   2.6101
  316N20060130,AAIW06,   212,  1,     16,     16,2,20060226, 354,-57.8592,-102.9903, 4649,   1172.8,   2.5360,  34.5089,2,  34.5038,0,    175.3,2,    175.5,2,    68.72,2,    34.36,2,     0.00,2,     2.38,2,   2.4590
  316N20060130,AAIW06,   212,  1,     15,     15,2,20060226, 354,-57.8592,-102.9903, 4649,   1272.4,   2.4504,  34.5549,2,  34.5531,2,    173.3,2,    173.2,2,    73.25,2,    34.04,2,     0.00,2,     2.37,2,   2.3666
  316N20060130,AAIW06,   212,  1,     14,     14,2,20060226, 354,-57.8592,-102.9903, 4649,   1373.4,   2.4051,  34.5943,2,  34.5977,2,    172.4,2,    172.1,2,    76.53,2,    33.68,2,     0.00,2,     2.35,2,   2.3139
  316N20060130,AAIW06,   212,  1,     13,     13,2,20060226, 354,-57.8592,-102.9903, 4649,   1473.4,   2.3507,  34.6272,2,  34.6312,2,    172.6,2,    172.5,2,    80.00,2,    33.27,2,     0.00,2,     2.33,2,   2.2523
  316N20060130,AAIW06,   212,  1,     12,     12,2,20060226, 354,-57.8592,-102.9903, 4649,   1574.9,   2.2973,  34.6503,2,  34.6466,2,    173.6,2,    173.9,2,    81.41,2,    32.96,2,     0.00,2,     2.30,2,   2.1915
  316N20060130,AAIW06,   212,  1,     11,     11,2,20060226, 354,-57.8592,-102.9903, 4649,   1771.8,   2.1709,  34.6882,2,  34.6803,0,    176.8,2,    177.3,2,    85.53,2,    32.34,2,     0.00,2,     2.26,2,   2.0507
  316N20060130,AAIW06,   212,  1,     10,     10,2,20060226, 354,-57.8592,-102.9903, 4649,   1975.3,   2.0395,  34.7105,2,  34.7071,2,    180.3,2,    180.8,2,    87.98,2,    31.92,2,     0.00,2,     2.22,2,   1.9043
  316N20060130,AAIW06,   212,  1,      9,      9,2,20060226, 354,-57.8592,-102.9903, 4649,   2175.8,   1.8836,  34.7237,2,  34.7216,0,    185.2,2,    185.0,2,    93.57,2,    31.57,2,     0.00,2,     2.20,2,   1.7337
  316N20060130,AAIW06,   212,  1,      8,      8,2,20060226, 354,-57.8592,-102.9903, 4649,   2476.8,   1.6180,  34.7244,2,  34.7220,0,    189.8,2,    188.8,2,   103.36,2,    31.81,2,     0.00,2,     2.21,2,   1.4466
  316N20060130,AAIW06,   212,  1,      7,      7,2,20060226, 354,-57.8592,-102.9903, 4649,   2777.3,   1.4494,  34.7249,2,  34.7233,0,    193.2,2,    193.8,2,   107.08,2,    31.76,2,     0.00,2,     2.20,2,   1.2542
  316N20060130,AAIW06,   212,  1,      6,      6,2,20060226, 354,-57.8592,-102.9903, 4649,   3079.5,   1.2840,  34.7230,2,  34.7208,0,    197.1,2,    197.4,2,   111.44,2,    31.75,2,     0.00,2,     2.20,2,   1.0642
  316N20060130,AAIW06,   212,  1,      5,      5,2,20060226, 354,-57.8592,-102.9903, 4649,   3378.6,   1.1150,  34.7186,2,  34.7151,0,    200.9,2,    201.2,2,   116.01,2,    31.90,2,     0.00,2,     2.21,2,   0.8703
  316N20060130,AAIW06,   212,  1,      4,      4,2,20060226, 354,-57.8592,-102.9903, 4649,   3677.3,   0.9553,  34.7130,2,  34.7103,0,    204.1,2,    204.0,2,   121.23,2,    32.00,2,     0.00,2,     2.22,2,   0.6850
  316N20060130,AAIW06,   212,  1,      3,      3,2,20060226, 354,-57.8592,-102.9903, 4649,   3975.8,   0.7883,  34.7095,2,  34.7078,0,    207.0,2,    207.0,2,   127.31,2,    32.20,2,     0.00,2,     2.23,2,   0.4919
  316N20060130,AAIW06,   212,  1,      2,      2,2,20060226, 354,-57.8592,-102.9903, 4649,   4317.4,   0.6149,  34.7061,2,  34.7032,0,    210.2,2,    210.3,2,   132.55,2,    32.30,2,     0.00,2,     2.25,2,   0.2873
  316N20060130,AAIW06,   212,  1,      1,      1,2,20060226, 354,-57.8592,-102.9903, 4649,   4720.8,   0.5717,  34.7045,2,  34.7032,0,    212.4,2,    212.2,2,   136.31,2,    32.45,2,     0.00,2,     2.26,2,   0.2009
  316N20060130,AAIW06,   213,  1,     36,     36,2,20060226,1029,-58.4393,-102.9903, 4554,      5.6,   6.3106,  34.0169,2,  34.0202,2,    298.4,2,    298.6,2,     1.71,2,    20.14,2,     0.22,2,     1.45,2,   6.3101
  316N20060130,AAIW06,   213,  1,     35,     35,2,20060226,1029,-58.4393,-102.9903, 4554,     25.0,   6.3116,  34.0169,2,-999.0000,9,   -999.0,9,   -999.0,9,  -999.00,9,  -999.00,9,  -999.00,9,  -999.00,9,   6.3095
  316N20060130,AAIW06,   213,  1,     34,     34,2,20060226,1029,-58.4393,-102.9903, 4554,     25.0,   6.3109,  34.0169,2,-999.0000,9,   -999.0,9,   -999.0,9,  -999.00,9,  -999.00,9,  -999.00,9,  -999.00,9,   6.3088
  316N20060130,AAIW06,   213,  1,     33,     33,2,20060226,1029,-58.4393,-102.9903, 4554,     25.1,   6.3113,  34.0169,2,  34.0194,2,    299.2,2,    298.5,2,     1.63,2,    20.09,2,     0.21,2,     1.45,2,   6.3092
  316N20060130,AAIW06,   213,  1,     32,     32,2,20060226,1029,-58.4393,-102.9903, 4554,     49.9,   6.3164,  34.0174,2,  34.0219,2,    299.6,2,    298.3,2,     1.76,2,    20.09,2,     0.21,2,     1.44,2,   6.3121
  316N20060130,AAIW06,   213,  1,     31,     31,2,20060226,1029,-58.4393,-102.9903, 4554,     76.1,   6.3190,  34.0192,2,  34.0227,2,    299.4,2,    298.9,2,     1.68,2,    20.10,2,     0.21,2,     1.44,2,   6.3125
  316N20060130,AAIW06,   213,  1,     30,     30,2,20060226,1029,-58.4393,-102.9903, 4554,    105.5,   4.7829,  34.0555,2,  34.0599,2,    307.5,2,    306.1,2,     5.72,2,    21.89,2,     0.25,2,     1.62,2,   4.7751
  316N20060130,AAIW06,   213,  1,     29,     29,2,20060226,1029,-58.4393,-102.9903, 4554,    155.0,   4.4323,  34.0828,2,  34.0885,2,    292.2,2,    293.8,2,     9.36,2,    23.75,2,     0.06,2,     1.65,2,   4.4211
  316N20060130,AAIW06,   213,  1,     28,     28,2,20060226,1029,-58.4393,-102.9903, 4554,    205.2,   4.0421,  34.0582,2,  34.0615,2,    296.0,2,    296.7,2,    10.51,2,    24.32,2,     0.01,2,     1.68,2,   4.0279
  316N20060130,AAIW06,   213,  1,     27,     27,2,20060226,1029,-58.4393,-102.9903, 4554,    255.6,   3.9877,  34.0814,2,  34.0842,2,    290.3,2,    284.8,2,    12.91,2,    25.38,2,     0.00,2,     1.74,2,   3.9700
  316N20060130,AAIW06,   213,  1,     26,     26,2,20060226,1029,-58.4393,-102.9903, 4554,    305.0,   3.5986,  34.0577,2,  34.0625,2,    278.7,2,    286.9,2,    14.07,2,    26.10,2,     0.00,2,     1.78,2,   3.5783
  316N20060130,AAIW06,   213,  1,     25,     25,2,20060226,1029,-58.4393,-102.9903, 4554,    355.2,   3.5018,  34.0733,2,  34.0803,2,    270.8,2,    278.4,2,    16.26,2,    26.97,2,     0.00,2,     1.83,2,   3.4783
  316N20060130,AAIW06,   213,  1,     24,     24,2,20060226,1029,-58.4393,-102.9903, 4554,    404.9,   3.5844,  34.1206,2,  34.1252,2,    265.4,2,    263.4,2,    19.69,2,    27.88,2,     0.00,2,     1.91,2,   3.5572
  316N20060130,AAIW06,   213,  1,     23,     23,2,20060226,1029,-58.4393,-102.9903, 4554,    455.3,   3.5301,  34.1527,2,  34.1644,2,    246.1,2,    250.5,2,    23.33,2,    28.85,2,     0.00,2,     1.97,2,   3.4995
  316N20060130,AAIW06,   213,  1,     21,     21,9,20060226,1029,-58.4393,-102.9903, 4554,    504.7,   3.5994,  34.2110,2,-999.0000,9,   -999.0,9,   -999.0,9,  -999.00,9,  -999.00,9,  -999.00,9,  -999.00,9,   3.5650
  316N20060130,AAIW06,   213,  1,     22,     22,2,20060226,1029,-58.4393,-102.9903, 4554,    504.7,   3.6017,  34.2112,2,  34.2132,2,    237.0,2,    235.3,2,    28.21,2,    30.13,2,     0.00,2,     2.06,2,   3.5672
  316N20060130,AAIW06,   213,  1,     20,     20,2,20060226,1029,-58.4393,-102.9903, 4554,    604.7,   3.2642,  34.2491,2,  34.2530,2,    220.6,2,    221.9,2,    35.35,2,    31.71,2,     0.00,2,     2.18,2,   3.2240
  316N20060130,AAIW06,   213,  1,     19,     19,2,20060226,1029,-58.4393,-102.9903, 4554,    704.1,   3.2062,  34.3197,2,  34.3229,2,    205.6,2,    204.5,2,    43.33,2,    32.68,2,     0.00,2,     2.27,2,   3.1591
  316N20060130,AAIW06,   213,  1,     18,     18,2,20060226,1029,-58.4393,-102.9903, 4554,    803.9,   2.9797,  34.3685,2,  34.3727,2,    193.9,2,    192.9,2,    50.90,2,    33.55,2,     0.00,2,     2.34,2,   2.9267
  316N20060130,AAIW06,   213,  1,     17,     17,2,20060226,1029,-58.4393,-102.9903, 4554,    902.7,   2.8098,  34.4207,2,  34.4247,2,    184.4,2,    183.8,2,    57.45,2,    34.22,2,     0.00,2,     2.37,2,   2.7507
  316N20060130,AAIW06,   213,  1,     16,     16,2,20060226,1029,-58.4393,-102.9903, 4554,   1002.7,   2.6439,  34.4660,2,  34.4685,2,    179.1,2,    178.8,2,    63.17,2,    34.48,2,     0.00,2,     2.39,2,   2.5786
  316N20060130,AAIW06,   213,  1,     15,     15,2,20060226,1029,-58.4393,-102.9903, 4554,   1102.6,   2.5375,  34.5130,2,  34.5176,2,    175.4,2,    175.0,2,    68.29,2,    34.38,2,     0.00,2,     2.38,2,   2.4657
  316N20060130,AAIW06,   213,  1,     14,     14,2,20060226,1029,-58.4393,-102.9903, 4554,   1203.3,   2.4774,  34.5542,2,  34.5580,2,    172.9,2,    173.5,2,    72.17,2,    34.18,2,     0.00,2,     2.37,2,   2.3986
  316N20060130,AAIW06,   213,  1,     13,     13,2,20060226,1029,-58.4393,-102.9903, 4554,   1303.7,   2.3905,  34.5946,2,  34.5981,2,    172.3,2,    172.1,2,    75.63,2,    33.78,2,     0.00,2,     2.34,2,   2.3048
  316N20060130,AAIW06,   213,  1,     12,     12,2,20060226,1029,-58.4393,-102.9903, 4554,   1403.2,   2.3450,  34.6273,2,  34.6303,2,    172.2,2,    172.2,2,    78.89,2,    33.32,2,     0.00,2,     2.31,2,   2.2521
  316N20060130,AAIW06,   213,  1,     11,     11,2,20060226,1029,-58.4393,-102.9903, 4554,   1603.4,   2.2227,  34.6727,2,  34.6751,2,    175.0,2,    175.4,2,    82.57,2,    32.66,2,     0.00,2,     2.26,2,   2.1154
  316N20060130,AAIW06,   213,  1,     10,     10,2,20060226,1029,-58.4393,-102.9903, 4554,   1804.0,   2.1032,  34.7006,2,  34.7052,2,    178.9,2,    178.8,2,    85.85,2,    32.15,2,     0.00,2,     2.22,2,   1.9812
  316N20060130,AAIW06,   213,  1,      9,      9,2,20060226,1029,-58.4393,-102.9903, 4554,   2004.3,   1.9193,  34.7179,2,  34.7217,0,    182.5,2,    182.4,2,    92.25,2,    31.90,2,     0.00,2,     2.20,2,   1.7834
  316N20060130,AAIW06,   213,  1,      8,      8,2,20060226,1029,-58.4393,-102.9903, 4554,   2304.4,   1.6387,  34.7234,2,  34.7274,0,    187.3,2,    187.5,2,   101.38,2,    31.75,2,     0.00,2,     2.20,2,   1.4819
  316N20060130,AAIW06,   213,  1,      7,      7,2,20060226,1029,-58.4393,-102.9903, 4554,   2605.5,   1.4964,  34.7265,2,  34.7296,0,    191.6,2,    192.1,2,   104.26,2,    31.65,2,     0.00,2,     2.19,2,   1.3158
  316N20060130,AAIW06,   213,  1,      6,      6,2,20060226,1029,-58.4393,-102.9903, 4554,   2905.3,   1.3600,  34.7254,2,  34.7290,0,    195.6,2,    195.7,2,   107.97,2,    31.65,2,     0.00,2,     2.19,2,   1.1549
  316N20060130,AAIW06,   213,  1,      5,      5,2,20060226,1029,-58.4393,-102.9903, 4554,   3202.5,   1.2028,  34.7215,2,  34.7252,0,    199.0,2,    198.9,2,   112.96,2,    31.81,2,     0.00,2,     2.19,2,   0.9731
  316N20060130,AAIW06,   213,  1,      4,      4,2,20060226,1029,-58.4393,-102.9903, 4554,   3501.0,   1.0388,  34.7161,2,  34.7203,0,    202.2,2,    201.9,2,   118.80,2,    31.77,2,     0.00,2,     2.21,2,   0.7840
  316N20060130,AAIW06,   213,  1,      3,      3,2,20060226,1029,-58.4393,-102.9903, 4554,   3799.8,   0.8768,  34.7109,2,  34.7160,0,    205.4,2,    205.5,2,   124.44,2,    32.12,2,     0.00,2,     2.21,2,   0.5961
  316N20060130,AAIW06,   213,  1,      2,      2,2,20060226,1029,-58.4393,-102.9903, 4554,   4207.1,   0.6367,  34.7066,2,  34.7103,0,    210.3,2,    209.6,2,   131.15,2,    32.34,2,     0.00,2,     2.24,2,   0.3203
  316N20060130,AAIW06,   213,  1,      1,      1,2,20060226,1029,-58.4393,-102.9903, 4554,   4626.8,   0.5606,  34.7046,2,  34.7072,0,    212.8,2,    213.1,2,   134.93,2,    32.54,2,     0.00,2,     2.24,2,   0.2007