BOTTLE,20081218PRINUNIVRMK
EXPOCODE,SECT_ID,STNNBR,CASTNO,SAMPNO,BTLNBR,BTLNBR_FLAG_W,DATE,TIME,LATITUDE,LONGITUDE,DEPTH,CTDPRS,CTDTMP,CTDSAL,CTDSAL_FLAG_W,SALNTY,SALNTY_FLAG_W,CTDOXY,CTDOXY_FLAG_W,OXYGEN,OXYGEN_FLAG_W,SILCAT,SILCAT_FLAG_W,NITRAT,NITRAT_FLAG_W,NITRIT,NITRIT_FLAG_W,PHSPHT,PHSPHT_FLAG_W,THETA
,,,,,,,,,,,METERS,DBARS,ITS-90,PSS-78,,PSS-78,,UMOL/KG,,UMOL/KG,,UMOL/KG,,UMOL/KG,,UMOL/KG,,UMOL/KG,,DEGC
  316N20060130,AAIW06,   220,  1,     36,     36,2,20060228,1802,-56.2583, -93.1842, 5293,      4.1,   7.6736,  34.0601,2,  34.0623,2,    290.9,2,    291.0,2,     0.94,2,    18.18,2,     0.22,2,     1.31,2,   7.6732
  316N20060130,AAIW06,   220,  1,     35,     35,2,20060228,1802,-56.2583, -93.1842, 5293,     20.0,   7.6774,  34.0627,2,  34.0652,2,    291.6,2,    291.0,2,     0.86,2,    18.18,2,     0.22,2,     1.31,2,   7.6755
  316N20060130,AAIW06,   220,  1,     34,     34,2,20060228,1802,-56.2583, -93.1842, 5293,     40.2,   7.4548,  34.0681,2,  34.0691,2,    293.2,2,    292.0,2,     1.00,2,    18.27,2,     0.22,2,     1.31,2,   7.4510
  316N20060130,AAIW06,   220,  1,     33,     33,2,20060228,1802,-56.2583, -93.1842, 5293,     70.3,   7.2557,  34.0653,2,  34.0669,2,    293.4,2,    292.5,2,     1.54,2,    18.58,2,     0.22,2,     1.33,2,   7.2491
  316N20060130,AAIW06,   220,  1,     32,     32,2,20060228,1802,-56.2583, -93.1842, 5293,     89.8,   7.0762,  34.0677,2,  34.0685,2,    293.4,2,    293.1,2,     1.67,2,    18.87,2,     0.23,2,     1.34,2,   7.0679
  316N20060130,AAIW06,   220,  1,     31,     31,2,20060228,1802,-56.2583, -93.1842, 5293,    118.1,   5.5495,  34.1747,2,  34.1773,2,    289.9,2,    290.1,2,     6.49,2,    21.22,2,     0.06,2,     1.48,2,   5.5400
  316N20060130,AAIW06,   220,  1,     30,     30,2,20060228,1802,-56.2583, -93.1842, 5293,    172.3,   5.2829,  34.1592,2,  34.1588,2,    288.6,2,    290.9,2,     7.03,2,    21.62,2,     0.01,2,     1.50,2,   5.2693
  316N20060130,AAIW06,   220,  1,     29,     29,2,20060228,1802,-56.2583, -93.1842, 5293,    226.6,   5.0799,  34.1433,2,  34.1453,2,    286.8,2,    290.8,2,     7.57,2,    22.08,2,     0.01,2,     1.54,2,   5.0623
  316N20060130,AAIW06,   220,  1,     28,     28,2,20060228,1802,-56.2583, -93.1842, 5293,    275.7,   4.8652,  34.1279,2,  34.1284,2,    292.1,2,    288.8,2,     8.53,2,    22.79,2,     0.01,2,     1.57,2,   4.8442
  316N20060130,AAIW06,   220,  1,     27,     27,2,20060228,1802,-56.2583, -93.1842, 5293,    340.7,   4.5489,  34.1044,2,  34.1084,2,    285.8,2,    286.9,2,     9.68,2,    23.75,2,     0.00,2,     1.63,2,   4.5236
  316N20060130,AAIW06,   220,  1,     26,     26,2,20060228,1802,-56.2583, -93.1842, 5293,    375.8,   4.3304,  34.0864,2,  34.0882,2,    282.6,2,    290.3,2,     9.81,2,    23.91,2,     0.00,2,     1.65,2,   4.3030
  316N20060130,AAIW06,   220,  1,     25,     25,2,20060228,1802,-56.2583, -93.1842, 5293,    424.2,   4.7231,  34.1768,2,  34.1726,2,    280.4,2,    260.3,2,    14.02,2,    25.64,2,     0.00,2,     1.75,2,   4.6907
  316N20060130,AAIW06,   220,  1,     24,     24,2,20060228,1802,-56.2583, -93.1842, 5293,    504.0,   4.3424,  34.1842,2,  34.1854,2,    248.0,2,    247.5,2,    19.05,2,    27.26,2,     0.00,2,     1.87,2,   4.3051
  316N20060130,AAIW06,   220,  1,     23,     23,2,20060228,1802,-56.2583, -93.1842, 5293,    603.2,   3.9600,  34.2299,2,  34.2318,2,    231.6,2,    230.8,2,    26.32,2,    29.55,2,     0.00,2,     2.01,2,   3.9166
  316N20060130,AAIW06,   220,  1,     22,     22,2,20060228,1802,-56.2583, -93.1842, 5293,    742.1,   3.5794,  34.3117,2,  34.3126,2,    210.2,2,    207.2,2,    38.48,2,    31.67,2,     0.00,2,     2.17,2,   3.5274
  316N20060130,AAIW06,   220,  1,     21,     21,9,20060228,1802,-56.2583, -93.1842, 5293,    759.3,   3.5256,  34.3191,2,-999.0000,9,   -999.0,9,   -999.0,9,  -999.00,9,  -999.00,9,  -999.00,9,  -999.00,9,   3.4726
  316N20060130,AAIW06,   220,  1,     20,     20,2,20060228,1802,-56.2583, -93.1842, 5293,    842.1,   3.3343,  34.3465,2,  34.3471,2,    198.1,2,    198.9,2,    44.33,2,    32.49,2,     0.00,2,     2.22,2,   3.2762
  316N20060130,AAIW06,   220,  1,     19,     19,4,20060228,1802,-56.2583, -93.1842, 5293,    941.2,   3.1783,  34.3818,2,  34.3840,2,    192.5,2,    192.0,2,    50.60,2,    32.95,2,     0.00,2,     2.27,2,   3.1137
  316N20060130,AAIW06,   220,  1,     18,     18,4,20060228,1802,-56.2583, -93.1842, 5293,    941.5,   3.1759,  34.3819,2,  34.3828,2,    192.5,2,    191.9,2,    50.54,2,    33.01,2,     0.00,2,     2.27,2,   3.1113
  316N20060130,AAIW06,   220,  1,     17,     17,2,20060228,1802,-56.2583, -93.1842, 5293,   1042.1,   3.0125,  34.4044,2,  34.4056,2,    188.0,2,    188.3,2,    54.97,2,    33.41,2,     0.00,2,     2.29,2,   2.9415
  316N20060130,AAIW06,   220,  1,     16,     16,2,20060228,1802,-56.2583, -93.1842, 5293,   1142.7,   2.7137,  34.4624,2,  34.4642,2,    181.1,2,    179.9,2,    63.09,2,    33.93,2,     0.00,2,     2.33,2,   2.6375
  316N20060130,AAIW06,   220,  1,     15,     15,2,20060228,1802,-56.2583, -93.1842, 5293,   1241.6,   2.6012,  34.5053,2,  34.5086,2,    176.1,2,    176.1,2,    67.94,2,    34.04,2,     0.00,2,     2.34,2,   2.5184
  316N20060130,AAIW06,   220,  1,     14,     14,2,20060228,1802,-56.2583, -93.1842, 5293,   1340.5,   2.5041,  34.5482,2,  34.5506,2,    173.3,2,    172.9,2,    71.58,2,    33.88,2,     0.00,2,     2.32,2,   2.4146
  316N20060130,AAIW06,   220,  1,     13,     13,2,20060228,1802,-56.2583, -93.1842, 5293,   1538.0,   2.3793,  34.6153,2,  34.6185,2,    171.6,2,    171.9,2,    78.90,2,    33.37,2,     0.00,2,     2.29,2,   2.2755
  316N20060130,AAIW06,   220,  1,     12,     12,2,20060228,1802,-56.2583, -93.1842, 5293,   1738.9,   2.2533,  34.6643,2,  34.6655,2,    173.9,2,    173.4,2,    83.79,2,    32.76,2,     0.00,2,     2.25,2,   2.1347
  316N20060130,AAIW06,   220,  1,     11,     11,2,20060228,1802,-56.2583, -93.1842, 5293,   1938.4,   2.1273,  34.6953,2,  34.6971,2,    175.1,2,    177.1,2,    87.23,2,    32.25,2,     0.00,2,     2.24,2,   1.9939
  316N20060130,AAIW06,   220,  1,     10,     10,2,20060228,1802,-56.2583, -93.1842, 5293,   2148.4,   1.9580,  34.7149,2,  34.7174,2,    180.6,2,    181.3,2,    92.74,2,    31.90,2,     0.00,2,     2.22,2,   1.8093
  316N20060130,AAIW06,   220,  1,      9,      9,2,20060228,1802,-56.2583, -93.1842, 5293,   2449.4,   1.6916,  34.7157,2,  34.7171,2,    183.8,2,    181.8,2,   104.67,2,    32.26,2,     0.00,2,     2.25,2,   1.5213
  316N20060130,AAIW06,   220,  1,      8,      8,2,20060228,1802,-56.2583, -93.1842, 5293,   2749.8,   1.5383,  34.7215,2,  34.7222,2,    188.8,2,    188.3,2,   107.32,2,    32.01,2,     0.00,2,     2.22,2,   1.3438
  316N20060130,AAIW06,   220,  1,      7,      7,2,20060228,1802,-56.2583, -93.1842, 5293,   3052.1,   1.3674,  34.7226,2,  34.7242,2,    194.3,2,    194.3,2,   110.58,2,    31.91,2,     0.00,2,     2.21,2,   1.1483
  316N20060130,AAIW06,   220,  1,      6,      6,2,20060228,1802,-56.2583, -93.1842, 5293,   3406.4,   1.1447,  34.7187,2,  34.7206,2,    200.2,2,    200.2,2,   116.35,2,    32.02,2,     0.00,2,     2.22,2,   0.8966
  316N20060130,AAIW06,   220,  1,      5,      5,2,20060228,1802,-56.2583, -93.1842, 5293,   3708.4,   0.9114,  34.7125,2,  34.7120,2,    204.0,2,    203.7,2,   124.23,2,    32.17,2,     0.00,2,     2.24,2,   0.6391
  316N20060130,AAIW06,   220,  1,      4,      4,2,20060228,1802,-56.2583, -93.1842, 5293,   4111.6,   0.6824,  34.7082,2,  34.7092,2,    207.9,2,    207.9,2,   131.70,2,    32.32,2,     0.00,2,     2.24,2,   0.3748
  316N20060130,AAIW06,   220,  1,      3,      3,2,20060228,1802,-56.2583, -93.1842, 5293,   4514.8,   0.6032,  34.7068,2,  34.7078,2,    210.0,2,    210.4,2,   135.43,2,    32.54,2,     0.00,2,     2.24,2,   0.2544
  316N20060130,AAIW06,   220,  1,      2,      2,2,20060228,1802,-56.2583, -93.1842, 5293,   4924.1,   0.6069,  34.7059,2,  34.7080,0,    211.0,2,    210.8,2,   137.48,2,    32.49,2,     0.00,2,     2.25,2,   0.2117
  316N20060130,AAIW06,   220,  1,      1,      1,2,20060228,1802,-56.2583, -93.1842, 5293,   5385.3,   0.6475,  34.7054,2,  34.7064,2,    211.2,2,    211.0,2,   137.44,2,    32.58,2,     0.00,2,     2.25,2,   0.1960
  316N20060130,AAIW06,   221,  1,     36,     36,2,20060301, 352,-55.7748, -91.4658, 5094,      4.8,   8.1437,  34.1420,2,  34.1446,2,    287.3,2,    287.6,2,     0.95,2,    16.05,2,     0.23,2,     1.14,2,   8.1432
  316N20060130,AAIW06,   221,  1,     35,     35,2,20060301, 352,-55.7748, -91.4658, 5094,     16.4,   8.1446,  34.1420,2,  34.1432,2,    288.1,2,    287.7,2,     0.93,2,    16.05,2,     0.23,2,     1.14,2,   8.1430
  316N20060130,AAIW06,   221,  1,     34,     34,2,20060301, 352,-55.7748, -91.4658, 5094,     41.3,   8.1458,  34.1420,2,  34.1432,2,    288.3,2,    287.9,2,     0.90,2,    16.05,2,     0.23,2,     1.15,2,   8.1417
  316N20060130,AAIW06,   221,  1,     33,     33,2,20060301, 352,-55.7748, -91.4658, 5094,     66.5,   8.1011,  34.1420,2,  34.1444,2,    288.4,2,    287.7,2,     0.88,2,    16.15,2,     0.23,2,     1.15,2,   8.0945
  316N20060130,AAIW06,   221,  1,     32,     32,2,20060301, 352,-55.7748, -91.4658, 5094,     95.6,   8.0564,  34.1409,2,  34.1438,2,    288.1,2,    287.1,2,     0.85,2,    16.15,2,     0.23,2,     1.16,2,   8.0469
  316N20060130,AAIW06,   221,  1,     31,     31,2,20060301, 352,-55.7748, -91.4658, 5094,    140.9,   5.7970,  34.1854,2,  34.1881,2,    290.4,2,    290.1,2,     6.32,2,    19.93,2,     0.44,2,     1.46,2,   5.7853
  316N20060130,AAIW06,   221,  1,     30,     30,2,20060301, 352,-55.7748, -91.4658, 5094,    189.4,   5.6319,  34.1828,2,  34.1842,2,    289.4,2,    291.4,2,     6.09,2,    20.45,2,     0.02,2,     1.45,2,   5.6164
  316N20060130,AAIW06,   221,  1,     29,     29,2,20060301, 352,-55.7748, -91.4658, 5094,    240.1,   5.5597,  34.1855,2,  34.1867,2,    288.5,2,    291.4,2,     5.86,2,    20.46,2,     0.02,2,     1.44,2,   5.5401
  316N20060130,AAIW06,   221,  1,     28,     28,2,20060301, 352,-55.7748, -91.4658, 5094,    289.8,   5.5338,  34.1904,2,  34.1924,2,    288.8,2,    289.3,2,     6.24,2,    20.82,2,     0.01,2,     1.46,2,   5.5101
  316N20060130,AAIW06,   221,  1,     27,     27,2,20060301, 352,-55.7748, -91.4658, 5094,    339.3,   5.4743,  34.1872,2,  34.1885,2,    289.8,2,    289.8,2,     6.63,2,    20.97,2,     0.01,2,     1.47,2,   5.4466
  316N20060130,AAIW06,   221,  1,     26,     26,2,20060301, 352,-55.7748, -91.4658, 5094,    388.6,   5.3674,  34.1766,2,  34.1785,2,    289.7,2,    289.5,2,     6.81,2,    21.22,2,     0.01,2,     1.49,2,   5.3359
  316N20060130,AAIW06,   221,  1,     25,     25,2,20060301, 352,-55.7748, -91.4658, 5094,    438.4,   5.4093,  34.1929,2,  34.1945,2,    286.2,2,    285.8,2,     7.39,2,    21.47,2,     0.01,2,     1.51,2,   5.3734
  316N20060130,AAIW06,   221,  1,     24,     24,2,20060301, 352,-55.7748, -91.4658, 5094,    572.1,   5.2372,  34.2108,2,  34.2122,2,    259.2,2,    263.3,2,    11.83,2,    24.27,2,     0.01,2,     1.67,2,   5.1905
  316N20060130,AAIW06,   221,  1,     23,     23,2,20060301, 352,-55.7748, -91.4658, 5094,    672.6,   4.9563,  34.2433,2,  34.2435,2,    236.2,2,    237.3,2,    18.31,2,    27.12,2,     0.01,2,     1.86,2,   4.9024
  316N20060130,AAIW06,   221,  1,     21,     21,9,20060301, 352,-55.7748, -91.4658, 5094,    772.4,   4.6123,  34.2688,2,-999.0000,9,   -999.0,9,   -999.0,9,  -999.00,9,  -999.00,9,  -999.00,9,  -999.00,9,   4.5518
  316N20060130,AAIW06,   221,  1,     22,     22,2,20060301, 352,-55.7748, -91.4658, 5094,    772.6,   4.6097,  34.2692,2,  34.2702,2,    224.1,2,    223.0,2,    23.96,2,    28.80,2,     0.01,2,     1.98,2,   4.5492
  316N20060130,AAIW06,   221,  1,     20,     20,2,20060301, 352,-55.7748, -91.4658, 5094,    872.8,   4.0941,  34.2939,2,  34.2949,2,    214.2,2,    212.6,2,    31.64,2,    30.53,2,     0.00,2,     2.10,2,   4.0286
  316N20060130,AAIW06,   221,  1,     19,     19,2,20060301, 352,-55.7748, -91.4658, 5094,    971.7,   3.6960,  34.3144,2,  34.3157,2,    207.0,2,    206.7,2,    37.92,2,    31.60,2,     0.00,2,     2.19,2,   3.6253
  316N20060130,AAIW06,   221,  1,     18,     18,2,20060301, 352,-55.7748, -91.4658, 5094,   1069.4,   3.3852,  34.3441,2,  34.3457,2,    200.3,2,    199.8,2,    44.39,2,    32.46,2,     0.00,2,     2.25,2,   3.3091
  316N20060130,AAIW06,   221,  1,     17,     17,2,20060301, 352,-55.7748, -91.4658, 5094,   1167.1,   3.1185,  34.3825,2,  34.3848,2,    192.4,2,    192.4,2,    51.48,2,    33.27,2,     0.00,2,     2.30,2,   3.0369
  316N20060130,AAIW06,   221,  1,     16,     16,2,20060301, 352,-55.7748, -91.4658, 5094,   1264.7,   2.8954,  34.4273,2,  34.4274,2,    184.7,2,    184.8,2,    58.36,2,    33.78,2,     0.00,2,     2.34,2,   2.8081
  316N20060130,AAIW06,   221,  1,     15,     15,2,20060301, 352,-55.7748, -91.4658, 5094,   1364.6,   2.7398,  34.4743,2,  34.4755,2,    178.4,2,    178.6,2,    64.85,2,    34.13,2,     0.00,2,     2.37,2,   2.6461
  316N20060130,AAIW06,   221,  1,     14,     14,2,20060301, 352,-55.7748, -91.4658, 5094,   1461.4,   2.6267,  34.5166,2,  34.5163,2,    174.9,2,    174.2,2,    69.92,2,    34.18,2,     0.00,2,     2.37,2,   2.5264
  316N20060130,AAIW06,   221,  1,     13,     13,2,20060301, 352,-55.7748, -91.4658, 5094,   1559.7,   2.5440,  34.5534,2,  34.5544,2,    172.9,2,    172.3,2,    73.77,2,    34.07,2,     0.00,2,     2.37,2,   2.4366
  316N20060130,AAIW06,   221,  1,     12,     12,2,20060301, 352,-55.7748, -91.4658, 5094,   1757.8,   2.3980,  34.6152,2,  34.6163,2,    171.5,2,    171.1,2,    79.05,2,    33.56,2,     0.00,2,     2.33,2,   2.2761
  316N20060130,AAIW06,   221,  1,     11,     11,2,20060301, 352,-55.7748, -91.4658, 5094,   1957.5,   2.2823,  34.6616,2,  34.6630,2,    173.5,2,    173.4,2,    83.52,2,    32.94,2,     0.00,2,     2.28,2,   2.1451
  316N20060130,AAIW06,   221,  1,     10,     10,2,20060301, 352,-55.7748, -91.4658, 5094,   2205.7,   2.1134,  34.7018,2,  34.7035,2,    178.1,2,    179.1,2,    88.20,2,    32.17,2,     0.00,2,     2.22,2,   1.9572
  316N20060130,AAIW06,   221,  1,      9,      9,2,20060301, 352,-55.7748, -91.4658, 5094,   2499.3,   1.9087,  34.7221,2,  34.7231,2,    182.2,2,    184.4,2,    93.09,2,    31.76,2,     0.00,2,     2.19,2,   1.7299
  316N20060130,AAIW06,   221,  1,      8,      8,2,20060301, 352,-55.7748, -91.4658, 5094,   2801.1,   1.6556,  34.7220,2,  34.7225,2,    187.1,2,    186.9,2,   103.74,2,    31.95,2,     0.00,2,     2.21,2,   1.4540
  316N20060130,AAIW06,   221,  1,      7,      7,2,20060301, 352,-55.7748, -91.4658, 5094,   3101.4,   1.5069,  34.7248,2,  34.7259,2,    192.9,2,    192.1,2,   107.02,2,    31.80,2,     0.00,2,     2.19,2,   1.2799
  316N20060130,AAIW06,   221,  1,      6,      6,2,20060301, 352,-55.7748, -91.4658, 5094,   3380.6,   1.3233,  34.7219,2,  34.7223,2,    197.3,2,    197.3,2,   112.14,2,    31.90,2,     0.00,2,     2.20,2,   1.0733
  316N20060130,AAIW06,   221,  1,      5,      5,2,20060301, 352,-55.7748, -91.4658, 5094,   3674.3,   1.1371,  34.7181,2,  34.7186,2,    201.2,2,    201.5,2,   117.28,2,    31.94,2,     0.00,2,     2.20,2,   0.8622
  316N20060130,AAIW06,   221,  1,      4,      4,2,20060301, 352,-55.7748, -91.4658, 5094,   4080.2,   0.8465,  34.7109,2,  34.7113,2,    205.8,2,    205.4,2,   126.58,2,    32.25,2,     0.00,2,     2.22,2,   0.5374
  316N20060130,AAIW06,   221,  1,      3,      3,2,20060301, 352,-55.7748, -91.4658, 5094,   4486.8,   0.6593,  34.7075,2,  34.7072,2,    209.4,2,    209.3,2,   133.62,2,    32.39,2,     0.00,2,     2.25,2,   0.3118
  316N20060130,AAIW06,   221,  1,      2,      2,2,20060301, 352,-55.7748, -91.4658, 5094,   4897.6,   0.6166,  34.7065,2,  34.7062,2,    210.9,2,    210.6,2,   136.72,2,    32.44,2,     0.00,2,     2.24,2,   0.2241
  316N20060130,AAIW06,   221,  1,      1,      1,2,20060301, 352,-55.7748, -91.4658, 5094,   5318.9,   0.6378,  34.7056,2,  34.7058,2,    211.2,2,    211.2,2,   137.53,2,    32.54,2,     0.00,2,     2.24,2,   0.1947