BOTTLE,20081218PRINUNIVRMK
EXPOCODE,SECT_ID,STNNBR,CASTNO,SAMPNO,BTLNBR,BTLNBR_FLAG_W,DATE,TIME,LATITUDE,LONGITUDE,DEPTH,CTDPRS,CTDTMP,CTDSAL,CTDSAL_FLAG_W,SALNTY,SALNTY_FLAG_W,CTDOXY,CTDOXY_FLAG_W,OXYGEN,OXYGEN_FLAG_W,SILCAT,SILCAT_FLAG_W,NITRAT,NITRAT_FLAG_W,NITRIT,NITRIT_FLAG_W,PHSPHT,PHSPHT_FLAG_W,THETA
,,,,,,,,,,,METERS,DBARS,ITS-90,PSS-78,,PSS-78,,UMOL/KG,,UMOL/KG,,UMOL/KG,,UMOL/KG,,UMOL/KG,,UMOL/KG,,DEGC
  316N20060130,AAIW06,   176,  1,     36,     36,2,20060213,2218,-61.0843, -88.0428, 4887,      4.1,   6.0039,  33.9115,2,  33.9097,2,    300.2,2,    300.5,2,     0.87,2,    21.47,2,     0.21,2,     1.52,2,   6.0036
  316N20060130,AAIW06,   176,  1,     35,     35,2,20060213,2218,-61.0843, -88.0428, 4887,     25.9,   6.0037,  33.9116,2,  33.9109,2,    303.5,2,    301.7,2,     0.86,2,    21.47,2,     0.21,2,     1.53,2,   6.0015
  316N20060130,AAIW06,   176,  1,     34,     34,2,20060213,2218,-61.0843, -88.0428, 4887,     50.7,   6.0012,  33.9127,2,  33.9121,2,    293.3,2,    300.4,2,     0.86,2,    21.47,2,     0.21,2,     1.53,2,   5.9970
  316N20060130,AAIW06,   176,  1,     33,     33,2,20060213,2218,-61.0843, -88.0428, 4887,     75.1,   3.5372,  33.9774,2,  33.9767,2,    319.3,2,    318.4,2,     6.65,2,    23.37,2,     0.18,2,     1.87,2,   3.5324
  316N20060130,AAIW06,   176,  1,     32,     32,2,20060213,2218,-61.0843, -88.0428, 4887,    105.0,   2.9078,  33.9883,2,  33.9873,2,    313.1,2,    311.6,2,    12.43,2,    24.98,2,     0.41,2,     1.87,2,   2.9016
  316N20060130,AAIW06,   176,  1,     31,     31,2,20060213,2218,-61.0843, -88.0428, 4887,    153.8,   2.6535,  34.0149,2,  34.0133,2,    302.2,2,    302.9,2,    17.62,2,    26.95,2,     0.01,2,     1.91,2,   2.6447
  316N20060130,AAIW06,   176,  1,     30,     30,2,20060213,2218,-61.0843, -88.0428, 4887,    203.1,   2.5334,  34.0368,2,-999.0000,9,    294.8,2,    294.4,2,    19.41,2,    27.47,2,     0.01,2,     1.95,2,   2.5218
  316N20060130,AAIW06,   176,  1,     29,     29,2,20060213,2218,-61.0843, -88.0428, 4887,    251.5,   2.4970,  34.0745,2,-999.0000,9,    281.5,2,    281.5,2,    23.00,2,    28.53,2,     0.01,2,     2.00,2,   2.4826
  316N20060130,AAIW06,   176,  1,     28,     28,2,20060213,2218,-61.0843, -88.0428, 4887,    301.5,   2.6220,  34.1160,2,-999.0000,9,    266.5,2,    268.1,2,    25.99,2,    29.35,2,     0.01,2,     2.06,2,   2.6043
  316N20060130,AAIW06,   176,  1,     27,     27,2,20060213,2218,-61.0843, -88.0428, 4887,    351.4,   2.7746,  34.1678,2,-999.0000,9,    246.5,2,    249.7,2,    30.98,2,    30.42,2,     0.01,2,     2.13,2,   2.7534
  316N20060130,AAIW06,   176,  1,     26,     26,2,20060213,2218,-61.0843, -88.0428, 4887,    400.7,   2.7034,  34.1983,2,-999.0000,9,    241.4,2,    241.1,2,    34.77,2,    31.12,2,     0.01,2,     2.18,2,   2.6793
  316N20060130,AAIW06,   176,  1,     25,     25,2,20060213,2218,-61.0843, -88.0428, 4887,    449.8,   2.7245,  34.2392,2,-999.0000,9,    229.6,2,    229.8,2,    38.76,2,    31.79,2,     0.01,2,     2.23,2,   2.6971
  316N20060130,AAIW06,   176,  1,     24,     24,2,20060213,2218,-61.0843, -88.0428, 4887,    496.5,   2.8393,  34.2937,2,-999.0000,9,    211.2,2,    214.0,2,    43.95,2,    32.55,2,     0.01,2,     2.29,2,   2.8084
  316N20060130,AAIW06,   176,  1,     23,     23,2,20060213,2218,-61.0843, -88.0428, 4887,    595.8,   2.7206,  34.3501,2,-999.0000,9,    198.0,2,    199.7,2,    51.35,2,    33.47,2,     0.00,2,     2.36,2,   2.6835
  316N20060130,AAIW06,   176,  1,     22,     22,2,20060213,2218,-61.0843, -88.0428, 4887,    694.2,   2.6626,  34.4183,2,-999.0000,9,    185.0,2,    185.8,2,    59.35,2,    34.02,2,     0.00,2,     2.40,2,   2.6191
  316N20060130,AAIW06,   176,  1,     21,     21,9,20060213,2218,-61.0843, -88.0428, 4887,    793.9,   2.5647,  34.4758,2,-999.0000,9,   -999.0,9,   -999.0,9,  -999.00,9,  -999.00,9,  -999.00,9,  -999.00,9,   2.5148
  316N20060130,AAIW06,   176,  1,     20,     20,2,20060213,2218,-61.0843, -88.0428, 4887,    793.9,   2.5659,  34.4754,2,-999.0000,9,    178.0,2,    178.5,2,    65.56,2,    34.22,2,     0.00,2,     2.40,2,   2.5160
  316N20060130,AAIW06,   176,  1,     19,     19,2,20060213,2218,-61.0843, -88.0428, 4887,    891.8,   2.4307,  34.5159,2,-999.0000,9,    174.9,2,    175.2,2,    69.96,2,    34.21,2,     0.00,2,     2.40,2,   2.3749
  316N20060130,AAIW06,   176,  1,     18,     18,2,20060213,2218,-61.0843, -88.0428, 4887,    991.4,   2.3695,  34.5592,2,-999.0000,9,    172.7,2,    172.8,2,    73.98,2,    33.96,2,     0.00,2,     2.39,2,   2.3071
  316N20060130,AAIW06,   176,  1,     17,     17,2,20060213,2218,-61.0843, -88.0428, 4887,   1087.8,   2.3195,  34.5994,2,-999.0000,9,    172.0,2,    171.9,2,    77.18,2,    33.65,2,     0.00,2,     2.37,2,   2.2505
  316N20060130,AAIW06,   176,  1,     16,     16,2,20060213,2218,-61.0843, -88.0428, 4887,   1187.0,   2.2691,  34.6298,2,-999.0000,9,    172.6,2,    172.6,2,    79.60,2,    33.18,2,     0.00,2,     2.34,2,   2.1933
  316N20060130,AAIW06,   176,  1,     15,     15,2,20060213,2218,-61.0843, -88.0428, 4887,   1291.8,   2.2404,  34.6550,2,-999.0000,9,    173.6,2,    173.4,2,    82.00,2,    32.82,2,     0.00,2,     2.32,2,   2.1570
  316N20060130,AAIW06,   176,  1,     14,     14,2,20060213,2218,-61.0843, -88.0428, 4887,   1390.5,   2.1750,  34.6762,2,-999.0000,9,    175.9,2,    175.4,2,    83.81,2,    32.41,2,     0.00,2,     2.29,2,   2.0848
  316N20060130,AAIW06,   176,  1,     13,     13,2,20060213,2218,-61.0843, -88.0428, 4887,   1491.4,   2.1132,  34.6925,2,-999.0000,9,    177.9,2,    177.6,2,    85.82,2,    32.15,2,     0.00,2,     2.27,2,   2.0160
  316N20060130,AAIW06,   176,  1,     12,     12,2,20060213,2218,-61.0843, -88.0428, 4887,   1591.0,   2.0565,  34.7048,2,-999.0000,9,    180.4,2,    180.0,2,    86.62,2,    31.84,2,     0.00,2,     2.25,2,   1.9522
  316N20060130,AAIW06,   176,  1,     11,     11,2,20060213,2218,-61.0843, -88.0428, 4887,   1695.8,   1.9686,  34.7151,2,-999.0000,9,    182.3,2,    182.1,2,    88.84,2,    31.68,2,     0.00,2,     2.23,2,   1.8571
  316N20060130,AAIW06,   176,  1,     10,     10,2,20060213,2218,-61.0843, -88.0428, 4887,   1795.0,   1.8882,  34.7207,2,-999.0000,9,    183.9,2,    183.7,2,    92.46,2,    31.63,2,     0.00,2,     2.23,2,   1.7699
  316N20060130,AAIW06,   176,  1,      9,      9,2,20060213,2218,-61.0843, -88.0428, 4887,   1996.9,   1.7292,  34.7265,2,  34.7272,2,    187.5,2,    187.2,2,    97.52,2,    31.47,2,     0.00,2,     2.22,2,   1.5968
  316N20060130,AAIW06,   176,  1,      8,      8,2,20060213,2218,-61.0843, -88.0428, 4887,   2300.9,   1.5081,  34.7261,2,  34.7252,2,    191.2,2,    191.2,2,   104.40,2,    31.62,2,     0.00,2,     2.23,2,   1.3539
  316N20060130,AAIW06,   176,  1,      7,      7,2,20060213,2218,-61.0843, -88.0428, 4887,   2604.3,   1.3401,  34.7253,2,  34.7260,2,    195.1,2,    195.2,2,   108.45,2,    31.41,2,     0.00,2,     2.22,2,   1.1627
  316N20060130,AAIW06,   176,  1,      6,      6,2,20060213,2218,-61.0843, -88.0428, 4887,   2909.0,   1.1897,  34.7221,2,  34.7215,2,    198.6,2,    198.7,2,   113.13,2,    31.62,2,     0.00,2,     2.23,2,   0.9879
  316N20060130,AAIW06,   176,  1,      5,      5,2,20060213,2218,-61.0843, -88.0428, 4887,   3210.5,   1.0256,  34.7165,2,  34.7154,2,    201.8,2,    201.6,2,   118.63,2,    31.77,2,     0.00,2,     2.24,2,   0.7993
  316N20060130,AAIW06,   176,  1,      4,      4,2,20060213,2218,-61.0843, -88.0428, 4887,   3614.6,   0.8209,  34.7102,2,  34.7087,2,    205.3,2,    205.3,2,   125.78,2,    32.02,2,     0.00,2,     2.26,2,   0.5604
  316N20060130,AAIW06,   176,  1,      3,      3,2,20060213,2218,-61.0843, -88.0428, 4887,   4022.3,   0.6232,  34.7062,2,  34.7058,2,    209.3,2,    209.3,2,   130.89,2,    32.12,2,     0.00,2,     2.27,2,   0.3266
  316N20060130,AAIW06,   176,  1,      2,      2,2,20060213,2218,-61.0843, -88.0428, 4887,   4527.6,   0.5001,  34.7047,2,  34.7050,2,    212.3,2,    212.4,2,   137.46,2,    32.36,2,     0.00,2,     2.27,2,   0.1532
  316N20060130,AAIW06,   176,  1,      1,      1,2,20060213,2218,-61.0843, -88.0428, 4887,   4957.8,   0.4828,  34.7039,2,  34.7032,2,    214.5,2,    214.2,2,   140.55,2,    32.52,2,     0.00,2,     2.28,2,   0.0879
  316N20060130,AAIW06,   177,  2,     36,     36,2,20060214, 540,-61.5367, -88.4547, 4667,      5.2,   5.4822,  33.8920,2,  33.8927,2,   -999.0,9,   -999.0,9,     1.43,2,    22.03,2,     0.21,2,     1.55,2,   5.4818
  316N20060130,AAIW06,   177,  2,     35,     35,2,20060214, 540,-61.5367, -88.4547, 4667,     27.0,   5.3563,  33.8977,2,  33.8982,2,    306.0,2,    305.4,2,     1.61,2,    22.38,2,     0.22,2,     1.52,2,   5.3542
  316N20060130,AAIW06,   177,  2,     34,     34,9,20060214, 540,-61.5367, -88.4547, 4667,     56.9,   3.6350,  33.9806,2,-999.0000,9,   -999.0,9,   -999.0,9,  -999.00,9,  -999.00,9,  -999.00,9,  -999.00,9,   3.6313
  316N20060130,AAIW06,   177,  2,     33,     33,2,20060214, 540,-61.5367, -88.4547, 4667,     73.9,   3.1670,  33.9840,2,  33.9878,2,    312.2,2,    311.4,2,    10.58,2,    24.33,2,     0.28,2,     1.90,2,   3.1625
  316N20060130,AAIW06,   177,  2,     32,     32,9,20060214, 540,-61.5367, -88.4547, 4667,    101.0,   3.0000,  34.0127,2,-999.0000,9,   -999.0,9,   -999.0,9,  -999.00,9,  -999.00,9,  -999.00,9,  -999.00,9,   2.9940
  316N20060130,AAIW06,   177,  2,     31,     31,2,20060214, 540,-61.5367, -88.4547, 4667,    135.8,   2.6326,  34.0069,2,-999.0000,9,    300.7,2,    301.9,2,    17.13,2,    26.94,2,     0.03,2,     1.90,2,   2.6248
  316N20060130,AAIW06,   177,  2,     30,     30,2,20060214, 540,-61.5367, -88.4547, 4667,    180.0,   2.3714,  34.0109,2,-999.0000,9,    305.8,2,    305.7,2,    18.12,2,    27.17,2,     0.01,2,     1.92,2,   2.3614
  316N20060130,AAIW06,   177,  2,     29,     29,2,20060214, 540,-61.5367, -88.4547, 4667,    230.0,   2.2145,  34.0295,2,-999.0000,9,    297.0,2,    300.4,2,    20.30,2,    27.85,2,     0.01,2,     1.95,2,   2.2020
  316N20060130,AAIW06,   177,  2,     28,     28,2,20060214, 540,-61.5367, -88.4547, 4667,    279.1,   2.3329,  34.0761,2,-999.0000,9,    284.7,2,    282.5,2,    24.07,2,    28.82,2,     0.01,2,     2.01,2,   2.3173
  316N20060130,AAIW06,   177,  2,     27,     27,2,20060214, 540,-61.5367, -88.4547, 4667,    330.4,   2.5570,  34.1449,2,-999.0000,9,    263.5,2,    258.5,2,    30.03,2,    30.17,2,     0.01,2,     2.11,2,   2.5377
  316N20060130,AAIW06,   177,  2,     26,     26,2,20060214, 540,-61.5367, -88.4547, 4667,    379.0,   2.4661,  34.1708,2,-999.0000,9,    253.0,2,    252.3,2,    33.00,2,    30.78,2,     0.01,2,     2.15,2,   2.4441
  316N20060130,AAIW06,   177,  2,     25,     25,2,20060214, 540,-61.5367, -88.4547, 4667,    428.4,   2.5410,  34.2165,2,-999.0000,9,    241.9,2,    237.7,2,    37.98,2,    31.61,2,     0.01,2,     2.21,2,   2.5156
  316N20060130,AAIW06,   177,  2,     24,     24,2,20060214, 540,-61.5367, -88.4547, 4667,    478.6,   2.6081,  34.2709,2,-999.0000,9,    223.8,2,    220.3,2,    43.94,2,    32.44,2,     0.01,2,     2.28,2,   2.5793
  316N20060130,AAIW06,   177,  2,     23,     23,2,20060214, 540,-61.5367, -88.4547, 4667,    529.0,   2.6464,  34.3194,2,-999.0000,9,    209.0,2,    208.8,2,    48.51,2,    33.17,2,     0.01,2,     2.32,2,   2.6141
  316N20060130,AAIW06,   177,  2,     21,     21,9,20060214, 540,-61.5367, -88.4547, 4667,    649.1,   2.6613,  34.4137,2,-999.0000,9,   -999.0,9,   -999.0,9,  -999.00,9,  -999.00,9,  -999.00,9,  -999.00,9,   2.6209
  316N20060130,AAIW06,   177,  2,     22,     22,2,20060214, 540,-61.5367, -88.4547, 4667,    649.1,   2.6610,  34.4128,2,-999.0000,9,    188.8,2,    186.3,2,    58.87,2,    33.79,2,     0.00,2,     2.38,2,   2.6206
  316N20060130,AAIW06,   177,  2,     20,     20,2,20060214, 540,-61.5367, -88.4547, 4667,    748.2,   2.5219,  34.4618,2,-999.0000,9,    180.7,2,    179.8,2,    64.85,2,    34.04,2,     0.00,2,     2.40,2,   2.4755
  316N20060130,AAIW06,   177,  2,     19,     19,2,20060214, 540,-61.5367, -88.4547, 4667,    848.6,   2.4392,  34.5162,2,-999.0000,9,    175.5,2,    175.1,2,    70.03,2,    34.00,2,     0.00,2,     2.39,2,   2.3863
  316N20060130,AAIW06,   177,  2,     18,     18,2,20060214, 540,-61.5367, -88.4547, 4667,    950.3,   2.3946,  34.5652,2,-999.0000,9,    172.6,2,    172.5,2,    74.22,2,    33.64,2,     0.00,2,     2.37,2,   2.3349
  316N20060130,AAIW06,   177,  2,     17,     17,2,20060214, 540,-61.5367, -88.4547, 4667,   1048.3,   2.3276,  34.5989,2,-999.0000,9,    171.7,2,    171.7,2,    77.21,2,    33.38,2,     0.00,2,     2.35,2,   2.2614
  316N20060130,AAIW06,   177,  2,     16,     16,2,20060214, 540,-61.5367, -88.4547, 4667,   1150.1,   2.2730,  34.6319,2,-999.0000,9,    172.2,2,    172.1,2,    80.00,2,    33.08,2,     0.00,2,     2.33,2,   2.1998
  316N20060130,AAIW06,   177,  2,     15,     15,2,20060214, 540,-61.5367, -88.4547, 4667,   1249.9,   2.2220,  34.6584,2,-999.0000,9,    173.7,2,    173.9,2,    81.99,2,    32.57,2,     0.00,2,     2.30,2,   2.1419
  316N20060130,AAIW06,   177,  2,     14,     14,2,20060214, 540,-61.5367, -88.4547, 4667,   1450.2,   2.0882,  34.6964,2,-999.0000,9,    177.6,2,    178.4,2,    87.80,2,    31.86,2,     0.00,2,     2.26,2,   1.9944
  316N20060130,AAIW06,   177,  2,     13,     13,2,20060214, 540,-61.5367, -88.4547, 4667,   1652.5,   1.9452,  34.7153,2,-999.0000,9,    181.8,2,    182.0,2,    90.80,2,    31.45,2,     0.00,2,     2.23,2,   1.8374
  316N20060130,AAIW06,   177,  2,     12,     12,2,20060214, 540,-61.5367, -88.4547, 4667,   1852.5,   1.7788,  34.7261,2,  34.7274,2,    185.7,2,    187.3,2,    95.02,2,    31.30,2,     0.00,2,     2.21,2,   1.6574
  316N20060130,AAIW06,   177,  2,     11,     11,2,20060214, 540,-61.5367, -88.4547, 4667,   2054.6,   1.5870,  34.7230,2,  34.7258,0,    187.0,2,    187.8,2,   103.28,2,    31.61,2,     0.00,2,     2.23,2,   1.4521
  316N20060130,AAIW06,   177,  2,     10,     10,2,20060214, 540,-61.5367, -88.4547, 4667,   2254.9,   1.4795,  34.7222,2,  34.7250,0,    189.3,2,    189.5,2,   106.90,2,    31.62,2,     0.00,2,     2.23,2,   1.3297
  316N20060130,AAIW06,   177,  2,      9,      9,2,20060214, 540,-61.5367, -88.4547, 4667,   2457.5,   1.4027,  34.7267,2,  34.7286,0,    194.2,2,    194.3,2,   106.07,2,    31.37,2,     0.00,2,     2.21,2,   1.2369
  316N20060130,AAIW06,   177,  2,      8,      8,2,20060214, 540,-61.5367, -88.4547, 4667,   2659.5,   1.2751,  34.7246,2,  34.7254,2,    196.7,2,    196.8,2,   109.90,2,    31.43,2,     0.00,2,     2.21,2,   1.0941
  316N20060130,AAIW06,   177,  2,      7,      7,2,20060214, 540,-61.5367, -88.4547, 4667,   2961.7,   1.0819,  34.7185,2,  34.7197,2,    200.2,2,    200.4,2,   116.38,2,    31.58,2,     0.00,2,     2.23,2,   0.8776
  316N20060130,AAIW06,   177,  2,      6,      6,2,20060214, 540,-61.5367, -88.4547, 4667,   3266.8,   0.9313,  34.7132,2,  34.7154,0,    203.2,2,    203.2,2,   121.85,2,    31.85,2,     0.00,2,     2.24,2,   0.7019
  316N20060130,AAIW06,   177,  2,      5,      5,2,20060214, 540,-61.5367, -88.4547, 4667,   3568.9,   0.7842,  34.7089,2,  34.7091,2,    205.7,2,    206.0,2,   126.11,2,    31.95,2,     0.00,2,     2.25,2,   0.5292
  316N20060130,AAIW06,   177,  2,      4,      4,2,20060214, 540,-61.5367, -88.4547, 4667,   3874.4,   0.6322,  34.7058,2,  34.7055,2,    208.9,2,    209.3,2,   129.97,2,    32.06,2,     0.00,2,     2.25,2,   0.3506
  316N20060130,AAIW06,   177,  2,      3,      3,2,20060214, 540,-61.5367, -88.4547, 4667,   4177.4,   0.5241,  34.7047,2,  34.7054,2,    211.2,2,    211.4,2,   134.66,2,    32.17,2,     0.00,2,     2.26,2,   0.2142
  316N20060130,AAIW06,   177,  2,      2,      2,2,20060214, 540,-61.5367, -88.4547, 4667,   4482.2,   0.4766,  34.7041,2,  34.7036,2,    212.3,2,    212.6,2,   137.51,2,    32.22,2,     0.00,2,     2.27,2,   0.1354
  316N20060130,AAIW06,   177,  2,      1,      1,2,20060214, 540,-61.5367, -88.4547, 4667,   4888.9,   0.4866,  34.7032,2,  34.7053,0,    213.3,2,    213.3,2,   137.49,2,    32.38,2,     0.00,2,     2.27,2,   0.0995