BOTTLE,20081218PRINUNIVRMK
EXPOCODE,SECT_ID,STNNBR,CASTNO,SAMPNO,BTLNBR,BTLNBR_FLAG_W,DATE,TIME,LATITUDE,LONGITUDE,DEPTH,CTDPRS,CTDTMP,CTDSAL,CTDSAL_FLAG_W,SALNTY,SALNTY_FLAG_W,CTDOXY,CTDOXY_FLAG_W,OXYGEN,OXYGEN_FLAG_W,SILCAT,SILCAT_FLAG_W,NITRAT,NITRAT_FLAG_W,NITRIT,NITRIT_FLAG_W,PHSPHT,PHSPHT_FLAG_W,THETA
,,,,,,,,,,,METERS,DBARS,ITS-90,PSS-78,,PSS-78,,UMOL/KG,,UMOL/KG,,UMOL/KG,,UMOL/KG,,UMOL/KG,,UMOL/KG,,DEGC
  316N20060130,AAIW06,   187,  1,     36,     36,2,20060217,1420,-57.5137, -88.9813, 5117,      6.2,   7.3321,  34.0733,2,  34.0758,2,    289.3,2,    289.8,2,     2.65,2,    18.40,2,     0.22,2,     1.36,2,   7.3315
  316N20060130,AAIW06,   187,  1,     35,     35,2,20060217,1420,-57.5137, -88.9813, 5117,     17.2,   7.3237,  34.0734,2,  34.0756,2,    290.1,2,    289.8,2,     1.85,2,    18.35,2,     0.22,2,     1.35,2,   7.3221
  316N20060130,AAIW06,   187,  1,     34,     34,2,20060217,1420,-57.5137, -88.9813, 5117,     17.4,   7.3243,  34.0733,2,-999.0000,9,   -999.0,9,   -999.0,9,  -999.00,9,  -999.00,9,  -999.00,9,  -999.00,9,   7.3227
  316N20060130,AAIW06,   187,  1,     33,     33,2,20060217,1420,-57.5137, -88.9813, 5117,     17.5,   7.3255,  34.0732,2,-999.0000,9,   -999.0,9,   -999.0,9,  -999.00,9,  -999.00,9,  -999.00,9,  -999.00,9,   7.3239
  316N20060130,AAIW06,   187,  1,     32,     32,2,20060217,1420,-57.5137, -88.9813, 5117,     43.0,   7.3274,  34.0729,2,  34.0760,2,    291.4,2,    289.8,2,     1.84,2,    18.34,2,     0.22,2,     1.35,2,   7.3234
  316N20060130,AAIW06,   187,  1,     31,     31,2,20060217,1420,-57.5137, -88.9813, 5117,     67.0,   7.3115,  34.0728,2,  34.0758,2,    291.2,2,    289.8,2,     1.84,2,    18.39,2,     0.22,2,     1.36,2,   7.3052
  316N20060130,AAIW06,   187,  1,     30,     30,2,20060217,1420,-57.5137, -88.9813, 5117,     97.5,   5.7626,  34.1732,2,  34.1754,2,    294.0,2,    293.7,2,     5.41,2,    19.91,2,     0.34,2,     1.47,2,   5.7546
  316N20060130,AAIW06,   187,  1,     29,     29,2,20060217,1420,-57.5137, -88.9813, 5117,    142.1,   5.4551,  34.1653,2,  34.1687,2,    289.9,2,    290.9,2,     6.40,2,    21.05,2,     0.02,2,     1.50,2,   5.4437
  316N20060130,AAIW06,   187,  1,     28,     28,2,20060217,1420,-57.5137, -88.9813, 5117,    192.1,   5.2856,  34.1544,2,  34.1572,2,    289.5,2,    292.1,2,     6.58,2,    21.36,2,     0.02,2,     1.52,2,   5.2704
  316N20060130,AAIW06,   187,  1,     27,     27,2,20060217,1420,-57.5137, -88.9813, 5117,    240.7,   5.1694,  34.1451,2,-999.0000,9,    293.3,2,    294.6,2,     6.57,2,    21.26,2,     0.01,2,     1.52,2,   5.1505
  316N20060130,AAIW06,   187,  1,     26,     26,2,20060217,1420,-57.5137, -88.9813, 5117,    291.4,   5.1154,  34.1433,2,-999.0000,9,    292.2,2,    292.0,2,     7.17,2,    21.72,2,     0.01,2,     1.55,2,   5.0925
  316N20060130,AAIW06,   187,  1,     25,     25,2,20060217,1420,-57.5137, -88.9813, 5117,    342.5,   5.0264,  34.1415,2,-999.0000,9,    287.1,2,    286.1,2,     8.16,2,    22.53,2,     0.01,2,     1.59,2,   4.9996
  316N20060130,AAIW06,   187,  1,     24,     24,2,20060217,1420,-57.5137, -88.9813, 5117,    391.3,   4.9273,  34.1453,2,-999.0000,9,    279.8,2,    279.6,2,     9.73,2,    23.36,2,     0.01,2,     1.65,2,   4.8969
  316N20060130,AAIW06,   187,  1,     23,     23,2,20060217,1420,-57.5137, -88.9813, 5117,    441.2,   4.7480,  34.1465,2,-999.0000,9,    273.7,2,    271.0,2,    11.91,2,    24.43,2,     0.01,2,     1.72,2,   4.7142
  316N20060130,AAIW06,   187,  1,     22,     22,2,20060217,1420,-57.5137, -88.9813, 5117,    490.9,   4.3421,  34.1160,2,-999.0000,9,    269.3,2,    276.5,2,    12.51,2,    25.00,2,     0.01,2,     1.76,2,   4.3059
  316N20060130,AAIW06,   187,  1,     21,     21,9,20060217,1420,-57.5137, -88.9813, 5117,    576.3,   4.5994,  34.2184,2,-999.0000,9,   -999.0,9,   -999.0,9,  -999.00,9,  -999.00,9,  -999.00,9,  -999.00,9,   4.5552
  316N20060130,AAIW06,   187,  1,     20,     20,2,20060217,1420,-57.5137, -88.9813, 5117,    576.8,   4.6021,  34.2185,2,-999.0000,9,    241.6,2,    238.2,2,    19.66,2,    27.51,2,     0.01,2,     1.92,2,   4.5579
  316N20060130,AAIW06,   187,  1,     19,     19,2,20060217,1420,-57.5137, -88.9813, 5117,    676.1,   4.2944,  34.2669,2,-999.0000,9,    222.2,2,    221.0,2,    26.81,2,    29.41,2,     0.01,2,     2.05,2,   4.2436
  316N20060130,AAIW06,   187,  1,     18,     18,2,20060217,1420,-57.5137, -88.9813, 5117,    776.6,   3.9035,  34.2920,2,-999.0000,9,    213.2,2,    212.5,2,    33.16,2,    30.75,2,     0.01,2,     2.14,2,   3.8469
  316N20060130,AAIW06,   187,  1,     17,     17,2,20060217,1420,-57.5137, -88.9813, 5117,    876.2,   3.5054,  34.3263,2,-999.0000,9,    204.3,2,    203.3,2,    40.92,2,    31.98,2,     0.01,2,     2.24,2,   3.4435
  316N20060130,AAIW06,   187,  1,     16,     16,2,20060217,1420,-57.5137, -88.9813, 5117,    976.0,   3.2112,  34.3633,2,-999.0000,9,    195.9,2,    195.4,2,    48.08,2,    32.75,2,     0.01,2,     2.31,2,   3.1437
  316N20060130,AAIW06,   187,  1,     15,     15,2,20060217,1420,-57.5137, -88.9813, 5117,   1076.0,   2.9561,  34.3982,2,-999.0000,9,    189.2,2,    188.9,2,    54.25,2,    33.41,2,     0.01,2,     2.35,2,   2.8830
  316N20060130,AAIW06,   187,  1,     14,     14,2,20060217,1420,-57.5137, -88.9813, 5117,   1175.9,   2.7760,  34.4417,2,-999.0000,9,    182.0,2,    182.0,2,    60.43,2,    33.87,2,     0.01,2,     2.39,2,   2.6967
  316N20060130,AAIW06,   187,  1,     13,     13,2,20060217,1420,-57.5137, -88.9813, 5117,   1276.2,   2.6391,  34.4928,2,-999.0000,9,    176.7,2,    176.7,2,    66.61,2,    33.97,2,     0.01,2,     2.39,2,   2.5533
  316N20060130,AAIW06,   187,  1,     12,     12,2,20060217,1420,-57.5137, -88.9813, 5117,   1476.5,   2.4728,  34.5695,2,-999.0000,9,    172.1,2,    172.3,2,    74.00,2,    33.76,2,     0.01,2,     2.34,2,   2.3729
  316N20060130,AAIW06,   187,  1,     11,     11,2,20060217,1420,-57.5137, -88.9813, 5117,   1675.7,   2.3383,  34.6316,2,-999.0000,9,    172.6,2,    173.2,2,    79.20,2,    33.09,2,     0.01,2,     2.29,2,   2.2239
  316N20060130,AAIW06,   187,  1,     10,     10,2,20060217,1420,-57.5137, -88.9813, 5117,   1888.1,   2.2208,  34.6769,2,-999.0000,9,    175.4,2,    175.2,2,    83.81,2,    32.41,2,     0.01,2,     2.24,2,   2.0903
  316N20060130,AAIW06,   187,  1,      9,      9,2,20060217,1420,-57.5137, -88.9813, 5117,   2189.8,   1.9955,  34.7077,2,-999.0000,9,    178.9,2,    178.4,2,    93.04,2,    32.10,2,     0.01,2,     2.22,2,   1.8427
  316N20060130,AAIW06,   187,  1,      8,      8,2,20060217,1420,-57.5137, -88.9813, 5117,   2491.9,   1.7726,  34.7229,2,  34.7260,0,    185.6,2,    185.5,2,    98.27,2,    31.58,2,     0.01,2,     2.18,2,   1.5970
  316N20060130,AAIW06,   187,  1,      7,      7,2,20060217,1420,-57.5137, -88.9813, 5117,   2795.0,   1.5687,  34.7215,2,  34.7249,0,    188.4,2,    187.9,2,   105.94,2,    31.83,2,     0.01,2,     2.21,2,   1.3694
  316N20060130,AAIW06,   187,  1,      6,      6,2,20060217,1420,-57.5137, -88.9813, 5117,   3199.3,   1.3483,  34.7224,2,  34.7256,0,    195.5,2,    195.5,2,   110.38,2,    31.68,2,     0.01,2,     2.23,2,   1.1155
  316N20060130,AAIW06,   187,  1,      5,      5,2,20060217,1420,-57.5137, -88.9813, 5117,   3604.8,   1.0922,  34.7166,2,  34.7201,0,    200.7,2,    200.6,2,   118.09,2,    31.77,2,     0.01,2,     2.24,2,   0.8256
  316N20060130,AAIW06,   187,  1,      4,      4,2,20060217,1420,-57.5137, -88.9813, 5117,   4009.3,   0.8425,  34.7101,2,  34.7136,0,    205.2,2,    205.3,2,   126.43,2,    32.09,2,     0.01,2,     2.26,2,   0.5410
  316N20060130,AAIW06,   187,  1,      3,      3,2,20060217,1420,-57.5137, -88.9813, 5117,   4412.2,   0.6332,  34.7066,2,  34.7097,0,    209.3,2,    209.5,2,   132.96,2,    32.28,2,     0.01,2,     2.26,2,   0.2947
  316N20060130,AAIW06,   187,  1,      2,      2,2,20060217,1420,-57.5137, -88.9813, 5117,   4813.7,   0.5914,  34.7053,2,  34.7077,0,    210.8,2,    210.9,2,   136.24,2,    32.39,2,     0.01,2,     2.27,2,   0.2094
  316N20060130,AAIW06,   187,  1,      1,      1,2,20060217,1420,-57.5137, -88.9813, 5117,   5223.1,   0.6038,  34.7043,2,  34.7077,0,    211.8,2,    211.7,2,   138.49,2,    32.38,2,     0.01,2,     2.27,2,   0.1735
  316N20060130,AAIW06,   188,  1,     36,     36,3,20060217,2108,-57.0175, -88.9977, 5226,      4.6,   7.4612,  34.0610,2,  34.4684,0,    289.5,2,    200.4,0,    39.61,4,    26.11,4,     0.12,4,     1.88,4,   7.4608
  316N20060130,AAIW06,   188,  1,     35,     35,2,20060217,2108,-57.0175, -88.9977, 5226,     26.9,   7.4334,  34.0602,2,  34.0585,2,    290.9,2,    290.3,2,     1.81,2,    18.51,2,     0.20,2,     1.37,2,   7.4309
  316N20060130,AAIW06,   188,  1,     34,     34,2,20060217,2108,-57.0175, -88.9977, 5226,     52.2,   7.4246,  34.0605,2,  34.0615,2,    291.0,2,    290.4,2,     1.56,2,    18.45,2,     0.21,2,     1.37,2,   7.4197
  316N20060130,AAIW06,   188,  1,     33,     33,2,20060217,2108,-57.0175, -88.9977, 5226,     76.7,   7.4170,  34.0597,2,  34.0607,2,    290.9,2,    290.8,2,     1.33,2,    18.51,2,     0.20,2,     1.38,2,   7.4097
  316N20060130,AAIW06,   188,  1,     32,     32,2,20060217,2108,-57.0175, -88.9977, 5226,    106.5,   5.5704,  34.1487,2,  34.1474,2,    304.4,2,    298.2,2,     5.11,2,    19.80,2,     0.52,2,     1.50,2,   5.5618
  316N20060130,AAIW06,   188,  1,     31,     31,2,20060217,2108,-57.0175, -88.9977, 5226,    130.9,   5.3525,  34.1469,2,  34.1480,2,    295.1,2,    295.3,2,     6.09,2,    20.87,2,     0.38,2,     1.53,2,   5.3421
  316N20060130,AAIW06,   188,  1,     30,     30,2,20060217,2108,-57.0175, -88.9977, 5226,    156.3,   5.1823,  34.1355,2,  34.1380,2,    294.9,2,    294.6,2,     6.66,2,    21.48,2,     0.14,2,     1.55,2,   5.1701
  316N20060130,AAIW06,   188,  1,     29,     29,2,20060217,2108,-57.0175, -88.9977, 5226,    205.7,   5.0441,  34.1311,2,  34.1343,2,    294.7,2,    294.9,2,     6.82,2,    21.71,2,     0.01,2,     1.55,2,   5.0282
  316N20060130,AAIW06,   188,  1,     28,     28,2,20060217,2108,-57.0175, -88.9977, 5226,    256.0,   4.9614,  34.1276,2,-999.0000,9,    292.6,2,    293.1,2,     7.39,2,    22.16,2,     0.01,2,     1.59,2,   4.9417
  316N20060130,AAIW06,   188,  1,     27,     27,2,20060217,2108,-57.0175, -88.9977, 5226,    306.4,   4.8126,  34.1173,2,-999.0000,9,    290.6,2,    291.5,2,     8.16,2,    22.69,2,     0.01,2,     1.62,2,   4.7893
  316N20060130,AAIW06,   188,  1,     26,     26,2,20060217,2108,-57.0175, -88.9977, 5226,    366.2,   4.5195,  34.0944,2,-999.0000,9,    285.5,2,    290.5,2,     9.30,2,    23.52,2,     0.00,2,     1.67,2,   4.4923
  316N20060130,AAIW06,   188,  1,     25,     25,2,20060217,2108,-57.0175, -88.9977, 5226,    405.6,   4.4048,  34.0902,2,-999.0000,9,    295.6,2,    291.6,2,     9.26,2,    23.62,2,     0.00,2,     1.67,2,   4.3749
  316N20060130,AAIW06,   188,  1,     24,     24,2,20060217,2108,-57.0175, -88.9977, 5226,    455.9,   4.3822,  34.1077,2,-999.0000,9,    285.1,2,    278.4,2,    11.64,2,    24.86,2,     0.00,2,     1.75,2,   4.3485
  316N20060130,AAIW06,   188,  1,     23,     23,2,20060217,2108,-57.0175, -88.9977, 5226,    504.9,   4.3522,  34.1334,2,-999.0000,9,    268.8,2,    266.5,2,    14.22,2,    25.90,2,     0.00,2,     1.82,2,   4.3148
  316N20060130,AAIW06,   188,  1,     22,     22,2,20060217,2108,-57.0175, -88.9977, 5226,    556.1,   4.6253,  34.2140,2,-999.0000,9,    247.4,2,    241.3,2,    18.81,2,    27.41,2,     0.00,2,     1.92,2,   4.5826
  316N20060130,AAIW06,   188,  1,     21,     21,9,20060217,2108,-57.0175, -88.9977, 5226,    605.6,   4.5642,  34.2514,2,-999.0000,9,   -999.0,9,   -999.0,9,  -999.00,9,  -999.00,9,  -999.00,9,  -999.00,9,   4.5178
  316N20060130,AAIW06,   188,  1,     20,     20,2,20060217,2108,-57.0175, -88.9977, 5226,    605.7,   4.5663,  34.2516,2,-999.0000,9,    234.5,2,    227.8,2,    22.79,2,    28.61,2,     0.00,2,     1.99,2,   4.5199
  316N20060130,AAIW06,   188,  1,     19,     19,2,20060217,2108,-57.0175, -88.9977, 5226,    704.0,   4.1003,  34.2653,2,-999.0000,9,    220.8,2,    220.6,2,    28.59,2,    30.06,2,     0.00,2,     2.10,2,   4.0483
  316N20060130,AAIW06,   188,  1,     18,     18,2,20060217,2108,-57.0175, -88.9977, 5226,    805.4,   3.7751,  34.3072,2,-999.0000,9,    211.3,2,    208.3,2,    36.05,2,    31.51,2,     0.00,2,     2.21,2,   3.7170
  316N20060130,AAIW06,   188,  1,     17,     17,2,20060217,2108,-57.0175, -88.9977, 5226,    906.0,   3.4216,  34.3246,2,-999.0000,9,    204.6,2,    204.0,2,    41.62,2,    32.14,2,     0.00,2,     2.27,2,   3.3580
  316N20060130,AAIW06,   188,  1,     16,     16,2,20060217,2108,-57.0175, -88.9977, 5226,   1005.4,   3.1128,  34.3642,2,-999.0000,9,    197.3,2,    195.5,2,    49.03,2,    33.18,2,     0.00,2,     2.33,2,   3.0438
  316N20060130,AAIW06,   188,  1,     15,     15,2,20060217,2108,-57.0175, -88.9977, 5226,   1106.1,   2.9315,  34.4100,2,-999.0000,9,    187.9,2,    187.2,2,    55.85,2,    33.75,2,     0.00,2,     2.38,2,   2.8562
  316N20060130,AAIW06,   188,  1,     14,     14,2,20060217,2108,-57.0175, -88.9977, 5226,   1205.5,   2.7467,  34.4534,2,-999.0000,9,    181.5,2,    180.8,2,    62.26,2,    34.16,2,     0.00,2,     2.40,2,   2.6654
  316N20060130,AAIW06,   188,  1,     13,     13,2,20060217,2108,-57.0175, -88.9977, 5226,   1406.3,   2.5332,  34.5381,2,-999.0000,9,    173.4,2,    173.4,2,    71.51,2,    34.15,2,     0.00,2,     2.40,2,   2.4382
  316N20060130,AAIW06,   188,  1,     12,     12,2,20060217,2108,-57.0175, -88.9977, 5226,   1607.4,   2.3900,  34.6113,2,-999.0000,9,    171.2,2,    171.0,2,    78.35,2,    33.62,2,     0.00,2,     2.37,2,   2.2805
  316N20060130,AAIW06,   188,  1,     11,     11,2,20060217,2108,-57.0175, -88.9977, 5226,   1807.9,   2.2759,  34.6597,2,-999.0000,9,    172.8,2,    173.1,2,    82.98,2,    33.04,2,     0.00,2,     2.32,2,   2.1514
  316N20060130,AAIW06,   188,  1,     10,     10,2,20060217,2108,-57.0175, -88.9977, 5226,   2009.0,   2.1312,  34.6905,2,-999.0000,9,    176.0,2,    174.7,2,    89.42,2,    32.62,2,     0.00,2,     2.29,2,   1.9918
  316N20060130,AAIW06,   188,  1,      9,      9,2,20060217,2108,-57.0175, -88.9977, 5226,   2309.0,   1.9396,  34.7165,2,  34.7195,0,    181.9,2,    181.9,2,    93.65,2,    31.88,2,     0.00,2,     2.25,2,   1.7772
  316N20060130,AAIW06,   188,  1,      8,      8,2,20060217,2108,-57.0175, -88.9977, 5226,   2609.9,   1.7014,  34.7245,2,  34.7260,2,    186.9,2,    187.2,2,   100.54,2,    31.77,2,     0.00,2,     2.24,2,   1.5164
  316N20060130,AAIW06,   188,  1,      7,      7,2,20060217,2108,-57.0175, -88.9977, 5226,   2910.4,   1.5136,  34.7245,2,  34.7249,2,    191.9,2,    191.5,2,   106.02,2,    31.82,2,     0.00,2,     2.23,2,   1.3047
  316N20060130,AAIW06,   188,  1,      6,      6,2,20060217,2108,-57.0175, -88.9977, 5226,   3209.7,   1.3449,  34.7233,2,  34.7268,0,    196.4,2,    195.8,2,   110.07,2,    31.76,2,     0.00,2,     2.23,2,   1.1112
  316N20060130,AAIW06,   188,  1,      5,      5,2,20060217,2108,-57.0175, -88.9977, 5226,   3614.3,   1.0809,  34.7162,2,  34.7196,0,    201.2,2,    201.2,2,   118.85,2,    32.02,2,     0.00,2,     2.24,2,   0.8136
  316N20060130,AAIW06,   188,  1,      4,      4,2,20060217,2108,-57.0175, -88.9977, 5226,   4019.9,   0.8032,  34.7095,2,  34.7133,0,    205.9,2,    206.1,2,   127.65,2,    32.27,2,     0.00,2,     2.27,2,   0.5017
  316N20060130,AAIW06,   188,  1,      3,      3,2,20060217,2108,-57.0175, -88.9977, 5226,   4528.6,   0.6033,  34.7061,2,  34.7090,0,    210.4,2,    210.2,2,   135.04,2,    32.48,2,     0.00,2,     2.28,2,   0.2530
  316N20060130,AAIW06,   188,  1,      2,      2,2,20060217,2108,-57.0175, -88.9977, 5226,   4938.3,   0.5931,  34.7053,2,  34.7065,0,    211.0,2,    211.1,2,   137.08,2,    32.47,2,     0.00,2,     2.28,2,   0.1967
  316N20060130,AAIW06,   188,  1,      1,      1,2,20060217,2108,-57.0175, -88.9977, 5226,   5342.8,   0.6197,  34.7045,2,  34.7048,2,    211.4,2,    211.3,2,   138.29,2,    32.47,2,     0.00,2,     2.27,2,   0.1744