BOTTLE,20081218PRINUNIVRMK
EXPOCODE,SECT_ID,STNNBR,CASTNO,SAMPNO,BTLNBR,BTLNBR_FLAG_W,DATE,TIME,LATITUDE,LONGITUDE,DEPTH,CTDPRS,CTDTMP,CTDSAL,CTDSAL_FLAG_W,SALNTY,SALNTY_FLAG_W,CTDOXY,CTDOXY_FLAG_W,OXYGEN,OXYGEN_FLAG_W,SILCAT,SILCAT_FLAG_W,NITRAT,NITRAT_FLAG_W,NITRIT,NITRIT_FLAG_W,PHSPHT,PHSPHT_FLAG_W,THETA
,,,,,,,,,,,METERS,DBARS,ITS-90,PSS-78,,PSS-78,,UMOL/KG,,UMOL/KG,,UMOL/KG,,UMOL/KG,,UMOL/KG,,UMOL/KG,,DEGC
  316N20060130,AAIW06,   240,  1,     16,     16,2,20060311,1003,-45.3213, -75.5510,  527,      5.2,  14.4885,  33.1652,2,  33.1668,2,    257.2,2,    257.5,2,     0.56,2,     0.21,2,     0.00,2,     0.38,2,  14.4877
  316N20060130,AAIW06,   240,  1,     15,     15,2,20060311,1003,-45.3213, -75.5510,  527,      5.2,  14.4886,  33.1652,2,-999.0000,9,   -999.0,9,   -999.0,9,  -999.00,9,  -999.00,9,  -999.00,9,  -999.00,9,  14.4878
  316N20060130,AAIW06,   240,  1,     14,     14,2,20060311,1003,-45.3213, -75.5510,  527,      5.4,  14.4889,  33.1653,2,-999.0000,9,   -999.0,9,   -999.0,9,  -999.00,9,  -999.00,9,  -999.00,9,  -999.00,9,  14.4881
  316N20060130,AAIW06,   240,  1,     13,     13,2,20060311,1003,-45.3213, -75.5510,  527,     22.8,  14.4904,  33.1779,2,  33.1673,0,    257.9,2,    257.4,2,     0.56,2,     0.20,2,     0.00,2,     0.37,2,  14.4871
  316N20060130,AAIW06,   240,  1,     12,     12,2,20060311,1003,-45.3213, -75.5510,  527,     47.7,  12.2713,  33.5898,2,  33.5812,0,    235.1,2,    232.8,2,     0.35,2,     7.23,2,     0.17,2,     0.78,2,  12.2651
  316N20060130,AAIW06,   240,  1,     11,     11,2,20060311,1003,-45.3213, -75.5510,  527,     71.7,   9.6209,  33.7368,2,  33.7374,2,    241.4,2,    242.9,2,     1.59,2,    14.24,2,     0.07,2,     1.16,2,   9.6130
  316N20060130,AAIW06,   240,  1,     10,     10,2,20060311,1003,-45.3213, -75.5510,  527,     90.9,   9.1738,  33.8187,2,-999.0000,9,    237.2,2,    236.6,2,     2.41,2,    16.73,2,     0.04,2,     1.29,2,   9.1640
  316N20060130,AAIW06,   240,  1,      9,      9,2,20060311,1003,-45.3213, -75.5510,  527,    125.4,   8.5601,  33.9393,2,-999.0000,9,    213.5,2,    225.7,2,     4.06,2,    19.64,2,     0.02,2,     1.48,2,   8.5471
  316N20060130,AAIW06,   240,  1,      8,      8,2,20060311,1003,-45.3213, -75.5510,  527,    167.9,   8.3626,  34.1148,2,-999.0000,9,    197.4,2,    172.8,2,     8.58,2,    24.38,2,     0.01,2,     1.87,2,   8.3454
  316N20060130,AAIW06,   240,  1,      7,      7,2,20060311,1003,-45.3213, -75.5510,  527,    216.7,   7.9755,  34.2614,2,-999.0000,9,    130.2,2,    129.3,2,    12.07,2,    29.08,2,     0.02,2,     2.19,2,   7.9538
  316N20060130,AAIW06,   240,  1,      6,      6,2,20060311,1003,-45.3213, -75.5510,  527,    263.0,   7.1847,  34.2738,2,-999.0000,9,    140.2,2,    144.1,2,    12.28,2,    30.17,2,     0.02,2,     2.16,2,   7.1599
  316N20060130,AAIW06,   240,  1,      5,      5,2,20060311,1003,-45.3213, -75.5510,  527,    310.5,   6.6570,  34.2640,2,-999.0000,9,    167.1,2,    169.1,2,    11.46,2,    29.55,2,     0.01,2,     2.06,2,   6.6288
  316N20060130,AAIW06,   240,  1,      4,      4,2,20060311,1003,-45.3213, -75.5510,  527,    357.4,   6.3341,  34.2559,2,  34.2573,2,    190.2,2,    188.1,2,    10.84,2,    28.75,2,     0.00,2,     1.99,2,   6.3025
  316N20060130,AAIW06,   240,  1,      3,      3,2,20060311,1003,-45.3213, -75.5510,  527,    402.9,   6.0828,  34.2529,2,  34.2526,2,    204.7,2,    204.1,2,    10.63,2,    27.94,2,     0.00,2,     1.93,2,   6.0478
  316N20060130,AAIW06,   240,  1,      2,      2,2,20060311,1003,-45.3213, -75.5510,  527,    450.2,   5.8764,  34.2532,2,  34.2541,2,    213.2,2,    213.8,2,    11.46,2,    27.43,2,     0.01,2,     1.90,2,   5.8378
  316N20060130,AAIW06,   240,  1,      1,      1,2,20060311,1003,-45.3213, -75.5510,  527,    507.1,   5.6498,  34.2459,2,  34.2463,2,    225.9,2,    226.0,2,    11.87,2,    26.86,2,     0.01,2,     1.85,2,   5.6070
  316N20060130,AAIW06,   241,  1,      8,      8,2,20060311,1118,-45.3178, -75.4575,  222,      5.2,  14.3901,  33.2560,2,  33.2572,2,    253.3,2,    253.1,2,     0.56,2,     0.72,2,     0.02,2,     0.39,2,  14.3894
  316N20060130,AAIW06,   241,  1,      9,      9,2,20060311,1118,-45.3178, -75.4575,  222,      5.5,  14.3900,  33.2560,2,-999.0000,9,   -999.0,9,   -999.0,9,  -999.00,9,  -999.00,9,  -999.00,9,  -999.00,9,  14.3892
  316N20060130,AAIW06,   241,  1,      7,      7,2,20060311,1118,-45.3178, -75.4575,  222,     16.3,  14.3930,  33.2557,2,  33.2570,2,    253.5,2,    253.4,2,     0.56,2,     0.67,2,     0.02,2,     0.38,2,  14.3907
  316N20060130,AAIW06,   241,  1,      6,      6,2,20060311,1118,-45.3178, -75.4575,  222,     40.7,  13.8148,  33.2812,2,  33.2648,2,    252.2,2,    243.3,2,     0.56,2,     2.19,2,     0.07,2,     0.50,2,  13.8091
  316N20060130,AAIW06,   241,  1,      5,      5,2,20060311,1118,-45.3178, -75.4575,  222,     65.7,   9.6864,  33.7327,2,  33.7330,2,    240.6,2,    240.6,2,     1.59,2,    13.99,2,     0.03,2,     1.15,2,   9.6791
  316N20060130,AAIW06,   241,  1,      4,      4,2,20060311,1118,-45.3178, -75.4575,  222,     97.5,   8.8696,  33.8902,2,  33.8911,2,    229.4,2,    229.6,2,     3.43,2,    18.45,2,     0.01,2,     1.40,2,   8.8593
  316N20060130,AAIW06,   241,  1,      3,      3,2,20060311,1118,-45.3178, -75.4575,  222,    136.9,   8.4903,  34.1123,2,  34.1134,2,    162.0,2,    157.8,2,     9.80,2,    25.30,2,     0.01,2,     1.95,2,   8.4762
  316N20060130,AAIW06,   241,  1,      2,      2,2,20060311,1118,-45.3178, -75.4575,  222,    187.3,   8.0852,  34.2376,2,  34.2389,2,    130.0,2,    129.9,2,    12.68,2,    28.58,2,     0.01,2,     2.18,2,   8.0663
  316N20060130,AAIW06,   241,  1,      1,      1,2,20060311,1118,-45.3178, -75.4575,  222,    214.1,   7.8500,  34.2743,2,  34.2736,2,    125.4,2,    125.5,2,    13.50,2,    29.60,2,     0.01,2,     2.23,2,   7.8288