BOTTLE,20081218PRINUNIVRMK
EXPOCODE,SECT_ID,STNNBR,CASTNO,SAMPNO,BTLNBR,BTLNBR_FLAG_W,DATE,TIME,LATITUDE,LONGITUDE,DEPTH,CTDPRS,CTDTMP,CTDSAL,CTDSAL_FLAG_W,SALNTY,SALNTY_FLAG_W,CTDOXY,CTDOXY_FLAG_W,OXYGEN,OXYGEN_FLAG_W,SILCAT,SILCAT_FLAG_W,NITRAT,NITRAT_FLAG_W,NITRIT,NITRIT_FLAG_W,PHSPHT,PHSPHT_FLAG_W,THETA
,,,,,,,,,,,METERS,DBARS,ITS-90,PSS-78,,PSS-78,,UMOL/KG,,UMOL/KG,,UMOL/KG,,UMOL/KG,,UMOL/KG,,UMOL/KG,,DEGC
  316N20060130,AAIW06,   154,  1,     34,     34,2,20060206,1751,-61.0303, -76.9888, 4828,      3.6,   7.0209,  33.9811,2,  33.9786,2,    296.8,2,    296.8,2,     0.00,2,    19.45,2,     0.19,2,     1.39,2,   7.0206
  316N20060130,AAIW06,   154,  1,     33,     33,2,20060206,1751,-61.0303, -76.9888, 4828,     17.2,   6.9572,  33.9843,2,  33.9836,2,    298.2,2,    297.2,2,     0.00,2,    19.55,2,     0.18,2,     1.39,2,   6.9556
  316N20060130,AAIW06,   154,  1,     32,     32,2,20060206,1751,-61.0303, -76.9888, 4828,     42.5,   6.8400,  33.9845,2,  33.9841,2,    298.7,2,    298.9,2,     0.00,2,    19.75,2,     0.19,2,     1.41,2,   6.8362
  316N20060130,AAIW06,   154,  1,     31,     31,2,20060206,1751,-61.0303, -76.9888, 4828,     66.3,   4.1465,  34.0266,2,  34.0227,2,    308.7,2,    307.5,2,     3.59,2,    22.38,2,     0.31,2,     1.82,2,   4.1419
  316N20060130,AAIW06,   154,  1,     30,     30,2,20060206,1751,-61.0303, -76.9888, 4828,    115.5,   3.7681,  34.0397,2,  34.0376,2,    301.0,2,    303.1,2,     9.77,2,    24.24,2,     0.22,2,     1.75,2,   3.7604
  316N20060130,AAIW06,   154,  1,     29,     29,2,20060206,1751,-61.0303, -76.9888, 4828,    137.1,   3.6988,  34.0442,2,  34.0427,2,    298.9,2,    298.2,2,    10.76,2,    24.88,2,     0.03,2,     1.76,2,   3.6898
  316N20060130,AAIW06,   154,  1,     28,     28,2,20060206,1751,-61.0303, -76.9888, 4828,    186.5,   3.5456,  34.0654,2,  34.0651,2,    288.5,2,    290.2,2,    13.15,2,    25.94,2,     0.01,2,     1.83,2,   3.5335
  316N20060130,AAIW06,   154,  1,     27,     27,2,20060206,1751,-61.0303, -76.9888, 4828,    235.5,   3.1855,  34.0670,2,  34.0637,2,    279.8,2,    286.5,2,    15.74,2,    26.93,2,     0.01,2,     1.90,2,   3.1708
  316N20060130,AAIW06,   154,  1,     26,     26,2,20060206,1751,-61.0303, -76.9888, 4828,    286.6,   3.2839,  34.1200,2,  34.1190,2,    271.5,2,    268.5,2,    19.91,2,    28.21,2,     0.00,2,     1.98,2,   3.2656
  316N20060130,AAIW06,   154,  1,     25,     25,2,20060206,1751,-61.0303, -76.9888, 4828,    336.1,   3.2441,  34.1550,2,  34.1537,2,    266.7,2,    256.8,2,    23.50,2,    29.01,2,     0.00,2,     2.05,2,   3.2226
  316N20060130,AAIW06,   154,  1,     24,     24,2,20060206,1751,-61.0303, -76.9888, 4828,    386.4,   3.0355,  34.1642,2,  34.1650,2,    261.4,2,    253.1,2,    26.28,2,    29.85,2,     0.00,2,     2.09,2,   3.0113
  316N20060130,AAIW06,   154,  1,     23,     23,2,20060206,1751,-61.0303, -76.9888, 4828,    426.3,   2.9949,  34.1869,2,  34.2013,0,    264.9,2,    246.1,2,    29.27,2,    30.49,2,     0.00,2,     2.14,2,   2.9681
  316N20060130,AAIW06,   154,  1,     22,     22,2,20060206,1751,-61.0303, -76.9888, 4828,    490.8,   2.7437,  34.2068,2,  34.2041,2,    241.2,2,    242.4,2,    33.65,2,    31.19,2,     0.00,2,     2.19,2,   2.7136
  316N20060130,AAIW06,   154,  1,     21,     21,9,20060206,1751,-61.0303, -76.9888, 4828,    575.9,   2.8162,  34.2759,2,-999.0000,9,   -999.0,9,   -999.0,9,  -999.00,9,  -999.00,9,  -999.00,9,  -999.00,9,   2.7801
  316N20060130,AAIW06,   154,  1,     20,     20,2,20060206,1751,-61.0303, -76.9888, 4828,    576.0,   2.8131,  34.2750,2,  34.2815,0,    222.8,2,    219.1,2,    41.03,2,    32.48,2,     0.00,2,     2.28,2,   2.7770
  316N20060130,AAIW06,   154,  1,     19,     19,2,20060206,1751,-61.0303, -76.9888, 4828,    675.6,   2.7740,  34.3518,2,  34.3514,2,    198.0,2,    199.0,2,    50.63,2,    33.67,2,     0.00,2,     2.37,2,   2.7312
  316N20060130,AAIW06,   154,  1,     18,     18,2,20060206,1751,-61.0303, -76.9888, 4828,    775.3,   2.7420,  34.4273,2,  34.4265,2,    187.1,2,    184.4,2,    58.82,2,    34.26,2,     0.00,2,     2.41,2,   2.6924
  316N20060130,AAIW06,   154,  1,     17,     17,2,20060206,1751,-61.0303, -76.9888, 4828,    874.1,   2.6015,  34.4694,2,  34.4682,2,    180.6,2,    178.8,2,    63.62,2,    34.46,2,     0.00,2,     2.42,2,   2.5458
  316N20060130,AAIW06,   154,  1,     16,     16,2,20060206,1751,-61.0303, -76.9888, 4828,    974.3,   2.5158,  34.5100,2,  34.5080,2,    175.6,2,    175.3,2,    68.62,2,    34.47,2,     0.00,2,     2.42,2,   2.4535
  316N20060130,AAIW06,   154,  1,     15,     15,2,20060206,1751,-61.0303, -76.9888, 4828,   1074.4,   2.4421,  34.5556,2,  34.5543,2,    172.4,2,    172.3,2,    73.03,2,    34.27,2,     0.00,2,     2.42,2,   2.3731
  316N20060130,AAIW06,   154,  1,     14,     14,2,20060206,1751,-61.0303, -76.9888, 4828,   1173.9,   2.3895,  34.5909,2,  34.5979,2,    171.1,2,    170.7,2,    76.44,2,    33.98,2,     0.00,2,     2.40,2,   2.3136
  316N20060130,AAIW06,   154,  1,     13,     13,2,20060206,1751,-61.0303, -76.9888, 4828,   1372.8,   2.2725,  34.6444,2,  34.6450,2,    172.0,2,    171.9,2,    84.07,2,    33.39,2,     0.00,2,     2.36,2,   2.1827
  316N20060130,AAIW06,   154,  1,     12,     12,2,20060206,1751,-61.0303, -76.9888, 4828,   1572.9,   2.1563,  34.6820,2,  34.6820,2,    174.9,2,    175.8,2,    84.47,2,    32.74,2,     0.00,2,     2.30,2,   2.0522
  316N20060130,AAIW06,   154,  1,     11,     11,2,20060206,1751,-61.0303, -76.9888, 4828,   1673.5,   2.1079,  34.6938,2,  34.6930,2,    177.0,2,    177.2,2,    86.68,2,    32.56,2,     0.00,2,     2.29,2,   1.9964
  316N20060130,AAIW06,   154,  1,     10,     10,2,20060206,1751,-61.0303, -76.9888, 4828,   1773.8,   2.0491,  34.7049,2,  34.7089,2,    179.6,2,    179.3,2,    87.87,2,    32.36,2,     0.00,2,     2.27,2,   1.9303
  316N20060130,AAIW06,   154,  1,      9,      9,2,20060206,1751,-61.0303, -76.9888, 4828,   1972.4,   1.9040,  34.7203,2,  34.7195,2,    183.5,2,    183.0,2,    92.10,2,    31.92,2,     0.00,2,     2.24,2,   1.7710
  316N20060130,AAIW06,   154,  1,      8,      8,2,20060206,1751,-61.0303, -76.9888, 4828,   2224.8,   1.7081,  34.7253,2,  34.7286,0,    186.5,2,    186.6,2,    98.97,2,    31.97,2,     0.00,2,     2.24,2,   1.5570
  316N20060130,AAIW06,   154,  1,      7,      7,2,20060206,1751,-61.0303, -76.9888, 4828,   2526.8,   1.5354,  34.7271,2,  34.7266,2,    190.4,2,    190.9,2,   103.62,2,    31.92,2,     0.00,2,     2.23,2,   1.3611
  316N20060130,AAIW06,   154,  1,      6,      6,2,20060206,1751,-61.0303, -76.9888, 4828,   2830.6,   1.3688,  34.7253,2,  34.7238,2,    194.2,2,    194.9,2,   107.87,2,    31.98,2,     0.00,2,     2.24,2,   1.1704
  316N20060130,AAIW06,   154,  1,      5,      5,2,20060206,1751,-61.0303, -76.9888, 4828,   3133.8,   1.1823,  34.7201,2,  34.7189,2,    198.0,2,    198.1,2,   114.37,2,    32.22,2,     0.00,2,     2.25,2,   0.9597
  316N20060130,AAIW06,   154,  1,      4,      4,2,20060206,1751,-61.0303, -76.9888, 4828,   3516.7,   0.9624,  34.7137,2,  34.7134,2,    203.2,2,    202.9,2,   121.10,2,    32.33,2,     0.00,2,     2.26,2,   0.7080
  316N20060130,AAIW06,   154,  1,      3,      3,2,20060206,1751,-61.0303, -76.9888, 4828,   3921.0,   0.7408,  34.7087,2,  34.7077,2,    207.5,2,    207.0,2,   128.25,2,    32.54,2,     0.00,2,     2.28,2,   0.4514
  316N20060130,AAIW06,   154,  1,      2,      2,2,20060206,1751,-61.0303, -76.9888, 4828,   4431.3,   0.5835,  34.7060,2,  34.7052,2,    210.7,2,    210.5,2,   135.00,2,    32.73,2,     0.00,2,     2.29,2,   0.2445
  316N20060130,AAIW06,   154,  1,      1,      1,2,20060206,1751,-61.0303, -76.9888, 4828,   4901.1,   0.5390,  34.7044,2,  34.7036,2,    212.4,2,    212.4,2,   140.14,2,    32.84,2,     0.00,2,     2.30,2,   0.1487
  316N20060130,AAIW06,   155,  1,     36,     36,2,20060207,  47,-61.0105, -77.9867, 4948,      4.7,   6.0220,  33.9247,2,  33.9252,2,    305.6,2,    305.3,2,     0.00,2,    21.35,2,     0.23,2,     1.46,2,   6.0216
  316N20060130,AAIW06,   155,  1,     35,     35,2,20060207,  47,-61.0105, -77.9867, 4948,     26.5,   5.8236,  33.9280,2,  33.9281,2,    306.9,2,    306.8,2,     0.00,2,    21.41,2,     0.23,2,     1.46,2,   5.8214
  316N20060130,AAIW06,   155,  1,     34,     34,2,20060207,  47,-61.0105, -77.9867, 4948,     51.2,   5.5388,  33.9372,2,  33.9399,0,    308.3,2,    309.3,2,     0.00,2,    21.53,2,     0.22,2,     1.54,2,   5.5347
  316N20060130,AAIW06,   155,  1,     33,     33,2,20060207,  47,-61.0105, -77.9867, 4948,     76.2,   3.1529,  33.9818,2,  33.9816,2,    316.0,2,    315.9,2,     6.40,2,    24.09,2,     0.18,2,     1.94,2,   3.1483
  316N20060130,AAIW06,   155,  1,     32,     32,2,20060207,  47,-61.0105, -77.9867, 4948,    100.4,   2.7489,  34.0060,2,  34.0069,2,    309.9,2,    311.1,2,    13.78,2,    25.57,2,     0.53,2,     1.87,2,   2.7431
  316N20060130,AAIW06,   155,  1,     31,     31,2,20060207,  47,-61.0105, -77.9867, 4948,    155.6,   2.6586,  34.0346,2,  34.0359,2,    301.0,2,    299.2,2,    16.77,2,    27.27,2,     0.03,2,     1.93,2,   2.6496
  316N20060130,AAIW06,   155,  1,     30,     30,2,20060207,  47,-61.0105, -77.9867, 4948,    205.8,   2.4220,  34.0458,2,  34.0457,2,    297.0,2,    296.7,2,    18.96,2,    27.91,2,     0.03,2,     1.96,2,   2.4105
  316N20060130,AAIW06,   155,  1,     29,     29,2,20060207,  47,-61.0105, -77.9867, 4948,    255.1,   2.2565,  34.0587,2,  34.0600,2,    287.2,2,    292.2,2,    21.34,2,    28.53,2,     0.01,2,     1.99,2,   2.2424
  316N20060130,AAIW06,   155,  1,     28,     28,2,20060207,  47,-61.0105, -77.9867, 4948,    305.0,   2.2468,  34.0959,2,  34.0952,2,    277.9,2,    280.2,2,    24.72,2,    29.28,2,     0.01,2,     2.06,2,   2.2299
  316N20060130,AAIW06,   155,  1,     27,     27,2,20060207,  47,-61.0105, -77.9867, 4948,    355.6,   2.2319,  34.1239,2,  34.1246,2,    273.3,2,    270.7,2,    27.70,2,    29.98,2,     0.01,2,     2.10,2,   2.2120
  316N20060130,AAIW06,   155,  1,     26,     26,2,20060207,  47,-61.0105, -77.9867, 4948,    404.9,   2.2492,  34.1520,2,  34.1519,2,    261.6,2,    262.3,2,    30.49,2,    30.64,2,     0.01,2,     2.14,2,   2.2263
  316N20060130,AAIW06,   155,  1,     25,     25,2,20060207,  47,-61.0105, -77.9867, 4948,    454.9,   2.2520,  34.1830,2,  34.1831,2,    258.7,2,    252.6,2,    34.27,2,    31.29,2,     0.01,2,     2.18,2,   2.2261
  316N20060130,AAIW06,   155,  1,     24,     24,2,20060207,  47,-61.0105, -77.9867, 4948,    505.0,   2.3513,  34.2331,2,  34.2315,2,    233.1,2,    235.6,2,    39.85,2,    32.19,2,     0.01,2,     2.24,2,   2.3219
  316N20060130,AAIW06,   155,  1,     23,     23,2,20060207,  47,-61.0105, -77.9867, 4948,    605.0,   2.6159,  34.3357,2,  34.3394,0,    202.8,2,    203.1,2,    50.24,2,    33.53,2,     0.00,2,     2.35,2,   2.5787
  316N20060130,AAIW06,   155,  1,     22,     22,2,20060207,  47,-61.0105, -77.9867, 4948,    705.2,   2.5535,  34.4013,2,  34.4028,2,    189.8,2,    188.3,2,    58.02,2,    34.33,2,     0.00,2,     2.37,2,   2.5099
  316N20060130,AAIW06,   155,  1,     20,     20,2,20060207,  47,-61.0105, -77.9867, 4948,    804.8,   2.5340,  34.4641,2,  34.4652,2,    180.8,2,    179.7,2,    64.23,2,    34.59,2,     0.00,2,     2.40,2,   2.4836
  316N20060130,AAIW06,   155,  1,     21,     21,9,20060207,  47,-61.0105, -77.9867, 4948,    805.2,   2.5341,  34.4644,2,-999.0000,9,   -999.0,9,   -999.0,9,  -999.00,9,  -999.00,9,  -999.00,9,  -999.00,9,   2.4837
  316N20060130,AAIW06,   155,  1,     19,     19,2,20060207,  47,-61.0105, -77.9867, 4948,    905.1,   2.4515,  34.5130,2,  34.5147,2,    175.5,2,    175.1,2,    69.02,2,    34.45,2,     0.00,2,     2.40,2,   2.3946
  316N20060130,AAIW06,   155,  1,     18,     18,2,20060207,  47,-61.0105, -77.9867, 4948,   1005.2,   2.3989,  34.5578,2,  34.5606,0,    172.5,2,    172.2,2,    73.03,2,    34.30,2,     0.00,2,     2.39,2,   2.3352
  316N20060130,AAIW06,   155,  1,     17,     17,2,20060207,  47,-61.0105, -77.9867, 4948,   1105.1,   2.3429,  34.5922,2,  34.5931,2,    171.7,2,    171.5,2,    76.03,2,    33.96,2,     0.00,2,     2.37,2,   2.2725
  316N20060130,AAIW06,   155,  1,     16,     16,2,20060207,  47,-61.0105, -77.9867, 4948,   1206.1,   2.2893,  34.6224,2,  34.6221,2,    171.8,2,    171.9,2,    78.62,2,    33.61,2,     0.00,2,     2.35,2,   2.2119
  316N20060130,AAIW06,   155,  1,     15,     15,2,20060207,  47,-61.0105, -77.9867, 4948,   1305.1,   2.2361,  34.6492,2,  34.6534,0,    173.1,2,    173.1,2,    80.62,2,    33.22,2,     0.00,2,     2.34,2,   2.1518
  316N20060130,AAIW06,   155,  1,     14,     14,2,20060207,  47,-61.0105, -77.9867, 4948,   1406.3,   2.1887,  34.6706,2,  34.6724,2,    174.1,2,    174.4,2,    83.22,2,    32.83,2,     0.00,2,     2.31,2,   2.0972
  316N20060130,AAIW06,   155,  1,     13,     13,2,20060207,  47,-61.0105, -77.9867, 4948,   1506.7,   2.1288,  34.6867,2,  34.6880,2,    176.3,2,    176.8,2,    84.22,2,    32.54,2,     0.00,2,     2.28,2,   2.0302
  316N20060130,AAIW06,   155,  1,     12,     12,2,20060207,  47,-61.0105, -77.9867, 4948,   1607.2,   2.0669,  34.7004,2,  34.7023,2,    177.2,2,    178.4,2,    86.42,2,    32.05,2,     0.00,2,     2.27,2,   1.9612
  316N20060130,AAIW06,   155,  1,     11,     11,2,20060207,  47,-61.0105, -77.9867, 4948,   1707.7,   2.0152,  34.7093,2,  34.7118,2,    180.4,2,    180.3,2,    88.02,2,    32.06,2,     0.00,2,     2.22,2,   1.9022
  316N20060130,AAIW06,   155,  1,     10,     10,2,20060207,  47,-61.0105, -77.9867, 4948,   1809.2,   1.9475,  34.7161,2,  34.7182,2,    182.1,2,    181.8,2,    90.43,2,    31.91,2,     0.00,2,     2.21,2,   1.8272
  316N20060130,AAIW06,   155,  1,      9,      9,2,20060207,  47,-61.0105, -77.9867, 4948,   2008.7,   1.7883,  34.7238,2,  34.7232,2,    185.4,2,    184.9,2,    95.46,2,    31.82,2,     0.00,2,     2.21,2,   1.6540
  316N20060130,AAIW06,   155,  1,      8,      8,2,20060207,  47,-61.0105, -77.9867, 4948,   2310.4,   1.5657,  34.7268,2,  34.7303,0,    190.1,2,    189.7,2,   102.53,2,    31.82,2,     0.00,2,     2.21,2,   1.4097
  316N20060130,AAIW06,   155,  1,      7,      7,2,20060207,  47,-61.0105, -77.9867, 4948,   2613.5,   1.3896,  34.7253,2,  34.7240,2,    193.9,2,    193.7,2,   107.38,2,    31.83,2,     0.00,2,     2.21,2,   1.2104
  316N20060130,AAIW06,   155,  1,      6,      6,2,20060207,  47,-61.0105, -77.9867, 4948,   2917.2,   1.2204,  34.7221,2,  34.7225,2,    197.8,2,    197.8,2,   112.03,2,    31.94,2,     0.00,2,     2.21,2,   1.0172
  316N20060130,AAIW06,   155,  1,      5,      5,2,20060207,  47,-61.0105, -77.9867, 4948,   3220.7,   1.0557,  34.7172,2,  34.7162,2,    201.2,2,    200.9,2,   117.52,2,    32.10,2,     0.00,2,     2.22,2,   0.8278
  316N20060130,AAIW06,   155,  1,      4,      4,2,20060207,  47,-61.0105, -77.9867, 4948,   3626.7,   0.8430,  34.7104,2,  34.7105,2,    205.2,2,    205.1,2,   124.03,2,    32.25,2,     0.00,2,     2.25,2,   0.5807
  316N20060130,AAIW06,   155,  1,      3,      3,2,20060207,  47,-61.0105, -77.9867, 4948,   4031.9,   0.6292,  34.7070,2,  34.7062,2,    209.1,2,    209.1,2,   131.79,2,    32.51,2,     0.00,2,     2.26,2,   0.3315
  316N20060130,AAIW06,   155,  1,      2,      2,2,20060207,  47,-61.0105, -77.9867, 4948,   4539.8,   0.5744,  34.7055,2,  34.7052,2,    210.7,2,    210.5,2,   136.49,2,    32.62,2,     0.00,2,     2.27,2,   0.2238
  316N20060130,AAIW06,   155,  1,      1,      1,2,20060207,  47,-61.0105, -77.9867, 4948,   5022.9,   0.5374,  34.7042,2,  34.7038,2,    212.5,2,    212.5,2,   139.98,2,    32.58,2,     0.00,2,     2.28,2,   0.1331