BOTTLE,20081218PRINUNIVRMK
EXPOCODE,SECT_ID,STNNBR,CASTNO,SAMPNO,BTLNBR,BTLNBR_FLAG_W,DATE,TIME,LATITUDE,LONGITUDE,DEPTH,CTDPRS,CTDTMP,CTDSAL,CTDSAL_FLAG_W,SALNTY,SALNTY_FLAG_W,CTDOXY,CTDOXY_FLAG_W,OXYGEN,OXYGEN_FLAG_W,SILCAT,SILCAT_FLAG_W,NITRAT,NITRAT_FLAG_W,NITRIT,NITRIT_FLAG_W,PHSPHT,PHSPHT_FLAG_W,THETA
,,,,,,,,,,,METERS,DBARS,ITS-90,PSS-78,,PSS-78,,UMOL/KG,,UMOL/KG,,UMOL/KG,,UMOL/KG,,UMOL/KG,,UMOL/KG,,DEGC
  316N20060130,AAIW06,   140,  1,     36,     36,2,20060201,1322,-55.2867, -73.4108, 3913,      7.5,   8.7689,  33.9638,2,  33.9628,2,    287.1,2,    287.1,2,     0.28,2,    15.03,2,     0.18,2,     1.16,2,   8.7681
  316N20060130,AAIW06,   140,  1,     35,     35,2,20060201,1322,-55.2867, -73.4108, 3913,     30.8,   8.7744,  33.9636,2,  33.9636,2,    287.7,2,    286.9,2,     0.15,2,    15.03,2,     0.18,2,     1.16,2,   8.7712
  316N20060130,AAIW06,   140,  1,     34,     34,2,20060201,1322,-55.2867, -73.4108, 3913,     56.9,   7.9366,  33.9997,2,  33.9979,2,    290.4,2,    291.9,2,     0.80,2,    16.02,2,     0.19,2,     1.26,2,   7.9310
  316N20060130,AAIW06,   140,  1,     33,     33,2,20060201,1322,-55.2867, -73.4108, 3913,     81.5,   5.8250,  34.0856,2,  34.0853,2,    286.6,2,    286.4,2,     5.48,2,    20.70,2,     0.36,2,     1.54,2,   5.8183
  316N20060130,AAIW06,   140,  1,     32,     32,2,20060201,1322,-55.2867, -73.4108, 3913,    106.8,   5.4004,  34.1156,2,  34.1139,2,    278.7,2,    286.2,2,     6.55,2,    21.87,2,     0.05,2,     1.58,2,   5.3919
  316N20060130,AAIW06,   140,  1,     31,     31,2,20060201,1322,-55.2867, -73.4108, 3913,    156.8,   5.1348,  34.1340,2,  34.1263,0,    290.4,2,    290.4,2,     6.81,2,    21.85,2,     0.03,2,     1.58,2,   5.1226
  316N20060130,AAIW06,   140,  1,     30,     30,2,20060201,1322,-55.2867, -73.4108, 3913,    206.6,   5.0829,  34.1502,2,  34.1478,2,    292.9,2,    292.6,2,     7.27,2,    21.85,2,     0.02,2,     1.57,2,   5.0669
  316N20060130,AAIW06,   140,  1,     29,     29,2,20060201,1322,-55.2867, -73.4108, 3913,    254.9,   5.0451,  34.1575,2,  34.1553,2,    291.1,2,    292.4,2,     7.54,2,    21.86,2,     0.02,2,     1.56,2,   5.0253
  316N20060130,AAIW06,   140,  1,     28,     28,2,20060201,1322,-55.2867, -73.4108, 3913,    304.1,   5.0206,  34.1610,2,  34.1724,0,    292.0,2,    292.0,2,     7.79,2,    21.86,2,     0.01,2,     1.57,2,   4.9969
  316N20060130,AAIW06,   140,  1,     27,     27,2,20060201,1322,-55.2867, -73.4108, 3913,    355.6,   4.9957,  34.1644,2,  34.1620,2,    292.1,2,    289.9,2,     8.45,2,    22.23,2,     0.01,2,     1.59,2,   4.9680
  316N20060130,AAIW06,   140,  1,     26,     26,2,20060201,1322,-55.2867, -73.4108, 3913,    406.1,   4.9086,  34.1587,2,  34.1552,2,    291.7,2,    290.7,2,     8.51,2,    22.48,2,     0.01,2,     1.59,2,   4.8770
  316N20060130,AAIW06,   140,  1,     25,     25,2,20060201,1322,-55.2867, -73.4108, 3913,    453.7,   4.8809,  34.1590,2,  34.1566,2,    291.2,2,    295.0,2,     8.78,2,    22.53,2,     0.01,2,     1.60,2,   4.8456
  316N20060130,AAIW06,   140,  1,     24,     24,2,20060201,1322,-55.2867, -73.4108, 3913,    504.8,   4.8331,  34.1618,2,  34.1595,2,    286.7,2,    289.6,2,    10.05,2,    23.39,2,     0.01,2,     1.66,2,   4.7938
  316N20060130,AAIW06,   140,  1,     23,     23,2,20060201,1322,-55.2867, -73.4108, 3913,    604.3,   4.6960,  34.1784,2,  34.1752,2,    275.3,2,    271.9,2,    13.71,2,    25.46,2,     0.01,2,     1.79,2,   4.6491
  316N20060130,AAIW06,   140,  1,     22,     22,2,20060201,1322,-55.2867, -73.4108, 3913,    704.7,   4.4014,  34.1905,2,  34.1876,2,    255.8,2,    255.6,2,    18.60,2,    27.33,2,     0.01,2,     1.92,2,   4.3478
  316N20060130,AAIW06,   140,  1,     20,     20,2,20060201,1322,-55.2867, -73.4108, 3913,    804.7,   4.1893,  34.2372,2,  34.2347,2,    237.6,2,    235.5,2,    25.68,2,    29.39,2,     0.01,2,     2.06,2,   4.1288
  316N20060130,AAIW06,   140,  1,     21,     21,2,20060201,1322,-55.2867, -73.4108, 3913,    805.0,   4.1906,  34.2369,2,  34.2349,0,   -999.0,9,   -999.0,9,  -999.00,9,  -999.00,9,  -999.00,9,  -999.00,9,   4.1300
  316N20060130,AAIW06,   140,  1,     19,     19,2,20060201,1322,-55.2867, -73.4108, 3913,    906.4,   3.8803,  34.2732,2,  34.2712,2,    223.1,2,    221.5,2,    32.56,2,    30.91,2,     0.00,2,     2.17,2,   3.8135
  316N20060130,AAIW06,   140,  1,     18,     18,2,20060201,1322,-55.2867, -73.4108, 3913,   1005.8,   3.5451,  34.3091,2,  34.3083,2,    211.2,2,    213.5,2,    40.06,2,    32.17,2,     0.00,2,     2.26,2,   3.4728
  316N20060130,AAIW06,   140,  1,     17,     17,2,20060201,1322,-55.2867, -73.4108, 3913,   1104.8,   3.2788,  34.3503,2,  34.3499,2,    199.9,2,    200.5,2,    51.18,2,    33.19,2,     0.00,2,     2.34,2,   3.2008
  316N20060130,AAIW06,   140,  1,     15,     15,2,20060201,1322,-55.2867, -73.4108, 3913,   1201.9,   3.0657,  34.3931,2,  34.3921,2,    188.0,2,    191.2,2,    55.26,2,    34.00,2,     0.00,2,     2.39,2,   2.9818
  316N20060130,AAIW06,   140,  1,     16,     16,9,20060201,1322,-55.2867, -73.4108, 3913,   1202.1,   3.0649,  34.3930,2,-999.0000,9,   -999.0,9,   -999.0,9,  -999.00,9,  -999.00,9,  -999.00,9,  -999.00,9,   2.9810
  316N20060130,AAIW06,   140,  1,     14,     14,2,20060201,1322,-55.2867, -73.4108, 3913,   1300.5,   2.8962,  34.4414,2,  34.4400,2,    176.9,2,    178.3,2,    63.37,2,    34.71,2,     0.00,2,     2.44,2,   2.8060
  316N20060130,AAIW06,   140,  1,     13,     13,2,20060201,1322,-55.2867, -73.4108, 3913,   1397.4,   2.7664,  34.4836,2,  34.4830,2,    173.2,2,    171.4,2,    69.89,2,    35.12,2,     0.00,2,     2.47,2,   2.6698
  316N20060130,AAIW06,   140,  1,     12,     12,2,20060201,1322,-55.2867, -73.4108, 3913,   1496.0,   2.6689,  34.5222,2,  34.5215,2,    167.3,2,    165.3,2,    75.81,2,    35.38,2,     0.00,2,     2.50,2,   2.5653
  316N20060130,AAIW06,   140,  1,     11,     11,2,20060201,1322,-55.2867, -73.4108, 3913,   1594.4,   2.5685,  34.5566,2,  34.5549,2,    164.2,2,    163.8,2,    81.33,2,    35.28,2,     0.00,2,     2.49,2,   2.4580
  316N20060130,AAIW06,   140,  1,     10,     10,2,20060201,1322,-55.2867, -73.4108, 3913,   1695.3,   2.4962,  34.5806,2,  34.5793,2,    165.1,2,    164.7,2,    84.83,2,    35.14,2,     0.00,2,     2.49,2,   2.3783
  316N20060130,AAIW06,   140,  1,      9,      9,2,20060201,1322,-55.2867, -73.4108, 3913,   1795.7,   2.4166,  34.6044,2,  34.6035,2,    166.3,2,    160.9,2,    90.16,2,    35.18,2,     0.00,2,     2.51,2,   2.2913
  316N20060130,AAIW06,   140,  1,      8,      8,2,20060201,1322,-55.2867, -73.4108, 3913,   1995.3,   2.2618,  34.6413,2,  34.6399,2,    165.1,2,    168.1,2,    96.11,2,    34.64,2,     0.00,2,     2.46,2,   2.1217
  316N20060130,AAIW06,   140,  1,      7,      7,2,20060201,1322,-55.2867, -73.4108, 3913,   2244.3,   2.1357,  34.6661,2,  34.6648,2,    166.0,2,    169.4,2,   101.26,2,    34.28,2,     0.00,2,     2.43,2,   1.9759
  316N20060130,AAIW06,   140,  1,      6,      6,2,20060201,1322,-55.2867, -73.4108, 3913,   2486.4,   1.9878,  34.6783,2,  34.6778,2,    168.0,2,    165.4,2,   109.27,2,    34.44,2,     0.00,2,     2.44,2,   1.8088
  316N20060130,AAIW06,   140,  1,      5,      5,2,20060201,1322,-55.2867, -73.4108, 3913,   2733.3,   1.8806,  34.6919,2,  34.6923,2,    171.9,2,    172.4,2,   109.75,2,    34.39,2,     0.00,2,     2.45,2,   1.6808
  316N20060130,AAIW06,   140,  1,      4,      4,2,20060201,1322,-55.2867, -73.4108, 3913,   2986.0,   1.8066,  34.7059,2,  34.7049,2,    177.7,3,    185.6,0,   110.01,2,    33.18,2,     0.00,2,     2.35,2,   1.5842
  316N20060130,AAIW06,   140,  1,      3,      3,9,20060201,1322,-55.2867, -73.4108, 3913,   3239.8,   1.6973,  34.7162,2,-999.0000,9,   -999.0,3,   -999.0,9,  -999.00,9,  -999.00,9,  -999.00,9,  -999.00,9,   1.4524
  316N20060130,AAIW06,   140,  1,      2,      2,2,20060201,1322,-55.2867, -73.4108, 3913,   3492.3,   1.5261,  34.7211,2,  34.7203,2,    191.5,3,    194.2,0,   111.10,2,    32.22,2,     0.00,2,     2.28,2,   1.2598
  316N20060130,AAIW06,   140,  1,      1,      1,2,20060201,1322,-55.2867, -73.4108, 3913,   3949.0,   1.0497,  34.7147,2,  34.7142,2,    200.4,3,    216.8,4,   124.07,2,    32.38,2,     0.00,2,     2.27,2,   0.7487
  316N20060130,AAIW06,   141,  1,     36,     36,4,20060202,1036,-55.6360, -74.0925, 4184,      2.0,   8.6326,  34.0285,2,  34.0268,2,    287.3,2,    287.7,2,     0.00,2,    15.91,2,     0.19,2,     1.19,2,   8.6324
  316N20060130,AAIW06,   141,  1,     34,     34,2,20060202,1036,-55.6360, -74.0925, 4184,     28.8,   8.6312,  34.0278,2,-999.0000,9,   -999.0,9,   -999.0,9,  -999.00,9,  -999.00,9,  -999.00,9,  -999.00,9,   8.6282
  316N20060130,AAIW06,   141,  1,     33,     33,2,20060202,1036,-55.6360, -74.0925, 4184,     29.9,   8.6318,  34.0279,2,  34.0274,2,    289.2,2,    287.0,2,     0.00,2,    15.86,2,     0.19,2,     1.18,2,   8.6287
  316N20060130,AAIW06,   141,  1,     35,     35,2,20060202,1036,-55.6360, -74.0925, 4184,     30.2,   8.6312,  34.0279,2,-999.0000,9,   -999.0,9,   -999.0,9,  -999.00,9,  -999.00,9,  -999.00,9,  -999.00,9,   8.6281
  316N20060130,AAIW06,   141,  1,     32,     32,2,20060202,1036,-55.6360, -74.0925, 4184,     80.8,   6.1469,  34.0655,2,  34.0570,2,    296.4,2,    287.1,2,     3.02,2,    19.37,2,     0.49,2,     1.48,2,   6.1400
  316N20060130,AAIW06,   141,  1,     31,     31,2,20060202,1036,-55.6360, -74.0925, 4184,     99.2,   5.4400,  34.1117,2,  34.1093,2,    286.4,2,    286.0,2,     5.21,2,    21.56,2,     0.25,2,     1.58,2,   5.4321
  316N20060130,AAIW06,   141,  1,     30,     30,2,20060202,1036,-55.6360, -74.0925, 4184,    132.8,   5.1799,  34.1297,2,  34.1270,2,    290.0,2,    290.8,2,     5.79,2,    21.84,2,     0.02,2,     1.57,2,   5.1696
  316N20060130,AAIW06,   141,  1,     29,     29,2,20060202,1036,-55.6360, -74.0925, 4184,    178.5,   5.0610,  34.1387,2,  34.1364,2,    294.3,2,    294.2,2,     5.78,2,    21.74,2,     0.01,2,     1.56,2,   5.0472
  316N20060130,AAIW06,   141,  1,     28,     28,2,20060202,1036,-55.6360, -74.0925, 4184,    227.0,   5.0430,  34.1505,2,  34.1479,2,    291.3,2,    290.4,2,     6.18,2,    21.95,2,     0.01,2,     1.57,2,   5.0254
  316N20060130,AAIW06,   141,  1,     27,     27,2,20060202,1036,-55.6360, -74.0925, 4184,    279.4,   5.0547,  34.1652,2,  34.1621,2,    289.1,2,    289.1,2,     6.57,2,    22.20,2,     0.01,2,     1.58,2,   5.0329
  316N20060130,AAIW06,   141,  1,     26,     26,2,20060202,1036,-55.6360, -74.0925, 4184,    326.1,   5.0207,  34.1683,2,  34.1662,2,    289.2,2,    288.2,2,     6.96,2,    22.35,2,     0.01,2,     1.58,2,   4.9953
  316N20060130,AAIW06,   141,  1,     25,     25,2,20060202,1036,-55.6360, -74.0925, 4184,    377.7,   4.9759,  34.1684,2,  34.1662,2,    287.6,2,    288.7,2,     7.14,2,    22.45,2,     0.01,2,     1.59,2,   4.9464
  316N20060130,AAIW06,   141,  1,     24,     24,2,20060202,1036,-55.6360, -74.0925, 4184,    428.9,   4.9362,  34.1697,2,  34.1681,2,    287.2,2,    286.0,2,     7.53,2,    22.80,2,     0.01,2,     1.61,2,   4.9027
  316N20060130,AAIW06,   141,  1,     23,     23,2,20060202,1036,-55.6360, -74.0925, 4184,    477.3,   4.8698,  34.1672,2,  34.1644,2,    283.6,2,    283.5,2,     8.33,2,    23.20,2,     0.01,2,     1.64,2,   4.8326
  316N20060130,AAIW06,   141,  1,     22,     22,2,20060202,1036,-55.6360, -74.0925, 4184,    528.9,   4.7989,  34.1698,2,  34.1677,2,    277.0,2,    277.7,2,     9.72,2,    24.11,2,     0.01,2,     1.70,2,   4.7578
  316N20060130,AAIW06,   141,  1,     21,     21,2,20060202,1036,-55.6360, -74.0925, 4184,    647.2,   4.5349,  34.1861,2,  34.1834,2,    256.9,2,    256.1,2,    14.73,2,    26.52,2,     0.00,2,     1.86,2,   4.4853
  316N20060130,AAIW06,   141,  1,     20,     20,2,20060202,1036,-55.6360, -74.0925, 4184,    647.8,   4.5369,  34.1862,2,  34.1830,2,    256.9,2,    256.7,2,    14.72,2,    26.52,2,     0.00,2,     1.85,2,   4.4872
  316N20060130,AAIW06,   141,  1,     19,     19,2,20060202,1036,-55.6360, -74.0925, 4184,    744.6,   4.2854,  34.2198,2,  34.2177,2,    238.3,2,    237.9,2,    20.73,2,    28.58,2,     0.01,2,     1.98,2,   4.2292
  316N20060130,AAIW06,   141,  1,     18,     18,2,20060202,1036,-55.6360, -74.0925, 4184,    844.2,   3.9148,  34.2496,2,  34.2475,2,    225.0,2,    224.5,2,    27.73,2,    30.14,2,     0.00,2,     2.10,2,   3.8528
  316N20060130,AAIW06,   141,  1,     17,     17,2,20060202,1036,-55.6360, -74.0925, 4184,    939.7,   3.6433,  34.2896,2,  34.2882,2,    213.2,2,    212.5,2,    34.75,2,    31.50,2,     0.00,2,     2.20,2,   3.5756
  316N20060130,AAIW06,   141,  1,     16,     16,2,20060202,1036,-55.6360, -74.0925, 4184,   1041.3,   3.3980,  34.3299,2,  34.3284,2,    199.1,2,    200.1,2,    42.37,2,    32.66,2,     0.00,2,     2.29,2,   3.3240
  316N20060130,AAIW06,   141,  1,     15,     15,2,20060202,1036,-55.6360, -74.0925, 4184,   1137.8,   3.1558,  34.3711,2,  34.3696,2,    189.7,2,    190.5,2,    49.59,2,    33.51,2,     0.00,2,     2.34,2,   3.0762
  316N20060130,AAIW06,   141,  1,     14,     14,2,20060202,1036,-55.6360, -74.0925, 4184,   1239.3,   2.9554,  34.4189,2,  34.4165,2,    179.3,2,    180.4,2,    57.83,2,    34.26,2,     0.00,2,     2.41,2,   2.8695
  316N20060130,AAIW06,   141,  1,     13,     13,2,20060202,1036,-55.6360, -74.0925, 4184,   1338.5,   2.8139,  34.4646,2,  34.4630,2,    170.1,2,    170.8,2,    64.47,2,    34.77,2,     0.00,2,     2.44,2,   2.7215
  316N20060130,AAIW06,   141,  1,     12,     12,2,20060202,1036,-55.6360, -74.0925, 4184,   1434.5,   2.7051,  34.5065,2,  34.5056,2,    166.2,2,    163.7,2,    70.51,2,    34.87,2,     0.00,2,     2.44,2,   2.6061
  316N20060130,AAIW06,   141,  1,     11,     11,2,20060202,1036,-55.6360, -74.0925, 4184,   1537.5,   2.5954,  34.5479,2,  34.5468,2,   -999.0,9,   -999.0,9,    77.17,2,    35.17,2,     0.00,2,     2.47,2,   2.4893
  316N20060130,AAIW06,   141,  1,     10,     10,2,20060202,1036,-55.6360, -74.0925, 4184,   1636.4,   2.5077,  34.5771,2,  34.5647,0,    158.3,2,    158.6,2,    80.01,2,    35.01,2,     0.00,2,     2.47,2,   2.3945
  316N20060130,AAIW06,   141,  1,      9,      9,2,20060202,1036,-55.6360, -74.0925, 4184,   1738.9,   2.4369,  34.5985,2,  34.5983,2,    156.3,2,    156.1,2,    86.48,2,    34.96,2,     0.00,2,     2.47,2,   2.3161
  316N20060130,AAIW06,   141,  1,      8,      8,2,20060202,1036,-55.6360, -74.0925, 4184,   2097.9,   2.1742,  34.6608,2,  34.6596,2,    161.2,2,    161.7,2,    96.63,2,    34.05,2,     0.00,2,     2.40,2,   2.0266
  316N20060130,AAIW06,   141,  1,      7,      7,2,20060202,1036,-55.6360, -74.0925, 4184,   2354.2,   2.0031,  34.6824,2,  34.6828,2,    164.1,2,    163.6,2,   104.57,2,    33.85,2,     0.00,2,     2.38,2,   1.8358
  316N20060130,AAIW06,   141,  1,      6,      6,2,20060202,1036,-55.6360, -74.0925, 4184,   2605.1,   1.8864,  34.6954,2,  34.6958,2,    166.9,2,    167.8,2,   107.22,2,    33.54,2,     0.00,2,     2.36,2,   1.6984
  316N20060130,AAIW06,   141,  1,      5,      5,2,20060202,1036,-55.6360, -74.0925, 4184,   2859.7,   1.7796,  34.7063,2,  34.7060,2,   -999.0,9,   -999.0,9,   107.02,2,    32.99,2,     0.00,2,     2.31,2,   1.5699
  316N20060130,AAIW06,   141,  1,      4,      4,2,20060202,1036,-55.6360, -74.0925, 4184,   3110.5,   1.6515,  34.7176,2,  34.7170,2,    184.2,2,    183.7,2,   106.41,2,    32.33,2,     0.00,2,     2.28,2,   1.4204
  316N20060130,AAIW06,   141,  1,      3,      3,2,20060202,1036,-55.6360, -74.0925, 4184,   3365.0,   1.4388,  34.7222,2,  34.7219,2,    192.8,2,    192.3,2,   108.86,2,    31.77,2,     0.00,2,     2.24,2,   1.1875
  316N20060130,AAIW06,   141,  1,      2,      2,2,20060202,1036,-55.6360, -74.0925, 4184,   3721.9,   1.1115,  34.7170,2,  34.7158,2,    199.3,2,    199.6,2,   118.89,2,    32.08,2,     0.00,2,     2.25,2,   0.8324
  316N20060130,AAIW06,   141,  1,      1,      1,2,20060202,1036,-55.6360, -74.0925, 4184,   4235.9,   0.8077,  34.7097,2,  34.7097,2,   -999.0,3,   -999.0,9,   128.97,2,    32.22,2,     0.00,2,     2.28,2,   0.4831