BOTTLE,20081218PRINUNIVRMK
EXPOCODE,SECT_ID,STNNBR,CASTNO,SAMPNO,BTLNBR,BTLNBR_FLAG_W,DATE,TIME,LATITUDE,LONGITUDE,DEPTH,CTDPRS,CTDTMP,CTDSAL,CTDSAL_FLAG_W,SALNTY,SALNTY_FLAG_W,CTDOXY,CTDOXY_FLAG_W,OXYGEN,OXYGEN_FLAG_W,SILCAT,SILCAT_FLAG_W,NITRAT,NITRAT_FLAG_W,NITRIT,NITRIT_FLAG_W,PHSPHT,PHSPHT_FLAG_W,THETA
,,,,,,,,,,,METERS,DBARS,ITS-90,PSS-78,,PSS-78,,UMOL/KG,,UMOL/KG,,UMOL/KG,,UMOL/KG,,UMOL/KG,,UMOL/KG,,DEGC
  316N20060130,AAIW06,   142,  1,     34,     34,2,20060202,1745,-55.9563, -74.8027, 4102,     10.0,   8.5580,  34.0355,2,  34.0341,2,    287.9,2,    288.0,2,     0.00,2,    16.46,2,     0.20,2,     1.20,2,   8.5570
  316N20060130,AAIW06,   142,  1,     33,     33,2,20060202,1745,-55.9563, -74.8027, 4102,     17.6,   8.5597,  34.0352,2,  34.0345,2,    288.6,2,    288.5,2,     0.00,2,    16.46,2,     0.20,2,     1.20,2,   8.5579
  316N20060130,AAIW06,   142,  1,     32,     32,2,20060202,1745,-55.9563, -74.8027, 4102,     44.0,   8.5007,  34.0353,2,  34.0349,2,    289.3,2,    288.0,2,     0.00,2,    16.46,2,     0.20,2,     1.20,2,   8.4962
  316N20060130,AAIW06,   142,  1,     31,     31,9,20060202,1745,-55.9563, -74.8027, 4102,     67.3,   7.3399,  34.0926,2,-999.0000,9,   -999.0,9,   -999.0,9,  -999.00,9,  -999.00,9,  -999.00,9,  -999.00,9,   7.3336
  316N20060130,AAIW06,   142,  1,     30,     30,2,20060202,1745,-55.9563, -74.8027, 4102,    118.7,   5.1592,  34.1337,2,  34.1305,2,    294.7,2,    292.5,2,     5.96,2,    21.74,2,     0.09,2,     1.57,2,   5.1500
  316N20060130,AAIW06,   142,  1,     29,     29,2,20060202,1745,-55.9563, -74.8027, 4102,    137.7,   5.0733,  34.1386,2,  34.1374,2,    297.8,2,    301.6,2,     5.95,2,    20.99,2,     0.25,2,     1.53,2,   5.0627
  316N20060130,AAIW06,   142,  1,     28,     28,2,20060202,1745,-55.9563, -74.8027, 4102,    187.4,   4.8970,  34.1271,2,  34.1245,2,    298.4,2,    298.2,2,     5.93,2,    21.67,2,     0.20,2,     1.59,2,   4.8828
  316N20060130,AAIW06,   142,  1,     27,     27,2,20060202,1745,-55.9563, -74.8027, 4102,    237.1,   4.9484,  34.1453,2,  34.1447,2,    298.5,2,    296.5,2,     6.12,2,    21.82,2,     0.01,2,     1.55,2,   4.9302
  316N20060130,AAIW06,   142,  1,     26,     26,2,20060202,1745,-55.9563, -74.8027, 4102,    285.2,   4.8664,  34.1390,2,  34.1374,2,    296.7,2,    296.9,2,     6.30,2,    21.92,2,     0.01,2,     1.56,2,   4.8446
  316N20060130,AAIW06,   142,  1,     25,     25,2,20060202,1745,-55.9563, -74.8027, 4102,    337.0,   4.7941,  34.1323,2,  34.1312,2,    297.0,2,    296.9,2,     6.49,2,    22.01,2,     0.01,2,     1.57,2,   4.7684
  316N20060130,AAIW06,   142,  1,     24,     24,2,20060202,1745,-55.9563, -74.8027, 4102,    387.0,   4.7491,  34.1305,2,  34.1310,2,    294.9,2,    295.0,2,     6.87,2,    22.46,2,     0.01,2,     1.59,2,   4.7196
  316N20060130,AAIW06,   142,  1,     23,     23,2,20060202,1745,-55.9563, -74.8027, 4102,    437.7,   4.6376,  34.1261,2,  34.1249,2,    291.0,2,    290.3,2,     7.86,2,    23.07,2,     0.01,2,     1.64,2,   4.6044
  316N20060130,AAIW06,   142,  1,     22,     22,2,20060202,1745,-55.9563, -74.8027, 4102,    485.5,   4.5332,  34.1243,2,  34.1218,2,    286.7,2,    288.1,2,     8.64,2,    23.67,2,     0.01,2,     1.68,2,   4.4966
  316N20060130,AAIW06,   142,  1,     21,     21,9,20060202,1745,-55.9563, -74.8027, 4102,    572.2,   4.6447,  34.1796,2,-999.0000,9,   -999.0,9,   -999.0,9,  -999.00,9,  -999.00,9,  -999.00,9,  -999.00,9,   4.6007
  316N20060130,AAIW06,   142,  1,     20,     20,2,20060202,1745,-55.9563, -74.8027, 4102,    671.1,   4.1802,  34.1733,2,  34.1724,2,    252.5,2,    253.3,2,    17.46,2,    27.41,2,     0.01,2,     1.93,2,   4.1305
  316N20060130,AAIW06,   142,  1,     19,     19,2,20060202,1745,-55.9563, -74.8027, 4102,    773.4,   4.1859,  34.2504,2,  34.2485,2,    226.1,2,    225.5,2,    25.06,2,    29.61,2,     0.01,2,     2.07,2,   4.1279
  316N20060130,AAIW06,   142,  1,     18,     18,2,20060202,1745,-55.9563, -74.8027, 4102,    873.4,   3.7722,  34.2858,2,  34.2850,2,    214.4,2,    214.9,2,    32.87,2,    31.21,2,     0.00,2,     2.19,2,   3.7088
  316N20060130,AAIW06,   142,  1,     17,     17,2,20060202,1745,-55.9563, -74.8027, 4102,    972.4,   3.3488,  34.3078,2,  34.3078,2,    209.0,2,    207.5,2,    39.88,2,    32.35,2,     0.01,2,     2.27,2,   3.2807
  316N20060130,AAIW06,   142,  1,     16,     16,2,20060202,1745,-55.9563, -74.8027, 4102,   1073.6,   3.1845,  34.3643,2,  34.3612,2,    193.2,2,    193.6,2,    47.49,2,    33.45,2,     0.00,2,     2.35,2,   3.1097
  316N20060130,AAIW06,   142,  1,     15,     15,2,20060202,1745,-55.9563, -74.8027, 4102,   1172.1,   2.9909,  34.4057,2,  34.4051,2,    184.4,2,    183.7,2,    55.11,2,    34.11,2,     0.00,2,     2.40,2,   2.9100
  316N20060130,AAIW06,   142,  1,     14,     14,2,20060202,1745,-55.9563, -74.8027, 4102,   1272.7,   2.8556,  34.4443,2,  34.4430,2,    178.0,2,    176.9,2,    60.92,2,    34.51,2,     0.00,2,     2.43,2,   2.7680
  316N20060130,AAIW06,   142,  1,     13,     13,2,20060202,1745,-55.9563, -74.8027, 4102,   1372.4,   2.7287,  34.4882,2,  34.4931,0,    171.9,2,    171.0,2,    66.95,2,    34.65,2,     0.00,2,     2.45,2,   2.6344
  316N20060130,AAIW06,   142,  1,     12,     12,2,20060202,1745,-55.9563, -74.8027, 4102,   1473.1,   2.6420,  34.5270,2,  34.5281,2,    162.3,2,    163.9,2,    72.37,2,    34.96,2,     0.00,2,     2.48,2,   2.5406
  316N20060130,AAIW06,   142,  1,     11,     11,2,20060202,1745,-55.9563, -74.8027, 4102,   1574.1,   2.5518,  34.5635,2,  34.5622,2,    160.5,2,    159.8,2,    79.43,2,    34.95,2,     0.00,2,     2.48,2,   2.4432
  316N20060130,AAIW06,   142,  1,     10,     10,3,20060202,1745,-55.9563, -74.8027, 4102,   1674.9,   2.4735,  34.5896,2,  34.5269,0,    156.9,2,    164.2,0,    73.35,4,    34.86,4,     0.00,4,     2.47,4,   2.3575
  316N20060130,AAIW06,   142,  1,      9,      9,2,20060202,1745,-55.9563, -74.8027, 4102,   1774.5,   2.3802,  34.6144,2,  34.6151,2,    158.6,2,    159.4,2,    86.07,2,    34.70,2,     0.00,2,     2.45,2,   2.2571
  316N20060130,AAIW06,   142,  1,      8,      8,2,20060202,1745,-55.9563, -74.8027, 4102,   1877.6,   2.3132,  34.6346,2,  34.6350,2,    162.6,2,    162.9,2,    87.88,2,    34.25,2,     0.00,2,     2.41,2,   2.1824
  316N20060130,AAIW06,   142,  1,      7,      7,2,20060202,1745,-55.9563, -74.8027, 4102,   1977.5,   2.2040,  34.6450,2,  34.6452,2,    156.0,2,    155.9,2,    98.00,2,    34.75,2,     0.00,2,     2.46,2,   2.0663
  316N20060130,AAIW06,   142,  1,      6,      6,2,20060202,1745,-55.9563, -74.8027, 4102,   2226.2,   2.0617,  34.6761,2,  34.6758,2,    163.2,2,    163.3,2,   101.23,2,    33.99,2,     0.00,2,     2.40,2,   1.9047
  316N20060130,AAIW06,   142,  1,      5,      5,2,20060202,1745,-55.9563, -74.8027, 4102,   2531.2,   1.8987,  34.6892,2,  34.6886,2,    166.2,2,    165.1,2,   107.93,2,    33.90,2,     0.00,2,     2.41,2,   1.7173
  316N20060130,AAIW06,   142,  1,      4,      4,2,20060202,1745,-55.9563, -74.8027, 4102,   2835.2,   1.7611,  34.7020,2,  34.7024,2,    172.4,2,    171.8,2,   109.96,2,    33.40,2,     0.00,2,     2.37,2,   1.5542
  316N20060130,AAIW06,   142,  1,      3,      3,2,20060202,1745,-55.9563, -74.8027, 4102,   3137.7,   1.6218,  34.7210,2,  34.7209,2,    186.4,2,    186.2,2,   104.65,2,    32.24,2,     0.00,2,     2.28,2,   1.3887
  316N20060130,AAIW06,   142,  1,      2,      2,2,20060202,1745,-55.9563, -74.8027, 4102,   3622.8,   1.1786,  34.7181,2,  34.7178,2,    197.7,2,    197.9,2,   115.65,2,    32.15,2,     0.00,2,     2.28,2,   0.9079
  316N20060130,AAIW06,   142,  1,      1,      1,2,20060202,1745,-55.9563, -74.8027, 4102,   4142.6,   0.8784,  34.7111,2,  34.7117,2,    203.3,2,    203.3,2,   126.70,2,    32.49,2,     0.00,2,     2.29,2,   0.5617
  316N20060130,AAIW06,   143,  1,     36,     36,2,20060203,  36,-56.3092, -75.5027, 4082,      8.5,   8.2578,  34.0772,2,  34.0768,2,    291.6,2,    291.8,2,     0.00,2,    16.66,2,     0.21,2,     1.17,2,   8.2569
  316N20060130,AAIW06,   143,  1,     35,     35,2,20060203,  36,-56.3092, -75.5027, 4082,     31.1,   8.2046,  34.0757,2,  34.0754,2,    293.0,2,    291.5,2,     0.00,2,    16.71,2,     0.21,2,     1.17,2,   8.2015
  316N20060130,AAIW06,   143,  1,     34,     34,2,20060203,  36,-56.3092, -75.5027, 4082,     61.0,   8.0435,  34.0784,2,  34.0776,2,    293.6,2,    292.6,2,     0.00,2,    16.85,2,     0.21,2,     1.18,2,   8.0374
  316N20060130,AAIW06,   143,  1,     33,     33,2,20060203,  36,-56.3092, -75.5027, 4082,     81.8,   5.9369,  34.1281,2,  34.1275,2,    298.0,2,    300.5,2,     2.30,2,    19.34,2,     0.17,2,     1.50,2,   5.9301
  316N20060130,AAIW06,   143,  1,     32,     32,2,20060203,  36,-56.3092, -75.5027, 4082,    105.8,   5.1891,  34.1428,2,  34.1403,2,    298.3,2,    296.9,2,     6.07,2,    20.82,2,     0.26,2,     1.53,2,   5.1809
  316N20060130,AAIW06,   143,  1,     31,     31,2,20060203,  36,-56.3092, -75.5027, 4082,    156.1,   5.0826,  34.1464,2,  34.1446,2,    299.9,2,    298.8,2,     6.05,2,    21.07,2,     0.12,2,     1.52,2,   5.0706
  316N20060130,AAIW06,   143,  1,     30,     30,2,20060203,  36,-56.3092, -75.5027, 4082,    205.3,   5.0223,  34.1491,2,  34.1471,2,    298.4,2,    299.0,2,     6.03,2,    21.16,2,     0.01,2,     1.52,2,   5.0065
  316N20060130,AAIW06,   143,  1,     29,     29,2,20060203,  36,-56.3092, -75.5027, 4082,    256.3,   5.0181,  34.1535,2,  34.1522,2,    296.7,2,    296.3,2,     6.01,2,    21.27,2,     0.01,2,     1.52,2,   4.9983
  316N20060130,AAIW06,   143,  1,     28,     28,2,20060203,  36,-56.3092, -75.5027, 4082,    305.8,   4.9411,  34.1475,2,  34.1451,2,    295.2,2,    295.0,2,     6.39,2,    21.57,2,     0.01,2,     1.53,2,   4.9175
  316N20060130,AAIW06,   143,  1,     27,     27,2,20060203,  36,-56.3092, -75.5027, 4082,    355.6,   4.8549,  34.1404,2,  34.1380,2,    293.6,2,    295.9,2,     6.37,2,    21.76,2,     0.01,2,     1.54,2,   4.8276
  316N20060130,AAIW06,   143,  1,     26,     26,2,20060203,  36,-56.3092, -75.5027, 4082,    406.3,   4.8172,  34.1412,2,  34.1398,2,    292.3,2,    292.6,2,     7.15,2,    22.16,2,     0.00,2,     1.57,2,   4.7859
  316N20060130,AAIW06,   143,  1,     25,     25,2,20060203,  36,-56.3092, -75.5027, 4082,    456.3,   4.7894,  34.1475,2,  34.1480,2,    286.7,2,    286.3,2,     8.12,2,    22.94,2,     0.00,2,     1.61,2,   4.7542
  316N20060130,AAIW06,   143,  1,     24,     24,2,20060203,  36,-56.3092, -75.5027, 4082,    506.0,   4.8224,  34.1702,2,  34.1696,2,    279.9,2,    274.0,2,    10.30,2,    24.08,2,     0.00,2,     1.69,2,   4.7830
  316N20060130,AAIW06,   143,  1,     23,     23,2,20060203,  36,-56.3092, -75.5027, 4082,    606.3,   4.7231,  34.2017,2,  34.1998,2,    253.2,2,    251.9,2,    14.87,2,    26.20,2,     0.00,2,     1.83,2,   4.6759
  316N20060130,AAIW06,   143,  1,     22,     22,2,20060203,  36,-56.3092, -75.5027, 4082,    704.0,   4.2473,  34.2038,2,  34.2015,2,    246.0,2,    242.7,2,    20.04,2,    27.77,2,     0.00,2,     1.94,2,   4.1946
  316N20060130,AAIW06,   143,  1,     20,     20,2,20060203,  36,-56.3092, -75.5027, 4082,    804.5,   4.0308,  34.2547,2,  34.2521,2,    222.0,2,    224.4,2,    27.19,2,    29.74,2,     0.00,2,     2.07,2,   3.9713
  316N20060130,AAIW06,   143,  1,     21,     21,9,20060203,  36,-56.3092, -75.5027, 4082,    805.9,   4.0299,  34.2544,2,-999.0000,9,   -999.0,9,   -999.0,9,  -999.00,9,  -999.00,9,  -999.00,9,  -999.00,9,   3.9702
  316N20060130,AAIW06,   143,  1,     19,     19,2,20060203,  36,-56.3092, -75.5027, 4082,    905.1,   3.6382,  34.2781,2,  34.2774,2,    215.3,2,    216.2,2,    33.17,2,    30.94,2,     0.00,2,     2.16,2,   3.5732
  316N20060130,AAIW06,   143,  1,     18,     18,2,20060203,  36,-56.3092, -75.5027, 4082,   1004.1,   3.2321,  34.3178,2,  34.3168,2,    207.3,2,    206.2,2,    41.52,2,    32.17,2,     0.00,2,     2.25,2,   3.1624
  316N20060130,AAIW06,   143,  1,     17,     17,2,20060203,  36,-56.3092, -75.5027, 4082,   1103.0,   3.0661,  34.3634,2,  34.3621,2,    195.6,2,    195.2,2,    48.90,2,    32.96,2,     0.00,2,     2.32,2,   2.9900
  316N20060130,AAIW06,   143,  1,     16,     16,2,20060203,  36,-56.3092, -75.5027, 4082,   1203.7,   2.9166,  34.4177,2,  34.4171,2,    184.9,2,    184.6,2,    56.28,2,    33.54,2,     0.00,2,     2.36,2,   2.8339
  316N20060130,AAIW06,   143,  1,     15,     15,2,20060203,  36,-56.3092, -75.5027, 4082,   1304.5,   2.7677,  34.4586,2,  34.4569,2,    178.3,2,    178.7,2,    62.26,2,    33.89,2,     0.00,2,     2.38,2,   2.6785
  316N20060130,AAIW06,   143,  1,     14,     14,2,20060203,  36,-56.3092, -75.5027, 4082,   1405.2,   2.6989,  34.5109,2,  34.5132,2,    168.7,2,    163.0,2,    71.67,2,    34.73,2,     0.00,2,     2.45,2,   2.6023
  316N20060130,AAIW06,   143,  1,     13,     13,2,20060203,  36,-56.3092, -75.5027, 4082,   1503.3,   2.5719,  34.5376,2,  34.5348,2,    169.2,2,    170.9,2,    71.64,2,    33.94,2,     0.00,2,     2.38,2,   2.4688
  316N20060130,AAIW06,   143,  1,     12,     12,2,20060203,  36,-56.3092, -75.5027, 4082,   1602.7,   2.5126,  34.5723,2,  34.5706,2,    162.2,2,    162.3,2,    78.45,2,    34.28,2,     0.00,2,     2.42,2,   2.4021
  316N20060130,AAIW06,   143,  1,     11,     11,2,20060203,  36,-56.3092, -75.5027, 4082,   1703.2,   2.4195,  34.6031,2,  34.6012,2,    164.9,2,    163.3,2,    81.86,2,    34.04,2,     0.00,2,     2.39,2,   2.3019
  316N20060130,AAIW06,   143,  1,     10,     10,9,20060203,  36,-56.3092, -75.5027, 4082,   1805.8,   2.3528,  34.6246,2,-999.0000,9,   -999.0,9,   -999.0,9,  -999.00,9,  -999.00,9,  -999.00,9,  -999.00,9,   2.2275
  316N20060130,AAIW06,   143,  1,      9,      9,2,20060203,  36,-56.3092, -75.5027, 4082,   1906.2,   2.2821,  34.6416,2,  34.6428,2,    162.7,2,    162.6,2,    88.90,2,    33.74,2,     0.00,2,     2.37,2,   2.1493
  316N20060130,AAIW06,   143,  1,      8,      8,2,20060203,  36,-56.3092, -75.5027, 4082,   2003.9,   2.2339,  34.6608,2,  34.6619,2,    168.7,2,    168.0,2,    87.47,2,    33.05,2,     0.00,2,     2.34,2,   2.0934
  316N20060130,AAIW06,   143,  1,      7,      7,2,20060203,  36,-56.3092, -75.5027, 4082,   2259.8,   2.0451,  34.6799,2,  34.6784,2,    164.0,2,    164.4,2,    99.98,2,    33.44,2,     0.00,2,     2.36,2,   1.8854
  316N20060130,AAIW06,   143,  1,      6,      6,2,20060203,  36,-56.3092, -75.5027, 4082,   2511.0,   1.9208,  34.6996,2,  34.6988,2,    175.4,2,    171.1,2,   101.78,2,    32.74,2,     0.00,2,     2.32,2,   1.7408
  316N20060130,AAIW06,   143,  1,      5,      5,2,20060203,  36,-56.3092, -75.5027, 4082,   2762.7,   1.7879,  34.7123,2,  34.7110,2,    178.5,2,    178.5,2,   102.79,2,    32.26,2,     0.00,2,     2.27,2,   1.5872
  316N20060130,AAIW06,   143,  1,      4,      4,2,20060203,  36,-56.3092, -75.5027, 4082,   3014.9,   1.6195,  34.7179,2,  34.7167,2,    183.9,2,    184.7,2,   106.01,2,    32.00,2,     0.00,2,     2.25,2,   1.3984
  316N20060130,AAIW06,   143,  1,      3,      3,2,20060203,  36,-56.3092, -75.5027, 4082,   3317.5,   1.4330,  34.7223,2,  34.7212,2,    193.0,2,    192.3,2,   107.83,2,    31.61,2,     0.00,2,     2.22,2,   1.1866
  316N20060130,AAIW06,   143,  1,      2,      2,2,20060203,  36,-56.3092, -75.5027, 4082,   3721.5,   1.0959,  34.7159,2,  34.7145,2,    200.1,2,    199.1,2,   117.98,2,    31.81,2,     0.00,2,     2.23,2,   0.8173
  316N20060130,AAIW06,   143,  1,      1,      1,2,20060203,  36,-56.3092, -75.5027, 4082,   4181.1,   0.7849,  34.7096,2,  34.7099,2,    206.8,2,    206.9,2,   127.36,2,    32.11,2,     0.00,2,     2.25,2,   0.4668