BOTTLE,20081218PRINUNIVRMK
EXPOCODE,SECT_ID,STNNBR,CASTNO,SAMPNO,BTLNBR,BTLNBR_FLAG_W,DATE,TIME,LATITUDE,LONGITUDE,DEPTH,CTDPRS,CTDTMP,CTDSAL,CTDSAL_FLAG_W,SALNTY,SALNTY_FLAG_W,CTDOXY,CTDOXY_FLAG_W,OXYGEN,OXYGEN_FLAG_W,SILCAT,SILCAT_FLAG_W,NITRAT,NITRAT_FLAG_W,NITRIT,NITRIT_FLAG_W,PHSPHT,PHSPHT_FLAG_W,THETA
,,,,,,,,,,,METERS,DBARS,ITS-90,PSS-78,,PSS-78,,UMOL/KG,,UMOL/KG,,UMOL/KG,,UMOL/KG,,UMOL/KG,,UMOL/KG,,DEGC
  316N20060130,AAIW06,   150,  1,     36,     36,2,20060205, 223,-59.8567, -76.9648, 4880,      7.5,   6.7244,  33.9744,2,  33.9724,2,    298.7,2,    298.9,2,     0.00,2,    19.86,2,     0.21,2,     1.40,2,   6.7237
  316N20060130,AAIW06,   150,  1,     35,     35,2,20060205, 223,-59.8567, -76.9648, 4880,     27.0,   6.7134,  33.9737,2,  33.9732,2,    300.0,2,    299.1,2,     0.00,2,    19.86,2,     0.21,2,     1.40,2,   6.7110
  316N20060130,AAIW06,   150,  1,     34,     34,2,20060205, 223,-59.8567, -76.9648, 4880,     53.0,   6.5182,  33.9739,2,  33.9744,2,    300.9,2,    300.8,2,     0.00,2,    19.92,2,     0.21,2,     1.42,2,   6.5136
  316N20060130,AAIW06,   150,  1,     33,     33,2,20060205, 223,-59.8567, -76.9648, 4880,     77.4,   4.2269,  33.9953,2,  33.9939,2,    312.5,2,    311.9,2,     1.58,2,    21.89,2,     0.21,2,     1.80,2,   4.2215
  316N20060130,AAIW06,   150,  1,     32,     32,2,20060205, 223,-59.8567, -76.9648, 4880,     97.3,   3.8063,  34.0088,2,  34.0024,0,    307.7,2,    307.9,2,     6.78,2,    23.16,2,     0.43,2,     1.77,2,   3.7998
  316N20060130,AAIW06,   150,  1,     31,     31,2,20060205, 223,-59.8567, -76.9648, 4880,    132.1,   3.5771,  34.0201,2,  34.0192,2,    304.2,2,    304.4,2,    10.18,2,    24.54,2,     0.03,2,     1.74,2,   3.5685
  316N20060130,AAIW06,   150,  1,     30,     30,2,20060205, 223,-59.8567, -76.9648, 4880,    177.3,   3.4225,  34.0328,2,  34.0341,2,    293.2,2,    297.2,2,    12.16,2,    25.44,2,     0.01,2,     1.79,2,   3.4112
  316N20060130,AAIW06,   150,  1,     29,     29,2,20060205, 223,-59.8567, -76.9648, 4880,    226.6,   3.2148,  34.0459,2,  34.0436,2,    292.1,2,    292.8,2,    14.54,2,    26.29,2,     0.01,2,     1.85,2,   3.2006
  316N20060130,AAIW06,   150,  1,     28,     28,2,20060205, 223,-59.8567, -76.9648, 4880,    277.1,   3.1016,  34.0741,2,  34.0710,0,    282.6,2,    283.1,2,    17.73,2,    27.34,2,     0.01,2,     1.92,2,   3.0844
  316N20060130,AAIW06,   150,  1,     27,     27,2,20060205, 223,-59.8567, -76.9648, 4880,    327.0,   2.9882,  34.0965,2,  34.0941,2,    274.9,2,    276.0,2,    20.32,2,    28.08,2,     0.01,2,     1.96,2,   2.9680
  316N20060130,AAIW06,   150,  1,     26,     26,2,20060205, 223,-59.8567, -76.9648, 4880,    376.5,   3.2656,  34.1635,2,  34.1628,2,    251.9,2,    252.0,2,    24.91,2,    29.32,2,     0.01,2,     2.04,2,   3.2413
  316N20060130,AAIW06,   150,  1,     25,     25,2,20060205, 223,-59.8567, -76.9648, 4880,    427.4,   3.1675,  34.1878,2,  34.1886,2,    246.0,2,    244.3,2,    28.30,2,    30.11,2,     0.01,2,     2.10,2,   3.1401
  316N20060130,AAIW06,   150,  1,     24,     24,2,20060205, 223,-59.8567, -76.9648, 4880,    477.5,   2.5512,  34.1643,2,  34.1604,0,    255.8,2,    256.3,2,    30.08,2,    30.31,2,     0.01,2,     2.12,2,   2.5228
  316N20060130,AAIW06,   150,  1,     23,     23,2,20060205, 223,-59.8567, -76.9648, 4880,    526.9,   2.4019,  34.1758,2,  34.1761,2,    253.8,2,    253.7,2,    32.47,2,    30.76,2,     0.01,2,     2.15,2,   2.3709
  316N20060130,AAIW06,   150,  1,     22,     22,2,20060205, 223,-59.8567, -76.9648, 4880,    647.0,   2.6249,  34.2869,2,  34.2856,2,    217.2,2,    216.5,2,    44.53,2,    32.74,2,     0.00,2,     2.29,2,   2.5849
  316N20060130,AAIW06,   150,  1,     20,     20,2,20060205, 223,-59.8567, -76.9648, 4880,    746.4,   2.6287,  34.3810,2,  34.3797,2,    196.2,2,    193.5,2,    55.17,2,    33.88,2,     0.00,2,     2.37,2,   2.5819
  316N20060130,AAIW06,   150,  1,     21,     21,9,20060205, 223,-59.8567, -76.9648, 4880,    746.6,   2.6281,  34.3811,2,-999.0000,9,   -999.0,9,   -999.0,9,  -999.00,9,  -999.00,9,  -999.00,9,  -999.00,9,   2.5812
  316N20060130,AAIW06,   150,  1,     19,     19,2,20060205, 223,-59.8567, -76.9648, 4880,    846.4,   2.6732,  34.4478,2,  34.4477,2,    183.2,2,    181.5,2,    61.59,2,    34.07,2,     0.00,2,     2.39,2,   2.6190
  316N20060130,AAIW06,   150,  1,     18,     18,2,20060205, 223,-59.8567, -76.9648, 4880,    946.4,   2.5517,  34.4964,2,  34.4973,2,    176.7,2,    176.2,2,    67.42,2,    34.18,2,     0.00,2,     2.40,2,   2.4912
  316N20060130,AAIW06,   150,  1,     17,     17,2,20060205, 223,-59.8567, -76.9648, 4880,   1047.7,   2.4850,  34.5499,2,  34.5484,2,    173.1,2,    172.2,2,    72.24,2,    33.97,2,     0.00,2,     2.39,2,   2.4176
  316N20060130,AAIW06,   150,  1,     16,     16,2,20060205, 223,-59.8567, -76.9648, 4880,   1147.3,   2.4047,  34.5864,2,  34.5849,2,    171.2,2,    170.8,2,    76.06,2,    33.78,2,     0.00,2,     2.37,2,   2.3306
  316N20060130,AAIW06,   150,  1,     15,     15,2,20060205, 223,-59.8567, -76.9648, 4880,   1246.8,   2.3526,  34.6107,2,  34.6038,0,    170.9,2,    170.8,2,    78.25,2,    33.52,2,     0.00,2,     2.35,2,   2.2716
  316N20060130,AAIW06,   150,  1,     14,     14,2,20060205, 223,-59.8567, -76.9648, 4880,   1347.8,   2.2908,  34.6398,2,  34.6402,2,    170.9,2,    171.2,2,    81.06,2,    33.12,2,     0.00,2,     2.34,2,   2.2027
  316N20060130,AAIW06,   150,  1,     13,     13,2,20060205, 223,-59.8567, -76.9648, 4880,   1447.4,   2.2252,  34.6627,2,  34.6638,2,    173.0,2,    173.3,2,    82.65,2,    32.83,2,     0.00,2,     2.31,2,   2.1301
  316N20060130,AAIW06,   150,  1,     12,     12,2,20060205, 223,-59.8567, -76.9648, 4880,   1548.1,   2.1695,  34.6793,2,  34.6795,2,    175.1,2,    175.1,2,    84.85,2,    32.52,2,     0.00,2,     2.29,2,   2.0672
  316N20060130,AAIW06,   150,  1,     11,     11,2,20060205, 223,-59.8567, -76.9648, 4880,   1649.3,   2.0928,  34.6959,2,  34.6923,0,    176.8,2,    177.1,2,    86.86,2,    32.18,2,     0.00,2,     2.27,2,   1.9835
  316N20060130,AAIW06,   150,  1,     10,     10,2,20060205, 223,-59.8567, -76.9648, 4880,   1749.8,   2.0332,  34.7054,2,  34.7035,2,    178.5,2,    178.7,2,    88.85,2,    32.03,2,     0.00,2,     2.25,2,   1.9166
  316N20060130,AAIW06,   150,  1,      9,      9,2,20060205, 223,-59.8567, -76.9648, 4880,   1950.3,   1.8782,  34.7206,2,  34.7224,2,    182.8,2,    183.1,2,    93.29,2,    31.68,2,     0.00,2,     2.23,2,   1.7474
  316N20060130,AAIW06,   150,  1,      8,      8,2,20060205, 223,-59.8567, -76.9648, 4880,   2160.8,   1.7047,  34.7242,2,  34.7250,2,    185.7,2,    185.9,2,    97.54,2,    31.67,2,     0.00,2,     2.23,2,   1.5591
  316N20060130,AAIW06,   150,  1,      7,      7,2,20060205, 223,-59.8567, -76.9648, 4880,   2464.2,   1.5206,  34.7251,2,  34.7258,2,    189.8,2,    190.2,2,   104.85,2,    31.72,2,     0.00,2,     2.23,2,   1.3521
  316N20060130,AAIW06,   150,  1,      6,      6,2,20060205, 223,-59.8567, -76.9648, 4880,   2766.7,   1.3427,  34.7241,2,  34.7252,2,    194.6,2,    194.6,2,   108.90,2,    31.67,2,     0.00,2,     2.23,2,   1.1507
  316N20060130,AAIW06,   150,  1,      5,      5,2,20060205, 223,-59.8567, -76.9648, 4880,   3068.3,   1.1626,  34.7200,2,  34.7201,2,    198.6,2,    198.7,2,   114.40,2,    31.82,2,     0.00,2,     2.23,2,   0.9466
  316N20060130,AAIW06,   150,  1,      4,      4,2,20060205, 223,-59.8567, -76.9648, 4880,   3420.4,   0.9521,  34.7142,2,  34.7132,2,    202.5,2,    202.7,2,   120.94,2,    31.98,2,     0.00,2,     2.24,2,   0.7074
  316N20060130,AAIW06,   150,  1,      3,      3,2,20060205, 223,-59.8567, -76.9648, 4880,   3825.8,   0.7276,  34.7083,2,  34.7099,0,    207.1,2,    206.9,2,   127.09,2,    32.22,2,     0.00,2,     2.26,2,   0.4483
  316N20060130,AAIW06,   150,  1,      2,      2,2,20060205, 223,-59.8567, -76.9648, 4880,   4335.2,   0.5412,  34.7057,2,  34.7060,2,    211.3,2,    210.9,2,   134.90,2,    32.42,2,     0.00,2,     2.27,2,   0.2139
  316N20060130,AAIW06,   150,  1,      1,      1,2,20060205, 223,-59.8567, -76.9648, 4880,   4917.6,   0.5369,  34.7044,2,  34.7060,0,    212.1,2,    212.1,2,   137.97,2,    32.42,2,     0.00,2,     2.27,2,   0.1448
  316N20060130,AAIW06,   151,  1,     36,     36,2,20060205,1106,-59.2623, -77.8940, 4891,      5.3,   6.9013,  33.9809,2,  33.9814,2,    298.6,2,    299.5,2,     0.00,2,    19.74,2,     0.20,2,     1.36,2,   6.9008
  316N20060130,AAIW06,   151,  1,     35,     35,2,20060205,1106,-59.2623, -77.8940, 4891,     27.7,   6.8965,  33.9810,2,-999.0000,9,   -999.0,9,   -999.0,9,  -999.00,9,  -999.00,9,  -999.00,9,  -999.00,9,   6.8940
  316N20060130,AAIW06,   151,  1,     34,     34,2,20060205,1106,-59.2623, -77.8940, 4891,     27.8,   6.8981,  33.9808,2,-999.0000,9,   -999.0,9,   -999.0,9,  -999.00,9,  -999.00,9,  -999.00,9,  -999.00,9,   6.8956
  316N20060130,AAIW06,   151,  1,     33,     33,2,20060205,1106,-59.2623, -77.8940, 4891,     27.9,   6.8970,  33.9808,2,  33.9812,2,    300.1,2,    298.5,2,     0.00,2,    19.78,2,     0.20,2,     1.36,2,   6.8945
  316N20060130,AAIW06,   151,  1,     32,     32,2,20060205,1106,-59.2623, -77.8940, 4891,     53.5,   6.8061,  33.9832,2,  33.9829,2,    300.3,2,    299.2,2,     0.00,2,    19.73,2,     0.20,2,     1.36,2,   6.8013
  316N20060130,AAIW06,   151,  1,     31,     31,2,20060205,1106,-59.2623, -77.8940, 4891,     78.0,   4.8534,  34.0336,2,  34.0323,2,    301.3,2,    302.2,2,     0.39,2,    21.01,2,     0.22,2,     1.76,2,   4.8476
  316N20060130,AAIW06,   151,  1,     30,     30,2,20060205,1106,-59.2623, -77.8940, 4891,    127.7,   4.2694,  34.0677,2,  34.0674,2,    287.6,2,    295.5,2,     8.54,2,    23.65,2,     0.02,2,     1.67,2,   4.2604
  316N20060130,AAIW06,   151,  1,     29,     29,2,20060205,1106,-59.2623, -77.8940, 4891,    197.8,   4.1136,  34.0797,2,  34.0800,2,    289.8,2,    287.4,2,    10.32,2,    24.57,2,     0.01,2,     1.73,2,   4.0998
  316N20060130,AAIW06,   151,  1,     28,     28,2,20060205,1106,-59.2623, -77.8940, 4891,    247.3,   3.8133,  34.0614,2,  34.0600,2,    289.2,2,    287.4,2,    11.50,2,    25.23,2,     0.01,2,     1.77,2,   3.7966
  316N20060130,AAIW06,   151,  1,     27,     27,2,20060205,1106,-59.2623, -77.8940, 4891,    296.1,   3.7234,  34.0813,2,  34.0804,2,    289.7,2,    281.3,2,    13.68,2,    25.77,2,     0.01,2,     1.83,2,   3.7034
  316N20060130,AAIW06,   151,  1,     26,     26,2,20060205,1106,-59.2623, -77.8940, 4891,    346.4,   3.4126,  34.0757,2,  34.0753,2,    277.7,2,    279.9,2,    16.06,2,    26.88,2,     0.01,2,     1.89,2,   3.3900
  316N20060130,AAIW06,   151,  1,     25,     25,2,20060205,1106,-59.2623, -77.8940, 4891,    394.4,   3.6579,  34.1476,2,  34.1482,2,    256.6,2,    257.6,2,    20.03,2,    28.13,2,     0.01,2,     1.95,2,   3.6312
  316N20060130,AAIW06,   151,  1,     24,     24,2,20060205,1106,-59.2623, -77.8940, 4891,    443.8,   3.3118,  34.1369,2,  34.1353,2,    252.0,2,    261.8,2,    21.61,2,    28.48,2,     0.01,2,     1.98,2,   3.2828
  316N20060130,AAIW06,   151,  1,     23,     23,2,20060205,1106,-59.2623, -77.8940, 4891,    492.8,   3.6339,  34.2202,2,  34.2204,2,    226.3,2,    233.1,2,    27.17,2,    29.88,2,     0.01,2,     2.08,2,   3.6002
  316N20060130,AAIW06,   151,  1,     21,     21,9,20060205,1106,-59.2623, -77.8940, 4891,    576.1,   3.2642,  34.2502,2,-999.0000,9,   -999.0,9,   -999.0,9,  -999.00,9,  -999.00,9,  -999.00,9,  -999.00,9,   3.2261
  316N20060130,AAIW06,   151,  1,     22,     22,2,20060205,1106,-59.2623, -77.8940, 4891,    576.2,   3.2650,  34.2503,2,  34.2510,2,    218.8,2,    223.7,2,    34.13,2,    31.18,2,     0.00,2,     2.18,2,   3.2268
  316N20060130,AAIW06,   151,  1,     20,     20,2,20060205,1106,-59.2623, -77.8940, 4891,    675.4,   3.1763,  34.3170,2,  34.3163,2,    205.7,2,    206.2,2,    41.89,2,    32.34,2,     0.00,2,     2.27,2,   3.1314
  316N20060130,AAIW06,   151,  1,     19,     19,2,20060205,1106,-59.2623, -77.8940, 4891,    774.8,   2.9911,  34.3687,2,  34.3685,2,    193.5,2,    194.5,2,    49.86,2,    33.19,2,     0.00,2,     2.32,2,   2.9401
  316N20060130,AAIW06,   151,  1,     18,     18,2,20060205,1106,-59.2623, -77.8940, 4891,    873.3,   2.8227,  34.4148,2,  34.4154,2,    185.4,2,    186.0,2,    56.04,2,    33.69,2,     0.00,2,     2.37,2,   2.7656
  316N20060130,AAIW06,   151,  1,     17,     17,2,20060205,1106,-59.2623, -77.8940, 4891,    972.1,   2.6691,  34.4660,2,  34.4676,2,    179.9,2,    179.3,2,    62.63,2,    33.88,2,     0.00,2,     2.38,2,   2.6059
  316N20060130,AAIW06,   151,  1,     16,     16,2,20060205,1106,-59.2623, -77.8940, 4891,   1071.2,   2.5515,  34.5158,2,  34.5176,2,    175.2,2,    175.0,2,    68.22,2,    33.98,2,     0.00,2,     2.38,2,   2.4819
  316N20060130,AAIW06,   151,  1,     15,     15,2,20060205,1106,-59.2623, -77.8940, 4891,   1172.5,   2.4680,  34.5532,2,  34.5532,2,    172.3,2,    172.4,2,    72.23,2,    33.82,2,     0.00,2,     2.37,2,   2.3916
  316N20060130,AAIW06,   151,  1,     14,     14,2,20060205,1106,-59.2623, -77.8940, 4891,   1272.9,   2.3860,  34.5843,2,  34.5838,2,    171.7,2,    171.6,2,    75.03,2,    33.67,2,     0.00,2,     2.36,2,   2.3028
  316N20060130,AAIW06,   151,  1,     13,     13,2,20060205,1106,-59.2623, -77.8940, 4891,   1373.0,   2.3234,  34.6255,2,  34.6270,2,    171.2,2,    171.0,2,    79.03,2,    33.30,2,     0.00,2,     2.34,2,   2.2331
  316N20060130,AAIW06,   151,  1,     12,     12,2,20060205,1106,-59.2623, -77.8940, 4891,   1474.3,   2.2531,  34.6520,2,  34.6539,2,    172.5,2,    172.4,2,    81.44,2,    32.90,2,     0.00,2,     2.31,2,   2.1557
  316N20060130,AAIW06,   151,  1,     11,     11,2,20060205,1106,-59.2623, -77.8940, 4891,   1574.4,   2.1977,  34.6713,2,  34.6724,2,    174.0,2,    174.0,2,    82.84,2,    32.59,2,     0.00,2,     2.29,2,   2.0930
  316N20060130,AAIW06,   151,  1,     10,     10,2,20060205,1106,-59.2623, -77.8940, 4891,   1674.2,   2.1446,  34.6867,2,  34.6895,2,    175.8,2,    175.9,2,    84.85,2,    32.29,2,     0.00,2,     2.27,2,   2.0326
  316N20060130,AAIW06,   151,  1,      9,      9,2,20060205,1106,-59.2623, -77.8940, 4891,   1873.4,   2.0054,  34.7099,2,  34.7105,2,    179.4,2,    179.5,2,    89.28,2,    31.83,2,     0.00,2,     2.24,2,   1.8791
  316N20060130,AAIW06,   151,  1,      8,      8,2,20060205,1106,-59.2623, -77.8940, 4891,   2173.9,   1.7786,  34.7220,2,  34.7223,2,    183.9,2,    184.0,2,    96.94,2,    31.72,2,     0.00,2,     2.23,2,   1.6306
  316N20060130,AAIW06,   151,  1,      7,      7,2,20060205,1106,-59.2623, -77.8940, 4891,   2535.0,   1.5283,  34.7275,2,  34.7284,2,    190.5,2,    191.2,2,   102.81,2,    31.46,2,     0.00,2,     2.21,2,   1.3534
  316N20060130,AAIW06,   151,  1,      6,      6,2,20060205,1106,-59.2623, -77.8940, 4891,   2935.0,   1.3136,  34.7242,2,  34.7255,2,    196.1,2,    195.8,2,   109.09,2,    31.45,2,     0.00,2,     2.22,2,   1.1067
  316N20060130,AAIW06,   151,  1,      5,      5,2,20060205,1106,-59.2623, -77.8940, 4891,   3340.6,   1.0529,  34.7167,2,  34.7182,2,    200.9,2,    200.8,2,   117.83,2,    31.55,2,     0.00,2,     2.23,2,   0.8135
  316N20060130,AAIW06,   151,  1,      4,      4,2,20060205,1106,-59.2623, -77.8940, 4891,   3746.5,   0.8308,  34.7101,2,  34.7097,2,    204.9,2,    205.1,2,   124.15,2,    31.95,2,     0.00,2,     2.25,2,   0.5568
  316N20060130,AAIW06,   151,  1,      3,      3,2,20060205,1106,-59.2623, -77.8940, 4891,   4151.6,   0.6239,  34.7068,2,  34.7072,2,    209.0,2,    208.9,2,   131.93,2,    32.25,2,     0.00,2,     2.26,2,   0.3138
  316N20060130,AAIW06,   151,  1,      2,      2,2,20060205,1106,-59.2623, -77.8940, 4891,   4559.1,   0.5520,  34.7054,2,  34.7038,2,    210.9,2,    210.9,2,   136.24,2,    32.30,2,     0.00,2,     2.27,2,   0.1999
  316N20060130,AAIW06,   151,  1,      1,      1,2,20060205,1106,-59.2623, -77.8940, 4891,   4965.5,   0.5567,  34.7044,2,  34.7058,0,    212.3,2,    212.3,2,   137.48,2,    32.33,2,     0.00,2,     2.27,2,   0.1584