BOTTLE,20081218PRINUNIVRMK
EXPOCODE,SECT_ID,STNNBR,CASTNO,SAMPNO,BTLNBR,BTLNBR_FLAG_W,DATE,TIME,LATITUDE,LONGITUDE,DEPTH,CTDPRS,CTDTMP,CTDSAL,CTDSAL_FLAG_W,SALNTY,SALNTY_FLAG_W,CTDOXY,CTDOXY_FLAG_W,OXYGEN,OXYGEN_FLAG_W,SILCAT,SILCAT_FLAG_W,NITRAT,NITRAT_FLAG_W,NITRIT,NITRIT_FLAG_W,PHSPHT,PHSPHT_FLAG_W,THETA
,,,,,,,,,,,METERS,DBARS,ITS-90,PSS-78,,PSS-78,,UMOL/KG,,UMOL/KG,,UMOL/KG,,UMOL/KG,,UMOL/KG,,UMOL/KG,,DEGC
  316N20060130,AAIW06,   178,  1,     36,     36,2,20060214,1231,-62.0112, -88.9912, 4722,      4.7,   5.2322,  33.8901,2,  33.8913,2,    306.4,2,    307.0,2,     1.39,2,    22.37,2,     0.23,2,     1.48,2,   5.2318
  316N20060130,AAIW06,   178,  1,     33,     33,2,20060214,1231,-62.0112, -88.9912, 4722,     15.7,   5.2291,  33.8899,2,  33.8893,2,    307.3,2,    306.1,2,     1.38,2,    22.37,2,     0.23,2,     1.48,2,   5.2279
  316N20060130,AAIW06,   178,  1,     35,     35,2,20060214,1231,-62.0112, -88.9912, 4722,     15.9,   5.2292,  33.8899,2,-999.0000,9,   -999.0,9,   -999.0,9,  -999.00,9,  -999.00,9,  -999.00,9,  -999.00,9,   5.2280
  316N20060130,AAIW06,   178,  1,     34,     34,2,20060214,1231,-62.0112, -88.9912, 4722,     16.2,   5.2294,  33.8898,2,-999.0000,9,   -999.0,9,   -999.0,9,  -999.00,9,  -999.00,9,  -999.00,9,  -999.00,9,   5.2282
  316N20060130,AAIW06,   178,  1,     32,     32,2,20060214,1231,-62.0112, -88.9912, 4722,     41.4,   5.2114,  33.8924,2,-999.0000,9,    308.0,2,    306.5,2,     1.36,2,    22.37,2,     0.22,2,     1.48,2,   5.2082
  316N20060130,AAIW06,   178,  1,     31,     31,2,20060214,1231,-62.0112, -88.9912, 4722,     66.2,   3.1240,  33.9910,2,-999.0000,9,    318.9,2,    312.5,2,    11.49,2,    24.61,2,     0.34,2,     1.88,2,   3.1200
  316N20060130,AAIW06,   178,  1,     30,     30,2,20060214,1231,-62.0112, -88.9912, 4722,     95.9,   2.7403,  34.0046,2,-999.0000,9,    306.0,2,    305.9,2,    15.84,2,    26.24,2,     0.25,2,     1.88,2,   2.7348
  316N20060130,AAIW06,   178,  1,     29,     29,2,20060214,1231,-62.0112, -88.9912, 4722,    139.8,   2.5376,  34.0202,2,-999.0000,9,    299.0,2,    299.2,2,    18.22,2,    27.10,2,     0.01,2,     1.91,2,   2.5297
  316N20060130,AAIW06,   178,  1,     28,     28,2,20060214,1231,-62.0112, -88.9912, 4722,    190.7,   2.3009,  34.0287,2,-999.0000,9,    297.0,2,    297.3,2,    20.18,2,    27.71,2,     0.01,2,     1.95,2,   2.2904
  316N20060130,AAIW06,   178,  1,     27,     27,2,20060214,1231,-62.0112, -88.9912, 4722,    240.7,   2.4218,  34.0738,2,-999.0000,9,    282.9,2,    283.4,2,    23.35,2,    28.48,2,     0.00,2,     2.00,2,   2.4082
  316N20060130,AAIW06,   178,  1,     26,     26,2,20060214,1231,-62.0112, -88.9912, 4722,    290.8,   2.1497,  34.0867,2,  34.0890,2,    280.9,2,    280.0,2,    28.11,2,    29.25,2,     0.00,2,     2.05,2,   2.1338
  316N20060130,AAIW06,   178,  1,     25,     25,2,20060214,1231,-62.0112, -88.9912, 4722,    340.5,   2.1203,  34.1440,2,-999.0000,9,    262.0,2,    262.2,2,    33.06,2,    30.45,2,     0.00,2,     2.14,2,   2.1016
  316N20060130,AAIW06,   178,  1,     24,     24,2,20060214,1231,-62.0112, -88.9912, 4722,    390.3,   2.1344,  34.1819,2,-999.0000,9,    250.7,2,    250.9,2,    37.42,2,    31.27,2,     0.00,2,     2.19,2,   2.1127
  316N20060130,AAIW06,   178,  1,     23,     23,2,20060214,1231,-62.0112, -88.9912, 4722,    439.1,   2.6021,  34.2815,2,-999.0000,9,    216.7,2,    217.3,2,    44.56,2,    32.29,2,     0.00,2,     2.29,2,   2.5758
  316N20060130,AAIW06,   178,  1,     22,     22,2,20060214,1231,-62.0112, -88.9912, 4722,    489.9,   2.6507,  34.3336,2,-999.0000,9,    207.8,2,    202.2,2,    50.12,2,    33.17,2,     0.00,2,     2.34,2,   2.6209
  316N20060130,AAIW06,   178,  1,     21,     21,9,20060214,1231,-62.0112, -88.9912, 4722,    490.2,   2.6488,  34.3336,2,-999.0000,9,   -999.0,9,   -999.0,9,  -999.00,9,  -999.00,9,  -999.00,9,  -999.00,9,   2.6190
  316N20060130,AAIW06,   178,  1,     20,     20,2,20060214,1231,-62.0112, -88.9912, 4722,    574.5,   2.5799,  34.3940,2,-999.0000,9,    192.9,2,    190.1,2,    57.67,2,    33.89,2,     0.00,2,     2.37,2,   2.5449
  316N20060130,AAIW06,   178,  1,     19,     19,2,20060214,1231,-62.0112, -88.9912, 4722,    674.9,   2.5219,  34.4627,2,-999.0000,9,    180.9,2,    180.1,2,    64.84,2,    34.09,2,     0.00,2,     2.40,2,   2.4804
  316N20060130,AAIW06,   178,  1,     18,     18,2,20060214,1231,-62.0112, -88.9912, 4722,    773.6,   2.4414,  34.5198,2,-999.0000,9,    175.2,2,    174.5,2,    70.01,2,    34.10,2,     0.00,2,     2.39,2,   2.3936
  316N20060130,AAIW06,   178,  1,     17,     17,2,20060214,1231,-62.0112, -88.9912, 4722,    873.9,   2.3761,  34.5609,2,-999.0000,9,    172.8,2,    172.7,2,    73.80,2,    33.85,2,     0.00,2,     2.37,2,   2.3218
  316N20060130,AAIW06,   178,  1,     16,     16,2,20060214,1231,-62.0112, -88.9912, 4722,    974.0,   2.3071,  34.6022,2,-999.0000,9,    172.2,2,    172.1,2,    76.98,2,    33.48,2,     0.00,2,     2.35,2,   2.2463
  316N20060130,AAIW06,   178,  1,     15,     15,2,20060214,1231,-62.0112, -88.9912, 4722,   1074.8,   2.2758,  34.6316,2,-999.0000,9,    172.3,2,    172.1,2,    79.76,2,    33.02,2,     0.00,2,     2.34,2,   2.2080
  316N20060130,AAIW06,   178,  1,     14,     14,2,20060214,1231,-62.0112, -88.9912, 4722,   1175.7,   2.2255,  34.6557,2,-999.0000,9,    173.9,2,    173.7,2,    81.75,2,    32.71,2,     0.00,2,     2.30,2,   2.1508
  316N20060130,AAIW06,   178,  1,     13,     13,2,20060214,1231,-62.0112, -88.9912, 4722,   1275.3,   2.1660,  34.6767,2,-999.0000,9,   -999.0,9,   -999.0,9,    83.74,2,    32.36,2,     0.00,2,     2.27,2,   2.0846
  316N20060130,AAIW06,   178,  1,     12,     12,2,20060214,1231,-62.0112, -88.9912, 4722,   1476.4,   2.0314,  34.7074,2,-999.0000,9,    180.9,2,    181.1,2,    86.12,2,    31.63,2,     0.00,2,     2.22,2,   1.9362
  316N20060130,AAIW06,   178,  1,     11,     11,2,20060214,1231,-62.0112, -88.9912, 4722,   1675.0,   1.8825,  34.7239,2,-999.0000,9,    185.2,2,    185.2,2,    90.72,2,    31.28,2,     0.00,2,     2.19,2,   1.7737
  316N20060130,AAIW06,   178,  1,     10,     10,2,20060214,1231,-62.0112, -88.9912, 4722,   1878.5,   1.7036,  34.7254,2,-999.0000,9,    186.7,2,    186.7,2,    98.15,2,    31.08,2,     0.00,2,     2.20,2,   1.5812
  316N20060130,AAIW06,   178,  1,      9,      9,2,20060214,1231,-62.0112, -88.9912, 4722,   2178.7,   1.4970,  34.7280,2,-999.0000,9,    191.3,2,    191.7,2,   102.97,2,    31.28,2,     0.00,2,     2.20,2,   1.3533
  316N20060130,AAIW06,   178,  1,      8,      8,2,20060214,1231,-62.0112, -88.9912, 4722,   2480.6,   1.3147,  34.7251,2,-999.0000,9,    195.0,2,    195.4,2,   109.01,2,    31.44,2,     0.00,2,     2.21,2,   1.1486
  316N20060130,AAIW06,   178,  1,      7,      7,2,20060214,1231,-62.0112, -88.9912, 4722,   2783.9,   1.1335,  34.7199,2,-999.0000,9,    199.0,2,    199.1,2,   114.46,2,    31.64,2,     0.00,2,     2.21,2,   0.9443
  316N20060130,AAIW06,   178,  1,      6,      6,2,20060214,1231,-62.0112, -88.9912, 4722,   3084.8,   0.9803,  34.7151,2,-999.0000,9,    201.8,2,    177.3,0,   119.72,2,    31.75,2,     0.00,2,     2.24,2,   0.7669
  316N20060130,AAIW06,   178,  1,      5,      5,2,20060214,1231,-62.0112, -88.9912, 4722,   3385.0,   0.8380,  34.7108,2,  34.7130,0,    204.9,2,    204.4,2,   124.98,2,    31.97,2,     0.00,2,     2.24,2,   0.5996
  316N20060130,AAIW06,   178,  1,      4,      4,2,20060214,1231,-62.0112, -88.9912, 4722,   3684.8,   0.6700,  34.7073,2,  34.7091,2,    207.8,2,    207.8,2,   129.24,2,    32.06,2,     0.00,2,     2.25,2,   0.4065
  316N20060130,AAIW06,   178,  1,      3,      3,2,20060214,1231,-62.0112, -88.9912, 4722,   4016.1,   0.5427,  34.7055,2,  34.7072,0,    210.8,2,    210.5,2,   133.31,2,    32.17,2,     0.00,2,     2.26,2,   0.2491
  316N20060130,AAIW06,   178,  1,      2,      2,2,20060214,1231,-62.0112, -88.9912, 4722,   4415.1,   0.4734,  34.7040,2,  34.7059,0,    213.0,2,    212.6,2,   136.97,2,    32.23,2,     0.00,2,     2.26,2,   0.1396
  316N20060130,AAIW06,   178,  1,      1,      1,2,20060214,1231,-62.0112, -88.9912, 4722,   4853.1,   0.4550,  34.7029,2,  34.7044,0,    214.4,2,    214.4,2,   139.62,2,    32.28,2,     0.00,2,     2.26,2,   0.0731
  316N20060130,AAIW06,   179,  1,     36,     36,3,20060214,1857,-61.4903, -89.0225, 4567,      4.0,   6.0533,  33.9274,2,  34.6780,0,    298.1,2,    206.0,0,   124.94,4,    32.29,4,     0.00,4,     2.30,4,   6.0530
  316N20060130,AAIW06,   179,  1,     35,     35,2,20060214,1857,-61.4903, -89.0225, 4567,     24.9,   6.0401,  33.9277,2,  33.9287,2,    299.1,2,    298.7,2,     1.22,2,    20.76,2,     0.21,2,     1.50,2,   6.0380
  316N20060130,AAIW06,   179,  1,     34,     34,2,20060214,1857,-61.4903, -89.0225, 4567,     49.5,   5.7228,  33.9424,2,  33.9419,2,    300.8,2,    300.9,2,     0.81,2,    20.92,2,     0.20,2,     1.54,2,   5.7188
  316N20060130,AAIW06,   179,  1,     33,     33,2,20060214,1857,-61.4903, -89.0225, 4567,     75.6,   3.7280,  33.9908,2,  33.9892,2,    310.1,2,    309.7,2,     4.18,2,    22.81,2,     0.20,2,     1.82,2,   3.7230
  316N20060130,AAIW06,   179,  1,     32,     32,9,20060214,1857,-61.4903, -89.0225, 4567,     99.7,   3.3150,  34.0035,2,-999.0000,9,   -999.0,9,   -999.0,9,  -999.00,9,  -999.00,9,  -999.00,9,  -999.00,9,   3.3088
  316N20060130,AAIW06,   179,  1,     31,     31,2,20060214,1857,-61.4903, -89.0225, 4567,    151.2,   3.2233,  34.0095,2,  34.0105,2,    307.4,2,    308.6,2,    11.95,2,    24.93,2,     0.03,2,     1.77,2,   3.2139
  316N20060130,AAIW06,   179,  1,     30,     30,2,20060214,1857,-61.4903, -89.0225, 4567,    200.4,   3.0055,  34.0160,2,-999.0000,9,    302.0,2,    301.5,2,    14.93,2,    26.24,2,     0.01,2,     1.86,2,   2.9933
  316N20060130,AAIW06,   179,  1,     29,     29,2,20060214,1857,-61.4903, -89.0225, 4567,    240.2,   2.9628,  34.0421,2,-999.0000,9,    294.0,2,    292.6,2,    17.32,2,    27.11,2,     0.00,2,     1.91,2,   2.9482
  316N20060130,AAIW06,   179,  1,     28,     28,2,20060214,1857,-61.4903, -89.0225, 4567,    270.8,   2.6119,  34.0282,2,-999.0000,9,    300.2,2,    300.8,2,    17.10,2,    27.10,2,     0.01,2,     1.91,2,   2.5962
  316N20060130,AAIW06,   179,  1,     27,     27,2,20060214,1857,-61.4903, -89.0225, 4567,    305.9,   2.7707,  34.0670,2,-999.0000,9,    291.4,2,    284.5,2,    20.28,2,    27.98,2,     0.00,2,     1.98,2,   2.7524
  316N20060130,AAIW06,   179,  1,     26,     26,2,20060214,1857,-61.4903, -89.0225, 4567,    354.9,   2.7074,  34.0974,2,-999.0000,9,    273.8,2,    275.0,2,    24.26,2,    28.80,2,     0.00,2,     2.02,2,   2.6862
  316N20060130,AAIW06,   179,  1,     25,     25,2,20060214,1857,-61.4903, -89.0225, 4567,    406.0,   2.9079,  34.1630,2,-999.0000,9,    252.6,2,    253.0,2,    28.64,2,    30.14,2,     0.00,2,     2.10,2,   2.8828
  316N20060130,AAIW06,   179,  1,     24,     24,2,20060214,1857,-61.4903, -89.0225, 4567,    454.8,   2.8396,  34.2063,2,-999.0000,9,    243.6,2,    239.8,2,    34.21,2,    31.23,2,     0.00,2,     2.19,2,   2.8115
  316N20060130,AAIW06,   179,  1,     23,     23,2,20060214,1857,-61.4903, -89.0225, 4567,    505.8,   2.7660,  34.2455,2,-999.0000,9,    232.1,2,    228.4,2,    38.99,2,    32.05,2,     0.00,2,     2.24,2,   2.7348
  316N20060130,AAIW06,   179,  1,     22,     22,2,20060214,1857,-61.4903, -89.0225, 4567,    605.8,   2.7679,  34.3345,2,-999.0000,9,    205.6,2,    202.8,2,    48.56,2,    33.37,2,     0.00,2,     2.34,2,   2.7299
  316N20060130,AAIW06,   179,  1,     21,     21,9,20060214,1857,-61.4903, -89.0225, 4567,    704.8,   2.7160,  34.4030,2,-999.0000,9,   -999.0,9,   -999.0,9,  -999.00,9,  -999.00,9,  -999.00,9,  -999.00,9,   2.6715
  316N20060130,AAIW06,   179,  1,     20,     20,2,20060214,1857,-61.4903, -89.0225, 4567,    705.8,   2.7157,  34.4030,2,-999.0000,9,    188.9,2,    188.7,2,    57.54,2,    34.09,2,     0.00,2,     2.39,2,   2.6711
  316N20060130,AAIW06,   179,  1,     19,     19,2,20060214,1857,-61.4903, -89.0225, 4567,    803.8,   2.5795,  34.4582,2,-999.0000,9,    180.4,2,    180.3,2,    64.14,2,    34.40,2,     0.00,2,     2.41,2,   2.5289
  316N20060130,AAIW06,   179,  1,     18,     18,2,20060214,1857,-61.4903, -89.0225, 4567,    906.1,   2.4911,  34.5123,2,-999.0000,9,    175.1,2,    175.3,2,    69.75,2,    34.40,2,     0.00,2,     2.41,2,   2.4339
  316N20060130,AAIW06,   179,  1,     17,     17,2,20060214,1857,-61.4903, -89.0225, 4567,   1005.4,   2.4344,  34.5586,2,-999.0000,9,    172.9,2,    172.8,2,    73.96,2,    34.08,2,     0.00,2,     2.39,2,   2.3705
  316N20060130,AAIW06,   179,  1,     16,     16,2,20060214,1857,-61.4903, -89.0225, 4567,   1107.1,   2.3574,  34.5950,2,-999.0000,9,    172.0,2,    171.8,2,    76.96,2,    33.87,2,     0.00,2,     2.39,2,   2.2867
  316N20060130,AAIW06,   179,  1,     15,     15,2,20060214,1857,-61.4903, -89.0225, 4567,   1206.6,   2.2940,  34.6288,2,-999.0000,9,    172.2,2,    172.5,2,    79.77,2,    33.45,2,     0.00,2,     2.36,2,   2.2165
  316N20060130,AAIW06,   179,  1,     14,     14,2,20060214,1857,-61.4903, -89.0225, 4567,   1306.6,   2.2429,  34.6540,2,-999.0000,9,    173.7,2,    173.6,2,    82.38,2,    33.09,2,     0.00,2,     2.33,2,   2.1584
  316N20060130,AAIW06,   179,  1,     13,     13,2,20060214,1857,-61.4903, -89.0225, 4567,   1408.0,   2.1735,  34.6767,2,-999.0000,9,    175.7,2,    175.7,2,    84.18,2,    32.57,2,     0.00,2,     2.30,2,   2.0820
  316N20060130,AAIW06,   179,  1,     12,     12,2,20060214,1857,-61.4903, -89.0225, 4567,   1507.1,   2.1141,  34.6940,2,-999.0000,9,    178.1,2,    178.5,2,    85.80,2,    32.26,2,     0.00,2,     2.26,2,   2.0156
  316N20060130,AAIW06,   179,  1,     11,     11,2,20060214,1857,-61.4903, -89.0225, 4567,   1607.8,   2.0389,  34.7074,2,-999.0000,9,    180.6,2,    181.0,2,    87.40,2,    31.79,2,     0.00,2,     2.25,2,   1.9335
  316N20060130,AAIW06,   179,  1,     10,     10,2,20060214,1857,-61.4903, -89.0225, 4567,   1808.0,   1.8895,  34.7226,2,-999.0000,9,    184.5,2,    184.9,2,    91.43,2,    31.69,2,     0.00,2,     2.24,2,   1.7701
  316N20060130,AAIW06,   179,  1,      9,      9,2,20060214,1857,-61.4903, -89.0225, 4567,   2010.1,   1.6942,  34.7234,2,-999.0000,9,    185.9,2,    186.2,2,   100.32,2,    31.84,2,     0.00,2,     2.24,2,   1.5613
  316N20060130,AAIW06,   179,  1,      8,      8,2,20060214,1857,-61.4903, -89.0225, 4567,   2261.1,   1.5359,  34.7283,2,  34.7308,0,    191.6,2,    191.8,2,   103.35,2,    31.63,2,     0.00,2,     2.22,2,   1.3846
  316N20060130,AAIW06,   179,  1,      7,      7,2,20060214,1857,-61.4903, -89.0225, 4567,   2767.2,   1.2390,  34.7226,2,  34.7238,2,    197.5,2,    197.3,2,   112.48,2,    31.84,2,     0.00,2,     2.23,2,   1.0491
  316N20060130,AAIW06,   179,  1,      6,      6,2,20060214,1857,-61.4903, -89.0225, 4567,   3018.2,   1.0845,  34.7186,2,  34.7190,2,    200.8,2,    200.7,2,   116.15,2,    31.89,2,     0.00,2,     2.24,2,   0.8749
  316N20060130,AAIW06,   179,  1,      5,      5,2,20060214,1857,-61.4903, -89.0225, 4567,   3322.4,   0.9138,  34.7126,2,  34.7134,2,    203.8,2,    203.7,2,   123.09,2,    31.99,2,     0.00,2,     2.25,2,   0.6795
  316N20060130,AAIW06,   179,  1,      4,      4,2,20060214,1857,-61.4903, -89.0225, 4567,   3677.9,   0.7485,  34.7080,2,  34.7091,2,    207.0,2,    206.8,2,   127.99,2,    32.29,2,     0.00,2,     2.26,2,   0.4836
  316N20060130,AAIW06,   179,  1,      3,      3,2,20060214,1857,-61.4903, -89.0225, 4567,   4032.0,   0.5809,  34.7059,2,  34.7069,2,    210.4,2,    210.7,2,   134.14,2,    32.44,2,     0.00,2,     2.27,2,   0.2845
  316N20060130,AAIW06,   179,  1,      2,      2,2,20060214,1857,-61.4903, -89.0225, 4567,   4337.9,   0.4966,  34.7046,2,  34.7062,2,    212.4,2,    212.4,2,   136.82,2,    32.54,2,     0.00,2,     2.28,2,   0.1704
  316N20060130,AAIW06,   179,  1,      1,      1,2,20060214,1857,-61.4903, -89.0225, 4567,   4658.8,   0.4682,  34.7036,2,  34.7053,2,    213.7,2,    213.6,2,   140.11,2,    32.48,2,     0.00,2,     2.31,2,   0.1077