BOTTLE,20081218PRINUNIVRMK
# 10/27/08 Initialized README file  
# Data source: CCHDO 10/27/08 
# SHIP: Knorr 
# Cruise: AAIW, KN182-11,SAMFLOC 
# DATES: 1/30-3/14/2006 
# EXPOCODE: 316N20060130 
# Region: SE Pacific; Puenta Arenas to Valpariso 
# Chief Scientist -B. Sloyan, L. Talley 
# 101 stations with 36 place Rosette 
# Hydro: Who - Talley, Sloyan, Swift; Status - final 
# 	Notes: 	 
# Nuts/O2: Who - Talley, Sloyan, Swift; Status - final  
# 	Notes: additional QC by Key 
# Other: Phytopigments, DNA: no data in file 
# 	ADCP 
EXPOCODE,SECT_ID,STNNBR,CASTNO,SAMPNO,BTLNBR,BTLNBR_FLAG_W,DATE,TIME,LATITUDE,LONGITUDE,DEPTH,CTDPRS,CTDTMP,CTDSAL,CTDSAL_FLAG_W,SALNTY,SALNTY_FLAG_W,CTDOXY,CTDOXY_FLAG_W,OXYGEN,OXYGEN_FLAG_W,SILCAT,SILCAT_FLAG_W,NITRAT,NITRAT_FLAG_W,NITRIT,NITRIT_FLAG_W,PHSPHT,PHSPHT_FLAG_W,THETA
,,,,,,,,,,,METERS,DBARS,ITS-90,PSS-78,,PSS-78,,UMOL/KG,,UMOL/KG,,UMOL/KG,,UMOL/KG,,UMOL/KG,,UMOL/KG,,DEGC
  316N20060130,AAIW06,   137,  1,      7,      7,2,20060201, 311,-54.9358, -72.6847,  221,      2.0,  10.5239,  33.2838,2,  33.3009,0,    276.9,2,    276.5,2,     0.62,2,     8.07,2,     0.20,2,     0.87,2,  10.5237
  316N20060130,AAIW06,   137,  1,      6,      6,2,20060201, 311,-54.9358, -72.6847,  221,     28.5,  10.4316,  33.3691,2,  33.3594,0,    276.3,2,    276.2,2,     0.40,2,     8.62,2,     0.19,2,     0.89,2,  10.4283
  316N20060130,AAIW06,   137,  1,      5,      5,2,20060201, 311,-54.9358, -72.6847,  221,     52.7,   9.9381,  33.6286,2,  33.6240,2,   -999.0,9,   -999.0,9,    -0.01,2,    11.13,2,     0.18,2,     1.00,2,   9.9322
  316N20060130,AAIW06,   137,  1,      4,      4,2,20060201, 311,-54.9358, -72.6847,  221,     78.2,   9.5777,  33.7082,2,  33.7049,2,   -999.0,9,   -999.0,9,     0.58,2,    12.56,2,     0.22,2,     1.10,2,   9.5691
  316N20060130,AAIW06,   137,  1,      3,      3,2,20060201, 311,-54.9358, -72.6847,  221,    103.2,   8.3487,  33.8301,2,  33.8286,2,    257.9,2,    257.9,2,     2.37,2,    16.75,2,     0.22,2,     1.31,3,   8.3382
  316N20060130,AAIW06,   137,  1,      2,      2,2,20060201, 311,-54.9358, -72.6847,  221,    152.8,   7.4434,  33.9467,2,  33.9439,2,   -999.0,9,   -999.0,9,     3.76,2,    20.14,2,     0.05,2,     1.01,3,   7.4289
  316N20060130,AAIW06,   137,  1,      1,      1,2,20060201, 311,-54.9358, -72.6847,  221,    202.4,   6.8295,  34.0105,2,  34.0081,2,    248.2,2,    248.1,2,     4.74,2,    21.37,2,     0.07,2,     1.10,3,   6.8111
  316N20060130,AAIW06,   138,  1,     21,     21,9,20060201, 452,-54.9735, -72.7087, 1346,      5.7,  10.4139,  33.4199,2,-999.0000,9,   -999.0,9,   -999.0,9,  -999.00,9,  -999.00,9,  -999.00,9,  -999.00,9,  10.4132
  316N20060130,AAIW06,   138,  1,     20,     20,2,20060201, 452,-54.9735, -72.7087, 1346,     25.1,  10.3899,  33.4454,2,  33.4301,0,    276.6,2,    276.1,2,     0.32,2,     8.86,2,     0.19,2,     0.41,4,  10.3870
  316N20060130,AAIW06,   138,  1,     19,     19,2,20060201, 452,-54.9735, -72.7087, 1346,     50.5,   9.7071,  33.7126,2,  33.7033,2,    277.6,2,    278.2,2,     0.00,2,    12.27,2,     0.17,2,     0.55,4,   9.7015
  316N20060130,AAIW06,   138,  1,     18,     18,2,20060201, 452,-54.9735, -72.7087, 1346,     75.5,   8.7614,  33.7813,2,  33.7788,2,    260.6,2,    258.6,2,     1.70,2,    15.50,2,     0.29,2,     0.75,4,   8.7535
  316N20060130,AAIW06,   138,  1,     17,     17,2,20060201, 452,-54.9735, -72.7087, 1346,     94.6,   8.2239,  33.8372,2,  33.8342,2,    250.2,2,    253.0,2,     2.48,2,    17.61,2,     0.06,2,     0.84,4,   8.2144
  316N20060130,AAIW06,   138,  1,     16,     16,2,20060201, 452,-54.9735, -72.7087, 1346,    129.7,   7.7629,  33.9003,2,  33.8986,2,   -999.0,9,   -999.0,9,     3.07,2,    19.07,2,     0.04,2,     0.93,4,   7.7503
  316N20060130,AAIW06,   138,  1,     15,     15,2,20060201, 452,-54.9735, -72.7087, 1346,    174.6,   7.0712,  34.0174,2,  34.0166,2,    243.9,2,    243.9,2,     5.26,2,    21.54,2,     0.08,2,     1.60,2,   7.0550
  316N20060130,AAIW06,   138,  1,     14,     14,2,20060201, 452,-54.9735, -72.7087, 1346,    224.9,   6.2602,  34.0761,2,  34.0734,2,    256.5,2,    254.7,2,     5.45,2,    22.64,2,     0.05,2,     1.63,2,   6.2407
  316N20060130,AAIW06,   138,  1,     13,     13,2,20060201, 452,-54.9735, -72.7087, 1346,    275.0,   5.5591,  34.1164,2,  34.1157,2,   -999.0,9,   -999.0,9,     6.03,2,    22.42,2,     0.02,2,     1.59,2,   5.5366
  316N20060130,AAIW06,   138,  1,     12,     12,2,20060201, 452,-54.9735, -72.7087, 1346,    324.9,   5.1922,  34.1331,2,  34.1322,2,    289.3,2,    295.2,2,     6.23,2,    21.78,2,     0.02,2,     1.54,2,   5.1664
  316N20060130,AAIW06,   138,  1,     11,     11,2,20060201, 452,-54.9735, -72.7087, 1346,    374.6,   5.0604,  34.1447,2,  34.1437,2,    291.6,2,    291.9,2,     6.61,2,    22.08,2,     0.01,2,     1.55,2,   5.0309
  316N20060130,AAIW06,   138,  1,     10,     10,2,20060201, 452,-54.9735, -72.7087, 1346,    425.9,   4.9830,  34.1530,2,  34.1523,2,   -999.0,9,   -999.0,9,     7.00,2,    22.33,2,     0.01,2,     1.58,2,   4.9496
  316N20060130,AAIW06,   138,  1,      9,      9,2,20060201, 452,-54.9735, -72.7087, 1346,    475.1,   4.9364,  34.1540,2,  34.1531,2,    290.1,2,    291.7,2,     7.38,2,    22.54,2,     0.01,2,     1.58,2,   4.8991
  316N20060130,AAIW06,   138,  1,      8,      8,2,20060201, 452,-54.9735, -72.7087, 1346,    526.1,   4.8771,  34.1560,2,  34.1554,2,    288.9,2,    287.3,2,     7.97,2,    22.84,2,     0.01,2,     1.60,2,   4.8359
  316N20060130,AAIW06,   138,  1,      7,      7,2,20060201, 452,-54.9735, -72.7087, 1346,    644.5,   4.7092,  34.1656,2,  34.1646,2,    275.7,2,    275.8,2,    10.77,2,    24.38,2,     0.01,2,     1.69,2,   4.6590
  316N20060130,AAIW06,   138,  1,      6,      6,2,20060201, 452,-54.9735, -72.7087, 1346,    743.4,   4.4292,  34.1930,2,  34.1928,2,    252.4,2,    253.5,2,    16.76,2,    27.02,2,     0.00,2,     1.87,2,   4.3723
  316N20060130,AAIW06,   138,  1,      5,      5,2,20060201, 452,-54.9735, -72.7087, 1346,    842.3,   4.1017,  34.2367,2,  34.2362,2,    230.1,2,    231.0,2,    24.75,2,    29.47,2,     0.00,2,     2.03,2,   4.0387
  316N20060130,AAIW06,   138,  1,      4,      4,2,20060201, 452,-54.9735, -72.7087, 1346,    942.5,   3.6682,  34.2918,2,  34.2905,2,    212.7,2,    211.3,2,    35.15,2,    31.62,2,     0.00,2,     2.19,2,   3.6000
  316N20060130,AAIW06,   138,  1,      3,      3,2,20060201, 452,-54.9735, -72.7087, 1346,   1040.7,   3.3837,  34.3341,2,  34.3337,2,    201.9,2,    199.6,2,    43.34,2,    32.77,2,     0.00,2,     2.28,2,   3.3099
  316N20060130,AAIW06,   138,  1,      2,      2,2,20060201, 452,-54.9735, -72.7087, 1346,   1138.8,   3.1605,  34.3720,2,  34.3709,2,    190.8,2,    191.6,2,    49.74,2,    33.58,2,     0.00,2,     2.34,2,   3.0808
  316N20060130,AAIW06,   138,  1,      1,      1,2,20060201, 452,-54.9735, -72.7087, 1346,   1298.3,   2.7885,  34.4819,2,  34.4812,2,    168.1,2,    168.2,0,    68.40,2,    35.18,2,     0.00,2,     2.45,2,   2.6995
  316N20060130,AAIW06,   139,  1,     29,     29,2,20060201, 752,-55.0648, -72.7832, 2026,      5.0,   9.3630,  33.8269,2,  33.8263,2,    282.3,2,    282.4,2,     0.00,2,    13.56,2,     0.17,2,     1.10,2,   9.3625
  316N20060130,AAIW06,   139,  1,     28,     28,2,20060201, 752,-55.0648, -72.7832, 2026,     19.9,   9.2968,  33.8520,2,  33.8529,2,    284.1,2,    283.1,2,     0.00,2,    13.95,2,     0.17,2,     1.11,2,   9.2946
  316N20060130,AAIW06,   139,  1,     27,     27,2,20060201, 752,-55.0648, -72.7832, 2026,     44.8,   9.0160,  33.9368,2,  33.9352,2,    287.0,2,    286.3,2,     0.00,2,    14.43,2,     0.17,2,     1.11,2,   9.0112
  316N20060130,AAIW06,   139,  1,     26,     26,2,20060201, 752,-55.0648, -72.7832, 2026,     70.5,   8.9826,  33.9416,2,  33.9405,2,    288.2,2,    286.6,2,     0.00,2,    14.43,2,     0.17,2,     1.10,2,   8.9751
  316N20060130,AAIW06,   139,  1,     25,     25,2,20060201, 752,-55.0648, -72.7832, 2026,    119.5,   6.6548,  34.0373,2,  34.0381,2,    280.0,2,    277.3,2,     2.86,2,    19.69,2,     0.29,2,     1.46,2,   6.6442
  316N20060130,AAIW06,   139,  1,     24,     24,2,20060201, 752,-55.0648, -72.7832, 2026,    139.7,   6.3595,  34.0568,2,  34.0567,2,    273.5,2,    277.0,2,     3.44,2,    20.34,2,     0.29,2,     1.50,2,   6.3474
  316N20060130,AAIW06,   139,  1,     23,     23,2,20060201, 752,-55.0648, -72.7832, 2026,    189.7,   5.3528,  34.1327,2,  34.1322,2,    287.1,2,    283.1,2,     6.01,2,    22.06,2,     0.11,2,     1.57,2,   5.3377
  316N20060130,AAIW06,   139,  1,     22,     22,2,20060201, 752,-55.0648, -72.7832, 2026,    239.9,   5.0779,  34.1393,2,  34.1385,2,    293.3,2,    293.3,2,     6.01,2,    21.85,2,     0.01,2,     1.54,2,   5.0592
  316N20060130,AAIW06,   139,  1,     21,     21,9,20060201, 752,-55.0648, -72.7832, 2026,    240.0,   5.0776,  34.1393,2,-999.0000,9,   -999.0,9,   -999.0,9,  -999.00,9,  -999.00,9,  -999.00,9,  -999.00,9,   5.0589
  316N20060130,AAIW06,   139,  1,     20,     20,2,20060201, 752,-55.0648, -72.7832, 2026,    289.5,   5.0248,  34.1492,2,  34.1473,2,    293.2,2,    292.8,2,     6.20,2,    21.86,2,     0.01,2,     1.54,2,   5.0023
  316N20060130,AAIW06,   139,  1,     19,     19,2,20060201, 752,-55.0648, -72.7832, 2026,    339.5,   4.9935,  34.1557,2,  34.1534,2,    293.1,2,    292.2,2,     6.39,2,    21.96,2,     0.01,2,     1.54,2,   4.9671
  316N20060130,AAIW06,   139,  1,     18,     18,2,20060201, 752,-55.0648, -72.7832, 2026,    389.0,   4.9654,  34.1568,2,  34.1556,2,    292.9,2,    291.8,2,     6.59,2,    22.07,2,     0.01,2,     1.54,2,   4.9351
  316N20060130,AAIW06,   139,  1,     17,     17,2,20060201, 752,-55.0648, -72.7832, 2026,    438.7,   4.9155,  34.1557,2,  34.1546,2,    292.1,2,    291.7,2,     7.38,2,    22.17,2,     0.01,2,     1.55,2,   4.8813
  316N20060130,AAIW06,   139,  1,     16,     16,9,20060201, 752,-55.0648, -72.7832, 2026,    490.2,   4.8966,  34.1601,2,-999.0000,9,   -999.0,9,   -999.0,9,  -999.00,9,  -999.00,9,  -999.00,9,  -999.00,9,   4.8582
  316N20060130,AAIW06,   139,  1,     15,     15,2,20060201, 752,-55.0648, -72.7832, 2026,    574.9,   4.8236,  34.1633,2,  34.1602,2,    281.5,2,    283.0,2,     8.57,2,    23.41,2,     0.01,2,     1.63,2,   4.7786
  316N20060130,AAIW06,   139,  1,     14,     14,2,20060201, 752,-55.0648, -72.7832, 2026,    674.0,   4.6173,  34.1714,2,  34.1706,2,    265.0,2,    266.4,2,    12.33,2,    25.50,2,     0.00,2,     1.76,2,   4.5651
  316N20060130,AAIW06,   139,  1,     13,     13,2,20060201, 752,-55.0648, -72.7832, 2026,    773.3,   4.3126,  34.2094,2,  34.2081,2,    244.0,2,    241.9,2,    19.46,2,    28.08,2,     0.00,2,     1.95,2,   4.2539
  316N20060130,AAIW06,   139,  1,     12,     12,2,20060201, 752,-55.0648, -72.7832, 2026,    874.6,   3.9939,  34.2538,2,  34.2538,2,    225.6,2,    223.1,2,    27.38,2,    30.02,2,     0.00,2,     2.08,2,   3.9290
  316N20060130,AAIW06,   139,  1,     11,     11,2,20060201, 752,-55.0648, -72.7832, 2026,    974.6,   3.6501,  34.2946,2,  34.2942,2,    209.1,2,    210.0,2,    35.29,2,    31.57,2,     0.00,2,     1.68,4,   3.5795
  316N20060130,AAIW06,   139,  1,     10,     10,2,20060201, 752,-55.0648, -72.7832, 2026,   1075.1,   3.2814,  34.3545,2,  34.3533,2,    193.4,2,    193.8,2,    46.40,2,    33.11,2,     0.00,2,     2.30,2,   3.2057
  316N20060130,AAIW06,   139,  1,      9,      9,2,20060201, 752,-55.0648, -72.7832, 2026,   1175.8,   3.0270,  34.3929,2,  34.3916,2,    187.4,2,    187.3,2,    52.95,2,    33.66,2,     0.00,2,     2.35,2,   2.9455
  316N20060130,AAIW06,   139,  1,      8,      8,2,20060201, 752,-55.0648, -72.7832, 2026,   1273.3,   2.8747,  34.4487,2,  34.4489,2,    173.3,2,    172.6,2,    62.28,2,    34.66,2,     0.00,2,     2.41,2,   2.7869
  316N20060130,AAIW06,   139,  1,      7,      7,2,20060201, 752,-55.0648, -72.7832, 2026,   1374.1,   2.7570,  34.4929,2,  34.4919,2,    165.3,2,    163.8,2,    70.04,2,    35.06,2,     0.00,2,     2.45,2,   2.6623
  316N20060130,AAIW06,   139,  1,      6,      6,2,20060201, 752,-55.0648, -72.7832, 2026,   1474.7,   2.6451,  34.5347,2,  34.5340,2,   -999.0,9,   -999.0,9,    77.21,2,    35.45,2,     0.00,2,     2.48,2,   2.5435
  316N20060130,AAIW06,   139,  1,      5,      5,2,20060201, 752,-55.0648, -72.7832, 2026,   1574.6,   2.5347,  34.5689,2,  34.5697,2,   -999.0,9,   -999.0,9,    84.60,2,    35.56,2,     0.00,2,     2.49,2,   2.4262
  316N20060130,AAIW06,   139,  1,      4,      4,2,20060201, 752,-55.0648, -72.7832, 2026,   1676.0,   2.4462,  34.5922,2,  34.5925,2,    151.5,2,    150.6,2,    89.41,2,    35.46,2,     0.00,2,     2.49,2,   2.3305
  316N20060130,AAIW06,   139,  1,      3,      3,2,20060201, 752,-55.0648, -72.7832, 2026,   1775.8,   2.3443,  34.6136,2,  34.6144,2,    151.6,2,    153.0,2,    94.21,2,    35.31,2,     0.00,2,     2.48,2,   2.2216
  316N20060130,AAIW06,   139,  1,      2,      2,2,20060201, 752,-55.0648, -72.7832, 2026,   1857.4,   2.2964,  34.6251,2,  34.6250,2,   -999.0,9,   -999.0,9,    96.02,2,    35.16,2,     0.00,2,     2.47,2,   2.1676
  316N20060130,AAIW06,   139,  1,      1,      1,2,20060201, 752,-55.0648, -72.7832, 2026,   2004.6,   2.1814,  34.6448,2,  34.6452,2,    155.0,2,    154.8,2,   101.44,2,    34.91,2,     0.00,2,     2.46,2,   2.0417