BOTTLE,20081218PRINUNIVRMK
EXPOCODE,SECT_ID,STNNBR,CASTNO,SAMPNO,BTLNBR,BTLNBR_FLAG_W,DATE,TIME,LATITUDE,LONGITUDE,DEPTH,CTDPRS,CTDTMP,CTDSAL,CTDSAL_FLAG_W,SALNTY,SALNTY_FLAG_W,CTDOXY,CTDOXY_FLAG_W,OXYGEN,OXYGEN_FLAG_W,SILCAT,SILCAT_FLAG_W,NITRAT,NITRAT_FLAG_W,NITRIT,NITRIT_FLAG_W,PHSPHT,PHSPHT_FLAG_W,THETA
,,,,,,,,,,,METERS,DBARS,ITS-90,PSS-78,,PSS-78,,UMOL/KG,,UMOL/KG,,UMOL/KG,,UMOL/KG,,UMOL/KG,,UMOL/KG,,DEGC
  316N20060130,AAIW06,   237,  1,     32,     32,2,20060311, 307,-45.3255, -75.9787, 3322,      5.1,  14.2001,  33.5853,2,  33.5861,2,    257.6,2,    257.4,2,     2.84,2,     1.79,2,     0.10,2,     0.44,2,  14.1994
  316N20060130,AAIW06,   237,  1,     31,     31,2,20060311, 307,-45.3255, -75.9787, 3322,     20.3,  14.1875,  33.5852,2,  33.5869,2,    258.2,2,    256.0,2,     0.35,2,     1.85,2,     0.10,2,     0.44,2,  14.1846
  316N20060130,AAIW06,   237,  1,     30,     30,2,20060311, 307,-45.3255, -75.9787, 3322,     39.9,  13.8676,  33.6319,2,  33.6324,2,    251.5,2,    255.6,2,     0.35,2,     3.04,2,     0.12,2,     0.51,2,  13.8620
  316N20060130,AAIW06,   237,  1,     29,     29,2,20060311, 307,-45.3255, -75.9787, 3322,     69.9,  10.5107,  33.7169,2,  33.7114,2,    231.0,2,    232.8,2,     1.39,2,    12.89,2,     0.13,2,     1.11,2,  10.5025
  316N20060130,AAIW06,   237,  1,     28,     28,2,20060311, 307,-45.3255, -75.9787, 3322,     94.0,   9.2917,  33.7984,2,  33.7977,2,    227.2,2,    226.3,2,     3.04,2,    17.43,2,     0.04,2,     1.34,2,   9.2815
  316N20060130,AAIW06,   237,  1,     27,     27,2,20060311, 307,-45.3255, -75.9787, 3322,    128.1,   8.6963,  33.9694,2,-999.0000,9,    209.2,2,    207.7,2,     5.53,2,    20.77,2,     0.02,2,     1.59,2,   8.6829
  316N20060130,AAIW06,   237,  1,     26,     26,2,20060311, 307,-45.3255, -75.9787, 3322,    182.8,   8.2775,  34.1947,2,-999.0000,9,    153.4,2,    141.1,2,    11.74,2,    26.87,2,     0.02,2,     2.07,2,   8.2589
  316N20060130,AAIW06,   237,  1,     25,     25,2,20060311, 307,-45.3255, -75.9787, 3322,    223.6,   7.7466,  34.2600,2,-999.0000,9,    131.8,2,    135.5,2,    12.56,2,    28.99,2,     0.02,2,     2.16,2,   7.7246
  316N20060130,AAIW06,   237,  1,     24,     24,2,20060311, 307,-45.3255, -75.9787, 3322,    273.6,   6.9662,  34.2603,2,-999.0000,9,    156.5,2,    158.1,2,    12.15,2,    29.44,2,     0.02,2,     2.09,2,   6.9408
  316N20060130,AAIW06,   237,  1,     23,     23,2,20060311, 307,-45.3255, -75.9787, 3322,    322.7,   6.5558,  34.2647,2,-999.0000,9,    165.7,2,    172.7,2,    12.15,2,    29.26,2,     0.02,2,     2.06,2,   6.5268
  316N20060130,AAIW06,   237,  1,     22,     22,2,20060311, 307,-45.3255, -75.9787, 3322,    371.4,   6.1006,  34.2562,2,-999.0000,9,    204.6,2,    201.4,2,    11.53,2,    27.90,2,     0.01,2,     1.95,2,   6.0683
  316N20060130,AAIW06,   237,  1,     21,     21,9,20060311, 307,-45.3255, -75.9787, 3322,    371.8,   6.0992,  34.2561,2,-999.0000,9,   -999.0,9,   -999.0,9,  -999.00,9,  -999.00,9,  -999.00,9,  -999.00,9,   6.0669
  316N20060130,AAIW06,   237,  1,     20,     20,2,20060311, 307,-45.3255, -75.9787, 3322,    422.7,   5.8285,  34.2495,2,-999.0000,9,    227.2,2,    221.1,2,    11.11,2,    26.71,2,     0.01,2,     1.85,2,   5.7925
  316N20060130,AAIW06,   237,  1,     19,     19,2,20060311, 307,-45.3255, -75.9787, 3322,    472.2,   5.5848,  34.2410,2,-999.0000,9,    232.5,2,    235.8,2,    11.11,2,    26.08,2,     0.01,2,     1.79,2,   5.5453
  316N20060130,AAIW06,   237,  1,     18,     18,2,20060311, 307,-45.3255, -75.9787, 3322,    561.5,   5.2287,  34.2309,2,-999.0000,9,    240.6,2,    241.4,2,    12.36,2,    26.13,2,     0.01,2,     1.80,2,   5.1830
  316N20060130,AAIW06,   237,  1,     17,     17,2,20060311, 307,-45.3255, -75.9787, 3322,    651.4,   4.8823,  34.2331,2,-999.0000,9,    235.4,2,    237.8,2,    16.29,2,    27.38,2,     0.01,2,     1.89,2,   4.8306
  316N20060130,AAIW06,   237,  1,     16,     16,2,20060311, 307,-45.3255, -75.9787, 3322,    741.6,   4.4932,  34.2515,2,-999.0000,9,    222.1,2,    223.3,2,    22.49,2,    29.25,2,     0.01,2,     2.02,2,   4.4360
  316N20060130,AAIW06,   237,  1,     15,     15,2,20060311, 307,-45.3255, -75.9787, 3322,    840.6,   4.0492,  34.2876,2,-999.0000,9,    204.9,2,    205.6,2,    31.39,2,    31.40,2,     0.01,2,     2.17,2,   3.9866
  316N20060130,AAIW06,   237,  1,     14,     14,2,20060311, 307,-45.3255, -75.9787, 3322,    941.6,   3.7236,  34.3353,2,-999.0000,9,    186.2,2,    185.5,2,    41.95,2,    33.27,2,     0.01,2,     2.31,2,   3.6550
  316N20060130,AAIW06,   237,  1,     13,     13,2,20060311, 307,-45.3255, -75.9787, 3322,   1042.0,   3.3942,  34.3892,2,-999.0000,9,    166.6,2,    166.9,2,    53.55,2,    34.86,2,     0.01,2,     2.45,2,   3.3201
  316N20060130,AAIW06,   237,  1,     12,     12,2,20060311, 307,-45.3255, -75.9787, 3322,   1141.6,   3.2450,  34.4350,2,-999.0000,9,    150.9,2,    150.4,2,    63.49,2,    36.05,2,     0.01,2,     2.53,2,   3.1642
  316N20060130,AAIW06,   237,  1,     11,     11,2,20060311, 307,-45.3255, -75.9787, 3322,   1241.8,   3.0853,  34.4808,2,-999.0000,9,    139.5,2,    137.7,2,    73.05,2,    37.01,2,     0.01,2,     2.61,2,   2.9979
  316N20060130,AAIW06,   237,  1,     10,     10,2,20060311, 307,-45.3255, -75.9787, 3322,   1341.1,   2.9405,  34.5195,2,-999.0000,9,    131.7,2,    129.5,2,    82.21,2,    37.57,2,     0.01,2,     2.65,2,   2.8465
  316N20060130,AAIW06,   237,  1,      9,      9,2,20060311, 307,-45.3255, -75.9787, 3322,   1440.9,   2.8260,  34.5439,2,-999.0000,9,    126.5,2,    126.5,2,    88.67,2,    37.69,2,     0.01,2,     2.65,2,   2.7251
  316N20060130,AAIW06,   237,  1,      8,      8,2,20060311, 307,-45.3255, -75.9787, 3322,   1541.6,   2.6996,  34.5668,2,-999.0000,9,    125.7,2,    125.9,2,    93.68,2,    37.51,2,     0.01,2,     2.67,2,   2.5918
  316N20060130,AAIW06,   237,  1,      7,      7,2,20060311, 307,-45.3255, -75.9787, 3322,   1741.5,   2.4427,  34.6017,2,-999.0000,9,    132.5,2,    132.7,2,   104.56,2,    36.82,2,     0.01,2,     2.60,2,   2.3216
  316N20060130,AAIW06,   237,  1,      6,      6,2,20060311, 307,-45.3255, -75.9787, 3322,   1942.7,   2.2087,  34.6311,2,  34.6318,2,    138.1,2,    138.6,2,   110.23,2,    36.36,2,     0.01,2,     2.56,2,   2.0739
  316N20060130,AAIW06,   237,  1,      5,      5,2,20060311, 307,-45.3255, -75.9787, 3322,   2154.4,   2.0391,  34.6508,2,  34.6499,2,    142.4,2,    143.1,2,   115.91,2,    35.90,2,     0.01,2,     2.52,2,   1.8888
  316N20060130,AAIW06,   237,  1,      4,      4,2,20060311, 307,-45.3255, -75.9787, 3322,   2456.2,   1.8998,  34.6666,2,  34.6674,2,    146.7,2,    147.0,2,   121.39,2,    35.55,2,     0.01,2,     2.51,2,   1.7252
  316N20060130,AAIW06,   237,  1,      3,      3,2,20060311, 307,-45.3255, -75.9787, 3322,   2759.9,   1.8267,  34.6754,2,  34.6754,2,    149.2,2,    148.9,2,   122.86,2,    35.33,2,     0.01,2,     2.49,2,   1.6256
  316N20060130,AAIW06,   237,  1,      2,      2,2,20060311, 307,-45.3255, -75.9787, 3322,   3061.5,   1.7946,  34.6808,2,  34.6807,2,    149.6,2,    149.6,2,   127.73,2,    35.27,2,     0.01,2,     2.49,2,   1.5653
  316N20060130,AAIW06,   237,  1,      1,      1,2,20060311, 307,-45.3255, -75.9787, 3322,   3344.6,   1.7933,  34.6832,2,  34.6830,2,    149.4,2,    149.4,2,   127.94,2,    35.20,2,     0.01,2,     2.50,2,   1.5357
  316N20060130,AAIW06,   238,  1,     26,     26,2,20060311, 601,-45.3195, -75.8330, 2025,      4.3,  14.0219,  33.5520,2,  33.5537,2,    256.5,2,    256.3,2,     0.40,2,     1.95,2,     0.08,2,     0.47,2,  14.0213
  316N20060130,AAIW06,   238,  1,     25,     25,2,20060311, 601,-45.3195, -75.8330, 2025,     24.4,  14.0200,  33.5526,2,  33.5536,2,    257.7,2,    256.3,2,     0.20,2,     1.95,2,     0.08,2,     0.46,2,  14.0165
  316N20060130,AAIW06,   238,  1,     24,     24,2,20060311, 601,-45.3195, -75.8330, 2025,     49.3,  14.0047,  33.5687,2,  33.5693,2,    254.6,2,    255.1,2,     0.21,2,     2.16,2,     0.09,2,     0.48,2,  13.9977
  316N20060130,AAIW06,   238,  1,     23,     23,2,20060311, 601,-45.3195, -75.8330, 2025,     74.3,   9.8154,  33.7407,2,  33.7402,2,    238.5,2,    238.7,2,     1.64,2,    14.59,2,     0.04,2,     1.16,2,   9.8071
  316N20060130,AAIW06,   238,  1,     21,     21,9,20060311, 601,-45.3195, -75.8330, 2025,    104.2,   9.0378,  33.8730,2,-999.0000,9,   -999.0,9,   -999.0,9,  -999.00,9,  -999.00,9,  -999.00,9,  -999.00,9,   9.0267
  316N20060130,AAIW06,   238,  1,     22,     22,2,20060311, 601,-45.3195, -75.8330, 2025,    104.5,   9.0370,  33.8735,2,-999.0000,9,    245.8,2,    233.1,2,     2.68,2,    17.49,2,     0.02,2,     1.32,2,   9.0258
  316N20060130,AAIW06,   238,  1,     20,     20,2,20060311, 601,-45.3195, -75.8330, 2025,    154.6,   8.4509,  34.0916,2,-999.0000,9,    224.9,2,    184.8,2,     7.43,2,    23.13,2,     0.01,2,     1.78,2,   8.4350
  316N20060130,AAIW06,   238,  1,     19,     19,2,20060311, 601,-45.3195, -75.8330, 2025,    203.2,   7.9235,  34.1959,2,-999.0000,9,    162.7,2,    159.9,2,     9.90,2,    26.32,2,     0.02,2,     2.00,2,   7.9033
  316N20060130,AAIW06,   238,  1,     18,     18,2,20060311, 601,-45.3195, -75.8330, 2025,    253.1,   7.1889,  34.2416,2,-999.0000,9,    160.1,2,    160.5,2,    11.15,2,    28.55,2,     0.01,2,     2.06,2,   7.1650
  316N20060130,AAIW06,   238,  1,     17,     17,2,20060311, 601,-45.3195, -75.8330, 2025,    302.6,   6.5711,  34.2570,2,-999.0000,9,    179.5,2,    174.8,2,    11.15,2,    29.14,2,     0.01,2,     2.05,2,   6.5439
  316N20060130,AAIW06,   238,  1,     16,     16,2,20060311, 601,-45.3195, -75.8330, 2025,    353.6,   6.0280,  34.2409,2,-999.0000,9,    214.3,2,    221.4,2,     9.31,2,    26.40,2,     0.01,2,     1.82,2,   5.9975
  316N20060130,AAIW06,   238,  1,     15,     15,2,20060311, 601,-45.3195, -75.8330, 2025,    402.5,   5.7856,  34.2416,2,-999.0000,9,    235.0,2,    243.0,2,     8.90,2,    25.04,2,     0.01,2,     1.71,2,   5.7515
  316N20060130,AAIW06,   238,  1,     14,     14,2,20060311, 601,-45.3195, -75.8330, 2025,    452.3,   5.6107,  34.2377,2,-999.0000,9,    246.6,2,    248.4,2,     9.11,2,    24.99,2,     0.01,2,     1.71,2,   5.5729
  316N20060130,AAIW06,   238,  1,     13,     13,2,20060311, 601,-45.3195, -75.8330, 2025,    501.9,   5.4130,  34.2293,2,-999.0000,9,    256.1,2,    257.5,2,     9.33,2,    24.77,2,     0.00,2,     1.69,2,   5.3716
  316N20060130,AAIW06,   238,  1,     12,     12,2,20060311, 601,-45.3195, -75.8330, 2025,    599.7,   5.0545,  34.2241,2,-999.0000,9,    251.9,2,    250.2,2,    12.22,2,    26.09,2,     0.00,2,     1.78,2,   5.0063
  316N20060130,AAIW06,   238,  1,     11,     11,2,20060311, 601,-45.3195, -75.8330, 2025,    699.5,   4.6952,  34.2365,2,-999.0000,9,    237.0,2,    233.5,2,    17.79,2,    28.26,2,     0.00,2,     1.94,2,   4.6404
  316N20060130,AAIW06,   238,  1,     10,     10,2,20060311, 601,-45.3195, -75.8330, 2025,    799.7,   4.2941,  34.2691,2,-999.0000,9,    216.3,2,    213.1,2,    26.25,2,    30.50,2,     0.00,2,     2.09,2,   4.2333
  316N20060130,AAIW06,   238,  1,      9,      9,2,20060311, 601,-45.3195, -75.8330, 2025,    899.1,   3.9205,  34.3034,2,-999.0000,9,    197.9,2,    198.2,2,    34.10,2,    32.28,2,     0.00,2,     2.21,2,   3.8540
  316N20060130,AAIW06,   238,  1,      8,      8,2,20060311, 601,-45.3195, -75.8330, 2025,    998.8,   3.5755,  34.3556,2,-999.0000,9,    177.5,2,    178.4,2,    45.46,2,    34.11,2,     0.00,2,     2.35,2,   3.5035
  316N20060130,AAIW06,   238,  1,      7,      7,2,20060311, 601,-45.3195, -75.8330, 2025,   1098.8,   3.3457,  34.4033,2,-999.0000,9,    162.8,2,    161.8,2,    55.59,2,    35.50,2,     0.00,2,     2.45,2,   3.2675
  316N20060130,AAIW06,   238,  1,      6,      6,2,20060311, 601,-45.3195, -75.8330, 2025,   1198.7,   3.1333,  34.4573,2,-999.0000,9,    148.3,2,    146.4,2,    67.18,2,    36.59,2,     0.00,2,     2.54,2,   3.0489
  316N20060130,AAIW06,   238,  1,      5,      5,2,20060311, 601,-45.3195, -75.8330, 2025,   1299.2,   2.9893,  34.4953,2,-999.0000,9,    139.5,2,    137.4,2,    75.70,2,    37.23,2,     0.00,2,     2.59,2,   2.8982
  316N20060130,AAIW06,   238,  1,      4,      4,2,20060311, 601,-45.3195, -75.8330, 2025,   1398.5,   2.8677,  34.5248,2,  34.5254,2,    133.4,2,    132.7,2,    82.35,2,    37.40,2,     0.00,2,     2.62,2,   2.7698
  316N20060130,AAIW06,   238,  1,      3,      3,2,20060311, 601,-45.3195, -75.8330, 2025,   1598.5,   2.6079,  34.5763,2,  34.5782,2,    130.7,2,    131.4,2,    94.66,2,    37.41,2,     0.00,2,     2.62,2,   2.4965
  316N20060130,AAIW06,   238,  1,      2,      2,2,20060311, 601,-45.3195, -75.8330, 2025,   1798.6,   2.3772,  34.6104,2,  34.6108,2,    133.6,2,    133.9,2,   104.07,2,    37.02,2,     0.00,2,     2.59,2,   2.2522
  316N20060130,AAIW06,   238,  1,      1,      1,2,20060311, 601,-45.3195, -75.8330, 2025,   2025.2,   2.1504,  34.6380,2,  34.6383,2,    138.7,2,    138.3,2,   113.09,2,    36.44,2,     0.00,2,     2.56,2,   2.0095
  316N20060130,AAIW06,   239,  1,     18,     18,2,20060311, 830,-45.3222, -75.6252, 1025,      3.7,  14.3045,  33.2373,2,  33.2384,2,    258.4,2,    258.6,2,     0.56,2,     0.70,2,     0.03,2,     0.40,2,  14.3040
  316N20060130,AAIW06,   239,  1,     17,     17,2,20060311, 830,-45.3222, -75.6252, 1025,     15.4,  14.3074,  33.2370,2,  33.2372,2,    259.2,2,    258.4,2,     0.56,2,     0.70,2,     0.03,2,     0.40,2,  14.3052
  316N20060130,AAIW06,   239,  1,     16,     16,2,20060311, 830,-45.3222, -75.6252, 1025,     39.8,  14.2258,  33.3064,2,  33.3063,2,    256.9,2,    253.3,2,     0.35,2,     1.01,2,     0.05,2,     0.42,2,  14.2201
  316N20060130,AAIW06,   239,  1,     15,     15,2,20060311, 830,-45.3222, -75.6252, 1025,     69.3,   9.8662,  33.7825,2,  33.7779,2,    241.0,2,    241.0,2,     1.38,2,    14.73,2,     0.05,2,     1.15,2,   9.8584
  316N20060130,AAIW06,   239,  1,     14,     14,2,20060311, 830,-45.3222, -75.6252, 1025,     98.7,   9.2665,  33.8735,2,-999.0000,9,    242.0,2,    241.9,2,     2.01,2,    16.91,2,     0.03,2,     1.26,2,   9.2558
  316N20060130,AAIW06,   239,  1,     13,     13,2,20060311, 830,-45.3222, -75.6252, 1025,    139.1,   8.7137,  34.0037,2,-999.0000,9,    205.3,2,    201.3,2,     5.71,2,    21.30,2,     0.02,2,     1.63,2,   8.6991
  316N20060130,AAIW06,   239,  1,     12,     12,2,20060311, 830,-45.3222, -75.6252, 1025,    187.3,   8.4011,  34.2125,2,-999.0000,9,    146.1,2,    143.9,2,    10.86,2,    26.80,2,     0.01,2,     2.06,2,   8.3818
  316N20060130,AAIW06,   239,  1,     11,     11,2,20060311, 830,-45.3222, -75.6252, 1025,    236.8,   7.6350,  34.2789,2,-999.0000,9,    133.9,2,    133.8,2,    12.50,2,    29.77,2,     0.02,2,     2.18,2,   7.6119
  316N20060130,AAIW06,   239,  1,     10,     10,2,20060311, 830,-45.3222, -75.6252, 1025,    285.5,   7.0341,  34.2686,2,-999.0000,9,    146.8,2,    151.7,2,    12.09,2,    30.04,2,     0.02,2,     2.13,2,   7.0074
  316N20060130,AAIW06,   239,  1,      9,      9,2,20060311, 830,-45.3222, -75.6252, 1025,    334.2,   6.4477,  34.2596,2,-999.0000,9,    169.7,2,    179.6,2,    11.26,2,    29.19,2,     0.02,2,     2.04,2,   6.4179
  316N20060130,AAIW06,   239,  1,      8,      8,2,20060311, 830,-45.3222, -75.6252, 1025,    384.1,   6.1092,  34.2568,2,-999.0000,9,    192.9,2,    201.7,2,    11.06,2,    28.06,2,     0.01,2,     1.95,2,   6.0758
  316N20060130,AAIW06,   239,  1,      7,      7,2,20060311, 830,-45.3222, -75.6252, 1025,    432.4,   5.8076,  34.2449,2,-999.0000,9,    217.3,2,    224.8,2,    10.23,2,    26.74,2,     0.01,2,     1.84,2,   5.7708
  316N20060130,AAIW06,   239,  1,      6,      6,2,20060311, 830,-45.3222, -75.6252, 1025,    483.9,   5.5500,  34.2377,2,-999.0000,9,    234.5,2,    238.2,2,    10.44,2,    25.95,2,     0.00,2,     1.78,2,   5.5097
  316N20060130,AAIW06,   239,  1,      5,      5,2,20060311, 830,-45.3222, -75.6252, 1025,    566.8,   5.2828,  34.2300,2,-999.0000,9,    244.2,2,    245.7,2,    11.47,2,    26.11,2,     0.00,2,     1.78,2,   5.2364
  316N20060130,AAIW06,   239,  1,      4,      4,2,20060311, 830,-45.3222, -75.6252, 1025,    666.7,   4.9760,  34.2292,2,  34.2303,2,    241.8,2,    241.9,2,    14.15,2,    27.03,2,     0.00,2,     1.85,2,   4.9225
  316N20060130,AAIW06,   239,  1,      3,      3,2,20060311, 830,-45.3222, -75.6252, 1025,    766.4,   4.6084,  34.2450,2,  34.2457,2,    227.7,2,    227.6,2,    19.90,2,    28.92,2,     0.00,2,     1.98,2,   4.5485
  316N20060130,AAIW06,   239,  1,      2,      2,2,20060311, 830,-45.3222, -75.6252, 1025,    866.3,   4.1055,  34.2911,2,  34.2920,2,    203.5,2,    202.9,2,    31.41,2,    31.62,2,     0.00,2,     2.18,2,   4.0404
  316N20060130,AAIW06,   239,  1,      1,      1,2,20060311, 830,-45.3222, -75.6252, 1025,   1016.9,   3.5841,  34.3620,2,  34.3626,2,    174.6,2,    174.6,2,    47.05,2,    34.43,2,     0.00,2,     2.38,2,   3.5105