BOTTLE,20081218PRINUNIVRMK
EXPOCODE,SECT_ID,STNNBR,CASTNO,SAMPNO,BTLNBR,BTLNBR_FLAG_W,DATE,TIME,LATITUDE,LONGITUDE,DEPTH,CTDPRS,CTDTMP,CTDSAL,CTDSAL_FLAG_W,SALNTY,SALNTY_FLAG_W,CTDOXY,CTDOXY_FLAG_W,OXYGEN,OXYGEN_FLAG_W,SILCAT,SILCAT_FLAG_W,NITRAT,NITRAT_FLAG_W,NITRIT,NITRIT_FLAG_W,PHSPHT,PHSPHT_FLAG_W,THETA
,,,,,,,,,,,METERS,DBARS,ITS-90,PSS-78,,PSS-78,,UMOL/KG,,UMOL/KG,,UMOL/KG,,UMOL/KG,,UMOL/KG,,UMOL/KG,,DEGC
  316N20060130,AAIW06,   168,  1,     36,     36,2,20060211,1100,-57.4660, -84.4190, 5226,      6.3,   7.7816,  34.0310,2,  34.0301,2,    291.6,2,    291.7,2,     0.32,2,    18.33,2,     0.21,2,     1.32,2,   7.7810
  316N20060130,AAIW06,   168,  1,     35,     35,2,20060211,1100,-57.4660, -84.4190, 5226,     21.0,   7.7826,  34.0306,2,-999.0000,9,   -999.0,9,   -999.0,9,  -999.00,9,  -999.00,9,  -999.00,9,  -999.00,9,   7.7806
  316N20060130,AAIW06,   168,  1,     34,     34,2,20060211,1100,-57.4660, -84.4190, 5226,     21.0,   7.7826,  34.0306,2,-999.0000,9,   -999.0,9,   -999.0,9,  -999.00,9,  -999.00,9,  -999.00,9,  -999.00,9,   7.7806
  316N20060130,AAIW06,   168,  1,     33,     33,2,20060211,1100,-57.4660, -84.4190, 5226,     21.5,   7.7827,  34.0305,2,  34.0291,2,    293.1,2,    291.8,2,     0.31,2,    18.18,2,     0.21,2,     1.31,2,   7.7806
  316N20060130,AAIW06,   168,  1,     32,     32,9,20060211,1100,-57.4660, -84.4190, 5226,     45.0,   7.7784,  34.0299,2,-999.0000,9,   -999.0,9,   -999.0,9,  -999.00,9,  -999.00,9,  -999.00,9,  -999.00,9,   7.7740
  316N20060130,AAIW06,   168,  1,     31,     31,2,20060211,1100,-57.4660, -84.4190, 5226,     69.3,   6.8772,  34.0569,2,  34.0581,2,    297.5,2,    300.7,2,     0.30,2,    18.64,2,     0.21,2,     1.38,2,   6.8709
  316N20060130,AAIW06,   168,  1,     30,     30,2,20060211,1100,-57.4660, -84.4190, 5226,     90.7,   5.6420,  34.0800,2,-999.0000,9,    306.2,2,    301.2,2,     1.74,2,    19.92,2,     0.20,2,     1.65,2,   5.6347
  316N20060130,AAIW06,   168,  1,     29,     29,2,20060211,1100,-57.4660, -84.4190, 5226,    131.5,   4.9774,  34.1137,2,-999.0000,9,    297.2,2,    297.0,2,     7.51,2,    21.74,2,     0.16,2,     1.58,2,   4.9674
  316N20060130,AAIW06,   168,  1,     28,     28,2,20060211,1100,-57.4660, -84.4190, 5226,    177.5,   4.7611,  34.1014,2,-999.0000,9,    297.6,2,    298.8,2,     8.12,2,    22.19,2,     0.02,2,     1.59,2,   4.7478
  316N20060130,AAIW06,   168,  1,     27,     27,2,20060211,1100,-57.4660, -84.4190, 5226,    224.4,   4.5960,  34.0918,2,-999.0000,9,    296.2,2,    296.7,2,     8.52,2,    22.70,2,     0.01,2,     1.62,2,   4.5794
  316N20060130,AAIW06,   168,  1,     26,     26,2,20060211,1100,-57.4660, -84.4190, 5226,    276.5,   4.4686,  34.0928,2,-999.0000,9,    292.1,2,    291.9,2,     9.53,2,    23.32,2,     0.01,2,     1.67,2,   4.4484
  316N20060130,AAIW06,   168,  1,     25,     25,2,20060211,1100,-57.4660, -84.4190, 5226,    325.0,   4.3423,  34.0966,2,  34.0953,2,    285.3,2,    285.2,2,    11.17,2,    24.18,2,     0.01,2,     1.72,2,   4.3187
  316N20060130,AAIW06,   168,  1,     24,     24,2,20060211,1100,-57.4660, -84.4190, 5226,    376.5,   4.2263,  34.1052,2,-999.0000,9,    277.5,2,    277.1,2,    13.21,2,    25.10,2,     0.01,2,     1.78,2,   4.1992
  316N20060130,AAIW06,   168,  1,     23,     23,2,20060211,1100,-57.4660, -84.4190, 5226,    445.4,   4.1945,  34.1426,2,-999.0000,9,    261.5,2,    262.4,2,    16.68,2,    26.49,2,     0.01,2,     1.87,2,   4.1623
  316N20060130,AAIW06,   168,  1,     22,     22,2,20060211,1100,-57.4660, -84.4190, 5226,    546.0,   4.1285,  34.1975,2,-999.0000,9,    238.8,2,    241.6,2,    22.59,2,    28.39,2,     0.00,2,     1.98,2,   4.0888
  316N20060130,AAIW06,   168,  1,     21,     21,9,20060211,1100,-57.4660, -84.4190, 5226,    638.8,   3.8130,  34.2378,2,-999.0000,9,   -999.0,9,   -999.0,9,  -999.00,9,  -999.00,9,  -999.00,9,  -999.00,9,   3.7676
  316N20060130,AAIW06,   168,  1,     20,     20,2,20060211,1100,-57.4660, -84.4190, 5226,    645.8,   3.8061,  34.2388,2,-999.0000,9,    227.8,2,    227.3,2,    29.50,2,    30.04,2,     0.00,2,     2.10,2,   3.7602
  316N20060130,AAIW06,   168,  1,     19,     19,2,20060211,1100,-57.4660, -84.4190, 5226,    745.8,   3.4785,  34.2840,2,-999.0000,9,    215.1,2,    214.6,2,    37.18,2,    31.55,2,     0.00,2,     2.20,2,   3.4268
  316N20060130,AAIW06,   168,  1,     18,     18,2,20060211,1100,-57.4660, -84.4190, 5226,    845.2,   3.1968,  34.3205,2,-999.0000,9,    206.7,2,    205.2,2,    44.24,2,    32.48,2,     0.00,2,     2.28,2,   3.1394
  316N20060130,AAIW06,   168,  1,     17,     17,2,20060211,1100,-57.4660, -84.4190, 5226,    944.3,   3.0007,  34.3718,2,-999.0000,9,    195.4,2,    193.6,2,    51.88,2,    33.36,2,     0.00,2,     2.34,2,   2.9372
  316N20060130,AAIW06,   168,  1,     16,     16,2,20060211,1100,-57.4660, -84.4190, 5226,   1046.2,   2.8360,  34.4231,2,-999.0000,9,    186.0,2,    185.0,2,    58.91,2,    33.83,2,     0.00,2,     2.38,2,   2.7661
  316N20060130,AAIW06,   168,  1,     15,     15,2,20060211,1100,-57.4660, -84.4190, 5226,   1146.7,   2.6817,  34.4721,2,-999.0000,9,    179.3,2,    178.6,2,    65.13,2,    34.09,2,     0.00,2,     2.39,2,   2.6054
  316N20060130,AAIW06,   168,  1,     14,     14,2,20060211,1100,-57.4660, -84.4190, 5226,   1247.1,   2.5808,  34.5123,2,-999.0000,9,    175.2,2,    174.9,2,    69.55,2,    34.04,2,     0.00,2,     2.39,2,   2.4978
  316N20060130,AAIW06,   168,  1,     13,     13,2,20060211,1100,-57.4660, -84.4190, 5226,   1345.0,   2.4993,  34.5497,2,-999.0000,9,    172.8,2,    172.7,2,    73.15,2,    33.98,2,     0.00,2,     2.38,2,   2.4095
  316N20060130,AAIW06,   168,  1,     12,     12,2,20060211,1100,-57.4660, -84.4190, 5226,   1447.3,   2.4421,  34.5854,2,-999.0000,9,    171.0,2,    171.2,2,    76.97,2,    33.82,2,     0.00,2,     2.38,2,   2.3448
  316N20060130,AAIW06,   168,  1,     11,     11,2,20060211,1100,-57.4660, -84.4190, 5226,   1648.5,   2.3143,  34.6419,2,-999.0000,9,    171.0,2,    171.2,2,    82.39,2,    33.24,2,     0.00,2,     2.34,2,   2.2024
  316N20060130,AAIW06,   168,  1,     10,     10,2,20060211,1100,-57.4660, -84.4190, 5226,   1846.4,   2.1937,  34.6794,2,  34.6783,2,    174.3,2,    174.0,2,    86.22,2,    32.66,2,     0.00,2,     2.29,2,   2.0671
  316N20060130,AAIW06,   168,  1,      9,      9,2,20060211,1100,-57.4660, -84.4190, 5226,   2146.2,   1.9987,  34.7114,2,  34.7123,2,    179.9,2,    180.0,2,    91.87,2,    32.04,2,     0.00,2,     2.25,2,   1.8495
  316N20060130,AAIW06,   168,  1,      8,      8,2,20060211,1100,-57.4660, -84.4190, 5226,   2451.4,   1.7437,  34.7206,2,  34.7231,2,    183.8,2,    183.7,2,   100.98,2,    31.98,2,     0.00,2,     2.24,2,   1.5722
  316N20060130,AAIW06,   168,  1,      7,      7,2,20060211,1100,-57.4660, -84.4190, 5226,   2754.5,   1.5733,  34.7221,2,  34.7225,2,    187.6,2,    187.7,2,   106.47,2,    31.92,2,     0.00,2,     2.24,2,   1.3777
  316N20060130,AAIW06,   168,  1,      6,      6,2,20060211,1100,-57.4660, -84.4190, 5226,   3058.9,   1.4104,  34.7235,2,  34.7234,2,    193.5,2,    193.5,2,   109.93,2,    31.71,2,     0.00,2,     2.23,2,   1.1897
  316N20060130,AAIW06,   168,  1,      5,      5,2,20060211,1100,-57.4660, -84.4190, 5226,   3440.3,   1.1546,  34.7183,2,  34.7189,2,    199.1,2,    198.5,2,   117.09,2,    32.03,2,     0.00,2,     2.24,2,   0.9029
  316N20060130,AAIW06,   168,  1,      4,      4,9,20060211,1100,-57.4660, -84.4190, 5226,   4148.2,   0.6769,  34.7074,2,-999.0000,9,   -999.0,9,   -999.0,9,  -999.00,9,  -999.00,9,  -999.00,9,  -999.00,9,   0.3656
  316N20060130,AAIW06,   168,  1,      3,      3,2,20060211,1100,-57.4660, -84.4190, 5226,   4240.8,   0.6375,  34.7070,2,  34.7063,2,    208.4,2,    208.8,2,   133.01,2,    32.33,2,     0.00,2,     2.27,2,   0.3175
  316N20060130,AAIW06,   168,  1,      2,      2,2,20060211,1100,-57.4660, -84.4190, 5226,   4736.4,   0.5842,  34.7055,2,  34.7059,2,    210.3,2,    210.5,2,   137.61,2,    32.49,2,     0.00,2,     2.28,2,   0.2112
  316N20060130,AAIW06,   168,  1,      1,      1,2,20060211,1100,-57.4660, -84.4190, 5226,   5259.5,   0.6307,  34.7046,2,  34.7051,2,    210.9,2,    211.0,2,   138.23,2,    32.54,2,     0.00,2,     2.28,2,   0.1950
  316N20060130,AAIW06,   169,  1,     36,     36,4,20060211,1853,-57.8962, -84.8267, 5112,      4.0,   7.4272,  33.9907,2,  33.9919,2,    292.0,2,    292.4,2,     0.60,2,    18.16,2,     0.22,2,     1.36,2,   7.4268
  316N20060130,AAIW06,   169,  1,     35,     35,2,20060211,1853,-57.8962, -84.8267, 5112,     19.7,   7.4245,  33.9908,2,  33.9931,2,    293.1,2,    293.5,2,     0.56,2,    18.19,2,     0.22,2,     1.36,2,   7.4226
  316N20060130,AAIW06,   169,  1,     34,     34,2,20060211,1853,-57.8962, -84.8267, 5112,     44.0,   7.4144,  33.9928,2,  33.9950,0,    293.2,2,    292.4,2,     0.72,2,    18.22,2,     0.22,2,     1.36,2,   7.4103
  316N20060130,AAIW06,   169,  1,     33,     33,2,20060211,1853,-57.8962, -84.8267, 5112,     64.8,   7.2593,  34.0038,2,  34.0067,2,    294.0,2,    293.6,2,     0.88,2,    18.20,2,     0.21,2,     1.38,2,   7.2533
  316N20060130,AAIW06,   169,  1,     32,     32,2,20060211,1853,-57.8962, -84.8267, 5112,     88.8,   5.2984,  34.0922,2,  34.0947,2,    305.8,2,    305.5,2,     3.85,2,    19.34,2,     0.21,2,     1.53,2,   5.2914
  316N20060130,AAIW06,   169,  1,     31,     31,2,20060211,1853,-57.8962, -84.8267, 5112,    143.9,   4.9254,  34.1270,2,  34.1288,2,    291.6,2,    291.5,2,     8.03,2,    21.84,2,     0.02,2,     1.58,2,   4.9145
  316N20060130,AAIW06,   169,  1,     30,     30,2,20060211,1853,-57.8962, -84.8267, 5112,    193.8,   4.5855,  34.0967,2,  34.0976,2,    290.3,2,    292.7,2,     8.79,2,    22.58,2,     0.01,2,     1.62,2,   4.5713
  316N20060130,AAIW06,   169,  1,     29,     29,2,20060211,1853,-57.8962, -84.8267, 5112,    243.1,   4.2758,  34.0684,2,-999.0000,9,    291.8,2,    295.2,2,     8.95,2,    22.94,2,     0.01,2,     1.65,2,   4.2585
  316N20060130,AAIW06,   169,  1,     28,     28,2,20060211,1853,-57.8962, -84.8267, 5112,    292.3,   4.3246,  34.0948,2,-999.0000,9,    286.0,2,    283.9,2,    10.91,2,    23.86,2,     0.01,2,     1.71,2,   4.3035
  316N20060130,AAIW06,   169,  1,     27,     27,2,20060211,1853,-57.8962, -84.8267, 5112,    342.8,   4.3647,  34.1256,2,-999.0000,9,    279.3,2,    270.7,2,    13.29,2,    24.94,2,     0.01,2,     1.78,2,   4.3397
  316N20060130,AAIW06,   169,  1,     26,     26,2,20060211,1853,-57.8962, -84.8267, 5112,    392.2,   4.3689,  34.1552,2,-999.0000,9,    265.3,2,    258.3,2,    15.85,2,    26.15,2,     0.01,2,     1.84,2,   4.3401
  316N20060130,AAIW06,   169,  1,     25,     25,2,20060211,1853,-57.8962, -84.8267, 5112,    443.2,   4.1699,  34.1625,2,-999.0000,9,    251.4,2,    254.7,2,    18.02,2,    26.93,2,     0.01,2,     1.90,2,   4.1379
  316N20060130,AAIW06,   169,  1,     24,     24,2,20060211,1853,-57.8962, -84.8267, 5112,    494.3,   4.1212,  34.1989,2,-999.0000,9,    246.0,2,    242.0,2,    21.80,2,    28.14,2,     0.01,2,     1.98,2,   4.0855
  316N20060130,AAIW06,   169,  1,     23,     23,2,20060211,1853,-57.8962, -84.8267, 5112,    578.0,   3.9411,  34.2438,2,-999.0000,9,    226.3,2,    226.7,2,    27.57,2,    29.68,2,     0.01,2,     2.07,2,   3.8997
  316N20060130,AAIW06,   169,  1,     22,     22,2,20060211,1853,-57.8962, -84.8267, 5112,    657.5,   3.7194,  34.2839,2,-999.0000,9,    215.3,2,    214.5,2,    33.95,2,    31.02,2,     0.01,2,     2.16,2,   3.6730
  316N20060130,AAIW06,   169,  1,     20,     20,2,20060211,1853,-57.8962, -84.8267, 5112,    721.1,   3.2356,  34.2720,2,-999.0000,9,    222.3,2,    217.0,2,    37.52,2,    31.75,2,     0.00,2,     2.21,2,   3.1872
  316N20060130,AAIW06,   169,  1,     21,     21,9,20060211,1853,-57.8962, -84.8267, 5112,    722.0,   3.2253,  34.2717,2,-999.0000,9,   -999.0,9,   -999.0,9,  -999.00,9,  -999.00,9,  -999.00,9,  -999.00,9,   3.1769
  316N20060130,AAIW06,   169,  1,     19,     19,2,20060211,1853,-57.8962, -84.8267, 5112,    796.2,   3.1701,  34.3286,2,-999.0000,9,    206.7,2,    203.0,2,    44.31,2,    32.66,2,     0.00,2,     2.28,2,   3.1165
  316N20060130,AAIW06,   169,  1,     18,     18,2,20060211,1853,-57.8962, -84.8267, 5112,    877.3,   2.8533,  34.3436,2,-999.0000,9,    200.7,2,    200.4,2,    49.09,2,    33.34,2,     0.00,2,     2.32,2,   2.7958
  316N20060130,AAIW06,   169,  1,     17,     17,2,20060211,1853,-57.8962, -84.8267, 5112,    978.9,   2.7565,  34.4097,2,-999.0000,9,    188.0,2,    187.4,2,    57.09,2,    34.06,2,     0.00,2,     2.38,2,   2.6922
  316N20060130,AAIW06,   169,  1,     16,     16,2,20060211,1853,-57.8962, -84.8267, 5112,   1077.2,   2.6812,  34.4679,2,-999.0000,9,    179.9,2,    179.6,2,    63.50,2,    34.11,2,     0.00,2,     2.39,2,   2.6101
  316N20060130,AAIW06,   169,  1,     15,     15,2,20060211,1853,-57.8962, -84.8267, 5112,   1176.7,   2.5709,  34.5061,2,-999.0000,9,    175.7,2,    175.8,2,    67.68,2,    34.26,2,     0.00,2,     2.40,2,   2.4933
  316N20060130,AAIW06,   169,  1,     14,     14,2,20060211,1853,-57.8962, -84.8267, 5112,   1273.9,   2.5023,  34.5450,2,-999.0000,9,    173.6,2,    173.3,2,    71.68,2,    34.13,2,     0.00,2,     2.39,2,   2.4179
  316N20060130,AAIW06,   169,  1,     13,     13,2,20060211,1853,-57.8962, -84.8267, 5112,   1376.9,   2.4199,  34.5834,2,-999.0000,9,    171.5,2,    171.6,2,    75.48,2,    33.91,2,     0.00,2,     2.37,2,   2.3284
  316N20060130,AAIW06,   169,  1,     12,     12,2,20060211,1853,-57.8962, -84.8267, 5112,   1578.1,   2.3003,  34.6451,2,-999.0000,9,    172.3,2,    172.1,2,    81.29,2,    32.88,2,     0.00,2,     2.32,2,   2.1942
  316N20060130,AAIW06,   169,  1,     11,     11,2,20060211,1853,-57.8962, -84.8267, 5112,   1781.5,   2.1736,  34.6836,2,-999.0000,9,    175.6,2,    182.3,0,    85.30,2,    32.47,2,     0.00,2,     2.28,2,   2.0526
  316N20060130,AAIW06,   169,  1,     10,     10,2,20060211,1853,-57.8962, -84.8267, 5112,   1982.4,   2.0413,  34.7070,2,-999.0000,9,    179.3,2,    179.4,2,    89.31,2,    32.01,2,     0.00,2,     2.25,2,   1.9054
  316N20060130,AAIW06,   169,  1,      9,      9,2,20060211,1853,-57.8962, -84.8267, 5112,   2229.2,   1.8451,  34.7200,2,  34.7228,0,    183.6,2,    182.9,2,    96.17,2,    31.83,2,     0.00,2,     2.24,2,   1.6913
  316N20060130,AAIW06,   169,  1,      8,      8,2,20060211,1853,-57.8962, -84.8267, 5112,   2528.7,   1.6360,  34.7272,2,  34.7297,0,    189.1,2,    189.5,2,   101.01,2,    31.47,2,     0.00,2,     2.21,2,   1.4596
  316N20060130,AAIW06,   169,  1,      7,      7,2,20060211,1853,-57.8962, -84.8267, 5112,   2825.8,   1.4648,  34.7255,2,  34.7245,2,    192.1,2,    192.5,2,   106.47,2,    31.72,2,     0.00,2,     2.22,2,   1.2648
  316N20060130,AAIW06,   169,  1,      6,      6,2,20060211,1853,-57.8962, -84.8267, 5112,   3130.3,   1.3011,  34.7230,2,  34.7249,0,    196.1,2,    196.3,2,   110.52,2,    31.59,2,     0.00,2,     2.22,2,   1.0761
  316N20060130,AAIW06,   169,  1,      5,      5,2,20060211,1853,-57.8962, -84.8267, 5112,   3511.2,   1.0640,  34.7167,2,  34.7192,0,    200.8,2,    201.0,2,   118.25,2,    31.83,2,     0.00,2,     2.24,2,   0.8075
  316N20060130,AAIW06,   169,  1,      4,      4,2,20060211,1853,-57.8962, -84.8267, 5112,   3917.1,   0.8138,  34.7100,2,  34.7127,0,    205.6,2,    205.9,2,   126.41,2,    32.12,2,     0.00,2,     2.25,2,   0.5227
  316N20060130,AAIW06,   169,  1,      3,      3,2,20060211,1853,-57.8962, -84.8267, 5112,   4426.2,   0.6113,  34.7067,2,  34.7080,0,    210.1,2,    209.8,2,   133.99,2,    32.33,2,     0.00,2,     2.27,2,   0.2720
  316N20060130,AAIW06,   169,  1,      2,      2,2,20060211,1853,-57.8962, -84.8267, 5112,   4834.2,   0.5783,  34.7056,2,  34.7066,0,    211.4,2,    211.4,2,   136.02,2,    32.43,2,     0.00,2,     2.28,2,   0.1944
  316N20060130,AAIW06,   169,  1,      1,      1,2,20060211,1853,-57.8962, -84.8267, 5112,   5207.3,   0.5893,  34.7047,2,  34.7060,0,    212.7,2,    212.6,2,   138.26,2,    32.40,2,     0.00,2,     2.28,2,   0.1614