BOTTLE,20081218PRINUNIVRMK
EXPOCODE,SECT_ID,STNNBR,CASTNO,SAMPNO,BTLNBR,BTLNBR_FLAG_W,DATE,TIME,LATITUDE,LONGITUDE,DEPTH,CTDPRS,CTDTMP,CTDSAL,CTDSAL_FLAG_W,SALNTY,SALNTY_FLAG_W,CTDOXY,CTDOXY_FLAG_W,OXYGEN,OXYGEN_FLAG_W,SILCAT,SILCAT_FLAG_W,NITRAT,NITRAT_FLAG_W,NITRIT,NITRIT_FLAG_W,PHSPHT,PHSPHT_FLAG_W,THETA
,,,,,,,,,,,METERS,DBARS,ITS-90,PSS-78,,PSS-78,,UMOL/KG,,UMOL/KG,,UMOL/KG,,UMOL/KG,,UMOL/KG,,UMOL/KG,,DEGC
  316N20060130,AAIW06,   152,  1,     36,     36,2,20060205,2345,-59.2590, -76.0558, 4947,      4.5,   7.2402,  34.0113,2,  34.0080,2,    296.5,2,    296.3,2,     0.00,2,    19.08,2,     0.21,2,     1.33,2,   7.2398
  316N20060130,AAIW06,   152,  1,     35,     35,2,20060205,2345,-59.2590, -76.0558, 4947,     24.3,   7.2252,  34.0106,2,  34.0084,2,    296.9,2,    296.5,2,     0.00,2,    19.08,2,     0.21,2,     1.32,2,   7.2229
  316N20060130,AAIW06,   152,  1,     34,     34,2,20060205,2345,-59.2590, -76.0558, 4947,     54.9,   7.1233,  34.0143,2,  34.0135,2,    297.5,2,    298.0,2,     0.00,2,    19.24,2,     0.20,2,     1.32,2,   7.1182
  316N20060130,AAIW06,   152,  1,     33,     33,2,20060205,2345,-59.2590, -76.0558, 4947,     79.4,   5.5429,  34.0971,2,  34.0952,2,    302.5,2,    303.9,2,     1.25,2,    20.12,2,     0.21,2,     1.59,2,   5.5365
  316N20060130,AAIW06,   152,  1,     32,     32,2,20060205,2345,-59.2590, -76.0558, 4947,    102.8,   5.1158,  34.0972,2,  34.0936,0,    297.9,2,    299.6,2,     3.05,2,    20.76,2,     0.36,2,     1.65,2,   5.1079
  316N20060130,AAIW06,   152,  1,     31,     31,2,20060205,2345,-59.2590, -76.0558, 4947,    147.4,   4.7875,  34.1031,2,  34.1013,2,    298.6,2,    298.3,2,     6.86,2,    22.37,2,     0.03,2,     1.59,2,   4.7765
  316N20060130,AAIW06,   152,  1,     30,     30,2,20060205,2345,-59.2590, -76.0558, 4947,    208.6,   4.6123,  34.0962,2,  34.0917,0,    298.6,2,    295.9,2,     7.46,2,    22.89,2,     0.01,2,     1.62,2,   4.5969
  316N20060130,AAIW06,   152,  1,     29,     29,2,20060205,2345,-59.2590, -76.0558, 4947,    258.4,   4.4083,  34.0838,2,  34.0799,2,    296.1,2,    294.1,2,     8.25,2,    23.23,2,     0.01,2,     1.66,2,   4.3896
  316N20060130,AAIW06,   152,  1,     28,     28,2,20060205,2345,-59.2590, -76.0558, 4947,    305.2,   4.2312,  34.0758,2,  34.0721,2,    293.5,2,    293.0,2,     8.85,2,    24.04,2,     0.01,2,     1.69,2,   4.2094
  316N20060130,AAIW06,   152,  1,     27,     27,2,20060205,2345,-59.2590, -76.0558, 4947,    356.8,   4.3003,  34.1162,2,  34.1136,2,    285.9,2,    275.7,2,    11.85,2,    25.32,2,     0.01,2,     1.77,2,   4.2744
  316N20060130,AAIW06,   152,  1,     26,     26,2,20060205,2345,-59.2590, -76.0558, 4947,    408.6,   4.2571,  34.1428,2,  34.1373,2,    260.1,2,    265.2,2,    14.45,2,    26.36,2,     0.01,2,     1.84,2,   4.2274
  316N20060130,AAIW06,   152,  1,     25,     25,2,20060205,2345,-59.2590, -76.0558, 4947,    448.7,   4.2849,  34.1747,2,  34.1707,0,    249.4,2,    252.5,2,    17.45,2,    27.41,2,     0.00,2,     1.91,2,   4.2521
  316N20060130,AAIW06,   152,  1,     24,     24,2,20060205,2345,-59.2590, -76.0558, 4947,    494.8,   4.2771,  34.2070,2,  34.2040,2,    269.0,2,    240.3,2,    20.66,2,    28.35,2,     0.00,2,     1.98,2,   4.2407
  316N20060130,AAIW06,   152,  1,     23,     23,2,20060205,2345,-59.2590, -76.0558, 4947,    545.1,   4.0921,  34.2292,2,  34.2287,2,    264.4,2,    232.0,2,    24.46,2,    29.34,2,     0.00,2,     2.04,2,   4.0526
  316N20060130,AAIW06,   152,  1,     22,     22,2,20060205,2345,-59.2590, -76.0558, 4947,    594.5,   3.9755,  34.2500,2,  34.2536,2,    246.2,2,    225.2,2,    27.46,2,    30.08,2,     0.00,2,     2.09,2,   3.9327
  316N20060130,AAIW06,   152,  1,     21,     21,9,20060205,2345,-59.2590, -76.0558, 4947,    594.9,   3.9764,  34.2500,2,-999.0000,9,   -999.0,9,   -999.0,9,  -999.00,9,  -999.00,9,  -999.00,9,  -999.00,9,   3.9336
  316N20060130,AAIW06,   152,  1,     20,     20,2,20060205,2345,-59.2590, -76.0558, 4947,    645.2,   3.6752,  34.2445,2,  34.2450,2,    238.2,2,    226.9,2,    30.47,2,    30.53,2,     0.00,2,     2.13,2,   3.6300
  316N20060130,AAIW06,   152,  1,     19,     19,2,20060205,2345,-59.2590, -76.0558, 4947,    747.9,   3.4221,  34.2941,2,  34.2908,2,    213.6,2,    211.6,2,    37.69,2,    31.92,2,     0.00,2,     2.23,2,   3.3706
  316N20060130,AAIW06,   152,  1,     18,     18,2,20060205,2345,-59.2590, -76.0558, 4947,    847.4,   3.0598,  34.3176,2,  34.3158,2,    205.2,2,    205.7,2,    43.91,2,    32.66,2,     0.00,2,     2.30,2,   3.0031
  316N20060130,AAIW06,   152,  1,     17,     17,2,20060205,2345,-59.2590, -76.0558, 4947,    948.2,   2.8295,  34.3683,2,  34.3689,2,    195.0,2,    195.1,2,    51.94,2,    33.71,2,     0.00,2,     2.36,2,   2.7670
  316N20060130,AAIW06,   152,  1,     16,     16,2,20060205,2345,-59.2590, -76.0558, 4947,   1048.5,   2.7335,  34.4266,2,  34.4341,0,    186.4,2,    184.4,2,    58.97,2,    34.25,2,     0.00,2,     2.40,2,   2.6642
  316N20060130,AAIW06,   152,  1,     15,     15,2,20060205,2345,-59.2590, -76.0558, 4947,   1149.7,   2.6402,  34.4736,2,  34.4770,0,    178.4,2,    178.8,2,    64.40,2,    34.30,2,     0.00,2,     2.41,2,   2.5641
  316N20060130,AAIW06,   152,  1,     14,     14,2,20060205,2345,-59.2590, -76.0558, 4947,   1298.5,   2.5089,  34.5467,2,  34.5448,2,    173.0,2,    172.6,2,    72.04,2,    34.24,2,     0.00,2,     2.40,2,   2.4226
  316N20060130,AAIW06,   152,  1,     13,     13,2,20060205,2345,-59.2590, -76.0558, 4947,   1449.1,   2.3993,  34.5965,2,  34.5953,2,    171.1,2,    171.2,2,    76.68,2,    33.90,2,     0.00,2,     2.38,2,   2.3023
  316N20060130,AAIW06,   152,  1,     12,     12,2,20060205,2345,-59.2590, -76.0558, 4947,   1500.8,   2.3663,  34.6145,2,  34.6113,2,    171.3,2,    171.3,2,    78.49,2,    33.69,2,     0.00,2,     2.37,2,   2.2656
  316N20060130,AAIW06,   152,  1,     11,     11,2,20060205,2345,-59.2590, -76.0558, 4947,   1654.0,   2.2770,  34.6519,2,  34.6478,2,    172.6,2,    172.5,2,    82.12,2,    33.29,2,     0.00,2,     2.34,2,   2.1651
  316N20060130,AAIW06,   152,  1,     10,     10,2,20060205,2345,-59.2590, -76.0558, 4947,   1796.3,   2.1821,  34.6813,2,  34.6810,2,    174.9,2,    175.4,2,    84.54,2,    32.79,2,     0.00,2,     2.29,2,   2.0597
  316N20060130,AAIW06,   152,  1,      9,      9,2,20060205,2345,-59.2590, -76.0558, 4947,   2002.7,   2.0651,  34.7044,2,  34.7033,2,    178.5,2,    178.7,2,    88.58,2,    32.19,2,     0.00,2,     2.26,2,   1.9272
  316N20060130,AAIW06,   152,  1,      8,      8,2,20060205,2345,-59.2590, -76.0558, 4947,   2303.7,   1.8524,  34.7232,2,  34.7208,0,    183.9,2,    184.6,2,    94.45,2,    31.84,2,     0.00,2,     2.23,2,   1.6920
  316N20060130,AAIW06,   152,  1,      7,      7,2,20060205,2345,-59.2590, -76.0558, 4947,   2605.5,   1.6308,  34.7236,2,  34.7213,0,    187.7,2,    187.4,2,   102.77,2,    32.04,2,     0.00,2,     2.24,2,   1.4476
  316N20060130,AAIW06,   152,  1,      6,      6,2,20060205,2345,-59.2590, -76.0558, 4947,   2907.3,   1.4522,  34.7255,2,  34.7235,0,    192.9,2,    193.0,2,   106.63,2,    31.98,2,     0.00,2,     2.24,2,   1.2449
  316N20060130,AAIW06,   152,  1,      5,      5,2,20060205,2345,-59.2590, -76.0558, 4947,   3209.1,   1.2864,  34.7220,2,  34.7192,0,    196.7,2,    196.5,2,   111.53,2,    31.98,2,     0.00,2,     2.24,2,   1.0541
  316N20060130,AAIW06,   152,  1,      4,      4,2,20060205,2345,-59.2590, -76.0558, 4947,   3612.6,   1.0349,  34.7156,2,  34.7133,0,    201.5,2,    201.3,2,   118.26,2,    32.22,2,     0.00,2,     2.26,2,   0.7690
  316N20060130,AAIW06,   152,  1,      3,      3,2,20060205,2345,-59.2590, -76.0558, 4947,   4017.6,   0.7880,  34.7092,2,  34.7068,2,    206.9,2,    206.7,2,   126.87,2,    32.32,2,     0.00,2,     2.26,2,   0.4872
  316N20060130,AAIW06,   152,  1,      2,      2,2,20060205,2345,-59.2590, -76.0558, 4947,   4526.2,   0.6072,  34.7063,2,  34.7038,0,    210.6,2,    211.4,2,   134.89,2,    32.63,2,     0.00,2,     2.28,2,   0.2570
  316N20060130,AAIW06,   152,  1,      1,      1,2,20060205,2345,-59.2590, -76.0558, 4947,   5032.0,   0.5794,  34.7048,2,  34.7038,2,   -999.0,9,   -999.0,9,   137.76,2,    32.62,2,     0.00,2,     2.29,2,   0.1725
  316N20060130,AAIW06,   153,  1,     36,     36,2,20060206,1048,-60.4270, -77.0033, 4838,      6.6,   6.4301,  33.9641,2,  33.9631,2,    299.8,2,    300.2,2,     0.00,2,    20.28,2,     0.20,2,     1.45,2,   6.4295
  316N20060130,AAIW06,   153,  1,     35,     35,2,20060206,1048,-60.4270, -77.0033, 4838,     26.6,   6.4245,  33.9667,2,-999.0000,9,   -999.0,9,   -999.0,9,  -999.00,9,  -999.00,9,  -999.00,9,  -999.00,9,   6.4222
  316N20060130,AAIW06,   153,  1,     34,     34,2,20060206,1048,-60.4270, -77.0033, 4838,     26.7,   6.4261,  33.9662,2,-999.0000,9,   -999.0,9,   -999.0,9,  -999.00,9,  -999.00,9,  -999.00,9,  -999.00,9,   6.4238
  316N20060130,AAIW06,   153,  1,     33,     33,2,20060206,1048,-60.4270, -77.0033, 4838,     26.7,   6.4253,  33.9664,2,  33.9653,2,    301.5,2,    300.4,2,     0.00,2,    20.28,2,     0.20,2,     1.45,2,   6.4230
  316N20060130,AAIW06,   153,  1,     32,     32,2,20060206,1048,-60.4270, -77.0033, 4838,     51.2,   5.7571,  33.9790,2,  33.9772,2,    306.0,2,    305.1,2,     0.00,2,    20.64,2,     0.19,2,     1.52,2,   5.7529
  316N20060130,AAIW06,   153,  1,     31,     31,2,20060206,1048,-60.4270, -77.0033, 4838,     76.5,   4.0467,  33.9984,2,  33.9974,2,    314.2,2,    313.4,2,     2.15,2,    22.29,2,     0.19,2,     1.75,2,   4.0415
  316N20060130,AAIW06,   153,  1,     30,     30,2,20060206,1048,-60.4270, -77.0033, 4838,    130.2,   3.2835,  34.0206,2,  34.0199,2,    302.8,2,    303.7,2,    13.15,2,    25.51,2,     0.04,2,     1.80,2,   3.2754
  316N20060130,AAIW06,   153,  1,     29,     29,2,20060206,1048,-60.4270, -77.0033, 4838,    175.5,   3.0927,  34.0309,2,  34.0291,2,    298.0,2,    299.2,2,    13.93,2,    26.34,2,     0.01,2,     1.85,2,   3.0819
  316N20060130,AAIW06,   153,  1,     28,     28,2,20060206,1048,-60.4270, -77.0033, 4838,    225.6,   2.9126,  34.0477,2,  34.0502,2,    288.7,2,    292.4,2,    16.33,2,    27.14,2,     0.00,2,     1.90,2,   2.8990
  316N20060130,AAIW06,   153,  1,     27,     27,2,20060206,1048,-60.4270, -77.0033, 4838,    275.1,   3.1813,  34.1107,2,  34.1066,0,    277.5,2,    271.4,2,    19.71,2,    28.24,2,     0.00,2,     1.98,2,   3.1640
  316N20060130,AAIW06,   153,  1,     26,     26,2,20060206,1048,-60.4270, -77.0033, 4838,    325.2,   3.1207,  34.1381,2,  34.1358,0,    257.3,2,    262.0,2,    22.90,2,    29.19,2,     0.00,2,     2.02,2,   3.1003
  316N20060130,AAIW06,   153,  1,     25,     25,2,20060206,1048,-60.4270, -77.0033, 4838,    374.2,   3.1938,  34.1811,2,  34.1806,2,    247.7,2,    247.0,2,    26.89,2,    30.04,2,     0.00,2,     2.09,2,   3.1699
  316N20060130,AAIW06,   153,  1,     24,     24,2,20060206,1048,-60.4270, -77.0033, 4838,    423.1,   3.0276,  34.1923,2,  34.1932,2,    245.0,2,    243.6,2,    29.88,2,    30.69,2,     0.00,2,     2.14,2,   3.0009
  316N20060130,AAIW06,   153,  1,     23,     23,2,20060206,1048,-60.4270, -77.0033, 4838,    471.1,   2.7165,  34.1984,2,  34.1967,2,    245.7,2,    245.3,2,    32.47,2,    31.08,2,     0.00,2,     2.16,2,   2.6878
  316N20060130,AAIW06,   153,  1,     21,     21,9,20060206,1048,-60.4270, -77.0033, 4838,    519.9,   2.5671,  34.2265,2,-999.0000,9,   -999.0,9,   -999.0,9,  -999.00,9,  -999.00,9,  -999.00,9,  -999.00,9,   2.5358
  316N20060130,AAIW06,   153,  1,     22,     22,2,20060206,1048,-60.4270, -77.0033, 4838,    520.5,   2.5667,  34.2271,2,  34.2259,2,    234.9,2,    235.9,2,    37.26,2,    31.88,2,     0.00,2,     2.22,2,   2.5354
  316N20060130,AAIW06,   153,  1,     20,     20,2,20060206,1048,-60.4270, -77.0033, 4838,    638.2,   2.5997,  34.3073,2,  34.3063,2,    207.2,2,    211.4,2,    46.86,2,    33.44,2,     0.00,2,     2.32,2,   2.5604
  316N20060130,AAIW06,   153,  1,     19,     19,2,20060206,1048,-60.4270, -77.0033, 4838,    736.1,   2.7598,  34.4056,2,  34.4046,2,    189.2,2,    187.8,2,    56.27,2,    34.19,2,     0.00,2,     2.39,2,   2.7129
  316N20060130,AAIW06,   153,  1,     18,     18,2,20060206,1048,-60.4270, -77.0033, 4838,    835.3,   2.5912,  34.4521,2,  34.4511,2,    181.5,2,    181.0,2,    62.28,2,    34.48,2,     0.00,2,     2.41,2,   2.5383
  316N20060130,AAIW06,   153,  1,     17,     17,2,20060206,1048,-60.4270, -77.0033, 4838,    934.4,   2.5101,  34.4998,2,  34.4999,2,    176.2,2,    175.9,2,    67.09,2,    34.73,2,     0.00,2,     2.41,2,   2.4507
  316N20060130,AAIW06,   153,  1,     16,     16,2,20060206,1048,-60.4270, -77.0033, 4838,   1034.3,   2.4421,  34.5482,2,  34.5474,2,    173.1,2,    172.9,2,    71.90,2,    34.49,2,     0.00,2,     2.39,2,   2.3760
  316N20060130,AAIW06,   153,  1,     15,     15,2,20060206,1048,-60.4270, -77.0033, 4838,   1134.8,   2.3727,  34.5865,2,  34.5861,2,    171.8,2,    171.6,2,    75.71,2,    34.08,2,     0.00,2,     2.38,2,   2.2998
  316N20060130,AAIW06,   153,  1,     14,     14,2,20060206,1048,-60.4270, -77.0033, 4838,   1234.0,   2.3138,  34.6199,2,  34.6195,2,    171.5,2,    171.7,2,    77.92,2,    33.79,2,     0.00,2,     2.36,2,   2.2341
  316N20060130,AAIW06,   153,  1,     13,     13,2,20060206,1048,-60.4270, -77.0033, 4838,   1333.7,   2.2694,  34.6441,2,  34.6440,2,    171.8,2,    172.2,2,    80.72,2,    33.49,2,     0.00,2,     2.33,2,   2.1826
  316N20060130,AAIW06,   153,  1,     12,     12,2,20060206,1048,-60.4270, -77.0033, 4838,   1434.3,   2.1923,  34.6701,2,  34.6701,2,    174.5,2,    174.3,2,    82.74,2,    33.00,2,     0.00,2,     2.31,2,   2.0986
  316N20060130,AAIW06,   153,  1,     11,     11,2,20060206,1048,-60.4270, -77.0033, 4838,   1533.5,   2.1387,  34.6855,2,  34.6860,2,    175.8,2,    176.4,2,    84.34,2,    32.69,2,     0.00,2,     2.28,2,   2.0379
  316N20060130,AAIW06,   153,  1,     10,     10,2,20060206,1048,-60.4270, -77.0033, 4838,   1633.3,   2.0793,  34.6998,2,  34.6992,2,    178.3,2,    178.8,2,    85.74,2,    32.40,2,     0.00,2,     2.26,2,   1.9714
  316N20060130,AAIW06,   153,  1,      9,      9,2,20060206,1048,-60.4270, -77.0033, 4838,   1832.8,   1.9458,  34.7155,2,  34.7159,2,    180.6,2,    181.5,2,    90.78,2,    32.15,2,     0.00,2,     2.24,2,   1.8236
  316N20060130,AAIW06,   153,  1,      8,      8,2,20060206,1048,-60.4270, -77.0033, 4838,   2067.8,   1.7891,  34.7269,2,  34.7268,2,    186.3,2,    186.6,2,    94.40,2,    31.85,2,     0.00,2,     2.22,2,   1.6499
  316N20060130,AAIW06,   153,  1,      7,      7,2,20060206,1048,-60.4270, -77.0033, 4838,   2472.9,   1.5059,  34.7268,2,  34.7270,2,    191.4,2,    191.5,2,   103.73,2,    31.95,2,     0.00,2,     2.22,2,   1.3369
  316N20060130,AAIW06,   153,  1,      6,      6,2,20060206,1048,-60.4270, -77.0033, 4838,   2878.8,   1.2715,  34.7237,2,  34.7244,2,    197.2,2,    196.9,2,   110.23,2,    32.01,2,     0.00,2,     2.22,2,   1.0707
  316N20060130,AAIW06,   153,  1,      5,      5,2,20060206,1048,-60.4270, -77.0033, 4838,   3285.9,   1.0394,  34.7168,2,  34.7154,2,    201.4,2,    201.4,2,   117.56,2,    32.20,2,     0.00,2,     2.24,2,   0.8056
  316N20060130,AAIW06,   153,  1,      4,      4,2,20060206,1048,-60.4270, -77.0033, 4838,   3693.5,   0.8264,  34.7101,2,  34.7100,2,    205.4,2,    205.4,2,   124.50,2,    32.46,2,     0.00,2,     2.26,2,   0.5579
  316N20060130,AAIW06,   153,  1,      3,      3,2,20060206,1048,-60.4270, -77.0033, 4838,   4099.6,   0.6169,  34.7068,2,  34.7057,2,    209.5,2,    210.1,2,   131.67,2,    32.71,2,     0.00,2,     2.28,2,   0.3124
  316N20060130,AAIW06,   153,  1,      2,      2,2,20060206,1048,-60.4270, -77.0033, 4838,   4506.3,   0.5386,  34.7053,2,  34.7041,2,    211.1,2,    212.0,2,   136.19,2,    32.66,2,     0.00,2,     2.28,2,   0.1928
  316N20060130,AAIW06,   153,  1,      1,      1,2,20060206,1048,-60.4270, -77.0033, 4838,   4912.7,   0.5168,  34.7040,2,  34.7046,2,    212.5,2,    212.3,2,   139.27,2,    32.86,2,     0.00,2,     2.28,2,   0.1259