BOTTLE,20081218PRINUNIVRMK
EXPOCODE,SECT_ID,STNNBR,CASTNO,SAMPNO,BTLNBR,BTLNBR_FLAG_W,DATE,TIME,LATITUDE,LONGITUDE,DEPTH,CTDPRS,CTDTMP,CTDSAL,CTDSAL_FLAG_W,SALNTY,SALNTY_FLAG_W,CTDOXY,CTDOXY_FLAG_W,OXYGEN,OXYGEN_FLAG_W,SILCAT,SILCAT_FLAG_W,NITRAT,NITRAT_FLAG_W,NITRIT,NITRIT_FLAG_W,PHSPHT,PHSPHT_FLAG_W,THETA
,,,,,,,,,,,METERS,DBARS,ITS-90,PSS-78,,PSS-78,,UMOL/KG,,UMOL/KG,,UMOL/KG,,UMOL/KG,,UMOL/KG,,UMOL/KG,,DEGC
  316N20060130,AAIW06,   195,  1,     36,     36,2,20060220, 640,-54.5185, -88.9928, 4515,      4.5,   8.5252,  34.1153,2,  34.1169,2,    284.3,2,    284.4,2,     0.91,2,    16.37,2,     0.23,2,     1.17,2,   8.5247
  316N20060130,AAIW06,   195,  1,     35,     35,2,20060220, 640,-54.5185, -88.9928, 4515,     21.9,   8.5297,  34.1150,2,  34.1165,2,    285.1,2,    284.4,2,     0.80,2,    16.37,2,     0.23,2,     1.18,2,   8.5274
  316N20060130,AAIW06,   195,  1,     34,     34,2,20060220, 640,-54.5185, -88.9928, 4515,     46.7,   8.5309,  34.1148,2,  34.1167,2,    285.6,2,    284.6,2,     0.91,2,    16.36,2,     0.23,2,     1.17,2,   8.5261
  316N20060130,AAIW06,   195,  1,     33,     33,2,20060220, 640,-54.5185, -88.9928, 4515,     71.5,   8.5077,  34.1121,2,  34.1153,2,    285.4,2,    284.7,2,     0.81,2,    16.47,2,     0.22,2,     1.18,2,   8.5003
  316N20060130,AAIW06,   195,  1,     32,     32,2,20060220, 640,-54.5185, -88.9928, 4515,     96.7,   5.8821,  34.1490,2,  34.1506,2,    303.5,2,    302.5,2,     4.64,2,    18.90,2,     0.17,2,     1.38,2,   5.8741
  316N20060130,AAIW06,   195,  1,     31,     31,2,20060220, 640,-54.5185, -88.9928, 4515,    131.3,   5.5923,  34.1638,2,-999.0000,9,    297.5,2,    298.8,2,     5.57,2,    19.57,2,     0.21,2,     1.43,2,   5.5817
  316N20060130,AAIW06,   195,  1,     30,     30,2,20060220, 640,-54.5185, -88.9928, 4515,    175.8,   5.4049,  34.1676,2,-999.0000,9,    297.4,2,    298.4,2,     6.50,2,    20.26,2,     0.43,2,     1.46,2,   5.3909
  316N20060130,AAIW06,   195,  1,     29,     29,2,20060220, 640,-54.5185, -88.9928, 4515,    226.3,   5.4743,  34.1946,2,-999.0000,9,    289.6,2,    289.8,2,     6.83,2,    21.03,2,     0.02,2,     1.49,2,   5.4560
  316N20060130,AAIW06,   195,  1,     28,     28,2,20060220, 640,-54.5185, -88.9928, 4515,    275.5,   5.3126,  34.1816,2,-999.0000,9,    291.1,2,    294.7,2,     6.73,2,    20.83,2,     0.01,2,     1.47,2,   5.2906
  316N20060130,AAIW06,   195,  1,     27,     27,2,20060220, 640,-54.5185, -88.9928, 4515,    326.0,   5.2640,  34.1798,2,-999.0000,9,    291.9,2,    294.7,2,     6.84,2,    20.98,2,     0.01,2,     1.48,2,   5.2379
  316N20060130,AAIW06,   195,  1,     26,     26,2,20060220, 640,-54.5185, -88.9928, 4515,    375.6,   5.2020,  34.1755,2,-999.0000,9,    292.2,2,    293.4,2,     6.94,2,    21.17,2,     0.01,2,     1.49,2,   5.1720
  316N20060130,AAIW06,   195,  1,     25,     25,2,20060220, 640,-54.5185, -88.9928, 4515,    425.5,   5.2407,  34.1894,2,-999.0000,9,    287.3,2,    286.8,2,     8.08,2,    21.84,2,     0.01,2,     1.53,2,   5.2065
  316N20060130,AAIW06,   195,  1,     24,     24,2,20060220, 640,-54.5185, -88.9928, 4515,    475.3,   5.2126,  34.1966,2,-999.0000,9,    280.2,2,    276.9,2,     9.85,2,    23.05,2,     0.01,2,     1.60,2,   5.1743
  316N20060130,AAIW06,   195,  1,     23,     23,2,20060220, 640,-54.5185, -88.9928, 4515,    525.0,   5.1503,  34.1988,2,-999.0000,9,    274.3,2,    273.5,2,    10.57,2,    23.55,2,     0.01,2,     1.63,2,   5.1080
  316N20060130,AAIW06,   195,  1,     21,     21,9,20060220, 640,-54.5185, -88.9928, 4515,    644.5,   4.8569,  34.2170,2,-999.0000,9,   -999.0,9,   -999.0,9,  -999.00,9,  -999.00,9,  -999.00,9,  -999.00,9,   4.8059
  316N20060130,AAIW06,   195,  1,     22,     22,2,20060220, 640,-54.5185, -88.9928, 4515,    644.5,   4.8556,  34.2173,2,-999.0000,9,    247.6,2,    247.9,2,    16.26,2,    26.45,2,     0.00,2,     1.82,2,   4.8046
  316N20060130,AAIW06,   195,  1,     20,     20,2,20060220, 640,-54.5185, -88.9928, 4515,    744.9,   4.5205,  34.2424,2,-999.0000,9,    232.2,2,    231.1,2,    22.16,2,    28.39,2,     0.00,2,     1.95,2,   4.4629
  316N20060130,AAIW06,   195,  1,     19,     19,2,20060220, 640,-54.5185, -88.9928, 4515,    844.4,   4.1823,  34.2719,2,-999.0000,9,    220.0,2,    218.6,2,    28.48,2,    29.96,2,     0.00,2,     2.06,2,   4.1185
  316N20060130,AAIW06,   195,  1,     18,     18,2,20060220, 640,-54.5185, -88.9928, 4515,    943.5,   3.7889,  34.3002,2,-999.0000,9,    211.6,2,    210.0,2,    35.01,2,    31.19,2,     0.00,2,     2.15,2,   3.7198
  316N20060130,AAIW06,   195,  1,     17,     17,2,20060220, 640,-54.5185, -88.9928, 4515,   1043.8,   3.4576,  34.3290,2,-999.0000,9,    203.8,2,    203.2,2,    42.16,2,    32.04,2,     0.00,2,     2.22,2,   3.3830
  316N20060130,AAIW06,   195,  1,     16,     16,2,20060220, 640,-54.5185, -88.9928, 4515,   1143.8,   3.1823,  34.3662,2,-999.0000,9,    196.3,2,    194.8,2,    49.11,2,    32.95,2,     0.00,2,     2.29,2,   3.1020
  316N20060130,AAIW06,   195,  1,     15,     15,2,20060220, 640,-54.5185, -88.9928, 4515,   1243.2,   2.9623,  34.4078,2,-999.0000,9,    189.1,2,    183.9,2,    56.06,2,    33.51,2,     0.00,2,     2.33,2,   2.8761
  316N20060130,AAIW06,   195,  1,     14,     14,2,20060220, 640,-54.5185, -88.9928, 4515,   1344.0,   2.8029,  34.4507,2,-999.0000,9,    181.3,2,    180.2,2,    61.98,2,    33.86,2,     0.00,2,     2.36,2,   2.7102
  316N20060130,AAIW06,   195,  1,     13,     13,2,20060220, 640,-54.5185, -88.9928, 4515,   1443.4,   2.6825,  34.4925,2,-999.0000,9,    176.3,2,    175.6,2,    67.30,2,    34.10,2,     0.00,2,     2.37,2,   2.5831
  316N20060130,AAIW06,   195,  1,     12,     12,2,20060220, 640,-54.5185, -88.9928, 4515,   1543.1,   2.5865,  34.5321,2,-999.0000,9,    172.5,2,    172.9,2,    71.57,2,    34.00,2,     0.00,2,     2.37,2,   2.4800
  316N20060130,AAIW06,   195,  1,     11,     11,2,20060220, 640,-54.5185, -88.9928, 4515,   1642.5,   2.5127,  34.5667,2,-999.0000,9,    170.6,2,    170.7,2,    75.64,2,    33.89,2,     0.00,2,     2.36,2,   2.3990
  316N20060130,AAIW06,   195,  1,     10,     10,2,20060220, 640,-54.5185, -88.9928, 4515,   1843.5,   2.3662,  34.6283,2,-999.0000,9,    169.3,2,    169.7,2,    82.44,2,    33.47,2,     0.00,2,     2.34,2,   2.2375
  316N20060130,AAIW06,   195,  1,      9,      9,2,20060220, 640,-54.5185, -88.9928, 4515,   2104.1,   2.2032,  34.6759,2,-999.0000,9,    172.5,2,    171.7,2,    89.03,2,    32.85,2,     0.00,2,     2.29,2,   2.0545
  316N20060130,AAIW06,   195,  1,      8,      8,2,20060220, 640,-54.5185, -88.9928, 4515,   2354.8,   2.0327,  34.7001,2,  34.7015,2,    175.6,2,    175.0,2,    95.22,2,    32.43,2,     0.00,2,     2.26,2,   1.8647
  316N20060130,AAIW06,   195,  1,      7,      7,2,20060220, 640,-54.5185, -88.9928, 4515,   2604.3,   1.8773,  34.7132,2,  34.7143,2,    179.6,2,    179.6,2,    99.12,2,    32.22,2,     0.00,2,     2.24,2,   1.6895
  316N20060130,AAIW06,   195,  1,      6,      6,2,20060220, 640,-54.5185, -88.9928, 4515,   2856.0,   1.6974,  34.7171,2,  34.7184,0,    183.4,2,    183.6,2,   104.70,2,    32.26,2,     0.00,2,     2.24,2,   1.4898
  316N20060130,AAIW06,   195,  1,      5,      5,2,20060220, 640,-54.5185, -88.9928, 4515,   3108.4,   1.5600,  34.7209,2,  34.7217,2,    188.4,2,    188.8,2,   107.55,2,    32.01,2,     0.00,2,     2.22,2,   1.3312
  316N20060130,AAIW06,   195,  1,      4,      4,2,20060220, 640,-54.5185, -88.9928, 4515,   3363.7,   1.3898,  34.7187,2,  34.7175,2,    191.8,2,    191.8,2,   111.48,2,    32.09,2,     0.00,2,     2.22,2,   1.1399
  316N20060130,AAIW06,   195,  1,      3,      3,2,20060220, 640,-54.5185, -88.9928, 4515,   3717.7,   1.0957,  34.7156,2,  34.7161,2,    199.8,2,    200.1,2,   119.40,2,    31.99,2,     0.00,2,     2.21,2,   0.8175
  316N20060130,AAIW06,   195,  1,      2,      2,2,20060220, 640,-54.5185, -88.9928, 4515,   4124.2,   0.7845,  34.7096,2,  34.7077,0,    205.6,2,    205.9,2,   129.70,2,    32.13,2,     0.00,2,     2.24,2,   0.4725
  316N20060130,AAIW06,   195,  1,      1,      1,2,20060220, 640,-54.5185, -88.9928, 4515,   4585.7,   0.6620,  34.7068,2,  34.7067,2,    208.5,2,    208.4,2,   134.71,2,    32.49,2,     0.00,2,     2.25,2,   0.3035
  316N20060130,AAIW06,   196,  1,     36,     36,2,20060220,1312,-54.0100, -88.9925, 4786,      3.2,   8.6089,  34.1101,2,  34.1116,2,    285.3,2,    285.4,2,     0.77,2,    16.40,2,     0.22,2,     1.18,2,   8.6086
  316N20060130,AAIW06,   196,  1,     35,     35,2,20060220,1312,-54.0100, -88.9925, 4786,     15.3,   8.5916,  34.1102,2,  34.1112,2,    286.3,2,    286.2,2,     0.75,2,    16.41,2,     0.22,2,     1.18,2,   8.5900
  316N20060130,AAIW06,   196,  1,     34,     34,2,20060220,1312,-54.0100, -88.9925, 4786,     15.5,   8.5909,  34.1103,2,-999.0000,9,   -999.0,9,   -999.0,9,  -999.00,9,  -999.00,9,  -999.00,9,  -999.00,9,   8.5893
  316N20060130,AAIW06,   196,  1,     32,     32,2,20060220,1312,-54.0100, -88.9925, 4786,     40.3,   8.5888,  34.1106,2,  34.1115,2,    286.5,2,    285.3,2,     0.73,2,    16.40,2,     0.22,2,     1.17,2,   8.5846
  316N20060130,AAIW06,   196,  1,     33,     33,2,20060220,1312,-54.0100, -88.9925, 4786,     40.4,   8.5901,  34.1106,2,-999.0000,9,   -999.0,9,   -999.0,9,  -999.00,9,  -999.00,9,  -999.00,9,  -999.00,9,   8.5859
  316N20060130,AAIW06,   196,  1,     31,     31,2,20060220,1312,-54.0100, -88.9925, 4786,     64.8,   8.5676,  34.1087,2,  34.1081,2,    286.4,2,    285.1,2,     0.71,2,    16.35,2,     0.22,2,     1.17,2,   8.5609
  316N20060130,AAIW06,   196,  1,     30,     30,2,20060220,1312,-54.0100, -88.9925, 4786,     94.8,   6.0619,  34.1520,2,  34.1535,2,    302.2,2,    302.6,2,     4.57,2,    18.91,2,     0.16,2,     1.40,2,   6.0539
  316N20060130,AAIW06,   196,  1,     29,     29,2,20060220,1312,-54.0100, -88.9925, 4786,    139.0,   5.4639,  34.1650,2,-999.0000,9,    297.7,2,    297.3,2,     5.78,2,    19.93,2,     0.41,2,     1.45,2,   5.4528
  316N20060130,AAIW06,   196,  1,     28,     28,2,20060220,1312,-54.0100, -88.9925, 4786,    189.6,   5.3853,  34.1741,2,-999.0000,9,    295.3,2,    294.5,2,     6.17,2,    20.73,2,     0.01,2,     1.47,2,   5.3702
  316N20060130,AAIW06,   196,  1,     27,     27,2,20060220,1312,-54.0100, -88.9925, 4786,    238.9,   5.3219,  34.1788,2,-999.0000,9,    292.6,2,    294.2,2,     6.35,2,    20.89,2,     0.01,2,     1.47,2,   5.3029
  316N20060130,AAIW06,   196,  1,     26,     26,2,20060220,1312,-54.0100, -88.9925, 4786,    288.9,   5.2979,  34.1842,2,-999.0000,9,    291.7,2,    292.3,2,     6.33,2,    21.05,2,     0.01,2,     1.48,2,   5.2748
  316N20060130,AAIW06,   196,  1,     25,     25,2,20060220,1312,-54.0100, -88.9925, 4786,    338.4,   5.2460,  34.1797,2,-999.0000,9,    292.7,2,    293.2,2,     6.31,2,    21.05,2,     0.01,2,     1.48,2,   5.2190
  316N20060130,AAIW06,   196,  1,     24,     24,2,20060220,1312,-54.0100, -88.9925, 4786,    388.8,   5.2346,  34.1827,2,-999.0000,9,    290.9,2,    291.7,2,     6.71,2,    21.30,2,     0.00,2,     1.49,2,   5.2034
  316N20060130,AAIW06,   196,  1,     23,     23,2,20060220,1312,-54.0100, -88.9925, 4786,    438.3,   5.2740,  34.1985,2,-999.0000,9,    281.1,2,    281.8,2,     8.32,2,    22.41,2,     0.00,2,     1.56,2,   5.2386
  316N20060130,AAIW06,   196,  1,     22,     22,2,20060220,1312,-54.0100, -88.9925, 4786,    488.4,   5.2039,  34.1974,2,-999.0000,9,    276.2,2,    278.5,2,     9.12,2,    22.78,2,     0.00,2,     1.59,2,   5.1645
  316N20060130,AAIW06,   196,  1,     21,     21,9,20060220,1312,-54.0100, -88.9925, 4786,    488.6,   5.2062,  34.1971,2,-999.0000,9,   -999.0,9,   -999.0,9,  -999.00,9,  -999.00,9,  -999.00,9,  -999.00,9,   5.1668
  316N20060130,AAIW06,   196,  1,     20,     20,2,20060220,1312,-54.0100, -88.9925, 4786,    573.6,   4.9867,  34.1982,2,-999.0000,9,    263.5,2,    262.9,2,    12.17,2,    24.87,2,     0.00,2,     1.72,2,   4.9410
  316N20060130,AAIW06,   196,  1,     19,     19,2,20060220,1312,-54.0100, -88.9925, 4786,    673.6,   4.7288,  34.2266,2,-999.0000,9,    241.3,2,    240.0,2,    18.09,2,    27.27,2,     0.00,2,     1.88,2,   4.6760
  316N20060130,AAIW06,   196,  1,     18,     18,2,20060220,1312,-54.0100, -88.9925, 4786,    773.5,   4.4226,  34.2544,2,-999.0000,9,    226.5,2,    225.4,2,    23.61,2,    29.07,2,     0.00,2,     1.99,2,   4.3632
  316N20060130,AAIW06,   196,  1,     17,     17,2,20060220,1312,-54.0100, -88.9925, 4786,    873.7,   4.0217,  34.2817,2,-999.0000,9,    214.8,2,    214.6,2,    30.96,2,    30.50,2,     0.00,2,     2.10,2,   3.9566
  316N20060130,AAIW06,   196,  1,     16,     16,2,20060220,1312,-54.0100, -88.9925, 4786,    973.9,   3.6493,  34.3119,2,-999.0000,9,    206.4,2,    205.9,2,    38.12,2,    31.73,2,     0.00,2,     2.17,2,   3.5788
  316N20060130,AAIW06,   196,  1,     15,     15,2,20060220,1312,-54.0100, -88.9925, 4786,   1073.4,   3.3691,  34.3461,2,-999.0000,9,    196.6,2,    196.3,2,    44.67,2,    32.70,2,     0.00,2,     2.27,2,   3.2928
  316N20060130,AAIW06,   196,  1,     14,     14,2,20060220,1312,-54.0100, -88.9925, 4786,   1174.2,   3.1473,  34.3850,2,-999.0000,9,    187.2,2,    187.1,2,    52.04,2,    33.52,2,     0.00,2,     2.32,2,   3.0649
  316N20060130,AAIW06,   196,  1,     13,     13,2,20060220,1312,-54.0100, -88.9925, 4786,   1274.5,   2.9489,  34.4350,2,-999.0000,9,    176.5,2,    176.1,2,    59.42,2,    34.24,2,     0.00,2,     2.38,2,   2.8603
  316N20060130,AAIW06,   196,  1,     12,     12,2,20060220,1312,-54.0100, -88.9925, 4786,   1374.1,   2.8015,  34.4808,2,-999.0000,9,    168.7,2,    168.6,2,    66.83,2,    34.64,2,     0.00,2,     2.42,2,   2.7064
  316N20060130,AAIW06,   196,  1,     11,     11,2,20060220,1312,-54.0100, -88.9925, 4786,   1575.0,   2.5848,  34.5560,2,-999.0000,9,    160.8,2,    160.4,2,    78.15,2,    34.80,2,     0.00,2,     2.43,2,   2.4757
  316N20060130,AAIW06,   196,  1,     10,     10,9,20060220,1312,-54.0100, -88.9925, 4786,   1775.6,   2.4055,  34.6088,2,-999.0000,9,   -999.0,9,   -999.0,9,  -999.00,9,  -999.00,9,  -999.00,9,  -999.00,9,   2.2820
  316N20060130,AAIW06,   196,  1,      9,      9,2,20060220,1312,-54.0100, -88.9925, 4786,   1977.0,   2.2661,  34.6457,2,-999.0000,9,    163.1,2,    163.4,2,    90.34,2,    33.93,2,     0.00,2,     2.35,2,   2.1275
  316N20060130,AAIW06,   196,  1,      8,      8,2,20060220,1312,-54.0100, -88.9925, 4786,   2279.0,   2.0461,  34.6792,2,-999.0000,9,    165.7,2,    165.9,2,   100.50,2,    33.66,2,     0.00,2,     2.34,2,   1.8847
  316N20060130,AAIW06,   196,  1,      7,      7,2,20060220,1312,-54.0100, -88.9925, 4786,   2581.3,   1.8516,  34.6914,2,  34.6911,2,    168.7,2,    166.6,2,   109.65,2,    33.77,2,     0.00,2,     2.35,2,   1.6665
  316N20060130,AAIW06,   196,  1,      6,      6,2,20060220,1312,-54.0100, -88.9925, 4786,   2883.6,   1.7527,  34.7111,2,  34.7109,2,    179.0,2,    178.9,2,   105.50,2,    32.59,2,     0.00,2,     2.26,2,   1.5413
  316N20060130,AAIW06,   196,  1,      5,      5,2,20060220,1312,-54.0100, -88.9925, 4786,   3247.3,   1.5624,  34.7214,2,  34.7201,2,    188.9,2,    188.5,2,   107.17,2,    31.97,2,     0.00,2,     2.22,2,   1.3199
  316N20060130,AAIW06,   196,  1,      4,      4,2,20060220,1312,-54.0100, -88.9925, 4786,   3652.1,   1.2635,  34.7184,2,  34.7179,2,    195.7,2,    195.5,2,   115.10,2,    32.13,2,     0.00,2,     2.23,2,   0.9876
  316N20060130,AAIW06,   196,  1,      3,      3,2,20060220,1312,-54.0100, -88.9925, 4786,   4058.9,   0.9003,  34.7121,2,  34.7119,2,    203.3,2,    203.6,2,   125.16,2,    32.18,2,     0.00,2,     2.24,2,   0.5919
  316N20060130,AAIW06,   196,  1,      2,      2,2,20060220,1312,-54.0100, -88.9925, 4786,   4464.1,   0.6894,  34.7079,2,  34.7081,2,    207.3,2,    207.4,2,   133.57,2,    32.43,2,     0.00,2,     2.25,2,   0.3435
  316N20060130,AAIW06,   196,  1,      1,      1,2,20060220,1312,-54.0100, -88.9925, 4786,   4871.5,   0.6846,  34.7070,2,  34.7059,2,    208.9,2,    208.7,2,   133.16,2,    32.38,2,     0.00,2,     2.24,2,   0.2928