BOTTLE,20081218PRINUNIVRMK
EXPOCODE,SECT_ID,STNNBR,CASTNO,SAMPNO,BTLNBR,BTLNBR_FLAG_W,DATE,TIME,LATITUDE,LONGITUDE,DEPTH,CTDPRS,CTDTMP,CTDSAL,CTDSAL_FLAG_W,SALNTY,SALNTY_FLAG_W,CTDOXY,CTDOXY_FLAG_W,OXYGEN,OXYGEN_FLAG_W,SILCAT,SILCAT_FLAG_W,NITRAT,NITRAT_FLAG_W,NITRIT,NITRIT_FLAG_W,PHSPHT,PHSPHT_FLAG_W,THETA
,,,,,,,,,,,METERS,DBARS,ITS-90,PSS-78,,PSS-78,,UMOL/KG,,UMOL/KG,,UMOL/KG,,UMOL/KG,,UMOL/KG,,UMOL/KG,,DEGC
  316N20060130,AAIW06,   216,  1,     36,     36,2,20060227,1321,-57.5035, -97.5403, 4618,      3.9,   7.4519,  34.1163,2,  34.1179,2,    291.5,2,    291.8,2,     0.77,2,    17.26,2,     0.23,2,     1.23,2,   7.4515
  316N20060130,AAIW06,   216,  1,     35,     35,2,20060227,1321,-57.5035, -97.5403, 4618,     26.8,   7.4372,  34.1161,2,-999.0000,9,   -999.0,9,   -999.0,9,  -999.00,9,  -999.00,9,  -999.00,9,  -999.00,9,   7.4347
  316N20060130,AAIW06,   216,  1,     34,     34,2,20060227,1321,-57.5035, -97.5403, 4618,     27.1,   7.4374,  34.1160,2,  34.1169,2,    292.8,2,    291.3,2,     0.68,2,    17.26,2,     0.23,2,     1.23,2,   7.4348
  316N20060130,AAIW06,   216,  1,     33,     33,2,20060227,1321,-57.5035, -97.5403, 4618,     51.3,   7.4360,  34.1158,2,  34.1171,2,    292.9,2,    291.0,2,     0.79,2,    17.26,2,     0.23,2,     1.23,2,   7.4311
  316N20060130,AAIW06,   216,  1,     31,     31,2,20060227,1321,-57.5035, -97.5403, 4618,     76.2,   6.5699,  34.1584,2,  34.1523,2,    292.1,2,    290.9,2,     2.97,2,    18.32,2,     0.36,2,     1.34,2,   6.5632
  316N20060130,AAIW06,   216,  1,     32,     32,2,20060227,1321,-57.5035, -97.5403, 4618,     76.6,   6.5090,  34.1577,2,-999.0000,9,   -999.0,9,   -999.0,9,  -999.00,9,  -999.00,9,  -999.00,9,  -999.00,9,   6.5023
  316N20060130,AAIW06,   216,  1,     30,     30,2,20060227,1321,-57.5035, -97.5403, 4618,    106.6,   5.7519,  34.1805,2,  34.1831,2,    287.2,2,    290.3,2,     5.76,2,    20.60,2,     0.08,2,     1.45,2,   5.7431
  316N20060130,AAIW06,   216,  1,     29,     29,2,20060227,1321,-57.5035, -97.5403, 4618,    156.3,   5.5023,  34.1704,2,  34.1726,2,    288.6,2,    289.6,2,     6.29,2,    21.17,2,     0.02,2,     1.47,2,   5.4897
  316N20060130,AAIW06,   216,  1,     28,     28,2,20060227,1321,-57.5035, -97.5403, 4618,    205.3,   5.3588,  34.1627,2,  34.1640,2,    289.4,2,    288.8,2,     6.61,2,    21.52,2,     0.01,2,     1.50,2,   5.3424
  316N20060130,AAIW06,   216,  1,     27,     27,2,20060227,1321,-57.5035, -97.5403, 4618,    254.8,   5.2204,  34.1495,2,  34.1512,2,    291.0,2,    294.1,2,     6.32,2,    21.43,2,     0.01,2,     1.50,2,   5.2003
  316N20060130,AAIW06,   216,  1,     26,     26,2,20060227,1321,-57.5035, -97.5403, 4618,    304.5,   5.1417,  34.1444,2,  34.1462,2,    291.1,2,    293.6,2,     6.43,2,    21.53,2,     0.01,2,     1.49,2,   5.1177
  316N20060130,AAIW06,   216,  1,     25,     25,2,20060227,1321,-57.5035, -97.5403, 4618,    352.9,   5.0667,  34.1423,2,  34.1436,2,    283.0,2,    289.2,2,     7.37,2,    22.19,2,     0.01,2,     1.54,2,   5.0390
  316N20060130,AAIW06,   216,  1,     24,     24,2,20060227,1321,-57.5035, -97.5403, 4618,    402.7,   4.9002,  34.1377,2,  34.1397,2,    274.6,2,    283.5,2,     8.93,2,    23.18,2,     0.01,2,     1.60,2,   4.8690
  316N20060130,AAIW06,   216,  1,     23,     23,2,20060227,1321,-57.5035, -97.5403, 4618,    451.6,   4.9337,  34.1728,2,  34.1767,2,    276.1,2,    263.4,2,    12.13,2,    24.85,2,     0.01,2,     1.69,2,   4.8984
  316N20060130,AAIW06,   216,  1,     21,     21,9,20060227,1321,-57.5035, -97.5403, 4618,    499.2,   4.7242,  34.1710,2,-999.0000,9,   -999.0,9,   -999.0,9,  -999.00,9,  -999.00,9,  -999.00,9,  -999.00,9,   4.6858
  316N20060130,AAIW06,   216,  1,     22,     22,2,20060227,1321,-57.5035, -97.5403, 4618,    500.4,   4.7257,  34.1713,2,  34.1714,2,    266.2,2,    259.8,2,    13.70,2,    25.56,2,     0.00,2,     1.75,2,   4.6872
  316N20060130,AAIW06,   216,  1,     20,     20,2,20060227,1321,-57.5035, -97.5403, 4618,    592.9,   4.6583,  34.2380,2,  34.2374,2,    234.6,2,    232.5,2,    20.41,2,    27.87,2,     0.00,2,     1.90,2,   4.6125
  316N20060130,AAIW06,   216,  1,     19,     19,2,20060227,1321,-57.5035, -97.5403, 4618,    691.8,   4.2835,  34.2701,2,  34.2709,2,    222.1,2,    220.2,2,    26.70,2,    29.59,2,     0.00,2,     2.00,2,   4.2315
  316N20060130,AAIW06,   216,  1,     18,     18,2,20060227,1321,-57.5035, -97.5403, 4618,    790.0,   3.7985,  34.2884,2,  34.2905,2,    214.0,2,    213.2,2,    33.42,2,    30.85,2,     0.00,2,     2.11,2,   3.7415
  316N20060130,AAIW06,   216,  1,     17,     17,2,20060227,1321,-57.5035, -97.5403, 4618,    888.8,   3.4270,  34.3259,2,  34.3274,2,    203.8,2,    203.1,2,    41.39,2,    32.01,2,     0.00,2,     2.20,2,   3.3647
  316N20060130,AAIW06,   216,  1,     16,     16,2,20060227,1321,-57.5035, -97.5403, 4618,    986.5,   3.1611,  34.3671,2,  34.3676,2,    194.2,2,    194.2,2,    48.73,2,    33.02,2,     0.00,2,     2.24,2,   3.0932
  316N20060130,AAIW06,   216,  1,     15,     15,2,20060227,1321,-57.5035, -97.5403, 4618,   1086.4,   2.9378,  34.4106,2,  34.4097,2,    186.3,2,    186.4,2,    55.46,2,    33.52,2,     0.00,2,     2.28,2,   2.8640
  316N20060130,AAIW06,   216,  1,     14,     14,2,20060227,1321,-57.5035, -97.5403, 4618,   1185.7,   2.7396,  34.4553,2,  34.4550,2,    180.1,2,    180.6,2,    61.80,2,    34.03,2,     0.00,2,     2.33,2,   2.6599
  316N20060130,AAIW06,   216,  1,     13,     13,2,20060227,1321,-57.5035, -97.5403, 4618,   1283.3,   2.6298,  34.5001,2,  34.5008,2,    175.5,2,    175.8,2,    66.69,2,    34.03,2,     0.00,2,     2.34,2,   2.5435
  316N20060130,AAIW06,   216,  1,     12,     12,2,20060227,1321,-57.5035, -97.5403, 4618,   1380.6,   2.5297,  34.5455,2,  34.5465,2,    173.3,2,    172.8,2,    71.79,2,    34.03,2,     0.00,2,     2.34,2,   2.4368
  316N20060130,AAIW06,   216,  1,     11,     11,2,20060227,1321,-57.5035, -97.5403, 4618,   1578.2,   2.3958,  34.6145,2,  34.6154,2,    170.7,2,    170.7,2,    78.77,2,    33.53,2,     0.00,2,     2.31,2,   2.2886
  316N20060130,AAIW06,   216,  1,     10,     10,2,20060227,1321,-57.5035, -97.5403, 4618,   1778.6,   2.2676,  34.6608,2,  34.6615,2,    171.0,2,    171.2,2,    85.14,2,    33.07,2,     0.00,2,     2.27,2,   2.1456
  316N20060130,AAIW06,   216,  1,      9,      9,2,20060227,1321,-57.5035, -97.5403, 4618,   1979.3,   2.1385,  34.6931,2,  34.6937,2,    175.7,2,    175.8,2,    87.57,2,    32.41,2,     0.00,2,     2.24,2,   2.0015
  316N20060130,AAIW06,   216,  1,      8,      8,2,20060227,1321,-57.5035, -97.5403, 4618,   2231.0,   1.9581,  34.7144,2,  34.7131,2,    180.5,2,    180.7,2,    92.70,2,    32.06,2,     0.00,2,     2.20,2,   1.8023
  316N20060130,AAIW06,   216,  1,      7,      7,2,20060227,1321,-57.5035, -97.5403, 4618,   2482.8,   1.7301,  34.7176,2,  34.7172,2,    182.7,2,    182.7,2,   101.83,2,    32.31,2,     0.00,2,     2.22,2,   1.5561
  316N20060130,AAIW06,   216,  1,      6,      6,2,20060227,1321,-57.5035, -97.5403, 4618,   2785.5,   1.5649,  34.7212,2,  34.7225,2,    187.5,2,    187.8,2,   106.15,2,    32.17,2,     0.00,2,     2.19,2,   1.3666
  316N20060130,AAIW06,   216,  1,      5,      5,2,20060227,1321,-57.5035, -97.5403, 4618,   3087.4,   1.4222,  34.7240,2,  34.7244,2,    193.6,2,    193.5,2,   108.40,2,    31.91,2,     0.00,2,     2.18,2,   1.1985
  316N20060130,AAIW06,   216,  1,      4,      4,2,20060227,1321,-57.5035, -97.5403, 4618,   3450.2,   1.1714,  34.7188,2,  34.7181,2,    198.6,2,    198.6,2,   115.88,2,    32.07,2,     0.00,2,     2.20,2,   0.9183
  316N20060130,AAIW06,   216,  1,      3,      3,2,20060227,1321,-57.5035, -97.5403, 4618,   3859.0,   0.8703,  34.7116,2,  34.7110,2,    204.4,2,    204.4,2,   125.93,2,    32.37,2,     0.00,2,     2.21,2,   0.5837
  316N20060130,AAIW06,   216,  1,      2,      2,2,20060227,1321,-57.5035, -97.5403, 4618,   4269.3,   0.6507,  34.7073,2,  34.7068,2,    208.7,2,    208.3,2,   133.91,2,    32.48,2,     0.00,2,     2.23,2,   0.3272
  316N20060130,AAIW06,   216,  1,      1,      1,2,20060227,1321,-57.5035, -97.5403, 4618,   4679.8,   0.6010,  34.7055,2,  34.7060,2,    211.2,2,    211.3,2,   135.55,2,    32.63,2,     0.00,2,     2.24,2,   0.2339
  316N20060130,AAIW06,   217,  1,     36,     36,2,20060227,1943,-57.2525, -96.6562, 4788,      3.4,   7.3143,  34.1143,2,  34.1172,2,    292.1,2,    292.6,2,     1.81,2,    17.79,2,     0.23,2,     1.26,2,   7.3140
  316N20060130,AAIW06,   217,  1,     35,     35,2,20060227,1943,-57.2525, -96.6562, 4788,     21.9,   7.3146,  34.1145,2,  34.1176,2,    292.8,2,    292.6,2,     1.83,2,    17.79,2,     0.23,2,     1.26,2,   7.3126
  316N20060130,AAIW06,   217,  1,     34,     34,2,20060227,1943,-57.2525, -96.6562, 4788,     45.9,   7.2594,  34.1146,2,  34.1151,2,    293.6,2,    292.4,2,     1.65,2,    17.83,2,     0.23,2,     1.27,2,   7.2551
  316N20060130,AAIW06,   217,  1,     33,     33,2,20060227,1943,-57.2525, -96.6562, 4788,     71.2,   7.2159,  34.1164,2,  34.1188,2,    293.4,2,    291.9,2,     1.67,2,    17.98,2,     0.23,2,     1.28,2,   7.2093
  316N20060130,AAIW06,   217,  1,     32,     32,2,20060227,1943,-57.2525, -96.6562, 4788,     91.5,   6.8906,  34.1337,2,  34.1457,0,    293.3,2,    292.1,2,     3.35,2,    18.65,2,     0.32,2,     1.33,2,   6.8823
  316N20060130,AAIW06,   217,  1,     31,     31,2,20060227,1943,-57.2525, -96.6562, 4788,    131.8,   5.7132,  34.1877,2,  34.1883,2,    288.8,2,    289.2,2,     6.47,2,    21.07,2,     0.04,2,     1.47,2,   5.7024
  316N20060130,AAIW06,   217,  1,     30,     30,2,20060227,1943,-57.2525, -96.6562, 4788,    177.9,   5.5297,  34.1799,2,  34.1830,2,    288.8,2,    288.4,2,     6.91,2,    21.45,2,     0.01,2,     1.49,2,   5.5153
  316N20060130,AAIW06,   217,  1,     29,     29,2,20060227,1943,-57.2525, -96.6562, 4788,    227.0,   5.4024,  34.1730,2,  34.1757,2,    288.5,2,    289.4,2,     7.15,2,    21.70,2,     0.01,2,     1.51,2,   5.3842
  316N20060130,AAIW06,   217,  1,     28,     28,2,20060227,1943,-57.2525, -96.6562, 4788,    277.2,   5.2806,  34.1624,2,  34.1642,2,    291.2,2,    291.2,2,     7.18,2,    21.74,2,     0.01,2,     1.52,2,   5.2585
  316N20060130,AAIW06,   217,  1,     27,     27,2,20060227,1943,-57.2525, -96.6562, 4788,    327.3,   5.2362,  34.1681,2,  34.1709,2,    284.1,2,    285.5,2,     8.03,2,    22.51,2,     0.01,2,     1.55,2,   5.2101
  316N20060130,AAIW06,   217,  1,     26,     26,2,20060227,1943,-57.2525, -96.6562, 4788,    381.4,   5.0757,  34.1608,2,  34.1628,2,    276.6,2,    282.1,2,     9.09,2,    23.17,2,     0.01,2,     1.60,2,   5.0456
  316N20060130,AAIW06,   217,  1,     25,     25,2,20060227,1943,-57.2525, -96.6562, 4788,    426.4,   4.8487,  34.1446,2,  34.1464,2,    279.2,2,    278.0,2,    10.36,2,    24.08,2,     0.01,2,     1.65,2,   4.8157
  316N20060130,AAIW06,   217,  1,     24,     24,2,20060227,1943,-57.2525, -96.6562, 4788,    476.5,   4.6930,  34.1449,2,  34.1462,0,    270.1,2,    271.9,2,    12.05,2,    24.89,2,     0.01,2,     1.71,2,   4.6565
  316N20060130,AAIW06,   217,  1,     23,     23,2,20060227,1943,-57.2525, -96.6562, 4788,    526.0,   4.7187,  34.1831,2,  34.1835,2,    259.4,2,    254.1,2,    10.42,2,    24.02,2,     0.01,2,     1.65,2,   4.6781
  316N20060130,AAIW06,   217,  1,     22,     22,2,20060227,1943,-57.2525, -96.6562, 4788,    575.8,   4.7008,  34.2232,2,  34.2257,2,    240.7,2,    238.5,2,    12.10,2,    24.88,2,     0.00,2,     1.71,2,   4.6562
  316N20060130,AAIW06,   217,  1,     20,     20,2,20060227,1943,-57.2525, -96.6562, 4788,    635.8,   4.4744,  34.2397,2,  34.2433,2,    235.6,2,    230.2,2,    22.51,2,    28.66,2,     0.00,2,     1.97,2,   4.4260
  316N20060130,AAIW06,   217,  1,     21,     21,9,20060227,1943,-57.2525, -96.6562, 4788,    635.9,   4.4873,  34.2409,2,-999.0000,9,   -999.0,9,   -999.0,9,  -999.00,9,  -999.00,9,  -999.00,9,  -999.00,9,   4.4388
  316N20060130,AAIW06,   217,  1,     19,     19,2,20060227,1943,-57.2525, -96.6562, 4788,    744.9,   4.1247,  34.2865,2,  34.2896,2,    215.8,2,    215.0,2,    30.41,2,    30.35,2,     0.00,2,     2.09,2,   4.0693
  316N20060130,AAIW06,   217,  1,     18,     18,2,20060227,1943,-57.2525, -96.6562, 4788,    844.5,   3.7336,  34.3077,2,  34.3092,2,    208.2,2,    208.2,2,    36.47,2,    31.62,2,     0.00,2,     2.18,2,   3.6727
  316N20060130,AAIW06,   217,  1,     17,     17,2,20060227,1943,-57.2525, -96.6562, 4788,    943.2,   3.3728,  34.3376,2,  34.3403,2,    200.3,2,    200.7,2,    43.37,2,    32.63,2,     0.00,2,     2.24,2,   3.3067
  316N20060130,AAIW06,   217,  1,     16,     16,2,20060227,1943,-57.2525, -96.6562, 4788,   1042.4,   3.1014,  34.3816,2,  34.3842,2,    191.9,2,    191.9,2,    51.10,2,    33.39,2,     0.00,2,     2.32,2,   3.0297
  316N20060130,AAIW06,   217,  1,     15,     15,2,20060227,1943,-57.2525, -96.6562, 4788,   1142.4,   2.9169,  34.4261,2,  34.4276,2,    185.1,2,    184.8,2,    58.01,2,    33.95,2,     0.00,2,     2.36,2,   2.8389
  316N20060130,AAIW06,   217,  1,     14,     14,2,20060227,1943,-57.2525, -96.6562, 4788,   1242.7,   2.7546,  34.4657,2,  34.4659,2,    179.7,2,    179.4,2,    63.47,2,    34.19,2,     0.00,2,     2.37,2,   2.6703
  316N20060130,AAIW06,   217,  1,     13,     13,2,20060227,1943,-57.2525, -96.6562, 4788,   1342.3,   2.6317,  34.5067,2,  34.5087,2,    175.6,2,    175.7,2,    68.11,2,    34.29,2,     0.00,2,     2.38,2,   2.5408
  316N20060130,AAIW06,   217,  1,     12,     12,2,20060227,1943,-57.2525, -96.6562, 4788,   1542.7,   2.4357,  34.5813,2,  34.5826,2,    172.1,2,    172.2,2,    74.84,2,    33.96,2,     0.00,2,     2.36,2,   2.3309
  316N20060130,AAIW06,   217,  1,     11,     11,2,20060227,1943,-57.2525, -96.6562, 4788,   1741.8,   2.3257,  34.6398,2,  34.6419,2,    173.1,2,    173.1,2,    79.49,2,    33.29,2,     0.00,2,     2.31,2,   2.2060
  316N20060130,AAIW06,   217,  1,     10,     10,2,20060227,1943,-57.2525, -96.6562, 4788,   1941.8,   2.2053,  34.6831,2,  34.6844,2,    175.7,2,    176.4,2,    83.94,2,    32.67,2,     0.00,2,     2.25,2,   2.0705
  316N20060130,AAIW06,   217,  1,      9,      9,2,20060227,1943,-57.2525, -96.6562, 4788,   2153.1,   2.0616,  34.7083,2,  34.7064,0,    179.6,2,    180.0,2,    89.45,2,    32.10,2,     0.00,2,     2.22,2,   1.9108
  316N20060130,AAIW06,   217,  1,      8,      8,2,20060227,1943,-57.2525, -96.6562, 4788,   2455.1,   1.7953,  34.7191,2,  34.7210,2,    183.9,2,    183.1,2,    99.61,2,    32.19,2,     0.00,2,     2.23,2,   1.6225
  316N20060130,AAIW06,   217,  1,      7,      7,2,20060227,1943,-57.2525, -96.6562, 4788,   2756.8,   1.6099,  34.7215,2,  34.7227,2,    186.4,2,    187.2,2,   105.58,2,    32.13,2,     0.00,2,     2.22,2,   1.4133
  316N20060130,AAIW06,   217,  1,      6,      6,2,20060227,1943,-57.2525, -96.6562, 4788,   3057.8,   1.4524,  34.7227,2,  34.7243,0,    192.3,2,    192.1,2,   109.03,2,    32.08,2,     0.00,2,     2.22,2,   1.2309
  316N20060130,AAIW06,   217,  1,      5,      5,2,20060227,1943,-57.2525, -96.6562, 4788,   3358.0,   1.2669,  34.7205,2,  34.7224,0,    196.9,2,    196.7,2,   114.17,2,    32.07,2,     0.00,2,     2.22,2,   1.0205
  316N20060130,AAIW06,   217,  1,      4,      4,2,20060227,1943,-57.2525, -96.6562, 4788,   3660.8,   1.0310,  34.7151,2,  34.7153,2,    201.3,2,    201.3,2,   121.46,2,    32.26,2,     0.00,2,     2.23,2,   0.7603
  316N20060130,AAIW06,   217,  1,      3,      3,2,20060227,1943,-57.2525, -96.6562, 4788,   4067.6,   0.7482,  34.7092,2,  34.7102,2,    206.3,2,    206.4,2,   131.54,2,    32.46,2,     0.00,2,     2.25,2,   0.4433
  316N20060130,AAIW06,   217,  1,      2,      2,2,20060227,1943,-57.2525, -96.6562, 4788,   4474.6,   0.6400,  34.7069,2,  34.7085,0,    209.7,2,    209.1,2,   135.89,2,    32.60,2,     0.00,2,     2.25,2,   0.2945
  316N20060130,AAIW06,   217,  1,      1,      1,2,20060227,1943,-57.2525, -96.6562, 4788,   4861.7,   0.6051,  34.7051,2,  34.7056,2,    211.9,2,    212.0,2,   137.04,2,    32.44,2,     0.00,2,     2.26,2,   0.2171