BOTTLE,20081218PRINUNIVRMK
EXPOCODE,SECT_ID,STNNBR,CASTNO,SAMPNO,BTLNBR,BTLNBR_FLAG_W,DATE,TIME,LATITUDE,LONGITUDE,DEPTH,CTDPRS,CTDTMP,CTDSAL,CTDSAL_FLAG_W,SALNTY,SALNTY_FLAG_W,CTDOXY,CTDOXY_FLAG_W,OXYGEN,OXYGEN_FLAG_W,SILCAT,SILCAT_FLAG_W,NITRAT,NITRAT_FLAG_W,NITRIT,NITRIT_FLAG_W,PHSPHT,PHSPHT_FLAG_W,THETA
,,,,,,,,,,,METERS,DBARS,ITS-90,PSS-78,,PSS-78,,UMOL/KG,,UMOL/KG,,UMOL/KG,,UMOL/KG,,UMOL/KG,,UMOL/KG,,DEGC
  316N20060130,AAIW06,   226,  1,     34,     34,2,20060304, 419,-53.1523, -76.0120, 3076,      4.7,  10.2977,  33.6830,2,  33.6847,2,    277.9,2,    278.2,2,     0.09,2,    10.31,2,     0.16,2,     0.88,2,  10.2972
  316N20060130,AAIW06,   226,  1,     33,     33,2,20060304, 419,-53.1523, -76.0120, 3076,     20.6,  10.2995,  33.6828,2,  33.6846,2,    278.9,2,    278.7,2,     0.06,2,    10.26,2,     0.16,2,     0.88,2,  10.2971
  316N20060130,AAIW06,   226,  1,     32,     32,9,20060304, 419,-53.1523, -76.0120, 3076,     46.2,  10.3000,  33.6827,2,-999.0000,9,   -999.0,9,   -999.0,9,  -999.00,9,  -999.00,9,  -999.00,9,  -999.00,9,  10.2947
  316N20060130,AAIW06,   226,  1,     31,     31,2,20060304, 419,-53.1523, -76.0120, 3076,     70.9,   9.5818,  33.8548,2,-999.0000,9,    280.5,2,    279.0,2,     0.24,2,    13.74,2,     0.17,2,     1.06,2,   9.5740
  316N20060130,AAIW06,   226,  1,     30,     30,2,20060304, 419,-53.1523, -76.0120, 3076,     96.3,   7.6251,  33.9541,2,-999.0000,9,    273.7,2,    274.0,2,     2.12,2,    17.61,2,     0.35,2,     1.37,2,   7.6158
  316N20060130,AAIW06,   226,  1,     29,     29,2,20060304, 419,-53.1523, -76.0120, 3076,    131.6,   6.6294,  34.0288,2,-999.0000,9,    268.8,2,    264.7,2,     4.21,2,    21.09,2,     0.11,2,     1.54,2,   6.6177
  316N20060130,AAIW06,   226,  1,     28,     28,2,20060304, 419,-53.1523, -76.0120, 3076,    175.5,   6.2275,  34.0886,2,-999.0000,9,    261.1,2,    260.7,2,     5.65,2,    22.38,2,     0.02,2,     1.60,2,   6.2124
  316N20060130,AAIW06,   226,  1,     27,     27,2,20060304, 419,-53.1523, -76.0120, 3076,    226.9,   5.5985,  34.1290,2,-999.0000,9,    268.4,2,    271.8,2,     6.48,2,    22.78,2,     0.01,2,     1.60,2,   5.5800
  316N20060130,AAIW06,   226,  1,     26,     26,2,20060304, 419,-53.1523, -76.0120, 3076,    276.6,   5.2612,  34.1472,2,-999.0000,9,    283.0,2,    283.8,2,     6.87,2,    22.38,2,     0.01,2,     1.57,2,   5.2392
  316N20060130,AAIW06,   226,  1,     25,     25,2,20060304, 419,-53.1523, -76.0120, 3076,    325.0,   5.1416,  34.1541,2,-999.0000,9,    279.2,2,    288.1,2,     7.04,2,    22.10,2,     0.01,2,     1.55,2,   5.1160
  316N20060130,AAIW06,   226,  1,     24,     24,2,20060304, 419,-53.1523, -76.0120, 3076,    374.8,   5.1180,  34.1637,2,-999.0000,9,    282.0,2,    288.1,2,     7.23,2,    22.21,2,     0.01,2,     1.56,2,   5.0883
  316N20060130,AAIW06,   226,  1,     23,     23,2,20060304, 419,-53.1523, -76.0120, 3076,    424.3,   5.0531,  34.1636,2,-999.0000,9,    284.9,2,    289.4,2,     7.42,2,    22.15,2,     0.01,2,     1.55,2,   5.0196
  316N20060130,AAIW06,   226,  1,     21,     21,9,20060304, 419,-53.1523, -76.0120, 3076,    474.0,   5.0568,  34.1738,2,-999.0000,9,   -999.0,9,   -999.0,9,  -999.00,9,  -999.00,9,  -999.00,9,  -999.00,9,   5.0192
  316N20060130,AAIW06,   226,  1,     22,     22,2,20060304, 419,-53.1523, -76.0120, 3076,    474.8,   5.0559,  34.1738,2,-999.0000,9,    286.0,2,    284.4,2,     8.01,2,    22.74,2,     0.01,2,     1.58,2,   5.0182
  316N20060130,AAIW06,   226,  1,     20,     20,2,20060304, 419,-53.1523, -76.0120, 3076,    524.1,   5.0166,  34.1761,2,-999.0000,9,    283.7,2,    282.7,2,     8.41,2,    22.96,2,     0.01,2,     1.59,2,   4.9750
  316N20060130,AAIW06,   226,  1,     19,     19,2,20060304, 419,-53.1523, -76.0120, 3076,    645.1,   4.7796,  34.1730,2,-999.0000,9,    270.6,2,    271.9,2,    11.34,2,    24.66,2,     0.00,2,     1.69,2,   4.7290
  316N20060130,AAIW06,   226,  1,     18,     18,2,20060304, 419,-53.1523, -76.0120, 3076,    744.8,   4.6020,  34.1932,2,-999.0000,9,    253.8,2,    255.2,2,    15.33,2,    26.58,2,     0.00,2,     1.82,2,   4.5440
  316N20060130,AAIW06,   226,  1,     17,     17,2,20060304, 419,-53.1523, -76.0120, 3076,    843.3,   4.3133,  34.2220,2,-999.0000,9,    234.8,2,    237.2,2,    21.44,2,    28.56,2,     0.00,2,     1.96,2,   4.2488
  316N20060130,AAIW06,   226,  1,     16,     16,2,20060304, 419,-53.1523, -76.0120, 3076,    942.9,   4.0275,  34.2592,2,-999.0000,9,    222.3,2,    221.7,2,    28.40,2,    30.21,2,     0.00,2,     2.08,2,   3.9567
  316N20060130,AAIW06,   226,  1,     15,     15,2,20060304, 419,-53.1523, -76.0120, 3076,   1043.9,   3.6549,  34.3024,2,-999.0000,9,    207.4,2,    206.7,2,    37.04,2,    32.03,2,     0.00,2,     2.20,2,   3.5787
  316N20060130,AAIW06,   226,  1,     14,     14,2,20060304, 419,-53.1523, -76.0120, 3076,   1143.2,   3.3554,  34.3441,2,-999.0000,9,    196.3,2,    195.6,2,    44.43,2,    33.12,2,     0.00,2,     2.29,2,   3.2736
  316N20060130,AAIW06,   226,  1,     13,     13,2,20060304, 419,-53.1523, -76.0120, 3076,   1243.1,   3.0734,  34.4023,2,-999.0000,9,    182.2,2,    181.1,2,    55.42,2,    34.21,2,     0.00,2,     2.38,2,   2.9861
  316N20060130,AAIW06,   226,  1,     12,     12,2,20060304, 419,-53.1523, -76.0120, 3076,   1345.3,   2.9299,  34.4441,2,-999.0000,9,    171.7,2,    170.4,2,    62.81,2,    34.98,2,     0.00,2,     2.43,2,   2.8358
  316N20060130,AAIW06,   226,  1,     11,     11,2,20060304, 419,-53.1523, -76.0120, 3076,   1445.0,   2.8032,  34.4883,2,-999.0000,9,    162.1,2,    161.9,2,    70.64,2,    35.41,2,     0.00,2,     2.46,2,   2.7023
  316N20060130,AAIW06,   226,  1,     10,     10,2,20060304, 419,-53.1523, -76.0120, 3076,   1543.2,   2.6997,  34.5224,2,-999.0000,9,    156.9,2,    157.9,2,    75.72,2,    35.51,2,     0.00,2,     2.47,2,   2.5919
  316N20060130,AAIW06,   226,  1,      9,      9,2,20060304, 419,-53.1523, -76.0120, 3076,   1641.6,   2.6053,  34.5555,2,-999.0000,9,    150.8,2,    150.8,2,    83.36,2,    35.83,2,     0.00,2,     2.50,2,   2.4905
  316N20060130,AAIW06,   226,  1,      8,      8,2,20060304, 419,-53.1523, -76.0120, 3076,   1843.1,   2.3787,  34.6085,2,-999.0000,9,    147.0,2,    147.2,2,    95.70,2,    35.71,2,     0.00,2,     2.50,2,   2.2500
  316N20060130,AAIW06,   226,  1,      7,      7,2,20060304, 419,-53.1523, -76.0120, 3076,   2103.3,   2.1710,  34.6416,2,-999.0000,9,    148.8,2,    149.2,2,   105.74,2,    35.54,2,     0.00,2,     2.48,2,   2.0230
  316N20060130,AAIW06,   226,  1,      6,      6,2,20060304, 419,-53.1523, -76.0120, 3076,   2353.7,   1.9745,  34.6661,2,  34.6668,2,    152.8,2,    153.2,2,   113.01,2,    35.14,2,     0.00,2,     2.45,2,   1.8078
  316N20060130,AAIW06,   226,  1,      5,      5,2,20060304, 419,-53.1523, -76.0120, 3076,   2605.5,   1.9112,  34.6737,2,  34.6741,2,    155.3,2,    155.5,2,   115.78,2,    34.97,2,     0.00,2,     2.45,2,   1.7228
  316N20060130,AAIW06,   226,  1,      4,      4,2,20060304, 419,-53.1523, -76.0120, 3076,   2855.2,   1.8429,  34.6831,2,  34.6829,2,    159.9,2,    158.7,2,   117.48,2,    34.57,2,     0.00,2,     2.43,2,   1.6324
  316N20060130,AAIW06,   226,  1,      3,      3,2,20060304, 419,-53.1523, -76.0120, 3076,   3108.9,   1.8082,  34.6977,2,  34.6981,2,    169.3,2,    168.7,2,   113.14,2,    33.74,2,     0.00,2,     2.36,2,   1.5738
  316N20060130,AAIW06,   226,  1,      2,      2,2,20060304, 419,-53.1523, -76.0120, 3076,   3362.6,   1.6708,  34.7140,2,  34.7138,2,    183.7,2,    182.4,2,   109.04,2,    32.68,2,     0.00,2,     2.26,2,   1.4142
  316N20060130,AAIW06,   226,  1,      1,      1,2,20060304, 419,-53.1523, -76.0120, 3076,   3700.4,   1.0353,  34.7151,2,  34.7154,2,    200.8,2,    200.9,2,   121.71,2,    32.34,2,     0.00,2,     2.23,2,   0.7605
  316N20060130,AAIW06,   227,  1,     28,     28,2,20060304, 751,-53.1088, -75.7620, 2165,      6.1,   9.9208,  33.7732,2,  33.7756,2,    278.4,2,    278.7,2,     0.35,2,    12.60,2,     0.17,2,     1.01,2,   9.9201
  316N20060130,AAIW06,   227,  1,     27,     27,2,20060304, 751,-53.1088, -75.7620, 2165,     14.8,   9.9225,  33.7732,2,  33.7760,2,    279.1,2,    278.3,2,     0.30,2,    12.54,2,     0.17,2,     1.01,2,   9.9208
  316N20060130,AAIW06,   227,  1,     26,     26,2,20060304, 751,-53.1088, -75.7620, 2165,     40.0,   9.8260,  33.7971,2,  33.7995,2,    280.8,2,    280.4,2,     0.47,2,    12.93,2,     0.16,2,     1.03,2,   9.8215
  316N20060130,AAIW06,   227,  1,     25,     25,2,20060304, 751,-53.1088, -75.7620, 2165,     69.3,   9.2021,  33.8842,2,  33.8829,2,    280.0,2,    277.1,2,     0.84,2,    14.83,2,     0.21,2,     1.14,2,   9.1946
  316N20060130,AAIW06,   227,  1,     24,     24,2,20060304, 751,-53.1088, -75.7620, 2165,     99.0,   7.2028,  34.0169,2,-999.0000,9,    281.6,2,    281.4,2,     2.47,2,    18.22,2,     0.36,2,     1.40,2,   7.1936
  316N20060130,AAIW06,   227,  1,     23,     23,2,20060304, 751,-53.1088, -75.7620, 2165,    140.0,   6.3204,  34.0812,2,-999.0000,9,    254.3,2,    254.0,2,     5.77,2,    22.77,2,     0.02,2,     1.63,2,   6.3083
  316N20060130,AAIW06,   227,  1,     21,     21,9,20060304, 751,-53.1088, -75.7620, 2165,    188.5,   5.7849,  34.1479,2,-999.0000,9,   -999.0,9,   -999.0,9,  -999.00,9,  -999.00,9,  -999.00,9,  -999.00,9,   5.7693
  316N20060130,AAIW06,   227,  1,     22,     22,2,20060304, 751,-53.1088, -75.7620, 2165,    189.0,   5.7882,  34.1483,2,-999.0000,9,    253.7,2,    250.2,2,     7.41,2,    24.15,2,     0.01,2,     1.69,2,   5.7725
  316N20060130,AAIW06,   227,  1,     20,     20,2,20060304, 751,-53.1088, -75.7620, 2165,    239.1,   5.4942,  34.1557,2,-999.0000,9,    264.8,2,    266.1,2,     7.36,2,    23.49,2,     0.00,2,     1.63,2,   5.4748
  316N20060130,AAIW06,   227,  1,     19,     19,2,20060304, 751,-53.1088, -75.7620, 2165,    289.1,   5.1723,  34.1527,2,-999.0000,9,    286.5,2,    287.2,2,     7.10,2,    22.29,2,     0.00,2,     1.55,2,   5.1495
  316N20060130,AAIW06,   227,  1,     18,     18,2,20060304, 751,-53.1088, -75.7620, 2165,    339.1,   5.1053,  34.1592,2,-999.0000,9,    291.2,2,    289.3,2,     7.06,2,    22.13,2,     0.00,2,     1.55,2,   5.0786
  316N20060130,AAIW06,   227,  1,     17,     17,2,20060304, 751,-53.1088, -75.7620, 2165,    388.7,   5.0551,  34.1625,2,-999.0000,9,    291.2,2,    289.8,2,     7.22,2,    22.19,2,     0.00,2,     1.55,2,   5.0245
  316N20060130,AAIW06,   227,  1,     16,     16,2,20060304, 751,-53.1088, -75.7620, 2165,    437.9,   5.0155,  34.1634,2,-999.0000,9,    290.2,2,    290.3,2,     7.39,2,    22.24,2,     0.01,2,     1.55,2,   4.9810
  316N20060130,AAIW06,   227,  1,     15,     15,2,20060304, 751,-53.1088, -75.7620, 2165,    487.8,   5.0008,  34.1685,2,-999.0000,9,    287.5,2,    287.5,2,     7.76,2,    22.63,2,     0.01,2,     1.56,2,   4.9622
  316N20060130,AAIW06,   227,  1,     14,     14,2,20060304, 751,-53.1088, -75.7620, 2165,    571.7,   4.9096,  34.1707,2,-999.0000,9,    282.1,2,    282.0,2,     8.97,2,    23.39,2,     0.00,2,     1.60,2,   4.8645
  316N20060130,AAIW06,   227,  1,     13,     13,2,20060304, 751,-53.1088, -75.7620, 2165,    672.4,   4.7427,  34.1783,2,-999.0000,9,    270.5,2,    268.7,2,    12.07,2,    25.37,2,     0.00,2,     1.72,2,   4.6900
  316N20060130,AAIW06,   227,  1,     12,     12,2,20060304, 751,-53.1088, -75.7620, 2165,    771.5,   4.5230,  34.1981,2,-999.0000,9,    251.4,2,    250.9,2,    16.65,2,    27.30,2,     0.00,2,     1.85,2,   4.4632
  316N20060130,AAIW06,   227,  1,     11,     11,2,20060304, 751,-53.1088, -75.7620, 2165,    871.1,   4.2658,  34.2300,2,-999.0000,9,    233.3,2,    233.6,2,    22.91,2,    29.16,2,     0.00,2,     1.98,2,   4.1993
  316N20060130,AAIW06,   227,  1,     10,     10,2,20060304, 751,-53.1088, -75.7620, 2165,    973.0,   3.8297,  34.2820,2,-999.0000,9,    212.8,2,    213.6,2,    32.95,2,    31.42,2,     0.00,2,     2.15,2,   3.7579
  316N20060130,AAIW06,   227,  1,      9,      9,2,20060304, 751,-53.1088, -75.7620, 2165,   1071.7,   3.4726,  34.3256,2,-999.0000,9,    198.3,2,    200.4,2,    41.73,2,    32.85,2,     0.00,2,     2.25,2,   3.3956
  316N20060130,AAIW06,   227,  1,      8,      8,2,20060304, 751,-53.1088, -75.7620, 2165,   1170.3,   3.2078,  34.3750,2,-999.0000,9,    185.4,2,    186.8,2,    51.15,2,    33.95,2,     0.00,2,     2.34,2,   3.1251
  316N20060130,AAIW06,   227,  1,      7,      7,2,20060304, 751,-53.1088, -75.7620, 2165,   1270.5,   3.0360,  34.4171,2,-999.0000,9,    176.7,2,    176.0,2,    58.07,2,    34.73,2,     0.00,2,     2.40,2,   2.9469
  316N20060130,AAIW06,   227,  1,      6,      6,2,20060304, 751,-53.1088, -75.7620, 2165,   1370.6,   2.8860,  34.4591,2,-999.0000,9,    168.3,2,    167.7,2,    65.40,2,    35.28,2,     0.00,2,     2.44,2,   2.7903
  316N20060130,AAIW06,   227,  1,      5,      5,2,20060304, 751,-53.1088, -75.7620, 2165,   1472.2,   2.7223,  34.5133,2,  34.5153,2,    159.5,2,    158.5,2,    74.65,2,    35.67,2,     0.00,2,     2.46,2,   2.6200
  316N20060130,AAIW06,   227,  1,      4,      4,2,20060304, 751,-53.1088, -75.7620, 2165,   1571.4,   2.6196,  34.5484,2,  34.5502,2,    152.8,2,    152.8,2,    82.01,2,    35.84,2,     0.00,2,     2.48,2,   2.5104
  316N20060130,AAIW06,   227,  1,      3,      3,2,20060304, 751,-53.1088, -75.7620, 2165,   1772.2,   2.4196,  34.5994,2,  34.6000,2,    148.1,2,    147.9,2,    93.64,2,    36.00,2,     0.00,2,     2.49,2,   2.2962
  316N20060130,AAIW06,   227,  1,      2,      2,2,20060304, 751,-53.1088, -75.7620, 2165,   1952.1,   2.2403,  34.6308,2,  34.6314,2,    148.1,2,    147.9,2,   102.53,2,    35.73,2,     0.00,2,     2.49,2,   2.1043
  316N20060130,AAIW06,   227,  1,      1,      1,2,20060304, 751,-53.1088, -75.7620, 2165,   2157.4,   2.0062,  34.6605,2,  34.6609,2,    151.9,2,    151.9,2,   112.31,2,    35.40,2,     0.00,2,     2.46,2,   1.8561
  316N20060130,AAIW06,   228,  1,     25,     25,2,20060304,1156,-53.0378, -75.0995, 1334,      6.9,   9.9007,  33.7667,2,  33.7689,2,    278.4,2,    278.1,2,     0.50,2,    12.77,2,     0.16,2,     1.01,2,   9.8999
  316N20060130,AAIW06,   228,  1,     23,     23,2,20060304,1156,-53.0378, -75.0995, 1334,     26.2,   9.9101,  33.7684,2,-999.0000,9,   -999.0,9,   -999.0,9,  -999.00,9,  -999.00,9,  -999.00,9,  -999.00,9,   9.9072
  316N20060130,AAIW06,   228,  1,     22,     22,2,20060304,1156,-53.0378, -75.0995, 1334,     26.4,   9.9106,  33.7686,2,  33.7704,2,    279.2,2,    277.9,2,     0.44,2,    12.77,2,     0.16,2,     1.02,2,   9.9076
  316N20060130,AAIW06,   228,  1,     24,     24,2,20060304,1156,-53.0378, -75.0995, 1334,     26.5,   9.9054,  33.7669,2,-999.0000,9,   -999.0,9,   -999.0,9,  -999.00,9,  -999.00,9,  -999.00,9,  -999.00,9,   9.9024
  316N20060130,AAIW06,   228,  1,     21,     21,9,20060304,1156,-53.0378, -75.0995, 1334,     27.0,   9.9093,  33.7679,2,-999.0000,9,   -999.0,9,   -999.0,9,  -999.00,9,  -999.00,9,  -999.00,9,  -999.00,9,   9.9063
  316N20060130,AAIW06,   228,  1,     20,     20,2,20060304,1156,-53.0378, -75.0995, 1334,     50.5,   9.9192,  33.7724,2,-999.0000,9,   -999.0,9,   -999.0,9,  -999.00,9,  -999.00,9,  -999.00,9,  -999.00,9,   9.9135
  316N20060130,AAIW06,   228,  1,     19,     19,2,20060304,1156,-53.0378, -75.0995, 1334,     50.9,   9.9237,  33.7745,2,  33.7767,2,    272.0,2,    278.5,2,     0.39,2,    12.76,2,     0.16,2,     1.02,2,   9.9180
  316N20060130,AAIW06,   228,  1,     18,     18,2,20060304,1156,-53.0378, -75.0995, 1334,     77.5,   9.8309,  33.7796,2,  33.7807,2,    268.0,2,    276.2,2,     0.55,2,    12.97,2,     0.17,2,     1.05,2,   9.8222
  316N20060130,AAIW06,   228,  1,     17,     17,2,20060304,1156,-53.0378, -75.0995, 1334,    102.4,   8.1054,  33.8934,2,-999.0000,9,    253.2,2,    250.5,2,     2.81,2,    18.34,2,     0.10,2,     1.39,2,   8.0952
  316N20060130,AAIW06,   228,  1,     16,     16,2,20060304,1156,-53.0378, -75.0995, 1334,    151.8,   7.0339,  34.0000,2,-999.0000,9,    241.4,2,    243.2,2,     4.85,2,    21.65,2,     0.03,2,     1.60,2,   7.0199
  316N20060130,AAIW06,   228,  1,     15,     15,2,20060304,1156,-53.0378, -75.0995, 1334,    199.5,   6.5202,  34.0708,2,-999.0000,9,    237.2,2,    240.6,2,     6.07,2,    23.20,2,     0.02,2,     1.67,2,   6.5025
  316N20060130,AAIW06,   228,  1,     14,     14,2,20060304,1156,-53.0378, -75.0995, 1334,    249.2,   6.0135,  34.1456,2,-999.0000,9,    240.1,2,    240.6,2,     7.27,2,    24.58,2,     0.02,2,     1.74,2,   5.9923
  316N20060130,AAIW06,   228,  1,     13,     13,2,20060304,1156,-53.0378, -75.0995, 1334,    296.4,   5.5557,  34.1636,2,-999.0000,9,    258.6,2,    258.8,2,     7.64,2,    23.94,2,     0.01,2,     1.67,2,   5.5314
  316N20060130,AAIW06,   228,  1,     12,     12,2,20060304,1156,-53.0378, -75.0995, 1334,    343.0,   5.2741,  34.1536,2,-999.0000,9,    284.1,2,    282.4,2,     7.16,2,    22.62,2,     0.01,2,     1.57,2,   5.2466
  316N20060130,AAIW06,   228,  1,     11,     11,2,20060304,1156,-53.0378, -75.0995, 1334,    388.6,   5.2258,  34.1703,2,-999.0000,9,    282.6,2,    282.4,2,     7.53,2,    22.62,2,     0.01,2,     1.57,2,   5.1947
  316N20060130,AAIW06,   228,  1,     10,     10,2,20060304,1156,-53.0378, -75.0995, 1334,    434.6,   5.1693,  34.1760,2,-999.0000,9,    285.9,2,    284.6,2,     7.69,2,    22.56,2,     0.01,2,     1.57,2,   5.1345
  316N20060130,AAIW06,   228,  1,      9,      9,2,20060304,1156,-53.0378, -75.0995, 1334,    480.0,   5.0906,  34.1735,2,-999.0000,9,    283.1,2,    285.0,2,     7.84,2,    22.67,2,     0.00,2,     1.57,2,   5.0523
  316N20060130,AAIW06,   228,  1,      8,      8,2,20060304,1156,-53.0378, -75.0995, 1334,    576.0,   4.9795,  34.1802,2,-999.0000,9,    276.4,2,    278.6,2,     9.47,2,    23.61,2,     0.00,2,     1.64,2,   4.9337
  316N20060130,AAIW06,   228,  1,      7,      7,2,20060304,1156,-53.0378, -75.0995, 1334,    673.6,   4.7072,  34.1823,2,-999.0000,9,    262.5,2,    262.9,2,    12.99,2,    25.71,2,     0.00,2,     1.76,2,   4.6545
  316N20060130,AAIW06,   228,  1,      6,      6,2,20060304,1156,-53.0378, -75.0995, 1334,    771.9,   4.4015,  34.2174,2,-999.0000,9,    240.8,2,    239.9,2,    20.09,2,    28.36,2,     0.00,2,     1.96,2,   4.3424
  316N20060130,AAIW06,   228,  1,      5,      5,2,20060304,1156,-53.0378, -75.0995, 1334,    868.1,   3.9835,  34.2628,2,-999.0000,9,    218.8,2,    219.2,2,    29.29,2,    30.62,2,     0.00,2,     2.11,2,   3.9191
  316N20060130,AAIW06,   228,  1,      4,      4,2,20060304,1156,-53.0378, -75.0995, 1334,    967.6,   3.5323,  34.3168,2,-999.0000,9,    202.9,2,    202.4,2,    40.18,2,    32.51,2,     0.00,2,     2.25,2,   3.4631
  316N20060130,AAIW06,   228,  1,      3,      3,2,20060304,1156,-53.0378, -75.0995, 1334,   1068.0,   3.1673,  34.3753,2,  34.3771,2,    188.3,2,    189.6,2,    51.07,2,    33.73,2,     0.00,2,     2.34,2,   3.0930
  316N20060130,AAIW06,   228,  1,      2,      2,2,20060304,1156,-53.0378, -75.0995, 1334,   1168.1,   2.9735,  34.4276,2,  34.4283,2,    175.4,2,    175.2,2,    60.51,2,    34.62,2,     0.00,2,     2.41,2,   2.8930
  316N20060130,AAIW06,   228,  1,      1,      1,2,20060304,1156,-53.0378, -75.0995, 1334,   1294.9,   2.8480,  34.4712,2,  34.4715,2,    165.1,2,    164.9,2,    68.26,2,    35.28,2,     0.00,2,     2.45,2,   2.7587