BOTTLE,20081218PRINUNIVRMK
EXPOCODE,SECT_ID,STNNBR,CASTNO,SAMPNO,BTLNBR,BTLNBR_FLAG_W,DATE,TIME,LATITUDE,LONGITUDE,DEPTH,CTDPRS,CTDTMP,CTDSAL,CTDSAL_FLAG_W,SALNTY,SALNTY_FLAG_W,CTDOXY,CTDOXY_FLAG_W,OXYGEN,OXYGEN_FLAG_W,SILCAT,SILCAT_FLAG_W,NITRAT,NITRAT_FLAG_W,NITRIT,NITRIT_FLAG_W,PHSPHT,PHSPHT_FLAG_W,THETA
,,,,,,,,,,,METERS,DBARS,ITS-90,PSS-78,,PSS-78,,UMOL/KG,,UMOL/KG,,UMOL/KG,,UMOL/KG,,UMOL/KG,,UMOL/KG,,DEGC
  316N20060130,AAIW06,   170,  1,     36,     36,2,20060212, 248,-58.3485, -85.2653, 5042,      5.7,   7.2424,  33.9897,2,  33.9908,2,    292.7,2,    293.2,2,     0.32,2,    19.17,2,     0.21,2,     1.39,2,   7.2419
  316N20060130,AAIW06,   170,  1,     35,     35,2,20060212, 248,-58.3485, -85.2653, 5042,     25.7,   7.2452,  33.9895,2,  33.9907,2,    293.8,2,    293.3,2,     0.25,2,    19.23,2,     0.21,2,     1.39,2,   7.2428
  316N20060130,AAIW06,   170,  1,     34,     34,2,20060212, 248,-58.3485, -85.2653, 5042,     50.7,   7.2388,  33.9893,2,  33.9919,2,    294.0,2,    293.4,2,     0.19,2,    19.17,2,     0.21,2,     1.38,2,   7.2341
  316N20060130,AAIW06,   170,  1,     33,     33,2,20060212, 248,-58.3485, -85.2653, 5042,     80.8,   6.9314,  33.9846,2,  33.9886,2,    300.3,2,    295.3,2,     0.31,2,    19.28,2,     0.20,2,     1.41,2,   6.9241
  316N20060130,AAIW06,   170,  1,     32,     32,2,20060212, 248,-58.3485, -85.2653, 5042,    119.5,   4.3604,  34.0436,2,-999.0000,9,    303.7,2,    303.6,2,     6.68,2,    22.21,2,     0.55,2,     1.68,2,   4.3519
  316N20060130,AAIW06,   170,  1,     31,     31,3,20060212, 248,-58.3485, -85.2653, 5042,    152.7,   4.1213,  34.0419,2,-999.0000,9,    295.3,2,    301.1,0,     8.63,2,    23.57,2,     0.02,2,     1.67,2,   4.1107
  316N20060130,AAIW06,   170,  1,     30,     30,2,20060212, 248,-58.3485, -85.2653, 5042,    201.1,   3.8916,  34.0278,2,-999.0000,9,    292.2,2,    301.1,2,     9.36,2,    24.00,2,     0.01,2,     1.70,2,   3.8779
  316N20060130,AAIW06,   170,  1,     29,     29,2,20060212, 248,-58.3485, -85.2653, 5042,    250.8,   3.7561,  34.0369,2,-999.0000,9,    292.6,2,    294.6,2,    10.90,2,    24.78,2,     0.01,2,     1.76,2,   3.7392
  316N20060130,AAIW06,   170,  1,     28,     28,2,20060212, 248,-58.3485, -85.2653, 5042,    299.6,   3.5727,  34.0438,2,-999.0000,9,    295.6,2,    294.0,2,    12.44,2,    25.41,2,     0.01,2,     1.79,2,   3.5529
  316N20060130,AAIW06,   170,  1,     27,     27,2,20060212, 248,-58.3485, -85.2653, 5042,    349.0,   3.7661,  34.0953,2,-999.0000,9,    281.8,2,    275.1,2,    15.59,2,    26.61,2,     0.01,2,     1.87,2,   3.7423
  316N20060130,AAIW06,   170,  1,     26,     26,2,20060212, 248,-58.3485, -85.2653, 5042,    399.6,   3.7057,  34.1249,2,-999.0000,9,    278.9,2,    265.1,2,    18.53,2,    27.55,2,     0.01,2,     1.93,2,   3.6785
  316N20060130,AAIW06,   170,  1,     25,     25,2,20060212, 248,-58.3485, -85.2653, 5042,    451.1,   3.3150,  34.1109,2,-999.0000,9,    263.5,2,    267.6,2,    20.48,2,    28.13,2,     0.01,2,     1.98,2,   3.2855
  316N20060130,AAIW06,   170,  1,     24,     24,2,20060212, 248,-58.3485, -85.2653, 5042,    498.1,   3.3912,  34.1513,2,-999.0000,9,    258.9,2,    257.2,2,    23.23,2,    28.75,2,     0.01,2,     2.02,2,   3.3581
  316N20060130,AAIW06,   170,  1,     23,     23,2,20060212, 248,-58.3485, -85.2653, 5042,    548.4,   3.3730,  34.1921,2,-999.0000,9,    232.3,2,    241.4,2,    27.78,2,    29.95,2,     0.01,2,     2.10,2,   3.3364
  316N20060130,AAIW06,   170,  1,     22,     22,2,20060212, 248,-58.3485, -85.2653, 5042,    597.1,   3.6778,  34.2755,2,-999.0000,9,    219.0,2,    216.3,2,    33.54,2,    30.68,2,     0.01,2,     2.17,2,   3.6362
  316N20060130,AAIW06,   170,  1,     21,     21,9,20060212, 248,-58.3485, -85.2653, 5042,    644.2,   3.2838,  34.2606,2,-999.0000,9,   -999.0,9,   -999.0,9,  -999.00,9,  -999.00,9,  -999.00,9,  -999.00,9,   3.2407
  316N20060130,AAIW06,   170,  1,     20,     20,2,20060212, 248,-58.3485, -85.2653, 5042,    693.5,   3.0755,  34.2786,2,-999.0000,9,    224.5,2,    216.0,2,    39.71,2,    32.09,2,     0.01,2,     2.25,2,   3.0299
  316N20060130,AAIW06,   170,  1,     19,     19,2,20060212, 248,-58.3485, -85.2653, 5042,    793.0,   2.8923,  34.3276,2,-999.0000,9,    207.0,2,    203.9,2,    47.29,2,    33.14,2,     0.00,2,     2.32,2,   2.8407
  316N20060130,AAIW06,   170,  1,     18,     18,2,20060212, 248,-58.3485, -85.2653, 5042,    893.6,   2.8158,  34.3899,2,-999.0000,9,    192.1,2,    189.9,2,    54.67,2,    33.87,2,     0.00,2,     2.38,2,   2.7573
  316N20060130,AAIW06,   170,  1,     17,     17,2,20060212, 248,-58.3485, -85.2653, 5042,    993.9,   2.7138,  34.4416,2,-999.0000,9,    183.2,2,    182.1,2,    60.65,2,    34.18,2,     0.00,2,     2.40,2,   2.6487
  316N20060130,AAIW06,   170,  1,     16,     16,2,20060212, 248,-58.3485, -85.2653, 5042,   1095.6,   2.5890,  34.4901,2,-999.0000,9,    177.2,2,    178.0,2,    66.42,2,    34.34,2,     0.00,2,     2.41,2,   2.5173
  316N20060130,AAIW06,   170,  1,     15,     15,2,20060212, 248,-58.3485, -85.2653, 5042,   1191.5,   2.5202,  34.5314,2,-999.0000,9,    174.2,2,    173.9,2,    69.79,2,    34.23,2,     0.00,2,     2.40,2,   2.4419
  316N20060130,AAIW06,   170,  1,     14,     14,2,20060212, 248,-58.3485, -85.2653, 5042,   1288.3,   2.4378,  34.5723,2,-999.0000,9,    172.3,2,    172.2,2,    74.57,2,    33.97,2,     0.00,2,     2.39,2,   2.3529
  316N20060130,AAIW06,   170,  1,     13,     13,2,20060212, 248,-58.3485, -85.2653, 5042,   1387.7,   2.3737,  34.6057,2,-999.0000,9,    171.7,2,    171.7,2,    77.33,2,    33.71,2,     0.00,2,     2.37,2,   2.2818
  316N20060130,AAIW06,   170,  1,     12,     12,2,20060212, 248,-58.3485, -85.2653, 5042,   1586.1,   2.2687,  34.6540,2,-999.0000,9,    173.5,2,    173.1,2,    81.51,2,    33.07,2,     0.00,2,     2.33,2,   2.1623
  316N20060130,AAIW06,   170,  1,     11,     11,2,20060212, 248,-58.3485, -85.2653, 5042,   1784.7,   2.1363,  34.6923,2,-999.0000,9,    177.0,2,    177.3,2,    85.29,2,    32.39,2,     0.00,2,     2.27,2,   2.0155
  316N20060130,AAIW06,   170,  1,     10,     10,2,20060212, 248,-58.3485, -85.2653, 5042,   1983.7,   2.0264,  34.7135,2,  34.7151,0,    181.7,2,    182.3,2,    87.45,2,    31.76,2,     0.00,2,     2.23,2,   1.8906
  316N20060130,AAIW06,   170,  1,      9,      9,2,20060212, 248,-58.3485, -85.2653, 5042,   2292.2,   1.7580,  34.7266,2,  34.7297,0,    186.6,2,    186.9,2,    96.32,2,    31.49,2,     0.00,2,     2.22,2,   1.6002
  316N20060130,AAIW06,   170,  1,      8,      8,2,20060212, 248,-58.3485, -85.2653, 5042,   2599.5,   1.5357,  34.7256,2,  34.7277,0,    189.7,2,    190.3,2,   104.81,2,    31.76,2,     0.00,2,     2.24,2,   1.3549
  316N20060130,AAIW06,   170,  1,      7,      7,2,20060212, 248,-58.3485, -85.2653, 5042,   2910.3,   1.3746,  34.7245,2,  34.7277,0,    194.3,2,    194.5,2,   108.82,2,    31.81,2,     0.00,2,     2.23,2,   1.1687
  316N20060130,AAIW06,   170,  1,      6,      6,2,20060212, 248,-58.3485, -85.2653, 5042,   3214.3,   1.1979,  34.7204,2,  34.7237,0,    198.4,2,    198.3,2,   114.27,2,    31.92,2,     0.00,2,     2.24,2,   0.9672
  316N20060130,AAIW06,   170,  1,      5,      5,2,20060212, 248,-58.3485, -85.2653, 5042,   3517.5,   1.0143,  34.7150,2,  34.7186,0,    201.8,2,    201.9,2,   120.14,2,    32.12,2,     0.00,2,     2.25,2,   0.7584
  316N20060130,AAIW06,   170,  1,      4,      4,2,20060212, 248,-58.3485, -85.2653, 5042,   3925.0,   0.7907,  34.7091,2,  34.7101,0,    206.1,2,    206.3,2,   126.86,2,    32.23,2,     0.00,2,     2.27,2,   0.4995
  316N20060130,AAIW06,   170,  1,      3,      3,2,20060212, 248,-58.3485, -85.2653, 5042,   4332.2,   0.5791,  34.7064,2,  34.7083,0,    210.4,2,    210.4,2,   134.62,2,    32.33,2,     0.00,2,     2.28,2,   0.2510
  316N20060130,AAIW06,   170,  1,      2,      2,2,20060212, 248,-58.3485, -85.2653, 5042,   4739.5,   0.5509,  34.7054,2,  34.7071,0,    211.3,2,    211.7,2,   137.86,2,    32.54,2,     0.00,2,     2.29,2,   0.1787
  316N20060130,AAIW06,   170,  1,      1,      1,2,20060212, 248,-58.3485, -85.2653, 5042,   5134.9,   0.5506,  34.7039,2,  34.7062,0,    212.5,2,    212.6,2,   139.44,2,    32.64,2,     0.00,2,     2.29,2,   0.1326
  316N20060130,AAIW06,   171,  1,     36,     36,2,20060212, 947,-58.8167, -85.7288, 5359,      6.6,   7.2119,  33.9858,2,  33.9849,2,    292.5,2,    292.9,2,     1.04,2,    19.43,2,     0.21,2,     1.41,2,   7.2113
  316N20060130,AAIW06,   171,  1,     34,     34,2,20060212, 947,-58.8167, -85.7288, 5359,     21.8,   7.2101,  33.9853,2,-999.0000,9,   -999.0,9,   -999.0,9,  -999.00,9,  -999.00,9,  -999.00,9,  -999.00,9,   7.2081
  316N20060130,AAIW06,   171,  1,     33,     33,2,20060212, 947,-58.8167, -85.7288, 5359,     21.9,   7.2105,  33.9853,2,  33.9859,2,    293.6,2,    292.7,2,     0.98,2,    19.49,2,     0.21,2,     1.41,2,   7.2085
  316N20060130,AAIW06,   171,  1,     35,     35,2,20060212, 947,-58.8167, -85.7288, 5359,     22.2,   7.2098,  33.9855,2,-999.0000,9,   -999.0,9,   -999.0,9,  -999.00,9,  -999.00,9,  -999.00,9,  -999.00,9,   7.2077
  316N20060130,AAIW06,   171,  1,     32,     32,2,20060212, 947,-58.8167, -85.7288, 5359,     46.9,   7.1888,  33.9857,2,  33.9874,2,    293.7,2,    293.0,2,     0.93,2,    19.38,2,     0.21,2,     1.41,2,   7.1845
  316N20060130,AAIW06,   171,  1,     31,     31,2,20060212, 947,-58.8167, -85.7288, 5359,     70.9,   5.4882,  34.0735,2,  34.0665,2,    306.7,2,    306.8,2,     2.67,2,    19.98,2,     0.18,2,     1.53,2,   5.4826
  316N20060130,AAIW06,   171,  1,     30,     30,2,20060212, 947,-58.8167, -85.7288, 5359,     97.1,   5.0936,  34.1094,2,  34.1095,2,    303.1,2,    302.8,2,     5.81,2,    20.62,2,     0.26,2,     1.55,2,   5.0861
  316N20060130,AAIW06,   171,  1,     29,     29,2,20060212, 947,-58.8167, -85.7288, 5359,    132.0,   4.8744,  34.1108,2,-999.0000,9,    295.7,2,    294.3,2,     7.56,2,    22.40,2,     0.07,2,     1.60,2,   4.8645
  316N20060130,AAIW06,   171,  1,     28,     28,2,20060212, 947,-58.8167, -85.7288, 5359,    177.4,   4.6616,  34.0996,2,-999.0000,9,    292.2,2,    293.5,2,     8.70,2,    22.98,2,     0.01,2,     1.63,2,   4.6485
  316N20060130,AAIW06,   171,  1,     27,     27,2,20060212, 947,-58.8167, -85.7288, 5359,    226.6,   4.4178,  34.0811,2,-999.0000,9,    290.1,2,    293.5,2,     9.45,2,    23.50,2,     0.01,2,     1.66,2,   4.4014
  316N20060130,AAIW06,   171,  1,     26,     26,2,20060212, 947,-58.8167, -85.7288, 5359,    275.3,   4.3302,  34.0873,2,-999.0000,9,    278.4,2,    288.4,2,    10.39,2,    24.07,2,     0.01,2,     1.70,2,   4.3104
  316N20060130,AAIW06,   171,  1,     25,     25,2,20060212, 947,-58.8167, -85.7288, 5359,    326.9,   4.2099,  34.0953,2,-999.0000,9,    279.9,2,    279.6,2,    12.34,2,    24.99,2,     0.01,2,     1.76,2,   4.1865
  316N20060130,AAIW06,   171,  1,     24,     24,2,20060212, 947,-58.8167, -85.7288, 5359,    376.2,   4.3188,  34.1414,2,  34.1416,2,    275.6,2,    262.4,2,    15.49,2,    26.13,2,     0.00,2,     1.84,2,   4.2914
  316N20060130,AAIW06,   171,  1,     23,     23,2,20060212, 947,-58.8167, -85.7288, 5359,    425.5,   4.4651,  34.2040,2,-999.0000,9,    243.5,2,    241.6,2,    19.63,2,    27.57,2,     0.00,2,     1.94,2,   4.4334
  316N20060130,AAIW06,   171,  1,     22,     22,2,20060212, 947,-58.8167, -85.7288, 5359,    476.0,   4.5450,  34.2531,2,-999.0000,9,    230.3,2,    226.9,2,    23.18,2,    28.56,2,     0.00,2,     2.00,2,   4.5090
  316N20060130,AAIW06,   171,  1,     21,     21,9,20060212, 947,-58.8167, -85.7288, 5359,    479.5,   4.5194,  34.2543,2,-999.0000,9,   -999.0,9,   -999.0,9,  -999.00,9,  -999.00,9,  -999.00,9,  -999.00,9,   4.4833
  316N20060130,AAIW06,   171,  1,     20,     20,2,20060212, 947,-58.8167, -85.7288, 5359,    525.5,   4.1951,  34.2417,2,-999.0000,9,    226.0,2,    228.2,2,    25.73,2,    29.23,2,     0.00,2,     2.05,2,   4.1567
  316N20060130,AAIW06,   171,  1,     19,     19,2,20060212, 947,-58.8167, -85.7288, 5359,    646.4,   3.6509,  34.2699,2,-999.0000,9,    218.2,2,    217.7,2,    33.50,2,    30.94,2,     0.00,2,     2.17,2,   3.6057
  316N20060130,AAIW06,   171,  1,     18,     18,2,20060212, 947,-58.8167, -85.7288, 5359,    746.9,   3.3601,  34.3144,2,-999.0000,9,    205.0,2,    206.2,2,    41.06,2,    32.08,2,     0.00,2,     2.26,2,   3.3090
  316N20060130,AAIW06,   171,  1,     17,     17,2,20060212, 947,-58.8167, -85.7288, 5359,    845.4,   3.1466,  34.3639,2,-999.0000,9,    195.3,2,    195.3,2,    48.83,2,    33.01,2,     0.00,2,     2.32,2,   3.0894
  316N20060130,AAIW06,   171,  1,     16,     16,2,20060212, 947,-58.8167, -85.7288, 5359,    946.6,   2.9099,  34.4049,2,-999.0000,9,    187.6,2,    187.6,2,    55.41,2,    33.63,2,     0.00,2,     2.37,2,   2.8468
  316N20060130,AAIW06,   171,  1,     15,     15,2,20060212, 947,-58.8167, -85.7288, 5359,   1047.0,   2.7100,  34.4548,2,-999.0000,9,    181.2,2,    180.3,2,    62.61,2,    34.04,2,     0.00,2,     2.40,2,   2.6410
  316N20060130,AAIW06,   171,  1,     14,     14,2,20060212, 947,-58.8167, -85.7288, 5359,   1146.7,   2.5811,  34.4993,2,-999.0000,9,    176.8,2,    176.3,2,    67.79,2,    34.04,2,     0.00,2,     2.40,2,   2.5057
  316N20060130,AAIW06,   171,  1,     13,     13,2,20060212, 947,-58.8167, -85.7288, 5359,   1244.4,   2.4925,  34.5447,2,-999.0000,9,    173.6,2,    173.2,2,    71.78,2,    34.04,2,     0.00,2,     2.40,2,   2.4104
  316N20060130,AAIW06,   171,  1,     12,     12,2,20060212, 947,-58.8167, -85.7288, 5359,   1346.3,   2.4304,  34.5833,2,-999.0000,9,    171.9,2,    171.3,2,    75.97,2,    33.67,2,     0.00,2,     2.38,2,   2.3411
  316N20060130,AAIW06,   171,  1,     11,     11,2,20060212, 947,-58.8167, -85.7288, 5359,   1549.0,   2.3105,  34.6409,2,-999.0000,9,    169.6,2,    171.2,2,    81.79,2,    33.17,2,     0.00,2,     2.34,2,   2.2066
  316N20060130,AAIW06,   171,  1,     10,     10,2,20060212, 947,-58.8167, -85.7288, 5359,   1708.8,   2.2185,  34.6728,2,-999.0000,9,    173.5,2,    174.4,2,    83.97,2,    32.59,2,     0.00,2,     2.30,2,   2.1028
  316N20060130,AAIW06,   171,  1,      9,      9,2,20060212, 947,-58.8167, -85.7288, 5359,   2005.5,   2.0331,  34.7085,2,  34.7087,2,    179.6,2,    179.5,2,    90.01,2,    31.92,2,     0.00,2,     2.25,2,   1.8954
  316N20060130,AAIW06,   171,  1,      8,      8,2,20060212, 947,-58.8167, -85.7288, 5359,   2306.5,   1.7984,  34.7243,2,  34.7257,2,    185.5,2,    185.5,2,    96.66,2,    31.45,2,     0.00,2,     2.23,2,   1.6387
  316N20060130,AAIW06,   171,  1,      7,      7,2,20060212, 947,-58.8167, -85.7288, 5359,   2708.4,   1.5150,  34.7243,2,  34.7257,2,    190.2,2,    190.3,2,   106.60,2,    31.77,2,     0.00,2,     2.24,2,   1.3248
  316N20060130,AAIW06,   171,  1,      6,      6,2,20060212, 947,-58.8167, -85.7288, 5359,   3107.2,   1.2963,  34.7246,2,  34.7245,2,    197.1,2,    197.2,2,   110.65,2,    31.56,2,     0.00,2,     2.23,2,   1.0736
  316N20060130,AAIW06,   171,  1,      5,      5,2,20060212, 947,-58.8167, -85.7288, 5359,   3514.7,   1.0556,  34.7163,2,  34.7157,2,    201.5,2,    201.7,2,   119.62,2,    31.87,2,     0.00,2,     2.25,2,   0.7990
  316N20060130,AAIW06,   171,  1,      4,      4,2,20060212, 947,-58.8167, -85.7288, 5359,   3918.1,   0.8158,  34.7102,2,  34.7098,2,    205.8,2,    205.6,2,   126.99,2,    32.13,2,     0.00,2,     2.26,2,   0.5246
  316N20060130,AAIW06,   171,  1,      3,      3,2,20060212, 947,-58.8167, -85.7288, 5359,   4427.0,   0.5925,  34.7062,2,  34.7067,0,    210.4,2,    210.4,2,   134.37,2,    32.28,2,     0.00,2,     2.28,2,   0.2537
  316N20060130,AAIW06,   171,  1,      2,      2,2,20060212, 947,-58.8167, -85.7288, 5359,   4937.6,   0.5595,  34.7050,2,  34.7055,0,    211.8,2,    211.8,2,   138.27,2,    32.34,2,     0.00,2,     2.29,2,   0.1643
  316N20060130,AAIW06,   171,  1,      1,      1,2,20060212, 947,-58.8167, -85.7288, 5359,   5447.5,   0.5979,  34.7040,2,  34.7050,0,    212.1,2,    212.3,2,   139.49,2,    32.39,2,     0.00,2,     2.29,2,   0.1406