BOTTLE,20081218PRINUNIVRMK
EXPOCODE,SECT_ID,STNNBR,CASTNO,SAMPNO,BTLNBR,BTLNBR_FLAG_W,DATE,TIME,LATITUDE,LONGITUDE,DEPTH,CTDPRS,CTDTMP,CTDSAL,CTDSAL_FLAG_W,SALNTY,SALNTY_FLAG_W,CTDOXY,CTDOXY_FLAG_W,OXYGEN,OXYGEN_FLAG_W,SILCAT,SILCAT_FLAG_W,NITRAT,NITRAT_FLAG_W,NITRIT,NITRIT_FLAG_W,PHSPHT,PHSPHT_FLAG_W,THETA
,,,,,,,,,,,METERS,DBARS,ITS-90,PSS-78,,PSS-78,,UMOL/KG,,UMOL/KG,,UMOL/KG,,UMOL/KG,,UMOL/KG,,UMOL/KG,,DEGC
  316N20060130,AAIW06,   148,  1,     36,     36,2,20060204,1216,-58.6988, -76.9373, 4883,      8.2,   7.7562,  34.0802,2,  34.0795,2,    291.7,2,    291.9,2,     0.00,2,    17.52,2,     0.21,2,     1.24,2,   7.7554
  316N20060130,AAIW06,   148,  1,     33,     33,2,20060204,1216,-58.6988, -76.9373, 4883,     21.7,   7.7519,  34.0799,2,  34.0797,2,    292.7,2,    291.9,2,     0.00,2,    17.47,2,     0.21,2,     1.24,2,   7.7498
  316N20060130,AAIW06,   148,  1,     35,     35,2,20060204,1216,-58.6988, -76.9373, 4883,     21.8,   7.7510,  34.0800,2,-999.0000,9,   -999.0,9,   -999.0,9,  -999.00,9,  -999.00,9,  -999.00,9,  -999.00,9,   7.7489
  316N20060130,AAIW06,   148,  1,     34,     34,2,20060204,1216,-58.6988, -76.9373, 4883,     21.9,   7.7531,  34.0800,2,-999.0000,9,   -999.0,9,   -999.0,9,  -999.00,9,  -999.00,9,  -999.00,9,  -999.00,9,   7.7510
  316N20060130,AAIW06,   148,  1,     32,     32,2,20060204,1216,-58.6988, -76.9373, 4883,     46.7,   7.7225,  34.0797,2,  34.0789,2,    292.9,2,    292.2,2,     0.00,2,    17.52,2,     0.21,2,     1.25,2,   7.7180
  316N20060130,AAIW06,   148,  1,     31,     31,2,20060204,1216,-58.6988, -76.9373, 4883,     71.7,   5.8074,  34.1095,2,  34.1044,2,    305.0,2,    304.2,2,     0.77,2,    19.29,2,     0.18,2,     1.50,2,   5.8015
  316N20060130,AAIW06,   148,  1,     30,     30,2,20060204,1216,-58.6988, -76.9373, 4883,    121.4,   5.0749,  34.1369,2,  34.1346,2,    298.1,2,    299.3,2,     5.87,2,    20.79,2,     0.33,2,     1.51,2,   5.0656
  316N20060130,AAIW06,   148,  1,     29,     29,2,20060204,1216,-58.6988, -76.9373, 4883,    191.6,   4.9363,  34.1331,2,  34.1293,2,    298.5,2,    299.0,2,     5.98,2,    21.29,2,     0.01,2,     1.52,2,   4.9217
  316N20060130,AAIW06,   148,  1,     28,     28,2,20060204,1216,-58.6988, -76.9373, 4883,    241.6,   4.8942,  34.1351,2,  34.1337,2,    297.6,2,    298.2,2,     6.11,2,    21.39,2,     0.01,2,     1.53,2,   4.8758
  316N20060130,AAIW06,   148,  1,     27,     27,2,20060204,1216,-58.6988, -76.9373, 4883,    291.3,   4.8587,  34.1381,2,  34.1344,2,    296.0,2,    296.7,2,     6.23,2,    21.55,2,     0.01,2,     1.53,2,   4.8364
  316N20060130,AAIW06,   148,  1,     26,     26,2,20060204,1216,-58.6988, -76.9373, 4883,    340.5,   4.7526,  34.1292,2,  34.1264,2,    294.3,2,    294.6,2,     6.75,2,    22.03,2,     0.01,2,     1.55,2,   4.7267
  316N20060130,AAIW06,   148,  1,     25,     25,2,20060204,1216,-58.6988, -76.9373, 4883,    390.4,   4.6438,  34.1268,2,  34.1230,2,    289.1,2,    287.5,2,     8.25,2,    23.01,2,     0.01,2,     1.62,2,   4.6143
  316N20060130,AAIW06,   148,  1,     24,     24,2,20060204,1216,-58.6988, -76.9373, 4883,    440.4,   4.5943,  34.1360,2,  34.1330,2,    276.1,2,    280.0,2,     9.77,2,    23.73,2,     0.00,2,     1.67,2,   4.5611
  316N20060130,AAIW06,   148,  1,     23,     23,2,20060204,1216,-58.6988, -76.9373, 4883,    490.0,   4.4997,  34.1531,2,-999.0000,9,    264.1,2,    266.7,2,    12.67,2,    25.15,2,     0.00,2,     1.76,2,   4.4629
  316N20060130,AAIW06,   148,  1,     22,     22,2,20060204,1216,-58.6988, -76.9373, 4883,    574.8,   4.3820,  34.2020,2,  34.1996,2,    245.9,2,    243.9,2,    18.36,2,    27.24,2,     0.00,2,     1.90,2,   4.3389
  316N20060130,AAIW06,   148,  1,     20,     20,2,20060204,1216,-58.6988, -76.9373, 4883,    675.4,   4.0728,  34.2490,2,  34.2453,2,    225.7,2,    225.6,2,    25.84,2,    29.13,2,     0.00,2,     2.03,2,   4.0233
  316N20060130,AAIW06,   148,  1,     21,     21,9,20060204,1216,-58.6988, -76.9373, 4883,    676.2,   4.0729,  34.2491,2,-999.0000,9,   -999.0,9,   -999.0,9,  -999.00,9,  -999.00,9,  -999.00,9,  -999.00,9,   4.0233
  316N20060130,AAIW06,   148,  1,     19,     19,2,20060204,1216,-58.6988, -76.9373, 4883,    775.7,   3.6708,  34.2761,2,  34.2679,0,    216.2,2,    217.1,2,    32.33,2,    30.50,2,     0.00,2,     2.13,2,   3.6157
  316N20060130,AAIW06,   148,  1,     18,     18,2,20060204,1216,-58.6988, -76.9373, 4883,    875.8,   3.2982,  34.3164,2,  34.3142,2,    206.5,2,    206.0,2,    40.41,2,    31.77,2,     0.00,2,     2.22,2,   3.2378
  316N20060130,AAIW06,   148,  1,     17,     17,2,20060204,1216,-58.6988, -76.9373, 4883,    975.9,   3.0815,  34.3816,2,  34.3783,2,    189.9,2,    188.5,2,    50.49,2,    33.08,2,     0.00,2,     2.33,2,   3.0150
  316N20060130,AAIW06,   148,  1,     16,     16,2,20060204,1216,-58.6988, -76.9373, 4883,   1076.0,   2.8942,  34.4272,2,  34.4293,2,    178.4,2,    180.1,2,    57.80,2,    33.62,2,     0.00,2,     2.37,2,   2.8215
  316N20060130,AAIW06,   148,  1,     15,     15,2,20060204,1216,-58.6988, -76.9373, 4883,   1175.9,   2.7571,  34.4736,2,  34.4754,2,    173.2,2,    171.1,2,    64.71,2,    34.06,2,     0.00,2,     2.40,2,   2.6779
  316N20060130,AAIW06,   148,  1,     14,     14,2,20060204,1216,-58.6988, -76.9373, 4883,   1276.2,   2.6445,  34.5223,2,  34.5247,2,    163.5,2,    163.6,2,    71.64,2,    34.35,2,     0.00,2,     2.42,2,   2.5586
  316N20060130,AAIW06,   148,  1,     13,     13,2,20060204,1216,-58.6988, -76.9373, 4883,   1376.2,   2.5421,  34.5596,2,  34.5542,0,    159.4,2,    160.2,2,    77.57,2,    34.30,2,     0.00,2,     2.42,2,   2.4494
  316N20060130,AAIW06,   148,  1,     12,     12,2,20060204,1216,-58.6988, -76.9373, 4883,   1477.5,   2.4665,  34.5844,2,  34.5814,2,    161.4,2,    160.5,2,    80.70,2,    34.05,2,     0.00,2,     2.40,2,   2.3666
  316N20060130,AAIW06,   148,  1,     11,     11,2,20060204,1216,-58.6988, -76.9373, 4883,   1577.4,   2.3778,  34.6137,2,  34.6078,0,    163.6,2,    164.6,2,    81.63,2,    33.47,2,     0.00,2,     2.37,2,   2.2709
  316N20060130,AAIW06,   148,  1,     10,     10,2,20060204,1216,-58.6988, -76.9373, 4883,   1678.5,   2.2993,  34.6346,2,  34.6354,2,    165.3,2,    162.9,2,    86.98,2,    33.46,2,     0.00,2,     2.37,2,   2.1851
  316N20060130,AAIW06,   148,  1,      9,      9,2,20060204,1216,-58.6988, -76.9373, 4883,   1778.3,   2.2154,  34.6518,2,  34.6504,2,    162.8,2,    162.3,2,    91.13,2,    33.42,2,     0.00,2,     2.37,2,   2.0942
  316N20060130,AAIW06,   148,  1,      8,      8,2,20060204,1216,-58.6988, -76.9373, 4883,   2131.1,   1.9811,  34.6877,2,  34.6867,2,    166.7,2,    166.7,2,   100.33,2,    32.97,2,     0.00,2,     2.32,2,   1.8336
  316N20060130,AAIW06,   148,  1,      7,      7,2,20060204,1216,-58.6988, -76.9373, 4883,   2533.0,   1.7828,  34.7032,2,  34.6973,0,    173.1,2,    172.5,2,   105.72,2,    32.58,2,     0.00,2,     2.30,2,   1.6034
  316N20060130,AAIW06,   148,  1,      6,      6,2,20060204,1216,-58.6988, -76.9373, 4883,   2937.4,   1.5597,  34.7218,2,  34.7191,0,    187.3,2,    187.7,2,   104.83,2,    31.52,2,     0.00,2,     2.22,2,   1.3473
  316N20060130,AAIW06,   148,  1,      5,      5,2,20060204,1216,-58.6988, -76.9373, 4883,   3340.8,   1.3322,  34.7232,2,  34.7205,0,    195.7,2,    195.7,2,   108.41,2,    31.27,2,     0.00,2,     2.20,2,   1.0859
  316N20060130,AAIW06,   148,  1,      4,      4,2,20060204,1216,-58.6988, -76.9373, 4883,   3746.3,   1.0547,  34.7158,2,  34.7134,2,    201.2,2,    201.2,2,   117.67,2,    31.51,2,     0.00,2,     2.21,2,   0.7747
  316N20060130,AAIW06,   148,  1,      3,      3,2,20060204,1216,-58.6988, -76.9373, 4883,   4152.3,   0.7924,  34.7096,2,  34.7075,2,    206.4,2,    205.9,2,   126.36,2,    31.80,2,     0.00,2,     2.23,2,   0.4772
  316N20060130,AAIW06,   148,  1,      2,      2,2,20060204,1216,-58.6988, -76.9373, 4883,   4557.7,   0.6356,  34.7067,2,  34.7200,0,    209.5,2,    209.4,2,   132.43,2,    31.90,2,     0.00,2,     2.24,2,   0.2810
  316N20060130,AAIW06,   148,  1,      1,      1,2,20060204,1216,-58.6988, -76.9373, 4883,   4965.0,   0.5998,  34.7052,2,  34.7033,2,    211.4,2,    211.4,2,   135.43,2,    31.95,2,     0.00,2,     2.24,2,   0.2001
  316N20060130,AAIW06,   149,  1,     36,     36,2,20060204,1900,-59.2598, -76.9627, 5017,      4.8,   7.0170,  33.9845,2,  33.9808,0,    298.3,2,    298.4,2,     0.00,2,    19.41,2,     0.20,2,     1.37,2,   7.0166
  316N20060130,AAIW06,   149,  1,     35,     35,2,20060204,1900,-59.2598, -76.9627, 5017,     32.7,   6.8934,  33.9843,2,  33.9800,0,    299.8,2,    299.0,2,     0.00,2,    19.47,2,     0.19,2,     1.38,2,   6.8905
  316N20060130,AAIW06,   149,  1,     34,     34,2,20060204,1900,-59.2598, -76.9627, 5017,     57.6,   6.5854,  33.9835,2,  33.9788,0,    301.1,2,    301.6,2,     0.00,2,    19.71,2,     0.19,2,     1.42,2,   6.5803
  316N20060130,AAIW06,   149,  1,     33,     33,2,20060204,1900,-59.2598, -76.9627, 5017,     82.5,   4.3701,  34.0093,2,  34.0049,0,    307.5,2,    307.4,2,     1.42,2,    21.70,2,     0.21,2,     1.80,2,   4.3643
  316N20060130,AAIW06,   149,  1,     32,     32,2,20060204,1900,-59.2598, -76.9627, 5017,    106.9,   4.0818,  34.0461,2,  34.0417,0,    301.9,2,    302.0,2,     7.80,2,    23.20,2,     0.58,2,     1.71,2,   4.0745
  316N20060130,AAIW06,   149,  1,     31,     31,2,20060204,1900,-59.2598, -76.9627, 5017,    156.8,   3.8006,  34.0409,2,  34.0372,0,    302.2,2,    303.3,2,     9.57,2,    24.06,2,     0.16,2,     1.71,2,   3.7901
  316N20060130,AAIW06,   149,  1,     30,     30,2,20060204,1900,-59.2598, -76.9627, 5017,    207.2,   3.4786,  34.0286,2,  34.0259,2,    297.9,2,    300.9,2,    11.16,2,    24.99,2,     0.01,2,     1.76,2,   3.4652
  316N20060130,AAIW06,   149,  1,     29,     29,2,20060204,1900,-59.2598, -76.9627, 5017,    257.3,   3.4297,  34.0531,2,  34.0461,0,    293.5,2,    290.2,2,    13.33,2,    25.97,2,     0.01,2,     1.82,2,   3.4131
  316N20060130,AAIW06,   149,  1,     28,     28,2,20060204,1900,-59.2598, -76.9627, 5017,    306.9,   3.3831,  34.0815,2,  34.0754,0,    275.6,2,    280.9,2,    15.90,2,    26.85,2,     0.02,2,     1.88,2,   3.3632
  316N20060130,AAIW06,   149,  1,     27,     27,2,20060204,1900,-59.2598, -76.9627, 5017,    357.4,   3.2884,  34.1063,2,  34.1031,0,    274.1,2,    273.4,2,    18.48,2,    27.64,2,     0.01,2,     1.94,2,   3.2654
  316N20060130,AAIW06,   149,  1,     26,     26,2,20060204,1900,-59.2598, -76.9627, 5017,    407.6,   3.3804,  34.1496,2,  34.1462,0,    256.6,2,    257.8,2,    22.06,2,    28.73,2,     0.01,2,     2.00,2,   3.3536
  316N20060130,AAIW06,   149,  1,     25,     25,2,20060204,1900,-59.2598, -76.9627, 5017,    455.6,   3.4075,  34.1942,2,  34.1880,0,    249.1,2,    242.9,2,    26.43,2,    29.70,2,     0.01,2,     2.07,2,   3.3773
  316N20060130,AAIW06,   149,  1,     24,     24,2,20060204,1900,-59.2598, -76.9627, 5017,    506.5,   3.2580,  34.2107,2,  34.2084,2,    240.5,2,    234.6,2,    29.41,2,    30.39,2,     0.01,2,     2.12,2,   3.2248
  316N20060130,AAIW06,   149,  1,     23,     23,2,20060204,1900,-59.2598, -76.9627, 5017,    607.5,   3.2379,  34.2838,2,  34.2882,0,    214.5,2,    215.1,2,    37.99,2,    31.87,2,     0.00,2,     2.23,2,   3.1976
  316N20060130,AAIW06,   149,  1,     22,     22,2,20060204,1900,-59.2598, -76.9627, 5017,    707.0,   3.0483,  34.3370,2,  34.3327,2,    207.5,2,    201.5,2,    44.57,2,    32.90,2,     0.00,2,     2.31,2,   3.0019
  316N20060130,AAIW06,   149,  1,     21,     21,9,20060204,1900,-59.2598, -76.9627, 5017,    806.5,   2.8484,  34.3813,2,-999.0000,9,   -999.0,9,   -999.0,9,  -999.00,9,  -999.00,9,  -999.00,9,  -999.00,9,   2.7960
  316N20060130,AAIW06,   149,  1,     20,     20,2,20060204,1900,-59.2598, -76.9627, 5017,    807.2,   2.8480,  34.3814,2,  34.3839,2,    194.1,2,    192.4,2,    52.76,2,    33.64,2,     0.00,2,     2.36,2,   2.7955
  316N20060130,AAIW06,   149,  1,     19,     19,2,20060204,1900,-59.2598, -76.9627, 5017,    906.9,   2.7325,  34.4308,2,  34.4303,2,    184.3,2,    184.3,2,    58.96,2,    34.03,2,     0.00,2,     2.39,2,   2.6736
  316N20060130,AAIW06,   149,  1,     18,     18,2,20060204,1900,-59.2598, -76.9627, 5017,   1008.1,   2.6248,  34.4783,2,  34.4742,2,    177.9,2,    178.1,2,    64.55,2,    34.12,2,     0.00,2,     2.40,2,   2.5593
  316N20060130,AAIW06,   149,  1,     17,     17,2,20060204,1900,-59.2598, -76.9627, 5017,   1107.1,   2.5196,  34.5192,2,  34.5164,0,    174.4,2,    174.5,2,    68.95,2,    34.12,2,     0.00,2,     2.39,2,   2.4476
  316N20060130,AAIW06,   149,  1,     16,     16,2,20060204,1900,-59.2598, -76.9627, 5017,   1207.7,   2.4437,  34.5652,2,  34.5628,2,    172.1,2,    171.6,2,    73.15,2,    33.91,2,     0.00,2,     2.39,2,   2.3648
  316N20060130,AAIW06,   149,  1,     15,     15,2,20060204,1900,-59.2598, -76.9627, 5017,   1308.0,   2.3507,  34.6009,2,  34.6009,0,    171.6,2,    171.7,2,    75.93,2,    33.66,2,     0.00,2,     2.36,2,   2.2651
  316N20060130,AAIW06,   149,  1,     14,     14,2,20060204,1900,-59.2598, -76.9627, 5017,   1408.7,   2.3047,  34.6333,2,  34.6355,2,    172.2,2,    172.3,2,    78.93,2,    33.21,2,     0.00,2,     2.34,2,   2.2118
  316N20060130,AAIW06,   149,  1,     13,     13,2,20060204,1900,-59.2598, -76.9627, 5017,   1509.1,   2.2434,  34.6567,2,  34.6551,2,    173.0,2,    173.1,2,    81.12,2,    32.96,2,     0.00,2,     2.31,2,   2.1434
  316N20060130,AAIW06,   149,  1,     12,     12,2,20060204,1900,-59.2598, -76.9627, 5017,   1609.9,   2.1949,  34.6735,2,  34.6730,2,    174.4,2,    174.5,2,    82.71,2,    32.56,2,     0.00,2,     2.29,2,   2.0875
  316N20060130,AAIW06,   149,  1,     11,     11,2,20060204,1900,-59.2598, -76.9627, 5017,   1709.9,   2.1402,  34.6881,2,  34.6868,2,    176.5,2,    176.5,2,    84.29,2,    32.31,2,     0.00,2,     2.27,2,   2.0254
  316N20060130,AAIW06,   149,  1,     10,     10,2,20060204,1900,-59.2598, -76.9627, 5017,   1810.8,   2.0649,  34.7033,2,  34.7004,2,    178.8,2,    179.4,2,    86.49,2,    32.01,2,     0.00,2,     2.25,2,   1.9429
  316N20060130,AAIW06,   149,  1,      9,      9,2,20060204,1900,-59.2598, -76.9627, 5017,   2012.0,   1.9183,  34.7178,2,  34.7138,0,    181.8,2,    182.0,2,    91.92,2,    31.76,2,     0.00,2,     2.23,2,   1.7818
  316N20060130,AAIW06,   149,  1,      8,      8,2,20060204,1900,-59.2598, -76.9627, 5017,   2313.7,   1.7071,  34.7211,2,  34.7173,0,    185.4,2,    184.3,2,   100.20,2,    31.95,2,     0.00,2,     2.24,2,   1.5484
  316N20060130,AAIW06,   149,  1,      7,      7,2,20060204,1900,-59.2598, -76.9627, 5017,   2605.1,   1.5051,  34.7243,2,  34.7212,0,    189.9,2,    190.2,2,   104.64,2,    31.76,2,     0.00,2,     2.22,2,   1.3244
  316N20060130,AAIW06,   149,  1,      6,      6,2,20060204,1900,-59.2598, -76.9627, 5017,   2916.1,   1.3376,  34.7236,2,  34.7214,2,    195.0,2,    195.2,2,   108.68,2,    31.75,2,     0.00,2,     2.22,2,   1.1320
  316N20060130,AAIW06,   149,  1,      5,      5,2,20060204,1900,-59.2598, -76.9627, 5017,   3218.4,   1.1418,  34.7192,2,  34.7173,2,    199.0,2,    199.1,2,   114.76,2,    31.84,2,     0.00,2,     2.23,2,   0.9120
  316N20060130,AAIW06,   149,  1,      4,      4,2,20060204,1900,-59.2598, -76.9627, 5017,   3617.7,   0.9190,  34.7128,2,  34.7105,2,    203.9,2,    203.7,2,   121.48,2,    32.04,2,     0.00,2,     2.24,2,   0.6556
  316N20060130,AAIW06,   149,  1,      3,      3,2,20060204,1900,-59.2598, -76.9627, 5017,   4124.3,   0.6442,  34.7075,2,  34.7052,2,    208.8,2,    208.9,2,   130.67,2,    32.28,2,     0.00,2,     2.26,2,   0.3364
  316N20060130,AAIW06,   149,  1,      2,      2,2,20060204,1900,-59.2598, -76.9627, 5017,   4633.2,   0.5681,  34.7058,2,  34.7040,2,    211.0,2,    211.0,2,   135.37,2,    32.42,2,     0.00,2,     2.27,2,   0.2073
  316N20060130,AAIW06,   149,  1,      1,      1,2,20060204,1900,-59.2598, -76.9627, 5017,   5106.6,   0.5640,  34.7044,2,  34.7034,2,    212.0,2,    211.9,2,   137.61,2,    32.52,2,     0.00,2,     2.27,2,   0.1489