BOTTLE,20081218PRINUNIVRMK
EXPOCODE,SECT_ID,STNNBR,CASTNO,SAMPNO,BTLNBR,BTLNBR_FLAG_W,DATE,TIME,LATITUDE,LONGITUDE,DEPTH,CTDPRS,CTDTMP,CTDSAL,CTDSAL_FLAG_W,SALNTY,SALNTY_FLAG_W,CTDOXY,CTDOXY_FLAG_W,OXYGEN,OXYGEN_FLAG_W,SILCAT,SILCAT_FLAG_W,NITRAT,NITRAT_FLAG_W,NITRIT,NITRIT_FLAG_W,PHSPHT,PHSPHT_FLAG_W,THETA
,,,,,,,,,,,METERS,DBARS,ITS-90,PSS-78,,PSS-78,,UMOL/KG,,UMOL/KG,,UMOL/KG,,UMOL/KG,,UMOL/KG,,UMOL/KG,,DEGC
  316N20060130,AAIW06,   156,  1,     36,     36,2,20060207, 742,-61.0147, -78.9733, 4945,      5.3,   6.3927,  33.9668,2,  33.9655,0,    300.0,2,    300.3,2,     0.00,2,    20.78,2,     0.20,2,     1.46,2,   6.3922
  316N20060130,AAIW06,   156,  1,     35,     35,2,20060207, 742,-61.0147, -78.9733, 4945,     29.1,   6.3584,  33.9681,2,  33.9675,0,    302.4,2,    300.8,2,     0.00,2,    20.68,2,     0.19,2,     1.46,2,   6.3559
  316N20060130,AAIW06,   156,  1,     34,     34,2,20060207, 742,-61.0147, -78.9733, 4945,     54.0,   6.2145,  33.9715,2,  33.9714,0,    303.8,2,    302.3,2,     0.00,2,    20.63,2,     0.19,2,     1.48,2,   6.2099
  316N20060130,AAIW06,   156,  1,     33,     33,2,20060207, 742,-61.0147, -78.9733, 4945,     78.8,   4.1453,  34.0004,2,  33.9965,0,    312.8,2,    312.3,2,     1.89,2,    22.07,2,     0.20,2,     1.78,2,   4.1399
  316N20060130,AAIW06,   156,  1,     32,     32,2,20060207, 742,-61.0147, -78.9733, 4945,     97.7,   3.6883,  34.0147,2,  34.0143,0,    309.6,2,    309.0,2,     7.63,2,    23.37,2,     0.34,2,     1.78,2,   3.6819
  316N20060130,AAIW06,   156,  1,     31,     31,2,20060207, 742,-61.0147, -78.9733, 4945,    133.7,   3.1920,  34.0145,2,  34.0127,0,    305.0,2,    306.4,2,    12.00,2,    25.24,2,     0.16,2,     1.78,2,   3.1838
  316N20060130,AAIW06,   156,  1,     30,     30,2,20060207, 742,-61.0147, -78.9733, 4945,    177.9,   3.0746,  34.0309,2,  34.0317,0,    300.1,2,    300.2,2,    13.59,2,    26.09,2,     0.01,2,     1.82,2,   3.0637
  316N20060130,AAIW06,   156,  1,     29,     29,2,20060207, 742,-61.0147, -78.9733, 4945,    227.4,   2.9544,  34.0631,2,  34.0619,0,    294.9,2,    288.6,2,    16.76,2,    27.13,2,     0.01,2,     1.90,2,   2.9406
  316N20060130,AAIW06,   156,  1,     28,     28,2,20060207, 742,-61.0147, -78.9733, 4945,    278.1,   2.7371,  34.0646,2,  34.0646,0,    288.0,2,    288.3,2,    18.34,2,    27.74,2,     0.01,2,     1.94,2,   2.7206
  316N20060130,AAIW06,   156,  1,     27,     27,2,20060207, 742,-61.0147, -78.9733, 4945,    327.3,   2.7945,  34.1014,2,-999.0000,9,    276.7,2,    275.0,2,    21.52,2,    28.58,2,     0.01,2,     1.99,2,   2.7748
  316N20060130,AAIW06,   156,  1,     26,     26,2,20060207, 742,-61.0147, -78.9733, 4945,    377.5,   2.7799,  34.1378,2,-999.0000,9,    269.2,2,    262.7,2,    25.28,2,    29.52,2,     0.01,2,     2.06,2,   2.7570
  316N20060130,AAIW06,   156,  1,     25,     25,2,20060207, 742,-61.0147, -78.9733, 4945,    426.5,   2.6901,  34.1604,2,-999.0000,9,    255.9,2,    256.2,2,    28.86,2,    30.23,2,     0.01,2,     2.11,2,   2.6644
  316N20060130,AAIW06,   156,  1,     24,     24,2,20060207, 742,-61.0147, -78.9733, 4945,    476.5,   2.5927,  34.1778,2,-999.0000,9,    244.4,2,    251.2,2,    31.63,2,    30.72,2,     0.00,2,     2.15,2,   2.5641
  316N20060130,AAIW06,   156,  1,     23,     23,2,20060207, 742,-61.0147, -78.9733, 4945,    527.3,   2.7061,  34.2315,2,-999.0000,9,    237.7,2,    234.9,2,    36.20,2,    31.57,2,     0.01,2,     2.20,2,   2.6738
  316N20060130,AAIW06,   156,  1,     21,     21,9,20060207, 742,-61.0147, -78.9733, 4945,    646.6,   2.7372,  34.3314,2,-999.0000,9,   -999.0,9,   -999.0,9,  -999.00,9,  -999.00,9,  -999.00,9,  -999.00,9,   2.6966
  316N20060130,AAIW06,   156,  1,     22,     22,2,20060207, 742,-61.0147, -78.9733, 4945,    647.1,   2.7440,  34.3294,2,-999.0000,9,    208.8,2,    204.4,2,    47.92,2,    33.21,2,     0.00,2,     2.33,2,   2.7034
  316N20060130,AAIW06,   156,  1,     20,     20,2,20060207, 742,-61.0147, -78.9733, 4945,    746.7,   2.7341,  34.4107,2,-999.0000,9,    189.3,2,    187.4,2,    56.87,2,    34.01,2,     0.00,2,     2.38,2,   2.6866
  316N20060130,AAIW06,   156,  1,     19,     19,2,20060207, 742,-61.0147, -78.9733, 4945,    846.6,   2.5812,  34.4656,2,-999.0000,9,    181.3,2,    179.2,2,    63.84,2,    34.22,2,     0.00,2,     2.41,2,   2.5276
  316N20060130,AAIW06,   156,  1,     18,     18,2,20060207, 742,-61.0147, -78.9733, 4945,    946.5,   2.5303,  34.5120,2,-999.0000,9,    175.6,2,    174.6,2,    68.62,2,    34.20,2,     0.00,2,     2.40,2,   2.4699
  316N20060130,AAIW06,   156,  1,     17,     17,2,20060207, 742,-61.0147, -78.9733, 4945,   1046.8,   2.4367,  34.5476,2,-999.0000,9,    172.7,2,    172.8,2,    71.82,2,    34.11,2,     0.00,2,     2.37,2,   2.3698
  316N20060130,AAIW06,   156,  1,     16,     16,2,20060207, 742,-61.0147, -78.9733, 4945,   1145.4,   2.3750,  34.5861,2,-999.0000,9,    171.3,2,    171.4,2,    75.20,2,    33.85,2,     0.00,2,     2.35,2,   2.3013
  316N20060130,AAIW06,   156,  1,     15,     15,2,20060207, 742,-61.0147, -78.9733, 4945,   1247.2,   2.3125,  34.6222,2,-999.0000,9,    171.4,2,    171.5,2,    78.20,2,    33.45,2,     0.00,2,     2.33,2,   2.2318
  316N20060130,AAIW06,   156,  1,     14,     14,2,20060207, 742,-61.0147, -78.9733, 4945,   1346.6,   2.2686,  34.6431,2,-999.0000,9,    172.3,2,    172.4,2,    80.20,2,    33.25,2,     0.00,2,     2.30,2,   2.1808
  316N20060130,AAIW06,   156,  1,     13,     13,2,20060207, 742,-61.0147, -78.9733, 4945,   1445.6,   2.2211,  34.6627,2,-999.0000,9,    174.2,2,    174.0,2,    81.80,2,    32.85,2,     0.00,2,     2.28,2,   2.1262
  316N20060130,AAIW06,   156,  1,     12,     12,2,20060207, 742,-61.0147, -78.9733, 4945,   1546.9,   2.1478,  34.6834,2,-999.0000,9,    176.4,2,    176.1,2,    83.82,2,    32.65,2,     0.00,2,     2.25,2,   2.0459
  316N20060130,AAIW06,   156,  1,     11,     11,2,20060207, 742,-61.0147, -78.9733, 4945,   1646.5,   2.0898,  34.6984,2,-999.0000,9,    179.4,2,    178.8,2,    84.62,2,    32.15,2,     0.00,2,     2.23,2,   1.9807
  316N20060130,AAIW06,   156,  1,     10,     10,2,20060207, 742,-61.0147, -78.9733, 4945,   1747.0,   2.0364,  34.7087,2,-999.0000,9,    181.1,2,    180.7,2,    85.82,2,    31.90,2,     0.00,2,     2.21,2,   1.9199
  316N20060130,AAIW06,   156,  1,      9,      9,2,20060207, 742,-61.0147, -78.9733, 4945,   1944.7,   1.8678,  34.7237,2,-999.0000,9,    184.1,2,    183.9,2,    92.04,2,    31.65,2,     0.00,2,     2.19,2,   1.7376
  316N20060130,AAIW06,   156,  1,      8,      8,2,20060207, 742,-61.0147, -78.9733, 4945,   2180.4,   1.6787,  34.7281,2,  34.7298,0,    187.3,2,    188.3,2,    97.87,2,    31.65,2,     0.00,2,     2.19,2,   1.5318
  316N20060130,AAIW06,   156,  1,      7,      7,2,20060207, 742,-61.0147, -78.9733, 4945,   2576.0,   1.4323,  34.7250,2,  34.7270,0,    192.6,2,    192.3,2,   106.53,2,    31.70,2,     0.00,2,     2.20,2,   1.2556
  316N20060130,AAIW06,   156,  1,      6,      6,2,20060207, 742,-61.0147, -78.9733, 4945,   2974.4,   1.1984,  34.7222,2,  34.7249,0,    198.0,2,    198.4,2,   112.40,2,    31.80,2,     0.00,2,     2.21,2,   0.9904
  316N20060130,AAIW06,   156,  1,      5,      5,2,20060207, 742,-61.0147, -78.9733, 4945,   3380.8,   0.9733,  34.7147,2,  34.7292,0,    202.5,2,    202.4,2,   119.50,2,    31.99,2,     0.00,2,     2.22,2,   0.7319
  316N20060130,AAIW06,   156,  1,      4,      4,2,20060207, 742,-61.0147, -78.9733, 4945,   3789.0,   0.7741,  34.7089,2,  34.7107,0,    206.1,2,    206.2,2,   126.21,2,    32.20,2,     0.00,2,     2.24,2,   0.4973
  316N20060130,AAIW06,   156,  1,      3,      3,2,20060207, 742,-61.0147, -78.9733, 4945,   4199.1,   0.5944,  34.7062,2,  34.7105,0,    210.2,2,    209.7,2,   131.91,2,    32.44,2,     0.00,2,     2.25,2,   0.2801
  316N20060130,AAIW06,   156,  1,      2,      2,2,20060207, 742,-61.0147, -78.9733, 4945,   4604.3,   0.5502,  34.7053,2,  34.7064,0,    211.3,2,    211.0,2,   136.01,2,    32.54,2,     0.00,2,     2.26,2,   0.1932
  316N20060130,AAIW06,   156,  1,      1,      1,2,20060207, 742,-61.0147, -78.9733, 4945,   5025.4,   0.5459,  34.7042,2,  34.7077,0,    212.9,2,    212.7,2,   138.67,2,    32.54,2,     0.00,2,     2.26,2,   0.1410
  316N20060130,AAIW06,   157,  1,     36,     36,2,20060207,1529,-60.4068, -78.9720, 4993,      4.4,   6.4606,  33.9694,2,  33.9689,2,    300.0,2,    300.6,2,     0.79,2,    20.27,2,     0.20,2,     1.44,2,   6.4602
  316N20060130,AAIW06,   157,  1,     35,     35,2,20060207,1529,-60.4068, -78.9720, 4993,     15.1,   6.4595,  33.9696,2,-999.0000,9,   -999.0,9,   -999.0,9,  -999.00,9,  -999.00,9,  -999.00,9,  -999.00,9,   6.4582
  316N20060130,AAIW06,   157,  1,     34,     34,2,20060207,1529,-60.4068, -78.9720, 4993,     15.4,   6.4582,  33.9695,2,-999.0000,9,   -999.0,9,   -999.0,9,  -999.00,9,  -999.00,9,  -999.00,9,  -999.00,9,   6.4569
  316N20060130,AAIW06,   157,  1,     33,     33,2,20060207,1529,-60.4068, -78.9720, 4993,     15.5,   6.4574,  33.9693,2,  33.9704,2,    300.9,2,    300.5,2,     0.58,2,    20.27,2,     0.20,2,     1.44,2,   6.4561
  316N20060130,AAIW06,   157,  1,     32,     32,2,20060207,1529,-60.4068, -78.9720, 4993,     40.1,   6.3958,  33.9692,2,  33.9710,2,    302.4,2,    301.0,2,     0.56,2,    20.28,2,     0.20,2,     1.43,2,   6.3923
  316N20060130,AAIW06,   157,  1,     31,     31,2,20060207,1529,-60.4068, -78.9720, 4993,     65.8,   5.0628,  33.9932,2,  33.9934,2,    314.8,2,    312.2,2,     1.14,2,    20.87,2,     0.19,2,     1.59,2,   5.0578
  316N20060130,AAIW06,   157,  1,     30,     30,2,20060207,1529,-60.4068, -78.9720, 4993,    120.1,   3.5122,  34.0208,2,  34.0208,2,    308.0,2,    309.2,2,    11.06,2,    23.86,2,     0.57,2,     1.74,2,   3.5045
  316N20060130,AAIW06,   157,  1,     29,     29,2,20060207,1529,-60.4068, -78.9720, 4993,    140.4,   3.2881,  34.0186,2,  34.0185,2,    304.0,2,    305.2,2,    12.43,2,    25.09,2,     0.08,2,     1.77,2,   3.2793
  316N20060130,AAIW06,   157,  1,     28,     28,2,20060207,1529,-60.4068, -78.9720, 4993,    190.3,   3.1725,  34.0599,2,  34.0593,2,    288.2,2,    287.6,2,    16.98,2,    26.81,2,     0.01,2,     1.87,2,   3.1607
  316N20060130,AAIW06,   157,  1,     27,     27,2,20060207,1529,-60.4068, -78.9720, 4993,    238.4,   2.9872,  34.0782,2,-999.0000,9,    282.8,2,    282.1,2,    19.35,2,    27.66,2,     0.00,2,     1.93,2,   2.9727
  316N20060130,AAIW06,   157,  1,     26,     26,2,20060207,1529,-60.4068, -78.9720, 4993,    288.9,   2.9643,  34.1119,2,-999.0000,9,    273.4,2,    272.6,2,    22.51,2,    28.50,2,     0.00,2,     1.98,2,   2.9466
  316N20060130,AAIW06,   157,  1,     25,     25,2,20060207,1529,-60.4068, -78.9720, 4993,    338.6,   3.0207,  34.1488,2,-999.0000,9,    259.1,2,    257.4,2,    26.26,2,    29.45,2,     0.00,2,     2.04,2,   2.9996
  316N20060130,AAIW06,   157,  1,     24,     24,2,20060207,1529,-60.4068, -78.9720, 4993,    389.6,   2.9686,  34.1771,2,-999.0000,9,    249.6,2,    248.6,2,    29.42,2,    30.05,2,     0.00,2,     2.09,2,   2.9444
  316N20060130,AAIW06,   157,  1,     23,     23,2,20060207,1529,-60.4068, -78.9720, 4993,    438.7,   2.9495,  34.2161,2,-999.0000,9,    232.9,2,    236.5,2,    33.77,2,    30.99,2,     0.00,2,     2.15,2,   2.9221
  316N20060130,AAIW06,   157,  1,     22,     22,2,20060207,1529,-60.4068, -78.9720, 4993,    488.9,   2.6510,  34.2144,2,-999.0000,9,    236.5,2,    239.9,2,    35.94,2,    31.30,2,     0.00,2,     2.18,2,   2.6214
  316N20060130,AAIW06,   157,  1,     20,     20,2,20060207,1529,-60.4068, -78.9720, 4993,    572.7,   2.6543,  34.2698,2,-999.0000,9,    220.7,2,    221.7,2,    42.48,2,    32.39,2,     0.00,2,     2.26,2,   2.6192
  316N20060130,AAIW06,   157,  1,     21,     21,9,20060207,1529,-60.4068, -78.9720, 4993,    574.0,   2.6541,  34.2696,2,-999.0000,9,   -999.0,9,   -999.0,9,  -999.00,9,  -999.00,9,  -999.00,9,  -999.00,9,   2.6189
  316N20060130,AAIW06,   157,  1,     19,     19,2,20060207,1529,-60.4068, -78.9720, 4993,    674.8,   2.8370,  34.3620,2,-999.0000,9,    195.6,2,    196.4,2,    51.60,2,    33.43,2,     0.00,2,     2.34,2,   2.7939
  316N20060130,AAIW06,   157,  1,     18,     18,2,20060207,1529,-60.4068, -78.9720, 4993,    774.8,   2.7520,  34.4243,2,-999.0000,9,    185.6,2,    184.8,2,    58.94,2,    33.88,2,     0.00,2,     2.37,2,   2.7024
  316N20060130,AAIW06,   157,  1,     17,     17,2,20060207,1529,-60.4068, -78.9720, 4993,    874.3,   2.6167,  34.4691,2,-999.0000,9,    178.7,2,    178.8,2,    64.69,2,    34.18,2,     0.00,2,     2.38,2,   2.5609
  316N20060130,AAIW06,   157,  1,     16,     16,2,20060207,1529,-60.4068, -78.9720, 4993,    974.0,   2.5155,  34.5119,2,-999.0000,9,    174.8,2,    175.5,2,    69.46,2,    34.13,2,     0.00,2,     2.38,2,   2.4532
  316N20060130,AAIW06,   157,  1,     15,     15,2,20060207,1529,-60.4068, -78.9720, 4993,   1074.9,   2.4385,  34.5542,2,-999.0000,9,    172.5,2,    172.3,2,    73.63,2,    34.03,2,     0.00,2,     2.37,2,   2.3695
  316N20060130,AAIW06,   157,  1,     14,     14,2,20060207,1529,-60.4068, -78.9720, 4993,   1175.0,   2.3674,  34.5908,2,-999.0000,9,    171.7,2,    171.4,2,    76.80,2,    33.73,2,     0.00,2,     2.35,2,   2.2916
  316N20060130,AAIW06,   157,  1,     13,     13,2,20060207,1529,-60.4068, -78.9720, 4993,   1375.7,   2.2542,  34.6455,2,-999.0000,9,    173.0,2,    172.7,2,    81.58,2,    33.13,2,     0.00,2,     2.32,2,   2.1644
  316N20060130,AAIW06,   157,  1,     12,     12,2,20060207,1529,-60.4068, -78.9720, 4993,   1577.0,   2.1503,  34.6834,2,-999.0000,9,    176.3,2,    176.3,2,    84.56,2,    32.48,2,     0.00,2,     2.27,2,   2.0460
  316N20060130,AAIW06,   157,  1,     11,     11,2,20060207,1529,-60.4068, -78.9720, 4993,   1777.8,   2.0222,  34.7107,2,-999.0000,9,    181.0,2,    181.1,2,    87.95,2,    31.88,2,     0.00,2,     2.23,2,   1.9035
  316N20060130,AAIW06,   157,  1,     10,     10,2,20060207,1529,-60.4068, -78.9720, 4993,   1979.4,   1.8819,  34.7241,2,-999.0000,9,    185.1,2,    185.2,2,    91.93,2,    31.58,2,     0.00,2,     2.20,2,   1.7486
  316N20060130,AAIW06,   157,  1,      9,      9,2,20060207,1529,-60.4068, -78.9720, 4993,   2230.9,   1.6769,  34.7261,2,  34.7276,0,    187.8,2,    187.1,2,   100.34,2,    31.68,2,     0.00,2,     2.22,2,   1.5258
  316N20060130,AAIW06,   157,  1,      8,      8,2,20060207,1529,-60.4068, -78.9720, 4993,   2532.8,   1.4888,  34.7282,2,  34.7301,0,    192.3,2,    192.5,2,   104.55,2,    31.63,2,     0.00,2,     2.20,2,   1.3148
  316N20060130,AAIW06,   157,  1,      7,      7,2,20060207,1529,-60.4068, -78.9720, 4993,   2836.4,   1.3147,  34.7246,2,  34.7254,2,    196.0,2,    196.1,2,   109.98,2,    31.63,2,     0.00,2,     2.22,2,   1.1169
  316N20060130,AAIW06,   157,  1,      6,      6,2,20060207,1529,-60.4068, -78.9720, 4993,   3140.1,   1.1497,  34.7201,2,  34.7217,0,    199.3,2,    199.3,2,   114.61,2,    31.88,2,     0.00,2,     2.22,2,   0.9272
  316N20060130,AAIW06,   157,  1,      5,      5,2,20060207,1529,-60.4068, -78.9720, 4993,   3525.5,   0.9432,  34.7134,2,  34.7145,0,    202.8,2,    203.3,2,   122.07,2,    32.08,2,     0.00,2,     2.23,2,   0.6884
  316N20060130,AAIW06,   157,  1,      4,      4,2,20060207,1529,-60.4068, -78.9720, 4993,   4031.8,   0.6836,  34.7076,2,  34.7082,2,    207.8,2,    208.1,2,   129.98,2,    32.27,2,     0.00,2,     2.26,2,   0.3843
  316N20060130,AAIW06,   157,  1,      3,      3,2,20060207,1529,-60.4068, -78.9720, 4993,   4234.0,   0.6113,  34.7064,2,  34.7071,0,    209.7,2,    209.3,2,   133.21,2,    32.33,2,     0.00,2,     2.26,2,   0.2928
  316N20060130,AAIW06,   157,  1,      2,      2,2,20060207,1529,-60.4068, -78.9720, 4993,   4540.6,   0.5580,  34.7055,2,  34.7038,2,    210.8,2,    210.7,2,   136.46,2,    32.48,2,     0.00,2,     2.28,2,   0.2078
  316N20060130,AAIW06,   157,  1,      1,      1,2,20060207,1529,-60.4068, -78.9720, 4993,   5074.5,   0.5292,  34.7039,2,  34.7027,2,    212.7,2,    212.7,2,   140.93,2,    32.53,2,     0.00,2,     2.27,2,   0.1191