BOTTLE,20081218PRINUNIVRMK
EXPOCODE,SECT_ID,STNNBR,CASTNO,SAMPNO,BTLNBR,BTLNBR_FLAG_W,DATE,TIME,LATITUDE,LONGITUDE,DEPTH,CTDPRS,CTDTMP,CTDSAL,CTDSAL_FLAG_W,SALNTY,SALNTY_FLAG_W,CTDOXY,CTDOXY_FLAG_W,OXYGEN,OXYGEN_FLAG_W,SILCAT,SILCAT_FLAG_W,NITRAT,NITRAT_FLAG_W,NITRIT,NITRIT_FLAG_W,PHSPHT,PHSPHT_FLAG_W,THETA
,,,,,,,,,,,METERS,DBARS,ITS-90,PSS-78,,PSS-78,,UMOL/KG,,UMOL/KG,,UMOL/KG,,UMOL/KG,,UMOL/KG,,UMOL/KG,,DEGC
  316N20060130,AAIW06,   229,  1,      8,      8,2,20060304,1325,-52.9952, -74.9800,  236,      3.8,  10.9401,  33.5344,2,  33.5366,2,    273.8,2,    273.6,2,     0.40,2,     7.91,2,     0.16,2,     0.78,2,  10.9396
  316N20060130,AAIW06,   229,  1,      9,      9,2,20060304,1325,-52.9952, -74.9800,  236,      4.1,  10.9398,  33.5341,2,-999.0000,9,   -999.0,9,   -999.0,9,  -999.00,9,  -999.00,9,  -999.00,9,  -999.00,9,  10.9393
  316N20060130,AAIW06,   229,  1,      7,      7,2,20060304,1325,-52.9952, -74.9800,  236,     19.5,  10.8348,  33.5866,2,-999.0000,9,    273.5,2,    273.4,2,     0.34,2,     8.49,2,     0.16,2,     0.80,2,  10.8325
  316N20060130,AAIW06,   229,  1,      6,      6,2,20060304,1325,-52.9952, -74.9800,  236,     44.5,  10.8139,  33.5965,2,-999.0000,9,    273.2,2,    273.9,2,     0.29,2,     8.60,2,     0.16,2,     0.80,2,  10.8086
  316N20060130,AAIW06,   229,  1,      5,      5,2,20060304,1325,-52.9952, -74.9800,  236,     72.4,  10.6588,  33.6363,2,-999.0000,9,    271.8,2,    271.3,2,     0.44,2,     9.47,2,     0.17,2,     0.87,2,  10.6502
  316N20060130,AAIW06,   229,  1,      4,      4,2,20060304,1325,-52.9952, -74.9800,  236,     92.3,   9.6654,  33.7499,2,-999.0000,9,    258.2,2,    258.4,2,     1.87,2,    13.76,2,     0.20,2,     1.14,2,   9.6551
  316N20060130,AAIW06,   229,  1,      3,      3,2,20060304,1325,-52.9952, -74.9800,  236,    126.1,   8.7371,  33.8365,2,-999.0000,9,    249.9,2,    249.8,2,     3.07,2,    17.00,2,     0.19,2,     1.31,2,   8.7239
  316N20060130,AAIW06,   229,  1,      2,      2,2,20060304,1325,-52.9952, -74.9800,  236,    170.1,   8.1424,  33.8876,2,-999.0000,9,    247.4,2,    247.4,2,     5.33,2,    18.64,2,     0.15,2,     1.41,2,   8.1253
  316N20060130,AAIW06,   229,  1,      1,      1,2,20060304,1325,-52.9952, -74.9800,  236,    214.4,   6.3384,  34.0877,2,  34.0905,2,    243.3,2,    243.4,2,     6.76,2,    23.43,2,     0.04,2,     1.68,2,   6.3197
  316N20060130,AAIW06,   233,  1,     36,     36,2,20060309,1216,-46.7087, -83.1985, 3662,      6.0,  12.6668,  33.9494,2,  33.9502,2,    262.8,2,    262.9,2,     0.78,2,    13.99,2,     0.27,2,     1.09,2,  12.6660
  316N20060130,AAIW06,   233,  1,     33,     33,2,20060309,1216,-46.7087, -83.1985, 3662,     25.6,  12.6565,  33.9492,2,  33.9543,2,    263.0,2,    262.9,2,     0.58,2,    13.94,2,     0.27,2,     1.08,2,  12.6531
  316N20060130,AAIW06,   233,  1,     35,     35,2,20060309,1216,-46.7087, -83.1985, 3662,     25.7,  12.6555,  33.9491,2,-999.0000,9,   -999.0,9,   -999.0,9,  -999.00,9,  -999.00,9,  -999.00,9,  -999.00,9,  12.6521
  316N20060130,AAIW06,   233,  1,     34,     34,2,20060309,1216,-46.7087, -83.1985, 3662,     25.9,  12.6563,  33.9492,2,-999.0000,9,   -999.0,9,   -999.0,9,  -999.00,9,  -999.00,9,  -999.00,9,  -999.00,9,  12.6529
  316N20060130,AAIW06,   233,  1,     32,     32,2,20060309,1216,-46.7087, -83.1985, 3662,     50.6,  12.6549,  33.9488,2,  33.9497,2,    263.2,2,    262.8,2,     0.58,2,    13.94,2,     0.27,2,     1.08,2,  12.6482
  316N20060130,AAIW06,   233,  1,     31,     31,2,20060309,1216,-46.7087, -83.1985, 3662,     75.9,  10.3287,  33.9754,2,  33.9775,2,    281.2,2,    288.3,2,     1.00,2,    14.80,2,     0.17,2,     1.14,2,  10.3199
  316N20060130,AAIW06,   233,  1,     30,     30,2,20060309,1216,-46.7087, -83.1985, 3662,    105.8,   7.2394,  34.0179,2,  34.0276,2,    287.4,2,    288.0,2,     2.26,2,    17.07,2,     0.26,2,     1.28,2,   7.2295
  316N20060130,AAIW06,   233,  1,     29,     29,2,20060309,1216,-46.7087, -83.1985, 3662,    155.1,   6.3897,  34.1201,2,  34.1214,2,    269.7,2,    268.5,2,     4.37,2,    20.70,2,     0.09,2,     1.48,2,   6.3762
  316N20060130,AAIW06,   233,  1,     28,     28,2,20060309,1216,-46.7087, -83.1985, 3662,    204.4,   6.0116,  34.1984,2,  34.2012,2,    260.4,2,    260.8,2,     6.69,2,    22.60,2,     0.01,2,     1.57,2,   5.9942
  316N20060130,AAIW06,   233,  1,     27,     27,2,20060309,1216,-46.7087, -83.1985, 3662,    254.8,   5.8851,  34.2335,2,  34.2374,2,    262.4,2,    263.3,2,     7.75,2,    22.87,2,     0.01,2,     1.58,2,   5.8636
  316N20060130,AAIW06,   233,  1,     26,     26,2,20060309,1216,-46.7087, -83.1985, 3662,    304.5,   5.7827,  34.2396,2,  34.2398,2,    266.7,2,    267.0,2,     8.16,2,    22.76,2,     0.01,2,     1.58,2,   5.7572
  316N20060130,AAIW06,   233,  1,     25,     25,2,20060309,1216,-46.7087, -83.1985, 3662,    354.9,   5.6426,  34.2351,2,  34.2385,2,    267.7,2,    267.5,2,     8.58,2,    23.05,2,     0.00,2,     1.59,2,   5.6131
  316N20060130,AAIW06,   233,  1,     24,     24,2,20060309,1216,-46.7087, -83.1985, 3662,    405.0,   5.5119,  34.2313,2,  34.2326,2,    267.1,2,    267.0,2,     9.00,2,    23.43,2,     0.00,2,     1.61,2,   5.4785
  316N20060130,AAIW06,   233,  1,     23,     23,2,20060309,1216,-46.7087, -83.1985, 3662,    454.5,   5.3866,  34.2262,2,  34.2269,2,    265.5,2,    265.1,2,     9.42,2,    23.93,2,     0.00,2,     1.65,2,   5.3494
  316N20060130,AAIW06,   233,  1,     22,     22,2,20060309,1216,-46.7087, -83.1985, 3662,    504.3,   5.2560,  34.2229,2,  34.2238,2,    262.3,2,    262.8,2,    10.26,2,    24.48,2,     0.00,2,     1.68,2,   5.2150
  316N20060130,AAIW06,   233,  1,     21,     21,9,20060309,1216,-46.7087, -83.1985, 3662,    504.4,   5.2540,  34.2230,2,-999.0000,9,   -999.0,9,   -999.0,9,  -999.00,9,  -999.00,9,  -999.00,9,  -999.00,9,   5.2130
  316N20060130,AAIW06,   233,  1,     20,     20,2,20060309,1216,-46.7087, -83.1985, 3662,    603.5,   5.0049,  34.2224,2,  34.2251,2,    254.0,2,    254.0,2,    13.20,2,    25.75,2,     0.00,2,     1.77,2,   4.9566
  316N20060130,AAIW06,   233,  1,     19,     19,2,20060309,1216,-46.7087, -83.1985, 3662,    703.4,   4.7138,  34.2366,2,  34.2366,2,    237.8,2,    237.2,2,    18.04,2,    27.73,2,     0.00,2,     1.91,2,   4.6586
  316N20060130,AAIW06,   233,  1,     18,     18,2,20060309,1216,-46.7087, -83.1985, 3662,    804.0,   4.3303,  34.2715,2,  34.2729,2,    217.7,2,    217.2,2,    26.02,2,    29.82,2,     0.00,2,     2.07,2,   4.2689
  316N20060130,AAIW06,   233,  1,     17,     17,2,20060309,1216,-46.7087, -83.1985, 3662,    903.1,   3.9212,  34.3043,2,  34.3068,2,    204.3,2,    203.8,2,    34.21,2,    31.70,2,     0.00,2,     2.19,2,   3.8544
  316N20060130,AAIW06,   233,  1,     16,     16,2,20060309,1216,-46.7087, -83.1985, 3662,   1003.5,   3.5652,  34.3402,2,  34.3417,2,    191.4,2,    191.6,2,    42.39,2,    33.02,2,     0.00,2,     2.29,2,   3.4929
  316N20060130,AAIW06,   233,  1,     15,     15,2,20060309,1216,-46.7087, -83.1985, 3662,   1102.5,   3.2827,  34.3868,2,  34.3877,2,    177.3,2,    176.9,2,    51.84,2,    34.24,2,     0.00,2,     2.39,2,   3.2047
  316N20060130,AAIW06,   233,  1,     14,     14,2,20060309,1216,-46.7087, -83.1985, 3662,   1201.8,   3.1091,  34.4333,2,  34.4346,2,    164.1,2,    162.5,2,    61.08,2,    35.35,2,     0.00,2,     2.46,2,   3.0247
  316N20060130,AAIW06,   233,  1,     13,     13,2,20060309,1216,-46.7087, -83.1985, 3662,   1301.7,   2.9759,  34.4791,2,  34.4776,2,    150.8,2,    150.6,2,    70.12,2,    36.12,2,     0.00,2,     2.53,2,   2.8847
  316N20060130,AAIW06,   233,  1,     12,     12,2,20060309,1216,-46.7087, -83.1985, 3662,   1401.2,   2.8690,  34.5161,2,  34.5168,2,    141.6,2,    141.2,2,    76.84,2,    36.72,2,     0.00,2,     2.57,2,   2.7709
  316N20060130,AAIW06,   233,  1,     11,     11,2,20060309,1216,-46.7087, -83.1985, 3662,   1500.9,   2.7624,  34.5444,2,  34.5458,2,    136.5,2,    136.3,2,    85.26,2,    36.89,2,     0.00,2,     2.60,2,   2.6573
  316N20060130,AAIW06,   233,  1,     10,     10,2,20060309,1216,-46.7087, -83.1985, 3662,   1601.6,   2.6564,  34.5670,2,  34.5658,2,    135.1,2,    134.7,2,    90.94,2,    36.89,2,     0.00,2,     2.60,2,   2.5442
  316N20060130,AAIW06,   233,  1,      9,      9,2,20060309,1216,-46.7087, -83.1985, 3662,   1803.9,   2.4361,  34.6032,2,  34.6043,2,    138.1,2,    137.9,2,    99.39,2,    36.28,2,     0.00,2,     2.56,2,   2.3099
  316N20060130,AAIW06,   233,  1,      8,      8,2,20060309,1216,-46.7087, -83.1985, 3662,   2004.6,   2.2553,  34.6280,2,  34.6284,2,    142.1,2,    142.4,2,   106.35,2,    36.06,2,     0.00,2,     2.53,2,   2.1146
  316N20060130,AAIW06,   233,  1,      7,      7,2,20060309,1216,-46.7087, -83.1985, 3662,   2206.5,   2.0895,  34.6490,2,  34.6520,2,    147.5,2,    147.9,2,   110.99,2,    35.51,2,     0.00,2,     2.49,2,   1.9338
  316N20060130,AAIW06,   233,  1,      6,      6,2,20060309,1216,-46.7087, -83.1985, 3662,   2407.3,   1.9585,  34.6645,2,  34.6688,0,    151.2,2,    152.9,0,   115.22,2,    35.13,2,     0.00,2,     2.46,2,   1.7873
  316N20060130,AAIW06,   233,  1,      5,      5,2,20060309,1216,-46.7087, -83.1985, 3662,   2609.2,   1.8858,  34.6732,2,  34.6731,2,    154.5,2,    154.5,2,   117.52,2,    34.96,2,     0.00,2,     2.44,2,   1.6976
  316N20060130,AAIW06,   233,  1,      4,      4,2,20060309,1216,-46.7087, -83.1985, 3662,   2861.0,   1.8198,  34.6820,2,  34.6810,2,    158.7,2,    158.5,2,   118.77,2,    34.63,2,     0.00,2,     2.43,2,   1.6093
  316N20060130,AAIW06,   233,  1,      3,      3,2,20060309,1216,-46.7087, -83.1985, 3662,   3112.9,   1.7253,  34.6904,2,  34.6906,2,    164.8,2,    165.1,2,   118.73,2,    34.25,2,     0.00,2,     2.39,2,   1.4924
  316N20060130,AAIW06,   233,  1,      2,      2,2,20060309,1216,-46.7087, -83.1985, 3662,   3393.7,   1.5506,  34.6985,2,  34.6982,2,    174.1,2,    174.3,2,   120.18,2,    33.69,2,     0.00,2,     2.35,2,   1.2939
  316N20060130,AAIW06,   233,  1,      1,      1,2,20060309,1216,-46.7087, -83.1985, 3662,   3699.3,   1.2169,  34.7080,2,  34.7084,2,    188.7,2,    188.7,2,   122.70,2,    32.97,2,     0.00,2,     2.29,2,   0.9374
  316N20060130,AAIW06,   234,  1,     34,     34,2,20060309,2054,-46.4105, -81.7183, 3986,      4.0,  12.6872,  33.9089,2,  33.9084,2,    265.2,2,    265.5,2,     0.57,2,    13.20,2,     0.25,2,     1.02,2,  12.6867
  316N20060130,AAIW06,   234,  1,     33,     33,2,20060309,2054,-46.4105, -81.7183, 3986,     20.5,  12.6780,  33.9090,2,  33.9093,2,    265.8,2,    266.1,2,     0.57,2,    13.19,2,     0.25,2,     1.02,2,  12.6753
  316N20060130,AAIW06,   234,  1,     32,     32,2,20060309,2054,-46.4105, -81.7183, 3986,     45.6,  12.5874,  33.9101,2,  33.9116,2,    266.9,2,    265.9,2,     0.78,2,    13.31,2,     0.25,2,     1.02,2,  12.5814
  316N20060130,AAIW06,   234,  1,     31,     31,2,20060309,2054,-46.4105, -81.7183, 3986,     70.1,   9.7824,  33.9771,2,  33.9779,2,    290.9,2,    290.1,2,     0.99,2,    14.74,2,     0.17,2,     1.13,2,   9.7745
  316N20060130,AAIW06,   234,  1,     30,     30,2,20060309,2054,-46.4105, -81.7183, 3986,     95.4,   7.9179,  33.9975,2,  33.9986,2,    280.8,2,    289.1,2,     2.04,2,    16.45,2,     0.21,2,     1.24,2,   7.9085
  316N20060130,AAIW06,   234,  1,     29,     29,2,20060309,2054,-46.4105, -81.7183, 3986,    124.7,   7.2054,  34.0305,2,-999.0000,9,    266.1,2,    275.1,2,     2.67,2,    18.41,2,     0.24,2,     1.36,2,   7.1938
  316N20060130,AAIW06,   234,  1,     28,     28,2,20060309,2054,-46.4105, -81.7183, 3986,    174.7,   6.6433,  34.1273,2,-999.0000,9,    248.0,2,    249.5,2,     5.39,2,    22.21,2,     0.01,2,     1.57,2,   6.6277
  316N20060130,AAIW06,   234,  1,     27,     27,2,20060309,2054,-46.4105, -81.7183, 3986,    228.4,   6.1809,  34.2117,2,-999.0000,9,    248.0,2,    229.3,2,     8.33,2,    25.11,2,     0.00,2,     1.75,2,   6.1612
  316N20060130,AAIW06,   234,  1,     26,     26,2,20060309,2054,-46.4105, -81.7183, 3986,    283.3,   5.9657,  34.2421,2,-999.0000,9,    233.3,2,    234.3,2,     8.95,2,    25.34,2,     0.00,2,     1.74,2,   5.9416
  316N20060130,AAIW06,   234,  1,     25,     25,9,20060309,2054,-46.4105, -81.7183, 3986,    371.8,   5.6409,  34.2404,2,-999.0000,9,   -999.0,9,   -999.0,9,  -999.00,9,  -999.00,9,  -999.00,9,  -999.00,9,   5.6099
  316N20060130,AAIW06,   234,  1,     24,     24,2,20060309,2054,-46.4105, -81.7183, 3986,    371.9,   5.6428,  34.2405,2,-999.0000,9,    250.3,2,    253.9,2,     9.17,2,    24.43,2,     0.00,2,     1.67,2,   5.6118
  316N20060130,AAIW06,   234,  1,     23,     23,2,20060309,2054,-46.4105, -81.7183, 3986,    419.3,   5.4833,  34.2322,2,-999.0000,9,    252.3,2,    259.0,2,     9.37,2,    24.36,2,     0.00,2,     1.67,2,   5.4488
  316N20060130,AAIW06,   234,  1,     22,     22,2,20060309,2054,-46.4105, -81.7183, 3986,    468.1,   5.3749,  34.2297,2,-999.0000,9,    252.7,2,    257.8,2,     9.79,2,    24.76,2,     0.00,2,     1.69,2,   5.3366
  316N20060130,AAIW06,   234,  1,     20,     20,2,20060309,2054,-46.4105, -81.7183, 3986,    535.6,   5.1774,  34.2255,2,-999.0000,9,    255.9,2,    253.5,2,    11.26,2,    25.61,2,     0.00,2,     1.74,2,   5.1341
  316N20060130,AAIW06,   234,  1,     21,     21,9,20060309,2054,-46.4105, -81.7183, 3986,    535.7,   5.1761,  34.2255,2,-999.0000,9,   -999.0,9,   -999.0,9,  -999.00,9,  -999.00,9,  -999.00,9,  -999.00,9,   5.1328
  316N20060130,AAIW06,   234,  1,     19,     19,2,20060309,2054,-46.4105, -81.7183, 3986,    634.1,   4.9114,  34.2297,2,-999.0000,9,    243.4,2,    242.4,2,    14.61,2,    27.09,2,     0.00,2,     1.85,2,   4.8610
  316N20060130,AAIW06,   234,  1,     18,     18,2,20060309,2054,-46.4105, -81.7183, 3986,    730.8,   4.6013,  34.2474,2,-999.0000,9,    226.5,2,    226.2,2,    20.26,2,    28.91,2,     0.00,2,     1.99,2,   4.5444
  316N20060130,AAIW06,   234,  1,     17,     17,2,20060309,2054,-46.4105, -81.7183, 3986,    825.7,   4.1925,  34.2780,2,-999.0000,9,    209.9,2,    211.4,2,    28.21,2,    30.83,2,     0.00,2,     2.11,2,   4.1302
  316N20060130,AAIW06,   234,  1,     16,     16,2,20060309,2054,-46.4105, -81.7183, 3986,    920.2,   3.8046,  34.3145,2,-999.0000,9,    198.0,2,    197.2,2,    36.79,2,    32.43,2,     0.00,2,     2.24,2,   3.7372
  316N20060130,AAIW06,   234,  1,     15,     15,2,20060309,2054,-46.4105, -81.7183, 3986,   1015.6,   3.5071,  34.3550,2,-999.0000,9,    185.4,2,    182.2,2,    45.80,2,    33.90,2,     0.00,2,     2.34,2,   3.4343
  316N20060130,AAIW06,   234,  1,     14,     14,2,20060309,2054,-46.4105, -81.7183, 3986,   1110.4,   3.2597,  34.3927,2,-999.0000,9,    174.7,2,    174.5,2,    53.12,2,    34.65,2,     0.00,2,     2.40,2,   3.1813
  316N20060130,AAIW06,   234,  1,     13,     13,2,20060309,2054,-46.4105, -81.7183, 3986,   1200.2,   3.0881,  34.4408,2,-999.0000,9,    161.3,2,    160.0,2,    62.56,2,    35.60,2,     0.00,2,     2.47,2,   3.0040
  316N20060130,AAIW06,   234,  1,     12,     12,2,20060309,2054,-46.4105, -81.7183, 3986,   1298.3,   2.9678,  34.4818,2,-999.0000,9,    148.4,2,    148.4,2,    70.96,2,    36.35,2,     0.00,2,     2.53,2,   2.8770
  316N20060130,AAIW06,   234,  1,     11,     11,2,20060309,2054,-46.4105, -81.7183, 3986,   1493.2,   2.7534,  34.5465,2,-999.0000,9,    136.5,2,    135.7,2,    85.89,2,    37.02,2,     0.00,2,     2.59,2,   2.6490
  316N20060130,AAIW06,   234,  1,     10,     10,2,20060309,2054,-46.4105, -81.7183, 3986,   1692.9,   2.5313,  34.5893,2,-999.0000,9,    134.5,2,    134.2,2,    96.86,2,    37.07,2,     0.00,2,     2.59,2,   2.4131
  316N20060130,AAIW06,   234,  1,      9,      9,2,20060309,2054,-46.4105, -81.7183, 3986,   1894.2,   2.3313,  34.6175,2,-999.0000,9,    138.1,2,    137.6,2,   104.89,2,    36.55,2,     0.00,2,     2.56,2,   2.1989
  316N20060130,AAIW06,   234,  1,      8,      8,2,20060309,2054,-46.4105, -81.7183, 3986,   2098.9,   2.1401,  34.6409,2,-999.0000,9,    142.6,2,    143.2,2,   111.03,2,    35.97,2,     0.00,2,     2.51,2,   1.9930
  316N20060130,AAIW06,   234,  1,      7,      7,2,20060309,2054,-46.4105, -81.7183, 3986,   2294.1,   2.0191,  34.6551,2,  34.6557,2,    146.1,2,    147.1,2,   115.69,2,    35.79,2,     0.00,2,     2.50,2,   1.8569
  316N20060130,AAIW06,   234,  1,      6,      6,2,20060309,2054,-46.4105, -81.7183, 3986,   2534.5,   1.9198,  34.6678,2,  34.6668,2,    151.1,2,    151.9,2,   117.60,2,    35.44,2,     0.00,2,     2.46,2,   1.7378
  316N20060130,AAIW06,   234,  1,      5,      5,2,20060309,2054,-46.4105, -81.7183, 3986,   2771.7,   1.8462,  34.6769,2,  34.6776,2,    154.9,2,    154.8,2,   119.71,2,    35.21,2,     0.00,2,     2.44,2,   1.6436
  316N20060130,AAIW06,   234,  1,      4,      4,2,20060309,2054,-46.4105, -81.7183, 3986,   3009.8,   1.7859,  34.6844,2,  34.6828,2,    159.4,2,    159.5,2,   120.35,2,    34.75,2,     0.00,2,     2.43,2,   1.5618
  316N20060130,AAIW06,   234,  1,      3,      3,2,20060309,2054,-46.4105, -81.7183, 3986,   3306.6,   1.6160,  34.6941,2,  34.6940,2,    169.0,2,    169.2,2,   120.97,2,    34.17,2,     0.00,2,     2.38,2,   1.3665
  316N20060130,AAIW06,   234,  1,      2,      2,2,20060309,2054,-46.4105, -81.7183, 3986,   3625.1,   1.1969,  34.7085,2,  34.7086,2,    187.5,2,    189.1,2,   123.94,2,    33.08,2,     0.00,2,     2.30,2,   0.9255
  316N20060130,AAIW06,   234,  1,      1,      1,2,20060309,2054,-46.4105, -81.7183, 3986,   3986.1,   1.1593,  34.7099,2,  34.7104,2,    192.0,2,    191.9,2,   124.57,2,    33.01,2,     0.00,2,     2.28,2,   0.8513