BOTTLE,20081218PRINUNIVRMK
EXPOCODE,SECT_ID,STNNBR,CASTNO,SAMPNO,BTLNBR,BTLNBR_FLAG_W,DATE,TIME,LATITUDE,LONGITUDE,DEPTH,CTDPRS,CTDTMP,CTDSAL,CTDSAL_FLAG_W,SALNTY,SALNTY_FLAG_W,CTDOXY,CTDOXY_FLAG_W,OXYGEN,OXYGEN_FLAG_W,SILCAT,SILCAT_FLAG_W,NITRAT,NITRAT_FLAG_W,NITRIT,NITRIT_FLAG_W,PHSPHT,PHSPHT_FLAG_W,THETA
,,,,,,,,,,,METERS,DBARS,ITS-90,PSS-78,,PSS-78,,UMOL/KG,,UMOL/KG,,UMOL/KG,,UMOL/KG,,UMOL/KG,,UMOL/KG,,DEGC
  316N20060130,AAIW06,   164,  1,     36,     36,2,20060210, 341,-58.0128, -81.0528, 5023,      4.9,   7.8200,  34.0483,2,  34.0479,2,    291.5,2,    291.9,2,     0.40,2,    17.78,2,     0.21,2,     1.27,2,   7.8195
  316N20060130,AAIW06,   164,  1,     35,     35,2,20060210, 341,-58.0128, -81.0528, 5023,     26.5,   7.8159,  34.0481,2,  34.0483,2,    292.6,2,    291.4,2,     0.39,2,    17.78,2,     0.21,2,     1.27,2,   7.8133
  316N20060130,AAIW06,   164,  1,     34,     34,2,20060210, 341,-58.0128, -81.0528, 5023,     51.1,   7.7640,  34.0469,2,  34.0483,2,    292.7,2,    291.6,2,     0.37,2,    17.89,2,     0.21,2,     1.28,2,   7.7590
  316N20060130,AAIW06,   164,  1,     33,     33,2,20060210, 341,-58.0128, -81.0528, 5023,     78.3,   5.9265,  34.1022,2,  34.1034,2,    306.7,2,    306.2,2,     1.96,2,    19.36,2,     0.19,2,     1.49,2,   5.9200
  316N20060130,AAIW06,   164,  1,     32,     32,2,20060210, 341,-58.0128, -81.0528, 5023,    108.3,   5.2152,  34.1079,2,-999.0000,9,    297.7,2,    298.1,2,     5.17,2,    20.36,2,     0.48,2,     1.59,2,   5.2068
  316N20060130,AAIW06,   164,  1,     31,     31,2,20060210, 341,-58.0128, -81.0528, 5023,    157.1,   5.0372,  34.1285,2,-999.0000,9,    295.4,2,    296.4,2,     7.37,2,    21.50,2,     0.01,2,     1.53,2,   5.0251
  316N20060130,AAIW06,   164,  1,     30,     30,2,20060210, 341,-58.0128, -81.0528, 5023,    207.8,   4.9052,  34.1201,2,-999.0000,9,    295.1,2,    295.0,2,     7.76,2,    21.92,2,     0.01,2,     1.55,2,   4.8894
  316N20060130,AAIW06,   164,  1,     29,     29,2,20060210, 341,-58.0128, -81.0528, 5023,    256.5,   4.8092,  34.1153,2,-999.0000,9,    293.7,2,    293.3,2,     8.15,2,    22.35,2,     0.01,2,     1.58,2,   4.7898
  316N20060130,AAIW06,   164,  1,     28,     28,2,20060210, 341,-58.0128, -81.0528, 5023,    307.5,   4.6130,  34.1000,2,-999.0000,9,    292.1,2,    291.7,2,     8.94,2,    22.91,2,     0.01,2,     1.62,2,   4.5901
  316N20060130,AAIW06,   164,  1,     27,     27,2,20060210, 341,-58.0128, -81.0528, 5023,    357.0,   4.3295,  34.0883,2,-999.0000,9,    286.6,2,    287.9,2,    10.33,2,    23.90,2,     0.01,2,     1.69,2,   4.3036
  316N20060130,AAIW06,   164,  1,     26,     26,2,20060210, 341,-58.0128, -81.0528, 5023,    405.2,   4.1187,  34.0818,2,  34.0826,0,    279.6,2,    284.5,2,    11.94,2,    24.74,2,     0.01,2,     1.75,2,   4.0898
  316N20060130,AAIW06,   164,  1,     25,     25,2,20060210, 341,-58.0128, -81.0528, 5023,    455.8,   4.1144,  34.1077,2,-999.0000,9,    267.9,2,    274.2,2,    14.13,2,    25.62,2,     0.01,2,     1.80,2,   4.0817
  316N20060130,AAIW06,   164,  1,     24,     24,2,20060210, 341,-58.0128, -81.0528, 5023,    506.7,   4.1393,  34.1411,2,-999.0000,9,    257.1,2,    261.5,2,    16.94,2,    26.61,2,     0.01,2,     1.86,2,   4.1026
  316N20060130,AAIW06,   164,  1,     23,     23,2,20060210, 341,-58.0128, -81.0528, 5023,    605.5,   4.1301,  34.2233,2,-999.0000,9,    232.0,2,    234.1,2,    24.37,2,    28.54,2,     0.00,2,     2.01,2,   4.0858
  316N20060130,AAIW06,   164,  1,     22,     22,2,20060210, 341,-58.0128, -81.0528, 5023,    702.2,   3.8104,  34.2648,2,-999.0000,9,    222.9,2,    219.6,2,    31.61,2,    30.47,2,     0.00,2,     2.13,2,   3.7602
  316N20060130,AAIW06,   164,  1,     21,     21,9,20060210, 341,-58.0128, -81.0528, 5023,    796.5,   3.4583,  34.2875,2,-999.0000,9,   -999.0,9,   -999.0,9,  -999.00,9,  -999.00,9,  -999.00,9,  -999.00,9,   3.4029
  316N20060130,AAIW06,   164,  1,     20,     20,2,20060210, 341,-58.0128, -81.0528, 5023,    800.2,   3.4555,  34.2880,2,-999.0000,9,    214.5,2,    214.0,2,    37.44,2,    31.36,2,     0.00,2,     2.20,2,   3.3998
  316N20060130,AAIW06,   164,  1,     19,     19,2,20060210, 341,-58.0128, -81.0528, 5023,    901.3,   3.2155,  34.3328,2,-999.0000,9,    201.7,2,    201.8,2,    44.89,2,    32.51,2,     0.00,2,     2.28,2,   3.1537
  316N20060130,AAIW06,   164,  1,     18,     18,2,20060210, 341,-58.0128, -81.0528, 5023,   1001.8,   2.9947,  34.3809,2,-999.0000,9,    193.2,2,    191.9,2,    52.33,2,    33.24,2,     0.00,2,     2.34,2,   2.9269
  316N20060130,AAIW06,   164,  1,     17,     17,2,20060210, 341,-58.0128, -81.0528, 5023,   1101.0,   2.8211,  34.4284,2,-999.0000,9,    185.5,2,    184.4,2,    58.99,2,    33.66,2,     0.00,2,     2.36,2,   2.7471
  316N20060130,AAIW06,   164,  1,     16,     16,2,20060210, 341,-58.0128, -81.0528, 5023,   1199.5,   2.6903,  34.4714,2,-999.0000,9,    179.7,2,    178.6,2,    64.44,2,    33.86,2,     0.00,2,     2.38,2,   2.6099
  316N20060130,AAIW06,   164,  1,     15,     15,2,20060210, 341,-58.0128, -81.0528, 5023,   1298.2,   2.6034,  34.5138,2,-999.0000,9,    174.6,2,    174.2,2,    69.49,2,    33.91,2,     0.00,2,     2.39,2,   2.5162
  316N20060130,AAIW06,   164,  1,     14,     14,2,20060210, 341,-58.0128, -81.0528, 5023,   1396.9,   2.5184,  34.5537,2,-999.0000,9,    171.9,2,    171.3,2,    73.94,2,    33.75,2,     0.00,2,     2.37,2,   2.4243
  316N20060130,AAIW06,   164,  1,     13,     13,2,20060210, 341,-58.0128, -81.0528, 5023,   1499.7,   2.4374,  34.5919,2,-999.0000,9,    170.2,2,    170.0,2,    77.78,2,    33.59,2,     0.00,2,     2.36,2,   2.3360
  316N20060130,AAIW06,   164,  1,     12,     12,2,20060210, 341,-58.0128, -81.0528, 5023,   1598.5,   2.3676,  34.6217,2,-999.0000,9,    170.1,2,    170.4,2,    80.01,2,    33.33,2,     0.00,2,     2.35,2,   2.2591
  316N20060130,AAIW06,   164,  1,     11,     11,2,20060210, 341,-58.0128, -81.0528, 5023,   1801.0,   2.2422,  34.6670,2,-999.0000,9,    172.3,2,    172.5,2,    85.49,2,    32.69,2,     0.00,2,     2.30,2,   2.1187
  316N20060130,AAIW06,   164,  1,     10,     10,2,20060210, 341,-58.0128, -81.0528, 5023,   2003.4,   2.1199,  34.6948,2,-999.0000,9,    175.5,2,    176.2,2,    89.15,2,    32.17,2,     0.00,2,     2.27,2,   1.9811
  316N20060130,AAIW06,   164,  1,      9,      9,2,20060210, 341,-58.0128, -81.0528, 5023,   2302.0,   1.9090,  34.7131,2,  34.7159,0,    179.7,2,    179.2,2,    97.50,2,    32.07,2,     0.00,2,     2.25,2,   1.7478
  316N20060130,AAIW06,   164,  1,      8,      8,2,20060210, 341,-58.0128, -81.0528, 5023,   2604.5,   1.6904,  34.7215,2,  34.7235,0,    185.1,2,    184.8,2,   102.39,2,    31.80,2,     0.00,2,     2.24,2,   1.5062
  316N20060130,AAIW06,   164,  1,      7,      7,2,20060210, 341,-58.0128, -81.0528, 5023,   2903.2,   1.5357,  34.7255,2,  34.7274,0,    190.9,2,    190.4,2,   105.26,2,    31.54,2,     0.00,2,     2.22,2,   1.3270
  316N20060130,AAIW06,   164,  1,      6,      6,2,20060210, 341,-58.0128, -81.0528, 5023,   3205.5,   1.3521,  34.7244,2,  34.7264,0,    195.4,2,    195.7,2,   109.97,2,    31.54,2,     0.00,2,     2.22,2,   1.1186
  316N20060130,AAIW06,   164,  1,      5,      5,2,20060210, 341,-58.0128, -81.0528, 5023,   3508.1,   1.1730,  34.7193,2,  34.7215,0,    199.1,2,    199.1,2,   115.92,2,    31.64,2,     0.00,2,     2.22,2,   0.9140
  316N20060130,AAIW06,   164,  1,      4,      4,2,20060210, 341,-58.0128, -81.0528, 5023,   3808.6,   0.9999,  34.7143,2,  34.7150,2,    202.4,2,    202.4,2,   121.27,2,    31.74,2,     0.00,2,     2.23,2,   0.7149
  316N20060130,AAIW06,   164,  1,      3,      3,2,20060210, 341,-58.0128, -81.0528, 5023,   4211.7,   0.7512,  34.7084,2,  34.7101,0,    207.2,2,    206.9,2,   129.31,2,    32.06,2,     0.00,2,     2.25,2,   0.4309
  316N20060130,AAIW06,   164,  1,      2,      2,2,20060210, 341,-58.0128, -81.0528, 5023,   4616.9,   0.6114,  34.7061,2,  34.7081,0,    209.7,2,    209.9,2,   135.32,2,    32.20,2,     0.00,2,     2.27,2,   0.2510
  316N20060130,AAIW06,   164,  1,      1,      1,2,20060210, 341,-58.0128, -81.0528, 5023,   5079.2,   0.6184,  34.7052,2,  34.7071,0,    210.6,2,    210.7,2,   137.19,2,    32.26,2,     0.00,2,     2.27,2,   0.2046
  316N20060130,AAIW06,   165,  1,     36,     36,2,20060210,1143,-57.6683, -82.0558, 5335,      6.1,   8.0005,  34.0505,2,  34.0502,2,    289.3,2,    289.9,2,     0.40,2,    17.38,2,     0.21,2,     1.26,2,   7.9999
  316N20060130,AAIW06,   165,  1,     34,     34,2,20060210,1143,-57.6683, -82.0558, 5335,     20.2,   7.9947,  34.0500,2,-999.0000,9,   -999.0,9,   -999.0,9,  -999.00,9,  -999.00,9,  -999.00,9,  -999.00,9,   7.9927
  316N20060130,AAIW06,   165,  1,     35,     35,2,20060210,1143,-57.6683, -82.0558, 5335,     20.6,   7.9947,  34.0502,2,-999.0000,9,   -999.0,9,   -999.0,9,  -999.00,9,  -999.00,9,  -999.00,9,  -999.00,9,   7.9927
  316N20060130,AAIW06,   165,  1,     33,     33,2,20060210,1143,-57.6683, -82.0558, 5335,     20.6,   7.9946,  34.0499,2,  34.0488,2,    290.2,2,    290.1,2,     0.19,2,    17.39,2,     0.21,2,     1.27,2,   7.9926
  316N20060130,AAIW06,   165,  1,     32,     32,2,20060210,1143,-57.6683, -82.0558, 5335,     45.4,   7.9918,  34.0501,2,  34.0506,2,    291.4,2,    289.6,2,     0.17,2,    17.33,2,     0.21,2,     1.26,2,   7.9873
  316N20060130,AAIW06,   165,  1,     31,     31,2,20060210,1143,-57.6683, -82.0558, 5335,     69.8,   7.1970,  34.0650,2,  34.0657,2,    296.9,2,    297.2,2,     0.35,2,    18.00,2,     0.21,2,     1.32,2,   7.1905
  316N20060130,AAIW06,   165,  1,     30,     30,2,20060210,1143,-57.6683, -82.0558, 5335,     95.3,   5.6908,  34.1025,2,-999.0000,9,    306.5,2,    302.1,2,     2.55,2,    19.71,2,     0.20,2,     1.56,2,   5.6830
  316N20060130,AAIW06,   165,  1,     29,     29,2,20060210,1143,-57.6683, -82.0558, 5335,    128.7,   5.0656,  34.1028,2,-999.0000,9,    296.6,2,    296.2,2,     5.97,2,    20.76,2,     0.60,2,     1.62,2,   5.0557
  316N20060130,AAIW06,   165,  1,     28,     28,2,20060210,1143,-57.6683, -82.0558, 5335,    173.7,   5.0123,  34.1251,2,-999.0000,9,    296.4,2,    296.9,2,     7.36,2,    21.65,2,     0.02,2,     1.54,2,   4.9990
  316N20060130,AAIW06,   165,  1,     27,     27,2,20060210,1143,-57.6683, -82.0558, 5335,    221.8,   4.8241,  34.1110,2,-999.0000,9,    294.1,2,    296.0,2,     7.75,2,    22.17,2,     0.01,2,     1.57,2,   4.8073
  316N20060130,AAIW06,   165,  1,     26,     26,2,20060210,1143,-57.6683, -82.0558, 5335,    272.1,   4.6348,  34.0985,2,  34.0981,2,    293.5,2,    294.7,2,     8.34,2,    22.69,2,     0.01,2,     1.60,2,   4.6145
  316N20060130,AAIW06,   165,  1,     25,     25,2,20060210,1143,-57.6683, -82.0558, 5335,    321.0,   4.4854,  34.0944,2,-999.0000,9,    288.5,2,    291.1,2,     9.13,2,    23.31,2,     0.01,2,     1.65,2,   4.4618
  316N20060130,AAIW06,   165,  1,     24,     24,2,20060210,1143,-57.6683, -82.0558, 5335,    371.3,   4.4028,  34.1049,2,-999.0000,9,    284.0,2,    283.5,2,    10.74,2,    24.14,2,     0.01,2,     1.70,2,   4.3756
  316N20060130,AAIW06,   165,  1,     23,     23,2,20060210,1143,-57.6683, -82.0558, 5335,    420.0,   4.3207,  34.1166,2,-999.0000,9,    278.0,2,    276.3,2,    12.53,2,    24.86,2,     0.01,2,     1.75,2,   4.2900
  316N20060130,AAIW06,   165,  1,     22,     22,2,20060210,1143,-57.6683, -82.0558, 5335,    469.3,   4.3207,  34.1468,2,-999.0000,9,    265.7,2,    262.7,2,    15.34,2,    26.06,2,     0.00,2,     1.83,2,   4.2862
  316N20060130,AAIW06,   165,  1,     21,     21,9,20060210,1143,-57.6683, -82.0558, 5335,    469.8,   4.3193,  34.1453,2,-999.0000,9,   -999.0,9,   -999.0,9,  -999.00,9,  -999.00,9,  -999.00,9,  -999.00,9,   4.2847
  316N20060130,AAIW06,   165,  1,     20,     20,2,20060210,1143,-57.6683, -82.0558, 5335,    519.4,   4.3100,  34.1775,2,-999.0000,9,    253.7,2,    251.6,2,    18.16,2,    27.14,2,     0.00,2,     1.90,2,   4.2716
  316N20060130,AAIW06,   165,  1,     19,     19,2,20060210,1143,-57.6683, -82.0558, 5335,    637.8,   4.1608,  34.2473,2,-999.0000,9,    229.0,2,    226.2,2,    26.21,2,    29.32,2,     0.00,2,     2.04,2,   4.1138
  316N20060130,AAIW06,   165,  1,     18,     18,2,20060210,1143,-57.6683, -82.0558, 5335,    735.0,   3.7935,  34.2784,2,-999.0000,9,    217.2,2,    215.9,2,    32.85,2,    30.72,2,     0.00,2,     2.14,2,   3.7408
  316N20060130,AAIW06,   165,  1,     17,     17,2,20060210,1143,-57.6683, -82.0558, 5335,    832.1,   3.5188,  34.3186,2,-999.0000,9,    207.8,2,    205.2,2,    40.11,2,    31.86,2,     0.00,2,     2.23,2,   3.4603
  316N20060130,AAIW06,   165,  1,     16,     16,2,20060210,1143,-57.6683, -82.0558, 5335,    929.5,   3.2342,  34.3474,2,-999.0000,9,    199.2,2,    198.6,2,    46.15,2,    32.69,2,     0.00,2,     2.29,2,   3.1701
  316N20060130,AAIW06,   165,  1,     15,     15,2,20060210,1143,-57.6683, -82.0558, 5335,   1025.2,   2.9778,  34.3868,2,-999.0000,9,    190.9,2,    191.0,2,    53.22,2,    33.36,2,     0.00,2,     2.34,2,   2.9084
  316N20060130,AAIW06,   165,  1,     14,     14,2,20060210,1143,-57.6683, -82.0558, 5335,   1124.5,   2.8109,  34.4335,2,-999.0000,9,    184.4,2,    183.4,2,    59.68,2,    33.77,2,     0.00,2,     2.37,2,   2.7352
  316N20060130,AAIW06,   165,  1,     13,     13,2,20060210,1143,-57.6683, -82.0558, 5335,   1221.2,   2.6803,  34.4793,2,-999.0000,9,    178.7,2,    177.8,2,    65.34,2,    34.04,2,     0.00,2,     2.39,2,   2.5983
  316N20060130,AAIW06,   165,  1,     12,     12,2,20060210,1143,-57.6683, -82.0558, 5335,   1313.9,   2.5909,  34.5167,2,-999.0000,9,    174.7,2,    174.2,2,    69.38,2,    34.04,2,     0.00,2,     2.39,2,   2.5026
  316N20060130,AAIW06,   165,  1,     11,     11,2,20060210,1143,-57.6683, -82.0558, 5335,   1463.6,   2.4715,  34.5691,2,-999.0000,9,    172.1,2,    171.7,2,    74.64,2,    33.88,2,     0.00,2,     2.38,2,   2.3726
  316N20060130,AAIW06,   165,  1,     10,     10,2,20060210,1143,-57.6683, -82.0558, 5335,   1653.2,   2.3427,  34.6316,2,-999.0000,9,    171.1,2,    171.7,2,    80.31,2,    33.25,2,     0.00,2,     2.34,2,   2.2300
  316N20060130,AAIW06,   165,  1,      9,      9,2,20060210,1143,-57.6683, -82.0558, 5335,   1957.7,   2.1609,  34.6888,2,  34.6890,2,    175.9,2,    176.1,2,    86.61,2,    32.37,2,     0.00,2,     2.27,2,   2.0254
  316N20060130,AAIW06,   165,  1,      8,      8,2,20060210,1143,-57.6683, -82.0558, 5335,   2260.6,   1.9401,  34.7153,2,  34.7150,2,    180.4,2,    180.8,2,    93.94,2,    31.90,2,     0.00,2,     2.24,2,   1.7820
  316N20060130,AAIW06,   165,  1,      7,      7,2,20060210,1143,-57.6683, -82.0558, 5335,   2663.4,   1.6325,  34.7205,2,  34.7203,2,    185.2,2,    185.6,2,   104.97,2,    32.01,2,     0.00,2,     2.25,2,   1.4440
  316N20060130,AAIW06,   165,  1,      6,      6,2,20060210,1143,-57.6683, -82.0558, 5335,   3062.6,   1.4310,  34.7242,2,  34.7239,2,    192.8,2,    193.0,2,   108.25,2,    31.69,2,     0.00,2,     2.23,2,   1.2095
  316N20060130,AAIW06,   165,  1,      5,      5,2,20060210,1143,-57.6683, -82.0558, 5335,   3464.5,   1.1936,  34.7198,2,  34.7192,2,    198.2,2,    198.5,2,   114.82,2,    31.74,2,     0.00,2,     2.23,2,   0.9385
  316N20060130,AAIW06,   165,  1,      4,      4,2,20060210,1143,-57.6683, -82.0558, 5335,   3970.1,   0.8553,  34.7107,2,  34.7104,2,    204.6,2,    205.0,2,   125.53,2,    32.06,2,     0.00,2,     2.25,2,   0.5576
  316N20060130,AAIW06,   165,  1,      3,      3,2,20060210,1143,-57.6683, -82.0558, 5335,   4476.7,   0.6282,  34.7069,2,  34.7069,2,    209.6,2,    209.5,2,   134.21,2,    32.26,2,     0.00,2,     2.26,2,   0.2828
  316N20060130,AAIW06,   165,  1,      2,      2,2,20060210,1143,-57.6683, -82.0558, 5335,   4987.2,   0.6243,  34.7058,2,  34.7055,2,    210.2,2,    210.4,2,   136.69,2,    32.37,2,     0.00,2,     2.27,2,   0.2211
  316N20060130,AAIW06,   165,  1,      1,      1,2,20060210,1143,-57.6683, -82.0558, 5335,   5410.2,   0.6715,  34.7054,2,  34.7048,2,    210.7,2,    210.5,2,   136.90,2,    32.37,2,     0.00,2,     2.27,2,   0.2161