BOTTLE,20081218PRINUNIVRMK
EXPOCODE,SECT_ID,STNNBR,CASTNO,SAMPNO,BTLNBR,BTLNBR_FLAG_W,DATE,TIME,LATITUDE,LONGITUDE,DEPTH,CTDPRS,CTDTMP,CTDSAL,CTDSAL_FLAG_W,SALNTY,SALNTY_FLAG_W,CTDOXY,CTDOXY_FLAG_W,OXYGEN,OXYGEN_FLAG_W,SILCAT,SILCAT_FLAG_W,NITRAT,NITRAT_FLAG_W,NITRIT,NITRIT_FLAG_W,PHSPHT,PHSPHT_FLAG_W,THETA
,,,,,,,,,,,METERS,DBARS,ITS-90,PSS-78,,PSS-78,,UMOL/KG,,UMOL/KG,,UMOL/KG,,UMOL/KG,,UMOL/KG,,UMOL/KG,,DEGC
  316N20060130,AAIW06,   174,  1,     36,     36,2,20060213, 908,-60.1817, -87.0897, 4467,      5.2,   6.0373,  33.9253,2,  33.9256,2,    300.3,2,    300.9,2,     0.83,2,    21.02,2,     0.21,2,     1.51,2,   6.0369
  316N20060130,AAIW06,   174,  1,     35,     35,2,20060213, 908,-60.1817, -87.0897, 4467,     19.9,   6.0359,  33.9248,2,-999.0000,9,   -999.0,9,   -999.0,9,  -999.00,9,  -999.00,9,  -999.00,9,  -999.00,9,   6.0342
  316N20060130,AAIW06,   174,  1,     34,     34,2,20060213, 908,-60.1817, -87.0897, 4467,     20.3,   6.0360,  33.9247,2,-999.0000,9,   -999.0,9,   -999.0,9,  -999.00,9,  -999.00,9,  -999.00,9,  -999.00,9,   6.0343
  316N20060130,AAIW06,   174,  1,     33,     33,2,20060213, 908,-60.1817, -87.0897, 4467,     20.4,   6.0361,  33.9247,2,  33.9231,2,    301.8,2,    300.9,2,     0.82,2,    21.01,2,     0.21,2,     1.50,2,   6.0344
  316N20060130,AAIW06,   174,  1,     32,     32,9,20060213, 908,-60.1817, -87.0897, 4467,     45.3,   6.0330,  33.9235,2,-999.0000,9,   -999.0,9,   -999.0,9,  -999.00,9,  -999.00,9,  -999.00,9,  -999.00,9,   6.0292
  316N20060130,AAIW06,   174,  1,     31,     31,2,20060213, 908,-60.1817, -87.0897, 4467,     72.1,   3.6237,  34.0027,2,  34.0022,2,    311.1,2,    310.3,2,     8.81,2,    23.52,2,     0.35,2,     1.76,2,   3.6190
  316N20060130,AAIW06,   174,  1,     30,     30,2,20060213, 908,-60.1817, -87.0897, 4467,     95.9,   3.2963,  33.9987,2,  33.9987,2,    310.2,2,    311.0,2,    10.20,2,    24.20,2,     0.48,2,     1.79,2,   3.2903
  316N20060130,AAIW06,   174,  1,     29,     29,2,20060213, 908,-60.1817, -87.0897, 4467,    132.2,   3.0411,  34.0017,2,-999.0000,9,    305.1,2,    305.4,2,    13.18,2,    25.64,2,     0.21,2,     1.83,2,   3.0331
  316N20060130,AAIW06,   174,  1,     28,     28,2,20060213, 908,-60.1817, -87.0897, 4467,    176.8,   2.8981,  34.0289,2,-999.0000,9,    298.4,2,    298.4,2,    16.77,2,    26.81,2,     0.01,2,     1.89,2,   2.8875
  316N20060130,AAIW06,   174,  1,     27,     27,2,20060213, 908,-60.1817, -87.0897, 4467,    226.1,   2.2034,  34.0067,2,-999.0000,9,    293.5,2,    308.3,2,    18.56,2,    27.26,2,     0.02,2,     1.93,2,   2.1911
  316N20060130,AAIW06,   174,  1,     26,     26,2,20060213, 908,-60.1817, -87.0897, 4467,    274.8,   1.7480,  33.9757,2,-999.0000,9,    309.1,2,    323.9,3,    19.15,2,    26.63,2,     0.51,2,     1.92,2,   1.7340
  316N20060130,AAIW06,   174,  1,     25,     25,2,20060213, 908,-60.1817, -87.0897, 4467,    326.9,   2.0155,  34.0169,2,-999.0000,9,    297.4,2,    308.6,2,    20.34,2,    27.63,2,     0.01,2,     1.95,2,   1.9979
  316N20060130,AAIW06,   174,  1,     24,     24,2,20060213, 908,-60.1817, -87.0897, 4467,    375.0,   2.5648,  34.1319,2,-999.0000,9,    267.2,2,    263.8,2,    28.13,2,    29.77,2,     0.00,2,     2.09,2,   2.5428
  316N20060130,AAIW06,   174,  1,     23,     23,2,20060213, 908,-60.1817, -87.0897, 4467,    426.9,   2.6514,  34.1834,2,-999.0000,9,    250.1,2,    247.1,2,    33.12,2,    30.64,2,     0.00,2,     2.16,2,   2.6258
  316N20060130,AAIW06,   174,  1,     22,     22,2,20060213, 908,-60.1817, -87.0897, 4467,    475.5,   2.6045,  34.2163,2,-999.0000,9,    239.9,2,    237.1,2,    36.91,2,    31.41,2,     0.00,2,     2.21,2,   2.5759
  316N20060130,AAIW06,   174,  1,     20,     20,2,20060213, 908,-60.1817, -87.0897, 4467,    523.8,   2.6007,  34.2560,2,-999.0000,9,    224.1,2,    225.7,2,    41.70,2,    32.18,2,     0.00,2,     2.27,2,   2.5690
  316N20060130,AAIW06,   174,  1,     21,     21,9,20060213, 908,-60.1817, -87.0897, 4467,    524.5,   2.6005,  34.2557,2,-999.0000,9,   -999.0,9,   -999.0,9,  -999.00,9,  -999.00,9,  -999.00,9,  -999.00,9,   2.5688
  316N20060130,AAIW06,   174,  1,     19,     19,2,20060213, 908,-60.1817, -87.0897, 4467,    643.2,   2.4850,  34.3335,2,-999.0000,9,    204.3,2,    204.9,2,    51.89,2,    33.50,2,     0.00,2,     2.35,2,   2.4460
  316N20060130,AAIW06,   174,  1,     18,     18,2,20060213, 908,-60.1817, -87.0897, 4467,    739.1,   2.6354,  34.4333,2,-999.0000,9,    185.6,2,    183.7,2,    60.91,2,    34.11,2,     0.00,2,     2.40,2,   2.5890
  316N20060130,AAIW06,   174,  1,     17,     17,2,20060213, 908,-60.1817, -87.0897, 4467,    838.1,   2.5018,  34.4878,2,-999.0000,9,    178.7,2,    177.2,2,    67.12,2,    34.21,2,     0.00,2,     2.40,2,   2.4493
  316N20060130,AAIW06,   174,  1,     16,     16,2,20060213, 908,-60.1817, -87.0897, 4467,    938.0,   2.4726,  34.5353,2,-999.0000,9,    174.1,2,    173.5,2,    71.33,2,    33.95,2,     0.00,2,     2.39,2,   2.4132
  316N20060130,AAIW06,   174,  1,     15,     15,2,20060213, 908,-60.1817, -87.0897, 4467,   1038.8,   2.3890,  34.5756,2,-999.0000,9,    172.5,2,    172.4,2,    74.94,2,    33.69,2,     0.00,2,     2.39,2,   2.3230
  316N20060130,AAIW06,   174,  1,     14,     14,2,20060213, 908,-60.1817, -87.0897, 4467,   1135.4,   2.3263,  34.6084,2,-999.0000,9,    171.7,2,    171.6,2,    77.95,2,    33.44,2,     0.00,2,     2.36,2,   2.2538
  316N20060130,AAIW06,   174,  1,     13,     13,2,20060213, 908,-60.1817, -87.0897, 4467,   1235.3,   2.2791,  34.6374,2,-999.0000,9,    172.3,2,    172.4,2,    80.56,2,    33.03,2,     0.00,2,     2.34,2,   2.1996
  316N20060130,AAIW06,   174,  1,     12,     12,2,20060213, 908,-60.1817, -87.0897, 4467,   1431.4,   2.1499,  34.6826,2,-999.0000,9,    175.6,2,    175.6,2,    84.57,2,    32.35,2,     0.00,2,     2.28,2,   2.0569
  316N20060130,AAIW06,   174,  1,     11,     11,2,20060213, 908,-60.1817, -87.0897, 4467,   1626.2,   2.0307,  34.7061,2,-999.0000,9,    179.3,2,    179.3,2,    88.61,2,    31.84,2,     0.00,2,     2.25,2,   1.9239
  316N20060130,AAIW06,   174,  1,     10,     10,2,20060213, 908,-60.1817, -87.0897, 4467,   1824.2,   1.8960,  34.7185,2,-999.0000,9,    182.4,2,    182.5,2,    93.24,2,    31.48,2,     0.00,2,     2.24,2,   1.7752
  316N20060130,AAIW06,   174,  1,      9,      9,2,20060213, 908,-60.1817, -87.0897, 4467,   2125.8,   1.6432,  34.7245,2,  34.7261,2,    188.1,2,    187.0,2,   101.54,2,    31.69,2,     0.00,2,     2.24,2,   1.5015
  316N20060130,AAIW06,   174,  1,      8,      8,2,20060213, 908,-60.1817, -87.0897, 4467,   2430.0,   1.4931,  34.7276,2,  34.7301,0,    191.8,2,    192.2,2,   103.56,2,    31.28,2,     0.00,2,     2.21,2,   1.3281
  316N20060130,AAIW06,   174,  1,      7,      7,2,20060213, 908,-60.1817, -87.0897, 4467,   2739.3,   1.3159,  34.7247,2,  34.7260,2,    195.7,2,    196.0,2,   109.65,2,    31.53,2,     0.00,2,     2.23,2,   1.1269
  316N20060130,AAIW06,   174,  1,      6,      6,2,20060213, 908,-60.1817, -87.0897, 4467,   3048.9,   1.1450,  34.7203,2,  34.7221,0,    199.2,2,    199.3,2,   115.14,2,    31.68,2,     0.00,2,     2.23,2,   0.9312
  316N20060130,AAIW06,   174,  1,      5,      5,2,20060213, 908,-60.1817, -87.0897, 4467,   3355.0,   0.9734,  34.7146,2,  34.7162,2,    202.3,2,    202.6,2,   120.85,2,    31.83,2,     0.00,2,     2.24,2,   0.7345
  316N20060130,AAIW06,   174,  1,      4,      4,2,20060213, 908,-60.1817, -87.0897, 4467,   3662.0,   0.7864,  34.7101,2,  34.7113,2,    205.4,2,    205.8,2,   126.78,2,    32.19,2,     0.00,2,     2.25,2,   0.5221
  316N20060130,AAIW06,   174,  1,      3,      3,2,20060213, 908,-60.1817, -87.0897, 4467,   3969.6,   0.6364,  34.7074,2,  34.7088,2,    208.7,2,    208.9,2,   131.69,2,    32.19,2,     0.00,2,     2.27,2,   0.3449
  316N20060130,AAIW06,   174,  1,      2,      2,2,20060213, 908,-60.1817, -87.0897, 4467,   4375.7,   0.5541,  34.7060,2,  34.7071,2,    210.9,2,    211.0,2,   135.80,2,    32.34,2,     0.00,2,     2.27,2,   0.2221
  316N20060130,AAIW06,   174,  1,      1,      1,2,20060213, 908,-60.1817, -87.0897, 4467,   4784.9,   0.5366,  34.7046,2,  34.7073,0,    212.1,2,    212.2,2,   138.26,2,    32.39,2,     0.00,2,     2.27,2,   0.1597
  316N20060130,AAIW06,   175,  1,     36,     36,2,20060213,1526,-60.6293, -87.5845, 4657,      5.3,   6.2769,  33.9897,2,  33.9892,2,    296.8,2,    296.9,2,     0.67,2,    19.71,2,     0.22,2,     1.46,2,   6.2764
  316N20060130,AAIW06,   175,  1,     35,     35,2,20060213,1526,-60.6293, -87.5845, 4657,     16.1,   6.2808,  33.9892,2,  33.9886,2,    297.5,2,    297.0,2,     0.67,2,    19.71,2,     0.22,2,     1.47,2,   6.2794
  316N20060130,AAIW06,   175,  1,     34,     34,2,20060213,1526,-60.6293, -87.5845, 4657,     41.6,   6.2650,  33.9910,2,  33.9926,2,    298.0,2,    297.4,2,     0.66,2,    19.65,2,     0.22,2,     1.46,2,   6.2614
  316N20060130,AAIW06,   175,  1,     33,     33,2,20060213,1526,-60.6293, -87.5845, 4657,     65.2,   4.8729,  34.0248,2,  34.0280,2,    302.4,2,    302.4,2,     2.44,2,    20.95,2,     0.24,2,     1.71,2,   4.8680
  316N20060130,AAIW06,   175,  1,     32,     32,2,20060213,1526,-60.6293, -87.5845, 4657,    100.6,   3.8932,  34.0417,2,  34.0419,2,    300.8,2,    303.6,2,    10.58,2,    23.62,2,     0.41,2,     1.71,2,   3.8864
  316N20060130,AAIW06,   175,  1,     31,     31,2,20060213,1526,-60.6293, -87.5845, 4657,    140.3,   3.7212,  34.0378,2,  34.0376,2,    302.7,2,    302.6,2,    11.36,2,    24.32,2,     0.01,2,     1.72,2,   3.7119
  316N20060130,AAIW06,   175,  1,     30,     30,2,20060213,1526,-60.6293, -87.5845, 4657,    189.8,   3.5436,  34.0366,2,-999.0000,9,    300.1,2,    300.3,2,    12.16,2,    24.83,2,     0.00,2,     1.76,2,   3.5313
  316N20060130,AAIW06,   175,  1,     29,     29,2,20060213,1526,-60.6293, -87.5845, 4657,    239.2,   3.4219,  34.0479,2,-999.0000,9,    297.0,2,    294.5,2,    13.74,2,    25.65,2,     0.00,2,     1.81,2,   3.4065
  316N20060130,AAIW06,   175,  1,     28,     28,2,20060213,1526,-60.6293, -87.5845, 4657,    286.9,   3.3729,  34.0679,2,-999.0000,9,    285.5,2,    286.4,2,    15.72,2,    26.36,2,     0.00,2,     1.86,2,   3.3544
  316N20060130,AAIW06,   175,  1,     27,     27,2,20060213,1526,-60.6293, -87.5845, 4657,    339.5,   3.3476,  34.0886,2,-999.0000,9,    273.4,2,    277.9,2,    17.90,2,    27.02,2,     0.00,2,     1.91,2,   3.3256
  316N20060130,AAIW06,   175,  1,     26,     26,2,20060213,1526,-60.6293, -87.5845, 4657,    388.1,   3.2738,  34.1251,2,-999.0000,9,    266.6,2,    265.8,2,    21.47,2,    28.18,2,     0.00,2,     1.99,2,   3.2487
  316N20060130,AAIW06,   175,  1,     25,     25,2,20060213,1526,-60.6293, -87.5845, 4657,    436.6,   3.2688,  34.1638,2,-999.0000,9,    253.1,2,    253.1,2,    25.23,2,    29.20,2,     0.00,2,     2.04,2,   3.2404
  316N20060130,AAIW06,   175,  1,     24,     24,2,20060213,1526,-60.6293, -87.5845, 4657,    487.9,   3.0860,  34.1753,2,-999.0000,9,    248.0,2,    248.9,2,    28.01,2,    29.82,2,     0.00,2,     2.08,2,   3.0548
  316N20060130,AAIW06,   175,  1,     23,     23,2,20060213,1526,-60.6293, -87.5845, 4657,    572.9,   3.0903,  34.2538,2,-999.0000,9,    226.4,2,    225.4,2,    36.74,2,    31.39,2,     0.00,2,     2.20,2,   3.0532
  316N20060130,AAIW06,   175,  1,     22,     22,2,20060213,1526,-60.6293, -87.5845, 4657,    672.2,   2.9107,  34.3068,2,-999.0000,9,    211.0,2,    210.4,2,    44.49,2,    32.50,2,     0.00,2,     2.29,2,   2.8675
  316N20060130,AAIW06,   175,  1,     20,     20,2,20060213,1526,-60.6293, -87.5845, 4657,    772.4,   2.8122,  34.3960,2,-999.0000,9,    193.2,2,    190.0,2,    55.42,2,    33.63,2,     0.00,2,     2.36,2,   2.7624
  316N20060130,AAIW06,   175,  1,     21,     21,9,20060213,1526,-60.6293, -87.5845, 4657,    773.2,   2.8115,  34.3964,2,-999.0000,9,   -999.0,9,   -999.0,9,  -999.00,9,  -999.00,9,  -999.00,9,  -999.00,9,   2.7617
  316N20060130,AAIW06,   175,  1,     19,     19,2,20060213,1526,-60.6293, -87.5845, 4657,    871.7,   2.6710,  34.4482,2,-999.0000,9,    183.1,2,    181.7,2,    61.99,2,    34.02,2,     0.00,2,     2.40,2,   2.6150
  316N20060130,AAIW06,   175,  1,     18,     18,2,20060213,1526,-60.6293, -87.5845, 4657,    968.3,   2.5656,  34.5001,2,-999.0000,9,    177.6,2,    176.0,2,    66.57,2,    34.07,2,     0.00,2,     2.40,2,   2.5034
  316N20060130,AAIW06,   175,  1,     17,     17,2,20060213,1526,-60.6293, -87.5845, 4657,   1070.2,   2.4578,  34.5497,2,-999.0000,9,    173.5,2,    172.7,2,    72.75,2,    33.87,2,     0.00,2,     2.39,2,   2.3890
  316N20060130,AAIW06,   175,  1,     16,     16,2,20060213,1526,-60.6293, -87.5845, 4657,   1170.7,   2.3995,  34.5847,2,-999.0000,9,    171.7,2,    171.8,2,    75.93,2,    33.61,2,     0.00,2,     2.38,2,   2.3238
  316N20060130,AAIW06,   175,  1,     15,     15,2,20060213,1526,-60.6293, -87.5845, 4657,   1269.1,   2.3352,  34.6156,2,-999.0000,9,    172.1,2,    171.5,2,    78.33,2,    33.36,2,     0.00,2,     2.36,2,   2.2527
  316N20060130,AAIW06,   175,  1,     14,     14,2,20060213,1526,-60.6293, -87.5845, 4657,   1371.4,   2.2637,  34.6466,2,-999.0000,9,    173.1,2,    173.3,2,    80.51,2,    32.94,2,     0.00,2,     2.32,2,   2.1741
  316N20060130,AAIW06,   175,  1,     13,     13,2,20060213,1526,-60.6293, -87.5845, 4657,   1473.4,   2.2013,  34.6706,2,-999.0000,9,    174.8,2,    174.9,2,    83.10,2,    32.58,2,     0.00,2,     2.30,2,   2.1045
  316N20060130,AAIW06,   175,  1,     12,     12,2,20060213,1526,-60.6293, -87.5845, 4657,   1573.7,   2.1288,  34.6892,2,-999.0000,9,    176.6,2,    176.7,2,    85.10,2,    32.22,2,     0.00,2,     2.27,2,   2.0250
  316N20060130,AAIW06,   175,  1,     11,     11,2,20060213,1526,-60.6293, -87.5845, 4657,   1772.8,   2.0182,  34.7098,2,-999.0000,9,    180.0,2,    180.6,2,    89.09,2,    31.76,2,     0.00,2,     2.24,2,   1.8999
  316N20060130,AAIW06,   175,  1,     10,     10,2,20060213,1526,-60.6293, -87.5845, 4657,   1978.3,   1.8464,  34.7237,2,  34.7249,2,    184.0,2,    184.9,2,    93.71,2,    31.46,2,     0.00,2,     2.22,2,   1.7138
  316N20060130,AAIW06,   175,  1,      9,      9,2,20060213,1526,-60.6293, -87.5845, 4657,   2231.3,   1.6331,  34.7266,2,  34.7258,2,    188.4,2,    188.7,2,   100.53,2,    31.55,2,     0.00,2,     2.22,2,   1.4827
  316N20060130,AAIW06,   175,  1,      8,      8,2,20060213,1526,-60.6293, -87.5845, 4657,   2531.8,   1.4573,  34.7280,2,  34.7292,2,    193.5,2,    193.3,2,   104.75,2,    31.45,2,     0.00,2,     2.21,2,   1.2840
  316N20060130,AAIW06,   175,  1,      7,      7,2,20060213,1526,-60.6293, -87.5845, 4657,   2835.6,   1.2720,  34.7237,2,  34.7245,2,    197.2,2,    197.0,2,   110.20,2,    31.60,2,     0.00,2,     2.22,2,   1.0752
  316N20060130,AAIW06,   175,  1,      6,      6,2,20060213,1526,-60.6293, -87.5845, 4657,   3115.4,   1.1229,  34.7199,2,  34.7209,2,    200.2,2,    200.1,2,   115.24,2,    31.70,2,     0.00,2,     2.22,2,   0.9034
  316N20060130,AAIW06,   175,  1,      5,      5,2,20060213,1526,-60.6293, -87.5845, 4657,   3403.8,   0.9563,  34.7139,2,  34.7146,2,    202.9,2,    203.2,2,   120.91,2,    31.85,2,     0.00,2,     2.24,2,   0.7131
  316N20060130,AAIW06,   175,  1,      4,      4,2,20060213,1526,-60.6293, -87.5845, 4657,   3664.3,   0.8296,  34.7100,2,  34.7099,2,    205.5,2,    205.5,2,   124.75,2,    32.05,2,     0.00,2,     2.25,2,   0.5639
  316N20060130,AAIW06,   175,  1,      3,      3,2,20060213,1526,-60.6293, -87.5845, 4657,   4040.4,   0.6451,  34.7067,2,  34.7077,2,    209.3,2,    209.3,2,   129.84,2,    32.20,2,     0.00,2,     2.26,2,   0.3460
  316N20060130,AAIW06,   175,  1,      2,      2,2,20060213,1526,-60.6293, -87.5845, 4657,   4442.6,   0.5365,  34.7053,2,  34.7052,2,    211.5,2,    211.4,2,   135.95,2,    32.30,2,     0.00,2,     2.28,2,   0.1977
  316N20060130,AAIW06,   175,  1,      1,      1,2,20060213,1526,-60.6293, -87.5845, 4657,   4917.4,   0.5541,  34.7045,2,  34.7052,2,    212.3,2,    212.3,2,   137.36,2,    32.45,2,     0.00,2,     2.28,2,   0.1614