BOTTLE,20081218PRINUNIVRMK
EXPOCODE,SECT_ID,STNNBR,CASTNO,SAMPNO,BTLNBR,BTLNBR_FLAG_W,DATE,TIME,LATITUDE,LONGITUDE,DEPTH,CTDPRS,CTDTMP,CTDSAL,CTDSAL_FLAG_W,SALNTY,SALNTY_FLAG_W,CTDOXY,CTDOXY_FLAG_W,OXYGEN,OXYGEN_FLAG_W,SILCAT,SILCAT_FLAG_W,NITRAT,NITRAT_FLAG_W,NITRIT,NITRIT_FLAG_W,PHSPHT,PHSPHT_FLAG_W,THETA
,,,,,,,,,,,METERS,DBARS,ITS-90,PSS-78,,PSS-78,,UMOL/KG,,UMOL/KG,,UMOL/KG,,UMOL/KG,,UMOL/KG,,UMOL/KG,,DEGC
  316N20060130,AAIW06,   205,  1,     36,     36,2,20060223,2202,-54.6503,-100.8657, 4289,      4.2,   8.4767,  34.1542,2,  34.1560,2,    287.7,2,    285.9,2,     0.52,2,    15.07,2,     0.22,2,     1.10,2,   8.4763
  316N20060130,AAIW06,   205,  1,     35,     35,2,20060223,2202,-54.6503,-100.8657, 4289,     16.3,   8.4752,  34.1540,2,  34.1546,2,    289.0,2,    286.4,2,     0.49,2,    15.12,2,     0.22,2,     1.10,2,   8.4735
  316N20060130,AAIW06,   205,  1,     34,     34,2,20060223,2202,-54.6503,-100.8657, 4289,     39.8,   8.4745,  34.1540,2,  34.1543,2,    284.8,2,    285.2,2,     0.47,2,    15.06,2,     0.22,2,     1.09,2,   8.4704
  316N20060130,AAIW06,   205,  1,     33,     33,2,20060223,2202,-54.6503,-100.8657, 4289,     64.5,   8.4581,  34.1517,2,  34.1521,2,    282.8,2,    285.3,2,     0.44,2,    15.16,2,     0.22,2,     1.10,2,   8.4515
  316N20060130,AAIW06,   205,  1,     32,     32,2,20060223,2202,-54.6503,-100.8657, 4289,     97.1,   6.3341,  34.2124,2,  34.2116,2,    286.8,2,    288.5,2,     5.41,2,    18.41,2,     0.62,2,     1.42,2,   6.3257
  316N20060130,AAIW06,   205,  1,     31,     31,2,20060223,2202,-54.6503,-100.8657, 4289,    142.1,   6.2058,  34.2223,2,-999.0000,9,    288.5,2,    287.8,2,     5.38,2,    19.57,2,     0.07,2,     1.39,2,   6.1936
  316N20060130,AAIW06,   205,  1,     30,     30,2,20060223,2202,-54.6503,-100.8657, 4289,    190.3,   6.0409,  34.2128,2,-999.0000,9,    288.9,2,    289.6,2,     5.35,2,    19.86,2,     0.03,2,     1.42,2,   6.0247
  316N20060130,AAIW06,   205,  1,     29,     29,2,20060223,2202,-54.6503,-100.8657, 4289,    239.2,   5.9197,  34.2097,2,-999.0000,9,    287.9,2,    288.1,2,     5.53,2,    20.17,2,     0.01,2,     1.43,2,   5.8995
  316N20060130,AAIW06,   205,  1,     28,     28,2,20060223,2202,-54.6503,-100.8657, 4289,    287.2,   5.8776,  34.2147,2,-999.0000,9,    287.1,2,    286.7,2,     5.51,2,    20.17,2,     0.01,2,     1.43,2,   5.8533
  316N20060130,AAIW06,   205,  1,     27,     27,2,20060223,2202,-54.6503,-100.8657, 4289,    336.2,   5.8316,  34.2153,2,-999.0000,9,    284.7,2,    285.3,2,     6.10,2,    20.62,2,     0.01,2,     1.47,2,   5.8032
  316N20060130,AAIW06,   205,  1,     26,     26,2,20060223,2202,-54.6503,-100.8657, 4289,    386.0,   5.7602,  34.2152,2,-999.0000,9,    284.1,2,    283.9,2,     6.48,2,    21.03,2,     0.01,2,     1.48,2,   5.7277
  316N20060130,AAIW06,   205,  1,     25,     25,2,20060223,2202,-54.6503,-100.8657, 4289,    432.1,   5.6811,  34.2122,2,-999.0000,9,    283.9,2,    284.8,2,     6.87,2,    21.13,2,     0.01,2,     1.49,2,   5.6448
  316N20060130,AAIW06,   205,  1,     24,     24,2,20060223,2202,-54.6503,-100.8657, 4289,    480.6,   5.6134,  34.2095,2,-999.0000,9,    280.9,2,    281.8,2,     7.47,2,    21.69,2,     0.00,2,     1.52,2,   5.5731
  316N20060130,AAIW06,   205,  1,     23,     23,2,20060223,2202,-54.6503,-100.8657, 4289,    563.7,   5.5845,  34.2291,2,-999.0000,9,    268.9,2,    269.7,2,     9.52,2,    23.05,2,     0.00,2,     1.60,2,   5.5370
  316N20060130,AAIW06,   205,  1,     22,     22,2,20060223,2202,-54.6503,-100.8657, 4289,    657.3,   5.3153,  34.2383,2,-999.0000,9,    243.3,2,    246.6,2,    15.12,2,    25.64,2,     0.00,2,     1.77,2,   5.2609
  316N20060130,AAIW06,   205,  1,     21,     21,9,20060223,2202,-54.6503,-100.8657, 4289,    749.6,   5.0070,  34.2651,2,-999.0000,9,   -999.0,9,   -999.0,9,  -999.00,9,  -999.00,9,  -999.00,9,  -999.00,9,   4.9462
  316N20060130,AAIW06,   205,  1,     20,     20,2,20060223,2202,-54.6503,-100.8657, 4289,    750.2,   5.0073,  34.2650,2,-999.0000,9,    227.9,2,    229.0,2,    19.88,2,    27.72,2,     0.00,2,     1.91,2,   4.9464
  316N20060130,AAIW06,   205,  1,     19,     19,2,20060223,2202,-54.6503,-100.8657, 4289,    846.8,   4.5839,  34.2849,2,-999.0000,9,    217.7,2,    217.9,2,    25.46,2,    29.45,2,     0.00,2,     2.03,2,   4.5173
  316N20060130,AAIW06,   205,  1,     18,     18,2,20060223,2202,-54.6503,-100.8657, 4289,    942.4,   4.0586,  34.3007,2,-999.0000,9,    210.8,2,    210.8,2,    32.73,2,    30.92,2,     0.00,2,     2.14,2,   3.9876
  316N20060130,AAIW06,   205,  1,     17,     17,2,20060223,2202,-54.6503,-100.8657, 4289,   1033.5,   3.6700,  34.3243,2,-999.0000,9,    203.4,2,    204.0,2,    39.36,2,    32.13,2,     0.00,2,     2.22,2,   3.5945
  316N20060130,AAIW06,   205,  1,     16,     16,2,20060223,2202,-54.6503,-100.8657, 4289,   1128.3,   3.3659,  34.3522,2,-999.0000,9,    196.9,2,    198.2,2,    45.37,2,    32.83,2,     0.00,2,     2.28,2,   3.2852
  316N20060130,AAIW06,   205,  1,     15,     15,2,20060223,2202,-54.6503,-100.8657, 4289,   1222.1,   3.1018,  34.3897,2,-999.0000,9,    190.3,2,    190.8,2,    52.43,2,    33.49,2,     0.00,2,     2.34,2,   3.0160
  316N20060130,AAIW06,   205,  1,     14,     14,2,20060223,2202,-54.6503,-100.8657, 4289,   1317.4,   2.9022,  34.4268,2,-999.0000,9,    183.2,2,    184.7,2,    58.45,2,    34.09,2,     0.00,2,     2.38,2,   2.8107
  316N20060130,AAIW06,   205,  1,     13,     13,2,20060223,2202,-54.6503,-100.8657, 4289,   1413.7,   2.7616,  34.4718,2,-999.0000,9,    178.3,2,    178.5,2,    64.26,2,    34.24,2,     0.00,2,     2.39,2,   2.6637
  316N20060130,AAIW06,   205,  1,     12,     12,2,20060223,2202,-54.6503,-100.8657, 4289,   1507.0,   2.6591,  34.5074,2,-999.0000,9,    174.2,2,    174.6,2,    68.84,2,    34.18,2,     0.00,2,     2.40,2,   2.5548
  316N20060130,AAIW06,   205,  1,     11,     11,2,20060223,2202,-54.6503,-100.8657, 4289,   1692.2,   2.5023,  34.5772,2,-999.0000,9,    171.0,2,    170.8,2,    76.13,2,    34.17,2,     0.00,2,     2.38,2,   2.3846
  316N20060130,AAIW06,   205,  1,     10,     10,2,20060223,2202,-54.6503,-100.8657, 4289,   1887.5,   2.3752,  34.6318,2,-999.0000,9,    171.2,2,    170.8,2,    81.55,2,    33.50,2,     0.00,2,     2.35,2,   2.2427
  316N20060130,AAIW06,   205,  1,      9,      9,2,20060223,2202,-54.6503,-100.8657, 4289,   2080.6,   2.2720,  34.6698,2,-999.0000,9,    174.3,2,    173.6,2,    84.25,2,    32.98,2,     0.00,2,     2.31,2,   2.1243
  316N20060130,AAIW06,   205,  1,      8,      8,2,20060223,2202,-54.6503,-100.8657, 4289,   2320.7,   2.0901,  34.7045,2,  34.7037,2,    178.0,2,    178.0,2,    90.51,2,    32.36,2,     0.00,2,     2.26,2,   1.9241
  316N20060130,AAIW06,   205,  1,      7,      7,2,20060223,2202,-54.6503,-100.8657, 4289,   2568.3,   1.8789,  34.7175,2,  34.7187,2,    181.3,2,    181.9,2,    97.85,2,    32.25,2,     0.00,2,     2.25,2,   1.6944
  316N20060130,AAIW06,   205,  1,      6,      6,2,20060223,2202,-54.6503,-100.8657, 4289,   2814.6,   1.6787,  34.7195,2,  34.7193,2,    183.9,2,    184.3,2,   104.77,2,    32.44,2,     0.00,2,     2.26,2,   1.4753
  316N20060130,AAIW06,   205,  1,      5,      5,2,20060223,2202,-54.6503,-100.8657, 4289,   3059.6,   1.5718,  34.7207,2,  34.7203,2,    187.2,2,    187.4,2,   108.34,2,    32.34,2,     0.00,2,     2.25,2,   1.3474
  316N20060130,AAIW06,   205,  1,      4,      4,2,20060223,2202,-54.6503,-100.8657, 4289,   3310.5,   1.4385,  34.7218,2,  34.7207,2,    191.4,2,    191.9,2,   110.85,2,    32.23,2,     0.00,2,     2.24,2,   1.1927
  316N20060130,AAIW06,   205,  1,      3,      3,2,20060223,2202,-54.6503,-100.8657, 4289,   3563.2,   1.2491,  34.7189,2,  34.7182,2,    195.6,2,    196.4,2,   116.54,2,    32.22,2,     0.00,2,     2.25,2,   0.9826
  316N20060130,AAIW06,   205,  1,      2,      2,2,20060223,2202,-54.6503,-100.8657, 4289,   3901.0,   0.9022,  34.7124,2,  34.7125,2,    201.2,2,    202.3,2,   127.12,2,    32.51,2,     0.00,2,     2.27,2,   0.6103
  316N20060130,AAIW06,   205,  1,      1,      1,2,20060223,2202,-54.6503,-100.8657, 4289,   4389.0,   0.7443,  34.7088,2,  34.7076,2,    205.7,2,    206.2,2,   132.85,2,    32.71,2,     0.00,2,     2.28,2,   0.4050
  316N20060130,AAIW06,   206,  1,     36,     36,2,20060224, 614,-54.8143,-101.9007, 4629,      4.6,   8.0499,  34.1554,2,  34.1585,2,    287.6,2,    287.8,2,     1.30,2,    15.84,2,     0.21,2,     1.16,2,   8.0494
  316N20060130,AAIW06,   206,  1,     35,     35,2,20060224, 614,-54.8143,-101.9007, 4629,     26.5,   8.0559,  34.1557,2,  34.1587,2,    288.8,2,    289.1,2,     1.25,2,    15.83,2,     0.21,2,     1.16,2,   8.0533
  316N20060130,AAIW06,   206,  1,     34,     34,2,20060224, 614,-54.8143,-101.9007, 4629,     50.8,   8.0551,  34.1553,2,  34.1586,2,    288.9,2,    287.6,2,     1.19,2,    15.83,2,     0.21,2,     1.16,2,   8.0500
  316N20060130,AAIW06,   206,  1,     33,     33,2,20060224, 614,-54.8143,-101.9007, 4629,     75.8,   8.0301,  34.1575,2,  34.1590,2,    288.6,2,    287.6,2,     1.34,2,    15.88,2,     0.21,2,     1.16,2,   8.0226
  316N20060130,AAIW06,   206,  1,     32,     32,2,20060224, 614,-54.8143,-101.9007, 4629,    105.9,   6.5869,  34.2423,2,-999.0000,9,    287.2,2,    287.3,2,     5.22,2,    17.67,2,     0.33,2,     1.39,2,   6.5775
  316N20060130,AAIW06,   206,  1,     31,     31,2,20060224, 614,-54.8143,-101.9007, 4629,    156.0,   6.3366,  34.2373,2,-999.0000,9,    286.5,2,    287.5,2,     5.16,2,    19.17,2,     0.03,2,     1.37,2,   6.3230
  316N20060130,AAIW06,   206,  1,     30,     30,2,20060224, 614,-54.8143,-101.9007, 4629,    205.0,   6.2876,  34.2433,2,-999.0000,9,    285.9,2,    286.2,2,     5.11,2,    19.27,2,     0.03,2,     1.37,2,   6.2697
  316N20060130,AAIW06,   206,  1,     29,     29,2,20060224, 614,-54.8143,-101.9007, 4629,    254.5,   6.2038,  34.2372,2,-999.0000,9,    284.9,2,    284.5,2,     5.48,2,    19.68,2,     0.02,2,     1.40,2,   6.1817
  316N20060130,AAIW06,   206,  1,     28,     28,2,20060224, 614,-54.8143,-101.9007, 4629,    303.8,   6.0499,  34.2266,2,-999.0000,9,    282.6,2,    283.9,2,     6.03,2,    20.34,2,     0.01,2,     1.44,2,   6.0238
  316N20060130,AAIW06,   206,  1,     27,     27,2,20060224, 614,-54.8143,-101.9007, 4629,    354.6,   6.0312,  34.2396,2,-999.0000,9,    278.9,2,    275.5,2,     7.23,2,    21.15,2,     0.01,2,     1.49,2,   6.0006
  316N20060130,AAIW06,   206,  1,     26,     26,2,20060224, 614,-54.8143,-101.9007, 4629,    404.4,   5.8879,  34.2317,2,-999.0000,9,    272.6,2,    272.1,2,     8.00,2,    21.85,2,     0.01,2,     1.53,2,   5.8534
  316N20060130,AAIW06,   206,  1,     25,     25,2,20060224, 614,-54.8143,-101.9007, 4629,    454.0,   5.7829,  34.2345,2,-999.0000,9,    268.6,2,    273.5,2,     9.60,2,    22.60,2,     0.01,2,     1.58,2,   5.7443
  316N20060130,AAIW06,   206,  1,     24,     24,2,20060224, 614,-54.8143,-101.9007, 4629,    502.6,   5.6705,  34.2406,2,-999.0000,9,    262.2,2,    256.3,2,    11.20,2,    23.87,2,     0.01,2,     1.66,2,   5.6281
  316N20060130,AAIW06,   206,  1,     23,     23,2,20060224, 614,-54.8143,-101.9007, 4629,    601.8,   5.3323,  34.2511,2,  34.2539,2,    245.3,2,    239.9,2,    16.74,2,    26.04,2,     0.01,2,     1.80,2,   5.2826
  316N20060130,AAIW06,   206,  1,     22,     22,2,20060224, 614,-54.8143,-101.9007, 4629,    701.4,   5.0041,  34.2877,2,-999.0000,9,    223.4,2,    221.2,2,    22.90,2,    28.16,2,     0.00,2,     1.95,2,   4.9474
  316N20060130,AAIW06,   206,  1,     21,     21,9,20060224, 614,-54.8143,-101.9007, 4629,    702.3,   5.0027,  34.2878,2,-999.0000,9,   -999.0,9,   -999.0,9,  -999.00,9,  -999.00,9,  -999.00,9,  -999.00,9,   4.9459
  316N20060130,AAIW06,   206,  1,     20,     20,2,20060224, 614,-54.8143,-101.9007, 4629,    798.6,   4.5805,  34.2995,2,-999.0000,9,    215.1,2,    214.5,2,    27.20,2,    29.48,2,     0.00,2,     2.03,2,   4.5180
  316N20060130,AAIW06,   206,  1,     19,     19,2,20060224, 614,-54.8143,-101.9007, 4629,    896.2,   4.0796,  34.3115,2,-999.0000,9,    208.9,2,    208.4,2,    33.56,2,    30.79,2,     0.00,2,     2.13,2,   4.0122
  316N20060130,AAIW06,   206,  1,     18,     18,2,20060224, 614,-54.8143,-101.9007, 4629,    995.5,   3.6333,  34.3342,2,-999.0000,9,    202.4,2,    201.8,2,    40.36,2,    31.95,2,     0.00,2,     2.22,2,   3.5611
  316N20060130,AAIW06,   206,  1,     17,     17,2,20060224, 614,-54.8143,-101.9007, 4629,   1094.5,   3.3012,  34.3593,2,-999.0000,9,    197.0,2,    196.2,2,    46.94,2,    32.80,2,     0.00,2,     2.28,2,   3.2238
  316N20060130,AAIW06,   206,  1,     16,     16,2,20060224, 614,-54.8143,-101.9007, 4629,   1192.0,   3.0772,  34.3936,2,-999.0000,9,    189.9,2,    191.0,2,    53.11,2,    33.36,2,     0.00,2,     2.32,2,   2.9940
  316N20060130,AAIW06,   206,  1,     15,     15,2,20060224, 614,-54.8143,-101.9007, 4629,   1290.9,   2.8866,  34.4393,2,-999.0000,9,    183.0,2,    184.0,2,    59.71,2,    33.70,2,     0.00,2,     2.36,2,   2.7973
  316N20060130,AAIW06,   206,  1,     14,     14,2,20060224, 614,-54.8143,-101.9007, 4629,   1387.9,   2.7373,  34.4781,2,-999.0000,9,    179.0,2,    179.8,2,    64.85,2,    34.00,2,     0.00,2,     2.38,2,   2.6417
  316N20060130,AAIW06,   206,  1,     13,     13,2,20060224, 614,-54.8143,-101.9007, 4629,   1489.2,   2.6087,  34.5259,2,-999.0000,9,    175.0,2,    174.3,2,    70.42,2,    34.09,2,     0.00,2,     2.38,2,   2.5063
  316N20060130,AAIW06,   206,  1,     12,     12,2,20060224, 614,-54.8143,-101.9007, 4629,   1594.6,   2.5044,  34.5641,2,-999.0000,9,    172.4,2,    172.4,2,    73.70,2,    33.88,2,     0.00,2,     2.36,2,   2.3947
  316N20060130,AAIW06,   206,  1,     11,     11,2,20060224, 614,-54.8143,-101.9007, 4629,   1801.3,   2.3786,  34.6272,2,-999.0000,9,    171.9,2,    171.4,2,    80.53,2,    33.36,2,     0.00,2,     2.33,2,   2.2533
  316N20060130,AAIW06,   206,  1,     10,     10,2,20060224, 614,-54.8143,-101.9007, 4629,   2007.3,   2.2506,  34.6740,2,-999.0000,9,    175.1,2,    175.7,2,    84.03,2,    32.60,2,     0.00,2,     2.27,2,   2.1096
  316N20060130,AAIW06,   206,  1,      9,      9,2,20060224, 614,-54.8143,-101.9007, 4629,   2259.2,   2.0903,  34.7076,2,  34.7084,2,    180.2,2,    180.0,2,    88.16,2,    32.03,2,     0.00,2,     2.23,2,   1.9298
  316N20060130,AAIW06,   206,  1,      8,      8,2,20060224, 614,-54.8143,-101.9007, 4629,   2510.0,   1.9104,  34.7205,2,  34.7225,0,    184.0,2,    184.8,2,    94.39,2,    31.76,2,     0.00,2,     2.21,2,   1.7306
  316N20060130,AAIW06,   206,  1,      7,      7,2,20060224, 614,-54.8143,-101.9007, 4629,   2762.7,   1.6955,  34.7261,2,  34.7272,2,    188.6,2,    190.4,0,   100.21,2,    31.56,2,     0.00,2,     2.20,2,   1.4966
  316N20060130,AAIW06,   206,  1,      6,      6,2,20060224, 614,-54.8143,-101.9007, 4629,   3016.6,   1.5340,  34.7219,2,  34.7228,2,    190.0,2,    190.1,2,   107.73,2,    32.01,2,     0.00,2,     2.22,2,   1.3146
  316N20060130,AAIW06,   206,  1,      5,      5,2,20060224, 614,-54.8143,-101.9007, 4629,   3267.4,   1.3840,  34.7216,2,  34.7224,2,    193.8,2,    193.8,2,   111.05,2,    31.95,2,     0.00,2,     2.22,2,   1.1437
  316N20060130,AAIW06,   206,  1,      4,      4,2,20060224, 614,-54.8143,-101.9007, 4629,   3519.0,   1.1770,  34.7173,2,  34.7189,2,    197.5,2,    197.4,2,   118.39,2,    32.15,2,     0.00,2,     2.23,2,   0.9168
  316N20060130,AAIW06,   206,  1,      3,      3,2,20060224, 614,-54.8143,-101.9007, 4629,   3773.8,   0.9351,  34.7126,2,  34.7145,0,    201.8,2,    202.0,2,   125.53,2,    32.28,2,     0.00,2,     2.24,2,   0.6555
  316N20060130,AAIW06,   206,  1,      2,      2,2,20060224, 614,-54.8143,-101.9007, 4629,   4178.3,   0.7418,  34.7091,2,  34.7092,2,    206.2,2,    205.7,2,   132.70,2,    32.48,2,     0.00,2,     2.25,2,   0.4253
  316N20060130,AAIW06,   206,  1,      1,      1,2,20060224, 614,-54.8143,-101.9007, 4629,   4598.6,   0.7470,  34.7080,2,  34.7096,2,    207.7,2,    207.8,2,   133.30,2,    32.53,2,     0.00,2,     2.25,2,   0.3843