BOTTLE,20081218PRINUNIVRMK
EXPOCODE,SECT_ID,STNNBR,CASTNO,SAMPNO,BTLNBR,BTLNBR_FLAG_W,DATE,TIME,LATITUDE,LONGITUDE,DEPTH,CTDPRS,CTDTMP,CTDSAL,CTDSAL_FLAG_W,SALNTY,SALNTY_FLAG_W,CTDOXY,CTDOXY_FLAG_W,OXYGEN,OXYGEN_FLAG_W,SILCAT,SILCAT_FLAG_W,NITRAT,NITRAT_FLAG_W,NITRIT,NITRIT_FLAG_W,PHSPHT,PHSPHT_FLAG_W,THETA
,,,,,,,,,,,METERS,DBARS,ITS-90,PSS-78,,PSS-78,,UMOL/KG,,UMOL/KG,,UMOL/KG,,UMOL/KG,,UMOL/KG,,UMOL/KG,,DEGC
  316N20060130,AAIW06,   166,  1,     36,     36,2,20060210,1937,-57.3255, -83.0463, 5243,      5.6,   7.8151,  34.0647,2,  34.0641,2,    291.3,2,    291.1,2,     0.97,2,    17.57,2,     0.22,2,     1.29,2,   7.8146
  316N20060130,AAIW06,   166,  1,     35,     35,2,20060210,1937,-57.3255, -83.0463, 5243,     18.1,   7.8175,  34.0642,2,  34.0623,2,    292.0,2,    292.1,2,     0.75,2,    17.57,2,     0.22,2,     1.29,2,   7.8157
  316N20060130,AAIW06,   166,  1,     34,     34,2,20060210,1937,-57.3255, -83.0463, 5243,     41.6,   7.8100,  34.0652,2,  34.0643,2,    292.0,2,    291.0,2,     0.73,2,    17.58,2,     0.22,2,     1.29,2,   7.8060
  316N20060130,AAIW06,   166,  1,     33,     33,2,20060210,1937,-57.3255, -83.0463, 5243,     82.3,   5.7899,  34.1448,2,  34.1435,2,    299.2,2,    299.7,2,     5.74,2,    19.27,2,     0.20,2,     1.46,2,   5.7831
  316N20060130,AAIW06,   166,  1,     32,     32,2,20060210,1937,-57.3255, -83.0463, 5243,    112.5,   5.4110,  34.1547,2,  34.1544,2,    295.4,2,    296.0,2,     6.32,2,    20.35,2,     0.30,2,     1.49,2,   5.4021
  316N20060130,AAIW06,   166,  1,     31,     31,2,20060210,1937,-57.3255, -83.0463, 5243,    142.8,   5.3010,  34.1497,2,  34.1485,2,    296.8,2,    297.3,2,     6.50,2,    20.82,2,     0.04,2,     1.50,2,   5.2897
  316N20060130,AAIW06,   166,  1,     30,     30,2,20060210,1937,-57.3255, -83.0463, 5243,    191.6,   5.2171,  34.1478,2,  34.1471,2,    298.3,2,    296.0,2,     6.48,2,    20.95,2,     0.01,2,     1.50,2,   5.2021
  316N20060130,AAIW06,   166,  1,     29,     29,2,20060210,1937,-57.3255, -83.0463, 5243,    241.3,   5.1239,  34.1437,2,-999.0000,9,    296.7,2,    294.6,2,     6.86,2,    21.21,2,     0.01,2,     1.52,2,   5.1050
  316N20060130,AAIW06,   166,  1,     28,     28,2,20060210,1937,-57.3255, -83.0463, 5243,    291.2,   5.1480,  34.1555,2,-999.0000,9,    295.2,2,    292.9,2,     7.25,2,    21.42,2,     0.01,2,     1.53,2,   5.1251
  316N20060130,AAIW06,   166,  1,     27,     27,2,20060210,1937,-57.3255, -83.0463, 5243,    340.2,   5.0556,  34.1494,2,-999.0000,9,    291.4,2,    293.5,2,     7.43,2,    21.57,2,     0.01,2,     1.54,2,   5.0289
  316N20060130,AAIW06,   166,  1,     26,     26,2,20060210,1937,-57.3255, -83.0463, 5243,    390.4,   4.9565,  34.1441,2,-999.0000,9,    285.7,2,    287.5,2,     8.42,2,    22.39,2,     0.01,2,     1.58,2,   4.9261
  316N20060130,AAIW06,   166,  1,     25,     25,2,20060210,1937,-57.3255, -83.0463, 5243,    439.4,   4.7333,  34.1266,2,-999.0000,9,    282.1,2,    282.7,2,     9.80,2,    23.36,2,     0.01,2,     1.65,2,   4.6997
  316N20060130,AAIW06,   166,  1,     24,     24,2,20060210,1937,-57.3255, -83.0463, 5243,    480.9,   4.6051,  34.1241,2,-999.0000,9,    280.2,2,    280.0,2,    10.79,2,    23.98,2,     0.01,2,     1.69,2,   4.5686
  316N20060130,AAIW06,   166,  1,     23,     23,2,20060210,1937,-57.3255, -83.0463, 5243,    525.8,   4.5880,  34.1506,2,-999.0000,9,    264.0,2,    266.2,2,    13.38,2,    25.46,2,     0.01,2,     1.76,2,   4.5480
  316N20060130,AAIW06,   166,  1,     22,     22,2,20060210,1937,-57.3255, -83.0463, 5243,    574.4,   4.5965,  34.1857,2,-999.0000,9,    250.0,2,    252.0,2,    16.57,2,    26.33,2,     0.00,2,     1.84,2,   4.5525
  316N20060130,AAIW06,   166,  1,     21,     21,9,20060210,1937,-57.3255, -83.0463, 5243,    674.4,   4.3450,  34.2408,2,-999.0000,9,   -999.0,9,   -999.0,9,  -999.00,9,  -999.00,9,  -999.00,9,  -999.00,9,   4.2941
  316N20060130,AAIW06,   166,  1,     20,     20,2,20060210,1937,-57.3255, -83.0463, 5243,    674.5,   4.3465,  34.2411,2,-999.0000,9,    229.0,2,    229.5,2,    24.00,2,    28.63,2,     0.00,2,     1.99,2,   4.2956
  316N20060130,AAIW06,   166,  1,     19,     19,2,20060210,1937,-57.3255, -83.0463, 5243,    775.7,   4.0048,  34.2760,2,-999.0000,9,    218.7,2,    217.0,2,    30.81,2,    30.22,2,     0.00,2,     2.11,2,   3.9477
  316N20060130,AAIW06,   166,  1,     18,     18,2,20060210,1937,-57.3255, -83.0463, 5243,    875.0,   3.5772,  34.3060,2,-999.0000,9,    211.4,2,    208.4,2,    38.22,2,    31.40,2,     0.00,2,     2.21,2,   3.5150
  316N20060130,AAIW06,   166,  1,     17,     17,2,20060210,1937,-57.3255, -83.0463, 5243,    974.3,   3.2480,  34.3420,2,-999.0000,9,    200.5,2,    200.2,2,    45.45,2,    32.37,2,     0.00,2,     2.27,2,   3.1804
  316N20060130,AAIW06,   166,  1,     16,     16,2,20060210,1937,-57.3255, -83.0463, 5243,   1075.2,   3.0100,  34.3832,2,-999.0000,9,    192.5,2,    191.6,2,    52.46,2,    33.14,2,     0.00,2,     2.33,2,   2.9365
  316N20060130,AAIW06,   166,  1,     15,     15,2,20060210,1937,-57.3255, -83.0463, 5243,   1175.6,   2.8473,  34.4242,2,-999.0000,9,    185.3,2,    184.7,2,    58.29,2,    33.66,2,     0.00,2,     2.36,2,   2.7674
  316N20060130,AAIW06,   166,  1,     14,     14,2,20060210,1937,-57.3255, -83.0463, 5243,   1375.5,   2.6112,  34.5103,2,-999.0000,9,    174.9,2,    174.7,2,    68.76,2,    33.81,2,     0.00,2,     2.38,2,   2.5179
  316N20060130,AAIW06,   166,  1,     13,     13,2,20060210,1937,-57.3255, -83.0463, 5243,   1569.0,   2.4530,  34.5843,2,-999.0000,9,    170.5,2,    170.6,2,    75.80,2,    33.61,2,     0.00,2,     2.37,2,   2.3459
  316N20060130,AAIW06,   166,  1,     12,     12,2,20060210,1937,-57.3255, -83.0463, 5243,   1869.7,   2.2609,  34.6638,2,-999.0000,9,    172.0,2,    172.5,2,    84.08,2,    32.58,2,     0.00,2,     2.30,2,   2.1314
  316N20060130,AAIW06,   166,  1,     11,     11,2,20060210,1937,-57.3255, -83.0463, 5243,   2226.8,   2.0344,  34.7097,2,-999.0000,9,    179.4,2,    179.3,2,    90.13,2,    31.72,2,     0.00,2,     2.23,2,   1.8777
  316N20060130,AAIW06,   166,  1,     10,     10,9,20060210,1937,-57.3255, -83.0463, 5243,   2640.7,   1.7053,  34.7200,2,-999.0000,9,   -999.0,9,   -999.0,9,  -999.00,9,  -999.00,9,  -999.00,9,  -999.00,9,   1.5175
  316N20060130,AAIW06,   166,  1,      9,      9,2,20060210,1937,-57.3255, -83.0463, 5243,   2649.1,   1.6977,  34.7207,2,  34.7201,2,    184.0,2,    184.0,2,   102.93,2,    31.82,2,     0.00,2,     2.23,2,   1.5093
  316N20060130,AAIW06,   166,  1,      8,      8,2,20060210,1937,-57.3255, -83.0463, 5243,   2833.9,   1.6058,  34.7237,2,  34.7237,2,    188.0,2,    188.0,2,   104.13,2,    31.67,2,     0.00,2,     2.22,2,   1.4021
  316N20060130,AAIW06,   166,  1,      7,      7,2,20060210,1937,-57.3255, -83.0463, 5243,   3117.3,   1.4622,  34.7247,2,  34.7249,2,    192.8,2,    192.4,2,   107.38,2,    31.52,2,     0.00,2,     2.22,2,   1.2347
  316N20060130,AAIW06,   166,  1,      6,      6,2,20060210,1937,-57.3255, -83.0463, 5243,   3422.7,   1.2596,  34.7204,2,  34.7206,2,    196.4,2,    196.2,2,   113.08,2,    31.68,2,     0.00,2,     2.23,2,   1.0070
  316N20060130,AAIW06,   166,  1,      5,      5,2,20060210,1937,-57.3255, -83.0463, 5243,   3727.8,   1.0313,  34.7151,2,  34.7143,2,    201.6,2,    201.3,2,   120.03,2,    31.78,2,     0.00,2,     2.24,2,   0.7538
  316N20060130,AAIW06,   166,  1,      4,      4,2,20060210,1937,-57.3255, -83.0463, 5243,   4032.5,   0.8269,  34.7105,2,  34.7090,2,    205.4,2,    205.1,2,   126.78,2,    31.93,2,     0.00,2,     2.25,2,   0.5234
  316N20060130,AAIW06,   166,  1,      3,      3,2,20060210,1937,-57.3255, -83.0463, 5243,   4438.4,   0.6401,  34.7071,2,  34.7067,2,    209.0,2,    208.7,2,   131.49,2,    32.20,2,     0.00,2,     2.26,2,   0.2986
  316N20060130,AAIW06,   166,  1,      2,      2,2,20060210,1937,-57.3255, -83.0463, 5243,   4943.4,   0.6339,  34.7062,2,  34.7056,2,    210.0,2,    209.7,2,   135.61,2,    32.20,2,     0.00,2,     2.26,2,   0.2355
  316N20060130,AAIW06,   166,  1,      1,      1,2,20060210,1937,-57.3255, -83.0463, 5243,   5374.5,   0.6645,  34.7053,2,  34.7058,2,    210.9,2,    211.0,2,   136.61,2,    32.20,2,     0.00,2,     2.26,2,   0.2137
  316N20060130,AAIW06,   167,  1,     36,     36,2,20060211, 414,-56.9995, -84.0225, 5121,      7.4,   8.0374,  34.0720,2,  34.0703,2,    288.4,2,    288.9,2,     0.81,2,    17.00,2,     0.23,2,     1.25,2,   8.0367
  316N20060130,AAIW06,   167,  1,     35,     35,2,20060211, 414,-56.9995, -84.0225, 5121,     27.4,   8.0387,  34.0718,2,  34.0709,2,    289.2,2,    288.3,2,     0.59,2,    16.95,2,     0.23,2,     1.25,2,   8.0360
  316N20060130,AAIW06,   167,  1,     34,     34,2,20060211, 414,-56.9995, -84.0225, 5121,     51.9,   8.0306,  34.0746,2,  34.0755,2,    289.5,2,    288.6,2,     0.78,2,    16.91,2,     0.22,2,     1.25,2,   8.0255
  316N20060130,AAIW06,   167,  1,     33,     33,2,20060211, 414,-56.9995, -84.0225, 5121,     76.2,   6.4807,  34.1444,2,  34.1429,2,    301.3,2,    294.9,2,     4.00,2,    18.42,2,     0.19,2,     1.45,2,   6.4740
  316N20060130,AAIW06,   167,  1,     32,     32,2,20060211, 414,-56.9995, -84.0225, 5121,    105.5,   5.5947,  34.1623,2,-999.0000,9,    297.7,2,    297.6,2,     6.20,2,    19.53,2,     0.42,2,     1.50,2,   5.5862
  316N20060130,AAIW06,   167,  1,     31,     31,2,20060211, 414,-56.9995, -84.0225, 5121,    157.6,   5.3806,  34.1612,2,-999.0000,9,    297.3,2,    298.8,2,     6.80,2,    20.03,2,     0.33,2,     1.50,2,   5.3681
  316N20060130,AAIW06,   167,  1,     30,     30,2,20060211, 414,-56.9995, -84.0225, 5121,    204.3,   5.3327,  34.1668,2,-999.0000,9,    295.2,2,    295.9,2,     6.57,2,    20.70,2,     0.12,2,     1.49,2,   5.3164
  316N20060130,AAIW06,   167,  1,     29,     29,2,20060211, 414,-56.9995, -84.0225, 5121,    255.3,   5.1944,  34.1517,2,-999.0000,9,    293.7,2,    294.7,2,     6.76,2,    21.23,2,     0.01,2,     1.52,2,   5.1743
  316N20060130,AAIW06,   167,  1,     28,     28,2,20060211, 414,-56.9995, -84.0225, 5121,    304.4,   5.1206,  34.1483,2,-999.0000,9,    293.4,2,    293.2,2,     7.15,2,    21.48,2,     0.01,2,     1.54,2,   5.0967
  316N20060130,AAIW06,   167,  1,     27,     27,2,20060211, 414,-56.9995, -84.0225, 5121,    354.7,   5.1127,  34.1561,2,-999.0000,9,    293.3,2,    290.2,2,     7.54,2,    21.79,2,     0.01,2,     1.55,2,   5.0847
  316N20060130,AAIW06,   167,  1,     26,     26,2,20060211, 414,-56.9995, -84.0225, 5121,    403.7,   4.9702,  34.1448,2,  34.1421,0,    289.7,2,    286.4,2,     8.53,2,    22.31,2,     0.01,2,     1.60,2,   4.9387
  316N20060130,AAIW06,   167,  1,     25,     25,2,20060211, 414,-56.9995, -84.0225, 5121,    499.9,   4.9922,  34.1913,2,-999.0000,9,    265.2,2,    261.1,2,    12.96,2,    24.73,2,     0.01,2,     1.75,2,   4.9527
  316N20060130,AAIW06,   167,  1,     24,     24,2,20060211, 414,-56.9995, -84.0225, 5121,    597.7,   4.7728,  34.2192,2,-999.0000,9,    247.3,2,    242.9,2,    17.58,2,    26.74,2,     0.00,2,     1.88,2,   4.7261
  316N20060130,AAIW06,   167,  1,     23,     23,2,20060211, 414,-56.9995, -84.0225, 5121,    694.5,   4.4359,  34.2401,2,-999.0000,9,    230.8,2,    229.7,2,    23.22,2,    28.55,2,     0.00,2,     1.99,2,   4.3829
  316N20060130,AAIW06,   167,  1,     22,     22,2,20060211, 414,-56.9995, -84.0225, 5121,    794.1,   4.0536,  34.2892,2,-999.0000,9,    217.9,2,    213.8,2,    31.48,2,    30.36,2,     0.00,2,     2.13,2,   3.9947
  316N20060130,AAIW06,   167,  1,     21,     21,9,20060211, 414,-56.9995, -84.0225, 5121,    794.6,   4.0553,  34.2887,2,-999.0000,9,   -999.0,9,   -999.0,9,  -999.00,9,  -999.00,9,  -999.00,9,  -999.00,9,   3.9963
  316N20060130,AAIW06,   167,  1,     20,     20,2,20060211, 414,-56.9995, -84.0225, 5121,    894.0,   3.6749,  34.3115,2,-999.0000,9,    208.1,2,    207.2,2,    37.52,2,    31.54,2,     0.00,2,     2.21,2,   3.6105
  316N20060130,AAIW06,   167,  1,     19,     19,2,20060211, 414,-56.9995, -84.0225, 5121,    993.5,   3.3214,  34.3419,2,-999.0000,9,    200.1,2,    199.6,2,    44.78,2,    32.16,2,     0.00,2,     2.28,2,   3.2518
  316N20060130,AAIW06,   167,  1,     18,     18,2,20060211, 414,-56.9995, -84.0225, 5121,   1092.9,   3.0874,  34.3837,2,-999.0000,9,    192.0,2,    191.1,2,    51.83,2,    33.20,2,     0.00,2,     2.34,2,   3.0119
  316N20060130,AAIW06,   167,  1,     17,     17,9,20060211, 414,-56.9995, -84.0225, 5121,   1190.5,   2.8936,  34.4276,2,-999.0000,9,   -999.0,9,   -999.0,9,  -999.00,9,  -999.00,9,  -999.00,9,  -999.00,9,   2.8121
  316N20060130,AAIW06,   167,  1,     16,     16,2,20060211, 414,-56.9995, -84.0225, 5121,   1190.7,   2.8947,  34.4272,2,-999.0000,9,    183.4,2,    183.0,2,    58.68,2,    33.72,2,     0.00,2,     2.38,2,   2.8132
  316N20060130,AAIW06,   167,  1,     15,     15,2,20060211, 414,-56.9995, -84.0225, 5121,   1289.2,   2.7608,  34.4698,2,-999.0000,9,    176.7,2,    176.3,2,    64.54,2,    34.08,2,     0.00,2,     2.40,2,   2.6728
  316N20060130,AAIW06,   167,  1,     14,     14,2,20060211, 414,-56.9995, -84.0225, 5121,   1383.9,   2.6001,  34.5085,2,-999.0000,9,    176.1,2,    175.2,2,    68.17,2,    33.92,2,     0.00,2,     2.39,2,   2.5063
  316N20060130,AAIW06,   167,  1,     13,     13,2,20060211, 414,-56.9995, -84.0225, 5121,   1481.3,   2.5172,  34.5484,2,-999.0000,9,    173.0,2,    172.5,2,    72.61,2,    33.87,2,     0.00,2,     2.39,2,   2.4165
  316N20060130,AAIW06,   167,  1,     12,     12,2,20060211, 414,-56.9995, -84.0225, 5121,   1682.3,   2.3846,  34.6136,2,-999.0000,9,    171.0,2,    171.1,2,    78.67,2,    33.35,2,     0.00,2,     2.36,2,   2.2691
  316N20060130,AAIW06,   167,  1,     11,     11,2,20060211, 414,-56.9995, -84.0225, 5121,   1883.3,   2.2524,  34.6660,2,-999.0000,9,    172.7,2,    172.8,2,    84.35,2,    32.73,2,     0.00,2,     2.31,2,   2.1219
  316N20060130,AAIW06,   167,  1,     10,     10,2,20060211, 414,-56.9995, -84.0225, 5121,   2178.7,   2.0730,  34.7056,2,  34.7052,2,    178.4,2,    178.6,2,    89.62,2,    31.95,2,     0.00,2,     2.25,2,   1.9198
  316N20060130,AAIW06,   167,  1,      9,      9,2,20060211, 414,-56.9995, -84.0225, 5121,   2476.6,   1.8201,  34.7220,2,  34.7210,2,    183.5,2,    183.9,2,    97.55,2,    31.70,2,     0.00,2,     2.23,2,   1.6450
  316N20060130,AAIW06,   167,  1,      8,      8,2,20060211, 414,-56.9995, -84.0225, 5121,   2776.6,   1.6200,  34.7233,2,  34.7229,2,    187.4,2,    187.5,2,   104.08,2,    31.75,2,     0.00,2,     2.23,2,   1.4214
  316N20060130,AAIW06,   167,  1,      7,      7,2,20060211, 414,-56.9995, -84.0225, 5121,   3078.6,   1.4506,  34.7234,2,  34.7233,2,    192.0,2,    192.0,2,   108.16,2,    31.74,2,     0.00,2,     2.23,2,   1.2271
  316N20060130,AAIW06,   167,  1,      6,      6,2,20060211, 414,-56.9995, -84.0225, 5121,   3379.9,   1.2696,  34.7210,2,  34.7285,0,    196.4,2,    196.6,2,   113.26,2,    31.75,2,     0.00,2,     2.24,2,   1.0210
  316N20060130,AAIW06,   167,  1,      5,      5,2,20060211, 414,-56.9995, -84.0225, 5121,   3686.8,   1.0605,  34.7160,2,  34.7152,2,    201.0,2,    201.0,2,   119.20,2,    31.80,2,     0.00,2,     2.24,2,   0.7864
  316N20060130,AAIW06,   167,  1,      4,      4,2,20060211, 414,-56.9995, -84.0225, 5121,   3988.3,   0.8741,  34.7114,2,  34.7098,2,    204.0,2,    204.8,2,   125.36,2,    32.01,2,     0.00,2,     2.26,2,   0.5739
  316N20060130,AAIW06,   167,  1,      3,      3,2,20060211, 414,-56.9995, -84.0225, 5121,   4395.3,   0.6552,  34.7074,2,  34.7059,2,    208.7,2,    208.4,2,   132.98,2,    32.26,2,     0.00,2,     2.28,2,   0.3179
  316N20060130,AAIW06,   167,  1,      2,      2,2,20060211, 414,-56.9995, -84.0225, 5121,   4816.6,   0.6293,  34.7061,2,  34.7055,2,    209.9,2,    248.2,4,   135.87,2,    32.37,2,     0.00,2,     2.28,2,   0.2457
  316N20060130,AAIW06,   167,  1,      1,      1,2,20060211, 414,-56.9995, -84.0225, 5121,   5331.1,   0.6689,  34.7054,2,  34.7048,2,    211.0,2,    305.6,4,   137.29,2,    32.32,2,     0.00,2,     2.28,2,   0.2232