BOTTLE,20081218PRINUNIVRMK
EXPOCODE,SECT_ID,STNNBR,CASTNO,SAMPNO,BTLNBR,BTLNBR_FLAG_W,DATE,TIME,LATITUDE,LONGITUDE,DEPTH,CTDPRS,CTDTMP,CTDSAL,CTDSAL_FLAG_W,SALNTY,SALNTY_FLAG_W,CTDOXY,CTDOXY_FLAG_W,OXYGEN,OXYGEN_FLAG_W,SILCAT,SILCAT_FLAG_W,NITRAT,NITRAT_FLAG_W,NITRIT,NITRIT_FLAG_W,PHSPHT,PHSPHT_FLAG_W,THETA
,,,,,,,,,,,METERS,DBARS,ITS-90,PSS-78,,PSS-78,,UMOL/KG,,UMOL/KG,,UMOL/KG,,UMOL/KG,,UMOL/KG,,UMOL/KG,,DEGC
  316N20060130,AAIW06,   185,  1,     36,     36,2,20060217,  23,-58.5322, -88.9552, 4863,      8.0,   6.5631,  33.9396,2,  33.9391,2,    294.8,2,    295.1,2,     0.57,2,    20.22,2,     0.21,2,     1.45,2,   6.5624
  316N20060130,AAIW06,   185,  1,     35,     35,2,20060217,  23,-58.5322, -88.9552, 4863,     28.3,   6.5634,  33.9391,2,  33.9393,2,    295.9,2,    295.0,2,     0.55,2,    20.23,2,     0.21,2,     1.44,2,   6.5609
  316N20060130,AAIW06,   185,  1,     34,     34,2,20060217,  23,-58.5322, -88.9552, 4863,     53.9,   6.5596,  33.9392,2,  33.9398,2,    295.9,2,    294.8,2,     0.53,2,    20.23,2,     0.21,2,     1.45,2,   6.5549
  316N20060130,AAIW06,   185,  1,     33,     33,2,20060217,  23,-58.5322, -88.9552, 4863,     73.7,   5.7103,  33.9576,2,  33.9551,2,    300.9,2,    302.0,2,     1.71,2,    20.88,2,     0.22,2,     1.55,2,   5.7043
  316N20060130,AAIW06,   185,  1,     32,     32,2,20060217,  23,-58.5322, -88.9552, 4863,     99.5,   4.0141,  34.0268,2,-999.0000,9,    305.4,2,    304.8,2,     8.29,2,    23.23,2,     0.40,2,     1.67,2,   4.0073
  316N20060130,AAIW06,   185,  1,     31,     31,2,20060217,  23,-58.5322, -88.9552, 4863,    153.9,   3.7214,  34.0152,2,-999.0000,9,    300.7,2,    301.7,2,     9.88,2,    24.24,2,     0.01,2,     1.70,2,   3.7112
  316N20060130,AAIW06,   185,  1,     30,     30,2,20060217,  23,-58.5322, -88.9552, 4863,    207.3,   3.5411,  34.0119,2,-999.0000,9,    300.4,2,    300.3,2,    10.86,2,    24.77,2,     0.01,2,     1.74,2,   3.5276
  316N20060130,AAIW06,   185,  1,     29,     29,2,20060217,  23,-58.5322, -88.9552, 4863,    256.4,   3.6658,  34.0506,2,-999.0000,9,    287.8,2,    286.6,2,    13.24,2,    25.75,2,     0.01,2,     1.80,2,   3.6487
  316N20060130,AAIW06,   185,  1,     28,     28,2,20060217,  23,-58.5322, -88.9552, 4863,    307.1,   3.4200,  34.0615,2,-999.0000,9,    279.2,2,    284.3,2,    15.82,2,    26.58,2,     0.00,2,     1.86,2,   3.4000
  316N20060130,AAIW06,   185,  1,     27,     27,2,20060217,  23,-58.5322, -88.9552, 4863,    357.3,   3.2659,  34.0871,2,-999.0000,9,    271.1,2,    275.9,2,    19.20,2,    27.67,2,     0.00,2,     1.93,2,   3.2430
  316N20060130,AAIW06,   185,  1,     26,     26,2,20060217,  23,-58.5322, -88.9552, 4863,    407.6,   3.2977,  34.1247,2,-999.0000,9,    261.7,2,    263.8,2,    21.99,2,    28.45,2,     0.00,2,     1.98,2,   3.2712
  316N20060130,AAIW06,   185,  1,     25,     25,2,20060217,  23,-58.5322, -88.9552, 4863,    448.5,   3.2740,  34.1595,2,-999.0000,9,    259.6,2,    250.9,2,    25.57,2,    29.38,2,     0.00,2,     2.04,2,   3.2448
  316N20060130,AAIW06,   185,  1,     24,     24,2,20060217,  23,-58.5322, -88.9552, 4863,    487.2,   3.2248,  34.1803,2,-999.0000,9,    233.9,2,    245.5,2,    27.94,2,    29.95,2,     0.00,2,     2.08,2,   3.1931
  316N20060130,AAIW06,   185,  1,     23,     23,2,20060217,  23,-58.5322, -88.9552, 4863,    525.9,   3.2818,  34.2175,2,-999.0000,9,    243.5,2,    232.9,2,    31.53,2,    30.78,2,     0.00,2,     2.14,2,   3.2471
  316N20060130,AAIW06,   185,  1,     22,     22,2,20060217,  23,-58.5322, -88.9552, 4863,    607.1,   3.0992,  34.2532,2,-999.0000,9,    223.5,2,    222.5,2,    37.31,2,    31.76,2,     0.00,2,     2.20,2,   3.0596
  316N20060130,AAIW06,   185,  1,     21,     21,9,20060217,  23,-58.5322, -88.9552, 4863,    707.7,   3.0170,  34.3219,2,-999.0000,9,   -999.0,9,   -999.0,9,  -999.00,9,  -999.00,9,  -999.00,9,  -999.00,9,   2.9707
  316N20060130,AAIW06,   185,  1,     20,     20,2,20060217,  23,-58.5322, -88.9552, 4863,    708.0,   3.0208,  34.3237,2,-999.0000,9,    202.6,2,    203.6,2,    45.49,2,    32.91,2,     0.00,2,     2.31,2,   2.9745
  316N20060130,AAIW06,   185,  1,     19,     19,2,20060217,  23,-58.5322, -88.9552, 4863,    806.5,   2.8867,  34.3816,2,-999.0000,9,    191.3,2,    191.3,2,    52.89,2,    33.64,2,     0.00,2,     2.36,2,   2.8341
  316N20060130,AAIW06,   185,  1,     18,     18,2,20060217,  23,-58.5322, -88.9552, 4863,    907.0,   2.7343,  34.4375,2,-999.0000,9,    184.1,2,    182.3,2,    60.28,2,    34.05,2,     0.00,2,     2.40,2,   2.6754
  316N20060130,AAIW06,   185,  1,     17,     17,2,20060217,  23,-58.5322, -88.9552, 4863,   1007.7,   2.6129,  34.4889,2,-999.0000,9,    177.7,2,    176.9,2,    66.09,2,    34.20,2,     0.00,2,     2.40,2,   2.5475
  316N20060130,AAIW06,   185,  1,     16,     16,2,20060217,  23,-58.5322, -88.9552, 4863,   1107.8,   2.5097,  34.5326,2,-999.0000,9,    174.2,2,    173.8,2,    70.69,2,    34.05,2,     0.00,2,     2.40,2,   2.4377
  316N20060130,AAIW06,   185,  1,     15,     15,2,20060217,  23,-58.5322, -88.9552, 4863,   1204.8,   2.4322,  34.5709,2,-999.0000,9,    172.2,2,    172.1,2,    74.30,2,    33.84,2,     0.00,2,     2.38,2,   2.3536
  316N20060130,AAIW06,   185,  1,     14,     14,2,20060217,  23,-58.5322, -88.9552, 4863,   1299.7,   2.3660,  34.6030,2,-999.0000,9,    171.9,2,    171.6,2,    76.89,2,    33.58,2,     0.00,2,     2.35,2,   2.2809
  316N20060130,AAIW06,   185,  1,     13,     13,2,20060217,  23,-58.5322, -88.9552, 4863,   1392.1,   2.3212,  34.6252,2,-999.0000,9,    172.2,2,    172.2,2,    78.68,2,    33.32,2,     0.00,2,     2.33,2,   2.2294
  316N20060130,AAIW06,   185,  1,     12,     12,2,20060217,  23,-58.5322, -88.9552, 4863,   1479.7,   2.2799,  34.6466,2,-999.0000,9,    172.9,2,    173.2,2,    80.28,2,    33.02,2,     0.00,2,     2.31,2,   2.1818
  316N20060130,AAIW06,   185,  1,     11,     11,2,20060217,  23,-58.5322, -88.9552, 4863,   1564.8,   2.2328,  34.6670,2,-999.0000,9,    173.8,2,    174.4,2,    82.89,2,    32.64,2,     0.00,2,     2.29,2,   2.1285
  316N20060130,AAIW06,   185,  1,     10,     10,2,20060217,  23,-58.5322, -88.9552, 4863,   1766.1,   2.1171,  34.6962,2,-999.0000,9,    177.8,2,    177.9,2,    86.30,2,    32.13,2,     0.00,2,     2.26,2,   1.9981
  316N20060130,AAIW06,   185,  1,      9,      9,2,20060217,  23,-58.5322, -88.9552, 4863,   1964.7,   1.9725,  34.7148,2,-999.0000,9,    181.8,2,    182.3,2,    90.71,2,    31.82,2,     0.00,2,     2.23,2,   1.8391
  316N20060130,AAIW06,   185,  1,      8,      8,2,20060217,  23,-58.5322, -88.9552, 4863,   2252.4,   1.7274,  34.7212,2,  34.7231,2,    184.3,2,    185.3,2,    99.81,2,    31.77,2,     0.00,2,     2.24,2,   1.5736
  316N20060130,AAIW06,   185,  1,      7,      7,2,20060217,  23,-58.5322, -88.9552, 4863,   2526.3,   1.5348,  34.7237,2,  34.7252,2,    189.8,2,    190.0,2,   105.07,2,    31.77,2,     0.00,2,     2.23,2,   1.3605
  316N20060130,AAIW06,   185,  1,      6,      6,2,20060217,  23,-58.5322, -88.9552, 4863,   2806.9,   1.3771,  34.7227,2,  34.7243,2,    193.8,2,    193.5,2,   109.32,2,    31.77,2,     0.00,2,     2.24,2,   1.1807
  316N20060130,AAIW06,   185,  1,      5,      5,2,20060217,  23,-58.5322, -88.9552, 4863,   3199.4,   1.1443,  34.7184,2,  34.7207,0,    199.5,2,    199.3,2,   115.82,2,    31.82,2,     0.00,2,     2.24,2,   0.9163
  316N20060130,AAIW06,   185,  1,      4,      4,2,20060217,  23,-58.5322, -88.9552, 4863,   3606.3,   0.8652,  34.7113,2,  34.7125,2,    204.5,2,    204.2,2,   124.79,2,    32.03,2,     0.00,2,     2.24,2,   0.6044
  316N20060130,AAIW06,   185,  1,      3,      3,2,20060217,  23,-58.5322, -88.9552, 4863,   3999.7,   0.6041,  34.7065,2,  34.7070,2,    209.2,2,    209.1,2,   133.39,2,    32.40,2,     0.00,2,     2.27,2,   0.3104
  316N20060130,AAIW06,   185,  1,      2,      2,2,20060217,  23,-58.5322, -88.9552, 4863,   4407.6,   0.5632,  34.7056,2,  34.7062,2,    210.7,2,    210.5,2,   136.04,2,    32.45,2,     0.00,2,     2.27,2,   0.2274
  316N20060130,AAIW06,   185,  1,      1,      1,2,20060217,  23,-58.5322, -88.9552, 4863,   4850.5,   0.5943,  34.7053,2,  34.7068,0,    211.0,2,    211.2,2,   136.85,2,    32.45,2,     0.00,2,     2.27,2,   0.2080
  316N20060130,AAIW06,   186,  1,     36,     36,2,20060217, 731,-58.0248, -88.9962, 4871,      3.7,   7.1836,  34.0315,2,  34.0316,2,    291.1,2,    291.5,2,     1.59,2,    19.01,2,     0.21,2,     1.41,2,   7.1833
  316N20060130,AAIW06,   186,  1,     35,     35,2,20060217, 731,-58.0248, -88.9962, 4871,     20.1,   7.1873,  34.0314,2,  34.0329,2,    292.2,2,    291.8,2,     1.58,2,    19.07,2,     0.21,2,     1.41,2,   7.1854
  316N20060130,AAIW06,   186,  1,     34,     34,2,20060217, 731,-58.0248, -88.9962, 4871,     45.3,   7.1876,  34.0312,2,  34.0330,2,    292.6,2,    290.9,2,     1.57,2,    19.01,2,     0.21,2,     1.40,2,   7.1834
  316N20060130,AAIW06,   186,  1,     33,     33,2,20060217, 731,-58.0248, -88.9962, 4871,     72.2,   7.1834,  34.0313,2,  34.0334,2,    292.8,2,    291.1,2,     1.55,2,    19.01,2,     0.21,2,     1.38,2,   7.1767
  316N20060130,AAIW06,   186,  1,     32,     32,9,20060217, 731,-58.0248, -88.9962, 4871,     98.7,   5.3077,  34.1121,2,-999.0000,9,   -999.0,9,   -999.0,9,  -999.00,9,  -999.00,9,  -999.00,9,  -999.00,9,   5.3000
  316N20060130,AAIW06,   186,  1,     31,     31,2,20060217, 731,-58.0248, -88.9962, 4871,    133.4,   5.0423,  34.1276,2,-999.0000,9,    296.2,2,    296.4,2,     7.12,2,    21.79,2,     0.04,2,     1.55,2,   5.0321
  316N20060130,AAIW06,   186,  1,     30,     30,2,20060217, 731,-58.0248, -88.9962, 4871,    178.0,   4.7993,  34.1099,2,-999.0000,9,    292.1,2,    294.8,2,     7.90,2,    22.44,2,     0.01,2,     1.57,2,   4.7859
  316N20060130,AAIW06,   186,  1,     29,     29,2,20060217, 731,-58.0248, -88.9962, 4871,    227.3,   4.5574,  34.0928,2,-999.0000,9,    288.2,2,    293.9,2,     8.88,2,    23.05,2,     0.01,2,     1.61,2,   4.5407
  316N20060130,AAIW06,   186,  1,     28,     28,2,20060217, 731,-58.0248, -88.9962, 4871,    278.2,   4.3874,  34.0875,2,-999.0000,9,    287.3,2,    290.9,2,     9.86,2,    23.57,2,     0.01,2,     1.65,2,   4.3672
  316N20060130,AAIW06,   186,  1,     27,     27,2,20060217, 731,-58.0248, -88.9962, 4871,    327.9,   4.2800,  34.0920,2,-999.0000,9,    285.7,2,    285.5,2,    11.24,2,    24.33,2,     0.00,2,     1.71,2,   4.2564
  316N20060130,AAIW06,   186,  1,     26,     26,2,20060217, 731,-58.0248, -88.9962, 4871,    377.3,   3.9880,  34.0776,2,  34.0767,2,    283.0,2,    284.9,2,    12.61,2,    25.00,2,     0.01,2,     1.75,2,   3.9615
  316N20060130,AAIW06,   186,  1,     25,     25,2,20060217, 731,-58.0248, -88.9962, 4871,    427.0,   4.1526,  34.1285,2,-999.0000,9,    270.2,2,    262.5,2,    16.18,2,    26.39,2,     0.00,2,     1.84,2,   4.1219
  316N20060130,AAIW06,   186,  1,     24,     24,2,20060217, 731,-58.0248, -88.9962, 4871,    474.9,   3.8930,  34.1408,2,-999.0000,9,    259.5,2,    257.8,2,    19.15,2,    27.37,2,     0.00,2,     1.90,2,   3.8597
  316N20060130,AAIW06,   186,  1,     23,     23,2,20060217, 731,-58.0248, -88.9962, 4871,    525.5,   4.0169,  34.2039,2,-999.0000,9,    242.9,2,    238.1,2,    23.71,2,    28.75,2,     0.00,2,     2.00,2,   3.9792
  316N20060130,AAIW06,   186,  1,     22,     22,2,20060217, 731,-58.0248, -88.9962, 4871,    644.4,   3.7375,  34.2750,2,-999.0000,9,    215.4,2,    216.7,2,    33.24,2,    30.82,2,     0.00,2,     2.14,2,   3.6920
  316N20060130,AAIW06,   186,  1,     21,     21,9,20060217, 731,-58.0248, -88.9962, 4871,    645.1,   3.7351,  34.2748,2,-999.0000,9,   -999.0,9,   -999.0,9,  -999.00,9,  -999.00,9,  -999.00,9,  -999.00,9,   3.6896
  316N20060130,AAIW06,   186,  1,     20,     20,2,20060217, 731,-58.0248, -88.9962, 4871,    745.5,   3.4596,  34.3172,2,-999.0000,9,    206.8,2,    205.3,2,    40.38,2,    31.84,2,     0.00,2,     2.22,2,   3.4080
  316N20060130,AAIW06,   186,  1,     19,     19,2,20060217, 731,-58.0248, -88.9962, 4871,    845.6,   3.0999,  34.3463,2,-999.0000,9,    199.3,2,    197.8,2,    47.13,2,    32.87,2,     0.00,2,     2.29,2,   3.0431
  316N20060130,AAIW06,   186,  1,     18,     18,2,20060217, 731,-58.0248, -88.9962, 4871,    946.0,   2.7896,  34.3892,2,-999.0000,9,    191.3,2,    189.9,2,    54.88,2,    33.64,2,     0.00,2,     2.36,2,   2.7275
  316N20060130,AAIW06,   186,  1,     17,     17,2,20060217, 731,-58.0248, -88.9962, 4871,   1047.0,   2.6966,  34.4423,2,-999.0000,9,    181.2,2,    182.0,2,    61.43,2,    33.95,2,     0.00,2,     2.37,2,   2.6277
  316N20060130,AAIW06,   186,  1,     16,     16,2,20060217, 731,-58.0248, -88.9962, 4871,   1146.2,   2.5960,  34.4910,2,-999.0000,9,    176.0,2,    176.6,2,    66.39,2,    33.74,2,     0.00,2,     2.40,2,   2.5205
  316N20060130,AAIW06,   186,  1,     15,     15,2,20060217, 731,-58.0248, -88.9962, 4871,   1247.2,   2.5066,  34.5347,2,-999.0000,9,    173.6,2,    173.9,2,    70.96,2,    33.90,2,     0.00,2,     2.39,2,   2.4242
  316N20060130,AAIW06,   186,  1,     14,     14,2,20060217, 731,-58.0248, -88.9962, 4871,   1348.3,   2.4604,  34.5760,2,-999.0000,9,    170.8,2,    171.1,2,    75.12,2,    33.59,2,     0.00,2,     2.39,2,   2.3707
  316N20060130,AAIW06,   186,  1,     13,     13,2,20060217, 731,-58.0248, -88.9962, 4871,   1449.0,   2.3897,  34.6086,2,-999.0000,9,    170.3,2,    170.2,2,    78.30,2,    33.38,2,     0.00,2,     2.37,2,   2.2928
  316N20060130,AAIW06,   186,  1,     12,     12,2,20060217, 731,-58.0248, -88.9962, 4871,   1548.3,   2.3242,  34.6370,2,-999.0000,9,    169.7,2,    170.5,2,    81.86,2,    33.12,2,     0.00,2,     2.34,2,   2.2202
  316N20060130,AAIW06,   186,  1,     11,     11,2,20060217, 731,-58.0248, -88.9962, 4871,   1745.7,   2.2114,  34.6766,2,-999.0000,9,    174.9,2,    175.1,2,    83.24,2,    32.35,2,     0.00,2,     2.29,2,   2.0928
  316N20060130,AAIW06,   186,  1,     10,     10,3,20060217, 731,-58.0248, -88.9962, 4871,   1943.0,   2.0874,  34.7020,2,-999.0000,9,    179.2,2,    236.3,4,    24.85,4,    28.90,4,     0.00,4,     2.02,4,   1.9542
  316N20060130,AAIW06,   186,  1,      9,      9,2,20060217, 731,-58.0248, -88.9962, 4871,   2154.7,   1.9338,  34.7161,2,-999.0000,9,    182.2,2,    182.2,2,    92.40,2,    31.69,2,     0.00,2,     2.25,2,   1.7850
  316N20060130,AAIW06,   186,  1,      8,      8,2,20060217, 731,-58.0248, -88.9962, 4871,   2457.7,   1.6982,  34.7225,2,  34.7250,0,    186.3,2,    186.1,2,   100.40,2,    31.69,2,     0.00,2,     2.24,2,   1.5270
  316N20060130,AAIW06,   186,  1,      7,      7,2,20060217, 731,-58.0248, -88.9962, 4871,   2759.9,   1.5103,  34.7247,2,  34.7270,0,    191.4,2,    191.0,2,   105.00,2,    31.53,2,     0.00,2,     2.23,2,   1.3155
  316N20060130,AAIW06,   186,  1,      6,      6,2,20060217, 731,-58.0248, -88.9962, 4871,   3064.4,   1.3397,  34.7220,2,  34.7244,0,    195.0,2,    195.1,2,   111.02,2,    31.64,2,     0.00,2,     2.25,2,   1.1201
  316N20060130,AAIW06,   186,  1,      5,      5,2,20060217, 731,-58.0248, -88.9962, 4871,   3369.6,   1.1524,  34.7181,2,  34.7199,0,    199.4,2,    199.1,2,   115.22,2,    31.73,2,     0.00,2,     2.25,2,   0.9077
  316N20060130,AAIW06,   186,  1,      4,      4,2,20060217, 731,-58.0248, -88.9962, 4871,   3723.9,   0.9052,  34.7118,2,  34.7137,0,    203.7,2,    203.9,2,   123.10,2,    31.94,2,     0.00,2,     2.25,2,   0.6315
  316N20060130,AAIW06,   186,  1,      3,      3,2,20060217, 731,-58.0248, -88.9962, 4871,   4125.9,   0.6697,  34.7072,2,  34.7082,0,    208.3,2,    208.4,2,   130.16,2,    32.10,2,     0.00,2,     2.27,2,   0.3609
  316N20060130,AAIW06,   186,  1,      2,      2,2,20060217, 731,-58.0248, -88.9962, 4871,   4531.3,   0.5787,  34.7056,2,  34.7057,0,    210.3,2,    210.7,2,   134.41,2,    32.25,2,     0.00,2,     2.28,2,   0.2289
  316N20060130,AAIW06,   186,  1,      1,      1,2,20060217, 731,-58.0248, -88.9962, 4871,   4967.4,   0.5881,  34.7045,2,  34.7061,0,    211.4,2,    211.4,2,   136.40,2,    32.25,2,     0.00,2,     2.28,2,   0.1885