BOTTLE,20081218PRINUNIVRMK
EXPOCODE,SECT_ID,STNNBR,CASTNO,SAMPNO,BTLNBR,BTLNBR_FLAG_W,DATE,TIME,LATITUDE,LONGITUDE,DEPTH,CTDPRS,CTDTMP,CTDSAL,CTDSAL_FLAG_W,SALNTY,SALNTY_FLAG_W,CTDOXY,CTDOXY_FLAG_W,OXYGEN,OXYGEN_FLAG_W,SILCAT,SILCAT_FLAG_W,NITRAT,NITRAT_FLAG_W,NITRIT,NITRIT_FLAG_W,PHSPHT,PHSPHT_FLAG_W,THETA
,,,,,,,,,,,METERS,DBARS,ITS-90,PSS-78,,PSS-78,,UMOL/KG,,UMOL/KG,,UMOL/KG,,UMOL/KG,,UMOL/KG,,UMOL/KG,,DEGC
  316N20060130,AAIW06,   144,  1,     34,     34,2,20060203, 717,-56.6688, -76.2095, 4454,      6.4,   8.0629,  34.0840,2,  34.0824,2,    292.2,2,    291.8,2,     0.00,2,    17.12,2,     0.21,2,     1.19,2,   8.0623
  316N20060130,AAIW06,   144,  1,     35,     35,9,20060203, 717,-56.6688, -76.2095, 4454,      7.1,   8.0631,  34.0843,2,-999.0000,9,   -999.0,9,   -999.0,9,  -999.00,9,  -999.00,9,  -999.00,9,  -999.00,9,   8.0624
  316N20060130,AAIW06,   144,  1,     33,     33,2,20060203, 717,-56.6688, -76.2095, 4454,     28.0,   7.9965,  34.0833,2,  34.0830,2,    293.1,2,    292.5,2,     0.00,2,    17.12,2,     0.21,2,     1.20,2,   7.9937
  316N20060130,AAIW06,   144,  1,     32,     32,2,20060203, 717,-56.6688, -76.2095, 4454,     53.2,   7.8205,  34.0838,2,  34.0879,2,    293.3,2,    294.2,2,     0.00,2,    17.47,2,     0.20,2,     1.24,2,   7.8153
  316N20060130,AAIW06,   144,  1,     31,     31,2,20060203, 717,-56.6688, -76.2095, 4454,     77.3,   5.5970,  34.1321,2,  34.1310,2,    301.5,2,    301.3,2,     5.10,2,    19.67,2,     0.19,2,     1.49,2,   5.5908
  316N20060130,AAIW06,   144,  1,     30,     30,2,20060203, 717,-56.6688, -76.2095, 4454,     96.9,   5.3362,  34.1378,2,  34.1367,2,    300.1,2,    300.7,2,     5.69,2,    20.05,2,     0.30,2,     1.50,2,   5.3286
  316N20060130,AAIW06,   144,  1,     29,     29,2,20060203, 717,-56.6688, -76.2095, 4454,    132.8,   5.1303,  34.1461,2,  34.1453,2,    299.3,2,    299.1,2,     5.86,2,    20.84,2,     0.27,2,     1.51,2,   5.1200
  316N20060130,AAIW06,   144,  1,     28,     28,2,20060203, 717,-56.6688, -76.2095, 4454,    177.8,   5.0354,  34.1415,2,  34.1402,2,    299.6,2,    298.9,2,     5.84,2,    21.38,2,     0.02,2,     1.51,2,   5.0217
  316N20060130,AAIW06,   144,  1,     27,     27,2,20060203, 717,-56.6688, -76.2095, 4454,    237.0,   5.0073,  34.1453,2,  34.1445,2,    294.8,2,    297.9,2,     6.02,2,    21.43,2,     0.01,2,     1.51,2,   4.9890
  316N20060130,AAIW06,   144,  1,     26,     26,2,20060203, 717,-56.6688, -76.2095, 4454,    295.6,   5.0229,  34.1557,2,  34.1559,2,    295.6,2,    294.2,2,     6.40,2,    21.59,2,     0.01,2,     1.53,2,   4.9999
  316N20060130,AAIW06,   144,  1,     25,     25,2,20060203, 717,-56.6688, -76.2095, 4454,    356.6,   4.8413,  34.1365,2,  34.1353,2,    296.8,2,    296.3,2,     6.59,2,    21.88,2,     0.01,2,     1.54,2,   4.8139
  316N20060130,AAIW06,   144,  1,     24,     24,2,20060203, 717,-56.6688, -76.2095, 4454,    415.8,   4.7726,  34.1322,2,  34.1306,2,    293.1,2,    293.8,2,     6.97,2,    22.28,2,     0.01,2,     1.57,2,   4.7407
  316N20060130,AAIW06,   144,  1,     23,     23,2,20060203, 717,-56.6688, -76.2095, 4454,    476.6,   4.9172,  34.1710,2,  34.1671,2,    281.8,2,    278.4,2,     9.34,2,    23.52,2,     0.00,2,     1.65,2,   4.8799
  316N20060130,AAIW06,   144,  1,     22,     22,2,20060203, 717,-56.6688, -76.2095, 4454,    526.9,   4.8474,  34.1768,2,  34.1749,2,    267.2,2,    269.9,2,    10.92,2,    24.52,2,     0.00,2,     1.71,2,   4.8062
  316N20060130,AAIW06,   144,  1,     21,     21,2,20060203, 717,-56.6688, -76.2095, 4454,    645.9,   4.4741,  34.1991,2,  34.1977,2,    245.7,2,    246.9,2,    17.49,2,    27.17,2,     0.00,2,     1.89,2,   4.4249
  316N20060130,AAIW06,   144,  1,     20,     20,2,20060203, 717,-56.6688, -76.2095, 4454,    746.9,   4.2787,  34.2557,2,  34.2549,2,    227.0,2,    224.8,2,    24.66,2,    29.41,2,     0.00,2,     2.04,2,   4.2223
  316N20060130,AAIW06,   144,  1,     19,     19,2,20060203, 717,-56.6688, -76.2095, 4454,    846.3,   3.8037,  34.2670,2,  34.2667,2,    219.5,2,    219.8,2,    30.82,2,    30.52,2,     0.00,2,     2.13,2,   3.7423
  316N20060130,AAIW06,   144,  1,     18,     18,2,20060203, 717,-56.6688, -76.2095, 4454,    945.8,   3.5683,  34.3158,2,  34.3154,2,    206.0,2,    205.3,2,    38.39,2,    31.87,2,     0.00,2,     2.23,2,   3.5006
  316N20060130,AAIW06,   144,  1,     17,     17,2,20060203, 717,-56.6688, -76.2095, 4454,   1046.8,   3.2558,  34.3500,2,  34.3521,2,    197.9,2,    197.8,2,    45.76,2,    32.71,2,     0.00,2,     2.29,2,   3.1825
  316N20060130,AAIW06,   144,  1,     16,     16,2,20060203, 717,-56.6688, -76.2095, 4454,   1146.1,   3.0187,  34.3910,2,  34.3897,2,    190.2,2,    190.2,2,    52.53,2,    33.31,2,     0.00,2,     2.34,2,   2.9396
  316N20060130,AAIW06,   144,  1,     15,     15,2,20060203, 717,-56.6688, -76.2095, 4454,   1246.4,   2.8318,  34.4376,2,  34.4363,2,    183.1,2,    182.8,2,    59.31,2,    33.75,2,     0.00,2,     2.36,2,   2.7465
  316N20060130,AAIW06,   144,  1,     14,     14,2,20060203, 717,-56.6688, -76.2095, 4454,   1346.5,   2.6968,  34.4825,2,  34.4818,2,    178.1,2,    238.5,4,    65.30,2,    34.00,2,     0.00,2,     2.38,2,   2.6049
  316N20060130,AAIW06,   144,  1,     13,     13,2,20060203, 717,-56.6688, -76.2095, 4454,   1446.0,   2.5998,  34.5248,2,  34.5244,2,    172.4,2,    171.5,2,    70.48,2,    34.14,2,     0.00,2,     2.39,2,   2.5010
  316N20060130,AAIW06,   144,  1,     12,     12,2,20060203, 717,-56.6688, -76.2095, 4454,   1546.5,   2.5118,  34.5570,2,  34.5564,2,    170.5,2,    170.6,2,    73.67,2,    34.04,2,     0.00,2,     2.37,2,   2.4059
  316N20060130,AAIW06,   144,  1,     11,     11,2,20060203, 717,-56.6688, -76.2095, 4454,   1646.5,   2.4323,  34.5917,2,  34.5924,2,    170.7,2,    170.6,2,    76.25,2,    33.63,2,     0.00,2,     2.35,2,   2.3192
  316N20060130,AAIW06,   144,  1,     10,     10,3,20060203, 717,-56.6688, -76.2095, 4454,   1746.8,   2.3648,  34.6214,2,  34.3515,0,    170.0,2,   -999.0,9,    45.59,4,    32.67,4,     0.00,4,     2.29,4,   2.2442
  316N20060130,AAIW06,   144,  1,      9,      9,2,20060203, 717,-56.6688, -76.2095, 4454,   1945.0,   2.2467,  34.6670,2,  34.6676,2,    173.0,2,    173.2,2,    82.63,2,    32.41,2,     0.00,2,     2.29,2,   2.1111
  316N20060130,AAIW06,   144,  1,      8,      8,2,20060203, 717,-56.6688, -76.2095, 4454,   2205.2,   2.0632,  34.6975,2,  34.6987,2,    174.0,2,    174.4,2,    91.87,2,    32.41,2,     0.00,2,     2.27,2,   1.9079
  316N20060130,AAIW06,   144,  1,      7,      7,2,20060203, 717,-56.6688, -76.2095, 4454,   2509.5,   1.8593,  34.7154,2,  34.7111,0,    179.5,2,    180.0,2,    96.08,2,    32.06,2,     0.00,2,     2.25,2,   1.6805
  316N20060130,AAIW06,   144,  1,      6,      6,2,20060203, 717,-56.6688, -76.2095, 4454,   2810.4,   1.6660,  34.7200,2,  34.7217,2,    185.3,2,    185.0,2,   103.73,2,    31.91,2,     0.00,2,     2.24,2,   1.4633
  316N20060130,AAIW06,   144,  1,      5,      5,2,20060203, 717,-56.6688, -76.2095, 4454,   3107.4,   1.4996,  34.7244,2,  34.7260,2,    191.3,2,    191.6,2,   106.54,2,    31.70,2,     0.00,2,     2.21,2,   1.2722
  316N20060130,AAIW06,   144,  1,      4,      4,2,20060203, 717,-56.6688, -76.2095, 4454,   3450.5,   1.2658,  34.7216,2,  34.7217,2,    197.1,2,    197.1,2,   112.19,2,    31.75,2,     0.00,2,     2.22,2,   1.0103
  316N20060130,AAIW06,   144,  1,      3,      3,2,20060203, 717,-56.6688, -76.2095, 4454,   3863.3,   0.9652,  34.7133,2,  34.7132,2,    203.1,2,    202.4,2,   121.11,2,    32.04,2,     0.00,2,     2.23,2,   0.6755
  316N20060130,AAIW06,   144,  1,      2,      2,2,20060203, 717,-56.6688, -76.2095, 4454,   4268.6,   0.7121,  34.7083,2,  34.7073,2,    207.7,2,    207.7,2,   129.65,2,    32.24,2,     0.00,2,     2.26,2,   0.3868
  316N20060130,AAIW06,   144,  1,      1,      1,2,20060203, 717,-56.6688, -76.2095, 4454,   4676.1,   0.6719,  34.7066,2,  34.7071,2,    209.5,2,    209.6,2,   131.26,4,    32.34,2,     0.00,2,     2.26,2,   0.3029
  316N20060130,AAIW06,   145,  1,     36,     36,2,20060203,1409,-56.9930, -77.0048, 4763,      4.0,   7.9158,  34.0841,2,  34.0827,2,    292.2,2,    292.2,2,     0.00,2,    17.37,2,     0.22,2,     1.25,2,   7.9154
  316N20060130,AAIW06,   145,  1,     34,     34,2,20060203,1409,-56.9930, -77.0048, 4763,     24.3,   7.9115,  34.0858,2,-999.0000,9,   -999.0,9,   -999.0,9,  -999.00,9,  -999.00,9,  -999.00,9,  -999.00,9,   7.9091
  316N20060130,AAIW06,   145,  1,     33,     33,2,20060203,1409,-56.9930, -77.0048, 4763,     24.3,   7.9118,  34.0855,2,  34.0848,2,    293.3,2,    292.2,2,     0.00,2,    17.37,2,     0.22,2,     1.25,2,   7.9094
  316N20060130,AAIW06,   145,  1,     35,     35,2,20060203,1409,-56.9930, -77.0048, 4763,     24.6,   7.9119,  34.0859,2,-999.0000,9,   -999.0,9,   -999.0,9,  -999.00,9,  -999.00,9,  -999.00,9,  -999.00,9,   7.9095
  316N20060130,AAIW06,   145,  1,     32,     32,2,20060203,1409,-56.9930, -77.0048, 4763,     49.3,   7.9048,  34.0851,2,  34.0786,2,    293.7,2,    293.5,2,     0.00,2,    17.37,2,     0.22,2,     1.25,2,   7.9000
  316N20060130,AAIW06,   145,  1,     31,     31,2,20060203,1409,-56.9930, -77.0048, 4763,     74.4,   6.0008,  34.1141,2,  34.1140,2,    301.8,2,    301.9,2,     1.95,2,    19.55,2,     0.19,2,     1.52,2,   5.9946
  316N20060130,AAIW06,   145,  1,     30,     30,2,20060203,1409,-56.9930, -77.0048, 4763,    124.3,   5.1508,  34.1370,2,  34.1362,2,    296.3,2,    297.6,2,     5.56,2,    21.27,2,     0.12,2,     1.52,2,   5.1412
  316N20060130,AAIW06,   145,  1,     29,     29,2,20060203,1409,-56.9930, -77.0048, 4763,    193.5,   5.1469,  34.1540,2,  34.1525,2,    297.8,2,    295.1,2,     5.95,2,    21.52,2,     0.01,2,     1.52,2,   5.1318
  316N20060130,AAIW06,   145,  1,     28,     28,2,20060203,1409,-56.9930, -77.0048, 4763,    241.9,   4.9780,  34.1347,2,  34.1335,2,    299.2,2,    299.9,2,     5.93,2,    21.68,2,     0.01,2,     1.53,2,   4.9594
  316N20060130,AAIW06,   145,  1,     27,     27,2,20060203,1409,-56.9930, -77.0048, 4763,    292.4,   4.9892,  34.1420,2,  34.1421,2,    292.9,2,    295.1,2,     6.32,2,    21.98,2,     0.01,2,     1.55,2,   4.9665
  316N20060130,AAIW06,   145,  1,     26,     26,2,20060203,1409,-56.9930, -77.0048, 4763,    343.4,   4.8197,  34.1286,2,  34.1268,2,    297.1,2,    298.8,2,     6.30,2,    21.83,2,     0.01,2,     1.56,2,   4.7934
  316N20060130,AAIW06,   145,  1,     25,     25,2,20060203,1409,-56.9930, -77.0048, 4763,    392.9,   4.7475,  34.1258,2,  34.1240,2,    295.5,2,    295.4,2,     6.70,2,    22.38,2,     0.01,2,     1.58,2,   4.7175
  316N20060130,AAIW06,   145,  1,     24,     24,2,20060203,1409,-56.9930, -77.0048, 4763,    443.2,   4.7204,  34.1366,2,  34.1358,2,    279.6,2,    280.8,2,     9.09,2,    23.83,2,     0.01,2,     1.68,2,   4.6865
  316N20060130,AAIW06,   145,  1,     23,     23,2,20060203,1409,-56.9930, -77.0048, 4763,    492.3,   4.6590,  34.1509,2,  34.1495,2,    275.6,2,    269.0,2,    11.49,2,    25.03,2,     0.01,2,     1.76,2,   4.6214
  316N20060130,AAIW06,   145,  1,     22,     22,2,20060203,1409,-56.9930, -77.0048, 4763,    576.6,   4.5170,  34.1753,2,  34.1713,0,    250.2,2,    255.9,2,    15.10,2,    26.54,2,     0.00,2,     1.85,2,   4.4732
  316N20060130,AAIW06,   145,  1,     21,     21,9,20060203,1409,-56.9930, -77.0048, 4763,    577.3,   4.5185,  34.1755,2,-999.0000,9,   -999.0,9,   -999.0,9,  -999.00,9,  -999.00,9,  -999.00,9,  -999.00,9,   4.4746
  316N20060130,AAIW06,   145,  1,     20,     20,2,20060203,1409,-56.9930, -77.0048, 4763,    675.0,   4.3526,  34.2267,2,  34.2252,2,    242.1,2,    234.6,2,    21.73,2,    28.55,2,     0.00,2,     1.99,2,   4.3016
  316N20060130,AAIW06,   145,  1,     19,     19,2,20060203,1409,-56.9930, -77.0048, 4763,    771.8,   3.8218,  34.2474,2,  34.2458,2,    227.2,2,    225.8,2,    28.35,2,    30.31,2,     0.00,2,     2.11,2,   3.7661
  316N20060130,AAIW06,   145,  1,     18,     18,2,20060203,1409,-56.9930, -77.0048, 4763,    872.0,   3.5300,  34.2845,2,  34.2829,2,    215.8,2,    215.0,2,    34.99,2,    31.41,2,     0.00,2,     2.20,2,   3.4684
  316N20060130,AAIW06,   145,  1,     17,     17,2,20060203,1409,-56.9930, -77.0048, 4763,    970.8,   3.2722,  34.3317,2,  34.3276,0,    205.9,2,    203.2,2,    43.03,2,    32.61,2,     0.00,2,     2.29,2,   3.2047
  316N20060130,AAIW06,   145,  1,     16,     16,2,20060203,1409,-56.9930, -77.0048, 4763,   1070.0,   3.0238,  34.3698,2,  34.3688,2,    194.1,2,    194.3,2,    50.27,2,    33.47,2,     0.00,2,     2.34,2,   2.9506
  316N20060130,AAIW06,   145,  1,     15,     15,2,20060203,1409,-56.9930, -77.0048, 4763,   1164.5,   2.8500,  34.4156,2,  34.4144,2,    186.1,2,    186.8,2,    56.51,2,    33.97,2,     0.00,2,     2.37,2,   2.7710
  316N20060130,AAIW06,   145,  1,     14,     14,2,20060203,1409,-56.9930, -77.0048, 4763,   1263.9,   2.7130,  34.4633,2,  34.4633,2,    179.7,2,    179.6,2,    62.56,2,    34.27,2,     0.00,2,     2.40,2,   2.6275
  316N20060130,AAIW06,   145,  1,     13,     13,2,20060203,1409,-56.9930, -77.0048, 4763,   1362.1,   2.6093,  34.5095,2,  34.5082,2,    175.2,2,    174.9,2,    67.79,2,    34.27,2,     0.00,2,     2.40,2,   2.5171
  316N20060130,AAIW06,   145,  1,     12,     12,2,20060203,1409,-56.9930, -77.0048, 4763,   1461.7,   2.5260,  34.5509,2,  34.5497,2,    172.0,2,    171.6,2,    72.84,2,    34.21,2,     0.00,2,     2.39,2,   2.4267
  316N20060130,AAIW06,   145,  1,     11,     11,2,20060203,1409,-56.9930, -77.0048, 4763,   1562.1,   2.4498,  34.5840,2,  34.5834,2,    170.2,2,    170.3,2,    76.07,2,    34.01,2,     0.00,2,     2.39,2,   2.3433
  316N20060130,AAIW06,   145,  1,     10,     10,9,20060203,1409,-56.9930, -77.0048, 4763,   1662.6,   2.3927,  34.6133,2,-999.0000,9,    170.0,2,   -999.0,9,  -999.00,9,  -999.00,9,  -999.00,9,  -999.00,9,   2.2787
  316N20060130,AAIW06,   145,  1,      9,      9,2,20060203,1409,-56.9930, -77.0048, 4763,   1757.1,   2.3355,  34.6366,2,  34.6377,2,    170.3,2,    170.1,2,    81.53,2,    33.45,2,     0.00,2,     2.34,4,   2.2144
  316N20060130,AAIW06,   145,  1,      8,      8,2,20060203,1409,-56.9930, -77.0048, 4763,   2053.2,   2.1454,  34.6899,2,  34.6884,2,    174.4,2,    175.4,2,    87.40,2,    32.65,2,     0.00,2,     2.29,2,   2.0020
  316N20060130,AAIW06,   145,  1,      7,      7,2,20060203,1409,-56.9930, -77.0048, 4763,   2401.4,   1.8815,  34.7116,2,  34.7110,2,    176.3,2,    178.1,2,    98.79,2,    32.45,2,     0.00,2,     2.28,2,   1.7120
  316N20060130,AAIW06,   145,  1,      6,      6,2,20060203,1409,-56.9930, -77.0048, 4763,   2777.3,   1.6492,  34.7231,2,  34.7228,2,    187.4,2,    186.9,2,   101.44,2,    32.04,2,     0.00,2,     2.24,2,   1.4499
  316N20060130,AAIW06,   145,  1,      5,      5,2,20060203,1409,-56.9930, -77.0048, 4763,   3175.3,   1.4022,  34.7234,2,  34.7241,2,    193.9,2,    193.5,2,   109.40,2,    31.89,2,     0.00,2,     2.24,2,   1.1705
  316N20060130,AAIW06,   145,  1,      4,      4,2,20060203,1409,-56.9930, -77.0048, 4763,   3581.2,   1.1380,  34.7179,2,  34.7188,2,    199.7,2,    199.7,2,   115.95,2,    32.04,2,     0.00,2,     2.25,2,   0.8726
  316N20060130,AAIW06,   145,  1,      3,      3,2,20060203,1409,-56.9930, -77.0048, 4763,   3989.4,   0.8836,  34.7114,2,  34.7120,2,    204.9,2,    203.9,2,   125.20,2,    32.29,2,     0.00,2,     2.26,2,   0.5830
  316N20060130,AAIW06,   145,  1,      2,      2,2,20060203,1409,-56.9930, -77.0048, 4763,   4395.9,   0.6662,  34.7074,2,  34.7080,2,    208.9,2,    208.9,2,   133.04,2,    32.54,2,     0.00,2,     2.27,2,   0.3285
  316N20060130,AAIW06,   145,  1,      1,      1,2,20060203,1409,-56.9930, -77.0048, 4763,   4836.0,   0.6471,  34.7061,2,  34.7069,2,    210.2,2,    210.3,2,   135.51,2,    32.54,2,     0.00,2,     2.28,2,   0.2607