BOTTLE,20081218PRINUNIVRMK
EXPOCODE,SECT_ID,STNNBR,CASTNO,SAMPNO,BTLNBR,BTLNBR_FLAG_W,DATE,TIME,LATITUDE,LONGITUDE,DEPTH,CTDPRS,CTDTMP,CTDSAL,CTDSAL_FLAG_W,SALNTY,SALNTY_FLAG_W,CTDOXY,CTDOXY_FLAG_W,OXYGEN,OXYGEN_FLAG_W,SILCAT,SILCAT_FLAG_W,NITRAT,NITRAT_FLAG_W,NITRIT,NITRIT_FLAG_W,PHSPHT,PHSPHT_FLAG_W,THETA
,,,,,,,,,,,METERS,DBARS,ITS-90,PSS-78,,PSS-78,,UMOL/KG,,UMOL/KG,,UMOL/KG,,UMOL/KG,,UMOL/KG,,UMOL/KG,,DEGC
  316N20060130,AAIW06,   214,  1,     36,     36,2,20060227,  35,-58.0018, -99.3123, 4804,      3.8,   6.4484,  34.0208,2,  34.0192,2,    297.5,2,    298.3,2,     1.82,2,    20.01,2,     0.24,2,     1.42,2,   6.4481
  316N20060130,AAIW06,   214,  1,     35,     35,2,20060227,  35,-58.0018, -99.3123, 4804,     22.0,   6.4556,  34.0202,2,  34.0194,2,    298.2,2,    298.4,2,     1.62,2,    20.00,2,     0.24,2,     1.42,2,   6.4537
  316N20060130,AAIW06,   214,  1,     34,     34,2,20060227,  35,-58.0018, -99.3123, 4804,     46.9,   6.4530,  34.0252,2,  34.0227,2,    299.1,2,    298.0,2,     1.62,2,    19.95,2,     0.24,2,     1.42,2,   6.4489
  316N20060130,AAIW06,   214,  1,     33,     33,2,20060227,  35,-58.0018, -99.3123, 4804,     71.6,   6.3144,  34.0668,2,  34.0674,2,    298.6,2,    296.9,2,     2.65,2,    19.97,2,     0.27,2,     1.43,2,   6.3082
  316N20060130,AAIW06,   214,  1,     32,     32,2,20060227,  35,-58.0018, -99.3123, 4804,     97.5,   5.4709,  34.1751,2,  34.1744,2,    294.9,2,    290.5,2,     6.55,2,    21.50,2,     0.05,2,     1.53,2,   5.4631
  316N20060130,AAIW06,   214,  1,     31,     31,2,20060227,  35,-58.0018, -99.3123, 4804,    130.5,   5.3101,  34.1666,2,  34.1646,2,    287.0,2,    289.8,2,     7.18,2,    21.88,2,     0.02,2,     1.54,2,   5.2998
  316N20060130,AAIW06,   214,  1,     30,     30,2,20060227,  35,-58.0018, -99.3123, 4804,    175.5,   5.0600,  34.1487,2,  34.1491,2,    285.9,2,    288.1,2,     8.22,2,    22.59,2,     0.02,2,     1.57,2,   5.0465
  316N20060130,AAIW06,   214,  1,     29,     29,2,20060227,  35,-58.0018, -99.3123, 4804,    226.1,   4.8890,  34.1442,2,  34.1434,2,    283.8,2,    285.0,2,     9.24,2,    23.20,2,     0.01,2,     1.60,2,   4.8718
  316N20060130,AAIW06,   214,  1,     28,     28,2,20060227,  35,-58.0018, -99.3123, 4804,    275.7,   4.4853,  34.1131,2,  34.1158,2,    285.5,2,    283.4,2,    10.69,2,    24.27,2,     0.01,2,     1.66,2,   4.4651
  316N20060130,AAIW06,   214,  1,     27,     27,2,20060227,  35,-58.0018, -99.3123, 4804,    324.5,   4.1818,  34.0954,2,  34.0966,2,    283.1,2,    282.2,2,    12.55,2,    25.12,2,     0.01,2,     1.72,2,   4.1587
  316N20060130,AAIW06,   214,  1,     26,     26,2,20060227,  35,-58.0018, -99.3123, 4804,    374.8,   4.2201,  34.1318,2,  34.1342,2,    267.1,2,    266.5,2,    15.23,2,    26.23,2,     0.00,2,     1.82,2,   4.1931
  316N20060130,AAIW06,   214,  1,     25,     25,2,20060227,  35,-58.0018, -99.3123, 4804,    425.0,   3.7977,  34.1113,2,  34.1091,0,    244.9,2,    267.6,0,    17.30,2,    27.09,2,     0.00,2,     1.87,2,   3.7684
  316N20060130,AAIW06,   214,  1,     24,     24,2,20060227,  35,-58.0018, -99.3123, 4804,    473.9,   4.1467,  34.2065,2,  34.2019,0,    242.4,2,    238.7,2,    22.66,2,    28.61,2,     0.00,2,     1.97,2,   4.1124
  316N20060130,AAIW06,   214,  1,     23,     23,2,20060227,  35,-58.0018, -99.3123, 4804,    523.0,   3.9235,  34.2111,2,  34.2115,2,    230.0,2,    236.2,2,    25.15,2,    29.26,2,     0.00,2,     2.01,2,   3.8864
  316N20060130,AAIW06,   214,  1,     22,     22,2,20060227,  35,-58.0018, -99.3123, 4804,    641.8,   3.6232,  34.2822,2,  34.2838,2,    208.8,2,    207.2,2,    35.04,2,    31.33,2,     0.00,2,     2.15,2,   3.5785
  316N20060130,AAIW06,   214,  1,     20,     20,2,20060227,  35,-58.0018, -99.3123, 4804,    741.6,   3.2692,  34.3241,2,  34.3270,2,    201.3,2,    203.5,2,    43.51,2,    32.55,2,     0.00,2,     2.24,2,   3.2190
  316N20060130,AAIW06,   214,  1,     21,     21,9,20060227,  35,-58.0018, -99.3123, 4804,    741.8,   3.2687,  34.3241,2,-999.0000,9,   -999.0,9,   -999.0,9,  -999.00,9,  -999.00,9,  -999.00,9,  -999.00,9,   3.2185
  316N20060130,AAIW06,   214,  1,     19,     19,2,20060227,  35,-58.0018, -99.3123, 4804,    841.3,   3.0262,  34.3687,2,  34.3700,2,    191.2,2,    193.7,2,    50.54,2,    33.41,2,     0.00,2,     2.31,2,   2.9701
  316N20060130,AAIW06,   214,  1,     18,     18,2,20060227,  35,-58.0018, -99.3123, 4804,    940.5,   2.8439,  34.4209,2,  34.4153,2,    184.3,2,    184.7,2,    57.79,2,    33.96,2,     0.00,2,     2.35,2,   2.7818
  316N20060130,AAIW06,   214,  1,     17,     17,2,20060227,  35,-58.0018, -99.3123, 4804,   1039.0,   2.6745,  34.4656,2,  34.4659,2,    178.4,2,    178.9,2,    64.03,2,    34.16,2,     0.00,2,     2.37,2,   2.6063
  316N20060130,AAIW06,   214,  1,     16,     16,2,20060227,  35,-58.0018, -99.3123, 4804,   1138.8,   2.5711,  34.5119,2,  34.5152,2,    175.1,2,    175.3,2,    69.02,2,    34.20,2,     0.00,2,     2.37,2,   2.4963
  316N20060130,AAIW06,   214,  1,     15,     15,2,20060227,  35,-58.0018, -99.3123, 4804,   1235.7,   2.4840,  34.5521,2,  34.5555,2,    173.1,2,    173.4,2,    72.80,2,    33.99,2,     0.00,2,     2.36,2,   2.4027
  316N20060130,AAIW06,   214,  1,     14,     14,2,20060227,  35,-58.0018, -99.3123, 4804,   1333.0,   2.4084,  34.5932,2,  34.5965,2,    172.4,2,    172.3,2,    76.35,2,    33.67,2,     0.00,2,     2.33,2,   2.3203
  316N20060130,AAIW06,   214,  1,     13,     13,2,20060227,  35,-58.0018, -99.3123, 4804,   1430.7,   2.3557,  34.6214,2,  34.6232,2,    172.7,2,    172.4,2,    79.09,2,    33.31,2,     0.00,2,     2.30,2,   2.2606
  316N20060130,AAIW06,   214,  1,     12,     12,2,20060227,  35,-58.0018, -99.3123, 4804,   1527.1,   2.2896,  34.6453,2,  34.6429,0,    173.6,2,    173.5,2,    80.38,2,    33.01,2,     0.00,2,     2.28,2,   2.1876
  316N20060130,AAIW06,   214,  1,     11,     11,2,20060227,  35,-58.0018, -99.3123, 4804,   1723.8,   2.1796,  34.6844,2,  34.6859,2,    176.2,2,    176.6,2,    85.00,2,    32.44,2,     0.00,2,     2.23,2,   2.0632
  316N20060130,AAIW06,   214,  1,     10,     10,2,20060227,  35,-58.0018, -99.3123, 4804,   1921.4,   2.0398,  34.7096,2,  34.7117,2,    179.9,2,    180.6,2,    89.00,2,    31.93,2,     0.00,2,     2.20,2,   1.9090
  316N20060130,AAIW06,   214,  1,      9,      9,2,20060227,  35,-58.0018, -99.3123, 4804,   2127.7,   1.8879,  34.7221,2,  34.7233,2,    184.3,2,    184.7,2,    94.05,2,    31.77,2,     0.00,2,     2.18,2,   1.7421
  316N20060130,AAIW06,   214,  1,      8,      8,2,20060227,  35,-58.0018, -99.3123, 4804,   2426.1,   1.6558,  34.7252,2,  34.7288,0,    188.5,2,    187.6,2,   101.84,2,    31.97,2,     0.00,2,     2.20,2,   1.4881
  316N20060130,AAIW06,   214,  1,      7,      7,2,20060227,  35,-58.0018, -99.3123, 4804,   2727.3,   1.4760,  34.7276,2,  34.7288,2,    192.9,2,    193.7,2,   105.25,2,    31.66,2,     0.00,2,     2.17,2,   1.2848
  316N20060130,AAIW06,   214,  1,      6,      6,2,20060227,  35,-58.0018, -99.3123, 4804,   3026.0,   1.2998,  34.7227,2,  34.7231,0,    196.4,2,    196.4,2,   112.24,2,    31.91,2,     0.00,2,     2.19,2,   1.0847
  316N20060130,AAIW06,   214,  1,      5,      5,2,20060227,  35,-58.0018, -99.3123, 4804,   3375.3,   1.0968,  34.7179,2,  34.7197,2,    200.6,2,    200.6,2,   118.19,2,    31.95,2,     0.00,2,     2.20,2,   0.8529
  316N20060130,AAIW06,   214,  1,      4,      4,2,20060227,  35,-58.0018, -99.3123, 4804,   3781.8,   0.8564,  34.7112,2,  34.7135,2,    205.0,2,    205.2,2,   127.13,2,    32.25,2,     0.00,2,     2.22,2,   0.5781
  316N20060130,AAIW06,   214,  1,      3,      3,2,20060227,  35,-58.0018, -99.3123, 4804,   4186.6,   0.6400,  34.7067,2,  34.7113,0,    209.6,2,    209.5,2,   133.13,2,    32.40,2,     0.00,2,     2.23,2,   0.3257
  316N20060130,AAIW06,   214,  1,      2,      2,2,20060227,  35,-58.0018, -99.3123, 4804,   4597.5,   0.5113,  34.7043,2,  34.7093,0,    213.0,2,    213.3,2,   137.44,2,    32.55,2,     0.00,2,     2.24,2,   0.1563
  316N20060130,AAIW06,   214,  1,      1,      1,2,20060227,  35,-58.0018, -99.3123, 4804,   5010.3,   0.5214,  34.7036,2,  34.7060,0,    215.0,2,    214.9,2,   139.64,2,    32.54,2,     0.00,2,     2.24,2,   0.1191
  316N20060130,AAIW06,   215,  1,     36,     36,2,20060227, 657,-57.7640, -98.4373, 4518,      6.1,   6.9609,  34.0152,2,  34.0172,2,    294.8,2,    295.1,2,     1.34,2,    19.43,2,     0.20,2,     1.38,2,   6.9603
  316N20060130,AAIW06,   215,  1,     35,     35,2,20060227, 657,-57.7640, -98.4373, 4518,     15.0,   6.9601,  34.0153,2,  34.0170,2,    295.5,2,    295.3,2,     1.32,2,    19.38,2,     0.20,2,     1.38,2,   6.9587
  316N20060130,AAIW06,   215,  1,     34,     34,2,20060227, 657,-57.7640, -98.4373, 4518,     40.6,   6.9569,  34.0165,2,  34.0207,2,    296.6,2,    294.9,2,     1.29,2,    19.43,2,     0.20,2,     1.37,2,   6.9532
  316N20060130,AAIW06,   215,  1,     33,     33,2,20060227, 657,-57.7640, -98.4373, 4518,     65.8,   6.9571,  34.0175,2,  34.0205,2,    296.6,2,    295.0,2,     1.26,2,    19.48,2,     0.20,2,     1.37,2,   6.9511
  316N20060130,AAIW06,   215,  1,     32,     32,2,20060227, 657,-57.7640, -98.4373, 4518,     97.1,   5.6475,  34.1651,2,  34.1679,2,    297.4,2,    296.2,2,     5.37,2,    20.22,2,     0.43,2,     1.44,2,   5.6396
  316N20060130,AAIW06,   215,  1,     31,     31,2,20060227, 657,-57.7640, -98.4373, 4518,    141.6,   5.1407,  34.1424,2,  34.1457,2,    289.5,2,    293.8,2,     6.99,2,    21.83,2,     0.02,2,     1.53,2,   5.1297
  316N20060130,AAIW06,   215,  1,     30,     30,2,20060227, 657,-57.7640, -98.4373, 4518,    191.2,   4.6809,  34.1140,2,  34.1161,2,    289.6,2,    289.5,2,     9.03,2,    23.25,2,     0.02,2,     1.59,2,   4.6667
  316N20060130,AAIW06,   215,  1,     29,     29,2,20060227, 657,-57.7640, -98.4373, 4518,    241.7,   3.8457,  34.0271,2,  34.0302,2,    301.8,2,    301.5,2,    10.04,2,    24.28,2,     0.01,2,     1.68,2,   3.8293
  316N20060130,AAIW06,   215,  1,     28,     28,2,20060227, 657,-57.7640, -98.4373, 4518,    291.3,   3.5827,  34.0166,2,  34.0184,2,    300.9,2,    300.6,2,    10.84,2,    24.80,2,     0.00,2,     1.71,2,   3.5634
  316N20060130,AAIW06,   215,  1,     27,     27,2,20060227, 657,-57.7640, -98.4373, 4518,    341.1,   3.8626,  34.0755,2,  34.0778,2,    301.2,2,    282.3,2,    13.70,2,    25.86,2,     0.00,2,     1.78,2,   3.8391
  316N20060130,AAIW06,   215,  1,     26,     26,2,20060227, 657,-57.7640, -98.4373, 4518,    391.1,   4.1539,  34.1501,2,  34.1536,2,    288.1,2,    258.3,2,    17.61,2,    27.23,2,     0.00,2,     1.87,2,   4.1259
  316N20060130,AAIW06,   215,  1,     25,     25,2,20060227, 657,-57.7640, -98.4373, 4518,    439.8,   3.8086,  34.1451,2,  34.1460,2,    254.5,2,    257.4,2,    20.06,2,    28.04,2,     0.00,2,     1.92,2,   3.7781
  316N20060130,AAIW06,   215,  1,     24,     24,2,20060227, 657,-57.7640, -98.4373, 4518,    488.3,   4.1378,  34.2312,2,  34.2340,2,    253.0,2,    231.5,2,    24.99,2,    29.36,2,     0.00,2,     2.00,2,   4.1024
  316N20060130,AAIW06,   215,  1,     23,     23,2,20060227, 657,-57.7640, -98.4373, 4518,    576.0,   3.6597,  34.2301,2,  34.2316,2,    238.7,2,    229.7,2,    29.30,2,    30.44,2,     0.00,2,     2.08,2,   3.6198
  316N20060130,AAIW06,   215,  1,     21,     21,9,20060227, 657,-57.7640, -98.4373, 4518,    674.8,   3.3326,  34.2662,2,-999.0000,9,   -999.0,9,   -999.0,9,  -999.00,9,  -999.00,9,  -999.00,9,  -999.00,9,   3.2870
  316N20060130,AAIW06,   215,  1,     22,     22,2,20060227, 657,-57.7640, -98.4373, 4518,    675.1,   3.3385,  34.2675,2,  34.2698,2,    218.8,2,    203.9,0,    36.52,2,    31.80,2,     0.00,2,     2.19,2,   3.2928
  316N20060130,AAIW06,   215,  1,     20,     20,2,20060227, 657,-57.7640, -98.4373, 4518,    775.4,   3.2904,  34.3376,2,  34.3396,2,    206.7,2,    200.8,2,    44.35,2,    32.72,2,     0.00,2,     2.26,2,   3.2376
  316N20060130,AAIW06,   215,  1,     19,     19,2,20060227, 657,-57.7640, -98.4373, 4518,    874.1,   3.0390,  34.3800,2,  34.3818,2,    193.4,2,    191.7,2,    51.56,2,    33.58,2,     0.00,2,     2.30,2,   2.9804
  316N20060130,AAIW06,   215,  1,     18,     18,2,20060227, 657,-57.7640, -98.4373, 4518,    973.1,   2.8426,  34.4250,2,  34.4269,2,    185.5,2,    184.0,2,    58.17,2,    34.14,2,     0.00,2,     2.34,2,   2.7781
  316N20060130,AAIW06,   215,  1,     17,     17,2,20060227, 657,-57.7640, -98.4373, 4518,   1072.2,   2.6733,  34.4684,2,  34.4703,2,    179.0,2,    179.0,2,    63.74,2,    34.39,2,     0.00,2,     2.37,2,   2.6027
  316N20060130,AAIW06,   215,  1,     16,     16,2,20060227, 657,-57.7640, -98.4373, 4518,   1171.0,   2.5838,  34.5132,2,  34.5139,2,    175.3,2,    175.5,2,    68.49,2,    34.34,2,     0.00,2,     2.39,2,   2.5065
  316N20060130,AAIW06,   215,  1,     15,     15,2,20060227, 657,-57.7640, -98.4373, 4518,   1271.5,   2.4833,  34.5576,2,  34.5592,2,    173.1,2,    173.1,2,    72.82,2,    34.18,2,     0.00,2,     2.36,2,   2.3992
  316N20060130,AAIW06,   215,  1,     14,     14,2,20060227, 657,-57.7640, -98.4373, 4518,   1370.4,   2.4132,  34.5915,2,  34.5934,2,    172.3,2,    171.5,2,    76.13,2,    33.98,2,     0.00,2,     2.36,2,   2.3222
  316N20060130,AAIW06,   215,  1,     13,     13,2,20060227, 657,-57.7640, -98.4373, 4518,   1470.6,   2.3405,  34.6264,2,  34.6281,2,    172.0,2,    173.3,2,    79.02,2,    33.57,2,     0.00,2,     2.33,2,   2.2424
  316N20060130,AAIW06,   215,  1,     12,     12,2,20060227, 657,-57.7640, -98.4373, 4518,   1571.3,   2.2968,  34.6476,2,  34.6501,2,    172.2,2,    172.6,2,    81.71,2,    33.31,2,     0.00,2,     2.32,2,   2.1912
  316N20060130,AAIW06,   215,  1,     11,     11,2,20060227, 657,-57.7640, -98.4373, 4518,   1773.2,   2.1607,  34.6871,2,  34.6886,2,    175.8,2,    176.1,2,    86.48,2,    32.69,2,     0.00,2,     2.27,2,   2.0405
  316N20060130,AAIW06,   215,  1,     10,     10,2,20060227, 657,-57.7640, -98.4373, 4518,   1973.8,   2.0462,  34.7106,2,  34.7112,2,    181.3,2,    181.5,2,    88.12,2,    32.09,2,     0.00,2,     2.22,2,   1.9110
  316N20060130,AAIW06,   215,  1,      9,      9,2,20060227, 657,-57.7640, -98.4373, 4518,   2175.2,   1.8877,  34.7215,2,  34.7222,2,    184.2,2,    183.8,2,    93.52,2,    31.88,2,     0.00,2,     2.19,2,   1.7378
  316N20060130,AAIW06,   215,  1,      8,      8,2,20060227, 657,-57.7640, -98.4373, 4518,   2377.7,   1.7103,  34.7259,2,  34.7261,2,    187.9,2,    188.3,2,    97.89,2,    31.82,2,     0.00,2,     2.20,2,   1.5459
  316N20060130,AAIW06,   215,  1,      7,      7,2,20060227, 657,-57.7640, -98.4373, 4518,   2679.5,   1.5130,  34.7240,2,  34.7239,2,    192.1,2,    191.2,2,   105.83,2,    32.03,2,     0.00,2,     2.20,2,   1.3254
  316N20060130,AAIW06,   215,  1,      6,      6,2,20060227, 657,-57.7640, -98.4373, 4518,   2982.0,   1.3430,  34.7232,2,  34.7241,2,    195.5,2,    195.6,2,   110.22,2,    31.97,2,     0.00,2,     2.22,2,   1.1311
  316N20060130,AAIW06,   215,  1,      5,      5,2,20060227, 657,-57.7640, -98.4373, 4518,   3284.0,   1.1471,  34.7190,2,  34.7185,2,    199.7,2,    199.8,2,   115.67,2,    32.08,2,     0.00,2,     2.23,2,   0.9109
  316N20060130,AAIW06,   215,  1,      4,      4,2,20060227, 657,-57.7640, -98.4373, 4518,   3611.7,   0.9320,  34.7132,2,  34.7120,2,    203.6,2,    203.3,2,   123.23,2,    32.32,2,     0.00,2,     2.25,2,   0.6689
  316N20060130,AAIW06,   215,  1,      3,      3,2,20060227, 657,-57.7640, -98.4373, 4518,   3912.9,   0.7086,  34.7086,2,  34.7090,2,    207.0,2,    207.7,0,   130.82,2,    32.63,2,     0.00,2,     2.26,2,   0.4209
  316N20060130,AAIW06,   215,  1,      2,      2,2,20060227, 657,-57.7640, -98.4373, 4518,   4215.1,   0.6037,  34.7065,2,  34.7061,2,    209.8,2,    209.8,2,   134.19,2,    32.58,2,     0.00,2,     2.25,2,   0.2874
  316N20060130,AAIW06,   215,  1,      1,      1,2,20060227, 657,-57.7640, -98.4373, 4518,   4621.7,   0.5850,  34.7052,2,  34.7037,0,    211.1,2,    211.0,2,   136.09,2,    32.67,2,     0.00,2,     2.25,2,   0.2249