BOTTLE,20081218PRINUNIVRMK
EXPOCODE,SECT_ID,STNNBR,CASTNO,SAMPNO,BTLNBR,BTLNBR_FLAG_W,DATE,TIME,LATITUDE,LONGITUDE,DEPTH,CTDPRS,CTDTMP,CTDSAL,CTDSAL_FLAG_W,SALNTY,SALNTY_FLAG_W,CTDOXY,CTDOXY_FLAG_W,OXYGEN,OXYGEN_FLAG_W,SILCAT,SILCAT_FLAG_W,NITRAT,NITRAT_FLAG_W,NITRIT,NITRIT_FLAG_W,PHSPHT,PHSPHT_FLAG_W,THETA
,,,,,,,,,,,METERS,DBARS,ITS-90,PSS-78,,PSS-78,,UMOL/KG,,UMOL/KG,,UMOL/KG,,UMOL/KG,,UMOL/KG,,UMOL/KG,,DEGC
  316N20060130,AAIW06,   203,  1,     34,     34,2,20060223, 435,-54.0940, -97.8538, 3400,      5.5,   8.7183,  34.1429,2,  34.1456,2,    284.5,2,    284.9,2,     0.70,2,    15.35,2,     0.23,2,     1.13,2,   8.7177
  316N20060130,AAIW06,   203,  1,     33,     33,2,20060223, 435,-54.0940, -97.8538, 3400,     26.2,   8.6832,  34.1433,2,  34.1448,2,    286.1,2,    285.7,2,     0.69,2,    15.35,2,     0.22,2,     1.13,2,   8.6805
  316N20060130,AAIW06,   203,  1,     32,     32,2,20060223, 435,-54.0940, -97.8538, 3400,     51.1,   8.6688,  34.1441,2,  34.1460,2,    286.4,2,    284.7,2,     0.68,2,    15.24,2,     0.23,2,     1.12,2,   8.6635
  316N20060130,AAIW06,   203,  1,     31,     31,2,20060223, 435,-54.0940, -97.8538, 3400,     77.9,   8.5857,  34.1385,2,  34.1426,2,    286.2,2,    286.1,2,     0.67,2,    15.45,2,     0.22,2,     1.14,2,   8.5776
  316N20060130,AAIW06,   203,  1,     30,     30,2,20060223, 435,-54.0940, -97.8538, 3400,    108.3,   6.1064,  34.2099,2,-999.0000,9,    288.8,2,    289.1,2,     5.46,2,    19.75,2,     0.14,2,     1.42,2,   6.0972
  316N20060130,AAIW06,   203,  1,     29,     29,2,20060223, 435,-54.0940, -97.8538, 3400,    158.4,   5.9089,  34.1972,2,-999.0000,9,    290.0,2,    291.0,2,     5.45,2,    20.07,2,     0.03,2,     1.43,2,   5.8956
  316N20060130,AAIW06,   203,  1,     28,     28,2,20060223, 435,-54.0940, -97.8538, 3400,    208.4,   5.8069,  34.2015,2,-999.0000,9,    288.0,2,    288.4,2,     5.86,2,    20.38,2,     0.02,2,     1.45,2,   5.7895
  316N20060130,AAIW06,   203,  1,     27,     27,2,20060223, 435,-54.0940, -97.8538, 3400,    257.6,   5.7039,  34.1980,2,-999.0000,9,    287.9,2,    288.9,2,     5.86,2,    20.54,2,     0.01,2,     1.46,2,   5.6826
  316N20060130,AAIW06,   203,  1,     26,     26,2,20060223, 435,-54.0940, -97.8538, 3400,    307.5,   5.6354,  34.2004,2,-999.0000,9,    287.1,2,    288.3,2,     6.47,2,    20.90,2,     0.01,2,     1.48,2,   5.6100
  316N20060130,AAIW06,   203,  1,     25,     25,2,20060223, 435,-54.0940, -97.8538, 3400,    357.7,   5.5896,  34.2019,2,-999.0000,9,    288.0,2,    288.7,2,     6.26,2,    20.89,2,     0.01,2,     1.48,2,   5.5600
  316N20060130,AAIW06,   203,  1,     24,     24,2,20060223, 435,-54.0940, -97.8538, 3400,    406.2,   5.4904,  34.1940,2,  34.1955,2,    289.5,2,    288.4,2,     7.08,2,    21.20,2,     0.01,2,     1.50,2,   5.4570
  316N20060130,AAIW06,   203,  1,     23,     23,2,20060223, 435,-54.0940, -97.8538, 3400,    457.7,   5.5081,  34.2059,2,-999.0000,9,    285.0,2,    285.1,2,     8.54,2,    21.55,2,     0.01,2,     1.53,2,   5.4702
  316N20060130,AAIW06,   203,  1,     21,     21,9,20060223, 435,-54.0940, -97.8538, 3400,    505.8,   5.5198,  34.2200,2,-999.0000,9,   -999.0,9,   -999.0,9,  -999.00,9,  -999.00,9,  -999.00,9,  -999.00,9,   5.4777
  316N20060130,AAIW06,   203,  1,     22,     22,2,20060223, 435,-54.0940, -97.8538, 3400,    506.5,   5.5222,  34.2200,2,-999.0000,9,    278.6,2,    281.9,2,     8.31,2,    22.00,2,     0.01,2,     1.55,2,   5.4800
  316N20060130,AAIW06,   203,  1,     20,     20,2,20060223, 435,-54.0940, -97.8538, 3400,    607.2,   5.2359,  34.2127,2,-999.0000,9,    261.2,2,    262.4,2,    11.65,2,    24.52,2,     0.00,2,     1.70,2,   5.1862
  316N20060130,AAIW06,   203,  1,     19,     19,2,20060223, 435,-54.0940, -97.8538, 3400,    705.4,   4.9609,  34.2434,2,-999.0000,9,    238.3,2,    237.2,2,    18.31,2,    27.23,2,     0.00,2,     1.88,2,   4.9041
  316N20060130,AAIW06,   203,  1,     18,     18,2,20060223, 435,-54.0940, -97.8538, 3400,    804.5,   4.5552,  34.2731,2,-999.0000,9,    221.3,2,    221.4,2,    25.18,2,    29.27,2,     0.00,2,     2.02,2,   4.4924
  316N20060130,AAIW06,   203,  1,     17,     17,2,20060223, 435,-54.0940, -97.8538, 3400,    904.8,   4.0757,  34.2943,2,-999.0000,9,    213.9,2,    212.4,2,    32.06,2,    30.80,2,     0.00,2,     2.13,2,   4.0077
  316N20060130,AAIW06,   203,  1,     16,     16,2,20060223, 435,-54.0940, -97.8538, 3400,   1004.4,   3.6741,  34.3205,2,-999.0000,9,    205.7,2,    205.1,2,    39.57,2,    31.93,2,     0.00,2,     2.22,2,   3.6009
  316N20060130,AAIW06,   203,  1,     15,     15,2,20060223, 435,-54.0940, -97.8538, 3400,   1103.7,   3.3469,  34.3501,2,-999.0000,9,    198.9,2,    198.7,2,    45.82,2,    32.84,2,     0.00,2,     2.29,2,   3.2684
  316N20060130,AAIW06,   203,  1,     14,     14,2,20060223, 435,-54.0940, -97.8538, 3400,   1203.8,   3.0775,  34.3890,2,-999.0000,9,    190.8,2,    190.8,2,    53.13,2,    33.60,2,     0.00,2,     2.34,2,   2.9934
  316N20060130,AAIW06,   203,  1,     13,     13,2,20060223, 435,-54.0940, -97.8538, 3400,   1304.3,   2.8841,  34.4318,2,-999.0000,9,    183.6,2,    183.3,2,    59.39,2,    34.11,2,     0.00,2,     2.38,2,   2.7938
  316N20060130,AAIW06,   203,  1,     12,     12,2,20060223, 435,-54.0940, -97.8538, 3400,   1405.4,   2.7599,  34.4721,2,-999.0000,9,    178.0,2,    177.0,2,    65.67,2,    34.30,2,     0.00,2,     2.41,2,   2.6627
  316N20060130,AAIW06,   203,  1,     11,     11,2,20060223, 435,-54.0940, -97.8538, 3400,   1505.4,   2.6319,  34.5161,2,-999.0000,9,    174.7,2,    173.9,2,    71.10,2,    34.35,2,     0.00,2,     2.40,2,   2.5280
  316N20060130,AAIW06,   203,  1,     10,     10,2,20060223, 435,-54.0940, -97.8538, 3400,   1605.4,   2.5461,  34.5532,2,-999.0000,9,    171.7,2,    171.8,2,    74.45,2,    34.19,2,     0.00,2,     2.39,2,   2.4350
  316N20060130,AAIW06,   203,  1,      9,      9,2,20060223, 435,-54.0940, -97.8538, 3400,   1706.0,   2.4703,  34.5908,2,-999.0000,9,    169.6,2,    169.2,2,    78.86,2,    34.07,2,     0.00,2,     2.38,2,   2.3518
  316N20060130,AAIW06,   203,  1,      8,      8,2,20060223, 435,-54.0940, -97.8538, 3400,   1806.3,   2.4061,  34.6169,2,-999.0000,9,    169.2,2,    169.5,2,    81.17,2,    33.81,2,     0.00,2,     2.36,2,   2.2800
  316N20060130,AAIW06,   203,  1,      7,      7,2,20060223, 435,-54.0940, -97.8538, 3400,   1904.5,   2.3236,  34.6445,2,-999.0000,9,    169.3,2,    169.5,2,    85.16,2,    33.55,2,     0.00,2,     2.34,2,   2.1903
  316N20060130,AAIW06,   203,  1,      6,      6,2,20060223, 435,-54.0940, -97.8538, 3400,   2256.1,   2.0972,  34.6966,2,  34.6975,2,    174.5,2,    175.3,2,    92.52,2,    32.67,2,     0.00,2,     2.28,2,   1.9369
  316N20060130,AAIW06,   203,  1,      5,      5,2,20060223, 435,-54.0940, -97.8538, 3400,   2508.4,   1.8957,  34.7055,2,  34.7065,2,    176.0,2,    176.0,2,   101.81,2,    32.87,2,     0.00,2,     2.30,2,   1.7163
  316N20060130,AAIW06,   203,  1,      4,      4,2,20060223, 435,-54.0940, -97.8538, 3400,   2758.4,   1.7516,  34.7133,2,  34.7154,0,    180.1,2,    180.5,2,   105.61,2,    32.55,2,     0.00,2,     2.28,2,   1.5520
  316N20060130,AAIW06,   203,  1,      3,      3,2,20060223, 435,-54.0940, -97.8538, 3400,   3008.5,   1.6155,  34.7180,2,  34.7189,2,    185.1,2,    185.4,2,   108.37,2,    32.40,2,     0.00,2,     2.26,2,   1.3951
  316N20060130,AAIW06,   203,  1,      2,      2,2,20060223, 435,-54.0940, -97.8538, 3400,   3312.2,   1.4678,  34.7190,2,  34.7201,2,    190.2,2,    190.0,2,   111.34,2,    32.23,2,     0.00,2,     2.24,2,   1.2211
  316N20060130,AAIW06,   203,  1,      1,      1,2,20060223, 435,-54.0940, -97.8538, 3400,   3618.1,   1.1638,  34.7161,2,  34.7167,2,    197.6,2,    197.8,2,   119.83,2,    32.38,2,     0.00,2,     2.25,2,   0.8940
  316N20060130,AAIW06,   204,  1,     36,     36,2,20060223,1428,-54.4377, -99.8893, 4400,      4.0,   8.4432,  34.1633,2,  34.1645,2,    284.6,2,    285.3,2,     0.49,2,    15.37,2,     0.21,2,     1.12,2,   8.4428
  316N20060130,AAIW06,   204,  1,     33,     33,2,20060223,1428,-54.4377, -99.8893, 4400,     21.3,   8.4288,  34.1640,2,  34.1671,2,    286.0,2,    285.4,2,     0.27,2,    15.31,2,     0.21,2,     1.12,2,   8.4266
  316N20060130,AAIW06,   204,  1,     35,     35,2,20060223,1428,-54.4377, -99.8893, 4400,     21.6,   8.4276,  34.1643,2,-999.0000,9,   -999.0,9,   -999.0,9,  -999.00,9,  -999.00,9,  -999.00,9,  -999.00,9,   8.4254
  316N20060130,AAIW06,   204,  1,     34,     34,2,20060223,1428,-54.4377, -99.8893, 4400,     22.0,   8.4278,  34.1641,2,-999.0000,9,   -999.0,9,   -999.0,9,  -999.00,9,  -999.00,9,  -999.00,9,  -999.00,9,   8.4256
  316N20060130,AAIW06,   204,  1,     32,     32,2,20060223,1428,-54.4377, -99.8893, 4400,     46.3,   8.3663,  34.1649,2,  34.1681,2,    286.6,2,    286.1,2,     0.26,2,    15.46,2,     0.21,2,     1.13,2,   8.3616
  316N20060130,AAIW06,   204,  1,     31,     31,2,20060223,1428,-54.4377, -99.8893, 4400,     71.8,   8.2771,  34.1610,2,  34.1644,2,    286.7,2,    286.3,2,     0.47,2,    15.60,2,     0.21,2,     1.14,2,   8.2698
  316N20060130,AAIW06,   204,  1,     30,     30,2,20060223,1428,-54.4377, -99.8893, 4400,     91.5,   7.0894,  34.2046,2,  34.2056,2,    288.9,2,    288.4,2,     2.95,2,    17.08,2,     0.32,2,     1.30,2,   7.0809
  316N20060130,AAIW06,   204,  1,     29,     29,2,20060223,1428,-54.4377, -99.8893, 4400,    131.8,   6.3500,  34.2286,2,-999.0000,9,    286.0,2,    287.7,2,     4.81,2,    19.05,2,     0.29,2,     1.38,2,   6.3385
  316N20060130,AAIW06,   204,  1,     28,     28,2,20060223,1428,-54.4377, -99.8893, 4400,    176.2,   6.2415,  34.2290,2,-999.0000,9,    288.3,2,    287.7,2,     4.81,2,    19.37,2,     0.07,2,     1.38,2,   6.2263
  316N20060130,AAIW06,   204,  1,     27,     27,2,20060223,1428,-54.4377, -99.8893, 4400,    225.6,   6.0363,  34.2097,2,-999.0000,9,    288.3,2,    288.9,2,     5.00,2,    19.91,2,     0.04,2,     1.42,2,   6.0171
  316N20060130,AAIW06,   204,  1,     26,     26,2,20060223,1428,-54.4377, -99.8893, 4400,    276.7,   6.0758,  34.2324,2,-999.0000,9,    286.4,2,    282.1,2,     5.62,2,    20.39,2,     0.01,2,     1.44,2,   6.0520
  316N20060130,AAIW06,   204,  1,     25,     25,2,20060223,1428,-54.4377, -99.8893, 4400,    324.3,   5.9532,  34.2261,2,-999.0000,9,    282.2,2,    282.9,2,     5.83,2,    20.55,2,     0.01,2,     1.45,2,   5.9255
  316N20060130,AAIW06,   204,  1,     24,     24,2,20060223,1428,-54.4377, -99.8893, 4400,    375.1,   5.8896,  34.2289,2,-999.0000,9,    276.5,2,    276.5,2,     7.06,2,    21.56,2,     0.01,2,     1.51,2,   5.8576
  316N20060130,AAIW06,   204,  1,     23,     23,2,20060223,1428,-54.4377, -99.8893, 4400,    425.7,   5.8137,  34.2330,2,-999.0000,9,    270.9,2,    271.5,2,     7.47,2,    22.23,2,     0.01,2,     1.54,2,   5.7775
  316N20060130,AAIW06,   204,  1,     22,     22,2,20060223,1428,-54.4377, -99.8893, 4400,    475.9,   5.6308,  34.2181,2,-999.0000,9,    265.4,2,    278.7,2,     7.67,2,    21.92,2,     0.00,2,     1.53,2,   5.5909
  316N20060130,AAIW06,   204,  1,     21,     21,9,20060223,1428,-54.4377, -99.8893, 4400,    524.5,   5.6331,  34.2354,2,-999.0000,9,   -999.0,9,   -999.0,9,  -999.00,9,  -999.00,9,  -999.00,9,  -999.00,9,   5.5889
  316N20060130,AAIW06,   204,  1,     20,     20,2,20060223,1428,-54.4377, -99.8893, 4400,    524.7,   5.6337,  34.2357,2,  34.2364,2,    264.5,2,    264.6,2,     9.75,2,    23.25,2,     0.00,2,     1.62,2,   5.5895
  316N20060130,AAIW06,   204,  1,     19,     19,2,20060223,1428,-54.4377, -99.8893, 4400,    643.8,   5.3631,  34.2714,2,-999.0000,9,    234.1,2,    233.1,2,    16.60,2,    26.54,2,     0.00,2,     1.83,2,   5.3096
  316N20060130,AAIW06,   204,  1,     18,     18,2,20060223,1428,-54.4377, -99.8893, 4400,    742.8,   4.9320,  34.2887,2,-999.0000,9,    221.9,2,    219.9,2,    22.62,2,    28.54,2,     0.00,2,     1.96,2,   4.8721
  316N20060130,AAIW06,   204,  1,     17,     17,2,20060223,1428,-54.4377, -99.8893, 4400,    842.4,   4.3925,  34.2878,2,-999.0000,9,    216.4,2,    215.8,2,    27.81,2,    29.87,2,     0.00,2,     2.06,2,   4.3275
  316N20060130,AAIW06,   204,  1,     16,     16,2,20060223,1428,-54.4377, -99.8893, 4400,    941.8,   3.9963,  34.3087,2,-999.0000,9,    208.5,2,    208.7,2,    34.05,2,    31.10,2,     0.00,2,     2.15,2,   3.9258
  316N20060130,AAIW06,   204,  1,     15,     15,2,20060223,1428,-54.4377, -99.8893, 4400,   1039.2,   3.5404,  34.3364,2,-999.0000,9,    201.5,2,    201.2,2,    41.94,2,    32.33,2,     0.00,2,     2.24,2,   3.4654
  316N20060130,AAIW06,   204,  1,     14,     14,2,20060223,1428,-54.4377, -99.8893, 4400,   1135.4,   3.2218,  34.3699,2,-999.0000,9,    193.2,2,    193.7,2,    49.02,2,    33.05,2,     0.00,2,     2.31,2,   3.1418
  316N20060130,AAIW06,   204,  1,     13,     13,2,20060223,1428,-54.4377, -99.8893, 4400,   1233.0,   2.9657,  34.4155,2,-999.0000,9,    186.7,2,    187.0,2,    56.73,2,    33.70,2,     0.00,2,     2.35,2,   2.8802
  316N20060130,AAIW06,   204,  1,     12,     12,2,20060223,1428,-54.4377, -99.8893, 4400,   1326.9,   2.8174,  34.4525,2,-999.0000,9,    180.4,2,    180.9,2,    61.52,2,    34.00,2,     0.00,2,     2.37,2,   2.7259
  316N20060130,AAIW06,   204,  1,     11,     11,2,20060223,1428,-54.4377, -99.8893, 4400,   1523.4,   2.6063,  34.5229,2,-999.0000,9,    174.7,2,    174.6,2,    69.86,2,    34.20,2,     0.00,2,     2.37,2,   2.5012
  316N20060130,AAIW06,   204,  1,     10,     10,2,20060223,1428,-54.4377, -99.8893, 4400,   1717.1,   2.4593,  34.5964,2,-999.0000,9,    169.8,2,    170.2,2,    78.22,2,    33.87,2,     0.00,2,     2.35,2,   2.3400
  316N20060130,AAIW06,   204,  1,      9,      9,2,20060223,1428,-54.4377, -99.8893, 4400,   1904.2,   2.3352,  34.6452,2,-999.0000,9,    171.0,2,    171.2,2,    82.61,2,    33.28,2,     0.00,2,     2.32,2,   2.2018
  316N20060130,AAIW06,   204,  1,      8,      8,2,20060223,1428,-54.4377, -99.8893, 4400,   2111.7,   2.1900,  34.6852,2,-999.0000,9,    175.6,2,    174.6,2,    87.85,2,    32.71,2,     0.00,2,     2.27,2,   2.0409
  316N20060130,AAIW06,   204,  1,      7,      7,2,20060223,1428,-54.4377, -99.8893, 4400,   2405.1,   1.9785,  34.7156,2,  34.7165,2,    181.9,2,    181.6,2,    93.09,2,    32.02,2,     0.00,2,     2.22,2,   1.8069
  316N20060130,AAIW06,   204,  1,      6,      6,2,20060223,1428,-54.4377, -99.8893, 4400,   2695.6,   1.7195,  34.7178,2,  34.7186,2,    185.7,2,    183.6,2,   103.41,2,    32.32,2,     0.00,2,     2.24,2,   1.5264
  316N20060130,AAIW06,   204,  1,      5,      5,2,20060223,1428,-54.4377, -99.8893, 4400,   2991.0,   1.5546,  34.7203,2,  34.7208,2,    188.0,2,    188.2,2,   108.06,2,    32.10,2,     0.00,2,     2.23,2,   1.3372
  316N20060130,AAIW06,   204,  1,      4,      4,2,20060223,1428,-54.4377, -99.8893, 4400,   3294.7,   1.3750,  34.7219,2,  34.7218,2,    194.3,2,    194.3,2,   111.44,2,    31.88,2,     0.00,2,     2.22,2,   1.1323
  316N20060130,AAIW06,   204,  1,      3,      3,2,20060223,1428,-54.4377, -99.8893, 4400,   3649.6,   1.1010,  34.7161,2,  34.7163,2,    199.8,2,    200.1,2,   119.69,2,    32.24,2,     0.00,2,     2.23,2,   0.8296
  316N20060130,AAIW06,   204,  1,      2,      2,2,20060223,1428,-54.4377, -99.8893, 4400,   4056.1,   0.7664,  34.7094,2,  34.7101,2,    205.0,2,    205.4,2,   131.80,2,    32.59,2,     0.00,2,     2.26,2,   0.4622
  316N20060130,AAIW06,   204,  1,      1,      1,2,20060223,1428,-54.4377, -99.8893, 4400,   4451.6,   0.7008,  34.7074,2,  34.7087,0,    207.6,2,    207.7,2,   135.44,2,    32.68,2,     0.00,2,     2.26,2,   0.3559