BOTTLE,20081218PRINUNIVRMK
EXPOCODE,SECT_ID,STNNBR,CASTNO,SAMPNO,BTLNBR,BTLNBR_FLAG_W,DATE,TIME,LATITUDE,LONGITUDE,DEPTH,CTDPRS,CTDTMP,CTDSAL,CTDSAL_FLAG_W,SALNTY,SALNTY_FLAG_W,CTDOXY,CTDOXY_FLAG_W,OXYGEN,OXYGEN_FLAG_W,SILCAT,SILCAT_FLAG_W,NITRAT,NITRAT_FLAG_W,NITRIT,NITRIT_FLAG_W,PHSPHT,PHSPHT_FLAG_W,THETA
,,,,,,,,,,,METERS,DBARS,ITS-90,PSS-78,,PSS-78,,UMOL/KG,,UMOL/KG,,UMOL/KG,,UMOL/KG,,UMOL/KG,,UMOL/KG,,DEGC
  316N20060130,AAIW06,   180,  1,     36,     36,2,20060215, 129,-60.9955, -89.0217, 4908,      5.2,   6.1902,  33.9135,2,  33.9143,2,    298.3,2,    298.4,2,     1.04,2,    21.27,2,     0.18,2,     1.54,2,   6.1898
  316N20060130,AAIW06,   180,  1,     35,     35,2,20060215, 129,-60.9955, -89.0217, 4908,     19.9,   6.1868,  33.9130,2,  33.9133,2,    299.4,2,    299.3,2,     1.03,2,    21.21,2,     0.18,2,     1.53,2,   6.1851
  316N20060130,AAIW06,   180,  1,     34,     34,2,20060215, 129,-60.9955, -89.0217, 4908,     44.7,   6.1466,  33.9136,2,-999.0000,9,    299.8,2,    298.9,2,     1.02,2,    21.27,2,     0.18,2,     1.53,2,   6.1428
  316N20060130,AAIW06,   180,  1,     33,     33,2,20060215, 129,-60.9955, -89.0217, 4908,     76.0,   3.3458,  33.9796,2,-999.0000,9,    317.6,2,    317.0,2,     7.22,2,    23.62,2,     0.22,2,     1.93,2,   3.3411
  316N20060130,AAIW06,   180,  1,     32,     32,2,20060215, 129,-60.9955, -89.0217, 4908,     96.8,   2.9710,  33.9882,2,-999.0000,9,    312.8,2,    312.6,2,    10.01,2,    24.56,2,     0.41,2,     1.88,2,   2.9652
  316N20060130,AAIW06,   180,  1,     31,     31,2,20060215, 129,-60.9955, -89.0217, 4908,    127.5,   2.7978,  33.9947,2,-999.0000,9,    305.3,2,    309.1,2,    13.40,2,    25.61,2,     0.39,2,     1.87,2,   2.7904
  316N20060130,AAIW06,   180,  1,     30,     30,2,20060215, 129,-60.9955, -89.0217, 4908,    150.7,   2.6516,  33.9980,2,-999.0000,9,    301.6,2,    309.3,2,    15.19,2,    26.19,2,     0.37,2,     1.90,2,   2.6429
  316N20060130,AAIW06,   180,  1,     29,     29,2,20060215, 129,-60.9955, -89.0217, 4908,    175.6,   2.4985,  34.0093,2,-999.0000,9,    300.2,2,    305.8,2,    16.79,2,    26.82,2,     0.05,2,     1.92,2,   2.4886
  316N20060130,AAIW06,   180,  1,     28,     28,2,20060215, 129,-60.9955, -89.0217, 4908,    225.0,   2.5150,  34.0488,2,  34.0494,2,    294.3,2,    289.9,2,    20.59,2,    27.78,2,     0.00,2,     1.97,2,   2.5022
  316N20060130,AAIW06,   180,  1,     27,     27,2,20060215, 129,-60.9955, -89.0217, 4908,    276.0,   2.6469,  34.1025,2,-999.0000,9,    272.8,2,    272.4,2,    24.78,2,    28.97,2,     0.00,2,     2.04,2,   2.6307
  316N20060130,AAIW06,   180,  1,     26,     26,2,20060215, 129,-60.9955, -89.0217, 4908,    326.6,   2.7129,  34.1546,2,-999.0000,9,    260.0,2,    254.0,2,    30.18,2,    30.30,2,     0.00,2,     2.13,2,   2.6934
  316N20060130,AAIW06,   180,  1,     25,     25,2,20060215, 129,-60.9955, -89.0217, 4908,    375.3,   2.7796,  34.2016,2,-999.0000,9,    243.3,2,    239.4,2,    34.99,2,    31.02,2,     0.00,2,     2.20,2,   2.7568
  316N20060130,AAIW06,   180,  1,     24,     24,2,20060215, 129,-60.9955, -89.0217, 4908,    425.3,   2.6838,  34.2273,2,-999.0000,9,    234.9,2,    232.1,2,    38.38,2,    31.79,2,     0.00,2,     2.24,2,   2.6581
  316N20060130,AAIW06,   180,  1,     23,     23,2,20060215, 129,-60.9955, -89.0217, 4908,    474.6,   2.7767,  34.2777,2,-999.0000,9,    218.5,2,    216.5,2,    43.39,2,    32.56,2,     0.00,2,     2.29,2,   2.7475
  316N20060130,AAIW06,   180,  1,     21,     21,9,20060215, 129,-60.9955, -89.0217, 4908,    523.7,   2.7347,  34.3102,2,-999.0000,9,   -999.0,9,   -999.0,9,  -999.00,9,  -999.00,9,  -999.00,9,  -999.00,9,   2.7024
  316N20060130,AAIW06,   180,  1,     22,     22,2,20060215, 129,-60.9955, -89.0217, 4908,    524.3,   2.7361,  34.3120,2,-999.0000,9,    206.0,2,    207.9,2,    47.19,2,    33.13,2,     0.00,2,     2.34,2,   2.7038
  316N20060130,AAIW06,   180,  1,     20,     20,2,20060215, 129,-60.9955, -89.0217, 4908,    641.4,   2.6559,  34.3936,2,-999.0000,9,    188.1,2,    189.5,2,    57.02,2,    33.99,2,     0.00,2,     2.39,2,   2.6160
  316N20060130,AAIW06,   180,  1,     19,     19,2,20060215, 129,-60.9955, -89.0217, 4908,    737.5,   2.5890,  34.4512,2,-999.0000,9,    180.4,2,    181.0,2,    63.45,2,    34.15,2,     0.00,2,     2.41,2,   2.5429
  316N20060130,AAIW06,   180,  1,     18,     18,2,20060215, 129,-60.9955, -89.0217, 4908,    837.2,   2.4826,  34.5050,2,-999.0000,9,    175.9,2,    196.6,4,    69.08,2,    34.25,2,     0.00,2,     2.41,2,   2.4302
  316N20060130,AAIW06,   180,  1,     17,     17,2,20060215, 129,-60.9955, -89.0217, 4908,    937.0,   2.4215,  34.5523,2,-999.0000,9,    172.9,2,    172.5,2,    73.71,2,    34.04,2,     0.00,2,     2.41,2,   2.3625
  316N20060130,AAIW06,   180,  1,     16,     16,2,20060215, 129,-60.9955, -89.0217, 4908,   1039.3,   2.3653,  34.5874,2,-999.0000,9,    171.5,2,    171.5,2,    76.72,2,    33.73,2,     0.00,2,     2.39,2,   2.2994
  316N20060130,AAIW06,   180,  1,     15,     15,2,20060215, 129,-60.9955, -89.0217, 4908,   1138.5,   2.3256,  34.6230,2,-999.0000,9,    171.2,2,    171.1,2,    80.36,2,    33.26,2,     0.00,2,     2.36,2,   2.2528
  316N20060130,AAIW06,   180,  1,     14,     14,2,20060215, 129,-60.9955, -89.0217, 4908,   1237.8,   2.2672,  34.6446,2,-999.0000,9,    172.4,2,    172.3,2,    81.97,2,    33.11,2,     0.00,2,     2.34,2,   2.1876
  316N20060130,AAIW06,   180,  1,     13,     13,2,20060215, 129,-60.9955, -89.0217, 4908,   1337.7,   2.2116,  34.6655,2,-999.0000,9,    173.8,2,    173.7,2,    83.98,2,    32.70,2,     0.00,2,     2.32,2,   2.1251
  316N20060130,AAIW06,   180,  1,     12,     12,2,20060215, 129,-60.9955, -89.0217, 4908,   1539.0,   2.0841,  34.6969,2,-999.0000,9,    177.5,2,    177.6,2,    87.62,2,    32.13,2,     0.00,2,     2.28,2,   1.9835
  316N20060130,AAIW06,   180,  1,     11,     11,2,20060215, 129,-60.9955, -89.0217, 4908,   1743.6,   1.9362,  34.7168,2,-999.0000,9,    181.9,2,    181.9,2,    91.87,2,    31.67,2,     0.00,2,     2.25,2,   1.8213
  316N20060130,AAIW06,   180,  1,     10,     10,2,20060215, 129,-60.9955, -89.0217, 4908,   1946.2,   1.7706,  34.7260,2,-999.0000,9,    185.2,2,    186.3,2,    96.13,2,    31.45,2,     0.00,2,     2.23,2,   1.6417
  316N20060130,AAIW06,   180,  1,      9,      9,2,20060215, 129,-60.9955, -89.0217, 4908,   2156.7,   1.6040,  34.7245,2,-999.0000,9,    187.9,2,    187.8,2,   103.04,2,    31.66,2,     0.00,2,     2.24,2,   1.4603
  316N20060130,AAIW06,   180,  1,      8,      8,2,20060215, 129,-60.9955, -89.0217, 4908,   2457.8,   1.4402,  34.7261,2,-999.0000,9,    192.2,2,    193.0,2,   106.50,2,    31.61,2,     0.00,2,     2.24,2,   1.2737
  316N20060130,AAIW06,   180,  1,      7,      7,2,20060215, 129,-60.9955, -89.0217, 4908,   2761.9,   1.2709,  34.7228,2,  34.7245,2,    196.2,2,    196.2,2,   111.80,2,    31.71,2,     0.00,2,     2.24,2,   1.0808
  316N20060130,AAIW06,   180,  1,      6,      6,2,20060215, 129,-60.9955, -89.0217, 4908,   3066.1,   1.1026,  34.7189,2,  34.7328,0,    199.9,2,    200.4,2,   116.50,2,    31.71,2,     0.00,2,     2.25,2,   0.8882
  316N20060130,AAIW06,   180,  1,      5,      5,2,20060215, 129,-60.9955, -89.0217, 4908,   3420.1,   0.9211,  34.7127,2,  34.7159,0,    203.4,2,    203.4,2,   123.46,2,    31.97,2,     0.00,2,     2.26,2,   0.6772
  316N20060130,AAIW06,   180,  1,      4,      4,2,20060215, 129,-60.9955, -89.0217, 4908,   3826.8,   0.6992,  34.7073,2,  34.7096,0,    207.4,2,    207.7,2,   129.22,2,    32.17,2,     0.00,2,     2.28,2,   0.4206
  316N20060130,AAIW06,   180,  1,      3,      3,2,20060215, 129,-60.9955, -89.0217, 4908,   4231.1,   0.5420,  34.7055,2,  34.7064,2,    211.2,2,    211.1,2,   134.78,2,    32.37,2,     0.00,2,     2.28,2,   0.2259
  316N20060130,AAIW06,   180,  1,      2,      2,2,20060215, 129,-60.9955, -89.0217, 4908,   4639.5,   0.4841,  34.7038,2,  34.7058,2,    212.7,2,    212.8,2,   138.91,2,    32.37,2,     0.00,2,     2.29,2,   0.1253
  316N20060130,AAIW06,   180,  1,      1,      1,2,20060215, 129,-60.9955, -89.0217, 4908,   4988.8,   0.4858,  34.7032,2,  34.7046,2,    214.2,2,    214.1,2,   140.78,2,    32.47,2,     0.00,2,     2.29,2,   0.0872
  316N20060130,AAIW06,   181,  1,     36,     36,2,20060215, 806,-60.5025, -89.0113, 4916,      3.9,   6.6009,  33.9142,2,  33.9138,2,    295.9,2,    296.0,2,     0.83,2,    20.82,2,     0.19,2,     1.47,2,   6.6006
  316N20060130,AAIW06,   181,  1,     33,     33,2,20060215, 806,-60.5025, -89.0113, 4916,     16.3,   6.6073,  33.9138,2,-999.0000,9,   -999.0,9,   -999.0,9,  -999.00,9,  -999.00,9,  -999.00,9,  -999.00,9,   6.6059
  316N20060130,AAIW06,   181,  1,     35,     35,2,20060215, 806,-60.5025, -89.0113, 4916,     16.5,   6.6071,  33.9139,2,  33.9138,2,    296.3,2,    296.0,2,     0.81,2,    20.87,2,     0.19,2,     1.47,2,   6.6057
  316N20060130,AAIW06,   181,  1,     34,     34,2,20060215, 806,-60.5025, -89.0113, 4916,     16.5,   6.6073,  33.9139,2,-999.0000,9,   -999.0,9,   -999.0,9,  -999.00,9,  -999.00,9,  -999.00,9,  -999.00,9,   6.6059
  316N20060130,AAIW06,   181,  1,     32,     32,9,20060215, 806,-60.5025, -89.0113, 4916,     41.5,   6.6067,  33.9130,2,-999.0000,9,   -999.0,9,   -999.0,9,  -999.00,9,  -999.00,9,  -999.00,9,  -999.00,9,   6.6031
  316N20060130,AAIW06,   181,  1,     31,     31,2,20060215, 806,-60.5025, -89.0113, 4916,     67.1,   5.2676,  33.9711,2,-999.0000,9,    306.9,2,    307.1,2,     2.20,2,    21.28,2,     0.19,2,     1.62,2,   5.2624
  316N20060130,AAIW06,   181,  1,     30,     30,2,20060215, 806,-60.5025, -89.0113, 4916,     97.4,   3.7913,  34.0061,2,-999.0000,9,    308.2,2,    308.2,2,     8.97,2,    23.19,2,     0.72,2,     1.71,2,   3.7848
  316N20060130,AAIW06,   181,  1,     29,     29,2,20060215, 806,-60.5025, -89.0113, 4916,    142.1,   3.4658,  34.0052,2,  34.0058,2,    302.1,2,    302.3,2,    11.34,2,    24.87,2,     0.01,2,     1.75,2,   3.4567
  316N20060130,AAIW06,   181,  1,     28,     28,2,20060215, 806,-60.5025, -89.0113, 4916,    191.6,   3.4470,  34.0385,2,-999.0000,9,    285.9,2,    289.6,2,    14.33,2,    26.10,2,     0.01,2,     1.83,2,   3.4347
  316N20060130,AAIW06,   181,  1,     27,     27,2,20060215, 806,-60.5025, -89.0113, 4916,    241.8,   3.2981,  34.0580,2,-999.0000,9,    273.4,2,    283.5,2,    17.10,2,    26.81,2,     0.00,2,     1.89,2,   3.2827
  316N20060130,AAIW06,   181,  1,     26,     26,2,20060215, 806,-60.5025, -89.0113, 4916,    292.3,   3.3268,  34.1056,2,-999.0000,9,    266.5,2,    269.6,2,    20.68,2,    28.09,2,     0.00,2,     1.96,2,   3.3080
  316N20060130,AAIW06,   181,  1,     25,     25,2,20060215, 806,-60.5025, -89.0113, 4916,    340.1,   2.9464,  34.0950,2,-999.0000,9,    272.8,2,    274.5,2,    22.06,2,    28.35,2,     0.00,2,     1.98,2,   2.9255
  316N20060130,AAIW06,   181,  1,     24,     24,2,20060215, 806,-60.5025, -89.0113, 4916,    390.5,   2.9378,  34.1324,2,-999.0000,9,    264.0,2,    262.1,2,    25.44,2,    29.22,2,     0.00,2,     2.04,2,   2.9136
  316N20060130,AAIW06,   181,  1,     23,     23,2,20060215, 806,-60.5025, -89.0113, 4916,    438.9,   3.0188,  34.1841,2,-999.0000,9,    257.6,2,    243.7,2,    30.41,2,    30.45,2,     0.00,2,     2.12,2,   2.9911
  316N20060130,AAIW06,   181,  1,     21,     21,9,20060215, 806,-60.5025, -89.0113, 4916,    488.8,   2.4307,  34.1468,2,-999.0000,9,   -999.0,9,   -999.0,9,  -999.00,9,  -999.00,9,  -999.00,9,  -999.00,9,   2.4020
  316N20060130,AAIW06,   181,  1,     22,     22,2,20060215, 806,-60.5025, -89.0113, 4916,    489.1,   2.4344,  34.1478,2,-999.0000,9,    258.2,2,    254.6,2,    30.61,2,    30.45,2,     0.00,2,     2.12,2,   2.4057
  316N20060130,AAIW06,   181,  1,     20,     20,2,20060215, 806,-60.5025, -89.0113, 4916,    573.9,   2.9073,  34.2763,2,-999.0000,9,    218.2,2,    218.1,2,    41.36,2,    32.29,2,     0.00,2,     2.26,2,   2.8709
  316N20060130,AAIW06,   181,  1,     19,     19,2,20060215, 806,-60.5025, -89.0113, 4916,    673.0,   2.8530,  34.3575,2,-999.0000,9,    196.1,2,    196.3,2,    51.13,2,    33.52,2,     0.00,2,     2.35,2,   2.8100
  316N20060130,AAIW06,   181,  1,     18,     18,2,20060215, 806,-60.5025, -89.0113, 4916,    772.6,   2.6981,  34.4168,2,-999.0000,9,    186.1,2,    185.8,2,    58.72,2,    34.03,2,     0.00,2,     2.39,2,   2.6490
  316N20060130,AAIW06,   181,  1,     17,     17,2,20060215, 806,-60.5025, -89.0113, 4916,    867.5,   2.5839,  34.4665,2,-999.0000,9,    179.2,2,    179.4,2,    64.31,2,    34.13,2,     0.00,2,     2.40,2,   2.5288
  316N20060130,AAIW06,   181,  1,     16,     16,2,20060215, 806,-60.5025, -89.0113, 4916,    967.2,   2.4957,  34.5240,2,-999.0000,9,    175.1,2,    174.5,2,    69.91,2,    34.14,2,     0.00,2,     2.40,2,   2.4341
  316N20060130,AAIW06,   181,  1,     15,     15,2,20060215, 806,-60.5025, -89.0113, 4916,   1067.8,   2.4171,  34.5662,2,-999.0000,9,    172.9,2,    172.7,2,    73.90,2,    33.93,2,     0.00,2,     2.38,2,   2.3488
  316N20060130,AAIW06,   181,  1,     14,     14,2,20060215, 806,-60.5025, -89.0113, 4916,   1170.3,   2.3715,  34.6068,2,-999.0000,9,    171.4,2,    171.5,2,    77.70,2,    33.63,2,     0.00,2,     2.36,2,   2.2960
  316N20060130,AAIW06,   181,  1,     13,     13,2,20060215, 806,-60.5025, -89.0113, 4916,   1269.8,   2.2855,  34.6336,2,-999.0000,9,    172.4,2,    172.8,2,    79.50,2,    33.26,2,     0.00,2,     2.34,2,   2.2034
  316N20060130,AAIW06,   181,  1,     12,     12,2,20060215, 806,-60.5025, -89.0113, 4916,   1471.1,   2.1813,  34.6784,2,-999.0000,9,    176.2,2,    175.9,2,    83.91,2,    32.40,2,     0.00,2,     2.29,2,   2.0849
  316N20060130,AAIW06,   181,  1,     11,     11,2,20060215, 806,-60.5025, -89.0113, 4916,   1669.8,   2.0552,  34.7038,2,-999.0000,9,    179.3,2,    179.3,2,    87.13,2,    31.94,2,     0.00,2,     2.25,2,   1.9447
  316N20060130,AAIW06,   181,  1,     10,     10,2,20060215, 806,-60.5025, -89.0113, 4916,   1870.8,   1.9076,  34.7183,2,-999.0000,9,    183.0,2,    182.6,2,    92.96,2,    31.69,2,     0.00,2,     2.24,2,   1.7829
  316N20060130,AAIW06,   181,  1,      9,      9,2,20060215, 806,-60.5025, -89.0113, 4916,   2083.7,   1.7459,  34.7252,2,-999.0000,9,    187.3,2,    186.9,2,    97.19,2,    31.64,2,     0.00,2,     2.22,2,   1.6061
  316N20060130,AAIW06,   181,  1,      8,      8,2,20060215, 806,-60.5025, -89.0113, 4916,   2384.7,   1.5344,  34.7256,2,-999.0000,9,    190.2,2,    190.1,2,   104.26,2,    31.69,2,     0.00,2,     2.23,2,   1.3725
  316N20060130,AAIW06,   181,  1,      7,      7,2,20060215, 806,-60.5025, -89.0113, 4916,   2685.5,   1.3682,  34.7252,2,  34.7270,0,    194.8,2,    194.8,2,   108.31,2,    31.64,2,     0.00,2,     2.22,2,   1.1830
  316N20060130,AAIW06,   181,  1,      6,      6,2,20060215, 806,-60.5025, -89.0113, 4916,   2985.7,   1.1981,  34.7212,2,  34.7224,2,    198.1,2,    198.5,2,   113.38,2,    31.70,2,     0.00,2,     2.23,2,   0.9890
  316N20060130,AAIW06,   181,  1,      5,      5,2,20060215, 806,-60.5025, -89.0113, 4916,   3391.9,   0.9510,  34.7137,2,  34.7152,2,    202.9,2,    203.4,2,   121.51,2,    31.95,2,     0.00,2,     2.25,2,   0.7091
  316N20060130,AAIW06,   181,  1,      4,      4,2,20060215, 806,-60.5025, -89.0113, 4916,   3797.8,   0.7544,  34.7086,2,  34.7094,0,    206.9,2,    206.9,2,   127.43,2,    32.16,2,     0.00,2,     2.26,2,   0.4772
  316N20060130,AAIW06,   181,  1,      3,      3,2,20060215, 806,-60.5025, -89.0113, 4916,   4207.5,   0.5704,  34.7056,2,  34.7065,2,    210.7,2,    210.9,2,   132.75,2,    32.16,2,     0.00,2,     2.27,2,   0.2559
  316N20060130,AAIW06,   181,  1,      2,      2,2,20060215, 806,-60.5025, -89.0113, 4916,   4614.9,   0.5082,  34.7046,2,  34.7057,2,    212.4,2,    213.1,2,   137.25,2,    32.36,2,     0.00,2,     2.28,2,   0.1513
  316N20060130,AAIW06,   181,  1,      1,      1,2,20060215, 806,-60.5025, -89.0113, 4916,   5024.9,   0.5183,  34.7037,2,  34.7057,0,    213.4,2,    213.3,2,   139.10,2,    32.37,2,     0.00,2,     2.27,2,   0.1144