BOTTLE,20081218PRINUNIVRMK
EXPOCODE,SECT_ID,STNNBR,CASTNO,SAMPNO,BTLNBR,BTLNBR_FLAG_W,DATE,TIME,LATITUDE,LONGITUDE,DEPTH,CTDPRS,CTDTMP,CTDSAL,CTDSAL_FLAG_W,SALNTY,SALNTY_FLAG_W,CTDOXY,CTDOXY_FLAG_W,OXYGEN,OXYGEN_FLAG_W,SILCAT,SILCAT_FLAG_W,NITRAT,NITRAT_FLAG_W,NITRIT,NITRIT_FLAG_W,PHSPHT,PHSPHT_FLAG_W,THETA
,,,,,,,,,,,METERS,DBARS,ITS-90,PSS-78,,PSS-78,,UMOL/KG,,UMOL/KG,,UMOL/KG,,UMOL/KG,,UMOL/KG,,UMOL/KG,,DEGC
  316N20060130,AAIW06,   199,  1,     36,     36,2,20060221, 942,-52.6653, -89.9720, 4932,      5.3,   9.5104,  34.0870,2,  34.0889,2,    280.6,2,    280.5,2,     2.40,2,    16.68,2,     0.23,2,     1.20,2,   9.5098
  316N20060130,AAIW06,   199,  1,     34,     34,2,20060221, 942,-52.6653, -89.9720, 4932,     15.0,   9.5111,  34.0869,2,-999.0000,9,   -999.0,9,   -999.0,9,  -999.00,9,  -999.00,9,  -999.00,9,  -999.00,9,   9.5094
  316N20060130,AAIW06,   199,  1,     35,     35,2,20060221, 942,-52.6653, -89.9720, 4932,     15.2,   9.5100,  34.0870,2,-999.0000,9,   -999.0,9,   -999.0,9,  -999.00,9,  -999.00,9,  -999.00,9,  -999.00,9,   9.5083
  316N20060130,AAIW06,   199,  1,     33,     33,2,20060221, 942,-52.6653, -89.9720, 4932,     15.3,   9.5116,  34.0869,2,  34.0883,2,    281.2,2,    280.6,2,     2.35,2,    16.68,2,     0.23,2,     1.18,2,   9.5099
  316N20060130,AAIW06,   199,  1,     32,     32,2,20060221, 942,-52.6653, -89.9720, 4932,     40.1,   9.4633,  34.0822,2,  34.0842,2,    281.3,2,    280.4,2,     2.08,2,    16.69,2,     0.22,2,     1.18,2,   9.4589
  316N20060130,AAIW06,   199,  1,     31,     31,2,20060221, 942,-52.6653, -89.9720, 4932,     65.9,   8.9984,  34.0845,2,  34.0953,2,    282.2,2,    286.2,2,     2.25,2,    16.91,2,     0.20,2,     1.21,2,   8.9914
  316N20060130,AAIW06,   199,  1,     30,     30,2,20060221, 942,-52.6653, -89.9720, 4932,     95.9,   6.0077,  34.1597,2,  34.1621,2,    302.0,2,    301.6,2,     5.10,2,    18.96,2,     0.15,2,     1.38,2,   5.9996
  316N20060130,AAIW06,   199,  1,     29,     29,2,20060221, 942,-52.6653, -89.9720, 4932,    140.5,   5.5558,  34.1697,2,-999.0000,9,    295.7,2,    296.4,2,     5.67,2,    19.74,2,     0.39,2,     1.44,2,   5.5444
  316N20060130,AAIW06,   199,  1,     28,     28,2,20060221, 942,-52.6653, -89.9720, 4932,    190.4,   5.4540,  34.1824,2,-999.0000,9,    292.6,2,    292.0,2,     6.24,2,    20.93,2,     0.02,2,     1.47,2,   5.4387
  316N20060130,AAIW06,   199,  1,     27,     27,2,20060221, 942,-52.6653, -89.9720, 4932,    240.1,   5.4056,  34.1892,2,-999.0000,9,    286.5,2,    291.0,2,     6.61,2,    21.10,2,     0.01,2,     1.50,2,   5.3863
  316N20060130,AAIW06,   199,  1,     26,     26,2,20060221, 942,-52.6653, -89.9720, 4932,    290.0,   5.3871,  34.1934,2,-999.0000,9,    288.5,2,    291.3,2,     6.56,2,    21.10,2,     0.00,2,     1.50,2,   5.3637
  316N20060130,AAIW06,   199,  1,     25,     25,2,20060221, 942,-52.6653, -89.9720, 4932,    339.9,   5.4171,  34.2054,2,-999.0000,9,    286.6,2,    286.3,2,     7.34,2,    21.40,2,     0.00,2,     1.53,2,   5.3895
  316N20060130,AAIW06,   199,  1,     24,     24,2,20060221, 942,-52.6653, -89.9720, 4932,    389.9,   5.3861,  34.2075,2,-999.0000,9,    282.7,2,    282.9,2,     8.12,2,    22.12,2,     0.00,2,     1.56,2,   5.3544
  316N20060130,AAIW06,   199,  1,     23,     23,2,20060221, 942,-52.6653, -89.9720, 4932,    439.7,   5.3285,  34.2073,2,-999.0000,9,    277.1,2,    278.7,2,     8.90,2,    22.79,2,     0.00,2,     1.58,2,   5.2928
  316N20060130,AAIW06,   199,  1,     22,     22,2,20060221, 942,-52.6653, -89.9720, 4932,    489.4,   5.2159,  34.2022,2,-999.0000,9,    271.9,2,    274.8,2,     9.89,2,    23.41,2,     0.00,2,     1.64,2,   5.1764
  316N20060130,AAIW06,   199,  1,     21,     21,9,20060221, 942,-52.6653, -89.9720, 4932,    489.9,   5.2121,  34.2017,2,-999.0000,9,   -999.0,9,   -999.0,9,  -999.00,9,  -999.00,9,  -999.00,9,  -999.00,9,   5.1725
  316N20060130,AAIW06,   199,  1,     20,     20,2,20060221, 942,-52.6653, -89.9720, 4932,    574.1,   5.0053,  34.2048,2,  34.2054,2,    259.6,2,    258.5,2,    13.16,2,    25.31,2,     0.00,2,     1.75,2,   4.9595
  316N20060130,AAIW06,   199,  1,     19,     19,2,20060221, 942,-52.6653, -89.9720, 4932,    673.4,   4.7484,  34.2230,2,-999.0000,9,    242.9,2,    242.7,2,    17.89,2,    27.22,2,     0.00,2,     1.89,2,   4.6955
  316N20060130,AAIW06,   199,  1,     18,     18,2,20060221, 942,-52.6653, -89.9720, 4932,    773.2,   4.4266,  34.2563,2,-999.0000,9,    226.2,2,    225.4,2,    24.26,2,    29.27,2,     0.00,2,     2.02,2,   4.3672
  316N20060130,AAIW06,   199,  1,     17,     17,2,20060221, 942,-52.6653, -89.9720, 4932,    872.8,   4.0394,  34.2843,2,-999.0000,9,    215.1,2,    214.1,2,    31.07,2,    30.82,2,     0.00,2,     2.13,2,   3.9742
  316N20060130,AAIW06,   199,  1,     16,     16,2,20060221, 942,-52.6653, -89.9720, 4932,    973.3,   3.6795,  34.3147,2,-999.0000,9,    204.1,2,    203.1,2,    38.08,2,    32.21,2,     0.00,2,     2.24,2,   3.6088
  316N20060130,AAIW06,   199,  1,     15,     15,2,20060221, 942,-52.6653, -89.9720, 4932,   1073.5,   3.3892,  34.3509,2,-999.0000,9,    193.8,2,    194.3,2,    45.72,2,    33.08,2,     0.00,2,     2.28,2,   3.3127
  316N20060130,AAIW06,   199,  1,     14,     14,2,20060221, 942,-52.6653, -89.9720, 4932,   1173.4,   3.1368,  34.3943,2,-999.0000,9,    184.7,2,    184.0,2,    52.54,2,    33.91,2,     0.00,2,     2.34,2,   3.0545
  316N20060130,AAIW06,   199,  1,     13,     13,2,20060221, 942,-52.6653, -89.9720, 4932,   1273.6,   2.9712,  34.4362,2,-999.0000,9,    174.4,2,    175.7,2,    60.62,2,    34.48,2,     0.00,2,     2.40,2,   2.8824
  316N20060130,AAIW06,   199,  1,     12,     12,2,20060221, 942,-52.6653, -89.9720, 4932,   1473.8,   2.7079,  34.5190,2,-999.0000,9,    162.9,2,    162.2,2,    74.12,2,    35.19,2,     0.00,2,     2.44,2,   2.6057
  316N20060130,AAIW06,   199,  1,     11,     11,2,20060221, 942,-52.6653, -89.9720, 4932,   1674.5,   2.5112,  34.5800,2,-999.0000,9,    158.5,2,    158.1,2,    83.48,2,    35.09,2,     0.00,2,     2.44,2,   2.3948
  316N20060130,AAIW06,   199,  1,     10,     10,2,20060221, 942,-52.6653, -89.9720, 4932,   1875.4,   2.3402,  34.6238,2,-999.0000,9,    160.5,2,    160.1,2,    90.37,2,    34.52,2,     0.00,2,     2.41,2,   2.2092
  316N20060130,AAIW06,   199,  1,      9,      9,2,20060221, 942,-52.6653, -89.9720, 4932,   2178.0,   2.1052,  34.6642,2,-999.0000,9,    159.7,2,    160.5,2,   101.67,2,    34.31,2,     0.00,2,     2.40,2,   1.9517
  316N20060130,AAIW06,   199,  1,      8,      8,2,20060221, 942,-52.6653, -89.9720, 4932,   2378.5,   1.9828,  34.6805,2,  34.6800,2,    162.9,2,    164.0,2,   105.84,2,    34.04,2,     0.00,2,     2.38,2,   1.8137
  316N20060130,AAIW06,   199,  1,      7,      7,2,20060221, 942,-52.6653, -89.9720, 4932,   2681.9,   1.8251,  34.6931,2,  34.6932,2,    168.1,2,    167.7,2,   111.08,2,    33.89,2,     0.00,2,     2.35,2,   1.6312
  316N20060130,AAIW06,   199,  1,      6,      6,2,20060221, 942,-52.6653, -89.9720, 4932,   2994.8,   1.7012,  34.7092,2,  34.7089,2,    178.3,2,    178.4,2,   109.99,2,    33.02,2,     0.00,2,     2.29,2,   1.4803
  316N20060130,AAIW06,   199,  1,      5,      5,2,20060221, 942,-52.6653, -89.9720, 4932,   3400.3,   1.4778,  34.7193,2,  34.7183,2,    189.9,2,    190.0,2,   111.02,2,    32.29,2,     0.00,2,     2.23,2,   1.2221
  316N20060130,AAIW06,   199,  1,      4,      4,2,20060221, 942,-52.6653, -89.9720, 4932,   3805.0,   1.1291,  34.7158,2,  34.7151,2,    198.6,2,    198.7,2,   119.65,2,    32.23,2,     0.00,2,     2.23,2,   0.8410
  316N20060130,AAIW06,   199,  1,      3,      3,2,20060221, 942,-52.6653, -89.9720, 4932,   4210.4,   0.8148,  34.7098,2,  34.7094,2,    204.8,2,    204.6,2,   130.45,2,    32.65,2,     0.00,2,     2.25,2,   0.4927
  316N20060130,AAIW06,   199,  1,      2,      2,2,20060221, 942,-52.6653, -89.9720, 4932,   4616.0,   0.6905,  34.7075,2,  34.7100,0,    208.5,2,    207.8,2,   134.68,2,    32.75,2,     0.00,2,     2.26,2,   0.3276
  316N20060130,AAIW06,   199,  1,      1,      1,2,20060221, 942,-52.6653, -89.9720, 4932,   5020.5,   0.6795,  34.7063,2,  34.7054,2,    210.3,2,    210.4,2,   137.64,2,    32.69,2,     0.00,2,     2.27,2,   0.2705
  316N20060130,AAIW06,   200,  1,     36,     36,2,20060221,1950,-53.0328, -91.9195, 4824,      3.1,   9.1019,  34.1219,7,  34.1255,2,    283.7,2,    284.6,2,     0.45,2,    15.74,2,     0.21,2,     1.04,2,   9.1016
  316N20060130,AAIW06,   200,  1,     35,     35,2,20060221,1950,-53.0328, -91.9195, 4824,     28.3,   9.0765,  34.1228,2,  34.1218,2,    285.6,2,    285.1,2,     0.44,2,    15.74,2,     0.21,2,     1.04,2,   9.0735
  316N20060130,AAIW06,   200,  1,     34,     34,2,20060221,1950,-53.0328, -91.9195, 4824,     53.5,   8.8449,  34.1246,2,  34.1294,2,    285.6,2,    284.2,2,     0.84,2,    15.69,2,     0.20,2,     1.10,2,   8.8393
  316N20060130,AAIW06,   200,  1,     33,     33,2,20060221,1950,-53.0328, -91.9195, 4824,     77.9,   8.7799,  34.1224,2,  34.1272,2,    287.5,2,    283.8,2,     0.83,2,    15.79,2,     0.20,2,     1.10,2,   8.7717
  316N20060130,AAIW06,   200,  1,     32,     32,2,20060221,1950,-53.0328, -91.9195, 4824,    108.3,   6.0261,  34.1626,2,  34.1651,2,    301.5,2,    301.0,2,     4.73,2,    18.65,2,     0.16,2,     1.39,2,   6.0170
  316N20060130,AAIW06,   200,  1,     31,     31,2,20060221,1950,-53.0328, -91.9195, 4824,    158.1,   5.6501,  34.1758,2,-999.0000,9,    292.7,2,    295.9,2,     5.13,2,    19.58,2,     0.47,2,     1.43,2,   5.6372
  316N20060130,AAIW06,   200,  1,     30,     30,2,20060221,1950,-53.0328, -91.9195, 4824,    208.0,   5.5501,  34.1890,2,-999.0000,9,    287.8,2,    293.0,2,     5.74,2,    20.58,2,     0.02,2,     1.46,2,   5.5332
  316N20060130,AAIW06,   200,  1,     29,     29,2,20060221,1950,-53.0328, -91.9195, 4824,    257.5,   5.5343,  34.2003,2,-999.0000,9,    290.5,2,    290.3,2,     6.14,2,    20.74,2,     0.01,2,     1.46,2,   5.5133
  316N20060130,AAIW06,   200,  1,     28,     28,2,20060221,1950,-53.0328, -91.9195, 4824,    307.6,   5.4595,  34.1964,2,-999.0000,9,    288.9,2,    291.3,2,     6.12,2,    20.74,2,     0.01,2,     1.46,2,   5.4345
  316N20060130,AAIW06,   200,  1,     27,     27,2,20060221,1950,-53.0328, -91.9195, 4824,    358.1,   5.4484,  34.2013,2,-999.0000,9,    286.2,2,    289.5,2,     6.52,2,    21.15,2,     0.01,2,     1.47,2,   5.4192
  316N20060130,AAIW06,   200,  1,     26,     26,2,20060221,1950,-53.0328, -91.9195, 4824,    407.7,   5.5326,  34.2227,2,-999.0000,9,    281.0,2,    281.2,2,     8.37,2,    21.96,2,     0.01,2,     1.52,2,   5.4989
  316N20060130,AAIW06,   200,  1,     25,     25,2,20060221,1950,-53.0328, -91.9195, 4824,    456.9,   5.4291,  34.2145,2,-999.0000,9,    278.0,2,    279.3,2,     8.76,2,    22.47,2,     0.01,2,     1.55,2,   5.3915
  316N20060130,AAIW06,   200,  1,     24,     24,2,20060221,1950,-53.0328, -91.9195, 4824,    507.4,   5.2885,  34.2069,2,-999.0000,9,    275.4,2,    274.9,2,    10.61,2,    23.24,2,     0.00,2,     1.60,2,   5.2472
  316N20060130,AAIW06,   200,  1,     23,     23,2,20060221,1950,-53.0328, -91.9195, 4824,    606.9,   5.0623,  34.2080,2,-999.0000,9,    262.9,2,    261.1,2,    12.65,2,    25.09,2,     0.00,2,     1.73,2,   5.0135
  316N20060130,AAIW06,   200,  1,     22,     22,2,20060221,1950,-53.0328, -91.9195, 4824,    706.8,   4.8125,  34.2263,2,-999.0000,9,    245.1,2,    243.0,2,    17.58,2,    27.09,2,     0.00,2,     1.87,2,   4.7565
  316N20060130,AAIW06,   200,  1,     20,     20,2,20060221,1950,-53.0328, -91.9195, 4824,    806.4,   4.4902,  34.2561,2,-999.0000,9,    226.2,2,    225.8,2,    23.33,2,    29.10,2,     0.00,2,     1.98,2,   4.4276
  316N20060130,AAIW06,   200,  1,     21,     21,9,20060221,1950,-53.0328, -91.9195, 4824,    806.6,   4.4906,  34.2562,2,-999.0000,9,   -999.0,9,   -999.0,9,  -999.00,9,  -999.00,9,  -999.00,9,  -999.00,9,   4.4280
  316N20060130,AAIW06,   200,  1,     19,     19,2,20060221,1950,-53.0328, -91.9195, 4824,    956.5,   3.9141,  34.2953,2,-999.0000,9,    211.1,2,    210.4,2,    33.62,2,    31.20,2,     0.00,2,     2.15,2,   3.8430
  316N20060130,AAIW06,   200,  1,     17,     17,9,20060221,1950,-53.0328, -91.9195, 4824,   1105.5,   3.3689,  34.3457,2,-999.0000,9,   -999.0,9,   -999.0,9,  -999.00,9,  -999.00,9,  -999.00,9,  -999.00,9,   3.2900
  316N20060130,AAIW06,   200,  1,     18,     18,2,20060221,1950,-53.0328, -91.9195, 4824,   1105.7,   3.3689,  34.3458,2,-999.0000,9,    199.8,2,    197.9,2,    44.71,2,    32.79,2,     0.00,2,     2.27,2,   3.2900
  316N20060130,AAIW06,   200,  1,     16,     16,2,20060221,1950,-53.0328, -91.9195, 4824,   1207.5,   3.0988,  34.3869,2,-999.0000,9,    190.7,2,    190.1,2,    52.33,2,    33.51,2,     0.00,2,     2.33,2,   3.0142
  316N20060130,AAIW06,   200,  1,     15,     15,2,20060221,1950,-53.0328, -91.9195, 4824,   1307.7,   2.9283,  34.4354,2,-999.0000,9,    178.9,2,    177.9,2,    60.15,2,    34.27,2,     0.00,2,     2.39,2,   2.8372
  316N20060130,AAIW06,   200,  1,     14,     14,2,20060221,1950,-53.0328, -91.9195, 4824,   1407.6,   2.7818,  34.4768,2,-999.0000,9,    173.0,2,    173.3,2,    65.91,2,    34.57,2,     0.00,2,     2.40,2,   2.6842
  316N20060130,AAIW06,   200,  1,     13,     13,2,20060221,1950,-53.0328, -91.9195, 4824,   1507.8,   2.6770,  34.5146,2,-999.0000,9,    168.2,2,    168.4,2,    71.05,2,    34.57,2,     0.00,2,     2.41,2,   2.5724
  316N20060130,AAIW06,   200,  1,     12,     12,2,20060221,1950,-53.0328, -91.9195, 4824,   1608.3,   2.5787,  34.5508,2,-999.0000,9,    166.0,2,    166.0,2,    76.20,2,    34.40,2,     0.00,2,     2.41,2,   2.4670
  316N20060130,AAIW06,   200,  1,     11,     11,2,20060221,1950,-53.0328, -91.9195, 4824,   1809.0,   2.4172,  34.6095,2,-999.0000,9,    166.0,2,    166.2,2,    82.19,2,    33.98,2,     0.00,2,     2.37,2,   2.2908
  316N20060130,AAIW06,   200,  1,     10,     10,2,20060221,1950,-53.0328, -91.9195, 4824,   2009.3,   2.2810,  34.6524,2,-999.0000,9,    167.2,2,    168.2,2,    86.73,2,    33.51,2,     0.00,2,     2.33,2,   2.1394
  316N20060130,AAIW06,   200,  1,      9,      9,2,20060221,1950,-53.0328, -91.9195, 4824,   2312.4,   2.0433,  34.6875,2,  34.6874,2,    171.9,2,    169.4,2,    98.34,2,    33.29,2,     0.00,2,     2.32,2,   1.8790
  316N20060130,AAIW06,   200,  1,      8,      8,2,20060221,1950,-53.0328, -91.9195, 4824,   2613.5,   1.8441,  34.7025,2,  34.7021,2,    174.0,2,    173.7,2,   104.99,2,    33.03,2,     0.00,2,     2.31,2,   1.6561
  316N20060130,AAIW06,   200,  1,      7,      7,2,20060221,1950,-53.0328, -91.9195, 4824,   2916.5,   1.6788,  34.7131,2,  34.7121,2,    180.1,2,    181.1,2,   108.30,2,    32.61,2,     0.00,2,     2.27,2,   1.4658
  316N20060130,AAIW06,   200,  1,      6,      6,2,20060221,1950,-53.0328, -91.9195, 4824,   3220.5,   1.5295,  34.7196,2,  34.7210,0,    188.2,2,    188.5,2,   108.49,2,    32.25,2,     0.00,2,     2.24,2,   1.2904
  316N20060130,AAIW06,   200,  1,      5,      5,2,20060221,1950,-53.0328, -91.9195, 4824,   3524.7,   1.3095,  34.7182,2,  34.7186,2,    193.8,2,    193.9,2,   114.32,2,    32.14,2,     0.00,2,     2.24,2,   1.0454
  316N20060130,AAIW06,   200,  1,      4,      4,2,20060221,1950,-53.0328, -91.9195, 4824,   3828.6,   1.0525,  34.7144,2,  34.7141,2,    199.6,2,    199.9,2,   121.20,2,    32.29,2,     0.00,2,     2.24,2,   0.7640
  316N20060130,AAIW06,   200,  1,      3,      3,2,20060221,1950,-53.0328, -91.9195, 4824,   4234.3,   0.7712,  34.7093,2,  34.7088,2,    205.4,2,    205.9,2,   130.42,2,    32.53,2,     0.00,2,     2.23,2,   0.4478
  316N20060130,AAIW06,   200,  1,      2,      2,2,20060221,1950,-53.0328, -91.9195, 4824,   4641.6,   0.6611,  34.7069,2,  34.7028,0,    208.3,2,    208.4,2,   135.04,2,    32.52,2,     0.00,2,     2.26,2,   0.2963
  316N20060130,AAIW06,   200,  1,      1,      1,2,20060221,1950,-53.0328, -91.9195, 4824,   4961.5,   0.6702,  34.7063,2,  34.7026,0,    209.0,2,    209.1,2,   135.02,2,    32.46,2,     0.00,2,     2.26,2,   0.2685