BOTTLE,20081218PRINUNIVRMK
EXPOCODE,SECT_ID,STNNBR,CASTNO,SAMPNO,BTLNBR,BTLNBR_FLAG_W,DATE,TIME,LATITUDE,LONGITUDE,DEPTH,CTDPRS,CTDTMP,CTDSAL,CTDSAL_FLAG_W,SALNTY,SALNTY_FLAG_W,CTDOXY,CTDOXY_FLAG_W,OXYGEN,OXYGEN_FLAG_W,SILCAT,SILCAT_FLAG_W,NITRAT,NITRAT_FLAG_W,NITRIT,NITRIT_FLAG_W,PHSPHT,PHSPHT_FLAG_W,THETA
,,,,,,,,,,,METERS,DBARS,ITS-90,PSS-78,,PSS-78,,UMOL/KG,,UMOL/KG,,UMOL/KG,,UMOL/KG,,UMOL/KG,,UMOL/KG,,DEGC
  316N20060130,AAIW06,   162,  1,     36,     36,2,20060209,1242,-57.5848, -79.0153, 4725,      7.0,   8.2942,  34.0751,2,  34.0748,2,    288.5,2,    288.8,2,     0.76,2,    16.82,2,     0.22,2,     1.21,2,   8.2935
  316N20060130,AAIW06,   162,  1,     35,     35,2,20060209,1242,-57.5848, -79.0153, 4725,     20.0,   8.2902,  34.0748,2,-999.0000,9,   -999.0,9,   -999.0,9,  -999.00,9,  -999.00,9,  -999.00,9,  -999.00,9,   8.2882
  316N20060130,AAIW06,   162,  1,     33,     33,2,20060209,1242,-57.5848, -79.0153, 4725,     20.2,   8.2920,  34.0747,2,  34.0768,2,    289.8,2,    288.7,2,     0.73,2,    16.72,2,     0.22,2,     1.20,2,   8.2900
  316N20060130,AAIW06,   162,  1,     34,     34,2,20060209,1242,-57.5848, -79.0153, 4725,     20.7,   8.2918,  34.0747,2,-999.0000,9,   -999.0,9,   -999.0,9,  -999.00,9,  -999.00,9,  -999.00,9,  -999.00,9,   8.2897
  316N20060130,AAIW06,   162,  1,     32,     32,9,20060209,1242,-57.5848, -79.0153, 4725,     45.4,   8.2857,  34.0736,2,-999.0000,9,   -999.0,9,   -999.0,9,  -999.00,9,  -999.00,9,  -999.00,9,  -999.00,9,   8.2811
  316N20060130,AAIW06,   162,  1,     31,     31,2,20060209,1242,-57.5848, -79.0153, 4725,     73.6,   5.8189,  34.1271,2,  34.1277,0,    298.1,2,    297.5,2,     4.94,2,    19.12,2,     0.22,2,     1.51,2,   5.8128
  316N20060130,AAIW06,   162,  1,     30,     30,2,20060209,1242,-57.5848, -79.0153, 4725,    115.1,   5.3012,  34.1439,2,  34.1453,2,    295.5,2,    296.3,2,     6.73,2,    20.41,2,     0.32,2,     1.50,2,   5.2922
  316N20060130,AAIW06,   162,  1,     29,     29,2,20060209,1242,-57.5848, -79.0153, 4725,    164.3,   5.1629,  34.1502,2,-999.0000,9,    296.5,2,    298.6,2,     6.91,2,    20.85,2,     0.13,2,     1.51,2,   5.1501
  316N20060130,AAIW06,   162,  1,     28,     28,2,20060209,1242,-57.5848, -79.0153, 4725,    223.9,   5.1108,  34.1581,2,-999.0000,9,    295.5,2,    296.0,2,     6.89,2,    21.08,2,     0.01,2,     1.52,2,   5.0933
  316N20060130,AAIW06,   162,  1,     27,     27,9,20060209,1242,-57.5848, -79.0153, 4725,    271.2,   5.0488,  34.1562,2,-999.0000,9,   -999.0,9,   -999.0,9,  -999.00,9,  -999.00,9,  -999.00,9,  -999.00,9,   5.0277
  316N20060130,AAIW06,   162,  1,     26,     26,2,20060209,1242,-57.5848, -79.0153, 4725,    275.7,   5.0491,  34.1567,2,-999.0000,9,    295.5,2,    295.0,2,     7.07,2,    21.03,2,     0.01,2,     1.52,2,   5.0276
  316N20060130,AAIW06,   162,  1,     25,     25,2,20060209,1242,-57.5848, -79.0153, 4725,    323.4,   5.0232,  34.1567,2,-999.0000,9,    297.1,2,    292.8,2,     7.05,2,    21.19,2,     0.01,2,     1.53,2,   4.9980
  316N20060130,AAIW06,   162,  1,     24,     24,2,20060209,1242,-57.5848, -79.0153, 4725,    374.5,   4.8873,  34.1460,2,  34.1474,2,    297.6,2,    293.2,2,     7.64,2,    21.49,2,     0.01,2,     1.54,2,   4.8584
  316N20060130,AAIW06,   162,  1,     23,     23,2,20060209,1242,-57.5848, -79.0153, 4725,    422.9,   4.9004,  34.1552,2,-999.0000,9,    291.4,2,    286.4,2,     7.81,2,    21.80,2,     0.00,2,     1.55,2,   4.8675
  316N20060130,AAIW06,   162,  1,     21,     21,9,20060209,1242,-57.5848, -79.0153, 4725,    472.8,   4.8837,  34.1680,2,-999.0000,9,   -999.0,9,   -999.0,9,  -999.00,9,  -999.00,9,  -999.00,9,  -999.00,9,   4.8468
  316N20060130,AAIW06,   162,  1,     22,     22,2,20060209,1242,-57.5848, -79.0153, 4725,    474.5,   4.8818,  34.1678,2,-999.0000,9,    282.2,2,    275.8,2,     8.80,2,    22.26,2,     0.00,2,     1.59,2,   4.8448
  316N20060130,AAIW06,   162,  1,     20,     20,2,20060209,1242,-57.5848, -79.0153, 4725,    523.7,   4.7969,  34.1762,2,-999.0000,9,    280.6,2,    268.0,2,    10.79,2,    23.55,2,     0.00,2,     1.67,2,   4.7562
  316N20060130,AAIW06,   162,  1,     19,     19,2,20060209,1242,-57.5848, -79.0153, 4725,    643.4,   4.6029,  34.2157,2,-999.0000,9,    243.1,2,    242.6,2,    12.18,2,    24.48,2,     0.00,2,     1.73,2,   4.5532
  316N20060130,AAIW06,   162,  1,     18,     18,2,20060209,1242,-57.5848, -79.0153, 4725,    741.4,   4.3264,  34.2556,2,-999.0000,9,    225.4,2,    224.9,2,    18.60,2,    27.00,2,     0.00,2,     1.90,2,   4.2702
  316N20060130,AAIW06,   162,  1,     17,     17,2,20060209,1242,-57.5848, -79.0153, 4725,    841.3,   3.9225,  34.2873,2,-999.0000,9,    213.8,2,    213.5,2,    25.42,2,    28.80,2,     0.00,2,     2.02,2,   3.8607
  316N20060130,AAIW06,   162,  1,     16,     16,2,20060209,1242,-57.5848, -79.0153, 4725,    936.8,   3.5437,  34.3193,2,-999.0000,9,    204.7,2,    203.8,2,    32.65,2,    30.40,2,     0.00,2,     2.13,2,   3.4769
  316N20060130,AAIW06,   162,  1,     15,     15,2,20060209,1242,-57.5848, -79.0153, 4725,   1038.7,   3.2608,  34.3570,2,-999.0000,9,    192.3,2,    193.8,2,    40.08,2,    31.74,2,     0.00,2,     2.22,2,   3.1881
  316N20060130,AAIW06,   162,  1,     14,     14,2,20060209,1242,-57.5848, -79.0153, 4725,   1140.1,   3.0407,  34.3946,2,-999.0000,9,    187.2,2,    187.0,2,    47.31,2,    32.73,2,     0.00,2,     2.30,2,   2.9619
  316N20060130,AAIW06,   162,  1,     13,     13,2,20060209,1242,-57.5848, -79.0153, 4725,   1239.4,   2.8307,  34.4376,2,-999.0000,9,    182.4,2,    182.7,2,    53.75,2,    33.19,2,     0.00,2,     2.34,2,   2.7460
  316N20060130,AAIW06,   162,  1,     12,     12,2,20060209,1242,-57.5848, -79.0153, 4725,   1339.5,   2.7073,  34.4804,2,-999.0000,9,    173.9,2,    176.1,2,    60.00,2,    33.45,2,     0.00,2,     2.37,2,   2.6159
  316N20060130,AAIW06,   162,  1,     11,     11,2,20060209,1242,-57.5848, -79.0153, 4725,   1438.2,   2.5965,  34.5250,2,-999.0000,9,    172.8,2,    172.3,2,    65.84,2,    33.65,2,     0.00,2,     2.38,2,   2.4984
  316N20060130,AAIW06,   162,  1,     10,     10,2,20060209,1242,-57.5848, -79.0153, 4725,   1638.2,   2.4367,  34.5908,2,-999.0000,9,    170.3,2,    170.4,2,    70.88,2,    33.75,2,     0.00,2,     2.38,2,   2.3242
  316N20060130,AAIW06,   162,  1,      9,      9,2,20060209,1242,-57.5848, -79.0153, 4725,   1835.5,   2.3177,  34.6459,2,-999.0000,9,    171.3,2,    171.4,2,    77.14,2,    33.39,2,     0.00,2,     2.36,2,   2.1903
  316N20060130,AAIW06,   162,  1,      8,      8,2,20060209,1242,-57.5848, -79.0153, 4725,   2137.4,   2.1343,  34.6965,2,  34.6994,0,    177.6,2,    177.4,2,    82.19,2,    32.77,2,     0.00,2,     2.32,2,   1.9838
  316N20060130,AAIW06,   162,  1,      7,      7,2,20060209,1242,-57.5848, -79.0153, 4725,   2458.4,   1.9080,  34.7225,2,  34.7249,0,    183.2,2,    183.7,2,    86.85,2,    31.95,2,     0.00,2,     2.25,2,   1.7329
  316N20060130,AAIW06,   162,  1,      6,      6,2,20060209,1242,-57.5848, -79.0153, 4725,   2763.7,   1.6671,  34.7258,2,  34.7282,0,    186.9,2,    191.7,0,    93.16,2,    31.32,2,     0.00,2,     2.20,2,   1.4687
  316N20060130,AAIW06,   162,  1,      5,      5,2,20060209,1242,-57.5848, -79.0153, 4725,   3167.4,   1.4339,  34.7244,2,  34.7266,0,    193.3,2,    193.4,2,   101.91,2,    31.37,2,     0.00,2,     2.21,2,   1.2022
  316N20060130,AAIW06,   162,  1,      4,      4,2,20060209,1242,-57.5848, -79.0153, 4725,   3573.6,   1.1837,  34.7193,2,  34.7217,0,    198.7,2,    199.1,2,   108.44,2,    31.37,2,     0.00,2,     2.21,2,   0.9179
  316N20060130,AAIW06,   162,  1,      3,      3,2,20060209,1242,-57.5848, -79.0153, 4725,   3978.6,   0.9200,  34.7122,2,  34.7156,0,    203.8,2,    203.8,2,   115.21,2,    31.48,2,     0.00,2,     2.22,2,   0.6195
  316N20060130,AAIW06,   162,  1,      2,      2,2,20060209,1242,-57.5848, -79.0153, 4725,   4386.1,   0.6624,  34.7074,2,  34.7092,0,    208.2,2,    208.5,2,   133.33,2,    31.73,2,     0.00,2,     2.25,2,   0.3259
  316N20060130,AAIW06,   162,  1,      1,      1,2,20060209,1242,-57.5848, -79.0153, 4725,   4792.4,   0.6267,  34.7060,2,  34.7081,0,    210.2,2,    210.0,2,   135.59,2,    32.00,2,     0.00,2,     2.26,2,   0.2459
  316N20060130,AAIW06,   163,  1,     36,     36,2,20060209,2007,-57.8108, -80.0163, 4873,      5.9,   8.0757,  34.0562,2,  34.0575,2,    291.2,2,    292.1,2,     0.66,2,    17.66,2,     0.21,2,     1.26,2,   8.0751
  316N20060130,AAIW06,   163,  1,     35,     35,2,20060209,2007,-57.8108, -80.0163, 4873,     18.5,   8.0732,  34.0559,2,  34.0573,2,    291.9,2,    290.9,2,     0.43,2,    17.71,2,     0.21,2,     1.26,2,   8.0714
  316N20060130,AAIW06,   163,  1,     34,     34,2,20060209,2007,-57.8108, -80.0163, 4873,     44.2,   7.9432,  34.0544,2,  34.0567,2,    292.9,2,    291.4,2,     0.40,2,    17.76,2,     0.20,2,     1.26,2,   7.9389
  316N20060130,AAIW06,   163,  1,     33,     33,2,20060209,2007,-57.8108, -80.0163, 4873,     67.9,   5.7695,  34.1290,2,  34.1302,2,    302.4,2,    301.7,2,     4.83,2,    19.42,2,     0.19,2,     1.48,2,   5.7639
  316N20060130,AAIW06,   163,  1,     31,     31,2,20060209,2007,-57.8108, -80.0163, 4873,    102.8,   5.2479,  34.1318,2,  34.1314,2,    297.1,2,    298.2,2,     6.82,2,    20.64,2,     0.61,2,     1.53,2,   5.2399
  316N20060130,AAIW06,   163,  1,     32,     32,9,20060209,2007,-57.8108, -80.0163, 4873,    103.2,   5.2446,  34.1311,2,-999.0000,9,   -999.0,9,   -999.0,9,  -999.00,9,  -999.00,9,  -999.00,9,  -999.00,9,   5.2365
  316N20060130,AAIW06,   163,  1,     30,     30,2,20060209,2007,-57.8108, -80.0163, 4873,    142.5,   5.0864,  34.1305,2,  34.1306,2,    296.4,2,    296.8,2,     7.00,2,    21.45,2,     0.01,2,     1.53,2,   5.0754
  316N20060130,AAIW06,   163,  1,     29,     29,2,20060209,2007,-57.8108, -80.0163, 4873,    192.4,   5.0575,  34.1336,2,-999.0000,9,    296.1,2,    411.5,4,     6.96,2,    21.45,2,     0.01,2,     1.53,2,   5.0426
  316N20060130,AAIW06,   163,  1,     28,     28,2,20060209,2007,-57.8108, -80.0163, 4873,    242.1,   5.0308,  34.1368,2,-999.0000,9,    295.7,2,    295.4,2,     7.14,2,    21.55,2,     0.01,2,     1.53,2,   5.0121
  316N20060130,AAIW06,   163,  1,     27,     27,2,20060209,2007,-57.8108, -80.0163, 4873,    292.1,   4.8547,  34.1216,2,-999.0000,9,    291.2,2,    293.3,2,     7.92,2,    22.22,2,     0.01,2,     1.57,2,   4.8324
  316N20060130,AAIW06,   163,  1,     26,     26,2,20060209,2007,-57.8108, -80.0163, 4873,    341.2,   4.7620,  34.1202,2,-999.0000,9,    288.2,2,    287.5,2,     9.10,2,    22.94,2,     0.01,2,     1.63,2,   4.7361
  316N20060130,AAIW06,   163,  1,     25,     25,2,20060209,2007,-57.8108, -80.0163, 4873,    390.8,   4.6179,  34.1203,2,-999.0000,9,    283.2,2,    282.2,2,    10.29,2,    23.77,2,     0.01,2,     1.68,2,   4.5885
  316N20060130,AAIW06,   163,  1,     24,     24,2,20060209,2007,-57.8108, -80.0163, 4873,    440.9,   4.5071,  34.1273,2,-999.0000,9,    280.7,2,    275.4,2,    12.07,2,    24.65,2,     0.00,2,     1.73,2,   4.4741
  316N20060130,AAIW06,   163,  1,     23,     23,2,20060209,2007,-57.8108, -80.0163, 4873,    492.4,   4.5088,  34.1564,2,-999.0000,9,    256.8,2,    262.5,2,    14.67,2,    25.68,2,     0.00,2,     1.80,2,   4.4718
  316N20060130,AAIW06,   163,  1,     22,     22,2,20060209,2007,-57.8108, -80.0163, 4873,    565.4,   4.3387,  34.1881,2,-999.0000,9,    260.0,2,    248.9,2,    18.90,2,    27.18,2,     0.00,2,     1.91,2,   4.2966
  316N20060130,AAIW06,   163,  1,     21,     21,9,20060209,2007,-57.8108, -80.0163, 4873,    565.5,   4.3368,  34.1877,2,-999.0000,9,   -999.0,9,   -999.0,9,  -999.00,9,  -999.00,9,  -999.00,9,  -999.00,9,   4.2947
  316N20060130,AAIW06,   163,  1,     20,     20,2,20060209,2007,-57.8108, -80.0163, 4873,    675.8,   4.1552,  34.2505,2,-999.0000,9,    224.2,2,    223.2,2,    25.96,2,    29.83,2,     0.00,2,     2.08,2,   4.1052
  316N20060130,AAIW06,   163,  1,     19,     19,2,20060209,2007,-57.8108, -80.0163, 4873,    773.8,   3.8510,  34.2836,2,-999.0000,9,    216.0,2,    210.2,2,    33.01,2,    31.22,2,     0.00,2,     2.18,2,   3.7950
  316N20060130,AAIW06,   163,  1,     18,     18,2,20060209,2007,-57.8108, -80.0163, 4873,    873.2,   3.3817,  34.2939,2,-999.0000,9,    212.4,2,    212.5,2,    38.65,2,    31.59,2,     0.00,2,     2.22,2,   3.3210
  316N20060130,AAIW06,   163,  1,     17,     17,2,20060209,2007,-57.8108, -80.0163, 4873,    971.3,   3.1539,  34.3429,2,-999.0000,9,    200.6,2,    200.1,2,    46.53,2,    32.72,2,     0.00,2,     2.31,2,   3.0873
  316N20060130,AAIW06,   163,  1,     16,     16,2,20060209,2007,-57.8108, -80.0163, 4873,   1067.8,   2.9510,  34.3946,2,-999.0000,9,    190.5,2,    189.8,2,    54.20,2,    33.39,2,     0.00,2,     2.36,2,   2.8785
  316N20060130,AAIW06,   163,  1,     15,     15,2,20060209,2007,-57.8108, -80.0163, 4873,   1169.7,   2.8042,  34.4452,2,-999.0000,9,    182.6,2,    181.6,2,    60.88,2,    33.86,2,     0.00,2,     2.38,2,   2.7251
  316N20060130,AAIW06,   163,  1,     14,     14,2,20060209,2007,-57.8108, -80.0163, 4873,   1268.2,   2.6918,  34.4882,2,-999.0000,9,    176.0,2,    175.5,2,    66.53,2,    34.22,2,     0.00,2,     2.40,2,   2.6061
  316N20060130,AAIW06,   163,  1,     13,     13,2,20060209,2007,-57.8108, -80.0163, 4873,   1364.3,   2.6081,  34.5318,2,-999.0000,9,    172.6,2,    166.3,2,    73.82,2,    34.58,2,     0.00,2,     2.43,2,   2.5157
  316N20060130,AAIW06,   163,  1,     12,     12,2,20060209,2007,-57.8108, -80.0163, 4873,   1564.0,   2.4458,  34.5915,2,-999.0000,9,    169.0,2,    167.8,2,    78.88,2,    33.80,2,     0.00,2,     2.38,2,   2.3392
  316N20060130,AAIW06,   163,  1,     11,     11,2,20060209,2007,-57.8108, -80.0163, 4873,   1764.6,   2.3100,  34.6425,2,-999.0000,9,    168.8,2,    168.9,2,    84.16,2,    33.27,2,     0.00,2,     2.36,2,   2.1886
  316N20060130,AAIW06,   163,  1,     10,     10,2,20060209,2007,-57.8108, -80.0163, 4873,   1964.5,   2.1978,  34.6776,2,-999.0000,9,    172.8,2,    173.0,2,    87.18,2,    32.64,2,     0.00,2,     2.31,2,   2.0612
  316N20060130,AAIW06,   163,  1,      9,      9,2,20060209,2007,-57.8108, -80.0163, 4873,   2214.9,   2.0347,  34.7052,2,-999.0000,9,    175.5,2,    177.0,2,    92.67,2,    32.11,2,     0.00,2,     2.27,2,   1.8790
  316N20060130,AAIW06,   163,  1,      8,      8,2,20060209,2007,-57.8108, -80.0163, 4873,   2509.8,   1.8297,  34.7240,2,  34.7249,0,    184.2,2,    184.3,2,    96.53,2,    31.75,2,     0.00,2,     2.22,2,   1.6514
  316N20060130,AAIW06,   163,  1,      7,      7,2,20060209,2007,-57.8108, -80.0163, 4873,   2807.8,   1.6261,  34.7262,2,  34.7271,0,    188.7,2,    188.9,2,   103.06,2,    31.69,2,     0.00,2,     2.22,2,   1.4244
  316N20060130,AAIW06,   163,  1,      6,      6,2,20060209,2007,-57.8108, -80.0163, 4873,   3102.8,   1.4640,  34.7256,2,  34.7263,0,    192.7,2,    193.1,2,   107.55,2,    31.69,2,     0.00,2,     2.22,2,   1.2379
  316N20060130,AAIW06,   163,  1,      5,      5,2,20060209,2007,-57.8108, -80.0163, 4873,   3475.6,   1.2319,  34.7207,2,  34.7221,0,    197.8,2,    197.8,2,   114.31,2,    31.74,2,     0.00,2,     2.23,2,   0.9747
  316N20060130,AAIW06,   163,  1,      4,      4,2,20060209,2007,-57.8108, -80.0163, 4873,   3776.5,   1.0527,  34.7154,2,  34.7160,2,    200.9,2,    201.0,2,   119.85,2,    31.90,2,     0.00,2,     2.25,2,   0.7696
  316N20060130,AAIW06,   163,  1,      3,      3,2,20060209,2007,-57.8108, -80.0163, 4873,   4084.0,   0.8445,  34.7106,2,  34.7103,2,    205.2,2,    204.7,2,   127.27,2,    32.20,2,     0.00,2,     2.26,2,   0.5351
  316N20060130,AAIW06,   163,  1,      2,      2,2,20060209,2007,-57.8108, -80.0163, 4873,   4394.6,   0.6857,  34.7078,2,  34.7070,2,    208.3,2,    208.1,2,   131.79,2,    32.20,2,     0.00,2,     2.27,2,   0.3475
  316N20060130,AAIW06,   163,  1,      1,      1,2,20060209,2007,-57.8108, -80.0163, 4873,   4923.0,   0.6042,  34.7054,2,  34.7060,2,    211.3,2,    211.2,2,   136.75,2,    32.46,2,     0.00,2,     2.27,2,   0.2092