BOTTLE,20081218PRINUNIVRMK
EXPOCODE,SECT_ID,STNNBR,CASTNO,SAMPNO,BTLNBR,BTLNBR_FLAG_W,DATE,TIME,LATITUDE,LONGITUDE,DEPTH,CTDPRS,CTDTMP,CTDSAL,CTDSAL_FLAG_W,SALNTY,SALNTY_FLAG_W,CTDOXY,CTDOXY_FLAG_W,OXYGEN,OXYGEN_FLAG_W,SILCAT,SILCAT_FLAG_W,NITRAT,NITRAT_FLAG_W,NITRIT,NITRIT_FLAG_W,PHSPHT,PHSPHT_FLAG_W,THETA
,,,,,,,,,,,METERS,DBARS,ITS-90,PSS-78,,PSS-78,,UMOL/KG,,UMOL/KG,,UMOL/KG,,UMOL/KG,,UMOL/KG,,UMOL/KG,,DEGC
  316N20060130,AAIW06,   210,  1,     36,     36,2,20060225,1336,-56.7218,-103.0723, 4145,      5.4,   7.3283,  34.1344,2,  34.1367,2,    291.0,2,    291.4,2,     1.47,2,    17.28,2,     0.23,2,     1.26,2,   7.3278
  316N20060130,AAIW06,   210,  1,     34,     34,2,20060225,1336,-56.7218,-103.0723, 4145,     26.6,   7.3283,  34.1345,2,-999.0000,9,   -999.0,9,   -999.0,9,  -999.00,9,  -999.00,9,  -999.00,9,  -999.00,9,   7.3258
  316N20060130,AAIW06,   210,  1,     33,     33,2,20060225,1336,-56.7218,-103.0723, 4145,     26.7,   7.3287,  34.1344,2,  34.1369,2,    291.9,2,    291.0,2,     1.46,2,    17.28,2,     0.23,2,     1.26,2,   7.3262
  316N20060130,AAIW06,   210,  1,     35,     35,2,20060225,1336,-56.7218,-103.0723, 4145,     27.0,   7.3286,  34.1344,2,-999.0000,9,   -999.0,9,   -999.0,9,  -999.00,9,  -999.00,9,  -999.00,9,  -999.00,9,   7.3261
  316N20060130,AAIW06,   210,  1,     32,     32,2,20060225,1336,-56.7218,-103.0723, 4145,     51.3,   7.3275,  34.1345,2,  34.1375,2,    291.7,2,    290.8,2,     1.45,2,    17.28,2,     0.23,2,     1.26,2,   7.3227
  316N20060130,AAIW06,   210,  1,     31,     31,2,20060225,1336,-56.7218,-103.0723, 4145,     80.7,   7.2411,  34.1415,2,  34.1506,2,    291.9,2,    290.5,2,     2.04,2,    17.62,2,     0.23,2,     1.28,2,   7.2336
  316N20060130,AAIW06,   210,  1,     30,     30,2,20060225,1336,-56.7218,-103.0723, 4145,    106.2,   6.1533,  34.2374,2,  34.2390,2,    286.1,2,    286.6,2,     5.72,2,    20.16,2,     0.07,2,     1.43,2,   6.1442
  316N20060130,AAIW06,   210,  1,     29,     29,2,20060225,1336,-56.7218,-103.0723, 4145,    156.6,   5.9217,  34.2256,2,  34.2268,2,    284.9,2,    284.1,2,     6.33,2,    20.82,2,     0.02,2,     1.47,2,   5.9086
  316N20060130,AAIW06,   210,  1,     28,     28,2,20060225,1336,-56.7218,-103.0723, 4145,    205.9,   5.6624,  34.2024,2,  34.2033,2,    285.7,2,    284.0,2,     6.73,2,    21.44,2,     0.01,2,     1.51,2,   5.6455
  316N20060130,AAIW06,   210,  1,     27,     27,2,20060225,1336,-56.7218,-103.0723, 4145,    255.9,   5.4480,  34.1806,2,  34.1832,2,    287.1,2,    287.5,2,     6.92,2,    21.64,2,     0.01,2,     1.52,2,   5.4273
  316N20060130,AAIW06,   210,  1,     26,     26,2,20060225,1336,-56.7218,-103.0723, 4145,    305.5,   5.3366,  34.1764,2,  34.1781,2,    286.0,2,    285.7,2,     7.72,2,    22.14,2,     0.01,2,     1.55,2,   5.3121
  316N20060130,AAIW06,   210,  1,     25,     25,2,20060225,1336,-56.7218,-103.0723, 4145,    355.9,   5.1629,  34.1667,2,  34.1686,2,    274.9,2,    282.9,2,     8.74,2,    22.85,2,     0.01,2,     1.59,2,   5.1347
  316N20060130,AAIW06,   210,  1,     24,     24,2,20060225,1336,-56.7218,-103.0723, 4145,    404.9,   4.9553,  34.1557,2,  34.1571,2,    272.1,2,    279.3,2,     9.96,2,    23.66,2,     0.00,2,     1.65,2,   4.9237
  316N20060130,AAIW06,   210,  1,     23,     23,2,20060225,1336,-56.7218,-103.0723, 4145,    454.7,   4.7605,  34.1505,2,  34.1521,2,    267.2,2,    272.5,2,    11.79,2,    24.68,2,     0.00,2,     1.72,2,   4.7255
  316N20060130,AAIW06,   210,  1,     22,     22,2,20060225,1336,-56.7218,-103.0723, 4145,    504.7,   4.6980,  34.1747,2,  34.1770,2,    258.5,2,    258.6,2,    14.65,2,    25.95,2,     0.00,2,     1.79,2,   4.6592
  316N20060130,AAIW06,   210,  1,     21,     21,9,20060225,1336,-56.7218,-103.0723, 4145,    604.6,   4.5879,  34.2477,2,-999.0000,9,   -999.0,9,   -999.0,9,  -999.00,9,  -999.00,9,  -999.00,9,  -999.00,9,   4.5414
  316N20060130,AAIW06,   210,  1,     20,     20,2,20060225,1336,-56.7218,-103.0723, 4145,    605.1,   4.5896,  34.2481,2,  34.2494,2,    229.8,2,    228.2,2,    22.23,2,    28.59,2,     0.00,2,     1.96,2,   4.5431
  316N20060130,AAIW06,   210,  1,     19,     19,2,20060225,1336,-56.7218,-103.0723, 4145,    704.4,   4.1370,  34.2739,2,  34.2764,2,    217.1,2,    218.3,2,    28.98,2,    30.18,2,     0.00,2,     2.08,2,   4.0848
  316N20060130,AAIW06,   210,  1,     18,     18,2,20060225,1336,-56.7218,-103.0723, 4145,    803.4,   3.7229,  34.2980,2,  34.2997,2,    209.2,2,    210.3,2,    35.53,2,    31.45,2,     0.00,2,     2.17,2,   3.6653
  316N20060130,AAIW06,   210,  1,     17,     17,2,20060225,1336,-56.7218,-103.0723, 4145,    903.4,   3.3748,  34.3318,2,  34.3339,2,    200.2,2,    201.5,2,    42.91,2,    32.56,2,     0.00,2,     2.26,2,   3.3117
  316N20060130,AAIW06,   210,  1,     16,     16,2,20060225,1336,-56.7218,-103.0723, 4145,   1002.2,   3.1080,  34.3725,2,  34.3749,2,    191.2,2,    193.1,2,    50.30,2,    33.32,2,     0.00,2,     2.31,2,   3.0393
  316N20060130,AAIW06,   210,  1,     15,     15,2,20060225,1336,-56.7218,-103.0723, 4145,   1102.7,   2.8845,  34.4233,2,  34.4259,2,    184.3,2,    184.6,2,    57.89,2,    33.93,2,     0.00,2,     2.36,2,   2.8099
  316N20060130,AAIW06,   210,  1,     14,     14,2,20060225,1336,-56.7218,-103.0723, 4145,   1203.7,   2.7261,  34.4675,2,  34.4684,2,    179.1,2,    179.3,2,    63.65,2,    34.12,2,     0.00,2,     2.38,2,   2.6451
  316N20060130,AAIW06,   210,  1,     13,     13,2,20060225,1336,-56.7218,-103.0723, 4145,   1304.7,   2.6006,  34.5131,2,  34.5142,2,    175.0,2,    174.9,2,    68.59,2,    34.17,2,     0.00,2,     2.38,2,   2.5129
  316N20060130,AAIW06,   210,  1,     12,     12,2,20060225,1336,-56.7218,-103.0723, 4145,   1404.8,   2.5058,  34.5497,2,  34.5499,2,    173.1,2,    173.2,2,    72.30,2,    34.11,2,     0.00,2,     2.38,2,   2.4112
  316N20060130,AAIW06,   210,  1,     11,     11,2,20060225,1336,-56.7218,-103.0723, 4145,   1605.7,   2.3637,  34.6233,2,  34.6243,2,    172.7,2,    172.3,2,    78.27,2,    33.48,2,     0.00,2,     2.32,2,   2.2546
  316N20060130,AAIW06,   210,  1,     10,     10,2,20060225,1336,-56.7218,-103.0723, 4145,   1805.3,   2.2427,  34.6717,2,  34.6720,2,    175.2,2,    175.3,2,    82.81,2,    32.76,2,     0.00,2,     2.27,2,   2.1188
  316N20060130,AAIW06,   210,  1,      9,      9,2,20060225,1336,-56.7218,-103.0723, 4145,   2008.1,   2.1262,  34.7000,2,  34.7005,2,    179.2,2,    178.8,2,    86.33,2,    32.19,2,     0.00,2,     2.23,2,   1.9869
  316N20060130,AAIW06,   210,  1,      8,      8,2,20060225,1336,-56.7218,-103.0723, 4145,   2259.1,   1.9232,  34.7219,2,  34.7221,2,    184.7,2,    184.8,2,    91.71,2,    31.78,2,     0.00,2,     2.20,2,   1.7655
  316N20060130,AAIW06,   210,  1,      7,      7,2,20060225,1336,-56.7218,-103.0723, 4145,   2511.0,   1.7120,  34.7277,2,  34.7286,0,    189.1,2,    188.8,2,    98.55,2,    31.61,2,     0.00,2,     2.20,2,   1.5358
  316N20060130,AAIW06,   210,  1,      6,      6,2,20060225,1336,-56.7218,-103.0723, 4145,   2762.4,   1.5208,  34.7224,2,  34.7227,2,    189.6,2,    189.7,2,   107.09,2,    32.06,2,     0.00,2,     2.23,2,   1.3255
  316N20060130,AAIW06,   210,  1,      5,      5,2,20060225,1336,-56.7218,-103.0723, 4145,   3015.7,   1.3887,  34.7240,2,  34.7230,2,    194.7,2,    194.5,2,   108.96,2,    31.81,2,     0.00,2,     2.21,2,   1.1726
  316N20060130,AAIW06,   210,  1,      4,      4,2,20060225,1336,-56.7218,-103.0723, 4145,   3267.7,   1.2420,  34.7216,2,  34.7210,2,    198.2,2,    198.1,2,   112.93,2,    31.90,2,     0.00,2,     2.21,2,   1.0051
  316N20060130,AAIW06,   210,  1,      3,      3,2,20060225,1336,-56.7218,-103.0723, 4145,   3521.6,   1.0922,  34.7175,2,  34.7171,2,    201.2,2,    201.1,2,   118.16,2,    32.04,2,     0.00,2,     2.22,2,   0.8339
  316N20060130,AAIW06,   210,  1,      2,      2,2,20060225,1336,-56.7218,-103.0723, 4145,   3824.5,   0.8659,  34.7114,2,  34.7112,2,    204.5,2,    204.2,2,   126.33,2,    32.25,2,     0.00,2,     2.24,2,   0.5830
  316N20060130,AAIW06,   210,  1,      1,      1,2,20060225,1336,-56.7218,-103.0723, 4145,   4225.8,   0.6427,  34.7066,2,  34.7064,0,    208.9,2,    211.0,0,   133.70,2,    32.49,2,     0.00,2,     2.25,2,   0.3241
  316N20060130,AAIW06,   211,  1,     36,     36,2,20060225,2040,-57.2790,-102.9910, 4461,      3.4,   7.0608,  34.1476,2,  34.1455,2,    292.2,2,    292.5,2,     2.56,2,    17.86,2,     0.23,2,     1.29,2,   7.0605
  316N20060130,AAIW06,   211,  1,     35,     35,2,20060225,2040,-57.2790,-102.9910, 4461,     20.9,   7.0633,  34.1476,2,  34.1450,2,    293.3,2,    292.3,2,     2.53,2,    17.80,2,     0.23,2,     1.29,2,   7.0614
  316N20060130,AAIW06,   211,  1,     34,     34,2,20060225,2040,-57.2790,-102.9910, 4461,     45.1,   7.0663,  34.1476,2,  34.1457,2,    293.2,2,    292.2,2,     2.50,2,    17.79,2,     0.23,2,     1.29,2,   7.0622
  316N20060130,AAIW06,   211,  1,     33,     33,2,20060225,2040,-57.2790,-102.9910, 4461,     72.3,   7.0668,  34.1476,2,  34.1473,2,    293.0,2,    292.2,2,     2.68,2,    17.79,2,     0.23,2,     1.29,2,   7.0601
  316N20060130,AAIW06,   211,  1,     32,     32,2,20060225,2040,-57.2790,-102.9910, 4461,    106.8,   5.9001,  34.1807,2,  34.1812,2,    293.6,2,    293.9,2,     5.34,2,    19.89,2,     0.46,2,     1.46,2,   5.8912
  316N20060130,AAIW06,   211,  1,     31,     31,2,20060225,2040,-57.2790,-102.9910, 4461,    136.6,   5.7127,  34.1910,2,  34.1932,2,    287.8,2,    288.2,2,     6.34,2,    21.11,2,     0.04,2,     1.49,2,   5.7015
  316N20060130,AAIW06,   211,  1,     30,     30,2,20060225,2040,-57.2790,-102.9910, 4461,    175.5,   5.5854,  34.1897,2,  34.1883,2,    283.7,2,    283.5,2,     7.15,2,    21.65,2,     0.01,2,     1.49,2,   5.5711
  316N20060130,AAIW06,   211,  1,     29,     29,2,20060225,2040,-57.2790,-102.9910, 4461,    224.0,   5.3266,  34.1649,2,  34.1624,2,    289.2,2,    290.5,2,     6.91,2,    21.65,2,     0.01,2,     1.49,2,   5.3088
  316N20060130,AAIW06,   211,  1,     28,     28,2,20060225,2040,-57.2790,-102.9910, 4461,    254.6,   5.2291,  34.1588,2,  34.1581,2,    285.4,2,    289.6,2,     7.09,2,    21.84,2,     0.01,2,     1.51,2,   5.2090
  316N20060130,AAIW06,   211,  1,     27,     27,2,20060225,2040,-57.2790,-102.9910, 4461,    282.1,   5.1876,  34.1607,2,  34.1585,2,    285.3,2,    287.7,2,     7.88,2,    22.30,2,     0.00,2,     1.55,2,   5.1653
  316N20060130,AAIW06,   211,  1,     26,     26,2,20060225,2040,-57.2790,-102.9910, 4461,    321.6,   5.0506,  34.1557,2,  34.1555,2,    280.2,2,    283.4,2,     9.09,2,    23.00,2,     0.00,2,     1.61,2,   5.0255
  316N20060130,AAIW06,   211,  1,     25,     25,2,20060225,2040,-57.2790,-102.9910, 4461,    370.6,   4.8729,  34.1523,2,  34.1555,2,    276.8,2,    276.3,2,    10.73,2,    24.12,2,     0.00,2,     1.69,2,   4.8443
  316N20060130,AAIW06,   211,  1,     24,     24,2,20060225,2040,-57.2790,-102.9910, 4461,    417.3,   4.6878,  34.1520,2,  34.1498,2,    254.2,2,    268.8,2,    12.56,2,    25.08,2,     0.00,2,     1.75,2,   4.6561
  316N20060130,AAIW06,   211,  1,     23,     23,2,20060225,2040,-57.2790,-102.9910, 4461,    466.2,   4.8541,  34.2138,2,  34.2108,2,    246.9,2,    245.7,2,    16.69,2,    26.64,2,     0.00,2,     1.85,2,   4.8178
  316N20060130,AAIW06,   211,  1,     22,     22,2,20060225,2040,-57.2790,-102.9910, 4461,    516.6,   4.6787,  34.2399,2,  34.2406,2,    242.1,2,    233.4,2,    20.60,2,    27.96,2,     0.00,2,     1.95,2,   4.6390
  316N20060130,AAIW06,   211,  1,     20,     20,2,20060225,2040,-57.2790,-102.9910, 4461,    635.4,   4.1581,  34.2758,2,  34.2749,2,    220.0,2,    218.6,2,    28.87,2,    30.04,2,     0.00,2,     2.09,2,   4.1112
  316N20060130,AAIW06,   211,  1,     21,     21,9,20060225,2040,-57.2790,-102.9910, 4461,    635.9,   4.1496,  34.2754,2,-999.0000,9,   -999.0,9,   -999.0,9,  -999.00,9,  -999.00,9,  -999.00,9,  -999.00,9,   4.1027
  316N20060130,AAIW06,   211,  1,     19,     19,2,20060225,2040,-57.2790,-102.9910, 4461,    734.3,   3.6926,  34.3026,2,  34.3033,2,    210.4,2,    209.4,2,    36.52,2,    31.57,2,     0.00,2,     2.19,2,   3.6405
  316N20060130,AAIW06,   211,  1,     18,     18,2,20060225,2040,-57.2790,-102.9910, 4461,    834.3,   3.3378,  34.3318,2,  34.3287,2,    203.5,2,    202.5,2,    43.13,2,    32.47,2,     0.00,2,     2.27,2,   3.2803
  316N20060130,AAIW06,   211,  1,     17,     17,2,20060225,2040,-57.2790,-102.9910, 4461,    933.9,   3.0763,  34.3758,2,  34.3775,2,    193.0,2,    192.7,2,    50.79,2,    33.38,2,     0.00,2,     2.33,2,   3.0130
  316N20060130,AAIW06,   211,  1,     16,     16,2,20060225,2040,-57.2790,-102.9910, 4461,   1036.1,   2.8546,  34.4258,2,  34.4260,2,    184.3,2,    183.9,2,    58.03,2,    33.99,2,     0.00,2,     2.35,2,   2.7853
  316N20060130,AAIW06,   211,  1,     15,     15,2,20060225,2040,-57.2790,-102.9910, 4461,   1136.5,   2.6877,  34.4721,2,  34.4747,2,    178.2,2,    178.2,2,    64.04,2,    34.28,2,     0.00,2,     2.37,2,   2.6121
  316N20060130,AAIW06,   211,  1,     14,     14,2,20060225,2040,-57.2790,-102.9910, 4461,   1235.5,   2.5669,  34.5195,2,  34.5198,2,    174.9,2,    174.1,2,    69.22,2,    34.17,2,     0.00,2,     2.38,2,   2.4849
  316N20060130,AAIW06,   211,  1,     13,     13,2,20060225,2040,-57.2790,-102.9910, 4461,   1337.7,   2.4769,  34.5634,2,  34.5647,2,    172.7,2,    173.5,2,    73.35,2,    34.01,2,     0.00,2,     2.38,2,   2.3878
  316N20060130,AAIW06,   211,  1,     12,     12,2,20060225,2040,-57.2790,-102.9910, 4461,   1437.8,   2.4162,  34.5972,2,  34.5958,2,    172.0,2,    172.1,2,    76.45,2,    33.65,2,     0.00,2,     2.37,2,   2.3199
  316N20060130,AAIW06,   211,  1,     11,     11,2,20060225,2040,-57.2790,-102.9910, 4461,   1538.5,   2.3581,  34.6263,2,  34.6253,2,    172.3,2,    172.2,2,    79.34,2,    33.34,2,     0.00,2,     2.35,2,   2.2545
  316N20060130,AAIW06,   211,  1,     10,     10,2,20060225,2040,-57.2790,-102.9910, 4461,   1737.9,   2.2276,  34.6744,2,  34.6748,2,    175.1,2,    175.3,2,    83.49,2,    32.62,2,     0.00,2,     2.29,2,   2.1094
  316N20060130,AAIW06,   211,  1,      9,      9,2,20060225,2040,-57.2790,-102.9910, 4461,   1939.4,   2.0930,  34.7062,2,  34.7074,2,    180.4,2,    180.6,2,    86.18,2,    31.85,2,     0.00,2,     2.24,2,   1.9600
  316N20060130,AAIW06,   211,  1,      8,      8,2,20060225,2040,-57.2790,-102.9910, 4461,   2100.3,   1.9671,  34.7204,2,  34.7200,2,    183.7,2,    184.3,2,    89.28,2,    31.79,2,     0.00,2,     2.21,2,   1.8224
  316N20060130,AAIW06,   211,  1,      7,      7,2,20060225,2040,-57.2790,-102.9910, 4461,   2350.2,   1.7129,  34.7206,2,  34.7205,2,    186.3,2,    185.1,2,   101.41,2,    31.99,2,     0.00,2,     2.25,2,   1.5509
  316N20060130,AAIW06,   211,  1,      6,      6,2,20060225,2040,-57.2790,-102.9910, 4461,   2854.7,   1.4253,  34.7237,2,  34.7216,0,    192.9,2,    193.4,2,   108.32,2,    31.83,2,     0.00,2,     2.24,2,   1.2235
  316N20060130,AAIW06,   211,  1,      5,      5,2,20060225,2040,-57.2790,-102.9910, 4461,   3105.1,   1.2919,  34.7231,2,  34.7210,0,    197.2,2,    197.1,2,   111.03,2,    31.77,2,     0.00,2,     2.23,2,   1.0695
  316N20060130,AAIW06,   211,  1,      4,      4,2,20060225,2040,-57.2790,-102.9910, 4461,   3412.4,   1.1065,  34.7178,2,  34.7176,2,    200.9,2,    200.8,2,   116.48,2,    32.03,2,     0.00,2,     2.22,2,   0.8587
  316N20060130,AAIW06,   211,  1,      3,      3,2,20060225,2040,-57.2790,-102.9910, 4461,   3816.4,   0.8305,  34.7106,2,  34.7076,0,    206.1,2,    205.6,2,   125.77,2,    32.27,2,     0.00,2,     2.24,2,   0.5494
  316N20060130,AAIW06,   211,  1,      2,      2,2,20060225,2040,-57.2790,-102.9910, 4461,   4224.7,   0.6214,  34.7063,2,  34.7042,0,    210.3,2,    210.0,2,   132.52,2,    32.32,2,     0.00,2,     2.25,2,   0.3036
  316N20060130,AAIW06,   211,  1,      1,      1,2,20060225,2040,-57.2790,-102.9910, 4461,   4515.1,   0.5790,  34.7049,2,  34.7048,2,    212.0,2,    212.7,2,   134.83,2,    32.51,2,     0.00,2,     2.26,2,   0.2309