BOTTLE,20081218PRINUNIVRMK
EXPOCODE,SECT_ID,STNNBR,CASTNO,SAMPNO,BTLNBR,BTLNBR_FLAG_W,DATE,TIME,LATITUDE,LONGITUDE,DEPTH,CTDPRS,CTDTMP,CTDSAL,CTDSAL_FLAG_W,SALNTY,SALNTY_FLAG_W,CTDOXY,CTDOXY_FLAG_W,OXYGEN,OXYGEN_FLAG_W,SILCAT,SILCAT_FLAG_W,NITRAT,NITRAT_FLAG_W,NITRIT,NITRIT_FLAG_W,PHSPHT,PHSPHT_FLAG_W,THETA
,,,,,,,,,,,METERS,DBARS,ITS-90,PSS-78,,PSS-78,,UMOL/KG,,UMOL/KG,,UMOL/KG,,UMOL/KG,,UMOL/KG,,UMOL/KG,,DEGC
  316N20060130,AAIW06,   191,  1,     36,     36,2,20060219, 440,-56.5140, -88.9900, 5392,      5.5,   7.3754,  34.0668,2,  34.0695,2,    290.4,2,    290.6,2,     1.72,2,    18.67,2,     0.22,2,     1.35,2,   7.3749
  316N20060130,AAIW06,   191,  1,     35,     35,2,20060219, 440,-56.5140, -88.9900, 5392,     25.1,   7.3788,  34.0666,2,  34.0693,2,    291.7,2,    290.5,2,     1.50,2,    18.66,2,     0.22,2,     1.35,2,   7.3764
  316N20060130,AAIW06,   191,  1,     34,     34,2,20060219, 440,-56.5140, -88.9900, 5392,     50.0,   7.3802,  34.0664,2,  34.0688,2,    291.5,2,    290.6,2,     1.49,2,    18.66,2,     0.22,2,     1.35,2,   7.3755
  316N20060130,AAIW06,   191,  1,     33,     33,2,20060219, 440,-56.5140, -88.9900, 5392,     76.2,   7.3783,  34.0661,2,  34.0708,2,    291.3,2,    290.0,2,     1.48,2,    18.65,2,     0.22,2,     1.35,2,   7.3711
  316N20060130,AAIW06,   191,  1,     32,     32,2,20060219, 440,-56.5140, -88.9900, 5392,    106.3,   5.6497,  34.1609,2,-999.0000,9,    296.1,2,    296.0,2,     5.44,2,    20.09,2,     0.60,2,     1.49,2,   5.6411
  316N20060130,AAIW06,   191,  1,     31,     31,2,20060219, 440,-56.5140, -88.9900, 5392,    156.9,   5.3382,  34.1537,2,-999.0000,9,    292.5,2,    292.7,2,     6.69,2,    21.55,2,     0.01,2,     1.52,2,   5.3258
  316N20060130,AAIW06,   191,  1,     30,     30,2,20060219, 440,-56.5140, -88.9900, 5392,    207.4,   5.1931,  34.1460,2,-999.0000,9,    292.6,2,    293.8,2,     6.67,2,    21.65,2,     0.01,2,     1.53,2,   5.1768
  316N20060130,AAIW06,   191,  1,     29,     29,2,20060219, 440,-56.5140, -88.9900, 5392,    257.9,   5.1172,  34.1441,2,-999.0000,9,    291.4,2,    292.1,2,     7.08,2,    21.86,2,     0.01,2,     1.54,2,   5.0970
  316N20060130,AAIW06,   191,  1,     28,     28,2,20060219, 440,-56.5140, -88.9900, 5392,    307.7,   5.1611,  34.1616,2,-999.0000,9,    289.3,2,    281.6,0,     8.54,2,    22.74,2,     0.01,2,     1.59,2,   5.1368
  316N20060130,AAIW06,   191,  1,     27,     27,2,20060219, 440,-56.5140, -88.9900, 5392,    377.6,   4.7262,  34.1182,2,  34.1191,0,    287.9,2,    286.2,2,     9.36,2,    23.57,2,     0.00,2,     1.65,2,   4.6975
  316N20060130,AAIW06,   191,  1,     26,     26,2,20060219, 440,-56.5140, -88.9900, 5392,    407.2,   4.6587,  34.1215,2,-999.0000,9,    281.8,2,    280.8,2,    10.18,2,    24.18,2,     0.00,2,     1.69,2,   4.6279
  316N20060130,AAIW06,   191,  1,     25,     25,2,20060219, 440,-56.5140, -88.9900, 5392,    457.4,   4.6025,  34.1345,2,-999.0000,9,    269.4,2,    272.6,2,    11.85,2,    24.96,2,     0.00,2,     1.73,2,   4.5679
  316N20060130,AAIW06,   191,  1,     24,     24,3,20060219, 440,-56.5140, -88.9900, 5392,    507.7,   4.7704,  34.1928,2,-999.0000,9,    250.9,2,    285.9,0,     9.53,4,    23.60,4,     0.00,4,     1.65,4,   4.7311
  316N20060130,AAIW06,   191,  1,     23,     23,2,20060219, 440,-56.5140, -88.9900, 5392,    607.5,   4.5568,  34.2372,2,-999.0000,9,    235.7,2,    232.4,2,    21.86,2,    28.49,2,     0.00,2,     1.97,2,   4.5103
  316N20060130,AAIW06,   191,  1,     22,     22,2,20060219, 440,-56.5140, -88.9900, 5392,    707.0,   4.1289,  34.2631,2,-999.0000,9,    223.1,2,    221.2,2,    27.93,2,    30.16,2,     0.00,2,     2.09,2,   4.0765
  316N20060130,AAIW06,   191,  1,     21,     21,9,20060219, 440,-56.5140, -88.9900, 5392,    707.7,   4.1144,  34.2664,2,-999.0000,9,   -999.0,9,   -999.0,9,  -999.00,9,  -999.00,9,  -999.00,9,  -999.00,9,   4.0621
  316N20060130,AAIW06,   191,  1,     20,     20,2,20060219, 440,-56.5140, -88.9900, 5392,    807.2,   3.7173,  34.2877,2,-999.0000,9,    215.0,2,    213.4,2,    34.40,2,    31.46,2,     0.00,2,     2.17,2,   3.6595
  316N20060130,AAIW06,   191,  1,     19,     19,2,20060219, 440,-56.5140, -88.9900, 5392,    906.6,   3.4223,  34.3266,2,-999.0000,9,    203.5,2,    203.4,2,    42.13,2,    32.44,2,     0.00,2,     2.25,2,   3.3587
  316N20060130,AAIW06,   191,  1,     18,     18,2,20060219, 440,-56.5140, -88.9900, 5392,   1006.8,   3.1759,  34.3609,2,-999.0000,9,    195.3,2,    195.7,2,    48.19,2,    33.26,2,     0.00,2,     2.31,2,   3.1063
  316N20060130,AAIW06,   191,  1,     17,     17,2,20060219, 440,-56.5140, -88.9900, 5392,   1107.1,   2.9130,  34.4012,2,-999.0000,9,    188.6,2,    188.0,2,    55.09,2,    33.99,2,     0.00,2,     2.36,2,   2.8378
  316N20060130,AAIW06,   191,  1,     16,     16,2,20060219, 440,-56.5140, -88.9900, 5392,   1206.6,   2.7811,  34.4555,2,-999.0000,9,    181.6,2,    180.6,2,    61.57,2,    34.24,2,     0.00,2,     2.39,2,   2.6994
  316N20060130,AAIW06,   191,  1,     15,     15,2,20060219, 440,-56.5140, -88.9900, 5392,   1307.0,   2.6582,  34.4984,2,-999.0000,9,    175.9,2,    175.9,2,    67.02,2,    34.38,2,     0.00,2,     2.40,2,   2.5698
  316N20060130,AAIW06,   191,  1,     14,     14,2,20060219, 440,-56.5140, -88.9900, 5392,   1507.6,   2.4639,  34.5752,2,-999.0000,9,    171.8,2,    171.7,2,    74.78,2,    34.06,2,     0.00,2,     2.39,2,   2.3616
  316N20060130,AAIW06,   191,  1,     13,     13,2,20060219, 440,-56.5140, -88.9900, 5392,   1708.0,   2.3429,  34.6349,2,-999.0000,9,    171.5,2,    171.7,2,    80.43,2,    33.52,2,     0.00,2,     2.34,2,   2.2258
  316N20060130,AAIW06,   191,  1,     12,     12,2,20060219, 440,-56.5140, -88.9900, 5392,   1909.3,   2.2196,  34.6771,2,-999.0000,9,    175.3,2,    175.0,2,    84.00,2,    32.78,2,     0.00,2,     2.29,2,   2.0873
  316N20060130,AAIW06,   191,  1,     11,     11,2,20060219, 440,-56.5140, -88.9900, 5392,   2109.2,   2.0976,  34.7036,2,-999.0000,9,    179.4,2,    179.3,2,    87.35,2,    32.14,2,     0.00,2,     2.24,2,   1.9501
  316N20060130,AAIW06,   191,  1,     10,     10,2,20060219, 440,-56.5140, -88.9900, 5392,   2362.4,   1.9061,  34.7190,2,  34.7205,2,    182.3,2,    183.5,2,    94.08,2,    32.08,2,     0.00,2,     2.23,2,   1.7396
  316N20060130,AAIW06,   191,  1,      9,      9,2,20060219, 440,-56.5140, -88.9900, 5392,   2613.7,   1.6937,  34.7209,2,  34.7216,2,    186.1,2,    185.4,2,   102.31,2,    32.17,2,     0.00,2,     2.25,2,   1.5086
  316N20060130,AAIW06,   191,  1,      8,      8,2,20060219, 440,-56.5140, -88.9900, 5392,   2916.2,   1.5190,  34.7237,2,  34.7238,2,    191.0,2,    190.8,2,   105.90,2,    32.11,2,     0.00,2,     2.23,2,   1.3094
  316N20060130,AAIW06,   191,  1,      7,      7,2,20060219, 440,-56.5140, -88.9900, 5392,   3218.9,   1.3541,  34.7226,2,  34.7231,2,    195.5,2,    195.1,2,   109.91,2,    32.15,2,     0.00,2,     2.24,2,   1.1193
  316N20060130,AAIW06,   191,  1,      6,      6,2,20060219, 440,-56.5140, -88.9900, 5392,   3522.2,   1.1665,  34.7186,2,  34.7190,2,    199.8,2,    199.6,2,   114.99,2,    32.19,2,     0.00,2,     2.24,2,   0.9063
  316N20060130,AAIW06,   191,  1,      5,      5,2,20060219, 440,-56.5140, -88.9900, 5392,   3866.2,   0.9372,  34.7122,2,  34.7126,2,    203.7,2,    203.4,2,   122.84,2,    32.49,2,     0.00,2,     2.25,2,   0.6480
  316N20060130,AAIW06,   191,  1,      4,      4,2,20060219, 440,-56.5140, -88.9900, 5392,   4269.5,   0.6945,  34.7078,2,  34.7079,2,    208.1,2,    208.1,2,   131.15,2,    32.75,2,     0.00,2,     2.27,2,   0.3697
  316N20060130,AAIW06,   191,  1,      3,      3,2,20060219, 440,-56.5140, -88.9900, 5392,   4678.2,   0.6075,  34.7059,2,  34.7057,2,    210.2,2,    210.3,2,   135.84,2,    32.78,2,     0.00,2,     2.28,2,   0.2403
  316N20060130,AAIW06,   191,  1,      2,      2,2,20060219, 440,-56.5140, -88.9900, 5392,   5087.8,   0.6178,  34.7052,2,  34.7060,0,    210.8,2,    211.0,2,   136.47,2,    32.88,2,     0.00,2,     2.27,2,   0.2030
  316N20060130,AAIW06,   191,  1,      1,      1,2,20060219, 440,-56.5140, -88.9900, 5392,   5506.3,   0.6516,  34.7043,2,  34.7052,0,    211.3,2,    211.1,2,   137.31,2,    32.81,2,     0.00,2,     2.26,2,   0.1851
  316N20060130,AAIW06,   192,  1,     36,     36,2,20060219,1127,-56.0122, -88.9793, 5040,      4.5,   7.9644,  34.1056,2,  34.1061,2,    286.1,2,    286.4,2,     0.83,2,    16.82,2,     0.22,2,     1.24,2,   7.9640
  316N20060130,AAIW06,   192,  1,     35,     35,2,20060219,1127,-56.0122, -88.9793, 5040,     19.7,   7.9653,  34.1056,2,-999.0000,9,   -999.0,9,   -999.0,9,  -999.00,9,  -999.00,9,  -999.00,9,  -999.00,9,   7.9634
  316N20060130,AAIW06,   192,  1,     33,     33,2,20060219,1127,-56.0122, -88.9793, 5040,     19.7,   7.9669,  34.1055,2,  34.1069,2,    287.2,2,    285.9,2,     0.82,2,    16.77,2,     0.22,2,     1.24,2,   7.9650
  316N20060130,AAIW06,   192,  1,     34,     34,2,20060219,1127,-56.0122, -88.9793, 5040,     19.8,   7.9659,  34.1055,2,-999.0000,9,   -999.0,9,   -999.0,9,  -999.00,9,  -999.00,9,  -999.00,9,  -999.00,9,   7.9640
  316N20060130,AAIW06,   192,  1,     32,     32,2,20060219,1127,-56.0122, -88.9793, 5040,     44.2,   7.9663,  34.1052,2,  34.1063,2,    287.4,2,    285.8,2,     0.80,2,    16.87,2,     0.22,2,     1.23,2,   7.9619
  316N20060130,AAIW06,   192,  1,     31,     31,2,20060219,1127,-56.0122, -88.9793, 5040,     70.1,   7.9426,  34.1053,2,  34.1074,2,    287.2,2,    286.6,2,     0.78,2,    16.87,2,     0.22,2,     1.24,2,   7.9357
  316N20060130,AAIW06,   192,  1,     30,     30,2,20060219,1127,-56.0122, -88.9793, 5040,     97.1,   5.8697,  34.1769,2,  34.1772,2,    292.0,2,    292.2,2,     5.98,2,    19.30,2,     0.59,2,     1.47,2,   5.8616
  316N20060130,AAIW06,   192,  1,     29,     29,2,20060219,1127,-56.0122, -88.9793, 5040,    132.5,   5.7189,  34.1830,2,-999.0000,9,    291.6,2,    291.5,2,     5.96,2,    20.45,2,     0.04,2,     1.45,2,   5.7080
  316N20060130,AAIW06,   192,  1,     28,     28,2,20060219,1127,-56.0122, -88.9793, 5040,    177.0,   5.5432,  34.1731,2,-999.0000,9,    291.4,2,    291.0,2,     6.15,2,    20.93,2,     0.02,2,     1.48,2,   5.5289
  316N20060130,AAIW06,   192,  1,     27,     27,2,20060219,1127,-56.0122, -88.9793, 5040,    226.9,   5.4011,  34.1647,2,-999.0000,9,    292.1,2,    291.8,2,     6.35,2,    21.09,2,     0.01,2,     1.49,2,   5.3829
  316N20060130,AAIW06,   192,  1,     26,     26,2,20060219,1127,-56.0122, -88.9793, 5040,    276.4,   5.3882,  34.1711,2,-999.0000,9,    290.2,2,    289.9,2,     6.95,2,    21.24,2,     0.01,2,     1.50,2,   5.3659
  316N20060130,AAIW06,   192,  1,     25,     25,2,20060219,1127,-56.0122, -88.9793, 5040,    326.5,   5.2756,  34.1612,2,-999.0000,9,    289.2,2,    290.8,2,     6.73,2,    21.44,2,     0.01,2,     1.51,2,   5.2495
  316N20060130,AAIW06,   192,  1,     24,     24,2,20060219,1127,-56.0122, -88.9793, 5040,    376.6,   5.2565,  34.1659,2,  34.1668,2,    291.9,2,    286.4,2,     7.54,2,    21.79,2,     0.01,2,     1.53,2,   5.2263
  316N20060130,AAIW06,   192,  1,     23,     23,2,20060219,1127,-56.0122, -88.9793, 5040,    426.5,   5.3181,  34.1889,2,-999.0000,9,    284.8,2,    276.3,2,     8.98,2,    22.76,2,     0.01,2,     1.58,2,   5.2835
  316N20060130,AAIW06,   192,  1,     22,     22,2,20060219,1127,-56.0122, -88.9793, 5040,    476.2,   5.2192,  34.1904,2,-999.0000,9,    270.2,2,    271.1,2,    10.21,2,    23.58,2,     0.00,2,     1.64,2,   5.1808
  316N20060130,AAIW06,   192,  1,     21,     21,9,20060219,1127,-56.0122, -88.9793, 5040,    476.2,   5.1996,  34.1886,2,-999.0000,9,   -999.0,9,   -999.0,9,  -999.00,9,  -999.00,9,  -999.00,9,  -999.00,9,   5.1612
  316N20060130,AAIW06,   192,  1,     20,     20,2,20060219,1127,-56.0122, -88.9793, 5040,    525.3,   5.1262,  34.2038,2,-999.0000,9,    256.9,2,    256.5,2,    13.53,2,    25.11,2,     0.00,2,     1.74,2,   5.0840
  316N20060130,AAIW06,   192,  1,     19,     19,2,20060219,1127,-56.0122, -88.9793, 5040,    645.6,   4.8150,  34.2516,2,-999.0000,9,    233.0,2,    230.2,2,    30.37,2,    27.61,2,     0.00,2,     1.92,2,   4.7641
  316N20060130,AAIW06,   192,  1,     18,     18,2,20060219,1127,-56.0122, -88.9793, 5040,    745.3,   4.4001,  34.2767,2,-999.0000,9,    219.9,2,    218.7,2,    36.18,2,    29.59,2,     0.00,2,     2.00,2,   4.3431
  316N20060130,AAIW06,   192,  1,     17,     17,2,20060219,1127,-56.0122, -88.9793, 5040,    845.4,   3.9595,  34.2960,2,-999.0000,9,    212.4,2,    211.8,2,    38.03,2,    30.82,2,     0.00,2,     2.10,2,   3.8971
  316N20060130,AAIW06,   192,  1,     16,     16,2,20060219,1127,-56.0122, -88.9793, 5040,    945.1,   3.5718,  34.3195,2,-999.0000,9,    205.3,2,    204.6,2,    39.47,2,    31.94,2,     0.00,2,     2.19,2,   3.5041
  316N20060130,AAIW06,   192,  1,     15,     15,2,20060219,1127,-56.0122, -88.9793, 5040,   1045.9,   3.2992,  34.3532,2,-999.0000,9,    197.6,2,    197.8,2,    46.12,2,    32.70,2,     0.00,2,     2.26,2,   3.2256
  316N20060130,AAIW06,   192,  1,     14,     14,2,20060219,1127,-56.0122, -88.9793, 5040,   1145.0,   3.0444,  34.3917,2,-999.0000,9,    190.1,2,    190.1,2,    52.97,2,    33.46,2,     0.00,2,     2.30,2,   2.9652
  316N20060130,AAIW06,   192,  1,     13,     13,2,20060219,1127,-56.0122, -88.9793, 5040,   1245.7,   2.8626,  34.4356,2,-999.0000,9,    182.7,2,    183.0,2,    58.99,2,    33.92,2,     0.00,2,     2.33,2,   2.7771
  316N20060130,AAIW06,   192,  1,     12,     12,2,20060219,1127,-56.0122, -88.9793, 5040,   1446.5,   2.6105,  34.5248,2,-999.0000,9,    172.2,2,    172.9,2,    70.66,2,    34.22,2,     0.00,2,     2.37,2,   2.5115
  316N20060130,AAIW06,   192,  1,     11,     11,2,20060219,1127,-56.0122, -88.9793, 5040,   1647.1,   2.4493,  34.5948,2,-999.0000,9,    169.6,2,    169.3,2,    77.74,2,    33.96,2,     0.00,2,     2.34,2,   2.3359
  316N20060130,AAIW06,   192,  1,     10,     10,2,20060219,1127,-56.0122, -88.9793, 5040,   1847.6,   2.3213,  34.6469,2,-999.0000,9,    171.4,2,    171.6,2,    81.90,2,    33.28,2,     0.00,2,     2.28,2,   2.1929
  316N20060130,AAIW06,   192,  1,      9,      9,2,20060219,1127,-56.0122, -88.9793, 5040,   2048.4,   2.1707,  34.6811,2,-999.0000,9,    173.5,2,    172.9,2,    89.00,2,    32.87,2,     0.00,2,     2.25,2,   2.0273
  316N20060130,AAIW06,   192,  1,      8,      8,2,20060219,1127,-56.0122, -88.9793, 5040,   2350.2,   1.9722,  34.7078,2,  34.7077,2,    177.6,2,    177.6,2,    95.49,2,    32.24,2,     0.00,2,     2.23,2,   1.8057
  316N20060130,AAIW06,   192,  1,      7,      7,2,20060219,1127,-56.0122, -88.9793, 5040,   2702.5,   1.6899,  34.7154,2,  34.7154,2,    181.2,2,    181.7,2,   105.76,2,    32.29,2,     0.00,2,     2.23,2,   1.4967
  316N20060130,AAIW06,   192,  1,      6,      6,2,20060219,1127,-56.0122, -88.9793, 5040,   3106.7,   1.4887,  34.7237,2,  34.7234,2,    191.9,2,    191.8,2,   107.85,2,    31.93,2,     0.00,2,     2.19,2,   1.2616
  316N20060130,AAIW06,   192,  1,      5,      5,2,20060219,1127,-56.0122, -88.9793, 5040,   3511.6,   1.2459,  34.7204,2,  34.7187,2,    197.9,2,    197.8,2,   114.16,2,    31.92,2,     0.00,2,     2.20,2,   0.9847
  316N20060130,AAIW06,   192,  1,      4,      4,2,20060219,1127,-56.0122, -88.9793, 5040,   3918.3,   0.9383,  34.7124,2,  34.7108,2,    203.3,2,    203.2,2,   123.87,2,    32.22,2,     0.00,2,     2.22,2,   0.6436
  316N20060130,AAIW06,   192,  1,      3,      3,2,20060219,1127,-56.0122, -88.9793, 5040,   4323.4,   0.6990,  34.7078,2,  34.7075,2,    208.0,2,    207.7,2,   131.27,2,    32.53,2,     0.00,2,     2.24,2,   0.3682
  316N20060130,AAIW06,   192,  1,      2,      2,2,20060219,1127,-56.0122, -88.9793, 5040,   4730.4,   0.6234,  34.7063,2,  34.7041,0,    209.9,2,    209.8,2,   135.50,2,    32.57,2,     0.00,2,     2.24,2,   0.2498
  316N20060130,AAIW06,   192,  1,      1,      1,2,20060219,1127,-56.0122, -88.9793, 5040,   5137.7,   0.6212,  34.7050,2,  34.7094,0,    210.9,2,    210.9,2,   136.96,2,    32.61,2,     0.00,2,     2.24,2,   0.2004