BOTTLE,20081218PRINUNIVRMK
EXPOCODE,SECT_ID,STNNBR,CASTNO,SAMPNO,BTLNBR,BTLNBR_FLAG_W,DATE,TIME,LATITUDE,LONGITUDE,DEPTH,CTDPRS,CTDTMP,CTDSAL,CTDSAL_FLAG_W,SALNTY,SALNTY_FLAG_W,CTDOXY,CTDOXY_FLAG_W,OXYGEN,OXYGEN_FLAG_W,SILCAT,SILCAT_FLAG_W,NITRAT,NITRAT_FLAG_W,NITRIT,NITRIT_FLAG_W,PHSPHT,PHSPHT_FLAG_W,THETA
,,,,,,,,,,,METERS,DBARS,ITS-90,PSS-78,,PSS-78,,UMOL/KG,,UMOL/KG,,UMOL/KG,,UMOL/KG,,UMOL/KG,,UMOL/KG,,DEGC
  316N20060130,AAIW06,   197,  1,     36,     36,2,20060220,1927,-53.5112, -89.0080, 5012,      4.1,   9.2655,  34.0913,2,  34.0936,2,    282.2,2,    282.7,2,     0.61,2,    17.02,2,     0.24,2,     1.21,2,   9.2651
  316N20060130,AAIW06,   197,  1,     35,     35,2,20060220,1927,-53.5112, -89.0080, 5012,     26.9,   9.0341,  34.0893,2,  34.0919,2,    282.8,2,    282.7,2,     0.70,2,    17.08,2,     0.23,2,     1.20,2,   9.0312
  316N20060130,AAIW06,   197,  1,     34,     34,2,20060220,1927,-53.5112, -89.0080, 5012,     51.7,   8.9965,  34.0880,2,  34.0911,2,    283.1,2,    282.6,2,     0.60,2,    17.08,2,     0.23,2,     1.21,2,   8.9910
  316N20060130,AAIW06,   197,  1,     33,     33,2,20060220,1927,-53.5112, -89.0080, 5012,     81.7,   6.4770,  34.1450,2,  34.1470,2,    307.3,2,    305.8,2,     2.76,2,    18.46,2,     0.14,2,     1.35,2,   6.4698
  316N20060130,AAIW06,   197,  1,     32,     32,2,20060220,1927,-53.5112, -89.0080, 5012,    106.5,   5.8889,  34.1436,2,-999.0000,9,    301.2,2,    301.1,2,     4.30,2,    19.20,2,     0.17,2,     1.42,2,   5.8800
  316N20060130,AAIW06,   197,  1,     31,     31,2,20060220,1927,-53.5112, -89.0080, 5012,    156.5,   5.4103,  34.1606,2,-999.0000,9,    295.8,2,    297.5,2,     5.22,2,    20.31,2,     0.45,2,     1.46,2,   5.3978
  316N20060130,AAIW06,   197,  1,     30,     30,2,20060220,1927,-53.5112, -89.0080, 5012,    205.8,   5.3466,  34.1754,2,-999.0000,9,    289.9,2,    292.5,2,     5.52,2,    21.10,2,     0.01,2,     1.48,2,   5.3302
  316N20060130,AAIW06,   197,  1,     29,     29,2,20060220,1927,-53.5112, -89.0080, 5012,    256.2,   5.2905,  34.1817,2,-999.0000,9,    288.4,2,    292.0,2,     5.62,2,    21.16,2,     0.00,2,     1.50,2,   5.2701
  316N20060130,AAIW06,   197,  1,     28,     28,2,20060220,1927,-53.5112, -89.0080, 5012,    306.3,   5.2827,  34.1880,2,-999.0000,9,    288.2,2,    289.1,2,     6.13,2,    21.51,2,     0.00,2,     1.52,2,   5.2582
  316N20060130,AAIW06,   197,  1,     27,     27,2,20060220,1927,-53.5112, -89.0080, 5012,    355.9,   5.2692,  34.1926,2,-999.0000,9,    286.0,2,    286.5,2,     6.85,2,    21.93,2,     0.00,2,     1.53,2,   5.2407
  316N20060130,AAIW06,   197,  1,     26,     26,2,20060220,1927,-53.5112, -89.0080, 5012,    406.0,   5.2623,  34.2003,2,-999.0000,9,    281.2,2,    280.6,2,     7.77,2,    22.65,2,     0.00,2,     1.58,2,   5.2296
  316N20060130,AAIW06,   197,  1,     25,     25,2,20060220,1927,-53.5112, -89.0080, 5012,    456.1,   5.1807,  34.1978,2,-999.0000,9,    277.3,2,    276.7,2,     8.70,2,    23.26,2,     0.00,2,     1.61,2,   5.1441
  316N20060130,AAIW06,   197,  1,     24,     24,2,20060220,1927,-53.5112, -89.0080, 5012,    505.5,   5.0851,  34.1962,2,-999.0000,9,    272.8,2,    271.5,2,     9.83,2,    23.99,2,     0.00,2,     1.66,2,   5.0447
  316N20060130,AAIW06,   197,  1,     23,     23,2,20060220,1927,-53.5112, -89.0080, 5012,    605.4,   4.8497,  34.1997,2,-999.0000,9,    257.5,2,    256.6,2,    13.24,2,    25.74,2,     0.00,2,     1.79,2,   4.8020
  316N20060130,AAIW06,   197,  1,     22,     22,2,20060220,1927,-53.5112, -89.0080, 5012,    705.0,   4.5776,  34.2252,2,-999.0000,9,    239.9,2,    238.7,2,    18.50,2,    27.91,2,     0.00,2,     1.87,2,   4.5230
  316N20060130,AAIW06,   197,  1,     21,     21,9,20060220,1927,-53.5112, -89.0080, 5012,    805.2,   4.3105,  34.2600,2,-999.0000,9,   -999.0,9,   -999.0,9,  -999.00,9,  -999.00,9,  -999.00,9,  -999.00,9,   4.2491
  316N20060130,AAIW06,   197,  1,     20,     20,2,20060220,1927,-53.5112, -89.0080, 5012,    805.5,   4.3086,  34.2602,2,-999.0000,9,    222.6,2,    222.5,2,    24.80,2,    29.62,2,     0.00,2,     1.99,2,   4.2472
  316N20060130,AAIW06,   197,  1,     19,     19,2,20060220,1927,-53.5112, -89.0080, 5012,    905.4,   3.9416,  34.2870,2,-999.0000,9,    213.4,2,    212.7,2,    31.31,2,    31.06,2,     0.00,2,     2.08,2,   3.8745
  316N20060130,AAIW06,   197,  1,     18,     18,2,20060220,1927,-53.5112, -89.0080, 5012,   1005.8,   3.5968,  34.3194,2,-999.0000,9,    204.1,2,    203.7,2,    38.44,2,    32.15,2,     0.00,2,     2.17,2,   3.5241
  316N20060130,AAIW06,   197,  1,     17,     17,2,20060220,1927,-53.5112, -89.0080, 5012,   1105.5,   3.3014,  34.3552,2,-999.0000,9,    193.6,2,    194.4,2,    45.58,2,    33.07,2,     0.00,2,     2.25,2,   3.2231
  316N20060130,AAIW06,   197,  1,     16,     16,2,20060220,1927,-53.5112, -89.0080, 5012,   1206.4,   3.0417,  34.3995,2,-999.0000,9,    185.2,2,    186.3,2,    53.56,2,    33.85,2,     0.00,2,     2.30,2,   2.9577
  316N20060130,AAIW06,   197,  1,     15,     15,2,20060220,1927,-53.5112, -89.0080, 5012,   1306.4,   2.8803,  34.4511,2,-999.0000,9,    175.0,2,    174.2,2,    61.34,2,    34.51,2,     0.00,2,     2.35,2,   2.7898
  316N20060130,AAIW06,   197,  1,     14,     14,2,20060220,1927,-53.5112, -89.0080, 5012,   1407.1,   2.7543,  34.4906,2,-999.0000,9,    169.4,2,    168.6,2,    67.46,2,    34.81,2,     0.00,2,     2.38,2,   2.6570
  316N20060130,AAIW06,   197,  1,     13,     13,2,20060220,1927,-53.5112, -89.0080, 5012,   1607.8,   2.5765,  34.5588,2,-999.0000,9,    161.7,2,    160.7,2,    78.39,2,    34.96,2,     0.00,2,     2.45,2,   2.4648
  316N20060130,AAIW06,   197,  1,     12,     12,2,20060220,1927,-53.5112, -89.0080, 5012,   1808.4,   2.3813,  34.6134,2,-999.0000,9,    158.3,2,    158.5,2,    88.72,2,    34.58,2,     0.00,2,     2.42,2,   2.2554
  316N20060130,AAIW06,   197,  1,     11,     11,2,20060220,1927,-53.5112, -89.0080, 5012,   2009.4,   2.2303,  34.6482,2,-999.0000,9,    161.8,2,    161.7,2,    93.02,2,    34.16,2,     0.00,2,     2.38,2,   2.0895
  316N20060130,AAIW06,   197,  1,     10,     10,9,20060220,1927,-53.5112, -89.0080, 5012,   2311.2,   1.9896,  34.6772,2,-999.0000,9,   -999.0,9,   -999.0,9,  -999.00,9,  -999.00,9,  -999.00,9,  -999.00,9,   1.8263
  316N20060130,AAIW06,   197,  1,      9,      9,2,20060220,1927,-53.5112, -89.0080, 5012,   2614.7,   1.8508,  34.6940,2,  34.6960,2,    167.9,2,    168.1,2,   107.58,2,    33.69,2,     0.00,2,     2.35,2,   1.6626
  316N20060130,AAIW06,   197,  1,      8,      8,2,20060220,1927,-53.5112, -89.0080, 5012,   2916.8,   1.7203,  34.7077,2,  34.7085,2,    176.7,2,    176.9,2,   108.13,2,    32.80,2,     0.00,2,     2.30,2,   1.5064
  316N20060130,AAIW06,   197,  1,      7,      7,2,20060220,1927,-53.5112, -89.0080, 5012,   3170.0,   1.5743,  34.7172,2,  34.7184,2,    185.7,2,    185.9,2,   108.67,2,    32.38,2,     0.00,2,     2.26,2,   1.3391
  316N20060130,AAIW06,   197,  1,      6,      6,2,20060220,1927,-53.5112, -89.0080, 5012,   3422.8,   1.4199,  34.7191,2,  34.7197,2,    191.8,2,    191.2,2,   111.32,2,    32.11,2,     0.00,2,     2.25,2,   1.1633
  316N20060130,AAIW06,   197,  1,      5,      5,2,20060220,1927,-53.5112, -89.0080, 5012,   3725.8,   1.1670,  34.7166,2,  34.7172,2,    198.0,2,    197.9,2,   117.76,2,    32.16,2,     0.00,2,     2.24,2,   0.8860
  316N20060130,AAIW06,   197,  1,      4,      4,2,20060220,1927,-53.5112, -89.0080, 5012,   4029.6,   0.9222,  34.7119,2,  34.7124,2,    202.7,2,    202.7,2,   125.29,2,    32.41,2,     0.00,2,     2.25,2,   0.6163
  316N20060130,AAIW06,   197,  1,      3,      3,2,20060220,1927,-53.5112, -89.0080, 5012,   4333.3,   0.7551,  34.7091,2,  34.7099,2,    206.0,2,    206.2,2,   131.34,2,    32.51,2,     0.00,2,     2.27,2,   0.4215
  316N20060130,AAIW06,   197,  1,      2,      2,2,20060220,1927,-53.5112, -89.0080, 5012,   4742.2,   0.6619,  34.7067,2,  34.7067,2,    208.9,2,    208.9,2,   134.66,2,    32.60,2,     0.00,2,     2.26,2,   0.2857
  316N20060130,AAIW06,   197,  1,      1,      1,2,20060220,1927,-53.5112, -89.0080, 5012,   5105.6,   0.6802,  34.7060,2,  34.7066,2,    209.3,2,    209.2,2,   137.34,2,    32.65,2,     0.00,2,     2.27,2,   0.2612
  316N20060130,AAIW06,   198,  1,     36,     36,2,20060221, 217,-53.0145, -89.0193, 4963,      4.6,   9.1973,  34.1030,2,  34.1046,2,    283.5,2,    283.3,2,     1.77,2,    16.55,2,     0.24,2,     1.23,2,   9.1968
  316N20060130,AAIW06,   198,  1,     35,     35,2,20060221, 217,-53.0145, -89.0193, 4963,     20.5,   9.0309,  34.1001,2,  34.1004,2,    284.1,2,    283.1,2,     1.07,2,    16.61,2,     0.23,2,     1.22,2,   9.0287
  316N20060130,AAIW06,   198,  1,     34,     34,2,20060221, 217,-53.0145, -89.0193, 4963,     45.9,   8.9901,  34.0985,2,  34.1016,2,    284.0,2,    283.0,2,     1.00,2,    16.61,2,     0.23,2,     1.23,2,   8.9852
  316N20060130,AAIW06,   198,  1,     33,     33,2,20060221, 217,-53.0145, -89.0193, 4963,     70.3,   8.8654,  34.0991,2,  34.1012,2,    284.0,2,    284.2,2,     1.12,2,    16.67,2,     0.22,2,     1.23,2,   8.8580
  316N20060130,AAIW06,   198,  1,     32,     32,9,20060221, 217,-53.0145, -89.0193, 4963,     97.5,   5.8257,  34.1475,2,-999.0000,9,   -999.0,9,   -999.0,9,  -999.00,9,  -999.00,9,  -999.00,9,  -999.00,9,   5.8176
  316N20060130,AAIW06,   198,  1,     31,     31,2,20060221, 217,-53.0145, -89.0193, 4963,    132.9,   5.4803,  34.1680,2,-999.0000,9,    298.5,2,    299.1,2,     6.05,2,    19.73,2,     0.48,2,     1.47,2,   5.4696
  316N20060130,AAIW06,   198,  1,     30,     30,2,20060221, 217,-53.0145, -89.0193, 4963,    177.3,   5.3767,  34.1764,2,-999.0000,9,    296.2,2,    295.3,2,     6.19,2,    20.60,2,     0.01,2,     1.49,2,   5.3626
  316N20060130,AAIW06,   198,  1,     29,     29,2,20060221, 217,-53.0145, -89.0193, 4963,    227.2,   5.3198,  34.1816,2,-999.0000,9,    294.1,2,    294.2,2,     6.74,2,    20.65,2,     0.01,2,     1.49,2,   5.3017
  316N20060130,AAIW06,   198,  1,     28,     28,2,20060221, 217,-53.0145, -89.0193, 4963,    277.2,   5.2808,  34.1814,2,-999.0000,9,    293.6,2,    293.8,2,     6.88,2,    20.80,2,     0.01,2,     1.50,2,   5.2587
  316N20060130,AAIW06,   198,  1,     27,     27,2,20060221, 217,-53.0145, -89.0193, 4963,    326.5,   5.2522,  34.1801,2,-999.0000,9,    292.2,2,    293.4,2,     6.59,2,    21.01,2,     0.01,2,     1.49,2,   5.2261
  316N20060130,AAIW06,   198,  1,     26,     26,2,20060221, 217,-53.0145, -89.0193, 4963,    376.7,   5.2216,  34.1803,2,  34.1809,2,    292.3,2,    293.1,2,     7.55,2,    21.01,2,     0.00,2,     1.51,2,   5.1915
  316N20060130,AAIW06,   198,  1,     25,     25,2,20060221, 217,-53.0145, -89.0193, 4963,    426.6,   5.2539,  34.1922,2,-999.0000,9,    286.1,2,    285.1,2,     8.31,2,    21.92,2,     0.00,2,     1.54,2,   5.2195
  316N20060130,AAIW06,   198,  1,     24,     24,2,20060221, 217,-53.0145, -89.0193, 4963,    476.7,   5.1950,  34.1969,2,-999.0000,9,    279.6,2,    279.3,2,     9.27,2,    22.72,2,     0.00,2,     1.59,2,   5.1566
  316N20060130,AAIW06,   198,  1,     23,     23,2,20060221, 217,-53.0145, -89.0193, 4963,    526.6,   5.0968,  34.1957,2,-999.0000,9,    275.9,2,    272.6,2,    11.07,2,    23.58,2,     0.00,2,     1.65,2,   5.0546
  316N20060130,AAIW06,   198,  1,     22,     22,2,20060221, 217,-53.0145, -89.0193, 4963,    646.2,   4.8062,  34.2069,2,-999.0000,9,    256.2,2,    251.8,2,    14.75,2,    25.95,2,     0.00,2,     1.82,2,   4.7553
  316N20060130,AAIW06,   198,  1,     21,     21,9,20060221, 217,-53.0145, -89.0193, 4963,    646.4,   4.8066,  34.2088,2,-999.0000,9,   -999.0,9,   -999.0,9,  -999.00,9,  -999.00,9,  -999.00,9,  -999.00,9,   4.7557
  316N20060130,AAIW06,   198,  1,     20,     20,2,20060221, 217,-53.0145, -89.0193, 4963,    746.5,   4.5318,  34.2404,2,-999.0000,9,    234.8,2,    232.0,2,    20.91,2,    28.18,2,     0.00,2,     1.97,2,   4.4740
  316N20060130,AAIW06,   198,  1,     19,     19,2,20060221, 217,-53.0145, -89.0193, 4963,    845.4,   4.1641,  34.2674,2,-999.0000,9,    222.4,2,    219.8,2,    27.07,2,    29.75,2,     0.00,2,     2.07,2,   4.1004
  316N20060130,AAIW06,   198,  1,     18,     18,2,20060221, 217,-53.0145, -89.0193, 4963,    945.6,   3.8287,  34.2951,2,-999.0000,9,    211.1,2,    209.9,2,    33.65,2,    31.07,2,     0.00,2,     2.14,2,   3.7591
  316N20060130,AAIW06,   198,  1,     17,     17,2,20060221, 217,-53.0145, -89.0193, 4963,   1045.8,   3.4791,  34.3335,2,-999.0000,9,    201.5,2,    198.4,2,    41.69,2,    32.34,2,     0.00,2,     2.26,2,   3.4041
  316N20060130,AAIW06,   198,  1,     16,     16,2,20060221, 217,-53.0145, -89.0193, 4963,   1145.5,   3.2141,  34.3744,2,-999.0000,9,    192.4,2,    189.1,2,    50.55,2,    33.09,2,     0.00,2,     2.33,2,   3.1334
  316N20060130,AAIW06,   198,  1,     15,     15,2,20060221, 217,-53.0145, -89.0193, 4963,   1246.0,   2.9765,  34.4221,2,-999.0000,9,    184.3,2,    179.4,2,    57.55,2,    33.85,2,     0.00,2,     2.38,2,   2.8899
  316N20060130,AAIW06,   198,  1,     14,     14,2,20060221, 217,-53.0145, -89.0193, 4963,   1346.4,   2.8018,  34.4583,2,-999.0000,9,    175.0,2,    178.2,2,    62.47,2,    33.85,2,     0.00,2,     2.36,2,   2.7089
  316N20060130,AAIW06,   198,  1,     13,     13,2,20060221, 217,-53.0145, -89.0193, 4963,   1546.2,   2.6072,  34.5337,2,-999.0000,9,    168.8,2,    169.4,2,    72.19,2,    34.00,2,     0.00,2,     2.39,2,   2.5002
  316N20060130,AAIW06,   198,  1,     12,     12,2,20060221, 217,-53.0145, -89.0193, 4963,   1747.4,   2.4399,  34.5996,2,-999.0000,9,    167.6,2,    164.0,2,    81.92,2,    33.94,2,     0.00,2,     2.38,2,   2.3183
  316N20060130,AAIW06,   198,  1,     10,     10,9,20060221, 217,-53.0145, -89.0193, 4963,   1948.4,   2.2993,  34.6461,2,-999.0000,9,   -999.0,9,   -999.0,9,  -999.00,9,  -999.00,9,  -999.00,9,  -999.00,9,   2.1627
  316N20060130,AAIW06,   198,  1,     11,     11,2,20060221, 217,-53.0145, -89.0193, 4963,   1948.9,   2.3031,  34.6447,2,-999.0000,9,    167.1,2,    167.4,2,    86.22,2,    33.28,2,     0.00,2,     2.33,2,   2.1664
  316N20060130,AAIW06,   198,  1,      9,      9,2,20060221, 217,-53.0145, -89.0193, 4963,   2159.5,   2.1738,  34.6754,2,-999.0000,9,    170.6,2,    169.8,2,    91.16,2,    32.87,2,     0.00,2,     2.28,2,   2.0208
  316N20060130,AAIW06,   198,  1,      8,      8,2,20060221, 217,-53.0145, -89.0193, 4963,   2461.8,   1.9513,  34.6949,2,  34.6946,2,    172.3,2,    170.3,2,   101.98,2,    32.87,2,     0.00,2,     2.29,2,   1.7752
  316N20060130,AAIW06,   198,  1,      7,      7,2,20060221, 217,-53.0145, -89.0193, 4963,   2764.3,   1.7783,  34.7065,2,  34.7058,2,    175.5,2,    176.1,2,   106.30,2,    32.61,2,     0.00,2,     2.28,2,   1.5777
  316N20060130,AAIW06,   198,  1,      6,      6,2,20060221, 217,-53.0145, -89.0193, 4963,   3117.5,   1.6111,  34.7174,2,  34.7156,2,    186.1,2,    185.2,2,   107.26,2,    32.00,2,     0.00,2,     2.24,2,   1.3803
  316N20060130,AAIW06,   198,  1,      5,      5,2,20060221, 217,-53.0145, -89.0193, 4963,   3522.4,   1.3224,  34.7188,2,  34.7197,2,    194.7,2,    194.7,2,   113.28,2,    31.74,2,     0.00,2,     2.19,2,   1.0582
  316N20060130,AAIW06,   198,  1,      4,      4,2,20060221, 217,-53.0145, -89.0193, 4963,   3928.0,   0.9730,  34.7131,2,  34.7126,2,    201.7,2,    202.1,2,   123.54,2,    31.94,2,     0.00,2,     2.22,2,   0.6763
  316N20060130,AAIW06,   198,  1,      3,      3,2,20060221, 217,-53.0145, -89.0193, 4963,   4333.9,   0.7290,  34.7085,2,  34.7092,2,    206.4,2,    206.8,2,   131.28,2,    31.94,2,     0.00,2,     2.23,2,   0.3961
  316N20060130,AAIW06,   198,  1,      2,      2,2,20060221, 217,-53.0145, -89.0193, 4963,   4740.1,   0.6488,  34.7065,2,  34.7064,2,    208.8,2,    209.0,2,   135.44,2,    32.19,2,     0.00,2,     2.24,2,   0.2733
  316N20060130,AAIW06,   198,  1,      1,      1,2,20060221, 217,-53.0145, -89.0193, 4963,   5053.3,   0.6729,  34.7063,2,  34.7064,2,    209.4,2,    209.3,2,   136.19,2,    32.19,2,     0.00,2,     2.23,2,   0.2603