BOTTLE,20081218PRINUNIVRMK
EXPOCODE,SECT_ID,STNNBR,CASTNO,SAMPNO,BTLNBR,BTLNBR_FLAG_W,DATE,TIME,LATITUDE,LONGITUDE,DEPTH,CTDPRS,CTDTMP,CTDSAL,CTDSAL_FLAG_W,SALNTY,SALNTY_FLAG_W,CTDOXY,CTDOXY_FLAG_W,OXYGEN,OXYGEN_FLAG_W,SILCAT,SILCAT_FLAG_W,NITRAT,NITRAT_FLAG_W,NITRIT,NITRIT_FLAG_W,PHSPHT,PHSPHT_FLAG_W,THETA
,,,,,,,,,,,METERS,DBARS,ITS-90,PSS-78,,PSS-78,,UMOL/KG,,UMOL/KG,,UMOL/KG,,UMOL/KG,,UMOL/KG,,UMOL/KG,,DEGC
  316N20060130,AAIW06,   222,  1,     36,     36,2,20060301,1347,-55.2588, -89.8332, 4918,      8.4,   8.1859,  34.1281,2,  34.1301,2,    286.8,2,    287.0,2,     0.94,2,    16.21,2,     0.23,2,     1.19,2,   8.1851
  316N20060130,AAIW06,   222,  1,     34,     34,2,20060301,1347,-55.2588, -89.8332, 4918,     28.7,   8.1803,  34.1280,2,-999.0000,9,   -999.0,9,   -999.0,9,  -999.00,9,  -999.00,9,  -999.00,9,  -999.00,9,   8.1774
  316N20060130,AAIW06,   222,  1,     35,     35,2,20060301,1347,-55.2588, -89.8332, 4918,     28.9,   8.1792,  34.1282,2,  34.1294,2,    287.9,2,    288.1,2,     0.91,2,    16.25,2,     0.23,2,     1.19,2,   8.1763
  316N20060130,AAIW06,   222,  1,     33,     33,2,20060301,1347,-55.2588, -89.8332, 4918,     53.5,   8.1738,  34.1281,2,  34.1300,2,    288.0,2,    286.7,2,     0.89,2,    16.25,2,     0.23,2,     1.20,2,   8.1684
  316N20060130,AAIW06,   222,  1,     31,     31,2,20060301,1347,-55.2588, -89.8332, 4918,     72.5,   8.0933,  34.1307,2,  34.1328,2,    288.0,2,    286.9,2,     1.07,2,    16.30,2,     0.23,2,     1.21,2,   8.0861
  316N20060130,AAIW06,   222,  1,     32,     32,2,20060301,1347,-55.2588, -89.8332, 4918,     72.9,   8.0767,  34.1316,2,-999.0000,9,   -999.0,9,   -999.0,9,  -999.00,9,  -999.00,9,  -999.00,9,  -999.00,9,   8.0694
  316N20060130,AAIW06,   222,  1,     30,     30,2,20060301,1347,-55.2588, -89.8332, 4918,    108.6,   5.9194,  34.1711,2,  34.1728,2,    297.6,2,    297.8,2,     5.70,2,    18.80,2,     0.20,2,     1.45,2,   5.9103
  316N20060130,AAIW06,   222,  1,     29,     29,2,20060301,1347,-55.2588, -89.8332, 4918,    157.9,   5.7014,  34.1770,2,  34.1781,2,    292.5,2,    295.3,2,     5.88,2,    19.58,2,     0.68,2,     1.45,2,   5.6884
  316N20060130,AAIW06,   222,  1,     28,     28,2,20060301,1347,-55.2588, -89.8332, 4918,    208.2,   5.5737,  34.1802,2,  34.1816,2,    290.2,2,    292.3,2,     5.86,2,    20.39,2,     0.01,2,     1.46,2,   5.5567
  316N20060130,AAIW06,   222,  1,     27,     27,2,20060301,1347,-55.2588, -89.8332, 4918,    258.1,   5.5039,  34.1855,2,  34.1864,2,    288.7,2,    291.2,2,     5.84,2,    20.66,2,     0.01,2,     1.45,2,   5.4829
  316N20060130,AAIW06,   222,  1,     26,     26,2,20060301,1347,-55.2588, -89.8332, 4918,    307.3,   5.4578,  34.1854,2,  34.1862,2,    288.5,2,    290.7,2,     6.01,2,    20.85,2,     0.00,2,     1.47,2,   5.4328
  316N20060130,AAIW06,   222,  1,     25,     25,2,20060301,1347,-55.2588, -89.8332, 4918,    357.1,   5.3985,  34.1826,2,  34.1833,2,    290.6,2,    290.0,2,     6.40,2,    21.01,2,     0.00,2,     1.49,2,   5.3695
  316N20060130,AAIW06,   222,  1,     24,     24,2,20060301,1347,-55.2588, -89.8332, 4918,    407.1,   5.3980,  34.1904,2,  34.1913,2,    291.4,2,    288.1,2,     6.78,2,    21.26,2,     0.00,2,     1.49,2,   5.3648
  316N20060130,AAIW06,   222,  1,     23,     23,2,20060301,1347,-55.2588, -89.8332, 4918,    457.7,   5.4204,  34.2049,2,  34.2063,2,    285.3,2,    280.3,2,     8.18,2,    22.22,2,     0.00,2,     1.55,2,   5.3828
  316N20060130,AAIW06,   222,  1,     22,     22,2,20060301,1347,-55.2588, -89.8332, 4918,    506.9,   5.3474,  34.2116,2,  34.2137,2,    269.7,2,    262.4,2,    11.19,2,    23.98,2,     0.00,2,     1.66,2,   5.3059
  316N20060130,AAIW06,   222,  1,     20,     20,2,20060301,1347,-55.2588, -89.8332, 4918,    606.5,   5.0873,  34.2343,2,  34.2349,2,    243.8,2,    242.3,2,    16.03,2,    26.31,2,     0.00,2,     1.83,2,   5.0384
  316N20060130,AAIW06,   222,  1,     21,     21,9,20060301,1347,-55.2588, -89.8332, 4918,    607.6,   5.0878,  34.2343,2,-999.0000,9,   -999.0,9,   -999.0,9,  -999.00,9,  -999.00,9,  -999.00,9,  -999.00,9,   5.0388
  316N20060130,AAIW06,   222,  1,     19,     19,2,20060301,1347,-55.2588, -89.8332, 4918,    705.9,   4.7466,  34.2611,2,  34.2606,2,    228.6,2,    226.5,2,    21.68,2,    28.33,2,     0.00,2,     1.96,2,   4.6909
  316N20060130,AAIW06,   222,  1,     18,     18,2,20060301,1347,-55.2588, -89.8332, 4918,    804.6,   4.3180,  34.2864,2,  34.2869,2,    218.6,2,    215.8,2,    28.13,2,    29.90,2,     0.00,2,     2.06,2,   4.2566
  316N20060130,AAIW06,   222,  1,     17,     17,2,20060301,1347,-55.2588, -89.8332, 4918,    906.0,   3.8218,  34.3026,2,  34.3036,2,    211.3,2,    209.3,2,    35.21,2,    31.26,2,     0.00,2,     2.15,2,   3.7554
  316N20060130,AAIW06,   222,  1,     16,     16,2,20060301,1347,-55.2588, -89.8332, 4918,   1005.3,   3.4881,  34.3332,2,  34.3343,2,    204.1,2,    202.3,2,    41.68,2,    32.17,2,     0.00,2,     2.23,2,   3.4163
  316N20060130,AAIW06,   222,  1,     15,     15,2,20060301,1347,-55.2588, -89.8332, 4918,   1102.9,   3.1871,  34.3674,2,  34.3690,2,    195.6,2,    194.9,2,    48.76,2,    32.98,2,     0.00,2,     2.29,2,   3.1100
  316N20060130,AAIW06,   222,  1,     14,     14,2,20060301,1347,-55.2588, -89.8332, 4918,   1202.3,   2.9693,  34.4114,2,  34.4128,2,    187.3,2,    187.4,2,    55.64,2,    33.54,2,     0.00,2,     2.33,2,   2.8862
  316N20060130,AAIW06,   222,  1,     13,     13,2,20060301,1347,-55.2588, -89.8332, 4918,   1303.0,   2.8056,  34.4544,2,  34.4558,2,    180.2,2,    180.6,2,    61.51,2,    33.99,2,     0.00,2,     2.36,2,   2.7161
  316N20060130,AAIW06,   222,  1,     12,     12,2,20060301,1347,-55.2588, -89.8332, 4918,   1397.2,   2.6892,  34.4956,2,  34.4957,2,    175.3,2,    174.7,2,    66.99,2,    34.24,2,     0.00,2,     2.38,2,   2.5934
  316N20060130,AAIW06,   222,  1,     11,     11,2,20060301,1347,-55.2588, -89.8332, 4918,   1593.6,   2.5137,  34.5697,2,  34.5698,2,    168.8,2,    168.3,2,    75.94,2,    34.18,2,     0.00,2,     2.38,2,   2.4039
  316N20060130,AAIW06,   222,  1,     10,     10,2,20060301,1347,-55.2588, -89.8332, 4918,   1786.7,   2.3716,  34.6253,2,  34.6268,2,    168.5,2,    168.9,2,    81.42,2,    33.56,2,     0.00,2,     2.34,2,   2.2476
  316N20060130,AAIW06,   222,  1,      9,      9,2,20060301,1347,-55.2588, -89.8332, 4918,   2077.3,   2.1737,  34.6811,2,  34.6818,2,    172.2,2,    172.6,2,    88.56,2,    32.75,2,     0.00,2,     2.29,2,   2.0278
  316N20060130,AAIW06,   222,  1,      8,      8,2,20060301,1347,-55.2588, -89.8332, 4918,   2372.1,   1.9648,  34.7048,2,  34.7064,2,    174.6,2,    175.7,2,    96.94,2,    32.59,2,     0.00,2,     2.26,2,   1.7964
  316N20060130,AAIW06,   222,  1,      7,      7,2,20060301,1347,-55.2588, -89.8332, 4918,   2668.7,   1.7553,  34.7154,2,  34.7164,2,    181.8,2,    181.4,2,   102.68,2,    32.39,2,     0.00,2,     2.25,2,   1.5639
  316N20060130,AAIW06,   222,  1,      6,      6,2,20060301,1347,-55.2588, -89.8332, 4918,   2966.6,   1.5993,  34.7242,2,  34.7245,2,    188.0,2,    188.8,2,   104.52,2,    31.88,2,     0.00,2,     2.21,2,   1.3832
  316N20060130,AAIW06,   222,  1,      5,      5,2,20060301,1347,-55.2588, -89.8332, 4918,   3363.2,   1.3509,  34.7225,2,  34.7230,2,    195.2,2,    194.7,2,   111.09,2,    31.92,2,     0.00,2,     2.20,2,   1.1020
  316N20060130,AAIW06,   222,  1,      4,      4,2,20060301,1347,-55.2588, -89.8332, 4918,   3762.5,   1.0669,  34.7159,2,  34.7155,2,    200.6,2,    200.5,2,   119.54,2,    32.02,2,     0.00,2,     2.22,2,   0.7849
  316N20060130,AAIW06,   222,  1,      3,      3,2,20060301,1347,-55.2588, -89.8332, 4918,   4164.8,   0.7778,  34.7100,2,  34.7116,2,    205.9,2,    206.0,2,   129.06,2,    32.32,2,     0.00,2,     2.23,2,   0.4617
  316N20060130,AAIW06,   222,  1,      2,      2,2,20060301,1347,-55.2588, -89.8332, 4918,   4573.9,   0.6519,  34.7075,2,  34.7075,2,    208.7,2,    208.5,2,   134.04,2,    32.52,2,     0.00,2,     2.25,2,   0.2950
  316N20060130,AAIW06,   222,  1,      1,      1,2,20060301,1347,-55.2588, -89.8332, 4918,   4983.5,   0.6558,  34.7065,2,  34.7067,2,    209.8,2,    232.8,4,   136.10,2,    32.56,2,     0.00,2,     2.25,2,   0.2520
  316N20060130,AAIW06,   223,  1,     36,     36,2,20060302, 100,-54.8890, -87.9923, 4851,      5.7,   8.4349,  34.1045,2,  34.1043,2,    285.5,2,    286.0,2,     0.91,2,    16.73,2,     0.22,2,     1.20,2,   8.4343
  316N20060130,AAIW06,   223,  1,     35,     35,2,20060302, 100,-54.8890, -87.9923, 4851,     21.3,   8.4373,  34.1045,2,  34.1057,2,    286.8,2,    285.9,2,     0.79,2,    16.78,2,     0.22,2,     1.21,2,   8.4351
  316N20060130,AAIW06,   223,  1,     34,     34,2,20060302, 100,-54.8890, -87.9923, 4851,     45.2,   8.4390,  34.1043,2,  34.1047,2,    286.8,2,    285.7,2,     0.67,2,    16.73,2,     0.22,2,     1.20,2,   8.4344
  316N20060130,AAIW06,   223,  1,     33,     33,2,20060302, 100,-54.8890, -87.9923, 4851,     69.9,   8.3980,  34.1043,2,  34.1031,2,    287.1,2,    286.4,2,     0.76,2,    16.83,2,     0.22,2,     1.21,2,   8.3909
  316N20060130,AAIW06,   223,  1,     32,     32,2,20060302, 100,-54.8890, -87.9923, 4851,     97.9,   5.8543,  34.1539,2,-999.0000,9,    300.5,2,    299.9,2,     4.88,2,    19.03,2,     0.18,2,     1.40,2,   5.8462
  316N20060130,AAIW06,   223,  1,     31,     31,2,20060302, 100,-54.8890, -87.9923, 4851,    131.3,   5.5016,  34.1658,2,-999.0000,9,    297.6,2,    297.8,2,     5.98,2,    19.72,2,     0.45,2,     1.44,2,   5.4911
  316N20060130,AAIW06,   223,  1,     30,     30,2,20060302, 100,-54.8890, -87.9923, 4851,    176.8,   5.3911,  34.1720,2,-999.0000,9,    296.7,2,    296.9,2,     6.26,2,    20.56,2,     0.16,2,     1.45,2,   5.3770
  316N20060130,AAIW06,   223,  1,     29,     29,2,20060302, 100,-54.8890, -87.9923, 4851,    225.6,   5.3495,  34.1827,2,-999.0000,9,    293.0,2,    293.6,2,     6.35,2,    20.81,2,     0.01,2,     1.46,2,   5.3315
  316N20060130,AAIW06,   223,  1,     28,     28,2,20060302, 100,-54.8890, -87.9923, 4851,    276.3,   5.2720,  34.1802,2,-999.0000,9,    292.4,2,    293.7,2,     6.63,2,    21.02,2,     0.01,2,     1.47,2,   5.2500
  316N20060130,AAIW06,   223,  1,     27,     27,2,20060302, 100,-54.8890, -87.9923, 4851,    327.6,   5.3126,  34.1931,2,-999.0000,9,    291.4,2,    289.2,2,     7.12,2,    21.37,2,     0.01,2,     1.50,2,   5.2863
  316N20060130,AAIW06,   223,  1,     26,     26,2,20060302, 100,-54.8890, -87.9923, 4851,    376.3,   5.2862,  34.1942,2,-999.0000,9,    289.3,2,    287.1,2,     7.61,2,    21.56,2,     0.01,2,     1.51,2,   5.2559
  316N20060130,AAIW06,   223,  1,     25,     25,2,20060302, 100,-54.8890, -87.9923, 4851,    425.9,   5.2708,  34.1995,2,-999.0000,9,    284.6,2,    280.9,2,     8.70,2,    22.42,2,     0.01,2,     1.56,2,   5.2364
  316N20060130,AAIW06,   223,  1,     24,     24,2,20060302, 100,-54.8890, -87.9923, 4851,    475.0,   5.1881,  34.1984,2,-999.0000,9,    277.3,2,    276.1,2,     9.80,2,    23.08,2,     0.00,2,     1.60,2,   5.1499
  316N20060130,AAIW06,   223,  1,     23,     23,2,20060302, 100,-54.8890, -87.9923, 4851,    526.1,   5.1064,  34.1987,2,-999.0000,9,    270.2,2,    270.4,2,    10.89,2,    23.78,2,     0.00,2,     1.64,2,   5.0642
  316N20060130,AAIW06,   223,  1,     22,     22,2,20060302, 100,-54.8890, -87.9923, 4851,    645.0,   4.8433,  34.2136,2,-999.0000,9,    250.3,2,    249.1,2,    15.82,2,    26.26,2,     0.00,2,     1.80,2,   4.7923
  316N20060130,AAIW06,   223,  1,     20,     20,2,20060302, 100,-54.8890, -87.9923, 4851,    743.9,   4.6041,  34.2409,2,-999.0000,9,    232.7,2,    233.1,2,    20.96,2,    28.02,2,     0.00,2,     1.92,2,   4.5461
  316N20060130,AAIW06,   223,  1,     21,     21,9,20060302, 100,-54.8890, -87.9923, 4851,    746.0,   4.6039,  34.2420,2,-999.0000,9,   -999.0,9,   -999.0,9,  -999.00,9,  -999.00,9,  -999.00,9,  -999.00,9,   4.5457
  316N20060130,AAIW06,   223,  1,     19,     19,2,20060302, 100,-54.8890, -87.9923, 4851,    846.7,   4.2862,  34.2688,2,-999.0000,9,    217.5,2,    220.5,2,    26.89,2,    29.48,2,     0.00,2,     2.02,2,   4.2216
  316N20060130,AAIW06,   223,  1,     18,     18,2,20060302, 100,-54.8890, -87.9923, 4851,    945.8,   3.8884,  34.2946,2,-999.0000,9,    210.9,2,    211.7,2,    33.43,2,    30.79,2,     0.00,2,     2.12,2,   3.8184
  316N20060130,AAIW06,   223,  1,     17,     17,2,20060302, 100,-54.8890, -87.9923, 4851,   1043.8,   3.5252,  34.3258,2,-999.0000,9,    202.8,2,    203.3,2,    40.99,2,    31.96,2,     0.00,2,     2.21,2,   3.4500
  316N20060130,AAIW06,   223,  1,     16,     16,2,20060302, 100,-54.8890, -87.9923, 4851,   1143.8,   3.2263,  34.3636,2,-999.0000,9,    194.5,2,    194.8,2,    48.35,2,    32.86,2,     0.00,2,     2.28,2,   3.1456
  316N20060130,AAIW06,   223,  1,     15,     15,2,20060302, 100,-54.8890, -87.9923, 4851,   1244.3,   2.9887,  34.4118,2,-999.0000,9,    185.9,2,    185.0,2,    56.33,2,    33.57,2,     0.00,2,     2.34,2,   2.9021
  316N20060130,AAIW06,   223,  1,     14,     14,2,20060302, 100,-54.8890, -87.9923, 4851,   1343.3,   2.8646,  34.4609,2,-999.0000,9,    179.7,2,    171.9,2,    64.11,2,    34.38,2,     0.00,2,     2.40,2,   2.7713
  316N20060130,AAIW06,   223,  1,     13,     13,2,20060302, 100,-54.8890, -87.9923, 4851,   1440.0,   2.7643,  34.4986,2,-999.0000,9,    171.7,2,    164.8,2,    70.29,2,    34.72,2,     0.00,2,     2.42,2,   2.6642
  316N20060130,AAIW06,   223,  1,     12,     12,2,20060302, 100,-54.8890, -87.9923, 4851,   1539.1,   2.6268,  34.5360,2,-999.0000,9,    163.1,2,    165.1,0,    74.43,2,    34.52,2,     0.00,2,     2.41,2,   2.5202
  316N20060130,AAIW06,   223,  1,     11,     11,2,20060302, 100,-54.8890, -87.9923, 4851,   1735.3,   2.4465,  34.5978,2,-999.0000,9,    163.3,2,    160.5,2,    84.28,2,    34.21,2,     0.00,2,     2.39,2,   2.3259
  316N20060130,AAIW06,   223,  1,     10,     10,2,20060302, 100,-54.8890, -87.9923, 4851,   1931.6,   2.2879,  34.6396,2,-999.0000,9,    163.2,2,    163.0,2,    90.69,2,    33.80,2,     0.00,2,     2.36,2,   2.1529
  316N20060130,AAIW06,   223,  1,      9,      9,2,20060302, 100,-54.8890, -87.9923, 4851,   2083.9,   2.1690,  34.6627,2,-999.0000,9,    164.2,2,    164.1,2,    95.89,2,    33.64,2,     0.00,2,     2.35,2,   2.0227
  316N20060130,AAIW06,   223,  1,      8,      8,2,20060302, 100,-54.8890, -87.9923, 4851,   2367.4,   1.9996,  34.6868,2,  34.6878,2,    168.7,2,    167.6,2,   102.33,2,    33.29,2,     0.00,2,     2.33,2,   1.8311
  316N20060130,AAIW06,   223,  1,      7,      7,2,20060302, 100,-54.8890, -87.9923, 4851,   2783.6,   1.7866,  34.7085,2,  34.7076,2,    177.6,2,    177.0,2,   106.11,2,    32.62,2,     0.00,2,     2.27,2,   1.5840
  316N20060130,AAIW06,   223,  1,      6,      6,2,20060302, 100,-54.8890, -87.9923, 4851,   3090.9,   1.6063,  34.7170,2,  34.7162,2,    184.6,2,    185.0,2,   108.67,2,    32.16,2,     0.00,2,     2.23,2,   1.3781
  316N20060130,AAIW06,   223,  1,      5,      5,2,20060302, 100,-54.8890, -87.9923, 4851,   3443.2,   1.3948,  34.7212,2,  34.7198,2,    193.5,2,    193.5,2,   111.65,2,    31.76,2,     0.00,2,     2.20,2,   1.1368
  316N20060130,AAIW06,   223,  1,      4,      4,2,20060302, 100,-54.8890, -87.9923, 4851,   3843.5,   1.1205,  34.7168,2,  34.7164,2,    199.5,2,    200.2,2,   119.37,2,    31.91,2,     0.00,2,     2.20,2,   0.8286
  316N20060130,AAIW06,   223,  1,      3,      3,2,20060302, 100,-54.8890, -87.9923, 4851,   4263.1,   0.8090,  34.7101,2,  34.7099,2,    205.0,2,    205.7,2,   129.38,2,    32.15,2,     0.00,2,     2.22,2,   0.4814
  316N20060130,AAIW06,   223,  1,      2,      2,2,20060302, 100,-54.8890, -87.9923, 4851,   4770.9,   0.6589,  34.7070,2,  34.7069,2,    209.4,2,    209.3,2,   135.50,2,    32.15,2,     0.00,2,     2.23,2,   0.2795
  316N20060130,AAIW06,   223,  1,      1,      1,2,20060302, 100,-54.8890, -87.9923, 4851,   5232.8,   0.6769,  34.7062,2,  34.7064,2,    210.9,2,    210.7,2,   136.85,2,    32.30,2,     0.00,2,     2.24,2,   0.2428