BOTTLE,20081218PRINUNIVRMK
EXPOCODE,SECT_ID,STNNBR,CASTNO,SAMPNO,BTLNBR,BTLNBR_FLAG_W,DATE,TIME,LATITUDE,LONGITUDE,DEPTH,CTDPRS,CTDTMP,CTDSAL,CTDSAL_FLAG_W,SALNTY,SALNTY_FLAG_W,CTDOXY,CTDOXY_FLAG_W,OXYGEN,OXYGEN_FLAG_W,SILCAT,SILCAT_FLAG_W,NITRAT,NITRAT_FLAG_W,NITRIT,NITRIT_FLAG_W,PHSPHT,PHSPHT_FLAG_W,THETA
,,,,,,,,,,,METERS,DBARS,ITS-90,PSS-78,,PSS-78,,UMOL/KG,,UMOL/KG,,UMOL/KG,,UMOL/KG,,UMOL/KG,,UMOL/KG,,DEGC
  316N20060130,AAIW06,   182,  1,     36,     36,2,20060215,1503,-59.9822, -89.0053, 5040,      4.4,   6.8032,  33.9335,2,  33.9340,2,    293.8,2,    293.9,2,     0.80,2,    19.86,2,     0.21,2,     1.45,2,   6.8028
  316N20060130,AAIW06,   182,  1,     35,     35,2,20060215,1503,-59.9822, -89.0053, 5040,     24.0,   6.7747,  33.9338,2,  33.9341,2,    294.8,2,    294.3,2,     0.78,2,    19.75,2,     0.21,2,     1.46,2,   6.7726
  316N20060130,AAIW06,   182,  1,     34,     34,2,20060215,1503,-59.9822, -89.0053, 5040,     51.8,   6.6313,  33.9430,2,  33.9400,2,    295.4,2,    294.9,2,     0.77,2,    19.85,2,     0.21,2,     1.45,2,   6.6267
  316N20060130,AAIW06,   182,  1,     33,     33,2,20060215,1503,-59.9822, -89.0053, 5040,     77.2,   4.5398,  34.0537,2,  34.0534,2,    304.7,2,    304.4,2,     6.34,2,    21.53,2,     0.45,2,     1.66,2,   4.5342
  316N20060130,AAIW06,   182,  1,     32,     32,2,20060215,1503,-59.9822, -89.0053, 5040,    101.3,   4.2334,  34.0458,2,  34.0485,2,    301.1,2,    301.1,2,     8.33,2,    22.85,2,     0.33,2,     1.69,2,   4.2263
  316N20060130,AAIW06,   182,  1,     31,     31,2,20060215,1503,-59.9822, -89.0053, 5040,    155.7,   3.8297,  34.0212,2,-999.0000,9,    301.2,2,    301.7,2,     9.71,2,    23.85,2,     0.05,2,     1.72,2,   3.8193
  316N20060130,AAIW06,   182,  1,     30,     30,2,20060215,1503,-59.9822, -89.0053, 5040,    204.5,   3.5696,  34.0124,2,-999.0000,9,    301.4,2,    303.2,2,    10.50,2,    24.25,2,     0.06,2,     1.74,2,   3.5562
  316N20060130,AAIW06,   182,  1,     29,     29,2,20060215,1503,-59.9822, -89.0053, 5040,    253.7,   3.6191,  34.0409,2,-999.0000,9,    294.7,2,    292.8,2,    12.68,2,    25.03,2,     0.01,2,     1.79,2,   3.6023
  316N20060130,AAIW06,   182,  1,     28,     28,2,20060215,1503,-59.9822, -89.0053, 5040,    303.5,   3.5447,  34.0594,2,-999.0000,9,    280.0,2,    284.8,2,    15.05,2,    25.91,2,     0.00,2,     1.85,2,   3.5247
  316N20060130,AAIW06,   182,  1,     27,     27,2,20060215,1503,-59.9822, -89.0053, 5040,    353.1,   3.5182,  34.0998,2,-999.0000,9,    268.8,2,    271.1,2,    18.43,2,    27.11,2,     0.00,2,     1.93,2,   3.4948
  316N20060130,AAIW06,   182,  1,     26,     26,2,20060215,1503,-59.9822, -89.0053, 5040,    401.4,   3.9627,  34.2004,2,-999.0000,9,    263.7,2,    240.1,2,    23.81,2,    28.48,2,     0.00,2,     2.02,2,   3.9345
  316N20060130,AAIW06,   182,  1,     25,     25,2,20060215,1503,-59.9822, -89.0053, 5040,    451.9,   3.4619,  34.1670,2,-999.0000,9,    253.1,2,    248.6,2,    24.78,2,    28.89,2,     0.00,2,     2.04,2,   3.4318
  316N20060130,AAIW06,   182,  1,     24,     24,2,20060215,1503,-59.9822, -89.0053, 5040,    501.8,   3.3589,  34.1924,2,-999.0000,9,    245.6,2,    241.6,2,    28.16,2,    29.67,2,     0.00,2,     2.10,2,   3.3256
  316N20060130,AAIW06,   182,  1,     23,     23,2,20060215,1503,-59.9822, -89.0053, 5040,    600.4,   3.2008,  34.2651,2,-999.0000,9,    218.7,2,    219.2,2,    36.73,2,    31.19,2,     0.00,2,     2.21,2,   3.1612
  316N20060130,AAIW06,   182,  1,     22,     22,2,20060215,1503,-59.9822, -89.0053, 5040,    700.4,   2.8726,  34.3015,2,-999.0000,9,    209.4,2,    211.5,2,    44.30,2,    32.39,2,     0.00,2,     2.29,2,   2.8276
  316N20060130,AAIW06,   182,  1,     20,     20,2,20060215,1503,-59.9822, -89.0053, 5040,    799.9,   2.8047,  34.3733,2,-999.0000,9,    193.4,2,    193.8,2,    53.09,2,    33.23,2,     0.00,2,     2.36,2,   2.7531
  316N20060130,AAIW06,   182,  1,     21,     21,9,20060215,1503,-59.9822, -89.0053, 5040,    801.6,   2.8040,  34.3735,2,-999.0000,9,   -999.0,9,   -999.0,9,  -999.00,9,  -999.00,9,  -999.00,9,  -999.00,9,   2.7522
  316N20060130,AAIW06,   182,  1,     19,     19,2,20060215,1503,-59.9822, -89.0053, 5040,    899.4,   2.6774,  34.4313,2,-999.0000,9,    183.4,2,    183.4,2,    60.27,2,    33.86,2,     0.00,2,     2.39,2,   2.6194
  316N20060130,AAIW06,   182,  1,     18,     18,2,20060215,1503,-59.9822, -89.0053, 5040,   1000.7,   2.5645,  34.4917,2,-999.0000,9,    177.3,2,    176.8,2,    66.66,2,    33.85,2,     0.00,2,     2.40,2,   2.5000
  316N20060130,AAIW06,   182,  1,     17,     17,2,20060215,1503,-59.9822, -89.0053, 5040,   1099.8,   2.4815,  34.5376,2,-999.0000,9,    173.9,2,    173.9,2,    71.06,2,    33.69,2,     0.00,2,     2.39,2,   2.4104
  316N20060130,AAIW06,   182,  1,     16,     16,2,20060215,1503,-59.9822, -89.0053, 5040,   1200.2,   2.4159,  34.5788,2,-999.0000,9,    172.2,2,    172.3,2,    74.85,2,    33.52,2,     0.00,2,     2.37,2,   2.3378
  316N20060130,AAIW06,   182,  1,     15,     15,2,20060215,1503,-59.9822, -89.0053, 5040,   1301.0,   2.3632,  34.6107,2,-999.0000,9,    171.7,2,    171.6,2,    78.06,2,    33.20,2,     0.00,2,     2.36,2,   2.2780
  316N20060130,AAIW06,   182,  1,     14,     14,2,20060215,1503,-59.9822, -89.0053, 5040,   1500.6,   2.2542,  34.6579,2,-999.0000,9,    172.9,2,    172.6,2,    82.66,2,    32.66,2,     0.00,2,     2.32,2,   2.1547
  316N20060130,AAIW06,   182,  1,     13,     13,2,20060215,1503,-59.9822, -89.0053, 5040,   1702.2,   2.1216,  34.6938,2,-999.0000,9,    176.5,2,    177.0,2,    89.09,2,    31.96,2,     0.00,2,     2.27,2,   2.0077
  316N20060130,AAIW06,   182,  1,     12,     12,2,20060215,1503,-59.9822, -89.0053, 5040,   1903.5,   1.9704,  34.7117,2,-999.0000,9,    179.8,2,    179.9,2,    90.89,2,    31.64,2,     0.00,2,     2.25,2,   1.8421
  316N20060130,AAIW06,   182,  1,     11,     11,2,20060215,1503,-59.9822, -89.0053, 5040,   2108.1,   1.8385,  34.7230,2,-999.0000,9,    184.6,2,    184.8,2,    94.71,2,    31.26,2,     0.00,2,     2.22,2,   1.6951
  316N20060130,AAIW06,   182,  1,     10,     10,2,20060215,1503,-59.9822, -89.0053, 5040,   2412.9,   1.6052,  34.7251,2,  34.7268,2,    188.7,2,    188.4,2,   102.58,2,    31.31,2,     0.00,2,     2.23,2,   1.4396
  316N20060130,AAIW06,   182,  1,      9,      9,2,20060215,1503,-59.9822, -89.0053, 5040,   2716.5,   1.4403,  34.7253,2,  34.7259,2,    192.7,2,    193.1,2,   106.62,2,    31.19,2,     0.00,2,     2.22,2,   1.2508
  316N20060130,AAIW06,   182,  1,      8,      8,2,20060215,1503,-59.9822, -89.0053, 5040,   3018.0,   1.2634,  34.7228,2,  34.7242,2,    197.0,2,    197.3,2,   111.48,2,    31.40,2,     0.00,2,     2.22,2,   1.0499
  316N20060130,AAIW06,   182,  1,      7,      7,2,20060215,1503,-59.9822, -89.0053, 5040,   3319.9,   1.1039,  34.7183,2,  34.7195,2,    200.4,2,    200.5,2,   116.74,2,    31.60,2,     0.00,2,     2.22,2,   0.8652
  316N20060130,AAIW06,   182,  1,      6,      6,2,20060215,1503,-59.9822, -89.0053, 5040,   3623.6,   0.9288,  34.7130,2,  34.7139,2,    203.8,2,    203.6,2,   122.03,2,    31.87,2,     0.00,2,     2.24,2,   0.6646
  316N20060130,AAIW06,   182,  1,      5,      5,2,20060215,1503,-59.9822, -89.0053, 5040,   3929.9,   0.7675,  34.7090,2,  34.7114,0,    206.6,2,    206.7,2,   127.53,2,    32.07,2,     0.00,2,     2.25,2,   0.4764
  316N20060130,AAIW06,   182,  1,      4,      4,2,20060215,1503,-59.9822, -89.0053, 5040,   4234.6,   0.6105,  34.7066,2,  34.7080,2,    209.7,2,    209.6,2,   132.43,2,    32.11,2,     0.00,2,     2.27,2,   0.2919
  316N20060130,AAIW06,   182,  1,      3,      3,2,20060215,1503,-59.9822, -89.0053, 5040,   4541.2,   0.5549,  34.7053,2,  34.7068,2,    211.1,2,    211.7,2,   135.91,2,    32.27,2,     0.00,2,     2.27,2,   0.2047
  316N20060130,AAIW06,   182,  1,      2,      2,2,20060215,1503,-59.9822, -89.0053, 5040,   4846.0,   0.5591,  34.7047,2,  34.7058,2,    211.8,2,    211.7,2,   136.92,2,    32.36,2,     0.00,2,     2.27,2,   0.1745
  316N20060130,AAIW06,   182,  1,      1,      1,2,20060215,1503,-59.9822, -89.0053, 5040,   5121.2,   0.5016,  34.7034,2,  34.7052,0,    213.5,2,    213.5,2,   140.40,2,    32.30,2,     0.00,2,     2.28,2,   0.0870
  316N20060130,AAIW06,   183,  1,     11,     11,2,20060215,2223,-59.4923, -89.0447, 5084,   1748.5,   2.1154,  34.6953,2,-999.0000,9,    176.5,2,    177.1,2,    86.17,4,    32.09,2,     0.00,2,     2.27,2,   1.9978
  316N20060130,AAIW06,   183,  1,     10,     10,2,20060215,2223,-59.4923, -89.0447, 5084,   1949.7,   1.9869,  34.7119,2,-999.0000,9,    180.2,2,    178.4,0,    88.16,4,    31.98,2,     0.00,2,     2.27,2,   1.8546
  316N20060130,AAIW06,   183,  1,      9,      9,2,20060215,2223,-59.4923, -89.0447, 5084,   2161.3,   1.8277,  34.7247,2,  34.7241,2,    185.0,2,    185.4,2,    94.19,4,    31.39,2,     0.00,2,     2.22,2,   1.6800
  316N20060130,AAIW06,   183,  1,      8,      8,2,20060215,2223,-59.4923, -89.0447, 5084,   2461.3,   1.5914,  34.7259,2,  34.7264,2,    188.8,2,    189.2,2,   108.13,4,    31.44,2,     0.00,2,     2.23,2,   1.4218
  316N20060130,AAIW06,   183,  1,      7,      7,2,20060215,2223,-59.4923, -89.0447, 5084,   2764.5,   1.4158,  34.7256,2,  34.7272,0,    193.4,2,    193.7,2,   102.24,4,    31.54,2,     0.00,2,     2.23,2,   1.2225
  316N20060130,AAIW06,   183,  1,      6,      6,2,20060215,2223,-59.4923, -89.0447, 5084,   3064.1,   1.2456,  34.7225,2,  34.7231,2,    197.6,2,    197.4,2,   107.08,4,    31.58,2,     0.00,2,     2.23,2,   1.0281
  316N20060130,AAIW06,   183,  1,      5,      5,2,20060215,2223,-59.4923, -89.0447, 5084,   3417.0,   1.0052,  34.7151,2,  34.7138,2,    202.3,2,    201.9,2,   121.11,4,    31.85,2,     0.00,2,     2.25,2,   0.7595
  316N20060130,AAIW06,   183,  1,      4,      4,2,20060215,2223,-59.4923, -89.0447, 5084,   3811.7,   0.8204,  34.7104,2,  34.7109,2,    205.4,2,    205.2,2,   127.02,4,    32.05,2,     0.00,2,     2.27,2,   0.5400
  316N20060130,AAIW06,   183,  1,      3,      3,2,20060215,2223,-59.4923, -89.0447, 5084,   4316.3,   0.5747,  34.7060,2,  34.7070,2,    210.8,2,    210.1,2,   137.07,4,    32.26,2,     0.00,2,     2.29,2,   0.2484
  316N20060130,AAIW06,   183,  1,      2,      2,2,20060215,2223,-59.4923, -89.0447, 5084,   4722.8,   0.5398,  34.7048,2,  34.7073,0,    211.7,2,    211.7,2,   138.09,4,    32.42,2,     0.00,2,     2.31,3,   0.1698
  316N20060130,AAIW06,   183,  1,      1,      1,2,20060215,2223,-59.4923, -89.0447, 5084,   5099.5,   0.5556,  34.7044,2,  34.7066,0,    212.5,2,    212.7,2,   140.36,4,    32.41,2,     0.00,2,     2.28,2,   0.1416
  316N20060130,AAIW06,   184,  4,     36,     36,2,20060216,1723,-59.0118, -88.9920, 5031,      6.2,   6.4268,  33.9128,2,  33.9130,2,    296.2,2,    296.1,2,     1.04,2,    20.70,2,     0.20,2,     1.52,2,   6.4263
  316N20060130,AAIW06,   184,  4,     35,     35,2,20060216,1723,-59.0118, -88.9920, 5031,     17.7,   6.4217,  33.9125,2,  33.9132,2,    297.0,2,    297.4,2,     1.00,2,    20.81,2,     0.20,2,     1.51,2,   6.4202
  316N20060130,AAIW06,   184,  4,     34,     34,2,20060216,1723,-59.0118, -88.9920, 5031,     42.2,   6.4123,  33.9127,2,  33.9132,2,    297.1,2,    296.2,2,     0.97,2,    20.76,2,     0.20,2,     1.51,2,   6.4087
  316N20060130,AAIW06,   184,  4,     33,     33,2,20060216,1723,-59.0118, -88.9920, 5031,     82.0,   4.2494,  34.0012,2,  34.0039,2,    310.6,2,    310.6,2,     4.75,2,    21.96,2,     0.25,2,     1.76,2,   4.2437
  316N20060130,AAIW06,   184,  4,     32,     32,2,20060216,1723,-59.0118, -88.9920, 5031,    137.1,   3.7190,  34.0109,2,  34.0112,2,    303.2,2,    302.8,2,     9.74,2,    24.05,2,     0.02,2,     1.72,2,   3.7100
  316N20060130,AAIW06,   184,  4,     31,     31,2,20060216,1723,-59.0118, -88.9920, 5031,    175.9,   3.5171,  34.0062,2,-999.0000,9,    300.7,2,    301.6,2,    10.72,2,    24.64,2,     0.00,2,     1.76,2,   3.5057
  316N20060130,AAIW06,   184,  4,     30,     30,2,20060216,1723,-59.0118, -88.9920, 5031,    239.8,   3.4842,  34.0454,2,-999.0000,9,    283.5,2,    289.0,2,    14.10,2,    25.81,2,     0.00,2,     1.84,2,   3.4686
  316N20060130,AAIW06,   184,  4,     29,     29,2,20060216,1723,-59.0118, -88.9920, 5031,    280.6,   3.3134,  34.0502,2,-999.0000,9,    287.8,2,    287.0,2,    15.67,2,    26.50,2,     0.00,2,     1.88,2,   3.2955
  316N20060130,AAIW06,   184,  4,     28,     28,2,20060216,1723,-59.0118, -88.9920, 5031,    340.1,   3.4467,  34.1074,2,-999.0000,9,    266.7,2,    267.7,2,    19.66,2,    27.77,2,     0.00,2,     1.96,2,   3.4244
  316N20060130,AAIW06,   184,  4,     27,     27,2,20060216,1723,-59.0118, -88.9920, 5031,    391.0,   3.3783,  34.1471,2,-999.0000,9,    258.0,2,    255.1,2,    23.25,2,    28.67,2,     0.00,2,     2.01,2,   3.3527
  316N20060130,AAIW06,   184,  4,     26,     26,2,20060216,1723,-59.0118, -88.9920, 5031,    439.7,   3.1818,  34.1597,2,-999.0000,9,    255.9,2,    252.6,2,    25.63,2,    29.30,2,     0.00,2,     2.06,2,   3.1535
  316N20060130,AAIW06,   184,  4,     25,     25,2,20060216,1723,-59.0118, -88.9920, 5031,    491.0,   3.4298,  34.2320,2,-999.0000,9,    229.8,2,    228.1,2,    31.42,2,    30.68,2,     0.00,2,     2.16,2,   3.3970
  316N20060130,AAIW06,   184,  4,     24,     24,2,20060216,1723,-59.0118, -88.9920, 5031,    574.9,   3.1212,  34.2617,2,-999.0000,9,    219.0,2,    219.1,2,    37.42,2,    31.85,2,     0.00,2,     2.23,2,   3.0838
  316N20060130,AAIW06,   184,  4,     23,     23,2,20060216,1723,-59.0118, -88.9920, 5031,    675.9,   2.8932,  34.3201,2,-999.0000,9,    205.2,2,    205.3,2,    45.84,2,    32.81,2,     0.00,2,     2.31,2,   2.8498
  316N20060130,AAIW06,   184,  4,     22,     22,2,20060216,1723,-59.0118, -88.9920, 5031,    777.2,   2.8694,  34.3918,2,-999.0000,9,    190.7,2,    196.5,2,    49.83,2,    33.29,2,     0.00,2,     2.34,2,   2.8189
  316N20060130,AAIW06,   184,  4,     21,     21,9,20060216,1723,-59.0118, -88.9920, 5031,    875.7,   2.7430,  34.4453,2,-999.0000,9,   -999.0,9,   -999.0,9,  -999.00,9,  -999.00,9,  -999.00,9,  -999.00,9,   2.6862
  316N20060130,AAIW06,   184,  4,     20,     20,2,20060216,1723,-59.0118, -88.9920, 5031,    876.9,   2.7425,  34.4455,2,-999.0000,9,    182.2,2,    181.1,2,    60.28,2,    33.93,2,     0.00,2,     2.40,2,   2.6857
  316N20060130,AAIW06,   184,  4,     19,     19,2,20060216,1723,-59.0118, -88.9920, 5031,    974.7,   2.5918,  34.4883,2,-999.0000,9,    177.5,2,    177.0,2,    65.50,2,    34.04,2,     0.00,2,     2.42,2,   2.5290
  316N20060130,AAIW06,   184,  4,     18,     18,2,20060216,1723,-59.0118, -88.9920, 5031,   1076.3,   2.5101,  34.5335,2,-999.0000,9,    174.1,2,    173.7,2,    70.11,2,    33.82,2,     0.00,2,     2.41,2,   2.4404
  316N20060130,AAIW06,   184,  4,     17,     17,2,20060216,1723,-59.0118, -88.9920, 5031,   1177.7,   2.4307,  34.5741,2,-999.0000,9,    172.2,2,    172.2,2,    73.92,2,    33.67,2,     0.00,2,     2.39,2,   2.3542
  316N20060130,AAIW06,   184,  4,     16,     16,2,20060216,1723,-59.0118, -88.9920, 5031,   1276.7,   2.3590,  34.6060,2,-999.0000,9,    171.8,2,    171.6,2,    75.91,2,    33.46,2,     0.00,2,     2.37,2,   2.2757
  316N20060130,AAIW06,   184,  4,     15,     15,2,20060216,1723,-59.0118, -88.9920, 5031,   1377.4,   2.2962,  34.6382,2,-999.0000,9,    172.0,2,    172.3,2,    79.32,2,    33.10,2,     0.00,2,     2.34,2,   2.2058
  316N20060130,AAIW06,   184,  4,     14,     14,2,20060216,1723,-59.0118, -88.9920, 5031,   1577.0,   2.1861,  34.6789,2,-999.0000,9,    174.5,2,    174.7,2,    83.94,2,    32.46,2,     0.00,2,     2.29,2,   2.0814
  316N20060130,AAIW06,   184,  4,     13,     13,2,20060216,1723,-59.0118, -88.9920, 5031,   1779.8,   2.0616,  34.7032,2,-999.0000,9,    178.4,2,    178.6,2,    87.16,2,    31.93,2,     0.00,2,     2.26,2,   1.9422
  316N20060130,AAIW06,   184,  4,     12,     12,2,20060216,1723,-59.0118, -88.9920, 5031,   1980.3,   1.9073,  34.7170,2,-999.0000,9,    181.6,2,    181.9,2,    91.20,2,    31.82,2,     0.00,2,     2.24,2,   1.7736
  316N20060130,AAIW06,   184,  4,     11,     11,2,20060216,1723,-59.0118, -88.9920, 5031,   2130.6,   1.7675,  34.7163,2,-999.0000,9,    181.8,2,    181.1,2,   100.33,2,    32.04,2,     0.00,2,     2.27,2,   1.6234
  316N20060130,AAIW06,   184,  4,     10,     10,2,20060216,1723,-59.0118, -88.9920, 5031,   2383.5,   1.5934,  34.7203,2,  34.7217,2,    186.0,2,    184.6,2,    97.65,2,    31.83,2,     0.00,2,     2.24,2,   1.4306
  316N20060130,AAIW06,   184,  4,      9,      9,2,20060216,1723,-59.0118, -88.9920, 5031,   2535.5,   1.5351,  34.7260,2,  34.7274,2,    190.1,2,    190.6,2,   101.49,2,    31.46,2,     0.00,2,     2.22,2,   1.3600
  316N20060130,AAIW06,   184,  4,      8,      8,2,20060216,1723,-59.0118, -88.9920, 5031,   2835.6,   1.3687,  34.7246,2,  34.7260,2,    194.5,2,    194.8,2,   107.39,2,    31.57,2,     0.00,2,     2.22,2,   1.1698
  316N20060130,AAIW06,   184,  4,      7,      7,2,20060216,1723,-59.0118, -88.9920, 5031,   3139.4,   1.1907,  34.7201,2,  34.7211,2,    198.1,2,    198.3,2,   112.68,2,    31.73,2,     0.00,2,     2.23,2,   0.9673
  316N20060130,AAIW06,   184,  4,      6,      6,2,20060216,1723,-59.0118, -88.9920, 5031,   3371.0,   1.0509,  34.7161,2,  34.7168,2,    200.5,2,    200.8,2,   117.36,2,    31.84,2,     0.00,2,     2.24,2,   0.8086
  316N20060130,AAIW06,   184,  4,      5,      5,2,20060216,1723,-59.0118, -88.9920, 5031,   3728.2,   0.8133,  34.7100,2,  34.7113,0,    205.1,2,    205.2,2,   124.73,2,    32.27,2,     0.00,2,     2.25,2,   0.5416
  316N20060130,AAIW06,   184,  4,      4,      4,2,20060216,1723,-59.0118, -88.9920, 5031,   4083.0,   0.6363,  34.7071,2,  34.7066,2,    208.8,2,    208.9,2,   130.47,2,    32.33,2,     0.00,2,     2.26,2,   0.3330
  316N20060130,AAIW06,   184,  4,      3,      3,2,20060216,1723,-59.0118, -88.9920, 5031,   4439.6,   0.5652,  34.7058,2,  34.7073,0,    210.7,2,    210.4,2,   134.37,2,    32.44,2,     0.00,2,     2.26,2,   0.2259
  316N20060130,AAIW06,   184,  4,      2,      2,2,20060216,1723,-59.0118, -88.9920, 5031,   4847.2,   0.5577,  34.7048,2,  34.7070,0,    212.0,2,    211.7,2,   136.62,2,    32.44,2,     0.00,2,     2.27,2,   0.1730
  316N20060130,AAIW06,   184,  4,      1,      1,2,20060216,1723,-59.0118, -88.9920, 5031,   5096.3,   0.5567,  34.7045,2,  34.7052,2,    212.8,2,    212.9,2,   137.63,2,    32.44,2,     0.00,2,     2.27,2,   0.1431