BOTTLE,20081218PRINUNIVRMK
EXPOCODE,SECT_ID,STNNBR,CASTNO,SAMPNO,BTLNBR,BTLNBR_FLAG_W,DATE,TIME,LATITUDE,LONGITUDE,DEPTH,CTDPRS,CTDTMP,CTDSAL,CTDSAL_FLAG_W,SALNTY,SALNTY_FLAG_W,CTDOXY,CTDOXY_FLAG_W,OXYGEN,OXYGEN_FLAG_W,SILCAT,SILCAT_FLAG_W,NITRAT,NITRAT_FLAG_W,NITRIT,NITRIT_FLAG_W,PHSPHT,PHSPHT_FLAG_W,THETA
,,,,,,,,,,,METERS,DBARS,ITS-90,PSS-78,,PSS-78,,UMOL/KG,,UMOL/KG,,UMOL/KG,,UMOL/KG,,UMOL/KG,,UMOL/KG,,DEGC
  316N20060130,AAIW06,   224,  1,     26,     26,2,20060302,1234,-54.5850, -85.9323, 5163,      5.9,   8.2791,  34.1047,2,  34.1073,2,    285.9,2,    285.8,2,     2.12,2,    16.62,2,     0.22,2,     1.22,2,   8.2785
  316N20060130,AAIW06,   224,  1,     25,     25,4,20060302,1234,-54.5850, -85.9323, 5163,     15.3,   8.2749,  34.1048,2,  34.1077,0,    286.3,2,    285.9,2,     2.17,2,    16.62,2,     0.22,2,     1.21,2,   8.2734
  316N20060130,AAIW06,   224,  1,     24,     24,2,20060302,1234,-54.5850, -85.9323, 5163,     21.1,   8.2731,  34.1048,2,-999.0000,9,   -999.0,9,   -999.0,9,  -999.00,9,  -999.00,9,  -999.00,9,  -999.00,9,   8.2710
  316N20060130,AAIW06,   224,  1,     23,     23,4,20060302,1234,-54.5850, -85.9323, 5163,     44.4,   8.2825,  34.1047,2,-999.0000,9,    286.2,2,    286.3,2,     2.41,2,    16.56,2,     0.22,2,     1.21,2,   8.2780
  316N20060130,AAIW06,   224,  1,     22,     22,2,20060302,1234,-54.5850, -85.9323, 5163,     68.3,   8.2239,  34.1072,2,-999.0000,9,   -999.0,9,   -999.0,9,  -999.00,9,  -999.00,9,  -999.00,9,  -999.00,9,   8.2170
  316N20060130,AAIW06,   224,  1,     21,     21,9,20060302,1234,-54.5850, -85.9323, 5163,     69.0,   8.2285,  34.1052,2,-999.0000,9,   -999.0,9,   -999.0,9,  -999.00,9,  -999.00,9,  -999.00,9,  -999.00,9,   8.2215
  316N20060130,AAIW06,   224,  1,     20,     20,2,20060302,1234,-54.5850, -85.9323, 5163,     69.7,   8.2151,  34.1063,2,-999.0000,9,    285.9,2,    286.3,2,     2.65,2,    16.77,2,     0.22,2,     1.22,2,   8.2081
  316N20060130,AAIW06,   224,  1,     19,     19,2,20060302,1234,-54.5850, -85.9323, 5163,     97.5,   5.6893,  34.1676,2,-999.0000,9,    295.3,2,    295.3,2,     7.55,2,    19.58,2,     0.58,2,     1.47,2,   5.6813
  316N20060130,AAIW06,   224,  1,     18,     18,2,20060302,1234,-54.5850, -85.9323, 5163,    139.3,   5.4467,  34.1618,2,-999.0000,9,    298.4,2,    298.2,2,     7.99,2,    19.97,2,     0.40,2,     1.47,2,   5.4356
  316N20060130,AAIW06,   224,  1,     17,     17,2,20060302,1234,-54.5850, -85.9323, 5163,    189.2,   5.3461,  34.1652,2,-999.0000,9,    299.0,2,    298.3,2,     8.44,2,    20.55,2,     0.30,2,     1.47,2,   5.3311
  316N20060130,AAIW06,   224,  1,     16,     16,2,20060302,1234,-54.5850, -85.9323, 5163,    237.8,   5.3220,  34.1727,2,-999.0000,9,    295.0,2,    296.2,2,     8.48,2,    20.86,2,     0.00,2,     1.47,2,   5.3030
  316N20060130,AAIW06,   224,  1,     15,     15,2,20060302,1234,-54.5850, -85.9323, 5163,    287.5,   5.2992,  34.1784,2,-999.0000,9,    293.7,2,    293.6,2,     8.73,2,    21.05,2,     0.00,2,     1.48,2,   5.2762
  316N20060130,AAIW06,   224,  1,     14,     14,2,20060302,1234,-54.5850, -85.9323, 5163,    337.6,   5.2742,  34.1802,2,-999.0000,9,    292.3,2,    292.9,2,     8.76,2,    21.15,2,     0.00,2,     1.49,2,   5.2472
  316N20060130,AAIW06,   224,  1,     13,     13,2,20060302,1234,-54.5850, -85.9323, 5163,    388.0,   5.2325,  34.1765,2,-999.0000,9,    290.7,2,    293.8,2,     9.01,2,    21.30,2,     0.00,2,     1.50,2,   5.2014
  316N20060130,AAIW06,   224,  1,     12,     12,2,20060302,1234,-54.5850, -85.9323, 5163,    438.9,   5.2057,  34.1795,2,-999.0000,9,    288.2,2,    289.1,2,     9.86,2,    21.70,2,     0.00,2,     1.53,2,   5.1705
  316N20060130,AAIW06,   224,  1,     11,     11,2,20060302,1234,-54.5850, -85.9323, 5163,    488.2,   5.2298,  34.1937,2,-999.0000,9,    281.0,2,    279.8,2,    11.52,2,    22.66,2,     0.00,2,     1.58,2,   5.1903
  316N20060130,AAIW06,   224,  1,     10,     10,2,20060302,1234,-54.5850, -85.9323, 5163,    573.7,   5.0545,  34.1933,2,-999.0000,9,    272.1,2,    272.0,2,    13.38,2,    23.97,2,     0.00,2,     1.67,2,   5.0085
  316N20060130,AAIW06,   224,  1,      9,      9,2,20060302,1234,-54.5850, -85.9323, 5163,    674.0,   4.8941,  34.2230,2,-999.0000,9,    246.1,2,    245.1,2,    19.09,2,    26.65,2,     0.00,2,     1.84,2,   4.8404
  316N20060130,AAIW06,   224,  1,      8,      8,2,20060302,1234,-54.5850, -85.9323, 5163,    773.1,   4.5634,  34.2489,2,-999.0000,9,    228.1,2,    229.4,2,    25.00,2,    28.46,2,     0.00,2,     1.97,2,   4.5032
  316N20060130,AAIW06,   224,  1,      7,      7,2,20060302,1234,-54.5850, -85.9323, 5163,    872.2,   4.1351,  34.2794,2,-999.0000,9,    216.0,2,    217.0,2,    32.34,2,    30.34,2,     0.00,2,     2.09,2,   4.0694
  316N20060130,AAIW06,   224,  1,      6,      6,2,20060302,1234,-54.5850, -85.9323, 5163,    970.9,   3.7026,  34.3079,2,-999.0000,9,    207.5,2,    207.9,2,    40.07,2,    31.65,2,     0.00,2,     2.19,2,   3.6319
  316N20060130,AAIW06,   224,  1,      5,      5,2,20060302,1234,-54.5850, -85.9323, 5163,   1070.3,   3.3728,  34.3418,2,-999.0000,9,    200.0,2,    200.0,2,    47.61,2,    32.67,2,     0.00,2,     2.27,2,   3.2967
  316N20060130,AAIW06,   224,  1,      4,      4,2,20060302,1234,-54.5850, -85.9323, 5163,   1172.1,   3.1151,  34.3820,2,-999.0000,9,    191.3,2,    189.8,2,    54.75,2,    33.47,2,     0.00,2,     2.33,2,   3.0331
  316N20060130,AAIW06,   224,  1,      3,      3,2,20060302,1234,-54.5850, -85.9323, 5163,   1271.7,   2.9356,  34.4263,2,-999.0000,9,    181.5,2,    181.4,2,    61.70,2,    34.22,2,     0.00,2,     2.38,2,   2.8474
  316N20060130,AAIW06,   224,  1,      2,      2,2,20060302,1234,-54.5850, -85.9323, 5163,   1373.1,   2.7915,  34.4727,2,  34.4734,2,    174.2,2,    172.8,2,    68.86,2,    34.57,2,     0.00,2,     2.42,2,   2.6966
  316N20060130,AAIW06,   224,  1,      1,      1,2,20060302,1234,-54.5850, -85.9323, 5163,   1505.2,   2.6523,  34.5277,2,  34.5268,2,    164.9,2,    165.0,2,    76.85,2,    34.83,2,     0.00,2,     2.44,2,   2.5482
  316N20060130,AAIW06,   225,  1,     36,     36,2,20060303,1817,-53.4612, -77.9583, 4056,      5.2,   9.9120,  33.8059,2,  33.8067,2,    279.1,2,    279.3,2,     0.43,2,    12.89,2,     0.16,2,     1.01,2,   9.9114
  316N20060130,AAIW06,   225,  1,     33,     33,2,20060303,1817,-53.4612, -77.9583, 4056,     29.9,   9.9045,  33.8060,2,  33.8081,0,    280.3,2,    278.7,2,     0.36,2,    12.89,2,     0.16,2,     1.01,2,   9.9011
  316N20060130,AAIW06,   225,  1,     35,     35,2,20060303,1817,-53.4612, -77.9583, 4056,     30.2,   9.8978,  33.8063,2,-999.0000,9,   -999.0,9,   -999.0,9,  -999.00,9,  -999.00,9,  -999.00,9,  -999.00,9,   9.8944
  316N20060130,AAIW06,   225,  1,     34,     34,2,20060303,1817,-53.4612, -77.9583, 4056,     30.2,   9.8950,  33.8066,2,-999.0000,9,   -999.0,9,   -999.0,9,  -999.00,9,  -999.00,9,  -999.00,9,  -999.00,9,   9.8916
  316N20060130,AAIW06,   225,  1,     32,     32,2,20060303,1817,-53.4612, -77.9583, 4056,     53.4,   9.5435,  33.8912,2,  33.8894,0,    280.5,2,    280.5,2,     0.30,2,    14.41,2,     0.16,2,     1.09,2,   9.5376
  316N20060130,AAIW06,   225,  1,     31,     31,2,20060303,1817,-53.4612, -77.9583, 4056,     80.1,   7.5131,  33.9410,2,  33.9415,0,    276.7,2,    264.3,2,     2.77,2,    18.58,2,     0.34,2,     1.41,2,   7.5055
  316N20060130,AAIW06,   225,  1,     30,     30,2,20060303,1817,-53.4612, -77.9583, 4056,    103.5,   6.7383,  33.9979,2,-999.0000,9,    253.2,2,    254.5,2,     4.60,2,    21.50,2,     0.04,2,     1.56,2,   6.7290
  316N20060130,AAIW06,   225,  1,     29,     29,2,20060303,1817,-53.4612, -77.9583, 4056,    153.4,   6.2446,  34.0989,2,-999.0000,9,    241.6,2,    241.3,2,     6.65,2,    23.81,2,     0.01,2,     1.69,2,   6.2314
  316N20060130,AAIW06,   225,  1,     28,     28,2,20060303,1817,-53.4612, -77.9583, 4056,    204.3,   5.8935,  34.1626,2,-999.0000,9,    246.9,2,    241.3,2,     7.64,2,    24.64,2,     0.01,2,     1.70,2,   5.8764
  316N20060130,AAIW06,   225,  1,     27,     27,2,20060303,1817,-53.4612, -77.9583, 4056,    254.8,   5.6169,  34.1796,2,-999.0000,9,    252.5,2,    254.2,2,     7.79,2,    24.31,2,     0.00,2,     1.67,2,   5.5960
  316N20060130,AAIW06,   225,  1,     26,     26,2,20060303,1817,-53.4612, -77.9583, 4056,    304.0,   5.3145,  34.1691,2,-999.0000,9,    261.2,2,    275.2,2,     7.51,2,    23.06,2,     0.01,2,     1.58,2,   5.2901
  316N20060130,AAIW06,   225,  1,     25,     25,2,20060303,1817,-53.4612, -77.9583, 4056,    354.0,   5.3247,  34.1939,2,-999.0000,9,    268.3,2,    270.9,2,     8.30,2,    23.55,2,     0.00,2,     1.60,2,   5.2962
  316N20060130,AAIW06,   225,  1,     24,     24,2,20060303,1817,-53.4612, -77.9583, 4056,    402.8,   5.1903,  34.1898,2,-999.0000,9,    274.2,2,    276.4,2,     8.44,2,    23.33,2,     0.01,2,     1.59,2,   5.1581
  316N20060130,AAIW06,   225,  1,     23,     23,2,20060303,1817,-53.4612, -77.9583, 4056,    448.3,   5.0894,  34.1862,2,-999.0000,9,    278.8,2,    276.4,2,     8.80,2,    23.55,2,     0.01,2,     1.61,2,   5.0538
  316N20060130,AAIW06,   225,  1,     22,     22,2,20060303,1817,-53.4612, -77.9583, 4056,    501.3,   4.9955,  34.1842,2,-999.0000,9,    268.6,2,    275.7,2,     9.37,2,    23.88,2,     0.00,2,     1.62,2,   4.9558
  316N20060130,AAIW06,   225,  1,     21,     21,9,20060303,1817,-53.4612, -77.9583, 4056,    599.0,   4.7776,  34.1971,2,-999.0000,9,   -999.0,9,   -999.0,9,  -999.00,9,  -999.00,9,  -999.00,9,  -999.00,9,   4.7308
  316N20060130,AAIW06,   225,  1,     20,     20,2,20060303,1817,-53.4612, -77.9583, 4056,    601.8,   4.7723,  34.1972,2,-999.0000,9,    260.1,2,    258.0,2,    13.11,2,    26.06,2,     0.00,2,     1.77,2,   4.7253
  316N20060130,AAIW06,   225,  1,     19,     19,2,20060303,1817,-53.4612, -77.9583, 4056,    700.0,   4.4048,  34.2186,2,-999.0000,9,    240.5,2,    239.7,2,    19.57,2,    28.19,2,     0.00,2,     1.93,2,   4.3515
  316N20060130,AAIW06,   225,  1,     18,     18,2,20060303,1817,-53.4612, -77.9583, 4056,    797.6,   4.0443,  34.2600,2,-999.0000,9,    221.9,2,    219.9,2,    27.95,2,    30.38,2,     0.00,2,     2.07,2,   3.9852
  316N20060130,AAIW06,   225,  1,     17,     17,2,20060303,1817,-53.4612, -77.9583, 4056,    898.7,   3.6316,  34.3051,2,-999.0000,9,    205.4,2,    205.1,2,    37.80,2,    32.08,2,     0.00,2,     2.20,2,   3.5672
  316N20060130,AAIW06,   225,  1,     16,     16,2,20060303,1817,-53.4612, -77.9583, 4056,    995.9,   3.3198,  34.3591,2,-999.0000,9,    190.0,2,    188.3,2,    47.66,2,    33.67,2,     0.00,2,     2.31,2,   3.2500
  316N20060130,AAIW06,   225,  1,     15,     15,2,20060303,1817,-53.4612, -77.9583, 4056,   1093.3,   3.1142,  34.3950,2,-999.0000,9,    181.9,2,    180.7,2,    54.35,2,    34.27,2,     0.00,2,     2.35,2,   3.0384
  316N20060130,AAIW06,   225,  1,     14,     14,2,20060303,1817,-53.4612, -77.9583, 4056,   1190.1,   2.9291,  34.4355,2,-999.0000,9,    175.5,2,    174.4,2,    60.84,2,    34.76,2,     0.00,2,     2.39,2,   2.8473
  316N20060130,AAIW06,   225,  1,     13,     13,2,20060303,1817,-53.4612, -77.9583, 4056,   1288.1,   2.8172,  34.4741,2,-999.0000,9,    166.3,2,    165.8,2,    67.33,2,    35.25,2,     0.00,2,     2.43,2,   2.7287
  316N20060130,AAIW06,   225,  1,     12,     12,2,20060303,1817,-53.4612, -77.9583, 4056,   1384.8,   2.7358,  34.5095,2,-999.0000,9,    154.4,2,    159.7,2,    73.41,2,    35.41,2,     0.00,2,     2.45,2,   2.6404
  316N20060130,AAIW06,   225,  1,     11,     11,2,20060303,1817,-53.4612, -77.9583, 4056,   1578.4,   2.5535,  34.5704,2,-999.0000,9,    149.0,2,    149.3,2,    86.08,2,    35.85,2,     0.00,2,     2.47,2,   2.4445
  316N20060130,AAIW06,   225,  1,     10,     10,2,20060303,1817,-53.4612, -77.9583, 4056,   1779.0,   2.3647,  34.6128,2,-999.0000,9,    146.9,2,    149.3,2,    95.17,2,    35.58,2,     0.00,2,     2.46,2,   2.2415
  316N20060130,AAIW06,   225,  1,      9,      9,2,20060303,1817,-53.4612, -77.9583, 4056,   1981.9,   2.2202,  34.6398,2,-999.0000,9,    153.0,2,    152.1,2,   101.29,2,    35.08,2,     0.00,2,     2.43,2,   2.0819
  316N20060130,AAIW06,   225,  1,      8,      8,2,20060303,1817,-53.4612, -77.9583, 4056,   2225.8,   2.0751,  34.6595,2,  34.6623,2,    154.1,2,    153.7,2,   106.56,2,    35.08,2,     0.00,2,     2.43,2,   1.9180
  316N20060130,AAIW06,   225,  1,      7,      7,2,20060303,1817,-53.4612, -77.9583, 4056,   2470.7,   1.9463,  34.6767,2,  34.6762,2,    155.1,2,    157.5,2,   112.06,2,    34.70,2,     0.00,2,     2.40,2,   1.7695
  316N20060130,AAIW06,   225,  1,      6,      6,2,20060303,1817,-53.4612, -77.9583, 4056,   2719.2,   1.8466,  34.6847,2,  34.6874,0,    159.7,2,    159.8,2,   116.07,2,    34.58,2,     0.00,2,     2.39,2,   1.6489
  316N20060130,AAIW06,   225,  1,      5,      5,2,20060303,1817,-53.4612, -77.9583, 4056,   2968.8,   1.7671,  34.6930,2,  34.6953,2,    167.7,2,    165.3,2,   116.01,2,    34.20,2,     0.00,2,     2.35,2,   1.5473
  316N20060130,AAIW06,   225,  1,      4,      4,2,20060303,1817,-53.4612, -77.9583, 4056,   3168.8,   1.6766,  34.7020,2,  34.7042,2,    172.4,2,    172.4,2,   115.30,2,    33.65,2,     0.00,2,     2.31,2,   1.4393
  316N20060130,AAIW06,   225,  1,      3,      3,2,20060303,1817,-53.4612, -77.9583, 4056,   3467.0,   1.4795,  34.7205,2,  34.7225,2,    189.3,2,    190.5,2,   110.75,2,    32.28,2,     0.00,2,     2.20,2,   1.2170
  316N20060130,AAIW06,   225,  1,      2,      2,2,20060303,1817,-53.4612, -77.9583, 4056,   3762.0,   1.1586,  34.7178,2,  34.7183,2,    197.7,2,    198.0,2,   118.62,2,    32.11,2,     0.00,2,     2.21,2,   0.8741
  316N20060130,AAIW06,   225,  1,      1,      1,2,20060303,1817,-53.4612, -77.9583, 4056,   4104.8,   0.8898,  34.7120,2,  34.7115,2,    202.6,2,    202.5,2,   128.88,2,    32.50,2,     0.00,2,     2.25,2,   0.5768