BOTTLE,20081218PRINUNIVRMK
EXPOCODE,SECT_ID,STNNBR,CASTNO,SAMPNO,BTLNBR,BTLNBR_FLAG_W,DATE,TIME,LATITUDE,LONGITUDE,DEPTH,CTDPRS,CTDTMP,CTDSAL,CTDSAL_FLAG_W,SALNTY,SALNTY_FLAG_W,CTDOXY,CTDOXY_FLAG_W,OXYGEN,OXYGEN_FLAG_W,SILCAT,SILCAT_FLAG_W,NITRAT,NITRAT_FLAG_W,NITRIT,NITRIT_FLAG_W,PHSPHT,PHSPHT_FLAG_W,THETA
,,,,,,,,,,,METERS,DBARS,ITS-90,PSS-78,,PSS-78,,UMOL/KG,,UMOL/KG,,UMOL/KG,,UMOL/KG,,UMOL/KG,,UMOL/KG,,DEGC
  316N20060130,AAIW06,   235,  1,     34,     34,2,20060310, 526,-46.1015, -80.2993, 3697,      7.3,  12.9907,  33.7863,2,  33.7875,2,    262.7,2,    262.8,2,     0.00,2,     7.23,2,     0.14,2,     0.71,2,  12.9897
  316N20060130,AAIW06,   235,  1,     33,     33,2,20060310, 526,-46.1015, -80.2993, 3697,     16.2,  12.9913,  33.7862,2,  33.7871,2,    263.2,2,    262.9,2,     0.15,2,     7.17,2,     0.14,2,     0.72,2,  12.9891
  316N20060130,AAIW06,   235,  1,     32,     32,2,20060310, 526,-46.1015, -80.2993, 3697,     40.5,  12.9874,  33.7861,2,  33.7880,2,    263.8,2,    262.9,2,     0.00,2,     7.23,2,     0.14,2,     0.71,2,  12.9819
  316N20060130,AAIW06,   235,  1,     31,     31,2,20060310, 526,-46.1015, -80.2993, 3697,     66.2,   9.2848,  33.9018,2,  33.9037,2,    275.3,2,    274.7,2,     1.00,2,    15.02,2,     0.23,2,     1.17,2,   9.2776
  316N20060130,AAIW06,   235,  1,     30,     30,2,20060310, 526,-46.1015, -80.2993, 3697,    101.1,   8.2655,  33.9608,2,  33.9618,2,    252.0,2,    247.0,2,     3.10,2,    18.70,2,     0.03,2,     1.39,2,   8.2553
  316N20060130,AAIW06,   235,  1,     29,     29,2,20060310, 526,-46.1015, -80.2993, 3697,    141.5,   7.6068,  34.0371,2,  34.0425,2,    226.4,2,    227.3,2,     5.20,2,    21.46,2,     0.01,2,     1.58,2,   7.5932
  316N20060130,AAIW06,   235,  1,     28,     28,2,20060310, 526,-46.1015, -80.2993, 3697,    191.3,   7.2757,  34.1960,2,-999.0000,9,    188.0,2,    182.8,2,     8.99,2,    26.20,2,     0.00,2,     1.91,2,   7.2576
  316N20060130,AAIW06,   235,  1,     27,     27,2,20060310, 526,-46.1015, -80.2993, 3697,    240.4,   6.6115,  34.2301,2,-999.0000,9,    189.3,2,    189.8,2,     9.62,2,    27.40,2,     0.00,2,     1.93,2,   6.5899
  316N20060130,AAIW06,   235,  1,     26,     26,2,20060310, 526,-46.1015, -80.2993, 3697,    290.5,   6.1339,  34.2394,2,-999.0000,9,    214.7,2,    208.0,2,     9.83,2,    27.28,2,     0.00,2,     1.88,2,   6.1088
  316N20060130,AAIW06,   235,  1,     25,     25,2,20060310, 526,-46.1015, -80.2993, 3697,    340.5,   5.8159,  34.2333,2,-999.0000,9,    231.2,2,    231.8,2,     9.20,2,    26.02,2,     0.00,2,     1.78,2,   5.7872
  316N20060130,AAIW06,   235,  1,     24,     24,2,20060310, 526,-46.1015, -80.2993, 3697,    390.8,   5.6279,  34.2349,2,-999.0000,9,    243.6,2,    245.1,2,     9.20,2,    25.22,2,     0.00,2,     1.73,2,   5.5953
  316N20060130,AAIW06,   235,  1,     23,     23,2,20060310, 526,-46.1015, -80.2993, 3697,    440.1,   5.4600,  34.2291,2,-999.0000,9,    253.1,2,    251.4,2,     9.62,2,    25.10,2,     0.00,2,     1.72,2,   5.4238
  316N20060130,AAIW06,   235,  1,     21,     21,9,20060310, 526,-46.1015, -80.2993, 3697,    489.6,   5.3111,  34.2244,2,-999.0000,9,   -999.0,9,   -999.0,9,  -999.00,9,  -999.00,9,  -999.00,9,  -999.00,9,   5.2712
  316N20060130,AAIW06,   235,  1,     22,     22,2,20060310, 526,-46.1015, -80.2993, 3697,    490.2,   5.3264,  34.2249,2,-999.0000,9,    251.3,2,    255.1,2,    10.04,2,    25.04,2,     0.00,2,     1.72,2,   5.2864
  316N20060130,AAIW06,   235,  1,     20,     20,2,20060310, 526,-46.1015, -80.2993, 3697,    575.4,   5.0857,  34.2237,2,-999.0000,9,    248.8,2,    249.0,2,    12.35,2,    26.19,2,     0.00,2,     1.80,2,   5.0394
  316N20060130,AAIW06,   235,  1,     19,     19,2,20060310, 526,-46.1015, -80.2993, 3697,    675.0,   4.7300,  34.2340,2,-999.0000,9,    235.2,2,    235.5,2,    17.19,2,    27.90,2,     0.00,2,     1.92,2,   4.6771
  316N20060130,AAIW06,   235,  1,     18,     18,2,20060310, 526,-46.1015, -80.2993, 3697,    774.7,   4.3846,  34.2569,2,-999.0000,9,    217.8,2,    219.8,2,    23.70,2,    29.84,2,     0.00,2,     2.05,2,   4.3253
  316N20060130,AAIW06,   235,  1,     17,     17,2,20060310, 526,-46.1015, -80.2993, 3697,    875.0,   3.9009,  34.2981,2,-999.0000,9,    202.9,2,    202.3,2,    33.99,2,    32.02,2,     0.00,2,     2.21,2,   3.8365
  316N20060130,AAIW06,   235,  1,     16,     16,2,20060310, 526,-46.1015, -80.2993, 3697,    974.3,   3.5620,  34.3427,2,-999.0000,9,    187.2,2,    186.6,2,    43.46,2,    33.44,2,     0.00,2,     2.32,2,   3.4920
  316N20060130,AAIW06,   235,  1,     15,     15,2,20060310, 526,-46.1015, -80.2993, 3697,   1074.0,   3.2652,  34.3908,2,-999.0000,9,    175.6,2,    174.5,2,    52.93,2,    34.59,2,     0.00,2,     2.40,2,   3.1896
  316N20060130,AAIW06,   235,  1,     14,     14,2,20060310, 526,-46.1015, -80.2993, 3697,   1175.8,   3.1188,  34.4349,2,-999.0000,9,    162.8,2,    160.1,2,    61.98,2,    35.49,2,     0.00,2,     2.48,2,   3.0364
  316N20060130,AAIW06,   235,  1,     13,     13,2,20060310, 526,-46.1015, -80.2993, 3697,   1275.0,   2.9680,  34.4832,2,-999.0000,9,    149.8,2,    147.3,2,    72.10,2,    36.52,2,     0.00,2,     2.55,2,   2.8790
  316N20060130,AAIW06,   235,  1,     12,     12,2,20060310, 526,-46.1015, -80.2993, 3697,   1374.7,   2.8515,  34.5193,2,-999.0000,9,    139.7,2,    137.8,2,    81.17,2,    37.03,2,     0.00,2,     2.60,2,   2.7557
  316N20060130,AAIW06,   235,  1,     11,     11,2,20060310, 526,-46.1015, -80.2993, 3697,   1475.0,   2.7531,  34.5453,2,-999.0000,9,    135.5,2,    134.4,2,    86.89,2,    37.08,2,     0.00,2,     2.61,2,   2.6502
  316N20060130,AAIW06,   235,  1,     10,     10,2,20060310, 526,-46.1015, -80.2993, 3697,   1575.0,   2.6206,  34.5722,2,-999.0000,9,    133.7,2,    133.3,2,    93.46,2,    37.07,2,     0.00,2,     2.61,2,   2.5110
  316N20060130,AAIW06,   235,  1,      9,      9,2,20060310, 526,-46.1015, -80.2993, 3697,   1775.9,   2.4122,  34.6058,2,  34.6074,2,    136.0,2,    135.7,2,   102.16,2,    36.66,2,     0.00,2,     2.58,2,   2.2886
  316N20060130,AAIW06,   235,  1,      8,      8,2,20060310, 526,-46.1015, -80.2993, 3697,   1975.8,   2.2276,  34.6300,2,  34.6322,2,    140.6,2,    140.7,2,   108.96,2,    36.26,2,     0.00,2,     2.55,2,   2.0897
  316N20060130,AAIW06,   235,  1,      7,      7,2,20060310, 526,-46.1015, -80.2993, 3697,   2176.8,   2.0780,  34.6481,2,  34.6500,2,    144.9,2,    146.3,2,   113.65,2,    35.74,2,     0.00,2,     2.51,2,   1.9251
  316N20060130,AAIW06,   235,  1,      6,      6,2,20060310, 526,-46.1015, -80.2993, 3697,   2428.2,   1.9430,  34.6643,2,  34.6643,2,    150.2,2,    151.0,2,   117.50,2,    35.34,2,     0.00,2,     2.47,2,   1.7702
  316N20060130,AAIW06,   235,  1,      5,      5,2,20060310, 526,-46.1015, -80.2993, 3697,   2679.9,   1.8598,  34.6749,2,  34.6754,2,    154.5,2,    154.7,2,   119.63,2,    34.93,2,     0.00,2,     2.45,2,   1.6655
  316N20060130,AAIW06,   235,  1,      4,      4,2,20060310, 526,-46.1015, -80.2993, 3697,   2932.1,   1.7993,  34.6822,2,  34.6829,2,    158.0,2,    158.5,2,   121.12,2,    34.81,2,     0.00,2,     2.43,2,   1.5824
  316N20060130,AAIW06,   235,  1,      3,      3,2,20060310, 526,-46.1015, -80.2993, 3697,   3184.1,   1.6742,  34.6908,2,  34.6921,2,    166.0,2,    166.1,2,   121.76,2,    34.24,2,     0.00,2,     2.40,2,   1.4355
  316N20060130,AAIW06,   235,  1,      2,      2,2,20060310, 526,-46.1015, -80.2993, 3697,   3437.1,   1.4783,  34.6994,2,  34.7009,2,    176.7,2,    176.4,2,   122.62,2,    33.66,2,     0.00,2,     2.35,2,   1.2189
  316N20060130,AAIW06,   235,  1,      1,      1,2,20060310, 526,-46.1015, -80.2993, 3697,   3742.2,   1.3542,  34.7045,2,  34.7050,2,    184.3,2,    184.2,2,   123.47,2,    33.37,2,     0.00,2,     2.32,2,   1.0666
  316N20060130,AAIW06,   236,  1,     31,     31,2,20060310,1922,-45.5067, -77.4112, 2624,      3.4,  13.5560,  33.7137,2,  33.7144,2,    259.9,2,    260.5,2,     0.35,2,     4.32,2,     0.13,2,     0.58,2,  13.5555
  316N20060130,AAIW06,   236,  1,     30,     30,2,20060310,1922,-45.5067, -77.4112, 2624,     24.9,  13.5018,  33.7120,2,-999.0000,9,   -999.0,9,   -999.0,9,  -999.00,9,  -999.00,9,  -999.00,9,  -999.00,9,  13.4984
  316N20060130,AAIW06,   236,  1,     29,     29,2,20060310,1922,-45.5067, -77.4112, 2624,     25.2,  13.4924,  33.7114,2,-999.0000,9,   -999.0,9,   -999.0,9,  -999.00,9,  -999.00,9,  -999.00,9,  -999.00,9,  13.4889
  316N20060130,AAIW06,   236,  1,     28,     28,2,20060310,1922,-45.5067, -77.4112, 2624,     25.4,  13.4863,  33.7115,2,  33.7112,2,    260.1,2,    257.3,2,     0.33,2,     4.48,2,     0.13,2,     0.59,2,  13.4828
  316N20060130,AAIW06,   236,  1,     27,     27,2,20060310,1922,-45.5067, -77.4112, 2624,     40.6,  12.5234,  33.7171,2,  33.7151,2,    255.1,2,    249.6,2,     0.52,2,     7.24,2,     0.20,2,     0.76,2,  12.5181
  316N20060130,AAIW06,   236,  1,     26,     26,2,20060310,1922,-45.5067, -77.4112, 2624,     64.2,   9.4197,  33.8112,2,  33.8113,2,    241.2,2,    241.4,2,     2.15,2,    15.84,2,     0.06,2,     1.24,2,   9.4127
  316N20060130,AAIW06,   236,  1,     25,     25,2,20060310,1922,-45.5067, -77.4112, 2624,    104.3,   8.4650,  33.8732,2,-999.0000,9,    248.4,2,    249.1,2,     2.34,2,    17.59,2,     0.02,2,     1.32,2,   8.4543
  316N20060130,AAIW06,   236,  1,     24,     24,2,20060310,1922,-45.5067, -77.4112, 2624,    140.1,   7.9199,  33.9570,2,-999.0000,9,    250.2,2,    245.7,2,     3.55,2,    19.42,2,     0.01,2,     1.44,2,   7.9061
  316N20060130,AAIW06,   236,  1,     23,     23,2,20060310,1922,-45.5067, -77.4112, 2624,    185.0,   7.7315,  34.0589,2,-999.0000,9,    213.0,2,    211.0,2,     6.22,2,    22.80,2,     0.01,2,     1.68,2,   7.7134
  316N20060130,AAIW06,   236,  1,     22,     22,2,20060310,1922,-45.5067, -77.4112, 2624,    244.2,   7.4284,  34.2627,2,-999.0000,9,    141.6,2,    143.7,2,    12.00,2,    29.56,2,     0.01,2,     2.16,2,   7.4049
  316N20060130,AAIW06,   236,  1,     20,     20,2,20060310,1922,-45.5067, -77.4112, 2624,    302.8,   6.6337,  34.2602,2,-999.0000,9,    172.5,2,    170.9,2,    11.56,2,    29.38,2,     0.00,2,     2.07,2,   6.6063
  316N20060130,AAIW06,   236,  1,     21,     21,9,20060310,1922,-45.5067, -77.4112, 2624,    303.6,   6.6310,  34.2599,2,-999.0000,9,   -999.0,9,   -999.0,9,  -999.00,9,  -999.00,9,  -999.00,9,  -999.00,9,   6.6035
  316N20060130,AAIW06,   236,  1,     19,     19,2,20060310,1922,-45.5067, -77.4112, 2624,    353.0,   6.1546,  34.2523,2,-999.0000,9,    203.0,2,    200.7,2,    10.71,2,    28.01,2,     0.00,2,     1.94,2,   6.1238
  316N20060130,AAIW06,   236,  1,     18,     18,2,20060310,1922,-45.5067, -77.4112, 2624,    398.8,   5.8279,  34.2455,2,-999.0000,9,    228.2,2,    225.4,2,    10.28,2,    26.63,2,     0.00,2,     1.83,2,   5.7940
  316N20060130,AAIW06,   236,  1,     17,     17,2,20060310,1922,-45.5067, -77.4112, 2624,    445.5,   5.6135,  34.2401,2,-999.0000,9,    238.4,2,    238.6,2,    10.25,2,    25.93,2,     0.00,2,     1.78,2,   5.5763
  316N20060130,AAIW06,   236,  1,     16,     16,2,20060310,1922,-45.5067, -77.4112, 2624,    539.5,   5.2722,  34.2294,2,-999.0000,9,    246.1,2,    247.6,2,    11.27,2,    25.93,2,     0.00,2,     1.78,2,   5.2282
  316N20060130,AAIW06,   236,  1,     15,     15,2,20060310,1922,-45.5067, -77.4112, 2624,    635.8,   4.9438,  34.2299,2,-999.0000,9,    240.9,2,    240.9,2,    14.56,2,    27.13,2,     0.00,2,     1.87,2,   4.8931
  316N20060130,AAIW06,   236,  1,     14,     14,2,20060310,1922,-45.5067, -77.4112, 2624,    733.5,   4.5892,  34.2466,2,-999.0000,9,    225.1,2,    226.5,2,    20.54,2,    29.13,2,     0.00,2,     2.01,2,   4.5321
  316N20060130,AAIW06,   236,  1,     13,     13,2,20060310,1922,-45.5067, -77.4112, 2624,    830.5,   4.1786,  34.2796,2,-999.0000,9,    208.4,2,    208.0,2,    29.22,2,    31.14,2,     0.00,2,     2.15,2,   4.1160
  316N20060130,AAIW06,   236,  1,     12,     12,2,20060310,1922,-45.5067, -77.4112, 2624,    925.5,   3.8178,  34.3220,2,-999.0000,9,    190.8,2,    189.9,2,    38.94,2,    33.08,2,     0.00,2,     2.30,2,   3.7499
  316N20060130,AAIW06,   236,  1,     11,     11,2,20060310,1922,-45.5067, -77.4112, 2624,   1021.0,   3.5022,  34.3668,2,-999.0000,9,    174.3,2,    174.3,2,    48.66,2,    34.57,2,     0.00,2,     2.41,2,   3.4289
  316N20060130,AAIW06,   236,  1,     10,     10,2,20060310,1922,-45.5067, -77.4112, 2624,   1114.6,   3.2886,  34.4170,2,-999.0000,9,    157.7,2,    157.1,2,    58.80,2,    35.94,2,     0.00,2,     2.51,2,   3.2096
  316N20060130,AAIW06,   236,  1,      9,      9,2,20060310,1922,-45.5067, -77.4112, 2624,   1209.1,   3.1552,  34.4566,2,-999.0000,9,    145.6,2,    144.2,2,    66.48,2,    36.85,2,     0.00,2,     2.58,2,   3.0698
  316N20060130,AAIW06,   236,  1,      8,      8,2,20060310,1922,-45.5067, -77.4112, 2624,   1304.0,   3.0284,  34.4946,2,-999.0000,9,    134.7,2,    134.1,2,    75.82,2,    37.49,2,     0.00,2,     2.65,2,   2.9365
  316N20060130,AAIW06,   236,  1,      7,      7,2,20060310,1922,-45.5067, -77.4112, 2624,   1398.7,   2.8754,  34.5245,2,-999.0000,9,    134.0,2,    132.0,2,    82.68,2,    37.54,2,     0.00,2,     2.65,2,   2.7774
  316N20060130,AAIW06,   236,  1,      6,      6,2,20060310,1922,-45.5067, -77.4112, 2624,   1542.8,   2.6871,  34.5622,2,-999.0000,9,    130.2,2,    130.1,2,    91.43,2,    37.30,2,     0.00,2,     2.66,2,   2.5794
  316N20060130,AAIW06,   236,  1,      5,      5,2,20060310,1922,-45.5067, -77.4112, 2624,   1739.8,   2.4252,  34.6036,2,-999.0000,9,    132.6,2,    132.9,2,   102.30,2,    37.06,2,     0.00,2,     2.63,2,   2.3045
  316N20060130,AAIW06,   236,  1,      4,      4,2,20060310,1922,-45.5067, -77.4112, 2624,   1943.2,   2.1861,  34.6335,2,  34.6340,2,    138.1,2,    138.5,2,   110.90,2,    36.53,2,     0.00,2,     2.58,2,   2.0516
  316N20060130,AAIW06,   236,  1,      3,      3,2,20060310,1922,-45.5067, -77.4112, 2624,   2152.2,   2.0280,  34.6517,2,  34.6522,2,    143.1,2,    143.4,2,   118.68,4,    36.02,2,     0.00,2,     2.54,2,   1.8781
  316N20060130,AAIW06,   236,  1,      2,      2,2,20060310,1922,-45.5067, -77.4112, 2624,   2358.8,   1.9367,  34.6627,2,  34.6632,2,    146.4,2,    146.3,2,   119.92,2,    35.84,2,     0.00,2,     2.52,2,   1.7702
  316N20060130,AAIW06,   236,  1,      1,      1,2,20060310,1922,-45.5067, -77.4112, 2624,   2578.0,   1.8890,  34.6693,2,  34.6698,2,    148.3,2,    148.4,2,   121.60,2,    35.66,2,     0.00,2,     2.51,2,   1.7036