BOTTLE,20081218PRINUNIVRMK
EXPOCODE,SECT_ID,STNNBR,CASTNO,SAMPNO,BTLNBR,BTLNBR_FLAG_W,DATE,TIME,LATITUDE,LONGITUDE,DEPTH,CTDPRS,CTDTMP,CTDSAL,CTDSAL_FLAG_W,SALNTY,SALNTY_FLAG_W,CTDOXY,CTDOXY_FLAG_W,OXYGEN,OXYGEN_FLAG_W,SILCAT,SILCAT_FLAG_W,NITRAT,NITRAT_FLAG_W,NITRIT,NITRIT_FLAG_W,PHSPHT,PHSPHT_FLAG_W,THETA
,,,,,,,,,,,METERS,DBARS,ITS-90,PSS-78,,PSS-78,,UMOL/KG,,UMOL/KG,,UMOL/KG,,UMOL/KG,,UMOL/KG,,UMOL/KG,,DEGC
  316N20060130,AAIW06,   207,  1,     36,     36,2,20060224,1523,-55.0212,-103.0032, 4529,      4.4,   7.9663,  34.1589,2,  34.1612,2,    287.4,2,    287.6,2,     2.82,2,    16.13,2,     0.21,2,     1.19,2,   7.9659
  316N20060130,AAIW06,   207,  1,     34,     34,2,20060224,1523,-55.0212,-103.0032, 4529,     21.0,   7.9692,  34.1589,2,-999.0000,9,   -999.0,9,   -999.0,9,  -999.00,9,  -999.00,9,  -999.00,9,  -999.00,9,   7.9671
  316N20060130,AAIW06,   207,  1,     33,     33,2,20060224,1523,-55.0212,-103.0032, 4529,     21.1,   7.9701,  34.1587,2,  34.1620,2,    288.5,2,    287.7,2,     2.56,2,    16.07,2,     0.21,2,     1.18,2,   7.9680
  316N20060130,AAIW06,   207,  1,     35,     35,2,20060224,1523,-55.0212,-103.0032, 4529,     21.3,   7.9689,  34.1588,2,-999.0000,9,   -999.0,9,   -999.0,9,  -999.00,9,  -999.00,9,  -999.00,9,  -999.00,9,   7.9668
  316N20060130,AAIW06,   207,  1,     32,     32,2,20060224,1523,-55.0212,-103.0032, 4529,     46.3,   7.9590,  34.1583,2,  34.1608,2,    288.7,2,    287.8,2,     2.52,2,    16.07,2,     0.21,2,     1.18,2,   7.9544
  316N20060130,AAIW06,   207,  1,     31,     31,2,20060224,1523,-55.0212,-103.0032, 4529,     71.3,   7.9634,  34.1578,2,  34.1600,2,    288.7,2,    287.6,2,     2.47,2,    16.12,2,     0.21,2,     1.18,2,   7.9564
  316N20060130,AAIW06,   207,  1,     30,     30,2,20060224,1523,-55.0212,-103.0032, 4529,     90.9,   7.7061,  34.1634,2,  34.1686,0,    289.8,2,    288.0,2,     3.04,2,    16.48,2,     0.25,2,     1.21,2,   7.6973
  316N20060130,AAIW06,   207,  1,     29,     29,2,20060224,1523,-55.0212,-103.0032, 4529,    130.7,   6.2202,  34.2301,2,-999.0000,9,    282.2,2,    286.6,2,     6.28,2,    19.67,2,     0.08,2,     1.41,2,   6.2090
  316N20060130,AAIW06,   207,  1,     28,     28,2,20060224,1523,-55.0212,-103.0032, 4529,    176.1,   6.0130,  34.2193,2,-999.0000,9,    283.7,2,    285.5,2,     6.84,2,    20.33,2,     0.02,2,     1.42,2,   5.9981
  316N20060130,AAIW06,   207,  1,     27,     27,2,20060224,1523,-55.0212,-103.0032, 4529,    225.3,   5.8024,  34.2023,2,-999.0000,9,    285.3,2,    285.6,2,     7.41,2,    20.84,2,     0.01,2,     1.48,2,   5.7836
  316N20060130,AAIW06,   207,  1,     26,     26,2,20060224,1523,-55.0212,-103.0032, 4529,    275.3,   5.6263,  34.1870,2,-999.0000,9,    287.8,2,    286.5,2,     7.37,2,    21.10,2,     0.01,2,     1.49,2,   5.6036
  316N20060130,AAIW06,   207,  1,     25,     25,2,20060224,1523,-55.0212,-103.0032, 4529,    325.3,   5.5475,  34.1865,2,-999.0000,9,    281.8,2,    281.6,2,     8.14,2,    21.69,2,     0.01,2,     1.53,2,   5.5208
  316N20060130,AAIW06,   207,  1,     24,     24,2,20060224,1523,-55.0212,-103.0032, 4529,    375.4,   5.5298,  34.1967,2,-999.0000,9,    285.6,2,    276.3,2,     9.53,2,    22.30,2,     0.01,2,     1.56,2,   5.4989
  316N20060130,AAIW06,   207,  1,     23,     23,2,20060224,1523,-55.0212,-103.0032, 4529,    423.7,   5.6632,  34.2389,2,  34.2407,2,    285.3,2,    261.9,2,    11.12,2,    23.26,2,     0.00,2,     1.62,2,   5.6277
  316N20060130,AAIW06,   207,  1,     22,     22,2,20060224,1523,-55.0212,-103.0032, 4529,    474.2,   5.6117,  34.2558,2,-999.0000,9,    263.9,2,    249.0,2,    13.54,2,    24.52,2,     0.00,2,     1.71,2,   5.5720
  316N20060130,AAIW06,   207,  1,     21,     21,9,20060224,1523,-55.0212,-103.0032, 4529,    524.1,   5.3668,  34.2492,2,-999.0000,9,   -999.0,9,   -999.0,9,  -999.00,9,  -999.00,9,  -999.00,9,  -999.00,9,   5.3237
  316N20060130,AAIW06,   207,  1,     20,     20,2,20060224,1523,-55.0212,-103.0032, 4529,    524.4,   5.3675,  34.2492,2,-999.0000,9,    242.5,2,    243.2,2,    15.53,2,    25.57,2,     0.00,2,     1.77,2,   5.3243
  316N20060130,AAIW06,   207,  1,     19,     19,2,20060224,1523,-55.0212,-103.0032, 4529,    645.1,   5.0036,  34.2895,2,-999.0000,9,    222.5,2,    220.7,2,    22.86,2,    28.15,2,     0.00,2,     1.95,2,   4.9517
  316N20060130,AAIW06,   207,  1,     18,     18,2,20060224,1523,-55.0212,-103.0032, 4529,    742.5,   4.5261,  34.2969,2,-999.0000,9,    215.4,2,    214.4,2,    28.14,2,    29.51,2,     0.00,2,     2.03,2,   4.4686
  316N20060130,AAIW06,   207,  1,     17,     17,2,20060224,1523,-55.0212,-103.0032, 4529,    842.9,   4.0493,  34.3150,2,-999.0000,9,    208.6,2,    207.6,2,    34.65,2,    30.88,2,     0.00,2,     2.14,2,   3.9865
  316N20060130,AAIW06,   207,  1,     16,     16,2,20060224,1523,-55.0212,-103.0032, 4529,    941.6,   3.6375,  34.3386,2,-999.0000,9,    200.7,2,    200.9,2,    41.77,2,    31.93,2,     0.00,2,     2.22,2,   3.5696
  316N20060130,AAIW06,   207,  1,     15,     15,2,20060224,1523,-55.0212,-103.0032, 4529,   1037.7,   3.3324,  34.3642,2,-999.0000,9,    194.8,2,    195.3,2,    47.88,2,    32.65,2,     0.00,2,     2.28,2,   3.2592
  316N20060130,AAIW06,   207,  1,     14,     14,2,20060224,1523,-55.0212,-103.0032, 4529,   1136.3,   3.0405,  34.4018,2,-999.0000,9,    188.6,2,    188.2,2,    54.19,2,    33.40,2,     0.00,2,     2.33,2,   2.9620
  316N20060130,AAIW06,   207,  1,     13,     13,2,20060224,1523,-55.0212,-103.0032, 4529,   1235.6,   2.8406,  34.4497,2,-999.0000,9,    182.1,2,    182.0,2,    61.53,2,    33.80,2,     0.00,2,     2.36,2,   2.7561
  316N20060130,AAIW06,   207,  1,     12,     12,2,20060224,1523,-55.0212,-103.0032, 4529,   1333.1,   2.6935,  34.4929,2,-999.0000,9,    176.9,2,    176.9,2,    67.45,2,    34.04,2,     0.00,2,     2.37,2,   2.6027
  316N20060130,AAIW06,   207,  1,     11,     11,2,20060224,1523,-55.0212,-103.0032, 4529,   1534.0,   2.5134,  34.5679,2,-999.0000,9,    171.4,2,    171.4,2,    75.01,2,    33.83,2,     0.00,2,     2.36,2,   2.4085
  316N20060130,AAIW06,   207,  1,     10,     10,2,20060224,1523,-55.0212,-103.0032, 4529,   1734.4,   2.3624,  34.6289,2,-999.0000,9,    171.5,2,    171.9,2,    80.12,2,    33.28,2,     0.00,2,     2.32,2,   2.2429
  316N20060130,AAIW06,   207,  1,      9,      9,2,20060224,1523,-55.0212,-103.0032, 4529,   1932.8,   2.2383,  34.6748,2,-999.0000,9,    173.9,2,    174.0,2,    85.23,2,    32.56,2,     0.00,2,     2.27,2,   2.1038
  316N20060130,AAIW06,   207,  1,      8,      8,2,20060224,1523,-55.0212,-103.0032, 4529,   2236.8,   2.0189,  34.7081,2,  34.7097,2,    179.1,2,    178.3,2,   102.35,2,    32.15,2,     0.00,2,     2.24,2,   1.8616
  316N20060130,AAIW06,   207,  1,      7,      7,2,20060224,1523,-55.0212,-103.0032, 4529,   2536.8,   1.7405,  34.7142,2,  34.7142,2,    181.7,2,    180.6,2,   105.22,2,    32.40,2,     0.00,2,     2.26,2,   1.5615
  316N20060130,AAIW06,   207,  1,      6,      6,2,20060224,1523,-55.0212,-103.0032, 4529,   2840.2,   1.5821,  34.7169,2,  34.7179,2,    184.8,2,    185.2,2,   108.71,2,    32.25,2,     0.00,2,     2.25,2,   1.3784
  316N20060130,AAIW06,   207,  1,      5,      5,2,20060224,1523,-55.0212,-103.0032, 4529,   3248.1,   1.4117,  34.7235,2,  34.7234,2,    193.8,2,    194.1,2,   109.70,2,    31.68,2,     0.00,2,     2.21,2,   1.1727
  316N20060130,AAIW06,   207,  1,      4,      4,2,20060224,1523,-55.0212,-103.0032, 4529,   3658.7,   1.1134,  34.7166,2,  34.7171,2,    199.7,2,    199.5,2,   119.45,2,    31.94,2,     0.00,2,     2.22,2,   0.8408
  316N20060130,AAIW06,   207,  1,      3,      3,2,20060224,1523,-55.0212,-103.0032, 4529,   4025.5,   0.8492,  34.7109,2,  34.7117,2,    204.1,2,    204.1,2,   128.60,2,    32.23,2,     0.00,2,     2.25,2,   0.5458
  316N20060130,AAIW06,   207,  1,      2,      2,2,20060224,1523,-55.0212,-103.0032, 4529,   4327.6,   0.7404,  34.7085,2,  34.7101,0,    206.8,2,    207.6,2,   132.34,2,    32.33,2,     0.00,2,     2.25,2,   0.4079
  316N20060130,AAIW06,   207,  1,      1,      1,2,20060224,1523,-55.0212,-103.0032, 4529,   4643.3,   0.7211,  34.7073,2,  34.7078,2,    208.4,2,    208.4,2,   133.14,2,    32.28,2,     0.00,2,     2.25,2,   0.3542
  316N20060130,AAIW06,   208,  1,     36,     36,2,20060224,2335,-55.5787,-103.0095, 4511,      4.6,   7.6886,  34.1149,2,  34.1164,2,    289.1,2,    289.2,2,     0.69,2,    16.87,2,     0.22,2,     1.22,2,   7.6882
  316N20060130,AAIW06,   208,  1,     35,     35,2,20060224,2335,-55.5787,-103.0095, 4511,     16.2,   7.6894,  34.1148,2,  34.1159,2,    289.3,2,    289.1,2,     0.48,2,    16.82,2,     0.22,2,     1.22,2,   7.6878
  316N20060130,AAIW06,   208,  1,     34,     34,2,20060224,2335,-55.5787,-103.0095, 4511,     40.5,   7.6907,  34.1147,2,  34.1173,2,    289.2,2,    289.0,2,     0.47,2,    16.86,2,     0.22,2,     1.21,2,   7.6868
  316N20060130,AAIW06,   208,  1,     33,     33,2,20060224,2335,-55.5787,-103.0095, 4511,     65.5,   7.6875,  34.1143,2,  34.1173,2,    289.4,2,    288.9,2,     2.12,2,    16.85,2,     0.23,2,     1.22,2,   7.6812
  316N20060130,AAIW06,   208,  1,     32,     32,9,20060224,2335,-55.5787,-103.0095, 4511,     95.4,   7.5049,  34.1162,2,-999.0000,9,   -999.0,9,   -999.0,9,  -999.00,9,  -999.00,9,  -999.00,9,  -999.00,9,   7.4958
  316N20060130,AAIW06,   208,  1,     31,     31,2,20060224,2335,-55.5787,-103.0095, 4511,    141.6,   5.7041,  34.1823,2,-999.0000,9,    290.6,2,    289.7,2,     6.47,2,    20.85,2,     0.03,2,     1.47,2,   5.6925
  316N20060130,AAIW06,   208,  1,     30,     30,2,20060224,2335,-55.5787,-103.0095, 4511,    189.8,   5.4807,  34.1666,2,-999.0000,9,    290.9,2,    291.1,2,     6.67,2,    21.23,2,     0.01,2,     1.49,2,   5.4654
  316N20060130,AAIW06,   208,  1,     29,     29,2,20060224,2335,-55.5787,-103.0095, 4511,    239.7,   5.3367,  34.1587,2,-999.0000,9,    291.0,2,    292.1,2,     6.66,2,    21.38,2,     0.01,2,     1.50,2,   5.3176
  316N20060130,AAIW06,   208,  1,     28,     28,2,20060224,2335,-55.5787,-103.0095, 4511,    290.3,   5.2357,  34.1538,2,-999.0000,9,    290.6,2,    291.4,2,     6.65,2,    21.73,2,     0.01,2,     1.52,2,   5.2127
  316N20060130,AAIW06,   208,  1,     27,     27,2,20060224,2335,-55.5787,-103.0095, 4511,    340.4,   5.1658,  34.1511,2,-999.0000,9,    291.3,2,    289.6,2,     7.06,2,    21.94,2,     0.01,2,     1.53,2,   5.1388
  316N20060130,AAIW06,   208,  1,     26,     26,2,20060224,2335,-55.5787,-103.0095, 4511,    389.5,   5.1376,  34.1608,2,-999.0000,9,    285.2,2,    279.8,2,     8.71,2,    23.05,2,     0.00,2,     1.59,2,   5.1067
  316N20060130,AAIW06,   208,  1,     25,     25,2,20060224,2335,-55.5787,-103.0095, 4511,    438.9,   5.0698,  34.1746,2,-999.0000,9,    270.8,2,    267.8,2,    10.98,2,    24.32,2,     0.00,2,     1.68,2,   5.0350
  316N20060130,AAIW06,   208,  1,     24,     24,2,20060224,2335,-55.5787,-103.0095, 4511,    488.9,   4.9816,  34.1916,2,-999.0000,9,    261.4,2,    256.5,2,    13.45,2,    25.49,2,     0.00,2,     1.75,2,   4.9430
  316N20060130,AAIW06,   208,  1,     23,     23,2,20060224,2335,-55.5787,-103.0095, 4511,    573.5,   4.8983,  34.2391,2,-999.0000,9,    236.7,2,    236.1,2,    18.62,2,    27.42,2,     0.00,2,     1.88,2,   4.8530
  316N20060130,AAIW06,   208,  1,     22,     22,2,20060224,2335,-55.5787,-103.0095, 4511,    674.8,   4.4864,  34.2659,2,-999.0000,9,    222.9,2,    222.8,2,    24.83,2,    29.25,2,     0.00,2,     2.00,2,   4.4347
  316N20060130,AAIW06,   208,  1,     21,     21,9,20060224,2335,-55.5787,-103.0095, 4511,    769.9,   4.1084,  34.2954,2,-999.0000,9,   -999.0,9,   -999.0,9,  -999.00,9,  -999.00,9,  -999.00,9,  -999.00,9,   4.0511
  316N20060130,AAIW06,   208,  1,     20,     20,2,20060224,2335,-55.5787,-103.0095, 4511,    772.8,   4.0909,  34.2955,2,-999.0000,9,    212.9,2,    212.6,2,    31.45,2,    30.67,2,     0.00,2,     2.10,2,   4.0335
  316N20060130,AAIW06,   208,  1,     19,     19,2,20060224,2335,-55.5787,-103.0095, 4511,    870.1,   3.7027,  34.3191,2,-999.0000,9,    208.0,2,    205.8,2,    38.07,2,    31.74,2,     0.00,2,     2.19,2,   3.6400
  316N20060130,AAIW06,   208,  1,     18,     18,2,20060224,2335,-55.5787,-103.0095, 4511,    969.0,   3.3187,  34.3483,2,-999.0000,9,    199.9,2,    199.1,2,    45.52,2,    32.61,2,     0.00,2,     2.27,2,   3.2510
  316N20060130,AAIW06,   208,  1,     17,     17,2,20060224,2335,-55.5787,-103.0095, 4511,   1066.7,   3.0441,  34.3932,2,-999.0000,9,    191.4,2,    189.8,2,    52.99,2,    33.57,2,     0.00,2,     2.32,2,   2.9709
  316N20060130,AAIW06,   208,  1,     16,     16,2,20060224,2335,-55.5787,-103.0095, 4511,   1161.3,   2.8799,  34.4278,2,-999.0000,9,    184.3,2,    184.3,2,    58.37,2,    33.92,2,     0.00,2,     2.36,2,   2.8008
  316N20060130,AAIW06,   208,  1,     15,     15,2,20060224,2335,-55.5787,-103.0095, 4511,   1257.5,   2.7413,  34.4729,2,-999.0000,9,    178.9,2,    178.9,2,    64.18,2,    34.16,2,     0.00,2,     2.37,2,   2.6560
  316N20060130,AAIW06,   208,  1,     14,     14,2,20060224,2335,-55.5787,-103.0095, 4511,   1347.7,   2.6384,  34.5104,2,-999.0000,9,    175.4,2,    175.0,2,    68.74,2,    34.16,2,     0.00,2,     2.37,2,   2.5470
  316N20060130,AAIW06,   208,  1,     13,     13,2,20060224,2335,-55.5787,-103.0095, 4511,   1532.2,   2.4739,  34.5795,2,-999.0000,9,    171.6,2,    171.4,2,    74.35,2,    33.89,2,     0.00,2,     2.36,2,   2.3695
  316N20060130,AAIW06,   208,  1,     12,     12,2,20060224,2335,-55.5787,-103.0095, 4511,   1719.9,   2.3468,  34.6357,2,-999.0000,9,    171.8,2,    171.6,2,    81.63,2,    33.37,2,     0.00,2,     2.31,2,   2.2286
  316N20060130,AAIW06,   208,  1,     11,     11,2,20060224,2335,-55.5787,-103.0095, 4511,   1914.6,   2.2206,  34.6785,2,-999.0000,9,    174.5,2,    174.9,2,    84.96,2,    32.65,2,     0.00,2,     2.27,2,   2.0879
  316N20060130,AAIW06,   208,  1,     10,     10,2,20060224,2335,-55.5787,-103.0095, 4511,   2109.5,   2.0994,  34.7004,2,-999.0000,9,    177.2,2,    177.1,2,    89.54,2,    32.34,2,     0.00,2,     2.24,2,   1.9518
  316N20060130,AAIW06,   208,  1,      9,      9,2,20060224,2335,-55.5787,-103.0095, 4511,   2366.6,   1.8929,  34.7153,2,  34.7179,2,    180.9,2,    180.8,2,    98.11,2,    32.12,2,     0.00,2,     2.23,2,   1.7263
  316N20060130,AAIW06,   208,  1,      8,      8,2,20060224,2335,-55.5787,-103.0095, 4511,   2618.7,   1.7006,  34.7216,2,  34.7225,2,    183.9,2,    185.3,2,   102.30,2,    32.01,2,     0.00,2,     2.24,2,   1.5149
  316N20060130,AAIW06,   208,  1,      7,      7,2,20060224,2335,-55.5787,-103.0095, 4511,   2878.5,   1.5549,  34.7237,2,  34.7249,2,    188.3,2,    189.8,2,   106.07,2,    31.91,2,     0.00,2,     2.26,2,   1.3481
  316N20060130,AAIW06,   208,  1,      6,      6,2,20060224,2335,-55.5787,-103.0095, 4511,   3138.0,   1.4390,  34.7231,2,  34.7229,2,    192.7,2,    192.8,2,   109.84,2,    31.96,2,     0.00,2,     2.26,2,   1.2101
  316N20060130,AAIW06,   208,  1,      5,      5,2,20060224,2335,-55.5787,-103.0095, 4511,   3398.7,   1.2596,  34.7203,2,  34.7216,2,    196.7,2,    196.8,2,   114.25,2,    32.04,2,     0.00,2,     2.26,2,   1.0094
  316N20060130,AAIW06,   208,  1,      4,      4,2,20060224,2335,-55.5787,-103.0095, 4511,   3668.3,   1.0548,  34.7157,2,  34.7159,2,    201.0,2,    201.1,2,   120.78,2,    32.14,2,     0.00,2,     2.26,2,   0.7827
  316N20060130,AAIW06,   208,  1,      3,      3,2,20060224,2335,-55.5787,-103.0095, 4511,   4014.4,   0.8085,  34.7104,2,  34.7114,2,    205.1,2,    205.1,2,   129.65,2,    32.44,2,     0.00,2,     2.28,2,   0.5074
  316N20060130,AAIW06,   208,  1,      2,      2,2,20060224,2335,-55.5787,-103.0095, 4511,   4323.0,   0.7164,  34.7080,2,  34.7091,2,    207.6,2,    207.2,2,   133.03,2,    32.48,2,     0.00,2,     2.29,2,   0.3851
  316N20060130,AAIW06,   208,  1,      1,      1,2,20060224,2335,-55.5787,-103.0095, 4511,   4591.5,   0.6895,  34.7070,2,  34.7091,0,    209.1,2,    209.0,2,   134.30,2,    32.53,2,     0.00,2,     2.28,2,   0.3294