BOTTLE,20081218PRINUNIVRMK
EXPOCODE,SECT_ID,STNNBR,CASTNO,SAMPNO,BTLNBR,BTLNBR_FLAG_W,DATE,TIME,LATITUDE,LONGITUDE,DEPTH,CTDPRS,CTDTMP,CTDSAL,CTDSAL_FLAG_W,SALNTY,SALNTY_FLAG_W,CTDOXY,CTDOXY_FLAG_W,OXYGEN,OXYGEN_FLAG_W,SILCAT,SILCAT_FLAG_W,NITRAT,NITRAT_FLAG_W,NITRIT,NITRIT_FLAG_W,PHSPHT,PHSPHT_FLAG_W,THETA
,,,,,,,,,,,METERS,DBARS,ITS-90,PSS-78,,PSS-78,,UMOL/KG,,UMOL/KG,,UMOL/KG,,UMOL/KG,,UMOL/KG,,UMOL/KG,,DEGC
  316N20060130,AAIW06,   193,  1,     36,     36,2,20060219,1759,-55.5187, -88.9920, 4985,      3.7,   8.2751,  34.1116,2,  34.1128,2,    285.4,2,    285.5,2,     0.00,2,    17.16,2,     0.21,2,     1.22,2,   8.2747
  316N20060130,AAIW06,   193,  1,     35,     35,2,20060219,1759,-55.5187, -88.9920, 4985,     17.2,   8.2959,  34.1119,2,  34.1136,2,    286.3,2,    285.7,2,     0.00,2,    17.21,2,     0.22,2,     1.24,2,   8.2942
  316N20060130,AAIW06,   193,  1,     34,     34,2,20060219,1759,-55.5187, -88.9920, 4985,     41.4,   8.2525,  34.1107,2,  34.1122,2,    286.2,2,    285.5,2,     0.00,2,    17.15,2,     0.21,2,     1.22,2,   8.2483
  316N20060130,AAIW06,   193,  1,     33,     33,2,20060219,1759,-55.5187, -88.9920, 4985,     71.5,   8.2067,  34.1102,2,  34.1128,2,    286.2,2,    285.7,2,     0.00,2,    17.20,2,     0.21,2,     1.24,2,   8.1995
  316N20060130,AAIW06,   193,  1,     32,     32,2,20060219,1759,-55.5187, -88.9920, 4985,     97.0,   6.0291,  34.1556,2,  34.1565,2,    300.5,2,    301.1,2,     3.48,2,    19.12,2,     0.15,2,     1.38,2,   6.0209
  316N20060130,AAIW06,   193,  1,     31,     31,2,20060219,1759,-55.5187, -88.9920, 4985,    136.1,   5.4747,  34.1711,2,-999.0000,9,    297.7,2,    297.1,2,     4.66,2,    20.33,2,     0.34,2,     1.44,2,   5.4638
  316N20060130,AAIW06,   193,  1,     30,     30,2,20060219,1759,-55.5187, -88.9920, 4985,    190.9,   5.4022,  34.1828,2,-999.0000,9,    295.4,2,    293.8,2,     5.02,2,    20.91,2,     0.01,2,     1.45,2,   5.3869
  316N20060130,AAIW06,   193,  1,     29,     29,2,20060219,1759,-55.5187, -88.9920, 4985,    241.4,   5.3360,  34.1842,2,-999.0000,9,    293.7,2,    293.4,2,     5.16,2,    20.91,2,     0.01,2,     1.47,2,   5.3167
  316N20060130,AAIW06,   193,  1,     28,     28,2,20060219,1759,-55.5187, -88.9920, 4985,    291.2,   5.2910,  34.1826,2,-999.0000,9,    293.1,2,    293.7,2,     5.31,2,    20.95,2,     0.01,2,     1.50,2,   5.2677
  316N20060130,AAIW06,   193,  1,     27,     27,2,20060219,1759,-55.5187, -88.9920, 4985,    341.3,   5.2620,  34.1810,2,-999.0000,9,    293.0,2,    293.4,2,     5.45,2,    21.15,2,     0.01,2,     1.49,2,   5.2347
  316N20060130,AAIW06,   193,  1,     26,     26,2,20060219,1759,-55.5187, -88.9920, 4985,    390.6,   5.3246,  34.1958,2,-999.0000,9,    293.1,2,    287.5,2,     6.22,2,    21.71,2,     0.00,2,     1.54,2,   5.2930
  316N20060130,AAIW06,   193,  1,     25,     25,2,20060219,1759,-55.5187, -88.9920, 4985,    424.7,   5.2692,  34.1927,2,-999.0000,9,    290.2,2,    286.2,2,     6.57,2,    21.96,2,     0.00,2,     1.56,2,   5.2349
  316N20060130,AAIW06,   193,  1,     24,     24,2,20060219,1759,-55.5187, -88.9920, 4985,    490.0,   5.2285,  34.1990,2,-999.0000,9,    277.9,2,    277.8,2,     8.17,2,    23.10,2,     0.00,2,     1.63,2,   5.1889
  316N20060130,AAIW06,   193,  1,     23,     23,2,20060219,1759,-55.5187, -88.9920, 4985,    574.2,   5.0444,  34.2005,2,-999.0000,9,    264.5,2,    264.5,2,    10.82,2,    24.80,2,     0.00,2,     1.74,2,   4.9984
  316N20060130,AAIW06,   193,  1,     22,     22,2,20060219,1759,-55.5187, -88.9920, 4985,    672.4,   4.7702,  34.2225,2,-999.0000,9,    245.3,2,    243.6,2,    16.17,2,    27.17,2,     0.00,2,     1.89,2,   4.7173
  316N20060130,AAIW06,   193,  1,     21,     21,9,20060219,1759,-55.5187, -88.9920, 4985,    773.2,   4.4522,  34.2534,2,-999.0000,9,   -999.0,9,   -999.0,9,  -999.00,9,  -999.00,9,  -999.00,9,  -999.00,9,   4.3926
  316N20060130,AAIW06,   193,  1,     20,     20,2,20060219,1759,-55.5187, -88.9920, 4985,    773.7,   4.4504,  34.2537,2,-999.0000,9,    226.2,2,    226.4,2,    22.77,2,    29.02,2,     0.00,2,     2.02,2,   4.3908
  316N20060130,AAIW06,   193,  1,     19,     19,2,20060219,1759,-55.5187, -88.9920, 4985,    871.6,   4.0346,  34.2788,2,-999.0000,9,    215.8,2,    216.1,2,    29.38,2,    30.56,2,     0.00,2,     2.13,2,   3.9696
  316N20060130,AAIW06,   193,  1,     18,     18,2,20060219,1759,-55.5187, -88.9920, 4985,    969.9,   3.7196,  34.3068,2,-999.0000,9,    207.9,2,    208.1,2,    35.57,2,    31.65,2,     0.00,2,     2.21,2,   3.6489
  316N20060130,AAIW06,   193,  1,     17,     17,2,20060219,1759,-55.5187, -88.9920, 4985,   1070.0,   3.3563,  34.3424,2,-999.0000,9,    199.8,2,    199.6,2,    43.44,2,    32.72,2,     0.00,2,     2.29,2,   3.2804
  316N20060130,AAIW06,   193,  1,     16,     16,2,20060219,1759,-55.5187, -88.9920, 4985,   1167.1,   3.1215,  34.3765,2,-999.0000,9,    191.5,2,    192.9,2,    49.64,2,    33.33,2,     0.00,2,     2.35,2,   3.0399
  316N20060130,AAIW06,   193,  1,     15,     15,2,20060219,1759,-55.5187, -88.9920, 4985,   1264.8,   2.9126,  34.4198,2,-999.0000,9,    185.0,2,    185.6,2,    56.68,2,    33.89,2,     0.00,2,     2.38,2,   2.8251
  316N20060130,AAIW06,   193,  1,     14,     14,2,20060219,1759,-55.5187, -88.9920, 4985,   1365.7,   2.7566,  34.4659,2,-999.0000,9,    178.0,2,    177.8,2,    63.31,2,    34.29,2,     0.00,2,     2.40,2,   2.6626
  316N20060130,AAIW06,   193,  1,     13,     13,2,20060219,1759,-55.5187, -88.9920, 4985,   1415.5,   2.7111,  34.4832,2,-999.0000,9,    175.5,2,    176.6,2,    65.14,2,    34.38,2,     0.00,2,     2.42,2,   2.6136
  316N20060130,AAIW06,   193,  1,     12,     12,2,20060219,1759,-55.5187, -88.9920, 4985,   1568.8,   2.5515,  34.5497,2,-999.0000,9,    169.9,2,    170.6,2,    72.62,2,    34.26,2,     0.00,2,     2.42,2,   2.4433
  316N20060130,AAIW06,   193,  1,     11,     11,2,20060219,1759,-55.5187, -88.9920, 4985,   1771.8,   2.4069,  34.6124,2,-999.0000,9,    168.1,2,    167.9,2,    79.70,2,    33.72,2,     0.00,2,     2.39,2,   2.2837
  316N20060130,AAIW06,   193,  1,     10,     10,2,20060219,1759,-55.5187, -88.9920, 4985,   1973.8,   2.2747,  34.6569,2,-999.0000,9,    170.7,2,    170.1,2,    85.53,2,    33.25,2,     0.00,2,     2.36,2,   2.1362
  316N20060130,AAIW06,   193,  1,      9,      9,2,20060219,1759,-55.5187, -88.9920, 4985,   2221.9,   2.1033,  34.6893,2,-999.0000,9,    174.0,2,    172.0,2,    93.26,2,    32.98,2,     0.00,2,     2.34,2,   1.9459
  316N20060130,AAIW06,   193,  1,      8,      8,2,20060219,1759,-55.5187, -88.9920, 4985,   2523.1,   1.8546,  34.7025,2,  34.7021,2,    174.6,2,    173.1,2,   104.61,2,    33.12,2,     0.00,2,     2.34,2,   1.6747
  316N20060130,AAIW06,   193,  1,      7,      7,2,20060219,1759,-55.5187, -88.9920, 4985,   2825.3,   1.6857,  34.7140,2,  34.7143,2,    180.7,2,    181.1,2,   106.68,2,    32.70,2,     0.00,2,     2.24,2,   1.4812
  316N20060130,AAIW06,   193,  1,      6,      6,2,20060219,1759,-55.5187, -88.9920, 4985,   3129.2,   1.5374,  34.7227,2,  34.7233,2,    188.7,2,    190.3,2,   106.63,2,    32.01,2,     0.00,2,     2.19,2,   1.3071
  316N20060130,AAIW06,   193,  1,      5,      5,2,20060219,1759,-55.5187, -88.9920, 4985,   3507.8,   1.2921,  34.7206,2,  34.7202,2,    196.9,2,    196.5,2,   112.93,2,    32.05,2,     0.00,2,     2.20,2,   1.0301
  316N20060130,AAIW06,   193,  1,      4,      4,2,20060219,1759,-55.5187, -88.9920, 4985,   3908.6,   0.9881,  34.7136,2,  34.7133,2,    202.2,2,    202.1,2,   122.66,2,    32.25,2,     0.00,2,     2.22,2,   0.6930
  316N20060130,AAIW06,   193,  1,      3,      3,2,20060219,1759,-55.5187, -88.9920, 4985,   4321.1,   0.7275,  34.7084,2,  34.7073,2,    207.2,2,    207.1,2,   131.36,2,    32.65,2,     0.00,2,     2.23,2,   0.3961
  316N20060130,AAIW06,   193,  1,      2,      2,2,20060219,1759,-55.5187, -88.9920, 4985,   4730.4,   0.6450,  34.7065,2,  34.7062,2,    209.4,2,    209.5,2,   134.96,2,    32.64,2,     0.00,2,     2.24,2,   0.2707
  316N20060130,AAIW06,   193,  1,      1,      1,2,20060219,1759,-55.5187, -88.9920, 4985,   5113.9,   0.6458,  34.7057,2,  34.7053,2,    210.8,2,    210.5,2,   136.84,2,    32.68,2,     0.00,2,     2.24,2,   0.2270
  316N20060130,AAIW06,   194,  1,     36,     36,2,20060220,  32,-55.0142, -88.9878, 4616,      3.2,   8.5537,  34.1136,2,  34.1150,2,    285.0,2,    284.9,2,     1.15,2,    16.23,2,     0.23,2,     1.15,2,   8.5534
  316N20060130,AAIW06,   194,  1,     35,     35,2,20060220,  32,-55.0142, -88.9878, 4616,     25.9,   8.5192,  34.1110,2,  34.1126,2,    286.0,2,    284.8,2,     1.02,2,    16.23,2,     0.23,2,     1.16,2,   8.5165
  316N20060130,AAIW06,   194,  1,     34,     34,2,20060220,  32,-55.0142, -88.9878, 4616,     50.6,   8.5053,  34.1101,2,  34.1122,2,    285.8,2,    284.8,2,     1.09,2,    16.33,2,     0.23,2,     1.16,2,   8.5001
  316N20060130,AAIW06,   194,  1,     33,     33,2,20060220,  32,-55.0142, -88.9878, 4616,     70.2,   8.2640,  34.1147,2,  34.1168,2,    286.0,2,    287.4,2,     1.77,2,    16.60,2,     0.22,2,     1.19,2,   8.2569
  316N20060130,AAIW06,   194,  1,     32,     32,2,20060220,  32,-55.0142, -88.9878, 4616,     91.0,   6.0408,  34.1587,2,  34.1611,2,    300.8,2,    300.7,2,     5.53,2,    18.78,2,     0.15,2,     1.40,2,   6.0331
  316N20060130,AAIW06,   194,  1,     31,     31,2,20060220,  32,-55.0142, -88.9878, 4616,    151.0,   5.4132,  34.1741,2,  34.1750,2,    296.6,2,    298.8,2,     6.83,2,    20.28,2,     0.21,2,     1.44,2,   5.4012
  316N20060130,AAIW06,   194,  1,     30,     30,2,20060220,  32,-55.0142, -88.9878, 4616,    205.0,   5.3671,  34.1789,2,-999.0000,9,    295.7,2,    296.8,2,     6.89,2,    20.43,2,     0.01,2,     1.44,2,   5.3507
  316N20060130,AAIW06,   194,  1,     29,     29,2,20060220,  32,-55.0142, -88.9878, 4616,    255.4,   5.3074,  34.1806,2,-999.0000,9,    294.8,2,    294.8,2,     7.17,2,    20.68,2,     0.01,2,     1.45,2,   5.2870
  316N20060130,AAIW06,   194,  1,     28,     28,2,20060220,  32,-55.0142, -88.9878, 4616,    305.5,   5.2648,  34.1790,2,-999.0000,9,    295.1,2,    294.4,2,     7.24,2,    20.83,2,     0.01,2,     1.47,2,   5.2404
  316N20060130,AAIW06,   194,  1,     27,     27,2,20060220,  32,-55.0142, -88.9878, 4616,    354.7,   5.2085,  34.1764,2,-999.0000,9,    294.6,2,    293.8,2,     7.72,2,    21.04,2,     0.01,2,     1.48,2,   5.1802
  316N20060130,AAIW06,   194,  1,     26,     26,2,20060220,  32,-55.0142, -88.9878, 4616,    404.9,   5.1720,  34.1757,2,-999.0000,9,    287.1,2,    292.4,2,     7.99,2,    21.23,2,     0.01,2,     1.49,2,   5.1397
  316N20060130,AAIW06,   194,  1,     25,     25,2,20060220,  32,-55.0142, -88.9878, 4616,    454.7,   5.2326,  34.1957,2,-999.0000,9,    278.4,2,    280.1,2,     9.51,2,    22.54,2,     0.01,2,     1.56,2,   5.1959
  316N20060130,AAIW06,   194,  1,     24,     24,2,20060220,  32,-55.0142, -88.9878, 4616,    504.6,   5.1230,  34.1925,2,-999.0000,9,    270.4,2,    276.4,2,    10.81,2,    23.21,2,     0.01,2,     1.60,2,   5.0826
  316N20060130,AAIW06,   194,  1,     23,     23,2,20060220,  32,-55.0142, -88.9878, 4616,    603.9,   4.8804,  34.1972,2,-999.0000,9,    258.9,2,    259.0,2,    15.39,2,    25.28,2,     0.00,2,     1.74,2,   4.8327
  316N20060130,AAIW06,   194,  1,     22,     22,2,20060220,  32,-55.0142, -88.9878, 4616,    704.4,   4.6160,  34.2309,2,-999.0000,9,    237.4,2,    236.9,2,    21.22,2,    27.61,2,     0.00,2,     1.90,2,   4.5612
  316N20060130,AAIW06,   194,  1,     20,     20,2,20060220,  32,-55.0142, -88.9878, 4616,    804.0,   4.3155,  34.2656,2,-999.0000,9,    224.5,2,    221.4,2,    27.67,2,    29.38,2,     0.00,2,     2.01,2,   4.2542
  316N20060130,AAIW06,   194,  1,     21,     21,9,20060220,  32,-55.0142, -88.9878, 4616,    804.2,   4.3148,  34.2654,2,-999.0000,9,   -999.0,9,   -999.0,9,  -999.00,9,  -999.00,9,  -999.00,9,  -999.00,9,   4.2535
  316N20060130,AAIW06,   194,  1,     19,     19,2,20060220,  32,-55.0142, -88.9878, 4616,    903.8,   3.9362,  34.2891,2,-999.0000,9,    213.8,2,    213.1,2,    33.72,2,    30.65,2,     0.00,2,     2.11,2,   3.8692
  316N20060130,AAIW06,   194,  1,     18,     18,2,20060220,  32,-55.0142, -88.9878, 4616,   1003.5,   3.5612,  34.3184,2,-999.0000,9,    205.5,2,    205.0,2,    40.39,2,    31.76,2,     0.00,2,     2.20,2,   3.4890
  316N20060130,AAIW06,   194,  1,     17,     17,2,20060220,  32,-55.0142, -88.9878, 4616,   1104.2,   3.2664,  34.3527,2,-999.0000,9,    197.9,2,    197.0,2,    47.88,2,    32.56,2,     0.00,2,     2.26,2,   3.1885
  316N20060130,AAIW06,   194,  1,     16,     16,2,20060220,  32,-55.0142, -88.9878, 4616,   1204.1,   3.0253,  34.3946,2,-999.0000,9,    189.5,2,    189.0,2,    54.57,2,    33.26,2,     0.00,2,     2.31,2,   2.9416
  316N20060130,AAIW06,   194,  1,     15,     15,2,20060220,  32,-55.0142, -88.9878, 4616,   1305.0,   2.8383,  34.4409,2,-999.0000,9,    182.0,2,    181.5,2,    61.68,2,    33.67,2,     0.00,2,     2.35,2,   2.7484
  316N20060130,AAIW06,   194,  1,     14,     14,2,20060220,  32,-55.0142, -88.9878, 4616,   1404.4,   2.7106,  34.4830,2,-999.0000,9,    176.7,2,    176.3,2,    67.14,2,    33.92,2,     0.00,2,     2.36,2,   2.6140
  316N20060130,AAIW06,   194,  1,     13,     13,2,20060220,  32,-55.0142, -88.9878, 4616,   1504.4,   2.6065,  34.5254,2,-999.0000,9,    172.1,2,    172.0,2,    71.99,2,    33.97,2,     0.00,2,     2.36,2,   2.5030
  316N20060130,AAIW06,   194,  1,     12,     12,2,20060220,  32,-55.0142, -88.9878, 4616,   1605.4,   2.5276,  34.5603,2,-999.0000,9,    169.8,2,    169.9,2,    75.40,2,    33.76,2,     0.00,2,     2.35,2,   2.4167
  316N20060130,AAIW06,   194,  1,     11,     11,2,20060220,  32,-55.0142, -88.9878, 4616,   1704.0,   2.4561,  34.5935,2,-999.0000,9,    169.0,2,    168.6,2,    80.06,2,    33.54,2,     0.00,2,     2.34,2,   2.3379
  316N20060130,AAIW06,   194,  1,     10,     10,2,20060220,  32,-55.0142, -88.9878, 4616,   1804.8,   2.3897,  34.6199,2,-999.0000,9,    169.1,2,    169.1,2,    82.85,2,    33.34,2,     0.00,2,     2.32,2,   2.2640
  316N20060130,AAIW06,   194,  1,      9,      9,2,20060220,  32,-55.0142, -88.9878, 4616,   2004.1,   2.2637,  34.6641,2,-999.0000,9,    171.9,2,    171.8,2,    86.49,2,    32.67,2,     0.00,2,     2.28,2,   2.1228
  316N20060130,AAIW06,   194,  1,      8,      8,2,20060220,  32,-55.0142, -88.9878, 4616,   2300.3,   2.0468,  34.6969,2,  34.6965,2,    173.7,2,    173.8,2,    96.39,2,    32.47,2,     0.00,2,     2.26,2,   1.8834
  316N20060130,AAIW06,   194,  1,      7,      7,2,20060220,  32,-55.0142, -88.9878, 4616,   2595.8,   1.8430,  34.7090,2,  34.7095,2,    177.4,2,    177.3,2,   104.01,2,    32.31,2,     0.00,2,     2.25,2,   1.6567
  316N20060130,AAIW06,   194,  1,      6,      6,2,20060220,  32,-55.0142, -88.9878, 4616,   2892.9,   1.6587,  34.7163,2,  34.7159,2,    183.4,2,    183.6,2,   108.31,2,    32.05,2,     0.00,2,     2.24,2,   1.4484
  316N20060130,AAIW06,   194,  1,      5,      5,2,20060220,  32,-55.0142, -88.9878, 4616,   3190.4,   1.4989,  34.7206,2,  34.7204,2,    190.2,2,    189.8,2,   110.31,2,    31.85,2,     0.00,2,     2.21,2,   1.2635
  316N20060130,AAIW06,   194,  1,      4,      4,2,20060220,  32,-55.0142, -88.9878, 4616,   3594.9,   1.1947,  34.7179,2,  34.7177,2,    197.9,2,    197.8,2,   117.98,2,    31.74,2,     0.00,2,     2.20,2,   0.9264
  316N20060130,AAIW06,   194,  1,      3,      3,2,20060220,  32,-55.0142, -88.9878, 4616,   4006.1,   0.8930,  34.7111,2,  34.7100,2,    203.8,2,    204.0,2,   127.59,2,    31.94,2,     0.00,2,     2.23,2,   0.5904
  316N20060130,AAIW06,   194,  1,      2,      2,2,20060220,  32,-55.0142, -88.9878, 4616,   4311.3,   0.7208,  34.7083,2,  34.7072,2,    207.0,2,    207.1,2,   133.21,2,    32.13,2,     0.00,2,     2.24,2,   0.3906
  316N20060130,AAIW06,   194,  1,      1,      1,2,20060220,  32,-55.0142, -88.9878, 4616,   4662.9,   0.6594,  34.7065,2,  34.7058,2,    208.8,2,    208.6,2,   136.94,2,    32.18,2,     0.00,2,     2.24,2,   0.2923