BOTTLE,20081218PRINUNIVRMK
EXPOCODE,SECT_ID,STNNBR,CASTNO,SAMPNO,BTLNBR,BTLNBR_FLAG_W,DATE,TIME,LATITUDE,LONGITUDE,DEPTH,CTDPRS,CTDTMP,CTDSAL,CTDSAL_FLAG_W,SALNTY,SALNTY_FLAG_W,CTDOXY,CTDOXY_FLAG_W,OXYGEN,OXYGEN_FLAG_W,SILCAT,SILCAT_FLAG_W,NITRAT,NITRAT_FLAG_W,NITRIT,NITRIT_FLAG_W,PHSPHT,PHSPHT_FLAG_W,THETA
,,,,,,,,,,,METERS,DBARS,ITS-90,PSS-78,,PSS-78,,UMOL/KG,,UMOL/KG,,UMOL/KG,,UMOL/KG,,UMOL/KG,,UMOL/KG,,DEGC
  316N20060130,AAIW06,   189,  1,     36,     36,2,20060218, 625,-57.5043, -89.8818, 5218,      5.4,   6.8996,  34.0114,2,  34.0124,2,    292.4,2,    292.5,2,     1.98,2,    19.67,2,     0.23,2,     1.39,2,   6.8991
  316N20060130,AAIW06,   189,  1,     35,     35,2,20060218, 625,-57.5043, -89.8818, 5218,     19.8,   6.8985,  34.0120,2,  34.0120,2,    293.2,2,    292.5,2,     1.95,2,    19.71,2,     0.23,2,     1.39,2,   6.8967
  316N20060130,AAIW06,   189,  1,     34,     34,2,20060218, 625,-57.5043, -89.8818, 5218,     45.2,   6.9027,  34.0131,2,  34.0142,2,    293.3,2,    292.4,2,     1.91,2,    19.70,2,     0.23,2,     1.39,2,   6.8986
  316N20060130,AAIW06,   189,  1,     33,     33,2,20060218, 625,-57.5043, -89.8818, 5218,     70.3,   6.9028,  34.0148,2,  34.0160,2,    293.4,2,    292.5,2,     1.87,2,    19.68,2,     0.23,2,     1.39,2,   6.8964
  316N20060130,AAIW06,   189,  1,     32,     32,2,20060218, 625,-57.5043, -89.8818, 5218,     97.0,   5.6951,  34.1666,2,  34.1667,2,    294.4,2,    294.2,2,     6.00,2,    19.88,2,     0.57,2,     1.46,2,   5.6872
  316N20060130,AAIW06,   189,  1,     31,     31,2,20060218, 625,-57.5043, -89.8818, 5218,    131.9,   5.5017,  34.1654,2,-999.0000,9,    292.2,2,    292.3,2,     6.56,2,    20.83,2,     0.03,2,     1.47,2,   5.4911
  316N20060130,AAIW06,   189,  1,     30,     30,2,20060218, 625,-57.5043, -89.8818, 5218,    177.4,   5.3900,  34.1595,2,-999.0000,9,    291.7,2,    292.8,2,     6.73,2,    21.16,2,     0.01,2,     1.49,2,   5.3758
  316N20060130,AAIW06,   189,  1,     29,     29,2,20060218, 625,-57.5043, -89.8818, 5218,    226.6,   5.2637,  34.1525,2,-999.0000,9,    293.2,2,    292.9,2,     6.88,2,    21.42,2,     0.01,2,     1.49,2,   5.2458
  316N20060130,AAIW06,   189,  1,     28,     28,2,20060218, 625,-57.5043, -89.8818, 5218,    277.1,   5.1708,  34.1470,2,-999.0000,9,    294.0,2,    293.2,2,     7.05,2,    21.57,2,     0.01,2,     1.50,2,   5.1490
  316N20060130,AAIW06,   189,  1,     27,     27,2,20060218, 625,-57.5043, -89.8818, 5218,    324.4,   5.1201,  34.1490,2,-999.0000,9,    289.1,2,    287.8,2,     8.01,2,    22.20,2,     0.01,2,     1.54,2,   5.0946
  316N20060130,AAIW06,   189,  1,     26,     26,2,20060218, 625,-57.5043, -89.8818, 5218,    374.6,   5.0573,  34.1555,2,-999.0000,9,    280.1,2,    279.3,2,     9.76,2,    23.32,2,     0.01,2,     1.60,2,   5.0278
  316N20060130,AAIW06,   189,  1,     25,     25,2,20060218, 625,-57.5043, -89.8818, 5218,    425.7,   4.8761,  34.1537,2,-999.0000,9,    267.4,2,    270.3,2,    11.70,2,    24.53,2,     0.01,2,     1.68,2,   4.8431
  316N20060130,AAIW06,   189,  1,     24,     24,2,20060218, 625,-57.5043, -89.8818, 5218,    478.1,   4.8256,  34.1844,2,-999.0000,9,    253.2,2,    256.9,2,    14.65,2,    25.92,2,     0.01,2,     1.76,2,   4.7885
  316N20060130,AAIW06,   189,  1,     23,     23,2,20060218, 625,-57.5043, -89.8818, 5218,    527.0,   4.7900,  34.2149,2,-999.0000,9,    242.1,2,    242.8,2,    18.00,2,    27.19,2,     0.00,2,     1.85,2,   4.7490
  316N20060130,AAIW06,   189,  1,     22,     22,2,20060218, 625,-57.5043, -89.8818, 5218,    644.6,   4.3866,  34.2596,2,-999.0000,9,    223.3,2,    223.8,2,    25.72,2,    29.53,2,     0.00,2,     2.00,2,   4.3379
  316N20060130,AAIW06,   189,  1,     21,     21,9,20060218, 625,-57.5043, -89.8818, 5218,    644.8,   4.3790,  34.2598,2,-999.0000,9,   -999.0,9,   -999.0,9,  -999.00,9,  -999.00,9,  -999.00,9,  -999.00,9,   4.3303
  316N20060130,AAIW06,   189,  1,     20,     20,2,20060218, 625,-57.5043, -89.8818, 5218,    745.6,   3.9159,  34.2938,2,-999.0000,9,    214.0,2,    212.6,2,    33.64,2,    31.29,2,     0.00,2,     2.12,2,   3.8617
  316N20060130,AAIW06,   189,  1,     19,     19,2,20060218, 625,-57.5043, -89.8818, 5218,    845.6,   3.4868,  34.3143,2,-999.0000,9,    206.9,2,    206.7,2,    40.17,2,    32.40,2,     0.00,2,     2.20,2,   3.4274
  316N20060130,AAIW06,   189,  1,     18,     18,2,20060218, 625,-57.5043, -89.8818, 5218,    945.7,   3.1524,  34.3489,2,-999.0000,9,    198.7,2,    198.5,2,    47.51,2,    33.39,2,     0.00,2,     2.27,2,   3.0877
  316N20060130,AAIW06,   189,  1,     17,     17,2,20060218, 625,-57.5043, -89.8818, 5218,   1045.6,   2.9502,  34.3951,2,-999.0000,9,    189.1,2,    189.0,2,    54.45,2,    34.12,2,     0.00,2,     2.32,2,   2.8794
  316N20060130,AAIW06,   189,  1,     16,     16,2,20060218, 625,-57.5043, -89.8818, 5218,   1145.2,   2.7689,  34.4442,2,-999.0000,9,    181.9,2,    181.8,2,    61.20,2,    34.15,2,     0.00,2,     2.36,2,   2.6920
  316N20060130,AAIW06,   189,  1,     15,     15,2,20060218, 625,-57.5043, -89.8818, 5218,   1246.4,   2.6123,  34.4932,2,-999.0000,9,    177.4,2,    176.8,2,    66.96,2,    34.61,2,     0.00,2,     2.37,2,   2.5290
  316N20060130,AAIW06,   189,  1,     14,     14,2,20060218, 625,-57.5043, -89.8818, 5218,   1346.5,   2.5040,  34.5374,2,-999.0000,9,    173.9,2,    173.7,2,    71.33,2,    34.59,2,     0.00,2,     2.37,2,   2.4140
  316N20060130,AAIW06,   189,  1,     13,     13,2,20060218, 625,-57.5043, -89.8818, 5218,   1546.2,   2.3736,  34.6084,2,-999.0000,9,    172.1,2,    172.3,2,    78.11,2,    33.97,2,     0.00,2,     2.32,2,   2.2692
  316N20060130,AAIW06,   189,  1,     12,     12,2,20060218, 625,-57.5043, -89.8818, 5218,   1747.7,   2.2640,  34.6596,2,-999.0000,9,    171.9,2,    171.5,2,    84.29,2,    33.36,2,     0.00,2,     2.29,2,   2.1446
  316N20060130,AAIW06,   189,  1,     11,     11,2,20060218, 625,-57.5043, -89.8818, 5218,   1948.5,   2.1366,  34.6936,2,-999.0000,9,    176.6,2,    176.7,2,    87.47,2,    32.59,2,     0.00,2,     2.25,2,   2.0022
  316N20060130,AAIW06,   189,  1,     10,     10,2,20060218, 625,-57.5043, -89.8818, 5218,   2151.7,   1.9718,  34.7077,2,-999.0000,9,    177.6,2,    178.0,2,    94.89,2,    32.62,2,     0.00,2,     2.23,2,   1.8226
  316N20060130,AAIW06,   189,  1,      9,      9,2,20060218, 625,-57.5043, -89.8818, 5218,   2351.9,   1.8306,  34.7205,2,-999.0000,9,    184.1,2,    184.0,2,    96.28,2,    32.07,2,     0.00,2,     2.20,2,   1.6664
  316N20060130,AAIW06,   189,  1,      8,      8,2,20060218, 625,-57.5043, -89.8818, 5218,   2552.6,   1.6508,  34.7171,2,  34.7184,2,    184.1,2,    184.0,2,   103.92,2,    32.53,2,     0.00,2,     2.23,2,   1.4720
  316N20060130,AAIW06,   189,  1,      7,      7,2,20060218, 625,-57.5043, -89.8818, 5218,   2845.4,   1.5286,  34.7228,2,  34.7237,2,    189.9,2,    190.3,2,   105.31,2,    32.13,2,     0.00,2,     2.21,2,   1.3255
  316N20060130,AAIW06,   189,  1,      6,      6,2,20060218, 625,-57.5043, -89.8818, 5218,   3150.3,   1.3509,  34.7237,2,  34.7257,0,    196.3,2,    196.0,2,   108.73,2,    31.96,2,     0.00,2,     2.20,2,   1.1228
  316N20060130,AAIW06,   189,  1,      5,      5,2,20060218, 625,-57.5043, -89.8818, 5218,   3553.8,   1.0938,  34.7164,2,  34.7191,0,    200.8,2,    200.6,2,   117.01,2,    32.14,2,     0.00,2,     2.21,2,   0.8323
  316N20060130,AAIW06,   189,  1,      4,      4,2,20060218, 625,-57.5043, -89.8818, 5218,   3959.5,   0.8483,  34.7106,2,  34.7110,2,    205.2,2,    205.1,2,   124.93,2,    32.44,2,     0.00,2,     2.23,2,   0.5519
  316N20060130,AAIW06,   189,  1,      3,      3,2,20060218, 625,-57.5043, -89.8818, 5218,   4366.3,   0.6353,  34.7067,2,  34.7079,2,    209.4,2,    209.5,2,   131.85,2,    32.63,2,     0.00,2,     2.24,2,   0.3018
  316N20060130,AAIW06,   189,  1,      2,      2,2,20060218, 625,-57.5043, -89.8818, 5218,   4873.9,   0.5982,  34.7054,2,  34.7054,2,    211.4,2,    211.3,2,   135.72,2,    32.67,2,     0.00,2,     2.25,2,   0.2091
  316N20060130,AAIW06,   189,  1,      1,      1,2,20060218, 625,-57.5043, -89.8818, 5218,   5382.7,   0.6467,  34.7046,2,  34.7067,0,    212.2,2,    212.1,2,   136.52,2,    32.65,2,     0.00,2,     2.25,2,   0.1956
  316N20060130,AAIW06,   190,  1,     36,     36,2,20060218,1813,-57.5070, -88.0863, 5179,      4.0,   7.8709,  34.0872,2,  34.0882,2,    285.8,2,    286.2,2,     0.76,2,    17.10,2,     0.22,2,     1.25,2,   7.8705
  316N20060130,AAIW06,   190,  1,     34,     34,2,20060218,1813,-57.5070, -88.0863, 5179,     16.6,   7.8740,  34.0874,2,-999.0000,9,   -999.0,9,   -999.0,9,  -999.00,9,  -999.00,9,  -999.00,9,  -999.00,9,   7.8724
  316N20060130,AAIW06,   190,  1,     35,     35,2,20060218,1813,-57.5070, -88.0863, 5179,     16.7,   7.8730,  34.0873,2,-999.0000,9,   -999.0,9,   -999.0,9,  -999.00,9,  -999.00,9,  -999.00,9,  -999.00,9,   7.8714
  316N20060130,AAIW06,   190,  1,     33,     33,2,20060218,1813,-57.5070, -88.0863, 5179,     17.1,   7.8725,  34.0874,2,  34.0884,2,    286.6,2,    286.2,2,     0.75,2,    17.09,2,     0.22,2,     1.26,2,   7.8708
  316N20060130,AAIW06,   190,  1,     32,     32,2,20060218,1813,-57.5070, -88.0863, 5179,     41.6,   7.8675,  34.0868,2,  34.0885,2,    287.2,2,    286.1,2,     0.74,2,    17.10,2,     0.22,2,     1.25,2,   7.8634
  316N20060130,AAIW06,   190,  1,     31,     31,2,20060218,1813,-57.5070, -88.0863, 5179,     66.9,   7.8536,  34.0859,2,  34.0867,2,    289.0,2,    286.2,2,     0.73,2,    17.09,2,     0.22,2,     1.24,2,   7.8471
  316N20060130,AAIW06,   190,  1,     30,     30,2,20060218,1813,-57.5070, -88.0863, 5179,     96.7,   5.6637,  34.1513,2,  34.1527,2,    297.1,2,    296.7,2,     5.66,2,    19.77,2,     0.58,2,     1.49,2,   5.6558
  316N20060130,AAIW06,   190,  1,     29,     29,2,20060218,1813,-57.5070, -88.0863, 5179,    140.9,   5.3902,  34.1584,2,-999.0000,9,    293.3,2,    294.1,2,     6.33,2,    21.06,2,     0.02,2,     1.50,2,   5.3790
  316N20060130,AAIW06,   190,  1,     28,     28,2,20060218,1813,-57.5070, -88.0863, 5179,    190.7,   5.2844,  34.1559,2,-999.0000,9,    293.8,2,    293.7,2,     6.32,2,    21.16,2,     0.01,2,     1.50,2,   5.2693
  316N20060130,AAIW06,   190,  1,     27,     27,2,20060218,1813,-57.5070, -88.0863, 5179,    240.3,   5.1285,  34.1402,2,-999.0000,9,    294.8,2,    295.7,2,     6.53,2,    21.43,2,     0.01,2,     1.52,2,   5.1097
  316N20060130,AAIW06,   190,  1,     26,     26,2,20060218,1813,-57.5070, -88.0863, 5179,    290.2,   5.0777,  34.1384,2,-999.0000,9,    293.2,2,    294.4,2,     6.75,2,    21.73,2,     0.01,2,     1.53,2,   5.0550
  316N20060130,AAIW06,   190,  1,     25,     25,2,20060218,1813,-57.5070, -88.0863, 5179,    339.4,   5.1220,  34.1543,2,-999.0000,9,    291.9,2,    289.0,2,     7.19,2,    22.08,2,     0.00,2,     1.55,2,   5.0952
  316N20060130,AAIW06,   190,  1,     24,     24,2,20060218,1813,-57.5070, -88.0863, 5179,    389.4,   4.9370,  34.1371,2,-999.0000,9,    287.9,2,    288.0,2,     8.08,2,    22.59,2,     0.01,2,     1.59,2,   4.9067
  316N20060130,AAIW06,   190,  1,     23,     23,2,20060218,1813,-57.5070, -88.0863, 5179,    438.0,   4.9185,  34.1530,2,-999.0000,9,    278.0,2,    276.1,2,    10.32,2,    23.86,2,     0.01,2,     1.66,2,   4.8843
  316N20060130,AAIW06,   190,  1,     22,     22,2,20060218,1813,-57.5070, -88.0863, 5179,    488.3,   4.8963,  34.1788,2,-999.0000,9,    267.8,2,    261.5,2,    13.00,2,    25.14,2,     0.00,2,     1.75,2,   4.8581
  316N20060130,AAIW06,   190,  1,     20,     20,2,20060218,1813,-57.5070, -88.0863, 5179,    573.9,   4.6337,  34.1943,2,-999.0000,9,    250.2,2,    248.2,2,    17.03,2,    26.88,2,     0.00,2,     1.87,2,   4.5896
  316N20060130,AAIW06,   190,  1,     21,     21,9,20060218,1813,-57.5070, -88.0863, 5179,    573.9,   4.6329,  34.1941,2,-999.0000,9,   -999.0,9,   -999.0,9,  -999.00,9,  -999.00,9,  -999.00,9,  -999.00,9,   4.5888
  316N20060130,AAIW06,   190,  1,     19,     19,2,20060218,1813,-57.5070, -88.0863, 5179,    673.4,   4.4038,  34.2358,2,-999.0000,9,    231.8,2,    230.7,2,    23.07,2,    28.77,2,     0.00,2,     1.99,2,   4.3527
  316N20060130,AAIW06,   190,  1,     18,     18,2,20060218,1813,-57.5070, -88.0863, 5179,    773.1,   4.0286,  34.2721,2,-999.0000,9,    219.9,2,    218.4,2,    30.24,2,    30.40,2,     0.00,2,     2.10,2,   3.9716
  316N20060130,AAIW06,   190,  1,     17,     17,2,20060218,1813,-57.5070, -88.0863, 5179,    872.6,   3.6095,  34.2977,2,-999.0000,9,    209.5,2,    210.6,2,    36.95,2,    31.67,2,     0.00,2,     2.20,2,   3.5473
  316N20060130,AAIW06,   190,  1,     16,     16,2,20060218,1813,-57.5070, -88.0863, 5179,    972.8,   3.2980,  34.3350,2,-999.0000,9,    201.5,2,    201.4,2,    44.35,2,    32.70,2,     0.00,2,     2.26,2,   3.2302
  316N20060130,AAIW06,   190,  1,     15,     15,2,20060218,1813,-57.5070, -88.0863, 5179,   1072.9,   3.0471,  34.3743,2,-999.0000,9,    193.2,2,    193.2,2,    51.51,2,    33.46,2,     0.00,2,     2.32,2,   2.9735
  316N20060130,AAIW06,   190,  1,     14,     14,2,20060218,1813,-57.5070, -88.0863, 5179,   1173.3,   2.8459,  34.4258,2,-999.0000,9,    185.4,2,    184.3,2,    58.69,2,    33.70,2,     0.00,2,     2.37,2,   2.7662
  316N20060130,AAIW06,   190,  1,     13,     13,2,20060218,1813,-57.5070, -88.0863, 5179,   1372.8,   2.5737,  34.5183,2,-999.0000,9,    175.2,2,    175.0,2,    69.68,2,    34.21,2,     0.00,2,     2.39,2,   2.4810
  316N20060130,AAIW06,   190,  1,     12,     12,2,20060218,1813,-57.5070, -88.0863, 5179,   1573.7,   2.4331,  34.5914,2,-999.0000,9,    171.4,2,    171.2,2,    76.64,2,    33.85,2,     0.00,2,     2.36,2,   2.3259
  316N20060130,AAIW06,   190,  1,     11,     11,2,20060218,1813,-57.5070, -88.0863, 5179,   1774.0,   2.3072,  34.6467,2,-999.0000,9,    171.9,2,    172.3,2,    82.02,2,    33.28,2,     0.00,2,     2.32,2,   2.1851
  316N20060130,AAIW06,   190,  1,     10,     10,2,20060218,1813,-57.5070, -88.0863, 5179,   1976.6,   2.1747,  34.6816,2,-999.0000,9,    173.3,2,    173.6,2,    89.22,2,    32.60,2,     0.00,2,     2.29,2,   2.0374
  316N20060130,AAIW06,   190,  1,      9,      9,2,20060218,1813,-57.5070, -88.0863, 5179,   2226.9,   1.9858,  34.7037,2,-999.0000,9,    175.7,2,    175.6,2,    96.42,2,    32.60,2,     0.00,2,     2.28,2,   1.8299
  316N20060130,AAIW06,   190,  1,      8,      8,2,20060218,1813,-57.5070, -88.0863, 5179,   2591.6,   1.7473,  34.7194,2,-999.0000,9,    180.4,2,    183.7,0,   101.60,2,    32.13,2,     0.00,2,     2.23,2,   1.5631
  316N20060130,AAIW06,   190,  1,      7,      7,2,20060218,1813,-57.5070, -88.0863, 5179,   2863.5,   1.5732,  34.7241,2,  34.7241,2,    189.6,2,    189.5,2,   104.76,2,    31.93,2,     0.00,2,     2.23,2,   1.3674
  316N20060130,AAIW06,   190,  1,      6,      6,2,20060218,1813,-57.5070, -88.0863, 5179,   3136.9,   1.4351,  34.7244,2,  34.7237,2,    193.7,2,    193.8,2,   108.13,2,    31.87,2,     0.00,2,     2.22,2,   1.2063
  316N20060130,AAIW06,   190,  1,      5,      5,2,20060218,1813,-57.5070, -88.0863, 5179,   3520.2,   1.1945,  34.7192,2,  34.7180,2,    198.9,2,    198.9,2,   115.82,2,    31.97,2,     0.00,2,     2.22,2,   0.9338
  316N20060130,AAIW06,   190,  1,      4,      4,2,20060218,1813,-57.5070, -88.0863, 5179,   3928.2,   0.9485,  34.7122,2,  34.7116,2,    203.6,2,    203.7,2,   122.84,2,    32.06,2,     0.00,2,     2.23,2,   0.6525
  316N20060130,AAIW06,   190,  1,      3,      3,2,20060218,1813,-57.5070, -88.0863, 5179,   4437.6,   0.6550,  34.7065,2,  34.7059,2,    209.3,2,    209.4,2,   132.84,2,    32.47,2,     0.00,2,     2.26,2,   0.3131
  316N20060130,AAIW06,   190,  1,      2,      2,2,20060218,1813,-57.5070, -88.0863, 5179,   4945.4,   0.5967,  34.7051,2,  34.7041,2,    211.3,2,    211.1,2,   136.71,2,    32.62,2,     0.00,2,     2.27,2,   0.1993
  316N20060130,AAIW06,   190,  1,      1,      1,2,20060218,1813,-57.5070, -88.0863, 5179,   5275.4,   0.6085,  34.7043,2,  34.7037,2,    212.1,2,    212.0,2,   138.74,2,    32.61,2,     0.00,2,     2.26,2,   0.1717