BOTTLE,20081218PRINUNIVRMK
EXPOCODE,SECT_ID,STNNBR,CASTNO,SAMPNO,BTLNBR,BTLNBR_FLAG_W,DATE,TIME,LATITUDE,LONGITUDE,DEPTH,CTDPRS,CTDTMP,CTDSAL,CTDSAL_FLAG_W,SALNTY,SALNTY_FLAG_W,CTDOXY,CTDOXY_FLAG_W,OXYGEN,OXYGEN_FLAG_W,SILCAT,SILCAT_FLAG_W,NITRAT,NITRAT_FLAG_W,NITRIT,NITRIT_FLAG_W,PHSPHT,PHSPHT_FLAG_W,THETA
,,,,,,,,,,,METERS,DBARS,ITS-90,PSS-78,,PSS-78,,UMOL/KG,,UMOL/KG,,UMOL/KG,,UMOL/KG,,UMOL/KG,,UMOL/KG,,DEGC
  316N20060130,AAIW06,   146,  1,     36,     36,2,20060203,2108,-57.5482, -77.0000, 4769,      5.0,   7.8666,  34.0734,2,  34.0711,2,    291.5,2,    291.7,2,     0.00,2,    17.63,2,     0.21,2,     1.24,2,   7.8661
  316N20060130,AAIW06,   146,  1,     35,     35,2,20060203,2108,-57.5482, -77.0000, 4769,     31.8,   7.8567,  34.0741,2,  34.0725,2,    292.9,2,    292.1,2,     0.00,2,    17.63,2,     0.21,2,     1.24,2,   7.8536
  316N20060130,AAIW06,   146,  1,     34,     34,2,20060203,2108,-57.5482, -77.0000, 4769,     56.6,   7.7933,  34.0754,2,  34.0733,2,    293.4,2,    292.3,2,     0.00,2,    17.68,2,     0.21,2,     1.25,2,   7.7878
  316N20060130,AAIW06,   146,  1,     33,     33,2,20060203,2108,-57.5482, -77.0000, 4769,     82.7,   5.7357,  34.1075,2,  34.1029,2,    303.4,2,    302.4,2,     0.32,2,    19.64,2,     0.19,2,     1.56,2,   5.7289
  316N20060130,AAIW06,   146,  1,     32,     32,2,20060203,2108,-57.5482, -77.0000, 4769,    106.8,   5.1133,  34.1287,2,  34.1258,2,    295.9,2,    298.0,2,     5.89,2,    20.75,2,     0.51,2,     1.56,2,   5.1051
  316N20060130,AAIW06,   146,  1,     31,     31,2,20060203,2108,-57.5482, -77.0000, 4769,    156.8,   4.9084,  34.1223,2,  34.1318,0,    299.0,2,    298.7,2,     6.06,2,    21.58,2,     0.17,2,     1.55,2,   4.8965
  316N20060130,AAIW06,   146,  1,     30,     30,2,20060203,2108,-57.5482, -77.0000, 4769,    206.5,   4.8353,  34.1196,2,  34.1194,2,    299.5,2,    298.7,2,     6.23,2,    21.78,2,     0.02,2,     1.54,2,   4.8197
  316N20060130,AAIW06,   146,  1,     29,     29,2,20060203,2108,-57.5482, -77.0000, 4769,    256.1,   4.7120,  34.1105,2,  34.1084,2,    296.7,2,    298.1,2,     6.79,2,    22.24,2,     0.02,2,     1.57,2,   4.6928
  316N20060130,AAIW06,   146,  1,     28,     28,2,20060203,2108,-57.5482, -77.0000, 4769,    306.6,   4.7408,  34.1229,2,  34.1239,2,    296.3,2,    297.8,2,     6.35,2,    21.90,2,     0.01,2,     1.56,2,   4.7176
  316N20060130,AAIW06,   146,  1,     27,     27,2,20060203,2108,-57.5482, -77.0000, 4769,    355.7,   4.6498,  34.1190,2,  34.1187,2,    293.5,2,    290.4,2,     7.72,2,    22.98,2,     0.01,2,     1.62,2,   4.6230
  316N20060130,AAIW06,   146,  1,     26,     26,2,20060203,2108,-57.5482, -77.0000, 4769,    405.8,   4.4830,  34.1135,2,  34.1069,2,    283.9,2,    287.2,2,     9.09,2,    23.73,2,     0.01,2,     1.67,2,   4.4529
  316N20060130,AAIW06,   146,  1,     25,     25,2,20060203,2108,-57.5482, -77.0000, 4769,    455.8,   4.5376,  34.1423,2,  34.1394,2,    286.5,2,    271.8,2,    11.66,2,    24.97,2,     0.01,2,     1.75,2,   4.5033
  316N20060130,AAIW06,   146,  1,     24,     24,2,20060203,2108,-57.5482, -77.0000, 4769,    580.4,   4.2237,  34.1670,2,  34.1676,2,    264.0,2,    253.9,2,    17.24,2,    27.06,2,     0.01,2,     1.89,2,   4.1809
  316N20060130,AAIW06,   146,  1,     22,     22,2,20060203,2108,-57.5482, -77.0000, 4769,    706.0,   3.8977,  34.2181,2,  34.2156,2,    233.5,2,    235.0,2,    25.02,2,    29.30,2,     0.00,2,     2.04,2,   3.8468
  316N20060130,AAIW06,   146,  1,     23,     23,9,20060203,2108,-57.5482, -77.0000, 4769,    706.0,   3.8990,  34.2178,2,-999.0000,9,   -999.0,9,   -999.0,9,  -999.00,9,  -999.00,9,  -999.00,9,  -999.00,9,   3.8480
  316N20060130,AAIW06,   146,  1,     21,     21,9,20060203,2108,-57.5482, -77.0000, 4769,    804.4,   3.6049,  34.2743,2,-999.0000,9,   -999.0,9,   -999.0,9,  -999.00,9,  -999.00,9,  -999.00,9,  -999.00,9,   3.5480
  316N20060130,AAIW06,   146,  1,     20,     20,2,20060203,2108,-57.5482, -77.0000, 4769,    805.3,   3.6072,  34.2751,2,  34.2733,2,    220.8,2,    217.7,2,    33.82,2,    30.99,2,     0.00,2,     2.17,2,   3.5502
  316N20060130,AAIW06,   146,  1,     19,     19,2,20060203,2108,-57.5482, -77.0000, 4769,    905.4,   3.2134,  34.2951,2,  34.2943,2,    214.4,2,    212.8,2,    39.60,2,    31.99,2,     0.00,2,     2.24,2,   3.1514
  316N20060130,AAIW06,   146,  1,     18,     18,2,20060203,2108,-57.5482, -77.0000, 4769,   1006.3,   3.1256,  34.3575,2,  34.3559,2,    197.9,2,    196.9,2,    47.80,2,    33.09,2,     0.00,2,     2.31,2,   3.0565
  316N20060130,AAIW06,   146,  1,     17,     17,2,20060203,2108,-57.5482, -77.0000, 4769,   1105.6,   2.8947,  34.3982,2,  34.4064,0,    189.8,2,    189.2,2,    54.60,2,    33.58,2,     0.00,2,     2.36,2,   2.8198
  316N20060130,AAIW06,   146,  1,     16,     16,2,20060203,2108,-57.5482, -77.0000, 4769,   1205.2,   2.7371,  34.4482,2,  34.4459,2,    181.8,2,    181.5,2,    60.80,2,    33.98,2,     0.00,2,     2.38,2,   2.6559
  316N20060130,AAIW06,   146,  1,     15,     15,2,20060203,2108,-57.5482, -77.0000, 4769,   1304.1,   2.6327,  34.4940,2,  34.4928,2,    176.4,2,    176.4,2,    66.41,2,    34.07,2,     0.00,2,     2.39,2,   2.5448
  316N20060130,AAIW06,   146,  1,     14,     14,2,20060203,2108,-57.5482, -77.0000, 4769,   1403.6,   2.5085,  34.5401,2,  34.5382,2,    173.0,2,    172.8,2,    71.01,2,    34.17,2,     0.00,2,     2.39,2,   2.4140
  316N20060130,AAIW06,   146,  1,     13,     13,2,20060203,2108,-57.5482, -77.0000, 4769,   1503.6,   2.4374,  34.5759,2,  34.5733,2,    171.2,2,    171.4,2,    75.22,2,    33.82,2,     0.00,2,     2.37,2,   2.3358
  316N20060130,AAIW06,   146,  1,     12,     12,2,20060203,2108,-57.5482, -77.0000, 4769,   1602.6,   2.3799,  34.6078,2,  34.6061,2,    170.8,2,    170.8,2,    77.21,2,    33.57,2,     0.00,2,     2.35,2,   2.2709
  316N20060130,AAIW06,   146,  1,     11,     11,2,20060203,2108,-57.5482, -77.0000, 4769,   1701.8,   2.3171,  34.6362,2,  34.6372,2,    171.5,2,    171.9,2,    80.62,2,    33.22,2,     0.00,2,     2.34,2,   2.2008
  316N20060130,AAIW06,   146,  1,     10,     10,2,20060203,2108,-57.5482, -77.0000, 4769,   1801.5,   2.2618,  34.6581,2,  34.6593,2,    172.7,2,    172.8,2,    82.62,2,    32.82,2,     0.00,2,     2.31,2,   2.1380
  316N20060130,AAIW06,   146,  1,      9,      9,2,20060203,2108,-57.5482, -77.0000, 4769,   1901.9,   2.2075,  34.6752,2,  34.6766,2,    174.1,2,    174.6,2,    84.62,2,    32.57,2,     0.00,2,     2.29,2,   2.0760
  316N20060130,AAIW06,   146,  1,      8,      8,2,20060203,2108,-57.5482, -77.0000, 4769,   2000.4,   2.1504,  34.6900,2,  34.6896,2,    176.3,2,    176.3,2,    86.01,2,    32.37,2,     0.00,2,     2.27,2,   2.0114
  316N20060130,AAIW06,   146,  1,      7,      7,2,20060203,2108,-57.5482, -77.0000, 4769,   2293.8,   1.9481,  34.7138,2,  34.7134,2,    179.6,2,    179.8,2,    93.69,2,    32.02,2,     0.00,2,     2.25,2,   1.7869
  316N20060130,AAIW06,   146,  1,      6,      6,2,20060203,2108,-57.5482, -77.0000, 4769,   2587.9,   1.7083,  34.7230,2,  34.7224,2,    185.5,2,    185.7,2,   100.78,2,    31.82,2,     0.00,2,     2.23,2,   1.5252
  316N20060130,AAIW06,   146,  1,      5,      5,2,20060203,2108,-57.5482, -77.0000, 4769,   2880.6,   1.5440,  34.7257,2,  34.7256,2,    191.0,2,    190.9,2,   104.42,2,    31.67,2,     0.00,2,     2.22,2,   1.3372
  316N20060130,AAIW06,   146,  1,      4,      4,2,20060203,2108,-57.5482, -77.0000, 4769,   3267.8,   1.2868,  34.7223,2,  34.7205,0,    196.4,2,    196.7,2,   111.55,2,    31.76,2,     0.00,2,     2.22,2,   1.0488
  316N20060130,AAIW06,   146,  1,      3,      3,2,20060203,2108,-57.5482, -77.0000, 4769,   3883.7,   0.9087,  34.7120,2,  34.7105,0,    204.2,2,    203.1,0,   123.40,2,    32.12,2,     0.00,2,     2.25,2,   0.6185
  316N20060130,AAIW06,   146,  1,      2,      2,2,20060203,2108,-57.5482, -77.0000, 4769,   4304.8,   0.6750,  34.7077,2,  34.7067,2,    208.5,2,    208.3,2,   131.82,2,    32.31,2,     0.00,2,     2.26,2,   0.3469
  316N20060130,AAIW06,   146,  1,      1,      1,2,20060203,2108,-57.5482, -77.0000, 4769,   4841.4,   0.6269,  34.7057,2,  34.7062,2,    210.3,2,    210.4,2,   135.72,2,    32.36,2,     0.00,2,     2.27,2,   0.2405
  316N20060130,AAIW06,   147,  1,     36,     36,2,20060204, 457,-58.1220, -76.9952, 4954,      8.4,   7.7425,  34.0754,2,  34.0748,2,    291.8,2,    292.3,2,     0.00,2,    17.74,2,     0.21,2,     1.26,2,   7.7417
  316N20060130,AAIW06,   147,  1,     35,     35,2,20060204, 457,-58.1220, -76.9952, 4954,     28.1,   7.7298,  34.0774,2,  34.0766,2,    293.1,2,    292.4,2,     0.00,2,    17.78,2,     0.21,2,     1.27,2,   7.7271
  316N20060130,AAIW06,   147,  1,     34,     34,2,20060204, 457,-58.1220, -76.9952, 4954,     52.3,   7.6563,  34.0778,2,  34.0787,2,    293.3,2,    292.5,2,     0.00,2,    17.83,2,     0.21,2,     1.27,2,   7.6513
  316N20060130,AAIW06,   147,  1,     33,     33,2,20060204, 457,-58.1220, -76.9952, 4954,     77.5,   5.7009,  34.1077,2,  34.1079,2,    302.2,2,    301.8,2,     1.59,2,    19.75,2,     0.19,2,     1.55,2,   5.6946
  316N20060130,AAIW06,   147,  1,     32,     32,2,20060204, 457,-58.1220, -76.9952, 4954,     97.2,   5.0938,  34.1272,2,  34.1243,2,    298.2,2,    298.3,2,     5.90,2,    21.06,2,     0.44,2,     1.55,2,   5.0863
  316N20060130,AAIW06,   147,  1,     31,     31,9,20060204, 457,-58.1220, -76.9952, 4954,    132.6,   4.9822,  34.1292,2,-999.0000,9,   -999.0,9,   -999.0,9,  -999.00,9,  -999.00,9,  -999.00,9,  -999.00,9,   4.9721
  316N20060130,AAIW06,   147,  1,     30,     30,2,20060204, 457,-58.1220, -76.9952, 4954,    177.5,   4.9413,  34.1321,2,  34.1312,2,    299.2,2,    299.9,2,     5.80,2,    21.58,2,     0.02,2,     1.53,2,   4.9278
  316N20060130,AAIW06,   147,  1,     29,     29,2,20060204, 457,-58.1220, -76.9952, 4954,    226.9,   4.8876,  34.1300,2,  34.1282,2,    297.7,2,    298.4,2,     6.11,2,    21.53,2,     0.01,2,     1.54,2,   4.8703
  316N20060130,AAIW06,   147,  1,     28,     28,2,20060204, 457,-58.1220, -76.9952, 4954,    276.4,   4.7957,  34.1242,2,  34.1213,2,    295.6,2,    296.4,2,     6.41,2,    22.17,2,     0.01,2,     1.56,2,   4.7748
  316N20060130,AAIW06,   147,  1,     27,     27,2,20060204, 457,-58.1220, -76.9952, 4954,    326.6,   4.7251,  34.1220,2,  34.1200,2,    296.1,2,    295.8,2,     6.52,2,    22.33,2,     0.01,2,     1.58,2,   4.7004
  316N20060130,AAIW06,   147,  1,     26,     26,2,20060204, 457,-58.1220, -76.9952, 4954,    376.1,   4.5838,  34.1130,2,  34.1106,2,    291.7,2,    289.0,2,     8.02,2,    23.32,2,     0.01,2,     1.64,2,   4.5556
  316N20060130,AAIW06,   147,  1,     25,     25,2,20060204, 457,-58.1220, -76.9952, 4954,    425.5,   4.5468,  34.1262,2,  34.1250,2,    282.7,2,    279.3,2,     9.94,2,    24.33,2,     0.01,2,     1.71,2,   4.5149
  316N20060130,AAIW06,   147,  1,     24,     24,2,20060204, 457,-58.1220, -76.9952, 4954,    475.1,   4.5328,  34.1486,2,  34.1468,2,    269.8,2,    267.8,2,    12.04,2,    25.33,2,     0.01,2,     1.77,2,   4.4970
  316N20060130,AAIW06,   147,  1,     23,     23,2,20060204, 457,-58.1220, -76.9952, 4954,    525.1,   4.3257,  34.1459,2,  34.1419,2,    263.5,2,    264.8,2,    13.75,2,    26.18,2,     0.01,2,     1.83,2,   4.2868
  316N20060130,AAIW06,   147,  1,     22,     22,2,20060204, 457,-58.1220, -76.9952, 4954,    645.2,   4.2661,  34.2362,2,  34.2336,2,    233.7,2,    230.2,2,    22.87,2,    28.89,2,     0.00,2,     2.01,2,   4.2180
  316N20060130,AAIW06,   147,  1,     20,     20,2,20060204, 457,-58.1220, -76.9952, 4954,    743.6,   3.8695,  34.2628,2,  34.2606,2,    221.6,2,    220.9,2,    29.19,2,    30.44,2,     0.00,2,     2.12,2,   3.8157
  316N20060130,AAIW06,   147,  1,     21,     21,9,20060204, 457,-58.1220, -76.9952, 4954,    743.8,   3.8677,  34.2631,2,-999.0000,9,   -999.0,9,   -999.0,9,  -999.00,9,  -999.00,9,  -999.00,9,  -999.00,9,   3.8139
  316N20060130,AAIW06,   147,  1,     19,     19,2,20060204, 457,-58.1220, -76.9952, 4954,    843.8,   3.5173,  34.2877,2,  34.2852,2,    214.3,2,    214.1,2,    35.11,2,    31.44,2,     0.00,2,     2.20,2,   3.4579
  316N20060130,AAIW06,   147,  1,     18,     18,2,20060204, 457,-58.1220, -76.9952, 4954,    943.3,   3.2446,  34.3418,2,  34.3397,2,    203.4,2,    200.0,2,    44.44,2,    32.70,2,     0.00,2,     2.30,2,   3.1794
  316N20060130,AAIW06,   147,  1,     17,     17,2,20060204, 457,-58.1220, -76.9952, 4954,   1042.3,   2.9978,  34.3899,2,  34.3887,2,    193.2,2,    189.9,2,    52.19,2,    33.40,2,     0.00,2,     2.35,2,   2.9269
  316N20060130,AAIW06,   147,  1,     16,     16,2,20060204, 457,-58.1220, -76.9952, 4954,   1142.4,   2.8407,  34.4294,2,  34.4268,2,    182.9,2,    183.4,2,    57.73,2,    33.85,2,     0.00,2,     2.38,2,   2.7634
  316N20060130,AAIW06,   147,  1,     15,     15,2,20060204, 457,-58.1220, -76.9952, 4954,   1241.9,   2.6970,  34.4717,2,  34.4700,2,    177.3,2,    178.7,2,    63.27,2,    34.04,2,     0.00,2,     2.39,2,   2.6133
  316N20060130,AAIW06,   147,  1,     14,     14,2,20060204, 457,-58.1220, -76.9952, 4954,   1341.4,   2.5974,  34.5169,2,  34.5165,2,    173.9,2,    173.4,2,    68.42,2,    34.14,2,     0.00,2,     2.40,2,   2.5069
  316N20060130,AAIW06,   147,  1,     13,     13,2,20060204, 457,-58.1220, -76.9952, 4954,   1439.7,   2.5191,  34.5537,2,  34.5524,2,    170.7,2,    170.9,2,    72.97,2,    33.98,2,     0.00,2,     2.39,2,   2.4216
  316N20060130,AAIW06,   147,  1,     12,     12,2,20060204, 457,-58.1220, -76.9952, 4954,   1538.3,   2.4450,  34.5851,2,  34.5844,2,    166.4,2,    169.0,2,    75.91,2,    33.84,2,     0.00,2,     2.37,2,   2.3405
  316N20060130,AAIW06,   147,  1,     11,     11,2,20060204, 457,-58.1220, -76.9952, 4954,   1636.9,   2.3915,  34.6124,2,  34.6123,2,    170.4,2,    169.4,2,    78.25,2,    33.63,2,     0.00,2,     2.36,2,   2.2796
  316N20060130,AAIW06,   147,  1,     10,     10,2,20060204, 457,-58.1220, -76.9952, 4954,   1736.4,   2.3196,  34.6389,2,  34.6390,2,    170.8,2,    170.9,2,    80.39,2,    33.27,2,     0.00,2,     2.33,2,   2.2004
  316N20060130,AAIW06,   147,  1,      9,      9,2,20060204, 457,-58.1220, -76.9952, 4954,   2032.0,   2.1539,  34.6893,2,  34.6887,2,    175.6,2,    175.4,2,    86.17,2,    32.42,2,     0.00,2,     2.28,2,   2.0122
  316N20060130,AAIW06,   147,  1,      8,      8,2,20060204, 457,-58.1220, -76.9952, 4954,   2341.2,   1.9382,  34.7128,2,  34.7117,2,    179.4,2,    179.0,2,    94.40,2,    32.26,2,     0.00,2,     2.26,2,   1.7730
  316N20060130,AAIW06,   147,  1,      7,      7,2,20060204, 457,-58.1220, -76.9952, 4954,   2688.1,   1.6988,  34.7216,2,  34.7215,2,    182.2,2,    184.9,2,   101.43,2,    31.91,2,     0.00,2,     2.24,2,   1.5068
  316N20060130,AAIW06,   147,  1,      6,      6,2,20060204, 457,-58.1220, -76.9952, 4954,   3036.6,   1.5127,  34.7262,2,  34.7260,2,    191.6,2,    191.9,2,  -999.00,9,  -999.00,9,  -999.00,9,  -999.00,9,   1.2918
  316N20060130,AAIW06,   147,  1,      5,      5,2,20060204, 457,-58.1220, -76.9952, 4954,   3387.3,   1.3225,  34.7230,2,  34.7210,2,    196.5,2,    196.2,2,   109.92,2,    31.70,2,     0.00,2,     2.22,2,   1.0719
  316N20060130,AAIW06,   147,  1,      4,      4,2,20060204, 457,-58.1220, -76.9952, 4954,   3787.2,   1.0116,  34.7146,2,  34.7120,2,    201.7,2,    202.3,2,   119.45,2,    32.05,2,     0.00,2,     2.25,2,   0.7285
  316N20060130,AAIW06,   147,  1,      3,      3,2,20060204, 457,-58.1220, -76.9952, 4954,   4191.4,   0.7395,  34.7089,2,  34.7077,2,    207.2,2,    207.7,2,   129.04,2,    32.25,2,     0.00,2,     2.26,2,   0.4217
  316N20060130,AAIW06,   147,  1,      2,      2,2,20060204, 457,-58.1220, -76.9952, 4954,   4599.7,   0.6387,  34.7068,2,  34.7052,0,    209.6,2,    209.7,2,   133.90,2,    32.35,2,     0.00,2,     2.27,2,   0.2793
  316N20060130,AAIW06,   147,  1,      1,      1,2,20060204, 457,-58.1220, -76.9952, 4954,   5031.3,   0.6269,  34.7055,2,  34.7052,2,    210.8,2,    210.5,2,   136.52,2,    32.45,2,     0.00,2,     2.28,2,   0.2185