BOTTLE,20081218PRINUNIVRMK
EXPOCODE,SECT_ID,STNNBR,CASTNO,SAMPNO,BTLNBR,BTLNBR_FLAG_W,DATE,TIME,LATITUDE,LONGITUDE,DEPTH,CTDPRS,CTDTMP,CTDSAL,CTDSAL_FLAG_W,SALNTY,SALNTY_FLAG_W,CTDOXY,CTDOXY_FLAG_W,OXYGEN,OXYGEN_FLAG_W,SILCAT,SILCAT_FLAG_W,NITRAT,NITRAT_FLAG_W,NITRIT,NITRIT_FLAG_W,PHSPHT,PHSPHT_FLAG_W,THETA
,,,,,,,,,,,METERS,DBARS,ITS-90,PSS-78,,PSS-78,,UMOL/KG,,UMOL/KG,,UMOL/KG,,UMOL/KG,,UMOL/KG,,UMOL/KG,,DEGC
  316N20060130,AAIW06,   160,  1,     36,     36,2,20060208,1544,-58.6237, -78.9990, 4952,      4.7,   7.2603,  34.0190,2,  34.0182,2,    295.2,2,    296.0,2,     0.41,2,    18.77,2,     0.21,2,     1.31,2,   7.2599
  316N20060130,AAIW06,   160,  1,     34,     34,2,20060208,1544,-58.6237, -78.9990, 4952,     15.4,   7.2569,  34.0193,2,-999.0000,9,   -999.0,9,   -999.0,9,  -999.00,9,  -999.00,9,  -999.00,9,  -999.00,9,   7.2555
  316N20060130,AAIW06,   160,  1,     35,     35,2,20060208,1544,-58.6237, -78.9990, 4952,     15.7,   7.2577,  34.0191,2,-999.0000,9,   -999.0,9,   -999.0,9,  -999.00,9,  -999.00,9,  -999.00,9,  -999.00,9,   7.2562
  316N20060130,AAIW06,   160,  1,     33,     33,2,20060208,1544,-58.6237, -78.9990, 4952,     16.2,   7.2580,  34.0193,2,  34.0182,2,    296.3,2,    295.9,2,     0.39,2,    18.82,2,     0.21,2,     1.31,2,   7.2565
  316N20060130,AAIW06,   160,  1,     32,     32,2,20060208,1544,-58.6237, -78.9990, 4952,     38.2,   7.2450,  34.0195,2,  34.0192,2,    297.0,2,    296.0,2,     0.37,2,    18.77,2,     0.21,2,     1.31,2,   7.2414
  316N20060130,AAIW06,   160,  1,     31,     31,2,20060208,1544,-58.6237, -78.9990, 4952,     66.6,   6.0612,  34.0625,2,  34.0612,0,    306.6,2,    307.9,2,     0.36,2,    19.05,2,     0.19,2,     1.41,2,   6.0556
  316N20060130,AAIW06,   160,  1,     30,     30,2,20060208,1544,-58.6237, -78.9990, 4952,    121.0,   4.8246,  34.1065,2,  34.1059,2,    298.5,2,    298.4,2,     7.51,2,    21.89,2,     0.33,2,     1.58,2,   4.8155
  316N20060130,AAIW06,   160,  1,     29,     29,2,20060208,1544,-58.6237, -78.9990, 4952,    140.0,   4.7096,  34.1007,2,-999.0000,9,    299.4,2,    297.9,2,     7.90,2,    22.35,2,     0.04,2,     1.58,2,   4.6992
  316N20060130,AAIW06,   160,  1,     28,     28,2,20060208,1544,-58.6237, -78.9990, 4952,    190.1,   4.5439,  34.0937,2,-999.0000,9,    299.2,2,    298.8,2,     8.29,2,    22.63,2,     0.02,2,     1.60,2,   4.5300
  316N20060130,AAIW06,   160,  1,     27,     27,2,20060208,1544,-58.6237, -78.9990, 4952,    240.7,   4.4127,  34.0901,2,-999.0000,9,    296.6,2,    298.5,2,     8.68,2,    22.78,2,     0.01,2,     1.63,2,   4.3953
  316N20060130,AAIW06,   160,  1,     26,     26,2,20060208,1544,-58.6237, -78.9990, 4952,    289.3,   4.2806,  34.0856,2,-999.0000,9,    299.2,2,    292.3,2,     9.90,2,    23.77,2,     0.01,2,     1.68,2,   4.2598
  316N20060130,AAIW06,   160,  1,     25,     25,2,20060208,1544,-58.6237, -78.9990, 4952,    338.6,   4.1902,  34.0957,2,-999.0000,9,    286.2,2,    287.2,2,    11.31,2,    24.40,2,     0.01,2,     1.72,2,   4.1660
  316N20060130,AAIW06,   160,  1,     24,     24,2,20060208,1544,-58.6237, -78.9990, 4952,    388.1,   4.0281,  34.0950,2,-999.0000,9,    286.9,2,    281.8,2,    13.13,2,    24.96,2,     0.02,2,     1.79,2,   4.0007
  316N20060130,AAIW06,   160,  1,     23,     23,2,20060208,1544,-58.6237, -78.9990, 4952,    436.8,   4.0437,  34.1217,2,-999.0000,9,    280.7,2,    271.4,2,    15.17,2,    26.16,2,     0.01,2,     1.84,2,   4.0126
  316N20060130,AAIW06,   160,  1,     22,     22,2,20060208,1544,-58.6237, -78.9990, 4952,    485.5,   4.0063,  34.1507,2,-999.0000,9,    259.6,2,    259.2,2,    18.42,2,    27.14,2,     0.00,2,     1.90,2,   3.9717
  316N20060130,AAIW06,   160,  1,     20,     20,2,20060208,1544,-58.6237, -78.9990, 4952,    569.9,   3.9807,  34.2202,2,-999.0000,9,    236.6,2,    234.4,2,    25.56,2,    29.26,2,     0.00,2,     2.03,2,   3.9398
  316N20060130,AAIW06,   160,  1,     21,     21,9,20060208,1544,-58.6237, -78.9990, 4952,    570.2,   3.9767,  34.2204,2,-999.0000,9,   -999.0,9,   -999.0,9,  -999.00,9,  -999.00,9,  -999.00,9,  -999.00,9,   3.9358
  316N20060130,AAIW06,   160,  1,     19,     19,2,20060208,1544,-58.6237, -78.9990, 4952,    668.4,   3.7123,  34.2594,2,-999.0000,9,    221.8,2,    223.1,2,    31.67,2,    30.52,2,     0.00,2,     2.13,2,   3.6652
  316N20060130,AAIW06,   160,  1,     18,     18,2,20060208,1544,-58.6237, -78.9990, 4952,    769.0,   3.2967,  34.2904,2,-999.0000,9,    211.9,2,    212.8,2,    39.42,2,    31.86,2,     0.00,2,     2.24,2,   3.2444
  316N20060130,AAIW06,   160,  1,     17,     17,2,20060208,1544,-58.6237, -78.9990, 4952,    869.4,   3.0723,  34.3478,2,-999.0000,9,    202.2,2,    198.8,2,    47.99,2,    33.01,2,     0.00,2,     2.31,2,   3.0139
  316N20060130,AAIW06,   160,  1,     16,     16,2,20060208,1544,-58.6237, -78.9990, 4952,    968.4,   2.8811,  34.3951,2,-999.0000,9,    189.8,2,    189.5,2,    54.94,2,    33.68,2,     0.00,2,     2.36,2,   2.8167
  316N20060130,AAIW06,   160,  1,     15,     15,2,20060208,1544,-58.6237, -78.9990, 4952,   1067.2,   2.7418,  34.4476,2,-999.0000,9,    182.6,2,    181.7,2,    61.88,2,    33.99,2,     0.00,2,     2.40,2,   2.6710
  316N20060130,AAIW06,   160,  1,     14,     14,2,20060208,1544,-58.6237, -78.9990, 4952,   1167.3,   2.6398,  34.4914,2,-999.0000,9,    177.1,2,    177.0,2,    66.99,2,    34.10,2,     0.00,2,     2.40,2,   2.5623
  316N20060130,AAIW06,   160,  1,     13,     13,2,20060208,1544,-58.6237, -78.9990, 4952,   1365.2,   2.4531,  34.5742,2,-999.0000,9,    171.2,2,    171.3,2,    75.59,2,    33.79,2,     0.00,2,     2.38,2,   2.3621
  316N20060130,AAIW06,   160,  1,     12,     12,2,20060208,1544,-58.6237, -78.9990, 4952,   1565.1,   2.3179,  34.6348,2,-999.0000,9,    171.0,2,    171.2,2,    81.53,2,    33.27,2,     0.00,2,     2.35,2,   2.2126
  316N20060130,AAIW06,   160,  1,     11,     11,2,20060208,1544,-58.6237, -78.9990, 4952,   1766.9,   2.2044,  34.6742,2,-999.0000,9,    174.1,2,    174.1,2,    85.21,2,    32.66,2,     0.00,2,     2.30,2,   2.0842
  316N20060130,AAIW06,   160,  1,     10,     10,2,20060208,1544,-58.6237, -78.9990, 4952,   1966.0,   2.0789,  34.7019,2,-999.0000,9,    178.0,2,    178.0,2,    89.10,2,    32.14,2,     0.00,2,     2.26,2,   1.9439
  316N20060130,AAIW06,   160,  1,      9,      9,2,20060208,1544,-58.6237, -78.9990, 4952,   2213.9,   1.8957,  34.7201,2,  34.7208,2,    182.6,2,    182.7,2,    94.86,2,    31.73,2,     0.00,2,     2.24,2,   1.7424
  316N20060130,AAIW06,   160,  1,      8,      8,2,20060208,1544,-58.6237, -78.9990, 4952,   2511.9,   1.6582,  34.7256,2,  34.7261,2,    187.2,2,    187.6,2,   101.86,2,    31.68,2,     0.00,2,     2.23,2,   1.4829
  316N20060130,AAIW06,   160,  1,      7,      7,2,20060208,1544,-58.6237, -78.9990, 4952,   2803.1,   1.4841,  34.7266,2,  34.7269,2,    192.0,2,    192.1,2,   106.39,2,    31.63,2,     0.00,2,     2.23,2,   1.2858
  316N20060130,AAIW06,   160,  1,      6,      6,2,20060208,1544,-58.6237, -78.9990, 4952,   3101.1,   1.3194,  34.7244,2,  34.7260,0,    196.3,2,    196.3,2,   110.93,2,    31.74,2,     0.00,2,     2.23,2,   1.0967
  316N20060130,AAIW06,   160,  1,      5,      5,2,20060208,1544,-58.6237, -78.9990, 4952,   3485.0,   1.0768,  34.7172,2,  34.7173,2,    200.8,2,    201.1,2,   118.59,2,    31.84,2,     0.00,2,     2.23,2,   0.8226
  316N20060130,AAIW06,   160,  1,      4,      4,2,20060208,1544,-58.6237, -78.9990, 4952,   3789.5,   0.9220,  34.7120,2,  34.7120,2,    203.9,2,    203.9,2,   123.57,2,    32.00,2,     0.00,2,     2.26,2,   0.6411
  316N20060130,AAIW06,   160,  1,      3,      3,2,20060208,1544,-58.6237, -78.9990, 4952,   4198.6,   0.6965,  34.7077,2,-999.0000,9,    208.0,2,    207.9,2,   131.06,2,    32.22,2,     0.00,2,     2.27,2,   0.3792
  316N20060130,AAIW06,   160,  1,      2,      2,2,20060208,1544,-58.6237, -78.9990, 4952,   4600.9,   0.5990,  34.7060,2,  34.6850,0,    210.7,2,    210.1,2,   136.06,2,    32.37,2,     0.00,2,     2.28,2,   0.2408
  316N20060130,AAIW06,   160,  1,      1,      1,2,20060208,1544,-58.6237, -78.9990, 4952,   5025.9,   0.5811,  34.7048,2,  34.6971,0,    211.8,2,    214.0,0,   137.93,2,    32.48,2,     0.00,2,     2.29,2,   0.1749
  316N20060130,AAIW06,   161,  1,     36,     36,2,20060209, 417,-58.0242, -79.0163, 4732,      6.6,   8.1053,  34.0696,2,  34.0703,2,    289.3,2,    290.0,2,     0.74,2,    17.22,2,     0.22,2,     1.24,2,   8.1046
  316N20060130,AAIW06,   161,  1,     35,     35,2,20060209, 417,-58.0242, -79.0163, 4732,     15.5,   8.1109,  34.0696,2,  34.0707,2,    290.7,2,    289.7,2,     0.52,2,    17.22,2,     0.22,2,     1.24,2,   8.1094
  316N20060130,AAIW06,   161,  1,     34,     34,2,20060209, 417,-58.0242, -79.0163, 4732,     30.2,   8.1038,  34.0691,2,  34.0703,2,    291.4,2,    289.5,2,     0.50,2,    17.27,2,     0.22,2,     1.24,2,   8.1008
  316N20060130,AAIW06,   161,  1,     33,     33,2,20060209, 417,-58.0242, -79.0163, 4732,     54.6,   8.0824,  34.0677,2,  34.0695,2,    291.2,2,    290.4,2,     0.47,2,    17.32,2,     0.22,2,     1.25,2,   8.0770
  316N20060130,AAIW06,   161,  1,     32,     32,2,20060209, 417,-58.0242, -79.0163, 4732,     80.2,   5.7165,  34.1192,2,  34.1198,2,    301.8,2,    301.6,2,     4.70,2,    19.60,2,     0.20,2,     1.52,2,   5.7100
  316N20060130,AAIW06,   161,  1,     31,     31,2,20060209, 417,-58.0242, -79.0163, 4732,    105.9,   5.1813,  34.1252,2,-999.0000,9,    297.5,2,    297.6,2,     6.91,2,    20.50,2,     0.90,2,     1.54,2,   5.1731
  316N20060130,AAIW06,   161,  1,     30,     30,2,20060209, 417,-58.0242, -79.0163, 4732,    130.2,   5.1124,  34.1329,2,-999.0000,9,    296.5,2,    297.3,2,     7.10,2,    21.25,2,     0.04,2,     1.52,2,   5.1023
  316N20060130,AAIW06,   161,  1,     29,     29,2,20060209, 417,-58.0242, -79.0163, 4732,    154.0,   5.1002,  34.1381,2,-999.0000,9,    297.1,2,    297.5,2,     6.86,2,    21.21,2,     0.03,2,     1.52,2,   5.0883
  316N20060130,AAIW06,   161,  1,     28,     28,2,20060209, 417,-58.0242, -79.0163, 4732,    205.4,   5.0238,  34.1359,2,-999.0000,9,    297.0,2,    296.1,2,     7.25,2,    21.42,2,     0.03,2,     1.52,2,   5.0080
  316N20060130,AAIW06,   161,  1,     27,     27,2,20060209, 417,-58.0242, -79.0163, 4732,    253.9,   5.0079,  34.1433,2,-999.0000,9,    296.2,2,    295.4,2,     7.22,2,    21.48,2,     0.01,2,     1.53,2,   4.9883
  316N20060130,AAIW06,   161,  1,     26,     26,2,20060209, 417,-58.0242, -79.0163, 4732,    304.5,   4.7916,  34.1267,2,-999.0000,9,    293.6,2,    297.9,2,     7.41,2,    21.74,2,     0.01,2,     1.54,2,   4.7685
  316N20060130,AAIW06,   161,  1,     25,     25,2,20060209, 417,-58.0242, -79.0163, 4732,    351.8,   4.7501,  34.1254,2,-999.0000,9,    289.9,2,    298.9,2,     7.38,2,    21.74,2,     0.01,2,     1.54,2,   4.7234
  316N20060130,AAIW06,   161,  1,     24,     24,2,20060209, 417,-58.0242, -79.0163, 4732,    403.4,   4.5827,  34.1119,2,  34.1102,0,    288.1,2,    294.4,2,     8.57,2,    22.67,2,     0.01,2,     1.60,2,   4.5524
  316N20060130,AAIW06,   161,  1,     23,     23,2,20060209, 417,-58.0242, -79.0163, 4732,    452.3,   4.5951,  34.1363,2,-999.0000,9,    273.1,2,    273.8,2,    12.00,2,    24.47,2,     0.01,2,     1.72,2,   4.5609
  316N20060130,AAIW06,   161,  1,     21,     21,9,20060209, 417,-58.0242, -79.0163, 4732,    502.9,   4.4820,  34.1580,2,-999.0000,9,   -999.0,9,   -999.0,9,  -999.00,9,  -999.00,9,  -999.00,9,  -999.00,9,   4.4442
  316N20060130,AAIW06,   161,  1,     22,     22,2,20060209, 417,-58.0242, -79.0163, 4732,    503.3,   4.4889,  34.1583,2,-999.0000,9,    258.3,2,    260.6,2,    15.22,2,    25.40,2,     0.01,2,     1.81,2,   4.4511
  316N20060130,AAIW06,   161,  1,     20,     20,2,20060209, 417,-58.0242, -79.0163, 4732,    603.2,   4.4498,  34.2272,2,-999.0000,9,    234.8,2,    235.4,2,    21.88,2,    27.98,2,     0.00,2,     1.95,2,   4.4041
  316N20060130,AAIW06,   161,  1,     19,     19,2,20060209, 417,-58.0242, -79.0163, 4732,    701.9,   4.0996,  34.2659,2,-999.0000,9,    223.1,2,    220.7,2,    28.35,2,    29.73,2,     0.00,2,     2.08,2,   4.0478
  316N20060130,AAIW06,   161,  1,     18,     18,2,20060209, 417,-58.0242, -79.0163, 4732,    802.0,   3.7114,  34.2881,2,-999.0000,9,    214.9,2,    213.3,2,    34.82,2,    30.87,2,     0.00,2,     2.16,2,   3.6540
  316N20060130,AAIW06,   161,  1,     17,     17,2,20060209, 417,-58.0242, -79.0163, 4732,    900.5,   3.3971,  34.3223,2,-999.0000,9,    204.2,2,    204.5,2,    41.69,2,    31.96,2,     0.00,2,     2.24,2,   3.3341
  316N20060130,AAIW06,   161,  1,     16,     16,2,20060209, 417,-58.0242, -79.0163, 4732,   1004.3,   3.1027,  34.3666,2,-999.0000,9,    196.2,2,    195.2,2,    49.59,2,    32.84,2,     0.00,2,     2.30,2,   3.0339
  316N20060130,AAIW06,   161,  1,     15,     15,2,20060209, 417,-58.0242, -79.0163, 4732,   1103.2,   2.8845,  34.4195,2,-999.0000,9,    186.2,2,    185.7,2,    57.49,2,    33.40,2,     0.00,2,     2.35,2,   2.8098
  316N20060130,AAIW06,   161,  1,     14,     14,2,20060209, 417,-58.0242, -79.0163, 4732,   1202.5,   2.7447,  34.4573,2,-999.0000,9,    181.2,2,    180.4,2,    62.55,2,    33.71,2,     0.00,2,     2.36,2,   2.6636
  316N20060130,AAIW06,   161,  1,     13,     13,2,20060209, 417,-58.0242, -79.0163, 4732,   1305.8,   2.6004,  34.5062,2,-999.0000,9,    175.6,2,    175.4,2,    68.23,2,    33.87,2,     0.00,2,     2.37,2,   2.5127
  316N20060130,AAIW06,   161,  1,     12,     12,2,20060209, 417,-58.0242, -79.0163, 4732,   1403.6,   2.5214,  34.5467,2,-999.0000,9,    172.5,2,    172.2,2,    72.49,2,    33.71,2,     0.00,2,     2.37,2,   2.4268
  316N20060130,AAIW06,   161,  1,     11,     11,2,20060209, 417,-58.0242, -79.0163, 4732,   1602.8,   2.3958,  34.6102,2,-999.0000,9,    170.1,2,    170.4,2,    78.79,2,    33.29,2,     0.00,2,     2.34,2,   2.2866
  316N20060130,AAIW06,   161,  1,     10,     10,2,20060209, 417,-58.0242, -79.0163, 4732,   1902.3,   2.2071,  34.6778,2,-999.0000,9,    173.9,2,    174.5,2,    85.31,2,    32.36,2,     0.00,2,     2.28,2,   2.0756
  316N20060130,AAIW06,   161,  1,      9,      9,2,20060209, 417,-58.0242, -79.0163, 4732,   2202.8,   2.0206,  34.7123,2,-999.0000,9,    181.1,2,    180.6,2,    89.99,2,    31.64,2,     0.00,2,     2.23,2,   1.8662
  316N20060130,AAIW06,   161,  1,      8,      8,2,20060209, 417,-58.0242, -79.0163, 4732,   2504.7,   1.7850,  34.7233,2,  34.7274,0,    185.0,2,    184.6,2,    98.18,2,    31.58,2,     0.00,2,     2.22,2,   1.6080
  316N20060130,AAIW06,   161,  1,     37,     37,2,20060209, 417,-58.0242, -79.0163, 4732,   2809.8,   1.5712,  34.7265,2,  34.7272,0,    189.7,2,    190.3,2,   103.91,2,    31.42,2,     0.00,2,     2.21,2,   1.3705
  316N20060130,AAIW06,   161,  1,      6,      6,2,20060209, 417,-58.0242, -79.0163, 4732,   3111.4,   1.4169,  34.7262,2,  34.7302,0,    194.8,2,    194.7,2,   107.40,2,    31.37,2,     0.00,2,     2.21,2,   1.1910
  316N20060130,AAIW06,   161,  1,      5,      5,2,20060209, 417,-58.0242, -79.0163, 4732,   3410.7,   1.2170,  34.7210,2,  34.7240,0,    198.3,2,    198.4,2,   113.57,2,    31.53,2,     0.00,2,     2.21,2,   0.9666
  316N20060130,AAIW06,   161,  1,      4,      4,2,20060209, 417,-58.0242, -79.0163, 4732,   3714.7,   1.0502,  34.7159,2,  34.7199,0,    202.1,2,    201.9,2,   118.92,2,    31.67,2,     0.00,2,     2.22,2,   0.7735
  316N20060130,AAIW06,   161,  1,      3,      3,2,20060209, 417,-58.0242, -79.0163, 4732,   4116.0,   0.8184,  34.7095,2,  34.7134,0,    206.0,2,    205.9,2,   126.37,2,    31.94,2,     0.00,2,     2.25,2,   0.5063
  316N20060130,AAIW06,   161,  1,      2,      2,2,20060209, 417,-58.0242, -79.0163, 4732,   4528.1,   0.5994,  34.7063,2,  34.7114,0,    209.9,2,    209.9,2,   134.46,2,    32.14,2,     0.00,2,     2.25,2,   0.2493
  316N20060130,AAIW06,   161,  1,      1,      1,2,20060209, 417,-58.0242, -79.0163, 4732,   4811.3,   0.5801,  34.7054,2,  34.7055,0,    211.3,2,    211.2,2,   136.53,2,    32.19,2,     0.00,2,     2.26,2,   0.1987