BOTTLE,20081218PRINUNIVRMK
EXPOCODE,SECT_ID,STNNBR,CASTNO,SAMPNO,BTLNBR,BTLNBR_FLAG_W,DATE,TIME,LATITUDE,LONGITUDE,DEPTH,CTDPRS,CTDTMP,CTDSAL,CTDSAL_FLAG_W,SALNTY,SALNTY_FLAG_W,CTDOXY,CTDOXY_FLAG_W,OXYGEN,OXYGEN_FLAG_W,SILCAT,SILCAT_FLAG_W,NITRAT,NITRAT_FLAG_W,NITRIT,NITRIT_FLAG_W,PHSPHT,PHSPHT_FLAG_W,THETA
,,,,,,,,,,,METERS,DBARS,ITS-90,PSS-78,,PSS-78,,UMOL/KG,,UMOL/KG,,UMOL/KG,,UMOL/KG,,UMOL/KG,,UMOL/KG,,DEGC
  316N20060130,AAIW06,   218,  1,     36,     36,2,20060228, 212,-57.0035, -95.7933, 4345,      5.9,   7.0899,  34.0596,2,  34.0633,0,    294.3,2,    294.4,2,     1.33,2,    18.65,2,     0.24,2,     1.34,2,   7.0894
  316N20060130,AAIW06,   218,  1,     35,     35,2,20060228, 212,-57.0035, -95.7933, 4345,     15.9,   7.0898,  34.0596,2,  34.0637,0,    294.6,2,    294.4,2,     1.30,2,    18.64,2,     0.24,2,     1.33,2,   7.0883
  316N20060130,AAIW06,   218,  1,     34,     34,2,20060228, 212,-57.0035, -95.7933, 4345,     40.5,   6.9965,  34.0589,2,  34.0619,0,    295.3,2,    294.5,2,     1.27,2,    18.69,2,     0.24,2,     1.34,2,   6.9928
  316N20060130,AAIW06,   218,  1,     33,     33,2,20060228, 212,-57.0035, -95.7933, 4345,     64.8,   6.9528,  34.0581,2,  34.0619,0,    295.1,2,    294.7,2,     1.45,2,    18.67,2,     0.25,2,     1.34,2,   6.9469
  316N20060130,AAIW06,   218,  1,     32,     32,9,20060228, 212,-57.0035, -95.7933, 4345,     95.7,   5.7347,  34.1055,2,-999.0000,9,   -999.0,9,   -999.0,9,  -999.00,9,  -999.00,9,  -999.00,9,  -999.00,9,   5.7269
  316N20060130,AAIW06,   218,  1,     31,     31,2,20060228, 212,-57.0035, -95.7933, 4345,    115.6,   5.1476,  34.1273,2,  34.1323,0,    297.2,2,    298.0,2,     6.35,2,    21.44,2,     0.35,2,     1.53,2,   5.1387
  316N20060130,AAIW06,   218,  1,     30,     30,2,20060228, 212,-57.0035, -95.7933, 4345,    165.5,   5.1825,  34.1524,2,  34.1554,0,    292.8,2,    291.1,2,     7.14,2,    21.67,2,     0.01,2,     1.51,2,   5.1696
  316N20060130,AAIW06,   218,  1,     29,     29,2,20060228, 212,-57.0035, -95.7933, 4345,    229.5,   4.9776,  34.1370,2,  34.1411,0,    287.0,2,    287.8,2,     8.34,2,    22.63,2,     0.01,2,     1.56,2,   4.9600
  316N20060130,AAIW06,   218,  1,     28,     28,2,20060228, 212,-57.0035, -95.7933, 4345,    289.7,   4.5707,  34.0932,2,  34.0974,0,    294.3,2,    294.8,2,     8.31,2,    22.88,2,     0.01,2,     1.58,2,   4.5492
  316N20060130,AAIW06,   218,  1,     27,     27,2,20060228, 212,-57.0035, -95.7933, 4345,    339.2,   4.3821,  34.0798,2,  34.0833,0,    300.4,2,    298.6,2,     8.28,2,    22.97,2,     0.01,2,     1.59,2,   4.3574
  316N20060130,AAIW06,   218,  1,     26,     26,2,20060228, 212,-57.0035, -95.7933, 4345,    388.9,   4.3050,  34.0775,2,  34.0820,0,    300.6,2,    300.9,2,     8.06,2,    22.92,2,     0.01,2,     1.58,2,   4.2767
  316N20060130,AAIW06,   218,  1,     25,     25,2,20060228, 212,-57.0035, -95.7933, 4345,    439.0,   4.2442,  34.0753,2,  34.0794,0,    296.9,2,    297.1,2,     8.65,2,    23.32,2,     0.01,2,     1.61,2,   4.2123
  316N20060130,AAIW06,   218,  1,     24,     24,2,20060228, 212,-57.0035, -95.7933, 4345,    488.8,   4.2273,  34.0888,2,  34.0928,0,    281.1,2,    284.9,2,    11.08,2,    24.53,2,     0.01,2,     1.69,2,   4.1917
  316N20060130,AAIW06,   218,  1,     23,     23,2,20060228, 212,-57.0035, -95.7933, 4345,    575.0,   4.3775,  34.1677,2,  34.1714,0,    251.4,2,    254.0,2,    17.01,2,    26.89,2,     0.00,2,     1.84,2,   4.3345
  316N20060130,AAIW06,   218,  1,     22,     22,2,20060228, 212,-57.0035, -95.7933, 4345,    674.1,   4.2376,  34.2319,2,  34.2357,0,    231.0,2,    231.2,2,    24.36,2,    29.06,2,     0.00,2,     1.98,2,   4.1873
  316N20060130,AAIW06,   218,  1,     21,     21,9,20060228, 212,-57.0035, -95.7933, 4345,    674.3,   4.2389,  34.2316,2,-999.0000,9,   -999.0,9,   -999.0,9,  -999.00,9,  -999.00,9,  -999.00,9,  -999.00,9,   4.1886
  316N20060130,AAIW06,   218,  1,     20,     20,2,20060228, 212,-57.0035, -95.7933, 4345,    774.4,   3.8176,  34.2665,2,  34.2704,0,    219.1,2,    219.5,2,    31.72,2,    30.63,2,     0.00,2,     2.09,2,   3.7617
  316N20060130,AAIW06,   218,  1,     19,     19,3,20060228, 212,-57.0035, -95.7933, 4345,    873.8,   3.4656,  34.3011,2,  34.3593,0,    210.2,2,    196.8,0,    46.08,4,    32.70,4,     0.00,4,     2.24,4,   3.4042
  316N20060130,AAIW06,   218,  1,     18,     18,2,20060228, 212,-57.0035, -95.7933, 4345,    972.3,   3.1953,  34.3494,2,  34.3532,0,    198.6,2,    198.3,2,    46.67,2,    32.94,2,     0.00,2,     2.25,2,   3.1283
  316N20060130,AAIW06,   218,  1,     17,     17,3,20060228, 212,-57.0035, -95.7933, 4345,   1071.9,   2.9361,  34.3879,2,  34.4510,0,    190.3,2,    183.9,0,    60.02,4,    33.80,4,     0.00,4,     2.32,4,   2.8635
  316N20060130,AAIW06,   218,  1,     16,     16,2,20060228, 212,-57.0035, -95.7933, 4345,   1172.1,   2.7891,  34.4412,2,  34.4441,0,    182.3,2,    181.8,2,    60.20,2,    34.04,2,     0.00,2,     2.34,2,   2.7100
  316N20060130,AAIW06,   218,  1,     15,     15,2,20060228, 212,-57.0035, -95.7933, 4345,   1271.8,   2.6545,  34.4869,2,  34.4906,0,    177.4,2,    177.4,2,    65.73,2,    34.19,2,     0.00,2,     2.38,2,   2.5689
  316N20060130,AAIW06,   218,  1,     14,     14,2,20060228, 212,-57.0035, -95.7933, 4345,   1371.5,   2.5513,  34.5312,2,  34.5350,0,    174.5,2,    173.5,2,    70.45,2,    34.13,2,     0.00,2,     2.38,2,   2.4589
  316N20060130,AAIW06,   218,  1,     13,     13,2,20060228, 212,-57.0035, -95.7933, 4345,   1472.9,   2.4721,  34.5704,2,  34.5741,0,    172.4,2,    172.3,2,    74.35,2,    33.83,2,     0.00,2,     2.37,2,   2.3725
  316N20060130,AAIW06,   218,  1,     12,     12,2,20060228, 212,-57.0035, -95.7933, 4345,   1572.4,   2.4055,  34.6031,2,  34.6056,0,    172.0,2,    172.3,2,    77.22,2,    33.61,2,     0.00,2,     2.34,2,   2.2987
  316N20060130,AAIW06,   218,  1,     11,     11,2,20060228, 212,-57.0035, -95.7933, 4345,   1773.2,   2.2938,  34.6537,2,  34.6563,0,    173.6,2,    173.7,2,    81.54,2,    32.94,2,     0.00,2,     2.30,2,   2.1719
  316N20060130,AAIW06,   218,  1,     10,     10,2,20060228, 212,-57.0035, -95.7933, 4345,   1973.0,   2.1692,  34.6900,2,  34.6926,0,    177.2,2,    177.7,2,    85.65,2,    32.34,2,     0.00,2,     2.24,2,   2.0323
  316N20060130,AAIW06,   218,  1,      9,      9,2,20060228, 212,-57.0035, -95.7933, 4345,   2174.1,   2.0213,  34.7124,2,  34.7152,0,    181.6,2,    180.6,2,    90.20,2,    31.82,2,     0.00,2,     2.22,2,   1.8694
  316N20060130,AAIW06,   218,  1,      8,      8,2,20060228, 212,-57.0035, -95.7933, 4345,   2423.5,   1.7944,  34.7196,2,  34.7229,0,    183.8,2,    184.3,2,    99.10,2,    32.01,2,     0.00,2,     2.22,2,   1.6245
  316N20060130,AAIW06,   218,  1,      7,      7,2,20060228, 212,-57.0035, -95.7933, 4345,   2675.5,   1.6211,  34.7196,2,  34.7233,0,    185.8,2,    186.2,2,   105.75,2,    32.16,2,     0.00,2,     2.23,2,   1.4318
  316N20060130,AAIW06,   218,  1,      6,      6,2,20060228, 212,-57.0035, -95.7933, 4345,   2926.8,   1.5031,  34.7236,2,  34.7270,0,    191.7,2,    191.3,2,   107.19,2,    31.81,2,     0.00,2,     2.21,2,   1.2929
  316N20060130,AAIW06,   218,  1,      5,      5,2,20060228, 212,-57.0035, -95.7933, 4345,   3179.0,   1.3733,  34.7232,2,  34.7261,0,    195.4,2,    195.3,2,   110.51,2,    31.80,2,     0.00,2,     2.21,2,   1.1419
  316N20060130,AAIW06,   218,  1,      4,      4,2,20060228, 212,-57.0035, -95.7933, 4345,   3483.8,   1.1721,  34.7191,2,  33.6681,0,    200.1,2,    199.4,2,   116.13,2,    31.85,2,     0.00,2,     2.21,2,   0.9156
  316N20060130,AAIW06,   218,  1,      3,      3,2,20060228, 212,-57.0035, -95.7933, 4345,   3686.3,   1.0247,  34.7151,2,  34.6805,0,    202.1,2,    202.4,2,   121.56,2,    32.14,2,     0.00,2,     2.22,2,   0.7516
  316N20060130,AAIW06,   218,  1,      2,      2,2,20060228, 212,-57.0035, -95.7933, 4345,   4020.2,   0.7843,  34.7098,2,  34.7130,0,    206.3,2,    207.2,0,   129.31,2,    32.43,2,     0.00,2,     2.24,2,   0.4833
  316N20060130,AAIW06,   218,  1,      1,      1,2,20060228, 212,-57.0035, -95.7933, 4345,   4421.7,   0.6154,  34.7066,2,  34.7093,0,    210.3,2,    212.7,0,   134.77,2,    32.58,2,     0.00,2,     2.25,2,   0.2765
  316N20060130,AAIW06,   219,  1,     36,     36,2,20060228, 839,-56.7688, -94.9105, 4422,      4.5,   7.0857,  34.0614,2,  34.0631,2,    294.0,2,    294.4,2,     1.64,2,    19.33,2,     0.24,2,     1.37,2,   7.0853
  316N20060130,AAIW06,   219,  1,     35,     35,2,20060228, 839,-56.7688, -94.9105, 4422,     27.0,   7.0850,  34.0615,2,  34.0625,2,    295.5,2,    294.1,2,     1.55,2,    19.34,2,     0.23,2,     1.37,2,   7.0825
  316N20060130,AAIW06,   219,  1,     34,     34,2,20060228, 839,-56.7688, -94.9105, 4422,     27.1,   7.0842,  34.0616,2,-999.0000,9,   -999.0,9,   -999.0,9,  -999.00,9,  -999.00,9,  -999.00,9,  -999.00,9,   7.0817
  316N20060130,AAIW06,   219,  1,     33,     33,2,20060228, 839,-56.7688, -94.9105, 4422,     51.4,   7.0419,  34.0659,2,  34.0676,2,    295.5,2,    294.4,2,     1.85,2,    19.29,2,     0.23,2,     1.37,2,   7.0372
  316N20060130,AAIW06,   219,  1,     31,     31,2,20060228, 839,-56.7688, -94.9105, 4422,     81.3,   6.9855,  34.0777,2,-999.0000,9,   -999.0,9,   -999.0,9,  -999.00,9,  -999.00,9,  -999.00,9,  -999.00,9,   6.9781
  316N20060130,AAIW06,   219,  1,     32,     32,2,20060228, 839,-56.7688, -94.9105, 4422,     81.6,   6.9888,  34.0772,2,  34.0784,2,    294.5,2,    297.2,2,     1.95,2,    19.34,2,     0.23,2,     1.37,2,   6.9813
  316N20060130,AAIW06,   219,  1,     30,     30,2,20060228, 839,-56.7688, -94.9105, 4422,    106.2,   5.9546,  34.2095,2,  34.2105,2,    289.9,2,    288.9,2,     5.74,2,    20.52,2,     0.21,2,     1.44,2,   5.9457
  316N20060130,AAIW06,   219,  1,     29,     29,2,20060228, 839,-56.7688, -94.9105, 4422,    156.1,   5.4645,  34.1705,2,  34.1709,2,    289.2,2,    290.8,2,     6.46,2,    21.58,2,     0.02,2,     1.48,2,   5.4520
  316N20060130,AAIW06,   219,  1,     28,     28,2,20060228, 839,-56.7688, -94.9105, 4422,    206.3,   5.3241,  34.1648,2,  34.1668,2,    294.6,2,    290.9,2,     6.76,2,    21.78,2,     0.01,2,     1.51,2,   5.3077
  316N20060130,AAIW06,   219,  1,     27,     27,2,20060228, 839,-56.7688, -94.9105, 4422,    255.9,   5.2307,  34.1622,2,  34.1638,2,    290.3,2,    290.1,2,     7.27,2,    22.19,2,     0.01,2,     1.55,2,   5.2105
  316N20060130,AAIW06,   219,  1,     26,     26,2,20060228, 839,-56.7688, -94.9105, 4422,    304.4,   5.1427,  34.1607,2,  34.1626,2,    286.7,2,    286.9,2,     8.20,2,    22.70,2,     0.01,2,     1.57,2,   5.1187
  316N20060130,AAIW06,   219,  1,     25,     25,2,20060228, 839,-56.7688, -94.9105, 4422,    355.2,   4.8956,  34.1398,2,-999.0000,9,    285.3,2,    283.6,2,     8.71,2,    23.27,2,     0.00,2,     1.60,2,   4.8682
  316N20060130,AAIW06,   219,  1,     24,     24,2,20060228, 839,-56.7688, -94.9105, 4422,    404.2,   4.7567,  34.1406,2,  34.1434,2,    277.9,2,    277.6,2,    10.65,2,    24.38,2,     0.00,2,     1.68,2,   4.7258
  316N20060130,AAIW06,   219,  1,     23,     23,2,20060228, 839,-56.7688, -94.9105, 4422,    451.8,   4.5241,  34.1384,2,-999.0000,9,    269.0,2,    271.4,2,    12.61,2,    25.40,2,     0.00,2,     1.75,2,   4.4902
  316N20060130,AAIW06,   219,  1,     21,     21,9,20060228, 839,-56.7688, -94.9105, 4422,    498.0,   4.6295,  34.1853,2,-999.0000,9,   -999.0,9,   -999.0,9,  -999.00,9,  -999.00,9,  -999.00,9,  -999.00,9,   4.5915
  316N20060130,AAIW06,   219,  1,     22,     22,2,20060228, 839,-56.7688, -94.9105, 4422,    498.8,   4.6237,  34.1838,2,-999.0000,9,    257.5,2,    253.1,2,    16.00,2,    26.72,2,     0.00,2,     1.83,2,   4.5857
  316N20060130,AAIW06,   219,  1,     20,     20,2,20060228, 839,-56.7688, -94.9105, 4422,    598.1,   4.3806,  34.2265,2,-999.0000,9,    225.8,2,    234.2,2,    22.06,2,    28.80,2,     0.00,2,     1.97,2,   4.3357
  316N20060130,AAIW06,   219,  1,     19,     19,2,20060228, 839,-56.7688, -94.9105, 4422,    697.1,   3.9656,  34.2603,2,  34.2625,2,    219.2,2,    222.1,2,    28.95,2,    30.48,2,     0.00,2,     2.09,2,   3.9149
  316N20060130,AAIW06,   219,  1,     18,     18,2,20060228, 839,-56.7688, -94.9105, 4422,    795.7,   3.5950,  34.2856,2,  34.2874,2,    212.1,2,    213.6,2,    35.43,2,    31.60,2,     0.00,2,     2.18,2,   3.5388
  316N20060130,AAIW06,   219,  1,     17,     17,2,20060228, 839,-56.7688, -94.9105, 4422,    895.6,   3.3498,  34.3329,2,  34.3343,2,    202.7,2,    202.5,2,    43.16,2,    32.77,2,     0.00,2,     2.26,2,   3.2875
  316N20060130,AAIW06,   219,  1,     16,     16,2,20060228, 839,-56.7688, -94.9105, 4422,    995.3,   3.0645,  34.3711,2,  34.3718,2,    193.6,2,    193.5,2,    50.69,2,    33.58,2,     0.00,2,     2.32,2,   2.9967
  316N20060130,AAIW06,   219,  1,     15,     15,2,20060228, 839,-56.7688, -94.9105, 4422,   1096.6,   2.8555,  34.4181,2,  34.4208,2,    185.5,2,    185.5,2,    57.19,2,    34.25,2,     0.00,2,     2.37,2,   2.7816
  316N20060130,AAIW06,   219,  1,     14,     14,2,20060228, 839,-56.7688, -94.9105, 4422,   1196.0,   2.6934,  34.4644,2,  34.4658,2,    179.6,2,    180.0,2,    63.08,2,    34.45,2,     0.00,2,     2.38,2,   2.6133
  316N20060130,AAIW06,   219,  1,     13,     13,2,20060228, 839,-56.7688, -94.9105, 4422,   1397.2,   2.4990,  34.5519,2,  34.5539,2,    173.1,2,    173.2,2,    72.49,2,    34.30,2,     0.00,2,     2.37,2,   2.4051
  316N20060130,AAIW06,   219,  1,     12,     12,2,20060228, 839,-56.7688, -94.9105, 4422,   1596.5,   2.3636,  34.6232,2,  34.6243,2,    171.3,2,    171.4,2,    78.83,2,    33.63,2,     0.00,2,     2.33,2,   2.2553
  316N20060130,AAIW06,   219,  1,     11,     11,2,20060228, 839,-56.7688, -94.9105, 4422,   1797.9,   2.2493,  34.6676,2,  34.6702,2,    173.7,2,    173.9,2,    83.51,2,    33.03,2,     0.00,2,     2.29,2,   2.1259
  316N20060130,AAIW06,   219,  1,     10,     10,2,20060228, 839,-56.7688, -94.9105, 4422,   1998.7,   2.1256,  34.6966,2,  34.6987,2,    177.1,2,    177.5,2,    87.36,2,    32.52,2,     0.00,2,     2.25,2,   1.9871
  316N20060130,AAIW06,   219,  1,      9,      9,2,20060228, 839,-56.7688, -94.9105, 4422,   2199.6,   1.9779,  34.7159,2,  34.7178,2,    181.5,2,    182.0,2,    91.01,2,    32.06,2,     0.00,2,     2.21,2,   1.8245
  316N20060130,AAIW06,   219,  1,      8,      8,2,20060228, 839,-56.7688, -94.9105, 4422,   2401.3,   1.8250,  34.7226,2,  34.7247,2,    184.8,2,    185.1,2,    96.56,2,    32.06,2,     0.00,2,     2.21,2,   1.6565
  316N20060130,AAIW06,   219,  1,      7,      7,2,20060228, 839,-56.7688, -94.9105, 4422,   2601.9,   1.6741,  34.7240,2,  34.7266,2,    187.4,2,    187.8,2,   101.47,2,    32.06,2,     0.00,2,     2.22,2,   1.4904
  316N20060130,AAIW06,   219,  1,      6,      6,2,20060228, 839,-56.7688, -94.9105, 4422,   2902.9,   1.5045,  34.7252,2,  34.7264,2,    192.6,2,    191.8,2,   106.20,2,    32.01,2,     0.00,2,     2.21,2,   1.2965
  316N20060130,AAIW06,   219,  1,      5,      5,2,20060228, 839,-56.7688, -94.9105, 4422,   3203.5,   1.3211,  34.7232,2,  34.7239,2,    196.2,2,    196.4,2,   111.14,2,    32.01,2,     0.00,2,     2.21,2,   1.0885
  316N20060130,AAIW06,   219,  1,      4,      4,2,20060228, 839,-56.7688, -94.9105, 4422,   3507.4,   1.1199,  34.7172,2,  34.7176,2,    199.5,2,    199.2,2,   118.19,2,    32.21,2,     0.00,2,     2.23,2,   0.8624
  316N20060130,AAIW06,   219,  1,      3,      3,2,20060228, 839,-56.7688, -94.9105, 4422,   3810.2,   0.8904,  34.7121,2,  34.7129,2,    204.1,2,    204.1,2,   125.27,2,    32.42,2,     0.00,2,     2.23,2,   0.6082
  316N20060130,AAIW06,   219,  1,      2,      2,2,20060228, 839,-56.7688, -94.9105, 4422,   4165.6,   0.6744,  34.7080,2,  34.7083,2,    208.7,2,    208.6,2,   132.36,2,    32.67,2,     0.00,2,     2.25,2,   0.3613
  316N20060130,AAIW06,   219,  1,      1,      1,2,20060228, 839,-56.7688, -94.9105, 4422,   4567.0,   0.6066,  34.7063,2,  34.7074,2,    210.8,2,    213.3,0,   135.88,2,    32.72,2,     0.00,2,     2.25,2,   0.2519