BOTTLE,20081218PRINUNIVRMK
EXPOCODE,SECT_ID,STNNBR,CASTNO,SAMPNO,BTLNBR,BTLNBR_FLAG_W,DATE,TIME,LATITUDE,LONGITUDE,DEPTH,CTDPRS,CTDTMP,CTDSAL,CTDSAL_FLAG_W,SALNTY,SALNTY_FLAG_W,CTDOXY,CTDOXY_FLAG_W,OXYGEN,OXYGEN_FLAG_W,SILCAT,SILCAT_FLAG_W,NITRAT,NITRAT_FLAG_W,NITRIT,NITRIT_FLAG_W,PHSPHT,PHSPHT_FLAG_W,THETA
,,,,,,,,,,,METERS,DBARS,ITS-90,PSS-78,,PSS-78,,UMOL/KG,,UMOL/KG,,UMOL/KG,,UMOL/KG,,UMOL/KG,,UMOL/KG,,DEGC
  316N20060130,AAIW06,   201,  1,     36,     36,2,20060222, 649,-53.3793, -93.8892, 5188,      7.6,   9.1135,  34.1154,2,  34.1177,2,    283.3,2,    283.8,2,     0.97,2,    15.88,2,     0.21,2,     1.06,2,   9.1127
  316N20060130,AAIW06,   201,  1,     35,     35,2,20060222, 649,-53.3793, -93.8892, 5188,     21.1,   9.1106,  34.1159,2,  34.1168,2,    284.8,2,    284.6,2,     0.95,2,    15.82,2,     0.21,2,     1.07,2,   9.1083
  316N20060130,AAIW06,   201,  1,     34,     34,2,20060222, 649,-53.3793, -93.8892, 5188,     46.7,   9.1142,  34.1152,2,  34.1142,2,    284.8,2,    283.2,2,     0.92,2,    15.87,2,     0.21,2,     1.07,2,   9.1092
  316N20060130,AAIW06,   201,  1,     33,     33,2,20060222, 649,-53.3793, -93.8892, 5188,     70.5,   9.1097,  34.1136,2,  34.1152,2,    284.9,2,    283.6,2,     1.31,2,    15.87,2,     0.21,2,     1.07,2,   9.1021
  316N20060130,AAIW06,   201,  1,     32,     32,2,20060222, 649,-53.3793, -93.8892, 5188,     95.4,   6.2344,  34.1669,2,  34.1632,2,    299.0,2,    299.2,2,     4.40,2,    18.42,2,     0.15,2,     1.40,2,   6.2262
  316N20060130,AAIW06,   201,  1,     31,     31,2,20060222, 649,-53.3793, -93.8892, 5188,    131.1,   5.7818,  34.1774,2,-999.0000,9,    297.7,2,    297.6,2,     5.00,2,    19.21,2,     0.39,2,     1.42,2,   5.7710
  316N20060130,AAIW06,   201,  1,     30,     30,2,20060222, 649,-53.3793, -93.8892, 5188,    175.3,   5.6671,  34.1901,2,-999.0000,9,    292.7,2,    292.9,2,     5.39,2,    20.33,2,     0.08,2,     1.44,2,   5.6527
  316N20060130,AAIW06,   201,  1,     29,     29,2,20060222, 649,-53.3793, -93.8892, 5188,    225.6,   5.6205,  34.2052,2,-999.0000,9,    287.6,2,    289.0,2,     5.98,2,    20.85,2,     0.01,2,     1.48,2,   5.6020
  316N20060130,AAIW06,   201,  1,     28,     28,2,20060222, 649,-53.3793, -93.8892, 5188,    274.6,   5.5571,  34.2039,2,-999.0000,9,    288.1,2,    288.4,2,     6.58,2,    20.91,2,     0.01,2,     1.47,2,   5.5346
  316N20060130,AAIW06,   201,  1,     27,     27,2,20060222, 649,-53.3793, -93.8892, 5188,    323.5,   5.5526,  34.2105,2,-999.0000,9,    285.5,2,    288.4,2,     6.55,2,    21.21,2,     0.01,2,     1.49,2,   5.5260
  316N20060130,AAIW06,   201,  1,     26,     26,2,20060222, 649,-53.3793, -93.8892, 5188,    373.8,   5.5737,  34.2245,2,-999.0000,9,    283.8,2,    281.0,2,     7.57,2,    21.92,2,     0.00,2,     1.53,2,   5.5428
  316N20060130,AAIW06,   201,  1,     25,     25,2,20060222, 649,-53.3793, -93.8892, 5188,    424.1,   5.4726,  34.2180,2,-999.0000,9,    280.0,2,    278.5,2,     8.58,2,    22.38,2,     0.00,2,     1.57,2,   5.4377
  316N20060130,AAIW06,   201,  1,     24,     24,2,20060222, 649,-53.3793, -93.8892, 5188,    473.0,   5.3498,  34.2095,2,-999.0000,9,    276.5,2,    272.3,2,     9.59,2,    23.25,2,     0.00,2,     1.62,2,   5.3112
  316N20060130,AAIW06,   201,  1,     23,     23,2,20060222, 649,-53.3793, -93.8892, 5188,    523.8,   5.2344,  34.2091,2,  34.2116,2,    268.2,2,    262.1,2,    11.64,2,    24.48,2,     0.00,2,     1.70,2,   5.1919
  316N20060130,AAIW06,   201,  1,     22,     22,2,20060222, 649,-53.3793, -93.8892, 5188,    643.3,   4.9245,  34.2352,2,-999.0000,9,    247.6,2,    239.2,2,    17.41,2,    27.09,2,     0.00,2,     1.85,2,   4.8732
  316N20060130,AAIW06,   201,  1,     21,     21,9,20060222, 649,-53.3793, -93.8892, 5188,    643.3,   4.9243,  34.2347,2,-999.0000,9,   -999.0,9,   -999.0,9,  -999.00,9,  -999.00,9,  -999.00,9,  -999.00,9,   4.8730
  316N20060130,AAIW06,   201,  1,     20,     20,2,20060222, 649,-53.3793, -93.8892, 5188,    742.4,   4.6249,  34.2593,2,-999.0000,9,    230.9,2,    226.3,2,    22.76,2,    28.72,2,     0.00,2,     1.98,2,   4.5669
  316N20060130,AAIW06,   201,  1,     19,     19,2,20060222, 649,-53.3793, -93.8892, 5188,    841.8,   4.2206,  34.2769,2,-999.0000,9,    219.0,2,    217.2,2,    28.12,2,    30.20,2,     0.00,2,     2.08,2,   4.1568
  316N20060130,AAIW06,   201,  1,     18,     18,2,20060222, 649,-53.3793, -93.8892, 5188,    942.1,   3.8284,  34.3039,2,-999.0000,9,    209.9,2,    208.3,2,    34.93,2,    31.43,2,     0.00,2,     2.18,2,   3.7591
  316N20060130,AAIW06,   201,  1,     17,     17,2,20060222, 649,-53.3793, -93.8892, 5188,   1042.9,   3.4636,  34.3351,2,-999.0000,9,    202.1,2,    201.4,2,    42.15,2,    32.45,2,     0.00,2,     2.24,2,   3.3890
  316N20060130,AAIW06,   201,  1,     16,     16,2,20060222, 649,-53.3793, -93.8892, 5188,   1141.3,   3.2250,  34.3677,2,-999.0000,9,    192.9,2,    193.7,2,    48.56,2,    33.06,2,     0.00,2,     2.31,2,   3.1445
  316N20060130,AAIW06,   201,  1,     15,     15,2,20060222, 649,-53.3793, -93.8892, 5188,   1239.2,   3.0096,  34.4106,2,-999.0000,9,    183.7,2,    184.1,2,    55.99,2,    34.08,2,     0.00,2,     2.36,2,   2.9232
  316N20060130,AAIW06,   201,  1,     14,     14,2,20060222, 649,-53.3793, -93.8892, 5188,   1338.2,   2.8394,  34.4585,2,-999.0000,9,    177.6,2,    176.3,2,    62.40,2,    34.39,2,     0.00,2,     2.40,2,   2.7468
  316N20060130,AAIW06,   201,  1,     13,     13,2,20060222, 649,-53.3793, -93.8892, 5188,   1534.7,   2.6192,  34.5355,2,-999.0000,9,    167.2,2,    167.3,2,    73.38,2,    34.48,2,     0.00,2,     2.40,2,   2.5130
  316N20060130,AAIW06,   201,  1,     12,     12,2,20060222, 649,-53.3793, -93.8892, 5188,   1734.7,   2.4489,  34.5966,2,-999.0000,9,    167.2,2,    166.8,2,    80.22,2,    34.12,2,     0.00,2,     2.38,2,   2.3283
  316N20060130,AAIW06,   201,  1,     11,     11,2,20060222, 649,-53.3793, -93.8892, 5188,   1932.7,   2.3250,  34.6447,2,-999.0000,9,    170.1,2,    169.9,2,    83.53,2,    33.55,2,     0.00,2,     2.32,2,   2.1893
  316N20060130,AAIW06,   201,  1,     10,     10,2,20060222, 649,-53.3793, -93.8892, 5188,   2134.0,   2.1993,  34.6794,2,-999.0000,9,    173.2,2,    173.6,2,    88.10,2,    32.83,2,     0.00,2,     2.29,2,   2.0481
  316N20060130,AAIW06,   201,  1,      9,      9,2,20060222, 649,-53.3793, -93.8892, 5188,   2434.8,   1.9794,  34.7004,2,  34.7024,0,    175.9,2,    174.0,2,    98.30,2,    32.83,2,     0.00,2,     2.29,2,   1.8052
  316N20060130,AAIW06,   201,  1,      8,      8,2,20060222, 649,-53.3793, -93.8892, 5188,   2733.5,   1.7650,  34.7088,2,  34.7085,2,    177.2,2,    177.4,2,   106.45,2,    32.82,2,     0.00,2,     2.29,2,   1.5675
  316N20060130,AAIW06,   201,  1,      7,      7,2,20060222, 649,-53.3793, -93.8892, 5188,   3036.0,   1.5974,  34.7129,2,  34.7126,2,    182.7,2,    183.2,2,   110.20,2,    32.56,2,     0.00,2,     2.27,2,   1.3748
  316N20060130,AAIW06,   201,  1,      6,      6,2,20060222, 649,-53.3793, -93.8892, 5188,   3339.8,   1.4014,  34.7172,2,  34.7152,0,    190.5,2,    190.5,2,   112.28,2,    32.35,2,     0.00,2,     2.25,2,   1.1536
  316N20060130,AAIW06,   201,  1,      5,      5,2,20060222, 649,-53.3793, -93.8892, 5188,   3652.8,   1.1504,  34.7159,2,  34.7114,0,    197.8,2,    197.5,2,   118.56,2,    32.19,2,     0.00,2,     2.24,2,   0.8774
  316N20060130,AAIW06,   201,  1,      4,      4,2,20060222, 649,-53.3793, -93.8892, 5188,   4055.8,   0.8270,  34.7106,2,  34.7116,0,    204.3,2,    204.4,2,   128.25,2,    32.44,2,     0.00,2,     2.25,2,   0.5210
  316N20060130,AAIW06,   201,  1,      3,      3,2,20060222, 649,-53.3793, -93.8892, 5188,   4463.3,   0.6721,  34.7074,2,  34.7083,2,    208.1,2,    208.7,2,   134.14,2,    32.59,2,     0.00,2,     2.25,2,   0.3268
  316N20060130,AAIW06,   201,  1,      2,      2,2,20060222, 649,-53.3793, -93.8892, 5188,   4871.1,   0.6494,  34.7063,2,  34.7079,0,    209.3,2,    209.4,2,   136.25,2,    32.54,2,     0.00,2,     2.26,2,   0.2589
  316N20060130,AAIW06,   201,  1,      1,      1,2,20060222, 649,-53.3793, -93.8892, 5188,   5281.3,   0.6716,  34.7054,2,  34.7055,2,    210.2,2,    210.3,2,   137.28,2,    32.59,2,     0.00,2,     2.26,2,   0.2319
  316N20060130,AAIW06,   202,  1,     36,     36,2,20060222,1816,-53.7330, -95.8515, 4701,      6.1,   8.9024,  34.1271,2,  34.1281,2,    284.5,2,    285.1,2,     0.77,4,    16.43,2,     0.21,2,     1.03,2,   8.9018
  316N20060130,AAIW06,   202,  1,     35,     35,2,20060222,1816,-53.7330, -95.8515, 4701,     17.4,   8.8691,  34.1274,2,  34.1294,2,    285.7,2,    285.3,2,     0.84,4,    16.42,2,     0.21,2,     1.03,2,   8.8673
  316N20060130,AAIW06,   202,  1,     34,     34,2,20060222,1816,-53.7330, -95.8515, 4701,     42.4,   8.8064,  34.1269,2,  34.1296,2,    286.1,2,    285.5,2,     1.11,4,    16.41,2,     0.21,2,     1.03,2,   8.8019
  316N20060130,AAIW06,   202,  1,     33,     33,2,20060222,1816,-53.7330, -95.8515, 4701,     67.9,   8.7870,  34.1260,2,  34.1300,2,    286.0,2,    285.3,2,     1.18,4,    16.41,2,     0.21,2,     1.03,2,   8.7799
  316N20060130,AAIW06,   202,  1,     32,     32,2,20060222,1816,-53.7330, -95.8515, 4701,     92.2,   6.1908,  34.1740,2,  34.1756,2,    297.9,2,    298.2,2,     1.47,4,    18.58,2,     0.14,2,     1.39,2,   6.1829
  316N20060130,AAIW06,   202,  1,     30,     30,2,20060222,1816,-53.7330, -95.8515, 4701,    192.0,   5.5717,  34.1913,2,  34.1915,2,    292.6,2,    292.8,2,     2.57,4,    20.41,2,     0.01,2,     1.44,2,   5.5561
  316N20060130,AAIW06,   202,  1,     31,     31,9,20060222,1816,-53.7330, -95.8515, 4701,    192.5,   5.5634,  34.1909,2,-999.0000,9,   -999.0,9,   -999.0,9,  -999.00,9,  -999.00,9,  -999.00,9,  -999.00,9,   5.5477
  316N20060130,AAIW06,   202,  1,     29,     29,2,20060222,1816,-53.7330, -95.8515, 4701,    241.8,   5.5268,  34.1937,2,-999.0000,9,    291.4,2,    292.6,2,     2.64,4,    20.45,2,     0.01,2,     1.45,2,   5.5071
  316N20060130,AAIW06,   202,  1,     28,     28,2,20060222,1816,-53.7330, -95.8515, 4701,    291.9,   5.4838,  34.1927,2,-999.0000,9,    291.8,2,    292.9,2,     2.71,4,    20.55,2,     0.01,2,     1.45,2,   5.4600
  316N20060130,AAIW06,   202,  1,     27,     27,2,20060222,1816,-53.7330, -95.8515, 4701,    340.1,   5.4529,  34.1921,2,-999.0000,9,    292.0,2,    292.5,2,     4.63,4,    20.64,2,     0.01,2,     1.46,2,   5.4252
  316N20060130,AAIW06,   202,  1,     26,     26,2,20060222,1816,-53.7330, -95.8515, 4701,    366.4,   5.4619,  34.1959,2,-999.0000,9,    291.5,2,    291.4,2,     4.70,4,    20.79,2,     0.01,2,     1.47,2,   5.4319
  316N20060130,AAIW06,   202,  1,     25,     25,2,20060222,1816,-53.7330, -95.8515, 4701,    441.2,   5.5091,  34.2149,2,-999.0000,9,    283.6,2,    283.8,2,     4.77,4,    21.71,2,     0.01,2,     1.51,2,   5.4726
  316N20060130,AAIW06,   202,  1,     24,     24,2,20060222,1816,-53.7330, -95.8515, 4701,    465.4,   5.5019,  34.2178,2,-999.0000,9,    281.7,2,    281.9,2,     6.08,4,    21.91,2,     0.01,2,     1.53,2,   5.4633
  316N20060130,AAIW06,   202,  1,     23,     23,2,20060222,1816,-53.7330, -95.8515, 4701,    575.0,   5.2463,  34.2064,2,-999.0000,9,    272.5,2,    270.0,2,     8.41,4,    23.71,2,     0.00,2,     1.64,2,   5.1994
  316N20060130,AAIW06,   202,  1,     22,     22,2,20060222,1816,-53.7330, -95.8515, 4701,    676.9,   5.0164,  34.2223,2,-999.0000,9,    251.5,2,    248.5,2,    17.36,2,    26.13,2,     0.00,2,     1.79,2,   4.9618
  316N20060130,AAIW06,   202,  1,     20,     20,2,20060222,1816,-53.7330, -95.8515, 4701,    775.3,   4.7305,  34.2453,2,-999.0000,9,    235.8,2,    232.8,2,    21.96,2,    27.94,2,     0.00,2,     1.92,2,   4.6691
  316N20060130,AAIW06,   202,  1,     21,     21,9,20060222,1816,-53.7330, -95.8515, 4701,    775.4,   4.7326,  34.2450,2,-999.0000,9,   -999.0,9,   -999.0,9,  -999.00,9,  -999.00,9,  -999.00,9,  -999.00,9,   4.6712
  316N20060130,AAIW06,   202,  1,     19,     19,2,20060222,1816,-53.7330, -95.8515, 4701,    875.8,   4.3137,  34.2705,2,-999.0000,9,    220.6,2,    220.1,2,    24.70,2,    29.74,2,     0.00,2,     2.04,2,   4.2465
  316N20060130,AAIW06,   202,  1,     18,     18,2,20060222,1816,-53.7330, -95.8515, 4701,    976.4,   3.9229,  34.2968,2,-999.0000,9,    211.9,2,    211.3,2,    31.97,2,    31.03,2,     0.00,2,     2.14,2,   3.8501
  316N20060130,AAIW06,   202,  1,     17,     17,2,20060222,1816,-53.7330, -95.8515, 4701,   1075.8,   3.5593,  34.3258,2,-999.0000,9,    204.4,2,    203.7,2,    38.42,2,    32.10,2,     0.00,2,     2.21,2,   3.4813
  316N20060130,AAIW06,   202,  1,     16,     16,2,20060222,1816,-53.7330, -95.8515, 4701,   1175.7,   3.2020,  34.3666,2,-999.0000,9,    196.8,2,    195.1,2,    47.75,2,    33.13,2,     0.00,2,     2.29,2,   3.1190
  316N20060130,AAIW06,   202,  1,     15,     15,2,20060222,1816,-53.7330, -95.8515, 4701,   1276.2,   2.9845,  34.4074,2,-999.0000,9,    189.1,2,    187.5,2,    52.96,2,    33.63,2,     0.00,2,     2.34,2,   2.8955
  316N20060130,AAIW06,   202,  1,     14,     14,2,20060222,1816,-53.7330, -95.8515, 4701,   1377.2,   2.8175,  34.4528,2,-999.0000,9,    182.1,2,    180.4,2,    60.64,2,    34.03,2,     0.00,2,     2.36,2,   2.7220
  316N20060130,AAIW06,   202,  1,     13,     13,2,20060222,1816,-53.7330, -95.8515, 4701,   1476.0,   2.7046,  34.4925,2,-999.0000,9,    175.8,2,    175.2,2,    66.46,2,    34.38,2,     0.00,2,     2.37,2,   2.6023
  316N20060130,AAIW06,   202,  1,     12,     12,2,20060222,1816,-53.7330, -95.8515, 4701,   1577.8,   2.5955,  34.5362,2,-999.0000,9,    171.6,2,    170.7,2,    70.84,2,    34.27,2,     0.00,2,     2.36,2,   2.4861
  316N20060130,AAIW06,   202,  1,     11,     11,2,20060222,1816,-53.7330, -95.8515, 4701,   1777.3,   2.4463,  34.6004,2,-999.0000,9,    168.3,2,    168.2,2,    78.93,2,    34.00,2,     0.00,2,     2.35,2,   2.3222
  316N20060130,AAIW06,   202,  1,     10,     10,2,20060222,1816,-53.7330, -95.8515, 4701,   1878.4,   2.3780,  34.6263,2,-999.0000,9,    168.4,2,    168.7,2,    80.42,2,    33.62,2,     0.00,2,     2.34,2,   2.2462
  316N20060130,AAIW06,   202,  1,      9,      9,2,20060222,1816,-53.7330, -95.8515, 4701,   2282.5,   2.1078,  34.6904,2,-999.0000,9,    173.0,2,    172.9,2,    91.00,2,    32.88,2,     0.00,2,     2.28,2,   1.9450
  316N20060130,AAIW06,   202,  1,      8,      8,2,20060222,1816,-53.7330, -95.8515, 4701,   2584.2,   1.8756,  34.7074,2,  34.7082,0,    175.9,2,    176.4,2,   102.45,2,    32.72,2,     0.00,2,     2.27,2,   1.6897
  316N20060130,AAIW06,   202,  1,      7,      7,2,20060222,1816,-53.7330, -95.8515, 4701,   2836.1,   1.7209,  34.7133,2,  34.7139,2,    180.7,2,    180.8,2,   106.44,2,    32.60,2,     0.00,2,     2.26,2,   1.5147
  316N20060130,AAIW06,   202,  1,      6,      6,2,20060222,1816,-53.7330, -95.8515, 4701,   3189.9,   1.5374,  34.7188,2,  34.7202,0,    187.6,2,    188.0,2,   107.29,2,    32.28,2,     0.00,2,     2.24,2,   1.3011
  316N20060130,AAIW06,   202,  1,      5,      5,2,20060222,1816,-53.7330, -95.8515, 4701,   3441.3,   1.3854,  34.7202,2,  34.7211,2,    192.9,2,    192.9,2,   113.15,2,    32.21,2,     0.00,2,     2.23,2,   1.1278
  316N20060130,AAIW06,   202,  1,      4,      4,2,20060222,1816,-53.7330, -95.8515, 4701,   3696.1,   1.1954,  34.7173,2,  34.7178,2,    197.2,2,    197.4,2,   115.67,2,    32.15,2,     0.00,2,     2.23,2,   0.9168
  316N20060130,AAIW06,   202,  1,      3,      3,2,20060222,1816,-53.7330, -95.8515, 4701,   4031.9,   0.9192,  34.7121,2,  34.7127,2,    202.5,2,    202.7,2,   127.61,2,    32.35,2,     0.00,2,     2.24,2,   0.6131
  316N20060130,AAIW06,   202,  1,      2,      2,2,20060222,1816,-53.7330, -95.8515, 4701,   4388.2,   0.7315,  34.7085,2,  34.7091,2,    206.3,2,    206.6,2,   132.86,2,    32.54,2,     0.00,2,     2.25,2,   0.3926
  316N20060130,AAIW06,   202,  1,      1,      1,2,20060222,1816,-53.7330, -95.8515, 4701,   4780.7,   0.6999,  34.7069,2,  34.7095,0,    208.2,2,    208.3,2,   134.97,2,    32.52,2,     0.00,2,     2.24,2,   0.3181