BOTTLE,20081218PRINUNIVRMK
EXPOCODE,SECT_ID,STNNBR,CASTNO,SAMPNO,BTLNBR,BTLNBR_FLAG_W,DATE,TIME,LATITUDE,LONGITUDE,DEPTH,CTDPRS,CTDTMP,CTDSAL,CTDSAL_FLAG_W,SALNTY,SALNTY_FLAG_W,CTDOXY,CTDOXY_FLAG_W,OXYGEN,OXYGEN_FLAG_W,SILCAT,SILCAT_FLAG_W,NITRAT,NITRAT_FLAG_W,NITRIT,NITRIT_FLAG_W,PHSPHT,PHSPHT_FLAG_W,THETA
,,,,,,,,,,,METERS,DBARS,ITS-90,PSS-78,,PSS-78,,UMOL/KG,,UMOL/KG,,UMOL/KG,,UMOL/KG,,UMOL/KG,,UMOL/KG,,DEGC
  316N20060130,AAIW06,   158,  1,     36,     36,2,20060207,2304,-59.8195, -78.9890, 5047,      4.6,   6.6240,  33.9524,2,  33.9497,2,    299.8,2,    300.2,2,     0.64,2,    20.61,2,     0.20,2,     1.46,2,   6.6236
  316N20060130,AAIW06,   158,  1,     35,     35,2,20060207,2304,-59.8195, -78.9890, 5047,     32.4,   6.6229,  33.9519,2,  33.9495,2,    301.5,2,    300.2,2,     1.02,2,    20.65,2,     0.21,2,     1.46,2,   6.6200
  316N20060130,AAIW06,   158,  1,     34,     34,2,20060207,2304,-59.8195, -78.9890, 5047,     58.3,   6.3831,  33.9659,2,  33.9642,2,    302.6,2,    302.0,2,     0.41,2,    20.51,2,     0.20,2,     1.45,2,   6.3781
  316N20060130,AAIW06,   158,  1,     33,     33,2,20060207,2304,-59.8195, -78.9890, 5047,     82.5,   4.1882,  34.0057,2,  34.0028,2,    308.4,2,    309.7,2,     4.76,2,    22.38,2,     0.27,2,     1.79,2,   4.1825
  316N20060130,AAIW06,   158,  1,     32,     32,2,20060207,2304,-59.8195, -78.9890, 5047,    107.1,   3.8027,  34.0230,2,  34.0198,2,    303.9,2,    303.0,2,     9.72,2,    23.87,2,     0.27,2,     1.72,2,   3.7956
  316N20060130,AAIW06,   158,  1,     31,     31,2,20060207,2304,-59.8195, -78.9890, 5047,    156.9,   3.5178,  34.0096,2,  34.0079,0,    305.1,2,    304.4,2,    11.10,2,    24.77,2,     0.02,2,     1.74,2,   3.5077
  316N20060130,AAIW06,   158,  1,     30,     30,2,20060207,2304,-59.8195, -78.9890, 5047,    206.8,   3.3923,  34.0201,2,  34.0159,2,    300.7,2,    300.3,2,    12.27,2,    25.33,2,     0.01,2,     1.78,2,   3.3791
  316N20060130,AAIW06,   158,  1,     29,     29,2,20060207,2304,-59.8195, -78.9890, 5047,    256.3,   3.2884,  34.0358,2,  34.0317,2,    292.8,2,    294.6,2,    14.44,2,    26.03,2,     0.00,2,     1.83,2,   3.2721
  316N20060130,AAIW06,   158,  1,     28,     28,2,20060207,2304,-59.8195, -78.9890, 5047,    303.9,   3.1928,  34.0564,2,  34.0517,2,    287.3,2,    286.6,2,    17.01,2,    27.03,2,     0.00,2,     1.89,2,   3.1736
  316N20060130,AAIW06,   158,  1,     27,     27,2,20060207,2304,-59.8195, -78.9890, 5047,    353.2,   3.0503,  34.0803,2,-999.0000,9,    279.1,2,    280.5,2,    19.78,2,    27.87,2,     0.00,2,     1.95,2,   3.0282
  316N20060130,AAIW06,   158,  1,     26,     26,2,20060207,2304,-59.8195, -78.9890, 5047,    402.1,   2.8902,  34.0946,2,-999.0000,9,    261.7,2,    276.2,2,    21.56,2,    28.46,2,     0.00,2,     1.98,2,   2.8654
  316N20060130,AAIW06,   158,  1,     25,     25,2,20060207,2304,-59.8195, -78.9890, 5047,    427.0,   2.6929,  34.0939,2,-999.0000,9,    265.5,2,    277.2,2,    22.74,2,    28.72,2,     0.00,2,     2.00,2,   2.6672
  316N20060130,AAIW06,   158,  1,     24,     24,2,20060207,2304,-59.8195, -78.9890, 5047,    450.8,   2.7341,  34.1117,2,-999.0000,9,    269.2,2,    271.3,2,    24.32,2,    29.11,2,     0.00,2,     2.02,2,   2.7067
  316N20060130,AAIW06,   158,  1,     23,     23,2,20060207,2304,-59.8195, -78.9890, 5047,    500.9,   2.9743,  34.1868,2,-999.0000,9,    243.7,2,    244.4,2,    30.06,2,    30.55,2,     0.00,2,     2.11,2,   2.9426
  316N20060130,AAIW06,   158,  1,     22,     22,2,20060207,2304,-59.8195, -78.9890, 5047,    548.9,   3.1024,  34.2410,2,-999.0000,9,    236.7,2,    227.1,2,    35.82,2,    31.26,2,     0.00,2,     2.19,2,   3.0669
  316N20060130,AAIW06,   158,  1,     20,     20,2,20060207,2304,-59.8195, -78.9890, 5047,    598.3,   3.0071,  34.2636,2,-999.0000,9,    227.8,2,    220.7,2,    39.18,2,    32.05,2,     0.00,2,     2.23,2,   2.9686
  316N20060130,AAIW06,   158,  1,     21,     21,9,20060207,2304,-59.8195, -78.9890, 5047,    599.0,   3.0073,  34.2637,2,-999.0000,9,   -999.0,9,   -999.0,9,  -999.00,9,  -999.00,9,  -999.00,9,  -999.00,9,   2.9687
  316N20060130,AAIW06,   158,  1,     19,     19,2,20060207,2304,-59.8195, -78.9890, 5047,    696.9,   2.9105,  34.3220,2,-999.0000,9,    211.6,2,    205.1,2,    46.53,2,    33.14,2,     0.00,2,     2.31,2,   2.8656
  316N20060130,AAIW06,   158,  1,     18,     18,2,20060207,2304,-59.8195, -78.9890, 5047,    795.1,   2.7781,  34.3824,2,-999.0000,9,    193.5,2,    192.3,2,    54.48,2,    33.84,2,     0.00,2,     2.37,2,   2.7269
  316N20060130,AAIW06,   158,  1,     17,     17,2,20060207,2304,-59.8195, -78.9890, 5047,    894.7,   2.6342,  34.4415,2,-999.0000,9,    184.5,2,    182.4,2,    61.85,2,    34.34,2,     0.00,2,     2.39,2,   2.5769
  316N20060130,AAIW06,   158,  1,     16,     16,2,20060207,2304,-59.8195, -78.9890, 5047,    993.9,   2.5230,  34.4896,2,-999.0000,9,    178.4,2,    177.0,2,    67.22,2,    34.43,2,     0.00,2,     2.41,2,   2.4593
  316N20060130,AAIW06,   158,  1,     15,     15,2,20060207,2304,-59.8195, -78.9890, 5047,   1091.1,   2.4762,  34.5410,2,-999.0000,9,    173.7,2,    173.1,2,    72.01,2,    34.22,2,     0.00,2,     2.39,2,   2.4057
  316N20060130,AAIW06,   158,  1,     14,     14,2,20060207,2304,-59.8195, -78.9890, 5047,   1189.7,   2.4272,  34.5726,2,-999.0000,9,    172.1,2,    171.8,2,    75.19,2,    34.07,2,     0.00,2,     2.38,2,   2.3498
  316N20060130,AAIW06,   158,  1,     13,     13,2,20060207,2304,-59.8195, -78.9890, 5047,   1383.4,   2.3067,  34.6347,2,-999.0000,9,    171.7,2,    171.8,2,    80.59,2,    33.36,2,     0.00,2,     2.33,2,   2.2157
  316N20060130,AAIW06,   158,  1,     12,     12,2,20060207,2304,-59.8195, -78.9890, 5047,   1585.4,   2.1725,  34.6797,2,-999.0000,9,    175.5,2,    176.8,2,    83.79,2,    32.60,2,     0.00,2,     2.28,2,   2.0673
  316N20060130,AAIW06,   158,  1,     11,     11,2,20060207,2304,-59.8195, -78.9890, 5047,   1788.0,   2.0370,  34.7065,2,-999.0000,9,    179.0,2,    178.4,2,    89.40,2,    32.06,2,     0.00,2,     2.25,2,   1.9172
  316N20060130,AAIW06,   158,  1,     10,     10,2,20060207,2304,-59.8195, -78.9890, 5047,   1988.6,   1.9034,  34.7178,2,  34.7156,2,    182.0,2,    182.2,2,    93.62,2,    31.90,2,     0.00,2,     2.23,2,   1.7691
  316N20060130,AAIW06,   158,  1,      9,      9,2,20060207,2304,-59.8195, -78.9890, 5047,   2290.7,   1.6818,  34.7238,2,  34.7195,0,    186.1,2,    186.5,2,   100.86,2,    31.79,2,     0.00,2,     2.23,2,   1.5255
  316N20060130,AAIW06,   158,  1,      8,      8,2,20060207,2304,-59.8195, -78.9890, 5047,   2593.2,   1.5025,  34.7249,2,  34.7237,2,    191.0,2,    190.7,2,   105.69,2,    31.79,2,     0.00,2,     2.23,2,   1.3229
  316N20060130,AAIW06,   158,  1,      7,      7,2,20060207,2304,-59.8195, -78.9890, 5047,   2895.8,   1.3281,  34.7237,2,  34.7221,2,    195.4,2,    195.6,2,   110.55,2,    31.83,2,     0.00,2,     2.22,2,   1.1246
  316N20060130,AAIW06,   158,  1,      6,      6,2,20060207,2304,-59.8195, -78.9890, 5047,   3196.1,   1.1587,  34.7202,2,  34.7204,2,    199.6,2,    199.4,2,   115.20,2,    31.93,2,     0.00,2,     2.23,2,   0.9307
  316N20060130,AAIW06,   158,  1,      5,      5,2,20060207,2304,-59.8195, -78.9890, 5047,   3602.2,   0.9142,  34.7127,2,  34.7177,0,    203.8,2,    203.6,2,   123.12,2,    32.12,2,     0.00,2,     2.25,2,   0.6525
  316N20060130,AAIW06,   158,  1,      4,      4,2,20060207,2304,-59.8195, -78.9890, 5047,   3909.6,   0.7308,  34.7082,2,  34.7079,2,    207.0,2,    207.3,2,   128.62,2,    32.32,2,     0.00,2,     2.26,2,   0.4429
  316N20060130,AAIW06,   158,  1,      3,      3,2,20060207,2304,-59.8195, -78.9890, 5047,   4322.6,   0.5845,  34.7063,2,  34.7064,2,    210.6,2,    210.2,2,   134.34,2,    32.47,2,     0.00,2,     2.27,2,   0.2573
  316N20060130,AAIW06,   158,  1,      2,      2,2,20060207,2304,-59.8195, -78.9890, 5047,   4731.5,   0.5465,  34.7051,2,  34.7062,0,    211.2,2,    211.5,2,   138.03,2,    32.52,2,     0.00,2,     2.28,2,   0.1753
  316N20060130,AAIW06,   158,  1,      1,      1,2,20060207,2304,-59.8195, -78.9890, 5047,   5131.0,   0.5508,  34.7042,2,  34.7029,2,    212.3,2,    212.2,2,   139.87,2,    32.55,2,     0.00,2,     2.29,2,   0.1333
  316N20060130,AAIW06,   159,  1,     36,     36,2,20060208, 706,-59.2183, -78.9952, 5190,      5.2,   6.9523,  33.9711,2,  33.9661,2,    298.5,2,    299.1,2,     0.45,2,    19.86,2,     0.20,2,     1.37,2,   6.9518
  316N20060130,AAIW06,   159,  1,     35,     35,2,20060208, 706,-59.2183, -78.9952, 5190,     22.0,   6.9582,  33.9708,2,  33.9641,2,    299.7,2,    297.7,2,     0.44,2,    19.86,2,     0.20,2,     1.38,2,   6.9562
  316N20060130,AAIW06,   159,  1,     34,     34,2,20060208, 706,-59.2183, -78.9952, 5190,     46.0,   6.9233,  33.9726,2,  33.9647,2,    300.8,2,    297.8,2,     0.43,2,    19.76,2,     0.20,2,     1.37,2,   6.9191
  316N20060130,AAIW06,   159,  1,     33,     33,2,20060208, 706,-59.2183, -78.9952, 5190,     72.1,   5.5238,  34.0119,2,  34.0082,2,    308.1,2,    307.4,2,     0.82,2,    20.52,2,     0.20,2,     1.60,2,   5.5180
  316N20060130,AAIW06,   159,  1,     32,     32,2,20060208, 706,-59.2183, -78.9952, 5190,     97.7,   4.7534,  34.0856,2,  34.0795,0,    300.5,2,    300.8,2,     5.52,2,    21.07,2,     0.42,2,     1.63,2,   4.7462
  316N20060130,AAIW06,   159,  1,     31,     31,2,20060208, 706,-59.2183, -78.9952, 5190,    133.2,   4.5186,  34.0835,2,-999.0000,9,    295.9,2,    296.1,2,     8.58,2,    22.84,2,     0.03,2,     1.62,2,   4.5089
  316N20060130,AAIW06,   159,  1,     30,     30,2,20060208, 706,-59.2183, -78.9952, 5190,    176.6,   3.9965,  34.0421,2,-999.0000,9,    292.5,2,    297.9,2,     9.59,2,    23.73,2,     0.22,2,     1.70,2,   3.9844
  316N20060130,AAIW06,   159,  1,     29,     29,2,20060208, 706,-59.2183, -78.9952, 5190,    227.0,   3.9269,  34.0632,2,-999.0000,9,    290.7,2,    289.3,2,    11.84,2,    24.71,2,     0.01,2,     1.73,2,   3.9114
  316N20060130,AAIW06,   159,  1,     28,     28,2,20060208, 706,-59.2183, -78.9952, 5190,    276.9,   3.8662,  34.0822,2,-999.0000,9,    294.8,2,    281.6,2,    13.67,2,    25.48,2,     0.01,2,     1.79,2,   3.8473
  316N20060130,AAIW06,   159,  1,     27,     27,2,20060208, 706,-59.2183, -78.9952, 5190,    326.3,   3.4173,  34.0512,2,-999.0000,9,    269.6,2,    286.9,2,    15.29,2,    26.15,2,     0.01,2,     1.84,2,   3.3961
  316N20060130,AAIW06,   159,  1,     26,     26,2,20060208, 706,-59.2183, -78.9952, 5190,    375.7,   3.8128,  34.1483,2,-999.0000,9,    256.0,2,    256.4,2,    20.40,2,    27.89,2,     0.01,2,     1.94,2,   3.7869
  316N20060130,AAIW06,   159,  1,     25,     25,2,20060208, 706,-59.2183, -78.9952, 5190,    425.2,   3.4705,  34.1402,2,-999.0000,9,    257.9,2,    259.2,2,    22.02,2,    28.26,2,     0.01,2,     1.98,2,   3.4422
  316N20060130,AAIW06,   159,  1,     24,     24,2,20060208, 706,-59.2183, -78.9952, 5190,    474.3,   3.5318,  34.1791,2,-999.0000,9,    247.3,2,    246.0,2,    25.08,2,    29.08,2,     0.01,2,     2.03,2,   3.4998
  316N20060130,AAIW06,   159,  1,     23,     23,2,20060208, 706,-59.2183, -78.9952, 5190,    524.3,   3.4779,  34.2153,2,-999.0000,9,    244.0,2,    235.0,2,    29.36,2,    30.01,2,     0.00,2,     2.09,2,   3.4425
  316N20060130,AAIW06,   159,  1,     22,     22,2,20060208, 706,-59.2183, -78.9952, 5190,    644.4,   3.3655,  34.2872,2,-999.0000,9,    213.3,2,    213.4,2,    38.35,2,    31.66,2,     0.00,2,     2.21,2,   3.3219
  316N20060130,AAIW06,   159,  1,     21,     21,9,20060208, 706,-59.2183, -78.9952, 5190,    645.1,   3.3651,  34.2875,2,-999.0000,9,   -999.0,9,   -999.0,9,  -999.00,9,  -999.00,9,  -999.00,9,  -999.00,9,   3.3215
  316N20060130,AAIW06,   159,  1,     20,     20,2,20060208, 706,-59.2183, -78.9952, 5190,    744.7,   2.9778,  34.3131,2,-999.0000,9,    205.4,2,    208.0,2,    45.10,2,    32.63,2,     0.00,2,     2.28,2,   2.9291
  316N20060130,AAIW06,   159,  1,     19,     19,2,20060208, 706,-59.2183, -78.9952, 5190,    843.9,   2.8792,  34.3763,2,-999.0000,9,    191.9,2,    192.8,2,    53.07,2,    33.46,2,     0.00,2,     2.34,2,   2.8239
  316N20060130,AAIW06,   159,  1,     18,     18,2,20060208, 706,-59.2183, -78.9952, 5190,    942.8,   2.7865,  34.4291,2,-999.0000,9,    183.4,2,    184.5,2,    59.82,2,    33.82,2,     0.00,2,     2.38,2,   2.7246
  316N20060130,AAIW06,   159,  1,     17,     17,2,20060208, 706,-59.2183, -78.9952, 5190,   1043.3,   2.6336,  34.4744,2,-999.0000,9,    178.8,2,    178.5,2,    65.35,2,    34.09,2,     0.00,2,     2.39,2,   2.5654
  316N20060130,AAIW06,   159,  1,     16,     16,2,20060208, 706,-59.2183, -78.9952, 5190,   1142.7,   2.5312,  34.5287,2,-999.0000,9,    174.7,2,    174.1,2,    71.29,2,    34.08,2,     0.00,2,     2.39,2,   2.4565
  316N20060130,AAIW06,   159,  1,     15,     15,2,20060208, 706,-59.2183, -78.9952, 5190,   1244.3,   2.4587,  34.5678,2,-999.0000,9,    171.7,2,    172.7,2,    75.38,2,    33.68,2,     0.00,2,     2.37,2,   2.3769
  316N20060130,AAIW06,   159,  1,     14,     14,2,20060208, 706,-59.2183, -78.9952, 5190,   1343.3,   2.3999,  34.5981,2,-999.0000,9,    171.0,2,    170.6,2,    77.63,2,    33.58,2,     0.00,2,     2.36,2,   2.3111
  316N20060130,AAIW06,   159,  1,     13,     13,2,20060208, 706,-59.2183, -78.9952, 5190,   1444.1,   2.3303,  34.6285,2,-999.0000,9,    171.3,2,    171.1,2,    80.69,2,    33.28,2,     0.00,2,     2.34,2,   2.2344
  316N20060130,AAIW06,   159,  1,     12,     12,2,20060208, 706,-59.2183, -78.9952, 5190,   1544.9,   2.2752,  34.6512,2,-999.0000,9,    172.5,2,    172.5,2,    82.95,2,    32.92,2,     0.00,2,     2.31,2,   2.1720
  316N20060130,AAIW06,   159,  1,     11,     11,2,20060208, 706,-59.2183, -78.9952, 5190,   1646.8,   2.2178,  34.6702,2,-999.0000,9,    174.2,2,    174.2,2,    84.99,2,    32.71,2,     0.00,2,     2.30,2,   2.1071
  316N20060130,AAIW06,   159,  1,     10,     10,2,20060208, 706,-59.2183, -78.9952, 5190,   1747.5,   2.1388,  34.6901,2,-999.0000,9,    176.0,2,    176.8,2,    86.42,2,    32.31,2,     0.00,2,     2.27,2,   2.0210
  316N20060130,AAIW06,   159,  1,      9,      9,2,20060208, 706,-59.2183, -78.9952, 5190,   1949.0,   2.0184,  34.7092,2,-999.0000,9,    179.6,2,    179.7,2,    90.73,2,    31.90,2,     0.00,2,     2.24,2,   1.8857
  316N20060130,AAIW06,   159,  1,      8,      8,2,20060208, 706,-59.2183, -78.9952, 5190,   2159.5,   1.8755,  34.7217,2,  34.7170,0,    184.3,2,    183.4,2,    94.63,2,    31.65,2,     0.00,2,     2.22,2,   1.7272
  316N20060130,AAIW06,   159,  1,      7,      7,2,20060208, 706,-59.2183, -78.9952, 5190,   2513.0,   1.6101,  34.7288,2,  34.7252,0,    190.7,2,    190.1,2,   101.86,2,    31.44,2,     0.00,2,     2.21,2,   1.4356
  316N20060130,AAIW06,   159,  1,      6,      6,2,20060208, 706,-59.2183, -78.9952, 5190,   2916.5,   1.3639,  34.7249,2,  34.7227,0,    195.2,2,    195.3,2,   108.89,2,    31.66,2,     0.00,2,     2.22,2,   1.1576
  316N20060130,AAIW06,   159,  1,      5,      5,2,20060208, 706,-59.2183, -78.9952, 5190,   3322.9,   1.1389,  34.7194,2,  34.7156,0,    200.0,2,    199.8,2,   116.15,2,    31.76,2,     0.00,2,     2.22,2,   0.8991
  316N20060130,AAIW06,   159,  1,      4,      4,2,20060208, 706,-59.2183, -78.9952, 5190,   3824.9,   0.8889,  34.7112,2,  34.7070,0,    204.5,2,    204.4,2,   124.88,2,    31.97,2,     0.00,2,     2.25,2,   0.6053
  316N20060130,AAIW06,   159,  1,      3,      3,2,20060208, 706,-59.2183, -78.9952, 5190,   4333.5,   0.6614,  34.7069,2,  34.7017,0,    208.9,2,    208.9,2,   131.98,2,    32.23,2,     0.00,2,     2.25,2,   0.3306
  316N20060130,AAIW06,   159,  1,      2,      2,2,20060208, 706,-59.2183, -78.9952, 5190,   4843.5,   0.5882,  34.7056,2,  34.7017,0,    210.9,2,    211.0,2,   136.36,2,    32.45,2,     0.00,2,     2.27,2,   0.2029
  316N20060130,AAIW06,   159,  1,      1,      1,2,20060208, 706,-59.2183, -78.9952, 5190,   5288.4,   0.6038,  34.7046,2,  34.7026,0,    211.9,2,    211.9,2,   138.86,2,    32.45,2,     0.00,2,     2.27,2,   0.1656