BOTTLE,20130611PRINUNIVRMK
EXPOCODE,SECT_ID,STNNBR,CASTNO,SAMPNO,BTLNBR,BTLNBR_FLAG_W,DATE,TIME,LATITUDE,LONGITUDE,DEPTH,CTDPRS,CTDTMP,CTDSAL,CTDSAL_FLAG_W,SALNTY,SALNTY_FLAG_W,CTDOXY,CTDOXY_FLAG_W,OXYGEN,OXYGEN_FLAG_W,SILCAT,SILCAT_FLAG_W,NITRAT,NITRAT_FLAG_W,PHSPHT,PHSPHT_FLAG_W,CFC-11,CFC-11_FLAG_W,CFC-12,CFC-12_FLAG_W,CFC113,CFC113_FLAG_W,CCL4,CCL4_FLAG_W,MCHFRM,MCHFRM_FLAG_W,TCARBN,TCARBN_FLAG_W,ALKALI,ALKALI_FLAG_W,THETA,BTL_DATE,BTL_TIME
,,,,,,,,,,,METERS,DBAR,ITS-90,PSS-78,,PSS-78,,UMOL/KG,,UMOL/KG,,UMOL/KG,,UMOL/KG,,UMOL/KG,,PMOL/KG,,PMOL/KG,,PMOL/KG,,PMOL/KG,,PMOL/KG,,UMOL/KG,,UMOL/KG,,DEG C,,
  18HU20050526, AR07W,   107,  1, 285879,      1,2,20050601,0829, 56.1137, -53.1178, 3342,   3365.2,   1.4582,  34.8696,2,  34.8694,2,    292.7,2,   -999.0,9,     9.68,6,    14.12,6,     0.98,6,    4.250,2,    1.870,4,    0.240,2,    4.410,4,    5.840,2,   2161.3,2,   2312.5,2,   1.2056, 20050601,      829
  18HU20050526, AR07W,   107,  1, 285880,      2,2,20050601,0829, 56.1137, -53.1178, 3342,   3299.4,   1.5324,  34.8749,2,  34.8749,2,    291.0,2,    291.0,2,    10.08,6,    14.39,6,     0.99,6,    4.280,2,    1.890,4,    0.250,2,    4.460,4,    6.190,2,   2159.4,2,   2298.8,2,   1.2846, 20050601,      831
  18HU20050526, AR07W,   107,  1, 285881,      3,2,20050601,0829, 56.1137, -53.1178, 3342,   3220.1,   1.7778,  34.8817,2,  34.8823,2,    287.0,2,    287.3,2,    10.77,6,    14.83,6,     1.02,6,    3.900,2,    1.640,4,    0.200,2,    4.120,4,    6.120,2,   2161.7,2,   2284.2,2,   1.5321, 20050601,      834
  18HU20050526, AR07W,   107,  1, 285882,      4,2,20050601,0829, 56.1137, -53.1178, 3342,   3120.1,   2.0500,  34.8871,2,  34.8877,2,    282.5,2,    282.3,2,    12.19,6,    15.43,6,     1.05,6,    3.440,2,    1.510,4,    0.180,2,    3.720,4,    5.900,2,   2160.8,2,   2298.1,2,   1.8081, 20050601,      836
  18HU20050526, AR07W,   107,  1, 285883,      5,2,20050601,0829, 56.1137, -53.1178, 3342,   2999.6,   2.3112,  34.8962,2,  34.8959,2,    278.5,2,    278.2,2,    13.02,6,    15.90,6,     1.07,6,    2.910,2,    0.940,4,    0.120,2,    3.080,4,    4.990,2,   2160.4,2,   2289.3,2,   2.0756, 20050601,      839
  18HU20050526, AR07W,   107,  1, 285884,      6,2,20050601,0829, 56.1137, -53.1178, 3342,   2860.3,   2.5119,  34.8991,2,  34.9002,6,    277.9,2,    277.5,2,    12.04,6,    15.99,6,     1.07,6,    3.190,2,    1.290,4,    0.150,2,    3.500,4,    5.780,2,   2158.3,3,   2297.2,2,   2.2859, 20050601,      842
  18HU20050526, AR07W,   107,  1, 285885,      7,2,20050601,0829, 56.1137, -53.1178, 3342,   2699.6,   2.7157,  34.9077,2,  34.9079,2,    275.3,2,    274.5,2,    12.17,6,    16.26,6,     1.09,6,    2.890,2,    1.120,4,    0.120,2,    3.170,4,    5.660,2,   2159.9,2,   2300.0,2,   2.5016, 20050601,      846
  18HU20050526, AR07W,   107,  1, 285886,      8,2,20050601,0829, 56.1137, -53.1178, 3342,   2519.2,   2.8606,  34.9053,2,  34.9053,6,    275.3,2,    275.0,2,    11.56,6,    16.46,6,     1.10,6,    0.000,4,    1.130,4,    0.000,4,    0.000,4,    0.000,2,   2160.3,2,   2308.0,2,   2.6615, 20050601,      850
  18HU20050526, AR07W,   107,  1, 285887,      9,2,20050601,0829, 56.1137, -53.1178, 3342,   2321.0,   3.0018,  34.9022,2,  34.9022,2,    275.2,2,    274.3,2,    11.92,6,    16.00,6,     1.09,6,    3.120,2,    1.110,4,    0.150,2,    3.350,4,    6.450,2,   2159.9,2,   2300.4,2,   2.8193, 20050601,      854
  18HU20050526, AR07W,   107,  1, 285888,     10,2,20050601,0829, 56.1137, -53.1178, 3342,   2100.7,   3.1376,  34.8961,2,  34.8961,2,    276.0,2,    276.2,2,    10.65,6,    16.19,6,     1.08,6,    3.410,2,    1.320,4,    0.180,2,    3.580,4,    7.050,2,   2159.9,2,   2294.6,2,   2.9738, 20050601,      858
  18HU20050526, AR07W,   107,  1, 285889,     11,2,20050601,0829, 56.1137, -53.1178, 3342,   1922.2,   3.2260,  34.8903,2,  34.8900,2,    276.1,2,    275.6,2,    10.55,6,    16.51,6,     1.10,6,    3.600,2,    1.510,4,    0.160,2,    3.790,4,    7.890,2,   2159.3,2,   2298.6,2,   3.0774, 20050601,      901
  18HU20050526, AR07W,   107,  1, 285890,     12,2,20050601,0829, 56.1137, -53.1178, 3342,   1649.3,   3.4259,  34.8947,2,  34.8941,2,    273.2,2,    275.3,2,    10.40,6,    16.60,6,     1.11,6,    3.670,2,    1.450,4,    0.220,2,    3.810,4,    7.600,2,   2160.1,2,   2292.5,2,   3.2992, 20050601,      906
  18HU20050526, AR07W,   107,  1, 285891,     13,2,20050601,0829, 56.1137, -53.1178, 3342,   1222.2,   3.3829,  34.8520,2,  34.8528,2,    285.8,2,    286.9,6,     8.92,6,    16.11,6,     1.07,6,    4.870,2,    2.600,4,    0.310,2,    5.070,4,    5.780,2,   2157.5,2,   2290.9,2,   3.2935, 20050601,      912
  18HU20050526, AR07W,   107,  1, 285892,     14,2,20050601,0829, 56.1137, -53.1178, 3342,   1061.6,   3.4508,  34.8570,2,  34.8580,2,    289.8,2,    290.1,2,     8.30,6,    15.90,6,     1.06,6,    4.950,2,    1.100,4,    0.310,2,    5.370,4,    4.630,2,   2158.4,2,   2294.0,2,   3.3738, 20050601,      915
  18HU20050526, AR07W,   107,  1, 285893,     15,2,20050601,0829, 56.1137, -53.1178, 3342,    899.6,   3.4649,  34.8566,2,  34.8568,2,    291.9,2,    291.6,2,     8.19,6,    15.76,6,     1.05,6,    4.840,2,    2.520,4,    0.240,2,    5.210,4,    4.140,2,   2157.2,2,   2293.4,2,   3.4007, 20050601,      918
  18HU20050526, AR07W,   107,  1, 285894,     16,2,20050601,0829, 56.1137, -53.1178, 3342,    751.2,   3.4633,  34.8550,2,  34.8552,2,    292.3,2,    291.6,2,     8.17,6,    15.76,6,     1.04,6,    5.020,2,    1.440,4,    0.380,2,    5.550,4,    4.190,2,   2158.8,2,   2286.4,3,   3.4106, 20050601,      921
  18HU20050526, AR07W,   107,  1, 285895,     17,2,20050601,0829, 56.1137, -53.1178, 3342,    579.8,   3.4548,  34.8491,2,  34.8491,2,    294.0,2,    293.3,2,     8.15,2,    15.58,2,     1.06,2,    5.120,2,    2.890,4,    0.300,2,    5.630,4,    4.190,2,   2158.8,2,   2285.8,2,   3.4149, 20050601,      926
  18HU20050526, AR07W,   107,  1, 285896,     18,2,20050601,0829, 56.1137, -53.1178, 3342,    416.8,   3.4383,  34.8423,2,  34.8428,2,    295.6,2,    294.8,2,     8.05,6,    15.83,6,     1.06,6,    5.000,2,    2.570,4,    0.290,2,    5.450,4,    3.750,2,   2157.7,2,   2289.1,2,   3.4102, 20050601,      929
  18HU20050526, AR07W,   107,  1, 285897,     19,2,20050601,0829, 56.1137, -53.1178, 3342,    309.7,   3.4976,  34.8455,2,  34.8458,2,    293.7,2,    293.9,2,     8.09,6,    15.62,6,     1.04,6,    5.080,2,    2.930,4,    0.310,2,    5.580,4,    3.920,2,   2155.3,2,   2290.9,2,   3.4768, 20050601,      932
  18HU20050526, AR07W,   107,  1, 285898,     20,2,20050601,0829, 56.1137, -53.1178, 3342,    200.5,   3.5842,  34.8469,2,-999.0000,9,    291.9,2,    290.6,2,     7.94,6,    15.59,6,     1.03,6,    4.990,2,    2.830,4,    0.340,2,    5.410,4,    3.760,2,   2154.3,2,   2290.2,2,   3.5708, 20050601,      934
  18HU20050526, AR07W,   107,  1, 285899,     21,2,20050601,0829, 56.1137, -53.1178, 3342,    119.6,   3.6519,  34.8406,2,-999.0000,9,    286.4,2,    285.2,2,     7.91,6,    15.79,6,     1.04,6,    4.820,2,    2.580,4,    0.290,2,    5.080,4,    3.710,2,   2155.8,2,   2296.1,2,   3.6439, 20050601,      937
  18HU20050526, AR07W,   107,  1, 285900,     22,2,20050601,0829, 56.1137, -53.1178, 3342,     59.7,   3.5351,  34.7901,2,-999.0000,9,    304.7,2,    303.3,2,     5.27,6,    13.90,6,     0.98,6,    5.470,2,    3.350,4,    0.390,2,    6.240,4,    3.310,2,   2150.9,2,   2299.3,2,   3.5312, 20050601,      939
  18HU20050526, AR07W,   107,  1, 285901,     23,2,20050601,0829, 56.1137, -53.1178, 3342,     36.4,   4.0604,  34.7476,2,-999.0000,9,    316.6,2,    315.6,2,     3.72,6,    10.83,6,     0.76,6,    5.480,2,    3.300,4,    0.420,2,    6.330,4,    2.980,2,   2133.4,2,   2290.3,2,   4.0579, 20050601,      941
  18HU20050526, AR07W,   107,  1, 285902,     24,2,20050601,0829, 56.1137, -53.1178, 3342,      2.7,   5.6192,  34.6869,2,-999.0000,9,    349.0,2,    348.2,2,     1.76,6,     3.07,6,     0.26,6,    5.410,2,    2.890,4,    0.400,2,    6.310,4,    2.540,2,   2077.8,2,   2289.4,2,   5.6190, 20050601,      942
  18HU20050526, AR07W,   113,  1, 285903,      1,2,20050601,1158, 55.8450, -53.3942, 3379,    200.1,   3.5601,  34.8477,2,-999.0000,9,    294.6,2,   -999.0,9,     7.99,6,    15.76,6,     1.03,6, -999.000,9, -999.000,9, -999.000,9, -999.000,9, -999.000,9,   -999.0,9,   -999.0,9,   3.5468, 20050601,     1158
  18HU20050526, AR07W,   113,  1, 285904,      2,2,20050601,1158, 55.8450, -53.3942, 3379,    151.2,   3.5884,  34.8452,2,-999.0000,9,    293.1,2,   -999.0,9,     7.89,6,    15.83,6,     1.02,6, -999.000,9, -999.000,9, -999.000,9, -999.000,9, -999.000,9,   -999.0,9,   -999.0,9,   3.5783, 20050601,     1159
  18HU20050526, AR07W,   113,  1, 285905,      3,2,20050601,1158, 55.8450, -53.3942, 3379,    100.5,   3.5571,  34.8210,2,-999.0000,9,    295.0,2,   -999.0,9,     7.98,6,    15.70,6,     1.02,6, -999.000,9, -999.000,9, -999.000,9, -999.000,9, -999.000,9,   -999.0,9,   -999.0,9,   3.5505, 20050601,     1201
  18HU20050526, AR07W,   113,  1, 285906,      4,2,20050601,1158, 55.8450, -53.3942, 3379,     79.5,   3.6246,  34.8168,2,-999.0000,9,    301.3,2,   -999.0,9,     7.96,6,    15.30,6,     1.00,6, -999.000,9, -999.000,9, -999.000,9, -999.000,9, -999.000,9,   -999.0,9,   -999.0,9,   3.6193, 20050601,     1201
  18HU20050526, AR07W,   113,  1, 285907,      5,2,20050601,1158, 55.8450, -53.3942, 3379,     60.5,   3.6843,  34.7898,2,-999.0000,9,    305.8,2,   -999.0,9,     7.50,6,    14.43,6,     0.97,6, -999.000,9, -999.000,9, -999.000,9, -999.000,9, -999.000,9,   -999.0,9,   -999.0,9,   3.6803, 20050601,     1203
  18HU20050526, AR07W,   113,  1, 285908,      6,2,20050601,1158, 55.8450, -53.3942, 3379,     50.4,   3.8238,  34.7844,2,-999.0000,9,    307.5,2,   -999.0,9,     7.41,6,    13.95,6,     0.94,6, -999.000,9, -999.000,9, -999.000,9, -999.000,9, -999.000,9,   -999.0,9,   -999.0,9,   3.8204, 20050601,     1203
  18HU20050526, AR07W,   113,  1, 285909,      7,2,20050601,1158, 55.8450, -53.3942, 3379,     39.7,   3.8852,  34.7711,2,-999.0000,9,    309.6,2,   -999.0,9,     7.53,6,    13.73,6,     0.93,6, -999.000,9, -999.000,9, -999.000,9, -999.000,9, -999.000,9,   -999.0,9,   -999.0,9,   3.8825, 20050601,     1204
  18HU20050526, AR07W,   113,  1, 285910,      8,2,20050601,1158, 55.8450, -53.3942, 3379,     29.5,   4.1059,  34.7575,2,-999.0000,9,    311.7,2,   -999.0,9,     7.73,6,    13.14,6,     0.90,6, -999.000,9, -999.000,9, -999.000,9, -999.000,9, -999.000,9,   -999.0,9,   -999.0,9,   4.1038, 20050601,     1205
  18HU20050526, AR07W,   113,  1, 285911,      9,2,20050601,1158, 55.8450, -53.3942, 3379,     20.1,   4.2988,  34.7440,2,-999.0000,9,    330.1,2,   -999.0,9,  -999.00,9,  -999.00,9,  -999.00,9, -999.000,9, -999.000,9, -999.000,9, -999.000,9, -999.000,9,   -999.0,9,   -999.0,9,   4.2974, 20050601,     1206
  18HU20050526, AR07W,   113,  1, 285912,     10,2,20050601,1158, 55.8450, -53.3942, 3379,     19.9,   4.3012,  34.7442,2,-999.0000,9,    330.1,2,   -999.0,9,  -999.00,9,  -999.00,9,  -999.00,9, -999.000,9, -999.000,9, -999.000,9, -999.000,9, -999.000,9,   -999.0,9,   -999.0,9,   4.2998, 20050601,     1206
  18HU20050526, AR07W,   113,  1, 285913,     11,2,20050601,1158, 55.8450, -53.3942, 3379,     20.4,   4.2971,  34.7445,2,-999.0000,9,    330.5,2,   -999.0,9,     6.69,6,    10.44,6,     0.74,6, -999.000,9, -999.000,9, -999.000,9, -999.000,9, -999.000,9,   -999.0,9,   -999.0,9,   4.2957, 20050601,     1206
  18HU20050526, AR07W,   113,  1, 285914,     12,2,20050601,1158, 55.8450, -53.3942, 3379,      8.8,   5.6794,  34.5589,2,-999.0000,9,    346.9,2,   -999.0,9,     3.27,6,     1.54,6,     0.19,6, -999.000,9, -999.000,9, -999.000,9, -999.000,9, -999.000,9,   -999.0,9,   -999.0,9,   5.6787, 20050601,     1207
  18HU20050526, AR07W,   113,  1, 285915,     13,2,20050601,1158, 55.8450, -53.3942, 3379,      1.9,   5.6908,  34.5515,2,-999.0000,9,    347.5,2,   -999.0,9,     3.26,6,     1.44,6,     0.17,6, -999.000,9, -999.000,9, -999.000,9, -999.000,9, -999.000,9,   -999.0,9,   -999.0,9,   5.6906, 20050601,     1208
  18HU20050526, AR07W,   113,  1, 285916,     14,2,20050601,1158, 55.8450, -53.3942, 3379,      2.3,   5.6912,  34.5513,2,-999.0000,9,    347.5,2,   -999.0,9,  -999.00,9,  -999.00,9,  -999.00,9, -999.000,9, -999.000,9, -999.000,9, -999.000,9, -999.000,9,   -999.0,9,   -999.0,9,   5.6910, 20050601,     1208
  18HU20050526, AR07W,   113,  1, 285917,     15,2,20050601,1158, 55.8450, -53.3942, 3379,      2.0,   5.6911,  34.5513,2,-999.0000,9,    347.6,2,   -999.0,9,  -999.00,9,  -999.00,9,  -999.00,9, -999.000,9, -999.000,9, -999.000,9, -999.000,9, -999.000,9,   -999.0,9,   -999.0,9,   5.6909, 20050601,     1208
  18HU20050526, AR07W,   113,  1, 285918,     16,2,20050601,1158, 55.8450, -53.3942, 3379,      2.8,   5.6920,  34.5502,2,-999.0000,9,    347.7,2,   -999.0,9,  -999.00,9,  -999.00,9,  -999.00,9, -999.000,9, -999.000,9, -999.000,9, -999.000,9, -999.000,9,   -999.0,9,   -999.0,9,   5.6918, 20050601,     1208
  18HU20050526, AR07W,   113,  1, 285919,     17,2,20050601,1158, 55.8450, -53.3942, 3379,      1.7,   5.6913,  34.5510,2,-999.0000,9,    347.6,2,   -999.0,9,  -999.00,9,  -999.00,9,  -999.00,9, -999.000,9, -999.000,9, -999.000,9, -999.000,9, -999.000,9,   -999.0,9,   -999.0,9,   5.6912, 20050601,     1208