BOTTLE,20130611PRINUNIVRMK
EXPOCODE,SECT_ID,STNNBR,CASTNO,SAMPNO,BTLNBR,BTLNBR_FLAG_W,DATE,TIME,LATITUDE,LONGITUDE,DEPTH,CTDPRS,CTDTMP,CTDSAL,CTDSAL_FLAG_W,SALNTY,SALNTY_FLAG_W,CTDOXY,CTDOXY_FLAG_W,OXYGEN,OXYGEN_FLAG_W,SILCAT,SILCAT_FLAG_W,NITRAT,NITRAT_FLAG_W,PHSPHT,PHSPHT_FLAG_W,CFC-11,CFC-11_FLAG_W,CFC-12,CFC-12_FLAG_W,CFC113,CFC113_FLAG_W,CCL4,CCL4_FLAG_W,MCHFRM,MCHFRM_FLAG_W,TCARBN,TCARBN_FLAG_W,ALKALI,ALKALI_FLAG_W,THETA,BTL_DATE,BTL_TIME
,,,,,,,,,,,METERS,DBAR,ITS-90,PSS-78,,PSS-78,,UMOL/KG,,UMOL/KG,,UMOL/KG,,UMOL/KG,,UMOL/KG,,PMOL/KG,,PMOL/KG,,PMOL/KG,,PMOL/KG,,PMOL/KG,,UMOL/KG,,UMOL/KG,,DEG C,,
  18HU20050526, AR07W,    47,  1, 285694,      1,2,20050530,1854, 59.0677, -49.9442, 3417,   3516.9,   1.4387,  34.8705,2,  34.8704,2,    293.8,2,    296.8,2,     9.31,6,    14.05,6,     0.98,6,    4.530,2,    2.570,4,    0.180,2,    4.940,4,    6.430,2,   2160.0,2,   2291.9,2,   1.1713, 20050530,     1854
  18HU20050526, AR07W,    47,  1, 285695,      2,2,20050530,1854, 59.0677, -49.9442, 3417,   3450.9,   1.5144,  34.8721,2,  34.8716,2,    292.7,2,    293.0,2,     9.06,6,    14.12,6,     0.97,6,    4.490,2,    2.400,4,    0.190,2,    4.960,4,    6.530,2,   2157.4,3,   2296.4,2,   1.2518, 20050530,     1857
  18HU20050526, AR07W,    47,  1, 285696,      3,2,20050530,1854, 59.0677, -49.9442, 3417,   3370.3,   1.6579,  34.8738,2,  34.8731,2,    290.7,2,    291.2,2,     9.56,6,    14.34,6,     0.99,6,    4.340,2,    2.300,4,    0.210,2,    4.750,4,    6.520,2,   2161.6,2,   2300.4,2,   1.3999, 20050530,     1858
  18HU20050526, AR07W,    47,  1, 285697,      4,2,20050530,1854, 59.0677, -49.9442, 3417,   3268.4,   1.8902,  34.8732,2,  34.8729,2,    289.7,2,    289.8,2,     9.14,6,    14.29,6,     0.98,6,    4.240,2,    2.410,4,    0.270,2,    4.670,4,    6.010,2,   2156.9,3,   2301.1,2,   1.6370, 20050530,     1900
  18HU20050526, AR07W,    47,  1, 285698,      5,2,20050530,1854, 59.0677, -49.9442, 3417,   3140.1,   2.1498,  34.8788,2,  34.8770,2,    285.4,2,    285.3,2,    10.21,6,    14.75,6,     1.00,6,    3.940,2,    2.130,4,    0.210,2,    4.330,4,    5.910,2,   2160.2,2,   2300.9,2,   1.9036, 20050530,     1903
  18HU20050526, AR07W,    47,  1, 285699,      6,2,20050530,1854, 59.0677, -49.9442, 3417,   3002.4,   2.4676,  34.8999,2,  34.8992,2,    278.0,2,    277.6,2,    12.69,6,    15.81,6,     1.06,6,    3.160,2,    1.620,4,    0.150,2,    3.520,4,    5.790,2,   2163.0,2,   2305.0,2,   2.2283, 20050530,     1906
  18HU20050526, AR07W,    47,  1, 285700,      7,2,20050530,1854, 59.0677, -49.9442, 3417,   2847.6,   2.6760,  34.9111,2,  34.9108,2,    274.8,2,    274.1,2,    13.03,6,    16.31,6,     1.08,6,    2.800,2,    1.450,4,    0.120,2,    3.190,4,    5.710,2,   2165.3,3,   2300.1,2,   2.4479, 20050530,     1909
  18HU20050526, AR07W,    47,  1, 285701,      8,2,20050530,1854, 59.0677, -49.9442, 3417,   2655.7,   2.8238,  34.9084,2,  34.9081,2,    274.6,2,    274.7,2,    12.21,6,    16.27,6,     1.08,6,    0.000,4,    0.000,4,    0.000,4,    0.000,4,    0.000,4,   2163.9,2,   2312.7,2,   2.6119, 20050530,     1912
  18HU20050526, AR07W,    47,  1, 285702,      9,2,20050530,1854, 59.0677, -49.9442, 3417,   2431.7,   2.9872,  34.9041,2,  34.9039,2,    275.2,2,    275.0,2,    11.82,6,    16.54,6,     1.10,6,    3.040,2,    1.460,4,    0.130,2,    3.380,4,    6.630,2,   2160.5,2,   2308.9,2,   2.7943, 20050530,     1916
  18HU20050526, AR07W,    47,  1, 285703,     10,2,20050530,1854, 59.0677, -49.9442, 3417,   2203.8,   3.1218,  34.8973,2,  34.8944,6,    276.0,2,    275.2,2,    11.06,6,    16.61,6,     1.10,6,    0.000,4,    1.900,4,    0.000,4,    0.000,4,    0.000,4,   2161.5,2,   2297.4,2,   2.9485, 20050530,     1920
  18HU20050526, AR07W,    47,  1, 285704,     11,2,20050530,1854, 59.0677, -49.9442, 3417,   1978.9,   3.2488,  34.8928,2,  34.8921,2,    275.9,2,    275.6,2,    10.81,6,    16.88,6,     1.11,6, -999.000,9, -999.000,9, -999.000,9, -999.000,9, -999.000,9,   2160.8,2,   2296.0,2,   3.0946, 20050530,     1923
  18HU20050526, AR07W,    47,  1, 285705,     12,2,20050530,1854, 59.0677, -49.9442, 3417,   1739.3,   3.4576,  34.9021,2,  34.9015,2,    272.6,2,    272.1,2,    10.61,6,    17.09,6,     1.12,6,    3.630,2,    1.910,4,    0.290,2,    3.250,4,    5.070,2,   2162.9,2,   2283.9,2,   3.3224, 20050530,     1927
  18HU20050526, AR07W,    47,  1, 285706,     13,2,20050530,1854, 59.0677, -49.9442, 3417,   1507.6,   3.5502,  34.8931,2,  34.8928,2,    274.2,2,    273.3,6,    10.24,6,    16.84,6,     1.12,6,    4.010,2,    2.080,4,    0.210,2,    4.130,4,    6.860,2,   2162.4,2,   2289.7,2,   3.4346, 20050530,     1931
  18HU20050526, AR07W,    47,  1, 285707,     14,2,20050530,1854, 59.0677, -49.9442, 3417,   1276.3,   3.4358,  34.8601,2,  34.8596,2,    284.1,2,    284.9,2,     9.46,6,    16.40,6,     1.11,6,    4.750,2,    2.580,4,    0.260,2,    5.110,4,    6.130,2,   2160.0,2,   2286.6,2,   3.3413, 20050530,     1935
  18HU20050526, AR07W,    47,  1, 285708,     15,2,20050530,1854, 59.0677, -49.9442, 3417,   1075.6,   3.4818,  34.8591,2,  34.8588,2,    287.8,2,    287.8,2,     8.98,6,    16.12,6,     1.09,6,    4.860,2,    2.560,4,    0.270,2,    5.400,4,    5.280,2,   2162.3,3,   2295.1,2,   3.4035, 20050530,     1938
  18HU20050526, AR07W,    47,  1, 285709,     16,2,20050530,1854, 59.0677, -49.9442, 3417,    875.5,   3.5325,  34.8605,2,  34.8666,2,    291.0,2,    290.6,2,     8.63,6,    15.91,6,     1.08,6,    5.010,2,    1.700,4,    0.320,2,    5.650,4,    4.590,2,   2159.7,2,   2291.5,2,   3.4697, 20050530,     1942
  18HU20050526, AR07W,    47,  1, 285710,     17,2,20050530,1854, 59.0677, -49.9442, 3417,    685.7,   3.6544,  34.8710,2,  34.8717,2,    288.0,2,    287.3,2,     8.59,6,    15.98,6,     1.09,6,    4.920,2,    2.780,4,    0.320,2,    5.470,4,    4.620,2,   2158.3,2,   2290.1,2,   3.6056, 20050530,     1945
  18HU20050526, AR07W,    47,  1, 285711,     18,2,20050530,1854, 59.0677, -49.9442, 3417,    512.8,   3.8020,  34.8810,2,  34.8813,2,    285.9,2,    285.8,2,     8.58,6,    15.89,6,     1.08,6,    4.750,2,    2.580,4,    0.260,2,    5.300,4,    4.410,2,   2160.0,3,   2294.4,2,   3.7656, 20050530,     1948
  18HU20050526, AR07W,    47,  1, 285712,     19,2,20050530,1854, 59.0677, -49.9442, 3417,    363.8,   4.0096,  34.8898,2,  34.8902,2,    286.5,2,    286.0,2,     8.38,6,    15.78,6,     1.09,6,    4.810,2,    2.630,4,    0.250,2,    5.350,4,    4.100,2,   2155.8,2,   2297.7,2,   3.9836, 20050530,     1950
  18HU20050526, AR07W,    47,  1, 285713,     20,2,20050530,1854, 59.0677, -49.9442, 3417,    241.8,   4.1369,  34.8866,2,-999.0000,9,    293.2,2,    292.3,2,     7.90,6,    15.32,6,     1.06,6,    4.940,2,    2.810,4,    0.280,2,    5.700,4,    3.440,2,   2154.8,2,   2294.5,2,   4.1196, 20050530,     1952
  18HU20050526, AR07W,    47,  1, 285714,     21,2,20050530,1854, 59.0677, -49.9442, 3417,    141.2,   4.1725,  34.8728,2,-999.0000,9,    294.7,2,    294.2,2,     7.67,6,    15.32,6,     1.05,6,    4.910,2,    1.080,4,    0.340,2,    5.730,4,    3.050,2,   2153.3,2,   2292.0,2,   4.1625, 20050530,     1954
  18HU20050526, AR07W,    47,  1, 285715,     22,2,20050530,1854, 59.0677, -49.9442, 3417,     71.6,   4.3546,  34.8664,2,-999.0000,9,    300.9,2,    300.6,2,     7.29,6,    13.85,6,     0.99,6,    5.220,2,    2.940,4,    0.270,2,    6.210,4,    3.030,2,   2148.6,2,   2299.2,2,   4.3494, 20050530,     1956
  18HU20050526, AR07W,    47,  1, 285716,     23,2,20050530,1854, 59.0677, -49.9442, 3417,     37.0,   4.7400,  34.8226,2,-999.0000,9,    327.2,2,    327.2,2,     5.60,6,     8.65,6,     0.72,6,    5.390,2,    3.090,4,    0.350,2,    6.550,4,    2.850,2,   2114.5,2,   2300.1,2,   4.7372, 20050530,     1957
  18HU20050526, AR07W,    47,  1, 285717,     24,2,20050530,1854, 59.0677, -49.9442, 3417,      2.6,   5.3843,  34.7821,2,-999.0000,9,    333.9,2,    333.5,2,     4.28,6,     7.24,6,     0.59,6,    5.230,2,    2.770,4,    0.430,2,    6.520,4,    2.630,2,   2103.3,2,   2295.3,2,   5.3841, 20050530,     1958
  18HU20050526, AR07W,    56,  1, 285718,      1,2,20050531,0005, 58.6405, -50.4230, 3444,   3572.0,   1.4776,  34.8730,2,  34.8726,2,    292.8,2,    293.3,2,     9.62,6,    13.97,6,     1.03,6,    4.290,2,    2.900,4,    0.350,2,    3.920,4,    4.310,2,   2160.1,2,   2303.4,2,   1.2035, 20050531,        5
  18HU20050526, AR07W,    56,  1, 285719,      2,2,20050531,0005, 58.6405, -50.4230, 3444,   3518.9,   1.5179,  34.8759,2,  34.8754,2,    292.4,2,    292.4,2,     9.22,6,    13.92,6,     1.02,6,    4.310,2,    2.980,4,    0.330,2,    4.040,4,    4.420,2,   2163.3,3,   2303.3,2,   1.2482, 20050531,        7
  18HU20050526, AR07W,    56,  1, 285720,      3,2,20050531,0005, 58.6405, -50.4230, 3444,   3430.0,   1.8217,  34.8769,2,  34.8765,2,    289.0,2,    288.3,2,     9.91,6,    14.37,6,     1.03,6,    4.040,2,    2.800,4,    0.340,2,    3.760,4,    4.270,2,   2159.5,2,   2303.4,2,   1.5536, 20050531,       10
  18HU20050526, AR07W,    56,  1, 285721,      4,2,20050531,0005, 58.6405, -50.4230, 3444,   3323.2,   2.0611,  34.8824,2,  34.8814,2,    284.3,2,    283.5,2,    11.51,6,    14.95,6,     1.06,6,    3.590,2,    2.440,4,    0.300,2,    3.430,4,    4.260,2,   2160.4,2,   2304.1,2,   1.7982, 20050531,       13
  18HU20050526, AR07W,    56,  1, 285722,      5,2,20050531,0005, 58.6405, -50.4230, 3444,   3197.3,   2.3281,  34.8962,2,  34.8964,2,    278.2,2,    277.5,2,    13.53,6,    15.77,6,     1.11,6,    3.000,2,    2.220,4,    0.240,2,    2.940,4,    4.070,2,   2164.4,3,   2307.2,2,   2.0719, 20050531,       16
  18HU20050526, AR07W,    56,  1, 285723,      6,2,20050531,0005, 58.6405, -50.4230, 3444,   3060.2,   2.5261,  34.9050,2,  34.9051,6,    275.5,2,    274.7,2,    13.75,6,    16.00,6,     1.12,6,    2.750,2,    2.070,4,    0.220,2,    2.720,4,    3.910,2,   2163.9,3,   2309.2,2,   2.2795, 20050531,       20
  18HU20050526, AR07W,    56,  1, 285724,      7,2,20050531,0005, 58.6405, -50.4230, 3444,   2900.4,   2.7154,  34.9096,2,  34.9091,2,    274.5,2,    273.6,2,    13.02,6,    16.11,6,     1.12,6,    2.810,2,    2.020,4,    0.220,2,    2.750,4,    4.080,2,   2160.1,2,   2307.2,2,   2.4811, 20050531,       23
  18HU20050526, AR07W,    56,  1, 285725,      8,2,20050531,0005, 58.6405, -50.4230, 3444,   2709.9,   2.8837,  34.9086,2,  34.9075,2,    274.1,2,    278.0,3,    12.44,6,    16.29,6,     1.14,6,    2.850,2,    2.100,4,    0.210,2,    2.750,4,    4.220,2,   2159.3,2,   2292.6,3,   2.6652, 20050531,       27
  18HU20050526, AR07W,    56,  1, 285726,      9,2,20050531,0005, 58.6405, -50.4230, 3444,   2502.1,   3.0064,  34.9033,2,  34.9024,2,    274.8,2,    274.1,2,    11.86,6,    16.31,6,     1.10,6,    3.050,2,    2.270,4,    0.220,2,    2.890,4,    4.570,2,   2162.1,2,   2304.5,2,   2.8063, 20050531,       30
  18HU20050526, AR07W,    56,  1, 285727,     10,2,20050531,0005, 58.6405, -50.4230, 3444,   2269.5,   3.1322,  34.8943,2,  34.8943,6,    276.0,2,    275.5,2,    11.39,6,    16.54,6,     1.11,6,    3.350,2,    2.390,4,    0.240,2,    3.160,4,    5.230,2,   2161.2,2,   2309.7,2,   2.9525, 20050531,       34
  18HU20050526, AR07W,    56,  1, 285728,     11,2,20050531,0005, 58.6405, -50.4230, 3444,   2019.7,   3.2537,  34.8869,2,  34.8862,2,    276.1,2,    281.1,3,    11.25,6,    16.94,6,     1.13,6,    3.570,2,    2.500,4,    0.260,2,    3.300,4,    5.660,2,   2162.0,2,   2302.3,2,   3.0957, 20050531,       39
  18HU20050526, AR07W,    56,  1, 285729,     12,2,20050531,0005, 58.6405, -50.4230, 3444,   1772.7,   3.4223,  34.8919,2,  34.8913,2,    273.4,2,    272.5,2,    11.14,6,    17.11,6,     1.14,6,    3.600,2,    2.580,4,    0.280,2,    3.280,4,    5.420,2,   2161.9,2,   2296.1,2,   3.2846, 20050531,       43
  18HU20050526, AR07W,    56,  1, 285730,     13,2,20050531,0005, 58.6405, -50.4230, 3444,   1530.9,   3.4588,  34.8724,2,  34.8722,2,    278.7,2,    278.0,6,    10.19,6,    16.63,6,     1.11,6,    4.190,2,    2.600,4,    0.360,2,    3.700,4,    4.400,2,   2162.3,2,   2287.8,2,   3.3423, 20050531,       47
  18HU20050526, AR07W,    56,  1, 285731,     14,2,20050531,0005, 58.6405, -50.4230, 3444,   1290.9,   3.3987,  34.8506,2,  34.8498,2,    286.8,2,    286.1,2,     9.43,6,    16.38,6,     1.10,6,    4.760,2,    2.970,4,    0.400,2,    4.330,4,    3.920,2,   2162.0,2,   2290.9,2,   3.3034, 20050531,       51
  18HU20050526, AR07W,    56,  1, 285732,     15,2,20050531,0005, 58.6405, -50.4230, 3444,   1071.6,   3.4487,  34.8530,2,  34.8525,2,    292.2,2,    291.7,2,     8.96,6,    15.97,6,     1.07,6,    4.890,2,    2.720,4,    0.400,2,    4.630,4,    3.040,2,   2155.6,2,   2304.4,2,   3.3710, 20050531,       54
  18HU20050526, AR07W,    56,  1, 285733,     16,2,20050531,0005, 58.6405, -50.4230, 3444,    871.5,   3.4573,  34.8526,2,  34.8525,2,    294.8,2,    294.5,2,     8.69,6,    15.80,6,     1.06,6,    4.890,2,    3.340,4,    0.420,2,    4.640,4,    2.710,2,   2156.0,2,   2306.0,2,   3.3954, 20050531,       58
  18HU20050526, AR07W,    56,  1, 285734,     17,2,20050531,0005, 58.6405, -50.4230, 3444,    682.6,   3.4715,  34.8536,2,  34.8531,2,    296.2,2,    295.3,2,     8.64,6,    15.68,6,     1.05,6,    5.010,2,    3.250,4,    0.450,2,    4.790,4,    2.730,2,   2156.1,2,   2297.7,2,   3.4239, 20050531,      102
  18HU20050526, AR07W,    56,  1, 285735,     18,2,20050531,0005, 58.6405, -50.4230, 3444,    510.0,   3.4731,  34.8526,2,  34.8515,2,    295.9,2,    295.6,2,     8.75,6,    15.66,6,     1.06,6,    5.000,2,    2.990,4,    0.430,2,    4.790,4,    2.700,2,   2155.9,2,   2301.2,2,   3.4382, 20050531,      105
  18HU20050526, AR07W,    56,  1, 285736,     19,2,20050531,0005, 58.6405, -50.4230, 3444,    362.5,   3.5228,  34.8560,2,  34.8558,2,    296.0,2,    295.7,2,     8.78,6,    15.64,6,     1.06,6,    4.980,2,    3.510,4,    0.450,2,    4.760,4,    2.650,2,   2155.8,2,   2300.7,2,   3.4983, 20050531,      108
  18HU20050526, AR07W,    56,  1, 285737,     20,2,20050531,0005, 58.6405, -50.4230, 3444,    239.4,   3.5915,  34.8571,2,-999.0000,9,    297.4,2,    296.6,2,     8.70,6,    15.36,6,     1.05,6,    5.060,2,    3.370,4,    0.460,2,    4.960,4,    2.550,2,   2157.5,3,   2303.4,2,   3.5754, 20050531,      111
  18HU20050526, AR07W,    56,  1, 285738,     21,2,20050531,0005, 58.6405, -50.4230, 3444,    138.7,   3.6794,  34.8525,2,-999.0000,9,    296.5,2,    295.8,2,     8.53,6,    14.95,6,     1.06,6,    4.980,2,    3.050,4,    0.430,2,    4.880,4,    2.420,2,   2157.2,3,   2303.3,2,   3.6701, 20050531,      113
  18HU20050526, AR07W,    56,  1, 285739,     22,2,20050531,0005, 58.6405, -50.4230, 3444,     69.9,   3.8265,  34.8355,2,-999.0000,9,    300.4,2,    300.0,2,     8.11,6,    14.36,6,     1.04,6,    5.130,2,    3.640,4,    0.460,2,    5.110,4,    2.200,2,   2156.4,2,   2305.8,2,   3.8218, 20050531,      116
  18HU20050526, AR07W,    56,  1, 285740,     23,2,20050531,0005, 58.6405, -50.4230, 3444,     36.1,   4.6834,  34.8150,2,-999.0000,9,    327.2,2,    327.7,2,     5.50,6,     8.97,6,     0.72,6,    5.240,2,    3.460,4,    0.510,2,    5.360,4,    1.800,2,   2119.7,2,   2305.7,2,   4.6807, 20050531,      118
  18HU20050526, AR07W,    56,  1, 285741,     24,2,20050531,0005, 58.6405, -50.4230, 3444,      2.1,   5.2469,  34.7406,2,-999.0000,9,    327.3,2,    194.0,4,     4.45,6,     8.41,6,     0.65,6,    5.270,2,    3.300,4,    0.490,2,    5.450,4,    1.780,2,   2111.0,2,   2297.0,2,   5.2467, 20050531,      119