BOTTLE,20130611PRINUNIVRMK
EXPOCODE,SECT_ID,STNNBR,CASTNO,SAMPNO,BTLNBR,BTLNBR_FLAG_W,DATE,TIME,LATITUDE,LONGITUDE,DEPTH,CTDPRS,CTDTMP,CTDSAL,CTDSAL_FLAG_W,SALNTY,SALNTY_FLAG_W,CTDOXY,CTDOXY_FLAG_W,OXYGEN,OXYGEN_FLAG_W,SILCAT,SILCAT_FLAG_W,NITRAT,NITRAT_FLAG_W,PHSPHT,PHSPHT_FLAG_W,CFC-11,CFC-11_FLAG_W,CFC-12,CFC-12_FLAG_W,CFC113,CFC113_FLAG_W,CCL4,CCL4_FLAG_W,MCHFRM,MCHFRM_FLAG_W,TCARBN,TCARBN_FLAG_W,ALKALI,ALKALI_FLAG_W,THETA,BTL_DATE,BTL_TIME
,,,,,,,,,,,METERS,DBAR,ITS-90,PSS-78,,PSS-78,,UMOL/KG,,UMOL/KG,,UMOL/KG,,UMOL/KG,,UMOL/KG,,PMOL/KG,,PMOL/KG,,PMOL/KG,,PMOL/KG,,PMOL/KG,,UMOL/KG,,UMOL/KG,,DEG C,,
  18HU20050526, AR07W,   139,  1, 286020,      1,2,20050602,0628, 55.1105, -54.1317, 1567,    928.4,   3.5411,  34.8678,2,  34.8676,2,    288.5,2,    288.1,2,     9.30,6,    15.93,6,     1.00,6,    4.700,2,    2.730,4,    0.210,2,    5.010,4,    4.800,2,   2158.5,2,   2298.8,2,   3.4741, 20050602,      628
  18HU20050526, AR07W,   139,  1, 286021,      2,2,20050602,0628, 55.1105, -54.1317, 1567,    860.7,   3.5527,  34.8679,2,  34.8683,6,    288.1,2,    285.8,2,     9.27,6,    15.86,6,     1.00,6,    4.820,2,    3.170,4,    0.240,2,    5.150,4,    4.780,2,   2161.0,2,   2292.4,2,   3.4909, 20050602,      630
  18HU20050526, AR07W,   139,  1, 286022,      3,2,20050602,0628, 55.1105, -54.1317, 1567,    791.3,   3.5340,  34.8639,2,  34.8621,2,    290.1,2,    288.7,2,     8.92,6,    15.81,6,     1.03,6,    4.880,2,    2.380,4,    0.290,2,    5.200,4,    4.370,2,   2156.4,2,   2292.0,2,   3.4778, 20050602,      633
  18HU20050526, AR07W,   139,  1, 286023,      4,2,20050602,0628, 55.1105, -54.1317, 1567,    700.2,   3.5233,  34.8581,2,  34.8575,2,    292.8,2,    290.7,2,     8.68,6,    15.85,6,     1.01,6,    5.010,2,    3.390,4,    0.340,2,    5.620,4,    4.270,2,   2156.0,2,   2294.9,2,   3.4741, 20050602,      635
  18HU20050526, AR07W,   139,  1, 286024,      5,2,20050602,0628, 55.1105, -54.1317, 1567,    591.0,   3.6533,  34.8704,2,  34.8697,2,    287.3,2,    286.6,6,     8.96,6,    15.95,6,     1.02,6,    4.750,2,    2.240,4,    0.200,3,    5.070,4,    4.410,2,   2152.0,2,   2299.5,2,   3.6117, 20050602,      638
  18HU20050526, AR07W,   139,  1, 286025,      6,2,20050602,0628, 55.1105, -54.1317, 1567,    472.1,   3.6071,  34.8578,2,  34.8573,2,    291.5,2,    290.4,2,     8.62,6,    15.69,6,     1.00,6,    5.050,2,    2.130,4,    0.340,2,    5.490,4,    4.040,2,   2153.9,2,   2304.7,2,   3.5744, 20050602,      641
  18HU20050526, AR07W,   139,  1, 286026,      7,2,20050602,0628, 55.1105, -54.1317, 1567,    357.9,   3.6940,  34.8583,2,  34.8581,2,    289.4,2,    290.3,2,     8.52,6,    15.62,6,     1.00,6,    4.830,2,    3.350,4,    0.280,2,    5.210,4,    3.750,2,   2152.9,2,   2305.7,2,   3.6693, 20050602,      643
  18HU20050526, AR07W,   139,  1, 286027,      8,2,20050602,0628, 55.1105, -54.1317, 1567,    262.1,   3.6433,  34.8382,2,-999.0000,9,    292.9,2,    292.4,2,     8.48,6,    15.44,6,     1.00,6,    4.990,2,    3.350,4,    0.340,2,    5.490,4,    3.640,2,   2153.0,2,   2315.9,2,   3.6255, 20050602,      645
  18HU20050526, AR07W,   139,  1, 286028,      9,2,20050602,0628, 55.1105, -54.1317, 1567,    170.8,   3.5893,  34.8147,2,-999.0000,9,    292.2,2,    291.0,2,     8.42,6,    13.67,6,     0.91,6,    4.970,2,    2.850,4,    0.300,2,    5.440,4,    3.640,2,   2151.8,2,   2296.3,2,   3.5779, 20050602,      647
  18HU20050526, AR07W,   139,  1, 286029,     10,2,20050602,0628, 55.1105, -54.1317, 1567,    100.9,   3.7867,  34.7299,2,-999.0000,9,    298.6,2,    299.9,2,     8.40,6,    13.66,6,     0.92,6,    5.110,2,    3.360,4,    0.390,2,    5.680,4,    3.290,2,   2146.3,2,   2276.7,2,   3.7799, 20050602,      649
  18HU20050526, AR07W,   139,  1, 286030,     11,2,20050602,0628, 55.1105, -54.1317, 1567,     79.4,   3.7250,  34.6562,2,-999.0000,9,    307.3,2,   -999.0,9,     8.30,6,    12.23,6,     0.86,6, -999.000,9, -999.000,9, -999.000,9, -999.000,9, -999.000,9,   -999.0,9,   -999.0,9,   3.7197, 20050602,      650
  18HU20050526, AR07W,   139,  1, 286031,     12,2,20050602,0628, 55.1105, -54.1317, 1567,     61.0,   3.7066,  34.4474,2,-999.0000,9,    338.9,2,   -999.0,9,     7.57,6,     7.27,6,     0.62,6, -999.000,9, -999.000,9, -999.000,9, -999.000,9, -999.000,9,   -999.0,9,   -999.0,9,   3.7026, 20050602,      651
  18HU20050526, AR07W,   139,  1, 286032,     13,2,20050602,0628, 55.1105, -54.1317, 1567,     49.1,   1.1946,  33.9585,2,-999.0000,9,    320.4,2,    319.6,2,     9.59,6,    10.03,6,     0.83,6,    5.840,2,    3.650,4,    0.440,2,    6.200,4,    4.230,2,   2123.1,2,   2264.6,2,   1.1924, 20050602,      652
  18HU20050526, AR07W,   139,  1, 286033,     14,2,20050602,0628, 55.1105, -54.1317, 1567,     40.9,   0.0217,  33.7602,2,-999.0000,9,    307.6,2,   -999.0,9,    10.38,6,    11.36,6,     0.94,6, -999.000,9, -999.000,9, -999.000,9, -999.000,9, -999.000,9,   -999.0,9,   -999.0,9,   0.0203, 20050602,      653
  18HU20050526, AR07W,   139,  1, 286034,     15,2,20050602,0628, 55.1105, -54.1317, 1567,     31.3,  -0.3405,  33.6260,2,-999.0000,9,    316.4,2,   -999.0,9,    10.05,6,     9.77,6,     0.87,6, -999.000,9, -999.000,9, -999.000,9, -999.000,9, -999.000,9,   -999.0,9,   -999.0,9,  -0.3415, 20050602,      654
  18HU20050526, AR07W,   139,  1, 286035,     16,2,20050602,0628, 55.1105, -54.1317, 1567,     20.4,  -0.5142,  33.4732,2,-999.0000,9,    356.2,2,   -999.0,9,     8.58,6,     4.73,6,     0.62,6, -999.000,9, -999.000,9, -999.000,9, -999.000,9, -999.000,9,   -999.0,9,   -999.0,9,  -0.5148, 20050602,      655
  18HU20050526, AR07W,   139,  1, 286036,     17,2,20050602,0628, 55.1105, -54.1317, 1567,      9.9,   0.9772,  33.1613,2,-999.0000,9,    361.3,2,    364.7,2,     7.32,6,     3.31,6,     0.56,6,    6.750,2,    4.640,4,    0.380,2,    7.810,4,    4.450,2,   2074.2,2,   2239.9,2,   0.9768, 20050602,      656
  18HU20050526, AR07W,   139,  1, 286037,     18,2,20050602,0628, 55.1105, -54.1317, 1567,      9.9,   0.9269,  33.1673,2,-999.0000,9,    362.5,2,   -999.0,9,     6.98,6,     3.00,6,     0.55,6, -999.000,9, -999.000,9, -999.000,9, -999.000,9, -999.000,9,   -999.0,9,   -999.0,9,   0.9265, 20050602,      656
  18HU20050526, AR07W,   139,  1, 286038,     19,2,20050602,0628, 55.1105, -54.1317, 1567,      2.6,   2.1043,  32.9629,2,-999.0000,9,    363.5,2,   -999.0,9,     6.17,6,     2.30,6,     0.49,6, -999.000,9, -999.000,9, -999.000,9, -999.000,9, -999.000,9,   -999.0,9,   -999.0,9,   2.1042, 20050602,      657
  18HU20050526, AR07W,   143,  1, 286039,      1,2,20050602,0844, 54.9552, -54.2865,  344,    363.7,   3.6002,  34.8006,2,  34.8010,6,    288.6,2,    288.6,2,     9.11,6,    15.41,6,     1.00,6,    5.320,2,    3.370,4,    0.480,2,    4.420,4,    2.860,2,   2153.8,2,   2279.2,2,   3.5754, 20050602,      844
  18HU20050526, AR07W,   143,  1, 286040,      2,2,20050602,0844, 54.9552, -54.2865,  344,    330.9,   3.5071,  34.7450,2,  34.7438,2,    287.5,2,    286.2,2,     9.51,6,    15.43,6,     1.00,6,    5.330,2,    2.960,4,    0.500,2,    4.370,4,    2.680,2,   2152.8,2,   2289.1,2,   3.4849, 20050602,      846
  18HU20050526, AR07W,   143,  1, 286041,      3,2,20050602,0844, 54.9552, -54.2865,  344,    290.8,   3.4396,  34.7174,2,-999.0000,9,    286.2,2,    286.3,2,     9.57,6,    15.34,6,     1.00,6,    5.390,2,    3.080,4,    0.500,2,    4.400,4,    2.710,2,   2147.9,2,   2296.1,2,   3.4204, 20050602,      847
  18HU20050526, AR07W,   143,  1, 286042,      4,2,20050602,0844, 54.9552, -54.2865,  344,    250.3,   3.3473,  34.6861,2,-999.0000,9,    286.1,2,    285.2,2,     9.65,6,    15.24,6,     1.00,6,    5.510,2,    3.280,4,    0.510,2,    4.450,4,    2.770,2,   2146.7,2,   2290.2,2,   3.3310, 20050602,      849
  18HU20050526, AR07W,   143,  1, 286043,      5,2,20050602,0844, 54.9552, -54.2865,  344,    199.6,   2.9277,  34.5566,2,-999.0000,9,    288.5,2,    288.2,6,     9.93,6,    14.75,6,     0.99,6,    5.600,2,    3.270,4,    0.510,2,    4.570,4,    2.790,2,   2143.1,2,   2287.7,2,   2.9155, 20050602,      850
  18HU20050526, AR07W,   143,  1, 286044,      6,2,20050602,0844, 54.9552, -54.2865,  344,    151.3,   1.7470,  34.2404,2,-999.0000,9,    297.7,2,    298.0,2,     9.96,6,    13.66,6,     0.97,6,    6.070,2,    3.340,4,    0.570,2,    5.050,4,    3.010,2,   2140.0,2,   2270.4,2,   1.7394, 20050602,      852
  18HU20050526, AR07W,   143,  1, 286045,      7,2,20050602,0844, 54.9552, -54.2865,  344,     99.2,   0.4307,  33.8543,2,-999.0000,9,    306.9,2,    310.6,2,    10.08,6,    11.65,6,     0.92,6,    6.460,2,    3.090,4,    0.600,2,    5.230,4,    3.230,2,   2132.8,2,   2254.5,2,   0.4269, 20050602,      854
  18HU20050526, AR07W,   143,  1, 286046,      8,2,20050602,0844, 54.9552, -54.2865,  344,     81.2,   0.0057,  33.7366,2,-999.0000,9,    308.9,2,   -999.0,9,    10.34,6,    11.11,6,     0.92,6, -999.000,9, -999.000,9, -999.000,9, -999.000,9, -999.000,9,   -999.0,9,   -999.0,9,   0.0029, 20050602,      855
  18HU20050526, AR07W,   143,  1, 286047,      9,2,20050602,0844, 54.9552, -54.2865,  344,     60.2,  -0.4090,  33.5211,2,-999.0000,9,    314.8,2,   -999.0,9,    10.25,6,     9.84,6,     0.88,6, -999.000,9, -999.000,9, -999.000,9, -999.000,9, -999.000,9,   -999.0,9,   -999.0,9,  -0.4108, 20050602,      856
  18HU20050526, AR07W,   143,  1, 286048,     10,2,20050602,0844, 54.9552, -54.2865,  344,     50.6,  -0.4812,  33.4450,2,-999.0000,9,    321.3,2,    330.6,2,     9.98,6,     9.06,6,     0.86,6,    6.960,2,    3.940,4,    0.650,2,    5.810,4,    3.580,2,   2122.6,2,   2246.2,2,  -0.4827, 20050602,      857
  18HU20050526, AR07W,   143,  1, 286049,     11,2,20050602,0844, 54.9552, -54.2865,  344,     39.6,  -0.6007,  33.2911,2,-999.0000,9,    330.2,2,   -999.0,9,     9.45,6,     7.81,6,     0.81,6, -999.000,9, -999.000,9, -999.000,9, -999.000,9, -999.000,9,   -999.0,9,   -999.0,9,  -0.6018, 20050602,      857
  18HU20050526, AR07W,   143,  1, 286050,     12,2,20050602,0844, 54.9552, -54.2865,  344,     39.6,  -0.5979,  33.3162,2,-999.0000,9,    329.4,2,   -999.0,9,     9.50,6,     7.94,6,     0.82,6, -999.000,9, -999.000,9, -999.000,9, -999.000,9, -999.000,9,   -999.0,9,   -999.0,9,  -0.5990, 20050602,      858
  18HU20050526, AR07W,   143,  1, 286051,     13,2,20050602,0844, 54.9552, -54.2865,  344,     20.8,   0.3633,  32.6041,2,-999.0000,9,    356.6,2,   -999.0,9,     7.06,6,     4.26,6,     0.66,6, -999.000,9, -999.000,9, -999.000,9, -999.000,9, -999.000,9,   -999.0,9,   -999.0,9,   0.3626, 20050602,      859
  18HU20050526, AR07W,   143,  1, 286052,     14,2,20050602,0844, 54.9552, -54.2865,  344,      9.9,   1.8809,  32.2494,2,-999.0000,9,    369.6,2,    373.0,2,     6.49,6,     1.51,6,     0.45,6,    7.560,2,    3.960,4,    0.750,2,    6.970,4,    2.700,2,   2049.0,2,   2198.7,2,   1.8804, 20050602,      859
  18HU20050526, AR07W,   143,  1, 286053,     15,2,20050602,0844, 54.9552, -54.2865,  344,      2.2,   1.8548,  32.2559,2,-999.0000,9,    370.9,2,   -999.0,9,     6.45,6,     1.36,6,     0.44,6, -999.000,9, -999.000,9, -999.000,9, -999.000,9, -999.000,9,   -999.0,9,   -999.0,9,   1.8547, 20050602,      900
  18HU20050526, AR07W,   147,  1, 286054,      1,2,20050602,1046, 54.7562, -54.4750,  245,    236.9,   2.5160,  34.4460,2,-999.0000,9,    290.0,2,    298.2,3,    10.49,6,    14.08,6,     1.00,6,    5.430,2,    3.550,4,    0.340,2,    5.800,4,    3.970,2,   2144.7,2,   2278.9,2,   2.5023, 20050602,     1046
  18HU20050526, AR07W,   147,  1, 286055,      2,2,20050602,1046, 54.7562, -54.4750,  245,    201.3,   1.5101,  34.1672,2,-999.0000,9,    298.1,2,    298.0,2,    10.45,6,    13.08,6,     0.98,6,    5.800,2,    4.030,4,    0.450,2,    6.220,4,    4.270,2,   2136.6,2,   2270.8,2,   1.5003, 20050602,     1048
  18HU20050526, AR07W,   147,  1, 286056,      3,2,20050602,1046, 54.7562, -54.4750,  245,    150.5,   0.8350,  33.9768,2,-999.0000,9,    302.9,2,    304.6,6,    10.15,6,    12.13,6,     0.95,6,    6.060,2,    4.340,4,    0.410,2,    6.530,4,    4.590,2,   2138.2,2,   2262.1,2,   0.8286, 20050602,     1050
  18HU20050526, AR07W,   147,  1, 286057,      4,2,20050602,1046, 54.7562, -54.4750,  245,    124.0,  -0.0264,  33.7271,2,-999.0000,9,    309.7,2,    311.5,2,    10.12,6,    10.89,6,     0.93,6,    6.300,2,    3.920,4,    0.420,2,    6.710,4,    4.850,2,   2133.8,2,   2255.8,2,  -0.0307, 20050602,     1051
  18HU20050526, AR07W,   147,  1, 286058,      5,2,20050602,1046, 54.7562, -54.4750,  245,     99.5,  -0.4763,  33.5585,2,-999.0000,9,    312.3,2,    314.8,2,    10.23,6,    10.55,6,     0.94,6,    6.490,2,    4.200,4,    0.450,2,    6.940,4,    5.040,2,   2133.1,2,   2255.1,2,  -0.4793, 20050602,     1052
  18HU20050526, AR07W,   147,  1, 286059,      6,2,20050602,1046, 54.7562, -54.4750,  245,     80.2,  -0.5835,  33.5080,2,-999.0000,9,    313.0,2,   -999.0,9,    10.23,6,    10.38,6,     0.93,6, -999.000,9, -999.000,9, -999.000,9, -999.000,9, -999.000,9,   -999.0,9,   -999.0,9,  -0.5858, 20050602,     1053
  18HU20050526, AR07W,   147,  1, 286060,      7,2,20050602,1046, 54.7562, -54.4750,  245,     60.6,  -0.9587,  33.1963,2,-999.0000,9,    322.3,2,   -999.0,9,     9.97,6,     8.80,6,     0.90,6, -999.000,9, -999.000,9, -999.000,9, -999.000,9, -999.000,9,   -999.0,9,   -999.0,9,  -0.9602, 20050602,     1054
  18HU20050526, AR07W,   147,  1, 286061,      8,2,20050602,1046, 54.7562, -54.4750,  245,     50.9,  -0.8613,  33.0276,2,-999.0000,9,    327.4,2,    332.3,2,     9.06,6,     7.93,6,     0.87,6,    6.960,2,    4.460,4,    0.510,2,    7.670,4,    5.320,2,   2122.5,2,   2239.9,2,  -0.8626, 20050602,     1054
  18HU20050526, AR07W,   147,  1, 286062,      9,2,20050602,1046, 54.7562, -54.4750,  245,     41.0,  -1.0977,  32.8925,2,-999.0000,9,    330.2,2,   -999.0,9,     8.97,6,     7.94,6,     0.88,6, -999.000,9, -999.000,9, -999.000,9, -999.000,9, -999.000,9,   -999.0,9,   -999.0,9,  -1.0986, 20050602,     1055
  18HU20050526, AR07W,   147,  1, 286063,     10,2,20050602,1046, 54.7562, -54.4750,  245,     30.1,  -1.2248,  32.6990,2,-999.0000,9,    332.5,2,   -999.0,9,     8.73,6,     7.74,6,     0.87,6, -999.000,9, -999.000,9, -999.000,9, -999.000,9, -999.000,9,   -999.0,9,   -999.0,9,  -1.2254, 20050602,     1057
  18HU20050526, AR07W,   147,  1, 286064,     11,2,20050602,1046, 54.7562, -54.4750,  245,     20.4,  -0.9977,  32.5820,2,-999.0000,9,    341.4,2,   -999.0,9,     7.44,6,     6.81,6,     0.82,6, -999.000,9, -999.000,9, -999.000,9, -999.000,9, -999.000,9,   -999.0,9,   -999.0,9,  -0.9982, 20050602,     1058
  18HU20050526, AR07W,   147,  1, 286065,     12,2,20050602,1046, 54.7562, -54.4750,  245,     10.5,   0.8720,  32.3807,2,-999.0000,9,    383.5,2,   -999.0,9,  -999.00,9,  -999.00,9,  -999.00,9, -999.000,9, -999.000,9, -999.000,9, -999.000,9, -999.000,9,   -999.0,9,   -999.0,9,   0.8716, 20050602,     1059
  18HU20050526, AR07W,   147,  1, 286066,     13,2,20050602,1046, 54.7562, -54.4750,  245,     10.7,   0.8341,  32.3873,2,-999.0000,9,    383.4,2,   -999.0,9,  -999.00,9,  -999.00,9,  -999.00,9, -999.000,9, -999.000,9, -999.000,9, -999.000,9, -999.000,9,   -999.0,9,   -999.0,9,   0.8337, 20050602,     1059
  18HU20050526, AR07W,   147,  1, 286067,     14,2,20050602,1046, 54.7562, -54.4750,  245,     10.8,   0.9097,  32.3753,2,-999.0000,9,    382.0,2,    386.5,2,     3.04,6,     0.88,6,     0.40,6,    7.270,2,    4.910,4,    0.610,2,    8.750,4,    4.130,2,   2050.5,2,   2215.1,2,   0.9093, 20050602,     1059
  18HU20050526, AR07W,   147,  1, 286068,     15,2,20050602,1046, 54.7562, -54.4750,  245,      2.2,   1.7556,  32.1583,2,-999.0000,9,    372.5,2,   -999.0,9,     5.56,6,     1.57,6,     0.45,6, -999.000,9, -999.000,9, -999.000,9, -999.000,9, -999.000,9,   -999.0,9,   -999.0,9,   1.7555, 20050602,     1100
  18HU20050526, AR07W,   147,  1, 286069,     16,2,20050602,1046, 54.7562, -54.4750,  245,      1.9,   1.7833,  32.1481,2,-999.0000,9,    371.5,2,   -999.0,9,  -999.00,9,  -999.00,9,  -999.00,9, -999.000,9, -999.000,9, -999.000,9, -999.000,9, -999.000,9,   -999.0,9,   -999.0,9,   1.7832, 20050602,     1100
  18HU20050526, AR07W,   147,  1, 286070,     17,2,20050602,1046, 54.7562, -54.4750,  245,      2.4,   1.6723,  32.1892,2,-999.0000,9,    372.9,2,   -999.0,9,  -999.00,9,  -999.00,9,  -999.00,9, -999.000,9, -999.000,9, -999.000,9, -999.000,9, -999.000,9,   -999.0,9,   -999.0,9,   1.6722, 20050602,     1100
  18HU20050526, AR07W,   147,  1, 286071,     18,2,20050602,1046, 54.7562, -54.4750,  245,      1.9,   1.7472,  32.1605,2,-999.0000,9,    371.5,2,   -999.0,9,  -999.00,9,  -999.00,9,  -999.00,9, -999.000,9, -999.000,9, -999.000,9, -999.000,9, -999.000,9,   -999.0,9,   -999.0,9,   1.7471, 20050602,     1100
  18HU20050526, AR07W,   147,  1, 286072,     19,2,20050602,1046, 54.7562, -54.4750,  245,      2.3,   1.7101,  32.1754,2,-999.0000,9,    374.0,2,   -999.0,9,  -999.00,9,  -999.00,9,  -999.00,9, -999.000,9, -999.000,9, -999.000,9, -999.000,9, -999.000,9,   -999.0,9,   -999.0,9,   1.7100, 20050602,     1100