BOTTLE,20130611PRINUNIVRMK
EXPOCODE,SECT_ID,STNNBR,CASTNO,SAMPNO,BTLNBR,BTLNBR_FLAG_W,DATE,TIME,LATITUDE,LONGITUDE,DEPTH,CTDPRS,CTDTMP,CTDSAL,CTDSAL_FLAG_W,SALNTY,SALNTY_FLAG_W,CTDOXY,CTDOXY_FLAG_W,OXYGEN,OXYGEN_FLAG_W,SILCAT,SILCAT_FLAG_W,NITRAT,NITRAT_FLAG_W,PHSPHT,PHSPHT_FLAG_W,CFC-11,CFC-11_FLAG_W,CFC-12,CFC-12_FLAG_W,CFC113,CFC113_FLAG_W,CCL4,CCL4_FLAG_W,MCHFRM,MCHFRM_FLAG_W,TCARBN,TCARBN_FLAG_W,ALKALI,ALKALI_FLAG_W,THETA,BTL_DATE,BTL_TIME
,,,,,,,,,,,METERS,DBAR,ITS-90,PSS-78,,PSS-78,,UMOL/KG,,UMOL/KG,,UMOL/KG,,UMOL/KG,,UMOL/KG,,PMOL/KG,,PMOL/KG,,PMOL/KG,,PMOL/KG,,PMOL/KG,,UMOL/KG,,UMOL/KG,,DEG C,,
  18HU20050526, AR07W,    12,  1, 285549,      1,2,20050529,1206, 60.2927, -48.5458, 2703,    205.3,   4.9562,  34.9270,2,-999.0000,9,    291.2,2,   -999.0,9,     7.65,6,    14.34,6,     1.07,6, -999.000,9, -999.000,9, -999.000,9, -999.000,9, -999.000,9,   -999.0,9,   -999.0,9,   4.9402, 20050529,     1206
  18HU20050526, AR07W,    12,  1, 285550,      2,2,20050529,1206, 60.2927, -48.5458, 2703,    147.4,   5.0342,  34.9023,2,-999.0000,9,    298.1,2,   -999.0,9,     7.15,6,    12.90,6,     1.01,6, -999.000,9, -999.000,9, -999.000,9, -999.000,9, -999.000,9,   -999.0,9,   -999.0,9,   5.0227, 20050529,     1208
  18HU20050526, AR07W,    12,  1, 285551,      3,2,20050529,1206, 60.2927, -48.5458, 2703,     95.9,   4.0387,  34.6253,2,-999.0000,9,    311.1,2,   -999.0,9,     5.25,6,    10.39,6,     0.86,6, -999.000,9, -999.000,9, -999.000,9, -999.000,9, -999.000,9,   -999.0,9,   -999.0,9,   4.0321, 20050529,     1209
  18HU20050526, AR07W,    12,  1, 285552,      4,2,20050529,1206, 60.2927, -48.5458, 2703,     77.4,   3.8756,  34.5477,2,-999.0000,9,    317.6,2,   -999.0,9,     4.22,6,     9.04,6,     0.78,6, -999.000,9, -999.000,9, -999.000,9, -999.000,9, -999.000,9,   -999.0,9,   -999.0,9,   3.8704, 20050529,     1210
  18HU20050526, AR07W,    12,  1, 285553,      5,2,20050529,1206, 60.2927, -48.5458, 2703,     58.6,   3.6315,  34.4437,2,-999.0000,9,    325.7,2,   -999.0,9,     3.66,6,     7.98,6,     0.71,6, -999.000,9, -999.000,9, -999.000,9, -999.000,9, -999.000,9,   -999.0,9,   -999.0,9,   3.6277, 20050529,     1212
  18HU20050526, AR07W,    12,  1, 285554,      6,2,20050529,1206, 60.2927, -48.5458, 2703,     48.1,   3.4581,  34.4032,2,-999.0000,9,    327.3,2,   -999.0,9,     3.16,6,     7.76,6,     0.69,6, -999.000,9, -999.000,9, -999.000,9, -999.000,9, -999.000,9,   -999.0,9,   -999.0,9,   3.4550, 20050529,     1213
  18HU20050526, AR07W,    12,  1, 285555,      7,2,20050529,1206, 60.2927, -48.5458, 2703,     38.0,   3.3512,  34.3675,2,-999.0000,9,    329.3,2,   -999.0,9,     2.95,6,     7.45,6,     0.66,6, -999.000,9, -999.000,9, -999.000,9, -999.000,9, -999.000,9,   -999.0,9,   -999.0,9,   3.3488, 20050529,     1214
  18HU20050526, AR07W,    12,  1, 285556,      8,2,20050529,1206, 60.2927, -48.5458, 2703,     27.8,   3.2381,  34.3272,2,-999.0000,9,    332.5,2,   -999.0,9,     2.61,6,     6.91,6,     0.64,6, -999.000,9, -999.000,9, -999.000,9, -999.000,9, -999.000,9,   -999.0,9,   -999.0,9,   3.2364, 20050529,     1215
  18HU20050526, AR07W,    12,  1, 285557,      9,2,20050529,1206, 60.2927, -48.5458, 2703,     27.8,   3.2399,  34.3278,2,-999.0000,9,    332.1,2,   -999.0,9,  -999.00,9,  -999.00,9,  -999.00,9, -999.000,9, -999.000,9, -999.000,9, -999.000,9, -999.000,9,   -999.0,9,   -999.0,9,   3.2382, 20050529,     1215
  18HU20050526, AR07W,    12,  1, 285558,     10,2,20050529,1206, 60.2927, -48.5458, 2703,     27.8,   3.2355,  34.3262,2,-999.0000,9,    331.9,2,   -999.0,9,  -999.00,9,  -999.00,9,  -999.00,9, -999.000,9, -999.000,9, -999.000,9, -999.000,9, -999.000,9,   -999.0,9,   -999.0,9,   3.2338, 20050529,     1215
  18HU20050526, AR07W,    12,  1, 285559,     11,2,20050529,1206, 60.2927, -48.5458, 2703,     19.9,   3.1485,  34.2545,2,-999.0000,9,    341.4,2,   -999.0,9,     2.23,6,     5.85,6,     0.55,6, -999.000,9, -999.000,9, -999.000,9, -999.000,9, -999.000,9,   -999.0,9,   -999.0,9,   3.1473, 20050529,     1217
  18HU20050526, AR07W,    12,  1, 285560,     12,2,20050529,1206, 60.2927, -48.5458, 2703,     10.3,   3.4205,  34.1398,2,-999.0000,9,    358.5,2,   -999.0,9,     1.54,6,     2.96,6,     0.39,6, -999.000,9, -999.000,9, -999.000,9, -999.000,9, -999.000,9,   -999.0,9,   -999.0,9,   3.4199, 20050529,     1218
  18HU20050526, AR07W,    12,  1, 285561,     13,2,20050529,1206, 60.2927, -48.5458, 2703,      2.2,   3.4944,  34.1217,2,-999.0000,9,    363.0,2,   -999.0,9,     1.26,6,     2.07,6,     0.32,6, -999.000,9, -999.000,9, -999.000,9, -999.000,9, -999.000,9,   -999.0,9,   -999.0,9,   3.4943, 20050529,     1220
  18HU20050526, AR07W,    12,  1, 285562,     14,2,20050529,1206, 60.2927, -48.5458, 2703,      2.2,   3.4949,  34.1216,2,-999.0000,9,    363.0,2,   -999.0,9,  -999.00,9,  -999.00,9,  -999.00,9, -999.000,9, -999.000,9, -999.000,9, -999.000,9, -999.000,9,   -999.0,9,   -999.0,9,   3.4948, 20050529,     1220
  18HU20050526, AR07W,    12,  1, 285563,     15,2,20050529,1206, 60.2927, -48.5458, 2703,      2.2,   3.4945,  34.1218,2,-999.0000,9,    362.7,2,   -999.0,9,  -999.00,9,  -999.00,9,  -999.00,9, -999.000,9, -999.000,9, -999.000,9, -999.000,9, -999.000,9,   -999.0,9,   -999.0,9,   3.4944, 20050529,     1220
  18HU20050526, AR07W,    12,  1, 285564,     16,2,20050529,1206, 60.2927, -48.5458, 2703,      2.2,   3.4940,  34.1223,2,-999.0000,9,    362.6,2,   -999.0,9,  -999.00,9,  -999.00,9,  -999.00,9, -999.000,9, -999.000,9, -999.000,9, -999.000,9, -999.000,9,   -999.0,9,   -999.0,9,   3.4939, 20050529,     1220
  18HU20050526, AR07W,    12,  1, 285565,     17,2,20050529,1206, 60.2927, -48.5458, 2703,      2.1,   3.4946,  34.1221,2,-999.0000,9,    363.1,2,   -999.0,9,  -999.00,9,  -999.00,9,  -999.00,9, -999.000,9, -999.000,9, -999.000,9, -999.000,9, -999.000,9,   -999.0,9,   -999.0,9,   3.4945, 20050529,     1220
  18HU20050526, AR07W,    13,  1, 285566,      1,2,20050529,1348, 60.2922, -48.5337, 2703,   2779.6,   2.2012,  34.8853,2,  34.8653,2,    284.6,2,    285.5,2,    11.22,6,    14.81,6,     1.08,6,    3.640,2,    1.910,4,    0.190,2,    4.010,4,    5.850,2,   2163.8,2,   2289.5,2,   1.9897, 20050529,     1348
  18HU20050526, AR07W,    13,  1, 285567,      2,2,20050529,1348, 60.2922, -48.5337, 2703,   2680.5,   2.6031,  34.9013,2,  34.9013,2,    278.7,2,    276.6,2,    12.01,6,    15.44,6,     1.11,6,    3.190,2,    1.600,4,    0.160,2,    3.520,4,    5.730,2,   2162.9,2,   2290.8,3,   2.3931, 20050529,     1350
  18HU20050526, AR07W,    13,  1, 285568,      3,2,20050529,1348, 60.2922, -48.5337, 2703,   2572.4,   2.7387,  34.8961,2,  34.8959,6,    279.4,2,    278.0,2,    11.04,6,    15.40,6,     1.10,6,    3.410,2,    1.580,4,    0.180,2,    3.750,4,    5.960,2,   2161.2,2,   2288.8,2,   2.5367, 20050529,     1353
  18HU20050526, AR07W,    13,  1, 285569,      4,2,20050529,1348, 60.2922, -48.5337, 2703,   2451.2,   2.7729,  34.8968,2,  34.8961,2,    279.1,2,    277.9,2,    11.24,6,    15.54,6,     1.10,6,    3.470,2,    1.760,4,    0.170,2,    3.800,4,    6.120,2,   2159.8,2,   2288.6,2,   2.5820, 20050529,     1356
  18HU20050526, AR07W,    13,  1, 285570,      5,2,20050529,1348, 60.2922, -48.5337, 2703,   2314.3,   2.8092,  34.8975,2,  34.8977,2,    278.7,2,    277.2,2,    10.93,6,    15.59,6,     1.10,6,    3.450,2,    1.750,4,    0.190,2,    3.760,4,    6.170,2,   2161.3,2,   2291.7,2,   2.6307, 20050529,     1359
  18HU20050526, AR07W,    13,  1, 285571,      6,2,20050529,1348, 60.2922, -48.5337, 2703,   2170.5,   2.8976,  34.8979,2,  34.8989,6,    277.9,2,    277.0,2,    10.88,6,    15.57,6,     1.11,6,    3.490,2,    1.650,4,    0.180,2,    3.820,4,    6.410,2,   2159.3,2,   2288.4,2,   2.7311, 20050529,     1403
  18HU20050526, AR07W,    13,  1, 285572,      7,2,20050529,1348, 60.2922, -48.5337, 2703,   2003.7,   2.9872,  34.8987,2,  34.8988,2,    277.1,2,    276.1,2,    10.85,6,    15.76,6,     1.12,6,    3.580,2,    1.820,4,    0.210,2,    3.860,4,    6.600,2,   2159.8,2,   2290.5,2,   2.8346, 20050529,     1406
  18HU20050526, AR07W,    13,  1, 285573,      8,2,20050529,1348, 60.2922, -48.5337, 2703,   1811.2,   3.0428,  34.8992,2,  34.8437,4,    276.6,2,    276.2,6,    10.72,6,    15.91,6,     1.13,6,    3.510,2,    1.800,4,    0.170,2,    3.750,4,    6.520,2,   2158.5,2,   2290.7,2,   2.9067, 20050529,     1410
  18HU20050526, AR07W,    13,  1, 285574,      9,2,20050529,1348, 60.2922, -48.5337, 2703,   1631.3,   3.1723,  34.9011,2,  34.9018,2,    275.7,2,    274.4,2,    10.65,6,    16.10,6,     1.13,6,    3.630,2,    1.790,4,    0.190,2,    3.900,4,    7.140,2,   2159.8,2,   2287.3,2,   3.0503, 20050529,     1413
  18HU20050526, AR07W,    13,  1, 285575,     10,2,20050529,1348, 60.2922, -48.5337, 2703,   1430.7,   3.4325,  34.9066,2,  34.9072,2,    272.4,2,    271.5,2,    11.26,6,    16.45,6,     1.15,6,    3.650,2,    1.820,4,    0.090,3,    3.810,4,    7.040,2,   2163.7,2,   2289.5,2,   3.3249, 20050529,     1416
  18HU20050526, AR07W,    13,  1, 285576,     11,2,20050529,1348, 60.2922, -48.5337, 2703,   1231.3,   3.5716,  34.9073,2,  34.9082,2,    271.9,2,    272.0,2,    10.27,6,    16.38,6,     1.14,6,    3.920,2,    2.130,4,    0.250,2,    4.040,4,    6.540,2,   2162.7,2,   2290.8,2,   3.4795, 20050529,     1420
  18HU20050526, AR07W,    13,  1, 285577,     12,2,20050529,1348, 60.2922, -48.5337, 2703,   1031.2,   3.7853,  34.9056,2,  34.9058,2,    272.2,2,    275.0,2,     9.85,6,    16.30,6,     1.15,6,    4.180,2,    2.200,4,    0.200,2,    4.260,4,    6.080,2,   2162.1,2,   2292.0,2,   3.7080, 20050529,     1423
  18HU20050526, AR07W,    13,  1, 285578,     13,2,20050529,1348, 60.2922, -48.5337, 2703,    852.2,   3.9653,  34.9099,2,  34.9107,2,    272.5,2,    270.4,2,     9.58,6,    16.29,6,     1.14,6,    4.280,2,    2.270,4,    0.220,2,    4.430,4,    5.550,2,   2163.0,2,   2289.1,2,   3.9014, 20050529,     1427
  18HU20050526, AR07W,    13,  1, 285579,     14,2,20050529,1348, 60.2922, -48.5337, 2703,    670.4,   4.2979,  34.9226,2,  34.9229,2,    275.7,2,    274.9,2,     9.10,6,    15.78,6,     1.12,6,    4.440,2,    2.460,4,    0.280,2,    4.630,4,    4.810,2,   2159.8,2,   2294.7,2,   4.2468, 20050529,     1430
  18HU20050526, AR07W,    13,  1, 285580,     15,2,20050529,1348, 60.2922, -48.5337, 2703,    510.3,   4.5646,  34.9313,2,  34.9319,2,    280.9,2,    280.8,2,     8.48,6,    15.45,6,     1.09,6,    4.540,2,    2.520,4,    0.290,2,    4.830,4,    3.970,2,   2158.1,2,   2294.5,2,   4.5253, 20050529,     1432
  18HU20050526, AR07W,    13,  1, 285581,     16,2,20050529,1348, 60.2922, -48.5337, 2703,    369.3,   4.7930,  34.9480,2,  34.9487,2,    283.2,2,    283.4,2,     8.26,6,    15.25,6,     1.08,6,    4.580,2,    2.550,4,    0.240,2,    4.970,4,    3.560,2,   2155.5,2,   2298.7,2,   4.7643, 20050529,     1435
  18HU20050526, AR07W,    13,  1, 285582,     17,2,20050529,1348, 60.2922, -48.5337, 2703,    250.5,   5.0305,  34.9665,2,-999.0000,9,    284.2,2,    295.2,3,     7.43,6,    13.23,3,     1.00,6,    4.900,2,    2.850,4,    0.260,2,    5.550,4,    2.860,2,   2146.3,3,   2297.2,2,   5.0107, 20050529,     1437
  18HU20050526, AR07W,    13,  1, 285583,     18,2,20050529,1348, 60.2922, -48.5337, 2703,    150.9,   5.1371,  34.9238,2,-999.0000,9,    295.3,2,    295.1,2,     7.41,6,    13.23,6,     1.00,6,    4.940,2,    2.900,4,    0.320,2,    5.670,4,    2.950,2,   2146.4,2,   2295.5,2,   5.1252, 20050529,     1439
  18HU20050526, AR07W,    13,  1, 285584,     19,2,20050529,1348, 60.2922, -48.5337, 2703,    100.4,   4.6957,  34.7437,2,-999.0000,9,    308.9,2,    309.3,2,     5.39,6,    10.06,6,     0.83,6,    5.140,2,    2.900,4,    0.380,2,    5.940,4,    3.000,2,   2128.1,2,   2289.0,2,   4.6882, 20050529,     1441
  18HU20050526, AR07W,    13,  1, 285585,     20,2,20050529,1348, 60.2922, -48.5337, 2703,     51.4,   3.8978,  34.4202,2,-999.0000,9,    332.5,2,    334.3,2,     2.60,6,     6.21,6,     0.59,6,    5.550,2,    3.060,4,    0.320,2,    6.460,4,    3.160,2,   2093.1,2,   2273.7,2,   3.8943, 20050529,     1442
  18HU20050526, AR07W,    13,  1, 285586,     21,2,20050529,1348, 60.2922, -48.5337, 2703,     19.8,   4.1490,  34.2953,2,-999.0000,9,    357.6,2,    359.3,2,     1.32,6,     2.27,6,     0.32,6,    5.800,2,    3.370,4,    0.400,2,    6.910,4,    3.190,2,   2055.9,2,   2273.9,2,   4.1476, 20050529,     1442
  18HU20050526, AR07W,    13,  1, 285587,     22,2,20050529,1348, 60.2922, -48.5337, 2703,      2.5,   4.1710,  34.2932,2,-999.0000,9,    359.0,2,    359.3,2,     1.40,6,     2.14,6,     0.34,6,    5.760,2,    3.280,4,    0.420,2,    6.880,4,    3.170,2,   2053.8,2,   2274.5,2,   4.1708, 20050529,     1443
  18HU20050526, AR07W,    16,  1, 285588,      1,2,20050529,1650, 60.5670, -48.2337,  138,    127.8,   1.9194,  34.1374,2,-999.0000,9,    310.2,2,    309.7,2,     5.27,6,     9.44,6,     0.88,6,    5.860,2,    3.320,4,    0.420,2,    6.660,4,    3.560,2,   2130.5,2,   2264.8,2,   1.9128, 20050529,     1650
  18HU20050526, AR07W,    16,  1, 285589,      2,2,20050529,1650, 60.5670, -48.2337,  138,    100.7,   1.9054,  34.1335,2,-999.0000,9,    309.8,2,    311.7,6,     5.27,6,     9.41,6,     0.88,6,    5.850,2,    3.290,4,    0.380,2,    6.760,4,    3.710,2,   2128.7,2,   2262.6,2,   1.9003, 20050529,     1651
  18HU20050526, AR07W,    16,  1, 285590,      3,2,20050529,1650, 60.5670, -48.2337,  138,     80.2,   1.8228,  34.1065,2,-999.0000,9,    309.3,2,    309.3,6,     5.19,6,     9.25,6,     0.88,6,    5.870,2,    3.340,4,    0.590,2,    6.890,4,    3.680,2,   2126.4,2,   2254.8,2,   1.8188, 20050529,     1652
  18HU20050526, AR07W,    16,  1, 285591,      4,2,20050529,1650, 60.5670, -48.2337,  138,     60.2,   1.5743,  34.0152,2,-999.0000,9,    313.0,2,    313.3,2,     3.86,6,     8.39,6,     0.84,6,    6.000,2,    3.400,4,    0.430,2,    6.890,4,    3.690,2,   2125.9,2,   2263.1,3,   1.5714, 20050529,     1653
  18HU20050526, AR07W,    16,  1, 285592,      5,2,20050529,1650, 60.5670, -48.2337,  138,     51.0,   1.4582,  33.9634,2,-999.0000,9,    317.2,2,    318.0,2,     3.06,6,     7.55,6,     0.78,6,    6.100,2,    3.460,4,    0.410,2,    7.060,4,    3.770,2,   2115.1,2,   2248.6,2,   1.4558, 20050529,     1654
  18HU20050526, AR07W,    16,  1, 285593,      6,2,20050529,1650, 60.5670, -48.2337,  138,     39.9,   1.1026,  33.7542,2,-999.0000,9,    333.5,2,    338.9,2,     1.37,6,     4.30,6,     0.56,6,    6.320,2,    3.570,4,    0.680,2,    7.490,4,    3.940,2,   2095.7,2,   2246.8,2,   1.1009, 20050529,     1655
  18HU20050526, AR07W,    16,  1, 285594,      7,2,20050529,1650, 60.5670, -48.2337,  138,     30.4,   1.0453,  33.6774,2,-999.0000,9,    347.1,2,    355.8,2,     1.05,6,     2.94,6,     0.45,6,    6.430,2,    3.630,4,    0.480,2,    7.450,4,    3.820,2,   2082.8,2,   2243.3,2,   1.0440, 20050529,     1655
  18HU20050526, AR07W,    16,  1, 285595,      8,2,20050529,1650, 60.5670, -48.2337,  138,     20.1,   1.8048,  33.5840,2,-999.0000,9,    373.7,2,    373.7,2,     0.72,6,     0.78,6,     0.28,6,    6.440,2,    3.640,4,    0.600,2,    7.620,4,    3.730,2,   2046.0,2,   2243.9,2,   1.8038, 20050529,     1656
  18HU20050526, AR07W,    16,  1, 285596,      9,2,20050529,1650, 60.5670, -48.2337,  138,     10.0,   3.0902,  33.4568,2,-999.0000,9,    371.1,2,    374.6,2,     0.32,6,     0.13,6,     0.18,6,    6.440,2,    3.660,4,    0.480,2,    7.690,4,    3.560,2,   2024.1,2,   2229.2,2,   3.0896, 20050529,     1657
  18HU20050526, AR07W,    16,  1, 285597,     10,2,20050529,1650, 60.5670, -48.2337,  138,      2.7,   3.4767,  33.4407,2,-999.0000,9,    368.2,2,   -999.0,9,     0.00,6,     0.00,6,     0.12,6,    6.290,2,    3.570,4,    0.540,2,    7.630,4,    3.390,2,   2006.7,2,   2227.1,2,   3.4765, 20050529,     1657
  18HU20050526, AR07W,    19,  1, 285598,      1,2,20050529,1822, 60.4493, -48.3625,  145,    142.9,   2.7381,  34.3962,2,-999.0000,9,    309.2,2,    308.3,2,     5.26,6,    10.82,6,     0.89,6,    5.870,2,    3.020,4,    0.430,2,    6.690,4,    3.560,2,   2130.4,2,   2279.4,2,   2.7297, 20050529,     1822
  18HU20050526, AR07W,    19,  1, 285599,      2,2,20050529,1822, 60.4493, -48.3625,  145,    101.1,   2.7172,  34.3898,2,-999.0000,9,    309.2,2,    313.4,2,     5.16,6,    10.73,6,     0.88,6,    5.800,2,    1.790,4,    0.270,2,    6.610,4,    3.410,2,   2132.0,2,   2271.4,2,   2.7113, 20050529,     1824
  18HU20050526, AR07W,    19,  1, 285600,      3,2,20050529,1822, 60.4493, -48.3625,  145,     80.4,   2.6923,  34.3368,2,-999.0000,9,    313.8,2,    313.0,6,     3.42,6,     9.36,6,     0.82,6,    5.970,2,    3.160,4,    0.340,2,    6.900,4,    3.690,2,   2123.9,2,   -999.0,9,   2.6877, 20050529,     1824
  18HU20050526, AR07W,    19,  1, 285601,      4,2,20050529,1822, 60.4493, -48.3625,  145,     59.4,   2.3987,  34.2095,2,-999.0000,9,    323.7,2,   -999.0,9,     2.63,6,     7.63,6,     0.70,6, -999.000,9, -999.000,9, -999.000,9, -999.000,9, -999.000,9,   -999.0,9,   -999.0,9,   2.3954, 20050529,     1825
  18HU20050526, AR07W,    19,  1, 285602,      5,2,20050529,1822, 60.4493, -48.3625,  145,     50.1,   2.2916,  34.0955,2,-999.0000,9,    337.7,2,    337.2,2,     1.77,6,     5.62,6,     0.57,6,    6.260,2,    3.250,4,    0.500,2,    7.290,4,    3.730,2,   2091.5,2,   2251.2,2,   2.2889, 20050529,     1827
  18HU20050526, AR07W,    19,  1, 285603,      6,2,20050529,1822, 60.4493, -48.3625,  145,     39.7,   2.1921,  33.9447,2,-999.0000,9,    353.0,2,   -999.0,9,     1.36,6,     4.28,6,     0.47,6, -999.000,9, -999.000,9, -999.000,9, -999.000,9, -999.000,9,   -999.0,9,   -999.0,9,   2.1900, 20050529,     1827
  18HU20050526, AR07W,    19,  1, 285604,      7,2,20050529,1822, 60.4493, -48.3625,  145,     30.5,   2.4034,  33.9045,2,-999.0000,9,    361.7,2,   -999.0,9,     1.08,6,     3.13,6,     0.38,6, -999.000,9, -999.000,9, -999.000,9, -999.000,9, -999.000,9,   -999.0,9,   -999.0,9,   2.4017, 20050529,     1828
  18HU20050526, AR07W,    19,  1, 285605,      8,2,20050529,1822, 60.4493, -48.3625,  145,     30.6,   2.4005,  33.9057,2,-999.0000,9,    362.2,2,   -999.0,9,  -999.00,9,  -999.00,9,  -999.00,9, -999.000,9, -999.000,9, -999.000,9, -999.000,9, -999.000,9,   -999.0,9,   -999.0,9,   2.3988, 20050529,     1828
  18HU20050526, AR07W,    19,  1, 285606,      9,2,20050529,1822, 60.4493, -48.3625,  145,     20.2,   2.4967,  33.8696,2,-999.0000,9,    367.4,2,   -999.0,9,     0.85,6,     2.24,6,     0.33,6, -999.000,9, -999.000,9, -999.000,9, -999.000,9, -999.000,9,   -999.0,9,   -999.0,9,   2.4956, 20050529,     1829
  18HU20050526, AR07W,    19,  1, 285607,     10,2,20050529,1822, 60.4493, -48.3625,  145,      9.9,   2.8326,  33.8439,2,-999.0000,9,    371.3,2,    371.5,2,     0.69,6,     1.61,6,     0.28,6,    6.290,2,    3.220,4,    0.520,2,    7.400,4,    3.520,2,   2035.2,2,   2247.5,2,   2.8320, 20050529,     1829
  18HU20050526, AR07W,    19,  1, 285608,     11,2,20050529,1822, 60.4493, -48.3625,  145,      2.5,   3.2657,  33.7493,2,-999.0000,9,    375.2,2,   -999.0,9,     0.00,6,     0.28,6,     0.16,6, -999.000,9, -999.000,9, -999.000,9, -999.000,9, -999.000,9,   -999.0,9,   -999.0,9,   3.2655, 20050529,     1830
  18HU20050526, AR07W,    19,  1, 285609,     12,2,20050529,1822, 60.4493, -48.3625,  145,      2.4,   3.2596,  33.7521,2,-999.0000,9,    375.3,2,   -999.0,9,     7.66,3,    14.83,4,     1.09,3, -999.000,9, -999.000,9, -999.000,9, -999.000,9, -999.000,9,   -999.0,9,   -999.0,9,   3.2595, 20050529,     1830