BOTTLE,20130611PRINUNIVRMK
# 2/23/12 Initialized README file  
# Data source: Jeff Jackson & Kumiko Azertu-Scott; 2/14/2012 
# SHIP: CCGS Hudson 
# Cruise: HUD2005-016 
# Region: Labrador Sea and off Halifax; AR07W 
# 	Southern end of Labrador Sea section inaccessible due to ice cover 
# EXPOCODE: 18HU20050526 
# DATES: 5/26 - 6/7/2005 
# Chief Scientist: Glen Harrison 
# 34 stations with 24 place Rosette 
# Hydro: Who - I.Yashayaev; Status - final 
# 	Notes: Salt calibration with IAPSO Batch P146 & P150 
# 	Calibration check: 
# 	CTD Salinity = 0.9987*Salinity - 0.0461; RSE=0.0017 
# Nuts: Who - G.Harrison; Status - final 
# 	Notes: Nitrate is NO3+NO2 
# 	Nutrients run in duplicate 
# O2: Who - K.Azetsu-Scott; Status - final 
# 	Notes: CTDOXY calibrated, but 9umol bias 
# 	i.e. CTDoxy = 9.28 + 0.969*Oxygen 
# 	Oxygen precision +/-2.0umol/kg 
# TCO2: Who - P.Jones; Status - final 
# 	Notes:  
# TA: Who - P.Jones; Status - final 
# 	Notes: significant scatter 
# CFC: Who - P.Jones; Status - final 
# 	Notes: includes CFC-113 and CCl3Et 
# 	All CFC12 and CCL4 flagged 3/4 
# Other:	Chloro-A 
# 	I-129 (J.Smith) 
# 	TOC (P. Kepkay) 
# 	No data in file for any of these 
# References: 
EXPOCODE,SECT_ID,STNNBR,CASTNO,SAMPNO,BTLNBR,BTLNBR_FLAG_W,DATE,TIME,LATITUDE,LONGITUDE,DEPTH,CTDPRS,CTDTMP,CTDSAL,CTDSAL_FLAG_W,SALNTY,SALNTY_FLAG_W,CTDOXY,CTDOXY_FLAG_W,OXYGEN,OXYGEN_FLAG_W,SILCAT,SILCAT_FLAG_W,NITRAT,NITRAT_FLAG_W,PHSPHT,PHSPHT_FLAG_W,CFC-11,CFC-11_FLAG_W,CFC-12,CFC-12_FLAG_W,CFC113,CFC113_FLAG_W,CCL4,CCL4_FLAG_W,MCHFRM,MCHFRM_FLAG_W,TCARBN,TCARBN_FLAG_W,ALKALI,ALKALI_FLAG_W,THETA,BTL_DATE,BTL_TIME
,,,,,,,,,,,METERS,DBAR,ITS-90,PSS-78,,PSS-78,,UMOL/KG,,UMOL/KG,,UMOL/KG,,UMOL/KG,,UMOL/KG,,PMOL/KG,,PMOL/KG,,PMOL/KG,,PMOL/KG,,PMOL/KG,,UMOL/KG,,UMOL/KG,,DEG C,,
  18HU20050526, AR07W,     4,  1, 285501,      1,2,20050529,0230, 59.4840, -49.4737, 3334,   3444.2,   1.5147,  34.8766,2,  34.8784,2,    292.9,2,    292.6,2,     8.59,6,    13.69,6,     1.24,6,    4.470,2,    2.240,4,    0.280,2,    5.790,4,    0.000,2,   2162.2,2,   2298.0,2,   1.2527, 20050529,      230
  18HU20050526, AR07W,     4,  1, 285502,      2,2,20050529,0230, 59.4840, -49.4737, 3334,   3381.4,   1.5858,  34.8773,2,  34.8780,2,    291.0,2,    291.6,2,     9.05,6,    13.90,6,     1.27,6,    4.450,2,    2.250,4,    0.280,2,    5.770,4,    0.000,2,   2160.1,2,   2293.0,2,   1.3284, 20050529,      233
  18HU20050526, AR07W,     4,  1, 285503,      3,2,20050529,0230, 59.4840, -49.4737, 3334,   3302.2,   1.8480,  34.8798,2,  34.8803,2,    288.5,2,    287.1,2,     9.14,6,    14.15,6,     1.27,6,    4.370,2,    2.380,4,    0.310,2,    5.960,4,    0.000,2,   2159.6,2,   2290.3,2,   1.5924, 20050529,      237
  18HU20050526, AR07W,     4,  1, 285504,      4,2,20050529,0230, 59.4840, -49.4737, 3334,   3199.8,   2.0118,  34.8651,2,  34.8667,2,    289.8,2,    289.6,2,     8.50,6,    13.84,6,     1.24,6,    4.410,2,    2.160,4,    0.340,2,    5.870,4,    0.000,2,   -999.0,9,   2287.3,2,   1.7628, 20050529,      240
  18HU20050526, AR07W,     4,  1, 285505,      5,2,20050529,0230, 59.4840, -49.4737, 3334,   3081.4,   2.3500,  34.8931,2,  34.8943,2,    279.1,2,    279.0,2,    12.02,6,    15.29,6,     1.35,6,    3.320,2,    1.510,4,    0.200,2,    4.520,4,    0.000,2,   2159.9,2,   2298.2,2,   2.1052, 20050529,      243
  18HU20050526, AR07W,     4,  1, 285506,      6,2,20050529,0230, 59.4840, -49.4737, 3334,   2950.7,   2.5813,  34.9058,2,  34.9080,6,    275.3,2,    275.0,2,    12.69,6,    15.77,6,     1.40,6,    2.920,2,    1.200,4,    0.130,2,    3.990,4,    0.000,2,   2160.8,2,   2295.3,2,   2.3447, 20050529,      246
  18HU20050526, AR07W,     4,  1, 285507,      7,2,20050529,0230, 59.4840, -49.4737, 3334,   2788.3,   2.7483,  34.9023,2,  34.9031,2,    276.3,2,    276.0,2,    11.39,6,    15.64,6,     1.38,6,    3.230,2,    1.030,4,    0.170,2,    4.400,4,    0.000,2,   2159.9,2,   2294.7,2,   2.5247, 20050529,      250
  18HU20050526, AR07W,     4,  1, 285508,      8,2,20050529,0230, 59.4840, -49.4737, 3334,   2610.9,   2.8469,  34.8987,2,  34.8991,2,    276.8,2,    276.8,2,    10.66,6,    15.44,6,     1.37,6,    3.440,2,    1.550,4,    0.150,2,    4.560,4,    0.000,2,   2156.9,3,   2295.5,2,   2.6390, 20050529,      254
  18HU20050526, AR07W,     4,  1, 285509,      9,2,20050529,0230, 59.4840, -49.4737, 3334,   2410.2,   2.9616,  34.8987,2,  34.8999,2,    276.6,2,    277.1,2,    10.43,6,    15.57,6,     1.37,6,    3.570,2,    1.680,4,    0.220,2,    4.650,4,    0.000,2,   2157.2,3,   2296.4,2,   2.7712, 20050529,      258
  18HU20050526, AR07W,     4,  1, 285510,     10,2,20050529,0230, 59.4840, -49.4737, 3334,   2191.1,   3.0521,  34.8992,2,  34.9005,2,    276.0,2,    276.4,2,    10.34,6,    15.79,6,     1.36,6,    3.610,2,    1.630,4,    0.200,2,    4.770,4,    0.000,2,   2158.6,3,   2288.3,2,   2.8811, 20050529,      302
  18HU20050526, AR07W,     4,  1, 285511,     11,2,20050529,0230, 59.4840, -49.4737, 3334,   1963.0,   3.1677,  34.8998,2,  34.9012,2,    275.6,2,    275.8,2,    10.19,6,    16.00,6,     1.36,6,    3.690,2,    1.680,4,    0.200,2,    4.790,4,    0.000,2,   2160.4,2,   2300.0,2,   3.0161, 20050529,      307
  18HU20050526, AR07W,     4,  1, 285512,     12,2,20050529,0230, 59.4840, -49.4737, 3334,   1730.3,   3.2905,  34.8929,2,  34.8941,2,    275.0,2,    275.1,2,    10.35,6,    16.57,6,     1.40,6,    3.790,2,    1.720,4,    0.210,2,    4.870,4,    0.000,2,   2160.2,2,   2287.4,2,   3.1583, 20050529,      311
  18HU20050526, AR07W,     4,  1, 285513,     13,2,20050529,0230, 59.4840, -49.4737, 3334,   1503.9,   3.4938,  34.8932,2,  34.8941,2,    273.0,2,    273.5,6,    10.03,6,    16.74,6,     1.41,6,    4.040,2,    1.780,4,    0.240,2,    5.260,4,    0.000,2,   2161.6,2,   2291.5,2,   3.3792, 20050529,      315
  18HU20050526, AR07W,     4,  1, 285514,     14,2,20050529,0230, 59.4840, -49.4737, 3334,   1283.0,   3.3940,  34.8559,2,  34.8571,2,    284.6,2,    284.2,2,     8.98,6,    16.27,6,     1.37,6,    4.820,2,    2.400,4,    0.350,2,    6.320,4,    0.000,2,   2159.3,2,   2289.9,2,   3.2994, 20050529,      320
  18HU20050526, AR07W,     4,  1, 285515,     15,2,20050529,0230, 59.4840, -49.4737, 3334,   1070.3,   3.4683,  34.8562,2,  34.8567,2,    288.2,2,    288.8,2,     8.59,6,    15.95,6,     1.34,6,    5.020,2,    2.550,4,    0.380,2,    6.610,4,    0.000,2,   2158.5,2,   2295.9,2,   3.3905, 20050529,      324
  18HU20050526, AR07W,     4,  1, 285516,     16,2,20050529,0230, 59.4840, -49.4737, 3334,    872.1,   3.5090,  34.8561,2,  34.8569,2,    292.6,2,    292.7,2,     8.17,6,    15.65,6,     1.31,6,    5.220,2,    2.700,4,    0.350,2,    7.140,4,    0.000,2,   2157.1,2,   2292.3,2,   3.4467, 20050529,      328
  18HU20050526, AR07W,     4,  1, 285517,     17,2,20050529,0230, 59.4840, -49.4737, 3334,    679.9,   3.5860,  34.8604,2,  34.8614,2,    293.9,2,    293.9,2,     8.07,6,    15.60,6,     1.30,6,    5.110,2,    1.940,4,    0.410,2,    7.170,4,    0.000,2,   2156.2,2,   2292.2,2,   3.5380, 20050529,      331
  18HU20050526, AR07W,     4,  1, 285518,     18,2,20050529,0230, 59.4840, -49.4737, 3334,    511.1,   3.7562,  34.8731,2,-999.0000,9,    289.3,2,   -999.0,9,  -999.00,9,  -999.00,9,  -999.00,9, -999.000,9, -999.000,9, -999.000,9, -999.000,9, -999.000,9,   -999.0,9,   -999.0,9,   3.7201, 20050529,      334
  18HU20050526, AR07W,     4,  1, 285519,     19,2,20050529,0230, 59.4840, -49.4737, 3334,    360.7,   3.9919,  34.8818,2,  34.8828,2,    291.3,2,    290.6,2,     7.90,6,    15.40,6,     1.29,6,    5.050,2,    2.710,4,    0.290,2,    6.960,4,    0.000,2,   2155.3,2,   2292.7,2,   3.9662, 20050529,      337
  18HU20050526, AR07W,     4,  1, 285520,     20,2,20050529,0230, 59.4840, -49.4737, 3334,    240.1,   4.2716,  34.8979,2,  34.9007,2,    291.3,2,    289.6,2,     7.73,6,    15.23,6,     1.27,6,    4.990,2,    1.940,4,    0.370,2,    7.110,4,    0.000,2,   2154.8,2,   2287.4,2,   4.2541, 20050529,      341
  18HU20050526, AR07W,     4,  1, 285521,     21,2,20050529,0230, 59.4840, -49.4737, 3334,    139.6,   4.4528,  34.9012,2,  34.9023,2,    290.9,2,    289.3,2,     7.48,6,    15.08,6,     1.26,6,    5.100,2,    2.790,4,    0.410,2,    7.040,4,    0.000,2,   2155.1,2,   2299.8,2,   4.4426, 20050529,      344
  18HU20050526, AR07W,     4,  1, 285522,     22,2,20050529,0230, 59.4840, -49.4737, 3334,     70.4,   4.3750,  34.8392,2,  34.8403,2,    309.7,2,    308.6,2,     6.28,6,    11.04,6,     1.05,6,    5.470,2,    3.050,4,    0.460,2,    7.970,4,    0.000,2,   2139.5,2,   2296.6,2,   4.3699, 20050529,      346
  18HU20050526, AR07W,     4,  1, 285523,     23,2,20050529,0230, 59.4840, -49.4737, 3334,     35.3,   4.9556,  34.8391,2,  34.8391,2,    327.7,2,    327.8,2,     5.39,6,     8.46,6,     0.82,6,    5.410,2,    2.150,4,    0.420,2,    8.140,4,    0.000,2,   2114.4,2,   2298.4,2,   4.9529, 20050529,      347
  18HU20050526, AR07W,     4,  1, 285524,     24,2,20050529,0230, 59.4840, -49.4737, 3334,      2.9,   5.3667,  34.8352,2,  34.8365,2,    333.7,2,    332.3,2,     5.02,6,     7.39,6,     0.72,6,    5.520,2,    3.110,4,    0.410,2,    8.190,4,    0.000,2,   2106.9,2,   2297.3,2,   5.3665, 20050529,      349
  18HU20050526, AR07W,     8,  1, 285525,      1,2,20050529,0755, 59.9835, -48.8987, 2968,   3054.9,   1.7340,  34.8750,2,  34.8753,2,    291.4,2,    290.7,2,     8.97,6,    14.01,6,     1.07,6,    4.340,2,    2.150,4,    0.340,2,    4.530,4,    5.970,2,   2162.3,2,   2255.9,3,   1.5057, 20050529,      755
  18HU20050526, AR07W,     8,  1, 285526,      2,2,20050529,0755, 59.9835, -48.8987, 2968,   2941.0,   1.9057,  34.8753,2,  34.8760,2,    289.1,2,    288.6,2,     9.35,6,    14.35,6,     1.08,6,    4.260,2,    2.030,4,    0.350,2,    4.420,4,    5.780,2,   2160.8,2,   2280.0,2,   1.6847, 20050529,      758
  18HU20050526, AR07W,     8,  1, 285527,      3,2,20050529,0755, 59.9835, -48.8987, 2968,   2860.0,   2.0800,  34.8800,2,  34.8807,2,    286.2,2,    270.3,4,    10.12,6,    14.81,6,     1.12,6,    4.120,2,    1.970,4,    0.270,2,    4.390,4,    5.680,2,   2161.9,2,   2287.7,2,   1.8632, 20050529,      801
  18HU20050526, AR07W,     8,  1, 285528,      4,2,20050529,0755, 59.9835, -48.8987, 2968,   2760.2,   2.2725,  34.8899,2,  34.8908,2,    281.2,2,    280.8,2,    11.99,6,    15.55,6,     1.17,6,    3.440,2,    1.580,4,    0.270,2,    3.700,4,    5.670,2,   2161.6,2,   2291.7,2,   2.0614, 20050529,      804
  18HU20050526, AR07W,     8,  1, 285529,      5,2,20050529,0755, 59.9835, -48.8987, 2968,   2640.1,   2.3912,  34.8900,2,  34.8907,2,    281.4,2,    185.7,4,    11.27,6,    15.50,6,     1.17,6,    3.620,2,    1.640,4,    0.300,2,    3.830,4,    5.730,2,   2161.0,2,   2289.5,2,   2.1893, 20050529,      807
  18HU20050526, AR07W,     8,  1, 285530,      6,2,20050529,0755, 59.9835, -48.8987, 2968,   2499.3,   2.5045,  34.8904,2,  34.8921,6,    280.7,2,    203.7,4,    10.91,6,    15.53,6,     1.17,6,    3.660,2,    1.690,4,    0.220,2,    3.830,4,    5.480,2,   2160.0,2,   2292.2,2,   2.3139, 20050529,      810
  18HU20050526, AR07W,     8,  1, 285531,      7,2,20050529,0755, 59.9835, -48.8987, 2968,   2340.5,   2.7539,  34.9061,2,  34.9090,6,    275.8,2,    275.8,2,    12.01,6,    16.28,6,     1.22,6,    3.080,2,    1.320,4,    0.250,2,    3.320,4,    5.780,2,   2159.9,2,   2293.0,2,   2.5738, 20050529,      813
  18HU20050526, AR07W,     8,  1, 285532,      8,2,20050529,0755, 59.9835, -48.8987, 2968,   2160.7,   2.9237,  34.9026,2,  34.9043,2,    276.2,2,    244.2,4,    11.27,6,    16.35,6,     1.23,6,    3.390,2,    1.480,4,    0.290,2,    3.550,4,    6.080,2,   2161.5,2,   2290.2,2,   2.7576, 20050529,      817
  18HU20050526, AR07W,     8,  1, 285533,      9,2,20050529,0755, 59.9835, -48.8987, 2968,   1979.7,   3.0613,  34.8992,2,  34.9005,2,    275.9,2,    275.5,2,    11.05,6,    16.25,6,     1.20,6,    3.450,2,    1.490,4,    0.220,2,    3.590,4,    6.590,2,   2162.0,2,   2291.8,2,   2.9098, 20050529,      820
  18HU20050526, AR07W,     8,  1, 285534,     10,2,20050529,0755, 59.9835, -48.8987, 2968,   1780.0,   3.1618,  34.8956,2,  34.8969,2,    276.0,2,    234.9,4,    10.72,6,    16.41,6,     1.21,6,    3.510,2,    1.650,4,    0.260,2,    3.750,4,    7.190,2,   2161.1,2,   2291.9,2,   3.0269, 20050529,      823
  18HU20050526, AR07W,     8,  1, 285535,     11,2,20050529,0755, 59.9835, -48.8987, 2968,   1579.8,   3.3110,  34.8942,2,  34.8944,2,    274.6,2,    261.3,3,    10.67,6,    16.72,6,     1.22,6,    3.780,2,    1.670,4,    0.310,2,    3.830,4,    7.520,2,   2161.6,2,   2292.0,2,   3.1919, 20050529,      827
  18HU20050526, AR07W,     8,  1, 285536,     12,2,20050529,0755, 59.9835, -48.8987, 2968,   1379.4,   3.4730,  34.8966,2,  34.8969,2,    273.0,2,    271.7,2,    10.45,6,    16.82,6,     1.23,6,    3.940,2,    1.790,4,    0.280,2,    3.950,4,    7.090,2,   2164.2,3,   2293.7,2,   3.3694, 20050529,      831
  18HU20050526, AR07W,     8,  1, 285537,     13,2,20050529,0755, 59.9835, -48.8987, 2968,   1181.5,   3.4699,  34.8737,2,  34.8768,2,    279.3,2,    278.7,2,     9.75,6,    16.45,6,     1.22,6,    4.320,2,    2.210,4,    0.290,2,    4.540,4,    6.290,2,   2162.0,3,   2286.9,2,   3.3830, 20050529,      835
  18HU20050526, AR07W,     8,  1, 285538,     14,2,20050529,0755, 59.9835, -48.8987, 2968,    981.1,   3.4900,  34.8623,2,  34.8621,2,    288.5,2,    289.5,2,     8.84,6,    16.06,6,     1.18,6,    4.710,2,    2.570,4,    0.300,2,    5.210,4,    4.840,2,   2158.9,2,   2291.3,2,   3.4192, 20050529,      840
  18HU20050526, AR07W,     8,  1, 285539,     15,2,20050529,0755, 59.9835, -48.8987, 2968,    796.8,   3.6373,  34.8745,2,  34.8723,2,    286.7,2,    287.5,2,     8.79,6,    15.92,6,     1.18,6,    4.660,2,    2.520,4,    0.340,2,    5.100,4,    4.590,2,   2158.5,2,   2289.1,2,   3.5800, 20050529,      844
  18HU20050526, AR07W,     8,  1, 285540,     16,2,20050529,0755, 59.9835, -48.8987, 2968,    643.0,   3.7111,  34.8722,2,  34.8729,2,    288.6,2,    288.3,2,     8.45,6,    15.69,6,     1.16,6,    4.770,2,    2.660,4,    0.360,2,    5.270,4,    4.260,2,   2159.7,3,   2290.4,2,   3.6652, 20050529,      847
  18HU20050526, AR07W,     8,  1, 285541,     17,2,20050529,0755, 59.9835, -48.8987, 2968,    500.5,   3.9560,  34.8825,2,  34.8829,2,    287.6,2,    285.9,2,     8.33,6,    15.51,6,     1.14,6,    4.690,2,    2.560,4,    0.350,2,    5.120,4,    4.010,2,   2157.0,2,   2288.1,2,   3.9199, 20050529,      850
  18HU20050526, AR07W,     8,  1, 285542,     18,2,20050529,0755, 59.9835, -48.8987, 2968,    379.9,   4.0820,  34.8774,2,  34.8785,2,    291.9,2,    291.6,2,     7.96,6,    15.23,6,     1.12,6,    4.790,2,    2.690,4,    0.360,2,    5.430,4,    3.510,2,   2154.4,2,   2293.8,2,   4.0546, 20050529,      852
  18HU20050526, AR07W,     8,  1, 285543,     19,2,20050529,0755, 59.9835, -48.8987, 2968,    259.8,   4.5361,  34.9278,2,  34.9281,2,    288.9,2,    288.7,2,     8.17,6,    15.36,6,     1.12,6,    4.680,2,    2.600,4,    0.470,2,    5.250,4,    3.480,2,   2155.5,2,   2291.0,2,   4.5166, 20050529,      854
  18HU20050526, AR07W,     8,  1, 285544,     20,2,20050529,0755, 59.9835, -48.8987, 2968,    159.2,   4.7040,  34.9317,2,-999.0000,9,    289.2,2,    289.2,2,     7.84,6,    15.00,6,     1.10,6,    4.670,2,    2.630,4,    0.330,2,    5.240,4,    3.270,2,   2155.2,2,   2296.1,2,   4.6920, 20050529,      856
  18HU20050526, AR07W,     8,  1, 285545,     21,2,20050529,0755, 59.9835, -48.8987, 2968,     99.4,   4.5584,  34.8868,2,-999.0000,9,    295.1,2,    295.6,2,     8.07,6,    13.92,6,     1.05,6,    4.850,2,    2.740,4,    0.360,2,    5.620,4,    3.030,2,   2148.6,2,   2291.0,2,   4.5511, 20050529,      857
  18HU20050526, AR07W,     8,  1, 285546,     22,2,20050529,0755, 59.9835, -48.8987, 2968,     50.2,   4.3886,  34.8152,2,-999.0000,9,    308.0,2,    306.4,2,     6.06,6,    11.45,6,     0.95,6,    5.040,2,    2.850,4,    0.420,2,    5.960,4,    2.960,2,   2139.8,2,   2290.1,2,   4.3850, 20050529,      858
  18HU20050526, AR07W,     8,  1, 285547,     23,2,20050529,0755, 59.9835, -48.8987, 2968,     20.6,   4.5627,  34.6185,2,-999.0000,9,    345.3,2,    343.2,2,     1.75,6,     6.02,6,     0.54,6,    5.240,2,    2.940,4,    0.510,2,    6.090,4,    3.040,2,   2094.8,2,   2284.3,2,   4.5612, 20050529,      859
  18HU20050526, AR07W,     8,  1, 285548,     24,2,20050529,0755, 59.9835, -48.8987, 2968,      2.5,   5.2035,  34.6072,2,-999.0000,9,    349.5,2,    354.8,2,     1.38,6,     2.82,6,     0.35,6,    5.290,2,    2.970,4,    0.510,2,    6.260,4,    2.870,2,   2067.5,2,   2288.6,2,   5.2033, 20050529,      900