BOTTLE,20130611PRINUNIVRMK
EXPOCODE,SECT_ID,STNNBR,CASTNO,SAMPNO,BTLNBR,BTLNBR_FLAG_W,DATE,TIME,LATITUDE,LONGITUDE,DEPTH,CTDPRS,CTDTMP,CTDSAL,CTDSAL_FLAG_W,SALNTY,SALNTY_FLAG_W,CTDOXY,CTDOXY_FLAG_W,OXYGEN,OXYGEN_FLAG_W,SILCAT,SILCAT_FLAG_W,NITRAT,NITRAT_FLAG_W,PHSPHT,PHSPHT_FLAG_W,CFC-11,CFC-11_FLAG_W,CFC-12,CFC-12_FLAG_W,CFC113,CFC113_FLAG_W,CCL4,CCL4_FLAG_W,MCHFRM,MCHFRM_FLAG_W,TCARBN,TCARBN_FLAG_W,ALKALI,ALKALI_FLAG_W,THETA,BTL_DATE,BTL_TIME
,,,,,,,,,,,METERS,DBAR,ITS-90,PSS-78,,PSS-78,,UMOL/KG,,UMOL/KG,,UMOL/KG,,UMOL/KG,,UMOL/KG,,PMOL/KG,,PMOL/KG,,PMOL/KG,,PMOL/KG,,PMOL/KG,,UMOL/KG,,UMOL/KG,,DEG C,,
  18HU20050526, AR07W,   170,  1, 286124,      1,2,20050603,0601, 53.6793, -55.5513,  160,    149.1,  -0.7098,  33.4063,2,-999.0000,9,    315.0,2,    318.7,2,     9.37,6,     9.19,6,     0.95,6,    6.170,2,    2.130,4,    0.610,2,    5.340,4,    3.170,2,   2124.7,2,   2239.3,2,  -0.7140, 20050603,      601
  18HU20050526, AR07W,   170,  1, 286125,      2,2,20050603,0601, 53.6793, -55.5513,  160,    125.7,  -0.8075,  33.3581,2,-999.0000,9,    316.9,2,    319.7,2,     9.41,6,     9.04,6,     0.94,6,    6.240,2,    2.150,4,    0.610,2,    5.390,4,    3.150,2,   2127.2,2,   2216.3,2,  -0.8109, 20050603,      602
  18HU20050526, AR07W,   170,  1, 286126,      3,2,20050603,0601, 53.6793, -55.5513,  160,    100.0,  -1.1220,  33.0913,2,-999.0000,9,    321.5,2,    324.0,6,     9.42,6,     8.37,6,     0.93,6,    6.710,2,    2.720,4,    0.630,2,    5.970,4,    3.460,2,   2125.6,2,   2214.2,2,  -1.1243, 20050603,      604
  18HU20050526, AR07W,   170,  1, 286127,      4,2,20050603,0601, 53.6793, -55.5513,  160,     80.3,  -1.1593,  32.9418,2,-999.0000,9,    328.2,2,   -999.0,9,     7.60,6,     7.57,6,     0.91,6, -999.000,9, -999.000,9, -999.000,9, -999.000,9, -999.000,9,   -999.0,9,   -999.0,9,  -1.1611, 20050603,      605
  18HU20050526, AR07W,   170,  1, 286128,      5,2,20050603,0601, 53.6793, -55.5513,  160,     61.0,  -1.0666,  32.7908,2,-999.0000,9,    335.4,2,   -999.0,9,     6.85,6,     6.90,6,     0.88,6, -999.000,9, -999.000,9, -999.000,9, -999.000,9, -999.000,9,   -999.0,9,   -999.0,9,  -1.0680, 20050603,      607
  18HU20050526, AR07W,   170,  1, 286129,      6,2,20050603,0601, 53.6793, -55.5513,  160,     50.4,  -0.9601,  32.6849,2,-999.0000,9,    341.9,2,    344.4,2,     5.67,6,     5.95,6,     0.85,6,    6.990,2,    2.340,4,    0.660,2,    6.530,4,    2.920,2,   2112.9,2,   2204.7,2,  -0.9613, 20050603,      608
  18HU20050526, AR07W,   170,  1, 286130,      7,2,20050603,0601, 53.6793, -55.5513,  160,     40.6,  -0.9278,  32.6081,2,-999.0000,9,    343.3,2,   -999.0,9,     3.78,6,     4.62,6,     0.79,6, -999.000,9, -999.000,9, -999.000,9, -999.000,9, -999.000,9,   -999.0,9,   -999.0,9,  -0.9288, 20050603,      609
  18HU20050526, AR07W,   170,  1, 286131,      8,2,20050603,0601, 53.6793, -55.5513,  160,     30.1,   1.0078,  32.4960,2,-999.0000,9,    400.1,2,   -999.0,9,     0.79,6,     0.00,6,     0.34,6, -999.000,9, -999.000,9, -999.000,9, -999.000,9, -999.000,9,   -999.0,9,   -999.0,9,   1.0066, 20050603,      611
  18HU20050526, AR07W,   170,  1, 286132,      9,2,20050603,0601, 53.6793, -55.5513,  160,     19.9,   2.3809,  32.3969,2,-999.0000,9,    387.9,2,   -999.0,9,     0.37,6,     0.00,6,     0.26,6, -999.000,9, -999.000,9, -999.000,9, -999.000,9, -999.000,9,   -999.0,9,   -999.0,9,   2.3799, 20050603,      612
  18HU20050526, AR07W,   170,  1, 286133,     10,2,20050603,0601, 53.6793, -55.5513,  160,      9.7,   3.3035,  32.2661,2,-999.0000,9,    370.2,2,    366.1,2,     0.70,6,     0.00,6,     0.23,6,    6.380,2,    2.080,4,    0.660,2,    6.430,4,    2.280,2,   2001.9,2,   2175.7,2,   3.3029, 20050603,      614
  18HU20050526, AR07W,   170,  1, 286134,     11,2,20050603,0601, 53.6793, -55.5513,  160,      9.5,   3.4122,  32.2378,2,-999.0000,9,    369.5,2,   -999.0,9,     0.72,6,     0.00,6,     0.23,6, -999.000,9, -999.000,9, -999.000,9, -999.000,9, -999.000,9,   -999.0,9,   -999.0,9,   3.4116, 20050603,      614
  18HU20050526, AR07W,   170,  1, 286135,     12,2,20050603,0601, 53.6793, -55.5513,  160,      1.9,   4.1306,  30.8002,2,-999.0000,9,    348.1,2,   -999.0,9,     0.99,6,     0.00,6,     0.15,6, -999.000,9, -999.000,9, -999.000,9, -999.000,9, -999.000,9,   -999.0,9,   -999.0,9,   4.1305, 20050603,      616
  18HU20050526, AR07W,   178,  1, 286136,      1,2,20050606,0709, 44.2660, -63.3182,  156,    146.2,   5.5298,  33.5490,2,-999.0000,9,    198.0,2,   -999.0,9,  -999.00,9,  -999.00,9,  -999.00,9, -999.000,9, -999.000,9, -999.000,9, -999.000,9, -999.000,9,   -999.0,9,   -999.0,9,   5.5182, 20050606,      709
  18HU20050526, AR07W,   178,  1, 286137,      2,2,20050606,0709, 44.2660, -63.3182,  156,    100.6,   2.4071,  32.3677,2,-999.0000,9,    265.2,2,   -999.0,9,  -999.00,9,  -999.00,9,  -999.00,9, -999.000,9, -999.000,9, -999.000,9, -999.000,9, -999.000,9,   -999.0,9,   -999.0,9,   2.4019, 20050606,      711
  18HU20050526, AR07W,   178,  1, 286138,      3,2,20050606,0709, 44.2660, -63.3182,  156,     80.8,   2.2897,  32.1438,2,-999.0000,9,    279.0,2,   -999.0,9,  -999.00,9,  -999.00,9,  -999.00,9, -999.000,9, -999.000,9, -999.000,9, -999.000,9, -999.000,9,   -999.0,9,   -999.0,9,   2.2856, 20050606,      713
  18HU20050526, AR07W,   178,  1, 286139,      4,2,20050606,0709, 44.2660, -63.3182,  156,     60.3,   3.5096,  31.9792,2,-999.0000,9,    286.7,2,   -999.0,9,  -999.00,9,  -999.00,9,  -999.00,9, -999.000,9, -999.000,9, -999.000,9, -999.000,9, -999.000,9,   -999.0,9,   -999.0,9,   3.5060, 20050606,      715
  18HU20050526, AR07W,   178,  1, 286140,      5,2,20050606,0709, 44.2660, -63.3182,  156,     50.3,   4.1591,  31.9449,2,-999.0000,9,    292.7,2,   -999.0,9,  -999.00,9,  -999.00,9,  -999.00,9, -999.000,9, -999.000,9, -999.000,9, -999.000,9, -999.000,9,   -999.0,9,   -999.0,9,   4.1558, 20050606,      716
  18HU20050526, AR07W,   178,  1, 286141,      6,2,20050606,0709, 44.2660, -63.3182,  156,     40.6,   3.9432,  31.8444,2,-999.0000,9,    293.6,2,   -999.0,9,  -999.00,9,  -999.00,9,  -999.00,9, -999.000,9, -999.000,9, -999.000,9, -999.000,9, -999.000,9,   -999.0,9,   -999.0,9,   3.9406, 20050606,      718
  18HU20050526, AR07W,   178,  1, 286142,      7,2,20050606,0709, 44.2660, -63.3182,  156,     30.5,   3.9332,  31.7767,2,-999.0000,9,    295.7,2,   -999.0,9,  -999.00,9,  -999.00,9,  -999.00,9, -999.000,9, -999.000,9, -999.000,9, -999.000,9, -999.000,9,   -999.0,9,   -999.0,9,   3.9313, 20050606,      719
  18HU20050526, AR07W,   178,  1, 286143,      8,2,20050606,0709, 44.2660, -63.3182,  156,     20.5,   4.0431,  31.7252,2,-999.0000,9,    296.4,2,   -999.0,9,  -999.00,9,  -999.00,9,  -999.00,9, -999.000,9, -999.000,9, -999.000,9, -999.000,9, -999.000,9,   -999.0,9,   -999.0,9,   4.0418, 20050606,      720
  18HU20050526, AR07W,   178,  1, 286144,      9,2,20050606,0709, 44.2660, -63.3182,  156,     10.5,   4.5138,  31.3640,2,-999.0000,9,    302.0,2,   -999.0,9,  -999.00,9,  -999.00,9,  -999.00,9, -999.000,9, -999.000,9, -999.000,9, -999.000,9, -999.000,9,   -999.0,9,   -999.0,9,   4.5131, 20050606,      722
  18HU20050526, AR07W,   178,  1, 286145,     10,2,20050606,0709, 44.2660, -63.3182,  156,      2.2,   6.1982,  30.6657,2,-999.0000,9,    296.1,2,   -999.0,9,  -999.00,9,  -999.00,9,  -999.00,9, -999.000,9, -999.000,9, -999.000,9, -999.000,9, -999.000,9,   -999.0,9,   -999.0,9,   6.1980, 20050606,      723