BOTTLE,20130611PRINUNIVRMK
EXPOCODE,SECT_ID,STNNBR,CASTNO,SAMPNO,BTLNBR,BTLNBR_FLAG_W,DATE,TIME,LATITUDE,LONGITUDE,DEPTH,CTDPRS,CTDTMP,CTDSAL,CTDSAL_FLAG_W,SALNTY,SALNTY_FLAG_W,CTDOXY,CTDOXY_FLAG_W,OXYGEN,OXYGEN_FLAG_W,SILCAT,SILCAT_FLAG_W,NITRAT,NITRAT_FLAG_W,PHSPHT,PHSPHT_FLAG_W,CFC-11,CFC-11_FLAG_W,CFC-12,CFC-12_FLAG_W,CFC113,CFC113_FLAG_W,CCL4,CCL4_FLAG_W,MCHFRM,MCHFRM_FLAG_W,TCARBN,TCARBN_FLAG_W,ALKALI,ALKALI_FLAG_W,THETA,BTL_DATE,BTL_TIME
,,,,,,,,,,,METERS,DBAR,ITS-90,PSS-78,,PSS-78,,UMOL/KG,,UMOL/KG,,UMOL/KG,,UMOL/KG,,UMOL/KG,,PMOL/KG,,PMOL/KG,,PMOL/KG,,PMOL/KG,,PMOL/KG,,UMOL/KG,,UMOL/KG,,DEG C,,
  18HU20050526, AR07W,    90,  1, 285831,      1,2,20050531,2224, 56.9580, -52.2322, 3444,   3566.2,   1.4988,  34.8719,2,  34.8727,2,    292.4,2,    291.8,2,     9.66,6,    13.65,6,     0.97,6, -999.000,9, -999.000,9, -999.000,9, -999.000,9, -999.000,9,   2160.9,2,   2297.1,2,   1.2247, 20050531,     2224
  18HU20050526, AR07W,    90,  1, 285832,      2,2,20050531,2224, 56.9580, -52.2322, 3444,   3490.2,   1.6014,  34.8764,2,  34.8755,2,    290.3,2,    290.1,2,     9.51,6,    13.75,6,     0.98,6, -999.000,9, -999.000,9, -999.000,9, -999.000,9, -999.000,9,   2161.0,2,   2302.8,3,   1.3326, 20050531,     2227
  18HU20050526, AR07W,    90,  1, 285833,      3,2,20050531,2224, 56.9580, -52.2322, 3444,   3397.8,   1.8519,  34.8833,2,  34.8831,2,    286.3,2,    287.3,2,    10.48,6,    14.12,6,     1.01,6, -999.000,9, -999.000,9, -999.000,9, -999.000,9, -999.000,9,   2159.3,3,   2302.0,2,   1.5863, 20050531,     2229
  18HU20050526, AR07W,    90,  1, 285834,      4,2,20050531,2224, 56.9580, -52.2322, 3444,   3290.6,   2.0876,  34.8860,2,  34.8853,2,    283.1,2,    283.2,2,    11.10,6,    14.51,6,     1.04,6, -999.000,9, -999.000,9, -999.000,9, -999.000,9, -999.000,9,   2161.4,2,   2301.2,2,   1.8274, 20050531,     2231
  18HU20050526, AR07W,    90,  1, 285835,      5,2,20050531,2224, 56.9580, -52.2322, 3444,   3171.2,   2.3445,  34.8991,2,  34.8991,2,    276.9,2,    277.2,2,    13.52,6,    15.29,6,     1.10,6, -999.000,9, -999.000,9, -999.000,9, -999.000,9, -999.000,9,   2162.5,2,   2303.3,2,   2.0906, 20050531,     2234
  18HU20050526, AR07W,    90,  1, 285836,      6,2,20050531,2224, 56.9580, -52.2322, 3444,   3032.3,   2.5367,  34.9084,2,  34.9093,2,    274.4,2,    274.6,2,    13.52,6,    15.49,6,     1.10,6, -999.000,9, -999.000,9, -999.000,9, -999.000,9, -999.000,9,   2161.5,2,   2305.0,2,   2.2927, 20050531,     2236
  18HU20050526, AR07W,    90,  1, 285837,      7,2,20050531,2224, 56.9580, -52.2322, 3444,   2871.2,   2.6798,  34.9045,2,  34.9046,2,    276.0,2,    275.9,2,    11.42,6,    15.05,6,     1.09,6, -999.000,9, -999.000,9, -999.000,9, -999.000,9, -999.000,9,   2161.0,2,   2297.5,2,   2.4492, 20050531,     2239
  18HU20050526, AR07W,    90,  1, 285838,      8,2,20050531,2224, 56.9580, -52.2322, 3444,   2681.7,   2.8647,  34.9105,2,  34.9097,2,    273.9,2,    274.2,2,    11.52,6,    15.44,6,     1.12,6, -999.000,9, -999.000,9, -999.000,9, -999.000,9, -999.000,9,   2160.9,2,   2303.4,2,   2.6494, 20050531,     2244
  18HU20050526, AR07W,    90,  1, 285839,      9,2,20050531,2224, 56.9580, -52.2322, 3444,   2470.7,   2.9943,  34.9035,2,  34.9034,2,    274.7,2,    274.7,2,    10.77,6,    15.79,6,     1.12,6, -999.000,9, -999.000,9, -999.000,9, -999.000,9, -999.000,9,   2159.4,2,   2303.1,2,   2.7975, 20050531,     2248
  18HU20050526, AR07W,    90,  1, 285840,     10,2,20050531,2224, 56.9580, -52.2322, 3444,   2250.0,   3.1072,  34.8959,2,  34.8963,2,    275.3,2,    276.0,2,    10.63,6,    16.14,6,     1.12,6, -999.000,9, -999.000,9, -999.000,9, -999.000,9, -999.000,9,   -999.0,9,   2297.3,2,   2.9297, 20050531,     2252
  18HU20050526, AR07W,    90,  1, 285841,     11,2,20050531,2224, 56.9580, -52.2322, 3444,   2009.5,   3.1834,  34.8872,2,  34.8872,6,    276.6,2,    277.0,2,    10.14,6,    16.45,6,     1.14,6, -999.000,9, -999.000,9, -999.000,9, -999.000,9, -999.000,9,   2158.6,3,   2290.0,2,   3.0274, 20050531,     2256
  18HU20050526, AR07W,    90,  1, 285842,     12,2,20050531,2224, 56.9580, -52.2322, 3444,   1771.4,   3.3408,  34.8910,2,  34.8910,2,    274.4,2,    274.6,2,    10.10,6,    16.63,6,     1.14,6, -999.000,9, -999.000,9, -999.000,9, -999.000,9, -999.000,9,   2162.2,2,   2289.1,2,   3.2043, 20050531,     2302
  18HU20050526, AR07W,    90,  1, 285843,     13,2,20050531,2224, 56.9580, -52.2322, 3444,   1530.5,   3.4619,  34.8871,2,  34.8865,2,    274.4,2,    274.5,6,     9.63,6,    16.61,6,     1.13,6, -999.000,9, -999.000,9, -999.000,9, -999.000,9, -999.000,9,   2160.5,2,   2288.8,2,   3.3453, 20050531,     2306
  18HU20050526, AR07W,    90,  1, 285844,     14,2,20050531,2224, 56.9580, -52.2322, 3444,   1292.3,   3.3613,  34.8526,2,  34.8524,2,    285.2,2,    286.8,2,     8.56,6,    16.16,6,     1.08,6, -999.000,9, -999.000,9, -999.000,9, -999.000,9, -999.000,9,   2158.7,2,   2289.1,2,   3.2663, 20050531,     2311
  18HU20050526, AR07W,    90,  1, 285845,     15,2,20050531,2224, 56.9580, -52.2322, 3444,   1072.3,   3.4084,  34.8516,2,  34.8521,2,    287.4,2,    288.4,2,     8.31,6,    16.08,6,     1.08,6, -999.000,9, -999.000,9, -999.000,9, -999.000,9, -999.000,9,   2162.7,3,   2290.8,2,   3.3309, 20050531,     2315
  18HU20050526, AR07W,    90,  1, 285846,     16,2,20050531,2224, 56.9580, -52.2322, 3444,    871.7,   3.4492,  34.8526,2,  34.8530,2,    292.3,2,    292.5,2,     7.97,6,    15.65,6,     1.06,6, -999.000,9, -999.000,9, -999.000,9, -999.000,9, -999.000,9,   2155.0,2,   2291.4,2,   3.3873, 20050531,     2318
  18HU20050526, AR07W,    90,  1, 285847,     17,2,20050531,2224, 56.9580, -52.2322, 3444,    680.6,   3.4296,  34.8475,2,  34.8479,2,    296.3,2,    296.1,2,     7.80,6,    15.54,6,     1.05,6, -999.000,9, -999.000,9, -999.000,9, -999.000,9, -999.000,9,   2157.0,3,   2296.1,2,   3.3824, 20050531,     2324
  18HU20050526, AR07W,    90,  1, 285848,     18,2,20050531,2224, 56.9580, -52.2322, 3444,    509.7,   3.4425,  34.8475,2,  34.8481,2,    296.5,2,    295.6,2,     7.76,6,    15.53,6,     1.05,6, -999.000,9, -999.000,9, -999.000,9, -999.000,9, -999.000,9,   2156.8,3,   2293.5,2,   3.4078, 20050531,     2327
  18HU20050526, AR07W,    90,  1, 285849,     19,2,20050531,2224, 56.9580, -52.2322, 3444,    360.6,   3.4710,  34.8466,2,  34.8440,2,    296.9,2,    296.5,2,     7.78,6,    15.60,6,     1.06,6, -999.000,9, -999.000,9, -999.000,9, -999.000,9, -999.000,9,   2157.2,3,   2294.5,2,   3.4468, 20050531,     2331
  18HU20050526, AR07W,    90,  1, 285850,     20,2,20050531,2224, 56.9580, -52.2322, 3444,    240.1,   3.4897,  34.8413,2,-999.0000,9,    294.3,2,    293.9,2,     7.83,6,    15.64,6,     1.06,6, -999.000,9, -999.000,9, -999.000,9, -999.000,9, -999.000,9,   2155.9,2,   2287.8,2,   3.4738, 20050531,     2334
  18HU20050526, AR07W,    90,  1, 285851,     21,2,20050531,2224, 56.9580, -52.2322, 3444,    139.3,   3.4784,  34.8218,2,-999.0000,9,    296.1,2,    296.0,2,     7.49,6,    15.40,6,     1.05,6, -999.000,9, -999.000,9, -999.000,9, -999.000,9, -999.000,9,   2156.2,2,   2291.0,2,   3.4693, 20050531,     2336
  18HU20050526, AR07W,    90,  1, 285852,     22,2,20050531,2224, 56.9580, -52.2322, 3444,     70.0,   3.6476,  34.7963,2,-999.0000,9,    308.2,2,    307.2,2,     4.82,6,    13.06,6,     0.94,6, -999.000,9, -999.000,9, -999.000,9, -999.000,9, -999.000,9,   2148.6,2,   2289.3,2,   3.6430, 20050531,     2339
  18HU20050526, AR07W,    90,  1, 285853,     23,2,20050531,2224, 56.9580, -52.2322, 3444,     34.0,   4.3908,  34.7597,2,-999.0000,9,    325.1,2,    324.6,2,     2.52,6,     9.63,6,     0.65,6, -999.000,9, -999.000,9, -999.000,9, -999.000,9, -999.000,9,   2123.5,2,   2286.9,2,   4.3884, 20050531,     2341
  18HU20050526, AR07W,    90,  1, 285854,     24,2,20050531,2224, 56.9580, -52.2322, 3444,      1.8,   5.6680,  34.6553,2,-999.0000,9,    335.3,2,    332.8,2,     1.51,6,     5.23,6,     0.37,6, -999.000,9, -999.000,9, -999.000,9, -999.000,9, -999.000,9,   2091.6,2,   2292.4,2,   5.6679, 20050531,     2343
  18HU20050526, AR07W,    98,  1, 285855,      1,2,20050601,0330, 56.5365, -52.6960, 3426,   3538.1,   1.4668,  34.8694,2,  34.8688,2,    293.1,2,    292.6,2,     9.90,6,    13.75,6,     1.06,6,    4.160,2,    2.920,4,    0.360,2,    3.640,4,    3.930,2,   2161.9,2,   2300.4,2,   1.1965, 20050601,      330
  18HU20050526, AR07W,    98,  1, 285856,      2,2,20050601,0330, 56.5365, -52.6960, 3426,   3461.7,   1.5604,  34.8724,2,  34.8725,2,    291.6,2,    290.6,2,     9.91,6,    13.86,6,     1.04,6,    4.160,2,    3.740,4,    0.360,2,    3.770,4,    4.130,2,   -999.0,9,   2301.0,2,   1.2955, 20050601,      333
  18HU20050526, AR07W,    98,  1, 285857,      3,2,20050601,0330, 56.5365, -52.6960, 3426,   3380.1,   1.8100,  34.8794,2,  34.8784,2,    288.0,2,    286.7,2,    10.58,6,    14.32,6,     1.06,6,    3.910,2,    3.460,4,    0.340,2,    3.600,4,    4.220,2,   2160.7,2,   2296.4,2,   1.5473, 20050601,      335
  18HU20050526, AR07W,    98,  1, 285858,      4,2,20050601,0330, 56.5365, -52.6960, 3426,   3281.0,   2.1014,  34.8874,2,  34.8869,2,    283.0,2,    280.7,2,    12.12,6,    14.96,6,     1.09,6,    3.430,2,    2.720,4,    0.290,2,    3.150,4,    3.900,2,   2160.6,3,   2302.5,2,   1.8419, 20050601,      337
  18HU20050526, AR07W,    98,  1, 285859,      5,2,20050601,0330, 56.5365, -52.6960, 3426,   3160.3,   2.3469,  34.8966,2,  34.8965,2,    278.6,2,    277.2,2,    13.40,6,    15.51,6,     1.11,6,    2.990,2,    2.930,4,    0.280,2,    2.840,4,    3.870,2,   2162.3,2,   2296.3,2,   2.0941, 20050601,      340
  18HU20050526, AR07W,    98,  1, 285860,      6,2,20050601,0330, 56.5365, -52.6960, 3426,   3029.9,   2.5483,  34.9046,2,  34.9047,6,    276.1,2,    274.1,2,    13.43,6,    15.82,6,     1.12,6,    2.840,2,    2.770,4,    0.260,2,    2.710,4,    3.850,2,   2161.8,2,   2302.4,2,   2.3044, 20050601,      343
  18HU20050526, AR07W,    98,  1, 285861,      7,2,20050601,0330, 56.5365, -52.6960, 3426,   2859.7,   2.7239,  34.9073,2,  34.9067,2,    275.5,2,    273.4,2,    12.76,6,    15.86,6,     1.13,6,    2.890,2,    2.970,4,    0.260,2,    2.750,4,    3.930,2,   2160.4,2,   2303.3,2,   2.4936, 20050601,      346
  18HU20050526, AR07W,    98,  1, 285862,      8,2,20050601,0330, 56.5365, -52.6960, 3426,   2662.5,   2.8782,  34.9041,2,  34.9040,2,    275.8,2,    273.7,2,    12.06,6,    16.01,6,     1.13,6,    3.050,2,    2.980,4,    0.270,2,    2.830,4,    4.120,2,   2161.1,2,   2298.3,2,   2.6646, 20050601,      350
  18HU20050526, AR07W,    98,  1, 285863,      9,2,20050601,0330, 56.5365, -52.6960, 3426,   2439.7,   3.0444,  34.9011,2,  34.9008,2,    275.4,2,    273.7,2,    11.64,6,    16.15,6,     1.15,6,    3.200,2,    3.020,4,    0.270,2,    2.940,4,    4.430,2,   2159.1,2,   2297.5,3,   2.8497, 20050601,      354
  18HU20050526, AR07W,    98,  1, 285864,     10,2,20050601,0330, 56.5365, -52.6960, 3426,   2211.0,   3.1572,  34.8911,2,  34.8904,2,    276.5,2,    277.7,2,    11.57,6,    16.57,6,     1.17,6,    3.380,2,    3.110,4,    0.280,2,    3.080,4,    5.040,2,   2160.9,2,   2302.4,2,   2.9827, 20050601,      358
  18HU20050526, AR07W,    98,  1, 285865,     11,2,20050601,0330, 56.5365, -52.6960, 3426,   1973.0,   3.3154,  34.8927,2,  34.8932,6,    275.2,2,    273.3,2,    11.31,6,    16.60,6,     1.19,6,    3.560,2,    3.270,4,    0.300,2,    3.190,4,    5.130,2,   2161.2,2,   2304.9,2,   3.1608, 20050601,      402
  18HU20050526, AR07W,    98,  1, 285866,     12,2,20050601,0330, 56.5365, -52.6960, 3426,   1730.7,   3.4589,  34.8924,2,  34.8920,2,    272.9,2,    271.7,2,    11.20,6,    16.84,6,     1.20,6,    3.640,2,    3.100,4,    0.320,2,    3.210,4,    4.930,2,   2161.8,2,   2298.3,2,   3.3245, 20050601,      407
  18HU20050526, AR07W,    98,  1, 285867,     13,2,20050601,0330, 56.5365, -52.6960, 3426,   1498.9,   3.4324,  34.8682,2,  34.8678,2,    279.7,2,    282.2,6,    10.24,6,    16.49,6,     1.17,6,    4.280,2,    3.630,4,    0.390,2,    3.870,4,    4.410,2,   2161.3,2,   2303.3,2,   3.3190, 20050601,      411
  18HU20050526, AR07W,    98,  1, 285868,     14,2,20050601,0330, 56.5365, -52.6960, 3426,   1281.3,   3.3836,  34.8497,2,  34.8495,2,    287.1,2,    285.0,2,     9.44,6,    16.03,6,     1.15,6,    4.690,2,    3.690,4,    0.440,2,    4.190,4,    3.760,2,   2159.8,2,   2296.7,2,   3.2893, 20050601,      416
  18HU20050526, AR07W,    98,  1, 285869,     15,2,20050601,0330, 56.5365, -52.6960, 3426,   1069.0,   3.4502,  34.8553,2,  34.8554,2,    292.1,2,    290.4,2,     8.86,6,    15.64,6,     1.14,6,    4.790,2,    3.190,4,    0.480,2,    4.360,4,    2.970,2,   2157.8,2,   2288.2,2,   3.3727, 20050601,      419
  18HU20050526, AR07W,    98,  1, 285870,     16,2,20050601,0330, 56.5365, -52.6960, 3426,    869.0,   3.4537,  34.8525,2,  34.8519,2,    291.2,2,    290.3,2,     8.92,6,    15.64,6,     1.12,6,    4.830,2,    4.080,4,    0.450,2,    4.450,4,    3.050,2,   2158.1,2,   2299.2,2,   3.3920, 20050601,      423
  18HU20050526, AR07W,    98,  1, 285871,     17,2,20050601,0330, 56.5365, -52.6960, 3426,    679.5,   3.4462,  34.8488,2,  34.8491,2,    295.6,2,    294.1,2,     8.50,6,    15.51,6,     1.10,6,    4.940,2,    3.830,4,    0.460,2,    4.610,4,    2.740,2,   2157.4,2,   2296.3,2,   3.3990, 20050601,      427
  18HU20050526, AR07W,    98,  1, 285872,     18,2,20050601,0330, 56.5365, -52.6960, 3426,    509.4,   3.5037,  34.8532,2,  34.8534,2,    292.5,2,    293.1,2,     8.57,6,    15.63,6,     1.09,6,    4.810,2,    3.540,4,    0.450,2,    4.390,4,    2.740,2,   2157.4,2,   2301.0,2,   3.4687, 20050601,      430
  18HU20050526, AR07W,    98,  1, 285873,     19,2,20050601,0330, 56.5365, -52.6960, 3426,    360.4,   3.5119,  34.8490,2,  34.8493,2,    294.1,2,    293.6,2,     8.45,6,    15.55,6,     1.08,6,    4.880,2,    3.960,4,    0.480,2,    4.540,4,    2.650,2,   2157.5,2,   2296.0,2,   3.4876, 20050601,      433
  18HU20050526, AR07W,    98,  1, 285874,     20,2,20050601,0330, 56.5365, -52.6960, 3426,    241.6,   3.5101,  34.8401,2,-999.0000,9,    294.9,2,    292.9,2,     8.36,6,    15.76,6,     1.08,6,    4.950,2,    3.760,4,    0.480,2,    4.640,4,    2.590,2,   2156.8,2,   2301.5,2,   3.4940, 20050601,      436
  18HU20050526, AR07W,    98,  1, 285875,     21,2,20050601,0330, 56.5365, -52.6960, 3426,    140.6,   3.4217,  34.8154,2,-999.0000,9,    296.8,2,    295.1,2,     8.05,6,    15.78,6,     1.08,6,    5.060,2,    4.100,4,    0.480,2,    4.730,4,    2.450,2,   2158.4,3,   2299.4,2,   3.4126, 20050601,      439
  18HU20050526, AR07W,    98,  1, 285876,     22,2,20050601,0330, 56.5365, -52.6960, 3426,     70.2,   3.6524,  34.7873,2,-999.0000,9,    307.1,2,    306.0,2,     5.23,6,    13.27,6,     0.98,6,    5.280,2,    4.190,4,    0.520,2,    5.170,4,    2.220,2,   2150.0,2,   2300.3,2,   3.6477, 20050601,      441
  18HU20050526, AR07W,    98,  1, 285877,     23,2,20050601,0330, 56.5365, -52.6960, 3426,     34.8,   4.6576,  34.7443,2,-999.0000,9,    328.3,2,    326.5,2,     2.69,6,     8.72,6,     0.62,6,    5.280,2,    3.970,4,    0.540,2,    5.170,4,    2.010,2,   2118.7,2,   2299.5,2,   4.6550, 20050601,      442
  18HU20050526, AR07W,    98,  1, 285878,     24,2,20050601,0330, 56.5365, -52.6960, 3426,      2.6,   5.4598,  34.7419,2,-999.0000,9,    332.3,2,    330.6,2,     2.39,6,     6.74,6,     0.49,6,    5.190,2,    4.110,4,    0.530,2,    5.150,4,    1.920,2,   2101.3,2,   2300.8,2,   5.4596, 20050601,      444