BOTTLE,20130611PRINUNIVRMK
EXPOCODE,SECT_ID,STNNBR,CASTNO,SAMPNO,BTLNBR,BTLNBR_FLAG_W,DATE,TIME,LATITUDE,LONGITUDE,DEPTH,CTDPRS,CTDTMP,CTDSAL,CTDSAL_FLAG_W,SALNTY,SALNTY_FLAG_W,CTDOXY,CTDOXY_FLAG_W,OXYGEN,OXYGEN_FLAG_W,SILCAT,SILCAT_FLAG_W,NITRAT,NITRAT_FLAG_W,PHSPHT,PHSPHT_FLAG_W,CFC-11,CFC-11_FLAG_W,CFC-12,CFC-12_FLAG_W,CFC113,CFC113_FLAG_W,CCL4,CCL4_FLAG_W,MCHFRM,MCHFRM_FLAG_W,TCARBN,TCARBN_FLAG_W,ALKALI,ALKALI_FLAG_W,THETA,BTL_DATE,BTL_TIME
,,,,,,,,,,,METERS,DBAR,ITS-90,PSS-78,,PSS-78,,UMOL/KG,,UMOL/KG,,UMOL/KG,,UMOL/KG,,UMOL/KG,,PMOL/KG,,PMOL/KG,,PMOL/KG,,PMOL/KG,,PMOL/KG,,UMOL/KG,,UMOL/KG,,DEG C,,
  18HU20050526, AR07W,   126,  1, 285968,      1,2,20050601,2115, 55.4190, -53.8237, 3047,   2716.8,   2.2368,  34.8907,2,  34.8910,2,    282.5,2,    280.8,2,    12.60,6,    15.77,6,     0.99,6, -999.000,9, -999.000,9, -999.000,9, -999.000,9, -999.000,9,   2161.2,3,   2303.1,2,   2.0306, 20050601,     2115
  18HU20050526, AR07W,   126,  1, 285969,      2,2,20050601,2115, 55.4190, -53.8237, 3047,   2589.5,   2.3424,  34.8951,2,  34.8947,2,    280.5,2,    278.4,2,    13.71,6,    15.88,6,     1.00,6, -999.000,9, -999.000,9, -999.000,9, -999.000,9, -999.000,9,   2161.7,2,   2309.2,2,   2.1463, 20050601,     2118
  18HU20050526, AR07W,   126,  1, 285970,      3,2,20050601,2115, 55.4190, -53.8237, 3047,   2509.7,   2.4397,  34.8981,2,  34.8983,6,    279.4,2,    277.4,2,    12.64,6,    16.01,6,     1.01,6, -999.000,9, -999.000,9, -999.000,9, -999.000,9, -999.000,9,   2159.1,2,   2305.4,2,   2.2493, 20050601,     2121
  18HU20050526, AR07W,   126,  1, 285971,      4,2,20050601,2115, 55.4190, -53.8237, 3047,   2409.5,   2.5586,  34.9019,2,  34.9012,2,    278.0,2,    276.2,2,    12.52,6,    16.30,6,     1.02,6, -999.000,9, -999.000,9, -999.000,9, -999.000,9, -999.000,9,   2160.5,2,   2304.4,2,   2.3755, 20050601,     2124
  18HU20050526, AR07W,   126,  1, 285972,      5,2,20050601,2115, 55.4190, -53.8237, 3047,   2289.9,   2.6581,  34.9009,2,  34.9010,2,    277.8,2,    276.3,2,    12.22,6,    16.32,6,     1.02,6, -999.000,9, -999.000,9, -999.000,9, -999.000,9, -999.000,9,   2161.8,2,   2303.4,2,   2.4844, 20050601,     2127
  18HU20050526, AR07W,   126,  1, 285973,      6,2,20050601,2115, 55.4190, -53.8237, 3047,   2149.2,   2.8471,  34.9045,2,  34.9046,2,    276.4,2,    277.3,2,    11.67,6,    16.36,6,     1.03,6, -999.000,9, -999.000,9, -999.000,9, -999.000,9, -999.000,9,   2161.3,2,   2300.7,2,   2.6833, 20050601,     2130
  18HU20050526, AR07W,   126,  1, 285974,      7,2,20050601,2115, 55.4190, -53.8237, 3047,   1991.2,   3.0228,  34.9006,2,  34.9004,2,    276.4,2,    274.7,2,    11.31,6,    16.50,6,     1.06,6, -999.000,9, -999.000,9, -999.000,9, -999.000,9, -999.000,9,   2160.2,2,   2306.6,2,   2.8708, 20050601,     2134
  18HU20050526, AR07W,   126,  1, 285975,      8,2,20050601,2115, 55.4190, -53.8237, 3047,   1812.6,   3.1200,  34.8949,2,  34.8945,2,    277.1,2,    275.4,6,    11.02,6,    16.67,6,     1.06,6, -999.000,9, -999.000,9, -999.000,9, -999.000,9, -999.000,9,   -999.0,9,   2303.1,2,   2.9828, 20050601,     2138
  18HU20050526, AR07W,   126,  1, 285976,      9,2,20050601,2115, 55.4190, -53.8237, 3047,   1609.0,   3.2559,  34.8941,2,  34.8939,2,    275.7,2,    275.2,2,    10.80,6,    16.78,6,     1.07,6, -999.000,9, -999.000,9, -999.000,9, -999.000,9, -999.000,9,   2161.6,2,   2302.2,2,   3.1349, 20050601,     2143
  18HU20050526, AR07W,   126,  1, 285977,     10,2,20050601,2115, 55.4190, -53.8237, 3047,   1411.2,   3.4311,  34.8946,2,  34.8947,2,    273.5,2,    272.9,2,    10.66,6,    16.91,6,     1.09,6, -999.000,9, -999.000,9, -999.000,9, -999.000,9, -999.000,9,   2154.9,2,   2282.5,2,   3.3252, 20050601,     2146
  18HU20050526, AR07W,   126,  1, 285978,     11,2,20050601,2115, 55.4190, -53.8237, 3047,   1211.8,   3.4226,  34.8673,2,  34.8672,2,    281.1,2,    283.2,2,     9.64,6,    16.43,6,     1.07,6, -999.000,9, -999.000,9, -999.000,9, -999.000,9, -999.000,9,   2157.2,2,   2285.7,2,   3.3336, 20050601,     2150
  18HU20050526, AR07W,   126,  1, 285979,     12,2,20050601,2115, 55.4190, -53.8237, 3047,   1030.9,   3.4336,  34.8581,2,  34.8583,2,    287.0,2,    285.8,2,     8.99,6,    16.01,6,     1.05,6, -999.000,9, -999.000,9, -999.000,9, -999.000,9, -999.000,9,   2155.7,2,   2287.4,2,   3.3592, 20050601,     2153
  18HU20050526, AR07W,   126,  1, 285980,     13,2,20050601,2115, 55.4190, -53.8237, 3047,    851.7,   3.4458,  34.8553,2,  34.8560,2,    292.8,2,    293.8,2,     8.48,6,    15.62,6,     1.04,6, -999.000,9, -999.000,9, -999.000,9, -999.000,9, -999.000,9,   2153.3,2,   2283.6,2,   3.3855, 20050601,     2157
  18HU20050526, AR07W,   126,  1, 285981,     14,2,20050601,2115, 55.4190, -53.8237, 3047,    671.7,   3.4886,  34.8579,2,  34.8583,2,    291.8,2,    291.8,2,     8.46,6,    15.78,6,     1.03,6, -999.000,9, -999.000,9, -999.000,9, -999.000,9, -999.000,9,   2153.5,2,   2293.1,2,   3.4417, 20050601,     2201
  18HU20050526, AR07W,   126,  1, 285982,     15,2,20050601,2115, 55.4190, -53.8237, 3047,    509.2,   3.5248,  34.8577,2,  34.8580,2,    291.8,2,    290.7,2,     8.56,6,    15.68,6,     1.02,6, -999.000,9, -999.000,9, -999.000,9, -999.000,9, -999.000,9,   2156.4,3,   2304.0,2,   3.4898, 20050601,     2204
  18HU20050526, AR07W,   126,  1, 285983,     16,2,20050601,2115, 55.4190, -53.8237, 3047,    370.1,   3.5626,  34.8567,2,  34.8572,2,    291.7,2,    290.8,2,     8.38,6,    15.60,6,     1.01,6, -999.000,9, -999.000,9, -999.000,9, -999.000,9, -999.000,9,   2153.2,2,   2300.1,2,   3.5374, 20050601,     2207
  18HU20050526, AR07W,   126,  1, 285984,     17,2,20050601,2115, 55.4190, -53.8237, 3047,    251.6,   3.6371,  34.8591,2,-999.0000,9,    290.8,2,    289.3,2,     8.32,6,    15.44,6,     1.01,6, -999.000,9, -999.000,9, -999.000,9, -999.000,9, -999.000,9,   2153.4,2,   2303.9,2,   3.6201, 20050601,     2210
  18HU20050526, AR07W,   126,  1, 285985,     18,2,20050601,2115, 55.4190, -53.8237, 3047,    149.1,   3.6919,  34.8539,2,-999.0000,9,    289.8,2,    289.5,2,     8.19,6,    15.44,6,     1.00,6, -999.000,9, -999.000,9, -999.000,9, -999.000,9, -999.000,9,   2153.5,2,   2297.2,2,   3.6819, 20050601,     2213
  18HU20050526, AR07W,   126,  1, 285986,     19,2,20050601,2115, 55.4190, -53.8237, 3047,     99.1,   3.6378,  34.8375,2,-999.0000,9,    292.1,2,    290.9,2,     8.15,6,    15.28,6,     0.99,6, -999.000,9, -999.000,9, -999.000,9, -999.000,9, -999.000,9,   2150.4,2,   2299.2,2,   3.6312, 20050601,     2215
  18HU20050526, AR07W,   126,  1, 285987,     20,2,20050601,2115, 55.4190, -53.8237, 3047,     53.0,   3.7082,  34.7871,2,-999.0000,9,    304.7,2,    304.2,2,     7.58,6,    13.78,6,     0.93,6, -999.000,9, -999.000,9, -999.000,9, -999.000,9, -999.000,9,   2143.2,2,   2289.7,2,   3.7047, 20050601,     2218
  18HU20050526, AR07W,   126,  1, 285988,     21,2,20050601,2115, 55.4190, -53.8237, 3047,     19.9,   5.0287,  34.6589,2,-999.0000,9,    343.4,2,    345.1,2,     3.89,6,     4.57,6,     0.34,6, -999.000,9, -999.000,9, -999.000,9, -999.000,9, -999.000,9,   2085.8,2,   2288.9,2,   5.0272, 20050601,     2221
  18HU20050526, AR07W,   126,  1, 285989,     22,2,20050601,2115, 55.4190, -53.8237, 3047,      1.5,   5.5714,  34.5951,2,-999.0000,9,    355.4,2,    355.1,2,     3.35,6,     1.73,6,     0.22,6, -999.000,9, -999.000,9, -999.000,9, -999.000,9, -999.000,9,   2062.2,2,   2281.6,2,   5.5713, 20050601,     2222
  18HU20050526, AR07W,   131,  1, 285990,      1,2,20050602,0040, 55.2617, -53.9775, 2018,   2052.1,   2.7802,  34.9030,2,-999.0000,9,    277.9,2,   -999.0,9,  -999.00,9,  -999.00,9,  -999.00,9, -999.000,9, -999.000,9, -999.000,9, -999.000,9, -999.000,9,   -999.0,9,   -999.0,9,   2.6263, 20050602,       40
  18HU20050526, AR07W,   131,  1, 285991,      2,2,20050602,0040, 55.2617, -53.9775, 2018,   1969.9,   2.8506,  34.9027,2,  34.7533,4,    277.3,2,    288.0,3,     8.61,4,    15.15,6,     1.06,6,    5.100,3,    2.700,4,    0.470,3,    4.220,4,    3.100,2,   2150.2,3,   2282.9,2,   2.7031, 20050602,       43
  18HU20050526, AR07W,   131,  1, 285992,      3,2,20050602,0040, 55.2617, -53.9775, 2018,   1899.2,   2.9356,  34.9012,2,  34.9010,2,    277.3,2,    275.0,2,    11.31,6,    16.06,6,     1.04,6,    3.620,2,    2.030,4,    0.310,2,    3.000,4,    4.540,2,   2158.7,2,   2280.8,2,   2.7932, 20050602,       46
  18HU20050526, AR07W,   131,  1, 285993,      4,2,20050602,0040, 55.2617, -53.9775, 2018,   1811.4,   3.0595,  34.8993,2,  34.8984,2,    277.1,2,    275.2,2,    11.10,6,    16.18,6,     1.06,6,    3.760,2,    1.900,4,    0.310,2,    3.060,4,    4.680,2,   2155.8,2,   2300.2,2,   2.9232, 20050602,       49
  18HU20050526, AR07W,   131,  1, 285994,      5,2,20050602,0040, 55.2617, -53.9775, 2018,   1690.4,   3.1826,  34.8975,2,  34.8968,2,    276.3,2,    274.6,6,    10.87,6,    16.35,6,     1.06,6,    3.810,2,    1.590,4,    0.330,2,    3.160,4,    4.790,2,   2157.5,2,   2285.7,2,   3.0554, 20050602,       52
  18HU20050526, AR07W,   131,  1, 285995,      6,2,20050602,0040, 55.2617, -53.9775, 2018,   1547.8,   3.2758,  34.8966,2,  34.8956,2,    275.9,2,    274.4,2,    10.73,6,    16.51,6,     1.16,3,    3.990,2,    1.910,4,    0.340,2,    3.230,4,    5.230,2,   2159.3,2,   2292.5,2,   3.1599, 20050602,       54
  18HU20050526, AR07W,   131,  1, 285996,      7,2,20050602,0040, 55.2617, -53.9775, 2018,   1391.2,   3.4022,  34.8995,2,  34.8989,2,    274.2,2,    272.4,2,    10.59,6,    16.62,6,     1.07,6,    4.010,2,    2.080,4,    0.310,2,    3.200,4,    5.020,2,   2157.6,2,   2297.5,2,   3.2983, 20050602,       58
  18HU20050526, AR07W,   131,  1, 285997,      8,2,20050602,0040, 55.2617, -53.9775, 2018,   1210.1,   3.5134,  34.8891,2,  34.8895,2,    276.1,2,    275.5,2,    10.02,6,    16.46,6,     1.06,6,    4.380,2,    2.200,4,    0.350,2,    3.470,4,    4.510,2,   2160.1,2,   2295.6,2,   3.4237, 20050602,      102
  18HU20050526, AR07W,   131,  1, 285998,      9,2,20050602,0040, 55.2617, -53.9775, 2018,   1031.8,   3.4554,  34.8580,2,  34.8588,2,    292.5,2,    291.7,2,     8.69,6,    15.74,6,     1.05,6,    5.360,2,    3.150,4,    0.500,2,    4.580,4,    3.250,2,   2156.0,2,   2298.1,2,   3.3808, 20050602,      106
  18HU20050526, AR07W,   131,  1, 285999,     10,2,20050602,0040, 55.2617, -53.9775, 2018,    848.5,   3.4734,  34.8584,2,  34.8585,2,    292.3,2,    291.8,2,     8.73,6,    15.68,6,     1.00,6,    5.340,2,    3.240,4,    0.470,2,    4.470,4,    3.160,2,   2155.9,2,   2295.2,2,   3.4131, 20050602,      110
  18HU20050526, AR07W,   131,  1, 286000,     11,2,20050602,0040, 55.2617, -53.9775, 2018,    669.8,   3.5008,  34.8557,2,  34.8552,2,    292.6,2,    291.9,2,     8.63,6,    15.72,6,     1.00,6,    5.290,2,    2.950,4,    0.490,2,    4.510,4,    3.010,2,   2154.4,2,   2290.8,2,   3.4540, 20050602,      114
  18HU20050526, AR07W,   131,  1, 286001,     12,2,20050602,0040, 55.2617, -53.9775, 2018,    509.3,   3.5742,  34.8550,2,  34.8551,2,    292.3,2,    292.0,2,     8.52,6,    15.50,6,     0.96,6,    5.380,2,    2.950,4,    0.510,2,    4.480,4,    2.870,2,   2154.0,2,   2290.2,2,   3.5390, 20050602,      118
  18HU20050526, AR07W,   131,  1, 286002,     13,2,20050602,0040, 55.2617, -53.9775, 2018,    371.9,   3.6998,  34.8621,2,  34.8618,2,    288.6,2,    287.2,2,     8.55,6,    15.46,6,     0.94,6,    5.230,2,    3.370,4,    0.470,2,    4.350,4,    2.940,2,   2154.5,2,   2298.2,2,   3.6741, 20050602,      123
  18HU20050526, AR07W,   131,  1, 286003,     14,2,20050602,0040, 55.2617, -53.9775, 2018,    251.3,   3.7102,  34.8531,2,  34.8531,2,    288.8,2,    289.4,2,     8.38,6,    15.52,6,     0.93,6,    5.130,2,    2.540,4,    0.490,2,    4.350,4,    2.790,2,   2154.1,2,   2297.8,2,   3.6930, 20050602,      127
  18HU20050526, AR07W,   131,  1, 286004,     15,2,20050602,0040, 55.2617, -53.9775, 2018,    148.6,   3.6331,  34.8196,2,  34.8189,2,    289.9,2,    288.6,2,     8.44,6,    15.30,6,     0.92,6,    5.220,2,    2.700,4,    0.510,2,    4.370,4,    2.650,2,   2149.4,2,   2293.8,2,   3.6232, 20050602,      131
  18HU20050526, AR07W,   131,  1, 286005,     16,2,20050602,0040, 55.2617, -53.9775, 2018,     98.5,   3.6308,  34.8046,2,  34.8043,2,    289.2,2,    288.6,2,     8.41,6,    15.34,6,     0.90,6,    5.210,2,    2.960,4,    0.480,2,    4.420,4,    2.630,2,   2150.1,2,   2299.3,2,   3.6243, 20050602,      133
  18HU20050526, AR07W,   131,  1, 286006,     17,2,20050602,0040, 55.2617, -53.9775, 2018,     49.5,   3.6289,  34.7559,2,  34.7546,2,    285.9,2,    283.9,2,     8.63,6,    15.19,6,     0.88,6,    5.190,2,    2.730,4,    0.470,2,    4.300,4,    2.560,2,   2148.1,2,   2292.8,2,   3.6256, 20050602,      136
  18HU20050526, AR07W,   131,  1, 286007,     18,2,20050602,0040, 55.2617, -53.9775, 2018,     19.5,   3.3848,  34.6445,2,  34.6421,2,    288.3,2,    289.1,2,     9.27,6,    14.27,6,     0.84,6,    5.330,2,    2.330,4,    0.600,2,    4.260,4,    2.490,2,   2141.4,2,   2294.7,2,   3.3836, 20050602,      138
  18HU20050526, AR07W,   131,  1, 286008,     19,2,20050602,0040, 55.2617, -53.9775, 2018,      2.5,   4.2991,  34.2079,2,  34.2089,2,    360.8,2,    359.6,2,     6.06,6,     1.17,6,     0.15,6,    5.840,2,    2.690,4,    0.580,2,    5.250,4,    2.130,2,   2048.9,2,   2283.3,2,   4.2989, 20050602,      140
  18HU20050526, AR07W,   135,  1, 286009,      1,2,20050602,0411, 55.1860, -54.0553, 1567,   1616.8,   3.4223,  34.8982,2,  34.8976,2,    275.3,2,    273.5,2,    10.79,6,    16.75,6,     0.96,6, -999.000,9, -999.000,9, -999.000,9, -999.000,9, -999.000,9,   2159.1,2,   2307.4,2,   3.2986, 20050602,      411
  18HU20050526, AR07W,   135,  1, 286010,      2,2,20050602,0411, 55.1860, -54.0553, 1567,   1500.8,   3.4561,  34.8973,2,  34.8979,6,    274.9,2,    273.9,2,    10.58,6,    16.83,6,     0.94,6, -999.000,9, -999.000,9, -999.000,9, -999.000,9, -999.000,9,   2159.8,2,   2302.9,2,   3.3422, 20050602,      414
  18HU20050526, AR07W,   135,  1, 286011,      3,2,20050602,0411, 55.1860, -54.0553, 1567,   1401.0,   3.4731,  34.8953,2,  34.8947,2,    275.2,2,    274.9,2,    10.52,6,    16.77,6,     0.94,6, -999.000,9, -999.000,9, -999.000,9, -999.000,9, -999.000,9,   2162.0,2,   2300.2,2,   3.3676, 20050602,      416
  18HU20050526, AR07W,   135,  1, 286012,      4,2,20050602,0411, 55.1860, -54.0553, 1567,   1301.2,   3.4834,  34.8904,2,  34.8899,2,    276.2,2,    274.9,2,    10.44,6,    16.78,6,     0.95,6, -999.000,9, -999.000,9, -999.000,9, -999.000,9, -999.000,9,   2158.1,2,   2295.4,2,   3.3863, 20050602,      418
  18HU20050526, AR07W,   135,  1, 286013,      5,2,20050602,0411, 55.1860, -54.0553, 1567,   1152.5,   3.4200,  34.8656,2,  34.8653,2,    282.5,2,    285.8,2,     9.79,6,    16.65,6,     0.95,6, -999.000,9, -999.000,9, -999.000,9, -999.000,9, -999.000,9,   2156.6,2,   2306.6,2,   3.3359, 20050602,      421
  18HU20050526, AR07W,   135,  1, 286014,      6,2,20050602,0411, 55.1860, -54.0553, 1567,     52.8,   3.5591,  34.7241,2,-999.0000,9,    283.9,2,   -999.0,9,     9.34,6,    15.29,6,     0.89,6, -999.000,9, -999.000,9, -999.000,9, -999.000,9, -999.000,9,   -999.0,9,   -999.0,9,   3.5557, 20050602,      436
  18HU20050526, AR07W,   135,  1, 286015,      7,2,20050602,0411, 55.1860, -54.0553, 1567,     39.3,   3.4708,  34.6796,2,-999.0000,9,    286.3,2,   -999.0,9,     9.43,6,    14.71,6,     0.86,6, -999.000,9, -999.000,9, -999.000,9, -999.000,9, -999.000,9,   -999.0,9,   -999.0,9,   3.4683, 20050602,      437
  18HU20050526, AR07W,   135,  1, 286016,      8,2,20050602,0411, 55.1860, -54.0553, 1567,     30.2,   3.5088,  34.6534,2,-999.0000,9,    293.1,2,   -999.0,9,     9.06,6,    13.62,6,     0.82,6, -999.000,9, -999.000,9, -999.000,9, -999.000,9, -999.000,9,   -999.0,9,   -999.0,9,   3.5069, 20050602,      439
  18HU20050526, AR07W,   135,  1, 286017,      9,2,20050602,0411, 55.1860, -54.0553, 1567,     20.2,   4.2745,  34.2646,2,-999.0000,9,    354.0,2,   -999.0,9,     6.45,6,     1.93,6,     0.22,6, -999.000,9, -999.000,9, -999.000,9, -999.000,9, -999.000,9,   -999.0,9,   -999.0,9,   4.2731, 20050602,      440
  18HU20050526, AR07W,   135,  1, 286018,     10,2,20050602,0411, 55.1860, -54.0553, 1567,      9.1,   4.2852,  34.2575,2,-999.0000,9,    354.1,2,    353.8,2,     6.36,6,     1.72,6,     0.23,6, -999.000,9, -999.000,9, -999.000,9, -999.000,9, -999.000,9,   -999.0,9,   -999.0,9,   4.2846, 20050602,      441
  18HU20050526, AR07W,   135,  1, 286019,     11,2,20050602,0411, 55.1860, -54.0553, 1567,      2.8,   4.2916,  34.2542,2,-999.0000,9,    354.0,2,   -999.0,9,     6.52,6,     1.39,6,     0.23,6, -999.000,9, -999.000,9, -999.000,9, -999.000,9, -999.000,9,   -999.0,9,   -999.0,9,   4.2914, 20050602,      442