BOTTLE,20130611PRINUNIVRMK
EXPOCODE,SECT_ID,STNNBR,CASTNO,SAMPNO,BTLNBR,BTLNBR_FLAG_W,DATE,TIME,LATITUDE,LONGITUDE,DEPTH,CTDPRS,CTDTMP,CTDSAL,CTDSAL_FLAG_W,SALNTY,SALNTY_FLAG_W,CTDOXY,CTDOXY_FLAG_W,OXYGEN,OXYGEN_FLAG_W,SILCAT,SILCAT_FLAG_W,NITRAT,NITRAT_FLAG_W,PHSPHT,PHSPHT_FLAG_W,CFC-11,CFC-11_FLAG_W,CFC-12,CFC-12_FLAG_W,CFC113,CFC113_FLAG_W,CCL4,CCL4_FLAG_W,MCHFRM,MCHFRM_FLAG_W,TCARBN,TCARBN_FLAG_W,ALKALI,ALKALI_FLAG_W,THETA,BTL_DATE,BTL_TIME
,,,,,,,,,,,METERS,DBAR,ITS-90,PSS-78,,PSS-78,,UMOL/KG,,UMOL/KG,,UMOL/KG,,UMOL/KG,,UMOL/KG,,PMOL/KG,,PMOL/KG,,PMOL/KG,,PMOL/KG,,PMOL/KG,,UMOL/KG,,UMOL/KG,,DEG C,,
  18HU20050526, AR07W,    36,  1, 285653,      1,2,20050530,0902, 59.7455, -49.1732, 3152,   3266.4,   1.7323,  34.8763,2,  34.8764,2,    292.0,2,    293.8,2,     8.86,6,    13.51,6,     1.07,6,    4.290,2,    2.190,4,    0.460,2,    3.790,4,    4.230,2,   2163.9,2,   2288.8,2,   1.4830, 20050530,      902
  18HU20050526, AR07W,    36,  1, 285654,      2,2,20050530,0902, 59.7455, -49.1732, 3152,   3202.1,   1.8403,  34.8779,2,  34.8776,2,    290.0,2,    288.2,2,     8.96,6,    13.99,6,     1.05,6,    4.090,2,    2.090,4,    0.400,2,    3.650,4,    4.190,2,   2163.6,2,   2292.9,2,   1.5950, 20050530,      904
  18HU20050526, AR07W,    36,  1, 285655,      3,2,20050530,0902, 59.7455, -49.1732, 3152,   3120.6,   2.0805,  34.8809,2,  34.8805,2,    286.2,2,    284.8,2,     9.95,6,    14.69,6,     1.08,6,    0.000,4,    0.000,4,    0.000,4,    0.000,4,    0.000,4,   2162.9,2,   2294.4,2,   1.8379, 20050530,      906
  18HU20050526, AR07W,    36,  1, 285656,      4,2,20050530,0902, 59.7455, -49.1732, 3152,   3020.9,   2.1918,  34.8821,2,  34.8819,2,    284.9,2,    284.0,2,     9.90,6,    14.64,6,     1.07,6,    3.820,2,    1.880,4,    0.400,2,    3.430,4,    4.140,2,   2162.4,2,   2294.9,2,   1.9567, 20050530,      908
  18HU20050526, AR07W,    36,  1, 285657,      5,2,20050530,0902, 59.7455, -49.1732, 3152,   2899.0,   2.4051,  34.9005,2,  34.8992,2,    277.4,2,    275.9,2,    13.04,6,    15.81,6,     1.13,6,    2.880,2,    1.340,4,    0.360,2,    2.690,4,    3.920,2,   2165.4,3,   2296.8,2,   2.1775, 20050530,      911
  18HU20050526, AR07W,    36,  1, 285658,      6,2,20050530,0902, 59.7455, -49.1732, 3152,   2769.7,   2.5979,  34.9103,2,  34.9108,6,    274.9,2,    273.8,2,    13.23,6,    16.04,6,     1.14,6,    2.750,2,    1.240,4,    0.310,2,    2.590,4,    3.890,2,   2167.2,3,   2303.2,2,   2.3792, 20050530,      913
  18HU20050526, AR07W,    36,  1, 285659,      7,2,20050530,0902, 59.7455, -49.1732, 3152,   2619.0,   2.7429,  34.9116,2,  34.9107,2,    274.7,2,    273.2,2,    12.09,6,    16.06,6,     1.15,6,    2.880,2,    1.280,4,    0.300,2,    2.690,4,    4.110,2,   2164.8,2,   2302.4,2,   2.5362, 20050530,      916
  18HU20050526, AR07W,    36,  1, 285660,      8,2,20050530,0902, 59.7455, -49.1732, 3152,   2462.9,   2.8648,  34.9112,2,  34.9113,6,    273.9,2,    273.3,2,    12.14,6,    16.39,6,     1.16,6,    2.750,2,    1.240,4,    0.280,2,    2.580,4,    4.090,2,   2166.8,3,   2306.9,2,   2.6710, 20050530,      919
  18HU20050526, AR07W,    36,  1, 285661,      9,2,20050530,0902, 59.7455, -49.1732, 3152,   2258.1,   2.9857,  34.9036,2,  34.9034,2,    275.5,2,    274.5,2,    10.92,6,    16.27,6,     1.16,6,    3.200,2,    1.520,4,    0.300,2,    2.920,4,    4.640,2,   2163.7,2,   2297.0,2,   2.8095, 20050530,      922
  18HU20050526, AR07W,    36,  1, 285662,     10,2,20050530,0902, 59.7455, -49.1732, 3152,   2060.1,   3.1140,  34.8986,2,  34.8991,2,    276.0,2,    279.6,2,    10.51,6,    16.40,6,     1.14,6,    3.440,2,    1.610,4,    0.380,2,    3.050,4,    4.950,2,   2162.1,2,   2301.9,2,   2.9543, 20050530,      925
  18HU20050526, AR07W,    36,  1, 285663,     11,2,20050530,0902, 59.7455, -49.1732, 3152,   1850.1,   3.2137,  34.8910,2,  34.8904,2,    276.3,2,    276.1,2,    10.40,6,    16.76,6,     1.16,6,    3.660,2,    1.750,4,    0.350,2,    3.210,4,    5.500,2,   2165.4,3,   2295.8,2,   3.0718, 20050530,      929
  18HU20050526, AR07W,    36,  1, 285664,     12,2,20050530,0902, 59.7455, -49.1732, 3152,   1640.3,   3.3806,  34.8963,2,  34.8967,2,    273.7,2,    273.1,2,    10.26,6,    16.91,6,     1.16,6,    3.670,2,    1.800,4,    0.310,2,    3.190,4,    5.330,2,   2164.5,2,   2302.8,2,   3.2553, 20050530,      933
  18HU20050526, AR07W,    36,  1, 285665,     13,2,20050530,0902, 59.7455, -49.1732, 3152,   1433.4,   3.5165,  34.8931,2,-999.0000,9,    274.3,2,   -999.0,9,  -999.00,9,  -999.00,9,  -999.00,9, -999.000,9, -999.000,9, -999.000,9, -999.000,9, -999.000,9,   -999.0,9,   -999.0,9,   3.4077, 20050530,      936
  18HU20050526, AR07W,    36,  1, 285666,     14,2,20050530,0902, 59.7455, -49.1732, 3152,   1141.8,   3.5008,  34.8643,2,  34.8644,2,    287.0,2,    286.7,2,     8.63,6,    16.23,6,     1.12,6,    4.760,2,    2.540,4,    0.520,2,    4.290,4,    3.750,2,   2158.7,2,   2297.0,2,   3.4169, 20050530,      942
  18HU20050526, AR07W,    36,  1, 285667,     15,2,20050530,0902, 59.7455, -49.1732, 3152,   1012.4,   3.4683,  34.8566,2,  34.8571,2,    293.4,2,    292.2,2,     8.54,6,    15.79,6,     1.09,6,    5.000,2,    2.740,4,    0.490,2,    4.600,4,    3.100,2,   2158.8,2,   2298.5,2,   3.3952, 20050530,      945
  18HU20050526, AR07W,    36,  1, 285668,     16,2,20050530,0902, 59.7455, -49.1732, 3152,    841.4,   3.5308,  34.8616,2,  34.8618,2,    291.8,2,    290.6,2,     8.21,6,    15.89,6,     1.11,6,    4.940,2,    2.670,4,    0.530,2,    4.540,4,    3.240,2,   -999.0,9,   2294.2,2,   3.4707, 20050530,      948
  18HU20050526, AR07W,    36,  1, 285669,     17,2,20050530,0902, 59.7455, -49.1732, 3152,    659.9,   3.6202,  34.8672,2,  34.8667,2,    291.4,2,    290.1,2,     8.11,6,    15.80,6,     1.11,6,    4.920,2,    2.700,4,    0.580,2,    4.540,4,    3.070,2,   2158.3,2,   2302.7,2,   3.5735, 20050530,      952
  18HU20050526, AR07W,    36,  1, 285670,     18,2,20050530,0902, 59.7455, -49.1732, 3152,    480.4,   3.6823,  34.8598,2,  34.8592,2,    295.4,2,   -999.0,9,     7.70,6,    15.27,6,     1.09,6,    4.990,2,    2.760,4,    0.470,2,    4.660,4,    2.610,2,   2158.1,2,   2302.8,2,   3.6488, 20050530,      955
  18HU20050526, AR07W,    36,  1, 285671,     19,2,20050530,0902, 59.7455, -49.1732, 3152,    330.7,   3.9778,  34.8796,2,  34.8797,2,    286.8,2,    285.6,2,     7.99,6,    15.63,6,     1.09,6,    4.750,2,    2.600,4,    0.520,2,    4.320,4,    2.830,2,   2158.3,2,   2297.2,2,   3.9543, 20050530,      958
  18HU20050526, AR07W,    36,  1, 285672,     20,2,20050530,0902, 59.7455, -49.1732, 3152,    210.0,   4.0851,  34.8707,2,-999.0000,9,    291.4,2,    294.5,2,     7.67,6,    15.37,6,     1.06,6,    4.860,2,    2.700,4,    0.590,2,    4.550,4,    2.570,2,   2157.1,2,   2306.3,2,   4.0702, 20050530,     1001
  18HU20050526, AR07W,    36,  1, 285673,     21,2,20050530,0902, 59.7455, -49.1732, 3152,    109.6,   4.2067,  34.8545,2,-999.0000,9,    292.3,2,    290.7,2,     7.25,6,    14.91,6,     1.04,6,    4.960,2,    2.770,4,    0.520,2,    4.610,4,    2.400,2,   2156.6,2,   2307.2,2,   4.1989, 20050530,     1003
  18HU20050526, AR07W,    36,  1, 285674,     22,2,20050530,0902, 59.7455, -49.1732, 3152,     52.4,   4.0580,  34.7715,2,-999.0000,9,    305.6,2,    305.6,2,     5.57,6,    11.20,6,     0.89,6,    5.210,2,    2.900,4,    0.580,2,    4.940,4,    2.180,2,   2140.2,2,   2303.0,2,   4.0544, 20050530,     1007
  18HU20050526, AR07W,    36,  1, 285675,     23,2,20050530,0902, 59.7455, -49.1732, 3152,     20.6,   4.9136,  34.7219,2,-999.0000,9,    324.7,2,    324.6,2,     4.37,6,     6.96,6,     0.63,6,    5.310,2,    2.970,4,    0.630,2,    5.390,4,    2.020,2,   2110.1,2,   2308.5,2,   4.9120, 20050530,     1008
  18HU20050526, AR07W,    36,  1, 285676,     24,2,20050530,0902, 59.7455, -49.1732, 3152,      2.0,   4.9465,  34.7230,2,-999.0000,9,    321.3,2,    324.7,2,     4.40,6,     6.79,6,     0.63,6,    5.330,2,    2.990,4,    0.640,2,    5.390,4,    2.040,2,   2109.9,2,   2304.5,2,   4.9463, 20050530,     1009
  18HU20050526, AR07W,    46,  1, 285677,      1,2,20050530,1707, 59.0655, -49.9503, 3510,    200.2,   4.1840,  34.8832,2,-999.0000,9,    295.8,2,   -999.0,9,     7.62,6,    15.21,6,     1.07,6, -999.000,9, -999.000,9, -999.000,9, -999.000,9, -999.000,9,   -999.0,9,   -999.0,9,   4.1697, 20050530,     1707
  18HU20050526, AR07W,    46,  1, 285678,      2,2,20050530,1707, 59.0655, -49.9503, 3510,    100.9,   4.3047,  34.8800,2,-999.0000,9,    294.1,2,   -999.0,9,     7.49,6,    15.08,6,     1.05,6, -999.000,9, -999.000,9, -999.000,9, -999.000,9, -999.000,9,   -999.0,9,   -999.0,9,   4.2974, 20050530,     1710
  18HU20050526, AR07W,    46,  1, 285679,      3,2,20050530,1707, 59.0655, -49.9503, 3510,     78.7,   4.3744,  34.8722,2,-999.0000,9,    300.3,2,   -999.0,9,     7.17,6,    14.01,6,     1.00,6, -999.000,9, -999.000,9, -999.000,9, -999.000,9, -999.000,9,   -999.0,9,   -999.0,9,   4.3687, 20050530,     1711
  18HU20050526, AR07W,    46,  1, 285680,      4,2,20050530,1707, 59.0655, -49.9503, 3510,     59.6,   4.2780,  34.8413,2,-999.0000,9,    307.3,2,   -999.0,9,     6.62,6,    12.48,6,     0.93,6, -999.000,9, -999.000,9, -999.000,9, -999.000,9, -999.000,9,   -999.0,9,   -999.0,9,   4.2738, 20050530,     1712
  18HU20050526, AR07W,    46,  1, 285681,      5,2,20050530,1707, 59.0655, -49.9503, 3510,     51.5,   4.3523,  34.8455,2,-999.0000,9,    307.9,2,   -999.0,9,     6.58,6,    12.25,6,     0.91,6, -999.000,9, -999.000,9, -999.000,9, -999.000,9, -999.000,9,   -999.0,9,   -999.0,9,   4.3486, 20050530,     1713
  18HU20050526, AR07W,    46,  1, 285682,      6,2,20050530,1707, 59.0655, -49.9503, 3510,     41.9,   4.3586,  34.8407,2,-999.0000,9,    307.6,2,   -999.0,9,     6.55,6,    12.08,6,     0.91,6, -999.000,9, -999.000,9, -999.000,9, -999.000,9, -999.000,9,   -999.0,9,   -999.0,9,   4.3556, 20050530,     1713
  18HU20050526, AR07W,    46,  1, 285683,      7,2,20050530,1707, 59.0655, -49.9503, 3510,     40.4,   4.3198,  34.8299,2,-999.0000,9,    311.2,2,   -999.0,9,     6.34,6,    11.46,6,     0.89,6, -999.000,9, -999.000,9, -999.000,9, -999.000,9, -999.000,9,   -999.0,9,   -999.0,9,   4.3169, 20050530,     1714
  18HU20050526, AR07W,    46,  1, 285684,      8,2,20050530,1707, 59.0655, -49.9503, 3510,     30.5,   4.4833,  34.8234,2,-999.0000,9,    322.4,2,   -999.0,9,     5.83,6,     9.70,6,     0.79,6, -999.000,9, -999.000,9, -999.000,9, -999.000,9, -999.000,9,   -999.0,9,   -999.0,9,   4.4811, 20050530,     1714
  18HU20050526, AR07W,    46,  1, 285685,      9,2,20050530,1707, 59.0655, -49.9503, 3510,     19.5,   4.7299,  34.8159,2,-999.0000,9,    327.3,2,   -999.0,9,     5.33,6,     8.32,6,     0.70,6, -999.000,9, -999.000,9, -999.000,9, -999.000,9, -999.000,9,   -999.0,9,   -999.0,9,   4.7284, 20050530,     1715
  18HU20050526, AR07W,    46,  1, 285686,     10,2,20050530,1707, 59.0655, -49.9503, 3510,     19.8,   4.7308,  34.8162,2,-999.0000,9,    327.0,2,   -999.0,9,     5.27,6,     8.35,6,     0.70,6, -999.000,9, -999.000,9, -999.000,9, -999.000,9, -999.000,9,   -999.0,9,   -999.0,9,   4.7293, 20050530,     1715
  18HU20050526, AR07W,    46,  1, 285687,     11,2,20050530,1707, 59.0655, -49.9503, 3510,     19.6,   4.7302,  34.8167,2,-999.0000,9,    326.9,2,   -999.0,9,     5.37,6,     8.39,6,     0.70,6, -999.000,9, -999.000,9, -999.000,9, -999.000,9, -999.000,9,   -999.0,9,   -999.0,9,   4.7287, 20050530,     1715
  18HU20050526, AR07W,    46,  1, 285688,     12,2,20050530,1707, 59.0655, -49.9503, 3510,     10.2,   5.3189,  34.7975,2,-999.0000,9,    334.2,2,   -999.0,9,     4.68,6,     7.30,6,     0.58,6, -999.000,9, -999.000,9, -999.000,9, -999.000,9, -999.000,9,   -999.0,9,   -999.0,9,   5.3181, 20050530,     1716
  18HU20050526, AR07W,    46,  1, 285689,     13,2,20050530,1707, 59.0655, -49.9503, 3510,      2.2,   5.3307,  34.7958,2,-999.0000,9,    334.6,2,   -999.0,9,     4.61,6,     7.31,6,     0.58,6, -999.000,9, -999.000,9, -999.000,9, -999.000,9, -999.000,9,   -999.0,9,   -999.0,9,   5.3305, 20050530,     1717
  18HU20050526, AR07W,    46,  1, 285690,     14,2,20050530,1707, 59.0655, -49.9503, 3510,      2.6,   5.3277,  34.7967,2,-999.0000,9,    335.0,2,   -999.0,9,     4.68,6,     7.34,6,     0.61,6, -999.000,9, -999.000,9, -999.000,9, -999.000,9, -999.000,9,   -999.0,9,   -999.0,9,   5.3275, 20050530,     1717
  18HU20050526, AR07W,    46,  1, 285691,     15,2,20050530,1707, 59.0655, -49.9503, 3510,      3.0,   5.3269,  34.7968,2,-999.0000,9,    335.3,2,   -999.0,9,  -999.00,9,  -999.00,9,  -999.00,9, -999.000,9, -999.000,9, -999.000,9, -999.000,9, -999.000,9,   -999.0,9,   -999.0,9,   5.3267, 20050530,     1717
  18HU20050526, AR07W,    46,  1, 285692,     16,2,20050530,1707, 59.0655, -49.9503, 3510,      2.6,   5.3272,  34.7968,2,-999.0000,9,    335.0,2,   -999.0,9,  -999.00,9,  -999.00,9,  -999.00,9, -999.000,9, -999.000,9, -999.000,9, -999.000,9, -999.000,9,   -999.0,9,   -999.0,9,   5.3270, 20050530,     1717
  18HU20050526, AR07W,    46,  1, 285693,     17,2,20050530,1707, 59.0655, -49.9503, 3510,      2.6,   5.3277,  34.7965,2,-999.0000,9,    334.9,2,   -999.0,9,  -999.00,9,  -999.00,9,  -999.00,9, -999.000,9, -999.000,9, -999.000,9, -999.000,9, -999.000,9,   -999.0,9,   -999.0,9,   5.3275, 20050530,     1717