BOTTLE,20130611PRINUNIVRMK
EXPOCODE,SECT_ID,STNNBR,CASTNO,SAMPNO,BTLNBR,BTLNBR_FLAG_W,DATE,TIME,LATITUDE,LONGITUDE,DEPTH,CTDPRS,CTDTMP,CTDSAL,CTDSAL_FLAG_W,SALNTY,SALNTY_FLAG_W,CTDOXY,CTDOXY_FLAG_W,OXYGEN,OXYGEN_FLAG_W,SILCAT,SILCAT_FLAG_W,NITRAT,NITRAT_FLAG_W,PHSPHT,PHSPHT_FLAG_W,CFC-11,CFC-11_FLAG_W,CFC-12,CFC-12_FLAG_W,CFC113,CFC113_FLAG_W,CCL4,CCL4_FLAG_W,MCHFRM,MCHFRM_FLAG_W,TCARBN,TCARBN_FLAG_W,ALKALI,ALKALI_FLAG_W,THETA,BTL_DATE,BTL_TIME
,,,,,,,,,,,METERS,DBAR,ITS-90,PSS-78,,PSS-78,,UMOL/KG,,UMOL/KG,,UMOL/KG,,UMOL/KG,,UMOL/KG,,PMOL/KG,,PMOL/KG,,PMOL/KG,,PMOL/KG,,PMOL/KG,,UMOL/KG,,UMOL/KG,,DEG C,,
  18HU20050526, AR07W,    80,  1, 285790,      1,2,20050531,1539, 57.3775, -51.7895, 3587,    194.4,   3.4285,  34.7971,2,-999.0000,9,    297.6,2,   -999.0,9,     7.82,6,    15.41,6,     1.06,6, -999.000,9, -999.000,9, -999.000,9, -999.000,9, -999.000,9,   -999.0,9,   -999.0,9,   3.4158, 20050531,     1539
  18HU20050526, AR07W,    80,  1, 285791,      2,2,20050531,1539, 57.3775, -51.7895, 3587,    150.2,   3.4391,  34.7884,2,-999.0000,9,    298.4,2,   -999.0,9,     7.50,6,    15.35,6,     1.08,6, -999.000,9, -999.000,9, -999.000,9, -999.000,9, -999.000,9,   -999.0,9,   -999.0,9,   3.4293, 20050531,     1540
  18HU20050526, AR07W,    80,  1, 285792,      3,2,20050531,1539, 57.3775, -51.7895, 3587,    100.4,   3.4229,  34.7601,2,-999.0000,9,    299.3,2,   -999.0,9,     6.67,6,    14.86,6,     1.06,6, -999.000,9, -999.000,9, -999.000,9, -999.000,9, -999.000,9,   -999.0,9,   -999.0,9,   3.4164, 20050531,     1542
  18HU20050526, AR07W,    80,  1, 285793,      4,2,20050531,1539, 57.3775, -51.7895, 3587,     80.9,   3.4266,  34.7454,2,-999.0000,9,    302.2,2,   -999.0,9,     6.83,6,    14.78,6,     1.05,6, -999.000,9, -999.000,9, -999.000,9, -999.000,9, -999.000,9,   -999.0,9,   -999.0,9,   3.4214, 20050531,     1543
  18HU20050526, AR07W,    80,  1, 285794,      5,2,20050531,1539, 57.3775, -51.7895, 3587,     60.1,   3.4210,  34.7302,2,-999.0000,9,    301.8,2,   -999.0,9,     6.67,6,    14.88,6,     1.04,6, -999.000,9, -999.000,9, -999.000,9, -999.000,9, -999.000,9,   -999.0,9,   -999.0,9,   3.4171, 20050531,     1544
  18HU20050526, AR07W,    80,  1, 285795,      6,2,20050531,1539, 57.3775, -51.7895, 3587,     50.0,   3.5179,  34.7274,2,-999.0000,9,    303.9,2,   -999.0,9,     5.91,6,    14.15,6,     1.01,6, -999.000,9, -999.000,9, -999.000,9, -999.000,9, -999.000,9,   -999.0,9,   -999.0,9,   3.5147, 20050531,     1545
  18HU20050526, AR07W,    80,  1, 285796,      7,2,20050531,1539, 57.3775, -51.7895, 3587,     39.4,   3.7684,  34.7313,2,-999.0000,9,    308.0,2,   -999.0,9,     4.93,6,    13.08,6,     0.95,6, -999.000,9, -999.000,9, -999.000,9, -999.000,9, -999.000,9,   -999.0,9,   -999.0,9,   3.7658, 20050531,     1546
  18HU20050526, AR07W,    80,  1, 285797,      8,2,20050531,1539, 57.3775, -51.7895, 3587,     30.4,   4.2676,  34.7162,2,-999.0000,9,    321.1,2,   -999.0,9,     1.66,6,     9.43,6,     0.68,6, -999.000,9, -999.000,9, -999.000,9, -999.000,9, -999.000,9,   -999.0,9,   -999.0,9,   4.2654, 20050531,     1547
  18HU20050526, AR07W,    80,  1, 285798,      9,2,20050531,1539, 57.3775, -51.7895, 3587,     30.3,   4.2744,  34.7176,2,-999.0000,9,    322.7,2,   -999.0,9,  -999.00,9,  -999.00,9,  -999.00,9, -999.000,9, -999.000,9, -999.000,9, -999.000,9, -999.000,9,   -999.0,9,   -999.0,9,   4.2723, 20050531,     1547
  18HU20050526, AR07W,    80,  1, 285799,     10,2,20050531,1539, 57.3775, -51.7895, 3587,     30.3,   4.3778,  34.7177,2,-999.0000,9,    324.9,2,   -999.0,9,  -999.00,9,  -999.00,9,  -999.00,9, -999.000,9, -999.000,9, -999.000,9, -999.000,9, -999.000,9,   -999.0,9,   -999.0,9,   4.3756, 20050531,     1547
  18HU20050526, AR07W,    80,  1, 285800,     11,2,20050531,1539, 57.3775, -51.7895, 3587,     20.1,   5.4924,  34.7211,2,-999.0000,9,    324.3,2,   -999.0,9,     0.70,6,     6.82,6,     0.43,6, -999.000,9, -999.000,9, -999.000,9, -999.000,9, -999.000,9,   -999.0,9,   -999.0,9,   5.4908, 20050531,     1548
  18HU20050526, AR07W,    80,  1, 285801,     12,2,20050531,1539, 57.3775, -51.7895, 3587,      9.4,   5.5763,  34.7252,2,-999.0000,9,    323.4,2,   -999.0,9,     0.65,6,     6.87,6,     0.43,6, -999.000,9, -999.000,9, -999.000,9, -999.000,9, -999.000,9,   -999.0,9,   -999.0,9,   5.5755, 20050531,     1550
  18HU20050526, AR07W,    80,  1, 285802,     13,2,20050531,1539, 57.3775, -51.7895, 3587,      2.5,   5.5882,  34.7276,2,-999.0000,9,    323.1,2,   -999.0,9,     0.65,6,     6.85,6,     0.43,6, -999.000,9, -999.000,9, -999.000,9, -999.000,9, -999.000,9,   -999.0,9,   -999.0,9,   5.5880, 20050531,     1551
  18HU20050526, AR07W,    80,  1, 285803,     14,2,20050531,1539, 57.3775, -51.7895, 3587,      2.5,   5.5883,  34.7274,2,-999.0000,9,    323.1,2,   -999.0,9,  -999.00,9,  -999.00,9,  -999.00,9, -999.000,9, -999.000,9, -999.000,9, -999.000,9, -999.000,9,   -999.0,9,   -999.0,9,   5.5881, 20050531,     1551
  18HU20050526, AR07W,    80,  1, 285804,     15,2,20050531,1539, 57.3775, -51.7895, 3587,      3.0,   5.5880,  34.7272,2,-999.0000,9,    323.1,2,   -999.0,9,  -999.00,9,  -999.00,9,  -999.00,9, -999.000,9, -999.000,9, -999.000,9, -999.000,9, -999.000,9,   -999.0,9,   -999.0,9,   5.5878, 20050531,     1552
  18HU20050526, AR07W,    80,  1, 285805,     16,2,20050531,1539, 57.3775, -51.7895, 3587,      2.4,   5.5883,  34.7279,2,-999.0000,9,    323.2,2,   -999.0,9,  -999.00,9,  -999.00,9,  -999.00,9, -999.000,9, -999.000,9, -999.000,9, -999.000,9, -999.000,9,   -999.0,9,   -999.0,9,   5.5881, 20050531,     1552
  18HU20050526, AR07W,    80,  1, 285806,     17,2,20050531,1539, 57.3775, -51.7895, 3587,      2.7,   5.5877,  34.7277,2,-999.0000,9,    323.1,2,   -999.0,9,  -999.00,9,  -999.00,9,  -999.00,9, -999.000,9, -999.000,9, -999.000,9, -999.000,9, -999.000,9,   -999.0,9,   -999.0,9,   5.5875, 20050531,     1552
  18HU20050526, AR07W,    81,  1, 285807,      1,2,20050531,1725, 57.3755, -51.7922, 3596,   3585.8,   1.4871,  34.8711,2,  34.8703,2,    292.7,2,    291.9,2,     9.36,6,    13.87,6,     0.95,6,    4.410,2,    2.450,4,    0.230,2,    4.630,4,    6.160,2,   2160.9,2,   2298.3,2,   1.2113, 20050531,     1725
  18HU20050526, AR07W,    81,  1, 285808,      2,2,20050531,1725, 57.3755, -51.7922, 3596,   3502.6,   1.5828,  34.8755,2,  34.8755,2,    290.8,2,    290.4,2,     9.57,6,    13.98,6,     0.96,6,    4.210,2,    2.340,4,    0.240,2,    4.380,4,    6.010,2,   2160.9,2,   2296.3,2,   1.3132, 20050531,     1727
  18HU20050526, AR07W,    81,  1, 285809,      3,2,20050531,1725, 57.3755, -51.7922, 3596,   3412.8,   1.8720,  34.8804,2,  34.8806,2,    287.1,2,    286.3,2,    10.22,6,    14.32,6,     0.99,6,    3.860,2,    1.960,4,    0.220,2,    4.090,4,    5.950,2,   2158.9,2,   2308.1,2,   1.6044, 20050531,     1729
  18HU20050526, AR07W,    81,  1, 285810,      4,2,20050531,1725, 57.3755, -51.7922, 3596,   3301.0,   2.1585,  34.8893,2,  34.8877,2,    281.8,2,    280.8,2,    11.65,6,    15.01,6,     1.03,6,    3.370,2,    1.770,4,    0.150,2,    3.710,4,    5.770,2,   2157.5,2,   2309.4,2,   1.8956, 20050531,     1731
  18HU20050526, AR07W,    81,  1, 285811,      5,2,20050531,1725, 57.3755, -51.7922, 3596,   3180.7,   2.3930,  34.8997,2,  34.8997,2,    277.3,2,    280.9,2,    13.34,6,    15.72,6,     1.07,6,    2.800,2,    0.570,4,    0.120,2,    3.220,4,    5.390,2,   2160.1,2,   2313.1,2,   2.1370, 20050531,     1733
  18HU20050526, AR07W,    81,  1, 285812,      6,2,20050531,1725, 57.3755, -51.7922, 3596,   3039.8,   2.5856,  34.9076,2,  34.9071,2,    275.3,2,    274.4,2,    12.67,6,    15.67,6,     1.06,6,    2.730,2,    1.250,4,    0.110,2,    3.030,4,    5.280,2,   2161.6,2,   2315.8,2,   2.3398, 20050531,     1736
  18HU20050526, AR07W,    81,  1, 285813,      7,2,20050531,1725, 57.3755, -51.7922, 3596,   2869.9,   2.7956,  34.9186,2,  34.9174,2,    272.6,2,    272.8,2,    12.88,6,    16.05,6,     1.08,6,    2.540,2,    1.200,4,    0.080,2,    2.840,4,    5.280,2,   2161.6,2,   2315.8,2,   2.5627, 20050531,     1739
  18HU20050526, AR07W,    81,  1, 285814,      8,2,20050531,1725, 57.3755, -51.7922, 3596,   2688.5,   2.9030,  34.9148,2,  34.9148,2,    272.5,2,    280.7,3,    12.49,6,    16.15,6,     1.11,6,    2.530,2,    1.030,4,    0.080,2,    2.850,4,    5.430,2,   2162.0,2,   2305.2,2,   2.6863, 20050531,     1742
  18HU20050526, AR07W,    81,  1, 285815,      9,2,20050531,1725, 57.3755, -51.7922, 3596,   2480.7,   3.0015,  34.9079,2,  34.9067,2,    273.3,2,    272.8,2,    11.90,6,    16.24,6,     1.11,6,    2.660,2,    1.130,4,    0.090,2,    2.930,4,    5.740,2,   2158.7,3,   2315.9,2,   2.8035, 20050531,     1746
  18HU20050526, AR07W,    81,  1, 285816,     10,2,20050531,1725, 57.3755, -51.7922, 3596,   2250.6,   3.0916,  34.8986,2,  34.8983,2,    274.7,2,    275.2,2,    11.24,6,    16.40,6,     1.12,6,    2.980,2,    1.390,4,    0.080,2,    3.260,4,    6.710,2,   2158.4,3,   2313.4,2,   2.9143, 20050531,     1749
  18HU20050526, AR07W,    81,  1, 285817,     11,2,20050531,1725, 57.3755, -51.7922, 3596,   1951.5,   3.1874,  34.8869,2,  34.8867,6,    276.3,2,    293.8,3,    10.59,6,    16.67,6,     1.12,6,    3.370,2,    1.490,4,    0.160,2,    3.620,4,    7.640,2,   2157.9,3,   2309.2,2,   3.0367, 20050531,     1754
  18HU20050526, AR07W,    81,  1, 285818,     12,2,20050531,1725, 57.3755, -51.7922, 3596,   1769.9,   3.2886,  34.8891,2,  34.8886,2,    275.1,2,    275.6,2,    10.26,6,    16.71,6,     1.13,6,    3.480,2,    0.470,4,    0.130,2,    3.770,4,    7.630,2,   2157.0,3,   2309.1,2,   3.1529, 20050531,     1757
  18HU20050526, AR07W,    81,  1, 285819,     13,2,20050531,1725, 57.3755, -51.7922, 3596,   1531.2,   3.4575,  34.8927,2,  34.8914,2,    272.4,2,    272.6,6,    10.23,6,    16.73,6,     1.13,6,    3.650,2,    1.770,4,    0.190,2,    3.790,4,    7.400,2,   2161.5,2,   2310.5,2,   3.3409, 20050531,     1801
  18HU20050526, AR07W,    81,  1, 285820,     14,2,20050531,1725, 57.3755, -51.7922, 3596,   1291.4,   3.4815,  34.8770,2,  34.8664,2,    276.7,2,    278.5,3,     9.21,6,    16.36,6,     1.10,6,    4.350,2,    2.280,4,    0.300,2,    4.480,4,    6.130,2,   2160.6,2,   2307.4,2,   3.3853, 20050531,     1805
  18HU20050526, AR07W,    81,  1, 285821,     15,2,20050531,1725, 57.3755, -51.7922, 3596,   1066.9,   3.4066,  34.8522,2,  34.8515,2,    288.1,2,    288.3,2,     8.36,6,    15.87,6,     1.08,6, -999.000,9, -999.000,9, -999.000,9, -999.000,9, -999.000,9,   2157.1,2,   2309.9,2,   3.3296, 20050531,     1811
  18HU20050526, AR07W,    81,  1, 285822,     16,2,20050531,1725, 57.3755, -51.7922, 3596,    867.6,   3.4299,  34.8502,2,  34.8499,2,    294.8,2,    294.8,2,     7.84,6,    15.48,6,     1.05,6,    4.970,2,    2.820,4,    0.300,2,    5.360,4,    3.950,2,   2155.5,2,   2307.0,2,   3.3685, 20050531,     1815
  18HU20050526, AR07W,    81,  1, 285823,     17,2,20050531,1725, 57.3755, -51.7922, 3596,    677.5,   3.4429,  34.8495,2,  34.8487,2,    296.1,2,    297.2,2,     7.60,6,    15.37,6,     1.04,6,    5.120,2,    1.990,4,    0.340,2,    5.750,4,    3.840,2,   2154.5,2,   2308.2,2,   3.3958, 20050531,     1818
  18HU20050526, AR07W,    81,  1, 285824,     18,2,20050531,1725, 57.3755, -51.7922, 3596,    504.5,   3.4733,  34.8493,2,  34.8487,2,    296.5,2,    296.5,2,     7.63,6,    15.33,6,     1.05,6,    5.150,2,    2.690,4,    0.340,2,    5.680,4,    3.790,2,   2153.6,2,   2304.1,2,   3.4388, 20050531,     1821
  18HU20050526, AR07W,    81,  1, 285825,     19,2,20050531,1725, 57.3755, -51.7922, 3596,    364.8,   3.6521,  34.8623,2,  34.8491,2,    280.8,2,    280.9,3,     8.56,3,    16.22,3,     1.10,6,    4.690,3,    2.480,4,    0.290,2,    4.860,4,    4.850,2,   2159.1,3,   2303.1,2,   3.6270, 20050531,     1823
  18HU20050526, AR07W,    81,  1, 285826,     20,2,20050531,1725, 57.3755, -51.7922, 3596,    242.3,   3.5815,  34.8335,2,-999.0000,9,    287.0,2,    286.9,3,     7.80,6,    15.66,6,     1.08,6,    4.840,2,    2.610,4,    0.300,2,    5.150,4,    3.920,2,   2158.6,3,   2303.7,2,   3.5652, 20050531,     1826
  18HU20050526, AR07W,    81,  1, 285827,     21,2,20050531,1725, 57.3755, -51.7922, 3596,    142.4,   3.4641,  34.7909,2,-999.0000,9,    295.6,2,    296.2,2,     7.18,6,    15.29,6,     1.05,6,    5.120,2,    2.970,4,    0.340,2,    5.820,4,    3.350,2,   2156.1,3,   2298.8,3,   3.4548, 20050531,     1828
  18HU20050526, AR07W,    81,  1, 285828,     22,2,20050531,1725, 57.3755, -51.7922, 3596,     72.9,   3.4176,  34.7345,2,-999.0000,9,    300.7,2,    302.0,2,     6.41,6,    14.52,6,     1.02,6,    5.290,2,    2.960,4,    0.330,2,    6.060,4,    2.860,2,   2149.6,2,   2295.2,2,   3.4129, 20050531,     1830
  18HU20050526, AR07W,    81,  1, 285829,     23,2,20050531,1725, 57.3755, -51.7922, 3596,     39.5,   4.1909,  34.7364,2,-999.0000,9,    315.8,2,   -999.0,9,     1.33,6,     9.00,6,     0.66,6,    5.400,2,    3.150,4,    0.310,2,    6.200,4,    2.660,2,   2118.6,2,   2290.3,2,   4.1881, 20050531,     1831
  18HU20050526, AR07W,    81,  1, 285830,     24,2,20050531,1725, 57.3755, -51.7922, 3596,      2.3,   5.6756,  34.7269,2,-999.0000,9,    322.0,2,    321.0,2,     0.00,6,     6.82,6,     0.45,6,    5.370,2,    3.030,4,    0.420,2,    6.410,4,    2.530,2,   2099.2,2,   -999.0,9,   5.6754, 20050531,     1833