BOTTLE,20030417WHPSIOSA
EXPOCODE,SECT_ID,STNNBR,CASTNO,BTLNBR,BTLNBR_FLAG_W,DATE,TIME,LATITUDE,LONGITUDE,DEPTH,CTDPRS,CTDTMP,CTDSAL,CTDSAL_FLAG_W,SALNTY,SALNTY_FLAG_W,OXYGEN,OXYGEN_FLAG_W,SILCAT,SILCAT_FLAG_W,NO2+NO3,NO2+NO3_FLAG_W,PHSPHT,PHSPHT_FLAG_W,CFC-11,CFC-11_FLAG_W,CFC-12,CFC-12_FLAG_W,CCL4,CCL4_FLAG_W,TRITUM,TRITUM_FLAG_W,HELIUM,HELIUM_FLAG_W,DELHE3,DELHE3_FLAG_W,DELC14,DELC14_FLAG_W,NEON,NEON_FLAG_W,O18O16,O18O16_FLAG_W,TCARBN,TCARBN_FLAG_W,PCO2,PCO2_FLAG_W,ALKALI,ALKALI_FLAG_W,PH,PH_FLAG_W,C14ERR,HELIER,DELHER,NEONER,THETA,TRITER,TRITER_FLAG_W
,,,,,,,,,,,DBAR,ITS-90,PSS-78,,PSS-78,,UMOL/KG,,UMOL/KG,,UMOL/KG,,UMOL/KG,,PMOL/KG,,PMOL/KG,,PMOL/KG,,TU,,NMOL/KG,,PERCNT,,/MILLE,,NMOL/KG,,MILLE,,UMOL/KG,,UATM,,UMOL/KG,,,,/MILLE,NMOL/KG,PERCNT,NMOL/KG,ITS-90,TU,
      06MT22_5,   A10,   627,  1,    318,2,19921230,2212,-27.9500, -46.4850, 1693,     10.0,  25.2120,  36.8730,2,  36.9120,2,    210.1,2,     0.19,2,     0.07,9,     0.08,2,    1.808,2,    1.045,2,    2.241,2,    0.899,2,-999.0000,9,  -999.00,9,   -999.0,9,-999.000,9,  -999.00,9,   2059.6,2,   -999.0,9,   2403.9,2,  -999.00,9,  -999.0,-999.0000,-999.000,-999.000, 25.2098,   0.027,9
      06MT22_5,   A10,   627,  1,    317,2,19921230,2212,-27.9500, -46.4850, 1693,     30.0,  24.9160,  36.8870,2,-999.0000,9,    213.9,2,     0.17,2,     0.01,9,     0.08,2,    1.857,2,    1.083,2,    2.256,2,    0.930,2,   1.7583,4,    -0.94,3,   -999.0,9,   6.681,7,  -999.00,9,   2058.5,2,   -999.0,9,   2406.9,2,  -999.00,9,  -999.0,  0.0062,   0.250,   0.023, 24.9095,   0.022,9
      06MT22_5,   A10,   627,  1,    316,2,19921230,2212,-27.9500, -46.4850, 1693,     50.0,  22.8300,  36.6070,2,-999.0000,9,    224.2,2,     0.00,2,     0.01,9,     0.03,2,    2.037,4,    1.148,4,    2.223,2, -999.000,9,-999.0000,1,  -999.00,1,   -999.0,9,-999.000,1,  -999.00,9,   2055.3,2,   -999.0,9,   2391.1,2,  -999.00,9,  -999.0,-999.0000,-999.000,-999.000, 22.8198,-999.000,9
      06MT22_5,   A10,   627,  1,    315,2,19921230,2212,-27.9500, -46.4850, 1693,     71.0,  23.1060,  36.9290,2,-999.0000,9,    220.6,2,     0.06,2,     0.01,9,     0.06,2,    1.946,2,    1.097,2,    1.894,2,    0.915,2,-999.0000,1,  -999.00,1,   -999.0,9,-999.000,1,  -999.00,9,   2063.5,2,   -999.0,9,   2407.9,2,  -999.00,9,  -999.0,-999.0000,-999.000,-999.000, 23.0913,   0.022,9
      06MT22_5,   A10,   627,  1,    314,2,19921230,2212,-27.9500, -46.4850, 1693,    100.0,  22.1060,  36.8050,2,  36.8130,2,    216.3,2,     0.04,2,     0.00,9,     0.07,2,    2.018,2,    1.287,3,    1.652,2,    0.925,2,-999.0000,1,  -999.00,1,   -999.0,9,-999.000,1,  -999.00,9,   2068.8,2,   -999.0,9,   2400.0,2,  -999.00,9,  -999.0,-999.0000,-999.000,-999.000, 22.0860,   0.031,9
      06MT22_5,   A10,   627,  1,    313,2,19921230,2212,-27.9500, -46.4850, 1693,    151.0,  20.3860,  36.4750,2,-999.0000,9,    207.2,2,     0.19,2,     1.32,9,     0.15,2,    2.112,2,    1.158,2,    0.700,4,    0.881,2,-999.0000,1,  -999.00,1,   -999.0,9,-999.000,1,  -999.00,9,   2079.1,2,   -999.0,9,   2380.3,2,  -999.00,9,  -999.0,-999.0000,-999.000,-999.000, 20.3576,   0.030,9
      06MT22_5,   A10,   627,  1,    312,2,19921230,2212,-27.9500, -46.4850, 1693,    200.0,  18.3130,  36.0340,2,-999.0000,9,    213.9,2,     0.30,2,     1.69,9,     0.24,2,    2.293,2,    1.232,2,    0.988,2,    0.916,2,-999.0000,1,  -999.00,1,   -999.0,9,-999.000,1,  -999.00,9,   2071.1,2,   -999.0,9,   2353.8,2,  -999.00,9,  -999.0,-999.0000,-999.000,-999.000, 18.2781,   0.026,9
      06MT22_5,   A10,   627,  1,    311,2,19921230,2212,-27.9500, -46.4850, 1693,    299.0,  15.1920,  35.4950,2,  35.4900,2,    210.3,2,     1.35,2,     5.79,9,     0.49,2,    2.300,2,    1.227,2,    0.682,2,    0.853,2,   2.1058,4,     0.60,3,   -999.0,9,   7.143,7,  -999.00,9,   2089.4,2,   -999.0,9,   2322.3,2,  -999.00,9,  -999.0,  0.0074,   0.250,   0.025, 15.1460,   0.024,9
      06MT22_5,   A10,   627,  1,    310,2,19921230,2212,-27.9500, -46.4850, 1693,    399.0,  13.3140,  35.2820,2,-999.0000,9,    210.6,2,     2.50,2,    10.05,9,     0.71,2,    2.172,2,    1.179,2,    0.599,2,    0.724,2,-999.0000,1,  -999.00,1,   -999.0,9,-999.000,1,  -999.00,9,   2103.5,2,   -999.0,9,   2309.5,2,  -999.00,9,  -999.0,-999.0000,-999.000,-999.000, 13.2580,   0.023,9
      06MT22_5,   A10,   627,  1,    309,2,19921230,2212,-27.9500, -46.4850, 1693,    500.0,  11.0660,  34.9720,2,-999.0000,9,    207.5,2,     4.67,2,    15.22,9,     1.04,2,    1.901,2,    1.003,2,    0.840,2,    0.524,2,-999.0000,1,  -999.00,1,   -999.0,9,-999.000,1,  -999.00,9,   2119.4,2,   -999.0,9,   2293.8,2,  -999.00,9,  -999.0,-999.0000,-999.000,-999.000, 11.0035,   0.020,9
      06MT22_5,   A10,   627,  1,    308,2,19921230,2212,-27.9500, -46.4850, 1693,    600.0,   8.8180,  34.6800,2,  34.6820,2,    206.7,2,     8.37,2,    21.66,9,     1.43,2,    1.561,2,    0.794,2,    1.284,2,    0.364,2,   1.8252,4,     1.11,3,   -999.0,9,   7.482,7,  -999.00,9,   2139.7,2,   -999.0,9,   2317.7,2,  -999.00,9,  -999.0,  0.0064,   0.250,   0.026,  8.7524,   0.015,9
      06MT22_5,   A10,   627,  1,    307,2,19921230,2212,-27.9500, -46.4850, 1693,    700.0,   6.7610,  34.4660,2,-999.0000,9,    215.1,2,    12.51,2,    25.71,9,     1.75,2,    1.413,2,    0.708,2,    1.855,2,    0.238,2,-999.0000,1,  -999.00,1,   -999.0,9,-999.000,1,  -999.00,9,   2152.4,2,   -999.0,9,   2314.7,2,  -999.00,9,  -999.0,-999.0000,-999.000,-999.000,  6.6950,   0.017,9
      06MT22_5,   A10,   627,  1,    306,2,19921230,2212,-27.9500, -46.4850, 1693,    849.0,   4.9620,  34.3360,2,-999.0000,9,    223.7,2,    19.54,2,    29.34,9,     2.00,2,    1.123,2,    0.563,2,    2.082,2,    0.146,2,   1.7721,2,     1.80,2,   -999.0,9,   7.734,2,  -999.00,9,   2167.9,2,   -999.0,9,   2311.7,2,  -999.00,9,  -999.0,  0.0062,   0.250,   0.027,  4.8927,   0.010,9
      06MT22_5,   A10,   627,  1,    305,2,19921230,2212,-27.9500, -46.4850, 1693,    997.0,   3.9430,  34.3250,2,  34.3230,2,    216.1,2,    29.82,2,    32.31,9,     2.18,2,    0.619,2,    0.317,2,    1.628,2,   -5.180,4,-999.0000,1,  -999.00,1,   -999.0,9,-999.000,1,  -999.00,9,   2189.6,2,   -999.0,9,   2322.7,2,  -999.00,9,  -999.0,-999.0000,-999.000,-999.000,  3.8683,   4.043,9
      06MT22_5,   A10,   627,  1,    304,2,19921230,2212,-27.9500, -46.4850, 1693,   1199.0,   3.3530,  34.4380,2,-999.0000,9,    193.4,2,    43.79,2,    34.59,9,     2.29,2,    0.145,2,    0.075,2,    0.623,2,    0.030,2,   1.9314,4,     4.30,3,   -999.0,9,   7.857,7,  -999.00,9,   2214.5,2,   -999.0,9,   2332.8,2,  -999.00,9,  -999.0,  0.0068,   0.250,   0.027,  3.2659,   0.003,9
      06MT22_5,   A10,   627,  1,    303,2,19921230,2212,-27.9500, -46.4850, 1693,   1400.0,   3.1000,  34.5430,2,-999.0000,9,    191.1,2,    49.43,2,    34.60,9,     2.26,2,    0.064,2,    0.027,2,    0.300,2,    0.019,2,-999.0000,1,  -999.00,1,   -999.0,9,-999.000,1,  -999.00,9,   2221.4,2,   -999.0,9,   2350.8,2,  -999.00,9,  -999.0,-999.0000,-999.000,-999.000,  2.9989,   0.002,9
      06MT22_5,   A10,   627,  1,    302,2,19921230,2212,-27.9500, -46.4850, 1693,   1600.0,   3.6800,  34.7570,2,  34.7560,2,    203.0,2,    35.13,2,    30.76,9,     1.93,2, -999.000,9, -999.000,9, -999.000,9,    0.018,2,   1.8069,2,     3.91,2,   -999.0,9,   7.862,2,  -999.00,9,   2201.6,2,   -999.0,9,   2345.8,2,  -999.00,9,  -999.0,  0.0063,   0.250,   0.027,  3.5550,   0.026,9
      06MT22_5,   A10,   627,  1,    301,2,19921230,2212,-27.9500, -46.4850, 1693,   1681.0,   3.7950,  34.8320,2,  34.8320,2,    214.1,2,    29.59,2,    28.40,9,     1.78,2,    0.024,2,    0.005,2,    0.075,2,    0.034,2,   1.7984,2,     3.17,2,   -999.0,9,   7.863,2,  -999.00,9,   2190.9,2,   -999.0,9,   2348.0,2,  -999.00,9,  -999.0,  0.0063,   0.250,   0.027,  3.6610,   0.003,9
      06MT22_5,   A10,   628,  1,    324,2,19921231,0224,-27.9917, -46.3083, 2217,     10.0,  24.7390,  36.5980,2,  36.5980,2,   -999.0,9,  -999.00,9,  -999.00,9,  -999.00,9, -999.000,9, -999.000,9, -999.000,9, -999.000,9,-999.0000,9,  -999.00,9,   -999.0,9,-999.000,9,  -999.00,9,   -999.0,9,   -999.0,9,   -999.0,9,  -999.00,9,  -999.0,-999.0000,-999.000,-999.000, 24.7368,-999.000,9
      06MT22_5,   A10,   628,  1,    322,2,19921231,0224,-27.9917, -46.3083, 2217,     10.0,  24.7320,  36.5980,2,-999.0000,9,   -999.0,9,  -999.00,9,  -999.00,9,  -999.00,9, -999.000,9, -999.000,9, -999.000,9, -999.000,9,-999.0000,9,  -999.00,9,   -999.0,9,-999.000,9,  -999.00,9,   -999.0,9,   -999.0,9,   -999.0,9,  -999.00,9,  -999.0,-999.0000,-999.000,-999.000, 24.7298,-999.000,9
      06MT22_5,   A10,   628,  1,    321,2,19921231,0224,-27.9917, -46.3083, 2217,     10.0,  24.7360,  36.5980,2,-999.0000,9,    214.6,2,     0.25,2,     0.08,9,     0.06,2, -999.000,9, -999.000,9, -999.000,9, -999.000,9,-999.0000,9,  -999.00,9,   -999.0,9,-999.000,9,  -999.00,9,   2048.6,2,   -999.0,9,   -999.0,9,  -999.00,9,  -999.0,-999.0000,-999.000,-999.000, 24.7338,-999.000,9
      06MT22_5,   A10,   628,  1,    320,2,19921231,0224,-27.9917, -46.3083, 2217,     30.0,  24.0310,  36.5600,2,-999.0000,9,    218.5,2,     0.19,2,     0.05,9,     0.06,2, -999.000,9, -999.000,9, -999.000,9, -999.000,9,-999.0000,9,  -999.00,9,   -999.0,9,-999.000,9,  -999.00,9,   2050.5,2,   -999.0,9,   -999.0,9,  -999.00,9,  -999.0,-999.0000,-999.000,-999.000, 24.0247,-999.000,9
      06MT22_5,   A10,   628,  1,    319,2,19921231,0224,-27.9917, -46.3083, 2217,     50.0,  22.7870,  36.6180,2,-999.0000,9,    225.9,2,     0.05,2,     0.03,9,     0.05,2, -999.000,9, -999.000,9, -999.000,9, -999.000,9,-999.0000,9,  -999.00,9,   -999.0,9,-999.000,9,  -999.00,9,   2054.4,2,   -999.0,9,   -999.0,9,  -999.00,9,  -999.0,-999.0000,-999.000,-999.000, 22.7768,-999.000,9
      06MT22_5,   A10,   628,  1,    318,2,19921231,0224,-27.9917, -46.3083, 2217,     70.0,  21.7810,  36.5970,2,-999.0000,9,    228.2,2,     0.01,2,     0.06,9,     0.04,2, -999.000,9, -999.000,9, -999.000,9, -999.000,9,-999.0000,9,  -999.00,9,   -999.0,9,-999.000,9,  -999.00,9,   2052.9,2,   -999.0,9,   -999.0,9,  -999.00,9,  -999.0,-999.0000,-999.000,-999.000, 21.7672,-999.000,9
      06MT22_5,   A10,   628,  1,    317,2,19921231,0224,-27.9917, -46.3083, 2217,    100.0,  20.1250,  36.2700,2,  36.2910,2,    227.9,2,     0.00,2,     0.00,9,     0.06,2, -999.000,9, -999.000,9, -999.000,9, -999.000,9,-999.0000,9,  -999.00,9,   -999.0,9,-999.000,9,  -999.00,9,   2053.0,2,   -999.0,9,   -999.0,9,  -999.00,9,  -999.0,-999.0000,-999.000,-999.000, 20.1063,-999.000,9
      06MT22_5,   A10,   628,  1,    316,2,19921231,0224,-27.9917, -46.3083, 2217,    149.0,  19.5000,  36.2680,2,-999.0000,9,    216.5,2,     0.16,2,     1.25,9,     0.15,2, -999.000,9, -999.000,9, -999.000,9, -999.000,9,-999.0000,9,  -999.00,9,   -999.0,9,-999.000,9,  -999.00,9,   2067.1,2,   -999.0,9,   -999.0,9,  -999.00,9,  -999.0,-999.0000,-999.000,-999.000, 19.4729,-999.000,9
      06MT22_5,   A10,   628,  1,    315,2,19921231,0224,-27.9917, -46.3083, 2217,    200.0,  17.7450,  35.9470,2,-999.0000,9,    214.4,2,     0.42,2,     2.30,9,     0.23,2, -999.000,9, -999.000,9, -999.000,9, -999.000,9,-999.0000,9,  -999.00,9,   -999.0,9,-999.000,9,  -999.00,9,   2073.4,2,   -999.0,9,   -999.0,9,  -999.00,9,  -999.0,-999.0000,-999.000,-999.000, 17.7109,-999.000,9
      06MT22_5,   A10,   628,  1,    314,2,19921231,0224,-27.9917, -46.3083, 2217,    300.0,  15.2230,  35.5140,2,  35.5130,2,    208.8,2,     1.37,2,     6.04,9,     0.49,2, -999.000,9, -999.000,9, -999.000,9, -999.000,9,-999.0000,9,  -999.00,9,   -999.0,9,-999.000,9,  -999.00,9,   2088.6,2,   -999.0,9,   -999.0,9,  -999.00,9,  -999.0,-999.0000,-999.000,-999.000, 15.1768,-999.000,9
      06MT22_5,   A10,   628,  1,    313,2,19921231,0224,-27.9917, -46.3083, 2217,    399.0,  13.3310,  35.2730,2,-999.0000,9,    211.2,2,     2.52,2,    10.15,9,     0.73,2, -999.000,9, -999.000,9, -999.000,9, -999.000,9,-999.0000,9,  -999.00,9,   -999.0,9,-999.000,9,  -999.00,9,   2102.4,2,   -999.0,9,   -999.0,9,  -999.00,9,  -999.0,-999.0000,-999.000,-999.000, 13.2749,-999.000,9
      06MT22_5,   A10,   628,  1,    312,2,19921231,0224,-27.9917, -46.3083, 2217,    500.0,  11.4280,  35.0050,2,-999.0000,9,    208.1,2,     4.43,2,    15.13,9,     1.03,2, -999.000,9, -999.000,9, -999.000,9, -999.000,9,-999.0000,9,  -999.00,9,   -999.0,9,-999.000,9,  -999.00,9,   2117.7,2,   -999.0,9,   -999.0,9,  -999.00,9,  -999.0,-999.0000,-999.000,-999.000, 11.3642,-999.000,9
      06MT22_5,   A10,   628,  1,    311,2,19921231,0224,-27.9917, -46.3083, 2217,    599.0,   9.3750,  34.7430,2,  34.7450,2,    206.6,2,     7.59,2,    20.65,9,     1.31,2, -999.000,9, -999.000,9, -999.000,9, -999.000,9,-999.0000,9,  -999.00,9,   -999.0,9,-999.000,9,  -999.00,9,   2133.9,2,   -999.0,9,   -999.0,9,  -999.00,9,  -999.0,-999.0000,-999.000,-999.000,  9.3070,-999.000,9
      06MT22_5,   A10,   628,  1,    310,2,19921231,0224,-27.9917, -46.3083, 2217,    699.0,   7.0600,  34.4950,2,-999.0000,9,    213.4,2,    11.88,2,    25.69,9,     1.70,2, -999.000,9, -999.000,9, -999.000,9, -999.000,9,-999.0000,9,  -999.00,9,   -999.0,9,-999.000,9,  -999.00,9,   2150.5,2,   -999.0,9,   -999.0,9,  -999.00,9,  -999.0,-999.0000,-999.000,-999.000,  6.9925,-999.000,9
      06MT22_5,   A10,   628,  1,    309,2,19921231,0224,-27.9917, -46.3083, 2217,    849.0,   4.8570,  34.3250,2,-999.0000,9,    225.1,2,    19.72,2,    29.83,9,     1.98,2, -999.000,9, -999.000,9, -999.000,9, -999.000,9,-999.0000,9,  -999.00,9,   -999.0,9,-999.000,9,  -999.00,9,   2167.6,2,   -999.0,9,   -999.0,9,  -999.00,9,  -999.0,-999.0000,-999.000,-999.000,  4.7883,-999.000,9
      06MT22_5,   A10,   628,  1,    308,2,19921231,0224,-27.9917, -46.3083, 2217,    998.0,   3.8940,  34.3260,2,  34.3550,2,    215.4,2,    30.20,2,    32.95,9,     2.19,2, -999.000,9, -999.000,9, -999.000,9, -999.000,9,-999.0000,9,  -999.00,9,   -999.0,9,-999.000,9,  -999.00,9,   2187.8,2,   -999.0,9,   -999.0,9,  -999.00,9,  -999.0,-999.0000,-999.000,-999.000,  3.8196,-999.000,9
      06MT22_5,   A10,   628,  1,    307,2,19921231,0224,-27.9917, -46.3083, 2217,   1200.0,   3.3140,  34.4360,2,-999.0000,9,   -999.0,9,  -999.00,9,  -999.00,9,  -999.00,9, -999.000,9, -999.000,9, -999.000,9, -999.000,9,-999.0000,9,  -999.00,9,   -999.0,9,-999.000,9,  -999.00,9,   -999.0,9,   -999.0,9,   -999.0,9,  -999.00,9,  -999.0,-999.0000,-999.000,-999.000,  3.2270,-999.000,9
      06MT22_5,   A10,   628,  1,    306,2,19921231,0224,-27.9917, -46.3083, 2217,   1401.0,   3.2030,  34.6010,2,-999.0000,9,    192.8,2,    47.42,2,    33.75,9,     2.21,2, -999.000,9, -999.000,9, -999.000,9, -999.000,9,-999.0000,9,  -999.00,9,   -999.0,9,-999.000,9,  -999.00,9,   2218.1,2,   -999.0,9,   -999.0,9,  -999.00,9,  -999.0,-999.0000,-999.000,-999.000,  3.1004,-999.000,9
      06MT22_5,   A10,   628,  1,    305,2,19921231,0224,-27.9917, -46.3083, 2217,   1601.0,   3.6700,  34.7910,2,-999.0000,9,    207.6,2,    34.40,2,    30.29,9,     1.90,2, -999.000,9, -999.000,9, -999.000,9, -999.000,9,-999.0000,9,  -999.00,9,   -999.0,9,-999.000,9,  -999.00,9,   2199.3,2,   -999.0,9,   -999.0,9,  -999.00,9,  -999.0,-999.0000,-999.000,-999.000,  3.5447,-999.000,9
      06MT22_5,   A10,   628,  1,    304,2,19921231,0224,-27.9917, -46.3083, 2217,   1802.0,   3.7050,  34.8840,2,  34.8820,2,    227.1,2,    27.99,2,    27.05,9,     1.66,2, -999.000,9, -999.000,9, -999.000,9, -999.000,9,-999.0000,9,  -999.00,9,   -999.0,9,-999.000,9,  -999.00,9,   2183.1,2,   -999.0,9,   -999.0,9,  -999.00,9,  -999.0,-999.0000,-999.000,-999.000,  3.5609,-999.000,9
      06MT22_5,   A10,   628,  1,    303,2,19921231,0224,-27.9917, -46.3083, 2217,   2003.0,   3.6160,  34.9340,2,-999.0000,9,    243.2,2,    23.29,2,    24.56,9,     1.50,2, -999.000,9, -999.000,9, -999.000,9, -999.000,9,-999.0000,9,  -999.00,9,   -999.0,9,-999.000,9,  -999.00,9,   2173.1,2,   -999.0,9,   -999.0,9,  -999.00,9,  -999.0,-999.0000,-999.000,-999.000,  3.4539,-999.000,9
      06MT22_5,   A10,   628,  1,    302,2,19921231,0224,-27.9917, -46.3083, 2217,   2202.0,   3.2540,  34.9460,2,-999.0000,9,    252.6,2,    24.79,2,    23.35,9,     1.42,2, -999.000,9, -999.000,9, -999.000,9, -999.000,9,-999.0000,9,  -999.00,9,   -999.0,9,-999.000,9,  -999.00,9,   2170.6,2,   -999.0,9,   -999.0,9,  -999.00,9,  -999.0,-999.0000,-999.000,-999.000,  3.0785,-999.000,9
      06MT22_5,   A10,   628,  1,    301,2,19921231,0224,-27.9917, -46.3083, 2217,   2230.0,   3.2390,  34.9440,2,  34.9720,2,    252.2,2,    24.96,2,    23.27,9,     1.43,2, -999.000,9, -999.000,9, -999.000,9, -999.000,9,-999.0000,9,  -999.00,9,   -999.0,9,-999.000,9,  -999.00,9,   2170.5,2,   -999.0,9,   -999.0,9,  -999.00,9,  -999.0,-999.0000,-999.000,-999.000,  3.0610,-999.000,9