BOTTLE,20030417WHPSIOSA
EXPOCODE,SECT_ID,STNNBR,CASTNO,BTLNBR,BTLNBR_FLAG_W,DATE,TIME,LATITUDE,LONGITUDE,DEPTH,CTDPRS,CTDTMP,CTDSAL,CTDSAL_FLAG_W,SALNTY,SALNTY_FLAG_W,OXYGEN,OXYGEN_FLAG_W,SILCAT,SILCAT_FLAG_W,NO2+NO3,NO2+NO3_FLAG_W,PHSPHT,PHSPHT_FLAG_W,CFC-11,CFC-11_FLAG_W,CFC-12,CFC-12_FLAG_W,CCL4,CCL4_FLAG_W,TRITUM,TRITUM_FLAG_W,HELIUM,HELIUM_FLAG_W,DELHE3,DELHE3_FLAG_W,DELC14,DELC14_FLAG_W,NEON,NEON_FLAG_W,O18O16,O18O16_FLAG_W,TCARBN,TCARBN_FLAG_W,PCO2,PCO2_FLAG_W,ALKALI,ALKALI_FLAG_W,PH,PH_FLAG_W,C14ERR,HELIER,DELHER,NEONER,THETA,TRITER,TRITER_FLAG_W
,,,,,,,,,,,DBAR,ITS-90,PSS-78,,PSS-78,,UMOL/KG,,UMOL/KG,,UMOL/KG,,UMOL/KG,,PMOL/KG,,PMOL/KG,,PMOL/KG,,TU,,NMOL/KG,,PERCNT,,/MILLE,,NMOL/KG,,MILLE,,UMOL/KG,,UATM,,UMOL/KG,,,,/MILLE,NMOL/KG,PERCNT,NMOL/KG,ITS-90,TU,
      06MT22_5,   A10,    43,  2,    324,2,19930111,1940,-29.9977, -22.4682, 4692,     10.0,  23.4880,  35.8170,2,-999.0000,9,   -999.0,9,  -999.00,9,  -999.00,9,  -999.00,9, -999.000,9, -999.000,9, -999.000,9, -999.000,9,-999.0000,9,  -999.00,9,   -999.0,9,-999.000,9,  -999.00,9,   -999.0,0,   -999.0,9,   -999.0,9,  -999.00,9,  -999.0,-999.0000,-999.000,-999.000, 23.4859,-999.000,9
      06MT22_5,   A10,    43,  2,    323,2,19930111,1940,-29.9977, -22.4682, 4692,    499.0,   9.5590,  34.7590,2,-999.0000,9,   -999.0,9,  -999.00,9,  -999.00,9,  -999.00,9, -999.000,9, -999.000,9, -999.000,9, -999.000,9,-999.0000,9,  -999.00,9,   -999.0,9,-999.000,9,  -999.00,9,   -999.0,0,   -999.0,9,   -999.0,9,  -999.00,9,  -999.0,-999.0000,-999.000,-999.000,  9.5021,-999.000,9
      06MT22_5,   A10,    43,  2,    322,2,19930111,1940,-29.9977, -22.4682, 4692,    599.0,   7.7590,  34.5700,2,  34.5580,2,    208.8,2,    11.91,2,    23.93,9,     1.58,2, -999.000,9, -999.000,9, -999.000,9, -999.000,9,-999.0000,9,  -999.00,9,   -999.0,9,-999.000,9,  -999.00,9,   -999.0,0,   -999.0,9,   -999.0,9,  -999.00,9,  -999.0,-999.0000,-999.000,-999.000,  7.6983,-999.000,9
      06MT22_5,   A10,    43,  2,    321,2,19930111,1940,-29.9977, -22.4682, 4692,    748.0,   5.1790,  34.3470,2,-999.0000,9,    220.8,2,    19.70,2,    28.95,9,     1.95,2, -999.000,9, -999.000,9, -999.000,9, -999.000,9,-999.0000,9,  -999.00,9,   -999.0,9,-999.000,9,  -999.00,9,   -999.0,0,   -999.0,9,   -999.0,9,  -999.00,9,  -999.0,-999.0000,-999.000,-999.000,  5.1172,-999.000,9
      06MT22_5,   A10,    43,  2,    320,2,19930111,1940,-29.9977, -22.4682, 4692,    849.0,   4.3770,  34.3180,2,-999.0000,9,    221.2,2,    25.72,2,    30.95,9,     2.13,2, -999.000,9, -999.000,9, -999.000,9, -999.000,9,-999.0000,9,  -999.00,9,   -999.0,9,-999.000,9,  -999.00,9,   -999.0,0,   -999.0,9,   -999.0,9,  -999.00,9,  -999.0,-999.0000,-999.000,-999.000,  4.3115,-999.000,9
      06MT22_5,   A10,    43,  2,    319,2,19930111,1940,-29.9977, -22.4682, 4692,    999.0,   3.7000,  34.3320,2,  34.3360,2,    213.9,2,    34.49,2,    32.50,9,     2.27,2, -999.000,9, -999.000,9, -999.000,9, -999.000,9,-999.0000,9,  -999.00,9,   -999.0,9,-999.000,9,  -999.00,9,   -999.0,0,   -999.0,9,   -999.0,9,  -999.00,9,  -999.0,-999.0000,-999.000,-999.000,  3.6270,-999.000,9
      06MT22_5,   A10,    43,  2,    318,2,19930111,1940,-29.9977, -22.4682, 4692,   1199.0,   3.1990,  34.4450,2,-999.0000,9,    202.5,2,    48.19,2,    34.02,9,     2.42,2, -999.000,9, -999.000,9, -999.000,9, -999.000,9,-999.0000,9,  -999.00,9,   -999.0,9,-999.000,9,  -999.00,9,   -999.0,0,   -999.0,9,   -999.0,9,  -999.00,9,  -999.0,-999.0000,-999.000,-999.000,  3.1135,-999.000,9
      06MT22_5,   A10,    43,  2,    317,2,19930111,1940,-29.9977, -22.4682, 4692,   1399.0,   2.9600,  34.5670,2,-999.0000,9,    190.1,2,  -999.00,9,    33.41,9,     2.35,2, -999.000,9, -999.000,9, -999.000,9, -999.000,9,-999.0000,9,  -999.00,9,   -999.0,9,-999.000,9,  -999.00,9,   -999.0,0,   -999.0,9,   -999.0,9,  -999.00,9,  -999.0,-999.0000,-999.000,-999.000,  2.8607,-999.000,9
      06MT22_5,   A10,    43,  2,    316,2,19930111,1940,-29.9977, -22.4682, 4692,   1599.0,   2.8390,  34.6760,2,  34.6780,2,    197.9,2,    54.85,2,    31.46,9,     2.16,2, -999.000,9, -999.000,9, -999.000,9, -999.000,9,-999.0000,9,  -999.00,9,   -999.0,9,-999.000,9,  -999.00,9,   -999.0,0,   -999.0,9,   -999.0,9,  -999.00,9,  -999.0,-999.0000,-999.000,-999.000,  2.7245,-999.000,9
      06MT22_5,   A10,    43,  2,    315,2,19930111,1940,-29.9977, -22.4682, 4692,   1799.0,   2.7460,  34.7530,2,-999.0000,9,    211.0,2,    52.94,2,    29.47,9,     1.99,2, -999.000,9, -999.000,9, -999.000,9, -999.000,9,-999.0000,9,  -999.00,9,   -999.0,9,-999.000,9,  -999.00,9,   -999.0,0,   -999.0,9,   -999.0,9,  -999.00,9,  -999.0,-999.0000,-999.000,-999.000,  2.6152,-999.000,9
      06MT22_5,   A10,    43,  2,    314,2,19930111,1940,-29.9977, -22.4682, 4692,   1998.0,   2.6900,  34.8040,2,-999.0000,9,    221.7,2,    49.96,2,    27.70,9,     1.86,2, -999.000,9, -999.000,9, -999.000,9, -999.000,9,-999.0000,9,  -999.00,9,   -999.0,9,-999.000,9,  -999.00,9,   -999.0,0,   -999.0,9,   -999.0,9,  -999.00,9,  -999.0,-999.0000,-999.000,-999.000,  2.5426,-999.000,9
      06MT22_5,   A10,    43,  2,    313,2,19930111,1940,-29.9977, -22.4682, 4692,   2249.0,   2.6570,  34.8400,2,  34.8410,2,    231.5,2,    47.03,2,    26.07,9,     1.70,2, -999.000,9, -999.000,9, -999.000,9, -999.000,9,-999.0000,9,  -999.00,9,   -999.0,9,-999.000,9,  -999.00,9,   -999.0,0,   -999.0,9,   -999.0,9,  -999.00,9,  -999.0,-999.0000,-999.000,-999.000,  2.4874,-999.000,9
      06MT22_5,   A10,    43,  2,    312,2,19930111,1940,-29.9977, -22.4682, 4692,   2501.0,   2.6670,  34.8680,2,-999.0000,9,    241.0,2,    43.30,2,    24.83,9,     1.61,2, -999.000,9, -999.000,9, -999.000,9, -999.000,9,-999.0000,9,  -999.00,9,   -999.0,9,-999.000,9,  -999.00,9,   -999.0,0,   -999.0,9,   -999.0,9,  -999.00,9,  -999.0,-999.0000,-999.000,-999.000,  2.4732,-999.000,9
      06MT22_5,   A10,    43,  2,    311,2,19930111,1940,-29.9977, -22.4682, 4692,   2751.0,   2.6940,  34.8930,2,-999.0000,9,    247.4,2,    39.25,2,    23.49,9,     1.53,2, -999.000,9, -999.000,9, -999.000,9, -999.000,9,-999.0000,9,  -999.00,9,   -999.0,9,-999.000,9,  -999.00,9,   -999.0,0,   -999.0,9,   -999.0,9,  -999.00,9,  -999.0,-999.0000,-999.000,-999.000,  2.4752,-999.000,9
      06MT22_5,   A10,    43,  2,    310,2,19930111,1940,-29.9977, -22.4682, 4692,   3001.0,   2.6500,  34.9050,2,  34.9050,2,    251.5,2,    37.83,2,    22.87,9,     1.49,2, -999.000,9, -999.000,9, -999.000,9, -999.000,9,-999.0000,9,  -999.00,9,   -999.0,9,-999.000,9,  -999.00,9,   -999.0,0,   -999.0,9,   -999.0,9,  -999.00,9,  -999.0,-999.0000,-999.000,-999.000,  2.4069,-999.000,9
      06MT22_5,   A10,    43,  2,    309,2,19930111,1940,-29.9977, -22.4682, 4692,   3250.0,   2.4990,  34.8980,2,-999.0000,9,    253.0,2,    41.47,2,    23.10,9,     1.49,2, -999.000,9, -999.000,9, -999.000,9, -999.000,9,-999.0000,9,  -999.00,9,   -999.0,9,-999.000,9,  -999.00,9,   -999.0,0,   -999.0,9,   -999.0,9,  -999.00,9,  -999.0,-999.0000,-999.000,-999.000,  2.2337,-999.000,9
      06MT22_5,   A10,    43,  2,    308,2,19930111,1940,-29.9977, -22.4682, 4692,   3502.0,   2.1870,  34.8690,2,-999.0000,9,    248.4,2,    51.98,2,    24.59,9,     1.64,2, -999.000,9, -999.000,9, -999.000,9, -999.000,9,-999.0000,9,  -999.00,9,   -999.0,9,-999.000,9,  -999.00,9,   -999.0,0,   -999.0,9,   -999.0,9,  -999.00,9,  -999.0,-999.0000,-999.000,-999.000,  1.9026,-999.000,9
      06MT22_5,   A10,    43,  2,    307,2,19930111,1940,-29.9977, -22.4682, 4692,   3754.0,   1.7880,  34.8290,2,  34.8300,2,    244.2,2,    67.44,2,    26.68,9,     1.80,2, -999.000,9, -999.000,9, -999.000,9, -999.000,9,-999.0000,9,  -999.00,9,   -999.0,9,-999.000,9,  -999.00,9,   -999.0,0,   -999.0,9,   -999.0,9,  -999.00,9,  -999.0,-999.0000,-999.000,-999.000,  1.4869,-999.000,9
      06MT22_5,   A10,    43,  2,    306,2,19930111,1940,-29.9977, -22.4682, 4692,   4002.0,   1.4770,  34.7940,2,-999.0000,9,    236.4,2,    80.78,2,    28.57,9,     1.96,2, -999.000,9, -999.000,9, -999.000,9, -999.000,9,-999.0000,9,  -999.00,9,   -999.0,9,-999.000,9,  -999.00,9,   -999.0,0,   -999.0,9,   -999.0,9,  -999.00,9,  -999.0,-999.0000,-999.000,-999.000,  1.1580,-999.000,9
      06MT22_5,   A10,    43,  2,    305,2,19930111,1940,-29.9977, -22.4682, 4692,   4254.0,   1.2710,  34.7690,2,-999.0000,9,    233.4,2,    90.43,2,    30.08,9,     2.12,2, -999.000,9, -999.000,9, -999.000,9, -999.000,9,-999.0000,9,  -999.00,9,   -999.0,9,-999.000,9,  -999.00,9,   -999.0,0,   -999.0,9,   -999.0,9,  -999.00,9,  -999.0,-999.0000,-999.000,-999.000,  0.9303,-999.000,9
      06MT22_5,   A10,    43,  2,    304,2,19930111,1940,-29.9977, -22.4682, 4692,   4509.0,   1.2240,  34.7600,2,  34.7610,2,    229.5,2,    93.56,2,    30.55,9,     2.13,2, -999.000,9, -999.000,9, -999.000,9, -999.000,9,-999.0000,9,  -999.00,9,   -999.0,9,-999.000,9,  -999.00,9,   -999.0,0,   -999.0,9,   -999.0,9,  -999.00,9,  -999.0,-999.0000,-999.000,-999.000,  0.8561,-999.000,9
      06MT22_5,   A10,    43,  2,    303,2,19930111,1940,-29.9977, -22.4682, 4692,   4606.0,   1.2110,  34.7580,2,-999.0000,9,    229.1,2,    94.64,2,    30.73,9,     2.18,2, -999.000,9, -999.000,9, -999.000,9, -999.000,9,-999.0000,9,  -999.00,9,   -999.0,9,-999.000,9,  -999.00,9,   -999.0,0,   -999.0,9,   -999.0,9,  -999.00,9,  -999.0,-999.0000,-999.000,-999.000,  0.8324,-999.000,9
      06MT22_5,   A10,    43,  2,    302,2,19930111,1940,-29.9977, -22.4682, 4692,   4660.0,   1.2060,  34.7560,2,  34.7570,2,    227.3,2,    95.26,2,    30.74,9,     2.20,2, -999.000,9, -999.000,9, -999.000,9, -999.000,9,-999.0000,9,  -999.00,9,   -999.0,9,-999.000,9,  -999.00,9,   -999.0,0,   -999.0,9,   -999.0,9,  -999.00,9,  -999.0,-999.0000,-999.000,-999.000,  0.8213,-999.000,9
      06MT22_5,   A10,    43,  2,    301,2,19930111,1940,-29.9977, -22.4682, 4692,   4684.0,   1.2070,  34.7560,2,  34.7560,2,    227.2,2,    95.74,2,    30.86,9,     2.17,2, -999.000,9, -999.000,9, -999.000,9, -999.000,9,-999.0000,9,  -999.00,9,   -999.0,9,-999.000,9,  -999.00,9,   -999.0,0,   -999.0,9,   -999.0,9,  -999.00,9,  -999.0,-999.0000,-999.000,-999.000,  0.8195,-999.000,9
      06MT22_5,   A10,    44,  1,    217,2,19930112,0325,-29.9983, -21.6217, 4874,     13.0,  23.7890,  36.0940,2,  36.0990,2,    216.5,2,     0.57,2,     0.10,9,     0.10,2, -999.000,9, -999.000,9, -999.000,9, -999.000,9,-999.0000,9,  -999.00,9,   -999.0,9,-999.000,9,  -999.00,9,   -999.0,9,   -999.0,9,   -999.0,9,  -999.00,9,  -999.0,-999.0000,-999.000,-999.000, 23.7863,-999.000,9
      06MT22_5,   A10,    44,  1,    216,2,19930112,0325,-29.9983, -21.6217, 4874,     13.0,  23.7780,  36.0940,2,-999.0000,9,   -999.0,9,  -999.00,9,  -999.00,9,  -999.00,9, -999.000,9, -999.000,9, -999.000,9, -999.000,9,-999.0000,9,  -999.00,9,   -999.0,9,-999.000,9,  -999.00,9,   -999.0,9,   -999.0,9,   -999.0,9,  -999.00,9,  -999.0,-999.0000,-999.000,-999.000, 23.7753,-999.000,9
      06MT22_5,   A10,    44,  1,    215,2,19930112,0325,-29.9983, -21.6217, 4874,     13.0,  23.7860,  36.0940,2,-999.0000,9,   -999.0,9,  -999.00,9,  -999.00,9,  -999.00,9, -999.000,9, -999.000,9, -999.000,9, -999.000,9,-999.0000,9,  -999.00,9,   -999.0,9,-999.000,9,  -999.00,9,   -999.0,9,   -999.0,9,   -999.0,9,  -999.00,9,  -999.0,-999.0000,-999.000,-999.000, 23.7833,-999.000,9
      06MT22_5,   A10,    44,  1,    214,2,19930112,0325,-29.9983, -21.6217, 4874,     13.0,  23.7810,  36.0930,2,-999.0000,9,   -999.0,9,  -999.00,9,  -999.00,9,  -999.00,9, -999.000,9, -999.000,9, -999.000,9, -999.000,9,-999.0000,9,  -999.00,9,   -999.0,9,-999.000,9,  -999.00,9,   -999.0,9,   -999.0,9,   -999.0,9,  -999.00,9,  -999.0,-999.0000,-999.000,-999.000, 23.7783,-999.000,9
      06MT22_5,   A10,    44,  1,    213,2,19930112,0325,-29.9983, -21.6217, 4874,     13.0,  23.7790,  36.0940,2,-999.0000,9,   -999.0,9,  -999.00,9,  -999.00,9,  -999.00,9, -999.000,9, -999.000,9, -999.000,9, -999.000,9,-999.0000,9,  -999.00,9,   -999.0,9,-999.000,9,  -999.00,9,   -999.0,9,   -999.0,9,   -999.0,9,  -999.00,9,  -999.0,-999.0000,-999.000,-999.000, 23.7763,-999.000,9
      06MT22_5,   A10,    44,  1,    212,2,19930112,0325,-29.9983, -21.6217, 4874,     13.0,  23.7690,  36.0930,2,-999.0000,9,   -999.0,9,  -999.00,9,  -999.00,9,  -999.00,9, -999.000,9, -999.000,9, -999.000,9, -999.000,9,-999.0000,9,  -999.00,9,   -999.0,9,-999.000,9,  -999.00,9,   -999.0,9,   -999.0,9,   -999.0,9,  -999.00,9,  -999.0,-999.0000,-999.000,-999.000, 23.7663,-999.000,9
      06MT22_5,   A10,    44,  1,    211,2,19930112,0325,-29.9983, -21.6217, 4874,     13.0,  23.7760,  36.0930,2,-999.0000,9,   -999.0,9,  -999.00,9,  -999.00,9,  -999.00,9, -999.000,9, -999.000,9, -999.000,9, -999.000,9,-999.0000,9,  -999.00,9,   -999.0,9,-999.000,9,  -999.00,9,   -999.0,9,   -999.0,9,   -999.0,9,  -999.00,9,  -999.0,-999.0000,-999.000,-999.000, 23.7733,-999.000,9
      06MT22_5,   A10,    44,  1,    210,2,19930112,0325,-29.9983, -21.6217, 4874,     13.0,  23.8130,  36.0950,2,-999.0000,9,   -999.0,9,  -999.00,9,  -999.00,9,  -999.00,9,    1.932,2,    1.077,2,    2.479,2, -999.000,9,-999.0000,9,  -999.00,9,   -999.0,9,-999.000,9,  -999.00,9,   2049.0,2,   -999.0,9,   2376.3,2,  -999.00,9,  -999.0,-999.0000,-999.000,-999.000, 23.8103,-999.000,9
      06MT22_5,   A10,    44,  1,    209,2,19930112,0325,-29.9983, -21.6217, 4874,     32.0,  23.1280,  36.0810,2,-999.0000,9,    220.5,2,     0.56,2,     0.14,9,     0.13,2,    2.006,2,    1.114,2,    2.489,2, -999.000,9,-999.0000,9,  -999.00,9,   -999.0,9,-999.000,9,  -999.00,9,   2049.4,2,   -999.0,9,   2369.4,2,  -999.00,9,  -999.0,-999.0000,-999.000,-999.000, 23.1214,-999.000,9
      06MT22_5,   A10,    44,  1,    208,2,19930112,0325,-29.9983, -21.6217, 4874,     52.0,  21.4430,  36.1640,2,-999.0000,9,    233.2,2,     0.60,2,     0.02,9,     0.13,2,    2.179,2,    1.189,2,    2.378,2, -999.000,9,-999.0000,9,  -999.00,9,   -999.0,9,-999.000,9,  -999.00,9,   2053.5,2,   -999.0,9,   2370.4,2,  -999.00,9,  -999.0,-999.0000,-999.000,-999.000, 21.4329,-999.000,9
      06MT22_5,   A10,    44,  1,    207,2,19930112,0325,-29.9983, -21.6217, 4874,     72.0,  20.2840,  36.1690,2,-999.0000,9,    237.4,2,     0.55,2,     0.05,9,     0.13,2,    2.243,2,    1.219,2,    2.276,2, -999.000,9,-999.0000,9,  -999.00,9,   -999.0,9,-999.000,9,  -999.00,9,   2054.2,2,   -999.0,9,   2372.3,2,  -999.00,9,  -999.0,-999.0000,-999.000,-999.000, 20.2705,-999.000,9
      06MT22_5,   A10,    44,  1,    206,2,19930112,0325,-29.9983, -21.6217, 4874,    102.0,  19.4300,  36.0750,2,-999.0000,9,    236.0,2,     0.55,2,     0.00,9,     0.16,2,    2.286,2,    1.227,2,    2.314,2, -999.000,9,-999.0000,9,  -999.00,9,   -999.0,9,-999.000,9,  -999.00,9,   2055.8,2,   -999.0,9,   2360.5,2,  -999.00,9,  -999.0,-999.0000,-999.000,-999.000, 19.4115,-999.000,9
      06MT22_5,   A10,    44,  1,    205,2,19930112,0325,-29.9983, -21.6217, 4874,    152.0,  17.9010,  35.8050,2,-999.0000,9,    236.6,2,     0.59,2,     0.06,9,     0.17,2,    2.404,2,    1.280,2,    2.285,2, -999.000,9,-999.0000,9,  -999.00,9,   -999.0,9,-999.000,9,  -999.00,9,   2062.0,2,   -999.0,9,   2349.6,2,  -999.00,9,  -999.0,-999.0000,-999.000,-999.000, 17.8749,-999.000,9
      06MT22_5,   A10,    44,  1,    204,2,19930112,0325,-29.9983, -21.6217, 4874,    202.0,  16.7700,  35.6740,2,  35.6810,2,    216.7,2,     1.29,2,     1.96,9,     0.29,2,    2.390,2,    1.262,2,    1.220,2, -999.000,9,-999.0000,9,  -999.00,9,   -999.0,9,-999.000,9,  -999.00,9,   2079.6,2,   -999.0,9,   2343.0,2,  -999.00,9,  -999.0,-999.0000,-999.000,-999.000, 16.7368,-999.000,9
      06MT22_5,   A10,    44,  1,    203,2,19930112,0325,-29.9983, -21.6217, 4874,    301.0,  14.3920,  35.3430,2,-999.0000,9,    211.5,2,     2.98,2,     6.80,9,     0.57,2,    2.319,2,    1.209,2,    0.742,2, -999.000,9,-999.0000,9,  -999.00,9,   -999.0,9,-999.000,9,  -999.00,9,   2093.5,2,   -999.0,9,   2324.9,2,  -999.00,9,  -999.0,-999.0000,-999.000,-999.000, 14.3477,-999.000,9
      06MT22_5,   A10,    44,  1,    202,2,19930112,0325,-29.9983, -21.6217, 4874,    401.0,  13.0310,  35.2270,2,-999.0000,9,    218.1,2,     2.97,2,     9.19,9,     0.68,2,    2.372,2,    1.237,2,    0.878,2, -999.000,9,-999.0000,9,  -999.00,9,   -999.0,9,-999.000,9,  -999.00,9,   2102.2,2,   -999.0,9,   2319.0,2,  -999.00,9,  -999.0,-999.0000,-999.000,-999.000, 12.9756,-999.000,9
      06MT22_5,   A10,    44,  1,    201,2,19930112,0325,-29.9983, -21.6217, 4874,    499.0,  10.6500,  34.8830,2,-999.0000,9,    204.8,2,     6.72,2,    15.97,9,     1.11,2,    1.849,2,    0.948,2,    1.022,2, -999.000,9,-999.0000,9,  -999.00,9,   -999.0,9,-999.000,9,  -999.00,9,   2126.1,2,   -999.0,9,   2301.2,2,  -999.00,9,  -999.0,-999.0000,-999.000,-999.000, 10.5892,-999.000,9