BOTTLE,20030417WHPSIOSA
EXPOCODE,SECT_ID,STNNBR,CASTNO,BTLNBR,BTLNBR_FLAG_W,DATE,TIME,LATITUDE,LONGITUDE,DEPTH,CTDPRS,CTDTMP,CTDSAL,CTDSAL_FLAG_W,SALNTY,SALNTY_FLAG_W,OXYGEN,OXYGEN_FLAG_W,SILCAT,SILCAT_FLAG_W,NO2+NO3,NO2+NO3_FLAG_W,PHSPHT,PHSPHT_FLAG_W,CFC-11,CFC-11_FLAG_W,CFC-12,CFC-12_FLAG_W,CCL4,CCL4_FLAG_W,TRITUM,TRITUM_FLAG_W,HELIUM,HELIUM_FLAG_W,DELHE3,DELHE3_FLAG_W,DELC14,DELC14_FLAG_W,NEON,NEON_FLAG_W,O18O16,O18O16_FLAG_W,TCARBN,TCARBN_FLAG_W,PCO2,PCO2_FLAG_W,ALKALI,ALKALI_FLAG_W,PH,PH_FLAG_W,C14ERR,HELIER,DELHER,NEONER,THETA,TRITER,TRITER_FLAG_W
,,,,,,,,,,,DBAR,ITS-90,PSS-78,,PSS-78,,UMOL/KG,,UMOL/KG,,UMOL/KG,,UMOL/KG,,PMOL/KG,,PMOL/KG,,PMOL/KG,,TU,,NMOL/KG,,PERCNT,,/MILLE,,NMOL/KG,,MILLE,,UMOL/KG,,UATM,,UMOL/KG,,,,/MILLE,NMOL/KG,PERCNT,NMOL/KG,ITS-90,TU,
      06MT22_5,   A10,     7,  2,    324,2,19930103,0013,-29.6045, -41.1580, 3782,     11.0,  21.6560,  36.1600,2,  36.1640,2,   -999.0,9,  -999.00,9,  -999.00,9,  -999.00,9, -999.000,9, -999.000,9, -999.000,9, -999.000,9,-999.0000,9,  -999.00,9,   -999.0,9,-999.000,9,  -999.00,9,   -999.0,0,   -999.0,9,   -999.0,9,  -999.00,9,  -999.0,-999.0000,-999.000,-999.000, 21.6538,-999.000,9
      06MT22_5,   A10,     7,  2,    323,2,19930103,0013,-29.6045, -41.1580, 3782,     11.0,  21.6570,  36.1600,2,  36.1650,2,   -999.0,9,  -999.00,9,  -999.00,9,  -999.00,9, -999.000,9, -999.000,9, -999.000,9, -999.000,9,-999.0000,9,  -999.00,9,   -999.0,9,-999.000,9,  -999.00,9,   -999.0,0,   -999.0,9,   -999.0,9,  -999.00,9,  -999.0,-999.0000,-999.000,-999.000, 21.6548,-999.000,9
      06MT22_5,   A10,     7,  2,    322,2,19930103,0013,-29.6045, -41.1580, 3782,    597.0,   8.8940,  34.6750,2,-999.0000,9,   -999.0,9,  -999.00,9,  -999.00,9,  -999.00,9, -999.000,9, -999.000,9, -999.000,9, -999.000,9,-999.0000,9,  -999.00,9,   -999.0,9,-999.000,9,  -999.00,9,   -999.0,0,   -999.0,9,   -999.0,9,  -999.00,9,  -999.0,-999.0000,-999.000,-999.000,  8.8286,-999.000,9
      06MT22_5,   A10,     7,  2,    321,2,19930103,0013,-29.6045, -41.1580, 3782,    701.0,   6.7690,  34.4560,2,  34.4560,2,   -999.0,9,  -999.00,9,  -999.00,9,  -999.00,9, -999.000,9, -999.000,9, -999.000,9, -999.000,9,-999.0000,9,  -999.00,9,   -999.0,9,-999.000,9,  -999.00,9,   -999.0,0,   -999.0,9,   -999.0,9,  -999.00,9,  -999.0,-999.0000,-999.000,-999.000,  6.7028,-999.000,9
      06MT22_5,   A10,     7,  2,    320,2,19930103,0013,-29.6045, -41.1580, 3782,    802.0,   5.3410,  34.3340,2,-999.0000,9,   -999.0,9,  -999.00,9,  -999.00,9,  -999.00,9,    1.606,2,    0.803,2,    2.568,2,    0.231,2,-999.0000,1,  -999.00,1,    -35.9,2,-999.000,1,  -999.00,9,   2158.0,2,   -999.0,9,   -999.0,9,  -999.00,9,     5.9,-999.0000,-999.000,-999.000,  5.2735,   0.014,9
      06MT22_5,   A10,     7,  2,    319,2,19930103,0013,-29.6045, -41.1580, 3782,    899.0,   4.4540,  34.2950,2,-999.0000,9,   -999.0,9,  -999.00,9,  -999.00,9,  -999.00,9,    1.240,2,    0.623,2,    2.371,2, -999.000,9,-999.0000,9,  -999.00,9,   -999.0,9,-999.000,9,  -999.00,9,   2169.3,2,   -999.0,9,   -999.0,9,  -999.00,9,  -999.0,-999.0000,-999.000,-999.000,  4.3838,-999.000,9
      06MT22_5,   A10,     7,  2,    318,2,19930103,0013,-29.6045, -41.1580, 3782,   1000.0,   3.9490,  34.2920,2,  34.2890,2,   -999.0,9,  -999.00,9,  -999.00,9,  -999.00,9,    1.015,2,    0.511,2,    2.155,2,    0.113,2,-999.0000,1,  -999.00,1,    -63.0,3,-999.000,1,  -999.00,9,   2179.3,2,   -999.0,9,   -999.0,9,  -999.00,9,     5.6,-999.0000,-999.000,-999.000,  3.8741,   0.007,9
      06MT22_5,   A10,     7,  2,    317,2,19930103,0013,-29.6045, -41.1580, 3782,   1097.0,   3.5070,  34.3180,2,-999.0000,9,   -999.0,9,  -999.00,9,  -999.00,9,  -999.00,9,    0.672,2,    0.349,2,    1.679,2, -999.000,9,-999.0000,9,  -999.00,9,   -999.0,9,-999.000,9,  -999.00,9,   2193.6,2,   -999.0,9,   -999.0,9,  -999.00,9,  -999.0,-999.0000,-999.000,-999.000,  3.4275,-999.000,9
      06MT22_5,   A10,     7,  2,    316,2,19930103,0013,-29.6045, -41.1580, 3782,   1201.0,   3.2510,  34.3710,2,-999.0000,9,   -999.0,9,  -999.00,9,  -999.00,9,  -999.00,9,    0.393,2,    0.205,2,    1.157,2,    0.068,2,   1.7882,5,     3.80,3,   -129.0,2,   7.814,5,  -999.00,9,   2207.5,2,   -999.0,9,   -999.0,9,  -999.00,9,     5.4,  0.0072,   0.250,   0.031,  3.1654,   0.005,9
      06MT22_5,   A10,     7,  2,    315,2,19930103,0013,-29.6045, -41.1580, 3782,   1302.0,   3.0400,  34.4270,2,  34.4280,2,   -999.0,9,  -999.00,9,  -999.00,9,  -999.00,9, -999.000,9, -999.000,9, -999.000,9,    0.042,2,   1.8096,7,     4.38,2,   -999.0,9,   7.823,7,  -999.00,9,   2216.1,2,   -999.0,9,   -999.0,9,  -999.00,9,  -999.0,  0.0063,   0.250,   0.027,  2.9483,   0.010,9
      06MT22_5,   A10,     7,  2,    314,2,19930103,0013,-29.6045, -41.1580, 3782,   1400.0,   2.9710,  34.4960,2,-999.0000,9,   -999.0,9,  -999.00,9,  -999.00,9,  -999.00,9,    0.140,2,    0.072,2,    0.511,2, -999.000,9,   1.7971,2,     5.14,2,   -999.0,9,   7.831,2,  -999.00,9,   2223.2,2,   -999.0,9,   -999.0,9,  -999.00,9,  -999.0,  0.0063,   0.250,   0.027,  2.8716,-999.000,9
      06MT22_5,   A10,     7,  2,    313,2,19930103,0013,-29.6045, -41.1580, 3782,   1499.0,   2.9960,  34.5790,2,-999.0000,9,   -999.0,9,  -999.00,9,  -999.00,9,  -999.00,9, -999.000,9, -999.000,9, -999.000,9,   -0.661,4,   1.7998,2,     5.92,2,   -999.0,9,   7.829,2,  -999.00,9,   2222.5,2,   -999.0,9,   -999.0,9,  -999.00,9,  -999.0,  0.0063,   0.250,   0.027,  2.8881,   0.398,9
      06MT22_5,   A10,     7,  2,    312,2,19930103,0013,-29.6045, -41.1580, 3782,   1600.0,   3.0160,  34.6450,2,  34.6450,2,   -999.0,9,  -999.00,9,  -999.00,9,  -999.00,9,    0.036,2,    0.015,2,    0.158,2,    0.001,2,   1.8042,5,     6.41,3,   -999.0,9,   7.831,5,  -999.00,9,   2220.7,2,   -999.0,9,   -999.0,9,  -999.00,9,  -999.0,  0.0081,   0.250,   0.035,  2.8994,   0.010,9
      06MT22_5,   A10,     7,  2,    311,2,19930103,0013,-29.6045, -41.1580, 3782,   1701.0,   2.8980,  34.6760,2,  34.6740,2,   -999.0,9,  -999.00,9,  -999.00,9,  -999.00,9, -999.000,9, -999.000,9, -999.000,9, -999.000,9,   1.8105,2,     5.84,2,   -999.0,9,   7.906,2,  -999.00,9,   2219.4,2,   -999.0,9,   -999.0,9,  -999.00,9,  -999.0,  0.0063,   0.250,   0.028,  2.7741,-999.000,9
      06MT22_5,   A10,     7,  2,    310,2,19930103,0013,-29.6045, -41.1580, 3782,   1801.0,   2.8660,  34.7190,2,  34.7180,2,   -999.0,9,  -999.00,9,  -999.00,9,  -999.00,9,    1.334,4,    0.884,4,    1.281,4,    0.011,2,-999.0000,1,  -999.00,1,   -130.5,2,-999.000,1,  -999.00,9,   2216.5,2,   -999.0,9,   -999.0,9,  -999.00,9,     5.1,-999.0000,-999.000,-999.000,  2.7338,   0.006,9
      06MT22_5,   A10,     7,  2,    309,2,19930103,0013,-29.6045, -41.1580, 3782,   1999.0,   3.2540,  34.8550,2,-999.0000,9,   -999.0,9,  -999.00,9,  -999.00,9,  -999.00,9,    0.018,2,    0.010,2,    0.086,2,    0.033,2,   1.8091,2,     4.23,2,   -117.5,2,   7.810,7,  -999.00,9,   2191.9,2,   -999.0,9,   -999.0,9,  -999.00,9,     5.5,  0.0072,   0.250,   0.031,  3.0977,   0.004,9
      06MT22_5,   A10,     7,  2,    308,2,19930103,0013,-29.6045, -41.1580, 3782,   2201.0,   3.3970,  34.9300,2,-999.0000,9,   -999.0,9,  -999.00,9,  -999.00,9,  -999.00,9,    0.009,2,    0.003,2,    0.120,2,    0.049,2,   1.8082,5,     2.92,3,   -999.0,9,   7.848,5,  -999.00,9,   2172.2,2,   -999.0,9,   -999.0,9,  -999.00,9,  -999.0,  0.0081,   0.250,   0.035,  3.2194,   0.008,9
      06MT22_5,   A10,     7,  2,    307,2,19930103,0013,-29.6045, -41.1580, 3782,   2402.0,   3.2900,  34.9430,2,  34.9400,2,   -999.0,9,  -999.00,9,  -999.00,9,  -999.00,9,    0.006,2,    0.002,2,    0.096,2,    0.043,2,   1.8082,6,     2.40,6,   -999.0,9,   7.887,6,  -999.00,9,   2168.0,2,   -999.0,9,   -999.0,9,  -999.00,9,  -999.0,  0.0063,   0.250,   0.028,  3.0945,   0.004,9
      06MT22_5,   A10,     7,  2,    306,2,19930103,0013,-29.6045, -41.1580, 3782,   2602.0,   3.1350,  34.9360,2,-999.0000,9,   -999.0,9,  -999.00,9,  -999.00,9,  -999.00,9,    0.004,2,    0.001,2,    0.068,2,    0.058,2,   1.8132,5,     2.39,3,   -114.4,2,   7.887,5,  -999.00,9,   2171.4,2,   -999.0,9,   -999.0,9,  -999.00,9,     4.7,  0.0082,   0.250,   0.036,  2.9225,   0.048,9
      06MT22_5,   A10,     7,  2,    305,2,19930103,0013,-29.6045, -41.1580, 3782,   2802.0,   3.0190,  34.9340,2,-999.0000,9,   -999.0,9,  -999.00,9,  -999.00,9,  -999.00,9,    0.001,2,    0.000,2,    0.048,2,    0.022,2,   1.8132,6,     2.83,6,   -999.0,9,   7.924,6,  -999.00,9,   2172.0,2,   -999.0,9,   -999.0,9,  -999.00,9,  -999.0,  0.0073,   0.250,   0.032,  2.7885,   0.005,9
      06MT22_5,   A10,     7,  2,    304,2,19930103,0013,-29.6045, -41.1580, 3782,   3004.0,   2.8720,  34.9250,2,  34.9230,2,   -999.0,9,  -999.00,9,  -999.00,9,  -999.00,9,    0.020,4,   -0.002,2,    0.028,2,    0.020,2,-999.0000,1,  -999.00,1,   -103.3,3,-999.000,1,  -999.00,9,   2175.1,2,   -999.0,9,   -999.0,9,  -999.00,9,     4.4,-999.0000,-999.000,-999.000,  2.6237,   0.003,9
      06MT22_5,   A10,     7,  2,    303,2,19930103,0013,-29.6045, -41.1580, 3782,   3254.0,   2.6380,  34.9090,2,-999.0000,9,   -999.0,9,  -999.00,9,  -999.00,9,  -999.00,9,    0.001,2,    0.005,4,    0.028,2,    0.021,2,   1.8234,2,     2.79,2,   -116.7,2,   7.949,2,  -999.00,9,   2178.6,2,   -999.0,9,   -999.0,9,  -999.00,9,     4.4,  0.0073,   0.250,   0.032,  2.3697,   0.006,9
      06MT22_5,   A10,     7,  2,    302,2,19930103,0013,-29.6045, -41.1580, 3782,   3510.0,   1.6690,  34.8090,2,-999.0000,9,   -999.0,9,  -999.00,9,  -999.00,9,  -999.00,9,    0.014,2,    0.002,2,    0.031,2,    0.007,2,   1.7717,3,     7.51,2,   -155.8,2,   7.749,3,  -999.00,9,   2217.2,2,   -999.0,9,   -999.0,9,  -999.00,9,     4.3,  0.0071,   0.250,   0.031,  1.3974,   0.004,9
      06MT22_5,   A10,     7,  2,    301,2,19930103,0013,-29.6045, -41.1580, 3782,   3766.0,   0.6730,  34.7120,2,  34.7110,2,   -999.0,9,  -999.00,9,  -999.00,9,  -999.00,9,    0.054,6,    0.026,6,    0.154,6, -999.000,9,   1.8640,5,     6.95,3,   -161.9,2,   8.145,5,  -999.00,9,   2252.7,2,   -999.0,9,   -999.0,9,  -999.00,9,     4.2,  0.0075,   0.250,   0.061,  0.4013,-999.000,9
      06MT22_5,   A10,     8,  1,    212,2,19930103,0650,-29.7983, -40.6067, 3780,     12.0,  21.5170,  36.2200,2,  36.2200,2,    225.0,2,     0.10,2,     0.09,9,     0.07,2, -999.000,9, -999.000,9, -999.000,9, -999.000,9,-999.0000,9,  -999.00,9,   -999.0,9,-999.000,9,  -999.00,9,   -999.0,0,   -999.0,9,   -999.0,9,  -999.00,9,  -999.0,-999.0000,-999.000,-999.000, 21.5147,-999.000,9
      06MT22_5,   A10,     8,  1,    211,2,19930103,0650,-29.7983, -40.6067, 3780,     12.0,  21.5160,  36.2200,2,-999.0000,9,   -999.0,9,  -999.00,9,  -999.00,9,  -999.00,9, -999.000,9, -999.000,9, -999.000,9, -999.000,9,-999.0000,9,  -999.00,9,   -999.0,9,-999.000,9,  -999.00,9,   -999.0,0,   -999.0,9,   -999.0,9,  -999.00,9,  -999.0,-999.0000,-999.000,-999.000, 21.5137,-999.000,9
      06MT22_5,   A10,     8,  1,    210,2,19930103,0650,-29.7983, -40.6067, 3780,     12.0,  21.5160,  36.2200,2,-999.0000,9,   -999.0,9,  -999.00,9,  -999.00,9,  -999.00,9, -999.000,9, -999.000,9, -999.000,9, -999.000,9,-999.0000,9,  -999.00,9,   -999.0,9,-999.000,9,  -999.00,9,   -999.0,0,   -999.0,9,   -999.0,9,  -999.00,9,  -999.0,-999.0000,-999.000,-999.000, 21.5137,-999.000,9
      06MT22_5,   A10,     8,  1,    209,2,19930103,0650,-29.7983, -40.6067, 3780,     12.0,  21.5110,  36.2200,2,-999.0000,9,   -999.0,9,  -999.00,9,  -999.00,9,  -999.00,9, -999.000,9, -999.000,9, -999.000,9, -999.000,9,-999.0000,9,  -999.00,9,   -999.0,9,-999.000,9,  -999.00,9,   -999.0,0,   -999.0,9,   -999.0,9,  -999.00,9,  -999.0,-999.0000,-999.000,-999.000, 21.5087,-999.000,9
      06MT22_5,   A10,     8,  1,    208,2,19930103,0650,-29.7983, -40.6067, 3780,     33.0,  21.4850,  36.2180,2,  36.2190,2,    226.1,2,     0.00,2,     0.00,9,     0.05,2, -999.000,9, -999.000,9, -999.000,9, -999.000,9,-999.0000,9,  -999.00,9,   -999.0,9,-999.000,9,  -999.00,9,   -999.0,0,   -999.0,9,   -999.0,9,  -999.00,9,  -999.0,-999.0000,-999.000,-999.000, 21.4786,-999.000,9
      06MT22_5,   A10,     8,  1,    207,2,19930103,0650,-29.7983, -40.6067, 3780,     51.0,  20.7390,  36.2360,2,-999.0000,9,    230.6,2,     0.09,2,     0.00,9,     0.06,2, -999.000,9, -999.000,9, -999.000,9, -999.000,9,-999.0000,9,  -999.00,9,   -999.0,9,-999.000,9,  -999.00,9,   -999.0,0,   -999.0,9,   -999.0,9,  -999.00,9,  -999.0,-999.0000,-999.000,-999.000, 20.7293,-999.000,9
      06MT22_5,   A10,     8,  1,    206,2,19930103,0650,-29.7983, -40.6067, 3780,     72.0,  20.1810,  36.2880,2,-999.0000,9,    231.0,2,     0.14,2,     0.03,9,     0.06,2, -999.000,9, -999.000,9, -999.000,9, -999.000,9,-999.0000,9,  -999.00,9,   -999.0,9,-999.000,9,  -999.00,9,   -999.0,0,   -999.0,9,   -999.0,9,  -999.00,9,  -999.0,-999.0000,-999.000,-999.000, 20.1676,-999.000,9
      06MT22_5,   A10,     8,  1,    205,2,19930103,0650,-29.7983, -40.6067, 3780,    103.0,  18.9170,  36.0910,2,-999.0000,9,    226.4,2,     0.27,2,     0.05,9,     0.10,2, -999.000,9, -999.000,9, -999.000,9, -999.000,9,-999.0000,9,  -999.00,9,   -999.0,9,-999.000,9,  -999.00,9,   -999.0,0,   -999.0,9,   -999.0,9,  -999.00,9,  -999.0,-999.0000,-999.000,-999.000, 18.8986,-999.000,9
      06MT22_5,   A10,     8,  1,    204,2,19930103,0650,-29.7983, -40.6067, 3780,    151.0,  17.9150,  36.0110,2,  36.0090,2,    220.8,2,     0.46,2,     1.48,9,     0.24,2, -999.000,9, -999.000,9, -999.000,9, -999.000,9,-999.0000,9,  -999.00,9,   -999.0,9,-999.000,9,  -999.00,9,   -999.0,0,   -999.0,9,   -999.0,9,  -999.00,9,  -999.0,-999.0000,-999.000,-999.000, 17.8890,-999.000,9
      06MT22_5,   A10,     8,  1,    203,2,19930103,0650,-29.7983, -40.6067, 3780,    202.0,  17.0360,  35.9030,2,-999.0000,9,    217.2,2,     0.73,2,     3.01,9,     0.32,2, -999.000,9, -999.000,9, -999.000,9, -999.000,9,-999.0000,9,  -999.00,9,   -999.0,9,-999.000,9,  -999.00,9,   -999.0,0,   -999.0,9,   -999.0,9,  -999.00,9,  -999.0,-999.0000,-999.000,-999.000, 17.0025,-999.000,9
      06MT22_5,   A10,     8,  1,    202,2,19930103,0650,-29.7983, -40.6067, 3780,    299.0,  15.1860,  35.6100,2,-999.0000,9,    216.2,2,     1.39,2,     5.88,9,     0.48,2, -999.000,9, -999.000,9, -999.000,9, -999.000,9,-999.0000,9,  -999.00,9,   -999.0,9,-999.000,9,  -999.00,9,   -999.0,0,   -999.0,9,   -999.0,9,  -999.00,9,  -999.0,-999.0000,-999.000,-999.000, 15.1400,-999.000,9
      06MT22_5,   A10,     8,  1,    201,2,19930103,0650,-29.7983, -40.6067, 3780,    300.0,  15.1770,  35.6100,2,  35.6150,2,   -999.0,9,  -999.00,9,  -999.00,9,  -999.00,9, -999.000,9, -999.000,9, -999.000,9, -999.000,9,-999.0000,9,  -999.00,9,   -999.0,9,-999.000,9,  -999.00,9,   -999.0,0,   -999.0,9,   -999.0,9,  -999.00,9,  -999.0,-999.0000,-999.000,-999.000, 15.1308,-999.000,9