BOTTLE,20030417WHPSIOSA
EXPOCODE,SECT_ID,STNNBR,CASTNO,BTLNBR,BTLNBR_FLAG_W,DATE,TIME,LATITUDE,LONGITUDE,DEPTH,CTDPRS,CTDTMP,CTDSAL,CTDSAL_FLAG_W,SALNTY,SALNTY_FLAG_W,OXYGEN,OXYGEN_FLAG_W,SILCAT,SILCAT_FLAG_W,NO2+NO3,NO2+NO3_FLAG_W,PHSPHT,PHSPHT_FLAG_W,CFC-11,CFC-11_FLAG_W,CFC-12,CFC-12_FLAG_W,CCL4,CCL4_FLAG_W,TRITUM,TRITUM_FLAG_W,HELIUM,HELIUM_FLAG_W,DELHE3,DELHE3_FLAG_W,DELC14,DELC14_FLAG_W,NEON,NEON_FLAG_W,O18O16,O18O16_FLAG_W,TCARBN,TCARBN_FLAG_W,PCO2,PCO2_FLAG_W,ALKALI,ALKALI_FLAG_W,PH,PH_FLAG_W,C14ERR,HELIER,DELHER,NEONER,THETA,TRITER,TRITER_FLAG_W
,,,,,,,,,,,DBAR,ITS-90,PSS-78,,PSS-78,,UMOL/KG,,UMOL/KG,,UMOL/KG,,UMOL/KG,,PMOL/KG,,PMOL/KG,,PMOL/KG,,TU,,NMOL/KG,,PERCNT,,/MILLE,,NMOL/KG,,MILLE,,UMOL/KG,,UATM,,UMOL/KG,,,,/MILLE,NMOL/KG,PERCNT,NMOL/KG,ITS-90,TU,
      06MT22_5,   A10,    36,  2,    324,2,19930109,1154,-29.9988, -28.4295, 3763,      8.0,  22.3930,  35.8510,2,  35.8530,2,   -999.0,9,  -999.00,9,  -999.00,9,  -999.00,9, -999.000,9, -999.000,9, -999.000,9, -999.000,9,-999.0000,9,  -999.00,9,   -999.0,9,-999.000,9,  -999.00,9,   -999.0,9,   -999.0,9,   -999.0,9,  -999.00,9,  -999.0,-999.0000,-999.000,-999.000, 22.3914,-999.000,9
      06MT22_5,   A10,    36,  2,    323,2,19930109,1154,-29.9988, -28.4295, 3763,      8.0,  22.3750,  35.8470,2,-999.0000,9,   -999.0,9,  -999.00,9,  -999.00,9,  -999.00,9,    2.101,2,    1.167,2,    2.698,2, -999.000,9,-999.0000,9,  -999.00,9,   -999.0,9,-999.000,9,  -999.00,9,   2042.5,2,   -999.0,9,   -999.0,9,  -999.00,9,  -999.0,-999.0000,-999.000,-999.000, 22.3734,-999.000,9
      06MT22_5,   A10,    36,  2,    322,2,19930109,1154,-29.9988, -28.4295, 3763,    499.0,   9.8840,  34.8000,2,-999.0000,9,    206.6,2,     6.57,2,    17.81,9,     1.17,2,    1.866,2,    0.955,2,    1.306,2, -999.000,9,-999.0000,9,  -999.00,9,   -999.0,9,-999.000,9,  -999.00,9,   2129.6,2,   -999.0,9,   -999.0,9,  -999.00,9,  -999.0,-999.0000,-999.000,-999.000,  9.8259,-999.000,9
      06MT22_5,   A10,    36,  2,    321,2,19930109,1154,-29.9988, -28.4295, 3763,    600.0,   7.9370,  34.5770,2,  34.5690,2,    211.3,2,     9.74,2,    22.93,9,     1.48,2,    1.744,2,    0.854,2,    1.805,2, -999.000,9,-999.0000,9,  -999.00,9,   -999.0,9,-999.000,9,  -999.00,9,   2143.9,2,   -999.0,9,   2286.0,2,  -999.00,9,  -999.0,-999.0000,-999.000,-999.000,  7.8754,-999.000,9
      06MT22_5,   A10,    36,  2,    320,2,19930109,1154,-29.9988, -28.4295, 3763,    698.0,   6.1450,  34.4050,2,-999.0000,9,   -999.0,9,    14.05,2,    26.50,9,     1.73,2, -999.000,9, -999.000,9, -999.000,9, -999.000,9,-999.0000,9,  -999.00,9,   -999.0,9,-999.000,9,  -999.00,9,   2155.7,2,   -999.0,9,   2282.5,2,  -999.00,9,  -999.0,-999.0000,-999.000,-999.000,  6.0825,-999.000,9
      06MT22_5,   A10,    36,  2,    319,2,19930109,1154,-29.9988, -28.4295, 3763,    848.0,   4.4340,  34.2880,2,-999.0000,9,    221.2,2,    20.83,2,    29.39,9,     1.95,2,    1.341,2,    0.686,2,    2.582,2, -999.000,9,-999.0000,9,  -999.00,9,   -999.0,9,-999.000,9,  -999.00,9,   2171.2,2,   -999.0,9,   2281.5,2,  -999.00,9,  -999.0,-999.0000,-999.000,-999.000,  4.3682,-999.000,9
      06MT22_5,   A10,    36,  2,    318,2,19930109,1154,-29.9988, -28.4295, 3763,    998.0,   3.5910,  34.3140,2,  34.3170,2,    232.7,2,    32.71,2,    31.85,9,     2.12,2, -999.000,9, -999.000,9, -999.000,9, -999.000,9,-999.0000,9,  -999.00,9,   -999.0,9,-999.000,9,  -999.00,9,   2190.7,2,   -999.0,9,   2295.3,2,  -999.00,9,  -999.0,-999.0000,-999.000,-999.000,  3.5190,-999.000,9
      06MT22_5,   A10,    36,  2,    317,2,19930109,1154,-29.9988, -28.4295, 3763,   1194.0,   3.0580,  34.4190,2,-999.0000,9,    219.0,2,    47.01,2,    33.56,9,     2.26,2,    0.350,2,    0.173,2,    1.007,2, -999.000,9,-999.0000,9,  -999.00,9,   -999.0,9,-999.000,9,  -999.00,9,   2214.8,2,   -999.0,9,   2310.1,2,  -999.00,9,  -999.0,-999.0000,-999.000,-999.000,  2.9745,-999.000,9
      06MT22_5,   A10,    36,  2,    316,2,19930109,1154,-29.9988, -28.4295, 3763,   1397.0,   2.8600,  34.5630,2,-999.0000,9,    198.5,2,  -999.00,9,  -999.00,9,  -999.00,9, -999.000,9, -999.000,9, -999.000,9, -999.000,9,-999.0000,9,  -999.00,9,   -999.0,9,-999.000,9,  -999.00,9,   -999.0,9,   -999.0,9,   -999.0,9,  -999.00,9,  -999.0,-999.0000,-999.000,-999.000,  2.7622,-999.000,9
      06MT22_5,   A10,    36,  2,    314,2,19930109,1154,-29.9988, -28.4295, 3763,   1397.0,   2.8600,  34.5630,2,  34.5640,2,   -999.0,9,    55.17,2,    33.07,9,     2.22,2, -999.000,9, -999.000,9, -999.000,9, -999.000,9,-999.0000,9,  -999.00,9,   -999.0,9,-999.000,9,  -999.00,9,   -999.0,9,   -999.0,9,   -999.0,9,  -999.00,9,  -999.0,-999.0000,-999.000,-999.000,  2.7622,-999.000,9
      06MT22_5,   A10,    36,  2,    313,2,19930109,1154,-29.9988, -28.4295, 3763,   1397.0,   2.8600,  34.5630,2,-999.0000,9,   -999.0,9,  -999.00,9,  -999.00,9,  -999.00,9, -999.000,9, -999.000,9, -999.000,9, -999.000,9,-999.0000,9,  -999.00,9,   -999.0,9,-999.000,9,  -999.00,9,   2226.4,2,   -999.0,9,   2319.0,2,  -999.00,9,  -999.0,-999.0000,-999.000,-999.000,  2.7617,-999.000,9
      06MT22_5,   A10,    36,  2,    312,2,19930109,1154,-29.9988, -28.4295, 3763,   1600.0,   2.7940,  34.6810,2,-999.0000,9,    192.5,2,    55.76,2,    31.13,9,     2.07,2,    0.011,2,   -0.002,2,    0.066,2, -999.000,9,-999.0000,9,  -999.00,9,   -999.0,9,-999.000,9,  -999.00,9,   2226.4,2,   -999.0,9,   2319.0,2,  -999.00,9,  -999.0,-999.0000,-999.000,-999.000,  2.6798,-999.000,9
      06MT22_5,   A10,    36,  2,    311,2,19930109,1154,-29.9988, -28.4295, 3763,   1798.0,   2.7700,  34.7590,2,  34.7590,2,    196.5,2,    52.24,2,    28.82,9,     1.89,2, -999.000,9, -999.000,9, -999.000,9, -999.000,9,-999.0000,9,  -999.00,9,   -999.0,9,-999.000,9,  -999.00,9,   2214.3,2,   -999.0,9,   2328.4,2,  -999.00,9,  -999.0,-999.0000,-999.000,-999.000,  2.6392,-999.000,9
      06MT22_5,   A10,    36,  2,    310,2,19930109,1154,-29.9988, -28.4295, 3763,   1998.0,   2.7440,  34.8090,2,-999.0000,9,    213.2,2,    48.54,2,    26.93,9,     1.76,2,    0.008,2,    0.010,2,    0.098,2, -999.000,9,-999.0000,9,  -999.00,9,   -999.0,9,-999.000,9,  -999.00,9,   2205.1,2,   -999.0,9,   2330.3,2,  -999.00,9,  -999.0,-999.0000,-999.000,-999.000,  2.5957,-999.000,9
      06MT22_5,   A10,    36,  2,    309,2,19930109,1154,-29.9988, -28.4295, 3763,   2184.0,   2.7200,  34.8460,2,-999.0000,9,    230.6,2,    44.25,2,    25.30,9,     1.64,2,    0.025,4,    0.038,4,    0.072,2, -999.000,9,-999.0000,9,  -999.00,9,   -999.0,9,-999.000,9,  -999.00,9,   2194.5,2,   -999.0,9,   2331.3,2,  -999.00,9,  -999.0,-999.0000,-999.000,-999.000,  2.5552,-999.000,9
      06MT22_5,   A10,    36,  2,    308,2,19930109,1154,-29.9988, -28.4295, 3763,   2499.0,   2.7800,  34.8940,2,  34.8760,2,    244.8,2,    36.81,2,    23.06,9,     1.50,2,    0.040,4,    0.047,4,    0.250,4, -999.000,9,-999.0000,1,  -999.00,1,   -999.0,9,-999.000,1,  -999.00,9,   2182.4,2,   -999.0,9,   2327.4,2,  -999.00,9,  -999.0,-999.0000,-999.000,-999.000,  2.5845,-999.000,9
      06MT22_5,   A10,    36,  2,    307,2,19930109,1154,-29.9988, -28.4295, 3763,   2750.0,   2.7620,  34.9090,2,-999.0000,9,    250.0,2,    34.76,2,    22.09,9,     1.42,2, -999.000,9, -999.000,9, -999.000,9, -999.000,9,   1.8234,2,     3.96,2,   -999.0,9,   7.962,2,  -999.00,9,   2178.8,2,   -999.0,9,   2329.4,2,  -999.00,9,  -999.0,  0.0073,   0.250,   0.060,  2.5425,-999.000,9
      06MT22_5,   A10,    36,  2,    306,2,19930109,1154,-29.9988, -28.4295, 3763,   3000.0,   2.6680,  34.9090,2,-999.0000,9,    250.2,2,    36.31,2,    22.16,9,     1.44,2,    0.074,4,   -0.004,2,    0.084,2, -999.000,9,   1.8252,2,     3.71,2,   -999.0,9,   7.973,2,  -999.00,9,   2179.7,2,   -999.0,9,   2335.3,2,  -999.00,9,  -999.0,  0.0073,   0.250,   0.060,  2.4251,-999.000,9
      06MT22_5,   A10,    36,  2,    305,2,19930109,1154,-29.9988, -28.4295, 3763,   3252.0,   2.5190,  34.9000,2,-999.0000,9,    251.7,2,    40.29,2,    22.40,9,     1.48,2,    0.009,2,    0.009,3,    0.085,2, -999.000,9,-999.0000,1,  -999.00,1,   -999.0,9,-999.000,1,  -999.00,9,   2181.6,2,   -999.0,9,   -999.0,9,  -999.00,9,  -999.0,-999.0000,-999.000,-999.000,  2.2533,-999.000,9
      06MT22_5,   A10,    36,  2,    304,2,19930109,1154,-29.9988, -28.4295, 3763,   3504.0,   2.0820,  34.8570,2,-999.0000,9,    243.9,2,    56.41,2,    24.58,9,     1.64,2,    0.005,2,   -0.004,2,    0.100,2, -999.000,9,   1.8341,6,     3.72,6,   -999.0,9,   8.023,6,  -999.00,9,   2199.8,2,   -999.0,9,   2344.3,2,  -999.00,9,  -999.0,  0.0073,   0.250,   0.032,  1.8002,-999.000,9
      06MT22_5,   A10,    36,  2,    303,2,19930109,1154,-29.9988, -28.4295, 3763,   3705.0,   1.6660,  34.8080,2,-999.0000,9,    233.4,2,    75.44,2,    27.40,9,     1.82,2,    0.007,2,    0.003,2,    0.129,2, -999.000,9,-999.0000,1,  -999.00,1,   -999.0,9,-999.000,1,  -999.00,9,   2219.5,2,   -999.0,9,   2345.7,2,  -999.00,9,  -999.0,-999.0000,-999.000,-999.000,  1.3736,-999.000,9
      06MT22_5,   A10,    36,  2,    302,2,19930109,1154,-29.9988, -28.4295, 3763,   3766.0,   1.5210,  34.7920,2,  34.7920,2,    232.6,2,  -999.00,9,  -999.00,9,  -999.00,9,    0.017,2,    0.003,2,    0.129,2, -999.000,9,   1.8604,2,     6.17,2,   -999.0,9,   8.133,2,  -999.00,9,   -999.0,9,   -999.0,9,   -999.0,9,  -999.00,9,  -999.0,  0.0074,   0.250,   0.032,  1.2260,-999.000,9
      06MT22_5,   A10,    36,  2,    301,2,19930109,1154,-29.9988, -28.4295, 3763,   3766.0,   1.5190,  34.7910,2,-999.0000,9,   -999.0,9,    80.99,2,    28.20,9,     1.93,2,    0.022,2,    0.043,4,    0.127,2, -999.000,9,   1.8551,5,     6.05,3,   -999.0,9,   8.085,5,  -999.00,9,   2225.3,2,   -999.0,9,   2354.2,2,  -999.00,9,  -999.0,  0.0074,   0.250,   0.032,  1.2178,-999.000,9
      06MT22_5,   A10,    37,  1,    217,2,19930109,1720,-29.9983, -27.5950, 4904,     12.0,  23.1010,  35.8650,2,  35.8680,2,    218.8,2,     0.10,2,     0.03,9,     0.04,2, -999.000,9, -999.000,9, -999.000,9, -999.000,9,-999.0000,9,  -999.00,9,   -999.0,9,-999.000,9,  -999.00,9,   -999.0,0,   -999.0,9,   -999.0,9,  -999.00,9,  -999.0,-999.0000,-999.000,-999.000, 23.0985,-999.000,9
      06MT22_5,   A10,    37,  1,    212,2,19930109,1720,-29.9983, -27.5950, 4904,     12.0,  23.1240,  35.8630,2,  35.8660,2,   -999.0,9,  -999.00,9,  -999.00,9,  -999.00,9, -999.000,9, -999.000,9, -999.000,9, -999.000,9,-999.0000,9,  -999.00,9,   -999.0,9,-999.000,9,  -999.00,9,   -999.0,0,   -999.0,9,   -999.0,9,  -999.00,9,  -999.0,-999.0000,-999.000,-999.000, 23.1215,-999.000,9
      06MT22_5,   A10,    37,  1,    211,2,19930109,1720,-29.9983, -27.5950, 4904,     31.0,  22.3310,  35.8700,2,-999.0000,9,    222.9,2,     0.10,2,     0.03,9,     0.04,2, -999.000,9, -999.000,9, -999.000,9, -999.000,9,-999.0000,9,  -999.00,9,   -999.0,9,-999.000,9,  -999.00,9,   -999.0,0,   -999.0,9,   -999.0,9,  -999.00,9,  -999.0,-999.0000,-999.000,-999.000, 22.3248,-999.000,9
      06MT22_5,   A10,    37,  1,    210,2,19930109,1720,-29.9983, -27.5950, 4904,     52.0,  20.0410,  35.9720,2,  35.9820,2,    241.2,2,     0.00,2,     0.07,9,     0.07,2, -999.000,9, -999.000,9, -999.000,9, -999.000,9,-999.0000,9,  -999.00,9,   -999.0,9,-999.000,9,  -999.00,9,   -999.0,0,   -999.0,9,   -999.0,9,  -999.00,9,  -999.0,-999.0000,-999.000,-999.000, 20.0313,-999.000,9
      06MT22_5,   A10,    37,  1,    209,2,19930109,1720,-29.9983, -27.5950, 4904,     71.0,  19.3600,  35.9830,2,-999.0000,9,    238.0,2,     0.14,2,     0.02,9,     0.09,2, -999.000,9, -999.000,9, -999.000,9, -999.000,9,-999.0000,9,  -999.00,9,   -999.0,9,-999.000,9,  -999.00,9,   -999.0,0,   -999.0,9,   -999.0,9,  -999.00,9,  -999.0,-999.0000,-999.000,-999.000, 19.3471,-999.000,9
      06MT22_5,   A10,    37,  1,    208,2,19930109,1720,-29.9983, -27.5950, 4904,    102.0,  18.2280,  35.9160,2,-999.0000,9,    230.7,2,     0.35,2,     0.03,9,     0.12,2, -999.000,9, -999.000,9, -999.000,9, -999.000,9,-999.0000,9,  -999.00,9,   -999.0,9,-999.000,9,  -999.00,9,   -999.0,0,   -999.0,9,   -999.0,9,  -999.00,9,  -999.0,-999.0000,-999.000,-999.000, 18.2103,-999.000,9
      06MT22_5,   A10,    37,  1,    207,2,19930109,1720,-29.9983, -27.5950, 4904,    151.0,  17.1090,  35.7540,2,  35.7560,2,    218.4,2,     0.62,2,     1.43,9,     0.26,2, -999.000,9, -999.000,9, -999.000,9, -999.000,9,-999.0000,9,  -999.00,9,   -999.0,9,-999.000,9,  -999.00,9,   -999.0,0,   -999.0,9,   -999.0,9,  -999.00,9,  -999.0,-999.0000,-999.000,-999.000, 17.0839,-999.000,9
      06MT22_5,   A10,    37,  1,    206,2,19930109,1720,-29.9983, -27.5950, 4904,    201.0,  15.3450,  35.4960,2,-999.0000,9,    211.2,2,     1.57,2,     4.69,9,     0.46,2, -999.000,9, -999.000,9, -999.000,9, -999.000,9,-999.0000,9,  -999.00,9,   -999.0,9,-999.000,9,  -999.00,9,   -999.0,0,   -999.0,9,   -999.0,9,  -999.00,9,  -999.0,-999.0000,-999.000,-999.000, 15.3141,-999.000,9
      06MT22_5,   A10,    37,  1,    205,2,19930109,1720,-29.9983, -27.5950, 4904,    301.0,  13.6550,  35.3110,2,-999.0000,9,    213.1,2,     2.66,2,     8.39,9,     0.65,2, -999.000,9, -999.000,9, -999.000,9, -999.000,9,-999.0000,9,  -999.00,9,   -999.0,9,-999.000,9,  -999.00,9,   -999.0,0,   -999.0,9,   -999.0,9,  -999.00,9,  -999.0,-999.0000,-999.000,-999.000, 13.6120,-999.000,9
      06MT22_5,   A10,    37,  1,    204,2,19930109,1720,-29.9983, -27.5950, 4904,    401.0,  11.9450,  35.0820,2,  35.0850,2,    210.2,2,     5.34,2,    12.50,9,     0.87,2, -999.000,9, -999.000,9, -999.000,9, -999.000,9,-999.0000,9,  -999.00,9,   -999.0,9,-999.000,9,  -999.00,9,   -999.0,0,   -999.0,9,   -999.0,9,  -999.00,9,  -999.0,-999.0000,-999.000,-999.000, 11.8924,-999.000,9
      06MT22_5,   A10,    37,  1,    203,2,19930109,1720,-29.9983, -27.5950, 4904,    499.0,   9.7610,  34.7840,2,-999.0000,9,    205.2,2,     7.25,2,    18.34,9,     1.26,2, -999.000,9, -999.000,9, -999.000,9, -999.000,9,-999.0000,9,  -999.00,9,   -999.0,9,-999.000,9,  -999.00,9,   -999.0,0,   -999.0,9,   -999.0,9,  -999.00,9,  -999.0,-999.0000,-999.000,-999.000,  9.7035,-999.000,9
      06MT22_5,   A10,    37,  1,    202,2,19930109,1720,-29.9983, -27.5950, 4904,    601.0,   7.9160,  34.5720,2,-999.0000,9,    213.2,2,    10.06,2,    22.47,9,     1.54,2, -999.000,9, -999.000,9, -999.000,9, -999.000,9,-999.0000,9,  -999.00,9,   -999.0,9,-999.000,9,  -999.00,9,   -999.0,0,   -999.0,9,   -999.0,9,  -999.00,9,  -999.0,-999.0000,-999.000,-999.000,  7.8545,-999.000,9
      06MT22_5,   A10,    37,  1,    201,2,19930109,1720,-29.9983, -27.5950, 4904,    700.0,   5.9670,  34.3790,2,  34.3860,2,    226.7,2,    13.75,2,    26.29,9,     1.81,2, -999.000,9, -999.000,9, -999.000,9, -999.000,9,-999.0000,9,  -999.00,9,   -999.0,9,-999.000,9,  -999.00,9,   -999.0,0,   -999.0,9,   -999.0,9,  -999.00,9,  -999.0,-999.0000,-999.000,-999.000,  5.9052,-999.000,9