BOTTLE,20030417WHPSIOSA
EXPOCODE,SECT_ID,STNNBR,CASTNO,BTLNBR,BTLNBR_FLAG_W,DATE,TIME,LATITUDE,LONGITUDE,DEPTH,CTDPRS,CTDTMP,CTDSAL,CTDSAL_FLAG_W,SALNTY,SALNTY_FLAG_W,OXYGEN,OXYGEN_FLAG_W,SILCAT,SILCAT_FLAG_W,NO2+NO3,NO2+NO3_FLAG_W,PHSPHT,PHSPHT_FLAG_W,CFC-11,CFC-11_FLAG_W,CFC-12,CFC-12_FLAG_W,CCL4,CCL4_FLAG_W,TRITUM,TRITUM_FLAG_W,HELIUM,HELIUM_FLAG_W,DELHE3,DELHE3_FLAG_W,DELC14,DELC14_FLAG_W,NEON,NEON_FLAG_W,O18O16,O18O16_FLAG_W,TCARBN,TCARBN_FLAG_W,PCO2,PCO2_FLAG_W,ALKALI,ALKALI_FLAG_W,PH,PH_FLAG_W,C14ERR,HELIER,DELHER,NEONER,THETA,TRITER,TRITER_FLAG_W
,,,,,,,,,,,DBAR,ITS-90,PSS-78,,PSS-78,,UMOL/KG,,UMOL/KG,,UMOL/KG,,UMOL/KG,,PMOL/KG,,PMOL/KG,,PMOL/KG,,TU,,NMOL/KG,,PERCNT,,/MILLE,,NMOL/KG,,MILLE,,UMOL/KG,,UATM,,UMOL/KG,,,,/MILLE,NMOL/KG,PERCNT,NMOL/KG,ITS-90,TU,
      06MT22_5,   A10,    27,  2,    324,2,19930106,2352,-29.9928, -33.0002, 3528,     12.0,  20.9000,  35.9620,2,  35.9670,2,   -999.0,9,  -999.00,9,  -999.00,9,  -999.00,9, -999.000,9, -999.000,9, -999.000,9, -999.000,9,-999.0000,9,  -999.00,9,   -999.0,9,-999.000,9,  -999.00,9,   -999.0,0,   -999.0,9,   -999.0,9,  -999.00,9,  -999.0,-999.0000,-999.000,-999.000, 20.8977,-999.000,9
      06MT22_5,   A10,    27,  2,    320,2,19930106,2352,-29.9928, -33.0002, 3528,    400.0,  12.3750,  35.1400,2,  35.1270,2,    210.8,2,     3.85,2,    12.17,9,     0.88,2, -999.000,9, -999.000,9, -999.000,9, -999.000,9,-999.0000,9,  -999.00,9,   -999.0,9,-999.000,9,  -999.00,9,   -999.0,0,   -999.0,9,   -999.0,9,  -999.00,9,  -999.0,-999.0000,-999.000,-999.000, 12.3212,-999.000,9
      06MT22_5,   A10,    27,  2,    319,2,19930106,2352,-29.9928, -33.0002, 3528,    499.0,   9.9840,  34.8090,2,-999.0000,9,    210.9,2,     6.32,2,    18.22,9,     1.26,2, -999.000,9, -999.000,9, -999.000,9, -999.000,9,-999.0000,9,  -999.00,9,   -999.0,9,-999.000,9,  -999.00,9,   -999.0,0,   -999.0,9,   -999.0,9,  -999.00,9,  -999.0,-999.0000,-999.000,-999.000,  9.9257,-999.000,9
      06MT22_5,   A10,    27,  2,    318,2,19930106,2352,-29.9928, -33.0002, 3528,    600.0,   7.3140,  34.4900,2,-999.0000,9,    220.8,2,     9.79,2,    23.58,9,     1.60,2, -999.000,9, -999.000,9, -999.000,9, -999.000,9,-999.0000,9,  -999.00,9,   -999.0,9,-999.000,9,  -999.00,9,   -999.0,0,   -999.0,9,   -999.0,9,  -999.00,9,  -999.0,-999.0000,-999.000,-999.000,  7.2553,-999.000,9
      06MT22_5,   A10,    27,  2,    317,2,19930106,2352,-29.9928, -33.0002, 3528,    700.0,   5.9940,  34.3780,2,  34.3750,2,    229.3,2,    13.61,2,    26.23,9,     1.79,2, -999.000,9, -999.000,9, -999.000,9, -999.000,9,-999.0000,9,  -999.00,9,   -999.0,9,-999.000,9,  -999.00,9,   -999.0,0,   -999.0,9,   -999.0,9,  -999.00,9,  -999.0,-999.0000,-999.000,-999.000,  5.9320,-999.000,9
      06MT22_5,   A10,    27,  2,    316,2,19930106,2352,-29.9928, -33.0002, 3528,    781.0,   5.1780,  34.3210,2,-999.0000,9,    232.7,2,    16.44,2,    27.69,9,     1.91,2, -999.000,9, -999.000,9, -999.000,9, -999.000,9,-999.0000,9,  -999.00,9,   -999.0,9,-999.000,9,  -999.00,9,   -999.0,0,   -999.0,9,   -999.0,9,  -999.00,9,  -999.0,-999.0000,-999.000,-999.000,  5.1133,-999.000,9
      06MT22_5,   A10,    27,  2,    315,2,19930106,2352,-29.9928, -33.0002, 3528,    900.0,   4.2420,  34.2820,2,-999.0000,9,    231.4,2,    23.68,2,    29.80,9,     2.06,2, -999.000,9, -999.000,9, -999.000,9, -999.000,9,-999.0000,9,  -999.00,9,   -999.0,9,-999.000,9,  -999.00,9,   -999.0,0,   -999.0,9,   -999.0,9,  -999.00,9,  -999.0,-999.0000,-999.000,-999.000,  4.1732,-999.000,9
      06MT22_5,   A10,    27,  2,    314,2,19930106,2352,-29.9928, -33.0002, 3528,    999.0,   3.8000,  34.3150,2,  34.3180,2,    215.8,2,    32.12,2,    31.76,9,     2.18,2, -999.000,9, -999.000,9, -999.000,9, -999.000,9,-999.0000,9,  -999.00,9,   -999.0,9,-999.000,9,  -999.00,9,   -999.0,0,   -999.0,9,   -999.0,9,  -999.00,9,  -999.0,-999.0000,-999.000,-999.000,  3.7263,-999.000,9
      06MT22_5,   A10,    27,  2,    313,2,19930106,2352,-29.9928, -33.0002, 3528,   1200.0,   3.1880,  34.4190,2,-999.0000,9,    197.8,2,    46.14,2,    33.46,9,     2.30,2, -999.000,9, -999.000,9, -999.000,9, -999.000,9,-999.0000,9,  -999.00,9,   -999.0,9,-999.000,9,  -999.00,9,   -999.0,0,   -999.0,9,   -999.0,9,  -999.00,9,  -999.0,-999.0000,-999.000,-999.000,  3.1024,-999.000,9
      06MT22_5,   A10,    27,  2,    312,2,19930106,2352,-29.9928, -33.0002, 3528,   1399.0,   2.9500,  34.5570,2,-999.0000,9,    191.3,2,    53.03,2,    32.94,9,     2.26,2, -999.000,9, -999.000,9, -999.000,9, -999.000,9,-999.0000,9,  -999.00,9,   -999.0,9,-999.000,9,  -999.00,9,   -999.0,0,   -999.0,9,   -999.0,9,  -999.00,9,  -999.0,-999.0000,-999.000,-999.000,  2.8507,-999.000,9
      06MT22_5,   A10,    27,  2,    311,2,19930106,2352,-29.9928, -33.0002, 3528,   1600.0,   2.8470,  34.6620,2,-999.0000,9,    196.6,2,    53.85,2,    31.16,9,     2.13,2, -999.000,9, -999.000,9, -999.000,9, -999.000,9,-999.0000,9,  -999.00,9,   -999.0,9,-999.000,9,  -999.00,9,   -999.0,0,   -999.0,9,   -999.0,9,  -999.00,9,  -999.0,-999.0000,-999.000,-999.000,  2.7322,-999.000,9
      06MT22_5,   A10,    27,  2,    310,2,19930106,2352,-29.9928, -33.0002, 3528,   1800.0,   2.7840,  34.7430,2,  34.7420,2,    208.4,2,    51.39,2,    28.98,9,     1.96,2, -999.000,9, -999.000,9, -999.000,9, -999.000,9,-999.0000,9,  -999.00,9,   -999.0,9,-999.000,9,  -999.00,9,   -999.0,0,   -999.0,9,   -999.0,9,  -999.00,9,  -999.0,-999.0000,-999.000,-999.000,  2.6529,-999.000,9
      06MT22_5,   A10,    27,  2,    309,2,19930106,2352,-29.9928, -33.0002, 3528,   2001.0,   2.7650,  34.7950,2,-999.0000,9,    216.2,2,    48.53,2,    27.25,9,     1.84,2, -999.000,9, -999.000,9, -999.000,9, -999.000,9,-999.0000,9,  -999.00,9,   -999.0,9,-999.000,9,  -999.00,9,   -999.0,0,   -999.0,9,   -999.0,9,  -999.00,9,  -999.0,-999.0000,-999.000,-999.000,  2.6160,-999.000,9
      06MT22_5,   A10,    27,  2,    308,2,19930106,2352,-29.9928, -33.0002, 3528,   2251.0,   2.7670,  34.8460,2,-999.0000,9,    231.5,2,    42.47,2,    25.27,9,     1.69,2, -999.000,9, -999.000,9, -999.000,9, -999.000,9,-999.0000,9,  -999.00,9,   -999.0,9,-999.000,9,  -999.00,9,   -999.0,0,   -999.0,9,   -999.0,9,  -999.00,9,  -999.0,-999.0000,-999.000,-999.000,  2.5952,-999.000,9
      06MT22_5,   A10,    27,  2,    307,2,19930106,2352,-29.9928, -33.0002, 3528,   2501.0,   2.7770,  34.8770,2,-999.0000,9,    240.0,2,    37.47,2,    23.48,9,     1.55,2, -999.000,9, -999.000,9, -999.000,9, -999.000,9,-999.0000,9,  -999.00,9,   -999.0,9,-999.000,9,  -999.00,9,   -999.0,0,   -999.0,9,   -999.0,9,  -999.00,9,  -999.0,-999.0000,-999.000,-999.000,  2.5812,-999.000,9
      06MT22_5,   A10,    27,  2,    306,2,19930106,2352,-29.9928, -33.0002, 3528,   2752.0,   2.7380,  34.8960,2,  34.8950,2,    246.2,2,    36.23,2,    22.87,9,     1.51,2, -999.000,9, -999.000,9, -999.000,9, -999.000,9,-999.0000,9,  -999.00,9,   -999.0,9,-999.000,9,  -999.00,9,   -999.0,0,   -999.0,9,   -999.0,9,  -999.00,9,  -999.0,-999.0000,-999.000,-999.000,  2.5183,-999.000,9
      06MT22_5,   A10,    27,  2,    305,2,19930106,2352,-29.9928, -33.0002, 3528,   3003.0,   2.6410,  34.8980,2,-999.0000,9,    249.2,2,    37.46,2,    22.53,9,     1.51,2, -999.000,9, -999.000,9, -999.000,9, -999.000,9,-999.0000,9,  -999.00,9,   -999.0,9,-999.000,9,  -999.00,9,   -999.0,0,   -999.0,9,   -999.0,9,  -999.00,9,  -999.0,-999.0000,-999.000,-999.000,  2.3982,-999.000,9
      06MT22_5,   A10,    27,  2,    304,2,19930106,2352,-29.9928, -33.0002, 3528,   3257.0,   2.4900,  34.8910,2,-999.0000,9,    250.9,2,    40.30,2,    22.53,9,     1.50,2, -999.000,9, -999.000,9, -999.000,9, -999.000,9,-999.0000,9,  -999.00,9,   -999.0,9,-999.000,9,  -999.00,9,   -999.0,0,   -999.0,9,   -999.0,9,  -999.00,9,  -999.0,-999.0000,-999.000,-999.000,  2.2242,-999.000,9
      06MT22_5,   A10,    27,  2,    303,2,19930106,2352,-29.9928, -33.0002, 3528,   3504.0,   2.1020,  34.8550,2,-999.0000,9,    246.9,2,    54.34,2,    24.28,9,     1.63,2, -999.000,9, -999.000,9, -999.000,9, -999.000,9,-999.0000,9,  -999.00,9,   -999.0,9,-999.000,9,  -999.00,9,   -999.0,0,   -999.0,9,   -999.0,9,  -999.00,9,  -999.0,-999.0000,-999.000,-999.000,  1.8195,-999.000,9
      06MT22_5,   A10,    27,  2,    301,2,19930106,2352,-29.9928, -33.0002, 3528,   3546.0,   1.9660,  34.8390,2,-999.0000,9,   -999.0,9,  -999.00,9,  -999.00,9,  -999.00,9, -999.000,9, -999.000,9, -999.000,9, -999.000,9,-999.0000,9,  -999.00,9,   -999.0,9,-999.000,9,  -999.00,9,   -999.0,0,   -999.0,9,   -999.0,9,  -999.00,9,  -999.0,-999.0000,-999.000,-999.000,  1.6764,-999.000,9
      06MT22_5,   A10,    27,  2,    302,2,19930106,2352,-29.9928, -33.0002, 3528,   3548.0,   1.9620,  34.8380,2,  34.8400,2,    243.5,2,    59.49,2,    25.19,9,     1.69,2, -999.000,9, -999.000,9, -999.000,9, -999.000,9,-999.0000,9,  -999.00,9,   -999.0,9,-999.000,9,  -999.00,9,   -999.0,0,   -999.0,9,   -999.0,9,  -999.00,9,  -999.0,-999.0000,-999.000,-999.000,  1.6783,-999.000,9
      06MT22_5,   A10,    28,  1,    217,2,19930107,0543,-29.9965, -32.4993, 3747,     12.0,  21.2740,  35.6630,2,  35.6580,2,    225.5,2,     0.22,2,     0.01,9,     0.13,2, -999.000,9, -999.000,9, -999.000,9, -999.000,9,-999.0000,9,  -999.00,9,   -999.0,9,-999.000,9,  -999.00,9,   -999.0,9,   -999.0,9,   -999.0,9,  -999.00,9,  -999.0,-999.0000,-999.000,-999.000, 21.2717,-999.000,9
      06MT22_5,   A10,    28,  1,    209,2,19930107,0543,-29.9965, -32.4993, 3747,     12.0,  21.3470,  35.6560,2,-999.0000,9,   -999.0,9,  -999.00,9,  -999.00,9,  -999.00,9, -999.000,9, -999.000,9, -999.000,9, -999.000,9,-999.0000,9,  -999.00,9,   -999.0,9,-999.000,9,  -999.00,9,   2037.5,2,   -999.0,9,   2349.6,2,  -999.00,9,  -999.0,-999.0000,-999.000,-999.000, 21.3447,-999.000,9
      06MT22_5,   A10,    28,  1,    208,2,19930107,0543,-29.9965, -32.4993, 3747,     32.0,  20.6690,  35.6890,2,  35.6760,2,    230.5,2,     0.09,2,     0.02,9,     0.10,2,    2.229,2,    1.242,2,    2.884,2, -999.000,9,-999.0000,9,  -999.00,9,   -999.0,9,-999.000,9,  -999.00,9,   2036.4,2,   -999.0,9,   2349.3,2,  -999.00,9,  -999.0,-999.0000,-999.000,-999.000, 20.6629,-999.000,9
      06MT22_5,   A10,    28,  1,    207,2,19930107,0543,-29.9965, -32.4993, 3747,     51.0,  18.5180,  35.9170,2,-999.0000,9,    244.7,2,     0.21,2,     0.00,9,     0.12,2, -999.000,9, -999.000,9, -999.000,9, -999.000,9,-999.0000,9,  -999.00,9,   -999.0,9,-999.000,9,  -999.00,9,   2048.7,2,   -999.0,9,   2363.2,2,  -999.00,9,  -999.0,-999.0000,-999.000,-999.000, 18.5091,-999.000,9
      06MT22_5,   A10,    28,  1,    206,2,19930107,0543,-29.9965, -32.4993, 3747,     72.0,  17.5850,  35.8730,2,-999.0000,9,    241.5,2,     0.30,2,     0.00,9,     0.13,2,    2.459,2,    1.351,2,    2.198,2, -999.000,9,-999.0000,9,  -999.00,9,   -999.0,9,-999.000,9,  -999.00,9,   2054.6,2,   -999.0,9,   2351.6,2,  -999.00,9,  -999.0,-999.0000,-999.000,-999.000, 17.5728,-999.000,9
      06MT22_5,   A10,    28,  1,    205,2,19930107,0543,-29.9965, -32.4993, 3747,    101.0,  16.4820,  35.7230,2,  35.7120,2,    233.1,2,     0.47,2,     0.25,9,     0.18,2,    2.509,2,    1.363,2,    1.850,2, -999.000,9,-999.0000,9,  -999.00,9,   -999.0,9,-999.000,9,  -999.00,9,   2065.9,2,   -999.0,9,   2344.7,2,  -999.00,9,  -999.0,-999.0000,-999.000,-999.000, 16.4656,-999.000,9
      06MT22_5,   A10,    28,  1,    204,2,19930107,0543,-29.9965, -32.4993, 3747,    151.0,  15.2920,  35.5330,2,-999.0000,9,    224.6,2,     0.96,2,     3.24,9,     0.35,2,    2.549,2,    1.431,2,    1.515,2, -999.000,9,-999.0000,9,  -999.00,9,   -999.0,9,-999.000,9,  -999.00,9,   2079.1,2,   -999.0,9,   2330.9,2,  -999.00,9,  -999.0,-999.0000,-999.000,-999.000, 15.2688,-999.000,9
      06MT22_5,   A10,    28,  1,    203,2,19930107,0543,-29.9965, -32.4993, 3747,    201.0,  14.6020,  35.4860,2,-999.0000,9,    218.1,2,     1.72,2,     5.76,9,     0.46,2,    2.497,2,    1.332,2,    1.018,2, -999.000,9,-999.0000,9,  -999.00,9,   -999.0,9,-999.000,9,  -999.00,9,   2089.7,2,   -999.0,9,   2325.9,2,  -999.00,9,  -999.0,-999.0000,-999.000,-999.000, 14.5720,-999.000,9
      06MT22_5,   A10,    28,  1,    202,2,19930107,0543,-29.9965, -32.4993, 3747,    299.0,  13.4220,  35.3280,2,  35.3230,2,    218.2,2,     2.34,2,     8.44,9,     0.63,2, -999.000,9, -999.000,9, -999.000,9, -999.000,9,-999.0000,9,  -999.00,9,   -999.0,9,-999.000,9,  -999.00,9,   -999.0,9,   -999.0,9,   -999.0,9,  -999.00,9,  -999.0,-999.0000,-999.000,-999.000, 13.3797,-999.000,9
      06MT22_5,   A10,    28,  1,    201,2,19930107,0543,-29.9965, -32.4993, 3747,    299.0,  13.4210,  35.3280,2,-999.0000,9,   -999.0,9,  -999.00,9,  -999.00,9,  -999.00,9,    2.416,2,    1.288,2,    0.887,2, -999.000,9,-999.0000,9,  -999.00,9,   -999.0,9,-999.000,9,  -999.00,9,   2099.6,2,   -999.0,9,   2321.0,2,  -999.00,9,  -999.0,-999.0000,-999.000,-999.000, 13.3785,-999.000,9