BOTTLE,20030417WHPSIOSA
EXPOCODE,SECT_ID,STNNBR,CASTNO,BTLNBR,BTLNBR_FLAG_W,DATE,TIME,LATITUDE,LONGITUDE,DEPTH,CTDPRS,CTDTMP,CTDSAL,CTDSAL_FLAG_W,SALNTY,SALNTY_FLAG_W,OXYGEN,OXYGEN_FLAG_W,SILCAT,SILCAT_FLAG_W,NO2+NO3,NO2+NO3_FLAG_W,PHSPHT,PHSPHT_FLAG_W,CFC-11,CFC-11_FLAG_W,CFC-12,CFC-12_FLAG_W,CCL4,CCL4_FLAG_W,TRITUM,TRITUM_FLAG_W,HELIUM,HELIUM_FLAG_W,DELHE3,DELHE3_FLAG_W,DELC14,DELC14_FLAG_W,NEON,NEON_FLAG_W,O18O16,O18O16_FLAG_W,TCARBN,TCARBN_FLAG_W,PCO2,PCO2_FLAG_W,ALKALI,ALKALI_FLAG_W,PH,PH_FLAG_W,C14ERR,HELIER,DELHER,NEONER,THETA,TRITER,TRITER_FLAG_W
,,,,,,,,,,,DBAR,ITS-90,PSS-78,,PSS-78,,UMOL/KG,,UMOL/KG,,UMOL/KG,,UMOL/KG,,PMOL/KG,,PMOL/KG,,PMOL/KG,,TU,,NMOL/KG,,PERCNT,,/MILLE,,NMOL/KG,,MILLE,,UMOL/KG,,UATM,,UMOL/KG,,,,/MILLE,NMOL/KG,PERCNT,NMOL/KG,ITS-90,TU,
      06MT22_5,   A10,    37,  2,    324,2,19930109,1800,-29.9997, -27.5680, 4881,     10.0,  23.1440,  35.8290,2,  35.8380,2,   -999.0,9,  -999.00,9,  -999.00,9,  -999.00,9, -999.000,9, -999.000,9, -999.000,9, -999.000,9,-999.0000,9,  -999.00,9,   -999.0,9,-999.000,9,  -999.00,9,   -999.0,0,   -999.0,9,   -999.0,9,  -999.00,9,  -999.0,-999.0000,-999.000,-999.000, 23.1419,-999.000,9
      06MT22_5,   A10,    37,  2,    323,2,19930109,1800,-29.9997, -27.5680, 4881,     10.0,  23.1440,  35.8290,2,-999.0000,9,   -999.0,9,  -999.00,9,  -999.00,9,  -999.00,9, -999.000,9, -999.000,9, -999.000,9, -999.000,9,-999.0000,9,  -999.00,9,   -999.0,9,-999.000,9,  -999.00,9,   -999.0,0,   -999.0,9,   -999.0,9,  -999.00,9,  -999.0,-999.0000,-999.000,-999.000, 23.1420,-999.000,9
      06MT22_5,   A10,    37,  2,    322,2,19930109,1800,-29.9997, -27.5680, 4881,    848.0,   4.4650,  34.2920,2,-999.0000,9,   -999.0,9,  -999.00,9,  -999.00,9,  -999.00,9, -999.000,9, -999.000,9, -999.000,9, -999.000,9,-999.0000,9,  -999.00,9,   -999.0,9,-999.000,9,  -999.00,9,   -999.0,0,   -999.0,9,   -999.0,9,  -999.00,9,  -999.0,-999.0000,-999.000,-999.000,  4.3990,-999.000,9
      06MT22_5,   A10,    37,  2,    321,2,19930109,1800,-29.9997, -27.5680, 4881,    999.0,   3.5790,  34.3080,2,  34.3090,2,    219.4,2,    32.44,2,    31.55,9,     2.17,2, -999.000,9, -999.000,9, -999.000,9, -999.000,9,-999.0000,9,  -999.00,9,   -999.0,9,-999.000,9,  -999.00,9,   -999.0,0,   -999.0,9,   -999.0,9,  -999.00,9,  -999.0,-999.0000,-999.000,-999.000,  3.5070,-999.000,9
      06MT22_5,   A10,    37,  2,    320,2,19930109,1800,-29.9997, -27.5680, 4881,   1199.0,   3.0880,  34.4190,2,-999.0000,9,    198.7,2,    46.95,2,    33.48,9,     2.35,2, -999.000,9, -999.000,9, -999.000,9, -999.000,9,-999.0000,9,  -999.00,9,   -999.0,9,-999.000,9,  -999.00,9,   -999.0,0,   -999.0,9,   -999.0,9,  -999.00,9,  -999.0,-999.0000,-999.000,-999.000,  3.0036,-999.000,9
      06MT22_5,   A10,    37,  2,    319,2,19930109,1800,-29.9997, -27.5680, 4881,   1398.0,   2.8650,  34.5530,2,-999.0000,9,    190.0,2,    55.26,2,    33.14,9,     2.26,2, -999.000,9, -999.000,9, -999.000,9, -999.000,9,-999.0000,9,  -999.00,9,   -999.0,9,-999.000,9,  -999.00,9,   -999.0,0,   -999.0,9,   -999.0,9,  -999.00,9,  -999.0,-999.0000,-999.000,-999.000,  2.7668,-999.000,9
      06MT22_5,   A10,    37,  2,    318,2,19930109,1800,-29.9997, -27.5680, 4881,   1596.0,   2.7950,  34.6730,2,  34.6700,2,    196.1,2,    55.88,2,    31.22,9,     2.16,2, -999.000,9, -999.000,9, -999.000,9, -999.000,9,-999.0000,9,  -999.00,9,   -999.0,9,-999.000,9,  -999.00,9,   -999.0,0,   -999.0,9,   -999.0,9,  -999.00,9,  -999.0,-999.0000,-999.000,-999.000,  2.6813,-999.000,9
      06MT22_5,   A10,    37,  2,    317,2,19930109,1800,-29.9997, -27.5680, 4881,   1799.0,   2.7610,  34.7590,2,-999.0000,9,    208.4,2,    52.28,2,    28.73,9,     1.92,2, -999.000,9, -999.000,9, -999.000,9, -999.000,9,-999.0000,9,  -999.00,9,   -999.0,9,-999.000,9,  -999.00,9,   -999.0,0,   -999.0,9,   -999.0,9,  -999.00,9,  -999.0,-999.0000,-999.000,-999.000,  2.6300,-999.000,9
      06MT22_5,   A10,    37,  2,    316,2,19930109,1800,-29.9997, -27.5680, 4881,   2000.0,   2.7010,  34.8100,2,-999.0000,9,    221.4,2,    49.03,2,    26.86,9,     1.84,2, -999.000,9, -999.000,9, -999.000,9, -999.000,9,-999.0000,9,  -999.00,9,   -999.0,9,-999.000,9,  -999.00,9,   -999.0,0,   -999.0,9,   -999.0,9,  -999.00,9,  -999.0,-999.0000,-999.000,-999.000,  2.5532,-999.000,9
      06MT22_5,   A10,    37,  2,    315,2,19930109,1800,-29.9997, -27.5680, 4881,   2251.0,   2.6930,  34.8490,2,  34.8470,2,    230.7,2,    44.93,2,    25.26,9,     1.70,2, -999.000,9, -999.000,9, -999.000,9, -999.000,9,-999.0000,9,  -999.00,9,   -999.0,9,-999.000,9,  -999.00,9,   -999.0,0,   -999.0,9,   -999.0,9,  -999.00,9,  -999.0,-999.0000,-999.000,-999.000,  2.5226,-999.000,9
      06MT22_5,   A10,    37,  2,    314,2,19930109,1800,-29.9997, -27.5680, 4881,   2501.0,   2.7090,  34.8800,2,-999.0000,9,    241.5,2,    41.14,2,    23.73,9,     1.57,2, -999.000,9, -999.000,9, -999.000,9, -999.000,9,-999.0000,9,  -999.00,9,   -999.0,9,-999.000,9,  -999.00,9,   -999.0,0,   -999.0,9,   -999.0,9,  -999.00,9,  -999.0,-999.0000,-999.000,-999.000,  2.5144,-999.000,9
      06MT22_5,   A10,    37,  2,    313,2,19930109,1800,-29.9997, -27.5680, 4881,   2751.0,   2.7140,  34.9030,2,-999.0000,9,    247.6,2,    36.73,2,    22.56,9,     1.45,2, -999.000,9, -999.000,9, -999.000,9, -999.000,9,-999.0000,9,  -999.00,9,   -999.0,9,-999.000,9,  -999.00,9,   -999.0,0,   -999.0,9,   -999.0,9,  -999.00,9,  -999.0,-999.0000,-999.000,-999.000,  2.4948,-999.000,9
      06MT22_5,   A10,    37,  2,    312,2,19930109,1800,-29.9997, -27.5680, 4881,   3002.0,   2.6420,  34.9080,2,  34.9070,2,    249.5,2,    36.81,2,    22.18,9,     1.47,2, -999.000,9, -999.000,9, -999.000,9, -999.000,9,-999.0000,9,  -999.00,9,   -999.0,9,-999.000,9,  -999.00,9,   -999.0,0,   -999.0,9,   -999.0,9,  -999.00,9,  -999.0,-999.0000,-999.000,-999.000,  2.3989,-999.000,9
      06MT22_5,   A10,    37,  2,    311,2,19930109,1800,-29.9997, -27.5680, 4881,   3250.0,   2.4560,  34.8950,2,-999.0000,9,    251.4,2,    41.90,2,    22.81,9,     1.50,2, -999.000,9, -999.000,9, -999.000,9, -999.000,9,-999.0000,9,  -999.00,9,   -999.0,9,-999.000,9,  -999.00,9,   -999.0,0,   -999.0,9,   -999.0,9,  -999.00,9,  -999.0,-999.0000,-999.000,-999.000,  2.1918,-999.000,9
      06MT22_5,   A10,    37,  2,    310,2,19930109,1800,-29.9997, -27.5680, 4881,   3500.0,   2.1750,  34.8680,2,-999.0000,9,   -999.0,9,  -999.00,9,  -999.00,9,  -999.00,9, -999.000,9, -999.000,9, -999.000,9, -999.000,9,-999.0000,9,  -999.00,9,   -999.0,9,-999.000,9,  -999.00,9,   -999.0,0,   -999.0,9,   -999.0,9,  -999.00,9,  -999.0,-999.0000,-999.000,-999.000,  1.8911,-999.000,9
      06MT22_5,   A10,    37,  2,    309,2,19930109,1800,-29.9997, -27.5680, 4881,   3755.0,   1.7450,  34.8210,2,  34.8250,2,    239.0,2,    69.61,2,    26.30,9,     1.78,2, -999.000,9, -999.000,9, -999.000,9, -999.000,9,-999.0000,9,  -999.00,9,   -999.0,9,-999.000,9,  -999.00,9,   -999.0,0,   -999.0,9,   -999.0,9,  -999.00,9,  -999.0,-999.0000,-999.000,-999.000,  1.4450,-999.000,9
      06MT22_5,   A10,    37,  2,    308,2,19930109,1800,-29.9997, -27.5680, 4881,   4005.0,   1.3390,  34.7760,2,-999.0000,9,    230.4,2,    87.32,2,    29.11,9,     1.99,2,    0.009,2,    0.023,4,    0.099,2, -999.000,9,-999.0000,9,  -999.00,9,   -999.0,9,-999.000,9,  -999.00,9,   -999.0,0,   -999.0,9,   -999.0,9,  -999.00,9,  -999.0,-999.0000,-999.000,-999.000,  1.0237,-999.000,9
      06MT22_5,   A10,    37,  2,    307,2,19930109,1800,-29.9997, -27.5680, 4881,   4255.0,   1.1460,  34.7550,2,-999.0000,9,    226.1,2,    95.31,2,    30.26,9,     2.06,2,    0.009,2,    0.013,2,    0.097,2, -999.000,9,-999.0000,9,  -999.00,9,   -999.0,9,-999.000,9,  -999.00,9,   -999.0,0,   -999.0,9,   -999.0,9,  -999.00,9,  -999.0,-999.0000,-999.000,-999.000,  0.8090,-999.000,9
      06MT22_5,   A10,    37,  2,    306,2,19930109,1800,-29.9997, -27.5680, 4881,   4505.0,   1.1090,  34.7490,2,  34.7480,2,   -999.0,9,  -999.00,9,  -999.00,9,  -999.00,9,    0.015,2,    0.015,2,    0.097,2, -999.000,9,-999.0000,9,  -999.00,9,   -999.0,9,-999.000,9,  -999.00,9,   -999.0,0,   -999.0,9,   -999.0,9,  -999.00,9,  -999.0,-999.0000,-999.000,-999.000,  0.7452,-999.000,9
      06MT22_5,   A10,    37,  2,    305,2,19930109,1800,-29.9997, -27.5680, 4881,   4765.0,   1.0940,  34.7430,2,-999.0000,9,    226.5,2,    99.84,2,    30.76,9,     2.13,2,    0.021,2,    0.011,2,    0.124,2, -999.000,9,-999.0000,9,  -999.00,9,   -999.0,9,-999.000,9,  -999.00,9,   -999.0,0,   -999.0,9,   -999.0,9,  -999.00,9,  -999.0,-999.0000,-999.000,-999.000,  0.7009,-999.000,9
      06MT22_5,   A10,    37,  2,    304,2,19930109,1800,-29.9997, -27.5680, 4881,   4765.0,   1.0940,  34.7430,2,-999.0000,9,    224.1,2,    99.92,2,    30.94,9,     2.15,2,    0.020,2,    0.017,2,    0.130,2, -999.000,9,-999.0000,9,  -999.00,9,   -999.0,9,-999.000,9,  -999.00,9,   -999.0,0,   -999.0,9,   -999.0,9,  -999.00,9,  -999.0,-999.0000,-999.000,-999.000,  0.7009,-999.000,9
      06MT22_5,   A10,    37,  2,    303,2,19930109,1800,-29.9997, -27.5680, 4881,   4868.0,   1.1010,  34.7420,2,-999.0000,9,    223.3,2,   100.03,2,    30.91,9,     2.09,2,    0.034,2,    0.027,2,    0.189,2, -999.000,9,-999.0000,9,  -999.00,9,   -999.0,9,-999.000,9,  -999.00,9,   -999.0,0,   -999.0,9,   -999.0,9,  -999.00,9,  -999.0,-999.0000,-999.000,-999.000,  0.6956,-999.000,9
      06MT22_5,   A10,    37,  2,    301,2,19930109,1800,-29.9997, -27.5680, 4881,   4949.0,   1.1080,  34.7420,2,-999.0000,9,   -999.0,9,  -999.00,9,  -999.00,9,  -999.00,9,    0.057,2,    0.054,4,    0.230,2, -999.000,9,-999.0000,9,  -999.00,9,   -999.0,9,-999.000,9,  -999.00,9,   -999.0,0,   -999.0,9,   -999.0,9,  -999.00,9,  -999.0,-999.0000,-999.000,-999.000,  0.6841,-999.000,9
      06MT22_5,   A10,    37,  2,    302,2,19930109,1800,-29.9997, -27.5680, 4881,   4950.0,   1.1060,  34.7410,2,  34.7400,2,    225.3,2,   100.25,2,    30.97,9,     2.09,2,    0.028,2,    0.016,2,    0.171,2, -999.000,9,-999.0000,9,  -999.00,9,   -999.0,9,-999.000,9,  -999.00,9,   -999.0,0,   -999.0,9,   -999.0,9,  -999.00,9,  -999.0,-999.0000,-999.000,-999.000,  0.6907,-999.000,9
      06MT22_5,   A10,    38,  1,    217,2,19930110,0200,-29.9980, -26.7190, 5323,     12.0,  22.6200,  35.8400,2,  35.8350,2,    222.6,2,     0.32,2,     0.03,9,     0.14,2, -999.000,9, -999.000,9, -999.000,9, -999.000,9,-999.0000,9,  -999.00,9,   -999.0,9,-999.000,9,  -999.00,9,   -999.0,9,   -999.0,9,   -999.0,9,  -999.00,9,  -999.0,-999.0000,-999.000,-999.000, 22.6176,-999.000,9
      06MT22_5,   A10,    38,  1,    215,2,19930110,0200,-29.9980, -26.7190, 5323,     12.0,  22.6270,  35.8420,2,-999.0000,9,   -999.0,9,  -999.00,9,  -999.00,9,  -999.00,9, -999.000,9, -999.000,9, -999.000,9, -999.000,9,-999.0000,9,  -999.00,9,   -999.0,9,-999.000,9,  -999.00,9,   2040.6,2,   -999.0,9,   -999.0,9,  -999.00,9,  -999.0,-999.0000,-999.000,-999.000, 22.6246,-999.000,9
      06MT22_5,   A10,    38,  1,    214,2,19930110,0200,-29.9980, -26.7190, 5323,     32.0,  21.7120,  35.7720,2,-999.0000,9,    229.8,2,     0.28,2,     0.02,9,     0.10,2,    2.151,2,    1.180,2,    2.535,2,    0.941,2,-999.0000,1,  -999.00,1,   -999.0,9,-999.000,1,  -999.00,9,   2041.6,2,   -999.0,9,   -999.0,9,  -999.00,9,  -999.0,-999.0000,-999.000,-999.000, 21.7057,   0.023,9
      06MT22_5,   A10,    38,  1,    213,2,19930110,0200,-29.9980, -26.7190, 5323,     52.0,  20.0590,  35.9870,2,-999.0000,9,    241.4,2,     0.28,2,     0.03,9,     0.09,2, -999.000,9, -999.000,9, -999.000,9, -999.000,9,-999.0000,9,  -999.00,9,   -999.0,9,-999.000,9,  -999.00,9,   2047.1,2,   -999.0,9,   -999.0,9,  -999.00,9,  -999.0,-999.0000,-999.000,-999.000, 20.0494,-999.000,9
      06MT22_5,   A10,    38,  1,    212,2,19930110,0200,-29.9980, -26.7190, 5323,     72.0,  19.2060,  35.9870,2,-999.0000,9,    238.4,2,     0.28,2,     0.03,9,     0.13,2,    2.349,2,    1.278,2,    2.242,2,    0.943,2,   1.7154,2,    -1.40,2,   -999.0,9,   7.008,2,  -999.00,9,   2051.8,2,   -999.0,9,   -999.0,9,  -999.00,9,  -999.0,  0.0069,   0.250,   0.028, 19.1930,   0.022,9
      06MT22_5,   A10,    38,  1,    211,2,19930110,0200,-29.9980, -26.7190, 5323,    102.0,  17.9800,  35.8360,2,-999.0000,9,    236.1,2,     0.32,2,     0.04,9,     0.15,2, -999.000,9, -999.000,9, -999.000,9, -999.000,9,-999.0000,9,  -999.00,9,   -999.0,9,-999.000,9,  -999.00,9,   2058.4,2,   -999.0,9,   -999.0,9,  -999.00,9,  -999.0,-999.0000,-999.000,-999.000, 17.9625,-999.000,9
      06MT22_5,   A10,    38,  1,    210,2,19930110,0200,-29.9980, -26.7190, 5323,    152.0,  16.7110,  35.6240,2,  35.6210,2,    224.4,2,     0.47,2,     0.15,9,     0.20,2, -999.000,9, -999.000,9, -999.000,9, -999.000,9,-999.0000,9,  -999.00,9,   -999.0,9,-999.000,9,  -999.00,9,   2063.6,2,   -999.0,9,   -999.0,9,  -999.00,9,  -999.0,-999.0000,-999.000,-999.000, 16.6861,-999.000,9
      06MT22_5,   A10,    38,  1,    209,2,19930110,0200,-29.9980, -26.7190, 5323,    202.0,  15.5340,  35.4950,2,-999.0000,9,    220.1,2,     1.39,2,     3.39,9,     0.40,2,    2.492,2,    1.332,2,    1.061,2,    0.753,3,-999.0000,1,  -999.00,1,   -999.0,9,-999.000,1,  -999.00,9,   2081.9,2,   -999.0,9,   -999.0,9,  -999.00,9,  -999.0,-999.0000,-999.000,-999.000, 15.5028,   0.081,9
      06MT22_5,   A10,    38,  1,    208,2,19930110,0200,-29.9980, -26.7190, 5323,    301.0,  13.8830,  35.3260,2,-999.0000,9,    214.0,2,     2.68,2,     7.73,9,     0.60,2, -999.000,9, -999.000,9, -999.000,9, -999.000,9,-999.0000,9,  -999.00,9,   -999.0,9,-999.000,9,  -999.00,9,   2105.3,2,   -999.0,9,   -999.0,9,  -999.00,9,  -999.0,-999.0000,-999.000,-999.000, 13.8399,-999.000,9
      06MT22_5,   A10,    38,  1,    207,2,19930110,0200,-29.9980, -26.7190, 5323,    401.0,  12.1180,  35.0980,2,-999.0000,9,    209.7,2,     4.25,2,    12.17,9,     0.89,2,    2.075,2,    1.080,2,    0.825,2,    0.623,2,   1.7404,2,     1.09,2,   -999.0,9,   7.322,2,  -999.00,9,   2112.8,2,   -999.0,9,   -999.0,9,  -999.00,9,  -999.0,  0.0070,   0.250,   0.029, 12.0653,   0.017,9
      06MT22_5,   A10,    38,  1,    206,2,19930110,0200,-29.9980, -26.7190, 5323,    500.0,   9.9000,  34.8040,2,-999.0000,9,    207.7,2,     6.89,2,    17.28,9,     1.23,2, -999.000,9, -999.000,9, -999.000,9, -999.000,9,-999.0000,9,  -999.00,9,   -999.0,9,-999.000,9,  -999.00,9,   2131.1,2,   -999.0,9,   -999.0,9,  -999.00,9,  -999.0,-999.0000,-999.000,-999.000,  9.8419,-999.000,9
      06MT22_5,   A10,    38,  1,    205,2,19930110,0200,-29.9980, -26.7190, 5323,    601.0,   7.8620,  34.5680,2,-999.0000,9,    213.4,2,    10.03,2,    22.58,9,     1.55,2,    1.712,2,    0.867,2,    1.745,2,    0.328,2,   1.7610,5,     1.16,3,   -999.0,9,   7.589,5,  -999.00,9,   2146.3,2,   -999.0,9,   -999.0,9,  -999.00,9,  -999.0,  0.0079,   0.250,   0.034,  7.8008,   0.011,9
      06MT22_5,   A10,    38,  1,    204,2,19930110,0200,-29.9980, -26.7190, 5323,    700.0,   6.3080,  34.4140,2,-999.0000,9,    220.6,2,    13.50,2,    25.70,9,     1.76,2, -999.000,9, -999.000,9, -999.000,9, -999.000,9,-999.0000,9,  -999.00,9,   -999.0,9,-999.000,9,  -999.00,9,   2154.7,2,   -999.0,9,   -999.0,9,  -999.00,9,  -999.0,-999.0000,-999.000,-999.000,  6.2444,-999.000,9
      06MT22_5,   A10,    38,  1,    203,2,19930110,0200,-29.9980, -26.7190, 5323,    801.0,   4.9540,  34.3130,2,-999.0000,9,    230.2,2,    18.39,2,    28.17,9,     1.95,2,    1.460,2,    0.720,2,    2.519,2,    0.199,2,   1.7757,7,     1.39,2,   -999.0,9,   7.681,7,  -999.00,9,   2164.2,2,   -999.0,9,   -999.0,9,  -999.00,9,  -999.0,  0.0071,   0.250,   0.031,  4.8890,   0.007,9
      06MT22_5,   A10,    38,  1,    202,2,19930110,0200,-29.9980, -26.7190, 5323,    900.0,   4.2440,  34.2950,2,-999.0000,9,    227.4,2,    24.54,2,    30.04,9,     2.02,2, -999.000,9, -999.000,9, -999.000,9, -999.000,9,-999.0000,9,  -999.00,9,   -999.0,9,-999.000,9,  -999.00,9,   2176.1,2,   -999.0,9,   -999.0,9,  -999.00,9,  -999.0,-999.0000,-999.000,-999.000,  4.1752,-999.000,9
      06MT22_5,   A10,    38,  1,    201,2,19930110,0200,-29.9980, -26.7190, 5323,   1001.0,   3.6380,  34.3060,2,  34.3120,2,    221.0,2,    31.77,2,    31.52,9,     2.19,2,    0.772,2,    0.398,2,    1.906,2,    0.080,2,   1.7891,2,     2.76,2,   -999.0,9,   7.815,2,  -999.00,9,   2190.2,2,   -999.0,9,   -999.0,9,  -999.00,9,  -999.0,  0.0072,   0.250,   0.031,  3.5654,   0.047,9