BOTTLE,20030417WHPSIOSA
EXPOCODE,SECT_ID,STNNBR,CASTNO,BTLNBR,BTLNBR_FLAG_W,DATE,TIME,LATITUDE,LONGITUDE,DEPTH,CTDPRS,CTDTMP,CTDSAL,CTDSAL_FLAG_W,SALNTY,SALNTY_FLAG_W,OXYGEN,OXYGEN_FLAG_W,SILCAT,SILCAT_FLAG_W,NO2+NO3,NO2+NO3_FLAG_W,PHSPHT,PHSPHT_FLAG_W,CFC-11,CFC-11_FLAG_W,CFC-12,CFC-12_FLAG_W,CCL4,CCL4_FLAG_W,TRITUM,TRITUM_FLAG_W,HELIUM,HELIUM_FLAG_W,DELHE3,DELHE3_FLAG_W,DELC14,DELC14_FLAG_W,NEON,NEON_FLAG_W,O18O16,O18O16_FLAG_W,TCARBN,TCARBN_FLAG_W,PCO2,PCO2_FLAG_W,ALKALI,ALKALI_FLAG_W,PH,PH_FLAG_W,C14ERR,HELIER,DELHER,NEONER,THETA,TRITER,TRITER_FLAG_W
,,,,,,,,,,,DBAR,ITS-90,PSS-78,,PSS-78,,UMOL/KG,,UMOL/KG,,UMOL/KG,,UMOL/KG,,PMOL/KG,,PMOL/KG,,PMOL/KG,,TU,,NMOL/KG,,PERCNT,,/MILLE,,NMOL/KG,,MILLE,,UMOL/KG,,UATM,,UMOL/KG,,,,/MILLE,NMOL/KG,PERCNT,NMOL/KG,ITS-90,TU,
      06MT22_5,   A10,    68,  2,    324,2,19930119,1117,-29.9992,  -3.9925, 3977,     10.0,  24.8140,  36.0540,2,  36.0750,2,   -999.0,9,  -999.00,9,  -999.00,9,  -999.00,9, -999.000,9, -999.000,9, -999.000,9, -999.000,9,-999.0000,9,  -999.00,9,   -999.0,9,-999.000,9,  -999.00,9,   -999.0,9,   -999.0,9,   -999.0,9,  -999.00,9,  -999.0,-999.0000,-999.000,-999.000, 24.8118,-999.000,9
      06MT22_5,   A10,    68,  2,    323,2,19930119,1117,-29.9992,  -3.9925, 3977,     10.0,  24.9240,  36.0780,2,-999.0000,9,   -999.0,9,  -999.00,9,  -999.00,9,  -999.00,9, -999.000,9, -999.000,9, -999.000,9, -999.000,9,-999.0000,9,  -999.00,9,   -999.0,9,-999.000,9,  -999.00,9,   2064.8,2,   -999.0,9,   -999.0,9,  -999.00,9,  -999.0,-999.0000,-999.000,-999.000, 24.9218,-999.000,9
      06MT22_5,   A10,    68,  2,    322,2,19930119,1117,-29.9992,  -3.9925, 3977,    399.0,  11.2930,  34.9450,2,-999.0000,9,    207.5,2,     5.86,2,    14.62,9,     1.01,2,    2.190,2,    1.149,2,    1.067,2, -999.000,9,-999.0000,9,  -999.00,9,   -999.0,9,-999.000,9,  -999.00,9,   2121.4,2,   -999.0,9,   2305.0,2,  -999.00,9,  -999.0,-999.0000,-999.000,-999.000, 11.2428,-999.000,9
      06MT22_5,   A10,    68,  2,    321,2,19930119,1117,-29.9992,  -3.9925, 3977,    499.0,   9.3590,  34.7180,2,-999.0000,9,   -999.0,9,  -999.00,9,  -999.00,9,  -999.00,9, -999.000,9, -999.000,9, -999.000,9, -999.000,9,-999.0000,9,  -999.00,9,   -999.0,9,-999.000,9,  -999.00,9,   -999.0,9,   -999.0,9,   -999.0,9,  -999.00,9,  -999.0,-999.0000,-999.000,-999.000,  9.3028,-999.000,9
      06MT22_5,   A10,    68,  2,    320,2,19930119,1117,-29.9992,  -3.9925, 3977,    600.0,   8.0310,  34.5920,2,  34.5740,2,    194.0,2,    13.49,2,    24.51,9,     1.63,2,    1.582,2,    0.790,2,    1.585,2, -999.000,9,-999.0000,9,  -999.00,9,   -999.0,9,-999.000,9,  -999.00,9,   2159.2,2,   -999.0,9,   2293.3,2,  -999.00,9,  -999.0,-999.0000,-999.000,-999.000,  7.9689,-999.000,9
      06MT22_5,   A10,    68,  2,    319,2,19930119,1117,-29.9992,  -3.9925, 3977,    699.0,   6.0410,  34.4100,2,-999.0000,9,    210.5,2,    17.29,2,    27.21,9,     1.87,2,    1.468,2,    0.721,2,    2.088,2, -999.000,9,-999.0000,9,  -999.00,9,   -999.0,9,-999.000,9,  -999.00,9,   2163.8,2,   -999.0,9,   2292.3,2,  -999.00,9,  -999.0,-999.0000,-999.000,-999.000,  5.9789,-999.000,9
      06MT22_5,   A10,    68,  2,    318,2,19930119,1117,-29.9992,  -3.9925, 3977,    799.0,   4.9370,  34.3420,2,-999.0000,9,    216.1,2,    22.74,2,    29.33,9,     2.04,2,    1.259,2,    0.618,2,    2.196,2, -999.000,9,-999.0000,9,  -999.00,9,   -999.0,9,-999.000,9,  -999.00,9,   2174.7,2,   -999.0,9,   2293.3,2,  -999.00,9,  -999.0,-999.0000,-999.000,-999.000,  4.8722,-999.000,9
      06MT22_5,   A10,    68,  2,    317,2,19930119,1117,-29.9992,  -3.9925, 3977,    899.0,   4.1810,  34.3260,2,-999.0000,9,    213.4,2,    29.60,2,    30.88,9,     2.15,2,    0.975,2,    0.470,2,    1.979,2, -999.000,9,-999.0000,9,  -999.00,9,   -999.0,9,-999.000,9,  -999.00,9,   2187.6,2,   -999.0,9,   2303.2,2,  -999.00,9,  -999.0,-999.0000,-999.000,-999.000,  4.1126,-999.000,9
      06MT22_5,   A10,    68,  2,    316,2,19930119,1117,-29.9992,  -3.9925, 3977,   1000.0,   3.6870,  34.3520,2,  34.3590,2,    196.7,2,    37.57,2,    32.16,9,     2.24,2,    0.658,2,    0.333,2,    1.558,2, -999.000,9,-999.0000,9,  -999.00,9,   -999.0,9,-999.000,9,  -999.00,9,   2200.1,2,   -999.0,9,   2306.2,2,  -999.00,9,  -999.0,-999.0000,-999.000,-999.000,  3.6140,-999.000,9
      06MT22_5,   A10,    68,  2,    315,2,19930119,1117,-29.9992,  -3.9925, 3977,   1199.0,   3.1470,  34.4700,2,-999.0000,9,    188.3,2,    51.70,2,    33.32,9,     2.32,2,    0.223,2,    0.106,2,    0.764,2, -999.000,9,-999.0000,9,  -999.00,9,   -999.0,9,-999.000,9,  -999.00,9,   2224.4,2,   -999.0,9,   2323.0,2,  -999.00,9,  -999.0,-999.0000,-999.000,-999.000,  3.0620,-999.000,9
      06MT22_5,   A10,    68,  2,    314,2,19930119,1117,-29.9992,  -3.9925, 3977,   1399.0,   2.9400,  34.5910,2,-999.0000,9,    186.7,2,    57.02,2,    32.66,9,     2.30,2,    0.072,2,    0.027,2,    0.363,2, -999.000,9,-999.0000,9,  -999.00,9,   -999.0,9,-999.000,9,  -999.00,9,   2229.7,2,   -999.0,9,   2327.9,2,  -999.00,9,  -999.0,-999.0000,-999.000,-999.000,  2.8409,-999.000,9
      06MT22_5,   A10,    68,  2,    313,2,19930119,1117,-29.9992,  -3.9925, 3977,   1599.0,   2.8370,  34.6950,2,  34.6940,2,    195.5,2,    55.91,2,    30.63,9,     2.14,2,    0.026,2,    0.006,2,    0.152,2, -999.000,9,-999.0000,9,  -999.00,9,   -999.0,9,-999.000,9,  -999.00,9,   2224.4,2,   -999.0,9,   2331.9,2,  -999.00,9,  -999.0,-999.0000,-999.000,-999.000,  2.7225,-999.000,9
      06MT22_5,   A10,    68,  2,    312,2,19930119,1117,-29.9992,  -3.9925, 3977,   1801.0,   2.7580,  34.7600,2,-999.0000,9,    205.2,2,    54.02,2,    28.71,9,     1.95,2,    0.014,2,    0.004,2,    0.081,2, -999.000,9,-999.0000,9,  -999.00,9,   -999.0,9,-999.000,9,  -999.00,9,   2216.1,2,   -999.0,9,   2334.8,2,  -999.00,9,  -999.0,-999.0000,-999.000,-999.000,  2.6269,-999.000,9
      06MT22_5,   A10,    68,  2,    311,2,19930119,1117,-29.9992,  -3.9925, 3977,   1999.0,   2.6500,  34.7970,2,-999.0000,9,    215.6,2,    53.52,2,    27.43,9,     1.85,2,    0.005,2,    0.004,2,    0.050,2, -999.000,9,-999.0000,9,  -999.00,9,   -999.0,9,-999.000,9,  -999.00,9,   2210.5,2,   -999.0,9,   2334.8,2,  -999.00,9,  -999.0,-999.0000,-999.000,-999.000,  2.5032,-999.000,9
      06MT22_5,   A10,    68,  2,    310,2,19930119,1117,-29.9992,  -3.9925, 3977,   2251.0,   2.5230,  34.8280,2,  34.8270,2,    224.8,2,    52.74,2,    26.10,9,     1.81,2,    0.004,2,    0.003,2,    0.034,2, -999.000,9,-999.0000,9,  -999.00,9,   -999.0,9,-999.000,9,  -999.00,9,   2206.4,2,   -999.0,9,   2337.8,2,  -999.00,9,  -999.0,-999.0000,-999.000,-999.000,  2.3555,-999.000,9
      06MT22_5,   A10,    68,  2,    309,2,19930119,1117,-29.9992,  -3.9925, 3977,   2501.0,   2.4530,  34.8480,2,-999.0000,9,    231.6,2,    51.41,2,    25.27,9,     1.71,2, -999.000,9, -999.000,9, -999.000,9, -999.000,9,-999.0000,9,  -999.00,9,   -999.0,9,-999.000,9,  -999.00,9,   2203.6,2,   -999.0,9,   2339.3,2,  -999.00,9,  -999.0,-999.0000,-999.000,-999.000,  2.2633,-999.000,9
      06MT22_5,   A10,    68,  2,    308,2,19930119,1117,-29.9992,  -3.9925, 3977,   2752.0,   2.4040,  34.8620,2,-999.0000,9,    235.6,2,    50.59,2,    24.74,9,     1.66,2,    0.000,2,    0.000,2,    0.009,2, -999.000,9,-999.0000,9,  -999.00,9,   -999.0,9,-999.000,9,  -999.00,9,   2199.0,2,   -999.0,9,   2343.3,2,  -999.00,9,  -999.0,-999.0000,-999.000,-999.000,  2.1911,-999.000,9
      06MT22_5,   A10,    68,  2,    307,2,19930119,1117,-29.9992,  -3.9925, 3977,   3003.0,   2.3720,  34.8710,2,  34.8710,2,    237.5,2,    50.46,2,    24.09,9,     1.62,2, -999.000,9, -999.000,9, -999.000,9, -999.000,9,-999.0000,9,  -999.00,9,   -999.0,9,-999.000,9,  -999.00,9,   2200.1,2,   -999.0,9,   2348.3,2,  -999.00,9,  -999.0,-999.0000,-999.000,-999.000,  2.1349,-999.000,9
      06MT22_5,   A10,    68,  2,    306,2,19930119,1117,-29.9992,  -3.9925, 3977,   3203.0,   2.3600,  34.8750,2,-999.0000,9,    237.5,2,    51.19,2,    24.27,9,     1.60,2,    0.002,2,    0.000,2,    0.005,2, -999.000,9,-999.0000,9,  -999.00,9,   -999.0,9,-999.000,9,  -999.00,9,   2201.5,2,   -999.0,9,   2344.3,2,  -999.00,9,  -999.0,-999.0000,-999.000,-999.000,  2.1026,-999.000,9
      06MT22_5,   A10,    68,  2,    305,2,19930119,1117,-29.9992,  -3.9925, 3977,   3502.0,   2.3560,  34.8810,2,-999.0000,9,    236.8,2,    51.36,2,    24.04,9,     1.59,2, -999.000,9, -999.000,9, -999.000,9, -999.000,9,-999.0000,9,  -999.00,9,   -999.0,9,-999.000,9,  -999.00,9,   2205.5,2,   -999.0,9,   2351.2,2,  -999.00,9,  -999.0,-999.0000,-999.000,-999.000,  2.0671,-999.000,9
      06MT22_5,   A10,    68,  2,    304,2,19930119,1117,-29.9992,  -3.9925, 3977,   3763.0,   2.3630,  34.8830,2,  34.8820,2,    235.3,2,    51.72,2,    24.00,9,     1.58,2,   -0.001,2,    0.001,2,    0.001,2, -999.000,9,-999.0000,9,  -999.00,9,   -999.0,9,-999.000,9,  -999.00,9,   2216.9,2,   -999.0,9,   2347.3,2,  -999.00,9,  -999.0,-999.0000,-999.000,-999.000,  2.0454,-999.000,9
      06MT22_5,   A10,    68,  2,    303,2,19930119,1117,-29.9992,  -3.9925, 3977,   3920.0,   2.3710,  34.8820,2,-999.0000,9,    235.2,2,    51.77,2,    23.82,9,     1.59,2,    0.001,2,    0.001,2,    0.003,2, -999.000,9,-999.0000,9,  -999.00,9,   -999.0,9,-999.000,9,  -999.00,9,   2210.3,2,   -999.0,9,   2355.2,2,  -999.00,9,  -999.0,-999.0000,-999.000,-999.000,  2.0356,-999.000,9
      06MT22_5,   A10,    68,  2,    301,2,19930119,1117,-29.9992,  -3.9925, 3977,   4019.0,   2.3720,  34.8820,2,  34.8820,2,    234.6,2,    52.05,2,    23.90,9,     1.60,2,    0.003,2,    0.000,2,    0.005,2, -999.000,9,-999.0000,9,  -999.00,9,   -999.0,9,-999.000,9,  -999.00,9,   2211.6,2,   -999.0,9,   2357.5,2,  -999.00,9,  -999.0,-999.0000,-999.000,-999.000,  2.0253,-999.000,9
      06MT22_5,   A10,    68,  2,    302,2,19930119,1117,-29.9992,  -3.9925, 3977,   4020.0,   2.3700,  34.8820,2,-999.0000,9,   -999.0,9,  -999.00,9,  -999.00,9,  -999.00,9,    0.002,2,    0.001,2,    0.004,2, -999.000,9,-999.0000,9,  -999.00,9,   -999.0,9,-999.000,9,  -999.00,9,   -999.0,9,   -999.0,9,   -999.0,9,  -999.00,9,  -999.0,-999.0000,-999.000,-999.000,  2.0232,-999.000,9
      06MT22_5,   A10,    69,  1,    216,2,19930119,1632,-30.0000,  -3.2000, 4450,      6.0,  24.9270,  35.9490,2,  35.9490,2,   -999.0,9,  -999.00,9,  -999.00,9,  -999.00,9,    1.947,2,    1.062,2,    2.428,2, -999.000,9,-999.0000,1,  -999.00,1,   -999.0,9,-999.000,1,  -999.00,9,   -999.0,0,   -999.0,9,   -999.0,9,  -999.00,9,  -999.0,-999.0000,-999.000,-999.000, 24.9257,-999.000,9
      06MT22_5,   A10,    69,  1,    217,2,19930119,1632,-30.0000,  -3.2000, 4450,      7.0,  24.9460,  35.9510,2,-999.0000,9,    214.1,2,     0.86,2,     0.03,9,     0.20,2, -999.000,9, -999.000,9, -999.000,9, -999.000,9,-999.0000,9,  -999.00,9,   -999.0,9,-999.000,9,  -999.00,9,   -999.0,0,   -999.0,9,   -999.0,9,  -999.00,9,  -999.0,-999.0000,-999.000,-999.000, 24.9445,-999.000,9
      06MT22_5,   A10,    69,  1,    215,2,19930119,1632,-30.0000,  -3.2000, 4450,     11.0,  24.5670,  35.9460,2,-999.0000,9,   -999.0,9,  -999.00,9,  -999.00,9,  -999.00,9,    1.943,6,    1.064,6,    2.440,6, -999.000,9,-999.0000,9,  -999.00,9,   -999.0,9,-999.000,9,  -999.00,9,   -999.0,0,   -999.0,9,   -999.0,9,  -999.00,9,  -999.0,-999.0000,-999.000,-999.000, 24.5646,-999.000,9
      06MT22_5,   A10,    69,  1,    211,2,19930119,1632,-30.0000,  -3.2000, 4450,     11.0,  24.6070,  35.9470,2,-999.0000,9,    216.8,2,     1.14,2,     0.07,9,     0.21,2, -999.000,9, -999.000,9, -999.000,9,    0.999,2,   1.6860,2,    -1.62,2,   -999.0,9,   6.741,2,  -999.00,9,   -999.0,0,   -999.0,9,   -999.0,9,  -999.00,9,  -999.0,  0.0059,   0.250,   0.024, 24.6046,   0.024,9
      06MT22_5,   A10,    69,  1,    210,2,19930119,1632,-30.0000,  -3.2000, 4450,     32.0,  22.0730,  35.8460,2,  35.8410,2,    233.9,2,     1.14,2,     0.03,9,     0.21,2, -999.000,9, -999.000,9, -999.000,9,   -0.002,4,   1.7003,5,    -1.34,3,   -999.0,9,   6.898,5,  -999.00,9,   -999.0,0,   -999.0,9,   -999.0,9,  -999.00,9,  -999.0,  0.0068,   0.250,   0.028, 22.0666,   0.088,9
      06MT22_5,   A10,    69,  1,    209,2,19930119,1632,-30.0000,  -3.2000, 4450,     51.0,  18.9900,  35.6590,2,-999.0000,9,    254.4,2,     0.83,2,     0.00,9,     0.20,2, -999.000,9, -999.000,9, -999.000,9,    0.848,2,   1.7119,2,    -1.53,2,   -999.0,9,   7.041,2,  -999.00,9,   -999.0,0,   -999.0,9,   -999.0,9,  -999.00,9,  -999.0,  0.0060,   0.250,   0.025, 18.9809,   0.021,9
      06MT22_5,   A10,    69,  1,    208,2,19930119,1632,-30.0000,  -3.2000, 4450,     71.0,  17.4030,  35.6120,2,-999.0000,9,    260.1,2,     0.78,2,     0.03,9,     0.21,2, -999.000,9, -999.000,9, -999.000,9,    0.877,2,   1.7378,2,    -1.32,2,   -999.0,9,   7.149,2,  -999.00,9,   -999.0,0,   -999.0,9,   -999.0,9,  -999.00,9,  -999.0,  0.0061,   0.250,   0.025, 17.3911,   0.024,9
      06MT22_5,   A10,    69,  1,    207,2,19930119,1632,-30.0000,  -3.2000, 4450,    101.0,  16.4070,  35.5840,2,  35.5800,2,    253.6,2,     0.88,2,     0.02,9,     0.22,2, -999.000,9, -999.000,9, -999.000,9, -999.000,9,-999.0000,9,  -999.00,9,   -999.0,9,-999.000,9,  -999.00,9,   -999.0,0,   -999.0,9,   -999.0,9,  -999.00,9,  -999.0,-999.0000,-999.000,-999.000, 16.3907,-999.000,9
      06MT22_5,   A10,    69,  1,    206,2,19930119,1632,-30.0000,  -3.2000, 4450,    151.0,  15.6850,  35.5330,2,-999.0000,9,    234.6,2,     1.83,2,     2.03,9,     0.32,2, -999.000,9, -999.000,9, -999.000,9, -999.000,9,-999.0000,9,  -999.00,9,   -999.0,9,-999.000,9,  -999.00,9,   -999.0,0,   -999.0,9,   -999.0,9,  -999.00,9,  -999.0,-999.0000,-999.000,-999.000, 15.6614,-999.000,9
      06MT22_5,   A10,    69,  1,    205,2,19930119,1632,-30.0000,  -3.2000, 4450,    201.0,  14.7740,  35.3650,2,-999.0000,9,    230.6,2,     2.29,2,     3.92,9,     0.42,2, -999.000,9, -999.000,9, -999.000,9, -999.000,9,-999.0000,9,  -999.00,9,   -999.0,9,-999.000,9,  -999.00,9,   -999.0,0,   -999.0,9,   -999.0,9,  -999.00,9,  -999.0,-999.0000,-999.000,-999.000, 14.7438,-999.000,9
      06MT22_5,   A10,    69,  1,    204,2,19930119,1632,-30.0000,  -3.2000, 4450,    301.0,  13.5250,  35.2870,2,  35.2830,2,    238.1,2,     3.43,2,     6.65,9,     0.60,2, -999.000,9, -999.000,9, -999.000,9, -999.000,9,-999.0000,9,  -999.00,9,   -999.0,9,-999.000,9,  -999.00,9,   -999.0,0,   -999.0,9,   -999.0,9,  -999.00,9,  -999.0,-999.0000,-999.000,-999.000, 13.4822,-999.000,9
      06MT22_5,   A10,    69,  1,    203,2,19930119,1632,-30.0000,  -3.2000, 4450,    400.0,  13.0730,  35.2040,2,-999.0000,9,    231.2,2,     4.07,2,     8.13,9,     0.66,2, -999.000,9, -999.000,9, -999.000,9, -999.000,9,-999.0000,9,  -999.00,9,   -999.0,9,-999.000,9,  -999.00,9,   -999.0,0,   -999.0,9,   -999.0,9,  -999.00,9,  -999.0,-999.0000,-999.000,-999.000, 13.0175,-999.000,9
      06MT22_5,   A10,    69,  1,    202,2,19930119,1632,-30.0000,  -3.2000, 4450,    500.0,  11.1720,  34.9390,2,-999.0000,9,    212.3,2,     5.62,2,    13.91,9,     1.02,2, -999.000,9, -999.000,9, -999.000,9, -999.000,9,-999.0000,9,  -999.00,9,   -999.0,9,-999.000,9,  -999.00,9,   -999.0,0,   -999.0,9,   -999.0,9,  -999.00,9,  -999.0,-999.0000,-999.000,-999.000, 11.1091,-999.000,9
      06MT22_5,   A10,    69,  1,    201,2,19930119,1632,-30.0000,  -3.2000, 4450,    599.0,   9.3980,  34.7250,2,-999.0000,9,   -999.0,9,  -999.00,9,  -999.00,9,  -999.00,9, -999.000,9, -999.000,9, -999.000,9, -999.000,9,-999.0000,9,  -999.00,9,   -999.0,9,-999.000,9,  -999.00,9,   -999.0,0,   -999.0,9,   -999.0,9,  -999.00,9,  -999.0,-999.0000,-999.000,-999.000,  9.3299,-999.000,9
      06MT22_5,   A10,    69,  1,    201,2,19930119,1632,-30.0000,  -3.2000, 4450,    599.0,   9.3940,  34.7250,2,  34.7250,2,    209.0,2,     8.21,2,    18.62,9,     1.35,2, -999.000,9, -999.000,9, -999.000,9, -999.000,9,-999.0000,9,  -999.00,9,   -999.0,9,-999.000,9,  -999.00,9,   -999.0,0,   -999.0,9,   -999.0,9,  -999.00,9,  -999.0,-999.0000,-999.000,-999.000,  9.3259,-999.000,9