BOTTLE,20030417WHPSIOSA
EXPOCODE,SECT_ID,STNNBR,CASTNO,BTLNBR,BTLNBR_FLAG_W,DATE,TIME,LATITUDE,LONGITUDE,DEPTH,CTDPRS,CTDTMP,CTDSAL,CTDSAL_FLAG_W,SALNTY,SALNTY_FLAG_W,OXYGEN,OXYGEN_FLAG_W,SILCAT,SILCAT_FLAG_W,NO2+NO3,NO2+NO3_FLAG_W,PHSPHT,PHSPHT_FLAG_W,CFC-11,CFC-11_FLAG_W,CFC-12,CFC-12_FLAG_W,CCL4,CCL4_FLAG_W,TRITUM,TRITUM_FLAG_W,HELIUM,HELIUM_FLAG_W,DELHE3,DELHE3_FLAG_W,DELC14,DELC14_FLAG_W,NEON,NEON_FLAG_W,O18O16,O18O16_FLAG_W,TCARBN,TCARBN_FLAG_W,PCO2,PCO2_FLAG_W,ALKALI,ALKALI_FLAG_W,PH,PH_FLAG_W,C14ERR,HELIER,DELHER,NEONER,THETA,TRITER,TRITER_FLAG_W
,,,,,,,,,,,DBAR,ITS-90,PSS-78,,PSS-78,,UMOL/KG,,UMOL/KG,,UMOL/KG,,UMOL/KG,,PMOL/KG,,PMOL/KG,,PMOL/KG,,TU,,NMOL/KG,,PERCNT,,/MILLE,,NMOL/KG,,MILLE,,UMOL/KG,,UATM,,UMOL/KG,,,,/MILLE,NMOL/KG,PERCNT,NMOL/KG,ITS-90,TU,
      06MT22_5,   A10,     3,  1,    212,2,19930101,1902,-28.8332, -43.5847, 3897,     12.0,  23.9730,  36.7530,2,  36.7610,2,    215.3,2,     0.00,2,     0.03,9,     0.01,2,    1.964,2,    1.043,2,    2.362,2,    0.941,2,-999.0000,1,  -999.00,1,   -999.0,9,-999.000,1,  -999.00,9,   -999.0,9,   -999.0,9,   -999.0,9,  -999.00,9,  -999.0,-999.0000,-999.000,-999.000, 23.9705,   0.028,9
      06MT22_5,   A10,     3,  1,    211,2,19930101,1902,-28.8332, -43.5847, 3897,     12.0,  23.9720,  36.7530,2,-999.0000,9,   -999.0,9,  -999.00,9,  -999.00,9,  -999.00,9, -999.000,9, -999.000,9, -999.000,9, -999.000,9,-999.0000,9,  -999.00,9,   -999.0,9,-999.000,9,  -999.00,9,   2054.5,2,   -999.0,9,   2392.1,2,  -999.00,9,  -999.0,-999.0000,-999.000,-999.000, 23.9695,-999.000,9
      06MT22_5,   A10,     3,  1,    210,2,19930101,1902,-28.8332, -43.5847, 3897,     32.0,  23.7440,  36.7640,2,  36.7720,2,    215.6,2,     0.01,2,     0.09,9,     0.06,2,    2.022,2,    1.075,2,    2.299,2, -999.000,9,-999.0000,1,  -999.00,1,   -999.0,9,-999.000,1,  -999.00,9,   2054.7,2,   -999.0,9,   2431.1,2,  -999.00,9,  -999.0,-999.0000,-999.000,-999.000, 23.7373,-999.000,9
      06MT22_5,   A10,     3,  1,    209,2,19930101,1902,-28.8332, -43.5847, 3897,     52.0,  22.8060,  36.7100,2,-999.0000,9,    223.9,2,     0.02,2,     0.06,9,     0.03,2,    2.093,2,    1.133,2,    2.242,2,    0.899,2,-999.0000,1,  -999.00,1,   -999.0,9,-999.000,1,  -999.00,9,   2056.7,2,   -999.0,9,   2428.1,2,  -999.00,9,  -999.0,-999.0000,-999.000,-999.000, 22.7954,   0.027,9
      06MT22_5,   A10,     3,  1,    208,2,19930101,1902,-28.8332, -43.5847, 3897,     71.0,  22.7430,  36.8280,2,-999.0000,9,    221.0,2,     0.17,2,     0.00,9,     0.12,2, -999.000,9, -999.000,9, -999.000,9, -999.000,9,-999.0000,9,  -999.00,9,   -999.0,9,-999.000,9,  -999.00,9,   2061.2,2,   -999.0,9,   2437.1,2,  -999.00,9,  -999.0,-999.0000,-999.000,-999.000, 22.7285,-999.000,9
      06MT22_5,   A10,     3,  1,    207,2,19930101,1902,-28.8332, -43.5847, 3897,    101.0,  21.2110,  36.5600,2,  36.5620,2,    218.6,2,     0.18,2,     0.14,9,     0.08,2,    2.158,2,    1.146,2,    1.693,2,    0.931,2,   1.6806,2,    -0.83,2,   -999.0,9,   6.768,2,  -999.00,9,   2064.4,2,   -999.0,9,   2419.1,2,  -999.00,9,  -999.0,  0.0067,   0.250,   0.027, 21.1914,   0.022,9
      06MT22_5,   A10,     3,  1,    206,2,19930101,1902,-28.8332, -43.5847, 3897,    151.0,  19.8560,  36.3230,2,-999.0000,9,    213.7,2,     0.23,2,     0.86,9,     0.11,2, -999.000,9, -999.000,9, -999.000,9, -999.000,9,-999.0000,9,  -999.00,9,   -999.0,9,-999.000,9,  -999.00,9,   2067.5,2,   -999.0,9,   2400.0,2,  -999.00,9,  -999.0,-999.0000,-999.000,-999.000, 19.8282,-999.000,9
      06MT22_5,   A10,     3,  1,    205,2,19930101,1902,-28.8332, -43.5847, 3897,    201.0,  17.7810,  35.9150,2,-999.0000,9,    210.3,2,     0.62,2,     2.27,9,     0.24,2,    2.342,2,    1.274,2,    0.874,2, -999.000,9,   1.7230,5,    -0.72,3,   -999.0,9,   7.021,5,  -999.00,9,   2075.7,2,   -999.0,9,   2378.9,2,  -999.00,9,  -999.0,  0.0078,   0.250,   0.032, 17.7467,-999.000,9
      06MT22_5,   A10,     3,  1,    204,2,19930101,1902,-28.8332, -43.5847, 3897,    301.0,  14.8820,  35.4370,2,  35.4360,2,    204.4,2,     2.05,2,     7.06,9,     0.53,2,    2.324,2,    1.150,2,    0.481,2,    0.842,2,-999.0000,1,  -999.00,1,   -999.0,9,-999.000,1,  -999.00,9,   2092.4,2,   -999.0,9,   2352.8,2,  -999.00,9,  -999.0,-999.0000,-999.000,-999.000, 14.8363,   0.020,9
      06MT22_5,   A10,     3,  1,    203,2,19930101,1902,-28.8332, -43.5847, 3897,    401.0,  13.3490,  35.2630,2,-999.0000,9,    208.3,2,     2.62,2,     9.78,9,     0.69,2,    2.150,2,    1.104,2,    0.759,3, -999.000,9,   1.7578,7,     0.38,2,   -999.0,9,   7.244,7,  -999.00,9,   2101.8,2,   -999.0,9,   2341.8,2,  -999.00,9,  -999.0,  0.0070,   0.250,   0.029, 13.2925,-999.000,9
      06MT22_5,   A10,     3,  1,    202,2,19930101,1902,-28.8332, -43.5847, 3897,    500.0,  11.2690,  34.9720,2,-999.0000,9,    196.5,2,     5.24,2,    15.71,9,     1.12,2,    1.721,2,    0.914,2,    0.681,2,    0.559,2,   1.7632,7,     0.87,2,   -999.0,9,   7.349,7,  -999.00,9,   2121.4,2,   -999.0,9,   2322.7,2,  -999.00,9,  -999.0,  0.0071,   0.250,   0.029, 11.2056,   0.019,9
      06MT22_5,   A10,     3,  1,    201,2,19930101,1902,-28.8332, -43.5847, 3897,    500.0,  11.2730,  34.9720,2,  34.9740,2,   -999.0,9,  -999.00,9,  -999.00,9,  -999.00,9, -999.000,9, -999.000,9, -999.000,9, -999.000,9,-999.0000,9,  -999.00,9,   -999.0,9,-999.000,9,  -999.00,9,   -999.0,9,   -999.0,9,   -999.0,9,  -999.00,9,  -999.0,-999.0000,-999.000,-999.000, 11.2095,-999.000,9
      06MT22_5,   A10,     3,  2,    324,2,19930101,2032,-28.8333, -43.5877, 3882,      9.0,  23.8610,  36.7540,2,  36.3670,2,   -999.0,9,  -999.00,9,  -999.00,9,  -999.00,9, -999.000,9, -999.000,9, -999.000,9, -999.000,9,-999.0000,1,  -999.00,1,   -999.0,9,-999.000,1,  -999.00,9,   -999.0,9,   -999.0,9,   -999.0,9,  -999.00,9,  -999.0,-999.0000,-999.000,-999.000, 23.8591,-999.000,9
      06MT22_5,   A10,     3,  2,    322,2,19930101,2032,-28.8333, -43.5877, 3882,      9.0,  23.8610,  36.7540,2,-999.0000,9,   -999.0,9,  -999.00,9,  -999.00,9,  -999.00,9, -999.000,9, -999.000,9, -999.000,9, -999.000,9,-999.0000,1,  -999.00,1,   -999.0,9,-999.000,1,  -999.00,9,   -999.0,9,   -999.0,9,   -999.0,9,  -999.00,9,  -999.0,-999.0000,-999.000,-999.000, 23.8591,-999.000,9
      06MT22_5,   A10,     3,  2,    321,2,19930101,2032,-28.8333, -43.5877, 3882,    498.0,  11.2200,  34.9660,2,-999.0000,9,   -999.0,9,  -999.00,9,  -999.00,9,  -999.00,9, -999.000,9, -999.000,9, -999.000,9, -999.000,9,-999.0000,1,  -999.00,1,   -999.0,9,-999.000,1,  -999.00,9,   -999.0,9,   -999.0,9,   -999.0,9,  -999.00,9,  -999.0,-999.0000,-999.000,-999.000, 11.1575,-999.000,9
      06MT22_5,   A10,     3,  2,    320,2,19930101,2032,-28.8333, -43.5877, 3882,    600.0,   9.0570,  34.7080,2,-999.0000,9,    200.1,2,     8.57,2,    21.15,9,     1.43,2,    1.452,2,    0.737,2,    1.097,2,    0.366,2,-999.0000,1,  -999.00,1,   -999.0,9,-999.000,1,  -999.00,9,   2140.1,2,   -999.0,9,   2311.7,2,  -999.00,9,  -999.0,-999.0000,-999.000,-999.000,  8.9907,   0.011,9
      06MT22_5,   A10,     3,  2,    319,2,19930101,2032,-28.8333, -43.5877, 3882,    698.0,   7.1560,  34.5030,2,-999.0000,9,    212.6,2,    11.42,2,    24.92,9,     1.74,2, -999.000,9, -999.000,9, -999.000,9,    0.268,2,   1.7654,5,     0.90,3,   -999.0,9,   7.591,5,  -999.00,9,   2150.6,2,   -999.0,9,   2271.1,2,  -999.00,9,  -999.0,  0.0079,   0.250,   0.034,  7.0882,   0.009,9
      06MT22_5,   A10,     3,  2,    318,2,19930101,2032,-28.8333, -43.5877, 3882,    846.0,   4.9970,  34.3250,2,-999.0000,9,    223.9,2,    18.28,2,    28.64,9,     2.07,2,    1.334,2,    0.657,2,    2.301,2,    0.167,2,   1.7766,2,     1.41,2,   -999.0,9,   7.740,2,  -999.00,9,   2163.4,2,   -999.0,9,   2277.0,2,  -999.00,9,  -999.0,  0.0062,   0.250,   0.027,  4.9278,   0.008,9
      06MT22_5,   A10,     3,  2,    317,2,19930101,2032,-28.8333, -43.5877, 3882,    999.0,   3.8150,  34.2970,2,  34.2980,2,    224.2,2,    28.12,2,    31.19,9,     2.25,2, -999.000,9, -999.000,9, -999.000,9,    0.108,2,   1.7837,5,     2.00,3,   -999.0,9,   7.763,5,  -999.00,9,   2181.9,2,   -999.0,9,   2281.0,2,  -999.00,9,  -999.0,  0.0080,   0.250,   0.035,  3.7412,   0.007,9
      06MT22_5,   A10,     3,  2,    316,2,19930101,2032,-28.8333, -43.5877, 3882,   1199.0,   3.2500,  34.4090,2,-999.0000,9,    198.9,2,    43.63,2,    33.12,9,     2.39,2,    0.270,2,    0.166,2,    0.912,2,    0.055,2,-999.0000,1,  -999.00,1,   -999.0,9,-999.000,1,  -999.00,9,   2211.9,2,   -999.0,9,   2299.7,2,  -999.00,9,  -999.0,-999.0000,-999.000,-999.000,  3.1641,   0.007,9
      06MT22_5,   A10,     3,  2,    315,2,19930101,2032,-28.8333, -43.5877, 3882,   1397.0,   2.9940,  34.5340,2,-999.0000,9,    190.6,2,    51.37,2,    32.96,9,     2.35,2,    0.857,4,    0.406,4,    0.928,3,    0.009,2,   1.7989,2,     6.32,2,   -999.0,9,   7.866,2,  -999.00,9,   2223.4,2,   -999.0,9,   2312.5,2,  -999.00,9,  -999.0,  0.0063,   0.250,   0.027,  2.8946,   0.046,9
      06MT22_5,   A10,     3,  2,    314,2,19930101,2032,-28.8333, -43.5877, 3882,   1599.0,   2.8840,  34.6500,2,  34.6490,2,    196.4,2,    52.69,2,    31.32,9,     2.24,2,    0.028,2,    0.013,2,    0.117,2,    0.014,2,   1.8221,5,     6.44,3,   -999.0,9,   7.881,5,  -999.00,9,   2221.9,2,   -999.0,9,   2311.5,2,  -999.00,9,  -999.0,  0.0082,   0.250,   0.036,  2.7691,   0.004,9
      06MT22_5,   A10,     3,  2,    313,2,19930101,2032,-28.8333, -43.5877, 3882,   1700.0,   3.5780,  34.8250,2,  34.8260,2,    214.8,2,  -999.00,9,  -999.00,9,  -999.00,9,    0.009,2,    0.025,4,    0.094,2,    0.023,2,-999.0000,1,  -999.00,1,   -999.0,9,-999.000,1,  -999.00,9,   2193.4,2,   -999.0,9,   2311.5,2,  -999.00,9,  -999.0,-999.0000,-999.000,-999.000,  3.4451,   0.006,9
      06MT22_5,   A10,     3,  2,    312,2,19930101,2032,-28.8333, -43.5877, 3882,   1799.0,   3.7530,  34.8920,2,  34.8890,2,    226.4,2,  -999.00,9,  -999.00,9,  -999.00,9, -999.000,4, -999.000,4,    0.152,6,    0.049,2,   1.7984,2,     2.86,2,   -999.0,9,   7.840,2,  -999.00,9,   2183.0,2,   -999.0,9,   2307.5,2,  -999.00,9,  -999.0,  0.0063,   0.250,   0.027,  3.6085,   0.004,9
      06MT22_5,   A10,     3,  2,    311,2,19930101,2032,-28.8333, -43.5877, 3882,   1900.0,   3.0540,  34.8000,2,  34.7980,2,    216.3,2,    42.96,2,    27.00,9,     1.88,2,    0.009,2,    0.006,2,    0.039,2,    0.020,2,-999.0000,1,  -999.00,1,   -999.0,9,-999.000,1,  -999.00,9,   2204.2,2,   -999.0,9,   2317.4,2,  -999.00,9,  -999.0,-999.0000,-999.000,-999.000,  2.9102,   0.004,9
      06MT22_5,   A10,     3,  2,    310,2,19930101,2032,-28.8333, -43.5877, 3882,   2050.0,   3.4130,  34.9160,2,  34.9150,2,   -999.0,9,  -999.00,9,  -999.00,9,  -999.00,9, -999.000,9, -999.000,9, -999.000,9, -999.000,9,-999.0000,9,  -999.00,9,   -999.0,9,-999.000,9,  -999.00,9,   -999.0,9,   -999.0,9,   -999.0,9,  -999.00,9,  -999.0,-999.0000,-999.000,-999.000,  3.2496,-999.000,9
      06MT22_5,   A10,     3,  2,    309,2,19930101,2032,-28.8333, -43.5877, 3882,   2251.0,   3.2790,  34.9350,2,-999.0000,9,   -999.0,9,  -999.00,9,  -999.00,9,  -999.00,9, -999.000,9, -999.000,9, -999.000,9, -999.000,9,-999.0000,9,  -999.00,9,   -999.0,9,-999.000,9,  -999.00,9,   -999.0,9,   -999.0,9,   -999.0,9,  -999.00,9,  -999.0,-999.0000,-999.000,-999.000,  3.0988,-999.000,9
      06MT22_5,   A10,     3,  2,    308,2,19930101,2032,-28.8333, -43.5877, 3882,   2501.0,   3.1490,  34.9420,2,-999.0000,9,    253.3,2,    25.55,2,    21.38,9,     1.46,2,    0.139,4,    0.093,4,    0.204,4,    0.035,2,-999.0000,1,  -999.00,1,   -999.0,9,-999.000,1,  -999.00,9,   2173.2,2,   -999.0,9,   2311.5,2,  -999.00,9,  -999.0,-999.0000,-999.000,-999.000,  2.9466,   0.004,9
      06MT22_5,   A10,     3,  2,    307,2,19930101,2032,-28.8333, -43.5877, 3882,   2752.0,   2.9430,  34.9310,2,-999.0000,9,    253.1,2,    28.72,2,    21.42,9,     1.44,2,    0.030,2,    0.025,2,    0.043,2,    0.028,2,   1.8096,2,     2.88,2,   -999.0,9,   7.880,2,  -999.00,9,   2174.8,2,   -999.0,9,   2313.4,2,  -999.00,9,  -999.0,  0.0063,   0.250,   0.028,  2.7194,   0.004,9
      06MT22_5,   A10,     3,  2,    306,2,19930101,2032,-28.8333, -43.5877, 3882,   3002.0,   2.7470,  34.9190,2,-999.0000,9,    253.7,2,    32.28,2,    21.66,9,     1.45,2,    0.018,2,    0.022,2,    0.028,2,    0.022,2,-999.0000,1,  -999.00,1,   -999.0,9,-999.000,1,  -999.00,9,   2178.2,2,   -999.0,9,   2315.4,2,  -999.00,9,  -999.0,-999.0000,-999.000,-999.000,  2.5019,   0.003,9
      06MT22_5,   A10,     3,  2,    305,2,19930101,2032,-28.8333, -43.5877, 3882,   3252.0,   1.8400,  34.8360,2,  34.8490,2,    243.8,2,    62.24,2,    25.48,9,     1.77,2,    0.009,3,    0.004,3,   -0.006,4,    0.017,2,-999.0000,1,  -999.00,1,   -999.0,9,-999.000,1,  -999.00,9,   2207.2,2,   -999.0,9,   2325.2,2,  -999.00,9,  -999.0,-999.0000,-999.000,-999.000,  1.5899,   0.012,9
      06MT22_5,   A10,     3,  2,    304,2,19930101,2032,-28.8333, -43.5877, 3882,   3503.0,   1.1800,  34.7650,2,-999.0000,9,    230.4,2,    88.31,2,    29.18,9,     2.09,2,    0.026,2,    0.031,2,    0.048,2,    0.017,2,-999.0000,1,  -999.00,1,   -999.0,9,-999.000,1,  -999.00,9,   2235.0,2,   -999.0,9,   2343.0,2,  -999.00,9,  -999.0,-999.0000,-999.000,-999.000,  0.9214,   0.005,9
      06MT22_5,   A10,     3,  2,    303,2,19930101,2032,-28.8333, -43.5877, 3882,   3756.0,   0.8900,  34.7350,2,-999.0000,9,    225.5,2,    99.77,2,    30.77,9,     2.25,2,    0.040,2,    0.024,2,    0.091,2,    0.022,2,   1.8680,2,     6.59,2,   -999.0,9,   8.210,4,  -999.00,9,   2246.2,2,   -999.0,9,   2340.0,2,  -999.00,9,  -999.0,  0.0075,   0.250,   0.033,  0.6134,   0.006,9
      06MT22_5,   A10,     3,  2,    302,2,19930101,2032,-28.8333, -43.5877, 3882,   3924.0,   0.7570,  34.7200,2,  34.7210,2,    222.1,2,   105.07,2,    31.48,9,     2.27,2,    0.047,2,    0.029,2,    0.103,2,    0.020,2,-999.0000,1,  -999.00,1,   -999.0,9,-999.000,1,  -999.00,9,   -999.0,9,   -999.0,9,   -999.0,9,  -999.00,9,  -999.0,-999.0000,-999.000,-999.000,  0.4668,   0.002,9
      06MT22_5,   A10,     3,  2,    301,2,19930101,2032,-28.8333, -43.5877, 3882,   3924.0,   0.7570,  34.7200,2,  34.7190,2,   -999.0,9,  -999.00,9,  -999.00,9,  -999.00,9,    0.046,2,    0.029,2,    0.092,2,   -0.008,2,   1.8712,6,     6.52,6,   -999.0,9,   8.158,6,  -999.00,9,   2251.3,2,   -999.0,9,   2352.0,2,  -999.00,9,  -999.0,  0.0075,   0.250,   0.033,  0.4668,   0.023,9
      06MT22_5,   A10,     4,  1,    212,2,19930102,0235,-29.0300, -42.9317, 4005,     12.0,  22.0560,  36.1080,2,-999.0000,9,    225.6,2,     1.06,2,     0.00,9,     0.05,2, -999.000,9, -999.000,9, -999.000,9, -999.000,9,-999.0000,9,  -999.00,9,   -999.0,9,-999.000,9,  -999.00,9,   -999.0,0,   -999.0,9,   -999.0,9,  -999.00,9,  -999.0,-999.0000,-999.000,-999.000, 22.0536,-999.000,9
      06MT22_5,   A10,     4,  1,    207,2,19930102,0235,-29.0300, -42.9317, 4005,     12.0,  22.0700,  36.1120,2,  36.1100,2,    225.0,2,     1.49,2,     0.00,9,     0.03,2, -999.000,9, -999.000,9, -999.000,9, -999.000,9,-999.0000,9,  -999.00,9,   -999.0,9,-999.000,9,  -999.00,9,   -999.0,0,   -999.0,9,   -999.0,9,  -999.00,9,  -999.0,-999.0000,-999.000,-999.000, 22.0676,-999.000,9
      06MT22_5,   A10,     4,  1,    206,2,19930102,0235,-29.0300, -42.9317, 4005,     32.0,  21.7040,  36.1690,2,-999.0000,9,    227.3,2,     0.78,2,     0.12,9,     0.06,2, -999.000,9, -999.000,9, -999.000,9, -999.000,9,-999.0000,9,  -999.00,9,   -999.0,9,-999.000,9,  -999.00,9,   -999.0,0,   -999.0,9,   -999.0,9,  -999.00,9,  -999.0,-999.0000,-999.000,-999.000, 21.6977,-999.000,9
      06MT22_5,   A10,     4,  1,    205,2,19930102,0235,-29.0300, -42.9317, 4005,     52.0,  20.9320,  36.1750,2,-999.0000,9,    234.8,2,     0.12,2,     0.04,9,     0.06,2, -999.000,9, -999.000,9, -999.000,9, -999.000,9,-999.0000,9,  -999.00,9,   -999.0,9,-999.000,9,  -999.00,9,   -999.0,0,   -999.0,9,   -999.0,9,  -999.00,9,  -999.0,-999.0000,-999.000,-999.000, 20.9220,-999.000,9
      06MT22_5,   A10,     4,  1,    204,2,19930102,0235,-29.0300, -42.9317, 4005,     71.0,  19.7700,  36.1220,2,-999.0000,9,    234.0,2,     0.00,2,     0.09,9,     0.05,2, -999.000,9, -999.000,9, -999.000,9, -999.000,9,-999.0000,9,  -999.00,9,   -999.0,9,-999.000,9,  -999.00,9,   -999.0,0,   -999.0,9,   -999.0,9,  -999.00,9,  -999.0,-999.0000,-999.000,-999.000, 19.7569,-999.000,9
      06MT22_5,   A10,     4,  1,    203,2,19930102,0235,-29.0300, -42.9317, 4005,    103.0,  18.9960,  36.0710,2,-999.0000,9,    230.4,2,     0.14,2,     0.03,9,     0.09,2, -999.000,9, -999.000,9, -999.000,9, -999.000,9,-999.0000,9,  -999.00,9,   -999.0,9,-999.000,9,  -999.00,9,   -999.0,0,   -999.0,9,   -999.0,9,  -999.00,9,  -999.0,-999.0000,-999.000,-999.000, 18.9775,-999.000,9
      06MT22_5,   A10,     4,  1,    202,2,19930102,0235,-29.0300, -42.9317, 4005,    152.0,  18.0520,  35.9940,2,-999.0000,9,    219.4,2,     0.27,2,     1.28,9,     0.18,2, -999.000,9, -999.000,9, -999.000,9, -999.000,9,-999.0000,9,  -999.00,9,   -999.0,9,-999.000,9,  -999.00,9,   -999.0,0,   -999.0,9,   -999.0,9,  -999.00,9,  -999.0,-999.0000,-999.000,-999.000, 18.0256,-999.000,9
      06MT22_5,   A10,     4,  1,    201,2,19930102,0235,-29.0300, -42.9317, 4005,    204.0,  17.5320,  36.0150,2,-999.0000,9,    219.8,2,     0.56,2,     2.30,9,     0.23,2, -999.000,9, -999.000,9, -999.000,9, -999.000,9,-999.0000,9,  -999.00,9,   -999.0,9,-999.000,9,  -999.00,9,   -999.0,0,   -999.0,9,   -999.0,9,  -999.00,9,  -999.0,-999.0000,-999.000,-999.000, 17.4973,-999.000,9