BOTTLE,20030417WHPSIOSA
EXPOCODE,SECT_ID,STNNBR,CASTNO,BTLNBR,BTLNBR_FLAG_W,DATE,TIME,LATITUDE,LONGITUDE,DEPTH,CTDPRS,CTDTMP,CTDSAL,CTDSAL_FLAG_W,SALNTY,SALNTY_FLAG_W,OXYGEN,OXYGEN_FLAG_W,SILCAT,SILCAT_FLAG_W,NO2+NO3,NO2+NO3_FLAG_W,PHSPHT,PHSPHT_FLAG_W,CFC-11,CFC-11_FLAG_W,CFC-12,CFC-12_FLAG_W,CCL4,CCL4_FLAG_W,TRITUM,TRITUM_FLAG_W,HELIUM,HELIUM_FLAG_W,DELHE3,DELHE3_FLAG_W,DELC14,DELC14_FLAG_W,NEON,NEON_FLAG_W,O18O16,O18O16_FLAG_W,TCARBN,TCARBN_FLAG_W,PCO2,PCO2_FLAG_W,ALKALI,ALKALI_FLAG_W,PH,PH_FLAG_W,C14ERR,HELIER,DELHER,NEONER,THETA,TRITER,TRITER_FLAG_W
,,,,,,,,,,,DBAR,ITS-90,PSS-78,,PSS-78,,UMOL/KG,,UMOL/KG,,UMOL/KG,,UMOL/KG,,PMOL/KG,,PMOL/KG,,PMOL/KG,,TU,,NMOL/KG,,PERCNT,,/MILLE,,NMOL/KG,,MILLE,,UMOL/KG,,UATM,,UMOL/KG,,,,/MILLE,NMOL/KG,PERCNT,NMOL/KG,ITS-90,TU,
      06MT22_5,   A10,    16,  1,    323,2,19930105,0550,-30.0017, -37.1695, 2334,     10.0,  21.5390,  36.0100,2,  36.0120,2,    227.6,2,     0.08,2,     0.00,9,     0.00,2, -999.000,9, -999.000,9, -999.000,9, -999.000,9,-999.0000,9,  -999.00,9,   -999.0,9,-999.000,9,  -999.00,9,   -999.0,9,   -999.0,9,   -999.0,9,  -999.00,9,  -999.0,-999.0000,-999.000,-999.000, 21.5370,-999.000,9
      06MT22_5,   A10,    16,  1,    324,2,19930105,0550,-30.0017, -37.1695, 2334,     11.0,  21.5370,  36.0100,2,  36.0130,2,    225.8,2,     0.00,2,     0.22,9,     0.02,2, -999.000,9, -999.000,9, -999.000,9, -999.000,9,-999.0000,9,  -999.00,9,   -999.0,9,-999.000,9,  -999.00,9,   -999.0,9,   -999.0,9,   -999.0,9,  -999.00,9,  -999.0,-999.0000,-999.000,-999.000, 21.5348,-999.000,9
      06MT22_5,   A10,    16,  1,    322,2,19930105,0550,-30.0017, -37.1695, 2334,     31.0,  21.1560,  36.0210,2,-999.0000,9,    232.2,2,     0.08,2,     0.15,9,     0.01,2, -999.000,9, -999.000,9, -999.000,9, -999.000,9,-999.0000,9,  -999.00,9,   -999.0,9,-999.000,9,  -999.00,9,   -999.0,9,   -999.0,9,   -999.0,9,  -999.00,9,  -999.0,-999.0000,-999.000,-999.000, 21.1500,-999.000,9
      06MT22_5,   A10,    16,  1,    321,2,19930105,0550,-30.0017, -37.1695, 2334,     50.0,  20.5930,  36.1060,2,-999.0000,9,    231.2,2,     0.07,2,     0.16,9,     0.00,2, -999.000,9, -999.000,9, -999.000,9, -999.000,9,-999.0000,9,  -999.00,9,   -999.0,9,-999.000,9,  -999.00,9,   -999.0,9,   -999.0,9,   -999.0,9,  -999.00,9,  -999.0,-999.0000,-999.000,-999.000, 20.5835,-999.000,9
      06MT22_5,   A10,    16,  1,    320,2,19930105,0550,-30.0017, -37.1695, 2334,     70.0,  19.8310,  36.1240,2,  36.1270,2,    232.7,2,     0.16,2,     0.11,9,     0.01,2, -999.000,9, -999.000,9, -999.000,9, -999.000,9,-999.0000,9,  -999.00,9,   -999.0,9,-999.000,9,  -999.00,9,   -999.0,9,   -999.0,9,   -999.0,9,  -999.00,9,  -999.0,-999.0000,-999.000,-999.000, 19.8181,-999.000,9
      06MT22_5,   A10,    16,  1,    319,2,19930105,0550,-30.0017, -37.1695, 2334,     99.0,  18.8640,  36.0250,2,-999.0000,9,    230.2,2,     0.19,2,     0.09,9,     0.06,2, -999.000,9, -999.000,9, -999.000,9, -999.000,9,-999.0000,9,  -999.00,9,   -999.0,9,-999.000,9,  -999.00,9,   -999.0,9,   -999.0,9,   -999.0,9,  -999.00,9,  -999.0,-999.0000,-999.000,-999.000, 18.8464,-999.000,9
      06MT22_5,   A10,    16,  1,    318,2,19930105,0550,-30.0017, -37.1695, 2334,    151.0,  17.9250,  36.0560,2,-999.0000,9,    220.1,2,     0.14,2,     1.40,9,     0.14,2, -999.000,9, -999.000,9, -999.000,9, -999.000,9,-999.0000,9,  -999.00,9,   -999.0,9,-999.000,9,  -999.00,9,   -999.0,9,   -999.0,9,   -999.0,9,  -999.00,9,  -999.0,-999.0000,-999.000,-999.000, 17.8990,-999.000,9
      06MT22_5,   A10,    16,  1,    317,2,19930105,0550,-30.0017, -37.1695, 2334,    200.0,  17.4550,  36.0170,2,  36.0170,2,    219.4,2,     0.54,2,     2.35,9,     0.22,2, -999.000,9, -999.000,9, -999.000,9, -999.000,9,-999.0000,9,  -999.00,9,   -999.0,9,-999.000,9,  -999.00,9,   -999.0,9,   -999.0,9,   -999.0,9,  -999.00,9,  -999.0,-999.0000,-999.000,-999.000, 17.4211,-999.000,9
      06MT22_5,   A10,    16,  1,    316,2,19930105,0550,-30.0017, -37.1695, 2334,    300.0,  15.1620,  35.5890,2,-999.0000,9,    212.4,2,     1.46,2,     5.98,9,     0.46,2, -999.000,9, -999.000,9, -999.000,9, -999.000,9,-999.0000,9,  -999.00,9,   -999.0,9,-999.000,9,  -999.00,9,   -999.0,9,   -999.0,9,   -999.0,9,  -999.00,9,  -999.0,-999.0000,-999.000,-999.000, 15.1161,-999.000,9
      06MT22_5,   A10,    16,  1,    315,2,19930105,0550,-30.0017, -37.1695, 2334,    400.0,  13.3410,  35.2860,2,-999.0000,9,    210.8,2,     2.49,2,     9.75,9,     0.70,2, -999.000,9, -999.000,9, -999.000,9, -999.000,9,-999.0000,9,  -999.00,9,   -999.0,9,-999.000,9,  -999.00,9,   -999.0,9,   -999.0,9,   -999.0,9,  -999.00,9,  -999.0,-999.0000,-999.000,-999.000, 13.2846,-999.000,9
      06MT22_5,   A10,    16,  1,    314,2,19930105,0550,-30.0017, -37.1695, 2334,    499.0,  11.5110,  35.0110,2,  35.0120,2,    208.1,2,     4.23,2,    14.41,9,     0.99,2, -999.000,9, -999.000,9, -999.000,9, -999.000,9,-999.0000,9,  -999.00,9,   -999.0,9,-999.000,9,  -999.00,9,   -999.0,9,   -999.0,9,   -999.0,9,  -999.00,9,  -999.0,-999.0000,-999.000,-999.000, 11.4468,-999.000,9
      06MT22_5,   A10,    16,  1,    313,2,19930105,0550,-30.0017, -37.1695, 2334,    599.0,   8.8240,  34.6620,2,-999.0000,9,    212.1,2,     7.30,2,    20.66,9,     1.39,2, -999.000,9, -999.000,9, -999.000,9, -999.000,9,-999.0000,9,  -999.00,9,   -999.0,9,-999.000,9,  -999.00,9,   -999.0,9,   -999.0,9,   -999.0,9,  -999.00,9,  -999.0,-999.0000,-999.000,-999.000,  8.7588,-999.000,9
      06MT22_5,   A10,    16,  1,    312,2,19930105,0550,-30.0017, -37.1695, 2334,    699.0,   6.7620,  34.4500,2,-999.0000,9,    222.4,2,    11.15,2,    25.09,9,     1.69,2, -999.000,9, -999.000,9, -999.000,9, -999.000,9,-999.0000,9,  -999.00,9,   -999.0,9,-999.000,9,  -999.00,9,   -999.0,9,   -999.0,9,   -999.0,9,  -999.00,9,  -999.0,-999.0000,-999.000,-999.000,  6.6961,-999.000,9
      06MT22_5,   A10,    16,  1,    311,2,19930105,0550,-30.0017, -37.1695, 2334,    848.0,   5.0660,  34.3340,2,  34.3320,2,    226.5,2,    18.21,2,    28.89,9,     1.94,2, -999.000,9, -999.000,9, -999.000,9, -999.000,9,-999.0000,9,  -999.00,9,   -999.0,9,-999.000,9,  -999.00,9,   -999.0,9,   -999.0,9,   -999.0,9,  -999.00,9,  -999.0,-999.0000,-999.000,-999.000,  4.9961,-999.000,9
      06MT22_5,   A10,    16,  1,    310,2,19930105,0550,-30.0017, -37.1695, 2334,    999.0,   4.0160,  34.3070,2,-999.0000,9,   -999.0,9,  -999.00,9,  -999.00,9,  -999.00,9, -999.000,9, -999.000,9, -999.000,9, -999.000,9,-999.0000,9,  -999.00,9,   -999.0,9,-999.000,9,  -999.00,9,   -999.0,9,   -999.0,9,   -999.0,9,  -999.00,9,  -999.0,-999.0000,-999.000,-999.000,  3.9403,-999.000,9
      06MT22_5,   A10,    16,  1,    309,2,19930105,0550,-30.0017, -37.1695, 2334,   1199.0,   3.2400,  34.3830,2,-999.0000,9,    204.7,2,    40.72,2,    33.60,9,     2.27,2, -999.000,9, -999.000,9, -999.000,9, -999.000,9,-999.0000,9,  -999.00,9,   -999.0,9,-999.000,9,  -999.00,9,   -999.0,9,   -999.0,9,   -999.0,9,  -999.00,9,  -999.0,-999.0000,-999.000,-999.000,  3.1545,-999.000,9
      06MT22_5,   A10,    16,  1,    308,2,19930105,0550,-30.0017, -37.1695, 2334,   1400.0,   2.9150,  34.5190,2,  34.5180,2,    191.9,2,    51.33,2,    33.91,9,     2.25,2, -999.000,9, -999.000,9, -999.000,9, -999.000,9,-999.0000,9,  -999.00,9,   -999.0,9,-999.000,9,  -999.00,9,   -999.0,9,   -999.0,9,   -999.0,9,  -999.00,9,  -999.0,-999.0000,-999.000,-999.000,  2.8165,-999.000,9
      06MT22_5,   A10,    16,  1,    307,2,19930105,0550,-30.0017, -37.1695, 2334,   1600.0,   2.8650,  34.6410,2,-999.0000,9,    194.6,2,    52.94,2,    32.21,9,     2.13,2, -999.000,9, -999.000,9, -999.000,9, -999.000,9,-999.0000,9,  -999.00,9,   -999.0,9,-999.000,9,  -999.00,9,   -999.0,9,   -999.0,9,   -999.0,9,  -999.00,9,  -999.0,-999.0000,-999.000,-999.000,  2.7498,-999.000,9
      06MT22_5,   A10,    16,  1,    306,2,19930105,0550,-30.0017, -37.1695, 2334,   1799.0,   2.9280,  34.7430,2,-999.0000,9,    206.4,2,    48.28,2,    29.94,9,     1.97,2, -999.000,9, -999.000,9, -999.000,9, -999.000,9,-999.0000,9,  -999.00,9,   -999.0,9,-999.000,9,  -999.00,9,   -999.0,9,   -999.0,9,   -999.0,9,  -999.00,9,  -999.0,-999.0000,-999.000,-999.000,  2.7948,-999.000,9
      06MT22_5,   A10,    16,  1,    305,2,19930105,0550,-30.0017, -37.1695, 2334,   1995.0,   2.9280,  34.8180,2,  34.8160,2,    223.2,2,    42.34,2,    27.23,9,     1.78,2, -999.000,9, -999.000,9, -999.000,9, -999.000,9,-999.0000,9,  -999.00,9,   -999.0,9,-999.000,9,  -999.00,9,   -999.0,9,   -999.0,9,   -999.0,9,  -999.00,9,  -999.0,-999.0000,-999.000,-999.000,  2.7774,-999.000,9
      06MT22_5,   A10,    16,  1,    303,2,19930105,0550,-30.0017, -37.1695, 2334,   2240.0,   2.9660,  34.8750,2,-999.0000,9,   -999.0,9,  -999.00,9,  -999.00,9,  -999.00,9, -999.000,9, -999.000,9, -999.000,9, -999.000,9,-999.0000,9,  -999.00,9,   -999.0,9,-999.000,9,  -999.00,9,   -999.0,9,   -999.0,9,   -999.0,9,  -999.00,9,  -999.0,-999.0000,-999.000,-999.000,  2.7919,-999.000,9
      06MT22_5,   A10,    16,  1,    304,2,19930105,0550,-30.0017, -37.1695, 2334,   2241.0,   2.9600,  34.8740,2,-999.0000,9,    237.2,2,    34.95,2,    24.62,9,     1.58,2, -999.000,9, -999.000,9, -999.000,9, -999.000,9,-999.0000,9,  -999.00,9,   -999.0,9,-999.000,9,  -999.00,9,   -999.0,9,   -999.0,9,   -999.0,9,  -999.00,9,  -999.0,-999.0000,-999.000,-999.000,  2.7859,-999.000,9
      06MT22_5,   A10,    16,  1,    301,2,19930105,0550,-30.0017, -37.1695, 2334,   2322.0,   2.9190,  34.8820,2,  34.8810,2,   -999.0,9,  -999.00,9,  -999.00,9,  -999.00,9, -999.000,9, -999.000,9, -999.000,9, -999.000,9,-999.0000,9,  -999.00,9,   -999.0,9,-999.000,9,  -999.00,9,   -999.0,9,   -999.0,9,   -999.0,9,  -999.00,9,  -999.0,-999.0000,-999.000,-999.000,  2.7379,-999.000,9
      06MT22_5,   A10,    16,  1,    302,2,19930105,0550,-30.0017, -37.1695, 2334,   2323.0,   2.9200,  34.8820,2,  34.8810,2,    240.4,2,    34.72,2,    24.21,9,     1.58,2, -999.000,9, -999.000,9, -999.000,9, -999.000,9,-999.0000,9,  -999.00,9,   -999.0,9,-999.000,9,  -999.00,9,   -999.0,9,   -999.0,9,   -999.0,9,  -999.00,9,  -999.0,-999.0000,-999.000,-999.000,  2.7388,-999.000,9
      06MT22_5,   A10,    17,  1,    324,2,19930105,0835,-29.9983, -36.8567, 1690,     10.0,  21.2710,  36.0800,2,  36.0840,2,   -999.0,9,  -999.00,9,  -999.00,9,  -999.00,9, -999.000,9, -999.000,9, -999.000,9, -999.000,9,-999.0000,9,  -999.00,9,   -999.0,9,-999.000,9,  -999.00,9,   2048.5,2,   -999.0,9,   -999.0,9,  -999.00,9,  -999.0,-999.0000,-999.000,-999.000, 21.2691,-999.000,9
      06MT22_5,   A10,    17,  1,    319,2,19930105,0835,-29.9983, -36.8567, 1690,     10.0,  21.2710,  36.0800,2,-999.0000,9,    226.2,2,     0.47,2,     0.06,9,     0.07,2, -999.000,9, -999.000,9, -999.000,9, -999.000,9,-999.0000,9,  -999.00,9,   -999.0,9,-999.000,9,  -999.00,9,   -999.0,0,   -999.0,9,   -999.0,9,  -999.00,9,  -999.0,-999.0000,-999.000,-999.000, 21.2691,-999.000,9
      06MT22_5,   A10,    17,  1,    318,2,19930105,0835,-29.9983, -36.8567, 1690,     30.0,  20.8110,  36.0590,2,-999.0000,9,    238.1,2,     0.12,2,     0.05,9,     0.05,2, -999.000,9, -999.000,9, -999.000,9, -999.000,9,-999.0000,9,  -999.00,9,   -999.0,9,-999.000,9,  -999.00,9,   2050.1,2,   -999.0,9,   -999.0,9,  -999.00,9,  -999.0,-999.0000,-999.000,-999.000, 20.8053,-999.000,9
      06MT22_5,   A10,    17,  1,    317,2,19930105,0835,-29.9983, -36.8567, 1690,     50.0,  19.6660,  36.0300,2,-999.0000,9,    238.9,2,     0.13,2,     0.00,9,     0.09,2, -999.000,9, -999.000,9, -999.000,9, -999.000,9,-999.0000,9,  -999.00,9,   -999.0,9,-999.000,9,  -999.00,9,   2053.8,2,   -999.0,9,   -999.0,9,  -999.00,9,  -999.0,-999.0000,-999.000,-999.000, 19.6568,-999.000,9
      06MT22_5,   A10,    17,  1,    316,2,19930105,0835,-29.9983, -36.8567, 1690,     70.0,  18.9740,  36.0320,2,  36.0420,2,    239.2,2,     0.00,2,     0.00,9,     0.06,2, -999.000,9, -999.000,9, -999.000,9, -999.000,9,-999.0000,9,  -999.00,9,   -999.0,9,-999.000,9,  -999.00,9,   2051.1,2,   -999.0,9,   -999.0,9,  -999.00,9,  -999.0,-999.0000,-999.000,-999.000, 18.9615,-999.000,9
      06MT22_5,   A10,    17,  1,    315,2,19930105,0835,-29.9983, -36.8567, 1690,    100.0,  18.0830,  36.0190,2,-999.0000,9,    230.4,2,     0.22,2,     0.33,9,     0.13,2, -999.000,9, -999.000,9, -999.000,9, -999.000,9,-999.0000,9,  -999.00,9,   -999.0,9,-999.000,9,  -999.00,9,   2061.3,2,   -999.0,9,   -999.0,9,  -999.00,9,  -999.0,-999.0000,-999.000,-999.000, 18.0657,-999.000,9
      06MT22_5,   A10,    17,  1,    314,2,19930105,0835,-29.9983, -36.8567, 1690,    150.0,  16.9100,  35.8800,2,-999.0000,9,    218.8,2,     0.68,2,     2.68,9,     0.28,2, -999.000,9, -999.000,9, -999.000,9, -999.000,9,-999.0000,9,  -999.00,9,   -999.0,9,-999.000,9,  -999.00,9,   2077.3,2,   -999.0,9,   -999.0,9,  -999.00,9,  -999.0,-999.0000,-999.000,-999.000, 16.8852,-999.000,9
      06MT22_5,   A10,    17,  1,    313,2,19930105,0835,-29.9983, -36.8567, 1690,    200.0,  16.0420,  35.7330,2,  35.7480,2,    216.2,2,     0.99,2,     4.34,9,     0.40,2, -999.000,9, -999.000,9, -999.000,9, -999.000,9,-999.0000,9,  -999.00,9,   -999.0,9,-999.000,9,  -999.00,9,   2082.8,2,   -999.0,9,   -999.0,9,  -999.00,9,  -999.0,-999.0000,-999.000,-999.000, 16.0101,-999.000,9
      06MT22_5,   A10,    17,  1,    312,2,19930105,0835,-29.9983, -36.8567, 1690,    299.0,  15.3370,  35.6820,2,-999.0000,9,    219.3,2,     1.27,2,     5.87,9,     0.49,2, -999.000,9, -999.000,9, -999.000,9, -999.000,9,-999.0000,9,  -999.00,9,   -999.0,9,-999.000,9,  -999.00,9,   2088.3,2,   -999.0,9,   -999.0,9,  -999.00,9,  -999.0,-999.0000,-999.000,-999.000, 15.2909,-999.000,9
      06MT22_5,   A10,    17,  1,    311,2,19930105,0835,-29.9983, -36.8567, 1690,    400.0,  13.1230,  35.2540,2,-999.0000,9,    211.1,2,     2.60,2,    10.41,9,     0.73,2,    2.194,2,    1.138,2,    0.768,2, -999.000,9,-999.0000,9,  -999.00,9,   -999.0,9,-999.000,9,  -999.00,9,   2104.3,2,   -999.0,9,   -999.0,9,  -999.00,9,  -999.0,-999.0000,-999.000,-999.000, 13.0673,-999.000,9
      06MT22_5,   A10,    17,  1,    310,2,19930105,0835,-29.9983, -36.8567, 1690,    500.0,  10.9640,  34.9380,2,  34.9360,2,    209.7,2,     4.74,2,    15.46,9,     1.05,2, -999.000,9, -999.000,9, -999.000,9, -999.000,9,-999.0000,9,  -999.00,9,   -999.0,9,-999.000,9,  -999.00,9,   2119.6,2,   -999.0,9,   -999.0,9,  -999.00,9,  -999.0,-999.0000,-999.000,-999.000, 10.9017,-999.000,9
      06MT22_5,   A10,    17,  1,    309,2,19930105,0835,-29.9983, -36.8567, 1690,    600.0,   8.6310,  34.6620,2,-999.0000,9,    212.2,2,     8.60,2,    21.24,9,     1.43,2,    1.731,2,    0.886,2,    1.513,2, -999.000,9,-999.0000,9,  -999.00,9,   -999.0,9,-999.000,9,  -999.00,9,   2138.3,2,   -999.0,9,   -999.0,9,  -999.00,9,  -999.0,-999.0000,-999.000,-999.000,  8.5665,-999.000,9
      06MT22_5,   A10,    17,  1,    308,2,19930105,0835,-29.9983, -36.8567, 1690,    699.0,   6.8290,  34.4710,2,-999.0000,9,    219.6,2,    11.58,2,    25.01,9,     1.65,2, -999.000,9, -999.000,9, -999.000,9, -999.000,9,-999.0000,9,  -999.00,9,   -999.0,9,-999.000,9,  -999.00,9,   2149.0,2,   -999.0,9,   -999.0,9,  -999.00,9,  -999.0,-999.0000,-999.000,-999.000,  6.7628,-999.000,9
      06MT22_5,   A10,    17,  1,    307,2,19930105,0835,-29.9983, -36.8567, 1690,    846.0,   4.8880,  34.3280,2,  34.3270,2,    228.1,2,    19.82,2,    28.84,9,     1.93,2,    1.350,2,    0.672,2,    2.325,2, -999.000,9,-999.0000,9,  -999.00,9,   -999.0,9,-999.000,9,  -999.00,9,   2166.1,2,   -999.0,9,   -999.0,9,  -999.00,9,  -999.0,-999.0000,-999.000,-999.000,  4.8194,-999.000,9
      06MT22_5,   A10,    17,  1,    306,2,19930105,0835,-29.9983, -36.8567, 1690,   1000.0,   3.8730,  34.3240,2,-999.0000,9,    223.0,2,    29.08,2,    31.27,9,     2.12,2, -999.000,9, -999.000,9, -999.000,9, -999.000,9,-999.0000,9,  -999.00,9,   -999.0,9,-999.000,9,  -999.00,9,   2185.8,2,   -999.0,9,   -999.0,9,  -999.00,9,  -999.0,-999.0000,-999.000,-999.000,  3.7983,-999.000,9
      06MT22_5,   A10,    17,  1,    305,2,19930105,0835,-29.9983, -36.8567, 1690,   1197.0,   3.2010,  34.4180,2,-999.0000,9,    203.8,2,    42.36,2,    33.19,9,     2.22,2,    0.347,2,    0.180,2,    1.043,2, -999.000,9,-999.0000,9,  -999.00,9,   -999.0,9,-999.000,9,  -999.00,9,   2210.5,2,   -999.0,9,   -999.0,9,  -999.00,9,  -999.0,-999.0000,-999.000,-999.000,  3.1159,-999.000,9
      06MT22_5,   A10,    17,  1,    304,2,19930105,0835,-29.9983, -36.8567, 1690,   1397.0,   2.9380,  34.5440,2,  34.5450,2,    193.9,2,    50.77,2,    33.48,9,     2.22,2, -999.000,9, -999.000,9, -999.000,9, -999.000,9,-999.0000,9,  -999.00,9,   -999.0,9,-999.000,9,  -999.00,9,   2222.9,2,   -999.0,9,   -999.0,9,  -999.00,9,  -999.0,-999.0000,-999.000,-999.000,  2.8394,-999.000,9
      06MT22_5,   A10,    17,  1,    303,2,19930105,0835,-29.9983, -36.8567, 1690,   1500.0,   2.8910,  34.5950,2,-999.0000,9,    194.0,2,    52.27,2,    32.88,9,     2.18,2,    0.059,2,    0.025,2,    0.305,2, -999.000,9,-999.0000,9,  -999.00,9,   -999.0,9,-999.000,9,  -999.00,9,   2223.8,2,   -999.0,9,   -999.0,9,  -999.00,9,  -999.0,-999.0000,-999.000,-999.000,  2.7842,-999.000,9
      06MT22_5,   A10,    17,  1,    302,2,19930105,0835,-29.9983, -36.8567, 1690,   1576.0,   2.8680,  34.6480,2,  34.6480,2,    197.9,2,    51.74,2,    31.90,9,     2.11,2, -999.000,9, -999.000,9, -999.000,9, -999.000,9,-999.0000,9,  -999.00,9,   -999.0,9,-999.000,9,  -999.00,9,   -999.0,0,   -999.0,9,   -999.0,9,  -999.00,9,  -999.0,-999.0000,-999.000,-999.000,  2.7552,-999.000,9
      06MT22_5,   A10,    17,  1,    301,2,19930105,0835,-29.9983, -36.8567, 1690,   1576.0,   2.8680,  34.6480,2,  34.6470,2,   -999.0,9,  -999.00,9,  -999.00,9,  -999.00,9,    0.035,6,    0.029,6,    0.196,6, -999.000,9,-999.0000,9,  -999.00,9,   -999.0,9,-999.000,9,  -999.00,9,   2221.6,2,   -999.0,9,   -999.0,9,  -999.00,9,  -999.0,-999.0000,-999.000,-999.000,  2.7552,-999.000,9