BOTTLE,20030417WHPSIOSA
EXPOCODE,SECT_ID,STNNBR,CASTNO,BTLNBR,BTLNBR_FLAG_W,DATE,TIME,LATITUDE,LONGITUDE,DEPTH,CTDPRS,CTDTMP,CTDSAL,CTDSAL_FLAG_W,SALNTY,SALNTY_FLAG_W,OXYGEN,OXYGEN_FLAG_W,SILCAT,SILCAT_FLAG_W,NO2+NO3,NO2+NO3_FLAG_W,PHSPHT,PHSPHT_FLAG_W,CFC-11,CFC-11_FLAG_W,CFC-12,CFC-12_FLAG_W,CCL4,CCL4_FLAG_W,TRITUM,TRITUM_FLAG_W,HELIUM,HELIUM_FLAG_W,DELHE3,DELHE3_FLAG_W,DELC14,DELC14_FLAG_W,NEON,NEON_FLAG_W,O18O16,O18O16_FLAG_W,TCARBN,TCARBN_FLAG_W,PCO2,PCO2_FLAG_W,ALKALI,ALKALI_FLAG_W,PH,PH_FLAG_W,C14ERR,HELIER,DELHER,NEONER,THETA,TRITER,TRITER_FLAG_W
,,,,,,,,,,,DBAR,ITS-90,PSS-78,,PSS-78,,UMOL/KG,,UMOL/KG,,UMOL/KG,,UMOL/KG,,PMOL/KG,,PMOL/KG,,PMOL/KG,,TU,,NMOL/KG,,PERCNT,,/MILLE,,NMOL/KG,,MILLE,,UMOL/KG,,UATM,,UMOL/KG,,,,/MILLE,NMOL/KG,PERCNT,NMOL/KG,ITS-90,TU,
      06MT22_5,   A10,    40,  2,    324,2,19930110,1958,-30.0145, -25.0250, 5673,   1600.0,   2.8100,  34.6740,2,-999.0000,9,   -999.0,9,  -999.00,9,  -999.00,9,  -999.00,9, -999.000,9, -999.000,9, -999.000,9, -999.000,9,-999.0000,9,  -999.00,9,   -999.0,9,-999.000,9,  -999.00,9,   -999.0,9,   -999.0,9,   -999.0,9,  -999.00,9,  -999.0,-999.0000,-999.000,-999.000,  2.6956,-999.000,9
      06MT22_5,   A10,    40,  2,    323,2,19930110,1958,-30.0145, -25.0250, 5673,   1800.0,   2.7420,  34.7560,2,  34.7580,2,    208.5,2,    52.62,2,    27.32,9,     1.93,2,    0.012,2,    0.007,2,    0.080,2, -999.000,9,-999.0000,9,  -999.00,9,   -999.0,9,-999.000,9,  -999.00,9,   2216.0,2,   -999.0,9,   -999.0,9,  -999.00,9,  -999.0,-999.0000,-999.000,-999.000,  2.6115,-999.000,9
      06MT22_5,   A10,    40,  2,    322,2,19930110,1958,-30.0145, -25.0250, 5673,   2251.0,   2.6560,  34.8470,2,  34.8490,2,    230.8,2,    45.97,2,    25.54,9,     1.72,2,    0.019,3,    0.007,2,    0.017,2, -999.000,9,-999.0000,9,  -999.00,9,   -999.0,9,-999.000,9,  -999.00,9,   2198.6,2,   -999.0,9,   -999.0,9,  -999.00,9,  -999.0,-999.0000,-999.000,-999.000,  2.4862,-999.000,9
      06MT22_5,   A10,    40,  2,    321,2,19930110,1958,-30.0145, -25.0250, 5673,   2502.0,   2.6750,  34.8750,2,  34.8750,2,    238.9,2,    42.34,2,    24.00,9,     1.59,2,    0.007,2,    0.004,2,    0.010,2, -999.000,9,-999.0000,9,  -999.00,9,   -999.0,9,-999.000,9,  -999.00,9,   2191.4,2,   -999.0,9,   -999.0,9,  -999.00,9,  -999.0,-999.0000,-999.000,-999.000,  2.4811,-999.000,9
      06MT22_5,   A10,    40,  2,    320,2,19930110,1958,-30.0145, -25.0250, 5673,   2754.0,   2.7060,  34.9010,2,  34.9010,2,    246.1,2,    37.79,2,    22.82,9,     1.47,2,    0.005,2,    0.009,3,   -0.002,2, -999.000,9,-999.0000,9,  -999.00,9,   -999.0,9,-999.000,9,  -999.00,9,   2184.6,2,   -999.0,9,   -999.0,9,  -999.00,9,  -999.0,-999.0000,-999.000,-999.000,  2.4867,-999.000,9
      06MT22_5,   A10,    40,  2,    319,2,19930110,1958,-30.0145, -25.0250, 5673,   3003.0,   2.6320,  34.9070,2,  34.9050,2,    249.3,2,    37.90,2,    22.46,9,     1.47,2,    0.090,4,    0.049,4,    0.093,4, -999.000,9,-999.0000,9,  -999.00,9,   -999.0,9,-999.000,9,  -999.00,9,   2188.5,2,   -999.0,9,   -999.0,9,  -999.00,9,  -999.0,-999.0000,-999.000,-999.000,  2.3890,-999.000,9
      06MT22_5,   A10,    40,  2,    318,2,19930110,1958,-30.0145, -25.0250, 5673,   3254.0,   2.4270,  34.8930,2,-999.0000,9,   -999.0,9,  -999.00,9,  -999.00,9,  -999.00,9, -999.000,9, -999.000,9, -999.000,9, -999.000,9,-999.0000,9,  -999.00,9,   -999.0,9,-999.000,9,  -999.00,9,   -999.0,9,   -999.0,9,   -999.0,9,  -999.00,9,  -999.0,-999.0000,-999.000,-999.000,  2.1628,-999.000,9
      06MT22_5,   A10,    40,  2,    317,2,19930110,1958,-30.0145, -25.0250, 5673,   3503.0,   2.1230,  34.8640,2,  34.8630,2,    245.6,2,    54.66,2,    24.40,9,     1.63,2,    0.012,3,    0.015,3,    0.006,2, -999.000,9,-999.0000,9,  -999.00,9,   -999.0,9,-999.000,9,  -999.00,9,   2198.4,2,   -999.0,9,   -999.0,9,  -999.00,9,  -999.0,-999.0000,-999.000,-999.000,  1.8399,-999.000,9
      06MT22_5,   A10,    40,  2,    316,2,19930110,1958,-30.0145, -25.0250, 5673,   3754.0,   1.6850,  34.8200,2,  34.8170,2,    239.7,2,    71.26,2,    26.71,9,     1.83,2,    0.007,2,    0.007,2,    0.015,2, -999.000,9,-999.0000,9,  -999.00,9,   -999.0,9,-999.000,9,  -999.00,9,   2215.6,2,   -999.0,9,   2331.9,2,  -999.00,9,  -999.0,-999.0000,-999.000,-999.000,  1.3867,-999.000,9
      06MT22_5,   A10,    40,  2,    392,2,19930110,1958,-30.0145, -25.0250, 5673,   3754.0,   1.6850,  34.8200,2,-999.0000,9,   -999.0,9,  -999.00,9,  -999.00,9,  -999.00,9, -999.000,9, -999.000,9, -999.000,9, -999.000,9,-999.0000,9,  -999.00,9,   -999.0,9,-999.000,9,  -999.00,9,   -999.0,9,   -999.0,9,   -999.0,9,  -999.00,9,  -999.0,-999.0000,-999.000,-999.000,  1.3872,-999.000,9
      06MT22_5,   A10,    40,  2,    315,2,19930110,1958,-30.0145, -25.0250, 5673,   4005.0,   1.3910,  34.7870,2,  34.7870,2,    234.2,2,    83.53,2,    28.55,9,     1.96,2,    0.007,2,    0.009,2,    0.026,2, -999.000,9,-999.0000,9,  -999.00,9,   -999.0,9,-999.000,9,  -999.00,9,   2229.4,2,   -999.0,9,   -999.0,9,  -999.00,9,  -999.0,-999.0000,-999.000,-999.000,  1.0740,-999.000,9
      06MT22_5,   A10,    40,  2,    391,2,19930110,1958,-30.0145, -25.0250, 5673,   4005.0,   1.3910,  34.7870,2,-999.0000,9,   -999.0,9,  -999.00,9,  -999.00,9,  -999.00,9, -999.000,9, -999.000,9, -999.000,9, -999.000,9,-999.0000,9,  -999.00,9,   -999.0,9,-999.000,9,  -999.00,9,   -999.0,9,   -999.0,9,   -999.0,9,  -999.00,9,  -999.0,-999.0000,-999.000,-999.000,  1.0743,-999.000,9
      06MT22_5,   A10,    40,  2,    314,2,19930110,1958,-30.0145, -25.0250, 5673,   4248.0,   1.2900,  34.7740,2,  34.7740,2,    231.8,2,    88.78,2,    29.26,9,     2.05,2, -999.000,9, -999.000,9, -999.000,9, -999.000,9,-999.0000,9,  -999.00,9,   -999.0,9,-999.000,9,  -999.00,9,   2234.6,2,   -999.0,9,   2327.9,2,  -999.00,9,  -999.0,-999.0000,-999.000,-999.000,  0.9493,-999.000,9
      06MT22_5,   A10,    40,  2,    390,2,19930110,1958,-30.0145, -25.0250, 5673,   4248.0,   1.2900,  34.7740,2,-999.0000,9,   -999.0,9,  -999.00,9,  -999.00,9,  -999.00,9, -999.000,9, -999.000,9, -999.000,9, -999.000,9,-999.0000,9,  -999.00,9,   -999.0,9,-999.000,9,  -999.00,9,   -999.0,9,   -999.0,9,   -999.0,9,  -999.00,9,  -999.0,-999.0000,-999.000,-999.000,  0.9495,-999.000,9
      06MT22_5,   A10,    40,  2,    313,2,19930110,1958,-30.0145, -25.0250, 5673,   4513.0,   1.1890,  34.7590,2,  34.7570,2,    227.9,2,    94.84,2,    30.07,9,     2.10,2,    0.012,2,    0.018,2,    0.067,2,    0.009,2,-999.0000,1,  -999.00,1,   -999.0,9,-999.000,1,  -999.00,9,   -999.0,9,   -999.0,9,   2355.6,2,  -999.00,9,  -999.0,-999.0000,-999.000,-999.000,  0.8217,   0.003,9
      06MT22_5,   A10,    40,  2,    312,2,19930110,1958,-30.0145, -25.0250, 5673,   4513.0,   1.1890,  34.7590,2,  34.7450,2,    225.2,2,    99.40,2,    30.80,9,     2.15,2,    0.030,2,    0.021,2,    0.108,2,   -0.054,3,   2.6385,4,     6.08,3,   -999.0,9,   9.323,4,  -999.00,9,   -999.0,9,   -999.0,9,   2353.6,2,  -999.00,9,  -999.0,  0.0092,   0.250,   0.033,  0.8218,   0.101,9
      06MT22_5,   A10,    40,  2,    311,2,19930110,1958,-30.0145, -25.0250, 5673,   4513.0,   1.1890,  34.7590,2,  34.7430,2,    231.2,2,    99.27,2,    30.78,9,     2.14,2,    0.107,4,    0.083,4,    0.167,4,    0.012,2,   1.8372,7,     5.39,3,   -999.0,9,   8.038,8,  -999.00,9,   2245.3,2,   -999.0,9,   2356.5,2,  -999.00,9,  -999.0,  0.0064,   0.250,   0.028,  0.8218,   0.015,9
      06MT22_5,   A10,    40,  2,    310,2,19930110,1958,-30.0145, -25.0250, 5673,   4513.0,   1.1890,  34.7590,2,  34.7430,2,    225.9,2,    99.52,2,    30.90,9,     2.15,2,    0.025,2,    0.016,2,    0.113,2, -999.000,9,-999.0000,9,  -999.00,9,   -999.0,9,-999.000,9,  -999.00,9,   -999.0,9,   -999.0,9,   -999.0,9,  -999.00,9,  -999.0,-999.0000,-999.000,-999.000,  0.8218,-999.000,9
      06MT22_5,   A10,    40,  2,    389,2,19930110,1958,-30.0145, -25.0250, 5673,   4513.0,   1.1890,  34.7590,2,-999.0000,9,   -999.0,9,  -999.00,9,  -999.00,9,  -999.00,9, -999.000,9, -999.000,9, -999.000,9, -999.000,9,-999.0000,9,  -999.00,9,   -999.0,9,-999.000,9,  -999.00,9,   -999.0,9,   -999.0,9,   -999.0,9,  -999.00,9,  -999.0,-999.0000,-999.000,-999.000,  0.8218,-999.000,9
      06MT22_5,   A10,    40,  2,    388,2,19930110,1958,-30.0145, -25.0250, 5673,   5309.0,   1.1780,  34.7460,2,-999.0000,9,   -999.0,9,  -999.00,9,  -999.00,9,  -999.00,9, -999.000,9, -999.000,9, -999.000,9, -999.000,9,-999.0000,9,  -999.00,9,   -999.0,9,-999.000,9,  -999.00,9,   -999.0,9,   -999.0,9,   -999.0,9,  -999.00,9,  -999.0,-999.0000,-999.000,-999.000,  0.7166,-999.000,9
      06MT22_5,   A10,    40,  2,    309,2,19930110,1958,-30.0145, -25.0250, 5673,   5639.0,   1.2140,  34.7440,2,  34.7410,2,    225.2,2,    99.89,2,    30.68,9,     2.16,2, -999.000,9, -999.000,9, -999.000,9, -999.000,9,-999.0000,9,  -999.00,9,   -999.0,9,-999.000,9,  -999.00,9,   -999.0,9,   -999.0,9,   2353.6,2,  -999.00,9,  -999.0,-999.0000,-999.000,-999.000,  0.7098,-999.000,9
      06MT22_5,   A10,    40,  2,    308,2,19930110,1958,-30.0145, -25.0250, 5673,   5639.0,   1.2140,  34.7440,2,  34.7420,2,    224.2,2,   100.14,2,    30.90,9,     2.15,2,    0.026,2,    0.013,2,    0.119,2,    0.011,2,   2.0898,4,     7.08,3,   -999.0,9,   8.817,4,  -999.00,9,   -999.0,9,   -999.0,9,   2356.5,2,  -999.00,9,  -999.0,  0.0073,   0.250,   0.031,  0.7098,   0.004,9
      06MT22_5,   A10,    40,  2,    307,2,19930110,1958,-30.0145, -25.0250, 5673,   5639.0,   1.2140,  34.7440,2,  34.7440,2,    224.3,2,    99.53,2,    30.73,9,     2.13,2,    0.028,2,    0.012,2,    0.123,2,    0.003,2,   1.8654,2,     6.94,2,   -999.0,9,   8.143,2,  -999.00,9,   2245.5,2,   -999.0,9,   2359.5,2,  -999.00,9,  -999.0,  0.0065,   0.250,   0.029,  0.7098,   0.013,9
      06MT22_5,   A10,    40,  2,    306,2,19930110,1958,-30.0145, -25.0250, 5673,   5639.0,   1.2140,  34.7440,2,-999.0000,9,   -999.0,9,  -999.00,9,  -999.00,9,  -999.00,9, -999.000,9, -999.000,9, -999.000,9, -999.000,9,-999.0000,9,  -999.00,9,   -999.0,9,-999.000,9,  -999.00,9,   -999.0,9,   -999.0,9,   -999.0,9,  -999.00,9,  -999.0,-999.0000,-999.000,-999.000,  0.7098,-999.000,9
      06MT22_5,   A10,    40,  2,    304,2,19930110,1958,-30.0145, -25.0250, 5673,   5701.0,   1.2240,  34.7440,2,  34.7440,2,    225.5,2,    99.67,2,    30.85,9,     2.18,2, -999.000,9, -999.000,9, -999.000,9, -999.000,9,-999.0000,9,  -999.00,9,   -999.0,9,-999.000,9,  -999.00,9,   -999.0,9,   -999.0,9,   -999.0,9,  -999.00,9,  -999.0,-999.0000,-999.000,-999.000,  0.7114,-999.000,9
      06MT22_5,   A10,    40,  2,    303,2,19930110,1958,-30.0145, -25.0250, 5673,   5701.0,   1.2240,  34.7440,2,  34.7450,2,    225.0,2,    99.69,2,    30.76,9,     2.18,2,    0.029,2,    0.016,2,    0.114,2, -999.000,9,-999.0000,9,  -999.00,9,   -999.0,9,-999.000,9,  -999.00,9,   -999.0,9,   -999.0,9,   -999.0,9,  -999.00,9,  -999.0,-999.0000,-999.000,-999.000,  0.7114,-999.000,9
      06MT22_5,   A10,    40,  2,    302,2,19930110,1958,-30.0145, -25.0250, 5673,   5701.0,   1.2240,  34.7440,2,  34.7440,2,    226.7,2,    99.18,2,    30.70,9,     2.16,2,    0.027,2,    0.020,2,    0.107,2, -999.000,9,-999.0000,9,  -999.00,9,   -999.0,9,-999.000,9,  -999.00,9,   -999.0,9,   -999.0,9,   -999.0,9,  -999.00,9,  -999.0,-999.0000,-999.000,-999.000,  0.7114,-999.000,9
      06MT22_5,   A10,    40,  2,    301,2,19930110,1958,-30.0145, -25.0250, 5673,   5701.0,   1.2240,  34.7440,2,  34.7450,2,   -999.0,9,  -999.00,9,  -999.00,9,  -999.00,9,    0.031,2,    0.020,2,    0.108,2,   -0.060,3,   1.8725,2,     6.69,2,   -999.0,9,   8.145,2,  -999.00,9,   2245.9,2,   -999.0,9,   2355.6,2,  -999.00,9,  -999.0,  0.0066,   0.250,   0.029,  0.7114,   0.134,9
      06MT22_5,   A10,    40,  2,    305,2,19930110,1958,-30.0145, -25.0250, 5673,   5716.0,   1.2220,  34.7430,2,-999.0000,9,    224.1,2,    99.46,2,    30.82,9,     2.17,2, -999.000,9, -999.000,9, -999.000,9, -999.000,9,-999.0000,9,  -999.00,9,   -999.0,9,-999.000,9,  -999.00,9,   -999.0,9,   -999.0,9,   -999.0,9,  -999.00,9,  -999.0,-999.0000,-999.000,-999.000,  0.7076,-999.000,9
      06MT22_5,   A10,    40,  3,    217,2,19930110,2238,-30.0283, -25.0383, 5705,     12.0,  22.6090,  35.6690,2,  35.6190,2,   -999.0,9,  -999.00,9,  -999.00,9,  -999.00,9, -999.000,9, -999.000,9, -999.000,9, -999.000,9,-999.0000,9,  -999.00,9,   -999.0,9,-999.000,9,  -999.00,9,   -999.0,9,   -999.0,9,   -999.0,9,  -999.00,9,  -999.0,-999.0000,-999.000,-999.000, 22.6066,-999.000,9
      06MT22_5,   A10,    40,  3,    216,2,19930110,2238,-30.0283, -25.0383, 5705,     12.0,  22.6090,  35.6690,2,-999.0000,9,   -999.0,9,  -999.00,9,  -999.00,9,  -999.00,9,    2.047,2,    1.130,2,    2.469,2, -999.000,9,-999.0000,9,  -999.00,9,   -999.0,9,-999.000,9,  -999.00,9,   -999.0,9,   -999.0,9,   -999.0,9,  -999.00,9,  -999.0,-999.0000,-999.000,-999.000, 22.6066,-999.000,9
      06MT22_5,   A10,    40,  3,    215,2,19930110,2238,-30.0283, -25.0383, 5705,    102.0,  17.2470,  35.6660,2,-999.0000,9,   -999.0,9,  -999.00,9,  -999.00,9,  -999.00,9, -999.000,9, -999.000,9, -999.000,9, -999.000,9,-999.0000,9,  -999.00,9,   -999.0,9,-999.000,9,  -999.00,9,   -999.0,9,   -999.0,9,   -999.0,9,  -999.00,9,  -999.0,-999.0000,-999.000,-999.000, 17.2301,-999.000,9
      06MT22_5,   A10,    40,  3,    214,2,19930110,2238,-30.0283, -25.0383, 5705,    153.0,  16.1420,  35.5750,2,-999.0000,9,   -999.0,9,  -999.00,9,  -999.00,9,  -999.00,9, -999.000,9, -999.000,9, -999.000,9, -999.000,9,-999.0000,9,  -999.00,9,   -999.0,9,-999.000,9,  -999.00,9,   -999.0,9,   -999.0,9,   -999.0,9,  -999.00,9,  -999.0,-999.0000,-999.000,-999.000, 16.1177,-999.000,9
      06MT22_5,   A10,    40,  3,    214,2,19930110,2238,-30.0283, -25.0383, 5705,    153.0,  16.1280,  35.5650,2,-999.0000,9,   -999.0,9,  -999.00,9,  -999.00,9,  -999.00,9, -999.000,9, -999.000,9, -999.000,9, -999.000,9,-999.0000,9,  -999.00,9,   -999.0,9,-999.000,9,  -999.00,9,   -999.0,9,   -999.0,9,   -999.0,9,  -999.00,9,  -999.0,-999.0000,-999.000,-999.000, 16.1038,-999.000,9
      06MT22_5,   A10,    40,  3,    213,2,19930110,2238,-30.0283, -25.0383, 5705,    202.0,  14.9410,  35.4180,2,-999.0000,9,   -999.0,9,  -999.00,9,  -999.00,9,  -999.00,9, -999.000,9, -999.000,9, -999.000,9, -999.000,9,-999.0000,9,  -999.00,9,   -999.0,9,-999.000,9,  -999.00,9,   -999.0,9,   -999.0,9,   -999.0,9,  -999.00,9,  -999.0,-999.0000,-999.000,-999.000, 14.9106,-999.000,9
      06MT22_5,   A10,    40,  3,    212,2,19930110,2238,-30.0283, -25.0383, 5705,    301.0,  13.3110,  35.2510,2,-999.0000,9,   -999.0,9,  -999.00,9,  -999.00,9,  -999.00,9, -999.000,9, -999.000,9, -999.000,9, -999.000,9,-999.0000,9,  -999.00,9,   -999.0,9,-999.000,9,  -999.00,9,   -999.0,9,   -999.0,9,   -999.0,9,  -999.00,9,  -999.0,-999.0000,-999.000,-999.000, 13.2690,-999.000,9
      06MT22_5,   A10,    40,  3,    211,2,19930110,2238,-30.0283, -25.0383, 5705,    402.0,  11.6020,  35.0260,2,-999.0000,9,   -999.0,9,  -999.00,9,  -999.00,9,  -999.00,9, -999.000,9, -999.000,9, -999.000,9, -999.000,9,-999.0000,9,  -999.00,9,   -999.0,9,-999.000,9,  -999.00,9,   -999.0,9,   -999.0,9,   -999.0,9,  -999.00,9,  -999.0,-999.0000,-999.000,-999.000, 11.5505,-999.000,9
      06MT22_5,   A10,    40,  3,    210,2,19930110,2238,-30.0283, -25.0383, 5705,    499.0,   9.6020,  34.7650,2,-999.0000,9,   -999.0,9,  -999.00,9,  -999.00,9,  -999.00,9, -999.000,9, -999.000,9, -999.000,9, -999.000,9,-999.0000,9,  -999.00,9,   -999.0,9,-999.000,9,  -999.00,9,   -999.0,9,   -999.0,9,   -999.0,9,  -999.00,9,  -999.0,-999.0000,-999.000,-999.000,  9.5450,-999.000,9
      06MT22_5,   A10,    40,  3,    209,2,19930110,2238,-30.0283, -25.0383, 5705,    599.0,   7.6690,  34.5500,2,-999.0000,9,   -999.0,9,  -999.00,9,  -999.00,9,  -999.00,9, -999.000,9, -999.000,9, -999.000,9, -999.000,9,-999.0000,9,  -999.00,9,   -999.0,9,-999.000,9,  -999.00,9,   -999.0,9,   -999.0,9,   -999.0,9,  -999.00,9,  -999.0,-999.0000,-999.000,-999.000,  7.6087,-999.000,9
      06MT22_5,   A10,    40,  3,    208,2,19930110,2238,-30.0283, -25.0383, 5705,    699.0,   6.2030,  34.4090,2,-999.0000,9,   -999.0,9,  -999.00,9,  -999.00,9,  -999.00,9, -999.000,9, -999.000,9, -999.000,9, -999.000,9,-999.0000,9,  -999.00,9,   -999.0,9,-999.000,9,  -999.00,9,   -999.0,9,   -999.0,9,   -999.0,9,  -999.00,9,  -999.0,-999.0000,-999.000,-999.000,  6.1398,-999.000,9
      06MT22_5,   A10,    40,  3,    207,2,19930110,2238,-30.0283, -25.0383, 5705,    799.0,   4.8760,  34.3140,2,-999.0000,9,   -999.0,9,  -999.00,9,  -999.00,9,  -999.00,9, -999.000,9, -999.000,9, -999.000,9, -999.000,9,-999.0000,9,  -999.00,9,   -999.0,9,-999.000,9,  -999.00,9,   -999.0,9,   -999.0,9,   -999.0,9,  -999.00,9,  -999.0,-999.0000,-999.000,-999.000,  4.8113,-999.000,9
      06MT22_5,   A10,    40,  3,    206,2,19930110,2238,-30.0283, -25.0383, 5705,    998.0,   3.6550,  34.3280,2,-999.0000,9,   -999.0,9,  -999.00,9,  -999.00,9,  -999.00,9, -999.000,9, -999.000,9, -999.000,9, -999.000,9,-999.0000,9,  -999.00,9,   -999.0,9,-999.000,9,  -999.00,9,   -999.0,9,   -999.0,9,   -999.0,9,  -999.00,9,  -999.0,-999.0000,-999.000,-999.000,  3.5821,-999.000,9
      06MT22_5,   A10,    40,  3,    205,2,19930110,2238,-30.0283, -25.0383, 5705,   1199.0,   3.1430,  34.4220,2,-999.0000,9,    217.5,2,  -999.00,9,  -999.00,9,  -999.00,9, -999.000,9, -999.000,9, -999.000,9, -999.000,9,-999.0000,9,  -999.00,9,   -999.0,9,-999.000,9,  -999.00,9,   -999.0,9,   -999.0,9,   -999.0,9,  -999.00,9,  -999.0,-999.0000,-999.000,-999.000,  3.0583,-999.000,9
      06MT22_5,   A10,    40,  3,    204,2,19930110,2238,-30.0283, -25.0383, 5705,   1399.0,   2.9120,  34.5610,2,  34.5660,2,    210.3,2,  -999.00,9,  -999.00,9,  -999.00,9,    0.084,2,    0.045,2,    0.411,2, -999.000,9,-999.0000,9,  -999.00,9,   -999.0,9,-999.000,9,  -999.00,9,   2226.6,2,   -999.0,9,   2321.0,2,  -999.00,9,  -999.0,-999.0000,-999.000,-999.000,  2.8135,-999.000,9
      06MT22_5,   A10,    40,  3,    203,2,19930110,2238,-30.0283, -25.0383, 5705,   1598.0,   2.8180,  34.6650,2,  34.6720,2,    198.5,2,  -999.00,9,  -999.00,9,  -999.00,9,    0.031,2,    0.012,2,    0.183,2, -999.000,9,-999.0000,9,  -999.00,9,   -999.0,9,-999.000,9,  -999.00,9,   2223.9,2,   -999.0,9,   2325.9,2,  -999.00,9,  -999.0,-999.0000,-999.000,-999.000,  2.7039,-999.000,9
      06MT22_5,   A10,    40,  3,    202,2,19930110,2238,-30.0283, -25.0383, 5705,   1799.0,   2.7490,  34.7470,2,  34.7540,2,    192.1,2,  -999.00,9,  -999.00,9,  -999.00,9, -999.000,9, -999.000,9, -999.000,9, -999.000,9,-999.0000,9,  -999.00,9,   -999.0,9,-999.000,9,  -999.00,9,   2216.3,2,   -999.0,9,   2329.9,2,  -999.00,9,  -999.0,-999.0000,-999.000,-999.000,  2.6185,-999.000,9
      06MT22_5,   A10,    40,  3,    201,2,19930110,2238,-30.0283, -25.0383, 5705,   2004.0,   2.7010,  34.8020,2,  34.7900,2,    196.3,2,  -999.00,9,  -999.00,9,  -999.00,9, -999.000,9, -999.000,9, -999.000,9, -999.000,9,-999.0000,9,  -999.00,9,   -999.0,9,-999.000,9,  -999.00,9,   2209.6,2,   -999.0,9,   2331.9,2,  -999.00,9,  -999.0,-999.0000,-999.000,-999.000,  2.5531,-999.000,9