BOTTLE,20030417WHPSIOSA
EXPOCODE,SECT_ID,STNNBR,CASTNO,BTLNBR,BTLNBR_FLAG_W,DATE,TIME,LATITUDE,LONGITUDE,DEPTH,CTDPRS,CTDTMP,CTDSAL,CTDSAL_FLAG_W,SALNTY,SALNTY_FLAG_W,OXYGEN,OXYGEN_FLAG_W,SILCAT,SILCAT_FLAG_W,NO2+NO3,NO2+NO3_FLAG_W,PHSPHT,PHSPHT_FLAG_W,CFC-11,CFC-11_FLAG_W,CFC-12,CFC-12_FLAG_W,CCL4,CCL4_FLAG_W,TRITUM,TRITUM_FLAG_W,HELIUM,HELIUM_FLAG_W,DELHE3,DELHE3_FLAG_W,DELC14,DELC14_FLAG_W,NEON,NEON_FLAG_W,O18O16,O18O16_FLAG_W,TCARBN,TCARBN_FLAG_W,PCO2,PCO2_FLAG_W,ALKALI,ALKALI_FLAG_W,PH,PH_FLAG_W,C14ERR,HELIER,DELHER,NEONER,THETA,TRITER,TRITER_FLAG_W
,,,,,,,,,,,DBAR,ITS-90,PSS-78,,PSS-78,,UMOL/KG,,UMOL/KG,,UMOL/KG,,UMOL/KG,,PMOL/KG,,PMOL/KG,,PMOL/KG,,TU,,NMOL/KG,,PERCNT,,/MILLE,,NMOL/KG,,MILLE,,UMOL/KG,,UATM,,UMOL/KG,,,,/MILLE,NMOL/KG,PERCNT,NMOL/KG,ITS-90,TU,
      06MT22_5,   A10,    54,  1,    324,2,19930115,1245,-30.0058, -14.3347, 2753,     11.0,  23.9080,  35.7410,2,  35.7440,2,    217.7,2,     0.69,2,     0.04,9,     0.19,2, -999.000,9, -999.000,9, -999.000,9, -999.000,9,-999.0000,9,  -999.00,9,   -999.0,9,-999.000,9,  -999.00,9,   -999.0,9,   -999.0,9,   -999.0,9,  -999.00,9,  -999.0,-999.0000,-999.000,-999.000, 23.9057,-999.000,9
      06MT22_5,   A10,    54,  1,    323,2,19930115,1245,-30.0058, -14.3347, 2753,     11.0,  23.9050,  35.7410,2,-999.0000,9,   -999.0,9,  -999.00,9,  -999.00,9,  -999.00,9, -999.000,9, -999.000,9, -999.000,9,    0.932,2,   1.6673,7,    -2.62,3,   -999.0,9,   6.676,7,  -999.00,9,   2045.0,2,   -999.0,9,   -999.0,9,  -999.00,9,  -999.0,  0.0058,   0.250,   0.023, 23.9027,   0.024,9
      06MT22_5,   A10,    54,  1,    322,2,19930115,1245,-30.0058, -14.3347, 2753,     31.0,  23.1110,  35.7690,2,-999.0000,9,    225.7,2,     0.74,2,     0.03,9,     0.18,2,    2.012,2,    1.115,2,    2.536,2,    0.915,2,   1.6949,2,    -1.11,2,   -999.0,9,   6.797,2,  -999.00,9,   2043.9,2,   -999.0,9,   -999.0,9,  -999.00,9,  -999.0,  0.0059,   0.250,   0.024, 23.1046,   0.025,9
      06MT22_5,   A10,    54,  1,    321,2,19930115,1245,-30.0058, -14.3347, 2753,     50.0,  20.5600,  35.7790,2,-999.0000,9,    239.1,2,     0.66,2,     0.02,9,     0.18,2,    2.408,2,    1.323,2,    2.677,2,    0.927,2,-999.0000,1,  -999.00,1,   -999.0,9,-999.000,1,  -999.00,9,   2053.4,2,   -999.0,9,   -999.0,9,  -999.00,9,  -999.0,-999.0000,-999.000,-999.000, 20.5506,   0.021,9
      06MT22_5,   A10,    54,  1,    320,2,19930115,1245,-30.0058, -14.3347, 2753,     70.0,  18.8110,  35.7260,2,  35.6900,2,    246.6,2,     0.71,2,     0.00,9,     0.18,2,    2.444,2,    1.336,2,    2.528,2,    0.890,2,-999.0000,1,  -999.00,1,   -999.0,9,-999.000,1,  -999.00,9,   2047.5,2,   -999.0,9,   -999.0,9,  -999.00,9,  -999.0,-999.0000,-999.000,-999.000, 18.7986,   0.022,9
      06MT22_5,   A10,    54,  1,    319,2,19930115,1245,-30.0058, -14.3347, 2753,    101.0,  16.8010,  35.5800,2,-999.0000,9,    243.8,2,     0.77,2,     0.04,9,     0.20,2,    2.558,2,    1.364,2,    2.471,2,    0.888,2,   1.7288,2,    -1.29,2,   -999.0,9,   7.132,2,  -999.00,9,   2052.7,2,   -999.0,9,   -999.0,9,  -999.00,9,  -999.0,  0.0061,   0.250,   0.050, 16.7845,   0.020,9
      06MT22_5,   A10,    54,  1,    318,2,19930115,1245,-30.0058, -14.3347, 2753,    152.0,  15.6570,  35.4680,2,-999.0000,9,    224.6,2,     1.65,2,     2.73,9,     0.40,2,    2.553,2,    1.343,2,    1.558,2, -999.000,9,-999.0000,1,  -999.00,1,   -999.0,9,-999.000,1,  -999.00,9,   2076.0,2,   -999.0,9,   -999.0,9,  -999.00,9,  -999.0,-999.0000,-999.000,-999.000, 15.6333,-999.000,9
      06MT22_5,   A10,    54,  1,    317,2,19930115,1245,-30.0058, -14.3347, 2753,    204.0,  14.6140,  35.3460,2,-999.0000,9,    214.2,2,     3.22,2,     5.94,9,     0.58,2,    2.456,2,    1.300,2,    0.921,2,    0.820,2,-999.0000,1,  -999.00,1,   -999.0,9,-999.000,1,  -999.00,9,   2091.9,2,   -999.0,9,   -999.0,9,  -999.00,9,  -999.0,-999.0000,-999.000,-999.000, 14.5836,   0.019,9
      06MT22_5,   A10,    54,  1,    316,2,19930115,1245,-30.0058, -14.3347, 2753,    300.0,  13.0150,  35.1570,2,  35.1610,2,    206.2,2,     4.10,2,    10.69,9,     0.84,2,    2.289,2,    1.173,2,    0.779,2,    0.841,2,-999.0000,1,  -999.00,1,   -999.0,9,-999.000,1,  -999.00,9,   2106.2,2,   -999.0,9,   -999.0,9,  -999.00,9,  -999.0,-999.0000,-999.000,-999.000, 12.9735,   0.021,9
      06MT22_5,   A10,    54,  1,    315,2,19930115,1245,-30.0058, -14.3347, 2753,    402.0,  11.2930,  34.9600,2,-999.0000,9,    205.3,2,     7.08,2,    15.02,9,     1.07,2,    2.042,2,    1.027,2,    0.964,2,    0.558,2,   1.7547,2,     0.48,2,   -999.0,9,   7.378,2,  -999.00,9,   2123.1,2,   -999.0,9,   -999.0,9,  -999.00,9,  -999.0,  0.0061,   0.250,   0.026, 11.2424,   0.014,9
      06MT22_5,   A10,    54,  1,    314,2,19930115,1245,-30.0058, -14.3347, 2753,    499.0,   9.2170,  34.7180,2,-999.0000,9,    202.9,2,     9.11,2,    20.47,9,     1.43,2,    1.770,2,    0.885,2,    1.312,2,    0.397,2,-999.0000,1,  -999.00,1,   -999.0,9,-999.000,1,  -999.00,9,   2142.1,2,   -999.0,9,   -999.0,9,  -999.00,9,  -999.0,-999.0000,-999.000,-999.000,  9.1614,   0.011,9
      06MT22_5,   A10,    54,  1,    313,2,19930115,1245,-30.0058, -14.3347, 2753,    599.0,   7.4110,  34.5360,2,  34.5350,2,    204.4,2,    13.06,2,    24.78,9,     1.68,2,    1.547,2,    0.751,2,    1.686,2,    0.285,2,-999.0000,1,  -999.00,1,   -999.0,9,-999.000,1,  -999.00,9,   2155.8,2,   -999.0,9,   -999.0,9,  -999.00,9,  -999.0,-999.0000,-999.000,-999.000,  7.3518,   0.009,9
      06MT22_5,   A10,    54,  1,    312,2,19930115,1245,-30.0058, -14.3347, 2753,    849.0,   4.4860,  34.3150,2,-999.0000,9,    222.3,2,    24.03,2,    30.16,9,     2.06,2,    1.184,2,    0.559,2,    2.230,2,    0.140,2,   1.7944,7,     2.28,2,   -999.0,9,   7.740,7,  -999.00,9,   2176.1,2,   -999.0,9,   -999.0,9,  -999.00,9,  -999.0,  0.0063,   0.250,   0.027,  4.4192,   0.022,9
      06MT22_5,   A10,    54,  1,    311,2,19930115,1245,-30.0058, -14.3347, 2753,   1000.0,   3.5930,  34.3380,2,-999.0000,9,    211.5,2,    35.53,2,    32.53,9,     2.23,2,    0.691,2,    0.327,2,    1.663,2, -999.000,9,-999.0000,1,  -999.00,1,   -999.0,9,-999.000,1,  -999.00,9,   2214.7,2,   -999.0,9,   -999.0,9,  -999.00,9,  -999.0,-999.0000,-999.000,-999.000,  3.5201,-999.000,9
      06MT22_5,   A10,    54,  1,    310,2,19930115,1245,-30.0058, -14.3347, 2753,   1200.0,   3.1150,  34.4520,2,-999.0000,9,    193.3,2,    49.13,2,    33.72,9,     2.33,2,    0.244,2,    0.108,2,    0.834,2,    0.039,2,-999.0000,1,  -999.00,1,   -999.0,9,-999.000,1,  -999.00,9,   2222.8,2,   -999.0,9,   -999.0,9,  -999.00,9,  -999.0,-999.0000,-999.000,-999.000,  3.0301,   0.004,9
      06MT22_5,   A10,    54,  1,    309,2,19930115,1245,-30.0058, -14.3347, 2753,   1401.0,   2.8640,  34.5920,2,-999.0000,9,    189.6,2,    55.95,2,    32.80,9,     2.23,2,    0.070,2,    0.025,2,    0.355,2,    0.015,2,   1.8163,5,     6.57,3,   -999.0,9,   7.884,5,  -999.00,9,   2228.2,2,   -999.0,9,   -999.0,9,  -999.00,9,  -999.0,  0.0073,   0.250,   0.032,  2.7654,   0.003,9
      06MT22_5,   A10,    54,  1,    308,2,19930115,1245,-30.0058, -14.3347, 2753,   1574.0,   2.8070,  34.6670,2,-999.0000,9,    202.7,2,  -999.00,9,  -999.00,9,  -999.00,9,    0.422,4,    0.187,4,    0.527,4,    0.241,4,   1.8256,2,     4.59,2,   -999.0,9,   7.834,7,  -999.00,9,   2184.2,3,   -999.0,9,   -999.0,9,  -999.00,9,  -999.0,  0.0064,   0.250,   0.027,  2.6948,   0.010,9
      06MT22_5,   A10,    54,  1,    307,2,19930115,1245,-30.0058, -14.3347, 2753,   1800.0,   2.6870,  34.7630,2,  34.7620,2,    210.9,2,    52.27,2,    28.59,9,     1.92,2,    0.009,2,    0.007,2,    0.093,2,    0.003,2,-999.0000,1,  -999.00,1,   -999.0,9,-999.000,1,  -999.00,9,   2216.4,2,   -999.0,9,   -999.0,9,  -999.00,9,  -999.0,-999.0000,-999.000,-999.000,  2.5572,   0.003,9
      06MT22_5,   A10,    54,  1,    306,2,19930115,1245,-30.0058, -14.3347, 2753,   1999.0,   2.6370,  34.8040,2,-999.0000,9,    220.5,2,    50.95,2,    27.35,9,     1.83,2,    0.003,2,    0.002,2,    0.047,2,    0.008,2,   1.8413,5,     6.92,3,   -999.0,9,   7.995,5,  -999.00,9,   2207.2,2,   -999.0,9,   -999.0,9,  -999.00,9,  -999.0,  0.0074,   0.250,   0.032,  2.4903,   0.003,9
      06MT22_5,   A10,    54,  1,    305,2,19930115,1245,-30.0058, -14.3347, 2753,   2252.0,   2.5860,  34.8330,2,-999.0000,9,    229.7,2,    48.88,2,    26.07,9,     1.72,2,   -0.001,2,    0.000,2,    0.029,2,   -0.003,2,   1.8462,2,     7.05,2,   -999.0,9,   8.002,2,  -999.00,9,   2202.5,2,   -999.0,9,   -999.0,9,  -999.00,9,  -999.0,  0.0065,   0.250,   0.028,  2.4173,   0.008,9
      06MT22_5,   A10,    54,  1,    304,2,19930115,1245,-30.0058, -14.3347, 2753,   2497.0,   2.5760,  34.8410,2,  34.8390,2,    230.8,2,    48.47,2,    25.73,9,     1.71,2,   -0.001,2,    0.001,2,    0.024,2,    0.004,2,   1.8453,5,     7.36,3,   -999.0,9,   8.017,5,  -999.00,9,   2199.0,2,   -999.0,9,   -999.0,9,  -999.00,9,  -999.0,  0.0074,   0.250,   0.032,  2.3846,   0.005,9
      06MT22_5,   A10,    54,  1,    303,2,19930115,1245,-30.0058, -14.3347, 2753,   2676.0,   2.5680,  34.8440,2,-999.0000,9,    231.8,2,    48.50,2,    25.59,9,     1.70,2,    0.000,2,    0.002,2,    0.019,2, -999.000,9,   1.8475,5,     7.31,3,   -999.0,9,   8.011,5,  -999.00,9,   2202.0,2,   -999.0,9,   -999.0,9,  -999.00,9,  -999.0,  0.0074,   0.250,   0.032,  2.3594,-999.000,9
      06MT22_5,   A10,    54,  1,    302,2,19930115,1245,-30.0058, -14.3347, 2753,   2777.0,   2.5460,  34.8470,2,-999.0000,9,    233.5,2,    48.50,2,    25.42,9,     1.68,2,   -0.001,2,    0.000,2,   -0.001,4,    0.005,2,-999.0000,1,  -999.00,1,   -999.0,9,-999.000,1,  -999.00,9,   2201.1,2,   -999.0,9,   -999.0,9,  -999.00,9,  -999.0,-999.0000,-999.000,-999.000,  2.3279,   0.003,9
      06MT22_5,   A10,    54,  1,    301,2,19930115,1245,-30.0058, -14.3347, 2753,   2808.0,   2.5210,  34.8480,2,  34.8480,2,    234.8,2,    49.23,2,    25.36,9,     1.70,2, -999.000,9, -999.000,9, -999.000,9, -999.000,9,-999.0000,9,  -999.00,9,   -999.0,9,-999.000,9,  -999.00,9,   2200.8,2,   -999.0,9,   -999.0,9,  -999.00,9,  -999.0,-999.0000,-999.000,-999.000,  2.3003,-999.000,9
      06MT22_5,   A10,    55,  1,    324,2,19930115,1712,-30.0033, -13.7017, 2278,     10.0,  24.8130,  35.8880,2,  35.8520,2,    219.9,2,     0.57,2,     0.00,9,     0.14,2, -999.000,9, -999.000,9, -999.000,9, -999.000,9,-999.0000,9,  -999.00,9,   -999.0,9,-999.000,9,  -999.00,9,   -999.0,0,   -999.0,9,   -999.0,9,  -999.00,9,  -999.0,-999.0000,-999.000,-999.000, 24.8108,-999.000,9
      06MT22_5,   A10,    55,  1,    322,2,19930115,1712,-30.0033, -13.7017, 2278,     10.0,  24.3810,  35.8190,2,-999.0000,9,   -999.0,9,  -999.00,9,  -999.00,9,  -999.00,9, -999.000,9, -999.000,9, -999.000,9, -999.000,9,-999.0000,9,  -999.00,9,   -999.0,9,-999.000,9,  -999.00,9,   -999.0,0,   -999.0,9,   -999.0,9,  -999.00,9,  -999.0,-999.0000,-999.000,-999.000, 24.3789,-999.000,9
      06MT22_5,   A10,    55,  1,    321,2,19930115,1712,-30.0033, -13.7017, 2278,     29.0,  21.9520,  35.7470,2,-999.0000,9,    232.3,2,     0.65,2,     0.04,9,     0.15,2, -999.000,9, -999.000,9, -999.000,9, -999.000,9,-999.0000,9,  -999.00,9,   -999.0,9,-999.000,9,  -999.00,9,   -999.0,0,   -999.0,9,   -999.0,9,  -999.00,9,  -999.0,-999.0000,-999.000,-999.000, 21.9463,-999.000,9
      06MT22_5,   A10,    55,  1,    320,2,19930115,1712,-30.0033, -13.7017, 2278,     51.0,  19.3530,  35.7180,2,-999.0000,9,    245.7,2,     0.74,2,     0.02,9,     0.14,2, -999.000,9, -999.000,9, -999.000,9, -999.000,9,-999.0000,9,  -999.00,9,   -999.0,9,-999.000,9,  -999.00,9,   -999.0,0,   -999.0,9,   -999.0,9,  -999.00,9,  -999.0,-999.0000,-999.000,-999.000, 19.3438,-999.000,9
      06MT22_5,   A10,    55,  1,    319,2,19930115,1712,-30.0033, -13.7017, 2278,     70.0,  18.4310,  35.6890,2,  35.6930,2,    247.9,2,     0.46,2,     0.03,9,     0.15,2, -999.000,9, -999.000,9, -999.000,9, -999.000,9,-999.0000,9,  -999.00,9,   -999.0,9,-999.000,9,  -999.00,9,   -999.0,0,   -999.0,9,   -999.0,9,  -999.00,9,  -999.0,-999.0000,-999.000,-999.000, 18.4188,-999.000,9
      06MT22_5,   A10,    55,  1,    318,2,19930115,1712,-30.0033, -13.7017, 2278,    101.0,  17.3000,  35.6390,2,-999.0000,9,    243.8,2,     0.55,2,     0.03,9,     0.15,2, -999.000,9, -999.000,9, -999.000,9, -999.000,9,-999.0000,9,  -999.00,9,   -999.0,9,-999.000,9,  -999.00,9,   -999.0,0,   -999.0,9,   -999.0,9,  -999.00,9,  -999.0,-999.0000,-999.000,-999.000, 17.2831,-999.000,9
      06MT22_5,   A10,    55,  1,    317,2,19930115,1712,-30.0033, -13.7017, 2278,    152.0,  16.4150,  35.5930,2,-999.0000,9,    225.8,2,     1.10,2,     1.50,9,     0.27,2, -999.000,9, -999.000,9, -999.000,9, -999.000,9,-999.0000,9,  -999.00,9,   -999.0,9,-999.000,9,  -999.00,9,   -999.0,0,   -999.0,9,   -999.0,9,  -999.00,9,  -999.0,-999.0000,-999.000,-999.000, 16.3905,-999.000,9
      06MT22_5,   A10,    55,  1,    316,2,19930115,1712,-30.0033, -13.7017, 2278,    199.0,  15.4270,  35.4560,2,  35.4620,2,    218.8,2,     2.03,2,     3.93,9,     0.41,2, -999.000,9, -999.000,9, -999.000,9, -999.000,9,-999.0000,9,  -999.00,9,   -999.0,9,-999.000,9,  -999.00,9,   -999.0,0,   -999.0,9,   -999.0,9,  -999.00,9,  -999.0,-999.0000,-999.000,-999.000, 15.3962,-999.000,9
      06MT22_5,   A10,    55,  1,    315,2,19930115,1712,-30.0033, -13.7017, 2278,    300.0,  13.4430,  35.2140,2,-999.0000,9,    215.9,2,     2.91,2,     8.26,9,     0.63,2, -999.000,9, -999.000,9, -999.000,9, -999.000,9,-999.0000,9,  -999.00,9,   -999.0,9,-999.000,9,  -999.00,9,   -999.0,0,   -999.0,9,   -999.0,9,  -999.00,9,  -999.0,-999.0000,-999.000,-999.000, 13.4007,-999.000,9
      06MT22_5,   A10,    55,  1,    314,2,19930115,1712,-30.0033, -13.7017, 2278,    400.0,  11.9110,  35.0400,2,-999.0000,9,    210.7,2,     4.54,2,    12.58,9,     0.89,2, -999.000,9, -999.000,9, -999.000,9, -999.000,9,-999.0000,9,  -999.00,9,   -999.0,9,-999.000,9,  -999.00,9,   -999.0,0,   -999.0,9,   -999.0,9,  -999.00,9,  -999.0,-999.0000,-999.000,-999.000, 11.8587,-999.000,9
      06MT22_5,   A10,    55,  1,    313,2,19930115,1712,-30.0033, -13.7017, 2278,    501.0,  10.2070,  34.8280,2,  34.8330,2,    206.2,2,     7.05,2,    17.35,9,     1.22,2, -999.000,9, -999.000,9, -999.000,9, -999.000,9,-999.0000,9,  -999.00,9,   -999.0,9,-999.000,9,  -999.00,9,   -999.0,0,   -999.0,9,   -999.0,9,  -999.00,9,  -999.0,-999.0000,-999.000,-999.000, 10.1473,-999.000,9
      06MT22_5,   A10,    55,  1,    312,2,19930115,1712,-30.0033, -13.7017, 2278,    602.0,   8.0810,  34.5980,2,-999.0000,9,    196.3,2,    12.25,2,    23.89,9,     1.63,2, -999.000,9, -999.000,9, -999.000,9, -999.000,9,-999.0000,9,  -999.00,9,   -999.0,9,-999.000,9,  -999.00,9,   -999.0,0,   -999.0,9,   -999.0,9,  -999.00,9,  -999.0,-999.0000,-999.000,-999.000,  8.0187,-999.000,9
      06MT22_5,   A10,    55,  1,    311,2,19930115,1712,-30.0033, -13.7017, 2278,    699.0,   6.1170,  34.4220,2,-999.0000,9,    211.1,2,    16.94,2,    27.33,9,     1.86,2, -999.000,9, -999.000,9, -999.000,9, -999.000,9,-999.0000,9,  -999.00,9,   -999.0,9,-999.000,9,  -999.00,9,   -999.0,0,   -999.0,9,   -999.0,9,  -999.00,9,  -999.0,-999.0000,-999.000,-999.000,  6.0545,-999.000,9
      06MT22_5,   A10,    55,  1,    310,2,19930115,1712,-30.0033, -13.7017, 2278,    851.0,   4.6620,  34.3420,2,  34.3430,2,    213.8,2,    25.02,2,    30.35,9,     2.08,2, -999.000,9, -999.000,9, -999.000,9, -999.000,9,-999.0000,9,  -999.00,9,   -999.0,9,-999.000,9,  -999.00,9,   -999.0,0,   -999.0,9,   -999.0,9,  -999.00,9,  -999.0,-999.0000,-999.000,-999.000,  4.5944,-999.000,9
      06MT22_5,   A10,    55,  1,    309,2,19930115,1712,-30.0033, -13.7017, 2278,   1001.0,   3.7600,  34.3530,2,-999.0000,9,    205.7,2,    35.68,2,    32.61,9,     2.23,2, -999.000,9, -999.000,9, -999.000,9, -999.000,9,-999.0000,9,  -999.00,9,   -999.0,9,-999.000,9,  -999.00,9,   -999.0,0,   -999.0,9,   -999.0,9,  -999.00,9,  -999.0,-999.0000,-999.000,-999.000,  3.6860,-999.000,9
      06MT22_5,   A10,    55,  1,    308,2,19930115,1712,-30.0033, -13.7017, 2278,   1201.0,   3.1100,  34.4500,2,-999.0000,9,    194.3,2,    48.70,2,    33.73,9,     2.35,2, -999.000,9, -999.000,9, -999.000,9, -999.000,9,-999.0000,9,  -999.00,9,   -999.0,9,-999.000,9,  -999.00,9,   -999.0,0,   -999.0,9,   -999.0,9,  -999.00,9,  -999.0,-999.0000,-999.000,-999.000,  3.0254,-999.000,9
      06MT22_5,   A10,    55,  1,    307,2,19930115,1712,-30.0033, -13.7017, 2278,   1400.0,   2.8870,  34.5600,2,  34.5600,2,    189.5,2,    55.25,2,    33.18,9,     2.30,2, -999.000,9, -999.000,9, -999.000,9, -999.000,9,-999.0000,9,  -999.00,9,   -999.0,9,-999.000,9,  -999.00,9,   -999.0,0,   -999.0,9,   -999.0,9,  -999.00,9,  -999.0,-999.0000,-999.000,-999.000,  2.7887,-999.000,9
      06MT22_5,   A10,    55,  1,    306,2,19930115,1712,-30.0033, -13.7017, 2278,   1600.0,   2.8070,  34.6710,2,-999.0000,9,    195.3,2,    55.62,2,    31.15,9,     2.17,2, -999.000,9, -999.000,9, -999.000,9, -999.000,9,-999.0000,9,  -999.00,9,   -999.0,9,-999.000,9,  -999.00,9,   -999.0,0,   -999.0,9,   -999.0,9,  -999.00,9,  -999.0,-999.0000,-999.000,-999.000,  2.6925,-999.000,9
      06MT22_5,   A10,    55,  1,    305,2,19930115,1712,-30.0033, -13.7017, 2278,   1796.0,   2.7390,  34.7360,2,-999.0000,9,    205.6,2,    54.55,2,    29.64,9,     2.02,2, -999.000,9, -999.000,9, -999.000,9, -999.000,9,-999.0000,9,  -999.00,9,   -999.0,9,-999.000,9,  -999.00,9,   -999.0,0,   -999.0,9,   -999.0,9,  -999.00,9,  -999.0,-999.0000,-999.000,-999.000,  2.6087,-999.000,9
      06MT22_5,   A10,    55,  1,    304,2,19930115,1712,-30.0033, -13.7017, 2278,   2002.0,   2.6610,  34.7940,2,  34.7940,2,    217.4,2,    51.77,2,    27.62,9,     1.84,2, -999.000,9, -999.000,9, -999.000,9, -999.000,9,-999.0000,9,  -999.00,9,   -999.0,9,-999.000,9,  -999.00,9,   -999.0,0,   -999.0,9,   -999.0,9,  -999.00,9,  -999.0,-999.0000,-999.000,-999.000,  2.5138,-999.000,9
      06MT22_5,   A10,    55,  1,    303,2,19930115,1712,-30.0033, -13.7017, 2278,   2196.0,   2.6090,  34.8260,2,  34.8260,2,    226.4,2,    49.09,2,    26.14,9,     1.76,2, -999.000,9, -999.000,9, -999.000,9, -999.000,9,-999.0000,9,  -999.00,9,   -999.0,9,-999.000,9,  -999.00,9,   -999.0,0,   -999.0,9,   -999.0,9,  -999.00,9,  -999.0,-999.0000,-999.000,-999.000,  2.4451,-999.000,9
      06MT22_5,   A10,    55,  1,    302,2,19930115,1712,-30.0033, -13.7017, 2278,   2276.0,   2.5920,  34.8330,2,  34.8330,2,    230.4,2,    48.40,2,    25.84,9,     1.75,2, -999.000,9, -999.000,9, -999.000,9, -999.000,9,-999.0000,9,  -999.00,9,   -999.0,9,-999.000,9,  -999.00,9,   -999.0,0,   -999.0,9,   -999.0,9,  -999.00,9,  -999.0,-999.0000,-999.000,-999.000,  2.4210,-999.000,9
      06MT22_5,   A10,    55,  1,    301,2,19930115,1712,-30.0033, -13.7017, 2278,   2280.0,   2.5930,  34.8330,2,  34.8330,2,    229.4,2,    48.59,2,    25.81,9,     1.73,2, -999.000,9, -999.000,9, -999.000,9, -999.000,9,-999.0000,9,  -999.00,9,   -999.0,9,-999.000,9,  -999.00,9,   -999.0,0,   -999.0,9,   -999.0,9,  -999.00,9,  -999.0,-999.0000,-999.000,-999.000,  2.4216,-999.000,9