BOTTLE,20030417WHPSIOSA
EXPOCODE,SECT_ID,STNNBR,CASTNO,BTLNBR,BTLNBR_FLAG_W,DATE,TIME,LATITUDE,LONGITUDE,DEPTH,CTDPRS,CTDTMP,CTDSAL,CTDSAL_FLAG_W,SALNTY,SALNTY_FLAG_W,OXYGEN,OXYGEN_FLAG_W,SILCAT,SILCAT_FLAG_W,NO2+NO3,NO2+NO3_FLAG_W,PHSPHT,PHSPHT_FLAG_W,CFC-11,CFC-11_FLAG_W,CFC-12,CFC-12_FLAG_W,CCL4,CCL4_FLAG_W,TRITUM,TRITUM_FLAG_W,HELIUM,HELIUM_FLAG_W,DELHE3,DELHE3_FLAG_W,DELC14,DELC14_FLAG_W,NEON,NEON_FLAG_W,O18O16,O18O16_FLAG_W,TCARBN,TCARBN_FLAG_W,PCO2,PCO2_FLAG_W,ALKALI,ALKALI_FLAG_W,PH,PH_FLAG_W,C14ERR,HELIER,DELHER,NEONER,THETA,TRITER,TRITER_FLAG_W
,,,,,,,,,,,DBAR,ITS-90,PSS-78,,PSS-78,,UMOL/KG,,UMOL/KG,,UMOL/KG,,UMOL/KG,,PMOL/KG,,PMOL/KG,,PMOL/KG,,TU,,NMOL/KG,,PERCNT,,/MILLE,,NMOL/KG,,MILLE,,UMOL/KG,,UATM,,UMOL/KG,,,,/MILLE,NMOL/KG,PERCNT,NMOL/KG,ITS-90,TU,
      06MT22_5,   A10,    63,  2,    324,2,19930117,1845,-30.0035,  -8.1623, 3948,     11.0,  25.2600,  36.2570,2,  36.2560,2,   -999.0,9,  -999.00,9,  -999.00,9,  -999.00,9, -999.000,9, -999.000,9, -999.000,9, -999.000,9,-999.0000,9,  -999.00,9,   -999.0,9,-999.000,9,  -999.00,9,   -999.0,0,   -999.0,9,   -999.0,9,  -999.00,9,  -999.0,-999.0000,-999.000,-999.000, 25.2576,-999.000,9
      06MT22_5,   A10,    63,  2,    320,2,19930117,1845,-30.0035,  -8.1623, 3948,    499.0,   9.7560,  34.7720,2,-999.0000,9,    206.5,2,     8.37,2,    18.27,9,     1.29,2, -999.000,9, -999.000,9, -999.000,9, -999.000,9,-999.0000,9,  -999.00,9,   -999.0,9,-999.000,9,  -999.00,9,   -999.0,0,   -999.0,9,   -999.0,9,  -999.00,9,  -999.0,-999.0000,-999.000,-999.000,  9.6984,-999.000,9
      06MT22_5,   A10,    63,  2,    321,2,19930117,1845,-30.0035,  -8.1623, 3948,    500.0,   9.7570,  34.7700,2,-999.0000,9,   -999.0,9,  -999.00,9,  -999.00,9,  -999.00,9, -999.000,9, -999.000,9, -999.000,9, -999.000,9,-999.0000,9,  -999.00,9,   -999.0,9,-999.000,9,  -999.00,9,   -999.0,0,   -999.0,9,   -999.0,9,  -999.00,9,  -999.0,-999.0000,-999.000,-999.000,  9.6993,-999.000,9
      06MT22_5,   A10,    63,  2,    319,2,19930117,1845,-30.0035,  -8.1623, 3948,    599.0,   7.8550,  34.5680,2,  34.5580,2,    204.6,2,    11.45,2,    23.28,9,     1.61,2, -999.000,9, -999.000,9, -999.000,9, -999.000,9,-999.0000,9,  -999.00,9,   -999.0,9,-999.000,9,  -999.00,9,   -999.0,0,   -999.0,9,   -999.0,9,  -999.00,9,  -999.0,-999.0000,-999.000,-999.000,  7.7938,-999.000,9
      06MT22_5,   A10,    63,  2,    318,2,19930117,1845,-30.0035,  -8.1623, 3948,    698.0,   6.0690,  34.4160,2,-999.0000,9,    213.7,2,    19.73,2,    28.23,9,     1.98,2, -999.000,9, -999.000,9, -999.000,9, -999.000,9,-999.0000,9,  -999.00,9,   -999.0,9,-999.000,9,  -999.00,9,   -999.0,0,   -999.0,9,   -999.0,9,  -999.00,9,  -999.0,-999.0000,-999.000,-999.000,  6.0069,-999.000,9
      06MT22_5,   A10,    63,  2,    317,2,19930117,1845,-30.0035,  -8.1623, 3948,    849.0,   4.5820,  34.3200,2,-999.0000,9,    218.0,2,    23.91,2,    29.90,9,     2.09,2, -999.000,9, -999.000,9, -999.000,9, -999.000,9,-999.0000,9,  -999.00,9,   -999.0,9,-999.000,9,  -999.00,9,   -999.0,0,   -999.0,9,   -999.0,9,  -999.00,9,  -999.0,-999.0000,-999.000,-999.000,  4.5151,-999.000,9
      06MT22_5,   A10,    63,  2,    316,2,19930117,1845,-30.0035,  -8.1623, 3948,    999.0,   3.6580,  34.3450,2,  34.3440,2,    207.8,2,    36.01,2,    32.11,9,     2.20,2, -999.000,9, -999.000,9, -999.000,9, -999.000,9,-999.0000,9,  -999.00,9,   -999.0,9,-999.000,9,  -999.00,9,   -999.0,0,   -999.0,9,   -999.0,9,  -999.00,9,  -999.0,-999.0000,-999.000,-999.000,  3.5853,-999.000,9
      06MT22_5,   A10,    63,  2,    315,2,19930117,1845,-30.0035,  -8.1623, 3948,   1200.0,   3.1560,  34.4550,2,-999.0000,9,    189.8,2,    50.02,2,    33.41,9,     2.35,2, -999.000,9, -999.000,9, -999.000,9, -999.000,9,-999.0000,9,  -999.00,9,   -999.0,9,-999.000,9,  -999.00,9,   -999.0,0,   -999.0,9,   -999.0,9,  -999.00,9,  -999.0,-999.0000,-999.000,-999.000,  3.0708,-999.000,9
      06MT22_5,   A10,    63,  2,    314,2,19930117,1845,-30.0035,  -8.1623, 3948,   1400.0,   2.9290,  34.5880,2,-999.0000,9,    185.5,2,    56.22,2,    32.47,9,     2.27,2, -999.000,9, -999.000,9, -999.000,9, -999.000,9,-999.0000,9,  -999.00,9,   -999.0,9,-999.000,9,  -999.00,9,   -999.0,0,   -999.0,9,   -999.0,9,  -999.00,9,  -999.0,-999.0000,-999.000,-999.000,  2.8299,-999.000,9
      06MT22_5,   A10,    63,  2,    313,2,19930117,1845,-30.0035,  -8.1623, 3948,   1599.0,   2.8990,  34.6890,2,  34.6880,2,    194.9,2,    55.97,2,    30.61,9,     2.13,2, -999.000,9, -999.000,9, -999.000,9, -999.000,9,-999.0000,9,  -999.00,9,   -999.0,9,-999.000,9,  -999.00,9,   -999.0,0,   -999.0,9,   -999.0,9,  -999.00,9,  -999.0,-999.0000,-999.000,-999.000,  2.7838,-999.000,9
      06MT22_5,   A10,    63,  2,    312,2,19930117,1845,-30.0035,  -8.1623, 3948,   1800.0,   2.8320,  34.7620,2,-999.0000,9,    206.0,2,    51.36,2,    28.65,9,     1.96,2, -999.000,9, -999.000,9, -999.000,9, -999.000,9,-999.0000,9,  -999.00,9,   -999.0,9,-999.000,9,  -999.00,9,   -999.0,0,   -999.0,9,   -999.0,9,  -999.00,9,  -999.0,-999.0000,-999.000,-999.000,  2.7000,-999.000,9
      06MT22_5,   A10,    63,  2,    311,2,19930117,1845,-30.0035,  -8.1623, 3948,   2000.0,   2.6910,  34.8020,2,-999.0000,9,    215.0,2,    51.67,2,    27.32,9,     1.86,2, -999.000,9, -999.000,9, -999.000,9, -999.000,9,-999.0000,9,  -999.00,9,   -999.0,9,-999.000,9,  -999.00,9,   -999.0,0,   -999.0,9,   -999.0,9,  -999.00,9,  -999.0,-999.0000,-999.000,-999.000,  2.5434,-999.000,9
      06MT22_5,   A10,    63,  2,    310,2,19930117,1845,-30.0035,  -8.1623, 3948,   2249.0,   2.5600,  34.8310,2,  34.8290,2,    223.2,2,    51.47,2,    26.06,9,     1.79,2, -999.000,9, -999.000,9, -999.000,9, -999.000,9,-999.0000,9,  -999.00,9,   -999.0,9,-999.000,9,  -999.00,9,   -999.0,0,   -999.0,9,   -999.0,9,  -999.00,9,  -999.0,-999.0000,-999.000,-999.000,  2.3921,-999.000,9
      06MT22_5,   A10,    63,  2,    309,2,19930117,1845,-30.0035,  -8.1623, 3948,   2501.0,   2.4730,  34.8510,2,-999.0000,9,    231.0,2,    50.95,2,    25.17,9,     1.66,2, -999.000,9, -999.000,9, -999.000,9, -999.000,9,-999.0000,9,  -999.00,9,   -999.0,9,-999.000,9,  -999.00,9,   -999.0,0,   -999.0,9,   -999.0,9,  -999.00,9,  -999.0,-999.0000,-999.000,-999.000,  2.2830,-999.000,9
      06MT22_5,   A10,    63,  2,    308,2,19930117,1845,-30.0035,  -8.1623, 3948,   2751.0,   2.4250,  34.8630,2,-999.0000,9,    235.7,2,    49.89,2,    24.54,9,     1.64,2, -999.000,9, -999.000,9, -999.000,9, -999.000,9,-999.0000,9,  -999.00,9,   -999.0,9,-999.000,9,  -999.00,9,   -999.0,0,   -999.0,9,   -999.0,9,  -999.00,9,  -999.0,-999.0000,-999.000,-999.000,  2.2118,-999.000,9
      06MT22_5,   A10,    63,  2,    307,2,19930117,1845,-30.0035,  -8.1623, 3948,   3002.0,   2.3850,  34.8700,2,  34.8690,2,    238.7,2,    52.36,2,    24.18,9,     1.62,2, -999.000,9, -999.000,9, -999.000,9, -999.000,9,-999.0000,9,  -999.00,9,   -999.0,9,-999.000,9,  -999.00,9,   -999.0,0,   -999.0,9,   -999.0,9,  -999.00,9,  -999.0,-999.0000,-999.000,-999.000,  2.1477,-999.000,9
      06MT22_5,   A10,    63,  2,    306,2,19930117,1845,-30.0035,  -8.1623, 3948,   3252.0,   2.3750,  34.8740,2,-999.0000,9,    238.6,2,    50.01,2,    24.30,9,     1.58,2, -999.000,9, -999.000,9, -999.000,9, -999.000,9,-999.0000,9,  -999.00,9,   -999.0,9,-999.000,9,  -999.00,9,   -999.0,0,   -999.0,9,   -999.0,9,  -999.00,9,  -999.0,-999.0000,-999.000,-999.000,  2.1122,-999.000,9
      06MT22_5,   A10,    63,  2,    305,2,19930117,1845,-30.0035,  -8.1623, 3948,   3503.0,   2.3750,  34.8780,2,-999.0000,9,    238.4,2,    50.37,2,    24.23,9,     1.61,2, -999.000,9, -999.000,9, -999.000,9, -999.000,9,-999.0000,9,  -999.00,9,   -999.0,9,-999.000,9,  -999.00,9,   -999.0,0,   -999.0,9,   -999.0,9,  -999.00,9,  -999.0,-999.0000,-999.000,-999.000,  2.0855,-999.000,9
      06MT22_5,   A10,    63,  2,    304,2,19930117,1845,-30.0035,  -8.1623, 3948,   3760.0,   2.3820,  34.8810,2,  34.8800,2,    235.2,2,    50.95,2,    24.22,9,     1.62,2, -999.000,9, -999.000,9, -999.000,9, -999.000,9,-999.0000,9,  -999.00,9,   -999.0,9,-999.000,9,  -999.00,9,   -999.0,0,   -999.0,9,   -999.0,9,  -999.00,9,  -999.0,-999.0000,-999.000,-999.000,  2.0642,-999.000,9
      06MT22_5,   A10,    63,  2,    303,2,19930117,1845,-30.0035,  -8.1623, 3948,   3884.0,   2.3910,  34.8810,2,-999.0000,9,    235.7,2,    51.17,2,    24.22,9,     1.58,2, -999.000,9, -999.000,9, -999.000,9, -999.000,9,-999.0000,9,  -999.00,9,   -999.0,9,-999.000,9,  -999.00,9,   -999.0,0,   -999.0,9,   -999.0,9,  -999.00,9,  -999.0,-999.0000,-999.000,-999.000,  2.0591,-999.000,9
      06MT22_5,   A10,    63,  2,    301,2,19930117,1845,-30.0035,  -8.1623, 3948,   3966.0,   2.3970,  34.8810,2,-999.0000,9,    235.2,2,    51.29,2,    24.14,9,     1.61,2,    0.009,2,    0.000,2,    0.019,2, -999.000,9,-999.0000,9,  -999.00,9,   -999.0,9,-999.000,9,  -999.00,9,   -999.0,0,   -999.0,9,   -999.0,9,  -999.00,9,  -999.0,-999.0000,-999.000,-999.000,  2.0477,-999.000,9
      06MT22_5,   A10,    63,  2,    302,2,19930117,1845,-30.0035,  -8.1623, 3948,   3967.0,   2.3970,  34.8820,2,  34.8810,2,   -999.0,9,  -999.00,9,  -999.00,9,  -999.00,9,    0.008,2,   -0.001,2,    0.016,2, -999.000,9,-999.0000,9,  -999.00,9,   -999.0,9,-999.000,9,  -999.00,9,   -999.0,0,   -999.0,9,   -999.0,9,  -999.00,9,  -999.0,-999.0000,-999.000,-999.000,  2.0555,-999.000,9
      06MT22_5,   A10,    64,  1,    217,2,19930118,0210,-30.0017,  -7.3322, 4177,     12.0,  24.5970,  35.8980,2,  35.9010,2,    215.8,2,     0.83,2,     0.04,9,     0.19,2, -999.000,9, -999.000,9, -999.000,9, -999.000,9,-999.0000,9,  -999.00,9,   -999.0,9,-999.000,9,  -999.00,9,   -999.0,9,   -999.0,9,   -999.0,9,  -999.00,9,  -999.0,-999.0000,-999.000,-999.000, 24.5944,-999.000,9
      06MT22_5,   A10,    64,  1,    211,2,19930118,0210,-30.0017,  -7.3322, 4177,     12.0,  24.7020,  35.8990,2,-999.0000,9,   -999.0,9,  -999.00,9,  -999.00,9,  -999.00,9,    1.897,2,    1.051,2,    2.412,2, -999.000,9,-999.0000,9,  -999.00,9,   -999.0,9,-999.000,9,  -999.00,9,   2056.7,2,   -999.0,9,   2360.5,2,  -999.00,9,  -999.0,-999.0000,-999.000,-999.000, 24.6994,-999.000,9
      06MT22_5,   A10,    64,  1,    210,2,19930118,0210,-30.0017,  -7.3322, 4177,     32.0,  21.3470,  36.0240,2,-999.0000,9,    236.5,2,     1.11,2,     0.01,9,     0.20,2,    2.261,2,    1.232,2,    2.530,2, -999.000,9,-999.0000,9,  -999.00,9,   -999.0,9,-999.000,9,  -999.00,9,   2063.8,2,   -999.0,9,   2370.1,2,  -999.00,9,  -999.0,-999.0000,-999.000,-999.000, 21.3408,-999.000,9
      06MT22_5,   A10,    64,  1,    209,2,19930118,0210,-30.0017,  -7.3322, 4177,     53.0,  19.8810,  35.9930,2,-999.0000,9,    240.5,2,     1.15,2,     0.03,9,     0.21,2, -999.000,9, -999.000,9, -999.000,9, -999.000,9,-999.0000,9,  -999.00,9,   -999.0,9,-999.000,9,  -999.00,9,   2064.9,2,   -999.0,9,   2368.2,2,  -999.00,9,  -999.0,-999.0000,-999.000,-999.000, 19.8712,-999.000,9
      06MT22_5,   A10,    64,  1,    208,2,19930118,0210,-30.0017,  -7.3322, 4177,     72.0,  18.6450,  35.9360,2,-999.0000,9,    243.8,2,     1.30,2,     0.03,9,     0.21,2,    2.411,2,    1.308,2,    2.458,2, -999.000,9,-999.0000,9,  -999.00,9,   -999.0,9,-999.000,9,  -999.00,9,   2063.2,2,   -999.0,9,   2366.2,2,  -999.00,9,  -999.0,-999.0000,-999.000,-999.000, 18.6323,-999.000,9
      06MT22_5,   A10,    64,  1,    207,2,19930118,0210,-30.0017,  -7.3322, 4177,    102.0,  17.7210,  35.8490,2,  35.8400,2,    237.7,2,     1.25,2,     0.05,9,     0.22,2,    2.421,2,    1.304,2,    2.311,2, -999.000,9,-999.0000,9,  -999.00,9,   -999.0,9,-999.000,9,  -999.00,9,   2066.7,2,   -999.0,9,   2365.2,2,  -999.00,9,  -999.0,-999.0000,-999.000,-999.000, 17.7036,-999.000,9
      06MT22_5,   A10,    64,  1,    206,2,19930118,0210,-30.0017,  -7.3322, 4177,    151.0,  16.7170,  35.6940,2,-999.0000,9,    232.3,2,     1.16,2,     0.63,9,     0.27,2, -999.000,9, -999.000,9, -999.000,9, -999.000,9,-999.0000,9,  -999.00,9,   -999.0,9,-999.000,9,  -999.00,9,   2071.9,2,   -999.0,9,   2350.2,2,  -999.00,9,  -999.0,-999.0000,-999.000,-999.000, 16.6924,-999.000,9
      06MT22_5,   A10,    64,  1,    205,2,19930118,0210,-30.0017,  -7.3322, 4177,    201.0,  15.3460,  35.4240,2,-999.0000,9,    231.4,2,     1.35,2,     2.81,9,     0.39,2,    2.581,2,    1.378,2,    1.523,2, -999.000,9,-999.0000,9,  -999.00,9,   -999.0,9,-999.000,9,  -999.00,9,   2077.9,2,   -999.0,9,   2335.3,2,  -999.00,9,  -999.0,-999.0000,-999.000,-999.000, 15.3150,-999.000,9
      06MT22_5,   A10,    64,  1,    204,2,19930118,0210,-30.0017,  -7.3322, 4177,    300.0,  13.4590,  35.1840,2,  35.1790,2,    216.8,2,     2.60,2,     7.92,9,     0.66,2,    2.511,2,    1.310,2,    1.029,2, -999.000,9,-999.0000,9,  -999.00,9,   -999.0,9,-999.000,9,  -999.00,9,   2094.8,2,   -999.0,9,   2321.4,2,  -999.00,9,  -999.0,-999.0000,-999.000,-999.000, 13.4165,-999.000,9
      06MT22_5,   A10,    64,  1,    203,2,19930118,0210,-30.0017,  -7.3322, 4177,    401.0,  11.5380,  34.9760,2,-999.0000,9,    206.2,2,     4.86,2,    13.61,9,     1.01,2,    2.211,2,    1.135,2,    1.001,2, -999.000,9,-999.0000,9,  -999.00,9,   -999.0,9,-999.000,9,  -999.00,9,   2120.0,2,   -999.0,9,   2308.5,2,  -999.00,9,  -999.0,-999.0000,-999.000,-999.000, 11.4868,-999.000,9
      06MT22_5,   A10,    64,  1,    202,2,19930118,0210,-30.0017,  -7.3322, 4177,    500.0,   9.7350,  34.7670,2,-999.0000,9,    210.9,2,     6.95,2,    17.92,9,     1.27,2, -999.000,9, -999.000,9, -999.000,9, -999.000,9,-999.0000,9,  -999.00,9,   -999.0,9,-999.000,9,  -999.00,9,   2131.3,2,   -999.0,9,   2303.5,2,  -999.00,9,  -999.0,-999.0000,-999.000,-999.000,  9.6774,-999.000,9
      06MT22_5,   A10,    64,  1,    201,2,19930118,0210,-30.0017,  -7.3322, 4177,    601.0,   7.7350,  34.5510,2,  34.5540,2,    210.7,2,    10.52,2,    22.98,9,     1.61,2,    1.806,2,    0.904,2,    1.762,2, -999.000,9,-999.0000,9,  -999.00,9,   -999.0,9,-999.000,9,  -999.00,9,   2147.1,2,   -999.0,9,   2293.5,2,  -999.00,9,  -999.0,-999.0000,-999.000,-999.000,  7.6742,-999.000,9