BOTTLE,20030417WHPSIOSA
EXPOCODE,SECT_ID,STNNBR,CASTNO,BTLNBR,BTLNBR_FLAG_W,DATE,TIME,LATITUDE,LONGITUDE,DEPTH,CTDPRS,CTDTMP,CTDSAL,CTDSAL_FLAG_W,SALNTY,SALNTY_FLAG_W,OXYGEN,OXYGEN_FLAG_W,SILCAT,SILCAT_FLAG_W,NO2+NO3,NO2+NO3_FLAG_W,PHSPHT,PHSPHT_FLAG_W,CFC-11,CFC-11_FLAG_W,CFC-12,CFC-12_FLAG_W,CCL4,CCL4_FLAG_W,TRITUM,TRITUM_FLAG_W,HELIUM,HELIUM_FLAG_W,DELHE3,DELHE3_FLAG_W,DELC14,DELC14_FLAG_W,NEON,NEON_FLAG_W,O18O16,O18O16_FLAG_W,TCARBN,TCARBN_FLAG_W,PCO2,PCO2_FLAG_W,ALKALI,ALKALI_FLAG_W,PH,PH_FLAG_W,C14ERR,HELIER,DELHER,NEONER,THETA,TRITER,TRITER_FLAG_W
,,,,,,,,,,,DBAR,ITS-90,PSS-78,,PSS-78,,UMOL/KG,,UMOL/KG,,UMOL/KG,,UMOL/KG,,PMOL/KG,,PMOL/KG,,PMOL/KG,,TU,,NMOL/KG,,PERCNT,,/MILLE,,NMOL/KG,,MILLE,,UMOL/KG,,UATM,,UMOL/KG,,,,/MILLE,NMOL/KG,PERCNT,NMOL/KG,ITS-90,TU,
      06MT22_5,   A10,    65,  2,    324,2,19930118,0924,-30.0067,  -6.4983, 4556,     10.0,  24.1500,  35.8090,2,-999.0000,9,   -999.0,9,  -999.00,9,  -999.00,9,  -999.00,9, -999.000,9, -999.000,9, -999.000,9, -999.000,9,-999.0000,9,  -999.00,9,   -999.0,9,-999.000,9,  -999.00,9,   -999.0,0,   -999.0,9,   -999.0,9,  -999.00,9,  -999.0,-999.0000,-999.000,-999.000, 24.1479,-999.000,9
      06MT22_5,   A10,    65,  2,    323,2,19930118,0924,-30.0067,  -6.4983, 4556,     11.0,  24.2880,  35.8170,2,-999.0000,9,   -999.0,9,  -999.00,9,  -999.00,9,  -999.00,9, -999.000,9, -999.000,9, -999.000,9, -999.000,9,-999.0000,9,  -999.00,9,   -999.0,9,-999.000,9,  -999.00,9,   -999.0,0,   -999.0,9,   -999.0,9,  -999.00,9,  -999.0,-999.0000,-999.000,-999.000, 24.2857,-999.000,9
      06MT22_5,   A10,    65,  2,    322,2,19930118,0924,-30.0067,  -6.4983, 4556,    500.0,   9.2000,  34.7060,2,-999.0000,9,   -999.0,9,  -999.00,9,  -999.00,9,  -999.00,9, -999.000,9, -999.000,9, -999.000,9, -999.000,9,-999.0000,9,  -999.00,9,   -999.0,9,-999.000,9,  -999.00,9,   -999.0,0,   -999.0,9,   -999.0,9,  -999.00,9,  -999.0,-999.0000,-999.000,-999.000,  9.1434,-999.000,9
      06MT22_5,   A10,    65,  2,    321,2,19930118,0924,-30.0067,  -6.4983, 4556,    599.0,   7.5130,  34.5340,2,-999.0000,9,   -999.0,9,  -999.00,9,  -999.00,9,  -999.00,9, -999.000,9, -999.000,9, -999.000,9, -999.000,9,-999.0000,9,  -999.00,9,   -999.0,9,-999.000,9,  -999.00,9,   -999.0,0,   -999.0,9,   -999.0,9,  -999.00,9,  -999.0,-999.0000,-999.000,-999.000,  7.4522,-999.000,9
      06MT22_5,   A10,    65,  2,    320,2,19930118,0924,-30.0067,  -6.4983, 4556,    700.0,   5.7620,  34.3780,2,-999.0000,9,   -999.0,9,  -999.00,9,  -999.00,9,  -999.00,9, -999.000,9, -999.000,9, -999.000,9, -999.000,9,-999.0000,9,  -999.00,9,   -999.0,9,-999.000,9,  -999.00,9,   -999.0,0,   -999.0,9,   -999.0,9,  -999.00,9,  -999.0,-999.0000,-999.000,-999.000,  5.6996,-999.000,9
      06MT22_5,   A10,    65,  2,    319,2,19930118,0924,-30.0067,  -6.4983, 4556,    850.0,   4.2750,  34.3100,2,-999.0000,9,   -999.0,9,  -999.00,9,  -999.00,9,  -999.00,9, -999.000,9, -999.000,9, -999.000,9, -999.000,9,-999.0000,9,  -999.00,9,   -999.0,9,-999.000,9,  -999.00,9,   -999.0,0,   -999.0,9,   -999.0,9,  -999.00,9,  -999.0,-999.0000,-999.000,-999.000,  4.2080,-999.000,9
      06MT22_5,   A10,    65,  2,    318,2,19930118,0924,-30.0067,  -6.4983, 4556,   1000.0,   3.5710,  34.3600,2,-999.0000,9,   -999.0,9,  -999.00,9,  -999.00,9,  -999.00,9, -999.000,9, -999.000,9, -999.000,9, -999.000,9,-999.0000,9,  -999.00,9,   -999.0,9,-999.000,9,  -999.00,9,   -999.0,0,   -999.0,9,   -999.0,9,  -999.00,9,  -999.0,-999.0000,-999.000,-999.000,  3.4964,-999.000,9
      06MT22_5,   A10,    65,  2,    317,2,19930118,0924,-30.0067,  -6.4983, 4556,   1199.0,   3.1520,  34.4570,2,-999.0000,9,   -999.0,9,  -999.00,9,  -999.00,9,  -999.00,9, -999.000,9, -999.000,9, -999.000,9, -999.000,9,-999.0000,9,  -999.00,9,   -999.0,9,-999.000,9,  -999.00,9,   -999.0,0,   -999.0,9,   -999.0,9,  -999.00,9,  -999.0,-999.0000,-999.000,-999.000,  3.0646,-999.000,9
      06MT22_5,   A10,    65,  2,    316,2,19930118,0924,-30.0067,  -6.4983, 4556,   1399.0,   2.9350,  34.5990,2,-999.0000,9,   -999.0,9,  -999.00,9,  -999.00,9,  -999.00,9, -999.000,9, -999.000,9, -999.000,9, -999.000,9,-999.0000,9,  -999.00,9,   -999.0,9,-999.000,9,  -999.00,9,   -999.0,0,   -999.0,9,   -999.0,9,  -999.00,9,  -999.0,-999.0000,-999.000,-999.000,  2.8332,-999.000,9
      06MT22_5,   A10,    65,  2,    315,2,19930118,0924,-30.0067,  -6.4983, 4556,   1600.0,   2.9170,  34.7100,2,-999.0000,9,   -999.0,9,  -999.00,9,  -999.00,9,  -999.00,9, -999.000,9, -999.000,9, -999.000,9, -999.000,9,-999.0000,9,  -999.00,9,   -999.0,9,-999.000,9,  -999.00,9,   -999.0,0,   -999.0,9,   -999.0,9,  -999.00,9,  -999.0,-999.0000,-999.000,-999.000,  2.7984,-999.000,9
      06MT22_5,   A10,    65,  2,    314,2,19930118,0924,-30.0067,  -6.4983, 4556,   1800.0,   2.8840,  34.7780,2,-999.0000,9,   -999.0,9,  -999.00,9,  -999.00,9,  -999.00,9, -999.000,9, -999.000,9, -999.000,9, -999.000,9,-999.0000,9,  -999.00,9,   -999.0,9,-999.000,9,  -999.00,9,   -999.0,0,   -999.0,9,   -999.0,9,  -999.00,9,  -999.0,-999.0000,-999.000,-999.000,  2.7483,-999.000,9
      06MT22_5,   A10,    65,  2,    313,2,19930118,0924,-30.0067,  -6.4983, 4556,   2001.0,   2.7170,  34.8090,2,-999.0000,9,   -999.0,9,  -999.00,9,  -999.00,9,  -999.00,9, -999.000,9, -999.000,9, -999.000,9, -999.000,9,-999.0000,9,  -999.00,9,   -999.0,9,-999.000,9,  -999.00,9,   -999.0,0,   -999.0,9,   -999.0,9,  -999.00,9,  -999.0,-999.0000,-999.000,-999.000,  2.5656,-999.000,9
      06MT22_5,   A10,    65,  2,    312,2,19930118,0924,-30.0067,  -6.4983, 4556,   2247.0,   2.5630,  34.8330,2,-999.0000,9,   -999.0,9,  -999.00,9,  -999.00,9,  -999.00,9, -999.000,9, -999.000,9, -999.000,9, -999.000,9,-999.0000,9,  -999.00,9,   -999.0,9,-999.000,9,  -999.00,9,   -999.0,0,   -999.0,9,   -999.0,9,  -999.00,9,  -999.0,-999.0000,-999.000,-999.000,  2.3915,-999.000,9
      06MT22_5,   A10,    65,  2,    311,2,19930118,0924,-30.0067,  -6.4983, 4556,   2500.0,   2.4780,  34.8500,2,-999.0000,9,   -999.0,9,  -999.00,9,  -999.00,9,  -999.00,9, -999.000,9, -999.000,9, -999.000,9, -999.000,9,-999.0000,9,  -999.00,9,   -999.0,9,-999.000,9,  -999.00,9,   -999.0,0,   -999.0,9,   -999.0,9,  -999.00,9,  -999.0,-999.0000,-999.000,-999.000,  2.2840,-999.000,9
      06MT22_5,   A10,    65,  2,    310,2,19930118,0924,-30.0067,  -6.4983, 4556,   2750.0,   2.4150,  34.8640,2,-999.0000,9,   -999.0,9,  -999.00,9,  -999.00,9,  -999.00,9, -999.000,9, -999.000,9, -999.000,9, -999.000,9,-999.0000,9,  -999.00,9,   -999.0,9,-999.000,9,  -999.00,9,   -999.0,0,   -999.0,9,   -999.0,9,  -999.00,9,  -999.0,-999.0000,-999.000,-999.000,  2.1978,-999.000,9
      06MT22_5,   A10,    65,  2,    309,2,19930118,0924,-30.0067,  -6.4983, 4556,   3002.0,   2.3910,  34.8700,2,-999.0000,9,   -999.0,9,  -999.00,9,  -999.00,9,  -999.00,9, -999.000,9, -999.000,9, -999.000,9, -999.000,9,-999.0000,9,  -999.00,9,   -999.0,9,-999.000,9,  -999.00,9,   -999.0,0,   -999.0,9,   -999.0,9,  -999.00,9,  -999.0,-999.0000,-999.000,-999.000,  2.1489,-999.000,9
      06MT22_5,   A10,    65,  2,    308,2,19930118,0924,-30.0067,  -6.4983, 4556,   3254.0,   2.3700,  34.8760,2,-999.0000,9,   -999.0,9,  -999.00,9,  -999.00,9,  -999.00,9, -999.000,9, -999.000,9, -999.000,9, -999.000,9,-999.0000,9,  -999.00,9,   -999.0,9,-999.000,9,  -999.00,9,   -999.0,0,   -999.0,9,   -999.0,9,  -999.00,9,  -999.0,-999.0000,-999.000,-999.000,  2.1021,-999.000,9
      06MT22_5,   A10,    65,  2,    307,2,19930118,0924,-30.0067,  -6.4983, 4556,   3505.0,   2.3720,  34.8790,2,-999.0000,9,   -999.0,9,  -999.00,9,  -999.00,9,  -999.00,9, -999.000,9, -999.000,9, -999.000,9, -999.000,9,-999.0000,9,  -999.00,9,   -999.0,9,-999.000,9,  -999.00,9,   -999.0,0,   -999.0,9,   -999.0,9,  -999.00,9,  -999.0,-999.0000,-999.000,-999.000,  2.0771,-999.000,9
      06MT22_5,   A10,    65,  2,    305,2,19930118,0924,-30.0067,  -6.4983, 4556,   3755.0,   2.3800,  34.8810,2,-999.0000,9,   -999.0,9,  -999.00,9,  -999.00,9,  -999.00,9, -999.000,9, -999.000,9, -999.000,9, -999.000,9,-999.0000,9,  -999.00,9,   -999.0,9,-999.000,9,  -999.00,9,   -999.0,0,   -999.0,9,   -999.0,9,  -999.00,9,  -999.0,-999.0000,-999.000,-999.000,  2.0572,-999.000,9
      06MT22_5,   A10,    65,  2,    306,2,19930118,0924,-30.0067,  -6.4983, 4556,   3757.0,   2.3800,  34.8810,2,-999.0000,9,   -999.0,9,  -999.00,9,  -999.00,9,  -999.00,9, -999.000,9, -999.000,9, -999.000,9, -999.000,9,-999.0000,9,  -999.00,9,   -999.0,9,-999.000,9,  -999.00,9,   -999.0,0,   -999.0,9,   -999.0,9,  -999.00,9,  -999.0,-999.0000,-999.000,-999.000,  2.0570,-999.000,9
      06MT22_5,   A10,    65,  2,    304,2,19930118,0924,-30.0067,  -6.4983, 4556,   4006.0,   2.3960,  34.8820,2,-999.0000,9,   -999.0,9,  -999.00,9,  -999.00,9,  -999.00,9, -999.000,9, -999.000,9, -999.000,9, -999.000,9,-999.0000,9,  -999.00,9,   -999.0,9,-999.000,9,  -999.00,9,   -999.0,0,   -999.0,9,   -999.0,9,  -999.00,9,  -999.0,-999.0000,-999.000,-999.000,  2.0441,-999.000,9
      06MT22_5,   A10,    65,  2,    303,2,19930118,0924,-30.0067,  -6.4983, 4556,   4257.0,   2.4200,  34.8820,2,-999.0000,9,   -999.0,9,  -999.00,9,  -999.00,9,  -999.00,9, -999.000,9, -999.000,9, -999.000,9, -999.000,9,-999.0000,9,  -999.00,9,   -999.0,9,-999.000,9,  -999.00,9,   -999.0,0,   -999.0,9,   -999.0,9,  -999.00,9,  -999.0,-999.0000,-999.000,-999.000,  2.0380,-999.000,9
      06MT22_5,   A10,    65,  2,    302,2,19930118,0924,-30.0067,  -6.4983, 4556,   4357.0,   2.4280,  34.8830,2,-999.0000,9,   -999.0,9,  -999.00,9,  -999.00,9,  -999.00,9, -999.000,9, -999.000,9, -999.000,9, -999.000,9,-999.0000,9,  -999.00,9,   -999.0,9,-999.000,9,  -999.00,9,   -999.0,0,   -999.0,9,   -999.0,9,  -999.00,9,  -999.0,-999.0000,-999.000,-999.000,  2.0338,-999.000,9
      06MT22_5,   A10,    65,  2,    301,2,19930118,0924,-30.0067,  -6.4983, 4556,   4367.0,   2.4290,  34.8830,2,-999.0000,9,   -999.0,9,  -999.00,9,  -999.00,9,  -999.00,9, -999.000,9, -999.000,9, -999.000,9, -999.000,9,-999.0000,9,  -999.00,9,   -999.0,9,-999.000,9,  -999.00,9,   -999.0,0,   -999.0,9,   -999.0,9,  -999.00,9,  -999.0,-999.0000,-999.000,-999.000,  2.0336,-999.000,9
      06MT22_5,   A10,    65,  3,    324,2,19930118,1055,-30.0117,  -6.5063, 4135,     10.0,  24.2500,  35.8130,2,  35.8170,2,   -999.0,9,  -999.00,9,  -999.00,9,  -999.00,9, -999.000,9, -999.000,9, -999.000,9, -999.000,9,-999.0000,9,  -999.00,9,   -999.0,9,-999.000,9,  -999.00,9,   -999.0,9,   -999.0,9,   -999.0,9,  -999.00,9,  -999.0,-999.0000,-999.000,-999.000, 24.2479,-999.000,9
      06MT22_5,   A10,    65,  3,    323,2,19930118,1055,-30.0117,  -6.5063, 4135,     10.0,  24.2610,  35.8130,2,-999.0000,9,   -999.0,9,  -999.00,9,  -999.00,9,  -999.00,9, -999.000,9, -999.000,9, -999.000,9, -999.000,9,-999.0000,9,  -999.00,9,   -999.0,9,-999.000,9,  -999.00,9,   -999.0,9,   -999.0,9,   -999.0,9,  -999.00,9,  -999.0,-999.0000,-999.000,-999.000, 24.2589,-999.000,9
      06MT22_5,   A10,    65,  3,    322,2,19930118,1055,-30.0117,  -6.5063, 4135,    599.0,   7.6410,  34.5430,2,-999.0000,9,    208.9,2,    11.41,2,    23.72,9,     1.72,2, -999.000,9, -999.000,9, -999.000,9, -999.000,9,-999.0000,9,  -999.00,9,   -999.0,9,-999.000,9,  -999.00,9,   -999.0,9,   -999.0,9,   -999.0,9,  -999.00,9,  -999.0,-999.0000,-999.000,-999.000,  7.5810,-999.000,9
      06MT22_5,   A10,    65,  3,    321,2,19930118,1055,-30.0117,  -6.5063, 4135,    700.0,   5.8680,  34.3880,2,-999.0000,9,   -999.0,9,  -999.00,9,  -999.00,9,  -999.00,9, -999.000,9, -999.000,9, -999.000,9, -999.000,9,-999.0000,9,  -999.00,9,   -999.0,9,-999.000,9,  -999.00,9,   -999.0,9,   -999.0,9,   -999.0,9,  -999.00,9,  -999.0,-999.0000,-999.000,-999.000,  5.8068,-999.000,9
      06MT22_5,   A10,    65,  3,    320,2,19930118,1055,-30.0117,  -6.5063, 4135,    800.0,   4.7350,  34.3220,2,  34.3190,2,    221.7,2,    22.46,2,    29.22,9,     2.11,2, -999.000,9, -999.000,9, -999.000,9, -999.000,9,-999.0000,9,  -999.00,9,   -999.0,9,-999.000,9,  -999.00,9,   -999.0,9,   -999.0,9,   -999.0,9,  -999.00,9,  -999.0,-999.0000,-999.000,-999.000,  4.6714,-999.000,9
      06MT22_5,   A10,    65,  3,    319,2,19930118,1055,-30.0117,  -6.5063, 4135,    899.0,   4.0370,  34.3210,2,-999.0000,9,    215.7,2,    29.79,2,    31.06,9,     2.27,2, -999.000,9, -999.000,9, -999.000,9, -999.000,9,-999.0000,9,  -999.00,9,   -999.0,9,-999.000,9,  -999.00,9,   -999.0,9,   -999.0,9,   -999.0,9,  -999.00,9,  -999.0,-999.0000,-999.000,-999.000,  3.9695,-999.000,9
      06MT22_5,   A10,    65,  3,    318,2,19930118,1055,-30.0117,  -6.5063, 4135,    999.0,   3.5770,  34.3580,2,-999.0000,9,    205.7,2,    38.51,2,    32.45,9,     2.35,2, -999.000,9, -999.000,9, -999.000,9, -999.000,9,-999.0000,9,  -999.00,9,   -999.0,9,-999.000,9,  -999.00,9,   -999.0,9,   -999.0,9,   -999.0,9,  -999.00,9,  -999.0,-999.0000,-999.000,-999.000,  3.5048,-999.000,9
      06MT22_5,   A10,    65,  3,    317,2,19930118,1055,-30.0117,  -6.5063, 4135,   1099.0,   3.3270,  34.4120,2,  34.4150,2,    194.3,2,    45.33,2,    33.27,9,     2.41,2, -999.000,9, -999.000,9, -999.000,9, -999.000,9,-999.0000,9,  -999.00,9,   -999.0,9,-999.000,9,  -999.00,9,   -999.0,9,   -999.0,9,   -999.0,9,  -999.00,9,  -999.0,-999.0000,-999.000,-999.000,  3.2489,-999.000,9
      06MT22_5,   A10,    65,  3,    316,2,19930118,1055,-30.0117,  -6.5063, 4135,   1199.0,   3.1410,  34.4590,2,-999.0000,9,    190.1,2,    51.44,2,    33.51,9,     2.46,2, -999.000,9, -999.000,9, -999.000,9, -999.000,9,-999.0000,9,  -999.00,9,   -999.0,9,-999.000,9,  -999.00,9,   -999.0,9,   -999.0,9,   -999.0,9,  -999.00,9,  -999.0,-999.0000,-999.000,-999.000,  3.0562,-999.000,9
      06MT22_5,   A10,    65,  3,    315,2,19930118,1055,-30.0117,  -6.5063, 4135,   1300.0,   2.9810,  34.5370,2,-999.0000,9,    186.6,2,    55.05,2,    33.23,9,     2.43,2, -999.000,9, -999.000,9, -999.000,9, -999.000,9,-999.0000,9,  -999.00,9,   -999.0,9,-999.000,9,  -999.00,9,   -999.0,9,   -999.0,9,   -999.0,9,  -999.00,9,  -999.0,-999.0000,-999.000,-999.000,  2.8897,-999.000,9
      06MT22_5,   A10,    65,  3,    314,2,19930118,1055,-30.0117,  -6.5063, 4135,   1399.0,   2.9460,  34.6020,2,  34.6000,2,    187.3,2,    55.54,2,    32.50,9,     2.30,2, -999.000,9, -999.000,9, -999.000,9, -999.000,9,-999.0000,9,  -999.00,9,   -999.0,9,-999.000,9,  -999.00,9,   -999.0,9,   -999.0,9,   -999.0,9,  -999.00,9,  -999.0,-999.0000,-999.000,-999.000,  2.8470,-999.000,9
      06MT22_5,   A10,    65,  3,    313,2,19930118,1055,-30.0117,  -6.5063, 4135,   1501.0,   2.9190,  34.6570,2,-999.0000,9,    190.4,2,    54.97,2,    31.54,9,     2.27,2, -999.000,9, -999.000,9, -999.000,9, -999.000,9,-999.0000,9,  -999.00,9,   -999.0,9,-999.000,9,  -999.00,9,   -999.0,9,   -999.0,9,   -999.0,9,  -999.00,9,  -999.0,-999.0000,-999.000,-999.000,  2.8115,-999.000,9
      06MT22_5,   A10,    65,  3,    312,2,19930118,1055,-30.0117,  -6.5063, 4135,   1600.0,   2.9020,  34.7050,2,-999.0000,9,    196.2,2,    54.26,2,    30.60,9,     2.16,2, -999.000,9, -999.000,9, -999.000,9, -999.000,9,-999.0000,9,  -999.00,9,   -999.0,9,-999.000,9,  -999.00,9,   -999.0,9,   -999.0,9,   -999.0,9,  -999.00,9,  -999.0,-999.0000,-999.000,-999.000,  2.7864,-999.000,9
      06MT22_5,   A10,    65,  3,    311,2,19930118,1055,-30.0117,  -6.5063, 4135,   1799.0,   2.8960,  34.7740,2,  34.7700,2,    207.0,2,    50.67,2,    28.50,9,     1.94,2, -999.000,9, -999.000,9, -999.000,9, -999.000,9,-999.0000,9,  -999.00,9,   -999.0,9,-999.000,9,  -999.00,9,   -999.0,9,   -999.0,9,   -999.0,9,  -999.00,9,  -999.0,-999.0000,-999.000,-999.000,  2.7634,-999.000,9
      06MT22_5,   A10,    65,  3,    310,2,19930118,1055,-30.0117,  -6.5063, 4135,   2000.0,   2.7230,  34.8080,2,-999.0000,9,    215.9,2,    51.45,2,    27.08,9,     1.89,2, -999.000,9, -999.000,9, -999.000,9, -999.000,9,-999.0000,9,  -999.00,9,   -999.0,9,-999.000,9,  -999.00,9,   -999.0,9,   -999.0,9,   -999.0,9,  -999.00,9,  -999.0,-999.0000,-999.000,-999.000,  2.5749,-999.000,9
      06MT22_5,   A10,    65,  3,    309,2,19930118,1055,-30.0117,  -6.5063, 4135,   2251.0,   2.5820,  34.8310,2,-999.0000,9,    223.9,2,    51.80,2,    26.28,9,     1.82,2, -999.000,9, -999.000,9, -999.000,9, -999.000,9,-999.0000,9,  -999.00,9,   -999.0,9,-999.000,9,  -999.00,9,   -999.0,9,   -999.0,9,   -999.0,9,  -999.00,9,  -999.0,-999.0000,-999.000,-999.000,  2.4134,-999.000,9
      06MT22_5,   A10,    65,  3,    308,2,19930118,1055,-30.0117,  -6.5063, 4135,   2502.0,   2.4880,  34.8500,2,  34.8470,2,    232.1,2,    51.05,2,    25.36,9,     1.78,2, -999.000,9, -999.000,9, -999.000,9, -999.000,9,-999.0000,9,  -999.00,9,   -999.0,9,-999.000,9,  -999.00,9,   -999.0,9,   -999.0,9,   -999.0,9,  -999.00,9,  -999.0,-999.0000,-999.000,-999.000,  2.2977,-999.000,9
      06MT22_5,   A10,    65,  3,    307,2,19930118,1055,-30.0117,  -6.5063, 4135,   2752.0,   2.4250,  34.8640,2,-999.0000,9,    236.0,2,    50.15,2,    24.64,9,     1.69,2, -999.000,9, -999.000,9, -999.000,9, -999.000,9,-999.0000,9,  -999.00,9,   -999.0,9,-999.000,9,  -999.00,9,   -999.0,9,   -999.0,9,   -999.0,9,  -999.00,9,  -999.0,-999.0000,-999.000,-999.000,  2.2117,-999.000,9
      06MT22_5,   A10,    65,  3,    306,2,19930118,1055,-30.0117,  -6.5063, 4135,   3004.0,   2.3930,  34.8710,2,-999.0000,9,    237.7,2,    50.01,2,    24.27,9,     1.62,2, -999.000,9, -999.000,9, -999.000,9, -999.000,9,-999.0000,9,  -999.00,9,   -999.0,9,-999.000,9,  -999.00,9,   -999.0,9,   -999.0,9,   -999.0,9,  -999.00,9,  -999.0,-999.0000,-999.000,-999.000,  2.1553,-999.000,9
      06MT22_5,   A10,    65,  3,    305,2,19930118,1055,-30.0117,  -6.5063, 4135,   3254.0,   2.3700,  34.8780,2,  34.8740,2,    238.7,2,    50.46,2,    24.05,9,     1.61,2,   -0.001,2,    0.000,2,    0.012,2, -999.000,9,-999.0000,9,  -999.00,9,   -999.0,9,-999.000,9,  -999.00,9,   -999.0,9,   -999.0,9,   -999.0,9,  -999.00,9,  -999.0,-999.0000,-999.000,-999.000,  2.1071,-999.000,9
      06MT22_5,   A10,    65,  3,    304,2,19930118,1055,-30.0117,  -6.5063, 4135,   3506.0,   2.3680,  34.8810,2,-999.0000,9,    236.2,2,    51.37,2,    23.99,9,     1.63,2,   -0.001,2,    0.000,2,    0.008,2, -999.000,9,-999.0000,9,  -999.00,9,   -999.0,9,-999.000,9,  -999.00,9,   -999.0,9,   -999.0,9,   -999.0,9,  -999.00,9,  -999.0,-999.0000,-999.000,-999.000,  2.0784,-999.000,9
      06MT22_5,   A10,    65,  3,    303,2,19930118,1055,-30.0117,  -6.5063, 4135,   3644.0,   2.3720,  34.8820,2,-999.0000,9,    236.2,2,    51.97,2,    23.93,9,     1.66,2,    0.000,2,    0.000,2,    0.003,2, -999.000,9,-999.0000,9,  -999.00,9,   -999.0,9,-999.000,9,  -999.00,9,   -999.0,9,   -999.0,9,   -999.0,9,  -999.00,9,  -999.0,-999.0000,-999.000,-999.000,  2.0673,-999.000,9
      06MT22_5,   A10,    65,  3,    301,2,19930118,1055,-30.0117,  -6.5063, 4135,   3725.0,   2.3820,  34.8820,2,-999.0000,9,   -999.0,9,  -999.00,9,  -999.00,9,  -999.00,9, -999.000,9, -999.000,9, -999.000,9, -999.000,9,-999.0000,9,  -999.00,9,   -999.0,9,-999.000,9,  -999.00,9,   -999.0,9,   -999.0,9,   -999.0,9,  -999.00,9,  -999.0,-999.0000,-999.000,-999.000,  2.0625,-999.000,9
      06MT22_5,   A10,    65,  3,    302,2,19930118,1055,-30.0117,  -6.5063, 4135,   3728.0,   2.3810,  34.8820,2,  34.8790,2,    236.7,2,    51.39,2,    23.88,9,     1.62,2,    0.004,2,    0.003,2,    0.009,2, -999.000,9,-999.0000,9,  -999.00,9,   -999.0,9,-999.000,9,  -999.00,9,   -999.0,9,   -999.0,9,   -999.0,9,  -999.00,9,  -999.0,-999.0000,-999.000,-999.000,  2.0668,-999.000,9