BOTTLE,20030417WHPSIOSA
EXPOCODE,SECT_ID,STNNBR,CASTNO,BTLNBR,BTLNBR_FLAG_W,DATE,TIME,LATITUDE,LONGITUDE,DEPTH,CTDPRS,CTDTMP,CTDSAL,CTDSAL_FLAG_W,SALNTY,SALNTY_FLAG_W,OXYGEN,OXYGEN_FLAG_W,SILCAT,SILCAT_FLAG_W,NO2+NO3,NO2+NO3_FLAG_W,PHSPHT,PHSPHT_FLAG_W,CFC-11,CFC-11_FLAG_W,CFC-12,CFC-12_FLAG_W,CCL4,CCL4_FLAG_W,TRITUM,TRITUM_FLAG_W,HELIUM,HELIUM_FLAG_W,DELHE3,DELHE3_FLAG_W,DELC14,DELC14_FLAG_W,NEON,NEON_FLAG_W,O18O16,O18O16_FLAG_W,TCARBN,TCARBN_FLAG_W,PCO2,PCO2_FLAG_W,ALKALI,ALKALI_FLAG_W,PH,PH_FLAG_W,C14ERR,HELIER,DELHER,NEONER,THETA,TRITER,TRITER_FLAG_W
,,,,,,,,,,,DBAR,ITS-90,PSS-78,,PSS-78,,UMOL/KG,,UMOL/KG,,UMOL/KG,,UMOL/KG,,PMOL/KG,,PMOL/KG,,PMOL/KG,,TU,,NMOL/KG,,PERCNT,,/MILLE,,NMOL/KG,,MILLE,,UMOL/KG,,UATM,,UMOL/KG,,,,/MILLE,NMOL/KG,PERCNT,NMOL/KG,ITS-90,TU,
      06MT22_5,   A10,    46,  2,    322,2,19930112,2114,-30.0032, -19.9330, 4748,     10.0,  23.6380,  35.8970,2,-999.0000,9,   -999.0,9,  -999.00,9,  -999.00,9,  -999.00,9, -999.000,9, -999.000,9, -999.000,9, -999.000,9,-999.0000,9,  -999.00,9,   -999.0,9,-999.000,9,  -999.00,9,   -999.0,9,   -999.0,9,   -999.0,9,  -999.00,9,  -999.0,-999.0000,-999.000,-999.000, 23.6359,-999.000,9
      06MT22_5,   A10,    46,  2,    321,2,19930112,2114,-30.0032, -19.9330, 4748,     10.0,  23.6380,  35.8970,2,  35.9070,2,   -999.0,9,  -999.00,9,  -999.00,9,  -999.00,9,    1.955,2,    1.079,2,    2.498,2, -999.000,9,-999.0000,9,  -999.00,9,   -999.0,9,-999.000,9,  -999.00,9,   -999.0,9,   -999.0,9,   -999.0,9,  -999.00,9,  -999.0,-999.0000,-999.000,-999.000, 23.6359,-999.000,9
      06MT22_5,   A10,    46,  2,    320,2,19930112,2114,-30.0032, -19.9330, 4748,     10.0,  23.6380,  35.8970,2,  35.9060,2,   -999.0,9,  -999.00,9,  -999.00,9,  -999.00,9,    1.967,2,    1.098,2,    2.531,2,    0.964,4,-999.0000,1,  -999.00,1,   -999.0,9,-999.000,1,  -999.00,9,   -999.0,9,   -999.0,9,   -999.0,9,  -999.00,9,  -999.0,-999.0000,-999.000,-999.000, 23.6359,   0.026,9
      06MT22_5,   A10,    46,  2,    319,2,19930112,2114,-30.0032, -19.9330, 4748,     10.0,  23.6380,  35.8970,2,-999.0000,9,   -999.0,9,  -999.00,9,  -999.00,9,  -999.00,9,    2.017,2,    1.124,2,    2.535,2,    0.930,2,   1.7882,4,    -0.75,3,   -999.0,9,   6.784,7,  -999.00,9,   -999.0,9,   -999.0,9,   -999.0,9,  -999.00,9,  -999.0,  0.0063,   0.250,   0.024, 23.6359,   0.022,9
      06MT22_5,   A10,    46,  2,    318,2,19930112,2114,-30.0032, -19.9330, 4748,    999.0,   3.9140,  34.3260,2,-999.0000,9,    216.3,2,    31.48,2,    31.55,9,     2.20,2,    0.789,2,    0.393,2,    1.802,2, -999.000,9,   1.7859,2,     2.19,2,   -999.0,9,   7.734,7,  -999.00,9,   2191.8,3,   -999.0,9,   -999.0,9,  -999.00,9,  -999.0,  0.0063,   0.250,   0.027,  3.8388,-999.000,9
      06MT22_5,   A10,    46,  2,    317,2,19930112,2114,-30.0032, -19.9330, 4748,   1199.0,   3.2400,  34.4240,2,-999.0000,9,    195.2,2,    46.53,2,    33.38,9,     2.36,2,    0.304,2,    0.163,2,    0.968,2,    0.062,2,-999.0000,1,  -999.00,1,   -999.0,9,-999.000,1,  -999.00,9,   2217.6,3,   -999.0,9,   -999.0,9,  -999.00,9,  -999.0,-999.0000,-999.000,-999.000,  3.1542,   0.006,9
      06MT22_5,   A10,    46,  2,    316,2,19930112,2114,-30.0032, -19.9330, 4748,   1399.0,   2.9770,  34.5490,2,-999.0000,9,    188.8,2,    53.99,2,    33.03,9,     2.32,2,    0.085,2,    0.048,2,    0.445,2,    0.022,2,   1.8243,2,     6.19,2,   -999.0,9,   7.871,2,  -999.00,9,   2228.4,3,   -999.0,9,   -999.0,9,  -999.00,9,  -999.0,  0.0064,   0.250,   0.027,  2.8775,   0.002,9
      06MT22_5,   A10,    46,  2,    315,2,19930112,2114,-30.0032, -19.9330, 4748,   1599.0,   2.8670,  34.6660,2,  34.6670,2,    194.7,2,    54.44,2,    31.26,9,     2.16,2,    0.023,2,    0.021,2,    0.183,2,    0.010,2,   1.8256,2,     6.45,2,   -999.0,9,   7.926,2,  -999.00,9,   2225.3,3,   -999.0,9,   -999.0,9,  -999.00,9,  -999.0,  0.0064,   0.250,   0.028,  2.7522,   0.002,9
      06MT22_5,   A10,    46,  2,    314,2,19930112,2114,-30.0032, -19.9330, 4748,   1800.0,   2.7840,  34.7410,2,-999.0000,9,    206.9,2,    53.39,2,    29.43,9,     1.98,2, -999.000,9, -999.000,9, -999.000,9,    0.008,2,   1.8265,2,     6.41,2,   -999.0,9,   7.964,2,  -999.00,9,   2218.6,3,   -999.0,9,   -999.0,9,  -999.00,9,  -999.0,  0.0073,   0.250,   0.032,  2.6525,   0.002,9
      06MT22_5,   A10,    46,  2,    313,2,19930112,2114,-30.0032, -19.9330, 4748,   2250.0,   2.6610,  34.8400,2,-999.0000,9,    217.2,2,    50.47,2,    27.55,9,     1.84,2,    0.063,4,    0.041,4,    0.136,4,    0.006,2,   1.8194,2,     6.58,2,   -999.0,9,   7.902,2,  -999.00,9,   2210.2,3,   -999.0,9,   -999.0,9,  -999.00,9,  -999.0,  0.0073,   0.250,   0.059,  2.4911,   0.002,9
      06MT22_5,   A10,    46,  2,    312,2,19930112,2114,-30.0032, -19.9330, 4748,   2501.0,   2.6590,  34.8670,2,-999.0000,9,    230.2,2,    46.81,2,    25.74,9,     1.71,2, -999.000,9, -999.000,9, -999.000,9,    0.007,2,   1.8225,2,     5.81,2,   -999.0,9,   7.951,2,  -999.00,9,   2201.7,3,   -999.0,9,   -999.0,9,  -999.00,9,  -999.0,  0.0073,   0.250,   0.032,  2.4655,   0.004,9
      06MT22_5,   A10,    46,  2,    311,2,19930112,2114,-30.0032, -19.9330, 4748,   2752.0,   2.6510,  34.8860,2,  34.8860,2,    242.7,2,    41.05,2,    23.60,9,     1.54,2,    0.001,2,    0.031,4,    0.016,2,    0.004,2,   1.8069,2,     5.32,2,   -999.0,9,   7.911,2,  -999.00,9,   2189.8,3,   -999.0,9,   -999.0,9,  -999.00,9,  -999.0,  0.0072,   0.250,   0.032,  2.4331,   0.002,9
      06MT22_5,   A10,    46,  2,    310,2,19930112,2114,-30.0032, -19.9330, 4748,   3002.0,   2.5950,  34.8960,2,-999.0000,9,    246.3,2,    40.56,2,    23.02,9,     1.49,2, -999.000,9, -999.000,9, -999.000,9,    0.004,2,   1.8194,2,     3.64,2,   -999.0,9,   7.905,2,  -999.00,9,   2186.6,3,   -999.0,9,   -999.0,9,  -999.00,9,  -999.0,  0.0064,   0.250,   0.028,  2.3533,   0.002,9
      06MT22_5,   A10,    46,  2,    309,2,19930112,2114,-30.0032, -19.9330, 4748,   3252.0,   2.4470,  34.8910,2,-999.0000,9,   -999.0,9,    43.54,2,    23.01,9,     1.55,2,   -0.002,2,    0.002,2,    0.006,2,    0.009,2,-999.0000,1,  -999.00,1,   -999.0,9,-999.000,1,  -999.00,9,   2190.2,3,   -999.0,9,   -999.0,9,  -999.00,9,  -999.0,-999.0000,-999.000,-999.000,  2.1827,   0.004,9
      06MT22_5,   A10,    46,  2,    308,2,19930112,2114,-30.0032, -19.9330, 4748,   3754.0,   1.8790,  34.8380,2,  34.8370,2,    247.9,2,  -999.00,9,  -999.00,9,  -999.00,9,    0.004,2,    0.003,2,    0.014,2,    0.006,2,   1.8145,7,     4.84,2,   -999.0,9,   7.928,7,  -999.00,9,   2210.2,3,   -999.0,9,   -999.0,9,  -999.00,9,  -999.0,  0.0073,   0.250,   0.032,  1.5755,   0.002,9
      06MT22_5,   A10,    46,  2,    307,2,19930112,2114,-30.0032, -19.9330, 4748,   4005.0,   1.6090,  34.8080,2,-999.0000,9,    241.6,2,    64.34,2,    25.70,9,     1.75,2,    0.002,2,    0.000,2,    0.019,2,    0.007,2,   1.8377,2,     4.90,2,   -999.0,9,   7.998,2,  -999.00,9,   2222.9,3,   -999.0,9,   -999.0,9,  -999.00,9,  -999.0,  0.0074,   0.250,   0.032,  1.2860,   0.003,9
      06MT22_5,   A10,    46,  2,    306,2,19930112,2114,-30.0032, -19.9330, 4748,   4256.0,   1.4330,  34.7860,2,-999.0000,9,    236.0,2,    75.88,2,    27.39,9,     1.91,2,    0.000,2,    0.004,2,    0.027,2,    0.002,2,   1.8582,2,     5.04,2,   -999.0,9,   8.125,2,  -999.00,9,   2231.2,3,   -999.0,9,   -999.0,9,  -999.00,9,  -999.0,  0.0074,   0.250,   0.061,  1.0873,   0.002,9
      06MT22_5,   A10,    46,  2,    305,2,19930112,2114,-30.0032, -19.9330, 4748,   4555.0,   1.3090,  34.7690,2,-999.0000,9,    234.2,2,    84.16,2,    28.61,9,     2.02,2,    0.000,2,    0.000,2,    0.035,2,    0.006,2,   1.8578,2,     6.40,2,   -999.0,9,   8.152,2,  -999.00,9,   2238.3,3,   -999.0,9,   -999.0,9,  -999.00,9,  -999.0,  0.0074,   0.250,   0.033,  0.9331,   0.003,9
      06MT22_5,   A10,    46,  2,    304,2,19930112,2114,-30.0032, -19.9330, 4748,   4763.0,   1.3100,  34.7650,2,  34.7650,2,    230.6,2,    91.18,2,    29.61,9,     2.07,2, -999.000,9, -999.000,9, -999.000,9, -999.000,9,-999.0000,9,  -999.00,9,   -999.0,9,-999.000,9,  -999.00,9,   -999.0,9,   -999.0,9,   -999.0,9,  -999.00,9,  -999.0,-999.0000,-999.000,-999.000,  0.9099,-999.000,9
      06MT22_5,   A10,    46,  2,    303,2,19930112,2114,-30.0032, -19.9330, 4748,   4763.0,   1.3100,  34.7650,2,-999.0000,9,    228.1,2,    91.85,2,    29.80,9,     2.10,2,    0.003,2,    0.006,2,    0.051,2,    0.010,2,   1.8631,2,     6.47,2,   -999.0,9,   8.146,2,  -999.00,9,   2239.3,3,   -999.0,9,   -999.0,9,  -999.00,9,  -999.0,  0.0075,   0.250,   0.033,  0.9099,   0.009,9
      06MT22_5,   A10,    46,  2,    301,2,19930112,2114,-30.0032, -19.9330, 4748,   4833.0,   1.3170,  34.7650,2,-999.0000,9,    229.1,2,    92.10,2,    29.86,9,     2.13,2, -999.000,9, -999.000,9, -999.000,9, -999.000,9,-999.0000,9,  -999.00,9,   -999.0,9,-999.000,9,  -999.00,9,   -999.0,9,   -999.0,9,   -999.0,9,  -999.00,9,  -999.0,-999.0000,-999.000,-999.000,  0.8998,-999.000,9
      06MT22_5,   A10,    46,  2,    302,2,19930112,2114,-30.0032, -19.9330, 4748,   4836.0,   1.3190,  34.7650,2,  34.7660,2,   -999.0,9,  -999.00,9,  -999.00,9,  -999.00,9,    0.004,2,    0.000,2,    0.048,2,    0.010,2,   1.8676,2,     6.34,2,   -999.0,9,   8.132,2,  -999.00,9,   2239.3,3,   -999.0,9,   -999.0,9,  -999.00,9,  -999.0,  0.0065,   0.250,   0.029,  0.9099,   0.002,9
      06MT22_5,   A10,    47,  1,    324,2,19930113,0240,-29.9950, -19.0917, 4111,     10.0,  22.6250,  35.8860,2,  35.8930,2,   -999.0,9,  -999.00,9,  -999.00,9,  -999.00,9, -999.000,9, -999.000,9, -999.000,9, -999.000,9,-999.0000,9,  -999.00,9,   -999.0,9,-999.000,9,  -999.00,9,   -999.0,0,   -999.0,9,   -999.0,9,  -999.00,9,  -999.0,-999.0000,-999.000,-999.000, 22.6230,-999.000,9
      06MT22_5,   A10,    47,  1,    320,2,19930113,0240,-29.9950, -19.0917, 4111,    499.0,   9.9640,  34.8020,2,-999.0000,9,    211.5,2,     6.71,2,    17.39,9,     1.16,2, -999.000,9, -999.000,9, -999.000,9, -999.000,9,-999.0000,9,  -999.00,9,   -999.0,9,-999.000,9,  -999.00,9,   -999.0,0,   -999.0,9,   -999.0,9,  -999.00,9,  -999.0,-999.0000,-999.000,-999.000,  9.9058,-999.000,9
      06MT22_5,   A10,    47,  1,    319,2,19930113,0240,-29.9950, -19.0917, 4111,    600.0,   7.9820,  34.5800,2,-999.0000,9,    210.7,2,    10.30,2,    22.52,9,     1.52,2, -999.000,9, -999.000,9, -999.000,9, -999.000,9,-999.0000,9,  -999.00,9,   -999.0,9,-999.000,9,  -999.00,9,   -999.0,0,   -999.0,9,   -999.0,9,  -999.00,9,  -999.0,-999.0000,-999.000,-999.000,  7.9203,-999.000,9
      06MT22_5,   A10,    47,  1,    318,2,19930113,0240,-29.9950, -19.0917, 4111,    701.0,   6.2130,  34.4140,2,  34.4190,2,    218.1,2,    15.04,2,    26.58,9,     1.80,2, -999.000,9, -999.000,9, -999.000,9, -999.000,9,-999.0000,9,  -999.00,9,   -999.0,9,-999.000,9,  -999.00,9,   -999.0,0,   -999.0,9,   -999.0,9,  -999.00,9,  -999.0,-999.0000,-999.000,-999.000,  6.1497,-999.000,9
      06MT22_5,   A10,    47,  1,    317,2,19930113,0240,-29.9950, -19.0917, 4111,    849.0,   4.6280,  34.3060,2,-999.0000,9,    228.5,2,    21.72,2,    29.59,9,     2.04,2, -999.000,9, -999.000,9, -999.000,9, -999.000,9,-999.0000,9,  -999.00,9,   -999.0,9,-999.000,9,  -999.00,9,   -999.0,0,   -999.0,9,   -999.0,9,  -999.00,9,  -999.0,-999.0000,-999.000,-999.000,  4.5607,-999.000,9
      06MT22_5,   A10,    47,  1,    316,2,19930113,0240,-29.9950, -19.0917, 4111,   1000.0,   3.6820,  34.3250,2,-999.0000,9,    214.3,2,    33.75,2,    32.31,9,     2.26,2, -999.000,9, -999.000,9, -999.000,9, -999.000,9,-999.0000,9,  -999.00,9,   -999.0,9,-999.000,9,  -999.00,9,   -999.0,0,   -999.0,9,   -999.0,9,  -999.00,9,  -999.0,-999.0000,-999.000,-999.000,  3.6089,-999.000,9
      06MT22_5,   A10,    47,  1,    315,2,19930113,0240,-29.9950, -19.0917, 4111,   1200.0,   3.1010,  34.4450,2,  34.4480,2,    195.7,2,    48.95,2,    33.88,9,     2.39,2, -999.000,9, -999.000,9, -999.000,9, -999.000,9,-999.0000,9,  -999.00,9,   -999.0,9,-999.000,9,  -999.00,9,   -999.0,0,   -999.0,9,   -999.0,9,  -999.00,9,  -999.0,-999.0000,-999.000,-999.000,  3.0168,-999.000,9
      06MT22_5,   A10,    47,  1,    314,2,19930113,0240,-29.9950, -19.0917, 4111,   1400.0,   2.9150,  34.5690,2,-999.0000,9,    192.4,2,    55.50,2,    33.16,9,     2.33,2, -999.000,9, -999.000,9, -999.000,9, -999.000,9,-999.0000,9,  -999.00,9,   -999.0,9,-999.000,9,  -999.00,9,   -999.0,0,   -999.0,9,   -999.0,9,  -999.00,9,  -999.0,-999.0000,-999.000,-999.000,  2.8159,-999.000,9
      06MT22_5,   A10,    47,  1,    313,2,19930113,0240,-29.9950, -19.0917, 4111,   1599.0,   2.8440,  34.6830,2,-999.0000,9,    197.2,2,    54.73,2,    30.86,9,     2.16,2, -999.000,9, -999.000,9, -999.000,9, -999.000,9,-999.0000,9,  -999.00,9,   -999.0,9,-999.000,9,  -999.00,9,   -999.0,0,   -999.0,9,   -999.0,9,  -999.00,9,  -999.0,-999.0000,-999.000,-999.000,  2.7293,-999.000,9
      06MT22_5,   A10,    47,  1,    312,2,19930113,0240,-29.9950, -19.0917, 4111,   1799.0,   2.7620,  34.7460,2,  34.7500,2,    206.6,2,    53.03,2,    29.43,9,     1.99,2, -999.000,9, -999.000,9, -999.000,9, -999.000,9,-999.0000,9,  -999.00,9,   -999.0,9,-999.000,9,  -999.00,9,   -999.0,0,   -999.0,9,   -999.0,9,  -999.00,9,  -999.0,-999.0000,-999.000,-999.000,  2.6313,-999.000,9
      06MT22_5,   A10,    47,  1,    311,2,19930113,0240,-29.9950, -19.0917, 4111,   2000.0,   2.6900,  34.8000,2,-999.0000,9,    219.2,2,    50.77,2,    27.62,9,     1.83,2, -999.000,9, -999.000,9, -999.000,9, -999.000,9,-999.0000,9,  -999.00,9,   -999.0,9,-999.000,9,  -999.00,9,   -999.0,0,   -999.0,9,   -999.0,9,  -999.00,9,  -999.0,-999.0000,-999.000,-999.000,  2.5423,-999.000,9
      06MT22_5,   A10,    47,  1,    310,2,19930113,0240,-29.9950, -19.0917, 4111,   2251.0,   2.6440,  34.8390,2,-999.0000,9,    232.0,2,    47.88,2,    26.18,9,     1.75,2, -999.000,9, -999.000,9, -999.000,9, -999.000,9,-999.0000,9,  -999.00,9,   -999.0,9,-999.000,9,  -999.00,9,   -999.0,0,   -999.0,9,   -999.0,9,  -999.00,9,  -999.0,-999.0000,-999.000,-999.000,  2.4743,-999.000,9
      06MT22_5,   A10,    47,  1,    309,2,19930113,0240,-29.9950, -19.0917, 4111,   2502.0,   2.6520,  34.8670,2,  34.8690,2,    237.4,2,    43.98,2,    24.72,9,     1.61,2, -999.000,9, -999.000,9, -999.000,9, -999.000,9,-999.0000,9,  -999.00,9,   -999.0,9,-999.000,9,  -999.00,9,   -999.0,0,   -999.0,9,   -999.0,9,  -999.00,9,  -999.0,-999.0000,-999.000,-999.000,  2.4586,-999.000,9
      06MT22_5,   A10,    47,  1,    308,2,19930113,0240,-29.9950, -19.0917, 4111,   2753.0,   2.6520,  34.8820,2,-999.0000,9,    242.2,2,    41.92,2,    24.09,9,     1.58,2, -999.000,9, -999.000,9, -999.000,9, -999.000,9,-999.0000,9,  -999.00,9,   -999.0,9,-999.000,9,  -999.00,9,   -999.0,0,   -999.0,9,   -999.0,9,  -999.00,9,  -999.0,-999.0000,-999.000,-999.000,  2.4339,-999.000,9
      06MT22_5,   A10,    47,  1,    307,2,19930113,0240,-29.9950, -19.0917, 4111,   3006.0,   2.5880,  34.8910,2,  34.8940,2,    246.4,2,    41.65,2,    23.50,9,     1.51,2, -999.000,9, -999.000,9, -999.000,9, -999.000,9,-999.0000,9,  -999.00,9,   -999.0,9,-999.000,9,  -999.00,9,   -999.0,0,   -999.0,9,   -999.0,9,  -999.00,9,  -999.0,-999.0000,-999.000,-999.000,  2.3457,-999.000,9
      06MT22_5,   A10,    47,  1,    306,2,19930113,0240,-29.9950, -19.0917, 4111,   3258.0,   2.3970,  34.8850,2,-999.0000,9,    248.5,2,    45.76,2,    23.74,9,     1.55,2, -999.000,9, -999.000,9, -999.000,9, -999.000,9,-999.0000,9,  -999.00,9,   -999.0,9,-999.000,9,  -999.00,9,   -999.0,0,   -999.0,9,   -999.0,9,  -999.00,9,  -999.0,-999.0000,-999.000,-999.000,  2.1333,-999.000,9
      06MT22_5,   A10,    47,  1,    305,2,19930113,0240,-29.9950, -19.0917, 4111,   3504.0,   2.0820,  34.8560,2,-999.0000,9,    246.6,2,    56.84,2,    24.96,9,     1.66,2, -999.000,9, -999.000,9, -999.000,9, -999.000,9,-999.0000,9,  -999.00,9,   -999.0,9,-999.000,9,  -999.00,9,   -999.0,0,   -999.0,9,   -999.0,9,  -999.00,9,  -999.0,-999.0000,-999.000,-999.000,  1.8000,-999.000,9
      06MT22_5,   A10,    47,  1,    304,2,19930113,0240,-29.9950, -19.0917, 4111,   3762.0,   1.8250,  34.8280,2,  34.8310,2,    241.3,2,    67.41,2,    26.32,9,     1.78,2, -999.000,9, -999.000,9, -999.000,9, -999.000,9,-999.0000,9,  -999.00,9,   -999.0,9,-999.000,9,  -999.00,9,   -999.0,0,   -999.0,9,   -999.0,9,  -999.00,9,  -999.0,-999.0000,-999.000,-999.000,  1.5221,-999.000,9
      06MT22_5,   A10,    47,  1,    303,2,19930113,0240,-29.9950, -19.0917, 4111,   3945.0,   1.6750,  34.8120,2,-999.0000,9,    238.1,2,    73.38,2,    27.05,9,     1.83,2, -999.000,9, -999.000,9, -999.000,9, -999.000,9,-999.0000,9,  -999.00,9,   -999.0,9,-999.000,9,  -999.00,9,   -999.0,0,   -999.0,9,   -999.0,9,  -999.00,9,  -999.0,-999.0000,-999.000,-999.000,  1.3564,-999.000,9
      06MT22_5,   A10,    47,  1,    301,2,19930113,0240,-29.9950, -19.0917, 4111,   4023.0,   1.6460,  34.8070,2,  34.8080,2,    238.9,2,    75.49,2,    27.19,9,     1.82,2, -999.000,9, -999.000,9, -999.000,9, -999.000,9,-999.0000,9,  -999.00,9,   -999.0,9,-999.000,9,  -999.00,9,   -999.0,0,   -999.0,9,   -999.0,9,  -999.00,9,  -999.0,-999.0000,-999.000,-999.000,  1.3197,-999.000,9
      06MT22_5,   A10,    47,  1,    302,2,19930113,0240,-29.9950, -19.0917, 4111,   4027.0,   1.6360,  34.8070,2,  34.8070,2,    237.3,2,    75.36,2,    27.27,9,     1.88,2, -999.000,9, -999.000,9, -999.000,9, -999.000,9,-999.0000,9,  -999.00,9,   -999.0,9,-999.000,9,  -999.00,9,   -999.0,0,   -999.0,9,   -999.0,9,  -999.00,9,  -999.0,-999.0000,-999.000,-999.000,  1.3095,-999.000,9