BOTTLE,20030417WHPSIOSA
EXPOCODE,SECT_ID,STNNBR,CASTNO,BTLNBR,BTLNBR_FLAG_W,DATE,TIME,LATITUDE,LONGITUDE,DEPTH,CTDPRS,CTDTMP,CTDSAL,CTDSAL_FLAG_W,SALNTY,SALNTY_FLAG_W,OXYGEN,OXYGEN_FLAG_W,SILCAT,SILCAT_FLAG_W,NO2+NO3,NO2+NO3_FLAG_W,PHSPHT,PHSPHT_FLAG_W,CFC-11,CFC-11_FLAG_W,CFC-12,CFC-12_FLAG_W,CCL4,CCL4_FLAG_W,TRITUM,TRITUM_FLAG_W,HELIUM,HELIUM_FLAG_W,DELHE3,DELHE3_FLAG_W,DELC14,DELC14_FLAG_W,NEON,NEON_FLAG_W,O18O16,O18O16_FLAG_W,TCARBN,TCARBN_FLAG_W,PCO2,PCO2_FLAG_W,ALKALI,ALKALI_FLAG_W,PH,PH_FLAG_W,C14ERR,HELIER,DELHER,NEONER,THETA,TRITER,TRITER_FLAG_W
,,,,,,,,,,,DBAR,ITS-90,PSS-78,,PSS-78,,UMOL/KG,,UMOL/KG,,UMOL/KG,,UMOL/KG,,PMOL/KG,,PMOL/KG,,PMOL/KG,,TU,,NMOL/KG,,PERCNT,,/MILLE,,NMOL/KG,,MILLE,,UMOL/KG,,UATM,,UMOL/KG,,,,/MILLE,NMOL/KG,PERCNT,NMOL/KG,ITS-90,TU,
      06MT22_5,   A10,    10,  1,    210,2,19930103,1902,-30.0027, -39.5303, 3972,     12.0,  22.6100,  36.0470,2,-999.0000,9,   -999.0,9,  -999.00,9,  -999.00,9,  -999.00,9, -999.000,9, -999.000,9, -999.000,9, -999.000,9,-999.0000,9,  -999.00,9,   -999.0,9,-999.000,9,  -999.00,9,   -999.0,9,   -999.0,9,   -999.0,9,  -999.00,9,  -999.0,-999.0000,-999.000,-999.000, 22.6076,-999.000,9
      06MT22_5,   A10,    10,  1,    212,2,19930103,1902,-30.0027, -39.5303, 3972,     13.0,  22.5800,  36.0430,2,  36.0480,2,    221.3,2,     0.34,2,     0.19,9,     0.06,2, -999.000,9, -999.000,9, -999.000,9, -999.000,9,-999.0000,9,  -999.00,9,   -999.0,9,-999.000,9,  -999.00,9,   -999.0,9,   -999.0,9,   -999.0,9,  -999.00,9,  -999.0,-999.0000,-999.000,-999.000, 22.5774,-999.000,9
      06MT22_5,   A10,    10,  1,    211,2,19930103,1902,-30.0027, -39.5303, 3972,     13.0,  22.6150,  36.0470,2,-999.0000,9,   -999.0,9,  -999.00,9,  -999.00,9,  -999.00,9, -999.000,9, -999.000,9, -999.000,9, -999.000,9,-999.0000,9,  -999.00,9,   -999.0,9,-999.000,9,  -999.00,9,   -999.0,9,   -999.0,9,   -999.0,9,  -999.00,9,  -999.0,-999.0000,-999.000,-999.000, 22.6124,-999.000,9
      06MT22_5,   A10,    10,  1,    209,2,19930103,1902,-30.0027, -39.5303, 3972,     13.0,  22.5960,  36.0460,2,-999.0000,9,   -999.0,9,  -999.00,9,  -999.00,9,  -999.00,9, -999.000,9, -999.000,9, -999.000,9, -999.000,9,-999.0000,9,  -999.00,9,   -999.0,9,-999.000,9,  -999.00,9,   -999.0,9,   -999.0,9,   -999.0,9,  -999.00,9,  -999.0,-999.0000,-999.000,-999.000, 22.5934,-999.000,9
      06MT22_5,   A10,    10,  1,    208,2,19930103,1902,-30.0027, -39.5303, 3972,     32.0,  22.3660,  36.0130,2,  36.0160,2,    222.5,2,     0.06,2,     0.12,9,     0.05,2, -999.000,9, -999.000,9, -999.000,9, -999.000,9,-999.0000,9,  -999.00,9,   -999.0,9,-999.000,9,  -999.00,9,   -999.0,9,   -999.0,9,   -999.0,9,  -999.00,9,  -999.0,-999.0000,-999.000,-999.000, 22.3596,-999.000,9
      06MT22_5,   A10,    10,  1,    207,2,19930103,1902,-30.0027, -39.5303, 3972,     51.0,  21.5630,  35.9920,2,-999.0000,9,    229.3,2,     0.01,2,     0.11,9,     0.00,2, -999.000,9, -999.000,9, -999.000,9, -999.000,9,-999.0000,9,  -999.00,9,   -999.0,9,-999.000,9,  -999.00,9,   -999.0,9,   -999.0,9,   -999.0,9,  -999.00,9,  -999.0,-999.0000,-999.000,-999.000, 21.5530,-999.000,9
      06MT22_5,   A10,    10,  1,    206,2,19930103,1902,-30.0027, -39.5303, 3972,     71.0,  19.8440,  36.0650,2,-999.0000,9,    237.0,2,     0.05,2,     0.00,9,     0.01,2, -999.000,9, -999.000,9, -999.000,9, -999.000,9,-999.0000,9,  -999.00,9,   -999.0,9,-999.000,9,  -999.00,9,   -999.0,9,   -999.0,9,   -999.0,9,  -999.00,9,  -999.0,-999.0000,-999.000,-999.000, 19.8309,-999.000,9
      06MT22_5,   A10,    10,  1,    205,2,19930103,1902,-30.0027, -39.5303, 3972,    103.0,  18.8790,  35.9820,2,  35.9980,2,    230.9,2,     0.00,2,     0.08,9,     0.08,2, -999.000,9, -999.000,9, -999.000,9, -999.000,9,-999.0000,9,  -999.00,9,   -999.0,9,-999.000,9,  -999.00,9,   -999.0,9,   -999.0,9,   -999.0,9,  -999.00,9,  -999.0,-999.0000,-999.000,-999.000, 18.8606,-999.000,9
      06MT22_5,   A10,    10,  1,    204,2,19930103,1902,-30.0027, -39.5303, 3972,    151.0,  17.1790,  35.7470,2,-999.0000,9,    217.4,2,     0.50,2,     1.54,9,     0.21,2, -999.000,9, -999.000,9, -999.000,9, -999.000,9,-999.0000,9,  -999.00,9,   -999.0,9,-999.000,9,  -999.00,9,   -999.0,9,   -999.0,9,   -999.0,9,  -999.00,9,  -999.0,-999.0000,-999.000,-999.000, 17.1539,-999.000,9
      06MT22_5,   A10,    10,  1,    203,2,19930103,1902,-30.0027, -39.5303, 3972,    201.0,  15.3830,  35.4710,2,-999.0000,9,    208.6,2,     1.55,2,     5.32,9,     0.44,2, -999.000,9, -999.000,9, -999.000,9, -999.000,9,-999.0000,9,  -999.00,9,   -999.0,9,-999.000,9,  -999.00,9,   -999.0,9,   -999.0,9,   -999.0,9,  -999.00,9,  -999.0,-999.0000,-999.000,-999.000, 15.3520,-999.000,9
      06MT22_5,   A10,    10,  1,    202,2,19930103,1902,-30.0027, -39.5303, 3972,    300.0,  13.2240,  35.1870,2,  35.1910,2,    205.7,2,     3.16,2,    10.09,9,     0.67,2, -999.000,9, -999.000,9, -999.000,9, -999.000,9,-999.0000,9,  -999.00,9,   -999.0,9,-999.000,9,  -999.00,9,   -999.0,9,   -999.0,9,   -999.0,9,  -999.00,9,  -999.0,-999.0000,-999.000,-999.000, 13.1820,-999.000,9
      06MT22_5,   A10,    10,  1,    201,2,19930103,1902,-30.0027, -39.5303, 3972,    300.0,  13.2210,  35.1860,2,-999.0000,9,    204.8,2,     3.11,2,    10.77,9,     0.75,2, -999.000,9, -999.000,9, -999.000,9, -999.000,9,-999.0000,9,  -999.00,9,   -999.0,9,-999.000,9,  -999.00,9,   -999.0,9,   -999.0,9,   -999.0,9,  -999.00,9,  -999.0,-999.0000,-999.000,-999.000, 13.1787,-999.000,9
      06MT22_5,   A10,    10,  2,    324,2,19930103,2041,-30.0020, -39.5280, 4017,     10.0,  22.4140,  35.9860,2,  35.9920,2,   -999.0,9,  -999.00,9,  -999.00,9,  -999.00,9, -999.000,9, -999.000,9, -999.000,9, -999.000,9,-999.0000,9,  -999.00,9,   -999.0,9,-999.000,9,  -999.00,9,   -999.0,9,   -999.0,9,   -999.0,9,  -999.00,9,  -999.0,-999.0000,-999.000,-999.000, 22.4120,-999.000,9
      06MT22_5,   A10,    10,  2,    323,2,19930103,2041,-30.0020, -39.5280, 4017,     10.0,  22.4140,  35.9860,2,-999.0000,9,   -999.0,9,  -999.00,9,  -999.00,9,  -999.00,9, -999.000,9, -999.000,9, -999.000,9, -999.000,9,-999.0000,9,  -999.00,9,   -999.0,9,-999.000,9,  -999.00,9,   -999.0,9,   -999.0,9,   -999.0,9,  -999.00,9,  -999.0,-999.0000,-999.000,-999.000, 22.4120,-999.000,9
      06MT22_5,   A10,    10,  2,    322,2,19930103,2041,-30.0020, -39.5280, 4017,    299.0,  13.0590,  35.1650,2,-999.0000,9,    204.4,2,     3.39,2,    11.37,9,     0.78,2, -999.000,9, -999.000,9, -999.000,9, -999.000,9,-999.0000,9,  -999.00,9,   -999.0,9,-999.000,9,  -999.00,9,   -999.0,9,   -999.0,9,   -999.0,9,  -999.00,9,  -999.0,-999.0000,-999.000,-999.000, 13.0178,-999.000,9
      06MT22_5,   A10,    10,  2,    321,2,19930103,2041,-30.0020, -39.5280, 4017,    399.0,  11.7120,  35.0200,2,-999.0000,9,    208.1,2,     4.30,2,    14.20,9,     0.96,2, -999.000,9, -999.000,9, -999.000,9, -999.000,9,-999.0000,9,  -999.00,9,   -999.0,9,-999.000,9,  -999.00,9,   -999.0,9,   -999.0,9,   -999.0,9,  -999.00,9,  -999.0,-999.0000,-999.000,-999.000, 11.6606,-999.000,9
      06MT22_5,   A10,    10,  2,    320,2,19930103,2041,-30.0020, -39.5280, 4017,    399.0,  11.6780,  35.0150,2,-999.0000,9,    205.8,2,     6.51,2,    18.76,9,     1.28,2, -999.000,9, -999.000,9, -999.000,9, -999.000,9,-999.0000,9,  -999.00,9,   -999.0,9,-999.000,9,  -999.00,9,   -999.0,9,   -999.0,9,   -999.0,9,  -999.00,9,  -999.0,-999.0000,-999.000,-999.000, 11.6267,-999.000,9
      06MT22_5,   A10,    10,  2,    319,2,19930103,2041,-30.0020, -39.5280, 4017,    598.0,   8.1110,  34.5960,2,-999.0000,9,    205.0,2,    10.05,2,    23.32,9,     1.60,2, -999.000,9, -999.000,9, -999.000,9, -999.000,9,-999.0000,9,  -999.00,9,   -999.0,9,-999.000,9,  -999.00,9,   -999.0,9,   -999.0,9,   -999.0,9,  -999.00,9,  -999.0,-999.0000,-999.000,-999.000,  8.0488,-999.000,9
      06MT22_5,   A10,    10,  2,    318,2,19930103,2041,-30.0020, -39.5280, 4017,    701.0,   6.3060,  34.4300,2,-999.0000,9,    211.1,2,    14.71,2,    27.34,9,     1.87,2, -999.000,9, -999.000,9, -999.000,9, -999.000,9,-999.0000,9,  -999.00,9,   -999.0,9,-999.000,9,  -999.00,9,   -999.0,9,   -999.0,9,   -999.0,9,  -999.00,9,  -999.0,-999.0000,-999.000,-999.000,  6.2421,-999.000,9
      06MT22_5,   A10,    10,  2,    317,2,19930103,2041,-30.0020, -39.5280, 4017,    850.0,   4.6920,  34.3190,2,-999.0000,9,    221.1,2,    21.22,2,    30.05,9,     2.04,2, -999.000,9, -999.000,9, -999.000,9, -999.000,9,-999.0000,9,  -999.00,9,   -999.0,9,-999.000,9,  -999.00,9,   -999.0,9,   -999.0,9,   -999.0,9,  -999.00,9,  -999.0,-999.0000,-999.000,-999.000,  4.6240,-999.000,9
      06MT22_5,   A10,    10,  2,    316,2,19930103,2041,-30.0020, -39.5280, 4017,    999.0,   3.5970,  34.2980,2,-999.0000,9,    224.3,2,    30.16,2,    31.87,9,     2.23,2, -999.000,9, -999.000,9, -999.000,9, -999.000,9,-999.0000,9,  -999.00,9,   -999.0,9,-999.000,9,  -999.00,9,   -999.0,9,   -999.0,9,   -999.0,9,  -999.00,9,  -999.0,-999.0000,-999.000,-999.000,  3.5245,-999.000,9
      06MT22_5,   A10,    10,  2,    315,2,19930103,2041,-30.0020, -39.5280, 4017,   1198.0,   3.1050,  34.4210,2,-999.0000,9,    277.1,2,    44.87,2,    33.91,9,     2.41,2, -999.000,9, -999.000,9, -999.000,9, -999.000,9,-999.0000,9,  -999.00,9,   -999.0,9,-999.000,9,  -999.00,9,   -999.0,9,   -999.0,9,   -999.0,9,  -999.00,9,  -999.0,-999.0000,-999.000,-999.000,  3.0207,-999.000,9
      06MT22_5,   A10,    10,  2,    314,2,19930103,2041,-30.0020, -39.5280, 4017,   1400.0,   2.9670,  34.5520,2,  34.5510,2,    191.2,2,    51.23,2,    33.62,9,     2.35,2, -999.000,9, -999.000,9, -999.000,9, -999.000,9,-999.0000,9,  -999.00,9,   -999.0,9,-999.000,9,  -999.00,9,   -999.0,9,   -999.0,9,   -999.0,9,  -999.00,9,  -999.0,-999.0000,-999.000,-999.000,  2.8678,-999.000,9
      06MT22_5,   A10,    10,  2,    313,2,19930103,2041,-30.0020, -39.5280, 4017,   1600.0,   2.9320,  34.6730,2,-999.0000,9,    197.0,2,    50.94,2,    31.74,9,     2.21,2, -999.000,9, -999.000,9, -999.000,9, -999.000,9,-999.0000,9,  -999.00,9,   -999.0,9,-999.000,9,  -999.00,9,   -999.0,9,   -999.0,9,   -999.0,9,  -999.00,9,  -999.0,-999.0000,-999.000,-999.000,  2.8157,-999.000,9
      06MT22_5,   A10,    10,  2,    312,2,19930103,2041,-30.0020, -39.5280, 4017,   1799.0,   3.0280,  34.7790,2,-999.0000,9,    210.0,2,    46.65,2,    29.07,9,     1.93,2, -999.000,9, -999.000,9, -999.000,9, -999.000,9,-999.0000,9,  -999.00,9,   -999.0,9,-999.000,9,  -999.00,9,   -999.0,9,   -999.0,9,   -999.0,9,  -999.00,9,  -999.0,-999.0000,-999.000,-999.000,  2.8932,-999.000,9
      06MT22_5,   A10,    10,  2,    311,2,19930103,2041,-30.0020, -39.5280, 4017,   2000.0,   3.2120,  34.8750,2,-999.0000,9,    231.2,2,    34.52,2,    25.48,9,     1.67,2, -999.000,9, -999.000,9, -999.000,9, -999.000,9,-999.0000,9,  -999.00,9,   -999.0,9,-999.000,9,  -999.00,9,   -999.0,9,   -999.0,9,   -999.0,9,  -999.00,9,  -999.0,-999.0000,-999.000,-999.000,  3.0563,-999.000,9
      06MT22_5,   A10,    10,  2,    310,2,19930103,2041,-30.0020, -39.5280, 4017,   2251.0,   3.2080,  34.9200,2,  34.9190,2,    246.0,2,    27.69,2,    23.08,9,     1.50,2, -999.000,9, -999.000,9, -999.000,9, -999.000,9,-999.0000,9,  -999.00,9,   -999.0,9,-999.000,9,  -999.00,9,   -999.0,9,   -999.0,9,   -999.0,9,  -999.00,9,  -999.0,-999.0000,-999.000,-999.000,  3.0287,-999.000,9
      06MT22_5,   A10,    10,  2,    309,2,19930103,2041,-30.0020, -39.5280, 4017,   2500.0,   3.0930,  34.9300,2,-999.0000,9,    251.6,2,    26.76,2,    22.04,9,     1.41,2, -999.000,9, -999.000,9, -999.000,9, -999.000,9,-999.0000,9,  -999.00,9,   -999.0,9,-999.000,9,  -999.00,9,   -999.0,9,   -999.0,9,   -999.0,9,  -999.00,9,  -999.0,-999.0000,-999.000,-999.000,  2.8915,-999.000,9
      06MT22_5,   A10,    10,  2,    308,2,19930103,2041,-30.0020, -39.5280, 4017,   2753.0,   2.9250,  34.9250,2,-999.0000,9,    252.4,2,    28.65,2,    22.13,9,     1.42,2, -999.000,9, -999.000,9, -999.000,9, -999.000,9,-999.0000,9,  -999.00,9,   -999.0,9,-999.000,9,  -999.00,9,   -999.0,9,   -999.0,9,   -999.0,9,  -999.00,9,  -999.0,-999.0000,-999.000,-999.000,  2.7014,-999.000,9
      06MT22_5,   A10,    10,  2,    307,2,19930103,2041,-30.0020, -39.5280, 4017,   3004.0,   2.7840,  34.9170,2,  34.9170,2,    254.0,2,    31.05,2,    22.19,9,     1.40,2,    0.021,4,    0.018,4,    0.057,4, -999.000,9,-999.0000,9,  -999.00,9,   -999.0,9,-999.000,9,  -999.00,9,   -999.0,9,   -999.0,9,   -999.0,9,  -999.00,9,  -999.0,-999.0000,-999.000,-999.000,  2.5376,-999.000,9
      06MT22_5,   A10,    10,  2,    306,2,19930103,2041,-30.0020, -39.5280, 4017,   3252.0,   2.6130,  34.9060,2,-999.0000,9,    253.7,2,    34.56,2,    22.54,9,     1.44,2,   -0.001,2,    0.001,2,    0.032,2, -999.000,9,-999.0000,9,  -999.00,9,   -999.0,9,-999.000,9,  -999.00,9,   -999.0,9,   -999.0,9,   -999.0,9,  -999.00,9,  -999.0,-999.0000,-999.000,-999.000,  2.3450,-999.000,9
      06MT22_5,   A10,    10,  2,    305,2,19930103,2041,-30.0020, -39.5280, 4017,   3504.0,   2.1950,  34.8680,2,-999.0000,9,    251.2,2,    47.66,2,    24.18,9,     1.57,2,    0.002,2,    0.004,2,    0.003,2,    0.006,2,   1.8221,2,     3.46,2,   -999.0,9,   7.999,2,  -999.00,9,   -999.0,9,   -999.0,9,   -999.0,9,  -999.00,9,  -999.0,  0.0064,   0.250,   0.028,  1.9104,   0.002,9
      06MT22_5,   A10,    10,  2,    304,2,19930103,2041,-30.0020, -39.5280, 4017,   3753.0,   1.5730,  34.8030,2,  34.7990,2,    239.4,2,    71.43,2,    27.85,9,     1.88,2,    0.001,2,    0.004,2,   -0.010,2, -999.000,9,   1.8297,7,     4.48,2,   -999.0,9,   8.011,7,  -999.00,9,   -999.0,9,   -999.0,9,   -999.0,9,  -999.00,9,  -999.0,  0.0064,   0.250,   0.028,  1.2779,-999.000,9
      06MT22_5,   A10,    10,  2,    303,2,19930103,2041,-30.0020, -39.5280, 4017,   3969.0,   0.6680,  34.7080,2,  34.7070,2,    223.3,2,   105.42,2,    32.84,9,     2.30,2,    0.098,2,    0.770,4,    0.243,2,    0.018,2,-999.0000,1,  -999.00,1,   -999.0,9,-999.000,1,  -999.00,9,   -999.0,9,   -999.0,9,   -999.0,9,  -999.00,9,  -999.0,-999.0000,-999.000,-999.000,  0.3758,   0.003,9
      06MT22_5,   A10,    10,  2,    301,2,19930103,2041,-30.0020, -39.5280, 4017,   4028.0,   0.5670,  34.6990,2,  34.6970,2,   -999.0,9,  -999.00,9,  -999.00,9,  -999.00,9,    0.090,2,    0.062,2,    0.241,2,    0.017,2,   1.8640,2,     6.56,2,   -999.0,9,   8.152,2,  -999.00,9,   -999.0,9,   -999.0,9,   -999.0,9,  -999.00,9,  -999.0,  0.0065,   0.250,   0.029,  0.2716,   0.004,9
      06MT22_5,   A10,    10,  2,    302,2,19930103,2041,-30.0020, -39.5280, 4017,   4030.0,   0.5670,  34.7000,2,-999.0000,9,    224.4,2,   109.72,2,    33.27,9,     2.35,2,    0.146,2,    0.093,2,    0.313,2, -999.000,9,-999.0000,9,  -999.00,9,   -999.0,9,-999.000,9,  -999.00,9,   -999.0,9,   -999.0,9,   -999.0,9,  -999.00,9,  -999.0,-999.0000,-999.000,-999.000,  0.2714,-999.000,9