BOTTLE,20030417WHPSIOSA
EXPOCODE,SECT_ID,STNNBR,CASTNO,BTLNBR,BTLNBR_FLAG_W,DATE,TIME,LATITUDE,LONGITUDE,DEPTH,CTDPRS,CTDTMP,CTDSAL,CTDSAL_FLAG_W,SALNTY,SALNTY_FLAG_W,OXYGEN,OXYGEN_FLAG_W,SILCAT,SILCAT_FLAG_W,NO2+NO3,NO2+NO3_FLAG_W,PHSPHT,PHSPHT_FLAG_W,CFC-11,CFC-11_FLAG_W,CFC-12,CFC-12_FLAG_W,CCL4,CCL4_FLAG_W,TRITUM,TRITUM_FLAG_W,HELIUM,HELIUM_FLAG_W,DELHE3,DELHE3_FLAG_W,DELC14,DELC14_FLAG_W,NEON,NEON_FLAG_W,O18O16,O18O16_FLAG_W,TCARBN,TCARBN_FLAG_W,PCO2,PCO2_FLAG_W,ALKALI,ALKALI_FLAG_W,PH,PH_FLAG_W,C14ERR,HELIER,DELHER,NEONER,THETA,TRITER,TRITER_FLAG_W
,,,,,,,,,,,DBAR,ITS-90,PSS-78,,PSS-78,,UMOL/KG,,UMOL/KG,,UMOL/KG,,UMOL/KG,,PMOL/KG,,PMOL/KG,,PMOL/KG,,TU,,NMOL/KG,,PERCNT,,/MILLE,,NMOL/KG,,MILLE,,UMOL/KG,,UATM,,UMOL/KG,,,,/MILLE,NMOL/KG,PERCNT,NMOL/KG,ITS-90,TU,
      06MT22_5,   A10,    76,  2,    324,2,19930121,1802,-29.6040,   1.7005, 3647,     10.0,  24.0300,  35.9220,2,  35.9280,2,   -999.0,9,  -999.00,9,  -999.00,9,  -999.00,9, -999.000,9, -999.000,9, -999.000,9, -999.000,9,-999.0000,9,  -999.00,9,   -999.0,9,-999.000,9,  -999.00,9,   -999.0,9,   -999.0,9,   -999.0,9,  -999.00,9,  -999.0,-999.0000,-999.000,-999.000, 24.0279,-999.000,9
      06MT22_5,   A10,    76,  2,    321,2,19930121,1802,-29.6040,   1.7005, 3647,    298.0,  11.8740,  34.9930,2,-999.0000,9,   -999.0,9,  -999.00,9,  -999.00,9,  -999.00,9, -999.000,9, -999.000,9, -999.000,9, -999.000,9,-999.0000,9,  -999.00,9,   -999.0,9,-999.000,9,  -999.00,9,   -999.0,9,   -999.0,9,   -999.0,9,  -999.00,9,  -999.0,-999.0000,-999.000,-999.000, 11.8354,-999.000,9
      06MT22_5,   A10,    76,  2,    320,2,19930121,1802,-29.6040,   1.7005, 3647,    399.0,  10.2460,  34.8220,2,-999.0000,9,    182.6,2,     8.45,2,    19.66,9,     1.32,2,    1.919,2,    0.988,2,    1.061,2, -999.000,9,-999.0000,9,  -999.00,9,   -999.0,9,-999.000,9,  -999.00,9,   2143.3,2,   -999.0,9,   -999.0,9,  -999.00,9,  -999.0,-999.0000,-999.000,-999.000, 10.1987,-999.000,9
      06MT22_5,   A10,    76,  2,    319,2,19930121,1802,-29.6040,   1.7005, 3647,    499.0,   8.6870,  34.6610,2,  34.6710,2,    173.9,2,    12.10,2,    24.12,9,     1.60,2,    1.587,2,    0.813,2,    1.264,2, -999.000,9,-999.0000,9,  -999.00,9,   -999.0,9,-999.000,9,  -999.00,9,   2162.9,2,   -999.0,9,   -999.0,9,  -999.00,9,  -999.0,-999.0000,-999.000,-999.000,  8.6332,-999.000,9
      06MT22_5,   A10,    76,  2,    318,2,19930121,1802,-29.6040,   1.7005, 3647,    600.0,   6.8080,  34.4730,2,-999.0000,9,    204.8,2,    15.61,2,    26.30,9,     1.76,2,    1.603,2,    0.809,2,    1.935,2, -999.000,9,-999.0000,9,  -999.00,9,   -999.0,9,-999.000,9,  -999.00,9,   2161.0,2,   -999.0,9,   -999.0,9,  -999.00,9,  -999.0,-999.0000,-999.000,-999.000,  6.7516,-999.000,9
      06MT22_5,   A10,    76,  2,    317,2,19930121,1802,-29.6040,   1.7005, 3647,    698.0,   5.4730,  34.3740,2,-999.0000,9,    215.3,2,    20.13,2,    28.81,9,     1.89,2,    1.492,2,    0.735,2,    2.315,2, -999.000,9,-999.0000,9,  -999.00,9,   -999.0,9,-999.000,9,  -999.00,9,   2169.9,2,   -999.0,9,   -999.0,9,  -999.00,9,  -999.0,-999.0000,-999.000,-999.000,  5.4140,-999.000,9
      06MT22_5,   A10,    76,  2,    316,2,19930121,1802,-29.6040,   1.7005, 3647,    848.0,   4.1210,  34.3420,2,  34.3450,2,    209.1,2,    30.97,2,    31.67,9,     2.14,2,    0.966,2,    0.481,2,    1.922,2, -999.000,9,-999.0000,9,  -999.00,9,   -999.0,9,-999.000,9,  -999.00,9,   2189.1,2,   -999.0,9,   -999.0,9,  -999.00,9,  -999.0,-999.0000,-999.000,-999.000,  4.0572,-999.000,9
      06MT22_5,   A10,    76,  2,    315,2,19930121,1802,-29.6040,   1.7005, 3647,    999.0,   3.5570,  34.4160,2,-999.0000,9,    189.1,2,    43.70,2,    33.79,9,     2.26,2,    0.390,2,    0.194,2,    1.039,2, -999.000,9,-999.0000,9,  -999.00,9,   -999.0,9,-999.000,9,  -999.00,9,   2214.5,2,   -999.0,9,   -999.0,9,  -999.00,9,  -999.0,-999.0000,-999.000,-999.000,  3.4846,-999.000,9
      06MT22_5,   A10,    76,  2,    314,2,19930121,1802,-29.6040,   1.7005, 3647,   1199.0,   3.1740,  34.5340,2,-999.0000,9,    182.6,2,    52.19,2,    33.78,9,     2.26,2,    0.119,2,    0.059,2,    0.469,2, -999.000,9,-999.0000,9,  -999.00,9,   -999.0,9,-999.000,9,  -999.00,9,   2226.9,2,   -999.0,9,   -999.0,9,  -999.00,9,  -999.0,-999.0000,-999.000,-999.000,  3.0888,-999.000,9
      06MT22_5,   A10,    76,  2,    313,2,19930121,1802,-29.6040,   1.7005, 3647,   1399.0,   3.0320,  34.6500,2,  34.6510,2,    187.1,2,    53.16,2,    31.97,9,     2.10,2,    0.042,2,    0.020,2,    0.208,2, -999.000,9,-999.0000,9,  -999.00,9,   -999.0,9,-999.000,9,  -999.00,9,   2225.9,2,   -999.0,9,   -999.0,9,  -999.00,9,  -999.0,-999.0000,-999.000,-999.000,  2.9320,-999.000,9
      06MT22_5,   A10,    76,  2,    312,2,19930121,1802,-29.6040,   1.7005, 3647,   1599.0,   2.9940,  34.7400,2,-999.0000,9,    198.3,2,    49.89,2,    29.58,9,     1.96,2,    0.019,2,    0.003,2,    0.097,2, -999.000,9,-999.0000,9,  -999.00,9,   -999.0,9,-999.000,9,  -999.00,9,   2217.8,2,   -999.0,9,   -999.0,9,  -999.00,9,  -999.0,-999.0000,-999.000,-999.000,  2.8773,-999.000,9
      06MT22_5,   A10,    76,  2,    311,2,19930121,1802,-29.6040,   1.7005, 3647,   1799.0,   2.9160,  34.7930,2,-999.0000,9,    210.1,2,    48.48,2,    27.93,9,     1.83,2,    0.006,2,    0.000,2,    0.053,2, -999.000,9,-999.0000,9,  -999.00,9,   -999.0,9,-999.000,9,  -999.00,9,   2211.6,2,   -999.0,9,   -999.0,9,  -999.00,9,  -999.0,-999.0000,-999.000,-999.000,  2.7830,-999.000,9
      06MT22_5,   A10,    76,  2,    310,2,19930121,1802,-29.6040,   1.7005, 3647,   2000.0,   2.8080,  34.8190,2,  34.8210,2,    217.3,2,    47.84,2,    26.72,9,     1.79,2,    0.002,2,    0.000,2,    0.036,2, -999.000,9,-999.0000,9,  -999.00,9,   -999.0,9,-999.000,9,  -999.00,9,   2205.4,2,   -999.0,9,   -999.0,9,  -999.00,9,  -999.0,-999.0000,-999.000,-999.000,  2.6587,-999.000,9
      06MT22_5,   A10,    76,  2,    309,2,19930121,1802,-29.6040,   1.7005, 3647,   2250.0,   2.6180,  34.8340,2,-999.0000,9,    224.3,2,    49.70,2,    25.95,9,     1.72,2, -999.000,9, -999.000,9, -999.000,9, -999.000,9,-999.0000,9,  -999.00,9,   -999.0,9,-999.000,9,  -999.00,9,   2203.2,2,   -999.0,9,   -999.0,9,  -999.00,9,  -999.0,-999.0000,-999.000,-999.000,  2.4489,-999.000,9
      06MT22_5,   A10,    76,  2,    308,2,19930121,1802,-29.6040,   1.7005, 3647,   2501.0,   2.4970,  34.8460,2,-999.0000,9,    228.6,2,    50.58,2,    25.32,9,     1.66,2,    0.000,2,    0.000,2,    0.013,2, -999.000,9,-999.0000,9,  -999.00,9,   -999.0,9,-999.000,9,  -999.00,9,   2203.1,2,   -999.0,9,   -999.0,9,  -999.00,9,  -999.0,-999.0000,-999.000,-999.000,  2.3066,-999.000,9
      06MT22_5,   A10,    76,  2,    307,2,19930121,1802,-29.6040,   1.7005, 3647,   2749.0,   2.4070,  34.8540,2,  34.8540,2,    231.1,2,    51.37,2,    24.81,9,     1.67,2, -999.000,9, -999.000,9, -999.000,9, -999.000,9,-999.0000,9,  -999.00,9,   -999.0,9,-999.000,9,  -999.00,9,   2203.3,2,   -999.0,9,   -999.0,9,  -999.00,9,  -999.0,-999.0000,-999.000,-999.000,  2.1944,-999.000,9
      06MT22_5,   A10,    76,  2,    306,2,19930121,1802,-29.6040,   1.7005, 3647,   3003.0,   2.3310,  34.8640,2,-999.0000,9,    235.1,2,    51.57,2,    24.32,9,     1.61,2,   -0.001,2,    0.000,2,    0.006,2, -999.000,9,-999.0000,9,  -999.00,9,   -999.0,9,-999.000,9,  -999.00,9,   2203.3,2,   -999.0,9,   -999.0,9,  -999.00,9,  -999.0,-999.0000,-999.000,-999.000,  2.0947,-999.000,9
      06MT22_5,   A10,    76,  2,    305,2,19930121,1802,-29.6040,   1.7005, 3647,   3253.0,   2.2970,  34.8700,2,-999.0000,9,    236.1,2,    52.22,2,    24.21,9,     1.61,2, -999.000,9, -999.000,9, -999.000,9, -999.000,9,-999.0000,9,  -999.00,9,   -999.0,9,-999.000,9,  -999.00,9,   2207.8,2,   -999.0,9,   -999.0,9,  -999.00,9,  -999.0,-999.0000,-999.000,-999.000,  2.0359,-999.000,9
      06MT22_5,   A10,    76,  2,    304,2,19930121,1802,-29.6040,   1.7005, 3647,   3504.0,   2.2980,  34.8750,2,  34.8770,2,    234.9,2,    52.33,2,    24.18,9,     1.58,2,    0.000,2,   -0.001,2,    0.006,2, -999.000,9,-999.0000,9,  -999.00,9,   -999.0,9,-999.000,9,  -999.00,9,   2210.2,2,   -999.0,9,   -999.0,9,  -999.00,9,  -999.0,-999.0000,-999.000,-999.000,  2.0104,-999.000,9
      06MT22_5,   A10,    76,  2,    303,2,19930121,1802,-29.6040,   1.7005, 3647,   3606.0,   2.2970,  34.8760,2,-999.0000,9,    234.9,2,    52.71,2,    24.17,9,     1.60,2, -999.000,9, -999.000,9, -999.000,9, -999.000,9,-999.0000,9,  -999.00,9,   -999.0,9,-999.000,9,  -999.00,9,   2212.2,2,   -999.0,9,   -999.0,9,  -999.00,9,  -999.0,-999.0000,-999.000,-999.000,  1.9984,-999.000,9
      06MT22_5,   A10,    76,  2,    301,2,19930121,1802,-29.6040,   1.7005, 3647,   3683.0,   2.2970,  34.8770,2,  34.8780,2,    234.9,2,    52.99,2,    24.21,9,     1.59,2,    0.007,2,    0.001,2,    0.006,2, -999.000,9,-999.0000,9,  -999.00,9,   -999.0,9,-999.000,9,  -999.00,9,   2213.0,2,   -999.0,9,   -999.0,9,  -999.00,9,  -999.0,-999.0000,-999.000,-999.000,  1.9900,-999.000,9
      06MT22_5,   A10,    76,  2,    302,2,19930121,1802,-29.6040,   1.7005, 3647,   3686.0,   2.2980,  34.8770,2,-999.0000,9,   -999.0,9,  -999.00,9,  -999.00,9,  -999.00,9,   -0.001,2,    0.000,2,   -0.001,2, -999.000,9,-999.0000,9,  -999.00,9,   -999.0,9,-999.000,9,  -999.00,9,   -999.0,9,   -999.0,9,   -999.0,9,  -999.00,9,  -999.0,-999.0000,-999.000,-999.000,  1.9906,-999.000,9
      06MT22_5,   A10,    77,  1,    324,2,19930121,2155,-29.4717,   2.2467, 2293,     10.0,  23.4580,  35.8330,2,  35.8080,2,    224.7,2,     1.36,2,     0.01,9,     0.14,2, -999.000,9, -999.000,9, -999.000,9, -999.000,9,-999.0000,9,  -999.00,9,   -999.0,9,-999.000,9,  -999.00,9,   -999.0,0,   -999.0,9,   -999.0,9,  -999.00,9,  -999.0,-999.0000,-999.000,-999.000, 23.4559,-999.000,9
      06MT22_5,   A10,    77,  1,    323,2,19930121,2155,-29.4717,   2.2467, 2293,     31.0,  19.6330,  35.6520,2,-999.0000,9,    256.1,2,     0.87,2,     0.03,9,     0.15,2, -999.000,9, -999.000,9, -999.000,9, -999.000,9,-999.0000,9,  -999.00,9,   -999.0,9,-999.000,9,  -999.00,9,   -999.0,0,   -999.0,9,   -999.0,9,  -999.00,9,  -999.0,-999.0000,-999.000,-999.000, 19.6273,-999.000,9
      06MT22_5,   A10,    77,  1,    322,2,19930121,2155,-29.4717,   2.2467, 2293,     51.0,  18.2320,  35.7300,2,  35.7230,2,    248.2,2,     0.96,2,     0.04,9,     0.20,2, -999.000,9, -999.000,9, -999.000,9, -999.000,9,-999.0000,9,  -999.00,9,   -999.0,9,-999.000,9,  -999.00,9,   -999.0,0,   -999.0,9,   -999.0,9,  -999.00,9,  -999.0,-999.0000,-999.000,-999.000, 18.2231,-999.000,9
      06MT22_5,   A10,    77,  1,    321,2,19930121,2155,-29.4717,   2.2467, 2293,     71.0,  17.6300,  35.6760,2,-999.0000,9,    247.9,2,     1.24,2,     0.01,9,     0.20,2, -999.000,9, -999.000,9, -999.000,9, -999.000,9,-999.0000,9,  -999.00,9,   -999.0,9,-999.000,9,  -999.00,9,   -999.0,0,   -999.0,9,   -999.0,9,  -999.00,9,  -999.0,-999.0000,-999.000,-999.000, 17.6180,-999.000,9
      06MT22_5,   A10,    77,  1,    320,2,19930121,2155,-29.4717,   2.2467, 2293,    100.0,  16.7590,  35.6040,2,-999.0000,9,    239.2,2,     1.81,2,     0.84,9,     0.26,2, -999.000,9, -999.000,9, -999.000,9, -999.000,9,-999.0000,9,  -999.00,9,   -999.0,9,-999.000,9,  -999.00,9,   -999.0,0,   -999.0,9,   -999.0,9,  -999.00,9,  -999.0,-999.0000,-999.000,-999.000, 16.7426,-999.000,9
      06MT22_5,   A10,    77,  1,    319,2,19930121,2155,-29.4717,   2.2467, 2293,    149.0,  15.9680,  35.5480,2,  35.5410,2,    230.5,2,     2.48,2,     3.00,9,     0.33,2, -999.000,9, -999.000,9, -999.000,9, -999.000,9,-999.0000,9,  -999.00,9,   -999.0,9,-999.000,9,  -999.00,9,   -999.0,0,   -999.0,9,   -999.0,9,  -999.00,9,  -999.0,-999.0000,-999.000,-999.000, 15.9444,-999.000,9
      06MT22_5,   A10,    77,  1,    318,2,19930121,2155,-29.4717,   2.2467, 2293,    202.0,  15.1890,  35.4280,2,-999.0000,9,    232.0,2,     2.66,2,     4.26,9,     0.44,2, -999.000,9, -999.000,9, -999.000,9, -999.000,9,-999.0000,9,  -999.00,9,   -999.0,9,-999.000,9,  -999.00,9,   -999.0,0,   -999.0,9,   -999.0,9,  -999.00,9,  -999.0,-999.0000,-999.000,-999.000, 15.1582,-999.000,9
      06MT22_5,   A10,    77,  1,    317,2,19930121,2155,-29.4717,   2.2467, 2293,    301.0,  13.2210,  35.1290,2,-999.0000,9,    204.4,2,     4.29,2,    10.66,9,     0.81,2, -999.000,9, -999.000,9, -999.000,9, -999.000,9,-999.0000,9,  -999.00,9,   -999.0,9,-999.000,9,  -999.00,9,   -999.0,0,   -999.0,9,   -999.0,9,  -999.00,9,  -999.0,-999.0000,-999.000,-999.000, 13.1791,-999.000,9
      06MT22_5,   A10,    77,  1,    316,2,19930121,2155,-29.4717,   2.2467, 2293,    399.0,  11.3400,  34.9380,2,-999.0000,9,    214.9,2,     4.97,2,    10.97,9,     0.80,2, -999.000,9, -999.000,9, -999.000,9, -999.000,9,-999.0000,9,  -999.00,9,   -999.0,9,-999.000,9,  -999.00,9,   -999.0,0,   -999.0,9,   -999.0,9,  -999.00,9,  -999.0,-999.0000,-999.000,-999.000, 11.2896,-999.000,9
      06MT22_5,   A10,    77,  1,    315,2,19930121,2155,-29.4717,   2.2467, 2293,    500.0,   9.0900,  34.6940,2,  34.6870,2,    190.4,2,    10.81,2,    21.44,9,     1.48,2, -999.000,9, -999.000,9, -999.000,9, -999.000,9,-999.0000,9,  -999.00,9,   -999.0,9,-999.000,9,  -999.00,9,   -999.0,0,   -999.0,9,   -999.0,9,  -999.00,9,  -999.0,-999.0000,-999.000,-999.000,  9.0346,-999.000,9
      06MT22_5,   A10,    77,  1,    314,2,19930121,2155,-29.4717,   2.2467, 2293,    600.0,   7.3740,  34.5460,2,-999.0000,9,    176.4,2,    15.94,2,    27.47,9,     1.84,2, -999.000,9, -999.000,9, -999.000,9, -999.000,9,-999.0000,9,  -999.00,9,   -999.0,9,-999.000,9,  -999.00,9,   -999.0,0,   -999.0,9,   -999.0,9,  -999.00,9,  -999.0,-999.0000,-999.000,-999.000,  7.3150,-999.000,9
      06MT22_5,   A10,    77,  1,    313,2,19930121,2155,-29.4717,   2.2467, 2293,    699.0,   5.9440,  34.4320,2,-999.0000,9,    189.0,2,    20.38,2,    30.04,9,     1.98,2, -999.000,9, -999.000,9, -999.000,9, -999.000,9,-999.0000,9,  -999.00,9,   -999.0,9,-999.000,9,  -999.00,9,   -999.0,0,   -999.0,9,   -999.0,9,  -999.00,9,  -999.0,-999.0000,-999.000,-999.000,  5.8824,-999.000,9
      06MT22_5,   A10,    77,  1,    312,2,19930121,2155,-29.4717,   2.2467, 2293,    850.0,   4.6820,  34.3970,2,  34.3980,2,    177.0,2,    29.18,2,    33.70,9,     2.25,2, -999.000,9, -999.000,9, -999.000,9, -999.000,9,-999.0000,9,  -999.00,9,   -999.0,9,-999.000,9,  -999.00,9,   -999.0,0,   -999.0,9,   -999.0,9,  -999.00,9,  -999.0,-999.0000,-999.000,-999.000,  4.6143,-999.000,9
      06MT22_5,   A10,    77,  1,    311,2,19930121,2155,-29.4717,   2.2467, 2293,    999.0,   3.8590,  34.3930,2,-999.0000,9,    189.6,2,    38.07,2,    33.52,9,     2.24,2, -999.000,9, -999.000,9, -999.000,9, -999.000,9,-999.0000,9,  -999.00,9,   -999.0,9,-999.000,9,  -999.00,9,   -999.0,0,   -999.0,9,   -999.0,9,  -999.00,9,  -999.0,-999.0000,-999.000,-999.000,  3.7845,-999.000,9
      06MT22_5,   A10,    77,  1,    310,2,19930121,2155,-29.4717,   2.2467, 2293,   1199.0,   3.2770,  34.4910,2,  34.4900,2,    183.8,2,    49.81,2,    33.74,9,     2.25,2, -999.000,9, -999.000,9, -999.000,9, -999.000,9,-999.0000,9,  -999.00,9,   -999.0,9,-999.000,9,  -999.00,9,   -999.0,0,   -999.0,9,   -999.0,9,  -999.00,9,  -999.0,-999.0000,-999.000,-999.000,  3.1912,-999.000,9
      06MT22_5,   A10,    77,  1,    309,2,19930121,2155,-29.4717,   2.2467, 2293,   1399.0,   3.0810,  34.6160,2,-999.0000,9,    184.7,2,    52.82,2,    32.26,9,     2.18,2, -999.000,9, -999.000,9, -999.000,9, -999.000,9,-999.0000,9,  -999.00,9,   -999.0,9,-999.000,9,  -999.00,9,   -999.0,0,   -999.0,9,   -999.0,9,  -999.00,9,  -999.0,-999.0000,-999.000,-999.000,  2.9801,-999.000,9
      06MT22_5,   A10,    77,  1,    308,2,19930121,2155,-29.4717,   2.2467, 2293,   1600.0,   3.1300,  34.7320,2,-999.0000,9,    197.0,2,    46.42,2,    29.60,9,     1.95,2, -999.000,9, -999.000,9, -999.000,9, -999.000,9,-999.0000,9,  -999.00,9,   -999.0,9,-999.000,9,  -999.00,9,   -999.0,0,   -999.0,9,   -999.0,9,  -999.00,9,  -999.0,-999.0000,-999.000,-999.000,  3.0116,-999.000,9
      06MT22_5,   A10,    77,  1,    307,2,19930121,2155,-29.4717,   2.2467, 2293,   1793.0,   3.0120,  34.7930,2,  34.7960,2,    209.7,2,    45.67,2,    27.55,9,     1.82,2, -999.000,9, -999.000,9, -999.000,9, -999.000,9,-999.0000,9,  -999.00,9,   -999.0,9,-999.000,9,  -999.00,9,   -999.0,0,   -999.0,9,   -999.0,9,  -999.00,9,  -999.0,-999.0000,-999.000,-999.000,  2.8783,-999.000,9
      06MT22_5,   A10,    77,  1,    306,2,19930121,2155,-29.4717,   2.2467, 2293,   1999.0,   2.8520,  34.8260,2,-999.0000,9,    218.0,2,    46.06,2,    26.45,9,     1.74,2, -999.000,9, -999.000,9, -999.000,9, -999.000,9,-999.0000,9,  -999.00,9,   -999.0,9,-999.000,9,  -999.00,9,   -999.0,0,   -999.0,9,   -999.0,9,  -999.00,9,  -999.0,-999.0000,-999.000,-999.000,  2.7021,-999.000,9
      06MT22_5,   A10,    77,  1,    305,2,19930121,2155,-29.4717,   2.2467, 2293,   2251.0,   2.7100,  34.8440,2,-999.0000,9,    226.3,2,    47.35,2,    25.53,9,     1.67,2, -999.000,9, -999.000,9, -999.000,9, -999.000,9,-999.0000,9,  -999.00,9,   -999.0,9,-999.000,9,  -999.00,9,   -999.0,0,   -999.0,9,   -999.0,9,  -999.00,9,  -999.0,-999.0000,-999.000,-999.000,  2.5393,-999.000,9
      06MT22_5,   A10,    77,  1,    304,2,19930121,2155,-29.4717,   2.2467, 2293,   2510.0,   2.5540,  34.8490,2,  34.8490,2,    228.8,2,    49.74,2,    25.39,9,     1.67,2, -999.000,9, -999.000,9, -999.000,9, -999.000,9,-999.0000,9,  -999.00,9,   -999.0,9,-999.000,9,  -999.00,9,   -999.0,0,   -999.0,9,   -999.0,9,  -999.00,9,  -999.0,-999.0000,-999.000,-999.000,  2.3617,-999.000,9
      06MT22_5,   A10,    77,  1,    303,2,19930121,2155,-29.4717,   2.2467, 2293,   2651.0,   2.4880,  34.8510,2,-999.0000,9,    230.7,2,    50.76,2,    25.29,9,     1.64,2, -999.000,9, -999.000,9, -999.000,9, -999.000,9,-999.0000,9,  -999.00,9,   -999.0,9,-999.000,9,  -999.00,9,   -999.0,0,   -999.0,9,   -999.0,9,  -999.00,9,  -999.0,-999.0000,-999.000,-999.000,  2.2834,-999.000,9
      06MT22_5,   A10,    77,  1,    301,2,19930121,2155,-29.4717,   2.2467, 2293,   2728.0,   2.3970,  34.8540,2,-999.0000,9,    231.8,2,    51.43,2,    25.11,9,     1.63,2, -999.000,9, -999.000,9, -999.000,9, -999.000,9,-999.0000,9,  -999.00,9,   -999.0,9,-999.000,9,  -999.00,9,   -999.0,0,   -999.0,9,   -999.0,9,  -999.00,9,  -999.0,-999.0000,-999.000,-999.000,  2.1819,-999.000,9
      06MT22_5,   A10,    77,  1,    302,2,19930121,2155,-29.4717,   2.2467, 2293,   2731.0,   2.3920,  34.8540,2,  34.8560,2,    230.9,2,    51.67,2,    25.13,9,     1.64,2, -999.000,9, -999.000,9, -999.000,9, -999.000,9,-999.0000,9,  -999.00,9,   -999.0,9,-999.000,9,  -999.00,9,   -999.0,0,   -999.0,9,   -999.0,9,  -999.00,9,  -999.0,-999.0000,-999.000,-999.000,  2.1815,-999.000,9