BOTTLE,20030417WHPSIOSA
EXPOCODE,SECT_ID,STNNBR,CASTNO,BTLNBR,BTLNBR_FLAG_W,DATE,TIME,LATITUDE,LONGITUDE,DEPTH,CTDPRS,CTDTMP,CTDSAL,CTDSAL_FLAG_W,SALNTY,SALNTY_FLAG_W,OXYGEN,OXYGEN_FLAG_W,SILCAT,SILCAT_FLAG_W,NO2+NO3,NO2+NO3_FLAG_W,PHSPHT,PHSPHT_FLAG_W,CFC-11,CFC-11_FLAG_W,CFC-12,CFC-12_FLAG_W,CCL4,CCL4_FLAG_W,TRITUM,TRITUM_FLAG_W,HELIUM,HELIUM_FLAG_W,DELHE3,DELHE3_FLAG_W,DELC14,DELC14_FLAG_W,NEON,NEON_FLAG_W,O18O16,O18O16_FLAG_W,TCARBN,TCARBN_FLAG_W,PCO2,PCO2_FLAG_W,ALKALI,ALKALI_FLAG_W,PH,PH_FLAG_W,C14ERR,HELIER,DELHER,NEONER,THETA,TRITER,TRITER_FLAG_W
,,,,,,,,,,,DBAR,ITS-90,PSS-78,,PSS-78,,UMOL/KG,,UMOL/KG,,UMOL/KG,,UMOL/KG,,PMOL/KG,,PMOL/KG,,PMOL/KG,,TU,,NMOL/KG,,PERCNT,,/MILLE,,NMOL/KG,,MILLE,,UMOL/KG,,UATM,,UMOL/KG,,,,/MILLE,NMOL/KG,PERCNT,NMOL/KG,ITS-90,TU,
      06MT22_5,   A10,    12,  1,    217,2,19930104,0712,-30.0038, -38.9165, 4282,     12.0,  22.5830,  36.2210,2,  36.2140,2,    220.6,2,     0.06,2,     0.13,9,  -999.00,9, -999.000,9, -999.000,9, -999.000,9, -999.000,9,-999.0000,9,  -999.00,9,   -999.0,9,-999.000,9,  -999.00,9,   -999.0,9,   -999.0,9,   -999.0,9,  -999.00,9,  -999.0,-999.0000,-999.000,-999.000, 22.5806,-999.000,9
      06MT22_5,   A10,    12,  1,    210,2,19930104,0712,-30.0038, -38.9165, 4282,     12.0,  22.5830,  36.2210,2,-999.0000,9,   -999.0,9,  -999.00,9,  -999.00,9,  -999.00,9, -999.000,9, -999.000,9, -999.000,9, -999.000,9,-999.0000,9,  -999.00,9,   -999.0,9,-999.000,9,  -999.00,9,   -999.0,9,   -999.0,9,   -999.0,9,  -999.00,9,  -999.0,-999.0000,-999.000,-999.000, 22.5806,-999.000,9
      06MT22_5,   A10,    12,  1,    209,2,19930104,0712,-30.0038, -38.9165, 4282,     31.0,  22.5510,  36.2180,2,-999.0000,9,    221.6,2,     0.06,2,     0.04,9,  -999.00,9, -999.000,9, -999.000,9, -999.000,9, -999.000,9,-999.0000,9,  -999.00,9,   -999.0,9,-999.000,9,  -999.00,9,   -999.0,9,   -999.0,9,   -999.0,9,  -999.00,9,  -999.0,-999.0000,-999.000,-999.000, 22.5447,-999.000,9
      06MT22_5,   A10,    12,  1,    208,2,19930104,0712,-30.0038, -38.9165, 4282,     51.0,  21.5520,  36.2090,2,-999.0000,9,    230.5,2,     0.10,2,     0.09,9,  -999.00,9, -999.000,9, -999.000,9, -999.000,9, -999.000,9,-999.0000,9,  -999.00,9,   -999.0,9,-999.000,9,  -999.00,9,   -999.0,9,   -999.0,9,   -999.0,9,  -999.00,9,  -999.0,-999.0000,-999.000,-999.000, 21.5420,-999.000,9
      06MT22_5,   A10,    12,  1,    207,2,19930104,0712,-30.0038, -38.9165, 4282,     71.0,  19.9870,  36.1920,2,  36.1860,2,    231.0,2,     0.00,2,     0.00,9,  -999.00,9, -999.000,9, -999.000,9, -999.000,9, -999.000,9,-999.0000,9,  -999.00,9,   -999.0,9,-999.000,9,  -999.00,9,   -999.0,9,   -999.0,9,   -999.0,9,  -999.00,9,  -999.0,-999.0000,-999.000,-999.000, 19.9738,-999.000,9
      06MT22_5,   A10,    12,  1,    206,2,19930104,0712,-30.0038, -38.9165, 4282,    102.0,  19.1600,  36.1040,2,-999.0000,9,    224.7,2,     0.13,2,     0.03,9,  -999.00,9, -999.000,9, -999.000,9, -999.000,9, -999.000,9,-999.0000,9,  -999.00,9,   -999.0,9,-999.000,9,  -999.00,9,   -999.0,9,   -999.0,9,   -999.0,9,  -999.00,9,  -999.0,-999.0000,-999.000,-999.000, 19.1417,-999.000,9
      06MT22_5,   A10,    12,  1,    205,2,19930104,0712,-30.0038, -38.9165, 4282,    152.0,  17.1780,  35.7970,2,-999.0000,9,    208.8,2,     0.66,2,     2.75,9,  -999.00,9, -999.000,9, -999.000,9, -999.000,9, -999.000,9,-999.0000,9,  -999.00,9,   -999.0,9,-999.000,9,  -999.00,9,   -999.0,9,   -999.0,9,   -999.0,9,  -999.00,9,  -999.0,-999.0000,-999.000,-999.000, 17.1527,-999.000,9
      06MT22_5,   A10,    12,  1,    204,2,19930104,0712,-30.0038, -38.9165, 4282,    200.0,  15.6210,  35.5540,2,  35.5480,2,    209.8,2,     1.20,2,     4.86,9,  -999.00,9, -999.000,9, -999.000,9, -999.000,9, -999.000,9,-999.0000,9,  -999.00,9,   -999.0,9,-999.000,9,  -999.00,9,   -999.0,9,   -999.0,9,   -999.0,9,  -999.00,9,  -999.0,-999.0000,-999.000,-999.000, 15.5897,-999.000,9
      06MT22_5,   A10,    12,  1,    203,2,19930104,0712,-30.0038, -38.9165, 4282,    301.0,  13.6090,  35.2560,2,-999.0000,9,    206.7,2,     2.71,2,     9.74,9,  -999.00,9, -999.000,9, -999.000,9, -999.000,9, -999.000,9,-999.0000,9,  -999.00,9,   -999.0,9,-999.000,9,  -999.00,9,   -999.0,9,   -999.0,9,   -999.0,9,  -999.00,9,  -999.0,-999.0000,-999.000,-999.000, 13.5662,-999.000,9
      06MT22_5,   A10,    12,  1,    202,2,19930104,0712,-30.0038, -38.9165, 4282,    401.0,  12.1070,  35.0830,2,-999.0000,9,    207.9,2,     3.79,2,    13.17,9,  -999.00,9, -999.000,9, -999.000,9, -999.000,9, -999.000,9,-999.0000,9,  -999.00,9,   -999.0,9,-999.000,9,  -999.00,9,   -999.0,9,   -999.0,9,   -999.0,9,  -999.00,9,  -999.0,-999.0000,-999.000,-999.000, 12.0540,-999.000,9
      06MT22_5,   A10,    12,  1,    201,2,19930104,0712,-30.0038, -38.9165, 4282,    500.0,  10.3400,  34.8550,2,  34.8480,2,    206.1,2,     5.98,2,    17.78,9,  -999.00,9, -999.000,9, -999.000,9, -999.000,9, -999.000,9,-999.0000,9,  -999.00,9,   -999.0,9,-999.000,9,  -999.00,9,   -999.0,9,   -999.0,9,   -999.0,9,  -999.00,9,  -999.0,-999.0000,-999.000,-999.000, 10.2800,-999.000,9
      06MT22_5,   A10,    12,  2,    324,2,19930104,0913,-30.0102, -38.9173, 4277,     11.0,  22.5770,  36.2080,2,  36.2130,2,   -999.0,9,  -999.00,9,  -999.00,9,  -999.00,9, -999.000,9, -999.000,9, -999.000,9, -999.000,9,-999.0000,9,  -999.00,9,   -999.0,9,-999.000,9,  -999.00,9,   -999.0,9,   -999.0,9,   -999.0,9,  -999.00,9,  -999.0,-999.0000,-999.000,-999.000, 22.5748,-999.000,9
      06MT22_5,   A10,    12,  2,    323,2,19930104,0913,-30.0102, -38.9173, 4277,     11.0,  22.5770,  36.2080,2,-999.0000,9,   -999.0,9,  -999.00,9,  -999.00,9,  -999.00,9, -999.000,9, -999.000,9, -999.000,9, -999.000,9,-999.0000,9,  -999.00,9,   -999.0,9,-999.000,9,  -999.00,9,   -999.0,9,   -999.0,9,   -999.0,9,  -999.00,9,  -999.0,-999.0000,-999.000,-999.000, 22.5748,-999.000,9
      06MT22_5,   A10,    12,  2,    322,2,19930104,0913,-30.0102, -38.9173, 4277,    500.0,  10.5140,  34.8700,2,  34.8640,2,    205.8,2,     5.47,2,    17.67,9,  -999.00,9, -999.000,9, -999.000,9, -999.000,9, -999.000,9,-999.0000,9,  -999.00,9,   -999.0,9,-999.000,9,  -999.00,9,   -999.0,9,   -999.0,9,   -999.0,9,  -999.00,9,  -999.0,-999.0000,-999.000,-999.000, 10.4533,-999.000,9
      06MT22_5,   A10,    12,  2,    321,2,19930104,0913,-30.0102, -38.9173, 4277,    601.0,   8.5970,  34.6430,2,-999.0000,9,    207.7,2,     8.57,2,    22.22,9,  -999.00,9, -999.000,9, -999.000,9, -999.000,9, -999.000,9,-999.0000,9,  -999.00,9,   -999.0,9,-999.000,9,  -999.00,9,   -999.0,9,   -999.0,9,   -999.0,9,  -999.00,9,  -999.0,-999.0000,-999.000,-999.000,  8.5326,-999.000,9
      06MT22_5,   A10,    12,  2,    320,2,19930104,0913,-30.0102, -38.9173, 4277,    700.0,   6.6470,  34.4450,2,-999.0000,9,    216.8,2,    13.14,2,    26.26,9,  -999.00,9, -999.000,9, -999.000,9, -999.000,9, -999.000,9,-999.0000,9,  -999.00,9,   -999.0,9,-999.000,9,  -999.00,9,   -999.0,9,   -999.0,9,   -999.0,9,  -999.00,9,  -999.0,-999.0000,-999.000,-999.000,  6.5816,-999.000,9
      06MT22_5,   A10,    12,  2,    319,2,19930104,0913,-30.0102, -38.9173, 4277,    850.0,   4.7100,  34.3230,2,  34.3230,2,    220.3,2,    21.61,2,    30.54,9,  -999.00,9, -999.000,9, -999.000,9, -999.000,9, -999.000,9,-999.0000,9,  -999.00,9,   -999.0,9,-999.000,9,  -999.00,9,   -999.0,9,   -999.0,9,   -999.0,9,  -999.00,9,  -999.0,-999.0000,-999.000,-999.000,  4.6422,-999.000,9
      06MT22_5,   A10,    12,  2,    318,2,19930104,0913,-30.0102, -38.9173, 4277,    999.0,   3.8270,  34.3250,2,-999.0000,9,    215.4,2,    31.63,2,    32.81,9,  -999.00,9, -999.000,9, -999.000,9, -999.000,9, -999.000,9,-999.0000,9,  -999.00,9,   -999.0,9,-999.000,9,  -999.00,9,   -999.0,9,   -999.0,9,   -999.0,9,  -999.00,9,  -999.0,-999.0000,-999.000,-999.000,  3.7527,-999.000,9
      06MT22_5,   A10,    12,  2,    317,2,19930104,0913,-30.0102, -38.9173, 4277,   1199.0,   3.1480,  34.4010,2,-999.0000,9,    204.4,2,    43.40,2,    34.26,9,  -999.00,9, -999.000,9, -999.000,9, -999.000,9, -999.000,9,-999.0000,9,  -999.00,9,   -999.0,9,-999.000,9,  -999.00,9,   -999.0,9,   -999.0,9,   -999.0,9,  -999.00,9,  -999.0,-999.0000,-999.000,-999.000,  3.0633,-999.000,9
      06MT22_5,   A10,    12,  2,    316,2,19930104,0913,-30.0102, -38.9173, 4277,   1400.0,   2.8970,  34.5310,2,  34.5320,2,    193.0,2,    52.87,2,    34.41,9,  -999.00,9, -999.000,9, -999.000,9, -999.000,9, -999.000,9,-999.0000,9,  -999.00,9,   -999.0,9,-999.000,9,  -999.00,9,   -999.0,9,   -999.0,9,   -999.0,9,  -999.00,9,  -999.0,-999.0000,-999.000,-999.000,  2.7986,-999.000,9
      06MT22_5,   A10,    12,  2,    315,2,19930104,0913,-30.0102, -38.9173, 4277,   1601.0,   2.8980,  34.6580,2,-999.0000,9,    197.8,2,    53.11,2,    32.71,9,  -999.00,9, -999.000,9, -999.000,9, -999.000,9, -999.000,9,-999.0000,9,  -999.00,9,   -999.0,9,-999.000,9,  -999.00,9,   -999.0,9,   -999.0,9,   -999.0,9,  -999.00,9,  -999.0,-999.0000,-999.000,-999.000,  2.7824,-999.000,9
      06MT22_5,   A10,    12,  2,    314,2,19930104,0913,-30.0102, -38.9173, 4277,   1801.0,   3.0470,  34.7790,2,-999.0000,9,    211.7,2,    46.05,2,    29.50,9,  -999.00,9, -999.000,9, -999.000,9, -999.000,9, -999.000,9,-999.0000,9,  -999.00,9,   -999.0,9,-999.000,9,  -999.00,9,   -999.0,9,   -999.0,9,   -999.0,9,  -999.00,9,  -999.0,-999.0000,-999.000,-999.000,  2.9122,-999.000,9
      06MT22_5,   A10,    12,  2,    313,2,19930104,0913,-30.0102, -38.9173, 4277,   1801.0,   3.0470,  34.7790,2,  34.7790,2,    211.5,2,    45.89,2,    29.21,9,  -999.00,9, -999.000,9, -999.000,9, -999.000,9, -999.000,9,-999.0000,9,  -999.00,9,   -999.0,9,-999.000,9,  -999.00,9,   -999.0,9,   -999.0,9,   -999.0,9,  -999.00,9,  -999.0,-999.0000,-999.000,-999.000,  2.9122,-999.000,9
      06MT22_5,   A10,    12,  2,    312,2,19930104,0913,-30.0102, -38.9173, 4277,   2251.0,   3.1620,  34.9080,2,-999.0000,9,    243.1,2,    30.13,2,    24.10,9,  -999.00,9, -999.000,9, -999.000,9, -999.000,9, -999.000,9,-999.0000,9,  -999.00,9,   -999.0,9,-999.000,9,  -999.00,9,   -999.0,9,   -999.0,9,   -999.0,9,  -999.00,9,  -999.0,-999.0000,-999.000,-999.000,  2.9835,-999.000,9
      06MT22_5,   A10,    12,  2,    311,2,19930104,0913,-30.0102, -38.9173, 4277,   2501.0,   3.0570,  34.9230,2,-999.0000,9,    251.8,2,    28.10,2,    22.81,9,  -999.00,9, -999.000,9, -999.000,9, -999.000,9, -999.000,9,-999.0000,9,  -999.00,9,   -999.0,9,-999.000,9,  -999.00,9,   -999.0,9,   -999.0,9,   -999.0,9,  -999.00,9,  -999.0,-999.0000,-999.000,-999.000,  2.8560,-999.000,9
      06MT22_5,   A10,    12,  2,    310,2,19930104,0913,-30.0102, -38.9173, 4277,   2752.0,   2.9190,  34.9210,2,  34.9220,2,    253.5,2,    29.42,2,    22.53,9,  -999.00,9, -999.000,9, -999.000,9, -999.000,9, -999.000,9,-999.0000,9,  -999.00,9,   -999.0,9,-999.000,9,  -999.00,9,   -999.0,9,   -999.0,9,   -999.0,9,  -999.00,9,  -999.0,-999.0000,-999.000,-999.000,  2.6956,-999.000,9
      06MT22_5,   A10,    12,  2,    309,2,19930104,0913,-30.0102, -38.9173, 4277,   3004.0,   2.7650,  34.9140,2,-999.0000,9,    255.0,2,    31.73,2,    22.47,9,  -999.00,9, -999.000,9, -999.000,9, -999.000,9, -999.000,9,-999.0000,9,  -999.00,9,   -999.0,9,-999.000,9,  -999.00,9,   -999.0,9,   -999.0,9,   -999.0,9,  -999.00,9,  -999.0,-999.0000,-999.000,-999.000,  2.5192,-999.000,9
      06MT22_5,   A10,    12,  2,    308,2,19930104,0913,-30.0102, -38.9173, 4277,   3253.0,   2.5620,  34.9000,2,-999.0000,9,    253.8,2,    35.82,2,    22.84,9,  -999.00,9, -999.000,9, -999.000,9, -999.000,9, -999.000,9,-999.0000,9,  -999.00,9,   -999.0,9,-999.000,9,  -999.00,9,   -999.0,9,   -999.0,9,   -999.0,9,  -999.00,9,  -999.0,-999.0000,-999.000,-999.000,  2.2947,-999.000,9
      06MT22_5,   A10,    12,  2,    307,2,19930104,0913,-30.0102, -38.9173, 4277,   3499.0,   2.2570,  34.8730,2,  34.8740,2,    252.4,2,    45.57,2,    24.19,9,  -999.00,9, -999.000,9, -999.000,9, -999.000,9, -999.000,9,-999.0000,9,  -999.00,9,   -999.0,9,-999.000,9,  -999.00,9,   -999.0,9,   -999.0,9,   -999.0,9,  -999.00,9,  -999.0,-999.0000,-999.000,-999.000,  1.9709,-999.000,9
      06MT22_5,   A10,    12,  2,    306,2,19930104,0913,-30.0102, -38.9173, 4277,   3754.0,   1.8110,  34.8260,2,-999.0000,9,    243.1,2,    62.24,2,    26.67,9,  -999.00,9,    0.008,4,    0.018,2,   -0.013,4, -999.000,9,-999.0000,9,  -999.00,9,   -999.0,9,-999.000,9,  -999.00,9,   -999.0,9,   -999.0,9,   -999.0,9,  -999.00,9,  -999.0,-999.0000,-999.000,-999.000,  1.5099,-999.000,9
      06MT22_5,   A10,    12,  2,    305,2,19930104,0913,-30.0102, -38.9173, 4277,   4004.0,   1.3260,  34.7710,2,-999.0000,9,    233.6,2,    82.45,2,    29.79,9,  -999.00,9,    0.049,2,    0.021,2,    0.064,2, -999.000,9,-999.0000,9,  -999.00,9,   -999.0,9,-999.000,9,  -999.00,9,   -999.0,9,   -999.0,9,   -999.0,9,  -999.00,9,  -999.0,-999.0000,-999.000,-999.000,  1.0113,-999.000,9
      06MT22_5,   A10,    12,  2,    303,2,19930104,0913,-30.0102, -38.9173, 4277,   4207.0,   0.9120,  34.7280,2,-999.0000,9,   -999.0,9,  -999.00,9,  -999.00,9,  -999.00,9,    0.056,2,    0.037,2,    0.127,2, -999.000,9,-999.0000,9,  -999.00,9,   -999.0,9,-999.000,9,  -999.00,9,   -999.0,9,   -999.0,9,   -999.0,9,  -999.00,9,  -999.0,-999.0000,-999.000,-999.000,  0.5876,-999.000,9
      06MT22_5,   A10,    12,  2,    304,2,19930104,0913,-30.0102, -38.9173, 4277,   4209.0,   0.9130,  34.7280,2,  34.7290,2,    227.2,2,    98.11,2,    32.31,9,  -999.00,9,    0.078,2,    0.019,2,    0.180,2, -999.000,9,-999.0000,9,  -999.00,9,   -999.0,9,-999.000,9,  -999.00,9,   -999.0,9,   -999.0,9,   -999.0,9,  -999.00,9,  -999.0,-999.0000,-999.000,-999.000,  0.5881,-999.000,9
      06MT22_5,   A10,    12,  2,    301,2,19930104,0913,-30.0102, -38.9173, 4277,   4290.0,   0.5230,  34.6930,2,  34.6960,2,   -999.0,9,  -999.00,9,  -999.00,9,  -999.00,9,    0.072,6,    0.046,6,    0.229,6, -999.000,9,-999.0000,9,  -999.00,9,   -999.0,9,-999.000,9,  -999.00,9,   -999.0,9,   -999.0,9,   -999.0,9,  -999.00,9,  -999.0,-999.0000,-999.000,-999.000,  0.2013,-999.000,9
      06MT22_5,   A10,    12,  2,    302,2,19930104,0913,-30.0102, -38.9173, 4277,   4293.0,   0.5230,  34.6930,2,  34.6950,2,    224.4,2,   110.60,2,    34.26,9,  -999.00,9,    0.075,2,    0.045,2,    0.281,2, -999.000,9,-999.0000,9,  -999.00,9,   -999.0,9,-999.000,9,  -999.00,9,   -999.0,9,   -999.0,9,   -999.0,9,  -999.00,9,  -999.0,-999.0000,-999.000,-999.000,  0.2010,-999.000,9
      06MT22_5,   A10,    13,  1,    217,2,19930104,1300,-30.0000, -38.5217, 4235,     12.0,  21.5550,  36.0170,2,-999.0000,9,   -999.0,9,  -999.00,9,  -999.00,9,  -999.00,9, -999.000,9, -999.000,9, -999.000,9, -999.000,9,-999.0000,9,  -999.00,9,   -999.0,9,-999.000,9,  -999.00,9,   -999.0,0,   -999.0,9,   -999.0,9,  -999.00,9,  -999.0,-999.0000,-999.000,-999.000, 21.5527,-999.000,9
      06MT22_5,   A10,    13,  1,    210,2,19930104,1300,-30.0000, -38.5217, 4235,     12.0,  21.5550,  36.0170,2,  36.0090,2,    224.2,2,     0.00,2,     0.17,9,     0.05,2,    2.126,2,    1.198,2,    2.576,2, -999.000,9,-999.0000,9,  -999.00,9,   -999.0,9,-999.000,9,  -999.00,9,   2039.1,2,   -999.0,9,   -999.0,9,  -999.00,9,  -999.0,-999.0000,-999.000,-999.000, 21.5527,-999.000,9
      06MT22_5,   A10,    13,  1,    209,2,19930104,1300,-30.0000, -38.5217, 4235,     32.0,  21.3820,  35.9940,2,-999.0000,9,    224.8,2,     0.10,2,     0.17,9,     0.04,2,    2.143,2,    1.184,2,    2.591,2, -999.000,9,-999.0000,9,  -999.00,9,   -999.0,9,-999.000,9,  -999.00,9,   2037.0,2,   -999.0,9,   -999.0,9,  -999.00,9,  -999.0,-999.0000,-999.000,-999.000, 21.3758,-999.000,9
      06MT22_5,   A10,    13,  1,    208,2,19930104,1300,-30.0000, -38.5217, 4235,     52.0,  21.0170,  36.0260,2,-999.0000,9,    229.2,2,     0.19,2,     0.11,9,     0.04,2, -999.000,9, -999.000,9, -999.000,9, -999.000,9,-999.0000,9,  -999.00,9,   -999.0,9,-999.000,9,  -999.00,9,   2040.3,2,   -999.0,9,   -999.0,9,  -999.00,9,  -999.0,-999.0000,-999.000,-999.000, 21.0070,-999.000,9
      06MT22_5,   A10,    13,  1,    207,2,19930104,1300,-30.0000, -38.5217, 4235,     72.0,  20.2500,  36.1350,2,-999.0000,9,    233.8,2,     0.01,2,     0.00,9,     0.03,2,    2.309,2,    1.236,2,    2.331,2, -999.000,9,-999.0000,9,  -999.00,9,   -999.0,9,-999.000,9,  -999.00,9,   2047.2,2,   -999.0,9,   -999.0,9,  -999.00,9,  -999.0,-999.0000,-999.000,-999.000, 20.2365,-999.000,9
      06MT22_5,   A10,    13,  1,    206,2,19930104,1300,-30.0000, -38.5217, 4235,    101.0,  18.9570,  36.1190,2,-999.0000,9,    231.1,2,     0.19,2,     0.07,9,     0.09,2, -999.000,9, -999.000,9, -999.000,9, -999.000,9,-999.0000,9,  -999.00,9,   -999.0,9,-999.000,9,  -999.00,9,   2058.4,2,   -999.0,9,   -999.0,9,  -999.00,9,  -999.0,-999.0000,-999.000,-999.000, 18.9389,-999.000,9
      06MT22_5,   A10,    13,  1,    205,2,19930104,1300,-30.0000, -38.5217, 4235,    151.0,  17.0980,  35.8050,2,-999.0000,9,    213.6,2,     0.74,2,     2.33,9,     0.24,2,    2.348,2,    1.286,2,    0.978,2, -999.000,9,-999.0000,9,  -999.00,9,   -999.0,9,-999.000,9,  -999.00,9,   2076.7,2,   -999.0,9,   -999.0,9,  -999.00,9,  -999.0,-999.0000,-999.000,-999.000, 17.0728,-999.000,9
      06MT22_5,   A10,    13,  1,    204,2,19930104,1300,-30.0000, -38.5217, 4235,    202.0,  16.0080,  35.6250,2,-999.0000,9,    210.4,2,     0.97,2,     4.32,9,     0.37,2, -999.000,9, -999.000,9, -999.000,9, -999.000,9,-999.0000,9,  -999.00,9,   -999.0,9,-999.000,9,  -999.00,9,   2083.7,2,   -999.0,9,   -999.0,9,  -999.00,9,  -999.0,-999.0000,-999.000,-999.000, 15.9757,-999.000,9
      06MT22_5,   A10,    13,  1,    203,2,19930104,1300,-30.0000, -38.5217, 4235,    301.0,  14.5980,  35.4870,2,-999.0000,9,    211.5,2,     1.56,2,     7.24,9,     0.53,2,    2.327,2,    1.247,2,    0.708,2, -999.000,9,-999.0000,9,  -999.00,9,   -999.0,9,-999.000,9,  -999.00,9,   2093.5,2,   -999.0,9,   -999.0,9,  -999.00,9,  -999.0,-999.0000,-999.000,-999.000, 14.5526,-999.000,9
      06MT22_5,   A10,    13,  1,    202,2,19930104,1300,-30.0000, -38.5217, 4235,    401.0,  13.0010,  35.2430,2,-999.0000,9,    210.4,2,     3.01,2,    10.92,9,     0.74,2, -999.000,9, -999.000,9, -999.000,9, -999.000,9,-999.0000,9,  -999.00,9,   -999.0,9,-999.000,9,  -999.00,9,   2104.6,2,   -999.0,9,   -999.0,9,  -999.00,9,  -999.0,-999.0000,-999.000,-999.000, 12.9448,-999.000,9
      06MT22_5,   A10,    13,  1,    201,2,19930104,1300,-30.0000, -38.5217, 4235,    500.0,  10.9950,  34.9530,2,-999.0000,9,    208.4,2,     4.74,2,    15.59,9,     1.04,2,    1.916,2,    1.007,2,    1.010,2, -999.000,9,-999.0000,9,  -999.00,9,   -999.0,9,-999.000,9,  -999.00,9,   2120.1,2,   -999.0,9,   -999.0,9,  -999.00,9,  -999.0,-999.0000,-999.000,-999.000, 10.9317,-999.000,9