BOTTLE,20030417WHPSIOSA
EXPOCODE,SECT_ID,STNNBR,CASTNO,BTLNBR,BTLNBR_FLAG_W,DATE,TIME,LATITUDE,LONGITUDE,DEPTH,CTDPRS,CTDTMP,CTDSAL,CTDSAL_FLAG_W,SALNTY,SALNTY_FLAG_W,OXYGEN,OXYGEN_FLAG_W,SILCAT,SILCAT_FLAG_W,NO2+NO3,NO2+NO3_FLAG_W,PHSPHT,PHSPHT_FLAG_W,CFC-11,CFC-11_FLAG_W,CFC-12,CFC-12_FLAG_W,CCL4,CCL4_FLAG_W,TRITUM,TRITUM_FLAG_W,HELIUM,HELIUM_FLAG_W,DELHE3,DELHE3_FLAG_W,DELC14,DELC14_FLAG_W,NEON,NEON_FLAG_W,O18O16,O18O16_FLAG_W,TCARBN,TCARBN_FLAG_W,PCO2,PCO2_FLAG_W,ALKALI,ALKALI_FLAG_W,PH,PH_FLAG_W,C14ERR,HELIER,DELHER,NEONER,THETA,TRITER,TRITER_FLAG_W
,,,,,,,,,,,DBAR,ITS-90,PSS-78,,PSS-78,,UMOL/KG,,UMOL/KG,,UMOL/KG,,UMOL/KG,,PMOL/KG,,PMOL/KG,,PMOL/KG,,TU,,NMOL/KG,,PERCNT,,/MILLE,,NMOL/KG,,MILLE,,UMOL/KG,,UATM,,UMOL/KG,,,,/MILLE,NMOL/KG,PERCNT,NMOL/KG,ITS-90,TU,
      06MT22_5,   A10,    58,  2,    324,2,19930116,1230,-30.0183, -11.6778, 3323,     10.0,  24.3090,  35.9880,2,  35.9930,2,   -999.0,9,  -999.00,9,  -999.00,9,  -999.00,9, -999.000,9, -999.000,9, -999.000,9, -999.000,9,-999.0000,9,  -999.00,9,   -999.0,9,-999.000,9,  -999.00,9,   -999.0,9,   -999.0,9,   -999.0,9,  -999.00,9,  -999.0,-999.0000,-999.000,-999.000, 24.3069,-999.000,9
      06MT22_5,   A10,    58,  2,    321,2,19930116,1230,-30.0183, -11.6778, 3323,     10.0,  24.3090,  35.9880,2,-999.0000,9,   -999.0,9,  -999.00,9,  -999.00,9,  -999.00,9,    1.957,2,    1.090,2,    2.595,2, -999.000,9,-999.0000,9,  -999.00,9,   -999.0,9,-999.000,9,  -999.00,9,   -999.0,9,   -999.0,9,   -999.0,9,  -999.00,9,  -999.0,-999.0000,-999.000,-999.000, 24.3069,-999.000,9
      06MT22_5,   A10,    58,  2,    320,2,19930116,1230,-30.0183, -11.6778, 3323,    200.0,  15.8430,  35.5150,2,-999.0000,9,   -999.0,9,  -999.00,9,  -999.00,9,  -999.00,9, -999.000,9, -999.000,9, -999.000,9, -999.000,9,-999.0000,9,  -999.00,9,   -999.0,9,-999.000,9,  -999.00,9,   -999.0,9,   -999.0,9,   -999.0,9,  -999.00,9,  -999.0,-999.0000,-999.000,-999.000, 15.8116,-999.000,9
      06MT22_5,   A10,    58,  2,    319,2,19930116,1230,-30.0183, -11.6778, 3323,    300.0,  13.6370,  35.2130,2,-999.0000,9,   -999.0,9,  -999.00,9,  -999.00,9,  -999.00,9,    2.433,2,    1.270,2,    0.924,2, -999.000,9,-999.0000,9,  -999.00,9,   -999.0,9,-999.000,9,  -999.00,9,   -999.0,9,   -999.0,9,   -999.0,9,  -999.00,9,  -999.0,-999.0000,-999.000,-999.000, 13.5943,-999.000,9
      06MT22_5,   A10,    58,  2,    318,2,19930116,1230,-30.0183, -11.6778, 3323,    399.0,  12.1130,  35.0490,2,-999.0000,9,    208.6,2,     4.97,2,    12.60,9,     0.92,2,    2.249,2,    1.166,2,    1.021,2,    0.645,3,   1.7418,5,     1.08,3,   -999.0,9,   7.349,5,  -999.00,9,   2112.8,2,   -999.0,9,   -999.0,9,  -999.00,9,  -999.0,  0.0070,   0.250,   0.029, 12.0603,   0.417,9
      06MT22_5,   A10,    58,  2,    317,2,19930116,1230,-30.0183, -11.6778, 3323,    501.0,  10.1310,  34.8120,2,  34.8080,2,    207.3,2,     7.03,2,    17.42,9,     1.23,2,    2.083,2,    1.055,2,    1.352,2,    0.518,2,   1.7534,5,     0.96,3,   -999.0,9,   7.474,5,  -999.00,9,   2123.5,2,   -999.0,9,   -999.0,9,  -999.00,9,  -999.0,  0.0070,   0.250,   0.030, 10.0716,   0.019,9
      06MT22_5,   A10,    58,  2,    316,2,19930116,1230,-30.0183, -11.6778, 3323,    602.0,   8.4240,  34.6250,2,-999.0000,9,    212.8,2,  -999.00,9,  -999.00,9,  -999.00,9,    1.996,2,    1.022,2,    1.749,2,    0.542,2,-999.0000,1,  -999.00,1,   -999.0,9,-999.000,1,  -999.00,9,   2128.7,2,   -999.0,9,   -999.0,9,  -999.00,9,  -999.0,-999.0000,-999.000,-999.000,  8.3602,   0.017,9
      06MT22_5,   A10,    58,  2,    315,2,19930116,1230,-30.0183, -11.6778, 3323,    699.0,   6.6030,  34.4530,2,-999.0000,9,    209.0,2,    15.08,2,    26.38,9,     1.84,2,    1.538,2,    0.771,2,    2.166,2,    0.263,2,   1.7717,2,     1.17,2,   -999.0,9,   7.699,2,  -999.00,9,   2160.6,2,   -999.0,9,   -999.0,9,  -999.00,9,  -999.0,  0.0062,   0.250,   0.027,  6.5379,   0.042,9
      06MT22_5,   A10,    58,  2,    314,2,19930116,1230,-30.0183, -11.6778, 3323,    849.0,   5.0290,  34.3650,2,  34.3640,2,    201.9,2,    23.63,2,    30.87,9,     2.15,2,    1.001,2,    0.507,2,    2.043,2,    0.137,2,   1.7792,5,     1.60,3,   -999.0,9,   7.743,5,  -999.00,9,   2182.4,2,   -999.0,9,   -999.0,9,  -999.00,9,  -999.0,  0.0071,   0.250,   0.031,  4.9592,   0.006,9
      06MT22_5,   A10,    58,  2,    313,2,19930116,1230,-30.0183, -11.6778, 3323,    999.0,   3.9620,  34.3530,2,-999.0000,9,    246.8,2,    33.62,2,    32.63,9,     2.27,2,    0.649,2,    0.318,2,    1.678,2,    0.086,2,   1.7891,2,     3.21,2,   -999.0,9,   7.788,2,  -999.00,9,   2198.7,2,   -999.0,9,   -999.0,9,  -999.00,9,  -999.0,  0.0072,   0.250,   0.031,  3.8866,   0.005,9
      06MT22_5,   A10,    58,  2,    312,2,19930116,1230,-30.0183, -11.6778, 3323,   1199.0,   3.2930,  34.4450,2,-999.0000,9,    188.2,2,    49.58,2,    33.99,9,     2.37,2,    0.255,6,    0.114,6,    0.928,6,    0.040,2,   1.8016,2,     4.83,2,   -999.0,9,   7.901,2,  -999.00,9,   2220.3,2,   -999.0,9,   -999.0,9,  -999.00,9,  -999.0,  0.0063,   0.250,   0.028,  3.2069,   0.004,9
      06MT22_5,   A10,    58,  2,    311,2,19930116,1230,-30.0183, -11.6778, 3323,   1400.0,   2.9800,  34.5510,2,  34.5530,2,    186.9,2,    53.72,2,    33.46,9,     2.32,2,    0.091,2,    0.036,2,    0.598,3,    0.025,2,   1.8176,2,     6.74,2,   -999.0,9,   7.920,2,  -999.00,9,   2228.6,2,   -999.0,9,   -999.0,9,  -999.00,9,  -999.0,  0.0073,   0.250,   0.032,  2.8807,   0.009,9
      06MT22_5,   A10,    58,  2,    310,2,19930116,1230,-30.0183, -11.6778, 3323,   1599.0,   2.8850,  34.6650,2,-999.0000,9,    193.4,2,    53.89,2,    31.40,9,     2.16,2,    0.026,2,    0.007,2,    0.357,3,    0.010,2,   1.8252,6,     6.87,6,   -999.0,9,   7.948,6,  -999.00,9,   2224.6,2,   -999.0,9,   -999.0,9,  -999.00,9,  -999.0,  0.0064,   0.250,   0.028,  2.7697,   0.010,9
      06MT22_5,   A10,    58,  2,    309,2,19930116,1230,-30.0183, -11.6778, 3323,   1802.0,   2.7940,  34.7440,2,-999.0000,9,    204.0,2,    52.23,2,    29.43,9,     2.00,2,    0.009,2,    0.003,2,    0.285,3,    0.008,2,-999.0000,1,  -999.00,1,   -999.0,9,-999.000,1,  -999.00,9,   2218.3,2,   -999.0,9,   -999.0,9,  -999.00,9,  -999.0,-999.0000,-999.000,-999.000,  2.6625,   0.003,9
      06MT22_5,   A10,    58,  2,    308,2,19930116,1230,-30.0183, -11.6778, 3323,   2002.0,   2.6860,  34.7920,2,  34.7930,2,    214.6,2,    50.48,2,    27.79,9,     1.86,2,    0.001,2,    0.000,2,    0.278,3, -999.000,9,   1.8216,2,     5.96,2,   -999.0,9,   7.892,2,  -999.00,9,   2210.5,2,   -999.0,9,   -999.0,9,  -999.00,9,  -999.0,  0.0073,   0.250,   0.032,  2.5385,-999.000,9
      06MT22_5,   A10,    58,  2,    307,2,19930116,1230,-30.0183, -11.6778, 3323,   2250.0,   2.5910,  34.8310,2,-999.0000,9,    225.8,2,    48.91,2,    26.23,9,     1.78,2, -999.000,9, -999.000,9, -999.000,9,    0.008,2,   1.8319,2,     6.18,2,   -999.0,9,   7.994,2,  -999.00,9,   2203.6,2,   -999.0,9,   -999.0,9,  -999.00,9,  -999.0,  0.0073,   0.250,   0.032,  2.4223,   0.004,9
      06MT22_5,   A10,    58,  2,    306,2,19930116,1230,-30.0183, -11.6778, 3323,   2502.0,   2.5370,  34.8520,2,-999.0000,9,    233.0,2,    47.26,2,    25.27,9,     1.69,2,    0.002,2,    0.003,2,    0.149,3,    0.010,2,   1.8372,2,     6.28,2,   -999.0,9,   7.924,7,  -999.00,9,   2199.2,2,   -999.0,9,   -999.0,9,  -999.00,9,  -999.0,  0.0073,   0.250,   0.032,  2.3457,   0.006,9
      06MT22_5,   A10,    58,  2,    305,2,19930116,1230,-30.0183, -11.6778, 3323,   2753.0,   2.4730,  34.8600,2,  34.8600,2,    235.9,2,    48.07,2,    24.76,9,     1.67,2, -999.000,9, -999.000,9, -999.000,9,    0.019,2,   1.8395,5,     6.23,3,   -999.0,9,   7.979,5,  -999.00,9,   2198.6,2,   -999.0,9,   -999.0,9,  -999.00,9,  -999.0,  0.0083,   0.250,   0.036,  2.2587,   0.046,9
      06MT22_5,   A10,    58,  2,    304,2,19930116,1230,-30.0183, -11.6778, 3323,   2991.0,   2.4340,  34.8630,2,-999.0000,9,    238.4,2,    48.40,2,    24.53,9,     1.65,2,    0.001,2,    0.001,2,    0.136,3,    0.011,2,   1.8364,2,     5.42,2,   -999.0,9,   8.020,2,  -999.00,9,   2197.7,2,   -999.0,9,   -999.0,9,  -999.00,9,  -999.0,  0.0073,   0.250,   0.032,  2.1967,   0.003,9
      06MT22_5,   A10,    58,  2,    303,2,19930116,1230,-30.0183, -11.6778, 3323,   3253.0,   2.4060,  34.8660,2,-999.0000,9,    238.8,2,    48.93,2,    24.45,9,     1.59,2, -999.000,9, -999.000,9, -999.000,9,    0.005,2,   1.8413,2,     5.08,2,   -999.0,9,   8.061,2,  -999.00,9,   2197.5,2,   -999.0,9,   -999.0,9,  -999.00,9,  -999.0,  0.0074,   0.250,   0.032,  2.1424,   0.003,9
      06MT22_5,   A10,    58,  2,    301,2,19930116,1230,-30.0183, -11.6778, 3323,   3359.0,   2.3890,  34.8670,2,-999.0000,9,    242.6,2,    49.02,2,    24.36,9,     1.60,2, -999.000,9, -999.000,9, -999.000,9, -999.000,9,-999.0000,9,  -999.00,9,   -999.0,9,-999.000,9,  -999.00,9,   2198.7,2,   -999.0,9,   -999.0,9,  -999.00,9,  -999.0,-999.0000,-999.000,-999.000,  2.1088,-999.000,9
      06MT22_5,   A10,    58,  2,    302,2,19930116,1230,-30.0183, -11.6778, 3323,   3363.0,   2.3920,  34.8680,2,  34.8680,2,   -999.0,9,  -999.00,9,  -999.00,9,  -999.00,9,    0.003,2,    0.003,2,    0.104,3,    0.020,2,   1.8292,2,     4.51,2,   -999.0,9,   7.974,2,  -999.00,9,   -999.0,9,   -999.0,9,   -999.0,9,  -999.00,9,  -999.0,  0.0073,   0.250,   0.032,  2.1171,   0.003,9
      06MT22_5,   A10,    59,  1,    217,2,19930116,1653,-30.0000, -11.0300, 3545,     10.0,  24.5490,  36.0520,2,  36.0530,2,    214.9,2,     0.97,2,     0.01,9,     0.19,2, -999.000,9, -999.000,9, -999.000,9, -999.000,9,-999.0000,9,  -999.00,9,   -999.0,9,-999.000,9,  -999.00,9,   -999.0,0,   -999.0,9,   -999.0,9,  -999.00,9,  -999.0,-999.0000,-999.000,-999.000, 24.5469,-999.000,9
      06MT22_5,   A10,    59,  1,    207,2,19930116,1653,-30.0000, -11.0300, 3545,     31.0,  22.1190,  36.0390,2,  36.0380,2,    228.4,2,     1.15,2,     0.05,9,     0.17,2, -999.000,9, -999.000,9, -999.000,9, -999.000,9,-999.0000,9,  -999.00,9,   -999.0,9,-999.000,9,  -999.00,9,   -999.0,0,   -999.0,9,   -999.0,9,  -999.00,9,  -999.0,-999.0000,-999.000,-999.000, 22.1128,-999.000,9
      06MT22_5,   A10,    59,  1,    206,2,19930116,1653,-30.0000, -11.0300, 3545,     52.0,  20.5600,  36.0760,2,-999.0000,9,    236.7,2,     1.14,2,     0.04,9,     0.17,2, -999.000,9, -999.000,9, -999.000,9, -999.000,9,-999.0000,9,  -999.00,9,   -999.0,9,-999.000,9,  -999.00,9,   -999.0,0,   -999.0,9,   -999.0,9,  -999.00,9,  -999.0,-999.0000,-999.000,-999.000, 20.5502,-999.000,9
      06MT22_5,   A10,    59,  1,    205,2,19930116,1653,-30.0000, -11.0300, 3545,     73.0,  19.6650,  36.0720,2,-999.0000,9,    238.3,2,     1.24,2,     0.01,9,     0.18,2, -999.000,9, -999.000,9, -999.000,9, -999.000,9,-999.0000,9,  -999.00,9,   -999.0,9,-999.000,9,  -999.00,9,   -999.0,0,   -999.0,9,   -999.0,9,  -999.00,9,  -999.0,-999.0000,-999.000,-999.000, 19.6516,-999.000,9
      06MT22_5,   A10,    59,  1,    204,2,19930116,1653,-30.0000, -11.0300, 3545,    103.0,  18.6870,  35.9920,2,  35.9970,2,    237.6,2,     1.37,2,     0.01,9,     0.20,2, -999.000,9, -999.000,9, -999.000,9, -999.000,9,-999.0000,9,  -999.00,9,   -999.0,9,-999.000,9,  -999.00,9,   -999.0,0,   -999.0,9,   -999.0,9,  -999.00,9,  -999.0,-999.0000,-999.000,-999.000, 18.6688,-999.000,9
      06MT22_5,   A10,    59,  1,    203,2,19930116,1653,-30.0000, -11.0300, 3545,    152.0,  17.5200,  35.8190,2,-999.0000,9,    230.7,2,     1.33,2,     0.15,9,     0.21,2, -999.000,9, -999.000,9, -999.000,9, -999.000,9,-999.0000,9,  -999.00,9,   -999.0,9,-999.000,9,  -999.00,9,   -999.0,0,   -999.0,9,   -999.0,9,  -999.00,9,  -999.0,-999.0000,-999.000,-999.000, 17.4944,-999.000,9
      06MT22_5,   A10,    59,  1,    202,2,19930116,1653,-30.0000, -11.0300, 3545,    200.0,  16.2200,  35.5800,2,-999.0000,9,    228.4,2,     1.28,2,     1.56,9,     0.27,2, -999.000,9, -999.000,9, -999.000,9, -999.000,9,-999.0000,9,  -999.00,9,   -999.0,9,-999.000,9,  -999.00,9,   -999.0,0,   -999.0,9,   -999.0,9,  -999.00,9,  -999.0,-999.0000,-999.000,-999.000, 16.1880,-999.000,9
      06MT22_5,   A10,    59,  1,    201,2,19930116,1653,-30.0000, -11.0300, 3545,    302.0,  13.7740,  35.2320,2,  35.2340,2,    212.1,2,     3.20,2,     7.83,9,     0.60,2, -999.000,9, -999.000,9, -999.000,9, -999.000,9,-999.0000,9,  -999.00,9,   -999.0,9,-999.000,9,  -999.00,9,   -999.0,0,   -999.0,9,   -999.0,9,  -999.00,9,  -999.0,-999.0000,-999.000,-999.000, 13.7306,-999.000,9