BOTTLE,20030417WHPSIOSA
EXPOCODE,SECT_ID,STNNBR,CASTNO,BTLNBR,BTLNBR_FLAG_W,DATE,TIME,LATITUDE,LONGITUDE,DEPTH,CTDPRS,CTDTMP,CTDSAL,CTDSAL_FLAG_W,SALNTY,SALNTY_FLAG_W,OXYGEN,OXYGEN_FLAG_W,SILCAT,SILCAT_FLAG_W,NO2+NO3,NO2+NO3_FLAG_W,PHSPHT,PHSPHT_FLAG_W,CFC-11,CFC-11_FLAG_W,CFC-12,CFC-12_FLAG_W,CCL4,CCL4_FLAG_W,TRITUM,TRITUM_FLAG_W,HELIUM,HELIUM_FLAG_W,DELHE3,DELHE3_FLAG_W,DELC14,DELC14_FLAG_W,NEON,NEON_FLAG_W,O18O16,O18O16_FLAG_W,TCARBN,TCARBN_FLAG_W,PCO2,PCO2_FLAG_W,ALKALI,ALKALI_FLAG_W,PH,PH_FLAG_W,C14ERR,HELIER,DELHER,NEONER,THETA,TRITER,TRITER_FLAG_W
,,,,,,,,,,,DBAR,ITS-90,PSS-78,,PSS-78,,UMOL/KG,,UMOL/KG,,UMOL/KG,,UMOL/KG,,PMOL/KG,,PMOL/KG,,PMOL/KG,,TU,,NMOL/KG,,PERCNT,,/MILLE,,NMOL/KG,,MILLE,,UMOL/KG,,UATM,,UMOL/KG,,,,/MILLE,NMOL/KG,PERCNT,NMOL/KG,ITS-90,TU,
      06MT22_5,   A10,     1,  1,    324,2,19930101,0600,-28.4117, -44.8017, 3481,     10.0,  23.6970,  36.6540,2,  36.6620,2,    217.1,2,     0.10,2,     0.14,9,     0.06,2, -999.000,9, -999.000,9, -999.000,9, -999.000,9,-999.0000,9,  -999.00,9,   -999.0,9,-999.000,9,  -999.00,9,   2056.6,2,   -999.0,9,   -999.0,9,  -999.00,9,  -999.0,-999.0000,-999.000,-999.000, 23.6949,-999.000,9
      06MT22_5,   A10,     1,  1,    323,2,19930101,0600,-28.4117, -44.8017, 3481,     30.0,  23.3600,  36.6410,2,-999.0000,9,    219.8,2,     0.12,2,     0.00,9,     0.05,2,    2.030,2,    1.107,2,    2.348,2, -999.000,9,-999.0000,9,  -999.00,9,   -999.0,9,-999.000,9,  -999.00,9,   2054.7,2,   -999.0,9,   -999.0,9,  -999.00,9,  -999.0,-999.0000,-999.000,-999.000, 23.3538,-999.000,9
      06MT22_5,   A10,     1,  1,    322,2,19930101,0600,-28.4117, -44.8017, 3481,     50.0,  22.8560,  36.5890,2,-999.0000,9,    225.0,2,     0.11,2,     0.03,9,     0.05,2,    1.998,2,    1.110,2,    2.262,2, -999.000,9,-999.0000,9,  -999.00,9,   -999.0,9,-999.000,9,  -999.00,9,   2052.8,2,   -999.0,9,   -999.0,9,  -999.00,9,  -999.0,-999.0000,-999.000,-999.000, 22.8458,-999.000,9
      06MT22_5,   A10,     1,  1,    321,2,19930101,0600,-28.4117, -44.8017, 3481,     70.0,  20.1280,  36.3190,2,  36.3010,2,    233.0,2,     0.08,2,     0.00,9,     0.08,2,    2.265,2,    1.208,2,    1.562,2, -999.000,9,-999.0000,9,  -999.00,9,   -999.0,9,-999.000,9,  -999.00,9,   2055.8,2,   -999.0,9,   -999.0,9,  -999.00,9,  -999.0,-999.0000,-999.000,-999.000, 20.1149,-999.000,9
      06MT22_5,   A10,     1,  1,    320,2,19930101,0600,-28.4117, -44.8017, 3481,    100.0,  19.0370,  36.2030,2,-999.0000,9,    220.1,2,     0.25,2,     0.59,9,     0.19,2,    2.210,2,    1.210,2,    1.096,2, -999.000,9,-999.0000,9,  -999.00,9,   -999.0,9,-999.000,9,  -999.00,9,   2070.0,2,   -999.0,9,   -999.0,9,  -999.00,9,  -999.0,-999.0000,-999.000,-999.000, 19.0191,-999.000,9
      06MT22_5,   A10,     1,  1,    319,2,19930101,0600,-28.4117, -44.8017, 3481,    150.0,  17.2550,  35.8990,2,-999.0000,9,    207.4,2,     0.77,2,     3.65,9,     0.34,2,    2.216,2,    1.223,2,    0.697,2, -999.000,9,-999.0000,9,  -999.00,9,   -999.0,9,-999.000,9,  -999.00,9,   2082.8,2,   -999.0,9,   -999.0,9,  -999.00,9,  -999.0,-999.0000,-999.000,-999.000, 17.2300,-999.000,9
      06MT22_5,   A10,     1,  1,    318,2,19930101,0600,-28.4117, -44.8017, 3481,    200.0,  15.2490,  35.5180,2,-999.0000,9,    206.7,2,     1.53,2,     6.40,9,     0.53,2,    2.282,2,    1.212,2,    0.518,2, -999.000,9,-999.0000,9,  -999.00,9,   -999.0,9,-999.000,9,  -999.00,9,   2091.6,2,   -999.0,9,   -999.0,9,  -999.00,9,  -999.0,-999.0000,-999.000,-999.000, 15.2183,-999.000,9
      06MT22_5,   A10,     1,  1,    317,2,19930101,0600,-28.4117, -44.8017, 3481,    299.0,  13.7720,  35.3400,2,  35.3090,2,    207.2,2,     2.40,2,     9.79,9,     0.72,2,    2.120,2,    1.123,2,    0.666,2, -999.000,9,-999.0000,9,  -999.00,9,   -999.0,9,-999.000,9,  -999.00,9,   2102.5,2,   -999.0,9,   -999.0,9,  -999.00,9,  -999.0,-999.0000,-999.000,-999.000, 13.7290,-999.000,9
      06MT22_5,   A10,     1,  1,    316,2,19930101,0600,-28.4117, -44.8017, 3481,    400.0,  11.8450,  35.0590,2,-999.0000,9,    209.2,2,     3.84,2,    14.10,9,     0.94,2,    1.941,2,    1.018,2,    0.722,2, -999.000,9,-999.0000,9,  -999.00,9,   -999.0,9,-999.000,9,  -999.00,9,   2114.8,2,   -999.0,9,   -999.0,9,  -999.00,9,  -999.0,-999.0000,-999.000,-999.000, 11.7931,-999.000,9
      06MT22_5,   A10,     1,  1,    315,2,19930101,0600,-28.4117, -44.8017, 3481,    499.0,   9.9650,  34.8160,2,-999.0000,9,    206.6,2,     6.43,2,    19.07,9,     1.27,2,    1.712,2,    0.925,2,    1.039,2, -999.000,9,-999.0000,9,  -999.00,9,   -999.0,9,-999.000,9,  -999.00,9,   2130.4,2,   -999.0,9,   -999.0,9,  -999.00,9,  -999.0,-999.0000,-999.000,-999.000,  9.9067,-999.000,9
      06MT22_5,   A10,     1,  1,    314,2,19930101,0600,-28.4117, -44.8017, 3481,    599.0,   7.8890,  34.5840,2,-999.0000,9,    204.1,2,    10.90,2,    24.50,9,     1.65,2,    1.356,2,    0.709,2,    1.333,2, -999.000,9,-999.0000,9,  -999.00,9,   -999.0,9,-999.000,9,  -999.00,9,   2149.9,2,   -999.0,9,   -999.0,9,  -999.00,9,  -999.0,-999.0000,-999.000,-999.000,  7.8278,-999.000,9
      06MT22_5,   A10,     1,  1,    313,2,19930101,0600,-28.4117, -44.8017, 3481,    699.0,   6.1710,  34.4240,2,  34.4210,2,    215.0,2,    14.86,2,    27.74,9,     1.87,2,    1.189,2,    0.596,2,    1.782,2, -999.000,9,-999.0000,9,  -999.00,9,   -999.0,9,-999.000,9,  -999.00,9,   2159.5,2,   -999.0,9,   -999.0,9,  -999.00,9,  -999.0,-999.0000,-999.000,-999.000,  6.1081,-999.000,9
      06MT22_5,   A10,     1,  1,    312,2,19930101,0600,-28.4117, -44.8017, 3481,    849.0,   4.5190,  34.3230,2,-999.0000,9,    220.6,2,    22.94,2,    31.04,9,     2.13,2,    0.871,2,    0.493,2,    1.840,2, -999.000,9,-999.0000,9,  -999.00,9,   -999.0,9,-999.000,9,  -999.00,9,   2175.8,2,   -999.0,9,   -999.0,9,  -999.00,9,  -999.0,-999.0000,-999.000,-999.000,  4.4521,-999.000,9
      06MT22_5,   A10,     1,  1,    311,2,19930101,0600,-28.4117, -44.8017, 3481,   1000.0,   3.7970,  34.3560,2,-999.0000,9,    207.3,2,    33.33,2,    33.89,9,     2.29,2,    0.430,2,    0.276,2,    1.242,2, -999.000,9,-999.0000,9,  -999.00,9,   -999.0,9,-999.000,9,  -999.00,9,   2196.1,2,   -999.0,9,   -999.0,9,  -999.00,9,  -999.0,-999.0000,-999.000,-999.000,  3.7226,-999.000,9
      06MT22_5,   A10,     1,  1,    310,2,19930101,0600,-28.4117, -44.8017, 3481,   1249.0,   3.3220,  34.5060,2,-999.0000,9,    192.1,2,    44.47,2,    34.89,9,     2.33,2,    0.071,2,    0.049,2,    0.357,2, -999.000,9,-999.0000,9,  -999.00,9,   -999.0,9,-999.000,9,  -999.00,9,   2217.4,2,   -999.0,9,   -999.0,9,  -999.00,9,  -999.0,-999.0000,-999.000,-999.000,  3.2313,-999.000,9
      06MT22_5,   A10,     1,  1,    309,2,19930101,0600,-28.4117, -44.8017, 3481,   1500.0,   3.4150,  34.6780,2,  34.6800,2,    197.5,2,    41.70,2,    32.78,9,     2.11,2,    0.047,2,    0.046,2,    0.111,2, -999.000,9,-999.0000,9,  -999.00,9,   -999.0,9,-999.000,9,  -999.00,9,   2211.3,2,   -999.0,9,   -999.0,9,  -999.00,9,  -999.0,-999.0000,-999.000,-999.000,  3.3022,-999.000,9
      06MT22_5,   A10,     1,  1,    308,2,19930101,0600,-28.4117, -44.8017, 3481,   1750.0,   3.8670,  34.8800,2,-999.0000,9,    222.3,2,    25.81,2,    27.53,9,     1.70,2,    0.268,4,    0.157,4,    0.336,3, -999.000,9,-999.0000,9,  -999.00,9,   -999.0,9,-999.000,9,  -999.00,9,   2183.9,2,   -999.0,9,   -999.0,9,  -999.00,9,  -999.0,-999.0000,-999.000,-999.000,  3.7254,-999.000,9
      06MT22_5,   A10,     1,  1,    307,2,19930101,0600,-28.4117, -44.8017, 3481,   2000.0,   3.7000,  34.9410,2,-999.0000,9,    242.9,2,    21.84,2,    24.31,9,     1.46,2,    0.029,2,    0.044,4,    0.167,2, -999.000,9,-999.0000,9,  -999.00,9,   -999.0,9,-999.000,9,  -999.00,9,   2171.2,2,   -999.0,9,   -999.0,9,  -999.00,9,  -999.0,-999.0000,-999.000,-999.000,  3.5370,-999.000,9
      06MT22_5,   A10,     1,  1,    306,2,19930101,0600,-28.4117, -44.8017, 3481,   2301.0,   3.4090,  34.9540,2,-999.0000,9,    253.3,2,    21.93,2,    22.63,9,     1.38,2,    0.026,2,    0.073,4,    0.150,2, -999.000,9,-999.0000,9,  -999.00,9,   -999.0,9,-999.000,9,  -999.00,9,   2166.0,2,   -999.0,9,   -999.0,9,  -999.00,9,  -999.0,-999.0000,-999.000,-999.000,  3.2214,-999.000,9
      06MT22_5,   A10,     1,  1,    305,2,19930101,0600,-28.4117, -44.8017, 3481,   2601.0,   3.0830,  34.9400,2,  34.9390,2,    256.3,2,    26.14,2,    22.30,9,     1.39,2,    0.017,2,    0.010,2,    0.073,2, -999.000,9,-999.0000,9,  -999.00,9,   -999.0,9,-999.000,9,  -999.00,9,   2175.7,2,   -999.0,9,   -999.0,9,  -999.00,9,  -999.0,-999.0000,-999.000,-999.000,  2.8715,-999.000,9
      06MT22_5,   A10,     1,  1,    304,2,19930101,0600,-28.4117, -44.8017, 3481,   2902.0,   2.7380,  34.9190,2,-999.0000,9,    254.8,2,    32.06,2,    22.96,9,     1.43,2,    0.028,2,    0.031,2,    0.048,2, -999.000,9,-999.0000,9,  -999.00,9,   -999.0,9,-999.000,9,  -999.00,9,   2175.9,2,   -999.0,9,   -999.0,9,  -999.00,9,  -999.0,-999.0000,-999.000,-999.000,  2.5040,-999.000,9
      06MT22_5,   A10,     1,  1,    303,2,19930101,0600,-28.4117, -44.8017, 3481,   3204.0,   1.9610,  34.8490,2,-999.0000,9,    245.7,2,    58.42,2,    26.91,9,     1.70,2,    0.056,2,    0.036,2,    0.072,2, -999.000,9,-999.0000,9,  -999.00,9,   -999.0,9,-999.000,9,  -999.00,9,   2201.9,2,   -999.0,9,   -999.0,9,  -999.00,9,  -999.0,-999.0000,-999.000,-999.000,  1.7136,-999.000,9
      06MT22_5,   A10,     1,  1,    302,2,19930101,0600,-28.4117, -44.8017, 3481,   3449.0,   0.9370,  34.7420,2,-999.0000,9,    228.4,2,    85.28,2,    32.69,9,     2.15,2,    0.056,2,    0.037,2,    0.390,4, -999.000,9,-999.0000,9,  -999.00,9,   -999.0,9,-999.000,9,  -999.00,9,   2241.2,2,   -999.0,9,   -999.0,9,  -999.00,9,  -999.0,-999.0000,-999.000,-999.000,  0.6899,-999.000,9
      06MT22_5,   A10,     1,  1,    301,2,19930101,0600,-28.4117, -44.8017, 3481,   3548.0,   0.6820,  34.7160,2,  34.7170,2,    224.9,2,    85.24,2,    34.03,9,     2.25,2,    0.050,2,    0.038,2,    0.255,4, -999.000,9,-999.0000,9,  -999.00,9,   -999.0,9,-999.000,9,  -999.00,9,   2250.6,2,   -999.0,9,   -999.0,9,  -999.00,9,  -999.0,-999.0000,-999.000,-999.000,  0.4317,-999.000,9
      06MT22_5,   A10,     2,  1,    324,2,19930101,1315,-28.6150, -44.2217, 3694,     11.0,  23.9680,  36.6520,2,  36.6570,2,    215.3,2,     0.08,2,     0.12,9,     0.08,2, -999.000,9, -999.000,9, -999.000,9, -999.000,9,-999.0000,9,  -999.00,9,   -999.0,9,-999.000,9,  -999.00,9,   2059.1,2,   -999.0,9,   -999.0,9,  -999.00,9,  -999.0,-999.0000,-999.000,-999.000, 23.9657,-999.000,9
      06MT22_5,   A10,     2,  1,    323,2,19930101,1315,-28.6150, -44.2217, 3694,     30.0,  23.4300,  36.6720,2,-999.0000,9,    219.8,2,     0.13,2,     0.00,9,     0.09,2, -999.000,9, -999.000,9, -999.000,9, -999.000,9,-999.0000,9,  -999.00,9,   -999.0,9,-999.000,9,  -999.00,9,   2060.0,2,   -999.0,9,   -999.0,9,  -999.00,9,  -999.0,-999.0000,-999.000,-999.000, 23.4238,-999.000,9
      06MT22_5,   A10,     2,  1,    322,2,19930101,1315,-28.6150, -44.2217, 3694,     50.0,  22.7860,  36.6170,2,-999.0000,9,    227.8,2,     0.13,2,     0.07,9,     0.08,2, -999.000,9, -999.000,9, -999.000,9, -999.000,9,-999.0000,9,  -999.00,9,   -999.0,9,-999.000,9,  -999.00,9,   2057.8,2,   -999.0,9,   -999.0,9,  -999.00,9,  -999.0,-999.0000,-999.000,-999.000, 22.7758,-999.000,9
      06MT22_5,   A10,     2,  1,    321,2,19930101,1315,-28.6150, -44.2217, 3694,     71.0,  20.5980,  36.4150,2,-999.0000,9,    232.6,2,     0.00,2,     0.02,9,     0.07,2, -999.000,9, -999.000,9, -999.000,9, -999.000,9,-999.0000,9,  -999.00,9,   -999.0,9,-999.000,9,  -999.00,9,   2058.0,2,   -999.0,9,   -999.0,9,  -999.00,9,  -999.0,-999.0000,-999.000,-999.000, 20.5845,-999.000,9
      06MT22_5,   A10,     2,  1,    320,2,19930101,1315,-28.6150, -44.2217, 3694,    100.0,  19.1880,  36.2570,2,  36.2510,2,    221.5,2,     0.15,2,     0.13,9,     0.12,2, -999.000,9, -999.000,9, -999.000,9, -999.000,9,-999.0000,9,  -999.00,9,   -999.0,9,-999.000,9,  -999.00,9,   2071.6,2,   -999.0,9,   -999.0,9,  -999.00,9,  -999.0,-999.0000,-999.000,-999.000, 19.1699,-999.000,9
      06MT22_5,   A10,     2,  1,    319,2,19930101,1315,-28.6150, -44.2217, 3694,    150.0,  17.5250,  35.9500,2,-999.0000,9,    207.4,2,     0.87,2,     3.41,9,     0.32,2, -999.000,9, -999.000,9, -999.000,9, -999.000,9,-999.0000,9,  -999.00,9,   -999.0,9,-999.000,9,  -999.00,9,   2083.7,2,   -999.0,9,   -999.0,9,  -999.00,9,  -999.0,-999.0000,-999.000,-999.000, 17.4997,-999.000,9
      06MT22_5,   A10,     2,  1,    318,2,19930101,1315,-28.6150, -44.2217, 3694,    199.0,  16.1940,  35.6910,2,-999.0000,9,    204.8,2,     1.16,2,     5.20,9,     0.44,2, -999.000,9, -999.000,9, -999.000,9, -999.000,9,-999.0000,9,  -999.00,9,   -999.0,9,-999.000,9,  -999.00,9,   2091.4,2,   -999.0,9,   -999.0,9,  -999.00,9,  -999.0,-999.0000,-999.000,-999.000, 16.1622,-999.000,9
      06MT22_5,   A10,     2,  1,    317,2,19930101,1315,-28.6150, -44.2217, 3694,    300.0,  14.0450,  35.3730,2,-999.0000,9,    207.7,2,     2.08,2,     8.78,9,     0.63,2, -999.000,9, -999.000,9, -999.000,9, -999.000,9,-999.0000,9,  -999.00,9,   -999.0,9,-999.000,9,  -999.00,9,   2103.2,2,   -999.0,9,   -999.0,9,  -999.00,9,  -999.0,-999.0000,-999.000,-999.000, 14.0013,-999.000,9
      06MT22_5,   A10,     2,  1,    316,2,19930101,1315,-28.6150, -44.2217, 3694,    400.0,  12.3200,  35.1280,2,  35.1260,2,    207.0,2,     3.39,2,    12.83,9,     0.87,2, -999.000,9, -999.000,9, -999.000,9, -999.000,9,-999.0000,9,  -999.00,9,   -999.0,9,-999.000,9,  -999.00,9,   2113.5,2,   -999.0,9,   -999.0,9,  -999.00,9,  -999.0,-999.0000,-999.000,-999.000, 12.2664,-999.000,9
      06MT22_5,   A10,     2,  1,    315,2,19930101,1315,-28.6150, -44.2217, 3694,    499.0,  10.2680,  34.8510,2,-999.0000,9,    205.2,2,     5.96,2,    18.05,9,     1.23,2, -999.000,9, -999.000,9, -999.000,9, -999.000,9,-999.0000,9,  -999.00,9,   -999.0,9,-999.000,9,  -999.00,9,   2130.4,2,   -999.0,9,   -999.0,9,  -999.00,9,  -999.0,-999.0000,-999.000,-999.000, 10.2086,-999.000,9
      06MT22_5,   A10,     2,  1,    314,2,19930101,1315,-28.6150, -44.2217, 3694,    598.0,   8.3160,  34.6240,2,-999.0000,9,    207.8,2,     9.45,2,    22.99,9,     1.59,2, -999.000,9, -999.000,9, -999.000,9, -999.000,9,-999.0000,9,  -999.00,9,   -999.0,9,-999.000,9,  -999.00,9,   2146.1,2,   -999.0,9,   -999.0,9,  -999.00,9,  -999.0,-999.0000,-999.000,-999.000,  8.2530,-999.000,9
      06MT22_5,   A10,     2,  1,    313,2,19930101,1315,-28.6150, -44.2217, 3694,    699.0,   6.4720,  34.4450,2,  34.4440,2,    213.6,2,    13.69,2,    27.19,9,     1.82,2, -999.000,9, -999.000,9, -999.000,9, -999.000,9,-999.0000,9,  -999.00,9,   -999.0,9,-999.000,9,  -999.00,9,   2158.4,2,   -999.0,9,   -999.0,9,  -999.00,9,  -999.0,-999.0000,-999.000,-999.000,  6.4075,-999.000,9
      06MT22_5,   A10,     2,  1,    312,2,19930101,1315,-28.6150, -44.2217, 3694,    850.0,   4.7630,  34.3290,2,-999.0000,9,    221.0,2,    21.00,2,    30.50,9,     2.08,2, -999.000,9, -999.000,9, -999.000,9, -999.000,9,-999.0000,9,  -999.00,9,   -999.0,9,-999.000,9,  -999.00,9,   2173.6,2,   -999.0,9,   -999.0,9,  -999.00,9,  -999.0,-999.0000,-999.000,-999.000,  4.6947,-999.000,9
      06MT22_5,   A10,     2,  1,    311,2,19930101,1315,-28.6150, -44.2217, 3694,   1000.0,   3.9340,  34.3450,2,-999.0000,9,    208.3,2,    31.06,2,    33.23,9,     2.24,2, -999.000,9, -999.000,9, -999.000,9, -999.000,9,-999.0000,9,  -999.00,9,   -999.0,9,-999.000,9,  -999.00,9,   2194.5,2,   -999.0,9,   -999.0,9,  -999.00,9,  -999.0,-999.0000,-999.000,-999.000,  3.8589,-999.000,9
      06MT22_5,   A10,     2,  1,    310,2,19930101,1315,-28.6150, -44.2217, 3694,   1200.0,   3.4240,  34.4560,2,  34.4560,2,    192.1,2,    42.20,2,    34.54,9,     2.32,2, -999.000,9, -999.000,9, -999.000,9, -999.000,9,-999.0000,9,  -999.00,9,   -999.0,9,-999.000,9,  -999.00,9,   2215.4,2,   -999.0,9,   -999.0,9,  -999.00,9,  -999.0,-999.0000,-999.000,-999.000,  3.3368,-999.000,9
      06MT22_5,   A10,     2,  1,    309,2,19930101,1315,-28.6150, -44.2217, 3694,   1400.0,   3.4120,  34.6030,2,-999.0000,9,    191.1,2,    42.79,2,    33.54,9,     2.22,2, -999.000,9, -999.000,9, -999.000,9, -999.000,9,-999.0000,9,  -999.00,9,   -999.0,9,-999.000,9,  -999.00,9,   2216.4,2,   -999.0,9,   -999.0,9,  -999.00,9,  -999.0,-999.0000,-999.000,-999.000,  3.3073,-999.000,9
      06MT22_5,   A10,     2,  1,    308,2,19930101,1315,-28.6150, -44.2217, 3694,   1601.0,   3.5160,  34.7380,2,-999.0000,9,    201.6,2,    38.41,2,    31.73,9,     1.99,2, -999.000,9, -999.000,9, -999.000,9, -999.000,9,-999.0000,9,  -999.00,9,   -999.0,9,-999.000,9,  -999.00,9,   2207.3,2,   -999.0,9,   -999.0,9,  -999.00,9,  -999.0,-999.0000,-999.000,-999.000,  3.3926,-999.000,9
      06MT22_5,   A10,     2,  1,    307,2,19930101,1315,-28.6150, -44.2217, 3694,   1799.0,   3.8670,  34.8830,2,  34.8810,2,    222.5,2,    25.76,2,    27.69,9,     1.64,2, -999.000,9, -999.000,9, -999.000,9, -999.000,9,-999.0000,9,  -999.00,9,   -999.0,9,-999.000,9,  -999.00,9,   2184.9,2,   -999.0,9,   -999.0,9,  -999.00,9,  -999.0,-999.0000,-999.000,-999.000,  3.7210,-999.000,9
      06MT22_5,   A10,     2,  1,    306,2,19930101,1315,-28.6150, -44.2217, 3694,   2000.0,   3.8040,  34.9400,2,-999.0000,9,    240.0,2,    21.19,2,    24.56,9,     1.43,2, -999.000,9, -999.000,9, -999.000,9, -999.000,9,-999.0000,9,  -999.00,9,   -999.0,9,-999.000,9,  -999.00,9,   2173.9,2,   -999.0,9,   -999.0,9,  -999.00,9,  -999.0,-999.0000,-999.000,-999.000,  3.6395,-999.000,9
      06MT22_5,   A10,     2,  1,    305,2,19930101,1315,-28.6150, -44.2217, 3694,   2501.0,   3.2170,  34.9470,2,-999.0000,9,    254.9,2,    24.28,2,    23.31,9,     1.40,2, -999.000,9, -999.000,9, -999.000,9, -999.000,9,-999.0000,9,  -999.00,9,   -999.0,9,-999.000,9,  -999.00,9,   2170.2,2,   -999.0,9,   -999.0,9,  -999.00,9,  -999.0,-999.0000,-999.000,-999.000,  3.0130,-999.000,9
      06MT22_5,   A10,     2,  1,    304,2,19930101,1315,-28.6150, -44.2217, 3694,   2754.0,   2.9380,  34.9320,2,  34.9310,2,    254.3,2,    28.52,2,    23.45,9,     1.42,2, -999.000,9, -999.000,9, -999.000,9, -999.000,9,-999.0000,9,  -999.00,9,   -999.0,9,-999.000,9,  -999.00,9,   2175.2,2,   -999.0,9,   -999.0,9,  -999.00,9,  -999.0,-999.0000,-999.000,-999.000,  2.7139,-999.000,9
      06MT22_5,   A10,     2,  1,    303,2,19930101,1315,-28.6150, -44.2217, 3694,   3002.0,   2.5550,  34.9060,2,-999.0000,9,    253.2,2,    36.66,2,    24.21,9,     1.46,2, -999.000,9, -999.000,9, -999.000,9, -999.000,9,-999.0000,9,  -999.00,9,   -999.0,9,-999.000,9,  -999.00,9,   2183.3,2,   -999.0,9,   -999.0,9,  -999.00,9,  -999.0,-999.0000,-999.000,-999.000,  2.3148,-999.000,9
      06MT22_5,   A10,     2,  1,    302,2,19930101,1315,-28.6150, -44.2217, 3694,   3499.0,   0.9280,  34.7410,2,-999.0000,9,    227.9,2,    84.10,2,    32.39,9,     2.12,2, -999.000,9, -999.000,9, -999.000,9, -999.000,9,-999.0000,9,  -999.00,9,   -999.0,9,-999.000,9,  -999.00,9,   2243.7,2,   -999.0,9,   -999.0,9,  -999.00,9,  -999.0,-999.0000,-999.000,-999.000,  0.6763,-999.000,9
      06MT22_5,   A10,     2,  1,    301,2,19930101,1315,-28.6150, -44.2217, 3694,   3706.0,   0.6260,  34.7100,2,  34.7080,2,    224.0,2,    84.14,2,    34.98,9,     2.29,2, -999.000,9, -999.000,9, -999.000,9, -999.000,9,-999.0000,9,  -999.00,9,   -999.0,9,-999.000,9,  -999.00,9,   2254.5,2,   -999.0,9,   -999.0,9,  -999.00,9,  -999.0,-999.0000,-999.000,-999.000,  0.3616,-999.000,9