BOTTLE,20030417WHPSIOSA
EXPOCODE,SECT_ID,STNNBR,CASTNO,BTLNBR,BTLNBR_FLAG_W,DATE,TIME,LATITUDE,LONGITUDE,DEPTH,CTDPRS,CTDTMP,CTDSAL,CTDSAL_FLAG_W,SALNTY,SALNTY_FLAG_W,OXYGEN,OXYGEN_FLAG_W,SILCAT,SILCAT_FLAG_W,NO2+NO3,NO2+NO3_FLAG_W,PHSPHT,PHSPHT_FLAG_W,CFC-11,CFC-11_FLAG_W,CFC-12,CFC-12_FLAG_W,CCL4,CCL4_FLAG_W,TRITUM,TRITUM_FLAG_W,HELIUM,HELIUM_FLAG_W,DELHE3,DELHE3_FLAG_W,DELC14,DELC14_FLAG_W,NEON,NEON_FLAG_W,O18O16,O18O16_FLAG_W,TCARBN,TCARBN_FLAG_W,PCO2,PCO2_FLAG_W,ALKALI,ALKALI_FLAG_W,PH,PH_FLAG_W,C14ERR,HELIER,DELHER,NEONER,THETA,TRITER,TRITER_FLAG_W
,,,,,,,,,,,DBAR,ITS-90,PSS-78,,PSS-78,,UMOL/KG,,UMOL/KG,,UMOL/KG,,UMOL/KG,,PMOL/KG,,PMOL/KG,,PMOL/KG,,TU,,NMOL/KG,,PERCNT,,/MILLE,,NMOL/KG,,MILLE,,UMOL/KG,,UATM,,UMOL/KG,,,,/MILLE,NMOL/KG,PERCNT,NMOL/KG,ITS-90,TU,
      06MT22_5,   A10,    30,  2,    324,2,19930107,1925,-30.0007, -31.5018, 3814,     10.0,  21.4080,  36.0550,2,  36.0650,2,   -999.0,9,  -999.00,9,  -999.00,9,  -999.00,9, -999.000,9, -999.000,9, -999.000,9,    0.963,2,   1.6744,7,    -1.43,2,   -999.0,9,   6.738,7,  -999.00,9,   -999.0,9,   -999.0,9,   -999.0,9,  -999.00,9,  -999.0,  0.0059,   0.250,   0.024, 21.4061,   0.022,9
      06MT22_5,   A10,    30,  2,    321,2,19930107,1925,-30.0007, -31.5018, 3814,    500.0,  10.3050,  34.8590,2,-999.0000,9,   -999.0,9,  -999.00,9,  -999.00,9,  -999.00,9,    2.150,4,    1.237,4,    2.775,4, -999.000,9,   1.9037,4,    -1.38,3,   -999.0,9,   7.514,4,  -999.00,9,   -999.0,9,   -999.0,9,   -999.0,9,  -999.00,9,  -999.0,  0.0067,   0.250,   0.026, 10.2453,-999.000,9
      06MT22_5,   A10,    30,  2,    320,2,19930107,1925,-30.0007, -31.5018, 3814,    500.0,  10.3050,  34.8590,2,-999.0000,9,   -999.0,9,  -999.00,9,  -999.00,9,  -999.00,9, -999.000,9, -999.000,9, -999.000,9, -999.000,9,-999.0000,9,  -999.00,9,   -999.0,9,-999.000,9,  -999.00,9,   -999.0,9,   -999.0,9,   -999.0,9,  -999.00,9,  -999.0,-999.0000,-999.000,-999.000, 10.2453,-999.000,9
      06MT22_5,   A10,    30,  2,    319,2,19930107,1925,-30.0007, -31.5018, 3814,    599.0,   7.6510,  34.5450,2,  34.5460,2,    212.6,2,    10.18,2,    23.45,9,     1.53,2,    1.663,2,    0.915,2,    1.831,2, -999.000,9,   1.7703,5,     1.02,3,   -999.0,9,   7.615,5,  -999.00,9,   2146.5,2,   -999.0,9,   -999.0,9,  -999.00,9,  -999.0,  0.0071,   0.250,   0.031,  7.5908,-999.000,9
      06MT22_5,   A10,    30,  2,    318,2,19930107,1925,-30.0007, -31.5018, 3814,    699.0,   6.0060,  34.3950,2,-999.0000,9,    221.3,2,    14.01,2,    26.85,9,     1.80,2,    0.013,4,    0.004,4,    0.081,4,    0.152,2,   1.7708,2,     0.76,2,   -999.0,9,   7.745,7,  -999.00,9,   2156.8,2,   -999.0,9,   -999.0,9,  -999.00,9,  -999.0,  0.0062,   0.250,   0.027,  5.9441,   0.007,9
      06MT22_5,   A10,    30,  2,    317,2,19930107,1925,-30.0007, -31.5018, 3814,    848.0,   4.4510,  34.2950,2,-999.0000,9,    230.9,2,    21.15,2,    29.58,9,     1.92,2, -999.000,9, -999.000,9, -999.000,9, -999.000,9,-999.0000,1,  -999.00,1,   -999.0,9,-999.000,1,  -999.00,9,   2170.0,2,   -999.0,9,   -999.0,9,  -999.00,9,  -999.0,-999.0000,-999.000,-999.000,  4.3851,-999.000,9
      06MT22_5,   A10,    30,  2,    316,2,19930107,1925,-30.0007, -31.5018, 3814,    999.0,   3.6150,  34.3110,2,  34.3150,2,    218.4,2,    31.98,2,    32.05,9,     2.10,2,    0.749,2,    0.419,2,    1.816,2,    0.075,2,   1.7913,2,     3.24,2,   -999.0,9,   7.845,2,  -999.00,9,   2190.1,2,   -999.0,9,   -999.0,9,  -999.00,9,  -999.0,  0.0063,   0.250,   0.027,  3.5427,   0.053,9
      06MT22_5,   A10,    30,  2,    315,2,19930107,1925,-30.0007, -31.5018, 3814,   1199.0,   3.1500,  34.4430,2,-999.0000,9,    200.5,2,    47.36,2,    33.73,9,     2.27,2,    0.230,2,    0.125,2,    0.836,2,   18.826,4,   1.8056,5,     5.23,3,   -999.0,9,   7.896,5,  -999.00,9,   2218.5,2,   -999.0,9,   -999.0,9,  -999.00,9,  -999.0,  0.0072,   0.250,   0.032,  3.0650,   1.471,9
      06MT22_5,   A10,    30,  2,    314,2,19930107,1925,-30.0007, -31.5018, 3814,   1398.0,   2.9540,  34.5460,2,-999.0000,9,    189.5,2,    53.23,2,    33.45,9,     2.27,2,    0.089,2,    0.056,2,    0.205,2,   -0.013,3,   1.8140,5,     5.39,3,   -999.0,9,   7.920,5,  -999.00,9,   2225.8,2,   -999.0,9,   -999.0,9,  -999.00,9,  -999.0,  0.0073,   0.250,   0.032,  2.8549,   0.091,9
      06MT22_5,   A10,    30,  2,    313,2,19930107,1925,-30.0007, -31.5018, 3814,   1598.0,   2.8380,  34.6690,2,  34.6700,2,    197.4,2,    54.04,2,    31.43,9,     2.06,2,   -0.006,4,   -0.009,4,    0.139,2,   -0.005,3,   1.8221,2,     6.42,2,   -999.0,9,   7.883,2,  -999.00,9,   2222.8,2,   -999.0,9,   -999.0,9,  -999.00,9,  -999.0,  0.0073,   0.250,   0.032,  2.7236,   0.085,9
      06MT22_5,   A10,    30,  2,    312,2,19930107,1925,-30.0007, -31.5018, 3814,   1801.0,   2.7850,  34.7490,2,-999.0000,9,    225.5,2,    51.36,2,    29.12,9,     1.91,2,    0.009,2,    0.015,2,    0.057,2,   -0.021,3,-999.0000,1,  -999.00,1,   -999.0,9,-999.000,1,  -999.00,9,   2214.5,2,   -999.0,9,   -999.0,9,  -999.00,9,  -999.0,-999.0000,-999.000,-999.000,  2.6537,   0.081,9
      06MT22_5,   A10,    30,  2,    310,2,19930107,1925,-30.0007, -31.5018, 3814,   1999.0,   2.7470,  34.8010,2,  34.8020,2,   -999.0,9,  -999.00,9,  -999.00,9,  -999.00,9,    0.008,2,    0.018,2,    0.015,2,   -0.023,3,-999.0000,1,  -999.00,1,   -999.0,9,-999.000,1,  -999.00,9,   2205.6,2,   -999.0,9,   -999.0,9,  -999.00,9,  -999.0,-999.0000,-999.000,-999.000,  2.5988,   0.085,9
      06MT22_5,   A10,    30,  2,    311,2,19930107,1925,-30.0007, -31.5018, 3814,   2000.0,   2.7470,  34.8010,2,-999.0000,9,    218.6,2,    48.23,2,    27.30,9,     1.78,2, -999.000,9, -999.000,9, -999.000,9, -999.000,9,-999.0000,9,  -999.00,9,   -999.0,9,-999.000,9,  -999.00,9,   -999.0,9,   -999.0,9,   -999.0,9,  -999.00,9,  -999.0,-999.0000,-999.000,-999.000,  2.5987,-999.000,9
      06MT22_5,   A10,    30,  2,    309,2,19930107,1925,-30.0007, -31.5018, 3814,   2250.0,   2.7530,  34.8510,2,-999.0000,9,    231.0,2,    42.84,2,    25.14,9,     1.62,2,   -0.001,2,    0.006,2,   -0.002,2,   -0.023,3,   1.8270,2,     4.85,2,   -999.0,9,   7.920,2,  -999.00,9,   2195.6,2,   -999.0,9,   -999.0,9,  -999.00,9,  -999.0,  0.0073,   0.250,   0.032,  2.5815,   0.088,9
      06MT22_5,   A10,    30,  2,    308,2,19930107,1925,-30.0007, -31.5018, 3814,   2501.0,   2.7730,  34.8840,2,-999.0000,9,    240.3,2,    38.21,2,    23.57,9,     1.51,2,    0.001,2,    0.000,2,    0.007,2,   -0.013,3,   1.8582,7,     3.38,2,   -999.0,9,   8.106,4,  -999.00,9,   2186.1,2,   -999.0,9,   -999.0,9,  -999.00,9,  -999.0,  0.0074,   0.250,   0.032,  2.5773,   0.126,9
      06MT22_5,   A10,    30,  2,    307,2,19930107,1925,-30.0007, -31.5018, 3814,   2752.0,   2.7490,  34.8990,2,  34.9010,2,    245.0,2,    36.48,2,    22.81,9,     1.48,2,   -0.002,2,    0.002,2,   -0.007,2,    0.025,2,   1.8248,2,     3.65,2,   -999.0,9,   7.927,2,  -999.00,9,   2182.8,2,   -999.0,9,   -999.0,9,  -999.00,9,  -999.0,  0.0073,   0.250,   0.032,  2.5291,   0.056,9
      06MT22_5,   A10,    30,  2,    306,2,19930107,1925,-30.0007, -31.5018, 3814,   3002.0,   2.6430,  34.9020,2,-999.0000,9,    248.5,2,    37.90,2,    22.49,9,     1.50,2,    0.035,4,    0.005,2,    0.049,4, -999.000,9,   1.8203,2,     3.85,2,   -999.0,9,-999.000,1,  -999.00,9,   2183.7,2,   -999.0,9,   -999.0,9,  -999.00,9,  -999.0,  0.0073,   0.250,-999.000,  2.4000,-999.000,9
      06MT22_5,   A10,    30,  2,    305,2,19930107,1925,-30.0007, -31.5018, 3814,   3253.0,   2.4320,  34.8860,2,  34.8890,2,    248.4,2,    44.40,2,    23.12,9,     1.50,2,    0.010,2,   -0.002,2,    0.030,2,    0.015,2,   1.8279,2,     3.49,2,   -999.0,9,   7.991,2,  -999.00,9,   2189.1,2,   -999.0,9,   -999.0,9,  -999.00,9,  -999.0,  0.0073,   0.250,   0.032,  2.1677,   0.003,9
      06MT22_5,   A10,    30,  2,    304,2,19930107,1925,-30.0007, -31.5018, 3814,   3504.0,   2.0440,  34.8510,2,-999.0000,9,   -999.0,9,  -999.00,9,  -999.00,9,  -999.00,9, -999.000,9, -999.000,9, -999.000,9, -999.000,9,-999.0000,9,  -999.00,9,   -999.0,9,-999.000,9,  -999.00,9,   -999.0,9,   -999.0,9,   -999.0,9,  -999.00,9,  -999.0,-999.0000,-999.000,-999.000,  1.7632,-999.000,9
      06MT22_5,   A10,    30,  2,    303,2,19930107,1925,-30.0007, -31.5018, 3814,   3759.0,   1.4510,  34.7850,2,-999.0000,9,    229.5,2,    82.36,2,    28.40,9,     1.89,2,    0.015,2,    0.013,2,    0.057,2,    0.011,2,   1.8613,2,     5.86,2,   -999.0,9,   8.095,2,  -999.00,9,   2228.6,2,   -999.0,9,   -999.0,9,  -999.00,9,  -999.0,  0.0074,   0.250,   0.032,  1.1587,   0.004,9
      06MT22_5,   A10,    30,  2,    301,2,19930107,1925,-30.0007, -31.5018, 3814,   3839.0,   1.3560,  34.7740,2,  34.7800,2,   -999.0,9,  -999.00,9,  -999.00,9,  -999.00,9,    0.014,6,    0.025,6,    0.068,6,    0.021,2,   1.8587,2,     5.83,2,   -999.0,9,   8.087,2,  -999.00,9,   2233.4,2,   -999.0,9,   -999.0,9,  -999.00,9,  -999.0,  0.0074,   0.250,   0.032,  1.0578,   0.011,9
      06MT22_5,   A10,    30,  2,    302,2,19930107,1925,-30.0007, -31.5018, 3814,   3842.0,   1.3830,  34.7770,2,-999.0000,9,    229.9,2,    87.00,2,    29.28,9,     1.95,2,    0.014,2,    0.021,2,    0.067,2,    0.006,2,-999.0000,1,  -999.00,1,   -999.0,9,-999.000,1,  -999.00,9,   -999.0,9,   -999.0,9,   -999.0,9,  -999.00,9,  -999.0,-999.0000,-999.000,-999.000,  1.0837,   0.005,9
      06MT22_5,   A10,    31,  1,    217,2,19930107,2315,-30.0000, -31.0200, 4078,     11.0,  22.2890,  35.9000,2,  35.9010,2,    221.3,2,     0.09,2,     0.05,9,     0.08,2, -999.000,9, -999.000,9, -999.000,9, -999.000,9,-999.0000,9,  -999.00,9,   -999.0,9,-999.000,9,  -999.00,9,   -999.0,0,   -999.0,9,   -999.0,9,  -999.00,9,  -999.0,-999.0000,-999.000,-999.000, 22.2868,-999.000,9
      06MT22_5,   A10,    31,  1,    209,2,19930107,2315,-30.0000, -31.0200, 4078,     11.0,  22.2890,  35.9000,2,-999.0000,9,   -999.0,9,  -999.00,9,  -999.00,9,  -999.00,9, -999.000,9, -999.000,9, -999.000,9, -999.000,9,-999.0000,9,  -999.00,9,   -999.0,9,-999.000,9,  -999.00,9,   -999.0,0,   -999.0,9,   -999.0,9,  -999.00,9,  -999.0,-999.0000,-999.000,-999.000, 22.2868,-999.000,9
      06MT22_5,   A10,    31,  1,    208,2,19930107,2315,-30.0000, -31.0200, 4078,     31.0,  22.0840,  35.9090,2,-999.0000,9,    223.4,2,     0.06,2,     0.04,9,     0.07,2, -999.000,9, -999.000,9, -999.000,9, -999.000,9,-999.0000,9,  -999.00,9,   -999.0,9,-999.000,9,  -999.00,9,   -999.0,0,   -999.0,9,   -999.0,9,  -999.00,9,  -999.0,-999.0000,-999.000,-999.000, 22.0778,-999.000,9
      06MT22_5,   A10,    31,  1,    207,2,19930107,2315,-30.0000, -31.0200, 4078,     52.0,  21.3940,  35.9320,2,-999.0000,9,   -999.0,9,  -999.00,9,  -999.00,9,  -999.00,9, -999.000,9, -999.000,9, -999.000,9, -999.000,9,-999.0000,9,  -999.00,9,   -999.0,9,-999.000,9,  -999.00,9,   -999.0,0,   -999.0,9,   -999.0,9,  -999.00,9,  -999.0,-999.0000,-999.000,-999.000, 21.3839,-999.000,9
      06MT22_5,   A10,    31,  1,    207,2,19930107,2315,-30.0000, -31.0200, 4078,     70.0,  19.4030,  35.9210,2,  35.9270,2,    233.4,2,     0.13,2,     0.05,9,     0.08,2, -999.000,9, -999.000,9, -999.000,9, -999.000,9,-999.0000,9,  -999.00,9,   -999.0,9,-999.000,9,  -999.00,9,   -999.0,0,   -999.0,9,   -999.0,9,  -999.00,9,  -999.0,-999.0000,-999.000,-999.000, 19.3903,-999.000,9
      06MT22_5,   A10,    31,  1,    206,2,19930107,2315,-30.0000, -31.0200, 4078,     71.0,  19.3950,  35.9200,2,-999.0000,9,    240.9,2,     0.37,2,     0.01,9,     0.09,2, -999.000,9, -999.000,9, -999.000,9, -999.000,9,-999.0000,9,  -999.00,9,   -999.0,9,-999.000,9,  -999.00,9,   -999.0,0,   -999.0,9,   -999.0,9,  -999.00,9,  -999.0,-999.0000,-999.000,-999.000, 19.3821,-999.000,9
      06MT22_5,   A10,    31,  1,    205,2,19930107,2315,-30.0000, -31.0200, 4078,    101.0,  18.3540,  35.8550,2,-999.0000,9,    236.1,2,     0.38,2,     0.04,9,     0.12,2, -999.000,9, -999.000,9, -999.000,9, -999.000,9,-999.0000,9,  -999.00,9,   -999.0,9,-999.000,9,  -999.00,9,   -999.0,0,   -999.0,9,   -999.0,9,  -999.00,9,  -999.0,-999.0000,-999.000,-999.000, 18.3364,-999.000,9
      06MT22_5,   A10,    31,  1,    204,2,19930107,2315,-30.0000, -31.0200, 4078,    151.0,  16.2850,  35.6180,2,  35.6150,2,    215.0,2,     1.17,2,     2.72,9,     0.32,2, -999.000,9, -999.000,9, -999.000,9, -999.000,9,-999.0000,9,  -999.00,9,   -999.0,9,-999.000,9,  -999.00,9,   -999.0,0,   -999.0,9,   -999.0,9,  -999.00,9,  -999.0,-999.0000,-999.000,-999.000, 16.2607,-999.000,9
      06MT22_5,   A10,    31,  1,    203,2,19930107,2315,-30.0000, -31.0200, 4078,    201.0,  14.9130,  35.4360,2,-999.0000,9,    211.5,2,     1.73,2,     5.48,9,     0.47,2, -999.000,9, -999.000,9, -999.000,9, -999.000,9,-999.0000,9,  -999.00,9,   -999.0,9,-999.000,9,  -999.00,9,   -999.0,0,   -999.0,9,   -999.0,9,  -999.00,9,  -999.0,-999.0000,-999.000,-999.000, 14.8827,-999.000,9
      06MT22_5,   A10,    31,  1,    202,2,19930107,2315,-30.0000, -31.0200, 4078,    301.0,  13.2820,  35.2500,2,-999.0000,9,    212.2,2,     2.79,2,     9.11,9,     0.70,2, -999.000,9, -999.000,9, -999.000,9, -999.000,9,-999.0000,9,  -999.00,9,   -999.0,9,-999.000,9,  -999.00,9,   -999.0,0,   -999.0,9,   -999.0,9,  -999.00,9,  -999.0,-999.0000,-999.000,-999.000, 13.2398,-999.000,9
      06MT22_5,   A10,    31,  1,    201,2,19930107,2315,-30.0000, -31.0200, 4078,    402.0,  11.9680,  35.0790,2,  35.0870,2,    211.2,2,     3.88,2,    12.43,9,     0.91,2, -999.000,9, -999.000,9, -999.000,9, -999.000,9,-999.0000,9,  -999.00,9,   -999.0,9,-999.000,9,  -999.00,9,   -999.0,0,   -999.0,9,   -999.0,9,  -999.00,9,  -999.0,-999.0000,-999.000,-999.000, 11.9152,-999.000,9