BOTTLE,20030417WHPSIOSA
EXPOCODE,SECT_ID,STNNBR,CASTNO,BTLNBR,BTLNBR_FLAG_W,DATE,TIME,LATITUDE,LONGITUDE,DEPTH,CTDPRS,CTDTMP,CTDSAL,CTDSAL_FLAG_W,SALNTY,SALNTY_FLAG_W,OXYGEN,OXYGEN_FLAG_W,SILCAT,SILCAT_FLAG_W,NO2+NO3,NO2+NO3_FLAG_W,PHSPHT,PHSPHT_FLAG_W,CFC-11,CFC-11_FLAG_W,CFC-12,CFC-12_FLAG_W,CCL4,CCL4_FLAG_W,TRITUM,TRITUM_FLAG_W,HELIUM,HELIUM_FLAG_W,DELHE3,DELHE3_FLAG_W,DELC14,DELC14_FLAG_W,NEON,NEON_FLAG_W,O18O16,O18O16_FLAG_W,TCARBN,TCARBN_FLAG_W,PCO2,PCO2_FLAG_W,ALKALI,ALKALI_FLAG_W,PH,PH_FLAG_W,C14ERR,HELIER,DELHER,NEONER,THETA,TRITER,TRITER_FLAG_W
,,,,,,,,,,,DBAR,ITS-90,PSS-78,,PSS-78,,UMOL/KG,,UMOL/KG,,UMOL/KG,,UMOL/KG,,PMOL/KG,,PMOL/KG,,PMOL/KG,,TU,,NMOL/KG,,PERCNT,,/MILLE,,NMOL/KG,,MILLE,,UMOL/KG,,UATM,,UMOL/KG,,,,/MILLE,NMOL/KG,PERCNT,NMOL/KG,ITS-90,TU,
      06MT22_5,   A10,    66,  1,    217,2,19930118,1914,-29.9988,  -5.6678, 4373,     11.0,  24.3100,  35.9060,2,  35.9140,2,    217.0,2,     0.73,2,     0.09,9,     0.12,2, -999.000,9, -999.000,9, -999.000,9, -999.000,9,-999.0000,9,  -999.00,9,   -999.0,9,-999.000,9,  -999.00,9,   -999.0,9,   -999.0,9,   -999.0,9,  -999.00,9,  -999.0,-999.0000,-999.000,-999.000, 24.3077,-999.000,9
      06MT22_5,   A10,    66,  1,    210,2,19930118,1914,-29.9988,  -5.6678, 4373,     11.0,  24.3060,  35.9070,2,-999.0000,9,   -999.0,9,  -999.00,9,  -999.00,9,  -999.00,9,    1.999,2,    1.093,2,    2.485,2,    0.918,2,-999.0000,1,  -999.00,1,   -999.0,9,-999.000,1,  -999.00,9,   2060.4,2,   -999.0,9,   -999.0,9,  -999.00,9,  -999.0,-999.0000,-999.000,-999.000, 24.3037,   0.022,9
      06MT22_5,   A10,    66,  1,    209,2,19930118,1914,-29.9988,  -5.6678, 4373,     31.0,  21.4520,  35.6770,2,-999.0000,9,    233.5,2,     0.69,2,     0.05,9,     0.12,2,    2.316,2,    1.227,2,    2.706,2,    0.927,3,-999.0000,1,  -999.00,1,   -999.0,9,-999.000,1,  -999.00,9,   2066.5,2,   -999.0,9,   -999.0,9,  -999.00,9,  -999.0,-999.0000,-999.000,-999.000, 21.4460,   0.185,9
      06MT22_5,   A10,    66,  1,    208,2,19930118,1914,-29.9988,  -5.6678, 4373,     52.0,  17.8330,  35.5860,2,-999.0000,9,    249.8,2,     0.52,2,     0.05,9,     0.14,2,    2.584,2,    1.378,2,    2.777,2, -999.000,9,   1.7154,2,    -1.53,2,   -999.0,9,   7.107,2,  -999.00,9,   2056.1,2,   -999.0,9,   -999.0,9,  -999.00,9,  -999.0,  0.0060,   0.250,   0.025, 17.8241,-999.000,9
      06MT22_5,   A10,    66,  1,    207,2,19930118,1914,-29.9988,  -5.6678, 4373,     71.0,  17.3580,  35.6120,2,  35.6080,2,    251.8,2,     0.76,2,     0.05,9,     0.13,2,    2.625,2,    1.411,2,    2.781,2,    0.904,2,   1.7244,2,    -1.14,2,   -999.0,9,   7.160,2,  -999.00,9,   2055.6,2,   -999.0,9,   -999.0,9,  -999.00,9,  -999.0,  0.0060,   0.250,   0.025, 17.3461,   0.022,9
      06MT22_5,   A10,    66,  1,    206,2,19930118,1914,-29.9988,  -5.6678, 4373,    101.0,  16.3310,  35.5320,2,-999.0000,9,    247.9,2,     0.86,2,     0.02,9,     0.15,2,    2.655,2,    1.411,2,    2.623,2, -999.000,9,   1.7177,2,    -1.33,2,   -999.0,9,   7.120,2,  -999.00,9,   2065.7,2,   -999.0,9,   -999.0,9,  -999.00,9,  -999.0,  0.0060,   0.250,   0.025, 16.3148,-999.000,9
      06MT22_5,   A10,    66,  1,    205,2,19930118,1914,-29.9988,  -5.6678, 4373,    151.0,  15.6430,  35.4980,2,-999.0000,9,    234.6,2,     2.02,2,     2.57,9,     0.27,2,    2.645,2,    1.416,2,    1.439,2,    0.934,2,   1.7288,2,    -1.25,2,   -999.0,9,   7.163,2,  -999.00,9,   -999.0,9,   -999.0,9,   -999.0,9,  -999.00,9,  -999.0,  0.0061,   0.250,   0.025, 15.6194,   0.036,9
      06MT22_5,   A10,    66,  1,    204,2,19930118,1914,-29.9988,  -5.6678, 4373,    201.0,  14.8000,  35.3340,2,  35.3410,2,    228.5,2,     1.88,2,     3.87,9,     0.38,2,    2.701,2,    1.427,2,    1.510,2,    0.839,2,   1.7378,2,    -0.78,2,   -999.0,9,   7.287,7,  -999.00,9,   2077.6,2,   -999.0,9,   -999.0,9,  -999.00,9,  -999.0,  0.0061,   0.250,   0.025, 14.7697,   0.023,9
      06MT22_5,   A10,    66,  1,    203,2,19930118,1914,-29.9988,  -5.6678, 4373,    301.0,  12.8900,  35.1110,2,-999.0000,9,    214.2,2,     4.06,2,     9.86,9,     0.67,2,    2.492,2,    1.278,2,    1.003,2, -999.000,9,   1.7449,2,     0.53,2,   -999.0,9,   7.327,2,  -999.00,9,   2100.8,2,   -999.0,9,   -999.0,9,  -999.00,9,  -999.0,  0.0061,   0.250,   0.026, 12.8488,-999.000,9
      06MT22_5,   A10,    66,  1,    202,2,19930118,1914,-29.9988,  -5.6678, 4373,    401.0,  11.3820,  34.9430,2,-999.0000,9,    208.2,2,     5.87,2,    14.01,9,     0.93,2,    2.251,2,    1.164,2,    1.083,2,    0.637,2,   1.7467,2,     0.72,2,   -999.0,9,   7.398,2,  -999.00,9,   2125.6,2,   -999.0,9,   -999.0,9,  -999.00,9,  -999.0,  0.0061,   0.250,   0.026, 11.3311,   0.016,9
      06MT22_5,   A10,    66,  1,    201,2,19930118,1914,-29.9988,  -5.6678, 4373,    500.0,   9.7450,  34.7510,2,  34.7660,2,    203.1,2,     7.96,2,    18.47,9,     1.21,2,    2.023,2,    1.022,2,    1.300,2, -999.000,9,   1.7507,2,     1.23,2,   -999.0,9,   7.461,2,  -999.00,9,   2134.6,2,   -999.0,9,   -999.0,9,  -999.00,9,  -999.0,  0.0061,   0.250,   0.026,  9.6872,-999.000,9
      06MT22_5,   A10,    66,  2,    324,2,19930118,2058,-29.9983,  -5.6637, 4390,      9.0,  24.2490,  35.8960,2,  35.8970,2,   -999.0,9,  -999.00,9,  -999.00,9,  -999.00,9, -999.000,9, -999.000,9, -999.000,9, -999.000,9,-999.0000,9,  -999.00,9,   -999.0,9,-999.000,9,  -999.00,9,   -999.0,9,   -999.0,9,   -999.0,9,  -999.00,9,  -999.0,-999.0000,-999.000,-999.000, 24.2471,-999.000,9
      06MT22_5,   A10,    66,  2,    320,2,19930118,2058,-29.9983,  -5.6637, 4390,    599.0,   7.5640,  34.5500,2,-999.0000,9,    196.6,2,  -999.00,9,  -999.00,9,  -999.00,9,    1.547,2,    0.767,2,    1.596,2,    0.273,2,   1.7520,2,     1.12,2,   -999.0,9,   7.543,2,  -999.00,9,   2158.4,2,   -999.0,9,   -999.0,9,  -999.00,9,  -999.0,  0.0061,   0.250,   0.026,  7.5043,   0.009,9
      06MT22_5,   A10,    66,  2,    319,2,19930118,2058,-29.9983,  -5.6637, 4390,    700.0,   6.0780,  34.4290,2,  34.4240,2,    198.7,2,    18.55,2,    28.39,9,     1.98,2,    1.306,2,    0.648,2,    1.870,2,    0.196,2,-999.0000,1,  -999.00,1,   -999.0,9,-999.000,1,  -999.00,9,   2172.7,2,   -999.0,9,   -999.0,9,  -999.00,9,  -999.0,-999.0000,-999.000,-999.000,  6.0155,   0.009,9
      06MT22_5,   A10,    66,  2,    318,2,19930118,2058,-29.9983,  -5.6637, 4390,    849.0,   4.4620,  34.3440,2,-999.0000,9,    210.2,2,    27.18,2,    30.73,9,     2.16,2,    1.045,2,    0.507,2,    1.962,2,    0.120,2,   1.7721,5,     2.38,3,   -999.0,9,   7.739,5,  -999.00,9,   2184.4,2,   -999.0,9,   -999.0,9,  -999.00,9,  -999.0,  0.0071,   0.250,   0.031,  4.3957,   0.005,9
      06MT22_5,   A10,    66,  2,    317,2,19930118,2058,-29.9983,  -5.6637, 4390,   1000.0,   3.7880,  34.3780,2,-999.0000,9,    196.4,2,    37.77,2,    32.61,9,     2.28,2,    0.582,2,    0.272,2,    1.330,2,    0.067,2,   1.7922,5,     3.91,3,   -999.0,9,   7.832,5,  -999.00,9,   2204.1,2,   -999.0,9,   -999.0,9,  -999.00,9,  -999.0,  0.0072,   0.250,   0.031,  3.7140,   0.016,9
      06MT22_5,   A10,    66,  2,    316,2,19930118,2058,-29.9983,  -5.6637, 4390,   1199.0,   3.1430,  34.4660,2,  34.4690,2,    189.4,2,    50.36,2,    33.23,9,     2.38,2,    0.251,2,    0.112,2,    0.805,2,    0.046,2,   1.8185,2,     5.36,2,   -999.0,9,   7.912,2,  -999.00,9,   2222.2,2,   -999.0,9,   -999.0,9,  -999.00,9,  -999.0,  0.0064,   0.250,   0.028,  3.0585,   0.003,9
      06MT22_5,   A10,    66,  2,    315,2,19930118,2058,-29.9983,  -5.6637, 4390,   1399.0,   2.9160,  34.5940,2,-999.0000,9,    186.9,2,    56.28,2,    32.31,9,     2.26,2,    0.081,2,    0.034,2,    0.342,2,    0.026,2,-999.0000,1,  -999.00,1,   -999.0,9,-999.000,1,  -999.00,9,   2229.2,2,   -999.0,9,   -999.0,9,  -999.00,9,  -999.0,-999.0000,-999.000,-999.000,  2.8170,   0.003,9
      06MT22_5,   A10,    66,  2,    314,2,19930118,2058,-29.9983,  -5.6637, 4390,   1599.0,   2.7950,  34.6840,2,-999.0000,9,    193.9,2,    56.91,2,    30.64,9,     2.13,2,    0.032,2,    0.009,2,    0.185,2,    0.014,2,-999.0000,1,  -999.00,1,   -999.0,9,-999.000,1,  -999.00,9,   2225.4,2,   -999.0,9,   -999.0,9,  -999.00,9,  -999.0,-999.0000,-999.000,-999.000,  2.6809,   0.002,9
      06MT22_5,   A10,    66,  2,    313,2,19930118,2058,-29.9983,  -5.6637, 4390,   1799.0,   2.7100,  34.7500,2,  34.7500,2,    205.0,2,    55.18,2,    28.79,9,     1.96,2,    0.014,2,    0.002,2,    0.104,2,    0.012,2,   1.8328,5,     7.24,3,   -999.0,9,   7.970,5,  -999.00,9,   2217.6,2,   -999.0,9,   -999.0,9,  -999.00,9,  -999.0,  0.0073,   0.250,   0.032,  2.5800,   0.002,9
      06MT22_5,   A10,    66,  2,    312,2,19930118,2058,-29.9983,  -5.6637, 4390,   2001.0,   2.7020,  34.8110,2,-999.0000,9,    218.1,2,    50.06,2,    26.72,9,     1.81,2,    0.014,4,    0.006,4,    0.037,2,    0.011,2,   1.8225,2,     6.31,2,   -999.0,9,   7.951,2,  -999.00,9,   2206.1,2,   -999.0,9,   -999.0,9,  -999.00,9,  -999.0,  0.0064,   0.250,   0.028,  2.5541,   0.002,9
      06MT22_5,   A10,    66,  2,    311,2,19930118,2058,-29.9983,  -5.6637, 4390,   2250.0,   2.5620,  34.8370,2,-999.0000,9,    229.8,2,    50.05,2,    25.79,9,     1.71,2, -999.000,9, -999.000,9, -999.000,9,    0.010,2,   1.8207,2,     6.02,2,   -999.0,9,   7.979,2,  -999.00,9,   2202.2,2,   -999.0,9,   -999.0,9,  -999.00,9,  -999.0,  0.0064,   0.250,   0.028,  2.3939,   0.002,9
      06MT22_5,   A10,    66,  2,    310,2,19930118,2058,-29.9983,  -5.6637, 4390,   2503.0,   2.4750,  34.8510,2,  34.8490,2,    231.8,2,    50.16,2,    25.14,9,     1.67,2,    0.001,2,    0.000,2,    0.010,2,    0.009,2,-999.0000,1,  -999.00,1,   -999.0,9,-999.000,1,  -999.00,9,   2201.2,2,   -999.0,9,   -999.0,9,  -999.00,9,  -999.0,-999.0000,-999.000,-999.000,  2.2848,   0.002,9
      06MT22_5,   A10,    66,  2,    309,2,19930118,2058,-29.9983,  -5.6637, 4390,   2752.0,   2.4170,  34.8650,2,-999.0000,9,    236.6,2,    49.45,2,    24.31,9,     1.62,2, -999.000,9, -999.000,9, -999.000,9,    0.005,2,   1.8279,2,     5.36,2,   -999.0,9,   8.040,2,  -999.00,9,   2198.4,2,   -999.0,9,   -999.0,9,  -999.00,9,  -999.0,  0.0064,   0.250,   0.028,  2.2039,   0.002,9
      06MT22_5,   A10,    66,  2,    308,2,19930118,2058,-29.9983,  -5.6637, 4390,   3003.0,   2.3810,  34.8730,2,-999.0000,9,    239.2,2,    49.26,2,    23.95,9,     1.57,2,    0.000,2,    0.001,2,    0.005,2,    0.021,2,-999.0000,1,  -999.00,1,   -999.0,9,-999.000,1,  -999.00,9,   2198.8,2,   -999.0,9,   -999.0,9,  -999.00,9,  -999.0,-999.0000,-999.000,-999.000,  2.1436,   0.017,9
      06MT22_5,   A10,    66,  2,    307,2,19930118,2058,-29.9983,  -5.6637, 4390,   3226.0,   2.3680,  34.8770,2,  34.8750,2,    239.0,2,    49.70,2,    23.67,9,     1.58,2, -999.000,9, -999.000,9, -999.000,9,    0.014,2,   1.8288,2,     4.39,2,   -999.0,9,   7.998,2,  -999.00,9,   2200.4,2,   -999.0,9,   -999.0,9,  -999.00,9,  -999.0,  0.0064,   0.250,   0.028,  2.1081,   0.006,9
      06MT22_5,   A10,    66,  2,    306,2,19930118,2058,-29.9983,  -5.6637, 4390,   3503.0,   2.3640,  34.8810,2,-999.0000,9,    235.1,2,    50.29,2,    23.70,9,     1.52,2,    0.004,2,    0.000,2,    0.001,2,    0.006,2,   1.8279,5,     3.76,3,   -999.0,9,   7.970,5,  -999.00,9,   2203.9,2,   -999.0,9,   -999.0,9,  -999.00,9,  -999.0,  0.0073,   0.250,   0.032,  2.0748,   0.002,9
      06MT22_5,   A10,    66,  2,    305,2,19930118,2058,-29.9983,  -5.6637, 4390,   3754.0,   2.3710,  34.8840,2,-999.0000,9,    236.2,2,    50.80,2,    23.66,9,     1.56,2, -999.000,9, -999.000,9, -999.000,9,    0.012,2,   1.8243,2,     3.93,2,   -999.0,9,   7.991,2,  -999.00,9,   2206.5,2,   -999.0,9,   -999.0,9,  -999.00,9,  -999.0,  0.0064,   0.250,   0.028,  2.0542,   0.007,9
      06MT22_5,   A10,    66,  2,    304,2,19930118,2058,-29.9983,  -5.6637, 4390,   4003.0,   2.3850,  34.8850,2,  34.8820,2,    237.1,2,    51.38,2,    23.79,9,     1.59,2,    0.002,2,    0.000,2,    0.001,2,    0.004,2,   1.8234,2,     2.99,2,   -999.0,9,   8.047,2,  -999.00,9,   2208.6,2,   -999.0,9,   -999.0,9,  -999.00,9,  -999.0,  0.0064,   0.250,   0.028,  2.0397,   0.003,9
      06MT22_5,   A10,    66,  2,    303,2,19930118,2058,-29.9983,  -5.6637, 4390,   4255.0,   2.4070,  34.8840,2,-999.0000,9,    234.6,2,    51.69,2,    23.77,9,     1.60,2, -999.000,9, -999.000,9, -999.000,9,    0.009,2,   1.8225,2,     3.18,2,   -999.0,9,   7.970,2,  -999.00,9,   2210.7,2,   -999.0,9,   -999.0,9,  -999.00,9,  -999.0,  0.0064,   0.250,   0.028,  2.0319,   0.003,9
      06MT22_5,   A10,    66,  2,    302,2,19930118,2058,-29.9983,  -5.6637, 4390,   4389.0,   2.4210,  34.8860,2,  34.8830,2,    235.0,2,    51.87,2,    23.62,9,     1.60,2,    0.000,2,    0.000,2,   -0.001,2,    0.011,2,-999.0000,1,  -999.00,1,   -999.0,9,-999.000,1,  -999.00,9,   -999.0,9,   -999.0,9,   -999.0,9,  -999.00,9,  -999.0,-999.0000,-999.000,-999.000,  2.0296,   0.003,9
      06MT22_5,   A10,    66,  2,    301,2,19930118,2058,-29.9983,  -5.6637, 4390,   4408.0,   2.4240,  34.8850,2,  34.8830,2,    234.6,2,    51.81,2,    23.72,9,     1.58,2,    0.002,2,    0.001,2,    0.001,2,    0.064,3,   1.8256,2,     2.88,2,   -999.0,9,   7.983,2,  -999.00,9,   2211.1,2,   -999.0,9,   -999.0,9,  -999.00,9,  -999.0,  0.0064,   0.250,   0.028,  2.0302,   0.082,9
      06MT22_5,   A10,    67,  1,    217,2,19930119,0200,-30.0000,  -4.8617, 4284,     11.0,  24.3890,  35.9040,2,-999.0000,9,    217.5,2,     1.05,2,     0.03,9,     0.15,2, -999.000,9, -999.000,9, -999.000,9, -999.000,9,-999.0000,9,  -999.00,9,   -999.0,9,-999.000,9,  -999.00,9,   -999.0,0,   -999.0,9,   -999.0,9,  -999.00,9,  -999.0,-999.0000,-999.000,-999.000, 24.3866,-999.000,9
      06MT22_5,   A10,    67,  1,    212,2,19930119,0200,-30.0000,  -4.8617, 4284,     11.0,  24.3890,  35.9040,2,  35.9020,2,   -999.0,9,  -999.00,9,  -999.00,9,  -999.00,9, -999.000,9, -999.000,9, -999.000,9, -999.000,9,-999.0000,9,  -999.00,9,   -999.0,9,-999.000,9,  -999.00,9,   -999.0,0,   -999.0,9,   -999.0,9,  -999.00,9,  -999.0,-999.0000,-999.000,-999.000, 24.3866,-999.000,9
      06MT22_5,   A10,    67,  1,    211,2,19930119,0200,-30.0000,  -4.8617, 4284,     12.0,  24.3760,  35.9040,2,-999.0000,9,   -999.0,9,  -999.00,9,  -999.00,9,  -999.00,9, -999.000,9, -999.000,9, -999.000,9, -999.000,9,   1.6976,2,    -1.11,2,   -999.0,9,   6.771,2,  -999.00,9,   -999.0,0,   -999.0,9,   -999.0,9,  -999.00,9,  -999.0,  0.0068,   0.250,   0.027, 24.3734,-999.000,9
      06MT22_5,   A10,    67,  1,    210,2,19930119,0200,-30.0000,  -4.8617, 4284,     32.0,  19.5080,  35.6770,2,-999.0000,9,    249.8,2,     1.09,2,     0.00,9,     0.16,2, -999.000,9, -999.000,9, -999.000,9, -999.000,9,   1.7226,2,    -1.65,2,   -999.0,9,   7.091,2,  -999.00,9,   -999.0,0,   -999.0,9,   -999.0,9,  -999.00,9,  -999.0,  0.0069,   0.250,   0.028, 19.5022,-999.000,9
      06MT22_5,   A10,    67,  1,    209,2,19930119,0200,-30.0000,  -4.8617, 4284,     52.0,  18.3070,  35.7370,2,  35.7290,2,    249.9,2,     1.23,2,     0.03,9,     0.20,2, -999.000,9, -999.000,9, -999.000,9, -999.000,9,   1.7172,2,    -1.26,2,   -999.0,9,   7.038,2,  -999.00,9,   -999.0,0,   -999.0,9,   -999.0,9,  -999.00,9,  -999.0,  0.0069,   0.250,   0.028, 18.2979,-999.000,9
      06MT22_5,   A10,    67,  1,    208,2,19930119,0200,-30.0000,  -4.8617, 4284,     72.0,  17.1660,  35.6650,2,-999.0000,9,    251.1,2,     1.18,2,     0.01,9,     0.22,2, -999.000,9, -999.000,9, -999.000,9, -999.000,9,   1.7186,2,    -0.21,2,   -999.0,9,   7.042,2,  -999.00,9,   -999.0,0,   -999.0,9,   -999.0,9,  -999.00,9,  -999.0,  0.0069,   0.250,   0.028, 17.1540,-999.000,9
      06MT22_5,   A10,    67,  1,    207,2,19930119,0200,-30.0000,  -4.8617, 4284,    102.0,  16.2850,  35.5860,2,-999.0000,9,    242.8,2,     1.50,2,     0.13,9,     0.28,2, -999.000,9, -999.000,9, -999.000,9, -999.000,9,-999.0000,9,  -999.00,9,   -999.0,9,-999.000,9,  -999.00,9,   -999.0,0,   -999.0,9,   -999.0,9,  -999.00,9,  -999.0,-999.0000,-999.000,-999.000, 16.2686,-999.000,9
      06MT22_5,   A10,    67,  1,    206,2,19930119,0200,-30.0000,  -4.8617, 4284,    151.0,  15.4880,  35.4550,2,  35.4530,2,    236.4,2,     1.59,2,     2.18,9,     0.33,2, -999.000,9, -999.000,9, -999.000,9, -999.000,9,-999.0000,9,  -999.00,9,   -999.0,9,-999.000,9,  -999.00,9,   -999.0,0,   -999.0,9,   -999.0,9,  -999.00,9,  -999.0,-999.0000,-999.000,-999.000, 15.4646,-999.000,9
      06MT22_5,   A10,    67,  1,    205,2,19930119,0200,-30.0000,  -4.8617, 4284,    202.0,  14.5450,  35.2920,2,-999.0000,9,    233.3,2,     2.02,2,     3.96,9,     0.42,2, -999.000,9, -999.000,9, -999.000,9, -999.000,9,-999.0000,9,  -999.00,9,   -999.0,9,-999.000,9,  -999.00,9,   -999.0,0,   -999.0,9,   -999.0,9,  -999.00,9,  -999.0,-999.0000,-999.000,-999.000, 14.5150,-999.000,9
      06MT22_5,   A10,    67,  1,    204,2,19930119,0200,-30.0000,  -4.8617, 4284,    251.0,  13.6680,  35.1830,2,-999.0000,9,    220.8,2,     2.91,2,     7.12,9,     0.57,2, -999.000,9, -999.000,9, -999.000,9, -999.000,9,-999.0000,9,  -999.00,9,   -999.0,9,-999.000,9,  -999.00,9,   -999.0,0,   -999.0,9,   -999.0,9,  -999.00,9,  -999.0,-999.0000,-999.000,-999.000, 13.6322,-999.000,9
      06MT22_5,   A10,    67,  1,    203,2,19930119,0200,-30.0000,  -4.8617, 4284,    302.0,  12.8170,  35.1040,2,  35.1000,2,    216.8,2,     3.85,2,     9.65,9,     0.72,2, -999.000,9, -999.000,9, -999.000,9, -999.000,9,-999.0000,9,  -999.00,9,   -999.0,9,-999.000,9,  -999.00,9,   -999.0,0,   -999.0,9,   -999.0,9,  -999.00,9,  -999.0,-999.0000,-999.000,-999.000, 12.7756,-999.000,9
      06MT22_5,   A10,    67,  1,    202,2,19930119,0200,-30.0000,  -4.8617, 4284,    405.0,  11.0350,  34.9130,2,-999.0000,9,    209.1,2,     5.84,2,    14.69,9,     1.04,2, -999.000,9, -999.000,9, -999.000,9, -999.000,9,-999.0000,9,  -999.00,9,   -999.0,9,-999.000,9,  -999.00,9,   -999.0,0,   -999.0,9,   -999.0,9,  -999.00,9,  -999.0,-999.0000,-999.000,-999.000, 10.9847,-999.000,9
      06MT22_5,   A10,    67,  1,    201,2,19930119,0200,-30.0000,  -4.8617, 4284,    502.0,   9.1640,  34.6980,2,  34.7020,2,    204.4,2,    10.80,2,    19.81,9,     1.38,2, -999.000,9, -999.000,9, -999.000,9, -999.000,9,-999.0000,9,  -999.00,9,   -999.0,9,-999.000,9,  -999.00,9,   -999.0,0,   -999.0,9,   -999.0,9,  -999.00,9,  -999.0,-999.0000,-999.000,-999.000,  9.1081,-999.000,9