BOTTLE,20030417WHPSIOSA
EXPOCODE,SECT_ID,STNNBR,CASTNO,BTLNBR,BTLNBR_FLAG_W,DATE,TIME,LATITUDE,LONGITUDE,DEPTH,CTDPRS,CTDTMP,CTDSAL,CTDSAL_FLAG_W,SALNTY,SALNTY_FLAG_W,OXYGEN,OXYGEN_FLAG_W,SILCAT,SILCAT_FLAG_W,NO2+NO3,NO2+NO3_FLAG_W,PHSPHT,PHSPHT_FLAG_W,CFC-11,CFC-11_FLAG_W,CFC-12,CFC-12_FLAG_W,CCL4,CCL4_FLAG_W,TRITUM,TRITUM_FLAG_W,HELIUM,HELIUM_FLAG_W,DELHE3,DELHE3_FLAG_W,DELC14,DELC14_FLAG_W,NEON,NEON_FLAG_W,O18O16,O18O16_FLAG_W,TCARBN,TCARBN_FLAG_W,PCO2,PCO2_FLAG_W,ALKALI,ALKALI_FLAG_W,PH,PH_FLAG_W,C14ERR,HELIER,DELHER,NEONER,THETA,TRITER,TRITER_FLAG_W
,,,,,,,,,,,DBAR,ITS-90,PSS-78,,PSS-78,,UMOL/KG,,UMOL/KG,,UMOL/KG,,UMOL/KG,,PMOL/KG,,PMOL/KG,,PMOL/KG,,TU,,NMOL/KG,,PERCNT,,/MILLE,,NMOL/KG,,MILLE,,UMOL/KG,,UATM,,UMOL/KG,,,,/MILLE,NMOL/KG,PERCNT,NMOL/KG,ITS-90,TU,
      06MT22_5,   A10,    84,  2,    324,2,19930124,1007,-29.7393,   6.7795, 5209,     11.0,  21.9970,  35.6680,2,  35.6680,2,   -999.0,9,  -999.00,9,  -999.00,9,  -999.00,9, -999.000,9, -999.000,9, -999.000,9, -999.000,9,-999.0000,9,  -999.00,9,   -999.0,9,-999.000,9,  -999.00,9,   -999.0,9,   -999.0,9,   -999.0,9,  -999.00,9,  -999.0,-999.0000,-999.000,-999.000, 21.9948,-999.000,9
      06MT22_5,   A10,    84,  2,    323,2,19930124,1007,-29.7393,   6.7795, 5209,     11.0,  21.9830,  35.6670,2,-999.0000,9,   -999.0,9,  -999.00,9,  -999.00,9,  -999.00,9, -999.000,9, -999.000,9, -999.000,9, -999.000,9,-999.0000,9,  -999.00,9,   -999.0,9,-999.000,9,  -999.00,9,   -999.0,9,   -999.0,9,   -999.0,9,  -999.00,9,  -999.0,-999.0000,-999.000,-999.000, 21.9808,-999.000,9
      06MT22_5,   A10,    84,  2,    322,2,19930124,1007,-29.7393,   6.7795, 5209,     11.0,  21.9800,  35.6660,2,-999.0000,9,   -999.0,9,  -999.00,9,  -999.00,9,  -999.00,9, -999.000,9, -999.000,9, -999.000,9, -999.000,9,-999.0000,9,  -999.00,9,   -999.0,9,-999.000,9,  -999.00,9,   -999.0,9,   -999.0,9,   -999.0,9,  -999.00,9,  -999.0,-999.0000,-999.000,-999.000, 21.9778,-999.000,9
      06MT22_5,   A10,    84,  2,    321,2,19930124,1007,-29.7393,   6.7795, 5209,    999.0,   3.5350,  34.3910,2,  34.3950,2,   -999.0,9,  -999.00,9,  -999.00,9,  -999.00,9,    0.576,2,    0.280,2,    1.344,2, -999.000,9,-999.0000,9,  -999.00,9,   -999.0,9,-999.000,9,  -999.00,9,   -999.0,9,   -999.0,9,   -999.0,9,  -999.00,9,  -999.0,-999.0000,-999.000,-999.000,  3.4632,-999.000,9
      06MT22_5,   A10,    84,  2,    320,2,19930124,1007,-29.7393,   6.7795, 5209,   1199.0,   3.1540,  34.5410,2,-999.0000,9,    181.9,2,    54.04,2,    34.13,9,     2.26,2,    0.116,2,    0.058,2,    0.442,2, -999.000,9,-999.0000,9,  -999.00,9,   -999.0,9,-999.000,9,  -999.00,9,   -999.0,9,   -999.0,9,   -999.0,9,  -999.00,9,  -999.0,-999.0000,-999.000,-999.000,  3.0687,-999.000,9
      06MT22_5,   A10,    84,  2,    319,2,19930124,1007,-29.7393,   6.7795, 5209,   1400.0,   3.1190,  34.6710,2,-999.0000,9,    189.0,2,    51.09,2,    31.77,9,     2.07,2,    0.021,2,    0.009,2,    0.140,2, -999.000,9,-999.0000,9,  -999.00,9,   -999.0,9,-999.000,9,  -999.00,9,   -999.0,9,   -999.0,9,   -999.0,9,  -999.00,9,  -999.0,-999.0000,-999.000,-999.000,  3.0176,-999.000,9
      06MT22_5,   A10,    84,  2,    318,2,19930124,1007,-29.7393,   6.7795, 5209,   1599.0,   3.1340,  34.7760,2,-999.0000,9,    204.0,2,    45.01,2,    28.92,9,     1.88,2, -999.000,9, -999.000,9, -999.000,9, -999.000,9,-999.0000,9,  -999.00,9,   -999.0,9,-999.000,9,  -999.00,9,   -999.0,9,   -999.0,9,   -999.0,9,  -999.00,9,  -999.0,-999.0000,-999.000,-999.000,  3.0155,-999.000,9
      06MT22_5,   A10,    84,  2,    317,2,19930124,1007,-29.7393,   6.7795, 5209,   1799.0,   3.0670,  34.8230,2,  34.8250,2,    215.8,2,    42.46,2,    27.03,9,     1.75,2,    0.002,2,    0.000,2,    0.026,2, -999.000,9,-999.0000,9,  -999.00,9,   -999.0,9,-999.000,9,  -999.00,9,   -999.0,9,   -999.0,9,   -999.0,9,  -999.00,9,  -999.0,-999.0000,-999.000,-999.000,  2.9319,-999.000,9
      06MT22_5,   A10,    84,  2,    316,2,19930124,1007,-29.7393,   6.7795, 5209,   1998.0,   2.9190,  34.8430,2,-999.0000,9,    223.2,2,    43.57,2,    26.15,9,     1.71,2, -999.000,9, -999.000,9, -999.000,9, -999.000,9,-999.0000,9,  -999.00,9,   -999.0,9,-999.000,9,  -999.00,9,   -999.0,9,   -999.0,9,   -999.0,9,  -999.00,9,  -999.0,-999.0000,-999.000,-999.000,  2.7681,-999.000,9
      06MT22_5,   A10,    84,  2,    315,2,19930124,1007,-29.7393,   6.7795, 5209,   2250.0,   2.8370,  34.8670,2,-999.0000,9,    231.1,2,    42.41,2,    25.09,9,     1.59,2,    0.005,2,    0.003,2,    0.009,2, -999.000,9,-999.0000,9,  -999.00,9,   -999.0,9,-999.000,9,  -999.00,9,   -999.0,9,   -999.0,9,   -999.0,9,  -999.00,9,  -999.0,-999.0000,-999.000,-999.000,  2.6642,-999.000,9
      06MT22_5,   A10,    84,  2,    314,2,19930124,1007,-29.7393,   6.7795, 5209,   2502.0,   2.6550,  34.8640,2,-999.0000,9,    232.6,2,    46.29,2,    25.07,9,     1.62,2, -999.000,9, -999.000,9, -999.000,9, -999.000,9,-999.0000,9,  -999.00,9,   -999.0,9,-999.000,9,  -999.00,9,   -999.0,9,   -999.0,9,   -999.0,9,  -999.00,9,  -999.0,-999.0000,-999.000,-999.000,  2.4616,-999.000,9
      06MT22_5,   A10,    84,  2,    313,2,19930124,1007,-29.7393,   6.7795, 5209,   2752.0,   2.4780,  34.8560,2,  34.8560,2,    232.5,2,    51.69,2,    25.35,9,     1.65,2,    0.002,2,    0.002,2,    0.010,2, -999.000,9,-999.0000,9,  -999.00,9,   -999.0,9,-999.000,9,  -999.00,9,   -999.0,9,   -999.0,9,   -999.0,9,  -999.00,9,  -999.0,-999.0000,-999.000,-999.000,  2.2637,-999.000,9
      06MT22_5,   A10,    84,  2,    312,2,19930124,1007,-29.7393,   6.7795, 5209,   3003.0,   2.3940,  34.8590,2,-999.0000,9,    234.2,2,    53.22,2,    25.28,9,     1.62,2, -999.000,9, -999.000,9, -999.000,9, -999.000,9,-999.0000,9,  -999.00,9,   -999.0,9,-999.000,9,  -999.00,9,   -999.0,9,   -999.0,9,   -999.0,9,  -999.00,9,  -999.0,-999.0000,-999.000,-999.000,  2.1564,-999.000,9
      06MT22_5,   A10,    84,  2,    311,2,19930124,1007,-29.7393,   6.7795, 5209,   3254.0,   2.3320,  34.8590,2,-999.0000,9,    234.5,2,    55.18,2,    25.36,9,     1.65,2, -999.000,9, -999.000,9, -999.000,9, -999.000,9,-999.0000,9,  -999.00,9,   -999.0,9,-999.000,9,  -999.00,9,   -999.0,9,   -999.0,9,   -999.0,9,  -999.00,9,  -999.0,-999.0000,-999.000,-999.000,  2.0701,-999.000,9
      06MT22_5,   A10,    84,  2,    310,2,19930124,1007,-29.7393,   6.7795, 5209,   3504.0,   2.2740,  34.8560,2,  34.8570,2,    234.2,2,    57.27,2,    25.63,9,     1.63,2, -999.000,9, -999.000,9, -999.000,9, -999.000,9,-999.0000,9,  -999.00,9,   -999.0,9,-999.000,9,  -999.00,9,   -999.0,9,   -999.0,9,   -999.0,9,  -999.00,9,  -999.0,-999.0000,-999.000,-999.000,  1.9871,-999.000,9
      06MT22_5,   A10,    84,  2,    309,2,19930124,1007,-29.7393,   6.7795, 5209,   3755.0,   2.1620,  34.8460,2,-999.0000,9,   -999.0,9,  -999.00,9,  -999.00,9,  -999.00,9, -999.000,9, -999.000,9, -999.000,9, -999.000,9,-999.0000,9,  -999.00,9,   -999.0,9,-999.000,9,  -999.00,9,   -999.0,9,   -999.0,9,   -999.0,9,  -999.00,9,  -999.0,-999.0000,-999.000,-999.000,  1.8514,-999.000,9
      06MT22_5,   A10,    84,  2,    308,2,19930124,1007,-29.7393,   6.7795, 5209,   4005.0,   1.8420,  34.8100,2,-999.0000,9,    227.4,2,    75.76,2,    27.98,9,     1.83,2, -999.000,9, -999.000,9, -999.000,9, -999.000,9,-999.0000,9,  -999.00,9,   -999.0,9,-999.000,9,  -999.00,9,   -999.0,9,   -999.0,9,   -999.0,9,  -999.00,9,  -999.0,-999.0000,-999.000,-999.000,  1.5126,-999.000,9
      06MT22_5,   A10,    84,  2,    307,2,19930124,1007,-29.7393,   6.7795, 5209,   4257.0,   1.4220,  34.7660,2,-999.0000,9,    221.8,2,    92.81,2,    30.19,9,     1.95,2,    0.001,2,    0.002,2,    0.029,2, -999.000,9,-999.0000,9,  -999.00,9,   -999.0,9,-999.000,9,  -999.00,9,   -999.0,9,   -999.0,9,   -999.0,9,  -999.00,9,  -999.0,-999.0000,-999.000,-999.000,  1.0766,-999.000,9
      06MT22_5,   A10,    84,  2,    306,2,19930124,1007,-29.7393,   6.7795, 5209,   4506.0,   1.1760,  34.7430,2,-999.0000,9,    221.7,2,   102.39,2,    31.38,9,     2.06,2,    0.002,2,    0.002,2,    0.047,2, -999.000,9,-999.0000,9,  -999.00,9,   -999.0,9,-999.000,9,  -999.00,9,   -999.0,9,   -999.0,9,   -999.0,9,  -999.00,9,  -999.0,-999.0000,-999.000,-999.000,  0.8101,-999.000,9
      06MT22_5,   A10,    84,  2,    305,2,19930124,1007,-29.7393,   6.7795, 5209,   4755.0,   1.1700,  34.7400,2,  34.7400,2,    218.5,2,   104.16,2,    31.58,9,     2.07,2,    0.006,2,    0.007,2,    0.053,2, -999.000,9,-999.0000,9,  -999.00,9,   -999.0,9,-999.000,9,  -999.00,9,   -999.0,9,   -999.0,9,   -999.0,9,  -999.00,9,  -999.0,-999.0000,-999.000,-999.000,  0.7756,-999.000,9
      06MT22_5,   A10,    84,  2,    304,2,19930124,1007,-29.7393,   6.7795, 5209,   5006.0,   1.1820,  34.7380,2,-999.0000,9,    220.8,2,   104.87,2,    31.57,9,     2.06,2,    0.006,2,    0.005,2,    0.059,2, -999.000,9,-999.0000,9,  -999.00,9,   -999.0,9,-999.000,9,  -999.00,9,   -999.0,9,   -999.0,9,   -999.0,9,  -999.00,9,  -999.0,-999.0000,-999.000,-999.000,  0.7575,-999.000,9
      06MT22_5,   A10,    84,  2,    303,2,19930124,1007,-29.7393,   6.7795, 5209,   5107.0,   1.1680,  34.7360,2,-999.0000,9,    219.8,2,   105.86,2,    31.63,9,     2.10,2,    0.005,2,    0.003,2,    0.061,2, -999.000,9,-999.0000,9,  -999.00,9,   -999.0,9,-999.000,9,  -999.00,9,   -999.0,9,   -999.0,9,   -999.0,9,  -999.00,9,  -999.0,-999.0000,-999.000,-999.000,  0.7318,-999.000,9
      06MT22_5,   A10,    84,  2,    302,2,19930124,1007,-29.7393,   6.7795, 5209,   5206.0,   1.1730,  34.7350,2,-999.0000,9,   -999.0,9,  -999.00,9,  -999.00,9,  -999.00,9,    0.007,2,    0.003,2,    0.063,2, -999.000,9,-999.0000,9,  -999.00,9,   -999.0,9,-999.000,9,  -999.00,9,   -999.0,9,   -999.0,9,   -999.0,9,  -999.00,9,  -999.0,-999.0000,-999.000,-999.000,  0.7245,-999.000,9
      06MT22_5,   A10,    84,  2,    301,2,19930124,1007,-29.7393,   6.7795, 5209,   5207.0,   1.1730,  34.7340,2,  34.7360,2,    220.5,2,   106.23,2,    31.65,9,     2.10,2,    0.013,2,    0.009,2,    0.070,2, -999.000,9,-999.0000,9,  -999.00,9,   -999.0,9,-999.000,9,  -999.00,9,   -999.0,9,   -999.0,9,   -999.0,9,  -999.00,9,  -999.0,-999.0000,-999.000,-999.000,  0.7244,-999.000,9
      06MT22_5,   A10,    85,  1,    217,2,19930124,1538,-29.7500,   7.5867, 5202,     12.0,  21.9780,  35.6380,2,  35.6460,2,    225.1,2,     0.74,2,     0.03,9,     0.12,2, -999.000,9, -999.000,9, -999.000,9, -999.000,9,-999.0000,9,  -999.00,9,   -999.0,9,-999.000,9,  -999.00,9,   -999.0,0,   -999.0,9,   -999.0,9,  -999.00,9,  -999.0,-999.0000,-999.000,-999.000, 21.9756,-999.000,9
      06MT22_5,   A10,    85,  1,    213,2,19930124,1538,-29.7500,   7.5867, 5202,     12.0,  21.9830,  35.6370,2,  35.6450,2,   -999.0,9,  -999.00,9,  -999.00,9,  -999.00,9,    2.146,2,    1.186,2,    2.672,2,    0.938,2,-999.0000,1,  -999.00,1,   -999.0,9,-999.000,1,  -999.00,9,   2041.5,2,   -999.0,9,   -999.0,9,  -999.00,9,  -999.0,-999.0000,-999.000,-999.000, 21.9806,   0.022,9
      06MT22_5,   A10,    85,  1,    212,2,19930124,1538,-29.7500,   7.5867, 5202,     31.0,  21.5470,  35.5990,2,-999.0000,9,    228.8,2,     0.73,2,     0.00,9,     0.14,2,    2.148,2,    1.182,2,    2.580,2,    1.086,3,   1.7253,2,    -0.95,2,   -999.0,9,   6.971,2,  -999.00,9,   2040.3,2,   -999.0,9,   -999.0,9,  -999.00,9,  -999.0,  0.0060,   0.250,   0.024, 21.5410,   0.473,9
      06MT22_5,   A10,    85,  1,    211,2,19930124,1538,-29.7500,   7.5867, 5202,     52.0,  17.6470,  35.5250,2,-999.0000,9,    262.9,2,     0.86,2,     0.07,9,     0.12,2,    2.652,2,    1.419,2,    2.370,2,    0.955,2,-999.0000,1,  -999.00,1,   -999.0,9,-999.000,1,  -999.00,9,   2036.4,2,   -999.0,9,   -999.0,9,  -999.00,9,  -999.0,-999.0000,-999.000,-999.000, 17.6382,   0.024,9
      06MT22_5,   A10,    85,  1,    210,2,19930124,1538,-29.7500,   7.5867, 5202,     72.0,  15.8580,  35.4700,2,  35.4820,2,    257.2,2,     1.16,2,     0.02,9,     0.17,2,    2.690,2,    1.452,2,    2.051,2,    0.938,2,   1.7480,2,    -1.11,2,   -999.0,9,   7.220,2,  -999.00,9,   2050.9,2,   -999.0,9,   -999.0,9,  -999.00,9,  -999.0,  0.0061,   0.250,   0.025, 15.8467,   0.042,9
      06MT22_5,   A10,    85,  1,    209,2,19930124,1538,-29.7500,   7.5867, 5202,    101.0,  15.2530,  35.4540,2,-999.0000,9,    238.3,2,     2.07,2,     3.21,9,     0.34,2,    2.718,2,    1.452,2,    1.560,2,    0.988,2,   1.8024,2,    -1.67,2,   -999.0,9,   7.398,2,  -999.00,9,   2066.6,2,   -999.0,9,   -999.0,9,  -999.00,9,  -999.0,  0.0063,   0.250,   0.026, 15.2375,   0.024,9
      06MT22_5,   A10,    85,  1,    208,2,19930124,1538,-29.7500,   7.5867, 5202,    151.0,  14.6960,  35.3730,2,-999.0000,9,    238.6,2,     2.11,2,     3.99,9,     0.39,2,    2.718,2,    1.453,2,    1.585,2,    0.910,2,-999.0000,1,  -999.00,1,   -999.0,9,-999.000,1,  -999.00,9,   2070.3,2,   -999.0,9,   -999.0,9,  -999.00,9,  -999.0,-999.0000,-999.000,-999.000, 14.6734,   0.022,9
      06MT22_5,   A10,    85,  1,    207,2,19930124,1538,-29.7500,   7.5867, 5202,    202.0,  13.9100,  35.2330,2,  35.2350,2,    237.0,2,     2.23,2,     5.40,9,     0.48,2,    2.729,2,    1.437,2,    1.656,2, -999.000,9,   1.8042,2,    -0.62,2,   -999.0,9,   7.472,2,  -999.00,9,   2076.2,2,   -999.0,9,   -999.0,9,  -999.00,9,  -999.0,  0.0063,   0.250,   0.026, 13.8809,-999.000,9
      06MT22_5,   A10,    85,  1,    206,2,19930124,1538,-29.7500,   7.5867, 5202,    301.0,  12.2610,  35.0320,2,-999.0000,9,    231.2,2,     3.41,2,     9.69,9,     0.70,2,    2.697,2,    1.408,2,    1.598,2,    0.704,2,-999.0000,1,  -999.00,1,   -999.0,9,-999.000,1,  -999.00,9,   2094.4,2,   -999.0,9,   -999.0,9,  -999.00,9,  -999.0,-999.0000,-999.000,-999.000, 12.2212,   0.018,9
      06MT22_5,   A10,    85,  1,    205,2,19930124,1538,-29.7500,   7.5867, 5202,    401.0,  10.5050,  34.8420,2,-999.0000,9,    215.0,2,     6.43,2,    16.00,9,     1.10,2,    2.129,2,    1.099,2,    1.221,2,    0.544,2,   1.8002,2,    -0.03,2,   -999.0,9,   7.578,2,  -999.00,9,   2119.4,2,   -999.0,9,   -999.0,9,  -999.00,9,  -999.0,  0.0063,   0.250,   0.026, 10.4567,   0.014,9
      06MT22_5,   A10,    85,  1,    204,2,19930124,1538,-29.7500,   7.5867, 5202,    501.0,   8.4600,  34.6170,2,  34.6150,2,    211.8,2,     9.19,2,    21.41,9,     1.43,2, -999.000,9, -999.000,9, -999.000,9,    0.774,3,   1.7882,2,     1.13,2,   -999.0,9,   7.651,2,  -999.00,9,   2139.4,2,   -999.0,9,   -999.0,9,  -999.00,9,  -999.0,  0.0063,   0.250,   0.027,  8.4069,   0.018,9
      06MT22_5,   A10,    85,  1,    203,2,19930124,1538,-29.7500,   7.5867, 5202,    600.0,   6.9460,  34.4770,2,-999.0000,9,    210.7,2,    14.35,2,    25.57,9,     1.72,2,    1.786,2,    0.886,2,    2.042,2,    0.257,2,   1.7592,2,     1.18,2,   -999.0,9,   7.605,2,  -999.00,9,   2155.2,2,   -999.0,9,   -999.0,9,  -999.00,9,  -999.0,  0.0062,   0.250,   0.027,  6.8890,   0.008,9
      06MT22_5,   A10,    85,  1,    202,2,19930124,1538,-29.7500,   7.5867, 5202,    702.0,   5.4960,  34.3630,2,-999.0000,9,    222.3,2,    19.28,2,    28.35,9,     1.88,2,    1.757,2,    0.847,2,    2.512,2, -999.000,9,   1.7743,2,     1.16,2,   -999.0,9,   7.736,2,  -999.00,9,   2164.4,2,   -999.0,9,   -999.0,9,  -999.00,9,  -999.0,  0.0062,   0.250,   0.027,  5.4366,-999.000,9
      06MT22_5,   A10,    85,  1,    201,2,19930124,1538,-29.7500,   7.5867, 5202,    850.0,   4.1780,  34.3350,2,  34.3360,2,    218.1,2,    31.01,2,    31.22,9,     2.09,2,    1.235,2,    0.593,2,    2.206,2,    0.114,2,   1.7721,5,     2.51,3,   -999.0,9,   7.777,5,  -999.00,9,   2186.9,2,   -999.0,9,   -999.0,9,  -999.00,9,  -999.0,  0.0071,   0.250,   0.031,  4.1137,   0.007,9