BOTTLE,20030417WHPSIOSA
EXPOCODE,SECT_ID,STNNBR,CASTNO,BTLNBR,BTLNBR_FLAG_W,DATE,TIME,LATITUDE,LONGITUDE,DEPTH,CTDPRS,CTDTMP,CTDSAL,CTDSAL_FLAG_W,SALNTY,SALNTY_FLAG_W,OXYGEN,OXYGEN_FLAG_W,SILCAT,SILCAT_FLAG_W,NO2+NO3,NO2+NO3_FLAG_W,PHSPHT,PHSPHT_FLAG_W,CFC-11,CFC-11_FLAG_W,CFC-12,CFC-12_FLAG_W,CCL4,CCL4_FLAG_W,TRITUM,TRITUM_FLAG_W,HELIUM,HELIUM_FLAG_W,DELHE3,DELHE3_FLAG_W,DELC14,DELC14_FLAG_W,NEON,NEON_FLAG_W,O18O16,O18O16_FLAG_W,TCARBN,TCARBN_FLAG_W,PCO2,PCO2_FLAG_W,ALKALI,ALKALI_FLAG_W,PH,PH_FLAG_W,C14ERR,HELIER,DELHER,NEONER,THETA,TRITER,TRITER_FLAG_W
,,,,,,,,,,,DBAR,ITS-90,PSS-78,,PSS-78,,UMOL/KG,,UMOL/KG,,UMOL/KG,,UMOL/KG,,PMOL/KG,,PMOL/KG,,PMOL/KG,,TU,,NMOL/KG,,PERCNT,,/MILLE,,NMOL/KG,,MILLE,,UMOL/KG,,UATM,,UMOL/KG,,,,/MILLE,NMOL/KG,PERCNT,NMOL/KG,ITS-90,TU,
      06MT22_5,   A10,    50,  2,    324,2,19930114,1210,-30.0135, -17.0030, 3566,     10.0,  22.8040,  35.7540,2,-999.0000,9,   -999.0,9,  -999.00,9,  -999.00,9,  -999.00,9, -999.000,9, -999.000,9, -999.000,9, -999.000,9,-999.0000,9,  -999.00,9,   -999.0,9,-999.000,9,  -999.00,9,   -999.0,9,   -999.0,9,   -999.0,9,  -999.00,9,  -999.0,-999.0000,-999.000,-999.000, 22.8020,-999.000,9
      06MT22_5,   A10,    50,  2,    323,2,19930114,1210,-30.0135, -17.0030, 3566,    300.0,  13.5570,  35.2860,2,  35.2890,2,   -999.0,9,  -999.00,9,  -999.00,9,  -999.00,9, -999.000,9, -999.000,9, -999.000,9, -999.000,9,-999.0000,9,  -999.00,9,   -999.0,9,-999.000,9,  -999.00,9,   -999.0,9,   -999.0,9,   -999.0,9,  -999.00,9,  -999.0,-999.0000,-999.000,-999.000, 13.5143,-999.000,9
      06MT22_5,   A10,    50,  2,    322,2,19930114,1210,-30.0135, -17.0030, 3566,    400.0,  11.7490,  35.0350,2,-999.0000,9,    213.8,2,     4.23,2,    12.66,9,     0.91,2,    2.268,2,    1.194,2,    0.954,2,    0.628,2,   1.7360,6,     0.49,2,   -999.0,9,   7.307,6,  -999.00,9,   2114.8,2,   -999.0,9,   -999.0,9,  -999.00,9,  -999.0,  0.0069,   0.250,   0.029, 11.6972,   0.041,9
      06MT22_5,   A10,    50,  2,    321,2,19930114,1210,-30.0135, -17.0030, 3566,    500.0,   9.3580,  34.7320,2,  34.7330,2,    211.3,2,     7.43,2,    18.91,9,     1.34,2,    1.965,2,    1.007,2,    1.349,2,    0.416,2,   1.7306,7,     0.70,2,   -999.0,9,   7.406,7,  -999.00,9,   2135.1,2,   -999.0,9,   -999.0,9,  -999.00,9,  -999.0,  0.0069,   0.250,   0.030,  9.3016,   0.011,9
      06MT22_5,   A10,    50,  2,    320,2,19930114,1210,-30.0135, -17.0030, 3566,    600.0,   7.4880,  34.5250,2,-999.0000,9,   -999.0,9,  -999.00,9,  -999.00,9,  -999.00,9, -999.000,9, -999.000,9, -999.000,9, -999.000,9,-999.0000,9,  -999.00,9,   -999.0,9,-999.000,9,  -999.00,9,   -999.0,9,   -999.0,9,   -999.0,9,  -999.00,9,  -999.0,-999.0000,-999.000,-999.000,  7.4286,-999.000,9
      06MT22_5,   A10,    50,  2,    319,2,19930114,1210,-30.0135, -17.0030, 3566,    700.0,   5.8090,  34.3730,2,-999.0000,9,    224.5,2,    14.86,2,    26.56,9,     1.82,2,    1.684,2,    0.853,2,    2.419,2,    0.223,2,   1.7507,7,     0.71,2,   -999.0,9,   7.647,7,  -999.00,9,   2158.7,2,   -999.0,9,   -999.0,9,  -999.00,9,  -999.0,  0.0070,   0.250,   0.031,  5.7481,   0.007,9
      06MT22_5,   A10,    50,  2,    318,2,19930114,1210,-30.0135, -17.0030, 3566,    800.0,   5.0490,  34.3370,2,-999.0000,9,    223.3,2,    19.96,2,    28.78,9,     1.95,2,    1.375,2,    0.682,2,    2.333,2,    0.172,2,   2.0371,4,     1.08,3,   -999.0,9,   7.920,4,  -999.00,9,   2169.7,2,   -999.0,9,   -999.0,9,  -999.00,9,  -999.0,  0.0071,   0.250,   0.028,  4.9835,   0.007,9
      06MT22_5,   A10,    50,  2,    317,2,19930114,1210,-30.0135, -17.0030, 3566,    900.0,   4.0770,  34.2930,2,  34.2960,2,    271.1,2,    26.04,2,    30.47,9,     2.11,2,    1.166,2,    0.592,2,    2.294,2,    0.087,2,   1.9965,4,     1.82,3,   -999.0,9,   7.823,7,  -999.00,9,   2180.1,2,   -999.0,9,   -999.0,9,  -999.00,9,  -999.0,  0.0070,   0.250,   0.027,  4.0094,   0.036,9
      06MT22_5,   A10,    50,  2,    316,2,19930114,1210,-30.0135, -17.0030, 3566,    999.0,   3.6970,  34.3250,2,-999.0000,9,    215.3,2,    33.16,2,    31.82,9,     2.19,2,    0.789,2,    0.417,2,    1.783,2,    0.082,2,-999.0000,1,  -999.00,1,   -999.0,9,-999.000,1,  -999.00,9,   2194.3,2,   -999.0,9,   -999.0,9,  -999.00,9,  -999.0,-999.0000,-999.000,-999.000,  3.6237,   0.015,9
      06MT22_5,   A10,    50,  2,    315,2,19930114,1210,-30.0135, -17.0030, 3566,   1200.0,   3.1320,  34.4250,2,-999.0000,9,   -999.0,9,  -999.00,9,  -999.00,9,  -999.00,9, -999.000,9, -999.000,9, -999.000,9, -999.000,9,-999.0000,9,  -999.00,9,   -999.0,9,-999.000,9,  -999.00,9,   -999.0,9,   -999.0,9,   -999.0,9,  -999.00,9,  -999.0,-999.0000,-999.000,-999.000,  3.0473,-999.000,9
      06MT22_5,   A10,    50,  2,    314,2,19930114,1210,-30.0135, -17.0030, 3566,   1400.0,   2.8670,  34.5550,2,  34.5620,2,    191.3,2,    54.91,2,    32.80,9,     2.25,2,    0.100,2,    0.026,2,    0.468,2,    0.018,2,   1.9269,4,     6.21,3,   -999.0,9,   7.940,7,  -999.00,9,   2228.3,2,   -999.0,9,   -999.0,9,  -999.00,9,  -999.0,  0.0067,   0.250,   0.028,  2.7689,   0.003,9
      06MT22_5,   A10,    50,  2,    313,2,19930114,1210,-30.0135, -17.0030, 3566,   1600.0,   2.8000,  34.6680,2,-999.0000,9,    196.7,2,    55.74,2,    31.02,9,     2.11,2,    0.027,2,    0.004,2,    0.180,2, -999.000,9,   1.9854,4,     6.80,3,   -999.0,9,   8.140,4,  -999.00,9,   2225.8,2,   -999.0,9,   -999.0,9,  -999.00,9,  -999.0,  0.0069,   0.250,   0.029,  2.6856,-999.000,9
      06MT22_5,   A10,    50,  2,    312,2,19930114,1210,-30.0135, -17.0030, 3566,   1799.0,   2.7060,  34.7520,2,-999.0000,9,    208.9,2,    53.06,2,    28.81,9,     1.94,2,    0.015,2,    0.002,2,    0.101,2,    0.005,2,   1.8292,2,     5.82,2,   -999.0,9,   7.928,2,  -999.00,9,   2217.3,2,   -999.0,9,   -999.0,9,  -999.00,9,  -999.0,  0.0064,   0.250,   0.028,  2.5759,   0.006,9
      06MT22_5,   A10,    50,  2,    311,2,19930114,1210,-30.0135, -17.0030, 3566,   2001.0,   2.6450,  34.7990,2,  34.8000,2,    220.5,2,    50.19,2,    27.12,9,     1.80,2,    0.010,2,    0.009,4,    0.046,2,    0.009,2,-999.0000,1,  -999.00,1,   -999.0,9,-999.000,1,  -999.00,9,   2208.7,2,   -999.0,9,   -999.0,9,  -999.00,9,  -999.0,-999.0000,-999.000,-999.000,  2.4981,   0.009,9
      06MT22_5,   A10,    50,  2,    310,2,19930114,1210,-30.0135, -17.0030, 3566,   2250.0,   2.6030,  34.8290,2,-999.0000,9,    227.2,2,  -999.00,9,    26.02,9,     1.74,2,    0.006,2,    0.003,2,    0.029,2, -999.000,9,   1.9466,4,     6.54,3,   -999.0,9,   8.131,4,  -999.00,9,   2203.0,2,   -999.0,9,   -999.0,9,  -999.00,9,  -999.0,  0.0068,   0.250,   0.029,  2.4341,-999.000,9
      06MT22_5,   A10,    50,  2,    309,2,19930114,1210,-30.0135, -17.0030, 3566,   2501.0,   2.6170,  34.8520,2,-999.0000,9,    233.4,2,    45.79,2,    25.00,9,     1.65,2,    0.005,2,    0.006,4,    0.023,2,    0.012,2,   1.8390,4,     5.65,3,   -999.0,9,   7.914,7,  -999.00,9,   2198.0,2,   -999.0,9,   -999.0,9,  -999.00,9,  -999.0,  0.0064,   0.250,   0.028,  2.4243,   0.011,9
      06MT22_5,   A10,    50,  2,    308,2,19930114,1210,-30.0135, -17.0030, 3566,   2753.0,   2.5640,  34.8600,2,  34.8610,2,    236.7,2,    45.87,2,    24.40,9,     1.62,2,    0.013,4,    0.008,4,    0.056,4,    0.005,2,   1.8212,2,     5.42,2,   -999.0,9,   7.904,2,  -999.00,9,   2195.7,2,   -999.0,9,   -999.0,9,  -999.00,9,  -999.0,  0.0064,   0.250,   0.055,  2.3479,   0.017,9
      06MT22_5,   A10,    50,  2,    307,2,19930114,1210,-30.0135, -17.0030, 3566,   2852.0,   2.6440,  34.8850,2,  34.8850,2,    246.0,2,  -999.00,9,  -999.00,9,  -999.00,9,    0.001,2,    0.006,4,    0.000,2,    0.022,2,   1.8230,2,     5.36,2,   -999.0,9,   7.961,2,  -999.00,9,   2188.9,2,   -999.0,9,   -999.0,9,  -999.00,9,  -999.0,  0.0064,   0.250,   0.028,  2.4162,   0.009,9
      06MT22_5,   A10,    50,  2,    306,2,19930114,1210,-30.0135, -17.0030, 3566,   3003.0,   2.5140,  34.8700,2,-999.0000,9,    241.6,2,    45.80,2,    24.00,9,     1.62,2,    0.001,2,    0.004,4,    0.007,2,    0.009,2,   1.9024,4,     5.02,3,   -999.0,9,   8.128,4,  -999.00,9,   2212.2,2,   -999.0,9,   -999.0,9,  -999.00,9,  -999.0,  0.0067,   0.250,   0.028,  2.2738,   0.005,9
      06MT22_5,   A10,    50,  2,    305,2,19930114,1210,-30.0135, -17.0030, 3566,   3253.0,   2.3580,  34.8690,2,-999.0000,9,    244.6,2,    49.02,2,    24.05,9,     1.60,2,    0.001,2,    0.003,2,    0.001,2,    0.008,2,   1.8279,5,     5.21,3,   -999.0,9,   7.964,5,  -999.00,9,   2197.0,2,   -999.0,9,   -999.0,9,  -999.00,9,  -999.0,  0.0073,   0.250,   0.032,  2.0955,   0.026,9
      06MT22_5,   A10,    50,  2,    304,2,19930114,1210,-30.0135, -17.0030, 3566,   3506.0,   2.1470,  34.8560,2,  34.8710,2,    244.0,2,    55.86,2,    24.68,9,     1.66,2,    0.001,2,    0.003,2,    0.001,2,    0.007,2,   1.8328,2,     3.95,2,   -999.0,9,   8.006,2,  -999.00,9,   2202.3,2,   -999.0,9,   -999.0,9,  -999.00,9,  -999.0,  0.0064,   0.250,   0.028,  1.8629,   0.002,9
      06MT22_5,   A10,    50,  2,    303,2,19930114,1210,-30.0135, -17.0030, 3566,   3605.0,   2.1390,  34.8530,2,-999.0000,9,    246.1,2,    56.43,2,    24.66,9,     1.64,2,    0.000,2,    0.004,2,    0.002,2,    0.039,2,   1.8350,2,     4.88,2,   -999.0,9,   8.014,2,  -999.00,9,   2203.4,2,   -999.0,9,   -999.0,9,  -999.00,9,  -999.0,  0.0064,   0.250,   0.028,  1.8446,   0.007,9
      06MT22_5,   A10,    50,  2,    301,2,19930114,1210,-30.0135, -17.0030, 3566,   3650.0,   2.1480,  34.8540,2,-999.0000,9,   -999.0,9,  -999.00,9,  -999.00,9,  -999.00,9,    0.005,2,    0.014,4,    0.005,2, -999.000,9,-999.0000,9,  -999.00,9,   -999.0,9,-999.000,9,  -999.00,9,   2202.8,2,   -999.0,9,   -999.0,9,  -999.00,9,  -999.0,-999.0000,-999.000,-999.000,  1.8432,-999.000,9
      06MT22_5,   A10,    50,  2,    302,2,19930114,1210,-30.0135, -17.0030, 3566,   3653.0,   2.1480,  34.8540,2,  34.8560,2,    286.4,2,    56.36,2,    24.69,9,     1.65,2,    0.000,2,    0.007,2,    0.002,2, -999.000,9,   1.8297,2,     4.27,2,   -999.0,9,   7.957,2,  -999.00,9,   -999.0,9,   -999.0,9,   -999.0,9,  -999.00,9,  -999.0,  0.0064,   0.250,   0.028,  1.8482,-999.000,9
      06MT22_5,   A10,    51,  1,    217,2,19930114,1632,-30.0000, -16.3333, 3512,     12.0,  23.4440,  35.7310,2,  35.7370,2,    222.8,2,     0.65,2,     0.11,9,     0.16,2, -999.000,9, -999.000,9, -999.000,9, -999.000,9,-999.0000,9,  -999.00,9,   -999.0,9,-999.000,9,  -999.00,9,   -999.0,0,   -999.0,9,   -999.0,9,  -999.00,9,  -999.0,-999.0000,-999.000,-999.000, 23.4415,-999.000,9
      06MT22_5,   A10,    51,  1,    208,2,19930114,1632,-30.0000, -16.3333, 3512,     12.0,  23.4440,  35.7300,2,-999.0000,9,   -999.0,9,  -999.00,9,  -999.00,9,  -999.00,9, -999.000,9, -999.000,9, -999.000,9, -999.000,9,-999.0000,9,  -999.00,9,   -999.0,9,-999.000,9,  -999.00,9,   -999.0,0,   -999.0,9,   -999.0,9,  -999.00,9,  -999.0,-999.0000,-999.000,-999.000, 23.4415,-999.000,9
      06MT22_5,   A10,    51,  1,    207,2,19930114,1632,-30.0000, -16.3333, 3512,     30.0,  22.5940,  35.7070,2,-999.0000,9,    225.2,2,     0.60,2,     0.00,9,     0.17,2, -999.000,9, -999.000,9, -999.000,9, -999.000,9,-999.0000,9,  -999.00,9,   -999.0,9,-999.000,9,  -999.00,9,   -999.0,0,   -999.0,9,   -999.0,9,  -999.00,9,  -999.0,-999.0000,-999.000,-999.000, 22.5879,-999.000,9
      06MT22_5,   A10,    51,  1,    206,2,19930114,1632,-30.0000, -16.3333, 3512,     51.0,  18.2620,  35.5680,2,  35.5750,2,    248.6,2,     0.60,2,     0.01,9,     0.20,2, -999.000,9, -999.000,9, -999.000,9, -999.000,9,-999.0000,9,  -999.00,9,   -999.0,9,-999.000,9,  -999.00,9,   -999.0,0,   -999.0,9,   -999.0,9,  -999.00,9,  -999.0,-999.0000,-999.000,-999.000, 18.2531,-999.000,9
      06MT22_5,   A10,    51,  1,    205,2,19930114,1632,-30.0000, -16.3333, 3512,     70.0,  17.6710,  35.5860,2,-999.0000,9,    251.3,2,     0.77,2,     0.03,9,     0.20,2, -999.000,9, -999.000,9, -999.000,9, -999.000,9,-999.0000,9,  -999.00,9,   -999.0,9,-999.000,9,  -999.00,9,   -999.0,0,   -999.0,9,   -999.0,9,  -999.00,9,  -999.0,-999.0000,-999.000,-999.000, 17.6591,-999.000,9
      06MT22_5,   A10,    51,  1,    204,2,19930114,1632,-30.0000, -16.3333, 3512,    101.0,  16.4480,  35.4950,2,-999.0000,9,    250.2,2,     0.72,2,     0.04,9,     0.22,2, -999.000,9, -999.000,9, -999.000,9, -999.000,9,-999.0000,9,  -999.00,9,   -999.0,9,-999.000,9,  -999.00,9,   -999.0,0,   -999.0,9,   -999.0,9,  -999.00,9,  -999.0,-999.0000,-999.000,-999.000, 16.4317,-999.000,9
      06MT22_5,   A10,    51,  1,    203,2,19930114,1632,-30.0000, -16.3333, 3512,    151.0,  15.2800,  35.3860,2,  35.3940,2,    232.1,2,     1.89,2,     2.12,9,     0.37,2, -999.000,9, -999.000,9, -999.000,9, -999.000,9,-999.0000,9,  -999.00,9,   -999.0,9,-999.000,9,  -999.00,9,   -999.0,0,   -999.0,9,   -999.0,9,  -999.00,9,  -999.0,-999.0000,-999.000,-999.000, 15.2568,-999.000,9
      06MT22_5,   A10,    51,  1,    202,2,19930114,1632,-30.0000, -16.3333, 3512,    201.0,  14.0540,  35.2670,2,-999.0000,9,    218.3,2,     2.37,2,     6.36,9,     0.60,2, -999.000,9, -999.000,9, -999.000,9, -999.000,9,-999.0000,9,  -999.00,9,   -999.0,9,-999.000,9,  -999.00,9,   -999.0,0,   -999.0,9,   -999.0,9,  -999.00,9,  -999.0,-999.0000,-999.000,-999.000, 14.0248,-999.000,9
      06MT22_5,   A10,    51,  1,    201,2,19930114,1632,-30.0000, -16.3333, 3512,    301.0,  12.2210,  35.0780,2,  35.0890,2,    213.9,2,     3.82,2,    11.27,9,     0.87,2, -999.000,9, -999.000,9, -999.000,9, -999.000,9,-999.0000,9,  -999.00,9,   -999.0,9,-999.000,9,  -999.00,9,   -999.0,0,   -999.0,9,   -999.0,9,  -999.00,9,  -999.0,-999.0000,-999.000,-999.000, 12.1811,-999.000,9