BOTTLE,20030417WHPSIOSA
EXPOCODE,SECT_ID,STNNBR,CASTNO,BTLNBR,BTLNBR_FLAG_W,DATE,TIME,LATITUDE,LONGITUDE,DEPTH,CTDPRS,CTDTMP,CTDSAL,CTDSAL_FLAG_W,SALNTY,SALNTY_FLAG_W,OXYGEN,OXYGEN_FLAG_W,SILCAT,SILCAT_FLAG_W,NO2+NO3,NO2+NO3_FLAG_W,PHSPHT,PHSPHT_FLAG_W,CFC-11,CFC-11_FLAG_W,CFC-12,CFC-12_FLAG_W,CCL4,CCL4_FLAG_W,TRITUM,TRITUM_FLAG_W,HELIUM,HELIUM_FLAG_W,DELHE3,DELHE3_FLAG_W,DELC14,DELC14_FLAG_W,NEON,NEON_FLAG_W,O18O16,O18O16_FLAG_W,TCARBN,TCARBN_FLAG_W,PCO2,PCO2_FLAG_W,ALKALI,ALKALI_FLAG_W,PH,PH_FLAG_W,C14ERR,HELIER,DELHER,NEONER,THETA,TRITER,TRITER_FLAG_W
,,,,,,,,,,,DBAR,ITS-90,PSS-78,,PSS-78,,UMOL/KG,,UMOL/KG,,UMOL/KG,,UMOL/KG,,PMOL/KG,,PMOL/KG,,PMOL/KG,,TU,,NMOL/KG,,PERCNT,,/MILLE,,NMOL/KG,,MILLE,,UMOL/KG,,UATM,,UMOL/KG,,,,/MILLE,NMOL/KG,PERCNT,NMOL/KG,ITS-90,TU,
      06MT22_5,   A10,    89,  2,    323,2,19930126,0527,-29.7487,  10.9802, 4296,     10.0,  21.2310,  35.6290,2,  35.6350,2,   -999.0,9,  -999.00,9,  -999.00,9,  -999.00,9, -999.000,9, -999.000,9, -999.000,9, -999.000,9,-999.0000,9,  -999.00,9,   -999.0,9,-999.000,9,  -999.00,9,   -999.0,0,   -999.0,9,   -999.0,9,  -999.00,9,  -999.0,-999.0000,-999.000,-999.000, 21.2291,-999.000,9
      06MT22_5,   A10,    89,  2,    322,2,19930126,0527,-29.7487,  10.9802, 4296,    600.0,   6.4570,  34.4560,2,-999.0000,9,   -999.0,9,  -999.00,9,  -999.00,9,  -999.00,9,    1.559,2,    0.753,2,    2.059,2, -999.000,9,-999.0000,9,  -999.00,9,   -999.0,9,-999.000,9,  -999.00,9,   -999.0,0,   -999.0,9,   -999.0,9,  -999.00,9,  -999.0,-999.0000,-999.000,-999.000,  6.4022,-999.000,9
      06MT22_5,   A10,    89,  2,    321,2,19930126,0527,-29.7487,  10.9802, 4296,    700.0,   4.8300,  34.3330,2,  34.3500,2,   -999.0,9,  -999.00,9,  -999.00,9,  -999.00,9, -999.000,9, -999.000,9, -999.000,9, -999.000,9,-999.0000,9,  -999.00,9,   -999.0,9,-999.000,9,  -999.00,9,   -999.0,0,   -999.0,9,   -999.0,9,  -999.00,9,  -999.0,-999.0000,-999.000,-999.000,  4.7743,-999.000,9
      06MT22_5,   A10,    89,  2,    320,2,19930126,0527,-29.7487,  10.9802, 4296,    849.0,   3.8060,  34.3310,2,-999.0000,9,    213.2,2,    34.43,2,    31.85,9,     2.14,2,    1.030,2,    0.500,2,    2.033,2,    0.103,2,-999.0000,1,  -999.00,1,   -999.0,9,-999.000,1,  -999.00,9,   2192.4,2,   -999.0,9,   -999.0,9,  -999.00,9,  -999.0,-999.0000,-999.000,-999.000,  3.7439,   0.006,9
      06MT22_5,   A10,    89,  2,    319,2,19930126,0527,-29.7487,  10.9802, 4296,    999.0,   3.3220,  34.4280,2,-999.0000,9,    190.4,2,    49.70,2,    33.91,9,     2.28,2,    0.418,2,    0.206,2,    1.079,2,    0.047,2,-999.0000,1,  -999.00,1,   -999.0,9,-999.000,1,  -999.00,9,   2219.7,2,   -999.0,9,   -999.0,9,  -999.00,9,  -999.0,-999.0000,-999.000,-999.000,  3.2516,   0.004,9
      06MT22_5,   A10,    89,  2,    318,2,19930126,0527,-29.7487,  10.9802, 4296,   1199.0,   3.0180,  34.5550,2,  34.5530,2,    180.4,2,    58.47,2,    33.70,9,     2.26,2,    0.107,2,    0.050,2,    0.437,2,    0.022,2,-999.0000,1,  -999.00,1,   -999.0,9,-999.000,1,  -999.00,9,   2232.1,2,   -999.0,9,   -999.0,9,  -999.00,9,  -999.0,-999.0000,-999.000,-999.000,  2.9345,   0.004,9
      06MT22_5,   A10,    89,  2,    317,2,19930126,0527,-29.7487,  10.9802, 4296,   1400.0,   3.0110,  34.6870,2,-999.0000,9,    189.5,2,    53.64,2,    31.37,9,     2.06,2,    0.021,2,    0.006,2,    0.130,2,    0.012,2,-999.0000,1,  -999.00,1,   -999.0,9,-999.000,1,  -999.00,9,   2223.6,2,   -999.0,9,   -999.0,9,  -999.00,9,  -999.0,-999.0000,-999.000,-999.000,  2.9107,   0.003,9
      06MT22_5,   A10,    89,  2,    399,2,19930126,0527,-29.7487,  10.9802, 4296,   1600.0,   3.0720,  34.7750,2,-999.0000,9,   -999.0,9,  -999.00,9,  -999.00,9,  -999.00,9, -999.000,9, -999.000,9, -999.000,9, -999.000,9,-999.0000,9,  -999.00,9,   -999.0,9,-999.000,9,  -999.00,9,   -999.0,0,   -999.0,9,   -999.0,9,  -999.00,9,  -999.0,-999.0000,-999.000,-999.000,  2.9542,-999.000,9
      06MT22_5,   A10,    89,  2,    316,2,19930126,0527,-29.7487,  10.9802, 4296,   1800.0,   3.0260,  34.8200,2,  34.8220,2,    213.7,2,    43.99,2,    27.13,9,     1.76,2,    0.001,2,    0.000,2,    0.028,2,    0.011,2,   1.8399,7,     4.82,2,   -999.0,9,   7.913,7,  -999.00,9,   2203.2,2,   -999.0,9,   -999.0,9,  -999.00,9,  -999.0,  0.0064,   0.250,   0.028,  2.8914,   0.003,9
      06MT22_5,   A10,    89,  2,    315,2,19930126,0527,-29.7487,  10.9802, 4296,   2001.0,   2.8870,  34.8400,2,-999.0000,9,    219.1,2,    45.02,2,    26.33,9,     1.69,2,    0.012,3,    0.002,2,    0.019,2,    0.013,2,   1.8132,2,     5.54,3,   -999.0,9,   7.978,7,  -999.00,9,   2201.0,2,   -999.0,9,   -999.0,9,  -999.00,9,  -999.0,  0.0063,   0.250,   0.028,  2.7363,   0.018,9
      06MT22_5,   A10,    89,  2,    314,2,19930126,0527,-29.7487,  10.9802, 4296,   2251.0,   2.7420,  34.8550,2,-999.0000,9,    227.6,2,    46.10,2,    25.49,9,     1.65,2,    0.007,4,    0.001,2,    0.017,2,    0.015,2,   1.8274,2,     5.19,2,   -999.0,9,   7.928,2,  -999.00,9,   2198.1,2,   -999.0,9,   -999.0,9,  -999.00,9,  -999.0,  0.0064,   0.250,   0.028,  2.5707,   0.070,9
      06MT22_5,   A10,    89,  2,    313,2,19930126,0527,-29.7487,  10.9802, 4296,   2502.0,   2.5830,  34.8540,2,  34.8540,2,    229.2,2,    49.40,2,    25.30,9,     1.63,2,    0.003,2,    0.000,2,    0.015,2,    0.012,2,   1.8185,2,     5.61,2,   -999.0,9,   7.949,2,  -999.00,9,   2198.9,2,   -999.0,9,   -999.0,9,  -999.00,9,  -999.0,  0.0064,   0.250,   0.028,  2.3909,   0.003,9
      06MT22_5,   A10,    89,  2,    312,2,19930126,0527,-29.7487,  10.9802, 4296,   2701.0,   2.5090,  34.8580,2,-999.0000,9,    232.3,2,    50.44,2,    25.07,9,     1.65,2,    0.004,2,    0.000,2,    0.009,2,    0.018,2,   1.7288,3,     4.75,2,   -999.0,9,   7.620,3,  -999.00,9,   2200.0,2,   -999.0,9,   -999.0,9,  -999.00,9,  -999.0,  0.0061,   0.250,   0.027,  2.2991,   0.026,9
      06MT22_5,   A10,    89,  2,    311,2,19930126,0527,-29.7487,  10.9802, 4296,   2802.0,   2.4710,  34.8590,2,-999.0000,9,    235.9,2,    50.99,2,    25.00,9,     1.65,2,    0.002,2,    0.001,2,    0.007,2,    0.007,2,   1.8234,2,     5.05,2,   -999.0,9,   8.024,2,  -999.00,9,   2200.1,2,   -999.0,9,   -999.0,9,  -999.00,9,  -999.0,  0.0064,   0.250,   0.028,  2.2519,   0.005,9
      06MT22_5,   A10,    89,  2,    310,2,19930126,0527,-29.7487,  10.9802, 4296,   2902.0,   2.4360,  34.8590,2,  34.8590,2,    232.9,2,    51.71,2,    24.93,9,     1.64,2,    0.000,2,    0.001,2,    0.005,2,    0.084,4,   1.8207,2,     5.62,2,   -999.0,9,   7.982,2,  -999.00,9,   -999.0,0,   -999.0,9,   -999.0,9,  -999.00,9,  -999.0,  0.0064,   0.250,   0.028,  2.2077,   0.240,9
      06MT22_5,   A10,    89,  2,    309,2,19930126,0527,-29.7487,  10.9802, 4296,   3003.0,   2.4020,  34.8590,2,-999.0000,9,    233.3,2,    52.74,2,    24.98,9,     1.61,2,    0.002,2,    0.001,2,    0.007,2,    0.008,2,   1.8172,2,     5.19,2,   -999.0,9,   7.985,2,  -999.00,9,   2202.3,2,   -999.0,9,   -999.0,9,  -999.00,9,  -999.0,  0.0064,   0.250,   0.028,  2.1643,   0.002,9
      06MT22_5,   A10,    89,  2,    308,2,19930126,0527,-29.7487,  10.9802, 4296,   3103.0,   2.3740,  34.8590,2,-999.0000,9,    233.4,2,    53.46,2,    24.98,9,     1.62,2, -999.000,9, -999.000,9, -999.000,9,    0.004,2,   1.8176,2,     4.46,2,   -999.0,9,   8.037,7,  -999.00,9,   2203.7,2,   -999.0,9,   -999.0,9,  -999.00,9,  -999.0,  0.0064,   0.250,   0.028,  2.1267,   0.002,9
      06MT22_5,   A10,    89,  2,    307,2,19930126,0527,-29.7487,  10.9802, 4296,   3252.0,   2.3340,  34.8570,2,  34.8570,2,    232.7,2,    55.01,2,    25.02,9,     1.66,2,    0.001,2,    0.001,2,    0.003,2,    0.008,2,-999.0000,1,  -999.00,1,   -999.0,9,-999.000,1,  -999.00,9,   2203.4,2,   -999.0,9,   -999.0,9,  -999.00,9,  -999.0,-999.0000,-999.000,-999.000,  2.0722,   0.003,9
      06MT22_5,   A10,    89,  2,    306,2,19930126,0527,-29.7487,  10.9802, 4296,   3504.0,   2.2670,  34.8550,2,-999.0000,9,    232.3,2,    57.54,2,    25.27,9,     1.63,2,    0.000,2,    0.001,2,    0.004,2, -999.000,9,   1.8154,2,     4.92,2,   -999.0,9,   8.012,2,  -999.00,9,   2208.5,2,   -999.0,9,   -999.0,9,  -999.00,9,  -999.0,  0.0064,   0.250,   0.028,  1.9805,-999.000,9
      06MT22_5,   A10,    89,  2,    305,2,19930126,0527,-29.7487,  10.9802, 4296,   3756.0,   2.1030,  34.8380,2,-999.0000,9,    229.9,2,    64.70,2,    26.19,9,     1.70,2,   -0.001,2,    0.000,2,    0.004,2,   -1.768,4,   1.8194,2,     5.47,2,   -999.0,9,   8.054,2,  -999.00,9,   2214.8,2,   -999.0,9,   -999.0,9,  -999.00,9,  -999.0,  0.0064,   0.250,   0.028,  1.7935,   0.378,9
      06MT22_5,   A10,    89,  2,    304,2,19930126,0527,-29.7487,  10.9802, 4296,   3992.0,   1.7880,  34.8020,2,  34.8040,2,    224.7,2,    78.13,2,    27.86,9,     1.83,2,    0.000,2,    0.000,2,    0.009,2, -999.000,9,   1.8288,2,     5.72,2,   -999.0,9,   8.051,2,  -999.00,9,   2228.0,2,   -999.0,9,   -999.0,9,  -999.00,9,  -999.0,  0.0064,   0.250,   0.028,  1.4611,-999.000,9
      06MT22_5,   A10,    89,  2,    303,2,19930126,0527,-29.7487,  10.9802, 4296,   4256.0,   1.2900,  34.7540,2,-999.0000,9,    216.9,2,    98.43,2,    30.67,9,     2.02,2,    0.002,2,   -0.001,2,    0.024,2,    0.008,2,   1.8413,2,     7.09,2,   -999.0,9,   8.155,2,  -999.00,9,   2249.1,2,   -999.0,9,   -999.0,9,  -999.00,9,  -999.0,  0.0064,   0.250,   0.029,  0.9487,   0.017,9
      06MT22_5,   A10,    89,  2,    302,2,19930126,0527,-29.7487,  10.9802, 4296,   4326.0,   1.1170,  34.7370,2,  34.7370,2,   -999.0,9,  -999.00,9,  -999.00,9,  -999.00,9, -999.000,9, -999.000,9, -999.000,9,   -1.636,4,-999.0000,1,  -999.00,1,   -999.0,9,-999.000,1,  -999.00,9,   -999.0,0,   -999.0,9,   -999.0,9,  -999.00,9,  -999.0,-999.0000,-999.000,-999.000,  0.7731,   1.045,9
      06MT22_5,   A10,    89,  2,    301,2,19930126,0527,-29.7487,  10.9802, 4296,   4327.0,   1.1170,  34.7370,2,-999.0000,9,    215.1,2,   105.35,2,    31.52,9,     2.08,2,    0.005,2,    0.001,2,    0.045,2,    0.009,2,-999.0000,1,  -999.00,1,   -999.0,9,-999.000,1,  -999.00,9,   2257.7,2,   -999.0,9,   -999.0,9,  -999.00,9,  -999.0,-999.0000,-999.000,-999.000,  0.7668,   0.002,9
      06MT22_5,   A10,    90,  1,    324,2,19930126,1300,-29.7500,  11.4083, 4005,     10.0,  21.4010,  35.4940,2,  35.5000,2,   -999.0,9,  -999.00,9,  -999.00,9,  -999.00,9, -999.000,9, -999.000,9, -999.000,9, -999.000,9,-999.0000,9,  -999.00,9,   -999.0,9,-999.000,9,  -999.00,9,   -999.0,0,   -999.0,9,   -999.0,9,  -999.00,9,  -999.0,-999.0000,-999.000,-999.000, 21.3991,-999.000,9
      06MT22_5,   A10,    90,  1,    323,2,19930126,1300,-29.7500,  11.4083, 4005,    500.0,   7.5240,  34.5390,2,-999.0000,9,    194.2,2,    14.15,2,    24.81,9,     1.67,2, -999.000,9, -999.000,9, -999.000,9, -999.000,9,-999.0000,9,  -999.00,9,   -999.0,9,-999.000,9,  -999.00,9,   -999.0,0,   -999.0,9,   -999.0,9,  -999.00,9,  -999.0,-999.0000,-999.000,-999.000,  7.4747,-999.000,9
      06MT22_5,   A10,    90,  1,    322,2,19930126,1300,-29.7500,  11.4083, 4005,    600.0,   6.0470,  34.4120,2,-999.0000,9,    205.1,2,    18.02,2,    28.19,9,     1.85,2, -999.000,9, -999.000,9, -999.000,9, -999.000,9,-999.0000,9,  -999.00,9,   -999.0,9,-999.000,9,  -999.00,9,   -999.0,0,   -999.0,9,   -999.0,9,  -999.00,9,  -999.0,-999.0000,-999.000,-999.000,  5.9941,-999.000,9
      06MT22_5,   A10,    90,  1,    321,2,19930126,1300,-29.7500,  11.4083, 4005,    700.0,   4.8660,  34.3480,2,  34.3520,2,    207.9,2,    24.20,2,    30.46,9,     2.03,2, -999.000,9, -999.000,9, -999.000,9, -999.000,9,-999.0000,9,  -999.00,9,   -999.0,9,-999.000,9,  -999.00,9,   -999.0,0,   -999.0,9,   -999.0,9,  -999.00,9,  -999.0,-999.0000,-999.000,-999.000,  4.8101,-999.000,9
      06MT22_5,   A10,    90,  1,    320,2,19930126,1300,-29.7500,  11.4083, 4005,    799.0,   4.1690,  34.3370,2,-999.0000,9,    208.3,2,    30.99,2,    31.79,9,     2.12,2, -999.000,9, -999.000,9, -999.000,9, -999.000,9,-999.0000,9,  -999.00,9,   -999.0,9,-999.000,9,  -999.00,9,   -999.0,0,   -999.0,9,   -999.0,9,  -999.00,9,  -999.0,-999.0000,-999.000,-999.000,  4.1088,-999.000,9
      06MT22_5,   A10,    90,  1,    319,2,19930126,1300,-29.7500,  11.4083, 4005,    901.0,   3.6870,  34.3700,2,-999.0000,9,    205.8,2,  -999.00,9,  -999.00,9,  -999.00,9, -999.000,9, -999.000,9, -999.000,9, -999.000,9,-999.0000,9,  -999.00,9,   -999.0,9,-999.000,9,  -999.00,9,   -999.0,0,   -999.0,9,   -999.0,9,  -999.00,9,  -999.0,-999.0000,-999.000,-999.000,  3.6218,-999.000,9
      06MT22_5,   A10,    90,  1,    318,2,19930126,1300,-29.7500,  11.4083, 4005,   1001.0,   3.4040,  34.4240,2,  34.4290,2,    188.6,2,    46.76,2,    33.70,9,     2.27,2, -999.000,9, -999.000,9, -999.000,9, -999.000,9,-999.0000,9,  -999.00,9,   -999.0,9,-999.000,9,  -999.00,9,   -999.0,0,   -999.0,9,   -999.0,9,  -999.00,9,  -999.0,-999.0000,-999.000,-999.000,  3.3330,-999.000,9
      06MT22_5,   A10,    90,  1,    317,2,19930126,1300,-29.7500,  11.4083, 4005,   1199.0,   3.1020,  34.5530,2,-999.0000,9,    180.0,2,    55.45,2,    33.81,9,     2.26,2, -999.000,9, -999.000,9, -999.000,9, -999.000,9,-999.0000,9,  -999.00,9,   -999.0,9,-999.000,9,  -999.00,9,   -999.0,0,   -999.0,9,   -999.0,9,  -999.00,9,  -999.0,-999.0000,-999.000,-999.000,  3.0172,-999.000,9
      06MT22_5,   A10,    90,  1,    316,2,19930126,1300,-29.7500,  11.4083, 4005,   1400.0,   3.1130,  34.6880,2,-999.0000,9,    194.3,2,    50.80,2,    31.17,9,     2.06,2, -999.000,9, -999.000,9, -999.000,9, -999.000,9,-999.0000,9,  -999.00,9,   -999.0,9,-999.000,9,  -999.00,9,   -999.0,0,   -999.0,9,   -999.0,9,  -999.00,9,  -999.0,-999.0000,-999.000,-999.000,  3.0117,-999.000,9
      06MT22_5,   A10,    90,  1,    315,2,19930126,1300,-29.7500,  11.4083, 4005,   1603.0,   3.1250,  34.7790,2,  34.7820,2,    202.5,2,    44.83,2,    28.49,9,     1.87,2, -999.000,9, -999.000,9, -999.000,9, -999.000,9,-999.0000,9,  -999.00,9,   -999.0,9,-999.000,9,  -999.00,9,   -999.0,0,   -999.0,9,   -999.0,9,  -999.00,9,  -999.0,-999.0000,-999.000,-999.000,  3.0064,-999.000,9
      06MT22_5,   A10,    90,  1,    314,2,19930126,1300,-29.7500,  11.4083, 4005,   1791.0,   3.1700,  34.8410,2,-999.0000,9,    214.3,2,    38.86,2,    26.27,9,     1.71,2, -999.000,9, -999.000,9, -999.000,9, -999.000,9,-999.0000,9,  -999.00,9,   -999.0,9,-999.000,9,  -999.00,9,   -999.0,0,   -999.0,9,   -999.0,9,  -999.00,9,  -999.0,-999.0000,-999.000,-999.000,  3.0341,-999.000,9
      06MT22_5,   A10,    90,  1,    313,2,19930126,1300,-29.7500,  11.4083, 4005,   2000.0,   3.0650,  34.8640,2,-999.0000,9,    222.8,2,    38.45,2,    25.26,9,     1.65,2, -999.000,9, -999.000,9, -999.000,9, -999.000,9,-999.0000,9,  -999.00,9,   -999.0,9,-999.000,9,  -999.00,9,   -999.0,0,   -999.0,9,   -999.0,9,  -999.00,9,  -999.0,-999.0000,-999.000,-999.000,  2.9117,-999.000,9
      06MT22_5,   A10,    90,  1,    312,2,19930126,1300,-29.7500,  11.4083, 4005,   2250.0,   2.8860,  34.8700,2,  34.8730,2,    228.6,2,    41.14,2,    24.84,9,     1.60,2, -999.000,9, -999.000,9, -999.000,9, -999.000,9,-999.0000,9,  -999.00,9,   -999.0,9,-999.000,9,  -999.00,9,   -999.0,0,   -999.0,9,   -999.0,9,  -999.00,9,  -999.0,-999.0000,-999.000,-999.000,  2.7123,-999.000,9
      06MT22_5,   A10,    90,  1,    311,2,19930126,1300,-29.7500,  11.4083, 4005,   2501.0,   2.6820,  34.8630,2,-999.0000,9,    230.2,2,    45.85,2,    24.87,9,     1.61,2,    0.003,2,    0.003,2,    0.009,2, -999.000,9,-999.0000,9,  -999.00,9,   -999.0,9,-999.000,9,  -999.00,9,   -999.0,0,   -999.0,9,   -999.0,9,  -999.00,9,  -999.0,-999.0000,-999.000,-999.000,  2.4881,-999.000,9
      06MT22_5,   A10,    90,  1,    310,2,19930126,1300,-29.7500,  11.4083, 4005,   2754.0,   2.5260,  34.8590,2,-999.0000,9,    232.1,2,    49.87,2,    25.21,9,     1.62,2,    0.001,2,    0.000,2,    0.006,2, -999.000,9,-999.0000,9,  -999.00,9,   -999.0,9,-999.000,9,  -999.00,9,   -999.0,0,   -999.0,9,   -999.0,9,  -999.00,9,  -999.0,-999.0000,-999.000,-999.000,  2.3105,-999.000,9
      06MT22_5,   A10,    90,  1,    309,2,19930126,1300,-29.7500,  11.4083, 4005,   2882.0,   2.4720,  34.8590,2,  34.8620,2,    232.4,2,    51.20,2,    25.21,9,     1.63,2,    0.001,2,    0.001,2,    0.008,2, -999.000,9,-999.0000,9,  -999.00,9,   -999.0,9,-999.000,9,  -999.00,9,   -999.0,0,   -999.0,9,   -999.0,9,  -999.00,9,  -999.0,-999.0000,-999.000,-999.000,  2.2449,-999.000,9
      06MT22_5,   A10,    90,  1,    308,2,19930126,1300,-29.7500,  11.4083, 4005,   3002.0,   2.4320,  34.8590,2,-999.0000,9,    232.6,2,    52.26,2,    25.16,9,     1.62,2,    0.002,2,    0.000,2,    0.010,2, -999.000,9,-999.0000,9,  -999.00,9,   -999.0,9,-999.000,9,  -999.00,9,   -999.0,0,   -999.0,9,   -999.0,9,  -999.00,9,  -999.0,-999.0000,-999.000,-999.000,  2.1937,-999.000,9
      06MT22_5,   A10,    90,  1,    307,2,19930126,1300,-29.7500,  11.4083, 4005,   3127.0,   2.3930,  34.8600,2,-999.0000,9,    233.1,2,    53.33,2,    25.16,9,     1.65,2,    0.002,2,    0.002,2,    0.004,2, -999.000,9,-999.0000,9,  -999.00,9,   -999.0,9,-999.000,9,  -999.00,9,   -999.0,0,   -999.0,9,   -999.0,9,  -999.00,9,  -999.0,-999.0000,-999.000,-999.000,  2.1428,-999.000,9
      06MT22_5,   A10,    90,  1,    306,2,19930126,1300,-29.7500,  11.4083, 4005,   3252.0,   2.3560,  34.8570,2,  34.8600,2,    234.0,2,    54.83,2,    25.30,9,     1.65,2,    0.001,2,    0.001,2,    0.004,2, -999.000,9,-999.0000,9,  -999.00,9,   -999.0,9,-999.000,9,  -999.00,9,   -999.0,0,   -999.0,9,   -999.0,9,  -999.00,9,  -999.0,-999.0000,-999.000,-999.000,  2.0937,-999.000,9
      06MT22_5,   A10,    90,  1,    305,2,19930126,1300,-29.7500,  11.4083, 4005,   3503.0,   2.2800,  34.8550,2,-999.0000,9,    231.9,2,    57.32,2,    25.42,9,     1.65,2,    0.000,2,    0.001,2,    0.003,2, -999.000,9,-999.0000,9,  -999.00,9,   -999.0,9,-999.000,9,  -999.00,9,   -999.0,0,   -999.0,9,   -999.0,9,  -999.00,9,  -999.0,-999.0000,-999.000,-999.000,  1.9933,-999.000,9
      06MT22_5,   A10,    90,  1,    304,2,19930126,1300,-29.7500,  11.4083, 4005,   3755.0,   2.1540,  34.8420,2,-999.0000,9,    230.7,2,    63.06,2,    26.06,9,     1.71,2, -999.000,9, -999.000,9, -999.000,9, -999.000,9,-999.0000,9,  -999.00,9,   -999.0,9,-999.000,9,  -999.00,9,   -999.0,0,   -999.0,9,   -999.0,9,  -999.00,9,  -999.0,-999.0000,-999.000,-999.000,  1.8432,-999.000,9
      06MT22_5,   A10,    90,  1,    303,2,19930126,1300,-29.7500,  11.4083, 4005,   3960.0,   1.8650,  34.8090,2,  34.8120,2,    225.7,2,    74.98,2,    27.37,9,     1.82,2, -999.000,9, -999.000,9, -999.000,9, -999.000,9,-999.0000,9,  -999.00,9,   -999.0,9,-999.000,9,  -999.00,9,   -999.0,0,   -999.0,9,   -999.0,9,  -999.00,9,  -999.0,-999.0000,-999.000,-999.000,  1.5395,-999.000,9
      06MT22_5,   A10,    90,  1,    301,2,19930126,1300,-29.7500,  11.4083, 4005,   4039.0,   1.5950,  34.7830,2,  34.7860,2,    220.7,2,    86.35,2,    28.94,9,     1.92,2, -999.000,9, -999.000,9, -999.000,9, -999.000,9,-999.0000,9,  -999.00,9,   -999.0,9,-999.000,9,  -999.00,9,   -999.0,0,   -999.0,9,   -999.0,9,  -999.00,9,  -999.0,-999.0000,-999.000,-999.000,  1.2685,-999.000,9
      06MT22_5,   A10,    90,  1,    302,2,19930126,1300,-29.7500,  11.4083, 4005,   4040.0,   1.5950,  34.7840,2,-999.0000,9,   -999.0,9,  -999.00,9,  -999.00,9,  -999.00,9, -999.000,9, -999.000,9, -999.000,9, -999.000,9,-999.0000,9,  -999.00,9,   -999.0,9,-999.000,9,  -999.00,9,   -999.0,0,   -999.0,9,   -999.0,9,  -999.00,9,  -999.0,-999.0000,-999.000,-999.000,  1.2684,-999.000,9