BOTTLE,20030417WHPSIOSA
EXPOCODE,SECT_ID,STNNBR,CASTNO,BTLNBR,BTLNBR_FLAG_W,DATE,TIME,LATITUDE,LONGITUDE,DEPTH,CTDPRS,CTDTMP,CTDSAL,CTDSAL_FLAG_W,SALNTY,SALNTY_FLAG_W,OXYGEN,OXYGEN_FLAG_W,SILCAT,SILCAT_FLAG_W,NO2+NO3,NO2+NO3_FLAG_W,PHSPHT,PHSPHT_FLAG_W,CFC-11,CFC-11_FLAG_W,CFC-12,CFC-12_FLAG_W,CCL4,CCL4_FLAG_W,TRITUM,TRITUM_FLAG_W,HELIUM,HELIUM_FLAG_W,DELHE3,DELHE3_FLAG_W,DELC14,DELC14_FLAG_W,NEON,NEON_FLAG_W,O18O16,O18O16_FLAG_W,TCARBN,TCARBN_FLAG_W,PCO2,PCO2_FLAG_W,ALKALI,ALKALI_FLAG_W,PH,PH_FLAG_W,C14ERR,HELIER,DELHER,NEONER,THETA,TRITER,TRITER_FLAG_W
,,,,,,,,,,,DBAR,ITS-90,PSS-78,,PSS-78,,UMOL/KG,,UMOL/KG,,UMOL/KG,,UMOL/KG,,PMOL/KG,,PMOL/KG,,PMOL/KG,,TU,,NMOL/KG,,PERCNT,,/MILLE,,NMOL/KG,,MILLE,,UMOL/KG,,UATM,,UMOL/KG,,,,/MILLE,NMOL/KG,PERCNT,NMOL/KG,ITS-90,TU,
      06MT22_5,   A10,    48,  1,    324,2,19930113,1240,-30.0080, -18.3845, 4203,     10.0,  21.1670,  35.6370,2,  35.6450,2,   -999.0,9,  -999.00,9,  -999.00,9,  -999.00,9, -999.000,9, -999.000,9, -999.000,9, -999.000,9,-999.0000,9,  -999.00,9,   -999.0,9,-999.000,9,  -999.00,9,   2045.7,2,   -999.0,9,   -999.0,9,  -999.00,9,  -999.0,-999.0000,-999.000,-999.000, 21.1651,-999.000,9
      06MT22_5,   A10,    48,  1,    318,2,19930113,1240,-30.0080, -18.3845, 4203,     10.0,  21.1670,  35.6370,2,-999.0000,9,   -999.0,9,  -999.00,9,  -999.00,9,  -999.00,9, -999.000,9, -999.000,9, -999.000,9, -999.000,9,-999.0000,9,  -999.00,9,   -999.0,9,-999.000,9,  -999.00,9,   -999.0,9,   -999.0,9,   -999.0,9,  -999.00,9,  -999.0,-999.0000,-999.000,-999.000, 21.1651,-999.000,9
      06MT22_5,   A10,    48,  1,    317,2,19930113,1240,-30.0080, -18.3845, 4203,   1000.0,   3.7750,  34.3230,2,  34.3270,2,    217.5,2,    32.96,2,    31.98,9,     2.29,2,    1.487,3,    0.710,3,    2.640,3, -999.000,9,-999.0000,9,  -999.00,9,   -999.0,9,-999.000,9,  -999.00,9,   2192.1,2,   -999.0,9,   2301.2,2,  -999.00,9,  -999.0,-999.0000,-999.000,-999.000,  3.7014,-999.000,9
      06MT22_5,   A10,    48,  1,    316,2,19930113,1240,-30.0080, -18.3845, 4203,   1199.0,   3.0610,  34.4400,2,-999.0000,9,    197.2,2,    49.13,2,    33.70,9,     2.47,2,    0.840,3,    0.401,3,    1.851,3, -999.000,9,-999.0000,9,  -999.00,9,   -999.0,9,-999.000,9,  -999.00,9,   2219.9,2,   -999.0,9,   2317.0,2,  -999.00,9,  -999.0,-999.0000,-999.000,-999.000,  2.9768,-999.000,9
      06MT22_5,   A10,    48,  1,    315,2,19930113,1240,-30.0080, -18.3845, 4203,   1399.0,   2.8970,  34.5940,2,-999.0000,9,    194.2,2,    54.95,2,    32.62,9,     2.32,2,    0.270,3,    0.123,3,    0.870,3, -999.000,9,-999.0000,9,  -999.00,9,   -999.0,9,-999.000,9,  -999.00,9,   2225.5,2,   -999.0,9,   2325.9,2,  -999.00,9,  -999.0,-999.0000,-999.000,-999.000,  2.7984,-999.000,9
      06MT22_5,   A10,    48,  1,    314,2,19930113,1240,-30.0080, -18.3845, 4203,   1600.0,   2.8360,  34.6870,2,  34.6890,2,    198.7,2,    54.12,2,    30.73,9,     2.21,2, -999.000,9, -999.000,9, -999.000,9, -999.000,9,-999.0000,9,  -999.00,9,   -999.0,9,-999.000,9,  -999.00,9,   2220.0,2,   -999.0,9,   2326.9,2,  -999.00,9,  -999.0,-999.0000,-999.000,-999.000,  2.7215,-999.000,9
      06MT22_5,   A10,    48,  1,    313,2,19930113,1240,-30.0080, -18.3845, 4203,   1800.0,   2.7270,  34.7610,2,-999.0000,9,    211.3,2,    52.19,2,    28.52,9,     1.97,2,    0.006,3,    0.002,2,    0.068,2, -999.000,9,-999.0000,9,  -999.00,9,   -999.0,9,-999.000,9,  -999.00,9,   2212.4,2,   -999.0,9,   2328.9,2,  -999.00,9,  -999.0,-999.0000,-999.000,-999.000,  2.5964,-999.000,9
      06MT22_5,   A10,    48,  1,    312,2,19930113,1240,-30.0080, -18.3845, 4203,   2001.0,   2.6360,  34.8080,2,-999.0000,9,    222.1,2,    50.17,2,    26.80,9,     1.88,2, -999.000,9, -999.000,9, -999.000,9, -999.000,9,-999.0000,9,  -999.00,9,   -999.0,9,-999.000,9,  -999.00,9,   2205.3,2,   -999.0,9,   2330.9,2,  -999.00,9,  -999.0,-999.0000,-999.000,-999.000,  2.4892,-999.000,9
      06MT22_5,   A10,    48,  1,    311,2,19930113,1240,-30.0080, -18.3845, 4203,   2250.0,   2.5880,  34.8320,2,  34.8330,2,    229.8,2,    49.71,2,    25.74,9,     1.80,2,    0.011,4,    0.018,4,    0.024,2, -999.000,9,-999.0000,9,  -999.00,9,   -999.0,9,-999.000,9,  -999.00,9,   2199.4,2,   -999.0,9,   2332.8,2,  -999.00,9,  -999.0,-999.0000,-999.000,-999.000,  2.4195,-999.000,9
      06MT22_5,   A10,    48,  1,    310,2,19930113,1240,-30.0080, -18.3845, 4203,   2502.0,   2.5680,  34.8430,2,-999.0000,9,    230.9,2,  -999.00,9,    25.09,9,     1.75,2, -999.000,9, -999.000,9, -999.000,9, -999.000,9,-999.0000,9,  -999.00,9,   -999.0,9,-999.000,9,  -999.00,9,   2198.7,2,   -999.0,9,   2332.8,2,  -999.00,9,  -999.0,-999.0000,-999.000,-999.000,  2.3760,-999.000,9
      06MT22_5,   A10,    48,  1,    309,2,19930113,1240,-30.0080, -18.3845, 4203,   2752.0,   2.5660,  34.8630,2,-999.0000,9,    238.1,2,    46.33,2,    24.16,9,     1.68,2,    0.008,4,    0.000,2,    0.011,2, -999.000,9,-999.0000,9,  -999.00,9,   -999.0,9,-999.000,9,  -999.00,9,   2193.3,2,   -999.0,9,   2334.8,2,  -999.00,9,  -999.0,-999.0000,-999.000,-999.000,  2.3498,-999.000,9
      06MT22_5,   A10,    48,  1,    308,2,19930113,1240,-30.0080, -18.3845, 4203,   3002.0,   2.5430,  34.8830,2,  34.8850,2,    245.2,2,    43.58,2,    23.18,9,     1.61,2, -999.000,9, -999.000,9, -999.000,9, -999.000,9,-999.0000,9,  -999.00,9,   -999.0,9,-999.000,9,  -999.00,9,   2188.4,2,   -999.0,9,   2330.9,2,  -999.00,9,  -999.0,-999.0000,-999.000,-999.000,  2.3022,-999.000,9
      06MT22_5,   A10,    48,  1,    307,2,19930113,1240,-30.0080, -18.3845, 4203,   3253.0,   2.3510,  34.8770,2,-999.0000,9,    238.3,2,    47.83,2,    23.44,9,     1.62,2,    0.001,2,    0.003,2,    0.001,2, -999.000,9,-999.0000,9,  -999.00,9,   -999.0,9,-999.000,9,  -999.00,9,   2187.9,2,   -999.0,9,   2332.8,2,  -999.00,9,  -999.0,-999.0000,-999.000,-999.000,  2.0888,-999.000,9
      06MT22_5,   A10,    48,  1,    306,2,19930113,1240,-30.0080, -18.3845, 4203,   3495.0,   2.1420,  34.8580,2,-999.0000,9,    244.8,2,    55.53,2,    24.45,9,     1.68,2, -999.000,9, -999.000,9, -999.000,9, -999.000,9,-999.0000,9,  -999.00,9,   -999.0,9,-999.000,9,  -999.00,9,   2197.3,2,   -999.0,9,   2338.8,2,  -999.00,9,  -999.0,-999.0000,-999.000,-999.000,  1.8594,-999.000,9
      06MT22_5,   A10,    48,  1,    305,2,19930113,1240,-30.0080, -18.3845, 4203,   3738.0,   1.8830,  34.8340,2,  34.8370,2,    242.0,2,    65.60,2,    25.62,9,     1.77,2,    0.000,2,    0.001,2,    0.001,2, -999.000,9,-999.0000,9,  -999.00,9,   -999.0,9,-999.000,9,  -999.00,9,   2207.7,2,   -999.0,9,   2343.7,2,  -999.00,9,  -999.0,-999.0000,-999.000,-999.000,  1.5811,-999.000,9
      06MT22_5,   A10,    48,  1,    304,2,19930113,1240,-30.0080, -18.3845, 4203,   4002.0,   1.6740,  34.8120,2,-999.0000,9,    236.6,2,    73.97,2,    26.78,9,     1.88,2, -999.000,9, -999.000,9, -999.000,9, -999.000,9,-999.0000,9,  -999.00,9,   -999.0,9,-999.000,9,  -999.00,9,   2217.2,2,   -999.0,9,   2350.6,2,  -999.00,9,  -999.0,-999.0000,-999.000,-999.000,  1.3492,-999.000,9
      06MT22_5,   A10,    48,  1,    303,2,19930113,1240,-30.0080, -18.3845, 4203,   4190.0,   1.6310,  34.8060,2,-999.0000,9,    234.4,2,    76.73,2,    27.43,9,     1.93,2,    0.001,2,    0.002,2,    0.011,2, -999.000,9,-999.0000,9,  -999.00,9,   -999.0,9,-999.000,9,  -999.00,9,   2220.6,2,   -999.0,9,   2347.7,2,  -999.00,9,  -999.0,-999.0000,-999.000,-999.000,  1.2866,-999.000,9
      06MT22_5,   A10,    48,  1,    301,2,19930113,1240,-30.0080, -18.3845, 4203,   4270.0,   1.6130,  34.8020,2,  34.8060,2,   -999.0,9,  -999.00,9,  -999.00,9,  -999.00,9,    0.003,2,    0.010,2,    0.010,2, -999.000,9,-999.0000,9,  -999.00,9,   -999.0,9,-999.000,9,  -999.00,9,   2220.8,2,   -999.0,9,   2353.2,2,  -999.00,9,  -999.0,-999.0000,-999.000,-999.000,  1.2601,-999.000,9
      06MT22_5,   A10,    48,  1,    302,2,19930113,1240,-30.0080, -18.3845, 4203,   4273.0,   1.6100,  34.8020,2,  34.8050,2,    234.8,2,    77.58,2,    27.39,9,     1.94,2, -999.000,9, -999.000,9, -999.000,9, -999.000,9,-999.0000,9,  -999.00,9,   -999.0,9,-999.000,9,  -999.00,9,   -999.0,9,   -999.0,9,   -999.0,9,  -999.00,9,  -999.0,-999.0000,-999.000,-999.000,  1.2568,-999.000,9
      06MT22_5,   A10,    48,  2,    217,2,19930113,1422,-30.0197, -18.3917, 4273,     12.0,  21.2000,  35.6440,2,  35.6450,2,    227.7,2,     0.54,2,     0.05,9,     0.10,2, -999.000,9, -999.000,9, -999.000,9, -999.000,9,-999.0000,9,  -999.00,9,   -999.0,9,-999.000,9,  -999.00,9,   -999.0,9,   -999.0,9,   -999.0,9,  -999.00,9,  -999.0,-999.0000,-999.000,-999.000, 21.1977,-999.000,9
      06MT22_5,   A10,    48,  2,    215,2,19930113,1422,-30.0197, -18.3917, 4273,     12.0,  21.1940,  35.6460,2,-999.0000,9,   -999.0,9,  -999.00,9,  -999.00,9,  -999.00,9,    2.184,2,    1.191,2,    2.794,2, -999.000,9,-999.0000,9,  -999.00,9,   -999.0,9,-999.000,9,  -999.00,9,   2046.1,2,   -999.0,9,   2371.1,2,  -999.00,9,  -999.0,-999.0000,-999.000,-999.000, 21.1917,-999.000,9
      06MT22_5,   A10,    48,  2,    214,2,19930113,1422,-30.0197, -18.3917, 4273,     32.0,  20.1280,  35.6350,2,-999.0000,9,    235.6,2,     0.54,2,     0.00,9,     0.11,2, -999.000,9, -999.000,9, -999.000,9, -999.000,9,-999.0000,9,  -999.00,9,   -999.0,9,-999.000,9,  -999.00,9,   2048.2,2,   -999.0,9,   2348.3,2,  -999.00,9,  -999.0,-999.0000,-999.000,-999.000, 20.1221,-999.000,9
      06MT22_5,   A10,    48,  2,    213,2,19930113,1422,-30.0197, -18.3917, 4273,     52.0,  18.7560,  35.7150,2,-999.0000,9,    243.8,2,     0.57,2,     0.03,9,     0.10,2,    2.445,2,    1.312,2,    2.573,2, -999.000,9,-999.0000,9,  -999.00,9,   -999.0,9,-999.000,9,  -999.00,9,   2049.3,2,   -999.0,9,   2360.0,2,  -999.00,9,  -999.0,-999.0000,-999.000,-999.000, 18.7468,-999.000,9
      06MT22_5,   A10,    48,  2,    212,2,19930113,1422,-30.0197, -18.3917, 4273,     73.0,  17.3090,  35.6510,2,-999.0000,9,    235.6,2,     0.65,2,     0.03,9,     0.13,2, -999.000,9, -999.000,9, -999.000,9, -999.000,9,-999.0000,9,  -999.00,9,   -999.0,9,-999.000,9,  -999.00,9,   2053.2,2,   -999.0,9,   2346.3,2,  -999.00,9,  -999.0,-999.0000,-999.000,-999.000, 17.2968,-999.000,9
      06MT22_5,   A10,    48,  2,    211,2,19930113,1422,-30.0197, -18.3917, 4273,    103.0,  16.3110,  35.5490,2,-999.0000,9,    243.3,2,     1.00,2,     0.16,9,     0.20,2,    2.529,2,    1.332,2,    1.871,2, -999.000,9,-999.0000,9,  -999.00,9,   -999.0,9,-999.000,9,  -999.00,9,   2064.9,2,   -999.0,9,   2342.3,2,  -999.00,9,  -999.0,-999.0000,-999.000,-999.000, 16.2945,-999.000,9
      06MT22_5,   A10,    48,  2,    210,2,19930113,1422,-30.0197, -18.3917, 4273,    152.0,  15.5300,  35.4650,2,-999.0000,9,    227.0,2,     1.04,2,     2.27,9,     0.30,2,    2.552,2,    1.343,2,    1.487,2, -999.000,9,-999.0000,9,  -999.00,9,   -999.0,9,-999.000,9,  -999.00,9,   2073.0,2,   -999.0,9,   2332.3,2,  -999.00,9,  -999.0,-999.0000,-999.000,-999.000, 15.5064,-999.000,9
      06MT22_5,   A10,    48,  2,    209,2,19930113,1422,-30.0197, -18.3917, 4273,    202.0,  14.5660,  35.3500,2,-999.0000,9,    219.0,2,     2.03,2,     5.34,9,     0.47,2,    2.533,2,    1.348,2,    1.073,2, -999.000,9,-999.0000,9,  -999.00,9,   -999.0,9,-999.000,9,  -999.00,9,   2087.7,2,   -999.0,9,   2326.4,2,  -999.00,9,  -999.0,-999.0000,-999.000,-999.000, 14.5359,-999.000,9
      06MT22_5,   A10,    48,  2,    208,2,19930113,1422,-30.0197, -18.3917, 4273,    301.0,  13.3510,  35.2640,2,  35.2670,2,    219.7,2,     2.69,2,     8.21,9,     0.64,2,    2.443,2,    1.278,2,    1.001,2, -999.000,9,-999.0000,9,  -999.00,9,   -999.0,9,-999.000,9,  -999.00,9,   2099.1,2,   -999.0,9,   2324.4,2,  -999.00,9,  -999.0,-999.0000,-999.000,-999.000, 13.3086,-999.000,9
      06MT22_5,   A10,    48,  2,    207,2,19930113,1422,-30.0197, -18.3917, 4273,    401.0,  11.5610,  35.0260,2,-999.0000,9,    214.5,2,     4.08,2,    13.02,9,     0.89,2,    2.302,2,    1.153,2,    1.011,2, -999.000,9,-999.0000,9,  -999.00,9,   -999.0,9,-999.000,9,  -999.00,9,   2115.4,2,   -999.0,9,   2314.4,2,  -999.00,9,  -999.0,-999.0000,-999.000,-999.000, 11.5099,-999.000,9
      06MT22_5,   A10,    48,  2,    206,2,19930113,1422,-30.0197, -18.3917, 4273,    500.0,   9.3590,  34.7340,2,-999.0000,9,    209.6,2,     7.79,2,    19.20,9,     1.37,2, -999.000,9, -999.000,9, -999.000,9, -999.000,9,-999.0000,9,  -999.00,9,   -999.0,9,-999.000,9,  -999.00,9,   2140.3,2,   -999.0,9,   2301.5,2,  -999.00,9,  -999.0,-999.0000,-999.000,-999.000,  9.3029,-999.000,9
      06MT22_5,   A10,    48,  2,    205,2,19930113,1422,-30.0197, -18.3917, 4273,    600.0,   7.0490,  34.4850,2,-999.0000,9,    213.2,2,    12.50,2,    24.72,9,     1.73,2,    1.942,2,    0.979,2,    1.386,2, -999.000,9,-999.0000,9,  -999.00,9,   -999.0,9,-999.000,9,  -999.00,9,   2153.1,2,   -999.0,9,   2294.5,2,  -999.00,9,  -999.0,-999.0000,-999.000,-999.000,  6.9916,-999.000,9
      06MT22_5,   A10,    48,  2,    204,2,19930113,1422,-30.0197, -18.3917, 4273,    700.0,   5.4140,  34.3210,2,  34.3250,2,    237.5,2,    14.10,2,    27.05,9,     1.89,2,    1.679,2,    0.843,2,    1.953,2, -999.000,9,-999.0000,9,  -999.00,9,   -999.0,9,-999.000,9,  -999.00,9,   2153.3,2,   -999.0,9,   2287.6,2,  -999.00,9,  -999.0,-999.0000,-999.000,-999.000,  5.3552,-999.000,9
      06MT22_5,   A10,    48,  2,    203,2,19930113,1422,-30.0197, -18.3917, 4273,    800.0,   4.4290,  34.2860,2,-999.0000,9,    232.4,2,    21.45,2,    29.52,9,     2.10,2,    1.958,3,    0.944,3,    2.887,3, -999.000,9,-999.0000,9,  -999.00,9,   -999.0,9,-999.000,9,  -999.00,9,   2168.4,2,   -999.0,9,   2286.4,2,  -999.00,9,  -999.0,-999.0000,-999.000,-999.000,  4.3673,-999.000,9
      06MT22_5,   A10,    48,  2,    202,2,19930113,1422,-30.0197, -18.3917, 4273,    900.0,   4.1720,  34.3100,2,-999.0000,9,    223.9,2,    27.23,2,    30.86,9,     2.18,2, -999.000,9, -999.000,9, -999.000,9, -999.000,9,-999.0000,9,  -999.00,9,   -999.0,9,-999.000,9,  -999.00,9,   2180.9,2,   -999.0,9,   2294.3,2,  -999.00,9,  -999.0,-999.0000,-999.000,-999.000,  4.1036,-999.000,9
      06MT22_5,   A10,    48,  2,    201,2,19930113,1422,-30.0197, -18.3917, 4273,   1003.0,   3.7000,  34.3240,2,  34.3290,2,   -999.0,9,  -999.00,9,  -999.00,9,  -999.00,9, -999.000,9, -999.000,9, -999.000,9, -999.000,9,-999.0000,9,  -999.00,9,   -999.0,9,-999.000,9,  -999.00,9,   -999.0,9,   -999.0,9,   -999.0,9,  -999.00,9,  -999.0,-999.0000,-999.000,-999.000,  3.6267,-999.000,9
      06MT22_5,   A10,    49,  1,    217,2,19930114,0400,-30.0000, -17.7267, 3996,     12.0,  23.3570,  35.7180,2,  35.7200,2,    220.4,2,     0.74,2,     0.09,9,     0.12,2, -999.000,9, -999.000,9, -999.000,9, -999.000,9,-999.0000,9,  -999.00,9,   -999.0,9,-999.000,9,  -999.00,9,   -999.0,0,   -999.0,9,   -999.0,9,  -999.00,9,  -999.0,-999.0000,-999.000,-999.000, 23.3545,-999.000,9
      06MT22_5,   A10,    49,  1,    207,2,19930114,0400,-30.0000, -17.7267, 3996,     32.0,  21.0720,  35.6920,2,-999.0000,9,    230.8,2,     0.44,2,     0.30,9,     0.14,2, -999.000,9, -999.000,9, -999.000,9, -999.000,9,-999.0000,9,  -999.00,9,   -999.0,9,-999.000,9,  -999.00,9,   -999.0,0,   -999.0,9,   -999.0,9,  -999.00,9,  -999.0,-999.0000,-999.000,-999.000, 21.0659,-999.000,9
      06MT22_5,   A10,    49,  1,    206,2,19930114,0400,-30.0000, -17.7267, 3996,     51.0,  18.8220,  35.5730,2,-999.0000,9,    241.3,2,     0.43,2,     0.04,9,     0.12,2, -999.000,9, -999.000,9, -999.000,9, -999.000,9,-999.0000,9,  -999.00,9,   -999.0,9,-999.000,9,  -999.00,9,   -999.0,0,   -999.0,9,   -999.0,9,  -999.00,9,  -999.0,-999.0000,-999.000,-999.000, 18.8130,-999.000,9
      06MT22_5,   A10,    49,  1,    205,2,19930114,0400,-30.0000, -17.7267, 3996,     72.0,  17.8350,  35.6190,2,  35.6140,2,    248.4,2,     0.42,2,     0.05,9,     0.12,2, -999.000,9, -999.000,9, -999.000,9, -999.000,9,-999.0000,9,  -999.00,9,   -999.0,9,-999.000,9,  -999.00,9,   -999.0,0,   -999.0,9,   -999.0,9,  -999.00,9,  -999.0,-999.0000,-999.000,-999.000, 17.8227,-999.000,9
      06MT22_5,   A10,    49,  1,    204,2,19930114,0400,-30.0000, -17.7267, 3996,    101.0,  17.1770,  35.6350,2,-999.0000,9,    242.9,2,     0.64,2,     0.00,9,     0.14,2, -999.000,9, -999.000,9, -999.000,9, -999.000,9,-999.0000,9,  -999.00,9,   -999.0,9,-999.000,9,  -999.00,9,   -999.0,0,   -999.0,9,   -999.0,9,  -999.00,9,  -999.0,-999.0000,-999.000,-999.000, 17.1602,-999.000,9
      06MT22_5,   A10,    49,  1,    203,2,19930114,0400,-30.0000, -17.7267, 3996,    151.0,  15.8380,  35.5010,2,-999.0000,9,    225.9,2,     1.14,2,     1.97,9,     0.28,2, -999.000,9, -999.000,9, -999.000,9, -999.000,9,-999.0000,9,  -999.00,9,   -999.0,9,-999.000,9,  -999.00,9,   -999.0,0,   -999.0,9,   -999.0,9,  -999.00,9,  -999.0,-999.0000,-999.000,-999.000, 15.8142,-999.000,9
      06MT22_5,   A10,    49,  1,    202,2,19930114,0400,-30.0000, -17.7267, 3996,    202.0,  14.7610,  35.3780,2,  35.3840,2,    220.0,2,     2.01,2,     4.77,9,     0.46,2, -999.000,9, -999.000,9, -999.000,9, -999.000,9,-999.0000,9,  -999.00,9,   -999.0,9,-999.000,9,  -999.00,9,   -999.0,0,   -999.0,9,   -999.0,9,  -999.00,9,  -999.0,-999.0000,-999.000,-999.000, 14.7306,-999.000,9
      06MT22_5,   A10,    49,  1,    201,2,19930114,0400,-30.0000, -17.7267, 3996,    302.0,  13.2140,  35.2340,2,-999.0000,9,    216.8,2,     2.97,2,     8.57,9,     0.66,2, -999.000,9, -999.000,9, -999.000,9, -999.000,9,-999.0000,9,  -999.00,9,   -999.0,9,-999.000,9,  -999.00,9,   -999.0,0,   -999.0,9,   -999.0,9,  -999.00,9,  -999.0,-999.0000,-999.000,-999.000, 13.1716,-999.000,9