BOTTLE,20030417WHPSIOSA
EXPOCODE,SECT_ID,STNNBR,CASTNO,BTLNBR,BTLNBR_FLAG_W,DATE,TIME,LATITUDE,LONGITUDE,DEPTH,CTDPRS,CTDTMP,CTDSAL,CTDSAL_FLAG_W,SALNTY,SALNTY_FLAG_W,OXYGEN,OXYGEN_FLAG_W,SILCAT,SILCAT_FLAG_W,NO2+NO3,NO2+NO3_FLAG_W,PHSPHT,PHSPHT_FLAG_W,CFC-11,CFC-11_FLAG_W,CFC-12,CFC-12_FLAG_W,CCL4,CCL4_FLAG_W,TRITUM,TRITUM_FLAG_W,HELIUM,HELIUM_FLAG_W,DELHE3,DELHE3_FLAG_W,DELC14,DELC14_FLAG_W,NEON,NEON_FLAG_W,O18O16,O18O16_FLAG_W,TCARBN,TCARBN_FLAG_W,PCO2,PCO2_FLAG_W,ALKALI,ALKALI_FLAG_W,PH,PH_FLAG_W,C14ERR,HELIER,DELHER,NEONER,THETA,TRITER,TRITER_FLAG_W
,,,,,,,,,,,DBAR,ITS-90,PSS-78,,PSS-78,,UMOL/KG,,UMOL/KG,,UMOL/KG,,UMOL/KG,,PMOL/KG,,PMOL/KG,,PMOL/KG,,TU,,NMOL/KG,,PERCNT,,/MILLE,,NMOL/KG,,MILLE,,UMOL/KG,,UATM,,UMOL/KG,,,,/MILLE,NMOL/KG,PERCNT,NMOL/KG,ITS-90,TU,
      06MT22_5,   A10,    60,  2,    324,2,19930117,0041,-30.0048, -10.3295, 3791,     10.0,  23.8500,  35.9590,2,  35.9640,2,   -999.0,9,  -999.00,9,  -999.00,9,  -999.00,9, -999.000,9, -999.000,9, -999.000,9, -999.000,9,-999.0000,9,  -999.00,9,   -999.0,9,-999.000,9,  -999.00,9,   -999.0,9,   -999.0,9,   -999.0,9,  -999.00,9,  -999.0,-999.0000,-999.000,-999.000, 23.8479,-999.000,9
      06MT22_5,   A10,    60,  2,    323,2,19930117,0041,-30.0048, -10.3295, 3791,    199.0,  16.0260,  35.5460,2,-999.0000,9,   -999.0,9,  -999.00,9,  -999.00,9,  -999.00,9, -999.000,9, -999.000,9, -999.000,9, -999.000,9,-999.0000,9,  -999.00,9,   -999.0,9,-999.000,9,  -999.00,9,   -999.0,9,   -999.0,9,   -999.0,9,  -999.00,9,  -999.0,-999.0000,-999.000,-999.000, 15.9945,-999.000,9
      06MT22_5,   A10,    60,  2,    322,2,19930117,0041,-30.0048, -10.3295, 3791,    199.0,  16.0240,  35.5480,2,-999.0000,9,    227.8,2,     1.49,2,     2.34,9,     0.33,2, -999.000,9, -999.000,9, -999.000,9, -999.000,9,-999.0000,9,  -999.00,9,   -999.0,9,-999.000,9,  -999.00,9,   2070.0,2,   -999.0,9,   2342.3,2,  -999.00,9,  -999.0,-999.0000,-999.000,-999.000, 15.9925,-999.000,9
      06MT22_5,   A10,    60,  2,    321,2,19930117,0041,-30.0048, -10.3295, 3791,    401.0,  11.7700,  35.0250,2,-999.0000,9,    213.5,2,     4.61,2,    12.39,9,     0.87,2, -999.000,9, -999.000,9, -999.000,9, -999.000,9,-999.0000,9,  -999.00,9,   -999.0,9,-999.000,9,  -999.00,9,   2108.7,2,   -999.0,9,   2312.4,2,  -999.00,9,  -999.0,-999.0000,-999.000,-999.000, 11.7180,-999.000,9
      06MT22_5,   A10,    60,  2,    320,2,19930117,0041,-30.0048, -10.3295, 3791,    499.0,   9.7130,  34.7660,2,  34.7570,2,    204.3,2,     8.01,2,    18.62,9,     1.24,2,    1.920,2,    0.982,2,    1.245,2, -999.000,9,-999.0000,9,  -999.00,9,   -999.0,9,-999.000,9,  -999.00,9,   2130.5,2,   -999.0,9,   2300.5,2,  -999.00,9,  -999.0,-999.0000,-999.000,-999.000,  9.6554,-999.000,9
      06MT22_5,   A10,    60,  2,    319,2,19930117,0041,-30.0048, -10.3295, 3791,    599.0,   7.7560,  34.5540,2,-999.0000,9,    210.9,2,    11.26,2,    23.09,9,     1.53,2, -999.000,9, -999.000,9, -999.000,9, -999.000,9,-999.0000,9,  -999.00,9,   -999.0,9,-999.000,9,  -999.00,9,   2143.2,2,   -999.0,9,   2294.5,2,  -999.00,9,  -999.0,-999.0000,-999.000,-999.000,  7.6955,-999.000,9
      06MT22_5,   A10,    60,  2,    318,2,19930117,0041,-30.0048, -10.3295, 3791,    699.0,   6.1040,  34.4020,2,-999.0000,9,    220.1,2,    15.70,2,    26.62,9,     1.77,2,    1.599,2,    0.785,2,    2.212,2, -999.000,9,-999.0000,9,  -999.00,9,   -999.0,9,-999.000,9,  -999.00,9,   2154.5,2,   -999.0,9,   2288.4,2,  -999.00,9,  -999.0,-999.0000,-999.000,-999.000,  6.0416,-999.000,9
      06MT22_5,   A10,    60,  2,    317,2,19930117,0041,-30.0048, -10.3295, 3791,    800.0,   4.9600,  34.3410,2,-999.0000,9,    219.6,2,    23.58,2,    28.96,9,     1.94,2,    1.285,2,    0.631,2,    2.240,2, -999.000,9,-999.0000,9,  -999.00,9,   -999.0,9,-999.000,9,  -999.00,9,   2168.6,2,   -999.0,9,   2291.4,2,  -999.00,9,  -999.0,-999.0000,-999.000,-999.000,  4.8950,-999.000,9
      06MT22_5,   A10,    60,  2,    316,2,19930117,0041,-30.0048, -10.3295, 3791,    897.0,   4.3700,  34.3390,2,  34.3390,2,    188.7,2,    28.66,2,    30.46,9,     2.07,2, -999.000,9, -999.000,9, -999.000,9, -999.000,9,-999.0000,9,  -999.00,9,   -999.0,9,-999.000,9,  -999.00,9,   2180.1,2,   -999.0,9,   2296.3,2,  -999.00,9,  -999.0,-999.0000,-999.000,-999.000,  4.3005,-999.000,9
      06MT22_5,   A10,    60,  2,    315,2,19930117,0041,-30.0048, -10.3295, 3791,    999.0,   3.8120,  34.3360,2,-999.0000,9,    213.1,2,    34.26,2,    31.74,9,     2.14,2,    0.938,2,    0.477,2,    1.933,2, -999.000,9,-999.0000,9,  -999.00,9,   -999.0,9,-999.000,9,  -999.00,9,   2188.8,2,   -999.0,9,   2304.2,2,  -999.00,9,  -999.0,-999.0000,-999.000,-999.000,  3.7378,-999.000,9
      06MT22_5,   A10,    60,  2,    314,2,19930117,0041,-30.0048, -10.3295, 3791,   1200.0,   3.1220,  34.4300,2,-999.0000,9,    195.9,2,    48.29,2,    33.63,9,     2.27,2,    0.325,2,    0.164,2,    0.979,2, -999.000,9,-999.0000,9,  -999.00,9,   -999.0,9,-999.000,9,  -999.00,9,   2214.2,2,   -999.0,9,   2317.0,2,  -999.00,9,  -999.0,-999.0000,-999.000,-999.000,  3.0374,-999.000,9
      06MT22_5,   A10,    60,  2,    313,2,19930117,0041,-30.0048, -10.3295, 3791,   1400.0,   2.8900,  34.5690,2,  34.5690,2,    188.8,2,    56.54,2,    33.20,9,     2.26,2,    0.093,2,    0.048,2,    0.405,2, -999.000,9,-999.0000,9,  -999.00,9,   -999.0,9,-999.000,9,  -999.00,9,   2225.8,2,   -999.0,9,   2326.9,2,  -999.00,9,  -999.0,-999.0000,-999.000,-999.000,  2.7916,-999.000,9
      06MT22_5,   A10,    60,  2,    312,2,19930117,0041,-30.0048, -10.3295, 3791,   1601.0,   2.8060,  34.6660,2,-999.0000,9,    193.5,2,    57.20,2,    31.45,9,     2.12,2,    0.039,2,    0.009,2,    0.217,2, -999.000,9,-999.0000,9,  -999.00,9,   -999.0,9,-999.000,9,  -999.00,9,   2222.7,2,   -999.0,9,   2330.9,2,  -999.00,9,  -999.0,-999.0000,-999.000,-999.000,  2.6915,-999.000,9
      06MT22_5,   A10,    60,  2,    311,2,19930117,0041,-30.0048, -10.3295, 3791,   1801.0,   2.7560,  34.7360,2,-999.0000,9,    203.3,2,    55.70,2,    29.58,9,     2.05,2,    0.014,2,    0.003,2,    0.104,2, -999.000,9,-999.0000,9,  -999.00,9,   -999.0,9,-999.000,9,  -999.00,9,   2215.4,2,   -999.0,9,   2332.8,2,  -999.00,9,  -999.0,-999.0000,-999.000,-999.000,  2.6251,-999.000,9
      06MT22_5,   A10,    60,  2,    310,2,19930117,0041,-30.0048, -10.3295, 3791,   2001.0,   2.6630,  34.7930,2,  34.7930,2,    214.3,2,    53.22,2,    27.99,9,     1.90,2,    0.006,2,    0.000,2,    0.045,2, -999.000,9,-999.0000,9,  -999.00,9,   -999.0,9,-999.000,9,  -999.00,9,   2207.0,2,   -999.0,9,   2331.9,2,  -999.00,9,  -999.0,-999.0000,-999.000,-999.000,  2.5159,-999.000,9
      06MT22_5,   A10,    60,  2,    309,2,19930117,0041,-30.0048, -10.3295, 3791,   2251.0,   2.5680,  34.8320,2,-999.0000,9,    225.3,2,    51.16,2,    26.49,9,     1.80,2,    0.004,2,    0.000,2,    0.014,2, -999.000,9,-999.0000,9,  -999.00,9,   -999.0,9,-999.000,9,  -999.00,9,   2201.6,2,   -999.0,9,   2334.8,2,  -999.00,9,  -999.0,-999.0000,-999.000,-999.000,  2.3996,-999.000,9
      06MT22_5,   A10,    60,  2,    308,2,19930117,0041,-30.0048, -10.3295, 3791,   2501.0,   2.4810,  34.8520,2,-999.0000,9,    233.4,2,    49.95,2,    25.51,9,     1.72,2,    0.002,2,    0.001,2,    0.006,2, -999.000,9,-999.0000,9,  -999.00,9,   -999.0,9,-999.000,9,  -999.00,9,   2199.1,2,   -999.0,9,   2336.8,2,  -999.00,9,  -999.0,-999.0000,-999.000,-999.000,  2.2908,-999.000,9
      06MT22_5,   A10,    60,  2,    307,2,19930117,0041,-30.0048, -10.3295, 3791,   2752.0,   2.4290,  34.8620,2,  34.8610,2,    237.4,2,    49.35,2,    24.80,9,     1.65,2,    0.002,2,    0.002,2,    0.008,2, -999.000,9,-999.0000,9,  -999.00,9,   -999.0,9,-999.000,9,  -999.00,9,   2195.8,2,   -999.0,9,   2336.8,2,  -999.00,9,  -999.0,-999.0000,-999.000,-999.000,  2.2157,-999.000,9
      06MT22_5,   A10,    60,  2,    306,2,19930117,0041,-30.0048, -10.3295, 3791,   3003.0,   2.4040,  34.8660,2,-999.0000,9,    239.0,2,    50.08,2,    24.52,9,     1.65,2,    0.005,4,    0.002,2,    0.009,2, -999.000,9,-999.0000,9,  -999.00,9,   -999.0,9,-999.000,9,  -999.00,9,   2195.4,2,   -999.0,9,   2336.8,2,  -999.00,9,  -999.0,-999.0000,-999.000,-999.000,  2.1661,-999.000,9
      06MT22_5,   A10,    60,  2,    305,2,19930117,0041,-30.0048, -10.3295, 3791,   3254.0,   2.3870,  34.8700,2,-999.0000,9,    240.0,2,    50.28,2,    24.31,9,     1.63,2,    0.001,2,    0.003,2,    0.004,2, -999.000,9,-999.0000,9,  -999.00,9,   -999.0,9,-999.000,9,  -999.00,9,   2196.4,2,   -999.0,9,   2339.8,2,  -999.00,9,  -999.0,-999.0000,-999.000,-999.000,  2.1237,-999.000,9
      06MT22_5,   A10,    60,  2,    304,2,19930117,0041,-30.0048, -10.3295, 3791,   3506.0,   2.3880,  34.8740,2,  34.8740,2,    239.5,2,    50.29,2,    24.19,9,     1.64,2,    0.001,2,    0.003,2,    0.001,2, -999.000,9,-999.0000,9,  -999.00,9,   -999.0,9,-999.000,9,  -999.00,9,   2198.2,2,   -999.0,9,   2341.7,2,  -999.00,9,  -999.0,-999.0000,-999.000,-999.000,  2.0979,-999.000,9
      06MT22_5,   A10,    60,  2,    303,2,19930117,0041,-30.0048, -10.3295, 3791,   3754.0,   2.4000,  34.8780,2,-999.0000,9,    238.2,2,    50.53,2,    24.16,9,     1.60,2,    0.003,2,    0.002,2,    0.000,2, -999.000,9,-999.0000,9,  -999.00,9,   -999.0,9,-999.000,9,  -999.00,9,   2201.4,2,   -999.0,9,   2345.7,2,  -999.00,9,  -999.0,-999.0000,-999.000,-999.000,  2.0824,-999.000,9
      06MT22_5,   A10,    60,  2,    301,2,19930117,0041,-30.0048, -10.3295, 3791,   3807.0,   2.4050,  34.8770,2,  34.8770,2,    238.2,2,    50.64,2,    24.07,9,     1.57,2,    0.005,2,    0.001,2,    0.003,2, -999.000,9,-999.0000,9,  -999.00,9,   -999.0,9,-999.000,9,  -999.00,9,   2218.1,2,   -999.0,9,   2349.3,2,  -999.00,9,  -999.0,-999.0000,-999.000,-999.000,  2.0814,-999.000,9
      06MT22_5,   A10,    60,  2,    302,2,19930117,0041,-30.0048, -10.3295, 3791,   3816.0,   2.4050,  34.8780,2,-999.0000,9,   -999.0,9,  -999.00,9,  -999.00,9,  -999.00,9, -999.000,9, -999.000,9, -999.000,9, -999.000,9,-999.0000,9,  -999.00,9,   -999.0,9,-999.000,9,  -999.00,9,   -999.0,9,   -999.0,9,   -999.0,9,  -999.00,9,  -999.0,-999.0000,-999.000,-999.000,  2.0804,-999.000,9
      06MT22_5,   A10,    61,  1,    217,2,19930117,0505,-30.0000,  -9.7000, 3935,     12.0,  24.4370,  35.7360,2,  35.7310,2,    214.6,2,     0.90,2,     0.06,9,     0.20,2, -999.000,9, -999.000,9, -999.000,9, -999.000,9,-999.0000,9,  -999.00,9,   -999.0,9,-999.000,9,  -999.00,9,   -999.0,0,   -999.0,9,   -999.0,9,  -999.00,9,  -999.0,-999.0000,-999.000,-999.000, 24.4344,-999.000,9
      06MT22_5,   A10,    61,  1,    208,2,19930117,0505,-30.0000,  -9.7000, 3935,     31.0,  19.5060,  35.6600,2,-999.0000,9,    246.1,2,     0.86,2,     0.00,9,     0.21,2, -999.000,9, -999.000,9, -999.000,9, -999.000,9,-999.0000,9,  -999.00,9,   -999.0,9,-999.000,9,  -999.00,9,   -999.0,0,   -999.0,9,   -999.0,9,  -999.00,9,  -999.0,-999.0000,-999.000,-999.000, 19.5004,-999.000,9
      06MT22_5,   A10,    61,  1,    207,2,19930117,0505,-30.0000,  -9.7000, 3935,     52.0,  18.4260,  35.7470,2,  35.7450,2,    247.0,2,     0.99,2,     0.06,9,     0.20,2, -999.000,9, -999.000,9, -999.000,9, -999.000,9,-999.0000,9,  -999.00,9,   -999.0,9,-999.000,9,  -999.00,9,   -999.0,0,   -999.0,9,   -999.0,9,  -999.00,9,  -999.0,-999.0000,-999.000,-999.000, 18.4169,-999.000,9
      06MT22_5,   A10,    61,  1,    206,2,19930117,0505,-30.0000,  -9.7000, 3935,     72.0,  17.9440,  35.7380,2,-999.0000,9,    247.4,2,     1.04,2,     0.03,9,     0.20,2, -999.000,9, -999.000,9, -999.000,9, -999.000,9,-999.0000,9,  -999.00,9,   -999.0,9,-999.000,9,  -999.00,9,   -999.0,0,   -999.0,9,   -999.0,9,  -999.00,9,  -999.0,-999.0000,-999.000,-999.000, 17.9317,-999.000,9
      06MT22_5,   A10,    61,  1,    205,2,19930117,0505,-30.0000,  -9.7000, 3935,    102.0,  17.1570,  35.6920,2,-999.0000,9,    246.0,2,     1.14,2,     0.04,9,     0.20,2, -999.000,9, -999.000,9, -999.000,9, -999.000,9,-999.0000,9,  -999.00,9,   -999.0,9,-999.000,9,  -999.00,9,   -999.0,0,   -999.0,9,   -999.0,9,  -999.00,9,  -999.0,-999.0000,-999.000,-999.000, 17.1400,-999.000,9
      06MT22_5,   A10,    61,  1,    204,2,19930117,0505,-30.0000,  -9.7000, 3935,    152.0,  15.8870,  35.5230,2,  35.5190,2,    233.9,2,     1.28,2,     1.48,9,     0.33,2, -999.000,9, -999.000,9, -999.000,9, -999.000,9,-999.0000,9,  -999.00,9,   -999.0,9,-999.000,9,  -999.00,9,   -999.0,0,   -999.0,9,   -999.0,9,  -999.00,9,  -999.0,-999.0000,-999.000,-999.000, 15.8630,-999.000,9
      06MT22_5,   A10,    61,  1,    203,2,19930117,0505,-30.0000,  -9.7000, 3935,    201.0,  14.6100,  35.3480,2,-999.0000,9,    213.2,2,     2.91,2,     6.22,9,     0.60,2, -999.000,9, -999.000,9, -999.000,9, -999.000,9,-999.0000,9,  -999.00,9,   -999.0,9,-999.000,9,  -999.00,9,   -999.0,0,   -999.0,9,   -999.0,9,  -999.00,9,  -999.0,-999.0000,-999.000,-999.000, 14.5801,-999.000,9
      06MT22_5,   A10,    61,  1,    202,2,19930117,0505,-30.0000,  -9.7000, 3935,    302.0,  12.7840,  35.1350,2,-999.0000,9,    211.1,2,     3.68,2,    10.44,9,     0.77,2, -999.000,9, -999.000,9, -999.000,9, -999.000,9,-999.0000,9,  -999.00,9,   -999.0,9,-999.000,9,  -999.00,9,   -999.0,0,   -999.0,9,   -999.0,9,  -999.00,9,  -999.0,-999.0000,-999.000,-999.000, 12.7428,-999.000,9
      06MT22_5,   A10,    61,  1,    201,2,19930117,0505,-30.0000,  -9.7000, 3935,    401.0,  10.8130,  34.9020,2,  34.8990,2,    208.8,2,     5.41,2,    15.29,9,     1.15,2, -999.000,9, -999.000,9, -999.000,9, -999.000,9,-999.0000,9,  -999.00,9,   -999.0,9,-999.000,9,  -999.00,9,   -999.0,0,   -999.0,9,   -999.0,9,  -999.00,9,  -999.0,-999.0000,-999.000,-999.000, 10.7637,-999.000,9