BOTTLE,20030417WHPSIOSA
EXPOCODE,SECT_ID,STNNBR,CASTNO,BTLNBR,BTLNBR_FLAG_W,DATE,TIME,LATITUDE,LONGITUDE,DEPTH,CTDPRS,CTDTMP,CTDSAL,CTDSAL_FLAG_W,SALNTY,SALNTY_FLAG_W,OXYGEN,OXYGEN_FLAG_W,SILCAT,SILCAT_FLAG_W,NO2+NO3,NO2+NO3_FLAG_W,PHSPHT,PHSPHT_FLAG_W,CFC-11,CFC-11_FLAG_W,CFC-12,CFC-12_FLAG_W,CCL4,CCL4_FLAG_W,TRITUM,TRITUM_FLAG_W,HELIUM,HELIUM_FLAG_W,DELHE3,DELHE3_FLAG_W,DELC14,DELC14_FLAG_W,NEON,NEON_FLAG_W,O18O16,O18O16_FLAG_W,TCARBN,TCARBN_FLAG_W,PCO2,PCO2_FLAG_W,ALKALI,ALKALI_FLAG_W,PH,PH_FLAG_W,C14ERR,HELIER,DELHER,NEONER,THETA,TRITER,TRITER_FLAG_W
,,,,,,,,,,,DBAR,ITS-90,PSS-78,,PSS-78,,UMOL/KG,,UMOL/KG,,UMOL/KG,,UMOL/KG,,PMOL/KG,,PMOL/KG,,PMOL/KG,,TU,,NMOL/KG,,PERCNT,,/MILLE,,NMOL/KG,,MILLE,,UMOL/KG,,UATM,,UMOL/KG,,,,/MILLE,NMOL/KG,PERCNT,NMOL/KG,ITS-90,TU,
      06MT22_5,   A10,    82,  2,    324,2,19930123,1719,-29.7462,   5.1068, 5262,      9.0,  23.2190,  35.7950,2,  35.8010,2,   -999.0,9,  -999.00,9,  -999.00,9,  -999.00,9, -999.000,9, -999.000,9, -999.000,9, -999.000,9,-999.0000,9,  -999.00,9,   -999.0,9,-999.000,9,  -999.00,9,   -999.0,9,   -999.0,9,   -999.0,9,  -999.00,9,  -999.0,-999.0000,-999.000,-999.000, 23.2171,-999.000,9
      06MT22_5,   A10,    82,  2,    322,2,19930123,1719,-29.7462,   5.1068, 5262,   1000.0,   3.6050,  34.3990,2,  34.4010,2,   -999.0,9,  -999.00,9,  -999.00,9,  -999.00,9, -999.000,9, -999.000,9, -999.000,9, -999.000,9,-999.0000,9,  -999.00,9,   -999.0,9,-999.000,9,  -999.00,9,   -999.0,9,   -999.0,9,   -999.0,9,  -999.00,9,  -999.0,-999.0000,-999.000,-999.000,  3.5326,-999.000,9
      06MT22_5,   A10,    82,  2,    321,2,19930123,1719,-29.7462,   5.1068, 5262,   1199.0,   3.2070,  34.5180,2,-999.0000,9,    192.6,2,    42.67,2,    33.98,9,     2.26,2, -999.000,9, -999.000,9, -999.000,9, -999.000,9,-999.0000,9,  -999.00,9,   -999.0,9,-999.000,9,  -999.00,9,   -999.0,9,   -999.0,9,   -999.0,9,  -999.00,9,  -999.0,-999.0000,-999.000,-999.000,  3.1213,-999.000,9
      06MT22_5,   A10,    82,  2,    320,2,19930123,1719,-29.7462,   5.1068, 5262,   1401.0,   3.1190,  34.6560,2,-999.0000,9,    180.8,2,    52.97,2,    34.39,9,     2.27,2, -999.000,9, -999.000,9, -999.000,9, -999.000,9,-999.0000,9,  -999.00,9,   -999.0,9,-999.000,9,  -999.00,9,   -999.0,9,   -999.0,9,   -999.0,9,  -999.00,9,  -999.0,-999.0000,-999.000,-999.000,  3.0176,-999.000,9
      06MT22_5,   A10,    82,  2,    319,2,19930123,1719,-29.7462,   5.1068, 5262,   1600.0,   3.1400,  34.7530,2,  34.7530,2,    186.2,2,    52.13,2,    32.31,9,     2.12,2, -999.000,9, -999.000,9, -999.000,9, -999.000,9,-999.0000,9,  -999.00,9,   -999.0,9,-999.000,9,  -999.00,9,   -999.0,9,   -999.0,9,   -999.0,9,  -999.00,9,  -999.0,-999.0000,-999.000,-999.000,  3.0216,-999.000,9
      06MT22_5,   A10,    82,  2,    318,2,19930123,1719,-29.7462,   5.1068, 5262,   1801.0,   3.0680,  34.8170,2,-999.0000,9,    199.2,2,    46.77,2,    29.63,9,     1.94,2, -999.000,9, -999.000,9, -999.000,9, -999.000,9,-999.0000,9,  -999.00,9,   -999.0,9,-999.000,9,  -999.00,9,   -999.0,9,   -999.0,9,   -999.0,9,  -999.00,9,  -999.0,-999.0000,-999.000,-999.000,  2.9326,-999.000,9
      06MT22_5,   A10,    82,  2,    317,2,19930123,1719,-29.7462,   5.1068, 5262,   1999.0,   2.9550,  34.8390,2,-999.0000,9,    212.9,2,    43.27,2,    27.29,9,     1.83,2, -999.000,9, -999.000,9, -999.000,9, -999.000,9,-999.0000,9,  -999.00,9,   -999.0,9,-999.000,9,  -999.00,9,   -999.0,9,   -999.0,9,   -999.0,9,  -999.00,9,  -999.0,-999.0000,-999.000,-999.000,  2.8035,-999.000,9
      06MT22_5,   A10,    82,  2,    316,2,19930123,1719,-29.7462,   5.1068, 5262,   2251.0,   2.7830,  34.8540,2,  34.8530,2,    220.3,2,    43.39,2,    26.36,9,     1.76,2, -999.000,9, -999.000,9, -999.000,9, -999.000,9,-999.0000,9,  -999.00,9,   -999.0,9,-999.000,9,  -999.00,9,   -999.0,9,   -999.0,9,   -999.0,9,  -999.00,9,  -999.0,-999.0000,-999.000,-999.000,  2.6110,-999.000,9
      06MT22_5,   A10,    82,  2,    315,2,19930123,1719,-29.7462,   5.1068, 5262,   2500.0,   2.6020,  34.8540,2,-999.0000,9,    226.6,2,    45.27,2,    25.68,9,     1.68,2, -999.000,9, -999.000,9, -999.000,9, -999.000,9,-999.0000,9,  -999.00,9,   -999.0,9,-999.000,9,  -999.00,9,   -999.0,9,   -999.0,9,   -999.0,9,  -999.00,9,  -999.0,-999.0000,-999.000,-999.000,  2.4097,-999.000,9
      06MT22_5,   A10,    82,  2,    314,2,19930123,1719,-29.7462,   5.1068, 5262,   2752.0,   2.4670,  34.8540,2,-999.0000,9,    229.4,2,    49.22,2,    25.67,9,     1.65,2, -999.000,9, -999.000,9, -999.000,9, -999.000,9,-999.0000,9,  -999.00,9,   -999.0,9,-999.000,9,  -999.00,9,   -999.0,9,   -999.0,9,   -999.0,9,  -999.00,9,  -999.0,-999.0000,-999.000,-999.000,  2.2529,-999.000,9
      06MT22_5,   A10,    82,  2,    313,2,19930123,1719,-29.7462,   5.1068, 5262,   3004.0,   2.3840,  34.8560,2,  34.8550,2,    231.2,2,    52.28,2,    25.76,9,     1.66,2, -999.000,9, -999.000,9, -999.000,9, -999.000,9,-999.0000,9,  -999.00,9,   -999.0,9,-999.000,9,  -999.00,9,   -999.0,9,   -999.0,9,   -999.0,9,  -999.00,9,  -999.0,-999.0000,-999.000,-999.000,  2.1466,-999.000,9
      06MT22_5,   A10,    82,  2,    312,2,19930123,1719,-29.7462,   5.1068, 5262,   3253.0,   2.3210,  34.8560,2,-999.0000,9,    232.5,2,    54.31,2,    25.69,9,     1.64,2, -999.000,9, -999.000,9, -999.000,9, -999.000,9,-999.0000,9,  -999.00,9,   -999.0,9,-999.000,9,  -999.00,9,   -999.0,9,   -999.0,9,   -999.0,9,  -999.00,9,  -999.0,-999.0000,-999.000,-999.000,  2.0596,-999.000,9
      06MT22_5,   A10,    82,  2,    311,2,19930123,1719,-29.7462,   5.1068, 5262,   3511.0,   2.2290,  34.8530,2,-999.0000,9,    233.1,2,    56.38,2,    25.76,9,     1.67,2, -999.000,9, -999.000,9, -999.000,9, -999.000,9,-999.0000,9,  -999.00,9,   -999.0,9,-999.000,9,  -999.00,9,   -999.0,9,   -999.0,9,   -999.0,9,  -999.00,9,  -999.0,-999.0000,-999.000,-999.000,  1.9426,-999.000,9
      06MT22_5,   A10,    82,  2,    310,2,19930123,1719,-29.7462,   5.1068, 5262,   3754.0,   2.0660,  34.8350,2,  34.8340,2,    233.2,2,    59.38,2,    25.98,9,     1.67,2, -999.000,9, -999.000,9, -999.000,9, -999.000,9,-999.0000,9,  -999.00,9,   -999.0,9,-999.000,9,  -999.00,9,   -999.0,9,   -999.0,9,   -999.0,9,  -999.00,9,  -999.0,-999.0000,-999.000,-999.000,  1.7575,-999.000,9
      06MT22_5,   A10,    82,  2,    309,2,19930123,1719,-29.7462,   5.1068, 5262,   4006.0,   1.6890,  34.7950,2,-999.0000,9,    229.8,2,    66.54,2,    26.94,9,     1.77,2, -999.000,9, -999.000,9, -999.000,9, -999.000,9,-999.0000,9,  -999.00,9,   -999.0,9,-999.000,9,  -999.00,9,   -999.0,9,   -999.0,9,   -999.0,9,  -999.00,9,  -999.0,-999.0000,-999.000,-999.000,  1.3637,-999.000,9
      06MT22_5,   A10,    82,  2,    308,2,19930123,1719,-29.7462,   5.1068, 5262,   4254.0,   1.3340,  34.7590,2,-999.0000,9,    224.9,2,    82.03,2,    28.88,9,     1.89,2, -999.000,9, -999.000,9, -999.000,9, -999.000,9,-999.0000,9,  -999.00,9,   -999.0,9,-999.000,9,  -999.00,9,   -999.0,9,   -999.0,9,   -999.0,9,  -999.00,9,  -999.0,-999.0000,-999.000,-999.000,  0.9916,-999.000,9
      06MT22_5,   A10,    82,  2,    307,2,19930123,1719,-29.7462,   5.1068, 5262,   4504.0,   1.1900,  34.7440,2,  34.7430,2,    220.8,2,    96.26,2,    30.74,9,     2.04,2, -999.000,9, -999.000,9, -999.000,9, -999.000,9,-999.0000,9,  -999.00,9,   -999.0,9,-999.000,9,  -999.00,9,   -999.0,9,   -999.0,9,   -999.0,9,  -999.00,9,  -999.0,-999.0000,-999.000,-999.000,  0.8238,-999.000,9
      06MT22_5,   A10,    82,  2,    306,2,19930123,1719,-29.7462,   5.1068, 5262,   4747.0,   1.1480,  34.7380,2,-999.0000,9,    220.1,2,   102.58,2,    31.62,9,     2.10,2, -999.000,9, -999.000,9, -999.000,9, -999.000,9,-999.0000,9,  -999.00,9,   -999.0,9,-999.000,9,  -999.00,9,   -999.0,9,   -999.0,9,   -999.0,9,  -999.00,9,  -999.0,-999.0000,-999.000,-999.000,  0.7553,-999.000,9
      06MT22_5,   A10,    82,  2,    305,2,19930123,1719,-29.7462,   5.1068, 5262,   5009.0,   1.1550,  34.7360,2,-999.0000,9,    218.9,2,   105.32,2,    31.96,9,     2.10,2,    0.005,2,    0.005,2,    0.055,2, -999.000,9,-999.0000,9,  -999.00,9,   -999.0,9,-999.000,9,  -999.00,9,   -999.0,9,   -999.0,9,   -999.0,9,  -999.00,9,  -999.0,-999.0000,-999.000,-999.000,  0.7310,-999.000,9
      06MT22_5,   A10,    82,  2,    304,2,19930123,1719,-29.7462,   5.1068, 5262,   5199.0,   1.1650,  34.7350,2,  34.7340,2,    219.9,2,   106.38,2,    31.94,9,     2.15,2,    0.008,2,    0.005,2,    0.062,2, -999.000,9,-999.0000,9,  -999.00,9,   -999.0,9,-999.000,9,  -999.00,9,   -999.0,9,   -999.0,9,   -999.0,9,  -999.00,9,  -999.0,-999.0000,-999.000,-999.000,  0.7177,-999.000,9
      06MT22_5,   A10,    82,  2,    302,2,19930123,1719,-29.7462,   5.1068, 5262,   5270.0,   1.1740,  34.7340,2,  34.7340,2,    218.1,2,   106.89,2,    31.98,9,     2.14,2,    0.008,2,    0.004,2,    0.069,2, -999.000,9,-999.0000,9,  -999.00,9,   -999.0,9,-999.000,9,  -999.00,9,   -999.0,9,   -999.0,9,   -999.0,9,  -999.00,9,  -999.0,-999.0000,-999.000,-999.000,  0.7176,-999.000,9
      06MT22_5,   A10,    82,  2,    301,2,19930123,1719,-29.7462,   5.1068, 5262,   5270.0,   1.1740,  34.7340,2,  34.7340,2,    218.3,2,   106.68,2,    31.96,9,     2.16,2,    0.008,2,    0.004,2,    0.066,2, -999.000,9,-999.0000,9,  -999.00,9,   -999.0,9,-999.000,9,  -999.00,9,   -999.0,9,   -999.0,9,   -999.0,9,  -999.00,9,  -999.0,-999.0000,-999.000,-999.000,  0.7176,-999.000,9
      06MT22_5,   A10,    82,  2,    303,2,19930123,1719,-29.7462,   5.1068, 5262,   5273.0,   1.1730,  34.7350,2,-999.0000,9,    218.4,2,   106.86,2,    32.00,9,     2.13,2,    0.011,2,    0.007,2,    0.071,2, -999.000,9,-999.0000,9,  -999.00,9,   -999.0,9,-999.000,9,  -999.00,9,   -999.0,9,   -999.0,9,   -999.0,9,  -999.00,9,  -999.0,-999.0000,-999.000,-999.000,  0.7163,-999.000,9
      06MT22_5,   A10,    83,  1,    217,2,19930123,2300,-29.7500,   5.9000, 5156,     12.0,  22.8000,  35.7640,2,  35.7670,2,    223.3,2,     0.98,2,     0.10,9,     0.13,2, -999.000,9, -999.000,9, -999.000,9, -999.000,9,-999.0000,9,  -999.00,9,   -999.0,9,-999.000,9,  -999.00,9,   -999.0,0,   -999.0,9,   -999.0,9,  -999.00,9,  -999.0,-999.0000,-999.000,-999.000, 22.7976,-999.000,9
      06MT22_5,   A10,    83,  1,    216,2,19930123,2300,-29.7500,   5.9000, 5156,     12.0,  22.8010,  35.7640,2,-999.0000,9,   -999.0,9,  -999.00,9,  -999.00,9,  -999.00,9,    2.058,2,    1.160,2,    2.570,2, -999.000,9,-999.0000,9,  -999.00,9,   -999.0,9,-999.000,9,  -999.00,9,   2045.2,2,   -999.0,9,   -999.0,9,  -999.00,9,  -999.0,-999.0000,-999.000,-999.000, 22.7986,-999.000,9
      06MT22_5,   A10,    83,  1,    215,2,19930123,2300,-29.7500,   5.9000, 5156,     32.0,  21.7950,  35.6910,2,-999.0000,9,    237.9,2,     1.02,2,     0.00,9,     0.12,2,    2.257,2,    1.251,2,    2.589,2, -999.000,9,-999.0000,9,  -999.00,9,   -999.0,9,-999.000,9,  -999.00,9,   2040.5,2,   -999.0,9,   -999.0,9,  -999.00,9,  -999.0,-999.0000,-999.000,-999.000, 21.7887,-999.000,9
      06MT22_5,   A10,    83,  1,    214,2,19930123,2300,-29.7500,   5.9000, 5156,     52.0,  18.4280,  35.5760,2,-999.0000,9,    260.5,2,     0.89,2,     0.00,9,     0.11,2, -999.000,9, -999.000,9, -999.000,9, -999.000,9,-999.0000,9,  -999.00,9,   -999.0,9,-999.000,9,  -999.00,9,   2034.6,2,   -999.0,9,   -999.0,9,  -999.00,9,  -999.0,-999.0000,-999.000,-999.000, 18.4189,-999.000,9
      06MT22_5,   A10,    83,  1,    213,2,19930123,2300,-29.7500,   5.9000, 5156,     72.0,  17.0190,  35.5960,2,  35.5740,2,    249.6,2,     1.50,2,     0.07,9,     0.18,2,    2.623,2,    1.408,2,    2.024,2, -999.000,9,-999.0000,9,  -999.00,9,   -999.0,9,-999.000,9,  -999.00,9,   2054.1,2,   -999.0,9,   -999.0,9,  -999.00,9,  -999.0,-999.0000,-999.000,-999.000, 17.0071,-999.000,9
      06MT22_5,   A10,    83,  1,    212,2,19930123,2300,-29.7500,   5.9000, 5156,    102.0,  16.0910,  35.5480,2,-999.0000,9,    233.5,2,     2.21,2,     2.37,9,     0.29,2,    2.607,2,    1.402,2,    1.434,2, -999.000,9,-999.0000,9,  -999.00,9,   -999.0,9,-999.000,9,  -999.00,9,   2068.6,2,   -999.0,9,   -999.0,9,  -999.00,9,  -999.0,-999.0000,-999.000,-999.000, 16.0748,-999.000,9
      06MT22_5,   A10,    83,  1,    211,2,19930123,2300,-29.7500,   5.9000, 5156,    152.0,  15.5100,  35.4970,2,-999.0000,9,    236.2,2,     2.20,2,     3.30,9,     0.32,2, -999.000,9, -999.000,9, -999.000,9, -999.000,9,-999.0000,9,  -999.00,9,   -999.0,9,-999.000,9,  -999.00,9,   2067.0,2,   -999.0,9,   -999.0,9,  -999.00,9,  -999.0,-999.0000,-999.000,-999.000, 15.4864,-999.000,9
      06MT22_5,   A10,    83,  1,    210,2,19930123,2300,-29.7500,   5.9000, 5156,    201.0,  14.6450,  35.3600,2,  35.3250,2,    235.6,2,     2.57,2,     5.15,9,     0.45,2,    2.707,2,    1.440,2,    1.349,2, -999.000,9,-999.0000,9,  -999.00,9,   -999.0,9,-999.000,9,  -999.00,9,   2077.3,2,   -999.0,9,   -999.0,9,  -999.00,9,  -999.0,-999.0000,-999.000,-999.000, 14.6150,-999.000,9
      06MT22_5,   A10,    83,  1,    209,2,19930123,2300,-29.7500,   5.9000, 5156,    301.0,  12.4040,  35.0490,2,-999.0000,9,    209.0,2,     4.64,2,    12.26,9,     0.84,2,    2.389,2,    1.240,2,    1.002,2, -999.000,9,-999.0000,9,  -999.00,9,   -999.0,9,-999.000,9,  -999.00,9,   2110.0,2,   -999.0,9,   -999.0,9,  -999.00,9,  -999.0,-999.0000,-999.000,-999.000, 12.3638,-999.000,9
      06MT22_5,   A10,    83,  1,    208,2,19930123,2300,-29.7500,   5.9000, 5156,    400.0,  10.6010,  34.8560,2,-999.0000,9,    197.1,2,     7.27,2,    17.65,9,     1.16,2,    2.061,2,    1.051,2,    1.101,2, -999.000,9,-999.0000,9,  -999.00,9,   -999.0,9,-999.000,9,  -999.00,9,   2133.6,2,   -999.0,9,   -999.0,9,  -999.00,9,  -999.0,-999.0000,-999.000,-999.000, 10.5526,-999.000,9
      06MT22_5,   A10,    83,  1,    207,2,19930123,2300,-29.7500,   5.9000, 5156,    499.0,   8.8200,  34.6620,2,  34.6540,2,    203.1,2,    10.34,2,    21.45,9,     1.43,2,    1.850,2,    0.932,2,    1.430,2, -999.000,9,-999.0000,9,  -999.00,9,   -999.0,9,-999.000,9,  -999.00,9,   2144.1,2,   -999.0,9,   -999.0,9,  -999.00,9,  -999.0,-999.0000,-999.000,-999.000,  8.7657,-999.000,9
      06MT22_5,   A10,    83,  1,    206,2,19930123,2300,-29.7500,   5.9000, 5156,    600.0,   7.2580,  34.5160,2,-999.0000,9,    203.9,2,    14.25,2,    25.48,9,     1.67,2, -999.000,9, -999.000,9, -999.000,9, -999.000,9,-999.0000,9,  -999.00,9,   -999.0,9,-999.000,9,  -999.00,9,   -999.0,0,   -999.0,9,   -999.0,9,  -999.00,9,  -999.0,-999.0000,-999.000,-999.000,  7.1996,-999.000,9
      06MT22_5,   A10,    83,  1,    205,2,19930123,2300,-29.7500,   5.9000, 5156,    600.0,   7.2580,  34.5160,2,-999.0000,9,   -999.0,9,  -999.00,9,  -999.00,9,  -999.00,9,    1.639,2,    0.819,2,    1.788,2, -999.000,9,-999.0000,9,  -999.00,9,   -999.0,9,-999.000,9,  -999.00,9,   2157.7,2,   -999.0,9,   -999.0,9,  -999.00,9,  -999.0,-999.0000,-999.000,-999.000,  7.1996,-999.000,9
      06MT22_5,   A10,    83,  1,    204,2,19930123,2300,-29.7500,   5.9000, 5156,    700.0,   5.5600,  34.3860,2,  34.3820,2,    216.3,2,    20.47,2,    28.88,9,     1.88,2,    1.535,2,    0.747,2,    2.289,2, -999.000,9,-999.0000,9,  -999.00,9,   -999.0,9,-999.000,9,  -999.00,9,   2169.3,2,   -999.0,9,   -999.0,9,  -999.00,9,  -999.0,-999.0000,-999.000,-999.000,  5.5003,-999.000,9
      06MT22_5,   A10,    83,  1,    203,2,19930123,2300,-29.7500,   5.9000, 5156,    800.0,   4.5490,  34.3380,2,-999.0000,9,    214.7,2,    26.43,2,    31.09,9,     2.05,2,    1.189,2,    0.574,2,    2.105,2, -999.000,9,-999.0000,9,  -999.00,9,   -999.0,9,-999.000,9,  -999.00,9,   2182.1,2,   -999.0,9,   -999.0,9,  -999.00,9,  -999.0,-999.0000,-999.000,-999.000,  4.4864,-999.000,9
      06MT22_5,   A10,    83,  1,    202,2,19930123,2300,-29.7500,   5.9000, 5156,    900.0,   4.1120,  34.3620,2,-999.0000,9,    200.1,2,    33.36,2,    32.92,9,     2.16,2,    0.743,2,    0.366,2,    1.563,2, -999.000,9,-999.0000,9,  -999.00,9,   -999.0,9,-999.000,9,  -999.00,9,   2197.4,2,   -999.0,9,   -999.0,9,  -999.00,9,  -999.0,-999.0000,-999.000,-999.000,  4.0440,-999.000,9
      06MT22_5,   A10,    83,  1,    201,2,19930123,2300,-29.7500,   5.9000, 5156,   1001.0,   3.6340,  34.3990,2,  34.4020,2,    192.7,2,    41.68,2,    33.81,9,     2.25,2,    0.455,2,    0.237,2,    1.169,2, -999.000,9,-999.0000,9,  -999.00,9,   -999.0,9,-999.000,9,  -999.00,9,   2210.1,2,   -999.0,9,   -999.0,9,  -999.00,9,  -999.0,-999.0000,-999.000,-999.000,  3.5613,-999.000,9