BOTTLE,20030417WHPSIOSA
EXPOCODE,SECT_ID,STNNBR,CASTNO,BTLNBR,BTLNBR_FLAG_W,DATE,TIME,LATITUDE,LONGITUDE,DEPTH,CTDPRS,CTDTMP,CTDSAL,CTDSAL_FLAG_W,SALNTY,SALNTY_FLAG_W,OXYGEN,OXYGEN_FLAG_W,SILCAT,SILCAT_FLAG_W,NO2+NO3,NO2+NO3_FLAG_W,PHSPHT,PHSPHT_FLAG_W,CFC-11,CFC-11_FLAG_W,CFC-12,CFC-12_FLAG_W,CCL4,CCL4_FLAG_W,TRITUM,TRITUM_FLAG_W,HELIUM,HELIUM_FLAG_W,DELHE3,DELHE3_FLAG_W,DELC14,DELC14_FLAG_W,NEON,NEON_FLAG_W,O18O16,O18O16_FLAG_W,TCARBN,TCARBN_FLAG_W,PCO2,PCO2_FLAG_W,ALKALI,ALKALI_FLAG_W,PH,PH_FLAG_W,C14ERR,HELIER,DELHER,NEONER,THETA,TRITER,TRITER_FLAG_W
,,,,,,,,,,,DBAR,ITS-90,PSS-78,,PSS-78,,UMOL/KG,,UMOL/KG,,UMOL/KG,,UMOL/KG,,PMOL/KG,,PMOL/KG,,PMOL/KG,,TU,,NMOL/KG,,PERCNT,,/MILLE,,NMOL/KG,,MILLE,,UMOL/KG,,UATM,,UMOL/KG,,,,/MILLE,NMOL/KG,PERCNT,NMOL/KG,ITS-90,TU,
      06MT22_5,   A10,    41,  1,    217,2,19930111,0340,-30.0000, -24.1950, 5059,     12.0,  22.9310,  35.8640,2,  35.8710,2,    219.6,2,     0.20,2,     0.01,9,     0.04,2, -999.000,9, -999.000,9, -999.000,9, -999.000,9,-999.0000,9,  -999.00,9,   -999.0,9,-999.000,9,  -999.00,9,   -999.0,0,   -999.0,9,   -999.0,9,  -999.00,9,  -999.0,-999.0000,-999.000,-999.000, 22.9285,-999.000,9
      06MT22_5,   A10,    41,  1,    213,2,19930111,0340,-30.0000, -24.1950, 5059,     12.0,  22.9560,  35.8650,2,-999.0000,9,   -999.0,9,  -999.00,9,  -999.00,9,  -999.00,9, -999.000,9, -999.000,9, -999.000,9, -999.000,9,-999.0000,9,  -999.00,9,   -999.0,9,-999.000,9,  -999.00,9,   -999.0,0,   -999.0,9,   -999.0,9,  -999.00,9,  -999.0,-999.0000,-999.000,-999.000, 22.9535,-999.000,9
      06MT22_5,   A10,    41,  1,    212,2,19930111,0340,-30.0000, -24.1950, 5059,     31.0,  22.3200,  35.8370,2,-999.0000,9,    221.9,2,     0.00,2,     0.00,9,     0.03,2, -999.000,9, -999.000,9, -999.000,9, -999.000,9,-999.0000,9,  -999.00,9,   -999.0,9,-999.000,9,  -999.00,9,   -999.0,0,   -999.0,9,   -999.0,9,  -999.00,9,  -999.0,-999.0000,-999.000,-999.000, 22.3138,-999.000,9
      06MT22_5,   A10,    41,  1,    211,2,19930111,0340,-30.0000, -24.1950, 5059,     52.0,  21.9950,  35.8750,2,-999.0000,9,    231.0,2,     0.23,2,     0.02,9,     0.05,2, -999.000,9, -999.000,9, -999.000,9, -999.000,9,-999.0000,9,  -999.00,9,   -999.0,9,-999.000,9,  -999.00,9,   -999.0,0,   -999.0,9,   -999.0,9,  -999.00,9,  -999.0,-999.0000,-999.000,-999.000, 21.9847,-999.000,9
      06MT22_5,   A10,    41,  1,    210,2,19930111,0340,-30.0000, -24.1950, 5059,     72.0,  19.5650,  35.9360,2,  35.9240,2,    241.0,2,     0.27,2,     0.02,9,     0.05,2, -999.000,9, -999.000,9, -999.000,9, -999.000,9,-999.0000,9,  -999.00,9,   -999.0,9,-999.000,9,  -999.00,9,   -999.0,0,   -999.0,9,   -999.0,9,  -999.00,9,  -999.0,-999.0000,-999.000,-999.000, 19.5519,-999.000,9
      06MT22_5,   A10,    41,  1,    209,2,19930111,0340,-30.0000, -24.1950, 5059,    103.0,  18.3920,  35.8460,2,-999.0000,9,    238.2,2,     0.32,2,     0.09,9,     0.06,2, -999.000,9, -999.000,9, -999.000,9, -999.000,9,-999.0000,9,  -999.00,9,   -999.0,9,-999.000,9,  -999.00,9,   -999.0,0,   -999.0,9,   -999.0,9,  -999.00,9,  -999.0,-999.0000,-999.000,-999.000, 18.3740,-999.000,9
      06MT22_5,   A10,    41,  1,    208,2,19930111,0340,-30.0000, -24.1950, 5059,    152.0,  17.2360,  35.6910,2,-999.0000,9,    237.1,2,     0.41,2,     0.05,9,     0.07,2, -999.000,9, -999.000,9, -999.000,9, -999.000,9,-999.0000,9,  -999.00,9,   -999.0,9,-999.000,9,  -999.00,9,   -999.0,0,   -999.0,9,   -999.0,9,  -999.00,9,  -999.0,-999.0000,-999.000,-999.000, 17.2106,-999.000,9
      06MT22_5,   A10,    41,  1,    207,2,19930111,0340,-30.0000, -24.1950, 5059,    202.0,  15.9800,  35.5570,2,  35.5390,2,    191.3,2,     0.51,2,     0.08,9,     0.11,2, -999.000,9, -999.000,9, -999.000,9, -999.000,9,-999.0000,9,  -999.00,9,   -999.0,9,-999.000,9,  -999.00,9,   -999.0,0,   -999.0,9,   -999.0,9,  -999.00,9,  -999.0,-999.0000,-999.000,-999.000, 15.9479,-999.000,9
      06MT22_5,   A10,    41,  1,    206,2,19930111,0340,-30.0000, -24.1950, 5059,    301.0,  14.0100,  35.3530,2,-999.0000,9,    211.8,2,     1.64,2,     3.04,9,     0.31,2, -999.000,9, -999.000,9, -999.000,9, -999.000,9,-999.0000,9,  -999.00,9,   -999.0,9,-999.000,9,  -999.00,9,   -999.0,0,   -999.0,9,   -999.0,9,  -999.00,9,  -999.0,-999.0000,-999.000,-999.000, 13.9664,-999.000,9
      06MT22_5,   A10,    41,  1,    205,2,19930111,0340,-30.0000, -24.1950, 5059,    401.0,  12.0590,  35.0920,2,-999.0000,9,    212.5,2,     2.91,2,     7.62,9,     0.57,2, -999.000,9, -999.000,9, -999.000,9, -999.000,9,-999.0000,9,  -999.00,9,   -999.0,9,-999.000,9,  -999.00,9,   -999.0,0,   -999.0,9,   -999.0,9,  -999.00,9,  -999.0,-999.0000,-999.000,-999.000, 12.0062,-999.000,9
      06MT22_5,   A10,    41,  1,    204,2,19930111,0340,-30.0000, -24.1950, 5059,    500.0,  10.1200,  34.8270,2,  34.8300,2,    208.0,2,     4.51,2,    12.21,9,     0.84,2, -999.000,9, -999.000,9, -999.000,9, -999.000,9,-999.0000,9,  -999.00,9,   -999.0,9,-999.000,9,  -999.00,9,   -999.0,0,   -999.0,9,   -999.0,9,  -999.00,9,  -999.0,-999.0000,-999.000,-999.000, 10.0608,-999.000,9
      06MT22_5,   A10,    41,  1,    203,2,19930111,0340,-30.0000, -24.1950, 5059,    601.0,   8.0780,  34.5940,2,-999.0000,9,    207.3,2,     7.19,2,    17.32,9,     1.16,2, -999.000,9, -999.000,9, -999.000,9, -999.000,9,-999.0000,9,  -999.00,9,   -999.0,9,-999.000,9,  -999.00,9,   -999.0,0,   -999.0,9,   -999.0,9,  -999.00,9,  -999.0,-999.0000,-999.000,-999.000,  8.0159,-999.000,9
      06MT22_5,   A10,    41,  1,    202,2,19930111,0340,-30.0000, -24.1950, 5059,    701.0,   6.2740,  34.4230,2,-999.0000,9,    214.0,2,    10.77,2,    22.63,9,     1.52,2, -999.000,9, -999.000,9, -999.000,9, -999.000,9,-999.0000,9,  -999.00,9,   -999.0,9,-999.000,9,  -999.00,9,   -999.0,0,   -999.0,9,   -999.0,9,  -999.00,9,  -999.0,-999.0000,-999.000,-999.000,  6.2105,-999.000,9
      06MT22_5,   A10,    41,  1,    201,2,19930111,0340,-30.0000, -24.1950, 5059,    851.0,   4.7010,  34.3220,2,  34.3310,2,    220.5,2,    15.28,2,    26.76,9,     1.83,2, -999.000,9, -999.000,9, -999.000,9, -999.000,9,-999.0000,9,  -999.00,9,   -999.0,9,-999.000,9,  -999.00,9,   -999.0,0,   -999.0,9,   -999.0,9,  -999.00,9,  -999.0,-999.0000,-999.000,-999.000,  4.6332,-999.000,9
      06MT22_5,   A10,    41,  2,    301,2,19930111,0425,-30.0003, -24.1698, 4805,     10.0,  22.8620,  35.8680,2,  35.8760,2,    230.3,2,  -999.00,9,  -999.00,9,  -999.00,9, -999.000,9, -999.000,9, -999.000,9, -999.000,9,-999.0000,9,  -999.00,9,   -999.0,9,-999.000,9,  -999.00,9,   -999.0,0,   -999.0,9,   -999.0,9,  -999.00,9,  -999.0,-999.0000,-999.000,-999.000, 22.8600,-999.000,9
      06MT22_5,   A10,    41,  2,    324,2,19930111,0425,-30.0003, -24.1698, 4805,     10.0,  22.8620,  35.8680,2,  35.8660,2,    212.1,2,  -999.00,9,  -999.00,9,  -999.00,9, -999.000,9, -999.000,9, -999.000,9, -999.000,9,-999.0000,9,  -999.00,9,   -999.0,9,-999.000,9,  -999.00,9,   -999.0,0,   -999.0,9,   -999.0,9,  -999.00,9,  -999.0,-999.0000,-999.000,-999.000, 22.8600,-999.000,9
      06MT22_5,   A10,    41,  2,    319,2,19930111,0425,-30.0003, -24.1698, 4805,   1199.0,   3.1700,  34.4420,2,-999.0000,9,    209.9,2,    47.67,2,    33.79,9,     2.37,2, -999.000,9, -999.000,9, -999.000,9, -999.000,9,-999.0000,9,  -999.00,9,   -999.0,9,-999.000,9,  -999.00,9,   -999.0,0,   -999.0,9,   -999.0,9,  -999.00,9,  -999.0,-999.0000,-999.000,-999.000,  3.0850,-999.000,9
      06MT22_5,   A10,    41,  2,    318,2,19930111,0425,-30.0003, -24.1698, 4805,   1399.0,   2.9010,  34.5570,2,  34.5580,2,    195.4,2,    54.88,2,    33.44,9,     2.36,2, -999.000,9, -999.000,9, -999.000,9, -999.000,9,-999.0000,9,  -999.00,9,   -999.0,9,-999.000,9,  -999.00,9,   -999.0,0,   -999.0,9,   -999.0,9,  -999.00,9,  -999.0,-999.0000,-999.000,-999.000,  2.8026,-999.000,9
      06MT22_5,   A10,    41,  2,    317,2,19930111,0425,-30.0003, -24.1698, 4805,   1600.0,   2.8110,  34.6820,2,-999.0000,9,    190.7,2,  -999.00,9,  -999.00,9,  -999.00,9, -999.000,9, -999.000,9, -999.000,9, -999.000,9,-999.0000,9,  -999.00,9,   -999.0,9,-999.000,9,  -999.00,9,   -999.0,0,   -999.0,9,   -999.0,9,  -999.00,9,  -999.0,-999.0000,-999.000,-999.000,  2.6963,-999.000,9
      06MT22_5,   A10,    41,  2,    316,2,19930111,0425,-30.0003, -24.1698, 4805,   1800.0,   2.7690,  34.7580,2,-999.0000,9,    197.2,2,    54.90,2,    30.62,9,     2.16,2, -999.000,9, -999.000,9, -999.000,9, -999.000,9,-999.0000,9,  -999.00,9,   -999.0,9,-999.000,9,  -999.00,9,   -999.0,0,   -999.0,9,   -999.0,9,  -999.00,9,  -999.0,-999.0000,-999.000,-999.000,  2.6378,-999.000,9
      06MT22_5,   A10,    41,  2,    315,2,19930111,0425,-30.0003, -24.1698, 4805,   2000.0,   2.7070,  34.8060,2,-999.0000,9,    212.0,2,    49.79,2,    27.53,9,     1.83,2, -999.000,9, -999.000,9, -999.000,9, -999.000,9,-999.0000,9,  -999.00,9,   -999.0,9,-999.000,9,  -999.00,9,   -999.0,0,   -999.0,9,   -999.0,9,  -999.00,9,  -999.0,-999.0000,-999.000,-999.000,  2.5592,-999.000,9
      06MT22_5,   A10,    41,  2,    314,2,19930111,0425,-30.0003, -24.1698, 4805,   2251.0,   2.6810,  34.8460,2,  34.8450,2,    220.6,2,    46.10,2,    25.68,9,     1.74,2, -999.000,9, -999.000,9, -999.000,9, -999.000,9,-999.0000,9,  -999.00,9,   -999.0,9,-999.000,9,  -999.00,9,   -999.0,0,   -999.0,9,   -999.0,9,  -999.00,9,  -999.0,-999.0000,-999.000,-999.000,  2.5108,-999.000,9
      06MT22_5,   A10,    41,  2,    313,2,19930111,0425,-30.0003, -24.1698, 4805,   2502.0,   2.6650,  34.8690,2,-999.0000,9,    230.2,2,    42.99,2,    24.65,9,     1.62,2, -999.000,9, -999.000,9, -999.000,9, -999.000,9,-999.0000,9,  -999.00,9,   -999.0,9,-999.000,9,  -999.00,9,   -999.0,0,   -999.0,9,   -999.0,9,  -999.00,9,  -999.0,-999.0000,-999.000,-999.000,  2.4712,-999.000,9
      06MT22_5,   A10,    41,  2,    312,2,19930111,0425,-30.0003, -24.1698, 4805,   2752.0,   2.6920,  34.8960,2,-999.0000,9,    238.2,2,    38.74,2,    23.42,9,     1.49,2, -999.000,9, -999.000,9, -999.000,9, -999.000,9,-999.0000,9,  -999.00,9,   -999.0,9,-999.000,9,  -999.00,9,   -999.0,0,   -999.0,9,   -999.0,9,  -999.00,9,  -999.0,-999.0000,-999.000,-999.000,  2.4732,-999.000,9
      06MT22_5,   A10,    41,  2,    311,2,19930111,0425,-30.0003, -24.1698, 4805,   3003.0,   2.6260,  34.9040,2,-999.0000,9,    245.7,2,    38.34,2,    22.90,9,     1.47,2, -999.000,9, -999.000,9, -999.000,9, -999.000,9,-999.0000,9,  -999.00,9,   -999.0,9,-999.000,9,  -999.00,9,   -999.0,0,   -999.0,9,   -999.0,9,  -999.00,9,  -999.0,-999.0000,-999.000,-999.000,  2.3832,-999.000,9
      06MT22_5,   A10,    41,  2,    310,2,19930111,0425,-30.0003, -24.1698, 4805,   3252.0,   2.4570,  34.8960,2,  34.8960,2,    250.8,2,    42.34,2,    23.14,9,     1.51,2, -999.000,9, -999.000,9, -999.000,9, -999.000,9,-999.0000,9,  -999.00,9,   -999.0,9,-999.000,9,  -999.00,9,   -999.0,0,   -999.0,9,   -999.0,9,  -999.00,9,  -999.0,-999.0000,-999.000,-999.000,  2.1922,-999.000,9
      06MT22_5,   A10,    41,  2,    309,2,19930111,0425,-30.0003, -24.1698, 4805,   3502.0,   2.1310,  34.8670,2,-999.0000,9,    252.5,2,    53.23,2,    24.50,9,     1.61,2, -999.000,9, -999.000,9, -999.000,9, -999.000,9,-999.0000,9,  -999.00,9,   -999.0,9,-999.000,9,  -999.00,9,   -999.0,0,   -999.0,9,   -999.0,9,  -999.00,9,  -999.0,-999.0000,-999.000,-999.000,  1.8482,-999.000,9
      06MT22_5,   A10,    41,  2,    308,2,19930111,0425,-30.0003, -24.1698, 4805,   3755.0,   1.7260,  34.8240,2,-999.0000,9,    247.3,2,    69.33,2,    26.80,9,     1.79,2, -999.000,9, -999.000,9, -999.000,9, -999.000,9,-999.0000,9,  -999.00,9,   -999.0,9,-999.000,9,  -999.00,9,   -999.0,0,   -999.0,9,   -999.0,9,  -999.00,9,  -999.0,-999.0000,-999.000,-999.000,  1.4267,-999.000,9
      06MT22_5,   A10,    41,  2,    307,2,19930111,0425,-30.0003, -24.1698, 4805,   4006.0,   1.4200,  34.7900,2,  34.7900,2,    240.6,2,    81.88,2,    28.74,9,     1.91,2, -999.000,9, -999.000,9, -999.000,9, -999.000,9,-999.0000,9,  -999.00,9,   -999.0,9,-999.000,9,  -999.00,9,   -999.0,0,   -999.0,9,   -999.0,9,  -999.00,9,  -999.0,-999.0000,-999.000,-999.000,  1.1020,-999.000,9
      06MT22_5,   A10,    41,  2,    306,2,19930111,0425,-30.0003, -24.1698, 4805,   4255.0,   1.2650,  34.7710,2,-999.0000,9,    236.8,2,    88.98,2,    29.56,9,     1.99,2, -999.000,9, -999.000,9, -999.000,9, -999.000,9,-999.0000,9,  -999.00,9,   -999.0,9,-999.000,9,  -999.00,9,   -999.0,0,   -999.0,9,   -999.0,9,  -999.00,9,  -999.0,-999.0000,-999.000,-999.000,  0.9244,-999.000,9
      06MT22_5,   A10,    41,  2,    305,2,19930111,0425,-30.0003, -24.1698, 4805,   4506.0,   1.1840,  34.7590,2,  34.7580,2,    231.9,2,    93.51,2,    30.49,9,     2.05,2, -999.000,9, -999.000,9, -999.000,9, -999.000,9,-999.0000,9,  -999.00,9,   -999.0,9,-999.000,9,  -999.00,9,   -999.0,0,   -999.0,9,   -999.0,9,  -999.00,9,  -999.0,-999.0000,-999.000,-999.000,  0.8177,-999.000,9
      06MT22_5,   A10,    41,  2,    304,2,19930111,0425,-30.0003, -24.1698, 4805,   4608.0,   1.1880,  34.7590,2,  34.7580,2,    228.1,2,    93.78,2,    30.59,9,     2.08,2, -999.000,9, -999.000,9, -999.000,9, -999.000,9,-999.0000,9,  -999.00,9,   -999.0,9,-999.000,9,  -999.00,9,   -999.0,0,   -999.0,9,   -999.0,9,  -999.00,9,  -999.0,-999.0000,-999.000,-999.000,  0.8099,-999.000,9
      06MT22_5,   A10,    41,  2,    303,2,19930111,0425,-30.0003, -24.1698, 4805,   4686.0,   1.1890,  34.7570,2,  34.7570,2,    229.1,2,    95.70,2,    30.76,9,     2.10,2, -999.000,9, -999.000,9, -999.000,9, -999.000,9,-999.0000,9,  -999.00,9,   -999.0,9,-999.000,9,  -999.00,9,   -999.0,0,   -999.0,9,   -999.0,9,  -999.00,9,  -999.0,-999.0000,-999.000,-999.000,  0.8018,-999.000,9
      06MT22_5,   A10,    41,  2,    302,2,19930111,0425,-30.0003, -24.1698, 4805,   4686.0,   1.1890,  34.7570,2,  34.7570,2,    229.6,2,    94.06,2,    30.61,9,     2.08,2, -999.000,9, -999.000,9, -999.000,9, -999.000,9,-999.0000,9,  -999.00,9,   -999.0,9,-999.000,9,  -999.00,9,   -999.0,0,   -999.0,9,   -999.0,9,  -999.00,9,  -999.0,-999.0000,-999.000,-999.000,  0.8018,-999.000,9
      06MT22_5,   A10,    42,  1,    217,2,19930111,1157,-29.9998, -23.3153, 4627,     12.0,  21.9280,  35.6190,2,  35.6300,2,    228.0,2,     1.03,2,     0.11,9,     0.08,2, -999.000,9, -999.000,9, -999.000,9, -999.000,9,-999.0000,9,  -999.00,9,   -999.0,9,-999.000,9,  -999.00,9,   -999.0,9,   -999.0,9,   -999.0,9,  -999.00,9,  -999.0,-999.0000,-999.000,-999.000, 21.9256,-999.000,9
      06MT22_5,   A10,    42,  1,    210,2,19930111,1157,-29.9998, -23.3153, 4627,     12.0,  21.9280,  35.6190,2,-999.0000,9,   -999.0,9,  -999.00,9,  -999.00,9,  -999.00,9,    2.170,2,    1.209,2,    2.761,2,    0.923,2,   1.6784,2,    -1.38,2,   -999.0,9,   6.778,2,  -999.00,9,   2040.9,2,   -999.0,9,   -999.0,9,  -999.00,9,  -999.0,  0.0059,   0.250,   0.024, 21.9256,   0.045,9
      06MT22_5,   A10,    42,  1,    209,2,19930111,1157,-29.9998, -23.3153, 4627,     32.0,  21.4420,  35.6280,2,-999.0000,9,    228.1,2,     0.29,2,     0.10,9,     0.09,2,    2.188,2,    1.191,2,    2.728,2, -999.000,9,   1.6918,2,    -1.15,2,    106.4,2,   6.777,7,  -999.00,9,   2041.8,2,   -999.0,9,   -999.0,9,  -999.00,9,     6.3,  0.0068,   0.250,   0.027, 21.4358,-999.000,9
      06MT22_5,   A10,    42,  1,    208,2,19930111,1157,-29.9998, -23.3153, 4627,     52.0,  19.4060,  35.7300,2,-999.0000,9,    245.8,2,     0.30,2,     0.09,9,     0.13,2,    2.478,2,    1.340,2,    2.670,2,    0.917,2,-999.0000,1,  -999.00,1,   -999.0,9,-999.000,1,  -999.00,9,   2048.6,2,   -999.0,9,   -999.0,9,  -999.00,9,  -999.0,-999.0000,-999.000,-999.000, 19.3966,   0.021,9
      06MT22_5,   A10,    42,  1,    207,2,19930111,1157,-29.9998, -23.3153, 4627,     72.0,  18.0800,  35.6960,2,  35.6990,2,    246.9,2,     0.30,2,     0.04,9,     0.14,2, -999.000,9, -999.000,9, -999.000,9,    0.869,2,   1.7141,2,    -1.23,2,   -999.0,9,   7.042,2,  -999.00,9,   2050.5,2,   -999.0,9,   -999.0,9,  -999.00,9,  -999.0,  0.0069,   0.250,   0.028, 18.0676,   0.025,9
      06MT22_5,   A10,    42,  1,    206,2,19930111,1157,-29.9998, -23.3153, 4627,    102.0,  17.3820,  35.6680,2,-999.0000,9,    242.7,2,     0.26,2,     0.06,9,     0.14,2,    2.490,2,    1.359,2,    0.682,4,    0.901,2,   1.7221,5,    -1.83,3,   -999.0,9,   7.072,5,  -999.00,9,   2054.4,2,   -999.0,9,   -999.0,9,  -999.00,9,  -999.0,  0.0069,   0.250,   0.028, 17.3649,   0.021,9
      06MT22_5,   A10,    42,  1,    205,2,19930111,1157,-29.9998, -23.3153, 4627,    151.0,  15.9300,  35.5170,2,-999.0000,9,    227.7,2,     0.84,2,     1.87,9,     0.27,2,    2.203,4,    1.371,2,    1.787,2,    0.870,2,   1.7324,2,    -0.56,2,   -999.0,9,   7.071,4,  -999.00,9,   2072.7,2,   -999.0,9,   -999.0,9,  -999.00,9,  -999.0,  0.0069,   0.250,   0.028, 15.9061,   0.024,9
      06MT22_5,   A10,    42,  1,    204,2,19930111,1157,-29.9998, -23.3153, 4627,    201.0,  14.8780,  35.3860,2,  35.3900,2,    218.6,2,     2.01,2,     4.89,9,     0.46,2,    2.517,2,    1.325,2,    0.957,2,    0.814,2,-999.0000,1,  -999.00,1,   -999.0,9,-999.000,1,  -999.00,9,   2073.0,2,   -999.0,9,   -999.0,9,  -999.00,9,  -999.0,-999.0000,-999.000,-999.000, 14.8476,   0.076,9
      06MT22_5,   A10,    42,  1,    203,2,19930111,1157,-29.9998, -23.3153, 4627,    300.0,  13.2390,  35.2200,2,-999.0000,9,    214.6,2,     3.09,2,     9.07,9,     0.68,2,    2.378,2,    1.233,2,    0.812,2,    0.752,2,   1.7293,2,     0.54,2,     85.2,2,   7.283,2,  -999.00,9,   2100.3,2,   -999.0,9,   -999.0,9,  -999.00,9,     5.5,  0.0069,   0.250,   0.029, 13.1972,   0.018,9
      06MT22_5,   A10,    42,  1,    202,2,19930111,1157,-29.9998, -23.3153, 4627,    400.0,  11.4200,  34.9910,2,-999.0000,9,    210.9,2,     4.97,2,    13.86,9,     0.96,2,    2.100,2,    1.078,2,    0.889,2,    0.595,2,   1.7458,5,     0.10,3,   -999.0,9,   7.367,5,  -999.00,9,   2116.5,2,   -999.0,9,   -999.0,9,  -999.00,9,  -999.0,  0.0079,   0.250,   0.033, 11.3692,   0.017,9
      06MT22_5,   A10,    42,  1,    201,2,19930111,1157,-29.9998, -23.3153, 4627,    502.0,   9.5830,  34.7570,2,  34.7670,2,    207.5,2,     7.50,2,    18.74,9,     1.27,2,    1.849,2,    0.956,2,    1.206,2,    0.456,2,   1.7565,2,     1.10,2,   -999.0,9,   7.423,4,  -999.00,9,   2131.9,2,   -999.0,9,   -999.0,9,  -999.00,9,  -999.0,  0.0070,   0.250,   0.030,  9.5255,   0.012,9