BOTTLE,20030417WHPSIOSA
EXPOCODE,SECT_ID,STNNBR,CASTNO,BTLNBR,BTLNBR_FLAG_W,DATE,TIME,LATITUDE,LONGITUDE,DEPTH,CTDPRS,CTDTMP,CTDSAL,CTDSAL_FLAG_W,SALNTY,SALNTY_FLAG_W,OXYGEN,OXYGEN_FLAG_W,SILCAT,SILCAT_FLAG_W,NO2+NO3,NO2+NO3_FLAG_W,PHSPHT,PHSPHT_FLAG_W,CFC-11,CFC-11_FLAG_W,CFC-12,CFC-12_FLAG_W,CCL4,CCL4_FLAG_W,TRITUM,TRITUM_FLAG_W,HELIUM,HELIUM_FLAG_W,DELHE3,DELHE3_FLAG_W,DELC14,DELC14_FLAG_W,NEON,NEON_FLAG_W,O18O16,O18O16_FLAG_W,TCARBN,TCARBN_FLAG_W,PCO2,PCO2_FLAG_W,ALKALI,ALKALI_FLAG_W,PH,PH_FLAG_W,C14ERR,HELIER,DELHER,NEONER,THETA,TRITER,TRITER_FLAG_W
,,,,,,,,,,,DBAR,ITS-90,PSS-78,,PSS-78,,UMOL/KG,,UMOL/KG,,UMOL/KG,,UMOL/KG,,PMOL/KG,,PMOL/KG,,PMOL/KG,,TU,,NMOL/KG,,PERCNT,,/MILLE,,NMOL/KG,,MILLE,,UMOL/KG,,UATM,,UMOL/KG,,,,/MILLE,NMOL/KG,PERCNT,NMOL/KG,ITS-90,TU,
      06MT22_5,   A10,    45,  2,    324,2,19930112,1145,-30.0017, -20.7617, 4770,     11.0,  23.8790,  36.1040,2,  36.1100,2,   -999.0,9,  -999.00,9,  -999.00,9,  -999.00,9, -999.000,9, -999.000,9, -999.000,9, -999.000,9,-999.0000,9,  -999.00,9,   -999.0,9,-999.000,9,  -999.00,9,   -999.0,0,   -999.0,9,   -999.0,9,  -999.00,9,  -999.0,-999.0000,-999.000,-999.000, 23.8767,-999.000,9
      06MT22_5,   A10,    45,  2,    323,2,19930112,1145,-30.0017, -20.7617, 4770,    599.0,   9.1410,  34.7100,2,-999.0000,9,    206.5,2,     8.94,2,    20.20,9,     1.42,2, -999.000,9, -999.000,9, -999.000,9, -999.000,9,-999.0000,9,  -999.00,9,   -999.0,9,-999.000,9,  -999.00,9,   -999.0,0,   -999.0,9,   -999.0,9,  -999.00,9,  -999.0,-999.0000,-999.000,-999.000,  9.0744,-999.000,9
      06MT22_5,   A10,    45,  2,    322,2,19930112,1145,-30.0017, -20.7617, 4770,    699.0,   7.1280,  34.5010,2,-999.0000,9,    212.4,2,    13.12,2,    24.97,9,     1.71,2, -999.000,9, -999.000,9, -999.000,9, -999.000,9,-999.0000,9,  -999.00,9,   -999.0,9,-999.000,9,  -999.00,9,   -999.0,0,   -999.0,9,   -999.0,9,  -999.00,9,  -999.0,-999.0000,-999.000,-999.000,  7.0602,-999.000,9
      06MT22_5,   A10,    45,  2,    321,2,19930112,1145,-30.0017, -20.7617, 4770,    800.0,   5.5730,  34.3670,2,  34.3650,2,    223.1,2,    17.66,2,    27.99,9,     1.94,2, -999.000,9, -999.000,9, -999.000,9, -999.000,9,-999.0000,9,  -999.00,9,   -999.0,9,-999.000,9,  -999.00,9,   -999.0,0,   -999.0,9,   -999.0,9,  -999.00,9,  -999.0,-999.0000,-999.000,-999.000,  5.5042,-999.000,9
      06MT22_5,   A10,    45,  2,    320,2,19930112,1145,-30.0017, -20.7617, 4770,    900.0,   4.5720,  34.3160,2,-999.0000,9,    224.3,2,    24.39,2,    30.04,9,     2.14,2, -999.000,9, -999.000,9, -999.000,9, -999.000,9,-999.0000,9,  -999.00,9,   -999.0,9,-999.000,9,  -999.00,9,   -999.0,0,   -999.0,9,   -999.0,9,  -999.00,9,  -999.0,-999.0000,-999.000,-999.000,  4.5005,-999.000,9
      06MT22_5,   A10,    45,  2,    319,2,19930112,1145,-30.0017, -20.7617, 4770,    999.0,   3.8660,  34.3220,2,-999.0000,9,    219.2,2,    31.65,2,    31.73,9,     2.28,2, -999.000,9, -999.000,9, -999.000,9, -999.000,9,-999.0000,9,  -999.00,9,   -999.0,9,-999.000,9,  -999.00,9,   -999.0,0,   -999.0,9,   -999.0,9,  -999.00,9,  -999.0,-999.0000,-999.000,-999.000,  3.7914,-999.000,9
      06MT22_5,   A10,    45,  2,    318,2,19930112,1145,-30.0017, -20.7617, 4770,   1199.0,   3.2170,  34.4180,2,-999.0000,9,    200.1,2,    46.01,2,    33.38,9,     2.43,2, -999.000,9, -999.000,9, -999.000,9, -999.000,9,-999.0000,9,  -999.00,9,   -999.0,9,-999.000,9,  -999.00,9,   -999.0,0,   -999.0,9,   -999.0,9,  -999.00,9,  -999.0,-999.0000,-999.000,-999.000,  3.1316,-999.000,9
      06MT22_5,   A10,    45,  2,    317,2,19930112,1145,-30.0017, -20.7617, 4770,   1399.0,   2.9610,  34.5550,2,  34.5590,2,    190.5,2,    54.27,2,    33.07,9,     2.39,2, -999.000,9, -999.000,9, -999.000,9, -999.000,9,-999.0000,9,  -999.00,9,   -999.0,9,-999.000,9,  -999.00,9,   -999.0,0,   -999.0,9,   -999.0,9,  -999.00,9,  -999.0,-999.0000,-999.000,-999.000,  2.8620,-999.000,9
      06MT22_5,   A10,    45,  2,    316,2,19930112,1145,-30.0017, -20.7617, 4770,   1564.0,   2.8730,  34.6510,2,-999.0000,9,    195.7,2,    54.51,2,    31.54,9,     2.25,2, -999.000,9, -999.000,9, -999.000,9, -999.000,9,-999.0000,9,  -999.00,9,   -999.0,9,-999.000,9,  -999.00,9,   -999.0,0,   -999.0,9,   -999.0,9,  -999.00,9,  -999.0,-999.0000,-999.000,-999.000,  2.7607,-999.000,9
      06MT22_5,   A10,    45,  2,    315,2,19930112,1145,-30.0017, -20.7617, 4770,   1800.0,   2.7800,  34.7500,2,-999.0000,9,    211.0,2,    52.34,2,    28.86,9,     2.01,2, -999.000,9, -999.000,9, -999.000,9, -999.000,9,-999.0000,9,  -999.00,9,   -999.0,9,-999.000,9,  -999.00,9,   -999.0,0,   -999.0,9,   -999.0,9,  -999.00,9,  -999.0,-999.0000,-999.000,-999.000,  2.6488,-999.000,9
      06MT22_5,   A10,    45,  2,    314,2,19930112,1145,-30.0017, -20.7617, 4770,   2001.0,   2.7190,  34.8020,2,  34.8020,2,    220.0,2,    49.54,2,    27.15,9,     1.87,2, -999.000,9, -999.000,9, -999.000,9, -999.000,9,-999.0000,9,  -999.00,9,   -999.0,9,-999.000,9,  -999.00,9,   -999.0,0,   -999.0,9,   -999.0,9,  -999.00,9,  -999.0,-999.0000,-999.000,-999.000,  2.5710,-999.000,9
      06MT22_5,   A10,    45,  2,    313,2,19930112,1145,-30.0017, -20.7617, 4770,   2251.0,   2.6860,  34.8430,2,-999.0000,9,    231.9,2,    46.17,2,    25.39,9,     1.76,2, -999.000,9, -999.000,9, -999.000,9, -999.000,9,-999.0000,9,  -999.00,9,   -999.0,9,-999.000,9,  -999.00,9,   -999.0,0,   -999.0,9,   -999.0,9,  -999.00,9,  -999.0,-999.0000,-999.000,-999.000,  2.5155,-999.000,9
      06MT22_5,   A10,    45,  2,    312,2,19930112,1145,-30.0017, -20.7617, 4770,   2502.0,   2.7040,  34.8740,2,-999.0000,9,    240.6,2,    41.98,2,    23.97,9,     1.65,2, -999.000,9, -999.000,9, -999.000,9, -999.000,9,-999.0000,9,  -999.00,9,   -999.0,9,-999.000,9,  -999.00,9,   -999.0,0,   -999.0,9,   -999.0,9,  -999.00,9,  -999.0,-999.0000,-999.000,-999.000,  2.5095,-999.000,9
      06MT22_5,   A10,    45,  2,    311,2,19930112,1145,-30.0017, -20.7617, 4770,   2753.0,   2.7070,  34.8950,2,  34.8950,2,    249.2,2,    38.82,2,    23.01,9,     1.55,2, -999.000,9, -999.000,9, -999.000,9, -999.000,9,-999.0000,9,  -999.00,9,   -999.0,9,-999.000,9,  -999.00,9,   -999.0,0,   -999.0,9,   -999.0,9,  -999.00,9,  -999.0,-999.0000,-999.000,-999.000,  2.4878,-999.000,9
      06MT22_5,   A10,    45,  2,    310,2,19930112,1145,-30.0017, -20.7617, 4770,   3003.0,   2.6590,  34.9070,2,-999.0000,9,    250.6,2,    37.41,2,    22.35,9,     1.50,2, -999.000,9, -999.000,9, -999.000,9, -999.000,9,-999.0000,9,  -999.00,9,   -999.0,9,-999.000,9,  -999.00,9,   -999.0,0,   -999.0,9,   -999.0,9,  -999.00,9,  -999.0,-999.0000,-999.000,-999.000,  2.4156,-999.000,9
      06MT22_5,   A10,    45,  2,    309,2,19930112,1145,-30.0017, -20.7617, 4770,   3253.0,   2.5050,  34.8960,2,-999.0000,9,    251.7,2,    41.91,2,    22.56,9,     1.55,2, -999.000,9, -999.000,9, -999.000,9, -999.000,9,-999.0000,9,  -999.00,9,   -999.0,9,-999.000,9,  -999.00,9,   -999.0,0,   -999.0,9,   -999.0,9,  -999.00,9,  -999.0,-999.0000,-999.000,-999.000,  2.2391,-999.000,9
      06MT22_5,   A10,    45,  2,    308,2,19930112,1145,-30.0017, -20.7617, 4770,   3504.0,   2.2200,  34.8720,2,  34.8720,2,    250.7,2,    51.29,2,    23.63,9,     1.60,2, -999.000,9, -999.000,9, -999.000,9, -999.000,9,-999.0000,9,  -999.00,9,   -999.0,9,-999.000,9,  -999.00,9,   -999.0,0,   -999.0,9,   -999.0,9,  -999.00,9,  -999.0,-999.0000,-999.000,-999.000,  1.9343,-999.000,9
      06MT22_5,   A10,    45,  2,    307,2,19930112,1145,-30.0017, -20.7617, 4770,   3756.0,   1.8680,  34.8360,2,-999.0000,9,    244.2,2,    65.26,2,    25.43,9,     1.81,2, -999.000,9, -999.000,9, -999.000,9, -999.000,9,-999.0000,9,  -999.00,9,   -999.0,9,-999.000,9,  -999.00,9,   -999.0,0,   -999.0,9,   -999.0,9,  -999.00,9,  -999.0,-999.0000,-999.000,-999.000,  1.5649,-999.000,9
      06MT22_5,   A10,    45,  2,    306,2,19930112,1145,-30.0017, -20.7617, 4770,   4007.0,   1.6440,  34.8100,2,-999.0000,9,    239.6,2,    74.76,2,    26.91,9,     1.88,2, -999.000,9, -999.000,9, -999.000,9, -999.000,9,-999.0000,9,  -999.00,9,   -999.0,9,-999.000,9,  -999.00,9,   -999.0,0,   -999.0,9,   -999.0,9,  -999.00,9,  -999.0,-999.0000,-999.000,-999.000,  1.3196,-999.000,9
      06MT22_5,   A10,    45,  2,    305,2,19930112,1145,-30.0017, -20.7617, 4770,   4256.0,   1.4060,  34.7830,2,  34.7840,2,    235.1,2,    85.53,2,    28.38,9,     2.05,2, -999.000,9, -999.000,9, -999.000,9, -999.000,9,-999.0000,9,  -999.00,9,   -999.0,9,-999.000,9,  -999.00,9,   -999.0,0,   -999.0,9,   -999.0,9,  -999.00,9,  -999.0,-999.0000,-999.000,-999.000,  1.0609,-999.000,9
      06MT22_5,   A10,    45,  2,    304,2,19930112,1145,-30.0017, -20.7617, 4770,   4507.0,   1.2660,  34.7650,2,-999.0000,9,    230.4,2,    92.29,2,    29.44,9,     2.08,2, -999.000,9, -999.000,9, -999.000,9, -999.000,9,-999.0000,9,  -999.00,9,   -999.0,9,-999.000,9,  -999.00,9,   -999.0,0,   -999.0,9,   -999.0,9,  -999.00,9,  -999.0,-999.0000,-999.000,-999.000,  0.8970,-999.000,9
      06MT22_5,   A10,    45,  2,    303,2,19930112,1145,-30.0017, -20.7617, 4770,   4687.0,   1.2500,  34.7610,2,-999.0000,9,    234.0,2,    93.79,2,    29.62,9,     2.14,2, -999.000,9, -999.000,9, -999.000,9, -999.000,9,-999.0000,9,  -999.00,9,   -999.0,9,-999.000,9,  -999.00,9,   -999.0,0,   -999.0,9,   -999.0,9,  -999.00,9,  -999.0,-999.0000,-999.000,-999.000,  0.8607,-999.000,9
      06MT22_5,   A10,    45,  2,    301,2,19930112,1145,-30.0017, -20.7617, 4770,   4761.0,   1.2580,  34.7600,2,-999.0000,9,   -999.0,9,  -999.00,9,  -999.00,9,  -999.00,9, -999.000,9, -999.000,9, -999.000,9, -999.000,9,-999.0000,9,  -999.00,9,   -999.0,9,-999.000,9,  -999.00,9,   -999.0,0,   -999.0,9,   -999.0,9,  -999.00,9,  -999.0,-999.0000,-999.000,-999.000,  0.8497,-999.000,9
      06MT22_5,   A10,    45,  2,    302,2,19930112,1145,-30.0017, -20.7617, 4770,   4763.0,   1.2590,  34.7610,2,  34.7620,2,    228.9,2,    93.83,2,    29.56,9,     2.09,2, -999.000,9, -999.000,9, -999.000,9, -999.000,9,-999.0000,9,  -999.00,9,   -999.0,9,-999.000,9,  -999.00,9,   -999.0,0,   -999.0,9,   -999.0,9,  -999.00,9,  -999.0,-999.0000,-999.000,-999.000,  0.8606,-999.000,9
      06MT22_5,   A10,    46,  1,    217,2,19930112,1929,-29.9988, -19.9187, 4848,     11.0,  23.8010,  35.8930,2,-999.0000,9,    222.3,2,     0.70,2,     0.49,9,     0.08,2, -999.000,9, -999.000,9, -999.000,9, -999.000,9,-999.0000,9,  -999.00,9,   -999.0,9,-999.000,9,  -999.00,9,   -999.0,9,   -999.0,9,   -999.0,9,  -999.00,9,  -999.0,-999.0000,-999.000,-999.000, 23.7987,-999.000,9
      06MT22_5,   A10,    46,  1,    213,2,19930112,1929,-29.9988, -19.9187, 4848,     11.0,  23.8010,  35.8930,2,  35.9010,2,   -999.0,9,  -999.00,9,  -999.00,9,  -999.00,9,    2.033,2,    1.111,2,    2.570,2,    1.230,3,   1.7369,4,    -1.20,3,   -999.0,9,   6.748,4,  -999.00,9,   2049.9,3,   -999.0,9,   -999.0,9,  -999.00,9,  -999.0,  0.0061,   0.250,   0.024, 23.7987,   0.619,9
      06MT22_5,   A10,    46,  1,    212,2,19930112,1929,-29.9988, -19.9187, 4848,     32.0,  22.3630,  35.8810,2,-999.0000,9,    227.4,2,     0.47,2,     0.48,9,     0.08,2, -999.000,9, -999.000,9, -999.000,9, -999.000,9,-999.0000,9,  -999.00,9,   -999.0,9,-999.000,9,  -999.00,9,   2049.4,3,   -999.0,9,   -999.0,9,  -999.00,9,  -999.0,-999.0000,-999.000,-999.000, 22.3566,-999.000,9
      06MT22_5,   A10,    46,  1,    211,2,19930112,1929,-29.9988, -19.9187, 4848,     51.0,  20.5640,  35.8980,2,-999.0000,9,    237.1,2,     0.56,2,     0.45,9,     0.09,2,    2.277,2,    1.232,2,    2.512,2,    0.943,2,   2.3173,4,    -0.15,3,   -999.0,9,   6.913,7,  -999.00,9,   2052.1,3,   -999.0,9,   -999.0,9,  -999.00,9,  -999.0,  0.0081,   0.250,   0.024, 20.5544,   0.025,9
      06MT22_5,   A10,    46,  1,    210,2,19930112,1929,-29.9988, -19.9187, 4848,     72.0,  19.2440,  35.9230,2,-999.0000,9,    240.8,2,     0.69,2,     0.45,9,     0.07,2, -999.000,9, -999.000,9, -999.000,9, -999.000,9,-999.0000,9,  -999.00,9,   -999.0,9,-999.000,9,  -999.00,9,   2053.1,3,   -999.0,9,   -999.0,9,  -999.00,9,  -999.0,-999.0000,-999.000,-999.000, 19.2310,-999.000,9
      06MT22_5,   A10,    46,  1,    209,2,19930112,1929,-29.9988, -19.9187, 4848,    102.0,  17.9020,  35.7500,2,-999.0000,9,    241.5,2,     0.59,2,     0.43,9,     0.09,2,    2.460,2,    1.303,2,    2.442,2,    0.881,2,-999.0000,1,  -999.00,1,   -999.0,9,-999.000,1,  -999.00,9,   2056.3,3,   -999.0,9,   -999.0,9,  -999.00,9,  -999.0,-999.0000,-999.000,-999.000, 17.8845,   0.024,9
      06MT22_5,   A10,    46,  1,    208,2,19930112,1929,-29.9988, -19.9187, 4848,    152.0,  16.7320,  35.5820,2,-999.0000,9,    239.7,2,     0.59,2,     0.55,9,     0.14,2,    2.558,2,    1.352,2,    2.452,2,    0.870,2,   1.7239,2,    -1.13,2,   -999.0,9,   7.139,2,  -999.00,9,   2061.2,3,   -999.0,9,   -999.0,9,  -999.00,9,  -999.0,  0.0060,   0.250,   0.025, 16.7071,   0.028,9
      06MT22_5,   A10,    46,  1,    207,2,19930112,1929,-29.9988, -19.9187, 4848,    201.0,  15.8790,  35.4850,2,-999.0000,9,    233.1,2,     0.91,2,     1.88,9,     0.22,2,    2.608,2,    1.385,2,    1.559,2,    0.865,2,-999.0000,1,  -999.00,1,   -999.0,9,-999.000,1,  -999.00,9,   2068.8,3,   -999.0,9,   -999.0,9,  -999.00,9,  -999.0,-999.0000,-999.000,-999.000, 15.8472,   0.030,9
      06MT22_5,   A10,    46,  1,    206,2,19930112,1929,-29.9988, -19.9187, 4848,    302.0,  14.4020,  35.3980,2,  35.4000,2,    236.4,2,     1.80,2,     4.28,9,     0.36,2,    2.727,2,    1.420,2,    1.419,2,    0.802,2,-999.0000,1,  -999.00,1,   -999.0,9,-999.000,1,  -999.00,9,   2080.3,3,   -999.0,9,   -999.0,9,  -999.00,9,  -999.0,-999.0000,-999.000,-999.000, 14.3572,   0.028,9
      06MT22_5,   A10,    46,  1,    205,2,19930112,1929,-29.9988, -19.9187, 4848,    401.0,  13.4570,  35.3150,2,-999.0000,9,    246.5,2,     1.79,2,     5.62,9,     0.40,2,    2.913,4,    1.509,4,    1.678,4,    0.778,2,-999.0000,1,  -999.00,1,   -999.0,9,-999.000,1,  -999.00,9,   2084.8,3,   -999.0,9,   -999.0,9,  -999.00,9,  -999.0,-999.0000,-999.000,-999.000, 13.4005,   0.020,9
      06MT22_5,   A10,    46,  1,    204,2,19930112,1929,-29.9988, -19.9187, 4848,    500.0,  11.8510,  35.0650,2,-999.0000,9,    218.7,2,     3.88,2,    11.97,9,     0.79,2,    2.348,2,    1.206,2,    1.012,2,    0.636,2,-999.0000,1,  -999.00,1,   -999.0,9,-999.000,1,  -999.00,9,   2112.1,3,   -999.0,9,   -999.0,9,  -999.00,9,  -999.0,-999.0000,-999.000,-999.000, 11.7859,   0.019,9
      06MT22_5,   A10,    46,  1,    203,2,19930112,1929,-29.9988, -19.9187, 4848,    600.0,   9.2290,  34.7160,2,-999.0000,9,    214.3,2,     7.40,2,    18.93,9,     1.25,2,    2.040,2,    1.022,2,    1.475,2,    0.413,2,   1.7574,5,     0.86,3,   -999.0,9,   7.523,5,  -999.00,9,   2134.4,3,   -999.0,9,   -999.0,9,  -999.00,9,  -999.0,  0.0070,   0.250,   0.030,  9.1619,   0.012,9
      06MT22_5,   A10,    46,  1,    202,2,19930112,1929,-29.9988, -19.9187, 4848,    700.0,   6.6730,  34.4360,2,-999.0000,9,    228.4,2,    11.23,2,    24.20,9,     1.62,2,    1.990,2,    0.972,2,    2.462,2, -999.000,9,   2.0295,4,     0.97,3,   -999.0,9,   7.678,7,  -999.00,9,   2149.3,3,   -999.0,9,   -999.0,9,  -999.00,9,  -999.0,  0.0071,   0.250,   0.027,  6.6075,-999.000,9
      06MT22_5,   A10,    46,  1,    201,2,19930112,1929,-29.9988, -19.9187, 4848,    848.0,   5.0800,  34.3450,2,  34.3490,2,    221.3,2,    20.54,2,    28.69,9,     1.94,2,    1.256,2,    0.617,2,    2.212,2,    0.174,2,   2.2919,4,     1.79,3,   -999.0,9,   9.134,4,  -999.00,9,   2172.3,3,   -999.0,9,   -999.0,9,  -999.00,9,  -999.0,  0.0080,   0.250,   0.032,  5.0100,   0.007,9