BOTTLE,20030417WHPSIOSA
EXPOCODE,SECT_ID,STNNBR,CASTNO,BTLNBR,BTLNBR_FLAG_W,DATE,TIME,LATITUDE,LONGITUDE,DEPTH,CTDPRS,CTDTMP,CTDSAL,CTDSAL_FLAG_W,SALNTY,SALNTY_FLAG_W,OXYGEN,OXYGEN_FLAG_W,SILCAT,SILCAT_FLAG_W,NO2+NO3,NO2+NO3_FLAG_W,PHSPHT,PHSPHT_FLAG_W,CFC-11,CFC-11_FLAG_W,CFC-12,CFC-12_FLAG_W,CCL4,CCL4_FLAG_W,TRITUM,TRITUM_FLAG_W,HELIUM,HELIUM_FLAG_W,DELHE3,DELHE3_FLAG_W,DELC14,DELC14_FLAG_W,NEON,NEON_FLAG_W,O18O16,O18O16_FLAG_W,TCARBN,TCARBN_FLAG_W,PCO2,PCO2_FLAG_W,ALKALI,ALKALI_FLAG_W,PH,PH_FLAG_W,C14ERR,HELIER,DELHER,NEONER,THETA,TRITER,TRITER_FLAG_W
,,,,,,,,,,,DBAR,ITS-90,PSS-78,,PSS-78,,UMOL/KG,,UMOL/KG,,UMOL/KG,,UMOL/KG,,PMOL/KG,,PMOL/KG,,PMOL/KG,,TU,,NMOL/KG,,PERCNT,,/MILLE,,NMOL/KG,,MILLE,,UMOL/KG,,UATM,,UMOL/KG,,,,/MILLE,NMOL/KG,PERCNT,NMOL/KG,ITS-90,TU,
      06MT22_5,   A10,    86,  2,    324,2,19930125,0247,-29.7443,   8.4645, 5086,     10.0,  21.7370,  35.5160,2,  35.5210,2,   -999.0,9,  -999.00,9,  -999.00,9,  -999.00,9, -999.000,9, -999.000,9, -999.000,9, -999.000,9,-999.0000,9,  -999.00,9,   -999.0,9,-999.000,9,  -999.00,9,   -999.0,9,   -999.0,9,   -999.0,9,  -999.00,9,  -999.0,-999.0000,-999.000,-999.000, 21.7350,-999.000,9
      06MT22_5,   A10,    86,  2,    323,2,19930125,0247,-29.7443,   8.4645, 5086,     10.0,  21.7300,  35.5140,2,-999.0000,9,   -999.0,9,  -999.00,9,  -999.00,9,  -999.00,9, -999.000,9, -999.000,9, -999.000,9, -999.000,9,-999.0000,9,  -999.00,9,   -999.0,9,-999.000,9,  -999.00,9,   -999.0,9,   -999.0,9,   -999.0,9,  -999.00,9,  -999.0,-999.0000,-999.000,-999.000, 21.7280,-999.000,9
      06MT22_5,   A10,    86,  2,    321,2,19930125,0247,-29.7443,   8.4645, 5086,    998.0,   3.1570,  34.4380,2,-999.0000,9,   -999.0,9,  -999.00,9,  -999.00,9,  -999.00,9, -999.000,9, -999.000,9, -999.000,9, -999.000,9,-999.0000,9,  -999.00,9,   -999.0,9,-999.000,9,  -999.00,9,   -999.0,9,   -999.0,9,   -999.0,9,  -999.00,9,  -999.0,-999.0000,-999.000,-999.000,  3.0875,-999.000,9
      06MT22_5,   A10,    86,  2,    322,2,19930125,0247,-29.7443,   8.4645, 5086,    999.0,   3.1590,  34.4390,2,-999.0000,9,   -999.0,9,  -999.00,9,  -999.00,9,  -999.00,9, -999.000,9, -999.000,9, -999.000,9, -999.000,9,-999.0000,9,  -999.00,9,   -999.0,9,-999.000,9,  -999.00,9,   -999.0,9,   -999.0,9,   -999.0,9,  -999.00,9,  -999.0,-999.0000,-999.000,-999.000,  3.0894,-999.000,9
      06MT22_5,   A10,    86,  2,    320,2,19930125,0247,-29.7443,   8.4645, 5086,   1198.0,   2.9630,  34.5880,2,-999.0000,9,    198.3,2,  -999.00,9,  -999.00,9,  -999.00,9, -999.000,9, -999.000,9, -999.000,9, -999.000,9,-999.0000,9,  -999.00,9,   -999.0,9,-999.000,9,  -999.00,9,   -999.0,9,   -999.0,9,   -999.0,9,  -999.00,9,  -999.0,-999.0000,-999.000,-999.000,  2.8795,-999.000,9
      06MT22_5,   A10,    86,  2,    319,2,19930125,0247,-29.7443,   8.4645, 5086,   1399.0,   2.9960,  34.7190,2,-999.0000,9,    194.6,2,    51.56,2,    30.47,9,     2.00,2, -999.000,9, -999.000,9, -999.000,9, -999.000,9,-999.0000,9,  -999.00,9,   -999.0,9,-999.000,9,  -999.00,9,   -999.0,9,   -999.0,9,   -999.0,9,  -999.00,9,  -999.0,-999.0000,-999.000,-999.000,  2.8960,-999.000,9
      06MT22_5,   A10,    86,  2,    318,2,19930125,0247,-29.7443,   8.4645, 5086,   1600.0,   3.1400,  34.8080,2,  34.8090,2,    208.6,2,    42.06,2,    27.81,9,     1.78,2, -999.000,9, -999.000,9, -999.000,9, -999.000,9,-999.0000,9,  -999.00,9,   -999.0,9,-999.000,9,  -999.00,9,   -999.0,9,   -999.0,9,   -999.0,9,  -999.00,9,  -999.0,-999.0000,-999.000,-999.000,  3.0214,-999.000,9
      06MT22_5,   A10,    86,  2,    317,2,19930125,0247,-29.7443,   8.4645, 5086,   1800.0,   3.0590,  34.8450,2,-999.0000,9,    218.6,2,    40.58,2,    26.32,9,     1.68,2, -999.000,9, -999.000,9, -999.000,9, -999.000,9,-999.0000,9,  -999.00,9,   -999.0,9,-999.000,9,  -999.00,9,   -999.0,9,   -999.0,9,   -999.0,9,  -999.00,9,  -999.0,-999.0000,-999.000,-999.000,  2.9238,-999.000,9
      06MT22_5,   A10,    86,  2,    316,2,19930125,0247,-29.7443,   8.4645, 5086,   2000.0,   2.8760,  34.8540,2,-999.0000,9,    225.7,2,    43.10,2,    25.95,9,     1.66,2, -999.000,9, -999.000,9, -999.000,9, -999.000,9,-999.0000,9,  -999.00,9,   -999.0,9,-999.000,9,  -999.00,9,   -999.0,9,   -999.0,9,   -999.0,9,  -999.00,9,  -999.0,-999.0000,-999.000,-999.000,  2.7256,-999.000,9
      06MT22_5,   A10,    86,  2,    315,2,19930125,0247,-29.7443,   8.4645, 5086,   2250.0,   2.7070,  34.8610,2,-999.0000,9,    230.0,2,    45.57,2,    25.39,9,     1.61,2, -999.000,9, -999.000,9, -999.000,9, -999.000,9,-999.0000,9,  -999.00,9,   -999.0,9,-999.000,9,  -999.00,9,   -999.0,9,   -999.0,9,   -999.0,9,  -999.00,9,  -999.0,-999.0000,-999.000,-999.000,  2.5364,-999.000,9
      06MT22_5,   A10,    86,  2,    314,2,19930125,0247,-29.7443,   8.4645, 5086,   2499.0,   2.5810,  34.8620,2,  34.8610,2,    232.9,2,    48.07,2,    25.25,9,     1.63,2, -999.000,9, -999.000,9, -999.000,9, -999.000,9,-999.0000,9,  -999.00,9,   -999.0,9,-999.000,9,  -999.00,9,   -999.0,9,   -999.0,9,   -999.0,9,  -999.00,9,  -999.0,-999.0000,-999.000,-999.000,  2.3892,-999.000,9
      06MT22_5,   A10,    86,  2,    313,2,19930125,0247,-29.7443,   8.4645, 5086,   2751.0,   2.4660,  34.8620,2,-999.0000,9,    233.7,2,    50.36,2,    25.19,9,     1.62,2, -999.000,9, -999.000,9, -999.000,9, -999.000,9,-999.0000,9,  -999.00,9,   -999.0,9,-999.000,9,  -999.00,9,   -999.0,9,   -999.0,9,   -999.0,9,  -999.00,9,  -999.0,-999.0000,-999.000,-999.000,  2.2520,-999.000,9
      06MT22_5,   A10,    86,  2,    312,2,19930125,0247,-29.7443,   8.4645, 5086,   3003.0,   2.3850,  34.8600,2,-999.0000,9,    235.0,2,    52.82,2,    25.31,9,     1.62,2, -999.000,9, -999.000,9, -999.000,9, -999.000,9,-999.0000,9,  -999.00,9,   -999.0,9,-999.000,9,  -999.00,9,   -999.0,9,   -999.0,9,   -999.0,9,  -999.00,9,  -999.0,-999.0000,-999.000,-999.000,  2.1476,-999.000,9
      06MT22_5,   A10,    86,  2,    311,2,19930125,0247,-29.7443,   8.4645, 5086,   3253.0,   2.3240,  34.8600,2,  34.8600,2,    234.2,2,    54.84,2,    25.41,9,     1.60,2, -999.000,9, -999.000,9, -999.000,9, -999.000,9,-999.0000,9,  -999.00,9,   -999.0,9,-999.000,9,  -999.00,9,   -999.0,9,   -999.0,9,   -999.0,9,  -999.00,9,  -999.0,-999.0000,-999.000,-999.000,  2.0624,-999.000,9
      06MT22_5,   A10,    86,  2,    310,2,19930125,0247,-29.7443,   8.4645, 5086,   3504.0,   2.2510,  34.8560,2,-999.0000,9,    232.8,2,    57.90,2,    25.63,9,     1.64,2, -999.000,9, -999.000,9, -999.000,9, -999.000,9,-999.0000,9,  -999.00,9,   -999.0,9,-999.000,9,  -999.00,9,   -999.0,9,   -999.0,9,   -999.0,9,  -999.00,9,  -999.0,-999.0000,-999.000,-999.000,  1.9651,-999.000,9
      06MT22_5,   A10,    86,  2,    309,2,19930125,0247,-29.7443,   8.4645, 5086,   3756.0,   2.0540,  34.8340,2,-999.0000,9,   -999.0,9,  -999.00,9,  -999.00,9,  -999.00,9, -999.000,9, -999.000,9, -999.000,9, -999.000,9,-999.0000,9,  -999.00,9,   -999.0,9,-999.000,9,  -999.00,9,   -999.0,9,   -999.0,9,   -999.0,9,  -999.00,9,  -999.0,-999.0000,-999.000,-999.000,  1.7460,-999.000,9
      06MT22_5,   A10,    86,  2,    308,2,19930125,0247,-29.7443,   8.4645, 5086,   4005.0,   1.7680,  34.8020,2,-999.0000,9,    226.3,2,    77.81,2,    28.21,9,     1.83,2, -999.000,9, -999.000,9, -999.000,9, -999.000,9,-999.0000,9,  -999.00,9,   -999.0,9,-999.000,9,  -999.00,9,   -999.0,9,   -999.0,9,   -999.0,9,  -999.00,9,  -999.0,-999.0000,-999.000,-999.000,  1.4404,-999.000,9
      06MT22_5,   A10,    86,  2,    307,2,19930125,0247,-29.7443,   8.4645, 5086,   4157.0,   1.4870,  34.7740,2,  34.7740,2,    223.1,2,    89.77,2,    29.64,9,     1.95,2, -999.000,9, -999.000,9, -999.000,9, -999.000,9,-999.0000,9,  -999.00,9,   -999.0,9,-999.000,9,  -999.00,9,   -999.0,9,   -999.0,9,   -999.0,9,  -999.00,9,  -999.0,-999.0000,-999.000,-999.000,  1.1506,-999.000,9
      06MT22_5,   A10,    86,  2,    306,2,19930125,0247,-29.7443,   8.4645, 5086,   4306.0,   1.3190,  34.7580,2,-999.0000,9,    221.2,2,    96.52,2,    30.62,9,     1.97,2, -999.000,9, -999.000,9, -999.000,9, -999.000,9,-999.0000,9,  -999.00,9,   -999.0,9,-999.000,9,  -999.00,9,   -999.0,9,   -999.0,9,   -999.0,9,  -999.00,9,  -999.0,-999.0000,-999.000,-999.000,  0.9713,-999.000,9
      06MT22_5,   A10,    86,  2,    305,2,19930125,0247,-29.7443,   8.4645, 5086,   4505.0,   1.2120,  34.7460,2,-999.0000,9,    219.1,2,   101.13,2,    31.19,9,     2.05,2, -999.000,9, -999.000,9, -999.000,9, -999.000,9,-999.0000,9,  -999.00,9,   -999.0,9,-999.000,9,  -999.00,9,   -999.0,9,   -999.0,9,   -999.0,9,  -999.00,9,  -999.0,-999.0000,-999.000,-999.000,  0.8451,-999.000,9
      06MT22_5,   A10,    86,  2,    304,2,19930125,0247,-29.7443,   8.4645, 5086,   4758.0,   1.1530,  34.7380,2,  34.7370,2,    219.4,2,   104.11,2,    31.54,9,     2.05,2, -999.000,9, -999.000,9, -999.000,9, -999.000,9,-999.0000,9,  -999.00,9,   -999.0,9,-999.000,9,  -999.00,9,   -999.0,9,   -999.0,9,   -999.0,9,  -999.00,9,  -999.0,-999.0000,-999.000,-999.000,  0.7588,-999.000,9
      06MT22_5,   A10,    86,  2,    303,2,19930125,0247,-29.7443,   8.4645, 5086,   5018.0,   1.1550,  34.7360,2,-999.0000,9,    218.6,2,   105.17,2,    31.79,9,     2.08,2, -999.000,9, -999.000,9, -999.000,9, -999.000,9,-999.0000,9,  -999.00,9,   -999.0,9,-999.000,9,  -999.00,9,   -999.0,9,   -999.0,9,   -999.0,9,  -999.00,9,  -999.0,-999.0000,-999.000,-999.000,  0.7299,-999.000,9
      06MT22_5,   A10,    86,  2,    301,2,19930125,0247,-29.7443,   8.4645, 5086,   5112.0,   1.1670,  34.7360,2,  34.7360,2,    218.6,2,   105.54,2,    31.78,9,     2.11,2, -999.000,9, -999.000,9, -999.000,9, -999.000,9,-999.0000,9,  -999.00,9,   -999.0,9,-999.000,9,  -999.00,9,   -999.0,9,   -999.0,9,   -999.0,9,  -999.00,9,  -999.0,-999.0000,-999.000,-999.000,  0.7302,-999.000,9
      06MT22_5,   A10,    86,  2,    302,2,19930125,0247,-29.7443,   8.4645, 5086,   5117.0,   1.1670,  34.7360,2,-999.0000,9,   -999.0,9,  -999.00,9,  -999.00,9,  -999.00,9, -999.000,9, -999.000,9, -999.000,9, -999.000,9,-999.0000,9,  -999.00,9,   -999.0,9,-999.000,9,  -999.00,9,   -999.0,9,   -999.0,9,   -999.0,9,  -999.00,9,  -999.0,-999.0000,-999.000,-999.000,  0.7296,-999.000,9
      06MT22_5,   A10,    87,  1,    217,2,19930125,1000,-29.7450,   9.2767, 5043,     12.0,  21.4950,  35.4950,2,  35.5010,2,    226.9,2,     1.28,2,     0.13,9,     0.19,2,    2.172,2,    1.213,2,    2.759,2,    0.886,2,   1.8761,4,    -0.81,3,   -999.0,9,   7.371,4,  -999.00,9,   -999.0,0,   -999.0,9,   -999.0,9,  -999.00,9,  -999.0,  0.0066,   0.250,   0.026, 21.4927,   0.052,9
      06MT22_5,   A10,    87,  1,    216,2,19930125,1000,-29.7450,   9.2767, 5043,     12.0,  21.4960,  35.4960,2,-999.0000,9,   -999.0,9,  -999.00,9,  -999.00,9,  -999.00,9, -999.000,9, -999.000,9, -999.000,9, -999.000,9,-999.0000,9,  -999.00,9,   -999.0,9,-999.000,9,  -999.00,9,   -999.0,0,   -999.0,9,   -999.0,9,  -999.00,9,  -999.0,-999.0000,-999.000,-999.000, 21.4937,-999.000,9
      06MT22_5,   A10,    87,  1,    215,2,19930125,1000,-29.7450,   9.2767, 5043,     12.0,  21.4870,  35.4950,2,-999.0000,9,   -999.0,9,  -999.00,9,  -999.00,9,  -999.00,9, -999.000,9, -999.000,9, -999.000,9, -999.000,9,-999.0000,9,  -999.00,9,   -999.0,9,-999.000,9,  -999.00,9,   2037.5,2,   -999.0,9,   -999.0,9,  -999.00,9,  -999.0,-999.0000,-999.000,-999.000, 21.4847,-999.000,9
      06MT22_5,   A10,    87,  1,    214,2,19930125,1000,-29.7450,   9.2767, 5043,     32.0,  21.4760,  35.4940,2,-999.0000,9,   -999.0,9,  -999.00,9,  -999.00,9,  -999.00,9, -999.000,9, -999.000,9, -999.000,9, -999.000,9,-999.0000,9,  -999.00,9,   -999.0,9,-999.000,9,  -999.00,9,   -999.0,0,   -999.0,9,   -999.0,9,  -999.00,9,  -999.0,-999.0000,-999.000,-999.000, 21.4698,-999.000,9
      06MT22_5,   A10,    87,  1,    213,2,19930125,1000,-29.7450,   9.2767, 5043,     52.0,  20.3340,  35.4260,2,  35.3880,2,    241.2,2,     0.85,2,     0.00,9,     0.22,2,    2.351,2,    1.300,2,    2.696,2,    0.881,2,   1.7177,5,    -1.70,3,   -999.0,9,   6.990,5,  -999.00,9,   2034.1,2,   -999.0,9,   -999.0,9,  -999.00,9,  -999.0,  0.0069,   0.250,   0.028, 20.3243,   0.038,9
      06MT22_5,   A10,    87,  1,    212,2,19930125,1000,-29.7450,   9.2767, 5043,     71.0,  18.0600,  35.2480,2,-999.0000,9,    253.8,2,     0.42,2,     0.88,9,     0.29,2,    2.570,2,    1.404,2,    2.667,2,    0.728,2,   1.7239,2,    -1.81,2,   -999.0,9,   7.085,2,  -999.00,9,   2045.2,2,   -999.0,9,   -999.0,9,  -999.00,9,  -999.0,  0.0060,   0.250,   0.025, 18.0478,   0.019,9
      06MT22_5,   A10,    87,  1,    211,2,19930125,1000,-29.7450,   9.2767, 5043,    102.0,  15.3450,  35.2190,2,-999.0000,9,    250.9,2,     0.50,2,     1.56,9,     0.34,2,    2.608,2,    1.426,2,    2.671,2,    0.814,2,-999.0000,1,  -999.00,1,   -999.0,9,-999.000,1,  -999.00,9,   2048.7,2,   -999.0,9,   -999.0,9,  -999.00,9,  -999.0,-999.0000,-999.000,-999.000, 15.3293,   0.049,9
      06MT22_5,   A10,    87,  1,    210,2,19930125,1000,-29.7450,   9.2767, 5043,    151.0,  13.0810,  35.0750,2,  35.0660,2,    202.6,2,     4.81,2,    13.59,9,     1.00,2,    2.624,2,    1.399,2,    1.149,2,    0.638,2,   2.1808,4,    -0.01,3,   -999.0,9,   8.417,4,  -999.00,9,   2119.1,2,   -999.0,9,   -999.0,9,  -999.00,9,  -999.0,  0.0076,   0.250,   0.030, 13.0602,   0.016,9
      06MT22_5,   A10,    87,  1,    209,2,19930125,1000,-29.7450,   9.2767, 5043,    202.0,  12.2570,  35.0290,2,-999.0000,9,    183.7,2,     6.42,2,    16.31,9,     1.13,2,    2.341,2,    1.242,2,    1.007,2,    0.700,2,   1.8127,5,     0.28,3,   -999.0,9,   7.569,5,  -999.00,9,   2132.1,2,   -999.0,9,   -999.0,9,  -999.00,9,  -999.0,  0.0073,   0.250,   0.030, 12.2304,   0.036,9
      06MT22_5,   A10,    87,  1,    208,2,19930125,1000,-29.7450,   9.2767, 5043,    301.0,  10.5860,  34.8690,2,-999.0000,9,    176.9,2,     8.17,2,    20.02,9,     1.35,2,    1.910,2,    0.990,2,    1.025,2,    0.536,2,   1.8114,2,     1.15,2,   -999.0,9,   7.622,2,  -999.00,9,   2146.4,2,   -999.0,9,   -999.0,9,  -999.00,9,  -999.0,  0.0063,   0.250,   0.027, 10.5498,   0.045,9
      06MT22_5,   A10,    87,  1,    207,2,19930125,1000,-29.7450,   9.2767, 5043,    400.0,   8.6310,  34.6490,2,  34.6400,2,    196.3,2,    11.54,2,    22.83,9,     1.52,2,    1.798,2,    0.914,2,    1.500,2,    0.374,2,   1.8127,5,     1.61,3,   -999.0,9,   7.720,5,  -999.00,9,   2148.6,2,   -999.0,9,   -999.0,9,  -999.00,9,  -999.0,  0.0073,   0.250,   0.031,  8.5883,   0.039,9
      06MT22_5,   A10,    87,  1,    206,2,19930125,1000,-29.7450,   9.2767, 5043,    499.0,   6.7630,  34.4740,2,-999.0000,9,    208.4,2,    16.39,2,    26.48,9,     1.78,2,    1.669,2,    0.841,2,    2.032,2,    0.263,2,   1.8087,5,     1.13,3,   -999.0,9,   7.767,5,  -999.00,9,   2159.0,2,   -999.0,9,   -999.0,9,  -999.00,9,  -999.0,  0.0072,   0.250,   0.031,  6.7166,   0.012,9
      06MT22_5,   A10,    87,  1,    205,2,19930125,1000,-29.7450,   9.2767, 5043,    599.0,   5.3230,  34.3720,2,-999.0000,9,    217.4,2,    22.19,2,    29.04,9,     1.94,2,    1.590,2,    0.784,2,    2.442,2,    0.181,2,   1.7895,2,     2.11,2,   -999.0,9,   7.754,2,  -999.00,9,   2169.8,2,   -999.0,9,   -999.0,9,  -999.00,9,  -999.0,  0.0063,   0.250,   0.027,  5.2735,   0.008,9
      06MT22_5,   A10,    87,  1,    204,2,19930125,1000,-29.7450,   9.2767, 5043,    701.0,   4.3290,  34.3370,2,  34.3370,2,    226.9,2,    29.26,2,    31.16,9,     2.08,2,    1.297,2,    0.633,2,    2.296,2,    0.131,2,   1.9211,4,     3.21,3,   -999.0,9,   8.172,4,  -999.00,9,   2183.1,2,   -999.0,9,   -999.0,9,  -999.00,9,  -999.0,  0.0067,   0.250,   0.029,  4.2759,   0.007,9
      06MT22_5,   A10,    87,  1,    203,2,19930125,1000,-29.7450,   9.2767, 5043,    848.0,   3.5890,  34.3850,2,-999.0000,9,   -999.0,9,  -999.00,9,  -999.00,9,  -999.00,9,    0.650,2,    0.320,2,    1.456,2,    0.068,2,-999.0000,1,  -999.00,1,   -999.0,9,-999.000,1,  -999.00,9,   -999.0,0,   -999.0,9,   -999.0,9,  -999.00,9,  -999.0,-999.0000,-999.000,-999.000,  3.5286,   0.004,9
      06MT22_5,   A10,    87,  1,    202,2,19930125,1000,-29.7450,   9.2767, 5043,    848.0,   3.5870,  34.3850,2,-999.0000,9,    198.9,2,    42.00,2,    33.56,9,     2.25,2, -999.000,9, -999.000,9, -999.000,9, -999.000,9,   1.7944,5,     4.77,3,   -999.0,9,   7.804,5,  -999.00,9,   2208.0,2,   -999.0,9,   -999.0,9,  -999.00,9,  -999.0,  0.0072,   0.250,   0.031,  3.5266,-999.000,9
      06MT22_5,   A10,    87,  1,    201,2,19930125,1000,-29.7450,   9.2767, 5043,    999.0,   3.1620,  34.4770,2,  34.4790,2,    184.5,2,    55.15,2,    34.64,9,     2.33,2,    0.296,2,    0.150,2,    0.825,2,    0.043,2,   1.8154,5,     5.99,3,   -999.0,9,   7.868,5,  -999.00,9,   2228.6,2,   -999.0,9,   -999.0,9,  -999.00,9,  -999.0,  0.0073,   0.250,   0.032,  3.0930,   0.003,9