BOTTLE,20030417WHPSIOSA
EXPOCODE,SECT_ID,STNNBR,CASTNO,BTLNBR,BTLNBR_FLAG_W,DATE,TIME,LATITUDE,LONGITUDE,DEPTH,CTDPRS,CTDTMP,CTDSAL,CTDSAL_FLAG_W,SALNTY,SALNTY_FLAG_W,OXYGEN,OXYGEN_FLAG_W,SILCAT,SILCAT_FLAG_W,NO2+NO3,NO2+NO3_FLAG_W,PHSPHT,PHSPHT_FLAG_W,CFC-11,CFC-11_FLAG_W,CFC-12,CFC-12_FLAG_W,CCL4,CCL4_FLAG_W,TRITUM,TRITUM_FLAG_W,HELIUM,HELIUM_FLAG_W,DELHE3,DELHE3_FLAG_W,DELC14,DELC14_FLAG_W,NEON,NEON_FLAG_W,O18O16,O18O16_FLAG_W,TCARBN,TCARBN_FLAG_W,PCO2,PCO2_FLAG_W,ALKALI,ALKALI_FLAG_W,PH,PH_FLAG_W,C14ERR,HELIER,DELHER,NEONER,THETA,TRITER,TRITER_FLAG_W
,,,,,,,,,,,DBAR,ITS-90,PSS-78,,PSS-78,,UMOL/KG,,UMOL/KG,,UMOL/KG,,UMOL/KG,,PMOL/KG,,PMOL/KG,,PMOL/KG,,TU,,NMOL/KG,,PERCNT,,/MILLE,,NMOL/KG,,MILLE,,UMOL/KG,,UATM,,UMOL/KG,,,,/MILLE,NMOL/KG,PERCNT,NMOL/KG,ITS-90,TU,
      06MT22_5,   A10,    31,  2,    324,2,19930107,2347,-30.0005, -30.9957, 4087,      6.0,  22.3210,  35.7760,2,  35.7840,2,   -999.0,9,  -999.00,9,  -999.00,9,  -999.00,9, -999.000,9, -999.000,9, -999.000,9, -999.000,9,-999.0000,9,  -999.00,9,   -999.0,9,-999.000,9,  -999.00,9,   -999.0,0,   -999.0,9,   -999.0,9,  -999.00,9,  -999.0,-999.0000,-999.000,-999.000, 22.3198,-999.000,9
      06MT22_5,   A10,    31,  2,    323,2,19930107,2347,-30.0005, -30.9957, 4087,      6.0,  22.3200,  35.7900,2,-999.0000,9,   -999.0,9,  -999.00,9,  -999.00,9,  -999.00,9, -999.000,9, -999.000,9, -999.000,9, -999.000,9,-999.0000,9,  -999.00,9,   -999.0,9,-999.000,9,  -999.00,9,   -999.0,0,   -999.0,9,   -999.0,9,  -999.00,9,  -999.0,-999.0000,-999.000,-999.000, 22.3188,-999.000,9
      06MT22_5,   A10,    31,  2,    322,2,19930107,2347,-30.0005, -30.9957, 4087,    500.0,   9.6290,  34.7700,2,-999.0000,9,    210.3,2,     6.66,2,    18.34,9,     1.25,2, -999.000,9, -999.000,9, -999.000,9, -999.000,9,-999.0000,9,  -999.00,9,   -999.0,9,-999.000,9,  -999.00,9,   -999.0,0,   -999.0,9,   -999.0,9,  -999.00,9,  -999.0,-999.0000,-999.000,-999.000,  9.5719,-999.000,9
      06MT22_5,   A10,    31,  2,    321,2,19930107,2347,-30.0005, -30.9957, 4087,    600.0,   7.6070,  34.5420,2,-999.0000,9,    214.0,2,    10.42,2,    23.18,9,     1.59,2, -999.000,9, -999.000,9, -999.000,9, -999.000,9,-999.0000,9,  -999.00,9,   -999.0,9,-999.000,9,  -999.00,9,   -999.0,0,   -999.0,9,   -999.0,9,  -999.00,9,  -999.0,-999.0000,-999.000,-999.000,  7.5470,-999.000,9
      06MT22_5,   A10,    31,  2,    320,2,19930107,2347,-30.0005, -30.9957, 4087,    700.0,   5.7920,  34.3740,2,  34.3770,2,    223.4,2,    14.76,2,    26.85,9,     1.84,2, -999.000,9, -999.000,9, -999.000,9, -999.000,9,-999.0000,9,  -999.00,9,   -999.0,9,-999.000,9,  -999.00,9,   -999.0,0,   -999.0,9,   -999.0,9,  -999.00,9,  -999.0,-999.0000,-999.000,-999.000,  5.7311,-999.000,9
      06MT22_5,   A10,    31,  2,    319,2,19930107,2347,-30.0005, -30.9957, 4087,    800.0,   4.7240,  34.3110,2,-999.0000,9,    226.5,2,    20.24,2,    29.08,9,     2.03,2, -999.000,9, -999.000,9, -999.000,9, -999.000,9,-999.0000,9,  -999.00,9,   -999.0,9,-999.000,9,  -999.00,9,   -999.0,0,   -999.0,9,   -999.0,9,  -999.00,9,  -999.0,-999.0000,-999.000,-999.000,  4.6604,-999.000,9
      06MT22_5,   A10,    31,  2,    318,2,19930107,2347,-30.0005, -30.9957, 4087,    900.0,   4.0130,  34.2980,2,-999.0000,9,    223.9,2,    26.47,2,    30.70,9,     2.11,2, -999.000,9, -999.000,9, -999.000,9, -999.000,9,-999.0000,9,  -999.00,9,   -999.0,9,-999.000,9,  -999.00,9,   -999.0,0,   -999.0,9,   -999.0,9,  -999.00,9,  -999.0,-999.0000,-999.000,-999.000,  3.9458,-999.000,9
      06MT22_5,   A10,    31,  2,    317,2,19930107,2347,-30.0005, -30.9957, 4087,   1000.0,   3.5790,  34.3160,2,  34.3200,2,    217.2,2,    32.82,2,    31.93,9,     2.20,2, -999.000,9, -999.000,9, -999.000,9, -999.000,9,-999.0000,9,  -999.00,9,   -999.0,9,-999.000,9,  -999.00,9,   -999.0,0,   -999.0,9,   -999.0,9,  -999.00,9,  -999.0,-999.0000,-999.000,-999.000,  3.5069,-999.000,9
      06MT22_5,   A10,    31,  2,    316,2,19930107,2347,-30.0005, -30.9957, 4087,   1100.0,   3.3020,  34.3620,2,-999.0000,9,    206.3,2,    39.81,2,    32.84,9,     2.28,2, -999.000,9, -999.000,9, -999.000,9, -999.000,9,-999.0000,9,  -999.00,9,   -999.0,9,-999.000,9,  -999.00,9,   -999.0,0,   -999.0,9,   -999.0,9,  -999.00,9,  -999.0,-999.0000,-999.000,-999.000,  3.2237,-999.000,9
      06MT22_5,   A10,    31,  2,    315,2,19930107,2347,-30.0005, -30.9957, 4087,   1200.0,   3.1260,  34.4370,2,-999.0000,9,    195.2,2,    47.06,2,    33.54,9,     2.32,2, -999.000,9, -999.000,9, -999.000,9, -999.000,9,-999.0000,9,  -999.00,9,   -999.0,9,-999.000,9,  -999.00,9,   -999.0,0,   -999.0,9,   -999.0,9,  -999.00,9,  -999.0,-999.0000,-999.000,-999.000,  3.0413,-999.000,9
      06MT22_5,   A10,    31,  2,    314,2,19930107,2347,-30.0005, -30.9957, 4087,   1400.0,   2.9400,  34.5680,2,  34.5700,2,    190.2,2,    53.49,2,    32.87,9,     2.28,2, -999.000,9, -999.000,9, -999.000,9, -999.000,9,-999.0000,9,  -999.00,9,   -999.0,9,-999.000,9,  -999.00,9,   -999.0,0,   -999.0,9,   -999.0,9,  -999.00,9,  -999.0,-999.0000,-999.000,-999.000,  2.8411,-999.000,9
      06MT22_5,   A10,    31,  2,    313,2,19930107,2347,-30.0005, -30.9957, 4087,   1600.0,   2.8240,  34.6790,2,-999.0000,9,    197.7,2,    54.24,2,    30.85,9,     2.14,2, -999.000,9, -999.000,9, -999.000,9, -999.000,9,-999.0000,9,  -999.00,9,   -999.0,9,-999.000,9,  -999.00,9,   -999.0,0,   -999.0,9,   -999.0,9,  -999.00,9,  -999.0,-999.0000,-999.000,-999.000,  2.7093,-999.000,9
      06MT22_5,   A10,    31,  2,    312,2,19930107,2347,-30.0005, -30.9957, 4087,   1800.0,   2.7800,  34.7540,2,-999.0000,9,    208.2,2,    51.18,2,    28.82,9,     1.99,2, -999.000,9, -999.000,9, -999.000,9, -999.000,9,-999.0000,9,  -999.00,9,   -999.0,9,-999.000,9,  -999.00,9,   -999.0,0,   -999.0,9,   -999.0,9,  -999.00,9,  -999.0,-999.0000,-999.000,-999.000,  2.6488,-999.000,9
      06MT22_5,   A10,    31,  2,    311,2,19930107,2347,-30.0005, -30.9957, 4087,   2000.0,   2.7440,  34.8020,2,  34.8010,2,    220.9,2,    47.67,2,    26.96,9,     1.86,2, -999.000,9, -999.000,9, -999.000,9, -999.000,9,-999.0000,9,  -999.00,9,   -999.0,9,-999.000,9,  -999.00,9,   -999.0,0,   -999.0,9,   -999.0,9,  -999.00,9,  -999.0,-999.0000,-999.000,-999.000,  2.5957,-999.000,9
      06MT22_5,   A10,    31,  2,    310,2,19930107,2347,-30.0005, -30.9957, 4087,   2251.0,   2.7490,  34.8490,2,-999.0000,9,    232.0,2,    42.85,2,    24.87,9,     1.66,2, -999.000,9, -999.000,9, -999.000,9, -999.000,9,-999.0000,9,  -999.00,9,   -999.0,9,-999.000,9,  -999.00,9,   -999.0,0,   -999.0,9,   -999.0,9,  -999.00,9,  -999.0,-999.0000,-999.000,-999.000,  2.5774,-999.000,9
      06MT22_5,   A10,    31,  2,    309,2,19930107,2347,-30.0005, -30.9957, 4087,   2502.0,   2.7650,  34.8840,2,-999.0000,9,    241.2,2,    37.87,2,    23.47,9,     1.57,2, -999.000,9, -999.000,9, -999.000,9, -999.000,9,-999.0000,9,  -999.00,9,   -999.0,9,-999.000,9,  -999.00,9,   -999.0,0,   -999.0,9,   -999.0,9,  -999.00,9,  -999.0,-999.0000,-999.000,-999.000,  2.5693,-999.000,9
      06MT22_5,   A10,    31,  2,    308,2,19930107,2347,-30.0005, -30.9957, 4087,   2752.0,   2.7360,  34.8990,2,  34.9000,2,    246.3,2,    36.93,2,    22.73,9,     1.52,2, -999.000,9, -999.000,9, -999.000,9, -999.000,9,-999.0000,9,  -999.00,9,   -999.0,9,-999.000,9,  -999.00,9,   -999.0,0,   -999.0,9,   -999.0,9,  -999.00,9,  -999.0,-999.0000,-999.000,-999.000,  2.5163,-999.000,9
      06MT22_5,   A10,    31,  2,    307,2,19930107,2347,-30.0005, -30.9957, 4087,   3003.0,   2.6440,  34.9020,2,-999.0000,9,    248.5,2,    37.78,2,    22.25,9,     1.50,2,    0.005,2,    0.005,2,    0.028,2,   -0.015,3,   1.8212,2,     3.22,2,    -84.7,4,   7.939,2,  -999.00,9,   -999.0,0,   -999.0,9,   -999.0,9,  -999.00,9,     4.9,  0.0064,   0.250,   0.028,  2.4010,   0.083,9
      06MT22_5,   A10,    31,  2,    306,2,19930107,2347,-30.0005, -30.9957, 4087,   3254.0,   2.4170,  34.8850,2,-999.0000,9,    248.4,2,    44.95,2,    23.16,9,     1.57,2,    0.003,2,    0.007,2,    0.035,2, -999.000,9,-999.0000,1,  -999.00,1,   -999.0,9,-999.000,1,  -999.00,9,   -999.0,0,   -999.0,9,   -999.0,9,  -999.00,9,  -999.0,-999.0000,-999.000,-999.000,  2.1531,-999.000,9
      06MT22_5,   A10,    31,  2,    305,2,19930107,2347,-30.0005, -30.9957, 4087,   3503.0,   2.0820,  34.8540,2,  34.8550,2,    242.5,2,    57.01,2,    24.72,9,     1.70,2,    0.004,2,    0.005,2,    0.077,2, -999.000,9,   1.8332,2,     4.49,2,   -999.0,9,   8.036,2,  -999.00,9,   -999.0,0,   -999.0,9,   -999.0,9,  -999.00,9,  -999.0,  0.0064,   0.250,   0.028,  1.8000,-999.000,9
      06MT22_5,   A10,    31,  2,    304,2,19930107,2347,-30.0005, -30.9957, 4087,   3751.0,   1.6980,  34.8110,2,-999.0000,9,    233.5,2,    72.95,2,    27.08,9,     1.89,2,    0.008,2,    0.014,2,    0.056,2, -999.000,9,   1.8332,2,     5.43,2,   -999.0,9,   8.011,2,  -999.00,9,   -999.0,0,   -999.0,9,   -999.0,9,  -999.00,9,  -999.0,  0.0064,   0.250,   0.028,  1.4002,-999.000,9
      06MT22_5,   A10,    31,  2,    303,2,19930107,2347,-30.0005, -30.9957, 4087,   3993.0,   1.3890,  34.7770,2,-999.0000,9,    228.6,2,    86.11,2,    29.07,9,     1.98,2,    0.066,4,    0.024,2,    0.156,2,    0.020,2,   1.8466,2,     6.24,2,   -182.5,4,   8.085,2,  -999.00,9,   -999.0,0,   -999.0,9,   -999.0,9,  -999.00,9,     5.8,  0.0065,   0.250,   0.028,  1.0736,   0.004,9
      06MT22_5,   A10,    31,  2,    302,2,19930107,2347,-30.0005, -30.9957, 4087,   4083.0,   1.0400,  34.7410,2,-999.0000,9,    223.6,2,    99.75,2,    30.95,9,     2.12,2,    0.035,2,    0.013,4,    0.179,2, -999.000,9,   1.8430,2,     6.29,2,   -999.0,9,   8.038,2,  -999.00,9,   -999.0,0,   -999.0,9,   -999.0,9,  -999.00,9,  -999.0,  0.0065,   0.250,   0.028,  0.7249,-999.000,9
      06MT22_5,   A10,    31,  2,    301,2,19930107,2347,-30.0005, -30.9957, 4087,   4085.0,   1.0410,  34.7400,2,  34.7430,2,   -999.0,9,  -999.00,9,  -999.00,9,  -999.00,9,    0.037,2,    0.038,2,    0.176,2,   -0.016,3,-999.0000,1,  -999.00,1,   -999.0,9,-999.000,1,  -999.00,9,   -999.0,0,   -999.0,9,   -999.0,9,  -999.00,9,  -999.0,-999.0000,-999.000,-999.000,  0.7256,   0.085,9
      06MT22_5,   A10,    32,  1,    217,2,19930108,0530,-29.9995, -30.5015, 3946,     12.0,  22.5450,  35.8900,2,  35.8940,2,    219.9,2,     0.00,2,     0.02,9,     0.09,2, -999.000,9, -999.000,9, -999.000,9, -999.000,9,-999.0000,9,  -999.00,9,   -999.0,9,-999.000,9,  -999.00,9,   -999.0,9,   -999.0,9,   -999.0,9,  -999.00,9,  -999.0,-999.0000,-999.000,-999.000, 22.5426,-999.000,9
      06MT22_5,   A10,    32,  1,    209,2,19930108,0530,-29.9995, -30.5015, 3946,     12.0,  22.5480,  35.8910,2,-999.0000,9,   -999.0,9,  -999.00,9,  -999.00,9,  -999.00,9, -999.000,9, -999.000,9, -999.000,9, -999.000,9,-999.0000,9,  -999.00,9,   -999.0,9,-999.000,9,  -999.00,9,   -999.0,9,   -999.0,9,   2372.3,2,  -999.00,9,  -999.0,-999.0000,-999.000,-999.000, 22.5456,-999.000,9
      06MT22_5,   A10,    32,  1,    208,2,19930108,0530,-29.9995, -30.5015, 3946,     32.0,  21.8230,  35.8540,2,  35.8570,2,    224.5,2,     0.09,2,     0.06,9,     0.05,2,    2.114,2,    1.135,2,    2.655,2, -999.000,9,-999.0000,9,  -999.00,9,   -999.0,9,-999.000,9,  -999.00,9,   2039.5,2,   -999.0,9,   2354.2,2,  -999.00,9,  -999.0,-999.0000,-999.000,-999.000, 21.8167,-999.000,9
      06MT22_5,   A10,    32,  1,    207,2,19930108,0530,-29.9995, -30.5015, 3946,     52.0,  19.9160,  35.9560,2,-999.0000,9,    240.5,2,     0.18,2,     0.09,9,     0.05,2, -999.000,9, -999.000,9, -999.000,9, -999.000,9,-999.0000,9,  -999.00,9,   -999.0,9,-999.000,9,  -999.00,9,   2043.5,2,   -999.0,9,   2359.5,2,  -999.00,9,  -999.0,-999.0000,-999.000,-999.000, 19.9064,-999.000,9
      06MT22_5,   A10,    32,  1,    206,2,19930108,0530,-29.9995, -30.5015, 3946,     72.0,  18.9270,  35.9280,2,-999.0000,9,    238.5,2,     0.18,2,     0.13,9,     0.09,2,    2.338,2,    1.270,2,    2.300,2, -999.000,9,-999.0000,9,  -999.00,9,   -999.0,9,-999.000,9,  -999.00,9,   2047.4,2,   -999.0,9,   2355.6,2,  -999.00,9,  -999.0,-999.0000,-999.000,-999.000, 18.9142,-999.000,9
      06MT22_5,   A10,    32,  1,    205,2,19930108,0530,-29.9995, -30.5015, 3946,    101.0,  17.9480,  35.8660,2,  35.8670,2,    232.5,2,     0.05,2,     0.08,9,     0.14,2,    2.367,2,    1.414,2,    1.964,2, -999.000,9,-999.0000,9,  -999.00,9,   -999.0,9,-999.000,9,  -999.00,9,   2057.1,2,   -999.0,9,   2351.6,2,  -999.00,9,  -999.0,-999.0000,-999.000,-999.000, 17.9306,-999.000,9
      06MT22_5,   A10,    32,  1,    204,2,19930108,0530,-29.9995, -30.5015, 3946,    151.0,  16.4920,  35.6670,2,-999.0000,9,    217.7,2,     0.80,2,     2.24,9,     0.28,2, -999.000,9, -999.000,9, -999.000,9, -999.000,9,-999.0000,9,  -999.00,9,   -999.0,9,-999.000,9,  -999.00,9,   2074.2,2,   -999.0,9,   2338.8,2,  -999.00,9,  -999.0,-999.0000,-999.000,-999.000, 16.4676,-999.000,9
      06MT22_5,   A10,    32,  1,    203,2,19930108,0530,-29.9995, -30.5015, 3946,    201.0,  15.0240,  35.4760,2,-999.0000,9,    211.8,2,     1.46,2,     5.44,9,     0.49,2,    2.381,2,    1.275,2,    0.881,2, -999.000,9,-999.0000,9,  -999.00,9,   -999.0,9,-999.000,9,  -999.00,9,   2087.2,2,   -999.0,9,   2329.9,2,  -999.00,9,  -999.0,-999.0000,-999.000,-999.000, 14.9934,-999.000,9
      06MT22_5,   A10,    32,  1,    202,2,19930108,0530,-29.9995, -30.5015, 3946,    301.0,  13.6190,  35.3300,2,  35.3340,2,    213.6,2,     2.20,2,     8.37,9,     0.66,2, -999.000,9, -999.000,9, -999.000,9, -999.000,9,-999.0000,9,  -999.00,9,   -999.0,9,-999.000,9,  -999.00,9,   2107.7,2,   -999.0,9,   2323.0,2,  -999.00,9,  -999.0,-999.0000,-999.000,-999.000, 13.5760,-999.000,9
      06MT22_5,   A10,    32,  1,    201,2,19930108,0530,-29.9995, -30.5015, 3946,    401.0,  11.7900,  35.0580,2,-999.0000,9,    211.6,2,     3.62,2,    12.91,9,     0.92,2,    2.097,2,    1.105,2,    0.938,2, -999.000,9,-999.0000,9,  -999.00,9,   -999.0,9,-999.000,9,  -999.00,9,   2112.9,2,   -999.0,9,   2312.1,2,  -999.00,9,  -999.0,-999.0000,-999.000,-999.000, 11.7374,-999.000,9