BOTTLE,20030417WHPSIOSA
EXPOCODE,SECT_ID,STNNBR,CASTNO,BTLNBR,BTLNBR_FLAG_W,DATE,TIME,LATITUDE,LONGITUDE,DEPTH,CTDPRS,CTDTMP,CTDSAL,CTDSAL_FLAG_W,SALNTY,SALNTY_FLAG_W,OXYGEN,OXYGEN_FLAG_W,SILCAT,SILCAT_FLAG_W,NO2+NO3,NO2+NO3_FLAG_W,PHSPHT,PHSPHT_FLAG_W,CFC-11,CFC-11_FLAG_W,CFC-12,CFC-12_FLAG_W,CCL4,CCL4_FLAG_W,TRITUM,TRITUM_FLAG_W,HELIUM,HELIUM_FLAG_W,DELHE3,DELHE3_FLAG_W,DELC14,DELC14_FLAG_W,NEON,NEON_FLAG_W,O18O16,O18O16_FLAG_W,TCARBN,TCARBN_FLAG_W,PCO2,PCO2_FLAG_W,ALKALI,ALKALI_FLAG_W,PH,PH_FLAG_W,C14ERR,HELIER,DELHER,NEONER,THETA,TRITER,TRITER_FLAG_W
,,,,,,,,,,,DBAR,ITS-90,PSS-78,,PSS-78,,UMOL/KG,,UMOL/KG,,UMOL/KG,,UMOL/KG,,PMOL/KG,,PMOL/KG,,PMOL/KG,,TU,,NMOL/KG,,PERCNT,,/MILLE,,NMOL/KG,,MILLE,,UMOL/KG,,UATM,,UMOL/KG,,,,/MILLE,NMOL/KG,PERCNT,NMOL/KG,ITS-90,TU,
      06MT22_5,   A10,    29,  2,    324,2,19930107,1205,-29.9983, -32.0003, 3853,      9.0,  21.5200,  35.6800,2,  35.6890,2,    225.0,2,  -999.00,9,  -999.00,9,  -999.00,9, -999.000,9, -999.000,9, -999.000,9, -999.000,9,-999.0000,9,  -999.00,9,   -999.0,9,-999.000,9,  -999.00,9,   -999.0,0,   -999.0,9,   -999.0,9,  -999.00,9,  -999.0,-999.0000,-999.000,-999.000, 21.5182,-999.000,9
      06MT22_5,   A10,    29,  2,    323,2,19930107,1205,-29.9983, -32.0003, 3853,    250.0,  14.3600,  35.4470,2,-999.0000,9,    213.3,2,     1.93,2,     7.39,9,     0.60,2, -999.000,9, -999.000,9, -999.000,9, -999.000,9,-999.0000,9,  -999.00,9,   -999.0,9,-999.000,9,  -999.00,9,   -999.0,0,   -999.0,9,   -999.0,9,  -999.00,9,  -999.0,-999.0000,-999.000,-999.000, 14.3233,-999.000,9
      06MT22_5,   A10,    29,  2,    322,2,19930107,1205,-29.9983, -32.0003, 3853,    499.0,   9.5200,  34.7530,2,-999.0000,9,    210.8,2,     6.71,2,    18.77,9,     1.30,2, -999.000,9, -999.000,9, -999.000,9, -999.000,9,-999.0000,9,  -999.00,9,   -999.0,9,-999.000,9,  -999.00,9,   -999.0,0,   -999.0,9,   -999.0,9,  -999.00,9,  -999.0,-999.0000,-999.000,-999.000,  9.4633,-999.000,9
      06MT22_5,   A10,    29,  2,    321,2,19930107,1205,-29.9983, -32.0003, 3853,    600.0,   7.4890,  34.5280,2,  34.5340,2,    213.0,2,    10.69,2,    23.83,9,     1.61,2, -999.000,9, -999.000,9, -999.000,9, -999.000,9,-999.0000,9,  -999.00,9,   -999.0,9,-999.000,9,  -999.00,9,   -999.0,0,   -999.0,9,   -999.0,9,  -999.00,9,  -999.0,-999.0000,-999.000,-999.000,  7.4294,-999.000,9
      06MT22_5,   A10,    29,  2,    320,2,19930107,1205,-29.9983, -32.0003, 3853,    700.0,   6.1470,  34.4040,2,-999.0000,9,    220.5,2,    14.48,2,    26.76,9,     1.83,2, -999.000,9, -999.000,9, -999.000,9, -999.000,9,-999.0000,9,  -999.00,9,   -999.0,9,-999.000,9,  -999.00,9,   -999.0,0,   -999.0,9,   -999.0,9,  -999.00,9,  -999.0,-999.0000,-999.000,-999.000,  6.0843,-999.000,9
      06MT22_5,   A10,    29,  2,    319,2,19930107,1205,-29.9983, -32.0003, 3853,    800.0,   4.8160,  34.3190,2,-999.0000,9,    222.7,2,    20.60,2,    29.45,9,     1.99,2, -999.000,9, -999.000,9, -999.000,9, -999.000,9,-999.0000,9,  -999.00,9,   -999.0,9,-999.000,9,  -999.00,9,   -999.0,0,   -999.0,9,   -999.0,9,  -999.00,9,  -999.0,-999.0000,-999.000,-999.000,  4.7519,-999.000,9
      06MT22_5,   A10,    29,  2,    318,2,19930107,1205,-29.9983, -32.0003, 3853,    899.0,   4.1090,  34.3060,2,-999.0000,9,    219.1,2,    27.20,2,    31.01,9,     2.13,2, -999.000,9, -999.000,9, -999.000,9, -999.000,9,-999.0000,9,  -999.00,9,   -999.0,9,-999.000,9,  -999.00,9,   -999.0,0,   -999.0,9,   -999.0,9,  -999.00,9,  -999.0,-999.0000,-999.000,-999.000,  4.0412,-999.000,9
      06MT22_5,   A10,    29,  2,    317,2,19930107,1205,-29.9983, -32.0003, 3853,   1000.0,   3.6800,  34.3300,2,  34.3400,2,    212.0,2,    34.06,2,    32.42,9,     2.20,2, -999.000,9, -999.000,9, -999.000,9, -999.000,9,-999.0000,9,  -999.00,9,   -999.0,9,-999.000,9,  -999.00,9,   -999.0,0,   -999.0,9,   -999.0,9,  -999.00,9,  -999.0,-999.0000,-999.000,-999.000,  3.6071,-999.000,9
      06MT22_5,   A10,    29,  2,    316,2,19930107,1205,-29.9983, -32.0003, 3853,   1000.0,   3.6820,  34.3300,2,-999.0000,9,    211.1,2,    34.36,2,    32.55,9,     2.24,2, -999.000,9, -999.000,9, -999.000,9, -999.000,9,-999.0000,9,  -999.00,9,   -999.0,9,-999.000,9,  -999.00,9,   -999.0,0,   -999.0,9,   -999.0,9,  -999.00,9,  -999.0,-999.0000,-999.000,-999.000,  3.6085,-999.000,9
      06MT22_5,   A10,    29,  2,    315,2,19930107,1205,-29.9983, -32.0003, 3853,   1200.0,   3.1690,  34.4320,2,-999.0000,9,    195.3,2,    47.23,2,    33.91,9,     2.33,2, -999.000,9, -999.000,9, -999.000,9, -999.000,9,-999.0000,9,  -999.00,9,   -999.0,9,-999.000,9,  -999.00,9,   -999.0,0,   -999.0,9,   -999.0,9,  -999.00,9,  -999.0,-999.0000,-999.000,-999.000,  3.0837,-999.000,9
      06MT22_5,   A10,    29,  2,    314,2,19930107,1205,-29.9983, -32.0003, 3853,   1400.0,   2.9310,  34.5600,2,-999.0000,9,    190.9,2,    54.43,2,    33.18,9,     2.26,2, -999.000,9, -999.000,9, -999.000,9, -999.000,9,-999.0000,9,  -999.00,9,   -999.0,9,-999.000,9,  -999.00,9,   -999.0,0,   -999.0,9,   -999.0,9,  -999.00,9,  -999.0,-999.0000,-999.000,-999.000,  2.8320,-999.000,9
      06MT22_5,   A10,    29,  2,    313,2,19930107,1205,-29.9983, -32.0003, 3853,   1600.0,   2.8510,  34.6590,2,  34.6680,2,    202.7,2,    54.35,2,    31.31,9,     2.13,2, -999.000,9, -999.000,9, -999.000,9, -999.000,9,-999.0000,9,  -999.00,9,   -999.0,9,-999.000,9,  -999.00,9,   -999.0,0,   -999.0,9,   -999.0,9,  -999.00,9,  -999.0,-999.0000,-999.000,-999.000,  2.7363,-999.000,9
      06MT22_5,   A10,    29,  2,    312,2,19930107,1205,-29.9983, -32.0003, 3853,   1801.0,   2.7780,  34.7460,2,-999.0000,9,    205.8,2,    51.38,2,    29.12,9,     1.94,2, -999.000,9, -999.000,9, -999.000,9, -999.000,9,-999.0000,9,  -999.00,9,   -999.0,9,-999.000,9,  -999.00,9,   -999.0,0,   -999.0,9,   -999.0,9,  -999.00,9,  -999.0,-999.0000,-999.000,-999.000,  2.6465,-999.000,9
      06MT22_5,   A10,    29,  2,    311,2,19930107,1205,-29.9983, -32.0003, 3853,   2002.0,   2.7440,  34.8030,2,-999.0000,9,    220.6,2,    47.30,2,    27.06,9,     1.82,2, -999.000,9, -999.000,9, -999.000,9, -999.000,9,-999.0000,9,  -999.00,9,   -999.0,9,-999.000,9,  -999.00,9,   -999.0,0,   -999.0,9,   -999.0,9,  -999.00,9,  -999.0,-999.0000,-999.000,-999.000,  2.5953,-999.000,9
      06MT22_5,   A10,    29,  2,    310,2,19930107,1205,-29.9983, -32.0003, 3853,   2252.0,   2.7610,  34.8540,2,-999.0000,9,    234.6,2,    41.58,2,    24.90,9,     1.64,2, -999.000,9, -999.000,9, -999.000,9, -999.000,9,-999.0000,9,  -999.00,9,   -999.0,9,-999.000,9,  -999.00,9,   -999.0,0,   -999.0,9,   -999.0,9,  -999.00,9,  -999.0,-999.0000,-999.000,-999.000,  2.5892,-999.000,9
      06MT22_5,   A10,    29,  2,    309,2,19930107,1205,-29.9983, -32.0003, 3853,   2501.0,   2.7740,  34.8880,2,  34.8950,2,    243.1,2,    36.79,2,    23.12,9,     1.54,2, -999.000,9, -999.000,9, -999.000,9, -999.000,9,-999.0000,9,  -999.00,9,   -999.0,9,-999.000,9,  -999.00,9,   -999.0,0,   -999.0,9,   -999.0,9,  -999.00,9,  -999.0,-999.0000,-999.000,-999.000,  2.5783,-999.000,9
      06MT22_5,   A10,    29,  2,    308,2,19930107,1205,-29.9983, -32.0003, 3853,   2753.0,   2.7190,  34.8970,2,-999.0000,9,    247.3,2,    36.27,2,    22.65,9,     1.52,2, -999.000,9, -999.000,9, -999.000,9, -999.000,9,-999.0000,9,  -999.00,9,   -999.0,9,-999.000,9,  -999.00,9,   -999.0,0,   -999.0,9,   -999.0,9,  -999.00,9,  -999.0,-999.0000,-999.000,-999.000,  2.4997,-999.000,9
      06MT22_5,   A10,    29,  2,    307,2,19930107,1205,-29.9983, -32.0003, 3853,   3003.0,   2.6010,  34.8970,2,-999.0000,9,    249.6,2,    38.22,2,    22.59,9,     1.49,2, -999.000,9, -999.000,9, -999.000,9, -999.000,9,-999.0000,9,  -999.00,9,   -999.0,9,-999.000,9,  -999.00,9,   -999.0,0,   -999.0,9,   -999.0,9,  -999.00,9,  -999.0,-999.0000,-999.000,-999.000,  2.3589,-999.000,9
      06MT22_5,   A10,    29,  2,    306,2,19930107,1205,-29.9983, -32.0003, 3853,   3254.0,   2.4250,  34.8830,2,-999.0000,9,    248.2,2,    43.61,2,    23.06,9,     1.53,2, -999.000,9, -999.000,9, -999.000,9, -999.000,9,-999.0000,9,  -999.00,9,   -999.0,9,-999.000,9,  -999.00,9,   -999.0,0,   -999.0,9,   -999.0,9,  -999.00,9,  -999.0,-999.0000,-999.000,-999.000,  2.1608,-999.000,9
      06MT22_5,   A10,    29,  2,    305,2,19930107,1205,-29.9983, -32.0003, 3853,   3504.0,   2.2210,  34.8640,2,  34.8710,2,    246.4,2,    51.10,2,    24.00,9,     1.59,2, -999.000,9, -999.000,9, -999.000,9, -999.000,9,-999.0000,9,  -999.00,9,   -999.0,9,-999.000,9,  -999.00,9,   -999.0,0,   -999.0,9,   -999.0,9,  -999.00,9,  -999.0,-999.0000,-999.000,-999.000,  1.9353,-999.000,9
      06MT22_5,   A10,    29,  2,    304,2,19930107,1205,-29.9983, -32.0003, 3853,   3702.0,   1.8340,  34.8200,2,-999.0000,9,    237.3,2,    67.63,2,    26.33,9,     1.80,2, -999.000,9, -999.000,9, -999.000,9, -999.000,9,-999.0000,9,  -999.00,9,   -999.0,9,-999.000,9,  -999.00,9,   -999.0,0,   -999.0,9,   -999.0,9,  -999.00,9,  -999.0,-999.0000,-999.000,-999.000,  1.5377,-999.000,9
      06MT22_5,   A10,    29,  2,    303,2,19930107,1205,-29.9983, -32.0003, 3853,   3806.0,   1.5220,  34.7860,2,-999.0000,9,    230.9,2,    80.78,2,    28.25,9,     1.92,2, -999.000,9, -999.000,9, -999.000,9, -999.000,9,-999.0000,9,  -999.00,9,   -999.0,9,-999.000,9,  -999.00,9,   -999.0,0,   -999.0,9,   -999.0,9,  -999.00,9,  -999.0,-999.0000,-999.000,-999.000,  1.2229,-999.000,9
      06MT22_5,   A10,    29,  2,    301,2,19930107,1205,-29.9983, -32.0003, 3853,   3887.0,   1.1370,  34.7460,2,  34.7560,2,    224.8,2,    95.12,2,    30.35,9,     2.10,2, -999.000,9, -999.000,9, -999.000,9, -999.000,9,-999.0000,9,  -999.00,9,   -999.0,9,-999.000,9,  -999.00,9,   -999.0,0,   -999.0,9,   -999.0,9,  -999.00,9,  -999.0,-999.0000,-999.000,-999.000,  0.8399,-999.000,9
      06MT22_5,   A10,    29,  2,    302,2,19930107,1205,-29.9983, -32.0003, 3853,   3889.0,   1.1350,  34.7450,2,-999.0000,9,    224.4,2,    95.39,2,    30.28,9,     2.07,2, -999.000,9, -999.000,9, -999.000,9, -999.000,9,-999.0000,9,  -999.00,9,   -999.0,9,-999.000,9,  -999.00,9,   -999.0,0,   -999.0,9,   -999.0,9,  -999.00,9,  -999.0,-999.0000,-999.000,-999.000,  0.8377,-999.000,9
      06MT22_5,   A10,    30,  1,    217,2,19930107,1751,-30.0002, -31.5040, 3858,     12.0,  21.4810,  36.0600,2,  36.0590,2,    226.4,2,     0.22,2,     0.09,9,     0.06,2, -999.000,9, -999.000,9, -999.000,9, -999.000,9,-999.0000,9,  -999.00,9,   -999.0,9,-999.000,9,  -999.00,9,   -999.0,9,   -999.0,9,   -999.0,9,  -999.00,9,  -999.0,-999.0000,-999.000,-999.000, 21.4787,-999.000,9
      06MT22_5,   A10,    30,  1,    210,2,19930107,1751,-30.0002, -31.5040, 3858,     12.0,  21.6590,  36.0580,2,-999.0000,9,   -999.0,9,  -999.00,9,  -999.00,9,  -999.00,9,    2.163,2,    1.188,2,    2.767,2,    0.958,2,   1.6945,2,    -1.27,2,   -999.0,9,   6.829,2,  -999.00,9,   2043.4,2,   -999.0,9,   -999.0,9,  -999.00,9,  -999.0,  0.0059,   0.250,   0.024, 21.6566,   0.026,9
      06MT22_5,   A10,    30,  1,    209,2,19930107,1751,-30.0002, -31.5040, 3858,     32.0,  21.1500,  36.0470,2,-999.0000,9,    228.2,2,     0.05,2,     0.06,9,     0.04,2,    2.162,2,    1.176,2,    2.746,2, -999.000,9,-999.0000,1,  -999.00,1,   -999.0,9,-999.000,1,  -999.00,9,   2042.8,2,   -999.0,9,   -999.0,9,  -999.00,9,  -999.0,-999.0000,-999.000,-999.000, 21.1438,-999.000,9
      06MT22_5,   A10,    30,  1,    208,2,19930107,1751,-30.0002, -31.5040, 3858,     52.0,  19.7750,  36.0000,2,  36.0000,2,    235.8,2,     0.27,2,     0.05,9,     0.01,2,    2.300,2,    1.372,2,    2.710,2, -999.000,9,-999.0000,1,  -999.00,1,   -999.0,9,-999.000,1,  -999.00,9,   2045.1,2,   -999.0,9,   -999.0,9,  -999.00,9,  -999.0,-999.0000,-999.000,-999.000, 19.7654,-999.000,9
      06MT22_5,   A10,    30,  1,    207,2,19930107,1751,-30.0002, -31.5040, 3858,     71.0,  18.6090,  35.9920,2,-999.0000,9,    233.7,2,     0.45,2,     0.07,9,     0.07,2,    2.330,2,    1.289,2,    2.089,3, -999.000,9,-999.0000,1,  -999.00,1,   -999.0,9,-999.000,1,  -999.00,9,   2055.4,2,   -999.0,9,   -999.0,9,  -999.00,9,  -999.0,-999.0000,-999.000,-999.000, 18.5965,-999.000,9
      06MT22_5,   A10,    30,  1,    206,2,19930107,1751,-30.0002, -31.5040, 3858,    101.0,  17.4330,  35.8510,2,-999.0000,9,    236.4,2,     0.27,2,     0.04,9,     0.07,2,    2.445,2,    1.330,2,    2.268,2, -999.000,9,-999.0000,1,  -999.00,1,   -999.0,9,-999.000,1,  -999.00,9,   2058.4,2,   -999.0,9,   -999.0,9,  -999.00,9,  -999.0,-999.0000,-999.000,-999.000, 17.4160,-999.000,9
      06MT22_5,   A10,    30,  1,    205,2,19930107,1751,-30.0002, -31.5040, 3858,    151.0,  16.4230,  35.7380,2,  35.7300,2,    224.0,2,     0.59,2,     2.16,9,     0.23,2,    2.450,2,    1.319,2,    1.502,2, -999.000,9,-999.0000,1,  -999.00,1,   -999.0,9,-999.000,1,  -999.00,9,   2073.2,2,   -999.0,9,   -999.0,9,  -999.00,9,  -999.0,-999.0000,-999.000,-999.000, 16.3986,-999.000,9
      06MT22_5,   A10,    30,  1,    204,2,19930107,1751,-30.0002, -31.5040, 3858,    201.0,  15.4980,  35.6330,2,-999.0000,9,    214.3,2,     1.26,2,     4.86,9,     0.36,2,    2.401,2,    1.288,2,    0.985,2, -999.000,9,   1.7324,2,    -0.88,2,   -999.0,9,   7.129,2,  -999.00,9,   2086.9,2,   -999.0,9,   -999.0,9,  -999.00,9,  -999.0,  0.0061,   0.250,   0.050, 15.4668,-999.000,9
      06MT22_5,   A10,    30,  1,    203,2,19930107,1751,-30.0002, -31.5040, 3858,    301.0,  13.6390,  35.3120,2,-999.0000,9,    210.8,2,     2.56,2,     8.70,9,     0.60,2,    2.238,2,    1.179,2,    0.744,2,    0.749,2,-999.0000,1,  -999.00,1,   -999.0,9,-999.000,1,  -999.00,9,   2100.1,2,   -999.0,9,   -999.0,9,  -999.00,9,  -999.0,-999.0000,-999.000,-999.000, 13.5960,   0.034,9
      06MT22_5,   A10,    30,  1,    202,2,19930107,1751,-30.0002, -31.5040, 3858,    400.0,  12.2200,  35.1290,2,  35.1280,2,   -999.0,9,  -999.00,9,  -999.00,9,  -999.00,9, -999.000,9, -999.000,9, -999.000,9, -999.000,9,-999.0000,9,  -999.00,9,   -999.0,9,-999.000,9,  -999.00,9,   -999.0,9,   -999.0,9,   -999.0,9,  -999.00,9,  -999.0,-999.0000,-999.000,-999.000, 12.1667,-999.000,9
      06MT22_5,   A10,    30,  1,    201,2,19930107,1751,-30.0002, -31.5040, 3858,    500.0,  10.2500,  34.8550,2,-999.0000,9,    208.3,2,     5.98,2,    17.02,9,     1.13,2,    1.871,2,    0.967,2,    1.224,2,    0.478,2,   1.7498,2,     0.97,2,   -999.0,9,   7.434,2,  -999.00,9,   2126.2,2,   -999.0,9,   -999.0,9,  -999.00,9,  -999.0,  0.0061,   0.250,   0.026, 10.1897,   0.013,9