BOTTLE,20030417WHPSIOSA
EXPOCODE,SECT_ID,STNNBR,CASTNO,BTLNBR,BTLNBR_FLAG_W,DATE,TIME,LATITUDE,LONGITUDE,DEPTH,CTDPRS,CTDTMP,CTDSAL,CTDSAL_FLAG_W,SALNTY,SALNTY_FLAG_W,OXYGEN,OXYGEN_FLAG_W,SILCAT,SILCAT_FLAG_W,NO2+NO3,NO2+NO3_FLAG_W,PHSPHT,PHSPHT_FLAG_W,CFC-11,CFC-11_FLAG_W,CFC-12,CFC-12_FLAG_W,CCL4,CCL4_FLAG_W,TRITUM,TRITUM_FLAG_W,HELIUM,HELIUM_FLAG_W,DELHE3,DELHE3_FLAG_W,DELC14,DELC14_FLAG_W,NEON,NEON_FLAG_W,O18O16,O18O16_FLAG_W,TCARBN,TCARBN_FLAG_W,PCO2,PCO2_FLAG_W,ALKALI,ALKALI_FLAG_W,PH,PH_FLAG_W,C14ERR,HELIER,DELHER,NEONER,THETA,TRITER,TRITER_FLAG_W
,,,,,,,,,,,DBAR,ITS-90,PSS-78,,PSS-78,,UMOL/KG,,UMOL/KG,,UMOL/KG,,UMOL/KG,,PMOL/KG,,PMOL/KG,,PMOL/KG,,TU,,NMOL/KG,,PERCNT,,/MILLE,,NMOL/KG,,MILLE,,UMOL/KG,,UATM,,UMOL/KG,,,,/MILLE,NMOL/KG,PERCNT,NMOL/KG,ITS-90,TU,
      06MT22_5,   A10,    33,  2,    324,2,19930108,1130,-30.0008, -29.9913, 3528,     12.0,  22.0060,  35.8330,2,  35.8380,2,   -999.0,9,  -999.00,9,  -999.00,9,  -999.00,9, -999.000,9, -999.000,9, -999.000,9, -999.000,9,-999.0000,9,  -999.00,9,   -999.0,9,-999.000,9,  -999.00,9,   -999.0,0,   -999.0,9,   -999.0,9,  -999.00,9,  -999.0,-999.0000,-999.000,-999.000, 22.0036,-999.000,9
      06MT22_5,   A10,    33,  2,    323,2,19930108,1130,-30.0008, -29.9913, 3528,     12.0,  22.0050,  35.8320,2,-999.0000,9,   -999.0,9,  -999.00,9,  -999.00,9,  -999.00,9, -999.000,9, -999.000,9, -999.000,9, -999.000,9,-999.0000,9,  -999.00,9,   -999.0,9,-999.000,9,  -999.00,9,   -999.0,0,   -999.0,9,   -999.0,9,  -999.00,9,  -999.0,-999.0000,-999.000,-999.000, 22.0026,-999.000,9
      06MT22_5,   A10,    33,  2,    322,2,19930108,1130,-30.0008, -29.9913, 3528,     12.0,  22.0080,  35.8320,2,-999.0000,9,   -999.0,9,  -999.00,9,  -999.00,9,  -999.00,9, -999.000,9, -999.000,9, -999.000,9, -999.000,9,-999.0000,9,  -999.00,9,   -999.0,9,-999.000,9,  -999.00,9,   -999.0,0,   -999.0,9,   -999.0,9,  -999.00,9,  -999.0,-999.0000,-999.000,-999.000, 22.0056,-999.000,9
      06MT22_5,   A10,    33,  2,    321,2,19930108,1130,-30.0008, -29.9913, 3528,     12.0,  21.9840,  35.8330,2,-999.0000,9,   -999.0,9,  -999.00,9,  -999.00,9,  -999.00,9, -999.000,9, -999.000,9, -999.000,9, -999.000,9,-999.0000,9,  -999.00,9,   -999.0,9,-999.000,9,  -999.00,9,   -999.0,0,   -999.0,9,   -999.0,9,  -999.00,9,  -999.0,-999.0000,-999.000,-999.000, 21.9816,-999.000,9
      06MT22_5,   A10,    33,  2,    320,2,19930108,1130,-30.0008, -29.9913, 3528,     13.0,  21.9580,  35.8360,2,-999.0000,9,   -999.0,9,  -999.00,9,  -999.00,9,  -999.00,9, -999.000,9, -999.000,9, -999.000,9, -999.000,9,-999.0000,9,  -999.00,9,   -999.0,9,-999.000,9,  -999.00,9,   -999.0,0,   -999.0,9,   -999.0,9,  -999.00,9,  -999.0,-999.0000,-999.000,-999.000, 21.9554,-999.000,9
      06MT22_5,   A10,    33,  2,    319,2,19930108,1130,-30.0008, -29.9913, 3528,    400.0,  11.9710,  35.0840,2,-999.0000,9,    210.9,2,     3.66,2,    12.38,9,     0.90,2, -999.000,9, -999.000,9, -999.000,9, -999.000,9,-999.0000,9,  -999.00,9,   -999.0,9,-999.000,9,  -999.00,9,   -999.0,0,   -999.0,9,   -999.0,9,  -999.00,9,  -999.0,-999.0000,-999.000,-999.000, 11.9187,-999.000,9
      06MT22_5,   A10,    33,  2,    318,2,19930108,1130,-30.0008, -29.9913, 3528,    500.0,  10.0840,  34.8270,2,-999.0000,9,    208.0,2,     6.11,2,    17.34,9,     1.25,2, -999.000,9, -999.000,9, -999.000,9, -999.000,9,-999.0000,9,  -999.00,9,   -999.0,9,-999.000,9,  -999.00,9,   -999.0,0,   -999.0,9,   -999.0,9,  -999.00,9,  -999.0,-999.0000,-999.000,-999.000, 10.0251,-999.000,9
      06MT22_5,   A10,    33,  2,    317,2,19930108,1130,-30.0008, -29.9913, 3528,    599.0,   8.0220,  34.5860,2,  34.5750,2,    209.6,2,     9.92,2,    22.63,9,     1.56,2, -999.000,9, -999.000,9, -999.000,9, -999.000,9,-999.0000,9,  -999.00,9,   -999.0,9,-999.000,9,  -999.00,9,   -999.0,0,   -999.0,9,   -999.0,9,  -999.00,9,  -999.0,-999.0000,-999.000,-999.000,  7.9601,-999.000,9
      06MT22_5,   A10,    33,  2,    316,2,19930108,1130,-30.0008, -29.9913, 3528,    699.0,   6.1660,  34.4160,2,-999.0000,9,    216.3,2,    15.12,2,    26.71,9,     1.88,2, -999.000,9, -999.000,9, -999.000,9, -999.000,9,-999.0000,9,  -999.00,9,   -999.0,9,-999.000,9,  -999.00,9,   -999.0,0,   -999.0,9,   -999.0,9,  -999.00,9,  -999.0,-999.0000,-999.000,-999.000,  6.1032,-999.000,9
      06MT22_5,   A10,    33,  2,    315,2,19930108,1130,-30.0008, -29.9913, 3528,    849.0,   4.4560,  34.2960,2,-999.0000,9,    229.2,2,    21.42,2,    29.30,9,     2.03,2, -999.000,9, -999.000,9, -999.000,9, -999.000,9,-999.0000,9,  -999.00,9,   -999.0,9,-999.000,9,  -999.00,9,   -999.0,0,   -999.0,9,   -999.0,9,  -999.00,9,  -999.0,-999.0000,-999.000,-999.000,  4.3899,-999.000,9
      06MT22_5,   A10,    33,  2,    314,2,19930108,1130,-30.0008, -29.9913, 3528,    999.0,   3.5570,  34.3030,2,-999.0000,9,    221.4,2,    32.14,2,    31.61,9,     2.16,2, -999.000,9, -999.000,9, -999.000,9, -999.000,9,-999.0000,9,  -999.00,9,   -999.0,9,-999.000,9,  -999.00,9,   -999.0,0,   -999.0,9,   -999.0,9,  -999.00,9,  -999.0,-999.0000,-999.000,-999.000,  3.4850,-999.000,9
      06MT22_5,   A10,    33,  2,    313,2,19930108,1130,-30.0008, -29.9913, 3528,   1198.0,   3.0450,  34.4180,2,  34.4220,2,    199.7,2,    47.00,2,    33.26,9,     2.29,2, -999.000,9, -999.000,9, -999.000,9, -999.000,9,-999.0000,9,  -999.00,9,   -999.0,9,-999.000,9,  -999.00,9,   -999.0,0,   -999.0,9,   -999.0,9,  -999.00,9,  -999.0,-999.0000,-999.000,-999.000,  2.9616,-999.000,9
      06MT22_5,   A10,    33,  2,    312,2,19930108,1130,-30.0008, -29.9913, 3528,   1400.0,   2.8580,  34.5620,2,-999.0000,9,    191.6,2,    54.84,2,    32.53,9,     2.27,2, -999.000,9, -999.000,9, -999.000,9, -999.000,9,-999.0000,9,  -999.00,9,   -999.0,9,-999.000,9,  -999.00,9,   -999.0,0,   -999.0,9,   -999.0,9,  -999.00,9,  -999.0,-999.0000,-999.000,-999.000,  2.7595,-999.000,9
      06MT22_5,   A10,    33,  2,    311,2,19930108,1130,-30.0008, -29.9913, 3528,   1600.0,   2.8090,  34.6710,2,-999.0000,9,    195.5,2,    55.03,2,    30.70,9,     2.10,2, -999.000,9, -999.000,9, -999.000,9, -999.000,9,-999.0000,9,  -999.00,9,   -999.0,9,-999.000,9,  -999.00,9,   -999.0,0,   -999.0,9,   -999.0,9,  -999.00,9,  -999.0,-999.0000,-999.000,-999.000,  2.6946,-999.000,9
      06MT22_5,   A10,    33,  2,    310,2,19930108,1130,-30.0008, -29.9913, 3528,   1800.0,   2.7710,  34.7530,2,  34.7550,2,    208.3,2,    52.17,2,    28.36,9,     1.97,2, -999.000,9, -999.000,9, -999.000,9, -999.000,9,-999.0000,9,  -999.00,9,   -999.0,9,-999.000,9,  -999.00,9,   -999.0,0,   -999.0,9,   -999.0,9,  -999.00,9,  -999.0,-999.0000,-999.000,-999.000,  2.6401,-999.000,9
      06MT22_5,   A10,    33,  2,    309,2,19930108,1130,-30.0008, -29.9913, 3528,   2000.0,   2.7370,  34.8120,2,-999.0000,9,    221.8,2,    46.86,2,    26.15,9,     1.79,2, -999.000,9, -999.000,9, -999.000,9, -999.000,9,-999.0000,9,  -999.00,9,   -999.0,9,-999.000,9,  -999.00,9,   -999.0,0,   -999.0,9,   -999.0,9,  -999.00,9,  -999.0,-999.0000,-999.000,-999.000,  2.5885,-999.000,9
      06MT22_5,   A10,    33,  2,    308,2,19930108,1130,-30.0008, -29.9913, 3528,   2200.0,   2.7460,  34.8500,2,-999.0000,9,    231.2,2,    42.60,2,    24.50,9,     1.71,2, -999.000,9, -999.000,9, -999.000,9, -999.000,9,-999.0000,9,  -999.00,9,   -999.0,9,-999.000,9,  -999.00,9,   -999.0,0,   -999.0,9,   -999.0,9,  -999.00,9,  -999.0,-999.0000,-999.000,-999.000,  2.5792,-999.000,9
      06MT22_5,   A10,    33,  2,    307,2,19930108,1130,-30.0008, -29.9913, 3528,   2501.0,   2.7590,  34.8880,2,-999.0000,9,    242.2,2,    37.51,2,    22.81,9,     1.54,2, -999.000,9, -999.000,9, -999.000,9, -999.000,9,-999.0000,9,  -999.00,9,   -999.0,9,-999.000,9,  -999.00,9,   -999.0,0,   -999.0,9,   -999.0,9,  -999.00,9,  -999.0,-999.0000,-999.000,-999.000,  2.5635,-999.000,9
      06MT22_5,   A10,    33,  2,    306,2,19930108,1130,-30.0008, -29.9913, 3528,   2751.0,   2.7110,  34.9020,2,  34.9020,2,    247.0,2,    36.27,2,    22.13,9,     1.50,2, -999.000,9, -999.000,9, -999.000,9, -999.000,9,-999.0000,9,  -999.00,9,   -999.0,9,-999.000,9,  -999.00,9,   -999.0,0,   -999.0,9,   -999.0,9,  -999.00,9,  -999.0,-999.0000,-999.000,-999.000,  2.4919,-999.000,9
      06MT22_5,   A10,    33,  2,    305,2,19930108,1130,-30.0008, -29.9913, 3528,   3003.0,   2.6550,  34.9010,2,-999.0000,9,    247.9,2,    37.83,2,    22.11,9,     1.51,2, -999.000,9, -999.000,9, -999.000,9, -999.000,9,-999.0000,9,  -999.00,9,   -999.0,9,-999.000,9,  -999.00,9,   -999.0,0,   -999.0,9,   -999.0,9,  -999.00,9,  -999.0,-999.0000,-999.000,-999.000,  2.4117,-999.000,9
      06MT22_5,   A10,    33,  2,    304,2,19930108,1130,-30.0008, -29.9913, 3528,   3265.0,   2.4260,  34.8860,2,-999.0000,9,    246.9,2,    44.22,2,    22.70,9,     1.55,2, -999.000,9, -999.000,9, -999.000,9, -999.000,9,-999.0000,9,  -999.00,9,   -999.0,9,-999.000,9,  -999.00,9,   -999.0,0,   -999.0,9,   -999.0,9,  -999.00,9,  -999.0,-999.0000,-999.000,-999.000,  2.1607,-999.000,9
      06MT22_5,   A10,    33,  2,    303,2,19930108,1130,-30.0008, -29.9913, 3528,   3405.0,   2.3300,  34.8760,2,-999.0000,9,    247.3,2,    48.12,2,    23.19,9,     1.60,2, -999.000,9, -999.000,9, -999.000,9, -999.000,9,-999.0000,9,  -999.00,9,   -999.0,9,-999.000,9,  -999.00,9,   -999.0,0,   -999.0,9,   -999.0,9,  -999.00,9,  -999.0,-999.0000,-999.000,-999.000,  2.0522,-999.000,9
      06MT22_5,   A10,    33,  2,    302,2,19930108,1130,-30.0008, -29.9913, 3528,   3525.0,   2.2310,  34.8650,2,  34.8670,2,    243.0,2,    52.37,2,    23.74,9,     1.65,2, -999.000,9, -999.000,9, -999.000,9, -999.000,9,-999.0000,9,  -999.00,9,   -999.0,9,-999.000,9,  -999.00,9,   -999.0,0,   -999.0,9,   -999.0,9,  -999.00,9,  -999.0,-999.0000,-999.000,-999.000,  1.9428,-999.000,9
      06MT22_5,   A10,    33,  2,    301,2,19930108,1130,-30.0008, -29.9913, 3528,   3531.0,   2.2330,  34.8650,2,-999.0000,9,    244.0,2,    51.52,2,    23.63,9,     1.66,2, -999.000,9, -999.000,9, -999.000,9, -999.000,9,-999.0000,9,  -999.00,9,   -999.0,9,-999.000,9,  -999.00,9,   -999.0,0,   -999.0,9,   -999.0,9,  -999.00,9,  -999.0,-999.0000,-999.000,-999.000,  1.9385,-999.000,9
      06MT22_5,   A10,    34,  1,    324,2,19930108,1756,-29.9983, -29.5093, 2238,     10.0,  21.8500,  35.8000,2,  35.8090,2,    224.4,2,     0.18,2,     0.11,9,     0.07,2, -999.000,9, -999.000,9, -999.000,9, -999.000,9,   1.6896,5,    -1.25,3,   -999.0,9,   6.801,5,  -999.00,9,   2043.3,2,   -999.0,9,   -999.0,9,  -999.00,9,  -999.0,  0.0068,   0.250,   0.051, 21.8480,-999.000,9
      06MT22_5,   A10,    34,  1,    323,2,19930108,1756,-29.9983, -29.5093, 2238,     30.0,  20.9720,  35.7930,2,-999.0000,9,    231.2,2,     0.17,2,     0.10,9,     0.07,2,    2.220,2,    1.226,2,    2.654,2,    0.937,2,-999.0000,1,  -999.00,1,   -999.0,9,-999.000,1,  -999.00,9,   2043.0,2,   -999.0,9,   -999.0,9,  -999.00,9,  -999.0,-999.0000,-999.000,-999.000, 20.9663,   0.027,9
      06MT22_5,   A10,    34,  1,    322,2,19930108,1756,-29.9983, -29.5093, 2238,     50.0,  19.3270,  35.8120,2,-999.0000,9,    242.1,2,     0.33,2,     0.15,9,     0.10,2,    2.422,2,    1.298,2,    2.684,2, -999.000,9,-999.0000,9,  -999.00,9,   -999.0,9,-999.000,9,  -999.00,9,   2046.1,2,   -999.0,9,   -999.0,9,  -999.00,9,  -999.0,-999.0000,-999.000,-999.000, 19.3180,-999.000,9
      06MT22_5,   A10,    34,  1,    321,2,19930108,1756,-29.9983, -29.5093, 2238,     70.0,  18.4970,  35.8190,2,  35.8280,2,    242.6,2,     0.27,2,     0.07,9,     0.10,2,    2.426,2,    1.308,2,    2.548,2, -999.000,9,-999.0000,1,  -999.00,1,   -999.0,9,-999.000,1,  -999.00,9,   2048.2,2,   -999.0,9,   -999.0,9,  -999.00,9,  -999.0,-999.0000,-999.000,-999.000, 18.4847,-999.000,9
      06MT22_5,   A10,    34,  1,    320,2,19930108,1756,-29.9983, -29.5093, 2238,     99.0,  17.5890,  35.7690,2,-999.0000,9,    236.3,2,     0.31,2,     0.06,9,     0.13,2, -999.000,9, -999.000,9, -999.000,9, -999.000,9,   1.7217,2,    -1.53,2,   -999.0,9,   7.059,2,  -999.00,9,   2057.1,2,   -999.0,9,   -999.0,9,  -999.00,9,  -999.0,  0.0060,   0.250,   0.025, 17.5723,-999.000,9
      06MT22_5,   A10,    34,  1,    319,2,19930108,1756,-29.9983, -29.5093, 2238,    150.0,  16.3170,  35.5960,2,-999.0000,9,    224.4,2,     0.60,2,     1.91,9,     0.24,2, -999.000,9, -999.000,9, -999.000,9, -999.000,9,-999.0000,9,  -999.00,9,   -999.0,9,-999.000,9,  -999.00,9,   2071.6,2,   -999.0,9,   -999.0,9,  -999.00,9,  -999.0,-999.0000,-999.000,-999.000, 16.2929,-999.000,9
      06MT22_5,   A10,    34,  1,    318,2,19930108,1756,-29.9983, -29.5093, 2238,    199.0,  15.2760,  35.4640,2,  35.4720,2,    217.9,2,     0.99,2,     4.08,9,     0.40,2,    2.473,2,    1.334,2,    1.149,2, -999.000,9,   1.7364,5,    -0.44,3,   -999.0,9,   7.181,5,  -999.00,9,   2082.6,2,   -999.0,9,   -999.0,9,  -999.00,9,  -999.0,  0.0069,   0.250,   0.029, 15.2454,-999.000,9
      06MT22_5,   A10,    34,  1,    317,2,19930108,1756,-29.9983, -29.5093, 2238,    300.0,  13.5980,  35.2980,2,-999.0000,9,    212.7,2,     2.16,2,     8.35,9,     0.61,2,    2.302,2,    1.213,2,    0.812,2, -999.000,9,   1.7386,5,     0.17,3,   -999.0,9,   7.243,5,  -999.00,9,   2099.2,2,   -999.0,9,   -999.0,9,  -999.00,9,  -999.0,  0.0070,   0.250,   0.029, 13.5554,-999.000,9
      06MT22_5,   A10,    34,  1,    316,2,19930108,1756,-29.9983, -29.5093, 2238,    399.0,  12.0220,  35.0810,2,-999.0000,9,    211.1,2,     3.67,2,    12.32,9,     0.89,2,   -0.001,4,    1.108,2,    0.894,2, -999.000,9,   1.7400,5,     0.86,3,   -999.0,9,   7.353,5,  -999.00,9,   2112.6,2,   -999.0,9,   -999.0,9,  -999.00,9,  -999.0,  0.0070,   0.250,   0.029, 11.9696,-999.000,9
      06MT22_5,   A10,    34,  1,    315,2,19930108,1756,-29.9983, -29.5093, 2238,    499.0,   9.8580,  34.7950,2,  34.7990,2,    206.2,2,     6.48,2,    18.04,9,     1.23,2,    1.835,2,    0.951,2,    1.212,2, -999.000,9,   1.7538,5,     1.27,3,   -999.0,9,   7.501,5,  -999.00,9,   2132.2,2,   -999.0,9,   -999.0,9,  -999.00,9,  -999.0,  0.0070,   0.250,   0.030,  9.7999,-999.000,9
      06MT22_5,   A10,    34,  1,    314,2,19930108,1756,-29.9983, -29.5093, 2238,    599.0,   8.0490,  34.5880,2,-999.0000,9,    210.5,2,     9.26,2,    22.45,9,     1.49,2,    1.715,2,    0.874,2,    1.704,2, -999.000,9,   1.7636,5,     0.95,3,   -999.0,9,   7.573,5,  -999.00,9,   2144.2,2,   -999.0,9,   -999.0,9,  -999.00,9,  -999.0,  0.0071,   0.250,   0.030,  7.9872,-999.000,9
      06MT22_5,   A10,    34,  1,    313,2,19930108,1756,-29.9983, -29.5093, 2238,    699.0,   6.0820,  34.3950,2,-999.0000,9,    223.1,2,    13.13,2,    26.18,9,     1.73,2,    1.639,2,    0.814,2,    2.334,2, -999.000,9,   1.7663,5,     0.94,3,   -999.0,9,   7.648,5,  -999.00,9,   2155.0,2,   -999.0,9,   -999.0,9,  -999.00,9,  -999.0,  0.0071,   0.250,   0.031,  6.0198,-999.000,9
      06MT22_5,   A10,    34,  1,    312,2,19930108,1756,-29.9983, -29.5093, 2238,    848.0,   4.4030,  34.2890,2,  34.2920,2,    231.5,2,    21.19,2,    29.49,9,     1.95,2,    1.300,2,    0.871,4,    2.469,2, -999.000,9,-999.0000,1,  -999.00,1,   -999.0,9,-999.000,1,  -999.00,9,   2170.0,2,   -999.0,9,   -999.0,9,  -999.00,9,  -999.0,-999.0000,-999.000,-999.000,  4.3375,-999.000,9
      06MT22_5,   A10,    34,  1,    311,2,19930108,1756,-29.9983, -29.5093, 2238,    999.0,   3.5480,  34.3070,2,-999.0000,9,    220.5,2,    32.26,2,    31.81,9,     2.10,2,    0.775,2,    0.397,2,    1.883,2, -999.000,9,   1.7913,5,     2.15,3,   -999.0,9,   7.808,5,  -999.00,9,   2191.2,2,   -999.0,9,   -999.0,9,  -999.00,9,  -999.0,  0.0072,   0.250,   0.031,  3.4756,-999.000,9
      06MT22_5,   A10,    34,  1,    310,2,19930108,1756,-29.9983, -29.5093, 2238,   1200.0,   3.0480,  34.4160,2,-999.0000,9,    198.6,2,    46.96,2,    33.63,9,     2.24,2,    0.286,2,    0.181,2,    1.008,2, -999.000,9,   1.8114,5,     4.25,3,   -999.0,9,   7.890,5,  -999.00,9,   2215.8,2,   -999.0,9,   -999.0,9,  -999.00,9,  -999.0,  0.0072,   0.250,   0.032,  2.9639,-999.000,9
      06MT22_5,   A10,    34,  1,    307,2,19930108,1756,-29.9983, -29.5093, 2238,   1400.0,   2.8640,  34.5580,2,-999.0000,9,    190.3,2,    54.82,2,    33.19,9,     2.21,2,    0.076,2,    0.044,2,    0.424,2, -999.000,9,   1.8185,5,     6.26,3,   -999.0,9,   7.917,5,  -999.00,9,   2228.0,2,   -999.0,9,   -999.0,9,  -999.00,9,  -999.0,  0.0073,   0.250,   0.032,  2.7657,-999.000,9
      06MT22_5,   A10,    34,  1,    308,2,19930108,1756,-29.9983, -29.5093, 2238,   1402.0,   2.8620,  34.5610,2,-999.0000,9,   -999.0,9,  -999.00,9,  -999.00,9,  -999.00,9, -999.000,9, -999.000,9, -999.000,9, -999.000,9,-999.0000,9,  -999.00,9,   -999.0,9,-999.000,9,  -999.00,9,   -999.0,9,   -999.0,9,   -999.0,9,  -999.00,9,  -999.0,-999.0000,-999.000,-999.000,  2.7635,-999.000,9
      06MT22_5,   A10,    34,  1,    309,2,19930108,1756,-29.9983, -29.5093, 2238,   1403.0,   2.8620,  34.5620,2,-999.0000,9,   -999.0,9,  -999.00,9,  -999.00,9,  -999.00,9, -999.000,9, -999.000,9, -999.000,9, -999.000,9,-999.0000,9,  -999.00,9,   -999.0,9,-999.000,9,  -999.00,9,   -999.0,9,   -999.0,9,   -999.0,9,  -999.00,9,  -999.0,-999.0000,-999.000,-999.000,  2.7635,-999.000,9
      06MT22_5,   A10,    34,  1,    306,2,19930108,1756,-29.9983, -29.5093, 2238,   1600.0,   2.8190,  34.6650,2,  34.6660,2,    195.1,2,    55.06,2,    31.42,9,     2.14,2,    0.029,2,    0.010,2,    0.336,2, -999.000,9,   1.8176,2,     6.54,2,   -999.0,9,   7.919,2,  -999.00,9,   2226.0,2,   -999.0,9,   -999.0,9,  -999.00,9,  -999.0,  0.0064,   0.250,   0.028,  2.7047,-999.000,9
      06MT22_5,   A10,    34,  1,    305,2,19930108,1756,-29.9983, -29.5093, 2238,   1801.0,   2.7770,  34.7490,2,-999.0000,9,    207.4,2,    52.32,2,    29.12,9,     1.93,2,    0.012,2,    0.014,2,    0.131,2, -999.000,9,   1.8310,5,     7.09,3,   -999.0,9,   7.970,5,  -999.00,9,   2216.0,2,   -999.0,9,   -999.0,9,  -999.00,9,  -999.0,  0.0073,   0.500,   0.032,  2.6457,-999.000,9
      06MT22_5,   A10,    34,  1,    304,2,19930108,1756,-29.9983, -29.5093, 2238,   2007.0,   2.7340,  34.8070,2,  34.8090,2,    220.0,2,    48.11,2,    26.92,9,     1.75,2,    0.015,2,    0.027,4,    0.082,2, -999.000,9,   1.8355,5,     6.41,3,   -999.0,9,   7.981,5,  -999.00,9,   2205.7,2,   -999.0,9,   -999.0,9,  -999.00,9,  -999.0,  0.0073,   0.250,   0.032,  2.5852,-999.000,9
      06MT22_5,   A10,    34,  1,    303,2,19930108,1756,-29.9983, -29.5093, 2238,   2177.0,   2.7310,  34.8350,2,-999.0000,9,    227.3,2,    45.11,2,    25.82,9,     1.73,2, -999.000,9, -999.000,9, -999.000,9, -999.000,9,-999.0000,9,  -999.00,9,   -999.0,9,-999.000,9,  -999.00,9,   2198.8,2,   -999.0,9,   -999.0,9,  -999.00,9,  -999.0,-999.0000,-999.000,-999.000,  2.5667,-999.000,9
      06MT22_5,   A10,    34,  1,    301,2,19930108,1756,-29.9983, -29.5093, 2238,   2248.0,   2.7410,  34.8630,2,-999.0000,9,   -999.0,9,  -999.00,9,  -999.00,9,  -999.00,9, -999.000,9, -999.000,9, -999.000,9, -999.000,9,-999.0000,1,  -999.00,1,   -999.0,9,-999.000,1,  -999.00,9,   -999.0,9,   -999.0,9,   -999.0,9,  -999.00,9,  -999.0,-999.0000,-999.000,-999.000,  2.5664,-999.000,9
      06MT22_5,   A10,    34,  1,    302,2,19930108,1756,-29.9983, -29.5093, 2238,   2255.0,   2.7410,  34.8640,2,  34.8660,2,    235.0,2,    41.18,2,    24.47,9,     1.62,2, -999.000,9, -999.000,9, -999.000,9, -999.000,9,-999.0000,9,  -999.00,9,   -999.0,9,-999.000,9,  -999.00,9,   2190.8,2,   -999.0,9,   -999.0,9,  -999.00,9,  -999.0,-999.0000,-999.000,-999.000,  2.5693,-999.000,9