BOTTLE,20030417WHPSIOSA
EXPOCODE,SECT_ID,STNNBR,CASTNO,BTLNBR,BTLNBR_FLAG_W,DATE,TIME,LATITUDE,LONGITUDE,DEPTH,CTDPRS,CTDTMP,CTDSAL,CTDSAL_FLAG_W,SALNTY,SALNTY_FLAG_W,OXYGEN,OXYGEN_FLAG_W,SILCAT,SILCAT_FLAG_W,NO2+NO3,NO2+NO3_FLAG_W,PHSPHT,PHSPHT_FLAG_W,CFC-11,CFC-11_FLAG_W,CFC-12,CFC-12_FLAG_W,CCL4,CCL4_FLAG_W,TRITUM,TRITUM_FLAG_W,HELIUM,HELIUM_FLAG_W,DELHE3,DELHE3_FLAG_W,DELC14,DELC14_FLAG_W,NEON,NEON_FLAG_W,O18O16,O18O16_FLAG_W,TCARBN,TCARBN_FLAG_W,PCO2,PCO2_FLAG_W,ALKALI,ALKALI_FLAG_W,PH,PH_FLAG_W,C14ERR,HELIER,DELHER,NEONER,THETA,TRITER,TRITER_FLAG_W
,,,,,,,,,,,DBAR,ITS-90,PSS-78,,PSS-78,,UMOL/KG,,UMOL/KG,,UMOL/KG,,UMOL/KG,,PMOL/KG,,PMOL/KG,,PMOL/KG,,TU,,NMOL/KG,,PERCNT,,/MILLE,,NMOL/KG,,MILLE,,UMOL/KG,,UATM,,UMOL/KG,,,,/MILLE,NMOL/KG,PERCNT,NMOL/KG,ITS-90,TU,
      06MT22_5,   A10,    62,  2,    324,2,19930117,1310,-30.0235,  -8.9918, 3984,     11.0,  24.4050,  35.8470,2,  35.8500,2,   -999.0,9,  -999.00,9,  -999.00,9,  -999.00,9, -999.000,9, -999.000,9, -999.000,9, -999.000,9,-999.0000,9,  -999.00,9,   -999.0,9,-999.000,9,  -999.00,9,   -999.0,9,   -999.0,9,   -999.0,9,  -999.00,9,  -999.0,-999.0000,-999.000,-999.000, 24.4026,-999.000,9
      06MT22_5,   A10,    62,  2,    323,2,19930117,1310,-30.0235,  -8.9918, 3984,    300.0,  12.9720,  35.1470,2,-999.0000,9,   -999.0,9,  -999.00,9,  -999.00,9,  -999.00,9, -999.000,9, -999.000,9, -999.000,9, -999.000,9,-999.0000,9,  -999.00,9,   -999.0,9,-999.000,9,  -999.00,9,   -999.0,9,   -999.0,9,   -999.0,9,  -999.00,9,  -999.0,-999.0000,-999.000,-999.000, 12.9309,-999.000,9
      06MT22_5,   A10,    62,  2,    322,2,19930117,1310,-30.0235,  -8.9918, 3984,    401.0,  11.0990,  34.9260,2,-999.0000,9,    202.7,2,     5.97,2,    15.28,9,     1.12,2,    2.042,2,    1.047,2,    0.977,2,    0.605,2,   1.7413,2,     1.05,2,   -999.0,9,   7.381,2,  -999.00,9,   2117.0,4,   -999.0,9,   -999.0,9,  -999.00,9,  -999.0,  0.0070,   0.250,   0.030, 11.0492,   0.018,9
      06MT22_5,   A10,    62,  2,    321,2,19930117,1310,-30.0235,  -8.9918, 3984,    501.0,   9.1170,  34.6980,2,-999.0000,9,   -999.0,9,  -999.00,9,  -999.00,9,  -999.00,9, -999.000,9, -999.000,9, -999.000,9, -999.000,9,-999.0000,9,  -999.00,9,   -999.0,9,-999.000,9,  -999.00,9,   -999.0,9,   -999.0,9,   -999.0,9,  -999.00,9,  -999.0,-999.0000,-999.000,-999.000,  9.0616,-999.000,9
      06MT22_5,   A10,    62,  2,    320,2,19930117,1310,-30.0235,  -8.9918, 3984,    599.0,   7.4360,  34.5220,2,-999.0000,9,   -999.0,9,  -999.00,9,  -999.00,9,  -999.00,9, -999.000,9, -999.000,9, -999.000,9, -999.000,9,   1.9309,3,     5.07,3,   -999.0,9,   8.394,3,  -999.00,9,   -999.0,9,   -999.0,9,   -999.0,9,  -999.00,9,  -999.0,  0.0068,   0.250,   0.029,  7.3769,-999.000,9
      06MT22_5,   A10,    62,  2,    319,2,19930117,1310,-30.0235,  -8.9918, 3984,    702.0,   5.8190,  34.4030,2,-999.0000,9,    200.6,2,    19.57,2,    28.08,9,     1.96,2,    1.264,2,    0.628,2,    1.915,2,    0.190,2,   1.7645,2,     1.41,2,   -999.0,9,   7.676,2,  -999.00,9,   2166.8,4,   -999.0,9,   -999.0,9,  -999.00,9,  -999.0,  0.0071,   0.250,   0.031,  5.7578,   0.007,9
      06MT22_5,   A10,    62,  2,    318,2,19930117,1310,-30.0235,  -8.9918, 3984,    800.0,   4.7220,  34.3530,2,-999.0000,9,    204.3,2,    25.42,2,    30.87,9,     2.11,2,    0.980,2,    0.465,2,    1.846,2,    0.132,4,-999.0000,1,  -999.00,1,   -999.0,9,-999.000,1,  -999.00,9,   2179.8,4,   -999.0,9,   -999.0,9,  -999.00,9,  -999.0,-999.0000,-999.000,-999.000,  4.6584,   0.150,9
      06MT22_5,   A10,    62,  2,    317,2,19930117,1310,-30.0235,  -8.9918, 3984,    901.0,   4.1320,  34.3590,2,-999.0000,9,    197.4,2,    32.19,2,    32.42,9,     2.25,2,    0.661,2,    0.321,2,    1.498,2, -999.000,9,   1.7779,6,     2.31,2,   -999.0,9,   7.740,6,  -999.00,9,   2191.3,4,   -999.0,9,   -999.0,9,  -999.00,9,  -999.0,  0.0071,   0.250,   0.031,  4.0638,-999.000,9
      06MT22_5,   A10,    62,  2,    316,2,19930117,1310,-30.0235,  -8.9918, 3984,   1000.0,   3.6110,  34.3740,2,  34.3770,2,    197.7,2,    39.14,2,    32.98,9,     2.29,2,    0.508,2,    0.239,2,    1.311,2, -999.000,9,   1.7966,2,     3.63,2,   -999.0,9,   7.807,2,  -999.00,9,   2198.9,4,   -999.0,9,   -999.0,9,  -999.00,9,  -999.0,  0.0063,   0.250,   0.027,  3.5386,-999.000,9
      06MT22_5,   A10,    62,  2,    315,2,19930117,1310,-30.0235,  -8.9918, 3984,   1200.0,   3.1910,  34.4830,2,-999.0000,9,    280.7,2,    50.38,2,    33.72,9,     2.35,2,    0.173,2,    0.077,2,    0.639,2,    0.064,4,-999.0000,1,  -999.00,1,   -999.0,9,-999.000,1,  -999.00,9,   2217.9,4,   -999.0,9,   -999.0,9,  -999.00,9,  -999.0,-999.0000,-999.000,-999.000,  3.1055,   0.235,9
      06MT22_5,   A10,    62,  2,    314,2,19930117,1310,-30.0235,  -8.9918, 3984,   1400.0,   2.8980,  34.5970,2,-999.0000,9,    186.8,2,    55.89,2,    32.70,9,     2.25,2,    0.060,2,    0.023,2,    0.308,2,    0.018,2,-999.0000,1,  -999.00,1,   -999.0,9,-999.000,1,  -999.00,9,   2220.7,4,   -999.0,9,   -999.0,9,  -999.00,9,  -999.0,-999.0000,-999.000,-999.000,  2.7993,   0.025,9
      06MT22_5,   A10,    62,  2,    313,2,19930117,1310,-30.0235,  -8.9918, 3984,   1600.0,   2.8350,  34.6900,2,  34.6910,2,    194.9,2,    54.95,2,    30.94,9,     2.13,2,    0.025,2,    0.008,2,    0.151,2,    0.014,2,   1.8149,2,     5.57,2,   -999.0,9,   7.880,2,  -999.00,9,   2212.4,4,   -999.0,9,   -999.0,9,  -999.00,9,  -999.0,  0.0064,   0.250,   0.028,  2.7205,   0.002,9
      06MT22_5,   A10,    62,  2,    312,2,19930117,1310,-30.0235,  -8.9918, 3984,   1800.0,   2.7370,  34.7550,2,-999.0000,9,    206.0,2,    54.09,2,    29.26,9,     1.95,2,    0.018,2,    0.008,2,    0.091,2,   -0.003,2,   1.8216,2,     6.24,2,   -999.0,9,   7.850,7,  -999.00,9,   2209.9,4,   -999.0,9,   -999.0,9,  -999.00,9,  -999.0,  0.0064,   0.250,   0.027,  2.6063,   0.001,9
      06MT22_5,   A10,    62,  2,    311,2,19930117,1310,-30.0235,  -8.9918, 3984,   2001.0,   2.6530,  34.7960,2,-999.0000,9,    215.9,2,    53.65,2,    27.56,9,     1.87,2,    0.008,2,    0.005,2,    0.052,2, -999.000,9,-999.0000,1,  -999.00,1,   -999.0,9,-999.000,1,  -999.00,9,   2204.3,4,   -999.0,9,   -999.0,9,  -999.00,9,  -999.0,-999.0000,-999.000,-999.000,  2.5059,-999.000,9
      06MT22_5,   A10,    62,  2,    310,2,19930117,1310,-30.0235,  -8.9918, 3984,   2251.0,   2.5490,  34.8280,2,  34.8280,2,    224.0,2,    51.60,2,    26.30,9,     1.76,2,    0.005,2,    0.008,4,    0.034,2,    0.010,2,   1.8337,5,     5.78,3,   -999.0,9,   7.960,5,  -999.00,9,   2198.7,4,   -999.0,9,   -999.0,9,  -999.00,9,  -999.0,  0.0073,   0.250,   0.032,  2.3811,   0.002,9
      06MT22_5,   A10,    62,  2,    309,2,19930117,1310,-30.0235,  -8.9918, 3984,   2503.0,   2.4740,  34.8490,2,-999.0000,9,    230.6,2,    50.14,2,    25.21,9,     1.75,2,    0.005,2,    0.004,2,    0.006,4,    0.008,2,   1.8368,5,     5.72,3,   -999.0,9,   7.998,5,  -999.00,9,   2194.6,4,   -999.0,9,   -999.0,9,  -999.00,9,  -999.0,  0.0073,   0.250,   0.032,  2.2838,   0.002,9
      06MT22_5,   A10,    62,  2,    308,2,19930117,1310,-30.0235,  -8.9918, 3984,   2751.0,   2.4190,  34.8610,2,-999.0000,9,    236.6,2,    49.80,2,    24.65,9,     1.70,2,    0.003,2,    0.002,2,    0.019,2,    0.010,2,   1.8386,5,     4.74,3,   -999.0,9,   7.994,5,  -999.00,9,   2190.9,4,   -999.0,9,   -999.0,9,  -999.00,9,  -999.0,  0.0074,   0.250,   0.032,  2.2059,   0.002,9
      06MT22_5,   A10,    62,  2,    307,2,19930117,1310,-30.0235,  -8.9918, 3984,   3004.0,   2.3910,  34.8650,2,  34.8670,2,    238.3,2,    49.68,2,    24.25,9,     1.70,2,    0.006,3,    0.002,2,    0.014,2,    0.005,2,-999.0000,1,  -999.00,1,   -999.0,9,-999.000,1,  -999.00,9,   2190.6,4,   -999.0,9,   -999.0,9,  -999.00,9,  -999.0,-999.0000,-999.000,-999.000,  2.1534,   0.001,9
      06MT22_5,   A10,    62,  2,    306,2,19930117,1310,-30.0235,  -8.9918, 3984,   3253.0,   2.3810,  34.8690,2,-999.0000,9,    239.5,2,    50.12,2,    24.17,9,     1.61,2,    0.000,2,    0.001,2,    0.005,2, -999.000,9,-999.0000,1,  -999.00,1,   -999.0,9,-999.000,1,  -999.00,9,   -999.0,9,   -999.0,9,   -999.0,9,  -999.00,9,  -999.0,-999.0000,-999.000,-999.000,  2.1179,-999.000,9
      06MT22_5,   A10,    62,  2,    305,2,19930117,1310,-30.0235,  -8.9918, 3984,   3504.0,   2.3890,  34.8730,2,-999.0000,9,    239.7,2,    50.34,2,    24.12,9,     1.66,2,    0.001,2,    0.002,2,    0.004,2,    0.007,2,   1.8239,2,     4.51,2,   -999.0,9,   7.972,2,  -999.00,9,   -999.0,9,   -999.0,9,   -999.0,9,  -999.00,9,  -999.0,  0.0064,   0.250,   0.028,  2.0991,   0.002,9
      06MT22_5,   A10,    62,  2,    304,2,19930117,1310,-30.0235,  -8.9918, 3984,   3757.0,   2.4020,  34.8760,2,  34.8760,2,    237.6,2,    50.64,2,    24.07,9,     1.65,2, -999.000,9, -999.000,9, -999.000,9,    0.012,2,-999.0000,1,  -999.00,1,   -999.0,9,-999.000,1,  -999.00,9,   -999.0,9,   -999.0,9,   -999.0,9,  -999.00,9,  -999.0,-999.0000,-999.000,-999.000,  2.0840,   0.002,9
      06MT22_5,   A10,    62,  2,    303,2,19930117,1310,-30.0235,  -8.9918, 3984,   3911.0,   2.4050,  34.8790,2,-999.0000,9,    236.6,2,    50.81,2,    24.12,9,     1.62,2, -999.000,9, -999.000,9, -999.000,9,    0.008,2,   1.8368,5,     4.17,3,   -999.0,9,   7.994,5,  -999.00,9,   -999.0,9,   -999.0,9,   -999.0,9,  -999.00,9,  -999.0,  0.0073,   0.250,   0.032,  2.0697,   0.002,9
      06MT22_5,   A10,    62,  2,    301,2,19930117,1310,-30.0235,  -8.9918, 3984,   3992.0,   2.4130,  34.8790,2,  34.8780,2,    235.6,2,    50.74,2,    24.20,9,     1.62,2,    0.003,2,    0.002,2,    0.000,2, -999.000,9,-999.0000,9,  -999.00,9,   -999.0,9,-999.000,9,  -999.00,9,   -999.0,9,   -999.0,9,   -999.0,9,  -999.00,9,  -999.0,-999.0000,-999.000,-999.000,  2.0682,-999.000,9
      06MT22_5,   A10,    62,  2,    302,2,19930117,1310,-30.0235,  -8.9918, 3984,   3995.0,   2.4130,  34.8790,2,-999.0000,9,   -999.0,9,  -999.00,9,  -999.00,9,  -999.00,9,    0.035,4,    0.002,2,    0.024,2,    0.008,2,   1.8386,2,     3.52,2,   -999.0,9,   8.112,7,  -999.00,9,   -999.0,9,   -999.0,9,   -999.0,9,  -999.00,9,  -999.0,  0.0064,   0.250,   0.028,  2.0679,   0.002,9
      06MT22_5,   A10,    63,  1,    217,2,19930117,1813,-30.0000,  -8.1983, 3940,     12.0,  25.1770,  36.2330,2,-999.0000,9,    224.1,2,     0.97,2,     0.04,9,     0.21,2, -999.000,9, -999.000,9, -999.000,9, -999.000,9,-999.0000,9,  -999.00,9,   -999.0,9,-999.000,9,  -999.00,9,   -999.0,0,   -999.0,9,   -999.0,9,  -999.00,9,  -999.0,-999.0000,-999.000,-999.000, 25.1744,-999.000,9
      06MT22_5,   A10,    63,  1,    209,2,19930117,1813,-30.0000,  -8.1983, 3940,     32.0,  21.6120,  36.1410,2,  36.1550,2,    234.4,2,     0.92,2,     0.01,9,     0.21,2, -999.000,9, -999.000,9, -999.000,9, -999.000,9,-999.0000,9,  -999.00,9,   -999.0,9,-999.000,9,  -999.00,9,   -999.0,0,   -999.0,9,   -999.0,9,  -999.00,9,  -999.0,-999.0000,-999.000,-999.000, 21.6057,-999.000,9
      06MT22_5,   A10,    63,  1,    208,2,19930117,1813,-30.0000,  -8.1983, 3940,     52.0,  20.4690,  36.1610,2,-999.0000,9,    238.3,2,     0.91,2,     0.04,9,     0.18,2, -999.000,9, -999.000,9, -999.000,9, -999.000,9,-999.0000,9,  -999.00,9,   -999.0,9,-999.000,9,  -999.00,9,   -999.0,0,   -999.0,9,   -999.0,9,  -999.00,9,  -999.0,-999.0000,-999.000,-999.000, 20.4592,-999.000,9
      06MT22_5,   A10,    63,  1,    207,2,19930117,1813,-30.0000,  -8.1983, 3940,     72.0,  19.5970,  36.1310,2,-999.0000,9,    234.0,2,     1.23,2,     0.02,9,     0.20,2, -999.000,9, -999.000,9, -999.000,9, -999.000,9,-999.0000,9,  -999.00,9,   -999.0,9,-999.000,9,  -999.00,9,   -999.0,0,   -999.0,9,   -999.0,9,  -999.00,9,  -999.0,-999.0000,-999.000,-999.000, 19.5839,-999.000,9
      06MT22_5,   A10,    63,  1,    206,2,19930117,1813,-30.0000,  -8.1983, 3940,    101.0,  18.5430,  35.9750,2,-999.0000,9,    238.2,2,     1.13,2,     0.02,9,     0.22,2, -999.000,9, -999.000,9, -999.000,9, -999.000,9,-999.0000,9,  -999.00,9,   -999.0,9,-999.000,9,  -999.00,9,   -999.0,0,   -999.0,9,   -999.0,9,  -999.00,9,  -999.0,-999.0000,-999.000,-999.000, 18.5253,-999.000,9
      06MT22_5,   A10,    63,  1,    205,2,19930117,1813,-30.0000,  -8.1983, 3940,    150.0,  17.2280,  35.7820,2,-999.0000,9,    228.4,2,     1.44,2,     0.59,9,     0.28,2, -999.000,9, -999.000,9, -999.000,9, -999.000,9,-999.0000,9,  -999.00,9,   -999.0,9,-999.000,9,  -999.00,9,   -999.0,0,   -999.0,9,   -999.0,9,  -999.00,9,  -999.0,-999.0000,-999.000,-999.000, 17.2030,-999.000,9
      06MT22_5,   A10,    63,  1,    204,2,19930117,1813,-30.0000,  -8.1983, 3940,    201.0,  15.7500,  35.5120,2,  35.5170,2,    220.6,2,     1.77,2,     3.31,9,     0.41,2, -999.000,9, -999.000,9, -999.000,9, -999.000,9,-999.0000,9,  -999.00,9,   -999.0,9,-999.000,9,  -999.00,9,   -999.0,0,   -999.0,9,   -999.0,9,  -999.00,9,  -999.0,-999.0000,-999.000,-999.000, 15.7184,-999.000,9
      06MT22_5,   A10,    63,  1,    203,2,19930117,1813,-30.0000,  -8.1983, 3940,    301.0,  13.4310,  35.2000,2,-999.0000,9,    208.9,2,     3.19,2,     9.00,9,     0.74,2, -999.000,9, -999.000,9, -999.000,9, -999.000,9,-999.0000,9,  -999.00,9,   -999.0,9,-999.000,9,  -999.00,9,   -999.0,0,   -999.0,9,   -999.0,9,  -999.00,9,  -999.0,-999.0000,-999.000,-999.000, 13.3885,-999.000,9
      06MT22_5,   A10,    63,  1,    201,2,19930117,1813,-30.0000,  -8.1983, 3940,    398.0,  12.0210,  35.0340,2,  35.0420,2,    203.7,2,     4.47,2,    12.96,9,     0.95,2, -999.000,9, -999.000,9, -999.000,9, -999.000,9,-999.0000,9,  -999.00,9,   -999.0,9,-999.000,9,  -999.00,9,   -999.0,0,   -999.0,9,   -999.0,9,  -999.00,9,  -999.0,-999.0000,-999.000,-999.000, 11.9686,-999.000,9
      06MT22_5,   A10,    63,  1,    202,2,19930117,1813,-30.0000,  -8.1983, 3940,    399.0,  12.0020,  35.0320,2,-999.0000,9,    203.8,2,     4.74,2,    13.14,9,     0.97,2, -999.000,9, -999.000,9, -999.000,9, -999.000,9,-999.0000,9,  -999.00,9,   -999.0,9,-999.000,9,  -999.00,9,   -999.0,0,   -999.0,9,   -999.0,9,  -999.00,9,  -999.0,-999.0000,-999.000,-999.000, 11.9495,-999.000,9