BOTTLE,20030417WHPSIOSA
EXPOCODE,SECT_ID,STNNBR,CASTNO,BTLNBR,BTLNBR_FLAG_W,DATE,TIME,LATITUDE,LONGITUDE,DEPTH,CTDPRS,CTDTMP,CTDSAL,CTDSAL_FLAG_W,SALNTY,SALNTY_FLAG_W,OXYGEN,OXYGEN_FLAG_W,SILCAT,SILCAT_FLAG_W,NO2+NO3,NO2+NO3_FLAG_W,PHSPHT,PHSPHT_FLAG_W,CFC-11,CFC-11_FLAG_W,CFC-12,CFC-12_FLAG_W,CCL4,CCL4_FLAG_W,TRITUM,TRITUM_FLAG_W,HELIUM,HELIUM_FLAG_W,DELHE3,DELHE3_FLAG_W,DELC14,DELC14_FLAG_W,NEON,NEON_FLAG_W,O18O16,O18O16_FLAG_W,TCARBN,TCARBN_FLAG_W,PCO2,PCO2_FLAG_W,ALKALI,ALKALI_FLAG_W,PH,PH_FLAG_W,C14ERR,HELIER,DELHER,NEONER,THETA,TRITER,TRITER_FLAG_W
,,,,,,,,,,,DBAR,ITS-90,PSS-78,,PSS-78,,UMOL/KG,,UMOL/KG,,UMOL/KG,,UMOL/KG,,PMOL/KG,,PMOL/KG,,PMOL/KG,,TU,,NMOL/KG,,PERCNT,,/MILLE,,NMOL/KG,,MILLE,,UMOL/KG,,UATM,,UMOL/KG,,,,/MILLE,NMOL/KG,PERCNT,NMOL/KG,ITS-90,TU,
      06MT22_5,   A10,    71,  2,    324,2,19930120,0822,-30.0017,  -1.4983, 4779,     10.0,  22.7290,  35.7240,2,  35.7120,2,   -999.0,9,  -999.00,9,  -999.00,9,  -999.00,9, -999.000,9, -999.000,9, -999.000,9, -999.000,9,-999.0000,9,  -999.00,9,   -999.0,9,-999.000,9,  -999.00,9,   -999.0,0,   -999.0,9,   -999.0,9,  -999.00,9,  -999.0,-999.0000,-999.000,-999.000, 22.7270,-999.000,9
      06MT22_5,   A10,    71,  2,    323,2,19930120,0822,-30.0017,  -1.4983, 4779,    599.0,   8.0470,  34.5840,2,-999.0000,9,    205.8,2,    12.60,2,    23.17,9,     1.63,2, -999.000,9, -999.000,9, -999.000,9, -999.000,9,-999.0000,9,  -999.00,9,   -999.0,9,-999.000,9,  -999.00,9,   -999.0,0,   -999.0,9,   -999.0,9,  -999.00,9,  -999.0,-999.0000,-999.000,-999.000,  7.9852,-999.000,9
      06MT22_5,   A10,    71,  2,    322,2,19930120,0822,-30.0017,  -1.4983, 4779,    699.0,   6.1900,  34.4290,2,-999.0000,9,    205.0,2,    17.76,2,    27.57,9,     1.95,2, -999.000,9, -999.000,9, -999.000,9, -999.000,9,-999.0000,9,  -999.00,9,   -999.0,9,-999.000,9,  -999.00,9,   -999.0,0,   -999.0,9,   -999.0,9,  -999.00,9,  -999.0,-999.0000,-999.000,-999.000,  6.1271,-999.000,9
      06MT22_5,   A10,    71,  2,    321,2,19930120,0822,-30.0017,  -1.4983, 4779,    849.0,   4.6740,  34.3540,2,  34.3530,2,    204.2,2,    27.15,2,    30.77,9,     2.18,2, -999.000,9, -999.000,9, -999.000,9, -999.000,9,-999.0000,9,  -999.00,9,   -999.0,9,-999.000,9,  -999.00,9,   -999.0,0,   -999.0,9,   -999.0,9,  -999.00,9,  -999.0,-999.0000,-999.000,-999.000,  4.6065,-999.000,9
      06MT22_5,   A10,    71,  2,    320,2,19930120,0822,-30.0017,  -1.4983, 4779,    999.0,   3.7720,  34.3840,2,-999.0000,9,    195.5,2,    39.54,2,    33.01,9,     2.32,2, -999.000,9, -999.000,9, -999.000,9, -999.000,9,-999.0000,9,  -999.00,9,   -999.0,9,-999.000,9,  -999.00,9,   -999.0,0,   -999.0,9,   -999.0,9,  -999.00,9,  -999.0,-999.0000,-999.000,-999.000,  3.6978,-999.000,9
      06MT22_5,   A10,    71,  2,    319,2,19930120,0822,-30.0017,  -1.4983, 4779,   1198.0,   3.2550,  34.5070,2,-999.0000,9,    181.6,2,    51.26,2,    33.37,9,     2.38,2, -999.000,9, -999.000,9, -999.000,9, -999.000,9,-999.0000,9,  -999.00,9,   -999.0,9,-999.000,9,  -999.00,9,   -999.0,0,   -999.0,9,   -999.0,9,  -999.00,9,  -999.0,-999.0000,-999.000,-999.000,  3.1690,-999.000,9
      06MT22_5,   A10,    71,  2,    318,2,19930120,0822,-30.0017,  -1.4983, 4779,   1400.0,   3.0660,  34.6230,2,-999.0000,9,    186.5,2,    53.98,2,    31.91,9,     2.25,2, -999.000,9, -999.000,9, -999.000,9, -999.000,9,-999.0000,9,  -999.00,9,   -999.0,9,-999.000,9,  -999.00,9,   -999.0,0,   -999.0,9,   -999.0,9,  -999.00,9,  -999.0,-999.0000,-999.000,-999.000,  2.9654,-999.000,9
      06MT22_5,   A10,    71,  2,    317,2,19930120,0822,-30.0017,  -1.4983, 4779,   1600.0,   2.9840,  34.7150,2,  34.7170,2,    197.1,2,    51.83,2,    29.78,9,     2.08,2, -999.000,9, -999.000,9, -999.000,9, -999.000,9,-999.0000,9,  -999.00,9,   -999.0,9,-999.000,9,  -999.00,9,   -999.0,0,   -999.0,9,   -999.0,9,  -999.00,9,  -999.0,-999.0000,-999.000,-999.000,  2.8676,-999.000,9
      06MT22_5,   A10,    71,  2,    316,2,19930120,0822,-30.0017,  -1.4983, 4779,   1800.0,   2.8450,  34.7670,2,-999.0000,9,    207.4,2,    51.84,2,    28.34,9,     1.95,2, -999.000,9, -999.000,9, -999.000,9, -999.000,9,-999.0000,9,  -999.00,9,   -999.0,9,-999.000,9,  -999.00,9,   -999.0,0,   -999.0,9,   -999.0,9,  -999.00,9,  -999.0,-999.0000,-999.000,-999.000,  2.7129,-999.000,9
      06MT22_5,   A10,    71,  2,    315,2,19930120,0822,-30.0017,  -1.4983, 4779,   2000.0,   2.6960,  34.7980,2,-999.0000,9,    214.9,2,    53.27,2,    27.41,9,     1.87,2, -999.000,9, -999.000,9, -999.000,9, -999.000,9,-999.0000,9,  -999.00,9,   -999.0,9,-999.000,9,  -999.00,9,   -999.0,0,   -999.0,9,   -999.0,9,  -999.00,9,  -999.0,-999.0000,-999.000,-999.000,  2.5484,-999.000,9
      06MT22_5,   A10,    71,  2,    314,2,19930120,0822,-30.0017,  -1.4983, 4779,   2251.0,   2.5430,  34.8240,2,  34.8220,2,    221.8,2,    53.56,2,    26.40,9,     1.79,2, -999.000,9, -999.000,9, -999.000,9, -999.000,9,-999.0000,9,  -999.00,9,   -999.0,9,-999.000,9,  -999.00,9,   -999.0,0,   -999.0,9,   -999.0,9,  -999.00,9,  -999.0,-999.0000,-999.000,-999.000,  2.3752,-999.000,9
      06MT22_5,   A10,    71,  2,    313,2,19930120,0822,-30.0017,  -1.4983, 4779,   2502.0,   2.4430,  34.8480,2,-999.0000,9,    231.4,2,    52.42,2,    25.29,9,     1.71,2, -999.000,9, -999.000,9, -999.000,9, -999.000,9,-999.0000,9,  -999.00,9,   -999.0,9,-999.000,9,  -999.00,9,   -999.0,0,   -999.0,9,   -999.0,9,  -999.00,9,  -999.0,-999.0000,-999.000,-999.000,  2.2534,-999.000,9
      06MT22_5,   A10,    71,  2,    312,2,19930120,0822,-30.0017,  -1.4983, 4779,   2752.0,   2.3840,  34.8620,2,-999.0000,9,    236.4,2,    51.57,2,    24.75,9,     1.64,2, -999.000,9, -999.000,9, -999.000,9, -999.000,9,-999.0000,9,  -999.00,9,   -999.0,9,-999.000,9,  -999.00,9,   -999.0,0,   -999.0,9,   -999.0,9,  -999.00,9,  -999.0,-999.0000,-999.000,-999.000,  2.1715,-999.000,9
      06MT22_5,   A10,    71,  2,    311,2,19930120,0822,-30.0017,  -1.4983, 4779,   3004.0,   2.3630,  34.8700,2,  34.8680,2,    238.3,2,    51.19,2,    24.38,9,     1.60,2, -999.000,9, -999.000,9, -999.000,9, -999.000,9,-999.0000,9,  -999.00,9,   -999.0,9,-999.000,9,  -999.00,9,   -999.0,0,   -999.0,9,   -999.0,9,  -999.00,9,  -999.0,-999.0000,-999.000,-999.000,  2.1260,-999.000,9
      06MT22_5,   A10,    71,  2,    310,2,19930120,0822,-30.0017,  -1.4983, 4779,   3204.0,   2.3470,  34.8740,2,-999.0000,9,    237.0,2,    51.58,2,    24.26,9,     1.59,2, -999.000,9, -999.000,9, -999.000,9, -999.000,9,-999.0000,9,  -999.00,9,   -999.0,9,-999.000,9,  -999.00,9,   -999.0,0,   -999.0,9,   -999.0,9,  -999.00,9,  -999.0,-999.0000,-999.000,-999.000,  2.0898,-999.000,9
      06MT22_5,   A10,    71,  2,    309,2,19930120,0822,-30.0017,  -1.4983, 4779,   3503.0,   2.3500,  34.8800,2,-999.0000,9,    237.5,2,    51.63,2,    24.16,9,     1.61,2, -999.000,9, -999.000,9, -999.000,9, -999.000,9,-999.0000,9,  -999.00,9,   -999.0,9,-999.000,9,  -999.00,9,   -999.0,0,   -999.0,9,   -999.0,9,  -999.00,9,  -999.0,-999.0000,-999.000,-999.000,  2.0612,-999.000,9
      06MT22_5,   A10,    71,  2,    308,2,19930120,0822,-30.0017,  -1.4983, 4779,   3756.0,   2.3530,  34.8800,2,-999.0000,9,    235.6,2,    52.44,2,    24.05,9,     1.61,2, -999.000,9, -999.000,9, -999.000,9, -999.000,9,-999.0000,9,  -999.00,9,   -999.0,9,-999.000,9,  -999.00,9,   -999.0,0,   -999.0,9,   -999.0,9,  -999.00,9,  -999.0,-999.0000,-999.000,-999.000,  2.0365,-999.000,9
      06MT22_5,   A10,    71,  2,    307,2,19930120,0822,-30.0017,  -1.4983, 4779,   4006.0,   2.3460,  34.8790,2,  34.8760,2,    234.4,2,    53.92,2,    24.44,9,     1.64,2, -999.000,9, -999.000,9, -999.000,9, -999.000,9,-999.0000,9,  -999.00,9,   -999.0,9,-999.000,9,  -999.00,9,   -999.0,0,   -999.0,9,   -999.0,9,  -999.00,9,  -999.0,-999.0000,-999.000,-999.000,  2.0015,-999.000,9
      06MT22_5,   A10,    71,  2,    306,2,19930120,0822,-30.0017,  -1.4983, 4779,   4257.0,   2.3320,  34.8740,2,-999.0000,9,    233.3,2,    55.74,2,    24.74,9,     1.64,2,   -0.001,2,    0.003,2,    0.002,2,    0.005,2,   1.8306,5,     3.71,3,   -999.0,9,   8.028,5,  -999.00,9,   -999.0,0,   -999.0,9,   -999.0,9,  -999.00,9,  -999.0,  0.0073,   0.250,   0.032,  1.9590,   0.003,9
      06MT22_5,   A10,    71,  2,    305,2,19930120,0822,-30.0017,  -1.4983, 4779,   4508.0,   2.2950,  34.8660,2,-999.0000,9,    232.6,2,    58.56,2,    25.15,9,     1.74,2,    0.000,2,    0.003,2,    0.007,2,    0.009,2,   1.8350,5,     4.59,3,   -999.0,9,   8.049,5,  -999.00,9,   -999.0,0,   -999.0,9,   -999.0,9,  -999.00,9,  -999.0,  0.0073,   0.250,   0.032,  1.8934,   0.004,9
      06MT22_5,   A10,    71,  2,    304,2,19930120,0822,-30.0017,  -1.4983, 4779,   4776.0,   2.2240,  34.8540,2,-999.0000,9,    231.6,2,    63.04,2,    25.53,9,     1.75,2,    0.001,2,    0.004,2,    0.011,2,    0.006,2,   1.8368,2,     4.16,2,   -999.0,9,   8.031,2,  -999.00,9,   -999.0,0,   -999.0,9,   -999.0,9,  -999.00,9,  -999.0,  0.0064,   0.250,   0.028,  1.7920,   0.003,9
      06MT22_5,   A10,    71,  2,    303,2,19930120,0822,-30.0017,  -1.4983, 4779,   4827.0,   2.2240,  34.8530,2,  34.8520,2,   -999.0,9,  -999.00,9,  -999.00,9,  -999.00,9,   -0.001,2,    0.000,2,    0.011,2,    0.007,2,   1.8404,5,     3.94,3,   -999.0,9,   8.035,5,  -999.00,9,   -999.0,0,   -999.0,9,   -999.0,9,  -999.00,9,  -999.0,  0.0074,   0.250,   0.032,  1.7857,   0.002,9
      06MT22_5,   A10,    71,  2,    301,2,19930120,0822,-30.0017,  -1.4983, 4779,   4835.0,   2.2250,  34.8530,2,  34.8520,2,    235.9,2,    63.38,2,    25.65,9,     1.77,2,    0.000,6,    0.001,6,    0.009,6,    0.007,2,   1.8395,2,     4.38,2,   -999.0,9,   8.028,2,  -999.00,9,   -999.0,0,   -999.0,9,   -999.0,9,  -999.00,9,  -999.0,  0.0064,   0.250,   0.028,  1.7857,   0.002,9
      06MT22_5,   A10,    71,  2,    302,2,19930120,0822,-30.0017,  -1.4983, 4779,   4840.0,   2.2250,  34.8530,2,-999.0000,9,   -999.0,9,  -999.00,9,  -999.00,9,  -999.00,9,    0.004,2,    0.005,2,    0.010,2,    0.012,2,   1.8466,5,     3.71,3,   -999.0,9,   8.030,5,  -999.00,9,   -999.0,0,   -999.0,9,   -999.0,9,  -999.00,9,  -999.0,  0.0074,   0.250,   0.032,  1.7851,   0.002,9
      06MT22_5,   A10,    72,  1,    217,2,19930120,1622,-30.0163,  -0.7297, 4874,     11.0,  24.4010,  35.9160,2,  35.9160,2,    215.3,2,     1.32,2,     0.08,9,  -999.00,9, -999.000,9, -999.000,9, -999.000,9, -999.000,9,-999.0000,9,  -999.00,9,   -999.0,9,-999.000,9,  -999.00,9,   -999.0,9,   -999.0,9,   -999.0,9,  -999.00,9,  -999.0,-999.0000,-999.000,-999.000, 24.3986,-999.000,9
      06MT22_5,   A10,    72,  1,    212,2,19930120,1622,-30.0163,  -0.7297, 4874,     12.0,  24.5330,  35.9270,2,-999.0000,9,   -999.0,9,  -999.00,9,  -999.00,9,  -999.00,9,    1.940,2,    1.076,2,    2.488,2,    0.929,2,-999.0000,1,  -999.00,1,   -999.0,9,-999.000,1,  -999.00,9,   2058.3,2,   -999.0,9,   2362.5,2,  -999.00,9,  -999.0,-999.0000,-999.000,-999.000, 24.5304,   0.024,9
      06MT22_5,   A10,    72,  1,    211,2,19930120,1622,-30.0163,  -0.7297, 4874,     31.0,  20.5690,  35.7070,2,  35.7080,2,    243.4,2,     1.37,2,     0.03,9,  -999.00,9,    2.411,2,    1.298,2,    2.593,2,    0.908,2,-999.0000,1,  -999.00,1,   -999.0,9,-999.000,1,  -999.00,9,   2054.3,2,   -999.0,9,   2348.3,2,  -999.00,9,  -999.0,-999.0000,-999.000,-999.000, 20.5631,   0.023,9
      06MT22_5,   A10,    72,  1,    210,2,19930120,1622,-30.0163,  -0.7297, 4874,     52.0,  17.5310,  35.6130,2,-999.0000,9,    257.4,2,     1.45,2,     0.00,9,  -999.00,9,    2.613,2,    1.387,2,    2.466,2,    0.895,2,   1.7159,2,    -1.71,2,   -999.0,9,   7.072,2,  -999.00,9,   2049.3,2,   -999.0,9,   2340.4,2,  -999.00,9,  -999.0,  0.0060,   0.250,   0.025, 17.5222,   0.035,9
      06MT22_5,   A10,    72,  1,    209,2,19930120,1622,-30.0163,  -0.7297, 4874,     71.0,  16.5060,  35.5480,2,  35.5440,2,    253.1,2,     1.13,2,     0.03,9,  -999.00,9,    2.648,2,    1.409,2,    2.378,2,    0.845,2,-999.0000,1,  -999.00,1,   -999.0,9,-999.000,1,  -999.00,9,   2055.4,2,   -999.0,9,   2338.4,2,  -999.00,9,  -999.0,-999.0000,-999.000,-999.000, 16.4945,   0.023,9
      06MT22_5,   A10,    72,  1,    208,2,19930120,1622,-30.0163,  -0.7297, 4874,    101.0,  15.7020,  35.4650,2,-999.0000,9,    245.0,2,     1.32,2,     0.15,9,  -999.00,9,    2.687,2,    1.431,2,    2.283,2, -999.000,9,-999.0000,9,  -999.00,9,   -999.0,9,-999.000,9,  -999.00,9,   2065.3,2,   -999.0,9,   2335.4,2,  -999.00,9,  -999.0,-999.0000,-999.000,-999.000, 15.6862,-999.000,9
      06MT22_5,   A10,    72,  1,    207,2,19930120,1622,-30.0163,  -0.7297, 4874,    151.0,  15.4040,  35.4690,2,  35.4700,2,    237.2,2,     1.79,2,     2.30,9,  -999.00,9,    2.678,2,    1.433,2,    1.589,2, -999.000,9,-999.0000,9,  -999.00,9,   -999.0,9,-999.000,9,  -999.00,9,   2074.5,2,   -999.0,9,   2332.5,2,  -999.00,9,  -999.0,-999.0000,-999.000,-999.000, 15.3807,-999.000,9
      06MT22_5,   A10,    72,  1,    206,2,19930120,1622,-30.0163,  -0.7297, 4874,    201.0,  14.6070,  35.3260,2,-999.0000,9,    233.3,2,     2.35,2,     4.00,9,  -999.00,9, -999.000,9, -999.000,9, -999.000,9, -999.000,9,-999.0000,9,  -999.00,9,   -999.0,9,-999.000,9,  -999.00,9,   2082.2,2,   -999.0,9,   2324.5,2,  -999.00,9,  -999.0,-999.0000,-999.000,-999.000, 14.5771,-999.000,9
      06MT22_5,   A10,    72,  1,    205,2,19930120,1622,-30.0163,  -0.7297, 4874,    300.0,  12.7550,  35.1030,2,  35.1010,2,    214.5,2,     4.51,2,    10.25,9,  -999.00,9,    2.461,2,    1.284,2,    1.014,2, -999.000,9,-999.0000,9,  -999.00,9,   -999.0,9,-999.000,9,  -999.00,9,   2101.9,2,   -999.0,9,   2313.6,2,  -999.00,9,  -999.0,-999.0000,-999.000,-999.000, 12.7141,-999.000,9
      06MT22_5,   A10,    72,  1,    204,2,19930120,1622,-30.0163,  -0.7297, 4874,    400.0,  11.0280,  34.9100,2,-999.0000,9,    211.5,2,     5.83,2,    14.43,9,  -999.00,9,    2.223,2,    1.144,2,    1.133,2, -999.000,9,-999.0000,9,  -999.00,9,   -999.0,9,-999.000,9,  -999.00,9,   2117.8,2,   -999.0,9,   2304.6,2,  -999.00,9,  -999.0,-999.0000,-999.000,-999.000, 10.9783,-999.000,9
      06MT22_5,   A10,    72,  1,    203,2,19930120,1622,-30.0163,  -0.7297, 4874,    500.0,   9.1310,  34.6960,2,  34.6980,2,    206.6,2,     9.12,2,    19.59,9,  -999.00,9,    2.000,2,    1.014,2,    1.449,2, -999.000,9,-999.0000,9,  -999.00,9,   -999.0,9,-999.000,9,  -999.00,9,   2138.7,2,   -999.0,9,   2298.7,2,  -999.00,9,  -999.0,-999.0000,-999.000,-999.000,  9.0755,-999.000,9
      06MT22_5,   A10,    72,  1,    202,2,19930120,1622,-30.0163,  -0.7297, 4874,    600.0,   7.3050,  34.5140,2,-999.0000,9,    206.8,2,    13.54,2,    24.49,9,  -999.00,9,    1.738,2,    0.870,2,    1.895,2, -999.000,9,-999.0000,9,  -999.00,9,   -999.0,9,-999.000,9,  -999.00,9,   2156.4,2,   -999.0,9,   2294.7,2,  -999.00,9,  -999.0,-999.0000,-999.000,-999.000,  7.2464,-999.000,9
      06MT22_5,   A10,    72,  1,    201,2,19930120,1622,-30.0163,  -0.7297, 4874,    700.0,   5.6490,  34.3710,2,  34.3710,2,    219.1,2,    17.59,2,    27.69,9,  -999.00,9,    1.612,2,    0.767,2,    2.397,2, -999.000,9,-999.0000,9,  -999.00,9,   -999.0,9,-999.000,9,  -999.00,9,   2167.2,2,   -999.0,9,   2291.7,2,  -999.00,9,  -999.0,-999.0000,-999.000,-999.000,  5.5889,-999.000,9