BOTTLE,20030417WHPSIOSA
EXPOCODE,SECT_ID,STNNBR,CASTNO,BTLNBR,BTLNBR_FLAG_W,DATE,TIME,LATITUDE,LONGITUDE,DEPTH,CTDPRS,CTDTMP,CTDSAL,CTDSAL_FLAG_W,SALNTY,SALNTY_FLAG_W,OXYGEN,OXYGEN_FLAG_W,SILCAT,SILCAT_FLAG_W,NO2+NO3,NO2+NO3_FLAG_W,PHSPHT,PHSPHT_FLAG_W,CFC-11,CFC-11_FLAG_W,CFC-12,CFC-12_FLAG_W,CCL4,CCL4_FLAG_W,TRITUM,TRITUM_FLAG_W,HELIUM,HELIUM_FLAG_W,DELHE3,DELHE3_FLAG_W,DELC14,DELC14_FLAG_W,NEON,NEON_FLAG_W,O18O16,O18O16_FLAG_W,TCARBN,TCARBN_FLAG_W,PCO2,PCO2_FLAG_W,ALKALI,ALKALI_FLAG_W,PH,PH_FLAG_W,C14ERR,HELIER,DELHER,NEONER,THETA,TRITER,TRITER_FLAG_W
,,,,,,,,,,,DBAR,ITS-90,PSS-78,,PSS-78,,UMOL/KG,,UMOL/KG,,UMOL/KG,,UMOL/KG,,PMOL/KG,,PMOL/KG,,PMOL/KG,,TU,,NMOL/KG,,PERCNT,,/MILLE,,NMOL/KG,,MILLE,,UMOL/KG,,UATM,,UMOL/KG,,,,/MILLE,NMOL/KG,PERCNT,NMOL/KG,ITS-90,TU,
      06MT22_5,   A10,    83,  2,    324,2,19930123,2349,-29.7447,   5.9322, 5198,     10.0,  22.8070,  35.7600,2,-999.0000,9,   -999.0,9,  -999.00,9,  -999.00,9,  -999.00,9, -999.000,9, -999.000,9, -999.000,9, -999.000,9,-999.0000,9,  -999.00,9,   -999.0,9,-999.000,9,  -999.00,9,   -999.0,0,   -999.0,9,   -999.0,9,  -999.00,9,  -999.0,-999.0000,-999.000,-999.000, 22.8050,-999.000,9
      06MT22_5,   A10,    83,  2,    323,2,19930123,2349,-29.7447,   5.9322, 5198,     30.0,  21.8390,  35.6760,2,-999.0000,9,   -999.0,9,  -999.00,9,  -999.00,9,  -999.00,9, -999.000,9, -999.000,9, -999.000,9, -999.000,9,-999.0000,9,  -999.00,9,   -999.0,9,-999.000,9,  -999.00,9,   -999.0,0,   -999.0,9,   -999.0,9,  -999.00,9,  -999.0,-999.0000,-999.000,-999.000, 21.8331,-999.000,9
      06MT22_5,   A10,    83,  2,    322,2,19930123,2349,-29.7447,   5.9322, 5198,     50.0,  18.4170,  35.5820,2,-999.0000,9,   -999.0,9,  -999.00,9,  -999.00,9,  -999.00,9, -999.000,9, -999.000,9, -999.000,9, -999.000,9,-999.0000,9,  -999.00,9,   -999.0,9,-999.000,9,  -999.00,9,   -999.0,0,   -999.0,9,   -999.0,9,  -999.00,9,  -999.0,-999.0000,-999.000,-999.000, 18.4083,-999.000,9
      06MT22_5,   A10,    83,  2,    321,2,19930123,2349,-29.7447,   5.9322, 5198,     70.0,  16.8190,  35.5230,2,-999.0000,9,   -999.0,9,  -999.00,9,  -999.00,9,  -999.00,9, -999.000,9, -999.000,9, -999.000,9, -999.000,9,-999.0000,9,  -999.00,9,   -999.0,9,-999.000,9,  -999.00,9,   -999.0,0,   -999.0,9,   -999.0,9,  -999.00,9,  -999.0,-999.0000,-999.000,-999.000, 16.8076,-999.000,9
      06MT22_5,   A10,    83,  2,    320,2,19930123,2349,-29.7447,   5.9322, 5198,   1196.0,   3.2360,  34.5100,2,  34.5130,2,    182.9,2,    52.38,2,    34.35,9,     2.26,2,    0.146,2,    0.071,2,    0.520,2, -999.000,9,-999.0000,9,  -999.00,9,   -999.0,9,-999.000,9,  -999.00,9,   2227.1,2,   -999.0,9,   -999.0,9,  -999.00,9,  -999.0,-999.0000,-999.000,-999.000,  3.1508,-999.000,9
      06MT22_5,   A10,    83,  2,    319,2,19930123,2349,-29.7447,   5.9322, 5198,   1400.0,   3.1010,  34.6400,2,-999.0000,9,    186.7,2,    53.18,2,    32.57,9,     2.12,2,    0.037,2,    0.019,2,    0.193,2, -999.000,9,-999.0000,9,  -999.00,9,   -999.0,9,-999.000,9,  -999.00,9,   2226.3,2,   -999.0,9,   -999.0,9,  -999.00,9,  -999.0,-999.0000,-999.000,-999.000,  2.9998,-999.000,9
      06MT22_5,   A10,    83,  2,    318,2,19930123,2349,-29.7447,   5.9322, 5198,   1599.0,   3.1050,  34.7350,2,-999.0000,9,   -999.0,9,  -999.00,9,  -999.00,9,  -999.00,9, -999.000,9, -999.000,9, -999.000,9, -999.000,9,-999.0000,9,  -999.00,9,   -999.0,9,-999.000,9,  -999.00,9,   -999.0,0,   -999.0,9,   -999.0,9,  -999.00,9,  -999.0,-999.0000,-999.000,-999.000,  2.9870,-999.000,9
      06MT22_5,   A10,    83,  2,    317,2,19930123,2349,-29.7447,   5.9322, 5198,   1800.0,   3.0230,  34.7870,2,  34.7880,2,    207.7,2,    47.30,2,    28.65,9,     1.83,2,    0.007,2,    0.004,2,    0.047,2, -999.000,9,-999.0000,9,  -999.00,9,   -999.0,9,-999.000,9,  -999.00,9,   2210.5,2,   -999.0,9,   -999.0,9,  -999.00,9,  -999.0,-999.0000,-999.000,-999.000,  2.8885,-999.000,9
      06MT22_5,   A10,    83,  2,    316,2,19930123,2349,-29.7447,   5.9322, 5198,   2001.0,   2.9890,  34.8340,2,-999.0000,9,    219.6,2,    43.68,2,    26.71,9,     1.72,2,    0.002,2,    0.003,2,    0.027,2, -999.000,9,-999.0000,9,  -999.00,9,   -999.0,9,-999.000,9,  -999.00,9,   2200.6,2,   -999.0,9,   -999.0,9,  -999.00,9,  -999.0,-999.0000,-999.000,-999.000,  2.8368,-999.000,9
      06MT22_5,   A10,    83,  2,    315,2,19930123,2349,-29.7447,   5.9322, 5198,   2251.0,   2.7910,  34.8460,2,-999.0000,9,    225.3,2,    46.48,2,    26.15,9,     1.65,2,    0.000,2,    0.003,2,    0.017,2, -999.000,9,-999.0000,9,  -999.00,9,   -999.0,9,-999.000,9,  -999.00,9,   2199.9,2,   -999.0,9,   -999.0,9,  -999.00,9,  -999.0,-999.0000,-999.000,-999.000,  2.6189,-999.000,9
      06MT22_5,   A10,    83,  2,    314,2,19930123,2349,-29.7447,   5.9322, 5198,   2502.0,   2.6170,  34.8520,2,  34.8520,2,    185.3,2,    49.24,2,    25.77,9,     1.64,2,    0.001,2,    0.002,2,    0.015,2, -999.000,9,-999.0000,9,  -999.00,9,   -999.0,9,-999.000,9,  -999.00,9,   2201.1,2,   -999.0,9,   -999.0,9,  -999.00,9,  -999.0,-999.0000,-999.000,-999.000,  2.4243,-999.000,9
      06MT22_5,   A10,    83,  2,    313,2,19930123,2349,-29.7447,   5.9322, 5198,   2754.0,   2.4740,  34.8530,2,-999.0000,9,    231.6,2,    52.78,2,    25.78,9,     1.62,2,    0.004,4,    0.001,2,    0.015,2, -999.000,9,-999.0000,9,  -999.00,9,   -999.0,9,-999.000,9,  -999.00,9,   2201.5,2,   -999.0,9,   -999.0,9,  -999.00,9,  -999.0,-999.0000,-999.000,-999.000,  2.2596,-999.000,9
      06MT22_5,   A10,    83,  2,    312,2,19930123,2349,-29.7447,   5.9322, 5198,   3003.0,   2.4010,  34.8570,2,-999.0000,9,    234.4,2,    53.32,2,    25.42,9,     1.62,2,    0.009,4,    0.003,2,    0.012,2, -999.000,9,-999.0000,9,  -999.00,9,   -999.0,9,-999.000,9,  -999.00,9,   2202.9,2,   -999.0,9,   -999.0,9,  -999.00,9,  -999.0,-999.0000,-999.000,-999.000,  2.1633,-999.000,9
      06MT22_5,   A10,    83,  2,    311,2,19930123,2349,-29.7447,   5.9322, 5198,   3254.0,   2.3240,  34.8560,2,  34.8570,2,    234.8,2,    55.48,2,    25.51,9,     1.62,2,    0.002,2,    0.005,2,    0.008,2, -999.000,9,-999.0000,9,  -999.00,9,   -999.0,9,-999.000,9,  -999.00,9,   2205.5,2,   -999.0,9,   -999.0,9,  -999.00,9,  -999.0,-999.0000,-999.000,-999.000,  2.0623,-999.000,9
      06MT22_5,   A10,    83,  2,    310,2,19930123,2349,-29.7447,   5.9322, 5198,   3503.0,   2.2570,  34.8540,2,-999.0000,9,    233.9,2,    57.92,2,    25.85,9,     1.63,2,    0.001,2,    0.001,2,    0.009,2, -999.000,9,-999.0000,9,  -999.00,9,   -999.0,9,-999.000,9,  -999.00,9,   2207.8,2,   -999.0,9,   -999.0,9,  -999.00,9,  -999.0,-999.0000,-999.000,-999.000,  1.9709,-999.000,9
      06MT22_5,   A10,    83,  2,    309,2,19930123,2349,-29.7447,   5.9322, 5198,   3754.0,   2.1050,  34.8400,2,-999.0000,9,    232.0,2,    64.63,2,    26.56,9,     1.68,2,    0.001,2,    0.003,2,    0.007,2, -999.000,9,-999.0000,9,  -999.00,9,   -999.0,9,-999.000,9,  -999.00,9,   2215.2,2,   -999.0,9,   -999.0,9,  -999.00,9,  -999.0,-999.0000,-999.000,-999.000,  1.7956,-999.000,9
      06MT22_5,   A10,    83,  2,    308,2,19930123,2349,-29.7447,   5.9322, 5198,   4005.0,   1.8060,  34.8070,2,  34.8070,2,    228.7,2,    77.29,2,    28.29,9,     1.82,2,    0.002,2,    0.003,2,    0.017,2, -999.000,9,-999.0000,9,  -999.00,9,   -999.0,9,-999.000,9,  -999.00,9,   2249.7,2,   -999.0,9,   -999.0,9,  -999.00,9,  -999.0,-999.0000,-999.000,-999.000,  1.4772,-999.000,9
      06MT22_5,   A10,    83,  2,    307,2,19930123,2349,-29.7447,   5.9322, 5198,   4255.0,   1.4470,  34.7700,2,-999.0000,9,    223.3,2,    91.41,2,    30.11,9,     1.94,2,    0.002,2,    0.003,2,    0.026,2, -999.000,9,-999.0000,9,  -999.00,9,   -999.0,9,-999.000,9,  -999.00,9,   2238.1,2,   -999.0,9,   -999.0,9,  -999.00,9,  -999.0,-999.0000,-999.000,-999.000,  1.1011,-999.000,9
      06MT22_5,   A10,    83,  2,    306,2,19930123,2349,-29.7447,   5.9322, 5198,   4506.0,   1.2120,  34.7460,2,-999.0000,9,    220.9,2,   101.18,2,    31.28,9,     2.04,2,    0.002,2,    0.001,2,    0.047,2, -999.000,9,-999.0000,9,  -999.00,9,   -999.0,9,-999.000,9,  -999.00,9,   2247.5,2,   -999.0,9,   -999.0,9,  -999.00,9,  -999.0,-999.0000,-999.000,-999.000,  0.8449,-999.000,9
      06MT22_5,   A10,    83,  2,    305,2,19930123,2349,-29.7447,   5.9322, 5198,   4755.0,   1.1610,  34.7390,2,  34.7400,2,    220.4,2,   103.80,2,    31.68,9,     2.08,2,    0.003,2,    0.001,2,    0.051,2, -999.000,9,-999.0000,9,  -999.00,9,   -999.0,9,-999.000,9,  -999.00,9,   2251.7,2,   -999.0,9,   -999.0,9,  -999.00,9,  -999.0,-999.0000,-999.000,-999.000,  0.7668,-999.000,9
      06MT22_5,   A10,    83,  2,    304,2,19930123,2349,-29.7447,   5.9322, 5198,   5008.0,   1.1610,  34.7370,2,-999.0000,9,    220.3,2,   105.44,2,    31.84,9,     2.09,2,    0.006,2,    0.003,2,    0.061,2, -999.000,9,-999.0000,9,  -999.00,9,   -999.0,9,-999.000,9,  -999.00,9,   2252.4,2,   -999.0,9,   -999.0,9,  -999.00,9,  -999.0,-999.0000,-999.000,-999.000,  0.7369,-999.000,9
      06MT22_5,   A10,    83,  2,    303,2,19930123,2349,-29.7447,   5.9322, 5198,   5115.0,   1.1640,  34.7350,2,  34.7360,2,    220.5,2,   105.43,2,    31.91,9,     2.08,2,    0.005,2,    0.005,2,    0.067,2, -999.000,9,-999.0000,9,  -999.00,9,   -999.0,9,-999.000,9,  -999.00,9,   2252.5,2,   -999.0,9,   -999.0,9,  -999.00,9,  -999.0,-999.0000,-999.000,-999.000,  0.7269,-999.000,9
      06MT22_5,   A10,    83,  2,    302,2,19930123,2349,-29.7447,   5.9322, 5198,   5205.0,   1.1760,  34.7350,2,-999.0000,9,   -999.0,9,  -999.00,9,  -999.00,9,  -999.00,9,    0.007,2,    0.001,2,    0.057,2, -999.000,9,-999.0000,9,  -999.00,9,   -999.0,9,-999.000,9,  -999.00,9,   -999.0,0,   -999.0,9,   -999.0,9,  -999.00,9,  -999.0,-999.0000,-999.000,-999.000,  0.7275,-999.000,9
      06MT22_5,   A10,    83,  2,    301,2,19930123,2349,-29.7447,   5.9322, 5198,   5205.0,   1.1760,  34.7350,2,  34.7360,2,    219.8,2,   105.38,2,    31.86,9,     2.10,2,    0.004,2,    0.001,2,    0.061,2, -999.000,9,-999.0000,9,  -999.00,9,   -999.0,9,-999.000,9,  -999.00,9,   2253.1,2,   -999.0,9,   -999.0,9,  -999.00,9,  -999.0,-999.0000,-999.000,-999.000,  0.7275,-999.000,9
      06MT22_5,   A10,    84,  1,    214,2,19930124,0817,-29.7540,   6.7800, 5207,     12.0,  21.8290,  35.6580,2,-999.0000,9,   -999.0,9,  -999.00,9,  -999.00,9,  -999.00,9, -999.000,9, -999.000,9, -999.000,9, -999.000,9,-999.0000,9,  -999.00,9,   -999.0,9,-999.000,9,  -999.00,9,   -999.0,9,   -999.0,9,   -999.0,9,  -999.00,9,  -999.0,-999.0000,-999.000,-999.000, 21.8266,-999.000,9
      06MT22_5,   A10,    84,  1,    217,2,19930124,0817,-29.7540,   6.7800, 5207,     13.0,  21.8260,  35.6570,2,  35.6660,2,    226.3,2,     0.97,2,     0.05,9,     0.14,2, -999.000,9, -999.000,9, -999.000,9, -999.000,9,-999.0000,9,  -999.00,9,   -999.0,9,-999.000,9,  -999.00,9,   -999.0,9,   -999.0,9,   -999.0,9,  -999.00,9,  -999.0,-999.0000,-999.000,-999.000, 21.8234,-999.000,9
      06MT22_5,   A10,    84,  1,    213,2,19930124,0817,-29.7540,   6.7800, 5207,     32.0,  21.3980,  35.6330,2,-999.0000,9,    238.7,2,     0.87,2,     0.10,9,     0.13,2, -999.000,9, -999.000,9, -999.000,9, -999.000,9,-999.0000,9,  -999.00,9,   -999.0,9,-999.000,9,  -999.00,9,   -999.0,9,   -999.0,9,   -999.0,9,  -999.00,9,  -999.0,-999.0000,-999.000,-999.000, 21.3918,-999.000,9
      06MT22_5,   A10,    84,  1,    212,2,19930124,0817,-29.7540,   6.7800, 5207,     52.0,  16.6740,  35.5210,2,-999.0000,9,    261.5,2,     1.08,2,     0.00,9,     0.17,2, -999.000,9, -999.000,9, -999.000,9, -999.000,9,-999.0000,9,  -999.00,9,   -999.0,9,-999.000,9,  -999.00,9,   -999.0,9,   -999.0,9,   -999.0,9,  -999.00,9,  -999.0,-999.0000,-999.000,-999.000, 16.6655,-999.000,9
      06MT22_5,   A10,    84,  1,    211,2,19930124,0817,-29.7540,   6.7800, 5207,     71.0,  15.6810,  35.4910,2,-999.0000,9,    244.8,2,     1.79,2,     1.53,9,     0.28,2, -999.000,9, -999.000,9, -999.000,9, -999.000,9,-999.0000,9,  -999.00,9,   -999.0,9,-999.000,9,  -999.00,9,   -999.0,9,   -999.0,9,   -999.0,9,  -999.00,9,  -999.0,-999.0000,-999.000,-999.000, 15.6699,-999.000,9
      06MT22_5,   A10,    84,  1,    210,2,19930124,0817,-29.7540,   6.7800, 5207,    102.0,  15.2590,  35.4550,2,  35.4460,2,    236.5,2,     1.95,2,     3.05,9,     0.31,2, -999.000,9, -999.000,9, -999.000,9, -999.000,9,-999.0000,9,  -999.00,9,   -999.0,9,-999.000,9,  -999.00,9,   -999.0,9,   -999.0,9,   -999.0,9,  -999.00,9,  -999.0,-999.0000,-999.000,-999.000, 15.2434,-999.000,9
      06MT22_5,   A10,    84,  1,    209,2,19930124,0817,-29.7540,   6.7800, 5207,    151.0,  14.4780,  35.3150,2,-999.0000,9,    238.3,2,     1.99,2,     4.34,9,     0.42,2, -999.000,9, -999.000,9, -999.000,9, -999.000,9,-999.0000,9,  -999.00,9,   -999.0,9,-999.000,9,  -999.00,9,   -999.0,9,   -999.0,9,   -999.0,9,  -999.00,9,  -999.0,-999.0000,-999.000,-999.000, 14.4557,-999.000,9
      06MT22_5,   A10,    84,  1,    208,2,19930124,0817,-29.7540,   6.7800, 5207,    201.0,  13.6710,  35.1740,2,-999.0000,9,    236.4,2,     2.12,2,     5.96,9,     0.52,2, -999.000,9, -999.000,9, -999.000,9, -999.000,9,-999.0000,9,  -999.00,9,   -999.0,9,-999.000,9,  -999.00,9,   -999.0,9,   -999.0,9,   -999.0,9,  -999.00,9,  -999.0,-999.0000,-999.000,-999.000, 13.6424,-999.000,9
      06MT22_5,   A10,    84,  1,    207,2,19930124,0817,-29.7540,   6.7800, 5207,    301.0,  12.2900,  35.0560,2,  35.0530,2,    229.8,2,     3.59,2,    10.08,9,     0.72,2, -999.000,9, -999.000,9, -999.000,9, -999.000,9,-999.0000,9,  -999.00,9,   -999.0,9,-999.000,9,  -999.00,9,   -999.0,9,   -999.0,9,   -999.0,9,  -999.00,9,  -999.0,-999.0000,-999.000,-999.000, 12.2499,-999.000,9
      06MT22_5,   A10,    84,  1,    206,2,19930124,0817,-29.7540,   6.7800, 5207,    400.0,  10.5680,  34.8430,2,-999.0000,9,    220.0,2,     5.51,2,    15.21,9,     1.03,2, -999.000,9, -999.000,9, -999.000,9, -999.000,9,-999.0000,9,  -999.00,9,   -999.0,9,-999.000,9,  -999.00,9,   -999.0,9,   -999.0,9,   -999.0,9,  -999.00,9,  -999.0,-999.0000,-999.000,-999.000, 10.5198,-999.000,9
      06MT22_5,   A10,    84,  1,    205,2,19930124,0817,-29.7540,   6.7800, 5207,    502.0,   8.7650,  34.6540,2,-999.0000,9,    210.1,2,     9.87,2,    20.84,9,     1.36,2, -999.000,9, -999.000,9, -999.000,9, -999.000,9,-999.0000,9,  -999.00,9,   -999.0,9,-999.000,9,  -999.00,9,   -999.0,9,   -999.0,9,   -999.0,9,  -999.00,9,  -999.0,-999.0000,-999.000,-999.000,  8.7107,-999.000,9
      06MT22_5,   A10,    84,  1,    204,2,19930124,0817,-29.7540,   6.7800, 5207,    600.0,   7.0070,  34.4940,2,  34.4880,2,    206.4,2,    15.31,2,    26.06,9,     1.71,2, -999.000,9, -999.000,9, -999.000,9, -999.000,9,-999.0000,9,  -999.00,9,   -999.0,9,-999.000,9,  -999.00,9,   -999.0,9,   -999.0,9,   -999.0,9,  -999.00,9,  -999.0,-999.0000,-999.000,-999.000,  6.9496,-999.000,9
      06MT22_5,   A10,    84,  1,    203,2,19930124,0817,-29.7540,   6.7800, 5207,    699.0,   5.3520,  34.3640,2,-999.0000,9,    218.8,2,    20.53,2,    29.01,9,     1.91,2, -999.000,9, -999.000,9, -999.000,9, -999.000,9,-999.0000,9,  -999.00,9,   -999.0,9,-999.000,9,  -999.00,9,   -999.0,9,   -999.0,9,   -999.0,9,  -999.00,9,  -999.0,-999.0000,-999.000,-999.000,  5.2935,-999.000,9
      06MT22_5,   A10,    84,  1,    202,2,19930124,0817,-29.7540,   6.7800, 5207,    850.0,   4.1830,  34.3370,2,-999.0000,9,    215.5,2,    30.75,2,    31.58,9,     2.10,2, -999.000,9, -999.000,9, -999.000,9, -999.000,9,-999.0000,9,  -999.00,9,   -999.0,9,-999.000,9,  -999.00,9,   -999.0,9,   -999.0,9,   -999.0,9,  -999.00,9,  -999.0,-999.0000,-999.000,-999.000,  4.1186,-999.000,9
      06MT22_5,   A10,    84,  1,    201,2,19930124,0817,-29.7540,   6.7800, 5207,   1003.0,   3.5230,  34.3960,2,  34.3950,2,    197.2,2,    43.72,2,    33.77,9,     2.25,2, -999.000,9, -999.000,9, -999.000,9, -999.000,9,-999.0000,9,  -999.00,9,   -999.0,9,-999.000,9,  -999.00,9,   -999.0,9,   -999.0,9,   -999.0,9,  -999.00,9,  -999.0,-999.0000,-999.000,-999.000,  3.4510,-999.000,9