BOTTLE,20030417WHPSIOSA
EXPOCODE,SECT_ID,STNNBR,CASTNO,BTLNBR,BTLNBR_FLAG_W,DATE,TIME,LATITUDE,LONGITUDE,DEPTH,CTDPRS,CTDTMP,CTDSAL,CTDSAL_FLAG_W,SALNTY,SALNTY_FLAG_W,OXYGEN,OXYGEN_FLAG_W,SILCAT,SILCAT_FLAG_W,NO2+NO3,NO2+NO3_FLAG_W,PHSPHT,PHSPHT_FLAG_W,CFC-11,CFC-11_FLAG_W,CFC-12,CFC-12_FLAG_W,CCL4,CCL4_FLAG_W,TRITUM,TRITUM_FLAG_W,HELIUM,HELIUM_FLAG_W,DELHE3,DELHE3_FLAG_W,DELC14,DELC14_FLAG_W,NEON,NEON_FLAG_W,O18O16,O18O16_FLAG_W,TCARBN,TCARBN_FLAG_W,PCO2,PCO2_FLAG_W,ALKALI,ALKALI_FLAG_W,PH,PH_FLAG_W,C14ERR,HELIER,DELHER,NEONER,THETA,TRITER,TRITER_FLAG_W
,,,,,,,,,,,DBAR,ITS-90,PSS-78,,PSS-78,,UMOL/KG,,UMOL/KG,,UMOL/KG,,UMOL/KG,,PMOL/KG,,PMOL/KG,,PMOL/KG,,TU,,NMOL/KG,,PERCNT,,/MILLE,,NMOL/KG,,MILLE,,UMOL/KG,,UATM,,UMOL/KG,,,,/MILLE,NMOL/KG,PERCNT,NMOL/KG,ITS-90,TU,
      06MT22_5,   A10,    49,  2,    324,2,19930114,0436,-30.0010, -17.6975, 3989,      9.0,  23.3340,  35.7030,2,  35.7120,2,   -999.0,9,  -999.00,9,  -999.00,9,  -999.00,9, -999.000,9, -999.000,9, -999.000,9, -999.000,9,-999.0000,9,  -999.00,9,   -999.0,9,-999.000,9,  -999.00,9,   -999.0,0,   -999.0,9,   -999.0,9,  -999.00,9,  -999.0,-999.0000,-999.000,-999.000, 23.3321,-999.000,9
      06MT22_5,   A10,    49,  2,    323,2,19930114,0436,-30.0010, -17.6975, 3989,     10.0,  23.3350,  35.7030,2,-999.0000,9,   -999.0,9,  -999.00,9,  -999.00,9,  -999.00,9, -999.000,9, -999.000,9, -999.000,9, -999.000,9,-999.0000,9,  -999.00,9,   -999.0,9,-999.000,9,  -999.00,9,   -999.0,0,   -999.0,9,   -999.0,9,  -999.00,9,  -999.0,-999.0000,-999.000,-999.000, 23.3329,-999.000,9
      06MT22_5,   A10,    49,  2,    322,2,19930114,0436,-30.0010, -17.6975, 3989,    400.0,  11.3950,  34.9810,2,-999.0000,9,    211.0,2,     4.99,2,    13.39,9,     0.98,2, -999.000,9, -999.000,9, -999.000,9, -999.000,9,-999.0000,9,  -999.00,9,   -999.0,9,-999.000,9,  -999.00,9,   -999.0,0,   -999.0,9,   -999.0,9,  -999.00,9,  -999.0,-999.0000,-999.000,-999.000, 11.3444,-999.000,9
      06MT22_5,   A10,    49,  2,    321,2,19930114,0436,-30.0010, -17.6975, 3989,    500.0,   9.8000,  34.7840,2,-999.0000,9,    210.2,2,     6.83,2,    17.36,9,     1.23,2, -999.000,9, -999.000,9, -999.000,9, -999.000,9,-999.0000,9,  -999.00,9,   -999.0,9,-999.000,9,  -999.00,9,   -999.0,0,   -999.0,9,   -999.0,9,  -999.00,9,  -999.0,-999.0000,-999.000,-999.000,  9.7423,-999.000,9
      06MT22_5,   A10,    49,  2,    320,2,19930114,0436,-30.0010, -17.6975, 3989,    601.0,   7.6130,  34.5380,2,-999.0000,9,    202.1,2,    10.61,2,    22.74,9,     1.60,2, -999.000,9, -999.000,9, -999.000,9, -999.000,9,-999.0000,9,  -999.00,9,   -999.0,9,-999.000,9,  -999.00,9,   -999.0,0,   -999.0,9,   -999.0,9,  -999.00,9,  -999.0,-999.0000,-999.000,-999.000,  7.5529,-999.000,9
      06MT22_5,   A10,    49,  2,    319,2,19930114,0436,-30.0010, -17.6975, 3989,    699.0,   5.8030,  34.3620,2,  34.3650,2,    213.6,2,    13.69,2,    25.88,9,     1.82,2, -999.000,9, -999.000,9, -999.000,9, -999.000,9,-999.0000,9,  -999.00,9,   -999.0,9,-999.000,9,  -999.00,9,   -999.0,0,   -999.0,9,   -999.0,9,  -999.00,9,  -999.0,-999.0000,-999.000,-999.000,  5.7422,-999.000,9
      06MT22_5,   A10,    49,  2,    318,2,19930114,0436,-30.0010, -17.6975, 3989,    849.0,   4.4270,  34.3080,2,-999.0000,9,    225.3,2,    23.69,2,    29.35,9,     2.04,2, -999.000,9, -999.000,9, -999.000,9, -999.000,9,-999.0000,9,  -999.00,9,   -999.0,9,-999.000,9,  -999.00,9,   -999.0,0,   -999.0,9,   -999.0,9,  -999.00,9,  -999.0,-999.0000,-999.000,-999.000,  4.3610,-999.000,9
      06MT22_5,   A10,    49,  2,    317,2,19930114,0436,-30.0010, -17.6975, 3989,    999.0,   3.6420,  34.3290,2,-999.0000,9,    214.9,2,    34.32,2,    31.52,9,     2.18,2, -999.000,9, -999.000,9, -999.000,9, -999.000,9,-999.0000,9,  -999.00,9,   -999.0,9,-999.000,9,  -999.00,9,   -999.0,0,   -999.0,9,   -999.0,9,  -999.00,9,  -999.0,-999.0000,-999.000,-999.000,  3.5693,-999.000,9
      06MT22_5,   A10,    49,  2,    316,2,19930114,0436,-30.0010, -17.6975, 3989,   1199.0,   3.0500,  34.4520,2,  34.4560,2,    195.7,2,    49.38,2,    33.00,9,     2.30,2, -999.000,9, -999.000,9, -999.000,9, -999.000,9,-999.0000,9,  -999.00,9,   -999.0,9,-999.000,9,  -999.00,9,   -999.0,0,   -999.0,9,   -999.0,9,  -999.00,9,  -999.0,-999.0000,-999.000,-999.000,  2.9664,-999.000,9
      06MT22_5,   A10,    49,  2,    315,2,19930114,0436,-30.0010, -17.6975, 3989,   1401.0,   2.8560,  34.5780,2,-999.0000,9,    193.0,2,    55.48,2,    32.52,9,     2.26,2, -999.000,9, -999.000,9, -999.000,9, -999.000,9,-999.0000,9,  -999.00,9,   -999.0,9,-999.000,9,  -999.00,9,   -999.0,0,   -999.0,9,   -999.0,9,  -999.00,9,  -999.0,-999.0000,-999.000,-999.000,  2.7575,-999.000,9
      06MT22_5,   A10,    49,  2,    314,2,19930114,0436,-30.0010, -17.6975, 3989,   1599.0,   2.8030,  34.6740,2,-999.0000,9,    198.0,2,    55.18,2,    30.79,9,     2.11,2, -999.000,9, -999.000,9, -999.000,9, -999.000,9,-999.0000,9,  -999.00,9,   -999.0,9,-999.000,9,  -999.00,9,   -999.0,0,   -999.0,9,   -999.0,9,  -999.00,9,  -999.0,-999.0000,-999.000,-999.000,  2.6888,-999.000,9
      06MT22_5,   A10,    49,  2,    313,2,19930114,0436,-30.0010, -17.6975, 3989,   1800.0,   2.7360,  34.7500,2,  34.7510,2,    209.9,2,    52.80,2,    28.78,9,     1.98,2, -999.000,9, -999.000,9, -999.000,9, -999.000,9,-999.0000,9,  -999.00,9,   -999.0,9,-999.000,9,  -999.00,9,   -999.0,0,   -999.0,9,   -999.0,9,  -999.00,9,  -999.0,-999.0000,-999.000,-999.000,  2.6056,-999.000,9
      06MT22_5,   A10,    49,  2,    312,2,19930114,0436,-30.0010, -17.6975, 3989,   2000.0,   2.6740,  34.8040,2,-999.0000,9,    221.8,2,    49.82,2,    26.93,9,     1.84,2, -999.000,9, -999.000,9, -999.000,9, -999.000,9,-999.0000,9,  -999.00,9,   -999.0,9,-999.000,9,  -999.00,9,   -999.0,0,   -999.0,9,   -999.0,9,  -999.00,9,  -999.0,-999.0000,-999.000,-999.000,  2.5265,-999.000,9
      06MT22_5,   A10,    49,  2,    311,2,19930114,0436,-30.0010, -17.6975, 3989,   2250.0,   2.6920,  34.8510,2,-999.0000,9,    234.0,2,    44.46,2,    25.08,9,     1.68,2, -999.000,9, -999.000,9, -999.000,9, -999.000,9,-999.0000,9,  -999.00,9,   -999.0,9,-999.000,9,  -999.00,9,   -999.0,0,   -999.0,9,   -999.0,9,  -999.00,9,  -999.0,-999.0000,-999.000,-999.000,  2.5216,-999.000,9
      06MT22_5,   A10,    49,  2,    310,2,19930114,0436,-30.0010, -17.6975, 3989,   2501.0,   2.6990,  34.8800,2,  34.8810,2,    241.4,2,    40.58,2,    23.72,9,     1.59,2, -999.000,9, -999.000,9, -999.000,9, -999.000,9,-999.0000,9,  -999.00,9,   -999.0,9,-999.000,9,  -999.00,9,   -999.0,0,   -999.0,9,   -999.0,9,  -999.00,9,  -999.0,-999.0000,-999.000,-999.000,  2.5047,-999.000,9
      06MT22_5,   A10,    49,  2,    309,2,19930114,0436,-30.0010, -17.6975, 3989,   2752.0,   2.6670,  34.8920,2,-999.0000,9,    245.4,2,    39.36,2,    23.22,9,     1.54,2, -999.000,9, -999.000,9, -999.000,9, -999.000,9,-999.0000,9,  -999.00,9,   -999.0,9,-999.000,9,  -999.00,9,   -999.0,0,   -999.0,9,   -999.0,9,  -999.00,9,  -999.0,-999.0000,-999.000,-999.000,  2.4487,-999.000,9
      06MT22_5,   A10,    49,  2,    308,2,19930114,0436,-30.0010, -17.6975, 3989,   2752.0,   2.6670,  34.8920,2,-999.0000,9,    246.4,2,    39.39,2,    23.13,9,     1.57,2, -999.000,9, -999.000,9, -999.000,9, -999.000,9,-999.0000,9,  -999.00,9,   -999.0,9,-999.000,9,  -999.00,9,   -999.0,0,   -999.0,9,   -999.0,9,  -999.00,9,  -999.0,-999.0000,-999.000,-999.000,  2.4487,-999.000,9
      06MT22_5,   A10,    49,  2,    307,2,19930114,0436,-30.0010, -17.6975, 3989,   3003.0,   2.5840,  34.8950,2,  34.8960,2,    250.4,2,    40.01,2,    22.85,9,     1.53,2, -999.000,9, -999.000,9, -999.000,9, -999.000,9,-999.0000,9,  -999.00,9,   -999.0,9,-999.000,9,  -999.00,9,   -999.0,0,   -999.0,9,   -999.0,9,  -999.00,9,  -999.0,-999.0000,-999.000,-999.000,  2.3421,-999.000,9
      06MT22_5,   A10,    49,  2,    306,2,19930114,0436,-30.0010, -17.6975, 3989,   3253.0,   2.3720,  34.8800,2,-999.0000,9,    247.9,2,    46.66,2,    23.49,9,     1.57,2, -999.000,9, -999.000,9, -999.000,9, -999.000,9,-999.0000,9,  -999.00,9,   -999.0,9,-999.000,9,  -999.00,9,   -999.0,0,   -999.0,9,   -999.0,9,  -999.00,9,  -999.0,-999.0000,-999.000,-999.000,  2.1094,-999.000,9
      06MT22_5,   A10,    49,  2,    305,2,19930114,0436,-30.0010, -17.6975, 3989,   3502.0,   2.1520,  34.8590,2,-999.0000,9,    244.5,2,    54.63,2,    24.61,9,     1.64,2, -999.000,9, -999.000,9, -999.000,9, -999.000,9,-999.0000,9,  -999.00,9,   -999.0,9,-999.000,9,  -999.00,9,   -999.0,0,   -999.0,9,   -999.0,9,  -999.00,9,  -999.0,-999.0000,-999.000,-999.000,  1.8685,-999.000,9
      06MT22_5,   A10,    49,  2,    304,2,19930114,0436,-30.0010, -17.6975, 3989,   3755.0,   1.8330,  34.8290,2,  34.8300,2,    241.9,2,    66.65,2,    26.06,9,     1.76,2, -999.000,9, -999.000,9, -999.000,9, -999.000,9,-999.0000,9,  -999.00,9,   -999.0,9,-999.000,9,  -999.00,9,   -999.0,0,   -999.0,9,   -999.0,9,  -999.00,9,  -999.0,-999.0000,-999.000,-999.000,  1.5306,-999.000,9
      06MT22_5,   A10,    49,  2,    303,2,19930114,0436,-30.0010, -17.6975, 3989,   3978.0,   1.7580,  34.8180,2,  34.8210,2,    239.5,2,    70.57,2,    26.60,9,     1.83,2, -999.000,9, -999.000,9, -999.000,9, -999.000,9,-999.0000,9,  -999.00,9,   -999.0,9,-999.000,9,  -999.00,9,   -999.0,0,   -999.0,9,   -999.0,9,  -999.00,9,  -999.0,-999.0000,-999.000,-999.000,  1.4334,-999.000,9
      06MT22_5,   A10,    49,  2,    301,2,19930114,0436,-30.0010, -17.6975, 3989,   4058.0,   1.7550,  34.8170,2,-999.0000,9,   -999.0,9,  -999.00,9,  -999.00,9,  -999.00,9, -999.000,9, -999.000,9, -999.000,9, -999.000,9,-999.0000,9,  -999.00,9,   -999.0,9,-999.000,9,  -999.00,9,   -999.0,0,   -999.0,9,   -999.0,9,  -999.00,9,  -999.0,-999.0000,-999.000,-999.000,  1.4159,-999.000,9
      06MT22_5,   A10,    49,  2,    302,2,19930114,0436,-30.0010, -17.6975, 3989,   4061.0,   1.7540,  34.8170,2,  34.8190,2,    239.0,2,    70.87,2,    26.59,9,     1.82,2, -999.000,9, -999.000,9, -999.000,9, -999.000,9,-999.0000,9,  -999.00,9,   -999.0,9,-999.000,9,  -999.00,9,   -999.0,0,   -999.0,9,   -999.0,9,  -999.00,9,  -999.0,-999.0000,-999.000,-999.000,  1.4203,-999.000,9
      06MT22_5,   A10,    50,  1,    217,2,19930114,1101,-29.9987, -17.0133, 3677,     12.0,  22.5510,  35.7530,2,  35.7810,2,    225.7,2,     0.14,2,     0.09,9,     0.10,2, -999.000,9, -999.000,9, -999.000,9, -999.000,9,-999.0000,9,  -999.00,9,   -999.0,9,-999.000,9,  -999.00,9,   -999.0,9,   -999.0,9,   -999.0,9,  -999.00,9,  -999.0,-999.0000,-999.000,-999.000, 22.5486,-999.000,9
      06MT22_5,   A10,    50,  1,    208,2,19930114,1101,-29.9987, -17.0133, 3677,     12.0,  22.5510,  35.7530,2,-999.0000,9,   -999.0,9,  -999.00,9,  -999.00,9,  -999.00,9,    2.166,2,    1.167,2,    2.663,2,    0.930,2,-999.0000,1,  -999.00,1,   -999.0,9,-999.000,1,  -999.00,9,   2048.2,2,   -999.0,9,   -999.0,9,  -999.00,9,  -999.0,-999.0000,-999.000,-999.000, 22.5486,   0.021,9
      06MT22_5,   A10,    50,  1,    207,2,19930114,1101,-29.9987, -17.0133, 3677,     32.0,  21.4910,  35.7650,2,  35.7710,2,    230.8,2,     0.35,2,     0.08,9,     0.11,2,    2.215,2,    1.230,2,    2.637,2,    0.887,2,-999.0000,1,  -999.00,1,   -999.0,9,-999.000,1,  -999.00,9,   2048.9,2,   -999.0,9,   -999.0,9,  -999.00,9,  -999.0,-999.0000,-999.000,-999.000, 21.4848,   0.022,9
      06MT22_5,   A10,    50,  1,    206,2,19930114,1101,-29.9987, -17.0133, 3677,     52.0,  18.8310,  35.7780,2,-999.0000,9,    243.1,2,     0.65,2,     0.02,9,     0.12,2,    2.415,2,    1.322,2,    2.535,2,    0.897,2,   1.7070,2,    -1.45,2,   -999.0,9,   6.967,2,  -999.00,9,   2052.8,2,   -999.0,9,   -999.0,9,  -999.00,9,  -999.0,  0.0068,   0.250,   0.052, 18.8218,   0.021,9
      06MT22_5,   A10,    50,  1,    205,2,19930114,1101,-29.9987, -17.0133, 3677,     72.0,  18.1090,  35.7170,2,-999.0000,9,    244.8,2,     0.36,2,     0.09,9,     0.12,2,    2.473,2,    1.338,2,    2.540,2,    0.886,2,   1.6829,7,    -0.91,2,   -999.0,9,   6.920,7,  -999.00,9,   2053.9,2,   -999.0,9,   -999.0,9,  -999.00,9,  -999.0,  0.0067,   0.250,   0.028, 18.0966,   0.021,9
      06MT22_5,   A10,    50,  1,    204,2,19930114,1101,-29.9987, -17.0133, 3677,    102.0,  17.2110,  35.6110,2,  35.6140,2,    242.9,2,     0.29,2,     0.04,9,     0.11,2,    2.509,2,    1.358,2,    2.563,2,    0.866,2,-999.0000,1,  -999.00,1,   -999.0,9,-999.000,1,  -999.00,9,   2055.8,2,   -999.0,9,   -999.0,9,  -999.00,9,  -999.0,-999.0000,-999.000,-999.000, 17.1940,   0.020,9
      06MT22_5,   A10,    50,  1,    203,2,19930114,1101,-29.9987, -17.0133, 3677,    152.0,  16.4420,  35.5420,2,-999.0000,9,    234.4,2,     0.41,2,     0.43,9,     0.16,2,    2.548,2,    1.355,2,    1.931,2,    0.880,2,-999.0000,1,  -999.00,1,   -999.0,9,-999.000,1,  -999.00,9,   2064.5,2,   -999.0,9,   -999.0,9,  -999.00,9,  -999.0,-999.0000,-999.000,-999.000, 16.4174,   0.020,9
      06MT22_5,   A10,    50,  1,    202,2,19930114,1101,-29.9987, -17.0133, 3677,    201.0,  15.1600,  35.4180,2,-999.0000,9,    225.4,2,     1.44,2,     3.38,9,     0.33,2,    2.560,2,    1.368,2,    1.300,2,    0.843,2,   1.7395,2,    -0.58,2,   -999.0,9,   7.140,4,  -999.00,9,   2079.3,2,   -999.0,9,   -999.0,9,  -999.00,9,  -999.0,  0.0070,   0.250,   0.029, 15.1292,   0.023,9
      06MT22_5,   A10,    50,  1,    201,2,19930114,1101,-29.9987, -17.0133, 3677,    302.0,  13.7700,  35.3200,2,  35.3350,2,    222.5,2,     2.06,2,     6.69,9,     0.56,2,    2.595,2,    1.371,2,    1.144,2, -999.000,9,   1.7324,6,    -0.80,2,   -999.0,9,   7.203,6,  -999.00,9,   2093.8,2,   -999.0,9,   -999.0,9,  -999.00,9,  -999.0,  0.0061,   0.250,   0.025, 13.7265,-999.000,9