BOTTLE,20030417WHPSIOSA
EXPOCODE,SECT_ID,STNNBR,CASTNO,BTLNBR,BTLNBR_FLAG_W,DATE,TIME,LATITUDE,LONGITUDE,DEPTH,CTDPRS,CTDTMP,CTDSAL,CTDSAL_FLAG_W,SALNTY,SALNTY_FLAG_W,OXYGEN,OXYGEN_FLAG_W,SILCAT,SILCAT_FLAG_W,NO2+NO3,NO2+NO3_FLAG_W,PHSPHT,PHSPHT_FLAG_W,CFC-11,CFC-11_FLAG_W,CFC-12,CFC-12_FLAG_W,CCL4,CCL4_FLAG_W,TRITUM,TRITUM_FLAG_W,HELIUM,HELIUM_FLAG_W,DELHE3,DELHE3_FLAG_W,DELC14,DELC14_FLAG_W,NEON,NEON_FLAG_W,O18O16,O18O16_FLAG_W,TCARBN,TCARBN_FLAG_W,PCO2,PCO2_FLAG_W,ALKALI,ALKALI_FLAG_W,PH,PH_FLAG_W,C14ERR,HELIER,DELHER,NEONER,THETA,TRITER,TRITER_FLAG_W
,,,,,,,,,,,DBAR,ITS-90,PSS-78,,PSS-78,,UMOL/KG,,UMOL/KG,,UMOL/KG,,UMOL/KG,,PMOL/KG,,PMOL/KG,,PMOL/KG,,TU,,NMOL/KG,,PERCNT,,/MILLE,,NMOL/KG,,MILLE,,UMOL/KG,,UATM,,UMOL/KG,,,,/MILLE,NMOL/KG,PERCNT,NMOL/KG,ITS-90,TU,
      06MT22_5,   A10,    75,  1,    217,2,19930121,1028,-29.7383,   1.1067, 3737,     12.0,  24.1760,  35.9860,2,  35.9860,2,    217.6,2,     0.99,2,     0.06,9,     0.19,2, -999.000,9, -999.000,9, -999.000,9, -999.000,9,-999.0000,9,  -999.00,9,   -999.0,9,-999.000,9,  -999.00,9,   -999.0,0,   -999.0,9,   -999.0,9,  -999.00,9,  -999.0,-999.0000,-999.000,-999.000, 24.1735,-999.000,9
      06MT22_5,   A10,    75,  1,    208,2,19930121,1028,-29.7383,   1.1067, 3737,     32.0,  21.4790,  35.7990,2,-999.0000,9,    242.2,2,     1.64,2,     0.01,9,     0.16,2, -999.000,9, -999.000,9, -999.000,9, -999.000,9,-999.0000,9,  -999.00,9,   -999.0,9,-999.000,9,  -999.00,9,   -999.0,0,   -999.0,9,   -999.0,9,  -999.00,9,  -999.0,-999.0000,-999.000,-999.000, 21.4728,-999.000,9
      06MT22_5,   A10,    75,  1,    207,2,19930121,1028,-29.7383,   1.1067, 3737,     53.0,  18.7690,  35.7180,2,-999.0000,9,    252.5,2,     1.68,2,     0.04,9,     0.15,2, -999.000,9, -999.000,9, -999.000,9, -999.000,9,-999.0000,9,  -999.00,9,   -999.0,9,-999.000,9,  -999.00,9,   -999.0,0,   -999.0,9,   -999.0,9,  -999.00,9,  -999.0,-999.0000,-999.000,-999.000, 18.7596,-999.000,9
      06MT22_5,   A10,    75,  1,    206,2,19930121,1028,-29.7383,   1.1067, 3737,     72.0,  17.4990,  35.6710,2,-999.0000,9,    252.9,2,     1.47,2,     0.03,9,     0.16,2, -999.000,9, -999.000,9, -999.000,9, -999.000,9,-999.0000,9,  -999.00,9,   -999.0,9,-999.000,9,  -999.00,9,   -999.0,0,   -999.0,9,   -999.0,9,  -999.00,9,  -999.0,-999.0000,-999.000,-999.000, 17.4869,-999.000,9
      06MT22_5,   A10,    75,  1,    205,2,19930121,1028,-29.7383,   1.1067, 3737,    102.0,  16.6170,  35.6170,2,-999.0000,9,    246.5,2,     1.70,2,     0.02,9,     0.21,2, -999.000,9, -999.000,9, -999.000,9, -999.000,9,-999.0000,9,  -999.00,9,   -999.0,9,-999.000,9,  -999.00,9,   -999.0,0,   -999.0,9,   -999.0,9,  -999.00,9,  -999.0,-999.0000,-999.000,-999.000, 16.6004,-999.000,9
      06MT22_5,   A10,    75,  1,    204,2,19930121,1028,-29.7383,   1.1067, 3737,    152.0,  15.7280,  35.5120,2,  35.5140,2,    230.4,2,     3.67,2,     3.14,9,     0.37,2, -999.000,9, -999.000,9, -999.000,9, -999.000,9,-999.0000,9,  -999.00,9,   -999.0,9,-999.000,9,  -999.00,9,   -999.0,0,   -999.0,9,   -999.0,9,  -999.00,9,  -999.0,-999.0000,-999.000,-999.000, 15.7042,-999.000,9
      06MT22_5,   A10,    75,  1,    203,2,19930121,1028,-29.7383,   1.1067, 3737,    202.0,  13.9510,  35.2290,2,-999.0000,9,    215.4,2,     3.94,2,     7.69,9,     0.62,2, -999.000,9, -999.000,9, -999.000,9, -999.000,9,-999.0000,9,  -999.00,9,   -999.0,9,-999.000,9,  -999.00,9,   -999.0,0,   -999.0,9,   -999.0,9,  -999.00,9,  -999.0,-999.0000,-999.000,-999.000, 13.9219,-999.000,9
      06MT22_5,   A10,    75,  1,    202,2,19930121,1028,-29.7383,   1.1067, 3737,    301.0,  11.8870,  34.9990,2,-999.0000,9,    212.7,2,     5.34,2,    12.72,9,     0.92,2, -999.000,9, -999.000,9, -999.000,9, -999.000,9,-999.0000,9,  -999.00,9,   -999.0,9,-999.000,9,  -999.00,9,   -999.0,0,   -999.0,9,   -999.0,9,  -999.00,9,  -999.0,-999.0000,-999.000,-999.000, 11.8479,-999.000,9
      06MT22_5,   A10,    75,  1,    201,2,19930121,1028,-29.7383,   1.1067, 3737,    402.0,   9.7940,  34.7590,2,  34.7650,2,    207.0,2,     8.20,2,    18.28,9,     1.26,2, -999.000,9, -999.000,9, -999.000,9, -999.000,9,-999.0000,9,  -999.00,9,   -999.0,9,-999.000,9,  -999.00,9,   -999.0,0,   -999.0,9,   -999.0,9,  -999.00,9,  -999.0,-999.0000,-999.000,-999.000,  9.7476,-999.000,9
      06MT22_5,   A10,    75,  2,    324,2,19930121,1058,-29.7308,   1.1332, 3739,     10.0,  24.1700,  35.9780,2,  35.9770,2,   -999.0,9,  -999.00,9,  -999.00,9,  -999.00,9, -999.000,9, -999.000,9, -999.000,9, -999.000,9,-999.0000,9,  -999.00,9,   -999.0,9,-999.000,9,  -999.00,9,   -999.0,0,   -999.0,9,   -999.0,9,  -999.00,9,  -999.0,-999.0000,-999.000,-999.000, 24.1679,-999.000,9
      06MT22_5,   A10,    75,  2,    320,2,19930121,1058,-29.7308,   1.1332, 3739,    300.0,  11.9150,  34.9980,2,-999.0000,9,   -999.0,9,  -999.00,9,  -999.00,9,  -999.00,9, -999.000,9, -999.000,9, -999.000,9, -999.000,9,-999.0000,9,  -999.00,9,   -999.0,9,-999.000,9,  -999.00,9,   -999.0,0,   -999.0,9,   -999.0,9,  -999.00,9,  -999.0,-999.0000,-999.000,-999.000, 11.8760,-999.000,9
      06MT22_5,   A10,    75,  2,    319,2,19930121,1058,-29.7308,   1.1332, 3739,    399.0,  10.0470,  34.7900,2,  34.7730,2,   -999.0,9,  -999.00,9,  -999.00,9,  -999.00,9, -999.000,9, -999.000,9, -999.000,9, -999.000,9,-999.0000,9,  -999.00,9,   -999.0,9,-999.000,9,  -999.00,9,   -999.0,0,   -999.0,9,   -999.0,9,  -999.00,9,  -999.0,-999.0000,-999.000,-999.000, 10.0002,-999.000,9
      06MT22_5,   A10,    75,  2,    318,2,19930121,1058,-29.7308,   1.1332, 3739,    500.0,   8.1880,  34.5980,2,-999.0000,9,    200.3,2,    12.47,2,    23.20,9,     1.59,2, -999.000,9, -999.000,9, -999.000,9, -999.000,9,-999.0000,9,  -999.00,9,   -999.0,9,-999.000,9,  -999.00,9,   -999.0,0,   -999.0,9,   -999.0,9,  -999.00,9,  -999.0,-999.0000,-999.000,-999.000,  8.1361,-999.000,9
      06MT22_5,   A10,    75,  2,    317,2,19930121,1058,-29.7308,   1.1332, 3739,    600.0,   6.5320,  34.4510,2,-999.0000,9,   -999.0,9,  -999.00,9,  -999.00,9,  -999.00,9, -999.000,9, -999.000,9, -999.000,9, -999.000,9,-999.0000,9,  -999.00,9,   -999.0,9,-999.000,9,  -999.00,9,   -999.0,0,   -999.0,9,   -999.0,9,  -999.00,9,  -999.0,-999.0000,-999.000,-999.000,  6.4768,-999.000,9
      06MT22_5,   A10,    75,  2,    316,2,19930121,1058,-29.7308,   1.1332, 3739,    600.0,   6.5320,  34.4510,2,  34.4470,2,    206.0,2,    17.59,2,    27.08,9,     1.84,2, -999.000,9, -999.000,9, -999.000,9, -999.000,9,-999.0000,9,  -999.00,9,   -999.0,9,-999.000,9,  -999.00,9,   -999.0,0,   -999.0,9,   -999.0,9,  -999.00,9,  -999.0,-999.0000,-999.000,-999.000,  6.4768,-999.000,9
      06MT22_5,   A10,    75,  2,    315,2,19930121,1058,-29.7308,   1.1332, 3739,    799.0,   4.3150,  34.3430,2,-999.0000,9,    207.8,2,    29.81,2,    31.66,9,     2.14,2, -999.000,9, -999.000,9, -999.000,9, -999.000,9,-999.0000,9,  -999.00,9,   -999.0,9,-999.000,9,  -999.00,9,   -999.0,0,   -999.0,9,   -999.0,9,  -999.00,9,  -999.0,-999.0000,-999.000,-999.000,  4.2538,-999.000,9
      06MT22_5,   A10,    75,  2,    314,2,19930121,1058,-29.7308,   1.1332, 3739,    999.0,   3.5040,  34.4240,2,-999.0000,9,    189.0,2,    44.41,2,    34.04,9,     2.28,2, -999.000,9, -999.000,9, -999.000,9, -999.000,9,-999.0000,9,  -999.00,9,   -999.0,9,-999.000,9,  -999.00,9,   -999.0,0,   -999.0,9,   -999.0,9,  -999.00,9,  -999.0,-999.0000,-999.000,-999.000,  3.4322,-999.000,9
      06MT22_5,   A10,    75,  2,    313,2,19930121,1058,-29.7308,   1.1332, 3739,   1199.0,   3.0970,  34.5330,2,  34.5370,2,    182.7,2,    54.21,2,    33.77,9,     2.28,2, -999.000,9, -999.000,9, -999.000,9, -999.000,9,-999.0000,9,  -999.00,9,   -999.0,9,-999.000,9,  -999.00,9,   -999.0,0,   -999.0,9,   -999.0,9,  -999.00,9,  -999.0,-999.0000,-999.000,-999.000,  3.0128,-999.000,9
      06MT22_5,   A10,    75,  2,    312,2,19930121,1058,-29.7308,   1.1332, 3739,   1399.0,   2.9800,  34.6560,2,-999.0000,9,    190.2,2,    53.98,2,    31.83,9,     2.13,2, -999.000,9, -999.000,9, -999.000,9, -999.000,9,-999.0000,9,  -999.00,9,   -999.0,9,-999.000,9,  -999.00,9,   -999.0,0,   -999.0,9,   -999.0,9,  -999.00,9,  -999.0,-999.0000,-999.000,-999.000,  2.8802,-999.000,9
      06MT22_5,   A10,    75,  2,    311,2,19930121,1058,-29.7308,   1.1332, 3739,   1598.0,   2.9490,  34.7370,2,-999.0000,9,    199.7,2,    50.69,2,    29.81,9,     1.97,2, -999.000,9, -999.000,9, -999.000,9, -999.000,9,-999.0000,9,  -999.00,9,   -999.0,9,-999.000,9,  -999.00,9,   -999.0,0,   -999.0,9,   -999.0,9,  -999.00,9,  -999.0,-999.0000,-999.000,-999.000,  2.8330,-999.000,9
      06MT22_5,   A10,    75,  2,    310,2,19930121,1058,-29.7308,   1.1332, 3739,   1801.0,   2.8240,  34.7900,2,  34.7890,2,    211.3,2,    49.48,2,    28.06,9,     1.84,2, -999.000,9, -999.000,9, -999.000,9, -999.000,9,-999.0000,9,  -999.00,9,   -999.0,9,-999.000,9,  -999.00,9,   -999.0,0,   -999.0,9,   -999.0,9,  -999.00,9,  -999.0,-999.0000,-999.000,-999.000,  2.6922,-999.000,9
      06MT22_5,   A10,    75,  2,    309,2,19930121,1058,-29.7308,   1.1332, 3739,   2001.0,   2.6960,  34.8160,2,-999.0000,9,    218.4,2,    49.54,2,    26.94,9,     1.79,2, -999.000,9, -999.000,9, -999.000,9, -999.000,9,-999.0000,9,  -999.00,9,   -999.0,9,-999.000,9,  -999.00,9,   -999.0,0,   -999.0,9,   -999.0,9,  -999.00,9,  -999.0,-999.0000,-999.000,-999.000,  2.5482,-999.000,9
      06MT22_5,   A10,    75,  2,    308,2,19930121,1058,-29.7308,   1.1332, 3739,   2251.0,   2.5190,  34.8320,2,-999.0000,9,    225.4,2,    51.80,2,    26.23,9,     1.73,2, -999.000,9, -999.000,9, -999.000,9, -999.000,9,-999.0000,9,  -999.00,9,   -999.0,9,-999.000,9,  -999.00,9,   -999.0,0,   -999.0,9,   -999.0,9,  -999.00,9,  -999.0,-999.0000,-999.000,-999.000,  2.3515,-999.000,9
      06MT22_5,   A10,    75,  2,    307,2,19930121,1058,-29.7308,   1.1332, 3739,   2502.0,   2.4350,  34.8460,2,  34.8460,2,    229.7,2,    51.95,2,    25.59,9,     1.69,2, -999.000,9, -999.000,9, -999.000,9, -999.000,9,-999.0000,9,  -999.00,9,   -999.0,9,-999.000,9,  -999.00,9,   -999.0,0,   -999.0,9,   -999.0,9,  -999.00,9,  -999.0,-999.0000,-999.000,-999.000,  2.2457,-999.000,9
      06MT22_5,   A10,    75,  2,    305,2,19930121,1058,-29.7308,   1.1332, 3739,   2750.0,   2.3710,  34.8570,2,-999.0000,9,    233.3,2,    51.96,2,    25.14,9,     1.66,2, -999.000,9, -999.000,9, -999.000,9, -999.000,9,-999.0000,9,  -999.00,9,   -999.0,9,-999.000,9,  -999.00,9,   -999.0,0,   -999.0,9,   -999.0,9,  -999.00,9,  -999.0,-999.0000,-999.000,-999.000,  2.1590,-999.000,9
      06MT22_5,   A10,    75,  2,    304,2,19930121,1058,-29.7308,   1.1332, 3739,   3253.0,   2.3070,  34.8700,2,  34.8700,2,    236.5,2,    51.55,2,    24.69,9,     1.61,2,   -0.001,2,    0.000,2,    0.010,2, -999.000,9,-999.0000,9,  -999.00,9,   -999.0,9,-999.000,9,  -999.00,9,   -999.0,0,   -999.0,9,   -999.0,9,  -999.00,9,  -999.0,-999.0000,-999.000,-999.000,  2.0457,-999.000,9
      06MT22_5,   A10,    75,  2,    303,2,19930121,1058,-29.7308,   1.1332, 3739,   3504.0,   2.2900,  34.8760,2,-999.0000,9,    234.9,2,    52.68,2,    24.53,9,     1.61,2,   -0.001,2,    0.000,2,    0.009,2, -999.000,9,-999.0000,9,  -999.00,9,   -999.0,9,-999.000,9,  -999.00,9,   -999.0,0,   -999.0,9,   -999.0,9,  -999.00,9,  -999.0,-999.0000,-999.000,-999.000,  2.0026,-999.000,9
      06MT22_5,   A10,    75,  2,    301,2,19930121,1058,-29.7308,   1.1332, 3739,   3748.0,   2.3010,  34.8780,2,  34.8780,2,    234.0,2,    53.03,2,    24.57,9,     1.62,2,    0.001,2,   -0.001,2,    0.003,2, -999.000,9,-999.0000,9,  -999.00,9,   -999.0,9,-999.000,9,  -999.00,9,   -999.0,0,   -999.0,9,   -999.0,9,  -999.00,9,  -999.0,-999.0000,-999.000,-999.000,  1.9867,-999.000,9
      06MT22_5,   A10,    75,  2,    302,2,19930121,1058,-29.7308,   1.1332, 3739,   3752.0,   2.3010,  34.8790,2,-999.0000,9,    234.0,2,    52.79,2,    24.61,9,     1.61,2,    0.001,2,    0.000,2,    0.003,2, -999.000,9,-999.0000,9,  -999.00,9,   -999.0,9,-999.000,9,  -999.00,9,   -999.0,0,   -999.0,9,   -999.0,9,  -999.00,9,  -999.0,-999.0000,-999.000,-999.000,  1.9863,-999.000,9
      06MT22_5,   A10,    76,  1,    217,2,19930121,1641,-29.6038,   1.7007, 3665,     12.0,  23.9680,  35.9270,2,  35.9300,2,    217.3,2,     0.69,2,     0.06,9,     0.20,2, -999.000,9, -999.000,9, -999.000,9, -999.000,9,-999.0000,9,  -999.00,9,   -999.0,9,-999.000,9,  -999.00,9,   -999.0,9,   -999.0,9,   -999.0,9,  -999.00,9,  -999.0,-999.0000,-999.000,-999.000, 23.9655,-999.000,9
      06MT22_5,   A10,    76,  1,    208,2,19930121,1641,-29.6038,   1.7007, 3665,     12.0,  23.9670,  35.9280,2,-999.0000,9,   -999.0,9,  -999.00,9,  -999.00,9,  -999.00,9,    1.976,2,    1.107,2,    2.533,2,    0.859,2,   1.7007,5,    -1.12,3,   -999.0,9,   6.826,5,  -999.00,9,   2057.9,2,   -999.0,9,   -999.0,9,  -999.00,9,  -999.0,  0.0068,   0.250,   0.027, 23.9645,   0.023,9
      06MT22_5,   A10,    76,  1,    207,2,19930121,1641,-29.6038,   1.7007, 3665,     31.0,  22.5010,  35.8900,2,  35.8910,2,    229.2,2,     0.78,2,     0.13,9,     0.20,2,    2.152,2,    1.173,2,    2.547,2,    0.874,2,-999.0000,1,  -999.00,1,   -999.0,9,-999.000,1,  -999.00,9,   2064.7,2,   -999.0,9,   -999.0,9,  -999.00,9,  -999.0,-999.0000,-999.000,-999.000, 22.4948,   0.023,9
      06MT22_5,   A10,    76,  1,    206,2,19930121,1641,-29.6038,   1.7007, 3665,     52.0,  20.4760,  35.8610,2,-999.0000,9,    239.0,2,     1.11,2,     0.07,9,     0.20,2, -999.000,9, -999.000,9, -999.000,9,    0.907,2,   1.7146,2,    -1.04,2,   -999.0,9,   7.012,2,  -999.00,9,   2059.3,2,   -999.0,9,   -999.0,9,  -999.00,9,  -999.0,  0.0060,   0.250,   0.024, 20.4662,   0.024,9
      06MT22_5,   A10,    76,  1,    205,2,19930121,1641,-29.6038,   1.7007, 3665,     72.0,  19.1730,  35.7910,2,  35.7890,2,    244.8,2,     1.11,2,     0.05,9,     0.20,2,    2.428,2,    1.318,2,    2.563,2,    0.009,4,   1.7195,5,    -1.11,3,   -999.0,9,   7.046,5,  -999.00,9,   2056.5,2,   -999.0,9,   -999.0,9,  -999.00,9,  -999.0,  0.0069,   0.250,   0.028, 19.1600,   0.040,9
      06MT22_5,   A10,    76,  1,    204,2,19930121,1641,-29.6038,   1.7007, 3665,    101.0,  17.9910,  35.7260,2,-999.0000,9,    247.2,2,     1.53,2,     0.00,9,     0.20,2,    2.480,2,    1.337,2,    2.452,2, -999.000,9,-999.0000,9,  -999.00,9,   -999.0,9,-999.000,9,  -999.00,9,   2055.0,2,   -999.0,9,   -999.0,9,  -999.00,9,  -999.0,-999.0000,-999.000,-999.000, 17.9736,-999.000,9
      06MT22_5,   A10,    76,  1,    203,2,19930121,1641,-29.6038,   1.7007, 3665,    151.0,  15.7300,  35.4450,2,  35.4490,2,    217.4,2,     2.41,2,     4.53,9,     0.50,2, -999.000,9, -999.000,9, -999.000,9, -999.000,9,-999.0000,9,  -999.00,9,   -999.0,9,-999.000,9,  -999.00,9,   2082.8,2,   -999.0,9,   -999.0,9,  -999.00,9,  -999.0,-999.0000,-999.000,-999.000, 15.7063,-999.000,9
      06MT22_5,   A10,    76,  1,    202,2,19930121,1641,-29.6038,   1.7007, 3665,    201.0,  13.7710,  35.1920,2,-999.0000,9,    207.4,2,     3.42,2,     8.67,9,     0.71,2,    2.589,2,    1.367,2,    0.731,2, -999.000,9,-999.0000,9,  -999.00,9,   -999.0,9,-999.000,9,  -999.00,9,   2100.5,2,   -999.0,9,   -999.0,9,  -999.00,9,  -999.0,-999.0000,-999.000,-999.000, 13.7423,-999.000,9
      06MT22_5,   A10,    76,  1,    201,2,19930121,1641,-29.6038,   1.7007, 3665,    302.0,  11.7590,  34.9810,2,  34.9860,2,    198.7,2,     5.45,2,    14.01,9,     1.01,2, -999.000,9, -999.000,9, -999.000,9, -999.000,9,-999.0000,9,  -999.00,9,   -999.0,9,-999.000,9,  -999.00,9,   2121.0,2,   -999.0,9,   -999.0,9,  -999.00,9,  -999.0,-999.0000,-999.000,-999.000, 11.7200,-999.000,9