BOTTLE,20030417WHPSIOSA
EXPOCODE,SECT_ID,STNNBR,CASTNO,BTLNBR,BTLNBR_FLAG_W,DATE,TIME,LATITUDE,LONGITUDE,DEPTH,CTDPRS,CTDTMP,CTDSAL,CTDSAL_FLAG_W,SALNTY,SALNTY_FLAG_W,OXYGEN,OXYGEN_FLAG_W,SILCAT,SILCAT_FLAG_W,NO2+NO3,NO2+NO3_FLAG_W,PHSPHT,PHSPHT_FLAG_W,CFC-11,CFC-11_FLAG_W,CFC-12,CFC-12_FLAG_W,CCL4,CCL4_FLAG_W,TRITUM,TRITUM_FLAG_W,HELIUM,HELIUM_FLAG_W,DELHE3,DELHE3_FLAG_W,DELC14,DELC14_FLAG_W,NEON,NEON_FLAG_W,O18O16,O18O16_FLAG_W,TCARBN,TCARBN_FLAG_W,PCO2,PCO2_FLAG_W,ALKALI,ALKALI_FLAG_W,PH,PH_FLAG_W,C14ERR,HELIER,DELHER,NEONER,THETA,TRITER,TRITER_FLAG_W
,,,,,,,,,,,DBAR,ITS-90,PSS-78,,PSS-78,,UMOL/KG,,UMOL/KG,,UMOL/KG,,UMOL/KG,,PMOL/KG,,PMOL/KG,,PMOL/KG,,TU,,NMOL/KG,,PERCNT,,/MILLE,,NMOL/KG,,MILLE,,UMOL/KG,,UATM,,UMOL/KG,,,,/MILLE,NMOL/KG,PERCNT,NMOL/KG,ITS-90,TU,
      06MT22_5,   A10,    95,  1,    323,2,19930127,2036,-29.1350,  13.3917, 2695,     11.0,  20.8500,  35.3370,2,  35.3440,2,    226.7,2,     1.51,2,     0.01,9,     0.17,2,    2.190,2,    1.212,2,    2.659,2, -999.000,9,-999.0000,1,  -999.00,1,   -999.0,9,-999.000,1,  -999.00,9,   2024.0,2,   -999.0,9,   -999.0,9,  -999.00,9,  -999.0,-999.0000,-999.000,-999.000, 20.8479,-999.000,9
      06MT22_5,   A10,    95,  1,    322,2,19930127,2036,-29.1350,  13.3917, 2695,     30.0,  20.8480,  35.3380,2,  35.3460,2,    227.6,2,     1.55,2,     0.01,9,     0.17,2,    2.157,2,    1.182,2,    2.650,2,   -0.028,4,   1.6918,2,    -1.34,2,   -999.0,9,   6.876,2,  -999.00,9,   2023.9,2,   -999.0,9,   -999.0,9,  -999.00,9,  -999.0,  0.0059,   0.250,   0.024, 20.8423,   0.005,9
      06MT22_5,   A10,    95,  1,    321,2,19930127,2036,-29.1350,  13.3917, 2695,     50.0,  20.3790,  35.4400,2,-999.0000,9,    227.2,2,     1.50,2,     0.02,9,     0.16,2,    2.153,2,    1.187,2,    2.617,2, -999.000,9,   1.7605,4,    -2.03,3,   -999.0,9,   6.948,4,  -999.00,9,   2023.5,2,   -999.0,9,   -999.0,9,  -999.00,9,  -999.0,  0.0062,   0.250,   0.024, 20.3697,-999.000,9
      06MT22_5,   A10,    95,  1,    399,2,19930127,2036,-29.1350,  13.3917, 2695,     71.0,  16.5820,  35.4720,2,-999.0000,9,   -999.0,9,  -999.00,9,  -999.00,9,  -999.00,9, -999.000,9, -999.000,9, -999.000,9, -999.000,9,-999.0000,9,  -999.00,9,   -999.0,9,-999.000,9,  -999.00,9,   -999.0,0,   -999.0,9,   -999.0,9,  -999.00,9,  -999.0,-999.0000,-999.000,-999.000, 16.5706,-999.000,9
      06MT22_5,   A10,    95,  1,    320,2,19930127,2036,-29.1350,  13.3917, 2695,    100.0,  15.0980,  35.3800,2,-999.0000,9,    229.2,2,     2.56,2,     4.99,9,     0.44,2,    2.616,2,    1.399,2,    1.580,2, -999.000,9,   1.7181,5,    -0.85,3,   -999.0,9,   7.157,5,  -999.00,9,   2060.4,2,   -999.0,9,   -999.0,9,  -999.00,9,  -999.0,  0.0069,   0.250,   0.029, 15.0829,-999.000,9
      06MT22_5,   A10,    95,  1,    319,2,19930127,2036,-29.1350,  13.3917, 2695,    150.0,  13.4690,  35.1820,2,-999.0000,9,    225.2,2,     3.31,2,     8.08,9,     0.63,2, -999.000,9, -999.000,9, -999.000,9, -999.000,9,   1.7270,2,    -0.45,2,   -999.0,9,   7.249,2,  -999.00,9,   2090.6,2,   -999.0,9,   -999.0,9,  -999.00,9,  -999.0,  0.0060,   0.250,   0.025, 13.4480,-999.000,9
      06MT22_5,   A10,    95,  1,    318,2,19930127,2036,-29.1350,  13.3917, 2695,    200.0,  12.1210,  35.0260,2,-999.0000,9,    216.1,2,     4.90,2,    12.04,9,     0.87,2,    2.392,2,    1.253,2,    1.358,2, -999.000,9,   1.7369,2,     0.32,2,   -999.0,9,   7.315,2,  -999.00,9,   2107.8,2,   -999.0,9,   -999.0,9,  -999.00,9,  -999.0,  0.0061,   0.250,   0.026, 12.0948,-999.000,9
      06MT22_5,   A10,    95,  1,    317,2,19930127,2036,-29.1350,  13.3917, 2695,    300.0,   9.8760,  34.7750,2,-999.0000,9,    187.7,2,     9.74,2,    19.96,9,     1.39,2,    1.924,2,    0.983,2,    1.252,2,   -0.029,4,   1.7422,5,     2.23,3,   -999.0,9,   7.445,5,  -999.00,9,   2147.4,2,   -999.0,9,   -999.0,9,  -999.00,9,  -999.0,  0.0070,   0.250,   0.030,  9.8415,   0.005,9
      06MT22_5,   A10,    95,  1,    316,2,19930127,2036,-29.1350,  13.3917, 2695,    400.0,   8.0020,  34.5890,2,  34.5820,2,    198.6,2,    13.20,2,    23.61,9,     1.61,2,    1.754,2,    0.895,2,    1.636,2, -999.000,9,   1.7502,2,     1.67,2,   -999.0,9,   7.523,2,  -999.00,9,   2154.0,2,   -999.0,9,   -999.0,9,  -999.00,9,  -999.0,  0.0061,   0.250,   0.026,  7.9612,-999.000,9
      06MT22_5,   A10,    95,  1,    315,2,19930127,2036,-29.1350,  13.3917, 2695,    500.0,   6.5150,  34.4580,2,-999.0000,9,    207.6,2,    18.29,2,    26.82,9,     1.83,2,    1.590,2,    0.778,2,    2.031,2,   -0.024,4,-999.0000,1,  -999.00,1,   -999.0,9,-999.000,1,  -999.00,9,   2164.7,2,   -999.0,9,   -999.0,9,  -999.00,9,  -999.0,-999.0000,-999.000,-999.000,  6.4694,   0.004,9
      06MT22_5,   A10,    95,  1,    314,2,19930127,2036,-29.1350,  13.3917, 2695,    600.0,   5.0300,  34.3550,2,-999.0000,9,    217.0,2,    24.50,2,    29.39,9,     1.97,2,    1.501,2,    0.716,2,    2.352,2, -999.000,9,   1.7766,2,     1.97,2,   -999.0,9,   7.741,2,  -999.00,9,   2175.0,2,   -999.0,9,   -999.0,9,  -999.00,9,  -999.0,  0.0062,   0.250,   0.027,  4.9816,-999.000,9
      06MT22_5,   A10,    95,  1,    313,2,19930127,2036,-29.1350,  13.3917, 2695,    699.0,   4.3120,  34.3690,2,-999.0000,9,    207.2,2,    34.46,2,    31.61,9,     2.14,2,    1.078,2,    0.509,2,    1.925,2,    0.106,2,   1.7846,5,     3.47,3,   -999.0,9,   7.786,5,  -999.00,9,   2193.0,2,   -999.0,9,   -999.0,9,  -999.00,9,  -999.0,  0.0071,   0.250,   0.031,  4.2590,   0.028,9
      06MT22_5,   A10,    95,  1,    312,2,19930127,2036,-29.1350,  13.3917, 2695,    849.0,   3.5360,  34.4100,2,-999.0000,9,    192.8,2,    46.56,2,    33.73,9,     2.27,2,    0.575,2,    0.268,2,    1.250,2, -999.000,9,-999.0000,1,  -999.00,1,   -999.0,9,-999.000,1,  -999.00,9,   2215.4,2,   -999.0,9,   -999.0,9,  -999.00,9,  -999.0,-999.0000,-999.000,-999.000,  3.4758,-999.000,9
      06MT22_5,   A10,    95,  1,    311,2,19930127,2036,-29.1350,  13.3917, 2695,    999.0,   3.2200,  34.4990,2,  34.5040,2,    181.0,2,    54.12,2,    34.25,9,     2.31,2,    0.184,2,    0.091,2,    0.601,2,    0.206,4,   1.8016,2,     6.21,2,   -999.0,9,   7.860,2,  -999.00,9,   2228.0,2,   -999.0,9,   -999.0,9,  -999.00,9,  -999.0,  0.0063,   0.250,   0.027,  3.1505,   0.246,9
      06MT22_5,   A10,    95,  1,    310,2,19930127,2036,-29.1350,  13.3917, 2695,   1199.0,   3.0590,  34.6210,2,-999.0000,9,    182.1,2,    54.62,2,    32.72,9,     2.22,2,    0.040,2,    0.019,2,    0.218,2, -999.000,9,-999.0000,1,  -999.00,1,   -999.0,9,-999.000,1,  -999.00,9,   2229.6,2,   -999.0,9,   -999.0,9,  -999.00,9,  -999.0,-999.0000,-999.000,-999.000,  2.9745,-999.000,9
      06MT22_5,   A10,    95,  1,    309,2,19930127,2036,-29.1350,  13.3917, 2695,   1394.0,   3.1380,  34.7360,2,-999.0000,9,    194.8,2,    47.33,2,    29.80,9,     2.00,2,    0.008,2,    0.000,2,    0.072,2, -999.000,9,-999.0000,1,  -999.00,1,   -999.0,9,-999.000,1,  -999.00,9,   2216.6,2,   -999.0,9,   -999.0,9,  -999.00,9,  -999.0,-999.0000,-999.000,-999.000,  3.0368,-999.000,9
      06MT22_5,   A10,    95,  1,    308,2,19930127,2036,-29.1350,  13.3917, 2695,   1599.0,   3.1650,  34.8200,2,-999.0000,9,    211.1,2,    40.66,2,    27.17,9,     1.80,2,    0.003,2,    0.000,2,    0.024,2, -999.000,9,   1.8145,5,     4.63,3,   -999.0,9,   7.925,5,  -999.00,9,   2203.3,2,   -999.0,9,   -999.0,9,  -999.00,9,  -999.0,  0.0073,   0.250,   0.032,  3.0461,-999.000,9
      06MT22_5,   A10,    95,  1,    307,2,19930127,2036,-29.1350,  13.3917, 2695,   1800.0,   3.0710,  34.8480,2,-999.0000,9,    219.8,2,    39.88,2,    26.09,9,     1.71,2,    0.003,2,   -0.001,2,    0.015,2, -999.000,9,   1.8100,2,     4.28,2,   -999.0,9,   7.899,2,  -999.00,9,   2197.8,2,   -999.0,9,   -999.0,9,  -999.00,9,  -999.0,  0.0063,   0.250,   0.028,  2.9357,-999.000,9
      06MT22_5,   A10,    95,  1,    306,2,19930127,2036,-29.1350,  13.3917, 2695,   2000.0,   2.9690,  34.8600,2,  34.8630,2,    225.3,2,    40.88,2,    25.36,9,     1.69,2,    0.002,2,   -0.001,2,    0.012,2, -999.000,9,   1.8239,2,     4.96,2,   -999.0,9,   7.941,2,  -999.00,9,   2196.8,2,   -999.0,9,   -999.0,9,  -999.00,9,  -999.0,  0.0064,   0.250,   0.028,  2.8172,-999.000,9
      06MT22_5,   A10,    95,  1,    305,2,19930127,2036,-29.1350,  13.3917, 2695,   2251.0,   2.8400,  34.8710,2,-999.0000,9,    228.3,2,    42.14,2,    24.87,9,     1.62,2,    0.001,2,   -0.001,2,    0.003,2, -999.000,9,   1.8118,2,     5.10,2,   -999.0,9,   7.920,2,  -999.00,9,   2197.4,2,   -999.0,9,   -999.0,9,  -999.00,9,  -999.0,  0.0063,   0.250,   0.028,  2.6670,-999.000,9
      06MT22_5,   A10,    95,  1,    304,2,19930127,2036,-29.1350,  13.3917, 2695,   2520.0,   2.5770,  34.8710,2,-999.0000,9,    231.9,2,    47.03,2,    24.61,9,     1.61,2,    0.001,2,   -0.001,2,    0.003,2, -999.000,9,   1.6717,3,    -0.60,3,   -999.0,9,   6.810,3,  -999.00,9,   2200.2,2,   -999.0,9,   -999.0,9,  -999.00,9,  -999.0,  0.0059,   0.250,   0.024,  2.3832,-999.000,9
      06MT22_5,   A10,    95,  1,    303,2,19930127,2036,-29.1350,  13.3917, 2695,   2603.0,   2.5590,  34.8710,2,-999.0000,9,    230.9,2,    47.71,2,    24.57,9,     1.61,2,    0.000,2,    0.000,2,    0.003,2, -999.000,9,-999.0000,1,  -999.00,1,   -999.0,9,-999.000,1,  -999.00,9,   2201.8,2,   -999.0,9,   -999.0,9,  -999.00,9,  -999.0,-999.0000,-999.000,-999.000,  2.3576,-999.000,9
      06MT22_5,   A10,    95,  1,    301,2,19930127,2036,-29.1350,  13.3917, 2695,   2682.0,   2.5240,  34.8710,2,-999.0000,9,    231.8,2,    48.48,2,    24.54,9,     1.60,2, -999.000,9, -999.000,9, -999.000,9, -999.000,9,   1.8082,2,     4.58,2,   -999.0,9,   7.954,2,  -999.00,9,   2202.7,2,   -999.0,9,   -999.0,9,  -999.00,9,  -999.0,  0.0063,   0.250,   0.028,  2.3130,-999.000,9
      06MT22_5,   A10,    95,  1,    302,2,19930127,2036,-29.1350,  13.3917, 2695,   2687.0,   2.5230,  34.8700,2,  34.8750,2,   -999.0,9,  -999.00,9,  -999.00,9,  -999.00,9, -999.000,9, -999.000,9, -999.000,9, -999.000,9,   1.8132,5,     4.76,3,   -999.0,9,   7.966,5,  -999.00,9,   -999.0,0,   -999.0,9,   -999.0,9,  -999.00,9,  -999.0,  0.0136,   0.500,   0.060,  2.3141,-999.000,9
      06MT22_5,   A10,    96,  1,    324,2,19930128,0140,-29.0117,  13.7017, 2206,     12.0,  21.1370,  35.4770,2,-999.0000,9,   -999.0,9,  -999.00,9,  -999.00,9,  -999.00,9, -999.000,9, -999.000,9, -999.000,9, -999.000,9,-999.0000,9,  -999.00,9,   -999.0,9,-999.000,9,  -999.00,9,   -999.0,0,   -999.0,9,   -999.0,9,  -999.00,9,  -999.0,-999.0000,-999.000,-999.000, 21.1347,-999.000,9
      06MT22_5,   A10,    96,  1,    323,2,19930128,0140,-29.0117,  13.7017, 2206,     12.0,  21.1360,  35.4770,2,  35.4850,2,   -999.0,9,  -999.00,9,  -999.00,9,  -999.00,9, -999.000,9, -999.000,9, -999.000,9, -999.000,9,-999.0000,9,  -999.00,9,   -999.0,9,-999.000,9,  -999.00,9,   -999.0,0,   -999.0,9,   -999.0,9,  -999.00,9,  -999.0,-999.0000,-999.000,-999.000, 21.1337,-999.000,9
      06MT22_5,   A10,    96,  1,    322,2,19930128,0140,-29.0117,  13.7017, 2206,     12.0,  21.1340,  35.4770,2,-999.0000,9,    225.3,2,     1.36,2,     0.02,9,     0.15,2, -999.000,9, -999.000,9, -999.000,9, -999.000,9,-999.0000,9,  -999.00,9,   -999.0,9,-999.000,9,  -999.00,9,   -999.0,0,   -999.0,9,   -999.0,9,  -999.00,9,  -999.0,-999.0000,-999.000,-999.000, 21.1317,-999.000,9
      06MT22_5,   A10,    96,  1,    321,2,19930128,0140,-29.0117,  13.7017, 2206,     30.0,  21.1310,  35.4790,2,-999.0000,9,    226.3,2,     1.42,2,     0.00,9,     0.13,2, -999.000,9, -999.000,9, -999.000,9, -999.000,9,-999.0000,9,  -999.00,9,   -999.0,9,-999.000,9,  -999.00,9,   -999.0,0,   -999.0,9,   -999.0,9,  -999.00,9,  -999.0,-999.0000,-999.000,-999.000, 21.1252,-999.000,9
      06MT22_5,   A10,    96,  1,    320,2,19930128,0140,-29.0117,  13.7017, 2206,     49.0,  20.0150,  35.5020,2,  35.5060,2,    235.9,2,     1.36,2,     0.02,9,     0.15,2, -999.000,9, -999.000,9, -999.000,9, -999.000,9,-999.0000,9,  -999.00,9,   -999.0,9,-999.000,9,  -999.00,9,   -999.0,0,   -999.0,9,   -999.0,9,  -999.00,9,  -999.0,-999.0000,-999.000,-999.000, 20.0059,-999.000,9
      06MT22_5,   A10,    96,  1,    319,2,19930128,0140,-29.0117,  13.7017, 2206,     70.0,  17.3690,  35.4740,2,-999.0000,9,    242.4,2,     1.60,2,     0.72,9,     0.21,2, -999.000,9, -999.000,9, -999.000,9, -999.000,9,-999.0000,9,  -999.00,9,   -999.0,9,-999.000,9,  -999.00,9,   -999.0,0,   -999.0,9,   -999.0,9,  -999.00,9,  -999.0,-999.0000,-999.000,-999.000, 17.3573,-999.000,9
      06MT22_5,   A10,    96,  1,    318,2,19930128,0140,-29.0117,  13.7017, 2206,     99.0,  15.7030,  35.4190,2,-999.0000,9,    236.1,2,     2.28,2,     3.16,9,     0.35,2, -999.000,9, -999.000,9, -999.000,9, -999.000,9,-999.0000,9,  -999.00,9,   -999.0,9,-999.000,9,  -999.00,9,   -999.0,0,   -999.0,9,   -999.0,9,  -999.00,9,  -999.0,-999.0000,-999.000,-999.000, 15.6875,-999.000,9
      06MT22_5,   A10,    96,  1,    317,2,19930128,0140,-29.0117,  13.7017, 2206,    149.0,  13.9900,  35.2510,2,  35.2550,2,    225.8,2,     3.00,2,     6.88,9,     0.58,2, -999.000,9, -999.000,9, -999.000,9, -999.000,9,-999.0000,9,  -999.00,9,   -999.0,9,-999.000,9,  -999.00,9,   -999.0,0,   -999.0,9,   -999.0,9,  -999.00,9,  -999.0,-999.0000,-999.000,-999.000, 13.9685,-999.000,9
      06MT22_5,   A10,    96,  1,    316,2,19930128,0140,-29.0117,  13.7017, 2206,    199.0,  12.5520,  35.0870,2,-999.0000,9,    208.0,2,     5.37,2,    12.15,9,     0.87,2, -999.000,9, -999.000,9, -999.000,9, -999.000,9,-999.0000,9,  -999.00,9,   -999.0,9,-999.000,9,  -999.00,9,   -999.0,0,   -999.0,9,   -999.0,9,  -999.00,9,  -999.0,-999.0000,-999.000,-999.000, 12.5254,-999.000,9
      06MT22_5,   A10,    96,  1,    315,2,19930128,0140,-29.0117,  13.7017, 2206,    300.0,   9.6960,  34.7510,2,-999.0000,9,    198.5,2,     9.65,2,    19.09,9,     1.33,2, -999.000,9, -999.000,9, -999.000,9, -999.000,9,-999.0000,9,  -999.00,9,   -999.0,9,-999.000,9,  -999.00,9,   -999.0,0,   -999.0,9,   -999.0,9,  -999.00,9,  -999.0,-999.0000,-999.000,-999.000,  9.6619,-999.000,9
      06MT22_5,   A10,    96,  1,    314,2,19930128,0140,-29.0117,  13.7017, 2206,    399.0,   7.7790,  34.5630,2,  34.5680,2,    192.1,2,    14.53,2,    24.55,9,     1.67,2, -999.000,9, -999.000,9, -999.000,9, -999.000,9,-999.0000,9,  -999.00,9,   -999.0,9,-999.000,9,  -999.00,9,   -999.0,0,   -999.0,9,   -999.0,9,  -999.00,9,  -999.0,-999.0000,-999.000,-999.000,  7.7390,-999.000,9
      06MT22_5,   A10,    96,  1,    313,2,19930128,0140,-29.0117,  13.7017, 2206,    499.0,   6.0030,  34.4060,2,-999.0000,9,    213.7,2,    18.06,2,    27.38,9,     1.82,2, -999.000,9, -999.000,9, -999.000,9, -999.000,9,-999.0000,9,  -999.00,9,   -999.0,9,-999.000,9,  -999.00,9,   -999.0,0,   -999.0,9,   -999.0,9,  -999.00,9,  -999.0,-999.0000,-999.000,-999.000,  5.9595,-999.000,9
      06MT22_5,   A10,    96,  1,    312,2,19930128,0140,-29.0117,  13.7017, 2206,    600.0,   4.7700,  34.3240,2,-999.0000,9,    222.7,2,    22.97,2,    29.42,9,     1.94,2, -999.000,9, -999.000,9, -999.000,9, -999.000,9,-999.0000,9,  -999.00,9,   -999.0,9,-999.000,9,  -999.00,9,   -999.0,0,   -999.0,9,   -999.0,9,  -999.00,9,  -999.0,-999.0000,-999.000,-999.000,  4.7230,-999.000,9
      06MT22_5,   A10,    96,  1,    311,2,19930128,0140,-29.0117,  13.7017, 2206,    699.0,   4.1530,  34.3280,2,  34.3340,2,    216.4,2,    30.35,2,    31.25,9,     2.07,2, -999.000,9, -999.000,9, -999.000,9, -999.000,9,-999.0000,9,  -999.00,9,   -999.0,9,-999.000,9,  -999.00,9,   -999.0,0,   -999.0,9,   -999.0,9,  -999.00,9,  -999.0,-999.0000,-999.000,-999.000,  4.1011,-999.000,9
      06MT22_5,   A10,    96,  1,    310,2,19930128,0140,-29.0117,  13.7017, 2206,    849.0,   3.5640,  34.4090,2,-999.0000,9,    191.8,2,    44.95,2,    33.74,9,     2.25,2, -999.000,9, -999.000,9, -999.000,9, -999.000,9,-999.0000,9,  -999.00,9,   -999.0,9,-999.000,9,  -999.00,9,   -999.0,0,   -999.0,9,   -999.0,9,  -999.00,9,  -999.0,-999.0000,-999.000,-999.000,  3.5034,-999.000,9
      06MT22_5,   A10,    96,  1,    309,2,19930128,0140,-29.0117,  13.7017, 2206,    999.0,   3.1490,  34.4930,2,-999.0000,9,    181.7,2,    56.80,2,    34.11,9,     2.30,2, -999.000,9, -999.000,9, -999.000,9, -999.000,9,-999.0000,9,  -999.00,9,   -999.0,9,-999.000,9,  -999.00,9,   -999.0,0,   -999.0,9,   -999.0,9,  -999.00,9,  -999.0,-999.0000,-999.000,-999.000,  3.0798,-999.000,9
      06MT22_5,   A10,    96,  1,    308,2,19930128,0140,-29.0117,  13.7017, 2206,   1198.0,   3.1580,  34.6480,2,  34.6520,2,    185.3,2,    50.81,2,    32.13,9,     2.12,2, -999.000,9, -999.000,9, -999.000,9, -999.000,9,-999.0000,9,  -999.00,9,   -999.0,9,-999.000,9,  -999.00,9,   -999.0,0,   -999.0,9,   -999.0,9,  -999.00,9,  -999.0,-999.0000,-999.000,-999.000,  3.0730,-999.000,9
      06MT22_5,   A10,    96,  1,    307,2,19930128,0140,-29.0117,  13.7017, 2206,   1399.0,   3.1720,  34.7460,2,-999.0000,9,    196.5,2,    45.44,2,    29.35,9,     1.93,2, -999.000,9, -999.000,9, -999.000,9, -999.000,9,-999.0000,9,  -999.00,9,   -999.0,9,-999.000,9,  -999.00,9,   -999.0,0,   -999.0,9,   -999.0,9,  -999.00,9,  -999.0,-999.0000,-999.000,-999.000,  3.0700,-999.000,9
      06MT22_5,   A10,    96,  1,    306,2,19930128,0140,-29.0117,  13.7017, 2206,   1600.0,   3.1350,  34.8100,2,-999.0000,9,    210.0,2,    41.81,2,    27.54,9,     1.80,2, -999.000,9, -999.000,9, -999.000,9, -999.000,9,-999.0000,9,  -999.00,9,   -999.0,9,-999.000,9,  -999.00,9,   -999.0,0,   -999.0,9,   -999.0,9,  -999.00,9,  -999.0,-999.0000,-999.000,-999.000,  3.0164,-999.000,9
      06MT22_5,   A10,    96,  1,    305,2,19930128,0140,-29.0117,  13.7017, 2206,   1800.0,   3.0640,  34.8510,2,  34.8550,2,    221.0,2,    39.56,2,    25.81,9,     1.69,2, -999.000,9, -999.000,9, -999.000,9, -999.000,9,-999.0000,9,  -999.00,9,   -999.0,9,-999.000,9,  -999.00,9,   -999.0,0,   -999.0,9,   -999.0,9,  -999.00,9,  -999.0,-999.0000,-999.000,-999.000,  2.9288,-999.000,9
      06MT22_5,   A10,    96,  1,    304,2,19930128,0140,-29.0117,  13.7017, 2206,   1998.0,   2.9650,  34.8680,2,-999.0000,9,    224.4,2,    39.99,2,    25.00,9,     1.65,2, -999.000,9, -999.000,9, -999.000,9, -999.000,9,-999.0000,9,  -999.00,9,   -999.0,9,-999.000,9,  -999.00,9,   -999.0,0,   -999.0,9,   -999.0,9,  -999.00,9,  -999.0,-999.0000,-999.000,-999.000,  2.8134,-999.000,9
      06MT22_5,   A10,    96,  1,    303,2,19930128,0140,-29.0117,  13.7017, 2206,   2069.0,   2.9200,  34.8720,2,-999.0000,9,    225.4,2,    40.73,2,    24.78,9,     1.63,2, -999.000,9, -999.000,9, -999.000,9, -999.000,9,-999.0000,9,  -999.00,9,   -999.0,9,-999.000,9,  -999.00,9,   -999.0,0,   -999.0,9,   -999.0,9,  -999.00,9,  -999.0,-999.0000,-999.000,-999.000,  2.7626,-999.000,9
      06MT22_5,   A10,    96,  1,    301,2,19930128,0140,-29.0117,  13.7017, 2206,   2146.0,   2.8630,  34.8730,2,-999.0000,9,    227.3,2,    41.71,2,    24.53,9,     1.63,2, -999.000,9, -999.000,9, -999.000,9, -999.000,9,-999.0000,9,  -999.00,9,   -999.0,9,-999.000,9,  -999.00,9,   -999.0,0,   -999.0,9,   -999.0,9,  -999.00,9,  -999.0,-999.0000,-999.000,-999.000,  2.6977,-999.000,9
      06MT22_5,   A10,    96,  1,    302,2,19930128,0140,-29.0117,  13.7017, 2206,   2149.0,   2.8630,  34.8720,2,  34.8760,2,   -999.0,9,  -999.00,9,  -999.00,9,  -999.00,9, -999.000,9, -999.000,9, -999.000,9, -999.000,9,-999.0000,9,  -999.00,9,   -999.0,9,-999.000,9,  -999.00,9,   -999.0,0,   -999.0,9,   -999.0,9,  -999.00,9,  -999.0,-999.0000,-999.000,-999.000,  2.6991,-999.000,9