BOTTLE,20030417WHPSIOSA
EXPOCODE,SECT_ID,STNNBR,CASTNO,BTLNBR,BTLNBR_FLAG_W,DATE,TIME,LATITUDE,LONGITUDE,DEPTH,CTDPRS,CTDTMP,CTDSAL,CTDSAL_FLAG_W,SALNTY,SALNTY_FLAG_W,OXYGEN,OXYGEN_FLAG_W,SILCAT,SILCAT_FLAG_W,NO2+NO3,NO2+NO3_FLAG_W,PHSPHT,PHSPHT_FLAG_W,CFC-11,CFC-11_FLAG_W,CFC-12,CFC-12_FLAG_W,CCL4,CCL4_FLAG_W,TRITUM,TRITUM_FLAG_W,HELIUM,HELIUM_FLAG_W,DELHE3,DELHE3_FLAG_W,DELC14,DELC14_FLAG_W,NEON,NEON_FLAG_W,O18O16,O18O16_FLAG_W,TCARBN,TCARBN_FLAG_W,PCO2,PCO2_FLAG_W,ALKALI,ALKALI_FLAG_W,PH,PH_FLAG_W,C14ERR,HELIER,DELHER,NEONER,THETA,TRITER,TRITER_FLAG_W
,,,,,,,,,,,DBAR,ITS-90,PSS-78,,PSS-78,,UMOL/KG,,UMOL/KG,,UMOL/KG,,UMOL/KG,,PMOL/KG,,PMOL/KG,,PMOL/KG,,TU,,NMOL/KG,,PERCNT,,/MILLE,,NMOL/KG,,MILLE,,UMOL/KG,,UATM,,UMOL/KG,,,,/MILLE,NMOL/KG,PERCNT,NMOL/KG,ITS-90,TU,
      06MT22_5,   A10,     6,  2,    324,2,19930102,1720,-29.4217, -41.7367, 3874,     10.0,  21.7260,  36.1870,2,  36.1880,2,   -999.0,9,  -999.00,9,  -999.00,9,  -999.00,9, -999.000,9, -999.000,9, -999.000,9, -999.000,9,-999.0000,9,  -999.00,9,   -999.0,9,-999.000,9,  -999.00,9,   2047.5,2,   -999.0,9,   -999.0,9,  -999.00,9,  -999.0,-999.0000,-999.000,-999.000, 21.7240,-999.000,9
      06MT22_5,   A10,     6,  2,    323,2,19930102,1720,-29.4217, -41.7367, 3874,    299.0,  15.8910,  35.7080,2,-999.0000,9,    217.1,2,     1.36,2,     4.94,9,     0.40,2, -999.000,9, -999.000,9, -999.000,9, -999.000,9,-999.0000,9,  -999.00,9,   -999.0,9,-999.000,9,  -999.00,9,   2084.1,2,   -999.0,9,   -999.0,9,  -999.00,9,  -999.0,-999.0000,-999.000,-999.000, 15.8437,-999.000,9
      06MT22_5,   A10,     6,  2,    322,2,19930102,1720,-29.4217, -41.7367, 3874,    399.0,  13.9560,  35.3740,2,-999.0000,9,    212.1,2,     2.89,2,     9.00,9,     0.61,2, -999.000,9, -999.000,9, -999.000,9, -999.000,9,-999.0000,9,  -999.00,9,   -999.0,9,-999.000,9,  -999.00,9,   2097.3,2,   -999.0,9,   -999.0,9,  -999.00,9,  -999.0,-999.0000,-999.000,-999.000, 13.8980,-999.000,9
      06MT22_5,   A10,     6,  2,    321,2,19930102,1720,-29.4217, -41.7367, 3874,    500.0,  12.2600,  35.1200,2,  35.1200,2,    209.3,2,     3.82,2,    12.79,9,     0.89,2, -999.000,9, -999.000,9, -999.000,9, -999.000,9,-999.0000,9,  -999.00,9,   -999.0,9,-999.000,9,  -999.00,9,   2110.6,2,   -999.0,9,   -999.0,9,  -999.00,9,  -999.0,-999.0000,-999.000,-999.000, 12.1930,-999.000,9
      06MT22_5,   A10,     6,  2,    320,2,19930102,1720,-29.4217, -41.7367, 3874,    599.0,   9.9780,  34.8140,2,-999.0000,9,    207.8,2,     6.65,2,    18.50,9,     1.21,2, -999.000,9, -999.000,9, -999.000,9, -999.000,9,-999.0000,9,  -999.00,9,   -999.0,9,-999.000,9,  -999.00,9,   2128.9,2,   -999.0,9,   -999.0,9,  -999.00,9,  -999.0,-999.0000,-999.000,-999.000,  9.9078,-999.000,9
      06MT22_5,   A10,     6,  2,    319,2,19930102,1720,-29.4217, -41.7367, 3874,    700.0,   7.6810,  34.5480,2,-999.0000,9,    214.8,2,     9.96,2,    23.68,9,     1.64,2, -999.000,9, -999.000,9, -999.000,9, -999.000,9,-999.0000,9,  -999.00,9,   -999.0,9,-999.000,9,  -999.00,9,   2128.8,2,   -999.0,9,   -999.0,9,  -999.00,9,  -999.0,-999.0000,-999.000,-999.000,  7.6102,-999.000,9
      06MT22_5,   A10,     6,  2,    318,2,19930102,1720,-29.4217, -41.7367, 3874,    850.0,   5.2650,  34.3240,2,  34.3200,2,    234.4,2,    15.66,2,    27.94,9,     1.96,2, -999.000,9, -999.000,9, -999.000,9, -999.000,9,-999.0000,9,  -999.00,9,   -999.0,9,-999.000,9,  -999.00,9,   2156.3,2,   -999.0,9,   -999.0,9,  -999.00,9,  -999.0,-999.0000,-999.000,-999.000,  5.1936,-999.000,9
      06MT22_5,   A10,     6,  2,    317,2,19930102,1720,-29.4217, -41.7367, 3874,    998.0,   4.1150,  34.2880,2,-999.0000,9,    229.5,2,    24.37,2,    30.67,9,     2.17,2, -999.000,9, -999.000,9, -999.000,9, -999.000,9,-999.0000,9,  -999.00,9,   -999.0,9,-999.000,9,  -999.00,9,   2174.3,2,   -999.0,9,   -999.0,9,  -999.00,9,  -999.0,-999.0000,-999.000,-999.000,  4.0386,-999.000,9
      06MT22_5,   A10,     6,  2,    316,2,19930102,1720,-29.4217, -41.7367, 3874,   1200.0,   3.2550,  34.3680,2,-999.0000,9,    207.1,2,    40.63,2,    33.43,9,     2.40,2, -999.000,9, -999.000,9, -999.000,9, -999.000,9,-999.0000,9,  -999.00,9,   -999.0,9,-999.000,9,  -999.00,9,   2205.4,2,   -999.0,9,   -999.0,9,  -999.00,9,  -999.0,-999.0000,-999.000,-999.000,  3.1692,-999.000,9
      06MT22_5,   A10,     6,  2,    315,2,19930102,1720,-29.4217, -41.7367, 3874,   1399.0,   2.9910,  34.5330,2,  34.5320,2,    191.2,2,    51.59,2,    33.34,9,     2.39,2, -999.000,9, -999.000,9, -999.000,9, -999.000,9,-999.0000,9,  -999.00,9,   -999.0,9,-999.000,9,  -999.00,9,   2223.6,2,   -999.0,9,   -999.0,9,  -999.00,9,  -999.0,-999.0000,-999.000,-999.000,  2.8917,-999.000,9
      06MT22_5,   A10,     6,  2,    314,2,19930102,1720,-29.4217, -41.7367, 3874,   1600.0,   2.9140,  34.6360,2,-999.0000,9,    194.2,2,    52.81,2,    32.00,9,     2.29,2, -999.000,9, -999.000,9, -999.000,9, -999.000,9,-999.0000,9,  -999.00,9,   -999.0,9,-999.000,9,  -999.00,9,   2221.6,2,   -999.0,9,   -999.0,9,  -999.00,9,  -999.0,-999.0000,-999.000,-999.000,  2.7981,-999.000,9
      06MT22_5,   A10,     6,  2,    313,2,19930102,1720,-29.4217, -41.7367, 3874,   1798.0,   2.9290,  34.7430,2,-999.0000,9,    207.1,2,    49.34,2,    29.33,9,     2.09,2, -999.000,9, -999.000,9, -999.000,9, -999.000,9,-999.0000,9,  -999.00,9,   -999.0,9,-999.000,9,  -999.00,9,   2212.5,2,   -999.0,9,   -999.0,9,  -999.00,9,  -999.0,-999.0000,-999.000,-999.000,  2.7958,-999.000,9
      06MT22_5,   A10,     6,  2,    312,2,19930102,1720,-29.4217, -41.7367, 3874,   2004.0,   3.1620,  34.8470,2,  34.8430,2,    226.9,2,    37.98,2,    25.70,9,     1.79,2, -999.000,9, -999.000,9, -999.000,9, -999.000,9,-999.0000,9,  -999.00,9,   -999.0,9,-999.000,9,  -999.00,9,   2192.1,2,   -999.0,9,   -999.0,9,  -999.00,9,  -999.0,-999.0000,-999.000,-999.000,  3.0070,-999.000,9
      06MT22_5,   A10,     6,  2,    311,2,19930102,1720,-29.4217, -41.7367, 3874,   2249.0,   3.1660,  34.9040,2,-999.0000,9,    241.9,2,    31.17,2,    23.13,9,     1.58,2, -999.000,9, -999.000,9, -999.000,9, -999.000,9,-999.0000,9,  -999.00,9,   -999.0,9,-999.000,9,  -999.00,9,   2179.8,2,   -999.0,9,   -999.0,9,  -999.00,9,  -999.0,-999.0000,-999.000,-999.000,  2.9876,-999.000,9
      06MT22_5,   A10,     6,  2,    310,2,19930102,1720,-29.4217, -41.7367, 3874,   2501.0,   3.1180,  34.9270,2,-999.0000,9,    250.0,2,    28.13,2,    22.25,9,     1.48,2, -999.000,9, -999.000,9, -999.000,9, -999.000,9,-999.0000,9,  -999.00,9,   -999.0,9,-999.000,9,  -999.00,9,   2175.2,2,   -999.0,9,   -999.0,9,  -999.00,9,  -999.0,-999.0000,-999.000,-999.000,  2.9159,-999.000,9
      06MT22_5,   A10,     6,  2,    309,2,19930102,1720,-29.4217, -41.7367, 3874,   2751.0,   2.9960,  34.9290,2,  34.9250,2,    252.3,2,    29.06,2,    21.84,9,     1.46,2, -999.000,9, -999.000,9, -999.000,9, -999.000,9,-999.0000,9,  -999.00,9,   -999.0,9,-999.000,9,  -999.00,9,   2174.7,2,   -999.0,9,   -999.0,9,  -999.00,9,  -999.0,-999.0000,-999.000,-999.000,  2.7711,-999.000,9
      06MT22_5,   A10,     6,  2,    308,2,19930102,1720,-29.4217, -41.7367, 3874,   3004.0,   2.8610,  34.9240,2,-999.0000,9,    253.1,2,    30.95,2,    21.86,9,     1.48,2, -999.000,9, -999.000,9, -999.000,9, -999.000,9,-999.0000,9,  -999.00,9,   -999.0,9,-999.000,9,  -999.00,9,   2176.3,2,   -999.0,9,   -999.0,9,  -999.00,9,  -999.0,-999.0000,-999.000,-999.000,  2.6139,-999.000,9
      06MT22_5,   A10,     6,  2,    307,2,19930102,1720,-29.4217, -41.7367, 3874,   3253.0,   2.7130,  34.9140,2,-999.0000,9,    254.1,2,    33.83,2,    22.04,9,     1.49,2, -999.000,9, -999.000,9, -999.000,9, -999.000,9,-999.0000,9,  -999.00,9,   -999.0,9,-999.000,9,  -999.00,9,   2178.3,2,   -999.0,9,   -999.0,9,  -999.00,9,  -999.0,-999.0000,-999.000,-999.000,  2.4431,-999.000,9
      06MT22_5,   A10,     6,  2,    306,2,19930102,1720,-29.4217, -41.7367, 3874,   3504.0,   2.2690,  34.8750,2,-999.0000,9,   -999.0,9,  -999.00,9,  -999.00,9,  -999.00,9, -999.000,9, -999.000,9, -999.000,9, -999.000,9,-999.0000,9,  -999.00,9,   -999.0,9,-999.000,9,  -999.00,9,   -999.0,0,   -999.0,9,   -999.0,9,  -999.00,9,  -999.0,-999.0000,-999.000,-999.000,  1.9830,-999.000,9
      06MT22_5,   A10,     6,  2,    305,2,19930102,1720,-29.4217, -41.7367, 3874,   3755.0,   1.1020,  34.7540,2,-999.0000,9,    229.1,2,    91.55,2,    29.81,9,     2.11,2, -999.000,9, -999.000,9, -999.000,9, -999.000,9,-999.0000,9,  -999.00,9,   -999.0,9,-999.000,9,  -999.00,9,   2237.7,2,   -999.0,9,   -999.0,9,  -999.00,9,  -999.0,-999.0000,-999.000,-999.000,  0.8199,-999.000,9
      06MT22_5,   A10,     6,  2,    304,2,19930102,1720,-29.4217, -41.7367, 3874,   3829.0,   0.8330,  34.7270,2,-999.0000,9,    225.2,2,   103.17,2,    31.14,9,     2.25,2, -999.000,9, -999.000,9, -999.000,9, -999.000,9,-999.0000,9,  -999.00,9,   -999.0,9,-999.000,9,  -999.00,9,   2247.4,2,   -999.0,9,   -999.0,9,  -999.00,9,  -999.0,-999.0000,-999.000,-999.000,  0.5506,-999.000,9
      06MT22_5,   A10,     6,  2,    301,2,19930102,1720,-29.4217, -41.7367, 3874,   3905.0,   0.6690,  34.7110,2,  34.7090,2,   -999.0,9,  -999.00,9,  -999.00,9,  -999.00,9, -999.000,9, -999.000,9, -999.000,9, -999.000,9,-999.0000,9,  -999.00,9,   -999.0,9,-999.000,9,  -999.00,9,   -999.0,0,   -999.0,9,   -999.0,9,  -999.00,9,  -999.0,-999.0000,-999.000,-999.000,  0.3833,-999.000,9
      06MT22_5,   A10,     6,  2,    302,2,19930102,1720,-29.4217, -41.7367, 3874,   3907.0,   0.6500,  34.7090,2,  34.7070,2,   -999.0,9,  -999.00,9,  -999.00,9,  -999.00,9, -999.000,9, -999.000,9, -999.000,9, -999.000,9,-999.0000,9,  -999.00,9,   -999.0,9,-999.000,9,  -999.00,9,   -999.0,0,   -999.0,9,   -999.0,9,  -999.00,9,  -999.0,-999.0000,-999.000,-999.000,  0.3647,-999.000,9
      06MT22_5,   A10,     6,  2,    303,2,19930102,1720,-29.4217, -41.7367, 3874,   3909.0,   0.6490,  34.7090,2,  34.7070,2,    223.0,2,   109.34,2,    32.16,9,     2.37,2, -999.000,9, -999.000,9, -999.000,9, -999.000,9,-999.0000,9,  -999.00,9,   -999.0,9,-999.000,9,  -999.00,9,   2253.9,2,   -999.0,9,   -999.0,9,  -999.00,9,  -999.0,-999.0000,-999.000,-999.000,  0.3635,-999.000,9
      06MT22_5,   A10,     7,  1,    212,2,19930102,2330,-29.6067, -41.1833, 3905,     12.0,  21.6640,  36.1680,2,-999.0000,9,   -999.0,9,  -999.00,9,  -999.00,9,  -999.00,9,    2.117,2,    1.161,2,    2.610,2,    0.964,2,   1.6610,7,    -2.63,3,   -999.0,9,   6.678,7,  -999.00,9,   2044.9,2,   -999.0,9,   -999.0,9,  -999.00,9,  -999.0,  0.0058,   0.250,   0.023, 21.6616,   0.025,9
      06MT22_5,   A10,     7,  1,    211,2,19930102,2330,-29.6067, -41.1833, 3905,     32.0,  21.6210,  36.1700,2,-999.0000,9,   -999.0,9,  -999.00,9,  -999.00,9,  -999.00,9,    2.121,2,    1.171,2,    2.562,2,    1.011,2,-999.0000,1,  -999.00,1,   -999.0,9,-999.000,1,  -999.00,9,   2044.4,2,   -999.0,9,   -999.0,9,  -999.00,9,  -999.0,-999.0000,-999.000,-999.000, 21.6147,   0.028,9
      06MT22_5,   A10,     7,  1,    210,2,19930102,2330,-29.6067, -41.1833, 3905,     52.0,  21.1600,  36.1740,2,-999.0000,9,   -999.0,9,  -999.00,9,  -999.00,9,  -999.00,9, -999.000,9, -999.000,9, -999.000,9, -999.000,9,-999.0000,9,  -999.00,9,   -999.0,9,-999.000,9,  -999.00,9,   2045.1,2,   -999.0,9,   -999.0,9,  -999.00,9,  -999.0,-999.0000,-999.000,-999.000, 21.1500,-999.000,9
      06MT22_5,   A10,     7,  1,    209,2,19930102,2330,-29.6067, -41.1833, 3905,     72.0,  19.8010,  36.1360,2,-999.0000,9,   -999.0,9,  -999.00,9,  -999.00,9,  -999.00,9,    2.303,2,    1.230,2,    2.249,2,    0.962,2,-999.0000,1,  -999.00,1,   -999.0,9,-999.000,1,  -999.00,9,   2050.3,2,   -999.0,9,   -999.0,9,  -999.00,9,  -999.0,-999.0000,-999.000,-999.000, 19.7877,   0.027,9
      06MT22_5,   A10,     7,  1,    208,2,19930102,2330,-29.6067, -41.1833, 3905,    103.0,  18.9590,  36.0580,2,-999.0000,9,   -999.0,9,  -999.00,9,  -999.00,9,  -999.00,9, -999.000,9, -999.000,9, -999.000,9, -999.000,9,-999.0000,9,  -999.00,9,   -999.0,9,-999.000,9,  -999.00,9,   2054.6,2,   -999.0,9,   -999.0,9,  -999.00,9,  -999.0,-999.0000,-999.000,-999.000, 18.9406,-999.000,9
      06MT22_5,   A10,     7,  1,    207,2,19930102,2330,-29.6067, -41.1833, 3905,    150.0,  18.4740,  36.0420,2,-999.0000,9,   -999.0,9,  -999.00,9,  -999.00,9,  -999.00,9, -999.000,9, -999.000,9, -999.000,9, -999.000,9,   1.6963,5,  -999.00,9,    100.9,2,   6.886,5,  -999.00,9,   2062.5,2,   -999.0,9,   -999.0,9,  -999.00,9,     6.6,  0.0068,-999.000,   0.027, 18.4476,-999.000,9
      06MT22_5,   A10,     7,  1,    206,2,19930102,2330,-29.6067, -41.1833, 3905,    202.0,  17.7580,  35.9340,2,-999.0000,9,   -999.0,9,  -999.00,9,  -999.00,9,  -999.00,9,    2.317,2,    1.288,2,    1.125,2,    0.938,2,   1.7141,2,    -0.99,2,   -999.0,9,   6.999,2,  -999.00,9,   2068.5,2,   -999.0,9,   -999.0,9,  -999.00,9,  -999.0,  0.0060,   0.250,   0.024, 17.7234,   0.024,9
      06MT22_5,   A10,     7,  1,    205,2,19930102,2330,-29.6067, -41.1833, 3905,    301.0,  15.2280,  35.5350,2,-999.0000,9,   -999.0,9,  -999.00,9,  -999.00,9,  -999.00,9,    2.337,2,    1.238,2,    0.720,2,    0.849,2,   1.7342,2,    -0.62,2,     94.1,2,   7.167,2,  -999.00,9,   2088.5,2,   -999.0,9,   -999.0,9,  -999.00,9,     6.9,  0.0061,   0.250,   0.025, 15.1814,   0.024,9
      06MT22_5,   A10,     7,  1,    204,2,19930102,2330,-29.6067, -41.1833, 3905,    399.0,  13.0880,  35.2290,2,-999.0000,9,   -999.0,9,  -999.00,9,  -999.00,9,  -999.00,9,    2.249,2,    1.141,2,    0.698,2,    0.756,2,   2.2089,4,     0.71,3,   -999.0,9,   8.636,4,  -999.00,9,   2104.4,2,   -999.0,9,   -999.0,9,  -999.00,9,  -999.0,  0.0077,   0.250,   0.030, 13.0318,   0.020,9
      06MT22_5,   A10,     7,  1,    203,2,19930102,2330,-29.6067, -41.1833, 3905,    499.0,  11.1980,  34.9740,2,-999.0000,9,   -999.0,9,  -999.00,9,  -999.00,9,  -999.00,9,    1.936,2,    1.010,2,    0.883,2, -999.000,9,-999.0000,1,  -999.00,1,     54.4,2,-999.000,1,  -999.00,9,   2120.3,2,   -999.0,9,   -999.0,9,  -999.00,9,     6.4,-999.0000,-999.000,-999.000, 11.1341,-999.000,9
      06MT22_5,   A10,     7,  1,    202,2,19930102,2330,-29.6067, -41.1833, 3905,    600.0,   8.7270,  34.6570,2,-999.0000,9,   -999.0,9,  -999.00,9,  -999.00,9,  -999.00,9,    1.807,2,    0.908,2,    1.502,2,    0.367,2,   1.7494,2,     0.23,2,     32.0,2,   7.461,2,  -999.00,9,   2136.1,2,   -999.0,9,   -999.0,9,  -999.00,9,     7.1,  0.0061,   0.250,   0.026,  8.6604,   0.013,9
      06MT22_5,   A10,     7,  1,    201,2,19930102,2330,-29.6067, -41.1833, 3905,    702.0,   6.6950,  34.4500,2,-999.0000,9,   -999.0,9,  -999.00,9,  -999.00,9,  -999.00,9,    1.637,2,    0.822,2,    2.015,2,    0.264,2,-999.0000,1,  -999.00,1,   -999.0,9,-999.000,1,  -999.00,9,   2147.7,2,   -999.0,9,   -999.0,9,  -999.00,9,  -999.0,-999.0000,-999.000,-999.000,  6.6271,   0.012,9