BOTTLE,20030417WHPSIOSA
EXPOCODE,SECT_ID,STNNBR,CASTNO,BTLNBR,BTLNBR_FLAG_W,DATE,TIME,LATITUDE,LONGITUDE,DEPTH,CTDPRS,CTDTMP,CTDSAL,CTDSAL_FLAG_W,SALNTY,SALNTY_FLAG_W,OXYGEN,OXYGEN_FLAG_W,SILCAT,SILCAT_FLAG_W,NO2+NO3,NO2+NO3_FLAG_W,PHSPHT,PHSPHT_FLAG_W,CFC-11,CFC-11_FLAG_W,CFC-12,CFC-12_FLAG_W,CCL4,CCL4_FLAG_W,TRITUM,TRITUM_FLAG_W,HELIUM,HELIUM_FLAG_W,DELHE3,DELHE3_FLAG_W,DELC14,DELC14_FLAG_W,NEON,NEON_FLAG_W,O18O16,O18O16_FLAG_W,TCARBN,TCARBN_FLAG_W,PCO2,PCO2_FLAG_W,ALKALI,ALKALI_FLAG_W,PH,PH_FLAG_W,C14ERR,HELIER,DELHER,NEONER,THETA,TRITER,TRITER_FLAG_W
,,,,,,,,,,,DBAR,ITS-90,PSS-78,,PSS-78,,UMOL/KG,,UMOL/KG,,UMOL/KG,,UMOL/KG,,PMOL/KG,,PMOL/KG,,PMOL/KG,,TU,,NMOL/KG,,PERCNT,,/MILLE,,NMOL/KG,,MILLE,,UMOL/KG,,UATM,,UMOL/KG,,,,/MILLE,NMOL/KG,PERCNT,NMOL/KG,ITS-90,TU,
      06MT22_5,   A10,    92,  1,    217,2,19930127,0213,-29.5100,  12.4383, 3669,     11.0,  21.2790,  35.6560,2,  35.6480,2,    225.5,2,     1.27,2,     0.03,9,     0.12,2, -999.000,9, -999.000,9, -999.000,9, -999.000,9,-999.0000,9,  -999.00,9,   -999.0,9,-999.000,9,  -999.00,9,   -999.0,0,   -999.0,9,   -999.0,9,  -999.00,9,  -999.0,-999.0000,-999.000,-999.000, 21.2769,-999.000,9
      06MT22_5,   A10,    92,  1,    208,2,19930127,0213,-29.5100,  12.4383, 3669,     11.0,  21.2790,  35.6570,2,-999.0000,9,   -999.0,9,  -999.00,9,  -999.00,9,  -999.00,9, -999.000,9, -999.000,9, -999.000,9, -999.000,9,-999.0000,9,  -999.00,9,   -999.0,9,-999.000,9,  -999.00,9,   -999.0,0,   -999.0,9,   -999.0,9,  -999.00,9,  -999.0,-999.0000,-999.000,-999.000, 21.2769,-999.000,9
      06MT22_5,   A10,    92,  1,    207,2,19930127,0213,-29.5100,  12.4383, 3669,     32.0,  21.2750,  35.6580,2,  35.6490,2,    226.1,2,     1.22,2,     0.00,9,     0.11,2, -999.000,9, -999.000,9, -999.000,9, -999.000,9,-999.0000,9,  -999.00,9,   -999.0,9,-999.000,9,  -999.00,9,   -999.0,0,   -999.0,9,   -999.0,9,  -999.00,9,  -999.0,-999.0000,-999.000,-999.000, 21.2688,-999.000,9
      06MT22_5,   A10,    92,  1,    206,2,19930127,0213,-29.5100,  12.4383, 3669,     51.0,  21.2860,  35.6570,2,-999.0000,9,    227.5,2,     1.34,2,     0.04,9,     0.12,2, -999.000,9, -999.000,9, -999.000,9, -999.000,9,-999.0000,9,  -999.00,9,   -999.0,9,-999.000,9,  -999.00,9,   -999.0,0,   -999.0,9,   -999.0,9,  -999.00,9,  -999.0,-999.0000,-999.000,-999.000, 21.2761,-999.000,9
      06MT22_5,   A10,    92,  1,    205,2,19930127,0213,-29.5100,  12.4383, 3669,     71.0,  17.9970,  35.3890,2,-999.0000,9,    248.7,2,     1.63,2,     0.12,9,     0.18,2, -999.000,9, -999.000,9, -999.000,9, -999.000,9,-999.0000,9,  -999.00,9,   -999.0,9,-999.000,9,  -999.00,9,   -999.0,0,   -999.0,9,   -999.0,9,  -999.00,9,  -999.0,-999.0000,-999.000,-999.000, 17.9848,-999.000,9
      06MT22_5,   A10,    92,  1,    204,2,19930127,0213,-29.5100,  12.4383, 3669,    101.0,  15.3490,  35.4020,2,  35.3960,2,    231.4,2,     2.71,2,     4.22,9,     0.39,2, -999.000,9, -999.000,9, -999.000,9, -999.000,9,-999.0000,9,  -999.00,9,   -999.0,9,-999.000,9,  -999.00,9,   -999.0,0,   -999.0,9,   -999.0,9,  -999.00,9,  -999.0,-999.0000,-999.000,-999.000, 15.3335,-999.000,9
      06MT22_5,   A10,    92,  1,    203,2,19930127,0213,-29.5100,  12.4383, 3669,    151.0,  13.4470,  35.1770,2,-999.0000,9,    225.6,2,     3.32,2,     7.89,9,     0.59,2, -999.000,9, -999.000,9, -999.000,9, -999.000,9,-999.0000,9,  -999.00,9,   -999.0,9,-999.000,9,  -999.00,9,   -999.0,0,   -999.0,9,   -999.0,9,  -999.00,9,  -999.0,-999.0000,-999.000,-999.000, 13.4258,-999.000,9
      06MT22_5,   A10,    92,  1,    202,2,19930127,0213,-29.5100,  12.4383, 3669,    201.0,  12.6440,  35.0780,2,-999.0000,9,    228.7,2,     3.56,2,     9.36,9,     0.64,2, -999.000,9, -999.000,9, -999.000,9, -999.000,9,-999.0000,9,  -999.00,9,   -999.0,9,-999.000,9,  -999.00,9,   -999.0,0,   -999.0,9,   -999.0,9,  -999.00,9,  -999.0,-999.0000,-999.000,-999.000, 12.6169,-999.000,9
      06MT22_5,   A10,    92,  1,    201,2,19930127,0213,-29.5100,  12.4383, 3669,    300.0,  10.7040,  34.8620,2,  34.8600,2,    201.9,2,     6.88,2,    16.58,9,     1.10,2, -999.000,9, -999.000,9, -999.000,9, -999.000,9,-999.0000,9,  -999.00,9,   -999.0,9,-999.000,9,  -999.00,9,   -999.0,0,   -999.0,9,   -999.0,9,  -999.00,9,  -999.0,-999.0000,-999.000,-999.000, 10.6675,-999.000,9
      06MT22_5,   A10,    92,  2,    301,2,19930127,0248,-29.4972,  12.4668, 3657,     10.0,  21.2620,  35.6520,2,  35.6530,2,    226.1,2,     1.26,2,     0.73,9,     0.17,2, -999.000,9, -999.000,9, -999.000,9, -999.000,9,-999.0000,9,  -999.00,9,   -999.0,9,-999.000,9,  -999.00,9,   -999.0,0,   -999.0,9,   -999.0,9,  -999.00,9,  -999.0,-999.0000,-999.000,-999.000, 21.2601,-999.000,9
      06MT22_5,   A10,    92,  2,    324,2,19930127,0248,-29.4972,  12.4668, 3657,     10.0,  21.2620,  35.6520,2,  35.6530,2,   -999.0,9,  -999.00,9,  -999.00,9,  -999.00,9, -999.000,9, -999.000,9, -999.000,9, -999.000,9,-999.0000,9,  -999.00,9,   -999.0,9,-999.000,9,  -999.00,9,   -999.0,0,   -999.0,9,   -999.0,9,  -999.00,9,  -999.0,-999.0000,-999.000,-999.000, 21.2601,-999.000,9
      06MT22_5,   A10,    92,  2,    323,2,19930127,0248,-29.4972,  12.4668, 3657,     11.0,  21.2670,  35.6510,2,-999.0000,9,   -999.0,9,  -999.00,9,  -999.00,9,  -999.00,9, -999.000,9, -999.000,9, -999.000,9, -999.000,9,-999.0000,9,  -999.00,9,   -999.0,9,-999.000,9,  -999.00,9,   -999.0,0,   -999.0,9,   -999.0,9,  -999.00,9,  -999.0,-999.0000,-999.000,-999.000, 21.2649,-999.000,9
      06MT22_5,   A10,    92,  2,    322,2,19930127,0248,-29.4972,  12.4668, 3657,    398.0,   9.0090,  34.6850,2,-999.0000,9,   -999.0,9,  -999.00,9,  -999.00,9,  -999.00,9, -999.000,9, -999.000,9, -999.000,9, -999.000,9,-999.0000,9,  -999.00,9,   -999.0,9,-999.000,9,  -999.00,9,   -999.0,0,   -999.0,9,   -999.0,9,  -999.00,9,  -999.0,-999.0000,-999.000,-999.000,  8.9656,-999.000,9
      06MT22_5,   A10,    92,  2,    321,2,19930127,0248,-29.4972,  12.4668, 3657,    499.0,   7.6940,  34.5700,2,-999.0000,9,   -999.0,9,  -999.00,9,  -999.00,9,  -999.00,9, -999.000,9, -999.000,9, -999.000,9, -999.000,9,-999.0000,9,  -999.00,9,   -999.0,9,-999.000,9,  -999.00,9,   -999.0,0,   -999.0,9,   -999.0,9,  -999.00,9,  -999.0,-999.0000,-999.000,-999.000,  7.6441,-999.000,9
      06MT22_5,   A10,    92,  2,    320,2,19930127,0248,-29.4972,  12.4668, 3657,    600.0,   6.2400,  34.4460,2,-999.0000,9,    181.5,2,    18.51,2,    29.33,9,     1.95,2, -999.000,9, -999.000,9, -999.000,9, -999.000,9,-999.0000,9,  -999.00,9,   -999.0,9,-999.000,9,  -999.00,9,   -999.0,0,   -999.0,9,   -999.0,9,  -999.00,9,  -999.0,-999.0000,-999.000,-999.000,  6.1862,-999.000,9
      06MT22_5,   A10,    92,  2,    319,2,19930127,0248,-29.4972,  12.4668, 3657,    700.0,   4.9060,  34.3570,2,  34.3550,2,    205.2,2,    24.27,2,    31.16,9,     2.06,2, -999.000,9, -999.000,9, -999.000,9, -999.000,9,-999.0000,9,  -999.00,9,   -999.0,9,-999.000,9,  -999.00,9,   -999.0,0,   -999.0,9,   -999.0,9,  -999.00,9,  -999.0,-999.0000,-999.000,-999.000,  4.8499,-999.000,9
      06MT22_5,   A10,    92,  2,    318,2,19930127,0248,-29.4972,  12.4668, 3657,    850.0,   3.7650,  34.3580,2,-999.0000,9,    203.1,2,    37.42,2,    33.13,9,     2.22,2, -999.000,9, -999.000,9, -999.000,9, -999.000,9,-999.0000,9,  -999.00,9,   -999.0,9,-999.000,9,  -999.00,9,   -999.0,0,   -999.0,9,   -999.0,9,  -999.00,9,  -999.0,-999.0000,-999.000,-999.000,  3.7031,-999.000,9
      06MT22_5,   A10,    92,  2,    317,2,19930127,0248,-29.4972,  12.4668, 3657,    999.0,   3.4010,  34.4330,2,-999.0000,9,    188.0,2,    47.85,2,    34.37,9,     2.31,2, -999.000,9, -999.000,9, -999.000,9, -999.000,9,-999.0000,9,  -999.00,9,   -999.0,9,-999.000,9,  -999.00,9,   -999.0,0,   -999.0,9,   -999.0,9,  -999.00,9,  -999.0,-999.0000,-999.000,-999.000,  3.3300,-999.000,9
      06MT22_5,   A10,    92,  2,    316,2,19930127,0248,-29.4972,  12.4668, 3657,   1199.0,   3.2500,  34.5630,2,  34.5620,2,    179.9,2,    51.09,2,    33.92,9,     2.27,2, -999.000,9, -999.000,9, -999.000,9, -999.000,9,-999.0000,9,  -999.00,9,   -999.0,9,-999.000,9,  -999.00,9,   -999.0,0,   -999.0,9,   -999.0,9,  -999.00,9,  -999.0,-999.0000,-999.000,-999.000,  3.1643,-999.000,9
      06MT22_5,   A10,    92,  2,    315,2,19930127,0248,-29.4972,  12.4668, 3657,   1399.0,   3.1950,  34.6850,2,-999.0000,9,    189.1,2,    48.82,2,    31.48,9,     2.09,2, -999.000,9, -999.000,9, -999.000,9, -999.000,9,-999.0000,9,  -999.00,9,   -999.0,9,-999.000,9,  -999.00,9,   -999.0,0,   -999.0,9,   -999.0,9,  -999.00,9,  -999.0,-999.0000,-999.000,-999.000,  3.0928,-999.000,9
      06MT22_5,   A10,    92,  2,    314,2,19930127,0248,-29.4972,  12.4668, 3657,   1600.0,   3.1290,  34.7780,2,-999.0000,9,    203.7,2,    44.86,2,    28.95,9,     1.90,2, -999.000,9, -999.000,9, -999.000,9, -999.000,9,-999.0000,9,  -999.00,9,   -999.0,9,-999.000,9,  -999.00,9,   -999.0,0,   -999.0,9,   -999.0,9,  -999.00,9,  -999.0,-999.0000,-999.000,-999.000,  3.0105,-999.000,9
      06MT22_5,   A10,    92,  2,    313,2,19930127,0248,-29.4972,  12.4668, 3657,   1800.0,   3.1420,  34.8320,2,  34.8310,2,    215.0,2,    40.11,2,    26.88,9,     1.75,2, -999.000,9, -999.000,9, -999.000,9, -999.000,9,-999.0000,9,  -999.00,9,   -999.0,9,-999.000,9,  -999.00,9,   -999.0,0,   -999.0,9,   -999.0,9,  -999.00,9,  -999.0,-999.0000,-999.000,-999.000,  3.0058,-999.000,9
      06MT22_5,   A10,    92,  2,    312,2,19930127,0248,-29.4972,  12.4668, 3657,   2000.0,   3.0590,  34.8610,2,-999.0000,9,    222.0,2,    39.39,2,    25.74,9,     1.70,2, -999.000,9, -999.000,9, -999.000,9, -999.000,9,-999.0000,9,  -999.00,9,   -999.0,9,-999.000,9,  -999.00,9,   -999.0,0,   -999.0,9,   -999.0,9,  -999.00,9,  -999.0,-999.0000,-999.000,-999.000,  2.9058,-999.000,9
      06MT22_5,   A10,    92,  2,    311,2,19930127,0248,-29.4972,  12.4668, 3657,   2000.0,   3.0590,  34.8610,2,  34.8570,2,    223.1,2,    39.36,2,    25.64,9,     1.65,2, -999.000,9, -999.000,9, -999.000,9, -999.000,9,-999.0000,9,  -999.00,9,   -999.0,9,-999.000,9,  -999.00,9,   -999.0,0,   -999.0,9,   -999.0,9,  -999.00,9,  -999.0,-999.0000,-999.000,-999.000,  2.9058,-999.000,9
      06MT22_5,   A10,    92,  2,    310,2,19930127,0248,-29.4972,  12.4668, 3657,   2251.0,   2.9110,  34.8710,2,-999.0000,9,    229.2,2,    40.69,2,    25.07,9,     1.63,2, -999.000,9, -999.000,9, -999.000,9, -999.000,9,-999.0000,9,  -999.00,9,   -999.0,9,-999.000,9,  -999.00,9,   -999.0,0,   -999.0,9,   -999.0,9,  -999.00,9,  -999.0,-999.0000,-999.000,-999.000,  2.7369,-999.000,9
      06MT22_5,   A10,    92,  2,    309,2,19930127,0248,-29.4972,  12.4668, 3657,   2502.0,   2.7320,  34.8670,2,-999.0000,9,    231.1,2,    44.24,2,    24.90,9,     1.60,2, -999.000,9, -999.000,9, -999.000,9, -999.000,9,-999.0000,9,  -999.00,9,   -999.0,9,-999.000,9,  -999.00,9,   -999.0,0,   -999.0,9,   -999.0,9,  -999.00,9,  -999.0,-999.0000,-999.000,-999.000,  2.5371,-999.000,9
      06MT22_5,   A10,    92,  2,    308,2,19930127,0248,-29.4972,  12.4668, 3657,   2751.0,   2.5480,  34.8610,2,-999.0000,9,    232.6,2,    48.61,2,    25.29,9,     1.64,2, -999.000,9, -999.000,9, -999.000,9, -999.000,9,-999.0000,9,  -999.00,9,   -999.0,9,-999.000,9,  -999.00,9,   -999.0,0,   -999.0,9,   -999.0,9,  -999.00,9,  -999.0,-999.0000,-999.000,-999.000,  2.3324,-999.000,9
      06MT22_5,   A10,    92,  2,    307,2,19930127,0248,-29.4972,  12.4668, 3657,   2997.0,   2.4410,  34.8600,2,-999.0000,9,    233.0,2,    51.75,2,    25.43,9,     1.65,2, -999.000,9, -999.000,9, -999.000,9, -999.000,9,-999.0000,9,  -999.00,9,   -999.0,9,-999.000,9,  -999.00,9,   -999.0,0,   -999.0,9,   -999.0,9,  -999.00,9,  -999.0,-999.0000,-999.000,-999.000,  2.2030,-999.000,9
      06MT22_5,   A10,    92,  2,    306,2,19930127,0248,-29.4972,  12.4668, 3657,   3248.0,   2.3850,  34.8590,2,  34.8560,2,    232.5,2,    53.42,2,    25.32,9,     1.65,2, -999.000,9, -999.000,9, -999.000,9, -999.000,9,-999.0000,9,  -999.00,9,   -999.0,9,-999.000,9,  -999.00,9,   -999.0,0,   -999.0,9,   -999.0,9,  -999.00,9,  -999.0,-999.0000,-999.000,-999.000,  2.1225,-999.000,9
      06MT22_5,   A10,    92,  2,    305,2,19930127,0248,-29.4972,  12.4668, 3657,   3509.0,   2.2940,  34.8550,2,-999.0000,9,    232.2,2,    57.00,2,    25.53,9,     1.67,2, -999.000,9, -999.000,9, -999.000,9, -999.000,9,-999.0000,9,  -999.00,9,   -999.0,9,-999.000,9,  -999.00,9,   -999.0,0,   -999.0,9,   -999.0,9,  -999.00,9,  -999.0,-999.0000,-999.000,-999.000,  2.0062,-999.000,9
      06MT22_5,   A10,    92,  2,    304,2,19930127,0248,-29.4972,  12.4668, 3657,   3594.0,   2.2140,  34.8480,2,-999.0000,9,    231.4,2,    60.63,2,    25.86,9,     1.69,2, -999.000,9, -999.000,9, -999.000,9, -999.000,9,-999.0000,9,  -999.00,9,   -999.0,9,-999.000,9,  -999.00,9,   -999.0,0,   -999.0,9,   -999.0,9,  -999.00,9,  -999.0,-999.0000,-999.000,-999.000,  1.9191,-999.000,9
      06MT22_5,   A10,    92,  2,    302,2,19930127,0248,-29.4972,  12.4668, 3657,   3678.0,   2.0430,  34.8310,2,  34.8290,2,   -999.0,9,  -999.00,9,  -999.00,9,  -999.00,9, -999.000,9, -999.000,9, -999.000,9, -999.000,9,-999.0000,9,  -999.00,9,   -999.0,9,-999.000,9,  -999.00,9,   -999.0,0,   -999.0,9,   -999.0,9,  -999.00,9,  -999.0,-999.0000,-999.000,-999.000,  1.7434,-999.000,9
      06MT22_5,   A10,    92,  2,    303,2,19930127,0248,-29.4972,  12.4668, 3657,   3682.0,   2.0440,  34.8310,2,  34.8290,2,    225.7,2,    68.25,2,    26.98,9,     1.76,2, -999.000,9, -999.000,9, -999.000,9, -999.000,9,-999.0000,9,  -999.00,9,   -999.0,9,-999.000,9,  -999.00,9,   -999.0,0,   -999.0,9,   -999.0,9,  -999.00,9,  -999.0,-999.0000,-999.000,-999.000,  1.7439,-999.000,9
      06MT22_5,   A10,    93,  1,    217,2,19930127,0912,-29.3867,  12.7667, 3387,     12.0,  21.1170,  35.5670,2,  35.5630,2,    226.4,2,     1.13,2,     0.00,9,     0.13,2, -999.000,9, -999.000,9, -999.000,9, -999.000,9,-999.0000,9,  -999.00,9,   -999.0,9,-999.000,9,  -999.00,9,   -999.0,0,   -999.0,9,   -999.0,9,  -999.00,9,  -999.0,-999.0000,-999.000,-999.000, 21.1147,-999.000,9
      06MT22_5,   A10,    93,  1,    213,2,19930127,0912,-29.3867,  12.7667, 3387,     12.0,  21.1180,  35.5680,2,-999.0000,9,   -999.0,9,  -999.00,9,  -999.00,9,  -999.00,9, -999.000,9, -999.000,9, -999.000,9,    1.007,2,-999.0000,1,  -999.00,1,   -999.0,9,-999.000,1,  -999.00,9,   2030.0,2,   -999.0,9,   -999.0,9,  -999.00,9,  -999.0,-999.0000,-999.000,-999.000, 21.1157,   0.041,9
      06MT22_5,   A10,    93,  1,    212,2,19930127,0912,-29.3867,  12.7667, 3387,     32.0,  21.0670,  35.5690,2,-999.0000,9,    226.9,2,     1.17,2,     0.07,9,     0.11,2,    2.155,2,    1.198,2,    2.649,2, -999.000,9,   1.7061,2,    -1.63,2,   -999.0,9,   6.928,2,  -999.00,9,   2030.9,2,   -999.0,9,   -999.0,9,  -999.00,9,  -999.0,  0.0060,   0.250,   0.024, 21.0609,-999.000,9
      06MT22_5,   A10,    93,  1,    211,2,19930127,0912,-29.3867,  12.7667, 3387,     52.0,  17.7600,  35.5080,2,-999.0000,9,    260.3,2,     1.30,2,     0.13,9,     0.17,2, -999.000,9, -999.000,9, -999.000,9,    0.994,3,   1.7221,2,    -1.15,2,   -999.0,9,   7.092,2,  -999.00,9,   2033.0,2,   -999.0,9,   -999.0,9,  -999.00,9,  -999.0,  0.0060,   0.250,   0.025, 17.7512,   0.207,9
      06MT22_5,   A10,    93,  1,    210,2,19930127,0912,-29.3867,  12.7667, 3387,     72.0,  15.7660,  35.4430,2,  35.4380,2,    260.0,2,     1.30,2,     0.13,9,     0.20,2,    2.726,2,    1.478,2,    2.165,2, -999.000,9,   1.9354,4,    -0.61,3,   -999.0,9,   7.189,7,  -999.00,9,   2044.7,2,   -999.0,9,   -999.0,9,  -999.00,9,  -999.0,  0.0068,   0.250,   0.025, 15.7547,-999.000,9
      06MT22_5,   A10,    93,  1,    209,2,19930127,0912,-29.3867,  12.7667, 3387,    102.0,  15.1130,  35.4240,2,-999.0000,9,    236.6,2,     1.99,2,     3.41,9,     0.37,2,    2.705,2,    1.437,2,    1.503,2,    0.945,2,-999.0000,1,  -999.00,1,   -999.0,9,-999.000,1,  -999.00,9,   2067.8,2,   -999.0,9,   -999.0,9,  -999.00,9,  -999.0,-999.0000,-999.000,-999.000, 15.0975,   0.027,9
      06MT22_5,   A10,    93,  1,    208,2,19930127,0912,-29.3867,  12.7667, 3387,    152.0,  13.5510,  35.1700,2,-999.0000,9,    235.8,2,     2.21,2,     6.23,9,     0.53,2, -999.000,9, -999.000,9, -999.000,9,    0.781,3,   1.7382,2,    -0.59,2,   -999.0,9,   7.286,2,  -999.00,9,   2080.5,2,   -999.0,9,   -999.0,9,  -999.00,9,  -999.0,  0.0061,   0.250,   0.025, 13.5295,   0.573,9
      06MT22_5,   A10,    93,  1,    207,2,19930127,0912,-29.3867,  12.7667, 3387,    201.0,  12.7450,  35.0890,2,  35.0840,2,    226.4,2,     3.33,2,     9.28,9,     0.68,2,    2.636,2,    1.385,2,    1.445,2,    0.725,2,   1.7395,5,    -0.69,3,   -999.0,9,   7.318,5,  -999.00,9,   2091.6,2,   -999.0,9,   -999.0,9,  -999.00,9,  -999.0,  0.0070,   0.250,   0.029, 12.7177,   0.027,9
      06MT22_5,   A10,    93,  1,    206,2,19930127,0912,-29.3867,  12.7667, 3387,    301.0,  10.8570,  34.8790,2,-999.0000,9,    215.7,2,     5.81,2,    14.74,9,     1.00,2,    2.284,2,    1.182,2,    1.299,2,    0.590,2,   1.7404,5,     0.56,3,   -999.0,9,   7.395,5,  -999.00,9,   2115.2,2,   -999.0,9,   -999.0,9,  -999.00,9,  -999.0,  0.0070,   0.250,   0.030, 10.8202,   0.017,9
      06MT22_5,   A10,    93,  1,    205,2,19930127,0912,-29.3867,  12.7667, 3387,    400.0,   9.0050,  34.6840,2,-999.0000,9,    193.7,2,    10.42,2,    21.56,9,     1.43,2,    1.874,2,    0.937,2,    1.400,2,    0.365,2,-999.0000,1,  -999.00,1,   -999.0,9,-999.000,1,  -999.00,9,   2147.5,2,   -999.0,9,   -999.0,9,  -999.00,9,  -999.0,-999.0000,-999.000,-999.000,  8.9613,   0.010,9
      06MT22_5,   A10,    93,  1,    201,2,19930127,0912,-29.3867,  12.7667, 3387,    501.0,   7.3980,  34.5580,2,-999.0000,9,   -999.0,9,  -999.00,9,  -999.00,9,  -999.00,9,    1.245,4,    0.610,4,    1.349,4,    0.236,2,   2.1210,4,     1.76,3,   -999.0,9,   7.903,4,  -999.00,9,   2186.0,2,   -999.0,9,   -999.0,9,  -999.00,9,  -999.0,  0.0074,   0.250,   0.028,  7.3480,   0.009,9
      06MT22_5,   A10,    93,  1,    203,2,19930127,0912,-29.3867,  12.7667, 3387,    503.0,   7.3400,  34.5500,2,-999.0000,9,   -999.0,9,  -999.00,9,  -999.00,9,  -999.00,9, -999.000,9, -999.000,9, -999.000,9, -999.000,9,-999.0000,9,  -999.00,9,   -999.0,9,-999.000,9,  -999.00,9,   -999.0,0,   -999.0,9,   -999.0,9,  -999.00,9,  -999.0,-999.0000,-999.000,-999.000,  7.2900,-999.000,9
      06MT22_5,   A10,    93,  1,    202,2,19930127,0912,-29.3867,  12.7667, 3387,    503.0,   7.3540,  34.5520,2,-999.0000,9,   -999.0,9,  -999.00,9,  -999.00,9,  -999.00,9, -999.000,9, -999.000,9, -999.000,9, -999.000,9,-999.0000,9,  -999.00,9,   -999.0,9,-999.000,9,  -999.00,9,   -999.0,0,   -999.0,9,   -999.0,9,  -999.00,9,  -999.0,-999.0000,-999.000,-999.000,  7.3040,-999.000,9
      06MT22_5,   A10,    93,  1,    204,2,19930127,0912,-29.3867,  12.7667, 3387,    504.0,   7.3300,  34.5490,2,  34.5480,2,    158.7,2,    17.47,2,    29.22,9,     1.88,2, -999.000,9, -999.000,9, -999.000,9, -999.000,9,-999.0000,9,  -999.00,9,   -999.0,9,-999.000,9,  -999.00,9,   -999.0,0,   -999.0,9,   -999.0,9,  -999.00,9,  -999.0,-999.0000,-999.000,-999.000,  7.2808,-999.000,9