BOTTLE,20030417WHPSIOSA
EXPOCODE,SECT_ID,STNNBR,CASTNO,BTLNBR,BTLNBR_FLAG_W,DATE,TIME,LATITUDE,LONGITUDE,DEPTH,CTDPRS,CTDTMP,CTDSAL,CTDSAL_FLAG_W,SALNTY,SALNTY_FLAG_W,OXYGEN,OXYGEN_FLAG_W,SILCAT,SILCAT_FLAG_W,NO2+NO3,NO2+NO3_FLAG_W,PHSPHT,PHSPHT_FLAG_W,CFC-11,CFC-11_FLAG_W,CFC-12,CFC-12_FLAG_W,CCL4,CCL4_FLAG_W,TRITUM,TRITUM_FLAG_W,HELIUM,HELIUM_FLAG_W,DELHE3,DELHE3_FLAG_W,DELC14,DELC14_FLAG_W,NEON,NEON_FLAG_W,O18O16,O18O16_FLAG_W,TCARBN,TCARBN_FLAG_W,PCO2,PCO2_FLAG_W,ALKALI,ALKALI_FLAG_W,PH,PH_FLAG_W,C14ERR,HELIER,DELHER,NEONER,THETA,TRITER,TRITER_FLAG_W
,,,,,,,,,,,DBAR,ITS-90,PSS-78,,PSS-78,,UMOL/KG,,UMOL/KG,,UMOL/KG,,UMOL/KG,,PMOL/KG,,PMOL/KG,,PMOL/KG,,TU,,NMOL/KG,,PERCNT,,/MILLE,,NMOL/KG,,MILLE,,UMOL/KG,,UATM,,UMOL/KG,,,,/MILLE,NMOL/KG,PERCNT,NMOL/KG,ITS-90,TU,
      06MT22_5,   A10,    70,  2,    324,2,19930120,0055,-29.9950,  -2.3233, 4302,      9.0,  24.8730,  35.9080,2,-999.0000,9,   -999.0,9,  -999.00,9,  -999.00,9,  -999.00,9, -999.000,9, -999.000,9, -999.000,9, -999.000,9,-999.0000,9,  -999.00,9,   -999.0,9,-999.000,9,  -999.00,9,   -999.0,0,   -999.0,9,   -999.0,9,  -999.00,9,  -999.0,-999.0000,-999.000,-999.000, 24.8711,-999.000,9
      06MT22_5,   A10,    70,  2,    321,2,19930120,0055,-29.9950,  -2.3233, 4302,    599.0,   8.6200,  34.6370,2,-999.0000,9,    208.8,2,    10.30,2,    20.82,9,     1.48,2,    1.964,2,    0.994,2,    1.604,2,    0.371,2,   1.7645,5,     0.86,3,   -999.0,9,   7.527,5,  -999.00,9,   2141.1,2,   -999.0,9,   -999.0,9,  -999.00,9,  -999.0,  0.0071,   0.250,   0.030,  8.5552,   0.011,9
      06MT22_5,   A10,    70,  2,    320,2,19930120,0055,-29.9950,  -2.3233, 4302,    698.0,   6.7470,  34.4650,2,-999.0000,9,    207.5,2,    15.25,2,    25.86,9,     1.85,2,    1.605,2,    0.801,2,    1.969,2,    0.240,2,   1.7726,5,     1.37,3,     -4.3,2,   7.631,5,  -999.00,9,   2161.4,2,   -999.0,9,   -999.0,9,  -999.00,9,     5.7,  0.0071,   0.250,   0.031,  6.6807,   0.009,9
      06MT22_5,   A10,    70,  2,    319,2,19930120,0055,-29.9950,  -2.3233, 4302,    797.0,   5.6980,  34.3830,2,-999.0000,9,    214.0,2,    18.85,2,    28.26,9,     2.01,2,    1.515,2,    0.753,2,    2.273,2,    0.188,2,   1.7788,5,     0.91,3,   -999.0,9,   7.681,5,  -999.00,9,   2168.1,2,   -999.0,9,   -999.0,9,  -999.00,9,  -999.0,  0.0071,   0.250,   0.031,  5.6281,   0.007,9
      06MT22_5,   A10,    70,  2,    318,2,19930120,0055,-29.9950,  -2.3233, 4302,    898.0,   4.5930,  34.3300,2,-999.0000,9,    216.8,2,    25.27,2,    30.40,9,     2.24,2,    1.236,2,    0.612,2,    2.240,2,    0.136,2,   1.8457,4,     2.44,3,   -105.2,3,   7.747,7,  -999.00,9,   2179.3,2,   -999.0,9,   -999.0,9,  -999.00,9,     5.3,  0.0065,   0.250,   0.027,  4.5211,   0.006,9
      06MT22_5,   A10,    70,  2,    317,2,19930120,0055,-29.9950,  -2.3233, 4302,    998.0,   4.0170,  34.3570,2,-999.0000,9,    201.5,2,    34.17,2,    32.17,9,     2.35,2,    0.740,2,    0.372,2,    1.602,2,    0.091,2,   1.8881,4,     2.65,3,   -999.0,9,   8.070,4,  -999.00,9,   2198.5,2,   -999.0,9,   -999.0,9,  -999.00,9,  -999.0,  0.0066,   0.250,   0.028,  3.9408,   0.004,9
      06MT22_5,   A10,    70,  2,    316,2,19930120,0055,-29.9950,  -2.3233, 4302,   1198.0,   3.3960,  34.4610,2,-999.0000,9,    186.6,2,    47.40,2,    33.58,9,     2.45,2,    0.213,2,    0.108,2,    0.703,2,    0.037,2,   1.8404,4,     4.90,3,   -999.0,9,   7.932,4,  -999.00,9,   2221.7,2,   -999.0,9,   -999.0,9,  -999.00,9,  -999.0,  0.0064,   0.250,   0.028,  3.3085,   0.003,9
      06MT22_5,   A10,    70,  2,    315,2,19930120,0055,-29.9950,  -2.3233, 4302,   1400.0,   3.0670,  34.5860,2,-999.0000,9,    185.2,2,    53.38,2,    32.70,9,     2.39,2,    0.061,2,    0.026,2,    0.323,2,    0.018,2,   1.8176,2,     6.40,2,   -136.3,2,   7.917,2,  -999.00,9,   2229.0,2,   -999.0,9,   -999.0,9,  -999.00,9,     4.8,  0.0064,   0.250,   0.028,  2.9661,   0.002,9
      06MT22_5,   A10,    70,  2,    314,2,19930120,0055,-29.9950,  -2.3233, 4302,   1599.0,   2.9680,  34.6770,2,-999.0000,9,    192.3,2,    53.37,2,    31.25,9,     2.22,2,    0.026,2,    0.007,2,    0.168,2,    0.011,2,   1.8234,5,     6.20,3,   -139.4,2,   7.918,5,  -999.00,9,   2223.6,2,   -999.0,9,   -999.0,9,  -999.00,9,     5.3,  0.0073,   0.250,   0.032,  2.8515,   0.007,9
      06MT22_5,   A10,    70,  2,    313,2,19930120,0055,-29.9950,  -2.3233, 4302,   1800.0,   2.8090,  34.7470,2,-999.0000,9,    203.2,2,    53.95,2,    29.31,9,     2.07,2, -999.000,9, -999.000,9, -999.000,9, -999.000,9,   1.8288,5,     6.29,3,   -999.0,9,   7.925,5,  -999.00,9,   2218.5,2,   -999.0,9,   -999.0,9,  -999.00,9,  -999.0,  0.0073,   0.250,   0.032,  2.6773,-999.000,9
      06MT22_5,   A10,    70,  2,    312,2,19930120,0055,-29.9950,  -2.3233, 4302,   2000.0,   2.6990,  34.7890,2,-999.0000,9,    214.1,2,    52.70,2,    27.68,9,     1.97,2,    0.009,6,    0.002,6,    0.062,2,    0.008,2,-999.0000,1,  -999.00,1,   -140.2,2,-999.000,1,  -999.00,9,   2213.4,2,   -999.0,9,   -999.0,9,  -999.00,9,     5.4,-999.0000,-999.000,-999.000,  2.5513,   0.002,9
      06MT22_5,   A10,    70,  2,    311,2,19930120,0055,-29.9950,  -2.3233, 4302,   2250.0,   2.5550,  34.8220,2,-999.0000,9,    227.6,2,    52.18,2,    26.39,9,     1.85,2,    0.002,2,    0.004,4,    0.034,2,    0.013,2,   1.8314,2,     5.77,2,   -999.0,9,   7.957,2,  -999.00,9,   2207.5,2,   -999.0,9,   -999.0,9,  -999.00,9,  -999.0,  0.0064,   0.250,   0.028,  2.3870,   0.002,9
      06MT22_5,   A10,    70,  2,    310,2,19930120,0055,-29.9950,  -2.3233, 4302,   2502.0,   2.4570,  34.8460,2,  34.8440,2,    233.6,2,    51.17,2,    25.28,9,     1.75,2,    0.002,2,    0.000,2,    0.021,2,    0.018,2,   1.8346,2,     6.06,2,   -145.2,3,   7.969,2,  -999.00,9,   2203.2,2,   -999.0,9,   -999.0,9,  -999.00,9,     5.5,  0.0064,   0.250,   0.028,  2.2673,   0.017,9
      06MT22_5,   A10,    70,  2,    309,2,19930120,0055,-29.9950,  -2.3233, 4302,   2753.0,   2.4120,  34.8590,2,-999.0000,9,    236.2,2,    50.33,2,    24.73,9,     1.72,2,   -0.001,2,    0.000,2,    0.009,2,    0.006,2,   1.8265,5,     5.39,3,   -999.0,9,   8.000,5,  -999.00,9,   2199.7,2,   -999.0,9,   -999.0,9,  -999.00,9,  -999.0,  0.0073,   0.250,   0.032,  2.1989,   0.002,9
      06MT22_5,   A10,    70,  2,    308,2,19930120,0055,-29.9950,  -2.3233, 4302,   3002.0,   2.3760,  34.8680,2,-999.0000,9,    238.1,2,    49.96,2,    24.53,9,     1.69,2,    0.000,2,    0.000,2,    0.007,2,    0.007,2,   1.8332,2,     3.88,2,   -136.0,2,   8.024,2,  -999.00,9,   2199.4,2,   -999.0,9,   -999.0,9,  -999.00,9,     5.4,  0.0064,   0.250,   0.028,  2.1389,   0.002,9
      06MT22_5,   A10,    70,  2,    307,2,19930120,0055,-29.9950,  -2.3233, 4302,   3252.0,   2.3590,  34.8750,2,  34.8730,2,    238.8,2,    50.13,2,    24.40,9,     1.61,2, -999.000,9, -999.000,9, -999.000,9,    0.006,2,   1.8372,2,     4.35,2,   -999.0,9,   8.015,2,  -999.00,9,   2200.8,2,   -999.0,9,   -999.0,9,  -999.00,9,  -999.0,  0.0064,   0.250,   0.028,  2.0966,   0.002,9
      06MT22_5,   A10,    70,  2,    306,2,19930120,0055,-29.9950,  -2.3233, 4302,   3503.0,   2.3580,  34.8790,2,-999.0000,9,    238.0,2,    51.18,2,    24.06,9,     1.64,2,   -0.001,2,    0.000,2,    0.001,2,    0.005,2,   1.8350,5,     4.06,3,   -123.9,2,   7.995,5,  -999.00,9,   2203.1,2,   -999.0,9,   -999.0,9,  -999.00,9,     5.3,  0.0073,   0.250,   0.032,  2.0690,   0.003,9
      06MT22_5,   A10,    70,  2,    305,2,19930120,0055,-29.9950,  -2.3233, 4302,   3755.0,   2.3660,  34.8800,2,-999.0000,9,    237.9,2,    51.30,2,    24.08,9,     1.66,2,    0.001,2,    0.001,2,    0.001,2,    0.004,2,   1.8270,5,     3.70,3,   -999.0,9,   7.976,5,  -999.00,9,   2205.6,2,   -999.0,9,   -999.0,9,  -999.00,9,  -999.0,  0.0073,   0.250,   0.032,  2.0492,   0.002,9
      06MT22_5,   A10,    70,  2,    304,2,19930120,0055,-29.9950,  -2.3233, 4302,   4017.0,   2.3700,  34.8810,2,  34.8790,2,    241.9,2,    51.84,2,    24.10,9,     1.63,2,    0.000,2,    0.000,2,    0.002,2,    0.004,2,   1.8221,2,     2.90,2,   -128.9,2,   7.999,2,  -999.00,9,   2208.4,2,   -999.0,9,   -999.0,9,  -999.00,9,     5.4,  0.0064,   0.250,   0.028,  2.0236,   0.002,9
      06MT22_5,   A10,    70,  2,    303,2,19930120,0055,-29.9950,  -2.3233, 4302,   4257.0,   2.3690,  34.8790,2,-999.0000,9,    236.3,2,    52.84,2,    24.13,9,     1.63,2,    0.000,2,    0.001,2,    0.001,2,    0.007,2,   1.8422,5,     3.36,3,   -999.0,9,   8.022,5,  -999.00,9,   2211.2,2,   -999.0,9,   -999.0,9,  -999.00,9,  -999.0,  0.0074,   0.250,   0.032,  1.9948,   0.002,9
      06MT22_5,   A10,    70,  2,    302,2,19930120,0055,-29.9950,  -2.3233, 4302,   4352.0,   2.3710,  34.8780,2,-999.0000,9,   -999.0,9,  -999.00,9,  -999.00,9,  -999.00,9,   -0.001,2,    0.000,2,   -0.001,2,    0.006,2,   1.8422,5,     3.94,3,   -999.0,9,   8.042,5,  -999.00,9,   2211.8,2,   -999.0,9,   -999.0,9,  -999.00,9,  -999.0,  0.0074,   0.250,   0.032,  1.9855,   0.002,9
      06MT22_5,   A10,    70,  2,    301,2,19930120,0055,-29.9950,  -2.3233, 4302,   4390.0,   2.3750,  34.8770,2,  34.8760,2,    233.6,2,    53.10,2,    24.40,9,     1.70,2,    0.000,2,    0.000,2,   -0.001,2,    0.006,2,-999.0000,1,  -999.00,1,   -146.9,2,-999.000,1,  -999.00,9,   -999.0,0,   -999.0,9,   -999.0,9,  -999.00,9,     5.4,-999.0000,-999.000,-999.000,  1.9849,   0.002,9
      06MT22_5,   A10,    71,  1,    217,2,19930120,0751,-30.0000,  -1.5250, 4492,     12.0,  24.0690,  35.8110,2,  35.8010,2,    218.9,2,     1.42,2,     0.08,9,     0.20,2, -999.000,9, -999.000,9, -999.000,9, -999.000,9,-999.0000,9,  -999.00,9,   -999.0,9,-999.000,9,  -999.00,9,   -999.0,0,   -999.0,9,   -999.0,9,  -999.00,9,  -999.0,-999.0000,-999.000,-999.000, 24.0665,-999.000,9
      06MT22_5,   A10,    71,  1,    210,2,19930120,0751,-30.0000,  -1.5250, 4492,     12.0,  24.0730,  35.8120,2,-999.0000,9,   -999.0,9,  -999.00,9,  -999.00,9,  -999.00,9, -999.000,9, -999.000,9, -999.000,9, -999.000,9,-999.0000,9,  -999.00,9,   -999.0,9,-999.000,9,  -999.00,9,   -999.0,0,   -999.0,9,   -999.0,9,  -999.00,9,  -999.0,-999.0000,-999.000,-999.000, 24.0705,-999.000,9
      06MT22_5,   A10,    71,  1,    209,2,19930120,0751,-30.0000,  -1.5250, 4492,     32.0,  21.9560,  35.7010,2,-999.0000,9,    238.0,2,     1.10,2,     0.03,9,     0.20,2, -999.000,9, -999.000,9, -999.000,9, -999.000,9,-999.0000,9,  -999.00,9,   -999.0,9,-999.000,9,  -999.00,9,   -999.0,0,   -999.0,9,   -999.0,9,  -999.00,9,  -999.0,-999.0000,-999.000,-999.000, 21.9497,-999.000,9
      06MT22_5,   A10,    71,  1,    208,2,19930120,0751,-30.0000,  -1.5250, 4492,     52.0,  18.1390,  35.5880,2,-999.0000,9,   -999.0,9,  -999.00,9,  -999.00,9,  -999.00,9, -999.000,9, -999.000,9, -999.000,9, -999.000,9,-999.0000,9,  -999.00,9,   -999.0,9,-999.000,9,  -999.00,9,   -999.0,0,   -999.0,9,   -999.0,9,  -999.00,9,  -999.0,-999.0000,-999.000,-999.000, 18.1300,-999.000,9
      06MT22_5,   A10,    71,  1,    208,2,19930120,0751,-30.0000,  -1.5250, 4492,     52.0,  18.1040,  35.5850,2,-999.0000,9,    263.3,2,     1.39,2,     0.00,9,     0.22,2, -999.000,9, -999.000,9, -999.000,9, -999.000,9,-999.0000,9,  -999.00,9,   -999.0,9,-999.000,9,  -999.00,9,   -999.0,0,   -999.0,9,   -999.0,9,  -999.00,9,  -999.0,-999.0000,-999.000,-999.000, 18.0950,-999.000,9
      06MT22_5,   A10,    71,  1,    207,2,19930120,0751,-30.0000,  -1.5250, 4492,     72.0,  16.7200,  35.5600,2,-999.0000,9,    259.8,2,     1.10,2,     0.07,9,     0.21,2, -999.000,9, -999.000,9, -999.000,9, -999.000,9,-999.0000,9,  -999.00,9,   -999.0,9,-999.000,9,  -999.00,9,   -999.0,0,   -999.0,9,   -999.0,9,  -999.00,9,  -999.0,-999.0000,-999.000,-999.000, 16.7083,-999.000,9
      06MT22_5,   A10,    71,  1,    206,2,19930120,0751,-30.0000,  -1.5250, 4492,    101.0,  15.7640,  35.5240,2,-999.0000,9,    238.6,2,     1.96,2,     1.53,9,     0.34,2, -999.000,9, -999.000,9, -999.000,9, -999.000,9,-999.0000,9,  -999.00,9,   -999.0,9,-999.000,9,  -999.00,9,   -999.0,0,   -999.0,9,   -999.0,9,  -999.00,9,  -999.0,-999.0000,-999.000,-999.000, 15.7482,-999.000,9
      06MT22_5,   A10,    71,  1,    205,2,19930120,0751,-30.0000,  -1.5250, 4492,    151.0,  15.1700,  35.4360,2,  35.4290,2,    236.9,2,     2.20,2,     3.03,9,     0.35,2, -999.000,9, -999.000,9, -999.000,9, -999.000,9,-999.0000,9,  -999.00,9,   -999.0,9,-999.000,9,  -999.00,9,   -999.0,0,   -999.0,9,   -999.0,9,  -999.00,9,  -999.0,-999.0000,-999.000,-999.000, 15.1469,-999.000,9
      06MT22_5,   A10,    71,  1,    204,2,19930120,0751,-30.0000,  -1.5250, 4492,    202.0,  14.3350,  35.2800,2,-999.0000,9,    232.1,2,     2.45,2,     4.61,9,     0.47,2, -999.000,9, -999.000,9, -999.000,9, -999.000,9,-999.0000,9,  -999.00,9,   -999.0,9,-999.000,9,  -999.00,9,   -999.0,0,   -999.0,9,   -999.0,9,  -999.00,9,  -999.0,-999.0000,-999.000,-999.000, 14.3053,-999.000,9
      06MT22_5,   A10,    71,  1,    203,2,19930120,0751,-30.0000,  -1.5250, 4492,    300.0,  12.5800,  35.0950,2,  35.0850,2,    215.1,2,     4.35,2,    10.66,9,     0.81,2, -999.000,9, -999.000,9, -999.000,9, -999.000,9,-999.0000,9,  -999.00,9,   -999.0,9,-999.000,9,  -999.00,9,   -999.0,0,   -999.0,9,   -999.0,9,  -999.00,9,  -999.0,-999.0000,-999.000,-999.000, 12.5394,-999.000,9
      06MT22_5,   A10,    71,  1,    202,2,19930120,0751,-30.0000,  -1.5250, 4492,    401.0,  10.9020,  34.9000,2,-999.0000,9,    209.6,2,     6.17,2,    15.17,9,     1.06,2, -999.000,9, -999.000,9, -999.000,9, -999.000,9,-999.0000,9,  -999.00,9,   -999.0,9,-999.000,9,  -999.00,9,   -999.0,0,   -999.0,9,   -999.0,9,  -999.00,9,  -999.0,-999.0000,-999.000,-999.000, 10.8525,-999.000,9
      06MT22_5,   A10,    71,  1,    201,2,19930120,0751,-30.0000,  -1.5250, 4492,    501.0,   9.4700,  34.7350,2,  34.7320,2,    204.8,2,     8.65,2,    19.04,9,     1.33,2, -999.000,9, -999.000,9, -999.000,9, -999.000,9,-999.0000,9,  -999.00,9,   -999.0,9,-999.000,9,  -999.00,9,   -999.0,0,   -999.0,9,   -999.0,9,  -999.00,9,  -999.0,-999.0000,-999.000,-999.000,  9.4131,-999.000,9