BOTTLE,20030417WHPSIOSA
EXPOCODE,SECT_ID,STNNBR,CASTNO,BTLNBR,BTLNBR_FLAG_W,DATE,TIME,LATITUDE,LONGITUDE,DEPTH,CTDPRS,CTDTMP,CTDSAL,CTDSAL_FLAG_W,SALNTY,SALNTY_FLAG_W,OXYGEN,OXYGEN_FLAG_W,SILCAT,SILCAT_FLAG_W,NO2+NO3,NO2+NO3_FLAG_W,PHSPHT,PHSPHT_FLAG_W,CFC-11,CFC-11_FLAG_W,CFC-12,CFC-12_FLAG_W,CCL4,CCL4_FLAG_W,TRITUM,TRITUM_FLAG_W,HELIUM,HELIUM_FLAG_W,DELHE3,DELHE3_FLAG_W,DELC14,DELC14_FLAG_W,NEON,NEON_FLAG_W,O18O16,O18O16_FLAG_W,TCARBN,TCARBN_FLAG_W,PCO2,PCO2_FLAG_W,ALKALI,ALKALI_FLAG_W,PH,PH_FLAG_W,C14ERR,HELIER,DELHER,NEONER,THETA,TRITER,TRITER_FLAG_W
,,,,,,,,,,,DBAR,ITS-90,PSS-78,,PSS-78,,UMOL/KG,,UMOL/KG,,UMOL/KG,,UMOL/KG,,PMOL/KG,,PMOL/KG,,PMOL/KG,,TU,,NMOL/KG,,PERCNT,,/MILLE,,NMOL/KG,,MILLE,,UMOL/KG,,UATM,,UMOL/KG,,,,/MILLE,NMOL/KG,PERCNT,NMOL/KG,ITS-90,TU,
      06MT22_5,   A10,    72,  2,    324,2,19930120,1806,-30.0148,  -0.7265, 4875,      9.0,  24.7310,  35.9380,2,  35.9340,2,   -999.0,9,  -999.00,9,  -999.00,9,  -999.00,9, -999.000,9, -999.000,9, -999.000,9, -999.000,9,-999.0000,9,  -999.00,9,   -999.0,9,-999.000,9,  -999.00,9,   -999.0,9,   -999.0,9,   -999.0,9,  -999.00,9,  -999.0,-999.0000,-999.000,-999.000, 24.7291,-999.000,9
      06MT22_5,   A10,    72,  2,    321,2,19930120,1806,-30.0148,  -0.7265, 4875,    849.0,   4.3400,  34.3230,2,  34.3250,2,    216.7,2,    27.28,2,    30.65,9,     2.24,2,    1.170,2,    0.578,2,    2.194,2, -999.000,9,-999.0000,9,  -999.00,9,   -999.0,9,-999.000,9,  -999.00,9,   2184.0,2,   -999.0,9,   2299.7,2,  -999.00,9,  -999.0,-999.0000,-999.000,-999.000,  4.2747,-999.000,9
      06MT22_5,   A10,    72,  2,    320,2,19930120,1806,-30.0148,  -0.7265, 4875,    999.0,   3.5300,  34.3770,2,-999.0000,9,    199.5,2,    40.68,2,    33.00,9,     2.46,2,    0.576,2,    0.273,2,    1.392,2, -999.000,9,-999.0000,9,  -999.00,9,   -999.0,9,-999.000,9,  -999.00,9,   2206.5,2,   -999.0,9,   2311.1,2,  -999.00,9,  -999.0,-999.0000,-999.000,-999.000,  3.4581,-999.000,9
      06MT22_5,   A10,    72,  2,    319,2,19930120,1806,-30.0148,  -0.7265, 4875,   1200.0,   3.1370,  34.5040,2,  34.5040,2,    185.4,2,    52.10,2,    33.58,9,     2.51,2,    0.172,2,    0.077,2,    0.618,2, -999.000,9,-999.0000,9,  -999.00,9,   -999.0,9,-999.000,9,  -999.00,9,   2226.4,2,   -999.0,9,   2322.0,2,  -999.00,9,  -999.0,-999.0000,-999.000,-999.000,  3.0524,-999.000,9
      06MT22_5,   A10,    72,  2,    318,2,19930120,1806,-30.0148,  -0.7265, 4875,   1399.0,   3.0020,  34.6090,2,-999.0000,9,    187.4,2,    54.50,2,    32.29,9,     2.40,2,    0.063,2,    0.021,2,    0.300,2, -999.000,9,-999.0000,9,  -999.00,9,   -999.0,9,-999.000,9,  -999.00,9,   2228.6,2,   -999.0,9,   2328.9,2,  -999.00,9,  -999.0,-999.0000,-999.000,-999.000,  2.9021,-999.000,9
      06MT22_5,   A10,    72,  2,    317,2,19930120,1806,-30.0148,  -0.7265, 4875,   1599.0,   2.9480,  34.7050,2,-999.0000,9,    195.7,2,    52.66,2,    30.31,9,     2.21,2,    0.025,2,    0.005,2,    0.136,2, -999.000,9,-999.0000,9,  -999.00,9,   -999.0,9,-999.000,9,  -999.00,9,   2222.1,2,   -999.0,9,   2332.8,2,  -999.00,9,  -999.0,-999.0000,-999.000,-999.000,  2.8320,-999.000,9
      06MT22_5,   A10,    72,  2,    316,2,19930120,1806,-30.0148,  -0.7265, 4875,   1801.0,   2.8400,  34.7600,2,  34.7590,2,    205.5,2,    52.37,2,    28.83,9,     2.11,2,    0.008,2,    0.000,2,    0.087,2, -999.000,9,-999.0000,9,  -999.00,9,   -999.0,9,-999.000,9,  -999.00,9,   2216.0,2,   -999.0,9,   2333.8,2,  -999.00,9,  -999.0,-999.0000,-999.000,-999.000,  2.7080,-999.000,9
      06MT22_5,   A10,    72,  2,    315,2,19930120,1806,-30.0148,  -0.7265, 4875,   2001.0,   2.6950,  34.8010,2,-999.0000,9,    214.9,2,    51.90,2,    27.35,9,     1.95,2, -999.000,9, -999.000,9, -999.000,9, -999.000,9,-999.0000,9,  -999.00,9,   -999.0,9,-999.000,9,  -999.00,9,   2211.1,2,   -999.0,9,   2334.8,2,  -999.00,9,  -999.0,-999.0000,-999.000,-999.000,  2.5472,-999.000,9
      06MT22_5,   A10,    72,  2,    314,2,19930120,1806,-30.0148,  -0.7265, 4875,   2250.0,   2.5480,  34.8280,2,-999.0000,9,    223.8,2,    53.31,2,    26.27,9,     1.89,2,    0.000,2,   -0.001,2,    0.034,2, -999.000,9,-999.0000,9,  -999.00,9,   -999.0,9,-999.000,9,  -999.00,9,   2205.9,2,   -999.0,9,   2336.8,2,  -999.00,9,  -999.0,-999.0000,-999.000,-999.000,  2.3801,-999.000,9
      06MT22_5,   A10,    72,  2,    313,2,19930120,1806,-30.0148,  -0.7265, 4875,   2501.0,   2.4530,  34.8450,2,  34.8440,2,    230.2,2,    51.95,2,    25.52,9,     1.84,2, -999.000,9, -999.000,9, -999.000,9, -999.000,9,-999.0000,9,  -999.00,9,   -999.0,9,-999.000,9,  -999.00,9,   2204.8,2,   -999.0,9,   2339.8,2,  -999.00,9,  -999.0,-999.0000,-999.000,-999.000,  2.2634,-999.000,9
      06MT22_5,   A10,    72,  2,    312,2,19930120,1806,-30.0148,  -0.7265, 4875,   2751.0,   2.3870,  34.8590,2,-999.0000,9,    234.3,2,    51.43,2,    24.87,9,     1.78,2,    0.010,4,    0.000,2,    0.013,2, -999.000,9,-999.0000,9,  -999.00,9,   -999.0,9,-999.000,9,  -999.00,9,   2202.7,2,   -999.0,9,   2339.8,2,  -999.00,9,  -999.0,-999.0000,-999.000,-999.000,  2.1746,-999.000,9
      06MT22_5,   A10,    72,  2,    311,2,19930120,1806,-30.0148,  -0.7265, 4875,   3003.0,   2.3490,  34.8680,2,-999.0000,9,    236.4,2,    51.05,2,    24.40,9,  -999.00,9, -999.000,9, -999.000,9, -999.000,9, -999.000,9,-999.0000,9,  -999.00,9,   -999.0,9,-999.000,9,  -999.00,9,   2195.5,2,   -999.0,9,   2345.7,2,  -999.00,9,  -999.0,-999.0000,-999.000,-999.000,  2.1124,-999.000,9
      06MT22_5,   A10,    72,  2,    310,2,19930120,1806,-30.0148,  -0.7265, 4875,   3253.0,   2.3170,  34.8720,2,  34.8720,2,    235.4,2,    52.00,2,    24.27,9,  -999.00,9,    0.000,2,    0.000,2,    0.005,2, -999.000,9,-999.0000,9,  -999.00,9,   -999.0,9,-999.000,9,  -999.00,9,   2205.6,2,   -999.0,9,   2350.6,2,  -999.00,9,  -999.0,-999.0000,-999.000,-999.000,  2.0555,-999.000,9
      06MT22_5,   A10,    72,  2,    309,2,19930120,1806,-30.0148,  -0.7265, 4875,   3504.0,   2.3130,  34.8760,2,-999.0000,9,    235.8,2,    54.62,2,    24.34,9,  -999.00,9, -999.000,9, -999.000,9, -999.000,9, -999.000,9,-999.0000,9,  -999.00,9,   -999.0,9,-999.000,9,  -999.00,9,   2209.3,2,   -999.0,9,   2352.6,2,  -999.00,9,  -999.0,-999.0000,-999.000,-999.000,  2.0250,-999.000,9
      06MT22_5,   A10,    72,  2,    308,2,19930120,1806,-30.0148,  -0.7265, 4875,   3755.0,   2.3190,  34.8770,2,-999.0000,9,    234.3,2,    52.84,2,    24.17,9,  -999.00,9,    0.001,2,    0.000,2,    0.005,2, -999.000,9,-999.0000,9,  -999.00,9,   -999.0,9,-999.000,9,  -999.00,9,   2210.8,2,   -999.0,9,   2356.5,2,  -999.00,9,  -999.0,-999.0000,-999.000,-999.000,  2.0035,-999.000,9
      06MT22_5,   A10,    72,  2,    307,2,19930120,1806,-30.0148,  -0.7265, 4875,   4005.0,   2.3180,  34.8750,2,  34.8730,2,    233.8,2,    53.97,2,    24.37,9,  -999.00,9, -999.000,9, -999.000,9, -999.000,9,    0.013,2,-999.0000,1,  -999.00,1,   -999.0,9,-999.000,1,  -999.00,9,   2213.1,2,   -999.0,9,   2357.5,2,  -999.00,9,  -999.0,-999.0000,-999.000,-999.000,  1.9744,   0.002,9
      06MT22_5,   A10,    72,  2,    306,2,19930120,1806,-30.0148,  -0.7265, 4875,   4256.0,   2.3170,  34.8710,2,-999.0000,9,    234.8,2,    55.37,2,    24.59,9,  -999.00,9,   -0.001,2,    0.000,2,    0.002,2,    0.008,2,   3.1204,4,     3.86,3,   -999.0,9,   8.046,7,  -999.00,9,   2214.3,2,   -999.0,9,   2358.5,2,  -999.00,9,  -999.0,  0.0109,   0.250,   0.028,  1.9445,   0.002,9
      06MT22_5,   A10,    72,  2,    305,2,19930120,1806,-30.0148,  -0.7265, 4875,   4507.0,   2.3230,  34.8680,2,-999.0000,9,    233.5,2,    56.89,2,    24.72,9,  -999.00,9, -999.000,9, -999.000,9, -999.000,9,    0.022,2,-999.0000,1,  -999.00,1,   -999.0,9,-999.000,1,  -999.00,9,   2215.5,2,   -999.0,9,   2359.5,2,  -999.00,9,  -999.0,-999.0000,-999.000,-999.000,  1.9205,   0.013,9
      06MT22_5,   A10,    72,  2,    304,2,19930120,1806,-30.0148,  -0.7265, 4875,   4762.0,   2.3390,  34.8670,2,  34.8660,2,    232.6,2,    56.84,2,    24.74,9,  -999.00,9,    0.001,2,    0.000,2,    0.006,2,    0.006,2,-999.0000,1,  -999.00,1,   -999.0,9,-999.000,1,  -999.00,9,   2216.4,2,   -999.0,9,   2363.5,2,  -999.00,9,  -999.0,-999.0000,-999.000,-999.000,  1.9049,   0.002,9
      06MT22_5,   A10,    72,  2,    303,2,19930120,1806,-30.0148,  -0.7265, 4875,   4798.0,   2.3400,  34.8670,2,-999.0000,9,    232.7,2,    57.16,2,    24.81,9,  -999.00,9,    0.002,2,   -0.001,2,    0.007,2,    0.010,2,   3.2966,4,     4.36,3,   -999.0,9,   8.335,4,  -999.00,9,   2215.4,2,   -999.0,9,   2356.5,2,  -999.00,9,  -999.0,  0.0115,   0.250,   0.029,  1.9015,   0.002,9
      06MT22_5,   A10,    72,  2,    301,2,19930120,1806,-30.0148,  -0.7265, 4875,   4878.0,   2.3400,  34.8650,2,-999.0000,9,    232.2,2,    57.73,2,    24.74,9,  -999.00,9,   -0.001,2,    0.000,2,    0.003,2,    0.009,2,-999.0000,1,  -999.00,1,   -999.0,9,-999.000,1,  -999.00,9,   2216.1,2,   -999.0,9,   2359.5,2,  -999.00,9,  -999.0,-999.0000,-999.000,-999.000,  1.8837,   0.003,9
      06MT22_5,   A10,    72,  2,    302,2,19930120,1806,-30.0148,  -0.7265, 4875,   4880.0,   2.3410,  34.8650,2,  34.8650,2,   -999.0,9,  -999.00,9,  -999.00,9,  -999.00,9,    0.000,6,    0.000,6,    0.003,6,    0.011,2,-999.0000,1,  -999.00,1,   -999.0,9,-999.000,1,  -999.00,9,   -999.0,9,   -999.0,9,   -999.0,9,  -999.00,9,  -999.0,-999.0000,-999.000,-999.000,  1.8922,   0.003,9
      06MT22_5,   A10,    73,  1,    217,2,19930120,2300,-30.0000,  -0.0333, 4134,     11.0,  24.2350,  35.8450,2,  35.8440,2,    221.4,2,     1.02,2,     0.00,9,     0.02,2, -999.000,9, -999.000,9, -999.000,9, -999.000,9,-999.0000,9,  -999.00,9,   -999.0,9,-999.000,9,  -999.00,9,   -999.0,0,   -999.0,9,   -999.0,9,  -999.00,9,  -999.0,-999.0000,-999.000,-999.000, 24.2327,-999.000,9
      06MT22_5,   A10,    73,  1,    209,2,19930120,2300,-30.0000,  -0.0333, 4134,     12.0,  24.2380,  35.8460,2,-999.0000,9,   -999.0,9,  -999.00,9,  -999.00,9,  -999.00,9, -999.000,9, -999.000,9, -999.000,9, -999.000,9,-999.0000,1,  -999.00,1,   -999.0,9,-999.000,1,  -999.00,9,   -999.0,0,   -999.0,9,   -999.0,9,  -999.00,9,  -999.0,-999.0000,-999.000,-999.000, 24.2354,-999.000,9
      06MT22_5,   A10,    73,  1,    208,2,19930120,2300,-30.0000,  -0.0333, 4134,     31.0,  21.2200,  35.7260,2,-999.0000,9,    241.9,2,     0.92,2,     0.05,9,     0.02,2, -999.000,9, -999.000,9, -999.000,9, -999.000,9,   1.7163,7,    -1.27,2,   -999.0,9,   6.911,7,  -999.00,9,   -999.0,0,   -999.0,9,   -999.0,9,  -999.00,9,  -999.0,  0.0069,   0.250,   0.028, 21.2140,-999.000,9
      06MT22_5,   A10,    73,  1,    207,2,19930120,2300,-30.0000,  -0.0333, 4134,     52.0,  18.7400,  35.6630,2,  35.6600,2,    254.6,2,     0.97,2,     0.03,9,     0.04,2, -999.000,9, -999.000,9, -999.000,9, -999.000,9,   1.7199,2,    -0.99,2,   -999.0,9,   7.085,2,  -999.00,9,   -999.0,0,   -999.0,9,   -999.0,9,  -999.00,9,  -999.0,  0.0069,   0.250,   0.028, 18.7308,-999.000,9
      06MT22_5,   A10,    73,  1,    206,2,19930120,2300,-30.0000,  -0.0333, 4134,     71.0,  17.0720,  35.6030,2,-999.0000,9,    251.6,2,     1.25,2,     0.30,9,     0.11,2, -999.000,9, -999.000,9, -999.000,9, -999.000,9,-999.0000,1,  -999.00,1,   -999.0,9,-999.000,1,  -999.00,9,   -999.0,0,   -999.0,9,   -999.0,9,  -999.00,9,  -999.0,-999.0000,-999.000,-999.000, 17.0602,-999.000,9
      06MT22_5,   A10,    73,  1,    205,2,19930120,2300,-30.0000,  -0.0333, 4134,    102.0,  16.0770,  35.5480,2,-999.0000,9,    245.7,2,     2.51,2,     1.93,9,     0.19,2, -999.000,9, -999.000,9, -999.000,9, -999.000,9,-999.0000,9,  -999.00,9,   -999.0,9,-999.000,9,  -999.00,9,   -999.0,0,   -999.0,9,   -999.0,9,  -999.00,9,  -999.0,-999.0000,-999.000,-999.000, 16.0608,-999.000,9
      06MT22_5,   A10,    73,  1,    204,2,19930120,2300,-30.0000,  -0.0333, 4134,    151.0,  15.6360,  35.5010,2,  35.5020,2,    237.1,2,     1.97,2,     3.54,9,     0.29,2, -999.000,9, -999.000,9, -999.000,9, -999.000,9,-999.0000,9,  -999.00,9,   -999.0,9,-999.000,9,  -999.00,9,   -999.0,0,   -999.0,9,   -999.0,9,  -999.00,9,  -999.0,-999.0000,-999.000,-999.000, 15.6124,-999.000,9
      06MT22_5,   A10,    73,  1,    203,2,19930120,2300,-30.0000,  -0.0333, 4134,    202.0,  14.8660,  35.3610,2,-999.0000,9,    232.1,2,     4.15,2,    10.17,9,     0.69,2, -999.000,9, -999.000,9, -999.000,9, -999.000,9,-999.0000,9,  -999.00,9,   -999.0,9,-999.000,9,  -999.00,9,   -999.0,0,   -999.0,9,   -999.0,9,  -999.00,9,  -999.0,-999.0000,-999.000,-999.000, 14.8356,-999.000,9
      06MT22_5,   A10,    73,  1,    202,2,19930120,2300,-30.0000,  -0.0333, 4134,    299.0,  12.7000,  35.0970,2,-999.0000,9,    214.6,2,     5.60,2,    14.69,9,     0.96,2, -999.000,9, -999.000,9, -999.000,9, -999.000,9,-999.0000,9,  -999.00,9,   -999.0,9,-999.000,9,  -999.00,9,   -999.0,0,   -999.0,9,   -999.0,9,  -999.00,9,  -999.0,-999.0000,-999.000,-999.000, 12.6594,-999.000,9
      06MT22_5,   A10,    73,  1,    201,2,19930120,2300,-30.0000,  -0.0333, 4134,    401.0,  11.0340,  34.9080,2,  34.9130,2,    212.0,2,  -999.00,9,  -999.00,9,  -999.00,9, -999.000,9, -999.000,9, -999.000,9, -999.000,9,-999.0000,9,  -999.00,9,   -999.0,9,-999.000,9,  -999.00,9,   -999.0,0,   -999.0,9,   -999.0,9,  -999.00,9,  -999.0,-999.0000,-999.000,-999.000, 10.9840,-999.000,9