BOTTLE,20030417WHPSIOSA
EXPOCODE,SECT_ID,STNNBR,CASTNO,BTLNBR,BTLNBR_FLAG_W,DATE,TIME,LATITUDE,LONGITUDE,DEPTH,CTDPRS,CTDTMP,CTDSAL,CTDSAL_FLAG_W,SALNTY,SALNTY_FLAG_W,OXYGEN,OXYGEN_FLAG_W,SILCAT,SILCAT_FLAG_W,NO2+NO3,NO2+NO3_FLAG_W,PHSPHT,PHSPHT_FLAG_W,CFC-11,CFC-11_FLAG_W,CFC-12,CFC-12_FLAG_W,CCL4,CCL4_FLAG_W,TRITUM,TRITUM_FLAG_W,HELIUM,HELIUM_FLAG_W,DELHE3,DELHE3_FLAG_W,DELC14,DELC14_FLAG_W,NEON,NEON_FLAG_W,O18O16,O18O16_FLAG_W,TCARBN,TCARBN_FLAG_W,PCO2,PCO2_FLAG_W,ALKALI,ALKALI_FLAG_W,PH,PH_FLAG_W,C14ERR,HELIER,DELHER,NEONER,THETA,TRITER,TRITER_FLAG_W
,,,,,,,,,,,DBAR,ITS-90,PSS-78,,PSS-78,,UMOL/KG,,UMOL/KG,,UMOL/KG,,UMOL/KG,,PMOL/KG,,PMOL/KG,,PMOL/KG,,TU,,NMOL/KG,,PERCNT,,/MILLE,,NMOL/KG,,MILLE,,UMOL/KG,,UATM,,UMOL/KG,,,,/MILLE,NMOL/KG,PERCNT,NMOL/KG,ITS-90,TU,
      06MT22_5,   A10,    20,  1,    323,2,19930105,1926,-30.0042, -35.8357, 2380,      9.0,  22.1390,  36.0720,2,-999.0000,9,    222.5,2,     0.26,2,     0.06,9,     0.04,2,    2.058,2,    1.165,2,    2.460,2,    0.994,2,   1.6864,2,    -1.71,2,   -999.0,9,   6.768,2,  -999.00,9,   -999.0,9,   -999.0,9,   -999.0,9,  -999.00,9,  -999.0,  0.0059,   0.250,   0.024, 22.1372,   0.026,9
      06MT22_5,   A10,    20,  1,    322,2,19930105,1926,-30.0042, -35.8357, 2380,      9.0,  22.1420,  36.0730,2,  36.0750,2,    222.6,2,     0.11,2,     0.01,9,     0.06,2, -999.000,9, -999.000,9, -999.000,9, -999.000,9,-999.0000,9,  -999.00,9,   -999.0,9,-999.000,9,  -999.00,9,   2036.4,2,   -999.0,9,   -999.0,9,  -999.00,9,  -999.0,-999.0000,-999.000,-999.000, 22.1402,-999.000,9
      06MT22_5,   A10,    20,  1,    321,2,19930105,1926,-30.0042, -35.8357, 2380,     31.0,  22.0650,  36.0730,2,-999.0000,9,    224.6,2,     0.00,2,     0.11,9,     0.03,2,    2.055,2,    1.176,2,    2.427,2,    1.000,2,   1.6918,5,    -1.67,3,   -999.0,9,   6.793,5,  -999.00,9,   2033.2,2,   -999.0,9,   -999.0,9,  -999.00,9,  -999.0,  0.0068,   0.250,   0.027, 22.0588,   0.025,9
      06MT22_5,   A10,    20,  1,    320,2,19930105,1926,-30.0042, -35.8357, 2380,     50.0,  21.7520,  36.1360,2,-999.0000,9,    228.3,2,     0.03,2,     0.00,9,     0.04,2, -999.000,9, -999.000,9, -999.000,9, -999.000,9,-999.0000,9,  -999.00,9,   -999.0,9,-999.000,9,  -999.00,9,   2035.8,2,   -999.0,9,   -999.0,9,  -999.00,9,  -999.0,-999.0000,-999.000,-999.000, 21.7422,-999.000,9
      06MT22_5,   A10,    20,  1,    319,2,19930105,1926,-30.0042, -35.8357, 2380,     69.0,  20.8230,  36.1430,2,-999.0000,9,    226.6,2,     0.10,2,     0.04,9,     0.11,2,    2.151,2,    1.190,2,    2.191,2,    0.939,2,   1.7016,2,    -1.52,2,   -999.0,9,   6.877,2,  -999.00,9,   2044.7,2,   -999.0,9,   -999.0,9,  -999.00,9,  -999.0,  0.0060,   0.250,   0.024, 20.8098,   0.025,9
      06MT22_5,   A10,    20,  1,    318,2,19930105,1926,-30.0042, -35.8357, 2380,    100.0,  19.4060,  36.1150,2,  36.1150,2,    215.3,2,     0.62,2,     1.37,9,     0.24,2, -999.000,9, -999.000,9, -999.000,9, -999.000,9,-999.0000,9,  -999.00,9,   -999.0,9,-999.000,9,  -999.00,9,   2059.2,2,   -999.0,9,   -999.0,9,  -999.00,9,  -999.0,-999.0000,-999.000,-999.000, 19.3878,-999.000,9
      06MT22_5,   A10,    20,  1,    317,2,19930105,1926,-30.0042, -35.8357, 2380,    150.0,  17.7570,  35.8640,2,-999.0000,9,    211.1,2,     1.60,2,     3.51,9,     0.35,2,    2.308,2,    1.274,2,    1.278,2,    0.949,2,   1.7132,2,    -1.35,2,   -999.0,9,   7.063,7,  -999.00,9,   2071.8,2,   -999.0,9,   -999.0,9,  -999.00,9,  -999.0,  0.0060,   0.250,   0.025, 17.7314,   0.024,9
      06MT22_5,   A10,    20,  1,    316,2,19930105,1926,-30.0042, -35.8357, 2380,    200.0,  16.2780,  35.6250,2,-999.0000,9,    210.0,2,     2.26,2,     7.49,9,     0.62,2, -999.000,9, -999.000,9, -999.000,9, -999.000,9,-999.0000,9,  -999.00,9,   -999.0,9,-999.000,9,  -999.00,9,   2080.7,2,   -999.0,9,   -999.0,9,  -999.00,9,  -999.0,-999.0000,-999.000,-999.000, 16.2459,-999.000,9
      06MT22_5,   A10,    20,  1,    315,2,19930105,1926,-30.0042, -35.8357, 2380,    300.0,  14.2300,  35.3710,2,  35.3710,2,    209.7,2,     3.34,2,    10.84,9,     0.77,2,    2.282,2,    1.205,2,    0.678,2,    0.791,2,   1.7400,2,     0.35,2,   -999.0,9,   7.224,2,  -999.00,9,   2094.6,2,   -999.0,9,   -999.0,9,  -999.00,9,  -999.0,  0.0061,   0.250,   0.025, 14.1859,   0.022,9
      06MT22_5,   A10,    20,  1,    314,2,19930105,1926,-30.0042, -35.8357, 2380,    399.0,  12.8190,  35.1930,2,-999.0000,9,    207.7,2,     5.84,2,    16.33,9,     1.12,2, -999.000,9, -999.000,9, -999.000,9, -999.000,9,-999.0000,9,  -999.00,9,   -999.0,9,-999.000,9,  -999.00,9,   2105.3,2,   -999.0,9,   -999.0,9,  -999.00,9,  -999.0,-999.0000,-999.000,-999.000, 12.7644,-999.000,9
      06MT22_5,   A10,    20,  1,    313,2,19930105,1926,-30.0042, -35.8357, 2380,    499.0,  10.5990,  34.8860,2,-999.0000,9,    205.6,2,     9.36,2,    21.26,9,     1.47,2,    1.911,2,    1.017,2,    0.962,2,    0.537,2,   1.7494,2,     0.74,2,   -999.0,9,   7.415,2,  -999.00,9,   2125.4,2,   -999.0,9,   -999.0,9,  -999.00,9,  -999.0,  0.0061,   0.250,   0.026, 10.5383,   0.016,9
      06MT22_5,   A10,    20,  1,    312,2,19930105,1926,-30.0042, -35.8357, 2380,    599.0,   8.8400,  34.6740,2,  34.6740,2,    214.4,2,    13.10,2,    25.72,9,     1.72,2,    1.642,2,    0.768,3,    1.342,2,    0.385,2,   1.7618,2,     0.79,2,   -999.0,9,   7.543,2,  -999.00,9,   2138.3,2,   -999.0,9,   -999.0,9,  -999.00,9,  -999.0,  0.0070,   0.250,   0.030,  8.7744,   0.013,9
      06MT22_5,   A10,    20,  1,    311,2,19930105,1926,-30.0042, -35.8357, 2380,    699.0,   6.7440,  34.4600,2,-999.0000,9,    217.1,2,    30.76,2,    31.65,9,     2.10,2,    1.524,2,    0.844,3,    1.894,2,    0.266,2,   1.7654,5,     0.85,3,   -999.0,9,   7.656,5,  -999.00,9,   2153.3,2,   -999.0,9,   -999.0,9,  -999.00,9,  -999.0,  0.0079,   0.250,   0.034,  6.6782,   0.009,9
      06MT22_5,   A10,    20,  1,    399,2,19930105,1926,-30.0042, -35.8357, 2380,    849.0,   4.7680,  34.3160,2,-999.0000,9,   -999.0,9,  -999.00,9,  -999.00,9,  -999.00,9, -999.000,9, -999.000,9, -999.000,9, -999.000,9,-999.0000,9,  -999.00,9,   -999.0,9,-999.000,9,  -999.00,9,   -999.0,9,   -999.0,9,   -999.0,9,  -999.00,9,  -999.0,-999.0000,-999.000,-999.000,  4.7000,-999.000,9
      06MT22_5,   A10,    20,  1,    310,2,19930105,1926,-30.0042, -35.8357, 2380,    999.0,   3.8890,  34.3200,2,  34.3180,2,    202.1,2,    45.17,2,    33.54,9,     2.25,2, -999.000,9, -999.000,9, -999.000,9, -999.000,9,   1.7721,2,     2.08,2,   -999.0,9,   7.780,2,  -999.00,9,   2187.7,2,   -999.0,9,   -999.0,9,  -999.00,9,  -999.0,  0.0071,   0.250,   0.031,  3.8146,-999.000,9
      06MT22_5,   A10,    20,  1,    309,2,19930105,1926,-30.0042, -35.8357, 2380,   1200.0,   3.1760,  34.4040,2,-999.0000,9,    186.9,2,    53.64,2,    33.52,9,     2.23,2,    1.650,4,    0.158,2,    1.351,3,    0.046,2,-999.0000,1,  -999.00,1,   -999.0,9,-999.000,1,  -999.00,9,   2211.9,2,   -999.0,9,   -999.0,9,  -999.00,9,  -999.0,-999.0000,-999.000,-999.000,  3.0907,   0.004,9
      06MT22_5,   A10,    20,  1,    308,2,19930105,1926,-30.0042, -35.8357, 2380,   1400.0,   2.9430,  34.5280,2,-999.0000,9,    196.3,2,    54.95,2,    32.12,9,     2.15,2,    0.187,2,    0.082,2,    0.540,2,    0.028,2,-999.0000,1,  -999.00,1,   -999.0,9,-999.000,1,  -999.00,9,   2224.4,2,   -999.0,9,   -999.0,9,  -999.00,9,  -999.0,-999.0000,-999.000,-999.000,  2.8439,   0.007,9
      06MT22_5,   A10,    20,  1,    307,2,19930105,1926,-30.0042, -35.8357, 2380,   1601.0,   2.8580,  34.6410,2,  34.6370,2,    206.1,2,    52.84,2,    29.66,9,     1.99,2,    0.029,6,    0.036,2,    0.185,6, -999.000,9,   1.8301,2,     6.53,2,   -999.0,9,   7.909,2,  -999.00,9,   2223.4,2,   -999.0,9,   -999.0,9,  -999.00,9,  -999.0,  0.0073,   0.250,   0.032,  2.7432,-999.000,9
      06MT22_5,   A10,    20,  1,    306,2,19930105,1926,-30.0042, -35.8357, 2380,   1800.0,   2.8040,  34.7290,2,-999.0000,9,    219.1,2,    47.87,2,    27.55,9,     1.83,2,    0.016,6,    0.008,2,    0.078,6,    0.012,2,   1.8341,2,     6.41,2,   -999.0,9,   7.923,2,  -999.00,9,   2215.1,2,   -999.0,9,   -999.0,9,  -999.00,9,  -999.0,  0.0073,   0.250,   0.032,  2.6723,   0.016,9
      06MT22_5,   A10,    20,  1,    305,2,19930105,1926,-30.0042, -35.8357, 2380,   2001.0,   2.7850,  34.7960,2,-999.0000,9,    233.9,2,    42.47,2,    25.10,9,     1.67,2,    0.007,2,    0.056,4,    0.033,2, -999.000,9,   1.8140,5,     6.02,3,   -999.0,9,   7.924,5,  -999.00,9,   2203.6,2,   -999.0,9,   -999.0,9,  -999.00,9,  -999.0,  0.0082,   0.250,   0.036,  2.6359,-999.000,9
      06MT22_5,   A10,    20,  1,    304,2,19930105,1926,-30.0042, -35.8357, 2380,   2252.0,   2.7710,  34.8500,2,-999.0000,9,    235.6,2,    41.99,2,    24.99,9,     1.65,2,    0.013,2,    0.014,2,    0.026,2,    0.005,2,   1.8292,7,     4.65,2,   -999.0,9,   7.927,7,  -999.00,9,   2192.3,2,   -999.0,9,   -999.0,9,  -999.00,9,  -999.0,  0.0073,   0.500,   0.032,  2.5992,   0.006,9
      06MT22_5,   A10,    20,  1,    303,2,19930105,1926,-30.0042, -35.8357, 2380,   2326.0,   2.7740,  34.8540,2,-999.0000,9,    236.2,2,    43.08,2,    24.71,9,     1.64,2,    0.009,2,    0.036,4,    0.011,2,   -0.772,4,   1.8252,7,     3.80,2,   -999.0,9,   7.928,7,  -999.00,9,   2191.5,2,   -999.0,9,   -999.0,9,  -999.00,9,  -999.0,  0.0073,   0.250,   0.032,  2.5952,   0.400,9
      06MT22_5,   A10,    20,  1,    301,2,19930105,1926,-30.0042, -35.8357, 2380,   2405.0,   2.7740,  34.8580,2,-999.0000,9,   -999.0,9,  -999.00,9,  -999.00,9,  -999.00,9,    0.012,2,    0.050,4,   -0.005,2,    0.053,2,   1.8176,5,     4.96,3,   -999.0,9,   7.968,5,  -999.00,9,   2192.2,2,   -999.0,9,   -999.0,9,  -999.00,9,  -999.0,  0.0073,   0.250,   0.032,  2.5823,   0.038,9
      06MT22_5,   A10,    20,  1,    302,2,19930105,1926,-30.0042, -35.8357, 2380,   2408.0,   2.7730,  34.8590,2,  34.8510,2,   -999.0,9,  -999.00,9,  -999.00,9,  -999.00,9,    0.032,6,    0.002,2,    0.036,6, -999.000,9,-999.0000,9,  -999.00,9,   -999.0,9,-999.000,9,  -999.00,9,   -999.0,9,   -999.0,9,   -999.0,9,  -999.00,9,  -999.0,-999.0000,-999.000,-999.000,  2.5864,-999.000,9
      06MT22_5,   A10,    21,  1,    324,2,19930105,2231,-30.0000, -35.5167, 2504,     10.0,  22.1880,  36.0970,2,  36.1020,2,   -999.0,9,  -999.00,9,  -999.00,9,  -999.00,9, -999.000,9, -999.000,9, -999.000,9, -999.000,9,-999.0000,9,  -999.00,9,   -999.0,9,-999.000,9,  -999.00,9,   -999.0,0,   -999.0,9,   -999.0,9,  -999.00,9,  -999.0,-999.0000,-999.000,-999.000, 22.1860,-999.000,9
      06MT22_5,   A10,    21,  1,    322,2,19930105,2231,-30.0000, -35.5167, 2504,     10.0,  22.1880,  36.0970,2,-999.0000,9,    222.3,2,     0.22,2,     0.13,9,     0.03,2, -999.000,9, -999.000,9, -999.000,9, -999.000,9,-999.0000,9,  -999.00,9,   -999.0,9,-999.000,9,  -999.00,9,   -999.0,0,   -999.0,9,   -999.0,9,  -999.00,9,  -999.0,-999.0000,-999.000,-999.000, 22.1860,-999.000,9
      06MT22_5,   A10,    21,  1,    321,2,19930105,2231,-30.0000, -35.5167, 2504,     30.0,  22.0590,  36.1140,2,-999.0000,9,    224.5,2,     0.09,2,     0.07,9,     0.03,2, -999.000,9, -999.000,9, -999.000,9, -999.000,9,-999.0000,9,  -999.00,9,   -999.0,9,-999.000,9,  -999.00,9,   -999.0,0,   -999.0,9,   -999.0,9,  -999.00,9,  -999.0,-999.0000,-999.000,-999.000, 22.0530,-999.000,9
      06MT22_5,   A10,    21,  1,    320,2,19930105,2231,-30.0000, -35.5167, 2504,     50.0,  21.7810,  36.1370,2,-999.0000,9,    225.6,2,     0.14,2,     0.00,9,     0.00,2, -999.000,9, -999.000,9, -999.000,9, -999.000,9,-999.0000,9,  -999.00,9,   -999.0,9,-999.000,9,  -999.00,9,   -999.0,0,   -999.0,9,   -999.0,9,  -999.00,9,  -999.0,-999.0000,-999.000,-999.000, 21.7711,-999.000,9
      06MT22_5,   A10,    21,  1,    319,2,19930105,2231,-30.0000, -35.5167, 2504,     70.0,  21.2310,  36.1950,2,  36.2160,2,    226.5,2,     0.22,2,     0.08,9,     0.04,2, -999.000,9, -999.000,9, -999.000,9, -999.000,9,-999.0000,9,  -999.00,9,   -999.0,9,-999.000,9,  -999.00,9,   -999.0,0,   -999.0,9,   -999.0,9,  -999.00,9,  -999.0,-999.0000,-999.000,-999.000, 21.2174,-999.000,9
      06MT22_5,   A10,    21,  1,    318,2,19930105,2231,-30.0000, -35.5167, 2504,    100.0,  19.8600,  36.2020,2,-999.0000,9,    222.9,2,     0.22,2,     0.23,9,     0.06,2, -999.000,9, -999.000,9, -999.000,9, -999.000,9,-999.0000,9,  -999.00,9,   -999.0,9,-999.000,9,  -999.00,9,   -999.0,0,   -999.0,9,   -999.0,9,  -999.00,9,  -999.0,-999.0000,-999.000,-999.000, 19.8416,-999.000,9
      06MT22_5,   A10,    21,  1,    317,2,19930105,2231,-30.0000, -35.5167, 2504,    150.0,  17.8730,  35.8950,2,-999.0000,9,    211.9,2,     0.76,2,     1.90,9,     0.20,2, -999.000,9, -999.000,9, -999.000,9, -999.000,9,-999.0000,9,  -999.00,9,   -999.0,9,-999.000,9,  -999.00,9,   -999.0,0,   -999.0,9,   -999.0,9,  -999.00,9,  -999.0,-999.0000,-999.000,-999.000, 17.8473,-999.000,9
      06MT22_5,   A10,    21,  1,    316,2,19930105,2231,-30.0000, -35.5167, 2504,    200.0,  16.2670,  35.6260,2,-999.0000,9,    209.8,2,     1.52,2,     3.87,9,     0.35,2, -999.000,9, -999.000,9, -999.000,9, -999.000,9,-999.0000,9,  -999.00,9,   -999.0,9,-999.000,9,  -999.00,9,   -999.0,0,   -999.0,9,   -999.0,9,  -999.00,9,  -999.0,-999.0000,-999.000,-999.000, 16.2349,-999.000,9
      06MT22_5,   A10,    21,  1,    315,2,19930105,2231,-30.0000, -35.5167, 2504,    299.0,  14.4680,  35.3900,2,  35.3760,2,    210.3,2,     2.51,2,     7.58,9,     0.60,2, -999.000,9, -999.000,9, -999.000,9, -999.000,9,-999.0000,9,  -999.00,9,   -999.0,9,-999.000,9,  -999.00,9,   -999.0,0,   -999.0,9,   -999.0,9,  -999.00,9,  -999.0,-999.0000,-999.000,-999.000, 14.4235,-999.000,9
      06MT22_5,   A10,    21,  1,    314,2,19930105,2231,-30.0000, -35.5167, 2504,    400.0,  12.7060,  35.1700,2,-999.0000,9,    210.2,2,     3.53,2,    11.18,9,     0.80,2, -999.000,9, -999.000,9, -999.000,9, -999.000,9,-999.0000,9,  -999.00,9,   -999.0,9,-999.000,9,  -999.00,9,   -999.0,0,   -999.0,9,   -999.0,9,  -999.00,9,  -999.0,-999.0000,-999.000,-999.000, 12.6516,-999.000,9
      06MT22_5,   A10,    21,  1,    313,2,19930105,2231,-30.0000, -35.5167, 2504,    499.0,  10.6540,  34.8880,2,-999.0000,9,    205.2,2,     6.18,2,    16.74,9,     1.19,2, -999.000,9, -999.000,9, -999.000,9, -999.000,9,-999.0000,9,  -999.00,9,   -999.0,9,-999.000,9,  -999.00,9,   -999.0,0,   -999.0,9,   -999.0,9,  -999.00,9,  -999.0,-999.0000,-999.000,-999.000, 10.5931,-999.000,9
      06MT22_5,   A10,    21,  1,    312,2,19930105,2231,-30.0000, -35.5167, 2504,    600.0,   8.5990,  34.6460,2,  34.6440,2,    203.8,2,     9.71,2,    22.01,9,     1.46,2, -999.000,9, -999.000,9, -999.000,9, -999.000,9,-999.0000,9,  -999.00,9,   -999.0,9,-999.000,9,  -999.00,9,   -999.0,0,   -999.0,9,   -999.0,9,  -999.00,9,  -999.0,-999.0000,-999.000,-999.000,  8.5344,-999.000,9
      06MT22_5,   A10,    21,  1,    311,2,19930105,2231,-30.0000, -35.5167, 2504,    699.0,   6.8550,  34.4700,2,-999.0000,9,    211.5,2,    13.43,2,    25.98,9,     1.72,2, -999.000,9, -999.000,9, -999.000,9, -999.000,9,-999.0000,9,  -999.00,9,   -999.0,9,-999.000,9,  -999.00,9,   -999.0,0,   -999.0,9,   -999.0,9,  -999.00,9,  -999.0,-999.0000,-999.000,-999.000,  6.7887,-999.000,9
      06MT22_5,   A10,    21,  1,    310,2,19930105,2231,-30.0000, -35.5167, 2504,    850.0,   5.0210,  34.3290,2,-999.0000,9,    222.4,2,    19.84,2,    29.29,9,     1.93,2, -999.000,9, -999.000,9, -999.000,9, -999.000,9,-999.0000,9,  -999.00,9,   -999.0,9,-999.000,9,  -999.00,9,   -999.0,0,   -999.0,9,   -999.0,9,  -999.00,9,  -999.0,-999.0000,-999.000,-999.000,  4.9512,-999.000,9
      06MT22_5,   A10,    21,  1,    309,2,19930105,2231,-30.0000, -35.5167, 2504,   1000.0,   3.9580,  34.3140,2,  34.3160,2,    215.9,2,    29.96,2,    31.70,9,     2.14,2, -999.000,9, -999.000,9, -999.000,9, -999.000,9,-999.0000,9,  -999.00,9,   -999.0,9,-999.000,9,  -999.00,9,   -999.0,0,   -999.0,9,   -999.0,9,  -999.00,9,  -999.0,-999.0000,-999.000,-999.000,  3.8830,-999.000,9
      06MT22_5,   A10,    21,  1,    308,2,19930105,2231,-30.0000, -35.5167, 2504,   1200.0,   3.2690,  34.3930,2,-999.0000,9,    201.3,2,    43.48,2,    33.74,9,     2.25,2, -999.000,9, -999.000,9, -999.000,9, -999.000,9,-999.0000,9,  -999.00,9,   -999.0,9,-999.000,9,  -999.00,9,   -999.0,0,   -999.0,9,   -999.0,9,  -999.00,9,  -999.0,-999.0000,-999.000,-999.000,  3.1829,-999.000,9
      06MT22_5,   A10,    21,  1,    307,2,19930105,2231,-30.0000, -35.5167, 2504,   1401.0,   2.9950,  34.5290,2,-999.0000,9,   -999.0,9,  -999.00,9,  -999.00,9,  -999.00,9, -999.000,9, -999.000,9, -999.000,9, -999.000,9,-999.0000,9,  -999.00,9,   -999.0,9,-999.000,9,  -999.00,9,   -999.0,0,   -999.0,9,   -999.0,9,  -999.00,9,  -999.0,-999.0000,-999.000,-999.000,  2.8953,-999.000,9
      06MT22_5,   A10,    21,  1,    306,2,19930105,2231,-30.0000, -35.5167, 2504,   1600.0,   2.8500,  34.6360,2,  34.6370,2,    194.2,2,    54.93,2,    32.18,9,     2.17,2, -999.000,9, -999.000,9, -999.000,9, -999.000,9,-999.0000,9,  -999.00,9,   -999.0,9,-999.000,9,  -999.00,9,   -999.0,0,   -999.0,9,   -999.0,9,  -999.00,9,  -999.0,-999.0000,-999.000,-999.000,  2.7354,-999.000,9
      06MT22_5,   A10,    21,  1,    305,2,19930105,2231,-30.0000, -35.5167, 2504,   1800.0,   2.8090,  34.7240,2,-999.0000,9,    206.0,2,    52.70,2,    30.05,9,     1.99,2, -999.000,9, -999.000,9, -999.000,9, -999.000,9,-999.0000,9,  -999.00,9,   -999.0,9,-999.000,9,  -999.00,9,   -999.0,0,   -999.0,9,   -999.0,9,  -999.00,9,  -999.0,-999.0000,-999.000,-999.000,  2.6774,-999.000,9
      06MT22_5,   A10,    21,  1,    304,2,19930105,2231,-30.0000, -35.5167, 2504,   1999.0,   2.7860,  34.7950,2,  34.7930,2,    219.8,2,    47.90,2,    27.73,9,     1.79,2, -999.000,9, -999.000,9, -999.000,9, -999.000,9,-999.0000,9,  -999.00,9,   -999.0,9,-999.000,9,  -999.00,9,   -999.0,0,   -999.0,9,   -999.0,9,  -999.00,9,  -999.0,-999.0000,-999.000,-999.000,  2.6372,-999.000,9
      06MT22_5,   A10,    21,  1,    303,2,19930105,2231,-30.0000, -35.5167, 2504,   2252.0,   2.7780,  34.8400,2,-999.0000,9,    229.5,2,    43.33,2,    25.82,9,     1.66,2, -999.000,9, -999.000,9, -999.000,9, -999.000,9,-999.0000,9,  -999.00,9,   -999.0,9,-999.000,9,  -999.00,9,   -999.0,0,   -999.0,9,   -999.0,9,  -999.00,9,  -999.0,-999.0000,-999.000,-999.000,  2.6061,-999.000,9
      06MT22_5,   A10,    21,  1,    302,2,19930105,2231,-30.0000, -35.5167, 2504,   2314.0,   2.7730,  34.8500,2,  34.8480,2,    232.8,2,    42.13,2,    25.35,9,     1.65,2, -999.000,9, -999.000,9, -999.000,9, -999.000,9,-999.0000,9,  -999.00,9,   -999.0,9,-999.000,9,  -999.00,9,   -999.0,0,   -999.0,9,   -999.0,9,  -999.00,9,  -999.0,-999.0000,-999.000,-999.000,  2.5953,-999.000,9
      06MT22_5,   A10,    21,  1,    301,2,19930105,2231,-30.0000, -35.5167, 2504,   2315.0,   2.7750,  34.8480,2,-999.0000,9,    233.0,2,    41.91,2,    25.36,9,     1.66,2, -999.000,9, -999.000,9, -999.000,9, -999.000,9,-999.0000,9,  -999.00,9,   -999.0,9,-999.000,9,  -999.00,9,   -999.0,0,   -999.0,9,   -999.0,9,  -999.00,9,  -999.0,-999.0000,-999.000,-999.000,  2.5925,-999.000,9