BOTTLE,20030417WHPSIOSA
EXPOCODE,SECT_ID,STNNBR,CASTNO,BTLNBR,BTLNBR_FLAG_W,DATE,TIME,LATITUDE,LONGITUDE,DEPTH,CTDPRS,CTDTMP,CTDSAL,CTDSAL_FLAG_W,SALNTY,SALNTY_FLAG_W,OXYGEN,OXYGEN_FLAG_W,SILCAT,SILCAT_FLAG_W,NO2+NO3,NO2+NO3_FLAG_W,PHSPHT,PHSPHT_FLAG_W,CFC-11,CFC-11_FLAG_W,CFC-12,CFC-12_FLAG_W,CCL4,CCL4_FLAG_W,TRITUM,TRITUM_FLAG_W,HELIUM,HELIUM_FLAG_W,DELHE3,DELHE3_FLAG_W,DELC14,DELC14_FLAG_W,NEON,NEON_FLAG_W,O18O16,O18O16_FLAG_W,TCARBN,TCARBN_FLAG_W,PCO2,PCO2_FLAG_W,ALKALI,ALKALI_FLAG_W,PH,PH_FLAG_W,C14ERR,HELIER,DELHER,NEONER,THETA,TRITER,TRITER_FLAG_W
,,,,,,,,,,,DBAR,ITS-90,PSS-78,,PSS-78,,UMOL/KG,,UMOL/KG,,UMOL/KG,,UMOL/KG,,PMOL/KG,,PMOL/KG,,PMOL/KG,,TU,,NMOL/KG,,PERCNT,,/MILLE,,NMOL/KG,,MILLE,,UMOL/KG,,UATM,,UMOL/KG,,,,/MILLE,NMOL/KG,PERCNT,NMOL/KG,ITS-90,TU,
      06MT22_5,   A10,    28,  2,    324,2,19930107,0712,-29.9855, -32.5032, 3747,     10.0,  21.2540,  35.6410,2,  35.6440,2,   -999.0,9,  -999.00,9,  -999.00,9,  -999.00,9, -999.000,9, -999.000,9, -999.000,9, -999.000,9,-999.0000,9,  -999.00,9,   -999.0,9,-999.000,9,  -999.00,9,   2036.9,2,   -999.0,9,   -999.0,9,  -999.00,9,  -999.0,-999.0000,-999.000,-999.000, 21.2521,-999.000,9
      06MT22_5,   A10,    28,  2,    323,2,19930107,0712,-29.9855, -32.5032, 3747,     10.0,  21.2540,  35.6410,2,-999.0000,9,   -999.0,9,  -999.00,9,  -999.00,9,  -999.00,9, -999.000,9, -999.000,9, -999.000,9, -999.000,9,-999.0000,9,  -999.00,9,   -999.0,9,-999.000,9,  -999.00,9,   -999.0,9,   -999.0,9,   -999.0,9,  -999.00,9,  -999.0,-999.0000,-999.000,-999.000, 21.2521,-999.000,9
      06MT22_5,   A10,    28,  2,    320,2,19930107,0712,-29.9855, -32.5032, 3747,    399.0,  11.6820,  35.0480,2,-999.0000,9,   -999.0,9,  -999.00,9,  -999.00,9,  -999.00,9, -999.000,9, -999.000,9, -999.000,9, -999.000,9,-999.0000,9,  -999.00,9,   -999.0,9,-999.000,9,  -999.00,9,   -999.0,9,   -999.0,9,   -999.0,9,  -999.00,9,  -999.0,-999.0000,-999.000,-999.000, 11.6306,-999.000,9
      06MT22_5,   A10,    28,  2,    319,2,19930107,0712,-29.9855, -32.5032, 3747,    499.0,   9.1700,  34.7080,2,  34.7060,2,    213.1,2,     7.05,2,    19.50,9,     1.35,2,    1.902,2,    0.992,2,    1.396,2, -999.000,9,-999.0000,9,  -999.00,9,   -999.0,9,-999.000,9,  -999.00,9,   2132.5,2,   -999.0,9,   2301.5,2,  -999.00,9,  -999.0,-999.0000,-999.000,-999.000,  9.1144,-999.000,9
      06MT22_5,   A10,    28,  2,    318,2,19930107,0712,-29.9855, -32.5032, 3747,    599.0,   7.1350,  34.4810,2,-999.0000,9,    221.8,2,    10.63,2,    24.13,9,     1.64,2,    1.813,2,    0.919,2,    2.210,2, -999.000,9,-999.0000,9,  -999.00,9,   -999.0,9,-999.000,9,  -999.00,9,   2145.4,2,   -999.0,9,   2292.5,2,  -999.00,9,  -999.0,-999.0000,-999.000,-999.000,  7.0773,-999.000,9
      06MT22_5,   A10,    28,  2,    317,2,19930107,0712,-29.9855, -32.5032, 3747,    699.0,   5.5320,  34.3250,2,-999.0000,9,    236.4,2,    13.49,2,    26.70,9,     1.79,2,    1.966,2,    0.997,2,    2.237,2, -999.000,9,-999.0000,9,  -999.00,9,   -999.0,9,-999.000,9,  -999.00,9,   2151.2,2,   -999.0,9,   2286.6,2,  -999.00,9,  -999.0,-999.0000,-999.000,-999.000,  5.4727,-999.000,9
      06MT22_5,   A10,    28,  2,    316,2,19930107,0712,-29.9855, -32.5032, 3747,    848.0,   4.4010,  34.2830,2,  34.2840,2,    233.1,2,    21.03,2,    29.53,9,     1.97,2,    1.542,2,    0.780,2,    2.184,2, -999.000,9,-999.0000,9,  -999.00,9,   -999.0,9,-999.000,9,  -999.00,9,   2166.3,2,   -999.0,9,   2291.5,2,  -999.00,9,  -999.0,-999.0000,-999.000,-999.000,  4.3355,-999.000,9
      06MT22_5,   A10,    28,  2,    315,2,19930107,0712,-29.9855, -32.5032, 3747,    999.0,   3.6910,  34.3160,2,-999.0000,9,    216.0,2,    32.41,2,    32.08,9,     2.15,2,    0.706,2,    0.368,2,    1.797,2, -999.000,9,-999.0000,9,  -999.00,9,   -999.0,9,-999.000,9,  -999.00,9,   2191.2,2,   -999.0,9,   2301.5,2,  -999.00,9,  -999.0,-999.0000,-999.000,-999.000,  3.6177,-999.000,9
      06MT22_5,   A10,    28,  2,    314,2,19930107,0712,-29.9855, -32.5032, 3747,   1199.0,   3.1170,  34.4370,2,-999.0000,9,    195.7,2,    47.74,2,    33.70,9,     2.30,2,    0.227,2,    0.135,2,    0.652,2, -999.000,9,-999.0000,9,  -999.00,9,   -999.0,9,-999.000,9,  -999.00,9,   2216.7,2,   -999.0,9,   2318.4,2,  -999.00,9,  -999.0,-999.0000,-999.000,-999.000,  3.0325,-999.000,9
      06MT22_5,   A10,    28,  2,    313,2,19930107,0712,-29.9855, -32.5032, 3747,   1399.0,   2.9040,  34.5690,2,  34.5690,2,    191.6,2,    54.72,2,    33.01,9,     2.22,2,    0.069,2,    0.056,2,    0.372,2, -999.000,9,-999.0000,9,  -999.00,9,   -999.0,9,-999.000,9,  -999.00,9,   2224.7,2,   -999.0,9,   2328.4,2,  -999.00,9,  -999.0,-999.0000,-999.000,-999.000,  2.8056,-999.000,9
      06MT22_5,   A10,    28,  2,    312,2,19930107,0712,-29.9855, -32.5032, 3747,   1601.0,   2.8320,  34.6760,2,-999.0000,9,    198.7,2,    53.81,2,    30.98,9,     2.08,2,    0.023,2,    0.011,2,    0.118,2, -999.000,9,-999.0000,9,  -999.00,9,   -999.0,9,-999.000,9,  -999.00,9,   2219.8,2,   -999.0,9,   2332.3,2,  -999.00,9,  -999.0,-999.0000,-999.000,-999.000,  2.7171,-999.000,9
      06MT22_5,   A10,    28,  2,    311,2,19930107,0712,-29.9855, -32.5032, 3747,   1800.0,   2.7790,  34.7450,2,-999.0000,9,    208.8,2,    51.29,2,    29.11,9,     1.92,2,    0.006,2,    0.031,4,    0.055,2, -999.000,9,-999.0000,9,  -999.00,9,   -999.0,9,-999.000,9,  -999.00,9,   2212.7,2,   -999.0,9,   2334.3,2,  -999.00,9,  -999.0,-999.0000,-999.000,-999.000,  2.6478,-999.000,9
      06MT22_5,   A10,    28,  2,    310,2,19930107,0712,-29.9855, -32.5032, 3747,   2000.0,   2.7430,  34.7990,2,  34.8000,2,    220.3,2,    47.78,2,    27.18,9,     1.83,2,    0.013,4,    0.028,4,    0.006,2, -999.000,9,-999.0000,9,  -999.00,9,   -999.0,9,-999.000,9,  -999.00,9,   2203.2,2,   -999.0,9,   2326.9,2,  -999.00,9,  -999.0,-999.0000,-999.000,-999.000,  2.5948,-999.000,9
      06MT22_5,   A10,    28,  2,    309,2,19930107,0712,-29.9855, -32.5032, 3747,   2251.0,   2.7610,  34.8510,2,-999.0000,9,    233.0,2,    42.03,2,    25.09,9,     1.68,2, -999.000,9, -999.000,9, -999.000,9, -999.000,9,-999.0000,9,  -999.00,9,   -999.0,9,-999.000,9,  -999.00,9,   2191.7,2,   -999.0,9,   2324.9,2,  -999.00,9,  -999.0,-999.0000,-999.000,-999.000,  2.5893,-999.000,9
      06MT22_5,   A10,    28,  2,    308,2,19930107,0712,-29.9855, -32.5032, 3747,   2501.0,   2.7720,  34.8810,2,-999.0000,9,    241.9,2,    37.90,2,    23.56,9,     1.57,2,   -0.003,2,   -0.001,2,   -0.001,2, -999.000,9,-999.0000,9,  -999.00,9,   -999.0,9,-999.000,9,  -999.00,9,   2183.8,2,   -999.0,9,   2321.0,2,  -999.00,9,  -999.0,-999.0000,-999.000,-999.000,  2.5763,-999.000,9
      06MT22_5,   A10,    28,  2,    307,2,19930107,0712,-29.9855, -32.5032, 3747,   2752.0,   2.7310,  34.8970,2,  34.8960,2,    247.4,2,    36.27,2,    22.83,9,     1.50,2,    0.000,2,   -0.002,2,    0.005,2, -999.000,9,-999.0000,9,  -999.00,9,   -999.0,9,-999.000,9,  -999.00,9,   2180.2,2,   -999.0,9,   2320.0,2,  -999.00,9,  -999.0,-999.0000,-999.000,-999.000,  2.5114,-999.000,9
      06MT22_5,   A10,    28,  2,    306,2,19930107,0712,-29.9855, -32.5032, 3747,   3004.0,   2.6220,  34.8960,2,-999.0000,9,    248.9,2,    38.51,2,    22.70,9,     1.49,2,   -0.003,2,    0.004,2,    0.011,2, -999.000,9,-999.0000,9,  -999.00,9,   -999.0,9,-999.000,9,  -999.00,9,   2181.6,2,   -999.0,9,   2323.0,2,  -999.00,9,  -999.0,-999.0000,-999.000,-999.000,  2.3794,-999.000,9
      06MT22_5,   A10,    28,  2,    305,2,19930107,0712,-29.9855, -32.5032, 3747,   3255.0,   2.3980,  34.8800,2,-999.0000,9,    248.4,2,    44.81,2,    23.44,9,     1.54,2,    0.001,2,    0.001,2,    0.011,2, -999.000,9,-999.0000,9,  -999.00,9,   -999.0,9,-999.000,9,  -999.00,9,   2188.0,2,   -999.0,9,   2329.9,2,  -999.00,9,  -999.0,-999.0000,-999.000,-999.000,  2.1345,-999.000,9
      06MT22_5,   A10,    28,  2,    304,2,19930107,0712,-29.9855, -32.5032, 3747,   3517.0,   2.0800,  34.8500,2,  34.8500,2,    244.5,2,    56.86,2,    24.92,9,     1.67,2,   -0.001,2,    0.007,2,    0.035,2, -999.000,9,-999.0000,9,  -999.00,9,   -999.0,9,-999.000,9,  -999.00,9,   2199.1,2,   -999.0,9,   2333.8,2,  -999.00,9,  -999.0,-999.0000,-999.000,-999.000,  1.7966,-999.000,9
      06MT22_5,   A10,    28,  2,    303,2,19930107,0712,-29.9855, -32.5032, 3747,   3673.0,   1.6880,  34.8050,2,-999.0000,9,    237.7,2,    73.11,2,    26.98,9,     1.82,2,    0.007,2,    0.005,2,    0.030,2, -999.000,9,-999.0000,9,  -999.00,9,   -999.0,9,-999.000,9,  -999.00,9,   2216.7,2,   -999.0,9,   2349.6,2,  -999.00,9,  -999.0,-999.0000,-999.000,-999.000,  1.3985,-999.000,9
      06MT22_5,   A10,    28,  2,    301,2,19930107,0712,-29.9855, -32.5032, 3747,   3750.0,   1.4580,  34.7790,2,  34.7800,2,   -999.0,9,  -999.00,9,  -999.00,9,  -999.00,9,    0.015,6,    0.009,6,    0.050,6, -999.000,9,-999.0000,9,  -999.00,9,   -999.0,9,-999.000,9,  -999.00,9,   2228.0,2,   -999.0,9,   2348.6,2,  -999.00,9,  -999.0,-999.0000,-999.000,-999.000,  1.1664,-999.000,9
      06MT22_5,   A10,    28,  2,    302,2,19930107,0712,-29.9855, -32.5032, 3747,   3755.0,   1.4590,  34.7800,2,  34.7800,2,    230.8,2,    83.04,2,    28.45,9,     1.93,2, -999.000,9, -999.000,9, -999.000,9, -999.000,9,-999.0000,9,  -999.00,9,   -999.0,9,-999.000,9,  -999.00,9,   -999.0,9,   -999.0,9,   -999.0,9,  -999.00,9,  -999.0,-999.0000,-999.000,-999.000,  1.1669,-999.000,9
      06MT22_5,   A10,    29,  1,    217,2,19930107,1138,-29.9983, -32.0250, 3824,     12.0,  21.5330,  35.6870,2,  35.6890,2,    227.6,2,     0.05,2,     0.10,9,     0.08,2, -999.000,9, -999.000,9, -999.000,9, -999.000,9,-999.0000,9,  -999.00,9,   -999.0,9,-999.000,9,  -999.00,9,   -999.0,0,   -999.0,9,   -999.0,9,  -999.00,9,  -999.0,-999.0000,-999.000,-999.000, 21.5307,-999.000,9
      06MT22_5,   A10,    29,  1,    209,2,19930107,1138,-29.9983, -32.0250, 3824,     12.0,  21.5330,  35.6870,2,-999.0000,9,   -999.0,9,  -999.00,9,  -999.00,9,  -999.00,9, -999.000,9, -999.000,9, -999.000,9, -999.000,9,-999.0000,9,  -999.00,9,   -999.0,9,-999.000,9,  -999.00,9,   -999.0,0,   -999.0,9,   -999.0,9,  -999.00,9,  -999.0,-999.0000,-999.000,-999.000, 21.5307,-999.000,9
      06MT22_5,   A10,    29,  1,    208,2,19930107,1138,-29.9983, -32.0250, 3824,     32.0,  20.2320,  35.6720,2,-999.0000,9,    236.4,2,     0.09,2,     0.00,9,     0.07,2, -999.000,9, -999.000,9, -999.000,9, -999.000,9,-999.0000,9,  -999.00,9,   -999.0,9,-999.000,9,  -999.00,9,   -999.0,0,   -999.0,9,   -999.0,9,  -999.00,9,  -999.0,-999.0000,-999.000,-999.000, 20.2260,-999.000,9
      06MT22_5,   A10,    29,  1,    207,2,19930107,1138,-29.9983, -32.0250, 3824,     52.0,  18.6440,  35.7090,2,-999.0000,9,    245.5,2,     0.08,2,     0.06,9,     0.08,2, -999.000,9, -999.000,9, -999.000,9, -999.000,9,-999.0000,9,  -999.00,9,   -999.0,9,-999.000,9,  -999.00,9,   -999.0,0,   -999.0,9,   -999.0,9,  -999.00,9,  -999.0,-999.0000,-999.000,-999.000, 18.6348,-999.000,9
      06MT22_5,   A10,    29,  1,    206,2,19930107,1138,-29.9983, -32.0250, 3824,     72.0,  17.5460,  35.7680,2,  35.7210,2,    245.8,2,     0.08,2,     0.05,9,     0.09,2, -999.000,9, -999.000,9, -999.000,9, -999.000,9,-999.0000,9,  -999.00,9,   -999.0,9,-999.000,9,  -999.00,9,   -999.0,0,   -999.0,9,   -999.0,9,  -999.00,9,  -999.0,-999.0000,-999.000,-999.000, 17.5338,-999.000,9
      06MT22_5,   A10,    29,  1,    205,2,19930107,1138,-29.9983, -32.0250, 3824,    102.0,  16.6180,  35.7170,2,-999.0000,9,    236.9,2,     0.07,2,     0.11,9,     0.11,2, -999.000,9, -999.000,9, -999.000,9, -999.000,9,-999.0000,9,  -999.00,9,   -999.0,9,-999.000,9,  -999.00,9,   -999.0,0,   -999.0,9,   -999.0,9,  -999.00,9,  -999.0,-999.0000,-999.000,-999.000, 16.6014,-999.000,9
      06MT22_5,   A10,    29,  1,    204,2,19930107,1138,-29.9983, -32.0250, 3824,    152.0,  15.4860,  35.5710,2,  35.5740,2,    220.8,2,     0.47,2,     0.17,9,     0.19,2, -999.000,9, -999.000,9, -999.000,9, -999.000,9,-999.0000,9,  -999.00,9,   -999.0,9,-999.000,9,  -999.00,9,   -999.0,0,   -999.0,9,   -999.0,9,  -999.00,9,  -999.0,-999.0000,-999.000,-999.000, 15.4624,-999.000,9
      06MT22_5,   A10,    29,  1,    203,2,19930107,1138,-29.9983, -32.0250, 3824,    201.0,  14.7540,  35.5010,2,-999.0000,9,    215.1,2,     1.19,2,     3.80,9,     0.40,2, -999.000,9, -999.000,9, -999.000,9, -999.000,9,-999.0000,9,  -999.00,9,   -999.0,9,-999.000,9,  -999.00,9,   -999.0,0,   -999.0,9,   -999.0,9,  -999.00,9,  -999.0,-999.0000,-999.000,-999.000, 14.7239,-999.000,9
      06MT22_5,   A10,    29,  1,    202,2,19930107,1138,-29.9983, -32.0250, 3824,    301.0,  13.5410,  35.3380,2,-999.0000,9,    213.9,2,     1.63,2,     5.94,9,     0.50,2, -999.000,9, -999.000,9, -999.000,9, -999.000,9,-999.0000,9,  -999.00,9,   -999.0,9,-999.000,9,  -999.00,9,   -999.0,0,   -999.0,9,   -999.0,9,  -999.00,9,  -999.0,-999.0000,-999.000,-999.000, 13.4983,-999.000,9
      06MT22_5,   A10,    29,  1,    201,2,19930107,1138,-29.9983, -32.0250, 3824,    401.0,  11.8790,  35.0810,2,  35.0860,2,    211.7,2,     2.48,2,     8.82,9,     0.66,2, -999.000,9, -999.000,9, -999.000,9, -999.000,9,-999.0000,9,  -999.00,9,   -999.0,9,-999.000,9,  -999.00,9,   -999.0,0,   -999.0,9,   -999.0,9,  -999.00,9,  -999.0,-999.0000,-999.000,-999.000, 11.8265,-999.000,9