BOTTLE,20030417WHPSIOSA
EXPOCODE,SECT_ID,STNNBR,CASTNO,BTLNBR,BTLNBR_FLAG_W,DATE,TIME,LATITUDE,LONGITUDE,DEPTH,CTDPRS,CTDTMP,CTDSAL,CTDSAL_FLAG_W,SALNTY,SALNTY_FLAG_W,OXYGEN,OXYGEN_FLAG_W,SILCAT,SILCAT_FLAG_W,NO2+NO3,NO2+NO3_FLAG_W,PHSPHT,PHSPHT_FLAG_W,CFC-11,CFC-11_FLAG_W,CFC-12,CFC-12_FLAG_W,CCL4,CCL4_FLAG_W,TRITUM,TRITUM_FLAG_W,HELIUM,HELIUM_FLAG_W,DELHE3,DELHE3_FLAG_W,DELC14,DELC14_FLAG_W,NEON,NEON_FLAG_W,O18O16,O18O16_FLAG_W,TCARBN,TCARBN_FLAG_W,PCO2,PCO2_FLAG_W,ALKALI,ALKALI_FLAG_W,PH,PH_FLAG_W,C14ERR,HELIER,DELHER,NEONER,THETA,TRITER,TRITER_FLAG_W
,,,,,,,,,,,DBAR,ITS-90,PSS-78,,PSS-78,,UMOL/KG,,UMOL/KG,,UMOL/KG,,UMOL/KG,,PMOL/KG,,PMOL/KG,,PMOL/KG,,TU,,NMOL/KG,,PERCNT,,/MILLE,,NMOL/KG,,MILLE,,UMOL/KG,,UATM,,UMOL/KG,,,,/MILLE,NMOL/KG,PERCNT,NMOL/KG,ITS-90,TU,
      06MT22_5,   A10,    11,  1,    217,2,19930104,0000,-30.0000, -39.3500, 4918,     53.0,  21.3500,  35.9940,2,  36.0100,2,   -999.0,9,     0.10,2,     0.10,9,     0.02,2, -999.000,9, -999.000,9, -999.000,9, -999.000,9,-999.0000,9,  -999.00,9,   -999.0,9,-999.000,9,  -999.00,9,   2038.2,2,   -999.0,9,   -999.0,9,  -999.00,9,  -999.0,-999.0000,-999.000,-999.000, 21.3397,-999.000,9
      06MT22_5,   A10,    11,  1,    216,2,19930104,0000,-30.0000, -39.3500, 4918,     72.0,  19.9140,  36.0860,2,-999.0000,9,    231.9,2,     0.10,2,     0.05,9,     0.07,2, -999.000,9, -999.000,9, -999.000,9, -999.000,9,-999.0000,9,  -999.00,9,   -999.0,9,-999.000,9,  -999.00,9,   2047.1,2,   -999.0,9,   -999.0,9,  -999.00,9,  -999.0,-999.0000,-999.000,-999.000, 19.9007,-999.000,9
      06MT22_5,   A10,    11,  1,    215,2,19930104,0000,-30.0000, -39.3500, 4918,    103.0,  18.9490,  36.0100,2,-999.0000,9,    234.8,2,     0.20,2,     0.00,9,     0.08,2,    2.278,2,    1.270,2,    2.016,2,    0.981,2,   1.6820,2,    -2.12,2,   -999.0,9,   6.853,2,  -999.00,9,   2054.7,2,   -999.0,9,   -999.0,9,  -999.00,9,  -999.0,  0.0059,   0.250,   0.024, 18.9306,   0.038,9
      06MT22_5,   A10,    11,  1,    214,2,19930104,0000,-30.0000, -39.3500, 4918,    152.0,  17.1570,  35.7700,2,  35.7640,2,    229.7,2,     0.66,2,     1.94,9,     0.25,2, -999.000,9, -999.000,9, -999.000,9, -999.000,9,-999.0000,9,  -999.00,9,   -999.0,9,-999.000,9,  -999.00,9,   2072.8,2,   -999.0,9,   -999.0,9,  -999.00,9,  -999.0,-999.0000,-999.000,-999.000, 17.1316,-999.000,9
      06MT22_5,   A10,    11,  1,    213,2,19930104,0000,-30.0000, -39.3500, 4918,    201.0,  15.4810,  35.5190,2,-999.0000,9,    215.4,2,     1.44,2,     5.47,9,     0.46,2,    2.330,2,    1.284,2,    0.808,2,    0.849,2,-999.0000,1,  -999.00,1,     67.7,2,-999.000,1,  -999.00,9,   2085.9,2,   -999.0,9,   -999.0,9,  -999.00,9,     6.1,-999.0000,-999.000,-999.000, 15.4499,   0.026,9
      06MT22_5,   A10,    11,  1,    212,2,19930104,0000,-30.0000, -39.3500, 4918,    301.0,  13.4710,  35.2400,2,-999.0000,9,    208.7,2,     2.83,2,     9.95,9,     0.69,2, -999.000,9, -999.000,9, -999.000,9, -999.000,9,-999.0000,9,  -999.00,9,   -999.0,9,-999.000,9,  -999.00,9,   2101.1,2,   -999.0,9,   -999.0,9,  -999.00,9,  -999.0,-999.0000,-999.000,-999.000, 13.4284,-999.000,9
      06MT22_5,   A10,    11,  1,    211,2,19930104,0000,-30.0000, -39.3500, 4918,    399.0,  11.8240,  35.0560,2,-999.0000,9,    205.0,2,     3.81,2,    13.65,9,     0.94,2,    2.021,2,    1.042,2,    0.757,2,    0.594,2,   1.7467,2,     1.13,2,     96.2,2,   7.333,2,  -999.00,9,   2113.3,2,   -999.0,9,   -999.0,9,  -999.00,9,     6.1,  0.0061,   0.250,   0.026, 11.7720,   0.026,9
      06MT22_5,   A10,    11,  1,    210,2,19930104,0000,-30.0000, -39.3500, 4918,    399.0,  11.8240,  35.0560,2,  35.0330,2,    210.2,2,     3.94,2,    14.25,9,     0.95,2, -999.000,9, -999.000,9, -999.000,9, -999.000,9,-999.0000,9,  -999.00,9,   -999.0,9,-999.000,9,  -999.00,9,   2114.2,2,   -999.0,9,   -999.0,9,  -999.00,9,  -999.0,-999.0000,-999.000,-999.000, 11.7720,-999.000,9
      06MT22_5,   A10,    11,  1,    209,2,19930104,0000,-30.0000, -39.3500, 4918,    500.0,   9.9630,  34.8110,2,-999.0000,9,    202.6,2,     6.53,2,    18.66,9,     1.28,2,    1.744,2,    0.884,2,    1.040,2,    0.482,2,   1.7440,2,     0.17,2,     35.1,2,   7.380,2,  -999.00,9,   2132.0,2,   -999.0,9,   -999.0,9,  -999.00,9,     6.1,  0.0061,   0.250,   0.026,  9.9046,   0.025,9
      06MT22_5,   A10,    11,  1,    208,2,19930104,0000,-30.0000, -39.3500, 4918,    601.0,   7.9680,  34.5930,2,-999.0000,9,    198.3,2,    10.85,2,    24.27,9,     1.68,2,    1.670,2,    0.918,2,    1.751,2,    0.309,2,   1.7547,2,     1.59,2,   -999.0,9,   7.552,2,  -999.00,9,   2152.2,2,   -999.0,9,   -999.0,9,  -999.00,9,  -999.0,  0.0061,   0.250,   0.026,  7.9063,   0.010,9
      06MT22_5,   A10,    11,  1,    207,2,19930104,0000,-30.0000, -39.3500, 4918,    700.0,   6.2890,  34.4390,2,  34.4270,2,   -999.0,9,  -999.00,9,  -999.00,9,  -999.00,9,    1.375,2,    0.724,2,    1.898,2,    0.213,2,-999.0000,1,  -999.00,1,    -43.5,2,-999.000,1,  -999.00,9,   -999.0,0,   -999.0,9,   -999.0,9,  -999.00,9,     5.6,-999.0000,-999.000,-999.000,  6.2254,   0.009,9
      06MT22_5,   A10,    11,  1,    206,2,19930104,0000,-30.0000, -39.3500, 4918,    801.0,   4.9410,  34.3330,2,-999.0000,9,    226.5,2,    18.64,2,    29.00,9,     2.03,2,    1.388,2,    0.699,2,    2.403,2,    0.174,2,   1.7712,5,     1.53,3,   -999.0,9,   7.726,5,  -999.00,9,   2165.8,2,   -999.0,9,   -999.0,9,  -999.00,9,  -999.0,  0.0071,   0.250,   0.031,  4.8760,   0.012,9
      06MT22_5,   A10,    11,  1,    205,2,19930104,0000,-30.0000, -39.3500, 4918,    801.0,   4.9410,  34.3330,2,-999.0000,9,    227.9,2,    18.90,2,    29.83,9,     2.06,2,    1.347,2,    0.669,2,    2.327,2,    0.168,2,   1.7681,2,     1.19,2,   -999.0,9,   7.735,2,  -999.00,9,   2167.1,2,   -999.0,9,   -999.0,9,  -999.00,9,  -999.0,  0.0062,   0.250,   0.027,  4.8760,   0.008,9
      06MT22_5,   A10,    11,  1,    204,2,19930104,0000,-30.0000, -39.3500, 4918,    898.0,   4.0150,  34.2770,2,-999.0000,9,    233.3,2,    23.54,2,    31.37,9,     2.20,2, -999.000,9, -999.000,9, -999.000,9, -999.000,9,-999.0000,9,  -999.00,9,   -999.0,9,-999.000,9,  -999.00,9,   2173.2,2,   -999.0,9,   -999.0,9,  -999.00,9,  -999.0,-999.0000,-999.000,-999.000,  3.9479,-999.000,9
      06MT22_5,   A10,    11,  1,    203,2,19930104,0000,-30.0000, -39.3500, 4918,    998.0,   3.6620,  34.3180,2,-999.0000,9,   -999.0,9,  -999.00,9,  -999.00,9,  -999.00,9, -999.000,9, -999.000,9, -999.000,9,    0.120,2,   1.7726,2,     1.87,2,   -999.0,9,   7.752,2,  -999.00,9,   -999.0,0,   -999.0,9,   -999.0,9,  -999.00,9,  -999.0,  0.0062,   0.250,   0.027,  3.5894,   0.007,9
      06MT22_5,   A10,    11,  1,    202,2,19930104,0000,-30.0000, -39.3500, 4918,    998.0,   3.6620,  34.3180,2,-999.0000,9,    217.2,2,    31.39,2,    33.10,9,     2.33,2, -999.000,9, -999.000,9, -999.000,9, -999.000,9,-999.0000,9,  -999.00,9,   -999.0,9,-999.000,9,  -999.00,9,   -999.0,0,   -999.0,9,   -999.0,9,  -999.00,9,  -999.0,-999.0000,-999.000,-999.000,  3.5894,-999.000,9
      06MT22_5,   A10,    11,  1,    201,2,19930104,0000,-30.0000, -39.3500, 4918,    998.0,   3.6620,  34.3180,2,  34.3160,2,   -999.0,9,  -999.00,9,  -999.00,9,  -999.00,9,    0.800,6,    0.392,6,    1.804,6,    0.088,2,   1.7739,5,     2.72,3,   -999.0,9,   7.750,5,  -999.00,9,   2189.1,2,   -999.0,9,   -999.0,9,  -999.00,9,  -999.0,  0.0071,   0.500,   0.031,  3.5894,   0.005,9
      06MT22_5,   A10,    11,  2,    324,2,19930104,0048,-29.9978, -39.3810, 4902,     11.0,  22.2680,  35.9650,2,  35.9690,2,    221.3,2,     0.14,2,     0.10,9,     0.04,2, -999.000,9, -999.000,9, -999.000,9, -999.000,9,-999.0000,9,  -999.00,9,   -999.0,9,-999.000,9,  -999.00,9,   2035.8,2,   -999.0,9,   -999.0,9,  -999.00,9,  -999.0,-999.0000,-999.000,-999.000, 22.2658,-999.000,9
      06MT22_5,   A10,    11,  2,    323,2,19930104,0048,-29.9978, -39.3810, 4902,    999.0,   3.7520,  34.3170,2,-999.0000,9,    215.2,2,    31.23,2,    33.42,9,     2.36,2, -999.000,9, -999.000,9, -999.000,9, -999.000,9,-999.0000,9,  -999.00,9,   -999.0,9,-999.000,9,  -999.00,9,   -999.0,0,   -999.0,9,   -999.0,9,  -999.00,9,  -999.0,-999.0000,-999.000,-999.000,  3.6780,-999.000,9
      06MT22_5,   A10,    11,  2,    322,2,19930104,0048,-29.9978, -39.3810, 4902,   1198.0,   3.1080,  34.3970,2,-999.0000,9,    202.0,2,    43.71,2,    35.17,9,     2.49,2,    0.339,2,    0.184,2,    1.042,2,    0.057,2,   1.7980,2,     3.73,2,   -111.0,2,   7.785,7,  -999.00,9,   2213.6,2,   -999.0,9,   -999.0,9,  -999.00,9,     4.9,  0.0063,   0.250,   0.027,  3.0234,   0.006,9
      06MT22_5,   A10,    11,  2,    321,2,19930104,0048,-29.9978, -39.3810, 4902,   1398.0,   2.9140,  34.5420,2,-999.0000,9,    189.1,2,    52.30,2,    34.67,9,     2.47,2,    0.094,2,    0.068,2,    0.401,2, -999.000,9,   1.8230,2,     6.93,3,   -999.0,9,   7.960,3,  -999.00,9,   2226.9,2,   -999.0,9,   -999.0,9,  -999.00,9,  -999.0,  0.0073,   0.250,   0.032,  2.8152,-999.000,9
      06MT22_5,   A10,    11,  2,    320,2,19930104,0048,-29.9978, -39.3810, 4902,   1597.0,   3.0350,  34.6910,2,  34.6900,2,    199.0,2,    48.51,2,    31.96,9,     2.23,2,    0.017,2,    0.034,4,    0.128,2,    0.024,2,   1.8292,2,     6.17,2,   -159.5,4,   7.897,2,  -999.00,9,   2214.1,2,   -999.0,9,   -999.0,9,  -999.00,9,     4.5,  0.0064,   0.250,   0.028,  2.9183,   0.004,9
      06MT22_5,   A10,    11,  2,    319,2,19930104,0048,-29.9978, -39.3810, 4902,   1802.0,   3.1040,  34.7810,2,-999.0000,9,    212.2,2,    43.26,2,    29.21,9,     1.99,2,    0.009,2,    0.019,2,    0.084,2, -999.000,9,-999.0000,1,  -999.00,1,   -999.0,9,-999.000,1,  -999.00,9,   2204.8,2,   -999.0,9,   -999.0,9,  -999.00,9,  -999.0,-999.0000,-999.000,-999.000,  2.9679,-999.000,9
      06MT22_5,   A10,    11,  2,    318,2,19930104,0048,-29.9978, -39.3810, 4902,   2000.0,   3.1700,  34.8590,2,-999.0000,9,    227.3,2,    36.59,2,    26.51,9,     1.74,2,    0.006,2,    0.032,4,    0.107,2,    0.029,2,-999.0000,1,  -999.00,1,   -125.9,2,-999.000,1,  -999.00,9,   2192.2,2,   -999.0,9,   -999.0,9,  -999.00,9,     4.6,-999.0000,-999.000,-999.000,  3.0150,   0.005,9
      06MT22_5,   A10,    11,  2,    317,2,19930104,0048,-29.9978, -39.3810, 4902,   2250.0,   3.2080,  34.9170,2,  34.9150,2,    244.2,2,    28.48,2,    23.73,9,     1.55,2,    0.133,4,    0.075,4,    0.211,4,    0.025,2,   1.8243,5,     2.95,3,   -128.8,2,   7.894,5,  -999.00,9,   2177.4,2,   -999.0,9,   -999.0,9,  -999.00,9,     4.5,  0.0082,   0.250,   0.036,  3.0288,   0.003,9
      06MT22_5,   A10,    11,  2,    316,2,19930104,0048,-29.9978, -39.3810, 4902,   2501.0,   3.0920,  34.9280,2,-999.0000,9,    204.9,2,    27.40,2,    22.78,9,     1.44,2,    0.014,2,    0.016,4,    0.119,2,    0.027,2,   1.8234,2,     2.87,2,   -119.3,2,   7.921,2,  -999.00,9,   2174.0,2,   -999.0,9,   -999.0,9,  -999.00,9,     4.5,  0.0073,   0.250,   0.032,  2.8904,   0.003,9
      06MT22_5,   A10,    11,  2,    315,2,19930104,0048,-29.9978, -39.3810, 4902,   2753.0,   2.9500,  34.9250,2,-999.0000,9,    252.1,2,    29.22,2,    22.48,9,     1.46,2,    0.050,4,    0.024,4,    0.106,2, -999.000,9,-999.0000,1,  -999.00,1,   -999.0,9,-999.000,1,  -999.00,9,   2171.4,2,   -999.0,9,   -999.0,9,  -999.00,9,  -999.0,-999.0000,-999.000,-999.000,  2.7259,-999.000,9
      06MT22_5,   A10,    11,  2,    314,2,19930104,0048,-29.9978, -39.3810, 4902,   3004.0,   2.8320,  34.9200,2,  34.9170,2,    254.7,2,    30.71,2,    22.48,9,     1.47,2,   -0.003,2,    0.021,4,    0.029,2,    0.015,2,   1.7672,3,     2.17,2,   -116.8,2,   7.714,3,  -999.00,9,   2176.6,2,   -999.0,9,   -999.0,9,  -999.00,9,     4.4,  0.0071,   0.250,   0.031,  2.5846,   0.004,9
      06MT22_5,   A10,    11,  2,    313,2,19930104,0048,-29.9978, -39.3810, 4902,   3250.0,   2.6670,  34.9090,2,-999.0000,9,    254.9,2,    33.89,2,    22.80,9,     1.49,2,    0.032,2,    0.007,2,    0.058,2, -999.000,9,   1.8265,5,     2.75,3,   -999.0,9,   7.970,5,  -999.00,9,   2179.7,2,   -999.0,9,   -999.0,9,  -999.00,9,  -999.0,  0.0082,   0.250,   0.036,  2.3979,-999.000,9
      06MT22_5,   A10,    11,  2,    312,2,19930104,0048,-29.9978, -39.3810, 4902,   3505.0,   2.1670,  34.8660,2,-999.0000,9,    223.1,2,    49.29,2,    24.66,9,     1.66,2,    0.047,2,    0.044,4,    0.061,2, -999.000,9,   1.8444,2,     3.98,2,   -124.4,2,   8.043,2,  -999.00,9,   2190.8,2,   -999.0,9,   -999.0,9,  -999.00,9,     4.8,  0.0074,   0.250,   0.032,  1.8829,-999.000,9
      06MT22_5,   A10,    11,  2,    311,2,19930104,0048,-29.9978, -39.3810, 4902,   3754.0,   1.6350,  34.8120,2,  34.8110,2,    242.9,2,    68.96,2,    27.58,9,     1.87,2,    0.087,3,    0.042,3,    0.086,2, -999.000,9,-999.0000,1,  -999.00,1,   -132.6,2,-999.000,1,  -999.00,9,   2211.2,2,   -999.0,9,   -999.0,9,  -999.00,9,     5.4,-999.0000,-999.000,-999.000,  1.3381,-999.000,9
      06MT22_5,   A10,    11,  2,    310,2,19930104,0048,-29.9978, -39.3810, 4902,   4005.0,   1.0810,  34.7500,2,-999.0000,9,   -999.0,9,  -999.00,9,  -999.00,9,  -999.00,9, -999.000,9, -999.000,9, -999.000,9, -999.000,9,-999.0000,9,  -999.00,9,   -999.0,9,-999.000,9,  -999.00,9,   -999.0,0,   -999.0,9,   -999.0,9,  -999.00,9,  -999.0,-999.0000,-999.000,-999.000,  0.7735,-999.000,9
      06MT22_5,   A10,    11,  2,    309,2,19930104,0048,-29.9978, -39.3810, 4902,   4257.0,   0.4610,  34.6890,2,-999.0000,9,    221.8,2,   113.26,2,    33.87,9,     2.40,2,    0.071,2,    0.039,2,    0.252,2,   32.069,4,   1.8725,2,     7.58,2,   -179.1,4,   8.168,2,  -999.00,9,   2255.1,2,   -999.0,9,   -999.0,9,  -999.00,9,     6.1,  0.0075,   0.250,   0.033,  0.1449,   4.104,9
      06MT22_5,   A10,    11,  2,    308,2,19930104,0048,-29.9978, -39.3810, 4902,   4557.0,   0.2080,  34.6710,2,-999.0000,9,    225.9,2,   120.49,2,    35.33,9,     2.50,2,    0.137,4,    0.107,4,    0.360,2,    0.023,2,   1.8810,5,     6.57,3,   -169.1,2,   8.193,5,  -999.00,9,   2258.5,2,   -999.0,9,   -999.0,9,  -999.00,9,     4.8,  0.0085,   0.250,   0.037, -0.1325,   0.004,9
      06MT22_5,   A10,    11,  2,    307,2,19930104,0048,-29.9978, -39.3810, 4902,   4861.0,   0.2420,  34.6710,2,  34.6680,2,   -999.0,9,  -999.00,9,  -999.00,9,  -999.00,9, -999.000,9, -999.000,9, -999.000,9, -999.000,9,   2.0385,4,     7.12,3,   -999.0,9,   8.720,4,  -999.00,9,   -999.0,0,   -999.0,9,   -999.0,9,  -999.00,9,  -999.0,  0.0082,   0.250,   0.035, -0.1333,-999.000,9
      06MT22_5,   A10,    11,  2,    306,2,19930104,0048,-29.9978, -39.3810, 4902,   4861.0,   0.2420,  34.6710,2,-999.0000,9,   -999.0,9,  -999.00,9,  -999.00,9,  -999.00,9, -999.000,9, -999.000,9, -999.000,9, -999.000,9,-999.0000,1,  -999.00,1,   -999.0,9,-999.000,1,  -999.00,9,   -999.0,0,   -999.0,9,   -999.0,9,  -999.00,9,  -999.0,-999.0000,-999.000,-999.000, -0.1333,-999.000,9
      06MT22_5,   A10,    11,  2,    304,2,19930104,0048,-29.9978, -39.3810, 4902,   4862.0,   0.2420,  34.6700,2,  34.6690,2,   -999.0,9,   121.10,2,    35.61,9,     2.50,2, -999.000,9, -999.000,9, -999.000,9, -999.000,9,   1.8850,2,     6.54,2,   -999.0,9,   8.220,7,  -999.00,9,   -999.0,0,   -999.0,9,   -999.0,9,  -999.00,9,  -999.0,  0.0075,   0.250,   0.033, -0.1335,-999.000,9
      06MT22_5,   A10,    11,  2,    305,2,19930104,0048,-29.9978, -39.3810, 4902,   4863.0,   0.2420,  34.6700,2,-999.0000,9,   -999.0,9,  -999.00,9,  -999.00,9,  -999.00,9,    0.100,4,    0.054,4,    0.306,2, -999.000,9,-999.0000,1,  -999.00,1,   -999.0,9,-999.000,1,  -999.00,9,   -999.0,0,   -999.0,9,   -999.0,9,  -999.00,9,  -999.0,-999.0000,-999.000,-999.000, -0.1336,-999.000,9
      06MT22_5,   A10,    11,  2,    303,2,19930104,0048,-29.9978, -39.3810, 4902,   4863.0,   0.2420,  34.6710,2,-999.0000,9,   -999.0,9,  -999.00,9,  -999.00,9,  -999.00,9,    0.132,2,    0.073,2,    0.357,2,    0.022,2,-999.0000,1,  -999.00,1,   -999.0,9,-999.000,1,  -999.00,9,   -999.0,0,   -999.0,9,   -999.0,9,  -999.00,9,  -999.0,-999.0000,-999.000,-999.000, -0.1336,   0.004,9
      06MT22_5,   A10,    11,  2,    302,2,19930104,0048,-29.9978, -39.3810, 4902,   4863.0,   0.2420,  34.6700,2,-999.0000,9,   -999.0,9,  -999.00,9,  -999.00,9,  -999.00,9, -999.000,9, -999.000,9, -999.000,9, -999.000,9,   1.8917,2,     6.67,2,   -999.0,9,   8.196,2,  -999.00,9,   2259.5,2,   -999.0,9,   -999.0,9,  -999.00,9,  -999.0,  0.0066,   0.250,   0.029, -0.1336,-999.000,9
      06MT22_5,   A10,    11,  2,    301,2,19930104,0048,-29.9978, -39.3810, 4902,   4927.0,   0.2500,  34.6710,2,  34.6680,2,    225.8,2,   121.07,2,    35.85,9,     2.50,2,    0.131,3,    0.059,2,    0.374,6,    0.035,2,   1.8823,2,     6.64,2,   -169.6,2,   8.258,7,  -999.00,9,   2260.8,2,   -999.0,9,   -999.0,9,  -999.00,9,     5.1,  0.0075,   0.250,   0.033, -0.1331,   0.004,9