BOTTLE,20030417WHPSIOSA
EXPOCODE,SECT_ID,STNNBR,CASTNO,BTLNBR,BTLNBR_FLAG_W,DATE,TIME,LATITUDE,LONGITUDE,DEPTH,CTDPRS,CTDTMP,CTDSAL,CTDSAL_FLAG_W,SALNTY,SALNTY_FLAG_W,OXYGEN,OXYGEN_FLAG_W,SILCAT,SILCAT_FLAG_W,NO2+NO3,NO2+NO3_FLAG_W,PHSPHT,PHSPHT_FLAG_W,CFC-11,CFC-11_FLAG_W,CFC-12,CFC-12_FLAG_W,CCL4,CCL4_FLAG_W,TRITUM,TRITUM_FLAG_W,HELIUM,HELIUM_FLAG_W,DELHE3,DELHE3_FLAG_W,DELC14,DELC14_FLAG_W,NEON,NEON_FLAG_W,O18O16,O18O16_FLAG_W,TCARBN,TCARBN_FLAG_W,PCO2,PCO2_FLAG_W,ALKALI,ALKALI_FLAG_W,PH,PH_FLAG_W,C14ERR,HELIER,DELHER,NEONER,THETA,TRITER,TRITER_FLAG_W
,,,,,,,,,,,DBAR,ITS-90,PSS-78,,PSS-78,,UMOL/KG,,UMOL/KG,,UMOL/KG,,UMOL/KG,,PMOL/KG,,PMOL/KG,,PMOL/KG,,TU,,NMOL/KG,,PERCNT,,/MILLE,,NMOL/KG,,MILLE,,UMOL/KG,,UATM,,UMOL/KG,,,,/MILLE,NMOL/KG,PERCNT,NMOL/KG,ITS-90,TU,
      06MT22_5,   A10,    59,  2,    324,2,19930116,1726,-30.0025, -10.9938, 3760,     10.0,  24.3670,  36.0550,2,  36.0600,2,   -999.0,9,  -999.00,9,  -999.00,9,  -999.00,9, -999.000,9, -999.000,9, -999.000,9, -999.000,9,-999.0000,9,  -999.00,9,   -999.0,9,-999.000,9,  -999.00,9,   -999.0,0,   -999.0,9,   -999.0,9,  -999.00,9,  -999.0,-999.0000,-999.000,-999.000, 24.3649,-999.000,9
      06MT22_5,   A10,    59,  2,    320,2,19930116,1726,-30.0025, -10.9938, 3760,    401.0,  12.1100,  35.0480,2,-999.0000,9,   -999.0,9,  -999.00,9,  -999.00,9,  -999.00,9, -999.000,9, -999.000,9, -999.000,9, -999.000,9,-999.0000,9,  -999.00,9,   -999.0,9,-999.000,9,  -999.00,9,   -999.0,0,   -999.0,9,   -999.0,9,  -999.00,9,  -999.0,-999.0000,-999.000,-999.000, 12.0570,-999.000,9
      06MT22_5,   A10,    59,  2,    319,2,19930116,1726,-30.0025, -10.9938, 3760,    501.0,  10.0400,  34.8040,2,  34.8040,2,    204.2,2,     7.02,2,    17.51,9,     1.20,2, -999.000,9, -999.000,9, -999.000,9, -999.000,9,-999.0000,9,  -999.00,9,   -999.0,9,-999.000,9,  -999.00,9,   -999.0,0,   -999.0,9,   -999.0,9,  -999.00,9,  -999.0,-999.0000,-999.000,-999.000,  9.9810,-999.000,9
      06MT22_5,   A10,    59,  2,    318,2,19930116,1726,-30.0025, -10.9938, 3760,    599.0,   8.1340,  34.5950,2,-999.0000,9,    205.3,2,    10.74,2,    22.78,9,     1.56,2, -999.000,9, -999.000,9, -999.000,9, -999.000,9,-999.0000,9,  -999.00,9,   -999.0,9,-999.000,9,  -999.00,9,   -999.0,0,   -999.0,9,   -999.0,9,  -999.00,9,  -999.0,-999.0000,-999.000,-999.000,  8.0718,-999.000,9
      06MT22_5,   A10,    59,  2,    317,2,19930116,1726,-30.0025, -10.9938, 3760,    699.0,   6.5490,  34.4370,2,-999.0000,9,    216.6,2,    13.49,2,    25.81,9,     1.77,2, -999.000,9, -999.000,9, -999.000,9, -999.000,9,-999.0000,9,  -999.00,9,   -999.0,9,-999.000,9,  -999.00,9,   -999.0,0,   -999.0,9,   -999.0,9,  -999.00,9,  -999.0,-999.0000,-999.000,-999.000,  6.4843,-999.000,9
      06MT22_5,   A10,    59,  2,    316,2,19930116,1726,-30.0025, -10.9938, 3760,    849.0,   4.6730,  34.3040,2,  34.3060,2,    226.5,2,    21.17,2,    29.21,9,     2.01,2, -999.000,9, -999.000,9, -999.000,9, -999.000,9,-999.0000,9,  -999.00,9,   -999.0,9,-999.000,9,  -999.00,9,   -999.0,0,   -999.0,9,   -999.0,9,  -999.00,9,  -999.0,-999.0000,-999.000,-999.000,  4.6056,-999.000,9
      06MT22_5,   A10,    59,  2,    315,2,19930116,1726,-30.0025, -10.9938, 3760,    998.0,   3.8080,  34.3290,2,-999.0000,9,    212.0,2,    33.01,2,    31.96,9,     2.22,2, -999.000,9, -999.000,9, -999.000,9, -999.000,9,-999.0000,9,  -999.00,9,   -999.0,9,-999.000,9,  -999.00,9,   -999.0,0,   -999.0,9,   -999.0,9,  -999.00,9,  -999.0,-999.0000,-999.000,-999.000,  3.7339,-999.000,9
      06MT22_5,   A10,    59,  2,    314,2,19930116,1726,-30.0025, -10.9938, 3760,   1201.0,   3.1790,  34.4370,2,-999.0000,9,    192.8,2,    47.71,2,    33.79,9,     2.36,2, -999.000,9, -999.000,9, -999.000,9, -999.000,9,-999.0000,9,  -999.00,9,   -999.0,9,-999.000,9,  -999.00,9,   -999.0,0,   -999.0,9,   -999.0,9,  -999.00,9,  -999.0,-999.0000,-999.000,-999.000,  3.0938,-999.000,9
      06MT22_5,   A10,    59,  2,    313,2,19930116,1726,-30.0025, -10.9938, 3760,   1398.0,   2.9070,  34.5630,2,  34.5650,2,    187.7,2,    55.46,2,    33.29,9,     2.31,2, -999.000,9, -999.000,9, -999.000,9, -999.000,9,-999.0000,9,  -999.00,9,   -999.0,9,-999.000,9,  -999.00,9,   -999.0,0,   -999.0,9,   -999.0,9,  -999.00,9,  -999.0,-999.0000,-999.000,-999.000,  2.8086,-999.000,9
      06MT22_5,   A10,    59,  2,    312,2,19930116,1726,-30.0025, -10.9938, 3760,   1603.0,   2.8270,  34.6720,2,-999.0000,9,    195.3,2,    55.49,2,    31.41,9,     2.19,2, -999.000,9, -999.000,9, -999.000,9, -999.000,9,-999.0000,9,  -999.00,9,   -999.0,9,-999.000,9,  -999.00,9,   -999.0,0,   -999.0,9,   -999.0,9,  -999.00,9,  -999.0,-999.0000,-999.000,-999.000,  2.7120,-999.000,9
      06MT22_5,   A10,    59,  2,    311,2,19930116,1726,-30.0025, -10.9938, 3760,   1800.0,   2.7510,  34.7480,2,-999.0000,9,    205.2,2,    53.73,2,    29.41,9,     2.03,2, -999.000,9, -999.000,9, -999.000,9, -999.000,9,-999.0000,9,  -999.00,9,   -999.0,9,-999.000,9,  -999.00,9,   -999.0,0,   -999.0,9,   -999.0,9,  -999.00,9,  -999.0,-999.0000,-999.000,-999.000,  2.6202,-999.000,9
      06MT22_5,   A10,    59,  2,    310,2,19930116,1726,-30.0025, -10.9938, 3760,   2001.0,   2.6870,  34.7910,2,  34.7910,2,    213.7,2,    52.25,2,    27.94,9,     1.91,2, -999.000,9, -999.000,9, -999.000,9, -999.000,9,-999.0000,9,  -999.00,9,   -999.0,9,-999.000,9,  -999.00,9,   -999.0,0,   -999.0,9,   -999.0,9,  -999.00,9,  -999.0,-999.0000,-999.000,-999.000,  2.5395,-999.000,9
      06MT22_5,   A10,    59,  2,    309,2,19930116,1726,-30.0025, -10.9938, 3760,   2252.0,   2.5790,  34.8270,2,-999.0000,9,    224.3,2,    50.68,2,    26.53,9,     1.80,2, -999.000,9, -999.000,9, -999.000,9, -999.000,9,-999.0000,9,  -999.00,9,   -999.0,9,-999.000,9,  -999.00,9,   -999.0,0,   -999.0,9,   -999.0,9,  -999.00,9,  -999.0,-999.0000,-999.000,-999.000,  2.4103,-999.000,9
      06MT22_5,   A10,    59,  2,    308,2,19930116,1726,-30.0025, -10.9938, 3760,   2501.0,   2.5120,  34.8490,2,-999.0000,9,    231.3,2,    48.85,2,    25.48,9,     1.71,2, -999.000,9, -999.000,9, -999.000,9, -999.000,9,-999.0000,9,  -999.00,9,   -999.0,9,-999.000,9,  -999.00,9,   -999.0,0,   -999.0,9,   -999.0,9,  -999.00,9,  -999.0,-999.0000,-999.000,-999.000,  2.3213,-999.000,9
      06MT22_5,   A10,    59,  2,    307,2,19930116,1726,-30.0025, -10.9938, 3760,   2753.0,   2.4480,  34.8600,2,  34.8590,2,    236.0,2,    48.79,2,    24.94,9,     1.66,2, -999.000,9, -999.000,9, -999.000,9, -999.000,9,-999.0000,9,  -999.00,9,   -999.0,9,-999.000,9,  -999.00,9,   -999.0,0,   -999.0,9,   -999.0,9,  -999.00,9,  -999.0,-999.0000,-999.000,-999.000,  2.2342,-999.000,9
      06MT22_5,   A10,    59,  2,    306,2,19930116,1726,-30.0025, -10.9938, 3760,   3004.0,   2.4160,  34.8650,2,-999.0000,9,    239.9,2,    49.01,2,    24.64,9,     1.66,2, -999.000,9, -999.000,9, -999.000,9, -999.000,9,-999.0000,9,  -999.00,9,   -999.0,9,-999.000,9,  -999.00,9,   -999.0,0,   -999.0,9,   -999.0,9,  -999.00,9,  -999.0,-999.0000,-999.000,-999.000,  2.1778,-999.000,9
      06MT22_5,   A10,    59,  2,    305,2,19930116,1726,-30.0025, -10.9938, 3760,   3254.0,   2.3990,  34.8680,2,-999.0000,9,    240.1,2,    49.37,2,    24.45,9,     1.67,2,    0.000,2,    0.000,2,    0.309,4, -999.000,9,-999.0000,9,  -999.00,9,   -999.0,9,-999.000,9,  -999.00,9,   -999.0,0,   -999.0,9,   -999.0,9,  -999.00,9,  -999.0,-999.0000,-999.000,-999.000,  2.1354,-999.000,9
      06MT22_5,   A10,    59,  2,    304,2,19930116,1726,-30.0025, -10.9938, 3760,   3517.0,   2.3980,  34.8710,2,  34.8720,2,    239.3,2,    49.87,2,    24.46,9,     1.62,2,   -0.001,2,    0.000,2,    0.343,4, -999.000,9,-999.0000,9,  -999.00,9,   -999.0,9,-999.000,9,  -999.00,9,   -999.0,0,   -999.0,9,   -999.0,9,  -999.00,9,  -999.0,-999.0000,-999.000,-999.000,  2.1065,-999.000,9
      06MT22_5,   A10,    59,  2,    303,2,19930116,1726,-30.0025, -10.9938, 3760,   3686.0,   2.4100,  34.8720,2,-999.0000,9,    238.8,2,    49.67,2,    24.34,9,     1.61,2,    0.001,2,    0.000,2,    0.184,4, -999.000,9,-999.0000,9,  -999.00,9,   -999.0,9,-999.000,9,  -999.00,9,   -999.0,0,   -999.0,9,   -999.0,9,  -999.00,9,  -999.0,-999.0000,-999.000,-999.000,  2.0997,-999.000,9
      06MT22_5,   A10,    59,  2,    301,2,19930116,1726,-30.0025, -10.9938, 3760,   3758.0,   2.4170,  34.8720,2,-999.0000,9,    239.2,2,    49.71,2,    24.30,9,     1.64,2,    0.002,2,    0.000,2,    0.173,4, -999.000,9,-999.0000,9,  -999.00,9,   -999.0,9,-999.000,9,  -999.00,9,   -999.0,0,   -999.0,9,   -999.0,9,  -999.00,9,  -999.0,-999.0000,-999.000,-999.000,  2.0916,-999.000,9
      06MT22_5,   A10,    59,  2,    302,2,19930116,1726,-30.0025, -10.9938, 3760,   3764.0,   2.4180,  34.8720,2,  34.8730,2,   -999.0,9,  -999.00,9,  -999.00,9,  -999.00,9,   -0.001,2,    0.000,2,    0.195,4, -999.000,9,-999.0000,9,  -999.00,9,   -999.0,9,-999.000,9,  -999.00,9,   -999.0,0,   -999.0,9,   -999.0,9,  -999.00,9,  -999.0,-999.0000,-999.000,-999.000,  2.0989,-999.000,9
      06MT22_5,   A10,    60,  1,    217,2,19930116,2327,-30.0007, -10.3297, 3781,     12.0,  23.8180,  35.9650,2,  35.9660,2,    220.1,2,     0.76,2,     0.05,9,     0.14,2, -999.000,9, -999.000,9, -999.000,9, -999.000,9,-999.0000,9,  -999.00,9,   -999.0,9,-999.000,9,  -999.00,9,   -999.0,9,   -999.0,9,   -999.0,9,  -999.00,9,  -999.0,-999.0000,-999.000,-999.000, 23.8155,-999.000,9
      06MT22_5,   A10,    60,  1,    208,2,19930116,2327,-30.0007, -10.3297, 3781,     12.0,  23.8180,  35.9650,2,-999.0000,9,   -999.0,9,  -999.00,9,  -999.00,9,  -999.00,9,    2.145,2,    1.181,2,    2.507,2, -999.000,9,-999.0000,9,  -999.00,9,   -999.0,9,-999.000,9,  -999.00,9,   2053.7,2,   -999.0,9,   2361.5,2,  -999.00,9,  -999.0,-999.0000,-999.000,-999.000, 23.8155,-999.000,9
      06MT22_5,   A10,    60,  1,    207,2,19930116,2327,-30.0007, -10.3297, 3781,     31.0,  22.4680,  35.9870,2,-999.0000,9,    229.6,2,     0.85,2,     0.04,9,     0.16,2,    2.290,2,    1.250,2,    2.436,2, -999.000,9,-999.0000,9,  -999.00,9,   -999.0,9,-999.000,9,  -999.00,9,   2056.8,2,   -999.0,9,   2370.1,2,  -999.00,9,  -999.0,-999.0000,-999.000,-999.000, 22.4618,-999.000,9
      06MT22_5,   A10,    60,  1,    206,2,19930116,2327,-30.0007, -10.3297, 3781,     52.0,  20.3330,  36.1060,2,-999.0000,9,    239.3,2,     0.95,2,     0.01,9,     0.19,2,    2.350,2,    1.282,2,    2.254,2, -999.000,9,-999.0000,9,  -999.00,9,   -999.0,9,-999.000,9,  -999.00,9,   2064.2,2,   -999.0,9,   2379.1,2,  -999.00,9,  -999.0,-999.0000,-999.000,-999.000, 20.3232,-999.000,9
      06MT22_5,   A10,    60,  1,    205,2,19930116,2327,-30.0007, -10.3297, 3781,     73.0,  19.3720,  36.0940,2,  36.0850,2,    240.2,2,     1.08,2,     0.00,9,     0.17,2,    2.390,2,    1.293,2,    2.230,2, -999.000,9,-999.0000,9,  -999.00,9,   -999.0,9,-999.000,9,  -999.00,9,   2062.3,2,   -999.0,9,   2380.1,2,  -999.00,9,  -999.0,-999.0000,-999.000,-999.000, 19.3587,-999.000,9
      06MT22_5,   A10,    60,  1,    204,2,19930116,2327,-30.0007, -10.3297, 3781,    102.0,  18.2730,  35.9510,2,-999.0000,9,    235.9,2,     1.07,2,     0.02,9,     0.16,2,    2.497,2,    1.338,2,    1.998,2, -999.000,9,-999.0000,9,  -999.00,9,   -999.0,9,-999.000,9,  -999.00,9,   2065.6,2,   -999.0,9,   2368.2,2,  -999.00,9,  -999.0,-999.0000,-999.000,-999.000, 18.2553,-999.000,9
      06MT22_5,   A10,    60,  1,    203,2,19930116,2327,-30.0007, -10.3297, 3781,    153.0,  16.7920,  35.6870,2,-999.0000,9,    231.7,2,     1.02,2,     0.65,9,     0.22,2, -999.000,9, -999.000,9, -999.000,9, -999.000,9,-999.0000,9,  -999.00,9,   -999.0,9,-999.000,9,  -999.00,9,   2070.1,2,   -999.0,9,   2351.2,2,  -999.00,9,  -999.0,-999.0000,-999.000,-999.000, 16.7670,-999.000,9
      06MT22_5,   A10,    60,  1,    202,2,19930116,2327,-30.0007, -10.3297, 3781,    202.0,  15.6190,  35.4810,2,-999.0000,9,   -999.0,9,  -999.00,9,  -999.00,9,  -999.00,9, -999.000,9, -999.000,9, -999.000,9, -999.000,9,-999.0000,9,  -999.00,9,   -999.0,9,-999.000,9,  -999.00,9,   -999.0,9,   -999.0,9,   -999.0,9,  -999.00,9,  -999.0,-999.0000,-999.000,-999.000, 15.5875,-999.000,9
      06MT22_5,   A10,    60,  1,    201,2,19930116,2327,-30.0007, -10.3297, 3781,    302.0,  13.2880,  35.1790,2,  35.1950,2,    210.8,2,     3.58,2,     8.72,9,     0.64,2,    2.398,2,    1.255,2,    1.003,2, -999.000,9,-999.0000,9,  -999.00,9,   -999.0,9,-999.000,9,  -999.00,9,   2098.4,2,   -999.0,9,   2321.4,2,  -999.00,9,  -999.0,-999.0000,-999.000,-999.000, 13.2456,-999.000,9