BOTTLE,20030417WHPSIOSA
EXPOCODE,SECT_ID,STNNBR,CASTNO,BTLNBR,BTLNBR_FLAG_W,DATE,TIME,LATITUDE,LONGITUDE,DEPTH,CTDPRS,CTDTMP,CTDSAL,CTDSAL_FLAG_W,SALNTY,SALNTY_FLAG_W,OXYGEN,OXYGEN_FLAG_W,SILCAT,SILCAT_FLAG_W,NO2+NO3,NO2+NO3_FLAG_W,PHSPHT,PHSPHT_FLAG_W,CFC-11,CFC-11_FLAG_W,CFC-12,CFC-12_FLAG_W,CCL4,CCL4_FLAG_W,TRITUM,TRITUM_FLAG_W,HELIUM,HELIUM_FLAG_W,DELHE3,DELHE3_FLAG_W,DELC14,DELC14_FLAG_W,NEON,NEON_FLAG_W,O18O16,O18O16_FLAG_W,TCARBN,TCARBN_FLAG_W,PCO2,PCO2_FLAG_W,ALKALI,ALKALI_FLAG_W,PH,PH_FLAG_W,C14ERR,HELIER,DELHER,NEONER,THETA,TRITER,TRITER_FLAG_W
,,,,,,,,,,,DBAR,ITS-90,PSS-78,,PSS-78,,UMOL/KG,,UMOL/KG,,UMOL/KG,,UMOL/KG,,PMOL/KG,,PMOL/KG,,PMOL/KG,,TU,,NMOL/KG,,PERCNT,,/MILLE,,NMOL/KG,,MILLE,,UMOL/KG,,UATM,,UMOL/KG,,,,/MILLE,NMOL/KG,PERCNT,NMOL/KG,ITS-90,TU,
      06MT22_5,   A10,    93,  2,    324,2,19930127,0944,-29.3727,  12.7945, 3358,     10.0,  21.1700,  35.5560,2,  35.5550,2,   -999.0,9,  -999.00,9,  -999.00,9,  -999.00,9,    2.168,2,    1.200,2,    2.702,2, -999.000,9,-999.0000,9,  -999.00,9,   -999.0,9,-999.000,9,  -999.00,9,   -999.0,0,   -999.0,9,   -999.0,9,  -999.00,9,  -999.0,-999.0000,-999.000,-999.000, 21.1681,-999.000,9
      06MT22_5,   A10,    93,  2,    323,2,19930127,0944,-29.3727,  12.7945, 3358,     11.0,  21.1250,  35.5580,2,-999.0000,9,   -999.0,9,  -999.00,9,  -999.00,9,  -999.00,9, -999.000,9, -999.000,9, -999.000,9, -999.000,9,-999.0000,9,  -999.00,9,   -999.0,9,-999.000,9,  -999.00,9,   -999.0,0,   -999.0,9,   -999.0,9,  -999.00,9,  -999.0,-999.0000,-999.000,-999.000, 21.1229,-999.000,9
      06MT22_5,   A10,    93,  2,    322,2,19930127,0944,-29.3727,  12.7945, 3358,    499.0,   7.0440,  34.4990,2,-999.0000,9,   -999.0,9,  -999.00,9,  -999.00,9,  -999.00,9, -999.000,9, -999.000,9, -999.000,9, -999.000,9,-999.0000,9,  -999.00,9,   -999.0,9,-999.000,9,  -999.00,9,   -999.0,0,   -999.0,9,   -999.0,9,  -999.00,9,  -999.0,-999.0000,-999.000,-999.000,  6.9966,-999.000,9
      06MT22_5,   A10,    93,  2,    321,2,19930127,0944,-29.3727,  12.7945, 3358,    599.0,   5.4890,  34.3700,2,-999.0000,9,    213.0,2,    19.91,2,    29.23,9,     1.90,2,    1.507,2,    0.730,2,    2.280,2,    0.172,2,-999.0000,1,  -999.00,1,   -999.0,9,-999.000,1,  -999.00,9,   2169.1,2,   -999.0,9,   -999.0,9,  -999.00,9,  -999.0,-999.0000,-999.000,-999.000,  5.4387,   0.009,9
      06MT22_5,   A10,    93,  2,    320,2,19930127,0944,-29.3727,  12.7945, 3358,    699.0,   4.6790,  34.3470,2,  34.3490,2,    204.3,2,    25.90,2,    31.47,9,     2.06,2,    1.114,2,    0.548,2,    2.017,2, -999.000,9,   2.0969,4,     1.86,3,   -999.0,9,   8.012,4,  -999.00,9,   2184.7,2,   -999.0,9,   -999.0,9,  -999.00,9,  -999.0,  0.0073,   0.250,   0.028,  4.6242,-999.000,9
      06MT22_5,   A10,    93,  2,    319,2,19930127,0944,-29.3727,  12.7945, 3358,    800.0,   4.0960,  34.3640,2,-999.0000,9,    191.6,2,    33.98,2,    33.32,9,     2.20,2,    0.680,2,    0.341,2,    1.457,2,    0.082,2,-999.0000,1,  -999.00,1,   -999.0,9,-999.000,1,  -999.00,9,   2201.2,2,   -999.0,9,   -999.0,9,  -999.00,9,  -999.0,-999.0000,-999.000,-999.000,  4.0362,   0.021,9
      06MT22_5,   A10,    93,  2,    318,2,19930127,0944,-29.3727,  12.7945, 3358,    900.0,   3.8410,  34.4260,2,-999.0000,9,    177.0,2,    40.30,2,    34.91,9,     2.29,2,    0.285,2,    0.144,2,    0.797,2, -999.000,9,   1.7962,2,     3.39,2,   -999.0,9,   7.848,2,  -999.00,9,   2218.9,2,   -999.0,9,   -999.0,9,  -999.00,9,  -999.0,  0.0063,   0.250,   0.027,  3.7748,-999.000,9
      06MT22_5,   A10,    93,  2,    317,2,19930127,0944,-29.3727,  12.7945, 3358,    999.0,   3.3890,  34.4380,2,  34.4400,2,    186.5,2,    48.20,2,    34.25,9,     2.28,2,    0.313,2,    0.162,2,    0.897,2,    0.081,2,   1.7962,2,     5.03,2,   -999.0,9,   7.862,2,  -999.00,9,   2218.7,2,   -999.0,9,   -999.0,9,  -999.00,9,  -999.0,  0.0063,   0.250,   0.027,  3.3183,   0.006,9
      06MT22_5,   A10,    93,  2,    316,2,19930127,0944,-29.3727,  12.7945, 3358,   1100.0,   3.2180,  34.4950,2,-999.0000,9,    181.4,2,    52.99,2,    34.16,9,     2.28,2,    0.167,2,    0.080,2,    0.596,2, -999.000,9,-999.0000,1,  -999.00,1,   -999.0,9,-999.000,1,  -999.00,9,   2226.0,2,   -999.0,9,   -999.0,9,  -999.00,9,  -999.0,-999.0000,-999.000,-999.000,  3.1403,-999.000,9
      06MT22_5,   A10,    93,  2,    315,2,19930127,0944,-29.3727,  12.7945, 3358,   1200.0,   3.0100,  34.5590,2,-999.0000,9,    180.3,2,    58.91,2,    33.93,9,     2.27,2, -999.000,9, -999.000,9, -999.000,9,    0.012,2,-999.0000,1,  -999.00,1,   -999.0,9,-999.000,1,  -999.00,9,   2231.5,2,   -999.0,9,   -999.0,9,  -999.00,9,  -999.0,-999.0000,-999.000,-999.000,  2.9263,   0.002,9
      06MT22_5,   A10,    93,  2,    314,2,19930127,0944,-29.3727,  12.7945, 3358,   1300.0,   3.1340,  34.6500,2,  34.6500,2,    186.1,2,    51.84,2,    32.17,9,     2.13,2,    0.023,2,    0.008,2,    0.158,2, -999.000,9,-999.0000,1,  -999.00,1,   -999.0,9,-999.000,1,  -999.00,9,   2223.0,2,   -999.0,9,   -999.0,9,  -999.00,9,  -999.0,-999.0000,-999.000,-999.000,  3.0410,-999.000,9
      06MT22_5,   A10,    93,  2,    313,2,19930127,0944,-29.3727,  12.7945, 3358,   1399.0,   3.1410,  34.7070,2,-999.0000,9,    192.3,2,    48.95,2,    30.77,9,     2.01,2,    0.009,2,    0.001,2,    0.101,2,    0.014,2,   2.4030,4,     5.30,3,   -999.0,9,   7.937,7,  -999.00,9,   2217.0,2,   -999.0,9,   -999.0,9,  -999.00,9,  -999.0,  0.0084,   0.250,   0.028,  3.0394,   0.010,9
      06MT22_5,   A10,    93,  2,    312,2,19930127,0944,-29.3727,  12.7945, 3358,   1600.0,   3.1930,  34.7980,2,-999.0000,9,    205.1,2,    42.07,2,    28.16,9,     1.83,2,    0.005,2,   -0.001,2,    0.029,2,   -2.674,4,   1.8078,2,     4.93,2,   -999.0,9,   7.929,2,  -999.00,9,   2203.8,2,   -999.0,9,   -999.0,9,  -999.00,9,  -999.0,  0.0063,   0.250,   0.028,  3.0737,   0.572,9
      06MT22_5,   A10,    93,  2,    311,2,19930127,0944,-29.3727,  12.7945, 3358,   1800.0,   3.1310,  34.8380,2,  34.8390,2,    215.8,2,    39.97,2,    26.58,9,     1.72,2, -999.000,9, -999.000,9, -999.000,9,    0.012,2,   1.8149,2,     4.50,2,   -999.0,9,   7.973,2,  -999.00,9,   2197.7,2,   -999.0,9,   -999.0,9,  -999.00,9,  -999.0,  0.0064,   0.250,   0.028,  2.9949,   0.007,9
      06MT22_5,   A10,    93,  2,    310,2,19930127,0944,-29.3727,  12.7945, 3358,   2001.0,   3.0010,  34.8600,2,-999.0000,9,    224.3,2,    40.16,2,    25.56,9,     1.66,2,    0.001,2,    0.000,2,    0.010,2, -999.000,9,-999.0000,1,  -999.00,1,   -999.0,9,-999.000,1,  -999.00,9,   2193.5,2,   -999.0,9,   -999.0,9,  -999.00,9,  -999.0,-999.0000,-999.000,-999.000,  2.8486,-999.000,9
      06MT22_5,   A10,    93,  2,    309,2,19930127,0944,-29.3727,  12.7945, 3358,   2201.0,   2.9200,  34.8710,2,-999.0000,9,    227.9,2,    40.53,2,    24.90,9,     1.61,2, -999.000,9, -999.000,9, -999.000,9,    0.003,2,   1.8172,2,     4.76,2,   -999.0,9,   7.983,2,  -999.00,9,   2191.3,2,   -999.0,9,   -999.0,9,  -999.00,9,  -999.0,  0.0064,   0.250,   0.028,  2.7504,   0.011,9
      06MT22_5,   A10,    93,  2,    308,2,19930127,0944,-29.3727,  12.7945, 3358,   2401.0,   2.7610,  34.8680,2,  34.8680,2,    230.8,2,    43.66,2,    24.85,9,     1.59,2,   -0.001,2,    0.001,2,    0.008,2,    0.010,2,   1.8145,2,     5.10,2,   -999.0,9,   7.963,2,  -999.00,9,   2193.1,2,   -999.0,9,   -999.0,9,  -999.00,9,  -999.0,  0.0064,   0.250,   0.028,  2.5752,   0.002,9
      06MT22_5,   A10,    93,  2,    307,2,19930127,0944,-29.3727,  12.7945, 3358,   2603.0,   2.6490,  34.8690,2,-999.0000,9,    232.1,2,    45.37,2,    24.53,9,     1.59,2, -999.000,9, -999.000,9, -999.000,9,    0.011,2,-999.0000,1,  -999.00,1,   -999.0,9,-999.000,1,  -999.00,9,   2193.6,2,   -999.0,9,   -999.0,9,  -999.00,9,  -999.0,-999.0000,-999.000,-999.000,  2.4459,   0.010,9
      06MT22_5,   A10,    93,  2,    306,2,19930127,0944,-29.3727,  12.7945, 3358,   2802.0,   2.5870,  34.8710,2,-999.0000,9,    232.4,2,    47.08,2,    24.57,9,     1.59,2,    0.000,2,    0.001,2,    0.000,2, -999.000,9,   1.8234,2,     4.90,2,   -999.0,9,   7.975,2,  -999.00,9,   2196.8,2,   -999.0,9,   -999.0,9,  -999.00,9,  -999.0,  0.0064,   0.250,   0.028,  2.3655,-999.000,9
      06MT22_5,   A10,    93,  2,    305,2,19930127,0944,-29.3727,  12.7945, 3358,   3004.0,   2.4770,  34.8680,2,  34.8690,2,    231.6,2,    50.04,2,    24.76,9,     1.61,2, -999.000,9, -999.000,9, -999.000,9,    0.010,2,   1.8341,2,     4.27,2,   -999.0,9,   8.025,2,  -999.00,9,   2200.5,2,   -999.0,9,   -999.0,9,  -999.00,9,  -999.0,  0.0064,   0.250,   0.028,  2.2375,   0.006,9
      06MT22_5,   A10,    93,  2,    304,2,19930127,0944,-29.3727,  12.7945, 3358,   3207.0,   2.3640,  34.8570,2,-999.0000,9,    233.0,2,    54.04,2,    25.18,9,     1.63,2,   -0.001,2,    0.001,2,    0.005,2,   -0.064,2,   1.8288,2,     5.49,2,   -999.0,9,   8.001,2,  -999.00,9,   2203.1,2,   -999.0,9,   -999.0,9,  -999.00,9,  -999.0,  0.0064,   0.250,   0.028,  2.1062,   0.013,9
      06MT22_5,   A10,    93,  2,    303,2,19930127,0944,-29.3727,  12.7945, 3358,   3286.0,   2.3410,  34.8580,2,-999.0000,9,    231.6,2,    55.08,2,    25.28,9,     1.64,2,    0.000,2,    0.000,2,    0.005,2,   -0.070,2,   1.8207,2,     4.87,2,   -999.0,9,   7.958,2,  -999.00,9,   2204.9,2,   -999.0,9,   -999.0,9,  -999.00,9,  -999.0,  0.0064,   0.250,   0.028,  2.0755,   0.014,9
      06MT22_5,   A10,    93,  2,    301,2,19930127,0944,-29.3727,  12.7945, 3358,   3367.0,   2.3110,  34.8550,2,-999.0000,9,    230.8,2,    56.44,2,    25.55,9,     1.64,2, -999.000,9, -999.000,9, -999.000,9,    0.013,2,   2.5480,4,     5.44,3,   -999.0,9,   9.892,4,  -999.00,9,   2207.3,2,   -999.0,9,   -999.0,9,  -999.00,9,  -999.0,  0.0089,   0.500,   0.035,  2.0339,   0.003,9
      06MT22_5,   A10,    93,  2,    302,2,19930127,0944,-29.3727,  12.7945, 3358,   3375.0,   2.3110,  34.8560,2,  34.8570,2,   -999.0,9,  -999.00,9,  -999.00,9,  -999.00,9,    0.006,3,    0.022,3,    0.021,2, -999.000,9,   1.8185,2,     5.06,2,   -999.0,9,   7.967,2,  -999.00,9,   -999.0,0,   -999.0,9,   -999.0,9,  -999.00,9,  -999.0,  0.0064,   0.500,   0.028,  2.0369,-999.000,9
      06MT22_5,   A10,    94,  1,    324,2,19930127,1507,-29.2617,  13.0700, 3121,     13.0,  21.0550,  35.4490,2,  35.4640,2,    227.7,2,     1.30,2,     0.01,9,     0.10,2, -999.000,9, -999.000,9, -999.000,9, -999.000,9,-999.0000,9,  -999.00,9,   -999.0,9,-999.000,9,  -999.00,9,   -999.0,0,   -999.0,9,   -999.0,9,  -999.00,9,  -999.0,-999.0000,-999.000,-999.000, 21.0525,-999.000,9
      06MT22_5,   A10,    94,  1,    323,2,19930127,1507,-29.2617,  13.0700, 3121,     50.0,  20.4840,  35.5590,2,-999.0000,9,    232.5,2,     1.22,2,     0.01,9,     0.11,2, -999.000,9, -999.000,9, -999.000,9, -999.000,9,-999.0000,9,  -999.00,9,   -999.0,9,-999.000,9,  -999.00,9,   -999.0,0,   -999.0,9,   -999.0,9,  -999.00,9,  -999.0,-999.0000,-999.000,-999.000, 20.4746,-999.000,9
      06MT22_5,   A10,    94,  1,    322,2,19930127,1507,-29.2617,  13.0700, 3121,     69.0,  17.7500,  35.4960,2,  35.5010,2,    247.5,2,     1.57,2,     0.17,9,     0.17,2, -999.000,9, -999.000,9, -999.000,9, -999.000,9,-999.0000,9,  -999.00,9,   -999.0,9,-999.000,9,  -999.00,9,   -999.0,0,   -999.0,9,   -999.0,9,  -999.00,9,  -999.0,-999.0000,-999.000,-999.000, 17.7383,-999.000,9
      06MT22_5,   A10,    94,  1,    321,2,19930127,1507,-29.2617,  13.0700, 3121,    100.0,  14.9900,  35.3870,2,-999.0000,9,    234.6,2,     2.23,2,     4.11,9,     0.36,2, -999.000,9, -999.000,9, -999.000,9, -999.000,9,-999.0000,9,  -999.00,9,   -999.0,9,-999.000,9,  -999.00,9,   -999.0,0,   -999.0,9,   -999.0,9,  -999.00,9,  -999.0,-999.0000,-999.000,-999.000, 14.9749,-999.000,9
      06MT22_5,   A10,    94,  1,    320,2,19930127,1507,-29.2617,  13.0700, 3121,    150.0,  13.5330,  35.2010,2,-999.0000,9,    220.4,2,     3.84,2,     8.53,9,     0.62,2, -999.000,9, -999.000,9, -999.000,9, -999.000,9,-999.0000,9,  -999.00,9,   -999.0,9,-999.000,9,  -999.00,9,   -999.0,0,   -999.0,9,   -999.0,9,  -999.00,9,  -999.0,-999.0000,-999.000,-999.000, 13.5118,-999.000,9
      06MT22_5,   A10,    94,  1,    319,2,19930127,1507,-29.2617,  13.0700, 3121,    200.0,  12.5440,  35.0880,2,  35.0940,2,    219.5,2,     4.41,2,    10.85,9,     0.78,2, -999.000,9, -999.000,9, -999.000,9, -999.000,9,-999.0000,9,  -999.00,9,   -999.0,9,-999.000,9,  -999.00,9,   -999.0,0,   -999.0,9,   -999.0,9,  -999.00,9,  -999.0,-999.0000,-999.000,-999.000, 12.5171,-999.000,9
      06MT22_5,   A10,    94,  1,    318,2,19930127,1507,-29.2617,  13.0700, 3121,    299.0,  10.6100,  34.8520,2,-999.0000,9,    205.6,2,     7.41,2,    16.37,9,     1.12,2, -999.000,9, -999.000,9, -999.000,9, -999.000,9,-999.0000,9,  -999.00,9,   -999.0,9,-999.000,9,  -999.00,9,   -999.0,0,   -999.0,9,   -999.0,9,  -999.00,9,  -999.0,-999.0000,-999.000,-999.000, 10.5740,-999.000,9
      06MT22_5,   A10,    94,  1,    317,2,19930127,1507,-29.2617,  13.0700, 3121,    400.0,   8.4530,  34.6200,2,-999.0000,9,    198.9,2,    11.75,2,    22.32,9,     1.49,2, -999.000,9, -999.000,9, -999.000,9, -999.000,9,-999.0000,9,  -999.00,9,   -999.0,9,-999.000,9,  -999.00,9,   -999.0,0,   -999.0,9,   -999.0,9,  -999.00,9,  -999.0,-999.0000,-999.000,-999.000,  8.4109,-999.000,9
      06MT22_5,   A10,    94,  1,    316,2,19930127,1507,-29.2617,  13.0700, 3121,    499.0,   6.8790,  34.4830,2,  34.4860,2,    203.4,2,    17.04,2,    26.08,9,     1.73,2, -999.000,9, -999.000,9, -999.000,9, -999.000,9,-999.0000,9,  -999.00,9,   -999.0,9,-999.000,9,  -999.00,9,   -999.0,0,   -999.0,9,   -999.0,9,  -999.00,9,  -999.0,-999.0000,-999.000,-999.000,  6.8321,-999.000,9
      06MT22_5,   A10,    94,  1,    315,2,19930127,1507,-29.2617,  13.0700, 3121,    595.0,   5.5230,  34.3940,2,-999.0000,9,    205.6,2,    22.51,2,    29.29,9,     1.92,2, -999.000,9, -999.000,9, -999.000,9, -999.000,9,-999.0000,9,  -999.00,9,   -999.0,9,-999.000,9,  -999.00,9,   -999.0,0,   -999.0,9,   -999.0,9,  -999.00,9,  -999.0,-999.0000,-999.000,-999.000,  5.4729,-999.000,9
      06MT22_5,   A10,    94,  1,    314,2,19930127,1507,-29.2617,  13.0700, 3121,    687.0,   4.5590,  34.3500,2,-999.0000,9,    214.0,2,    29.15,2,    30.70,9,     2.03,2, -999.000,9, -999.000,9, -999.000,9, -999.000,9,-999.0000,9,  -999.00,9,   -999.0,9,-999.000,9,  -999.00,9,   -999.0,0,   -999.0,9,   -999.0,9,  -999.00,9,  -999.0,-999.0000,-999.000,-999.000,  4.5058,-999.000,9
      06MT22_5,   A10,    94,  1,    313,2,19930127,1507,-29.2617,  13.0700, 3121,    848.0,   3.6420,  34.4060,2,  34.4100,2,    189.6,2,    43.49,2,    33.88,9,     2.26,2, -999.000,9, -999.000,9, -999.000,9, -999.000,9,-999.0000,9,  -999.00,9,   -999.0,9,-999.000,9,  -999.00,9,   -999.0,0,   -999.0,9,   -999.0,9,  -999.00,9,  -999.0,-999.0000,-999.000,-999.000,  3.5813,-999.000,9
      06MT22_5,   A10,    94,  1,    312,2,19930127,1507,-29.2617,  13.0700, 3121,    997.0,   3.2910,  34.5010,2,-999.0000,9,    180.2,2,    51.12,2,    34.34,9,     2.28,2, -999.000,9, -999.000,9, -999.000,9, -999.000,9,-999.0000,9,  -999.00,9,   -999.0,9,-999.000,9,  -999.00,9,   -999.0,0,   -999.0,9,   -999.0,9,  -999.00,9,  -999.0,-999.0000,-999.000,-999.000,  3.2207,-999.000,9
      06MT22_5,   A10,    94,  1,    311,2,19930127,1507,-29.2617,  13.0700, 3121,   1191.0,   3.1360,  34.6120,2,-999.0000,9,    181.6,2,    53.03,2,    32.83,9,     2.17,2, -999.000,9, -999.000,9, -999.000,9, -999.000,9,-999.0000,9,  -999.00,9,   -999.0,9,-999.000,9,  -999.00,9,   -999.0,0,   -999.0,9,   -999.0,9,  -999.00,9,  -999.0,-999.0000,-999.000,-999.000,  3.0516,-999.000,9
      06MT22_5,   A10,    94,  1,    310,2,19930127,1507,-29.2617,  13.0700, 3121,   1400.0,   3.2030,  34.7420,2,  34.7450,2,    196.6,2,    45.67,2,    29.84,9,     1.97,2, -999.000,9, -999.000,9, -999.000,9, -999.000,9,-999.0000,9,  -999.00,9,   -999.0,9,-999.000,9,  -999.00,9,   -999.0,0,   -999.0,9,   -999.0,9,  -999.00,9,  -999.0,-999.0000,-999.000,-999.000,  3.1008,-999.000,9
      06MT22_5,   A10,    94,  1,    309,2,19930127,1507,-29.2617,  13.0700, 3121,   1600.0,   3.1900,  34.8080,2,-999.0000,9,    207.4,2,    41.38,2,    27.62,9,     1.82,2, -999.000,9, -999.000,9, -999.000,9, -999.000,9,-999.0000,9,  -999.00,9,   -999.0,9,-999.000,9,  -999.00,9,   -999.0,0,   -999.0,9,   -999.0,9,  -999.00,9,  -999.0,-999.0000,-999.000,-999.000,  3.0707,-999.000,9
      06MT22_5,   A10,    94,  1,    308,2,19930127,1507,-29.2617,  13.0700, 3121,   1800.0,   3.1350,  34.8460,2,-999.0000,9,    217.1,2,    39.22,2,    26.26,9,     1.70,2, -999.000,9, -999.000,9, -999.000,9, -999.000,9,-999.0000,9,  -999.00,9,   -999.0,9,-999.000,9,  -999.00,9,   -999.0,0,   -999.0,9,   -999.0,9,  -999.00,9,  -999.0,-999.0000,-999.000,-999.000,  2.9988,-999.000,9
      06MT22_5,   A10,    94,  1,    307,2,19930127,1507,-29.2617,  13.0700, 3121,   2000.0,   3.0160,  34.8620,2,  34.8650,2,    223.8,2,    39.96,2,    25.35,9,     1.66,2, -999.000,9, -999.000,9, -999.000,9, -999.000,9,-999.0000,9,  -999.00,9,   -999.0,9,-999.000,9,  -999.00,9,   -999.0,0,   -999.0,9,   -999.0,9,  -999.00,9,  -999.0,-999.0000,-999.000,-999.000,  2.8635,-999.000,9
      06MT22_5,   A10,    94,  1,    306,2,19930127,1507,-29.2617,  13.0700, 3121,   2253.0,   2.8690,  34.8680,2,-999.0000,9,    228.7,2,    42.00,2,    25.13,9,     1.63,2, -999.000,9, -999.000,9, -999.000,9, -999.000,9,-999.0000,9,  -999.00,9,   -999.0,9,-999.000,9,  -999.00,9,   -999.0,0,   -999.0,9,   -999.0,9,  -999.00,9,  -999.0,-999.0000,-999.000,-999.000,  2.6953,-999.000,9
      06MT22_5,   A10,    94,  1,    305,2,19930127,1507,-29.2617,  13.0700, 3121,   2503.0,   2.7200,  34.8740,2,-999.0000,9,    230.4,2,    44.69,2,    24.73,9,     1.60,2, -999.000,9, -999.000,9, -999.000,9, -999.000,9,-999.0000,9,  -999.00,9,   -999.0,9,-999.000,9,  -999.00,9,   -999.0,0,   -999.0,9,   -999.0,9,  -999.00,9,  -999.0,-999.0000,-999.000,-999.000,  2.5252,-999.000,9
      06MT22_5,   A10,    94,  1,    304,2,19930127,1507,-29.2617,  13.0700, 3121,   2753.0,   2.5020,  34.8700,2,  34.8730,2,    232.4,2,    49.55,2,    24.66,9,     1.61,2, -999.000,9, -999.000,9, -999.000,9, -999.000,9,-999.0000,9,  -999.00,9,   -999.0,9,-999.000,9,  -999.00,9,   -999.0,0,   -999.0,9,   -999.0,9,  -999.00,9,  -999.0,-999.0000,-999.000,-999.000,  2.2871,-999.000,9
      06MT22_5,   A10,    94,  1,    303,2,19930127,1507,-29.2617,  13.0700, 3121,   3046.0,   2.3980,  34.8650,2,-999.0000,9,    231.4,2,    53.40,2,    25.07,9,     1.65,2, -999.000,9, -999.000,9, -999.000,9, -999.000,9,-999.0000,9,  -999.00,9,   -999.0,9,-999.000,9,  -999.00,9,   -999.0,0,   -999.0,9,   -999.0,9,  -999.00,9,  -999.0,-999.0000,-999.000,-999.000,  2.1560,-999.000,9
      06MT22_5,   A10,    94,  1,    301,2,19930127,1507,-29.2617,  13.0700, 3121,   3126.0,   2.3580,  34.8610,2,-999.0000,9,    230.4,2,    54.27,2,    25.31,9,     1.66,2, -999.000,9, -999.000,9, -999.000,9, -999.000,9,-999.0000,9,  -999.00,9,   -999.0,9,-999.000,9,  -999.00,9,   -999.0,0,   -999.0,9,   -999.0,9,  -999.00,9,  -999.0,-999.0000,-999.000,-999.000,  2.1052,-999.000,9
      06MT22_5,   A10,    94,  1,    302,2,19930127,1507,-29.2617,  13.0700, 3121,   3127.0,   2.3560,  34.8610,2,  34.8650,2,   -999.0,9,  -999.00,9,  -999.00,9,  -999.00,9, -999.000,9, -999.000,9, -999.000,9, -999.000,9,-999.0000,9,  -999.00,9,   -999.0,9,-999.000,9,  -999.00,9,   -999.0,0,   -999.0,9,   -999.0,9,  -999.00,9,  -999.0,-999.0000,-999.000,-999.000,  2.1066,-999.000,9