BOTTLE,20030417WHPSIOSA
EXPOCODE,SECT_ID,STNNBR,CASTNO,BTLNBR,BTLNBR_FLAG_W,DATE,TIME,LATITUDE,LONGITUDE,DEPTH,CTDPRS,CTDTMP,CTDSAL,CTDSAL_FLAG_W,SALNTY,SALNTY_FLAG_W,OXYGEN,OXYGEN_FLAG_W,SILCAT,SILCAT_FLAG_W,NO2+NO3,NO2+NO3_FLAG_W,PHSPHT,PHSPHT_FLAG_W,CFC-11,CFC-11_FLAG_W,CFC-12,CFC-12_FLAG_W,CCL4,CCL4_FLAG_W,TRITUM,TRITUM_FLAG_W,HELIUM,HELIUM_FLAG_W,DELHE3,DELHE3_FLAG_W,DELC14,DELC14_FLAG_W,NEON,NEON_FLAG_W,O18O16,O18O16_FLAG_W,TCARBN,TCARBN_FLAG_W,PCO2,PCO2_FLAG_W,ALKALI,ALKALI_FLAG_W,PH,PH_FLAG_W,C14ERR,HELIER,DELHER,NEONER,THETA,TRITER,TRITER_FLAG_W
,,,,,,,,,,,DBAR,ITS-90,PSS-78,,PSS-78,,UMOL/KG,,UMOL/KG,,UMOL/KG,,UMOL/KG,,PMOL/KG,,PMOL/KG,,PMOL/KG,,TU,,NMOL/KG,,PERCNT,,/MILLE,,NMOL/KG,,MILLE,,UMOL/KG,,UATM,,UMOL/KG,,,,/MILLE,NMOL/KG,PERCNT,NMOL/KG,ITS-90,TU,
      06MT22_5,   A10,    79,  2,    324,2,19930122,0938,-29.4740,   3.3038, 4777,     10.0,  23.5540,  35.7980,2,  35.8020,2,   -999.0,9,  -999.00,9,  -999.00,9,  -999.00,9, -999.000,9, -999.000,9, -999.000,9, -999.000,9,-999.0000,9,  -999.00,9,   -999.0,9,-999.000,9,  -999.00,9,   -999.0,0,   -999.0,9,   -999.0,9,  -999.00,9,  -999.0,-999.0000,-999.000,-999.000, 23.5519,-999.000,9
      06MT22_5,   A10,    79,  2,    323,2,19930122,0938,-29.4740,   3.3038, 4777,    400.0,  12.6200,  35.0880,2,-999.0000,9,   -999.0,9,  -999.00,9,  -999.00,9,  -999.00,9, -999.000,9, -999.000,9, -999.000,9, -999.000,9,-999.0000,9,  -999.00,9,   -999.0,9,-999.000,9,  -999.00,9,   -999.0,0,   -999.0,9,   -999.0,9,  -999.00,9,  -999.0,-999.0000,-999.000,-999.000, 12.5659,-999.000,9
      06MT22_5,   A10,    79,  2,    322,2,19930122,0938,-29.4740,   3.3038, 4777,    500.0,  10.7110,  34.8620,2,-999.0000,9,   -999.0,9,  -999.00,9,  -999.00,9,  -999.00,9, -999.000,9, -999.000,9, -999.000,9, -999.000,9,-999.0000,9,  -999.00,9,   -999.0,9,-999.000,9,  -999.00,9,   -999.0,0,   -999.0,9,   -999.0,9,  -999.00,9,  -999.0,-999.0000,-999.000,-999.000, 10.6499,-999.000,9
      06MT22_5,   A10,    79,  2,    321,2,19930122,0938,-29.4740,   3.3038, 4777,    599.0,   8.8540,  34.6610,2,-999.0000,9,   -999.0,9,  -999.00,9,  -999.00,9,  -999.00,9, -999.000,9, -999.000,9, -999.000,9, -999.000,9,-999.0000,9,  -999.00,9,   -999.0,9,-999.000,9,  -999.00,9,   -999.0,0,   -999.0,9,   -999.0,9,  -999.00,9,  -999.0,-999.0000,-999.000,-999.000,  8.7885,-999.000,9
      06MT22_5,   A10,    79,  2,    320,2,19930122,0938,-29.4740,   3.3038, 4777,    698.0,   6.9910,  34.4870,2,-999.0000,9,   -999.0,9,  -999.00,9,  -999.00,9,  -999.00,9, -999.000,9, -999.000,9, -999.000,9, -999.000,9,-999.0000,9,  -999.00,9,   -999.0,9,-999.000,9,  -999.00,9,   -999.0,0,   -999.0,9,   -999.0,9,  -999.00,9,  -999.0,-999.0000,-999.000,-999.000,  6.9238,-999.000,9
      06MT22_5,   A10,    79,  2,    319,2,19930122,0938,-29.4740,   3.3038, 4777,    847.0,   4.6940,  34.3340,2,-999.0000,9,   -999.0,9,  -999.00,9,  -999.00,9,  -999.00,9, -999.000,9, -999.000,9, -999.000,9, -999.000,9,-999.0000,9,  -999.00,9,   -999.0,9,-999.000,9,  -999.00,9,   -999.0,0,   -999.0,9,   -999.0,9,  -999.00,9,  -999.0,-999.0000,-999.000,-999.000,  4.6264,-999.000,9
      06MT22_5,   A10,    79,  2,    318,2,19930122,0938,-29.4740,   3.3038, 4777,   1000.0,   3.7780,  34.3660,2,-999.0000,9,    200.5,2,    37.30,2,    32.55,9,     2.20,2, -999.000,9, -999.000,9, -999.000,9, -999.000,9,-999.0000,9,  -999.00,9,   -999.0,9,-999.000,9,  -999.00,9,   -999.0,0,   -999.0,9,   -999.0,9,  -999.00,9,  -999.0,-999.0000,-999.000,-999.000,  3.7041,-999.000,9
      06MT22_5,   A10,    79,  2,    318,2,19930122,0938,-29.4740,   3.3038, 4777,   1001.0,   3.7730,  34.3670,2,-999.0000,9,   -999.0,9,  -999.00,9,  -999.00,9,  -999.00,9, -999.000,9, -999.000,9, -999.000,9, -999.000,9,-999.0000,9,  -999.00,9,   -999.0,9,-999.000,9,  -999.00,9,   -999.0,0,   -999.0,9,   -999.0,9,  -999.00,9,  -999.0,-999.0000,-999.000,-999.000,  3.6990,-999.000,9
      06MT22_5,   A10,    79,  2,    317,2,19930122,0938,-29.4740,   3.3038, 4777,   1200.0,   3.2790,  34.4920,2,  34.4930,2,    182.2,2,    49.68,2,    33.56,9,     2.26,2, -999.000,9, -999.000,9, -999.000,9, -999.000,9,-999.0000,9,  -999.00,9,   -999.0,9,-999.000,9,  -999.00,9,   -999.0,0,   -999.0,9,   -999.0,9,  -999.00,9,  -999.0,-999.0000,-999.000,-999.000,  3.1931,-999.000,9
      06MT22_5,   A10,    79,  2,    316,2,19930122,0938,-29.4740,   3.3038, 4777,   1399.0,   3.0750,  34.6220,2,-999.0000,9,    184.6,2,    52.93,2,    32.07,9,     2.16,2, -999.000,9, -999.000,9, -999.000,9, -999.000,9,-999.0000,9,  -999.00,9,   -999.0,9,-999.000,9,  -999.00,9,   -999.0,0,   -999.0,9,   -999.0,9,  -999.00,9,  -999.0,-999.0000,-999.000,-999.000,  2.9741,-999.000,9
      06MT22_5,   A10,    79,  2,    315,2,19930122,0938,-29.4740,   3.3038, 4777,   1599.0,   2.9520,  34.7080,2,-999.0000,9,    193.0,2,    53.04,2,    30.52,9,     2.03,2, -999.000,9, -999.000,9, -999.000,9, -999.000,9,-999.0000,9,  -999.00,9,   -999.0,9,-999.000,9,  -999.00,9,   -999.0,0,   -999.0,9,   -999.0,9,  -999.00,9,  -999.0,-999.0000,-999.000,-999.000,  2.8358,-999.000,9
      06MT22_5,   A10,    79,  2,    314,2,19930122,0938,-29.4740,   3.3038, 4777,   1800.0,   2.9270,  34.7900,2,-999.0000,9,    208.0,2,    48.39,2,    28.07,9,     1.83,2, -999.000,9, -999.000,9, -999.000,9, -999.000,9,-999.0000,9,  -999.00,9,   -999.0,9,-999.000,9,  -999.00,9,   -999.0,0,   -999.0,9,   -999.0,9,  -999.00,9,  -999.0,-999.0000,-999.000,-999.000,  2.7937,-999.000,9
      06MT22_5,   A10,    79,  2,    313,2,19930122,0938,-29.4740,   3.3038, 4777,   2001.0,   2.8450,  34.8230,2,  34.8220,2,    216.4,2,    47.34,2,    26.71,9,     1.76,2, -999.000,9, -999.000,9, -999.000,9, -999.000,9,-999.0000,9,  -999.00,9,   -999.0,9,-999.000,9,  -999.00,9,   -999.0,0,   -999.0,9,   -999.0,9,  -999.00,9,  -999.0,-999.0000,-999.000,-999.000,  2.6951,-999.000,9
      06MT22_5,   A10,    79,  2,    312,2,19930122,0938,-29.4740,   3.3038, 4777,   2249.0,   2.6750,  34.8490,2,-999.0000,9,    227.0,2,    47.23,2,    25.53,9,     1.68,2, -999.000,9, -999.000,9, -999.000,9, -999.000,9,-999.0000,9,  -999.00,9,   -999.0,9,-999.000,9,  -999.00,9,   -999.0,0,   -999.0,9,   -999.0,9,  -999.00,9,  -999.0,-999.0000,-999.000,-999.000,  2.5050,-999.000,9
      06MT22_5,   A10,    79,  2,    311,2,19930122,0938,-29.4740,   3.3038, 4777,   2502.0,   2.5050,  34.8510,2,-999.0000,9,    229.1,2,    50.07,2,    25.36,9,     1.67,2, -999.000,9, -999.000,9, -999.000,9, -999.000,9,-999.0000,9,  -999.00,9,   -999.0,9,-999.000,9,  -999.00,9,   -999.0,0,   -999.0,9,   -999.0,9,  -999.00,9,  -999.0,-999.0000,-999.000,-999.000,  2.3143,-999.000,9
      06MT22_5,   A10,    79,  2,    310,2,19930122,0938,-29.4740,   3.3038, 4777,   2752.0,   2.4190,  34.8550,2,-999.0000,9,    231.5,2,    51.59,2,    25.20,9,     1.64,2, -999.000,9, -999.000,9, -999.000,9, -999.000,9,-999.0000,9,  -999.00,9,   -999.0,9,-999.000,9,  -999.00,9,   -999.0,0,   -999.0,9,   -999.0,9,  -999.00,9,  -999.0,-999.0000,-999.000,-999.000,  2.2059,-999.000,9
      06MT22_5,   A10,    79,  2,    309,2,19930122,0938,-29.4740,   3.3038, 4777,   3003.0,   2.3390,  34.8570,2,  34.8530,2,    232.8,2,    53.07,2,    25.17,9,     1.66,2, -999.000,9, -999.000,9, -999.000,9, -999.000,9,-999.0000,9,  -999.00,9,   -999.0,9,-999.000,9,  -999.00,9,   -999.0,0,   -999.0,9,   -999.0,9,  -999.00,9,  -999.0,-999.0000,-999.000,-999.000,  2.1027,-999.000,9
      06MT22_5,   A10,    79,  2,    308,2,19930122,0938,-29.4740,   3.3038, 4777,   3253.0,   2.2570,  34.8550,2,-999.0000,9,    232.8,2,    55.87,2,    25.36,9,     1.66,2, -999.000,9, -999.000,9, -999.000,9, -999.000,9,-999.0000,9,  -999.00,9,   -999.0,9,-999.000,9,  -999.00,9,   -999.0,0,   -999.0,9,   -999.0,9,  -999.00,9,  -999.0,-999.0000,-999.000,-999.000,  1.9973,-999.000,9
      06MT22_5,   A10,    79,  2,    307,2,19930122,0938,-29.4740,   3.3038, 4777,   3505.0,   2.1520,  34.8460,2,-999.0000,9,    231.6,2,    61.75,2,    25.75,9,     1.69,2, -999.000,9, -999.000,9, -999.000,9, -999.000,9,-999.0000,9,  -999.00,9,   -999.0,9,-999.000,9,  -999.00,9,   -999.0,0,   -999.0,9,   -999.0,9,  -999.00,9,  -999.0,-999.0000,-999.000,-999.000,  1.8684,-999.000,9
      06MT22_5,   A10,    79,  2,    306,2,19930122,0938,-29.4740,   3.3038, 4777,   3755.0,   2.0180,  34.8310,2,-999.0000,9,    229.4,2,    67.07,2,    26.61,9,     1.76,2, -999.000,9, -999.000,9, -999.000,9, -999.000,9,-999.0000,9,  -999.00,9,   -999.0,9,-999.000,9,  -999.00,9,   -999.0,0,   -999.0,9,   -999.0,9,  -999.00,9,  -999.0,-999.0000,-999.000,-999.000,  1.7110,-999.000,9
      06MT22_5,   A10,    79,  2,    305,2,19930122,0938,-29.4740,   3.3038, 4777,   4003.0,   1.5740,  34.7830,2,  34.7820,2,    223.0,2,    84.21,2,    28.90,9,     1.93,2, -999.000,9, -999.000,9, -999.000,9, -999.000,9,-999.0000,9,  -999.00,9,   -999.0,9,-999.000,9,  -999.00,9,   -999.0,0,   -999.0,9,   -999.0,9,  -999.00,9,  -999.0,-999.0000,-999.000,-999.000,  1.2521,-999.000,9
      06MT22_5,   A10,    79,  2,    304,2,19930122,0938,-29.4740,   3.3038, 4777,   4256.0,   1.2740,  34.7540,2,-999.0000,9,    220.4,2,    91.88,2,    30.00,9,     1.99,2,    0.002,2,    0.000,2,    0.038,2, -999.000,9,-999.0000,9,  -999.00,9,   -999.0,9,-999.000,9,  -999.00,9,   -999.0,0,   -999.0,9,   -999.0,9,  -999.00,9,  -999.0,-999.0000,-999.000,-999.000,  0.9332,-999.000,9
      06MT22_5,   A10,    79,  2,    303,2,19930122,0938,-29.4740,   3.3038, 4777,   4507.0,   1.1390,  34.7390,2,-999.0000,9,    219.8,2,   100.87,2,    31.16,9,     2.07,2,    0.004,2,    0.003,2,    0.058,2, -999.000,9,-999.0000,9,  -999.00,9,   -999.0,9,-999.000,9,  -999.00,9,   -999.0,0,   -999.0,9,   -999.0,9,  -999.00,9,  -999.0,-999.0000,-999.000,-999.000,  0.7741,-999.000,9
      06MT22_5,   A10,    79,  2,    302,2,19930122,0938,-29.4740,   3.3038, 4777,   4778.0,   1.1270,  34.7360,2,-999.0000,9,   -999.0,9,  -999.00,9,  -999.00,9,  -999.00,9,    0.015,4,    0.007,2,    0.070,2, -999.000,9,-999.0000,9,  -999.00,9,   -999.0,9,-999.000,9,  -999.00,9,   -999.0,0,   -999.0,9,   -999.0,9,  -999.00,9,  -999.0,-999.0000,-999.000,-999.000,  0.7313,-999.000,9
      06MT22_5,   A10,    79,  2,    301,2,19930122,0938,-29.4740,   3.3038, 4777,   4781.0,   1.1270,  34.7350,2,  34.7350,2,    219.1,2,   102.55,2,    31.39,9,     2.09,2,    0.008,2,    0.006,2,    0.071,2, -999.000,9,-999.0000,9,  -999.00,9,   -999.0,9,-999.000,9,  -999.00,9,   -999.0,0,   -999.0,9,   -999.0,9,  -999.00,9,  -999.0,-999.0000,-999.000,-999.000,  0.7310,-999.000,9
      06MT22_5,   A10,    80,  1,    217,2,19930122,1538,-29.6085,   3.7778, 4944,     11.0,  23.8310,  35.8200,2,-999.0000,9,    220.9,2,     0.89,2,     0.06,9,     0.16,2, -999.000,9, -999.000,9, -999.000,9, -999.000,9,-999.0000,9,  -999.00,9,   -999.0,9,-999.000,9,  -999.00,9,   -999.0,9,   -999.0,9,   -999.0,9,  -999.00,9,  -999.0,-999.0000,-999.000,-999.000, 23.8287,-999.000,9
      06MT22_5,   A10,    80,  1,    213,2,19930122,1538,-29.6085,   3.7778, 4944,     11.0,  23.7660,  35.8240,2,  35.8160,2,   -999.0,9,  -999.00,9,  -999.00,9,  -999.00,9,    2.981,4,    1.420,4,    2.708,2,    1.024,2,-999.0000,1,  -999.00,1,   -999.0,9,-999.000,1,  -999.00,9,   -999.0,9,   -999.0,9,   -999.0,9,  -999.00,9,  -999.0,-999.0000,-999.000,-999.000, 23.7637,   0.026,9
      06MT22_5,   A10,    80,  1,    212,2,19930122,1538,-29.6085,   3.7778, 4944,     31.0,  21.9550,  35.7250,2,-999.0000,9,    233.4,2,     0.84,2,     0.02,9,     0.16,2,    2.265,2,    1.236,2,    2.567,2,    0.942,2,   2.2169,4,     0.16,3,   -999.0,9,   6.917,7,  -999.00,9,   -999.0,9,   -999.0,9,   -999.0,9,  -999.00,9,  -999.0,  0.0078,   0.250,   0.024, 21.9489,   0.045,9
      06MT22_5,   A10,    80,  1,    211,2,19930122,1538,-29.6085,   3.7778, 4944,     51.0,  18.4220,  35.5760,2,-999.0000,9,    266.6,2,     0.80,2,     0.08,9,     0.14,2,    2.654,2,    1.422,2,    2.454,2,    1.042,3,-999.0000,1,  -999.00,1,   -999.0,9,-999.000,1,  -999.00,9,   -999.0,9,   -999.0,9,   -999.0,9,  -999.00,9,  -999.0,-999.0000,-999.000,-999.000, 18.4131,   0.164,9
      06MT22_5,   A10,    80,  1,    210,2,19930122,1538,-29.6085,   3.7778, 4944,     71.0,  16.2920,  35.5350,2,  35.5360,2,    264.2,2,     1.50,2,     0.00,9,     0.18,2,    2.648,2,    1.421,2,    1.994,2,    0.008,4,-999.0000,1,  -999.00,1,   -999.0,9,-999.000,1,  -999.00,9,   -999.0,9,   -999.0,9,   -999.0,9,  -999.00,9,  -999.0,-999.0000,-999.000,-999.000, 16.2806,   0.002,9
      06MT22_5,   A10,    80,  1,    209,2,19930122,1538,-29.6085,   3.7778, 4944,    101.0,  15.6550,  35.5260,2,-999.0000,9,    238.8,2,     2.34,2,     2.46,9,     0.30,2,    2.648,2,    1.411,2,    1.695,2, -999.000,9,-999.0000,9,  -999.00,9,   -999.0,9,-999.000,9,  -999.00,9,   -999.0,9,   -999.0,9,   -999.0,9,  -999.00,9,  -999.0,-999.0000,-999.000,-999.000, 15.6392,-999.000,9
      06MT22_5,   A10,    80,  1,    208,2,19930122,1538,-29.6085,   3.7778, 4944,    151.0,  15.3810,  35.4940,2,-999.0000,9,    236.2,2,     2.44,2,     3.04,9,     0.35,2,    2.647,2,    1.428,2,    1.471,2, -999.000,9,-999.0000,9,  -999.00,9,   -999.0,9,-999.000,9,  -999.00,9,   -999.0,9,   -999.0,9,   -999.0,9,  -999.00,9,  -999.0,-999.0000,-999.000,-999.000, 15.3577,-999.000,9
      06MT22_5,   A10,    80,  1,    207,2,19930122,1538,-29.6085,   3.7778, 4944,    201.0,  15.0660,  35.4360,2,  35.4370,2,    236.3,2,     2.77,2,     3.64,9,     0.40,2,    2.667,2,    1.422,2,    1.503,2, -999.000,9,-999.0000,9,  -999.00,9,   -999.0,9,-999.000,9,  -999.00,9,   -999.0,9,   -999.0,9,   -999.0,9,  -999.00,9,  -999.0,-999.0000,-999.000,-999.000, 15.0354,-999.000,9
      06MT22_5,   A10,    80,  1,    206,2,19930122,1538,-29.6085,   3.7778, 4944,    301.0,  13.2700,  35.1120,2,-999.0000,9,    232.2,2,     2.82,2,     6.65,9,     0.59,2,    2.743,2,    1.442,2,    1.713,3, -999.000,9,-999.0000,9,  -999.00,9,   -999.0,9,-999.000,9,  -999.00,9,   -999.0,9,   -999.0,9,   -999.0,9,  -999.00,9,  -999.0,-999.0000,-999.000,-999.000, 13.2280,-999.000,9
      06MT22_5,   A10,    80,  1,    205,2,19930122,1538,-29.6085,   3.7778, 4944,    402.0,  11.7780,  34.9790,2,-999.0000,9,    218.3,2,     4.55,2,    11.85,9,     0.88,2,    2.449,2,    1.285,2,    1.227,2, -999.000,9,-999.0000,9,  -999.00,9,   -999.0,9,-999.000,9,  -999.00,9,   -999.0,9,   -999.0,9,   -999.0,9,  -999.00,9,  -999.0,-999.0000,-999.000,-999.000, 11.7259,-999.000,9
      06MT22_5,   A10,    80,  1,    204,2,19930122,1538,-29.6085,   3.7778, 4944,    501.0,   9.9450,  34.7800,2,  34.7820,2,    211.7,2,     9.49,2,    17.08,9,     1.18,2, -999.000,9, -999.000,9, -999.000,9, -999.000,9,-999.0000,9,  -999.00,9,   -999.0,9,-999.000,9,  -999.00,9,   -999.0,9,   -999.0,9,   -999.0,9,  -999.00,9,  -999.0,-999.0000,-999.000,-999.000,  9.8863,-999.000,9
      06MT22_5,   A10,    80,  1,    203,2,19930122,1538,-29.6085,   3.7778, 4944,    600.0,   7.9360,  34.5760,2,-999.0000,9,    206.2,2,    12.75,2,    23.04,9,     1.58,2,    1.763,2,    0.889,2,    1.686,2, -999.000,9,-999.0000,9,  -999.00,9,   -999.0,9,-999.000,9,  -999.00,9,   -999.0,9,   -999.0,9,   -999.0,9,  -999.00,9,  -999.0,-999.0000,-999.000,-999.000,  7.8745,-999.000,9
      06MT22_5,   A10,    80,  1,    202,2,19930122,1538,-29.6085,   3.7778, 4944,    701.0,   6.4230,  34.4420,2,  34.4460,2,    206.5,2,    16.90,2,    26.98,9,     1.80,2,    1.543,2,    0.770,2,    2.019,2, -999.000,9,-999.0000,9,  -999.00,9,   -999.0,9,-999.000,9,  -999.00,9,   -999.0,9,   -999.0,9,   -999.0,9,  -999.00,9,  -999.0,-999.0000,-999.000,-999.000,  6.3586,-999.000,9
      06MT22_5,   A10,    80,  1,    201,2,19930122,1538,-29.6085,   3.7778, 4944,    849.0,   4.6270,  34.3270,2,-999.0000,9,    218.5,2,    24.88,2,    30.12,9,     2.03,2,    1.349,2,    0.664,2,    2.369,2, -999.000,9,-999.0000,9,  -999.00,9,   -999.0,9,-999.000,9,  -999.00,9,   -999.0,9,   -999.0,9,   -999.0,9,  -999.00,9,  -999.0,-999.0000,-999.000,-999.000,  4.5578,-999.000,9