BOTTLE,20030417WHPSIOSA
EXPOCODE,SECT_ID,STNNBR,CASTNO,BTLNBR,BTLNBR_FLAG_W,DATE,TIME,LATITUDE,LONGITUDE,DEPTH,CTDPRS,CTDTMP,CTDSAL,CTDSAL_FLAG_W,SALNTY,SALNTY_FLAG_W,OXYGEN,OXYGEN_FLAG_W,SILCAT,SILCAT_FLAG_W,NO2+NO3,NO2+NO3_FLAG_W,PHSPHT,PHSPHT_FLAG_W,CFC-11,CFC-11_FLAG_W,CFC-12,CFC-12_FLAG_W,CCL4,CCL4_FLAG_W,TRITUM,TRITUM_FLAG_W,HELIUM,HELIUM_FLAG_W,DELHE3,DELHE3_FLAG_W,DELC14,DELC14_FLAG_W,NEON,NEON_FLAG_W,O18O16,O18O16_FLAG_W,TCARBN,TCARBN_FLAG_W,PCO2,PCO2_FLAG_W,ALKALI,ALKALI_FLAG_W,PH,PH_FLAG_W,C14ERR,HELIER,DELHER,NEONER,THETA,TRITER,TRITER_FLAG_W
,,,,,,,,,,,DBAR,ITS-90,PSS-78,,PSS-78,,UMOL/KG,,UMOL/KG,,UMOL/KG,,UMOL/KG,,PMOL/KG,,PMOL/KG,,PMOL/KG,,TU,,NMOL/KG,,PERCNT,,/MILLE,,NMOL/KG,,MILLE,,UMOL/KG,,UATM,,UMOL/KG,,,,/MILLE,NMOL/KG,PERCNT,NMOL/KG,ITS-90,TU,
      06MT22_5,   A10,    32,  2,    324,2,19930108,0701,-30.0022, -30.5077, 3937,     10.0,  22.4290,  35.8790,2,  35.8880,2,   -999.0,9,  -999.00,9,  -999.00,9,  -999.00,9, -999.000,9, -999.000,9, -999.000,9, -999.000,9,-999.0000,9,  -999.00,9,   -999.0,9,-999.000,9,  -999.00,9,   -999.0,9,   -999.0,9,   -999.0,9,  -999.00,9,  -999.0,-999.0000,-999.000,-999.000, 22.4270,-999.000,9
      06MT22_5,   A10,    32,  2,    320,2,19930108,0701,-30.0022, -30.5077, 3937,    498.0,  10.0720,  34.8240,2,-999.0000,9,    208.4,2,     5.87,2,    17.38,9,     1.19,2, -999.000,9, -999.000,9, -999.000,9, -999.000,9,-999.0000,9,  -999.00,9,   -999.0,9,-999.000,9,  -999.00,9,   2128.7,2,   -999.0,9,   2298.3,2,  -999.00,9,  -999.0,-999.0000,-999.000,-999.000, 10.0134,-999.000,9
      06MT22_5,   A10,    32,  2,    319,2,19930108,0701,-30.0022, -30.5077, 3937,    599.0,   7.7280,  34.5510,2,  34.5540,2,    214.6,2,     9.30,2,    22.89,9,     1.52,2,    1.685,2,    0.852,2,    1.826,2, -999.000,9,-999.0000,9,  -999.00,9,   -999.0,9,-999.000,9,  -999.00,9,   2145.1,2,   -999.0,9,   2284.4,2,  -999.00,9,  -999.0,-999.0000,-999.000,-999.000,  7.6674,-999.000,9
      06MT22_5,   A10,    32,  2,    318,2,19930108,0701,-30.0022, -30.5077, 3937,    699.0,   5.9430,  34.3770,2,-999.0000,9,    227.1,2,    12.97,2,    26.31,9,     1.78,2, -999.000,9, -999.000,9, -999.000,9, -999.000,9,-999.0000,9,  -999.00,9,   -999.0,9,-999.000,9,  -999.00,9,   2154.0,2,   -999.0,9,   2287.4,2,  -999.00,9,  -999.0,-999.0000,-999.000,-999.000,  5.8815,-999.000,9
      06MT22_5,   A10,    32,  2,    317,2,19930108,0701,-30.0022, -30.5077, 3937,    848.0,   4.4530,  34.2930,2,-999.0000,9,    229.9,2,    20.97,2,    29.44,9,     1.96,2, -999.000,9, -999.000,9, -999.000,9, -999.000,9,-999.0000,9,  -999.00,9,   -999.0,9,-999.000,9,  -999.00,9,   2170.8,2,   -999.0,9,   2285.4,2,  -999.00,9,  -999.0,-999.0000,-999.000,-999.000,  4.3871,-999.000,9
      06MT22_5,   A10,    32,  2,    316,2,19930108,0701,-30.0022, -30.5077, 3937,    999.0,   3.5760,  34.3020,2,  34.3070,2,    221.8,2,    31.21,2,    31.67,9,     2.17,2,    0.784,2,    0.375,2,    1.910,2, -999.000,9,-999.0000,9,  -999.00,9,   -999.0,9,-999.000,9,  -999.00,9,   2189.4,2,   -999.0,9,   2285.4,2,  -999.00,9,  -999.0,-999.0000,-999.000,-999.000,  3.5040,-999.000,9
      06MT22_5,   A10,    32,  2,    315,2,19930108,0701,-30.0022, -30.5077, 3937,   1198.0,   3.0610,  34.4040,2,-999.0000,9,    201.7,2,    45.05,2,    33.39,9,     2.26,2, -999.000,9, -999.000,9, -999.000,9, -999.000,9,-999.0000,9,  -999.00,9,   -999.0,9,-999.000,9,  -999.00,9,   2215.7,2,   -999.0,9,   2309.1,2,  -999.00,9,  -999.0,-999.0000,-999.000,-999.000,  2.9769,-999.000,9
      06MT22_5,   A10,    32,  2,    314,2,19930108,0701,-30.0022, -30.5077, 3937,   1400.0,   2.8620,  34.5500,2,-999.0000,9,    190.4,2,    54.24,2,    33.11,9,     2.23,2,    0.084,2,    0.058,2,    0.421,2, -999.000,9,-999.0000,9,  -999.00,9,   -999.0,9,-999.000,9,  -999.00,9,   2227.6,2,   -999.0,9,   2318.0,2,  -999.00,9,  -999.0,-999.0000,-999.000,-999.000,  2.7637,-999.000,9
      06MT22_5,   A10,    32,  2,    313,2,19930108,0701,-30.0022, -30.5077, 3937,   1600.0,   2.8160,  34.6700,2,  34.6720,2,    196.9,2,    54.28,2,    30.72,9,     2.09,2, -999.000,9, -999.000,9, -999.000,9, -999.000,9,-999.0000,9,  -999.00,9,   -999.0,9,-999.000,9,  -999.00,9,   2223.2,2,   -999.0,9,   2322.0,2,  -999.00,9,  -999.0,-999.0000,-999.000,-999.000,  2.7017,-999.000,9
      06MT22_5,   A10,    32,  2,    312,2,19930108,0701,-30.0022, -30.5077, 3937,   1800.0,   2.7670,  34.7580,2,-999.0000,9,    210.2,2,    50.38,2,    28.68,9,     1.90,2,    0.015,2,    0.014,2,    0.079,2, -999.000,9,-999.0000,9,  -999.00,9,   -999.0,9,-999.000,9,  -999.00,9,   2211.1,2,   -999.0,9,   2337.3,2,  -999.00,9,  -999.0,-999.0000,-999.000,-999.000,  2.6358,-999.000,9
      06MT22_5,   A10,    32,  2,    311,2,19930108,0701,-30.0022, -30.5077, 3937,   1999.0,   2.7430,  34.8090,2,-999.0000,9,    221.5,2,    46.75,2,    26.80,9,     1.76,2,    2.165,4,    4.110,4,    2.604,4, -999.000,9,-999.0000,9,  -999.00,9,   -999.0,9,-999.000,9,  -999.00,9,   2202.0,2,   -999.0,9,   2337.3,2,  -999.00,9,  -999.0,-999.0000,-999.000,-999.000,  2.5947,-999.000,9
      06MT22_5,   A10,    32,  2,    310,2,19930108,0701,-30.0022, -30.5077, 3937,   2250.0,   2.7450,  34.8580,2,  34.8600,2,    234.7,2,    41.71,2,    24.75,9,     1.62,2,    0.011,2,    0.018,4,    0.012,2, -999.000,9,-999.0000,9,  -999.00,9,   -999.0,9,-999.000,9,  -999.00,9,   2191.4,2,   -999.0,9,   2340.3,2,  -999.00,9,  -999.0,-999.0000,-999.000,-999.000,  2.5737,-999.000,9
      06MT22_5,   A10,    32,  2,    309,2,19930108,0701,-30.0022, -30.5077, 3937,   2501.0,   2.7600,  34.8880,2,-999.0000,9,    242.8,2,    36.96,2,    23.24,9,     1.50,2, -999.000,9, -999.000,9, -999.000,9, -999.000,9,-999.0000,9,  -999.00,9,   -999.0,9,-999.000,9,  -999.00,9,   2183.3,2,   -999.0,9,   2335.3,2,  -999.00,9,  -999.0,-999.0000,-999.000,-999.000,  2.5645,-999.000,9
      06MT22_5,   A10,    32,  2,    308,2,19930108,0701,-30.0022, -30.5077, 3937,   2752.0,   2.7360,  34.9000,2,-999.0000,9,    246.4,2,    35.87,2,    22.61,9,     1.46,2,    0.004,2,    0.000,2,    0.021,2, -999.000,9,-999.0000,9,  -999.00,9,   -999.0,9,-999.000,9,  -999.00,9,   2180.4,2,   -999.0,9,   2333.3,2,  -999.00,9,  -999.0,-999.0000,-999.000,-999.000,  2.5163,-999.000,9
      06MT22_5,   A10,    32,  2,    307,2,19930108,0701,-30.0022, -30.5077, 3937,   3002.0,   2.6500,  34.9020,2,  34.9040,2,    249.1,2,    37.04,2,    22.41,9,     1.47,2,    0.003,2,    0.001,2,    0.069,3, -999.000,9,-999.0000,9,  -999.00,9,   -999.0,9,-999.000,9,  -999.00,9,   2181.2,2,   -999.0,9,   2335.3,2,  -999.00,9,  -999.0,-999.0000,-999.000,-999.000,  2.4068,-999.000,9
      06MT22_5,   A10,    32,  2,    306,2,19930108,0701,-30.0022, -30.5077, 3937,   3253.0,   2.4860,  34.8910,2,-999.0000,9,    248.3,2,    41.59,2,    22.86,9,     1.47,2,    0.006,2,    0.004,2,    0.042,2, -999.000,9,-999.0000,9,  -999.00,9,   -999.0,9,-999.000,9,  -999.00,9,   2184.7,2,   -999.0,9,   2339.3,2,  -999.00,9,  -999.0,-999.0000,-999.000,-999.000,  2.2208,-999.000,9
      06MT22_5,   A10,    32,  2,    305,2,19930108,0701,-30.0022, -30.5077, 3937,   3504.0,   2.2400,  34.8670,2,-999.0000,9,    244.5,2,    51.22,2,    24.10,9,     1.56,2,    0.005,2,    0.011,4,    0.044,2, -999.000,9,-999.0000,9,  -999.00,9,   -999.0,9,-999.000,9,  -999.00,9,   2196.6,2,   -999.0,9,   2343.3,2,  -999.00,9,  -999.0,-999.0000,-999.000,-999.000,  1.9541,-999.000,9
      06MT22_5,   A10,    32,  2,    304,2,19930108,0701,-30.0022, -30.5077, 3937,   3754.0,   1.8130,  34.8230,2,  34.8240,2,    236.6,2,    67.71,2,    26.37,9,     1.71,2,    0.008,2,    0.004,2,    0.062,2, -999.000,9,-999.0000,9,  -999.00,9,   -999.0,9,-999.000,9,  -999.00,9,   2212.8,2,   -999.0,9,   2352.2,2,  -999.00,9,  -999.0,-999.0000,-999.000,-999.000,  1.5113,-999.000,9
      06MT22_5,   A10,    32,  2,    303,2,19930108,0701,-30.0022, -30.5077, 3937,   3855.0,   1.6750,  34.8070,2,  34.8090,2,    233.9,2,    73.86,2,    27.36,9,     1.79,2,    0.010,2,    0.016,2,    0.070,2, -999.000,9,-999.0000,9,  -999.00,9,   -999.0,9,-999.000,9,  -999.00,9,   2219.4,2,   -999.0,9,   2354.2,2,  -999.00,9,  -999.0,-999.0000,-999.000,-999.000,  1.3662,-999.000,9
      06MT22_5,   A10,    32,  2,    302,2,19930108,0701,-30.0022, -30.5077, 3937,   3937.0,   1.5130,  34.7890,2,  34.7920,2,    230.6,2,    80.87,2,    28.30,9,     1.85,2,    0.030,2,    0.030,2,    0.069,2, -999.000,9,-999.0000,9,  -999.00,9,   -999.0,9,-999.000,9,  -999.00,9,   2226.9,2,   -999.0,9,   2356.2,2,  -999.00,9,  -999.0,-999.0000,-999.000,-999.000,  1.1999,-999.000,9
      06MT22_5,   A10,    32,  2,    301,2,19930108,0701,-30.0022, -30.5077, 3937,   3937.0,   1.5200,  34.7890,2,-999.0000,9,   -999.0,9,  -999.00,9,  -999.00,9,  -999.00,9, -999.000,9, -999.000,9, -999.000,9, -999.000,9,-999.0000,9,  -999.00,9,   -999.0,9,-999.000,9,  -999.00,9,   -999.0,9,   -999.0,9,   -999.0,9,  -999.00,9,  -999.0,-999.0000,-999.000,-999.000,  1.1998,-999.000,9
      06MT22_5,   A10,    33,  1,    217,2,19930108,1056,-30.0000, -30.0150, 3315,     12.0,  22.2980,  35.8660,2,  35.8760,2,    223.2,2,     0.00,2,     0.02,9,     0.06,2, -999.000,9, -999.000,9, -999.000,9, -999.000,9,-999.0000,9,  -999.00,9,   -999.0,9,-999.000,9,  -999.00,9,   -999.0,0,   -999.0,9,   -999.0,9,  -999.00,9,  -999.0,-999.0000,-999.000,-999.000, 22.2956,-999.000,9
      06MT22_5,   A10,    33,  1,    208,2,19930108,1056,-30.0000, -30.0150, 3315,     12.0,  22.2980,  35.8660,2,-999.0000,9,   -999.0,9,  -999.00,9,  -999.00,9,  -999.00,9, -999.000,9, -999.000,9, -999.000,9, -999.000,9,-999.0000,9,  -999.00,9,   -999.0,9,-999.000,9,  -999.00,9,   -999.0,0,   -999.0,9,   -999.0,9,  -999.00,9,  -999.0,-999.0000,-999.000,-999.000, 22.2956,-999.000,9
      06MT22_5,   A10,    33,  1,    207,2,19930108,1056,-30.0000, -30.0150, 3315,     32.0,  21.6980,  35.8160,2,-999.0000,9,    226.4,2,     0.21,2,     0.01,9,     0.09,2, -999.000,9, -999.000,9, -999.000,9, -999.000,9,-999.0000,9,  -999.00,9,   -999.0,9,-999.000,9,  -999.00,9,   -999.0,0,   -999.0,9,   -999.0,9,  -999.00,9,  -999.0,-999.0000,-999.000,-999.000, 21.6917,-999.000,9
      06MT22_5,   A10,    33,  1,    206,2,19930108,1056,-30.0000, -30.0150, 3315,     52.0,  20.2840,  35.9380,2,-999.0000,9,    240.2,2,     0.21,2,     0.05,9,     0.09,2, -999.000,9, -999.000,9, -999.000,9, -999.000,9,-999.0000,9,  -999.00,9,   -999.0,9,-999.000,9,  -999.00,9,   -999.0,0,   -999.0,9,   -999.0,9,  -999.00,9,  -999.0,-999.0000,-999.000,-999.000, 20.2743,-999.000,9
      06MT22_5,   A10,    33,  1,    205,2,19930108,1056,-30.0000, -30.0150, 3315,     72.0,  19.2880,  35.9460,2,-999.0000,9,    240.0,2,     0.20,2,     0.02,9,     0.08,2, -999.000,9, -999.000,9, -999.000,9, -999.000,9,-999.0000,9,  -999.00,9,   -999.0,9,-999.000,9,  -999.00,9,   -999.0,0,   -999.0,9,   -999.0,9,  -999.00,9,  -999.0,-999.0000,-999.000,-999.000, 19.2750,-999.000,9
      06MT22_5,   A10,    33,  1,    204,2,19930108,1056,-30.0000, -30.0150, 3315,    101.0,  17.9740,  35.8540,2,-999.0000,9,    234.7,2,     0.20,2,     0.03,9,     0.14,2, -999.000,9, -999.000,9, -999.000,9, -999.000,9,-999.0000,9,  -999.00,9,   -999.0,9,-999.000,9,  -999.00,9,   -999.0,0,   -999.0,9,   -999.0,9,  -999.00,9,  -999.0,-999.0000,-999.000,-999.000, 17.9566,-999.000,9
      06MT22_5,   A10,    33,  1,    203,2,19930108,1056,-30.0000, -30.0150, 3315,    152.0,  16.6630,  35.6850,2,-999.0000,9,    219.0,2,     0.77,2,     1.77,9,     0.26,2, -999.000,9, -999.000,9, -999.000,9, -999.000,9,-999.0000,9,  -999.00,9,   -999.0,9,-999.000,9,  -999.00,9,   -999.0,0,   -999.0,9,   -999.0,9,  -999.00,9,  -999.0,-999.0000,-999.000,-999.000, 16.6381,-999.000,9
      06MT22_5,   A10,    33,  1,    202,2,19930108,1056,-30.0000, -30.0150, 3315,    201.0,  15.1330,  35.4700,2,-999.0000,9,    211.5,2,     1.39,2,     5.08,9,     0.48,2, -999.000,9, -999.000,9, -999.000,9, -999.000,9,-999.0000,9,  -999.00,9,   -999.0,9,-999.000,9,  -999.00,9,   -999.0,0,   -999.0,9,   -999.0,9,  -999.00,9,  -999.0,-999.0000,-999.000,-999.000, 15.1021,-999.000,9
      06MT22_5,   A10,    33,  1,    201,2,19930108,1056,-30.0000, -30.0150, 3315,    301.0,  13.6430,  35.3140,2,-999.0000,9,    212.6,2,     2.21,2,     8.08,9,     0.68,2, -999.000,9, -999.000,9, -999.000,9, -999.000,9,-999.0000,9,  -999.00,9,   -999.0,9,-999.000,9,  -999.00,9,   -999.0,0,   -999.0,9,   -999.0,9,  -999.00,9,  -999.0,-999.0000,-999.000,-999.000, 13.5997,-999.000,9