BOTTLE,20030417WHPSIOSA
EXPOCODE,SECT_ID,STNNBR,CASTNO,BTLNBR,BTLNBR_FLAG_W,DATE,TIME,LATITUDE,LONGITUDE,DEPTH,CTDPRS,CTDTMP,CTDSAL,CTDSAL_FLAG_W,SALNTY,SALNTY_FLAG_W,OXYGEN,OXYGEN_FLAG_W,SILCAT,SILCAT_FLAG_W,NO2+NO3,NO2+NO3_FLAG_W,PHSPHT,PHSPHT_FLAG_W,CFC-11,CFC-11_FLAG_W,CFC-12,CFC-12_FLAG_W,CCL4,CCL4_FLAG_W,TRITUM,TRITUM_FLAG_W,HELIUM,HELIUM_FLAG_W,DELHE3,DELHE3_FLAG_W,DELC14,DELC14_FLAG_W,NEON,NEON_FLAG_W,O18O16,O18O16_FLAG_W,TCARBN,TCARBN_FLAG_W,PCO2,PCO2_FLAG_W,ALKALI,ALKALI_FLAG_W,PH,PH_FLAG_W,C14ERR,HELIER,DELHER,NEONER,THETA,TRITER,TRITER_FLAG_W
,,,,,,,,,,,DBAR,ITS-90,PSS-78,,PSS-78,,UMOL/KG,,UMOL/KG,,UMOL/KG,,UMOL/KG,,PMOL/KG,,PMOL/KG,,PMOL/KG,,TU,,NMOL/KG,,PERCNT,,/MILLE,,NMOL/KG,,MILLE,,UMOL/KG,,UATM,,UMOL/KG,,,,/MILLE,NMOL/KG,PERCNT,NMOL/KG,ITS-90,TU,
      06MT22_5,   A10,    18,  1,    324,2,19930105,1300,-30.0060, -36.4998, 1803,     10.0,  22.5330,  36.1510,2,  36.1500,2,   -999.0,9,  -999.00,9,  -999.00,9,  -999.00,9, -999.000,9, -999.000,9, -999.000,9, -999.000,9,-999.0000,9,  -999.00,9,   -999.0,9,-999.000,9,  -999.00,9,   -999.0,9,   -999.0,9,   -999.0,9,  -999.00,9,  -999.0,-999.0000,-999.000,-999.000, 22.5310,-999.000,9
      06MT22_5,   A10,    18,  1,    323,2,19930105,1300,-30.0060, -36.4998, 1803,     10.0,  22.5320,  36.1500,2,-999.0000,9,   -999.0,9,  -999.00,9,  -999.00,9,  -999.00,9, -999.000,9, -999.000,9, -999.000,9, -999.000,9,-999.0000,9,  -999.00,9,   -999.0,9,-999.000,9,  -999.00,9,   -999.0,9,   -999.0,9,   -999.0,9,  -999.00,9,  -999.0,-999.0000,-999.000,-999.000, 22.5300,-999.000,9
      06MT22_5,   A10,    18,  1,    322,2,19930105,1300,-30.0060, -36.4998, 1803,     10.0,  22.5300,  36.1490,2,-999.0000,9,   -999.0,9,  -999.00,9,  -999.00,9,  -999.00,9, -999.000,9, -999.000,9, -999.000,9, -999.000,9,-999.0000,9,  -999.00,9,   -999.0,9,-999.000,9,  -999.00,9,   -999.0,9,   -999.0,9,   -999.0,9,  -999.00,9,  -999.0,-999.0000,-999.000,-999.000, 22.5280,-999.000,9
      06MT22_5,   A10,    18,  1,    321,2,19930105,1300,-30.0060, -36.4998, 1803,     10.0,  22.5300,  36.1500,2,-999.0000,9,   -999.0,9,  -999.00,9,  -999.00,9,  -999.00,9, -999.000,9, -999.000,9, -999.000,9, -999.000,9,-999.0000,9,  -999.00,9,   -999.0,9,-999.000,9,  -999.00,9,   -999.0,9,   -999.0,9,   -999.0,9,  -999.00,9,  -999.0,-999.0000,-999.000,-999.000, 22.5280,-999.000,9
      06MT22_5,   A10,    18,  1,    320,2,19930105,1300,-30.0060, -36.4998, 1803,     10.0,  22.5290,  36.1500,2,-999.0000,9,    221.0,2,     0.37,2,     0.00,9,     0.00,2, -999.000,9, -999.000,9, -999.000,9, -999.000,9,-999.0000,9,  -999.00,9,   -999.0,9,-999.000,9,  -999.00,9,   -999.0,9,   -999.0,9,   -999.0,9,  -999.00,9,  -999.0,-999.0000,-999.000,-999.000, 22.5270,-999.000,9
      06MT22_5,   A10,    18,  1,    319,2,19930105,1300,-30.0060, -36.4998, 1803,     30.0,  22.5260,  36.1520,2,  36.1540,2,    219.5,2,     0.00,2,     0.03,9,     0.02,2, -999.000,9, -999.000,9, -999.000,9, -999.000,9,-999.0000,9,  -999.00,9,   -999.0,9,-999.000,9,  -999.00,9,   -999.0,9,   -999.0,9,   -999.0,9,  -999.00,9,  -999.0,-999.0000,-999.000,-999.000, 22.5199,-999.000,9
      06MT22_5,   A10,    18,  1,    318,2,19930105,1300,-30.0060, -36.4998, 1803,     49.0,  22.1200,  36.1940,2,-999.0000,9,    226.4,2,     0.41,2,     0.00,9,     0.01,2, -999.000,9, -999.000,9, -999.000,9, -999.000,9,-999.0000,9,  -999.00,9,   -999.0,9,-999.000,9,  -999.00,9,   -999.0,9,   -999.0,9,   -999.0,9,  -999.00,9,  -999.0,-999.0000,-999.000,-999.000, 22.1102,-999.000,9
      06MT22_5,   A10,    18,  1,    317,2,19930105,1300,-30.0060, -36.4998, 1803,     70.0,  20.2340,  36.1350,2,-999.0000,9,    233.8,2,     0.30,2,     0.01,9,     0.05,2, -999.000,9, -999.000,9, -999.000,9, -999.000,9,-999.0000,9,  -999.00,9,   -999.0,9,-999.000,9,  -999.00,9,   -999.0,9,   -999.0,9,   -999.0,9,  -999.00,9,  -999.0,-999.0000,-999.000,-999.000, 20.2209,-999.000,9
      06MT22_5,   A10,    18,  1,    316,2,19930105,1300,-30.0060, -36.4998, 1803,    100.0,  18.8680,  36.1040,2,  36.1010,2,    231.6,2,     0.46,2,     0.04,9,     0.10,2, -999.000,9, -999.000,9, -999.000,9, -999.000,9,-999.0000,9,  -999.00,9,   -999.0,9,-999.000,9,  -999.00,9,   -999.0,9,   -999.0,9,   -999.0,9,  -999.00,9,  -999.0,-999.0000,-999.000,-999.000, 18.8502,-999.000,9
      06MT22_5,   A10,    18,  1,    315,2,19930105,1300,-30.0060, -36.4998, 1803,    150.0,  17.4650,  35.8520,2,-999.0000,9,    215.2,2,     0.65,2,     2.04,9,     0.25,2, -999.000,9, -999.000,9, -999.000,9, -999.000,9,-999.0000,9,  -999.00,9,   -999.0,9,-999.000,9,  -999.00,9,   -999.0,9,   -999.0,9,   -999.0,9,  -999.00,9,  -999.0,-999.0000,-999.000,-999.000, 17.4397,-999.000,9
      06MT22_5,   A10,    18,  1,    314,2,19930105,1300,-30.0060, -36.4998, 1803,    200.0,  16.1470,  35.6180,2,-999.0000,9,    210.0,2,     1.37,2,     4.04,9,     0.39,2, -999.000,9, -999.000,9, -999.000,9, -999.000,9,-999.0000,9,  -999.00,9,   -999.0,9,-999.000,9,  -999.00,9,   -999.0,9,   -999.0,9,   -999.0,9,  -999.00,9,  -999.0,-999.0000,-999.000,-999.000, 16.1150,-999.000,9
      06MT22_5,   A10,    18,  1,    313,2,19930105,1300,-30.0060, -36.4998, 1803,    299.0,  14.2950,  35.4000,2,  35.3970,2,    210.6,2,     2.21,2,     7.72,9,     0.60,2, -999.000,9, -999.000,9, -999.000,9, -999.000,9,-999.0000,9,  -999.00,9,   -999.0,9,-999.000,9,  -999.00,9,   -999.0,9,   -999.0,9,   -999.0,9,  -999.00,9,  -999.0,-999.0000,-999.000,-999.000, 14.2509,-999.000,9
      06MT22_5,   A10,    18,  1,    312,2,19930105,1300,-30.0060, -36.4998, 1803,    400.0,  12.5220,  35.1590,2,-999.0000,9,    210.9,2,     3.49,2,    11.82,9,     0.86,2, -999.000,9, -999.000,9, -999.000,9, -999.000,9,-999.0000,9,  -999.00,9,   -999.0,9,-999.000,9,  -999.00,9,   -999.0,9,   -999.0,9,   -999.0,9,  -999.00,9,  -999.0,-999.0000,-999.000,-999.000, 12.4681,-999.000,9
      06MT22_5,   A10,    18,  1,    311,2,19930105,1300,-30.0060, -36.4998, 1803,    499.0,  10.7460,  34.9200,2,-999.0000,9,    208.6,2,     5.69,2,    16.59,9,     1.14,2, -999.000,9, -999.000,9, -999.000,9, -999.000,9,-999.0000,9,  -999.00,9,   -999.0,9,-999.000,9,  -999.00,9,   -999.0,9,   -999.0,9,   -999.0,9,  -999.00,9,  -999.0,-999.0000,-999.000,-999.000, 10.6848,-999.000,9
      06MT22_5,   A10,    18,  1,    310,2,19930105,1300,-30.0060, -36.4998, 1803,    599.0,   8.4970,  34.6460,2,  34.6480,2,    210.8,2,     8.91,2,    21.60,9,     1.48,2, -999.000,9, -999.000,9, -999.000,9, -999.000,9,-999.0000,9,  -999.00,9,   -999.0,9,-999.000,9,  -999.00,9,   -999.0,9,   -999.0,9,   -999.0,9,  -999.00,9,  -999.0,-999.0000,-999.000,-999.000,  8.4329,-999.000,9
      06MT22_5,   A10,    18,  1,    309,2,19930105,1300,-30.0060, -36.4998, 1803,    700.0,   7.1450,  34.5050,2,-999.0000,9,    206.4,2,    11.75,2,    24.78,9,     1.66,2, -999.000,9, -999.000,9, -999.000,9, -999.000,9,-999.0000,9,  -999.00,9,   -999.0,9,-999.000,9,  -999.00,9,   -999.0,9,   -999.0,9,   -999.0,9,  -999.00,9,  -999.0,-999.0000,-999.000,-999.000,  7.0770,-999.000,9
      06MT22_5,   A10,    18,  1,    308,2,19930105,1300,-30.0060, -36.4998, 1803,    850.0,   4.5750,  34.3130,2,-999.0000,9,    228.1,2,    21.47,2,    29.55,9,     2.04,2, -999.000,9, -999.000,9, -999.000,9, -999.000,9,-999.0000,9,  -999.00,9,   -999.0,9,-999.000,9,  -999.00,9,   -999.0,9,   -999.0,9,   -999.0,9,  -999.00,9,  -999.0,-999.0000,-999.000,-999.000,  4.5081,-999.000,9
      06MT22_5,   A10,    18,  1,    307,2,19930105,1300,-30.0060, -36.4998, 1803,   1001.0,   3.8820,  34.3190,2,  34.3200,2,    221.9,2,    28.84,2,    31.58,9,     2.14,2, -999.000,9, -999.000,9, -999.000,9, -999.000,9,-999.0000,9,  -999.00,9,   -999.0,9,-999.000,9,  -999.00,9,   -999.0,9,   -999.0,9,   -999.0,9,  -999.00,9,  -999.0,-999.0000,-999.000,-999.000,  3.8075,-999.000,9
      06MT22_5,   A10,    18,  1,    306,2,19930105,1300,-30.0060, -36.4998, 1803,   1200.0,   3.3140,  34.3740,2,-999.0000,9,    206.2,2,    39.27,2,    33.39,9,     2.24,2, -999.000,9, -999.000,9, -999.000,9, -999.000,9,-999.0000,9,  -999.00,9,   -999.0,9,-999.000,9,  -999.00,9,   -999.0,9,   -999.0,9,   -999.0,9,  -999.00,9,  -999.0,-999.0000,-999.000,-999.000,  3.2275,-999.000,9
      06MT22_5,   A10,    18,  1,    305,2,19930105,1300,-30.0060, -36.4998, 1803,   1399.0,   2.9940,  34.5010,2,-999.0000,9,    193.1,2,    49.00,2,    33.87,9,     2.26,2, -999.000,9, -999.000,9, -999.000,9, -999.000,9,-999.0000,9,  -999.00,9,   -999.0,9,-999.000,9,  -999.00,9,   -999.0,9,   -999.0,9,   -999.0,9,  -999.00,9,  -999.0,-999.0000,-999.000,-999.000,  2.8945,-999.000,9
      06MT22_5,   A10,    18,  1,    304,2,19930105,1300,-30.0060, -36.4998, 1803,   1601.0,   2.8840,  34.6260,2,  34.6250,2,    195.6,2,    51.78,2,    32.48,9,     2.16,2, -999.000,9, -999.000,9, -999.000,9, -999.000,9,-999.0000,9,  -999.00,9,   -999.0,9,-999.000,9,  -999.00,9,   -999.0,9,   -999.0,9,   -999.0,9,  -999.00,9,  -999.0,-999.0000,-999.000,-999.000,  2.7690,-999.000,9
      06MT22_5,   A10,    18,  1,    303,2,19930105,1300,-30.0060, -36.4998, 1803,   1699.0,   2.8690,  34.6750,2,-999.0000,9,    199.7,2,    50.65,2,    31.47,9,     2.11,2, -999.000,9, -999.000,9, -999.000,9, -999.000,9,-999.0000,9,  -999.00,9,   -999.0,9,-999.000,9,  -999.00,9,   -999.0,9,   -999.0,9,   -999.0,9,  -999.00,9,  -999.0,-999.0000,-999.000,-999.000,  2.7456,-999.000,9
      06MT22_5,   A10,    18,  1,    301,2,19930105,1300,-30.0060, -36.4998, 1803,   1785.0,   2.8620,  34.7140,2,  34.7130,2,   -999.0,9,  -999.00,9,  -999.00,9,  -999.00,9, -999.000,9, -999.000,9, -999.000,9, -999.000,9,-999.0000,9,  -999.00,9,   -999.0,9,-999.000,9,  -999.00,9,   -999.0,9,   -999.0,9,   -999.0,9,  -999.00,9,  -999.0,-999.0000,-999.000,-999.000,  2.7313,-999.000,9
      06MT22_5,   A10,    18,  1,    302,2,19930105,1300,-30.0060, -36.4998, 1803,   1786.0,   2.8620,  34.7140,2,-999.0000,9,    204.8,2,    49.12,2,    30.36,9,     2.01,2, -999.000,9, -999.000,9, -999.000,9, -999.000,9,-999.0000,9,  -999.00,9,   -999.0,9,-999.000,9,  -999.00,9,   -999.0,9,   -999.0,9,   -999.0,9,  -999.00,9,  -999.0,-999.0000,-999.000,-999.000,  2.7312,-999.000,9
      06MT22_5,   A10,    19,  1,    324,2,19930105,1530,-30.0000, -36.1917,  789,     10.0,  22.7120,  36.2290,2,  36.2320,2,    219.3,2,     0.24,2,     0.08,9,     0.04,2, -999.000,9, -999.000,9, -999.000,9, -999.000,9,-999.0000,9,  -999.00,9,   -999.0,9,-999.000,9,  -999.00,9,   -999.0,0,   -999.0,9,   -999.0,9,  -999.00,9,  -999.0,-999.0000,-999.000,-999.000, 22.7100,-999.000,9
      06MT22_5,   A10,    19,  1,    323,2,19930105,1530,-30.0000, -36.1917,  789,     10.0,  22.7100,  36.2300,2,-999.0000,9,   -999.0,9,  -999.00,9,  -999.00,9,  -999.00,9, -999.000,9, -999.000,9, -999.000,9, -999.000,9,-999.0000,9,  -999.00,9,   -999.0,9,-999.000,9,  -999.00,9,   -999.0,0,   -999.0,9,   -999.0,9,  -999.00,9,  -999.0,-999.0000,-999.000,-999.000, 22.7080,-999.000,9
      06MT22_5,   A10,    19,  1,    322,2,19930105,1530,-30.0000, -36.1917,  789,     30.0,  22.7830,  36.2850,2,-999.0000,9,    221.5,2,     0.92,2,     0.04,9,     0.03,2, -999.000,9, -999.000,9, -999.000,9, -999.000,9,-999.0000,9,  -999.00,9,   -999.0,9,-999.000,9,  -999.00,9,   -999.0,0,   -999.0,9,   -999.0,9,  -999.00,9,  -999.0,-999.0000,-999.000,-999.000, 22.7769,-999.000,9
      06MT22_5,   A10,    19,  1,    321,2,19930105,1530,-30.0000, -36.1917,  789,     51.0,  22.3710,  36.3120,2,-999.0000,9,    225.4,2,     0.00,2,     0.05,9,     0.00,2, -999.000,9, -999.000,9, -999.000,9, -999.000,9,-999.0000,9,  -999.00,9,   -999.0,9,-999.000,9,  -999.00,9,   -999.0,0,   -999.0,9,   -999.0,9,  -999.00,9,  -999.0,-999.0000,-999.000,-999.000, 22.3607,-999.000,9
      06MT22_5,   A10,    19,  1,    320,2,19930105,1530,-30.0000, -36.1917,  789,     71.0,  21.2640,  36.3830,2,  36.3750,2,    228.3,2,     0.19,2,     0.00,9,     0.04,2, -999.000,9, -999.000,9, -999.000,9, -999.000,9,-999.0000,9,  -999.00,9,   -999.0,9,-999.000,9,  -999.00,9,   -999.0,0,   -999.0,9,   -999.0,9,  -999.00,9,  -999.0,-999.0000,-999.000,-999.000, 21.2502,-999.000,9
      06MT22_5,   A10,    19,  1,    319,2,19930105,1530,-30.0000, -36.1917,  789,    100.0,  20.0900,  36.2270,2,-999.0000,9,    228.1,2,     0.01,2,     0.00,9,     0.05,2, -999.000,9, -999.000,9, -999.000,9, -999.000,9,-999.0000,9,  -999.00,9,   -999.0,9,-999.000,9,  -999.00,9,   -999.0,0,   -999.0,9,   -999.0,9,  -999.00,9,  -999.0,-999.0000,-999.000,-999.000, 20.0714,-999.000,9
      06MT22_5,   A10,    19,  1,    318,2,19930105,1530,-30.0000, -36.1917,  789,    130.0,  18.3180,  35.9630,2,-999.0000,9,    215.7,2,     1.02,2,     1.14,9,     0.18,2, -999.000,9, -999.000,9, -999.000,9, -999.000,9,-999.0000,9,  -999.00,9,   -999.0,9,-999.000,9,  -999.00,9,   -999.0,0,   -999.0,9,   -999.0,9,  -999.00,9,  -999.0,-999.0000,-999.000,-999.000, 18.2953,-999.000,9
      06MT22_5,   A10,    19,  1,    317,2,19930105,1530,-30.0000, -36.1917,  789,    160.0,  17.3560,  35.8080,2,  35.7900,2,    211.5,2,     1.09,2,     2.41,9,     0.26,2, -999.000,9, -999.000,9, -999.000,9, -999.000,9,-999.0000,9,  -999.00,9,   -999.0,9,-999.000,9,  -999.00,9,   -999.0,0,   -999.0,9,   -999.0,9,  -999.00,9,  -999.0,-999.0000,-999.000,-999.000, 17.3291,-999.000,9
      06MT22_5,   A10,    19,  1,    316,2,19930105,1530,-30.0000, -36.1917,  789,    199.0,  16.2190,  35.6210,2,-999.0000,9,    210.7,2,     1.45,2,     3.88,9,     0.38,2, -999.000,9, -999.000,9, -999.000,9, -999.000,9,-999.0000,9,  -999.00,9,   -999.0,9,-999.000,9,  -999.00,9,   -999.0,0,   -999.0,9,   -999.0,9,  -999.00,9,  -999.0,-999.0000,-999.000,-999.000, 16.1872,-999.000,9
      06MT22_5,   A10,    19,  1,    315,2,19930105,1530,-30.0000, -36.1917,  789,    300.0,  14.2250,  35.3680,2,-999.0000,9,    210.3,2,     2.60,2,     7.86,9,     0.60,2, -999.000,9, -999.000,9, -999.000,9, -999.000,9,-999.0000,9,  -999.00,9,   -999.0,9,-999.000,9,  -999.00,9,   -999.0,0,   -999.0,9,   -999.0,9,  -999.00,9,  -999.0,-999.0000,-999.000,-999.000, 14.1810,-999.000,9
      06MT22_5,   A10,    19,  1,    314,2,19930105,1530,-30.0000, -36.1917,  789,    400.0,  12.4080,  35.1300,2,  35.1300,2,   -999.0,9,  -999.00,9,  -999.00,9,  -999.00,9, -999.000,9, -999.000,9, -999.000,9, -999.000,9,-999.0000,9,  -999.00,9,   -999.0,9,-999.000,9,  -999.00,9,   -999.0,0,   -999.0,9,   -999.0,9,  -999.00,9,  -999.0,-999.0000,-999.000,-999.000, 12.3542,-999.000,9
      06MT22_5,   A10,    19,  1,    313,2,19930105,1530,-30.0000, -36.1917,  789,    400.0,  12.4080,  35.1300,2,-999.0000,9,    209.7,2,     3.72,2,    11.95,9,     0.88,2, -999.000,9, -999.000,9, -999.000,9, -999.000,9,-999.0000,9,  -999.00,9,   -999.0,9,-999.000,9,  -999.00,9,   -999.0,0,   -999.0,9,   -999.0,9,  -999.00,9,  -999.0,-999.0000,-999.000,-999.000, 12.3544,-999.000,9
      06MT22_5,   A10,    19,  1,    312,2,19930105,1530,-30.0000, -36.1917,  789,    500.0,  10.0390,  34.8170,2,-999.0000,9,    206.1,2,     6.69,2,    18.27,9,     1.21,2, -999.000,9, -999.000,9, -999.000,9, -999.000,9,-999.0000,9,  -999.00,9,   -999.0,9,-999.000,9,  -999.00,9,   -999.0,0,   -999.0,9,   -999.0,9,  -999.00,9,  -999.0,-999.0000,-999.000,-999.000,  9.9802,-999.000,9
      06MT22_5,   A10,    19,  1,    311,2,19930105,1530,-30.0000, -36.1917,  789,    600.0,   8.4510,  34.6310,2,  34.6290,2,    206.1,2,     9.20,2,    22.24,9,     1.45,2, -999.000,9, -999.000,9, -999.000,9, -999.000,9,-999.0000,9,  -999.00,9,   -999.0,9,-999.000,9,  -999.00,9,   -999.0,0,   -999.0,9,   -999.0,9,  -999.00,9,  -999.0,-999.0000,-999.000,-999.000,  8.3870,-999.000,9
      06MT22_5,   A10,    19,  1,    310,2,19930105,1530,-30.0000, -36.1917,  789,    600.0,   8.4500,  34.6310,2,-999.0000,9,   -999.0,9,  -999.00,9,  -999.00,9,  -999.00,9, -999.000,9, -999.000,9, -999.000,9, -999.000,9,-999.0000,9,  -999.00,9,   -999.0,9,-999.000,9,  -999.00,9,   -999.0,0,   -999.0,9,   -999.0,9,  -999.00,9,  -999.0,-999.0000,-999.000,-999.000,  8.3863,-999.000,9
      06MT22_5,   A10,    19,  1,    309,2,19930105,1530,-30.0000, -36.1917,  789,    700.0,   6.5510,  34.4420,2,-999.0000,9,    218.6,2,    13.00,2,    26.08,9,     1.72,2, -999.000,9, -999.000,9, -999.000,9, -999.000,9,-999.0000,9,  -999.00,9,   -999.0,9,-999.000,9,  -999.00,9,   -999.0,0,   -999.0,9,   -999.0,9,  -999.00,9,  -999.0,-999.0000,-999.000,-999.000,  6.4861,-999.000,9
      06MT22_5,   A10,    19,  1,    308,2,19930105,1530,-30.0000, -36.1917,  789,    799.0,   5.3970,  34.3620,2,-999.0000,9,    224.3,2,    17.43,2,    28.33,9,     1.87,2, -999.000,9, -999.000,9, -999.000,9, -999.000,9,-999.0000,9,  -999.00,9,   -999.0,9,-999.000,9,  -999.00,9,   -999.0,0,   -999.0,9,   -999.0,9,  -999.00,9,  -999.0,-999.0000,-999.000,-999.000,  5.3294,-999.000,9
      06MT22_5,   A10,    19,  1,    307,2,19930105,1530,-30.0000, -36.1917,  789,    899.0,   4.5590,  34.3250,2,  34.3260,2,    224.5,2,    22.56,2,    30.24,9,     2.01,2, -999.000,9, -999.000,9, -999.000,9, -999.000,9,-999.0000,9,  -999.00,9,   -999.0,9,-999.000,9,  -999.00,9,   -999.0,0,   -999.0,9,   -999.0,9,  -999.00,9,  -999.0,-999.0000,-999.000,-999.000,  4.4881,-999.000,9
      06MT22_5,   A10,    19,  1,    306,2,19930105,1530,-30.0000, -36.1917,  789,    999.0,   3.8430,  34.3260,2,-999.0000,9,    217.9,2,    29.96,2,    32.08,9,     2.11,2, -999.000,9, -999.000,9, -999.000,9, -999.000,9,-999.0000,9,  -999.00,9,   -999.0,9,-999.000,9,  -999.00,9,   -999.0,0,   -999.0,9,   -999.0,9,  -999.00,9,  -999.0,-999.0000,-999.000,-999.000,  3.7689,-999.000,9
      06MT22_5,   A10,    19,  1,    305,2,19930105,1530,-30.0000, -36.1917,  789,   1070.0,   3.5790,  34.3290,2,-999.0000,9,    214.3,2,    33.42,2,    33.18,9,     2.17,2, -999.000,9, -999.000,9, -999.000,9, -999.000,9,-999.0000,9,  -999.00,9,   -999.0,9,-999.000,9,  -999.00,9,   -999.0,0,   -999.0,9,   -999.0,9,  -999.00,9,  -999.0,-999.0000,-999.000,-999.000,  3.5012,-999.000,9
      06MT22_5,   A10,    19,  1,    303,2,19930105,1530,-30.0000, -36.1917,  789,   1151.0,   3.3410,  34.3650,2,-999.0000,9,    208.2,2,    38.21,2,    33.73,9,     2.18,2, -999.000,9, -999.000,9, -999.000,9, -999.000,9,-999.0000,9,  -999.00,9,   -999.0,9,-999.000,9,  -999.00,9,   -999.0,0,   -999.0,9,   -999.0,9,  -999.00,9,  -999.0,-999.0000,-999.000,-999.000,  3.2586,-999.000,9
      06MT22_5,   A10,    19,  1,    304,2,19930105,1530,-30.0000, -36.1917,  789,   1152.0,   3.3360,  34.3660,2,  34.3660,2,   -999.0,9,  -999.00,9,  -999.00,9,  -999.00,9, -999.000,9, -999.000,9, -999.000,9, -999.000,9,-999.0000,9,  -999.00,9,   -999.0,9,-999.000,9,  -999.00,9,   -999.0,0,   -999.0,9,   -999.0,9,  -999.00,9,  -999.0,-999.0000,-999.000,-999.000,  3.2537,-999.000,9
      06MT22_5,   A10,    19,  1,    302,2,19930105,1530,-30.0000, -36.1917,  789,   1224.0,   3.1320,  34.4290,2,-999.0000,9,   -999.0,9,  -999.00,9,  -999.00,9,  -999.00,9, -999.000,9, -999.000,9, -999.000,9, -999.000,9,-999.0000,9,  -999.00,9,   -999.0,9,-999.000,9,  -999.00,9,   -999.0,0,   -999.0,9,   -999.0,9,  -999.00,9,  -999.0,-999.0000,-999.000,-999.000,  3.0457,-999.000,9
      06MT22_5,   A10,    19,  1,    301,2,19930105,1530,-30.0000, -36.1917,  789,   1224.0,   3.1310,  34.4290,2,  34.4280,2,    200.6,2,    44.25,2,    34.32,9,     2.25,2, -999.000,9, -999.000,9, -999.000,9, -999.000,9,-999.0000,9,  -999.00,9,   -999.0,9,-999.000,9,  -999.00,9,   -999.0,0,   -999.0,9,   -999.0,9,  -999.00,9,  -999.0,-999.0000,-999.000,-999.000,  3.0447,-999.000,9