BOTTLE,20030417WHPSIOSA
EXPOCODE,SECT_ID,STNNBR,CASTNO,BTLNBR,BTLNBR_FLAG_W,DATE,TIME,LATITUDE,LONGITUDE,DEPTH,CTDPRS,CTDTMP,CTDSAL,CTDSAL_FLAG_W,SALNTY,SALNTY_FLAG_W,OXYGEN,OXYGEN_FLAG_W,SILCAT,SILCAT_FLAG_W,NO2+NO3,NO2+NO3_FLAG_W,PHSPHT,PHSPHT_FLAG_W,CFC-11,CFC-11_FLAG_W,CFC-12,CFC-12_FLAG_W,CCL4,CCL4_FLAG_W,TRITUM,TRITUM_FLAG_W,HELIUM,HELIUM_FLAG_W,DELHE3,DELHE3_FLAG_W,DELC14,DELC14_FLAG_W,NEON,NEON_FLAG_W,O18O16,O18O16_FLAG_W,TCARBN,TCARBN_FLAG_W,PCO2,PCO2_FLAG_W,ALKALI,ALKALI_FLAG_W,PH,PH_FLAG_W,C14ERR,HELIER,DELHER,NEONER,THETA,TRITER,TRITER_FLAG_W
,,,,,,,,,,,DBAR,ITS-90,PSS-78,,PSS-78,,UMOL/KG,,UMOL/KG,,UMOL/KG,,UMOL/KG,,PMOL/KG,,PMOL/KG,,PMOL/KG,,TU,,NMOL/KG,,PERCNT,,/MILLE,,NMOL/KG,,MILLE,,UMOL/KG,,UATM,,UMOL/KG,,,,/MILLE,NMOL/KG,PERCNT,NMOL/KG,ITS-90,TU,
      06MT22_5,   A10,    61,  2,    324,2,19930117,0537,-30.0010,  -9.6610, 3727,     11.0,  24.2990,  35.7040,2,  35.6920,2,   -999.0,9,  -999.00,9,  -999.00,9,  -999.00,9, -999.000,9, -999.000,9, -999.000,9, -999.000,9,-999.0000,9,  -999.00,9,   -999.0,9,-999.000,9,  -999.00,9,   -999.0,0,   -999.0,9,   -999.0,9,  -999.00,9,  -999.0,-999.0000,-999.000,-999.000, 24.2967,-999.000,9
      06MT22_5,   A10,    61,  2,    321,2,19930117,0537,-30.0010,  -9.6610, 3727,    200.0,  14.4890,  35.3220,2,  35.3200,2,    213.8,2,     2.79,2,     6.81,9,     0.62,2, -999.000,9, -999.000,9, -999.000,9, -999.000,9,-999.0000,9,  -999.00,9,   -999.0,9,-999.000,9,  -999.00,9,   -999.0,0,   -999.0,9,   -999.0,9,  -999.00,9,  -999.0,-999.0000,-999.000,-999.000, 14.4593,-999.000,9
      06MT22_5,   A10,    61,  2,    320,2,19930117,0537,-30.0010,  -9.6610, 3727,    300.0,  12.7810,  35.1330,2,-999.0000,9,    209.6,2,     3.87,2,    10.71,9,     0.84,2, -999.000,9, -999.000,9, -999.000,9, -999.000,9,-999.0000,9,  -999.00,9,   -999.0,9,-999.000,9,  -999.00,9,   -999.0,0,   -999.0,9,   -999.0,9,  -999.00,9,  -999.0,-999.0000,-999.000,-999.000, 12.7403,-999.000,9
      06MT22_5,   A10,    61,  2,    319,2,19930117,0537,-30.0010,  -9.6610, 3727,    501.0,   9.1640,  34.7000,2,-999.0000,9,    214.2,2,     6.91,2,    18.82,9,     1.35,2, -999.000,9, -999.000,9, -999.000,9, -999.000,9,-999.0000,9,  -999.00,9,   -999.0,9,-999.000,9,  -999.00,9,   -999.0,0,   -999.0,9,   -999.0,9,  -999.00,9,  -999.0,-999.0000,-999.000,-999.000,  9.1085,-999.000,9
      06MT22_5,   A10,    61,  2,    318,2,19930117,0537,-30.0010,  -9.6610, 3727,    599.0,   7.2470,  34.4990,2,-999.0000,9,    214.0,2,    11.36,2,    23.99,9,     1.64,2, -999.000,9, -999.000,9, -999.000,9, -999.000,9,-999.0000,9,  -999.00,9,   -999.0,9,-999.000,9,  -999.00,9,   -999.0,0,   -999.0,9,   -999.0,9,  -999.00,9,  -999.0,-999.0000,-999.000,-999.000,  7.1888,-999.000,9
      06MT22_5,   A10,    61,  2,    317,2,19930117,0537,-30.0010,  -9.6610, 3727,    698.0,   5.5390,  34.3460,2,  34.3530,2,    225.7,2,    15.53,2,    27.24,9,     1.87,2, -999.000,9, -999.000,9, -999.000,9, -999.000,9,-999.0000,9,  -999.00,9,   -999.0,9,-999.000,9,  -999.00,9,   -999.0,0,   -999.0,9,   -999.0,9,  -999.00,9,  -999.0,-999.0000,-999.000,-999.000,  5.4797,-999.000,9
      06MT22_5,   A10,    61,  2,    316,2,19930117,0537,-30.0010,  -9.6610, 3727,    847.0,   4.2500,  34.2980,2,-999.0000,9,    227.0,2,    24.38,2,    30.15,9,     2.11,2, -999.000,9, -999.000,9, -999.000,9, -999.000,9,-999.0000,9,  -999.00,9,   -999.0,9,-999.000,9,  -999.00,9,   -999.0,0,   -999.0,9,   -999.0,9,  -999.00,9,  -999.0,-999.0000,-999.000,-999.000,  4.1853,-999.000,9
      06MT22_5,   A10,    61,  2,    315,2,19930117,0537,-30.0010,  -9.6610, 3727,    998.0,   3.5710,  34.3310,2,-999.0000,9,    214.3,2,    35.14,2,    32.09,9,     2.24,2, -999.000,9, -999.000,9, -999.000,9, -999.000,9,-999.0000,9,  -999.00,9,   -999.0,9,-999.000,9,  -999.00,9,   -999.0,0,   -999.0,9,   -999.0,9,  -999.00,9,  -999.0,-999.0000,-999.000,-999.000,  3.4989,-999.000,9
      06MT22_5,   A10,    61,  2,    314,2,19930117,0537,-30.0010,  -9.6610, 3727,   1201.0,   3.1070,  34.4420,2,  34.4400,2,    194.5,2,    49.15,2,    33.71,9,     2.30,2, -999.000,9, -999.000,9, -999.000,9, -999.000,9,-999.0000,9,  -999.00,9,   -999.0,9,-999.000,9,  -999.00,9,   -999.0,0,   -999.0,9,   -999.0,9,  -999.00,9,  -999.0,-999.0000,-999.000,-999.000,  3.0227,-999.000,9
      06MT22_5,   A10,    61,  2,    313,2,19930117,0537,-30.0010,  -9.6610, 3727,   1400.0,   2.9140,  34.5810,2,-999.0000,9,    189.0,2,    55.57,2,    32.98,9,     2.27,2, -999.000,9, -999.000,9, -999.000,9, -999.000,9,-999.0000,9,  -999.00,9,   -999.0,9,-999.000,9,  -999.00,9,   -999.0,0,   -999.0,9,   -999.0,9,  -999.00,9,  -999.0,-999.0000,-999.000,-999.000,  2.8149,-999.000,9
      06MT22_5,   A10,    61,  2,    312,2,19930117,0537,-30.0010,  -9.6610, 3727,   1600.0,   2.8190,  34.6770,2,-999.0000,9,    194.9,2,    56.00,2,    31.22,9,     2.13,2, -999.000,9, -999.000,9, -999.000,9, -999.000,9,-999.0000,9,  -999.00,9,   -999.0,9,-999.000,9,  -999.00,9,   -999.0,0,   -999.0,9,   -999.0,9,  -999.00,9,  -999.0,-999.0000,-999.000,-999.000,  2.7045,-999.000,9
      06MT22_5,   A10,    61,  2,    311,2,19930117,0537,-30.0010,  -9.6610, 3727,   1800.0,   2.7590,  34.7550,2,  34.7540,2,    207.7,2,    53.89,2,    29.03,9,     1.98,2, -999.000,9, -999.000,9, -999.000,9, -999.000,9,-999.0000,9,  -999.00,9,   -999.0,9,-999.000,9,  -999.00,9,   -999.0,0,   -999.0,9,   -999.0,9,  -999.00,9,  -999.0,-999.0000,-999.000,-999.000,  2.6282,-999.000,9
      06MT22_5,   A10,    61,  2,    310,2,19930117,0537,-30.0010,  -9.6610, 3727,   2001.0,   2.6610,  34.7980,2,-999.0000,9,    216.3,2,    52.40,2,    27.56,9,     1.88,2, -999.000,9, -999.000,9, -999.000,9, -999.000,9,-999.0000,9,  -999.00,9,   -999.0,9,-999.000,9,  -999.00,9,   -999.0,0,   -999.0,9,   -999.0,9,  -999.00,9,  -999.0,-999.0000,-999.000,-999.000,  2.5137,-999.000,9
      06MT22_5,   A10,    61,  2,    309,2,19930117,0537,-30.0010,  -9.6610, 3727,   2251.0,   2.5590,  34.8330,2,-999.0000,9,    225.9,2,    51.29,2,    26.24,9,     1.78,2, -999.000,9, -999.000,9, -999.000,9, -999.000,9,-999.0000,9,  -999.00,9,   -999.0,9,-999.000,9,  -999.00,9,   -999.0,0,   -999.0,9,   -999.0,9,  -999.00,9,  -999.0,-999.0000,-999.000,-999.000,  2.3908,-999.000,9
      06MT22_5,   A10,    61,  2,    308,2,19930117,0537,-30.0010,  -9.6610, 3727,   2502.0,   2.4810,  34.8510,2,-999.0000,9,    232.8,2,    50.26,2,    25.33,9,     1.71,2, -999.000,9, -999.000,9, -999.000,9, -999.000,9,-999.0000,9,  -999.00,9,   -999.0,9,-999.000,9,  -999.00,9,   -999.0,0,   -999.0,9,   -999.0,9,  -999.00,9,  -999.0,-999.0000,-999.000,-999.000,  2.2908,-999.000,9
      06MT22_5,   A10,    61,  2,    307,2,19930117,0537,-30.0010,  -9.6610, 3727,   2753.0,   2.4250,  34.8620,2,  34.8590,2,    237.7,2,    49.69,2,    24.72,9,     1.68,2, -999.000,9, -999.000,9, -999.000,9, -999.000,9,-999.0000,9,  -999.00,9,   -999.0,9,-999.000,9,  -999.00,9,   -999.0,0,   -999.0,9,   -999.0,9,  -999.00,9,  -999.0,-999.0000,-999.000,-999.000,  2.2117,-999.000,9
      06MT22_5,   A10,    61,  2,    306,2,19930117,0537,-30.0010,  -9.6610, 3727,   3003.0,   2.3890,  34.8680,2,-999.0000,9,    241.1,2,    49.85,2,    24.42,9,     1.62,2, -999.000,9, -999.000,9, -999.000,9, -999.000,9,-999.0000,9,  -999.00,9,   -999.0,9,-999.000,9,  -999.00,9,   -999.0,0,   -999.0,9,   -999.0,9,  -999.00,9,  -999.0,-999.0000,-999.000,-999.000,  2.1515,-999.000,9
      06MT22_5,   A10,    61,  2,    305,2,19930117,0537,-30.0010,  -9.6610, 3727,   3253.0,   2.3780,  34.8720,2,-999.0000,9,    240.2,2,    49.97,2,    24.29,9,     1.63,2,    0.001,2,    0.000,2,    0.003,2, -999.000,9,-999.0000,9,  -999.00,9,   -999.0,9,-999.000,9,  -999.00,9,   -999.0,0,   -999.0,9,   -999.0,9,  -999.00,9,  -999.0,-999.0000,-999.000,-999.000,  2.1150,-999.000,9
      06MT22_5,   A10,    61,  2,    304,2,19930117,0537,-30.0010,  -9.6610, 3727,   3508.0,   2.3840,  34.8750,2,  34.8730,2,    239.7,2,    50.44,2,    24.23,9,     1.75,2,    0.000,2,    0.000,2,    0.005,2, -999.000,9,-999.0000,9,  -999.00,9,   -999.0,9,-999.000,9,  -999.00,9,   -999.0,0,   -999.0,9,   -999.0,9,  -999.00,9,  -999.0,-999.0000,-999.000,-999.000,  2.0938,-999.000,9
      06MT22_5,   A10,    61,  2,    303,2,19930117,0537,-30.0010,  -9.6610, 3727,   3755.0,   2.3940,  34.8770,2,  34.8760,2,    238.9,2,    51.68,2,    24.23,9,     1.69,2,    0.000,2,    0.003,2,    0.002,2, -999.000,9,-999.0000,9,  -999.00,9,   -999.0,9,-999.000,9,  -999.00,9,   -999.0,0,   -999.0,9,   -999.0,9,  -999.00,9,  -999.0,-999.0000,-999.000,-999.000,  2.0765,-999.000,9
      06MT22_5,   A10,    61,  2,    301,2,19930117,0537,-30.0010,  -9.6610, 3727,   3836.0,   2.4040,  34.8770,2,-999.0000,9,    238.8,2,    50.30,2,    24.23,9,     1.64,2,    0.002,2,    0.001,2,    0.005,2, -999.000,9,-999.0000,9,  -999.00,9,   -999.0,9,-999.000,9,  -999.00,9,   -999.0,0,   -999.0,9,   -999.0,9,  -999.00,9,  -999.0,-999.0000,-999.000,-999.000,  2.0720,-999.000,9
      06MT22_5,   A10,    61,  2,    302,2,19930117,0537,-30.0010,  -9.6610, 3727,   3838.0,   2.4040,  34.8770,2,  34.8760,2,   -999.0,9,  -999.00,9,  -999.00,9,  -999.00,9, -999.000,9, -999.000,9, -999.000,9, -999.000,9,-999.0000,9,  -999.00,9,   -999.0,9,-999.000,9,  -999.00,9,   -999.0,0,   -999.0,9,   -999.0,9,  -999.00,9,  -999.0,-999.0000,-999.000,-999.000,  2.0769,-999.000,9
      06MT22_5,   A10,    62,  1,    217,2,19930117,1153,-30.0000,  -8.9983, 3972,     12.0,  24.5080,  35.8680,2,  35.8800,2,    215.3,2,     0.93,2,     0.04,9,     0.20,2, -999.000,9, -999.000,9, -999.000,9, -999.000,9,-999.0000,9,  -999.00,9,   -999.0,9,-999.000,9,  -999.00,9,   -999.0,9,   -999.0,9,   -999.0,9,  -999.00,9,  -999.0,-999.0000,-999.000,-999.000, 24.5054,-999.000,9
      06MT22_5,   A10,    62,  1,    208,2,19930117,1153,-30.0000,  -8.9983, 3972,     12.0,  24.5560,  35.8830,2,-999.0000,9,   -999.0,9,  -999.00,9,  -999.00,9,  -999.00,9,    1.956,2,    1.059,2,    2.463,2,    0.974,2,   1.6740,2,    -2.29,2,   -999.0,9,   6.681,2,  -999.00,9,   2046.4,4,   -999.0,9,   -999.0,9,  -999.00,9,  -999.0,  0.0059,   0.250,   0.023, 24.5534,   0.024,9
      06MT22_5,   A10,    62,  1,    207,2,19930117,1153,-30.0000,  -8.9983, 3972,     33.0,  22.5680,  35.7700,2,  35.8260,2,    229.3,2,     1.13,2,     0.00,9,     0.18,2,    2.182,2,    1.176,2,    2.533,2,    0.944,2,   1.6985,2,    -1.80,2,   -999.0,9,   6.885,2,  -999.00,9,   2048.7,4,   -999.0,9,   -999.0,9,  -999.00,9,  -999.0,  0.0068,   0.250,   0.027, 22.5613,   0.024,9
      06MT22_5,   A10,    62,  1,    206,2,19930117,1153,-30.0000,  -8.9983, 3972,     51.0,  20.1450,  36.0000,2,-999.0000,9,    242.1,2,     1.20,2,     0.00,9,     0.21,2,    2.364,2,    1.269,2,    2.432,2,    0.983,2,   1.7212,2,    -1.61,2,   -999.0,9,   7.027,2,  -999.00,9,   2056.9,4,   -999.0,9,   -999.0,9,  -999.00,9,  -999.0,  0.0069,   0.250,   0.028, 20.1355,   0.023,9
      06MT22_5,   A10,    62,  1,    205,2,19930117,1153,-30.0000,  -8.9983, 3972,     72.0,  19.2120,  35.9920,2,-999.0000,9,    242.3,2,     1.09,2,     0.02,9,     0.18,2,    2.388,2,    1.274,2,    2.351,2,    0.892,3,-999.0000,1,  -999.00,1,   -999.0,9,-999.000,1,  -999.00,9,   2056.8,4,   -999.0,9,   -999.0,9,  -999.00,9,  -999.0,-999.0000,-999.000,-999.000, 19.1990,   0.222,9
      06MT22_5,   A10,    62,  1,    204,2,19930117,1153,-30.0000,  -8.9983, 3972,    101.0,  18.1640,  35.9220,2,  35.9120,2,    235.3,2,     1.07,2,     0.01,9,     0.22,2, -999.000,9, -999.000,9, -999.000,9, -999.000,9,-999.0000,1,  -999.00,1,   -999.0,9,-999.000,1,  -999.00,9,   2061.1,4,   -999.0,9,   -999.0,9,  -999.00,9,  -999.0,-999.0000,-999.000,-999.000, 18.1465,-999.000,9
      06MT22_5,   A10,    62,  1,    203,2,19930117,1153,-30.0000,  -8.9983, 3972,    152.0,  16.4990,  35.6450,2,-999.0000,9,    226.7,2,     1.41,2,     1.65,9,     0.35,2,    2.422,2,    1.284,2,    2.225,2,    0.892,2,-999.0000,1,  -999.00,1,   -999.0,9,-999.000,1,  -999.00,9,   2071.0,4,   -999.0,9,   -999.0,9,  -999.00,9,  -999.0,-999.0000,-999.000,-999.000, 16.4744,   0.023,9
      06MT22_5,   A10,    62,  1,    202,2,19930117,1153,-30.0000,  -8.9983, 3972,    203.0,  14.5530,  35.3320,2,-999.0000,9,    214.6,2,     2.36,2,     5.88,9,     0.54,2,    2.522,2,    1.307,2,    0.848,2,    0.822,2,-999.0000,1,  -999.00,1,   -999.0,9,-999.000,1,  -999.00,9,   2082.5,4,   -999.0,9,   -999.0,9,  -999.00,9,  -999.0,-999.0000,-999.000,-999.000, 14.5228,   0.020,9
      06MT22_5,   A10,    62,  1,    201,2,19930117,1153,-30.0000,  -8.9983, 3972,    303.0,  12.6350,  35.1120,2,  35.1170,2,    209.0,2,     3.73,2,    10.69,9,     0.86,2,    2.313,2,    1.173,2,    0.847,2,    0.692,2,   1.7614,7,     0.22,2,   -999.0,9,   7.347,7,  -999.00,9,   2100.8,4,   -999.0,9,   -999.0,9,  -999.00,9,  -999.0,  0.0070,   0.250,   0.029, 12.5939,   0.018,9