BOTTLE,20030417WHPSIOSA
EXPOCODE,SECT_ID,STNNBR,CASTNO,BTLNBR,BTLNBR_FLAG_W,DATE,TIME,LATITUDE,LONGITUDE,DEPTH,CTDPRS,CTDTMP,CTDSAL,CTDSAL_FLAG_W,SALNTY,SALNTY_FLAG_W,OXYGEN,OXYGEN_FLAG_W,SILCAT,SILCAT_FLAG_W,NO2+NO3,NO2+NO3_FLAG_W,PHSPHT,PHSPHT_FLAG_W,CFC-11,CFC-11_FLAG_W,CFC-12,CFC-12_FLAG_W,CCL4,CCL4_FLAG_W,TRITUM,TRITUM_FLAG_W,HELIUM,HELIUM_FLAG_W,DELHE3,DELHE3_FLAG_W,DELC14,DELC14_FLAG_W,NEON,NEON_FLAG_W,O18O16,O18O16_FLAG_W,TCARBN,TCARBN_FLAG_W,PCO2,PCO2_FLAG_W,ALKALI,ALKALI_FLAG_W,PH,PH_FLAG_W,C14ERR,HELIER,DELHER,NEONER,THETA,TRITER,TRITER_FLAG_W
,,,,,,,,,,,DBAR,ITS-90,PSS-78,,PSS-78,,UMOL/KG,,UMOL/KG,,UMOL/KG,,UMOL/KG,,PMOL/KG,,PMOL/KG,,PMOL/KG,,TU,,NMOL/KG,,PERCNT,,/MILLE,,NMOL/KG,,MILLE,,UMOL/KG,,UATM,,UMOL/KG,,,,/MILLE,NMOL/KG,PERCNT,NMOL/KG,ITS-90,TU,
      06MT22_5,   A10,    44,  2,    324,2,19930112,0505,-29.9915, -21.6208, 4897,     10.0,  24.0730,  36.0950,2,-999.0000,9,   -999.0,9,  -999.00,9,  -999.00,9,  -999.00,9, -999.000,9, -999.000,9, -999.000,9, -999.000,9,-999.0000,9,  -999.00,9,   -999.0,9,-999.000,9,  -999.00,9,   -999.0,9,   -999.0,9,   -999.0,9,  -999.00,9,  -999.0,-999.0000,-999.000,-999.000, 24.0709,-999.000,9
      06MT22_5,   A10,    44,  2,    323,2,19930112,0505,-29.9915, -21.6208, 4897,     10.0,  24.0730,  36.0950,2,  36.1010,2,    205.7,2,  -999.00,9,  -999.00,9,  -999.00,9,    1.959,2,    1.079,2,    2.510,2, -999.000,9,-999.0000,9,  -999.00,9,   -999.0,9,-999.000,9,  -999.00,9,   -999.0,9,   -999.0,9,   -999.0,9,  -999.00,9,  -999.0,-999.0000,-999.000,-999.000, 24.0709,-999.000,9
      06MT22_5,   A10,    44,  2,    322,2,19930112,0505,-29.9915, -21.6208, 4897,    599.0,   8.7700,  34.6710,2,-999.0000,9,   -999.0,9,    10.62,2,    21.18,9,     1.43,2, -999.000,9, -999.000,9, -999.000,9,    6.374,4,   1.7623,2,     1.15,2,   -999.0,9,   7.545,2,  -999.00,9,   2143.1,2,   -999.0,9,   2293.3,2,  -999.00,9,  -999.0,  0.0070,   0.250,   0.030,  8.7050,   0.936,9
      06MT22_5,   A10,    44,  2,    321,2,19930112,0505,-29.9915, -21.6208, 4897,    699.0,   7.0980,  34.5050,2,-999.0000,9,    218.0,2,  -999.00,9,  -999.00,9,  -999.00,9,    1.643,2,    0.830,2,    1.386,2, -999.000,9,-999.0000,9,  -999.00,9,   -999.0,9,-999.000,9,  -999.00,9,   -999.0,9,   -999.0,9,   -999.0,9,  -999.00,9,  -999.0,-999.0000,-999.000,-999.000,  7.0303,-999.000,9
      06MT22_5,   A10,    44,  2,    320,2,19930112,0505,-29.9915, -21.6208, 4897,    849.0,   5.0370,  34.3510,2,  34.3520,2,    212.4,2,    22.07,2,    28.96,9,     2.02,2,    1.131,2,    0.551,2,    2.081,2,    0.153,2,   1.7810,2,     1.54,2,   -999.0,9,   7.779,2,  -999.00,9,   2172.5,2,   -999.0,9,   2288.4,2,  -999.00,9,  -999.0,  0.0071,   0.250,   0.031,  4.9672,   0.006,9
      06MT22_5,   A10,    44,  2,    319,2,19930112,0505,-29.9915, -21.6208, 4897,   1000.0,   3.8340,  34.3390,2,-999.0000,9,    198.3,2,    33.48,2,    32.02,9,     2.23,2,    0.694,2,    0.341,2,    1.713,2, -999.000,9,-999.0000,9,  -999.00,9,   -999.0,9,-999.000,9,  -999.00,9,   2193.6,2,   -999.0,9,   2298.3,2,  -999.00,9,  -999.0,-999.0000,-999.000,-999.000,  3.7595,-999.000,9
      06MT22_5,   A10,    44,  2,    318,2,19930112,0505,-29.9915, -21.6208, 4897,   1199.0,   3.2160,  34.4330,2,-999.0000,9,    191.5,2,    47.11,2,    33.49,9,     2.40,2,    0.257,2,    0.145,2,    0.945,2,    0.047,2,   1.7980,5,     5.21,3,   -999.0,9,   7.906,5,  -999.00,9,   2216.8,2,   -999.0,9,   2316.0,2,  -999.00,9,  -999.0,  0.0081,   0.250,   0.036,  3.1306,   0.003,9
      06MT22_5,   A10,    44,  2,    317,2,19930112,0505,-29.9915, -21.6208, 4897,   1398.0,   2.9590,  34.5790,2,  34.5820,2,    197.3,2,    54.18,2,    32.85,9,     2.32,2,    0.062,2,    0.036,2,    0.368,2, -999.000,9,-999.0000,9,  -999.00,9,   -999.0,9,-999.000,9,  -999.00,9,   2226.3,2,   -999.0,9,   2318.0,2,  -999.00,9,  -999.0,-999.0000,-999.000,-999.000,  2.8600,-999.000,9
      06MT22_5,   A10,    44,  2,    316,2,19930112,0505,-29.9915, -21.6208, 4897,   1600.0,   2.8740,  34.6650,2,-999.0000,9,    208.9,2,    54.48,2,    31.40,9,     2.17,2,    0.025,2,    0.015,2,    0.199,2,    0.030,3,-999.0000,1,  -999.00,1,   -999.0,9,-999.000,1,  -999.00,9,   2223.1,2,   -999.0,9,   2325.9,2,  -999.00,9,  -999.0,-999.0000,-999.000,-999.000,  2.7587,   0.093,9
      06MT22_5,   A10,    44,  2,    315,2,19930112,0505,-29.9915, -21.6208, 4897,   1800.0,   2.7660,  34.7450,2,-999.0000,9,    219.6,2,    53.10,2,    29.25,9,     2.05,2,    0.005,2,    0.005,2,    0.078,2, -999.000,9,-999.0000,9,  -999.00,9,   -999.0,9,-999.000,9,  -999.00,9,   2215.5,2,   -999.0,9,   2328.9,2,  -999.00,9,  -999.0,-999.0000,-999.000,-999.000,  2.6350,-999.000,9
      06MT22_5,   A10,    44,  2,    314,2,19930112,0505,-29.9915, -21.6208, 4897,   2001.0,   2.7120,  34.7970,2,  34.7970,2,    232.6,2,    50.26,2,    27.54,9,     1.88,2,    0.003,2,    0.001,2,    0.043,2, -999.000,9,   1.8359,2,     6.44,2,   -999.0,9,   7.934,2,  -999.00,9,   2207.5,2,   -999.0,9,   2328.9,2,  -999.00,9,  -999.0,  0.0073,   0.250,   0.032,  2.5641,-999.000,9
      06MT22_5,   A10,    44,  2,    313,2,19930112,0505,-29.9915, -21.6208, 4897,   2251.0,   2.7030,  34.8460,2,-999.0000,9,    240.3,2,    45.83,2,    25.50,9,     1.70,2, -999.000,9, -999.000,9, -999.000,9, -999.000,9,-999.0000,9,  -999.00,9,   -999.0,9,-999.000,9,  -999.00,9,   2196.8,2,   -999.0,9,   2333.3,2,  -999.00,9,  -999.0,-999.0000,-999.000,-999.000,  2.5322,-999.000,9
      06MT22_5,   A10,    44,  2,    312,2,19930112,0505,-29.9915, -21.6208, 4897,   2501.0,   2.7020,  34.8720,2,-999.0000,9,    248.4,2,    42.16,2,    24.30,9,     1.61,2,    0.006,4,    0.001,2,    0.010,2,    0.003,2,-999.0000,1,  -999.00,1,   -999.0,9,-999.000,1,  -999.00,9,   2190.6,2,   -999.0,9,   2330.3,2,  -999.00,9,  -999.0,-999.0000,-999.000,-999.000,  2.5076,   0.003,9
      06MT22_5,   A10,    44,  2,    311,2,19930112,0505,-29.9915, -21.6208, 4897,   2752.0,   2.7260,  34.8960,2,  34.8960,2,    254.7,2,    38.21,2,    23.09,9,     1.52,2, -999.000,9, -999.000,9, -999.000,9, -999.000,9,-999.0000,9,  -999.00,9,   -999.0,9,-999.000,9,  -999.00,9,   2184.0,2,   -999.0,9,   2330.3,2,  -999.00,9,  -999.0,-999.0000,-999.000,-999.000,  2.5065,-999.000,9
      06MT22_5,   A10,    44,  2,    310,2,19930112,0505,-29.9915, -21.6208, 4897,   3003.0,   2.6820,  34.9100,2,-999.0000,9,    252.9,2,    36.51,2,    22.24,9,     1.45,2,    0.002,2,    0.002,2,    0.000,2,    0.005,2,   1.8038,2,     3.34,2,   -999.0,9,   7.876,2,  -999.00,9,   2179.7,2,   -999.0,9,   2330.3,2,  -999.00,9,  -999.0,  0.0072,   0.250,   0.032,  2.4381,   0.002,9
      06MT22_5,   A10,    44,  2,    309,2,19930112,0505,-29.9915, -21.6208, 4897,   3252.0,   2.4950,  34.8980,2,-999.0000,9,    229.7,2,    41.54,2,    22.85,9,     1.49,2, -999.000,9, -999.000,9, -999.000,9, -999.000,9,-999.0000,9,  -999.00,9,   -999.0,9,-999.000,9,  -999.00,9,   2183.9,2,   -999.0,9,   2334.3,2,  -999.00,9,  -999.0,-999.0000,-999.000,-999.000,  2.2294,-999.000,9
      06MT22_5,   A10,    44,  2,    308,2,19930112,0505,-29.9915, -21.6208, 4897,   3504.0,   2.2350,  34.8740,2,  34.8750,2,    241.6,2,    50.23,2,    24.06,9,     1.57,2,   -0.002,2,    0.019,4,   -0.002,2,    0.006,2,   1.8265,2,     3.98,2,   -999.0,9,   7.999,2,  -999.00,9,   2193.3,2,   -999.0,9,   2341.3,2,  -999.00,9,  -999.0,  0.0073,   0.250,   0.032,  1.9489,   0.003,9
      06MT22_5,   A10,    44,  2,    307,2,19930112,0505,-29.9915, -21.6208, 4897,   3754.0,   1.8380,  34.8340,2,-999.0000,9,    235.5,2,    65.83,2,    26.13,9,     1.77,2, -999.000,9, -999.000,9, -999.000,9, -999.000,9,-999.0000,9,  -999.00,9,   -999.0,9,-999.000,9,  -999.00,9,   2209.1,2,   -999.0,9,   2350.2,2,  -999.00,9,  -999.0,-999.0000,-999.000,-999.000,  1.5358,-999.000,9
      06MT22_5,   A10,    44,  2,    306,2,19930112,0505,-29.9915, -21.6208, 4897,   4003.0,   1.4990,  34.7960,2,  34.7930,2,    230.5,2,    80.44,2,    28.25,9,     1.90,2,    0.000,2,    0.006,3,    0.013,2,    0.010,2,   1.8453,5,     5.82,3,   -999.0,9,   8.082,5,  -999.00,9,   2224.9,2,   -999.0,9,   2356.2,2,  -999.00,9,  -999.0,  0.0083,   0.250,   0.036,  1.1791,   0.002,9
      06MT22_5,   A10,    44,  2,    305,2,19930112,0505,-29.9915, -21.6208, 4897,   4256.0,   1.2840,  34.7690,2,-999.0000,9,    229.2,2,    90.50,2,    29.74,9,     2.05,2,   -0.002,2,    0.004,3,    0.038,2,   -0.029,4,   1.8555,2,     5.53,2,   -999.0,9,   8.104,2,  -999.00,9,   2236.0,2,   -999.0,9,   2363.2,2,  -999.00,9,  -999.0,  0.0074,   0.250,   0.032,  0.9427,   0.149,9
      06MT22_5,   A10,    44,  2,    304,2,19930112,0505,-29.9915, -21.6208, 4897,   4507.0,   1.2200,  34.7590,2,  34.7570,2,    228.8,2,    94.12,2,    30.24,9,     2.09,2,    0.002,2,    0.015,4,    0.034,2,    0.012,2,-999.0000,1,  -999.00,1,   -999.0,9,-999.000,1,  -999.00,9,   2239.8,2,   -999.0,9,   2364.2,2,  -999.00,9,  -999.0,-999.0000,-999.000,-999.000,  0.8525,   0.005,9
      06MT22_5,   A10,    44,  2,    303,2,19930112,0505,-29.9915, -21.6208, 4897,   4760.0,   1.2250,  34.7570,2,-999.0000,9,   -999.0,9,    95.82,2,    30.52,9,     2.06,2,    0.007,2,    0.033,4,    0.057,2, -999.000,9,-999.0000,9,  -999.00,9,   -999.0,9,-999.000,9,  -999.00,9,   2240.5,2,   -999.0,9,   2358.2,2,  -999.00,9,  -999.0,-999.0000,-999.000,-999.000,  0.8281,-999.000,9
      06MT22_5,   A10,    44,  2,    301,2,19930112,0505,-29.9915, -21.6208, 4897,   4891.0,   1.2390,  34.7560,2,  34.7550,2,   -999.0,9,    95.03,2,    30.37,9,     2.10,2,    0.041,2,    0.054,4,    0.104,2, -999.000,9,-999.0000,9,  -999.00,9,   -999.0,9,-999.000,9,  -999.00,9,   2240.9,2,   -999.0,9,   2362.2,2,  -999.00,9,  -999.0,-999.0000,-999.000,-999.000,  0.8261,-999.000,9
      06MT22_5,   A10,    44,  2,    302,2,19930112,0505,-29.9915, -21.6208, 4897,   4892.0,   1.2390,  34.7560,2,-999.0000,9,    229.3,2,  -999.00,9,  -999.00,9,  -999.00,9,    0.010,2,    0.020,2,    0.049,2,    0.052,2,   1.8640,2,     7.00,2,   -999.0,9,   8.158,2,  -999.00,9,   -999.0,9,   -999.0,9,   -999.0,9,  -999.00,9,  -999.0,  0.0075,   0.250,   0.033,  0.8260,   0.004,9
      06MT22_5,   A10,    45,  1,    217,2,19930112,1111,-30.0000, -20.7933, 4919,     12.0,  23.9160,  36.1010,2,-999.0000,9,    216.3,2,     0.56,2,     0.00,9,     0.10,2, -999.000,9, -999.000,9, -999.000,9, -999.000,9,-999.0000,9,  -999.00,9,   -999.0,9,-999.000,9,  -999.00,9,   -999.0,0,   -999.0,9,   -999.0,9,  -999.00,9,  -999.0,-999.0000,-999.000,-999.000, 23.9135,-999.000,9
      06MT22_5,   A10,    45,  1,    216,2,19930112,1111,-30.0000, -20.7933, 4919,     12.0,  23.9490,  36.1040,2,-999.0000,9,   -999.0,9,  -999.00,9,  -999.00,9,  -999.00,9, -999.000,9, -999.000,9, -999.000,9, -999.000,9,-999.0000,9,  -999.00,9,   -999.0,9,-999.000,9,  -999.00,9,   -999.0,0,   -999.0,9,   -999.0,9,  -999.00,9,  -999.0,-999.0000,-999.000,-999.000, 23.9465,-999.000,9
      06MT22_5,   A10,    45,  1,    215,2,19930112,1111,-30.0000, -20.7933, 4919,     12.0,  23.9870,  36.1020,2,-999.0000,9,   -999.0,9,  -999.00,9,  -999.00,9,  -999.00,9, -999.000,9, -999.000,9, -999.000,9, -999.000,9,-999.0000,9,  -999.00,9,   -999.0,9,-999.000,9,  -999.00,9,   -999.0,0,   -999.0,9,   -999.0,9,  -999.00,9,  -999.0,-999.0000,-999.000,-999.000, 23.9845,-999.000,9
      06MT22_5,   A10,    45,  1,    214,2,19930112,1111,-30.0000, -20.7933, 4919,     12.0,  23.9220,  36.1030,2,-999.0000,9,   -999.0,9,  -999.00,9,  -999.00,9,  -999.00,9, -999.000,9, -999.000,9, -999.000,9, -999.000,9,-999.0000,9,  -999.00,9,   -999.0,9,-999.000,9,  -999.00,9,   -999.0,0,   -999.0,9,   -999.0,9,  -999.00,9,  -999.0,-999.0000,-999.000,-999.000, 23.9195,-999.000,9
      06MT22_5,   A10,    45,  1,    213,2,19930112,1111,-30.0000, -20.7933, 4919,     12.0,  23.9340,  36.1030,2,-999.0000,9,   -999.0,9,  -999.00,9,  -999.00,9,  -999.00,9, -999.000,9, -999.000,9, -999.000,9, -999.000,9,-999.0000,9,  -999.00,9,   -999.0,9,-999.000,9,  -999.00,9,   -999.0,0,   -999.0,9,   -999.0,9,  -999.00,9,  -999.0,-999.0000,-999.000,-999.000, 23.9315,-999.000,9
      06MT22_5,   A10,    45,  1,    212,2,19930112,1111,-30.0000, -20.7933, 4919,     12.0,  23.9090,  36.1020,2,-999.0000,9,   -999.0,9,  -999.00,9,  -999.00,9,  -999.00,9, -999.000,9, -999.000,9, -999.000,9, -999.000,9,-999.0000,9,  -999.00,9,   -999.0,9,-999.000,9,  -999.00,9,   -999.0,0,   -999.0,9,   -999.0,9,  -999.00,9,  -999.0,-999.0000,-999.000,-999.000, 23.9065,-999.000,9
      06MT22_5,   A10,    45,  1,    211,2,19930112,1111,-30.0000, -20.7933, 4919,     12.0,  23.9380,  36.0990,2,-999.0000,9,   -999.0,9,  -999.00,9,  -999.00,9,  -999.00,9, -999.000,9, -999.000,9, -999.000,9, -999.000,9,-999.0000,9,  -999.00,9,   -999.0,9,-999.000,9,  -999.00,9,   -999.0,0,   -999.0,9,   -999.0,9,  -999.00,9,  -999.0,-999.0000,-999.000,-999.000, 23.9355,-999.000,9
      06MT22_5,   A10,    45,  1,    210,2,19930112,1111,-30.0000, -20.7933, 4919,     12.0,  23.9710,  36.1020,2,-999.0000,9,   -999.0,9,  -999.00,9,  -999.00,9,  -999.00,9, -999.000,9, -999.000,9, -999.000,9, -999.000,9,-999.0000,9,  -999.00,9,   -999.0,9,-999.000,9,  -999.00,9,   -999.0,0,   -999.0,9,   -999.0,9,  -999.00,9,  -999.0,-999.0000,-999.000,-999.000, 23.9685,-999.000,9
      06MT22_5,   A10,    45,  1,    209,2,19930112,1111,-30.0000, -20.7933, 4919,     32.0,  23.1190,  36.1210,2,-999.0000,9,    216.5,2,     0.70,2,     0.10,9,     0.08,2, -999.000,9, -999.000,9, -999.000,9, -999.000,9,-999.0000,9,  -999.00,9,   -999.0,9,-999.000,9,  -999.00,9,   -999.0,0,   -999.0,9,   -999.0,9,  -999.00,9,  -999.0,-999.0000,-999.000,-999.000, 23.1124,-999.000,9
      06MT22_5,   A10,    45,  1,    208,2,19930112,1111,-30.0000, -20.7933, 4919,     52.0,  21.6270,  36.1660,2,-999.0000,9,    219.9,2,     0.64,2,     0.13,9,     0.08,2, -999.000,9, -999.000,9, -999.000,9, -999.000,9,-999.0000,9,  -999.00,9,   -999.0,9,-999.000,9,  -999.00,9,   -999.0,0,   -999.0,9,   -999.0,9,  -999.00,9,  -999.0,-999.0000,-999.000,-999.000, 21.6168,-999.000,9
      06MT22_5,   A10,    45,  1,    207,2,19930112,1111,-30.0000, -20.7933, 4919,     72.0,  20.1100,  36.1230,2,  36.1250,2,    237.6,2,     0.74,2,     0.03,9,     0.09,2, -999.000,9, -999.000,9, -999.000,9, -999.000,9,-999.0000,9,  -999.00,9,   -999.0,9,-999.000,9,  -999.00,9,   -999.0,0,   -999.0,9,   -999.0,9,  -999.00,9,  -999.0,-999.0000,-999.000,-999.000, 20.0966,-999.000,9
      06MT22_5,   A10,    45,  1,    206,2,19930112,1111,-30.0000, -20.7933, 4919,    102.0,  19.3940,  36.1110,2,-999.0000,9,    232.1,2,     1.06,2,     0.05,9,     0.12,2, -999.000,9, -999.000,9, -999.000,9, -999.000,9,-999.0000,9,  -999.00,9,   -999.0,9,-999.000,9,  -999.00,9,   -999.0,0,   -999.0,9,   -999.0,9,  -999.00,9,  -999.0,-999.0000,-999.000,-999.000, 19.3755,-999.000,9
      06MT22_5,   A10,    45,  1,    205,2,19930112,1111,-30.0000, -20.7933, 4919,    151.0,  17.3980,  35.6930,2,-999.0000,9,    238.9,2,     0.92,2,     0.12,9,     0.13,2, -999.000,9, -999.000,9, -999.000,9, -999.000,9,-999.0000,9,  -999.00,9,   -999.0,9,-999.000,9,  -999.00,9,   -999.0,0,   -999.0,9,   -999.0,9,  -999.00,9,  -999.0,-999.0000,-999.000,-999.000, 17.3726,-999.000,9
      06MT22_5,   A10,    45,  1,    204,2,19930112,1111,-30.0000, -20.7933, 4919,    201.0,  16.6090,  35.6060,2,  35.6080,2,    231.5,2,     1.24,2,     0.79,9,     0.21,2, -999.000,9, -999.000,9, -999.000,9, -999.000,9,-999.0000,9,  -999.00,9,   -999.0,9,-999.000,9,  -999.00,9,   -999.0,0,   -999.0,9,   -999.0,9,  -999.00,9,  -999.0,-999.0000,-999.000,-999.000, 16.5762,-999.000,9
      06MT22_5,   A10,    45,  1,    203,2,19930112,1111,-30.0000, -20.7933, 4919,    301.0,  14.7730,  35.3780,2,-999.0000,9,    219.6,2,     2.59,2,     5.41,9,     0.48,2, -999.000,9, -999.000,9, -999.000,9, -999.000,9,-999.0000,9,  -999.00,9,   -999.0,9,-999.000,9,  -999.00,9,   -999.0,0,   -999.0,9,   -999.0,9,  -999.00,9,  -999.0,-999.0000,-999.000,-999.000, 14.7278,-999.000,9
      06MT22_5,   A10,    45,  1,    202,2,19930112,1111,-30.0000, -20.7933, 4919,    400.0,  12.8910,  35.1610,2,-999.0000,9,    210.0,2,     4.22,2,    10.66,9,     0.76,2, -999.000,9, -999.000,9, -999.000,9, -999.000,9,-999.0000,9,  -999.00,9,   -999.0,9,-999.000,9,  -999.00,9,   -999.0,0,   -999.0,9,   -999.0,9,  -999.00,9,  -999.0,-999.0000,-999.000,-999.000, 12.8359,-999.000,9
      06MT22_5,   A10,    45,  1,    201,2,19930112,1111,-30.0000, -20.7933, 4919,    503.0,  10.6770,  34.8860,2,  34.9020,2,    205.8,2,     6.53,2,    15.93,9,     1.07,2, -999.000,9, -999.000,9, -999.000,9, -999.000,9,-999.0000,9,  -999.00,9,   -999.0,9,-999.000,9,  -999.00,9,   -999.0,0,   -999.0,9,   -999.0,9,  -999.00,9,  -999.0,-999.0000,-999.000,-999.000, 10.6153,-999.000,9