BOTTLE,20030417WHPSIOSA
EXPOCODE,SECT_ID,STNNBR,CASTNO,BTLNBR,BTLNBR_FLAG_W,DATE,TIME,LATITUDE,LONGITUDE,DEPTH,CTDPRS,CTDTMP,CTDSAL,CTDSAL_FLAG_W,SALNTY,SALNTY_FLAG_W,OXYGEN,OXYGEN_FLAG_W,SILCAT,SILCAT_FLAG_W,NO2+NO3,NO2+NO3_FLAG_W,PHSPHT,PHSPHT_FLAG_W,CFC-11,CFC-11_FLAG_W,CFC-12,CFC-12_FLAG_W,CCL4,CCL4_FLAG_W,TRITUM,TRITUM_FLAG_W,HELIUM,HELIUM_FLAG_W,DELHE3,DELHE3_FLAG_W,DELC14,DELC14_FLAG_W,NEON,NEON_FLAG_W,O18O16,O18O16_FLAG_W,TCARBN,TCARBN_FLAG_W,PCO2,PCO2_FLAG_W,ALKALI,ALKALI_FLAG_W,PH,PH_FLAG_W,C14ERR,HELIER,DELHER,NEONER,THETA,TRITER,TRITER_FLAG_W
,,,,,,,,,,,DBAR,ITS-90,PSS-78,,PSS-78,,UMOL/KG,,UMOL/KG,,UMOL/KG,,UMOL/KG,,PMOL/KG,,PMOL/KG,,PMOL/KG,,TU,,NMOL/KG,,PERCNT,,/MILLE,,NMOL/KG,,MILLE,,UMOL/KG,,UATM,,UMOL/KG,,,,/MILLE,NMOL/KG,PERCNT,NMOL/KG,ITS-90,TU,
      06MT22_5,   A10,    47,  2,    217,2,19930113,0400,-29.9883, -19.0667, 4064,     12.0,  22.8330,  35.8910,2,  35.8950,2,    220.3,2,     0.74,2,     0.02,9,     0.08,2, -999.000,9, -999.000,9, -999.000,9, -999.000,9,-999.0000,9,  -999.00,9,   -999.0,9,-999.000,9,  -999.00,9,   -999.0,0,   -999.0,9,   -999.0,9,  -999.00,9,  -999.0,-999.0000,-999.000,-999.000, 22.8306,-999.000,9
      06MT22_5,   A10,    47,  2,    208,2,19930113,0400,-29.9883, -19.0667, 4064,     32.0,  21.5300,  35.8400,2,  35.8410,2,    225.5,2,     0.63,2,     0.02,9,     0.07,2, -999.000,9, -999.000,9, -999.000,9, -999.000,9,-999.0000,9,  -999.00,9,   -999.0,9,-999.000,9,  -999.00,9,   -999.0,0,   -999.0,9,   -999.0,9,  -999.00,9,  -999.0,-999.0000,-999.000,-999.000, 21.5238,-999.000,9
      06MT22_5,   A10,    47,  2,    207,2,19930113,0400,-29.9883, -19.0667, 4064,     52.0,  20.0370,  35.8650,2,-999.0000,9,    237.8,2,     0.61,2,     0.01,9,     0.06,2, -999.000,9, -999.000,9, -999.000,9, -999.000,9,-999.0000,9,  -999.00,9,   -999.0,9,-999.000,9,  -999.00,9,   -999.0,0,   -999.0,9,   -999.0,9,  -999.00,9,  -999.0,-999.0000,-999.000,-999.000, 20.0273,-999.000,9
      06MT22_5,   A10,    47,  2,    206,2,19930113,0400,-29.9883, -19.0667, 4064,     71.0,  19.2920,  35.9340,2,-999.0000,9,    241.5,2,     0.65,2,     0.05,9,     0.06,2, -999.000,9, -999.000,9, -999.000,9, -999.000,9,-999.0000,9,  -999.00,9,   -999.0,9,-999.000,9,  -999.00,9,   -999.0,0,   -999.0,9,   -999.0,9,  -999.00,9,  -999.0,-999.0000,-999.000,-999.000, 19.2792,-999.000,9
      06MT22_5,   A10,    47,  2,    205,2,19930113,0400,-29.9883, -19.0667, 4064,    101.0,  18.3940,  35.8640,2,  35.8680,2,    236.8,2,     0.68,2,     0.04,9,     0.09,2, -999.000,9, -999.000,9, -999.000,9, -999.000,9,-999.0000,9,  -999.00,9,   -999.0,9,-999.000,9,  -999.00,9,   -999.0,0,   -999.0,9,   -999.0,9,  -999.00,9,  -999.0,-999.0000,-999.000,-999.000, 18.3763,-999.000,9
      06MT22_5,   A10,    47,  2,    204,2,19930113,0400,-29.9883, -19.0667, 4064,    151.0,  16.5960,  35.6200,2,-999.0000,9,    226.8,2,     1.32,2,     0.97,9,     0.20,2, -999.000,9, -999.000,9, -999.000,9, -999.000,9,-999.0000,9,  -999.00,9,   -999.0,9,-999.000,9,  -999.00,9,   -999.0,0,   -999.0,9,   -999.0,9,  -999.00,9,  -999.0,-999.0000,-999.000,-999.000, 16.5715,-999.000,9
      06MT22_5,   A10,    47,  2,    203,2,19930113,0400,-29.9883, -19.0667, 4064,    200.0,  15.2830,  35.4240,2,-999.0000,9,    225.4,2,     1.67,2,     3.13,9,     0.28,2, -999.000,9, -999.000,9, -999.000,9, -999.000,9,-999.0000,9,  -999.00,9,   -999.0,9,-999.000,9,  -999.00,9,   -999.0,0,   -999.0,9,   -999.0,9,  -999.00,9,  -999.0,-999.0000,-999.000,-999.000, 15.2522,-999.000,9
      06MT22_5,   A10,    47,  2,    202,2,19930113,0400,-29.9883, -19.0667, 4064,    300.0,  14.0000,  35.3370,2,  35.3420,2,    222.0,2,     2.49,2,     6.54,9,     0.49,2, -999.000,9, -999.000,9, -999.000,9, -999.000,9,-999.0000,9,  -999.00,9,   -999.0,9,-999.000,9,  -999.00,9,   -999.0,0,   -999.0,9,   -999.0,9,  -999.00,9,  -999.0,-999.0000,-999.000,-999.000, 13.9564,-999.000,9
      06MT22_5,   A10,    47,  2,    201,2,19930113,0400,-29.9883, -19.0667, 4064,    401.0,  12.0090,  35.0740,2,-999.0000,9,    213.2,2,     4.19,2,    12.03,9,     0.82,2, -999.000,9, -999.000,9, -999.000,9, -999.000,9,-999.0000,9,  -999.00,9,   -999.0,9,-999.000,9,  -999.00,9,   -999.0,0,   -999.0,9,   -999.0,9,  -999.00,9,  -999.0,-999.0000,-999.000,-999.000, 11.9557,-999.000,9
      06MT22_5,   A10,    47,  3,    301,2,19930113,0550,-29.9997, -19.0550, 4136,   3405.0,   2.2760,  34.8730,2,-999.0000,9,    247.2,2,    50.20,2,    23.72,9,     1.60,2,    0.000,6,    0.002,6,   -0.004,6, -999.000,9,-999.0000,9,  -999.00,9,   -999.0,9,-999.000,9,  -999.00,9,   -999.0,0,   -999.0,9,   -999.0,9,  -999.00,9,  -999.0,-999.0000,-999.000,-999.000,  1.9939,-999.000,9
      06MT22_5,   A10,    47,  3,    303,2,19930113,0550,-29.9997, -19.0550, 4136,   3407.0,   2.2720,  34.8720,2,-999.0000,9,    247.4,2,    50.42,2,    23.71,9,     1.59,2,    0.001,6,    0.003,6,   -0.003,6, -999.000,9,-999.0000,9,  -999.00,9,   -999.0,9,-999.000,9,  -999.00,9,   -999.0,0,   -999.0,9,   -999.0,9,  -999.00,9,  -999.0,-999.0000,-999.000,-999.000,  1.9898,-999.000,9
      06MT22_5,   A10,    47,  3,    302,2,19930113,0550,-29.9997, -19.0550, 4136,   3407.0,   2.2710,  34.8720,2,-999.0000,9,    246.9,2,    50.63,2,    23.72,9,     1.59,2,    0.002,2,    0.002,6,    0.001,6, -999.000,9,-999.0000,9,  -999.00,9,   -999.0,9,-999.000,9,  -999.00,9,   -999.0,0,   -999.0,9,   -999.0,9,  -999.00,9,  -999.0,-999.0000,-999.000,-999.000,  1.9888,-999.000,9
      06MT22_5,   A10,    47,  3,    305,2,19930113,0550,-29.9997, -19.0550, 4136,   3408.0,   2.2700,  34.8730,2,-999.0000,9,    247.1,2,    50.28,2,    23.70,9,     1.60,2,    0.097,4,    0.022,4,    0.103,4, -999.000,9,-999.0000,9,  -999.00,9,   -999.0,9,-999.000,9,  -999.00,9,   -999.0,0,   -999.0,9,   -999.0,9,  -999.00,9,  -999.0,-999.0000,-999.000,-999.000,  1.9877,-999.000,9
      06MT22_5,   A10,    47,  3,    304,2,19930113,0550,-29.9997, -19.0550, 4136,   3408.0,   2.2710,  34.8720,2,-999.0000,9,    246.7,2,    50.07,2,    23.72,9,     1.62,2, -999.000,9, -999.000,9, -999.000,9, -999.000,9,-999.0000,9,  -999.00,9,   -999.0,9,-999.000,9,  -999.00,9,   -999.0,0,   -999.0,9,   -999.0,9,  -999.00,9,  -999.0,-999.0000,-999.000,-999.000,  1.9887,-999.000,9
      06MT22_5,   A10,    47,  3,    308,2,19930113,0550,-29.9997, -19.0550, 4136,   3409.0,   2.2740,  34.8730,2,-999.0000,9,    247.7,2,    50.29,2,    23.67,9,     1.56,2,    0.003,2,    0.000,2,    0.001,2, -999.000,9,-999.0000,9,  -999.00,9,   -999.0,9,-999.000,9,  -999.00,9,   -999.0,0,   -999.0,9,   -999.0,9,  -999.00,9,  -999.0,-999.0000,-999.000,-999.000,  1.9915,-999.000,9
      06MT22_5,   A10,    47,  3,    307,2,19930113,0550,-29.9997, -19.0550, 4136,   3409.0,   2.2730,  34.8730,2,-999.0000,9,    247.1,2,    50.41,2,    23.70,9,     1.62,2,    0.001,2,    0.004,2,    0.009,2, -999.000,9,-999.0000,9,  -999.00,9,   -999.0,9,-999.000,9,  -999.00,9,   -999.0,0,   -999.0,9,   -999.0,9,  -999.00,9,  -999.0,-999.0000,-999.000,-999.000,  1.9906,-999.000,9
      06MT22_5,   A10,    47,  3,    306,2,19930113,0550,-29.9997, -19.0550, 4136,   3409.0,   2.2720,  34.8730,2,-999.0000,9,    246.5,2,    50.30,2,    23.70,9,     1.63,2,    0.000,2,    0.006,2,   -0.005,2, -999.000,9,-999.0000,9,  -999.00,9,   -999.0,9,-999.000,9,  -999.00,9,   -999.0,0,   -999.0,9,   -999.0,9,  -999.00,9,  -999.0,-999.0000,-999.000,-999.000,  1.9896,-999.000,9
      06MT22_5,   A10,    47,  3,    316,2,19930113,0550,-29.9997, -19.0550, 4136,   3410.0,   2.2700,  34.8730,2,-999.0000,9,    246.2,2,    50.22,2,    23.63,9,     1.58,2,    0.003,2,    0.000,2,    0.005,2, -999.000,9,-999.0000,9,  -999.00,9,   -999.0,9,-999.000,9,  -999.00,9,   -999.0,0,   -999.0,9,   -999.0,9,  -999.00,9,  -999.0,-999.0000,-999.000,-999.000,  1.9875,-999.000,9
      06MT22_5,   A10,    47,  3,    315,2,19930113,0550,-29.9997, -19.0550, 4136,   3410.0,   2.2700,  34.8730,2,-999.0000,9,    246.7,2,    50.20,2,    23.39,9,     1.56,2,    0.003,2,    0.002,6,    0.006,6, -999.000,9,-999.0000,9,  -999.00,9,   -999.0,9,-999.000,9,  -999.00,9,   -999.0,0,   -999.0,9,   -999.0,9,  -999.00,9,  -999.0,-999.0000,-999.000,-999.000,  1.9875,-999.000,9
      06MT22_5,   A10,    47,  3,    314,2,19930113,0550,-29.9997, -19.0550, 4136,   3410.0,   2.2720,  34.8730,2,-999.0000,9,    250.7,2,    50.27,2,    23.53,9,     1.58,2,    0.002,2,    0.000,6,    0.003,6, -999.000,9,-999.0000,9,  -999.00,9,   -999.0,9,-999.000,9,  -999.00,9,   -999.0,0,   -999.0,9,   -999.0,9,  -999.00,9,  -999.0,-999.0000,-999.000,-999.000,  1.9895,-999.000,9
      06MT22_5,   A10,    47,  3,    313,2,19930113,0550,-29.9997, -19.0550, 4136,   3410.0,   2.2720,  34.8730,2,-999.0000,9,    246.6,2,    50.25,2,    23.52,9,     1.58,2,    0.003,2,    0.002,6,    0.010,6, -999.000,9,-999.0000,9,  -999.00,9,   -999.0,9,-999.000,9,  -999.00,9,   -999.0,0,   -999.0,9,   -999.0,9,  -999.00,9,  -999.0,-999.0000,-999.000,-999.000,  1.9895,-999.000,9
      06MT22_5,   A10,    47,  3,    312,2,19930113,0550,-29.9997, -19.0550, 4136,   3410.0,   2.2730,  34.8730,2,-999.0000,9,    248.2,2,    50.14,2,    23.52,9,     1.59,2,    0.001,2,    0.005,2,    0.000,2, -999.000,9,-999.0000,9,  -999.00,9,   -999.0,9,-999.000,9,  -999.00,9,   -999.0,0,   -999.0,9,   -999.0,9,  -999.00,9,  -999.0,-999.0000,-999.000,-999.000,  1.9904,-999.000,9
      06MT22_5,   A10,    47,  3,    311,2,19930113,0550,-29.9997, -19.0550, 4136,   3410.0,   2.2740,  34.8730,2,-999.0000,9,    247.6,2,    50.30,2,    23.52,9,     1.60,2,    0.031,4,    0.016,4,    0.017,2, -999.000,9,-999.0000,9,  -999.00,9,   -999.0,9,-999.000,9,  -999.00,9,   -999.0,0,   -999.0,9,   -999.0,9,  -999.00,9,  -999.0,-999.0000,-999.000,-999.000,  1.9914,-999.000,9
      06MT22_5,   A10,    47,  3,    310,2,19930113,0550,-29.9997, -19.0550, 4136,   3410.0,   2.2750,  34.8730,2,-999.0000,9,    247.4,2,    50.42,2,    23.65,9,     1.60,2,    0.004,2,    0.008,4,    0.003,2, -999.000,9,-999.0000,9,  -999.00,9,   -999.0,9,-999.000,9,  -999.00,9,   -999.0,0,   -999.0,9,   -999.0,9,  -999.00,9,  -999.0,-999.0000,-999.000,-999.000,  1.9924,-999.000,9
      06MT22_5,   A10,    47,  3,    309,2,19930113,0550,-29.9997, -19.0550, 4136,   3410.0,   2.2740,  34.8730,2,-999.0000,9,    246.7,2,    51.08,2,    23.66,9,     1.57,2,    0.004,2,    0.001,2,    0.003,2, -999.000,9,-999.0000,9,  -999.00,9,   -999.0,9,-999.000,9,  -999.00,9,   -999.0,0,   -999.0,9,   -999.0,9,  -999.00,9,  -999.0,-999.0000,-999.000,-999.000,  1.9914,-999.000,9
      06MT22_5,   A10,    47,  3,    324,2,19930113,0550,-29.9997, -19.0550, 4136,   3411.0,   2.2610,  34.8720,2,-999.0000,9,    245.7,2,    49.60,2,    22.50,9,     1.51,2, -999.000,9, -999.000,9, -999.000,9, -999.000,9,-999.0000,9,  -999.00,9,   -999.0,9,-999.000,9,  -999.00,9,   -999.0,0,   -999.0,9,   -999.0,9,  -999.00,9,  -999.0,-999.0000,-999.000,-999.000,  1.9786,-999.000,9
      06MT22_5,   A10,    47,  3,    323,2,19930113,0550,-29.9997, -19.0550, 4136,   3411.0,   2.2680,  34.8720,2,-999.0000,9,    245.7,2,    50.22,2,    23.55,9,     1.58,2,    0.000,2,    0.004,2,    0.000,2, -999.000,9,-999.0000,9,  -999.00,9,   -999.0,9,-999.000,9,  -999.00,9,   -999.0,0,   -999.0,9,   -999.0,9,  -999.00,9,  -999.0,-999.0000,-999.000,-999.000,  1.9855,-999.000,9
      06MT22_5,   A10,    47,  3,    322,2,19930113,0550,-29.9997, -19.0550, 4136,   3411.0,   2.2700,  34.8730,2,-999.0000,9,    246.4,2,    50.20,2,    23.36,9,     1.58,2,    0.002,2,    0.000,2,    0.008,2, -999.000,9,-999.0000,9,  -999.00,9,   -999.0,9,-999.000,9,  -999.00,9,   -999.0,0,   -999.0,9,   -999.0,9,  -999.00,9,  -999.0,-999.0000,-999.000,-999.000,  1.9874,-999.000,9
      06MT22_5,   A10,    47,  3,    321,2,19930113,0550,-29.9997, -19.0550, 4136,   3411.0,   2.2710,  34.8740,2,-999.0000,9,    245.8,2,    50.22,2,    23.62,9,     1.58,2,    0.001,2,    0.000,2,   -0.001,2, -999.000,9,-999.0000,9,  -999.00,9,   -999.0,9,-999.000,9,  -999.00,9,   -999.0,0,   -999.0,9,   -999.0,9,  -999.00,9,  -999.0,-999.0000,-999.000,-999.000,  1.9884,-999.000,9
      06MT22_5,   A10,    47,  3,    320,2,19930113,0550,-29.9997, -19.0550, 4136,   3411.0,   2.2710,  34.8740,2,-999.0000,9,    247.3,2,    50.11,2,    23.56,9,     1.57,2,    0.002,2,    0.005,2,    0.003,2, -999.000,9,-999.0000,9,  -999.00,9,   -999.0,9,-999.000,9,  -999.00,9,   -999.0,0,   -999.0,9,   -999.0,9,  -999.00,9,  -999.0,-999.0000,-999.000,-999.000,  1.9884,-999.000,9
      06MT22_5,   A10,    47,  3,    319,2,19930113,0550,-29.9997, -19.0550, 4136,   3411.0,   2.2710,  34.8730,2,-999.0000,9,    245.9,2,    50.18,2,    23.58,9,     1.58,2,    0.007,4,    0.001,2,    0.006,2, -999.000,9,-999.0000,9,  -999.00,9,   -999.0,9,-999.000,9,  -999.00,9,   -999.0,0,   -999.0,9,   -999.0,9,  -999.00,9,  -999.0,-999.0000,-999.000,-999.000,  1.9884,-999.000,9
      06MT22_5,   A10,    47,  3,    318,2,19930113,0550,-29.9997, -19.0550, 4136,   3411.0,   2.2710,  34.8730,2,-999.0000,9,    247.3,2,    50.12,2,    23.53,9,     1.56,2,    0.001,2,    0.002,2,   -0.001,2, -999.000,9,-999.0000,9,  -999.00,9,   -999.0,9,-999.000,9,  -999.00,9,   -999.0,0,   -999.0,9,   -999.0,9,  -999.00,9,  -999.0,-999.0000,-999.000,-999.000,  1.9884,-999.000,9
      06MT22_5,   A10,    47,  3,    317,2,19930113,0550,-29.9997, -19.0550, 4136,   3411.0,   2.2700,  34.8730,2,-999.0000,9,    246.8,2,    50.14,2,    23.69,9,     1.58,2,    0.004,2,    0.003,2,   -0.004,2, -999.000,9,-999.0000,9,  -999.00,9,   -999.0,9,-999.000,9,  -999.00,9,   -999.0,0,   -999.0,9,   -999.0,9,  -999.00,9,  -999.0,-999.0000,-999.000,-999.000,  1.9874,-999.000,9