BOTTLE,20030417WHPSIOSA
EXPOCODE,SECT_ID,STNNBR,CASTNO,BTLNBR,BTLNBR_FLAG_W,DATE,TIME,LATITUDE,LONGITUDE,DEPTH,CTDPRS,CTDTMP,CTDSAL,CTDSAL_FLAG_W,SALNTY,SALNTY_FLAG_W,OXYGEN,OXYGEN_FLAG_W,SILCAT,SILCAT_FLAG_W,NO2+NO3,NO2+NO3_FLAG_W,PHSPHT,PHSPHT_FLAG_W,CFC-11,CFC-11_FLAG_W,CFC-12,CFC-12_FLAG_W,CCL4,CCL4_FLAG_W,TRITUM,TRITUM_FLAG_W,HELIUM,HELIUM_FLAG_W,DELHE3,DELHE3_FLAG_W,DELC14,DELC14_FLAG_W,NEON,NEON_FLAG_W,O18O16,O18O16_FLAG_W,TCARBN,TCARBN_FLAG_W,PCO2,PCO2_FLAG_W,ALKALI,ALKALI_FLAG_W,PH,PH_FLAG_W,C14ERR,HELIER,DELHER,NEONER,THETA,TRITER,TRITER_FLAG_W
,,,,,,,,,,,DBAR,ITS-90,PSS-78,,PSS-78,,UMOL/KG,,UMOL/KG,,UMOL/KG,,UMOL/KG,,PMOL/KG,,PMOL/KG,,PMOL/KG,,TU,,NMOL/KG,,PERCNT,,/MILLE,,NMOL/KG,,MILLE,,UMOL/KG,,UATM,,UMOL/KG,,,,/MILLE,NMOL/KG,PERCNT,NMOL/KG,ITS-90,TU,
      06MT22_5,   A10,    57,  2,    324,2,19930116,0444,-29.9965, -12.3332, 3151,      9.0,  24.6320,  35.9690,2,  35.9700,2,   -999.0,9,  -999.00,9,  -999.00,9,  -999.00,9, -999.000,9, -999.000,9, -999.000,9, -999.000,9,-999.0000,9,  -999.00,9,   -999.0,9,-999.000,9,  -999.00,9,   -999.0,0,   -999.0,9,   -999.0,9,  -999.00,9,  -999.0,-999.0000,-999.000,-999.000, 24.6301,-999.000,9
      06MT22_5,   A10,    57,  2,    323,2,19930116,0444,-29.9965, -12.3332, 3151,      9.0,  24.6320,  35.9690,2,-999.0000,9,   -999.0,9,  -999.00,9,  -999.00,9,  -999.00,9, -999.000,9, -999.000,9, -999.000,9, -999.000,9,-999.0000,9,  -999.00,9,   -999.0,9,-999.000,9,  -999.00,9,   -999.0,0,   -999.0,9,   -999.0,9,  -999.00,9,  -999.0,-999.0000,-999.000,-999.000, 24.6301,-999.000,9
      06MT22_5,   A10,    57,  2,    320,2,19930116,0444,-29.9965, -12.3332, 3151,      9.0,  24.6320,  35.9690,2,-999.0000,9,    213.1,2,     0.80,2,     0.02,9,     0.14,2, -999.000,9, -999.000,9, -999.000,9, -999.000,9,-999.0000,9,  -999.00,9,   -999.0,9,-999.000,9,  -999.00,9,   -999.0,0,   -999.0,9,   -999.0,9,  -999.00,9,  -999.0,-999.0000,-999.000,-999.000, 24.6301,-999.000,9
      06MT22_5,   A10,    57,  2,    319,2,19930116,0444,-29.9965, -12.3332, 3151,    200.0,  16.5940,  35.6520,2,  35.6560,2,    226.1,2,     1.22,2,     1.78,9,     0.31,2,    2.473,2,    1.339,2,    1.628,2, -999.000,9,-999.0000,9,  -999.00,9,   -999.0,9,-999.000,9,  -999.00,9,   -999.0,0,   -999.0,9,   -999.0,9,  -999.00,9,  -999.0,-999.0000,-999.000,-999.000, 16.5614,-999.000,9
      06MT22_5,   A10,    57,  2,    318,2,19930116,0444,-29.9965, -12.3332, 3151,    298.0,  14.3710,  35.3180,2,-999.0000,9,    214.7,2,     3.03,2,     6.92,9,     0.59,2, -999.000,9, -999.000,9, -999.000,9, -999.000,9,-999.0000,9,  -999.00,9,   -999.0,9,-999.000,9,  -999.00,9,   -999.0,0,   -999.0,9,   -999.0,9,  -999.00,9,  -999.0,-999.0000,-999.000,-999.000, 14.3271,-999.000,9
      06MT22_5,   A10,    57,  2,    317,2,19930116,0444,-29.9965, -12.3332, 3151,    400.0,  12.6670,  35.1320,2,-999.0000,9,    209.8,2,     3.88,2,    10.99,9,     0.81,2,    2.224,2,    1.167,2,    0.930,2, -999.000,9,-999.0000,9,  -999.00,9,   -999.0,9,-999.000,9,  -999.00,9,   -999.0,0,   -999.0,9,   -999.0,9,  -999.00,9,  -999.0,-999.0000,-999.000,-999.000, 12.6126,-999.000,9
      06MT22_5,   A10,    57,  2,    316,2,19930116,0444,-29.9965, -12.3332, 3151,    500.0,  10.6440,  34.8780,2,  34.8800,2,    205.0,2,     6.59,2,    16.54,9,     1.15,2, -999.000,9, -999.000,9, -999.000,9, -999.000,9,-999.0000,9,  -999.00,9,   -999.0,9,-999.000,9,  -999.00,9,   -999.0,0,   -999.0,9,   -999.0,9,  -999.00,9,  -999.0,-999.0000,-999.000,-999.000, 10.5829,-999.000,9
      06MT22_5,   A10,    57,  2,    315,2,19930116,0444,-29.9965, -12.3332, 3151,    698.0,   7.0150,  34.4930,2,-999.0000,9,    206.6,2,    14.00,2,    25.48,9,     1.77,2,    1.547,2,    0.770,2,    1.931,2, -999.000,9,-999.0000,9,  -999.00,9,   -999.0,9,-999.000,9,  -999.00,9,   -999.0,0,   -999.0,9,   -999.0,9,  -999.00,9,  -999.0,-999.0000,-999.000,-999.000,  6.9479,-999.000,9
      06MT22_5,   A10,    57,  2,    314,2,19930116,0444,-29.9965, -12.3332, 3151,    849.0,   5.0390,  34.3590,2,-999.0000,9,    209.5,2,    22.44,2,    30.06,9,     2.09,2, -999.000,9, -999.000,9, -999.000,9, -999.000,9,-999.0000,9,  -999.00,9,   -999.0,9,-999.000,9,  -999.00,9,   -999.0,0,   -999.0,9,   -999.0,9,  -999.00,9,  -999.0,-999.0000,-999.000,-999.000,  4.9692,-999.000,9
      06MT22_5,   A10,    57,  2,    313,2,19930116,0444,-29.9965, -12.3332, 3151,   1000.0,   3.9560,  34.3430,2,  34.3420,2,    206.7,2,    32.10,2,    32.14,9,     2.25,2,    0.707,2,    0.347,2,    1.769,2, -999.000,9,-999.0000,9,  -999.00,9,   -999.0,9,-999.000,9,  -999.00,9,   -999.0,0,   -999.0,9,   -999.0,9,  -999.00,9,  -999.0,-999.0000,-999.000,-999.000,  3.8809,-999.000,9
      06MT22_5,   A10,    57,  2,    312,2,19930116,0444,-29.9965, -12.3332, 3151,   1199.0,   3.2690,  34.4480,2,-999.0000,9,    191.6,2,    46.84,2,    33.92,9,     2.38,2, -999.000,9, -999.000,9, -999.000,9, -999.000,9,-999.0000,9,  -999.00,9,   -999.0,9,-999.000,9,  -999.00,9,   -999.0,0,   -999.0,9,   -999.0,9,  -999.00,9,  -999.0,-999.0000,-999.000,-999.000,  3.1829,-999.000,9
      06MT22_5,   A10,    57,  2,    311,2,19930116,0444,-29.9965, -12.3332, 3151,   1399.0,   3.0180,  34.5780,2,-999.0000,9,    187.3,2,    52.88,2,    33.25,9,     2.30,2,    0.064,2,    0.028,2,    0.417,2, -999.000,9,-999.0000,9,  -999.00,9,   -999.0,9,-999.000,9,  -999.00,9,   -999.0,0,   -999.0,9,   -999.0,9,  -999.00,9,  -999.0,-999.0000,-999.000,-999.000,  2.9181,-999.000,9
      06MT22_5,   A10,    57,  2,    310,2,19930116,0444,-29.9965, -12.3332, 3151,   1600.0,   2.8990,  34.6750,2,  34.6750,2,    195.6,2,    53.08,2,    31.42,9,     2.13,2, -999.000,9, -999.000,9, -999.000,9, -999.000,9,-999.0000,9,  -999.00,9,   -999.0,9,-999.000,9,  -999.00,9,   -999.0,0,   -999.0,9,   -999.0,9,  -999.00,9,  -999.0,-999.0000,-999.000,-999.000,  2.7837,-999.000,9
      06MT22_5,   A10,    57,  2,    309,2,19930116,0444,-29.9965, -12.3332, 3151,   1800.0,   2.7880,  34.7380,2,-999.0000,9,   -999.0,9,  -999.00,9,  -999.00,9,  -999.00,9,    0.023,2,    0.008,2,    0.217,3, -999.000,9,-999.0000,9,  -999.00,9,   -999.0,9,-999.000,9,  -999.00,9,   -999.0,0,   -999.0,9,   -999.0,9,  -999.00,9,  -999.0,-999.0000,-999.000,-999.000,  2.6566,-999.000,9
      06MT22_5,   A10,    57,  2,    308,2,19930116,0444,-29.9965, -12.3332, 3151,   2000.0,   2.6990,  34.7880,2,-999.0000,9,    214.8,2,    51.00,2,    28.12,9,     1.88,2,    0.009,2,    0.000,2,    0.156,3, -999.000,9,-999.0000,9,  -999.00,9,   -999.0,9,-999.000,9,  -999.00,9,   -999.0,0,   -999.0,9,   -999.0,9,  -999.00,9,  -999.0,-999.0000,-999.000,-999.000,  2.5513,-999.000,9
      06MT22_5,   A10,    57,  2,    307,2,19930116,0444,-29.9965, -12.3332, 3151,   2251.0,   2.5960,  34.8300,2,  34.8280,2,    226.3,2,    49.24,2,    26.42,9,     1.76,2, -999.000,9, -999.000,9, -999.000,9, -999.000,9,-999.0000,9,  -999.00,9,   -999.0,9,-999.000,9,  -999.00,9,   -999.0,0,   -999.0,9,   -999.0,9,  -999.00,9,  -999.0,-999.0000,-999.000,-999.000,  2.4273,-999.000,9
      06MT22_5,   A10,    57,  2,    306,2,19930116,0444,-29.9965, -12.3332, 3151,   2502.0,   2.5290,  34.8520,2,-999.0000,9,    235.2,2,    47.90,2,    25.36,9,     1.67,2, -999.000,9, -999.000,9, -999.000,9, -999.000,9,-999.0000,9,  -999.00,9,   -999.0,9,-999.000,9,  -999.00,9,   -999.0,0,   -999.0,9,   -999.0,9,  -999.00,9,  -999.0,-999.0000,-999.000,-999.000,  2.3379,-999.000,9
      06MT22_5,   A10,    57,  2,    305,2,19930116,0444,-29.9965, -12.3332, 3151,   2752.0,   2.4820,  34.8590,2,-999.0000,9,    237.5,2,    48.20,2,    25.00,9,     1.65,2,   -0.002,2,   -0.001,2,    0.084,3, -999.000,9,-999.0000,9,  -999.00,9,   -999.0,9,-999.000,9,  -999.00,9,   -999.0,0,   -999.0,9,   -999.0,9,  -999.00,9,  -999.0,-999.0000,-999.000,-999.000,  2.2676,-999.000,9
      06MT22_5,   A10,    57,  2,    304,2,19930116,0444,-29.9965, -12.3332, 3151,   3000.0,   2.4440,  34.8610,2,  34.8600,2,    238.8,2,    48.92,2,    24.86,9,     1.64,2,   -0.001,2,    0.000,2,    0.061,3, -999.000,9,-999.0000,9,  -999.00,9,   -999.0,9,-999.000,9,  -999.00,9,   -999.0,0,   -999.0,9,   -999.0,9,  -999.00,9,  -999.0,-999.0000,-999.000,-999.000,  2.2056,-999.000,9
      06MT22_5,   A10,    57,  2,    303,2,19930116,0444,-29.9965, -12.3332, 3151,   3037.0,   2.4430,  34.8610,2,  34.8600,2,    238.8,2,    49.13,2,    24.87,9,     1.65,2, -999.000,9, -999.000,9, -999.000,9, -999.000,9,-999.0000,9,  -999.00,9,   -999.0,9,-999.000,9,  -999.00,9,   -999.0,0,   -999.0,9,   -999.0,9,  -999.00,9,  -999.0,-999.0000,-999.000,-999.000,  2.2009,-999.000,9
      06MT22_5,   A10,    57,  2,    302,2,19930116,0444,-29.9965, -12.3332, 3151,   3118.0,   2.4410,  34.8620,2,  34.8610,2,    239.4,2,    49.38,2,    24.89,9,     1.65,2, -999.000,9, -999.000,9, -999.000,9, -999.000,9,-999.0000,9,  -999.00,9,   -999.0,9,-999.000,9,  -999.00,9,   -999.0,0,   -999.0,9,   -999.0,9,  -999.00,9,  -999.0,-999.0000,-999.000,-999.000,  2.1906,-999.000,9
      06MT22_5,   A10,    57,  2,    301,2,19930116,0444,-29.9965, -12.3332, 3151,   3118.0,   2.4420,  34.8610,2,-999.0000,9,   -999.0,9,  -999.00,9,  -999.00,9,  -999.00,9,    0.001,2,   -0.001,2,    0.068,3, -999.000,9,-999.0000,9,  -999.00,9,   -999.0,9,-999.000,9,  -999.00,9,   -999.0,0,   -999.0,9,   -999.0,9,  -999.00,9,  -999.0,-999.0000,-999.000,-999.000,  2.1855,-999.000,9
      06MT22_5,   A10,    58,  1,    217,2,19930116,1115,-30.0023, -11.6763, 3434,     12.0,  23.7810,  35.9560,2,  35.9560,2,    220.4,2,     1.02,2,     0.09,9,     0.19,2, -999.000,9, -999.000,9, -999.000,9, -999.000,9,-999.0000,9,  -999.00,9,   -999.0,9,-999.000,9,  -999.00,9,   -999.0,9,   -999.0,9,   -999.0,9,  -999.00,9,  -999.0,-999.0000,-999.000,-999.000, 23.7785,-999.000,9
      06MT22_5,   A10,    58,  1,    208,2,19930116,1115,-30.0023, -11.6763, 3434,     12.0,  23.7810,  35.9560,2,-999.0000,9,   -999.0,9,  -999.00,9,  -999.00,9,  -999.00,9,    2.024,2,    1.139,2,    2.803,2,    0.955,2,   1.6869,2,    -1.24,2,   -999.0,9,   6.793,2,  -999.00,9,   2058.7,2,   -999.0,9,   -999.0,9,  -999.00,9,  -999.0,  0.0059,   0.250,   0.024, 23.7785,   0.029,9
      06MT22_5,   A10,    58,  1,    207,2,19930116,1115,-30.0023, -11.6763, 3434,     31.0,  22.6020,  35.9760,2,-999.0000,9,    231.8,2,     1.19,2,     0.11,9,     0.19,2,    2.237,2,    1.254,2,    2.821,2,    0.903,2,   1.6985,2,    -1.23,2,   -999.0,9,   6.912,2,  -999.00,9,   2062.9,2,   -999.0,9,   -999.0,9,  -999.00,9,  -999.0,  0.0059,   0.250,   0.024, 22.5957,   0.022,9
      06MT22_5,   A10,    58,  1,    206,2,19930116,1115,-30.0023, -11.6763, 3434,     51.0,  19.7660,  35.9900,2,-999.0000,9,    243.6,2,     1.16,2,     0.00,9,     0.21,2,    2.392,2,    1.316,2,    2.773,2,    0.940,2,   1.7119,2,    -1.25,2,   -999.0,9,   7.045,2,  -999.00,9,   2068.3,2,   -999.0,9,   -999.0,9,  -999.00,9,  -999.0,  0.0060,   0.250,   0.025, 19.7566,   0.061,9
      06MT22_5,   A10,    58,  1,    205,2,19930116,1115,-30.0023, -11.6763, 3434,     72.0,  19.0190,  35.9380,2,  35.9360,2,    244.8,2,     1.24,2,     0.07,9,     0.21,2,    2.432,2,    1.338,2,    2.722,2,    0.869,2,   1.7132,2,    -1.13,2,   -999.0,9,   7.048,2,  -999.00,9,   2063.8,2,   -999.0,9,   -999.0,9,  -999.00,9,  -999.0,  0.0060,   0.250,   0.025, 19.0061,   0.028,9
      06MT22_5,   A10,    58,  1,    204,2,19930116,1115,-30.0023, -11.6763, 3434,    103.0,  18.2040,  35.9100,2,-999.0000,9,    240.7,2,     1.40,2,     0.05,9,     0.20,2,    2.422,2,    1.306,2,    2.482,2,    0.946,2,   1.7543,3,    -1.65,2,   -999.0,9,   7.332,3,  -999.00,9,   2064.2,2,   -999.0,9,   -999.0,9,  -999.00,9,  -999.0,  0.0061,   0.250,   0.026, 18.1861,   0.027,9
      06MT22_5,   A10,    58,  1,    203,2,19930116,1115,-30.0023, -11.6763, 3434,    150.0,  16.9570,  35.7180,2,  35.7170,2,    235.3,2,     1.47,2,     0.19,9,     0.25,2, -999.000,9, -999.000,9, -999.000,9,    0.879,2,   1.7195,2,    -1.93,2,   -999.0,9,   7.103,2,  -999.00,9,   2072.1,2,   -999.0,9,   -999.0,9,  -999.00,9,  -999.0,  0.0060,   0.250,   0.025, 16.9322,   0.022,9
      06MT22_5,   A10,    58,  1,    202,2,19930116,1115,-30.0023, -11.6763, 3434,    202.0,  15.6640,  35.4920,2,-999.0000,9,    226.1,2,     1.91,2,     2.40,9,     0.33,2,    2.415,2,    1.273,2,    1.674,2,    0.838,3,   1.7262,2,    -1.26,2,   -999.0,9,   7.156,2,  -999.00,9,   2077.9,2,   -999.0,9,   -999.0,9,  -999.00,9,  -999.0,  0.0060,   0.250,   0.025, 15.6324,   0.366,9
      06MT22_5,   A10,    58,  1,    201,2,19930116,1115,-30.0023, -11.6763, 3434,    302.0,  13.3270,  35.1810,2,  35.1870,2,    211.3,2,     3.83,2,     8.93,9,     0.68,2,    2.443,2,    1.265,2,    0.972,2,    0.782,2,   1.7386,2,     0.20,2,   -999.0,9,   7.376,7,  -999.00,9,   2101.1,2,   -999.0,9,   -999.0,9,  -999.00,9,  -999.0,  0.0061,   0.250,   0.026, 13.2845,   0.023,9