BOTTLE,20030417WHPSIOSA
EXPOCODE,SECT_ID,STNNBR,CASTNO,BTLNBR,BTLNBR_FLAG_W,DATE,TIME,LATITUDE,LONGITUDE,DEPTH,CTDPRS,CTDTMP,CTDSAL,CTDSAL_FLAG_W,SALNTY,SALNTY_FLAG_W,OXYGEN,OXYGEN_FLAG_W,SILCAT,SILCAT_FLAG_W,NO2+NO3,NO2+NO3_FLAG_W,PHSPHT,PHSPHT_FLAG_W,CFC-11,CFC-11_FLAG_W,CFC-12,CFC-12_FLAG_W,CCL4,CCL4_FLAG_W,TRITUM,TRITUM_FLAG_W,HELIUM,HELIUM_FLAG_W,DELHE3,DELHE3_FLAG_W,DELC14,DELC14_FLAG_W,NEON,NEON_FLAG_W,O18O16,O18O16_FLAG_W,TCARBN,TCARBN_FLAG_W,PCO2,PCO2_FLAG_W,ALKALI,ALKALI_FLAG_W,PH,PH_FLAG_W,C14ERR,HELIER,DELHER,NEONER,THETA,TRITER,TRITER_FLAG_W
,,,,,,,,,,,DBAR,ITS-90,PSS-78,,PSS-78,,UMOL/KG,,UMOL/KG,,UMOL/KG,,UMOL/KG,,PMOL/KG,,PMOL/KG,,PMOL/KG,,TU,,NMOL/KG,,PERCNT,,/MILLE,,NMOL/KG,,MILLE,,UMOL/KG,,UATM,,UMOL/KG,,,,/MILLE,NMOL/KG,PERCNT,NMOL/KG,ITS-90,TU,
      06MT22_5,   A10,    69,  2,    324,2,19930119,1719,-30.0100,  -3.1713, 4401,      9.0,  24.4160,  35.9020,2,  35.9140,2,   -999.0,9,  -999.00,9,  -999.00,9,  -999.00,9, -999.000,9, -999.000,9, -999.000,9, -999.000,9,-999.0000,9,  -999.00,9,   -999.0,9,-999.000,9,  -999.00,9,   -999.0,0,   -999.0,9,   -999.0,9,  -999.00,9,  -999.0,-999.0000,-999.000,-999.000, 24.4141,-999.000,9
      06MT22_5,   A10,    69,  2,    321,2,19930119,1719,-30.0100,  -3.1713, 4401,    599.0,   9.3890,  34.7180,2,-999.0000,9,   -999.0,9,  -999.00,9,  -999.00,9,  -999.00,9, -999.000,9, -999.000,9, -999.000,9, -999.000,9,-999.0000,9,  -999.00,9,   -999.0,9,-999.000,9,  -999.00,9,   -999.0,0,   -999.0,9,   -999.0,9,  -999.00,9,  -999.0,-999.0000,-999.000,-999.000,  9.3213,-999.000,9
      06MT22_5,   A10,    69,  2,    320,2,19930119,1719,-30.0100,  -3.1713, 4401,    699.0,   7.2770,  34.5070,2,-999.0000,9,    211.8,2,    12.99,2,    24.03,9,     1.67,2, -999.000,9, -999.000,9, -999.000,9, -999.000,9,-999.0000,9,  -999.00,9,   -999.0,9,-999.000,9,  -999.00,9,   -999.0,0,   -999.0,9,   -999.0,9,  -999.00,9,  -999.0,-999.0000,-999.000,-999.000,  7.2084,-999.000,9
      06MT22_5,   A10,    69,  2,    319,2,19930119,1719,-30.0100,  -3.1713, 4401,    848.0,   5.2250,  34.3630,2,  34.3620,2,    212.5,2,    21.50,2,    28.80,9,     2.01,2, -999.000,9, -999.000,9, -999.000,9, -999.000,9,-999.0000,9,  -999.00,9,   -999.0,9,-999.000,9,  -999.00,9,   -999.0,0,   -999.0,9,   -999.0,9,  -999.00,9,  -999.0,-999.0000,-999.000,-999.000,  5.1540,-999.000,9
      06MT22_5,   A10,    69,  2,    318,2,19930119,1719,-30.0100,  -3.1713, 4401,    999.0,   4.0070,  34.3570,2,-999.0000,9,    203.8,2,    34.10,2,    32.00,9,     2.27,2, -999.000,9, -999.000,9, -999.000,9, -999.000,9,-999.0000,9,  -999.00,9,   -999.0,9,-999.000,9,  -999.00,9,   -999.0,0,   -999.0,9,   -999.0,9,  -999.00,9,  -999.0,-999.0000,-999.000,-999.000,  3.9312,-999.000,9
      06MT22_5,   A10,    69,  2,    317,2,19930119,1719,-30.0100,  -3.1713, 4401,   1199.0,   3.3820,  34.4710,2,-999.0000,9,    184.7,2,    47.79,2,    33.61,9,     2.37,2, -999.000,9, -999.000,9, -999.000,9, -999.000,9,-999.0000,9,  -999.00,9,   -999.0,9,-999.000,9,  -999.00,9,   -999.0,0,   -999.0,9,   -999.0,9,  -999.00,9,  -999.0,-999.0000,-999.000,-999.000,  3.2950,-999.000,9
      06MT22_5,   A10,    69,  2,    316,2,19930119,1719,-30.0100,  -3.1713, 4401,   1398.0,   3.0150,  34.5810,2,  34.5860,2,    185.5,2,    54.93,2,    32.43,9,     2.32,2, -999.000,9, -999.000,9, -999.000,9, -999.000,9,-999.0000,9,  -999.00,9,   -999.0,9,-999.000,9,  -999.00,9,   -999.0,0,   -999.0,9,   -999.0,9,  -999.00,9,  -999.0,-999.0000,-999.000,-999.000,  2.9154,-999.000,9
      06MT22_5,   A10,    69,  2,    315,2,19930119,1719,-30.0100,  -3.1713, 4401,   1599.0,   2.9580,  34.6950,2,-999.0000,9,    194.1,2,    53.20,2,    30.60,9,     2.12,2, -999.000,9, -999.000,9, -999.000,9, -999.000,9,-999.0000,9,  -999.00,9,   -999.0,9,-999.000,9,  -999.00,9,   -999.0,0,   -999.0,9,   -999.0,9,  -999.00,9,  -999.0,-999.0000,-999.000,-999.000,  2.8418,-999.000,9
      06MT22_5,   A10,    69,  2,    314,2,19930119,1719,-30.0100,  -3.1713, 4401,   1799.0,   2.8100,  34.7440,2,-999.0000,9,    202.2,2,    53.93,2,    29.26,9,     2.04,2, -999.000,9, -999.000,9, -999.000,9, -999.000,9,-999.0000,9,  -999.00,9,   -999.0,9,-999.000,9,  -999.00,9,   -999.0,0,   -999.0,9,   -999.0,9,  -999.00,9,  -999.0,-999.0000,-999.000,-999.000,  2.6785,-999.000,9
      06MT22_5,   A10,    69,  2,    313,2,19930119,1719,-30.0100,  -3.1713, 4401,   1999.0,   2.7150,  34.8000,2,  34.7990,2,    214.8,2,    51.94,2,    27.80,9,     1.87,2, -999.000,9, -999.000,9, -999.000,9, -999.000,9,-999.0000,9,  -999.00,9,   -999.0,9,-999.000,9,  -999.00,9,   -999.0,0,   -999.0,9,   -999.0,9,  -999.00,9,  -999.0,-999.0000,-999.000,-999.000,  2.5673,-999.000,9
      06MT22_5,   A10,    69,  2,    312,2,19930119,1719,-30.0100,  -3.1713, 4401,   2250.0,   2.5580,  34.8280,2,-999.0000,9,    224.8,2,    52.45,2,    26.55,9,     1.76,2, -999.000,9, -999.000,9, -999.000,9, -999.000,9,-999.0000,9,  -999.00,9,   -999.0,9,-999.000,9,  -999.00,9,   -999.0,0,   -999.0,9,   -999.0,9,  -999.00,9,  -999.0,-999.0000,-999.000,-999.000,  2.3899,-999.000,9
      06MT22_5,   A10,    69,  2,    311,2,19930119,1719,-30.0100,  -3.1713, 4401,   2500.0,   2.4530,  34.8460,2,-999.0000,9,    229.8,2,    52.10,2,    25.32,9,     1.70,2, -999.000,9, -999.000,9, -999.000,9, -999.000,9,-999.0000,9,  -999.00,9,   -999.0,9,-999.000,9,  -999.00,9,   -999.0,0,   -999.0,9,   -999.0,9,  -999.00,9,  -999.0,-999.0000,-999.000,-999.000,  2.2635,-999.000,9
      06MT22_5,   A10,    69,  2,    310,2,19930119,1719,-30.0100,  -3.1713, 4401,   2752.0,   2.3990,  34.8600,2,  34.8600,2,    235.1,2,    50.96,2,    24.53,9,     1.69,2, -999.000,9, -999.000,9, -999.000,9, -999.000,9,-999.0000,9,  -999.00,9,   -999.0,9,-999.000,9,  -999.00,9,   -999.0,0,   -999.0,9,   -999.0,9,  -999.00,9,  -999.0,-999.0000,-999.000,-999.000,  2.1863,-999.000,9
      06MT22_5,   A10,    69,  2,    309,2,19930119,1719,-30.0100,  -3.1713, 4401,   3002.0,   2.3740,  34.8690,2,-999.0000,9,    238.2,2,    50.34,2,    24.12,9,     1.65,2, -999.000,9, -999.000,9, -999.000,9, -999.000,9,-999.0000,9,  -999.00,9,   -999.0,9,-999.000,9,  -999.00,9,   -999.0,0,   -999.0,9,   -999.0,9,  -999.00,9,  -999.0,-999.0000,-999.000,-999.000,  2.1369,-999.000,9
      06MT22_5,   A10,    69,  2,    308,2,19930119,1719,-30.0100,  -3.1713, 4401,   3252.0,   2.3610,  34.8760,2,-999.0000,9,    238.1,2,    50.16,2,    24.07,9,     1.62,2, -999.000,9, -999.000,9, -999.000,9, -999.000,9,-999.0000,9,  -999.00,9,   -999.0,9,-999.000,9,  -999.00,9,   -999.0,0,   -999.0,9,   -999.0,9,  -999.00,9,  -999.0,-999.0000,-999.000,-999.000,  2.0985,-999.000,9
      06MT22_5,   A10,    69,  2,    307,2,19930119,1719,-30.0100,  -3.1713, 4401,   3503.0,   2.3530,  34.8800,2,  34.8800,2,    236.9,2,    50.81,2,    24.15,9,     1.65,2, -999.000,9, -999.000,9, -999.000,9, -999.000,9,-999.0000,9,  -999.00,9,   -999.0,9,-999.000,9,  -999.00,9,   -999.0,0,   -999.0,9,   -999.0,9,  -999.00,9,  -999.0,-999.0000,-999.000,-999.000,  2.0641,-999.000,9
      06MT22_5,   A10,    69,  2,    306,2,19930119,1719,-30.0100,  -3.1713, 4401,   3753.0,   2.3590,  34.8820,2,-999.0000,9,    236.0,2,    51.50,2,    24.04,9,     1.64,2, -999.000,9, -999.000,9, -999.000,9, -999.000,9,-999.0000,9,  -999.00,9,   -999.0,9,-999.000,9,  -999.00,9,   -999.0,0,   -999.0,9,   -999.0,9,  -999.00,9,  -999.0,-999.0000,-999.000,-999.000,  2.0426,-999.000,9
      06MT22_5,   A10,    69,  2,    305,2,19930119,1719,-30.0100,  -3.1713, 4401,   4004.0,   2.3660,  34.8820,2,-999.0000,9,    235.6,2,    52.18,2,    24.10,9,     1.65,2, -999.000,9, -999.000,9, -999.000,9, -999.000,9,-999.0000,9,  -999.00,9,   -999.0,9,-999.000,9,  -999.00,9,   -999.0,0,   -999.0,9,   -999.0,9,  -999.00,9,  -999.0,-999.0000,-999.000,-999.000,  2.0211,-999.000,9
      06MT22_5,   A10,    69,  2,    304,2,19930119,1719,-30.0100,  -3.1713, 4401,   4259.0,   2.3830,  34.8810,2,  34.8840,2,    238.9,2,    52.74,2,    24.15,9,     1.62,2, -999.000,9, -999.000,9, -999.000,9, -999.000,9,-999.0000,9,  -999.00,9,   -999.0,9,-999.000,9,  -999.00,9,   -999.0,0,   -999.0,9,   -999.0,9,  -999.00,9,  -999.0,-999.0000,-999.000,-999.000,  2.0081,-999.000,9
      06MT22_5,   A10,    69,  2,    303,2,19930119,1719,-30.0100,  -3.1713, 4401,   4286.0,   2.3810,  34.8810,2,-999.0000,9,    236.7,2,    53.02,2,    24.32,9,     1.66,2,    0.004,2,    0.001,2,    0.014,2, -999.000,9,-999.0000,9,  -999.00,9,   -999.0,9,-999.000,9,  -999.00,9,   -999.0,0,   -999.0,9,   -999.0,9,  -999.00,9,  -999.0,-999.0000,-999.000,-999.000,  2.0030,-999.000,9
      06MT22_5,   A10,    69,  2,    301,2,19930119,1719,-30.0100,  -3.1713, 4401,   4363.0,   2.3740,  34.8780,2,-999.0000,9,    232.2,2,    53.80,2,    24.54,9,     1.62,2,    0.005,2,    0.001,2,    0.010,2, -999.000,9,-999.0000,9,  -999.00,9,   -999.0,9,-999.000,9,  -999.00,9,   -999.0,0,   -999.0,9,   -999.0,9,  -999.00,9,  -999.0,-999.0000,-999.000,-999.000,  1.9799,-999.000,9
      06MT22_5,   A10,    69,  2,    302,2,19930119,1719,-30.0100,  -3.1713, 4401,   4366.0,   2.3750,  34.8780,2,  34.8820,2,   -999.0,9,  -999.00,9,  -999.00,9,  -999.00,9,    0.004,2,    0.003,2,    0.254,4, -999.000,9,-999.0000,9,  -999.00,9,   -999.0,9,-999.000,9,  -999.00,9,   -999.0,0,   -999.0,9,   -999.0,9,  -999.00,9,  -999.0,-999.0000,-999.000,-999.000,  1.9877,-999.000,9
      06MT22_5,   A10,    70,  1,    217,2,19930120,0015,-30.0000,  -2.3617, 4412,     11.0,  24.5900,  35.8980,2,-999.0000,9,    218.4,2,     0.94,2,     0.01,9,     0.25,2, -999.000,9, -999.000,9, -999.000,9, -999.000,9,-999.0000,9,  -999.00,9,   -999.0,9,-999.000,9,  -999.00,9,   -999.0,0,   -999.0,9,   -999.0,9,  -999.00,9,  -999.0,-999.0000,-999.000,-999.000, 24.5876,-999.000,9
      06MT22_5,   A10,    70,  1,    211,2,19930120,0015,-30.0000,  -2.3617, 4412,     12.0,  24.5720,  35.8960,2,-999.0000,9,   -999.0,9,  -999.00,9,  -999.00,9,  -999.00,9, -999.000,9, -999.000,9, -999.000,9, -999.000,9,-999.0000,9,  -999.00,9,   -999.0,9,-999.000,9,  -999.00,9,   2057.8,2,   -999.0,9,   -999.0,9,  -999.00,9,  -999.0,-999.0000,-999.000,-999.000, 24.5694,-999.000,9
      06MT22_5,   A10,    70,  1,    210,2,19930120,0015,-30.0000,  -2.3617, 4412,     31.0,  20.0880,  35.6790,2,-999.0000,9,    250.3,2,     0.84,2,     0.03,9,     0.21,2, -999.000,9, -999.000,9, -999.000,9,    0.910,2,   1.7065,5,    -1.18,3,   -999.0,9,   7.009,5,  -999.00,9,   2051.8,2,   -999.0,9,   -999.0,9,  -999.00,9,  -999.0,  0.0068,   0.250,   0.028, 20.0823,   0.022,9
      06MT22_5,   A10,    70,  1,    209,2,19930120,0015,-30.0000,  -2.3617, 4412,     52.0,  17.9930,  35.6930,2,-999.0000,9,    255.2,2,     1.07,2,     0.08,9,     0.22,2,    2.595,2,    1.379,2,    2.547,2,    0.933,2,-999.0000,1,  -999.00,1,     97.9,2,-999.000,1,  -999.00,9,   2050.5,2,   -999.0,9,   -999.0,9,  -999.00,9,     7.1,-999.0000,-999.000,-999.000, 17.9841,   0.022,9
      06MT22_5,   A10,    70,  1,    208,2,19930120,0015,-30.0000,  -2.3617, 4412,     72.0,  16.6620,  35.5890,2,-999.0000,9,    256.4,2,     1.07,2,     0.02,9,     0.25,2,    2.636,2,    1.409,2,    2.502,2,    0.918,2,   1.9814,4,    -0.94,3,   -999.0,9,   7.902,4,  -999.00,9,   2052.6,2,   -999.0,9,   -999.0,9,  -999.00,9,  -999.0,  0.0069,   0.250,   0.028, 16.6503,   0.022,9
      06MT22_5,   A10,    70,  1,    207,2,19930120,0015,-30.0000,  -2.3617, 4412,    102.0,  16.0640,  35.5580,2,-999.0000,9,    245.9,2,     1.68,2,     0.15,9,     0.30,2,    2.661,2,    1.418,2,    2.128,2,    0.910,2,   1.7449,2,    -2.30,2,   -999.0,9,   7.210,2,  -999.00,9,   2062.3,2,   -999.0,9,   -999.0,9,  -999.00,9,  -999.0,  0.0061,   0.250,   0.025, 16.0478,   0.023,9
      06MT22_5,   A10,    70,  1,    206,2,19930120,0015,-30.0000,  -2.3617, 4412,    152.0,  15.7090,  35.5300,2,-999.0000,9,    234.5,2,     2.00,2,     2.09,9,     0.33,2,    2.670,2,    1.413,2,    1.492,2,    0.924,2,-999.0000,1,  -999.00,1,   -999.0,9,-999.000,1,  -999.00,9,   2070.7,2,   -999.0,9,   -999.0,9,  -999.00,9,  -999.0,-999.0000,-999.000,-999.000, 15.6852,   0.023,9
      06MT22_5,   A10,    70,  1,    205,2,19930120,0015,-30.0000,  -2.3617, 4412,    202.0,  15.2260,  35.4320,2,-999.0000,9,    236.5,2,     1.85,2,     2.77,9,     0.41,2,    2.678,2,    1.403,2,    1.475,2,    0.873,2,-999.0000,1,  -999.00,1,     81.0,2,-999.000,1,  -999.00,9,   2073.0,2,   -999.0,9,   -999.0,9,  -999.00,9,     4.9,-999.0000,-999.000,-999.000, 15.1950,   0.021,9
      06MT22_5,   A10,    70,  1,    204,2,19930120,0015,-30.0000,  -2.3617, 4412,    252.0,  13.9720,  35.2310,2,  35.2340,2,    182.4,2,     3.06,2,     6.35,9,     0.56,2,    2.649,2,    1.387,2,    1.172,2,    0.816,2,   1.7547,2,    -0.07,2,   -999.0,9,   7.278,2,  -999.00,9,   2085.5,2,   -999.0,9,   -999.0,9,  -999.00,9,  -999.0,  0.0061,   0.250,   0.025, 13.9355,   0.021,9
      06MT22_5,   A10,    70,  1,    203,2,19930120,0015,-30.0000,  -2.3617, 4412,    302.0,  13.2750,  35.1810,2,-999.0000,9,    223.1,2,     3.72,2,     8.36,9,     0.73,2,    2.622,2,    1.362,2,    1.034,2,    0.807,2,   1.7494,5,    -0.38,3,     81.9,2,   7.307,5,  -999.00,9,   2093.2,2,   -999.0,9,   -999.0,9,  -999.00,9,     6.1,  0.0070,   0.250,   0.029, 13.2328,   0.020,9
      06MT22_5,   A10,    70,  1,    202,2,19930120,0015,-30.0000,  -2.3617, 4412,    401.0,  11.9710,  35.0260,2,-999.0000,9,    214.1,2,     4.92,2,    12.08,9,     0.92,2,    2.319,2,    1.189,2,    1.032,2,    0.678,2,-999.0000,1,  -999.00,1,   -999.0,9,-999.000,1,  -999.00,9,   2111.8,2,   -999.0,9,   -999.0,9,  -999.00,9,  -999.0,-999.0000,-999.000,-999.000, 11.9184,   0.017,9
      06MT22_5,   A10,    70,  1,    201,2,19930120,0015,-30.0000,  -2.3617, 4412,    501.0,  10.4560,  34.8410,2,  34.8460,2,    210.7,2,     6.77,2,    15.95,9,     1.17,2,    2.097,2,    1.080,2,    1.197,2, -999.000,9,   1.7525,2,     0.76,2,     33.5,2,   7.419,2,  -999.00,9,   2123.6,2,   -999.0,9,   -999.0,9,  -999.00,9,     5.8,  0.0061,   0.250,   0.026, 10.3954,-999.000,9