BOTTLE,20030417WHPSIOSA
EXPOCODE,SECT_ID,STNNBR,CASTNO,BTLNBR,BTLNBR_FLAG_W,DATE,TIME,LATITUDE,LONGITUDE,DEPTH,CTDPRS,CTDTMP,CTDSAL,CTDSAL_FLAG_W,SALNTY,SALNTY_FLAG_W,OXYGEN,OXYGEN_FLAG_W,SILCAT,SILCAT_FLAG_W,NO2+NO3,NO2+NO3_FLAG_W,PHSPHT,PHSPHT_FLAG_W,CFC-11,CFC-11_FLAG_W,CFC-12,CFC-12_FLAG_W,CCL4,CCL4_FLAG_W,TRITUM,TRITUM_FLAG_W,HELIUM,HELIUM_FLAG_W,DELHE3,DELHE3_FLAG_W,DELC14,DELC14_FLAG_W,NEON,NEON_FLAG_W,O18O16,O18O16_FLAG_W,TCARBN,TCARBN_FLAG_W,PCO2,PCO2_FLAG_W,ALKALI,ALKALI_FLAG_W,PH,PH_FLAG_W,C14ERR,HELIER,DELHER,NEONER,THETA,TRITER,TRITER_FLAG_W
,,,,,,,,,,,DBAR,ITS-90,PSS-78,,PSS-78,,UMOL/KG,,UMOL/KG,,UMOL/KG,,UMOL/KG,,PMOL/KG,,PMOL/KG,,PMOL/KG,,TU,,NMOL/KG,,PERCNT,,/MILLE,,NMOL/KG,,MILLE,,UMOL/KG,,UATM,,UMOL/KG,,,,/MILLE,NMOL/KG,PERCNT,NMOL/KG,ITS-90,TU,
      06MT22_5,   A10,    53,  1,    217,2,19930115,0431,-30.0000, -15.0267, 3818,     12.0,  24.1810,  35.9440,2,  35.9420,2,    217.2,2,     0.59,2,     0.12,9,     0.10,2, -999.000,9, -999.000,9, -999.000,9, -999.000,9,-999.0000,9,  -999.00,9,   -999.0,9,-999.000,9,  -999.00,9,   -999.0,0,   -999.0,9,   -999.0,9,  -999.00,9,  -999.0,-999.0000,-999.000,-999.000, 24.1784,-999.000,9
      06MT22_5,   A10,    53,  1,    209,2,19930115,0431,-30.0000, -15.0267, 3818,     12.0,  24.1690,  35.9430,2,  35.9410,2,   -999.0,9,  -999.00,9,  -999.00,9,  -999.00,9, -999.000,9, -999.000,9, -999.000,9, -999.000,9,-999.0000,9,  -999.00,9,   -999.0,9,-999.000,9,  -999.00,9,   -999.0,0,   -999.0,9,   -999.0,9,  -999.00,9,  -999.0,-999.0000,-999.000,-999.000, 24.1665,-999.000,9
      06MT22_5,   A10,    53,  1,    208,2,19930115,0431,-30.0000, -15.0267, 3818,     32.0,  22.8300,  35.8910,2,-999.0000,9,    223.9,2,     0.68,2,     0.07,9,     0.11,2, -999.000,9, -999.000,9, -999.000,9, -999.000,9,-999.0000,9,  -999.00,9,   -999.0,9,-999.000,9,  -999.00,9,   -999.0,0,   -999.0,9,   -999.0,9,  -999.00,9,  -999.0,-999.0000,-999.000,-999.000, 22.8235,-999.000,9
      06MT22_5,   A10,    53,  1,    207,2,19930115,0431,-30.0000, -15.0267, 3818,     52.0,  19.8340,  35.7920,2,-999.0000,9,    243.5,2,     0.55,2,     0.09,9,     0.13,2, -999.000,9, -999.000,9, -999.000,9, -999.000,9,-999.0000,9,  -999.00,9,   -999.0,9,-999.000,9,  -999.00,9,   -999.0,0,   -999.0,9,   -999.0,9,  -999.00,9,  -999.0,-999.0000,-999.000,-999.000, 19.8244,-999.000,9
      06MT22_5,   A10,    53,  1,    206,2,19930115,0431,-30.0000, -15.0267, 3818,     72.0,  18.6740,  35.8620,2,  35.8590,2,    244.7,2,     0.73,2,     0.02,9,     0.11,2, -999.000,9, -999.000,9, -999.000,9, -999.000,9,-999.0000,9,  -999.00,9,   -999.0,9,-999.000,9,  -999.00,9,   -999.0,0,   -999.0,9,   -999.0,9,  -999.00,9,  -999.0,-999.0000,-999.000,-999.000, 18.6613,-999.000,9
      06MT22_5,   A10,    53,  1,    205,2,19930115,0431,-30.0000, -15.0267, 3818,    102.0,  17.3220,  35.7280,2,-999.0000,9,    240.2,2,     0.63,2,     0.05,9,     0.14,2, -999.000,9, -999.000,9, -999.000,9, -999.000,9,-999.0000,9,  -999.00,9,   -999.0,9,-999.000,9,  -999.00,9,   -999.0,0,   -999.0,9,   -999.0,9,  -999.00,9,  -999.0,-999.0000,-999.000,-999.000, 17.3049,-999.000,9
      06MT22_5,   A10,    53,  1,    204,2,19930115,0431,-30.0000, -15.0267, 3818,    151.0,  15.7060,  35.4760,2,  35.4740,2,    247.6,2,     1.28,2,     2.12,9,     0.28,2, -999.000,9, -999.000,9, -999.000,9, -999.000,9,-999.0000,9,  -999.00,9,   -999.0,9,-999.000,9,  -999.00,9,   -999.0,0,   -999.0,9,   -999.0,9,  -999.00,9,  -999.0,-999.0000,-999.000,-999.000, 15.6823,-999.000,9
      06MT22_5,   A10,    53,  1,    203,2,19930115,0431,-30.0000, -15.0267, 3818,    202.0,  14.6170,  35.3500,2,-999.0000,9,    212.3,2,     2.47,2,     6.04,9,     0.52,2, -999.000,9, -999.000,9, -999.000,9, -999.000,9,-999.0000,9,  -999.00,9,   -999.0,9,-999.000,9,  -999.00,9,   -999.0,0,   -999.0,9,   -999.0,9,  -999.00,9,  -999.0,-999.0000,-999.000,-999.000, 14.5868,-999.000,9
      06MT22_5,   A10,    53,  1,    202,2,19930115,0431,-30.0000, -15.0267, 3818,    301.0,  12.5150,  35.1100,2,-999.0000,9,    206.6,2,     4.25,2,    11.32,9,     0.81,2, -999.000,9, -999.000,9, -999.000,9, -999.000,9,-999.0000,9,  -999.00,9,   -999.0,9,-999.000,9,  -999.00,9,   -999.0,0,   -999.0,9,   -999.0,9,  -999.00,9,  -999.0,-999.0000,-999.000,-999.000, 12.4742,-999.000,9
      06MT22_5,   A10,    53,  1,    201,2,19930115,0431,-30.0000, -15.0267, 3818,    400.0,  10.8310,  34.9080,2,-999.0000,9,    212.4,2,     5.22,2,    14.81,9,     1.01,2, -999.000,9, -999.000,9, -999.000,9, -999.000,9,-999.0000,9,  -999.00,9,   -999.0,9,-999.000,9,  -999.00,9,   -999.0,0,   -999.0,9,   -999.0,9,  -999.00,9,  -999.0,-999.0000,-999.000,-999.000, 10.7813,-999.000,9
      06MT22_5,   A10,    53,  2,    324,2,19930115,0507,-30.0032, -14.9995, 3834,     11.0,  24.2510,  35.9360,2,  35.9420,2,    218.1,2,     0.59,2,     0.36,9,     0.12,2, -999.000,9, -999.000,9, -999.000,9, -999.000,9,-999.0000,9,  -999.00,9,   -999.0,9,-999.000,9,  -999.00,9,   -999.0,0,   -999.0,9,   -999.0,9,  -999.00,9,  -999.0,-999.0000,-999.000,-999.000, 24.2487,-999.000,9
      06MT22_5,   A10,    53,  2,    320,2,19930115,0507,-30.0032, -14.9995, 3834,    501.0,   9.2960,  34.7270,2,  34.7220,2,    203.9,2,     8.47,2,    19.07,9,     1.35,2, -999.000,9, -999.000,9, -999.000,9, -999.000,9,-999.0000,9,  -999.00,9,   -999.0,9,-999.000,9,  -999.00,9,   -999.0,0,   -999.0,9,   -999.0,9,  -999.00,9,  -999.0,-999.0000,-999.000,-999.000,  9.2397,-999.000,9
      06MT22_5,   A10,    53,  2,    319,2,19930115,0507,-30.0032, -14.9995, 3834,    601.0,   7.6390,  34.5530,2,-999.0000,9,    210.1,2,     9.29,2,    18.09,9,     1.24,2, -999.000,9, -999.000,9, -999.000,9, -999.000,9,-999.0000,9,  -999.00,9,   -999.0,9,-999.000,9,  -999.00,9,   -999.0,0,   -999.0,9,   -999.0,9,  -999.00,9,  -999.0,-999.0000,-999.000,-999.000,  7.5788,-999.000,9
      06MT22_5,   A10,    53,  2,    318,2,19930115,0507,-30.0032, -14.9995, 3834,    696.0,   6.0000,  34.4050,2,-999.0000,9,    215.9,2,    16.18,2,    26.83,9,     1.84,2, -999.000,9, -999.000,9, -999.000,9, -999.000,9,-999.0000,9,  -999.00,9,   -999.0,9,-999.000,9,  -999.00,9,   -999.0,0,   -999.0,9,   -999.0,9,  -999.00,9,  -999.0,-999.0000,-999.000,-999.000,  5.9384,-999.000,9
      06MT22_5,   A10,    53,  2,    317,2,19930115,0507,-30.0032, -14.9995, 3834,    846.0,   4.2590,  34.3100,2,-999.0000,9,    222.7,2,    25.68,2,    30.19,9,     2.09,2, -999.000,9, -999.000,9, -999.000,9, -999.000,9,-999.0000,9,  -999.00,9,   -999.0,9,-999.000,9,  -999.00,9,   -999.0,0,   -999.0,9,   -999.0,9,  -999.00,9,  -999.0,-999.0000,-999.000,-999.000,  4.1946,-999.000,9
      06MT22_5,   A10,    53,  2,    316,2,19930115,0507,-30.0032, -14.9995, 3834,    846.0,   4.2590,  34.3100,2,  34.3090,2,    223.2,2,    25.72,2,    30.28,9,     2.09,2, -999.000,9, -999.000,9, -999.000,9, -999.000,9,-999.0000,9,  -999.00,9,   -999.0,9,-999.000,9,  -999.00,9,   -999.0,0,   -999.0,9,   -999.0,9,  -999.00,9,  -999.0,-999.0000,-999.000,-999.000,  4.1946,-999.000,9
      06MT22_5,   A10,    53,  2,    315,2,19930115,0507,-30.0032, -14.9995, 3834,   1001.0,   3.5440,  34.3470,2,-999.0000,9,    210.5,2,    37.09,2,    32.20,9,     2.26,2, -999.000,9, -999.000,9, -999.000,9, -999.000,9,-999.0000,9,  -999.00,9,   -999.0,9,-999.000,9,  -999.00,9,   -999.0,0,   -999.0,9,   -999.0,9,  -999.00,9,  -999.0,-999.0000,-999.000,-999.000,  3.4716,-999.000,9
      06MT22_5,   A10,    53,  2,    314,2,19930115,0507,-30.0032, -14.9995, 3834,   1199.0,   3.0470,  34.4780,2,-999.0000,9,    192.1,2,    51.16,2,    33.36,9,     2.32,2, -999.000,9, -999.000,9, -999.000,9, -999.000,9,-999.0000,9,  -999.00,9,   -999.0,9,-999.000,9,  -999.00,9,   -999.0,0,   -999.0,9,   -999.0,9,  -999.00,9,  -999.0,-999.0000,-999.000,-999.000,  2.9631,-999.000,9
      06MT22_5,   A10,    53,  2,    313,2,19930115,0507,-30.0032, -14.9995, 3834,   1400.0,   2.8440,  34.5930,2,  34.5900,2,    191.2,2,    56.65,2,    32.47,9,     2.23,2, -999.000,9, -999.000,9, -999.000,9, -999.000,9,-999.0000,9,  -999.00,9,   -999.0,9,-999.000,9,  -999.00,9,   -999.0,0,   -999.0,9,   -999.0,9,  -999.00,9,  -999.0,-999.0000,-999.000,-999.000,  2.7461,-999.000,9
      06MT22_5,   A10,    53,  2,    312,2,19930115,0507,-30.0032, -14.9995, 3834,   1600.0,   2.7590,  34.6840,2,-999.0000,9,    197.9,2,    56.60,2,    30.73,9,     2.10,2, -999.000,9, -999.000,9, -999.000,9, -999.000,9,-999.0000,9,  -999.00,9,   -999.0,9,-999.000,9,  -999.00,9,   -999.0,0,   -999.0,9,   -999.0,9,  -999.00,9,  -999.0,-999.0000,-999.000,-999.000,  2.6451,-999.000,9
      06MT22_5,   A10,    53,  2,    311,2,19930115,0507,-30.0032, -14.9995, 3834,   1803.0,   2.6960,  34.7510,2,-999.0000,9,    208.5,2,    54.39,2,    28.81,9,     1.91,2, -999.000,9, -999.000,9, -999.000,9, -999.000,9,-999.0000,9,  -999.00,9,   -999.0,9,-999.000,9,  -999.00,9,   -999.0,0,   -999.0,9,   -999.0,9,  -999.00,9,  -999.0,-999.0000,-999.000,-999.000,  2.5657,-999.000,9
      06MT22_5,   A10,    53,  2,    310,2,19930115,0507,-30.0032, -14.9995, 3834,   2001.0,   2.6410,  34.7990,2,  34.7980,2,    219.0,2,    51.49,2,    27.02,9,     1.78,2, -999.000,9, -999.000,9, -999.000,9, -999.000,9,-999.0000,9,  -999.00,9,   -999.0,9,-999.000,9,  -999.00,9,   -999.0,0,   -999.0,9,   -999.0,9,  -999.00,9,  -999.0,-999.0000,-999.000,-999.000,  2.4942,-999.000,9
      06MT22_5,   A10,    53,  2,    309,2,19930115,0507,-30.0032, -14.9995, 3834,   2251.0,   2.5830,  34.8330,2,-999.0000,9,    229.5,2,    49.01,2,    25.66,9,     1.76,2, -999.000,9, -999.000,9, -999.000,9, -999.000,9,-999.0000,9,  -999.00,9,   -999.0,9,-999.000,9,  -999.00,9,   -999.0,0,   -999.0,9,   -999.0,9,  -999.00,9,  -999.0,-999.0000,-999.000,-999.000,  2.4144,-999.000,9
      06MT22_5,   A10,    53,  2,    308,2,19930115,0507,-30.0032, -14.9995, 3834,   2501.0,   2.5490,  34.8460,2,-999.0000,9,    232.9,2,    48.50,2,    25.12,9,     1.73,2, -999.000,9, -999.000,9, -999.000,9, -999.000,9,-999.0000,9,  -999.00,9,   -999.0,9,-999.000,9,  -999.00,9,   -999.0,0,   -999.0,9,   -999.0,9,  -999.00,9,  -999.0,-999.0000,-999.000,-999.000,  2.3576,-999.000,9
      06MT22_5,   A10,    53,  2,    307,2,19930115,0507,-30.0032, -14.9995, 3834,   2753.0,   2.5460,  34.8570,2,  34.8560,2,    237.1,2,    47.49,2,    24.61,9,     1.69,2, -999.000,9, -999.000,9, -999.000,9, -999.000,9,-999.0000,9,  -999.00,9,   -999.0,9,-999.000,9,  -999.00,9,   -999.0,0,   -999.0,9,   -999.0,9,  -999.00,9,  -999.0,-999.0000,-999.000,-999.000,  2.3302,-999.000,9
      06MT22_5,   A10,    53,  2,    306,2,19930115,0507,-30.0032, -14.9995, 3834,   3000.0,   2.4890,  34.8670,2,-999.0000,9,    241.3,2,    47.12,2,    24.02,9,     1.63,2, -999.000,9, -999.000,9, -999.000,9, -999.000,9,-999.0000,9,  -999.00,9,   -999.0,9,-999.000,9,  -999.00,9,   -999.0,0,   -999.0,9,   -999.0,9,  -999.00,9,  -999.0,-999.0000,-999.000,-999.000,  2.2497,-999.000,9
      06MT22_5,   A10,    53,  2,    305,2,19930115,0507,-30.0032, -14.9995, 3834,   3255.0,   2.3770,  34.8670,2,-999.0000,9,    243.4,2,    49.68,2,    24.28,9,     1.64,2, -999.000,9, -999.000,9, -999.000,9, -999.000,9,-999.0000,9,  -999.00,9,   -999.0,9,-999.000,9,  -999.00,9,   -999.0,0,   -999.0,9,   -999.0,9,  -999.00,9,  -999.0,-999.0000,-999.000,-999.000,  2.1139,-999.000,9
      06MT22_5,   A10,    53,  2,    304,2,19930115,0507,-30.0032, -14.9995, 3834,   3505.0,   2.2730,  34.8610,2,  34.8580,2,    244.7,2,    53.02,2,    24.52,9,     1.64,2, -999.000,9, -999.000,9, -999.000,9, -999.000,9,-999.0000,9,  -999.00,9,   -999.0,9,-999.000,9,  -999.00,9,   -999.0,0,   -999.0,9,   -999.0,9,  -999.00,9,  -999.0,-999.0000,-999.000,-999.000,  1.9860,-999.000,9
      06MT22_5,   A10,    53,  2,    303,2,19930115,0507,-30.0032, -14.9995, 3834,   3756.0,   2.2480,  34.8590,2,  34.8550,2,   -999.0,9,    54.35,2,    24.57,9,     1.65,2, -999.000,9, -999.000,9, -999.000,9, -999.000,9,-999.0000,9,  -999.00,9,   -999.0,9,-999.000,9,  -999.00,9,   -999.0,0,   -999.0,9,   -999.0,9,  -999.00,9,  -999.0,-999.0000,-999.000,-999.000,  1.9344,-999.000,9
      06MT22_5,   A10,    53,  2,    301,2,19930115,0507,-30.0032, -14.9995, 3834,   3869.0,   2.2550,  34.8580,2,-999.0000,9,   -999.0,9,  -999.00,9,  -999.00,9,  -999.00,9, -999.000,9, -999.000,9, -999.000,9, -999.000,9,-999.0000,9,  -999.00,9,   -999.0,9,-999.000,9,  -999.00,9,   -999.0,0,   -999.0,9,   -999.0,9,  -999.00,9,  -999.0,-999.0000,-999.000,-999.000,  1.9220,-999.000,9
      06MT22_5,   A10,    53,  2,    302,2,19930115,0507,-30.0032, -14.9995, 3834,   3873.0,   2.2560,  34.8580,2,  34.8560,2,    245.6,2,    54.57,2,    24.53,9,     1.68,2, -999.000,9, -999.000,9, -999.000,9, -999.000,9,-999.0000,9,  -999.00,9,   -999.0,9,-999.000,9,  -999.00,9,   -999.0,0,   -999.0,9,   -999.0,9,  -999.00,9,  -999.0,-999.0000,-999.000,-999.000,  1.9291,-999.000,9