BOTTLE,20030417WHPSIOSA
EXPOCODE,SECT_ID,STNNBR,CASTNO,BTLNBR,BTLNBR_FLAG_W,DATE,TIME,LATITUDE,LONGITUDE,DEPTH,CTDPRS,CTDTMP,CTDSAL,CTDSAL_FLAG_W,SALNTY,SALNTY_FLAG_W,OXYGEN,OXYGEN_FLAG_W,SILCAT,SILCAT_FLAG_W,NO2+NO3,NO2+NO3_FLAG_W,PHSPHT,PHSPHT_FLAG_W,CFC-11,CFC-11_FLAG_W,CFC-12,CFC-12_FLAG_W,CCL4,CCL4_FLAG_W,TRITUM,TRITUM_FLAG_W,HELIUM,HELIUM_FLAG_W,DELHE3,DELHE3_FLAG_W,DELC14,DELC14_FLAG_W,NEON,NEON_FLAG_W,O18O16,O18O16_FLAG_W,TCARBN,TCARBN_FLAG_W,PCO2,PCO2_FLAG_W,ALKALI,ALKALI_FLAG_W,PH,PH_FLAG_W,C14ERR,HELIER,DELHER,NEONER,THETA,TRITER,TRITER_FLAG_W
,,,,,,,,,,,DBAR,ITS-90,PSS-78,,PSS-78,,UMOL/KG,,UMOL/KG,,UMOL/KG,,UMOL/KG,,PMOL/KG,,PMOL/KG,,PMOL/KG,,TU,,NMOL/KG,,PERCNT,,/MILLE,,NMOL/KG,,MILLE,,UMOL/KG,,UATM,,UMOL/KG,,,,/MILLE,NMOL/KG,PERCNT,NMOL/KG,ITS-90,TU,
      06MT22_5,   A10,    88,  2,    324,2,19930125,2141,-29.7470,  10.1853, 4853,     16.0,  21.3400,  35.5310,2,  35.5320,2,   -999.0,9,  -999.00,9,  -999.00,9,  -999.00,9, -999.000,9, -999.000,9, -999.000,9, -999.000,9,-999.0000,9,  -999.00,9,   -999.0,9,-999.000,9,  -999.00,9,   -999.0,9,   -999.0,9,   -999.0,9,  -999.00,9,  -999.0,-999.0000,-999.000,-999.000, 21.3369,-999.000,9
      06MT22_5,   A10,    88,  2,    323,2,19930125,2141,-29.7470,  10.1853, 4853,    850.0,   3.8440,  34.3930,2,-999.0000,9,    187.5,2,    38.89,2,    33.97,9,     2.28,2, -999.000,9, -999.000,9, -999.000,9, -999.000,9,-999.0000,9,  -999.00,9,   -999.0,9,-999.000,9,  -999.00,9,   -999.0,9,   -999.0,9,   -999.0,9,  -999.00,9,  -999.0,-999.0000,-999.000,-999.000,  3.7816,-999.000,9
      06MT22_5,   A10,    88,  2,    322,2,19930125,2141,-29.7470,  10.1853, 4853,   1000.0,   3.3100,  34.4570,2,-999.0000,9,    185.0,2,    49.60,2,    34.31,9,     2.29,2, -999.000,9, -999.000,9, -999.000,9, -999.000,9,-999.0000,9,  -999.00,9,   -999.0,9,-999.000,9,  -999.00,9,   -999.0,9,   -999.0,9,   -999.0,9,  -999.00,9,  -999.0,-999.0000,-999.000,-999.000,  3.2396,-999.000,9
      06MT22_5,   A10,    88,  2,    321,2,19930125,2141,-29.7470,  10.1853, 4853,   1199.0,   3.0070,  34.5750,2,  34.5790,2,    182.3,2,    57.20,2,    33.66,9,     2.27,2, -999.000,9, -999.000,9, -999.000,9, -999.000,9,-999.0000,9,  -999.00,9,   -999.0,9,-999.000,9,  -999.00,9,   -999.0,9,   -999.0,9,   -999.0,9,  -999.00,9,  -999.0,-999.0000,-999.000,-999.000,  2.9235,-999.000,9
      06MT22_5,   A10,    88,  2,    320,2,19930125,2141,-29.7470,  10.1853, 4853,   1398.0,   3.1170,  34.7180,2,-999.0000,9,   -999.0,9,  -999.00,9,  -999.00,9,  -999.00,9, -999.000,9, -999.000,9, -999.000,9, -999.000,9,-999.0000,9,  -999.00,9,   -999.0,9,-999.000,9,  -999.00,9,   -999.0,9,   -999.0,9,   -999.0,9,  -999.00,9,  -999.0,-999.0000,-999.000,-999.000,  3.0157,-999.000,9
      06MT22_5,   A10,    88,  2,    320,2,19930125,2141,-29.7470,  10.1853, 4853,   1398.0,   3.1180,  34.7190,2,-999.0000,9,    193.9,2,    48.62,2,    30.48,9,     2.01,2, -999.000,9, -999.000,9, -999.000,9, -999.000,9,-999.0000,9,  -999.00,9,   -999.0,9,-999.000,9,  -999.00,9,   -999.0,9,   -999.0,9,   -999.0,9,  -999.00,9,  -999.0,-999.0000,-999.000,-999.000,  3.0167,-999.000,9
      06MT22_5,   A10,    88,  2,    319,2,19930125,2141,-29.7470,  10.1853, 4853,   1599.0,   3.1760,  34.8120,2,-999.0000,9,    208.6,2,    40.69,2,    27.61,9,     1.83,2, -999.000,9, -999.000,9, -999.000,9, -999.000,9,-999.0000,9,  -999.00,9,   -999.0,9,-999.000,9,  -999.00,9,   -999.0,9,   -999.0,9,   -999.0,9,  -999.00,9,  -999.0,-999.0000,-999.000,-999.000,  3.0569,-999.000,9
      06MT22_5,   A10,    88,  2,    318,2,19930125,2141,-29.7470,  10.1853, 4853,   1790.0,   3.0700,  34.8420,2,-999.0000,9,    218.6,2,    40.15,2,    26.26,9,     1.70,2, -999.000,9, -999.000,9, -999.000,9, -999.000,9,-999.0000,9,  -999.00,9,   -999.0,9,-999.000,9,  -999.00,9,   -999.0,9,   -999.0,9,   -999.0,9,  -999.00,9,  -999.0,-999.0000,-999.000,-999.000,  2.9356,-999.000,9
      06MT22_5,   A10,    88,  2,    317,2,19930125,2141,-29.7470,  10.1853, 4853,   2001.0,   2.9460,  34.8600,2,  34.8610,2,    224.8,2,    39.66,2,    25.34,9,     1.66,2, -999.000,9, -999.000,9, -999.000,9, -999.000,9,-999.0000,9,  -999.00,9,   -999.0,9,-999.000,9,  -999.00,9,   -999.0,9,   -999.0,9,   -999.0,9,  -999.00,9,  -999.0,-999.0000,-999.000,-999.000,  2.7944,-999.000,9
      06MT22_5,   A10,    88,  2,    316,2,19930125,2141,-29.7470,  10.1853, 4853,   2251.0,   2.8130,  34.8730,2,-999.0000,9,    229.7,2,    41.74,2,    24.82,9,     1.62,2, -999.000,9, -999.000,9, -999.000,9, -999.000,9,-999.0000,9,  -999.00,9,   -999.0,9,-999.000,9,  -999.00,9,   -999.0,9,   -999.0,9,   -999.0,9,  -999.00,9,  -999.0,-999.0000,-999.000,-999.000,  2.6405,-999.000,9
      06MT22_5,   A10,    88,  2,    315,2,19930125,2141,-29.7470,  10.1853, 4853,   2501.0,   2.6290,  34.8690,2,-999.0000,9,    233.0,2,    45.51,2,    24.63,9,     1.61,2,    0.001,2,   -0.001,2,   -0.003,2, -999.000,9,-999.0000,9,  -999.00,9,   -999.0,9,-999.000,9,  -999.00,9,   2192.1,2,   -999.0,9,   -999.0,9,  -999.00,9,  -999.0,-999.0000,-999.000,-999.000,  2.4361,-999.000,9
      06MT22_5,   A10,    88,  2,    314,2,19930125,2141,-29.7470,  10.1853, 4853,   2701.0,   2.5170,  34.8640,2,-999.0000,9,    233.4,2,    48.60,2,    24.89,9,     1.62,2,    0.001,2,    0.000,2,    0.002,2, -999.000,9,-999.0000,9,  -999.00,9,   -999.0,9,-999.000,9,  -999.00,9,   -999.0,9,   -999.0,9,   -999.0,9,  -999.00,9,  -999.0,-999.0000,-999.000,-999.000,  2.3069,-999.000,9
      06MT22_5,   A10,    88,  2,    313,2,19930125,2141,-29.7470,  10.1853, 4853,   2802.0,   2.4720,  34.8640,2,  34.8660,2,    233.4,2,    49.84,2,    24.98,9,     1.60,2,    0.001,2,    0.000,2,    0.002,2, -999.000,9,-999.0000,9,  -999.00,9,   -999.0,9,-999.000,9,  -999.00,9,   -999.0,9,   -999.0,9,   -999.0,9,  -999.00,9,  -999.0,-999.0000,-999.000,-999.000,  2.2529,-999.000,9
      06MT22_5,   A10,    88,  2,    312,2,19930125,2141,-29.7470,  10.1853, 4853,   2902.0,   2.4340,  34.8630,2,-999.0000,9,    233.1,2,    50.90,2,    24.92,9,     1.61,2,    0.015,4,    0.001,2,    0.007,2, -999.000,9,-999.0000,9,  -999.00,9,   -999.0,9,-999.000,9,  -999.00,9,   -999.0,9,   -999.0,9,   -999.0,9,  -999.00,9,  -999.0,-999.0000,-999.000,-999.000,  2.2057,-999.000,9
      06MT22_5,   A10,    88,  2,    311,2,19930125,2141,-29.7470,  10.1853, 4853,   3002.0,   2.3940,  34.8610,2,-999.0000,9,    234.5,2,    51.88,2,    24.94,9,     1.60,2,    0.004,6,    0.001,6,    0.006,6, -999.000,9,-999.0000,9,  -999.00,9,   -999.0,9,-999.000,9,  -999.00,9,   -999.0,9,   -999.0,9,   -999.0,9,  -999.00,9,  -999.0,-999.0000,-999.000,-999.000,  2.1565,-999.000,9
      06MT22_5,   A10,    88,  2,    310,2,19930125,2141,-29.7470,  10.1853, 4853,   3102.0,   2.3600,  34.8610,2,  34.8620,2,    233.9,2,    52.94,2,    25.19,9,     1.63,2,    0.002,2,    0.003,2,    0.006,2, -999.000,9,-999.0000,9,  -999.00,9,   -999.0,9,-999.000,9,  -999.00,9,   -999.0,9,   -999.0,9,   -999.0,9,  -999.00,9,  -999.0,-999.0000,-999.000,-999.000,  2.1131,-999.000,9
      06MT22_5,   A10,    88,  2,    309,2,19930125,2141,-29.7470,  10.1853, 4853,   3253.0,   2.3240,  34.8600,2,-999.0000,9,    233.5,2,    54.46,2,    25.18,9,     1.65,2,    0.002,2,    0.002,2,    0.004,2, -999.000,9,-999.0000,9,  -999.00,9,   -999.0,9,-999.000,9,  -999.00,9,   -999.0,9,   -999.0,9,   -999.0,9,  -999.00,9,  -999.0,-999.0000,-999.000,-999.000,  2.0625,-999.000,9
      06MT22_5,   A10,    88,  2,    308,2,19930125,2141,-29.7470,  10.1853, 4853,   3505.0,   2.2540,  34.8550,2,-999.0000,9,    232.4,2,    57.51,2,    25.54,9,     1.64,2,    0.001,2,    0.002,2,    0.006,2, -999.000,9,-999.0000,9,  -999.00,9,   -999.0,9,-999.000,9,  -999.00,9,   -999.0,9,   -999.0,9,   -999.0,9,  -999.00,9,  -999.0,-999.0000,-999.000,-999.000,  1.9676,-999.000,9
      06MT22_5,   A10,    88,  2,    307,2,19930125,2141,-29.7470,  10.1853, 4853,   3755.0,   2.0630,  34.8350,2,  34.8360,2,    231.9,2,    66.07,2,    26.59,9,     1.75,2,    0.002,2,    0.001,2,    0.008,2, -999.000,9,-999.0000,9,  -999.00,9,   -999.0,9,-999.000,9,  -999.00,9,   -999.0,9,   -999.0,9,   -999.0,9,  -999.00,9,  -999.0,-999.0000,-999.000,-999.000,  1.7545,-999.000,9
      06MT22_5,   A10,    88,  2,    306,2,19930125,2141,-29.7470,  10.1853, 4853,   4006.0,   1.7020,  34.7960,2,-999.0000,9,    225.1,2,    81.11,2,    28.54,9,     1.88,2, -999.000,9, -999.000,9, -999.000,9, -999.000,9,-999.0000,9,  -999.00,9,   -999.0,9,-999.000,9,  -999.00,9,   -999.0,9,   -999.0,9,   -999.0,9,  -999.00,9,  -999.0,-999.0000,-999.000,-999.000,  1.3764,-999.000,9
      06MT22_5,   A10,    88,  2,    305,2,19930125,2141,-29.7470,  10.1853, 4853,   4254.0,   1.3400,  34.7590,2,-999.0000,9,   -999.0,9,  -999.00,9,  -999.00,9,  -999.00,9, -999.000,9, -999.000,9, -999.000,9, -999.000,9,-999.0000,9,  -999.00,9,   -999.0,9,-999.000,9,  -999.00,9,   2250.1,2,   -999.0,9,   -999.0,9,  -999.00,9,  -999.0,-999.0000,-999.000,-999.000,  0.9974,-999.000,9
      06MT22_5,   A10,    88,  2,    304,2,19930125,2141,-29.7470,  10.1853, 4853,   4506.0,   1.1820,  34.7430,2,  34.7430,2,    219.8,2,   102.37,2,    31.17,9,     2.12,2, -999.000,9, -999.000,9, -999.000,9, -999.000,9,-999.0000,9,  -999.00,9,   -999.0,9,-999.000,9,  -999.00,9,   2251.0,2,   -999.0,9,   -999.0,9,  -999.00,9,  -999.0,-999.0000,-999.000,-999.000,  0.8158,-999.000,9
      06MT22_5,   A10,    88,  2,    303,2,19930125,2141,-29.7470,  10.1853, 4853,   4757.0,   1.1460,  34.7360,2,-999.0000,9,    218.6,2,   105.27,2,    31.57,9,     2.11,2, -999.000,9, -999.000,9, -999.000,9, -999.000,9,-999.0000,9,  -999.00,9,   -999.0,9,-999.000,9,  -999.00,9,   -999.0,9,   -999.0,9,   -999.0,9,  -999.00,9,  -999.0,-999.0000,-999.000,-999.000,  0.7521,-999.000,9
      06MT22_5,   A10,    88,  2,    302,2,19930125,2141,-29.7470,  10.1853, 4853,   4889.0,   1.1490,  34.7360,2,  34.7370,2,   -999.0,9,  -999.00,9,  -999.00,9,  -999.00,9, -999.000,9, -999.000,9, -999.000,9, -999.000,9,-999.0000,9,  -999.00,9,   -999.0,9,-999.000,9,  -999.00,9,   -999.0,9,   -999.0,9,   -999.0,9,  -999.00,9,  -999.0,-999.0000,-999.000,-999.000,  0.7395,-999.000,9
      06MT22_5,   A10,    88,  2,    301,2,19930125,2141,-29.7470,  10.1853, 4853,   4890.0,   1.1490,  34.7350,2,-999.0000,9,    217.9,2,   105.60,2,    31.73,9,     2.14,2, -999.000,9, -999.000,9, -999.000,9, -999.000,9,-999.0000,9,  -999.00,9,   -999.0,9,-999.000,9,  -999.00,9,   -999.0,9,   -999.0,9,   -999.0,9,  -999.00,9,  -999.0,-999.0000,-999.000,-999.000,  0.7338,-999.000,9
      06MT22_5,   A10,    89,  1,    211,2,19930126,0448,-29.7500,  10.9467, 4298,     11.0,  21.2320,  35.6380,2,-999.0000,9,   -999.0,9,  -999.00,9,  -999.00,9,  -999.00,9, -999.000,9, -999.000,9, -999.000,9, -999.000,9,-999.0000,9,  -999.00,9,   -999.0,9,-999.000,9,  -999.00,9,   -999.0,0,   -999.0,9,   -999.0,9,  -999.00,9,  -999.0,-999.0000,-999.000,-999.000, 21.2299,-999.000,9
      06MT22_5,   A10,    89,  1,    217,2,19930126,0448,-29.7500,  10.9467, 4298,     12.0,  21.2360,  35.6400,2,  35.6380,2,    226.7,2,     1.06,2,     0.04,9,     0.14,2,    2.132,2,    1.175,2,    2.672,2,    0.016,4,   1.6838,2,    -0.99,2,   -999.0,9,   6.811,2,  -999.00,9,   2035.3,2,   -999.0,9,   -999.0,9,  -999.00,9,  -999.0,  0.0059,   0.250,   0.024, 21.2337,   0.002,9
      06MT22_5,   A10,    89,  1,    210,2,19930126,0448,-29.7500,  10.9467, 4298,     32.0,  21.2400,  35.6400,2,  35.6210,2,    230.0,2,     1.10,2,     0.00,9,     0.15,2,    2.148,2,    1.183,2,    2.632,2,    0.915,2,-999.0000,1,  -999.00,1,   -999.0,9,-999.000,1,  -999.00,9,   2035.6,2,   -999.0,9,   -999.0,9,  -999.00,9,  -999.0,-999.0000,-999.000,-999.000, 21.2338,   0.022,9
      06MT22_5,   A10,    89,  1,    209,2,19930126,0448,-29.7500,  10.9467, 4298,     51.0,  19.4670,  35.4970,2,-999.0000,9,    247.1,2,     1.00,2,     0.08,9,     0.17,2,    2.428,2,    1.330,2,    2.584,2,    0.868,2,   1.7172,2,    -1.18,2,   -999.0,9,   7.033,2,  -999.00,9,   2034.2,2,   -999.0,9,   -999.0,9,  -999.00,9,  -999.0,  0.0060,   0.250,   0.025, 19.4577,   0.020,9
      06MT22_5,   A10,    89,  1,    208,2,19930126,0448,-29.7500,  10.9467, 4298,     72.0,  16.7850,  35.4790,2,-999.0000,9,    250.8,2,     1.17,2,     0.08,9,     0.20,2,    2.653,2,    1.436,2,    2.377,2, -999.000,9,   1.7146,2,    -1.19,2,   -999.0,9,   7.112,2,  -999.00,9,   2044.8,2,   -999.0,9,   -999.0,9,  -999.00,9,  -999.0,  0.0060,   0.250,   0.025, 16.7732,-999.000,9
      06MT22_5,   A10,    89,  1,    207,2,19930126,0448,-29.7500,  10.9467, 4298,    102.0,  15.1880,  35.3970,2,  35.4040,2,    236.6,2,     2.14,2,     3.85,9,     0.38,2,    2.700,2,    1.450,2,    1.639,2,    0.917,3,   1.7395,2,    -1.04,2,   -999.0,9,   7.212,2,  -999.00,9,   2068.3,2,   -999.0,9,   -999.0,9,  -999.00,9,  -999.0,  0.0061,   0.250,   0.025, 15.1724,   0.082,9
      06MT22_5,   A10,    89,  1,    206,2,19930126,0448,-29.7500,  10.9467, 4298,    152.0,  13.9770,  35.2380,2,-999.0000,9,    233.8,2,     2.30,2,     5.67,9,     0.49,2, -999.000,9, -999.000,9, -999.000,9,    0.779,2,   1.7288,2,    -0.89,2,   -999.0,9,   7.244,2,  -999.00,9,   2079.0,2,   -999.0,9,   -999.0,9,  -999.00,9,  -999.0,  0.0061,   0.250,   0.025, 13.9551,   0.019,9
      06MT22_5,   A10,    89,  1,    205,2,19930126,0448,-29.7500,  10.9467, 4298,    201.0,  13.0430,  35.1080,2,-999.0000,9,    227.0,2,     3.09,2,     8.78,9,     0.65,2,    2.659,2,    1.406,2,    1.406,2,    0.672,2,   1.7311,2,    -0.75,2,   -999.0,9,   7.315,2,  -999.00,9,   2091.7,2,   -999.0,9,   -999.0,9,  -999.00,9,  -999.0,  0.0061,   0.250,   0.026, 13.0153,   0.018,9
      06MT22_5,   A10,    89,  1,    204,2,19930126,0448,-29.7500,  10.9467, 4298,    301.0,  11.1930,  34.9310,2,  34.9280,2,    176.8,2,     7.30,2,    18.04,9,     1.25,2,    2.014,2,    1.052,2,    1.002,2, -999.000,9,   1.8364,4,     0.96,3,   -999.0,9,   7.531,4,  -999.00,9,   2142.1,2,   -999.0,9,   -999.0,9,  -999.00,9,  -999.0,  0.0064,   0.250,   0.026, 11.1553,-999.000,9
      06MT22_5,   A10,    89,  1,    203,2,19930126,0448,-29.7500,  10.9467, 4298,    400.0,   9.6040,  34.7530,2,-999.0000,9,    181.7,2,     9.22,2,    21.19,9,     1.41,2,    1.821,2,    0.926,2,    1.163,3,   -0.645,4,-999.0000,1,  -999.00,1,   -999.0,9,-999.000,1,  -999.00,9,   2150.4,2,   -999.0,9,   -999.0,9,  -999.00,9,  -999.0,-999.0000,-999.000,-999.000,  9.5586,   1.817,9
      06MT22_5,   A10,    89,  1,    202,2,19930126,0448,-29.7500,  10.9467, 4298,    501.0,   8.1560,  34.6370,2,-999.0000,9,    142.6,2,    15.22,2,    28.91,9,     1.91,2,    1.154,4,    0.580,4,    1.079,2,    0.035,4,-999.0000,1,  -999.00,1,   -999.0,9,-999.000,1,  -999.00,9,   2190.3,2,   -999.0,9,   -999.0,9,  -999.00,9,  -999.0,-999.0000,-999.000,-999.000,  8.1041,   1.036,9
      06MT22_5,   A10,    89,  1,    201,2,19930126,0448,-29.7500,  10.9467, 4298,    600.0,   6.4120,  34.4510,2,  34.4520,2,    205.0,2,    18.31,2,    27.26,9,     1.83,2,    1.534,2,    0.770,2,    1.995,2,    0.219,3,-999.0000,1,  -999.00,1,   -999.0,9,-999.000,1,  -999.00,9,   2165.1,2,   -999.0,9,   -999.0,9,  -999.00,9,  -999.0,-999.0000,-999.000,-999.000,  6.3573,   0.899,9