BOTTLE,20030417WHPSIOSA
EXPOCODE,SECT_ID,STNNBR,CASTNO,BTLNBR,BTLNBR_FLAG_W,DATE,TIME,LATITUDE,LONGITUDE,DEPTH,CTDPRS,CTDTMP,CTDSAL,CTDSAL_FLAG_W,SALNTY,SALNTY_FLAG_W,OXYGEN,OXYGEN_FLAG_W,SILCAT,SILCAT_FLAG_W,NO2+NO3,NO2+NO3_FLAG_W,PHSPHT,PHSPHT_FLAG_W,CFC-11,CFC-11_FLAG_W,CFC-12,CFC-12_FLAG_W,CCL4,CCL4_FLAG_W,TRITUM,TRITUM_FLAG_W,HELIUM,HELIUM_FLAG_W,DELHE3,DELHE3_FLAG_W,DELC14,DELC14_FLAG_W,NEON,NEON_FLAG_W,O18O16,O18O16_FLAG_W,TCARBN,TCARBN_FLAG_W,PCO2,PCO2_FLAG_W,ALKALI,ALKALI_FLAG_W,PH,PH_FLAG_W,C14ERR,HELIER,DELHER,NEONER,THETA,TRITER,TRITER_FLAG_W
,,,,,,,,,,,DBAR,ITS-90,PSS-78,,PSS-78,,UMOL/KG,,UMOL/KG,,UMOL/KG,,UMOL/KG,,PMOL/KG,,PMOL/KG,,PMOL/KG,,TU,,NMOL/KG,,PERCNT,,/MILLE,,NMOL/KG,,MILLE,,UMOL/KG,,UATM,,UMOL/KG,,,,/MILLE,NMOL/KG,PERCNT,NMOL/KG,ITS-90,TU,
      06MT22_5,   A10,    81,  2,    324,2,19930123,0730,-29.7468,   4.2388, 4971,     10.0,  23.3860,  35.8360,2,  35.8400,2,   -999.0,9,  -999.00,9,  -999.00,9,  -999.00,9, -999.000,9, -999.000,9, -999.000,9, -999.000,9,-999.0000,9,  -999.00,9,   -999.0,9,-999.000,9,  -999.00,9,   -999.0,0,   -999.0,9,   -999.0,9,  -999.00,9,  -999.0,-999.0000,-999.000,-999.000, 23.3839,-999.000,9
      06MT22_5,   A10,    81,  2,    323,2,19930123,0730,-29.7468,   4.2388, 4971,    598.0,   7.7830,  34.5560,2,-999.0000,9,    206.1,2,    12.27,2,    23.83,9,     1.61,2, -999.000,9, -999.000,9, -999.000,9,    0.304,2,   1.7663,2,     1.40,2,   -999.0,9,   7.558,2,  -999.00,9,   2150.3,2,   -999.0,9,   -999.0,9,  -999.00,9,  -999.0,  0.0062,   0.250,   0.026,  7.7224,   0.011,9
      06MT22_5,   A10,    81,  2,    322,2,19930123,0730,-29.7468,   4.2388, 4971,    699.0,   5.9420,  34.4050,2,  34.4070,2,    213.4,2,    18.41,2,    27.97,9,     1.86,2, -999.000,9, -999.000,9, -999.000,9,    0.208,2,   1.7712,5,     1.33,3,    -24.5,2,   7.696,5,  -999.00,9,   2164.2,2,   -999.0,9,   -999.0,9,  -999.00,9,     6.6,  0.0071,   0.250,   0.031,  5.8804,   0.008,9
      06MT22_5,   A10,    81,  2,    321,2,19930123,0730,-29.7468,   4.2388, 4971,    850.0,   4.3900,  34.3270,2,-999.0000,9,    217.3,2,    27.71,2,    31.19,9,     2.06,2,    1.309,2,    0.611,2,    2.214,2, -999.000,9,   1.7681,5,     2.48,3,   -999.0,9,   7.777,5,  -999.00,9,   2181.8,2,   -999.0,9,   -999.0,9,  -999.00,9,  -999.0,  0.0071,   0.250,   0.031,  4.3241,-999.000,9
      06MT22_5,   A10,    81,  2,    320,2,19930123,0730,-29.7468,   4.2388, 4971,   1000.0,   3.8450,  34.3880,2,-999.0000,9,    191.7,2,    38.32,2,    34.04,9,     2.27,2,    0.524,2,    0.263,2,    1.218,2,    0.130,2,-999.0000,1,  -999.00,1,   -105.9,2,-999.000,1,  -999.00,9,   2206.5,2,   -999.0,9,   -999.0,9,  -999.00,9,     5.6,-999.0000,-999.000,-999.000,  3.7705,   0.063,9
      06MT22_5,   A10,    81,  2,    319,2,19930123,0730,-29.7468,   4.2388, 4971,   1199.0,   3.3010,  34.5010,2,  34.5030,2,    180.3,2,    50.45,2,    34.75,9,     2.32,2,    0.147,2,    0.064,2,    0.521,2,    0.022,2,-999.0000,1,  -999.00,1,   -999.0,9,-999.000,1,  -999.00,9,   2225.0,2,   -999.0,9,   -999.0,9,  -999.00,9,  -999.0,-999.0000,-999.000,-999.000,  3.2149,   0.003,9
      06MT22_5,   A10,    81,  2,    318,2,19930123,0730,-29.7468,   4.2388, 4971,   1397.0,   3.1450,  34.6290,2,-999.0000,9,    184.4,2,    52.29,2,    33.04,9,     2.18,2,    0.035,2,    0.016,2,    0.194,2,    0.013,2,   1.8230,5,     5.91,3,   -999.0,9,   7.908,5,  -999.00,9,   2225.4,2,   -999.0,9,   -999.0,9,  -999.00,9,  -999.0,  0.0073,   0.250,   0.032,  3.0436,   0.003,9
      06MT22_5,   A10,    81,  2,    317,2,19930123,0730,-29.7468,   4.2388, 4971,   1600.0,   3.0300,  34.7160,2,-999.0000,9,    194.8,2,    51.84,2,    30.96,9,     2.02,2,    0.020,2,    0.007,2,    0.103,2,    0.017,2,   1.8243,5,     6.27,3,   -999.0,9,   7.932,5,  -999.00,9,   2220.3,2,   -999.0,9,   -999.0,9,  -999.00,9,  -999.0,  0.0073,   0.250,   0.032,  2.9128,   0.007,9
      06MT22_5,   A10,    81,  2,    316,2,19930123,0730,-29.7468,   4.2388, 4971,   1800.0,   3.0760,  34.8040,2,  34.8050,2,    209.2,2,    44.49,2,    28.23,9,     1.85,2,    0.004,2,    0.001,2,    0.039,2,    0.008,2,-999.0000,1,  -999.00,1,   -139.2,2,-999.000,1,  -999.00,9,   2205.0,2,   -999.0,9,   -999.0,9,  -999.00,9,     5.6,-999.0000,-999.000,-999.000,  2.9408,   0.001,9
      06MT22_5,   A10,    81,  2,    315,2,19930123,0730,-29.7468,   4.2388, 4971,   1999.0,   2.9760,  34.8340,2,-999.0000,9,    219.5,2,    43.31,2,    26.89,9,     1.76,2,    0.001,2,    0.002,2,    0.020,2,    0.007,2,   1.8216,5,     4.77,3,   -999.0,9,   7.929,5,  -999.00,9,   2201.2,2,   -999.0,9,   -999.0,9,  -999.00,9,  -999.0,  0.0073,   0.250,   0.032,  2.8242,   0.007,9
      06MT22_5,   A10,    81,  2,    314,2,19930123,0730,-29.7468,   4.2388, 4971,   2251.0,   2.7780,  34.8450,2,-999.0000,9,    223.4,2,    47.07,2,    26.53,9,     1.72,2,    0.002,2,    0.002,2,    0.018,2,    0.023,2,   1.8190,5,     5.17,3,   -136.3,2,   7.915,5,  -999.00,9,   2200.0,2,   -999.0,9,   -999.0,9,  -999.00,9,     5.3,  0.0073,   0.250,   0.032,  2.6061,   0.014,9
      06MT22_5,   A10,    81,  2,    313,2,19930123,0730,-29.7468,   4.2388, 4971,   2501.0,   2.6090,  34.8510,2,  34.8500,2,    227.9,2,    49.60,2,    26.13,9,     1.73,2,    0.000,2,    0.002,2,    0.014,2,    0.017,2,-999.0000,1,  -999.00,1,   -999.0,9,-999.000,1,  -999.00,9,   2201.0,2,   -999.0,9,   -999.0,9,  -999.00,9,  -999.0,-999.0000,-999.000,-999.000,  2.4165,   0.007,9
      06MT22_5,   A10,    81,  2,    312,2,19930123,0730,-29.7468,   4.2388, 4971,   2751.0,   2.4780,  34.8540,2,-999.0000,9,    232.3,2,    52.04,2,    25.87,9,     1.66,2,    0.007,4,    0.004,2,    0.012,2,    0.007,2,   1.8163,2,     5.72,2,   -132.0,2,   7.928,2,  -999.00,9,   2201.6,2,   -999.0,9,   -999.0,9,  -999.00,9,     5.2,  0.0064,   0.250,   0.028,  2.2641,   0.002,9
      06MT22_5,   A10,    81,  2,    311,2,19930123,0730,-29.7468,   4.2388, 4971,   3002.0,   2.3750,  34.8520,2,-999.0000,9,    232.4,2,    54.69,2,    25.82,9,     1.67,2,    0.006,4,    0.001,2,    0.013,2,    0.007,2,   1.8190,2,     5.68,2,   -136.0,2,   7.968,2,  -999.00,9,   2204.0,2,   -999.0,9,   -999.0,9,  -999.00,9,     5.3,  0.0064,   0.250,   0.028,  2.1383,   0.006,9
      06MT22_5,   A10,    81,  2,    310,2,19930123,0730,-29.7468,   4.2388, 4971,   3251.0,   2.3210,  34.8570,2,-999.0000,9,    233.3,2,    55.42,2,    25.64,9,     1.65,2,   -0.002,4,    0.003,2,    0.005,2,    0.009,2,   1.8261,5,     5.86,3,   -127.9,4,   7.973,5,  -999.00,9,   2205.2,2,   -999.0,9,   -999.0,9,  -999.00,9,     5.4,  0.0073,   0.250,   0.032,  2.0600,   0.011,9
      06MT22_5,   A10,    81,  2,    309,2,19930123,0730,-29.7468,   4.2388, 4971,   3503.0,   2.2260,  34.8540,2,-999.0000,9,    233.9,2,    58.32,2,    25.84,9,     1.68,2, -999.000,9, -999.000,9, -999.000,9,    0.006,2,-999.0000,1,  -999.00,1,   -150.0,2,-999.000,1,  -999.00,9,   2210.4,2,   -999.0,9,   -999.0,9,  -999.00,9,     5.2,-999.0000,-999.000,-999.000,  1.9407,   0.002,9
      06MT22_5,   A10,    81,  2,    308,2,19930123,0730,-29.7468,   4.2388, 4971,   3754.0,   2.0040,  34.8290,2,-999.0000,9,    229.2,2,    67.97,2,    27.08,9,     1.79,2,    0.002,2,    0.002,2,    0.014,2,    0.004,2,-999.0000,1,  -999.00,1,   -149.2,2,-999.000,1,  -999.00,9,   2219.1,2,   -999.0,9,   -999.0,9,  -999.00,9,     5.2,-999.0000,-999.000,-999.000,  1.6974,   0.001,9
      06MT22_5,   A10,    81,  2,    307,2,19930123,0730,-29.7468,   4.2388, 4971,   4004.0,   1.6360,  34.7900,2,  34.7900,2,    223.0,2,    82.73,2,    29.16,9,     1.89,2, -999.000,9, -999.000,9, -999.000,9,    0.200,4,-999.0000,1,  -999.00,1,   -999.0,9,-999.000,1,  -999.00,9,   2232.8,2,   -999.0,9,   -999.0,9,  -999.00,9,  -999.0,-999.0000,-999.000,-999.000,  1.3122,   0.648,9
      06MT22_5,   A10,    81,  2,    306,2,19930123,0730,-29.7468,   4.2388, 4971,   4255.0,   1.3020,  34.7570,2,-999.0000,9,    193.8,2,    96.81,2,    30.80,9,     2.03,2,    0.000,2,    0.002,2,    0.036,2,    0.012,2,-999.0000,1,  -999.00,1,   -165.6,2,-999.000,1,  -999.00,9,   2244.7,2,   -999.0,9,   -999.0,9,  -999.00,9,     5.3,-999.0000,-999.000,-999.000,  0.9604,   0.003,9
      06MT22_5,   A10,    81,  2,    305,2,19930123,0730,-29.7468,   4.2388, 4971,   4506.0,   1.1610,  34.7420,2,-999.0000,9,    218.8,2,   102.10,2,    31.61,9,     2.07,2,    0.002,2,    0.002,2,    0.051,2,    0.013,2,-999.0000,1,  -999.00,1,   -999.0,9,-999.000,1,  -999.00,9,   2249.5,2,   -999.0,9,   -999.0,9,  -999.00,9,  -999.0,-999.0000,-999.000,-999.000,  0.7955,   0.016,9
      06MT22_5,   A10,    81,  2,    304,2,19930123,0730,-29.7468,   4.2388, 4971,   4760.0,   1.1500,  34.7380,2,  34.7380,2,    218.7,2,   103.54,2,    31.82,9,     2.11,2,    0.007,2,    0.002,2,    0.061,2,    0.000,2,-999.0000,1,  -999.00,1,   -161.3,2,-999.000,1,  -999.00,9,   2252.9,2,   -999.0,9,   -999.0,9,  -999.00,9,     5.1,-999.0000,-999.000,-999.000,  0.7556,   0.009,9
      06MT22_5,   A10,    81,  2,    303,2,19930123,0730,-29.7468,   4.2388, 4971,   4905.0,   1.1500,  34.7360,2,-999.0000,9,    218.7,2,   104.12,2,    31.87,9,     2.08,2,    0.003,2,    0.001,2,    0.061,2,    0.011,2,   1.8582,2,     6.77,2,   -163.1,2,   8.130,2,  -999.00,9,   2252.3,2,   -999.0,9,   -999.0,9,  -999.00,9,     5.1,  0.0065,   0.250,   0.029,  0.7386,   0.005,9
      06MT22_5,   A10,    81,  2,    302,2,19930123,0730,-29.7468,   4.2388, 4971,   5042.0,   1.1530,  34.7350,2,-999.0000,9,   -999.0,9,  -999.00,9,  -999.00,9,  -999.00,9,    0.005,2,    0.004,2,    0.068,2,    0.010,2,   1.8680,5,     6.92,3,   -999.0,9,   8.155,5,  -999.00,9,   -999.0,0,   -999.0,9,   -999.0,9,  -999.00,9,  -999.0,  0.0075,   0.250,   0.033,  0.7251,   0.004,9
      06MT22_5,   A10,    81,  2,    301,2,19930123,0730,-29.7468,   4.2388, 4971,   5044.0,   1.1530,  34.7350,2,  34.7350,2,    218.8,2,   104.92,2,    31.96,9,     2.09,2,    0.007,2,    0.003,2,    0.068,2,    0.004,2,   1.8712,5,     6.97,3,   -175.1,2,   8.163,5,  -999.00,9,   2251.8,2,   -999.0,9,   -999.0,9,  -999.00,9,     5.4,  0.0075,   0.250,   0.033,  0.7249,   0.005,9
      06MT22_5,   A10,    82,  1,    217,2,19930123,1524,-29.7517,   5.0995, 5253,     11.0,  23.3110,  35.8090,2,  35.8100,2,    223.8,2,     0.99,2,     0.05,9,     0.16,2, -999.000,9, -999.000,9, -999.000,9, -999.000,9,-999.0000,9,  -999.00,9,   -999.0,9,-999.000,9,  -999.00,9,   -999.0,9,   -999.0,9,   -999.0,9,  -999.00,9,  -999.0,-999.0000,-999.000,-999.000, 23.3087,-999.000,9
      06MT22_5,   A10,    82,  1,    212,2,19930123,1524,-29.7517,   5.0995, 5253,     32.0,  21.1160,  35.6870,2,-999.0000,9,    242.1,2,     0.97,2,     0.01,9,     0.15,2, -999.000,9, -999.000,9, -999.000,9, -999.000,9,-999.0000,9,  -999.00,9,   -999.0,9,-999.000,9,  -999.00,9,   -999.0,9,   -999.0,9,   -999.0,9,  -999.00,9,  -999.0,-999.0000,-999.000,-999.000, 21.1098,-999.000,9
      06MT22_5,   A10,    82,  1,    211,2,19930123,1524,-29.7517,   5.0995, 5253,     51.0,  18.4280,  35.6270,2,-999.0000,9,    260.0,2,     1.15,2,     0.05,9,     0.18,2, -999.000,9, -999.000,9, -999.000,9, -999.000,9,-999.0000,9,  -999.00,9,   -999.0,9,-999.000,9,  -999.00,9,   -999.0,9,   -999.0,9,   -999.0,9,  -999.00,9,  -999.0,-999.0000,-999.000,-999.000, 18.4191,-999.000,9
      06MT22_5,   A10,    82,  1,    210,2,19930123,1524,-29.7517,   5.0995, 5253,     71.0,  16.6040,  35.5590,2,  35.5550,2,    259.8,2,     1.38,2,     0.03,9,     0.17,2, -999.000,9, -999.000,9, -999.000,9, -999.000,9,-999.0000,9,  -999.00,9,   -999.0,9,-999.000,9,  -999.00,9,   -999.0,9,   -999.0,9,   -999.0,9,  -999.00,9,  -999.0,-999.0000,-999.000,-999.000, 16.5925,-999.000,9
      06MT22_5,   A10,    82,  1,    209,2,19930123,1524,-29.7517,   5.0995, 5253,    102.0,  15.6270,  35.5270,2,-999.0000,9,    238.9,2,     1.99,2,     2.36,9,     0.29,2, -999.000,9, -999.000,9, -999.000,9, -999.000,9,-999.0000,9,  -999.00,9,   -999.0,9,-999.000,9,  -999.00,9,   -999.0,9,   -999.0,9,   -999.0,9,  -999.00,9,  -999.0,-999.0000,-999.000,-999.000, 15.6111,-999.000,9
      06MT22_5,   A10,    82,  1,    208,2,19930123,1524,-29.7517,   5.0995, 5253,    151.0,  15.2970,  35.4860,2,-999.0000,9,    236.7,2,     1.87,2,     3.05,9,     0.35,2, -999.000,9, -999.000,9, -999.000,9, -999.000,9,-999.0000,9,  -999.00,9,   -999.0,9,-999.000,9,  -999.00,9,   -999.0,9,   -999.0,9,   -999.0,9,  -999.00,9,  -999.0,-999.0000,-999.000,-999.000, 15.2738,-999.000,9
      06MT22_5,   A10,    82,  1,    207,2,19930123,1524,-29.7517,   5.0995, 5253,    201.0,  14.2830,  35.2820,2,  35.2780,2,    235.1,2,     2.32,2,     4.58,9,     0.45,2, -999.000,9, -999.000,9, -999.000,9, -999.000,9,-999.0000,9,  -999.00,9,   -999.0,9,-999.000,9,  -999.00,9,   -999.0,9,   -999.0,9,   -999.0,9,  -999.00,9,  -999.0,-999.0000,-999.000,-999.000, 14.2535,-999.000,9
      06MT22_5,   A10,    82,  1,    206,2,19930123,1524,-29.7517,   5.0995, 5253,    300.0,  12.6220,  35.0630,2,-999.0000,9,    220.2,2,     3.63,2,     9.95,9,     0.73,2, -999.000,9, -999.000,9, -999.000,9, -999.000,9,-999.0000,9,  -999.00,9,   -999.0,9,-999.000,9,  -999.00,9,   -999.0,9,   -999.0,9,   -999.0,9,  -999.00,9,  -999.0,-999.0000,-999.000,-999.000, 12.5815,-999.000,9
      06MT22_5,   A10,    82,  1,    205,2,19930123,1524,-29.7517,   5.0995, 5253,    400.0,  10.8670,  34.8860,2,-999.0000,9,    199.7,2,     6.80,2,    16.51,9,     1.13,2, -999.000,9, -999.000,9, -999.000,9, -999.000,9,-999.0000,9,  -999.00,9,   -999.0,9,-999.000,9,  -999.00,9,   -999.0,9,   -999.0,9,   -999.0,9,  -999.00,9,  -999.0,-999.0000,-999.000,-999.000, 10.8178,-999.000,9
      06MT22_5,   A10,    82,  1,    204,2,19930123,1524,-29.7517,   5.0995, 5253,    501.0,   9.0570,  34.6910,2,  34.6890,2,    194.0,2,    10.33,2,    21.47,9,     1.44,2, -999.000,9, -999.000,9, -999.000,9, -999.000,9,-999.0000,9,  -999.00,9,   -999.0,9,-999.000,9,  -999.00,9,   -999.0,9,   -999.0,9,   -999.0,9,  -999.00,9,  -999.0,-999.0000,-999.000,-999.000,  9.0016,-999.000,9
      06MT22_5,   A10,    82,  1,    203,2,19930123,1524,-29.7517,   5.0995, 5253,    599.0,   6.9830,  34.4950,2,-999.0000,9,    200.9,2,    15.59,2,    26.30,9,     1.74,2, -999.000,9, -999.000,9, -999.000,9, -999.000,9,-999.0000,9,  -999.00,9,   -999.0,9,-999.000,9,  -999.00,9,   -999.0,9,   -999.0,9,   -999.0,9,  -999.00,9,  -999.0,-999.0000,-999.000,-999.000,  6.9259,-999.000,9
      06MT22_5,   A10,    82,  1,    202,2,19930123,1524,-29.7517,   5.0995, 5253,    700.0,   5.6010,  34.3860,2,-999.0000,9,    210.2,2,    19.68,2,    29.03,9,     1.89,2, -999.000,9, -999.000,9, -999.000,9, -999.000,9,-999.0000,9,  -999.00,9,   -999.0,9,-999.000,9,  -999.00,9,   -999.0,9,   -999.0,9,   -999.0,9,  -999.00,9,  -999.0,-999.0000,-999.000,-999.000,  5.5412,-999.000,9
      06MT22_5,   A10,    82,  1,    201,2,19930123,1524,-29.7517,   5.0995, 5253,    850.0,   4.3640,  34.3480,2,  34.3490,2,    205.2,2,    29.42,2,    32.13,9,     2.12,2, -999.000,9, -999.000,9, -999.000,9, -999.000,9,-999.0000,9,  -999.00,9,   -999.0,9,-999.000,9,  -999.00,9,   -999.0,9,   -999.0,9,   -999.0,9,  -999.00,9,  -999.0,-999.0000,-999.000,-999.000,  4.2985,-999.000,9