BOTTLE,20030417WHPSIOSA
EXPOCODE,SECT_ID,STNNBR,CASTNO,BTLNBR,BTLNBR_FLAG_W,DATE,TIME,LATITUDE,LONGITUDE,DEPTH,CTDPRS,CTDTMP,CTDSAL,CTDSAL_FLAG_W,SALNTY,SALNTY_FLAG_W,OXYGEN,OXYGEN_FLAG_W,SILCAT,SILCAT_FLAG_W,NO2+NO3,NO2+NO3_FLAG_W,PHSPHT,PHSPHT_FLAG_W,CFC-11,CFC-11_FLAG_W,CFC-12,CFC-12_FLAG_W,CCL4,CCL4_FLAG_W,TRITUM,TRITUM_FLAG_W,HELIUM,HELIUM_FLAG_W,DELHE3,DELHE3_FLAG_W,DELC14,DELC14_FLAG_W,NEON,NEON_FLAG_W,O18O16,O18O16_FLAG_W,TCARBN,TCARBN_FLAG_W,PCO2,PCO2_FLAG_W,ALKALI,ALKALI_FLAG_W,PH,PH_FLAG_W,C14ERR,HELIER,DELHER,NEONER,THETA,TRITER,TRITER_FLAG_W
,,,,,,,,,,,DBAR,ITS-90,PSS-78,,PSS-78,,UMOL/KG,,UMOL/KG,,UMOL/KG,,UMOL/KG,,PMOL/KG,,PMOL/KG,,PMOL/KG,,TU,,NMOL/KG,,PERCNT,,/MILLE,,NMOL/KG,,MILLE,,UMOL/KG,,UATM,,UMOL/KG,,,,/MILLE,NMOL/KG,PERCNT,NMOL/KG,ITS-90,TU,
      06MT22_5,   A10,    64,  2,    324,2,19930118,0334,-30.0050,  -7.3233, 4246,     10.0,  24.4750,  35.8120,2,  35.8160,2,   -999.0,9,  -999.00,9,  -999.00,9,  -999.00,9, -999.000,9, -999.000,9, -999.000,9, -999.000,9,-999.0000,9,  -999.00,9,   -999.0,9,-999.000,9,  -999.00,9,   -999.0,9,   -999.0,9,   -999.0,9,  -999.00,9,  -999.0,-999.0000,-999.000,-999.000, 24.4729,-999.000,9
      06MT22_5,   A10,    64,  2,    319,2,19930118,0334,-30.0050,  -7.3233, 4246,    699.0,   5.9120,  34.3900,2,-999.0000,9,    217.1,2,    16.04,2,    27.06,9,     1.91,2, -999.000,9, -999.000,9, -999.000,9, -999.000,9,-999.0000,9,  -999.00,9,   -999.0,9,-999.000,9,  -999.00,9,   2162.8,2,   -999.0,9,   -999.0,9,  -999.00,9,  -999.0,-999.0000,-999.000,-999.000,  5.8506,-999.000,9
      06MT22_5,   A10,    64,  2,    318,2,19930118,0334,-30.0050,  -7.3233, 4246,    849.0,   4.4320,  34.3150,2,-999.0000,9,    220.3,2,    24.95,2,    30.03,9,     2.12,2, -999.000,9, -999.000,9, -999.000,9, -999.000,9,-999.0000,9,  -999.00,9,   -999.0,9,-999.000,9,  -999.00,9,   2179.5,2,   -999.0,9,   2294.3,2,  -999.00,9,  -999.0,-999.0000,-999.000,-999.000,  4.3661,-999.000,9
      06MT22_5,   A10,    64,  2,    317,2,19930118,0334,-30.0050,  -7.3233, 4246,    998.0,   3.6270,  34.3400,2,  34.3400,2,    209.4,2,    35.94,2,    32.19,9,     2.29,2, -999.000,9, -999.000,9, -999.000,9, -999.000,9,-999.0000,9,  -999.00,9,   -999.0,9,-999.000,9,  -999.00,9,   2199.0,2,   -999.0,9,   2302.2,2,  -999.00,9,  -999.0,-999.0000,-999.000,-999.000,  3.5547,-999.000,9
      06MT22_5,   A10,    64,  2,    316,2,19930118,0334,-30.0050,  -7.3233, 4246,   1200.0,   3.1020,  34.4520,2,-999.0000,9,    192.0,2,    52.73,2,    33.45,9,     2.37,2, -999.000,9, -999.000,9, -999.000,9, -999.000,9,-999.0000,9,  -999.00,9,   -999.0,9,-999.000,9,  -999.00,9,   2223.6,2,   -999.0,9,   2315.1,2,  -999.00,9,  -999.0,-999.0000,-999.000,-999.000,  3.0171,-999.000,9
      06MT22_5,   A10,    64,  2,    315,2,19930118,0334,-30.0050,  -7.3233, 4246,   1399.0,   2.8640,  34.5780,2,-999.0000,9,    188.0,2,    56.86,2,    32.71,9,     2.31,2, -999.000,9, -999.000,9, -999.000,9, -999.000,9,-999.0000,9,  -999.00,9,   -999.0,9,-999.000,9,  -999.00,9,   2232.2,2,   -999.0,9,   2326.9,2,  -999.00,9,  -999.0,-999.0000,-999.000,-999.000,  2.7654,-999.000,9
      06MT22_5,   A10,    64,  2,    314,2,19930118,0334,-30.0050,  -7.3233, 4246,   1601.0,   2.7740,  34.6740,2,-999.0000,9,    193.7,2,    57.43,2,    31.00,9,     2.20,2,    0.035,2,    0.013,2,    0.214,2, -999.000,9,-999.0000,9,  -999.00,9,   -999.0,9,-999.000,9,  -999.00,9,   2228.0,2,   -999.0,9,   2329.9,2,  -999.00,9,  -999.0,-999.0000,-999.000,-999.000,  2.6598,-999.000,9
      06MT22_5,   A10,    64,  2,    313,2,19930118,0334,-30.0050,  -7.3233, 4246,   1800.0,   2.7270,  34.7470,2,-999.0000,9,    204.5,2,    54.93,2,    29.10,9,     2.04,2,    0.012,2,    0.000,2,    0.109,2, -999.000,9,-999.0000,9,  -999.00,9,   -999.0,9,-999.000,9,  -999.00,9,   2219.0,2,   -999.0,9,   2331.9,2,  -999.00,9,  -999.0,-999.0000,-999.000,-999.000,  2.5965,-999.000,9
      06MT22_5,   A10,    64,  2,    312,2,19930118,0334,-30.0050,  -7.3233, 4246,   2001.0,   2.6760,  34.8010,2,  34.7990,2,    216.4,2,    51.60,2,    27.27,9,     1.87,2,    0.010,2,    0.001,2,    0.052,2, -999.000,9,-999.0000,9,  -999.00,9,   -999.0,9,-999.000,9,  -999.00,9,   2210.9,2,   -999.0,9,   2333.8,2,  -999.00,9,  -999.0,-999.0000,-999.000,-999.000,  2.5287,-999.000,9
      06MT22_5,   A10,    64,  2,    311,2,19930118,0334,-30.0050,  -7.3233, 4246,   2251.0,   2.5560,  34.8310,2,-999.0000,9,    225.2,2,    51.24,2,    25.89,9,     1.79,2,    0.004,2,    0.002,4,    0.023,2, -999.000,9,-999.0000,9,  -999.00,9,   -999.0,9,-999.000,9,  -999.00,9,   2205.6,2,   -999.0,9,   2334.8,2,  -999.00,9,  -999.0,-999.0000,-999.000,-999.000,  2.3878,-999.000,9
      06MT22_5,   A10,    64,  2,    310,2,19930118,0334,-30.0050,  -7.3233, 4246,   2502.0,   2.4690,  34.8520,2,-999.0000,9,    231.4,2,    50.13,2,    25.05,9,     1.74,2,    0.000,2,    0.000,2,    0.006,2, -999.000,9,-999.0000,9,  -999.00,9,   -999.0,9,-999.000,9,  -999.00,9,   2201.5,2,   -999.0,9,   2335.8,2,  -999.00,9,  -999.0,-999.0000,-999.000,-999.000,  2.2789,-999.000,9
      06MT22_5,   A10,    64,  2,    309,2,19930118,0334,-30.0050,  -7.3233, 4246,   2752.0,   2.4090,  34.8640,2,-999.0000,9,    237.1,2,    49.45,2,    24.28,9,     1.68,2, -999.000,9, -999.000,9, -999.000,9, -999.000,9,-999.0000,9,  -999.00,9,   -999.0,9,-999.000,9,  -999.00,9,   2200.1,2,   -999.0,9,   2337.8,2,  -999.00,9,  -999.0,-999.0000,-999.000,-999.000,  2.1960,-999.000,9
      06MT22_5,   A10,    64,  2,    308,2,19930118,0334,-30.0050,  -7.3233, 4246,   3002.0,   2.3890,  34.8700,2,-999.0000,9,    238.1,2,    49.27,2,    24.10,9,     1.67,2,   -0.001,2,   -0.001,2,    0.004,2, -999.000,9,-999.0000,9,  -999.00,9,   -999.0,9,-999.000,9,  -999.00,9,   2199.3,2,   -999.0,9,   2338.8,2,  -999.00,9,  -999.0,-999.0000,-999.000,-999.000,  2.1516,-999.000,9
      06MT22_5,   A10,    64,  2,    307,2,19930118,0334,-30.0050,  -7.3233, 4246,   3252.0,   2.3650,  34.8760,2,  34.8750,2,    237.9,2,    49.74,2,    23.91,9,     1.63,2,    0.001,2,    0.000,2,    0.002,2, -999.000,9,-999.0000,9,  -999.00,9,   -999.0,9,-999.000,9,  -999.00,9,   2202.2,2,   -999.0,9,   2342.7,2,  -999.00,9,  -999.0,-999.0000,-999.000,-999.000,  2.1024,-999.000,9
      06MT22_5,   A10,    64,  2,    306,2,19930118,0334,-30.0050,  -7.3233, 4246,   3504.0,   2.3660,  34.8800,2,-999.0000,9,    237.0,2,    51.06,2,    23.86,9,     1.63,2,    0.001,2,    0.000,2,    0.007,2, -999.000,9,-999.0000,9,  -999.00,9,   -999.0,9,-999.000,9,  -999.00,9,   2205.5,2,   -999.0,9,   2347.7,2,  -999.00,9,  -999.0,-999.0000,-999.000,-999.000,  2.0766,-999.000,9
      06MT22_5,   A10,    64,  2,    305,2,19930118,0334,-30.0050,  -7.3233, 4246,   3754.0,   2.3740,  34.8820,2,-999.0000,9,    236.0,2,    50.65,2,    24.16,9,     1.58,2, -999.000,9, -999.000,9, -999.000,9, -999.000,9,-999.0000,9,  -999.00,9,   -999.0,9,-999.000,9,  -999.00,9,   2207.8,2,   -999.0,9,   2350.6,2,  -999.00,9,  -999.0,-999.0000,-999.000,-999.000,  2.0571,-999.000,9
      06MT22_5,   A10,    64,  2,    304,2,19930118,0334,-30.0050,  -7.3233, 4246,   4012.0,   2.3930,  34.8830,2,  34.8830,2,    236.3,2,    50.89,2,    24.21,9,     1.58,2,    0.000,2,   -0.001,2,    0.000,2, -999.000,9,-999.0000,9,  -999.00,9,   -999.0,9,-999.000,9,  -999.00,9,   2209.7,2,   -999.0,9,   2350.6,2,  -999.00,9,  -999.0,-999.0000,-999.000,-999.000,  2.0465,-999.000,9
      06MT22_5,   A10,    64,  2,    303,2,19930118,0334,-30.0050,  -7.3233, 4246,   4146.0,   2.4060,  34.8830,2,-999.0000,9,    235.0,2,    51.32,2,    23.87,9,     1.57,2,    0.006,2,    0.000,2,    0.003,2, -999.000,9,-999.0000,9,  -999.00,9,   -999.0,9,-999.000,9,  -999.00,9,   2210.2,2,   -999.0,9,   2354.6,2,  -999.00,9,  -999.0,-999.0000,-999.000,-999.000,  2.0436,-999.000,9
      06MT22_5,   A10,    64,  2,    301,2,19930118,0334,-30.0050,  -7.3233, 4246,   4223.0,   2.4130,  34.8830,2,-999.0000,9,   -999.0,9,  -999.00,9,  -999.00,9,  -999.00,9, -999.000,9, -999.000,9, -999.000,9, -999.000,9,-999.0000,9,  -999.00,9,   -999.0,9,-999.000,9,  -999.00,9,   -999.0,9,   -999.0,9,   2351.6,2,  -999.00,9,  -999.0,-999.0000,-999.000,-999.000,  2.0348,-999.000,9
      06MT22_5,   A10,    64,  2,    302,2,19930118,0334,-30.0050,  -7.3233, 4246,   4229.0,   2.4130,  34.8830,2,  34.8830,2,    235.5,2,    51.37,2,    23.88,9,     1.62,2,    0.005,2,    0.006,2,    0.004,2, -999.000,9,-999.0000,9,  -999.00,9,   -999.0,9,-999.000,9,  -999.00,9,   2210.4,2,   -999.0,9,   -999.0,9,  -999.00,9,  -999.0,-999.0000,-999.000,-999.000,  2.0407,-999.000,9
      06MT22_5,   A10,    65,  1,    217,2,19930118,0848,-30.0000,  -6.5250, 4286,     12.0,  24.1590,  35.8180,2,  35.8300,2,    216.7,2,     0.65,2,     0.03,9,     0.22,2, -999.000,9, -999.000,9, -999.000,9, -999.000,9,-999.0000,9,  -999.00,9,   -999.0,9,-999.000,9,  -999.00,9,   -999.0,0,   -999.0,9,   -999.0,9,  -999.00,9,  -999.0,-999.0000,-999.000,-999.000, 24.1565,-999.000,9
      06MT22_5,   A10,    65,  1,    209,2,19930118,0848,-30.0000,  -6.5250, 4286,     31.0,  21.0170,  35.7480,2,-999.0000,9,    235.2,2,     0.55,2,     0.04,9,     0.21,2, -999.000,9, -999.000,9, -999.000,9, -999.000,9,   1.7253,2,    -1.49,2,   -999.0,9,   7.009,2,  -999.00,9,   -999.0,0,   -999.0,9,   -999.0,9,  -999.00,9,  -999.0,  0.0069,   0.250,   0.028, 21.0111,-999.000,9
      06MT22_5,   A10,    65,  1,    208,2,19930118,0848,-30.0000,  -6.5250, 4286,     53.0,  18.6650,  35.7800,2,-999.0000,9,    247.4,2,     0.96,2,     0.03,9,     0.20,2, -999.000,9, -999.000,9, -999.000,9, -999.000,9,-999.0000,1,  -999.00,1,   -999.0,9,-999.000,1,  -999.00,9,   -999.0,0,   -999.0,9,   -999.0,9,  -999.00,9,  -999.0,-999.0000,-999.000,-999.000, 18.6556,-999.000,9
      06MT22_5,   A10,    65,  1,    207,2,19930118,0848,-30.0000,  -6.5250, 4286,     72.0,  18.1460,  35.7950,2,  35.7760,2,    245.8,2,     0.57,2,     0.02,9,     0.20,2, -999.000,9, -999.000,9, -999.000,9, -999.000,9,-999.0000,1,  -999.00,1,   -999.0,9,-999.000,1,  -999.00,9,   -999.0,0,   -999.0,9,   -999.0,9,  -999.00,9,  -999.0,-999.0000,-999.000,-999.000, 18.1335,-999.000,9
      06MT22_5,   A10,    65,  1,    206,2,19930118,0848,-30.0000,  -6.5250, 4286,    102.0,  16.9060,  35.6560,2,-999.0000,9,    245.2,2,     0.52,2,     0.03,9,     0.24,2, -999.000,9, -999.000,9, -999.000,9, -999.000,9,-999.0000,9,  -999.00,9,   -999.0,9,-999.000,9,  -999.00,9,   -999.0,0,   -999.0,9,   -999.0,9,  -999.00,9,  -999.0,-999.0000,-999.000,-999.000, 16.8892,-999.000,9
      06MT22_5,   A10,    65,  1,    205,2,19930118,0848,-30.0000,  -6.5250, 4286,    151.0,  15.7760,  35.5010,2,-999.0000,9,    234.2,2,     0.87,2,     1.58,9,     0.35,2, -999.000,9, -999.000,9, -999.000,9, -999.000,9,-999.0000,9,  -999.00,9,   -999.0,9,-999.000,9,  -999.00,9,   -999.0,0,   -999.0,9,   -999.0,9,  -999.00,9,  -999.0,-999.0000,-999.000,-999.000, 15.7523,-999.000,9
      06MT22_5,   A10,    65,  1,    204,2,19930118,0848,-30.0000,  -6.5250, 4286,    201.0,  14.7510,  35.3370,2,  35.3240,2,    226.3,2,     1.41,2,     4.03,9,     0.47,2, -999.000,9, -999.000,9, -999.000,9, -999.000,9,-999.0000,9,  -999.00,9,   -999.0,9,-999.000,9,  -999.00,9,   -999.0,0,   -999.0,9,   -999.0,9,  -999.00,9,  -999.0,-999.0000,-999.000,-999.000, 14.7208,-999.000,9
      06MT22_5,   A10,    65,  1,    203,2,19930118,0848,-30.0000,  -6.5250, 4286,    302.0,  12.7640,  35.1270,2,-999.0000,9,    212.8,2,     3.17,2,    10.06,9,     0.81,2, -999.000,9, -999.000,9, -999.000,9, -999.000,9,-999.0000,9,  -999.00,9,   -999.0,9,-999.000,9,  -999.00,9,   -999.0,0,   -999.0,9,   -999.0,9,  -999.00,9,  -999.0,-999.0000,-999.000,-999.000, 12.7229,-999.000,9
      06MT22_5,   A10,    65,  1,    202,2,19930118,0848,-30.0000,  -6.5250, 4286,    401.0,  11.0070,  34.9240,2,-999.0000,9,    211.0,2,     4.88,2,    14.42,9,     1.05,2, -999.000,9, -999.000,9, -999.000,9, -999.000,9,-999.0000,9,  -999.00,9,   -999.0,9,-999.000,9,  -999.00,9,   -999.0,0,   -999.0,9,   -999.0,9,  -999.00,9,  -999.0,-999.0000,-999.000,-999.000, 10.9572,-999.000,9
      06MT22_5,   A10,    65,  1,    201,2,19930118,0848,-30.0000,  -6.5250, 4286,    500.0,   9.3920,  34.7310,2,  34.7350,2,    209.0,2,     7.19,2,    18.57,9,     1.36,2, -999.000,9, -999.000,9, -999.000,9, -999.000,9,-999.0000,9,  -999.00,9,   -999.0,9,-999.000,9,  -999.00,9,   -999.0,0,   -999.0,9,   -999.0,9,  -999.00,9,  -999.0,-999.0000,-999.000,-999.000,  9.3355,-999.000,9