BOTTLE,20030417WHPSIOSA
EXPOCODE,SECT_ID,STNNBR,CASTNO,BTLNBR,BTLNBR_FLAG_W,DATE,TIME,LATITUDE,LONGITUDE,DEPTH,CTDPRS,CTDTMP,CTDSAL,CTDSAL_FLAG_W,SALNTY,SALNTY_FLAG_W,OXYGEN,OXYGEN_FLAG_W,SILCAT,SILCAT_FLAG_W,NO2+NO3,NO2+NO3_FLAG_W,PHSPHT,PHSPHT_FLAG_W,CFC-11,CFC-11_FLAG_W,CFC-12,CFC-12_FLAG_W,CCL4,CCL4_FLAG_W,TRITUM,TRITUM_FLAG_W,HELIUM,HELIUM_FLAG_W,DELHE3,DELHE3_FLAG_W,DELC14,DELC14_FLAG_W,NEON,NEON_FLAG_W,O18O16,O18O16_FLAG_W,TCARBN,TCARBN_FLAG_W,PCO2,PCO2_FLAG_W,ALKALI,ALKALI_FLAG_W,PH,PH_FLAG_W,C14ERR,HELIER,DELHER,NEONER,THETA,TRITER,TRITER_FLAG_W
,,,,,,,,,,,DBAR,ITS-90,PSS-78,,PSS-78,,UMOL/KG,,UMOL/KG,,UMOL/KG,,UMOL/KG,,PMOL/KG,,PMOL/KG,,PMOL/KG,,TU,,NMOL/KG,,PERCNT,,/MILLE,,NMOL/KG,,MILLE,,UMOL/KG,,UATM,,UMOL/KG,,,,/MILLE,NMOL/KG,PERCNT,NMOL/KG,ITS-90,TU,
      06MT22_5,   A10,    67,  2,    324,2,19930119,0241,-30.0000,  -4.8267, 4315,      9.0,  24.5260,  35.8960,2,  35.9010,2,   -999.0,9,  -999.00,9,  -999.00,9,  -999.00,9, -999.000,9, -999.000,9, -999.000,9, -999.000,9,-999.0000,9,  -999.00,9,   -999.0,9,-999.000,9,  -999.00,9,   -999.0,0,   -999.0,9,   -999.0,9,  -999.00,9,  -999.0,-999.0000,-999.000,-999.000, 24.5241,-999.000,9
      06MT22_5,   A10,    67,  2,    320,2,19930119,0241,-30.0000,  -4.8267, 4315,    599.0,   7.4640,  34.5340,2,-999.0000,9,    200.3,2,    13.97,2,    24.82,9,     1.70,2, -999.000,9, -999.000,9, -999.000,9, -999.000,9,-999.0000,9,  -999.00,9,   -999.0,9,-999.000,9,  -999.00,9,   -999.0,0,   -999.0,9,   -999.0,9,  -999.00,9,  -999.0,-999.0000,-999.000,-999.000,  7.4047,-999.000,9
      06MT22_5,   A10,    67,  2,    319,2,19930119,0241,-30.0000,  -4.8267, 4315,    698.0,   6.1660,  34.4280,2,  34.4280,2,    204.7,2,    18.16,2,    27.72,9,     1.95,2, -999.000,9, -999.000,9, -999.000,9, -999.000,9,-999.0000,9,  -999.00,9,   -999.0,9,-999.000,9,  -999.00,9,   -999.0,0,   -999.0,9,   -999.0,9,  -999.00,9,  -999.0,-999.0000,-999.000,-999.000,  6.1033,-999.000,9
      06MT22_5,   A10,    67,  2,    318,2,19930119,0241,-30.0000,  -4.8267, 4315,    849.0,   4.6860,  34.3520,2,-999.0000,9,    208.2,2,    26.51,2,    30.59,9,     2.15,2, -999.000,9, -999.000,9, -999.000,9, -999.000,9,-999.0000,9,  -999.00,9,   -999.0,9,-999.000,9,  -999.00,9,   -999.0,0,   -999.0,9,   -999.0,9,  -999.00,9,  -999.0,-999.0000,-999.000,-999.000,  4.6183,-999.000,9
      06MT22_5,   A10,    67,  2,    317,2,19930119,0241,-30.0000,  -4.8267, 4315,    999.0,   3.7380,  34.3730,2,-999.0000,9,    199.8,2,    39.24,2,    32.68,9,     2.30,2, -999.000,9, -999.000,9, -999.000,9, -999.000,9,-999.0000,9,  -999.00,9,   -999.0,9,-999.000,9,  -999.00,9,   -999.0,0,   -999.0,9,   -999.0,9,  -999.00,9,  -999.0,-999.0000,-999.000,-999.000,  3.6645,-999.000,9
      06MT22_5,   A10,    67,  2,    316,2,19930119,0241,-30.0000,  -4.8267, 4315,   1199.0,   3.1430,  34.4770,2,  34.4780,2,    188.9,2,    51.37,2,    33.37,9,     2.38,2, -999.000,9, -999.000,9, -999.000,9, -999.000,9,-999.0000,9,  -999.00,9,   -999.0,9,-999.000,9,  -999.00,9,   -999.0,0,   -999.0,9,   -999.0,9,  -999.00,9,  -999.0,-999.0000,-999.000,-999.000,  3.0585,-999.000,9
      06MT22_5,   A10,    67,  2,    315,2,19930119,0241,-30.0000,  -4.8267, 4315,   1398.0,   2.9020,  34.5950,2,-999.0000,9,    187.6,2,    57.26,2,    32.46,9,     2.29,2, -999.000,9, -999.000,9, -999.000,9, -999.000,9,-999.0000,9,  -999.00,9,   -999.0,9,-999.000,9,  -999.00,9,   -999.0,0,   -999.0,9,   -999.0,9,  -999.00,9,  -999.0,-999.0000,-999.000,-999.000,  2.8032,-999.000,9
      06MT22_5,   A10,    67,  2,    314,2,19930119,0241,-30.0000,  -4.8267, 4315,   1599.0,   2.8120,  34.6980,2,-999.0000,9,    195.5,2,    56.40,2,    30.47,9,     2.13,2, -999.000,9, -999.000,9, -999.000,9, -999.000,9,-999.0000,9,  -999.00,9,   -999.0,9,-999.000,9,  -999.00,9,   -999.0,0,   -999.0,9,   -999.0,9,  -999.00,9,  -999.0,-999.0000,-999.000,-999.000,  2.6976,-999.000,9
      06MT22_5,   A10,    67,  2,    313,2,19930119,0241,-30.0000,  -4.8267, 4315,   1800.0,   2.7020,  34.7620,2,  34.7630,2,    207.1,2,    55.02,2,    28.35,9,     1.94,2, -999.000,9, -999.000,9, -999.000,9, -999.000,9,-999.0000,9,  -999.00,9,   -999.0,9,-999.000,9,  -999.00,9,   -999.0,0,   -999.0,9,   -999.0,9,  -999.00,9,  -999.0,-999.0000,-999.000,-999.000,  2.5720,-999.000,9
      06MT22_5,   A10,    67,  2,    312,2,19930119,0241,-30.0000,  -4.8267, 4315,   2001.0,   2.5940,  34.8020,2,-999.0000,9,    217.2,2,    53.75,2,    26.94,9,     1.86,2, -999.000,9, -999.000,9, -999.000,9, -999.000,9,-999.0000,9,  -999.00,9,   -999.0,9,-999.000,9,  -999.00,9,   -999.0,0,   -999.0,9,   -999.0,9,  -999.00,9,  -999.0,-999.0000,-999.000,-999.000,  2.4478,-999.000,9
      06MT22_5,   A10,    67,  2,    311,2,19930119,0241,-30.0000,  -4.8267, 4315,   2251.0,   2.5220,  34.8300,2,-999.0000,9,    237.4,2,    52.05,2,    26.13,9,     1.77,2, -999.000,9, -999.000,9, -999.000,9, -999.000,9,-999.0000,9,  -999.00,9,   -999.0,9,-999.000,9,  -999.00,9,   -999.0,0,   -999.0,9,   -999.0,9,  -999.00,9,  -999.0,-999.0000,-999.000,-999.000,  2.3544,-999.000,9
      06MT22_5,   A10,    67,  2,    310,2,19930119,0241,-30.0000,  -4.8267, 4315,   2501.0,   2.4530,  34.8490,2,  34.8480,2,    231.8,2,    50.96,2,    25.29,9,     1.72,2, -999.000,9, -999.000,9, -999.000,9, -999.000,9,-999.0000,9,  -999.00,9,   -999.0,9,-999.000,9,  -999.00,9,   -999.0,0,   -999.0,9,   -999.0,9,  -999.00,9,  -999.0,-999.0000,-999.000,-999.000,  2.2634,-999.000,9
      06MT22_5,   A10,    67,  2,    309,2,19930119,0241,-30.0000,  -4.8267, 4315,   2753.0,   2.4050,  34.8620,2,-999.0000,9,    236.2,2,    50.16,2,    24.52,9,     1.65,2, -999.000,9, -999.000,9, -999.000,9, -999.000,9,-999.0000,9,  -999.00,9,   -999.0,9,-999.000,9,  -999.00,9,   -999.0,0,   -999.0,9,   -999.0,9,  -999.00,9,  -999.0,-999.0000,-999.000,-999.000,  2.1920,-999.000,9
      06MT22_5,   A10,    67,  2,    308,2,19930119,0241,-30.0000,  -4.8267, 4315,   3003.0,   2.3750,  34.8720,2,-999.0000,9,    238.7,2,    49.60,2,    24.12,9,     1.64,2, -999.000,9, -999.000,9, -999.000,9, -999.000,9,-999.0000,9,  -999.00,9,   -999.0,9,-999.000,9,  -999.00,9,   -999.0,0,   -999.0,9,   -999.0,9,  -999.00,9,  -999.0,-999.0000,-999.000,-999.000,  2.1378,-999.000,9
      06MT22_5,   A10,    67,  2,    307,2,19930119,0241,-30.0000,  -4.8267, 4315,   3253.0,   2.3590,  34.8770,2,  34.8760,2,    238.2,2,    50.02,2,    24.00,9,     1.62,2, -999.000,9, -999.000,9, -999.000,9, -999.000,9,-999.0000,9,  -999.00,9,   -999.0,9,-999.000,9,  -999.00,9,   -999.0,0,   -999.0,9,   -999.0,9,  -999.00,9,  -999.0,-999.0000,-999.000,-999.000,  2.0965,-999.000,9
      06MT22_5,   A10,    67,  2,    306,2,19930119,0241,-30.0000,  -4.8267, 4315,   3505.0,   2.3570,  34.8800,2,-999.0000,9,    237.3,2,    50.57,2,    23.72,9,     1.60,2, -999.000,9, -999.000,9, -999.000,9, -999.000,9,-999.0000,9,  -999.00,9,   -999.0,9,-999.000,9,  -999.00,9,   -999.0,0,   -999.0,9,   -999.0,9,  -999.00,9,  -999.0,-999.0000,-999.000,-999.000,  2.0678,-999.000,9
      06MT22_5,   A10,    67,  2,    305,2,19930119,0241,-30.0000,  -4.8267, 4315,   3756.0,   2.3640,  34.8820,2,  34.8820,2,    235.9,2,    50.94,2,    23.67,9,     1.59,2,    0.003,2,   -0.001,2,    0.002,2, -999.000,9,-999.0000,9,  -999.00,9,   -999.0,9,-999.000,9,  -999.00,9,   -999.0,0,   -999.0,9,   -999.0,9,  -999.00,9,  -999.0,-999.0000,-999.000,-999.000,  2.0471,-999.000,9
      06MT22_5,   A10,    67,  2,    304,2,19930119,0241,-30.0000,  -4.8267, 4315,   4013.0,   2.3780,  34.8830,2,  34.8820,2,    234.8,2,    51.60,2,    23.77,9,     1.58,2,    0.001,2,   -0.001,2,    0.002,2, -999.000,9,-999.0000,9,  -999.00,9,   -999.0,9,-999.000,9,  -999.00,9,   -999.0,0,   -999.0,9,   -999.0,9,  -999.00,9,  -999.0,-999.0000,-999.000,-999.000,  2.0318,-999.000,9
      06MT22_5,   A10,    67,  2,    303,2,19930119,0241,-30.0000,  -4.8267, 4315,   4260.0,   2.3920,  34.8820,2,  34.8820,2,    234.4,2,    52.39,2,    23.99,9,     1.59,2,    0.003,2,    0.000,2,    0.005,2, -999.000,9,-999.0000,9,  -999.00,9,   -999.0,9,-999.000,9,  -999.00,9,   -999.0,0,   -999.0,9,   -999.0,9,  -999.00,9,  -999.0,-999.0000,-999.000,-999.000,  2.0167,-999.000,9
      06MT22_5,   A10,    67,  2,    301,2,19930119,0241,-30.0000,  -4.8267, 4315,   4398.0,   2.4040,  34.8830,2,-999.0000,9,    235.2,2,    52.71,2,    24.03,9,     1.65,2,    0.002,6,    0.000,6,    0.003,6, -999.000,9,-999.0000,9,  -999.00,9,   -999.0,9,-999.000,9,  -999.00,9,   -999.0,0,   -999.0,9,   -999.0,9,  -999.00,9,  -999.0,-999.0000,-999.000,-999.000,  2.0051,-999.000,9
      06MT22_5,   A10,    67,  2,    302,2,19930119,0241,-30.0000,  -4.8267, 4315,   4410.0,   2.4050,  34.8840,2,  34.8810,2,   -999.0,9,  -999.00,9,  -999.00,9,  -999.00,9,    0.002,2,    0.000,2,    0.002,2, -999.000,9,-999.0000,9,  -999.00,9,   -999.0,9,-999.000,9,  -999.00,9,   -999.0,0,   -999.0,9,   -999.0,9,  -999.00,9,  -999.0,-999.0000,-999.000,-999.000,  2.0115,-999.000,9
      06MT22_5,   A10,    68,  1,    217,2,19930119,1002,-29.9975,  -4.0005, 3990,     12.0,  25.1340,  36.0870,2,  36.0870,2,    214.1,2,     1.11,2,     0.04,9,     0.20,2, -999.000,9, -999.000,9, -999.000,9, -999.000,9,-999.0000,9,  -999.00,9,   -999.0,9,-999.000,9,  -999.00,9,   -999.0,9,   -999.0,9,   -999.0,9,  -999.00,9,  -999.0,-999.0000,-999.000,-999.000, 25.1314,-999.000,9
      06MT22_5,   A10,    68,  1,    208,2,19930119,1002,-29.9975,  -4.0005, 3990,     12.0,  25.1340,  36.0870,2,-999.0000,9,   -999.0,9,  -999.00,9,  -999.00,9,  -999.00,9,    1.923,2,    1.069,2,    2.413,2, -999.000,9,-999.0000,1,  -999.00,1,   -999.0,9,-999.000,1,  -999.00,9,   2065.6,2,   -999.0,9,   2377.1,2,  -999.00,9,  -999.0,-999.0000,-999.000,-999.000, 25.1314,-999.000,9
      06MT22_5,   A10,    68,  1,    207,2,19930119,1002,-29.9975,  -4.0005, 3990,     32.0,  22.5010,  35.9360,2,  35.9190,2,    234.0,2,     1.15,2,     0.05,9,     0.18,2,    2.269,2,    1.232,2,    2.520,2, -999.000,9,   1.7074,2,    -1.49,2,   -999.0,9,   6.920,2,  -999.00,9,   2062.7,2,   -999.0,9,   2358.5,2,  -999.00,9,  -999.0,  0.0068,   0.250,   0.028, 22.4946,-999.000,9
      06MT22_5,   A10,    68,  1,    206,2,19930119,1002,-29.9975,  -4.0005, 3990,     53.0,  18.8190,  35.8580,2,-999.0000,9,    246.8,2,     1.23,2,     0.05,9,     0.20,2,    2.494,2,    1.336,2,    2.506,2, -999.000,9,-999.0000,1,  -999.00,1,   -999.0,9,-999.000,1,  -999.00,9,   2060.7,2,   -999.0,9,   2357.5,2,  -999.00,9,  -999.0,-999.0000,-999.000,-999.000, 18.8096,-999.000,9
      06MT22_5,   A10,    68,  1,    205,2,19930119,1002,-29.9975,  -4.0005, 3990,     72.0,  17.8840,  35.7850,2,-999.0000,9,    248.0,2,     1.44,2,     0.08,9,     0.23,2,    2.538,2,    1.349,2,    2.436,2, -999.000,9,   1.6954,7,    -0.86,2,   -999.0,9,   6.989,7,  -999.00,9,   2059.3,2,   -999.0,9,   2350.6,2,  -999.00,9,  -999.0,  0.0068,   0.250,   0.028, 17.8717,-999.000,9
      06MT22_5,   A10,    68,  1,    204,2,19930119,1002,-29.9975,  -4.0005, 3990,    102.0,  17.0600,  35.7240,2,  35.7240,2,    240.2,2,     1.35,2,     0.10,9,     0.23,2,    2.537,2,    1.349,2,    2.252,2, -999.000,9,-999.0000,9,  -999.00,9,   -999.0,9,-999.000,9,  -999.00,9,   2065.2,2,   -999.0,9,   2350.6,2,  -999.00,9,  -999.0,-999.0000,-999.000,-999.000, 17.0431,-999.000,9
      06MT22_5,   A10,    68,  1,    203,2,19930119,1002,-29.9975,  -4.0005, 3990,    152.0,  16.3660,  35.6160,2,-999.0000,9,    232.1,2,     1.29,2,     1.21,9,     0.30,2,    2.594,2,    1.380,2,    1.936,2, -999.000,9,-999.0000,9,  -999.00,9,   -999.0,9,-999.000,9,  -999.00,9,   2072.1,2,   -999.0,9,   2348.6,2,  -999.00,9,  -999.0,-999.0000,-999.000,-999.000, 16.3416,-999.000,9
      06MT22_5,   A10,    68,  1,    202,2,19930119,1002,-29.9975,  -4.0005, 3990,    201.0,  15.0350,  35.3820,2,-999.0000,9,    225.0,2,     2.11,2,     3.94,9,     0.44,2,    2.624,2,    1.384,2,    1.263,2, -999.000,9,-999.0000,9,  -999.00,9,   -999.0,9,-999.000,9,  -999.00,9,   2079.1,2,   -999.0,9,   2328.9,2,  -999.00,9,  -999.0,-999.0000,-999.000,-999.000, 15.0045,-999.000,9
      06MT22_5,   A10,    68,  1,    201,2,19930119,1002,-29.9975,  -4.0005, 3990,    302.0,  13.2220,  35.1530,2,  35.1550,2,    214.3,2,     4.08,2,     9.07,9,     0.70,2,    2.508,2,    1.303,2,    0.917,2, -999.000,9,-999.0000,9,  -999.00,9,   -999.0,9,-999.000,9,  -999.00,9,   2098.4,2,   -999.0,9,   2320.0,2,  -999.00,9,  -999.0,-999.0000,-999.000,-999.000, 13.1798,-999.000,9