BOTTLE,20030417WHPSIOSA
EXPOCODE,SECT_ID,STNNBR,CASTNO,BTLNBR,BTLNBR_FLAG_W,DATE,TIME,LATITUDE,LONGITUDE,DEPTH,CTDPRS,CTDTMP,CTDSAL,CTDSAL_FLAG_W,SALNTY,SALNTY_FLAG_W,OXYGEN,OXYGEN_FLAG_W,SILCAT,SILCAT_FLAG_W,NO2+NO3,NO2+NO3_FLAG_W,PHSPHT,PHSPHT_FLAG_W,CFC-11,CFC-11_FLAG_W,CFC-12,CFC-12_FLAG_W,CCL4,CCL4_FLAG_W,TRITUM,TRITUM_FLAG_W,HELIUM,HELIUM_FLAG_W,DELHE3,DELHE3_FLAG_W,DELC14,DELC14_FLAG_W,NEON,NEON_FLAG_W,O18O16,O18O16_FLAG_W,TCARBN,TCARBN_FLAG_W,PCO2,PCO2_FLAG_W,ALKALI,ALKALI_FLAG_W,PH,PH_FLAG_W,C14ERR,HELIER,DELHER,NEONER,THETA,TRITER,TRITER_FLAG_W
,,,,,,,,,,,DBAR,ITS-90,PSS-78,,PSS-78,,UMOL/KG,,UMOL/KG,,UMOL/KG,,UMOL/KG,,PMOL/KG,,PMOL/KG,,PMOL/KG,,TU,,NMOL/KG,,PERCNT,,/MILLE,,NMOL/KG,,MILLE,,UMOL/KG,,UATM,,UMOL/KG,,,,/MILLE,NMOL/KG,PERCNT,NMOL/KG,ITS-90,TU,
      06MT22_5,   A10,    22,  1,    324,2,19930106,0300,-29.9963, -35.1665, 2170,     10.0,  22.8430,  36.2830,2,  36.2850,2,    220.0,2,     0.19,2,     0.14,9,     0.07,2, -999.000,9, -999.000,9, -999.000,9, -999.000,9,-999.0000,9,  -999.00,9,   -999.0,9,-999.000,9,  -999.00,9,   -999.0,9,   -999.0,9,   -999.0,9,  -999.00,9,  -999.0,-999.0000,-999.000,-999.000, 22.8410,-999.000,9
      06MT22_5,   A10,    22,  1,    323,2,19930106,0300,-29.9963, -35.1665, 2170,     10.0,  22.8460,  36.2710,2,-999.0000,9,   -999.0,9,  -999.00,9,  -999.00,9,  -999.00,9, -999.000,9, -999.000,9, -999.000,9, -999.000,9,-999.0000,9,  -999.00,9,   -999.0,9,-999.000,9,  -999.00,9,   -999.0,9,   -999.0,9,   -999.0,9,  -999.00,9,  -999.0,-999.0000,-999.000,-999.000, 22.8440,-999.000,9
      06MT22_5,   A10,    22,  1,    322,2,19930106,0300,-29.9963, -35.1665, 2170,     30.0,  22.7880,  36.2870,2,-999.0000,9,    220.8,2,     0.17,2,     0.03,9,     0.08,2, -999.000,9, -999.000,9, -999.000,9, -999.000,9,-999.0000,9,  -999.00,9,   -999.0,9,-999.000,9,  -999.00,9,   -999.0,9,   -999.0,9,   -999.0,9,  -999.00,9,  -999.0,-999.0000,-999.000,-999.000, 22.7819,-999.000,9
      06MT22_5,   A10,    22,  1,    321,2,19930106,0300,-29.9963, -35.1665, 2170,     51.0,  22.5320,  36.3180,2,  36.3160,2,    221.8,2,     0.00,2,     0.07,9,     0.07,2, -999.000,9, -999.000,9, -999.000,9, -999.000,9,-999.0000,9,  -999.00,9,   -999.0,9,-999.000,9,  -999.00,9,   -999.0,9,   -999.0,9,   -999.0,9,  -999.00,9,  -999.0,-999.0000,-999.000,-999.000, 22.5217,-999.000,9
      06MT22_5,   A10,    22,  1,    320,2,19930106,0300,-29.9963, -35.1665, 2170,     69.0,  21.0390,  36.3230,2,-999.0000,9,    231.8,2,     0.06,2,     0.03,9,     0.09,2, -999.000,9, -999.000,9, -999.000,9, -999.000,9,-999.0000,9,  -999.00,9,   -999.0,9,-999.000,9,  -999.00,9,   -999.0,9,   -999.0,9,   -999.0,9,  -999.00,9,  -999.0,-999.0000,-999.000,-999.000, 21.0257,-999.000,9
      06MT22_5,   A10,    22,  1,    319,2,19930106,0300,-29.9963, -35.1665, 2170,    100.0,  19.9850,  36.2170,2,-999.0000,9,    226.2,2,     0.08,2,     0.00,9,     0.13,2, -999.000,9, -999.000,9, -999.000,9, -999.000,9,-999.0000,9,  -999.00,9,   -999.0,9,-999.000,9,  -999.00,9,   -999.0,9,   -999.0,9,   -999.0,9,  -999.00,9,  -999.0,-999.0000,-999.000,-999.000, 19.9664,-999.000,9
      06MT22_5,   A10,    22,  1,    318,2,19930106,0300,-29.9963, -35.1665, 2170,    150.0,  18.1830,  35.9380,2,  35.9220,2,    215.5,2,     0.15,2,     1.29,9,     0.22,2, -999.000,9, -999.000,9, -999.000,9, -999.000,9,-999.0000,9,  -999.00,9,   -999.0,9,-999.000,9,  -999.00,9,   -999.0,9,   -999.0,9,   -999.0,9,  -999.00,9,  -999.0,-999.0000,-999.000,-999.000, 18.1569,-999.000,9
      06MT22_5,   A10,    22,  1,    317,2,19930106,0300,-29.9963, -35.1665, 2170,    200.0,  16.7680,  35.7100,2,-999.0000,9,    212.8,2,     0.79,2,     3.36,9,     0.38,2, -999.000,9, -999.000,9, -999.000,9, -999.000,9,-999.0000,9,  -999.00,9,   -999.0,9,-999.000,9,  -999.00,9,   -999.0,9,   -999.0,9,   -999.0,9,  -999.00,9,  -999.0,-999.0000,-999.000,-999.000, 16.7352,-999.000,9
      06MT22_5,   A10,    22,  1,    316,2,19930106,0300,-29.9963, -35.1665, 2170,    299.0,  14.5800,  35.4030,2,-999.0000,9,    210.5,2,     2.17,2,     7.12,9,     0.62,2, -999.000,9, -999.000,9, -999.000,9, -999.000,9,-999.0000,9,  -999.00,9,   -999.0,9,-999.000,9,  -999.00,9,   -999.0,9,   -999.0,9,   -999.0,9,  -999.00,9,  -999.0,-999.0000,-999.000,-999.000, 14.5354,-999.000,9
      06MT22_5,   A10,    22,  1,    315,2,19930106,0300,-29.9963, -35.1665, 2170,    400.0,  12.9850,  35.2140,2,  35.2120,2,    210.3,2,     3.18,2,    10.63,9,     0.80,2, -999.000,9, -999.000,9, -999.000,9, -999.000,9,-999.0000,9,  -999.00,9,   -999.0,9,-999.000,9,  -999.00,9,   -999.0,9,   -999.0,9,   -999.0,9,  -999.00,9,  -999.0,-999.0000,-999.000,-999.000, 12.9295,-999.000,9
      06MT22_5,   A10,    22,  1,    314,2,19930106,0300,-29.9963, -35.1665, 2170,    500.0,  11.2150,  34.9660,2,-999.0000,9,    208.8,2,     5.09,2,    15.19,9,     1.06,2, -999.000,9, -999.000,9, -999.000,9, -999.000,9,-999.0000,9,  -999.00,9,   -999.0,9,-999.000,9,  -999.00,9,   -999.0,9,   -999.0,9,   -999.0,9,  -999.00,9,  -999.0,-999.0000,-999.000,-999.000, 11.1522,-999.000,9
      06MT22_5,   A10,    22,  1,    313,2,19930106,0300,-29.9963, -35.1665, 2170,    600.0,   9.2270,  34.7150,2,-999.0000,9,    204.4,2,     8.33,2,    20.45,9,     1.40,2, -999.000,9, -999.000,9, -999.000,9, -999.000,9,-999.0000,9,  -999.00,9,   -999.0,9,-999.000,9,  -999.00,9,   -999.0,9,   -999.0,9,   -999.0,9,  -999.00,9,  -999.0,-999.0000,-999.000,-999.000,  9.1599,-999.000,9
      06MT22_5,   A10,    22,  1,    312,2,19930106,0300,-29.9963, -35.1665, 2170,    700.0,   7.2490,  34.5080,2,-999.0000,9,    207.7,2,    12.41,2,    25.27,9,     1.71,2, -999.000,9, -999.000,9, -999.000,9, -999.000,9,-999.0000,9,  -999.00,9,   -999.0,9,-999.000,9,  -999.00,9,   -999.0,9,   -999.0,9,   -999.0,9,  -999.00,9,  -999.0,-999.0000,-999.000,-999.000,  7.1804,-999.000,9
      06MT22_5,   A10,    22,  1,    311,2,19930106,0300,-29.9963, -35.1665, 2170,    800.0,   5.5800,  34.3590,2,  34.3590,2,    217.0,2,    16.45,2,    28.12,9,     1.87,2, -999.000,9, -999.000,9, -999.000,9, -999.000,9,-999.0000,9,  -999.00,9,   -999.0,9,-999.000,9,  -999.00,9,   -999.0,9,   -999.0,9,   -999.0,9,  -999.00,9,  -999.0,-999.0000,-999.000,-999.000,  5.5112,-999.000,9
      06MT22_5,   A10,    22,  1,    310,2,19930106,0300,-29.9963, -35.1665, 2170,    901.0,   4.5550,  34.3040,2,-999.0000,9,    226.4,2,    21.75,2,    30.18,9,     2.01,2, -999.000,9, -999.000,9, -999.000,9, -999.000,9,-999.0000,9,  -999.00,9,   -999.0,9,-999.000,9,  -999.00,9,   -999.0,9,   -999.0,9,   -999.0,9,  -999.00,9,  -999.0,-999.0000,-999.000,-999.000,  4.4838,-999.000,9
      06MT22_5,   A10,    22,  1,    309,2,19930106,0300,-29.9963, -35.1665, 2170,   1000.0,   3.9420,  34.2950,2,-999.0000,9,    224.2,2,    27.58,2,    31.50,9,     2.13,2, -999.000,9, -999.000,9, -999.000,9, -999.000,9,-999.0000,9,  -999.00,9,   -999.0,9,-999.000,9,  -999.00,9,   -999.0,9,   -999.0,9,   -999.0,9,  -999.00,9,  -999.0,-999.0000,-999.000,-999.000,  3.8670,-999.000,9
      06MT22_5,   A10,    22,  1,    308,2,19930106,0300,-29.9963, -35.1665, 2170,   1198.0,   3.2520,  34.3960,2,  34.3980,2,    202.9,2,    43.26,2,    33.56,9,     2.28,2, -999.000,9, -999.000,9, -999.000,9, -999.000,9,-999.0000,9,  -999.00,9,   -999.0,9,-999.000,9,  -999.00,9,   -999.0,9,   -999.0,9,   -999.0,9,  -999.00,9,  -999.0,-999.0000,-999.000,-999.000,  3.1667,-999.000,9
      06MT22_5,   A10,    22,  1,    307,2,19930106,0300,-29.9963, -35.1665, 2170,   1391.0,   3.0000,  34.5260,2,-999.0000,9,    193.3,2,    51.51,2,    33.60,9,     2.25,2, -999.000,9, -999.000,9, -999.000,9, -999.000,9,-999.0000,9,  -999.00,9,   -999.0,9,-999.000,9,  -999.00,9,   -999.0,9,   -999.0,9,   -999.0,9,  -999.00,9,  -999.0,-999.0000,-999.000,-999.000,  2.9008,-999.000,9
      06MT22_5,   A10,    22,  1,    306,2,19930106,0300,-29.9963, -35.1665, 2170,   1600.0,   2.8890,  34.6490,2,-999.0000,9,    200.2,2,    52.90,2,    31.76,9,     2.14,2, -999.000,9, -999.000,9, -999.000,9, -999.000,9,-999.0000,9,  -999.00,9,   -999.0,9,-999.000,9,  -999.00,9,   -999.0,9,   -999.0,9,   -999.0,9,  -999.00,9,  -999.0,-999.0000,-999.000,-999.000,  2.7737,-999.000,9
      06MT22_5,   A10,    22,  1,    305,2,19930106,0300,-29.9963, -35.1665, 2170,   1801.0,   2.8110,  34.7260,2,  34.7280,2,    209.5,2,    51.77,2,    29.83,9,     1.99,2, -999.000,9, -999.000,9, -999.000,9, -999.000,9,-999.0000,9,  -999.00,9,   -999.0,9,-999.000,9,  -999.00,9,   -999.0,9,   -999.0,9,   -999.0,9,  -999.00,9,  -999.0,-999.0000,-999.000,-999.000,  2.6795,-999.000,9
      06MT22_5,   A10,    22,  1,    304,2,19930106,0300,-29.9963, -35.1665, 2170,   2002.0,   2.7870,  34.7940,2,-999.0000,9,    221.5,2,    47.08,2,    27.41,9,     1.81,2, -999.000,9, -999.000,9, -999.000,9, -999.000,9,-999.0000,9,  -999.00,9,   -999.0,9,-999.000,9,  -999.00,9,   -999.0,9,   -999.0,9,   -999.0,9,  -999.00,9,  -999.0,-999.0000,-999.000,-999.000,  2.6378,-999.000,9
      06MT22_5,   A10,    22,  1,    303,2,19930106,0300,-29.9963, -35.1665, 2170,   2042.0,   2.7880,  34.8010,2,-999.0000,9,    223.8,2,    46.40,2,    27.13,9,     1.77,2, -999.000,9, -999.000,9, -999.000,9, -999.000,9,-999.0000,9,  -999.00,9,   -999.0,9,-999.000,9,  -999.00,9,   -999.0,9,   -999.0,9,   -999.0,9,  -999.00,9,  -999.0,-999.0000,-999.000,-999.000,  2.6352,-999.000,9
      06MT22_5,   A10,    22,  1,    302,2,19930106,0300,-29.9963, -35.1665, 2170,   2140.0,   2.7870,  34.8230,2,  34.8240,2,    227.4,2,    44.42,2,    26.28,9,     1.72,2, -999.000,9, -999.000,9, -999.000,9, -999.000,9,-999.0000,9,  -999.00,9,   -999.0,9,-999.000,9,  -999.00,9,   -999.0,9,   -999.0,9,   -999.0,9,  -999.00,9,  -999.0,-999.0000,-999.000,-999.000,  2.6253,-999.000,9
      06MT22_5,   A10,    22,  1,    301,2,19930106,0300,-29.9963, -35.1665, 2170,   2140.0,   2.7870,  34.8220,2,-999.0000,9,   -999.0,9,  -999.00,9,  -999.00,9,  -999.00,9, -999.000,9, -999.000,9, -999.000,9, -999.000,9,-999.0000,9,  -999.00,9,   -999.0,9,-999.000,9,  -999.00,9,   -999.0,9,   -999.0,9,   -999.0,9,  -999.00,9,  -999.0,-999.0000,-999.000,-999.000,  2.6208,-999.000,9
      06MT22_5,   A10,    23,  1,    324,2,19930106,0545,-30.0000, -34.8600, 1743,     10.0,  22.8730,  36.3710,2,  36.3750,2,    219.3,2,     0.00,2,     0.00,9,     0.05,2, -999.000,9, -999.000,9, -999.000,9, -999.000,9,-999.0000,9,  -999.00,9,   -999.0,9,-999.000,9,  -999.00,9,   -999.0,0,   -999.0,9,   -999.0,9,  -999.00,9,  -999.0,-999.0000,-999.000,-999.000, 22.8710,-999.000,9
      06MT22_5,   A10,    23,  1,    319,2,19930106,0545,-30.0000, -34.8600, 1743,     10.0,  22.9170,  36.3870,2,-999.0000,9,   -999.0,9,  -999.00,9,  -999.00,9,  -999.00,9, -999.000,9, -999.000,9, -999.000,9, -999.000,9,-999.0000,9,  -999.00,9,   -999.0,9,-999.000,9,  -999.00,9,   -999.0,0,   -999.0,9,   -999.0,9,  -999.00,9,  -999.0,-999.0000,-999.000,-999.000, 22.9150,-999.000,9
      06MT22_5,   A10,    23,  1,    318,2,19930106,0545,-30.0000, -34.8600, 1743,     29.0,  22.9330,  36.4130,2,  36.4180,2,    219.9,2,     0.10,2,     0.08,9,     0.01,2, -999.000,9, -999.000,9, -999.000,9, -999.000,9,-999.0000,9,  -999.00,9,   -999.0,9,-999.000,9,  -999.00,9,   -999.0,0,   -999.0,9,   -999.0,9,  -999.00,9,  -999.0,-999.0000,-999.000,-999.000, 22.9271,-999.000,9
      06MT22_5,   A10,    23,  1,    317,2,19930106,0545,-30.0000, -34.8600, 1743,     50.0,  22.8520,  36.4570,2,-999.0000,9,    222.0,2,     0.19,2,     0.08,9,     0.00,2, -999.000,9, -999.000,9, -999.000,9, -999.000,9,-999.0000,9,  -999.00,9,   -999.0,9,-999.000,9,  -999.00,9,   -999.0,0,   -999.0,9,   -999.0,9,  -999.00,9,  -999.0,-999.0000,-999.000,-999.000, 22.8418,-999.000,9
      06MT22_5,   A10,    23,  1,    316,2,19930106,0545,-30.0000, -34.8600, 1743,     70.0,  21.7330,  36.5270,2,  36.5370,2,    226.9,2,     0.06,2,     0.00,9,     0.02,2, -999.000,9, -999.000,9, -999.000,9, -999.000,9,-999.0000,9,  -999.00,9,   -999.0,9,-999.000,9,  -999.00,9,   -999.0,0,   -999.0,9,   -999.0,9,  -999.00,9,  -999.0,-999.0000,-999.000,-999.000, 21.7192,-999.000,9
      06MT22_5,   A10,    23,  1,    315,2,19930106,0545,-30.0000, -34.8600, 1743,    100.0,  20.9370,  36.4690,2,-999.0000,9,    222.0,2,     0.12,2,     0.01,9,     0.08,2, -999.000,9, -999.000,9, -999.000,9, -999.000,9,-999.0000,9,  -999.00,9,   -999.0,9,-999.000,9,  -999.00,9,   -999.0,0,   -999.0,9,   -999.0,9,  -999.00,9,  -999.0,-999.0000,-999.000,-999.000, 20.9178,-999.000,9
      06MT22_5,   A10,    23,  1,    314,2,19930106,0545,-30.0000, -34.8600, 1743,    150.0,  19.3610,  36.1720,2,-999.0000,9,    222.7,2,     0.12,2,     0.78,9,     0.13,2, -999.000,9, -999.000,9, -999.000,9, -999.000,9,-999.0000,9,  -999.00,9,   -999.0,9,-999.000,9,  -999.00,9,   -999.0,0,   -999.0,9,   -999.0,9,  -999.00,9,  -999.0,-999.0000,-999.000,-999.000, 19.3338,-999.000,9
      06MT22_5,   A10,    23,  1,    313,2,19930106,0545,-30.0000, -34.8600, 1743,    201.0,  17.4400,  35.8280,2,  35.8310,2,    210.4,2,     0.76,2,     2.46,9,     0.27,2, -999.000,9, -999.000,9, -999.000,9, -999.000,9,-999.0000,9,  -999.00,9,   -999.0,9,-999.000,9,  -999.00,9,   -999.0,0,   -999.0,9,   -999.0,9,  -999.00,9,  -999.0,-999.0000,-999.000,-999.000, 17.4060,-999.000,9
      06MT22_5,   A10,    23,  1,    312,2,19930106,0545,-30.0000, -34.8600, 1743,    301.0,  14.9950,  35.4590,2,-999.0000,9,    207.0,2,     1.72,2,     6.29,9,     0.53,2, -999.000,9, -999.000,9, -999.000,9, -999.000,9,-999.0000,9,  -999.00,9,   -999.0,9,-999.000,9,  -999.00,9,   -999.0,0,   -999.0,9,   -999.0,9,  -999.00,9,  -999.0,-999.0000,-999.000,-999.000, 14.9495,-999.000,9
      06MT22_5,   A10,    23,  1,    311,2,19930106,0545,-30.0000, -34.8600, 1743,    398.0,  13.2280,  35.2390,2,-999.0000,9,    208.9,2,     3.08,2,    10.20,9,     0.75,2, -999.000,9, -999.000,9, -999.000,9, -999.000,9,-999.0000,9,  -999.00,9,   -999.0,9,-999.000,9,  -999.00,9,   -999.0,0,   -999.0,9,   -999.0,9,  -999.00,9,  -999.0,-999.0000,-999.000,-999.000, 13.1726,-999.000,9
      06MT22_5,   A10,    23,  1,    310,2,19930106,0545,-30.0000, -34.8600, 1743,    499.0,  11.8020,  35.0490,2,-999.0000,9,   -999.0,9,  -999.00,9,  -999.00,9,  -999.00,9, -999.000,9, -999.000,9, -999.000,9, -999.000,9,-999.0000,9,  -999.00,9,   -999.0,9,-999.000,9,  -999.00,9,   -999.0,0,   -999.0,9,   -999.0,9,  -999.00,9,  -999.0,-999.0000,-999.000,-999.000, 11.7373,-999.000,9
      06MT22_5,   A10,    23,  1,    309,2,19930106,0545,-30.0000, -34.8600, 1743,    600.0,   9.6690,  34.7710,2,-999.0000,9,    207.2,2,     7.16,2,    18.77,9,     1.28,2, -999.000,9, -999.000,9, -999.000,9, -999.000,9,-999.0000,9,  -999.00,9,   -999.0,9,-999.000,9,  -999.00,9,   -999.0,0,   -999.0,9,   -999.0,9,  -999.00,9,  -999.0,-999.0000,-999.000,-999.000,  9.6000,-999.000,9
      06MT22_5,   A10,    23,  1,    308,2,19930106,0545,-30.0000, -34.8600, 1743,    700.0,   7.3610,  34.5160,2,-999.0000,9,    213.7,2,    11.02,2,    24.17,9,     1.61,2, -999.000,9, -999.000,9, -999.000,9, -999.000,9,-999.0000,9,  -999.00,9,   -999.0,9,-999.000,9,  -999.00,9,   -999.0,0,   -999.0,9,   -999.0,9,  -999.00,9,  -999.0,-999.0000,-999.000,-999.000,  7.2919,-999.000,9
      06MT22_5,   A10,    23,  1,    307,2,19930106,0545,-30.0000, -34.8600, 1743,    853.0,   4.9830,  34.3130,2,  34.3140,2,    230.3,2,    17.86,2,    28.77,9,     1.90,2, -999.000,9, -999.000,9, -999.000,9, -999.000,9,-999.0000,9,  -999.00,9,   -999.0,9,-999.000,9,  -999.00,9,   -999.0,0,   -999.0,9,   -999.0,9,  -999.00,9,  -999.0,-999.0000,-999.000,-999.000,  4.9132,-999.000,9
      06MT22_5,   A10,    23,  1,    306,2,19930106,0545,-30.0000, -34.8600, 1743,   1000.0,   3.9060,  34.2990,2,-999.0000,9,    223.0,2,    28.34,2,    31.60,9,     2.10,2, -999.000,9, -999.000,9, -999.000,9, -999.000,9,-999.0000,9,  -999.00,9,   -999.0,9,-999.000,9,  -999.00,9,   -999.0,0,   -999.0,9,   -999.0,9,  -999.00,9,  -999.0,-999.0000,-999.000,-999.000,  3.8310,-999.000,9
      06MT22_5,   A10,    23,  1,    305,2,19930106,0545,-30.0000, -34.8600, 1743,   1200.0,   3.2480,  34.3930,2,-999.0000,9,    202.1,2,    43.53,2,    33.71,9,     2.24,2, -999.000,9, -999.000,9, -999.000,9, -999.000,9,-999.0000,9,  -999.00,9,   -999.0,9,-999.000,9,  -999.00,9,   -999.0,0,   -999.0,9,   -999.0,9,  -999.00,9,  -999.0,-999.0000,-999.000,-999.000,  3.1623,-999.000,9
      06MT22_5,   A10,    23,  1,    304,2,19930106,0545,-30.0000, -34.8600, 1743,   1400.0,   2.9760,  34.5210,2,  34.5230,2,    191.6,2,    52.26,2,    33.82,9,     2.25,2, -999.000,9, -999.000,9, -999.000,9, -999.000,9,-999.0000,9,  -999.00,9,   -999.0,9,-999.000,9,  -999.00,9,   -999.0,0,   -999.0,9,   -999.0,9,  -999.00,9,  -999.0,-999.0000,-999.000,-999.000,  2.8768,-999.000,9
      06MT22_5,   A10,    23,  1,    303,2,19930106,0545,-30.0000, -34.8600, 1743,   1550.0,   2.8720,  34.6040,2,-999.0000,9,    195.0,2,    54.58,2,    32.74,9,     2.16,2, -999.000,9, -999.000,9, -999.000,9, -999.000,9,-999.0000,9,  -999.00,9,   -999.0,9,-999.000,9,  -999.00,9,   -999.0,0,   -999.0,9,   -999.0,9,  -999.00,9,  -999.0,-999.0000,-999.000,-999.000,  2.7613,-999.000,9
      06MT22_5,   A10,    23,  1,    301,2,19930106,0545,-30.0000, -34.8600, 1743,   1632.0,   2.8390,  34.6620,2,-999.0000,9,   -999.0,9,  -999.00,9,  -999.00,9,  -999.00,9, -999.000,9, -999.000,9, -999.000,9, -999.000,9,-999.0000,9,  -999.00,9,   -999.0,9,-999.000,9,  -999.00,9,   -999.0,0,   -999.0,9,   -999.0,9,  -999.00,9,  -999.0,-999.0000,-999.000,-999.000,  2.7174,-999.000,9
      06MT22_5,   A10,    23,  1,    302,2,19930106,0545,-30.0000, -34.8600, 1743,   1636.0,   2.8380,  34.6650,2,  34.6650,2,    197.4,2,    54.07,2,    31.52,9,     2.08,2, -999.000,9, -999.000,9, -999.000,9, -999.000,9,-999.0000,9,  -999.00,9,   -999.0,9,-999.000,9,  -999.00,9,   -999.0,0,   -999.0,9,   -999.0,9,  -999.00,9,  -999.0,-999.0000,-999.000,-999.000,  2.7205,-999.000,9