BOTTLE,20030417WHPSIOSA
EXPOCODE,SECT_ID,STNNBR,CASTNO,BTLNBR,BTLNBR_FLAG_W,DATE,TIME,LATITUDE,LONGITUDE,DEPTH,CTDPRS,CTDTMP,CTDSAL,CTDSAL_FLAG_W,SALNTY,SALNTY_FLAG_W,OXYGEN,OXYGEN_FLAG_W,SILCAT,SILCAT_FLAG_W,NO2+NO3,NO2+NO3_FLAG_W,PHSPHT,PHSPHT_FLAG_W,CFC-11,CFC-11_FLAG_W,CFC-12,CFC-12_FLAG_W,CCL4,CCL4_FLAG_W,TRITUM,TRITUM_FLAG_W,HELIUM,HELIUM_FLAG_W,DELHE3,DELHE3_FLAG_W,DELC14,DELC14_FLAG_W,NEON,NEON_FLAG_W,O18O16,O18O16_FLAG_W,TCARBN,TCARBN_FLAG_W,PCO2,PCO2_FLAG_W,ALKALI,ALKALI_FLAG_W,PH,PH_FLAG_W,C14ERR,HELIER,DELHER,NEONER,THETA,TRITER,TRITER_FLAG_W
,,,,,,,,,,,DBAR,ITS-90,PSS-78,,PSS-78,,UMOL/KG,,UMOL/KG,,UMOL/KG,,UMOL/KG,,PMOL/KG,,PMOL/KG,,PMOL/KG,,TU,,NMOL/KG,,PERCNT,,/MILLE,,NMOL/KG,,MILLE,,UMOL/KG,,UATM,,UMOL/KG,,,,/MILLE,NMOL/KG,PERCNT,NMOL/KG,ITS-90,TU,
      06MT22_5,   A10,    14,  2,    324,2,19930104,2037,-30.0050, -38.0080, 3868,     10.0,  21.7790,  36.0540,2,-999.0000,9,   -999.0,9,  -999.00,9,  -999.00,9,  -999.00,9, -999.000,9, -999.000,9, -999.000,9, -999.000,9,-999.0000,9,  -999.00,9,   -999.0,9,-999.000,9,  -999.00,9,   -999.0,9,   -999.0,9,   -999.0,9,  -999.00,9,  -999.0,-999.0000,-999.000,-999.000, 21.7770,-999.000,9
      06MT22_5,   A10,    14,  2,    323,2,19930104,2037,-30.0050, -38.0080, 3868,     10.0,  21.7790,  36.0540,2,  36.0630,2,   -999.0,9,  -999.00,9,  -999.00,9,  -999.00,9, -999.000,9, -999.000,9, -999.000,9, -999.000,9,-999.0000,9,  -999.00,9,   -999.0,9,-999.000,9,  -999.00,9,   -999.0,9,   -999.0,9,   -999.0,9,  -999.00,9,  -999.0,-999.0000,-999.000,-999.000, 21.7770,-999.000,9
      06MT22_5,   A10,    14,  2,    322,2,19930104,2037,-30.0050, -38.0080, 3868,    399.0,  13.7110,  35.3520,2,-999.0000,9,    211.2,2,     1.81,2,     9.66,9,     0.66,2, -999.000,9, -999.000,9, -999.000,9, -999.000,9,-999.0000,9,  -999.00,9,   -999.0,9,-999.000,9,  -999.00,9,   -999.0,9,   -999.0,9,   -999.0,9,  -999.00,9,  -999.0,-999.0000,-999.000,-999.000, 13.6539,-999.000,9
      06MT22_5,   A10,    14,  2,    321,2,19930104,2037,-30.0050, -38.0080, 3868,    499.0,  11.6850,  35.0370,2,-999.0000,9,    209.0,2,     3.69,2,    14.37,9,     0.96,2, -999.000,9, -999.000,9, -999.000,9, -999.000,9,-999.0000,9,  -999.00,9,   -999.0,9,-999.000,9,  -999.00,9,   -999.0,9,   -999.0,9,   -999.0,9,  -999.00,9,  -999.0,-999.0000,-999.000,-999.000, 11.6204,-999.000,9
      06MT22_5,   A10,    14,  2,    320,2,19930104,2037,-30.0050, -38.0080, 3868,    598.0,   9.3260,  34.7310,2,  34.7300,2,    208.7,2,     6.99,2,    20.35,9,     1.35,2, -999.000,9, -999.000,9, -999.000,9, -999.000,9,-999.0000,9,  -999.00,9,   -999.0,9,-999.000,9,  -999.00,9,   -999.0,9,   -999.0,9,   -999.0,9,  -999.00,9,  -999.0,-999.0000,-999.000,-999.000,  9.2583,-999.000,9
      06MT22_5,   A10,    14,  2,    319,2,19930104,2037,-30.0050, -38.0080, 3868,    699.0,   7.1810,  34.4990,2,-999.0000,9,    218.4,2,    10.36,2,    24.99,9,     1.70,2, -999.000,9, -999.000,9, -999.000,9, -999.000,9,-999.0000,9,  -999.00,9,   -999.0,9,-999.000,9,  -999.00,9,   -999.0,9,   -999.0,9,   -999.0,9,  -999.00,9,  -999.0,-999.0000,-999.000,-999.000,  7.1130,-999.000,9
      06MT22_5,   A10,    14,  2,    318,2,19930104,2037,-30.0050, -38.0080, 3868,    850.0,   5.1710,  34.3370,2,-999.0000,9,    222.6,2,    18.38,2,    29.56,9,     2.07,2, -999.000,9, -999.000,9, -999.000,9, -999.000,9,-999.0000,9,  -999.00,9,   -999.0,9,-999.000,9,  -999.00,9,   -999.0,9,   -999.0,9,   -999.0,9,  -999.00,9,  -999.0,-999.0000,-999.000,-999.000,  5.1003,-999.000,9
      06MT22_5,   A10,    14,  2,    317,2,19930104,2037,-30.0050, -38.0080, 3868,    999.0,   3.8620,  34.3040,2,  34.3030,2,    222.3,2,    27.53,2,    32.41,9,     2.33,2, -999.000,9, -999.000,9, -999.000,9, -999.000,9,-999.0000,9,  -999.00,9,   -999.0,9,-999.000,9,  -999.00,9,   -999.0,9,   -999.0,9,   -999.0,9,  -999.00,9,  -999.0,-999.0000,-999.000,-999.000,  3.7878,-999.000,9
      06MT22_5,   A10,    14,  2,    316,2,19930104,2037,-30.0050, -38.0080, 3868,   1199.0,   3.2260,  34.4020,2,-999.0000,9,    202.5,2,    41.06,2,    34.31,9,     2.46,2, -999.000,9, -999.000,9, -999.000,9, -999.000,9,-999.0000,9,  -999.00,9,   -999.0,9,-999.000,9,  -999.00,9,   -999.0,9,   -999.0,9,   -999.0,9,  -999.00,9,  -999.0,-999.0000,-999.000,-999.000,  3.1404,-999.000,9
      06MT22_5,   A10,    14,  2,    315,2,19930104,2037,-30.0050, -38.0080, 3868,   1399.0,   2.9540,  34.5170,2,-999.0000,9,    192.3,2,    49.77,2,    34.80,9,     2.47,2, -999.000,9, -999.000,9, -999.000,9, -999.000,9,-999.0000,9,  -999.00,9,   -999.0,9,-999.000,9,  -999.00,9,   -999.0,9,   -999.0,9,   -999.0,9,  -999.00,9,  -999.0,-999.0000,-999.000,-999.000,  2.8549,-999.000,9
      06MT22_5,   A10,    14,  2,    314,2,19930104,2037,-30.0050, -38.0080, 3868,   1601.0,   2.8790,  34.6330,2,  34.6320,2,    195.8,2,    50.49,2,    33.30,9,     2.32,2, -999.000,9, -999.000,9, -999.000,9, -999.000,9,-999.0000,9,  -999.00,9,   -999.0,9,-999.000,9,  -999.00,9,   -999.0,9,   -999.0,9,   -999.0,9,  -999.00,9,  -999.0,-999.0000,-999.000,-999.000,  2.7640,-999.000,9
      06MT22_5,   A10,    14,  2,    313,2,19930104,2037,-30.0050, -38.0080, 3868,   1800.0,   2.9260,  34.7360,2,-999.0000,9,    203.7,2,    48.09,2,    31.09,9,     2.15,2, -999.000,9, -999.000,9, -999.000,9, -999.000,9,-999.0000,9,  -999.00,9,   -999.0,9,-999.000,9,  -999.00,9,   -999.0,9,   -999.0,9,   -999.0,9,  -999.00,9,  -999.0,-999.0000,-999.000,-999.000,  2.7924,-999.000,9
      06MT22_5,   A10,    14,  2,    312,2,19930104,2037,-30.0050, -38.0080, 3868,   2000.0,   3.1320,  34.8470,2,-999.0000,9,    225.4,2,    37.45,2,    27.21,9,     1.81,2, -999.000,9, -999.000,9, -999.000,9, -999.000,9,-999.0000,9,  -999.00,9,   -999.0,9,-999.000,9,  -999.00,9,   -999.0,9,   -999.0,9,   -999.0,9,  -999.00,9,  -999.0,-999.0000,-999.000,-999.000,  2.9775,-999.000,9
      06MT22_5,   A10,    14,  2,    311,2,19930104,2037,-30.0050, -38.0080, 3868,   2251.0,   3.2640,  34.9300,2,  34.9270,2,    229.2,2,    24.96,2,    23.27,9,     1.50,2, -999.000,9, -999.000,9, -999.000,9, -999.000,9,-999.0000,9,  -999.00,9,   -999.0,9,-999.000,9,  -999.00,9,   -999.0,9,   -999.0,9,   -999.0,9,  -999.00,9,  -999.0,-999.0000,-999.000,-999.000,  3.0838,-999.000,9
      06MT22_5,   A10,    14,  2,    310,2,19930104,2037,-30.0050, -38.0080, 3868,   2552.0,   3.0310,  34.9270,2,-999.0000,9,    251.0,2,    26.96,2,    22.80,9,     1.45,2, -999.000,9, -999.000,9, -999.000,9, -999.000,9,-999.0000,9,  -999.00,9,   -999.0,9,-999.000,9,  -999.00,9,   -999.0,9,   -999.0,9,   -999.0,9,  -999.00,9,  -999.0,-999.0000,-999.000,-999.000,  2.8255,-999.000,9
      06MT22_5,   A10,    14,  2,    309,2,19930104,2037,-30.0050, -38.0080, 3868,   2753.0,   2.9050,  34.9240,2,-999.0000,9,    254.3,2,    28.26,2,    22.53,9,     1.46,2,    0.258,4,    0.066,4,    0.399,4, -999.000,9,   1.8203,2,     2.78,2,   -999.0,9,   7.914,2,  -999.00,9,   -999.0,9,   -999.0,9,   -999.0,9,  -999.00,9,  -999.0,  0.0073,   0.500,   0.032,  2.6818,-999.000,9
      06MT22_5,   A10,    14,  2,    308,2,19930104,2037,-30.0050, -38.0080, 3868,   3003.0,   2.7250,  34.9160,2,  34.9140,2,    253.7,2,    30.68,2,    22.74,9,     1.45,2,    0.072,4,    0.038,2,    0.059,2, -999.000,9,   1.8158,2,     2.90,2,   -999.0,9,   7.975,2,  -999.00,9,   -999.0,9,   -999.0,9,   -999.0,9,  -999.00,9,  -999.0,  0.0073,   0.250,   0.032,  2.4800,-999.000,9
      06MT22_5,   A10,    14,  2,    307,2,19930104,2037,-30.0050, -38.0080, 3868,   3253.0,   2.5220,  34.9000,2,-999.0000,9,    254.9,2,    35.40,2,    23.32,9,     1.51,2,    0.037,4,    0.008,2,    0.088,2, -999.000,9,   1.8190,2,     2.52,2,   -999.0,9,   7.948,2,  -999.00,9,   -999.0,9,   -999.0,9,   -999.0,9,  -999.00,9,  -999.0,  0.0073,   0.250,   0.032,  2.2561,-999.000,9
      06MT22_5,   A10,    14,  2,    306,2,19930104,2037,-30.0050, -38.0080, 3868,   3504.0,   2.0940,  34.8610,2,-999.0000,9,    248.0,2,    48.68,2,    25.33,9,     1.66,2, -999.000,9, -999.000,9, -999.000,9, -999.000,9,-999.0000,1,  -999.00,1,   -999.0,9,-999.000,1,  -999.00,9,   -999.0,9,   -999.0,9,   -999.0,9,  -999.00,9,  -999.0,-999.0000,-999.000,-999.000,  1.8119,-999.000,9
      06MT22_5,   A10,    14,  2,    305,2,19930104,2037,-30.0050, -38.0080, 3868,   3753.0,   1.6980,  34.8190,2,  34.7990,2,    243.8,2,    63.25,2,    27.50,9,     1.83,2, -999.000,4, -999.000,4,    0.106,2, -999.000,9,   1.8515,2,     4.79,2,   -999.0,9,   8.082,2,  -999.00,9,   -999.0,9,   -999.0,9,   -999.0,9,  -999.00,9,  -999.0,  0.0074,   0.250,   0.032,  1.3996,-999.000,9
      06MT22_5,   A10,    14,  2,    304,2,19930104,2037,-30.0050, -38.0080, 3868,   3794.0,   1.6330,  34.8120,2,-999.0000,9,    241.6,2,    66.53,2,    28.11,9,     1.89,2, -999.000,9, -999.000,9, -999.000,9, -999.000,9,-999.0000,9,  -999.00,9,   -999.0,9,-999.000,9,  -999.00,9,   -999.0,9,   -999.0,9,   -999.0,9,  -999.00,9,  -999.0,-999.0000,-999.000,-999.000,  1.3320,-999.000,9
      06MT22_5,   A10,    14,  2,    303,2,19930104,2037,-30.0050, -38.0080, 3868,   3794.0,   1.6250,  34.8100,2,-999.0000,9,   -999.0,9,  -999.00,9,  -999.00,9,  -999.00,9, -999.000,9, -999.000,9, -999.000,9, -999.000,9,-999.0000,9,  -999.00,9,   -999.0,9,-999.000,9,  -999.00,9,   -999.0,9,   -999.0,9,   -999.0,9,  -999.00,9,  -999.0,-999.0000,-999.000,-999.000,  1.3242,-999.000,9
      06MT22_5,   A10,    14,  2,    301,2,19930104,2037,-30.0050, -38.0080, 3868,   3875.0,   1.5400,  34.8000,2,  34.7990,2,   -999.0,9,  -999.00,9,  -999.00,9,  -999.00,9, -999.000,4, -999.000,4, -999.000,4, -999.000,9,-999.0000,1,  -999.00,1,   -999.0,9,-999.000,1,  -999.00,9,   -999.0,9,   -999.0,9,   -999.0,9,  -999.00,9,  -999.0,-999.0000,-999.000,-999.000,  1.2328,-999.000,9
      06MT22_5,   A10,    14,  2,    302,2,19930104,2037,-30.0050, -38.0080, 3868,   3876.0,   1.5370,  34.8000,2,-999.0000,9,    239.7,2,    69.50,2,    28.86,9,     1.95,2, -999.000,9, -999.000,9, -999.000,9, -999.000,9,-999.0000,9,  -999.00,9,   -999.0,9,-999.000,9,  -999.00,9,   -999.0,9,   -999.0,9,   -999.0,9,  -999.00,9,  -999.0,-999.0000,-999.000,-999.000,  1.2298,-999.000,9
      06MT22_5,   A10,    15,  1,    324,2,19930105,0155,-29.9990, -37.5003, 3204,     11.0,  21.7860,  35.9970,2,  35.9990,2,    225.3,2,     0.12,2,     0.00,9,     0.04,2, -999.000,9, -999.000,9, -999.000,9, -999.000,9,-999.0000,1,  -999.00,1,   -999.0,9,-999.000,1,  -999.00,9,   2033.6,2,   -999.0,9,   -999.0,9,  -999.00,9,  -999.0,-999.0000,-999.000,-999.000, 21.7838,-999.000,9
      06MT22_5,   A10,    15,  1,    323,2,19930105,0155,-29.9990, -37.5003, 3204,     30.0,  21.3850,  36.0140,2,-999.0000,9,    226.9,2,     0.06,2,     0.09,9,     0.02,2, -999.000,9, -999.000,9, -999.000,9,    0.547,4,   1.6802,2,    -1.59,2,   -999.0,9,   6.758,2,  -999.00,9,   2035.0,2,   -999.0,9,   -999.0,9,  -999.00,9,  -999.0,  0.0059,   0.250,   0.024, 21.3792,   0.602,9
      06MT22_5,   A10,    15,  1,    322,2,19930105,0155,-29.9990, -37.5003, 3204,     50.0,  20.6800,  36.1470,2,  36.1470,2,    232.6,2,     0.10,2,     0.07,9,     0.03,2, -999.000,9, -999.000,9, -999.000,9, -999.000,9,-999.0000,9,  -999.00,9,   -999.0,9,-999.000,9,  -999.00,9,   2041.3,2,   -999.0,9,   -999.0,9,  -999.00,9,  -999.0,-999.0000,-999.000,-999.000, 20.6705,-999.000,9
      06MT22_5,   A10,    15,  1,    321,2,19930105,0155,-29.9990, -37.5003, 3204,     70.0,  20.0000,  36.1570,2,-999.0000,9,    233.6,2,     0.00,2,     0.21,9,     0.06,2,    2.273,2,    1.253,2,    2.234,2, -999.000,9,   1.7092,2,    -1.41,2,   -999.0,9,   6.900,2,  -999.00,9,   2046.2,2,   -999.0,9,   -999.0,9,  -999.00,9,  -999.0,  0.0068,   0.250,   0.028, 19.9870,-999.000,9
      06MT22_5,   A10,    15,  1,    320,2,19930105,0155,-29.9990, -37.5003, 3204,    101.0,  18.6450,  36.0630,2,-999.0000,9,    226.3,2,     0.08,2,     0.15,9,     0.10,2,    2.395,2,    1.347,2,    1.719,2, -999.000,9,   1.7293,2,    -1.33,2,   -999.0,9,   7.004,2,  -999.00,9,   2058.2,2,   -999.0,9,   -999.0,9,  -999.00,9,  -999.0,  0.0069,   0.250,   0.028, 18.6271,-999.000,9
      06MT22_5,   A10,    15,  1,    319,2,19930105,0155,-29.9990, -37.5003, 3204,    150.0,  17.9300,  36.0270,2,  36.0230,2,    219.7,2,     0.17,2,     1.25,9,     0.19,2, -999.000,9, -999.000,9, -999.000,9, -999.000,9,-999.0000,1,  -999.00,1,   -999.0,9,-999.000,1,  -999.00,9,   2068.5,2,   -999.0,9,   -999.0,9,  -999.00,9,  -999.0,-999.0000,-999.000,-999.000, 17.9042,-999.000,9
      06MT22_5,   A10,    15,  1,    318,2,19930105,0155,-29.9990, -37.5003, 3204,    200.0,  17.5910,  36.0510,2,-999.0000,9,    219.5,2,     1.30,2,     2.21,9,     0.24,2,    2.402,2,    1.373,2,    1.117,2,    0.942,2,   1.7204,2,    -0.97,2,   -999.0,9,   7.020,2,  -999.00,9,   2073.5,2,   -999.0,9,   -999.0,9,  -999.00,9,  -999.0,  0.0060,   0.250,   0.025, 17.5571,   0.024,9
      06MT22_5,   A10,    15,  1,    317,2,19930105,0155,-29.9990, -37.5003, 3204,    299.0,  15.8340,  35.7190,2,-999.0000,9,    216.5,2,     0.97,2,     5.11,9,     0.41,2,    2.379,2,    1.278,2,    0.916,2, -999.000,9,-999.0000,1,  -999.00,1,   -999.0,9,-999.000,1,  -999.00,9,   2084.9,2,   -999.0,9,   -999.0,9,  -999.00,9,  -999.0,-999.0000,-999.000,-999.000, 15.7868,-999.000,9
      06MT22_5,   A10,    15,  1,    316,2,19930105,0155,-29.9990, -37.5003, 3204,    399.0,  13.7210,  35.3470,2,  35.3220,2,    210.7,2,     2.15,2,     9.38,9,     0.69,2, -999.000,9, -999.000,9, -999.000,9,    0.734,2,   1.7150,7,    -0.71,2,   -999.0,9,   7.148,7,  -999.00,9,   2098.7,2,   -999.0,9,   2346.8,2,  -999.00,9,  -999.0,  0.0060,   0.250,   0.025, 13.6635,   0.020,9
      06MT22_5,   A10,    15,  1,    315,2,19930105,0155,-29.9990, -37.5003, 3204,    501.0,  11.3250,  34.9820,2,-999.0000,9,    208.8,2,     4.05,2,    14.98,9,     1.04,2, -999.000,9, -999.000,9, -999.000,9, -999.000,9,   1.7440,2,     0.84,2,   -999.0,9,   7.335,2,  -999.00,9,   2116.4,2,   -999.0,9,   2296.7,2,  -999.00,9,  -999.0,  0.0070,   0.250,   0.029, 11.2616,-999.000,9
      06MT22_5,   A10,    15,  1,    314,2,19930105,0155,-29.9990, -37.5003, 3204,    599.0,   9.2630,  34.7140,2,-999.0000,9,    211.5,2,     6.77,2,    20.07,9,     1.35,2, -999.000,9, -999.000,9, -999.000,9,    0.471,2,   1.7382,2,     0.54,2,   -999.0,9,   7.450,2,  -999.00,9,   2131.5,2,   -999.0,9,   2281.0,2,  -999.00,9,  -999.0,  0.0061,   0.250,   0.026,  9.1957,   0.016,9
      06MT22_5,   A10,    15,  1,    313,2,19930105,0155,-29.9990, -37.5003, 3204,    699.0,   6.8690,  34.4600,2,  34.4590,2,    220.6,2,    10.64,2,    25.03,9,     1.70,2,    1.778,2,    0.948,2,    2.186,2, -999.000,9,   1.7574,5,     0.98,3,   -999.0,9,   7.578,5,  -999.00,9,   2146.0,2,   -999.0,9,   2268.2,2,  -999.00,9,  -999.0,  0.0079,   0.250,   0.034,  6.8024,-999.000,9
      06MT22_5,   A10,    15,  1,    312,2,19930105,0155,-29.9990, -37.5003, 3204,    850.0,   5.1470,  34.3400,2,-999.0000,9,    230.0,2,    17.56,2,    28.78,9,     1.93,2,    1.499,2,    0.806,2,    2.400,2,    0.188,2,   1.7610,2,     1.38,2,   -999.0,9,   7.683,2,  -999.00,9,   2161.2,2,   -999.0,9,   2278.0,2,  -999.00,9,  -999.0,  0.0062,   0.250,   0.027,  5.0763,   0.010,9
      06MT22_5,   A10,    15,  1,    311,2,19930105,0155,-29.9990, -37.5003, 3204,    999.0,   3.9680,  34.3060,2,-999.0000,9,    220.6,2,    27.53,2,    31.84,9,     2.13,2,    0.922,2,    0.527,2,    1.983,2, -999.000,9,   1.7757,5,     2.28,3,   -999.0,9,   7.768,5,  -999.00,9,   2181.6,2,   -999.0,9,   2274.1,2,  -999.00,9,  -999.0,  0.0080,   0.250,   0.035,  3.8929,-999.000,9
      06MT22_5,   A10,    15,  1,    310,2,19930105,0155,-29.9990, -37.5003, 3204,   1200.0,   3.2430,  34.3870,2,  34.3840,2,    203.8,2,    40.74,2,    33.58,9,     2.24,2, -999.000,9, -999.000,9, -999.000,9,    0.063,2,   1.7891,2,     4.38,2,   -999.0,9,   7.826,2,  -999.00,9,   2206.5,2,   -999.0,9,   2287.9,2,  -999.00,9,  -999.0,  0.0063,   0.250,   0.027,  3.1576,   0.004,9
      06MT22_5,   A10,    15,  1,    309,2,19930105,0155,-29.9990, -37.5003, 3204,   1399.0,   2.9550,  34.5220,2,-999.0000,9,    191.4,2,    51.06,2,    34.09,9,     2.28,2,    0.119,2,    0.072,2,    0.514,2, -999.000,9,   1.8029,5,     5.81,3,   -999.0,9,   7.855,5,  -999.00,9,   2223.0,2,   -999.0,9,   2300.0,2,  -999.00,9,  -999.0,  0.0081,   0.500,   0.035,  2.8556,-999.000,9
      06MT22_5,   A10,    15,  1,    308,2,19930105,0155,-29.9990, -37.5003, 3204,   1600.0,   2.8680,  34.6330,2,-999.0000,9,    194.2,2,    52.69,2,    32.96,9,     2.18,2, -999.000,9, -999.000,9, -999.000,9,    0.013,2,   1.8109,2,     6.24,2,   -999.0,9,   7.885,2,  -999.00,9,   2222.0,2,   -999.0,9,   2309.0,2,  -999.00,9,  -999.0,  0.0063,   0.250,   0.028,  2.7529,   0.012,9
      06MT22_5,   A10,    15,  1,    307,2,19930105,0155,-29.9990, -37.5003, 3204,   1801.0,   2.9370,  34.7460,2,  34.7450,2,    207.6,2,  -999.00,9,    30.09,9,     1.94,2,    0.085,4,    0.049,4,    0.168,2,    0.021,2,   1.8243,2,     6.49,2,   -999.0,9,   7.898,2,  -999.00,9,   2212.7,2,   -999.0,9,   2313.4,2,  -999.00,9,  -999.0,  0.0073,   0.250,   0.032,  2.8038,   0.007,9
      06MT22_5,   A10,    15,  1,    306,2,19930105,0155,-29.9990, -37.5003, 3204,   2000.0,   3.0700,  34.8380,2,-999.0000,9,    225.1,2,    39.63,2,    26.87,9,     1.73,2,    0.147,4,    0.057,4,    0.156,2,    0.013,2,   1.8149,5,     4.24,3,   -999.0,9,   7.886,5,  -999.00,9,   2195.0,2,   -999.0,9,   2303.6,2,  -999.00,9,  -999.0,  0.0082,   0.250,   0.036,  2.9165,   0.005,9
      06MT22_5,   A10,    15,  1,    305,2,19930105,0155,-29.9990, -37.5003, 3204,   2251.0,   3.1200,  34.9060,2,-999.0000,9,    243.0,2,    30.42,2,    23.64,9,     1.49,2, -999.000,9, -999.000,9, -999.000,9,    0.019,2,   1.8100,6,     3.19,6,   -999.0,9,   7.891,6,  -999.00,9,   2178.6,2,   -999.0,9,   2307.0,2,  -999.00,9,  -999.0,  0.0072,   0.250,   0.032,  2.9422,   0.005,9
      06MT22_5,   A10,    15,  1,    304,2,19930105,0155,-29.9990, -37.5003, 3204,   2805.0,   2.8280,  34.9130,2,  34.9120,2,    251.9,2,    31.68,2,    22.88,9,     1.45,2, -999.000,9, -999.000,9, -999.000,9,    0.020,2,   1.8038,2,     3.07,2,   -999.0,9,   7.913,2,  -999.00,9,   2178.2,2,   -999.0,9,   2309.5,2,  -999.00,9,  -999.0,  0.0063,   0.250,   0.028,  2.6011,   0.010,9
      06MT22_5,   A10,    15,  1,    303,2,19930105,0155,-29.9990, -37.5003, 3204,   3103.0,   2.6240,  34.9050,2,-999.0000,9,    253.0,2,    35.00,2,    22.88,9,     1.45,2,    0.098,4,    0.024,2,    0.036,2,   -2.622,4,   1.8109,2,     2.66,2,   -999.0,9,   7.932,2,  -999.00,9,   2179.8,2,   -999.0,9,   2317.4,2,  -999.00,9,  -999.0,  0.0072,   0.250,   0.032,  2.3709,   0.558,9
      06MT22_5,   A10,    15,  1,    301,2,19930105,0155,-29.9990, -37.5003, 3204,   3213.0,   2.5370,  34.8980,2,  34.8970,2,   -999.0,9,  -999.00,9,  -999.00,9,  -999.00,9,    0.027,2,    0.020,2,    0.055,2, -999.000,9,   1.8002,7,     2.90,2,   -999.0,9,   7.872,7,  -999.00,9,   2182.1,2,   -999.0,9,   2304.6,2,  -999.00,9,  -999.0,  0.0063,   0.250,   0.028,  2.2744,-999.000,9
      06MT22_5,   A10,    15,  1,    302,2,19930105,0155,-29.9990, -37.5003, 3204,   3218.0,   2.5300,  34.8970,2,-999.0000,9,    252.0,2,    37.58,2,    23.00,9,     1.47,2, -999.000,9, -999.000,9, -999.000,9, -999.000,9,-999.0000,9,  -999.00,9,   -999.0,9,-999.000,9,  -999.00,9,   -999.0,9,   -999.0,9,   -999.0,9,  -999.00,9,  -999.0,-999.0000,-999.000,-999.000,  2.2670,-999.000,9