BOTTLE,20030417WHPSIOSA
EXPOCODE,SECT_ID,STNNBR,CASTNO,BTLNBR,BTLNBR_FLAG_W,DATE,TIME,LATITUDE,LONGITUDE,DEPTH,CTDPRS,CTDTMP,CTDSAL,CTDSAL_FLAG_W,SALNTY,SALNTY_FLAG_W,OXYGEN,OXYGEN_FLAG_W,SILCAT,SILCAT_FLAG_W,NO2+NO3,NO2+NO3_FLAG_W,PHSPHT,PHSPHT_FLAG_W,CFC-11,CFC-11_FLAG_W,CFC-12,CFC-12_FLAG_W,CCL4,CCL4_FLAG_W,TRITUM,TRITUM_FLAG_W,HELIUM,HELIUM_FLAG_W,DELHE3,DELHE3_FLAG_W,DELC14,DELC14_FLAG_W,NEON,NEON_FLAG_W,O18O16,O18O16_FLAG_W,TCARBN,TCARBN_FLAG_W,PCO2,PCO2_FLAG_W,ALKALI,ALKALI_FLAG_W,PH,PH_FLAG_W,C14ERR,HELIER,DELHER,NEONER,THETA,TRITER,TRITER_FLAG_W
,,,,,,,,,,,DBAR,ITS-90,PSS-78,,PSS-78,,UMOL/KG,,UMOL/KG,,UMOL/KG,,UMOL/KG,,PMOL/KG,,PMOL/KG,,PMOL/KG,,TU,,NMOL/KG,,PERCNT,,/MILLE,,NMOL/KG,,MILLE,,UMOL/KG,,UATM,,UMOL/KG,,,,/MILLE,NMOL/KG,PERCNT,NMOL/KG,ITS-90,TU,
      06MT22_5,   A10,    13,  2,    324,2,19930104,1333,-30.0043, -38.4937, 4226,     13.0,  21.5410,  36.0020,2,  36.0090,2,   -999.0,9,  -999.00,9,  -999.00,9,  -999.00,9, -999.000,9, -999.000,9, -999.000,9, -999.000,9,-999.0000,9,  -999.00,9,   -999.0,9,-999.000,9,  -999.00,9,   2037.3,2,   -999.0,9,   -999.0,9,  -999.00,9,  -999.0,-999.0000,-999.000,-999.000, 21.5385,-999.000,9
      06MT22_5,   A10,    13,  2,    323,2,19930104,1333,-30.0043, -38.4937, 4226,     13.0,  21.5430,  36.0040,2,-999.0000,9,   -999.0,9,  -999.00,9,  -999.00,9,  -999.00,9, -999.000,9, -999.000,9, -999.000,9, -999.000,9,-999.0000,9,  -999.00,9,   -999.0,9,-999.000,9,  -999.00,9,   -999.0,0,   -999.0,9,   -999.0,9,  -999.00,9,  -999.0,-999.0000,-999.000,-999.000, 21.5405,-999.000,9
      06MT22_5,   A10,    13,  2,    322,2,19930104,1333,-30.0043, -38.4937, 4226,     13.0,  21.5380,  36.0030,2,-999.0000,9,   -999.0,9,  -999.00,9,  -999.00,9,  -999.00,9, -999.000,9, -999.000,9, -999.000,9, -999.000,9,-999.0000,9,  -999.00,9,   -999.0,9,-999.000,9,  -999.00,9,   -999.0,0,   -999.0,9,   -999.0,9,  -999.00,9,  -999.0,-999.0000,-999.000,-999.000, 21.5355,-999.000,9
      06MT22_5,   A10,    13,  2,    321,2,19930104,1333,-30.0043, -38.4937, 4226,    501.0,  11.1620,  34.9670,2,-999.0000,9,   -999.0,9,  -999.00,9,  -999.00,9,  -999.00,9, -999.000,9, -999.000,9, -999.000,9, -999.000,9,-999.0000,9,  -999.00,9,   -999.0,9,-999.000,9,  -999.00,9,   -999.0,0,   -999.0,9,   -999.0,9,  -999.00,9,  -999.0,-999.0000,-999.000,-999.000, 11.0990,-999.000,9
      06MT22_5,   A10,    13,  2,    320,2,19930104,1333,-30.0043, -38.4937, 4226,    599.0,   8.9160,  34.6780,2,  34.6700,2,    205.6,2,     8.25,2,    21.63,9,     1.46,2, -999.000,9, -999.000,9, -999.000,9, -999.000,9,-999.0000,9,  -999.00,9,   -999.0,9,-999.000,9,  -999.00,9,   2140.8,2,   -999.0,9,   -999.0,9,  -999.00,9,  -999.0,-999.0000,-999.000,-999.000,  8.8501,-999.000,9
      06MT22_5,   A10,    13,  2,    319,2,19930104,1333,-30.0043, -38.4937, 4226,    699.0,   7.0240,  34.4810,2,-999.0000,9,    211.9,2,    11.89,2,    26.05,9,     1.77,2,    1.503,2,    0.753,2,    1.766,2, -999.000,9,-999.0000,9,  -999.00,9,   -999.0,9,-999.000,9,  -999.00,9,   2153.4,2,   -999.0,9,   -999.0,9,  -999.00,9,  -999.0,-999.0000,-999.000,-999.000,  6.9568,-999.000,9
      06MT22_5,   A10,    13,  2,    318,2,19930104,1333,-30.0043, -38.4937, 4226,    850.0,   4.8070,  34.3050,2,-999.0000,9,    227.8,2,    19.21,2,    30.08,9,     2.10,2,    1.490,2,    0.990,4,    2.304,2, -999.000,9,-999.0000,9,  -999.00,9,   -999.0,9,-999.000,9,  -999.00,9,   2168.8,2,   -999.0,9,   -999.0,9,  -999.00,9,  -999.0,-999.0000,-999.000,-999.000,  4.7386,-999.000,9
      06MT22_5,   A10,    13,  2,    317,2,19930104,1333,-30.0043, -38.4937, 4226,    999.0,   3.8960,  34.3060,2,  34.3090,2,    218.0,2,    29.26,2,    32.60,9,     2.29,2,    0.911,2,    0.440,2,    1.852,2, -999.000,9,-999.0000,9,  -999.00,9,   -999.0,9,-999.000,9,  -999.00,9,   2186.5,2,   -999.0,9,   -999.0,9,  -999.00,9,  -999.0,-999.0000,-999.000,-999.000,  3.8215,-999.000,9
      06MT22_5,   A10,    13,  2,    316,2,19930104,1333,-30.0043, -38.4937, 4226,   1199.0,   3.2130,  34.3950,2,-999.0000,9,    199.5,2,    43.56,2,    34.59,9,     2.44,2, -999.000,9, -999.000,9, -999.000,9, -999.000,9,-999.0000,9,  -999.00,9,   -999.0,9,-999.000,9,  -999.00,9,   2213.7,2,   -999.0,9,   -999.0,9,  -999.00,9,  -999.0,-999.0000,-999.000,-999.000,  3.1275,-999.000,9
      06MT22_5,   A10,    13,  2,    315,2,19930104,1333,-30.0043, -38.4937, 4226,   1401.0,   2.9490,  34.5160,2,-999.0000,9,    191.7,2,    52.14,2,    34.77,9,     2.41,2,    0.116,2,    0.064,2,    0.470,2, -999.000,9,-999.0000,9,  -999.00,9,   -999.0,9,-999.000,9,  -999.00,9,   2224.0,2,   -999.0,9,   -999.0,9,  -999.00,9,  -999.0,-999.0000,-999.000,-999.000,  2.8497,-999.000,9
      06MT22_5,   A10,    13,  2,    314,2,19930104,1333,-30.0043, -38.4937, 4226,   1601.0,   2.8710,  34.6480,2,  34.6520,2,    183.9,2,    55.38,2,    33.11,9,     2.28,2, -999.000,9, -999.000,9, -999.000,9, -999.000,9,-999.0000,9,  -999.00,9,   -999.0,9,-999.000,9,  -999.00,9,   2224.1,2,   -999.0,9,   -999.0,9,  -999.00,9,  -999.0,-999.0000,-999.000,-999.000,  2.7560,-999.000,9
      06MT22_5,   A10,    13,  2,    313,2,19930104,1333,-30.0043, -38.4937, 4226,   1800.0,   3.0660,  34.7820,2,-999.0000,9,    210.4,2,    46.78,2,    29.59,9,     1.97,2,    0.454,4,    0.392,4,    0.640,4,    0.014,2,   1.8439,4,     5.48,3,   -999.0,9,   7.886,7,  -999.00,9,   2207.9,2,   -999.0,9,   -999.0,9,  -999.00,9,  -999.0,  0.0065,   0.250,   0.028,  2.9306,   0.003,9
      06MT22_5,   A10,    13,  2,    312,2,19930104,1333,-30.0043, -38.4937, 4226,   2001.0,   3.2600,  34.8840,2,-999.0000,9,    234.7,2,    33.06,2,    25.47,9,     1.65,2,    0.536,4,    0.411,4,    0.753,4, -999.000,9,-999.0000,1,  -999.00,1,   -999.0,9,-999.000,1,  -999.00,9,   -999.0,0,   -999.0,9,   -999.0,9,  -999.00,9,  -999.0,-999.0000,-999.000,-999.000,  3.1036,-999.000,9
      06MT22_5,   A10,    13,  2,    311,2,19930104,1333,-30.0043, -38.4937, 4226,   2250.0,   3.1400,  34.9090,2,  34.9120,2,    252.4,2,    30.69,2,    23.92,9,     1.57,2,    0.005,4,    0.036,3,    0.088,2, -999.000,9,   1.9876,4,     3.10,3,   -999.0,9,   8.027,4,  -999.00,9,   2178.6,2,   -999.0,9,   -999.0,9,  -999.00,9,  -999.0,  0.0070,   0.250,   0.028,  2.9620,-999.000,9
      06MT22_5,   A10,    13,  2,    310,2,19930104,1333,-30.0043, -38.4937, 4226,   2502.0,   3.0360,  34.9210,2,-999.0000,9,    249.9,2,    28.59,2,    22.78,9,     1.48,2, -999.000,9, -999.000,9, -999.000,9, -999.000,9,-999.0000,9,  -999.00,9,   -999.0,9,-999.000,9,  -999.00,9,   2174.6,2,   -999.0,9,   -999.0,9,  -999.00,9,  -999.0,-999.0000,-999.000,-999.000,  2.8353,-999.000,9
      06MT22_5,   A10,    13,  2,    309,2,19930104,1333,-30.0043, -38.4937, 4226,   2752.0,   2.8900,  34.9190,2,-999.0000,9,    251.2,2,    29.90,2,    22.59,9,     1.44,2,    0.047,4,    0.071,4,    0.109,3, -999.000,9,   1.8248,2,     2.54,2,   -999.0,9,   7.923,2,  -999.00,9,   2175.1,2,   -999.0,9,   -999.0,9,  -999.00,9,  -999.0,  0.0064,   0.250,   0.028,  2.6672,-999.000,9
      06MT22_5,   A10,    13,  2,    308,2,19930104,1333,-30.0043, -38.4937, 4226,   3003.0,   2.7390,  34.9120,2,  34.9130,2,    254.1,2,    32.12,2,    22.66,9,     1.48,2, -999.000,9, -999.000,9, -999.000,9, -999.000,9,-999.0000,9,  -999.00,9,   -999.0,9,-999.000,9,  -999.00,9,   2177.9,2,   -999.0,9,   -999.0,9,  -999.00,9,  -999.0,-999.0000,-999.000,-999.000,  2.4937,-999.000,9
      06MT22_5,   A10,    13,  2,    307,2,19930104,1333,-30.0043, -38.4937, 4226,   3252.0,   2.5390,  34.8980,2,-999.0000,9,    253.6,2,    36.60,2,    23.05,9,     1.50,2,    0.027,2,    0.040,4,    0.042,2,    0.017,2,   2.0496,4,     2.12,3,   -999.0,9,   8.403,4,  -999.00,9,   2180.3,2,   -999.0,9,   -999.0,9,  -999.00,9,  -999.0,  0.0072,   0.250,   0.029,  2.2727,   0.003,9
      06MT22_5,   A10,    13,  2,    306,2,19930104,1333,-30.0043, -38.4937, 4226,   3503.0,   2.1210,  34.8590,2,-999.0000,9,    248.2,2,    50.44,2,    25.12,9,     1.65,2, -999.000,9, -999.000,9, -999.000,9, -999.000,9,-999.0000,9,  -999.00,9,   -999.0,9,-999.000,9,  -999.00,9,   2196.3,2,   -999.0,9,   -999.0,9,  -999.00,9,  -999.0,-999.0000,-999.000,-999.000,  1.8382,-999.000,9
      06MT22_5,   A10,    13,  2,    305,2,19930104,1333,-30.0043, -38.4937, 4226,   3755.0,   1.6610,  34.8110,2,  34.8140,2,    240.2,2,    68.22,2,    27.72,9,     1.85,2,    0.068,4,    0.055,4,    0.073,3,    0.027,2,   1.8426,2,     4.80,2,   -999.0,9,   8.045,2,  -999.00,9,   2214.3,2,   -999.0,9,   -999.0,9,  -999.00,9,  -999.0,  0.0064,   0.250,   0.028,  1.3633,   0.016,9
      06MT22_5,   A10,    13,  2,    304,2,19930104,1333,-30.0043, -38.4937, 4226,   4005.0,   1.3470,  34.7760,2,-999.0000,9,    234.6,2,    81.68,2,    29.93,9,     2.01,2,    0.109,4,    0.115,4,    0.133,3, -999.000,9,-999.0000,1,  -999.00,1,   -999.0,9,-999.000,1,  -999.00,9,   2227.9,2,   -999.0,9,   -999.0,9,  -999.00,9,  -999.0,-999.0000,-999.000,-999.000,  1.0314,-999.000,9
      06MT22_5,   A10,    13,  2,    303,2,19930104,1333,-30.0043, -38.4937, 4226,   4140.0,   1.2340,  34.7630,2,-999.0000,9,    231.7,2,    86.91,2,    30.90,9,     2.10,2,    0.035,2,    0.019,2,    0.025,2,    0.008,2,-999.0000,1,  -999.00,1,   -999.0,9,-999.000,1,  -999.00,9,   2231.2,2,   -999.0,9,   -999.0,9,  -999.00,9,  -999.0,-999.0000,-999.000,-999.000,  0.9070,   0.002,9
      06MT22_5,   A10,    13,  2,    301,2,19930104,1333,-30.0043, -38.4937, 4226,   4212.0,   1.1740,  34.7560,2,  34.7570,2,    231.5,2,    89.41,2,    31.32,9,     2.13,2,    0.012,2,    0.020,2,    0.010,2,    0.014,2,   1.8471,2,     5.91,2,   -999.0,9,   8.100,2,  -999.00,9,   2233.9,2,   -999.0,9,   -999.0,9,  -999.00,9,  -999.0,  0.0065,   0.250,   0.028,  0.8409,   0.010,9
      06MT22_5,   A10,    13,  2,    302,2,19930104,1333,-30.0043, -38.4937, 4226,   4214.0,   1.1660,  34.7550,2,  34.7570,2,   -999.0,9,  -999.00,9,  -999.00,9,  -999.00,9,    0.052,2,    0.034,2,    0.018,2, -999.000,9,   1.8466,2,     6.47,2,   -999.0,9,   8.094,2,  -999.00,9,   -999.0,0,   -999.0,9,   -999.0,9,  -999.00,9,  -999.0,  0.0065,   0.250,   0.028,  0.8329,-999.000,9
      06MT22_5,   A10,    14,  1,    217,2,19930104,1916,-30.0027, -38.0033, 3856,     12.0,  21.7310,  36.0630,2,-999.0000,9,   -999.0,9,  -999.00,9,  -999.00,9,  -999.00,9, -999.000,9, -999.000,9, -999.000,9, -999.000,9,-999.0000,9,  -999.00,9,   -999.0,9,-999.000,9,  -999.00,9,   -999.0,9,   -999.0,9,   -999.0,9,  -999.00,9,  -999.0,-999.0000,-999.000,-999.000, 21.7286,-999.000,9
      06MT22_5,   A10,    14,  1,    208,2,19930104,1916,-30.0027, -38.0033, 3856,     13.0,  21.8070,  36.0670,2,  36.0650,2,    223.3,2,     0.10,2,     0.29,9,     0.04,2, -999.000,9, -999.000,9, -999.000,9, -999.000,9,-999.0000,9,  -999.00,9,   -999.0,9,-999.000,9,  -999.00,9,   -999.0,9,   -999.0,9,   -999.0,9,  -999.00,9,  -999.0,-999.0000,-999.000,-999.000, 21.8044,-999.000,9
      06MT22_5,   A10,    14,  1,    207,2,19930104,1916,-30.0027, -38.0033, 3856,     32.0,  21.5080,  36.0540,2,-999.0000,9,    225.7,2,     0.00,2,     0.30,9,     0.04,2, -999.000,9, -999.000,9, -999.000,9, -999.000,9,-999.0000,9,  -999.00,9,   -999.0,9,-999.000,9,  -999.00,9,   -999.0,9,   -999.0,9,   -999.0,9,  -999.00,9,  -999.0,-999.0000,-999.000,-999.000, 21.5017,-999.000,9
      06MT22_5,   A10,    14,  1,    206,2,19930104,1916,-30.0027, -38.0033, 3856,     51.0,  20.7510,  36.0820,2,-999.0000,9,    232.0,2,     0.00,2,     0.00,9,     0.06,2, -999.000,9, -999.000,9, -999.000,9, -999.000,9,-999.0000,9,  -999.00,9,   -999.0,9,-999.000,9,  -999.00,9,   -999.0,9,   -999.0,9,   -999.0,9,  -999.00,9,  -999.0,-999.0000,-999.000,-999.000, 20.7413,-999.000,9
      06MT22_5,   A10,    14,  1,    205,2,19930104,1916,-30.0027, -38.0033, 3856,     72.0,  19.6700,  36.1180,2,  36.1160,2,    231.7,2,     0.09,2,     0.28,9,     0.08,2, -999.000,9, -999.000,9, -999.000,9, -999.000,9,-999.0000,9,  -999.00,9,   -999.0,9,-999.000,9,  -999.00,9,   -999.0,9,   -999.0,9,   -999.0,9,  -999.00,9,  -999.0,-999.0000,-999.000,-999.000, 19.6568,-999.000,9
      06MT22_5,   A10,    14,  1,    204,2,19930104,1916,-30.0027, -38.0033, 3856,    102.0,  18.9990,  36.0730,2,-999.0000,9,    230.0,2,     0.04,2,     0.26,9,     0.09,2, -999.000,9, -999.000,9, -999.000,9, -999.000,9,-999.0000,9,  -999.00,9,   -999.0,9,-999.000,9,  -999.00,9,   -999.0,9,   -999.0,9,   -999.0,9,  -999.00,9,  -999.0,-999.0000,-999.000,-999.000, 18.9807,-999.000,9
      06MT22_5,   A10,    14,  1,    203,2,19930104,1916,-30.0027, -38.0033, 3856,    152.0,  18.1210,  36.0050,2,-999.0000,9,    220.0,2,     0.26,2,     1.39,9,     0.18,2, -999.000,9, -999.000,9, -999.000,9, -999.000,9,-999.0000,9,  -999.00,9,   -999.0,9,-999.000,9,  -999.00,9,   -999.0,9,   -999.0,9,   -999.0,9,  -999.00,9,  -999.0,-999.0000,-999.000,-999.000, 18.0946,-999.000,9
      06MT22_5,   A10,    14,  1,    202,2,19930104,1916,-30.0027, -38.0033, 3856,    201.0,  17.3290,  35.9370,2,  35.9380,2,    218.7,2,     0.48,2,     2.13,9,     0.20,2, -999.000,9, -999.000,9, -999.000,9, -999.000,9,-999.0000,9,  -999.00,9,   -999.0,9,-999.000,9,  -999.00,9,   -999.0,9,   -999.0,9,   -999.0,9,  -999.00,9,  -999.0,-999.0000,-999.000,-999.000, 17.2952,-999.000,9
      06MT22_5,   A10,    14,  1,    201,2,19930104,1916,-30.0027, -38.0033, 3856,    301.0,  15.2400,  35.5930,2,-999.0000,9,    213.3,2,     1.42,2,     6.14,9,     0.45,2, -999.000,9, -999.000,9, -999.000,9, -999.000,9,-999.0000,9,  -999.00,9,   -999.0,9,-999.000,9,  -999.00,9,   -999.0,9,   -999.0,9,   -999.0,9,  -999.00,9,  -999.0,-999.0000,-999.000,-999.000, 15.1934,-999.000,9