BOTTLE,20030417WHPSIOSA
EXPOCODE,SECT_ID,STNNBR,CASTNO,BTLNBR,BTLNBR_FLAG_W,DATE,TIME,LATITUDE,LONGITUDE,DEPTH,CTDPRS,CTDTMP,CTDSAL,CTDSAL_FLAG_W,SALNTY,SALNTY_FLAG_W,OXYGEN,OXYGEN_FLAG_W,SILCAT,SILCAT_FLAG_W,NO2+NO3,NO2+NO3_FLAG_W,PHSPHT,PHSPHT_FLAG_W,CFC-11,CFC-11_FLAG_W,CFC-12,CFC-12_FLAG_W,CCL4,CCL4_FLAG_W,TRITUM,TRITUM_FLAG_W,HELIUM,HELIUM_FLAG_W,DELHE3,DELHE3_FLAG_W,DELC14,DELC14_FLAG_W,NEON,NEON_FLAG_W,O18O16,O18O16_FLAG_W,TCARBN,TCARBN_FLAG_W,PCO2,PCO2_FLAG_W,ALKALI,ALKALI_FLAG_W,PH,PH_FLAG_W,C14ERR,HELIER,DELHER,NEONER,THETA,TRITER,TRITER_FLAG_W
,,,,,,,,,,,DBAR,ITS-90,PSS-78,,PSS-78,,UMOL/KG,,UMOL/KG,,UMOL/KG,,UMOL/KG,,PMOL/KG,,PMOL/KG,,PMOL/KG,,TU,,NMOL/KG,,PERCNT,,/MILLE,,NMOL/KG,,MILLE,,UMOL/KG,,UATM,,UMOL/KG,,,,/MILLE,NMOL/KG,PERCNT,NMOL/KG,ITS-90,TU,
      06MT22_5,   A10,    78,  1,    210,2,19930122,0332,-29.3373,   2.8298, 4251,     11.0,  23.8100,  35.8250,2,-999.0000,9,   -999.0,9,  -999.00,9,  -999.00,9,  -999.00,9,    2.020,2,    1.122,2,    2.535,2,    0.971,2,   1.6940,2,    -0.53,2,   -999.0,9,   6.753,2,  -999.00,9,   -999.0,9,   -999.0,9,   2358.4,2,  -999.00,9,  -999.0,  0.0068,   0.250,   0.027, 23.8077,   0.025,9
      06MT22_5,   A10,    78,  1,    217,2,19930122,0332,-29.3373,   2.8298, 4251,     12.0,  23.8180,  35.8240,2,  35.8260,2,    222.4,2,     1.07,2,     0.05,9,     0.15,2, -999.000,9, -999.000,9, -999.000,9, -999.000,9,-999.0000,9,  -999.00,9,   -999.0,9,-999.000,9,  -999.00,9,   -999.0,9,   -999.0,9,   -999.0,9,  -999.00,9,  -999.0,-999.0000,-999.000,-999.000, 23.8155,-999.000,9
      06MT22_5,   A10,    78,  1,    209,2,19930122,0332,-29.3373,   2.8298, 4251,     32.0,  21.0800,  35.6740,2,-999.0000,9,    246.0,2,     0.97,2,     0.03,9,     0.14,2,    2.382,2,    1.265,2,    2.501,2,    0.937,2,   1.6954,6,    -1.21,2,   -999.0,9,   6.939,6,  -999.00,9,   -999.0,9,   -999.0,9,   2349.5,2,  -999.00,9,  -999.0,  0.0068,   0.250,   0.028, 21.0739,   0.023,9
      06MT22_5,   A10,    78,  1,    208,2,19930122,0332,-29.3373,   2.8298, 4251,     51.0,  16.7780,  35.5530,2,-999.0000,9,    274.5,2,     0.86,2,     0.06,9,     0.14,2, -999.000,9, -999.000,9, -999.000,9,    1.012,2,   1.7168,5,    -1.39,3,   -999.0,9,   7.117,5,  -999.00,9,   -999.0,9,   -999.0,9,   -999.0,9,  -999.00,9,  -999.0,  0.0069,   0.250,   0.029, 16.7697,   0.025,9
      06MT22_5,   A10,    78,  1,    207,2,19930122,0332,-29.3373,   2.8298, 4251,     72.0,  15.7060,  35.5270,2,  35.5320,2,    242.3,2,     1.45,2,     0.03,9,     0.15,2,    2.657,2,    1.422,2,    1.765,2,    1.000,2,   1.7275,2,    -1.24,2,   -999.0,9,   7.141,2,  -999.00,9,   -999.0,9,   -999.0,9,   2336.6,2,  -999.00,9,  -999.0,  0.0069,   0.250,   0.029, 15.6947,   0.026,9
      06MT22_5,   A10,    78,  1,    206,2,19930122,0332,-29.3373,   2.8298, 4251,    102.0,  15.5530,  35.5320,2,-999.0000,9,    238.4,2,     2.42,2,     1.85,9,     0.26,2,    2.628,2,    1.407,2,    1.558,2,    0.971,2,   1.7293,6,    -1.45,2,   -999.0,9,   7.170,6,  -999.00,9,   -999.0,9,   -999.0,9,   2337.6,2,  -999.00,9,  -999.0,  0.0069,   0.250,   0.029, 15.5371,   0.025,9
      06MT22_5,   A10,    78,  1,    205,2,19930122,0332,-29.3373,   2.8298, 4251,    150.0,  15.2650,  35.4780,2,  35.4800,2,    238.6,2,     2.50,2,     2.74,9,     0.30,2, -999.000,9, -999.000,9, -999.000,9,    0.966,2,   1.7311,5,    -1.66,3,   -999.0,9,   7.196,5,  -999.00,9,   -999.0,9,   -999.0,9,   2338.6,2,  -999.00,9,  -999.0,  0.0069,   0.250,   0.029, 15.2420,   0.024,9
      06MT22_5,   A10,    78,  1,    204,2,19930122,0332,-29.3373,   2.8298, 4251,    201.0,  15.0360,  35.4320,2,-999.0000,9,    237.3,2,     2.58,2,     3.27,9,     0.31,2,    2.654,2,    1.411,2,    1.492,2,    0.924,2,-999.0000,1,  -999.00,1,   -999.0,9,-999.000,1,  -999.00,9,   -999.0,9,   -999.0,9,   2334.7,2,  -999.00,9,  -999.0,-999.0000,-999.000,-999.000, 15.0055,   0.065,9
      06MT22_5,   A10,    78,  1,    203,2,19930122,0332,-29.3373,   2.8298, 4251,    302.0,  13.5740,  35.1790,2,  35.1820,2,    229.6,2,     2.65,2,     3.67,9,     0.34,2,    2.675,2,    1.408,2,    1.432,2,    8.052,4,   1.7462,5,    -0.45,3,   -999.0,9,   7.287,5,  -999.00,9,   -999.0,9,   -999.0,9,   2320.8,2,  -999.00,9,  -999.0,  0.0070,   0.250,   0.029, 13.5310,   1.117,9
      06MT22_5,   A10,    78,  1,    202,2,19930122,0332,-29.3373,   2.8298, 4251,    400.0,  12.1530,  35.0300,2,-999.0000,9,    216.6,2,     3.40,2,     6.85,9,     0.55,2,    2.353,2,    1.220,2,    1.127,2,    0.713,2,   1.7404,2,     0.73,2,   -999.0,9,   7.329,2,  -999.00,9,   -999.0,9,   -999.0,9,   2312.9,2,  -999.00,9,  -999.0,  0.0061,   0.250,   0.026, 12.1001,   0.020,9
      06MT22_5,   A10,    78,  1,    201,2,19930122,0332,-29.3373,   2.8298, 4251,    500.0,  10.0180,  34.7800,2,  34.7860,2,    210.8,2,     4.55,2,    11.48,9,     0.80,2,    2.100,2,    1.077,2,    1.295,2,    0.497,2,   1.7543,5,     1.10,3,   -999.0,9,   7.432,5,  -999.00,9,   -999.0,9,   -999.0,9,   2301.0,2,  -999.00,9,  -999.0,  0.0079,   0.250,   0.033,  9.9592,   0.014,9
      06MT22_5,   A10,    78,  2,    324,2,19930122,0510,-29.3485,   2.8257, 4241,      9.0,  23.6490,  35.8180,2,  35.8240,2,   -999.0,9,  -999.00,9,  -999.00,9,  -999.00,9, -999.000,9, -999.000,9, -999.000,9, -999.000,9,-999.0000,9,  -999.00,9,   -999.0,9,-999.000,9,  -999.00,9,   -999.0,9,   -999.0,9,   -999.0,9,  -999.00,9,  -999.0,-999.0000,-999.000,-999.000, 23.6471,-999.000,9
      06MT22_5,   A10,    78,  2,    323,2,19930122,0510,-29.3485,   2.8257, 4241,      9.0,  23.7020,  35.8190,2,-999.0000,9,   -999.0,9,  -999.00,9,  -999.00,9,  -999.00,9, -999.000,9, -999.000,9, -999.000,9, -999.000,9,-999.0000,9,  -999.00,9,   -999.0,9,-999.000,9,  -999.00,9,   -999.0,9,   -999.0,9,   -999.0,9,  -999.00,9,  -999.0,-999.0000,-999.000,-999.000, 23.7001,-999.000,9
      06MT22_5,   A10,    78,  2,    322,2,19930122,0510,-29.3485,   2.8257, 4241,     10.0,  23.6260,  35.8190,2,-999.0000,9,   -999.0,9,  -999.00,9,  -999.00,9,  -999.00,9, -999.000,9, -999.000,9, -999.000,9, -999.000,9,-999.0000,9,  -999.00,9,   -999.0,9,-999.000,9,  -999.00,9,   -999.0,9,   -999.0,9,   -999.0,9,  -999.00,9,  -999.0,-999.0000,-999.000,-999.000, 23.6239,-999.000,9
      06MT22_5,   A10,    78,  2,    321,2,19930122,0510,-29.3485,   2.8257, 4241,    598.0,   8.8260,  34.6570,2,  34.6690,2,    209.2,2,     7.02,2,    17.00,9,     1.17,2, -999.000,9, -999.000,9, -999.000,9, -999.000,9,-999.0000,9,  -999.00,9,   -999.0,9,-999.000,9,  -999.00,9,   -999.0,9,   -999.0,9,   -999.0,9,  -999.00,9,  -999.0,-999.0000,-999.000,-999.000,  8.7606,-999.000,9
      06MT22_5,   A10,    78,  2,    320,2,19930122,0510,-29.3485,   2.8257, 4241,    699.0,   6.5530,  34.4470,2,-999.0000,9,    220.4,2,    10.18,2,    20.35,9,     1.37,2,    1.661,2,    0.820,2,    2.106,2,    0.215,2,   1.7578,5,     1.04,3,   -999.0,9,   7.659,5,  -999.00,9,   -999.0,9,   -999.0,9,   2296.0,2,  -999.00,9,  -999.0,  0.0070,   0.250,   0.031,  6.4882,   0.029,9
      06MT22_5,   A10,    78,  2,    319,2,19930122,0510,-29.3485,   2.8257, 4241,    848.0,   4.6740,  34.3280,2,  34.3290,2,    192.3,2,    15.93,2,    26.23,9,     1.75,2,    1.389,2,    0.670,2,    2.382,2,    0.142,2,   1.7668,2,     0.96,2,   -999.0,9,   7.720,2,  -999.00,9,   -999.0,9,   -999.0,9,   2292.1,2,  -999.00,9,  -999.0,  0.0062,   0.250,   0.027,  4.6066,   0.006,9
      06MT22_5,   A10,    78,  2,    318,2,19930122,0510,-29.3485,   2.8257, 4241,    997.0,   3.8410,  34.3860,2,-999.0000,9,    182.9,2,    23.83,2,    29.78,9,     1.98,2,    0.552,2,    0.272,2,    1.282,2,    0.017,4,   1.8868,4,     3.53,3,   -999.0,9,   7.854,7,  -999.00,9,   -999.0,9,   -999.0,9,   2320.0,2,  -999.00,9,  -999.0,  0.0066,   0.250,   0.027,  3.7666,   0.288,9
      06MT22_5,   A10,    78,  2,    317,2,19930122,0510,-29.3485,   2.8257, 4241,   1198.0,   3.2870,  34.4920,2,-999.0000,9,    185.5,2,    37.49,2,    33.28,9,     2.21,2,    0.179,2,    0.089,2,    0.602,2,    0.029,2,-999.0000,1,  -999.00,1,   -999.0,9,-999.000,1,  -999.00,9,   -999.0,9,   -999.0,9,   2325.7,2,  -999.00,9,  -999.0,-999.0000,-999.000,-999.000,  3.2009,   0.006,9
      06MT22_5,   A10,    78,  2,    316,2,19930122,0510,-29.3485,   2.8257, 4241,   1399.0,   3.1340,  34.6260,2,  34.6280,2,    196.1,2,    49.73,2,    33.92,9,     2.22,2,    0.046,2,    0.023,2,    0.251,2,    0.027,2,-999.0000,1,  -999.00,1,   -999.0,9,-999.000,1,  -999.00,9,   -999.0,9,   -999.0,9,   2329.7,2,  -999.00,9,  -999.0,-999.0000,-999.000,-999.000,  3.0329,   0.053,9
      06MT22_5,   A10,    78,  2,    315,2,19930122,0510,-29.3485,   2.8257, 4241,   1598.0,   3.1590,  34.7280,2,-999.0000,9,    209.4,2,    51.17,2,    32.28,9,     2.12,2,    0.010,2,    0.005,2,    0.089,2,    0.012,2,-999.0000,1,  -999.00,1,   -999.0,9,-999.000,1,  -999.00,9,   -999.0,9,   -999.0,9,   2329.7,2,  -999.00,9,  -999.0,-999.0000,-999.000,-999.000,  3.0403,   0.003,9
      06MT22_5,   A10,    78,  2,    314,2,19930122,0510,-29.3485,   2.8257, 4241,   1799.0,   3.0740,  34.8040,2,-999.0000,9,    219.6,2,    46.14,2,    29.86,9,     1.94,2,    0.008,2,    0.002,2,    0.042,2,    0.004,2,-999.0000,1,  -999.00,1,   -999.0,9,-999.000,1,  -999.00,9,   -999.0,9,   -999.0,9,   2333.7,2,  -999.00,9,  -999.0,-999.0000,-999.000,-999.000,  2.9388,   0.002,9
      06MT22_5,   A10,    78,  2,    313,2,19930122,0510,-29.3485,   2.8257, 4241,   1998.0,   2.9710,  34.8380,2,  34.8390,2,    224.6,2,    43.27,2,    27.49,9,     1.77,2, -999.000,9, -999.000,9, -999.000,9,    0.008,2,-999.0000,1,  -999.00,1,   -999.0,9,-999.000,1,  -999.00,9,   -999.0,9,   -999.0,9,   2332.5,2,  -999.00,9,  -999.0,-999.0000,-999.000,-999.000,  2.8194,   0.004,9
      06MT22_5,   A10,    78,  2,    312,2,19930122,0510,-29.3485,   2.8257, 4241,   2251.0,   2.7590,  34.8470,2,-999.0000,9,    231.0,2,    42.41,2,    26.07,9,     1.67,2,    0.006,2,    0.002,2,    0.024,2,   -0.014,3,-999.0000,1,  -999.00,1,   -999.0,9,-999.000,1,  -999.00,9,   -999.0,9,   -999.0,9,   2337.4,2,  -999.00,9,  -999.0,-999.0000,-999.000,-999.000,  2.5875,   0.095,9
      06MT22_5,   A10,    78,  2,    311,2,19930122,0510,-29.3485,   2.8257, 4241,   2502.0,   2.5530,  34.8520,2,-999.0000,9,    233.7,2,    46.01,2,    25.53,9,     1.66,2,    0.002,2,    0.003,2,    0.013,2,    0.004,2,   1.8212,2,     5.25,2,   -999.0,9,   7.933,2,  -999.00,9,   -999.0,9,   -999.0,9,   2332.5,2,  -999.00,9,  -999.0,  0.0064,   0.250,   0.028,  2.3615,   0.008,9
      06MT22_5,   A10,    78,  2,    310,2,19930122,0510,-29.3485,   2.8257, 4241,   2752.0,   2.4380,  34.8540,2,  34.8500,2,   -999.0,9,  -999.00,9,  -999.00,9,  -999.00,9, -999.000,9, -999.000,9, -999.000,9, -999.000,9,-999.0000,9,  -999.00,9,   -999.0,9,-999.000,9,  -999.00,9,   -999.0,9,   -999.0,9,   -999.0,9,  -999.00,9,  -999.0,-999.0000,-999.000,-999.000,  2.2245,-999.000,9
      06MT22_5,   A10,    78,  2,    309,2,19930122,0510,-29.3485,   2.8257, 4241,   3004.0,   2.3410,  34.8600,2,-999.0000,9,    235.0,2,    52.68,2,    24.84,9,     1.63,2,    0.001,2,    0.002,2,    0.011,2,    0.034,2,   1.8314,2,     4.96,2,   -999.0,9,   7.982,2,  -999.00,9,   -999.0,9,   -999.0,9,   2347.4,2,  -999.00,9,  -999.0,  0.0064,   0.250,   0.028,  2.1045,   0.012,9
      06MT22_5,   A10,    78,  2,    308,2,19930122,0510,-29.3485,   2.8257, 4241,   3253.0,   2.3300,  34.8640,2,-999.0000,9,    234.2,2,    52.52,2,    24.78,9,     1.60,2,    0.049,4,    0.026,4,    0.054,4,    0.006,2,-999.0000,1,  -999.00,1,   -999.0,9,-999.000,1,  -999.00,9,   -999.0,9,   -999.0,9,   2351.3,2,  -999.00,9,  -999.0,-999.0000,-999.000,-999.000,  2.0682,   0.002,9
      06MT22_5,   A10,    78,  2,    307,2,19930122,0510,-29.3485,   2.8257, 4241,   3502.0,   2.3170,  34.8650,2,  34.8650,2,    234.6,2,    53.59,2,    24.65,9,     1.61,2,    0.002,2,    0.001,2,    0.010,2,    0.003,2,-999.0000,1,  -999.00,1,   -999.0,9,-999.000,1,  -999.00,9,   -999.0,9,   -999.0,9,   2351.3,2,  -999.00,9,  -999.0,-999.0000,-999.000,-999.000,  2.0292,   0.002,9
      06MT22_5,   A10,    78,  2,    306,2,19930122,0510,-29.3485,   2.8257, 4241,   3502.0,   2.3170,  34.8650,2,  34.8630,2,    230.2,2,    54.23,2,    24.78,9,     1.61,2,    0.001,2,    0.000,2,   -0.001,4,    0.011,2,-999.0000,1,  -999.00,1,   -999.0,9,-999.000,1,  -999.00,9,   -999.0,9,   -999.0,9,   2352.3,2,  -999.00,9,  -999.0,-999.0000,-999.000,-999.000,  2.0292,   0.003,9
      06MT22_5,   A10,    78,  2,    305,2,19930122,0510,-29.3485,   2.8257, 4241,   3754.0,   2.0470,  34.8330,2,-999.0000,9,    222.8,2,    65.27,2,    26.24,9,     1.71,2,    0.001,2,    0.004,2,    0.012,2,    0.005,2,   1.8359,2,     5.30,2,   -999.0,9,   8.006,2,  -999.00,9,   -999.0,9,   -999.0,9,   2356.3,2,  -999.00,9,  -999.0,  0.0064,   0.250,   0.028,  1.7393,   0.004,9
      06MT22_5,   A10,    78,  2,    304,2,19930122,0510,-29.3485,   2.8257, 4241,   4000.0,   1.5930,  34.7860,2,  34.7870,2,    221.3,2,    83.19,2,    28.54,9,     1.90,2,    0.007,2,    0.004,2,    0.032,2,    0.010,2,-999.0000,1,  -999.00,1,   -999.0,9,-999.000,1,  -999.00,9,   -999.0,9,   -999.0,9,   2362.3,2,  -999.00,9,  -999.0,-999.0000,-999.000,-999.000,  1.2708,   0.003,9
      06MT22_5,   A10,    78,  2,    303,2,19930122,0510,-29.3485,   2.8257, 4241,   4179.0,   1.3030,  34.7570,2,  34.7570,2,    221.0,2,    94.48,2,    29.94,9,     1.99,2,    0.008,2,    0.004,2,    0.048,2,    0.012,2,-999.0000,1,  -999.00,1,   -999.0,9,-999.000,1,  -999.00,9,   -999.0,9,   -999.0,9,   2367.2,2,  -999.00,9,  -999.0,-999.0000,-999.000,-999.000,  0.9697,   0.002,9
      06MT22_5,   A10,    78,  2,    301,2,19930122,0510,-29.3485,   2.8257, 4241,   4258.0,   1.2360,  34.7500,2,  34.7500,2,    221.0,2,    97.55,2,    30.35,9,     2.02,2,    0.007,2,    0.004,2,    0.053,2,   21.227,4,   1.8604,2,     7.20,2,   -999.0,9,   8.136,2,  -999.00,9,   -999.0,9,   -999.0,9,   2367.2,2,  -999.00,9,  -999.0,  0.0065,   0.250,   0.029,  0.8960,   1.862,9
      06MT22_5,   A10,    78,  2,    302,2,19930122,0510,-29.3485,   2.8257, 4241,   4261.0,   1.2380,  34.7500,2,-999.0000,9,   -999.0,9,  -999.00,9,  -999.00,9,  -999.00,9,    0.005,2,    0.003,2,    0.051,2,    0.021,2,-999.0000,1,  -999.00,1,   -999.0,9,-999.000,1,  -999.00,9,   -999.0,9,   -999.0,9,   -999.0,9,  -999.00,9,  -999.0,-999.0000,-999.000,-999.000,  0.8976,   0.023,9
      06MT22_5,   A10,    79,  1,    217,2,19930122,0903,-29.4683,   3.2783, 4719,     11.0,  23.5610,  35.8040,2,  35.8040,2,    221.2,2,     1.09,2,     0.01,9,     0.14,2, -999.000,9, -999.000,9, -999.000,9, -999.000,9,-999.0000,9,  -999.00,9,   -999.0,9,-999.000,9,  -999.00,9,   -999.0,0,   -999.0,9,   -999.0,9,  -999.00,9,  -999.0,-999.0000,-999.000,-999.000, 23.5587,-999.000,9
      06MT22_5,   A10,    79,  1,    212,2,19930122,0903,-29.4683,   3.2783, 4719,     32.0,  21.2800,  35.6550,2,  35.6490,2,    250.5,2,     1.33,2,     0.00,9,     0.16,2, -999.000,9, -999.000,9, -999.000,9, -999.000,9,-999.0000,9,  -999.00,9,   -999.0,9,-999.000,9,  -999.00,9,   -999.0,0,   -999.0,9,   -999.0,9,  -999.00,9,  -999.0,-999.0000,-999.000,-999.000, 21.2738,-999.000,9
      06MT22_5,   A10,    79,  1,    211,2,19930122,0903,-29.4683,   3.2783, 4719,     52.0,  17.6810,  35.5600,2,-999.0000,9,    273.4,2,     1.41,2,     0.00,9,     0.15,2, -999.000,9, -999.000,9, -999.000,9, -999.000,9,-999.0000,9,  -999.00,9,   -999.0,9,-999.000,9,  -999.00,9,   -999.0,0,   -999.0,9,   -999.0,9,  -999.00,9,  -999.0,-999.0000,-999.000,-999.000, 17.6722,-999.000,9
      06MT22_5,   A10,    79,  1,    210,2,19930122,0903,-29.4683,   3.2783, 4719,     72.0,  16.1720,  35.5610,2,-999.0000,9,    261.8,2,     2.11,2,     0.17,9,     0.19,2, -999.000,9, -999.000,9, -999.000,9, -999.000,9,-999.0000,9,  -999.00,9,   -999.0,9,-999.000,9,  -999.00,9,   -999.0,0,   -999.0,9,   -999.0,9,  -999.00,9,  -999.0,-999.0000,-999.000,-999.000, 16.1605,-999.000,9
      06MT22_5,   A10,    79,  1,    209,2,19930122,0903,-29.4683,   3.2783, 4719,    102.0,  15.6760,  35.5570,2,-999.0000,9,    237.9,2,     2.43,2,     2.49,9,     0.31,2, -999.000,9, -999.000,9, -999.000,9, -999.000,9,-999.0000,9,  -999.00,9,   -999.0,9,-999.000,9,  -999.00,9,   -999.0,0,   -999.0,9,   -999.0,9,  -999.00,9,  -999.0,-999.0000,-999.000,-999.000, 15.6601,-999.000,9
      06MT22_5,   A10,    79,  1,    208,2,19930122,0903,-29.4683,   3.2783, 4719,    152.0,  15.5540,  35.5350,2,-999.0000,9,    238.6,2,     2.48,2,     2.55,9,     0.30,2, -999.000,9, -999.000,9, -999.000,9, -999.000,9,-999.0000,9,  -999.00,9,   -999.0,9,-999.000,9,  -999.00,9,   -999.0,0,   -999.0,9,   -999.0,9,  -999.00,9,  -999.0,-999.0000,-999.000,-999.000, 15.5303,-999.000,9
      06MT22_5,   A10,    79,  1,    207,2,19930122,0903,-29.4683,   3.2783, 4719,    201.0,  15.2990,  35.4850,2,  35.4830,2,    238.4,2,     2.53,2,     3.01,9,     0.34,2, -999.000,9, -999.000,9, -999.000,9, -999.000,9,-999.0000,9,  -999.00,9,   -999.0,9,-999.000,9,  -999.00,9,   -999.0,0,   -999.0,9,   -999.0,9,  -999.00,9,  -999.0,-999.0000,-999.000,-999.000, 15.2680,-999.000,9
      06MT22_5,   A10,    79,  1,    206,2,19930122,0903,-29.4683,   3.2783, 4719,    301.0,  14.0620,  35.2450,2,-999.0000,9,    230.8,2,     2.99,2,     5.46,9,     0.50,2, -999.000,9, -999.000,9, -999.000,9, -999.000,9,-999.0000,9,  -999.00,9,   -999.0,9,-999.000,9,  -999.00,9,   -999.0,0,   -999.0,9,   -999.0,9,  -999.00,9,  -999.0,-999.0000,-999.000,-999.000, 14.0183,-999.000,9
      06MT22_5,   A10,    79,  1,    205,2,19930122,0903,-29.4683,   3.2783, 4719,    400.0,  12.3870,  35.0690,2,-999.0000,9,    216.9,2,     4.76,2,    11.15,9,     0.83,2, -999.000,9, -999.000,9, -999.000,9, -999.000,9,-999.0000,9,  -999.00,9,   -999.0,9,-999.000,9,  -999.00,9,   -999.0,0,   -999.0,9,   -999.0,9,  -999.00,9,  -999.0,-999.0000,-999.000,-999.000, 12.3334,-999.000,9
      06MT22_5,   A10,    79,  1,    204,2,19930122,0903,-29.4683,   3.2783, 4719,    500.0,  10.3110,  34.8180,2,  34.8140,2,    215.0,2,     6.14,2,    16.09,9,     1.09,2, -999.000,9, -999.000,9, -999.000,9, -999.000,9,-999.0000,9,  -999.00,9,   -999.0,9,-999.000,9,  -999.00,9,   -999.0,0,   -999.0,9,   -999.0,9,  -999.00,9,  -999.0,-999.0000,-999.000,-999.000, 10.2511,-999.000,9
      06MT22_5,   A10,    79,  1,    203,2,19930122,0903,-29.4683,   3.2783, 4719,    600.0,   8.5590,  34.6340,2,-999.0000,9,    207.6,2,    11.48,2,    21.33,9,     1.47,2, -999.000,9, -999.000,9, -999.000,9, -999.000,9,-999.0000,9,  -999.00,9,   -999.0,9,-999.000,9,  -999.00,9,   -999.0,0,   -999.0,9,   -999.0,9,  -999.00,9,  -999.0,-999.0000,-999.000,-999.000,  8.4948,-999.000,9
      06MT22_5,   A10,    79,  1,    202,2,19930122,0903,-29.4683,   3.2783, 4719,    703.0,   6.7730,  34.4660,2,-999.0000,9,    209.2,2,    15.28,2,    25.65,9,     1.73,2, -999.000,9, -999.000,9, -999.000,9, -999.000,9,-999.0000,9,  -999.00,9,   -999.0,9,-999.000,9,  -999.00,9,   -999.0,0,   -999.0,9,   -999.0,9,  -999.00,9,  -999.0,-999.0000,-999.000,-999.000,  6.7067,-999.000,9
      06MT22_5,   A10,    79,  1,    201,2,19930122,0903,-29.4683,   3.2783, 4719,    855.0,   4.5880,  34.3300,2,  34.3340,2,    217.6,2,    26.01,2,    30.03,9,     2.00,2, -999.000,9, -999.000,9, -999.000,9, -999.000,9,-999.0000,9,  -999.00,9,   -999.0,9,-999.000,9,  -999.00,9,   -999.0,0,   -999.0,9,   -999.0,9,  -999.00,9,  -999.0,-999.0000,-999.000,-999.000,  4.5206,-999.000,9