BOTTLE,20030417WHPSIOSA
EXPOCODE,SECT_ID,STNNBR,CASTNO,BTLNBR,BTLNBR_FLAG_W,DATE,TIME,LATITUDE,LONGITUDE,DEPTH,CTDPRS,CTDTMP,CTDSAL,CTDSAL_FLAG_W,SALNTY,SALNTY_FLAG_W,OXYGEN,OXYGEN_FLAG_W,SILCAT,SILCAT_FLAG_W,NO2+NO3,NO2+NO3_FLAG_W,PHSPHT,PHSPHT_FLAG_W,CFC-11,CFC-11_FLAG_W,CFC-12,CFC-12_FLAG_W,CCL4,CCL4_FLAG_W,TRITUM,TRITUM_FLAG_W,HELIUM,HELIUM_FLAG_W,DELHE3,DELHE3_FLAG_W,DELC14,DELC14_FLAG_W,NEON,NEON_FLAG_W,O18O16,O18O16_FLAG_W,TCARBN,TCARBN_FLAG_W,PCO2,PCO2_FLAG_W,ALKALI,ALKALI_FLAG_W,PH,PH_FLAG_W,C14ERR,HELIER,DELHER,NEONER,THETA,TRITER,TRITER_FLAG_W
,,,,,,,,,,,DBAR,ITS-90,PSS-78,,PSS-78,,UMOL/KG,,UMOL/KG,,UMOL/KG,,UMOL/KG,,PMOL/KG,,PMOL/KG,,PMOL/KG,,TU,,NMOL/KG,,PERCNT,,/MILLE,,NMOL/KG,,MILLE,,UMOL/KG,,UATM,,UMOL/KG,,,,/MILLE,NMOL/KG,PERCNT,NMOL/KG,ITS-90,TU,
      06MT22_5,   A10,   629,  1,    324,2,19921231,0650,-28.0393, -46.1290, 2408,     11.0,  24.4110,  36.5420,2,-999.0000,9,   -999.0,9,  -999.00,9,  -999.00,9,  -999.00,9, -999.000,9, -999.000,9, -999.000,9, -999.000,9,-999.0000,9,  -999.00,9,   -999.0,9,-999.000,9,  -999.00,9,   -999.0,9,   -999.0,9,   -999.0,9,  -999.00,9,  -999.0,-999.0000,-999.000,-999.000, 24.4086,-999.000,9
      06MT22_5,   A10,   629,  1,    323,2,19921231,0650,-28.0393, -46.1290, 2408,     11.0,  24.4110,  36.5420,2,  36.5310,2,    214.9,2,     0.19,2,     0.15,9,     0.03,2,    1.928,2,    1.073,2,    2.377,2, -999.000,9,-999.0000,9,  -999.00,9,   -999.0,9,-999.000,9,  -999.00,9,   2052.4,2,   -999.0,9,   -999.0,9,  -999.00,9,  -999.0,-999.0000,-999.000,-999.000, 24.4086,-999.000,9
      06MT22_5,   A10,   629,  1,    322,2,19921231,0650,-28.0393, -46.1290, 2408,     29.0,  23.6100,  36.4610,2,-999.0000,9,    220.5,2,     0.00,2,     0.02,9,     0.01,2,    2.047,2,    1.104,2,    2.433,2, -999.000,9,-999.0000,9,  -999.00,9,   -999.0,9,-999.000,9,  -999.00,9,   2050.8,2,   -999.0,9,   -999.0,9,  -999.00,9,  -999.0,-999.0000,-999.000,-999.000, 23.6039,-999.000,9
      06MT22_5,   A10,   629,  1,    321,2,19921231,0650,-28.0393, -46.1290, 2408,     49.0,  22.5040,  36.5570,2,-999.0000,9,    226.8,2,     0.03,2,     0.03,9,     0.03,2,    2.856,3,    1.338,3,    2.376,2, -999.000,9,-999.0000,9,  -999.00,9,   -999.0,9,-999.000,9,  -999.00,9,   2054.1,2,   -999.0,9,   -999.0,9,  -999.00,9,  -999.0,-999.0000,-999.000,-999.000, 22.4941,-999.000,9
      06MT22_5,   A10,   629,  1,    320,2,19921231,0650,-28.0393, -46.1290, 2408,     70.0,  20.9700,  36.3290,2,  36.3480,2,    232.8,2,     0.02,2,     0.00,9,     0.02,2,    2.310,2,    1.204,2,    2.253,2, -999.000,9,-999.0000,9,  -999.00,9,   -999.0,9,-999.000,9,  -999.00,9,   2049.7,2,   -999.0,9,   -999.0,9,  -999.00,9,  -999.0,-999.0000,-999.000,-999.000, 20.9565,-999.000,9
      06MT22_5,   A10,   629,  1,    319,2,19921231,0650,-28.0393, -46.1290, 2408,    100.0,  20.3060,  36.3690,2,-999.0000,9,    225.0,2,     0.05,2,     0.04,9,     0.06,2,    2.528,3,    1.481,3,    1.987,2, -999.000,9,-999.0000,9,  -999.00,9,   -999.0,9,-999.000,9,  -999.00,9,   2061.4,2,   -999.0,9,   -999.0,9,  -999.00,9,  -999.0,-999.0000,-999.000,-999.000, 20.2873,-999.000,9
      06MT22_5,   A10,   629,  1,    318,2,19921231,0650,-28.0393, -46.1290, 2408,    150.0,  18.9200,  36.1730,2,-999.0000,9,    215.7,2,     0.16,2,     1.34,9,     0.16,2,    2.277,2,    1.266,2,    1.100,2, -999.000,9,-999.0000,9,  -999.00,9,   -999.0,9,-999.000,9,  -999.00,9,   2070.2,2,   -999.0,9,   -999.0,9,  -999.00,9,  -999.0,-999.0000,-999.000,-999.000, 18.8933,-999.000,9
      06MT22_5,   A10,   629,  1,    317,2,19921231,0650,-28.0393, -46.1290, 2408,    200.0,  17.7650,  35.9860,2,-999.0000,9,    214.6,2,     0.41,2,     2.34,9,     0.22,2,    2.336,2,    1.296,2,    0.908,2, -999.000,9,-999.0000,9,  -999.00,9,   -999.0,9,-999.000,9,  -999.00,9,   2076.6,2,   -999.0,9,   -999.0,9,  -999.00,9,  -999.0,-999.0000,-999.000,-999.000, 17.7309,-999.000,9
      06MT22_5,   A10,   629,  1,    316,2,19921231,0650,-28.0393, -46.1290, 2408,    300.0,  14.8740,  35.4800,2,-999.0000,9,    210.2,2,     1.59,2,     6.77,9,     0.52,2,    2.357,2,    1.273,2,    0.645,2, -999.000,9,-999.0000,9,  -999.00,9,   -999.0,9,-999.000,9,  -999.00,9,   2092.0,2,   -999.0,9,   -999.0,9,  -999.00,9,  -999.0,-999.0000,-999.000,-999.000, 14.8286,-999.000,9
      06MT22_5,   A10,   629,  1,    315,2,19921231,0650,-28.0393, -46.1290, 2408,    400.0,  13.4190,  35.2850,2,  35.2780,2,    210.3,2,     2.46,2,    10.32,9,     0.71,2,    2.201,2,    1.244,2,    0.610,2, -999.000,9,-999.0000,9,  -999.00,9,   -999.0,9,-999.000,9,  -999.00,9,   2103.4,2,   -999.0,9,   -999.0,9,  -999.00,9,  -999.0,-999.0000,-999.000,-999.000, 13.3623,-999.000,9
      06MT22_5,   A10,   629,  1,    314,2,19921231,0650,-28.0393, -46.1290, 2408,    500.0,  11.1040,  34.9620,2,-999.0000,9,    208.2,2,     4.75,2,    15.88,9,     1.07,2,    1.903,2,    0.975,2,    0.795,2, -999.000,9,-999.0000,9,  -999.00,9,   -999.0,9,-999.000,9,  -999.00,9,   2120.9,2,   -999.0,9,   -999.0,9,  -999.00,9,  -999.0,-999.0000,-999.000,-999.000, 11.0416,-999.000,9
      06MT22_5,   A10,   629,  1,    313,2,19921231,0650,-28.0393, -46.1290, 2408,    599.0,   8.7630,  34.6700,2,-999.0000,9,    206.5,2,     8.40,2,    22.17,9,     1.45,2,    1.545,2,    0.802,2,    1.267,2, -999.000,9,-999.0000,9,  -999.00,9,   -999.0,9,-999.000,9,  -999.00,9,   2141.8,2,   -999.0,9,   -999.0,9,  -999.00,9,  -999.0,-999.0000,-999.000,-999.000,  8.6980,-999.000,9
      06MT22_5,   A10,   629,  1,    312,2,19921231,0650,-28.0393, -46.1290, 2408,    699.0,   7.0420,  34.4920,2,-999.0000,9,    212.8,2,    12.11,2,    26.02,9,     1.77,2,    1.397,2,    0.706,2,    1.728,2, -999.000,9,-999.0000,9,  -999.00,9,   -999.0,9,-999.000,9,  -999.00,9,   2152.1,2,   -999.0,9,   -999.0,9,  -999.00,9,  -999.0,-999.0000,-999.000,-999.000,  6.9747,-999.000,9
      06MT22_5,   A10,   629,  1,    311,2,19921231,0650,-28.0393, -46.1290, 2408,    849.0,   4.9770,  34.3320,2,-999.0000,9,    225.5,2,    19.05,2,    29.82,9,     2.02,2,    1.141,2,    0.575,2,    2.153,2, -999.000,9,-999.0000,9,  -999.00,9,   -999.0,9,-999.000,9,  -999.00,9,   2167.0,2,   -999.0,9,   -999.0,9,  -999.00,9,  -999.0,-999.0000,-999.000,-999.000,  4.9076,-999.000,9
      06MT22_5,   A10,   629,  1,    310,2,19921231,0650,-28.0393, -46.1290, 2408,   1000.0,   3.9390,  34.3360,2,  34.3360,2,    211.8,2,    30.42,2,    33.19,9,     2.23,2,    0.721,2,    0.353,2,    1.585,2, -999.000,9,-999.0000,9,  -999.00,9,   -999.0,9,-999.000,9,  -999.00,9,   2190.7,2,   -999.0,9,   -999.0,9,  -999.00,9,  -999.0,-999.0000,-999.000,-999.000,  3.8641,-999.000,9
      06MT22_5,   A10,   629,  1,    309,2,19921231,0650,-28.0393, -46.1290, 2408,   1199.0,   3.3120,  34.4320,2,-999.0000,9,    196.1,2,    43.84,2,    35.20,9,     2.35,2,    0.217,2,    0.121,2,    0.704,2, -999.000,9,-999.0000,9,  -999.00,9,   -999.0,9,-999.000,9,  -999.00,9,   2214.1,2,   -999.0,9,   -999.0,9,  -999.00,9,  -999.0,-999.0000,-999.000,-999.000,  3.2251,-999.000,9
      06MT22_5,   A10,   629,  1,    308,2,19921231,0650,-28.0393, -46.1290, 2408,   1400.0,   3.1080,  34.5690,2,-999.0000,9,    191.3,2,    49.57,2,    35.08,9,     2.30,2,    0.166,2,    0.058,2,    0.262,2, -999.000,9,-999.0000,9,  -999.00,9,   -999.0,9,-999.000,9,  -999.00,9,   2221.6,2,   -999.0,9,   -999.0,9,  -999.00,9,  -999.0,-999.0000,-999.000,-999.000,  3.0065,-999.000,9
      06MT22_5,   A10,   629,  1,    307,2,19921231,0650,-28.0393, -46.1290, 2408,   1600.0,   3.4400,  34.7420,2,-999.0000,9,    204.1,2,    40.32,2,    31.93,9,     2.02,2,    0.011,2,    0.007,2,    0.063,2, -999.000,9,-999.0000,9,  -999.00,9,   -999.0,9,-999.000,9,  -999.00,9,   2207.2,2,   -999.0,9,   -999.0,9,  -999.00,9,  -999.0,-999.0000,-999.000,-999.000,  3.3176,-999.000,9
      06MT22_5,   A10,   629,  1,    306,2,19921231,0650,-28.0393, -46.1290, 2408,   1800.0,   3.7510,  34.8890,2,  34.8860,2,    226.2,2,    27.23,2,    27.45,9,     1.70,2,    0.013,2,    0.004,2,    0.100,2, -999.000,9,-999.0000,9,  -999.00,9,   -999.0,9,-999.000,9,  -999.00,9,   2183.8,2,   -999.0,9,   -999.0,9,  -999.00,9,  -999.0,-999.0000,-999.000,-999.000,  3.6064,-999.000,9
      06MT22_5,   A10,   629,  1,    305,2,19921231,0650,-28.0393, -46.1290, 2408,   2001.0,   3.6950,  34.9480,2,-999.0000,9,    246.2,2,    21.35,2,    24.41,9,     1.49,2,    0.023,2,    0.021,2,    0.149,2, -999.000,9,-999.0000,9,  -999.00,9,   -999.0,9,-999.000,9,  -999.00,9,   2170.5,2,   -999.0,9,   -999.0,9,  -999.00,9,  -999.0,-999.0000,-999.000,-999.000,  3.5321,-999.000,9
      06MT22_5,   A10,   629,  1,    304,2,19921231,0650,-28.0393, -46.1290, 2408,   2251.0,   3.2210,  34.9450,2,-999.0000,9,    253.0,2,    25.04,2,    23.46,9,     1.42,2,    0.004,4,    0.004,4,    0.189,2, -999.000,9,-999.0000,9,  -999.00,9,   -999.0,9,-999.000,9,  -999.00,9,   2170.6,2,   -999.0,9,   -999.0,9,  -999.00,9,  -999.0,-999.0000,-999.000,-999.000,  3.0415,-999.000,9
      06MT22_5,   A10,   629,  1,    303,2,19921231,0650,-28.0393, -46.1290, 2408,   2326.0,   2.9570,  34.9320,2,-999.0000,9,    254.1,2,    28.81,2,    23.40,9,     1.44,2,    0.003,4,    0.000,4,    0.366,3, -999.000,9,-999.0000,9,  -999.00,9,   -999.0,9,-999.000,9,  -999.00,9,   2182.9,2,   -999.0,9,   -999.0,9,  -999.00,9,  -999.0,-999.0000,-999.000,-999.000,  2.7748,-999.000,9
      06MT22_5,   A10,   629,  1,    301,2,19921231,0650,-28.0393, -46.1290, 2408,   2426.0,   2.7010,  34.9160,2,-999.0000,9,    253.3,2,    33.88,2,    23.84,9,     1.50,2,    0.001,4,    0.016,2,    0.399,3, -999.000,9,-999.0000,9,  -999.00,9,   -999.0,9,-999.000,9,  -999.00,9,   2180.6,2,   -999.0,9,   -999.0,9,  -999.00,9,  -999.0,-999.0000,-999.000,-999.000,  2.5071,-999.000,9
      06MT22_5,   A10,   629,  1,    302,2,19921231,0650,-28.0393, -46.1290, 2408,   2427.0,   2.7000,  34.9170,2,  34.9170,2,    253.0,2,    33.75,2,    23.81,9,     1.49,2,    0.011,2,    0.002,4,    0.394,3, -999.000,9,-999.0000,9,  -999.00,9,   -999.0,9,-999.000,9,  -999.00,9,   2179.8,2,   -999.0,9,   -999.0,9,  -999.00,9,  -999.0,-999.0000,-999.000,-999.000,  2.5127,-999.000,9
      06MT22_5,   A10,   630,  1,    324,2,19921231,1140,-28.0885, -45.9388, 2596,     11.0,  24.1650,  36.4830,2,-999.0000,9,    215.4,2,     0.93,2,     0.32,9,     0.07,2, -999.000,9, -999.000,9, -999.000,9, -999.000,9,-999.0000,9,  -999.00,9,   -999.0,9,-999.000,9,  -999.00,9,   -999.0,9,   -999.0,9,   -999.0,9,  -999.00,9,  -999.0,-999.0000,-999.000,-999.000, 24.1627,-999.000,9
      06MT22_5,   A10,   630,  1,    323,2,19921231,1140,-28.0885, -45.9388, 2596,     11.0,  24.1650,  36.4830,2,  36.4940,2,    215.9,2,     0.37,2,     0.23,9,     0.09,2, -999.000,9, -999.000,9, -999.000,9, -999.000,9,-999.0000,9,  -999.00,9,   -999.0,9,-999.000,9,  -999.00,9,   -999.0,9,   -999.0,9,   -999.0,9,  -999.00,9,  -999.0,-999.0000,-999.000,-999.000, 24.1627,-999.000,9
      06MT22_5,   A10,   630,  1,    322,2,19921231,1140,-28.0885, -45.9388, 2596,     30.0,  24.0930,  36.7350,2,-999.0000,9,    218.3,2,     0.50,2,     0.13,9,     0.08,2, -999.000,9, -999.000,9, -999.000,9, -999.000,9,-999.0000,9,  -999.00,9,   -999.0,9,-999.000,9,  -999.00,9,   -999.0,9,   -999.0,9,   -999.0,9,  -999.00,9,  -999.0,-999.0000,-999.000,-999.000, 24.0866,-999.000,9
      06MT22_5,   A10,   630,  1,    321,2,19921231,1140,-28.0885, -45.9388, 2596,     50.0,  22.9550,  36.7780,2,-999.0000,9,    223.9,2,     0.16,2,     0.04,9,     0.04,2, -999.000,9, -999.000,9, -999.000,9, -999.000,9,-999.0000,9,  -999.00,9,   -999.0,9,-999.000,9,  -999.00,9,   -999.0,9,   -999.0,9,   -999.0,9,  -999.00,9,  -999.0,-999.0000,-999.000,-999.000, 22.9447,-999.000,9
      06MT22_5,   A10,   630,  1,    320,2,19921231,1140,-28.0885, -45.9388, 2596,     70.0,  21.3910,  36.5600,2,  36.5730,2,    223.3,2,     0.04,2,     0.00,9,     0.07,2, -999.000,9, -999.000,9, -999.000,9, -999.000,9,-999.0000,9,  -999.00,9,   -999.0,9,-999.000,9,  -999.00,9,   -999.0,9,   -999.0,9,   -999.0,9,  -999.00,9,  -999.0,-999.0000,-999.000,-999.000, 21.3773,-999.000,9
      06MT22_5,   A10,   630,  1,    319,2,19921231,1140,-28.0885, -45.9388, 2596,    100.0,  20.1070,  36.3290,2,-999.0000,9,    222.8,2,     0.00,2,     0.37,9,     0.08,2, -999.000,9, -999.000,9, -999.000,9, -999.000,9,-999.0000,9,  -999.00,9,   -999.0,9,-999.000,9,  -999.00,9,   -999.0,9,   -999.0,9,   -999.0,9,  -999.00,9,  -999.0,-999.0000,-999.000,-999.000, 20.0885,-999.000,9
      06MT22_5,   A10,   630,  1,    318,2,19921231,1140,-28.0885, -45.9388, 2596,    150.0,  18.8860,  36.1680,2,-999.0000,9,    209.0,2,     0.43,2,     2.09,9,     0.23,2, -999.000,9, -999.000,9, -999.000,9, -999.000,9,-999.0000,9,  -999.00,9,   -999.0,9,-999.000,9,  -999.00,9,   -999.0,9,   -999.0,9,   -999.0,9,  -999.00,9,  -999.0,-999.0000,-999.000,-999.000, 18.8594,-999.000,9
      06MT22_5,   A10,   630,  1,    317,2,19921231,1140,-28.0885, -45.9388, 2596,    200.0,  17.3700,  35.8860,2,-999.0000,9,    210.0,2,     0.62,2,     3.08,9,     0.29,2, -999.000,9, -999.000,9, -999.000,9, -999.000,9,-999.0000,9,  -999.00,9,   -999.0,9,-999.000,9,  -999.00,9,   -999.0,9,   -999.0,9,   -999.0,9,  -999.00,9,  -999.0,-999.0000,-999.000,-999.000, 17.3365,-999.000,9
      06MT22_5,   A10,   630,  1,    316,2,19921231,1140,-28.0885, -45.9388, 2596,    300.0,  14.8190,  35.4800,2,-999.0000,9,    215.8,2,     1.54,2,     6.96,9,     0.54,2, -999.000,9, -999.000,9, -999.000,9, -999.000,9,-999.0000,9,  -999.00,9,   -999.0,9,-999.000,9,  -999.00,9,   -999.0,9,   -999.0,9,   -999.0,9,  -999.00,9,  -999.0,-999.0000,-999.000,-999.000, 14.7738,-999.000,9
      06MT22_5,   A10,   630,  1,    315,2,19921231,1140,-28.0885, -45.9388, 2596,    399.0,  13.0280,  35.2200,2,-999.0000,9,    211.2,2,     2.80,2,    11.17,9,     0.78,2, -999.000,9, -999.000,9, -999.000,9, -999.000,9,-999.0000,9,  -999.00,9,   -999.0,9,-999.000,9,  -999.00,9,   -999.0,9,   -999.0,9,   -999.0,9,  -999.00,9,  -999.0,-999.0000,-999.000,-999.000, 12.9727,-999.000,9
      06MT22_5,   A10,   630,  1,    314,2,19921231,1140,-28.0885, -45.9388, 2596,    499.0,  10.9560,  34.9330,2,  34.9300,2,    208.2,2,     5.05,2,    16.20,9,     1.07,2, -999.000,9, -999.000,9, -999.000,9, -999.000,9,-999.0000,9,  -999.00,9,   -999.0,9,-999.000,9,  -999.00,9,   -999.0,9,   -999.0,9,   -999.0,9,  -999.00,9,  -999.0,-999.0000,-999.000,-999.000, 10.8938,-999.000,9
      06MT22_5,   A10,   630,  1,    313,2,19921231,1140,-28.0885, -45.9388, 2596,    600.0,   8.8580,  34.6830,2,-999.0000,9,    207.4,2,     8.33,2,    22.16,9,     1.44,2, -999.000,9, -999.000,9, -999.000,9, -999.000,9,-999.0000,9,  -999.00,9,   -999.0,9,-999.000,9,  -999.00,9,   -999.0,9,   -999.0,9,   -999.0,9,  -999.00,9,  -999.0,-999.0000,-999.000,-999.000,  8.7925,-999.000,9
      06MT22_5,   A10,   630,  1,    312,2,19921231,1140,-28.0885, -45.9388, 2596,    699.0,   6.7610,  34.4710,2,-999.0000,9,    215.1,2,    12.88,2,    26.46,9,     1.74,2, -999.000,9, -999.000,9, -999.000,9, -999.000,9,-999.0000,9,  -999.00,9,   -999.0,9,-999.000,9,  -999.00,9,   -999.0,9,   -999.0,9,   -999.0,9,  -999.00,9,  -999.0,-999.0000,-999.000,-999.000,  6.6951,-999.000,9
      06MT22_5,   A10,   630,  1,    311,2,19921231,1140,-28.0885, -45.9388, 2596,    849.0,   4.7970,  34.3250,2,  34.3240,2,    225.5,2,    20.20,2,    30.19,9,     2.01,2, -999.000,9, -999.000,9, -999.000,9, -999.000,9,-999.0000,9,  -999.00,9,   -999.0,9,-999.000,9,  -999.00,9,   -999.0,9,   -999.0,9,   -999.0,9,  -999.00,9,  -999.0,-999.0000,-999.000,-999.000,  4.7288,-999.000,9
      06MT22_5,   A10,   630,  1,    310,2,19921231,1140,-28.0885, -45.9388, 2596,    999.0,   3.9370,  34.3380,2,-999.0000,9,    211.8,2,    30.70,2,    33.34,9,     2.19,2, -999.000,9, -999.000,9, -999.000,9, -999.000,9,-999.0000,9,  -999.00,9,   -999.0,9,-999.000,9,  -999.00,9,   -999.0,9,   -999.0,9,   -999.0,9,  -999.00,9,  -999.0,-999.0000,-999.000,-999.000,  3.8618,-999.000,9
      06MT22_5,   A10,   630,  1,    309,2,19921231,1140,-28.0885, -45.9388, 2596,   1200.0,   3.2880,  34.4350,2,-999.0000,9,    196.5,2,    44.08,2,    35.20,9,     2.32,2, -999.000,9, -999.000,9, -999.000,9, -999.000,9,-999.0000,9,  -999.00,9,   -999.0,9,-999.000,9,  -999.00,9,   -999.0,9,   -999.0,9,   -999.0,9,  -999.00,9,  -999.0,-999.0000,-999.000,-999.000,  3.2018,-999.000,9
      06MT22_5,   A10,   630,  1,    308,2,19921231,1140,-28.0885, -45.9388, 2596,   1398.0,   3.1110,  34.5670,2,  34.5700,2,    192.2,2,    49.27,2,    34.97,9,     2.25,2, -999.000,9, -999.000,9, -999.000,9, -999.000,9,-999.0000,9,  -999.00,9,   -999.0,9,-999.000,9,  -999.00,9,   -999.0,9,   -999.0,9,   -999.0,9,  -999.00,9,  -999.0,-999.0000,-999.000,-999.000,  3.0104,-999.000,9
      06MT22_5,   A10,   630,  1,    307,2,19921231,1140,-28.0885, -45.9388, 2596,   1600.0,   3.6900,  34.7960,2,-999.0000,9,    208.6,2,    33.45,2,    30.37,9,     1.85,2, -999.000,9, -999.000,9, -999.000,9, -999.000,9,-999.0000,9,  -999.00,9,   -999.0,9,-999.000,9,  -999.00,9,   -999.0,9,   -999.0,9,   -999.0,9,  -999.00,9,  -999.0,-999.0000,-999.000,-999.000,  3.5644,-999.000,9
      06MT22_5,   A10,   630,  1,    306,2,19921231,1140,-28.0885, -45.9388, 2596,   1800.0,   3.8000,  34.8920,2,-999.0000,9,    226.7,2,    25.96,2,    27.08,9,     1.65,2, -999.000,9, -999.000,9, -999.000,9, -999.000,9,-999.0000,9,  -999.00,9,   -999.0,9,-999.000,9,  -999.00,9,   -999.0,9,   -999.0,9,   -999.0,9,  -999.00,9,  -999.0,-999.0000,-999.000,-999.000,  3.6546,-999.000,9
      06MT22_5,   A10,   630,  1,    305,2,19921231,1140,-28.0885, -45.9388, 2596,   2000.0,   3.7540,  34.9420,2,  34.9420,2,    242.6,2,    21.55,2,    24.66,9,     1.47,2, -999.000,9, -999.000,9, -999.000,9, -999.000,9,-999.0000,9,  -999.00,9,   -999.0,9,-999.000,9,  -999.00,9,   -999.0,9,   -999.0,9,   -999.0,9,  -999.00,9,  -999.0,-999.0000,-999.000,-999.000,  3.5902,-999.000,9
      06MT22_5,   A10,   630,  1,    304,2,19921231,1140,-28.0885, -45.9388, 2596,   2255.0,   3.4040,  34.9510,2,-999.0000,9,    252.1,2,    22.75,2,    23.38,9,     1.43,2, -999.000,9, -999.000,9, -999.000,9, -999.000,9,-999.0000,9,  -999.00,9,   -999.0,9,-999.000,9,  -999.00,9,   -999.0,9,   -999.0,9,   -999.0,9,  -999.00,9,  -999.0,-999.0000,-999.000,-999.000,  3.2212,-999.000,9
      06MT22_5,   A10,   630,  1,    303,2,19921231,1140,-28.0885, -45.9388, 2596,   2502.0,   2.8020,  34.9230,2,-999.0000,9,    254.1,2,    31.37,2,    23.63,9,     1.44,2, -999.000,9, -999.000,9, -999.000,9, -999.000,9,-999.0000,9,  -999.00,9,   -999.0,9,-999.000,9,  -999.00,9,   -999.0,9,   -999.0,9,   -999.0,9,  -999.00,9,  -999.0,-999.0000,-999.000,-999.000,  2.6057,-999.000,9
      06MT22_5,   A10,   630,  1,    301,2,19921231,1140,-28.0885, -45.9388, 2596,   2610.0,   2.3540,  34.8880,2,-999.0000,9,    251.5,2,    42.57,2,    25.10,9,     1.55,2, -999.000,9, -999.000,9, -999.000,9, -999.000,9,-999.0000,9,  -999.00,9,   -999.0,9,-999.000,9,  -999.00,9,   -999.0,9,   -999.0,9,   -999.0,9,  -999.00,9,  -999.0,-999.0000,-999.000,-999.000,  2.1487,-999.000,9
      06MT22_5,   A10,   630,  1,    302,2,19921231,1140,-28.0885, -45.9388, 2596,   2612.0,   2.3460,  34.8880,2,  34.8880,2,    250.7,2,    43.12,2,    25.00,9,     1.54,2, -999.000,9, -999.000,9, -999.000,9, -999.000,9,-999.0000,9,  -999.00,9,   -999.0,9,-999.000,9,  -999.00,9,   -999.0,9,   -999.0,9,   -999.0,9,  -999.00,9,  -999.0,-999.0000,-999.000,-999.000,  2.1477,-999.000,9