BOTTLE,20030417WHPSIOSA
EXPOCODE,SECT_ID,STNNBR,CASTNO,BTLNBR,BTLNBR_FLAG_W,DATE,TIME,LATITUDE,LONGITUDE,DEPTH,CTDPRS,CTDTMP,CTDSAL,CTDSAL_FLAG_W,SALNTY,SALNTY_FLAG_W,OXYGEN,OXYGEN_FLAG_W,SILCAT,SILCAT_FLAG_W,NO2+NO3,NO2+NO3_FLAG_W,PHSPHT,PHSPHT_FLAG_W,CFC-11,CFC-11_FLAG_W,CFC-12,CFC-12_FLAG_W,CCL4,CCL4_FLAG_W,TRITUM,TRITUM_FLAG_W,HELIUM,HELIUM_FLAG_W,DELHE3,DELHE3_FLAG_W,DELC14,DELC14_FLAG_W,NEON,NEON_FLAG_W,O18O16,O18O16_FLAG_W,TCARBN,TCARBN_FLAG_W,PCO2,PCO2_FLAG_W,ALKALI,ALKALI_FLAG_W,PH,PH_FLAG_W,C14ERR,HELIER,DELHER,NEONER,THETA,TRITER,TRITER_FLAG_W
,,,,,,,,,,,DBAR,ITS-90,PSS-78,,PSS-78,,UMOL/KG,,UMOL/KG,,UMOL/KG,,UMOL/KG,,PMOL/KG,,PMOL/KG,,PMOL/KG,,TU,,NMOL/KG,,PERCNT,,/MILLE,,NMOL/KG,,MILLE,,UMOL/KG,,UATM,,UMOL/KG,,,,/MILLE,NMOL/KG,PERCNT,NMOL/KG,ITS-90,TU,
      06MT22_5,   A10,    35,  1,    324,2,19930109,0445,-29.9883, -29.0333, 3184,     10.0,  22.8310,  35.8500,2,  35.8590,2,    220.9,2,     0.00,2,     0.03,9,     0.09,2, -999.000,9, -999.000,9, -999.000,9, -999.000,9,-999.0000,9,  -999.00,9,   -999.0,9,-999.000,9,  -999.00,9,   -999.0,0,   -999.0,9,   -999.0,9,  -999.00,9,  -999.0,-999.0000,-999.000,-999.000, 22.8290,-999.000,9
      06MT22_5,   A10,    35,  1,    323,2,19930109,0445,-29.9883, -29.0333, 3184,     30.0,  21.7200,  35.7770,2,  35.7860,2,    224.7,2,     0.00,2,     0.02,9,     0.11,2, -999.000,9, -999.000,9, -999.000,9, -999.000,9,-999.0000,9,  -999.00,9,   -999.0,9,-999.000,9,  -999.00,9,   -999.0,0,   -999.0,9,   -999.0,9,  -999.00,9,  -999.0,-999.0000,-999.000,-999.000, 21.7141,-999.000,9
      06MT22_5,   A10,    35,  1,    322,2,19930109,0445,-29.9883, -29.0333, 3184,     50.0,  19.9420,  35.9520,2,-999.0000,9,    241.2,2,     0.00,2,     0.03,9,     0.09,2, -999.000,9, -999.000,9, -999.000,9, -999.000,9,-999.0000,9,  -999.00,9,   -999.0,9,-999.000,9,  -999.00,9,   -999.0,0,   -999.0,9,   -999.0,9,  -999.00,9,  -999.0,-999.0000,-999.000,-999.000, 19.9327,-999.000,9
      06MT22_5,   A10,    35,  1,    321,2,19930109,0445,-29.9883, -29.0333, 3184,     70.0,  18.9350,  35.9190,2,-999.0000,9,    240.8,2,     0.19,2,     0.02,9,     0.12,2, -999.000,9, -999.000,9, -999.000,9, -999.000,9,-999.0000,9,  -999.00,9,   -999.0,9,-999.000,9,  -999.00,9,   -999.0,0,   -999.0,9,   -999.0,9,  -999.00,9,  -999.0,-999.0000,-999.000,-999.000, 18.9225,-999.000,9
      06MT22_5,   A10,    35,  1,    320,2,19930109,0445,-29.9883, -29.0333, 3184,    101.0,  18.1540,  35.8990,2,  35.8990,2,    235.4,2,     0.46,2,     0.06,9,     0.15,2, -999.000,9, -999.000,9, -999.000,9, -999.000,9,-999.0000,9,  -999.00,9,   -999.0,9,-999.000,9,  -999.00,9,   -999.0,0,   -999.0,9,   -999.0,9,  -999.00,9,  -999.0,-999.0000,-999.000,-999.000, 18.1365,-999.000,9
      06MT22_5,   A10,    35,  1,    319,2,19930109,0445,-29.9883, -29.0333, 3184,    151.0,  16.7500,  35.7010,2,-999.0000,9,    218.2,2,     0.88,2,     2.00,9,     0.32,2, -999.000,9, -999.000,9, -999.000,9, -999.000,9,-999.0000,9,  -999.00,9,   -999.0,9,-999.000,9,  -999.00,9,   -999.0,0,   -999.0,9,   -999.0,9,  -999.00,9,  -999.0,-999.0000,-999.000,-999.000, 16.7253,-999.000,9
      06MT22_5,   A10,    35,  1,    318,2,19930109,0445,-29.9883, -29.0333, 3184,    199.0,  15.3450,  35.4980,2,-999.0000,9,    210.7,2,     1.71,2,     4.90,9,     0.47,2, -999.000,9, -999.000,9, -999.000,9, -999.000,9,-999.0000,9,  -999.00,9,   -999.0,9,-999.000,9,  -999.00,9,   -999.0,0,   -999.0,9,   -999.0,9,  -999.00,9,  -999.0,-999.0000,-999.000,-999.000, 15.3143,-999.000,9
      06MT22_5,   A10,    35,  1,    317,2,19930109,0445,-29.9883, -29.0333, 3184,    300.0,  13.8300,  35.3280,2,  35.3330,2,    213.2,2,     2.59,2,     8.04,9,     0.62,2, -999.000,9, -999.000,9, -999.000,9, -999.000,9,-999.0000,9,  -999.00,9,   -999.0,9,-999.000,9,  -999.00,9,   -999.0,0,   -999.0,9,   -999.0,9,  -999.00,9,  -999.0,-999.0000,-999.000,-999.000, 13.7867,-999.000,9
      06MT22_5,   A10,    35,  1,    316,2,19930109,0445,-29.9883, -29.0333, 3184,    399.0,  12.2530,  35.1250,2,-999.0000,9,    212.8,2,     3.50,2,    11.60,9,     0.87,2, -999.000,9, -999.000,9, -999.000,9, -999.000,9,-999.0000,9,  -999.00,9,   -999.0,9,-999.000,9,  -999.00,9,   -999.0,0,   -999.0,9,   -999.0,9,  -999.00,9,  -999.0,-999.0000,-999.000,-999.000, 12.2000,-999.000,9
      06MT22_5,   A10,    35,  1,    315,2,19930109,0445,-29.9883, -29.0333, 3184,    499.0,  10.0910,  34.8260,2,-999.0000,9,    210.3,2,     6.28,2,    17.31,9,     1.24,2, -999.000,9, -999.000,9, -999.000,9, -999.000,9,-999.0000,9,  -999.00,9,   -999.0,9,-999.000,9,  -999.00,9,   -999.0,0,   -999.0,9,   -999.0,9,  -999.00,9,  -999.0,-999.0000,-999.000,-999.000, 10.0322,-999.000,9
      06MT22_5,   A10,    35,  1,    314,2,19930109,0445,-29.9883, -29.0333, 3184,    599.0,   8.1960,  34.6070,2,  34.6080,2,    208.8,2,     9.79,2,    22.28,9,     1.50,2, -999.000,9, -999.000,9, -999.000,9, -999.000,9,-999.0000,9,  -999.00,9,   -999.0,9,-999.000,9,  -999.00,9,   -999.0,0,   -999.0,9,   -999.0,9,  -999.00,9,  -999.0,-999.0000,-999.000,-999.000,  8.1333,-999.000,9
      06MT22_5,   A10,    35,  1,    313,2,19930109,0445,-29.9883, -29.0333, 3184,    699.0,   6.1870,  34.4130,2,-999.0000,9,    219.1,2,    14.45,2,    26.36,9,     1.82,2, -999.000,9, -999.000,9, -999.000,9, -999.000,9,-999.0000,9,  -999.00,9,   -999.0,9,-999.000,9,  -999.00,9,   -999.0,0,   -999.0,9,   -999.0,9,  -999.00,9,  -999.0,-999.0000,-999.000,-999.000,  6.1242,-999.000,9
      06MT22_5,   A10,    35,  1,    312,2,19930109,0445,-29.9883, -29.0333, 3184,    849.0,   4.3540,  34.2880,2,  34.2920,2,    231.7,2,    21.97,2,    29.63,9,     2.02,2, -999.000,9, -999.000,9, -999.000,9, -999.000,9,-999.0000,9,  -999.00,9,   -999.0,9,-999.000,9,  -999.00,9,   -999.0,0,   -999.0,9,   -999.0,9,  -999.00,9,  -999.0,-999.0000,-999.000,-999.000,  4.2887,-999.000,9
      06MT22_5,   A10,    35,  1,    311,2,19930109,0445,-29.9883, -29.0333, 3184,   1000.0,   3.5980,  34.3000,2,-999.0000,9,    223.2,2,    31.05,2,    31.53,9,     2.16,2, -999.000,9, -999.000,9, -999.000,9, -999.000,9,-999.0000,9,  -999.00,9,   -999.0,9,-999.000,9,  -999.00,9,   -999.0,0,   -999.0,9,   -999.0,9,  -999.00,9,  -999.0,-999.0000,-999.000,-999.000,  3.5254,-999.000,9
      06MT22_5,   A10,    35,  1,    310,2,19930109,0445,-29.9883, -29.0333, 3184,   1199.0,   3.0520,  34.4190,2,-999.0000,9,    199.0,2,    47.12,2,    33.56,9,     2.37,2, -999.000,9, -999.000,9, -999.000,9, -999.000,9,-999.0000,9,  -999.00,9,   -999.0,9,-999.000,9,  -999.00,9,   -999.0,0,   -999.0,9,   -999.0,9,  -999.00,9,  -999.0,-999.0000,-999.000,-999.000,  2.9681,-999.000,9
      06MT22_5,   A10,    35,  1,    309,2,19930109,0445,-29.9883, -29.0333, 3184,   1397.0,   2.8350,  34.5540,2,  34.5570,2,    189.9,2,    55.98,2,    33.03,9,     2.28,2, -999.000,9, -999.000,9, -999.000,9, -999.000,9,-999.0000,9,  -999.00,9,   -999.0,9,-999.000,9,  -999.00,9,   -999.0,0,   -999.0,9,   -999.0,9,  -999.00,9,  -999.0,-999.0000,-999.000,-999.000,  2.7375,-999.000,9
      06MT22_5,   A10,    35,  1,    308,2,19930109,0445,-29.9883, -29.0333, 3184,   1599.0,   2.8090,  34.6600,2,-999.0000,9,    195.0,2,    56.12,2,    31.55,9,     2.16,2, -999.000,9, -999.000,9, -999.000,9, -999.000,9,-999.0000,9,  -999.00,9,   -999.0,9,-999.000,9,  -999.00,9,   -999.0,0,   -999.0,9,   -999.0,9,  -999.00,9,  -999.0,-999.0000,-999.000,-999.000,  2.6947,-999.000,9
      06MT22_5,   A10,    35,  1,    307,2,19930109,0445,-29.9883, -29.0333, 3184,   1800.0,   2.7650,  34.7540,2,  34.7540,2,    210.0,2,    52.45,2,    28.91,9,     1.94,2, -999.000,9, -999.000,9, -999.000,9, -999.000,9,-999.0000,9,  -999.00,9,   -999.0,9,-999.000,9,  -999.00,9,   -999.0,0,   -999.0,9,   -999.0,9,  -999.00,9,  -999.0,-999.0000,-999.000,-999.000,  2.6342,-999.000,9
      06MT22_5,   A10,    35,  1,    306,2,19930109,0445,-29.9883, -29.0333, 3184,   2000.0,   2.7230,  34.8090,2,-999.0000,9,    221.4,2,    48.14,2,    26.76,9,     1.83,2, -999.000,9, -999.000,9, -999.000,9, -999.000,9,-999.0000,9,  -999.00,9,   -999.0,9,-999.000,9,  -999.00,9,   -999.0,0,   -999.0,9,   -999.0,9,  -999.00,9,  -999.0,-999.0000,-999.000,-999.000,  2.5747,-999.000,9
      06MT22_5,   A10,    35,  1,    305,2,19930109,0445,-29.9883, -29.0333, 3184,   2250.0,   2.7430,  34.8590,2,-999.0000,9,    236.5,2,    42.17,2,    24.64,9,     1.68,2, -999.000,9, -999.000,9, -999.000,9, -999.000,9,-999.0000,9,  -999.00,9,   -999.0,9,-999.000,9,  -999.00,9,   -999.0,0,   -999.0,9,   -999.0,9,  -999.00,9,  -999.0,-999.0000,-999.000,-999.000,  2.5717,-999.000,9
      06MT22_5,   A10,    35,  1,    304,2,19930109,0445,-29.9883, -29.0333, 3184,   2551.0,   2.7690,  34.8940,2,  34.8950,2,    243.9,2,    37.09,2,    23.01,9,     1.54,2, -999.000,9, -999.000,9, -999.000,9, -999.000,9,-999.0000,9,  -999.00,9,   -999.0,9,-999.000,9,  -999.00,9,   -999.0,0,   -999.0,9,   -999.0,9,  -999.00,9,  -999.0,-999.0000,-999.000,-999.000,  2.5685,-999.000,9
      06MT22_5,   A10,    35,  1,    303,2,19930109,0445,-29.9883, -29.0333, 3184,   2752.0,   2.7570,  34.9070,2,-999.0000,9,    246.0,2,    35.04,2,    22.16,9,     1.46,2, -999.000,9, -999.000,9, -999.000,9, -999.000,9,-999.0000,9,  -999.00,9,   -999.0,9,-999.000,9,  -999.00,9,   -999.0,0,   -999.0,9,   -999.0,9,  -999.00,9,  -999.0,-999.0000,-999.000,-999.000,  2.5369,-999.000,9
      06MT22_5,   A10,    35,  1,    302,2,19930109,0445,-29.9883, -29.0333, 3184,   3053.0,   2.6180,  34.9040,2,-999.0000,9,    250.6,2,    37.82,2,    22.28,9,     1.49,2, -999.000,9, -999.000,9, -999.000,9, -999.000,9,-999.0000,9,  -999.00,9,   -999.0,9,-999.000,9,  -999.00,9,   -999.0,0,   -999.0,9,   -999.0,9,  -999.00,9,  -999.0,-999.0000,-999.000,-999.000,  2.3702,-999.000,9
      06MT22_5,   A10,    35,  1,    301,2,19930109,0445,-29.9883, -29.0333, 3184,   3208.0,   2.5420,  34.9000,2,  34.9020,2,    250.1,2,    39.77,2,    22.27,9,     1.47,2, -999.000,9, -999.000,9, -999.000,9, -999.000,9,-999.0000,9,  -999.00,9,   -999.0,9,-999.000,9,  -999.00,9,   -999.0,0,   -999.0,9,   -999.0,9,  -999.00,9,  -999.0,-999.0000,-999.000,-999.000,  2.2798,-999.000,9
      06MT22_5,   A10,    36,  1,    217,2,19930109,1025,-29.9977, -28.4203, 3761,     12.0,  22.0180,  35.8060,2,  35.8190,2,    222.9,2,     0.00,2,     0.02,9,     0.05,2, -999.000,9, -999.000,9, -999.000,9, -999.000,9,-999.0000,9,  -999.00,9,   -999.0,9,-999.000,9,  -999.00,9,   -999.0,9,   -999.0,9,   -999.0,9,  -999.00,9,  -999.0,-999.0000,-999.000,-999.000, 22.0156,-999.000,9
      06MT22_5,   A10,    36,  1,    210,2,19930109,1025,-29.9977, -28.4203, 3761,     12.0,  22.0180,  35.8060,2,-999.0000,9,   -999.0,9,  -999.00,9,  -999.00,9,  -999.00,9, -999.000,9, -999.000,9, -999.000,9, -999.000,9,-999.0000,9,  -999.00,9,   -999.0,9,-999.000,9,  -999.00,9,   -999.0,9,   -999.0,9,   2347.7,2,  -999.00,9,  -999.0,-999.0000,-999.000,-999.000, 22.0156,-999.000,9
      06MT22_5,   A10,    36,  1,    209,2,19930109,1025,-29.9977, -28.4203, 3761,     32.0,  21.5480,  35.8130,2,-999.0000,9,    229.4,2,     0.11,2,     0.01,9,     0.03,2,    2.236,2,    1.210,2,    2.440,2, -999.000,9,-999.0000,9,  -999.00,9,   -999.0,9,-999.000,9,  -999.00,9,   2043.3,2,   -999.0,9,   2345.7,2,  -999.00,9,  -999.0,-999.0000,-999.000,-999.000, 21.5418,-999.000,9
      06MT22_5,   A10,    36,  1,    208,2,19930109,1025,-29.9977, -28.4203, 3761,     52.0,  19.5320,  35.8140,2,-999.0000,9,    241.7,2,     0.20,2,     0.04,9,     0.06,2, -999.000,9, -999.000,9, -999.000,9, -999.000,9,-999.0000,9,  -999.00,9,   -999.0,9,-999.000,9,  -999.00,9,   2045.4,2,   -999.0,9,   2349.6,2,  -999.00,9,  -999.0,-999.0000,-999.000,-999.000, 19.5226,-999.000,9
      06MT22_5,   A10,    36,  1,    207,2,19930109,1025,-29.9977, -28.4203, 3761,     72.0,  18.4280,  35.7790,2,-999.0000,9,    242.8,2,     0.26,2,     0.03,9,     0.08,2,    2.425,2,    1.324,2,    2.481,2, -999.000,9,-999.0000,9,  -999.00,9,   -999.0,9,-999.000,9,  -999.00,9,   2047.1,2,   -999.0,9,   2348.6,2,  -999.00,9,  -999.0,-999.0000,-999.000,-999.000, 18.4155,-999.000,9
      06MT22_5,   A10,    36,  1,    206,2,19930109,1025,-29.9977, -28.4203, 3761,    102.0,  17.5820,  35.7140,2,-999.0000,9,    238.7,2,     0.27,2,     0.04,9,     0.06,2, -999.000,9, -999.000,9, -999.000,9, -999.000,9,-999.0000,9,  -999.00,9,   -999.0,9,-999.000,9,  -999.00,9,   2054.0,2,   -999.0,9,   2345.7,2,  -999.00,9,  -999.0,-999.0000,-999.000,-999.000, 17.5648,-999.000,9
      06MT22_5,   A10,    36,  1,    205,2,19930109,1025,-29.9977, -28.4203, 3761,    151.0,  16.5380,  35.6600,2,-999.0000,9,    224.1,2,     0.33,2,     0.00,9,     0.07,2,    2.437,2,    1.327,2,    1.012,2, -999.000,9,-999.0000,9,  -999.00,9,   -999.0,9,-999.000,9,  -999.00,9,   2071.8,2,   -999.0,9,   2341.7,2,  -999.00,9,  -999.0,-999.0000,-999.000,-999.000, 16.5136,-999.000,9
      06MT22_5,   A10,    36,  1,    204,2,19930109,1025,-29.9977, -28.4203, 3761,    201.0,  15.4340,  35.5060,2,-999.0000,9,    214.5,2,     0.75,2,     1.77,9,     0.21,2, -999.000,9, -999.000,9, -999.000,9, -999.000,9,-999.0000,9,  -999.00,9,   -999.0,9,-999.000,9,  -999.00,9,   2084.6,2,   -999.0,9,   2324.0,2,  -999.00,9,  -999.0,-999.0000,-999.000,-999.000, 15.4030,-999.000,9
      06MT22_5,   A10,    36,  1,    203,2,19930109,1025,-29.9977, -28.4203, 3761,    299.0,  13.5370,  35.2870,2,-999.0000,9,    212.4,2,     1.50,2,     4.58,9,     0.37,2,    2.310,2,    1.222,2,    0.684,2, -999.000,9,-999.0000,9,  -999.00,9,   -999.0,9,-999.000,9,  -999.00,9,   2098.9,2,   -999.0,9,   2320.0,2,  -999.00,9,  -999.0,-999.0000,-999.000,-999.000, 13.4947,-999.000,9
      06MT22_5,   A10,    36,  1,    202,2,19930109,1025,-29.9977, -28.4203, 3761,    402.0,  11.9060,  35.0580,2,-999.0000,9,    210.9,2,     2.52,2,     8.49,9,     0.61,2, -999.000,9, -999.000,9, -999.000,9, -999.000,9,-999.0000,9,  -999.00,9,   -999.0,9,-999.000,9,  -999.00,9,   2111.6,2,   -999.0,9,   2309.1,2,  -999.00,9,  -999.0,-999.0000,-999.000,-999.000, 11.8535,-999.000,9
      06MT22_5,   A10,    36,  1,    201,2,19930109,1025,-29.9977, -28.4203, 3761,    505.0,   9.8940,  34.7900,2,  34.8110,2,    207.5,2,     3.86,2,    12.44,9,     0.85,2, -999.000,9, -999.000,9, -999.000,9, -999.000,9,-999.0000,9,  -999.00,9,   -999.0,9,-999.000,9,  -999.00,9,   2129.2,2,   -999.0,9,   2294.3,2,  -999.00,9,  -999.0,-999.0000,-999.000,-999.000,  9.8350,-999.000,9