BOTTLE,20030417WHPSIOSA
EXPOCODE,SECT_ID,STNNBR,CASTNO,BTLNBR,BTLNBR_FLAG_W,DATE,TIME,LATITUDE,LONGITUDE,DEPTH,CTDPRS,CTDTMP,CTDSAL,CTDSAL_FLAG_W,SALNTY,SALNTY_FLAG_W,OXYGEN,OXYGEN_FLAG_W,SILCAT,SILCAT_FLAG_W,NO2+NO3,NO2+NO3_FLAG_W,PHSPHT,PHSPHT_FLAG_W,CFC-11,CFC-11_FLAG_W,CFC-12,CFC-12_FLAG_W,CCL4,CCL4_FLAG_W,TRITUM,TRITUM_FLAG_W,HELIUM,HELIUM_FLAG_W,DELHE3,DELHE3_FLAG_W,DELC14,DELC14_FLAG_W,NEON,NEON_FLAG_W,O18O16,O18O16_FLAG_W,TCARBN,TCARBN_FLAG_W,PCO2,PCO2_FLAG_W,ALKALI,ALKALI_FLAG_W,PH,PH_FLAG_W,C14ERR,HELIER,DELHER,NEONER,THETA,TRITER,TRITER_FLAG_W
,,,,,,,,,,,DBAR,ITS-90,PSS-78,,PSS-78,,UMOL/KG,,UMOL/KG,,UMOL/KG,,UMOL/KG,,PMOL/KG,,PMOL/KG,,PMOL/KG,,TU,,NMOL/KG,,PERCNT,,/MILLE,,NMOL/KG,,MILLE,,UMOL/KG,,UATM,,UMOL/KG,,,,/MILLE,NMOL/KG,PERCNT,NMOL/KG,ITS-90,TU,
      06MT22_5,   A10,    90,  2,    217,2,19930126,1419,-29.7517,  11.8303, 4002,     12.0,  21.3890,  35.5020,2,  35.4990,2,    225.8,2,     1.39,2,     0.01,9,     0.14,2, -999.000,9, -999.000,9, -999.000,9, -999.000,9,-999.0000,9,  -999.00,9,   -999.0,9,-999.000,9,  -999.00,9,   -999.0,0,   -999.0,9,   -999.0,9,  -999.00,9,  -999.0,-999.0000,-999.000,-999.000, 21.3867,-999.000,9
      06MT22_5,   A10,    90,  2,    210,2,19930126,1419,-29.7517,  11.8303, 4002,     12.0,  21.3860,  35.5030,2,-999.0000,9,   -999.0,9,  -999.00,9,  -999.00,9,  -999.00,9, -999.000,9, -999.000,9, -999.000,9, -999.000,9,-999.0000,9,  -999.00,9,   -999.0,9,-999.000,9,  -999.00,9,   -999.0,0,   -999.0,9,   -999.0,9,  -999.00,9,  -999.0,-999.0000,-999.000,-999.000, 21.3837,-999.000,9
      06MT22_5,   A10,    90,  2,    209,2,19930126,1419,-29.7517,  11.8303, 4002,     32.0,  20.8190,  35.5260,2,-999.0000,9,    224.9,2,     1.13,2,     0.07,9,     0.16,2, -999.000,9, -999.000,9, -999.000,9, -999.000,9,-999.0000,9,  -999.00,9,   -999.0,9,-999.000,9,  -999.00,9,   -999.0,0,   -999.0,9,   -999.0,9,  -999.00,9,  -999.0,-999.0000,-999.000,-999.000, 20.8129,-999.000,9
      06MT22_5,   A10,    90,  2,    208,2,19930126,1419,-29.7517,  11.8303, 4002,     51.0,  19.2350,  35.4960,2,  35.4910,2,    242.5,2,     1.13,2,     0.02,9,     0.13,2, -999.000,9, -999.000,9, -999.000,9, -999.000,9,-999.0000,9,  -999.00,9,   -999.0,9,-999.000,9,  -999.00,9,   -999.0,0,   -999.0,9,   -999.0,9,  -999.00,9,  -999.0,-999.0000,-999.000,-999.000, 19.2258,-999.000,9
      06MT22_5,   A10,    90,  2,    207,2,19930126,1419,-29.7517,  11.8303, 4002,     70.0,  17.4840,  35.5090,2,-999.0000,9,    248.2,2,     0.99,2,     0.03,9,     0.17,2, -999.000,9, -999.000,9, -999.000,9, -999.000,9,-999.0000,9,  -999.00,9,   -999.0,9,-999.000,9,  -999.00,9,   -999.0,0,   -999.0,9,   -999.0,9,  -999.00,9,  -999.0,-999.0000,-999.000,-999.000, 17.4722,-999.000,9
      06MT22_5,   A10,    90,  2,    206,2,19930126,1419,-29.7517,  11.8303, 4002,    102.0,  15.3470,  35.4160,2,-999.0000,9,    235.0,2,     2.30,2,     3.54,9,     0.34,2, -999.000,9, -999.000,9, -999.000,9, -999.000,9,-999.0000,9,  -999.00,9,   -999.0,9,-999.000,9,  -999.00,9,   -999.0,0,   -999.0,9,   -999.0,9,  -999.00,9,  -999.0,-999.0000,-999.000,-999.000, 15.3313,-999.000,9
      06MT22_5,   A10,    90,  2,    205,2,19930126,1419,-29.7517,  11.8303, 4002,    151.0,  13.6460,  35.1970,2,  35.1950,2,    231.4,2,     2.48,2,     6.23,9,     0.51,2, -999.000,9, -999.000,9, -999.000,9, -999.000,9,-999.0000,9,  -999.00,9,   -999.0,9,-999.000,9,  -999.00,9,   -999.0,0,   -999.0,9,   -999.0,9,  -999.00,9,  -999.0,-999.0000,-999.000,-999.000, 13.6245,-999.000,9
      06MT22_5,   A10,    90,  2,    204,2,19930126,1419,-29.7517,  11.8303, 4002,    202.0,  12.7880,  35.0840,2,-999.0000,9,    229.2,2,     2.87,2,     8.45,9,     0.63,2, -999.000,9, -999.000,9, -999.000,9, -999.000,9,-999.0000,9,  -999.00,9,   -999.0,9,-999.000,9,  -999.00,9,   -999.0,0,   -999.0,9,   -999.0,9,  -999.00,9,  -999.0,-999.0000,-999.000,-999.000, 12.7606,-999.000,9
      06MT22_5,   A10,    90,  2,    203,2,19930126,1419,-29.7517,  11.8303, 4002,    301.0,  11.0500,  34.9020,2,-999.0000,9,    214.8,2,     6.83,2,    14.28,9,     1.00,2, -999.000,9, -999.000,9, -999.000,9, -999.000,9,-999.0000,9,  -999.00,9,   -999.0,9,-999.000,9,  -999.00,9,   -999.0,0,   -999.0,9,   -999.0,9,  -999.00,9,  -999.0,-999.0000,-999.000,-999.000, 11.0127,-999.000,9
      06MT22_5,   A10,    90,  2,    202,2,19930126,1419,-29.7517,  11.8303, 4002,    401.0,   9.2760,  34.7130,2,  34.7080,2,    203.1,2,     9.18,2,    19.84,9,     1.35,2, -999.000,9, -999.000,9, -999.000,9, -999.000,9,-999.0000,9,  -999.00,9,   -999.0,9,-999.000,9,  -999.00,9,   -999.0,0,   -999.0,9,   -999.0,9,  -999.00,9,  -999.0,-999.0000,-999.000,-999.000,  9.2313,-999.000,9
      06MT22_5,   A10,    90,  2,    201,2,19930126,1419,-29.7517,  11.8303, 4002,    500.0,   7.4600,  34.5430,2,  34.5380,2,   -999.0,9,  -999.00,9,  -999.00,9,  -999.00,9, -999.000,9, -999.000,9, -999.000,9, -999.000,9,-999.0000,9,  -999.00,9,   -999.0,9,-999.000,9,  -999.00,9,   -999.0,0,   -999.0,9,   -999.0,9,  -999.00,9,  -999.0,-999.0000,-999.000,-999.000,  7.4108,-999.000,9
      06MT22_5,   A10,    91,  1,    217,2,19930126,1955,-29.6300,  12.1433, 3834,     11.0,  21.3200,  35.6790,2,  35.6760,2,    226.7,2,     1.38,2,     0.00,9,     0.13,2,    2.155,2,    1.178,2,    2.720,2,    1.006,2,-999.0000,1,  -999.00,1,   -999.0,9,-999.000,1,  -999.00,9,   -999.0,0,   -999.0,9,   -999.0,9,  -999.00,9,  -999.0,-999.0000,-999.000,-999.000, 21.3179,   0.024,9
      06MT22_5,   A10,    91,  1,    211,2,19930126,1955,-29.6300,  12.1433, 3834,     11.0,  21.3210,  35.6790,2,-999.0000,9,   -999.0,9,  -999.00,9,  -999.00,9,  -999.00,9, -999.000,9, -999.000,9, -999.000,9, -999.000,9,-999.0000,9,  -999.00,9,   -999.0,9,-999.000,9,  -999.00,9,   -999.0,0,   -999.0,9,   -999.0,9,  -999.00,9,  -999.0,-999.0000,-999.000,-999.000, 21.3189,-999.000,9
      06MT22_5,   A10,    91,  1,    210,2,19930126,1955,-29.6300,  12.1433, 3834,     31.0,  21.2900,  35.6750,2,-999.0000,9,   -999.0,9,  -999.00,9,  -999.00,9,  -999.00,9, -999.000,9, -999.000,9, -999.000,9, -999.000,9,-999.0000,9,  -999.00,9,   -999.0,9,-999.000,9,  -999.00,9,   -999.0,0,   -999.0,9,   -999.0,9,  -999.00,9,  -999.0,-999.0000,-999.000,-999.000, 21.2840,-999.000,9
      06MT22_5,   A10,    91,  1,    209,2,19930126,1955,-29.6300,  12.1433, 3834,     31.0,  21.2900,  35.6750,2,-999.0000,9,    229.9,2,     1.41,2,     0.03,9,     0.12,2, -999.000,9, -999.000,9, -999.000,9, -999.000,9,-999.0000,1,  -999.00,1,   -999.0,9,-999.000,1,  -999.00,9,   2035.4,2,   -999.0,9,   -999.0,9,  -999.00,9,  -999.0,-999.0000,-999.000,-999.000, 21.2840,-999.000,9
      06MT22_5,   A10,    91,  1,    208,2,19930126,1955,-29.6300,  12.1433, 3834,     51.0,  19.0210,  35.4730,2,  35.4670,2,    245.4,2,     1.53,2,     0.05,9,     0.20,2,    2.466,2,    1.361,2,    2.575,2,    0.959,2,-999.0000,1,  -999.00,1,   -999.0,9,-999.000,1,  -999.00,9,   2035.5,2,   -999.0,9,   -999.0,9,  -999.00,9,  -999.0,-999.0000,-999.000,-999.000, 19.0119,   0.023,9
      06MT22_5,   A10,    91,  1,    207,2,19930126,1955,-29.6300,  12.1433, 3834,     72.0,  17.0650,  35.4390,2,-999.0000,9,    246.3,2,     1.97,2,     0.72,9,     0.22,2,    2.597,2,    1.398,2,    2.270,2, -999.000,9,   1.7552,7,    -0.88,2,   -999.0,9,   7.210,7,  -999.00,9,   2045.7,2,   -999.0,9,   -999.0,9,  -999.00,9,  -999.0,  0.0061,   0.250,   0.025, 17.0531,-999.000,9
      06MT22_5,   A10,    91,  1,    206,2,19930126,1955,-29.6300,  12.1433, 3834,    103.0,  15.3950,  35.4170,2,-999.0000,9,    235.3,2,     2.66,2,     3.56,9,     0.34,2,    2.661,2,    1.459,2,    1.859,2,    0.969,2,   1.7172,2,    -1.02,2,   -999.0,9,   7.141,2,  -999.00,9,   2064.8,2,   -999.0,9,   -999.0,9,  -999.00,9,  -999.0,  0.0060,   0.250,   0.025, 15.3792,   0.024,9
      06MT22_5,   A10,    91,  1,    205,2,19930126,1955,-29.6300,  12.1433, 3834,    151.0,  13.8270,  35.2270,2,-999.0000,9,    229.6,2,     2.97,2,     6.35,9,     0.52,2,    2.726,2,    1.435,2,    1.418,2,    0.853,2,   1.7337,2,    -0.34,2,   -999.0,9,   7.252,2,  -999.00,9,   2082.3,2,   -999.0,9,   -999.0,9,  -999.00,9,  -999.0,  0.0061,   0.250,   0.025, 13.8054,   0.028,9
      06MT22_5,   A10,    91,  1,    204,2,19930126,1955,-29.6300,  12.1433, 3834,    203.0,  12.9070,  35.1060,2,  35.1020,2,    226.0,2,     3.58,2,     8.63,9,     0.64,2,    2.681,2,    1.400,2,    1.447,2,    0.783,2,   1.7369,2,    -0.04,2,   -999.0,9,   7.283,2,  -999.00,9,   2092.1,2,   -999.0,9,   -999.0,9,  -999.00,9,  -999.0,  0.0061,   0.250,   0.025, 12.8792,   0.021,9
      06MT22_5,   A10,    91,  1,    203,2,19930126,1955,-29.6300,  12.1433, 3834,    300.0,  11.0230,  34.8970,2,-999.0000,9,    209.2,2,     6.19,2,    14.84,9,     1.02,2,    2.282,2,    1.163,2,    1.310,2,    0.595,2,-999.0000,1,  -999.00,1,   -999.0,9,-999.000,1,  -999.00,9,   2119.1,2,   -999.0,9,   -999.0,9,  -999.00,9,  -999.0,-999.0000,-999.000,-999.000, 10.9860,   0.018,9
      06MT22_5,   A10,    91,  1,    202,2,19930126,1955,-29.6300,  12.1433, 3834,    400.0,   9.2500,  34.7280,2,-999.0000,9,    162.6,2,    11.86,2,    23.77,9,     1.58,2,    1.639,2,    0.822,2,    1.157,2, -999.000,9,   1.8207,2,     0.74,2,   -999.0,9,   7.695,2,  -999.00,9,   2169.0,2,   -999.0,9,   -999.0,9,  -999.00,9,  -999.0,  0.0064,   0.250,   0.027,  9.2056,-999.000,9
      06MT22_5,   A10,    91,  1,    201,2,19930126,1955,-29.6300,  12.1433, 3834,    500.0,   7.4880,  34.5480,2,  34.5480,2,    185.6,2,    15.62,2,    26.21,9,     1.76,2,    1.496,2,    0.738,2,    1.574,2,    0.253,2,   1.8007,2,     1.59,2,   -999.0,9,   7.717,2,  -999.00,9,   2168.9,2,   -999.0,9,   -999.0,9,  -999.00,9,  -999.0,  0.0063,   0.250,   0.027,  7.4387,   0.010,9
      06MT22_5,   A10,    91,  2,    324,2,19930126,2025,-29.6218,  12.1713, 3818,     14.0,  21.3120,  35.6710,2,-999.0000,9,   -999.0,9,  -999.00,9,  -999.00,9,  -999.00,9, -999.000,9, -999.000,9, -999.000,9, -999.000,9,-999.0000,9,  -999.00,9,   -999.0,9,-999.000,9,  -999.00,9,   -999.0,0,   -999.0,9,   -999.0,9,  -999.00,9,  -999.0,-999.0000,-999.000,-999.000, 21.3093,-999.000,9
      06MT22_5,   A10,    91,  2,    323,2,19930126,2025,-29.6218,  12.1713, 3818,    499.0,   7.8100,  34.5850,2,-999.0000,9,   -999.0,9,  -999.00,9,  -999.00,9,  -999.00,9, -999.000,9, -999.000,9, -999.000,9, -999.000,9,-999.0000,9,  -999.00,9,   -999.0,9,-999.000,9,  -999.00,9,   -999.0,0,   -999.0,9,   -999.0,9,  -999.00,9,  -999.0,-999.0000,-999.000,-999.000,  7.7597,-999.000,9
      06MT22_5,   A10,    91,  2,    322,2,19930126,2025,-29.6218,  12.1713, 3818,    600.0,   5.9470,  34.4160,2,-999.0000,9,    201.5,2,    19.33,2,    28.89,9,     1.93,2, -999.000,9, -999.000,9, -999.000,9,    0.183,2,   1.7810,5,     2.24,3,   -999.0,9,   7.750,5,  -999.00,9,   2175.1,2,   -999.0,9,   -999.0,9,  -999.00,9,  -999.0,  0.0071,   0.250,   0.031,  5.8945,   0.009,9
      06MT22_5,   A10,    91,  2,    321,2,19930126,2025,-29.6218,  12.1713, 3818,    700.0,   4.8430,  34.3560,2,-999.0000,9,    209.6,2,    26.02,2,    30.20,9,     2.03,2,    1.282,2,    0.600,2,    2.101,2,    0.136,2,-999.0000,1,  -999.00,1,   -999.0,9,-999.000,1,  -999.00,9,   2181.8,2,   -999.0,9,   -999.0,9,  -999.00,9,  -999.0,-999.0000,-999.000,-999.000,  4.7872,   0.016,9
      06MT22_5,   A10,    91,  2,    320,2,19930126,2025,-29.6218,  12.1713, 3818,    848.0,   3.9500,  34.3550,2,  34.3580,2,    201.1,2,    35.00,2,    32.56,9,     2.20,2,    0.788,2,    0.360,2,    1.597,2,    0.084,2,   1.7895,5,     3.46,3,   -999.0,9,   7.806,5,  -999.00,9,   2205.9,2,   -999.0,9,   -999.0,9,  -999.00,9,  -999.0,  0.0072,   0.250,   0.031,  3.8873,   0.005,9
      06MT22_5,   A10,    91,  2,    319,2,19930126,2025,-29.6218,  12.1713, 3818,   1000.0,   3.3610,  34.4390,2,-999.0000,9,    187.0,2,    48.81,2,    33.87,9,     2.30,2,    0.302,2,    0.148,2,    0.877,2,    0.036,2,   1.8033,5,     4.95,3,   -999.0,9,   7.879,5,  -999.00,9,   2221.2,2,   -999.0,9,   -999.0,9,  -999.00,9,  -999.0,  0.0072,   0.250,   0.032,  3.2900,   0.005,9
      06MT22_5,   A10,    91,  2,    318,2,19930126,2025,-29.6218,  12.1713, 3818,   1199.0,   3.1150,  34.5680,2,-999.0000,9,    181.2,2,    54.72,2,    33.26,9,     2.24,2,    0.068,2,    0.030,2,    0.330,2,    0.015,2,   1.8230,2,     6.46,2,   -999.0,9,   7.929,2,  -999.00,9,   2230.9,2,   -999.0,9,   -999.0,9,  -999.00,9,  -999.0,  0.0064,   0.250,   0.028,  3.0303,   0.004,9
      06MT22_5,   A10,    91,  2,    317,2,19930126,2025,-29.6218,  12.1713, 3818,   1400.0,   3.1450,  34.6930,2,  34.7010,2,    191.5,2,    49.12,2,    30.78,9,     2.05,2, -999.000,9, -999.000,9, -999.000,9, -999.000,9,-999.0000,1,  -999.00,1,   -999.0,9,-999.000,1,  -999.00,9,   2219.9,2,   -999.0,9,   -999.0,9,  -999.00,9,  -999.0,-999.0000,-999.000,-999.000,  3.0436,-999.000,9
      06MT22_5,   A10,    91,  2,    316,2,19930126,2025,-29.6218,  12.1713, 3818,   1600.0,   3.2000,  34.7910,2,-999.0000,9,    205.4,2,    42.08,2,    28.05,9,     1.83,2,    0.002,2,    0.000,2,    0.032,2, -999.000,9,   1.8181,5,     4.84,3,   -999.0,9,   7.932,5,  -999.00,9,   2206.0,2,   -999.0,9,   -999.0,9,  -999.00,9,  -999.0,  0.0073,   0.250,   0.032,  3.0806,-999.000,9
      06MT22_5,   A10,    91,  2,    315,2,19930126,2025,-29.6218,  12.1713, 3818,   1799.0,   3.1220,  34.8310,2,-999.0000,9,    213.9,2,    40.79,2,    26.65,9,     1.72,2,    0.001,2,    0.000,2,    0.011,2, -999.000,9,-999.0000,1,  -999.00,1,   -999.0,9,-999.000,1,  -999.00,9,   2200.4,2,   -999.0,9,   -999.0,9,  -999.00,9,  -999.0,-999.0000,-999.000,-999.000,  2.9861,-999.000,9
      06MT22_5,   A10,    91,  2,    314,2,19930126,2025,-29.6218,  12.1713, 3818,   2000.0,   3.0470,  34.8610,2,  34.8620,2,    222.7,2,    39.48,2,    25.44,9,     1.63,2,    0.000,2,    0.000,2,    0.008,2, -999.000,9,   1.8172,5,     4.52,3,   -999.0,9,   7.933,5,  -999.00,9,   2195.5,2,   -999.0,9,   -999.0,9,  -999.00,9,  -999.0,  0.0073,   0.250,   0.032,  2.8940,-999.000,9
      06MT22_5,   A10,    91,  2,    313,2,19930126,2025,-29.6218,  12.1713, 3818,   2101.0,   2.9830,  34.8670,2,-999.0000,9,    226.8,2,    39.72,2,    25.04,9,     1.60,2,    0.001,2,    0.001,2,    0.005,2, -999.000,9,-999.0000,1,  -999.00,1,   -999.0,9,-999.000,1,  -999.00,9,   2193.8,2,   -999.0,9,   -999.0,9,  -999.00,9,  -999.0,-999.0000,-999.000,-999.000,  2.8217,-999.000,9
      06MT22_5,   A10,    91,  2,    312,2,19930126,2025,-29.6218,  12.1713, 3818,   2251.0,   2.8960,  34.8700,2,-999.0000,9,    229.1,2,    41.03,2,    24.86,9,     1.60,2,    0.008,3,    0.002,2,    0.005,2, -999.000,9,-999.0000,1,  -999.00,1,   -999.0,9,-999.000,1,  -999.00,9,   2194.2,2,   -999.0,9,   -999.0,9,  -999.00,9,  -999.0,-999.0000,-999.000,-999.000,  2.7221,-999.000,9
      06MT22_5,   A10,    91,  2,    311,2,19930126,2025,-29.6218,  12.1713, 3818,   2502.0,   2.6560,  34.8590,2,  34.8590,2,    229.9,2,    47.11,2,    25.09,9,     1.63,2,    0.004,2,    0.001,2,    0.010,2, -999.000,9,   1.8297,5,     5.43,3,   -999.0,9,   7.987,5,  -999.00,9,   2198.5,2,   -999.0,9,   -999.0,9,  -999.00,9,  -999.0,  0.0073,   0.250,   0.032,  2.4625,-999.000,9
      06MT22_5,   A10,    91,  2,    310,2,19930126,2025,-29.6218,  12.1713, 3818,   2701.0,   2.5550,  34.8590,2,-999.0000,9,    232.3,2,    49.12,2,    25.11,9,     1.61,2,    0.001,2,   -0.001,2,   -0.002,2, -999.000,9,-999.0000,1,  -999.00,1,   -999.0,9,-999.000,1,  -999.00,9,   2201.0,2,   -999.0,9,   -999.0,9,  -999.00,9,  -999.0,-999.0000,-999.000,-999.000,  2.3442,-999.000,9
      06MT22_5,   A10,    91,  2,    309,2,19930126,2025,-29.6218,  12.1713, 3818,   2803.0,   2.5000,  34.8580,2,-999.0000,9,    232.2,2,    50.47,2,    25.07,9,     1.60,2,    0.003,2,    0.003,2,   -0.002,2, -999.000,9,   2.6702,4,     4.78,3,   -999.0,9,   9.441,4,  -999.00,9,   2202.1,2,   -999.0,9,   -999.0,9,  -999.00,9,  -999.0,  0.0093,   0.250,   0.033,  2.2802,-999.000,9
      06MT22_5,   A10,    91,  2,    308,2,19930126,2025,-29.6218,  12.1713, 3818,   2902.0,   2.4610,  34.8580,2,-999.0000,9,    233.8,2,    52.12,2,    25.10,9,     1.60,2,    0.002,2,    0.001,2,    0.008,2, -999.000,9,   1.8386,5,     5.61,3,   -999.0,9,   8.010,5,  -999.00,9,   2202.6,2,   -999.0,9,   -999.0,9,  -999.00,9,  -999.0,  0.0074,   0.250,   0.032,  2.2322,-999.000,9
      06MT22_5,   A10,    91,  2,    307,2,19930126,2025,-29.6218,  12.1713, 3818,   3001.0,   2.4380,  34.8600,2,  34.8590,2,    234.1,2,    51.48,2,    24.96,9,     1.61,2,    0.000,2,   -0.001,2,    0.008,2, -999.000,9,   1.8404,5,     5.24,3,   -999.0,9,   8.005,5,  -999.00,9,   2202.8,2,   -999.0,9,   -999.0,9,  -999.00,9,  -999.0,  0.0074,   0.250,   0.032,  2.1997,-999.000,9
      06MT22_5,   A10,    91,  2,    306,2,19930126,2025,-29.6218,  12.1713, 3818,   3102.0,   2.4050,  34.8580,2,-999.0000,9,    233.3,2,    52.73,2,    24.81,9,     1.62,2, -999.000,9, -999.000,9, -999.000,9, -999.000,9,   2.0849,4,     5.32,3,   -999.0,9,   8.087,4,  -999.00,9,   2203.1,2,   -999.0,9,   -999.0,9,  -999.00,9,  -999.0,  0.0073,   0.250,   0.028,  2.1571,-999.000,9
      06MT22_5,   A10,    91,  2,    305,2,19930126,2025,-29.6218,  12.1713, 3818,   3254.0,   2.3580,  34.8570,2,  34.8580,2,    233.5,2,    54.43,2,    25.28,9,     1.64,2,    0.000,2,    0.000,2,    0.007,2, -999.000,9,-999.0000,1,  -999.00,1,   -999.0,9,-999.000,1,  -999.00,9,   2205.4,2,   -999.0,9,   -999.0,9,  -999.00,9,  -999.0,-999.0000,-999.000,-999.000,  2.0955,-999.000,9
      06MT22_5,   A10,    91,  2,    304,2,19930126,2025,-29.6218,  12.1713, 3818,   3503.0,   2.2980,  34.8550,2,-999.0000,9,    233.4,2,    56.57,2,    25.53,9,     1.65,2, -999.000,9, -999.000,9, -999.000,9, -999.000,9,-999.0000,1,  -999.00,1,   -999.0,9,-999.000,1,  -999.00,9,   2207.0,2,   -999.0,9,   -999.0,9,  -999.00,9,  -999.0,-999.0000,-999.000,-999.000,  2.0109,-999.000,9
      06MT22_5,   A10,    91,  2,    303,2,19930126,2025,-29.6218,  12.1713, 3818,   3754.0,   2.0670,  34.8320,2,-999.0000,9,    228.3,2,    67.40,2,    26.85,9,     1.77,2,    0.004,2,    0.000,2,    0.007,2, -999.000,9,-999.0000,1,  -999.00,1,   -999.0,9,-999.000,1,  -999.00,9,   2221.6,2,   -999.0,9,   -999.0,9,  -999.00,9,  -999.0,-999.0000,-999.000,-999.000,  1.7587,-999.000,9
      06MT22_5,   A10,    91,  2,    301,2,19930126,2025,-29.6218,  12.1713, 3818,   3843.0,   1.7810,  34.8020,2,-999.0000,9,    222.0,2,    78.98,2,    28.24,9,     1.87,2, -999.000,9, -999.000,9, -999.000,9, -999.000,9,   1.8457,2,     5.93,2,   -999.0,9,   8.068,2,  -999.00,9,   2232.7,2,   -999.0,9,   -999.0,9,  -999.00,9,  -999.0,  0.0065,   0.250,   0.028,  1.4653,-999.000,9
      06MT22_5,   A10,    91,  2,    302,2,19930126,2025,-29.6218,  12.1713, 3818,   3846.0,   1.7770,  34.8020,2,  34.8050,2,   -999.0,9,  -999.00,9,  -999.00,9,  -999.00,9,    0.003,2,    0.000,2,    0.014,2, -999.000,9,-999.0000,1,  -999.00,1,   -999.0,9,-999.000,1,  -999.00,9,   -999.0,0,   -999.0,9,   -999.0,9,  -999.00,9,  -999.0,-999.0000,-999.000,-999.000,  1.4664,-999.000,9