BOTTLE,20030417WHPSIOSA
EXPOCODE,SECT_ID,STNNBR,CASTNO,BTLNBR,BTLNBR_FLAG_W,DATE,TIME,LATITUDE,LONGITUDE,DEPTH,CTDPRS,CTDTMP,CTDSAL,CTDSAL_FLAG_W,SALNTY,SALNTY_FLAG_W,OXYGEN,OXYGEN_FLAG_W,SILCAT,SILCAT_FLAG_W,NO2+NO3,NO2+NO3_FLAG_W,PHSPHT,PHSPHT_FLAG_W,CFC-11,CFC-11_FLAG_W,CFC-12,CFC-12_FLAG_W,CCL4,CCL4_FLAG_W,TRITUM,TRITUM_FLAG_W,HELIUM,HELIUM_FLAG_W,DELHE3,DELHE3_FLAG_W,DELC14,DELC14_FLAG_W,NEON,NEON_FLAG_W,O18O16,O18O16_FLAG_W,TCARBN,TCARBN_FLAG_W,PCO2,PCO2_FLAG_W,ALKALI,ALKALI_FLAG_W,PH,PH_FLAG_W,C14ERR,HELIER,DELHER,NEONER,THETA,TRITER,TRITER_FLAG_W
,,,,,,,,,,,DBAR,ITS-90,PSS-78,,PSS-78,,UMOL/KG,,UMOL/KG,,UMOL/KG,,UMOL/KG,,PMOL/KG,,PMOL/KG,,PMOL/KG,,TU,,NMOL/KG,,PERCNT,,/MILLE,,NMOL/KG,,MILLE,,UMOL/KG,,UATM,,UMOL/KG,,,,/MILLE,NMOL/KG,PERCNT,NMOL/KG,ITS-90,TU,
      06MT22_5,   A10,    26,  1,    324,2,19930106,1908,-29.9920, -33.5090, 3175,     11.0,  21.3660,  36.0550,2,-999.0000,9,    220.7,2,     0.13,2,     0.20,9,     0.04,2, -999.000,9, -999.000,9, -999.000,9, -999.000,9,-999.0000,9,  -999.00,9,   -999.0,9,-999.000,9,  -999.00,9,   -999.0,9,   -999.0,9,   -999.0,9,  -999.00,9,  -999.0,-999.0000,-999.000,-999.000, 21.3639,-999.000,9
      06MT22_5,   A10,    26,  1,    323,2,19930106,1908,-29.9920, -33.5090, 3175,     11.0,  21.3660,  36.0550,2,-999.0000,9,    225.0,2,     0.00,2,     0.20,9,     0.06,2, -999.000,9, -999.000,9, -999.000,9, -999.000,9,-999.0000,9,  -999.00,9,   -999.0,9,-999.000,9,  -999.00,9,   -999.0,9,   -999.0,9,   -999.0,9,  -999.00,9,  -999.0,-999.0000,-999.000,-999.000, 21.3639,-999.000,9
      06MT22_5,   A10,    26,  1,    322,2,19930106,1908,-29.9920, -33.5090, 3175,     11.0,  21.3660,  36.0550,2,  36.0590,2,    228.7,2,     0.14,2,     0.09,9,     0.06,2, -999.000,9, -999.000,9, -999.000,9, -999.000,9,-999.0000,9,  -999.00,9,   -999.0,9,-999.000,9,  -999.00,9,   2041.0,2,   -999.0,9,   -999.0,9,  -999.00,9,  -999.0,-999.0000,-999.000,-999.000, 21.3639,-999.000,9
      06MT22_5,   A10,    26,  1,    321,2,19930106,1908,-29.9920, -33.5090, 3175,     31.0,  21.2120,  36.0560,2,-999.0000,9,    232.5,2,     0.06,2,     0.14,9,     0.10,2,    2.189,2,    1.207,2,    2.717,2, -999.000,9,   1.7043,2,    -1.51,2,   -999.0,9,   6.875,2,  -999.00,9,   2040.3,2,   -999.0,9,   -999.0,9,  -999.00,9,  -999.0,  0.0068,   0.250,   0.027, 21.2060,-999.000,9
      06MT22_5,   A10,    26,  1,    320,2,19930106,1908,-29.9920, -33.5090, 3175,     50.0,  20.6650,  36.0170,2,  36.0280,2,    231.8,2,     0.24,2,     0.11,9,     0.12,2, -999.000,9, -999.000,9, -999.000,9, -999.000,9,-999.0000,9,  -999.00,9,   -999.0,9,-999.000,9,  -999.00,9,   2041.8,2,   -999.0,9,   -999.0,9,  -999.00,9,  -999.0,-999.0000,-999.000,-999.000, 20.6555,-999.000,9
      06MT22_5,   A10,    26,  1,    319,2,19930106,1908,-29.9920, -33.5090, 3175,     70.0,  19.9350,  36.0770,2,-999.0000,9,    222.9,2,     0.20,2,     0.97,9,     0.16,2,    2.245,2,    1.244,2,    2.457,2,    1.086,2,   1.7021,2,    -1.23,2,   -999.0,9,   6.923,2,  -999.00,9,   2046.9,2,   -999.0,9,   -999.0,9,  -999.00,9,  -999.0,  0.0068,   0.250,   0.028, 19.9220,   0.027,9
      06MT22_5,   A10,    26,  1,    318,2,19930106,1908,-29.9920, -33.5090, 3175,    100.0,  18.9570,  36.0460,2,-999.0000,9,    191.3,2,     0.65,2,     2.38,9,     0.29,2,    2.292,2,    1.268,2,    2.212,2, -999.000,9,-999.0000,9,  -999.00,9,   -999.0,9,-999.000,9,  -999.00,9,   2052.8,2,   -999.0,9,   -999.0,9,  -999.00,9,  -999.0,-999.0000,-999.000,-999.000, 18.9391,-999.000,9
      06MT22_5,   A10,    26,  1,    317,2,19930106,1908,-29.9920, -33.5090, 3175,    149.0,  18.2740,  36.0090,2,  36.0080,2,    212.0,2,     1.64,2,     5.45,9,     0.52,2, -999.000,9, -999.000,9, -999.000,9, -999.000,9,   1.7016,2,    -1.19,2,   -999.0,9,   6.952,2,  -999.00,9,   2062.7,2,   -999.0,9,   -999.0,9,  -999.00,9,  -999.0,  0.0068,   0.250,   0.028, 18.2480,-999.000,9
      06MT22_5,   A10,    26,  1,    316,2,19930106,1908,-29.9920, -33.5090, 3175,    199.0,  16.9910,  35.7870,2,-999.0000,9,    210.5,2,     2.88,2,    10.00,9,     0.78,2,    2.357,2,    1.265,2,    1.136,2, -999.000,9,-999.0000,9,  -999.00,9,   -999.0,9,-999.000,9,  -999.00,9,   2072.0,2,   -999.0,9,   -999.0,9,  -999.00,9,  -999.0,-999.0000,-999.000,-999.000, 16.9581,-999.000,9
      06MT22_5,   A10,    26,  1,    315,2,19930106,1908,-29.9920, -33.5090, 3175,    299.0,  15.3570,  35.5690,2,-999.0000,9,    209.8,2,     4.66,2,    14.26,9,     1.03,2,    2.365,2,    1.296,2,    0.799,2,    0.841,2,   1.7275,2,    -0.58,2,   -999.0,9,   7.126,2,  -999.00,9,   2086.6,2,   -999.0,9,   -999.0,9,  -999.00,9,  -999.0,  0.0069,   0.250,   0.029, 15.3108,   0.029,9
      06MT22_5,   A10,    26,  1,    314,2,19930106,1908,-29.9920, -33.5090, 3175,    398.0,  13.1400,  35.2510,2,  35.2520,2,    210.9,2,     7.28,2,    20.03,9,     1.36,2,    2.207,2,    1.158,2,    0.740,2, -999.000,9,   1.7409,5,     1.04,3,   -999.0,9,   7.261,5,  -999.00,9,   2104.0,2,   -999.0,9,   -999.0,9,  -999.00,9,  -999.0,  0.0078,   0.250,   0.033, 13.0843,-999.000,9
      06MT22_5,   A10,    26,  1,    313,2,19930106,1908,-29.9920, -33.5090, 3175,    499.0,  11.4470,  35.0080,2,-999.0000,9,   -999.0,9,  -999.00,9,  -999.00,9,  -999.00,9,    1.985,2,    1.053,2,    0.661,2, -999.000,9,   1.7547,5,     0.83,3,   -999.0,9,   7.378,5,  -999.00,9,   2115.7,2,   -999.0,9,   -999.0,9,  -999.00,9,  -999.0,  0.0079,   0.250,   0.033, 11.3834,-999.000,9
      06MT22_5,   A10,    26,  1,    312,2,19930106,1908,-29.9920, -33.5090, 3175,    600.0,   9.0570,  34.6920,2,-999.0000,9,    224.4,2,    11.06,2,    24.46,9,     1.69,2,    1.859,2,    0.955,2,    1.507,2, -999.000,9,   1.7636,2,     1.12,2,   -999.0,9,   7.568,4,  -999.00,9,   2133.8,2,   -999.0,9,   -999.0,9,  -999.00,9,  -999.0,  0.0071,   0.250,   0.057,  8.9905,-999.000,9
      06MT22_5,   A10,    26,  1,    311,2,19930106,1908,-29.9920, -33.5090, 3175,    700.0,   6.9170,  34.4550,2,  34.4550,2,    198.7,2,  -999.00,9,  -999.00,9,  -999.00,9,    1.814,2,    0.960,2,    0.765,4,   -0.127,4,   1.9091,4,    -0.37,3,   -999.0,9,   8.033,4,  -999.00,9,   2145.6,2,   -999.0,9,   -999.0,9,  -999.00,9,  -999.0,  0.0076,   0.250,   0.032,  6.8501,   0.024,9
      06MT22_5,   A10,    26,  1,    310,2,19930106,1908,-29.9920, -33.5090, 3175,    999.0,   3.9750,  34.3130,2,-999.0000,9,   -999.0,9,  -999.00,9,  -999.00,9,  -999.00,9, -999.000,9, -999.000,9, -999.000,9, -999.000,9,-999.0000,9,  -999.00,9,   -999.0,9,-999.000,9,  -999.00,9,   -999.0,9,   -999.0,9,   -999.0,9,  -999.00,9,  -999.0,-999.0000,-999.000,-999.000,  3.8994,-999.000,9
      06MT22_5,   A10,    26,  1,    309,2,19930106,1908,-29.9920, -33.5090, 3175,   1200.0,   3.2890,  34.4030,2,-999.0000,9,    190.9,2,    44.22,2,    33.09,9,     2.26,2,    0.310,2,    0.059,4,    1.034,2,    0.078,2,   1.8207,7,     4.97,2,   -999.0,9,   7.876,7,  -999.00,9,   2211.9,2,   -999.0,9,   -999.0,9,  -999.00,9,  -999.0,  0.0064,   0.250,   0.028,  3.2027,   0.015,9
      06MT22_5,   A10,    26,  1,    308,2,19930106,1908,-29.9920, -33.5090, 3175,   1400.0,   2.9620,  34.5230,2,-999.0000,9,    193.6,2,    52.96,2,    33.43,9,     2.25,2,    0.098,2,    0.061,2,    0.478,2, -999.000,9,   1.8181,5,     6.11,3,   -999.0,9,   7.904,5,  -999.00,9,   2224.3,2,   -999.0,9,   -999.0,9,  -999.00,9,  -999.0,  0.0082,   0.250,   0.036,  2.8627,-999.000,9
      06MT22_5,   A10,    26,  1,    307,2,19930106,1908,-29.9920, -33.5090, 3175,   1600.0,   2.8670,  34.6310,2,  34.6300,2,    203.9,2,    54.92,2,    32.11,9,     2.16,2, -999.000,9, -999.000,9, -999.000,9, -999.000,9,   1.8301,6,     6.57,6,   -999.0,9,   7.907,6,  -999.00,9,   2215.6,2,   -999.0,9,   -999.0,9,  -999.00,9,  -999.0,  0.0073,   0.250,   0.032,  2.7522,-999.000,9
      06MT22_5,   A10,    26,  1,    306,2,19930106,1908,-29.9920, -33.5090, 3175,   1803.0,   2.8090,  34.7240,2,-999.0000,9,    219.1,2,    52.97,2,    29.80,9,     1.95,2,    0.007,2,    0.009,2,    0.050,2, -999.000,9,-999.0000,1,  -999.00,1,   -999.0,9,-999.000,1,  -999.00,9,   2209.3,2,   -999.0,9,   -999.0,9,  -999.00,9,  -999.0,-999.0000,-999.000,-999.000,  2.6770,-999.000,9
      06MT22_5,   A10,    26,  1,    305,2,19930106,1908,-29.9920, -33.5090, 3175,   2000.0,   2.7870,  34.7940,2,-999.0000,9,    232.8,2,    48.50,2,    27.51,9,     1.82,2,    0.010,2,    0.014,2,    0.012,2,    0.006,2,   1.8283,2,     6.32,2,   -999.0,9,   7.946,2,  -999.00,9,   2205.9,2,   -999.0,9,   -999.0,9,  -999.00,9,  -999.0,  0.0073,   0.250,   0.032,  2.6379,   0.016,9
      06MT22_5,   A10,    26,  1,    304,2,19930106,1908,-29.9920, -33.5090, 3175,   2250.0,   2.8070,  34.8500,2,  34.8490,2,    241.6,2,    41.63,2,    25.08,9,     1.67,2,    0.004,2,    0.010,2,   -0.004,2,    0.009,2,   1.8140,2,     5.39,2,   -999.0,9,   7.922,2,  -999.00,9,   2184.3,2,   -999.0,9,   -999.0,9,  -999.00,9,  -999.0,  0.0063,   0.250,   0.028,  2.6347,   0.010,9
      06MT22_5,   A10,    26,  1,    303,2,19930106,1908,-29.9920, -33.5090, 3175,   2502.0,   2.8020,  34.8830,2,-999.0000,9,   -999.0,9,    37.65,2,    23.57,9,     1.50,2,   -0.001,2,   -0.001,2,    0.011,2,    0.059,2,   1.8207,2,     3.71,2,   -999.0,9,   7.929,2,  -999.00,9,   2177.3,2,   -999.0,9,   -999.0,9,  -999.00,9,  -999.0,  0.0073,   0.250,   0.032,  2.6057,   0.027,9
      06MT22_5,   A10,    26,  1,    302,2,19930106,1908,-29.9920, -33.5090, 3175,   2802.0,   2.7500,  34.8980,2,-999.0000,9,    249.4,2,    36.11,2,    22.77,9,     1.51,2,    0.009,2,    0.005,2,    0.015,2,   -0.034,4,-999.0000,1,  -999.00,1,   -999.0,9,-999.000,1,  -999.00,9,   2172.6,2,   -999.0,9,   -999.0,9,  -999.00,9,  -999.0,-999.0000,-999.000,-999.000,  2.5250,   0.197,9
      06MT22_5,   A10,    26,  1,    301,2,19930106,1908,-29.9920, -33.5090, 3175,   3092.0,   2.5860,  34.8970,2,  34.8960,2,   -999.0,9,    38.95,2,    22.49,9,     1.46,2,    0.001,2,    0.018,2,    0.013,2,    0.008,2,   2.6122,4,     3.35,3,   -999.0,9,   7.929,7,  -999.00,9,   2180.8,2,   -999.0,9,   -999.0,9,  -999.00,9,  -999.0,  0.0091,   0.250,   0.028,  2.3349,   0.005,9
      06MT22_5,   A10,    27,  1,    217,2,19930106,2323,-29.9983, -33.0250, 3514,     12.0,  21.2580,  35.9350,2,  35.9020,2,   -999.0,9,  -999.00,9,  -999.00,9,  -999.00,9, -999.000,9, -999.000,9, -999.000,9, -999.000,9,-999.0000,9,  -999.00,9,   -999.0,9,-999.000,9,  -999.00,9,   -999.0,0,   -999.0,9,   -999.0,9,  -999.00,9,  -999.0,-999.0000,-999.000,-999.000, 21.2557,-999.000,9
      06MT22_5,   A10,    27,  1,    208,2,19930106,2323,-29.9983, -33.0250, 3514,     12.0,  21.2580,  35.9350,2,-999.0000,9,    231.5,2,     0.36,2,     0.08,9,     0.11,2, -999.000,9, -999.000,9, -999.000,9, -999.000,9,-999.0000,9,  -999.00,9,   -999.0,9,-999.000,9,  -999.00,9,   -999.0,0,   -999.0,9,   -999.0,9,  -999.00,9,  -999.0,-999.0000,-999.000,-999.000, 21.2557,-999.000,9
      06MT22_5,   A10,    27,  1,    207,2,19930106,2323,-29.9983, -33.0250, 3514,     31.0,  20.6290,  36.0530,2,-999.0000,9,    230.7,2,     0.58,2,     0.09,9,     0.09,2, -999.000,9, -999.000,9, -999.000,9, -999.000,9,-999.0000,9,  -999.00,9,   -999.0,9,-999.000,9,  -999.00,9,   -999.0,0,   -999.0,9,   -999.0,9,  -999.00,9,  -999.0,-999.0000,-999.000,-999.000, 20.6231,-999.000,9
      06MT22_5,   A10,    27,  1,    206,2,19930106,2323,-29.9983, -33.0250, 3514,     52.0,  20.0870,  36.0180,2,-999.0000,9,    237.8,2,     0.58,2,     0.10,9,     0.13,2, -999.000,9, -999.000,9, -999.000,9, -999.000,9,-999.0000,9,  -999.00,9,   -999.0,9,-999.000,9,  -999.00,9,   -999.0,0,   -999.0,9,   -999.0,9,  -999.00,9,  -999.0,-999.0000,-999.000,-999.000, 20.0773,-999.000,9
      06MT22_5,   A10,    27,  1,    205,2,19930106,2323,-29.9983, -33.0250, 3514,     72.0,  18.8930,  35.9510,2,  35.9410,2,    242.1,2,     0.33,2,     0.08,9,     0.12,2, -999.000,9, -999.000,9, -999.000,9, -999.000,9,-999.0000,9,  -999.00,9,   -999.0,9,-999.000,9,  -999.00,9,   -999.0,0,   -999.0,9,   -999.0,9,  -999.00,9,  -999.0,-999.0000,-999.000,-999.000, 18.8802,-999.000,9
      06MT22_5,   A10,    27,  1,    204,2,19930106,2323,-29.9983, -33.0250, 3514,    102.0,  17.8000,  35.9510,2,-999.0000,9,    238.5,2,     0.33,2,     0.09,9,     0.14,2, -999.000,9, -999.000,9, -999.000,9, -999.000,9,-999.0000,9,  -999.00,9,   -999.0,9,-999.000,9,  -999.00,9,   -999.0,0,   -999.0,9,   -999.0,9,  -999.00,9,  -999.0,-999.0000,-999.000,-999.000, 17.7826,-999.000,9
      06MT22_5,   A10,    27,  1,    203,2,19930106,2323,-29.9983, -33.0250, 3514,    151.0,  16.6430,  35.8360,2,-999.0000,9,    219.1,2,     0.86,2,     2.85,9,     0.32,2, -999.000,9, -999.000,9, -999.000,9, -999.000,9,-999.0000,9,  -999.00,9,   -999.0,9,-999.000,9,  -999.00,9,   -999.0,0,   -999.0,9,   -999.0,9,  -999.00,9,  -999.0,-999.0000,-999.000,-999.000, 16.6184,-999.000,9
      06MT22_5,   A10,    27,  1,    202,2,19930106,2323,-29.9983, -33.0250, 3514,    202.0,  15.6620,  35.6710,2,  35.6400,2,    213.6,2,     1.62,2,     4.85,9,     0.44,2, -999.000,9, -999.000,9, -999.000,9, -999.000,9,-999.0000,9,  -999.00,9,   -999.0,9,-999.000,9,  -999.00,9,   -999.0,0,   -999.0,9,   -999.0,9,  -999.00,9,  -999.0,-999.0000,-999.000,-999.000, 15.6303,-999.000,9
      06MT22_5,   A10,    27,  1,    201,2,19930106,2323,-29.9983, -33.0250, 3514,    301.0,  14.0540,  35.4400,2,-999.0000,9,    214.8,2,     2.28,2,     7.74,9,     0.63,2, -999.000,9, -999.000,9, -999.000,9, -999.000,9,-999.0000,9,  -999.00,9,   -999.0,9,-999.000,9,  -999.00,9,   -999.0,0,   -999.0,9,   -999.0,9,  -999.00,9,  -999.0,-999.0000,-999.000,-999.000, 14.0098,-999.000,9