BOTTLE,20030417WHPSIOSA
EXPOCODE,SECT_ID,STNNBR,CASTNO,BTLNBR,BTLNBR_FLAG_W,DATE,TIME,LATITUDE,LONGITUDE,DEPTH,CTDPRS,CTDTMP,CTDSAL,CTDSAL_FLAG_W,SALNTY,SALNTY_FLAG_W,OXYGEN,OXYGEN_FLAG_W,SILCAT,SILCAT_FLAG_W,NO2+NO3,NO2+NO3_FLAG_W,PHSPHT,PHSPHT_FLAG_W,CFC-11,CFC-11_FLAG_W,CFC-12,CFC-12_FLAG_W,CCL4,CCL4_FLAG_W,TRITUM,TRITUM_FLAG_W,HELIUM,HELIUM_FLAG_W,DELHE3,DELHE3_FLAG_W,DELC14,DELC14_FLAG_W,NEON,NEON_FLAG_W,O18O16,O18O16_FLAG_W,TCARBN,TCARBN_FLAG_W,PCO2,PCO2_FLAG_W,ALKALI,ALKALI_FLAG_W,PH,PH_FLAG_W,C14ERR,HELIER,DELHER,NEONER,THETA,TRITER,TRITER_FLAG_W
,,,,,,,,,,,DBAR,ITS-90,PSS-78,,PSS-78,,UMOL/KG,,UMOL/KG,,UMOL/KG,,UMOL/KG,,PMOL/KG,,PMOL/KG,,PMOL/KG,,TU,,NMOL/KG,,PERCNT,,/MILLE,,NMOL/KG,,MILLE,,UMOL/KG,,UATM,,UMOL/KG,,,,/MILLE,NMOL/KG,PERCNT,NMOL/KG,ITS-90,TU,
      06MT22_5,   A10,    85,  2,    324,2,19930124,1622,-29.7460,   7.6210, 5200,     10.0,  21.9260,  35.6390,2,  35.6440,2,   -999.0,9,  -999.00,9,  -999.00,9,  -999.00,9, -999.000,9, -999.000,9, -999.000,9, -999.000,9,-999.0000,9,  -999.00,9,   -999.0,9,-999.000,9,  -999.00,9,   -999.0,0,   -999.0,9,   -999.0,9,  -999.00,9,  -999.0,-999.0000,-999.000,-999.000, 21.9240,-999.000,9
      06MT22_5,   A10,    85,  2,    322,2,19930124,1622,-29.7460,   7.6210, 5200,     10.0,  21.9220,  35.6400,2,-999.0000,9,   -999.0,9,  -999.00,9,  -999.00,9,  -999.00,9, -999.000,9, -999.000,9, -999.000,9, -999.000,9,-999.0000,9,  -999.00,9,   -999.0,9,-999.000,9,  -999.00,9,   -999.0,0,   -999.0,9,   -999.0,9,  -999.00,9,  -999.0,-999.0000,-999.000,-999.000, 21.9200,-999.000,9
      06MT22_5,   A10,    85,  2,    321,2,19930124,1622,-29.7460,   7.6210, 5200,   1001.0,   3.5870,  34.3980,2,-999.0000,9,    198.0,2,    43.63,2,    33.68,9,     2.27,2,    0.582,2,    0.283,2,    1.313,2,    0.062,2,   1.8819,4,     4.62,3,   -999.0,9,   8.003,4,  -999.00,9,   2209.3,2,   -999.0,9,   -999.0,9,  -999.00,9,  -999.0,  0.0066,   0.250,   0.028,  3.5142,   0.003,9
      06MT22_5,   A10,    85,  2,    320,2,19930124,1622,-29.7460,   7.6210, 5200,   1199.0,   3.0670,  34.5200,2,-999.0000,9,    183.5,2,    56.85,2,    34.41,9,     2.32,2,    0.160,2,    0.076,2,    0.550,2,    0.024,2,-999.0000,1,  -999.00,1,   -999.0,9,-999.000,1,  -999.00,9,   2226.7,2,   -999.0,9,   -999.0,9,  -999.00,9,  -999.0,-999.0000,-999.000,-999.000,  2.9828,   0.002,9
      06MT22_5,   A10,    85,  2,    319,2,19930124,1622,-29.7460,   7.6210, 5200,   1399.0,   2.8680,  34.6370,2,  34.6370,2,    185.8,2,    60.81,2,    33.13,9,     2.21,2,    0.051,2,    0.023,2,    0.238,2,    0.016,2,-999.0000,1,  -999.00,1,   -999.0,9,-999.000,1,  -999.00,9,   2228.5,2,   -999.0,9,   -999.0,9,  -999.00,9,  -999.0,-999.0000,-999.000,-999.000,  2.7698,   0.004,9
      06MT22_5,   A10,    85,  2,    318,2,19930124,1622,-29.7460,   7.6210, 5200,   1599.0,   2.8720,  34.7350,2,-999.0000,9,    198.2,2,    55.57,2,    30.48,9,     2.00,2,    0.020,2,    0.009,2,    0.103,2,    0.012,2,   1.8627,5,     7.34,3,   -999.0,9,   7.932,5,  -999.00,9,   2219.6,2,   -999.0,9,   -999.0,9,  -999.00,9,  -999.0,  0.0075,   0.250,   0.032,  2.7567,   0.002,9
      06MT22_5,   A10,    85,  2,    317,2,19930124,1622,-29.7460,   7.6210, 5200,   1800.0,   2.9220,  34.8040,2,-999.0000,9,    213.8,2,    47.29,2,    27.78,9,     1.79,2,    0.008,2,    0.002,2,    0.035,2,    0.008,2,   1.8546,5,     6.20,3,   -999.0,9,   7.925,5,  -999.00,9,   2206.1,2,   -999.0,9,   -999.0,9,  -999.00,9,  -999.0,  0.0074,   0.250,   0.032,  2.7887,   0.002,9
      06MT22_5,   A10,    85,  2,    316,2,19930124,1622,-29.7460,   7.6210, 5200,   2000.0,   2.8940,  34.8470,2,  34.8470,2,    223.7,2,    43.43,2,    26.17,9,     1.69,2,    0.004,2,    0.003,2,    0.020,2,    0.009,2,   1.8279,5,     4.85,3,   -999.0,9,   7.947,5,  -999.00,9,   2193.9,2,   -999.0,9,   -999.0,9,  -999.00,9,  -999.0,  0.0073,   0.250,   0.032,  2.7433,   0.003,9
      06MT22_5,   A10,    85,  2,    315,2,19930124,1622,-29.7460,   7.6210, 5200,   2250.0,   2.7410,  34.8580,2,-999.0000,9,    228.9,2,    45.23,2,    25.50,9,     1.64,2, -999.000,9, -999.000,9, -999.000,9,    0.008,2,-999.0000,1,  -999.00,1,   -999.0,9,-999.000,1,  -999.00,9,   -999.0,0,   -999.0,9,   -999.0,9,  -999.00,9,  -999.0,-999.0000,-999.000,-999.000,  2.5698,   0.011,9
      06MT22_5,   A10,    85,  2,    314,2,19930124,1622,-29.7460,   7.6210, 5200,   2502.0,   2.5710,  34.8590,2,-999.0000,9,    232.3,2,    48.42,2,    25.32,9,     1.64,2,   -0.002,2,    0.000,2,    0.006,2,    0.000,2,-999.0000,1,  -999.00,1,   -999.0,9,-999.000,1,  -999.00,9,   2192.5,2,   -999.0,9,   -999.0,9,  -999.00,9,  -999.0,-999.0000,-999.000,-999.000,  2.3791,   0.001,9
      06MT22_5,   A10,    85,  2,    313,2,19930124,1622,-29.7460,   7.6210, 5200,   2751.0,   2.4690,  34.8600,2,-999.0000,9,    233.1,2,    50.56,2,    25.38,9,     1.64,2, -999.000,9, -999.000,9, -999.000,9,    0.013,2,   1.8422,5,     6.75,3,   -999.0,9,   7.974,5,  -999.00,9,   2197.1,2,   -999.0,9,   -999.0,9,  -999.00,9,  -999.0,  0.0074,   0.250,   0.032,  2.2550,   0.002,9
      06MT22_5,   A10,    85,  2,    312,2,19930124,1622,-29.7460,   7.6210, 5200,   3002.0,   2.3890,  34.8610,2,  34.8600,2,    233.7,2,    52.50,2,    25.35,9,     1.62,2,    0.002,2,    0.002,2,    0.004,2,   -0.002,2,   1.8328,2,     5.32,2,   -999.0,9,   8.003,2,  -999.00,9,   2200.7,2,   -999.0,9,   -999.0,9,  -999.00,9,  -999.0,  0.0064,   0.250,   0.028,  2.1516,   0.031,9
      06MT22_5,   A10,    85,  2,    311,2,19930124,1622,-29.7460,   7.6210, 5200,   3254.0,   2.3220,  34.8590,2,-999.0000,9,    234.1,2,    54.73,2,    25.47,9,     1.65,2, -999.000,9, -999.000,9, -999.000,9,    0.057,3,   1.9506,4,     4.54,3,   -999.0,9,   8.337,4,  -999.00,9,   2204.0,2,   -999.0,9,   -999.0,9,  -999.00,9,  -999.0,  0.0068,   0.250,   0.029,  2.0606,   0.080,9
      06MT22_5,   A10,    85,  2,    310,2,19930124,1622,-29.7460,   7.6210, 5200,   3504.0,   2.2470,  34.8540,2,-999.0000,9,    233.7,2,    57.74,2,    25.68,9,     1.63,2,   -0.001,2,    0.000,2,    0.004,2,    0.006,2,-999.0000,1,  -999.00,1,   -999.0,9,-999.000,1,  -999.00,9,   2208.9,2,   -999.0,9,   -999.0,9,  -999.00,9,  -999.0,-999.0000,-999.000,-999.000,  1.9610,   0.001,9
      06MT22_5,   A10,    85,  2,    309,2,19930124,1622,-29.7460,   7.6210, 5200,   3754.0,   2.0880,  34.8380,2,-999.0000,9,   -999.0,9,  -999.00,9,  -999.00,9,  -999.00,9, -999.000,9, -999.000,9, -999.000,9, -999.000,9,-999.0000,9,  -999.00,9,   -999.0,9,-999.000,9,  -999.00,9,   -999.0,0,   -999.0,9,   -999.0,9,  -999.00,9,  -999.0,-999.0000,-999.000,-999.000,  1.7791,-999.000,9
      06MT22_5,   A10,    85,  2,    308,2,19930124,1622,-29.7460,   7.6210, 5200,   4007.0,   1.7930,  34.8040,2,  34.8040,2,    225.8,2,    77.10,2,    28.10,9,     1.83,2,    0.000,2,    0.000,2,    0.017,2,    0.024,2,-999.0000,1,  -999.00,1,   -999.0,9,-999.000,1,  -999.00,9,   2225.6,2,   -999.0,9,   -999.0,9,  -999.00,9,  -999.0,-999.0000,-999.000,-999.000,  1.4643,   0.016,9
      06MT22_5,   A10,    85,  2,    307,2,19930124,1622,-29.7460,   7.6210, 5200,   4250.0,   1.4210,  34.7670,2,-999.0000,9,    222.1,2,    92.11,2,    30.05,9,     2.01,2, -999.000,9, -999.000,9, -999.000,9,    0.016,2,-999.0000,1,  -999.00,1,   -999.0,9,-999.000,1,  -999.00,9,   2240.3,2,   -999.0,9,   -999.0,9,  -999.00,9,  -999.0,-999.0000,-999.000,-999.000,  1.0765,   0.011,9
      06MT22_5,   A10,    85,  2,    306,2,19930124,1622,-29.7460,   7.6210, 5200,   4507.0,   1.2210,  34.7460,2,-999.0000,9,    218.5,2,   100.45,2,    31.05,9,     2.09,2,    0.000,2,    0.001,2,    0.037,2,    0.051,3,   1.8569,2,     7.21,2,   -999.0,9,   8.108,2,  -999.00,9,   2246.9,2,   -999.0,9,   -999.0,9,  -999.00,9,  -999.0,  0.0065,   0.250,   0.028,  0.8536,   0.025,9
      06MT22_5,   A10,    85,  2,    305,2,19930124,1622,-29.7460,   7.6210, 5200,   4758.0,   1.1590,  34.7390,2,  34.7370,2,    220.4,2,   104.09,2,    31.39,9,     2.10,2, -999.000,9, -999.000,9, -999.000,9,    0.009,2,   1.8662,5,     8.07,3,   -999.0,9,   8.153,5,  -999.00,9,   -999.0,0,   -999.0,9,   -999.0,9,  -999.00,9,  -999.0,  0.0075,   0.250,   0.033,  0.7646,   0.002,9
      06MT22_5,   A10,    85,  2,    304,2,19930124,1622,-29.7460,   7.6210, 5200,   5009.0,   1.1610,  34.7360,2,-999.0000,9,    219.4,2,   105.50,2,    31.58,9,     2.12,2,    0.005,2,    0.001,2,    0.057,2,    0.009,2,   1.8961,4,     7.35,3,   -999.0,9,   8.197,4,  -999.00,9,   -999.0,0,   -999.0,9,   -999.0,9,  -999.00,9,  -999.0,  0.0066,   0.500,   0.029,  0.7368,   0.003,9
      06MT22_5,   A10,    85,  2,    303,2,19930124,1622,-29.7460,   7.6210, 5200,   5118.0,   1.1640,  34.7350,2,-999.0000,9,    219.5,2,   105.68,2,    31.65,9,     2.10,2, -999.000,9, -999.000,9, -999.000,9,    0.013,2,   1.9390,4,     6.16,3,   -999.0,9,   8.157,7,  -999.00,9,   2251.4,2,   -999.0,9,   -999.0,9,  -999.00,9,  -999.0,  0.0068,   0.250,   0.029,  0.7266,   0.002,9
      06MT22_5,   A10,    85,  2,    301,2,19930124,1622,-29.7460,   7.6210, 5200,   5194.0,   1.1680,  34.7340,2,-999.0000,9,    219.1,2,   105.88,2,    31.75,9,     2.13,2,    0.007,2,    0.001,2,    0.068,2,    0.003,2,-999.0000,1,  -999.00,1,   -999.0,9,-999.000,1,  -999.00,9,   2252.0,2,   -999.0,9,   -999.0,9,  -999.00,9,  -999.0,-999.0000,-999.000,-999.000,  0.7139,   0.019,9
      06MT22_5,   A10,    85,  2,    302,2,19930124,1622,-29.7460,   7.6210, 5200,   5197.0,   1.1680,  34.7340,2,  34.7340,2,   -999.0,9,  -999.00,9,  -999.00,9,  -999.00,9,    0.005,2,    0.000,2,    0.063,2,    0.019,2,-999.0000,1,  -999.00,1,   -999.0,9,-999.000,1,  -999.00,9,   -999.0,0,   -999.0,9,   -999.0,9,  -999.00,9,  -999.0,-999.0000,-999.000,-999.000,  0.7208,   0.002,9
      06MT22_5,   A10,    86,  1,    217,2,19930125,0110,-29.7457,   8.4653, 5091,     12.0,  21.8370,  35.5460,2,-999.0000,9,    226.0,2,     1.46,2,     0.05,9,     0.20,2, -999.000,9, -999.000,9, -999.000,9, -999.000,9,-999.0000,9,  -999.00,9,   -999.0,9,-999.000,9,  -999.00,9,   -999.0,9,   -999.0,9,   -999.0,9,  -999.00,9,  -999.0,-999.0000,-999.000,-999.000, 21.8346,-999.000,9
      06MT22_5,   A10,    86,  1,    216,2,19930125,0110,-29.7457,   8.4653, 5091,     12.0,  21.8370,  35.5460,2,-999.0000,9,   -999.0,9,  -999.00,9,  -999.00,9,  -999.00,9, -999.000,9, -999.000,9, -999.000,9, -999.000,9,-999.0000,9,  -999.00,9,   -999.0,9,-999.000,9,  -999.00,9,   -999.0,9,   -999.0,9,   -999.0,9,  -999.00,9,  -999.0,-999.0000,-999.000,-999.000, 21.8346,-999.000,9
      06MT22_5,   A10,    86,  1,    215,2,19930125,0110,-29.7457,   8.4653, 5091,     12.0,  21.8340,  35.5460,2,-999.0000,9,   -999.0,9,  -999.00,9,  -999.00,9,  -999.00,9,    2.117,2,    1.176,2,    2.712,2, -999.000,9,-999.0000,9,  -999.00,9,   -999.0,9,-999.000,9,  -999.00,9,   -999.0,9,   -999.0,9,   -999.0,9,  -999.00,9,  -999.0,-999.0000,-999.000,-999.000, 21.8316,-999.000,9
      06MT22_5,   A10,    86,  1,    214,2,19930125,0110,-29.7457,   8.4653, 5091,     32.0,  21.8350,  35.5480,2,  35.5480,2,    227.3,2,     1.37,2,     0.00,9,     0.20,2,    2.143,2,    1.192,2,    2.677,2, -999.000,9,-999.0000,9,  -999.00,9,   -999.0,9,-999.000,9,  -999.00,9,   -999.0,9,   -999.0,9,   -999.0,9,  -999.00,9,  -999.0,-999.0000,-999.000,-999.000, 21.8287,-999.000,9
      06MT22_5,   A10,    86,  1,    213,2,19930125,0110,-29.7457,   8.4653, 5091,     52.0,  20.2790,  35.5440,2,-999.0000,9,    245.6,2,     1.18,2,     0.01,9,     0.16,2, -999.000,9, -999.000,9, -999.000,9, -999.000,9,-999.0000,9,  -999.00,9,   -999.0,9,-999.000,9,  -999.00,9,   -999.0,9,   -999.0,9,   -999.0,9,  -999.00,9,  -999.0,-999.0000,-999.000,-999.000, 20.2693,-999.000,9
      06MT22_5,   A10,    86,  1,    212,2,19930125,0110,-29.7457,   8.4653, 5091,     71.0,  18.5390,  35.4770,2,-999.0000,9,    247.2,2,     1.22,2,     0.11,9,     0.20,2,    2.537,2,    1.391,2,    2.347,2, -999.000,9,-999.0000,9,  -999.00,9,   -999.0,9,-999.000,9,  -999.00,9,   -999.0,9,   -999.0,9,   -999.0,9,  -999.00,9,  -999.0,-999.0000,-999.000,-999.000, 18.5266,-999.000,9
      06MT22_5,   A10,    86,  1,    211,2,19930125,0110,-29.7457,   8.4653, 5091,    102.0,  16.3170,  35.4160,2,-999.0000,9,    230.9,2,     2.37,2,     3.79,9,     0.38,2,    2.666,2,    1.438,2,    1.508,2, -999.000,9,-999.0000,9,  -999.00,9,   -999.0,9,-999.000,9,  -999.00,9,   -999.0,9,   -999.0,9,   -999.0,9,  -999.00,9,  -999.0,-999.0000,-999.000,-999.000, 16.3006,-999.000,9
      06MT22_5,   A10,    86,  1,    210,2,19930125,0110,-29.7457,   8.4653, 5091,    151.0,  14.5710,  35.3010,2,  35.2800,2,    225.6,2,     3.46,2,     7.45,9,     0.58,2, -999.000,9, -999.000,9, -999.000,9, -999.000,9,-999.0000,9,  -999.00,9,   -999.0,9,-999.000,9,  -999.00,9,   -999.0,9,   -999.0,9,   -999.0,9,  -999.00,9,  -999.0,-999.0000,-999.000,-999.000, 14.5486,-999.000,9
      06MT22_5,   A10,    86,  1,    209,2,19930125,0110,-29.7457,   8.4653, 5091,    201.0,  12.5240,  35.0590,2,-999.0000,9,    208.2,2,     5.72,2,    12.99,9,     0.92,2,    2.348,2,    1.224,2,    1.064,2, -999.000,9,-999.0000,9,  -999.00,9,   -999.0,9,-999.000,9,  -999.00,9,   -999.0,9,   -999.0,9,   -999.0,9,  -999.00,9,  -999.0,-999.0000,-999.000,-999.000, 12.4972,-999.000,9
      06MT22_5,   A10,    86,  1,    208,2,19930125,0110,-29.7457,   8.4653, 5091,    301.0,  10.3410,  34.8280,2,-999.0000,9,    202.5,2,     7.74,2,    17.80,9,     1.19,2, -999.000,9, -999.000,9, -999.000,9, -999.000,9,-999.0000,9,  -999.00,9,   -999.0,9,-999.000,9,  -999.00,9,   -999.0,9,   -999.0,9,   -999.0,9,  -999.00,9,  -999.0,-999.0000,-999.000,-999.000, 10.3054,-999.000,9
      06MT22_5,   A10,    86,  1,    207,2,19930125,0110,-29.7457,   8.4653, 5091,    401.0,   8.5630,  34.6440,2,-999.0000,9,    200.0,2,    11.49,2,    22.53,9,     1.51,2,    1.759,2,    0.900,2,    1.475,2, -999.000,9,-999.0000,9,  -999.00,9,   -999.0,9,-999.000,9,  -999.00,9,   -999.0,9,   -999.0,9,   -999.0,9,  -999.00,9,  -999.0,-999.0000,-999.000,-999.000,  8.5205,-999.000,9
      06MT22_5,   A10,    86,  1,    206,2,19930125,0110,-29.7457,   8.4653, 5091,    500.0,   6.7680,  34.4880,2,  34.4830,2,    199.9,2,    17.93,2,    26.99,9,     1.79,2, -999.000,9, -999.000,9, -999.000,9, -999.000,9,-999.0000,9,  -999.00,9,   -999.0,9,-999.000,9,  -999.00,9,   -999.0,9,   -999.0,9,   -999.0,9,  -999.00,9,  -999.0,-999.0000,-999.000,-999.000,  6.7214,-999.000,9
      06MT22_5,   A10,    86,  1,    205,2,19930125,0110,-29.7457,   8.4653, 5091,    601.0,   5.3580,  34.3910,2,-999.0000,9,    214.6,2,    23.98,2,    29.14,9,     1.94,2,    1.453,2,    0.715,2,    2.227,2, -999.000,9,-999.0000,9,  -999.00,9,   -999.0,9,-999.000,9,  -999.00,9,   -999.0,9,   -999.0,9,   -999.0,9,  -999.00,9,  -999.0,-999.0000,-999.000,-999.000,  5.3081,-999.000,9
      06MT22_5,   A10,    86,  1,    204,2,19930125,0110,-29.7457,   8.4653, 5091,    699.0,   4.5440,  34.3650,2,-999.0000,9,    212.7,2,    30.53,2,    31.04,9,     2.06,2, -999.000,9, -999.000,9, -999.000,9, -999.000,9,-999.0000,9,  -999.00,9,   -999.0,9,-999.000,9,  -999.00,9,   -999.0,9,   -999.0,9,   -999.0,9,  -999.00,9,  -999.0,-999.0000,-999.000,-999.000,  4.4899,-999.000,9
      06MT22_5,   A10,    86,  1,    203,2,19930125,0110,-29.7457,   8.4653, 5091,    800.0,   3.8290,  34.3620,2,-999.0000,9,    207.5,2,    37.43,2,    32.64,9,     2.17,2,    0.908,2,    0.438,2,    1.798,2, -999.000,9,-999.0000,9,  -999.00,9,   -999.0,9,-999.000,9,  -999.00,9,   -999.0,9,   -999.0,9,   -999.0,9,  -999.00,9,  -999.0,-999.0000,-999.000,-999.000,  3.7709,-999.000,9
      06MT22_5,   A10,    86,  1,    202,2,19930125,0110,-29.7457,   8.4653, 5091,    898.0,   3.4450,  34.3980,2,  34.3960,2,    197.0,2,    45.07,2,    33.64,9,     2.26,2,    0.583,2,    0.285,2,    1.334,2, -999.000,9,-999.0000,9,  -999.00,9,   -999.0,9,-999.000,9,  -999.00,9,   -999.0,9,   -999.0,9,   -999.0,9,  -999.00,9,  -999.0,-999.0000,-999.000,-999.000,  3.3818,-999.000,9
      06MT22_5,   A10,    86,  1,    201,2,19930125,0110,-29.7457,   8.4653, 5091,   1000.0,   3.1100,  34.4510,2,-999.0000,9,    190.0,2,    52.53,2,    34.92,9,     2.29,2,    0.363,2,    0.193,2,    0.945,2, -999.000,9,-999.0000,9,  -999.00,9,   -999.0,9,-999.000,9,  -999.00,9,   -999.0,9,   -999.0,9,   -999.0,9,  -999.00,9,  -999.0,-999.0000,-999.000,-999.000,  3.0393,-999.000,9