BOTTLE,20030417WHPSIOSA
EXPOCODE,SECT_ID,STNNBR,CASTNO,BTLNBR,BTLNBR_FLAG_W,DATE,TIME,LATITUDE,LONGITUDE,DEPTH,CTDPRS,CTDTMP,CTDSAL,CTDSAL_FLAG_W,SALNTY,SALNTY_FLAG_W,OXYGEN,OXYGEN_FLAG_W,SILCAT,SILCAT_FLAG_W,NO2+NO3,NO2+NO3_FLAG_W,PHSPHT,PHSPHT_FLAG_W,CFC-11,CFC-11_FLAG_W,CFC-12,CFC-12_FLAG_W,CCL4,CCL4_FLAG_W,TRITUM,TRITUM_FLAG_W,HELIUM,HELIUM_FLAG_W,DELHE3,DELHE3_FLAG_W,DELC14,DELC14_FLAG_W,NEON,NEON_FLAG_W,O18O16,O18O16_FLAG_W,TCARBN,TCARBN_FLAG_W,PCO2,PCO2_FLAG_W,ALKALI,ALKALI_FLAG_W,PH,PH_FLAG_W,C14ERR,HELIER,DELHER,NEONER,THETA,TRITER,TRITER_FLAG_W
,,,,,,,,,,,DBAR,ITS-90,PSS-78,,PSS-78,,UMOL/KG,,UMOL/KG,,UMOL/KG,,UMOL/KG,,PMOL/KG,,PMOL/KG,,PMOL/KG,,TU,,NMOL/KG,,PERCNT,,/MILLE,,NMOL/KG,,MILLE,,UMOL/KG,,UATM,,UMOL/KG,,,,/MILLE,NMOL/KG,PERCNT,NMOL/KG,ITS-90,TU,
      06MT22_5,   A10,    51,  2,    324,2,19930114,1703,-30.0022, -16.3332, 3698,     10.0,  24.1380,  35.7410,2,-999.0000,9,   -999.0,9,  -999.00,9,  -999.00,9,  -999.00,9, -999.000,9, -999.000,9, -999.000,9, -999.000,9,-999.0000,9,  -999.00,9,   -999.0,9,-999.000,9,  -999.00,9,   -999.0,0,   -999.0,9,   -999.0,9,  -999.00,9,  -999.0,-999.0000,-999.000,-999.000, 24.1359,-999.000,9
      06MT22_5,   A10,    51,  2,    321,2,19930114,1703,-30.0022, -16.3332, 3698,     10.0,  24.2280,  35.7400,2,  35.7500,2,   -999.0,9,  -999.00,9,  -999.00,9,  -999.00,9, -999.000,9, -999.000,9, -999.000,9, -999.000,9,-999.0000,9,  -999.00,9,   -999.0,9,-999.000,9,  -999.00,9,   -999.0,0,   -999.0,9,   -999.0,9,  -999.00,9,  -999.0,-999.0000,-999.000,-999.000, 24.2259,-999.000,9
      06MT22_5,   A10,    51,  2,    320,2,19930114,1703,-30.0022, -16.3332, 3698,    399.0,  10.6550,  34.8860,2,-999.0000,9,    215.3,2,     4.96,2,    15.17,9,     1.08,2, -999.000,9, -999.000,9, -999.000,9, -999.000,9,-999.0000,9,  -999.00,9,   -999.0,9,-999.000,9,  -999.00,9,   -999.0,0,   -999.0,9,   -999.0,9,  -999.00,9,  -999.0,-999.0000,-999.000,-999.000, 10.6067,-999.000,9
      06MT22_5,   A10,    51,  2,    319,2,19930114,1703,-30.0022, -16.3332, 3698,    500.0,   8.8980,  34.6770,2,-999.0000,9,    208.2,2,     9.31,2,    20.29,9,     1.40,2, -999.000,9, -999.000,9, -999.000,9, -999.000,9,-999.0000,9,  -999.00,9,   -999.0,9,-999.000,9,  -999.00,9,   -999.0,0,   -999.0,9,   -999.0,9,  -999.00,9,  -999.0,-999.0000,-999.000,-999.000,  8.8436,-999.000,9
      06MT22_5,   A10,    51,  2,    318,2,19930114,1703,-30.0022, -16.3332, 3698,    600.0,   7.0120,  34.4820,2,-999.0000,9,    214.2,2,    12.08,2,    24.82,9,     1.72,2, -999.000,9, -999.000,9, -999.000,9, -999.000,9,-999.0000,9,  -999.00,9,   -999.0,9,-999.000,9,  -999.00,9,   -999.0,0,   -999.0,9,   -999.0,9,  -999.00,9,  -999.0,-999.0000,-999.000,-999.000,  6.9547,-999.000,9
      06MT22_5,   A10,    51,  2,    317,2,19930114,1703,-30.0022, -16.3332, 3698,    699.0,   5.7870,  34.3760,2,-999.0000,9,    221.5,2,    15.83,2,    27.39,9,     1.88,2, -999.000,9, -999.000,9, -999.000,9, -999.000,9,-999.0000,9,  -999.00,9,   -999.0,9,-999.000,9,  -999.00,9,   -999.0,0,   -999.0,9,   -999.0,9,  -999.00,9,  -999.0,-999.0000,-999.000,-999.000,  5.7263,-999.000,9
      06MT22_5,   A10,    51,  2,    316,2,19930114,1703,-30.0022, -16.3332, 3698,    849.0,   4.4030,  34.3190,2,  34.3240,2,    220.3,2,    25.25,2,    30.36,9,     2.13,2, -999.000,9, -999.000,9, -999.000,9, -999.000,9,-999.0000,9,  -999.00,9,   -999.0,9,-999.000,9,  -999.00,9,   -999.0,0,   -999.0,9,   -999.0,9,  -999.00,9,  -999.0,-999.0000,-999.000,-999.000,  4.3373,-999.000,9
      06MT22_5,   A10,    51,  2,    315,2,19930114,1703,-30.0022, -16.3332, 3698,   1000.0,   3.6660,  34.3310,2,-999.0000,9,   -999.0,9,  -999.00,9,  -999.00,9,  -999.00,9, -999.000,9, -999.000,9, -999.000,9, -999.000,9,-999.0000,9,  -999.00,9,   -999.0,9,-999.000,9,  -999.00,9,   -999.0,0,   -999.0,9,   -999.0,9,  -999.00,9,  -999.0,-999.0000,-999.000,-999.000,  3.5926,-999.000,9
      06MT22_5,   A10,    51,  2,    314,2,19930114,1703,-30.0022, -16.3332, 3698,   1200.0,   3.0460,  34.4540,2,-999.0000,9,    195.5,2,    49.67,2,    33.44,9,     2.30,2, -999.000,9, -999.000,9, -999.000,9, -999.000,9,-999.0000,9,  -999.00,9,   -999.0,9,-999.000,9,  -999.00,9,   -999.0,0,   -999.0,9,   -999.0,9,  -999.00,9,  -999.0,-999.0000,-999.000,-999.000,  2.9618,-999.000,9
      06MT22_5,   A10,    51,  2,    313,2,19930114,1703,-30.0022, -16.3332, 3698,   1400.0,   2.8270,  34.5970,2,-999.0000,9,    192.7,2,    55.89,2,    32.38,9,     2.22,2, -999.000,9, -999.000,9, -999.000,9, -999.000,9,-999.0000,9,  -999.00,9,   -999.0,9,-999.000,9,  -999.00,9,   -999.0,0,   -999.0,9,   -999.0,9,  -999.00,9,  -999.0,-999.0000,-999.000,-999.000,  2.7290,-999.000,9
      06MT22_5,   A10,    51,  2,    312,2,19930114,1703,-30.0022, -16.3332, 3698,   1599.0,   2.7750,  34.6940,2,  34.6960,2,    199.8,2,    55.06,2,    30.47,9,     2.07,2, -999.000,9, -999.000,9, -999.000,9, -999.000,9,-999.0000,9,  -999.00,9,   -999.0,9,-999.000,9,  -999.00,9,   -999.0,0,   -999.0,9,   -999.0,9,  -999.00,9,  -999.0,-999.0000,-999.000,-999.000,  2.6613,-999.000,9
      06MT22_5,   A10,    51,  2,    311,2,19930114,1703,-30.0022, -16.3332, 3698,   1800.0,   2.7200,  34.7630,2,-999.0000,9,    211.4,2,    52.33,2,    28.39,9,     1.92,2, -999.000,9, -999.000,9, -999.000,9, -999.000,9,-999.0000,9,  -999.00,9,   -999.0,9,-999.000,9,  -999.00,9,   -999.0,0,   -999.0,9,   -999.0,9,  -999.00,9,  -999.0,-999.0000,-999.000,-999.000,  2.5894,-999.000,9
      06MT22_5,   A10,    51,  2,    310,2,19930114,1703,-30.0022, -16.3332, 3698,   2000.0,   2.6570,  34.8030,2,-999.0000,9,   -999.0,9,  -999.00,9,  -999.00,9,  -999.00,9, -999.000,9, -999.000,9, -999.000,9, -999.000,9,-999.0000,9,  -999.00,9,   -999.0,9,-999.000,9,  -999.00,9,   -999.0,0,   -999.0,9,   -999.0,9,  -999.00,9,  -999.0,-999.0000,-999.000,-999.000,  2.5098,-999.000,9
      06MT22_5,   A10,    51,  2,    309,2,19930114,1703,-30.0022, -16.3332, 3698,   2251.0,   2.6060,  34.8340,2,-999.0000,9,    229.2,2,    48.19,2,    25.74,9,     1.72,2, -999.000,9, -999.000,9, -999.000,9, -999.000,9,-999.0000,9,  -999.00,9,   -999.0,9,-999.000,9,  -999.00,9,   -999.0,0,   -999.0,9,   -999.0,9,  -999.00,9,  -999.0,-999.0000,-999.000,-999.000,  2.4369,-999.000,9
      06MT22_5,   A10,    51,  2,    308,2,19930114,1703,-30.0022, -16.3332, 3698,   2550.0,   2.5970,  34.8570,2,-999.0000,9,    235.7,2,    45.73,2,    24.60,9,     1.64,2, -999.000,9, -999.000,9, -999.000,9, -999.000,9,-999.0000,9,  -999.00,9,   -999.0,9,-999.000,9,  -999.00,9,   -999.0,0,   -999.0,9,   -999.0,9,  -999.00,9,  -999.0,-999.0000,-999.000,-999.000,  2.4000,-999.000,9
      06MT22_5,   A10,    51,  2,    307,2,19930114,1703,-30.0022, -16.3332, 3698,   2751.0,   2.5770,  34.8660,2,  34.8690,2,    238.7,2,    45.04,2,    24.14,9,     1.61,2, -999.000,9, -999.000,9, -999.000,9, -999.000,9,-999.0000,9,  -999.00,9,   -999.0,9,-999.000,9,  -999.00,9,   -999.0,0,   -999.0,9,   -999.0,9,  -999.00,9,  -999.0,-999.0000,-999.000,-999.000,  2.3608,-999.000,9
      06MT22_5,   A10,    51,  2,    306,2,19930114,1703,-30.0022, -16.3332, 3698,   3002.0,   2.5330,  34.8790,2,-999.0000,9,    243.5,2,    44.42,2,    23.58,9,     1.56,2, -999.000,9, -999.000,9, -999.000,9, -999.000,9,-999.0000,9,  -999.00,9,   -999.0,9,-999.000,9,  -999.00,9,   -999.0,0,   -999.0,9,   -999.0,9,  -999.00,9,  -999.0,-999.0000,-999.000,-999.000,  2.2925,-999.000,9
      06MT22_5,   A10,    51,  2,    305,2,19930114,1703,-30.0022, -16.3332, 3698,   3254.0,   2.3670,  34.8680,2,-999.0000,9,    244.7,2,    49.29,2,    24.13,9,     1.60,2, -999.000,9, -999.000,9, -999.000,9, -999.000,9,-999.0000,9,  -999.00,9,   -999.0,9,-999.000,9,  -999.00,9,   -999.0,0,   -999.0,9,   -999.0,9,  -999.00,9,  -999.0,-999.0000,-999.000,-999.000,  2.1043,-999.000,9
      06MT22_5,   A10,    51,  2,    304,2,19930114,1703,-30.0022, -16.3332, 3698,   3511.0,   2.1510,  34.8550,2,  34.8570,2,    242.9,2,    56.20,2,    24.81,9,     1.63,2, -999.000,9, -999.000,9, -999.000,9, -999.000,9,-999.0000,9,  -999.00,9,   -999.0,9,-999.000,9,  -999.00,9,   -999.0,0,   -999.0,9,   -999.0,9,  -999.00,9,  -999.0,-999.0000,-999.000,-999.000,  1.8664,-999.000,9
      06MT22_5,   A10,    51,  2,    303,2,19930114,1703,-30.0022, -16.3332, 3698,   3659.0,   2.1460,  34.8530,2,-999.0000,9,    242.8,2,    56.66,2,    24.81,9,     1.64,2, -999.000,9, -999.000,9, -999.000,9, -999.000,9,-999.0000,9,  -999.00,9,   -999.0,9,-999.000,9,  -999.00,9,   -999.0,0,   -999.0,9,   -999.0,9,  -999.00,9,  -999.0,-999.0000,-999.000,-999.000,  1.8456,-999.000,9
      06MT22_5,   A10,    51,  2,    301,2,19930114,1703,-30.0022, -16.3332, 3698,   3736.0,   2.1240,  34.8500,2,-999.0000,9,   -999.0,9,  -999.00,9,  -999.00,9,  -999.00,9, -999.000,9, -999.000,9, -999.000,9, -999.000,9,-999.0000,9,  -999.00,9,   -999.0,9,-999.000,9,  -999.00,9,   -999.0,0,   -999.0,9,   -999.0,9,  -999.00,9,  -999.0,-999.0000,-999.000,-999.000,  1.8106,-999.000,9
      06MT22_5,   A10,    51,  2,    302,2,19930114,1703,-30.0022, -16.3332, 3698,   3739.0,   2.1240,  34.8510,2,  34.8530,2,    242.8,2,    57.65,2,    24.94,9,     1.65,2, -999.000,9, -999.000,9, -999.000,9, -999.000,9,-999.0000,9,  -999.00,9,   -999.0,9,-999.000,9,  -999.00,9,   -999.0,0,   -999.0,9,   -999.0,9,  -999.00,9,  -999.0,-999.0000,-999.000,-999.000,  1.8155,-999.000,9
      06MT22_5,   A10,    52,  1,    324,2,19930115,0002,-30.0000, -15.6625, 3283,     13.0,  22.8980,  35.7000,2,  35.6980,2,    224.8,2,     0.47,2,     0.00,9,     0.10,2,    2.102,2,    1.135,2,    2.565,2, -999.000,9,-999.0000,9,  -999.00,9,   -999.0,9,-999.000,9,  -999.00,9,   2048.3,2,   -999.0,9,   2347.7,2,  -999.00,9,  -999.0,-999.0000,-999.000,-999.000, 22.8953,-999.000,9
      06MT22_5,   A10,    52,  1,    323,2,19930115,0002,-30.0000, -15.6625, 3283,     50.0,  18.1760,  35.5680,2,-999.0000,9,    250.7,2,     0.42,2,     0.04,9,     0.12,2,    2.539,2,    1.333,2,    2.627,2, -999.000,9,-999.0000,1,  -999.00,1,   -999.0,9,-999.000,1,  -999.00,9,   2049.1,2,   -999.0,9,   2341.3,2,  -999.00,9,  -999.0,-999.0000,-999.000,-999.000, 18.1674,-999.000,9
      06MT22_5,   A10,    52,  1,    322,2,19930115,0002,-30.0000, -15.6625, 3283,     71.0,  17.1450,  35.5720,2,-999.0000,9,    249.3,2,     0.52,2,     0.02,9,     0.14,2,    2.570,2,    1.354,2,    2.469,2, -999.000,9,-999.0000,9,  -999.00,9,   -999.0,9,-999.000,9,  -999.00,9,   2052.6,2,   -999.0,9,   2345.3,2,  -999.00,9,  -999.0,-999.0000,-999.000,-999.000, 17.1332,-999.000,9
      06MT22_5,   A10,    52,  1,    321,2,19930115,0002,-30.0000, -15.6625, 3283,    100.0,  16.2730,  35.5140,2,-999.0000,9,    243.7,2,     0.84,2,     0.09,9,     0.16,2,    2.573,2,    1.344,2,    2.336,2, -999.000,9,   1.7543,7,    -0.86,2,   -999.0,9,   7.175,7,  -999.00,9,   2059.2,2,   -999.0,9,   2339.3,2,  -999.00,9,  -999.0,  0.0070,   0.250,   0.029, 16.2570,-999.000,9
      06MT22_5,   A10,    52,  1,    320,2,19930115,0002,-30.0000, -15.6625, 3283,    149.0,  15.2500,  35.3900,2,  35.3740,2,    227.1,2,     1.54,2,     1.34,9,     0.32,2, -999.000,9, -999.000,9, -999.000,9, -999.000,9,-999.0000,9,  -999.00,9,   -999.0,9,-999.000,9,  -999.00,9,   2074.7,2,   -999.0,9,   2330.3,2,  -999.00,9,  -999.0,-999.0000,-999.000,-999.000, 15.2271,-999.000,9
      06MT22_5,   A10,    52,  1,    319,2,19930115,0002,-30.0000, -15.6625, 3283,    200.0,  14.2560,  35.2880,2,-999.0000,9,    217.0,2,     2.34,2,     6.30,9,     0.49,2,    2.514,2,    1.296,2,    1.025,2, -999.000,9,   1.7355,2,     0.17,2,   -999.0,9,   7.234,2,  -999.00,9,   2087.6,2,   -999.0,9,   2327.4,2,  -999.00,9,  -999.0,  0.0069,   0.250,   0.029, 14.2268,-999.000,9
      06MT22_5,   A10,    52,  1,    318,2,19930115,0002,-30.0000, -15.6625, 3283,    300.0,  12.7190,  35.1500,2,-999.0000,9,    216.7,2,     3.37,2,     9.93,9,     0.74,2,    2.379,2,    1.209,2,    0.914,2, -999.000,9,-999.0000,9,  -999.00,9,   -999.0,9,-999.000,9,  -999.00,9,   2102.1,2,   -999.0,9,   2317.0,2,  -999.00,9,  -999.0,-999.0000,-999.000,-999.000, 12.6783,-999.000,9
      06MT22_5,   A10,    52,  1,    317,2,19930115,0002,-30.0000, -15.6625, 3283,    399.0,  10.9480,  34.9290,2,-999.0000,9,    210.7,2,     5.65,2,    14.91,9,     1.01,2,    2.069,2,    1.024,2,    1.067,2, -999.000,9,   1.7230,2,     0.53,2,   -999.0,9,   7.341,2,  -999.00,9,   2118.9,2,   -999.0,9,   2307.5,2,  -999.00,9,  -999.0,  0.0069,   0.250,   0.029, 10.8987,-999.000,9
      06MT22_5,   A10,    52,  1,    316,2,19930115,0002,-30.0000, -15.6625, 3283,    499.0,   9.0390,  34.6990,2,  34.6900,2,    203.9,2,     9.20,2,    20.26,9,     1.39,2,    1.708,2,    0.824,2,    1.322,2, -999.000,9,-999.0000,9,  -999.00,9,   -999.0,9,-999.000,9,  -999.00,9,   2138.5,2,   -999.0,9,   2299.5,2,  -999.00,9,  -999.0,-999.0000,-999.000,-999.000,  8.9839,-999.000,9
      06MT22_5,   A10,    52,  1,    315,2,19930115,0002,-30.0000, -15.6625, 3283,    599.0,   7.2830,  34.5170,2,-999.0000,9,    210.1,2,    12.84,2,    24.32,9,     1.65,2,    1.577,2,    0.753,2,    1.781,2, -999.000,9,-999.0000,1,  -999.00,1,   -999.0,9,-999.000,1,  -999.00,9,   2151.0,2,   -999.0,9,   2289.4,2,  -999.00,9,  -999.0,-999.0000,-999.000,-999.000,  7.2246,-999.000,9
      06MT22_5,   A10,    52,  1,    314,2,19930115,0002,-30.0000, -15.6625, 3283,    700.0,   5.7590,  34.3880,2,-999.0000,9,    217.3,2,    17.07,2,    27.19,9,     1.83,2,    1.423,2,    0.670,2,    2.114,2, -999.000,9,-999.0000,9,  -999.00,9,   -999.0,9,-999.000,9,  -999.00,9,   2160.9,2,   -999.0,9,   2290.4,2,  -999.00,9,  -999.0,-999.0000,-999.000,-999.000,  5.6984,-999.000,9
      06MT22_5,   A10,    52,  1,    313,2,19930115,0002,-30.0000, -15.6625, 3283,    849.0,   4.2740,  34.3110,2,  34.3100,2,    221.9,2,    26.60,2,    29.99,9,     2.06,2,    1.080,2,    0.504,2,    2.132,2, -999.000,9,-999.0000,1,  -999.00,1,   -999.0,9,-999.000,1,  -999.00,9,   2178.0,2,   -999.0,9,   2295.3,2,  -999.00,9,  -999.0,-999.0000,-999.000,-999.000,  4.2092,-999.000,9
      06MT22_5,   A10,    52,  1,    312,2,19930115,0002,-30.0000, -15.6625, 3283,   1000.0,   3.4800,  34.3430,2,-999.0000,9,    210.6,2,    37.31,2,    32.01,9,     2.21,2,    0.663,2,    0.293,2,    1.594,2, -999.000,9,-999.0000,9,  -999.00,9,   -999.0,9,-999.000,9,  -999.00,9,   2197.2,2,   -999.0,9,   2305.2,2,  -999.00,9,  -999.0,-999.0000,-999.000,-999.000,  3.4082,-999.000,9
      06MT22_5,   A10,    52,  1,    311,2,19930115,0002,-30.0000, -15.6625, 3283,   1200.0,   3.0320,  34.4470,2,-999.0000,9,    196.4,2,    49.45,2,    32.93,9,     2.27,2,    0.281,2,    0.111,2,    0.861,2, -999.000,9,   1.9657,4,     4.46,3,   -999.0,9,   8.345,4,  -999.00,9,   2217.3,2,   -999.0,9,   2316.0,2,  -999.00,9,  -999.0,  0.0079,   0.250,   0.033,  2.9482,-999.000,9
      06MT22_5,   A10,    52,  1,    310,2,19930115,0002,-30.0000, -15.6625, 3283,   1400.0,   2.8780,  34.5780,2,  34.5820,2,    191.8,2,    54.94,2,    32.13,9,     2.21,2,    0.110,2,    0.025,2,    0.356,2, -999.000,9,-999.0000,9,  -999.00,9,   -999.0,9,-999.000,9,  -999.00,9,   2224.5,2,   -999.0,9,   2325.9,2,  -999.00,9,  -999.0,-999.0000,-999.000,-999.000,  2.7797,-999.000,9
      06MT22_5,   A10,    52,  1,    309,2,19930115,0002,-30.0000, -15.6625, 3283,   1600.0,   2.7750,  34.6860,2,-999.0000,9,    199.6,2,    54.95,2,    30.07,9,     2.04,2,    0.023,2,    0.004,2,    0.169,2, -999.000,9,   1.8091,7,     7.02,2,   -999.0,9,   7.869,7,  -999.00,9,   2220.5,2,   -999.0,9,   2328.9,2,  -999.00,9,  -999.0,  0.0072,   0.500,   0.032,  2.6609,-999.000,9
      06MT22_5,   A10,    52,  1,    308,2,19930115,0002,-30.0000, -15.6625, 3283,   1800.0,   2.7000,  34.7580,2,-999.0000,9,    210.5,2,    52.79,2,    28.16,9,     1.92,2,    0.007,2,    0.000,2,    0.072,2, -999.000,9,-999.0000,9,  -999.00,9,   -999.0,9,-999.000,9,  -999.00,9,   2212.0,2,   -999.0,9,   2333.8,2,  -999.00,9,  -999.0,-999.0000,-999.000,-999.000,  2.5699,-999.000,9
      06MT22_5,   A10,    52,  1,    307,2,19930115,0002,-30.0000, -15.6625, 3283,   2002.0,   2.6480,  34.7990,2,  34.8010,2,    219.1,2,    50.78,2,    26.76,9,     1.80,2,    0.004,2,    0.000,2,    0.049,2, -999.000,9,   2.0063,4,     6.30,3,   -999.0,9,   8.417,4,  -999.00,9,   2206.3,2,   -999.0,9,   2330.9,2,  -999.00,9,  -999.0,  0.0080,   0.250,   0.034,  2.5010,-999.000,9
      06MT22_5,   A10,    52,  1,    306,2,19930115,0002,-30.0000, -15.6625, 3283,   2250.0,   2.6090,  34.8300,2,-999.0000,9,    220.2,2,    50.70,2,    26.79,9,     1.81,2, -999.000,9, -999.000,9, -999.000,9, -999.000,9,-999.0000,9,  -999.00,9,   -999.0,9,-999.000,9,  -999.00,9,   2206.1,2,   -999.0,9,   2330.9,2,  -999.00,9,  -999.0,-999.0000,-999.000,-999.000,  2.4400,-999.000,9
      06MT22_5,   A10,    52,  1,    305,2,19930115,0002,-30.0000, -15.6625, 3283,   2502.0,   2.5950,  34.8550,2,-999.0000,9,    235.3,2,    45.70,2,    24.51,9,     1.60,2,   -0.001,2,    0.001,2,    0.000,2, -999.000,9,-999.0000,1,  -999.00,1,   -999.0,9,-999.000,1,  -999.00,9,   2192.7,2,   -999.0,9,   2330.9,2,  -999.00,9,  -999.0,-999.0000,-999.000,-999.000,  2.4026,-999.000,9
      06MT22_5,   A10,    52,  1,    304,2,19930115,0002,-30.0000, -15.6625, 3283,   2753.0,   2.5000,  34.8580,2,  34.8600,2,    239.3,2,    47.25,2,    24.23,9,     1.62,2,    0.001,2,    0.001,2,    0.002,2, -999.000,9,-999.0000,9,  -999.00,9,   -999.0,9,-999.000,9,  -999.00,9,   2194.1,2,   -999.0,9,   2330.9,2,  -999.00,9,  -999.0,-999.0000,-999.000,-999.000,  2.2851,-999.000,9
      06MT22_5,   A10,    52,  1,    303,2,19930115,0002,-30.0000, -15.6625, 3283,   3002.0,   2.3810,  34.8660,2,-999.0000,9,    243.4,2,    48.61,2,    23.96,9,     1.60,2,   -0.002,2,    0.001,2,   -0.001,2, -999.000,9,-999.0000,1,  -999.00,1,   -999.0,9,-999.000,1,  -999.00,9,   2193.1,2,   -999.0,9,   2335.8,2,  -999.00,9,  -999.0,-999.0000,-999.000,-999.000,  2.1438,-999.000,9
      06MT22_5,   A10,    52,  1,    302,2,19930115,0002,-30.0000, -15.6625, 3283,   3281.0,   2.2880,  34.8620,2,  34.8640,2,   -999.0,9,  -999.00,9,  -999.00,9,  -999.00,9, -999.000,9, -999.000,9, -999.000,9, -999.000,9,-999.0000,9,  -999.00,9,   -999.0,9,-999.000,9,  -999.00,9,   -999.0,9,   -999.0,9,   -999.0,9,  -999.00,9,  -999.0,-999.0000,-999.000,-999.000,  2.0243,-999.000,9
      06MT22_5,   A10,    52,  1,    301,2,19930115,0002,-30.0000, -15.6625, 3283,   3281.0,   2.2880,  34.8620,2,  34.8650,2,    242.4,2,    51.30,2,    24.24,9,     1.57,2,    0.003,2,    0.003,2,    0.005,2, -999.000,9,   1.8225,2,     5.10,2,   -999.0,9,   7.945,2,  -999.00,9,   2194.8,2,   -999.0,9,   2341.7,2,  -999.00,9,  -999.0,  0.0073,   0.250,   0.032,  2.0243,-999.000,9