BOTTLE,20030417WHPSIOSA
EXPOCODE,SECT_ID,STNNBR,CASTNO,BTLNBR,BTLNBR_FLAG_W,DATE,TIME,LATITUDE,LONGITUDE,DEPTH,CTDPRS,CTDTMP,CTDSAL,CTDSAL_FLAG_W,SALNTY,SALNTY_FLAG_W,OXYGEN,OXYGEN_FLAG_W,SILCAT,SILCAT_FLAG_W,NO2+NO3,NO2+NO3_FLAG_W,PHSPHT,PHSPHT_FLAG_W,CFC-11,CFC-11_FLAG_W,CFC-12,CFC-12_FLAG_W,CCL4,CCL4_FLAG_W,TRITUM,TRITUM_FLAG_W,HELIUM,HELIUM_FLAG_W,DELHE3,DELHE3_FLAG_W,DELC14,DELC14_FLAG_W,NEON,NEON_FLAG_W,O18O16,O18O16_FLAG_W,TCARBN,TCARBN_FLAG_W,PCO2,PCO2_FLAG_W,ALKALI,ALKALI_FLAG_W,PH,PH_FLAG_W,C14ERR,HELIER,DELHER,NEONER,THETA,TRITER,TRITER_FLAG_W
,,,,,,,,,,,DBAR,ITS-90,PSS-78,,PSS-78,,UMOL/KG,,UMOL/KG,,UMOL/KG,,UMOL/KG,,PMOL/KG,,PMOL/KG,,PMOL/KG,,TU,,NMOL/KG,,PERCNT,,/MILLE,,NMOL/KG,,MILLE,,UMOL/KG,,UATM,,UMOL/KG,,,,/MILLE,NMOL/KG,PERCNT,NMOL/KG,ITS-90,TU,
      06MT22_5,   A10,     8,  2,    324,2,19930103,0723,-29.8073, -40.5867, 3786,     10.0,  21.4450,  36.2250,2,-999.0000,9,   -999.0,9,  -999.00,9,  -999.00,9,  -999.00,9, -999.000,9, -999.000,9, -999.000,9, -999.000,9,-999.0000,9,  -999.00,9,   -999.0,9,-999.000,9,  -999.00,9,   -999.0,0,   -999.0,9,   -999.0,9,  -999.00,9,  -999.0,-999.0000,-999.000,-999.000, 21.4431,-999.000,9
      06MT22_5,   A10,     8,  2,    323,2,19930103,0723,-29.8073, -40.5867, 3786,     10.0,  21.4450,  36.2250,2,-999.0000,9,   -999.0,9,  -999.00,9,  -999.00,9,  -999.00,9, -999.000,9, -999.000,9, -999.000,9, -999.000,9,-999.0000,9,  -999.00,9,   -999.0,9,-999.000,9,  -999.00,9,   -999.0,0,   -999.0,9,   -999.0,9,  -999.00,9,  -999.0,-999.0000,-999.000,-999.000, 21.4431,-999.000,9
      06MT22_5,   A10,     8,  2,    322,2,19930103,0723,-29.8073, -40.5867, 3786,    301.0,  15.1980,  35.6130,2,  35.6140,2,   -999.0,9,  -999.00,9,  -999.00,9,  -999.00,9, -999.000,9, -999.000,9, -999.000,9, -999.000,9,-999.0000,9,  -999.00,9,   -999.0,9,-999.000,9,  -999.00,9,   -999.0,0,   -999.0,9,   -999.0,9,  -999.00,9,  -999.0,-999.0000,-999.000,-999.000, 15.1516,-999.000,9
      06MT22_5,   A10,     8,  2,    321,2,19930103,0723,-29.8073, -40.5867, 3786,    398.0,  13.0250,  35.2370,2,-999.0000,9,    212.6,2,     2.60,2,    10.61,9,     0.78,2, -999.000,9, -999.000,9, -999.000,9, -999.000,9,-999.0000,9,  -999.00,9,   -999.0,9,-999.000,9,  -999.00,9,   -999.0,0,   -999.0,9,   -999.0,9,  -999.00,9,  -999.0,-999.0000,-999.000,-999.000, 12.9698,-999.000,9
      06MT22_5,   A10,     8,  2,    320,2,19930103,0723,-29.8073, -40.5867, 3786,    498.0,  10.7490,  34.9060,2,  34.9140,2,    209.3,2,     4.78,2,    16.35,9,     1.14,2, -999.000,9, -999.000,9, -999.000,9, -999.000,9,-999.0000,9,  -999.00,9,   -999.0,9,-999.000,9,  -999.00,9,   -999.0,0,   -999.0,9,   -999.0,9,  -999.00,9,  -999.0,-999.0000,-999.000,-999.000, 10.6877,-999.000,9
      06MT22_5,   A10,     8,  2,    319,2,19930103,0723,-29.8073, -40.5867, 3786,    599.0,   8.4220,  34.6250,2,-999.0000,9,    211.4,2,     8.51,2,    21.91,9,     1.51,2, -999.000,9, -999.000,9, -999.000,9, -999.000,9,-999.0000,9,  -999.00,9,   -999.0,9,-999.000,9,  -999.00,9,   -999.0,0,   -999.0,9,   -999.0,9,  -999.00,9,  -999.0,-999.0000,-999.000,-999.000,  8.3586,-999.000,9
      06MT22_5,   A10,     8,  2,    318,2,19930103,0723,-29.8073, -40.5867, 3786,    699.0,   6.3050,  34.3930,2,-999.0000,9,   -999.0,9,  -999.00,9,  -999.00,9,  -999.00,9, -999.000,9, -999.000,9, -999.000,9, -999.000,9,-999.0000,9,  -999.00,9,   -999.0,9,-999.000,9,  -999.00,9,   -999.0,0,   -999.0,9,   -999.0,9,  -999.00,9,  -999.0,-999.0000,-999.000,-999.000,  6.2416,-999.000,9
      06MT22_5,   A10,     8,  2,    317,2,19930103,0723,-29.8073, -40.5867, 3786,    848.0,   4.6320,  34.2800,2,  34.2790,2,    243.3,2,    17.33,2,    28.21,9,     1.99,2, -999.000,9, -999.000,9, -999.000,9, -999.000,9,-999.0000,9,  -999.00,9,   -999.0,9,-999.000,9,  -999.00,9,   -999.0,0,   -999.0,9,   -999.0,9,  -999.00,9,  -999.0,-999.0000,-999.000,-999.000,  4.5650,-999.000,9
      06MT22_5,   A10,     8,  2,    316,2,19930103,0723,-29.8073, -40.5867, 3786,   1000.0,   3.7600,  34.2800,2,-999.0000,9,    230.3,2,    26.62,2,    30.70,9,     2.24,2, -999.000,9, -999.000,9, -999.000,9, -999.000,9,-999.0000,9,  -999.00,9,   -999.0,9,-999.000,9,  -999.00,9,   -999.0,0,   -999.0,9,   -999.0,9,  -999.00,9,  -999.0,-999.0000,-999.000,-999.000,  3.6862,-999.000,9
      06MT22_5,   A10,     8,  2,    315,2,19930103,0723,-29.8073, -40.5867, 3786,   1199.0,   3.1940,  34.3830,2,-999.0000,9,    206.0,2,    41.39,2,    32.83,9,     2.41,2, -999.000,9, -999.000,9, -999.000,9, -999.000,9,-999.0000,9,  -999.00,9,   -999.0,9,-999.000,9,  -999.00,9,   -999.0,0,   -999.0,9,   -999.0,9,  -999.00,9,  -999.0,-999.0000,-999.000,-999.000,  3.1089,-999.000,9
      06MT22_5,   A10,     8,  2,    314,2,19930103,0723,-29.8073, -40.5867, 3786,   1399.0,   2.9410,  34.5250,2,  34.5250,2,    193.8,2,    51.34,2,    32.75,9,     2.43,2, -999.000,9, -999.000,9, -999.000,9, -999.000,9,-999.0000,9,  -999.00,9,   -999.0,9,-999.000,9,  -999.00,9,   -999.0,0,   -999.0,9,   -999.0,9,  -999.00,9,  -999.0,-999.0000,-999.000,-999.000,  2.8423,-999.000,9
      06MT22_5,   A10,     8,  2,    313,2,19930103,0723,-29.8073, -40.5867, 3786,   1601.0,   3.0190,  34.6650,2,-999.0000,9,    197.4,2,    49.19,2,    30.57,9,     2.23,2, -999.000,9, -999.000,9, -999.000,9, -999.000,9,-999.0000,9,  -999.00,9,   -999.0,9,-999.000,9,  -999.00,9,   -999.0,0,   -999.0,9,   -999.0,9,  -999.00,9,  -999.0,-999.0000,-999.000,-999.000,  2.9018,-999.000,9
      06MT22_5,   A10,     8,  2,    312,2,19930103,0723,-29.8073, -40.5867, 3786,   1799.0,   3.1350,  34.7730,2,-999.0000,9,    210.9,2,    43.41,2,    27.87,9,     1.96,2, -999.000,9, -999.000,9, -999.000,9, -999.000,9,-999.0000,9,  -999.00,9,   -999.0,9,-999.000,9,  -999.00,9,   -999.0,0,   -999.0,9,   -999.0,9,  -999.00,9,  -999.0,-999.0000,-999.000,-999.000,  2.9990,-999.000,9
      06MT22_5,   A10,     8,  2,    311,2,19930103,0723,-29.8073, -40.5867, 3786,   2001.0,   2.9770,  34.8160,2,  34.8150,2,    221.8,2,    42.11,2,    26.30,9,     1.86,2, -999.000,9, -999.000,9, -999.000,9, -999.000,9,-999.0000,9,  -999.00,9,   -999.0,9,-999.000,9,  -999.00,9,   -999.0,0,   -999.0,9,   -999.0,9,  -999.00,9,  -999.0,-999.0000,-999.000,-999.000,  2.8251,-999.000,9
      06MT22_5,   A10,     8,  2,    310,2,19930103,0723,-29.8073, -40.5867, 3786,   2251.0,   3.0090,  34.8710,2,-999.0000,9,    236.9,2,    35.95,2,    24.10,9,     1.63,2, -999.000,9, -999.000,9, -999.000,9, -999.000,9,-999.0000,9,  -999.00,9,   -999.0,9,-999.000,9,  -999.00,9,   -999.0,0,   -999.0,9,   -999.0,9,  -999.00,9,  -999.0,-999.0000,-999.000,-999.000,  2.8330,-999.000,9
      06MT22_5,   A10,     8,  2,    309,2,19930103,0723,-29.8073, -40.5867, 3786,   2502.0,   3.0530,  34.9160,2,-999.0000,9,    248.7,2,    29.42,2,    22.04,9,     1.49,2, -999.000,9, -999.000,9, -999.000,9, -999.000,9,-999.0000,9,  -999.00,9,   -999.0,9,-999.000,9,  -999.00,9,   -999.0,0,   -999.0,9,   -999.0,9,  -999.00,9,  -999.0,-999.0000,-999.000,-999.000,  2.8520,-999.000,9
      06MT22_5,   A10,     8,  2,    308,2,19930103,0723,-29.8073, -40.5867, 3786,   2502.0,   3.0530,  34.9160,2,  34.9150,2,    248.9,2,    29.37,2,    21.98,9,     1.49,2, -999.000,9, -999.000,9, -999.000,9, -999.000,9,-999.0000,1,  -999.00,1,   -999.0,9,-999.000,1,  -999.00,9,   -999.0,0,   -999.0,9,   -999.0,9,  -999.00,9,  -999.0,-999.0000,-999.000,-999.000,  2.8520,-999.000,9
      06MT22_5,   A10,     8,  2,    307,2,19930103,0723,-29.8073, -40.5867, 3786,   2751.0,   2.9440,  34.9220,2,-999.0000,9,    252.0,2,    29.47,2,    21.54,9,     1.44,2, -999.000,9, -999.000,9, -999.000,9, -999.000,9,   1.8181,5,     3.17,3,   -999.0,9,   7.907,5,  -999.00,9,   -999.0,0,   -999.0,9,   -999.0,9,  -999.00,9,  -999.0,  0.0082,   0.250,   0.036,  2.7202,-999.000,9
      06MT22_5,   A10,     8,  2,    306,2,19930103,0723,-29.8073, -40.5867, 3786,   3002.0,   2.8360,  34.9190,2,-999.0000,9,    251.9,2,    31.21,2,    21.31,9,     1.44,2, -999.000,9, -999.000,9, -999.000,9, -999.000,9,-999.0000,1,  -999.00,1,   -999.0,9,-999.000,1,  -999.00,9,   -999.0,0,   -999.0,9,   -999.0,9,  -999.00,9,  -999.0,-999.0000,-999.000,-999.000,  2.5887,-999.000,9
      06MT22_5,   A10,     8,  2,    305,2,19930103,0723,-29.8073, -40.5867, 3786,   3253.0,   2.6690,  34.9090,2,  34.9090,2,    253.6,2,    34.01,2,    21.61,9,     1.46,2, -999.000,9, -999.000,9, -999.000,9, -999.000,9,   1.8140,5,     2.73,3,   -999.0,9,   7.962,5,  -999.00,9,   -999.0,0,   -999.0,9,   -999.0,9,  -999.00,9,  -999.0,  0.0082,   0.250,   0.036,  2.3991,-999.000,9
      06MT22_5,   A10,     8,  2,    304,2,19930103,0723,-29.8073, -40.5867, 3786,   3503.0,   2.1460,  34.8610,2,-999.0000,9,    248.2,2,    51.26,2,    23.84,9,     1.63,2, -999.000,9, -999.000,9, -999.000,9, -999.000,9,   1.8386,2,     4.14,2,   -999.0,9,   8.021,2,  -999.00,9,   -999.0,0,   -999.0,9,   -999.0,9,  -999.00,9,  -999.0,  0.0074,   0.250,   0.032,  1.8632,-999.000,9
      06MT22_5,   A10,     8,  2,    303,2,19930103,0723,-29.8073, -40.5867, 3786,   3705.0,   0.9250,  34.7350,2,-999.0000,9,    225.9,2,    97.45,2,    30.15,9,     2.17,2, -999.000,9, -999.000,9, -999.000,9, -999.000,9,-999.0000,1,  -999.00,1,   -999.0,9,-999.000,1,  -999.00,9,   -999.0,0,   -999.0,9,   -999.0,9,  -999.00,9,  -999.0,-999.0000,-999.000,-999.000,  0.6528,-999.000,9
      06MT22_5,   A10,     8,  2,    301,2,19930103,0723,-29.8073, -40.5867, 3786,   3808.0,   0.5850,  34.7020,2,-999.0000,9,   -999.0,9,  -999.00,9,  -999.00,9,  -999.00,9, -999.000,9, -999.000,9, -999.000,9, -999.000,9,   1.8239,3,     6.94,2,   -999.0,9,   7.922,3,  -999.00,9,   -999.0,0,   -999.0,9,   -999.0,9,  -999.00,9,  -999.0,  0.0073,   0.500,   0.032,  0.3021,-999.000,9
      06MT22_5,   A10,     8,  2,    302,2,19930103,0723,-29.8073, -40.5867, 3786,   3809.0,   0.5880,  34.7020,2,  34.7010,2,    223.4,2,   109.43,2,    31.85,9,     2.34,2, -999.000,9, -999.000,9, -999.000,9, -999.000,9,   1.8631,2,     6.12,2,   -999.0,9,   8.158,2,  -999.00,9,   -999.0,0,   -999.0,9,   -999.0,9,  -999.00,9,  -999.0,  0.0075,   0.250,   0.033,  0.3144,-999.000,9
      06MT22_5,   A10,     9,  1,    324,2,19930103,1338,-29.9917, -40.0250, 3187,     11.0,  21.9920,  35.9930,2,  35.9970,2,    223.9,2,     0.00,2,     0.01,9,     0.10,2, -999.000,9, -999.000,9, -999.000,9, -999.000,9,-999.0000,9,  -999.00,9,   -999.0,9,-999.000,9,  -999.00,9,   2038.9,2,   -999.0,9,   -999.0,9,  -999.00,9,  -999.0,-999.0000,-999.000,-999.000, 21.9898,-999.000,9
      06MT22_5,   A10,     9,  1,    323,2,19930103,1338,-29.9917, -40.0250, 3187,     31.0,  21.9070,  36.0160,2,-999.0000,9,    223.8,2,     0.20,2,     0.00,9,     0.07,2,    2.095,2,    1.152,2,    2.638,2, -999.000,9,-999.0000,9,  -999.00,9,   -999.0,9,-999.000,9,  -999.00,9,   2038.7,2,   -999.0,9,   -999.0,9,  -999.00,9,  -999.0,-999.0000,-999.000,-999.000, 21.9009,-999.000,9
      06MT22_5,   A10,     9,  1,    322,2,19930103,1338,-29.9917, -40.0250, 3187,     51.0,  21.4760,  36.0820,2,-999.0000,9,    226.9,2,     0.20,2,     0.02,9,     0.06,2, -999.000,9, -999.000,9, -999.000,9, -999.000,9,-999.0000,9,  -999.00,9,   -999.0,9,-999.000,9,  -999.00,9,   2043.4,2,   -999.0,9,   -999.0,9,  -999.00,9,  -999.0,-999.0000,-999.000,-999.000, 21.4660,-999.000,9
      06MT22_5,   A10,     9,  1,    321,2,19930103,1338,-29.9917, -40.0250, 3187,     71.0,  19.8580,  36.1140,2,-999.0000,9,    239.5,2,     0.48,2,     0.06,9,     0.11,2, -999.000,9, -999.000,9, -999.000,9, -999.000,9,-999.0000,9,  -999.00,9,   -999.0,9,-999.000,9,  -999.00,9,   2050.6,2,   -999.0,9,   -999.0,9,  -999.00,9,  -999.0,-999.0000,-999.000,-999.000, 19.8449,-999.000,9
      06MT22_5,   A10,     9,  1,    320,2,19930103,1338,-29.9917, -40.0250, 3187,    100.0,  18.1200,  36.0620,2,-999.0000,9,    234.0,2,     0.48,2,     0.07,9,     0.14,2,    2.363,2,    1.278,2,    1.801,2, -999.000,9,-999.0000,9,  -999.00,9,   -999.0,9,-999.000,9,  -999.00,9,   2061.1,2,   -999.0,9,   -999.0,9,  -999.00,9,  -999.0,-999.0000,-999.000,-999.000, 18.1027,-999.000,9
      06MT22_5,   A10,     9,  1,    319,2,19930103,1338,-29.9917, -40.0250, 3187,    151.0,  17.4740,  36.0200,2,  36.0170,2,    220.4,2,     0.53,2,     2.06,9,     0.22,2, -999.000,9, -999.000,9, -999.000,9, -999.000,9,-999.0000,9,  -999.00,9,   -999.0,9,-999.000,9,  -999.00,9,   2077.1,2,   -999.0,9,   -999.0,9,  -999.00,9,  -999.0,-999.0000,-999.000,-999.000, 17.4484,-999.000,9
      06MT22_5,   A10,     9,  1,    318,2,19930103,1338,-29.9917, -40.0250, 3187,    201.0,  16.3880,  35.8240,2,-999.0000,9,    216.5,2,     0.86,2,     4.11,9,     0.33,2,    2.367,2,    1.292,2,    0.905,2, -999.000,9,-999.0000,9,  -999.00,9,   -999.0,9,-999.000,9,  -999.00,9,   2082.9,2,   -999.0,9,   -999.0,9,  -999.00,9,  -999.0,-999.0000,-999.000,-999.000, 16.3557,-999.000,9
      06MT22_5,   A10,     9,  1,    317,2,19930103,1338,-29.9917, -40.0250, 3187,    300.0,  14.8050,  35.5510,2,-999.0000,9,    213.6,2,     1.65,2,     7.05,9,     0.55,2, -999.000,9, -999.000,9, -999.000,9, -999.000,9,-999.0000,9,  -999.00,9,   -999.0,9,-999.000,9,  -999.00,9,   2093.4,2,   -999.0,9,   -999.0,9,  -999.00,9,  -999.0,-999.0000,-999.000,-999.000, 14.7599,-999.000,9
      06MT22_5,   A10,     9,  1,    316,2,19930103,1338,-29.9917, -40.0250, 3187,    401.0,  12.3920,  35.1460,2,-999.0000,9,    209.7,2,     3.29,2,    12.41,9,     0.87,2,    2.121,2,    1.133,2,    0.745,2, -999.000,9,-999.0000,9,  -999.00,9,   -999.0,9,-999.000,9,  -999.00,9,   2113.4,2,   -999.0,9,   -999.0,9,  -999.00,9,  -999.0,-999.0000,-999.000,-999.000, 12.3382,-999.000,9
      06MT22_5,   A10,     9,  1,    315,2,19930103,1338,-29.9917, -40.0250, 3187,    499.0,  10.1900,  34.8310,2,  34.8230,2,    209.4,2,     5.48,2,    17.89,9,     1.22,2, -999.000,9, -999.000,9, -999.000,9, -999.000,9,-999.0000,9,  -999.00,9,   -999.0,9,-999.000,9,  -999.00,9,   2126.3,2,   -999.0,9,   -999.0,9,  -999.00,9,  -999.0,-999.0000,-999.000,-999.000, 10.1306,-999.000,9
      06MT22_5,   A10,     9,  1,    314,2,19930103,1338,-29.9917, -40.0250, 3187,    602.0,   7.9300,  34.5580,2,-999.0000,9,    216.5,2,     8.79,2,    22.96,9,     1.57,2,    1.948,2,    1.063,2,    2.024,2, -999.000,9,-999.0000,9,  -999.00,9,   -999.0,9,-999.000,9,  -999.00,9,   2141.2,2,   -999.0,9,   -999.0,9,  -999.00,9,  -999.0,-999.0000,-999.000,-999.000,  7.8685,-999.000,9
      06MT22_5,   A10,     9,  1,    313,2,19930103,1338,-29.9917, -40.0250, 3187,    700.0,   5.9610,  34.3750,2,-999.0000,9,    228.4,2,    13.11,2,    26.82,9,     1.87,2, -999.000,9, -999.000,9, -999.000,9, -999.000,9,-999.0000,9,  -999.00,9,   -999.0,9,-999.000,9,  -999.00,9,   2152.6,2,   -999.0,9,   -999.0,9,  -999.00,9,  -999.0,-999.0000,-999.000,-999.000,  5.8993,-999.000,9
      06MT22_5,   A10,     9,  1,    312,2,19930103,1338,-29.9917, -40.0250, 3187,    850.0,   4.5210,  34.2720,2,  34.2710,2,    239.8,2,    18.30,2,    29.31,9,     2.03,2,    1.712,2,    0.877,2,    2.889,2, -999.000,9,-999.0000,9,  -999.00,9,   -999.0,9,-999.000,9,  -999.00,9,   2163.7,2,   -999.0,9,   -999.0,9,  -999.00,9,  -999.0,-999.0000,-999.000,-999.000,  4.4546,-999.000,9
      06MT22_5,   A10,     9,  1,    311,2,19930103,1338,-29.9917, -40.0250, 3187,   1000.0,   3.6200,  34.2820,2,-999.0000,9,    227.7,2,    28.77,2,    32.04,9,     2.25,2, -999.000,9, -999.000,9, -999.000,9, -999.000,9,-999.0000,9,  -999.00,9,   -999.0,9,-999.000,9,  -999.00,9,   2185.6,2,   -999.0,9,   -999.0,9,  -999.00,9,  -999.0,-999.0000,-999.000,-999.000,  3.5472,-999.000,9
      06MT22_5,   A10,     9,  1,    310,2,19930103,1338,-29.9917, -40.0250, 3187,   1199.0,   3.1670,  34.3970,2,-999.0000,9,    200.4,2,    43.46,2,    33.92,9,     2.42,2,    0.310,2,    0.170,2,    1.003,2, -999.000,9,-999.0000,9,  -999.00,9,   -999.0,9,-999.000,9,  -999.00,9,   2211.9,2,   -999.0,9,   -999.0,9,  -999.00,9,  -999.0,-999.0000,-999.000,-999.000,  3.0821,-999.000,9
      06MT22_5,   A10,     9,  1,    309,2,19930103,1338,-29.9917, -40.0250, 3187,   1400.0,   2.9650,  34.5380,2,  34.5370,2,    190.7,2,    51.27,2,    33.59,9,     2.37,2,    0.125,2,    0.066,2,    0.390,2, -999.000,9,-999.0000,9,  -999.00,9,   -999.0,9,-999.000,9,  -999.00,9,   2224.6,2,   -999.0,9,   -999.0,9,  -999.00,9,  -999.0,-999.0000,-999.000,-999.000,  2.8659,-999.000,9
      06MT22_5,   A10,     9,  1,    308,2,19930103,1338,-29.9917, -40.0250, 3187,   1649.0,   3.1030,  34.7150,2,-999.0000,9,    201.2,2,    46.62,2,    30.36,9,     2.10,2,    0.059,4,    0.009,2,    0.168,2, -999.000,9,-999.0000,9,  -999.00,9,   -999.0,9,-999.000,9,  -999.00,9,   2214.3,2,   -999.0,9,   -999.0,9,  -999.00,9,  -999.0,-999.0000,-999.000,-999.000,  2.9804,-999.000,9
      06MT22_5,   A10,     9,  1,    307,2,19930103,1338,-29.9917, -40.0250, 3187,   1899.0,   3.2630,  34.8480,2,-999.0000,9,    224.8,2,    35.56,2,    26.17,9,     1.71,2, -999.000,9, -999.000,9, -999.000,9, -999.000,9,-999.0000,9,  -999.00,9,   -999.0,9,-999.000,9,  -999.00,9,   2192.1,2,   -999.0,9,   -999.0,9,  -999.00,9,  -999.0,-999.0000,-999.000,-999.000,  3.1160,-999.000,9
      06MT22_5,   A10,     9,  1,    306,2,19930103,1338,-29.9917, -40.0250, 3187,   2150.0,   3.2510,  34.9060,2,  34.9030,2,    241.3,2,    28.96,2,    23.42,9,     1.57,2,    0.146,4,    0.098,4,    0.284,4, -999.000,9,-999.0000,9,  -999.00,9,   -999.0,9,-999.000,9,  -999.00,9,   2178.6,2,   -999.0,9,   -999.0,9,  -999.00,9,  -999.0,-999.0000,-999.000,-999.000,  3.0807,-999.000,9
      06MT22_5,   A10,     9,  1,    305,2,19930103,1338,-29.9917, -40.0250, 3187,   2400.0,   3.0340,  34.9030,2,-999.0000,9,    245.7,2,    31.13,2,    23.35,9,     1.51,2,    0.051,4,    0.036,4,    0.143,4, -999.000,9,-999.0000,9,  -999.00,9,   -999.0,9,-999.000,9,  -999.00,9,   2180.8,2,   -999.0,9,   -999.0,9,  -999.00,9,  -999.0,-999.0000,-999.000,-999.000,  2.8433,-999.000,9
      06MT22_5,   A10,     9,  1,    304,2,19930103,1338,-29.9917, -40.0250, 3187,   2653.0,   2.9700,  34.9170,2,  34.9140,2,    249.7,2,    29.72,2,    22.83,9,     1.46,2,    0.021,2,    0.007,2,    0.041,2, -999.000,9,-999.0000,9,  -999.00,9,   -999.0,9,-999.000,9,  -999.00,9,   2177.1,2,   -999.0,9,   -999.0,9,  -999.00,9,  -999.0,-999.0000,-999.000,-999.000,  2.7556,-999.000,9
      06MT22_5,   A10,     9,  1,    303,2,19930103,1338,-29.9917, -40.0250, 3187,   2902.0,   2.8560,  34.9190,2,  34.9160,2,    252.3,2,    30.31,2,    22.58,9,     1.42,2, -999.000,9, -999.000,9, -999.000,9, -999.000,9,-999.0000,9,  -999.00,9,   -999.0,9,-999.000,9,  -999.00,9,   2175.7,2,   -999.0,9,   -999.0,9,  -999.00,9,  -999.0,-999.0000,-999.000,-999.000,  2.6186,-999.000,9
      06MT22_5,   A10,     9,  1,    302,2,19930103,1338,-29.9917, -40.0250, 3187,   3142.0,   2.7490,  34.9140,2,-999.0000,9,    253.3,2,    35.36,2,    23.05,9,     1.49,2,    0.059,4,    0.011,2,    0.046,2, -999.000,9,-999.0000,9,  -999.00,9,   -999.0,9,-999.000,9,  -999.00,9,   2177.7,2,   -999.0,9,   -999.0,9,  -999.00,9,  -999.0,-999.0000,-999.000,-999.000,  2.4890,-999.000,9
      06MT22_5,   A10,     9,  1,    301,2,19930103,1338,-29.9917, -40.0250, 3187,   3216.0,   2.5910,  34.9030,2,  34.9010,2,    253.2,2,    32.28,2,    22.61,9,     1.43,2,    1.583,4,    1.049,4,    1.649,4, -999.000,9,-999.0000,9,  -999.00,9,   -999.0,9,-999.000,9,  -999.00,9,   2180.7,2,   -999.0,9,   -999.0,9,  -999.00,9,  -999.0,-999.0000,-999.000,-999.000,  2.3268,-999.000,9