BOTTLE,20030417WHPSIOSA
EXPOCODE,SECT_ID,STNNBR,CASTNO,BTLNBR,BTLNBR_FLAG_W,DATE,TIME,LATITUDE,LONGITUDE,DEPTH,CTDPRS,CTDTMP,CTDSAL,CTDSAL_FLAG_W,SALNTY,SALNTY_FLAG_W,OXYGEN,OXYGEN_FLAG_W,SILCAT,SILCAT_FLAG_W,NO2+NO3,NO2+NO3_FLAG_W,PHSPHT,PHSPHT_FLAG_W,CFC-11,CFC-11_FLAG_W,CFC-12,CFC-12_FLAG_W,CCL4,CCL4_FLAG_W,TRITUM,TRITUM_FLAG_W,HELIUM,HELIUM_FLAG_W,DELHE3,DELHE3_FLAG_W,DELC14,DELC14_FLAG_W,NEON,NEON_FLAG_W,O18O16,O18O16_FLAG_W,TCARBN,TCARBN_FLAG_W,PCO2,PCO2_FLAG_W,ALKALI,ALKALI_FLAG_W,PH,PH_FLAG_W,C14ERR,HELIER,DELHER,NEONER,THETA,TRITER,TRITER_FLAG_W
,,,,,,,,,,,DBAR,ITS-90,PSS-78,,PSS-78,,UMOL/KG,,UMOL/KG,,UMOL/KG,,UMOL/KG,,PMOL/KG,,PMOL/KG,,PMOL/KG,,TU,,NMOL/KG,,PERCNT,,/MILLE,,NMOL/KG,,MILLE,,UMOL/KG,,UATM,,UMOL/KG,,,,/MILLE,NMOL/KG,PERCNT,NMOL/KG,ITS-90,TU,
      06MT22_5,   A10,    97,  1,    324,2,19930128,0557,-28.8883,  14.0200, 1594,     10.0,  20.9290,  35.4220,2,  35.4320,2,   -999.0,9,  -999.00,9,  -999.00,9,  -999.00,9, -999.000,9, -999.000,9, -999.000,9,    0.933,2,   1.7114,2,    -1.13,2,   -999.0,9,   6.925,2,  -999.00,9,   -999.0,0,   -999.0,9,   -999.0,9,  -999.00,9,  -999.0,  0.0060,   0.250,   0.024, 20.9271,   0.022,9
      06MT22_5,   A10,    97,  1,    322,2,19930128,0557,-28.8883,  14.0200, 1594,     10.0,  20.9280,  35.4230,2,-999.0000,9,   -999.0,9,  -999.00,9,  -999.00,9,  -999.00,9, -999.000,9, -999.000,9, -999.000,9, -999.000,9,-999.0000,9,  -999.00,9,   -999.0,9,-999.000,9,  -999.00,9,   -999.0,0,   -999.0,9,   -999.0,9,  -999.00,9,  -999.0,-999.0000,-999.000,-999.000, 20.9261,-999.000,9
      06MT22_5,   A10,    97,  1,    321,2,19930128,0557,-28.8883,  14.0200, 1594,     10.0,  20.9280,  35.4230,2,-999.0000,9,    229.0,2,  -999.00,9,  -999.00,9,  -999.00,9, -999.000,9, -999.000,9, -999.000,9, -999.000,9,-999.0000,9,  -999.00,9,   -999.0,9,-999.000,9,  -999.00,9,   2021.6,2,   -999.0,9,   -999.0,9,  -999.00,9,  -999.0,-999.0000,-999.000,-999.000, 20.9261,-999.000,9
      06MT22_5,   A10,    97,  1,    320,2,19930128,0557,-28.8883,  14.0200, 1594,     30.0,  20.9270,  35.4240,2,-999.0000,9,    228.8,2,     1.49,2,     0.00,9,     0.15,2, -999.000,9, -999.000,9, -999.000,9, -999.000,9,-999.0000,9,  -999.00,9,   -999.0,9,-999.000,9,  -999.00,9,   -999.0,0,   -999.0,9,   -999.0,9,  -999.00,9,  -999.0,-999.0000,-999.000,-999.000, 20.9213,-999.000,9
      06MT22_5,   A10,    97,  1,    319,2,19930128,0557,-28.8883,  14.0200, 1594,     30.0,  20.9270,  35.4240,2,-999.0000,9,   -999.0,9,  -999.00,9,  -999.00,9,  -999.00,9,    2.180,6,    1.163,6,    2.738,6, -999.000,9,   1.6963,5,    -1.32,3,   -999.0,9,   6.889,5,  -999.00,9,   2021.6,2,   -999.0,9,   -999.0,9,  -999.00,9,  -999.0,  0.0068,   0.250,   0.028, 20.9213,-999.000,9
      06MT22_5,   A10,    97,  1,    318,2,19930128,0557,-28.8883,  14.0200, 1594,     50.0,  19.4930,  35.5030,2,-999.0000,9,    238.9,2,     1.15,2,     0.05,9,     0.16,2, -999.000,9, -999.000,9, -999.000,9, -999.000,9,   1.6927,2,    -1.02,2,   -999.0,9,   6.917,2,  -999.00,9,   2031.7,2,   -999.0,9,   -999.0,9,  -999.00,9,  -999.0,  0.0059,   0.250,   0.024, 19.4840,-999.000,9
      06MT22_5,   A10,    97,  1,    317,2,19930128,0557,-28.8883,  14.0200, 1594,     70.0,  15.9030,  35.4430,2,-999.0000,9,    239.7,2,     1.88,2,     2.55,9,     0.31,2,    2.659,2,    1.430,2,    1.996,2, -999.000,9,-999.0000,1,  -999.00,1,   -999.0,9,-999.000,1,  -999.00,9,   2060.1,2,   -999.0,9,   -999.0,9,  -999.00,9,  -999.0,-999.0000,-999.000,-999.000, 15.8920,-999.000,9
      06MT22_5,   A10,    97,  1,    316,2,19930128,0557,-28.8883,  14.0200, 1594,    100.0,  14.3860,  35.2890,2,-999.0000,9,    227.0,2,     2.61,2,     6.09,9,     0.49,2,    2.668,2,    1.434,2,    1.542,2,    0.900,2,   1.7208,5,    -0.52,3,   -999.0,9,   7.181,5,  -999.00,9,   2077.8,2,   -999.0,9,   -999.0,9,  -999.00,9,  -999.0,  0.0069,   0.250,   0.029, 14.3714,   0.021,9
      06MT22_5,   A10,    97,  1,    315,2,19930128,0557,-28.8883,  14.0200, 1594,    150.0,  13.0350,  35.1150,2,-999.0000,9,    224.1,2,     3.30,2,     8.95,9,     0.67,2, -999.000,9, -999.000,9, -999.000,9, -999.000,9,-999.0000,1,  -999.00,1,   -999.0,9,-999.000,1,  -999.00,9,   2090.1,2,   -999.0,9,   -999.0,9,  -999.00,9,  -999.0,-999.0000,-999.000,-999.000, 13.0145,-999.000,9
      06MT22_5,   A10,    97,  1,    314,2,19930128,0557,-28.8883,  14.0200, 1594,    200.0,  12.2450,  35.0500,2,-999.0000,9,    213.8,2,     5.60,2,    12.85,9,     0.91,2,    2.297,2,    1.194,2,    1.281,2,    0.700,2,   1.7266,5,     1.51,3,   -999.0,9,   7.308,5,  -999.00,9,   2108.3,2,   -999.0,9,   -999.0,9,  -999.00,9,  -999.0,  0.0069,   0.250,   0.029, 12.2187,   0.017,9
      06MT22_5,   A10,    97,  1,    313,2,19930128,0557,-28.8883,  14.0200, 1594,    300.0,   9.5810,  34.7360,2,-999.0000,9,    215.5,2,     6.84,2,    17.84,9,     1.17,2,    2.190,2,    1.115,2,    1.529,2,    0.448,2,   1.7400,5,     1.55,3,   -999.0,9,   7.449,5,  -999.00,9,   2125.4,2,   -999.0,9,   -999.0,9,  -999.00,9,  -999.0,  0.0070,   0.250,   0.030,  9.5471,   0.013,9
      06MT22_5,   A10,    97,  1,    312,2,19930128,0557,-28.8883,  14.0200, 1594,    399.0,   7.7750,  34.5460,2,-999.0000,9,    208.4,2,    12.00,2,    23.46,9,     1.56,2,    1.857,2,    0.923,2,    1.807,2, -999.000,9,   1.7494,2,     1.29,2,   -999.0,9,   7.538,2,  -999.00,9,   2148.0,2,   -999.0,9,   -999.0,9,  -999.00,9,  -999.0,  0.0061,   0.250,   0.026,  7.7350,-999.000,9
      06MT22_5,   A10,    97,  1,    311,2,19930128,0557,-28.8883,  14.0200, 1594,    500.0,   6.1880,  34.4310,2,-999.0000,9,    206.5,2,    18.95,2,    27.56,9,     1.85,2,    1.570,2,    0.764,2,    2.091,2,    0.200,2,-999.0000,1,  -999.00,1,   -999.0,9,-999.000,1,  -999.00,9,   2161.9,2,   -999.0,9,   -999.0,9,  -999.00,9,  -999.0,-999.0000,-999.000,-999.000,  6.1436,   0.013,9
      06MT22_5,   A10,    97,  1,    310,2,19930128,0557,-28.8883,  14.0200, 1594,    599.0,   4.8040,  34.3270,2,-999.0000,9,    222.4,2,    23.30,2,    29.56,9,     1.95,2,    1.515,2,    0.728,2,    2.454,2, -999.000,9,   1.7627,5,     2.49,3,   -999.0,9,   7.720,5,  -999.00,9,   2171.6,2,   -999.0,9,   -999.0,9,  -999.00,9,  -999.0,  0.0071,   0.250,   0.031,  4.7567,-999.000,9
      06MT22_5,   A10,    97,  1,    309,2,19930128,0557,-28.8883,  14.0200, 1594,    699.0,   4.3260,  34.3650,2,-999.0000,9,    216.1,2,    32.88,2,    31.40,9,     2.11,2,    1.044,2,    0.504,2,    1.909,2,    0.092,2,   1.7676,5,     2.88,3,   -999.0,9,   7.752,5,  -999.00,9,   2191.1,2,   -999.0,9,   -999.0,9,  -999.00,9,  -999.0,  0.0071,   0.250,   0.031,  4.2729,   0.009,9
      06MT22_5,   A10,    97,  1,    308,2,19930128,0557,-28.8883,  14.0200, 1594,    849.0,   3.5790,  34.3910,2,-999.0000,9,    197.6,2,    44.00,2,    33.30,9,     2.25,2,    0.644,2,    0.313,2,    1.412,2,    0.063,2,   1.7833,5,     4.91,3,   -999.0,9,   7.797,5,  -999.00,9,   2209.6,2,   -999.0,9,   -999.0,9,  -999.00,9,  -999.0,  0.0071,   0.250,   0.031,  3.5185,   0.004,9
      06MT22_5,   A10,    97,  1,    307,2,19930128,0557,-28.8883,  14.0200, 1594,    999.0,   3.4430,  34.5090,2,  34.5160,2,    177.3,2,    47.44,2,    34.15,9,     2.30,2,    0.099,2,    0.047,2,    0.391,2,    0.022,2,   1.7882,2,     5.10,2,   -999.0,9,   7.800,2,  -999.00,9,   2223.1,2,   -999.0,9,   -999.0,9,  -999.00,9,  -999.0,  0.0063,   0.250,   0.027,  3.3717,   0.005,9
      06MT22_5,   A10,    97,  1,    306,2,19930128,0557,-28.8883,  14.0200, 1594,   1199.0,   3.0910,  34.6090,2,-999.0000,9,    182.8,2,    54.05,2,    32.84,9,     2.21,2,    0.043,2,    0.018,2,    0.235,2,   -0.130,4,   1.7895,2,     5.91,2,   -999.0,9,   7.808,2,  -999.00,9,   2226.9,2,   -999.0,9,   -999.0,9,  -999.00,9,  -999.0,  0.0063,   0.250,   0.027,  3.0063,   0.026,9
      06MT22_5,   A10,    97,  1,    305,2,19930128,0557,-28.8883,  14.0200, 1594,   1400.0,   3.1470,  34.7490,2,-999.0000,9,    197.5,2,    45.92,2,    29.28,9,     1.96,2,    0.004,2,    0.000,2,    0.054,2, -999.000,9,   1.8078,5,     4.15,3,   -999.0,9,   7.849,5,  -999.00,9,   2212.8,2,   -999.0,9,   -999.0,9,  -999.00,9,  -999.0,  0.0072,   0.250,   0.031,  3.0454,-999.000,9
      06MT22_5,   A10,    97,  1,    304,2,19930128,0557,-28.8883,  14.0200, 1594,   1514.0,   3.1600,  34.7700,2,-999.0000,9,   -999.0,9,  -999.00,9,  -999.00,9,  -999.00,9, -999.000,9, -999.000,9, -999.000,9, -999.000,9,   1.8132,2,     4.08,2,   -999.0,9,   7.914,2,  -999.00,9,   -999.0,0,   -999.0,9,   -999.0,9,  -999.00,9,  -999.0,  0.0063,   0.250,   0.055,  3.0486,-999.000,9
      06MT22_5,   A10,    97,  1,    303,2,19930128,0557,-28.8883,  14.0200, 1594,   1515.0,   3.1600,  34.7690,2,-999.0000,9,   -999.0,9,  -999.00,9,  -999.00,9,  -999.00,9, -999.000,9, -999.000,9, -999.000,9, -999.000,9,   1.8132,5,     4.91,3,   -999.0,9,   7.911,5,  -999.00,9,   -999.0,0,   -999.0,9,   -999.0,9,  -999.00,9,  -999.0,  0.0073,   0.250,   0.032,  3.0486,-999.000,9
      06MT22_5,   A10,    97,  1,    302,2,19930128,0557,-28.8883,  14.0200, 1594,   1519.0,   3.1600,  34.7700,2,-999.0000,9,   -999.0,9,  -999.00,9,  -999.00,9,  -999.00,9, -999.000,9, -999.000,9, -999.000,9, -999.000,9,   1.8163,5,     4.73,3,   -999.0,9,   7.915,5,  -999.00,9,   -999.0,0,   -999.0,9,   -999.0,9,  -999.00,9,  -999.0,  0.0073,   0.250,   0.032,  3.0482,-999.000,9
      06MT22_5,   A10,    97,  1,    301,2,19930128,0557,-28.8883,  14.0200, 1594,   1519.0,   3.1610,  34.7700,2,  34.7720,2,    199.8,2,    44.99,2,    28.74,9,     1.91,2,    0.006,2,    0.003,2,    0.048,2,   -0.037,2,-999.0000,1,  -999.00,1,   -999.0,9,-999.000,1,  -999.00,9,   2209.8,2,   -999.0,9,   -999.0,9,  -999.00,9,  -999.0,-999.0000,-999.000,-999.000,  3.0492,   0.006,9
      06MT22_5,   A10,    98,  1,    324,2,19930128,0934,-28.7600,  14.3400,  531,     10.0,  20.3710,  35.4060,2,-999.0000,9,    228.8,2,     1.73,2,     0.00,9,     0.15,2, -999.000,9, -999.000,9, -999.000,9, -999.000,9,-999.0000,9,  -999.00,9,   -999.0,9,-999.000,9,  -999.00,9,   -999.0,0,   -999.0,9,   -999.0,9,  -999.00,9,  -999.0,-999.0000,-999.000,-999.000, 20.3691,-999.000,9
      06MT22_5,   A10,    98,  1,    310,2,19930128,0934,-28.7600,  14.3400,  531,     11.0,  20.3830,  35.4090,2,  35.4100,2,   -999.0,9,  -999.00,9,  -999.00,9,  -999.00,9, -999.000,9, -999.000,9, -999.000,9, -999.000,9,-999.0000,9,  -999.00,9,   -999.0,9,-999.000,9,  -999.00,9,   -999.0,0,   -999.0,9,   -999.0,9,  -999.00,9,  -999.0,-999.0000,-999.000,-999.000, 20.3809,-999.000,9
      06MT22_5,   A10,    98,  1,    309,2,19930128,0934,-28.7600,  14.3400,  531,     30.0,  19.7000,  35.4430,2,-999.0000,9,   -999.0,9,  -999.00,9,  -999.00,9,  -999.00,9, -999.000,9, -999.000,9, -999.000,9, -999.000,9,-999.0000,9,  -999.00,9,   -999.0,9,-999.000,9,  -999.00,9,   -999.0,0,   -999.0,9,   -999.0,9,  -999.00,9,  -999.0,-999.0000,-999.000,-999.000, 19.6945,-999.000,9
      06MT22_5,   A10,    98,  1,    308,2,19930128,0934,-28.7600,  14.3400,  531,     50.0,  17.7060,  35.4940,2,-999.0000,9,    246.3,2,     1.77,2,     0.21,9,     0.20,2, -999.000,9, -999.000,9, -999.000,9, -999.000,9,-999.0000,9,  -999.00,9,   -999.0,9,-999.000,9,  -999.00,9,   -999.0,0,   -999.0,9,   -999.0,9,  -999.00,9,  -999.0,-999.0000,-999.000,-999.000, 17.6976,-999.000,9
      06MT22_5,   A10,    98,  1,    307,2,19930128,0934,-28.7600,  14.3400,  531,     71.0,  15.8880,  35.4520,2,-999.0000,9,    239.8,2,     2.27,2,     2.04,9,     0.32,2, -999.000,9, -999.000,9, -999.000,9, -999.000,9,-999.0000,9,  -999.00,9,   -999.0,9,-999.000,9,  -999.00,9,   -999.0,0,   -999.0,9,   -999.0,9,  -999.00,9,  -999.0,-999.0000,-999.000,-999.000, 15.8769,-999.000,9
      06MT22_5,   A10,    98,  1,    306,2,19930128,0934,-28.7600,  14.3400,  531,    101.0,  14.3930,  35.3060,2,-999.0000,9,    224.6,2,     3.30,2,     6.39,9,     0.54,2, -999.000,9, -999.000,9, -999.000,9, -999.000,9,-999.0000,9,  -999.00,9,   -999.0,9,-999.000,9,  -999.00,9,   -999.0,0,   -999.0,9,   -999.0,9,  -999.00,9,  -999.0,-999.0000,-999.000,-999.000, 14.3782,-999.000,9
      06MT22_5,   A10,    98,  1,    305,2,19930128,0934,-28.7600,  14.3400,  531,    150.0,  12.6110,  35.0850,2,-999.0000,9,    219.4,2,     4.91,2,    10.41,9,     0.79,2, -999.000,9, -999.000,9, -999.000,9, -999.000,9,-999.0000,9,  -999.00,9,   -999.0,9,-999.000,9,  -999.00,9,   -999.0,0,   -999.0,9,   -999.0,9,  -999.00,9,  -999.0,-999.0000,-999.000,-999.000, 12.5909,-999.000,9
      06MT22_5,   A10,    98,  1,    304,2,19930128,0934,-28.7600,  14.3400,  531,    200.0,  11.5320,  34.9510,2,-999.0000,9,    218.9,2,     5.11,2,    12.75,9,     0.94,2, -999.000,9, -999.000,9, -999.000,9, -999.000,9,-999.0000,9,  -999.00,9,   -999.0,9,-999.000,9,  -999.00,9,   -999.0,0,   -999.0,9,   -999.0,9,  -999.00,9,  -999.0,-999.0000,-999.000,-999.000, 11.5067,-999.000,9
      06MT22_5,   A10,    98,  1,    303,2,19930128,0934,-28.7600,  14.3400,  531,    300.0,   9.2530,  34.6940,2,-999.0000,9,    205.8,2,     9.44,2,    19.59,9,     1.35,2, -999.000,9, -999.000,9, -999.000,9, -999.000,9,-999.0000,9,  -999.00,9,   -999.0,9,-999.000,9,  -999.00,9,   -999.0,0,   -999.0,9,   -999.0,9,  -999.00,9,  -999.0,-999.0000,-999.000,-999.000,  9.2198,-999.000,9
      06MT22_5,   A10,    98,  1,    302,2,19930128,0934,-28.7600,  14.3400,  531,    400.0,   7.5880,  34.5690,2,  34.5740,2,    162.8,2,    16.46,2,    28.33,9,     1.91,2, -999.000,9, -999.000,9, -999.000,9, -999.000,9,-999.0000,9,  -999.00,9,   -999.0,9,-999.000,9,  -999.00,9,   -999.0,0,   -999.0,9,   -999.0,9,  -999.00,9,  -999.0,-999.0000,-999.000,-999.000,  7.5485,-999.000,9
      06MT22_5,   A10,    98,  1,    301,2,19930128,0934,-28.7600,  14.3400,  531,    455.0,   6.7090,  34.5210,2,-999.0000,9,   -999.0,9,  -999.00,9,  -999.00,9,  -999.00,9, -999.000,9, -999.000,9, -999.000,9, -999.000,9,-999.0000,9,  -999.00,9,   -999.0,9,-999.000,9,  -999.00,9,   -999.0,0,   -999.0,9,   -999.0,9,  -999.00,9,  -999.0,-999.0000,-999.000,-999.000,  6.6663,-999.000,9