BOTTLE,20030417WHPSIOSA
EXPOCODE,SECT_ID,STNNBR,CASTNO,BTLNBR,BTLNBR_FLAG_W,DATE,TIME,LATITUDE,LONGITUDE,DEPTH,CTDPRS,CTDTMP,CTDSAL,CTDSAL_FLAG_W,SALNTY,SALNTY_FLAG_W,OXYGEN,OXYGEN_FLAG_W,SILCAT,SILCAT_FLAG_W,NO2+NO3,NO2+NO3_FLAG_W,PHSPHT,PHSPHT_FLAG_W,CFC-11,CFC-11_FLAG_W,CFC-12,CFC-12_FLAG_W,CCL4,CCL4_FLAG_W,TRITUM,TRITUM_FLAG_W,HELIUM,HELIUM_FLAG_W,DELHE3,DELHE3_FLAG_W,DELC14,DELC14_FLAG_W,NEON,NEON_FLAG_W,O18O16,O18O16_FLAG_W,TCARBN,TCARBN_FLAG_W,PCO2,PCO2_FLAG_W,ALKALI,ALKALI_FLAG_W,PH,PH_FLAG_W,C14ERR,HELIER,DELHER,NEONER,THETA,TRITER,TRITER_FLAG_W
,,,,,,,,,,,DBAR,ITS-90,PSS-78,,PSS-78,,UMOL/KG,,UMOL/KG,,UMOL/KG,,UMOL/KG,,PMOL/KG,,PMOL/KG,,PMOL/KG,,TU,,NMOL/KG,,PERCNT,,/MILLE,,NMOL/KG,,MILLE,,UMOL/KG,,UATM,,UMOL/KG,,,,/MILLE,NMOL/KG,PERCNT,NMOL/KG,ITS-90,TU,
      06MT22_5,   A10,     4,  2,    324,2,19930102,0315,-29.0362, -42.9098, 4009,     11.0,  22.0390,  36.1300,2,  36.1330,2,    224.0,2,     0.68,2,     0.05,9,     0.06,2, -999.000,9, -999.000,9, -999.000,9, -999.000,9,-999.0000,9,  -999.00,9,   -999.0,9,-999.000,9,  -999.00,9,   -999.0,0,   -999.0,9,   -999.0,9,  -999.00,9,  -999.0,-999.0000,-999.000,-999.000, 22.0368,-999.000,9
      06MT22_5,   A10,     4,  2,    323,2,19930102,0315,-29.0362, -42.9098, 4009,    249.0,  16.6070,  35.8220,2,-999.0000,9,    217.2,2,     1.12,2,     3.55,9,     0.34,2, -999.000,9, -999.000,9, -999.000,9, -999.000,9,-999.0000,9,  -999.00,9,   -999.0,9,-999.000,9,  -999.00,9,   -999.0,0,   -999.0,9,   -999.0,9,  -999.00,9,  -999.0,-999.0000,-999.000,-999.000, 16.5664,-999.000,9
      06MT22_5,   A10,     4,  2,    322,2,19930102,0315,-29.0362, -42.9098, 4009,    297.0,  15.9180,  35.7290,2,-999.0000,9,    217.6,2,     1.44,2,     4.63,9,     0.40,2, -999.000,9, -999.000,9, -999.000,9, -999.000,9,-999.0000,9,  -999.00,9,   -999.0,9,-999.000,9,  -999.00,9,   -999.0,0,   -999.0,9,   -999.0,9,  -999.00,9,  -999.0,-999.0000,-999.000,-999.000, 15.8709,-999.000,9
      06MT22_5,   A10,     4,  2,    321,2,19930102,0315,-29.0362, -42.9098, 4009,    401.0,  14.2210,  35.4410,2,  35.4370,2,    213.2,2,     2.42,2,     8.12,9,     0.65,2, -999.000,9, -999.000,9, -999.000,9, -999.000,9,-999.0000,9,  -999.00,9,   -999.0,9,-999.000,9,  -999.00,9,   -999.0,0,   -999.0,9,   -999.0,9,  -999.00,9,  -999.0,-999.0000,-999.000,-999.000, 14.1618,-999.000,9
      06MT22_5,   A10,     4,  2,    320,2,19930102,0315,-29.0362, -42.9098, 4009,    499.0,  12.0070,  35.0810,2,-999.0000,9,    208.8,2,     4.37,2,    13.21,9,     1.00,2, -999.000,9, -999.000,9, -999.000,9, -999.000,9,-999.0000,9,  -999.00,9,   -999.0,9,-999.000,9,  -999.00,9,   -999.0,0,   -999.0,9,   -999.0,9,  -999.00,9,  -999.0,-999.0000,-999.000,-999.000, 11.9415,-999.000,9
      06MT22_5,   A10,     4,  2,    319,2,19930102,0315,-29.0362, -42.9098, 4009,    600.0,   9.5190,  34.7490,2,-999.0000,9,    209.7,2,     7.26,2,    19.43,9,     1.40,2, -999.000,9, -999.000,9, -999.000,9, -999.000,9,-999.0000,9,  -999.00,9,   -999.0,9,-999.000,9,  -999.00,9,   -999.0,0,   -999.0,9,   -999.0,9,  -999.00,9,  -999.0,-999.0000,-999.000,-999.000,  9.4506,-999.000,9
      06MT22_5,   A10,     4,  2,    318,2,19930102,0315,-29.0362, -42.9098, 4009,    700.0,   7.0130,  34.4590,2,-999.0000,9,    225.0,2,    12.06,2,    24.35,9,     1.77,2, -999.000,9, -999.000,9, -999.000,9, -999.000,9,-999.0000,9,  -999.00,9,   -999.0,9,-999.000,9,  -999.00,9,   -999.0,0,   -999.0,9,   -999.0,9,  -999.00,9,  -999.0,-999.0000,-999.000,-999.000,  6.9457,-999.000,9
      06MT22_5,   A10,     4,  2,    317,2,19930102,0315,-29.0362, -42.9098, 4009,    850.0,   5.0500,  34.3170,2,  34.3540,2,    231.2,2,    17.83,2,    28.34,9,     2.10,2, -999.000,9, -999.000,9, -999.000,9, -999.000,9,-999.0000,9,  -999.00,9,   -999.0,9,-999.000,9,  -999.00,9,   -999.0,0,   -999.0,9,   -999.0,9,  -999.00,9,  -999.0,-999.0000,-999.000,-999.000,  4.9800,-999.000,9
      06MT22_5,   A10,     4,  2,    316,2,19930102,0315,-29.0362, -42.9098, 4009,    998.0,   3.9870,  34.2920,2,-999.0000,9,    228.1,2,    26.76,2,    30.66,9,     2.30,2, -999.000,9, -999.000,9, -999.000,9, -999.000,9,-999.0000,9,  -999.00,9,   -999.0,9,-999.000,9,  -999.00,9,   -999.0,0,   -999.0,9,   -999.0,9,  -999.00,9,  -999.0,-999.0000,-999.000,-999.000,  3.9116,-999.000,9
      06MT22_5,   A10,     4,  2,    315,2,19930102,0315,-29.0362, -42.9098, 4009,   1200.0,   3.1530,  34.3760,2,-999.0000,9,    206.3,2,    43.03,2,    33.15,9,     2.44,2, -999.000,9, -999.000,9, -999.000,9, -999.000,9,-999.0000,9,  -999.00,9,   -999.0,9,-999.000,9,  -999.00,9,   -999.0,0,   -999.0,9,   -999.0,9,  -999.00,9,  -999.0,-999.0000,-999.000,-999.000,  3.0682,-999.000,9
      06MT22_5,   A10,     4,  2,    314,2,19930102,0315,-29.0362, -42.9098, 4009,   1401.0,   2.9530,  34.5250,2,  34.5270,2,    190.7,2,    53.07,2,    33.18,9,     2.43,2, -999.000,9, -999.000,9, -999.000,9, -999.000,9,-999.0000,9,  -999.00,9,   -999.0,9,-999.000,9,  -999.00,9,   -999.0,0,   -999.0,9,   -999.0,9,  -999.00,9,  -999.0,-999.0000,-999.000,-999.000,  2.8540,-999.000,9
      06MT22_5,   A10,     4,  2,    313,2,19930102,0315,-29.0362, -42.9098, 4009,   1599.0,   2.9070,  34.6630,2,-999.0000,9,    197.1,2,    52.92,2,    30.84,9,     2.27,2, -999.000,9, -999.000,9, -999.000,9, -999.000,9,-999.0000,9,  -999.00,9,   -999.0,9,-999.000,9,  -999.00,9,   -999.0,0,   -999.0,9,   -999.0,9,  -999.00,9,  -999.0,-999.0000,-999.000,-999.000,  2.7912,-999.000,9
      06MT22_5,   A10,     4,  2,    312,2,19930102,0315,-29.0362, -42.9098, 4009,   1799.0,   2.9220,  34.7540,2,-999.0000,9,    209.4,2,    48.94,2,    28.83,9,     2.05,2, -999.000,9, -999.000,9, -999.000,9, -999.000,9,-999.0000,9,  -999.00,9,   -999.0,9,-999.000,9,  -999.00,9,   -999.0,0,   -999.0,9,   -999.0,9,  -999.00,9,  -999.0,-999.0000,-999.000,-999.000,  2.7888,-999.000,9
      06MT22_5,   A10,     4,  2,    311,2,19930102,0315,-29.0362, -42.9098, 4009,   2001.0,   3.1690,  34.8640,2,  34.8650,2,    230.4,2,    36.04,2,    24.82,9,     1.71,2, -999.000,9, -999.000,9, -999.000,9, -999.000,9,-999.0000,9,  -999.00,9,   -999.0,9,-999.000,9,  -999.00,9,   -999.0,0,   -999.0,9,   -999.0,9,  -999.00,9,  -999.0,-999.0000,-999.000,-999.000,  3.0141,-999.000,9
      06MT22_5,   A10,     4,  2,    310,2,19930102,0315,-29.0362, -42.9098, 4009,   2252.0,   3.2690,  34.9280,2,-999.0000,9,    247.5,2,    27.03,2,    22.13,9,     1.46,2, -999.000,9, -999.000,9, -999.000,9, -999.000,9,-999.0000,9,  -999.00,9,   -999.0,9,-999.000,9,  -999.00,9,   -999.0,0,   -999.0,9,   -999.0,9,  -999.00,9,  -999.0,-999.0000,-999.000,-999.000,  3.0886,-999.000,9
      06MT22_5,   A10,     4,  2,    309,2,19930102,0315,-29.0362, -42.9098, 4009,   2501.0,   3.1350,  34.9360,2,-999.0000,9,    252.2,2,    26.88,2,    21.35,9,     1.44,2, -999.000,9, -999.000,9, -999.000,9, -999.000,9,-999.0000,9,  -999.00,9,   -999.0,9,-999.000,9,  -999.00,9,   -999.0,0,   -999.0,9,   -999.0,9,  -999.00,9,  -999.0,-999.0000,-999.000,-999.000,  2.9325,-999.000,9
      06MT22_5,   A10,     4,  2,    308,2,19930102,0315,-29.0362, -42.9098, 4009,   2753.0,   2.9620,  34.9280,2,  34.9280,2,    252.6,2,    29.21,2,    21.34,9,     1.41,2, -999.000,9, -999.000,9, -999.000,9, -999.000,9,-999.0000,9,  -999.00,9,   -999.0,9,-999.000,9,  -999.00,9,   -999.0,0,   -999.0,9,   -999.0,9,  -999.00,9,  -999.0,-999.0000,-999.000,-999.000,  2.7376,-999.000,9
      06MT22_5,   A10,     4,  2,    307,2,19930102,0315,-29.0362, -42.9098, 4009,   3002.0,   2.8090,  34.9230,2,-999.0000,9,    254.2,2,    31.14,2,    21.52,9,     1.45,2, -999.000,9, -999.000,9, -999.000,9, -999.000,9,-999.0000,9,  -999.00,9,   -999.0,9,-999.000,9,  -999.00,9,   -999.0,0,   -999.0,9,   -999.0,9,  -999.00,9,  -999.0,-999.0000,-999.000,-999.000,  2.5626,-999.000,9
      06MT22_5,   A10,     4,  2,    306,2,19930102,0315,-29.0362, -42.9098, 4009,   3253.0,   2.5990,  34.9080,2,-999.0000,9,    253.7,2,    36.11,2,    22.01,9,     1.46,2, -999.000,9, -999.000,9, -999.000,9, -999.000,9,-999.0000,9,  -999.00,9,   -999.0,9,-999.000,9,  -999.00,9,   -999.0,0,   -999.0,9,   -999.0,9,  -999.00,9,  -999.0,-999.0000,-999.000,-999.000,  2.3311,-999.000,9
      06MT22_5,   A10,     4,  2,    305,2,19930102,0315,-29.0362, -42.9098, 4009,   3503.0,   1.8870,  34.8380,2,  34.8360,2,    243.0,2,    61.89,2,    25.31,9,     1.77,2, -999.000,9, -999.000,9, -999.000,9, -999.000,9,-999.0000,9,  -999.00,9,   -999.0,9,-999.000,9,  -999.00,9,   -999.0,0,   -999.0,9,   -999.0,9,  -999.00,9,  -999.0,-999.0000,-999.000,-999.000,  1.6100,-999.000,9
      06MT22_5,   A10,     4,  2,    304,2,19930102,0315,-29.0362, -42.9098, 4009,   3755.0,   0.9890,  34.7440,2,-999.0000,9,    227.3,2,    95.70,2,    30.04,9,     2.23,2, -999.000,9, -999.000,9, -999.000,9, -999.000,9,-999.0000,9,  -999.00,9,   -999.0,9,-999.000,9,  -999.00,9,   -999.0,0,   -999.0,9,   -999.0,9,  -999.00,9,  -999.0,-999.0000,-999.000,-999.000,  0.7100,-999.000,9
      06MT22_5,   A10,     4,  2,    303,2,19930102,0315,-29.0362, -42.9098, 4009,   4006.0,   0.5380,  34.7000,2,-999.0000,9,    222.6,2,   112.03,2,    32.26,9,     2.41,2, -999.000,9, -999.000,9, -999.000,9, -999.000,9,-999.0000,9,  -999.00,9,   -999.0,9,-999.000,9,  -999.00,9,   -999.0,0,   -999.0,9,   -999.0,9,  -999.00,9,  -999.0,-999.0000,-999.000,-999.000,  0.2457,-999.000,9
      06MT22_5,   A10,     4,  2,    301,2,19930102,0315,-29.0362, -42.9098, 4009,   4056.0,   0.5070,  34.6960,2,  34.6960,2,    222.5,2,   114.58,2,    31.97,9,     2.40,2, -999.000,9, -999.000,9, -999.000,9, -999.000,9,-999.0000,9,  -999.00,9,   -999.0,9,-999.000,9,  -999.00,9,   -999.0,0,   -999.0,9,   -999.0,9,  -999.00,9,  -999.0,-999.0000,-999.000,-999.000,  0.2104,-999.000,9
      06MT22_5,   A10,     4,  2,    302,2,19930102,0315,-29.0362, -42.9098, 4009,   4057.0,   0.5070,  34.6960,2,  34.6970,2,    222.2,2,   112.97,2,    32.35,9,     2.40,2, -999.000,9, -999.000,9, -999.000,9, -999.000,9,-999.0000,9,  -999.00,9,   -999.0,9,-999.000,9,  -999.00,9,   -999.0,0,   -999.0,9,   -999.0,9,  -999.00,9,  -999.0,-999.0000,-999.000,-999.000,  0.2103,-999.000,9
      06MT22_5,   A10,     5,  1,    212,2,19930102,0930,-29.2200, -42.3617, 4006,     12.0,  22.0060,  36.1880,2,-999.0000,9,    222.3,2,     0.00,2,     0.22,9,     0.06,2,    2.128,2,    1.147,2,    2.581,2, -999.000,9,-999.0000,9,  -999.00,9,   -999.0,9,-999.000,9,  -999.00,9,   -999.0,0,   -999.0,9,   -999.0,9,  -999.00,9,  -999.0,-999.0000,-999.000,-999.000, 22.0036,-999.000,9
      06MT22_5,   A10,     5,  1,    211,2,19930102,0930,-29.2200, -42.3617, 4006,     12.0,  22.0060,  36.1880,2,-999.0000,9,    222.3,2,     0.01,2,     0.00,9,     0.04,2, -999.000,9, -999.000,9, -999.000,9, -999.000,9,-999.0000,9,  -999.00,9,   -999.0,9,-999.000,9,  -999.00,9,   2051.0,2,   -999.0,9,   -999.0,9,  -999.00,9,  -999.0,-999.0000,-999.000,-999.000, 22.0036,-999.000,9
      06MT22_5,   A10,     5,  1,    210,2,19930102,0930,-29.2200, -42.3617, 4006,     32.0,  21.5230,  36.1970,2,-999.0000,9,    225.5,2,     0.01,2,     0.03,9,     0.04,2,    2.150,2,    1.180,2,    2.564,2, -999.000,9,-999.0000,9,  -999.00,9,   -999.0,9,-999.000,9,  -999.00,9,   2055.9,2,   -999.0,9,   -999.0,9,  -999.00,9,  -999.0,-999.0000,-999.000,-999.000, 21.5167,-999.000,9
      06MT22_5,   A10,     5,  1,    209,2,19930102,0930,-29.2200, -42.3617, 4006,     52.0,  20.8780,  36.1720,2,-999.0000,9,    232.2,2,     0.12,2,     0.15,9,     0.06,2,    2.295,2,    1.209,2,    2.391,2, -999.000,9,-999.0000,9,  -999.00,9,   -999.0,9,-999.000,9,  -999.00,9,   2050.6,2,   -999.0,9,   -999.0,9,  -999.00,9,  -999.0,-999.0000,-999.000,-999.000, 20.8680,-999.000,9
      06MT22_5,   A10,     5,  1,    208,2,19930102,0930,-29.2200, -42.3617, 4006,     72.0,  19.6270,  36.1520,2,-999.0000,9,    235.2,2,     0.21,2,     0.11,9,     0.05,2,    2.284,2,    1.212,2,    2.183,2, -999.000,9,-999.0000,9,  -999.00,9,   -999.0,9,-999.000,9,  -999.00,9,   2050.4,2,   -999.0,9,   -999.0,9,  -999.00,9,  -999.0,-999.0000,-999.000,-999.000, 19.6138,-999.000,9
      06MT22_5,   A10,     5,  1,    207,2,19930102,0930,-29.2200, -42.3617, 4006,    101.0,  19.0060,  36.1580,2,-999.0000,9,    229.2,2,     0.13,2,     0.14,9,     0.08,2,    2.301,2,    1.280,2,    1.783,2, -999.000,9,-999.0000,9,  -999.00,9,   -999.0,9,-999.000,9,  -999.00,9,   2061.6,2,   -999.0,9,   -999.0,9,  -999.00,9,  -999.0,-999.0000,-999.000,-999.000, 18.9879,-999.000,9
      06MT22_5,   A10,     5,  1,    206,2,19930102,0930,-29.2200, -42.3617, 4006,    152.0,  18.0010,  36.0210,2,-999.0000,9,    219.1,2,     0.51,2,     1.27,9,     0.11,2,    2.335,2,    1.314,2,    1.075,2, -999.000,9,-999.0000,9,  -999.00,9,   -999.0,9,-999.000,9,  -999.00,9,   2071.5,2,   -999.0,9,   -999.0,9,  -999.00,9,  -999.0,-999.0000,-999.000,-999.000, 17.9747,-999.000,9
      06MT22_5,   A10,     5,  1,    205,2,19930102,0930,-29.2200, -42.3617, 4006,    201.0,  17.9550,  36.1220,2,-999.0000,9,    221.8,2,     0.27,2,     1.80,9,     0.20,2, -999.000,9, -999.000,9, -999.000,9, -999.000,9,-999.0000,9,  -999.00,9,   -999.0,9,-999.000,9,  -999.00,9,   2072.6,2,   -999.0,9,   -999.0,9,  -999.00,9,  -999.0,-999.0000,-999.000,-999.000, 17.9203,-999.000,9
      06MT22_5,   A10,     5,  1,    204,2,19930102,0930,-29.2200, -42.3617, 4006,    302.0,  16.7570,  35.9190,2,-999.0000,9,    221.0,2,     0.89,2,     3.45,9,     0.31,2, -999.000,9, -999.000,9, -999.000,9, -999.000,9,-999.0000,9,  -999.00,9,   -999.0,9,-999.000,9,  -999.00,9,   2080.2,2,   -999.0,9,   -999.0,9,  -999.00,9,  -999.0,-999.0000,-999.000,-999.000, 16.7071,-999.000,9
      06MT22_5,   A10,     5,  1,    203,2,19930102,0930,-29.2200, -42.3617, 4006,    402.0,  15.1010,  35.6160,2,-999.0000,9,    217.2,2,     1.78,2,     6.23,9,     0.50,2, -999.000,9, -999.000,9, -999.000,9, -999.000,9,-999.0000,9,  -999.00,9,   -999.0,9,-999.000,9,  -999.00,9,   2091.4,2,   -999.0,9,   -999.0,9,  -999.00,9,  -999.0,-999.0000,-999.000,-999.000, 15.0389,-999.000,9
      06MT22_5,   A10,     5,  1,    202,2,19930102,0930,-29.2200, -42.3617, 4006,    499.0,  13.0380,  35.2460,2,-999.0000,9,    210.5,2,     3.23,2,    10.71,9,     0.77,2, -999.000,9, -999.000,9, -999.000,9, -999.000,9,-999.0000,9,  -999.00,9,   -999.0,9,-999.000,9,  -999.00,9,   2108.2,2,   -999.0,9,   -999.0,9,  -999.00,9,  -999.0,-999.0000,-999.000,-999.000, 12.9677,-999.000,9
      06MT22_5,   A10,     5,  1,    201,2,19930102,0930,-29.2200, -42.3617, 4006,    600.0,  10.5040,  34.8810,2,-999.0000,9,   -999.0,9,  -999.00,9,  -999.00,9,  -999.00,9, -999.000,9, -999.000,9, -999.000,9, -999.000,9,-999.0000,9,  -999.00,9,   -999.0,9,-999.000,9,  -999.00,9,   -999.0,0,   -999.0,9,   -999.0,9,  -999.00,9,  -999.0,-999.0000,-999.000,-999.000, 10.4298,-999.000,9
      06MT22_5,   A10,     5,  1,    201,2,19930102,0930,-29.2200, -42.3617, 4006,    600.0,  10.5070,  34.8820,2,-999.0000,9,    207.3,2,     6.06,2,    16.90,9,     1.18,2, -999.000,9, -999.000,9, -999.000,9, -999.000,9,-999.0000,9,  -999.00,9,   -999.0,9,-999.000,9,  -999.00,9,   2130.6,2,   -999.0,9,   -999.0,9,  -999.00,9,  -999.0,-999.0000,-999.000,-999.000, 10.4328,-999.000,9
      06MT22_5,   A10,     5,  1,    201,2,19930102,0930,-29.2200, -42.3617, 4006,    601.0,  10.4940,  34.8800,2,-999.0000,9,   -999.0,9,  -999.00,9,  -999.00,9,  -999.00,9, -999.000,9, -999.000,9, -999.000,9, -999.000,9,-999.0000,9,  -999.00,9,   -999.0,9,-999.000,9,  -999.00,9,   -999.0,0,   -999.0,9,   -999.0,9,  -999.00,9,  -999.0,-999.0000,-999.000,-999.000, 10.4197,-999.000,9