BOTTLE,20030417WHPSIOSA
EXPOCODE,SECT_ID,STNNBR,CASTNO,BTLNBR,BTLNBR_FLAG_W,DATE,TIME,LATITUDE,LONGITUDE,DEPTH,CTDPRS,CTDTMP,CTDSAL,CTDSAL_FLAG_W,SALNTY,SALNTY_FLAG_W,OXYGEN,OXYGEN_FLAG_W,SILCAT,SILCAT_FLAG_W,NO2+NO3,NO2+NO3_FLAG_W,PHSPHT,PHSPHT_FLAG_W,CFC-11,CFC-11_FLAG_W,CFC-12,CFC-12_FLAG_W,CCL4,CCL4_FLAG_W,TRITUM,TRITUM_FLAG_W,HELIUM,HELIUM_FLAG_W,DELHE3,DELHE3_FLAG_W,DELC14,DELC14_FLAG_W,NEON,NEON_FLAG_W,O18O16,O18O16_FLAG_W,TCARBN,TCARBN_FLAG_W,PCO2,PCO2_FLAG_W,ALKALI,ALKALI_FLAG_W,PH,PH_FLAG_W,C14ERR,HELIER,DELHER,NEONER,THETA,TRITER,TRITER_FLAG_W
,,,,,,,,,,,DBAR,ITS-90,PSS-78,,PSS-78,,UMOL/KG,,UMOL/KG,,UMOL/KG,,UMOL/KG,,PMOL/KG,,PMOL/KG,,PMOL/KG,,TU,,NMOL/KG,,PERCNT,,/MILLE,,NMOL/KG,,MILLE,,UMOL/KG,,UATM,,UMOL/KG,,,,/MILLE,NMOL/KG,PERCNT,NMOL/KG,ITS-90,TU,
      06MT22_5,   A10,    73,  2,    323,2,19930120,2340,-29.9967,   0.0023, 4008,     10.0,  23.8230,  35.7930,2,  35.8030,2,   -999.0,9,  -999.00,9,  -999.00,9,  -999.00,9, -999.000,9, -999.000,9, -999.000,9, -999.000,9,-999.0000,9,  -999.00,9,   -999.0,9,-999.000,9,  -999.00,9,   -999.0,0,   -999.0,9,   -999.0,9,  -999.00,9,  -999.0,-999.0000,-999.000,-999.000, 23.8209,-999.000,9
      06MT22_5,   A10,    73,  2,    322,2,19930120,2340,-29.9967,   0.0023, 4008,     10.0,  23.8220,  35.7980,2,  35.8040,2,   -999.0,9,  -999.00,9,  -999.00,9,  -999.00,9, -999.000,9, -999.000,9, -999.000,9, -999.000,9,-999.0000,9,  -999.00,9,   -999.0,9,-999.000,9,  -999.00,9,   -999.0,0,   -999.0,9,   -999.0,9,  -999.00,9,  -999.0,-999.0000,-999.000,-999.000, 23.8199,-999.000,9
      06MT22_5,   A10,    73,  2,    321,2,19930120,2340,-29.9967,   0.0023, 4008,    499.0,   9.2250,  34.7010,2,-999.0000,9,    207.7,2,     9.62,2,    19.11,9,     1.30,2, -999.000,9, -999.000,9, -999.000,9, -999.000,9,-999.0000,9,  -999.00,9,   -999.0,9,-999.000,9,  -999.00,9,   -999.0,0,   -999.0,9,   -999.0,9,  -999.00,9,  -999.0,-999.0000,-999.000,-999.000,  9.1695,-999.000,9
      06MT22_5,   A10,    73,  2,    320,2,19930120,2340,-29.9967,   0.0023, 4008,    599.0,   7.2020,  34.5000,2,-999.0000,9,    209.2,2,    13.99,2,    24.29,9,     1.57,2, -999.000,9, -999.000,9, -999.000,9, -999.000,9,-999.0000,9,  -999.00,9,   -999.0,9,-999.000,9,  -999.00,9,   -999.0,0,   -999.0,9,   -999.0,9,  -999.00,9,  -999.0,-999.0000,-999.000,-999.000,  7.1439,-999.000,9
      06MT22_5,   A10,    73,  2,    319,2,19930120,2340,-29.9967,   0.0023, 4008,    698.0,   5.5160,  34.3630,2,  34.3590,2,    220.2,2,    18.78,2,    28.34,9,     1.86,2, -999.000,9, -999.000,9, -999.000,9, -999.000,9,-999.0000,9,  -999.00,9,   -999.0,9,-999.000,9,  -999.00,9,   -999.0,0,   -999.0,9,   -999.0,9,  -999.00,9,  -999.0,-999.0000,-999.000,-999.000,  5.4568,-999.000,9
      06MT22_5,   A10,    73,  2,    318,2,19930120,2340,-29.9967,   0.0023, 4008,    800.0,   4.5440,  34.3170,2,-999.0000,9,    221.7,2,    24.46,2,    30.27,9,     1.98,2, -999.000,9, -999.000,9, -999.000,9, -999.000,9,-999.0000,9,  -999.00,9,   -999.0,9,-999.000,9,  -999.00,9,   -999.0,0,   -999.0,9,   -999.0,9,  -999.00,9,  -999.0,-999.0000,-999.000,-999.000,  4.4815,-999.000,9
      06MT22_5,   A10,    73,  2,    317,2,19930120,2340,-29.9967,   0.0023, 4008,    899.0,   4.0110,  34.3220,2,-999.0000,9,    215.4,2,    31.23,2,    31.81,9,     2.11,2, -999.000,9, -999.000,9, -999.000,9, -999.000,9,-999.0000,9,  -999.00,9,   -999.0,9,-999.000,9,  -999.00,9,   -999.0,0,   -999.0,9,   -999.0,9,  -999.00,9,  -999.0,-999.0000,-999.000,-999.000,  3.9438,-999.000,9
      06MT22_5,   A10,    73,  2,    316,2,19930120,2340,-29.9967,   0.0023, 4008,   1000.0,   3.5550,  34.3660,2,  34.3680,2,    203.5,2,    39.66,2,    33.41,9,     2.21,2, -999.000,9, -999.000,9, -999.000,9, -999.000,9,-999.0000,9,  -999.00,9,   -999.0,9,-999.000,9,  -999.00,9,   -999.0,0,   -999.0,9,   -999.0,9,  -999.00,9,  -999.0,-999.0000,-999.000,-999.000,  3.4830,-999.000,9
      06MT22_5,   A10,    73,  2,    315,2,19930120,2340,-29.9967,   0.0023, 4008,   1099.0,   3.2960,  34.4190,2,-999.0000,9,    194.4,2,    46.47,2,    34.22,9,     2.27,2, -999.000,9, -999.000,9, -999.000,9, -999.000,9,-999.0000,9,  -999.00,9,   -999.0,9,-999.000,9,  -999.00,9,   -999.0,0,   -999.0,9,   -999.0,9,  -999.00,9,  -999.0,-999.0000,-999.000,-999.000,  3.2178,-999.000,9
      06MT22_5,   A10,    73,  2,    314,2,19930120,2340,-29.9967,   0.0023, 4008,   1200.0,   3.1600,  34.4750,2,-999.0000,9,    187.9,2,    51.45,2,    34.36,9,     2.28,2, -999.000,9, -999.000,9, -999.000,9, -999.000,9,-999.0000,9,  -999.00,9,   -999.0,9,-999.000,9,  -999.00,9,   -999.0,0,   -999.0,9,   -999.0,9,  -999.00,9,  -999.0,-999.0000,-999.000,-999.000,  3.0750,-999.000,9
      06MT22_5,   A10,    73,  2,    313,2,19930120,2340,-29.9967,   0.0023, 4008,   1400.0,   2.9500,  34.5980,2,  34.6040,2,    187.0,2,    56.16,2,    33.19,9,     2.18,2, -999.000,9, -999.000,9, -999.000,9, -999.000,9,-999.0000,9,  -999.00,9,   -999.0,9,-999.000,9,  -999.00,9,   -999.0,0,   -999.0,9,   -999.0,9,  -999.00,9,  -999.0,-999.0000,-999.000,-999.000,  2.8509,-999.000,9
      06MT22_5,   A10,    73,  2,    312,2,19930120,2340,-29.9967,   0.0023, 4008,   1600.0,   2.9230,  34.6990,2,  34.7000,2,    196.0,2,    53.91,2,    30.82,9,     2.02,2, -999.000,9, -999.000,9, -999.000,9, -999.000,9,-999.0000,9,  -999.00,9,   -999.0,9,-999.000,9,  -999.00,9,   -999.0,0,   -999.0,9,   -999.0,9,  -999.00,9,  -999.0,-999.0000,-999.000,-999.000,  2.8074,-999.000,9
      06MT22_5,   A10,    73,  2,    311,2,19930120,2340,-29.9967,   0.0023, 4008,   1698.0,   2.8970,  34.7350,2,-999.0000,9,    201.7,2,    52.28,2,    30.16,9,     1.96,2, -999.000,9, -999.000,9, -999.000,9, -999.000,9,-999.0000,9,  -999.00,9,   -999.0,9,-999.000,9,  -999.00,9,   -999.0,0,   -999.0,9,   -999.0,9,  -999.00,9,  -999.0,-999.0000,-999.000,-999.000,  2.7730,-999.000,9
      06MT22_5,   A10,    73,  2,    310,2,19930120,2340,-29.9967,   0.0023, 4008,   1698.0,   2.8970,  34.7350,2,-999.0000,9,    201.9,2,    52.11,2,    30.11,9,     1.95,2, -999.000,9, -999.000,9, -999.000,9, -999.000,9,-999.0000,9,  -999.00,9,   -999.0,9,-999.000,9,  -999.00,9,   -999.0,0,   -999.0,9,   -999.0,9,  -999.00,9,  -999.0,-999.0000,-999.000,-999.000,  2.7730,-999.000,9
      06MT22_5,   A10,    73,  2,    309,2,19930120,2340,-29.9967,   0.0023, 4008,   2000.0,   2.6990,  34.8050,2,  34.8080,2,    217.9,2,    50.63,2,    27.43,9,     1.77,2, -999.000,9, -999.000,9, -999.000,9, -999.000,9,-999.0000,9,  -999.00,9,   -999.0,9,-999.000,9,  -999.00,9,   -999.0,0,   -999.0,9,   -999.0,9,  -999.00,9,  -999.0,-999.0000,-999.000,-999.000,  2.5514,-999.000,9
      06MT22_5,   A10,    73,  2,    308,2,19930120,2340,-29.9967,   0.0023, 4008,   2250.0,   2.5470,  34.8320,2,  34.8320,2,    225.0,2,    51.72,2,    26.30,9,     1.68,2, -999.000,9, -999.000,9, -999.000,9, -999.000,9,-999.0000,9,  -999.00,9,   -999.0,9,-999.000,9,  -999.00,9,   -999.0,0,   -999.0,9,   -999.0,9,  -999.00,9,  -999.0,-999.0000,-999.000,-999.000,  2.3792,-999.000,9
      06MT22_5,   A10,    73,  2,    307,2,19930120,2340,-29.9967,   0.0023, 4008,   2501.0,   2.4420,  34.8450,2,  34.8460,2,    231.0,2,    52.08,2,    26.09,9,     1.63,2, -999.000,9, -999.000,9, -999.000,9, -999.000,9,-999.0000,9,  -999.00,9,   -999.0,9,-999.000,9,  -999.00,9,   -999.0,0,   -999.0,9,   -999.0,9,  -999.00,9,  -999.0,-999.0000,-999.000,-999.000,  2.2526,-999.000,9
      06MT22_5,   A10,    73,  2,    399,2,19930120,2340,-29.9967,   0.0023, 4008,   2752.0,   2.3720,  34.8590,2,-999.0000,9,   -999.0,9,  -999.00,9,  -999.00,9,  -999.00,9, -999.000,9, -999.000,9, -999.000,9, -999.000,9,-999.0000,9,  -999.00,9,   -999.0,9,-999.000,9,  -999.00,9,   -999.0,0,   -999.0,9,   -999.0,9,  -999.00,9,  -999.0,-999.0000,-999.000,-999.000,  2.1598,-999.000,9
      06MT22_5,   A10,    73,  2,    399,2,19930120,2340,-29.9967,   0.0023, 4008,   3006.0,   2.3250,  34.8700,2,-999.0000,9,   -999.0,9,  -999.00,9,  -999.00,9,  -999.00,9, -999.000,9, -999.000,9, -999.000,9, -999.000,9,-999.0000,9,  -999.00,9,   -999.0,9,-999.000,9,  -999.00,9,   -999.0,0,   -999.0,9,   -999.0,9,  -999.00,9,  -999.0,-999.0000,-999.000,-999.000,  2.0886,-999.000,9
      06MT22_5,   A10,    73,  2,    306,2,19930120,2340,-29.9967,   0.0023, 4008,   3253.0,   2.3080,  34.8750,2,  34.8750,2,    237.3,2,    51.81,2,    24.61,9,     1.54,2, -999.000,9, -999.000,9, -999.000,9, -999.000,9,-999.0000,9,  -999.00,9,   -999.0,9,-999.000,9,  -999.00,9,   -999.0,0,   -999.0,9,   -999.0,9,  -999.00,9,  -999.0,-999.0000,-999.000,-999.000,  2.0467,-999.000,9
      06MT22_5,   A10,    73,  2,    305,2,19930120,2340,-29.9967,   0.0023, 4008,   3504.0,   2.3080,  34.8770,2,-999.0000,9,    235.0,2,    52.47,2,    24.95,9,     1.55,2,   -0.001,2,    0.000,2,    0.004,2, -999.000,9,-999.0000,9,  -999.00,9,   -999.0,9,-999.000,9,  -999.00,9,   -999.0,0,   -999.0,9,   -999.0,9,  -999.00,9,  -999.0,-999.0000,-999.000,-999.000,  2.0201,-999.000,9
      06MT22_5,   A10,    73,  2,    304,2,19930120,2340,-29.9967,   0.0023, 4008,   3763.0,   2.3110,  34.8780,2,  34.8790,2,    234.3,2,    53.07,2,    24.73,9,     1.54,2,    0.000,2,    0.000,2,    0.003,2, -999.000,9,-999.0000,9,  -999.00,9,   -999.0,9,-999.000,9,  -999.00,9,   -999.0,0,   -999.0,9,   -999.0,9,  -999.00,9,  -999.0,-999.0000,-999.000,-999.000,  1.9948,-999.000,9
      06MT22_5,   A10,    73,  2,    303,2,19930120,2340,-29.9967,   0.0023, 4008,   3907.0,   2.3220,  34.8780,2,-999.0000,9,    233.9,2,    53.19,2,    24.94,9,     1.55,2,    0.004,2,    0.000,2,    0.002,2, -999.000,9,-999.0000,9,  -999.00,9,   -999.0,9,-999.000,9,  -999.00,9,   -999.0,0,   -999.0,9,   -999.0,9,  -999.00,9,  -999.0,-999.0000,-999.000,-999.000,  1.9894,-999.000,9
      06MT22_5,   A10,    73,  2,    301,2,19930120,2340,-29.9967,   0.0023, 4008,   3985.0,   2.3310,  34.8790,2,-999.0000,9,    233.2,2,    53.16,2,    24.88,9,     1.54,2,    0.001,2,    0.000,2,    0.016,3, -999.000,9,-999.0000,9,  -999.00,9,   -999.0,9,-999.000,9,  -999.00,9,   -999.0,0,   -999.0,9,   -999.0,9,  -999.00,9,  -999.0,-999.0000,-999.000,-999.000,  1.9833,-999.000,9
      06MT22_5,   A10,    73,  2,    302,2,19930120,2340,-29.9967,   0.0023, 4008,   3987.0,   2.3310,  34.8790,2,  34.8800,2,   -999.0,9,  -999.00,9,  -999.00,9,  -999.00,9,    0.001,2,    0.000,2,    0.001,2, -999.000,9,-999.0000,9,  -999.00,9,   -999.0,9,-999.000,9,  -999.00,9,   -999.0,0,   -999.0,9,   -999.0,9,  -999.00,9,  -999.0,-999.0000,-999.000,-999.000,  1.9891,-999.000,9
      06MT22_5,   A10,    74,  1,    324,2,19930121,0617,-29.8583,   0.5665, 3329,     10.0,  23.9500,  35.9670,2,  35.9730,2,    216.5,2,     1.91,2,     0.07,9,     0.14,2,    1.983,2,    1.095,2,    2.511,2, -999.000,9,-999.0000,1,  -999.00,1,   -999.0,9,-999.000,1,  -999.00,9,   2057.8,2,   -999.0,9,   -999.0,9,  -999.00,9,  -999.0,-999.0000,-999.000,-999.000, 23.9479,-999.000,9
      06MT22_5,   A10,    74,  1,    323,2,19930121,0617,-29.8583,   0.5665, 3329,     30.0,  22.3710,  35.8200,2,-999.0000,9,    232.1,2,     1.14,2,     0.00,9,     0.13,2,    2.242,2,    1.212,2,    2.570,2,    0.935,2,-999.0000,1,  -999.00,1,   -999.0,9,-999.000,1,  -999.00,9,   2051.5,2,   -999.0,9,   -999.0,9,  -999.00,9,  -999.0,-999.0000,-999.000,-999.000, 22.3650,   0.023,9
      06MT22_5,   A10,    74,  1,    322,2,19930121,0617,-29.8583,   0.5665, 3329,     50.0,  19.4960,  35.7190,2,  35.7130,2,    231.8,2,     1.23,2,     0.09,9,     0.14,2,    2.519,2,    1.327,2,    2.552,2,    0.959,2,   1.7204,5,    -1.51,3,   -999.0,9,   7.041,5,  -999.00,9,   2047.3,2,   -999.0,9,   -999.0,9,  -999.00,9,  -999.0,  0.0069,   0.250,   0.028, 19.4869,   0.025,9
      06MT22_5,   A10,    74,  1,    321,2,19930121,0617,-29.8583,   0.5665, 3329,    100.0,  16.3110,  35.5730,2,-999.0000,9,   -999.0,9,  -999.00,9,  -999.00,9,  -999.00,9, -999.000,9, -999.000,9, -999.000,9, -999.000,9,-999.0000,1,  -999.00,1,   -999.0,9,-999.000,1,  -999.00,9,   -999.0,9,   -999.0,9,   -999.0,9,  -999.00,9,  -999.0,-999.0000,-999.000,-999.000, 16.2950,-999.000,9
      06MT22_5,   A10,    74,  1,    320,2,19930121,0617,-29.8583,   0.5665, 3329,    150.0,  15.1650,  35.4240,2,-999.0000,9,    227.5,2,     2.99,2,     4.72,9,     0.43,2,    2.648,2,    1.403,2,    1.176,2,    0.927,2,-999.0000,1,  -999.00,1,   -999.0,9,-999.000,1,  -999.00,9,   2073.9,2,   -999.0,9,   -999.0,9,  -999.00,9,  -999.0,-999.0000,-999.000,-999.000, 15.1421,   0.022,9
      06MT22_5,   A10,    74,  1,    319,2,19930121,0617,-29.8583,   0.5665, 3329,    200.0,  13.8120,  35.2030,2,  35.1990,2,    217.5,2,     3.94,2,     8.03,9,     0.61,2,    2.600,2,    1.363,2,    1.056,2,    0.843,2,-999.0000,1,  -999.00,1,   -999.0,9,-999.000,1,  -999.00,9,   2089.8,2,   -999.0,9,   -999.0,9,  -999.00,9,  -999.0,-999.0000,-999.000,-999.000, 13.7833,   0.023,9
      06MT22_5,   A10,    74,  1,    318,2,19930121,0617,-29.8583,   0.5665, 3329,    299.0,  12.1970,  35.0350,2,-999.0000,9,    213.3,2,     4.94,2,    12.45,9,     0.86,2, -999.000,9, -999.000,9, -999.000,9,    0.702,2,-999.0000,1,  -999.00,1,   -999.0,9,-999.000,1,  -999.00,9,   2106.7,2,   -999.0,9,   -999.0,9,  -999.00,9,  -999.0,-999.0000,-999.000,-999.000, 12.1575,   0.018,9
      06MT22_5,   A10,    74,  1,    317,2,19930121,0617,-29.8583,   0.5665, 3329,    399.0,  10.2510,  34.8130,2,-999.0000,9,    207.2,2,     7.60,2,    17.87,9,     1.19,2,    2.090,2,    1.074,2,    1.254,2,    0.511,2,   1.7596,5,     1.00,3,   -999.0,9,   7.454,5,  -999.00,9,   2127.9,2,   -999.0,9,   -999.0,9,  -999.00,9,  -999.0,  0.0070,   0.250,   0.030, 10.2037,   0.016,9
      06MT22_5,   A10,    74,  1,    316,2,19930121,0617,-29.8583,   0.5665, 3329,    499.0,   9.0900,  34.6900,2,  34.6850,2,    202.8,2,    10.41,2,    21.35,9,     1.40,2, -999.000,9, -999.000,9, -999.000,9,    0.397,2,   1.7618,5,     1.11,3,   -999.0,9,   7.520,5,  -999.00,9,   2140.8,2,   -999.0,9,   -999.0,9,  -999.00,9,  -999.0,  0.0070,   0.250,   0.030,  9.0347,   0.012,9
      06MT22_5,   A10,    74,  1,    315,2,19930121,0617,-29.8583,   0.5665, 3329,    599.0,   7.2080,  34.5120,2,-999.0000,9,    203.1,2,    14.89,2,    26.56,9,     1.70,2,    1.632,2,    0.813,2,    1.882,2,    0.265,2,   1.7708,5,     1.18,3,   -999.0,9,   7.648,5,  -999.00,9,   2159.7,2,   -999.0,9,   -999.0,9,  -999.00,9,  -999.0,  0.0071,   0.250,   0.031,  7.1499,   0.009,9
      06MT22_5,   A10,    74,  1,    314,2,19930121,0617,-29.8583,   0.5665, 3329,    700.0,   5.6840,  34.3850,2,-999.0000,9,    215.2,2,    21.08,2,    29.58,9,     1.91,2,    1.520,2,    0.745,2,    2.325,2,    0.215,2,   1.7810,5,     1.56,3,   -999.0,9,   7.710,5,  -999.00,9,   2168.6,2,   -999.0,9,   -999.0,9,  -999.00,9,  -999.0,  0.0071,   0.250,   0.031,  5.6237,   0.010,9
      06MT22_5,   A10,    74,  1,    313,2,19930121,0617,-29.8583,   0.5665, 3329,    849.0,   4.3260,  34.3530,2,  34.3550,2,    202.3,2,    30.55,2,    32.92,9,     2.12,2,    0.876,2,    0.434,2,    1.776,2,    0.095,2,   1.7958,2,     2.48,2,   -999.0,9,   7.774,2,  -999.00,9,   2193.9,2,   -999.0,9,   -999.0,9,  -999.00,9,  -999.0,  0.0063,   0.250,   0.027,  4.2608,   0.005,9
      06MT22_5,   A10,    74,  1,    312,2,19930121,0617,-29.8583,   0.5665, 3329,    999.0,   3.5840,  34.3970,2,-999.0000,9,    194.7,2,    41.64,2,    34.41,9,     2.23,2,    0.492,2,    0.232,2,    1.241,2,    0.073,2,   2.1785,4,     4.08,3,   -999.0,9,   7.872,7,  -999.00,9,   2211.4,2,   -999.0,9,   -999.0,9,  -999.00,9,  -999.0,  0.0076,   0.250,   0.028,  3.5114,   0.005,9
      06MT22_5,   A10,    74,  1,    311,2,19930121,0617,-29.8583,   0.5665, 3329,   1199.0,   3.0840,  34.5070,2,-999.0000,9,    185.8,2,    53.76,2,    34.66,9,     2.25,2,    0.177,2,    0.094,2,    0.628,2,    5.561,4,   1.7989,2,     6.19,2,   -999.0,9,   7.906,2,  -999.00,9,   2227.2,2,   -999.0,9,   -999.0,9,  -999.00,9,  -999.0,  0.0063,   0.250,   0.028,  2.9997,   0.608,9
      06MT22_5,   A10,    74,  1,    310,2,19930121,0617,-29.8583,   0.5665, 3329,   1399.0,   2.9530,  34.6270,2,  34.6300,2,    187.6,2,    55.58,2,    33.17,9,     2.14,2, -999.000,9, -999.000,9, -999.000,9,    0.019,2,   1.8038,2,     6.64,2,   -999.0,9,   7.920,2,  -999.00,9,   2229.7,2,   -999.0,9,   -999.0,9,  -999.00,9,  -999.0,  0.0063,   0.250,   0.028,  2.8539,   0.057,9
      06MT22_5,   A10,    74,  1,    309,2,19930121,0617,-29.8583,   0.5665, 3329,   1599.0,   2.9140,  34.7240,2,-999.0000,9,    199.0,2,    52.17,2,    30.70,9,     1.96,2,    0.015,2,    0.009,2,    0.124,2,    0.009,2,   1.8109,2,     6.40,2,   -999.0,9,   7.945,2,  -999.00,9,   2219.4,2,   -999.0,9,   -999.0,9,  -999.00,9,  -999.0,  0.0063,   0.250,   0.028,  2.7983,   0.003,9
      06MT22_5,   A10,    74,  1,    308,2,19930121,0617,-29.8583,   0.5665, 3329,   1799.0,   2.8360,  34.7800,2,-999.0000,9,    208.9,2,    50.09,2,    29.10,9,     1.83,2,    0.011,2,    0.007,2,    0.068,2,    0.012,2,   1.8225,2,     5.58,2,   -999.0,9,   7.934,2,  -999.00,9,   2212.9,2,   -999.0,9,   -999.0,9,  -999.00,9,  -999.0,  0.0064,   0.250,   0.028,  2.7041,   0.002,9
      06MT22_5,   A10,    74,  1,    307,2,19930121,0617,-29.8583,   0.5665, 3329,   2000.0,   2.7190,  34.8130,2,  34.8130,2,    219.7,2,    49.97,2,    28.04,9,     1.77,2,    0.003,2,    0.002,2,    0.041,2, -999.000,9,   1.8198,2,     6.06,2,   -999.0,9,   7.955,2,  -999.00,9,   2208.7,2,   -999.0,9,   -999.0,9,  -999.00,9,  -999.0,  0.0064,   0.250,   0.028,  2.5711,-999.000,9
      06MT22_5,   A10,    74,  1,    306,2,19930121,0617,-29.8583,   0.5665, 3329,   2250.0,   2.5440,  34.8300,2,-999.0000,9,    224.0,2,    52.08,2,    26.89,9,     1.70,2,    0.002,2,    0.001,2,    0.032,2,    0.009,2,   1.8194,2,     5.78,2,   -999.0,9,   7.988,2,  -999.00,9,   2207.5,2,   -999.0,9,   -999.0,9,  -999.00,9,  -999.0,  0.0064,   0.250,   0.028,  2.3761,   0.002,9
      06MT22_5,   A10,    74,  1,    305,2,19930121,0617,-29.8583,   0.5665, 3329,   2501.0,   2.4460,  34.8450,2,-999.0000,9,    230.3,2,    52.14,2,    25.94,9,     1.66,2,    0.000,2,    0.002,2,    0.021,2,    0.005,2,   1.8564,4,     5.71,3,   -999.0,9,   8.013,4,  -999.00,9,   2204.8,2,   -999.0,9,   -999.0,9,  -999.00,9,  -999.0,  0.0065,   0.250,   0.028,  2.2565,   0.002,9
      06MT22_5,   A10,    74,  1,    304,2,19930121,0617,-29.8583,   0.5665, 3329,   2754.0,   2.3690,  34.8580,2,  34.8570,2,    234.6,2,    51.97,2,    26.92,9,     1.62,2,   -0.001,2,    0.000,2,    0.012,2, -999.000,9,   1.8279,2,     4.90,2,   -999.0,9,   7.932,2,  -999.00,9,   2205.2,2,   -999.0,9,   -999.0,9,  -999.00,9,  -999.0,  0.0064,   0.250,   0.028,  2.1567,-999.000,9
      06MT22_5,   A10,    74,  1,    303,2,19930121,0617,-29.8583,   0.5665, 3329,   3002.0,   2.3150,  34.8650,2,-999.0000,9,    235.3,2,    52.32,2,    24.93,9,     1.59,2,    0.005,4,    0.001,2,    0.012,4,    0.010,2,   1.8323,2,     4.59,2,   -999.0,9,   7.941,2,  -999.00,9,   2206.2,2,   -999.0,9,   -999.0,9,  -999.00,9,  -999.0,  0.0064,   0.250,   0.028,  2.0792,   0.002,9
      06MT22_5,   A10,    74,  1,    302,2,19930121,0617,-29.8583,   0.5665, 3329,   3253.0,   2.2630,  34.8750,2,  34.8770,2,    236.1,2,    53.00,2,    24.75,9,     1.56,2,    0.001,2,    0.000,2,    0.005,2,    0.016,2,   1.9073,4,     1.52,3,   -999.0,9,   7.997,7,  -999.00,9,   2212.6,2,   -999.0,9,   -999.0,9,  -999.00,9,  -999.0,  0.0067,   0.250,   0.028,  2.0027,   0.005,9
      06MT22_5,   A10,    74,  1,    301,2,19930121,0617,-29.8583,   0.5665, 3329,   3323.0,   2.2610,  34.8780,2,  34.8790,2,    233.7,2,    53.44,2,    24.45,9,     1.56,2,    0.001,2,    0.002,2,    0.004,2,    0.010,2,   1.8301,2,     3.50,2,   -999.0,9,   7.969,2,  -999.00,9,   2214.2,2,   -999.0,9,   -999.0,9,  -999.00,9,  -999.0,  0.0064,   0.250,   0.028,  1.9934,   0.002,9