BOTTLE,20030417WHPSIOSA
EXPOCODE,SECT_ID,STNNBR,CASTNO,BTLNBR,BTLNBR_FLAG_W,DATE,TIME,LATITUDE,LONGITUDE,DEPTH,CTDPRS,CTDTMP,CTDSAL,CTDSAL_FLAG_W,SALNTY,SALNTY_FLAG_W,OXYGEN,OXYGEN_FLAG_W,SILCAT,SILCAT_FLAG_W,NO2+NO3,NO2+NO3_FLAG_W,PHSPHT,PHSPHT_FLAG_W,CFC-11,CFC-11_FLAG_W,CFC-12,CFC-12_FLAG_W,CCL4,CCL4_FLAG_W,TRITUM,TRITUM_FLAG_W,HELIUM,HELIUM_FLAG_W,DELHE3,DELHE3_FLAG_W,DELC14,DELC14_FLAG_W,NEON,NEON_FLAG_W,O18O16,O18O16_FLAG_W,TCARBN,TCARBN_FLAG_W,PCO2,PCO2_FLAG_W,ALKALI,ALKALI_FLAG_W,PH,PH_FLAG_W,C14ERR,HELIER,DELHER,NEONER,THETA,TRITER,TRITER_FLAG_W
,,,,,,,,,,,DBAR,ITS-90,PSS-78,,PSS-78,,UMOL/KG,,UMOL/KG,,UMOL/KG,,UMOL/KG,,PMOL/KG,,PMOL/KG,,PMOL/KG,,TU,,NMOL/KG,,PERCNT,,/MILLE,,NMOL/KG,,MILLE,,UMOL/KG,,UATM,,UMOL/KG,,,,/MILLE,NMOL/KG,PERCNT,NMOL/KG,ITS-90,TU,
      06MT22_5,   A10,    56,  1,    324,2,19930115,2331,-30.0128, -12.9893, 3096,     10.0,  24.1610,  36.0880,2,  36.1020,2,    215.9,2,     0.95,2,     0.03,9,     0.15,2,    1.951,2,    1.082,2,    2.426,2, -999.000,9,-999.0000,9,  -999.00,9,   -999.0,9,-999.000,9,  -999.00,9,   2057.3,2,   -999.0,9,   2374.3,2,  -999.00,9,  -999.0,-999.0000,-999.000,-999.000, 24.1589,-999.000,9
      06MT22_5,   A10,    56,  1,    323,2,19930115,2331,-30.0128, -12.9893, 3096,     31.0,  21.2880,  36.0560,2,-999.0000,9,    235.4,2,     1.03,2,     0.06,9,     0.20,2,    2.286,2,    1.241,2,    2.567,2, -999.000,9,-999.0000,9,  -999.00,9,   -999.0,9,-999.000,9,  -999.00,9,   2060.9,2,   -999.0,9,   2377.1,2,  -999.00,9,  -999.0,-999.0000,-999.000,-999.000, 21.2820,-999.000,9
      06MT22_5,   A10,    56,  1,    322,2,19930115,2331,-30.0128, -12.9893, 3096,     72.0,  19.0870,  35.9600,2,-999.0000,9,    242.5,2,     0.92,2,     0.01,9,     0.20,2,    2.419,2,    1.309,2,    2.489,2, -999.000,9,-999.0000,9,  -999.00,9,   -999.0,9,-999.000,9,  -999.00,9,   2058.9,2,   -999.0,9,   2368.2,2,  -999.00,9,  -999.0,-999.0000,-999.000,-999.000, 19.0741,-999.000,9
      06MT22_5,   A10,    56,  1,    321,2,19930115,2331,-30.0128, -12.9893, 3096,    100.0,  18.4810,  35.9700,2,  35.9710,2,    237.9,2,     1.24,2,     0.00,9,     0.21,2,    2.389,2,    1.284,2,    2.277,2, -999.000,9,-999.0000,9,  -999.00,9,   -999.0,9,-999.000,9,  -999.00,9,   2063.0,2,   -999.0,9,   2369.2,2,  -999.00,9,  -999.0,-999.0000,-999.000,-999.000, 18.4634,-999.000,9
      06MT22_5,   A10,    56,  1,    320,2,19930115,2331,-30.0128, -12.9893, 3096,    149.0,  17.2100,  35.7780,2,-999.0000,9,   -999.0,9,  -999.00,9,  -999.00,9,  -999.00,9, -999.000,9, -999.000,9, -999.000,9, -999.000,9,-999.0000,9,  -999.00,9,   -999.0,9,-999.000,9,  -999.00,9,   -999.0,9,   -999.0,9,   -999.0,9,  -999.00,9,  -999.0,-999.0000,-999.000,-999.000, 17.1852,-999.000,9
      06MT22_5,   A10,    56,  1,    319,2,19930115,2331,-30.0128, -12.9893, 3096,    199.0,  16.5550,  35.6620,2,-999.0000,9,    232.1,2,     0.94,2,     0.99,9,     0.29,2,    2.542,2,    1.362,2,    1.989,2, -999.000,9,-999.0000,9,  -999.00,9,   -999.0,9,-999.000,9,  -999.00,9,   2070.4,2,   -999.0,9,   2348.3,2,  -999.00,9,  -999.0,-999.0000,-999.000,-999.000, 16.5227,-999.000,9
      06MT22_5,   A10,    56,  1,    318,2,19930115,2331,-30.0128, -12.9893, 3096,    300.0,  14.4570,  35.3190,2,-999.0000,9,    213.9,2,     3.02,2,     6.70,9,     0.59,2,    2.468,2,    1.285,2,    0.833,2, -999.000,9,-999.0000,9,  -999.00,9,   -999.0,9,-999.000,9,  -999.00,9,   2088.2,2,   -999.0,9,   2324.4,2,  -999.00,9,  -999.0,-999.0000,-999.000,-999.000, 14.4125,-999.000,9
      06MT22_5,   A10,    56,  1,    317,2,19930115,2331,-30.0128, -12.9893, 3096,    400.0,  12.2770,  35.0630,2,  35.0570,2,    211.0,2,     4.45,2,    11.76,9,     0.86,2,    2.280,2,    1.171,2,    0.917,2, -999.000,9,-999.0000,9,  -999.00,9,   -999.0,9,-999.000,9,  -999.00,9,   2107.6,2,   -999.0,9,   2311.4,2,  -999.00,9,  -999.0,-999.0000,-999.000,-999.000, 12.2236,-999.000,9
      06MT22_5,   A10,    56,  1,    316,2,19930115,2331,-30.0128, -12.9893, 3096,    502.0,  10.6240,  34.8700,2,-999.0000,9,    207.5,2,     6.40,2,    15.97,9,     1.14,2,    2.090,2,    1.059,2,    1.105,2, -999.000,9,-999.0000,9,  -999.00,9,   -999.0,9,-999.000,9,  -999.00,9,   2122.7,2,   -999.0,9,   2306.5,2,  -999.00,9,  -999.0,-999.0000,-999.000,-999.000, 10.5628,-999.000,9
      06MT22_5,   A10,    56,  1,    315,2,19930115,2331,-30.0128, -12.9893, 3096,    600.0,   9.1280,  34.7010,2,-999.0000,9,    209.9,2,     8.50,2,    19.71,9,     1.35,2,    1.985,2,    0.992,2,    1.435,2, -999.000,9,-999.0000,9,  -999.00,9,   -999.0,9,-999.000,9,  -999.00,9,   2135.8,2,   -999.0,9,   2296.5,2,  -999.00,9,  -999.0,-999.0000,-999.000,-999.000,  9.0610,-999.000,9
      06MT22_5,   A10,    56,  1,    314,2,19930115,2331,-30.0128, -12.9893, 3096,    600.0,   9.1280,  34.7010,2,  34.7040,2,    209.8,2,     8.54,2,    19.86,9,     1.36,2,    1.973,2,    0.990,2,    1.441,2, -999.000,9,-999.0000,9,  -999.00,9,   -999.0,9,-999.000,9,  -999.00,9,   2135.0,2,   -999.0,9,   2295.3,2,  -999.00,9,  -999.0,-999.0000,-999.000,-999.000,  9.0610,-999.000,9
      06MT22_5,   A10,    56,  1,    313,2,19930115,2331,-30.0128, -12.9893, 3096,    696.0,   7.2530,  34.5120,2,-999.0000,9,    207.5,2,    13.43,2,    24.88,9,     1.74,2,    1.630,2,    0.822,2,    1.834,2, -999.000,9,-999.0000,9,  -999.00,9,   -999.0,9,-999.000,9,  -999.00,9,   2154.4,2,   -999.0,9,   2291.4,2,  -999.00,9,  -999.0,-999.0000,-999.000,-999.000,  7.1848,-999.000,9
      06MT22_5,   A10,    56,  1,    312,2,19930115,2331,-30.0128, -12.9893, 3096,    851.0,   5.1680,  34.3580,2,-999.0000,9,    208.3,2,    21.17,2,    29.31,9,     2.05,2,    1.191,2,    0.584,2,    2.052,2, -999.000,9,-999.0000,9,  -999.00,9,   -999.0,9,-999.000,9,  -999.00,9,   2172.8,2,   -999.0,9,   2290.4,2,  -999.00,9,  -999.0,-999.0000,-999.000,-999.000,  5.0971,-999.000,9
      06MT22_5,   A10,    56,  1,    311,2,19930115,2331,-30.0128, -12.9893, 3096,    996.0,   3.9360,  34.3430,2,  34.3450,2,    208.4,2,    32.63,2,    31.99,9,     2.25,2,    0.724,2,    0.344,2,    1.636,2, -999.000,9,-999.0000,9,  -999.00,9,   -999.0,9,-999.000,9,  -999.00,9,   2193.0,2,   -999.0,9,   2300.2,2,  -999.00,9,  -999.0,-999.0000,-999.000,-999.000,  3.8614,-999.000,9
      06MT22_5,   A10,    56,  1,    399,2,19930115,2331,-30.0128, -12.9893, 3096,   1201.0,   3.2210,  34.4400,2,-999.0000,9,   -999.0,9,  -999.00,9,  -999.00,9,  -999.00,9, -999.000,9, -999.000,9, -999.000,9, -999.000,9,-999.0000,9,  -999.00,9,   -999.0,9,-999.000,9,  -999.00,9,   -999.0,9,   -999.0,9,   -999.0,9,  -999.00,9,  -999.0,-999.0000,-999.000,-999.000,  3.1351,-999.000,9
      06MT22_5,   A10,    56,  1,    310,2,19930115,2331,-30.0128, -12.9893, 3096,   1401.0,   2.9340,  34.5440,2,-999.0000,9,    190.1,2,    53.68,2,    33.04,9,     2.34,2,    0.111,2,    0.049,2,    0.484,2, -999.000,9,-999.0000,9,  -999.00,9,   -999.0,9,-999.000,9,  -999.00,9,   2225.2,2,   -999.0,9,   2327.9,2,  -999.00,9,  -999.0,-999.0000,-999.000,-999.000,  2.8347,-999.000,9
      06MT22_5,   A10,    56,  1,    309,2,19930115,2331,-30.0128, -12.9893, 3096,   1602.0,   2.8070,  34.6530,2,-999.0000,9,    193.6,2,    56.65,2,    31.72,9,     2.20,2,    0.037,2,    0.016,2,    0.230,2, -999.000,9,-999.0000,9,  -999.00,9,   -999.0,9,-999.000,9,  -999.00,9,   2223.7,2,   -999.0,9,   2329.9,2,  -999.00,9,  -999.0,-999.0000,-999.000,-999.000,  2.6925,-999.000,9
      06MT22_5,   A10,    56,  1,    308,2,19930115,2331,-30.0128, -12.9893, 3096,   1801.0,   2.7580,  34.7290,2,  34.7270,2,    203.2,2,    54.91,2,    30.15,9,     2.05,2,    0.015,2,    0.004,2,    0.120,2, -999.000,9,-999.0000,9,  -999.00,9,   -999.0,9,-999.000,9,  -999.00,9,   2218.6,2,   -999.0,9,   2330.9,2,  -999.00,9,  -999.0,-999.0000,-999.000,-999.000,  2.6272,-999.000,9
      06MT22_5,   A10,    56,  1,    307,2,19930115,2331,-30.0128, -12.9893, 3096,   2001.0,   2.6610,  34.7880,2,-999.0000,9,    214.9,2,    53.40,2,    28.11,9,     1.87,2,    0.013,2,    0.000,2,    0.071,2, -999.000,9,-999.0000,9,  -999.00,9,   -999.0,9,-999.000,9,  -999.00,9,   2211.6,2,   -999.0,9,   2332.8,2,  -999.00,9,  -999.0,-999.0000,-999.000,-999.000,  2.5137,-999.000,9
      06MT22_5,   A10,    56,  1,    306,2,19930115,2331,-30.0128, -12.9893, 3096,   2260.0,   2.6090,  34.8270,2,-999.0000,9,    225.3,2,    50.44,2,    26.55,9,     1.77,2, -999.000,9, -999.000,9, -999.000,9, -999.000,9,-999.0000,9,  -999.00,9,   -999.0,9,-999.000,9,  -999.00,9,   2203.3,2,   -999.0,9,   2331.9,2,  -999.00,9,  -999.0,-999.0000,-999.000,-999.000,  2.4391,-999.000,9
      06MT22_5,   A10,    56,  1,    305,2,19930115,2331,-30.0128, -12.9893, 3096,   2501.0,   2.5420,  34.8500,2,  34.8510,2,    234.7,2,    48.73,2,    25.25,9,     1.65,2,    0.002,2,    0.000,2,    0.028,2, -999.000,9,-999.0000,9,  -999.00,9,   -999.0,9,-999.000,9,  -999.00,9,   2197.5,2,   -999.0,9,   2331.9,2,  -999.00,9,  -999.0,-999.0000,-999.000,-999.000,  2.3508,-999.000,9
      06MT22_5,   A10,    56,  1,    304,2,19930115,2331,-30.0128, -12.9893, 3096,   2766.0,   2.4860,  34.8600,2,-999.0000,9,    237.1,2,    48.77,2,    25.10,9,     1.64,2, -999.000,9, -999.000,9, -999.000,9, -999.000,9,-999.0000,9,  -999.00,9,   -999.0,9,-999.000,9,  -999.00,9,   2197.0,2,   -999.0,9,   2333.8,2,  -999.00,9,  -999.0,-999.0000,-999.000,-999.000,  2.2701,-999.000,9
      06MT22_5,   A10,    56,  1,    303,2,19930115,2331,-30.0128, -12.9893, 3096,   3003.0,   2.4690,  34.8600,2,-999.0000,9,    239.7,2,    49.48,2,    25.10,9,     1.63,2,   -0.001,2,    0.001,2,    0.011,2, -999.000,9,-999.0000,9,  -999.00,9,   -999.0,9,-999.000,9,  -999.00,9,   2197.1,2,   -999.0,9,   2334.8,2,  -999.00,9,  -999.0,-999.0000,-999.000,-999.000,  2.2298,-999.000,9
      06MT22_5,   A10,    56,  1,    302,2,19930115,2331,-30.0128, -12.9893, 3096,   3115.0,   2.4790,  34.8600,2,  34.8620,2,    238.5,2,    49.47,2,    25.09,9,     1.63,2, -999.000,9, -999.000,9, -999.000,9, -999.000,9,-999.0000,9,  -999.00,9,   -999.0,9,-999.000,9,  -999.00,9,   2195.4,2,   -999.0,9,   2333.8,2,  -999.00,9,  -999.0,-999.0000,-999.000,-999.000,  2.2281,-999.000,9
      06MT22_5,   A10,    56,  1,    301,2,19930115,2331,-30.0128, -12.9893, 3096,   3119.0,   2.4790,  34.8600,2,-999.0000,9,    237.9,2,    49.45,2,    25.09,9,     1.62,2,    0.002,2,    0.004,2,    0.010,2, -999.000,9,-999.0000,9,  -999.00,9,   -999.0,9,-999.000,9,  -999.00,9,   2196.6,2,   -999.0,9,   2334.8,2,  -999.00,9,  -999.0,-999.0000,-999.000,-999.000,  2.2227,-999.000,9
      06MT22_5,   A10,    57,  1,    217,2,19930116,0412,-30.0000, -12.3650, 3257,     12.0,  24.8030,  36.0740,2,  36.0870,2,    213.6,2,     0.79,2,     0.11,9,     0.18,2, -999.000,9, -999.000,9, -999.000,9, -999.000,9,-999.0000,9,  -999.00,9,   -999.0,9,-999.000,9,  -999.00,9,   -999.0,0,   -999.0,9,   -999.0,9,  -999.00,9,  -999.0,-999.0000,-999.000,-999.000, 24.8004,-999.000,9
      06MT22_5,   A10,    57,  1,    208,2,19930116,0412,-30.0000, -12.3650, 3257,     12.0,  24.7560,  36.0860,2,-999.0000,9,   -999.0,9,  -999.00,9,  -999.00,9,  -999.00,9, -999.000,9, -999.000,9, -999.000,9, -999.000,9,-999.0000,9,  -999.00,9,   -999.0,9,-999.000,9,  -999.00,9,   -999.0,0,   -999.0,9,   -999.0,9,  -999.00,9,  -999.0,-999.0000,-999.000,-999.000, 24.7534,-999.000,9
      06MT22_5,   A10,    57,  1,    207,2,19930116,0412,-30.0000, -12.3650, 3257,     30.0,  23.4410,  36.1440,2,-999.0000,9,    221.2,2,     0.93,2,     0.03,9,     0.15,2,    1.974,2,    1.090,2,    2.400,2, -999.000,9,-999.0000,9,  -999.00,9,   -999.0,9,-999.000,9,  -999.00,9,   -999.0,0,   -999.0,9,   -999.0,9,  -999.00,9,  -999.0,-999.0000,-999.000,-999.000, 23.4348,-999.000,9
      06MT22_5,   A10,    57,  1,    206,2,19930116,0412,-30.0000, -12.3650, 3257,     52.0,  20.6980,  36.1830,2,  36.1930,2,    236.8,2,     0.75,2,     0.02,9,     0.18,2, -999.000,9, -999.000,9, -999.000,9, -999.000,9,-999.0000,9,  -999.00,9,   -999.0,9,-999.000,9,  -999.00,9,   -999.0,0,   -999.0,9,   -999.0,9,  -999.00,9,  -999.0,-999.0000,-999.000,-999.000, 20.6881,-999.000,9
      06MT22_5,   A10,    57,  1,    205,2,19930116,0412,-30.0000, -12.3650, 3257,     73.0,  19.9830,  36.1010,2,-999.0000,9,    238.2,2,     0.47,2,     0.01,9,     0.14,2,    2.277,2,    1.222,2,    2.295,2, -999.000,9,-999.0000,9,  -999.00,9,   -999.0,9,-999.000,9,  -999.00,9,   -999.0,0,   -999.0,9,   -999.0,9,  -999.00,9,  -999.0,-999.0000,-999.000,-999.000, 19.9695,-999.000,9
      06MT22_5,   A10,    57,  1,    204,2,19930116,0412,-30.0000, -12.3650, 3257,    101.0,  19.3590,  36.1080,2,-999.0000,9,    236.8,2,     0.94,2,     0.04,9,     0.17,2,    2.325,2,    1.252,2,    2.224,2, -999.000,9,-999.0000,9,  -999.00,9,   -999.0,9,-999.000,9,  -999.00,9,   -999.0,0,   -999.0,9,   -999.0,9,  -999.00,9,  -999.0,-999.0000,-999.000,-999.000, 19.3407,-999.000,9
      06MT22_5,   A10,    57,  1,    203,2,19930116,0412,-30.0000, -12.3650, 3257,    152.0,  18.6260,  36.0400,2,  36.0440,2,    231.4,2,     0.66,2,     0.00,9,     0.19,2,    2.328,2,    1.250,2,    2.140,2, -999.000,9,-999.0000,9,  -999.00,9,   -999.0,9,-999.000,9,  -999.00,9,   -999.0,0,   -999.0,9,   -999.0,9,  -999.00,9,  -999.0,-999.0000,-999.000,-999.000, 18.5991,-999.000,9
      06MT22_5,   A10,    57,  1,    202,2,19930116,0412,-30.0000, -12.3650, 3257,    202.0,  16.7690,  35.6840,2,-999.0000,9,   -999.0,9,  -999.00,9,  -999.00,9,  -999.00,9, -999.000,9, -999.000,9, -999.000,9, -999.000,9,-999.0000,9,  -999.00,9,   -999.0,9,-999.000,9,  -999.00,9,   -999.0,0,   -999.0,9,   -999.0,9,  -999.00,9,  -999.0,-999.0000,-999.000,-999.000, 16.7357,-999.000,9
      06MT22_5,   A10,    57,  1,    201,2,19930116,0412,-30.0000, -12.3650, 3257,    302.0,  14.1240,  35.2860,2,-999.0000,9,   -999.0,9,  -999.00,9,  -999.00,9,  -999.00,9, -999.000,9, -999.000,9, -999.000,9, -999.000,9,-999.0000,9,  -999.00,9,   -999.0,9,-999.000,9,  -999.00,9,   -999.0,0,   -999.0,9,   -999.0,9,  -999.00,9,  -999.0,-999.0000,-999.000,-999.000, 14.0795,-999.000,9