BOTTLE,20030417WHPSIOSA
EXPOCODE,SECT_ID,STNNBR,CASTNO,BTLNBR,BTLNBR_FLAG_W,DATE,TIME,LATITUDE,LONGITUDE,DEPTH,CTDPRS,CTDTMP,CTDSAL,CTDSAL_FLAG_W,SALNTY,SALNTY_FLAG_W,OXYGEN,OXYGEN_FLAG_W,SILCAT,SILCAT_FLAG_W,NO2+NO3,NO2+NO3_FLAG_W,PHSPHT,PHSPHT_FLAG_W,CFC-11,CFC-11_FLAG_W,CFC-12,CFC-12_FLAG_W,CCL4,CCL4_FLAG_W,TRITUM,TRITUM_FLAG_W,HELIUM,HELIUM_FLAG_W,DELHE3,DELHE3_FLAG_W,DELC14,DELC14_FLAG_W,NEON,NEON_FLAG_W,O18O16,O18O16_FLAG_W,TCARBN,TCARBN_FLAG_W,PCO2,PCO2_FLAG_W,ALKALI,ALKALI_FLAG_W,PH,PH_FLAG_W,C14ERR,HELIER,DELHER,NEONER,THETA,TRITER,TRITER_FLAG_W
,,,,,,,,,,,DBAR,ITS-90,PSS-78,,PSS-78,,UMOL/KG,,UMOL/KG,,UMOL/KG,,UMOL/KG,,PMOL/KG,,PMOL/KG,,PMOL/KG,,TU,,NMOL/KG,,PERCNT,,/MILLE,,NMOL/KG,,MILLE,,UMOL/KG,,UATM,,UMOL/KG,,,,/MILLE,NMOL/KG,PERCNT,NMOL/KG,ITS-90,TU,
      06MT22_5,   A10,    42,  2,    324,2,19930111,1327,-29.9978, -23.3170, 4658,     11.0,  21.8250,  35.6300,2,-999.0000,9,   -999.0,9,  -999.00,9,  -999.00,9,  -999.00,9, -999.000,9, -999.000,9, -999.000,9,    0.929,2,   2.1241,4,     0.19,3,   -999.0,9,   6.841,4,  -999.00,9,   -999.0,9,   -999.0,9,   -999.0,9,  -999.00,9,  -999.0,  0.0074,   0.250,   0.024, 21.8228,   0.023,9
      06MT22_5,   A10,    42,  2,    323,2,19930111,1327,-29.9978, -23.3170, 4658,     11.0,  21.8870,  35.6310,2,-999.0000,9,   -999.0,9,  -999.00,9,  -999.00,9,  -999.00,9, -999.000,9, -999.000,9, -999.000,9,    0.926,2,   2.2691,4,    -0.09,3,   -999.0,9,   6.983,4,  -999.00,9,   -999.0,9,   -999.0,9,   -999.0,9,  -999.00,9,  -999.0,  0.0079,   0.250,   0.024, 21.8848,   0.021,9
      06MT22_5,   A10,    42,  2,    322,2,19930111,1327,-29.9978, -23.3170, 4658,    599.0,   7.5030,  34.5390,2,-999.0000,9,    209.8,2,    11.93,2,    24.16,9,     1.64,2,    1.548,2,    0.778,2,    1.753,2,    0.300,2,   1.7685,2,     1.62,2,      2.1,2,   7.601,2,  -999.00,9,   2150.6,2,   -999.0,9,   -999.0,9,  -999.00,9,     6.1,  0.0062,   0.250,   0.027,  7.4432,   0.009,9
      06MT22_5,   A10,    42,  2,    321,2,19930111,1327,-29.9978, -23.3170, 4658,    699.0,   6.1150,  34.4130,2,-999.0000,9,    216.9,2,    15.38,2,    26.97,9,     1.82,2,    1.449,2,    0.732,2,    2.133,2,    0.179,3,-999.0000,1,  -999.00,1,    -41.4,2,-999.000,1,  -999.00,9,   2158.4,2,   -999.0,9,   -999.0,9,  -999.00,9,     5.7,-999.0000,-999.000,-999.000,  6.0520,   0.133,9
      06MT22_5,   A10,    42,  2,    320,2,19930111,1327,-29.9978, -23.3170, 4658,    850.0,   4.4980,  34.3190,2,-999.0000,9,    221.4,2,    24.36,2,    30.34,9,     2.09,2,    1.048,2,    0.526,2,    2.141,2,    0.148,2,-999.0000,1,  -999.00,1,    -62.8,2,-999.000,1,  -999.00,9,   2176.1,2,   -999.0,9,   -999.0,9,  -999.00,9,     5.4,-999.0000,-999.000,-999.000,  4.4310,   0.006,9
      06MT22_5,   A10,    42,  2,    319,2,19930111,1327,-29.9978, -23.3170, 4658,    999.0,   3.6020,  34.3410,2,-999.0000,9,    209.6,2,    35.97,2,    32.65,9,     2.26,2,    0.591,2,    0.325,2,    1.591,2,    0.077,2,   1.7913,2,     3.08,2,   -112.5,2,   7.865,2,  -999.00,9,   2198.2,2,   -999.0,9,   -999.0,9,  -999.00,9,     4.6,  0.0063,   0.250,   0.027,  3.5291,   0.006,9
      06MT22_5,   A10,    42,  2,    318,2,19930111,1327,-29.9978, -23.3170, 4658,   1199.0,   3.0990,  34.4590,2,-999.0000,9,    193.5,2,    49.08,2,    33.88,9,     2.40,2,    0.207,2,    0.100,2,    0.811,2,    0.036,2,   1.8091,2,     5.38,2,   -120.0,2,   7.851,2,  -999.00,9,   2219.7,2,   -999.0,9,   -999.0,9,  -999.00,9,     5.5,  0.0063,   0.250,   0.027,  3.0143,   0.003,9
      06MT22_5,   A10,    42,  2,    317,2,19930111,1327,-29.9978, -23.3170, 4658,   1399.0,   2.9170,  34.5850,2,-999.0000,9,    190.2,2,    54.57,2,    33.00,9,     2.31,2,    0.110,2,    0.062,2,    0.376,2,    0.025,2,   2.7090,4,     6.39,3,   -999.0,9,   8.016,4,  -999.00,9,   2226.1,2,   -999.0,9,   -999.0,9,  -999.00,9,  -999.0,  0.0095,   0.250,   0.028,  2.8179,   0.029,9
      06MT22_5,   A10,    42,  2,    316,2,19930111,1327,-29.9978, -23.3170, 4658,   1599.0,   2.8330,  34.6850,2,-999.0000,9,    197.6,2,    54.51,2,    31.13,9,     2.13,2, -999.000,9, -999.000,9, -999.000,9, -999.000,9,   1.8979,4,     7.08,3,   -135.5,2,   8.079,4,  -999.00,9,   2224.0,2,   -999.0,9,   -999.0,9,  -999.00,9,     5.6,  0.0066,   0.250,   0.028,  2.7184,-999.000,9
      06MT22_5,   A10,    42,  2,    315,2,19930111,1327,-29.9978, -23.3170, 4658,   1800.0,   2.7610,  34.7500,2,-999.0000,9,    207.1,2,    52.75,2,    29.42,9,     1.97,2,    0.005,2,    0.008,2,    0.051,2,    0.009,2,   1.8225,2,     6.47,2,   -999.0,9,   7.923,2,  -999.00,9,   2214.2,2,   -999.0,9,   -999.0,9,  -999.00,9,  -999.0,  0.0064,   0.250,   0.028,  2.6302,   0.002,9
      06MT22_5,   A10,    42,  2,    314,2,19930111,1327,-29.9978, -23.3170, 4658,   2000.0,   2.6910,  34.8080,2,-999.0000,9,    220.4,2,    49.42,2,    27.34,9,     1.82,2, -999.000,9, -999.000,9, -999.000,9,    0.004,2,-999.0000,1,  -999.00,1,   -999.0,9,-999.000,1,  -999.00,9,   2204.8,2,   -999.0,9,   -999.0,9,  -999.00,9,  -999.0,-999.0000,-999.000,-999.000,  2.5436,   0.003,9
      06MT22_5,   A10,    42,  2,    313,2,19930111,1327,-29.9978, -23.3170, 4658,   2250.0,   2.6630,  34.8440,2,-999.0000,9,    230.0,2,    46.33,2,    25.90,9,     1.70,2,    0.003,2,    0.001,2,    0.015,2,    0.008,2,-999.0000,1,  -999.00,1,   -999.0,9,-999.000,1,  -999.00,9,   2197.7,2,   -999.0,9,   -999.0,9,  -999.00,9,  -999.0,-999.0000,-999.000,-999.000,  2.4935,   0.004,9
      06MT22_5,   A10,    42,  2,    312,2,19930111,1327,-29.9978, -23.3170, 4658,   2501.0,   2.6830,  34.8740,2,-999.0000,9,    239.1,2,    42.18,2,    24.52,9,     1.58,2, -999.000,9, -999.000,9, -999.000,9, -999.000,9,-999.0000,1,  -999.00,1,   -133.3,2,-999.000,1,  -999.00,9,   2189.8,2,   -999.0,9,   -999.0,9,  -999.00,9,     4.8,-999.0000,-999.000,-999.000,  2.4895,-999.000,9
      06MT22_5,   A10,    42,  2,    311,2,19930111,1327,-29.9978, -23.3170, 4658,   2752.0,   2.6990,  34.8980,2,-999.0000,9,    249.5,2,    38.14,2,    23.23,9,     1.48,2,    0.010,3,    0.027,4,    0.007,2, -999.000,4,-999.0000,1,  -999.00,1,   -999.0,9,-999.000,1,  -999.00,9,   2182.8,2,   -999.0,9,   -999.0,9,  -999.00,9,  -999.0,-999.0000,-999.000,-999.000,  2.4807,-999.000,9
      06MT22_5,   A10,    42,  2,    310,2,19930111,1327,-29.9978, -23.3170, 4658,   3003.0,   2.6350,  34.9080,2,-999.0000,9,    252.3,2,    37.37,2,    22.56,9,     1.47,2,    0.001,2,    0.013,4,    0.003,2,    0.008,2,-999.0000,1,  -999.00,1,   -999.0,9,-999.000,1,  -999.00,9,   2181.0,2,   -999.0,9,   -999.0,9,  -999.00,9,  -999.0,-999.0000,-999.000,-999.000,  2.3926,   0.009,9
      06MT22_5,   A10,    42,  2,    309,2,19930111,1327,-29.9978, -23.3170, 4658,   3252.0,   2.4560,  34.8980,2,-999.0000,9,    252.2,2,  -999.00,9,  -999.00,9,  -999.00,9,    0.003,2,   -0.002,2,    0.007,2,    0.043,2,-999.0000,1,  -999.00,1,   -999.0,9,-999.000,1,  -999.00,9,   2185.1,2,   -999.0,9,   -999.0,9,  -999.00,9,  -999.0,-999.0000,-999.000,-999.000,  2.1919,   0.027,9
      06MT22_5,   A10,    42,  2,    308,2,19930111,1327,-29.9978, -23.3170, 4658,   3504.0,   2.1960,  34.8730,2,-999.0000,9,    250.1,2,    51.15,2,    23.96,9,     1.59,2,    0.003,2,    0.014,4,    0.012,2,    0.011,2,   1.8359,8,     6.93,3,   -133.2,2,   7.993,8,  -999.00,9,   2194.0,2,   -999.0,9,   -999.0,9,  -999.00,9,     4.7,  0.0064,   0.250,   0.028,  1.9115,   0.008,9
      06MT22_5,   A10,    42,  2,    307,2,19930111,1327,-29.9978, -23.3170, 4658,   3753.0,   1.7340,  34.8250,2,-999.0000,9,    239.3,2,    68.96,2,    26.67,9,     1.79,2,    0.000,2,    0.014,4,    0.013,2,    0.011,2,-999.0000,1,  -999.00,1,   -999.0,9,-999.000,1,  -999.00,9,   2213.1,2,   -999.0,9,   -999.0,9,  -999.00,9,  -999.0,-999.0000,-999.000,-999.000,  1.4348,   0.002,9
      06MT22_5,   A10,    42,  2,    306,2,19930111,1327,-29.9978, -23.3170, 4658,   4004.0,   1.4330,  34.7910,2,-999.0000,9,    235.2,2,    81.77,2,    28.10,9,     1.90,2,   -0.003,2,    0.007,2,    0.023,2,    0.009,2,   2.1638,4,     5.49,3,   -151.0,2,   8.135,4,  -999.00,9,   2226.2,2,   -999.0,9,   -999.0,9,  -999.00,9,     5.2,  0.0076,   0.250,   0.029,  1.1150,   0.002,9
      06MT22_5,   A10,    42,  2,    305,2,19930111,1327,-29.9978, -23.3170, 4658,   4256.0,   1.2700,  34.7700,2,  34.7680,2,    229.4,2,    89.14,2,    29.81,9,     2.02,2,    0.005,2,    0.011,2,    0.062,2,    0.010,2,   1.8600,2,     4.17,3,   -159.1,2,   8.085,2,  -999.00,9,   2234.6,2,   -999.0,9,   -999.0,9,  -999.00,9,     5.1,  0.0065,   0.250,   0.028,  0.9291,   0.002,9
      06MT22_5,   A10,    42,  2,    304,2,19930111,1327,-29.9978, -23.3170, 4658,   4507.0,   1.2120,  34.7610,2,-999.0000,9,    227.5,2,    92.59,2,    30.31,9,     2.08,2,    0.007,2,    0.020,2,    0.063,2, -999.000,9,   1.8555,2,     6.07,2,   -999.0,9,   8.090,2,  -999.00,9,   2238.9,2,   -999.0,9,   -999.0,9,  -999.00,9,  -999.0,  0.0065,   0.250,   0.028,  0.8447,-999.000,9
      06MT22_5,   A10,    42,  2,    303,2,19930111,1327,-29.9978, -23.3170, 4658,   4577.0,   1.2090,  34.7600,2,-999.0000,9,    228.6,2,    92.93,2,    30.39,9,     2.07,2, -999.000,9, -999.000,9, -999.000,9,    0.010,2,   1.8703,5,     7.02,3,   -159.9,2,   8.098,5,  -999.00,9,   2238.1,2,   -999.0,9,   -999.0,9,  -999.00,9,     5.1,  0.0075,   0.250,   0.032,  0.8338,   0.002,9
      06MT22_5,   A10,    42,  2,    301,2,19930111,1327,-29.9978, -23.3170, 4658,   4659.0,   1.2020,  34.7580,2,  34.7560,2,    227.5,2,    93.48,2,    30.37,9,     2.08,2,    0.009,6,    0.031,6,    0.063,6,    0.027,2,   1.8720,2,     7.21,2,   -999.0,9,   8.144,2,  -999.00,9,   2239.6,2,   -999.0,9,   -999.0,9,  -999.00,9,  -999.0,  0.0066,   0.250,   0.029,  0.8176,   0.025,9
      06MT22_5,   A10,    42,  2,    302,2,19930111,1327,-29.9978, -23.3170, 4658,   4661.0,   1.2040,  34.7590,2,-999.0000,9,   -999.0,9,  -999.00,9,  -999.00,9,  -999.00,9, -999.000,9, -999.000,9, -999.000,9, -999.000,9,-999.0000,9,  -999.00,9,   -999.0,9,-999.000,9,  -999.00,9,   -999.0,9,   -999.0,9,   -999.0,9,  -999.00,9,  -999.0,-999.0000,-999.000,-999.000,  0.8193,-999.000,9
      06MT22_5,   A10,    43,  1,    217,2,19930111,1854,-29.9983, -22.5100, 4596,     11.0,  23.8510,  35.8250,2,-999.0000,9,    218.6,2,     0.47,2,     0.03,9,     0.07,2, -999.000,9, -999.000,9, -999.000,9, -999.000,9,-999.0000,9,  -999.00,9,   -999.0,9,-999.000,9,  -999.00,9,   -999.0,0,   -999.0,9,   -999.0,9,  -999.00,9,  -999.0,-999.0000,-999.000,-999.000, 23.8487,-999.000,9
      06MT22_5,   A10,    43,  1,    209,2,19930111,1854,-29.9983, -22.5100, 4596,     31.0,  22.7410,  35.8040,2,  35.8300,2,    221.5,2,     0.42,2,     0.05,9,     0.06,2, -999.000,9, -999.000,9, -999.000,9, -999.000,9,-999.0000,9,  -999.00,9,   -999.0,9,-999.000,9,  -999.00,9,   -999.0,0,   -999.0,9,   -999.0,9,  -999.00,9,  -999.0,-999.0000,-999.000,-999.000, 22.7347,-999.000,9
      06MT22_5,   A10,    43,  1,    208,2,19930111,1854,-29.9983, -22.5100, 4596,     52.0,  20.3880,  35.8470,2,-999.0000,9,    240.3,2,     0.42,2,     0.02,9,     0.06,2, -999.000,9, -999.000,9, -999.000,9, -999.000,9,-999.0000,9,  -999.00,9,   -999.0,9,-999.000,9,  -999.00,9,   -999.0,0,   -999.0,9,   -999.0,9,  -999.00,9,  -999.0,-999.0000,-999.000,-999.000, 20.3782,-999.000,9
      06MT22_5,   A10,    43,  1,    207,2,19930111,1854,-29.9983, -22.5100, 4596,     71.0,  19.1270,  35.8140,2,  35.8220,2,    244.8,2,     0.41,2,     0.05,9,     0.10,2, -999.000,9, -999.000,9, -999.000,9, -999.000,9,-999.0000,9,  -999.00,9,   -999.0,9,-999.000,9,  -999.00,9,   -999.0,0,   -999.0,9,   -999.0,9,  -999.00,9,  -999.0,-999.0000,-999.000,-999.000, 19.1142,-999.000,9
      06MT22_5,   A10,    43,  1,    206,2,19930111,1854,-29.9983, -22.5100, 4596,    102.0,  18.2150,  35.7780,2,-999.0000,9,    242.0,2,     0.50,2,     0.02,9,     0.12,2, -999.000,9, -999.000,9, -999.000,9, -999.000,9,-999.0000,9,  -999.00,9,   -999.0,9,-999.000,9,  -999.00,9,   -999.0,0,   -999.0,9,   -999.0,9,  -999.00,9,  -999.0,-999.0000,-999.000,-999.000, 18.1974,-999.000,9
      06MT22_5,   A10,    43,  1,    205,2,19930111,1854,-29.9983, -22.5100, 4596,    152.0,  15.8970,  35.5090,2,-999.0000,9,    224.9,2,     1.11,2,     1.72,9,     0.31,2, -999.000,9, -999.000,9, -999.000,9, -999.000,9,-999.0000,9,  -999.00,9,   -999.0,9,-999.000,9,  -999.00,9,   -999.0,0,   -999.0,9,   -999.0,9,  -999.00,9,  -999.0,-999.0000,-999.000,-999.000, 15.8731,-999.000,9
      06MT22_5,   A10,    43,  1,    204,2,19930111,1854,-29.9983, -22.5100, 4596,    202.0,  14.7420,  35.3690,2,-999.0000,9,    217.0,2,     2.23,2,     5.08,9,     0.44,2, -999.000,9, -999.000,9, -999.000,9, -999.000,9,-999.0000,9,  -999.00,9,   -999.0,9,-999.000,9,  -999.00,9,   -999.0,0,   -999.0,9,   -999.0,9,  -999.00,9,  -999.0,-999.0000,-999.000,-999.000, 14.7118,-999.000,9
      06MT22_5,   A10,    43,  1,    203,2,19930111,1854,-29.9983, -22.5100, 4596,    301.0,  13.1520,  35.1890,2,-999.0000,9,    213.2,2,     3.41,2,     9.38,9,     0.66,2, -999.000,9, -999.000,9, -999.000,9, -999.000,9,-999.0000,9,  -999.00,9,   -999.0,9,-999.000,9,  -999.00,9,   -999.0,0,   -999.0,9,   -999.0,9,  -999.00,9,  -999.0,-999.0000,-999.000,-999.000, 13.1102,-999.000,9
      06MT22_5,   A10,    43,  1,    202,2,19930111,1854,-29.9983, -22.5100, 4596,    401.0,  11.3500,  34.9720,2,-999.0000,9,    213.2,2,     5.09,2,    13.74,9,     0.92,2, -999.000,9, -999.000,9, -999.000,9, -999.000,9,-999.0000,9,  -999.00,9,   -999.0,9,-999.000,9,  -999.00,9,   -999.0,0,   -999.0,9,   -999.0,9,  -999.00,9,  -999.0,-999.0000,-999.000,-999.000, 11.2992,-999.000,9
      06MT22_5,   A10,    43,  1,    201,2,19930111,1854,-29.9983, -22.5100, 4596,    500.0,   9.6790,  34.7680,2,  34.7760,2,    208.9,2,     7.44,2,    18.50,9,     1.22,2, -999.000,9, -999.000,9, -999.000,9, -999.000,9,-999.0000,9,  -999.00,9,   -999.0,9,-999.000,9,  -999.00,9,   -999.0,0,   -999.0,9,   -999.0,9,  -999.00,9,  -999.0,-999.0000,-999.000,-999.000,  9.6214,-999.000,9