BOTTLE,20030417WHPSIOSA
EXPOCODE,SECT_ID,STNNBR,CASTNO,BTLNBR,BTLNBR_FLAG_W,DATE,TIME,LATITUDE,LONGITUDE,DEPTH,CTDPRS,CTDTMP,CTDSAL,CTDSAL_FLAG_W,SALNTY,SALNTY_FLAG_W,OXYGEN,OXYGEN_FLAG_W,SILCAT,SILCAT_FLAG_W,NO2+NO3,NO2+NO3_FLAG_W,PHSPHT,PHSPHT_FLAG_W,CFC-11,CFC-11_FLAG_W,CFC-12,CFC-12_FLAG_W,CCL4,CCL4_FLAG_W,TRITUM,TRITUM_FLAG_W,HELIUM,HELIUM_FLAG_W,DELHE3,DELHE3_FLAG_W,DELC14,DELC14_FLAG_W,NEON,NEON_FLAG_W,O18O16,O18O16_FLAG_W,TCARBN,TCARBN_FLAG_W,PCO2,PCO2_FLAG_W,ALKALI,ALKALI_FLAG_W,PH,PH_FLAG_W,C14ERR,HELIER,DELHER,NEONER,THETA,TRITER,TRITER_FLAG_W
,,,,,,,,,,,DBAR,ITS-90,PSS-78,,PSS-78,,UMOL/KG,,UMOL/KG,,UMOL/KG,,UMOL/KG,,PMOL/KG,,PMOL/KG,,PMOL/KG,,TU,,NMOL/KG,,PERCNT,,/MILLE,,NMOL/KG,,MILLE,,UMOL/KG,,UATM,,UMOL/KG,,,,/MILLE,NMOL/KG,PERCNT,NMOL/KG,ITS-90,TU,
      06MT22_5,   A10,    24,  1,    324,2,19930106,1012,-29.9975, -34.5015, 1430,     11.0,  22.7650,  36.3650,2,  36.3700,2,    220.4,2,     0.11,2,     0.03,9,     0.03,2, -999.000,9, -999.000,9, -999.000,9, -999.000,9,-999.0000,9,  -999.00,9,   -999.0,9,-999.000,9,  -999.00,9,   -999.0,9,   -999.0,9,   2406.0,2,  -999.00,9,  -999.0,-999.0000,-999.000,-999.000, 22.7628,-999.000,9
      06MT22_5,   A10,    24,  1,    318,2,19930106,1012,-29.9975, -34.5015, 1430,     11.0,  22.7650,  36.3650,2,-999.0000,9,    219.3,2,     0.03,2,     0.01,9,     0.02,2, -999.000,9, -999.000,9, -999.000,9, -999.000,9,   1.6762,2,    -1.61,2,   -999.0,9,   6.720,2,  -999.00,9,   2040.4,2,   -999.0,9,   -999.0,9,  -999.00,9,  -999.0,  0.0059,   0.250,   0.023, 22.7628,-999.000,9
      06MT22_5,   A10,    24,  1,    317,2,19930106,1012,-29.9975, -34.5015, 1430,     31.0,  22.7230,  36.3660,2,-999.0000,9,    219.4,2,     0.08,2,     0.00,9,     0.03,2, -999.000,9, -999.000,9, -999.000,9, -999.000,9,-999.0000,9,  -999.00,9,   -999.0,9,-999.000,9,  -999.00,9,   2038.4,2,   -999.0,9,   2409.0,2,  -999.00,9,  -999.0,-999.0000,-999.000,-999.000, 22.7167,-999.000,9
      06MT22_5,   A10,    24,  1,    316,2,19930106,1012,-29.9975, -34.5015, 1430,     50.0,  22.3510,  36.4190,2,  36.4730,2,    226.6,2,     0.00,2,     0.01,9,     0.01,2, -999.000,9, -999.000,9, -999.000,9, -999.000,9,-999.0000,9,  -999.00,9,   -999.0,9,-999.000,9,  -999.00,9,   2044.0,2,   -999.0,9,   2416.1,2,  -999.00,9,  -999.0,-999.0000,-999.000,-999.000, 22.3409,-999.000,9
      06MT22_5,   A10,    24,  1,    315,2,19930106,1012,-29.9975, -34.5015, 1430,     70.0,  21.5110,  36.4620,2,-999.0000,9,    228.7,2,     0.01,2,     0.03,9,     0.01,2,    2.096,2,    1.178,2,    2.010,2, -999.000,9,   1.7074,2,    -1.42,2,   -999.0,9,   6.840,2,  -999.00,9,   2047.3,2,   -999.0,9,   2415.1,2,  -999.00,9,  -999.0,  0.0060,   0.250,   0.024, 21.4973,-999.000,9
      06MT22_5,   A10,    24,  1,    314,2,19930106,1012,-29.9975, -34.5015, 1430,     99.0,  20.5100,  36.3080,2,-999.0000,9,    226.5,2,     0.42,2,     1.39,9,     0.19,2, -999.000,9, -999.000,9, -999.000,9, -999.000,9,-999.0000,9,  -999.00,9,   -999.0,9,-999.000,9,  -999.00,9,   2051.6,2,   -999.0,9,   2407.0,2,  -999.00,9,  -999.0,-999.0000,-999.000,-999.000, 20.4913,-999.000,9
      06MT22_5,   A10,    24,  1,    313,2,19930106,1012,-29.9975, -34.5015, 1430,    149.0,  18.9750,  36.1020,2,  35.7000,2,    212.7,2,     0.96,2,     2.32,9,     0.29,2, -999.000,9, -999.000,9, -999.000,9, -999.000,9,-999.0000,9,  -999.00,9,   -999.0,9,-999.000,9,  -999.00,9,   2070.1,2,   -999.0,9,   2395.0,2,  -999.00,9,  -999.0,-999.0000,-999.000,-999.000, 18.9484,-999.000,9
      06MT22_5,   A10,    24,  1,    312,2,19930106,1012,-29.9975, -34.5015, 1430,    200.0,  17.5960,  35.8520,2,-999.0000,9,    209.1,2,     2.16,2,     6.18,9,     0.50,2,    2.268,2,    1.150,2,    0.853,2, -999.000,9,   1.7369,7,    -1.09,2,   -999.0,9,   7.054,7,  -999.00,9,   2075.3,2,   -999.0,9,   2382.9,2,  -999.00,9,  -999.0,  0.0061,   0.250,   0.025, 17.5623,-999.000,9
      06MT22_5,   A10,    24,  1,    311,2,19930106,1012,-29.9975, -34.5015, 1430,    300.0,  15.1140,  35.4810,2,-999.0000,9,    207.9,2,     2.80,2,     9.14,9,     0.68,2, -999.000,9, -999.000,9, -999.000,9, -999.000,9,-999.0000,9,  -999.00,9,   -999.0,9,-999.000,9,  -999.00,9,   2088.8,2,   -999.0,9,   2355.9,2,  -999.00,9,  -999.0,-999.0000,-999.000,-999.000, 15.0684,-999.000,9
      06MT22_5,   A10,    24,  1,    310,2,19930106,1012,-29.9975, -34.5015, 1430,    399.0,  13.6000,  35.3080,2,-999.0000,9,    212.0,2,     4.98,2,    14.02,9,     1.00,2,    2.171,2,    1.156,2,    0.646,2,    0.726,2,   1.7404,2,     0.06,2,   -999.0,9,   7.232,2,  -999.00,9,   2099.1,2,   -999.0,9,   2309.5,2,  -999.00,9,  -999.0,  0.0061,   0.250,   0.025, 13.5433,   0.027,9
      06MT22_5,   A10,    24,  1,    309,2,19930106,1012,-29.9975, -34.5015, 1430,    500.0,  11.4340,  34.9970,2,-999.0000,9,    209.5,2,     7.56,2,    19.09,9,     1.32,2, -999.000,9, -999.000,9, -999.000,9, -999.000,9,-999.0000,9,  -999.00,9,   -999.0,9,-999.000,9,  -999.00,9,   2114.5,2,   -999.0,9,   2296.7,2,  -999.00,9,  -999.0,-999.0000,-999.000,-999.000, 11.3703,-999.000,9
      06MT22_5,   A10,    24,  1,    308,2,19930106,1012,-29.9975, -34.5015, 1430,    599.0,   9.5750,  34.7580,2,-999.0000,9,    207.0,2,    10.98,2,    23.93,9,     1.59,2,    1.703,2,    0.883,2,    1.191,2, -999.000,9,   1.7757,7,     0.59,2,   -999.0,9,   7.476,7,  -999.00,9,   2130.6,2,   -999.0,9,   2280.0,2,  -999.00,9,  -999.0,  0.0062,   0.250,   0.026,  9.5063,-999.000,9
      06MT22_5,   A10,    24,  1,    307,2,19930106,1012,-29.9975, -34.5015, 1430,    700.0,   7.4600,  34.5270,2,  34.5290,2,    211.3,2,    17.50,2,    28.29,9,     1.93,2, -999.000,9, -999.000,9, -999.000,9, -999.000,9,   1.7552,2,     1.23,2,   -999.0,9,   7.578,2,  -999.00,9,   2145.3,2,   -999.0,9,   2275.1,2,  -999.00,9,  -999.0,  0.0061,   0.250,   0.026,  7.3902,-999.000,9
      06MT22_5,   A10,    24,  1,    306,2,19930106,1012,-29.9975, -34.5015, 1430,    849.0,   5.1680,  34.3260,2,-999.0000,9,    230.4,2,    28.15,2,    31.15,9,     2.10,2,    1.425,2,    0.722,2,    2.310,2, -999.000,9,   1.7739,2,     1.21,2,   -999.0,9,   7.729,2,  -999.00,9,   2160.0,2,   -999.0,9,   2268.2,2,  -999.00,9,  -999.0,  0.0062,   0.250,   0.027,  5.0973,-999.000,9
      06MT22_5,   A10,    24,  1,    305,2,19930106,1012,-29.9975, -34.5015, 1430,    999.0,   4.0760,  34.3110,2,-999.0000,9,    218.4,2,    42.30,2,    33.26,9,     2.26,2, -999.000,9, -999.000,9, -999.000,9, -999.000,9,   1.7833,2,     2.40,2,   -999.0,9,   7.788,2,  -999.00,9,   2180.7,2,   -999.0,9,   2274.1,2,  -999.00,9,  -999.0,  0.0062,   0.250,   0.027,  4.0000,-999.000,9
      06MT22_5,   A10,    24,  1,    304,2,19930106,1012,-29.9975, -34.5015, 1430,   1203.0,   3.3380,  34.3860,2,  34.3870,2,    203.2,2,    48.47,2,    33.74,9,     2.26,2,    0.346,2,    0.228,2,    1.067,2,    0.073,2,   1.8114,2,     4.83,2,   -999.0,9,   7.890,2,  -999.00,9,   2206.1,2,   -999.0,9,   2301.6,2,  -999.00,9,  -999.0,  0.0063,   0.250,   0.028,  3.2515,   0.009,9
      06MT22_5,   A10,    24,  1,    303,2,19930106,1012,-29.9975, -34.5015, 1430,   1298.0,   3.0880,  34.4440,2,-999.0000,9,    195.4,2,    53.93,2,    33.25,9,     2.21,2, -999.000,9, -999.000,9, -999.000,9, -999.000,9,   1.7868,3,     4.75,2,   -999.0,9,   7.805,3,  -999.00,9,   2215.7,2,   -999.0,9,   2319.3,2,  -999.00,9,  -999.0,  0.0063,   0.250,   0.027,  2.9959,-999.000,9
      06MT22_5,   A10,    24,  1,    302,2,19930106,1012,-29.9975, -34.5015, 1430,   1429.0,   2.9090,  34.5530,2,  34.5550,2,    191.6,2,    53.93,2,    33.23,9,     2.20,2, -999.000,9, -999.000,9, -999.000,9, -999.000,9,-999.0000,9,  -999.00,9,   -999.0,9,-999.000,9,  -999.00,9,   -999.0,9,   -999.0,9,   2320.0,2,  -999.00,9,  -999.0,-999.0000,-999.000,-999.000,  2.8081,-999.000,9
      06MT22_5,   A10,    24,  1,    301,2,19930106,1012,-29.9975, -34.5015, 1430,   1429.0,   2.9100,  34.5530,2,  34.5560,2,   -999.0,9,  -999.00,9,  -999.00,9,  -999.00,9,    0.080,2,    0.051,2,    0.402,2,    0.025,2,   1.8216,2,     6.35,2,   -999.0,9,   7.909,2,  -999.00,9,   2223.2,2,   -999.0,9,   -999.0,9,  -999.00,9,  -999.0,  0.0064,   0.250,   0.028,  2.8091,   0.005,9
      06MT22_5,   A10,    25,  1,    324,2,19930106,1340,-30.0000, -34.0250, 1883,     10.0,  22.5440,  36.2460,2,  36.2500,2,    220.5,2,     0.20,2,     0.06,9,     0.08,2, -999.000,9, -999.000,9, -999.000,9, -999.000,9,-999.0000,9,  -999.00,9,   -999.0,9,-999.000,9,  -999.00,9,   -999.0,0,   -999.0,9,   -999.0,9,  -999.00,9,  -999.0,-999.0000,-999.000,-999.000, 22.5420,-999.000,9
      06MT22_5,   A10,    25,  1,    323,2,19930106,1340,-30.0000, -34.0250, 1883,     30.0,  22.4040,  36.2970,2,  36.3150,2,    222.6,2,     0.24,2,     0.07,9,     0.09,2, -999.000,9, -999.000,9, -999.000,9, -999.000,9,-999.0000,9,  -999.00,9,   -999.0,9,-999.000,9,  -999.00,9,   -999.0,0,   -999.0,9,   -999.0,9,  -999.00,9,  -999.0,-999.0000,-999.000,-999.000, 22.3980,-999.000,9
      06MT22_5,   A10,    25,  1,    322,2,19930106,1340,-30.0000, -34.0250, 1883,     40.0,  21.8860,  36.2200,2,  36.1810,2,    225.8,2,     0.19,2,     0.05,9,     0.09,2, -999.000,9, -999.000,9, -999.000,9, -999.000,9,-999.0000,9,  -999.00,9,   -999.0,9,-999.000,9,  -999.00,9,   -999.0,0,   -999.0,9,   -999.0,9,  -999.00,9,  -999.0,-999.0000,-999.000,-999.000, 21.8781,-999.000,9
      06MT22_5,   A10,    25,  1,    321,2,19930106,1340,-30.0000, -34.0250, 1883,     50.0,  21.4300,  36.1270,2,-999.0000,9,    228.0,2,     0.14,2,     0.04,9,     0.05,2, -999.000,9, -999.000,9, -999.000,9, -999.000,9,-999.0000,9,  -999.00,9,   -999.0,9,-999.000,9,  -999.00,9,   -999.0,0,   -999.0,9,   -999.0,9,  -999.00,9,  -999.0,-999.0000,-999.000,-999.000, 21.4203,-999.000,9
      06MT22_5,   A10,    25,  1,    320,2,19930106,1340,-30.0000, -34.0250, 1883,     70.0,  20.6480,  36.1610,2,-999.0000,9,    231.1,2,     0.00,2,     0.06,9,     0.08,2, -999.000,9, -999.000,9, -999.000,9, -999.000,9,-999.0000,9,  -999.00,9,   -999.0,9,-999.000,9,  -999.00,9,   -999.0,0,   -999.0,9,   -999.0,9,  -999.00,9,  -999.0,-999.0000,-999.000,-999.000, 20.6348,-999.000,9
      06MT22_5,   A10,    25,  1,    319,2,19930106,1340,-30.0000, -34.0250, 1883,    101.0,  19.8620,  36.1610,2,-999.0000,9,    227.7,2,     0.30,2,     0.04,9,     0.12,2, -999.000,9, -999.000,9, -999.000,9, -999.000,9,-999.0000,9,  -999.00,9,   -999.0,9,-999.000,9,  -999.00,9,   -999.0,0,   -999.0,9,   -999.0,9,  -999.00,9,  -999.0,-999.0000,-999.000,-999.000, 19.8434,-999.000,9
      06MT22_5,   A10,    25,  1,    318,2,19930106,1340,-30.0000, -34.0250, 1883,    151.0,  18.5360,  36.0020,2,-999.0000,9,    218.0,2,     0.70,2,     1.14,9,     0.20,2, -999.000,9, -999.000,9, -999.000,9, -999.000,9,-999.0000,9,  -999.00,9,   -999.0,9,-999.000,9,  -999.00,9,   -999.0,0,   -999.0,9,   -999.0,9,  -999.00,9,  -999.0,-999.0000,-999.000,-999.000, 18.5095,-999.000,9
      06MT22_5,   A10,    25,  1,    317,2,19930106,1340,-30.0000, -34.0250, 1883,    199.0,  17.2730,  35.7990,2,-999.0000,9,    214.6,2,     1.72,2,     2.21,9,     0.28,2, -999.000,9, -999.000,9, -999.000,9, -999.000,9,-999.0000,9,  -999.00,9,   -999.0,9,-999.000,9,  -999.00,9,   -999.0,0,   -999.0,9,   -999.0,9,  -999.00,9,  -999.0,-999.0000,-999.000,-999.000, 17.2398,-999.000,9
      06MT22_5,   A10,    25,  1,    316,2,19930106,1340,-30.0000, -34.0250, 1883,    296.0,  14.9400,  35.4550,2,-999.0000,9,    208.3,2,     1.88,2,     6.30,9,     0.59,2, -999.000,9, -999.000,9, -999.000,9, -999.000,9,-999.0000,9,  -999.00,9,   -999.0,9,-999.000,9,  -999.00,9,   -999.0,0,   -999.0,9,   -999.0,9,  -999.00,9,  -999.0,-999.0000,-999.000,-999.000, 14.8951,-999.000,9
      06MT22_5,   A10,    25,  1,    315,2,19930106,1340,-30.0000, -34.0250, 1883,    399.0,  13.3650,  35.2760,2,-999.0000,9,    212.8,2,     2.68,2,     9.63,9,     0.73,2, -999.000,9, -999.000,9, -999.000,9, -999.000,9,-999.0000,9,  -999.00,9,   -999.0,9,-999.000,9,  -999.00,9,   -999.0,0,   -999.0,9,   -999.0,9,  -999.00,9,  -999.0,-999.0000,-999.000,-999.000, 13.3087,-999.000,9
      06MT22_5,   A10,    25,  1,    314,2,19930106,1340,-30.0000, -34.0250, 1883,    500.0,  11.6060,  35.0200,2,  35.0170,2,    209.8,2,     4.36,2,    13.95,9,     1.03,2, -999.000,9, -999.000,9, -999.000,9, -999.000,9,-999.0000,9,  -999.00,9,   -999.0,9,-999.000,9,  -999.00,9,   -999.0,0,   -999.0,9,   -999.0,9,  -999.00,9,  -999.0,-999.0000,-999.000,-999.000, 11.5413,-999.000,9
      06MT22_5,   A10,    25,  1,    313,2,19930106,1340,-30.0000, -34.0250, 1883,    599.0,   9.5260,  34.7530,2,-999.0000,9,    204.7,2,     7.42,2,    19.34,9,     1.32,2, -999.000,9, -999.000,9, -999.000,9, -999.000,9,-999.0000,9,  -999.00,9,   -999.0,9,-999.000,9,  -999.00,9,   -999.0,0,   -999.0,9,   -999.0,9,  -999.00,9,  -999.0,-999.0000,-999.000,-999.000,  9.4577,-999.000,9
      06MT22_5,   A10,    25,  1,    312,2,19930106,1340,-30.0000, -34.0250, 1883,    699.0,   7.6430,  34.5460,2,-999.0000,9,    209.4,2,    10.71,2,    23.79,9,     1.61,2, -999.000,9, -999.000,9, -999.000,9, -999.000,9,-999.0000,9,  -999.00,9,   -999.0,9,-999.000,9,  -999.00,9,   -999.0,0,   -999.0,9,   -999.0,9,  -999.00,9,  -999.0,-999.0000,-999.000,-999.000,  7.5725,-999.000,9
      06MT22_5,   A10,    25,  1,    311,2,19930106,1340,-30.0000, -34.0250, 1883,    799.0,   6.0960,  34.3990,2,-999.0000,9,    219.7,2,    14.34,2,    26.79,9,     1.83,2, -999.000,9, -999.000,9, -999.000,9, -999.000,9,-999.0000,9,  -999.00,9,   -999.0,9,-999.000,9,  -999.00,9,   -999.0,0,   -999.0,9,   -999.0,9,  -999.00,9,  -999.0,-999.0000,-999.000,-999.000,  6.0241,-999.000,9
      06MT22_5,   A10,    25,  1,    310,2,19930106,1340,-30.0000, -34.0250, 1883,    899.0,   4.8230,  34.3200,2,-999.0000,9,    223.3,2,    20.61,2,    29.44,9,     1.97,2, -999.000,9, -999.000,9, -999.000,9, -999.000,9,-999.0000,9,  -999.00,9,   -999.0,9,-999.000,9,  -999.00,9,   -999.0,0,   -999.0,9,   -999.0,9,  -999.00,9,  -999.0,-999.0000,-999.000,-999.000,  4.7502,-999.000,9
      06MT22_5,   A10,    25,  1,    309,2,19930106,1340,-30.0000, -34.0250, 1883,    999.0,   4.1400,  34.3090,2,-999.0000,9,    218.8,2,    27.13,2,    31.09,9,     2.10,2, -999.000,9, -999.000,9, -999.000,9, -999.000,9,-999.0000,9,  -999.00,9,   -999.0,9,-999.000,9,  -999.00,9,   -999.0,0,   -999.0,9,   -999.0,9,  -999.00,9,  -999.0,-999.0000,-999.000,-999.000,  4.0636,-999.000,9
      06MT22_5,   A10,    25,  1,    308,2,19930106,1340,-30.0000, -34.0250, 1883,   1100.0,   3.6630,  34.3380,2,  34.3400,2,    207.1,2,    35.14,2,    32.70,9,     2.19,2, -999.000,9, -999.000,9, -999.000,9, -999.000,9,-999.0000,9,  -999.00,9,   -999.0,9,-999.000,9,  -999.00,9,   -999.0,0,   -999.0,9,   -999.0,9,  -999.00,9,  -999.0,-999.0000,-999.000,-999.000,  3.5821,-999.000,9
      06MT22_5,   A10,    25,  1,    307,2,19930106,1340,-30.0000, -34.0250, 1883,   1201.0,   3.3650,  34.3850,2,-999.0000,9,    201.1,2,    42.24,2,    33.55,9,     2.29,2, -999.000,9, -999.000,9, -999.000,9, -999.000,9,-999.0000,9,  -999.00,9,   -999.0,9,-999.000,9,  -999.00,9,   -999.0,0,   -999.0,9,   -999.0,9,  -999.00,9,  -999.0,-999.0000,-999.000,-999.000,  3.2776,-999.000,9
      06MT22_5,   A10,    25,  1,    306,2,19930106,1340,-30.0000, -34.0250, 1883,   1399.0,   2.9990,  34.5000,2,-999.0000,9,    191.9,2,    52.41,2,    33.77,9,     2.33,2, -999.000,9, -999.000,9, -999.000,9, -999.000,9,-999.0000,9,  -999.00,9,   -999.0,9,-999.000,9,  -999.00,9,   -999.0,0,   -999.0,9,   -999.0,9,  -999.00,9,  -999.0,-999.0000,-999.000,-999.000,  2.8990,-999.000,9
      06MT22_5,   A10,    25,  1,    305,2,19930106,1340,-30.0000, -34.0250, 1883,   1599.0,   2.8670,  34.6220,2,-999.0000,9,    193.3,2,    55.03,2,    32.31,9,     2.16,2, -999.000,9, -999.000,9, -999.000,9, -999.000,9,-999.0000,9,  -999.00,9,   -999.0,9,-999.000,9,  -999.00,9,   -999.0,0,   -999.0,9,   -999.0,9,  -999.00,9,  -999.0,-999.0000,-999.000,-999.000,  2.7519,-999.000,9
      06MT22_5,   A10,    25,  1,    304,2,19930106,1340,-30.0000, -34.0250, 1883,   1815.0,   2.8060,  34.7220,2,-999.0000,9,    203.3,2,    53.16,2,    29.97,9,     2.01,2, -999.000,9, -999.000,9, -999.000,9, -999.000,9,-999.0000,9,  -999.00,9,   -999.0,9,-999.000,9,  -999.00,9,   -999.0,0,   -999.0,9,   -999.0,9,  -999.00,9,  -999.0,-999.0000,-999.000,-999.000,  2.6732,-999.000,9
      06MT22_5,   A10,    25,  1,    303,2,19930106,1340,-30.0000, -34.0250, 1883,   1931.0,   2.7910,  34.7630,2,-999.0000,9,    211.9,2,    50.80,2,    28.63,9,     1.88,2, -999.000,9, -999.000,9, -999.000,9, -999.000,9,-999.0000,9,  -999.00,9,   -999.0,9,-999.000,9,  -999.00,9,   -999.0,0,   -999.0,9,   -999.0,9,  -999.00,9,  -999.0,-999.0000,-999.000,-999.000,  2.6482,-999.000,9
      06MT22_5,   A10,    25,  1,    301,2,19930106,1340,-30.0000, -34.0250, 1883,   2007.0,   2.7860,  34.8000,2,  34.7990,2,    220.2,2,    47.65,2,    27.11,9,     1.83,2, -999.000,9, -999.000,9, -999.000,9, -999.000,9,-999.0000,9,  -999.00,9,   -999.0,9,-999.000,9,  -999.00,9,   -999.0,0,   -999.0,9,   -999.0,9,  -999.00,9,  -999.0,-999.0000,-999.000,-999.000,  2.6365,-999.000,9
      06MT22_5,   A10,    25,  1,    302,2,19930106,1340,-30.0000, -34.0250, 1883,   2011.0,   2.7860,  34.8000,2,  34.7970,2,    219.2,2,    47.65,2,    27.16,9,     1.78,2, -999.000,9, -999.000,9, -999.000,9, -999.000,9,-999.0000,9,  -999.00,9,   -999.0,9,-999.000,9,  -999.00,9,   -999.0,0,   -999.0,9,   -999.0,9,  -999.00,9,  -999.0,-999.0000,-999.000,-999.000,  2.6361,-999.000,9