BOTTLE,20030417WHPSIOSA
EXPOCODE,SECT_ID,STNNBR,CASTNO,BTLNBR,BTLNBR_FLAG_W,DATE,TIME,LATITUDE,LONGITUDE,DEPTH,CTDPRS,CTDTMP,CTDSAL,CTDSAL_FLAG_W,SALNTY,SALNTY_FLAG_W,OXYGEN,OXYGEN_FLAG_W,SILCAT,SILCAT_FLAG_W,NO2+NO3,NO2+NO3_FLAG_W,PHSPHT,PHSPHT_FLAG_W,CFC-11,CFC-11_FLAG_W,CFC-12,CFC-12_FLAG_W,CCL4,CCL4_FLAG_W,TRITUM,TRITUM_FLAG_W,HELIUM,HELIUM_FLAG_W,DELHE3,DELHE3_FLAG_W,DELC14,DELC14_FLAG_W,NEON,NEON_FLAG_W,O18O16,O18O16_FLAG_W,TCARBN,TCARBN_FLAG_W,PCO2,PCO2_FLAG_W,ALKALI,ALKALI_FLAG_W,PH,PH_FLAG_W,C14ERR,HELIER,DELHER,NEONER,THETA,TRITER,TRITER_FLAG_W
,,,,,,,,,,,DBAR,ITS-90,PSS-78,,PSS-78,,UMOL/KG,,UMOL/KG,,UMOL/KG,,UMOL/KG,,PMOL/KG,,PMOL/KG,,PMOL/KG,,TU,,NMOL/KG,,PERCNT,,/MILLE,,NMOL/KG,,MILLE,,UMOL/KG,,UATM,,UMOL/KG,,,,/MILLE,NMOL/KG,PERCNT,NMOL/KG,ITS-90,TU,
      06MT22_5,   A10,    87,  2,    324,2,19930125,1036,-29.7500,   9.2967, 5032,     14.0,  21.4950,  35.4960,2,  35.5020,2,   -999.0,9,  -999.00,9,  -999.00,9,  -999.00,9, -999.000,9, -999.000,9, -999.000,9, -999.000,9,-999.0000,9,  -999.00,9,   -999.0,9,-999.000,9,  -999.00,9,   -999.0,0,   -999.0,9,   -999.0,9,  -999.00,9,  -999.0,-999.0000,-999.000,-999.000, 21.4923,-999.000,9
      06MT22_5,   A10,    87,  2,    323,2,19930125,1036,-29.7500,   9.2967, 5032,     14.0,  21.5030,  35.4970,2,-999.0000,9,   -999.0,9,  -999.00,9,  -999.00,9,  -999.00,9, -999.000,9, -999.000,9, -999.000,9, -999.000,9,-999.0000,9,  -999.00,9,   -999.0,9,-999.000,9,  -999.00,9,   -999.0,0,   -999.0,9,   -999.0,9,  -999.00,9,  -999.0,-999.0000,-999.000,-999.000, 21.5003,-999.000,9
      06MT22_5,   A10,    87,  2,    322,2,19930125,1036,-29.7500,   9.2967, 5032,   1000.0,   3.2020,  34.4690,2,  34.4730,2,    186.7,2,    54.92,2,    34.69,9,     2.32,2,    0.317,2,    0.161,2,    0.850,2, -999.000,9,-999.0000,9,  -999.00,9,   -999.0,9,-999.000,9,  -999.00,9,   2223.4,2,   -999.0,9,   -999.0,9,  -999.00,9,  -999.0,-999.0000,-999.000,-999.000,  3.1326,-999.000,9
      06MT22_5,   A10,    87,  2,    321,2,19930125,1036,-29.7500,   9.2967, 5032,   1199.0,   3.0570,  34.6010,2,-999.0000,9,    183.0,2,    55.29,2,    33.48,9,     2.24,2,    0.058,2,    0.021,2,    0.262,2,    0.418,4,   1.8270,2,     6.26,2,   -999.0,9,   7.917,2,  -999.00,9,   2226.6,2,   -999.0,9,   -999.0,9,  -999.00,9,  -999.0,  0.0064,   0.250,   0.028,  2.9726,   0.370,9
      06MT22_5,   A10,    87,  2,    320,2,19930125,1036,-29.7500,   9.2967, 5032,   1401.0,   3.1150,  34.7290,2,-999.0000,9,    195.7,2,    48.32,2,    30.41,9,     2.06,2,    0.011,2,    0.001,2,    0.071,2,   -2.415,4,   2.5091,4,     4.89,3,   -999.0,9,   9.559,4,  -999.00,9,   2213.9,2,   -999.0,9,   -999.0,9,  -999.00,9,  -999.0,  0.0088,   0.250,   0.034,  3.0135,   1.697,9
      06MT22_5,   A10,    87,  2,    319,2,19930125,1036,-29.7500,   9.2967, 5032,   1600.0,   3.1430,  34.8110,2,  34.8150,2,    209.3,2,    41.74,2,    27.77,9,     1.82,2,    0.001,2,    0.002,2,    0.020,2, -999.000,9,   1.8109,2,     4.63,2,   -999.0,9,   7.908,2,  -999.00,9,   2203.1,2,   -999.0,9,   -999.0,9,  -999.00,9,  -999.0,  0.0063,   0.250,   0.028,  3.0244,-999.000,9
      06MT22_5,   A10,    87,  2,    318,2,19930125,1036,-29.7500,   9.2967, 5032,   1799.0,   3.0730,  34.8490,2,-999.0000,9,   -999.0,9,  -999.00,9,  -999.00,9,  -999.00,9, -999.000,9, -999.000,9, -999.000,9, -999.000,9,-999.0000,9,  -999.00,9,   -999.0,9,-999.000,9,  -999.00,9,   -999.0,0,   -999.0,9,   -999.0,9,  -999.00,9,  -999.0,-999.0000,-999.000,-999.000,  2.9377,-999.000,9
      06MT22_5,   A10,    87,  2,    317,2,19930125,1036,-29.7500,   9.2967, 5032,   1999.0,   2.9560,  34.8620,2,-999.0000,9,    220.8,2,    40.49,2,    25.52,9,     1.68,2,    0.004,2,    0.001,2,    0.008,2, -999.000,9,   1.8261,2,     4.51,2,   -999.0,9,   7.933,2,  -999.00,9,   2192.2,2,   -999.0,9,   -999.0,9,  -999.00,9,  -999.0,  0.0064,   0.250,   0.028,  2.8044,-999.000,9
      06MT22_5,   A10,    87,  2,    316,2,19930125,1036,-29.7500,   9.2967, 5032,   2249.0,   2.7950,  34.8710,2,  34.8730,2,    230.7,2,    42.10,2,    24.81,9,     1.62,2,   -0.001,2,    0.000,2,    0.007,2, -999.000,9,-999.0000,1,  -999.00,1,   -999.0,9,-999.000,1,  -999.00,9,   2190.7,2,   -999.0,9,   -999.0,9,  -999.00,9,  -999.0,-999.0000,-999.000,-999.000,  2.6230,-999.000,9
      06MT22_5,   A10,    87,  2,    315,2,19930125,1036,-29.7500,   9.2967, 5032,   2501.0,   2.6250,  34.8670,2,-999.0000,9,    232.5,2,    45.92,2,    24.96,9,     1.63,2,    0.002,2,    0.000,2,    0.008,2, -999.000,9,-999.0000,1,  -999.00,1,   -999.0,9,-999.000,1,  -999.00,9,   2194.1,2,   -999.0,9,   -999.0,9,  -999.00,9,  -999.0,-999.0000,-999.000,-999.000,  2.4322,-999.000,9
      06MT22_5,   A10,    87,  2,    314,2,19930125,1036,-29.7500,   9.2967, 5032,   2753.0,   2.4840,  34.8630,2,-999.0000,9,    233.1,2,    49.65,2,    25.08,9,     1.63,2,    0.003,2,    0.000,2,    0.003,2, -999.000,9,-999.0000,1,  -999.00,1,   -999.0,9,-999.000,1,  -999.00,9,   2199.2,2,   -999.0,9,   -999.0,9,  -999.00,9,  -999.0,-999.0000,-999.000,-999.000,  2.2694,-999.000,9
      06MT22_5,   A10,    87,  2,    313,2,19930125,1036,-29.7500,   9.2967, 5032,   2877.0,   2.4580,  34.8630,2,-999.0000,9,    234.1,2,    50.27,2,    24.97,9,     1.65,2,    0.006,3,    0.001,2,    0.007,2, -999.000,9,   1.9470,3,     5.08,2,   -999.0,9,   8.278,3,  -999.00,9,   2199.1,2,   -999.0,9,   -999.0,9,  -999.00,9,  -999.0,  0.0068,   0.500,   0.029,  2.2317,-999.000,9
      06MT22_5,   A10,    87,  2,    312,2,19930125,1036,-29.7500,   9.2967, 5032,   3002.0,   2.4250,  34.8640,2,  34.8660,2,    234.8,2,    51.10,2,    24.99,9,     1.63,2,    2.971,4,    1.496,4,    2.776,4, -999.000,9,   1.9689,4,     4.58,3,   -999.0,9,   7.973,7,  -999.00,9,   2201.1,2,   -999.0,9,   -999.0,9,  -999.00,9,  -999.0,  0.0069,   0.250,   0.028,  2.1868,-999.000,9
      06MT22_5,   A10,    87,  2,    311,2,19930125,1036,-29.7500,   9.2967, 5032,   3129.0,   2.3910,  34.8630,2,-999.0000,9,    234.9,2,    52.41,2,    25.10,9,     1.64,2,    0.002,2,    0.000,2,    0.004,2, -999.000,9,   1.9541,4,     5.11,3,   -999.0,9,   7.952,7,  -999.00,9,   2201.1,2,   -999.0,9,   -999.0,9,  -999.00,9,  -999.0,  0.0068,   0.250,   0.028,  2.1407,-999.000,9
      06MT22_5,   A10,    87,  2,    310,2,19930125,1036,-29.7500,   9.2967, 5032,   3254.0,   2.3570,  34.8610,2,-999.0000,9,    233.8,2,    53.58,2,    25.12,9,  -999.00,9,    0.002,2,    0.001,2,    0.005,2, -999.000,9,   1.8488,7,     4.32,2,   -999.0,9,   8.030,7,  -999.00,9,   2203.0,2,   -999.0,9,   -999.0,9,  -999.00,9,  -999.0,  0.0065,   0.250,   0.028,  2.0946,-999.000,9
      06MT22_5,   A10,    87,  2,    309,2,19930125,1036,-29.7500,   9.2967, 5032,   3505.0,   2.2860,  34.8560,2,-999.0000,9,   -999.0,9,  -999.00,9,  -999.00,9,  -999.00,9, -999.000,9, -999.000,9, -999.000,9, -999.000,9,-999.0000,9,  -999.00,9,   -999.0,9,-999.000,9,  -999.00,9,   -999.0,0,   -999.0,9,   -999.0,9,  -999.00,9,  -999.0,-999.0000,-999.000,-999.000,  1.9987,-999.000,9
      06MT22_5,   A10,    87,  2,    308,2,19930125,1036,-29.7500,   9.2967, 5032,   3755.0,   2.1440,  34.8420,2,  34.8440,2,    230.9,2,    62.62,2,    26.19,9,     1.73,2,    0.001,2,    0.000,2,    0.009,2, -999.000,9,-999.0000,1,  -999.00,1,   -999.0,9,-999.000,1,  -999.00,9,   2211.3,2,   -999.0,9,   -999.0,9,  -999.00,9,  -999.0,-999.0000,-999.000,-999.000,  1.8333,-999.000,9
      06MT22_5,   A10,    87,  2,    307,2,19930125,1036,-29.7500,   9.2967, 5032,   4005.0,   1.8430,  34.8090,2,-999.0000,9,    226.0,2,    75.80,2,    27.84,9,     1.84,2,    0.001,2,    0.001,2,    0.015,2, -999.000,9,-999.0000,1,  -999.00,1,   -999.0,9,-999.000,1,  -999.00,9,   2224.8,2,   -999.0,9,   -999.0,9,  -999.00,9,  -999.0,-999.0000,-999.000,-999.000,  1.5135,-999.000,9
      06MT22_5,   A10,    87,  2,    306,2,19930125,1036,-29.7500,   9.2967, 5032,   4257.0,   1.3980,  34.7640,2,-999.0000,9,    222.1,2,    93.03,2,    30.04,9,     2.00,2,    0.002,2,    0.001,2,    0.030,2, -999.000,9,-999.0000,1,  -999.00,1,   -999.0,9,-999.000,1,  -999.00,9,   2239.9,2,   -999.0,9,   -999.0,9,  -999.00,9,  -999.0,-999.0000,-999.000,-999.000,  1.0533,-999.000,9
      06MT22_5,   A10,    87,  2,    305,2,19930125,1036,-29.7500,   9.2967, 5032,   4505.0,   1.1990,  34.7440,2,  34.7450,2,    220.3,2,   101.33,2,    31.12,9,     2.08,2,    0.004,2,    0.002,2,    0.043,2, -999.000,9,   1.8497,5,     7.86,3,   -999.0,9,   8.139,5,  -999.00,9,   2246.9,2,   -999.0,9,   -999.0,9,  -999.00,9,  -999.0,  0.0074,   0.250,   0.033,  0.8324,-999.000,9
      06MT22_5,   A10,    87,  2,    304,2,19930125,1036,-29.7500,   9.2967, 5032,   4756.0,   1.1510,  34.7370,2,-999.0000,9,    218.6,2,   104.28,2,    31.51,9,     2.11,2,    0.005,2,    0.004,2,    0.056,2, -999.000,9,-999.0000,1,  -999.00,1,   -999.0,9,-999.000,1,  -999.00,9,   2249.4,2,   -999.0,9,   -999.0,9,  -999.00,9,  -999.0,-999.0000,-999.000,-999.000,  0.7571,-999.000,9
      06MT22_5,   A10,    87,  2,    303,2,19930125,1036,-29.7500,   9.2967, 5032,   4957.0,   1.1480,  34.7340,2,-999.0000,9,    218.5,2,   105.53,2,    31.76,9,     2.17,2,    0.004,2,    0.003,2,    0.059,2, -999.000,9,-999.0000,1,  -999.00,1,   -999.0,9,-999.000,1,  -999.00,9,   2250.2,2,   -999.0,9,   -999.0,9,  -999.00,9,  -999.0,-999.0000,-999.000,-999.000,  0.7305,-999.000,9
      06MT22_5,   A10,    87,  2,    301,2,19930125,1036,-29.7500,   9.2967, 5032,   5057.0,   1.1560,  34.7340,2,-999.0000,9,   -999.0,9,  -999.00,9,  -999.00,9,  -999.00,9, -999.000,9, -999.000,9, -999.000,9, -999.000,9,-999.0000,9,  -999.00,9,   -999.0,9,-999.000,9,  -999.00,9,   -999.0,0,   -999.0,9,   -999.0,9,  -999.00,9,  -999.0,-999.0000,-999.000,-999.000,  0.7202,-999.000,9
      06MT22_5,   A10,    87,  2,    302,2,19930125,1036,-29.7500,   9.2967, 5032,   5059.0,   1.1560,  34.7340,2,  34.7360,2,    220.7,2,   105.63,2,    31.75,9,     2.12,2,    0.007,2,    0.005,2,    0.060,2, -999.000,9,   1.8747,5,     7.29,3,   -999.0,9,   8.165,5,  -999.00,9,   2250.0,2,   -999.0,9,   -999.0,9,  -999.00,9,  -999.0,  0.0075,   0.250,   0.033,  0.7260,-999.000,9
      06MT22_5,   A10,    88,  1,    217,2,19930125,1925,-29.7478,  10.1477, 4900,     12.0,  21.3210,  35.4680,2,  35.4730,2,    226.5,2,     1.41,2,     0.04,9,     0.16,2, -999.000,9, -999.000,9, -999.000,9, -999.000,9,-999.0000,9,  -999.00,9,   -999.0,9,-999.000,9,  -999.00,9,   -999.0,9,   -999.0,9,   -999.0,9,  -999.00,9,  -999.0,-999.0000,-999.000,-999.000, 21.3187,-999.000,9
      06MT22_5,   A10,    88,  1,    213,2,19930125,1925,-29.7478,  10.1477, 4900,     12.0,  21.3260,  35.4670,2,-999.0000,9,   -999.0,9,  -999.00,9,  -999.00,9,  -999.00,9, -999.000,9, -999.000,9, -999.000,9, -999.000,9,-999.0000,9,  -999.00,9,   -999.0,9,-999.000,9,  -999.00,9,   -999.0,9,   -999.0,9,   -999.0,9,  -999.00,9,  -999.0,-999.0000,-999.000,-999.000, 21.3237,-999.000,9
      06MT22_5,   A10,    88,  1,    212,2,19930125,1925,-29.7478,  10.1477, 4900,     32.0,  21.3310,  35.4680,2,-999.0000,9,    227.2,2,     1.40,2,     0.04,9,     0.18,2, -999.000,9, -999.000,9, -999.000,9, -999.000,9,-999.0000,9,  -999.00,9,   -999.0,9,-999.000,9,  -999.00,9,   -999.0,9,   -999.0,9,   -999.0,9,  -999.00,9,  -999.0,-999.0000,-999.000,-999.000, 21.3248,-999.000,9
      06MT22_5,   A10,    88,  1,    211,2,19930125,1925,-29.7478,  10.1477, 4900,     51.0,  20.9460,  35.4730,2,-999.0000,9,    229.8,2,     1.08,2,     0.02,9,     0.16,2, -999.000,9, -999.000,9, -999.000,9, -999.000,9,-999.0000,9,  -999.00,9,   -999.0,9,-999.000,9,  -999.00,9,   -999.0,9,   -999.0,9,   -999.0,9,  -999.00,9,  -999.0,-999.0000,-999.000,-999.000, 20.9363,-999.000,9
      06MT22_5,   A10,    88,  1,    210,2,19930125,1925,-29.7478,  10.1477, 4900,     72.0,  19.1090,  35.3420,2,-999.0000,9,    248.7,2,     1.39,2,     0.41,9,     0.24,2, -999.000,9, -999.000,9, -999.000,9, -999.000,9,-999.0000,9,  -999.00,9,   -999.0,9,-999.000,9,  -999.00,9,   -999.0,9,   -999.0,9,   -999.0,9,  -999.00,9,  -999.0,-999.0000,-999.000,-999.000, 19.0961,-999.000,9
      06MT22_5,   A10,    88,  1,    209,2,19930125,1925,-29.7478,  10.1477, 4900,    101.0,  15.4360,  35.2590,2,  35.2520,2,    224.6,2,     2.61,2,     7.64,9,     0.65,2, -999.000,9, -999.000,9, -999.000,9, -999.000,9,-999.0000,9,  -999.00,9,   -999.0,9,-999.000,9,  -999.00,9,   -999.0,9,   -999.0,9,   -999.0,9,  -999.00,9,  -999.0,-999.0000,-999.000,-999.000, 15.4204,-999.000,9
      06MT22_5,   A10,    88,  1,    208,2,19930125,1925,-29.7478,  10.1477, 4900,    151.0,  13.2240,  35.0820,2,-999.0000,9,    212.5,2,     4.20,2,    12.32,9,     0.89,2, -999.000,9, -999.000,9, -999.000,9, -999.000,9,-999.0000,9,  -999.00,9,   -999.0,9,-999.000,9,  -999.00,9,   -999.0,9,   -999.0,9,   -999.0,9,  -999.00,9,  -999.0,-999.0000,-999.000,-999.000, 13.2031,-999.000,9
      06MT22_5,   A10,    88,  1,    207,2,19930125,1925,-29.7478,  10.1477, 4900,    201.0,  12.3140,  35.0240,2,-999.0000,9,    196.2,2,     6.04,2,    14.82,9,     1.00,2, -999.000,9, -999.000,9, -999.000,9, -999.000,9,-999.0000,9,  -999.00,9,   -999.0,9,-999.000,9,  -999.00,9,   -999.0,9,   -999.0,9,   -999.0,9,  -999.00,9,  -999.0,-999.0000,-999.000,-999.000, 12.2874,-999.000,9
      06MT22_5,   A10,    88,  1,    206,2,19930125,1925,-29.7478,  10.1477, 4900,    301.0,  10.5340,  34.8610,2,-999.0000,9,    181.3,2,     8.11,2,    19.38,9,     1.27,2, -999.000,9, -999.000,9, -999.000,9, -999.000,9,-999.0000,9,  -999.00,9,   -999.0,9,-999.000,9,  -999.00,9,   -999.0,9,   -999.0,9,   -999.0,9,  -999.00,9,  -999.0,-999.0000,-999.000,-999.000, 10.4979,-999.000,9
      06MT22_5,   A10,    88,  1,    205,2,19930125,1925,-29.7478,  10.1477, 4900,    400.0,   8.5390,  34.6350,2,  34.6320,2,    204.8,2,    10.84,2,    21.70,9,     1.43,2, -999.000,9, -999.000,9, -999.000,9, -999.000,9,-999.0000,9,  -999.00,9,   -999.0,9,-999.000,9,  -999.00,9,   -999.0,9,   -999.0,9,   -999.0,9,  -999.00,9,  -999.0,-999.0000,-999.000,-999.000,  8.4966,-999.000,9
      06MT22_5,   A10,    88,  1,    204,2,19930125,1925,-29.7478,  10.1477, 4900,    499.0,   6.8890,  34.4940,2,-999.0000,9,    204.1,2,    16.71,2,    26.10,9,     1.74,2, -999.000,9, -999.000,9, -999.000,9, -999.000,9,-999.0000,9,  -999.00,9,   -999.0,9,-999.000,9,  -999.00,9,   -999.0,9,   -999.0,9,   -999.0,9,  -999.00,9,  -999.0,-999.0000,-999.000,-999.000,  6.8421,-999.000,9
      06MT22_5,   A10,    88,  1,    203,2,19930125,1925,-29.7478,  10.1477, 4900,    600.0,   5.2070,  34.3530,2,-999.0000,9,    216.8,2,    20.51,2,    29.08,9,     1.93,2, -999.000,9, -999.000,9, -999.000,9, -999.000,9,-999.0000,9,  -999.00,9,   -999.0,9,-999.000,9,  -999.00,9,   -999.0,9,   -999.0,9,   -999.0,9,  -999.00,9,  -999.0,-999.0000,-999.000,-999.000,  5.1579,-999.000,9
      06MT22_5,   A10,    88,  1,    202,2,19930125,1925,-29.7478,  10.1477, 4900,    701.0,   4.4790,  34.3480,2,-999.0000,9,    205.2,2,    27.67,2,    31.62,9,     2.08,2, -999.000,9, -999.000,9, -999.000,9, -999.000,9,-999.0000,9,  -999.00,9,   -999.0,9,-999.000,9,  -999.00,9,   -999.0,9,   -999.0,9,   -999.0,9,  -999.00,9,  -999.0,-999.0000,-999.000,-999.000,  4.4251,-999.000,9
      06MT22_5,   A10,    88,  1,    202,2,19930125,1925,-29.7478,  10.1477, 4900,    702.0,   4.4770,  34.3490,2,-999.0000,9,   -999.0,9,  -999.00,9,  -999.00,9,  -999.00,9, -999.000,9, -999.000,9, -999.000,9, -999.000,9,-999.0000,9,  -999.00,9,   -999.0,9,-999.000,9,  -999.00,9,   -999.0,9,   -999.0,9,   -999.0,9,  -999.00,9,  -999.0,-999.0000,-999.000,-999.000,  4.4230,-999.000,9
      06MT22_5,   A10,    88,  1,    201,2,19930125,1925,-29.7478,  10.1477, 4900,    851.0,   3.7860,  34.4010,2,  34.4030,2,    186.9,2,    39.65,2,    33.90,9,     2.28,2, -999.000,9, -999.000,9, -999.000,9, -999.000,9,-999.0000,9,  -999.00,9,   -999.0,9,-999.000,9,  -999.00,9,   -999.0,9,   -999.0,9,   -999.0,9,  -999.00,9,  -999.0,-999.0000,-999.000,-999.000,  3.7241,-999.000,9