BOTTLE,20030417WHPSIOSA
EXPOCODE,SECT_ID,STNNBR,CASTNO,BTLNBR,BTLNBR_FLAG_W,DATE,TIME,LATITUDE,LONGITUDE,DEPTH,CTDPRS,CTDTMP,CTDSAL,CTDSAL_FLAG_W,SALNTY,SALNTY_FLAG_W,OXYGEN,OXYGEN_FLAG_W,SILCAT,SILCAT_FLAG_W,NO2+NO3,NO2+NO3_FLAG_W,PHSPHT,PHSPHT_FLAG_W,CFC-11,CFC-11_FLAG_W,CFC-12,CFC-12_FLAG_W,CCL4,CCL4_FLAG_W,TRITUM,TRITUM_FLAG_W,HELIUM,HELIUM_FLAG_W,DELHE3,DELHE3_FLAG_W,DELC14,DELC14_FLAG_W,NEON,NEON_FLAG_W,O18O16,O18O16_FLAG_W,TCARBN,TCARBN_FLAG_W,PCO2,PCO2_FLAG_W,ALKALI,ALKALI_FLAG_W,PH,PH_FLAG_W,C14ERR,HELIER,DELHER,NEONER,THETA,TRITER,TRITER_FLAG_W
,,,,,,,,,,,DBAR,ITS-90,PSS-78,,PSS-78,,UMOL/KG,,UMOL/KG,,UMOL/KG,,UMOL/KG,,PMOL/KG,,PMOL/KG,,PMOL/KG,,TU,,NMOL/KG,,PERCNT,,/MILLE,,NMOL/KG,,MILLE,,UMOL/KG,,UATM,,UMOL/KG,,,,/MILLE,NMOL/KG,PERCNT,NMOL/KG,ITS-90,TU,
      06MT22_5,   A10,     5,  2,    324,2,19930102,1015,-29.2318, -42.3288, 4001,     12.0,  21.9420,  36.1950,2,  36.1990,2,   -999.0,9,  -999.00,9,  -999.00,9,  -999.00,9, -999.000,9, -999.000,9, -999.000,9, -999.000,9,-999.0000,9,  -999.00,9,   -999.0,9,-999.000,9,  -999.00,9,   -999.0,0,   -999.0,9,   -999.0,9,  -999.00,9,  -999.0,-999.0000,-999.000,-999.000, 21.9396,-999.000,9
      06MT22_5,   A10,     5,  2,    323,2,19930102,1015,-29.2318, -42.3288, 4001,     12.0,  21.9420,  36.1950,2,  36.1990,2,   -999.0,9,  -999.00,9,  -999.00,9,  -999.00,9, -999.000,9, -999.000,9, -999.000,9, -999.000,9,-999.0000,9,  -999.00,9,   -999.0,9,-999.000,9,  -999.00,9,   2047.8,2,   -999.0,9,   -999.0,9,  -999.00,9,  -999.0,-999.0000,-999.000,-999.000, 21.9396,-999.000,9
      06MT22_5,   A10,     5,  2,    322,2,19930102,1015,-29.2318, -42.3288, 4001,    150.0,  18.1770,  36.0620,2,-999.0000,9,   -999.0,9,  -999.00,9,  -999.00,9,  -999.00,9,    2.302,6,    1.286,6,    1.265,6, -999.000,9,-999.0000,9,  -999.00,9,   -999.0,9,-999.000,9,  -999.00,9,   2069.1,2,   -999.0,9,   -999.0,9,  -999.00,9,  -999.0,-999.0000,-999.000,-999.000, 18.1510,-999.000,9
      06MT22_5,   A10,     5,  2,    321,2,19930102,1015,-29.2318, -42.3288, 4001,    299.0,  16.9880,  35.9510,2,-999.0000,9,   -999.0,9,  -999.00,9,  -999.00,9,  -999.00,9, -999.000,9, -999.000,9, -999.000,9, -999.000,9,-999.0000,9,  -999.00,9,   -999.0,9,-999.000,9,  -999.00,9,   2077.2,2,   -999.0,9,   -999.0,9,  -999.00,9,  -999.0,-999.0000,-999.000,-999.000, 16.9384,-999.000,9
      06MT22_5,   A10,     5,  2,    320,2,19930102,1015,-29.2318, -42.3288, 4001,    401.0,  15.2870,  35.6360,2,-999.0000,9,   -999.0,9,  -999.00,9,  -999.00,9,  -999.00,9,    2.366,2,    1.279,2,    0.866,2, -999.000,9,-999.0000,9,  -999.00,9,   -999.0,9,-999.000,9,  -999.00,9,   2090.8,2,   -999.0,9,   -999.0,9,  -999.00,9,  -999.0,-999.0000,-999.000,-999.000, 15.2249,-999.000,9
      06MT22_5,   A10,     5,  2,    319,2,19930102,1015,-29.2318, -42.3288, 4001,    460.0,  13.8620,  35.3810,2,  35.3750,2,   -999.0,9,  -999.00,9,  -999.00,9,  -999.00,9,    2.277,2,    1.249,2,    0.759,2, -999.000,9,-999.0000,9,  -999.00,9,   -999.0,9,-999.000,9,  -999.00,9,   2098.5,2,   -999.0,9,   -999.0,9,  -999.00,9,  -999.0,-999.0000,-999.000,-999.000, 13.7951,-999.000,9
      06MT22_5,   A10,     5,  2,    318,2,19930102,1015,-29.2318, -42.3288, 4001,    600.0,  10.3480,  34.8560,2,-999.0000,9,   -999.0,9,  -999.00,9,  -999.00,9,  -999.00,9,    1.857,2,    0.963,2,    1.037,2, -999.000,9,-999.0000,9,  -999.00,9,   -999.0,9,-999.000,9,  -999.00,9,   2126.3,2,   -999.0,9,   -999.0,9,  -999.00,9,  -999.0,-999.0000,-999.000,-999.000, 10.2761,-999.000,9
      06MT22_5,   A10,     5,  2,    317,2,19930102,1015,-29.2318, -42.3288, 4001,    699.0,   7.9920,  34.5700,2,-999.0000,9,    216.2,2,     9.30,2,    22.56,9,     1.54,2,    1.918,2,    0.972,2,    1.835,2, -999.000,9,-999.0000,9,  -999.00,9,   -999.0,9,-999.000,9,  -999.00,9,   2140.4,2,   -999.0,9,   -999.0,9,  -999.00,9,  -999.0,-999.0000,-999.000,-999.000,  7.9198,-999.000,9
      06MT22_5,   A10,     5,  2,    316,2,19930102,1015,-29.2318, -42.3288, 4001,    848.0,   4.7760,  34.2570,2,  34.2560,2,    253.6,2,    14.28,2,    27.20,9,     1.93,2,    2.596,4,    1.256,4,    3.635,4, -999.000,9,-999.0000,9,  -999.00,9,   -999.0,9,-999.000,9,  -999.00,9,   2150.8,2,   -999.0,9,   -999.0,9,  -999.00,9,  -999.0,-999.0000,-999.000,-999.000,  4.7081,-999.000,9
      06MT22_5,   A10,     5,  2,    315,2,19930102,1015,-29.2318, -42.3288, 4001,   1001.0,   4.1180,  34.2720,2,-999.0000,9,    236.9,2,    22.14,2,    29.87,9,     2.16,2,    1.459,2,    0.721,2,    2.618,2, -999.000,9,-999.0000,9,  -999.00,9,   -999.0,9,-999.000,9,  -999.00,9,   2171.0,2,   -999.0,9,   -999.0,9,  -999.00,9,  -999.0,-999.0000,-999.000,-999.000,  4.0415,-999.000,9
      06MT22_5,   A10,     5,  2,    314,2,19930102,1015,-29.2318, -42.3288, 4001,   1200.0,   3.3170,  34.3560,2,-999.0000,9,    207.2,2,    37.94,2,    33.03,9,     2.40,2,    0.467,2,    0.304,2,    1.285,2, -999.000,9,-999.0000,9,  -999.00,9,   -999.0,9,-999.000,9,  -999.00,9,   2203.3,2,   -999.0,9,   -999.0,9,  -999.00,9,  -999.0,-999.0000,-999.000,-999.000,  3.2309,-999.000,9
      06MT22_5,   A10,     5,  2,    313,2,19930102,1015,-29.2318, -42.3288, 4001,   1301.0,   3.1040,  34.4230,2,  34.4190,2,    198.6,2,    44.93,2,    33.65,9,     2.48,2,    0.284,2,    0.169,2,    0.871,2, -999.000,9,-999.0000,9,  -999.00,9,   -999.0,9,-999.000,9,  -999.00,9,   2216.5,2,   -999.0,9,   -999.0,9,  -999.00,9,  -999.0,-999.0000,-999.000,-999.000,  3.0118,-999.000,9
      06MT22_5,   A10,     5,  2,    312,2,19930102,1015,-29.2318, -42.3288, 4001,   1600.0,   2.8760,  34.6300,2,-999.0000,9,    194.3,2,    52.33,2,    31.96,9,     2.34,2,    0.037,2,    0.021,2,    0.165,2, -999.000,9,-999.0000,9,  -999.00,9,   -999.0,9,-999.000,9,  -999.00,9,   -999.0,0,   -999.0,9,   -999.0,9,  -999.00,9,  -999.0,-999.0000,-999.000,-999.000,  2.7606,-999.000,9
      06MT22_5,   A10,     5,  2,    311,2,19930102,1015,-29.2318, -42.3288, 4001,   1801.0,   2.9230,  34.7400,2,-999.0000,9,    205.9,2,    49.05,2,    29.44,9,     2.14,2,    0.016,2,    0.020,2,    0.051,2, -999.000,9,-999.0000,9,  -999.00,9,   -999.0,9,-999.000,9,  -999.00,9,   2215.4,2,   -999.0,9,   -999.0,9,  -999.00,9,  -999.0,-999.0000,-999.000,-999.000,  2.7897,-999.000,9
      06MT22_5,   A10,     5,  2,    310,2,19930102,1015,-29.2318, -42.3288, 4001,   2001.0,   3.0930,  34.8400,2,  34.8380,2,    226.1,2,    38.31,2,    25.86,9,     1.81,2,    0.083,4,    0.049,4,    0.121,3, -999.000,9,-999.0000,9,  -999.00,9,   -999.0,9,-999.000,9,  -999.00,9,   2195.3,2,   -999.0,9,   -999.0,9,  -999.00,9,  -999.0,-999.0000,-999.000,-999.000,  2.9393,-999.000,9
      06MT22_5,   A10,     5,  2,    309,2,19930102,1015,-29.2318, -42.3288, 4001,   2250.0,   3.1040,  34.8890,2,-999.0000,9,    239.8,2,    31.99,2,    23.73,9,     1.63,2,    0.038,2,    0.046,4,    0.070,2, -999.000,9,-999.0000,9,  -999.00,9,   -999.0,9,-999.000,9,  -999.00,9,   2182.9,2,   -999.0,9,   -999.0,9,  -999.00,9,  -999.0,-999.0000,-999.000,-999.000,  2.9265,-999.000,9
      06MT22_5,   A10,     5,  2,    308,2,19930102,1015,-29.2318, -42.3288, 4001,   2501.0,   3.0010,  34.9100,2,-999.0000,9,    247.2,2,    30.47,2,    22.71,9,     1.55,2,    0.031,2,    0.013,2,    0.036,3, -999.000,9,-999.0000,9,  -999.00,9,   -999.0,9,-999.000,9,  -999.00,9,   2178.4,2,   -999.0,9,   -999.0,9,  -999.00,9,  -999.0,-999.0000,-999.000,-999.000,  2.8010,-999.000,9
      06MT22_5,   A10,     5,  2,    307,2,19930102,1015,-29.2318, -42.3288, 4001,   2752.0,   2.9800,  34.9300,2,  34.9260,2,    253.1,2,    27.86,2,    21.64,9,     1.52,2,    0.032,2,    0.019,2,    0.055,2, -999.000,9,-999.0000,9,  -999.00,9,   -999.0,9,-999.000,9,  -999.00,9,   2173.9,2,   -999.0,9,   -999.0,9,  -999.00,9,  -999.0,-999.0000,-999.000,-999.000,  2.7553,-999.000,9
      06MT22_5,   A10,     5,  2,    306,2,19930102,1015,-29.2318, -42.3288, 4001,   3004.0,   2.8330,  34.9230,2,-999.0000,9,    254.4,2,    29.97,2,    21.76,9,     1.46,2,    0.007,4,    0.042,4,    0.019,4, -999.000,9,-999.0000,9,  -999.00,9,   -999.0,9,-999.000,9,  -999.00,9,   2175.8,2,   -999.0,9,   -999.0,9,  -999.00,9,  -999.0,-999.0000,-999.000,-999.000,  2.5859,-999.000,9
      06MT22_5,   A10,     5,  2,    305,2,19930102,1015,-29.2318, -42.3288, 4001,   3252.0,   2.5840,  34.9070,2,-999.0000,9,    254.1,2,    35.12,2,    21.98,9,     1.51,2,    0.033,2,    0.009,2,    0.016,4, -999.000,9,-999.0000,9,  -999.00,9,   -999.0,9,-999.000,9,  -999.00,9,   2179.9,2,   -999.0,9,   -999.0,9,  -999.00,9,  -999.0,-999.0000,-999.000,-999.000,  2.3165,-999.000,9
      06MT22_5,   A10,     5,  2,    304,2,19930102,1015,-29.2318, -42.3288, 4001,   3506.0,   1.9340,  34.8430,2,  34.8410,2,    245.2,2,    56.34,2,    25.28,9,     1.73,2,    0.082,4,    0.022,2,    0.008,4, -999.000,9,-999.0000,9,  -999.00,9,   -999.0,9,-999.000,9,  -999.00,9,   2203.6,2,   -999.0,9,   -999.0,9,  -999.00,9,  -999.0,-999.0000,-999.000,-999.000,  1.6554,-999.000,9
      06MT22_5,   A10,     5,  2,    303,2,19930102,1015,-29.2318, -42.3288, 4001,   3756.0,   1.0480,  34.7490,2,-999.0000,9,    228.6,2,    88.98,2,    29.64,9,     2.16,2,    0.088,4,    0.053,4,    0.114,2, -999.000,9,-999.0000,9,  -999.00,9,   -999.0,9,-999.000,9,  -999.00,9,   2238.3,2,   -999.0,9,   -999.0,9,  -999.00,9,  -999.0,-999.0000,-999.000,-999.000,  0.7673,-999.000,9
      06MT22_5,   A10,     5,  2,    302,2,19930102,1015,-29.2318, -42.3288, 4001,   3910.0,   0.7270,  34.7170,2,-999.0000,9,    224.4,2,   100.41,2,    31.33,9,     2.31,2,    0.054,2,    0.025,2,    0.131,2, -999.000,9,-999.0000,9,  -999.00,9,   -999.0,9,-999.000,9,  -999.00,9,   2250.6,2,   -999.0,9,   -999.0,9,  -999.00,9,  -999.0,-999.0000,-999.000,-999.000,  0.4392,-999.000,9
      06MT22_5,   A10,     5,  2,    301,2,19930102,1015,-29.2318, -42.3288, 4001,   4003.0,   0.5960,  34.7040,2,  34.7010,2,    223.3,2,   104.77,2,    31.80,9,     2.40,2,    0.068,2,    0.039,2,    0.161,2, -999.000,9,-999.0000,9,  -999.00,9,   -999.0,9,-999.000,9,  -999.00,9,   2254.5,2,   -999.0,9,   -999.0,9,  -999.00,9,  -999.0,-999.0000,-999.000,-999.000,  0.3023,-999.000,9
      06MT22_5,   A10,     6,  1,    212,2,19930102,1650,-29.4150, -41.7667, 3928,     14.0,  21.7480,  36.1950,2,  36.1880,2,    225.3,2,     0.00,2,     0.25,9,     0.10,2, -999.000,9, -999.000,9, -999.000,9, -999.000,9,-999.0000,9,  -999.00,9,   -999.0,9,-999.000,9,  -999.00,9,   -999.0,0,   -999.0,9,   -999.0,9,  -999.00,9,  -999.0,-999.0000,-999.000,-999.000, 21.7452,-999.000,9
      06MT22_5,   A10,     6,  1,    207,2,19930102,1650,-29.4150, -41.7667, 3928,     14.0,  21.7430,  36.1940,2,-999.0000,9,    223.6,2,     0.20,2,     0.29,9,     0.08,2, -999.000,9, -999.000,9, -999.000,9, -999.000,9,-999.0000,9,  -999.00,9,   -999.0,9,-999.000,9,  -999.00,9,   2048.2,2,   -999.0,9,   -999.0,9,  -999.00,9,  -999.0,-999.0000,-999.000,-999.000, 21.7402,-999.000,9
      06MT22_5,   A10,     6,  1,    206,2,19930102,1650,-29.4150, -41.7667, 3928,     33.0,  21.4240,  36.1880,2,-999.0000,9,    226.8,2,     0.08,2,     0.00,9,     0.07,2, -999.000,9, -999.000,9, -999.000,9, -999.000,9,-999.0000,9,  -999.00,9,   -999.0,9,-999.000,9,  -999.00,9,   2047.8,2,   -999.0,9,   -999.0,9,  -999.00,9,  -999.0,-999.0000,-999.000,-999.000, 21.4176,-999.000,9
      06MT22_5,   A10,     6,  1,    205,2,19930102,1650,-29.4150, -41.7667, 3928,     52.0,  20.8900,  36.1880,2,-999.0000,9,    233.0,2,     0.19,2,     0.08,9,     0.06,2, -999.000,9, -999.000,9, -999.000,9, -999.000,9,-999.0000,9,  -999.00,9,   -999.0,9,-999.000,9,  -999.00,9,   2047.2,2,   -999.0,9,   -999.0,9,  -999.00,9,  -999.0,-999.0000,-999.000,-999.000, 20.8800,-999.000,9
      06MT22_5,   A10,     6,  1,    204,2,19930102,1650,-29.4150, -41.7667, 3928,     74.0,  19.5210,  36.1260,2,-999.0000,9,    235.3,2,     0.29,2,     0.17,9,     0.04,2, -999.000,9, -999.000,9, -999.000,9, -999.000,9,-999.0000,9,  -999.00,9,   -999.0,9,-999.000,9,  -999.00,9,   2050.3,2,   -999.0,9,   -999.0,9,  -999.00,9,  -999.0,-999.0000,-999.000,-999.000, 19.5075,-999.000,9
      06MT22_5,   A10,     6,  1,    203,2,19930102,1650,-29.4150, -41.7667, 3928,    102.0,  18.9780,  36.0920,2,-999.0000,9,    230.4,2,     0.21,2,     0.22,9,     0.09,2, -999.000,9, -999.000,9, -999.000,9, -999.000,9,-999.0000,9,  -999.00,9,   -999.0,9,-999.000,9,  -999.00,9,   2056.5,2,   -999.0,9,   -999.0,9,  -999.00,9,  -999.0,-999.0000,-999.000,-999.000, 18.9597,-999.000,9
      06MT22_5,   A10,     6,  1,    202,2,19930102,1650,-29.4150, -41.7667, 3928,    152.0,  17.8850,  35.9730,2,-999.0000,9,    219.1,2,     0.85,2,     1.56,9,     0.18,2, -999.000,9, -999.000,9, -999.000,9, -999.000,9,-999.0000,9,  -999.00,9,   -999.0,9,-999.000,9,  -999.00,9,   2070.7,2,   -999.0,9,   -999.0,9,  -999.00,9,  -999.0,-999.0000,-999.000,-999.000, 17.8588,-999.000,9
      06MT22_5,   A10,     6,  1,    201,2,19930102,1650,-29.4150, -41.7667, 3928,    203.0,  17.5280,  36.0080,2,-999.0000,9,    219.4,2,     0.62,2,     2.37,9,     0.21,2, -999.000,9, -999.000,9, -999.000,9, -999.000,9,-999.0000,9,  -999.00,9,   -999.0,9,-999.000,9,  -999.00,9,   2074.9,2,   -999.0,9,   -999.0,9,  -999.00,9,  -999.0,-999.0000,-999.000,-999.000, 17.4935,-999.000,9