BOTTLE,20030417WHPSIOSA
EXPOCODE,SECT_ID,STNNBR,CASTNO,BTLNBR,BTLNBR_FLAG_W,DATE,TIME,LATITUDE,LONGITUDE,DEPTH,CTDPRS,CTDTMP,CTDSAL,CTDSAL_FLAG_W,SALNTY,SALNTY_FLAG_W,OXYGEN,OXYGEN_FLAG_W,SILCAT,SILCAT_FLAG_W,NO2+NO3,NO2+NO3_FLAG_W,PHSPHT,PHSPHT_FLAG_W,CFC-11,CFC-11_FLAG_W,CFC-12,CFC-12_FLAG_W,CCL4,CCL4_FLAG_W,TRITUM,TRITUM_FLAG_W,HELIUM,HELIUM_FLAG_W,DELHE3,DELHE3_FLAG_W,DELC14,DELC14_FLAG_W,NEON,NEON_FLAG_W,O18O16,O18O16_FLAG_W,TCARBN,TCARBN_FLAG_W,PCO2,PCO2_FLAG_W,ALKALI,ALKALI_FLAG_W,PH,PH_FLAG_W,C14ERR,HELIER,DELHER,NEONER,THETA,TRITER,TRITER_FLAG_W
,,,,,,,,,,,DBAR,ITS-90,PSS-78,,PSS-78,,UMOL/KG,,UMOL/KG,,UMOL/KG,,UMOL/KG,,PMOL/KG,,PMOL/KG,,PMOL/KG,,TU,,NMOL/KG,,PERCNT,,/MILLE,,NMOL/KG,,MILLE,,UMOL/KG,,UATM,,UMOL/KG,,,,/MILLE,NMOL/KG,PERCNT,NMOL/KG,ITS-90,TU,
      06MT22_5,   A10,    80,  2,    324,2,19930122,1723,-29.6038,   3.7715, 4933,      9.0,  24.2170,  35.8320,2,  35.8400,2,   -999.0,9,  -999.00,9,  -999.00,9,  -999.00,9, -999.000,9, -999.000,9, -999.000,9, -999.000,9,-999.0000,9,  -999.00,9,   -999.0,9,-999.000,9,  -999.00,9,   -999.0,9,   -999.0,9,   -999.0,9,  -999.00,9,  -999.0,-999.0000,-999.000,-999.000, 24.2151,-999.000,9
      06MT22_5,   A10,    80,  2,    320,2,19930122,1723,-29.6038,   3.7715, 4933,    999.0,   3.7510,  34.3520,2,-999.0000,9,    207.8,2,    36.99,2,    32.49,9,     2.21,2,    0.822,2,    0.398,2,    1.719,2, -999.000,9,-999.0000,9,  -999.00,9,   -999.0,9,-999.000,9,  -999.00,9,   -999.0,9,   -999.0,9,   -999.0,9,  -999.00,9,  -999.0,-999.0000,-999.000,-999.000,  3.6774,-999.000,9
      06MT22_5,   A10,    80,  2,    319,2,19930122,1723,-29.6038,   3.7715, 4933,   1199.0,   3.2900,  34.4930,2,  34.4930,2,    181.2,2,    50.22,2,    34.12,9,     2.30,2,    0.173,2,    0.087,2,    0.592,2, -999.000,9,-999.0000,9,  -999.00,9,   -999.0,9,-999.000,9,  -999.00,9,   -999.0,9,   -999.0,9,   -999.0,9,  -999.00,9,  -999.0,-999.0000,-999.000,-999.000,  3.2041,-999.000,9
      06MT22_5,   A10,    80,  2,    318,2,19930122,1723,-29.6038,   3.7715, 4933,   1399.0,   3.1630,  34.6400,2,-999.0000,9,    184.4,2,    50.82,2,    32.32,9,     2.19,2, -999.000,9, -999.000,9, -999.000,9, -999.000,9,-999.0000,9,  -999.00,9,   -999.0,9,-999.000,9,  -999.00,9,   -999.0,9,   -999.0,9,   -999.0,9,  -999.00,9,  -999.0,-999.0000,-999.000,-999.000,  3.0612,-999.000,9
      06MT22_5,   A10,    80,  2,    317,2,19930122,1723,-29.6038,   3.7715, 4933,   1600.0,   3.1190,  34.7450,2,-999.0000,9,    198.7,2,    47.04,2,    29.69,9,     1.96,2,    0.012,2,    0.004,2,    0.071,2, -999.000,9,-999.0000,9,  -999.00,9,   -999.0,9,-999.000,9,  -999.00,9,   -999.0,9,   -999.0,9,   -999.0,9,  -999.00,9,  -999.0,-999.0000,-999.000,-999.000,  3.0007,-999.000,9
      06MT22_5,   A10,    80,  2,    316,2,19930122,1723,-29.6038,   3.7715, 4933,   1800.0,   3.1280,  34.8110,2,  34.8120,2,    210.1,2,    43.97,2,    27.44,9,     1.83,2, -999.000,9, -999.000,9, -999.000,9, -999.000,9,-999.0000,9,  -999.00,9,   -999.0,9,-999.000,9,  -999.00,9,   -999.0,9,   -999.0,9,   -999.0,9,  -999.00,9,  -999.0,-999.0000,-999.000,-999.000,  2.9920,-999.000,9
      06MT22_5,   A10,    80,  2,    315,2,19930122,1723,-29.6038,   3.7715, 4933,   2000.0,   2.9770,  34.8390,2,-999.0000,9,    218.7,2,    42.94,2,    26.38,9,     1.76,2,    0.009,2,    0.005,2,    0.034,2, -999.000,9,-999.0000,9,  -999.00,9,   -999.0,9,-999.000,9,  -999.00,9,   -999.0,9,   -999.0,9,   -999.0,9,  -999.00,9,  -999.0,-999.0000,-999.000,-999.000,  2.8251,-999.000,9
      06MT22_5,   A10,    80,  2,    314,2,19930122,1723,-29.6038,   3.7715, 4933,   2250.0,   2.7820,  34.8500,2,-999.0000,9,    224.9,2,    45.97,2,    25.73,9,     1.72,2, -999.000,9, -999.000,9, -999.000,9, -999.000,9,-999.0000,9,  -999.00,9,   -999.0,9,-999.000,9,  -999.00,9,   -999.0,9,   -999.0,9,   -999.0,9,  -999.00,9,  -999.0,-999.0000,-999.000,-999.000,  2.6102,-999.000,9
      06MT22_5,   A10,    80,  2,    313,2,19930122,1723,-29.6038,   3.7715, 4933,   2501.0,   2.5930,  34.8510,2,  34.8490,2,    227.4,2,    50.03,2,    25.71,9,     1.70,2,    0.002,2,    0.001,2,    0.017,2, -999.000,9,-999.0000,9,  -999.00,9,   -999.0,9,-999.000,9,  -999.00,9,   -999.0,9,   -999.0,9,   -999.0,9,  -999.00,9,  -999.0,-999.0000,-999.000,-999.000,  2.4008,-999.000,9
      06MT22_5,   A10,    80,  2,    312,2,19930122,1723,-29.6038,   3.7715, 4933,   2751.0,   2.4780,  34.8550,2,-999.0000,9,    230.9,2,    51.70,2,    25.40,9,     1.65,2, -999.000,9, -999.000,9, -999.000,9, -999.000,9,-999.0000,9,  -999.00,9,   -999.0,9,-999.000,9,  -999.00,9,   -999.0,9,   -999.0,9,   -999.0,9,  -999.00,9,  -999.0,-999.0000,-999.000,-999.000,  2.2638,-999.000,9
      06MT22_5,   A10,    80,  2,    311,2,19930122,1723,-29.6038,   3.7715, 4933,   3002.0,   2.3770,  34.8560,2,-999.0000,9,    232.4,2,    54.13,2,    25.34,9,     1.70,2,    0.000,2,    0.000,2,    0.008,2, -999.000,9,-999.0000,9,  -999.00,9,   -999.0,9,-999.000,9,  -999.00,9,   -999.0,9,   -999.0,9,   -999.0,9,  -999.00,9,  -999.0,-999.0000,-999.000,-999.000,  2.1399,-999.000,9
      06MT22_5,   A10,    80,  2,    310,2,19930122,1723,-29.6038,   3.7715, 4933,   3253.0,   2.2980,  34.8540,2,  34.8550,2,    232.3,2,    56.92,2,    25.46,9,     1.69,2, -999.000,9, -999.000,9, -999.000,9, -999.000,9,-999.0000,9,  -999.00,9,   -999.0,9,-999.000,9,  -999.00,9,   -999.0,9,   -999.0,9,   -999.0,9,  -999.00,9,  -999.0,-999.0000,-999.000,-999.000,  2.0370,-999.000,9
      06MT22_5,   A10,    80,  2,    309,2,19930122,1723,-29.6038,   3.7715, 4933,   3502.0,   2.2050,  34.8500,2,-999.0000,9,    231.5,2,    60.08,2,    25.77,9,     1.68,2,    0.000,2,    0.001,2,    0.006,2, -999.000,9,-999.0000,9,  -999.00,9,   -999.0,9,-999.000,9,  -999.00,9,   -999.0,9,   -999.0,9,   -999.0,9,  -999.00,9,  -999.0,-999.0000,-999.000,-999.000,  1.9204,-999.000,9
      06MT22_5,   A10,    80,  2,    308,2,19930122,1723,-29.6038,   3.7715, 4933,   3754.0,   1.9590,  34.8230,2,-999.0000,9,    227.6,2,    70.46,2,    27.17,9,     1.80,2, -999.000,9, -999.000,9, -999.000,9, -999.000,9,-999.0000,9,  -999.00,9,   -999.0,9,-999.000,9,  -999.00,9,   -999.0,9,   -999.0,9,   -999.0,9,  -999.00,9,  -999.0,-999.0000,-999.000,-999.000,  1.6537,-999.000,9
      06MT22_5,   A10,    80,  2,    307,2,19930122,1723,-29.6038,   3.7715, 4933,   4004.0,   1.5280,  34.7790,2,  34.7790,2,    222.6,2,    87.64,2,    29.39,9,     1.95,2,    0.000,2,    0.001,2,    0.025,2, -999.000,9,-999.0000,9,  -999.00,9,   -999.0,9,-999.000,9,  -999.00,9,   -999.0,9,   -999.0,9,   -999.0,9,  -999.00,9,  -999.0,-999.0000,-999.000,-999.000,  1.2073,-999.000,9
      06MT22_5,   A10,    80,  2,    306,2,19930122,1723,-29.6038,   3.7715, 4933,   4255.0,   1.2470,  34.7510,2,-999.0000,9,    219.9,2,    99.19,2,    30.78,9,     2.05,2, -999.000,9, -999.000,9, -999.000,9, -999.000,9,-999.0000,9,  -999.00,9,   -999.0,9,-999.000,9,  -999.00,9,   -999.0,9,   -999.0,9,   -999.0,9,  -999.00,9,  -999.0,-999.0000,-999.000,-999.000,  0.9071,-999.000,9
      06MT22_5,   A10,    80,  2,    305,2,19930122,1723,-29.6038,   3.7715, 4933,   4506.0,   1.1420,  34.7390,2,-999.0000,9,    218.6,2,   103.57,2,    31.37,9,     2.10,2,    0.003,2,    0.002,2,    0.055,2, -999.000,9,-999.0000,9,  -999.00,9,   -999.0,9,-999.000,9,  -999.00,9,   -999.0,9,   -999.0,9,   -999.0,9,  -999.00,9,  -999.0,-999.0000,-999.000,-999.000,  0.7772,-999.000,9
      06MT22_5,   A10,    80,  2,    304,2,19930122,1723,-29.6038,   3.7715, 4933,   4763.0,   1.1170,  34.7350,2,  34.7340,2,    218.0,2,   105.47,2,    31.61,9,     2.13,2, -999.000,9, -999.000,9, -999.000,9, -999.000,9,-999.0000,9,  -999.00,9,   -999.0,9,-999.000,9,  -999.00,9,   -999.0,9,   -999.0,9,   -999.0,9,  -999.00,9,  -999.0,-999.0000,-999.000,-999.000,  0.7234,-999.000,9
      06MT22_5,   A10,    80,  2,    303,2,19930122,1723,-29.6038,   3.7715, 4933,   4875.0,   1.1300,  34.7350,2,-999.0000,9,    220.0,2,   109.47,2,    31.99,9,     2.13,2,    0.004,2,    0.003,2,    0.067,2, -999.000,9,-999.0000,9,  -999.00,9,   -999.0,9,-999.000,9,  -999.00,9,   -999.0,9,   -999.0,9,   -999.0,9,  -999.00,9,  -999.0,-999.0000,-999.000,-999.000,  0.7228,-999.000,9
      06MT22_5,   A10,    80,  2,    302,2,19930122,1723,-29.6038,   3.7715, 4933,   4956.0,   1.1400,  34.7340,2,  34.7340,2,   -999.0,9,  -999.00,9,  -999.00,9,  -999.00,9, -999.000,9, -999.000,9, -999.000,9, -999.000,9,-999.0000,9,  -999.00,9,   -999.0,9,-999.000,9,  -999.00,9,   -999.0,9,   -999.0,9,   -999.0,9,  -999.00,9,  -999.0,-999.0000,-999.000,-999.000,  0.7229,-999.000,9
      06MT22_5,   A10,    80,  2,    301,2,19930122,1723,-29.6038,   3.7715, 4933,   4957.0,   1.1400,  34.7340,2,-999.0000,9,    218.2,2,   104.77,2,    31.61,9,     2.13,2,    0.006,2,    0.000,4,    0.069,2, -999.000,9,-999.0000,9,  -999.00,9,   -999.0,9,-999.000,9,  -999.00,9,   -999.0,9,   -999.0,9,   -999.0,9,  -999.00,9,  -999.0,-999.0000,-999.000,-999.000,  0.7144,-999.000,9
      06MT22_5,   A10,    81,  1,    217,2,19930123,0700,-29.7400,   4.2183, 4971,     11.0,  23.3760,  35.8340,2,  35.8430,2,    220.4,2,     0.77,2,     0.02,9,     0.15,2, -999.000,9, -999.000,9, -999.000,9, -999.000,9,-999.0000,9,  -999.00,9,   -999.0,9,-999.000,9,  -999.00,9,   -999.0,0,   -999.0,9,   -999.0,9,  -999.00,9,  -999.0,-999.0000,-999.000,-999.000, 23.3737,-999.000,9
      06MT22_5,   A10,    81,  1,    210,2,19930123,0700,-29.7400,   4.2183, 4971,     11.0,  23.3760,  35.8340,2,-999.0000,9,   -999.0,9,  -999.00,9,  -999.00,9,  -999.00,9,    2.052,2,    1.161,2,    2.576,2,    1.022,3,   1.7025,5,    -1.53,3,   -999.0,9,   6.862,5,  -999.00,9,   2049.3,2,   -999.0,9,   -999.0,9,  -999.00,9,  -999.0,  0.0068,   0.250,   0.027, 23.3737,   0.230,9
      06MT22_5,   A10,    81,  1,    209,2,19930123,0700,-29.7400,   4.2183, 4971,     31.0,  20.9160,  35.6350,2,-999.0000,9,    243.1,2,     0.99,2,     0.01,9,     0.13,2,    2.399,2,    1.290,2,    2.637,2,    0.883,2,   1.7262,2,    -1.64,2,   -999.0,9,   7.077,2,  -999.00,9,   2042.1,2,   -999.0,9,   -999.0,9,  -999.00,9,  -999.0,  0.0060,   0.250,   0.025, 20.9101,   0.021,9
      06MT22_5,   A10,    81,  1,    208,2,19930123,0700,-29.7400,   4.2183, 4971,     52.0,  17.6010,  35.6050,2,-999.0000,9,    260.9,2,     1.11,2,     0.00,9,     0.15,2, -999.000,9, -999.000,9, -999.000,9,    0.972,2,   1.7502,5,    -1.28,3,   -999.0,9,   7.250,5,  -999.00,9,   2040.0,2,   -999.0,9,   -999.0,9,  -999.00,9,  -999.0,  0.0070,   0.250,   0.029, 17.5922,   0.026,9
      06MT22_5,   A10,    81,  1,    207,2,19930123,0700,-29.7400,   4.2183, 4971,     71.0,  16.2890,  35.5500,2,-999.0000,9,    244.8,2,     1.37,2,     0.63,9,     0.22,2,    2.622,2,    1.412,2,    1.745,2,   -0.266,4,   1.7614,2,    -1.35,2,   -999.0,9,   7.295,2,  -999.00,9,   2057.9,2,   -999.0,9,   -999.0,9,  -999.00,9,  -999.0,  0.0062,   0.250,   0.025, 16.2776,   0.056,9
      06MT22_5,   A10,    81,  1,    206,2,19930123,0700,-29.7400,   4.2183, 4971,    101.0,  15.4710,  35.4480,2,-999.0000,9,    238.0,2,     1.62,2,     1.92,9,     0.29,2,    2.677,2,    1.437,2,    1.698,2,    0.903,2,   1.7650,2,    -1.60,2,     76.7,3,   7.281,2,  -999.00,9,   2066.1,2,   -999.0,9,   -999.0,9,  -999.00,9,     6.2,  0.0062,   0.250,   0.025, 15.4554,   0.025,9
      06MT22_5,   A10,    81,  1,    205,2,19930123,0700,-29.7400,   4.2183, 4971,    152.0,  15.2460,  35.4560,2,  35.4580,2,    238.5,2,     2.13,2,     3.02,9,     0.34,2, -999.000,9, -999.000,9, -999.000,9,    0.941,2,-999.0000,1,  -999.00,1,   -999.0,9,-999.000,1,  -999.00,9,   2068.5,2,   -999.0,9,   -999.0,9,  -999.00,9,  -999.0,-999.0000,-999.000,-999.000, 15.2227,   0.023,9
      06MT22_5,   A10,    81,  1,    204,2,19930123,0700,-29.7400,   4.2183, 4971,    201.0,  14.8570,  35.4100,2,-999.0000,9,    236.9,2,     2.67,2,     4.43,9,     0.40,2,    2.706,2,    1.449,2,    1.517,2,    0.956,2,   1.8051,8,     1.17,3,   -999.0,9,   7.665,8,  -999.00,9,   2069.0,2,   -999.0,9,   -999.0,9,  -999.00,9,  -999.0,  0.0063,   0.250,   0.027, 14.8268,   0.023,9
      06MT22_5,   A10,    81,  1,    203,2,19930123,0700,-29.7400,   4.2183, 4971,    298.0,  13.0160,  35.1180,2,-999.0000,9,    222.0,2,     3.79,2,     9.14,9,     0.71,2,    2.550,2,    1.342,2,    1.258,2,    0.775,2,-999.0000,1,  -999.00,1,     40.3,4,-999.000,1,  -999.00,9,   2092.6,2,   -999.0,9,   -999.0,9,  -999.00,9,     5.9,-999.0000,-999.000,-999.000, 12.9748,   0.018,9
      06MT22_5,   A10,    81,  1,    202,2,19930123,0700,-29.7400,   4.2183, 4971,    401.0,  11.3250,  34.9380,2,  34.9490,2,    214.8,2,     4.94,2,    13.70,9,     0.95,2,    2.305,2,    1.191,2,    1.142,2, -999.000,9,   1.7980,5,     0.28,3,   -999.0,9,   7.564,5,  -999.00,9,   2112.1,2,   -999.0,9,   -999.0,9,  -999.00,9,  -999.0,  0.0072,   0.250,   0.030, 11.2742,-999.000,9
      06MT22_5,   A10,    81,  1,    201,2,19930123,0700,-29.7400,   4.2183, 4971,    501.0,   9.7300,  34.7550,2,-999.0000,9,    210.0,2,     8.09,2,    18.29,9,     1.23,2,    1.967,2,    1.011,2,    1.306,2,   -1.302,4,-999.0000,1,  -999.00,1,     33.4,2,-999.000,1,  -999.00,9,   2128.8,2,   -999.0,9,   -999.0,9,  -999.00,9,     5.9,-999.0000,-999.000,-999.000,  9.6713,   1.083,9