BOTTLE,20081214JAMSTECIORGC,,,,,,,,,,,,,,,,,,,,,,,,,,,,,,,,,,,,,,,,,,,,,,,,,,,,,,,,,,,,,,,,,
EXPOCODE,SECT,STNNBR,CASTNO,SAMPNO,BTLNBR,BTLNBR_FLAG_W,DATE,TIME,LATITUDE,LONGITUDE,DEPTH,CTDPRS,CTDPRS_FLAG_W,CTDTMP,CTDTMP_FLAG_W,SBE35,SBE35_FLAG_W,CTDSAL,CTDSAL_FLAG_W,SALNTY,SALNTY_FLAG_W,CTDOXY,CTDOXY_FLAG_W,OXYGEN,OXYGEN_FLAG_W,SILCAT,SILCAT_FLAG_W,SILUNC,NITRAT,NITRAT_FLAG_W,NRAUNC,NITRIT,NITRIT_FLAG_W,NRIUNC,PHSPHT,PHSPHT_FLAG_W,PHPUNC,CFC-11,CFC-11_FLAG_W,CFC-12,CFC-12_FLAG_W,CFC113,CFC113_FLAG_W,CCL4,CCL4_FLAG_W,TCARBN,TCARBN_FLAG_W,ALKALI,ALKALI_FLAG_W,PH_TOT,PH_TMP,PH_FLAG_W,DELC13,DELC13_FLAG_W,C13ERR,DELC14,DELC14_FLAG_W,C14ERR,CS-137,CS-137_FLAG_W,CS137ER,PLUTO,PLUTO_FLAG_W,PLUTOER,THETA,SIG0
,,,,,,,,UTC,DEG,DEG,M,DBAR,,ITS-90,,ITS-90,,PSS-78,,PSS-78,,UMOL/KG,,UMOL/KG,,UMOL/KG,,UMOL/KG,UMOL/KG,,UMOL/KG,UMOL/KG,,UMOL/KG,UMOL/KG,,UMOL/KG,PMOL/KG,,PMOL/KG,,PMOL/KG,,PMOL/KG,,UMOL/KG,,UMOL/KG,,,ITS-90,,/MILLE,,/MILLE,/MILLE,,/MILLE,BQ/CUM,,BQ/CUM,MBQ/CUM,,MBQ/CUM,DEG C,KG/CUM
49NZ20070724,   P01,72,1,0,-999,9,20070818,258,46.9998,-168.2105,5405,-999,9,-999,9,-999,9,-999,9,32.4898,2,-999,9,-999,9,-999,9,-999,-999,9,-999,-999,9,-999,-999,9,-999,-999,9,-999,9,-999,9,-999,9,-999,9,-999,9,-999,-999,9,-999,9,-999,-999,9,-999,-999,9,-999,-999,9,-999,-999,-999
49NZ20070724,   P01,72,1,36, X12042,2,20070818,258,46.9998,-168.2105,5405,9.6,2,14.5783,2,14.57894,2,32.4886,2,32.5165,2,271.28,2,272.19,2,14.1,2,0.15,9.14,2,0.06,0.16,2,0.01,0.994,2,0.013,3.058,2,1.763,2,0.279,2,-999,9,1995.3,2,2196.8,2,7.9235,25,3,-999,1,-999,-999,1,-999,-999,9,-999,-999,9,-999,14.5769,24.1267
49NZ20070724,   P01,72,1,35, X12041,2,20070818,258,46.9998,-168.2105,5405,50.4,2,6.1846,2,6.17913,2,33.1084,2,33.1084,2,312.3,2,312.22,2,24.85,2,0.17,14.59,2,0.07,0.28,2,0.01,1.376,2,0.014,4.496,2,2.531,2,0.381,2,-999,9,2079.5,6,2230,2,7.7876,25,2,-999,1,-999,-999,1,-999,-999,9,-999,-999,9,-999,6.1804,26.0356
49NZ20070724,   P01,72,1,34, X12036,2,20070818,258,46.9998,-168.2105,5405,100,2,5.7498,2,5.75569,2,33.3313,2,33.3559,2,292.93,2,292.82,2,24.66,2,0.17,16.08,2,0.08,0.02,2,0.01,1.349,2,0.014,4.33,2,2.442,2,0.358,2,-999,9,2095.9,2,2238.6,6,7.7647,25,2,-999,1,-999,-999,1,-999,-999,9,-999,-999,9,-999,5.7417,26.2658
49NZ20070724,   P01,72,1,33, X12033,2,20070818,258,46.9998,-168.2105,5405,150.2,2,5.2847,2,5.28538,2,33.7028,2,33.706,2,228.47,2,227.31,2,41.29,2,0.21,24.05,2,0.1,0.02,2,0.01,1.834,2,0.015,3.871,6,2.117,6,0.265,6,-999,9,2167.6,2,2265.5,2,7.6413,25,2,-999,1,-999,-999,1,-999,-999,9,-999,-999,9,-999,5.273,26.6155
49NZ20070724,   P01,72,1,32, X12038,2,20070818,258,46.9998,-168.2105,5405,200.7,2,4.4834,2,4.48318,2,33.7528,2,33.7564,2,165.74,2,164.67,2,59.34,2,0.25,30.92,2,0.12,0.02,2,0.01,2.301,2,0.016,3.287,2,1.725,2,0.228,2,-999,9,2222,2,2277.8,2,7.519,25,2,-999,1,-999,-999,1,-999,-999,9,-999,-999,9,-999,4.4689,26.7451
49NZ20070724,   P01,72,1,31, X12003,2,20070818,258,46.9998,-168.2105,5405,251,2,4.1496,2,4.15052,2,33.8172,2,33.8219,6,126.02,2,124.46,2,71.74,2,0.28,34.88,2,0.13,0.01,2,0.01,2.561,2,0.016,2.789,2,1.466,2,0.184,2,-999,9,2258.8,2,2288.9,2,7.445,25,2,-999,1,-999,-999,1,-999,-999,9,-999,-999,9,-999,4.132,26.8317
49NZ20070724,   P01,72,1,30, X12008,2,20070818,258,46.9998,-168.2105,5405,301.1,2,4.0609,2,4.05604,2,33.8982,2,33.898,2,93.54,2,92.1,2,81.82,2,0.3,37.83,2,0.14,0.02,2,0.01,2.741,2,0.017,2.287,2,1.152,2,0.146,2,-999,9,2284.4,2,2298.4,2,7.3958,25,2,-999,1,-999,-999,1,-999,-999,9,-999,-999,9,-999,4.0399,26.9056
49NZ20070724,   P01,72,1,29, X12035,2,20070818,258,46.9998,-168.2105,5405,400.2,2,3.9799,2,3.97951,2,34.026,2,34.031,2,61.14,2,60.95,2,95.08,2,0.33,40.25,2,0.15,0.01,2,0.01,2.905,2,0.017,1.52,2,0.754,2,0.096,2,-999,9,2312.1,2,2316.2,2,7.3611,25,2,-999,1,-999,-999,1,-999,-999,9,-999,-999,9,-999,3.9518,27.0163
49NZ20070724,   P01,72,1,28, X12034,2,20070818,258,46.9998,-168.2105,5405,500.6,2,3.8342,2,3.83407,2,34.1365,2,34.138,6,43.73,2,43.58,2,107.06,2,0.35,41.37,2,0.15,0.02,2,0.01,2.986,2,0.017,0.944,2,0.463,2,0.057,2,-999,9,2332.6,2,2332.3,2,7.3485,25,2,-999,1,-999,-999,1,-999,-999,9,-999,-999,9,-999,3.7992,27.1196
49NZ20070724,   P01,72,1,27, X12049,2,20070818,258,46.9998,-168.2105,5405,599.3,2,3.6067,2,3.6063,2,34.2006,2,34.202,2,33.25,2,33.57,2,116.5,2,0.38,42.51,2,0.15,0.01,2,0.01,3.053,2,0.018,0.638,2,0.311,2,0.043,2,-999,9,2347.8,2,2344.6,2,7.3444,25,3,-999,1,-999,-999,1,-999,-999,9,-999,-999,9,-999,3.5653,27.1938
49NZ20070724,   P01,72,1,26, X12032,2,20070818,258,46.9998,-168.2105,5405,703,2,3.393,2,3.39304,2,34.2618,2,34.2613,2,28.46,2,28.68,2,124.59,2,0.39,42.91,2,0.15,0.01,2,0.01,3.089,2,0.018,0.41,6,0.201,6,0.024,6,-999,9,2358,6,2355.4,2,7.3378,25,2,-999,1,-999,-999,1,-999,-999,9,-999,-999,9,-999,3.345,27.2638
49NZ20070724,   P01,72,1,25, X12043,2,20070818,258,46.9998,-168.2105,5405,800.9,2,3.1433,2,3.1431,2,34.3053,2,34.3059,2,21.65,2,21.89,2,133.73,2,0.41,43.76,2,0.16,0.01,2,0.01,3.132,2,0.018,0.26,2,0.127,2,0.016,2,-999,9,2371.6,2,2365.3,6,7.328,25,2,-999,1,-999,-999,1,-999,-999,9,-999,-999,9,-999,3.0895,27.3223
49NZ20070724,   P01,72,1,24, X12030,2,20070818,258,46.9998,-168.2105,5405,903.1,2,2.9919,2,2.99183,2,34.3491,2,34.3486,2,24.33,2,24.35,2,138.65,2,0.42,43.45,2,0.15,0.01,2,0.01,3.124,2,0.018,0.189,2,0.089,2,0.015,2,-999,9,2375.3,2,2372.1,2,7.3395,25,6,-999,1,-999,-999,1,-999,-999,9,-999,-999,9,-999,2.9316,27.3717
49NZ20070724,   P01,72,1,23, X12027,2,20070818,258,46.9998,-168.2105,5405,1002.2,2,2.8504,2,2.85018,2,34.3858,2,34.3858,6,25.5,2,25.53,2,143.05,2,0.43,43.56,2,0.15,0.01,2,0.01,3.124,2,0.018,0.13,2,0.06,2,0.011,2,-999,9,2379.3,2,2377.6,2,7.3432,25,2,-999,1,-999,-999,1,-999,-999,9,-999,-999,9,-999,2.7837,27.4142
49NZ20070724,   P01,72,1,22, X12028,2,20070818,258,46.9998,-168.2105,5405,1201.4,2,2.5664,2,2.56654,2,34.4452,2,34.4448,2,28.36,2,28.39,2,152.1,2,0.45,43.59,2,0.15,0.01,2,0.01,3.115,2,0.018,0.07,2,0.035,2,0.009,2,-999,9,2386.2,2,2389.8,2,7.3553,25,2,-999,1,-999,-999,1,-999,-999,9,-999,-999,9,-999,2.4871,27.4873
49NZ20070724,   P01,72,1,21, X12009,2,20070818,258,46.9998,-168.2105,5405,1401.8,2,2.3465,2,2.34646,2,34.4932,2,34.493,2,34.45,2,34.53,2,158.51,2,0.47,43.3,2,0.15,0.01,2,0.01,3.095,2,0.018,0.028,2,0.016,2,0.005,2,-999,9,2390.6,2,2398.6,2,7.37,25,2,-999,1,-999,-999,1,-999,-999,9,-999,-999,9,-999,2.2541,27.5452
49NZ20070724,   P01,72,1,20, X12026,2,20070818,258,46.9998,-168.2105,5405,1601.5,2,2.1926,2,2.19259,2,34.5311,2,34.5311,2,38.88,2,38.83,2,162.68,2,0.48,43.34,2,0.15,0.01,2,0.01,3.073,2,0.018,0.004,2,0.003,2,0,2,-999,9,2393.2,2,2404.4,2,7.3821,25,6,-999,1,-999,-999,1,-999,-999,9,-999,-999,9,-999,2.0863,27.5892
49NZ20070724,   P01,72,1,19, X12025,2,20070818,258,46.9998,-168.2105,5405,1802.2,2,2.0596,2,2.05966,2,34.5614,2,34.5611,2,47.09,2,46.65,2,165.67,2,0.48,42.85,2,0.15,0.01,2,0.01,3.031,2,0.018,0,2,0,2,0,2,-999,9,2391.3,2,2410.5,2,7.3993,25,2,-999,1,-999,-999,1,-999,-999,9,-999,-999,9,-999,1.9388,27.6251
49NZ20070724,   P01,72,1,18, X12024,2,20070818,258,46.9998,-168.2105,5405,2002.1,2,1.9308,2,1.93074,2,34.5888,2,34.5886,2,58.48,2,58.14,2,167.57,2,0.49,42.21,2,0.15,0.01,2,0.01,2.988,2,0.017,0,2,0,2,0,2,-999,9,2386.9,2,2414.7,2,7.4223,25,2,-999,1,-999,-999,1,-999,-999,9,-999,-999,9,-999,1.7954,27.6581
49NZ20070724,   P01,72,1,17, X12023,2,20070818,258,46.9998,-168.2105,5405,2200.1,2,1.8444,2,1.84426,2,34.6072,2,34.6075,2,66.94,2,66.64,2,168.71,2,0.49,41.58,2,0.15,0.01,2,0.01,2.946,2,0.017,-999,9,-999,9,-999,9,-999,9,2383.7,2,2417.7,2,7.4401,25,2,-999,1,-999,-999,1,-999,-999,9,-999,-999,9,-999,1.6936,27.6806
49NZ20070724,   P01,72,1,16, X12022,2,20070818,258,46.9998,-168.2105,5405,2400.1,2,1.7547,2,1.75462,2,34.6235,2,34.6235,2,81.21,2,80.75,2,167.84,2,0.49,40.72,2,0.15,0.01,2,0.01,2.883,2,0.017,-999,9,-999,9,-999,9,-999,9,2375.8,6,2420,2,7.464,25,2,-999,1,-999,-999,1,-999,-999,9,-999,-999,9,-999,1.588,27.7015
49NZ20070724,   P01,72,1,15, X12021,2,20070818,258,46.9998,-168.2105,5405,2600.6,2,1.6743,2,1.67433,2,34.638,2,34.638,6,93.77,2,93.27,2,166.44,2,0.49,39.88,2,0.14,0.01,2,0.01,2.83,2,0.017,-999,9,-999,9,-999,9,-999,9,2369.2,2,2420.3,6,7.4892,25,2,-999,1,-999,-999,1,-999,-999,9,-999,-999,9,-999,1.4911,27.7203
49NZ20070724,   P01,72,1,14, X12020,2,20070818,258,46.9998,-168.2105,5405,2798.8,2,1.6168,2,1.61669,2,34.6483,2,34.6484,2,105.22,2,104.98,2,164.19,2,0.48,38.81,2,0.14,0.01,2,0.01,2.765,2,0.017,-999,9,-999,9,-999,9,-999,9,2361,2,2421.2,2,7.5104,25,2,-999,1,-999,-999,1,-999,-999,9,-999,-999,9,-999,1.4166,27.7339
49NZ20070724,   P01,72,1,13, X12019,2,20070818,258,46.9998,-168.2105,5405,3001,2,1.5744,2,1.57417,2,34.6566,2,34.6567,2,114.12,2,113.69,2,162.86,2,0.48,38.3,2,0.14,0.01,2,0.01,2.723,2,0.017,-999,9,-999,9,-999,9,-999,9,2355.5,2,2420.7,2,7.5257,25,2,-999,1,-999,-999,1,-999,-999,9,-999,-999,9,-999,1.356,27.7449
49NZ20070724,   P01,72,1,12, X12040,2,20070818,258,46.9998,-168.2105,5405,3249.7,2,1.5328,2,1.53299,2,34.6651,2,34.6655,2,123.84,2,123.31,2,160.28,2,0.47,38.01,2,0.14,0.01,2,0.01,2.678,2,0.017,-999,9,-999,9,-999,9,-999,9,2031.7,4,2421,2,7.5438,25,2,-999,1,-999,-999,1,-999,-999,9,-999,-999,9,-999,1.2911,27.7564
49NZ20070724,   P01,72,1,11, X12047,2,20070818,258,46.9998,-168.2105,5405,3500.2,2,1.4971,2,1.49712,2,34.6727,2,34.6728,2,132.8,2,132.54,2,158.14,2,0.47,37.32,2,0.14,0.01,2,0.01,2.628,2,0.017,-999,9,-999,9,-999,9,-999,9,2342.3,2,2421.4,2,7.5605,25,2,-999,1,-999,-999,1,-999,-999,9,-999,-999,9,-999,1.2311,27.7666
49NZ20070724,   P01,72,1,10, X12010,2,20070818,258,46.9998,-168.2105,5405,3750,2,1.4787,2,1.47875,2,34.6779,2,34.6779,2,139.2,2,139.07,2,157.06,2,0.46,36.97,2,0.14,0.02,2,0.01,2.591,2,0.016,-999,9,-999,9,-999,9,-999,9,2338.5,2,2421.6,2,7.5727,25,2,-999,1,-999,-999,1,-999,-999,9,-999,-999,9,-999,1.1872,27.7739
49NZ20070724,   P01,72,1,9, X12015,2,20070818,258,46.9998,-168.2105,5405,4000.3,2,1.4705,2,1.47052,2,34.6822,2,34.6824,2,144.25,2,144.14,2,156.76,2,0.46,36.68,2,0.14,0.01,2,0.01,2.568,2,0.016,-999,9,-999,9,-999,9,-999,9,2335,2,2419,3,7.5815,25,2,-999,1,-999,-999,1,-999,-999,9,-999,-999,9,-999,1.1524,27.7797
49NZ20070724,   P01,72,1,8, X12046,2,20070818,258,46.9998,-168.2105,5405,4250.9,2,1.4741,2,1.47424,2,34.6853,2,34.6855,6,147.82,2,147.8,2,156.58,2,0.46,36.38,2,0.13,0.01,2,0.01,2.546,2,0.016,-999,9,-999,9,-999,9,-999,9,2333.1,6,2423.6,2,7.5892,25,2,-999,1,-999,-999,1,-999,-999,9,-999,-999,9,-999,1.1282,27.7838
49NZ20070724,   P01,72,1,7, X12044,2,20070818,258,46.9998,-168.2105,5405,4501.5,2,1.4914,2,1.49141,2,34.6869,2,34.6868,2,149.17,2,149.3,2,157.91,2,0.47,36.27,2,0.13,0.01,2,0.01,2.542,2,0.016,-999,9,-999,9,-999,9,-999,9,2333.4,2,2424.3,6,7.5937,25,2,-999,1,-999,-999,1,-999,-999,9,-999,-999,9,-999,1.1165,27.7859
49NZ20070724,   P01,72,1,6, X12048,2,20070818,258,46.9998,-168.2105,5405,4750.1,2,1.5181,2,1.51819,2,34.6876,2,34.6876,2,149.43,2,149.48,2,159.16,2,0.47,36.04,2,0.13,0.01,2,0.01,2.543,2,0.016,-999,9,-999,9,-999,9,-999,9,2333.3,2,2425.1,2,7.5951,25,6,-999,1,-999,-999,1,-999,-999,9,-999,-999,9,-999,1.1133,27.7867
49NZ20070724,   P01,72,1,5, X12017,2,20070818,258,46.9998,-168.2105,5405,4999.4,2,1.5447,2,1.54468,2,34.688,2,34.6878,2,150.47,2,150.43,2,159.37,2,0.47,36.26,2,0.13,0.02,2,0.01,2.534,2,0.016,-999,9,-999,9,-999,9,-999,9,2333.4,2,2424.4,2,7.5961,25,2,-999,1,-999,-999,1,-999,-999,9,-999,-999,9,-999,1.109,27.7873
49NZ20070724,   P01,72,1,4, X12928,2,20070818,258,46.9998,-168.2105,5405,5250.3,2,1.5714,2,1.57128,2,34.6884,2,34.6886,2,151.87,2,151.75,2,158.24,2,0.47,36.13,2,0.13,0.01,2,0.01,2.529,2,0.016,-999,9,-999,9,-999,9,-999,9,2331.4,2,2423.3,2,7.5973,25,2,-999,1,-999,-999,1,-999,-999,9,-999,-999,9,-999,1.1038,27.788
49NZ20070724,   P01,72,1,3, X12931,2,20070818,258,46.9998,-168.2105,5405,5251,2,1.5714,2,1.57131,2,34.6885,2,-999,9,151.85,2,-999,9,-999,9,-999,-999,9,-999,-999,9,-999,-999,9,-999,-999,9,-999,9,-999,9,-999,9,-999,9,-999,9,-999,-999,9,-999,9,-999,-999,9,-999,-999,9,-999,-999,9,-999,1.1038,27.7881
49NZ20070724,   P01,72,1,2, X12930,2,20070818,258,46.9998,-168.2105,5405,5250.8,2,1.5715,2,1.57133,2,34.6884,2,-999,9,151.92,2,-999,9,-999,9,-999,-999,9,-999,-999,9,-999,-999,9,-999,-999,9,-999,9,-999,9,-999,9,-999,9,-999,9,-999,-999,9,-999,9,-999,-999,9,-999,-999,9,-999,-999,9,-999,1.1039,27.788
49NZ20070724,   P01,72,1,1, X12929,2,20070818,258,46.9998,-168.2105,5405,5499.1,2,1.5989,2,1.59882,2,34.6887,2,34.6891,6,153.27,2,152.94,2,157.26,2,0.46,36.12,2,0.13,0.01,2,0.01,2.524,2,0.016,-999,9,-999,9,-999,9,-999,9,2328.2,2,2421.9,2,7.598,25,2,-999,1,-999,-999,1,-999,-999,9,-999,-999,9,-999,1.0989,27.7886