BOTTLE,20081214JAMSTECIORGC,,,,,,,,,,,,,,,,,,,,,,,,,,,,,,,,,,,,,,,,,,,,,,,,,,,,,,,,,,,,,,,,,
EXPOCODE,SECT,STNNBR,CASTNO,SAMPNO,BTLNBR,BTLNBR_FLAG_W,DATE,TIME,LATITUDE,LONGITUDE,DEPTH,CTDPRS,CTDPRS_FLAG_W,CTDTMP,CTDTMP_FLAG_W,SBE35,SBE35_FLAG_W,CTDSAL,CTDSAL_FLAG_W,SALNTY,SALNTY_FLAG_W,CTDOXY,CTDOXY_FLAG_W,OXYGEN,OXYGEN_FLAG_W,SILCAT,SILCAT_FLAG_W,SILUNC,NITRAT,NITRAT_FLAG_W,NRAUNC,NITRIT,NITRIT_FLAG_W,NRIUNC,PHSPHT,PHSPHT_FLAG_W,PHPUNC,CFC-11,CFC-11_FLAG_W,CFC-12,CFC-12_FLAG_W,CFC113,CFC113_FLAG_W,CCL4,CCL4_FLAG_W,TCARBN,TCARBN_FLAG_W,ALKALI,ALKALI_FLAG_W,PH_TOT,PH_TMP,PH_FLAG_W,DELC13,DELC13_FLAG_W,C13ERR,DELC14,DELC14_FLAG_W,C14ERR,CS-137,CS-137_FLAG_W,CS137ER,PLUTO,PLUTO_FLAG_W,PLUTOER,THETA,SIG0
,,,,,,,,UTC,DEG,DEG,M,DBAR,,ITS-90,,ITS-90,,PSS-78,,PSS-78,,UMOL/KG,,UMOL/KG,,UMOL/KG,,UMOL/KG,UMOL/KG,,UMOL/KG,UMOL/KG,,UMOL/KG,UMOL/KG,,UMOL/KG,PMOL/KG,,PMOL/KG,,PMOL/KG,,PMOL/KG,,UMOL/KG,,UMOL/KG,,,ITS-90,,/MILLE,,/MILLE,/MILLE,,/MILLE,BQ/CUM,,BQ/CUM,MBQ/CUM,,MBQ/CUM,DEG C,KG/CUM
49NZ20070724,   P01,99,1,0,-999,9,20070826,433,46.993,-137.9633,4172,-999,9,-999,9,-999,9,-999,9,32.4115,2,-999,9,-999,9,-999,9,-999,-999,9,-999,-999,9,-999,-999,9,-999,-999,9,-999,9,-999,9,-999,9,-999,9,-999,9,-999,-999,9,-999,9,-999,-999,9,-999,-999,9,-999,-999,9,-999,-999,-999
49NZ20070724,   P01,99,1,36, X12042,2,20070826,433,46.993,-137.9633,4172,10.2,2,14.4099,2,14.41173,2,32.4129,2,32.4168,2,269.91,2,271.51,2,3.4,2,0.13,4.6,2,0.05,0.1,2,0.01,0.721,2,0.013,3.08,2,1.762,2,0.311,2,-999,9,1977.1,2,2187.5,2,7.9354,25,6,-999,9,-999,-999,9,-999,-999,9,-999,-999,9,-999,14.4084,24.1037
49NZ20070724,   P01,99,1,35, X12041,2,20070826,433,46.993,-137.9633,4172,49.9,2,8.9372,2,8.9348,2,32.6023,2,32.6185,2,289.91,2,289.91,2,10.9,2,0.14,8.75,2,0.06,0.29,2,0.01,1.075,2,0.013,4.012,2,2.235,2,0.386,2,-999,9,2031.2,6,2194.7,2,7.8235,25,2,-999,9,-999,-999,9,-999,-999,9,-999,-999,9,-999,8.932,25.2516
49NZ20070724,   P01,99,1,34, X12036,2,20070826,433,46.993,-137.9633,4172,99.9,2,6.8524,2,6.85344,2,32.7865,2,32.8793,2,277.93,2,270.58,2,17,2,0.16,14.58,2,0.07,0.04,2,0.01,1.319,2,0.014,4.24,2,2.339,2,0.362,2,-999,9,2069.2,2,2207,6,7.7597,25,2,-999,9,-999,-999,9,-999,-999,9,-999,-999,9,-999,6.8436,25.6962
49NZ20070724,   P01,99,1,33, X12033,2,20070826,433,46.993,-137.9633,4172,149.8,2,6.9587,2,6.95872,2,33.7512,2,33.7682,2,212.18,2,211.68,2,30.02,2,0.19,21.51,2,0.09,0.03,2,0.01,1.592,2,0.014,3.925,6,2.107,6,0.282,6,-999,9,2144,2,2253.8,2,7.6667,25,6,-999,9,-999,-999,9,-999,-999,9,-999,-999,9,-999,6.9451,26.4425
49NZ20070724,   P01,99,1,32, X12038,2,20070826,433,46.993,-137.9633,4172,200.2,2,6.4524,2,6.45117,2,33.8426,2,33.8406,2,186.86,2,187.83,2,38.79,2,0.2,24.84,2,0.1,0.03,2,0.01,1.82,2,0.015,3.65,2,1.927,2,0.252,2,-999,9,2173,2,2264.9,2,7.6238,25,2,-999,9,-999,-999,9,-999,-999,9,-999,-999,9,-999,6.4348,26.5825
49NZ20070724,   P01,99,1,31, X12003,2,20070826,433,46.993,-137.9633,4172,250.7,2,5.7884,2,5.78841,2,33.8551,2,33.855,6,160.87,2,159.6,2,49.19,2,0.23,28.64,2,0.11,0.03,2,0.01,2.09,2,0.015,3.316,2,1.701,2,0.222,2,-999,9,2204.6,2,2274.3,2,7.5556,25,2,-999,9,-999,-999,9,-999,-999,9,-999,-999,9,-999,5.7676,26.6768
49NZ20070724,   P01,99,1,30, X12008,2,20070826,433,46.993,-137.9633,4172,332.8,2,5.0912,2,5.09231,2,33.9009,2,33.8996,2,100.78,2,101.79,2,65.64,2,0.26,35.22,2,0.13,0.02,2,0.01,2.526,2,0.016,-999,5,-999,5,-999,5,-999,9,2255.3,2,2285.8,2,7.456,25,2,-999,9,-999,-999,9,-999,-999,9,-999,-999,9,-999,5.0652,26.7964
49NZ20070724,   P01,99,1,29, X12035,2,20070826,433,46.993,-137.9633,4172,430.2,2,4.4275,2,4.42718,2,33.9619,2,33.9644,2,62.73,2,62.21,2,83.36,2,0.3,40.03,2,0.14,0.02,2,0.01,2.853,2,0.017,1.879,2,0.893,2,0.125,2,-999,9,2299.9,2,2302,2,7.364,25,2,-999,9,-999,-999,9,-999,-999,9,-999,-999,9,-999,4.3958,26.919
49NZ20070724,   P01,99,1,28, X12034,2,20070826,433,46.993,-137.9633,4172,531.2,2,4.1122,2,4.1124,2,34.0605,2,34.0628,6,40.12,2,40.25,3,96.1,2,0.33,42.17,2,0.15,0.02,2,0.01,3.008,2,0.017,1.125,2,0.526,2,0.072,2,-999,9,2322,2,2319.6,2,7.3376,25,2,-999,9,-999,-999,9,-999,-999,9,-999,-999,9,-999,4.0738,27.0312
49NZ20070724,   P01,99,1,27, X12049,2,20070826,433,46.993,-137.9633,4172,632.7,2,3.8913,2,3.89119,2,34.1472,2,34.1474,2,27.63,2,28.17,2,107.13,2,0.35,43.11,2,0.15,0.02,2,0.01,3.077,2,0.018,0.63,2,0.286,2,0.049,2,-999,9,2340.5,2,2333.1,2,7.327,25,2,-999,9,-999,-999,9,-999,-999,9,-999,-999,9,-999,3.8461,27.1234
49NZ20070724,   P01,99,1,26, X12032,2,20070826,433,46.993,-137.9633,4172,730.1,2,3.653,2,3.65255,2,34.2188,2,34.2207,2,21.04,2,21.44,2,117.25,2,0.38,43.67,2,0.16,0.02,2,0.01,3.133,2,0.018,0.32,6,0.15,6,0.021,6,-999,9,2354.9,6,2347.7,2,7.3285,25,2,-999,9,-999,-999,9,-999,-999,9,-999,-999,9,-999,3.6016,27.2048
49NZ20070724,   P01,99,1,25, X12043,2,20070826,433,46.993,-137.9633,4172,828.7,2,3.4441,2,3.44438,2,34.2721,2,34.2728,2,15.65,2,15.52,2,125.17,2,0.39,44.14,2,0.16,0.01,2,0.01,3.172,2,0.018,0.14,2,0.067,2,0.01,2,-999,9,2367.8,2,2358.8,6,7.3243,25,2,-999,9,-999,-999,9,-999,-999,9,-999,-999,9,-999,3.3864,27.268
49NZ20070724,   P01,99,1,24, X12030,2,20070826,433,46.993,-137.9633,4172,929.8,2,3.246,2,3.24606,2,34.3175,2,34.3178,2,12.34,2,12.4,2,131.95,2,0.41,44.46,2,0.16,0.02,2,0.01,3.163,2,0.018,0.061,2,0.031,2,0.009,2,-999,9,2375.8,2,2366.9,2,7.3205,25,6,-999,9,-999,-999,9,-999,-999,9,-999,-999,9,-999,3.1819,27.3236
49NZ20070724,   P01,99,1,23, X12027,2,20070826,433,46.993,-137.9633,4172,1071.8,2,3.0048,2,3.0048,2,34.3813,2,34.3808,6,10.24,2,10.2,2,141.12,2,0.43,44.76,2,0.16,0.02,2,0.01,3.21,2,0.018,0.013,2,0.007,2,0.006,2,-999,9,2389.8,2,2378.7,2,7.3237,25,2,-999,9,-999,-999,9,-999,-999,9,-999,-999,9,-999,2.9316,27.3974
49NZ20070724,   P01,99,1,22, X12028,2,20070826,433,46.993,-137.9633,4172,1269.8,2,2.7079,2,2.70796,2,34.443,2,34.4432,2,13.04,2,12.91,2,150.72,2,0.45,44.84,2,0.16,0.02,2,0.01,3.197,2,0.018,0.001,2,0.002,2,0,2,-999,9,2397.4,2,2392.2,2,7.337,25,2,-999,9,-999,-999,9,-999,-999,9,-999,-999,9,-999,2.622,27.4741
49NZ20070724,   P01,99,1,21, X12009,2,20070826,433,46.993,-137.9633,4172,1471.2,2,2.4647,2,2.46431,2,34.4957,2,34.4954,2,21.15,2,20.82,2,158.05,2,0.47,44.45,2,0.16,0.02,2,0.01,3.161,2,0.018,0,2,0.001,2,0,2,-999,9,2398.8,2,2401.6,2,7.3494,25,2,-999,9,-999,-999,9,-999,-999,9,-999,-999,9,-999,2.3655,27.538
49NZ20070724,   P01,99,1,20, X12026,2,20070826,433,46.993,-137.9633,4172,1670.5,2,2.2234,2,2.22351,2,34.5377,2,34.5372,2,33.41,2,33.34,2,164.1,2,0.48,43.72,2,0.16,0.02,2,0.01,3.108,2,0.018,0,2,0,2,0.002,2,-999,9,2398.8,2,2409.7,2,7.3758,25,6,-999,9,-999,-999,9,-999,-999,9,-999,-999,9,-999,2.1112,27.5924
49NZ20070724,   P01,99,1,19, X12025,2,20070826,433,46.993,-137.9633,4172,1870.5,2,2.0596,2,2.05967,2,34.5716,2,34.5715,2,46.91,2,46.66,2,168.02,2,0.49,42.86,2,0.15,0.02,2,0.01,3.052,2,0.018,0,2,0,2,0,2,-999,9,2392.6,3,2416,2,7.4043,25,2,-999,9,-999,-999,9,-999,-999,9,-999,-999,9,-999,1.9332,27.6337
49NZ20070724,   P01,99,1,18, X12024,2,20070826,433,46.993,-137.9633,4172,2069.7,2,1.9277,2,1.92773,2,34.5983,2,34.5979,6,59.57,2,59.64,2,171.13,2,0.5,42.14,2,0.15,0.02,2,0.01,2.995,2,0.017,0,2,0,2,0.002,2,-999,9,2390.2,3,2422.3,2,7.4298,25,2,-999,9,-999,-999,9,-999,-999,9,-999,-999,9,-999,1.7866,27.6665
49NZ20070724,   P01,99,1,17, X12023,2,20070826,433,46.993,-137.9633,4172,2271.4,2,1.8445,2,1.84459,2,34.6154,2,34.6154,2,69.14,2,69.26,2,172.53,2,0.5,41.52,2,0.15,0.02,2,0.01,2.948,2,0.017,0,2,0,2,0.004,2,-999,9,2387.5,2,2423.7,2,7.4519,25,2,-999,9,-999,-999,9,-999,-999,9,-999,-999,9,-999,1.6875,27.6876
49NZ20070724,   P01,99,1,16, X12022,2,20070826,433,46.993,-137.9633,4172,2469.9,2,1.7676,2,1.7676,2,34.6282,2,34.6279,2,78.73,2,78.78,2,172.32,2,0.5,41,2,0.15,0.02,2,0.01,2.906,2,0.017,-999,9,-999,9,-999,9,-999,9,2382.1,6,2425.6,2,7.47,25,2,-999,9,-999,-999,9,-999,-999,9,-999,-999,9,-999,1.5944,27.7049
49NZ20070724,   P01,99,1,15, X12021,2,20070826,433,46.993,-137.9633,4172,2669.7,2,1.6943,2,1.69432,2,34.6387,2,34.6388,2,88.47,2,88.66,2,171.27,2,0.5,40.52,2,0.15,0.02,2,0.01,2.854,2,0.017,0,2,0,2,0.001,2,-999,9,2375.1,2,2425.3,6,7.4864,25,2,-999,9,-999,-999,9,-999,-999,9,-999,-999,9,-999,1.5044,27.7199
49NZ20070724,   P01,99,1,14, X12020,2,20070826,433,46.993,-137.9633,4172,2869.7,2,1.6273,2,1.62741,2,34.6486,2,34.6484,2,98.58,2,98.93,2,170.03,2,0.49,39.79,2,0.14,0.03,2,0.01,2.809,2,0.017,-999,9,-999,9,-999,9,-999,9,2369.5,2,2425.4,2,7.5049,25,2,-999,9,-999,-999,9,-999,-999,9,-999,-999,9,-999,1.4202,27.7339
49NZ20070724,   P01,99,1,13, X12019,2,20070826,433,46.993,-137.9633,4172,3080.3,2,1.577,2,1.57709,2,34.6573,2,34.6569,6,108.57,2,108.85,2,168.67,2,0.49,39.1,2,0.14,0.02,2,0.01,2.76,2,0.017,-999,9,-999,9,-999,9,-999,9,2362,2,2425.5,2,7.5224,25,2,-999,9,-999,-999,9,-999,-999,9,-999,-999,9,-999,1.3509,27.7459
49NZ20070724,   P01,99,1,12, X12040,2,20070826,433,46.993,-137.9633,4172,3330,2,1.5383,2,1.5384,2,34.6659,2,34.6657,2,118.28,2,118.62,2,167.54,2,0.49,38.32,2,0.14,0.02,2,0.01,2.687,2,0.017,0,2,0,2,0,2,-999,9,-999,9,2426.3,2,7.5415,25,2,-999,9,-999,-999,9,-999,-999,9,-999,-999,9,-999,1.2885,27.7572
49NZ20070724,   P01,99,1,11, X12047,2,20070826,433,46.993,-137.9633,4172,3582.2,2,1.5188,2,1.51888,2,34.6723,2,34.6721,2,125.65,2,126.2,2,167.29,2,0.49,37.95,2,0.14,0.02,2,0.01,2.671,2,0.017,-999,9,-999,9,-999,9,-999,9,2350,3,2427.9,2,7.5561,25,2,-999,9,-999,-999,9,-999,-999,9,-999,-999,9,-999,1.2438,27.7654
49NZ20070724,   P01,99,1,10, X12010,2,20070826,433,46.993,-137.9633,4172,3829.8,2,1.5188,2,1.51877,2,34.6763,2,34.6761,2,129.64,2,130.13,2,168.19,2,0.49,37.59,2,0.14,0.02,2,0.01,2.645,2,0.017,0,2,0,2,0.003,2,-999,9,2350.5,2,2429.8,2,7.5666,25,2,-999,9,-999,-999,9,-999,-999,9,-999,-999,9,-999,1.2178,27.7705
49NZ20070724,   P01,99,1,9, X12015,2,20070826,433,46.993,-137.9633,4172,4081.8,2,1.5274,2,1.52731,2,34.6794,2,34.6794,2,132.78,2,133.36,2,169.61,2,0.49,37.48,2,0.14,0.02,2,0.01,2.633,2,0.017,-999,9,-999,9,-999,9,-999,9,2348.6,2,2431.7,2,7.5737,25,2,-999,9,-999,-999,9,-999,-999,9,-999,-999,9,-999,1.1988,27.7743
49NZ20070724,   P01,99,1,8, X12046,9,20070826,433,46.993,-137.9633,4172,10.4,2,14.4159,2,14.41624,2,32.4114,2,-999,9,269.65,2,-999,9,-999,9,-999,-999,9,-999,-999,9,-999,-999,9,-999,-999,9,-999,9,-999,9,-999,9,-999,9,-999,9,-999,-999,9,-999,9,-999,-999,9,-999,-999,9,-999,-999,9,-999,14.4144,24.1013
49NZ20070724,   P01,99,1,7, X12044,9,20070826,433,46.993,-137.9633,4172,3331.1,2,1.5381,2,1.53815,2,34.6659,2,-999,9,118.27,2,-999,9,-999,9,-999,-999,9,-999,-999,9,-999,-999,9,-999,-999,9,-999,9,-999,9,-999,9,-999,9,-999,9,-999,-999,9,-999,9,-999,-999,9,-999,-999,9,-999,-999,9,-999,1.2882,27.7572
49NZ20070724,   P01,99,1,6, X12048,9,20070826,433,46.993,-137.9633,4172,3582.2,2,1.5188,2,1.51883,2,34.6722,2,-999,9,125.63,2,-999,9,-999,9,-999,-999,9,-999,-999,9,-999,-999,9,-999,-999,9,-999,9,-999,9,-999,9,-999,9,-999,9,-999,-999,9,-999,9,-999,-999,9,-999,-999,9,-999,-999,9,-999,1.2438,27.7653
49NZ20070724,   P01,99,1,5, X12014,9,20070826,433,46.993,-137.9633,4172,3829.2,2,1.5186,2,1.51859,2,34.6763,2,-999,9,129.68,2,-999,9,-999,9,-999,-999,9,-999,-999,9,-999,-999,9,-999,-999,9,-999,9,-999,9,-999,9,-999,9,-999,9,-999,-999,9,-999,9,-999,-999,9,-999,-999,9,-999,-999,9,-999,1.2176,27.7705
49NZ20070724,   P01,99,1,4, X12928,9,20070826,433,46.993,-137.9633,4172,4081.3,2,1.5274,2,1.52734,2,34.6795,2,-999,9,132.79,2,-999,9,-999,9,-999,-999,9,-999,-999,9,-999,-999,9,-999,-999,9,-999,9,-999,9,-999,9,-999,9,-999,9,-999,-999,9,-999,9,-999,-999,9,-999,-999,9,-999,-999,9,-999,1.1989,27.7743
49NZ20070724,   P01,99,1,3, X12931,9,20070826,433,46.993,-137.9633,4172,4236.1,2,1.5368,2,1.53665,2,34.6814,2,-999,9,132.94,2,-999,9,-999,9,-999,-999,9,-999,-999,9,-999,-999,9,-999,-999,9,-999,9,-999,9,-999,9,-999,9,-999,9,-999,-999,9,-999,9,-999,-999,9,-999,-999,9,-999,-999,9,-999,1.1908,27.7764
49NZ20070724,   P01,99,1,2, X12930,9,20070826,433,46.993,-137.9633,4172,200.4,2,6.4545,2,6.45541,2,33.8427,2,-999,9,186.67,2,-999,9,-999,9,-999,-999,9,-999,-999,9,-999,-999,9,-999,-999,9,-999,9,-999,9,-999,9,-999,9,-999,9,-999,-999,9,-999,9,-999,-999,9,-999,-999,9,-999,-999,9,-999,6.4369,26.5823
49NZ20070724,   P01,99,1,1, X12929,2,20070826,433,46.993,-137.9633,4172,4235,2,1.5367,2,1.53663,2,34.6813,2,34.6814,6,132.91,2,133.4,2,173.24,2,0.5,37.54,2,0.14,0.01,2,0.01,2.638,2,0.017,0,2,0,2,0.002,2,-999,9,2353.7,2,2434.9,2,7.5784,25,2,-999,9,-999,-999,9,-999,-999,9,-999,-999,9,-999,1.1908,27.7763