BOTTLE,20081214JAMSTECIORGC,,,,,,,,,,,,,,,,,,,,,,,,,,,,,,,,,,,,,,,,,,,,,,,,,,,,,,,,,,,,,,,,,
EXPOCODE,SECT,STNNBR,CASTNO,SAMPNO,BTLNBR,BTLNBR_FLAG_W,DATE,TIME,LATITUDE,LONGITUDE,DEPTH,CTDPRS,CTDPRS_FLAG_W,CTDTMP,CTDTMP_FLAG_W,SBE35,SBE35_FLAG_W,CTDSAL,CTDSAL_FLAG_W,SALNTY,SALNTY_FLAG_W,CTDOXY,CTDOXY_FLAG_W,OXYGEN,OXYGEN_FLAG_W,SILCAT,SILCAT_FLAG_W,SILUNC,NITRAT,NITRAT_FLAG_W,NRAUNC,NITRIT,NITRIT_FLAG_W,NRIUNC,PHSPHT,PHSPHT_FLAG_W,PHPUNC,CFC-11,CFC-11_FLAG_W,CFC-12,CFC-12_FLAG_W,CFC113,CFC113_FLAG_W,CCL4,CCL4_FLAG_W,TCARBN,TCARBN_FLAG_W,ALKALI,ALKALI_FLAG_W,PH_TOT,PH_TMP,PH_FLAG_W,DELC13,DELC13_FLAG_W,C13ERR,DELC14,DELC14_FLAG_W,C14ERR,CS-137,CS-137_FLAG_W,CS137ER,PLUTO,PLUTO_FLAG_W,PLUTOER,THETA,SIG0
,,,,,,,,UTC,DEG,DEG,M,DBAR,,ITS-90,,ITS-90,,PSS-78,,PSS-78,,UMOL/KG,,UMOL/KG,,UMOL/KG,,UMOL/KG,UMOL/KG,,UMOL/KG,UMOL/KG,,UMOL/KG,UMOL/KG,,UMOL/KG,PMOL/KG,,PMOL/KG,,PMOL/KG,,PMOL/KG,,UMOL/KG,,UMOL/KG,,,ITS-90,,/MILLE,,/MILLE,/MILLE,,/MILLE,BQ/CUM,,BQ/CUM,MBQ/CUM,,MBQ/CUM,DEG C,KG/CUM
49NZ20070724,   P01,69,1,0,-999,9,20070817,540,47.0082,-171.5572,5732,-999,9,-999,9,-999,9,-999,9,32.595,2,-999,9,-999,9,-999,9,-999,-999,9,-999,-999,9,-999,-999,9,-999,-999,9,-999,9,-999,9,-999,9,-999,9,-999,9,-999,-999,9,-999,9,-999,-999,9,-999,-999,9,-999,-999,9,-999,-999,-999
49NZ20070724,   P01,69,1,36, X12042,2,20070817,540,47.0082,-171.5572,5732,9.3,2,14.1969,2,14.19156,2,32.6235,2,32.6325,2,270.52,2,270.29,2,11.42,2,0.14,9.07,2,0.06,0.14,2,0.01,1.009,2,0.013,3.104,2,1.655,2,0.315,2,-999,9,-999,9,-999,9,-999,-999,9,-999,9,-999,-999,9,-999,-999,9,-999,-999,9,-999,14.1956,24.3107
49NZ20070724,   P01,69,1,35, X12041,2,20070817,540,47.0082,-171.5572,5732,50.5,2,6.1205,2,6.09653,2,32.9969,2,33.0042,2,317.35,2,315.41,2,26.3,2,0.18,15.41,2,0.08,0.23,2,0.01,1.46,2,0.014,4.599,2,2.389,2,0.464,2,-999,9,-999,9,-999,9,-999,-999,9,-999,9,-999,-999,9,-999,-999,9,-999,-999,9,-999,6.1163,25.9556
49NZ20070724,   P01,69,1,34, X12036,2,20070817,540,47.0082,-171.5572,5732,100.5,2,4.9891,2,4.98857,2,33.1178,2,33.133,2,305.34,2,302.35,2,27.44,2,0.18,17.6,2,0.08,0.02,2,0.01,1.492,2,0.014,4.648,2,2.42,2,0.471,2,-999,9,-999,9,-999,9,-999,-999,9,-999,9,-999,-999,9,-999,-999,9,-999,-999,9,-999,4.9816,26.1852
49NZ20070724,   P01,69,1,33, X12033,2,20070817,540,47.0082,-171.5572,5732,151,2,3.6571,2,3.65623,2,33.5872,2,33.597,2,187.84,2,182.42,2,59.37,2,0.25,31.64,2,0.12,0.02,2,0.01,2.374,2,0.016,3.814,2,1.888,2,0.31,2,-999,9,-999,9,-999,9,-999,-999,9,-999,9,-999,-999,9,-999,-999,9,-999,-999,9,-999,3.6473,26.6972
49NZ20070724,   P01,69,1,32, X12038,2,20070817,540,47.0082,-171.5572,5732,205.5,2,3.6384,2,3.63819,2,33.7526,2,33.7468,2,123.53,2,125.47,2,73.53,2,0.28,36.32,2,0.13,0.01,2,0.01,2.665,2,0.017,3.064,2,1.467,2,0.23,2,-999,9,-999,9,-999,9,-999,-999,9,-999,9,-999,-999,9,-999,-999,9,-999,-999,9,-999,3.625,26.8312
49NZ20070724,   P01,69,1,31, X12003,2,20070817,540,47.0082,-171.5572,5732,252,2,3.6807,2,3.6806,2,33.847,2,33.8485,6,91.14,2,90.06,2,83.66,2,0.3,38.95,2,0.14,0.01,2,0.01,2.826,2,0.017,2.502,2,1.17,2,0.175,2,-999,9,-999,9,-999,9,-999,-999,9,-999,9,-999,-999,9,-999,-999,9,-999,-999,9,-999,3.664,26.9025
49NZ20070724,   P01,69,1,30, X12008,2,20070817,540,47.0082,-171.5572,5732,302.3,2,3.7466,2,3.74643,2,33.927,2,33.9298,2,69.04,2,68.82,2,90.71,2,0.32,40.44,2,0.15,0.01,2,0.01,2.917,2,0.017,2.037,2,0.948,2,0.146,2,-999,9,-999,9,-999,9,-999,-999,9,-999,9,-999,-999,9,-999,-999,9,-999,-999,9,-999,3.7262,26.9601
49NZ20070724,   P01,69,1,29, X12035,2,20070817,540,47.0082,-171.5572,5732,402.8,2,3.7393,2,3.73901,2,34.0417,2,34.045,2,45.11,2,45.31,2,101.81,2,0.34,42.08,2,0.15,0.01,2,0.01,3.022,2,0.018,1.401,2,0.637,2,0.087,2,-999,9,-999,9,-999,9,-999,-999,9,-999,9,-999,-999,9,-999,-999,9,-999,-999,9,-999,3.7118,27.0528
49NZ20070724,   P01,69,1,28, X12034,2,20070817,540,47.0082,-171.5572,5732,500.3,2,3.7394,2,3.73878,2,34.1486,2,34.1456,6,37.99,2,37.76,2,110.76,2,0.36,42.42,2,0.15,0.01,2,0.01,3.043,2,0.018,0.91,2,0.408,2,0.061,2,-999,9,-999,9,-999,9,-999,-999,9,-999,9,-999,-999,9,-999,-999,9,-999,-999,9,-999,3.7048,27.1387
49NZ20070724,   P01,69,1,27, X12049,2,20070817,540,47.0082,-171.5572,5732,600,2,3.4493,2,3.44961,2,34.2115,2,34.2133,2,25.71,2,25.82,2,121.43,2,0.39,43.43,2,0.15,0.01,2,0.01,3.12,2,0.018,0.59,2,0.26,2,0.041,2,-999,9,-999,9,-999,9,-999,-999,9,-999,9,-999,-999,9,-999,-999,9,-999,-999,9,-999,3.4086,27.2176
49NZ20070724,   P01,69,1,26, X12032,2,20070817,540,47.0082,-171.5572,5732,699.4,2,3.2666,2,3.26661,2,34.2786,2,34.2805,2,25.18,2,25.34,2,129.18,2,0.4,43.52,2,0.15,0.01,2,0.01,3.125,2,0.018,0.375,6,0.162,6,0.022,6,-999,9,-999,9,-999,9,-999,-999,9,-999,9,-999,-999,9,-999,-999,9,-999,-999,9,-999,3.2196,27.289
49NZ20070724,   P01,69,1,25, X12043,2,20070817,540,47.0082,-171.5572,5732,799.3,2,3.1052,2,3.10525,2,34.3213,2,34.3211,2,25,2,25.25,2,134.74,2,0.42,43.52,2,0.15,0.01,2,0.01,3.128,2,0.018,0.273,2,0.117,2,0.015,2,-999,9,-999,9,-999,9,-999,-999,9,-999,9,-999,-999,9,-999,-999,9,-999,-999,9,-999,3.0518,27.3386
49NZ20070724,   P01,69,1,24, X12030,2,20070817,540,47.0082,-171.5572,5732,899.5,2,2.9484,2,2.94804,2,34.3594,2,34.3599,2,24.81,2,25.04,2,139.95,2,0.43,43.63,2,0.15,0.01,2,0.01,3.126,2,0.018,0.193,2,0.083,2,0.011,2,-999,9,-999,9,-999,9,-999,-999,9,-999,9,-999,-999,9,-999,-999,9,-999,-999,9,-999,2.8886,27.3838
49NZ20070724,   P01,69,1,23, X12027,2,20070817,540,47.0082,-171.5572,5732,1000.9,2,2.7825,2,2.78218,2,34.3968,2,34.3968,6,24.55,2,24.65,2,145.34,2,0.44,43.78,2,0.16,0.01,2,0.01,3.137,2,0.018,0.123,2,0.054,2,0.011,2,-999,9,-999,9,-999,9,-999,-999,9,-999,9,-999,-999,9,-999,-999,9,-999,-999,9,-999,2.7164,27.4289
49NZ20070724,   P01,69,1,22, X12028,2,20070817,540,47.0082,-171.5572,5732,1199.3,2,2.545,2,2.54472,2,34.4513,2,34.4518,2,29.36,2,29.33,2,152.97,2,0.46,43.58,2,0.15,0.01,2,0.01,3.121,2,0.018,0.067,2,0.026,2,0.002,2,-999,9,-999,9,-999,9,-999,-999,9,-999,9,-999,-999,9,-999,-999,9,-999,-999,9,-999,2.4661,27.494
49NZ20070724,   P01,69,1,21, X12009,2,20070817,540,47.0082,-171.5572,5732,1399.1,2,2.3346,2,2.33446,2,34.4957,2,34.4956,2,35.32,2,35.3,2,158.88,2,0.47,43.43,2,0.15,0.01,2,0.01,3.098,2,0.018,0.034,2,0.016,2,0,2,-999,9,-999,9,-999,9,-999,-999,9,-999,9,-999,-999,9,-999,-999,9,-999,-999,9,-999,2.2425,27.5481
49NZ20070724,   P01,69,1,20, X12026,2,20070817,540,47.0082,-171.5572,5732,1599.6,2,2.157,2,2.15699,2,34.5363,2,34.536,2,43.93,2,43.73,2,162.53,2,0.48,42.98,2,0.15,0.01,2,0.01,3.061,2,0.018,0.014,2,0.006,2,0,2,-999,9,-999,9,-999,9,-999,-999,9,-999,9,-999,-999,9,-999,-999,9,-999,-999,9,-999,2.0512,27.5961
49NZ20070724,   P01,69,1,19, X12025,2,20070817,540,47.0082,-171.5572,5732,1799.8,2,2.0281,2,2.0279,2,34.5664,2,34.5662,2,52.91,2,52.21,2,165.81,2,0.48,42.56,2,0.15,0.01,2,0.01,3.02,2,0.018,0.003,2,0.002,2,0,2,-999,9,-999,9,-999,9,-999,-999,9,-999,9,-999,-999,9,-999,-999,9,-999,-999,9,-999,1.908,27.6315
49NZ20070724,   P01,69,1,18, X12024,2,20070817,540,47.0082,-171.5572,5732,2000.6,2,1.9058,2,1.90557,2,34.5915,2,34.5914,2,64.31,2,63.93,2,167.1,2,0.49,41.91,2,0.15,0.01,2,0.01,2.97,2,0.017,0.002,2,0.003,2,0,2,-999,9,-999,9,-999,9,-999,-999,9,-999,9,-999,-999,9,-999,-999,9,-999,-999,9,-999,1.7709,27.6621
49NZ20070724,   P01,69,1,17, X12023,2,20070817,540,47.0082,-171.5572,5732,2199.2,2,1.8081,2,1.80853,2,34.6115,2,34.6112,2,75.39,2,75,2,167.26,2,0.49,41.12,2,0.15,0.01,2,0.01,2.918,2,0.017,0.002,2,0.001,2,0.003,2,-999,9,-999,9,-999,9,-999,-999,9,-999,9,-999,-999,9,-999,-999,9,-999,-999,9,-999,1.6579,27.6868
49NZ20070724,   P01,69,1,16, X12022,2,20070817,540,47.0082,-171.5572,5732,2401.6,2,1.7275,2,1.72743,2,34.6268,2,34.6269,2,87.13,2,86.53,2,166.75,2,0.49,40.45,2,0.15,0.01,2,0.01,2.867,2,0.017,-999,9,-999,9,-999,9,-999,9,-999,9,-999,9,-999,-999,9,-999,9,-999,-999,9,-999,-999,9,-999,-999,9,-999,1.5611,27.7062
49NZ20070724,   P01,69,1,15, X12021,2,20070817,540,47.0082,-171.5572,5732,2602.4,2,1.6665,2,1.66649,2,34.6394,2,34.6393,6,96.04,2,95.69,2,165.74,2,0.48,39.96,2,0.14,0.01,2,0.01,2.823,2,0.017,-999,9,-999,9,-999,9,-999,9,-999,9,-999,9,-999,-999,9,-999,9,-999,-999,9,-999,-999,9,-999,-999,9,-999,1.4833,27.722
49NZ20070724,   P01,69,1,14, X12020,2,20070817,540,47.0082,-171.5572,5732,2800.3,2,1.6202,2,1.6201,2,34.6483,2,34.6481,2,105.01,2,104.54,2,164.48,2,0.48,39.33,2,0.14,0.01,2,0.01,2.777,2,0.017,0,2,0,2,0.004,2,-999,9,-999,9,-999,9,-999,-999,9,-999,9,-999,-999,9,-999,-999,9,-999,-999,9,-999,1.4198,27.7337
49NZ20070724,   P01,69,1,13, X12019,2,20070817,540,47.0082,-171.5572,5732,2999.6,2,1.5821,2,1.58204,2,34.6559,2,34.656,2,113.03,2,112.57,2,162.94,2,0.48,38.81,2,0.14,0.01,2,0.01,2.743,2,0.017,-999,9,-999,9,-999,9,-999,9,-999,9,-999,9,-999,-999,9,-999,9,-999,-999,9,-999,-999,9,-999,-999,9,-999,1.3636,27.7438
49NZ20070724,   P01,69,1,12, X12040,2,20070817,540,47.0082,-171.5572,5732,3249.6,2,1.5409,2,1.54084,2,34.6644,2,34.6643,2,122.82,2,122.34,2,159.88,2,0.47,38.09,2,0.14,0.01,2,0.01,2.682,2,0.017,-999,9,-999,9,-999,9,-999,9,-999,9,-999,9,-999,-999,9,-999,9,-999,-999,9,-999,-999,9,-999,-999,9,-999,1.299,27.7553
49NZ20070724,   P01,69,1,11, X12047,2,20070817,540,47.0082,-171.5572,5732,3500.1,2,1.5101,2,1.51008,2,34.6714,2,34.6712,2,131.01,2,130.85,2,158.25,2,0.47,37.48,2,0.14,0.01,2,0.01,2.649,2,0.017,0,2,0,2,0.002,2,-999,9,-999,9,-999,9,-999,-999,9,-999,9,-999,-999,9,-999,-999,9,-999,-999,9,-999,1.2438,27.7647
49NZ20070724,   P01,69,1,10, X12010,2,20070817,540,47.0082,-171.5572,5732,3750.3,2,1.4902,2,1.49021,2,34.6767,2,34.6766,2,137.57,2,137.6,2,156.78,2,0.46,37.13,2,0.14,0.01,2,0.01,2.613,2,0.017,-999,9,-999,9,-999,9,-999,9,-999,9,-999,9,-999,-999,9,-999,9,-999,-999,9,-999,-999,9,-999,-999,9,-999,1.1984,27.7721
49NZ20070724,   P01,69,1,9, X12015,2,20070817,540,47.0082,-171.5572,5732,4001,2,1.4817,2,1.4819,2,34.681,2,34.6808,2,142.6,2,142.64,2,155.83,2,0.46,36.8,2,0.14,0.01,2,0.01,2.588,2,0.016,-999,9,-999,9,-999,9,-999,9,-999,9,-999,9,-999,-999,9,-999,9,-999,-999,9,-999,-999,9,-999,-999,9,-999,1.1632,27.778
49NZ20070724,   P01,69,1,8, X12046,2,20070817,540,47.0082,-171.5572,5732,4249.4,2,1.4813,2,1.4814,2,34.6844,2,34.6841,6,146.61,2,146.81,2,156.19,2,0.46,36.53,2,0.14,0.01,2,0.01,2.569,2,0.016,0,2,0,2,0.001,2,-999,9,-999,9,-999,9,-999,-999,9,-999,9,-999,-999,9,-999,-999,9,-999,-999,9,-999,1.1354,27.7826
49NZ20070724,   P01,69,1,7, X12044,2,20070817,540,47.0082,-171.5572,5732,4500,2,1.4952,2,1.49523,2,34.6864,2,34.6861,2,148.59,2,148.83,2,157.37,2,0.47,36.42,2,0.13,0.01,2,0.01,2.553,2,0.016,-999,9,-999,9,-999,9,-999,9,-999,9,-999,9,-999,-999,9,-999,9,-999,-999,9,-999,-999,9,-999,-999,9,-999,1.1204,27.7853
49NZ20070724,   P01,69,1,6, X12048,2,20070817,540,47.0082,-171.5572,5732,4751.8,2,1.5197,2,1.51978,2,34.6874,2,34.6871,2,149.04,2,149.32,2,158.53,2,0.47,36.45,2,0.13,0.01,2,0.01,2.549,2,0.016,-999,9,-999,9,-999,9,-999,9,-999,9,-999,9,-999,-999,9,-999,9,-999,-999,9,-999,-999,9,-999,-999,9,-999,1.1146,27.7865
49NZ20070724,   P01,69,1,5, X12017,2,20070817,540,47.0082,-171.5572,5732,4998.1,2,1.5473,2,1.54735,2,34.6878,2,34.6868,2,149.61,2,149.81,2,159.41,2,0.47,36.41,2,0.13,0.02,2,0.01,2.548,2,0.016,0.002,2,0,2,0,2,-999,9,-999,9,-999,9,-999,-999,9,-999,9,-999,-999,9,-999,-999,9,-999,-999,9,-999,1.1117,27.787
49NZ20070724,   P01,69,1,4, X12928,2,20070817,540,47.0082,-171.5572,5732,5248.9,2,1.5763,2,1.57631,2,34.6882,2,34.688,2,150.29,2,150.39,2,159.58,2,0.47,36.29,2,0.13,0.01,2,0.01,2.545,2,0.016,-999,9,-999,9,-999,9,-999,9,-999,9,-999,9,-999,-999,9,-999,9,-999,-999,9,-999,-999,9,-999,-999,9,-999,1.1087,27.7875
49NZ20070724,   P01,69,1,3, X12931,2,20070817,540,47.0082,-171.5572,5732,5498.8,2,1.6057,2,1.60564,2,34.6885,2,34.6884,2,151.19,2,151.17,2,159.24,2,0.47,36.3,2,0.13,0.01,2,0.01,2.539,2,0.016,0.004,2,0.003,2,0.002,2,-999,9,-999,9,-999,9,-999,-999,9,-999,9,-999,-999,9,-999,-999,9,-999,-999,9,-999,1.1055,27.788
49NZ20070724,   P01,69,1,2, X12930,2,20070817,540,47.0082,-171.5572,5732,5749.7,2,1.6358,2,1.63568,2,34.6888,2,34.6887,2,152.39,2,152.15,2,158.37,2,0.47,36.1,2,0.13,0.01,2,0.01,2.536,2,0.016,-999,9,-999,9,-999,9,-999,9,-999,9,-999,9,-999,-999,9,-999,9,-999,-999,9,-999,-999,9,-999,-999,9,-999,1.1019,27.7884
49NZ20070724,   P01,69,1,1, X12929,2,20070817,540,47.0082,-171.5572,5732,5863.2,2,1.6501,2,1.64998,2,34.6888,2,34.6888,6,152.89,2,152.58,2,157.45,2,0.47,36.11,2,0.13,0.01,2,0.01,2.533,2,0.016,0.001,2,0,2,0,2,-999,9,-999,9,-999,9,-999,-999,9,-999,9,-999,-999,9,-999,-999,9,-999,-999,9,-999,1.1007,27.7885