BOTTLE,20081214JAMSTECIORGC,,,,,,,,,,,,,,,,,,,,,,,,,,,,,,,,,,,,,,,,,,,,,,,,,,,,,,,,,,,,,,,,,
EXPOCODE,SECT,STNNBR,CASTNO,SAMPNO,BTLNBR,BTLNBR_FLAG_W,DATE,TIME,LATITUDE,LONGITUDE,DEPTH,CTDPRS,CTDPRS_FLAG_W,CTDTMP,CTDTMP_FLAG_W,SBE35,SBE35_FLAG_W,CTDSAL,CTDSAL_FLAG_W,SALNTY,SALNTY_FLAG_W,CTDOXY,CTDOXY_FLAG_W,OXYGEN,OXYGEN_FLAG_W,SILCAT,SILCAT_FLAG_W,SILUNC,NITRAT,NITRAT_FLAG_W,NRAUNC,NITRIT,NITRIT_FLAG_W,NRIUNC,PHSPHT,PHSPHT_FLAG_W,PHPUNC,CFC-11,CFC-11_FLAG_W,CFC-12,CFC-12_FLAG_W,CFC113,CFC113_FLAG_W,CCL4,CCL4_FLAG_W,TCARBN,TCARBN_FLAG_W,ALKALI,ALKALI_FLAG_W,PH_TOT,PH_TMP,PH_FLAG_W,DELC13,DELC13_FLAG_W,C13ERR,DELC14,DELC14_FLAG_W,C14ERR,CS-137,CS-137_FLAG_W,CS137ER,PLUTO,PLUTO_FLAG_W,PLUTOER,THETA,SIG0
,,,,,,,,UTC,DEG,DEG,M,DBAR,,ITS-90,,ITS-90,,PSS-78,,PSS-78,,UMOL/KG,,UMOL/KG,,UMOL/KG,,UMOL/KG,UMOL/KG,,UMOL/KG,UMOL/KG,,UMOL/KG,UMOL/KG,,UMOL/KG,PMOL/KG,,PMOL/KG,,PMOL/KG,,PMOL/KG,,UMOL/KG,,UMOL/KG,,,ITS-90,,/MILLE,,/MILLE,/MILLE,,/MILLE,BQ/CUM,,BQ/CUM,MBQ/CUM,,MBQ/CUM,DEG C,KG/CUM
49NZ20070724,   P01,21,1,0,-999,9,20070730,1249,40.0218,148.403,5461,-999,9,-999,9,-999,9,-999,9,34.4993,2,-999,9,-999,9,-999,9,-999,-999,9,-999,-999,9,-999,-999,9,-999,-999,9,-999,9,-999,9,-999,9,-999,9,-999,9,-999,-999,9,-999,9,-999,-999,9,-999,-999,9,-999,-999,9,-999,-999,-999
49NZ20070724,   P01,21,1,36, X12042,2,20070730,1249,40.0218,148.403,5461,10,2,20.85,2,20.84947,2,34.4957,2,34.4972,2,225.95,2,226.38,2,2.19,2,0.12,0.13,2,0.03,0.01,2,0.01,0.08,2,0.025,2.092,2,1.327,2,0.423,2,-999,9,1983.5,2,2275.5,2,8.0507,25,6,-999,9,-999,-999,9,-999,-999,9,-999,-999,9,-999,20.8481,24.1511
49NZ20070724,   P01,21,1,35, X12041,2,20070730,1249,40.0218,148.403,5461,49.9,2,17.5618,2,17.56835,2,34.5025,2,34.4681,2,226.26,2,224.88,2,3.74,2,0.13,1.95,2,0.04,0.34,2,0,0.289,2,0.014,2.368,2,1.454,2,0.237,2,-999,9,2021.1,2,2281,2,7.9894,25,2,-999,9,-999,-999,9,-999,-999,9,-999,-999,9,-999,17.5534,24.9999
49NZ20070724,   P01,21,1,34, X12036,2,20070730,1249,40.0218,148.403,5461,99.8,2,13.4519,2,13.45171,2,34.3709,2,34.4119,2,210.3,2,204.61,2,13.01,2,0.15,10.08,2,0.06,0.04,2,0.01,0.779,2,0.013,2.584,2,1.565,2,0.15,2,-999,9,2075.2,2,2279.1,2,7.8795,25,2,-999,9,-999,-999,9,-999,-999,9,-999,-999,9,-999,13.438,25.817
49NZ20070724,   P01,21,1,33, X12033,2,20070730,1249,40.0218,148.403,5461,150.1,2,11.9208,2,11.92451,2,34.3576,2,34.3431,2,212.24,2,210.35,2,18.17,2,0.16,12.98,2,0.07,0.03,2,0.01,0.972,2,0.013,2.68,2,1.614,2,0.153,2,-999,9,2094.9,2,2277.5,2,7.8362,25,2,-999,9,-999,-999,9,-999,-999,9,-999,-999,9,-999,11.9015,26.1088
49NZ20070724,   P01,21,1,32, X12038,2,20070730,1249,40.0218,148.403,5461,200.1,2,9.1157,2,9.10215,2,33.9858,2,33.9309,2,231.99,2,232.02,2,23.31,2,0.17,15.83,2,0.08,0.02,2,0.01,1.225,2,0.013,3.363,2,1.991,2,0.241,2,-999,9,2113.6,2,2269.7,2,7.779,25,2,-999,9,-999,-999,9,-999,-999,9,-999,-999,9,-999,9.0941,26.3089
49NZ20070724,   P01,21,1,31, X12003,2,20070730,1249,40.0218,148.403,5461,249.1,2,6.1686,2,6.17125,2,33.7212,2,33.6968,6,235.32,2,237.33,2,35.83,2,0.2,21.16,2,0.09,0.02,2,0.01,1.641,2,0.014,3.769,2,2.142,2,0.291,2,-999,9,2148.5,2,2266.8,2,7.6892,25,2,-999,9,-999,-999,9,-999,-999,9,-999,-999,9,-999,6.1473,26.5236
49NZ20070724,   P01,21,1,30, X12008,2,20070730,1249,40.0218,148.403,5461,279.3,2,4.228,2,4.22338,2,33.5475,2,33.5519,2,246.63,2,243.15,2,45.18,2,0.22,24.67,2,0.1,0.02,2,0.01,1.927,2,0.015,4.096,2,2.32,2,0.334,2,-999,9,2170.4,6,2265.3,2,7.6293,25,2,-999,9,-999,-999,9,-999,-999,9,-999,-999,9,-999,4.2084,26.6095
49NZ20070724,   P01,21,1,29, X12035,2,20070730,1249,40.0218,148.403,5461,369.4,2,5.0846,2,5.08591,2,33.9193,2,33.9216,2,144.79,2,145.6,2,65.07,2,0.26,31.26,2,0.12,0.02,2,0.01,2.321,2,0.016,2.522,2,1.375,2,0.158,2,-999,9,2232.1,2,2293.9,6,7.5277,25,2,-999,9,-999,-999,9,-999,-999,9,-999,-999,9,-999,5.0556,26.8121
49NZ20070724,   P01,21,1,28, X12034,2,20070730,1249,40.0218,148.403,5461,469.3,2,3.7776,2,3.77779,2,33.8832,2,33.9018,6,115.77,2,113.03,2,82.89,2,0.3,36.24,2,0.13,0.01,2,0.01,2.673,2,0.017,2.293,2,1.22,2,0.145,2,-999,9,2276.1,2,2303.7,2,7.4301,25,6,-999,9,-999,-999,9,-999,-999,9,-999,-999,9,-999,3.7453,26.9233
49NZ20070724,   P01,21,1,27, X12049,2,20070730,1249,40.0218,148.403,5461,570.1,2,3.9503,2,3.95013,2,34.0528,2,34.0545,2,74.27,2,74.34,2,97.06,2,0.33,39.16,2,0.14,0.01,2,0.01,2.845,2,0.017,1.514,2,0.799,2,0.094,2,-999,9,2309,2,2321.3,2,7.3856,25,2,-999,9,-999,-999,9,-999,-999,9,-999,-999,9,-999,3.9097,27.0418
49NZ20070724,   P01,21,1,26, X12032,2,20070730,1249,40.0218,148.403,5461,671.6,2,3.6016,2,3.60239,2,34.1455,2,34.1431,2,52.36,2,52.77,2,110.84,2,0.36,40.93,2,0.15,0.01,2,0.01,2.979,2,0.017,1.057,6,0.546,6,0.059,6,-999,9,2333.2,6,2337.5,2,7.3549,25,2,-999,9,-999,-999,9,-999,-999,9,-999,-999,9,-999,3.555,27.1509
49NZ20070724,   P01,21,1,25, X12043,2,20070730,1249,40.0218,148.403,5461,770.2,2,3.4182,2,3.42085,2,34.2264,2,34.2425,2,42.84,2,44.82,2,119.63,2,0.38,41.72,2,0.15,0.01,2,0.01,3.011,2,0.017,0.651,2,0.325,2,0.03,2,-999,9,2345.9,2,2351.8,6,7.3592,25,2,-999,9,-999,-999,9,-999,-999,9,-999,-999,9,-999,3.3651,27.2336
49NZ20070724,   P01,21,1,24, X12030,2,20070730,1249,40.0218,148.403,5461,869.8,2,3.0858,2,3.08512,2,34.2816,2,34.2846,2,36.58,2,37.29,2,131.6,2,0.41,42.52,2,0.15,0.01,2,0.01,3.067,2,0.018,0.529,2,0.264,2,0.024,2,-999,9,2361.3,2,2362.2,2,7.3438,25,6,-999,9,-999,-999,9,-999,-999,9,-999,-999,9,-999,3.0274,27.3091
49NZ20070724,   P01,21,1,23, X12027,2,20070730,1249,40.0218,148.403,5461,971.1,2,2.9611,2,2.96094,2,34.3446,2,34.348,6,37.27,2,38.08,2,136.8,2,0.42,42.53,2,0.15,0.02,2,0.01,3.066,2,0.018,0.351,2,0.174,2,0.02,2,-999,9,2367.8,2,2372,2,7.3556,25,2,-999,9,-999,-999,9,-999,-999,9,-999,-999,9,-999,2.8959,27.3713
49NZ20070724,   P01,21,1,22, X12028,2,20070730,1249,40.0218,148.403,5461,1129.7,2,2.8016,2,2.79966,2,34.4327,2,34.433,2,39.86,2,40.58,2,142.36,2,0.43,42.58,2,0.15,0.01,2,0.01,3.057,2,0.018,0.08,2,0.051,2,0.008,2,-999,9,2373.9,2,2385.7,2,7.3751,25,2,-999,9,-999,-999,9,-999,-999,9,-999,-999,9,-999,2.7256,27.4567
49NZ20070724,   P01,21,1,21, X12009,2,20070730,1249,40.0218,148.403,5461,1329.6,2,2.5308,2,2.53057,2,34.4799,2,34.4797,2,42.07,2,42.53,2,150.09,2,0.45,42.64,2,0.15,0.01,2,0.01,3.069,2,0.018,0.042,2,0.029,2,0.004,2,-999,9,2380.7,2,2395,2,7.3823,25,2,-999,9,-999,-999,9,-999,-999,9,-999,-999,9,-999,2.442,27.5189
49NZ20070724,   P01,21,1,20, X12026,2,20070730,1249,40.0218,148.403,5461,1530,2,2.3216,2,2.32159,2,34.5215,2,34.5212,2,48.81,2,49.3,2,154.74,2,0.46,42.46,2,0.15,0.01,2,0.01,3.04,2,0.018,0.018,2,0.01,2,0.008,2,-999,9,2381.4,2,2402.7,2,7.3968,25,6,-999,9,-999,-999,9,-999,-999,9,-999,-999,9,-999,2.2194,27.5707
49NZ20070724,   P01,21,1,19, X12025,2,20070730,1249,40.0218,148.403,5461,1730.8,2,2.1145,2,2.11447,2,34.5612,2,34.5612,2,59.9,2,60.19,2,158.54,2,0.47,41.94,2,0.15,0.01,2,0.01,2.978,2,0.017,0.013,2,0.008,2,0.003,2,-999,9,2379.2,2,2408.5,2,7.4214,25,2,-999,9,-999,-999,9,-999,-999,9,-999,-999,9,-999,1.9988,27.6202
49NZ20070724,   P01,21,1,18, X12024,2,20070730,1249,40.0218,148.403,5461,1931.8,2,1.9894,2,1.9895,2,34.5853,2,34.585,2,70.19,2,70.21,2,159.57,2,0.47,41.37,2,0.15,0.01,2,0.01,2.937,2,0.017,0.005,2,0.003,2,0,2,-999,9,2375.8,2,2411.1,2,7.4399,25,2,-999,9,-999,-999,9,-999,-999,9,-999,-999,9,-999,1.859,27.6505
49NZ20070724,   P01,21,1,17, X12023,2,20070730,1249,40.0218,148.403,5461,2131.4,2,1.8694,2,1.86967,2,34.608,2,34.6076,2,82.65,2,82.59,2,159.75,2,0.47,40.65,2,0.15,0.01,2,0.01,2.871,2,0.017,0.003,2,0.003,2,0,2,-999,9,2367.8,2,2414.9,2,7.4649,25,2,-999,9,-999,-999,9,-999,-999,9,-999,-999,9,-999,1.724,27.6789
49NZ20070724,   P01,21,1,16, X12022,2,20070730,1249,40.0218,148.403,5461,2331.9,2,1.7707,2,1.77083,2,34.6255,2,34.6252,2,94.26,2,94.27,2,158.78,2,0.47,39.92,2,0.14,0,2,0.01,2.818,2,0.017,-999,9,-999,9,-999,9,-999,9,2363.5,6,2416.3,2,7.4869,25,2,-999,9,-999,-999,9,-999,-999,9,-999,-999,9,-999,1.6097,27.7015
49NZ20070724,   P01,21,1,15, X12021,2,20070730,1249,40.0218,148.403,5461,2530.5,2,1.6932,2,1.69331,2,34.639,2,34.6386,6,104.59,2,104.5,2,157.64,2,0.47,39.25,2,0.14,0,2,0.01,2.766,2,0.017,0,2,0,2,0,2,-999,9,2356.2,2,2417.7,6,7.5061,25,2,-999,9,-999,-999,9,-999,-999,9,-999,-999,9,-999,1.516,27.7193
49NZ20070724,   P01,21,1,14, X12020,2,20070730,1249,40.0218,148.403,5461,2729.6,2,1.6309,2,1.63102,2,34.6496,2,34.6494,2,113.73,2,113.55,2,156.42,2,0.46,38.65,2,0.14,0,2,0.01,2.723,2,0.017,-999,9,-999,9,-999,9,-999,9,2351.5,2,2418.7,2,7.5231,25,2,-999,9,-999,-999,9,-999,-999,9,-999,-999,9,-999,1.4368,27.7336
49NZ20070724,   P01,21,1,13, X12019,2,20070730,1249,40.0218,148.403,5461,2930.7,2,1.5796,2,1.58001,2,34.6586,2,34.658,2,121.92,2,121.62,2,155.05,2,0.46,38.19,2,0.14,0,2,0.01,2.683,2,0.017,-999,9,-999,9,-999,9,-999,9,2346.7,2,2418.6,2,7.537,25,2,-999,9,-999,-999,9,-999,-999,9,-999,-999,9,-999,1.3677,27.7457
49NZ20070724,   P01,21,1,12, X12040,2,20070730,1249,40.0218,148.403,5461,3169.7,2,1.5391,2,1.53931,2,34.6661,2,34.6659,2,129.81,2,129.72,2,152.93,2,0.46,37.58,2,0.14,0,2,0.01,2.638,2,0.017,0.001,2,0,2,0.003,2,-999,9,2341.1,2,2418.7,2,7.5518,25,2,-999,9,-999,-999,9,-999,-999,9,-999,-999,9,-999,1.3051,27.7561
49NZ20070724,   P01,21,1,11, X12047,2,20070730,1249,40.0218,148.403,5461,3420.5,2,1.5073,2,1.50739,2,34.6724,2,34.6721,2,136.42,2,136.76,2,153.11,2,0.46,37.57,2,0.14,0.01,2,0.01,2.646,2,0.017,-999,9,-999,9,-999,9,-999,9,2336.4,2,2418.6,2,7.5648,25,2,-999,9,-999,-999,9,-999,-999,9,-999,-999,9,-999,1.2491,27.7651
49NZ20070724,   P01,21,1,10, X12010,2,20070730,1249,40.0218,148.403,5461,3669.4,2,1.4875,2,1.48763,2,34.6772,2,34.6773,2,141.95,2,142.33,2,150.11,2,0.45,36.81,2,0.14,0.01,2,0.01,2.577,2,0.016,-999,9,-999,9,-999,9,-999,9,2332,2,2418,2,7.574,25,2,-999,9,-999,-999,9,-999,-999,9,-999,-999,9,-999,1.2042,27.7721
49NZ20070724,   P01,21,1,9, X12015,2,20070730,1249,40.0218,148.403,5461,3919.6,2,1.4729,2,1.47287,2,34.6812,2,34.6812,2,147.02,2,146.97,2,149.02,2,0.45,36.44,2,0.13,0.02,2,0.01,2.551,2,0.016,0.001,2,0,2,0,2,-999,9,2330.3,2,2417.9,2,7.5812,25,2,-999,9,-999,-999,9,-999,-999,9,-999,-999,9,-999,1.1635,27.7781
49NZ20070724,   P01,21,1,8, X12046,2,20070730,1249,40.0218,148.403,5461,4170.4,2,1.4688,2,1.46885,2,34.6844,2,34.6843,6,151.06,2,151.14,2,147.83,2,0.44,36.2,2,0.13,0.01,2,0.01,2.525,2,0.016,-999,9,-999,9,-999,9,-999,9,2326.3,6,2417.6,2,7.5881,25,2,-999,9,-999,-999,9,-999,-999,9,-999,-999,9,-999,1.1321,27.7829
49NZ20070724,   P01,21,1,7, X12044,2,20070730,1249,40.0218,148.403,5461,4420.9,2,1.4696,2,1.46973,2,34.6872,2,34.6873,2,154.57,2,154.78,2,147.12,2,0.44,35.93,2,0.13,0.01,2,0.01,2.512,2,0.016,-999,9,-999,9,-999,9,-999,9,2323.8,2,2416.5,6,7.5928,25,2,-999,9,-999,-999,9,-999,-999,9,-999,-999,9,-999,1.1046,27.787
49NZ20070724,   P01,21,1,6, X12048,2,20070730,1249,40.0218,148.403,5461,4669.6,2,1.4823,2,1.48246,2,34.689,2,34.6889,2,156.65,2,156.82,2,146.75,2,0.44,35.79,2,0.13,0,2,0.01,2.5,2,0.016,0.018,3,0.019,3,0,2,-999,9,2322.1,2,2415.9,2,7.5971,25,6,-999,9,-999,-999,9,-999,-999,9,-999,-999,9,-999,1.0881,27.7896
49NZ20070724,   P01,21,1,5, X12017,2,20070730,1249,40.0218,148.403,5461,4922.2,2,1.5019,2,1.50196,2,34.6903,2,34.6901,2,158.16,2,158.44,2,146.67,2,0.44,35.66,2,0.13,0.01,2,0.01,2.492,2,0.016,-999,9,-999,9,-999,9,-999,9,2320.3,2,2417,2,7.5991,25,2,-999,9,-999,-999,9,-999,-999,9,-999,-999,9,-999,1.077,27.7913
49NZ20070724,   P01,21,1,4, X12928,2,20070730,1249,40.0218,148.403,5461,5170.7,2,1.524,2,1.52393,2,34.691,2,34.6916,2,160.11,2,160.29,2,144.41,2,0.44,35.54,2,0.13,0,2,0.01,2.482,2,0.016,-999,9,-999,9,-999,9,-999,9,2318.6,2,2414.6,2,7.6012,25,2,-999,9,-999,-999,9,-999,-999,9,-999,-999,9,-999,1.068,27.7925
49NZ20070724,   P01,21,1,3, X12931,2,20070730,1249,40.0218,148.403,5461,5420,2,1.5463,2,1.54624,2,34.692,2,34.6919,2,162.29,2,162.27,2,142.41,2,0.43,35.41,2,0.13,0.01,2,0.01,2.474,2,0.016,-999,9,-999,9,-999,9,-999,9,2316.3,2,2413.8,2,7.604,25,2,-999,9,-999,-999,9,-999,-999,9,-999,-999,9,-999,1.0582,27.7939
49NZ20070724,   P01,21,1,2, X12930,2,20070730,1249,40.0218,148.403,5461,50.1,2,17.5568,2,17.55795,2,34.5096,2,-999,9,226.23,2,-999,9,-999,9,-999,-999,9,-999,-999,9,-999,-999,9,-999,-999,9,-999,9,-999,9,-999,9,-999,9,-999,9,-999,-999,9,-999,9,-999,-999,9,-999,-999,9,-999,-999,9,-999,17.5484,25.0065
49NZ20070724,   P01,21,1,1, X12929,2,20070730,1249,40.0218,148.403,5461,5559,2,1.5614,2,1.56139,2,34.6922,2,34.6922,6,162.93,2,162.94,2,142.12,2,0.43,35.37,2,0.13,0.01,2,0.01,2.474,2,0.016,0.004,2,0.001,2,0,2,-999,9,2315.6,2,2413.1,2,7.6045,25,2,-999,9,-999,-999,9,-999,-999,9,-999,-999,9,-999,1.055,27.7943