BOTTLE,20081214JAMSTECIORGC,,,,,,,,,,,,,,,,,,,,,,,,,,,,,,,,,,,,,,,,,,,,,,,,,,,,,,,,,,,,,,,,,
EXPOCODE,SECT,STNNBR,CASTNO,SAMPNO,BTLNBR,BTLNBR_FLAG_W,DATE,TIME,LATITUDE,LONGITUDE,DEPTH,CTDPRS,CTDPRS_FLAG_W,CTDTMP,CTDTMP_FLAG_W,SBE35,SBE35_FLAG_W,CTDSAL,CTDSAL_FLAG_W,SALNTY,SALNTY_FLAG_W,CTDOXY,CTDOXY_FLAG_W,OXYGEN,OXYGEN_FLAG_W,SILCAT,SILCAT_FLAG_W,SILUNC,NITRAT,NITRAT_FLAG_W,NRAUNC,NITRIT,NITRIT_FLAG_W,NRIUNC,PHSPHT,PHSPHT_FLAG_W,PHPUNC,CFC-11,CFC-11_FLAG_W,CFC-12,CFC-12_FLAG_W,CFC113,CFC113_FLAG_W,CCL4,CCL4_FLAG_W,TCARBN,TCARBN_FLAG_W,ALKALI,ALKALI_FLAG_W,PH_TOT,PH_TMP,PH_FLAG_W,DELC13,DELC13_FLAG_W,C13ERR,DELC14,DELC14_FLAG_W,C14ERR,CS-137,CS-137_FLAG_W,CS137ER,PLUTO,PLUTO_FLAG_W,PLUTOER,THETA,SIG0
,,,,,,,,UTC,DEG,DEG,M,DBAR,,ITS-90,,ITS-90,,PSS-78,,PSS-78,,UMOL/KG,,UMOL/KG,,UMOL/KG,,UMOL/KG,UMOL/KG,,UMOL/KG,UMOL/KG,,UMOL/KG,UMOL/KG,,UMOL/KG,PMOL/KG,,PMOL/KG,,PMOL/KG,,PMOL/KG,,UMOL/KG,,UMOL/KG,,,ITS-90,,/MILLE,,/MILLE,/MILLE,,/MILLE,BQ/CUM,,BQ/CUM,MBQ/CUM,,MBQ/CUM,DEG C,KG/CUM
49NZ20070724,   P01,100,1,0,-999,9,20070826,1035,46.9923,-136.8538,4174,-999,9,-999,9,-999,9,-999,9,32.4816,2,-999,9,-999,9,-999,9,-999,-999,9,-999,-999,9,-999,-999,9,-999,-999,9,-999,9,-999,9,-999,9,-999,9,-999,9,-999,-999,9,-999,9,-999,-999,9,-999,-999,1,-999,-999,1,-999,-999,-999
49NZ20070724,   P01,100,1,36, X12042,2,20070826,1035,46.9923,-136.8538,4174,9.7,2,14.7781,2,14.77712,2,32.4818,2,32.4744,2,264.6,2,263.19,2,6.9,2,0.13,2.29,2,0.04,0.06,2,0.01,0.606,2,0.013,2.986,2,1.715,2,0.313,2,-999,9,-999,9,-999,9,-999,-999,9,-999,9,-999,-999,9,-999,-999,9,-999,-999,9,-999,14.7767,24.0791
49NZ20070724,   P01,100,1,35, X12041,2,20070826,1035,46.9923,-136.8538,4174,49.9,2,8.8096,2,8.81055,2,32.6013,2,32.5996,2,278.16,2,279.48,2,8.52,2,0.14,8.65,2,0.06,0.15,2,0.01,0.999,2,0.013,3.998,2,2.252,2,0.35,2,-999,9,-999,9,-999,9,-999,-999,9,-999,9,-999,-999,9,-999,-999,9,-999,-999,9,-999,8.8045,25.2705
49NZ20070724,   P01,100,1,34, X12036,2,20070826,1035,46.9923,-136.8538,4174,100,2,7.5624,2,7.56233,2,32.6906,2,32.723,2,278.15,2,276.38,2,13.46,2,0.15,12.33,2,0.07,0.04,2,0.01,1.2,2,0.013,4.215,2,2.354,2,0.338,2,-999,9,-999,9,-999,9,-999,-999,9,-999,9,-999,-999,9,-999,-999,1,-999,-999,9,-999,7.553,25.5242
49NZ20070724,   P01,100,1,33, X12033,2,20070826,1035,46.9923,-136.8538,4174,150.1,2,7.0731,2,7.07373,2,33.5939,2,33.6365,2,223.13,2,222.56,2,26.68,2,0.18,20.23,2,0.09,0.02,2,0.01,1.523,2,0.014,4.089,6,2.236,6,0.283,6,-999,9,-999,9,-999,9,-999,-999,9,-999,9,-999,-999,9,-999,-999,9,-999,-999,9,-999,7.0593,26.3031
49NZ20070724,   P01,100,1,32, X12038,2,20070826,1035,46.9923,-136.8538,4174,199.5,2,6.7869,2,6.78746,2,33.8545,2,33.8523,2,191.51,2,192.89,2,35.97,2,0.2,23.76,2,0.1,0.02,2,0.01,1.731,2,0.014,3.734,2,1.976,2,0.242,2,-999,9,-999,9,-999,9,-999,-999,9,-999,9,-999,-999,9,-999,-999,1,-999,-999,9,-999,6.7689,26.5477
49NZ20070724,   P01,100,1,31, X12003,2,20070826,1035,46.9923,-136.8538,4174,249.3,2,5.9791,2,5.97723,2,33.858,2,33.8567,6,166.27,2,164.81,2,47.35,2,0.22,27.99,2,0.11,0.01,2,0.01,2.038,2,0.015,3.419,2,1.755,2,0.214,2,-999,9,-999,9,-999,9,-999,-999,9,-999,9,-999,-999,9,-999,-999,9,-999,-999,9,-999,5.9581,26.6555
49NZ20070724,   P01,100,1,30, X12008,2,20070826,1035,46.9923,-136.8538,4174,279.8,2,5.523,2,5.5245,2,33.856,2,33.856,2,146.91,2,145.42,2,53.63,2,0.24,30.59,2,0.12,0.01,2,0.01,2.21,2,0.016,2.101,2,1.04,2,0.132,2,-999,9,-999,9,-999,9,-999,-999,9,-999,9,-999,-999,9,-999,-999,9,-999,-999,9,-999,5.5003,26.7099
49NZ20070724,   P01,100,1,29, X12035,2,20070826,1035,46.9923,-136.8538,4174,370.2,2,4.8825,2,4.88267,2,33.917,2,33.9207,2,85.66,2,83.31,2,71.99,2,0.28,37.41,2,0.14,0.01,2,0.01,2.663,2,0.017,2.307,2,1.112,2,0.132,2,-999,9,-999,9,-999,9,-999,-999,9,-999,9,-999,-999,9,-999,-999,1,-999,-999,9,-999,4.8541,26.8331
49NZ20070724,   P01,100,1,28, X12034,2,20070826,1035,46.9923,-136.8538,4174,471.1,2,4.3676,2,4.36764,2,33.9966,2,33.999,6,55.73,2,55.52,2,86.43,2,0.31,40.69,2,0.15,0.01,2,0.01,2.898,2,0.017,1.582,2,0.747,2,0.084,2,-999,9,-999,9,-999,9,-999,-999,9,-999,9,-999,-999,9,-999,-999,9,-999,-999,9,-999,4.3329,26.9533
49NZ20070724,   P01,100,1,27, X12049,2,20070826,1035,46.9923,-136.8538,4174,571.6,2,4.1053,2,4.10277,2,34.086,2,34.0847,2,34.84,2,35.8,2,97.99,2,0.33,42.5,2,0.15,0.01,2,0.01,3.017,2,0.017,0.931,2,0.434,2,0.06,2,-999,9,-999,9,-999,9,-999,-999,9,-999,9,-999,-999,9,-999,-999,1,-999,-999,9,-999,4.0638,27.0525
49NZ20070724,   P01,100,1,26, X12032,2,20070826,1035,46.9923,-136.8538,4174,669,2,3.9077,2,3.90763,2,34.1741,2,34.1751,2,21.08,2,21.79,2,108.82,2,0.36,43.4,2,0.15,0.01,2,0.01,3.101,2,0.018,0.387,6,0.183,6,0.028,6,-999,9,-999,9,-999,9,-999,-999,9,-999,9,-999,-999,9,-999,-999,9,-999,-999,9,-999,3.8596,27.1434
49NZ20070724,   P01,100,1,25, X12043,2,20070826,1035,46.9923,-136.8538,4174,769.7,2,3.6572,2,3.65719,2,34.2364,2,34.2377,2,14.81,2,15.02,2,118.42,2,0.38,44.15,2,0.16,0.01,2,0.01,3.16,2,0.018,0.164,2,0.075,2,0.006,2,-999,9,-999,9,-999,9,-999,-999,9,-999,9,-999,-999,9,-999,-999,1,-999,-999,9,-999,3.6027,27.2186
49NZ20070724,   P01,100,1,24, X12030,2,20070826,1035,46.9923,-136.8538,4174,872.5,2,3.3909,2,3.39107,2,34.2895,2,34.2891,2,12.07,2,12.25,2,127.22,2,0.4,44.39,2,0.16,0.01,2,0.01,3.163,2,0.018,0.075,2,0.037,2,0.008,2,-999,9,-999,9,-999,9,-999,-999,9,-999,9,-999,-999,9,-999,-999,9,-999,-999,9,-999,3.3302,27.2872
49NZ20070724,   P01,100,1,23, X12027,2,20070826,1035,46.9923,-136.8538,4174,969.8,2,3.2277,2,3.22746,2,34.3405,2,34.3405,6,9.72,2,9.88,2,134.05,2,0.41,44.77,2,0.16,0.01,2,0.01,3.209,2,0.018,0.024,2,0.013,2,0,2,-999,9,-999,9,-999,9,-999,-999,9,-999,9,-999,-999,9,-999,-999,1,-999,-999,9,-999,3.1606,27.3438
49NZ20070724,   P01,100,1,22, X12028,2,20070826,1035,46.9923,-136.8538,4174,1130.4,2,2.996,2,2.99584,2,34.4054,2,34.4056,2,10.4,2,10.41,2,142.44,2,0.43,44.88,2,0.16,0.01,2,0.01,3.217,2,0.018,0.009,2,0.008,2,0.002,2,-999,9,-999,9,-999,9,-999,-999,9,-999,9,-999,-999,9,-999,-999,9,-999,-999,9,-999,2.9183,27.4178
49NZ20070724,   P01,100,1,21, X12009,2,20070826,1035,46.9923,-136.8538,4174,1330.3,2,2.6659,2,2.66601,2,34.4636,2,34.4641,2,15.09,2,15.23,2,152.6,2,0.45,44.76,2,0.16,0.01,2,0.01,3.194,2,0.018,0.005,2,0.005,2,0,2,-999,9,-999,9,-999,9,-999,-999,9,-999,9,-999,-999,9,-999,-999,9,-999,-999,9,-999,2.5757,27.4945
49NZ20070724,   P01,100,1,20, X12026,2,20070826,1035,46.9923,-136.8538,4174,1530.5,2,2.3886,2,2.38862,2,34.5115,2,34.5115,2,25.4,2,25.33,2,160.01,2,0.47,44.26,2,0.16,0.01,2,0.01,3.139,2,0.018,0.001,2,0.003,2,0,2,-999,9,-999,9,-999,9,-999,-999,9,-999,9,-999,-999,9,-999,-999,9,-999,-999,9,-999,2.2856,27.5573
49NZ20070724,   P01,100,1,19, X12025,2,20070826,1035,46.9923,-136.8538,4174,1730.6,2,2.1656,2,2.16556,2,34.5492,2,34.5494,2,38.46,2,38.49,2,165.35,2,0.48,43.56,2,0.15,0.01,2,0.01,3.08,2,0.018,0,2,0.004,2,0,2,-999,9,-999,9,-999,9,-999,-999,9,-999,9,-999,-999,9,-999,-999,9,-999,-999,9,-999,2.0492,27.6066
49NZ20070724,   P01,100,1,18, X12024,2,20070826,1035,46.9923,-136.8538,4174,1929.9,2,1.9974,2,1.99748,2,34.5815,2,34.5814,6,52.38,2,52.24,2,169.42,2,0.49,42.76,2,0.15,0.01,2,0.01,3.017,2,0.017,0,2,0.003,2,0,2,-999,9,-999,9,-999,9,-999,-999,9,-999,9,-999,-999,9,-999,-999,1,-999,-999,9,-999,1.867,27.6468
49NZ20070724,   P01,100,1,17, X12023,2,20070826,1035,46.9923,-136.8538,4174,2130.5,2,1.8954,2,1.8955,2,34.6053,2,34.6052,2,63.84,2,64.16,2,171.94,2,0.5,41.84,2,0.15,0.01,2,0.01,2.969,2,0.017,0,2,0.003,2,0,2,-999,9,-999,9,-999,9,-999,-999,9,-999,9,-999,-999,9,-999,-999,9,-999,-999,9,-999,1.7497,27.6749
49NZ20070724,   P01,100,1,16, X12022,2,20070826,1035,46.9923,-136.8538,4174,2329.4,2,1.8146,2,1.81451,2,34.6207,2,34.6205,2,73.61,2,73.74,2,172.84,2,0.5,41.41,2,0.15,0.01,2,0.01,2.929,2,0.017,-999,9,-999,9,-999,9,-999,9,-999,9,-999,9,-999,-999,9,-999,9,-999,-999,9,-999,-999,9,-999,-999,9,-999,1.653,27.6944
49NZ20070724,   P01,100,1,15, X12021,2,20070826,1035,46.9923,-136.8538,4174,2529.8,2,1.7355,2,1.73543,2,34.633,2,34.6331,2,83.52,2,83.58,2,172.39,2,0.5,40.65,2,0.15,0.01,2,0.01,2.879,2,0.017,-999,9,-999,9,-999,9,-999,9,-999,9,-999,9,-999,-999,9,-999,9,-999,-999,9,-999,-999,9,-999,-999,9,-999,1.5576,27.7114
49NZ20070724,   P01,100,1,14, X12020,2,20070826,1035,46.9923,-136.8538,4174,2730.3,2,1.666,2,1.66608,2,34.6435,2,34.6431,2,93.21,2,93.09,2,171.5,2,0.5,40.31,2,0.15,0.01,2,0.01,2.833,2,0.017,0,2,0,2,0,2,-999,9,-999,9,-999,9,-999,-999,9,-999,9,-999,-999,9,-999,-999,9,-999,-999,9,-999,1.4711,27.7262
49NZ20070724,   P01,100,1,13, X12019,2,20070826,1035,46.9923,-136.8538,4174,2930,2,1.6087,2,1.60866,2,34.6524,2,34.6519,6,102.32,2,102.5,2,170.42,2,0.49,39.68,2,0.14,0.01,2,0.01,2.786,2,0.017,-999,9,-999,9,-999,9,-999,9,-999,9,-999,9,-999,-999,9,-999,9,-999,-999,9,-999,-999,1,-999,-999,9,-999,1.3963,27.7387
49NZ20070724,   P01,100,1,12, X12040,2,20070826,1035,46.9923,-136.8538,4174,3169.7,2,1.5612,2,1.56099,2,34.6608,2,34.661,2,112.42,2,112.43,2,168.7,2,0.49,39.06,2,0.14,0.01,2,0.01,2.718,2,0.017,-999,9,-999,9,-999,9,-999,9,-999,9,-999,9,-999,-999,9,-999,9,-999,-999,9,-999,-999,9,-999,-999,9,-999,1.3267,27.7504
49NZ20070724,   P01,100,1,11, X12047,2,20070826,1035,46.9923,-136.8538,4174,3420.6,2,1.5313,2,1.53133,2,34.6684,2,34.6682,2,120.94,2,121,2,168.3,2,0.49,38.47,2,0.14,0.01,2,0.01,2.683,2,0.017,0,2,0,2,0,2,-999,9,-999,9,-999,9,-999,-999,9,-999,9,-999,-999,9,-999,-999,9,-999,-999,9,-999,1.2725,27.7603
49NZ20070724,   P01,100,1,10, X12010,2,20070826,1035,46.9923,-136.8538,4174,3670.6,2,1.5229,2,1.52283,2,34.6735,2,34.6735,2,126.37,2,126.62,2,168.65,2,0.49,38.25,2,0.14,0.01,2,0.01,2.664,2,0.017,-999,9,-999,9,-999,9,-999,9,-999,9,-999,9,-999,-999,9,-999,9,-999,-999,9,-999,-999,9,-999,-999,9,-999,1.2386,27.7668
49NZ20070724,   P01,100,1,9, X12015,2,20070826,1035,46.9923,-136.8538,4174,3921.4,2,1.5274,2,1.52732,2,34.6774,2,34.6775,2,130.28,2,130.66,2,169.64,2,0.49,37.96,2,0.14,0.01,2,0.01,2.645,2,0.017,-999,9,-999,9,-999,9,-999,9,-999,9,-999,9,-999,-999,9,-999,9,-999,-999,9,-999,-999,1,-999,-999,9,-999,1.2163,27.7715
49NZ20070724,   P01,100,1,8, X12046,2,20070826,1035,46.9923,-136.8538,4174,4170,2,1.5378,2,1.53764,2,34.6805,2,34.6808,2,131.76,2,131.98,2,173.37,2,0.5,37.93,2,0.14,0.01,2,0.01,2.634,2,0.017,-999,9,-999,9,-999,9,-999,9,-999,9,-999,9,-999,-999,9,-999,9,-999,-999,9,-999,-999,9,-999,-999,9,-999,1.1991,27.7751
49NZ20070724,   P01,100,1,7, X12044,2,20070826,1035,46.9923,-136.8538,4174,4228.3,2,1.5377,2,1.53749,2,34.6815,2,-999,9,132.64,2,-999,9,-999,9,-999,-999,9,-999,-999,9,-999,-999,9,-999,-999,9,-999,9,-999,9,-999,9,-999,9,-999,9,-999,-999,9,-999,9,-999,-999,9,-999,-999,1,-999,-999,9,-999,1.1925,27.7764
49NZ20070724,   P01,100,1,6, X12048,2,20070826,1035,46.9923,-136.8538,4174,4227.9,2,1.5377,2,1.53749,2,34.6814,2,-999,9,132.65,2,-999,9,-999,9,-999,-999,9,-999,-999,9,-999,-999,9,-999,-999,9,-999,9,-999,9,-999,9,-999,9,-999,9,-999,-999,9,-999,9,-999,-999,9,-999,-999,1,-999,-999,9,-999,1.1926,27.7763
49NZ20070724,   P01,100,1,5, X12014,2,20070826,1035,46.9923,-136.8538,4174,1930.3,2,1.9974,2,1.99749,2,34.5815,2,-999,9,52.34,2,-999,9,-999,9,-999,-999,9,-999,-999,9,-999,-999,9,-999,-999,9,-999,9,-999,9,-999,9,-999,9,-999,9,-999,-999,9,-999,9,-999,-999,9,-999,-999,1,-999,-999,9,-999,1.867,27.6468
49NZ20070724,   P01,100,1,4, X12928,2,20070826,1035,46.9923,-136.8538,4174,2930.1,2,1.6089,2,1.60879,2,34.6523,2,-999,9,102.41,2,-999,9,-999,9,-999,-999,9,-999,-999,9,-999,-999,9,-999,-999,9,-999,9,-999,9,-999,9,-999,9,-999,9,-999,-999,9,-999,9,-999,-999,9,-999,-999,1,-999,-999,9,-999,1.3965,27.7386
49NZ20070724,   P01,100,1,3, X12931,2,20070826,1035,46.9923,-136.8538,4174,3921.2,2,1.5273,2,1.52734,2,34.6774,2,-999,9,130.26,2,-999,9,-999,9,-999,-999,9,-999,-999,9,-999,-999,9,-999,-999,9,-999,9,-999,9,-999,9,-999,9,-999,9,-999,-999,9,-999,9,-999,-999,9,-999,-999,1,-999,-999,9,-999,1.2162,27.7715
49NZ20070724,   P01,100,1,2, X12930,2,20070826,1035,46.9923,-136.8538,4174,4228.1,2,1.5376,2,1.53751,2,34.6816,2,-999,9,132.65,2,-999,9,-999,9,-999,-999,9,-999,-999,9,-999,-999,9,-999,-999,9,-999,9,-999,9,-999,9,-999,9,-999,9,-999,-999,9,-999,9,-999,-999,9,-999,-999,1,-999,-999,9,-999,1.1924,27.7765
49NZ20070724,   P01,100,1,1, X12929,2,20070826,1035,46.9923,-136.8538,4174,4227.8,2,1.5377,2,1.53747,2,34.6815,2,34.6818,6,132.6,2,132.93,2,174.18,2,0.5,37.99,2,0.14,0.01,2,0.01,2.636,2,0.017,0,2,0,2,0,2,-999,9,-999,9,-999,9,-999,-999,9,-999,9,-999,-999,9,-999,-999,1,-999,-999,9,-999,1.1926,27.7764