BOTTLE,20081214JAMSTECIORGC,,,,,,,,,,,,,,,,,,,,,,,,,,,,,,,,,,,,,,,,,,,,,,,,,,,,,,,,,,,,,,,,,
EXPOCODE,SECT,STNNBR,CASTNO,SAMPNO,BTLNBR,BTLNBR_FLAG_W,DATE,TIME,LATITUDE,LONGITUDE,DEPTH,CTDPRS,CTDPRS_FLAG_W,CTDTMP,CTDTMP_FLAG_W,SBE35,SBE35_FLAG_W,CTDSAL,CTDSAL_FLAG_W,SALNTY,SALNTY_FLAG_W,CTDOXY,CTDOXY_FLAG_W,OXYGEN,OXYGEN_FLAG_W,SILCAT,SILCAT_FLAG_W,SILUNC,NITRAT,NITRAT_FLAG_W,NRAUNC,NITRIT,NITRIT_FLAG_W,NRIUNC,PHSPHT,PHSPHT_FLAG_W,PHPUNC,CFC-11,CFC-11_FLAG_W,CFC-12,CFC-12_FLAG_W,CFC113,CFC113_FLAG_W,CCL4,CCL4_FLAG_W,TCARBN,TCARBN_FLAG_W,ALKALI,ALKALI_FLAG_W,PH_TOT,PH_TMP,PH_FLAG_W,DELC13,DELC13_FLAG_W,C13ERR,DELC14,DELC14_FLAG_W,C14ERR,CS-137,CS-137_FLAG_W,CS137ER,PLUTO,PLUTO_FLAG_W,PLUTOER,THETA,SIG0
,,,,,,,,UTC,DEG,DEG,M,DBAR,,ITS-90,,ITS-90,,PSS-78,,PSS-78,,UMOL/KG,,UMOL/KG,,UMOL/KG,,UMOL/KG,UMOL/KG,,UMOL/KG,UMOL/KG,,UMOL/KG,UMOL/KG,,UMOL/KG,PMOL/KG,,PMOL/KG,,PMOL/KG,,PMOL/KG,,UMOL/KG,,UMOL/KG,,,ITS-90,,/MILLE,,/MILLE,/MILLE,,/MILLE,BQ/CUM,,BQ/CUM,MBQ/CUM,,MBQ/CUM,DEG C,KG/CUM
49NZ20070724,   P01,103,1,0,-999,9,20070827,453,46.992,-133.4665,3642,-999,9,-999,9,-999,9,-999,9,32.4452,2,-999,9,-999,9,-999,9,-999,-999,9,-999,-999,9,-999,-999,9,-999,-999,9,-999,9,-999,9,-999,9,-999,9,-999,9,-999,-999,9,-999,9,-999,-999,9,-999,-999,9,-999,-999,9,-999,-999,-999
49NZ20070724,   P01,103,1,36, X12042,2,20070827,453,46.992,-133.4665,3642,10.1,2,15.7966,2,15.81087,2,32.4499,2,32.443,2,262.22,2,261.22,2,6.22,2,0.13,1.69,2,0.04,0.05,2,0.01,0.528,2,0.013,2.793,2,1.632,2,-999,5,-999,9,1960.7,2,2187,2,7.9645,25,6,-999,9,-999,-999,9,-999,-999,9,-999,-999,9,-999,15.7951,23.8327
49NZ20070724,   P01,103,1,35, X12041,2,20070827,453,46.992,-133.4665,3642,49.6,2,8.7219,2,8.72291,2,32.56,2,32.5577,2,282.9,2,284.8,2,9.15,2,0.14,8.68,2,0.06,0.52,2,0,1.041,2,0.013,3.974,2,2.228,2,0.373,2,-999,9,2028.4,6,2188.7,2,7.8165,25,2,-999,9,-999,-999,9,-999,-999,9,-999,-999,9,-999,8.7168,25.2515
49NZ20070724,   P01,103,1,34, X12036,2,20070827,453,46.992,-133.4665,3642,100.6,2,7.2621,2,7.26528,2,32.6613,2,32.6668,2,281.81,2,283.05,2,13.72,2,0.15,12.48,2,0.07,0.08,2,0.01,1.22,2,0.013,4.22,2,2.34,2,0.387,2,-999,9,2049.1,2,2195.3,6,7.7818,25,2,-999,9,-999,-999,9,-999,-999,9,-999,-999,9,-999,7.2529,25.5426
49NZ20070724,   P01,103,1,33, X12033,2,20070827,453,46.992,-133.4665,3642,150,2,7.0911,2,7.09079,2,33.4627,2,33.52,2,207.82,2,209.34,2,27.07,2,0.18,21.44,2,0.09,0.01,2,0.01,1.637,2,0.014,3.983,6,2.158,6,0.29,6,-999,9,2135.4,2,2239.2,2,7.6546,25,6,-999,9,-999,-999,9,-999,-999,9,-999,-999,9,-999,7.0774,26.1973
49NZ20070724,   P01,103,1,32, X12038,2,20070827,453,46.992,-133.4665,3642,199.7,2,6.7068,2,6.70662,2,33.8144,2,33.8175,2,198.32,2,198.52,2,34.55,2,0.2,23.4,2,0.1,0.01,2,0.01,1.718,2,0.014,3.786,2,2.019,2,0.27,2,-999,9,2160.8,2,2260.5,2,7.6407,25,2,-999,9,-999,-999,9,-999,-999,9,-999,-999,9,-999,6.6889,26.5268
49NZ20070724,   P01,103,1,31, X12003,2,20070827,453,46.992,-133.4665,3642,248.9,2,6.0163,2,6.01685,2,33.8441,2,33.8419,6,170.03,2,171.01,2,44.61,2,0.22,27.36,2,0.11,0.01,2,0.01,1.99,2,0.015,3.461,2,1.792,2,0.24,2,-999,9,2192.3,2,2270.3,2,7.5764,25,2,-999,9,-999,-999,9,-999,-999,9,-999,-999,9,-999,5.9952,26.6399
49NZ20070724,   P01,103,1,30, X12008,2,20070827,453,46.992,-133.4665,3642,279.5,2,5.7307,2,5.73098,2,33.8467,2,33.8465,2,156.29,2,156.07,2,49.35,2,0.23,29.26,2,0.11,0.01,2,0.01,2.121,2,0.015,3.309,2,1.697,2,0.222,2,-999,9,2205.7,2,2272.8,2,7.5445,25,2,-999,9,-999,-999,9,-999,-999,9,-999,-999,9,-999,5.7076,26.6775
49NZ20070724,   P01,103,1,29, X12035,2,20070827,453,46.992,-133.4665,3642,372.4,2,5.0447,2,5.04529,2,33.9091,2,33.9095,2,88.73,2,88.48,2,67.76,2,0.27,36.7,2,0.14,0.01,2,0.01,2.617,2,0.017,2.404,2,1.174,2,0.155,2,-999,9,2265.6,2,2287,2,7.4132,25,2,-999,9,-999,-999,9,-999,-999,9,-999,-999,9,-999,5.0156,26.8086
49NZ20070724,   P01,103,1,28, X12034,2,20070827,453,46.992,-133.4665,3642,470.9,2,4.5148,2,4.51496,2,33.9879,2,33.992,6,55.08,2,54.77,2,83.11,2,0.3,40.64,2,0.15,0.01,2,0.01,2.888,2,0.017,1.603,2,0.756,2,0.1,2,-999,9,2302.7,2,2303.9,2,7.3532,25,2,-999,9,-999,-999,9,-999,-999,9,-999,-999,9,-999,4.4796,26.9306
49NZ20070724,   P01,103,1,27, X12049,2,20070827,453,46.992,-133.4665,3642,572.1,2,4.2493,2,4.24926,2,34.089,2,34.0931,2,31.82,2,31.43,2,95.67,2,0.33,42.66,2,0.15,0.01,2,0.01,3.037,2,0.018,0.788,2,0.365,2,0.058,2,-999,9,2327.2,2,2320.9,2,7.3292,25,2,-999,9,-999,-999,9,-999,-999,9,-999,-999,9,-999,4.2072,27.04
49NZ20070724,   P01,103,1,26, X12032,2,20070827,453,46.992,-133.4665,3642,670.2,2,4.1803,2,4.18007,2,34.1922,2,34.1935,2,12.56,2,12.78,2,104.51,2,0.35,43.8,2,0.16,0.01,2,0.01,3.169,2,0.018,0.251,6,0.119,6,0.015,6,-999,9,2348.7,6,2336,2,7.3132,25,2,-999,9,-999,-999,9,-999,-999,9,-999,-999,9,-999,4.1307,27.1301
49NZ20070724,   P01,103,1,25, X12043,2,20070827,453,46.992,-133.4665,3642,769.4,2,3.9004,2,3.90074,2,34.2592,2,34.2599,2,9.31,2,9.34,2,114.27,2,0.37,44.13,2,0.16,0,2,0.01,3.205,2,0.018,0.108,2,0.054,2,0.01,2,-999,9,2360.2,2,2350.1,6,7.3153,25,2,-999,9,-999,-999,9,-999,-999,9,-999,-999,9,-999,3.8444,27.2127
49NZ20070724,   P01,103,1,24, X12030,2,20070827,453,46.992,-133.4665,3642,871.8,2,3.6485,2,3.64971,2,34.3136,2,34.3105,2,8.38,2,8.4,2,122.49,2,0.39,44.49,2,0.16,0,2,0.01,3.211,2,0.018,0.044,2,0.025,2,0.01,2,-999,9,2370.6,2,2360.8,2,7.316,25,6,-999,9,-999,-999,9,-999,-999,9,-999,-999,9,-999,3.586,27.2818
49NZ20070724,   P01,103,1,23, X12027,2,20070827,453,46.992,-133.4665,3642,970.9,2,3.4324,2,3.43237,2,34.3575,2,34.3576,6,8.74,2,8.77,2,129.28,2,0.4,44.63,2,0.16,0,2,0.01,3.225,2,0.018,0.029,2,0.014,2,0.002,2,-999,9,2378.4,2,2369.8,2,7.3185,25,2,-999,9,-999,-999,9,-999,-999,9,-999,-999,9,-999,3.3637,27.3382
49NZ20070724,   P01,103,1,22, X12028,2,20070827,453,46.992,-133.4665,3642,1130,2,3.1655,2,3.16564,2,34.4282,2,34.4287,2,11.87,2,11.92,2,138.28,2,0.42,44.74,2,0.16,0,2,0.01,3.233,2,0.018,0.008,2,0.004,2,0,2,-999,9,2385.8,2,2383.6,2,7.3332,25,2,-999,9,-999,-999,9,-999,-999,9,-999,-999,9,-999,3.0863,27.4207
49NZ20070724,   P01,103,1,21, X12009,2,20070827,453,46.992,-133.4665,3642,1330.1,2,2.7348,2,2.73478,2,34.4703,2,34.4704,2,17.02,2,17.08,2,150.41,2,0.45,44.57,2,0.16,0,2,0.01,3.189,2,0.018,0.001,2,0.001,2,0,2,-999,9,2395.1,2,2395.2,2,7.3396,25,2,-999,9,-999,-999,9,-999,-999,9,-999,-999,9,-999,2.6439,27.494
49NZ20070724,   P01,103,1,20, X12026,2,20070827,453,46.992,-133.4665,3642,1532.2,2,2.4328,2,2.43258,2,34.5186,2,34.5184,2,28.42,2,28.47,2,158.77,2,0.47,43.96,2,0.16,0,2,0.01,3.138,2,0.018,0,2,0.002,2,0.008,2,-999,9,2395.2,2,2404.9,2,7.3617,25,2,-999,9,-999,-999,9,-999,-999,9,-999,-999,9,-999,2.3291,27.5593
49NZ20070724,   P01,103,1,19, X12025,2,20070827,453,46.992,-133.4665,3642,1731.8,2,2.1596,2,2.15985,2,34.5504,2,34.5504,6,40.02,2,40.12,2,165.26,2,0.48,43.31,2,0.15,0,2,0.01,3.073,2,0.018,0,2,0,2,0.005,2,-999,9,2394.4,2,2412.1,2,7.3884,25,2,-999,9,-999,-999,9,-999,-999,9,-999,-999,9,-999,2.0432,27.6081
49NZ20070724,   P01,103,1,18, X12024,2,20070827,453,46.992,-133.4665,3642,1931.4,2,1.9705,2,1.97074,2,34.5832,2,34.5829,2,54.32,2,54.59,2,169.3,2,0.49,42.57,2,0.15,0,2,0.01,3.015,2,0.017,0,2,0,2,0.002,2,-999,9,2390.8,2,2418.4,2,7.4184,25,2,-999,9,-999,-999,9,-999,-999,9,-999,-999,9,-999,1.8404,27.6502
49NZ20070724,   P01,103,1,17, X12023,2,20070827,453,46.992,-133.4665,3642,2131.8,2,1.8472,2,1.84725,2,34.6061,2,34.6063,2,67.06,2,67.26,2,171.22,2,0.5,41.78,2,0.15,0.01,2,0.01,2.951,2,0.017,0,2,0,2,0.008,2,-999,9,2385,2,2421.2,2,7.4439,25,2,-999,9,-999,-999,9,-999,-999,9,-999,-999,9,-999,1.7021,27.6791
49NZ20070724,   P01,103,1,16, X12022,2,20070827,453,46.992,-133.4665,3642,2330.6,2,1.7669,2,1.76698,2,34.6216,2,34.6218,2,77.27,2,77.46,2,172.24,2,0.5,41.1,2,0.15,0,2,0.01,2.91,2,0.017,-999,9,-999,9,-999,9,-999,9,2379.5,6,2423.8,2,7.4651,25,2,-999,9,-999,-999,9,-999,-999,9,-999,-999,9,-999,1.6061,27.6987
49NZ20070724,   P01,103,1,15, X12021,2,20070827,453,46.992,-133.4665,3642,2531.1,2,1.6889,2,1.68884,2,34.6354,2,34.6357,2,87.98,2,88.31,2,172.38,2,0.5,40.45,2,0.15,0.01,2,0.01,2.854,2,0.017,-999,9,-999,9,-999,9,-999,9,2374.5,2,2426.3,6,7.4832,25,2,-999,9,-999,-999,9,-999,-999,9,-999,-999,9,-999,1.5117,27.7168
49NZ20070724,   P01,103,1,14, X12020,2,20070827,453,46.992,-133.4665,3642,2731.7,2,1.6651,2,1.66508,2,34.6415,2,34.6418,6,93,2,93.53,2,172.83,2,0.5,40.14,2,0.15,0,2,0.01,2.834,2,0.017,0,2,0,2,0.011,2,-999,9,2371.9,2,2427.1,2,7.4971,25,6,-999,9,-999,-999,9,-999,-999,9,-999,-999,9,-999,1.4701,27.7246
49NZ20070724,   P01,103,1,13, X12019,2,20070827,453,46.992,-133.4665,3642,2932.2,2,1.6525,2,1.65239,2,34.6461,2,34.646,2,96.83,2,97.31,2,172.76,2,0.5,39.95,2,0.14,0,2,0.01,2.811,2,0.017,-999,9,-999,9,-999,9,-999,9,2370.2,2,2428.3,2,7.5034,25,2,-999,9,-999,-999,9,-999,-999,9,-999,-999,9,-999,1.439,27.7306
49NZ20070724,   P01,103,1,12, X12040,2,20070827,453,46.992,-133.4665,3642,3170.2,2,1.6008,2,1.60063,2,34.656,2,34.6566,2,106.99,2,107.52,2,170.84,2,0.49,39.16,2,0.14,0,2,0.01,2.741,2,0.017,0,2,0,2,0.006,2,-999,9,2362.6,2,2427.9,2,7.5214,25,2,-999,9,-999,-999,9,-999,-999,9,-999,-999,9,-999,1.3654,27.7438
49NZ20070724,   P01,103,1,11, X12047,2,20070827,453,46.992,-133.4665,3642,3419.9,2,1.559,2,1.55898,2,34.6658,2,34.6663,2,116.71,2,117.14,2,171.37,2,0.5,38.58,2,0.14,0,2,0.01,2.713,2,0.017,-999,9,-999,9,-999,9,-999,9,2358.4,2,2429.8,2,7.5424,25,2,-999,9,-999,-999,9,-999,-999,9,-999,-999,9,-999,1.2996,27.7563
49NZ20070724,   P01,103,1,10, X12010,9,20070827,453,46.992,-133.4665,3642,9.6,2,15.7502,2,15.76613,2,32.447,2,-999,9,262.74,2,-999,9,-999,9,-999,-999,9,-999,-999,9,-999,-999,9,-999,-999,9,-999,9,-999,9,-999,9,-999,9,-999,9,-999,-999,9,-999,9,-999,-999,9,-999,-999,9,-999,-999,9,-999,15.7487,23.8408
49NZ20070724,   P01,103,1,9, X12015,9,20070827,453,46.992,-133.4665,3642,1930.4,2,1.9721,2,1.97168,2,34.5828,2,-999,9,54.44,2,-999,9,-999,9,-999,-999,9,-999,-999,9,-999,-999,9,-999,-999,9,-999,9,-999,9,-999,9,-999,9,-999,9,-999,-999,9,-999,9,-999,-999,9,-999,-999,9,-999,-999,9,-999,1.842,27.6497
49NZ20070724,   P01,103,1,8, X12046,9,20070827,453,46.992,-133.4665,3642,2132.2,2,1.8474,2,1.84746,2,34.6061,2,-999,9,67.09,2,-999,9,-999,9,-999,-999,9,-999,-999,9,-999,-999,9,-999,-999,9,-999,9,-999,9,-999,9,-999,9,-999,9,-999,-999,9,-999,9,-999,-999,9,-999,-999,9,-999,-999,9,-999,1.7023,27.6791
49NZ20070724,   P01,103,1,7, X12044,9,20070827,453,46.992,-133.4665,3642,2330.1,2,1.7667,2,1.76676,2,34.6217,2,-999,9,77.38,2,-999,9,-999,9,-999,-999,9,-999,-999,9,-999,-999,9,-999,-999,9,-999,9,-999,9,-999,9,-999,9,-999,9,-999,-999,9,-999,9,-999,-999,9,-999,-999,9,-999,-999,9,-999,1.6059,27.6988
49NZ20070724,   P01,103,1,6, X12048,9,20070827,453,46.992,-133.4665,3642,2530.7,2,1.6894,2,1.68933,2,34.6353,2,-999,9,87.98,2,-999,9,-999,9,-999,-999,9,-999,-999,9,-999,-999,9,-999,-999,9,-999,9,-999,9,-999,9,-999,9,-999,9,-999,-999,9,-999,9,-999,-999,9,-999,-999,9,-999,-999,9,-999,1.5122,27.7166
49NZ20070724,   P01,103,1,5, X12014,9,20070827,453,46.992,-133.4665,3642,2730.6,2,1.6652,2,1.66518,2,34.6414,2,-999,9,93.1,2,-999,9,-999,9,-999,-999,9,-999,-999,9,-999,-999,9,-999,-999,9,-999,9,-999,9,-999,9,-999,9,-999,9,-999,-999,9,-999,9,-999,-999,9,-999,-999,9,-999,-999,9,-999,1.4703,27.7246
49NZ20070724,   P01,103,1,4, X12928,9,20070827,453,46.992,-133.4665,3642,2932.5,2,1.6524,2,1.65256,2,34.6462,2,-999,9,96.83,2,-999,9,-999,9,-999,-999,9,-999,-999,9,-999,-999,9,-999,-999,9,-999,9,-999,9,-999,9,-999,9,-999,9,-999,-999,9,-999,9,-999,-999,9,-999,-999,9,-999,-999,9,-999,1.4388,27.7307
49NZ20070724,   P01,103,1,3, X12931,9,20070827,453,46.992,-133.4665,3642,3169.4,2,1.6002,2,1.59993,2,34.6562,2,-999,9,107.27,2,-999,9,-999,9,-999,-999,9,-999,-999,9,-999,-999,9,-999,-999,9,-999,9,-999,9,-999,9,-999,9,-999,9,-999,-999,9,-999,9,-999,-999,9,-999,-999,9,-999,-999,9,-999,1.3649,27.744
49NZ20070724,   P01,103,1,2, X12930,9,20070827,453,46.992,-133.4665,3642,3419.6,2,1.5589,2,1.55893,2,34.6658,2,-999,9,116.82,2,-999,9,-999,9,-999,-999,9,-999,-999,9,-999,-999,9,-999,-999,9,-999,9,-999,9,-999,9,-999,9,-999,9,-999,-999,9,-999,9,-999,-999,9,-999,-999,9,-999,-999,9,-999,1.2996,27.7563
49NZ20070724,   P01,103,1,1, X12929,2,20070827,453,46.992,-133.4665,3642,3696,2,1.555,2,1.55485,2,34.6715,2,34.6715,6,121.48,2,121.59,2,173.67,2,0.5,38.39,2,0.14,0,2,0.01,2.701,2,0.017,0,2,0,2,0.002,2,-999,9,2357.8,2,2434.5,2,7.5532,25,2,-999,9,-999,-999,9,-999,-999,9,-999,-999,9,-999,1.2672,27.7631