BOTTLE,20081214JAMSTECIORGC,,,,,,,,,,,,,,,,,,,,,,,,,,,,,,,,,,,,,,,,,,,,,,,,,,,,,,,,,,,,,,,,,
EXPOCODE,SECT,STNNBR,CASTNO,SAMPNO,BTLNBR,BTLNBR_FLAG_W,DATE,TIME,LATITUDE,LONGITUDE,DEPTH,CTDPRS,CTDPRS_FLAG_W,CTDTMP,CTDTMP_FLAG_W,SBE35,SBE35_FLAG_W,CTDSAL,CTDSAL_FLAG_W,SALNTY,SALNTY_FLAG_W,CTDOXY,CTDOXY_FLAG_W,OXYGEN,OXYGEN_FLAG_W,SILCAT,SILCAT_FLAG_W,SILUNC,NITRAT,NITRAT_FLAG_W,NRAUNC,NITRIT,NITRIT_FLAG_W,NRIUNC,PHSPHT,PHSPHT_FLAG_W,PHPUNC,CFC-11,CFC-11_FLAG_W,CFC-12,CFC-12_FLAG_W,CFC113,CFC113_FLAG_W,CCL4,CCL4_FLAG_W,TCARBN,TCARBN_FLAG_W,ALKALI,ALKALI_FLAG_W,PH_TOT,PH_TMP,PH_FLAG_W,DELC13,DELC13_FLAG_W,C13ERR,DELC14,DELC14_FLAG_W,C14ERR,CS-137,CS-137_FLAG_W,CS137ER,PLUTO,PLUTO_FLAG_W,PLUTOER,THETA,SIG0
,,,,,,,,UTC,DEG,DEG,M,DBAR,,ITS-90,,ITS-90,,PSS-78,,PSS-78,,UMOL/KG,,UMOL/KG,,UMOL/KG,,UMOL/KG,UMOL/KG,,UMOL/KG,UMOL/KG,,UMOL/KG,UMOL/KG,,UMOL/KG,PMOL/KG,,PMOL/KG,,PMOL/KG,,PMOL/KG,,UMOL/KG,,UMOL/KG,,,ITS-90,,/MILLE,,/MILLE,/MILLE,,/MILLE,BQ/CUM,,BQ/CUM,MBQ/CUM,,MBQ/CUM,DEG C,KG/CUM
49NZ20070724,   P01,8,1,0,-999,9,20070727,814,42.1803,146.0863,5036,-999,9,-999,9,-999,9,-999,9,32.7495,2,-999,9,-999,9,-999,9,-999,-999,9,-999,-999,9,-999,-999,9,-999,-999,9,-999,9,-999,9,-999,9,-999,9,-999,9,-999,-999,9,-999,9,-999,-999,9,-999,-999,9,-999,-999,9,-999,-999,-999
49NZ20070724,   P01,8,1,36, X12042,2,20070727,814,42.1803,146.0863,5036,9.2,2,10.1226,2,10.14633,2,32.8447,2,32.8655,2,320.96,2,325.32,2,11.62,2,0.14,9.9,2,0.06,0.18,2,0.01,1.164,2,0.013,4.144,2,2.198,2,0.325,2,-999,9,2032.8,2,2241.8,2,7.9097,25,6,-999,9,-999,-999,9,-999,-999,9,-999,-999,9,-999,10.1216,25.249
49NZ20070724,   P01,8,1,35, X12041,2,20070727,814,42.1803,146.0863,5036,49.3,2,2.4632,2,2.45288,2,33.0797,2,33.0969,2,309.15,2,309.88,2,40.79,2,0.21,22.98,2,0.1,0.23,2,0.01,1.955,2,0.015,5.209,2,3.037,2,0.376,2,-999,9,2138.1,6,2247.4,2,7.6716,25,2,-999,9,-999,-999,9,-999,-999,9,-999,-999,9,-999,2.4606,26.3976
49NZ20070724,   P01,8,1,34, X12036,2,20070727,814,42.1803,146.0863,5036,99.6,2,1.8432,2,1.84318,2,33.3047,2,33.3234,2,246.56,2,245.14,2,59.82,2,0.25,29.43,2,0.12,0.05,2,0.01,2.288,2,0.016,4.498,2,2.361,2,0.313,2,-999,9,2199.3,2,2264.1,6,7.5498,25,2,-999,9,-999,-999,9,-999,-999,9,-999,-999,9,-999,1.8383,26.6255
49NZ20070724,   P01,8,1,33, X12033,2,20070727,814,42.1803,146.0863,5036,149.1,2,1.8598,2,1.85992,2,33.4317,2,33.4442,2,211.04,2,210.84,2,70.17,2,0.27,31.99,2,0.12,0.03,2,0.01,2.457,2,0.016,4.05,6,2.132,6,0.281,6,-999,9,2227.5,2,2275.1,2,7.4952,25,6,-999,9,-999,-999,9,-999,-999,9,-999,-999,9,-999,1.8524,26.7263
49NZ20070724,   P01,8,1,32, X12038,2,20070727,814,42.1803,146.0863,5036,198.9,2,2.1532,2,2.1544,2,33.5711,2,33.6005,2,169.43,2,159.64,2,80.72,2,0.3,35.73,2,0.13,0.02,2,0.01,2.672,2,0.017,3.368,2,1.767,2,0.234,2,-999,9,2256.4,2,2286.9,2,7.4286,25,2,-999,9,-999,-999,9,-999,-999,9,-999,-999,9,-999,2.1427,26.8159
49NZ20070724,   P01,8,1,31, X12003,2,20070727,814,42.1803,146.0863,5036,250.5,2,2.8297,2,2.82828,2,33.7408,2,33.7479,6,116,2,111.95,2,88.49,2,0.31,38.62,2,0.14,0.02,2,0.01,2.838,2,0.017,2.73,2,1.415,2,0.19,2,-999,9,2285.8,2,2296.1,2,7.3753,25,2,-999,9,-999,-999,9,-999,-999,9,-999,-999,9,-999,2.8149,26.8962
49NZ20070724,   P01,8,1,30, X12008,2,20070727,814,42.1803,146.0863,5036,329.7,2,3.0091,2,3.01283,2,33.899,2,33.9105,2,68.6,2,65.91,2,102.73,2,0.35,41.79,2,0.15,0.01,2,0.01,3.02,2,0.018,1.888,2,0.968,2,0.128,2,-999,9,2321.7,2,2314.4,2,7.3179,25,2,-999,9,-999,-999,9,-999,-999,9,-999,-999,9,-999,2.9888,27.0072
49NZ20070724,   P01,8,1,29, X12035,2,20070727,814,42.1803,146.0863,5036,430.5,2,2.9147,2,2.91421,2,34.0145,2,34.0199,2,59.56,2,58.19,2,113.49,2,0.37,41.82,2,0.15,0.01,2,0.01,3.036,2,0.018,1.492,2,0.773,2,0.111,2,-999,9,2335.2,2,2329.3,2,7.3267,25,2,-999,9,-999,-999,9,-999,-999,9,-999,-999,9,-999,2.8881,27.1083
49NZ20070724,   P01,8,1,28, X12034,2,20070727,814,42.1803,146.0863,5036,530.3,2,3.0264,2,3.0258,2,34.1242,2,34.1279,6,39.48,2,39.2,2,122.75,2,0.39,42.84,2,0.15,0.01,2,0.01,3.09,2,0.018,1.037,2,0.533,2,0.081,2,-999,9,2349.4,2,2342,2,7.3156,25,2,-999,9,-999,-999,9,-999,-999,9,-999,-999,9,-999,2.9926,27.1866
49NZ20070724,   P01,8,1,27, X12049,2,20070727,814,42.1803,146.0863,5036,630.6,2,2.9346,2,2.93481,2,34.2098,2,34.2111,2,33.4,2,33.38,2,131.03,2,0.41,43.15,2,0.15,0.01,2,0.01,3.11,2,0.018,0.724,2,0.371,2,0.057,2,-999,9,2360.1,2,2354.4,2,7.3215,25,2,-999,9,-999,-999,9,-999,-999,9,-999,-999,9,-999,2.8943,27.2638
49NZ20070724,   P01,8,1,26, X12032,2,20070727,814,42.1803,146.0863,5036,729.5,2,2.9481,2,2.94734,2,34.2876,2,34.2866,2,35.45,2,35.21,2,135.25,2,0.42,42.82,2,0.15,0.01,2,0.01,3.091,2,0.018,0.511,6,0.259,6,0.042,6,-999,9,2362,6,2364.1,2,7.3424,25,2,-999,9,-999,-999,9,-999,-999,9,-999,-999,9,-999,2.9007,27.3253
49NZ20070724,   P01,8,1,25, X12043,2,20070727,814,42.1803,146.0863,5036,829.6,2,2.7722,2,2.77222,2,34.332,2,34.3319,2,33.7,2,33.53,2,141.56,2,0.43,43,2,0.15,0.01,2,0.01,3.098,2,0.018,0.398,2,0.208,2,0.036,2,-999,9,2370.1,2,2371.7,6,7.3462,25,2,-999,9,-999,-999,9,-999,-999,9,-999,-999,9,-999,2.7187,27.3769
49NZ20070724,   P01,8,1,24, X12030,2,20070727,814,42.1803,146.0863,5036,929.5,2,2.6685,2,2.66861,2,34.3786,2,34.3793,2,34.16,2,33.81,2,146.2,2,0.44,42.98,2,0.15,0.01,2,0.01,3.091,2,0.018,0.278,2,0.14,2,0.012,2,-999,9,2372.1,2,2379.9,2,7.3556,25,6,-999,9,-999,-999,9,-999,-999,9,-999,-999,9,-999,2.6085,27.4237
49NZ20070724,   P01,8,1,23, X12027,2,20070727,814,42.1803,146.0863,5036,1070.6,2,2.5386,2,2.53863,2,34.4339,2,34.435,6,37.87,2,37.42,2,150.49,2,0.45,42.89,2,0.15,0.01,2,0.01,3.076,2,0.018,0.165,2,0.086,2,0.01,2,-999,9,2377.7,2,2389.8,2,7.3691,25,2,-999,9,-999,-999,9,-999,-999,9,-999,-999,9,-999,2.4693,27.4799
49NZ20070724,   P01,8,1,22, X12028,2,20070727,814,42.1803,146.0863,5036,1269.3,2,2.3684,2,2.36824,2,34.4861,2,34.4838,3,44.3,2,44.01,2,155.36,2,0.46,42.57,2,0.15,0.01,2,0.01,3.05,2,0.018,0.112,2,0.06,2,0,2,-999,9,2379,2,2396.1,2,7.3878,25,2,-999,9,-999,-999,9,-999,-999,9,-999,-999,9,-999,2.2858,27.5369
49NZ20070724,   P01,8,1,21, X12009,2,20070727,814,42.1803,146.0863,5036,1467.9,2,2.2014,2,2.20114,2,34.5251,2,34.5249,2,51.87,2,51,2,158.66,2,0.47,42.29,2,0.15,0.01,2,0.01,3.019,2,0.017,0.058,2,0.028,2,0,2,-999,9,2379,2,2403.2,2,7.4041,25,2,-999,9,-999,-999,9,-999,-999,9,-999,-999,9,-999,2.1054,27.5828
49NZ20070724,   P01,8,1,20, X12026,2,20070727,814,42.1803,146.0863,5036,1670.4,2,2.082,2,2.08198,2,34.5591,2,34.5586,2,60.38,2,60.26,2,160.12,2,0.47,41.9,2,0.15,0.01,2,0.01,2.978,2,0.017,0.022,2,0.015,2,0,2,-999,9,2380.3,2,2409.4,2,7.4222,25,6,-999,9,-999,-999,9,-999,-999,9,-999,-999,9,-999,1.9715,27.6206
49NZ20070724,   P01,8,1,19, X12025,2,20070727,814,42.1803,146.0863,5036,1871.6,2,1.9591,2,1.95908,2,34.588,2,34.5875,2,71.84,2,71.76,2,160.38,2,0.47,41.3,2,0.15,0.01,2,0.01,2.927,2,0.017,0.004,2,0.005,2,0.006,2,-999,9,2374.2,2,2412.1,2,7.4461,25,2,-999,9,-999,-999,9,-999,-999,9,-999,-999,9,-999,1.834,27.6546
49NZ20070724,   P01,8,1,18, X12024,2,20070727,814,42.1803,146.0863,5036,2071.9,2,1.8614,2,1.8614,2,34.6081,2,34.6077,2,83.05,2,82.55,2,159.78,2,0.47,40.63,2,0.15,0.01,2,0.01,2.872,2,0.017,0.002,2,0.004,2,0,2,-999,9,2367.6,2,2414.5,2,7.468,25,2,-999,9,-999,-999,9,-999,-999,9,-999,-999,9,-999,1.7212,27.6793
49NZ20070724,   P01,8,1,17, X12023,3,20070727,814,42.1803,146.0863,5036,2271.9,2,1.7568,2,1.75672,2,34.6268,2,34.6265,2,95.84,2,95.52,2,158.72,2,0.47,39.81,2,0.14,0.01,2,0.01,2.812,2,0.017,0,2,0,2,0,2,-999,9,2360.9,2,2417.1,2,7.4922,25,2,-999,9,-999,-999,9,-999,-999,9,-999,-999,9,-999,1.6012,27.7032
49NZ20070724,   P01,8,1,16, X12022,2,20070727,814,42.1803,146.0863,5036,2471.5,2,1.6831,2,1.68299,2,34.6399,2,34.6397,6,106.15,2,105.95,2,157.12,2,0.46,39.2,2,0.14,0.01,2,0.01,2.762,2,0.017,0.001,2,0.001,2,0,2,-999,9,2354.5,6,2417.6,2,7.5106,25,2,-999,9,-999,-999,9,-999,-999,9,-999,-999,9,-999,1.5113,27.7203
49NZ20070724,   P01,8,1,15, X12021,2,20070727,814,42.1803,146.0863,5036,2669.1,2,1.6287,2,1.6287,2,34.6495,2,34.649,2,114.58,2,114.12,2,156.1,2,0.46,38.62,2,0.14,0,2,0.01,2.722,2,0.017,-999,9,-999,9,-999,9,-999,9,2350.2,2,2418.8,6,7.5264,25,2,-999,9,-999,-999,9,-999,-999,9,-999,-999,9,-999,1.4402,27.7332
49NZ20070724,   P01,8,1,14, X12020,2,20070727,814,42.1803,146.0863,5036,2870.7,2,1.5742,2,1.57412,2,34.6585,2,34.658,2,122.98,2,122.59,2,154.9,2,0.46,38.05,2,0.14,0.01,2,0.01,2.682,2,0.017,-999,9,-999,9,-999,9,-999,9,2346.6,2,2419.2,2,7.5417,25,6,-999,9,-999,-999,9,-999,-999,9,-999,-999,9,-999,1.3681,27.7456
49NZ20070724,   P01,8,1,13, X12019,2,20070727,814,42.1803,146.0863,5036,3080.1,2,1.5205,2,1.52042,2,34.6665,2,34.666,2,131.05,2,130.91,2,153.43,2,0.46,37.55,2,0.14,0,2,0.01,2.64,2,0.017,0.001,2,0.001,2,0.005,2,-999,9,2340.4,2,2418.7,2,7.5547,25,2,-999,9,-999,-999,9,-999,-999,9,-999,-999,9,-999,1.2956,27.7571
49NZ20070724,   P01,8,1,12, X12040,2,20070727,814,42.1803,146.0863,5036,3329.3,2,1.4741,2,1.47417,2,34.6743,2,34.6739,2,139.52,2,139.58,2,151.14,2,0.45,36.84,2,0.14,0.01,2,0.01,2.59,2,0.016,-999,9,-999,9,-999,9,-999,9,2332.8,2,2418.2,2,7.5712,25,2,-999,9,-999,-999,9,-999,-999,9,-999,-999,9,-999,1.2259,27.7683
49NZ20070724,   P01,8,1,11, X12047,2,20070727,814,42.1803,146.0863,5036,3580.7,2,1.4478,2,1.4478,2,34.6801,2,34.68,2,146,2,146.11,2,149.45,2,0.45,36.46,2,0.13,0.01,2,0.01,2.558,2,0.016,-999,9,-999,9,-999,9,-999,9,2330.1,2,2418.4,2,7.5808,25,2,-999,9,-999,-999,9,-999,-999,9,-999,-999,9,-999,1.1747,27.7765
49NZ20070724,   P01,8,1,10, X12010,2,20070727,814,42.1803,146.0863,5036,3831.1,2,1.4322,2,1.43225,2,34.6845,2,34.6843,6,151.48,2,151.63,2,147.52,2,0.44,36.1,2,0.13,0,2,0.01,2.528,2,0.016,0.002,2,0.001,2,0,2,-999,9,2324.8,2,2416.2,2,7.5898,25,2,-999,9,-999,-999,9,-999,-999,9,-999,-999,9,-999,1.1333,27.7829
49NZ20070724,   P01,8,1,9, X12015,2,20070727,814,42.1803,146.0863,5036,4079,2,1.4327,2,1.43271,2,34.6871,2,34.6871,2,155.07,2,155.09,2,145.49,2,0.44,35.77,2,0.13,0.01,2,0.01,2.523,2,0.016,-999,9,-999,9,-999,9,-999,9,2322.9,2,2416,2,7.5963,25,2,-999,9,-999,-999,9,-999,-999,9,-999,-999,9,-999,1.1071,27.7867
49NZ20070724,   P01,8,1,8, X12046,2,20070727,814,42.1803,146.0863,5036,4331.1,2,1.4415,2,1.44146,2,34.689,2,34.6893,2,157.86,2,158.26,2,144.72,2,0.44,35.66,2,0.13,0,2,0.01,2.49,2,0.016,-999,9,-999,9,-999,9,-999,9,2318.5,6,2416,2,7.5994,25,2,-999,9,-999,-999,9,-999,-999,9,-999,-999,9,-999,1.0876,27.7896
49NZ20070724,   P01,8,1,7, X12044,2,20070727,814,42.1803,146.0863,5036,4579.5,2,1.4591,2,1.45899,2,34.6902,2,34.6904,2,159.4,2,159.5,2,144.23,2,0.44,35.6,2,0.13,0,2,0.01,2.483,2,0.016,0,2,0.001,2,0,2,-999,9,2320.7,2,2414.7,6,7.6024,25,2,-999,9,-999,-999,9,-999,-999,9,-999,-999,9,-999,1.0762,27.7913
49NZ20070724,   P01,8,1,6, X12048,2,20070727,814,42.1803,146.0863,5036,4829.9,2,1.4823,2,1.48214,2,34.691,2,34.6911,2,160.03,2,160.06,2,144.5,2,0.44,35.55,2,0.13,0.01,2,0.01,2.487,2,0.016,-999,9,-999,9,-999,9,-999,9,2318.5,2,2414.9,2,7.6034,25,2,-999,9,-999,-999,9,-999,-999,9,-999,-999,9,-999,1.0691,27.7925
49NZ20070724,   P01,8,1,5, X12017,2,20070727,814,42.1803,146.0863,5036,5079,2,1.5062,2,1.50598,2,34.6918,2,34.6913,2,161.01,2,160.95,2,144.56,2,0.44,35.49,2,0.13,0.01,2,0.01,2.487,2,0.016,-999,9,-999,9,-999,9,-999,9,2318,2,2413.8,2,7.6032,25,2,-999,9,-999,-999,9,-999,-999,9,-999,-999,9,-999,1.0621,27.7935
49NZ20070724,   P01,8,1,4, X12928,9,20070727,814,42.1803,146.0863,5036,9.4,2,10.1394,2,10.13581,2,32.8427,2,-999,9,321.85,2,-999,9,-999,9,-999,-999,9,-999,-999,9,-999,-999,9,-999,-999,9,-999,9,-999,9,-999,9,-999,9,-999,9,-999,-999,9,-999,9,-999,-999,9,-999,-999,9,-999,-999,9,-999,10.1383,25.2446
49NZ20070724,   P01,8,1,3, X12931,9,20070727,814,42.1803,146.0863,5036,49.3,2,2.4682,2,2.46848,2,33.0801,2,-999,9,309.4,2,-999,9,-999,9,-999,-999,9,-999,-999,9,-999,-999,9,-999,-999,9,-999,9,-999,9,-999,9,-999,9,-999,9,-999,-999,9,-999,9,-999,-999,9,-999,-999,9,-999,-999,9,-999,2.4656,26.3975
49NZ20070724,   P01,8,1,2, X12930,9,20070727,814,42.1803,146.0863,5036,99.7,2,1.8445,2,1.84391,2,33.3052,2,-999,9,246.49,2,-999,9,-999,9,-999,-999,9,-999,-999,9,-999,-999,9,-999,-999,9,-999,9,-999,9,-999,9,-999,9,-999,9,-999,-999,9,-999,9,-999,-999,9,-999,-999,9,-999,-999,9,-999,1.8396,26.6258
49NZ20070724,   P01,8,1,1, X12929,2,20070727,814,42.1803,146.0863,5036,5133.6,2,1.5127,2,1.51251,2,34.6919,2,34.6912,6,161.09,2,160.92,2,144.89,2,0.44,35.47,2,0.13,0.01,2,0.01,2.485,2,0.016,0.002,2,0.002,2,0,2,-999,9,2317.8,2,2413.4,2,7.6039,25,2,-999,9,-999,-999,9,-999,-999,9,-999,-999,9,-999,1.0616,27.7936