BOTTLE,20081214JAMSTECIORGC,,,,,,,,,,,,,,,,,,,,,,,,,,,,,,,,,,,,,,,,,,,,,,,,,,,,,,,,,,,,,,,,,
EXPOCODE,SECT,STNNBR,CASTNO,SAMPNO,BTLNBR,BTLNBR_FLAG_W,DATE,TIME,LATITUDE,LONGITUDE,DEPTH,CTDPRS,CTDPRS_FLAG_W,CTDTMP,CTDTMP_FLAG_W,SBE35,SBE35_FLAG_W,CTDSAL,CTDSAL_FLAG_W,SALNTY,SALNTY_FLAG_W,CTDOXY,CTDOXY_FLAG_W,OXYGEN,OXYGEN_FLAG_W,SILCAT,SILCAT_FLAG_W,SILUNC,NITRAT,NITRAT_FLAG_W,NRAUNC,NITRIT,NITRIT_FLAG_W,NRIUNC,PHSPHT,PHSPHT_FLAG_W,PHPUNC,CFC-11,CFC-11_FLAG_W,CFC-12,CFC-12_FLAG_W,CFC113,CFC113_FLAG_W,CCL4,CCL4_FLAG_W,TCARBN,TCARBN_FLAG_W,ALKALI,ALKALI_FLAG_W,PH_TOT,PH_TMP,PH_FLAG_W,DELC13,DELC13_FLAG_W,C13ERR,DELC14,DELC14_FLAG_W,C14ERR,CS-137,CS-137_FLAG_W,CS137ER,PLUTO,PLUTO_FLAG_W,PLUTOER,THETA,SIG0
,,,,,,,,UTC,DEG,DEG,M,DBAR,,ITS-90,,ITS-90,,PSS-78,,PSS-78,,UMOL/KG,,UMOL/KG,,UMOL/KG,,UMOL/KG,UMOL/KG,,UMOL/KG,UMOL/KG,,UMOL/KG,UMOL/KG,,UMOL/KG,PMOL/KG,,PMOL/KG,,PMOL/KG,,PMOL/KG,,UMOL/KG,,UMOL/KG,,,ITS-90,,/MILLE,,/MILLE,/MILLE,,/MILLE,BQ/CUM,,BQ/CUM,MBQ/CUM,,MBQ/CUM,DEG C,KG/CUM
49NZ20070724,   P01,66,1,0,-999,9,20070816,802,47.0052,-174.9547,5787,-999,9,-999,9,-999,9,-999,9,32.6203,2,-999,9,-999,9,-999,9,-999,-999,9,-999,-999,9,-999,-999,9,-999,-999,9,-999,9,-999,9,-999,9,-999,9,-999,9,-999,-999,9,-999,9,-999,-999,9,-999,-999,9,-999,-999,9,-999,-999,-999
49NZ20070724,   P01,66,1,36, X12042,2,20070816,802,47.0052,-174.9547,5787,9.5,2,13.5398,2,13.55268,2,32.6273,2,32.6284,2,282.94,2,277.8,2,17.63,2,0.16,8.7,2,0.06,0.14,2,0.01,0.972,2,0.013,3.088,2,1.779,2,0.279,2,-999,9,1998.1,2,2206.2,2,7.9173,25,6,-999,1,-999,-999,1,-999,-999,9,-999,-999,9,-999,13.5385,24.4482
49NZ20070724,   P01,66,1,35, X12041,2,20070816,802,47.0052,-174.9547,5787,50.3,2,5.6035,2,5.58058,2,33.0823,2,33.0783,2,311.22,2,313.46,2,26.28,2,0.18,15.56,2,0.08,0.37,2,0,1.438,2,0.014,4.519,2,2.522,2,0.378,2,-999,9,2082.5,6,2229.8,2,7.7775,25,2,-999,1,-999,-999,1,-999,-999,9,-999,-999,9,-999,5.5995,26.086
49NZ20070724,   P01,66,1,34, X12036,2,20070816,802,47.0052,-174.9547,5787,99.9,2,4.885,2,4.88417,2,33.1311,2,33.1311,2,305.31,2,307.18,2,27.59,2,0.18,17.43,2,0.08,0.17,2,0.01,1.494,2,0.014,4.593,2,2.575,2,0.394,2,-999,9,2092.8,2,2231.8,6,7.753,25,2,-999,1,-999,-999,1,-999,-999,9,-999,-999,9,-999,4.8777,26.2073
49NZ20070724,   P01,66,1,33, X12033,2,20070816,802,47.0052,-174.9547,5787,150.5,2,4.519,2,4.51807,2,33.5315,2,33.5433,2,234.16,2,234.71,2,42.91,2,0.21,25.14,2,0.1,0.02,2,0.01,1.936,2,0.015,4.038,6,2.211,6,0.296,6,-999,9,2164.7,2,2259.9,2,7.6268,25,6,-999,1,-999,-999,1,-999,-999,9,-999,-999,9,-999,4.5082,26.5652
49NZ20070724,   P01,66,1,32, X12038,2,20070816,802,47.0052,-174.9547,5787,199.6,2,3.8542,2,3.85456,2,33.6893,2,33.7036,2,152.68,2,150.6,2,65.36,2,0.26,33.51,2,0.13,0.01,2,0.01,2.486,2,0.016,3.27,2,1.717,2,0.234,2,-999,9,2242.1,2,2279.8,2,7.4686,25,2,-999,1,-999,-999,1,-999,-999,9,-999,-999,9,-999,3.8408,26.7596
49NZ20070724,   P01,66,1,31, X12003,2,20070816,802,47.0052,-174.9547,5787,249.4,2,3.7771,2,3.777,2,33.7993,2,33.8071,6,106.45,2,107.01,2,77.65,2,0.29,37.39,2,0.14,0.01,2,0.01,2.729,2,0.017,2.685,2,1.384,2,0.186,2,-999,9,2275.5,2,2290.1,2,7.3993,25,2,-999,1,-999,-999,1,-999,-999,9,-999,-999,9,-999,3.7604,26.855
49NZ20070724,   P01,66,1,30, X12008,2,20070816,802,47.0052,-174.9547,5787,300,2,3.7285,2,3.72829,2,33.882,2,33.8875,2,79.67,2,80.02,2,86.76,2,0.31,39.65,2,0.14,0.01,2,0.01,2.864,2,0.017,2.219,2,1.138,2,0.155,2,-999,9,2297.9,2,2301.6,2,7.3608,25,2,-999,1,-999,-999,1,-999,-999,9,-999,-999,9,-999,3.7084,26.926
49NZ20070724,   P01,66,1,29, X12035,2,20070816,802,47.0052,-174.9547,5787,400.2,2,3.9252,2,3.92486,2,34.0573,2,34.0611,2,53.49,2,53.94,2,98.9,2,0.34,40.84,2,0.15,0.01,2,0.01,2.947,2,0.017,1.331,2,0.674,2,0.089,2,-999,9,2317.5,2,2321.5,2,7.3547,25,2,-999,1,-999,-999,1,-999,-999,9,-999,-999,9,-999,3.8973,27.0467
49NZ20070724,   P01,66,1,28, X12034,2,20070816,802,47.0052,-174.9547,5787,500.9,2,3.672,2,3.6712,2,34.1292,2,34.1295,6,35.65,2,34.99,2,110.43,2,0.36,42.67,2,0.15,0.01,2,0.01,3.061,2,0.018,0.929,2,0.46,2,0.061,2,-999,9,2339.8,2,2334.7,2,7.3277,25,2,-999,1,-999,-999,1,-999,-999,9,-999,-999,9,-999,3.6376,27.1298
49NZ20070724,   P01,66,1,27, X12049,2,20070816,802,47.0052,-174.9547,5787,600.3,2,3.5243,2,3.52396,2,34.2016,2,34.2029,2,30.43,2,30.5,2,118.58,2,0.38,42.9,2,0.15,0.01,2,0.01,3.08,2,0.018,0.63,2,0.309,2,0.046,2,-999,9,2349,2,2345.9,2,7.3332,25,2,-999,1,-999,-999,1,-999,-999,9,-999,-999,9,-999,3.4833,27.2025
49NZ20070724,   P01,66,1,26, X12032,2,20070816,802,47.0052,-174.9547,5787,701,2,3.3212,2,3.3216,2,34.2618,2,34.2629,2,26.94,2,26.82,2,126.91,2,0.4,43.21,2,0.15,0,2,0.01,3.106,2,0.018,0.42,6,0.205,6,0.026,6,-999,9,2360.1,6,2356.6,2,7.3313,25,2,-999,1,-999,-999,1,-999,-999,9,-999,-999,9,-999,3.2738,27.2705
49NZ20070724,   P01,66,1,25, X12043,2,20070816,802,47.0052,-174.9547,5787,799.4,2,3.1387,2,3.13858,2,34.3169,2,34.3187,2,26.26,2,26.59,2,133.41,2,0.41,43.36,2,0.15,0.01,2,0.01,3.121,2,0.018,0.265,2,0.131,2,0.018,2,-999,9,2369.5,2,2366.6,6,7.3402,25,2,-999,1,-999,-999,1,-999,-999,9,-999,-999,9,-999,3.0851,27.332
49NZ20070724,   P01,66,1,24, X12030,2,20070816,802,47.0052,-174.9547,5787,899,2,2.9967,2,2.99638,2,34.3607,2,34.3603,2,28.1,2,27.92,2,137.83,2,0.42,43.15,2,0.15,0.01,2,0.01,3.105,2,0.018,0.184,2,0.089,2,0.012,2,-999,9,2372.7,2,2374,2,7.3498,25,6,-999,1,-999,-999,1,-999,-999,9,-999,-999,9,-999,2.9366,27.3805
49NZ20070724,   P01,66,1,23, X12027,2,20070816,802,47.0052,-174.9547,5787,999.3,2,2.8172,2,2.81749,2,34.3921,2,34.3918,6,25.96,2,26.21,2,144.15,2,0.44,43.49,2,0.15,0,2,0.01,3.118,2,0.018,0.134,2,0.067,2,0.009,2,-999,9,2381,2,2380.8,2,7.3455,25,2,-999,1,-999,-999,1,-999,-999,9,-999,-999,9,-999,2.751,27.4221
49NZ20070724,   P01,66,1,22, X12028,2,20070816,802,47.0052,-174.9547,5787,1200.6,2,2.5474,2,2.54729,2,34.4487,2,34.4487,2,29.19,2,29.1,2,152.74,2,0.46,43.43,2,0.15,0.01,2,0.01,3.119,2,0.018,0.067,2,0.031,2,0.008,2,-999,9,2384.8,2,2390.8,2,7.3574,25,2,-999,1,-999,-999,1,-999,-999,9,-999,-999,9,-999,2.4683,27.4917
49NZ20070724,   P01,66,1,21, X12009,2,20070816,802,47.0052,-174.9547,5787,1401.4,2,2.346,2,2.34585,2,34.494,2,34.4941,2,35.77,2,35.71,2,158.15,2,0.47,43.21,2,0.15,0,2,0.01,3.085,2,0.018,0.04,2,0.016,2,0.004,2,-999,9,2389.8,2,2398.9,2,7.3723,25,2,-999,1,-999,-999,1,-999,-999,9,-999,-999,9,-999,2.2536,27.5459
49NZ20070724,   P01,66,1,20, X12026,2,20070816,802,47.0052,-174.9547,5787,1601.1,2,2.1706,2,2.1706,2,34.5336,2,34.5332,2,43.94,2,43.81,2,162.41,2,0.48,42.85,2,0.15,0.01,2,0.01,3.051,2,0.018,0.015,2,0.006,2,0.006,2,-999,9,2390.6,2,2404.7,2,7.3915,25,6,-999,1,-999,-999,1,-999,-999,9,-999,-999,9,-999,2.0646,27.5929
49NZ20070724,   P01,66,1,19, X12025,2,20070816,802,47.0052,-174.9547,5787,1800.7,2,2.0328,2,2.03265,2,34.5649,2,34.5647,2,53.84,2,53.41,2,164.65,2,0.48,42.31,2,0.15,0,2,0.01,3.008,2,0.017,0.004,2,0.001,2,0,2,-999,9,2388.3,2,2410.6,2,7.4122,25,2,-999,1,-999,-999,1,-999,-999,9,-999,-999,9,-999,1.9125,27.6299
49NZ20070724,   P01,66,1,18, X12024,2,20070816,802,47.0052,-174.9547,5787,2000.7,2,1.9219,2,1.92187,2,34.5889,2,34.5888,2,63.9,2,63.47,2,166.32,2,0.48,41.74,2,0.15,0,2,0.01,2.962,2,0.017,0.002,2,0.001,2,0,2,-999,9,2385,2,2413.4,2,7.4314,25,2,-999,1,-999,-999,1,-999,-999,9,-999,-999,9,-999,1.7867,27.6589
49NZ20070724,   P01,66,1,17, X12023,2,20070816,802,47.0052,-174.9547,5787,2199.8,2,1.8302,2,1.83009,2,34.6079,2,34.6077,2,74.51,2,74.02,2,166.84,2,0.49,41.16,2,0.15,0.01,2,0.01,2.916,2,0.017,0,2,0,2,0,2,-999,9,2378.8,2,2416.2,2,7.4533,25,2,-999,1,-999,-999,1,-999,-999,9,-999,-999,9,-999,1.6796,27.6822
49NZ20070724,   P01,66,1,16, X12022,2,20070816,802,47.0052,-174.9547,5787,2400.4,2,1.7408,2,1.7408,2,34.6255,2,34.6253,2,85.35,2,84.96,2,166.71,2,0.49,40.61,2,0.15,0.01,2,0.01,2.869,2,0.017,-999,9,-999,9,-999,9,-999,9,2372.1,6,2418.7,2,7.4746,25,2,-999,1,-999,-999,1,-999,-999,9,-999,-999,9,-999,1.5743,27.7042
49NZ20070724,   P01,66,1,15, X12021,2,20070816,802,47.0052,-174.9547,5787,2600.9,2,1.6838,2,1.6838,2,34.6368,2,34.6367,6,94.73,2,94.4,2,165.46,2,0.48,39.89,2,0.14,0.01,2,0.01,2.821,2,0.017,-999,9,-999,9,-999,9,-999,9,2366.1,2,2420.2,6,7.4908,25,2,-999,1,-999,-999,1,-999,-999,9,-999,-999,9,-999,1.5004,27.7186
49NZ20070724,   P01,66,1,14, X12020,2,20070816,802,47.0052,-174.9547,5787,2801.1,2,1.6293,2,1.62923,2,34.647,2,34.647,2,104.44,2,104.24,2,163.98,2,0.48,39.17,2,0.14,0.01,2,0.01,2.779,2,0.017,0,2,0,2,0,2,-999,9,2358.6,2,2420.6,2,7.51,25,2,-999,1,-999,-999,1,-999,-999,9,-999,-999,9,-999,1.4286,27.732
49NZ20070724,   P01,66,1,13, X12019,2,20070816,802,47.0052,-174.9547,5787,3000.4,2,1.5878,2,1.58772,2,34.6553,2,34.6553,2,112.74,2,112.8,2,162.23,2,0.48,38.71,2,0.14,0.01,2,0.01,2.737,2,0.017,-999,9,-999,9,-999,9,-999,9,2354.3,2,2420.9,2,7.526,25,2,-999,1,-999,-999,1,-999,-999,9,-999,-999,9,-999,1.3691,27.743
49NZ20070724,   P01,66,1,12, X12040,2,20070816,802,47.0052,-174.9547,5787,3250.3,2,1.5428,2,1.54274,2,34.6641,2,34.6641,2,123.11,2,122.79,2,159.67,2,0.47,37.93,2,0.14,0.01,2,0.01,2.683,2,0.017,-999,9,-999,9,-999,9,-999,9,2348.6,2,2421,2,7.5436,25,2,-999,1,-999,-999,1,-999,-999,9,-999,-999,9,-999,1.3008,27.7549
49NZ20070724,   P01,66,1,11, X12047,2,20070816,802,47.0052,-174.9547,5787,3501.7,2,1.5137,2,1.5136,2,34.6709,2,34.6708,2,131.51,2,131.38,2,157.57,2,0.47,37.44,2,0.14,0.01,2,0.01,2.638,2,0.017,0,2,0,2,0,2,-999,9,2342.8,2,2420.2,2,7.5587,25,2,-999,1,-999,-999,1,-999,-999,9,-999,-999,9,-999,1.2471,27.7641
49NZ20070724,   P01,66,1,10, X12010,2,20070816,802,47.0052,-174.9547,5787,3749.4,2,1.4892,2,1.48911,2,34.6768,2,34.677,2,138.49,2,138.62,2,156.1,2,0.46,36.95,2,0.14,0.01,2,0.01,2.601,2,0.016,-999,9,-999,9,-999,9,-999,9,2337.3,2,2421.6,2,7.5716,25,2,-999,1,-999,-999,1,-999,-999,9,-999,-999,9,-999,1.1975,27.7723
49NZ20070724,   P01,66,1,9, X12015,2,20070816,802,47.0052,-174.9547,5787,4000.4,2,1.4801,2,1.48019,2,34.6811,2,34.6809,2,143.61,2,143.64,2,155.33,2,0.46,36.63,2,0.14,0.01,2,0.01,2.572,2,0.016,-999,9,-999,9,-999,9,-999,9,2334,2,2421.3,2,7.5816,25,2,-999,1,-999,-999,1,-999,-999,9,-999,-999,9,-999,1.1617,27.7782
49NZ20070724,   P01,66,1,8, X12046,2,20070816,802,47.0052,-174.9547,5787,4249.4,2,1.4811,2,1.48118,2,34.6843,2,34.6842,6,147.35,2,147.44,2,155.24,2,0.46,36.35,2,0.13,0.01,2,0.01,2.554,2,0.016,0,2,0,2,0,2,-999,9,2331.3,6,2422.2,2,7.589,25,2,-999,1,-999,-999,1,-999,-999,9,-999,-999,9,-999,1.1352,27.7826
49NZ20070724,   P01,66,1,7, X12044,2,20070816,802,47.0052,-174.9547,5787,4500.4,2,1.4924,2,1.49246,2,34.6866,2,34.6866,2,149.58,2,149.74,2,156.36,2,0.46,36.31,2,0.13,0.01,2,0.01,2.547,2,0.016,-999,9,-999,9,-999,9,-999,9,2333,2,2422.7,2,7.5937,25,2,-999,1,-999,-999,1,-999,-999,9,-999,-999,9,-999,1.1176,27.7856
49NZ20070724,   P01,66,1,6, X12048,2,20070816,802,47.0052,-174.9547,5787,4750.3,2,1.5156,2,1.5156,2,34.6876,2,34.6877,2,150.3,2,150.64,2,157.73,2,0.47,36.18,2,0.13,0.01,2,0.01,2.542,2,0.016,-999,9,-999,9,-999,9,-999,9,2330.7,2,2423.3,2,7.5967,25,6,-999,1,-999,-999,1,-999,-999,9,-999,-999,9,-999,1.1109,27.7869
49NZ20070724,   P01,66,1,5, X12017,2,20070816,802,47.0052,-174.9547,5787,5000.5,2,1.5422,2,1.54221,2,34.6882,2,34.6878,2,151.13,2,151.47,2,158.36,2,0.47,36.15,2,0.13,0.01,2,0.01,2.536,2,0.016,0.001,2,0.003,2,0,2,-999,9,2331.7,2,2424.5,2,7.5976,25,2,-999,1,-999,-999,1,-999,-999,9,-999,-999,9,-999,1.1065,27.7877
49NZ20070724,   P01,66,1,4, X12928,2,20070816,802,47.0052,-174.9547,5787,5249.6,2,1.5724,2,1.5724,2,34.6885,2,34.6888,2,151.58,2,151.7,2,158.3,2,0.47,36.07,2,0.13,0.01,2,0.01,2.531,2,0.016,-999,9,-999,9,-999,9,-999,9,2330.3,2,2424.7,2,7.5981,25,2,-999,1,-999,-999,1,-999,-999,9,-999,-999,9,-999,1.1049,27.788
49NZ20070724,   P01,66,1,3, X12931,2,20070816,802,47.0052,-174.9547,5787,5500,2,1.6037,2,1.60367,2,34.6887,2,34.6886,2,152.09,2,152.2,2,158.85,2,0.47,36.15,2,0.13,0.01,2,0.01,2.532,2,0.016,0.002,2,0.003,2,0.003,2,-999,9,2330.6,2,2423,2,7.5986,25,2,-999,1,-999,-999,1,-999,-999,9,-999,-999,9,-999,1.1034,27.7883
49NZ20070724,   P01,66,1,2, X12930,2,20070816,802,47.0052,-174.9547,5787,5750,2,1.6366,2,1.63651,2,34.6888,2,34.689,2,152.52,2,152.5,2,158.8,2,0.47,36.09,2,0.13,0.01,2,0.01,2.531,2,0.016,-999,9,-999,9,-999,9,-999,9,2329.9,2,2423.9,2,7.5996,25,2,-999,1,-999,-999,1,-999,-999,9,-999,-999,9,-999,1.1026,27.7884
49NZ20070724,   P01,66,1,1, X12929,2,20070816,802,47.0052,-174.9547,5787,5852.7,2,1.65,2,1.64977,2,34.6887,2,34.6889,6,152.8,2,152.65,2,157.85,2,0.47,36.06,2,0.13,0.01,2,0.01,2.527,2,0.016,0,2,0.001,2,0.003,2,-999,9,2329,2,2422.7,2,7.5991,25,2,-999,1,-999,-999,1,-999,-999,9,-999,-999,9,-999,1.102,27.7884