BOTTLE,20081214JAMSTECIORGC,,,,,,,,,,,,,,,,,,,,,,,,,,,,,,,,,,,,,,,,,,,,,,,,,,,,,,,,,,,,,,,,,
EXPOCODE,SECT,STNNBR,CASTNO,SAMPNO,BTLNBR,BTLNBR_FLAG_W,DATE,TIME,LATITUDE,LONGITUDE,DEPTH,CTDPRS,CTDPRS_FLAG_W,CTDTMP,CTDTMP_FLAG_W,SBE35,SBE35_FLAG_W,CTDSAL,CTDSAL_FLAG_W,SALNTY,SALNTY_FLAG_W,CTDOXY,CTDOXY_FLAG_W,OXYGEN,OXYGEN_FLAG_W,SILCAT,SILCAT_FLAG_W,SILUNC,NITRAT,NITRAT_FLAG_W,NRAUNC,NITRIT,NITRIT_FLAG_W,NRIUNC,PHSPHT,PHSPHT_FLAG_W,PHPUNC,CFC-11,CFC-11_FLAG_W,CFC-12,CFC-12_FLAG_W,CFC113,CFC113_FLAG_W,CCL4,CCL4_FLAG_W,TCARBN,TCARBN_FLAG_W,ALKALI,ALKALI_FLAG_W,PH_TOT,PH_TMP,PH_FLAG_W,DELC13,DELC13_FLAG_W,C13ERR,DELC14,DELC14_FLAG_W,C14ERR,CS-137,CS-137_FLAG_W,CS137ER,PLUTO,PLUTO_FLAG_W,PLUTOER,THETA,SIG0
,,,,,,,,UTC,DEG,DEG,M,DBAR,,ITS-90,,ITS-90,,PSS-78,,PSS-78,,UMOL/KG,,UMOL/KG,,UMOL/KG,,UMOL/KG,UMOL/KG,,UMOL/KG,UMOL/KG,,UMOL/KG,UMOL/KG,,UMOL/KG,PMOL/KG,,PMOL/KG,,PMOL/KG,,PMOL/KG,,UMOL/KG,,UMOL/KG,,,ITS-90,,/MILLE,,/MILLE,/MILLE,,/MILLE,BQ/CUM,,BQ/CUM,MBQ/CUM,,MBQ/CUM,DEG C,KG/CUM
49NZ20070724,   P01,13,1,0,-999,9,20070728,1723,41.3573,146.686,5475,-999,9,-999,9,-999,9,-999,9,32.7246,2,-999,9,-999,9,-999,9,-999,-999,9,-999,-999,9,-999,-999,9,-999,-999,9,-999,9,-999,9,-999,9,-999,9,-999,9,-999,-999,9,-999,9,-999,-999,9,-999,-999,9,-999,-999,9,-999,-999,-999
49NZ20070724,   P01,13,1,36, X12042,2,20070728,1723,41.3573,146.686,5475,9.2,2,12.058,2,12.07467,2,32.7376,2,32.7501,2,294.55,2,293.12,2,8.82,2,0.14,8.9,2,0.06,0.15,2,0.01,1.096,2,0.013,3.619,2,2.001,2,0.262,2,-999,9,-999,9,-999,9,-999,-999,9,-999,9,-999,-999,9,-999,-999,9,-999,-999,9,-999,12.0568,24.8217
49NZ20070724,   P01,13,1,35, X12041,2,20070728,1723,41.3573,146.686,5475,50.3,2,3.5395,2,3.54125,2,33.0064,2,33.0196,2,321.66,2,326.07,2,31.03,2,0.19,19.12,2,0.09,0.36,2,0,1.745,2,0.014,5.072,2,2.703,2,0.353,2,-999,9,-999,9,-999,9,-999,-999,9,-999,9,-999,-999,9,-999,-999,9,-999,-999,9,-999,3.5364,26.2453
49NZ20070724,   P01,13,1,34, X12036,2,20070728,1723,41.3573,146.686,5475,100.4,2,1.7822,2,1.78195,2,33.213,2,33.2404,2,270.13,2,268.52,2,53.9,2,0.24,29.14,2,0.11,0.03,2,0.01,2.245,2,0.016,4.697,2,2.506,2,0.331,2,-999,9,-999,9,-999,9,-999,-999,9,-999,9,-999,-999,9,-999,-999,9,-999,-999,9,-999,1.7773,26.5565
49NZ20070724,   P01,13,1,33, X12033,2,20070728,1723,41.3573,146.686,5475,150.5,2,2.1931,2,2.1934,2,33.434,2,33.4464,2,196.51,2,197.35,2,69.19,2,0.27,34.21,2,0.13,0.02,2,0.01,2.561,2,0.016,3.862,6,2.037,6,0.264,6,-999,9,-999,9,-999,9,-999,-999,9,-999,9,-999,-999,9,-999,-999,9,-999,-999,9,-999,2.1852,26.7029
49NZ20070724,   P01,13,1,32, X12038,2,20070728,1723,41.3573,146.686,5475,199.3,2,2.5797,2,2.58065,2,33.6021,2,33.6208,2,143.61,2,139.04,2,81.31,2,0.3,37.81,2,0.14,0.02,2,0.01,2.784,2,0.017,3.113,2,1.627,2,0.201,2,-999,9,-999,9,-999,9,-999,-999,9,-999,9,-999,-999,9,-999,-999,9,-999,-999,9,-999,2.5684,26.8064
49NZ20070724,   P01,13,1,31, X12003,2,20070728,1723,41.3573,146.686,5475,249.7,2,3.093,2,3.09295,2,33.7519,2,33.7552,6,90.23,2,91.16,2,90.25,2,0.32,40.88,2,0.15,0.02,2,0.01,2.964,2,0.017,2.492,2,1.28,2,0.176,2,-999,9,-999,9,-999,9,-999,-999,9,-999,9,-999,-999,9,-999,-999,9,-999,-999,9,-999,3.0777,26.8818
49NZ20070724,   P01,13,1,30, X12008,2,20070728,1723,41.3573,146.686,5475,300.3,2,3.2549,2,3.25474,2,33.8692,2,33.8706,2,59.63,2,62.73,2,98.93,2,0.34,42.44,2,0.15,0.02,2,0.01,3.057,2,0.018,2.051,2,1.047,2,0.131,2,-999,9,-999,9,-999,9,-999,-999,9,-999,9,-999,-999,9,-999,-999,9,-999,-999,9,-999,3.2359,26.9609
49NZ20070724,   P01,13,1,29, X12035,2,20070728,1723,41.3573,146.686,5475,399.4,2,3.213,2,3.21296,2,33.9943,2,34.0007,2,44.48,2,44.57,2,109.68,2,0.36,43.19,2,0.15,0.02,2,0.01,3.114,2,0.018,1.44,2,0.73,2,0.106,2,-999,9,-999,9,-999,9,-999,-999,9,-999,9,-999,-999,9,-999,-999,9,-999,-999,9,-999,3.1875,27.0651
49NZ20070724,   P01,13,1,28, X12034,2,20070728,1723,41.3573,146.686,5475,499.5,2,3.0611,2,3.0657,2,34.097,2,34.1005,6,44.35,2,44.71,2,120.12,2,0.38,42.64,2,0.15,0.01,2,0.01,3.081,2,0.018,1.125,2,0.569,2,0.079,2,-999,9,-999,9,-999,9,-999,-999,9,-999,9,-999,-999,9,-999,-999,9,-999,-999,9,-999,3.0293,27.1616
49NZ20070724,   P01,13,1,27, X12049,2,20070728,1723,41.3573,146.686,5475,601.6,2,2.9981,2,2.99735,2,34.2008,2,34.2061,2,35.73,2,36.03,2,129.07,2,0.4,42.99,2,0.15,0.01,2,0.01,3.099,2,0.018,0.732,2,0.367,2,0.048,2,-999,9,-999,9,-999,9,-999,-999,9,-999,9,-999,-999,9,-999,-999,9,-999,-999,9,-999,2.9595,27.2508
49NZ20070724,   P01,13,1,26, X12032,2,20070728,1723,41.3573,146.686,5475,701.3,2,2.7996,2,2.79942,2,34.2561,2,34.2567,2,35.1,2,35.16,2,136.87,2,0.42,43.15,2,0.15,0.01,2,0.01,3.109,2,0.018,0.613,6,0.307,6,0.041,6,-999,9,-999,9,-999,9,-999,-999,9,-999,9,-999,-999,9,-999,-999,9,-999,-999,9,-999,2.755,27.3131
49NZ20070724,   P01,13,1,25, X12043,2,20070728,1723,41.3573,146.686,5475,802.3,2,2.7176,2,2.71765,2,34.3117,2,34.3121,2,35.18,2,35.4,2,141.88,2,0.43,43.12,2,0.15,0.02,2,0.01,3.11,2,0.018,0.462,2,0.228,2,0.04,2,-999,9,-999,9,-999,9,-999,-999,9,-999,9,-999,-999,9,-999,-999,9,-999,-999,9,-999,2.6664,27.3652
49NZ20070724,   P01,13,1,24, X12030,2,20070728,1723,41.3573,146.686,5475,900.9,2,2.6402,2,2.64027,2,34.3683,2,34.3672,2,36.89,2,37.08,2,145.97,2,0.44,42.83,2,0.15,0.01,2,0.01,3.08,2,0.018,0.336,2,0.169,2,0.016,2,-999,9,-999,9,-999,9,-999,-999,9,-999,9,-999,-999,9,-999,-999,9,-999,-999,9,-999,2.5825,27.4178
49NZ20070724,   P01,13,1,23, X12027,2,20070728,1723,41.3573,146.686,5475,1000.1,2,2.5331,2,2.53259,2,34.4026,2,34.4055,6,38.38,2,38.93,2,149.65,2,0.45,42.79,2,0.15,0.01,2,0.01,3.073,2,0.018,0.255,2,0.127,2,0.018,2,-999,9,-999,9,-999,9,-999,-999,9,-999,9,-999,-999,9,-999,-999,9,-999,-999,9,-999,2.469,27.4548
49NZ20070724,   P01,13,1,22, X12028,2,20070728,1723,41.3573,146.686,5475,1201.4,2,2.4345,2,2.43435,2,34.4723,2,34.4731,2,41.9,2,42.31,2,153.63,2,0.46,42.8,2,0.15,0.01,2,0.01,3.065,2,0.018,0.113,2,0.053,2,0.008,2,-999,9,-999,9,-999,9,-999,-999,9,-999,9,-999,-999,9,-999,-999,9,-999,-999,9,-999,2.3564,27.52
49NZ20070724,   P01,13,1,21, X12009,2,20070728,1723,41.3573,146.686,5475,1400.7,2,2.3018,2,2.30213,2,34.5137,2,34.5133,2,47.37,2,47.63,2,156.75,2,0.46,42.63,2,0.15,0.01,2,0.01,3.046,2,0.018,0.048,2,0.024,2,0.008,2,-999,9,-999,9,-999,9,-999,-999,9,-999,9,-999,-999,9,-999,-999,9,-999,-999,9,-999,2.2099,27.5653
49NZ20070724,   P01,13,1,20, X12026,2,20070728,1723,41.3573,146.686,5475,1599.6,2,2.1671,2,2.16719,2,34.5497,2,34.5496,2,56.67,2,56.79,2,157.89,2,0.47,42.1,2,0.15,0.01,2,0.01,2.99,2,0.017,-999,5,-999,5,-999,5,-999,9,-999,9,-999,9,-999,-999,9,-999,9,-999,-999,9,-999,-999,9,-999,-999,9,-999,2.0612,27.6061
49NZ20070724,   P01,13,1,19, X12025,2,20070728,1723,41.3573,146.686,5475,1800.1,2,2.0129,2,2.01293,2,34.5812,2,34.581,2,68.96,2,68.7,2,158.82,2,0.47,41.41,2,0.15,0.01,2,0.01,2.932,2,0.017,0.026,2,0.006,2,0.007,2,-999,9,-999,9,-999,9,-999,-999,9,-999,9,-999,-999,9,-999,-999,9,-999,-999,9,-999,1.8929,27.6445
49NZ20070724,   P01,13,1,18, X12024,2,20070728,1723,41.3573,146.686,5475,2000,2,1.9164,2,1.91627,2,34.5998,2,34.5997,2,78.75,2,78.37,2,159.56,2,0.47,40.92,2,0.15,0.01,2,0.01,2.892,2,0.017,0.002,2,0,2,0,2,-999,9,-999,9,-999,9,-999,-999,9,-999,9,-999,-999,9,-999,-999,9,-999,-999,9,-999,1.7813,27.668
49NZ20070724,   P01,13,1,17, X12023,3,20070728,1723,41.3573,146.686,5475,2201.2,2,1.7971,2,1.79712,2,34.6197,2,34.6196,2,90.4,2,90.12,2,159.65,2,0.47,40.28,2,0.15,0.01,2,0.01,2.84,2,0.017,0,2,0,2,0,2,-999,9,-999,9,-999,9,-999,-999,9,-999,9,-999,-999,9,-999,-999,9,-999,-999,9,-999,1.6469,27.6942
49NZ20070724,   P01,13,1,16, X12022,2,20070728,1723,41.3573,146.686,5475,2400.3,2,1.7158,2,1.71574,2,34.6338,2,34.6339,2,100.01,2,99.86,2,158.63,2,0.47,39.56,2,0.14,0.01,2,0.01,2.784,2,0.017,-999,9,-999,9,-999,9,-999,9,-999,9,-999,9,-999,-999,9,-999,9,-999,-999,9,-999,-999,9,-999,-999,9,-999,1.5497,27.7127
49NZ20070724,   P01,13,1,15, X12021,2,20070728,1723,41.3573,146.686,5475,2599.9,2,1.6538,2,1.65381,2,34.6448,2,34.6448,6,109.22,2,109.08,2,157.75,2,0.47,39.14,2,0.14,0.01,2,0.01,2.749,2,0.017,-999,9,-999,9,-999,9,-999,9,-999,9,-999,9,-999,-999,9,-999,9,-999,-999,9,-999,-999,9,-999,-999,9,-999,1.4711,27.7272
49NZ20070724,   P01,13,1,14, X12020,2,20070728,1723,41.3573,146.686,5475,2800.3,2,1.6132,2,1.61315,2,34.6528,2,34.653,2,116.82,2,116.58,2,155.78,2,0.46,38.48,2,0.14,0.01,2,0.01,2.705,2,0.017,0,2,0,2,0,2,-999,9,-999,9,-999,9,-999,-999,9,-999,9,-999,-999,9,-999,-999,9,-999,-999,9,-999,1.4129,27.7378
49NZ20070724,   P01,13,1,13, X12019,2,20070728,1723,41.3573,146.686,5475,2999.8,2,1.5676,2,1.56759,2,34.6609,2,34.6611,2,124.84,2,124.78,2,154.14,2,0.46,38.09,2,0.14,0.01,2,0.01,2.671,2,0.017,-999,9,-999,9,-999,9,-999,9,-999,9,-999,9,-999,-999,9,-999,9,-999,-999,9,-999,-999,9,-999,-999,9,-999,1.3494,27.7489
49NZ20070724,   P01,13,1,12, X12040,2,20070728,1723,41.3573,146.686,5475,3251.7,2,1.5313,2,1.53127,2,34.6678,2,34.6681,2,131.34,2,131.22,2,152.62,2,0.45,37.51,2,0.14,0.01,2,0.01,2.628,2,0.017,-999,9,-999,9,-999,9,-999,9,-999,9,-999,9,-999,-999,9,-999,9,-999,-999,9,-999,-999,9,-999,-999,9,-999,1.2894,27.7587
49NZ20070724,   P01,13,1,11, X12047,2,20070728,1723,41.3573,146.686,5475,3500.7,2,1.5036,2,1.50363,2,34.6737,2,34.6737,2,137.74,2,137.86,2,151.27,2,0.45,37.11,2,0.14,0.01,2,0.01,2.594,2,0.016,0,2,0,2,0,2,-999,9,-999,9,-999,9,-999,-999,9,-999,9,-999,-999,9,-999,-999,9,-999,-999,9,-999,1.2373,27.767
49NZ20070724,   P01,13,1,10, X12010,2,20070728,1723,41.3573,146.686,5475,3750.3,2,1.4903,2,1.49037,2,34.6778,2,34.6779,2,142.48,2,142.61,2,150.06,2,0.45,36.83,2,0.14,0.02,2,0.01,2.572,2,0.016,-999,9,-999,9,-999,9,-999,9,-999,9,-999,9,-999,-999,9,-999,9,-999,-999,9,-999,-999,9,-999,-999,9,-999,1.1985,27.773
49NZ20070724,   P01,13,1,9, X12015,2,20070728,1723,41.3573,146.686,5475,3999.9,2,1.4811,2,1.48096,2,34.6813,2,34.6816,2,147.06,2,147.22,2,148.96,2,0.45,36.54,2,0.14,0.01,2,0.01,2.548,2,0.016,-999,9,-999,9,-999,9,-999,9,-999,9,-999,9,-999,-999,9,-999,9,-999,-999,9,-999,-999,9,-999,-999,9,-999,1.1628,27.7782
49NZ20070724,   P01,13,1,8, X12046,2,20070728,1723,41.3573,146.686,5475,4250.2,2,1.4743,2,1.47428,2,34.6848,2,34.6851,6,151.43,2,151.6,2,147.56,2,0.44,36.28,2,0.13,0.01,2,0.01,2.526,2,0.016,0,2,0,2,0,2,-999,9,-999,9,-999,9,-999,-999,9,-999,9,-999,-999,9,-999,-999,9,-999,-999,9,-999,1.1285,27.7834
49NZ20070724,   P01,13,1,7, X12044,2,20070728,1723,41.3573,146.686,5475,4498.8,2,1.4814,2,1.48143,2,34.687,2,34.6873,2,154.33,2,154.53,2,146.67,2,0.44,35.94,2,0.13,0.01,2,0.01,2.507,2,0.016,-999,9,-999,9,-999,9,-999,9,-999,9,-999,9,-999,-999,9,-999,9,-999,-999,9,-999,-999,9,-999,-999,9,-999,1.1071,27.7867
49NZ20070724,   P01,13,1,6, X12048,2,20070728,1723,41.3573,146.686,5475,4749.1,2,1.4928,2,1.4928,2,34.6889,2,34.6891,2,156.64,2,156.9,2,146.37,2,0.44,35.91,2,0.13,0.01,2,0.01,2.499,2,0.016,-999,9,-999,9,-999,9,-999,9,-999,9,-999,9,-999,-999,9,-999,9,-999,-999,9,-999,-999,9,-999,-999,9,-999,1.0889,27.7894
49NZ20070724,   P01,13,1,5, X12017,2,20070728,1723,41.3573,146.686,5475,4999.7,2,1.5123,2,1.51245,2,34.6902,2,34.69,2,158.08,2,158.43,2,146.24,2,0.44,35.79,2,0.13,0,2,0.01,2.493,2,0.016,0.003,2,0.001,2,0,2,-999,9,-999,9,-999,9,-999,-999,9,-999,9,-999,-999,9,-999,-999,9,-999,-999,9,-999,1.0777,27.7912
49NZ20070724,   P01,13,1,4, X12928,2,20070728,1723,41.3573,146.686,5475,5250.3,2,1.5361,2,1.53612,2,34.6909,2,34.6908,2,159.47,2,159.63,2,145.38,2,0.44,35.68,2,0.13,0,2,0.01,2.484,2,0.016,-999,9,-999,9,-999,9,-999,9,-999,9,-999,9,-999,-999,9,-999,9,-999,-999,9,-999,-999,9,-999,-999,9,-999,1.0698,27.7923
49NZ20070724,   P01,13,1,3, X12931,2,20070728,1723,41.3573,146.686,5475,5499.2,2,1.5605,2,1.56053,2,34.6918,2,34.6919,2,160.52,2,160.54,2,145.81,2,0.44,35.59,2,0.13,0.01,2,0.01,2.481,2,0.016,-999,9,-999,9,-999,9,-999,9,-999,9,-999,9,-999,-999,9,-999,9,-999,-999,9,-999,-999,9,-999,-999,9,-999,1.0618,27.7936
49NZ20070724,   P01,13,1,2, X12930,2,20070728,1723,41.3573,146.686,5475,50.4,2,3.5487,2,3.54812,2,33.0064,2,-999,9,321.85,2,-999,9,-999,9,-999,-999,9,-999,-999,9,-999,-999,9,-999,-999,9,-999,9,-999,9,-999,9,-999,9,-999,9,-999,-999,9,-999,9,-999,-999,9,-999,-999,9,-999,-999,9,-999,3.5456,26.2444
49NZ20070724,   P01,13,1,1, X12929,2,20070728,1723,41.3573,146.686,5475,5575.1,2,1.571,2,1.57089,2,34.6917,2,34.6917,6,160.45,2,160.37,2,146.29,2,0.44,35.6,2,0.13,0.01,2,0.01,2.484,2,0.016,0.001,2,0.001,2,0,2,-999,9,-999,9,-999,9,-999,-999,9,-999,9,-999,-999,9,-999,-999,9,-999,-999,9,-999,1.0622,27.7935