BOTTLE,20081214JAMSTECIORGC,,,,,,,,,,,,,,,,,,,,,,,,,,,,,,,,,,,,,,,,,,,,,,,,,,,,,,,,,,,,,,,,,
EXPOCODE,SECT,STNNBR,CASTNO,SAMPNO,BTLNBR,BTLNBR_FLAG_W,DATE,TIME,LATITUDE,LONGITUDE,DEPTH,CTDPRS,CTDPRS_FLAG_W,CTDTMP,CTDTMP_FLAG_W,SBE35,SBE35_FLAG_W,CTDSAL,CTDSAL_FLAG_W,SALNTY,SALNTY_FLAG_W,CTDOXY,CTDOXY_FLAG_W,OXYGEN,OXYGEN_FLAG_W,SILCAT,SILCAT_FLAG_W,SILUNC,NITRAT,NITRAT_FLAG_W,NRAUNC,NITRIT,NITRIT_FLAG_W,NRIUNC,PHSPHT,PHSPHT_FLAG_W,PHPUNC,CFC-11,CFC-11_FLAG_W,CFC-12,CFC-12_FLAG_W,CFC113,CFC113_FLAG_W,CCL4,CCL4_FLAG_W,TCARBN,TCARBN_FLAG_W,ALKALI,ALKALI_FLAG_W,PH_TOT,PH_TMP,PH_FLAG_W,DELC13,DELC13_FLAG_W,C13ERR,DELC14,DELC14_FLAG_W,C14ERR,CS-137,CS-137_FLAG_W,CS137ER,PLUTO,PLUTO_FLAG_W,PLUTOER,THETA,SIG0
,,,,,,,,UTC,DEG,DEG,M,DBAR,,ITS-90,,ITS-90,,PSS-78,,PSS-78,,UMOL/KG,,UMOL/KG,,UMOL/KG,,UMOL/KG,UMOL/KG,,UMOL/KG,UMOL/KG,,UMOL/KG,UMOL/KG,,UMOL/KG,PMOL/KG,,PMOL/KG,,PMOL/KG,,PMOL/KG,,UMOL/KG,,UMOL/KG,,,ITS-90,,/MILLE,,/MILLE,/MILLE,,/MILLE,BQ/CUM,,BQ/CUM,MBQ/CUM,,MBQ/CUM,DEG C,KG/CUM
49NZ20070724,   P01,61,1,0,-999,9,20070814,2019,47.0125,179.4483,5630,-999,9,-999,9,-999,9,-999,9,32.7234,2,-999,9,-999,9,-999,9,-999,-999,9,-999,-999,9,-999,-999,9,-999,-999,9,-999,9,-999,9,-999,9,-999,9,-999,9,-999,-999,9,-999,9,-999,-999,9,-999,-999,9,-999,-999,9,-999,-999,-999
49NZ20070724,   P01,61,1,36, X12042,2,20070814,2019,47.0125,179.4483,5630,10.8,2,12.0512,2,12.05093,2,32.7319,2,32.7318,2,282.85,2,282.57,2,11.5,2,0.14,9.33,2,0.06,0.14,2,0.01,1.042,2,0.013,3.458,2,1.897,2,0.358,2,-999,9,-999,9,-999,9,-999,-999,9,-999,9,-999,-999,9,-999,-999,9,-999,-999,9,-999,12.0498,24.8187
49NZ20070724,   P01,61,1,35, X12041,2,20070814,2019,47.0125,179.4483,5630,50,2,4.5379,2,4.54626,2,33.0234,2,33.0287,2,319.63,2,319.81,2,31.75,2,0.19,18.3,2,0.08,0.38,2,0,1.659,2,0.014,5.047,2,2.665,2,0.518,2,-999,9,-999,9,-999,9,-999,-999,9,-999,9,-999,-999,9,-999,-999,9,-999,-999,9,-999,4.5344,26.159
49NZ20070724,   P01,61,1,34, X12036,2,20070814,2019,47.0125,179.4483,5630,100.5,2,3.3589,2,3.35902,2,33.043,2,33.065,2,313.04,2,308.1,2,36.5,2,0.2,22.04,2,0.09,0.02,2,0.01,1.804,2,0.015,5.119,2,2.698,2,0.506,2,-999,9,-999,9,-999,9,-999,-999,9,-999,9,-999,-999,9,-999,-999,9,-999,-999,9,-999,3.3528,26.2915
49NZ20070724,   P01,61,1,33, X12033,2,20070814,2019,47.0125,179.4483,5630,150.8,2,3.1106,2,3.10901,2,33.4948,2,33.5089,2,202.99,2,199.11,2,60.88,2,0.25,31.65,2,0.12,0.02,2,0.01,2.392,2,0.016,4.136,2,2.088,6,0.336,2,-999,9,-999,9,-999,9,-999,-999,9,-999,9,-999,-999,9,-999,-999,9,-999,-999,9,-999,3.1015,26.6746
49NZ20070724,   P01,61,1,32, X12038,2,20070814,2019,47.0125,179.4483,5630,199.8,2,3.0873,2,3.08769,2,33.6441,2,33.6543,2,144.06,2,142.24,2,74.58,2,0.28,36.15,2,0.13,0.02,2,0.01,2.676,2,0.017,3.428,2,1.696,2,0.255,2,-999,9,-999,9,-999,9,-999,-999,9,-999,9,-999,-999,9,-999,-999,9,-999,-999,9,-999,3.0752,26.796
49NZ20070724,   P01,61,1,31, X12003,2,20070814,2019,47.0125,179.4483,5630,250.3,2,3.4674,2,3.4666,2,33.7921,2,33.7934,6,105.68,2,106.26,2,81.66,2,0.3,37.89,2,0.14,0.01,2,0.01,2.772,2,0.017,2.796,2,1.359,2,0.213,2,-999,9,-999,9,-999,9,-999,-999,9,-999,9,-999,-999,9,-999,-999,9,-999,-999,9,-999,3.4513,26.8793
49NZ20070724,   P01,61,1,30, X12008,2,20070814,2019,47.0125,179.4483,5630,329.7,2,3.517,2,3.51689,2,33.9167,2,33.9206,2,68.31,2,68.56,2,94.52,2,0.33,40.77,2,0.15,0.02,2,0.01,2.947,2,0.017,2.062,2,0.987,2,0.16,2,-999,9,-999,9,-999,9,-999,-999,9,-999,9,-999,-999,9,-999,-999,9,-999,-999,9,-999,3.4953,26.9744
49NZ20070724,   P01,61,1,29, X12035,2,20070814,2019,47.0125,179.4483,5630,430.6,2,3.497,2,3.49669,2,34.0535,2,34.0576,2,38.15,2,39.28,2,108.58,2,0.36,42.75,2,0.15,0.02,2,0.01,3.082,2,0.018,1.319,2,0.618,2,0.104,2,-999,9,-999,9,-999,9,-999,-999,9,-999,9,-999,-999,9,-999,-999,9,-999,-999,9,-999,3.4683,27.0859
49NZ20070724,   P01,61,1,28, X12034,2,20070814,2019,47.0125,179.4483,5630,530.1,2,3.4708,2,3.46935,2,34.1633,2,34.1639,6,24.5,2,24.2,2,118.44,2,0.38,43.64,2,0.15,0.01,2,0.01,3.127,2,0.018,0.764,2,0.348,2,0.057,2,-999,9,-999,9,-999,9,-999,-999,9,-999,9,-999,-999,9,-999,-999,9,-999,-999,9,-999,3.4351,27.1767
49NZ20070724,   P01,61,1,27, X12049,2,20070814,2019,47.0125,179.4483,5630,630.9,2,3.3717,2,3.37143,2,34.2357,2,34.2377,2,27.47,2,28.01,2,124.23,2,0.39,43.16,2,0.15,0.01,2,0.01,3.106,2,0.018,0.542,2,0.246,2,0.035,2,-999,9,-999,9,-999,9,-999,-999,9,-999,9,-999,-999,9,-999,-999,9,-999,-999,9,-999,3.3291,27.2444
49NZ20070724,   P01,61,1,26, X12032,2,20070814,2019,47.0125,179.4483,5630,729.8,2,3.2235,2,3.22331,2,34.2892,2,34.2907,2,27.11,2,27.74,2,130.27,2,0.41,43.26,2,0.15,0.01,2,0.01,3.114,2,0.018,0.385,6,0.172,6,0.027,6,-999,9,-999,9,-999,9,-999,-999,9,-999,9,-999,-999,9,-999,-999,9,-999,-999,9,-999,3.1745,27.3016
49NZ20070724,   P01,61,1,25, X12043,2,20070814,2019,47.0125,179.4483,5630,831.3,2,3.0376,2,3.0372,2,34.3323,2,34.3327,2,25.51,2,25.77,2,136.81,2,0.42,43.49,2,0.15,0.01,2,0.01,3.122,2,0.018,0.267,2,0.12,2,0.021,2,-999,9,-999,9,-999,9,-999,-999,9,-999,9,-999,-999,9,-999,-999,9,-999,-999,9,-999,2.9823,27.3536
49NZ20070724,   P01,61,1,24, X12030,2,20070814,2019,47.0125,179.4483,5630,930.4,2,2.8896,2,2.88961,2,34.3711,2,34.3715,2,25.53,2,25.68,2,141.67,2,0.43,43.4,2,0.15,0.01,2,0.01,3.115,2,0.018,0.183,2,0.08,2,0.014,2,-999,9,-999,9,-999,9,-999,-999,9,-999,9,-999,-999,9,-999,-999,9,-999,-999,9,-999,2.828,27.3986
49NZ20070724,   P01,61,1,23, X12027,2,20070814,2019,47.0125,179.4483,5630,5579.9,2,1.604,2,1.6039,2,34.6893,2,34.6895,6,154.85,2,154.75,2,-999,9,-999,-999,9,-999,-999,9,-999,-999,9,-999,-999,9,-999,9,-999,9,-999,9,-999,9,-999,9,-999,-999,9,-999,9,-999,-999,9,-999,-999,9,-999,-999,9,-999,1.0934,27.7894
49NZ20070724,   P01,61,1,22, X12028,2,20070814,2019,47.0125,179.4483,5630,1272.2,2,2.4374,2,2.43727,2,34.4754,2,34.4744,2,33.5,2,33.47,2,155.07,2,0.46,43.38,2,0.15,0.01,2,0.01,3.093,2,0.018,0.058,2,0.026,2,0.009,2,-999,9,-999,9,-999,9,-999,-999,9,-999,9,-999,-999,9,-999,-999,9,-999,-999,9,-999,2.3539,27.5227
49NZ20070724,   P01,61,1,21, X12009,2,20070814,2019,47.0125,179.4483,5630,1472.2,2,2.2539,2,2.25381,2,34.5158,2,34.5153,2,41.05,2,41.02,2,159.84,2,0.47,43.06,2,0.15,0.01,2,0.01,3.062,2,0.018,0.027,2,0.01,2,0,2,-999,9,-999,9,-999,9,-999,-999,9,-999,9,-999,-999,9,-999,-999,9,-999,-999,9,-999,2.157,27.5712
49NZ20070724,   P01,61,1,20, X12026,2,20070814,2019,47.0125,179.4483,5630,1669.6,2,2.0976,2,2.09744,2,34.5497,2,34.5498,2,50.23,2,50.06,2,163.14,2,0.48,42.58,2,0.15,0.01,2,0.01,3.023,2,0.018,0.013,2,0.005,2,0,2,-999,9,-999,9,-999,9,-999,-999,9,-999,9,-999,-999,9,-999,-999,9,-999,-999,9,-999,1.987,27.6119
49NZ20070724,   P01,61,1,19, X12025,2,20070814,2019,47.0125,179.4483,5630,1869.8,2,1.9642,2,1.96409,2,34.5781,2,34.5781,2,61.58,2,61.28,2,165.06,2,0.48,41.73,2,0.15,0.01,2,0.01,2.968,2,0.017,0.007,2,0.002,2,0,2,-999,9,-999,9,-999,9,-999,-999,9,-999,9,-999,-999,9,-999,-999,9,-999,-999,9,-999,1.8392,27.6462
49NZ20070724,   P01,61,1,18, X12024,2,20070814,2019,47.0125,179.4483,5630,2069.4,2,1.8592,2,1.85906,2,34.5998,2,34.5999,2,72.7,2,72.5,2,165.87,2,0.48,41.13,2,0.15,0.01,2,0.01,2.922,2,0.017,0.001,2,0,2,0,2,-999,9,-999,9,-999,9,-999,-999,9,-999,9,-999,-999,9,-999,-999,9,-999,-999,9,-999,1.7192,27.6728
49NZ20070724,   P01,61,1,17, X12023,2,20070814,2019,47.0125,179.4483,5630,2271.7,2,1.7735,2,1.7733,2,34.617,2,34.6169,2,83.2,2,82.66,2,165.8,2,0.48,40.54,2,0.15,0.01,2,0.01,2.873,2,0.017,0,2,0,2,0,2,-999,9,-999,9,-999,9,-999,-999,9,-999,9,-999,-999,9,-999,-999,9,-999,-999,9,-999,1.6177,27.6941
49NZ20070724,   P01,61,1,16, X12022,2,20070814,2019,47.0125,179.4483,5630,2469.4,2,1.6957,2,1.69506,2,34.632,2,34.6321,2,94.52,2,94.01,2,164.85,2,0.48,39.77,2,0.14,0.01,2,0.01,2.82,2,0.017,0,2,0,2,0,2,-999,9,-999,9,-999,9,-999,-999,9,-999,9,-999,-999,9,-999,-999,9,-999,-999,9,-999,1.5239,27.7131
49NZ20070724,   P01,61,1,15, X12021,2,20070814,2019,47.0125,179.4483,5630,2669.2,2,1.6297,2,1.62935,2,34.6446,2,34.6445,6,104.64,2,104.42,2,163.51,2,0.48,39.19,2,0.14,0.01,2,0.01,2.774,2,0.017,-999,9,-999,9,-999,9,-999,9,-999,9,-999,9,-999,-999,9,-999,9,-999,-999,9,-999,-999,9,-999,-999,9,-999,1.4411,27.7292
49NZ20070724,   P01,61,1,14, X12020,3,20070814,2019,47.0125,179.4483,5630,2869.8,2,1.5862,2,1.58613,2,34.6535,2,34.6517,3,112.81,2,112.45,2,161.84,2,0.48,38.7,2,0.14,0.01,2,0.01,2.726,2,0.017,-999,9,-999,9,-999,9,-999,9,-999,9,-999,9,-999,-999,9,-999,9,-999,-999,9,-999,-999,9,-999,-999,9,-999,1.3799,27.7408
49NZ20070724,   P01,61,1,13, X12019,2,20070814,2019,47.0125,179.4483,5630,3078.6,2,1.5443,2,1.54424,2,34.6618,2,34.6615,2,121.29,2,120.72,2,160.39,2,0.47,38.12,2,0.14,0.01,2,0.01,2.69,2,0.017,0,2,0,2,0,2,-999,9,-999,9,-999,9,-999,-999,9,-999,9,-999,-999,9,-999,-999,9,-999,-999,9,-999,1.3191,27.7517
49NZ20070724,   P01,61,1,12, X12040,2,20070814,2019,47.0125,179.4483,5630,3329.5,2,1.5077,2,1.50779,2,34.6695,2,34.6694,2,129.97,2,129.65,2,157.88,2,0.47,37.51,2,0.14,0.01,2,0.01,2.638,2,0.017,-999,9,-999,9,-999,9,-999,9,-999,9,-999,9,-999,-999,9,-999,9,-999,-999,9,-999,-999,9,-999,-999,9,-999,1.2587,27.7622
49NZ20070724,   P01,61,1,11, X12047,2,20070814,2019,47.0125,179.4483,5630,3580.4,2,1.4824,2,1.48232,2,34.6755,2,34.6751,2,136.97,2,137.03,2,156.12,2,0.46,37,2,0.14,0.01,2,0.01,2.605,2,0.016,-999,9,-999,9,-999,9,-999,9,-999,9,-999,9,-999,-999,9,-999,9,-999,-999,9,-999,-999,9,-999,-999,9,-999,1.2085,27.7705
49NZ20070724,   P01,61,1,10, X12010,2,20070814,2019,47.0125,179.4483,5630,3829.5,2,1.4675,2,1.46749,2,34.6804,2,34.6801,2,142.81,2,142.95,2,155.25,2,0.46,36.7,2,0.14,0.01,2,0.01,2.577,2,0.016,0,2,0,2,0,2,-999,9,-999,9,-999,9,-999,-999,9,-999,9,-999,-999,9,-999,-999,9,-999,-999,9,-999,1.1679,27.7772
49NZ20070724,   P01,61,1,9, X12015,2,20070814,2019,47.0125,179.4483,5630,4079.6,2,1.4621,2,1.46211,2,34.6842,2,34.6842,2,147.54,2,147.84,2,154.4,2,0.46,36.34,2,0.13,0.01,2,0.01,2.548,2,0.016,-999,9,-999,9,-999,9,-999,9,-999,9,-999,9,-999,-999,9,-999,9,-999,-999,9,-999,-999,9,-999,-999,9,-999,1.1356,27.7824
49NZ20070724,   P01,61,1,8, X12046,2,20070814,2019,47.0125,179.4483,5630,4329.7,2,1.4747,2,1.47471,2,34.6863,2,34.6859,6,149.58,2,149.8,2,155.38,2,0.46,36.2,2,0.13,0.01,2,0.01,2.539,2,0.016,-999,9,-999,9,-999,9,-999,9,-999,9,-999,9,-999,-999,9,-999,9,-999,-999,9,-999,-999,9,-999,-999,9,-999,1.12,27.7852
49NZ20070724,   P01,61,1,7, X12044,2,20070814,2019,47.0125,179.4483,5630,4579.3,2,1.4931,2,1.49311,2,34.6877,2,34.6875,2,150.96,2,151.27,2,156.24,2,0.46,36.14,2,0.13,0.01,2,0.01,2.53,2,0.016,0.001,2,0,2,0,2,-999,9,-999,9,-999,9,-999,-999,9,-999,9,-999,-999,9,-999,-999,9,-999,-999,9,-999,1.1092,27.7871
49NZ20070724,   P01,61,1,6, X12048,2,20070814,2019,47.0125,179.4483,5630,4831.7,2,1.5181,2,1.51803,2,34.6884,2,34.6882,2,151.88,2,152.15,2,156.91,2,0.46,36.11,2,0.13,0.01,2,0.01,2.53,2,0.016,-999,9,-999,9,-999,9,-999,9,-999,9,-999,9,-999,-999,9,-999,9,-999,-999,9,-999,-999,9,-999,-999,9,-999,1.1036,27.788
49NZ20070724,   P01,61,1,5, X12017,2,20070814,2019,47.0125,179.4483,5630,5080.2,2,1.5455,2,1.54557,2,34.6889,2,34.6887,2,152.73,2,152.92,2,156.65,2,0.46,36.03,2,0.13,0.01,2,0.01,2.52,2,0.016,-999,9,-999,9,-999,9,-999,9,-999,9,-999,9,-999,-999,9,-999,9,-999,-999,9,-999,-999,9,-999,-999,9,-999,1.0999,27.7887
49NZ20070724,   P01,61,1,4, X12928,2,20070814,2019,47.0125,179.4483,5630,5329.6,2,1.5755,2,1.57558,2,34.6892,2,34.6887,2,153.42,2,153.52,2,156.17,2,0.46,35.87,2,0.13,0.01,2,0.01,2.522,2,0.016,0.003,2,0.002,2,0,2,-999,9,-999,9,-999,9,-999,-999,9,-999,9,-999,-999,9,-999,-999,9,-999,-999,9,-999,1.0978,27.789
49NZ20070724,   P01,61,1,3, X12931,2,20070814,2019,47.0125,179.4483,5630,5579.7,2,1.604,2,1.60385,2,34.6893,2,34.6889,2,154.87,2,154.7,2,154.16,2,0.46,35.94,2,0.13,0.01,2,0.01,2.515,2,0.016,-999,9,-999,9,-999,9,-999,9,-999,9,-999,9,-999,-999,9,-999,9,-999,-999,9,-999,-999,9,-999,-999,9,-999,1.0934,27.7894
49NZ20070724,   P01,61,1,2, X12930,2,20070814,2019,47.0125,179.4483,5630,1072.7,2,2.689,2,2.68902,2,34.4199,2,34.4184,6,27.68,2,27.75,2,148.03,2,0.44,43.63,2,0.15,0.01,2,0.01,3.115,2,0.018,0.112,2,0.05,2,0.006,2,-999,9,-999,9,-999,9,-999,-999,9,-999,9,-999,-999,9,-999,-999,9,-999,-999,9,-999,2.6183,27.4559
49NZ20070724,   P01,61,1,1, X12929,2,20070814,2019,47.0125,179.4483,5630,5700.3,2,1.6202,2,1.62009,2,34.6894,2,34.6885,6,155.04,2,154.75,2,154.22,2,0.46,35.93,2,0.13,0.01,2,0.01,2.516,2,0.016,0.006,4,0.014,4,0,2,-999,9,-999,9,-999,9,-999,-999,9,-999,9,-999,-999,9,-999,-999,9,-999,-999,9,-999,1.0933,27.7895