BOTTLE,20081214JAMSTECIORGC,,,,,,,,,,,,,,,,,,,,,,,,,,,,,,,,,,,,,,,,,,,,,,,,,,,,,,,,,,,,,,,,,
EXPOCODE,SECT,STNNBR,CASTNO,SAMPNO,BTLNBR,BTLNBR_FLAG_W,DATE,TIME,LATITUDE,LONGITUDE,DEPTH,CTDPRS,CTDPRS_FLAG_W,CTDTMP,CTDTMP_FLAG_W,SBE35,SBE35_FLAG_W,CTDSAL,CTDSAL_FLAG_W,SALNTY,SALNTY_FLAG_W,CTDOXY,CTDOXY_FLAG_W,OXYGEN,OXYGEN_FLAG_W,SILCAT,SILCAT_FLAG_W,SILUNC,NITRAT,NITRAT_FLAG_W,NRAUNC,NITRIT,NITRIT_FLAG_W,NRIUNC,PHSPHT,PHSPHT_FLAG_W,PHPUNC,CFC-11,CFC-11_FLAG_W,CFC-12,CFC-12_FLAG_W,CFC113,CFC113_FLAG_W,CCL4,CCL4_FLAG_W,TCARBN,TCARBN_FLAG_W,ALKALI,ALKALI_FLAG_W,PH_TOT,PH_TMP,PH_FLAG_W,DELC13,DELC13_FLAG_W,C13ERR,DELC14,DELC14_FLAG_W,C14ERR,CS-137,CS-137_FLAG_W,CS137ER,PLUTO,PLUTO_FLAG_W,PLUTOER,THETA,SIG0
,,,,,,,,UTC,DEG,DEG,M,DBAR,,ITS-90,,ITS-90,,PSS-78,,PSS-78,,UMOL/KG,,UMOL/KG,,UMOL/KG,,UMOL/KG,UMOL/KG,,UMOL/KG,UMOL/KG,,UMOL/KG,UMOL/KG,,UMOL/KG,PMOL/KG,,PMOL/KG,,PMOL/KG,,PMOL/KG,,UMOL/KG,,UMOL/KG,,,ITS-90,,/MILLE,,/MILLE,/MILLE,,/MILLE,BQ/CUM,,BQ/CUM,MBQ/CUM,,MBQ/CUM,DEG C,KG/CUM
49NZ20070724,   P01,74,1,0,-999,9,20070818,1653,47.0118,-165.9802,5338,-999,9,-999,9,-999,9,-999,9,32.7226,2,-999,9,-999,9,-999,9,-999,-999,9,-999,-999,9,-999,-999,9,-999,-999,9,-999,9,-999,9,-999,9,-999,9,-999,9,-999,-999,9,-999,9,-999,-999,9,-999,-999,9,-999,-999,9,-999,-999,-999
49NZ20070724,   P01,74,1,36, X12042,2,20070818,1653,47.0118,-165.9802,5338,10.4,2,14.4132,2,14.41269,2,32.737,2,32.741,2,268.16,2,268.27,2,10.65,2,0.14,9.21,2,0.06,0.15,2,0.01,0.972,2,0.013,3.095,2,1.759,2,0.292,2,-999,9,2008.9,2,2210.5,2,7.907,25,6,-999,9,-999,-999,9,-999,-999,9,-999,-999,9,-999,14.4117,24.3531
49NZ20070724,   P01,74,1,35, X12041,2,20070818,1653,47.0118,-165.9802,5338,49.1,2,5.9752,2,5.9683,2,33.1001,2,33.1012,2,311.6,2,311.84,2,24,2,0.17,14.75,2,0.07,0.33,2,0.01,1.372,2,0.014,4.596,2,2.563,2,0.402,2,-999,9,2079.1,6,2227.5,2,7.7858,25,2,-999,9,-999,-999,9,-999,-999,9,-999,-999,9,-999,5.9712,26.0551
49NZ20070724,   P01,74,1,34, X12036,2,20070818,1653,47.0118,-165.9802,5338,100,2,5.1005,2,5.09931,2,33.3074,2,33.2962,2,284.51,2,286.2,2,28.86,2,0.18,18.6,2,0.08,0.02,2,0.01,1.519,2,0.014,4.49,2,2.497,2,0.365,2,-999,9,2108.2,2,2237.4,6,7.7323,25,2,-999,9,-999,-999,9,-999,-999,9,-999,-999,9,-999,5.0929,26.3229
49NZ20070724,   P01,74,1,33, X12033,2,20070818,1653,47.0118,-165.9802,5338,150.1,2,5.5053,2,5.50566,2,33.7363,2,33.7363,2,225.3,2,227.51,2,39.74,2,0.21,23.63,2,0.1,0.01,2,0.01,1.79,2,0.015,3.895,6,2.111,6,0.263,6,-999,9,2163.1,2,2265,2,7.6505,25,6,-999,9,-999,-999,9,-999,-999,9,-999,-999,9,-999,5.4933,26.616
49NZ20070724,   P01,74,1,32, X12038,2,20070818,1653,47.0118,-165.9802,5338,200.7,2,4.6856,2,4.68609,2,33.7623,2,33.7616,2,170.39,2,171.16,2,56.06,2,0.24,30.02,2,0.12,0.01,2,0.01,2.228,2,0.016,3.402,2,1.784,2,0.226,2,-999,9,2214.4,2,2276.4,2,7.5351,25,2,-999,9,-999,-999,9,-999,-999,9,-999,-999,9,-999,4.6708,26.7307
49NZ20070724,   P01,74,1,31, X12003,2,20070818,1653,47.0118,-165.9802,5338,250.3,2,3.9107,2,3.91072,2,33.7655,2,33.7642,6,128.68,2,129.71,2,69.98,2,0.27,35.2,2,0.13,0.01,2,0.01,2.577,2,0.016,3.099,2,1.588,2,0.213,2,-999,9,2256.5,2,2283.6,2,7.437,25,2,-999,9,-999,-999,9,-999,-999,9,-999,-999,9,-999,3.8937,26.8149
49NZ20070724,   P01,74,1,30, X12008,2,20070818,1653,47.0118,-165.9802,5338,277.9,2,4.2421,2,4.24268,2,33.8614,2,33.8638,2,114.84,2,114.22,2,73.6,2,0.28,35.58,2,0.13,0.01,2,0.01,2.596,2,0.016,2.624,2,1.331,2,0.171,2,-999,9,2263.5,2,2291.8,2,7.4372,25,2,-999,9,-999,-999,9,-999,-999,9,-999,-999,9,-999,4.2224,26.8575
49NZ20070724,   P01,74,1,29, X12035,2,20070818,1653,47.0118,-165.9802,5338,371,2,4.0394,2,4.03732,2,33.9843,2,33.9822,2,71.3,2,71.47,2,89.07,2,0.31,39.51,2,0.14,0.01,2,0.01,2.85,2,0.017,1.842,2,0.911,2,0.113,2,-999,9,2301.8,2,2308.4,2,7.3716,25,2,-999,9,-999,-999,9,-999,-999,9,-999,-999,9,-999,4.0133,26.9768
49NZ20070724,   P01,74,1,28, X12034,2,20070818,1653,47.0118,-165.9802,5338,470.8,2,3.8033,2,3.80354,2,34.0649,2,34.0675,6,40.8,2,40.11,2,102.63,2,0.34,42.35,2,0.15,0,2,0.01,3.026,2,0.018,1.241,2,0.598,2,0.084,2,-999,9,2332,2,2322.7,2,7.3251,25,2,-999,9,-999,-999,9,-999,-999,9,-999,-999,9,-999,3.7707,27.0655
49NZ20070724,   P01,74,1,27, X12049,2,20070818,1653,47.0118,-165.9802,5338,569.8,2,3.7455,2,3.74568,2,34.1811,2,34.1811,2,35.56,2,35.64,2,111.66,2,0.36,42.22,2,0.15,0.01,2,0.01,3.035,2,0.018,0.723,2,0.346,2,0.047,2,-999,9,2341,2,2339.2,2,7.3431,25,2,-999,9,-999,-999,9,-999,-999,9,-999,-999,9,-999,3.7057,27.1645
49NZ20070724,   P01,74,1,26, X12032,2,20070818,1653,47.0118,-165.9802,5338,672.7,2,3.4284,2,3.42833,2,34.2375,2,34.2369,2,25.58,2,25.6,2,122.57,2,0.39,43.22,2,0.15,0.01,2,0.01,3.1,2,0.018,0.474,6,0.228,6,0.031,6,-999,9,2359.8,6,2350.3,2,7.3244,25,2,-999,9,-999,-999,9,-999,-999,9,-999,-999,9,-999,3.3825,27.2408
49NZ20070724,   P01,74,1,25, X12043,2,20070818,1653,47.0118,-165.9802,5338,770.7,2,3.2103,2,3.21023,2,34.2939,2,34.2932,2,23.66,2,23.7,2,130.78,2,0.41,43.48,2,0.15,0,2,0.01,3.12,2,0.018,0.304,2,0.147,2,0.018,2,-999,9,2368.6,2,2361.6,6,7.3309,25,2,-999,9,-999,-999,9,-999,-999,9,-999,-999,9,-999,3.1584,27.3069
49NZ20070724,   P01,74,1,24, X12030,2,20070818,1653,47.0118,-165.9802,5338,872.4,2,3.023,2,3.0232,2,34.3441,2,34.3433,2,24.3,2,24.3,2,136.81,2,0.42,43.46,2,0.15,0.01,2,0.01,3.114,2,0.018,0.196,2,0.097,2,0.017,2,-999,9,2374.9,2,2370.2,2,7.3386,25,6,-999,9,-999,-999,9,-999,-999,9,-999,-999,9,-999,2.9647,27.3647
49NZ20070724,   P01,74,1,23, X12027,2,20070818,1653,47.0118,-165.9802,5338,971.3,2,2.8674,2,2.86751,2,34.3842,2,34.3822,6,25.37,2,25.39,2,141.96,2,0.43,43.57,2,0.15,0,2,0.01,3.126,2,0.018,0.129,2,0.064,2,0.011,2,-999,9,2381.7,2,2377.5,2,7.3436,25,2,-999,9,-999,-999,9,-999,-999,9,-999,-999,9,-999,2.8029,27.4112
49NZ20070724,   P01,74,1,22, X12028,2,20070818,1653,47.0118,-165.9802,5338,1130.7,2,2.6526,2,2.65276,2,34.4309,2,34.4304,2,27.25,2,27.45,2,148.74,2,0.45,43.69,2,0.16,0,2,0.01,3.123,2,0.018,0.069,2,0.035,2,0.006,2,-999,9,2385.9,2,2388.3,2,7.3528,25,2,-999,9,-999,-999,9,-999,-999,9,-999,-999,9,-999,2.5779,27.4681
49NZ20070724,   P01,74,1,21, X12009,2,20070818,1653,47.0118,-165.9802,5338,1328.9,2,2.4356,2,2.43554,2,34.4744,2,34.4745,2,30.18,2,30.25,2,155.95,2,0.46,43.62,2,0.15,0,2,0.01,3.108,2,0.018,0.038,2,0.017,2,0.008,2,-999,9,2391,2,2394.5,2,7.3614,25,2,-999,9,-999,-999,9,-999,-999,9,-999,-999,9,-999,2.3478,27.5224
49NZ20070724,   P01,74,1,20, X12026,2,20070818,1653,47.0118,-165.9802,5338,1527.7,2,2.2592,2,2.25919,2,34.5148,2,34.5144,2,35.37,2,35.46,2,161.17,2,0.47,43.43,2,0.15,0,2,0.01,3.09,2,0.018,0.014,2,0.006,2,0.01,2,-999,9,2393.8,2,2402.4,2,7.373,25,2,-999,9,-999,-999,9,-999,-999,9,-999,-999,9,-999,2.1579,27.5703
49NZ20070724,   P01,74,1,19, X12025,2,20070818,1653,47.0118,-165.9802,5338,1730,2,2.1151,2,2.11485,2,34.5484,2,34.548,2,43.6,2,43.66,2,164.36,2,0.48,43.07,2,0.15,0,2,0.01,3.051,2,0.018,0.002,2,0.001,2,0.006,2,-999,9,2393.8,2,2408.4,2,7.3921,25,2,-999,9,-999,-999,9,-999,-999,9,-999,-999,9,-999,1.9995,27.6099
49NZ20070724,   P01,74,1,18, X12024,2,20070818,1653,47.0118,-165.9802,5338,1930.6,2,1.9775,2,1.97727,2,34.5785,2,34.5788,2,54.33,2,54.62,2,166.24,2,0.48,42.29,2,0.15,0.01,2,0.01,3.007,2,0.018,0.004,2,0.004,2,0,2,-999,9,2389.8,2,2412.9,2,7.4128,25,2,-999,9,-999,-999,9,-999,-999,9,-999,-999,9,-999,1.8473,27.6459
49NZ20070724,   P01,74,1,17, X12023,2,20070818,1653,47.0118,-165.9802,5338,2131.3,2,1.8697,2,1.86956,2,34.6007,2,34.6012,2,65.89,2,65.9,2,167.85,2,0.49,41.8,2,0.15,0,2,0.01,2.952,2,0.017,-999,9,-999,9,-999,9,-999,9,2385.4,2,2416,2,7.4369,25,2,-999,9,-999,-999,9,-999,-999,9,-999,-999,9,-999,1.7243,27.6731
49NZ20070724,   P01,74,1,16, X12022,2,20070818,1653,47.0118,-165.9802,5338,2332.3,2,1.7791,2,1.77883,2,34.6184,2,34.6184,2,77.61,2,77.53,2,167.67,2,0.49,41.04,2,0.15,0,2,0.01,2.899,2,0.017,-999,9,-999,9,-999,9,-999,9,2379,6,2418,2,7.4586,25,2,-999,9,-999,-999,9,-999,-999,9,-999,-999,9,-999,1.6179,27.6953
49NZ20070724,   P01,74,1,15, X12021,2,20070818,1653,47.0118,-165.9802,5338,2531,2,1.7039,2,1.70374,2,34.6322,2,34.6324,6,89.42,2,89.46,2,166.79,2,0.49,40.3,2,0.15,0,2,0.01,2.847,2,0.017,-999,9,-999,9,-999,9,-999,9,2372.9,2,2419.3,6,7.4804,25,2,-999,9,-999,-999,9,-999,-999,9,-999,-999,9,-999,1.5265,27.7131
49NZ20070724,   P01,74,1,14, X12020,2,20070818,1653,47.0118,-165.9802,5338,2731.1,2,1.641,2,1.64095,2,34.6441,2,34.6441,2,99.88,2,100.12,2,165.42,2,0.48,39.66,2,0.14,0,2,0.01,2.795,2,0.017,-999,9,-999,9,-999,9,-999,9,2365.8,2,2420.8,2,7.5012,25,6,-999,9,-999,-999,9,-999,-999,9,-999,-999,9,-999,1.4465,27.7284
49NZ20070724,   P01,74,1,13, X12019,2,20070818,1653,47.0118,-165.9802,5338,2930.1,2,1.5953,2,1.5954,2,34.6529,2,34.6529,2,109.23,2,109.29,2,163.67,2,0.48,39.04,2,0.14,0,2,0.01,2.753,2,0.017,-999,9,-999,9,-999,9,-999,9,2360.8,2,2420.5,2,7.5174,25,2,-999,9,-999,-999,9,-999,-999,9,-999,-999,9,-999,1.3832,27.7401
49NZ20070724,   P01,74,1,12, X12040,2,20070818,1653,47.0118,-165.9802,5338,3171.7,2,1.5433,2,1.54335,2,34.6629,2,34.6625,2,120.63,2,120.49,2,161.18,2,0.47,38.1,2,0.14,0,2,0.01,2.684,2,0.017,-999,9,-999,9,-999,9,-999,9,2352,2,2420.7,2,7.5392,25,2,-999,9,-999,-999,9,-999,-999,9,-999,-999,9,-999,1.309,27.7533
49NZ20070724,   P01,74,1,11, X12047,2,20070818,1653,47.0118,-165.9802,5338,3419.9,2,1.5056,2,1.5056,2,34.6706,2,34.6706,2,129.98,2,129.94,2,158.87,2,0.47,37.55,2,0.14,0,2,0.01,2.644,2,0.017,-999,9,-999,9,-999,9,-999,9,2345.4,2,2420.5,2,7.5544,25,2,-999,9,-999,-999,9,-999,-999,9,-999,-999,9,-999,1.2475,27.7638
49NZ20070724,   P01,74,1,10, X12010,2,20070818,1653,47.0118,-165.9802,5338,3670.6,2,1.4844,2,1.48448,2,34.6763,2,34.6765,2,136.44,2,136.6,2,158.02,2,0.47,37.12,2,0.14,0,2,0.01,2.611,2,0.017,-999,9,-999,9,-999,9,-999,9,2341,2,2421.5,2,7.5685,25,2,-999,9,-999,-999,9,-999,-999,9,-999,-999,9,-999,1.2011,27.7716
49NZ20070724,   P01,74,1,9, X12015,2,20070818,1653,47.0118,-165.9802,5338,3919.6,2,1.4739,2,1.47394,2,34.6809,2,34.681,2,141.75,2,142.06,2,157.79,2,0.47,36.87,2,0.14,0,2,0.01,2.585,2,0.016,-999,9,-999,9,-999,9,-999,9,2338.1,2,2423,2,7.5792,25,2,-999,9,-999,-999,9,-999,-999,9,-999,-999,9,-999,1.1645,27.7778
49NZ20070724,   P01,74,1,8, X12046,2,20070818,1653,47.0118,-165.9802,5338,4170.4,2,1.4733,2,1.47319,2,34.6843,2,34.6845,2,146.11,2,146.48,2,157.26,2,0.46,36.5,2,0.13,0,2,0.01,2.558,2,0.016,-999,9,-999,9,-999,9,-999,9,2336.1,6,2422.6,2,7.5874,25,2,-999,9,-999,-999,9,-999,-999,9,-999,-999,9,-999,1.1364,27.7825
49NZ20070724,   P01,74,1,7, X12044,2,20070818,1653,47.0118,-165.9802,5338,4416.8,2,1.486,2,1.486,2,34.6863,2,34.6864,6,148.47,2,148.74,2,157.3,2,0.47,36.42,2,0.13,0,2,0.01,2.545,2,0.016,-999,9,-999,9,-999,9,-999,9,2333.4,3,2424.2,2,7.5915,25,2,-999,9,-999,-999,9,-999,-999,9,-999,-999,9,-999,1.121,27.7851
49NZ20070724,   P01,74,1,6, X12048,2,20070818,1653,47.0118,-165.9802,5338,4669.3,2,1.5083,2,1.50835,2,34.6874,2,34.6874,2,149.41,2,149.68,2,158.34,2,0.47,36.35,2,0.13,0,2,0.01,2.544,2,0.016,-999,9,-999,9,-999,9,-999,9,2335.6,2,2423.6,2,7.5949,25,6,-999,9,-999,-999,9,-999,-999,9,-999,-999,9,-999,1.1134,27.7865
49NZ20070724,   P01,74,1,5, X12017,2,20070818,1653,47.0118,-165.9802,5338,4917.6,2,1.5342,2,1.53405,2,34.688,2,34.6873,3,150.28,2,150.52,2,159.08,2,0.47,36.31,2,0.13,0,2,0.01,2.537,2,0.016,-999,9,-999,9,-999,9,-999,9,2334.1,2,2423.3,2,7.5953,25,2,-999,9,-999,-999,9,-999,-999,9,-999,-999,9,-999,1.1088,27.7874
49NZ20070724,   P01,74,1,4, X12928,2,20070818,1653,47.0118,-165.9802,5338,5168.5,2,1.5613,2,1.56122,2,34.6887,2,34.6889,2,151.37,2,151.27,2,159.5,2,0.47,36.19,2,0.13,0,2,0.01,2.529,2,0.016,-999,9,-999,9,-999,9,-999,9,2334.9,2,2423,2,7.5966,25,2,-999,9,-999,-999,9,-999,-999,9,-999,-999,9,-999,1.1043,27.7882
49NZ20070724,   P01,74,1,3, X12931,9,20070818,1653,47.0118,-165.9802,5338,10.5,2,14.4082,2,14.40597,2,32.7395,2,-999,9,269.05,2,-999,9,-999,9,-999,-999,9,-999,-999,9,-999,-999,9,-999,-999,9,-999,9,-999,9,-999,9,-999,9,-999,9,-999,-999,9,-999,9,-999,-999,9,-999,-999,9,-999,-999,9,-999,14.4067,24.3561
49NZ20070724,   P01,74,1,2, X12930,9,20070818,1653,47.0118,-165.9802,5338,10.4,2,14.4085,2,14.40662,2,32.7387,2,-999,9,268.4,2,-999,9,-999,9,-999,-999,9,-999,-999,9,-999,-999,9,-999,-999,9,-999,9,-999,9,-999,9,-999,9,-999,9,-999,-999,9,-999,9,-999,-999,9,-999,-999,9,-999,-999,9,-999,14.407,24.3554
49NZ20070724,   P01,74,1,1, X12929,2,20070818,1653,47.0118,-165.9802,5338,5433.5,2,1.5928,2,1.59272,2,34.6889,2,34.6894,6,152.39,2,152.08,2,159.17,2,0.47,36.2,2,0.13,0,2,0.01,2.533,2,0.016,-999,9,-999,9,-999,9,-999,9,2332.6,2,2421.9,2,7.5972,25,2,-999,9,-999,-999,9,-999,-999,9,-999,-999,9,-999,1.1014,27.7886