BOTTLE,20081214JAMSTECIORGC,,,,,,,,,,,,,,,,,,,,,,,,,,,,,,,,,,,,,,,,,,,,,,,,,,,,,,,,,,,,,,,,,
EXPOCODE,SECT,STNNBR,CASTNO,SAMPNO,BTLNBR,BTLNBR_FLAG_W,DATE,TIME,LATITUDE,LONGITUDE,DEPTH,CTDPRS,CTDPRS_FLAG_W,CTDTMP,CTDTMP_FLAG_W,SBE35,SBE35_FLAG_W,CTDSAL,CTDSAL_FLAG_W,SALNTY,SALNTY_FLAG_W,CTDOXY,CTDOXY_FLAG_W,OXYGEN,OXYGEN_FLAG_W,SILCAT,SILCAT_FLAG_W,SILUNC,NITRAT,NITRAT_FLAG_W,NRAUNC,NITRIT,NITRIT_FLAG_W,NRIUNC,PHSPHT,PHSPHT_FLAG_W,PHPUNC,CFC-11,CFC-11_FLAG_W,CFC-12,CFC-12_FLAG_W,CFC113,CFC113_FLAG_W,CCL4,CCL4_FLAG_W,TCARBN,TCARBN_FLAG_W,ALKALI,ALKALI_FLAG_W,PH_TOT,PH_TMP,PH_FLAG_W,DELC13,DELC13_FLAG_W,C13ERR,DELC14,DELC14_FLAG_W,C14ERR,CS-137,CS-137_FLAG_W,CS137ER,PLUTO,PLUTO_FLAG_W,PLUTOER,THETA,SIG0
,,,,,,,,UTC,DEG,DEG,M,DBAR,,ITS-90,,ITS-90,,PSS-78,,PSS-78,,UMOL/KG,,UMOL/KG,,UMOL/KG,,UMOL/KG,UMOL/KG,,UMOL/KG,UMOL/KG,,UMOL/KG,UMOL/KG,,UMOL/KG,PMOL/KG,,PMOL/KG,,PMOL/KG,,PMOL/KG,,UMOL/KG,,UMOL/KG,,,ITS-90,,/MILLE,,/MILLE,/MILLE,,/MILLE,BQ/CUM,,BQ/CUM,MBQ/CUM,,MBQ/CUM,DEG C,KG/CUM
49NZ20070724,   P01,109,1,0,-999,9,20070828,1001,46.9958,-127.917,2700,-999,9,-999,9,-999,9,-999,9,32.3433,2,-999,9,-999,9,-999,9,-999,-999,9,-999,-999,9,-999,-999,9,-999,-999,9,-999,9,-999,9,-999,9,-999,9,-999,9,-999,-999,9,-999,9,-999,-999,9,-999,-999,1,-999,-999,1,-999,-999,-999
49NZ20070724,   P01,109,1,36, X12042,2,20070828,1001,46.9958,-127.917,2700,9.8,2,17.373,2,17.3718,2,32.3441,2,32.3344,2,250.28,2,250.31,2,5.34,2,0.13,0.08,2,0.03,0.01,2,0.01,0.449,2,0.013,2.624,2,1.589,2,-999,5,-999,9,-999,9,-999,9,-999,-999,9,-999,9,-999,-999,9,-999,-999,9,-999,-999,9,-999,17.3714,23.3896
49NZ20070724,   P01,109,1,35, X12041,2,20070828,1001,46.9958,-127.917,2700,50,2,9.0826,2,9.08325,2,32.4377,2,32.4426,2,291.59,2,291.59,2,7.37,2,0.14,6.59,2,0.05,0.48,2,0,0.925,2,0.013,3.908,2,2.22,2,0.359,2,-999,9,-999,9,-999,9,-999,-999,9,-999,9,-999,-999,9,-999,-999,9,-999,-999,9,-999,9.0774,25.1002
49NZ20070724,   P01,109,1,34, X12036,2,20070828,1001,46.9958,-127.917,2700,100.3,2,7.7178,2,7.71825,2,32.6863,2,32.7233,2,254.21,2,255.23,2,13.58,2,0.15,13.88,2,0.07,0.04,2,0.01,1.294,2,0.014,4.012,2,2.238,2,0.308,2,-999,9,-999,9,-999,9,-999,-999,9,-999,9,-999,-999,9,-999,-999,1,-999,-999,9,-999,7.7083,25.499
49NZ20070724,   P01,109,1,33, X12033,2,20070828,1001,46.9958,-127.917,2700,149.9,2,7.3877,2,7.37682,2,33.5778,2,33.6047,2,166.65,2,170.68,2,30.35,2,0.19,25.19,2,0.1,0.02,2,0.01,1.883,2,0.015,3.703,6,1.998,6,0.246,6,-999,9,-999,9,-999,9,-999,-999,9,-999,9,-999,-999,9,-999,-999,9,-999,-999,9,-999,7.3736,26.2469
49NZ20070724,   P01,109,1,32, X12038,2,20070828,1001,46.9958,-127.917,2700,200.1,2,7.331,2,7.33113,2,33.8973,2,33.8908,2,113.55,2,119.36,2,40.16,2,0.21,30.08,2,0.12,0.02,2,0.01,2.196,2,0.016,3.1,2,1.613,2,0.184,2,-999,9,-999,9,-999,9,-999,-999,9,-999,9,-999,-999,9,-999,-999,1,-999,-999,9,-999,7.3121,26.5069
49NZ20070724,   P01,109,1,31, X12003,2,20070828,1001,46.9958,-127.917,2700,249.2,2,6.5381,2,6.53785,2,33.9078,2,33.9142,6,117.26,2,113.85,2,47.41,2,0.22,31.77,2,0.12,0.02,2,0.01,2.304,2,0.016,2.883,2,1.474,2,0.177,2,-999,9,-999,9,-999,9,-999,-999,9,-999,9,-999,-999,9,-999,-999,9,-999,-999,9,-999,6.516,26.6233
49NZ20070724,   P01,109,1,30, X12008,2,20070828,1001,46.9958,-127.917,2700,279.7,2,6.265,2,6.26489,2,33.9395,2,33.9382,2,97.16,2,96.79,2,53.58,2,0.24,34.02,2,0.13,0.02,2,0.01,2.448,2,0.016,2.589,2,1.296,2,0.145,2,-999,9,-999,9,-999,9,-999,-999,9,-999,9,-999,-999,9,-999,-999,9,-999,-999,9,-999,6.2407,26.6841
49NZ20070724,   P01,109,1,29, X12035,2,20070828,1001,46.9958,-127.917,2700,371.3,2,5.6853,2,5.68442,2,34.0076,2,34.0046,2,57.85,2,58.1,2,66.69,2,0.27,38.44,2,0.14,0.02,2,0.01,2.77,2,0.017,1.763,2,0.848,2,0.1,2,-999,9,-999,9,-999,9,-999,-999,9,-999,9,-999,-999,9,-999,-999,1,-999,-999,9,-999,5.6544,26.8112
49NZ20070724,   P01,109,1,28, X12034,2,20070828,1001,46.9958,-127.917,2700,470.9,2,5.2204,2,5.22066,2,34.0999,2,34.0995,6,30.98,2,31.35,2,79.77,2,0.29,41.01,2,0.15,0.02,2,0.01,3.006,2,0.017,0.895,2,0.425,2,0.042,2,-999,9,-999,9,-999,9,-999,-999,9,-999,9,-999,-999,9,-999,-999,9,-999,-999,9,-999,5.1825,26.9405
49NZ20070724,   P01,109,1,27, X12049,2,20070828,1001,46.9958,-127.917,2700,569.5,2,4.8061,2,4.80647,2,34.1536,2,34.1572,2,19.72,2,19.58,2,90.3,2,0.32,42.41,2,0.15,0.02,2,0.01,3.11,2,0.018,0.501,2,0.236,2,0.023,2,-999,9,-999,9,-999,9,-999,-999,9,-999,9,-999,-999,9,-999,-999,1,-999,-999,9,-999,4.7616,27.0312
49NZ20070724,   P01,109,1,26, X12032,2,20070828,1001,46.9958,-127.917,2700,670.6,2,4.4236,2,4.42486,2,34.22,2,34.2198,2,12.3,2,12.06,2,101.56,2,0.34,43.45,2,0.15,0.02,2,0.01,3.184,2,0.018,0.241,6,0.117,6,0.011,6,-999,9,-999,9,-999,9,-999,-999,9,-999,9,-999,-999,9,-999,-999,9,-999,-999,9,-999,4.3726,27.1265
49NZ20070724,   P01,109,1,25, X12043,2,20070828,1001,46.9958,-127.917,2700,769.6,2,4.1236,2,4.1241,2,34.2801,2,34.2796,2,9.26,2,8.92,2,110.43,2,0.36,43.86,2,0.16,0.01,2,0.01,3.226,2,0.018,0.108,2,0.054,2,0.009,2,-999,9,-999,9,-999,9,-999,-999,9,-999,9,-999,-999,9,-999,-999,1,-999,-999,9,-999,4.0663,27.2066
49NZ20070724,   P01,109,1,24, X12030,2,20070828,1001,46.9958,-127.917,2700,871.1,2,3.8383,2,3.83852,2,34.3277,2,34.3274,2,8.69,2,8.53,2,118.27,2,0.38,44.17,2,0.16,0.01,2,0.01,3.203,2,0.018,0.058,2,0.027,2,0.008,2,-999,9,-999,9,-999,9,-999,-999,9,-999,9,-999,-999,9,-999,-999,9,-999,-999,9,-999,3.7746,27.2743
49NZ20070724,   P01,109,1,23, X12027,2,20070828,1001,46.9958,-127.917,2700,969.8,2,3.5608,2,3.56073,2,34.3606,2,34.3611,2,9.13,2,8.81,2,126.43,2,0.4,44.45,2,0.16,0.01,2,0.01,3.23,2,0.018,0.033,2,0.013,2,0,2,-999,9,-999,9,-999,9,-999,-999,9,-999,9,-999,-999,9,-999,-999,1,-999,-999,9,-999,3.4912,27.3285
49NZ20070724,   P01,109,1,22, X12028,2,20070828,1001,46.9958,-127.917,2700,1131.3,2,3.185,2,3.18515,2,34.4155,2,34.4159,2,11.57,2,11.5,2,137.61,2,0.42,44.61,2,0.16,0.01,2,0.01,3.223,2,0.018,0.017,2,0.009,2,0.004,2,-999,9,-999,9,-999,9,-999,-999,9,-999,9,-999,-999,9,-999,-999,9,-999,-999,9,-999,3.1056,27.4088
49NZ20070724,   P01,109,1,21, X12009,2,20070828,1001,46.9958,-127.917,2700,1330.5,2,2.761,2,2.76087,2,34.4705,2,34.471,6,17.69,2,17.8,2,149.82,2,0.45,44.52,2,0.16,0.01,2,0.01,3.188,2,0.018,0.01,2,0.005,2,0.014,2,-999,9,-999,9,-999,9,-999,-999,9,-999,9,-999,-999,9,-999,-999,9,-999,-999,9,-999,2.6698,27.4919
49NZ20070724,   P01,109,1,20, X12026,2,20070828,1001,46.9958,-127.917,2700,1530.1,2,2.4374,2,2.43765,2,34.5169,2,34.5168,2,28.73,2,28.62,2,158.73,2,0.47,43.91,2,0.16,0.01,2,0.01,3.139,2,0.018,0.009,2,0.003,2,0,2,-999,9,-999,9,-999,9,-999,-999,9,-999,9,-999,-999,9,-999,-999,9,-999,-999,9,-999,2.3338,27.5576
49NZ20070724,   P01,109,1,19, X12025,2,20070828,1001,46.9958,-127.917,2700,1730.1,2,2.1742,2,2.1743,2,34.5529,2,34.5535,2,42.08,2,41.92,2,165.25,2,0.48,43.11,2,0.15,0.01,2,0.01,3.069,2,0.018,0.012,2,0.006,2,0,2,-999,9,-999,9,-999,9,-999,-999,9,-999,9,-999,-999,9,-999,-999,9,-999,-999,9,-999,2.0578,27.6089
49NZ20070724,   P01,109,1,18, X12024,2,20070828,1001,46.9958,-127.917,2700,1932.2,2,1.9951,2,1.99516,2,34.5817,2,34.5818,2,54.5,2,54.62,2,169.61,2,0.49,42.32,2,0.15,0.01,2,0.01,3.007,2,0.017,0.01,2,0.005,2,0,2,-999,9,-999,9,-999,9,-999,-999,9,-999,9,-999,-999,9,-999,-999,9,-999,-999,9,-999,1.8645,27.6471
49NZ20070724,   P01,109,1,17, X12023,2,20070828,1001,46.9958,-127.917,2700,2130.8,2,1.8793,2,1.87927,2,34.6027,2,34.6031,6,65.55,2,65.57,2,172.49,2,0.5,41.68,2,0.15,0.01,2,0.01,2.965,2,0.017,0.014,2,0.009,2,0.007,2,-999,9,-999,9,-999,9,-999,-999,9,-999,9,-999,-999,9,-999,-999,9,-999,-999,9,-999,1.7338,27.674
49NZ20070724,   P01,109,1,16, X12022,2,20070828,1001,46.9958,-127.917,2700,2332,2,1.7942,2,1.7942,2,34.6216,2,34.6221,2,74.51,2,74.65,2,176.14,2,0.51,40.98,2,0.15,0.01,2,0.01,2.929,2,0.017,0.008,2,0.006,2,0.002,2,-999,9,-999,9,-999,9,-999,-999,9,-999,9,-999,-999,9,-999,-999,9,-999,-999,9,-999,1.6328,27.6967
49NZ20070724,   P01,109,1,15, X12021,2,20070828,1001,46.9958,-127.917,2700,2529.6,2,1.7633,2,1.76322,2,34.6327,2,34.6329,2,78.75,2,78.72,2,180.09,2,0.52,40.53,2,0.15,0.01,2,0.01,2.91,2,0.017,0.012,2,0.014,2,0.004,2,-999,9,-999,9,-999,9,-999,-999,9,-999,9,-999,-999,9,-999,-999,9,-999,-999,9,-999,1.5849,27.7092
49NZ20070724,   P01,109,1,14, X12020,9,20070828,1001,46.9958,-127.917,2700,10,2,17.3748,2,17.37609,2,32.3425,2,-999,9,250.12,2,-999,9,-999,9,-999,-999,9,-999,-999,9,-999,-999,9,-999,-999,9,-999,9,-999,9,-999,9,-999,9,-999,9,-999,-999,9,-999,9,-999,-999,9,-999,-999,9,-999,-999,9,-999,17.3732,23.3879
49NZ20070724,   P01,109,1,13, X12019,9,20070828,1001,46.9958,-127.917,2700,1729.6,2,2.1741,2,2.17415,2,34.5529,2,-999,9,42.49,2,-999,9,-999,9,-999,-999,9,-999,-999,9,-999,-999,9,-999,-999,9,-999,9,-999,9,-999,9,-999,9,-999,9,-999,-999,9,-999,9,-999,-999,9,-999,-999,9,-999,-999,9,-999,2.0577,27.6089
49NZ20070724,   P01,109,1,12, X12040,9,20070828,1001,46.9958,-127.917,2700,2131.4,2,1.8787,2,1.87868,2,34.6029,2,-999,9,65.81,2,-999,9,-999,9,-999,-999,9,-999,-999,9,-999,-999,9,-999,-999,9,-999,9,-999,9,-999,9,-999,9,-999,9,-999,-999,9,-999,9,-999,-999,9,-999,-999,9,-999,-999,9,-999,1.7332,27.6742
49NZ20070724,   P01,109,1,11, X12047,9,20070828,1001,46.9958,-127.917,2700,2331.5,2,1.7944,2,1.79447,2,34.6217,2,-999,9,74.61,2,-999,9,-999,9,-999,-999,9,-999,-999,9,-999,-999,9,-999,-999,9,-999,9,-999,9,-999,9,-999,9,-999,9,-999,-999,9,-999,9,-999,-999,9,-999,-999,9,-999,-999,9,-999,1.633,27.6968
49NZ20070724,   P01,109,1,10, X12010,9,20070828,1001,46.9958,-127.917,2700,2529.4,2,1.763,2,1.7629,2,34.6326,2,-999,9,79.07,2,-999,9,-999,9,-999,-999,9,-999,-999,9,-999,-999,9,-999,-999,9,-999,9,-999,9,-999,9,-999,9,-999,9,-999,-999,9,-999,9,-999,-999,9,-999,-999,9,-999,-999,9,-999,1.5846,27.7091
49NZ20070724,   P01,109,1,9, X12015,2,20070828,1001,46.9958,-127.917,2700,1931.7,2,1.9951,2,1.99512,2,34.5817,2,-999,9,54.49,2,-999,9,-999,9,-999,-999,9,-999,-999,9,-999,-999,9,-999,-999,9,-999,9,-999,9,-999,9,-999,9,-999,9,-999,-999,9,-999,9,-999,-999,9,-999,-999,1,-999,-999,9,-999,1.8646,27.6471
49NZ20070724,   P01,109,1,8, X12046,2,20070828,1001,46.9958,-127.917,2700,1931.9,2,1.9951,2,1.99512,2,34.5817,2,-999,9,54.57,2,-999,9,-999,9,-999,-999,9,-999,-999,9,-999,-999,9,-999,-999,9,-999,9,-999,9,-999,9,-999,9,-999,9,-999,-999,9,-999,9,-999,-999,9,-999,-999,1,-999,-999,9,-999,1.8646,27.6471
49NZ20070724,   P01,109,1,7, X12044,2,20070828,1001,46.9958,-127.917,2700,1932.1,2,1.9951,2,1.99514,2,34.5817,2,-999,9,54.59,2,-999,9,-999,9,-999,-999,9,-999,-999,9,-999,-999,9,-999,-999,9,-999,9,-999,9,-999,9,-999,9,-999,9,-999,-999,9,-999,9,-999,-999,9,-999,-999,1,-999,-999,9,-999,1.8646,27.6471
49NZ20070724,   P01,109,1,6, X12048,2,20070828,1001,46.9958,-127.917,2700,1931.9,2,1.995,2,1.99502,2,34.5817,2,-999,9,54.69,2,-999,9,-999,9,-999,-999,9,-999,-999,9,-999,-999,9,-999,-999,9,-999,9,-999,9,-999,9,-999,9,-999,9,-999,-999,9,-999,9,-999,-999,9,-999,-999,1,-999,-999,9,-999,1.8645,27.6471
49NZ20070724,   P01,109,1,5, X12014,2,20070828,1001,46.9958,-127.917,2700,2724.2,2,1.77,2,1.76976,2,34.6421,2,-999,9,75.57,2,-999,9,-999,9,-999,-999,9,-999,-999,9,-999,-999,9,-999,-999,9,-999,9,-999,9,-999,9,-999,9,-999,9,-999,-999,9,-999,9,-999,-999,9,-999,-999,1,-999,-999,9,-999,1.5736,27.7176
49NZ20070724,   P01,109,1,4, X12928,2,20070828,1001,46.9958,-127.917,2700,2724,2,1.7699,2,1.76976,2,34.6421,2,-999,9,75.57,2,-999,9,-999,9,-999,-999,9,-999,-999,9,-999,-999,9,-999,-999,9,-999,9,-999,9,-999,9,-999,9,-999,9,-999,-999,9,-999,9,-999,-999,9,-999,-999,1,-999,-999,9,-999,1.5735,27.7176
49NZ20070724,   P01,109,1,3, X12931,2,20070828,1001,46.9958,-127.917,2700,2724,2,1.7699,2,1.76972,2,34.6422,2,-999,9,75.57,2,-999,9,-999,9,-999,-999,9,-999,-999,9,-999,-999,9,-999,-999,9,-999,9,-999,9,-999,9,-999,9,-999,9,-999,-999,9,-999,9,-999,-999,9,-999,-999,1,-999,-999,9,-999,1.5735,27.7177
49NZ20070724,   P01,109,1,2, X12930,2,20070828,1001,46.9958,-127.917,2700,2724.4,2,1.7699,2,1.76979,2,34.6422,2,-999,9,75.57,2,-999,9,-999,9,-999,-999,9,-999,-999,9,-999,-999,9,-999,-999,9,-999,9,-999,9,-999,9,-999,9,-999,9,-999,-999,9,-999,9,-999,-999,9,-999,-999,1,-999,-999,9,-999,1.5735,27.7177
49NZ20070724,   P01,109,1,1, X12929,2,20070828,1001,46.9958,-127.917,2700,2724,2,1.7699,2,1.76976,2,34.6421,2,34.6422,6,75.58,2,75.97,2,189.26,2,0.54,40.06,2,0.14,0.01,2,0.01,2.957,2,0.017,0.083,2,0.029,2,0.025,2,-999,9,-999,9,-999,9,-999,-999,9,-999,9,-999,-999,9,-999,-999,9,-999,-999,9,-999,1.5735,27.7176