BOTTLE,20081214JAMSTECIORGC,,,,,,,,,,,,,,,,,,,,,,,,,,,,,,,,,,,,,,,,,,,,,,,,,,,,,,,,,,,,,,,,,
EXPOCODE,SECT,STNNBR,CASTNO,SAMPNO,BTLNBR,BTLNBR_FLAG_W,DATE,TIME,LATITUDE,LONGITUDE,DEPTH,CTDPRS,CTDPRS_FLAG_W,CTDTMP,CTDTMP_FLAG_W,SBE35,SBE35_FLAG_W,CTDSAL,CTDSAL_FLAG_W,SALNTY,SALNTY_FLAG_W,CTDOXY,CTDOXY_FLAG_W,OXYGEN,OXYGEN_FLAG_W,SILCAT,SILCAT_FLAG_W,SILUNC,NITRAT,NITRAT_FLAG_W,NRAUNC,NITRIT,NITRIT_FLAG_W,NRIUNC,PHSPHT,PHSPHT_FLAG_W,PHPUNC,CFC-11,CFC-11_FLAG_W,CFC-12,CFC-12_FLAG_W,CFC113,CFC113_FLAG_W,CCL4,CCL4_FLAG_W,TCARBN,TCARBN_FLAG_W,ALKALI,ALKALI_FLAG_W,PH_TOT,PH_TMP,PH_FLAG_W,DELC13,DELC13_FLAG_W,C13ERR,DELC14,DELC14_FLAG_W,C14ERR,CS-137,CS-137_FLAG_W,CS137ER,PLUTO,PLUTO_FLAG_W,PLUTOER,THETA,SIG0
,,,,,,,,UTC,DEG,DEG,M,DBAR,,ITS-90,,ITS-90,,PSS-78,,PSS-78,,UMOL/KG,,UMOL/KG,,UMOL/KG,,UMOL/KG,UMOL/KG,,UMOL/KG,UMOL/KG,,UMOL/KG,UMOL/KG,,UMOL/KG,PMOL/KG,,PMOL/KG,,PMOL/KG,,PMOL/KG,,UMOL/KG,,UMOL/KG,,,ITS-90,,/MILLE,,/MILLE,/MILLE,,/MILLE,BQ/CUM,,BQ/CUM,MBQ/CUM,,MBQ/CUM,DEG C,KG/CUM
49NZ20070724,   P01,23,1,0,-999,9,20070731,144,40.6235,149.3795,5349,-999,9,-999,9,-999,9,-999,9,34.4694,2,-999,9,-999,9,-999,9,-999,-999,9,-999,-999,9,-999,-999,9,-999,-999,9,-999,9,-999,9,-999,9,-999,9,-999,9,-999,-999,9,-999,9,-999,-999,9,-999,-999,9,-999,-999,9,-999,-999,-999
49NZ20070724,   P01,23,1,36, X12042,2,20070731,144,40.6235,149.3795,5349,9.8,2,21.1715,2,21.1667,2,34.4793,2,34.4829,2,226.03,2,226.08,2,2.09,2,0.12,0.04,2,0.03,0.01,2,0.01,0.045,2,0.037,1.949,2,1.163,2,0.29,2,-999,9,1976.5,2,-999,9,8.0541,25,6,-999,9,-999,-999,9,-999,-999,9,-999,-999,9,-999,21.1696,24.0514
49NZ20070724,   P01,23,1,35, X12041,2,20070731,144,40.6235,149.3795,5349,49.4,2,12.1723,2,12.24361,2,33.7332,2,33.7961,2,322.15,2,295.3,2,4.55,2,0.13,1.91,2,0.04,0.1,2,0.01,0.363,2,0.014,3.299,2,1.868,2,0.245,2,-999,9,2023.4,6,2266.7,2,7.9661,25,2,-999,9,-999,-999,9,-999,-999,9,-999,-999,9,-999,12.1659,25.5738
49NZ20070724,   P01,23,1,34, X12036,2,20070731,144,40.6235,149.3795,5349,99.2,2,10.6847,2,10.6826,2,34.2467,2,34.2378,2,193.93,2,193.93,2,24.03,2,0.17,16.02,2,0.08,0.03,2,0.01,1.185,2,0.013,2.542,2,1.416,2,0.103,2,-999,9,2117.9,2,2278.6,6,7.7818,25,2,-999,9,-999,-999,9,-999,-999,9,-999,-999,9,-999,10.6729,26.2472
49NZ20070724,   P01,23,1,33, X12033,2,20070731,144,40.6235,149.3795,5349,149.5,2,8.5069,2,8.50926,2,34.0312,2,33.9893,2,204.08,2,208.55,2,31.25,2,0.19,18.93,2,0.09,0.02,2,0.01,1.427,2,0.014,2.93,6,1.605,6,0.153,6,-999,9,2139,2,2275.4,2,7.7277,25,6,-999,9,-999,-999,9,-999,-999,9,-999,-999,9,-999,8.4915,26.4389
49NZ20070724,   P01,23,1,32, X12038,2,20070731,144,40.6235,149.3795,5349,198.9,2,5.4019,2,5.28373,2,33.6772,2,33.6425,2,230.46,2,236.36,2,42.23,2,0.21,23.58,2,0.1,0.01,2,0.01,1.821,2,0.015,3.748,2,2.04,2,0.214,2,-999,9,2161.4,2,2266.4,2,7.6488,25,2,-999,9,-999,-999,9,-999,-999,9,-999,-999,9,-999,5.3861,26.5819
49NZ20070724,   P01,23,1,31, X12003,2,20070731,144,40.6235,149.3795,5349,248.8,2,3.3718,2,3.37461,2,33.5511,2,33.58,6,223.53,2,220.41,2,55.06,2,0.24,27.93,2,0.11,0.01,2,0.01,2.146,2,0.015,3.763,2,2.03,2,0.217,2,-999,9,2195,2,2272.1,2,7.57,25,2,-999,9,-999,-999,9,-999,-999,9,-999,-999,9,-999,3.3561,26.6961
49NZ20070724,   P01,23,1,30, X12008,2,20070731,144,40.6235,149.3795,5349,329.5,2,4.2223,2,4.17854,2,33.8197,2,33.7927,2,149.96,2,151.11,2,71.32,2,0.28,33.08,2,0.13,0.01,2,0.01,2.468,2,0.016,2.798,2,1.468,2,0.152,2,-999,9,2243.6,2,2289.8,2,7.4821,25,2,-999,9,-999,-999,9,-999,-999,9,-999,-999,9,-999,4.1989,26.8268
49NZ20070724,   P01,23,1,29, X12035,2,20070731,144,40.6235,149.3795,5349,428.6,2,4.1026,2,4.10299,2,33.9635,2,33.9791,2,101.43,2,100.22,2,85.4,2,0.31,36.6,2,0.14,0.02,2,0.01,2.681,2,0.017,1.877,2,0.968,2,0.107,2,-999,9,2279.6,2,2309.3,2,7.4252,25,2,-999,9,-999,-999,9,-999,-999,9,-999,-999,9,-999,4.0721,26.9543
49NZ20070724,   P01,23,1,28, X12034,2,20070731,144,40.6235,149.3795,5349,532.3,2,3.0796,2,3.07918,2,33.9712,2,33.9958,6,64.62,2,64.58,2,105.91,2,0.35,41.07,2,0.15,0.02,2,0.01,2.984,2,0.017,1.597,2,0.809,2,0.109,2,-999,9,2322,2,2322.8,2,7.335,25,2,-999,9,-999,-999,9,-999,-999,9,-999,-999,9,-999,3.0456,27.0597
49NZ20070724,   P01,23,1,27, X12049,2,20070731,144,40.6235,149.3795,5349,629.9,2,3.3785,2,3.37932,2,34.1288,2,34.1526,2,49.81,2,50.67,2,113.04,2,0.37,41.35,2,0.15,0.01,2,0.01,2.99,2,0.017,0.955,2,0.478,2,0.06,2,-999,9,2333,2,2340.3,2,7.3498,25,2,-999,9,-999,-999,9,-999,-999,9,-999,-999,9,-999,3.3361,27.1586
49NZ20070724,   P01,23,1,26, X12032,2,20070731,144,40.6235,149.3795,5349,729.4,2,3.3665,2,3.36386,2,34.2395,2,34.2366,2,41.65,2,40.95,2,123.5,2,0.39,42.11,2,0.15,0.01,2,0.01,3.039,2,0.018,0.629,6,0.311,6,0.041,6,-999,9,2348.7,6,2352.4,2,7.3446,25,2,-999,9,-999,-999,9,-999,-999,9,-999,-999,9,-999,3.3168,27.2486
49NZ20070724,   P01,23,1,25, X12043,2,20070731,144,40.6235,149.3795,5349,830.1,2,2.9909,2,2.99093,2,34.2715,2,34.2726,2,35.71,2,35.92,2,133.08,2,0.41,42.74,2,0.15,0.01,2,0.01,3.086,2,0.018,0.528,2,0.266,2,0.058,2,-999,9,2360.5,2,2361,6,7.3348,25,2,-999,9,-999,-999,9,-999,-999,9,-999,-999,9,-999,2.936,27.3093
49NZ20070724,   P01,23,1,24, X12030,2,20070731,144,40.6235,149.3795,5349,929.8,2,3.0494,2,3.04891,2,34.3557,2,34.3636,2,39.75,2,40.94,2,133.35,2,0.41,42.06,2,0.15,0.01,2,0.01,3.033,2,0.018,0.258,2,0.128,2,0.022,2,-999,9,2359.5,2,2372.3,2,7.367,25,6,-999,9,-999,-999,9,-999,-999,9,-999,-999,9,-999,2.9867,27.3719
49NZ20070724,   P01,23,1,23, X12027,2,20070731,144,40.6235,149.3795,5349,1071.9,2,2.859,2,2.85901,2,34.4206,2,34.4201,6,39.24,2,40,2,140.22,2,0.43,42.43,2,0.15,0.01,2,0.01,3.052,2,0.018,0.127,2,0.064,2,0.009,2,-999,9,2370.1,2,2382.8,2,7.3724,25,2,-999,9,-999,-999,9,-999,-999,9,-999,-999,9,-999,2.787,27.4417
49NZ20070724,   P01,23,1,22, X12028,2,20070731,144,40.6235,149.3795,5349,1269.2,2,2.5176,2,2.5175,2,34.4669,2,34.4659,2,40.68,2,41.29,2,151.03,2,0.45,42.7,2,0.15,0.01,2,0.01,3.066,2,0.018,0.112,2,0.059,2,0.012,2,-999,9,2378.3,2,2392,2,7.3749,25,2,-999,9,-999,-999,9,-999,-999,9,-999,-999,9,-999,2.4336,27.5093
49NZ20070724,   P01,23,1,21, X12009,2,20070731,144,40.6235,149.3795,5349,1473.1,2,2.2889,2,2.28886,2,34.5175,2,34.5178,2,47.78,2,48.28,2,156.24,2,0.46,42.51,2,0.15,0.01,2,0.01,3.035,2,0.018,0.056,2,0.03,2,0.008,2,-999,9,2381.6,2,2402.2,2,7.393,25,2,-999,9,-999,-999,9,-999,-999,9,-999,-999,9,-999,2.1915,27.5698
49NZ20070724,   P01,23,1,20, X12026,2,20070731,144,40.6235,149.3795,5349,1670.5,2,2.1518,2,2.15187,2,34.554,2,34.554,2,57.19,2,57.88,2,158,2,0.47,42.08,2,0.15,0.01,2,0.01,2.991,2,0.017,0.025,2,0.01,2,0,2,-999,9,2378.8,2,2407.1,2,7.4145,25,6,-999,9,-999,-999,9,-999,-999,9,-999,-999,9,-999,2.0404,27.6111
49NZ20070724,   P01,23,1,19, X12025,2,20070731,144,40.6235,149.3795,5349,1869.7,2,2.0125,2,2.01266,2,34.5813,2,34.5812,2,67.97,2,67.88,2,159.15,2,0.47,41.53,2,0.15,0.01,2,0.01,2.946,2,0.017,0.007,2,0.002,2,0,2,-999,9,2374.6,2,2411.6,2,7.4376,25,2,-999,9,-999,-999,9,-999,-999,9,-999,-999,9,-999,1.8868,27.6451
49NZ20070724,   P01,23,1,18, X12024,2,20070731,144,40.6235,149.3795,5349,2070.8,2,1.8825,2,1.88247,2,34.605,2,34.6047,2,80.57,2,80.32,2,158.78,2,0.47,40.53,2,0.15,0.01,2,0.01,2.876,2,0.017,0.002,2,0,2,0,2,-999,9,2368.6,2,2413.7,2,7.4611,25,2,-999,9,-999,-999,9,-999,-999,9,-999,-999,9,-999,1.742,27.6752
49NZ20070724,   P01,23,1,17, X12023,2,20070731,144,40.6235,149.3795,5349,2270,2,1.7798,2,1.77984,2,34.6234,2,34.6234,2,92.52,2,92.53,2,158.56,2,0.47,39.87,2,0.14,0.01,2,0.01,2.828,2,0.017,0,2,0.001,2,0,2,-999,9,2362.9,2,2415.6,2,7.4844,25,2,-999,9,-999,-999,9,-999,-999,9,-999,-999,9,-999,1.624,27.6988
49NZ20070724,   P01,23,1,16, X12022,2,20070731,144,40.6235,149.3795,5349,2470.5,2,1.691,2,1.69122,2,34.6383,2,34.6381,2,103.27,2,103.4,2,157.73,2,0.47,39.24,2,0.14,0.01,2,0.01,2.774,2,0.017,0,2,0,2,0,2,-999,9,2355.6,6,2417.1,2,7.5042,25,2,-999,9,-999,-999,9,-999,-999,9,-999,-999,9,-999,1.5192,27.7185
49NZ20070724,   P01,23,1,15, X12021,9,20070731,144,40.6235,149.3795,5349,2669.2,2,1.6296,2,1.62967,2,34.649,2,-999,9,112.68,2,-999,9,-999,9,-999,-999,9,-999,-999,9,-999,-999,9,-999,-999,9,-999,9,-999,9,-999,9,-999,9,-999,9,-999,-999,9,-999,9,-999,-999,9,-999,-999,9,-999,-999,9,-999,1.441,27.7327
49NZ20070724,   P01,23,1,14, X12020,2,20070731,144,40.6235,149.3795,5349,2870.9,2,1.579,2,1.57927,2,34.6577,2,34.6577,2,121.11,2,120.84,2,154.52,2,0.46,37.98,2,0.14,0.01,2,0.01,2.686,2,0.017,-999,9,-999,9,-999,9,-999,9,2345.8,2,2418,2,7.5361,25,6,-999,9,-999,-999,9,-999,-999,9,-999,-999,9,-999,1.3728,27.7446
49NZ20070724,   P01,23,1,13, X12019,2,20070731,144,40.6235,149.3795,5349,3080.4,2,1.5429,2,1.54289,2,34.6644,2,34.6641,2,127.5,2,127.59,2,153.35,2,0.46,37.65,2,0.14,0.01,2,0.01,2.656,2,0.017,0,2,0,2,0,2,-999,9,2342.6,2,2418.7,2,7.5485,25,2,-999,9,-999,-999,9,-999,-999,9,-999,-999,9,-999,1.3175,27.7539
49NZ20070724,   P01,23,1,12, X12040,2,20070731,144,40.6235,149.3795,5349,3331.2,2,1.5112,2,1.51126,2,34.6708,2,34.6708,2,134.47,2,134.73,2,151.28,2,0.45,37.2,2,0.14,0,2,0.01,2.605,2,0.016,-999,9,-999,9,-999,9,-999,9,2336.1,2,2417.7,2,7.5606,25,2,-999,9,-999,-999,9,-999,-999,9,-999,-999,9,-999,1.2619,27.763
49NZ20070724,   P01,23,1,11, X12047,2,20070731,144,40.6235,149.3795,5349,3579.1,2,1.484,2,1.4841,2,34.6765,2,34.6759,2,140.58,2,141.04,2,149.59,2,0.45,36.74,2,0.14,0.01,2,0.01,2.583,2,0.016,-999,9,-999,9,-999,9,-999,9,2333,2,2418,2,7.5708,25,2,-999,9,-999,-999,9,-999,-999,9,-999,-999,9,-999,1.2102,27.7712
49NZ20070724,   P01,23,1,10, X12010,2,20070731,144,40.6235,149.3795,5349,3829.5,2,1.4721,2,1.47219,2,34.6804,2,34.6801,2,145.31,2,145.73,2,148.79,2,0.45,36.49,2,0.13,0.01,2,0.01,2.553,2,0.016,0.005,2,0,2,0,2,-999,9,2328.4,2,2417.3,2,7.579,25,2,-999,9,-999,-999,9,-999,-999,9,-999,-999,9,-999,1.1723,27.7769
49NZ20070724,   P01,23,1,9, X12015,2,20070731,144,40.6235,149.3795,5349,4080.3,2,1.4635,2,1.46358,2,34.6839,2,34.6835,2,149.85,2,150.41,2,148.05,2,0.44,36.19,2,0.13,0,2,0.01,2.535,2,0.016,-999,9,-999,9,-999,9,-999,9,2326.5,2,2416.8,2,7.5867,25,2,-999,9,-999,-999,9,-999,-999,9,-999,-999,9,-999,1.1369,27.7822
49NZ20070724,   P01,23,1,8, X12046,2,20070731,144,40.6235,149.3795,5349,4328.9,2,1.4654,2,1.46562,2,34.6866,2,34.688,2,153.1,2,153.72,2,146.81,2,0.44,35.94,2,0.13,0,2,0.01,2.52,2,0.016,-999,9,-999,9,-999,9,-999,9,2322.6,6,2416.3,2,7.5914,25,2,-999,9,-999,-999,9,-999,-999,9,-999,-999,9,-999,1.111,27.7861
49NZ20070724,   P01,23,1,7, X12044,2,20070731,144,40.6235,149.3795,5349,4580.4,2,1.4775,2,1.47761,2,34.6884,2,34.6863,3,155.34,2,155.91,2,146.48,2,0.44,35.84,2,0.13,0,2,0.01,2.504,2,0.016,0.001,2,0,2,0,2,-999,9,2321.3,2,2415.5,6,7.5958,25,2,-999,9,-999,-999,9,-999,-999,9,-999,-999,9,-999,1.0939,27.7887
49NZ20070724,   P01,23,1,6, X12048,2,20070731,144,40.6235,149.3795,5349,4829.7,2,1.4957,2,1.49581,2,34.6895,2,34.6891,2,156.85,2,157.54,2,146.32,2,0.44,35.69,2,0.13,0.01,2,0.01,2.492,2,0.016,-999,9,-999,9,-999,9,-999,9,2320.1,2,2415.7,2,7.5934,25,3,-999,9,-999,-999,9,-999,-999,9,-999,-999,9,-999,1.0821,27.7904
49NZ20070724,   P01,23,1,5, X12017,2,20070731,144,40.6235,149.3795,5349,5080.2,2,1.5189,2,1.51892,2,34.6905,2,34.6898,2,158,2,158.69,2,145.91,2,0.44,35.54,2,0.13,0.01,2,0.01,2.49,2,0.016,0.006,2,0.001,2,0.002,2,-999,9,2317.9,2,2414.8,2,7.5996,25,2,-999,9,-999,-999,9,-999,-999,9,-999,-999,9,-999,1.0742,27.7917
49NZ20070724,   P01,23,1,4, X12928,2,20070731,144,40.6235,149.3795,5349,5329.6,2,1.5416,2,1.54165,2,34.6914,2,34.6911,2,160,2,160.64,2,144.19,2,0.44,35.45,2,0.13,0.01,2,0.01,2.48,2,0.016,-999,9,-999,9,-999,9,-999,9,2316.9,2,2414,2,7.6022,25,2,-999,9,-999,-999,9,-999,-999,9,-999,-999,9,-999,1.0651,27.793
49NZ20070724,   P01,23,1,3, X12931,9,20070731,144,40.6235,149.3795,5349,9.6,2,21.1924,2,21.19502,2,34.4797,2,-999,9,225.71,2,-999,9,-999,9,-999,-999,9,-999,-999,9,-999,-999,9,-999,-999,9,-999,9,-999,9,-999,9,-999,9,-999,9,-999,-999,9,-999,9,-999,-999,9,-999,-999,9,-999,-999,9,-999,21.1906,24.0461
49NZ20070724,   P01,23,1,2, X12930,9,20070731,144,40.6235,149.3795,5349,9.6,2,21.2058,2,21.20506,2,34.4789,2,-999,9,225.43,2,-999,9,-999,9,-999,-999,9,-999,-999,9,-999,-999,9,-999,-999,9,-999,9,-999,9,-999,9,-999,9,-999,9,-999,-999,9,-999,9,-999,-999,9,-999,-999,9,-999,-999,9,-999,21.204,24.0418
49NZ20070724,   P01,23,1,1, X12929,2,20070731,144,40.6235,149.3795,5349,5450,2,1.554,2,1.5541,2,34.6917,2,34.6914,6,160.29,2,160.76,2,145.06,2,0.44,35.42,2,0.13,0.01,2,0.01,2.484,2,0.016,0,2,0,2,0,2,-999,9,2316.8,2,2414.5,2,7.6019,25,2,-999,9,-999,-999,9,-999,-999,9,-999,-999,9,-999,1.0618,27.7935