BOTTLE,20081214JAMSTECIORGC,,,,,,,,,,,,,,,,,,,,,,,,,,,,,,,,,,,,,,,,,,,,,,,,,,,,,,,,,,,,,,,,,
EXPOCODE,SECT,STNNBR,CASTNO,SAMPNO,BTLNBR,BTLNBR_FLAG_W,DATE,TIME,LATITUDE,LONGITUDE,DEPTH,CTDPRS,CTDPRS_FLAG_W,CTDTMP,CTDTMP_FLAG_W,SBE35,SBE35_FLAG_W,CTDSAL,CTDSAL_FLAG_W,SALNTY,SALNTY_FLAG_W,CTDOXY,CTDOXY_FLAG_W,OXYGEN,OXYGEN_FLAG_W,SILCAT,SILCAT_FLAG_W,SILUNC,NITRAT,NITRAT_FLAG_W,NRAUNC,NITRIT,NITRIT_FLAG_W,NRIUNC,PHSPHT,PHSPHT_FLAG_W,PHPUNC,CFC-11,CFC-11_FLAG_W,CFC-12,CFC-12_FLAG_W,CFC113,CFC113_FLAG_W,CCL4,CCL4_FLAG_W,TCARBN,TCARBN_FLAG_W,ALKALI,ALKALI_FLAG_W,PH_TOT,PH_TMP,PH_FLAG_W,DELC13,DELC13_FLAG_W,C13ERR,DELC14,DELC14_FLAG_W,C14ERR,CS-137,CS-137_FLAG_W,CS137ER,PLUTO,PLUTO_FLAG_W,PLUTOER,THETA,SIG0
,,,,,,,,UTC,DEG,DEG,M,DBAR,,ITS-90,,ITS-90,,PSS-78,,PSS-78,,UMOL/KG,,UMOL/KG,,UMOL/KG,,UMOL/KG,UMOL/KG,,UMOL/KG,UMOL/KG,,UMOL/KG,UMOL/KG,,UMOL/KG,PMOL/KG,,PMOL/KG,,PMOL/KG,,PMOL/KG,,UMOL/KG,,UMOL/KG,,,ITS-90,,/MILLE,,/MILLE,/MILLE,,/MILLE,BQ/CUM,,BQ/CUM,MBQ/CUM,,MBQ/CUM,DEG C,KG/CUM
49NZ20070724,   P01,68,1,0,-999,9,20070816,2219,46.9957,-172.706,5792,-999,9,-999,9,-999,9,-999,9,32.7545,2,-999,9,-999,9,-999,9,-999,-999,9,-999,-999,9,-999,-999,9,-999,-999,9,-999,9,-999,9,-999,9,-999,9,-999,9,-999,-999,9,-999,9,-999,-999,9,-999,-999,9,-999,-999,9,-999,-999,-999
49NZ20070724,   P01,68,1,36, X12042,2,20070816,2219,46.9957,-172.706,5792,10,2,13.8122,2,13.81213,2,32.7574,2,32.7681,2,273.23,2,274.3,2,12.65,2,0.15,8.58,2,0.06,0.13,2,0.01,0.959,2,0.013,3.162,2,1.805,2,0.313,2,-999,9,2008.6,2,2215,2,7.9094,25,6,-999,9,-999,-999,9,-999,-999,9,-999,-999,9,-999,13.8108,24.4934
49NZ20070724,   P01,68,1,35, X12041,2,20070816,2219,46.9957,-172.706,5792,49.7,2,5.7718,2,5.76913,2,32.937,2,32.942,2,312.32,2,314.63,2,28.12,2,0.18,16.09,2,0.08,0.33,2,0.01,1.486,2,0.014,4.598,2,2.566,2,0.412,2,-999,9,2076.6,6,2225.2,2,7.7752,25,2,-999,9,-999,-999,9,-999,-999,9,-999,-999,9,-999,5.7678,25.9509
49NZ20070724,   P01,68,1,34, X12036,2,20070816,2219,46.9957,-172.706,5792,100.3,2,4.8161,2,4.81158,2,33.0656,2,33.0939,2,304.4,2,304.01,2,28.33,2,0.18,17.91,2,0.08,0.06,2,0.01,1.501,2,0.014,4.593,2,2.574,2,0.409,2,-999,9,2089.9,2,2234.1,2,7.7481,25,2,-999,9,-999,-999,9,-999,-999,9,-999,-999,9,-999,4.8088,26.163
49NZ20070724,   P01,68,1,33, X12033,2,20070816,2219,46.9957,-172.706,5792,150.2,2,4.1998,2,4.19774,2,33.5064,2,33.5484,2,220.22,2,210.78,2,48.94,2,0.23,27.75,2,0.11,0.01,2,0.01,2.094,2,0.015,3.915,6,2.108,6,0.283,6,-999,9,2181.9,2,2263.7,2,7.5769,25,6,-999,9,-999,-999,9,-999,-999,9,-999,-999,9,-999,4.1894,26.5787
49NZ20070724,   P01,68,1,32, X12038,2,20070816,2219,46.9957,-172.706,5792,200.7,2,4.0145,2,4.01469,2,33.7502,2,33.7556,2,137.16,2,137.71,2,67.69,2,0.27,34.28,2,0.13,0.01,2,0.01,2.512,2,0.016,3.089,2,1.607,2,0.215,2,-999,9,2245.3,2,2284.4,2,7.4576,25,2,-999,9,-999,-999,9,-999,-999,9,-999,-999,9,-999,4.0008,26.7919
49NZ20070724,   P01,68,1,31, X12003,2,20070816,2219,46.9957,-172.706,5792,250.1,2,3.8207,2,3.81977,2,33.8202,2,33.8334,6,104.3,2,103.57,2,78.23,2,0.29,37.36,2,0.14,0.01,2,0.01,2.707,2,0.017,2.59,2,1.319,2,0.159,2,-999,9,2275.2,2,2293.2,2,7.4012,25,2,-999,9,-999,-999,9,-999,-999,9,-999,-999,9,-999,3.8039,26.8674
49NZ20070724,   P01,68,1,30, X12008,2,20070816,2219,46.9957,-172.706,5792,281,2,3.8302,2,3.8301,2,33.8709,2,33.8756,2,88.44,2,87.82,2,83.45,2,0.3,38.68,2,0.14,0.01,2,0.01,2.789,2,0.017,2.331,2,1.187,2,0.161,2,-999,9,2285.6,2,2300.8,2,7.377,25,2,-999,9,-999,-999,9,-999,-999,9,-999,-999,9,-999,3.8112,26.907
49NZ20070724,   P01,68,1,29, X12035,2,20070816,2219,46.9957,-172.706,5792,370.1,2,3.7773,2,3.77717,2,34.001,2,34.006,2,50.97,2,50.89,2,97.45,2,0.33,41.65,2,0.15,0.01,2,0.01,2.989,2,0.017,1.566,2,0.785,2,0.113,2,-999,9,2317.1,2,2316.5,2,7.3301,25,2,-999,9,-999,-999,9,-999,-999,9,-999,-999,9,-999,3.752,27.0164
49NZ20070724,   P01,68,1,28, X12034,2,20070816,2219,46.9957,-172.706,5792,471.3,2,3.703,2,3.70296,2,34.1054,2,34.1067,6,34.36,2,34.71,2,108.14,2,0.36,42.7,2,0.15,0.01,2,0.01,3.041,2,0.018,1.017,2,0.499,2,0.066,2,-999,9,2335,2,2329.2,2,7.3226,25,2,-999,9,-999,-999,9,-999,-999,9,-999,-999,9,-999,3.6707,27.1076
49NZ20070724,   P01,68,1,27, X12049,2,20070816,2219,46.9957,-172.706,5792,570.8,2,3.501,2,3.50095,2,34.1949,2,34.195,2,25.49,2,25.31,2,118.93,2,0.38,43.42,2,0.15,0.01,2,0.01,3.097,2,0.018,0.618,2,0.303,2,0.045,2,-999,9,2351.1,2,2345.4,2,7.3203,25,2,-999,9,-999,-999,9,-999,-999,9,-999,-999,9,-999,3.4622,27.1992
49NZ20070724,   P01,68,1,26, X12032,2,20070816,2219,46.9957,-172.706,5792,671.6,2,3.3518,2,3.35149,2,34.2518,2,34.252,2,24.76,2,24.49,2,125.65,2,0.4,43.41,2,0.15,0.01,2,0.01,3.103,2,0.018,0.422,6,0.207,6,0.027,6,-999,9,2358.5,6,2354.7,2,7.3266,25,2,-999,9,-999,-999,9,-999,-999,9,-999,-999,9,-999,3.3064,27.2594
49NZ20070724,   P01,68,1,25, X12043,2,20070816,2219,46.9957,-172.706,5792,769.1,2,3.1873,2,3.18708,2,34.3063,2,34.3068,2,25.25,2,25.07,2,131.82,2,0.41,43.46,2,0.15,0,2,0.01,3.115,2,0.018,0.194,3,0.094,3,0.013,3,-999,9,2363.2,2,2365,2,7.3374,25,2,-999,9,-999,-999,9,-999,-999,9,-999,-999,9,-999,3.1356,27.3188
49NZ20070724,   P01,68,1,24, X12030,2,20070816,2219,46.9957,-172.706,5792,871.2,2,3.0063,2,3.00629,2,34.3469,2,34.3467,2,24.42,2,24.21,2,137.79,2,0.42,43.41,2,0.15,0,2,0.01,3.114,2,0.018,0.194,2,0.095,2,0.01,2,-999,9,2370.1,2,2372.5,2,7.3384,25,6,-999,9,-999,-999,9,-999,-999,9,-999,-999,9,-999,2.9482,27.3684
49NZ20070724,   P01,68,1,23, X12027,2,20070816,2219,46.9957,-172.706,5792,972,2,2.8374,2,2.83748,2,34.3813,2,34.3807,6,24.33,2,24.22,2,143.49,2,0.43,43.67,2,0.16,0,2,0.01,3.127,2,0.018,0.146,2,0.066,2,0.013,2,-999,9,2376.6,2,2378.9,2,7.3422,25,2,-999,9,-999,-999,9,-999,-999,9,-999,-999,9,-999,2.7731,27.4115
49NZ20070724,   P01,68,1,22, X12028,2,20070816,2219,46.9957,-172.706,5792,1130.4,2,2.6049,2,2.60453,2,34.4349,2,34.4352,2,26.88,2,27,2,151.1,2,0.45,43.7,2,0.16,0,2,0.01,3.114,2,0.018,0.087,2,0.036,2,0.006,2,-999,9,2381.8,2,2388.4,2,7.3495,25,2,-999,9,-999,-999,9,-999,-999,9,-999,-999,9,-999,2.5306,27.4754
49NZ20070724,   P01,68,1,21, X12009,2,20070816,2219,46.9957,-172.706,5792,1331.5,2,2.3798,2,2.37969,2,34.4859,2,34.4859,2,32.21,2,32.1,2,157.61,2,0.47,43.57,2,0.15,0,2,0.01,3.099,2,0.018,0.037,2,0.015,2,0.008,2,-999,9,2386.7,2,2397.9,2,7.365,25,2,-999,9,-999,-999,9,-999,-999,9,-999,-999,9,-999,2.2924,27.5362
49NZ20070724,   P01,68,1,20, X12026,2,20070816,2219,46.9957,-172.706,5792,1531,2,2.1972,2,2.19708,2,34.5277,2,34.5277,2,39.9,2,39.92,2,162.54,2,0.48,43.15,2,0.15,0,2,0.01,3.06,2,0.018,0.012,2,0.004,2,0.007,2,-999,9,2385.6,2,2402.9,2,7.3842,25,6,-999,9,-999,-999,9,-999,-999,9,-999,-999,9,-999,2.0964,27.5856
49NZ20070724,   P01,68,1,19, X12025,2,20070816,2219,46.9957,-172.706,5792,1731.2,2,2.0604,2,2.06041,2,34.5581,2,34.5579,2,50.95,2,50.56,2,164.65,2,0.48,42.58,2,0.15,0.01,2,0.01,3.015,2,0.017,0.009,2,0.002,2,0,2,-999,9,2382.9,2,2408.9,2,7.4047,25,2,-999,9,-999,-999,9,-999,-999,9,-999,-999,9,-999,1.9454,27.6219
49NZ20070724,   P01,68,1,18, X12024,2,20070816,2219,46.9957,-172.706,5792,1928.6,2,1.9462,2,1.94618,2,34.5833,2,34.5834,2,60.92,2,60.58,2,166.08,2,0.48,41.93,2,0.15,0,2,0.01,2.958,2,0.017,0,2,0.002,2,0,2,-999,9,2377.5,3,2413.3,2,7.4271,25,2,-999,9,-999,-999,9,-999,-999,9,-999,-999,9,-999,1.8167,27.6521
49NZ20070724,   P01,68,1,17, X12023,2,20070816,2219,46.9957,-172.706,5792,2130,2,1.8476,2,1.84752,2,34.604,2,34.6044,2,71.31,2,71.07,2,166.96,2,0.49,41.35,2,0.15,0,2,0.01,2.924,2,0.017,0,2,0,2,0,2,-999,9,2374.9,2,2415.5,2,7.4466,25,2,-999,9,-999,-999,9,-999,-999,9,-999,-999,9,-999,1.7027,27.6774
49NZ20070724,   P01,68,1,16, X12022,2,20070816,2219,46.9957,-172.706,5792,2331.3,2,1.7535,2,1.75353,2,34.6224,2,34.6224,2,83.18,2,82.51,2,166.93,2,0.49,40.59,2,0.15,0,2,0.01,2.863,2,0.017,-999,9,-999,9,-999,9,-999,9,2369.2,6,2418.3,2,7.4689,25,2,-999,9,-999,-999,9,-999,-999,9,-999,-999,9,-999,1.5928,27.7003
49NZ20070724,   P01,68,1,15, X12021,2,20070816,2219,46.9957,-172.706,5792,2529.7,2,1.6815,2,1.68138,2,34.636,2,34.636,6,93.96,2,93.43,2,165.72,2,0.48,39.93,2,0.14,0,2,0.01,2.815,2,0.017,0,2,0.001,2,0,2,-999,9,2362.2,2,2420,2,7.4902,25,2,-999,9,-999,-999,9,-999,-999,9,-999,-999,9,-999,1.5046,27.7177
49NZ20070724,   P01,68,1,14, X12020,2,20070816,2219,46.9957,-172.706,5792,2728.9,2,1.6266,2,1.6266,2,34.6464,2,34.6462,2,103.65,2,103.39,2,164.14,2,0.48,39.29,2,0.14,0,2,0.01,2.768,2,0.017,-999,9,-999,9,-999,9,-999,9,2356.4,2,2420.8,2,7.5081,25,6,-999,9,-999,-999,9,-999,-999,9,-999,-999,9,-999,1.4326,27.7313
49NZ20070724,   P01,68,1,13, X12019,2,20070816,2219,46.9957,-172.706,5792,2929.5,2,1.5796,2,1.57959,2,34.6554,2,34.6556,2,113.11,2,112.7,2,162.2,2,0.48,38.69,2,0.14,0.01,2,0.01,2.732,2,0.017,-999,9,-999,9,-999,9,-999,9,2351.3,2,2420.1,2,7.5252,25,2,-999,9,-999,-999,9,-999,-999,9,-999,-999,9,-999,1.3679,27.7432
49NZ20070724,   P01,68,1,12, X12040,2,20070816,2219,46.9957,-172.706,5792,3170,2,1.5372,2,1.53717,2,34.6638,2,34.6638,2,122.95,2,122.46,2,159.74,2,0.47,37.91,2,0.14,0,2,0.01,2.668,2,0.017,0,2,0,2,0,2,-999,9,2345.3,2,2421.1,2,7.5422,25,2,-999,9,-999,-999,9,-999,-999,9,-999,-999,9,-999,1.3032,27.7545
49NZ20070724,   P01,68,1,11, X12047,2,20070816,2219,46.9957,-172.706,5792,3419.5,2,1.5017,2,1.50169,2,34.6712,2,34.6708,2,131.64,2,131.3,2,157.93,2,0.47,37.44,2,0.14,0,2,0.01,2.636,2,0.017,-999,9,-999,9,-999,9,-999,9,2336.9,3,2420.8,2,7.5584,25,2,-999,9,-999,-999,9,-999,-999,9,-999,-999,9,-999,1.2438,27.7645
49NZ20070724,   P01,68,1,10, X12010,2,20070816,2219,46.9957,-172.706,5792,3668.8,2,1.4852,2,1.48522,2,34.6763,2,34.6761,2,137.61,2,137.5,2,156.81,2,0.46,37.02,2,0.14,0,2,0.01,2.592,2,0.016,-999,9,-999,9,-999,9,-999,9,2335.5,2,2421.4,2,7.57,25,2,-999,9,-999,-999,9,-999,-999,9,-999,-999,9,-999,1.2021,27.7716
49NZ20070724,   P01,68,1,9, X12015,2,20070816,2219,46.9957,-172.706,5792,3919.6,2,1.4715,2,1.47156,2,34.681,2,34.6803,2,143.33,2,143.35,2,155.66,2,0.46,36.74,2,0.14,0.01,2,0.01,2.571,2,0.016,0,2,0,2,0,2,-999,9,2329.9,2,2421.3,2,7.5805,25,2,-999,9,-999,-999,9,-999,-999,9,-999,-999,9,-999,1.1621,27.7781
49NZ20070724,   P01,68,1,8, X12046,2,20070816,2219,46.9957,-172.706,5792,4169.5,2,1.4734,2,1.47346,2,34.6842,2,34.6842,6,146.84,2,147,2,155.66,2,0.46,36.39,2,0.13,0,2,0.01,2.545,2,0.016,-999,9,-999,9,-999,9,-999,9,2328.8,6,2422.4,2,7.5881,25,2,-999,9,-999,-999,9,-999,-999,9,-999,-999,9,-999,1.1366,27.7824
49NZ20070724,   P01,68,1,7, X12044,2,20070816,2219,46.9957,-172.706,5792,4420.1,2,1.4844,2,1.48448,2,34.6865,2,34.6859,2,149.21,2,149.44,2,156.73,2,0.46,36.26,2,0.13,0,2,0.01,2.537,2,0.016,-999,9,-999,9,-999,9,-999,9,2328.1,2,2423.7,6,7.5938,25,2,-999,9,-999,-999,9,-999,-999,9,-999,-999,9,-999,1.1191,27.7854
49NZ20070724,   P01,68,1,6, X12048,2,20070816,2219,46.9957,-172.706,5792,4669.9,2,1.5087,2,1.50879,2,34.6876,2,34.6873,2,149.55,2,149.66,2,158.29,2,0.47,36.25,2,0.13,0,2,0.01,2.531,2,0.016,0,2,0,2,0,2,-999,9,2327.4,2,2424.9,2,7.5908,25,2,-999,9,-999,-999,9,-999,-999,9,-999,-999,9,-999,1.1137,27.7867
49NZ20070724,   P01,68,1,5, X12017,2,20070816,2219,46.9957,-172.706,5792,4920,2,1.5359,2,1.53598,2,34.688,2,34.6869,2,150.17,2,150.24,2,158.5,2,0.47,36.25,2,0.13,0,2,0.01,2.526,2,0.016,-999,9,-999,9,-999,9,-999,9,2328.5,2,2424.7,2,7.5961,25,2,-999,9,-999,-999,9,-999,-999,9,-999,-999,9,-999,1.1102,27.7873
49NZ20070724,   P01,68,1,4, X12928,2,20070816,2219,46.9957,-172.706,5792,5170.8,2,1.5641,2,1.5641,2,34.6885,2,34.6884,2,151.02,2,151.11,2,158.87,2,0.47,36.25,2,0.13,0,2,0.01,2.518,2,0.016,-999,9,-999,9,-999,9,-999,9,2326,2,2425.1,2,7.5977,25,2,-999,9,-999,-999,9,-999,-999,9,-999,-999,9,-999,1.1067,27.7879
49NZ20070724,   P01,68,1,3, X12931,2,20070816,2219,46.9957,-172.706,5792,5419.5,2,1.595,2,1.595,2,34.6886,2,34.688,2,151.48,2,151.49,2,159.1,2,0.47,36.15,2,0.13,0,2,0.01,2.516,2,0.016,0.01,2,0.002,2,0,2,-999,9,2326.3,2,2423.6,2,7.5975,25,2,-999,9,-999,-999,9,-999,-999,9,-999,-999,9,-999,1.1053,27.7881
49NZ20070724,   P01,68,1,2, X12930,2,20070816,2219,46.9957,-172.706,5792,5669.1,2,1.624,2,1.62389,2,34.6888,2,34.6885,2,152.86,2,152.84,2,157.17,2,0.46,36.1,2,0.13,0,2,0.01,2.511,2,0.016,-999,9,-999,9,-999,9,-999,9,2326.1,2,2421.8,2,7.5988,25,2,-999,9,-999,-999,9,-999,-999,9,-999,-999,9,-999,1.1011,27.7885
49NZ20070724,   P01,68,1,1, X12929,2,20070816,2219,46.9957,-172.706,5792,5882.8,2,1.6466,2,1.64631,2,34.689,2,34.689,6,154.72,2,154.36,2,154.26,2,0.46,35.86,2,0.13,0,2,0.01,2.515,2,0.016,0,2,0,2,0,2,-999,9,2321.7,2,2420.2,2,7.5987,25,2,-999,9,-999,-999,9,-999,-999,9,-999,-999,9,-999,1.0947,27.7891