BOTTLE,20081214JAMSTECIORGC,,,,,,,,,,,,,,,,,,,,,,,,,,,,,,,,,,,,,,,,,,,,,,,,,,,,,,,,,,,,,,,,,
EXPOCODE,SECT,STNNBR,CASTNO,SAMPNO,BTLNBR,BTLNBR_FLAG_W,DATE,TIME,LATITUDE,LONGITUDE,DEPTH,CTDPRS,CTDPRS_FLAG_W,CTDTMP,CTDTMP_FLAG_W,SBE35,SBE35_FLAG_W,CTDSAL,CTDSAL_FLAG_W,SALNTY,SALNTY_FLAG_W,CTDOXY,CTDOXY_FLAG_W,OXYGEN,OXYGEN_FLAG_W,SILCAT,SILCAT_FLAG_W,SILUNC,NITRAT,NITRAT_FLAG_W,NRAUNC,NITRIT,NITRIT_FLAG_W,NRIUNC,PHSPHT,PHSPHT_FLAG_W,PHPUNC,CFC-11,CFC-11_FLAG_W,CFC-12,CFC-12_FLAG_W,CFC113,CFC113_FLAG_W,CCL4,CCL4_FLAG_W,TCARBN,TCARBN_FLAG_W,ALKALI,ALKALI_FLAG_W,PH_TOT,PH_TMP,PH_FLAG_W,DELC13,DELC13_FLAG_W,C13ERR,DELC14,DELC14_FLAG_W,C14ERR,CS-137,CS-137_FLAG_W,CS137ER,PLUTO,PLUTO_FLAG_W,PLUTOER,THETA,SIG0
,,,,,,,,UTC,DEG,DEG,M,DBAR,,ITS-90,,ITS-90,,PSS-78,,PSS-78,,UMOL/KG,,UMOL/KG,,UMOL/KG,,UMOL/KG,UMOL/KG,,UMOL/KG,UMOL/KG,,UMOL/KG,UMOL/KG,,UMOL/KG,PMOL/KG,,PMOL/KG,,PMOL/KG,,PMOL/KG,,UMOL/KG,,UMOL/KG,,,ITS-90,,/MILLE,,/MILLE,/MILLE,,/MILLE,BQ/CUM,,BQ/CUM,MBQ/CUM,,MBQ/CUM,DEG C,KG/CUM
49NZ20070724,   P01,20,1,0,-999,9,20070730,655,39.6945,147.921,5351,-999,9,-999,9,-999,9,-999,9,34.3789,2,-999,9,-999,9,-999,9,-999,-999,9,-999,-999,9,-999,-999,9,-999,-999,9,-999,9,-999,9,-999,9,-999,9,-999,9,-999,-999,9,-999,9,-999,-999,9,-999,-999,9,-999,-999,9,-999,-999,-999
49NZ20070724,   P01,20,1,36, X12042,2,20070730,655,39.6945,147.921,5351,8.9,2,20.5745,2,20.57424,2,34.3796,2,34.3925,2,228.61,2,228.87,2,2.27,2,0.12,0.04,2,0.03,0.01,2,0.01,0.046,2,0.036,2.113,2,1.268,2,0.301,2,-999,9,-999,9,-999,9,-999,-999,9,-999,9,-999,-999,9,-999,-999,9,-999,-999,9,-999,20.5728,24.1367
49NZ20070724,   P01,20,1,35, X12041,2,20070730,655,39.6945,147.921,5351,48.9,2,15.352,2,15.40738,2,34.416,2,34.3555,2,227.82,2,227.46,2,7.2,2,0.13,4.94,2,0.05,0.55,2,0,0.453,2,0.013,-999,5,-999,5,-999,5,-999,9,-999,9,-999,9,-999,-999,9,-999,9,-999,-999,9,-999,-999,9,-999,-999,9,-999,15.3445,25.4458
49NZ20070724,   P01,20,1,34, X12036,2,20070730,655,39.6945,147.921,5351,99.7,2,12.2171,2,12.21674,2,34.3284,2,34.3292,2,206.5,2,208.6,2,15.84,2,0.15,11.63,2,0.07,0.04,2,0.01,0.87,2,0.013,2.632,2,1.474,2,0.132,2,-999,9,-999,9,-999,9,-999,-999,9,-999,9,-999,-999,9,-999,-999,9,-999,-999,9,-999,12.2041,26.0284
49NZ20070724,   P01,20,1,33, X12033,2,20070730,655,39.6945,147.921,5351,149.3,2,10.9565,2,10.95833,2,34.2818,2,34.2748,2,216.1,2,216.01,2,20.11,2,0.16,13.72,2,0.07,0.03,2,0.01,1.016,2,0.013,2.722,6,1.523,6,0.144,6,-999,9,-999,9,-999,9,-999,-999,9,-999,9,-999,-999,9,-999,-999,9,-999,-999,9,-999,10.9383,26.2273
49NZ20070724,   P01,20,1,32, X12038,2,20070730,655,39.6945,147.921,5351,201.4,2,7.8758,2,7.87084,2,33.8987,2,33.839,2,221.41,2,227.67,2,30.07,2,0.19,18.5,2,0.08,0.02,2,0.01,1.426,2,0.014,3.358,2,1.826,2,0.207,2,-999,9,-999,9,-999,9,-999,-999,9,-999,9,-999,-999,9,-999,-999,9,-999,-999,9,-999,7.8559,26.4301
49NZ20070724,   P01,20,1,31, X12003,2,20070730,655,39.6945,147.921,5351,251.1,2,4.7438,2,4.74028,2,33.6281,2,33.6535,6,234.7,2,229.98,2,44.59,2,0.22,24.29,2,0.1,0.02,2,0.01,1.879,2,0.015,-999,5,-999,5,-999,5,-999,9,-999,9,-999,9,-999,-999,9,-999,9,-999,-999,9,-999,-999,9,-999,-999,9,-999,4.7251,26.6183
49NZ20070724,   P01,20,1,30, X12008,2,20070730,655,39.6945,147.921,5351,330.3,2,4.576,2,4.57517,2,33.8112,2,33.8351,2,168.6,2,164.44,2,62.08,2,0.26,30.21,2,0.12,0.02,2,0.01,2.266,2,0.016,-999,5,-999,5,-999,5,-999,9,-999,9,-999,9,-999,-999,9,-999,9,-999,-999,9,-999,-999,9,-999,-999,9,-999,4.5516,26.7825
49NZ20070724,   P01,20,1,29, X12035,2,20070730,655,39.6945,147.921,5351,430.3,2,4.0856,2,4.08541,2,33.9136,2,33.9191,2,118.5,2,118.86,2,80.34,2,0.3,35.18,2,0.13,0.01,2,0.01,2.603,2,0.016,2.209,2,1.142,2,0.127,2,-999,9,-999,9,-999,9,-999,-999,9,-999,9,-999,-999,9,-999,-999,9,-999,-999,9,-999,4.055,26.9163
49NZ20070724,   P01,20,1,28, X12034,2,20070730,655,39.6945,147.921,5351,533,2,3.6448,2,3.64884,2,34.0031,2,34.0049,6,78.44,2,78.99,2,96.86,2,0.33,38.78,2,0.14,0.01,2,0.01,2.844,2,0.017,1.656,2,0.841,2,0.092,2,-999,9,-999,9,-999,9,-999,-999,9,-999,9,-999,-999,9,-999,-999,9,-999,-999,9,-999,3.6083,27.0322
49NZ20070724,   P01,20,1,27, X12049,2,20070730,655,39.6945,147.921,5351,632,2,3.5793,2,3.57756,2,34.1341,2,34.1426,2,51.71,2,52.93,2,110.25,2,0.36,40.97,2,0.15,0,2,0.01,2.966,2,0.017,1.009,2,0.503,2,0.071,2,-999,9,-999,9,-999,9,-999,-999,9,-999,9,-999,-999,9,-999,-999,9,-999,-999,9,-999,3.5357,27.1437
49NZ20070724,   P01,20,1,26, X12032,2,20070730,655,39.6945,147.921,5351,729.8,2,3.7355,2,3.73398,2,34.297,2,34.2984,2,48.37,2,49.81,2,116.23,2,0.37,40.49,2,0.15,0.01,2,0.01,2.946,2,0.017,0.431,6,0.211,6,0.024,6,-999,9,-999,9,-999,9,-999,-999,9,-999,9,-999,-999,9,-999,-999,9,-999,-999,9,-999,3.6835,27.2589
49NZ20070724,   P01,20,1,25, X12043,2,20070730,655,39.6945,147.921,5351,830.1,2,3.4119,2,3.4114,2,34.3381,2,34.338,2,43.94,2,44.71,2,125.35,2,0.39,41.57,2,0.15,0.01,2,0.01,3.003,2,0.017,-999,5,-999,5,-999,5,-999,9,-999,9,-999,9,-999,-999,9,-999,9,-999,-999,9,-999,-999,9,-999,-999,9,-999,3.3542,27.3238
49NZ20070724,   P01,20,1,24, X12030,2,20070730,655,39.6945,147.921,5351,930.2,2,3.0404,2,3.04031,2,34.3708,2,34.3698,2,38.7,2,39.07,2,135.21,2,0.42,42.34,2,0.15,0.01,2,0.01,3.051,2,0.018,0.24,2,0.117,2,0.023,2,-999,9,-999,9,-999,9,-999,-999,9,-999,9,-999,-999,9,-999,-999,9,-999,-999,9,-999,2.9777,27.3848
49NZ20070724,   P01,20,1,23, X12027,2,20070730,655,39.6945,147.921,5351,1072.5,2,2.6553,2,2.65534,2,34.4112,2,34.4105,6,37.48,2,37.86,2,146.48,2,0.44,42.67,2,0.15,0.01,2,0.01,3.077,2,0.018,0.211,2,0.098,2,0.019,2,-999,9,-999,9,-999,9,-999,-999,9,-999,9,-999,-999,9,-999,-999,9,-999,-999,9,-999,2.5849,27.4518
49NZ20070724,   P01,20,1,22, X12028,2,20070730,655,39.6945,147.921,5351,1270.4,2,2.5238,2,2.52379,2,34.4519,2,34.452,2,39.89,2,40.17,2,150.42,2,0.45,42.61,2,0.15,0.01,2,0.01,3.074,2,0.018,-999,5,-999,5,-999,5,-999,9,-999,9,-999,9,-999,-999,9,-999,9,-999,-999,9,-999,-999,9,-999,-999,9,-999,2.4397,27.4968
49NZ20070724,   P01,20,1,21, X12009,2,20070730,655,39.6945,147.921,5351,1470.4,2,2.3162,2,2.31618,2,34.5158,2,34.516,2,47.46,2,47.59,2,154.92,2,0.46,42.3,2,0.15,0.01,2,0.01,3.04,2,0.018,0.038,2,0.017,2,0.01,2,-999,9,-999,9,-999,9,-999,-999,9,-999,9,-999,-999,9,-999,-999,9,-999,-999,9,-999,2.2187,27.5662
49NZ20070724,   P01,20,1,20, X12026,2,20070730,655,39.6945,147.921,5351,1671.9,2,2.129,2,2.12904,2,34.5563,2,34.556,2,58.25,2,58.41,2,157.92,2,0.47,41.85,2,0.15,0.01,2,0.01,2.99,2,0.017,0.017,2,0.007,2,0,2,-999,9,-999,9,-999,9,-999,-999,9,-999,9,-999,-999,9,-999,-999,9,-999,-999,9,-999,2.0178,27.6148
49NZ20070724,   P01,20,1,19, X12025,2,20070730,655,39.6945,147.921,5351,1872.2,2,1.9838,2,1.98403,2,34.5854,2,34.5848,2,70.2,2,69.58,2,159.35,2,0.47,41.33,2,0.15,0.01,2,0.01,2.937,2,0.017,0.006,2,0.002,2,0,2,-999,9,-999,9,-999,9,-999,-999,9,-999,9,-999,-999,9,-999,-999,9,-999,-999,9,-999,1.8583,27.6506
49NZ20070724,   P01,20,1,18, X12024,2,20070730,655,39.6945,147.921,5351,2071.1,2,1.8685,2,1.86843,2,34.6072,2,34.6073,2,82.35,2,81.89,2,159.11,2,0.47,40.59,2,0.15,0.01,2,0.01,2.878,2,0.017,0.003,2,0,2,0,2,-999,9,-999,9,-999,9,-999,-999,9,-999,9,-999,-999,9,-999,-999,9,-999,-999,9,-999,1.7282,27.678
49NZ20070724,   P01,20,1,17, X12023,2,20070730,655,39.6945,147.921,5351,2269.1,2,1.759,2,1.759,2,34.6262,2,34.6258,2,95.05,2,94.41,2,158.66,2,0.47,39.74,2,0.14,0.01,2,0.01,2.816,2,0.017,0.001,2,0,2,0,2,-999,9,-999,9,-999,9,-999,-999,9,-999,9,-999,-999,9,-999,-999,9,-999,-999,9,-999,1.6036,27.7026
49NZ20070724,   P01,20,1,16, X12022,2,20070730,655,39.6945,147.921,5351,2470.2,2,1.6835,2,1.68357,2,34.6394,2,34.6394,2,105.1,2,104.76,2,157.47,2,0.47,39.14,2,0.14,0.01,2,0.01,2.768,2,0.017,0.001,2,0,2,0,2,-999,9,-999,9,-999,9,-999,-999,9,-999,9,-999,-999,9,-999,-999,9,-999,-999,9,-999,1.5118,27.7199
49NZ20070724,   P01,20,1,15, X12021,2,20070730,655,39.6945,147.921,5351,2669,2,1.6306,2,1.63063,2,34.6489,2,34.6484,6,113.56,2,112.83,2,155.91,2,0.46,38.62,2,0.14,0,2,0.01,2.726,2,0.017,-999,9,-999,9,-999,9,-999,9,-999,9,-999,9,-999,-999,9,-999,9,-999,-999,9,-999,-999,9,-999,-999,9,-999,1.442,27.7326
49NZ20070724,   P01,20,1,14, X12020,2,20070730,655,39.6945,147.921,5351,2869,2,1.5852,2,1.58527,2,34.6571,2,34.657,2,121.3,2,120.77,2,154.66,2,0.46,38.14,2,0.14,0.01,2,0.01,2.687,2,0.017,-999,9,-999,9,-999,9,-999,9,-999,9,-999,9,-999,-999,9,-999,9,-999,-999,9,-999,-999,9,-999,-999,9,-999,1.379,27.7437
49NZ20070724,   P01,20,1,13, X12019,2,20070730,655,39.6945,147.921,5351,3079.5,2,1.5383,2,1.53832,2,34.6649,2,34.6646,2,128.97,2,128.58,2,152.92,2,0.46,37.67,2,0.14,0.01,2,0.01,2.647,2,0.017,0.001,2,0,2,0,2,-999,9,-999,9,-999,9,-999,-999,9,-999,9,-999,-999,9,-999,-999,9,-999,-999,9,-999,1.3131,27.7546
49NZ20070724,   P01,20,1,12, X12040,2,20070730,655,39.6945,147.921,5351,3330.3,2,1.4991,2,1.49908,2,34.6721,2,34.672,2,136.25,2,136.16,2,151.02,2,0.45,37.01,2,0.14,0.01,2,0.01,2.605,2,0.016,-999,9,-999,9,-999,9,-999,9,-999,9,-999,9,-999,-999,9,-999,9,-999,-999,9,-999,-999,9,-999,-999,9,-999,1.2502,27.7648
49NZ20070724,   P01,20,1,11, X12047,2,20070730,655,39.6945,147.921,5351,3579.5,2,1.4788,2,1.47883,2,34.6769,2,34.6766,2,141.91,2,141.77,2,149.89,2,0.45,36.74,2,0.14,0.01,2,0.01,2.576,2,0.016,-999,9,-999,9,-999,9,-999,9,-999,9,-999,9,-999,-999,9,-999,9,-999,-999,9,-999,-999,9,-999,-999,9,-999,1.2051,27.7718
49NZ20070724,   P01,20,1,10, X12010,2,20070730,655,39.6945,147.921,5351,3830,2,1.4652,2,1.4653,2,34.6811,2,34.6806,2,146.9,2,146.79,2,148.45,2,0.45,36.38,2,0.13,0.01,2,0.01,2.55,2,0.016,0.003,2,0,2,0.005,2,-999,9,-999,9,-999,9,-999,-999,9,-999,9,-999,-999,9,-999,-999,9,-999,-999,9,-999,1.1656,27.7779
49NZ20070724,   P01,20,1,9, X12015,2,20070730,655,39.6945,147.921,5351,4079.3,2,1.4573,2,1.45738,2,34.6844,2,34.6842,2,151.24,2,151.26,2,147.39,2,0.44,36.13,2,0.13,0,2,0.01,2.53,2,0.016,-999,9,-999,9,-999,9,-999,9,-999,9,-999,9,-999,-999,9,-999,9,-999,-999,9,-999,-999,9,-999,-999,9,-999,1.131,27.783
49NZ20070724,   P01,20,1,8, X12046,2,20070730,655,39.6945,147.921,5351,4329.9,2,1.464,2,1.46398,2,34.6866,2,34.6867,6,154.14,2,154.22,2,146.49,2,0.44,35.87,2,0.13,0,2,0.01,2.509,2,0.016,-999,9,-999,9,-999,9,-999,9,-999,9,-999,9,-999,-999,9,-999,9,-999,-999,9,-999,-999,9,-999,-999,9,-999,1.1095,27.7862
49NZ20070724,   P01,20,1,7, X12044,2,20070730,655,39.6945,147.921,5351,4580.6,2,1.4747,2,1.4747,2,34.6885,2,34.6887,2,156.43,2,156.35,2,145.87,2,0.44,35.66,2,0.13,0.01,2,0.01,2.502,2,0.016,0.005,2,0,2,0,2,-999,9,-999,9,-999,9,-999,-999,9,-999,9,-999,-999,9,-999,-999,9,-999,-999,9,-999,1.0912,27.7889
49NZ20070724,   P01,20,1,6, X12048,2,20070730,655,39.6945,147.921,5351,4829.6,2,1.4928,2,1.49281,2,34.6898,2,34.6901,2,158.14,2,158.29,2,145.72,2,0.44,35.63,2,0.13,0,2,0.01,2.49,2,0.016,-999,9,-999,9,-999,9,-999,9,-999,9,-999,9,-999,-999,9,-999,9,-999,-999,9,-999,-999,9,-999,-999,9,-999,1.0793,27.7908
49NZ20070724,   P01,20,1,5, X12017,2,20070730,655,39.6945,147.921,5351,5079.3,2,1.5139,2,1.51383,2,34.6908,2,34.6907,2,159.96,2,159.96,2,144.45,2,0.44,35.37,2,0.13,0.01,2,0.01,2.478,2,0.016,0.005,2,0.001,2,0,2,-999,9,-999,9,-999,9,-999,-999,9,-999,9,-999,-999,9,-999,-999,9,-999,-999,9,-999,1.0695,27.7922
49NZ20070724,   P01,20,1,4, X12928,2,20070730,655,39.6945,147.921,5351,5329,2,1.5363,2,1.5362,2,34.6916,2,34.6919,2,161.7,2,161.57,2,143.44,2,0.43,35.38,2,0.13,0.01,2,0.01,2.477,2,0.016,-999,9,-999,9,-999,9,-999,9,-999,9,-999,9,-999,-999,9,-999,9,-999,-999,9,-999,-999,9,-999,-999,9,-999,1.0601,27.7935
49NZ20070724,   P01,20,1,3, X12931,9,20070730,655,39.6945,147.921,5351,9.2,2,20.5709,2,20.56555,2,34.38,2,-999,9,229.08,2,-999,9,-999,9,-999,-999,9,-999,-999,9,-999,-999,9,-999,-999,9,-999,9,-999,9,-999,9,-999,9,-999,9,-999,-999,9,-999,9,-999,-999,9,-999,-999,9,-999,-999,9,-999,20.5692,24.138
49NZ20070724,   P01,20,1,2, X12930,9,20070730,655,39.6945,147.921,5351,48.8,2,15.4647,2,15.46381,2,34.4232,2,-999,9,227.05,2,-999,9,-999,9,-999,-999,9,-999,-999,9,-999,-999,9,-999,-999,9,-999,9,-999,9,-999,9,-999,9,-999,9,-999,-999,9,-999,9,-999,-999,9,-999,-999,9,-999,-999,9,-999,15.4572,25.4262
49NZ20070724,   P01,20,1,1, X12929,2,20070730,655,39.6945,147.921,5351,5441.5,2,1.5472,2,1.54719,2,34.6922,2,34.6923,6,162.43,2,162.08,2,143,2,0.43,35.23,2,0.13,0.01,2,0.01,2.473,2,0.016,0.001,2,0.001,2,0,2,-999,9,-999,9,-999,9,-999,-999,9,-999,9,-999,-999,9,-999,-999,9,-999,-999,9,-999,1.0564,27.7942