BOTTLE,20081214JAMSTECIORGC,,,,,,,,,,,,,,,,,,,,,,,,,,,,,,,,,,,,,,,,,,,,,,,,,,,,,,,,,,,,,,,,,
EXPOCODE,SECT,STNNBR,CASTNO,SAMPNO,BTLNBR,BTLNBR_FLAG_W,DATE,TIME,LATITUDE,LONGITUDE,DEPTH,CTDPRS,CTDPRS_FLAG_W,CTDTMP,CTDTMP_FLAG_W,SBE35,SBE35_FLAG_W,CTDSAL,CTDSAL_FLAG_W,SALNTY,SALNTY_FLAG_W,CTDOXY,CTDOXY_FLAG_W,OXYGEN,OXYGEN_FLAG_W,SILCAT,SILCAT_FLAG_W,SILUNC,NITRAT,NITRAT_FLAG_W,NRAUNC,NITRIT,NITRIT_FLAG_W,NRIUNC,PHSPHT,PHSPHT_FLAG_W,PHPUNC,CFC-11,CFC-11_FLAG_W,CFC-12,CFC-12_FLAG_W,CFC113,CFC113_FLAG_W,CCL4,CCL4_FLAG_W,TCARBN,TCARBN_FLAG_W,ALKALI,ALKALI_FLAG_W,PH_TOT,PH_TMP,PH_FLAG_W,DELC13,DELC13_FLAG_W,C13ERR,DELC14,DELC14_FLAG_W,C14ERR,CS-137,CS-137_FLAG_W,CS137ER,PLUTO,PLUTO_FLAG_W,PLUTOER,THETA,SIG0
,,,,,,,,UTC,DEG,DEG,M,DBAR,,ITS-90,,ITS-90,,PSS-78,,PSS-78,,UMOL/KG,,UMOL/KG,,UMOL/KG,,UMOL/KG,UMOL/KG,,UMOL/KG,UMOL/KG,,UMOL/KG,UMOL/KG,,UMOL/KG,PMOL/KG,,PMOL/KG,,PMOL/KG,,PMOL/KG,,UMOL/KG,,UMOL/KG,,,ITS-90,,/MILLE,,/MILLE,/MILLE,,/MILLE,BQ/CUM,,BQ/CUM,MBQ/CUM,,MBQ/CUM,DEG C,KG/CUM
49NZ20070724,   P01,60,1,0,-999,9,20070814,1309,47.0028,178.3045,5765,-999,9,-999,9,-999,9,-999,9,32.8089,2,-999,9,-999,9,-999,9,-999,-999,9,-999,-999,9,-999,-999,9,-999,-999,9,-999,9,-999,9,-999,9,-999,9,-999,9,-999,-999,9,-999,9,-999,-999,9,-999,-999,1,-999,-999,9,-999,-999,-999
49NZ20070724,   P01,60,1,36, X12042,2,20070814,1309,47.0028,178.3045,5765,9.8,2,11.9554,2,11.95495,2,32.7905,2,32.789,2,291.08,2,288.45,2,14.89,2,0.15,8.58,2,0.06,0.12,2,0.01,0.956,2,0.013,-999,9,-999,9,-999,9,-999,9,2017.4,2,2219,2,7.9068,25,6,-999,9,-999,-999,9,-999,-999,9,-999,-999,9,-999,11.9542,24.882
49NZ20070724,   P01,60,1,35, X12041,9,20070814,1309,47.0028,178.3045,5765,24.1,2,8.5861,2,8.626,2,32.9838,2,-999,9,304.38,2,-999,9,-999,9,-999,-999,9,-999,-999,9,-999,-999,9,-999,-999,9,-999,9,-999,9,-999,9,-999,9,-999,9,-999,-999,9,-999,9,-999,-999,9,-999,-999,9,-999,-999,9,-999,8.5837,25.6037
49NZ20070724,   P01,60,1,34, X12036,2,20070814,1309,47.0028,178.3045,5765,49.6,2,4.8089,2,4.80977,2,33.0827,2,33.0842,2,315.37,2,315.32,2,27.99,2,0.18,16.8,2,0.08,0.42,2,0,1.526,2,0.014,-999,9,-999,9,-999,9,-999,9,2093.4,6,2232.1,2,7.7534,25,2,-999,9,-999,-999,9,-999,-999,9,-999,-999,9,-999,4.8053,26.1769
49NZ20070724,   P01,60,1,33, X12033,2,20070814,1309,47.0028,178.3045,5765,99.5,2,4.1454,2,4.14493,2,33.0884,2,33.0896,2,309.18,2,309.34,2,30.04,2,0.19,19.09,2,0.09,0.02,2,0.01,1.585,2,0.014,-999,9,-999,9,-999,9,-999,9,2100.3,2,2231,6,7.7339,25,2,-999,9,-999,-999,9,-999,-999,9,-999,-999,9,-999,4.1387,26.2517
49NZ20070724,   P01,60,1,32, X12038,2,20070814,1309,47.0028,178.3045,5765,150,2,4.0721,2,4.07128,2,33.5419,2,33.5571,2,229.34,2,229.19,2,46.78,2,0.22,26.61,2,0.11,0.02,2,0.01,2.017,2,0.015,-999,9,-999,9,-999,9,-999,9,2179.3,2,2262.8,2,7.5984,25,2,-999,9,-999,-999,9,-999,-999,9,-999,-999,9,-999,4.0619,26.62
49NZ20070724,   P01,60,1,31, X12003,2,20070814,1309,47.0028,178.3045,5765,199.1,2,3.7792,2,3.77662,2,33.6843,2,33.6926,2,157.84,2,159.58,2,65.19,2,0.26,33.05,2,0.13,0.02,2,0.01,2.449,2,0.016,-999,9,-999,9,-999,9,-999,9,2238.8,2,2278.2,2,7.478,25,2,-999,9,-999,-999,9,-999,-999,9,-999,-999,9,-999,3.766,26.7629
49NZ20070724,   P01,60,1,30, X12008,2,20070814,1309,47.0028,178.3045,5765,249.7,2,3.737,2,3.73625,2,33.7959,2,33.8036,6,115.1,2,114.21,2,77.43,2,0.29,36.74,2,0.14,0.02,2,0.01,2.681,2,0.017,-999,9,-999,9,-999,9,-999,9,2271.3,2,2290.6,2,7.4103,25,2,-999,9,-999,-999,9,-999,-999,9,-999,-999,9,-999,3.7204,26.8563
49NZ20070724,   P01,60,1,29, X12035,2,20070814,1309,47.0028,178.3045,5765,300.2,2,3.8044,2,3.80462,2,33.885,2,33.897,2,86.78,2,86.25,2,85.45,2,0.31,38.77,2,0.14,0.02,2,0.01,2.802,2,0.017,-999,9,-999,9,-999,9,-999,9,2293,2,2300.5,2,7.3788,25,2,-999,9,-999,-999,9,-999,-999,9,-999,-999,9,-999,3.7841,26.9209
49NZ20070724,   P01,60,1,28, X12034,2,20070814,1309,47.0028,178.3045,5765,399.7,2,3.7256,2,3.72588,2,34.0245,2,34.0306,2,54.02,2,54.21,2,100.51,2,0.34,41.27,2,0.15,0.01,2,0.01,2.968,2,0.017,-999,9,-999,9,-999,9,-999,9,2321.1,2,2319,2,7.3414,25,2,-999,9,-999,-999,9,-999,-999,9,-999,-999,9,-999,3.6984,27.0405
49NZ20070724,   P01,60,1,27, X12049,2,20070814,1309,47.0028,178.3045,5765,600.8,2,3.3855,2,3.3854,2,34.1957,2,34.1962,6,25.1,2,25.4,2,121.95,2,0.39,43.5,2,0.15,0.01,2,0.01,3.113,2,0.018,-999,9,-999,9,-999,9,-999,9,2356,2,2345.7,2,7.3166,25,2,-999,9,-999,-999,9,-999,-999,9,-999,-999,9,-999,3.3451,27.211
49NZ20070724,   P01,60,1,26, X12032,2,20070814,1309,47.0028,178.3045,5765,799.1,2,3.1026,2,3.10242,2,34.3093,2,34.3109,2,25.1,2,25.15,2,134.56,2,0.42,43.56,2,0.15,0.01,2,0.01,3.118,2,0.018,-999,9,-999,9,-999,9,-999,9,2370.5,2,2364.7,2,7.3353,25,2,-999,9,-999,-999,9,-999,-999,9,-999,-999,9,-999,3.0492,27.3292
49NZ20070724,   P01,60,1,25, X12043,2,20070814,1309,47.0028,178.3045,5765,1000.5,2,2.786,2,2.78592,2,34.3921,2,34.3938,6,25.72,2,26.25,2,145.68,2,0.44,43.68,2,0.16,0.01,2,0.01,3.124,2,0.018,-999,9,-999,9,-999,9,-999,9,2380.7,6,2380.5,2,7.3458,25,2,-999,9,-999,-999,9,-999,-999,9,-999,-999,9,-999,2.7199,27.4248
49NZ20070724,   P01,60,1,24, X12030,2,20070814,1309,47.0028,178.3045,5765,1399.3,2,2.3106,2,2.31011,2,34.5,2,34.5002,2,36.92,2,37.38,2,159.27,2,0.47,43.26,2,0.15,0.01,2,0.01,3.077,2,0.018,-999,9,-999,9,-999,9,-999,9,2388,2,2398.6,6,7.3755,25,2,-999,9,-999,-999,9,-999,-999,9,-999,-999,9,-999,2.2187,27.5535
49NZ20070724,   P01,60,1,23, X12027,2,20070814,1309,47.0028,178.3045,5765,2000.5,2,1.8946,2,1.8946,2,34.5935,2,34.5936,2,69.26,2,69.39,2,164.91,2,0.48,41.41,2,0.15,0.01,2,0.01,2.938,2,0.017,-999,9,-999,9,-999,9,-999,9,2378.3,2,2413.1,2,7.4436,25,6,-999,9,-999,-999,9,-999,-999,9,-999,-999,9,-999,1.7599,27.6647
49NZ20070724,   P01,60,1,22, X12028,2,20070814,1309,47.0028,178.3045,5765,2401,2,1.7279,2,1.7278,2,34.6269,2,34.6266,6,90.56,2,90.5,2,164.56,2,0.48,40.08,2,0.15,0.01,2,0.01,2.84,2,0.017,-999,9,-999,9,-999,9,-999,9,2368.2,2,2416.7,2,7.4833,25,2,-999,9,-999,-999,9,-999,-999,9,-999,-999,9,-999,1.5616,27.7063
49NZ20070724,   P01,60,1,21, X12009,2,20070814,1309,47.0028,178.3045,5765,3000.6,2,1.5673,2,1.56735,2,34.658,2,34.658,2,117.51,2,117.26,2,160.69,2,0.47,38.45,2,0.14,0,2,0.01,2.711,2,0.017,-999,9,-999,9,-999,9,-999,9,2354.2,2,2419,2,7.5323,25,2,-999,9,-999,-999,9,-999,-999,9,-999,-999,9,-999,1.3491,27.7466
49NZ20070724,   P01,60,1,20, X12026,2,20070814,1309,47.0028,178.3045,5765,3500.7,2,1.4961,2,1.49614,2,34.6731,2,34.673,2,134.91,2,135.01,2,155.92,2,0.46,37.28,2,0.14,0.01,2,0.01,2.612,2,0.017,-999,9,-999,9,-999,9,-999,9,2342.2,2,2418.2,2,7.5637,25,2,-999,9,-999,-999,9,-999,-999,9,-999,-999,9,-999,1.23,27.767
49NZ20070724,   P01,60,1,19, X12025,2,20070814,1309,47.0028,178.3045,5765,4000.4,2,1.47,2,1.47001,2,34.6823,2,34.6822,6,145.81,2,145.96,2,153.77,2,0.46,36.55,2,0.14,0.01,2,0.01,2.562,2,0.016,-999,9,-999,9,-999,9,-999,9,2334.2,2,2418.6,2,7.5834,25,2,-999,9,-999,-999,9,-999,-999,9,-999,-999,9,-999,1.1519,27.7798
49NZ20070724,   P01,60,1,18, X12024,2,20070814,1309,47.0028,178.3045,5765,4500.6,2,1.4878,2,1.48783,2,34.6869,2,34.6868,2,151.2,2,151.5,2,153.59,2,0.46,36.16,2,0.13,0.01,2,0.01,2.536,2,0.016,-999,9,-999,9,-999,9,-999,9,2329.1,6,2419.6,2,7.5947,25,2,-999,9,-999,-999,9,-999,-999,9,-999,-999,9,-999,1.1131,27.7861
49NZ20070724,   P01,60,1,17, X12023,2,20070814,1309,47.0028,178.3045,5765,5000.3,2,1.5368,2,1.53692,2,34.6887,2,34.6886,2,152.62,2,152.97,2,155.73,2,0.46,36.11,2,0.13,0,2,0.01,2.528,2,0.016,-999,9,-999,9,-999,9,-999,9,2327,2,2421,6,7.5982,25,2,-999,9,-999,-999,9,-999,-999,9,-999,-999,9,-999,1.1013,27.7884
49NZ20070724,   P01,60,1,16, X12022,2,20070814,1309,47.0028,178.3045,5765,5249.6,2,1.5673,2,1.56725,2,34.6888,2,34.6887,2,152.91,2,153.25,2,156.03,2,0.46,36.11,2,0.13,0.01,2,0.01,2.52,2,0.016,-999,9,-999,9,-999,9,-999,9,2327.9,2,2420.4,2,7.5984,25,6,-999,9,-999,-999,9,-999,-999,9,-999,-999,9,-999,1.1,27.7886
49NZ20070724,   P01,60,1,15, X12021,2,20070814,1309,47.0028,178.3045,5765,5750,2,1.6283,2,1.62814,2,34.6893,2,34.6897,2,154.59,2,154.6,2,154.48,2,0.46,35.97,2,0.13,0.01,2,0.01,2.523,2,0.016,-999,9,-999,9,-999,9,-999,9,2329,2,2420.4,2,7.5991,25,2,-999,9,-999,-999,9,-999,-999,9,-999,-999,9,-999,1.0946,27.7893
49NZ20070724,   P01,60,1,14, X12020,9,20070814,1309,47.0028,178.3045,5765,9.7,2,11.9566,2,11.95555,2,32.7905,2,-999,9,291.29,2,-999,9,-999,9,-999,-999,9,-999,-999,9,-999,-999,9,-999,-999,9,-999,9,-999,9,-999,9,-999,9,-999,9,-999,-999,9,-999,9,-999,-999,9,-999,-999,9,-999,-999,9,-999,11.9554,24.8818
49NZ20070724,   P01,60,1,13, X12019,2,20070814,1309,47.0028,178.3045,5765,199.3,2,3.7747,2,3.77378,2,33.6851,2,-999,9,158.6,2,-999,9,-999,9,-999,-999,9,-999,-999,9,-999,-999,9,-999,-999,9,-999,9,-999,9,-999,9,-999,9,-999,9,-999,-999,9,-999,9,-999,-999,9,-999,-999,9,-999,-999,9,-999,3.7615,26.764
49NZ20070724,   P01,60,1,12, X12040,9,20070814,1309,47.0028,178.3045,5765,199.3,2,3.7713,2,3.7711,2,33.6857,2,-999,9,159.14,2,-999,9,-999,9,-999,-999,9,-999,-999,9,-999,-999,9,-999,-999,9,-999,9,-999,9,-999,9,-999,9,-999,9,-999,-999,9,-999,9,-999,-999,9,-999,-999,9,-999,-999,9,-999,3.7581,26.7648
49NZ20070724,   P01,60,1,11, X12047,2,20070814,1309,47.0028,178.3045,5765,149.8,2,4.0912,2,4.09987,2,33.5468,2,-999,9,227.29,2,-999,9,-999,9,-999,-999,9,-999,-999,9,-999,-999,9,-999,-999,9,-999,9,-999,9,-999,9,-999,9,-999,9,-999,-999,9,-999,9,-999,-999,9,-999,-999,9,-999,-999,9,-999,4.081,26.622
49NZ20070724,   P01,60,1,10, X12010,9,20070814,1309,47.0028,178.3045,5765,149.6,2,4.1219,2,4.12347,2,33.5574,2,-999,9,227.88,2,-999,9,-999,9,-999,-999,9,-999,-999,9,-999,-999,9,-999,-999,9,-999,9,-999,9,-999,9,-999,9,-999,9,-999,-999,9,-999,9,-999,-999,9,-999,-999,9,-999,-999,9,-999,4.1117,26.6272
49NZ20070724,   P01,60,1,9, X12015,2,20070814,1309,47.0028,178.3045,5765,99.4,2,4.1333,2,4.13061,2,33.0881,2,-999,9,309.28,2,-999,9,-999,9,-999,-999,9,-999,-999,9,-999,-999,9,-999,-999,9,-999,9,-999,9,-999,9,-999,9,-999,9,-999,-999,9,-999,9,-999,-999,9,-999,-999,9,-999,-999,9,-999,4.1266,26.2527
49NZ20070724,   P01,60,1,8, X12046,9,20070814,1309,47.0028,178.3045,5765,99.5,2,4.1582,2,4.15988,2,33.0891,2,-999,9,308.74,2,-999,9,-999,9,-999,-999,9,-999,-999,9,-999,-999,9,-999,-999,9,-999,9,-999,9,-999,9,-999,9,-999,9,-999,-999,9,-999,9,-999,-999,9,-999,-999,9,-999,-999,9,-999,4.1515,26.251
49NZ20070724,   P01,60,1,7, X12044,2,20070814,1309,47.0028,178.3045,5765,49.7,2,4.8193,2,4.81616,2,33.0825,2,-999,9,315.13,2,-999,9,-999,9,-999,-999,9,-999,-999,9,-999,-999,9,-999,-999,9,-999,9,-999,9,-999,9,-999,9,-999,9,-999,-999,9,-999,9,-999,-999,9,-999,-999,9,-999,-999,9,-999,4.8157,26.1756
49NZ20070724,   P01,60,1,6, X12048,9,20070814,1309,47.0028,178.3045,5765,49.7,2,4.8158,2,4.80288,2,33.0823,2,-999,9,314.65,2,-999,9,-999,9,-999,-999,9,-999,-999,9,-999,-999,9,-999,-999,9,-999,9,-999,9,-999,9,-999,9,-999,9,-999,-999,9,-999,9,-999,-999,9,-999,-999,9,-999,-999,9,-999,4.8122,26.1758
49NZ20070724,   P01,60,1,5, X12017,2,20070814,1309,47.0028,178.3045,5765,9.7,2,11.957,2,11.95567,2,32.7902,2,-999,9,290.89,2,-999,9,-999,9,-999,-999,9,-999,-999,9,-999,-999,9,-999,-999,9,-999,9,-999,9,-999,9,-999,9,-999,9,-999,-999,9,-999,9,-999,-999,9,-999,-999,9,-999,-999,9,-999,11.9558,24.8815
49NZ20070724,   P01,60,1,4, X12928,9,20070814,1309,47.0028,178.3045,5765,9.8,2,11.9433,2,11.9438,2,32.7885,2,-999,9,291.01,2,-999,9,-999,9,-999,-999,9,-999,-999,9,-999,-999,9,-999,-999,9,-999,9,-999,9,-999,9,-999,9,-999,9,-999,-999,9,-999,9,-999,-999,9,-999,-999,9,-999,-999,9,-999,11.9421,24.8827
49NZ20070724,   P01,60,1,3, X12931,2,20070814,1309,47.0028,178.3045,5765,24.2,2,8.6103,2,8.61747,2,32.9761,2,-999,9,303.55,2,308.5,2,21.87,2,0.17,12.4,2,0.07,0.14,2,0.01,1.298,2,0.014,-999,9,-999,9,-999,9,-999,9,-999,9,-999,9,-999,-999,9,-999,9,-999,-999,9,-999,-999,9,-999,-999,9,-999,8.6078,25.594
49NZ20070724,   P01,60,1,2, X12930,9,20070814,1309,47.0028,178.3045,5765,24,2,8.6088,2,8.45505,2,32.9871,2,-999,9,302.5,2,-999,9,-999,9,-999,-999,9,-999,-999,9,-999,-999,9,-999,-999,9,-999,9,-999,9,-999,9,-999,9,-999,9,-999,-999,9,-999,9,-999,-999,9,-999,-999,9,-999,-999,9,-999,8.6064,25.6029
49NZ20070724,   P01,60,1,1, X12929,2,20070814,1309,47.0028,178.3045,5765,5866.6,2,1.642,2,1.64185,2,34.6892,2,34.6895,6,155.3,2,155.09,2,152.85,2,0.46,35.88,2,0.13,0.01,2,0.01,2.517,2,0.016,-999,9,-999,9,-999,9,-999,9,2324.3,2,2418.4,2,7.5994,25,2,-999,9,-999,-999,9,-999,-999,9,-999,-999,9,-999,1.0924,27.7894