BOTTLE,20081214JAMSTECIORGC,,,,,,,,,,,,,,,,,,,,,,,,,,,,,,,,,,,,,,,,,,,,,,,,,,,,,,,,,,,,,,,,,
EXPOCODE,SECT,STNNBR,CASTNO,SAMPNO,BTLNBR,BTLNBR_FLAG_W,DATE,TIME,LATITUDE,LONGITUDE,DEPTH,CTDPRS,CTDPRS_FLAG_W,CTDTMP,CTDTMP_FLAG_W,SBE35,SBE35_FLAG_W,CTDSAL,CTDSAL_FLAG_W,SALNTY,SALNTY_FLAG_W,CTDOXY,CTDOXY_FLAG_W,OXYGEN,OXYGEN_FLAG_W,SILCAT,SILCAT_FLAG_W,SILUNC,NITRAT,NITRAT_FLAG_W,NRAUNC,NITRIT,NITRIT_FLAG_W,NRIUNC,PHSPHT,PHSPHT_FLAG_W,PHPUNC,CFC-11,CFC-11_FLAG_W,CFC-12,CFC-12_FLAG_W,CFC113,CFC113_FLAG_W,CCL4,CCL4_FLAG_W,TCARBN,TCARBN_FLAG_W,ALKALI,ALKALI_FLAG_W,PH_TOT,PH_TMP,PH_FLAG_W,DELC13,DELC13_FLAG_W,C13ERR,DELC14,DELC14_FLAG_W,C14ERR,CS-137,CS-137_FLAG_W,CS137ER,PLUTO,PLUTO_FLAG_W,PLUTOER,THETA,SIG0
,,,,,,,,UTC,DEG,DEG,M,DBAR,,ITS-90,,ITS-90,,PSS-78,,PSS-78,,UMOL/KG,,UMOL/KG,,UMOL/KG,,UMOL/KG,UMOL/KG,,UMOL/KG,UMOL/KG,,UMOL/KG,UMOL/KG,,UMOL/KG,PMOL/KG,,PMOL/KG,,PMOL/KG,,PMOL/KG,,UMOL/KG,,UMOL/KG,,,ITS-90,,/MILLE,,/MILLE,/MILLE,,/MILLE,BQ/CUM,,BQ/CUM,MBQ/CUM,,MBQ/CUM,DEG C,KG/CUM
49NZ20070724,   P01,6,1,0,-999,9,20070726,2315,42.4895,145.8365,3144,-999,9,-999,9,-999,9,-999,9,32.7804,2,-999,9,-999,9,-999,9,-999,-999,9,-999,-999,9,-999,-999,9,-999,-999,9,-999,9,-999,9,-999,9,-999,9,-999,9,-999,-999,9,-999,9,-999,-999,9,-999,-999,1,-999,-999,1,-999,-999,-999
49NZ20070724,   P01,6,1,36, X12042,2,20070726,2315,42.4895,145.8365,3144,9.5,2,12.1407,2,12.10025,2,32.775,2,32.8119,2,296.91,2,298.42,2,10.13,2,0.14,9.94,2,0.06,0.18,2,0.01,1.172,2,0.013,3.874,2,2.148,2,0.293,2,-999,9,-999,9,-999,9,-999,-999,9,-999,9,-999,-999,9,-999,-999,9,-999,-999,9,-999,12.1395,24.8352
49NZ20070724,   P01,6,1,35, X12041,2,20070726,2315,42.4895,145.8365,3144,49.3,2,2.7963,2,2.79753,2,33.0477,2,33.0544,2,328.51,2,326.78,2,37.99,2,0.2,21.48,2,0.09,0.43,2,0,1.927,2,0.015,5.34,2,2.825,2,0.371,2,-999,9,-999,9,-999,9,-999,-999,9,-999,9,-999,-999,9,-999,-999,9,-999,-999,9,-999,2.7935,26.3445
49NZ20070724,   P01,6,1,34, X12036,2,20070726,2315,42.4895,145.8365,3144,99.4,2,2.0658,2,2.06574,2,33.2753,2,33.2907,2,260.27,2,257.62,2,55.98,2,0.24,27.44,2,0.11,0.13,2,0.01,2.196,2,0.016,4.558,2,2.446,2,0.328,2,-999,9,-999,9,-999,9,-999,-999,9,-999,9,-999,-999,9,-999,-999,1,-999,-999,9,-999,2.0607,26.5854
49NZ20070724,   P01,6,1,33, X12033,2,20070726,2315,42.4895,145.8365,3144,150.3,2,1.9221,2,1.92239,2,33.4187,2,33.4382,2,216.77,2,210.93,2,69.16,2,0.27,32.52,2,0.12,0.03,2,0.01,2.475,2,0.016,4.045,6,2.148,6,0.287,6,-999,9,-999,9,-999,9,-999,-999,9,-999,9,-999,-999,9,-999,-999,9,-999,-999,9,-999,1.9145,26.7113
49NZ20070724,   P01,6,1,32, X12038,2,20070726,2315,42.4895,145.8365,3144,198.8,2,2.3547,2,2.35454,2,33.6055,2,33.6162,2,154.46,2,155.22,2,82.16,2,0.3,35.96,2,0.13,0.03,2,0.01,2.692,2,0.017,3.305,2,1.739,2,0.245,2,-999,9,-999,9,-999,9,-999,-999,9,-999,9,-999,-999,9,-999,-999,1,-999,-999,9,-999,2.3438,26.8275
49NZ20070724,   P01,6,1,31, X12003,2,20070726,2315,42.4895,145.8365,3144,251.8,2,2.7663,2,2.76703,2,33.7419,2,33.7366,6,108.61,2,111.35,2,89.62,2,0.32,38.93,2,0.14,0.02,2,0.01,2.866,2,0.017,2.73,2,1.415,2,0.192,2,-999,9,-999,9,-999,9,-999,-999,9,-999,9,-999,-999,9,-999,-999,9,-999,-999,9,-999,2.7515,26.9026
49NZ20070724,   P01,6,1,30, X12008,2,20070726,2315,42.4895,145.8365,3144,282,2,2.7029,2,2.71192,2,33.7649,2,33.7759,2,108.23,2,106.07,2,93.52,2,0.32,38.98,2,0.14,0.03,2,0.01,2.875,2,0.017,2.521,2,1.283,2,0.194,2,-999,9,-999,9,-999,9,-999,-999,9,-999,9,-999,-999,9,-999,-999,9,-999,-999,9,-999,2.6864,26.9265
49NZ20070724,   P01,6,1,29, X12035,2,20070726,2315,42.4895,145.8365,3144,369.6,2,2.7069,2,2.70633,2,33.8891,2,33.8916,2,88.07,2,89.38,2,104.28,2,0.35,39.66,2,0.14,0.02,2,0.01,2.924,2,0.017,2.11,2,1.089,2,0.147,2,-999,9,-999,9,-999,9,-999,-999,9,-999,9,-999,-999,9,-999,-999,1,-999,-999,9,-999,2.6849,27.0259
49NZ20070724,   P01,6,1,28, X12034,2,20070726,2315,42.4895,145.8365,3144,470.3,2,2.7002,2,2.69989,2,33.9426,2,33.9446,6,81.53,2,81.54,2,109.05,2,0.36,40.07,2,0.14,0.02,2,0.01,2.95,2,0.017,1.891,2,0.969,2,0.139,2,-999,9,-999,9,-999,9,-999,-999,9,-999,9,-999,-999,9,-999,-999,9,-999,-999,9,-999,2.6718,27.0698
49NZ20070724,   P01,6,1,27, X12049,2,20070726,2315,42.4895,145.8365,3144,571.2,2,2.7803,2,2.78047,2,34.0294,2,34.031,2,64.86,2,65.46,2,116.23,2,0.37,41.09,2,0.15,0.02,2,0.01,3.003,2,0.017,1.514,2,0.777,2,0.12,2,-999,9,-999,9,-999,9,-999,-999,9,-999,9,-999,-999,9,-999,-999,1,-999,-999,9,-999,2.7449,27.1328
49NZ20070724,   P01,6,1,26, X12032,2,20070726,2315,42.4895,145.8365,3144,668.3,2,2.9199,2,2.91964,2,34.1501,2,34.1499,2,40.86,2,41.81,2,125.94,2,0.4,42.66,2,0.15,0.01,2,0.01,3.089,2,0.018,0.974,6,0.488,6,0.075,6,-999,9,-999,9,-999,9,-999,-999,9,-999,9,-999,-999,9,-999,-999,9,-999,-999,9,-999,2.8771,27.2176
49NZ20070724,   P01,6,1,25, X12043,2,20070726,2315,42.4895,145.8365,3144,768.8,2,2.808,2,2.80768,2,34.2501,2,34.2489,2,35.08,2,35.55,2,135.72,2,0.42,42.89,2,0.15,0.01,2,0.01,3.097,2,0.018,0.65,2,0.325,2,0.054,2,-999,9,-999,9,-999,9,-999,-999,9,-999,9,-999,-999,9,-999,-999,1,-999,-999,9,-999,2.7587,27.308
49NZ20070724,   P01,6,1,24, X12030,2,20070726,2315,42.4895,145.8365,3144,869.5,2,2.7082,2,2.70791,2,34.2899,2,34.2921,2,36.24,2,36.18,2,140.34,2,0.43,42.69,2,0.15,0.01,2,0.01,3.09,2,0.018,0.538,2,0.269,2,0.035,2,-999,9,-999,9,-999,9,-999,-999,9,-999,9,-999,-999,9,-999,-999,9,-999,-999,9,-999,2.6524,27.349
49NZ20070724,   P01,6,1,23, X12027,2,20070726,2315,42.4895,145.8365,3144,971.2,2,2.5969,2,2.59822,2,34.3374,2,34.3368,6,37.18,2,37.94,2,145.38,2,0.44,42.72,2,0.15,0.01,2,0.01,3.092,2,0.018,0.447,2,0.224,2,0.041,2,-999,9,-999,9,-999,9,-999,-999,9,-999,9,-999,-999,9,-999,-999,1,-999,-999,9,-999,2.5345,27.3971
49NZ20070724,   P01,6,1,22, X12028,2,20070726,2315,42.4895,145.8365,3144,1130.7,2,2.5523,2,2.55223,2,34.4188,2,34.4192,2,37.02,2,37.59,2,150.19,2,0.45,42.84,2,0.15,0.01,2,0.01,3.084,2,0.018,0.207,2,0.1,2,0.028,2,-999,9,-999,9,-999,9,-999,-999,9,-999,9,-999,-999,9,-999,-999,9,-999,-999,9,-999,2.4785,27.467
49NZ20070724,   P01,6,1,21, X12009,2,20070726,2315,42.4895,145.8365,3144,1329.8,2,2.3338,2,2.33355,2,34.4602,2,34.4599,2,43.99,2,44.63,2,156.02,2,0.46,42.42,2,0.15,0.01,2,0.01,3.055,2,0.018,0.192,2,0.091,2,0.012,2,-999,9,-999,9,-999,9,-999,-999,9,-999,9,-999,-999,9,-999,-999,9,-999,-999,9,-999,2.2471,27.5193
49NZ20070724,   P01,6,1,20, X12026,3,20070726,2315,42.4895,145.8365,3144,1529.1,2,2.2528,2,2.25272,2,34.5144,2,34.5121,2,48.41,2,48.5,2,157.91,2,0.47,42.29,2,0.15,0,2,0.01,3.033,2,0.018,0.064,2,0.032,2,0.006,2,-999,9,-999,9,-999,9,-999,-999,9,-999,9,-999,-999,9,-999,-999,9,-999,-999,9,-999,2.1515,27.5705
49NZ20070724,   P01,6,1,19, X12025,2,20070726,2315,42.4895,145.8365,3144,1728.6,2,2.1,2,2.09987,2,34.5494,2,34.5495,2,59.54,2,59.19,2,159.71,2,0.47,41.74,2,0.15,0.01,2,0.01,2.986,2,0.017,0.037,2,0.021,2,0.007,2,-999,9,-999,9,-999,9,-999,-999,9,-999,9,-999,-999,9,-999,-999,9,-999,-999,9,-999,1.9847,27.6119
49NZ20070724,   P01,6,1,18, X12024,2,20070726,2315,42.4895,145.8365,3144,1928.1,2,1.9725,2,1.97238,2,34.5813,2,34.5808,2,70.63,2,70.73,2,160.35,2,0.47,41.12,2,0.15,0.01,2,0.01,2.929,2,0.017,0.017,2,0.007,2,0,2,-999,9,-999,9,-999,9,-999,-999,9,-999,9,-999,-999,9,-999,-999,9,-999,-999,9,-999,1.8426,27.6485
49NZ20070724,   P01,6,1,17, X12023,2,20070726,2315,42.4895,145.8365,3144,2130.1,2,1.8656,2,1.86542,2,34.6075,2,34.6068,2,82.47,2,82.32,2,159.82,2,0.47,40.44,2,0.15,0.01,2,0.01,2.869,2,0.017,-999,9,-999,9,-999,9,-999,9,-999,9,-999,9,-999,-999,9,-999,9,-999,-999,9,-999,-999,9,-999,-999,9,-999,1.7204,27.6788
49NZ20070724,   P01,6,1,16, X12022,2,20070726,2315,42.4895,145.8365,3144,2330.6,2,1.7474,2,1.74713,2,34.6279,2,34.6275,6,96.55,2,96.38,2,159.01,2,0.47,39.52,2,0.14,0.01,2,0.01,2.809,2,0.017,-999,9,-999,9,-999,9,-999,9,-999,9,-999,9,-999,-999,9,-999,9,-999,-999,9,-999,-999,9,-999,-999,9,-999,1.5869,27.7052
49NZ20070724,   P01,6,1,15, X12021,2,20070726,2315,42.4895,145.8365,3144,2531.9,2,1.64,2,1.64001,2,34.6449,2,34.644,2,110.26,2,110.22,2,156.71,2,0.46,38.71,2,0.14,0,2,0.01,2.738,2,0.017,0,2,0,2,0,2,-999,9,-999,9,-999,9,-999,-999,9,-999,9,-999,-999,9,-999,-999,9,-999,-999,9,-999,1.4636,27.7279
49NZ20070724,   P01,6,1,14, X12020,2,20070726,2315,42.4895,145.8365,3144,2731,2,1.5771,2,1.57704,2,34.6562,2,34.6557,2,119.84,2,119.84,2,155.17,2,0.46,38.04,2,0.14,0.01,2,0.01,2.69,2,0.017,0,2,0,2,0,2,-999,9,-999,9,-999,9,-999,-999,9,-999,9,-999,-999,9,-999,-999,9,-999,-999,9,-999,1.3839,27.7427
49NZ20070724,   P01,6,1,13, X12019,2,20070726,2315,42.4895,145.8365,3144,2930.6,2,1.5218,2,1.52165,2,34.6652,2,34.6649,2,128.58,2,128.58,2,153.8,2,0.46,37.54,2,0.14,0,2,0.01,2.647,2,0.017,0,2,0,2,0,2,-999,9,-999,9,-999,9,-999,-999,9,-999,9,-999,-999,9,-999,-999,9,-999,-999,9,-999,1.3112,27.755
49NZ20070724,   P01,6,1,12, X12040,9,20070726,2315,42.4895,145.8365,3144,9.6,2,12.0808,2,12.10476,2,32.7715,2,-999,9,297.35,2,-999,9,-999,9,-999,-999,9,-999,-999,9,-999,-999,9,-999,-999,9,-999,9,-999,9,-999,9,-999,9,-999,9,-999,-999,9,-999,9,-999,-999,9,-999,-999,9,-999,-999,9,-999,12.0796,24.8438
49NZ20070724,   P01,6,1,11, X12047,9,20070726,2315,42.4895,145.8365,3144,49.5,2,2.8331,2,2.83462,2,33.0488,2,-999,9,327.03,2,-999,9,-999,9,-999,-999,9,-999,-999,9,-999,-999,9,-999,-999,9,-999,9,-999,9,-999,9,-999,9,-999,9,-999,-999,9,-999,9,-999,-999,9,-999,-999,9,-999,-999,9,-999,2.8303,26.3423
49NZ20070724,   P01,6,1,10, X12010,9,20070726,2315,42.4895,145.8365,3144,99.5,2,2.0661,2,2.06606,2,33.2758,2,-999,9,260.17,2,-999,9,-999,9,-999,-999,9,-999,-999,9,-999,-999,9,-999,-999,9,-999,9,-999,9,-999,9,-999,9,-999,9,-999,-999,9,-999,9,-999,-999,9,-999,-999,9,-999,-999,9,-999,2.061,26.5857
49NZ20070724,   P01,6,1,9, X12015,2,20070726,2315,42.4895,145.8365,3144,1927.9,2,1.9724,2,1.97229,2,34.5814,2,-999,9,70.66,2,-999,9,-999,9,-999,-999,9,-999,-999,9,-999,-999,9,-999,-999,9,-999,9,-999,9,-999,9,-999,9,-999,9,-999,-999,9,-999,9,-999,-999,9,-999,-999,1,-999,-999,9,-999,1.8425,27.6486
49NZ20070724,   P01,6,1,8, X12046,2,20070726,2315,42.4895,145.8365,3144,1927.7,2,1.9722,2,1.97204,2,34.5815,2,-999,9,70.66,2,-999,9,-999,9,-999,-999,9,-999,-999,9,-999,-999,9,-999,-999,9,-999,9,-999,9,-999,9,-999,9,-999,9,-999,-999,9,-999,9,-999,-999,9,-999,-999,1,-999,-999,9,-999,1.8424,27.6487
49NZ20070724,   P01,6,1,7, X12044,2,20070726,2315,42.4895,145.8365,3144,1927.7,2,1.9721,2,1.97201,2,34.5815,2,-999,9,70.69,2,-999,9,-999,9,-999,-999,9,-999,-999,9,-999,-999,9,-999,-999,9,-999,9,-999,9,-999,9,-999,9,-999,9,-999,-999,9,-999,9,-999,-999,9,-999,-999,1,-999,-999,9,-999,1.8423,27.6487
49NZ20070724,   P01,6,1,6, X12048,2,20070726,2315,42.4895,145.8365,3144,1927.9,2,1.9717,2,1.9716,2,34.5817,2,-999,9,70.77,2,-999,9,-999,9,-999,-999,9,-999,-999,9,-999,-999,9,-999,-999,9,-999,9,-999,9,-999,9,-999,9,-999,9,-999,-999,9,-999,9,-999,-999,9,-999,-999,1,-999,-999,9,-999,1.8418,27.6489
49NZ20070724,   P01,6,1,5, X12017,2,20070726,2315,42.4895,145.8365,3144,3182.2,2,1.4848,2,1.48463,2,34.6716,2,-999,9,134.77,2,-999,9,-999,9,-999,-999,9,-999,-999,9,-999,-999,9,-999,-999,9,-999,9,-999,9,-999,9,-999,9,-999,9,-999,-999,9,-999,9,-999,-999,9,-999,-999,1,-999,-999,9,-999,1.2508,27.7644
49NZ20070724,   P01,6,1,4, X12928,2,20070726,2315,42.4895,145.8365,3144,3182.1,2,1.4847,2,1.48442,2,34.6717,2,-999,9,134.78,2,-999,9,-999,9,-999,-999,9,-999,-999,9,-999,-999,9,-999,-999,9,-999,9,-999,9,-999,9,-999,9,-999,9,-999,-999,9,-999,9,-999,-999,9,-999,-999,1,-999,-999,9,-999,1.2507,27.7645
49NZ20070724,   P01,6,1,3, X12931,2,20070726,2315,42.4895,145.8365,3144,3181.9,2,1.4845,2,1.48425,2,34.6717,2,-999,9,134.79,2,-999,9,-999,9,-999,-999,9,-999,-999,9,-999,-999,9,-999,-999,9,-999,9,-999,9,-999,9,-999,9,-999,9,-999,-999,9,-999,9,-999,-999,9,-999,-999,1,-999,-999,9,-999,1.2506,27.7645
49NZ20070724,   P01,6,1,2, X12930,2,20070726,2315,42.4895,145.8365,3144,3182.4,2,1.4845,2,1.48425,2,34.6717,2,-999,9,134.77,2,-999,9,-999,9,-999,-999,9,-999,-999,9,-999,-999,9,-999,-999,9,-999,9,-999,9,-999,9,-999,9,-999,9,-999,-999,9,-999,9,-999,-999,9,-999,-999,1,-999,-999,9,-999,1.2505,27.7645
49NZ20070724,   P01,6,1,1, X12929,2,20070726,2315,42.4895,145.8365,3144,3182.3,2,1.4845,2,1.48423,2,34.6718,2,34.6715,6,134.76,2,135.59,2,153.28,2,0.46,37.04,2,0.14,0.01,2,0.01,2.618,2,0.017,0.003,2,0,2,0,2,-999,9,-999,9,-999,9,-999,-999,9,-999,9,-999,-999,9,-999,-999,9,-999,-999,9,-999,1.2505,27.7646