BOTTLE,20081214JAMSTECIORGC,,,,,,,,,,,,,,,,,,,,,,,,,,,,,,,,,,,,,,,,,,,,,,,,,,,,,,,,,,,,,,,,,
EXPOCODE,SECT,STNNBR,CASTNO,SAMPNO,BTLNBR,BTLNBR_FLAG_W,DATE,TIME,LATITUDE,LONGITUDE,DEPTH,CTDPRS,CTDPRS_FLAG_W,CTDTMP,CTDTMP_FLAG_W,SBE35,SBE35_FLAG_W,CTDSAL,CTDSAL_FLAG_W,SALNTY,SALNTY_FLAG_W,CTDOXY,CTDOXY_FLAG_W,OXYGEN,OXYGEN_FLAG_W,SILCAT,SILCAT_FLAG_W,SILUNC,NITRAT,NITRAT_FLAG_W,NRAUNC,NITRIT,NITRIT_FLAG_W,NRIUNC,PHSPHT,PHSPHT_FLAG_W,PHPUNC,CFC-11,CFC-11_FLAG_W,CFC-12,CFC-12_FLAG_W,CFC113,CFC113_FLAG_W,CCL4,CCL4_FLAG_W,TCARBN,TCARBN_FLAG_W,ALKALI,ALKALI_FLAG_W,PH_TOT,PH_TMP,PH_FLAG_W,DELC13,DELC13_FLAG_W,C13ERR,DELC14,DELC14_FLAG_W,C14ERR,CS-137,CS-137_FLAG_W,CS137ER,PLUTO,PLUTO_FLAG_W,PLUTOER,THETA,SIG0
,,,,,,,,UTC,DEG,DEG,M,DBAR,,ITS-90,,ITS-90,,PSS-78,,PSS-78,,UMOL/KG,,UMOL/KG,,UMOL/KG,,UMOL/KG,UMOL/KG,,UMOL/KG,UMOL/KG,,UMOL/KG,UMOL/KG,,UMOL/KG,PMOL/KG,,PMOL/KG,,PMOL/KG,,PMOL/KG,,UMOL/KG,,UMOL/KG,,,ITS-90,,/MILLE,,/MILLE,/MILLE,,/MILLE,BQ/CUM,,BQ/CUM,MBQ/CUM,,MBQ/CUM,DEG C,KG/CUM
49NZ20070724,   P01,67,1,0,-999,9,20070816,1513,47.0008,-173.796,5724,-999,9,-999,9,-999,9,-999,9,32.7288,2,-999,9,-999,9,-999,9,-999,-999,9,-999,-999,9,-999,-999,9,-999,-999,9,-999,9,-999,9,-999,9,-999,9,-999,9,-999,-999,9,-999,9,-999,-999,9,-999,-999,9,-999,-999,9,-999,-999,-999
49NZ20070724,   P01,67,1,36, X12042,2,20070816,1513,47.0008,-173.796,5724,9.7,2,13.483,2,13.48249,2,32.7378,2,32.7347,2,276.93,2,273.3,2,14.08,2,0.15,8.25,2,0.06,0.14,2,0.01,0.94,2,0.013,3.172,2,1.87,2,0.335,2,4.432,4,-999,9,-999,9,-999,-999,9,-999,9,-999,-999,9,-999,-999,9,-999,-999,9,-999,13.4817,24.545
49NZ20070724,   P01,67,1,35, X12041,2,20070816,1513,47.0008,-173.796,5724,49.8,2,6.3766,2,6.38951,2,32.9898,2,32.9938,2,307.83,2,311.57,2,27.79,2,0.18,15.43,2,0.08,0.25,2,0.01,1.485,2,0.014,4.589,2,2.632,2,0.477,2,6.348,4,-999,9,-999,9,-999,-999,9,-999,9,-999,-999,9,-999,-999,9,-999,-999,9,-999,6.3724,25.9177
49NZ20070724,   P01,67,1,34, X12036,2,20070816,1513,47.0008,-173.796,5724,100,2,4.4002,2,4.40114,2,33.0416,2,33.0462,2,309.36,2,310.54,2,30.53,2,0.19,18.9,2,0.09,0.25,2,0.01,1.614,2,0.014,4.869,2,2.817,2,0.495,2,6.759,4,-999,9,-999,9,-999,-999,9,-999,9,-999,-999,9,-999,-999,9,-999,-999,9,-999,4.3933,26.1883
49NZ20070724,   P01,67,1,33, X12033,2,20070816,1513,47.0008,-173.796,5724,150.3,2,3.8052,2,3.80991,2,33.4917,2,33.526,2,220.57,2,215.09,2,52.42,2,0.23,28.73,2,0.11,0.01,2,0.01,2.188,2,0.015,4.095,6,2.288,2,0.327,6,-999,5,-999,9,-999,9,-999,-999,9,-999,9,-999,-999,9,-999,-999,9,-999,-999,9,-999,3.7953,26.6068
49NZ20070724,   P01,67,1,32, X12038,2,20070816,1513,47.0008,-173.796,5724,201.8,2,3.7368,2,3.73581,2,33.7227,2,33.729,2,136.82,2,137.52,2,69.89,2,0.27,34.95,2,0.13,0.01,2,0.01,2.576,2,0.016,3.215,2,1.625,2,0.242,2,2.69,4,-999,9,-999,9,-999,-999,9,-999,9,-999,-999,9,-999,-999,9,-999,-999,9,-999,3.7235,26.7977
49NZ20070724,   P01,67,1,31, X12003,2,20070816,1513,47.0008,-173.796,5724,247.9,2,3.6611,2,3.66137,2,33.8081,2,33.8148,6,99.92,2,99.32,2,80.76,2,0.3,38.17,2,0.14,0.01,2,0.01,2.785,2,0.017,2.689,2,1.322,2,0.195,2,2.159,4,-999,9,-999,9,-999,-999,9,-999,9,-999,-999,9,-999,-999,9,-999,-999,9,-999,3.6447,26.8734
49NZ20070724,   P01,67,1,30, X12008,2,20070816,1513,47.0008,-173.796,5724,329.9,2,3.8618,2,3.86703,2,33.9529,2,33.9517,2,67.53,2,67.1,2,91.32,2,0.32,40.37,2,0.15,0.01,2,0.01,2.907,2,0.017,1.953,2,0.936,2,0.139,2,1.586,4,-999,9,-999,9,-999,-999,9,-999,9,-999,-999,9,-999,-999,9,-999,-999,9,-999,3.8392,26.9695
49NZ20070724,   P01,67,1,29, X12035,2,20070816,1513,47.0008,-173.796,5724,428.9,2,3.7722,2,3.77194,2,34.0608,2,34.0625,2,46.33,2,46.74,2,102.56,2,0.34,41.72,2,0.15,0.01,2,0.01,3.002,2,0.017,1.334,2,0.63,2,0.09,2,1.159,4,-999,9,-999,9,-999,-999,9,-999,9,-999,-999,9,-999,-999,9,-999,-999,9,-999,3.7427,27.065
49NZ20070724,   P01,67,1,28, X12034,2,20070816,1513,47.0008,-173.796,5724,528.9,2,3.5596,2,3.55947,2,34.1433,2,34.1466,6,29.84,2,29.88,2,114.48,2,0.37,43.15,2,0.15,0.01,2,0.01,3.085,2,0.018,0.888,2,0.404,2,0.064,2,0.756,4,-999,9,-999,9,-999,-999,9,-999,9,-999,-999,9,-999,-999,9,-999,-999,9,-999,3.5236,27.1521
49NZ20070724,   P01,67,1,27, X12049,2,20070816,1513,47.0008,-173.796,5724,629.4,2,3.4058,2,3.40547,2,34.2194,2,34.2215,2,25.48,2,25.41,2,122.83,2,0.39,43.35,2,0.15,0.01,2,0.01,3.105,2,0.018,0.572,2,0.254,2,0.04,2,0.531,4,-999,9,-999,9,-999,-999,9,-999,9,-999,-999,9,-999,-999,9,-999,-999,9,-999,3.3632,27.2282
49NZ20070724,   P01,67,1,26, X12032,2,20070816,1513,47.0008,-173.796,5724,730.6,2,3.2293,2,3.22899,2,34.2822,2,34.284,2,24.67,2,24.5,2,130.2,2,0.41,43.5,2,0.15,0.01,2,0.01,3.126,2,0.018,0.369,6,0.163,6,0.024,6,0.361,4,-999,9,-999,9,-999,-999,9,-999,9,-999,-999,9,-999,-999,9,-999,-999,9,-999,3.1802,27.2955
49NZ20070724,   P01,67,1,25, X12043,2,20070816,1513,47.0008,-173.796,5724,829.9,2,3.0647,2,3.06447,2,34.3264,2,34.327,2,24.54,2,24.29,2,136.16,2,0.42,43.62,2,0.15,0.01,2,0.01,3.132,2,0.018,0.26,2,0.113,2,0.021,2,0.267,4,-999,9,-999,9,-999,-999,9,-999,9,-999,-999,9,-999,-999,9,-999,-999,9,-999,3.0093,27.3465
49NZ20070724,   P01,67,1,24, X12030,2,20070816,1513,47.0008,-173.796,5724,931.5,2,2.8941,2,2.89396,2,34.3667,2,34.3656,2,24.44,2,24.25,2,141.41,2,0.43,43.47,2,0.15,0.01,2,0.01,3.122,2,0.018,0.186,2,0.081,2,0.015,2,0.224,4,-999,9,-999,9,-999,-999,9,-999,9,-999,-999,9,-999,-999,9,-999,-999,9,-999,2.8323,27.3946
49NZ20070724,   P01,67,1,23, X12027,2,20070816,1513,47.0008,-173.796,5724,1069.1,2,2.7006,2,2.70048,2,34.4144,2,34.4146,6,26.57,2,26.61,2,147.83,2,0.44,43.61,2,0.15,0.01,2,0.01,3.127,2,0.018,0.113,2,0.048,2,0.006,2,0.127,4,-999,9,-999,9,-999,-999,9,-999,9,-999,-999,9,-999,-999,9,-999,-999,9,-999,2.6301,27.4505
49NZ20070724,   P01,67,1,22, X12028,2,20070816,1513,47.0008,-173.796,5724,1272.2,2,2.4394,2,2.43944,2,34.4714,2,34.4716,2,31.52,2,31.54,2,155.68,2,0.46,43.48,2,0.15,0.01,2,0.01,3.113,2,0.018,0.058,2,0.025,2,0.005,2,0.072,4,-999,9,-999,9,-999,-999,9,-999,9,-999,-999,9,-999,-999,9,-999,-999,9,-999,2.3559,27.5193
49NZ20070724,   P01,67,1,21, X12009,2,20070816,1513,47.0008,-173.796,5724,1469.8,2,2.2501,2,2.25,2,34.5142,2,34.514,2,38.7,2,38.71,2,160.78,2,0.47,43.15,2,0.15,0.01,2,0.01,3.079,2,0.018,0.027,2,0.011,2,0.005,2,0.035,4,-999,9,-999,9,-999,-999,9,-999,9,-999,-999,9,-999,-999,9,-999,-999,9,-999,2.1534,27.5702
49NZ20070724,   P01,67,1,20, X12026,2,20070816,1513,47.0008,-173.796,5724,1672.6,2,2.0939,2,2.09384,2,34.5505,2,34.5502,2,48.86,2,48.68,2,163.84,2,0.48,42.68,2,0.15,0.01,2,0.01,3.033,2,0.018,0.007,2,0.004,2,0,2,0.019,4,-999,9,-999,9,-999,-999,9,-999,9,-999,-999,9,-999,-999,9,-999,-999,9,-999,1.9831,27.6128
49NZ20070724,   P01,67,1,19, X12025,2,20070816,1513,47.0008,-173.796,5724,1869.6,2,1.9757,2,1.97578,2,34.577,2,34.5771,2,58.68,2,58.3,2,165.38,2,0.48,42.05,2,0.15,0.01,2,0.01,2.992,2,0.017,0.004,2,0,2,0,2,0.01,4,-999,9,-999,9,-999,-999,9,-999,9,-999,-999,9,-999,-999,9,-999,-999,9,-999,1.8506,27.6445
49NZ20070724,   P01,67,1,18, X12024,2,20070816,1513,47.0008,-173.796,5724,2071.6,2,1.8748,2,1.87475,2,34.5995,2,34.5991,2,66.59,2,65.99,2,167,2,0.49,41.67,2,0.15,0.01,2,0.01,2.957,2,0.017,0,2,0,2,0,2,0.014,4,-999,9,-999,9,-999,-999,9,-999,9,-999,-999,9,-999,-999,9,-999,-999,9,-999,1.7344,27.6714
49NZ20070724,   P01,67,1,17, X12023,2,20070816,1513,47.0008,-173.796,5724,2271.1,2,1.7859,2,1.78596,2,34.6169,2,34.6169,2,78.56,2,78.22,2,166.56,2,0.49,40.78,2,0.15,0.01,2,0.01,2.899,2,0.017,0,2,0,2,0,2,0,4,-999,9,-999,9,-999,-999,9,-999,9,-999,-999,9,-999,-999,9,-999,-999,9,-999,1.6299,27.6932
49NZ20070724,   P01,67,1,16, X12022,2,20070816,1513,47.0008,-173.796,5724,2468.8,2,1.7074,2,1.70728,2,34.6316,2,34.6319,2,90.01,2,89.49,2,166.11,2,0.48,40.24,2,0.15,0.01,2,0.01,2.845,2,0.017,0,2,0,2,0,2,0.005,4,-999,9,-999,9,-999,-999,9,-999,9,-999,-999,9,-999,-999,9,-999,-999,9,-999,1.5354,27.7119
49NZ20070724,   P01,67,1,15, X12021,2,20070816,1513,47.0008,-173.796,5724,2671.5,2,1.648,2,1.64792,2,34.6428,2,34.6428,6,99.97,2,99.82,2,164.45,2,0.48,39.57,2,0.14,0.01,2,0.01,2.8,2,0.017,-999,9,-999,9,-999,9,0,4,-999,9,-999,9,-999,-999,9,-999,9,-999,-999,9,-999,-999,9,-999,-999,9,-999,1.4589,27.7265
49NZ20070724,   P01,67,1,14, X12020,2,20070816,1513,47.0008,-173.796,5724,2869.7,2,1.6001,2,1.60006,2,34.6517,2,34.6518,2,110.46,2,110.17,2,162.56,2,0.48,38.85,2,0.14,0.01,2,0.01,2.748,2,0.017,-999,9,-999,9,-999,9,-999,9,-999,9,-999,9,-999,-999,9,-999,9,-999,-999,9,-999,-999,9,-999,-999,9,-999,1.3936,27.7384
49NZ20070724,   P01,67,1,13, X12019,2,20070816,1513,47.0008,-173.796,5724,3080.3,2,1.5575,2,1.55747,2,34.6603,2,34.6603,2,118.31,2,117.99,2,160.91,2,0.47,38.31,2,0.14,0.01,2,0.01,2.709,2,0.017,0,2,0,2,0,2,0,4,-999,9,-999,9,-999,-999,9,-999,9,-999,-999,9,-999,-999,9,-999,-999,9,-999,1.3318,27.7496
49NZ20070724,   P01,67,1,12, X12040,2,20070816,1513,47.0008,-173.796,5724,3330.3,2,1.5174,2,1.51739,2,34.6683,2,34.6683,2,127.73,2,127.54,2,158.18,2,0.47,37.59,2,0.14,0.01,2,0.01,2.655,2,0.017,-999,9,-999,9,-999,9,-999,9,-999,9,-999,9,-999,-999,9,-999,9,-999,-999,9,-999,-999,9,-999,-999,9,-999,1.268,27.7605
49NZ20070724,   P01,67,1,11, X12047,2,20070816,1513,47.0008,-173.796,5724,3580.1,2,1.4897,2,1.48969,2,34.6748,2,34.6749,2,135.59,2,135.63,2,156.08,2,0.46,37.03,2,0.14,0.01,2,0.01,2.62,2,0.017,-999,9,-999,9,-999,9,0.002,4,-999,9,-999,9,-999,-999,9,-999,9,-999,-999,9,-999,-999,9,-999,-999,9,-999,1.2156,27.7694
49NZ20070724,   P01,67,1,10, X12010,2,20070816,1513,47.0008,-173.796,5724,3829.9,2,1.4745,2,1.47446,2,34.6796,2,34.6797,2,141.54,2,141.38,2,155.33,2,0.46,36.65,2,0.14,0.01,2,0.01,2.584,2,0.016,0,2,0,2,0,2,-999,9,-999,9,-999,9,-999,-999,9,-999,9,-999,-999,9,-999,-999,9,-999,-999,9,-999,1.1746,27.7761
49NZ20070724,   P01,67,1,9, X12015,2,20070816,1513,47.0008,-173.796,5724,4079.4,2,1.4697,2,1.46982,2,34.6834,2,34.6837,2,145.93,2,145.88,2,155.28,2,0.46,36.47,2,0.13,0.01,2,0.01,2.568,2,0.016,-999,9,-999,9,-999,9,0.004,4,-999,9,-999,9,-999,-999,9,-999,9,-999,-999,9,-999,-999,9,-999,-999,9,-999,1.143,27.7813
49NZ20070724,   P01,67,1,8, X12046,2,20070816,1513,47.0008,-173.796,5724,4329.3,2,1.478,2,1.47809,2,34.686,2,34.686,6,148.63,2,148.65,2,156.03,2,0.46,36.31,2,0.13,0.01,2,0.01,2.55,2,0.016,-999,9,-999,9,-999,9,-999,9,-999,9,-999,9,-999,-999,9,-999,9,-999,-999,9,-999,-999,9,-999,-999,9,-999,1.1232,27.7847
49NZ20070724,   P01,67,1,7, X12044,2,20070816,1513,47.0008,-173.796,5724,4579.9,2,1.4988,2,1.49891,2,34.6874,2,34.6874,2,149.4,2,149.5,2,158.15,2,0.47,36.35,2,0.13,0.01,2,0.01,2.548,2,0.016,0.001,2,0,2,0,2,0.007,4,-999,9,-999,9,-999,-999,9,-999,9,-999,-999,9,-999,-999,9,-999,-999,9,-999,1.1146,27.7865
49NZ20070724,   P01,67,1,6, X12048,2,20070816,1513,47.0008,-173.796,5724,4830,2,1.5257,2,1.52569,2,34.6878,2,34.6877,2,149.97,2,149.95,2,158.76,2,0.47,36.26,2,0.13,0.01,2,0.01,2.545,2,0.016,-999,9,-999,9,-999,9,-999,9,-999,9,-999,9,-999,-999,9,-999,9,-999,-999,9,-999,-999,9,-999,-999,9,-999,1.1111,27.787
49NZ20070724,   P01,67,1,5, X12017,2,20070816,1513,47.0008,-173.796,5724,5079.4,2,1.5538,2,1.55373,2,34.6883,2,34.6872,2,150.74,2,150.65,2,158.79,2,0.47,36.17,2,0.13,0.01,2,0.01,2.54,2,0.016,0.003,2,0.002,2,0,2,0.001,4,-999,9,-999,9,-999,-999,9,-999,9,-999,-999,9,-999,-999,9,-999,-999,9,-999,1.108,27.7876
49NZ20070724,   P01,67,1,4, X12928,2,20070816,1513,47.0008,-173.796,5724,5329.1,2,1.5833,2,1.58335,2,34.6886,2,34.6886,2,151.44,2,151.31,2,158.75,2,0.47,36.23,2,0.13,0.01,2,0.01,2.536,2,0.016,-999,9,-999,9,-999,9,-999,9,-999,9,-999,9,-999,-999,9,-999,9,-999,-999,9,-999,-999,9,-999,-999,9,-999,1.1054,27.788
49NZ20070724,   P01,67,1,3, X12931,2,20070816,1513,47.0008,-173.796,5724,5579.4,2,1.6157,2,1.61553,2,34.6885,2,34.6886,2,151.82,2,151.54,2,158.85,2,0.47,36.18,2,0.13,0.01,2,0.01,2.533,2,0.016,0.001,2,0.001,2,0.003,2,0,4,-999,9,-999,9,-999,-999,9,-999,9,-999,-999,9,-999,-999,9,-999,-999,9,-999,1.1047,27.788
49NZ20070724,   P01,67,1,2, X12930,9,20070816,1513,47.0008,-173.796,5724,9.8,2,13.4759,2,13.47365,2,32.7389,2,-999,9,277.54,2,-999,9,-999,9,-999,-999,9,-999,-999,9,-999,-999,9,-999,-999,9,-999,9,-999,9,-999,9,-999,9,-999,9,-999,-999,9,-999,9,-999,-999,9,-999,-999,9,-999,-999,9,-999,13.4746,24.5473
49NZ20070724,   P01,67,1,1, X12929,2,20070816,1513,47.0008,-173.796,5724,5831.2,2,1.6472,2,1.64702,2,34.6887,2,34.6889,6,152.81,2,152.33,2,157.79,2,0.47,36.08,2,0.13,0.01,2,0.01,2.53,2,0.016,0.005,2,0.005,2,0,2,0.099,4,-999,9,-999,9,-999,-999,9,-999,9,-999,-999,9,-999,-999,9,-999,-999,9,-999,1.1021,27.7883