BOTTLE,20081214JAMSTECIORGC,,,,,,,,,,,,,,,,,,,,,,,,,,,,,,,,,,,,,,,,,,,,,,,,,,,,,,,,,,,,,,,,,
EXPOCODE,SECT,STNNBR,CASTNO,SAMPNO,BTLNBR,BTLNBR_FLAG_W,DATE,TIME,LATITUDE,LONGITUDE,DEPTH,CTDPRS,CTDPRS_FLAG_W,CTDTMP,CTDTMP_FLAG_W,SBE35,SBE35_FLAG_W,CTDSAL,CTDSAL_FLAG_W,SALNTY,SALNTY_FLAG_W,CTDOXY,CTDOXY_FLAG_W,OXYGEN,OXYGEN_FLAG_W,SILCAT,SILCAT_FLAG_W,SILUNC,NITRAT,NITRAT_FLAG_W,NRAUNC,NITRIT,NITRIT_FLAG_W,NRIUNC,PHSPHT,PHSPHT_FLAG_W,PHPUNC,CFC-11,CFC-11_FLAG_W,CFC-12,CFC-12_FLAG_W,CFC113,CFC113_FLAG_W,CCL4,CCL4_FLAG_W,TCARBN,TCARBN_FLAG_W,ALKALI,ALKALI_FLAG_W,PH_TOT,PH_TMP,PH_FLAG_W,DELC13,DELC13_FLAG_W,C13ERR,DELC14,DELC14_FLAG_W,C14ERR,CS-137,CS-137_FLAG_W,CS137ER,PLUTO,PLUTO_FLAG_W,PLUTOER,THETA,SIG0
,,,,,,,,UTC,DEG,DEG,M,DBAR,,ITS-90,,ITS-90,,PSS-78,,PSS-78,,UMOL/KG,,UMOL/KG,,UMOL/KG,,UMOL/KG,UMOL/KG,,UMOL/KG,UMOL/KG,,UMOL/KG,UMOL/KG,,UMOL/KG,PMOL/KG,,PMOL/KG,,PMOL/KG,,PMOL/KG,,UMOL/KG,,UMOL/KG,,,ITS-90,,/MILLE,,/MILLE,/MILLE,,/MILLE,BQ/CUM,,BQ/CUM,MBQ/CUM,,MBQ/CUM,DEG C,KG/CUM
49NZ20070724,   P01,111,1,0,-999,9,20070828,1821,47.005,-126.4712,2550,-999,9,-999,9,-999,9,-999,9,-999,5,-999,9,-999,9,-999,9,-999,-999,9,-999,-999,9,-999,-999,9,-999,-999,9,-999,9,-999,9,-999,9,-999,9,-999,9,-999,-999,9,-999,9,-999,-999,9,-999,-999,9,-999,-999,9,-999,-999,-999
49NZ20070724,   P01,111,1,36, X12042,2,20070828,1821,47.005,-126.4712,2550,9.9,2,18.106,2,18.1047,2,32.1101,2,32.1015,2,247.21,2,245.87,2,4.09,2,0.13,0.05,2,0.03,0.01,2,0.01,0.372,2,0.014,2.466,2,1.501,2,-999,5,3.812,4,-999,9,-999,9,-999,-999,9,-999,9,-999,-999,9,-999,-999,9,-999,-999,9,-999,18.1043,23.0348
49NZ20070724,   P01,111,1,35, X12041,2,20070828,1821,47.005,-126.4712,2550,50.1,2,9.1547,2,9.15724,2,32.365,2,32.3771,2,290.73,2,292.2,2,8.74,2,0.14,6.47,2,0.05,0.38,2,0,0.912,2,0.013,3.887,2,2.197,2,0.392,2,5.545,4,-999,9,-999,9,-999,-999,9,-999,9,-999,-999,9,-999,-999,9,-999,-999,9,-999,9.1494,25.0321
49NZ20070724,   P01,111,1,34, X12036,2,20070828,1821,47.005,-126.4712,2550,100.2,2,7.9672,2,7.96673,2,32.9564,2,33.0291,2,208.75,2,206.01,2,21.3,2,0.17,19.68,2,0.09,0.03,2,0.01,1.619,2,0.014,3.735,2,2.062,2,0.283,2,3.158,4,-999,9,-999,9,-999,-999,9,-999,9,-999,-999,9,-999,-999,9,-999,-999,9,-999,7.9575,25.6753
49NZ20070724,   P01,111,1,33, X12033,2,20070828,1821,47.005,-126.4712,2550,149.8,2,7.5414,2,7.54183,2,33.7158,2,33.7334,2,145.27,2,144.08,2,33.15,2,0.19,27.32,2,0.11,0.01,2,0.01,2.015,2,0.015,3.439,6,1.833,6,0.243,6,1.887,4,-999,9,-999,9,-999,-999,9,-999,9,-999,-999,9,-999,-999,9,-999,-999,9,-999,7.5271,26.3338
49NZ20070724,   P01,111,1,32, X12038,2,20070828,1821,47.005,-126.4712,2550,201.9,2,7.2635,2,7.26355,2,33.9577,2,33.9536,2,93.16,2,95.49,2,44.19,2,0.22,32.22,2,0.12,0.02,2,0.01,2.345,2,0.016,2.758,2,1.406,2,0.163,2,1.435,4,-999,9,-999,9,-999,-999,9,-999,9,-999,-999,9,-999,-999,9,-999,-999,9,-999,7.2445,26.5639
49NZ20070724,   P01,111,1,31, X12003,2,20070828,1821,47.005,-126.4712,2550,249.5,2,6.6144,2,6.61359,2,33.9761,2,33.9745,6,84.99,2,85.67,2,52.18,2,0.23,34.28,2,0.13,0.01,2,0.01,2.476,2,0.016,2.431,2,1.209,2,0.136,2,1.421,4,-999,9,-999,9,-999,-999,9,-999,9,-999,-999,9,-999,-999,9,-999,-999,9,-999,6.5921,26.6671
49NZ20070724,   P01,111,1,30, X12008,2,20070828,1821,47.005,-126.4712,2550,331.1,2,6.0916,2,6.09227,2,34.0282,2,34.0264,2,54.43,2,55.39,2,62.65,2,0.26,37.76,2,0.14,0.02,2,0.01,2.744,2,0.017,1.752,2,0.845,2,0.093,2,1.154,4,-999,9,-999,9,-999,-999,9,-999,9,-999,-999,9,-999,-999,9,-999,-999,9,-999,6.0631,26.7768
49NZ20070724,   P01,111,1,29, X12035,2,20070828,1821,47.005,-126.4712,2550,430.3,2,5.446,2,5.44979,2,34.0797,2,34.0817,2,36.32,2,36.2,2,75.28,2,0.28,40.23,2,0.15,0.01,2,0.01,2.948,2,0.017,1.091,2,0.516,2,0.072,2,0.848,4,-999,9,-999,9,-999,-999,9,-999,9,-999,-999,9,-999,-999,9,-999,-999,9,-999,5.4107,26.8976
49NZ20070724,   P01,111,1,28, X12034,2,20070828,1821,47.005,-126.4712,2550,530.3,2,4.954,2,4.95388,2,34.136,2,34.1369,6,23.23,2,23.28,2,86.69,2,0.31,41.81,2,0.15,0.01,2,0.01,3.069,2,0.018,0.636,2,0.294,2,0.029,2,0.609,4,-999,9,-999,9,-999,-999,9,-999,9,-999,-999,9,-999,-999,9,-999,-999,9,-999,4.9121,27.0003
49NZ20070724,   P01,111,1,27, X12049,2,20070828,1821,47.005,-126.4712,2550,630.6,2,4.5793,2,4.57941,2,34.2083,2,34.2094,2,13.81,2,13.95,2,98.03,2,0.33,42.81,2,0.15,0.01,2,0.01,3.163,2,0.018,0.321,2,0.153,2,0.021,2,0.384,4,-999,9,-999,9,-999,-999,9,-999,9,-999,-999,9,-999,-999,9,-999,-999,9,-999,4.5308,27.1001
49NZ20070724,   P01,111,1,26, X12032,2,20070828,1821,47.005,-126.4712,2550,731,2,4.2508,2,4.25065,2,34.2717,2,34.2716,2,9.8,2,9.79,2,107.48,2,0.36,43.56,2,0.15,0.01,2,0.01,3.217,2,0.018,0.082,6,0.039,6,0.01,6,0.224,4,-999,9,-999,9,-999,-999,9,-999,9,-999,-999,9,-999,-999,9,-999,-999,9,-999,4.1958,27.1864
49NZ20070724,   P01,111,1,25, X12043,2,20070828,1821,47.005,-126.4712,2550,829.8,2,3.9828,2,3.98342,2,34.318,2,34.3185,2,8.68,2,8.47,2,115.34,2,0.37,43.96,2,0.16,0.01,2,0.01,3.238,2,0.018,0.074,2,0.036,2,0.005,2,0.151,4,-999,9,-999,9,-999,-999,9,-999,9,-999,-999,9,-999,-999,9,-999,-999,9,-999,3.9215,27.2517
49NZ20070724,   P01,111,1,24, X12030,2,20070828,1821,47.005,-126.4712,2550,929.6,2,3.7215,2,3.72198,2,34.3615,2,34.3617,2,9.08,2,8.94,2,122.56,2,0.39,44.03,2,0.16,0.01,2,0.01,3.212,2,0.018,0.046,2,0.022,2,0.004,2,0.095,4,-999,9,-999,9,-999,-999,9,-999,9,-999,-999,9,-999,-999,9,-999,-999,9,-999,3.6539,27.3133
49NZ20070724,   P01,111,1,23, X12027,2,20070828,1821,47.005,-126.4712,2550,1069.8,2,3.4012,2,3.40116,2,34.415,2,34.4149,6,11.53,2,11.48,2,131.64,2,0.41,44.29,2,0.16,0.01,2,0.01,3.234,2,0.018,0.022,2,0.012,2,0.003,2,0.071,4,-999,9,-999,9,-999,-999,9,-999,9,-999,-999,9,-999,-999,9,-999,-999,9,-999,3.3248,27.3878
49NZ20070724,   P01,111,1,22, X12028,2,20070828,1821,47.005,-126.4712,2550,1270,2,2.9663,2,2.96652,2,34.4695,2,34.469,2,18.05,2,18.28,2,144.16,2,0.44,44.23,2,0.16,0.01,2,0.01,3.204,2,0.018,0.012,2,0.006,2,0.003,2,0.055,4,-999,9,-999,9,-999,-999,9,-999,9,-999,-999,9,-999,-999,9,-999,-999,9,-999,2.8778,27.4727
49NZ20070724,   P01,111,1,21, X12009,2,20070828,1821,47.005,-126.4712,2550,1470.6,2,2.5869,2,2.58697,2,34.5187,2,34.5187,2,29.83,2,29.7,2,154.63,2,0.46,43.51,2,0.15,0.01,2,0.01,3.148,2,0.018,0.012,2,0.005,2,0.004,2,0.089,4,-999,9,-999,9,-999,-999,9,-999,9,-999,-999,9,-999,-999,9,-999,-999,9,-999,2.4863,27.5462
49NZ20070724,   P01,111,1,20, X12026,2,20070828,1821,47.005,-126.4712,2550,1670.1,2,2.2864,2,2.28663,2,34.5541,2,34.5541,2,42.32,2,42.37,2,162.92,2,0.48,42.89,2,0.15,0.01,2,0.01,3.085,2,0.018,0.007,2,0.005,2,0.002,2,0.033,4,-999,9,-999,9,-999,-999,9,-999,9,-999,-999,9,-999,-999,9,-999,-999,9,-999,2.1733,27.6006
49NZ20070724,   P01,111,1,19, X12025,2,20070828,1821,47.005,-126.4712,2550,1870.7,2,2.0518,2,2.05173,2,34.5824,2,34.5827,6,54.37,2,54.21,2,169.31,2,0.49,42.14,2,0.15,0.01,2,0.01,3.025,2,0.018,0.006,2,0.006,2,0,2,0.024,4,-999,9,-999,9,-999,-999,9,-999,9,-999,-999,9,-999,-999,9,-999,-999,9,-999,1.9255,27.643
49NZ20070724,   P01,111,1,18, X12024,2,20070828,1821,47.005,-126.4712,2550,2069.7,2,1.8779,2,1.87791,2,34.6073,2,34.6079,2,65.81,2,66.03,2,174.62,2,0.5,41.32,2,0.15,0.01,2,0.01,2.972,2,0.017,0.009,2,0.006,2,0,2,0.039,4,-999,9,-999,9,-999,-999,9,-999,9,-999,-999,9,-999,-999,9,-999,-999,9,-999,1.7376,27.6774
49NZ20070724,   P01,111,1,17, X12023,2,20070828,1821,47.005,-126.4712,2550,2273.1,2,1.7832,2,1.78318,2,34.6246,2,34.6252,2,74.3,2,74.54,2,177.82,2,0.51,40.73,2,0.15,0.01,2,0.01,2.93,2,0.017,0.007,2,0.008,2,0.006,2,0.045,4,-999,9,-999,9,-999,-999,9,-999,9,-999,-999,9,-999,-999,9,-999,-999,9,-999,1.6271,27.6996
49NZ20070724,   P01,111,1,16, X12022,2,20070828,1821,47.005,-126.4712,2550,2470.3,2,1.7535,2,1.75337,2,34.6362,2,34.637,2,77.13,2,77.45,2,183.41,2,0.52,40.28,2,0.15,0.01,2,0.01,2.933,2,0.017,0.019,2,0.015,2,0,2,0,4,-999,9,-999,9,-999,-999,9,-999,9,-999,-999,9,-999,-999,9,-999,-999,9,-999,1.5805,27.7123
49NZ20070724,   P01,111,1,15, X12021,9,20070828,1821,47.005,-126.4712,2550,9.9,2,18.1001,2,18.10215,2,32.1094,2,-999,9,246.88,2,-999,9,-999,9,-999,-999,9,-999,-999,9,-999,-999,9,-999,-999,9,-999,9,-999,9,-999,9,-999,9,-999,9,-999,-999,9,-999,9,-999,-999,9,-999,-999,9,-999,-999,9,-999,18.0984,23.0357
49NZ20070724,   P01,111,1,14, X12020,9,20070828,1821,47.005,-126.4712,2550,249.3,2,6.6097,2,6.60844,2,33.9758,2,-999,9,84.84,2,-999,9,-999,9,-999,-999,9,-999,-999,9,-999,-999,9,-999,-999,9,-999,9,-999,9,-999,9,-999,9,-999,9,-999,-999,9,-999,9,-999,-999,9,-999,-999,9,-999,-999,9,-999,6.5874,26.6675
49NZ20070724,   P01,111,1,13, X12019,9,20070828,1821,47.005,-126.4712,2550,330.6,2,6.0889,2,6.08875,2,34.0277,2,-999,9,54.77,2,-999,9,-999,9,-999,-999,9,-999,-999,9,-999,-999,9,-999,-999,9,-999,9,-999,9,-999,9,-999,9,-999,9,-999,-999,9,-999,9,-999,-999,9,-999,-999,9,-999,-999,9,-999,6.0604,26.7767
49NZ20070724,   P01,111,1,12, X12040,9,20070828,1821,47.005,-126.4712,2550,429.3,2,5.4701,2,5.47031,2,34.0822,2,-999,9,35.98,2,-999,9,-999,9,-999,-999,9,-999,-999,9,-999,-999,9,-999,-999,9,-999,9,-999,9,-999,9,-999,9,-999,9,-999,-999,9,-999,9,-999,-999,9,-999,-999,9,-999,-999,9,-999,5.4349,26.8968
49NZ20070724,   P01,111,1,11, X12047,9,20070828,1821,47.005,-126.4712,2550,530.2,2,4.9397,2,4.94104,2,34.1339,2,-999,9,23.53,2,-999,9,-999,9,-999,-999,9,-999,-999,9,-999,-999,9,-999,-999,9,-999,9,-999,9,-999,9,-999,9,-999,9,-999,-999,9,-999,9,-999,-999,9,-999,-999,9,-999,-999,9,-999,4.8979,27.0002
49NZ20070724,   P01,111,1,10, X12010,9,20070828,1821,47.005,-126.4712,2550,630.4,2,4.5785,2,4.57863,2,34.2084,2,-999,9,13.8,2,-999,9,-999,9,-999,-999,9,-999,-999,9,-999,-999,9,-999,-999,9,-999,9,-999,9,-999,9,-999,9,-999,9,-999,-999,9,-999,9,-999,-999,9,-999,-999,9,-999,-999,9,-999,4.53,27.1003
49NZ20070724,   P01,111,1,9, X12015,9,20070828,1821,47.005,-126.4712,2550,730.9,2,4.2511,2,4.25107,2,34.2717,2,-999,9,9.79,2,-999,9,-999,9,-999,-999,9,-999,-999,9,-999,-999,9,-999,-999,9,-999,9,-999,9,-999,9,-999,9,-999,9,-999,-999,9,-999,9,-999,-999,9,-999,-999,9,-999,-999,9,-999,4.1961,27.1863
49NZ20070724,   P01,111,1,8, X12046,9,20070828,1821,47.005,-126.4712,2550,829,2,3.9849,2,3.98483,2,34.3175,2,-999,9,8.66,2,-999,9,-999,9,-999,-999,9,-999,-999,9,-999,-999,9,-999,-999,9,-999,9,-999,9,-999,9,-999,9,-999,9,-999,-999,9,-999,9,-999,-999,9,-999,-999,9,-999,-999,9,-999,3.9236,27.251
49NZ20070724,   P01,111,1,7, X12044,9,20070828,1821,47.005,-126.4712,2550,929.4,2,3.7221,2,3.72214,2,34.3613,2,-999,9,9.11,2,-999,9,-999,9,-999,-999,9,-999,-999,9,-999,-999,9,-999,-999,9,-999,9,-999,9,-999,9,-999,9,-999,9,-999,-999,9,-999,9,-999,-999,9,-999,-999,9,-999,-999,9,-999,3.6545,27.3131
49NZ20070724,   P01,111,1,6, X12048,9,20070828,1821,47.005,-126.4712,2550,1069.2,2,3.3992,2,3.39929,2,34.4151,2,-999,9,11.66,2,-999,9,-999,9,-999,-999,9,-999,-999,9,-999,-999,9,-999,-999,9,-999,9,-999,9,-999,9,-999,9,-999,9,-999,-999,9,-999,9,-999,-999,9,-999,-999,9,-999,-999,9,-999,3.3229,27.3881
49NZ20070724,   P01,111,1,5, X12014,9,20070828,1821,47.005,-126.4712,2550,1270,2,2.966,2,2.9661,2,34.4693,2,-999,9,18.24,2,-999,9,-999,9,-999,-999,9,-999,-999,9,-999,-999,9,-999,-999,9,-999,9,-999,9,-999,9,-999,9,-999,9,-999,-999,9,-999,9,-999,-999,9,-999,-999,9,-999,-999,9,-999,2.8775,27.4725
49NZ20070724,   P01,111,1,4, X12928,9,20070828,1821,47.005,-126.4712,2550,1470.2,2,2.5875,2,2.58775,2,34.5183,2,-999,9,30.05,2,-999,9,-999,9,-999,-999,9,-999,-999,9,-999,-999,9,-999,-999,9,-999,9,-999,9,-999,9,-999,9,-999,9,-999,-999,9,-999,9,-999,-999,9,-999,-999,9,-999,-999,9,-999,2.4869,27.5458
49NZ20070724,   P01,111,1,3, X12931,2,20070828,1821,47.005,-126.4712,2550,29.8,2,13.448,2,13.37875,2,32.207,2,-999,9,318.35,2,-999,9,-999,9,-999,-999,9,-999,-999,9,-999,-999,9,-999,-999,9,-999,9,-999,9,-999,9,-999,9,-999,9,-999,-999,9,-999,9,-999,-999,9,-999,-999,9,-999,-999,9,-999,13.4439,24.1422
49NZ20070724,   P01,111,1,2, X12930,2,20070828,1821,47.005,-126.4712,2550,19.3,2,17.8847,2,17.88841,2,32.1263,2,-999,9,249.13,2,-999,9,-999,9,-999,-999,9,-999,-999,9,-999,-999,9,-999,-999,9,-999,9,-999,9,-999,9,-999,9,-999,9,-999,-999,9,-999,9,-999,-999,9,-999,-999,9,-999,-999,9,-999,17.8815,23.1011
49NZ20070724,   P01,111,1,1, X12929,2,20070828,1821,47.005,-126.4712,2550,2572.5,2,1.7477,2,1.74771,2,34.6426,2,34.6427,6,75.93,2,76.38,2,189.08,2,0.53,39.9,2,0.14,0.02,2,0.01,2.964,2,0.017,0.036,2,0.022,2,0,2,0.028,4,-999,9,-999,9,-999,-999,9,-999,9,-999,-999,9,-999,-999,9,-999,-999,9,-999,1.5656,27.7185