BOTTLE,20081214JAMSTECIORGC,,,,,,,,,,,,,,,,,,,,,,,,,,,,,,,,,,,,,,,,,,,,,,,,,,,,,,,,,,,,,,,,,
EXPOCODE,SECT,STNNBR,CASTNO,SAMPNO,BTLNBR,BTLNBR_FLAG_W,DATE,TIME,LATITUDE,LONGITUDE,DEPTH,CTDPRS,CTDPRS_FLAG_W,CTDTMP,CTDTMP_FLAG_W,SBE35,SBE35_FLAG_W,CTDSAL,CTDSAL_FLAG_W,SALNTY,SALNTY_FLAG_W,CTDOXY,CTDOXY_FLAG_W,OXYGEN,OXYGEN_FLAG_W,SILCAT,SILCAT_FLAG_W,SILUNC,NITRAT,NITRAT_FLAG_W,NRAUNC,NITRIT,NITRIT_FLAG_W,NRIUNC,PHSPHT,PHSPHT_FLAG_W,PHPUNC,CFC-11,CFC-11_FLAG_W,CFC-12,CFC-12_FLAG_W,CFC113,CFC113_FLAG_W,CCL4,CCL4_FLAG_W,TCARBN,TCARBN_FLAG_W,ALKALI,ALKALI_FLAG_W,PH_TOT,PH_TMP,PH_FLAG_W,DELC13,DELC13_FLAG_W,C13ERR,DELC14,DELC14_FLAG_W,C14ERR,CS-137,CS-137_FLAG_W,CS137ER,PLUTO,PLUTO_FLAG_W,PLUTOER,THETA,SIG0
,,,,,,,,UTC,DEG,DEG,M,DBAR,,ITS-90,,ITS-90,,PSS-78,,PSS-78,,UMOL/KG,,UMOL/KG,,UMOL/KG,,UMOL/KG,UMOL/KG,,UMOL/KG,UMOL/KG,,UMOL/KG,UMOL/KG,,UMOL/KG,PMOL/KG,,PMOL/KG,,PMOL/KG,,PMOL/KG,,UMOL/KG,,UMOL/KG,,,ITS-90,,/MILLE,,/MILLE,/MILLE,,/MILLE,BQ/CUM,,BQ/CUM,MBQ/CUM,,MBQ/CUM,DEG C,KG/CUM
49NZ20070724,   P01,27,1,0,-999,9,20070801,208,41.9402,151.4697,5157,-999,9,-999,9,-999,9,-999,9,33.1131,2,-999,9,-999,9,-999,9,-999,-999,9,-999,-999,9,-999,-999,9,-999,-999,9,-999,9,-999,9,-999,9,-999,9,-999,9,-999,-999,9,-999,9,-999,-999,9,-999,-999,9,-999,-999,9,-999,-999,-999
49NZ20070724,   P01,27,1,36, X12042,2,20070801,208,41.9402,151.4697,5157,9.4,2,16.6128,2,16.68701,2,33.2351,2,33.364,3,264.48,2,273.09,2,1.46,2,0.12,1.55,2,0.04,0.06,2,0.01,0.377,2,0.014,2.82,2,1.61,2,0.255,2,-999,9,1996.6,2,2248.5,2,7.9936,25,6,-999,1,-999,-999,1,-999,-999,9,-999,-999,9,-999,16.6113,24.2506
49NZ20070724,   P01,27,1,35, X12041,2,20070801,208,41.9402,151.4697,5157,49.6,2,5.5554,2,5.50667,2,33.2628,2,33.3283,2,317.38,2,303.5,2,26.4,2,0.18,16.91,2,0.08,0.38,2,0,1.5,2,0.014,4.418,2,2.444,2,0.272,2,-999,9,2107.2,6,2254.7,2,7.762,25,2,-999,1,-999,-999,1,-999,-999,9,-999,-999,9,-999,5.5515,26.2344
49NZ20070724,   P01,27,1,34, X12036,2,20070801,208,41.9402,151.4697,5157,99.6,2,4.2593,2,4.26582,2,33.488,2,33.4672,2,261.2,2,265.78,2,40.9,2,0.21,23.46,2,0.1,0.03,2,0.01,1.835,2,0.015,4.221,2,2.309,2,0.242,2,-999,9,2155.7,2,2259.2,6,7.6531,25,2,-999,1,-999,-999,1,-999,-999,9,-999,-999,9,-999,4.2524,26.5576
49NZ20070724,   P01,27,1,33, X12033,2,20070801,208,41.9402,151.4697,5157,149.4,2,3.0319,2,3.03742,2,33.4925,2,33.4808,2,230.73,2,230.73,2,57.3,2,0.25,28.96,2,0.11,0.02,2,0.01,2.225,2,0.016,4.023,6,2.179,6,0.245,6,-999,9,2198.9,2,2268.1,2,7.5506,25,2,-999,1,-999,-999,1,-999,-999,9,-999,-999,9,-999,3.023,26.6797
49NZ20070724,   P01,27,1,32, X12038,2,20070801,208,41.9402,151.4697,5157,199.2,2,2.3488,2,2.34365,2,33.5433,2,33.5682,2,170.61,2,169.06,2,74.29,2,0.28,34.89,2,0.13,0.01,2,0.01,2.617,2,0.017,3.479,2,1.853,2,0.212,2,-999,9,2246.8,2,2279.8,2,7.4388,25,2,-999,1,-999,-999,1,-999,-999,9,-999,-999,9,-999,2.3379,26.7782
49NZ20070724,   P01,27,1,31, X12003,2,20070801,208,41.9402,151.4697,5157,249.2,2,3.0394,2,3.03917,2,33.7117,2,33.7188,6,138.3,2,135.2,2,80.91,2,0.3,36.29,2,0.13,0.01,2,0.01,2.689,2,0.017,2.882,2,1.513,2,0.186,2,-999,9,2267,2,2291.7,2,7.4119,25,2,-999,1,-999,-999,1,-999,-999,9,-999,-999,9,-999,3.0242,26.8545
49NZ20070724,   P01,27,1,30, X12008,2,20070801,208,41.9402,151.4697,5157,281.1,2,2.8454,2,2.84475,2,33.745,2,33.7523,2,114.12,2,113.68,2,87.82,2,0.31,38.42,2,0.14,0.01,2,0.01,2.825,2,0.017,2.681,2,1.389,2,0.159,2,-999,9,2285.8,2,2296.7,2,7.3702,25,2,-999,1,-999,-999,1,-999,-999,9,-999,-999,9,-999,2.8286,26.8984
49NZ20070724,   P01,27,1,29, X12035,2,20070801,208,41.9402,151.4697,5157,369.2,2,3.1149,2,3.11336,2,33.9173,2,33.9186,2,73.16,2,72.23,2,101.5,2,0.34,41,2,0.15,0.01,2,0.01,2.976,2,0.017,1.905,2,0.97,2,0.112,2,-999,9,2317.5,2,2314.4,2,7.3273,25,2,-999,1,-999,-999,1,-999,-999,9,-999,-999,9,-999,3.0917,27.0125
49NZ20070724,   P01,27,1,28, X12034,2,20070801,208,41.9402,151.4697,5157,469.5,2,3.1746,2,3.17468,2,34.0559,2,34.0593,6,48.64,2,48.07,2,113.5,2,0.37,42.25,2,0.15,0.01,2,0.01,3.052,2,0.018,1.269,2,0.641,2,0.073,2,-999,9,2338.8,2,2331.9,2,7.3157,25,2,-999,1,-999,-999,1,-999,-999,9,-999,-999,9,-999,3.1444,27.1183
49NZ20070724,   P01,27,1,27, X12049,2,20070801,208,41.9402,151.4697,5157,569.2,2,3.7769,2,3.77693,2,34.2472,2,34.2488,2,47.12,2,48.33,2,113.67,2,0.37,41.01,2,0.15,0.01,2,0.01,2.957,2,0.017,0.57,2,0.279,2,0.024,2,-999,9,2337.7,2,2349.3,2,7.3728,25,2,-999,1,-999,-999,1,-999,-999,9,-999,-999,9,-999,3.7369,27.2139
49NZ20070724,   P01,27,1,26, X12032,2,20070801,208,41.9402,151.4697,5157,668.9,2,3.4463,2,3.446,2,34.2896,2,34.2942,2,40.81,2,41.74,2,122.68,2,0.39,41.81,2,0.15,0.01,2,0.01,3.009,2,0.017,0.4,6,0.197,6,0.019,6,-999,9,2348.7,6,2359,2,7.3645,25,2,-999,1,-999,-999,1,-999,-999,9,-999,-999,9,-999,3.4005,27.2806
49NZ20070724,   P01,27,1,25, X12043,2,20070801,208,41.9402,151.4697,5157,769.7,2,3.3113,2,3.31188,2,34.3398,2,34.3411,2,38.97,2,39.6,2,127.72,2,0.4,42.15,2,0.15,0.01,2,0.01,3.034,2,0.018,0.245,2,0.122,2,0.014,2,-999,9,2355.5,2,2367.5,6,7.3667,25,2,-999,1,-999,-999,1,-999,-999,9,-999,-999,9,-999,3.2588,27.3341
49NZ20070724,   P01,27,1,24, X12030,2,20070801,208,41.9402,151.4697,5157,870.3,2,3.0932,2,3.09332,2,34.3816,2,34.382,2,37.59,2,37.77,2,133.9,2,0.41,42.41,2,0.15,0.01,2,0.01,3.044,2,0.018,0.158,2,0.081,2,0.017,2,-999,9,2364.6,2,2375.6,2,7.367,25,6,-999,1,-999,-999,1,-999,-999,9,-999,-999,9,-999,3.0345,27.3883
49NZ20070724,   P01,27,1,23, X12027,2,20070801,208,41.9402,151.4697,5157,971.2,2,2.8829,2,2.88314,2,34.4139,2,34.414,6,36.98,2,37.11,2,139.95,2,0.43,42.67,2,0.15,0.01,2,0.01,3.068,2,0.018,0.116,2,0.058,2,0.007,2,-999,9,2372.3,2,2382.8,2,7.3676,25,2,-999,1,-999,-999,1,-999,-999,9,-999,-999,9,-999,2.8182,27.4336
49NZ20070724,   P01,27,1,22, X12028,2,20070801,208,41.9402,151.4697,5157,1129.7,2,2.616,2,2.61595,2,34.4551,2,34.4552,2,38.25,2,38.15,2,146.89,2,0.44,42.67,2,0.15,0.01,2,0.01,3.063,2,0.018,0.077,2,0.042,2,0,2,-999,9,2379.3,2,2391.2,2,7.3723,25,2,-999,1,-999,-999,1,-999,-999,9,-999,-999,9,-999,2.5416,27.4906
49NZ20070724,   P01,27,1,21, X12009,2,20070801,208,41.9402,151.4697,5157,1331.3,2,2.3688,2,2.36895,2,34.4963,2,34.4962,2,43.87,2,44,2,154.52,2,0.46,42.68,2,0.15,0.01,2,0.01,3.049,2,0.018,0.057,2,0.028,2,0,2,-999,9,2381.9,2,2398.9,2,7.384,25,2,-999,1,-999,-999,1,-999,-999,9,-999,-999,9,-999,2.2815,27.5454
49NZ20070724,   P01,27,1,20, X12026,2,20070801,208,41.9402,151.4697,5157,1529.1,2,2.2264,2,2.22651,2,34.5338,2,34.5338,2,50.96,2,50.95,2,156.97,2,0.46,42.32,2,0.15,0.01,2,0.01,3.022,2,0.018,0.024,2,0.011,2,0,2,-999,9,2381.6,2,2405.5,2,7.4013,25,6,-999,1,-999,-999,1,-999,-999,9,-999,-999,9,-999,2.1253,27.5881
49NZ20070724,   P01,27,1,19, X12025,2,20070801,208,41.9402,151.4697,5157,1729.8,2,2.0811,2,2.08125,2,34.565,2,34.5648,2,60.97,2,60.8,2,159.33,2,0.47,41.92,2,0.15,0.01,2,0.01,2.973,2,0.017,0.006,2,0.003,2,0,2,-999,9,2379.1,2,2409.7,2,7.4209,25,2,-999,1,-999,-999,1,-999,-999,9,-999,-999,9,-999,1.9659,27.6259
49NZ20070724,   P01,27,1,18, X12024,2,20070801,208,41.9402,151.4697,5157,1931.3,2,1.9387,2,1.93884,2,34.5928,2,34.5926,2,73.39,2,73.16,2,160.21,2,0.47,41.18,2,0.15,0.01,2,0.01,2.915,2,0.017,0.002,2,0,2,0,2,-999,9,2373.8,2,2413.7,2,7.4457,25,2,-999,1,-999,-999,1,-999,-999,9,-999,-999,9,-999,1.809,27.6603
49NZ20070724,   P01,27,1,17, X12023,2,20070801,208,41.9402,151.4697,5157,2130.4,2,1.8289,2,1.82902,2,34.6131,2,34.6129,2,85.79,2,85.46,2,159.73,2,0.47,40.39,2,0.15,0,2,0.01,2.856,2,0.017,0.002,2,0.001,2,0,2,-999,9,2368.4,2,2416.3,2,7.4691,25,2,-999,1,-999,-999,1,-999,-999,9,-999,-999,9,-999,1.6842,27.686
49NZ20070724,   P01,27,1,16, X12022,2,20070801,208,41.9402,151.4697,5157,2330.1,2,1.7281,2,1.72821,2,34.6298,2,34.6296,2,96.56,2,96.38,2,159.49,2,0.47,39.46,2,0.14,0.01,2,0.01,2.79,2,0.017,-999,9,-999,9,-999,9,-999,9,2363.8,6,2417,2,7.4898,25,2,-999,1,-999,-999,1,-999,-999,9,-999,-999,9,-999,1.568,27.7081
49NZ20070724,   P01,27,1,15, X12021,2,20070801,208,41.9402,151.4697,5157,2530.2,2,1.6609,2,1.66096,2,34.642,2,34.6419,6,106.7,2,106.48,2,158.05,2,0.47,38.95,2,0.14,0.01,2,0.01,2.755,2,0.017,0,2,0,2,0,2,-999,9,2356.3,2,2418.7,6,7.5085,25,2,-999,1,-999,-999,1,-999,-999,9,-999,-999,9,-999,1.4843,27.724
49NZ20070724,   P01,27,1,14, X12020,2,20070801,208,41.9402,151.4697,5157,2729.9,2,1.5942,2,1.59496,2,34.6531,2,34.6531,2,116.06,2,115.67,2,157.02,2,0.46,38.31,2,0.14,0.01,2,0.01,2.703,2,0.017,-999,9,-999,9,-999,9,-999,9,2351.3,2,2418.6,2,7.5253,25,6,-999,1,-999,-999,1,-999,-999,9,-999,-999,9,-999,1.4008,27.739
49NZ20070724,   P01,27,1,13, X12019,2,20070801,208,41.9402,151.4697,5157,2930.3,2,1.5522,2,1.55232,2,34.6608,2,34.6611,2,124.18,2,123.73,2,155.41,2,0.46,37.99,2,0.14,0.01,2,0.01,2.672,2,0.017,-999,9,-999,9,-999,9,-999,9,2346.7,2,2418.8,2,7.5399,25,2,-999,1,-999,-999,1,-999,-999,9,-999,-999,9,-999,1.3409,27.7494
49NZ20070724,   P01,27,1,12, X12040,2,20070801,208,41.9402,151.4697,5157,3171.1,2,1.5135,2,1.51365,2,34.6683,2,34.6682,2,132.03,2,132.03,2,152.75,2,0.46,37.25,2,0.14,0.01,2,0.01,2.625,2,0.017,0,2,0,2,0,2,-999,9,2342,2,2419.3,2,7.5546,25,2,-999,1,-999,-999,1,-999,-999,9,-999,-999,9,-999,1.28,27.7597
49NZ20070724,   P01,27,1,11, X12047,2,20070801,208,41.9402,151.4697,5157,3419.5,2,1.4877,2,1.48784,2,34.674,2,34.674,2,138.39,2,138.36,2,151.14,2,0.45,36.89,2,0.14,0.01,2,0.01,2.59,2,0.016,-999,9,-999,9,-999,9,-999,9,2337.4,2,2418.3,2,7.5657,25,2,-999,1,-999,-999,1,-999,-999,9,-999,-999,9,-999,1.2301,27.7677
49NZ20070724,   P01,27,1,10, X12010,2,20070801,208,41.9402,151.4697,5157,3670.4,2,1.4687,2,1.46885,2,34.6787,2,34.6788,2,144.3,2,144.45,2,149.61,2,0.45,36.48,2,0.13,0.01,2,0.01,2.574,2,0.016,-999,9,-999,9,-999,9,-999,9,2332.3,2,2418.2,2,7.5751,25,2,-999,1,-999,-999,1,-999,-999,9,-999,-999,9,-999,1.1858,27.7746
49NZ20070724,   P01,27,1,9, X12015,2,20070801,208,41.9402,151.4697,5157,3918.9,2,1.4597,2,1.45976,2,34.6822,2,34.6826,2,148.61,2,148.64,2,148.64,2,0.45,36.22,2,0.13,0.01,2,0.01,2.536,2,0.016,0,2,0,2,0,2,-999,9,2329.1,2,2417.7,2,7.5833,25,2,-999,1,-999,-999,1,-999,-999,9,-999,-999,9,-999,1.1507,27.7798
49NZ20070724,   P01,27,1,8, X12046,2,20070801,208,41.9402,151.4697,5157,4169.1,2,1.4582,2,1.45853,2,34.6851,2,34.6852,6,152.39,2,152.69,2,147.79,2,0.44,36.06,2,0.13,0.01,2,0.01,2.521,2,0.016,-999,9,-999,9,-999,9,-999,9,2326.7,6,2417.8,2,7.5893,25,2,-999,1,-999,-999,1,-999,-999,9,-999,-999,9,-999,1.1219,27.7841
49NZ20070724,   P01,27,1,7, X12044,2,20070801,208,41.9402,151.4697,5157,4419.7,2,1.4652,2,1.4654,2,34.6873,2,34.6874,2,155.09,2,155.34,2,147.02,2,0.44,35.84,2,0.13,0.01,2,0.01,2.504,2,0.016,-999,9,-999,9,-999,9,-999,9,2324,2,2416.9,6,7.5938,25,2,-999,1,-999,-999,1,-999,-999,9,-999,-999,9,-999,1.1005,27.7873
49NZ20070724,   P01,27,1,6, X12048,2,20070801,208,41.9402,151.4697,5157,4669,2,1.4821,2,1.4823,2,34.6887,2,34.6892,2,156.61,2,156.82,2,147.53,2,0.44,35.71,2,0.13,0.01,2,0.01,2.495,2,0.016,0,2,0.002,2,0,2,-999,9,2323.7,2,2417.3,2,7.5962,25,6,-999,1,-999,-999,1,-999,-999,9,-999,-999,9,-999,1.088,27.7893
49NZ20070724,   P01,27,1,5, X12017,2,20070801,208,41.9402,151.4697,5157,4918.7,2,1.5059,2,1.50594,2,34.6895,2,34.6888,2,157.44,2,157.69,2,147.56,2,0.44,35.69,2,0.13,0,2,0.01,2.5,2,0.016,-999,9,-999,9,-999,9,-999,9,2322.1,2,2416.9,2,7.5976,25,2,-999,1,-999,-999,1,-999,-999,9,-999,-999,9,-999,1.0813,27.7904
49NZ20070724,   P01,27,1,4, X12928,2,20070801,208,41.9402,151.4697,5157,5169.5,2,1.5332,2,1.53321,2,34.69,2,34.6904,2,157.9,2,157.94,2,148.73,2,0.45,35.58,2,0.13,0.01,2,0.01,2.49,2,0.016,-999,9,-999,9,-999,9,-999,9,2322.9,2,2417.3,2,7.5984,25,2,-999,1,-999,-999,1,-999,-999,9,-999,-999,9,-999,1.077,27.7911
49NZ20070724,   P01,27,1,3, X12931,9,20070801,208,41.9402,151.4697,5157,9.5,2,17.1111,2,17.08082,2,33.2175,2,-999,9,259.9,2,-999,9,-999,9,-999,-999,9,-999,-999,9,-999,-999,9,-999,-999,9,-999,9,-999,9,-999,9,-999,9,-999,9,-999,-999,9,-999,9,-999,-999,9,-999,-999,9,-999,-999,9,-999,17.1096,24.1208
49NZ20070724,   P01,27,1,2, X12930,9,20070801,208,41.9402,151.4697,5157,9.5,2,17.0231,2,16.99644,2,33.2235,2,-999,9,260.52,2,-999,9,-999,9,-999,-999,9,-999,-999,9,-999,-999,9,-999,-999,9,-999,9,-999,9,-999,9,-999,9,-999,9,-999,-999,9,-999,9,-999,-999,9,-999,-999,9,-999,-999,9,-999,17.0216,24.1461
49NZ20070724,   P01,27,1,1, X12929,2,20070801,208,41.9402,151.4697,5157,5242.1,2,1.5428,2,1.5428,2,34.69,2,34.6902,6,157.81,2,157.75,2,149.69,2,0.45,35.66,2,0.13,0.01,2,0.01,2.495,2,0.016,0.002,2,0.002,2,0,2,-999,9,2322.6,2,2416.9,2,7.5983,25,2,-999,1,-999,-999,1,-999,-999,9,-999,-999,9,-999,1.0773,27.7911