BOTTLE,20081214JAMSTECIORGC,,,,,,,,,,,,,,,,,,,,,,,,,,,,,,,,,,,,,,,,,,,,,,,,,,,,,,,,,,,,,,,,,
EXPOCODE,SECT,STNNBR,CASTNO,SAMPNO,BTLNBR,BTLNBR_FLAG_W,DATE,TIME,LATITUDE,LONGITUDE,DEPTH,CTDPRS,CTDPRS_FLAG_W,CTDTMP,CTDTMP_FLAG_W,SBE35,SBE35_FLAG_W,CTDSAL,CTDSAL_FLAG_W,SALNTY,SALNTY_FLAG_W,CTDOXY,CTDOXY_FLAG_W,OXYGEN,OXYGEN_FLAG_W,SILCAT,SILCAT_FLAG_W,SILUNC,NITRAT,NITRAT_FLAG_W,NRAUNC,NITRIT,NITRIT_FLAG_W,NRIUNC,PHSPHT,PHSPHT_FLAG_W,PHPUNC,CFC-11,CFC-11_FLAG_W,CFC-12,CFC-12_FLAG_W,CFC113,CFC113_FLAG_W,CCL4,CCL4_FLAG_W,TCARBN,TCARBN_FLAG_W,ALKALI,ALKALI_FLAG_W,PH_TOT,PH_TMP,PH_FLAG_W,DELC13,DELC13_FLAG_W,C13ERR,DELC14,DELC14_FLAG_W,C14ERR,CS-137,CS-137_FLAG_W,CS137ER,PLUTO,PLUTO_FLAG_W,PLUTOER,THETA,SIG0
,,,,,,,,UTC,DEG,DEG,M,DBAR,,ITS-90,,ITS-90,,PSS-78,,PSS-78,,UMOL/KG,,UMOL/KG,,UMOL/KG,,UMOL/KG,UMOL/KG,,UMOL/KG,UMOL/KG,,UMOL/KG,UMOL/KG,,UMOL/KG,PMOL/KG,,PMOL/KG,,PMOL/KG,,PMOL/KG,,UMOL/KG,,UMOL/KG,,,ITS-90,,/MILLE,,/MILLE,/MILLE,,/MILLE,BQ/CUM,,BQ/CUM,MBQ/CUM,,MBQ/CUM,DEG C,KG/CUM
49NZ20070724,   P01,86,1,0,-999,9,20070822,434,46.9903,-152.5307,5195,-999,9,-999,9,-999,9,-999,9,32.5709,2,-999,9,-999,9,-999,9,-999,-999,9,-999,-999,9,-999,-999,9,-999,-999,9,-999,9,-999,9,-999,9,-999,9,-999,9,-999,-999,9,-999,9,-999,-999,9,-999,-999,1,-999,-999,1,-999,-999,-999
49NZ20070724,   P01,86,1,36, X12042,2,20070822,434,46.9903,-152.5307,5195,8.8,2,13.9197,2,13.91784,2,32.5801,2,32.5727,2,273.71,2,273.37,2,1.87,2,0.12,5.66,2,0.05,0.11,2,0.01,0.751,2,0.013,3.254,2,1.812,2,0.327,2,-999,9,-999,9,-999,9,-999,-999,9,-999,9,-999,-999,9,-999,-999,9,-999,-999,9,-999,13.9185,24.3344
49NZ20070724,   P01,86,1,35, X12041,2,20070822,434,46.9903,-152.5307,5195,49.7,2,7.2521,2,7.25113,2,32.8027,2,32.8112,2,300.76,2,301.49,2,18.15,2,0.16,11.61,2,0.07,0.13,2,0.01,1.287,2,0.014,4.479,2,2.408,2,0.415,2,-999,9,-999,9,-999,9,-999,-999,9,-999,9,-999,-999,9,-999,-999,9,-999,-999,9,-999,7.2476,25.6546
49NZ20070724,   P01,86,1,34, X12036,2,20070822,434,46.9903,-152.5307,5195,99.2,2,5.6682,2,5.66721,2,32.8983,2,32.9138,2,299.94,2,299.72,2,20.36,2,0.16,14.12,2,0.07,0.5,2,0,1.328,2,0.014,4.649,2,2.492,2,0.433,2,-999,9,-999,9,-999,9,-999,-999,9,-999,9,-999,-999,9,-999,-999,1,-999,-999,9,-999,5.6603,25.9332
49NZ20070724,   P01,86,1,33, X12033,2,20070822,434,46.9903,-152.5307,5195,149.9,2,5.9798,2,5.98069,2,33.4105,2,33.4185,2,267.84,2,267.99,2,25.76,2,0.18,17.96,2,0.08,0.03,2,0.01,1.441,2,0.014,4.382,6,2.348,6,0.349,6,-999,9,-999,9,-999,9,-999,-999,9,-999,9,-999,-999,9,-999,-999,9,-999,-999,9,-999,5.9674,26.3008
49NZ20070724,   P01,86,1,32, X12038,2,20070822,434,46.9903,-152.5307,5195,199.2,2,5.8612,2,5.8614,2,33.7617,2,33.7685,2,216.59,2,216.91,2,38.47,2,0.2,23.53,2,0.1,0.02,2,0.01,1.758,2,0.015,3.873,2,2.035,2,0.262,2,-999,9,-999,9,-999,9,-999,-999,9,-999,9,-999,-999,9,-999,-999,1,-999,-999,9,-999,5.8447,26.5935
49NZ20070724,   P01,86,1,31, X12003,2,20070822,434,46.9903,-152.5307,5195,249.6,2,5.4495,2,5.44962,2,33.8211,2,33.8202,6,174.69,2,175.62,2,49.54,2,0.23,28.01,2,0.11,0.02,2,0.01,2.053,2,0.015,3.457,2,1.76,2,0.23,2,-999,9,-999,9,-999,9,-999,-999,9,-999,9,-999,-999,9,-999,-999,9,-999,-999,9,-999,5.4295,26.6907
49NZ20070724,   P01,86,1,30, X12008,2,20070822,434,46.9903,-152.5307,5195,279.1,2,5.2204,2,5.22017,2,33.8484,2,33.8508,2,150.71,2,148.42,2,57.25,2,0.24,30.86,2,0.12,0.02,2,0.01,2.243,2,0.016,3.121,2,1.571,2,0.212,2,-999,9,-999,9,-999,9,-999,-999,9,-999,9,-999,-999,9,-999,-999,9,-999,-999,9,-999,5.1984,26.7395
49NZ20070724,   P01,86,1,29, X12035,2,20070822,434,46.9903,-152.5307,5195,368.7,2,4.6254,2,4.62457,2,33.9312,2,33.9314,2,97.4,2,96.59,2,74.88,2,0.28,36.54,2,0.14,0.01,2,0.01,2.622,2,0.017,2.328,2,1.14,2,0.163,2,-999,9,-999,9,-999,9,-999,-999,9,-999,9,-999,-999,9,-999,-999,1,-999,-999,9,-999,4.5978,26.8727
49NZ20070724,   P01,86,1,28, X12034,2,20070822,434,46.9903,-152.5307,5195,469.8,2,4.2372,2,4.23679,2,34.0369,2,34.0413,6,59.6,2,58.88,2,91.88,2,0.32,40.17,2,0.15,0.01,2,0.01,2.883,2,0.017,1.514,2,0.727,2,0.089,2,-999,9,-999,9,-999,9,-999,-999,9,-999,9,-999,-999,9,-999,-999,9,-999,-999,9,-999,4.203,26.999
49NZ20070724,   P01,86,1,27, X12049,2,20070822,434,46.9903,-152.5307,5195,570.4,2,4.0237,2,4.02382,2,34.1205,2,34.1206,2,42.49,2,42.95,2,102.38,2,0.34,41.66,2,0.15,0.01,2,0.01,2.972,2,0.017,1.021,2,0.481,2,0.058,2,-999,9,-999,9,-999,9,-999,-999,9,-999,9,-999,-999,9,-999,-999,1,-999,-999,9,-999,3.9827,27.0883
49NZ20070724,   P01,86,1,26, X12032,2,20070822,434,46.9903,-152.5307,5195,669.8,2,3.799,2,3.79875,2,34.1853,2,34.1849,2,33.74,2,34.12,2,111.29,2,0.36,42.46,2,0.15,0.01,2,0.01,3.036,2,0.018,0.652,6,0.303,6,0.035,6,-999,9,-999,9,-999,9,-999,-999,9,-999,9,-999,-999,9,-999,-999,9,-999,-999,9,-999,3.7514,27.1633
49NZ20070724,   P01,86,1,25, X12043,2,20070822,434,46.9903,-152.5307,5195,771.4,2,3.5312,2,3.53145,2,34.2362,2,34.2353,2,27.15,2,27.34,2,119.77,2,0.38,43.14,2,0.15,0.01,2,0.01,3.085,2,0.018,0.43,2,0.197,2,0.022,2,-999,9,-999,9,-999,9,-999,-999,9,-999,9,-999,-999,9,-999,-999,1,-999,-999,9,-999,3.4773,27.2307
49NZ20070724,   P01,86,1,24, X12030,2,20070822,434,46.9903,-152.5307,5195,870.3,2,3.293,2,3.29314,2,34.2959,2,34.2958,2,23.19,2,23.36,2,128.49,2,0.4,43.62,2,0.15,0.01,2,0.01,3.113,2,0.018,0.23,2,0.107,2,0.013,2,-999,9,-999,9,-999,9,-999,-999,9,-999,9,-999,-999,9,-999,-999,9,-999,-999,9,-999,3.2331,27.3015
49NZ20070724,   P01,86,1,23, X12027,2,20070822,434,46.9903,-152.5307,5195,971.6,2,3.0898,2,3.08975,2,34.341,2,34.3414,6,21.54,2,21.79,2,135.7,2,0.42,43.74,2,0.16,0.01,2,0.01,3.13,2,0.018,0.138,2,0.066,2,0.01,2,-999,9,-999,9,-999,9,-999,-999,9,-999,9,-999,-999,9,-999,-999,1,-999,-999,9,-999,3.0236,27.3568
49NZ20070724,   P01,86,1,22, X12028,2,20070822,434,46.9903,-152.5307,5195,1130.2,2,2.8468,2,2.84664,2,34.3956,2,34.3956,2,17.81,2,17.9,2,144.26,2,0.44,44.35,2,0.16,0.01,2,0.01,3.163,2,0.018,0.04,2,0.023,2,0.007,2,-999,9,-999,9,-999,9,-999,-999,9,-999,9,-999,-999,9,-999,-999,9,-999,-999,9,-999,2.7705,27.4232
49NZ20070724,   P01,86,1,21, X12009,2,20070822,434,46.9903,-152.5307,5195,1331.7,2,2.5569,2,2.55705,2,34.4563,2,34.456,2,16.21,2,16.31,2,154.23,2,0.46,44.69,2,0.16,0.01,2,0.01,3.174,2,0.018,0.006,2,0.001,2,0,2,-999,9,-999,9,-999,9,-999,-999,9,-999,9,-999,-999,9,-999,-999,9,-999,-999,9,-999,2.4677,27.4979
49NZ20070724,   P01,86,1,20, X12026,2,20070822,434,46.9903,-152.5307,5195,1531.3,2,2.3275,2,2.3275,2,34.5053,2,34.5048,2,20.69,2,20.87,2,161.71,2,0.47,44.64,2,0.16,0.01,2,0.01,3.143,2,0.018,0,2,0,2,0.005,2,-999,9,-999,9,-999,9,-999,-999,9,-999,9,-999,-999,9,-999,-999,9,-999,-999,9,-999,2.2251,27.5572
49NZ20070724,   P01,86,1,19, X12025,2,20070822,434,46.9903,-152.5307,5195,1731.6,2,2.1703,2,2.17043,2,34.54,2,34.5395,2,28.66,2,28.57,2,165.87,2,0.48,44.31,2,0.16,0.01,2,0.01,3.113,2,0.018,0,2,0,2,0,2,-999,9,-999,9,-999,9,-999,-999,9,-999,9,-999,-999,9,-999,-999,1,-999,-999,9,-999,2.0538,27.5989
49NZ20070724,   P01,86,1,18, X12024,2,20070822,434,46.9903,-152.5307,5195,1929.6,2,2.0439,2,2.04388,2,34.5674,2,34.5673,2,39.6,2,39.51,2,168.65,2,0.49,43.67,2,0.16,0.01,2,0.01,3.067,2,0.018,0,2,0,2,0.002,2,-999,9,-999,9,-999,9,-999,-999,9,-999,9,-999,-999,9,-999,-999,1,-999,-999,9,-999,1.9129,27.6319
49NZ20070724,   P01,86,1,17, X12023,2,20070822,434,46.9903,-152.5307,5195,2129.3,2,1.9273,2,1.92723,2,34.5916,2,34.5914,2,52.46,2,52.37,2,170.45,2,0.49,42.83,2,0.15,0.01,2,0.01,3.005,2,0.017,0.003,2,0,2,0,2,-999,9,-999,9,-999,9,-999,-999,9,-999,9,-999,-999,9,-999,-999,1,-999,-999,9,-999,1.7812,27.6615
49NZ20070724,   P01,86,1,16, X12022,2,20070822,434,46.9903,-152.5307,5195,2330.1,2,1.828,2,1.82796,2,34.6111,2,34.6113,2,65.16,2,64.89,2,171.49,2,0.5,42.09,2,0.15,0.01,2,0.01,2.955,2,0.017,-999,9,-999,9,-999,9,-999,9,-999,9,-999,9,-999,-999,9,-999,9,-999,-999,9,-999,-999,9,-999,-999,9,-999,1.6662,27.6858
49NZ20070724,   P01,86,1,15, X12021,2,20070822,434,46.9903,-152.5307,5195,2531,2,1.7374,2,1.73738,2,34.6276,2,34.6275,6,78.64,2,78.24,2,170.59,2,0.49,41.23,2,0.15,0.01,2,0.01,2.898,2,0.017,-999,9,-999,9,-999,9,-999,9,-999,9,-999,9,-999,-999,9,-999,9,-999,-999,9,-999,-999,9,-999,-999,9,-999,1.5593,27.7069
49NZ20070724,   P01,86,1,14, X12020,2,20070822,434,46.9903,-152.5307,5195,2730.5,2,1.6653,2,1.66534,2,34.6402,2,34.6403,2,91.11,2,90.94,2,169.36,2,0.49,40.34,2,0.15,0.01,2,0.01,2.832,2,0.017,-999,9,-999,9,-999,9,-999,9,-999,9,-999,9,-999,-999,9,-999,9,-999,-999,9,-999,-999,1,-999,-999,9,-999,1.4704,27.7236
49NZ20070724,   P01,86,1,13, X12019,2,20070822,434,46.9903,-152.5307,5195,2928.1,2,1.6071,2,1.60714,2,34.6511,2,34.6513,2,102.45,2,102.46,2,167.54,2,0.49,39.55,2,0.14,0.01,2,0.01,2.781,2,0.017,-999,9,-999,9,-999,9,-999,9,-999,9,-999,9,-999,-999,9,-999,9,-999,-999,9,-999,-999,1,-999,-999,9,-999,1.3949,27.7377
49NZ20070724,   P01,86,1,12, X12040,2,20070822,434,46.9903,-152.5307,5195,3170.6,2,1.5487,2,1.54869,2,34.6619,2,34.6622,2,115.41,2,115.36,2,164.75,2,0.48,38.74,2,0.14,0.01,2,0.01,2.704,2,0.017,-999,9,-999,9,-999,9,-999,9,-999,9,-999,9,-999,-999,9,-999,9,-999,-999,9,-999,-999,1,-999,-999,9,-999,1.3144,27.7522
49NZ20070724,   P01,86,1,11, X12047,2,20070822,434,46.9903,-152.5307,5195,3420.2,2,1.5112,2,1.51118,2,34.6701,2,34.6703,2,126.24,2,126.26,2,161.47,2,0.47,38.03,2,0.14,0.01,2,0.01,2.66,2,0.017,-999,9,-999,9,-999,9,-999,9,-999,9,-999,9,-999,-999,9,-999,9,-999,-999,9,-999,-999,9,-999,-999,9,-999,1.253,27.763
49NZ20070724,   P01,86,1,10, X12010,2,20070822,434,46.9903,-152.5307,5195,3670,2,1.4879,2,1.48802,2,34.6763,2,34.6761,2,133.75,2,134.01,2,160.48,2,0.47,37.52,2,0.14,0.01,2,0.01,2.617,2,0.017,-999,9,-999,9,-999,9,-999,9,-999,9,-999,9,-999,-999,9,-999,9,-999,-999,9,-999,-999,1,-999,-999,9,-999,1.2046,27.7714
49NZ20070724,   P01,86,1,9, X12015,2,20070822,434,46.9903,-152.5307,5195,3920.8,2,1.4841,2,1.48427,2,34.6805,2,34.6796,2,138.12,2,138.57,2,161.21,2,0.47,37.25,2,0.14,0,2,0.01,2.596,2,0.016,-999,9,-999,9,-999,9,-999,9,-999,9,-999,9,-999,-999,9,-999,9,-999,-999,9,-999,-999,1,-999,-999,9,-999,1.1742,27.7768
49NZ20070724,   P01,86,1,8, X12046,2,20070822,434,46.9903,-152.5307,5195,4170,2,1.4924,2,1.49255,2,34.6833,2,34.6832,2,140.81,2,141.28,2,162.3,2,0.48,37.09,2,0.14,0.01,2,0.01,2.58,2,0.016,-999,9,-999,9,-999,9,-999,9,-999,9,-999,9,-999,-999,9,-999,9,-999,-999,9,-999,-999,1,-999,-999,9,-999,1.155,27.7804
49NZ20070724,   P01,86,1,7, X12044,2,20070822,434,46.9903,-152.5307,5195,4420.8,2,1.5095,2,1.50955,2,34.6851,2,34.6851,2,142.53,2,142.98,2,163.74,2,0.48,36.91,2,0.14,0.01,2,0.01,2.569,2,0.016,-999,9,-999,9,-999,9,-999,9,-999,9,-999,9,-999,-999,9,-999,9,-999,-999,9,-999,-999,9,-999,-999,9,-999,1.1433,27.7826
49NZ20070724,   P01,86,1,6, X12048,2,20070822,434,46.9903,-152.5307,5195,4668.8,2,1.5298,2,1.5298,2,34.6862,2,34.6864,2,143.95,2,144.36,2,163.48,2,0.48,36.6,2,0.14,0.01,2,0.01,2.558,2,0.016,-999,9,-999,9,-999,9,-999,9,-999,9,-999,9,-999,-999,9,-999,9,-999,-999,9,-999,-999,9,-999,-999,9,-999,1.1342,27.7841
49NZ20070724,   P01,86,1,5, X12017,2,20070822,434,46.9903,-152.5307,5195,4920.7,2,1.5542,2,1.55424,2,34.6873,2,34.6871,2,145.08,2,145.32,2,164.66,2,0.48,36.78,2,0.14,0.01,2,0.01,2.564,2,0.016,-999,9,-999,9,-999,9,-999,9,-999,9,-999,9,-999,-999,9,-999,9,-999,-999,9,-999,-999,1,-999,-999,9,-999,1.1278,27.7855
49NZ20070724,   P01,86,1,4, X12928,2,20070822,434,46.9903,-152.5307,5195,5169.1,2,1.5839,2,1.58386,2,34.6874,2,34.6875,2,145.62,2,145.65,2,165.52,2,0.48,36.8,2,0.14,0.01,2,0.01,2.558,2,0.016,-999,9,-999,9,-999,9,-999,9,-999,9,-999,9,-999,-999,9,-999,9,-999,-999,9,-999,-999,9,-999,-999,9,-999,1.126,27.7857
49NZ20070724,   P01,86,1,3, X12931,2,20070822,434,46.9903,-152.5307,5195,4919.8,2,1.5542,2,1.55424,2,34.6872,2,-999,9,145.09,2,-999,9,-999,9,-999,-999,9,-999,-999,9,-999,-999,9,-999,-999,9,-999,9,-999,9,-999,9,-999,9,-999,9,-999,-999,9,-999,9,-999,-999,9,-999,-999,1,-999,-999,9,-999,1.1279,27.7854
49NZ20070724,   P01,86,1,2, X12930,2,20070822,434,46.9903,-152.5307,5195,5302.9,2,1.5992,2,1.5992,2,34.6876,2,-999,9,146.07,2,-999,9,-999,9,-999,-999,9,-999,-999,9,-999,-999,9,-999,-999,9,-999,9,-999,9,-999,9,-999,9,-999,9,-999,-999,9,-999,9,-999,-999,9,-999,-999,1,-999,-999,9,-999,1.1241,27.7859
49NZ20070724,   P01,86,1,1, X12929,2,20070822,434,46.9903,-152.5307,5195,5301.9,2,1.5991,2,1.59912,2,34.6876,2,34.6875,6,146.08,2,146.09,2,165.28,2,0.48,36.82,2,0.14,0.01,2,0.01,2.561,2,0.016,-999,9,-999,9,-999,9,-999,9,-999,9,-999,9,-999,-999,9,-999,9,-999,-999,9,-999,-999,1,-999,-999,9,-999,1.1241,27.7859