BOTTLE,20081214JAMSTECIORGC,,,,,,,,,,,,,,,,,,,,,,,,,,,,,,,,,,,,,,,,,,,,,,,,,,,,,,,,,,,,,,,,,
EXPOCODE,SECT,STNNBR,CASTNO,SAMPNO,BTLNBR,BTLNBR_FLAG_W,DATE,TIME,LATITUDE,LONGITUDE,DEPTH,CTDPRS,CTDPRS_FLAG_W,CTDTMP,CTDTMP_FLAG_W,SBE35,SBE35_FLAG_W,CTDSAL,CTDSAL_FLAG_W,SALNTY,SALNTY_FLAG_W,CTDOXY,CTDOXY_FLAG_W,OXYGEN,OXYGEN_FLAG_W,SILCAT,SILCAT_FLAG_W,SILUNC,NITRAT,NITRAT_FLAG_W,NRAUNC,NITRIT,NITRIT_FLAG_W,NRIUNC,PHSPHT,PHSPHT_FLAG_W,PHPUNC,CFC-11,CFC-11_FLAG_W,CFC-12,CFC-12_FLAG_W,CFC113,CFC113_FLAG_W,CCL4,CCL4_FLAG_W,TCARBN,TCARBN_FLAG_W,ALKALI,ALKALI_FLAG_W,PH_TOT,PH_TMP,PH_FLAG_W,DELC13,DELC13_FLAG_W,C13ERR,DELC14,DELC14_FLAG_W,C14ERR,CS-137,CS-137_FLAG_W,CS137ER,PLUTO,PLUTO_FLAG_W,PLUTOER,THETA,SIG0
,,,,,,,,UTC,DEG,DEG,M,DBAR,,ITS-90,,ITS-90,,PSS-78,,PSS-78,,UMOL/KG,,UMOL/KG,,UMOL/KG,,UMOL/KG,UMOL/KG,,UMOL/KG,UMOL/KG,,UMOL/KG,UMOL/KG,,UMOL/KG,PMOL/KG,,PMOL/KG,,PMOL/KG,,PMOL/KG,,UMOL/KG,,UMOL/KG,,,ITS-90,,/MILLE,,/MILLE,/MILLE,,/MILLE,BQ/CUM,,BQ/CUM,MBQ/CUM,,MBQ/CUM,DEG C,KG/CUM
49NZ20070724,   P01,96,1,0,-999,9,20070825,937,46.9892,-141.353,4419,-999,9,-999,9,-999,9,-999,9,32.3621,2,-999,9,-999,9,-999,9,-999,-999,9,-999,-999,9,-999,-999,9,-999,-999,9,-999,9,-999,9,-999,9,-999,9,-999,9,-999,-999,9,-999,9,-999,-999,9,-999,-999,1,-999,-999,1,-999,-999,-999
49NZ20070724,   P01,96,1,36, X12042,2,20070825,937,46.9892,-141.353,4419,10.1,2,13.8876,2,13.88477,2,32.3711,2,32.3679,2,271.55,2,271.65,2,2.21,2,0.12,3.46,2,0.04,0.08,2,0.01,0.67,2,0.013,3.19,2,1.831,2,0.293,2,-999,9,-999,9,-999,9,-999,-999,9,-999,9,-999,-999,9,-999,-999,9,-999,-999,9,-999,13.8862,24.1796
49NZ20070724,   P01,96,1,35, X12041,2,20070825,937,46.9892,-141.353,4419,49.6,2,7.9677,2,7.9718,2,32.6409,2,32.6444,2,296.4,2,298.98,2,14.69,2,0.15,10.65,2,0.06,0.13,2,0.01,1.196,2,0.013,4.311,2,2.41,2,0.369,2,-999,9,-999,9,-999,9,-999,-999,9,-999,9,-999,-999,9,-999,-999,9,-999,-999,9,-999,7.9629,25.4269
49NZ20070724,   P01,96,1,34, X12036,2,20070825,937,46.9892,-141.353,4419,100.2,2,6.2674,2,6.26592,2,32.7767,2,32.977,2,289.42,2,280.62,2,19.28,2,0.16,15.17,2,0.08,0.05,2,0.01,1.348,2,0.014,4.428,2,2.457,2,0.369,2,-999,9,-999,9,-999,9,-999,-999,9,-999,9,-999,-999,9,-999,-999,1,-999,-999,9,-999,6.259,25.7639
49NZ20070724,   P01,96,1,33, X12033,2,20070825,937,46.9892,-141.353,4419,150,2,7.0765,2,7.07644,2,33.7677,2,33.7779,2,231.1,2,232.38,2,26.7,2,0.18,19.5,2,0.09,0.02,2,0.01,1.47,2,0.014,3.994,6,2.184,6,0.274,6,-999,9,-999,9,-999,9,-999,-999,9,-999,9,-999,-999,9,-999,-999,9,-999,-999,9,-999,7.0627,26.4395
49NZ20070724,   P01,96,1,32, X12038,2,20070825,937,46.9892,-141.353,4419,200.3,2,6.5557,2,6.55646,2,33.8577,2,33.8529,2,196.78,2,197.78,2,37.63,2,0.2,24.01,2,0.1,0.01,2,0.01,1.769,2,0.015,3.688,2,1.957,2,0.244,2,-999,9,-999,9,-999,9,-999,-999,9,-999,9,-999,-999,9,-999,-999,1,-999,-999,9,-999,6.538,26.5809
49NZ20070724,   P01,96,1,31, X12003,2,20070825,937,46.9892,-141.353,4419,249.6,2,5.9487,2,5.94924,2,33.8584,2,33.8589,6,170.82,2,170.19,2,46.94,2,0.22,27.58,2,0.11,0.01,2,0.01,2.024,2,0.015,-999,5,-999,5,-999,5,-999,9,-999,9,-999,9,-999,-999,9,-999,9,-999,-999,9,-999,-999,9,-999,-999,9,-999,5.9277,26.6596
49NZ20070724,   P01,96,1,30, X12008,2,20070825,937,46.9892,-141.353,4419,331.1,2,5.0748,2,5.07508,2,33.8955,2,33.8989,2,114.31,2,112.48,2,64.87,2,0.26,34.3,2,0.13,0.01,2,0.01,2.463,2,0.016,2.67,2,1.328,2,0.167,2,-999,9,-999,9,-999,9,-999,-999,9,-999,9,-999,-999,9,-999,-999,9,-999,-999,9,-999,5.049,26.794
49NZ20070724,   P01,96,1,29, X12035,2,20070825,937,46.9892,-141.353,4419,429.4,2,4.6258,2,4.6264,2,33.9818,2,33.9836,2,70.69,2,69.3,2,81.12,2,0.3,39.09,2,0.14,0.01,2,0.01,2.79,2,0.017,1.805,2,0.864,2,0.106,2,-999,9,-999,9,-999,9,-999,-999,9,-999,9,-999,-999,9,-999,-999,1,-999,-999,9,-999,4.5934,26.9134
49NZ20070724,   P01,96,1,28, X12034,2,20070825,937,46.9892,-141.353,4419,530,2,4.1153,2,4.11332,2,34.0588,2,34.0595,6,43.81,2,42.95,2,96.52,2,0.33,41.72,2,0.15,0.01,2,0.01,2.986,2,0.017,1.215,2,0.568,2,0.076,2,-999,9,-999,9,-999,9,-999,-999,9,-999,9,-999,-999,9,-999,-999,9,-999,-999,9,-999,4.077,27.0296
49NZ20070724,   P01,96,1,27, X12049,2,20070825,937,46.9892,-141.353,4419,630.4,2,3.8228,2,3.82301,2,34.1387,2,34.1393,2,30.28,2,30.65,2,107.75,2,0.36,42.93,2,0.15,0.01,2,0.01,3.065,2,0.018,0.725,2,0.341,2,0.036,2,-999,9,-999,9,-999,9,-999,-999,9,-999,9,-999,-999,9,-999,-999,1,-999,-999,9,-999,3.7781,27.1235
49NZ20070724,   P01,96,1,26, X12032,2,20070825,937,46.9892,-141.353,4419,730.3,2,3.616,2,3.61716,2,34.2127,2,34.2135,2,24.61,2,24.93,2,117.27,2,0.38,43.33,2,0.15,0.01,2,0.01,3.111,2,0.018,0.403,6,0.189,6,0.023,6,-999,9,-999,9,-999,9,-999,-999,9,-999,9,-999,-999,9,-999,-999,9,-999,-999,9,-999,3.5648,27.2035
49NZ20070724,   P01,96,1,25, X12043,2,20070825,937,46.9892,-141.353,4419,831,2,3.4087,2,3.40812,2,34.2782,2,34.2778,2,17.25,2,17.33,2,125.52,2,0.4,43.9,2,0.16,0.01,2,0.01,3.152,2,0.018,0.139,2,0.066,2,0.012,2,-999,9,-999,9,-999,9,-999,-999,9,-999,9,-999,-999,9,-999,-999,1,-999,-999,9,-999,3.351,27.2762
49NZ20070724,   P01,96,1,24, X12030,2,20070825,937,46.9892,-141.353,4419,930.2,2,3.2196,2,3.21952,2,34.3188,2,34.3189,2,13.71,2,13.8,2,132.56,2,0.41,44.33,2,0.16,0.01,2,0.01,3.146,2,0.018,0.069,2,0.033,2,0,2,-999,9,-999,9,-999,9,-999,-999,9,-999,9,-999,-999,9,-999,-999,9,-999,-999,9,-999,3.1556,27.327
49NZ20070724,   P01,96,1,23, X12027,2,20070825,937,46.9892,-141.353,4419,1070.8,2,2.9953,2,2.99521,2,34.3744,2,34.374,6,10.27,2,10.1,2,141.05,2,0.43,44.99,2,0.16,0.01,2,0.01,3.204,2,0.018,0.019,2,0.015,2,0.005,2,-999,9,-999,9,-999,9,-999,-999,9,-999,9,-999,-999,9,-999,-999,1,-999,-999,9,-999,2.9223,27.3927
49NZ20070724,   P01,96,1,22, X12028,2,20070825,937,46.9892,-141.353,4419,1273.7,2,2.6871,2,2.68724,2,34.4356,2,34.4343,2,12.57,2,12.69,2,150.61,2,0.45,44.91,2,0.16,0.01,2,0.01,3.184,2,0.018,0.007,2,0.005,2,0.008,2,-999,9,-999,9,-999,9,-999,-999,9,-999,9,-999,-999,9,-999,-999,9,-999,-999,9,-999,2.6011,27.4699
49NZ20070724,   P01,96,1,21, X12009,2,20070825,937,46.9892,-141.353,4419,1470.6,2,2.421,2,2.4206,2,34.487,2,34.4868,2,18.67,2,18.45,2,159.23,2,0.47,44.73,2,0.16,0.01,2,0.01,3.165,2,0.018,0,2,0,2,0.006,2,-999,9,-999,9,-999,9,-999,-999,9,-999,9,-999,-999,9,-999,-999,9,-999,-999,9,-999,2.3224,27.5346
49NZ20070724,   P01,96,1,20, X12026,2,20070825,937,46.9892,-141.353,4419,1671.8,2,2.2157,2,2.21579,2,34.5312,2,34.5308,2,29.9,2,29.45,2,164.08,2,0.48,44.21,2,0.16,0.01,2,0.01,3.12,2,0.018,0,2,0,2,0,2,-999,9,-999,9,-999,9,-999,-999,9,-999,9,-999,-999,9,-999,-999,9,-999,-999,9,-999,2.1035,27.5878
49NZ20070724,   P01,96,1,19, X12025,2,20070825,937,46.9892,-141.353,4419,1870.2,2,2.0373,2,2.0371,2,34.5656,2,34.5653,2,44.27,2,43.86,2,167.66,2,0.49,43.24,2,0.15,0.01,2,0.01,3.052,2,0.018,0,2,0,2,0,2,-999,9,-999,9,-999,9,-999,-999,9,-999,9,-999,-999,9,-999,-999,9,-999,-999,9,-999,1.9113,27.6306
49NZ20070724,   P01,96,1,18, X12024,2,20070825,937,46.9892,-141.353,4419,2069.8,2,1.9206,2,1.92062,2,34.5899,2,34.5898,2,56.67,2,56.21,2,169.36,2,0.49,42.49,2,0.15,0.01,2,0.01,2.999,2,0.017,0,2,0,2,0,2,-999,9,-999,9,-999,9,-999,-999,9,-999,9,-999,-999,9,-999,-999,1,-999,-999,9,-999,1.7797,27.6602
49NZ20070724,   P01,96,1,17, X12023,2,20070825,937,46.9892,-141.353,4419,2270.1,2,1.8302,2,1.83026,2,34.609,2,34.6089,6,67.7,2,67.49,2,170.13,2,0.49,41.84,2,0.15,0.01,2,0.01,2.953,2,0.017,0.001,2,0.002,2,0,2,-999,9,-999,9,-999,9,-999,-999,9,-999,9,-999,-999,9,-999,-999,9,-999,-999,9,-999,1.6736,27.6835
49NZ20070724,   P01,96,1,16, X12022,2,20070825,937,46.9892,-141.353,4419,2470,2,1.7309,2,1.7309,2,34.6259,2,34.6256,2,81.17,2,80.76,2,169.9,2,0.49,40.91,2,0.15,0.01,2,0.01,2.881,2,0.017,0.001,2,0.002,2,0,2,-999,9,-999,9,-999,9,-999,-999,9,-999,9,-999,-999,9,-999,-999,9,-999,-999,9,-999,1.5584,27.7057
49NZ20070724,   P01,96,1,15, X12021,2,20070825,937,46.9892,-141.353,4419,2670.5,2,1.6568,2,1.65679,2,34.6397,2,34.6396,2,92.9,2,92.69,2,169.37,2,0.49,40.17,2,0.15,0.01,2,0.01,2.83,2,0.017,0.003,2,0.002,2,0,2,-999,9,-999,9,-999,9,-999,-999,9,-999,9,-999,-999,9,-999,-999,9,-999,-999,9,-999,1.4676,27.7234
49NZ20070724,   P01,96,1,14, X12020,2,20070825,937,46.9892,-141.353,4419,2869.8,2,1.5926,2,1.5925,2,34.6516,2,34.6512,2,104.51,2,104.42,2,167.99,2,0.49,39.48,2,0.14,0.01,2,0.01,2.782,2,0.017,-999,9,-999,9,-999,9,-999,9,-999,9,-999,9,-999,-999,9,-999,9,-999,-999,9,-999,-999,9,-999,-999,9,-999,1.3862,27.7387
49NZ20070724,   P01,96,1,13, X12019,2,20070825,937,46.9892,-141.353,4419,3080.8,2,1.5527,2,1.55262,2,34.6599,2,34.6598,2,113.39,2,113.43,2,167.19,2,0.49,38.83,2,0.14,0.01,2,0.01,2.733,2,0.017,-999,9,-999,9,-999,9,-999,9,-999,9,-999,9,-999,-999,9,-999,9,-999,-999,9,-999,-999,1,-999,-999,9,-999,1.3271,27.7497
49NZ20070724,   P01,96,1,12, X12040,2,20070825,937,46.9892,-141.353,4419,3329.6,2,1.5161,2,1.5161,2,34.6685,2,34.6682,2,122.99,2,122.89,2,166.17,2,0.48,38.12,2,0.14,0.01,2,0.01,2.664,2,0.017,0.004,2,0.003,2,0,2,-999,9,-999,9,-999,9,-999,-999,9,-999,9,-999,-999,9,-999,-999,9,-999,-999,9,-999,1.2668,27.7608
49NZ20070724,   P01,96,1,11, X12047,2,20070825,937,46.9892,-141.353,4419,3580.9,2,1.4993,2,1.4993,2,34.6745,2,34.6741,6,129.46,2,129.4,2,165.59,2,0.48,37.76,2,0.14,0.01,2,0.01,2.653,2,0.017,-999,9,-999,9,-999,9,-999,9,-999,9,-999,9,-999,-999,9,-999,9,-999,-999,9,-999,-999,9,-999,-999,9,-999,1.2249,27.7685
49NZ20070724,   P01,96,1,10, X12010,2,20070825,937,46.9892,-141.353,4419,3830.4,2,1.4958,2,1.49575,2,34.6787,2,34.6785,2,133.99,2,134.12,2,165.74,2,0.48,37.38,2,0.14,0.01,2,0.01,2.628,2,0.017,-999,9,-999,9,-999,9,-999,9,-999,9,-999,9,-999,-999,9,-999,9,-999,-999,9,-999,-999,9,-999,-999,9,-999,1.1953,27.7739
49NZ20070724,   P01,96,1,9, X12015,2,20070825,937,46.9892,-141.353,4419,4079.9,2,1.5058,2,1.50574,2,34.6816,2,34.6816,2,136.6,2,136.71,2,167.32,2,0.49,37.33,2,0.14,0.01,2,0.01,2.613,2,0.017,0.004,2,0.002,2,0,2,-999,9,-999,9,-999,9,-999,-999,9,-999,9,-999,-999,9,-999,-999,1,-999,-999,9,-999,1.178,27.7775
49NZ20070724,   P01,96,1,8, X12046,2,20070825,937,46.9892,-141.353,4419,4331,2,1.5293,2,1.5293,2,34.6836,2,34.6836,2,136.92,2,136.96,2,170.96,2,0.5,37.38,2,0.14,0.01,2,0.01,2.614,2,0.017,-999,9,-999,9,-999,9,-999,9,-999,9,-999,9,-999,-999,9,-999,9,-999,-999,9,-999,-999,9,-999,-999,9,-999,1.1728,27.7794
49NZ20070724,   P01,96,1,7, X12044,2,20070825,937,46.9892,-141.353,4419,4480.2,2,1.5457,2,1.54552,2,34.6841,2,-999,9,136.95,2,-999,9,-999,9,-999,-999,9,-999,-999,9,-999,-999,9,-999,-999,9,-999,9,-999,9,-999,9,-999,9,-999,9,-999,-999,9,-999,9,-999,-999,9,-999,-999,1,-999,-999,9,-999,1.1716,27.7799
49NZ20070724,   P01,96,1,6, X12048,2,20070825,937,46.9892,-141.353,4419,4480.3,2,1.5456,2,1.54548,2,34.6841,2,-999,9,136.87,2,-999,9,-999,9,-999,-999,9,-999,-999,9,-999,-999,9,-999,-999,9,-999,9,-999,9,-999,9,-999,9,-999,9,-999,-999,9,-999,9,-999,-999,9,-999,-999,1,-999,-999,9,-999,1.1715,27.7799
49NZ20070724,   P01,96,1,5, X12017,2,20070825,937,46.9892,-141.353,4419,2069.9,2,1.9208,2,1.92084,2,34.5898,2,-999,9,56.64,2,-999,9,-999,9,-999,-999,9,-999,-999,9,-999,-999,9,-999,-999,9,-999,9,-999,9,-999,9,-999,9,-999,9,-999,-999,9,-999,9,-999,-999,9,-999,-999,1,-999,-999,9,-999,1.7799,27.6602
49NZ20070724,   P01,96,1,4, X12928,2,20070825,937,46.9892,-141.353,4419,3080.8,2,1.5526,2,1.55261,2,34.6601,2,-999,9,113.45,2,-999,9,-999,9,-999,-999,9,-999,-999,9,-999,-999,9,-999,-999,9,-999,9,-999,9,-999,9,-999,9,-999,9,-999,-999,9,-999,9,-999,-999,9,-999,-999,1,-999,-999,9,-999,1.327,27.7498
49NZ20070724,   P01,96,1,3, X12931,2,20070825,937,46.9892,-141.353,4419,4080,2,1.5057,2,1.50566,2,34.6817,2,-999,9,136.55,2,-999,9,-999,9,-999,-999,9,-999,-999,9,-999,-999,9,-999,-999,9,-999,9,-999,9,-999,9,-999,9,-999,9,-999,-999,9,-999,9,-999,-999,9,-999,-999,1,-999,-999,9,-999,1.1779,27.7775
49NZ20070724,   P01,96,1,2, X12930,2,20070825,937,46.9892,-141.353,4419,4480.6,2,1.5456,2,1.54551,2,34.6842,2,-999,9,136.92,2,-999,9,-999,9,-999,-999,9,-999,-999,9,-999,-999,9,-999,-999,9,-999,9,-999,9,-999,9,-999,9,-999,9,-999,-999,9,-999,9,-999,-999,9,-999,-999,1,-999,-999,9,-999,1.1715,27.78
49NZ20070724,   P01,96,1,1, X12929,2,20070825,937,46.9892,-141.353,4419,4480.3,2,1.5455,2,1.54548,2,34.6842,2,34.6842,6,136.94,2,136.66,2,173.05,2,0.5,37.39,2,0.14,0.01,2,0.01,2.619,2,0.017,0.002,2,0.002,2,0,2,-999,9,-999,9,-999,9,-999,-999,9,-999,9,-999,-999,9,-999,-999,1,-999,-999,9,-999,1.1714,27.78