BOTTLE,20081214JAMSTECIORGC,,,,,,,,,,,,,,,,,,,,,,,,,,,,,,,,,,,,,,,,,,,,,,,,,,,,,,,,,,,,,,,,,
EXPOCODE,SECT,STNNBR,CASTNO,SAMPNO,BTLNBR,BTLNBR_FLAG_W,DATE,TIME,LATITUDE,LONGITUDE,DEPTH,CTDPRS,CTDPRS_FLAG_W,CTDTMP,CTDTMP_FLAG_W,SBE35,SBE35_FLAG_W,CTDSAL,CTDSAL_FLAG_W,SALNTY,SALNTY_FLAG_W,CTDOXY,CTDOXY_FLAG_W,OXYGEN,OXYGEN_FLAG_W,SILCAT,SILCAT_FLAG_W,SILUNC,NITRAT,NITRAT_FLAG_W,NRAUNC,NITRIT,NITRIT_FLAG_W,NRIUNC,PHSPHT,PHSPHT_FLAG_W,PHPUNC,CFC-11,CFC-11_FLAG_W,CFC-12,CFC-12_FLAG_W,CFC113,CFC113_FLAG_W,CCL4,CCL4_FLAG_W,TCARBN,TCARBN_FLAG_W,ALKALI,ALKALI_FLAG_W,PH_TOT,PH_TMP,PH_FLAG_W,DELC13,DELC13_FLAG_W,C13ERR,DELC14,DELC14_FLAG_W,C14ERR,CS-137,CS-137_FLAG_W,CS137ER,PLUTO,PLUTO_FLAG_W,PLUTOER,THETA,SIG0
,,,,,,,,UTC,DEG,DEG,M,DBAR,,ITS-90,,ITS-90,,PSS-78,,PSS-78,,UMOL/KG,,UMOL/KG,,UMOL/KG,,UMOL/KG,UMOL/KG,,UMOL/KG,UMOL/KG,,UMOL/KG,UMOL/KG,,UMOL/KG,PMOL/KG,,PMOL/KG,,PMOL/KG,,PMOL/KG,,UMOL/KG,,UMOL/KG,,,ITS-90,,/MILLE,,/MILLE,/MILLE,,/MILLE,BQ/CUM,,BQ/CUM,MBQ/CUM,,MBQ/CUM,DEG C,KG/CUM
49NZ20070724,   P01,58,2,0,-999,9,20070814,321,46.9973,176.0947,5696,-999,9,-999,9,-999,9,-999,9,32.7862,2,-999,9,-999,9,-999,9,-999,-999,9,-999,-999,9,-999,-999,9,-999,-999,9,-999,9,-999,9,-999,9,-999,9,-999,9,-999,-999,9,-999,9,-999,-999,9,-999,-999,1,-999,-999,9,-999,-999,-999
49NZ20070724,   P01,58,2,36, X12042,2,20070814,321,46.9973,176.0947,5696,9.5,2,11.6375,2,11.63842,2,32.7731,2,32.7713,2,291.41,2,289.77,2,10.64,2,0.14,9.09,2,0.06,0.15,2,0.01,0.971,2,0.013,-999,9,-999,9,-999,9,-999,9,2014.3,2,2218.7,2,7.9065,25,2,-999,9,-999,-999,9,-999,-999,9,-999,-999,9,-999,11.6363,24.9272
49NZ20070724,   P01,58,2,35, X12041,2,20070814,321,46.9973,176.0947,5696,24.4,2,8.3505,2,8.35032,2,32.9221,2,-999,9,305.6,2,-999,9,-999,9,-999,-999,9,-999,-999,9,-999,-999,9,-999,-999,9,-999,9,-999,9,-999,9,-999,9,-999,9,-999,-999,9,-999,9,-999,-999,9,-999,-999,9,-999,-999,9,-999,8.3481,25.5909
49NZ20070724,   P01,58,2,34, X12036,2,20070814,321,46.9973,176.0947,5696,49.8,2,5.1455,2,5.1459,2,33.0973,2,33.1056,2,316.67,2,316.19,2,26.76,2,0.18,16.15,2,0.08,0.34,2,0,1.466,2,0.014,-999,9,-999,9,-999,9,-999,9,2088.3,6,2233.9,2,7.7676,25,2,-999,9,-999,-999,9,-999,-999,9,-999,-999,9,-999,5.1418,26.1509
49NZ20070724,   P01,58,2,33, X12033,2,20070814,321,46.9973,176.0947,5696,100.2,2,4.4419,2,4.44133,2,33.1802,2,33.1983,2,304.81,2,301.41,2,30.46,2,0.19,19.18,2,0.09,0.02,2,0.01,1.563,2,0.014,-999,9,-999,9,-999,9,-999,9,2102.2,4,2237.3,6,7.7315,25,2,-999,9,-999,-999,9,-999,-999,9,-999,-999,9,-999,4.4349,26.2941
49NZ20070724,   P01,58,2,32, X12038,2,20070814,321,46.9973,176.0947,5696,150,2,3.7326,2,3.73315,2,33.5883,2,33.5913,2,202.26,2,202.13,2,56,2,0.24,29.96,2,0.12,0.02,2,0.01,2.247,2,0.016,-999,9,-999,9,-999,9,-999,9,2203.2,2,2269,2,7.5434,25,6,-999,9,-999,-999,9,-999,-999,9,-999,-999,9,-999,3.7228,26.6908
49NZ20070724,   P01,58,2,31, X12003,2,20070814,321,46.9973,176.0947,5696,203.1,2,3.3226,2,3.32007,2,33.6911,2,33.6908,2,141.57,2,142.61,2,72.8,2,0.28,35.54,2,0.13,0.02,2,0.01,2.612,2,0.017,-999,9,-999,9,-999,9,-999,9,2254,2,2283.1,2,7.4346,25,2,-999,9,-999,-999,9,-999,-999,9,-999,-999,9,-999,3.3099,26.812
49NZ20070724,   P01,58,2,30, X12008,2,20070814,321,46.9973,176.0947,5696,253.5,2,3.365,2,3.36508,2,33.7902,2,33.7888,6,102.14,2,103.6,2,83.47,2,0.3,38.52,2,0.14,0.02,2,0.01,2.798,2,0.017,-999,9,-999,9,-999,9,-999,9,2285.1,2,2294.1,2,7.3789,25,2,-999,9,-999,-999,9,-999,-999,9,-999,-999,9,-999,3.3489,26.8874
49NZ20070724,   P01,58,2,29, X12035,2,20070814,321,46.9973,176.0947,5696,300,2,3.4186,2,3.41842,2,33.8722,2,33.8853,2,77.17,2,76.25,2,92.42,2,0.32,40.51,2,0.15,0.01,2,0.01,2.92,2,0.017,-999,9,-999,9,-999,9,-999,9,2305.7,2,2304.7,2,7.3455,25,2,-999,9,-999,-999,9,-999,-999,9,-999,-999,9,-999,3.3992,26.9481
49NZ20070724,   P01,58,2,28, X12034,2,20070814,321,46.9973,176.0947,5696,401.1,2,3.5539,2,3.55322,2,34.0216,2,34.0281,2,49.08,2,49,2,104.29,2,0.35,42.06,2,0.15,0.01,2,0.01,3.018,2,0.017,-999,9,-999,9,-999,9,-999,9,2326.2,2,2322.1,2,7.3282,25,2,-999,9,-999,-999,9,-999,-999,9,-999,-999,9,-999,3.5271,27.0549
49NZ20070724,   P01,58,2,27, X12049,2,20070814,321,46.9973,176.0947,5696,601.4,2,3.3522,2,3.35212,2,34.2037,2,34.2085,6,28.32,2,28.69,2,123.13,2,0.39,43.29,2,0.15,0.01,2,0.01,3.096,2,0.018,-999,9,-999,9,-999,9,-999,9,2354.5,2,2349.5,2,7.3267,25,2,-999,9,-999,-999,9,-999,-999,9,-999,-999,9,-999,3.3119,27.2206
49NZ20070724,   P01,58,2,26, X12032,2,20070814,321,46.9973,176.0947,5696,802.2,2,3.0504,2,3.05029,2,34.3192,2,34.3197,2,26.07,2,26.27,2,135.9,2,0.42,43.46,2,0.15,0.01,2,0.01,3.113,2,0.018,-999,9,-999,9,-999,9,-999,9,2367.4,2,2366,2,7.3389,25,2,-999,9,-999,-999,9,-999,-999,9,-999,-999,9,-999,2.9971,27.3418
49NZ20070724,   P01,58,2,25, X12043,2,20070814,321,46.9973,176.0947,5696,999.7,2,2.7683,2,2.76832,2,34.4018,2,34.4019,6,28.12,2,28.3,2,145.54,2,0.44,43.44,2,0.15,0.01,2,0.01,3.111,2,0.018,-999,9,-999,9,-999,9,-999,9,2378.6,2,2381.5,2,7.3524,25,2,-999,9,-999,-999,9,-999,-999,9,-999,-999,9,-999,2.7024,27.4341
49NZ20070724,   P01,58,2,24, X12030,2,20070814,321,46.9973,176.0947,5696,1401.6,2,2.2898,2,2.2897,2,34.5038,2,34.5034,2,36.99,2,37.01,2,160.03,2,0.47,43.21,2,0.15,0.01,2,0.01,3.071,2,0.018,-999,9,-999,9,-999,9,-999,9,2385.5,2,2399.5,6,7.3758,25,2,-999,9,-999,-999,9,-999,-999,9,-999,-999,9,-999,2.198,27.5582
49NZ20070724,   P01,58,2,23, X12027,2,20070814,321,46.9973,176.0947,5696,2001,2,1.8867,2,1.88676,2,34.5946,2,34.5952,2,70.61,2,70.78,2,164.91,2,0.48,41.33,2,0.15,0.01,2,0.01,2.93,2,0.017,-999,9,-999,9,-999,9,-999,9,2376.7,2,2412.8,2,7.446,25,6,-999,9,-999,-999,9,-999,-999,9,-999,-999,9,-999,1.752,27.6661
49NZ20070724,   P01,58,2,22, X12028,2,20070814,321,46.9973,176.0947,5696,2399.6,2,1.7052,2,1.70526,2,34.6284,2,34.6283,6,91.01,2,90.61,2,166.88,2,0.49,40.07,2,0.15,0.01,2,0.01,2.83,2,0.017,-999,9,-999,9,-999,9,-999,9,2362.6,2,2417.3,2,7.4835,25,2,-999,9,-999,-999,9,-999,-999,9,-999,-999,9,-999,1.5394,27.7091
49NZ20070724,   P01,58,2,21, X12009,2,20070814,321,46.9973,176.0947,5696,3000.2,2,1.5483,2,1.54838,2,34.66,2,34.6601,2,120,2,119.88,2,160.93,2,0.47,38.21,2,0.14,0.01,2,0.01,2.692,2,0.017,-999,9,-999,9,-999,9,-999,9,2347.9,2,2420,2,7.537,25,2,-999,9,-999,-999,9,-999,-999,9,-999,-999,9,-999,1.3305,27.7495
49NZ20070724,   P01,58,2,20, X12026,2,20070814,321,46.9973,176.0947,5696,3500.7,2,1.4843,2,1.48439,2,34.6746,2,34.6744,2,136.96,2,137.21,2,155.24,2,0.46,37.1,2,0.14,0.01,2,0.01,2.602,2,0.016,-999,9,-999,9,-999,9,-999,9,2335,2,2418.7,2,7.5673,25,2,-999,9,-999,-999,9,-999,-999,9,-999,-999,9,-999,1.2185,27.769
49NZ20070724,   P01,58,2,19, X12025,2,20070814,321,46.9973,176.0947,5696,3999.6,2,1.4598,2,1.45985,2,34.6834,2,34.6835,6,147.95,2,148.23,2,152.28,2,0.45,36.36,2,0.13,0.01,2,0.01,2.545,2,0.016,-999,9,-999,9,-999,9,-999,9,2328.5,2,2418,2,7.5864,25,2,-999,9,-999,-999,9,-999,-999,9,-999,-999,9,-999,1.1421,27.7814
49NZ20070724,   P01,58,2,18, X12024,2,20070814,321,46.9973,176.0947,5696,4500.8,2,1.48,2,1.48007,2,34.6876,2,34.688,2,153,2,153.35,2,151.76,2,0.45,36.13,2,0.13,0.01,2,0.01,2.52,2,0.016,-999,9,-999,9,-999,9,-999,9,2324.7,6,2418.3,2,7.5956,25,2,-999,9,-999,-999,9,-999,-999,9,-999,-999,9,-999,1.1056,27.7872
49NZ20070724,   P01,58,2,17, X12023,2,20070814,321,46.9973,176.0947,5696,4998.9,2,1.5307,2,1.53073,2,34.689,2,34.6894,2,154.15,2,154.57,2,153.42,2,0.46,36.02,2,0.13,0.01,2,0.01,2.508,2,0.016,-999,9,-999,9,-999,9,-999,9,2324.7,2,2418.7,6,7.5988,25,2,-999,9,-999,-999,9,-999,-999,9,-999,-999,9,-999,1.0956,27.7891
49NZ20070724,   P01,58,2,16, X12022,2,20070814,321,46.9973,176.0947,5696,5249.2,2,1.5576,2,1.55753,2,34.6893,2,34.6894,2,155.54,2,155.85,2,151.52,2,0.45,35.9,2,0.13,0.01,2,0.01,2.505,2,0.016,-999,9,-999,9,-999,9,-999,9,2325.5,2,2417.6,2,7.6,25,6,-999,9,-999,-999,9,-999,-999,9,-999,-999,9,-999,1.0907,27.7896
49NZ20070724,   P01,58,2,15, X12021,9,20070814,321,46.9973,176.0947,5696,24.4,2,8.2561,2,8.32196,2,32.9356,2,-999,9,306.08,2,-999,9,-999,9,-999,-999,9,-999,-999,9,-999,-999,9,-999,-999,9,-999,9,-999,9,-999,9,-999,9,-999,9,-999,-999,9,-999,9,-999,-999,9,-999,-999,9,-999,-999,9,-999,8.2537,25.6155
49NZ20070724,   P01,58,2,14, X12020,9,20070814,321,46.9973,176.0947,5696,801.3,2,3.0507,2,3.05063,2,34.3192,2,-999,9,26.04,2,-999,9,-999,9,-999,-999,9,-999,-999,9,-999,-999,9,-999,-999,9,-999,9,-999,9,-999,9,-999,9,-999,9,-999,-999,9,-999,9,-999,-999,9,-999,-999,9,-999,-999,9,-999,2.9975,27.3418
49NZ20070724,   P01,58,2,13, X12019,2,20070814,321,46.9973,176.0947,5696,202.5,2,3.3173,2,3.31638,2,33.6908,2,-999,9,141.54,2,-999,9,-999,9,-999,-999,9,-999,-999,9,-999,-999,9,-999,-999,9,-999,9,-999,9,-999,9,-999,9,-999,9,-999,-999,9,-999,9,-999,-999,9,-999,-999,9,-999,-999,9,-999,3.3046,26.8123
49NZ20070724,   P01,58,2,12, X12040,9,20070814,321,46.9973,176.0947,5696,999.9,2,2.7677,2,2.76784,2,34.402,2,-999,9,28.14,2,-999,9,-999,9,-999,-999,9,-999,-999,9,-999,-999,9,-999,-999,9,-999,9,-999,9,-999,9,-999,9,-999,9,-999,-999,9,-999,9,-999,-999,9,-999,-999,9,-999,-999,9,-999,2.7018,27.4343
49NZ20070724,   P01,58,2,11, X12047,2,20070814,321,46.9973,176.0947,5696,150.1,2,3.7334,2,3.73285,2,33.588,2,-999,9,202.23,2,-999,9,-999,9,-999,-999,9,-999,-999,9,-999,-999,9,-999,-999,9,-999,9,-999,9,-999,9,-999,9,-999,9,-999,-999,9,-999,9,-999,-999,9,-999,-999,9,-999,-999,9,-999,3.7236,26.6905
49NZ20070724,   P01,58,2,10, X12010,9,20070814,321,46.9973,176.0947,5696,1201.4,2,2.4925,2,2.49254,2,34.4599,2,-999,9,30.95,2,-999,9,-999,9,-999,-999,9,-999,-999,9,-999,-999,9,-999,-999,9,-999,9,-999,9,-999,9,-999,9,-999,9,-999,-999,9,-999,9,-999,-999,9,-999,-999,9,-999,-999,9,-999,2.4139,27.5053
49NZ20070724,   P01,58,2,9, X12015,2,20070814,321,46.9973,176.0947,5696,100.4,2,4.4457,2,4.44394,2,33.1808,2,-999,9,304.88,2,-999,9,-999,9,-999,-999,9,-999,-999,9,-999,-999,9,-999,-999,9,-999,9,-999,9,-999,9,-999,9,-999,9,-999,-999,9,-999,9,-999,-999,9,-999,-999,9,-999,-999,9,-999,4.4387,26.2941
49NZ20070724,   P01,58,2,8, X12046,9,20070814,321,46.9973,176.0947,5696,1401.7,2,2.2895,2,2.28934,2,34.5038,2,-999,9,37.05,2,-999,9,-999,9,-999,-999,9,-999,-999,9,-999,-999,9,-999,-999,9,-999,9,-999,9,-999,9,-999,9,-999,9,-999,-999,9,-999,9,-999,-999,9,-999,-999,9,-999,-999,9,-999,2.1977,27.5583
49NZ20070724,   P01,58,2,7, X12044,2,20070814,321,46.9973,176.0947,5696,49.8,2,5.1447,2,5.14436,2,33.0972,2,-999,9,316.5,2,-999,9,-999,9,-999,-999,9,-999,-999,9,-999,-999,9,-999,-999,9,-999,9,-999,9,-999,9,-999,9,-999,9,-999,-999,9,-999,9,-999,-999,9,-999,-999,9,-999,-999,9,-999,5.141,26.1509
49NZ20070724,   P01,58,2,6, X12048,9,20070814,321,46.9973,176.0947,5696,1600.5,2,2.1052,2,2.10532,2,34.546,2,-999,9,48.56,2,-999,9,-999,9,-999,-999,9,-999,-999,9,-999,-999,9,-999,-999,9,-999,9,-999,9,-999,9,-999,9,-999,9,-999,-999,9,-999,9,-999,-999,9,-999,-999,9,-999,-999,9,-999,2,27.6079
49NZ20070724,   P01,58,2,5, X12017,2,20070814,321,46.9973,176.0947,5696,9.5,2,11.6539,2,11.65253,2,32.7725,2,-999,9,290.73,2,-999,9,-999,9,-999,-999,9,-999,-999,9,-999,-999,9,-999,-999,9,-999,9,-999,9,-999,9,-999,9,-999,9,-999,-999,9,-999,9,-999,-999,9,-999,-999,9,-999,-999,9,-999,11.6527,24.9237
49NZ20070724,   P01,58,2,4, X12928,9,20070814,321,46.9973,176.0947,5696,9.6,2,11.7504,2,11.74708,2,32.7727,2,-999,9,290.9,2,-999,9,-999,9,-999,-999,9,-999,-999,9,-999,-999,9,-999,-999,9,-999,9,-999,9,-999,9,-999,9,-999,9,-999,-999,9,-999,9,-999,-999,9,-999,-999,9,-999,-999,9,-999,11.7492,24.9062
49NZ20070724,   P01,58,2,3, X12931,2,20070814,321,46.9973,176.0947,5696,40,2,5.8062,2,5.8093,2,33.0476,2,-999,9,316.55,2,-999,9,-999,9,-999,-999,9,-999,-999,9,-999,-999,9,-999,-999,9,-999,9,-999,9,-999,9,-999,9,-999,9,-999,-999,9,-999,9,-999,-999,9,-999,-999,9,-999,-999,9,-999,5.803,26.0341
49NZ20070724,   P01,58,2,2, X12930,2,20070814,321,46.9973,176.0947,5696,40,2,5.8202,2,5.82511,2,33.048,2,-999,9,316.18,2,318.7,2,26.52,2,0.18,15.29,2,0.08,0.19,2,0.01,1.459,2,0.014,-999,9,-999,9,-999,9,-999,9,-999,9,-999,9,-999,-999,9,-999,9,-999,-999,9,-999,-999,9,-999,-999,9,-999,5.817,26.0327
49NZ20070724,   P01,58,2,1, X12929,2,20070814,321,46.9973,176.0947,5696,5801.4,2,1.6214,2,1.6213,2,34.69,2,34.6901,6,157.91,2,157.62,2,148.51,2,0.45,35.68,2,0.13,0.01,2,0.01,2.492,2,0.016,-999,9,-999,9,-999,9,-999,9,2320.8,2,2416.6,2,7.6014,25,2,-999,9,-999,-999,9,-999,-999,9,-999,-999,9,-999,1.0812,27.7908