BOTTLE,20081214JAMSTECIORGC,,,,,,,,,,,,,,,,,,,,,,,,,,,,,,,,,,,,,,,,,,,,,,,,,,,,,,,,,,,,,,,,,
EXPOCODE,SECT,STNNBR,CASTNO,SAMPNO,BTLNBR,BTLNBR_FLAG_W,DATE,TIME,LATITUDE,LONGITUDE,DEPTH,CTDPRS,CTDPRS_FLAG_W,CTDTMP,CTDTMP_FLAG_W,SBE35,SBE35_FLAG_W,CTDSAL,CTDSAL_FLAG_W,SALNTY,SALNTY_FLAG_W,CTDOXY,CTDOXY_FLAG_W,OXYGEN,OXYGEN_FLAG_W,SILCAT,SILCAT_FLAG_W,SILUNC,NITRAT,NITRAT_FLAG_W,NRAUNC,NITRIT,NITRIT_FLAG_W,NRIUNC,PHSPHT,PHSPHT_FLAG_W,PHPUNC,CFC-11,CFC-11_FLAG_W,CFC-12,CFC-12_FLAG_W,CFC113,CFC113_FLAG_W,CCL4,CCL4_FLAG_W,TCARBN,TCARBN_FLAG_W,ALKALI,ALKALI_FLAG_W,PH_TOT,PH_TMP,PH_FLAG_W,DELC13,DELC13_FLAG_W,C13ERR,DELC14,DELC14_FLAG_W,C14ERR,CS-137,CS-137_FLAG_W,CS137ER,PLUTO,PLUTO_FLAG_W,PLUTOER,THETA,SIG0
,,,,,,,,UTC,DEG,DEG,M,DBAR,,ITS-90,,ITS-90,,PSS-78,,PSS-78,,UMOL/KG,,UMOL/KG,,UMOL/KG,,UMOL/KG,UMOL/KG,,UMOL/KG,UMOL/KG,,UMOL/KG,UMOL/KG,,UMOL/KG,PMOL/KG,,PMOL/KG,,PMOL/KG,,PMOL/KG,,UMOL/KG,,UMOL/KG,,,ITS-90,,/MILLE,,/MILLE,/MILLE,,/MILLE,BQ/CUM,,BQ/CUM,MBQ/CUM,,MBQ/CUM,DEG C,KG/CUM
49NZ20070724,   P01,18,1,0,-999,9,20070729,1953,40.1335,147.5547,5291,-999,9,-999,9,-999,9,-999,9,34.3822,2,-999,9,-999,9,-999,9,-999,-999,9,-999,-999,9,-999,-999,9,-999,-999,9,-999,9,-999,9,-999,9,-999,9,-999,9,-999,-999,9,-999,9,-999,-999,9,-999,-999,1,-999,-999,1,-999,-999,-999
49NZ20070724,   P01,18,1,36, X12042,2,20070729,1953,40.1335,147.5547,5291,9.4,2,20.395,2,20.4001,2,34.3821,2,34.3853,2,229.45,2,228.06,2,2.04,2,0.12,0.05,2,0.03,0.01,2,0.01,0.076,2,0.026,2.107,2,1.256,2,0.438,2,-999,9,-999,9,-999,9,-999,-999,9,-999,9,-999,-999,9,-999,-999,9,-999,-999,9,-999,20.3932,24.1865
49NZ20070724,   P01,18,1,35, X12041,2,20070729,1953,40.1335,147.5547,5291,49.8,2,14.8434,2,14.78574,2,34.5079,2,34.4957,2,199.02,2,200.47,2,11.65,2,0.14,9.07,2,0.06,0.23,2,0.01,0.703,2,0.013,2.451,2,1.369,2,0.117,2,-999,9,-999,9,-999,9,-999,-999,9,-999,9,-999,-999,9,-999,-999,9,-999,-999,9,-999,14.836,25.6283
49NZ20070724,   P01,18,1,34, X12036,2,20070729,1953,40.1335,147.5547,5291,100.4,2,11.3105,2,11.31491,2,34.2013,2,34.2012,2,221.58,2,218.46,2,15.84,2,0.15,11.52,2,0.07,0.03,2,0.01,0.89,2,0.013,2.892,2,1.579,2,0.182,2,-999,9,-999,9,-999,9,-999,-999,9,-999,9,-999,-999,9,-999,-999,1,-999,-999,9,-999,11.2981,26.0995
49NZ20070724,   P01,18,1,33, X12033,2,20070729,1953,40.1335,147.5547,5291,149.5,2,7.996,2,7.99426,2,33.8518,2,33.8315,2,238.73,2,238.78,2,22.73,2,0.17,15.13,2,0.08,0.03,2,0.01,1.198,2,0.013,3.565,6,1.918,6,0.284,6,-999,9,-999,9,-999,9,-999,-999,9,-999,9,-999,-999,9,-999,-999,9,-999,-999,9,-999,7.9812,26.3748
49NZ20070724,   P01,18,1,32, X12038,2,20070729,1953,40.1335,147.5547,5291,198.6,2,5.6869,2,5.68897,2,33.6781,2,33.6728,2,239.11,2,237.11,2,39.26,2,0.21,22.08,2,0.09,0.02,2,0.01,1.72,2,0.014,3.801,2,1.991,2,0.294,2,-999,9,-999,9,-999,9,-999,-999,9,-999,9,-999,-999,9,-999,-999,1,-999,-999,9,-999,5.6707,26.5486
49NZ20070724,   P01,18,1,31, X12003,2,20070729,1953,40.1335,147.5547,5291,249.5,2,4.9153,2,4.9144,2,33.7407,2,33.7084,6,200.29,2,203.8,2,53.8,2,0.24,27.43,2,0.11,0.02,2,0.01,2.095,2,0.015,3.485,2,1.808,2,0.274,2,-999,9,-999,9,-999,9,-999,-999,9,-999,9,-999,-999,9,-999,-999,9,-999,-999,9,-999,4.8964,26.6885
49NZ20070724,   P01,18,1,30, X12008,2,20070729,1953,40.1335,147.5547,5291,279.3,2,3.2837,2,3.28445,2,33.5876,2,33.6242,2,205.96,2,202.22,2,61.06,2,0.25,29.69,2,0.12,0.01,2,0.01,2.268,2,0.016,3.669,2,1.889,2,0.303,2,-999,9,-999,9,-999,9,-999,-999,9,-999,9,-999,-999,9,-999,-999,9,-999,-999,9,-999,3.2661,26.7335
49NZ20070724,   P01,18,1,29, X12035,2,20070729,1953,40.1335,147.5547,5291,372.4,2,4.1237,2,4.12108,2,33.8627,2,33.8719,2,134.64,2,134.66,2,74.42,2,0.28,33.64,2,0.13,0.02,2,0.01,2.513,2,0.016,2.536,2,1.27,2,0.186,2,-999,9,-999,9,-999,9,-999,-999,9,-999,9,-999,-999,9,-999,-999,1,-999,-999,9,-999,4.0973,26.8714
49NZ20070724,   P01,18,1,28, X12034,2,20070729,1953,40.1335,147.5547,5291,471.4,2,4.4889,2,4.48908,2,34.0779,2,34.0781,6,84.16,2,87.02,2,87.5,2,0.31,36.8,2,0.14,0.02,2,0.01,2.686,2,0.017,1.508,2,0.746,2,0.079,2,-999,9,-999,9,-999,9,-999,-999,9,-999,9,-999,-999,9,-999,-999,9,-999,-999,9,-999,4.4537,27.0049
49NZ20070724,   P01,18,1,27, X12049,2,20070729,1953,40.1335,147.5547,5291,572.3,2,4.0853,2,4.0852,2,34.164,2,34.1665,2,60.08,2,62.24,2,101.81,2,0.34,39.2,2,0.14,0.01,2,0.01,2.857,2,0.017,0.982,2,0.475,2,0.046,2,-999,9,-999,9,-999,9,-999,-999,9,-999,9,-999,-999,9,-999,-999,1,-999,-999,9,-999,4.0438,27.1166
49NZ20070724,   P01,18,1,26, X12032,2,20070729,1953,40.1335,147.5547,5291,670,2,3.7606,2,3.76037,2,34.2478,2,34.2474,2,49.48,2,51.23,2,113.63,2,0.37,40.67,2,0.15,0.01,2,0.01,2.938,2,0.017,0.654,6,0.318,6,0.037,6,-999,9,-999,9,-999,9,-999,-999,9,-999,9,-999,-999,9,-999,-999,9,-999,-999,9,-999,3.7131,27.2168
49NZ20070724,   P01,18,1,25, X12043,2,20070729,1953,40.1335,147.5547,5291,770.9,2,3.4425,2,3.44265,2,34.3053,2,34.3035,2,41.04,2,42.34,2,123.62,2,0.39,41.76,2,0.15,0.01,2,0.01,3.01,2,0.017,0.419,2,0.187,2,0.021,2,-999,9,-999,9,-999,9,-999,-999,9,-999,9,-999,-999,9,-999,-999,1,-999,-999,9,-999,3.3891,27.2942
49NZ20070724,   P01,18,1,24, X12030,2,20070729,1953,40.1335,147.5547,5291,871.7,2,3.0514,2,3.05142,2,34.3375,2,34.336,2,37.4,2,38.05,2,133.54,2,0.41,42.28,2,0.15,0.01,2,0.01,3.06,2,0.018,0.367,2,0.165,2,0.025,2,-999,9,-999,9,-999,9,-999,-999,9,-999,9,-999,-999,9,-999,-999,9,-999,-999,9,-999,2.993,27.3569
49NZ20070724,   P01,18,1,23, X12027,2,20070729,1953,40.1335,147.5547,5291,971.3,2,2.9147,2,2.91446,2,34.3869,2,34.3859,6,38.68,2,38.97,2,138.5,2,0.42,42.37,2,0.15,0.01,2,0.01,3.051,2,0.018,0.255,2,0.105,2,0.01,2,-999,9,-999,9,-999,9,-999,-999,9,-999,9,-999,-999,9,-999,-999,1,-999,-999,9,-999,2.8498,27.4092
49NZ20070724,   P01,18,1,22, X12028,2,20070729,1953,40.1335,147.5547,5291,1132.6,2,2.6808,2,2.68083,2,34.4426,2,34.441,2,39.83,2,39.99,2,146.02,2,0.44,42.68,2,0.15,0.01,2,0.01,3.067,2,0.018,0.151,2,0.059,2,0.009,2,-999,9,-999,9,-999,9,-999,-999,9,-999,9,-999,-999,9,-999,-999,9,-999,-999,9,-999,2.6057,27.4752
49NZ20070724,   P01,18,1,21, X12009,2,20070729,1953,40.1335,147.5547,5291,1332.1,2,2.4671,2,2.46736,2,34.4943,2,34.4934,2,44.27,2,44.53,2,151.38,2,0.45,42.63,2,0.15,0.01,2,0.01,3.049,2,0.018,0.039,2,0.018,2,0.006,2,-999,9,-999,9,-999,9,-999,-999,9,-999,9,-999,-999,9,-999,-999,9,-999,-999,9,-999,2.3787,27.5358
49NZ20070724,   P01,18,1,20, X12026,2,20070729,1953,40.1335,147.5547,5291,1529.8,2,2.2418,2,2.24169,2,34.5329,2,34.5324,2,51.51,2,51.75,2,156.9,2,0.46,42.36,2,0.15,0.01,2,0.01,3.025,2,0.018,0.028,2,0.008,2,0,2,-999,9,-999,9,-999,9,-999,-999,9,-999,9,-999,-999,9,-999,-999,9,-999,-999,9,-999,2.1405,27.5862
49NZ20070724,   P01,18,1,19, X12025,2,20070729,1953,40.1335,147.5547,5291,1734.9,2,2.0905,2,2.09044,2,34.5634,2,34.5639,2,61.11,2,61.09,2,159.27,2,0.47,41.89,2,0.15,0.01,2,0.01,2.984,2,0.017,0.011,2,0.003,2,0,2,-999,9,-999,9,-999,9,-999,-999,9,-999,9,-999,-999,9,-999,-999,1,-999,-999,9,-999,1.9748,27.6239
49NZ20070724,   P01,18,1,18, X12024,2,20070729,1953,40.1335,147.5547,5291,1932.9,2,1.9613,2,1.96135,2,34.5897,2,34.5897,2,72.68,2,72.72,2,159.96,2,0.47,41.18,2,0.15,0.01,2,0.01,2.925,2,0.017,0.004,2,0,2,0,2,-999,9,-999,9,-999,9,-999,-999,9,-999,9,-999,-999,9,-999,-999,1,-999,-999,9,-999,1.8312,27.6561
49NZ20070724,   P01,18,1,17, X12023,2,20070729,1953,40.1335,147.5547,5291,2131.3,2,1.8539,2,1.85397,2,34.6101,2,34.6101,2,84.46,2,84.22,2,159.61,2,0.47,40.52,2,0.15,0.01,2,0.01,2.874,2,0.017,0.001,2,0,2,0,2,-999,9,-999,9,-999,9,-999,-999,9,-999,9,-999,-999,9,-999,-999,1,-999,-999,9,-999,1.7088,27.6818
49NZ20070724,   P01,18,1,16, X12022,2,20070729,1953,40.1335,147.5547,5291,2330.1,2,1.7511,2,1.75084,2,34.6266,2,34.6268,2,94.15,2,93.9,2,159.97,2,0.47,39.77,2,0.14,0.01,2,0.01,2.819,2,0.017,-999,9,-999,9,-999,9,-999,9,-999,9,-999,9,-999,-999,9,-999,9,-999,-999,9,-999,-999,9,-999,-999,9,-999,1.5906,27.7038
49NZ20070724,   P01,18,1,15, X12021,2,20070729,1953,40.1335,147.5547,5291,2531.1,2,1.6788,2,1.67876,2,34.6412,2,34.6415,6,107.91,2,107.86,2,156.11,2,0.46,38.84,2,0.14,0.01,2,0.01,2.749,2,0.017,0,2,0,2,0.003,2,-999,9,-999,9,-999,9,-999,-999,9,-999,9,-999,-999,9,-999,-999,9,-999,-999,9,-999,1.5018,27.7221
49NZ20070724,   P01,18,1,14, X12020,2,20070729,1953,40.1335,147.5547,5291,2731.5,2,1.6165,2,1.61662,2,34.6511,2,34.6509,2,114.78,2,114.62,2,156.74,2,0.46,38.58,2,0.14,0.01,2,0.01,2.721,2,0.017,-999,9,-999,9,-999,9,-999,9,-999,9,-999,9,-999,-999,9,-999,9,-999,-999,9,-999,-999,1,-999,-999,9,-999,1.4225,27.7358
49NZ20070724,   P01,18,1,13, X12019,2,20070729,1953,40.1335,147.5547,5291,2930.9,2,1.5739,2,1.57391,2,34.659,2,34.6591,2,122.65,2,122.55,2,155.05,2,0.46,38.07,2,0.14,0.01,2,0.01,2.682,2,0.017,-999,9,-999,9,-999,9,-999,9,-999,9,-999,9,-999,-999,9,-999,9,-999,-999,9,-999,-999,1,-999,-999,9,-999,1.3621,27.7464
49NZ20070724,   P01,18,1,12, X12040,2,20070729,1953,40.1335,147.5547,5291,3170.1,2,1.5328,2,1.53271,2,34.6667,2,34.6668,2,130.93,2,130.92,2,152.43,2,0.45,37.47,2,0.14,0.01,2,0.01,2.637,2,0.017,0.019,3,0.007,3,0.004,2,-999,9,-999,9,-999,9,-999,-999,9,-999,9,-999,-999,9,-999,-999,1,-999,-999,9,-999,1.2989,27.7571
49NZ20070724,   P01,18,1,11, X12047,2,20070729,1953,40.1335,147.5547,5291,3420.8,2,1.5019,2,1.50185,2,34.6728,2,34.673,2,137.27,2,137.02,2,151.09,2,0.45,37.04,2,0.14,0.01,2,0.01,2.601,2,0.016,-999,9,-999,9,-999,9,-999,9,-999,9,-999,9,-999,-999,9,-999,9,-999,-999,9,-999,-999,9,-999,-999,9,-999,1.2438,27.7658
49NZ20070724,   P01,18,1,10, X12010,2,20070729,1953,40.1335,147.5547,5291,3669.4,2,1.4824,2,1.48242,2,34.6776,2,34.6776,2,142.81,2,142.43,2,150.17,2,0.45,36.71,2,0.14,0.01,2,0.01,2.577,2,0.016,-999,9,-999,9,-999,9,-999,9,-999,9,-999,9,-999,-999,9,-999,9,-999,-999,9,-999,-999,1,-999,-999,9,-999,1.1993,27.7728
49NZ20070724,   P01,18,1,9, X12015,2,20070729,1953,40.1335,147.5547,5291,3921.8,2,1.4688,2,1.46876,2,34.6816,2,34.6818,2,147.82,2,147.52,2,148.6,2,0.45,36.43,2,0.13,0.01,2,0.01,2.55,2,0.016,0,2,0,2,0,2,-999,9,-999,9,-999,9,-999,-999,9,-999,9,-999,-999,9,-999,-999,1,-999,-999,9,-999,1.1593,27.7787
49NZ20070724,   P01,18,1,8, X12046,2,20070729,1953,40.1335,147.5547,5291,4168.9,2,1.4645,2,1.46442,2,34.6847,2,34.6848,6,151.76,2,151.54,2,147.72,2,0.44,35.92,2,0.13,0.01,2,0.01,2.532,2,0.016,-999,9,-999,9,-999,9,-999,9,-999,9,-999,9,-999,-999,9,-999,9,-999,-999,9,-999,-999,1,-999,-999,9,-999,1.1281,27.7834
49NZ20070724,   P01,18,1,7, X12044,2,20070729,1953,40.1335,147.5547,5291,4420.5,2,1.4689,2,1.46884,2,34.6871,2,34.6878,2,155.05,2,154.93,2,146.78,2,0.44,35.93,2,0.13,0.01,2,0.01,2.515,2,0.016,-999,9,-999,9,-999,9,-999,9,-999,9,-999,9,-999,-999,9,-999,9,-999,-999,9,-999,-999,9,-999,-999,9,-999,1.104,27.7869
49NZ20070724,   P01,18,1,6, X12048,2,20070729,1953,40.1335,147.5547,5291,4668.4,2,1.4822,2,1.48216,2,34.6889,2,34.689,2,157.16,2,156.95,2,146.42,2,0.44,35.71,2,0.13,0.01,2,0.01,2.498,2,0.016,0.011,2,0.004,2,0,2,-999,9,-999,9,-999,9,-999,-999,9,-999,9,-999,-999,9,-999,-999,9,-999,-999,9,-999,1.0882,27.7895
49NZ20070724,   P01,18,1,5, X12017,2,20070729,1953,40.1335,147.5547,5291,4917.9,2,1.5008,2,1.50071,2,34.6901,2,34.6904,2,158.82,2,158.56,2,146.25,2,0.44,35.6,2,0.13,0.01,2,0.01,2.492,2,0.016,-999,9,-999,9,-999,9,-999,9,-999,9,-999,9,-999,-999,9,-999,9,-999,-999,9,-999,-999,1,-999,-999,9,-999,1.0765,27.7912
49NZ20070724,   P01,18,1,4, X12928,2,20070729,1953,40.1335,147.5547,5291,5167.9,2,1.5228,2,1.52264,2,34.6911,2,34.6911,2,160.39,2,159.99,2,145.39,2,0.44,35.52,2,0.13,0.01,2,0.01,2.482,2,0.016,-999,9,-999,9,-999,9,-999,9,-999,9,-999,9,-999,-999,9,-999,9,-999,-999,9,-999,-999,9,-999,-999,9,-999,1.0672,27.7926
49NZ20070724,   P01,18,1,3, X12931,2,20070729,1953,40.1335,147.5547,5291,4918.6,2,1.5008,2,1.5008,2,34.6901,2,-999,9,158.77,2,-999,9,-999,9,-999,-999,9,-999,-999,9,-999,-999,9,-999,-999,9,-999,9,-999,9,-999,9,-999,9,-999,9,-999,-999,9,-999,9,-999,-999,9,-999,-999,1,-999,-999,9,-999,1.0764,27.7912
49NZ20070724,   P01,18,1,2, X12930,2,20070729,1953,40.1335,147.5547,5291,5378.8,2,1.5458,2,1.54558,2,34.6915,2,-999,9,160.56,2,-999,9,-999,9,-999,-999,9,-999,-999,9,-999,-999,9,-999,-999,9,-999,9,-999,9,-999,9,-999,9,-999,9,-999,-999,9,-999,9,-999,-999,9,-999,-999,1,-999,-999,9,-999,1.063,27.7932
49NZ20070724,   P01,18,1,1, X12929,2,20070729,1953,40.1335,147.5547,5291,5378.7,2,1.5457,2,1.54555,2,34.6916,2,34.6916,6,160.57,2,160.15,2,146.65,2,0.44,35.46,2,0.13,0.01,2,0.01,2.488,2,0.016,0.009,2,0.003,2,0,2,-999,9,-999,9,-999,9,-999,-999,9,-999,9,-999,-999,9,-999,-999,1,-999,-999,9,-999,1.0629,27.7933