BOTTLE,20081214JAMSTECIORGC,,,,,,,,,,,,,,,,,,,,,,,,,,,,,,,,,,,,,,,,,,,,,,,,,,,,,,,,,,,,,,,,,
EXPOCODE,SECT,STNNBR,CASTNO,SAMPNO,BTLNBR,BTLNBR_FLAG_W,DATE,TIME,LATITUDE,LONGITUDE,DEPTH,CTDPRS,CTDPRS_FLAG_W,CTDTMP,CTDTMP_FLAG_W,SBE35,SBE35_FLAG_W,CTDSAL,CTDSAL_FLAG_W,SALNTY,SALNTY_FLAG_W,CTDOXY,CTDOXY_FLAG_W,OXYGEN,OXYGEN_FLAG_W,SILCAT,SILCAT_FLAG_W,SILUNC,NITRAT,NITRAT_FLAG_W,NRAUNC,NITRIT,NITRIT_FLAG_W,NRIUNC,PHSPHT,PHSPHT_FLAG_W,PHPUNC,CFC-11,CFC-11_FLAG_W,CFC-12,CFC-12_FLAG_W,CFC113,CFC113_FLAG_W,CCL4,CCL4_FLAG_W,TCARBN,TCARBN_FLAG_W,ALKALI,ALKALI_FLAG_W,PH_TOT,PH_TMP,PH_FLAG_W,DELC13,DELC13_FLAG_W,C13ERR,DELC14,DELC14_FLAG_W,C14ERR,CS-137,CS-137_FLAG_W,CS137ER,PLUTO,PLUTO_FLAG_W,PLUTOER,THETA,SIG0
,,,,,,,,UTC,DEG,DEG,M,DBAR,,ITS-90,,ITS-90,,PSS-78,,PSS-78,,UMOL/KG,,UMOL/KG,,UMOL/KG,,UMOL/KG,UMOL/KG,,UMOL/KG,UMOL/KG,,UMOL/KG,UMOL/KG,,UMOL/KG,PMOL/KG,,PMOL/KG,,PMOL/KG,,PMOL/KG,,UMOL/KG,,UMOL/KG,,,ITS-90,,/MILLE,,/MILLE,/MILLE,,/MILLE,BQ/CUM,,BQ/CUM,MBQ/CUM,,MBQ/CUM,DEG C,KG/CUM
49NZ20070724,   P01,104,1,0,-999,9,20070827,1036,46.997,-132.3657,3299,-999,9,-999,9,-999,9,-999,9,32.3645,2,-999,9,-999,9,-999,9,-999,-999,9,-999,-999,9,-999,-999,9,-999,-999,9,-999,9,-999,9,-999,9,-999,9,-999,9,-999,-999,9,-999,9,-999,-999,9,-999,-999,1,-999,-999,1,-999,-999,-999
49NZ20070724,   P01,104,1,36, X12042,2,20070827,1036,46.997,-132.3657,3299,10.6,2,16.2099,2,16.20999,2,32.3676,2,32.3603,2,259.9,2,260.01,2,5.84,2,0.13,0.36,2,0.03,0.03,2,0.01,0.478,2,0.013,2.755,2,1.631,2,-999,5,-999,9,-999,9,-999,9,-999,-999,9,-999,9,-999,-999,9,-999,-999,9,-999,-999,9,-999,16.2082,23.6768
49NZ20070724,   P01,104,1,35, X12041,2,20070827,1036,46.997,-132.3657,3299,49.7,2,9.4073,2,9.43452,2,32.4568,2,32.4569,2,288.74,2,289.12,2,8.41,2,0.14,7.21,2,0.05,0.41,2,0,0.975,2,0.013,3.966,2,2.244,2,0.377,2,-999,9,-999,9,-999,9,-999,-999,9,-999,9,-999,-999,9,-999,-999,9,-999,-999,9,-999,9.402,25.0639
49NZ20070724,   P01,104,1,34, X12036,2,20070827,1036,46.997,-132.3657,3299,99.7,2,7.3869,2,7.38855,2,32.65,2,32.694,2,267.62,2,265.28,2,14.27,2,0.15,13.91,2,0.07,0.03,2,0.01,1.293,2,0.014,4.179,2,2.342,2,0.326,2,-999,9,-999,9,-999,9,-999,-999,9,-999,9,-999,-999,9,-999,-999,1,-999,-999,9,-999,7.3777,25.5166
49NZ20070724,   P01,104,1,33, X12033,2,20070827,1036,46.997,-132.3657,3299,149.8,2,7.085,2,7.08498,2,33.5642,2,33.5831,2,187.57,2,187.76,2,29.46,2,0.18,23.74,2,0.1,0.02,2,0.01,1.775,2,0.015,3.92,6,2.121,6,0.256,6,-999,9,-999,9,-999,9,-999,-999,9,-999,9,-999,-999,9,-999,-999,9,-999,-999,9,-999,7.0713,26.2781
49NZ20070724,   P01,104,1,32, X12038,2,20070827,1036,46.997,-132.3657,3299,199.7,2,6.7015,2,6.70206,2,33.8651,2,33.8663,2,130.95,2,132.16,2,42.92,2,0.21,29.98,2,0.12,0.02,2,0.01,2.166,2,0.015,3.253,2,1.677,2,0.207,2,-999,9,-999,9,-999,9,-999,-999,9,-999,9,-999,-999,9,-999,-999,1,-999,-999,9,-999,6.6836,26.5675
49NZ20070724,   P01,104,1,31, X12003,2,20070827,1036,46.997,-132.3657,3299,249.7,2,6.2064,2,6.20646,2,33.9369,2,33.9389,6,93.79,2,93.02,2,54.31,2,0.24,34.42,2,0.13,0.02,2,0.01,2.472,2,0.016,2.563,2,1.274,2,0.145,2,-999,9,-999,9,-999,9,-999,-999,9,-999,9,-999,-999,9,-999,-999,9,-999,-999,9,-999,6.1849,26.6892
49NZ20070724,   P01,104,1,30, X12008,2,20070827,1036,46.997,-132.3657,3299,301.1,2,5.8136,2,5.81367,2,33.9673,2,33.9649,2,73.48,2,74.68,2,61.47,2,0.25,36.87,2,0.14,0.02,2,0.01,2.633,2,0.017,2.18,2,1.059,2,0.111,2,-999,9,-999,9,-999,9,-999,-999,9,-999,9,-999,-999,9,-999,-999,9,-999,-999,9,-999,5.7884,26.763
49NZ20070724,   P01,104,1,29, X12035,2,20070827,1036,46.997,-132.3657,3299,400.1,2,5.168,2,5.17042,2,34.0263,2,34.0231,2,46.5,2,47.98,2,75.47,2,0.29,40.24,2,0.15,0.01,2,0.01,2.882,2,0.017,1.444,2,0.686,2,0.077,2,-999,9,-999,9,-999,9,-999,-999,9,-999,9,-999,-999,9,-999,-999,1,-999,-999,9,-999,5.1362,26.8876
49NZ20070724,   P01,104,1,28, X12034,2,20070827,1036,46.997,-132.3657,3299,499.6,2,4.4861,2,4.48646,2,34.0542,2,34.0552,6,38.1,2,38.47,2,88.6,2,0.31,42.04,2,0.15,0.01,2,0.01,2.992,2,0.017,1.088,2,0.514,2,0.053,2,-999,9,-999,9,-999,9,-999,-999,9,-999,9,-999,-999,9,-999,-999,9,-999,-999,9,-999,4.4487,26.9866
49NZ20070724,   P01,104,1,27, X12049,2,20070827,1036,46.997,-132.3657,3299,600.3,2,4.1861,2,4.18636,2,34.1357,2,34.1365,2,22.45,2,23.08,2,100.25,2,0.34,43.28,2,0.15,0.01,2,0.01,3.091,2,0.018,0.554,2,0.263,2,0.036,2,-999,9,-999,9,-999,9,-999,-999,9,-999,9,-999,-999,9,-999,-999,1,-999,-999,9,-999,4.142,27.0839
49NZ20070724,   P01,104,1,26, X12032,2,20070827,1036,46.997,-132.3657,3299,699.2,2,3.9609,2,3.96045,2,34.2082,2,34.2099,2,14.07,2,14.53,2,110.2,2,0.36,44.1,2,0.16,0.01,2,0.01,3.164,2,0.018,0.237,6,0.118,6,0.019,6,-999,9,-999,9,-999,9,-999,-999,9,-999,9,-999,-999,9,-999,-999,9,-999,-999,9,-999,3.9101,27.1655
49NZ20070724,   P01,104,1,25, X12043,2,20070827,1036,46.997,-132.3657,3299,801,2,3.6931,2,3.69303,2,34.2745,2,34.274,2,10.51,2,10.9,2,119.41,2,0.38,44.45,2,0.16,0.01,2,0.01,3.202,2,0.018,0.105,2,0.049,2,0,2,-999,9,-999,9,-999,9,-999,-999,9,-999,9,-999,-999,9,-999,-999,1,-999,-999,9,-999,3.6359,27.2457
49NZ20070724,   P01,104,1,24, X12030,2,20070827,1036,46.997,-132.3657,3299,900.1,2,3.4913,2,3.49127,2,34.3199,2,34.3203,2,9.6,2,9.55,2,126.39,2,0.4,44.55,2,0.16,0.01,2,0.01,3.2,2,0.018,0.054,2,0.02,2,0.004,2,-999,9,-999,9,-999,9,-999,-999,9,-999,9,-999,-999,9,-999,-999,9,-999,-999,9,-999,3.4277,27.3022
49NZ20070724,   P01,104,1,23, X12027,2,20070827,1036,46.997,-132.3657,3299,1000.3,2,3.2639,2,3.26389,2,34.3628,2,34.3619,6,9.96,2,9.8,2,133.62,2,0.41,44.82,2,0.16,0.01,2,0.01,3.219,2,0.018,0.022,2,0.015,2,0.007,2,-999,9,-999,9,-999,9,-999,-999,9,-999,9,-999,-999,9,-999,-999,1,-999,-999,9,-999,3.1942,27.3585
49NZ20070724,   P01,104,1,22, X12028,2,20070827,1036,46.997,-132.3657,3299,1200,2,2.8959,2,2.89593,2,34.4223,2,34.4223,2,12.59,2,12.48,2,144.95,2,0.44,44.79,2,0.16,0.01,2,0.01,3.207,2,0.018,0.007,2,0.006,2,0.008,2,-999,9,-999,9,-999,9,-999,-999,9,-999,9,-999,-999,9,-999,-999,9,-999,-999,9,-999,2.8137,27.4407
49NZ20070724,   P01,104,1,21, X12009,2,20070827,1036,46.997,-132.3657,3299,1400.3,2,2.5509,2,2.55077,2,34.4816,2,34.4815,2,20.02,2,20.03,2,155.49,2,0.46,44.61,2,0.16,0.01,2,0.01,3.171,2,0.018,0.001,2,0.002,2,0.005,2,-999,9,-999,9,-999,9,-999,-999,9,-999,9,-999,-999,9,-999,-999,9,-999,-999,9,-999,2.4564,27.5191
49NZ20070724,   P01,104,1,20, X12026,2,20070827,1036,46.997,-132.3657,3299,1600.4,2,2.2863,2,2.28643,2,34.5262,2,34.5263,2,31.62,2,31.41,2,162.03,2,0.48,44.1,2,0.16,0.01,2,0.01,3.115,2,0.018,0,2,0.003,2,0,2,-999,9,-999,9,-999,9,-999,-999,9,-999,9,-999,-999,9,-999,-999,9,-999,-999,9,-999,2.1789,27.5778
49NZ20070724,   P01,104,1,19, X12025,2,20070827,1036,46.997,-132.3657,3299,1800.4,2,2.0737,2,2.0737,2,34.5642,2,34.5639,6,46.37,2,46.35,2,167.15,2,0.49,43.02,2,0.15,0.01,2,0.01,3.044,2,0.018,0.001,2,0.003,2,0,2,-999,9,-999,9,-999,9,-999,-999,9,-999,9,-999,-999,9,-999,-999,9,-999,-999,9,-999,1.9529,27.6262
49NZ20070724,   P01,104,1,18, X12024,2,20070827,1036,46.997,-132.3657,3299,2001.5,2,1.9453,2,1.94547,2,34.589,2,34.5891,2,57.81,2,57.75,2,169.63,2,0.49,42.46,2,0.15,0.01,2,0.01,2.992,2,0.017,0.001,2,0.001,2,0,2,-999,9,-999,9,-999,9,-999,-999,9,-999,9,-999,-999,9,-999,-999,1,-999,-999,9,-999,1.8097,27.6572
49NZ20070724,   P01,104,1,17, X12023,2,20070827,1036,46.997,-132.3657,3299,2200.4,2,1.8467,2,1.84671,2,34.6082,2,34.6083,2,68.54,2,68.56,2,171.66,2,0.5,41.7,2,0.15,0.01,2,0.01,2.947,2,0.017,0,2,0,2,0,2,-999,9,-999,9,-999,9,-999,-999,9,-999,9,-999,-999,9,-999,-999,9,-999,-999,9,-999,1.6958,27.6812
49NZ20070724,   P01,104,1,16, X12022,2,20070827,1036,46.997,-132.3657,3299,2400.5,2,1.7686,2,1.76863,2,34.6231,2,34.6234,2,78.7,2,78.5,2,172.44,2,0.5,41.12,2,0.15,0.01,2,0.01,2.897,2,0.017,0,2,0,2,0,2,-999,9,-999,9,-999,9,-999,-999,9,-999,9,-999,-999,9,-999,-999,9,-999,-999,9,-999,1.6016,27.7002
49NZ20070724,   P01,104,1,15, X12021,2,20070827,1036,46.997,-132.3657,3299,2600.9,2,1.6991,2,1.69905,2,34.6355,2,34.6355,6,88.3,2,88.38,2,172.98,2,0.5,40.46,2,0.15,0.01,2,0.01,2.85,2,0.017,-999,9,-999,9,-999,9,-999,9,-999,9,-999,9,-999,-999,9,-999,9,-999,-999,9,-999,-999,9,-999,-999,9,-999,1.5154,27.7166
49NZ20070724,   P01,104,1,14, X12020,2,20070827,1036,46.997,-132.3657,3299,2802,2,1.6651,2,1.66503,2,34.6428,2,34.6431,2,94.18,2,94.49,2,173.21,2,0.5,40.18,2,0.15,0.01,2,0.01,2.824,2,0.017,-999,9,-999,9,-999,9,-999,9,-999,9,-999,9,-999,-999,9,-999,9,-999,-999,9,-999,-999,9,-999,-999,9,-999,1.4636,27.7262
49NZ20070724,   P01,104,1,13, X12019,2,20070827,1036,46.997,-132.3657,3299,2999.5,2,1.6345,2,1.63444,2,34.6498,2,34.6501,2,100.45,2,100.63,2,173,2,0.5,39.84,2,0.14,0.01,2,0.01,2.789,2,0.017,0,2,0.003,2,0,2,-999,9,-999,9,-999,9,-999,-999,9,-999,9,-999,-999,9,-999,-999,1,-999,-999,9,-999,1.4149,27.7353
49NZ20070724,   P01,104,1,12, X12040,2,20070827,1036,46.997,-132.3657,3299,3250.1,2,1.5773,2,1.5773,2,34.6611,2,34.6613,2,111.86,2,111.88,2,172.07,2,0.5,39.1,2,0.14,0.01,2,0.01,2.718,2,0.017,-999,9,-999,9,-999,9,-999,9,-999,9,-999,9,-999,-999,9,-999,9,-999,-999,9,-999,-999,9,-999,-999,9,-999,1.3345,27.7501
49NZ20070724,   P01,104,1,11, X12047,2,20070827,1036,46.997,-132.3657,3299,3340.2,2,1.5627,2,1.56257,2,34.6648,2,-999,9,114.74,2,-999,9,-999,9,-999,-999,9,-999,-999,9,-999,-999,9,-999,-999,9,-999,9,-999,9,-999,9,-999,9,-999,9,-999,-999,9,-999,9,-999,-999,9,-999,-999,1,-999,-999,9,-999,1.3113,27.7547
49NZ20070724,   P01,104,1,10, X12010,2,20070827,1036,46.997,-132.3657,3299,2001.4,2,1.9443,2,1.94463,2,34.5892,2,-999,9,58.14,2,-999,9,-999,9,-999,-999,9,-999,-999,9,-999,-999,9,-999,-999,9,-999,9,-999,9,-999,9,-999,9,-999,9,-999,-999,9,-999,9,-999,-999,9,-999,-999,1,-999,-999,9,-999,1.8087,27.6574
49NZ20070724,   P01,104,1,9, X12015,2,20070827,1036,46.997,-132.3657,3299,3000.1,2,1.6355,2,1.63553,2,34.6497,2,-999,9,100.25,2,-999,9,-999,9,-999,-999,9,-999,-999,9,-999,-999,9,-999,-999,9,-999,9,-999,9,-999,9,-999,9,-999,9,-999,-999,9,-999,9,-999,-999,9,-999,-999,1,-999,-999,9,-999,1.4158,27.7351
49NZ20070724,   P01,104,1,8, X12046,2,20070827,1036,46.997,-132.3657,3299,3340,2,1.5628,2,1.56266,2,34.6648,2,-999,9,114.77,2,-999,9,-999,9,-999,-999,9,-999,-999,9,-999,-999,9,-999,-999,9,-999,9,-999,9,-999,9,-999,9,-999,9,-999,-999,9,-999,9,-999,-999,9,-999,-999,1,-999,-999,9,-999,1.3114,27.7547
49NZ20070724,   P01,104,1,7, X12044,2,20070827,1036,46.997,-132.3657,3299,2001.1,2,1.9445,2,1.94476,2,34.5892,2,-999,9,57.99,2,-999,9,-999,9,-999,-999,9,-999,-999,9,-999,-999,9,-999,-999,9,-999,9,-999,9,-999,9,-999,9,-999,9,-999,-999,9,-999,9,-999,-999,9,-999,-999,1,-999,-999,9,-999,1.809,27.6574
49NZ20070724,   P01,104,1,6, X12048,2,20070827,1036,46.997,-132.3657,3299,2999.5,2,1.6352,2,1.63527,2,34.6498,2,-999,9,100.33,2,-999,9,-999,9,-999,-999,9,-999,-999,9,-999,-999,9,-999,-999,9,-999,9,-999,9,-999,9,-999,9,-999,9,-999,-999,9,-999,9,-999,-999,9,-999,-999,1,-999,-999,9,-999,1.4156,27.7352
49NZ20070724,   P01,104,1,5, X12014,2,20070827,1036,46.997,-132.3657,3299,3340.1,2,1.5627,2,1.56262,2,34.6649,2,-999,9,114.73,2,-999,9,-999,9,-999,-999,9,-999,-999,9,-999,-999,9,-999,-999,9,-999,9,-999,9,-999,9,-999,9,-999,9,-999,-999,9,-999,9,-999,-999,9,-999,-999,1,-999,-999,9,-999,1.3113,27.7548
49NZ20070724,   P01,104,1,4, X12928,2,20070827,1036,46.997,-132.3657,3299,2001.5,2,1.9453,2,1.9454,2,34.589,2,-999,9,57.89,2,-999,9,-999,9,-999,-999,9,-999,-999,9,-999,-999,9,-999,-999,9,-999,9,-999,9,-999,9,-999,9,-999,9,-999,-999,9,-999,9,-999,-999,9,-999,-999,1,-999,-999,9,-999,1.8097,27.6572
49NZ20070724,   P01,104,1,3, X12931,2,20070827,1036,46.997,-132.3657,3299,2999.4,2,1.6347,2,1.63469,2,34.6497,2,-999,9,100.38,2,-999,9,-999,9,-999,-999,9,-999,-999,9,-999,-999,9,-999,-999,9,-999,9,-999,9,-999,9,-999,9,-999,9,-999,-999,9,-999,9,-999,-999,9,-999,-999,1,-999,-999,9,-999,1.4151,27.7352
49NZ20070724,   P01,104,1,2, X12930,2,20070827,1036,46.997,-132.3657,3299,3339.7,2,1.5629,2,1.5627,2,34.6647,2,-999,9,114.71,2,-999,9,-999,9,-999,-999,9,-999,-999,9,-999,-999,9,-999,-999,9,-999,9,-999,9,-999,9,-999,9,-999,9,-999,-999,9,-999,9,-999,-999,9,-999,-999,1,-999,-999,9,-999,1.3115,27.7546
49NZ20070724,   P01,104,1,1, X12929,2,20070827,1036,46.997,-132.3657,3299,3339.8,2,1.5628,2,1.56263,2,34.6648,2,34.6651,6,114.74,2,114.99,2,172.76,2,0.5,38.94,2,0.14,0.01,2,0.01,2.724,2,0.017,0.003,2,0.003,2,0,2,-999,9,-999,9,-999,9,-999,-999,9,-999,9,-999,-999,9,-999,-999,9,-999,-999,9,-999,1.3114,27.7547