BOTTLE,20081214JAMSTECIORGC,,,,,,,,,,,,,,,,,,,,,,,,,,,,,,,,,,,,,,,,,,,,,,,,,,,,,,,,,,,,,,,,,
EXPOCODE,SECT,STNNBR,CASTNO,SAMPNO,BTLNBR,BTLNBR_FLAG_W,DATE,TIME,LATITUDE,LONGITUDE,DEPTH,CTDPRS,CTDPRS_FLAG_W,CTDTMP,CTDTMP_FLAG_W,SBE35,SBE35_FLAG_W,CTDSAL,CTDSAL_FLAG_W,SALNTY,SALNTY_FLAG_W,CTDOXY,CTDOXY_FLAG_W,OXYGEN,OXYGEN_FLAG_W,SILCAT,SILCAT_FLAG_W,SILUNC,NITRAT,NITRAT_FLAG_W,NRAUNC,NITRIT,NITRIT_FLAG_W,NRIUNC,PHSPHT,PHSPHT_FLAG_W,PHPUNC,CFC-11,CFC-11_FLAG_W,CFC-12,CFC-12_FLAG_W,CFC113,CFC113_FLAG_W,CCL4,CCL4_FLAG_W,TCARBN,TCARBN_FLAG_W,ALKALI,ALKALI_FLAG_W,PH_TOT,PH_TMP,PH_FLAG_W,DELC13,DELC13_FLAG_W,C13ERR,DELC14,DELC14_FLAG_W,C14ERR,CS-137,CS-137_FLAG_W,CS137ER,PLUTO,PLUTO_FLAG_W,PLUTOER,THETA,SIG0
,,,,,,,,UTC,DEG,DEG,M,DBAR,,ITS-90,,ITS-90,,PSS-78,,PSS-78,,UMOL/KG,,UMOL/KG,,UMOL/KG,,UMOL/KG,UMOL/KG,,UMOL/KG,UMOL/KG,,UMOL/KG,UMOL/KG,,UMOL/KG,PMOL/KG,,PMOL/KG,,PMOL/KG,,PMOL/KG,,UMOL/KG,,UMOL/KG,,,ITS-90,,/MILLE,,/MILLE,/MILLE,,/MILLE,BQ/CUM,,BQ/CUM,MBQ/CUM,,MBQ/CUM,DEG C,KG/CUM
49NZ20070724,   P01,62,1,0,-999,9,20070815,322,46.9947,-179.4295,5721,-999,9,-999,9,-999,9,-999,9,32.7312,2,-999,9,-999,9,-999,9,-999,-999,9,-999,-999,9,-999,-999,9,-999,-999,9,-999,9,-999,9,-999,9,-999,9,-999,9,-999,-999,9,-999,9,-999,-999,9,-999,-999,9,-999,-999,9,-999,-999,-999
49NZ20070724,   P01,62,1,36, X12042,2,20070815,322,46.9947,-179.4295,5721,10,2,12.3025,2,12.3005,2,32.704,2,32.7369,2,282.76,2,284.96,2,14.61,2,0.15,10.4,2,0.06,0.14,2,0.01,1.131,2,0.013,3.449,2,1.95,2,0.309,2,-999,9,2021.5,2,2216.1,2,7.8886,25,6,-999,9,-999,-999,9,-999,-999,9,-999,-999,9,-999,12.3012,24.7496
49NZ20070724,   P01,62,1,35, X12041,2,20070815,322,46.9947,-179.4295,5721,50.4,2,4.243,2,4.24309,2,33.0152,2,33.0202,2,317.09,2,317.07,2,32.76,2,0.19,18.91,2,0.09,0.6,2,0,1.685,2,0.014,4.891,2,2.699,2,0.423,2,-999,9,2101.5,2,2228.5,2,7.7342,25,2,-999,9,-999,-999,9,-999,-999,9,-999,-999,9,-999,4.2396,26.1833
49NZ20070724,   P01,62,1,34, X12036,2,20070815,322,46.9947,-179.4295,5721,100.5,2,3.7154,2,3.71603,2,33.0446,2,33.086,2,311.17,2,301.6,2,35.76,2,0.2,21.48,2,0.09,0.02,2,0.01,1.764,2,0.015,4.857,2,2.662,2,0.411,2,-999,9,2117.4,2,2232.4,2,7.7013,25,2,-999,9,-999,-999,9,-999,-999,9,-999,-999,9,-999,3.709,26.2593
49NZ20070724,   P01,62,1,33, X12033,2,20070815,322,46.9947,-179.4295,5721,150.2,2,3.2867,2,3.28739,2,33.5181,2,33.5406,2,205.9,2,199.46,2,59.81,2,0.25,31.02,2,0.12,0.02,2,0.01,2.355,2,0.016,-999,5,-999,5,-999,5,-999,9,2213.1,2,2260.8,2,7.5191,25,2,-999,9,-999,-999,9,-999,-999,9,-999,-999,9,-999,3.2774,26.6771
49NZ20070724,   P01,62,1,32, X12038,2,20070815,322,46.9947,-179.4295,5721,204.5,2,3.1414,2,3.1413,2,33.6651,2,33.6625,2,141.46,2,144.5,2,73.58,2,0.28,35.44,2,0.13,0.02,2,0.01,2.643,2,0.017,3.361,2,1.742,2,0.241,2,-999,9,2256.1,2,2281.8,2,7.4286,25,2,-999,9,-999,-999,9,-999,-999,9,-999,-999,9,-999,3.1289,26.808
49NZ20070724,   P01,62,1,31, X12003,2,20070815,322,46.9947,-179.4295,5721,252.4,2,3.3834,2,3.38313,2,33.7804,2,33.7784,6,106.78,2,108.9,2,81.83,2,0.3,37.74,2,0.14,0.01,2,0.01,2.773,2,0.017,2.787,6,1.427,6,0.189,6,-999,9,2282.8,2,2292.6,2,7.3876,25,2,-999,9,-999,-999,9,-999,-999,9,-999,-999,9,-999,3.3673,26.8778
49NZ20070724,   P01,62,1,30, X12008,2,20070815,322,46.9947,-179.4295,5721,281.4,2,3.45,2,3.44983,2,33.8414,2,33.8497,2,86.28,2,84.56,2,88.56,2,0.31,39.58,2,0.14,0.01,2,0.01,2.883,2,0.017,2.384,2,1.21,2,0.162,2,-999,9,2297.2,6,2299.7,2,7.3563,25,2,-999,9,-999,-999,9,-999,-999,9,-999,-999,9,-999,3.4318,26.9204
49NZ20070724,   P01,62,1,29, X12035,2,20070815,322,46.9947,-179.4295,5721,371.3,2,3.5871,2,3.58672,2,33.9754,2,33.9838,2,54.87,2,55.22,2,99.22,2,0.34,41.45,2,0.15,0.01,2,0.01,3.005,2,0.017,1.666,2,0.834,2,0.11,2,-999,9,2322.9,2,2314.7,6,7.33,25,2,-999,9,-999,-999,9,-999,-999,9,-999,-999,9,-999,3.5623,27.0147
49NZ20070724,   P01,62,1,28, X12034,2,20070815,322,46.9947,-179.4295,5721,471.4,2,3.5504,2,3.55021,2,34.0953,2,34.0958,6,30.77,2,31.53,2,111.16,2,0.36,43.08,2,0.15,0.01,2,0.01,3.108,2,0.018,1.052,2,0.519,2,0.069,2,-999,9,2345.6,2,2329.9,2,7.3092,25,6,-999,9,-999,-999,9,-999,-999,9,-999,-999,9,-999,3.5186,27.1144
49NZ20070724,   P01,62,1,27, X12049,2,20070815,322,46.9947,-179.4295,5721,571.3,2,3.4677,2,3.46756,2,34.1828,2,34.186,2,25.52,2,26.03,2,119.48,2,0.38,43.21,2,0.15,0.01,2,0.01,3.11,2,0.018,0.682,2,0.333,2,0.047,2,-999,9,2353.6,2,2344.2,2,7.3191,25,2,-999,9,-999,-999,9,-999,-999,9,-999,-999,9,-999,3.429,27.1928
49NZ20070724,   P01,62,1,26, X12032,2,20070815,322,46.9947,-179.4295,5721,670.2,2,3.2782,2,3.27795,2,34.2575,2,34.2583,2,22.91,2,22.85,2,128.38,2,0.4,43.45,2,0.15,0.01,2,0.01,3.13,2,0.018,0.425,6,0.206,6,0.025,6,-999,9,2366.1,6,2356.5,2,7.3221,25,2,-999,9,-999,-999,9,-999,-999,9,-999,-999,9,-999,3.2332,27.2709
49NZ20070724,   P01,62,1,25, X12043,2,20070815,322,46.9947,-179.4295,5721,769.3,2,3.103,2,3.10249,2,34.3109,2,34.3111,2,23.39,2,23.06,2,135.05,2,0.42,43.54,2,0.15,0.01,2,0.01,3.138,2,0.018,0.292,2,0.14,2,0.02,2,-999,9,2372.3,2,2364.9,6,7.3325,25,2,-999,9,-999,-999,9,-999,-999,9,-999,-999,9,-999,3.0518,27.3303
49NZ20070724,   P01,62,1,24, X12030,2,20070815,322,46.9947,-179.4295,5721,870.2,2,2.9327,2,2.93254,2,34.3514,2,34.3508,2,22.55,2,22.49,2,140.41,2,0.43,43.64,2,0.15,0.01,2,0.01,3.133,2,0.018,0.205,2,0.096,2,0.013,2,-999,9,2374.7,2,2373,2,7.3352,25,2,-999,9,-999,-999,9,-999,-999,9,-999,-999,9,-999,2.8752,27.3786
49NZ20070724,   P01,62,1,23, X12027,2,20070815,322,46.9947,-179.4295,5721,971.1,2,2.7919,2,2.79166,2,34.3875,2,34.3875,6,23.15,2,23.08,2,145.47,2,0.44,43.65,2,0.16,0.01,2,0.01,3.138,2,0.018,0.141,2,0.067,2,0.008,2,-999,9,2383.3,2,2378.8,2,7.34,25,2,-999,9,-999,-999,9,-999,-999,9,-999,-999,9,-999,2.728,27.4204
49NZ20070724,   P01,62,1,22, X12028,2,20070815,322,46.9947,-179.4295,5721,1130.2,2,2.5778,2,2.57769,2,34.4388,2,34.4381,2,27.17,2,27.1,2,152.14,2,0.45,43.47,2,0.15,0.01,2,0.01,3.124,2,0.018,0.091,2,0.043,2,0.009,2,-999,9,2389.8,3,2386.8,2,7.3511,25,2,-999,9,-999,-999,9,-999,-999,9,-999,-999,9,-999,2.5038,27.4808
49NZ20070724,   P01,62,1,21, X12009,2,20070815,322,46.9947,-179.4295,5721,1332.4,2,2.3553,2,2.35535,2,34.4888,2,34.4888,2,34.43,2,34.17,2,158.37,2,0.47,43.18,2,0.15,0.01,2,0.01,3.098,2,0.018,0.044,2,0.021,2,0.007,2,-999,9,2387.5,2,2397.3,2,7.3701,25,2,-999,9,-999,-999,9,-999,-999,9,-999,-999,9,-999,2.2681,27.5405
49NZ20070724,   P01,62,1,20, X12026,2,20070815,322,46.9947,-179.4295,5721,1529.7,2,2.1773,2,2.17727,2,34.5298,2,34.5295,2,43.4,2,42.97,2,162.47,2,0.48,42.75,2,0.15,0.01,2,0.01,3.052,2,0.018,0.019,2,0.01,2,0.008,2,-999,9,2389.8,2,2402.8,2,7.389,25,6,-999,9,-999,-999,9,-999,-999,9,-999,-999,9,-999,2.0768,27.5888
49NZ20070724,   P01,62,1,19, X12025,2,20070815,322,46.9947,-179.4295,5721,1731,2,2.0352,2,2.03516,2,34.5613,2,34.5613,2,53.33,2,52.73,2,165.11,2,0.48,42.19,2,0.15,0.01,2,0.01,3.007,2,0.017,0.005,2,0.001,2,0.005,2,-999,9,2384.8,2,2408.8,2,7.4089,25,2,-999,9,-999,-999,9,-999,-999,9,-999,-999,9,-999,1.9205,27.6264
49NZ20070724,   P01,62,1,18, X12024,2,20070815,322,46.9947,-179.4295,5721,1931.8,2,1.9186,2,1.91848,2,34.5867,2,34.586,2,64.61,2,63.96,2,166.06,2,0.48,41.54,2,0.15,0,2,0.01,2.959,2,0.017,0.004,2,0.002,2,0,2,-999,9,2382.3,2,2412.9,2,7.4317,25,2,-999,9,-999,-999,9,-999,-999,9,-999,-999,9,-999,1.7892,27.6569
49NZ20070724,   P01,62,1,17, X12023,2,20070815,322,46.9947,-179.4295,5721,2129.5,2,1.8062,2,1.80602,2,34.6093,2,34.6093,2,78,2,77.29,2,166.28,2,0.48,40.61,2,0.15,0,2,0.01,2.898,2,0.017,0,2,0,2,0.008,2,-999,9,2378.4,2,2416.2,2,7.4581,25,2,-999,9,-999,-999,9,-999,-999,9,-999,-999,9,-999,1.662,27.6846
49NZ20070724,   P01,62,1,16, X12022,2,20070815,322,46.9947,-179.4295,5721,2330,2,1.7267,2,1.72658,2,34.6251,2,34.6248,2,89.32,2,88.64,2,165.56,2,0.48,39.94,2,0.14,0.01,2,0.01,2.849,2,0.017,-999,9,-999,9,-999,9,-999,9,2368.7,6,2416.8,2,7.4793,25,2,-999,9,-999,-999,9,-999,-999,9,-999,-999,9,-999,1.5666,27.7045
49NZ20070724,   P01,62,1,15, X12021,2,20070815,322,46.9947,-179.4295,5721,2530.6,2,1.6548,2,1.65464,2,34.6389,2,34.6391,6,100.07,2,99.48,2,164.15,2,0.48,39.26,2,0.14,0.01,2,0.01,2.798,2,0.017,0,2,0,2,0.008,2,-999,9,2362.8,2,2418.6,6,7.4995,25,2,-999,9,-999,-999,9,-999,-999,9,-999,-999,9,-999,1.4783,27.7219
49NZ20070724,   P01,62,1,14, X12020,2,20070815,322,46.9947,-179.4295,5721,2729,2,1.5999,2,1.5998,2,34.6496,2,34.6495,2,109.66,2,109,2,162.37,2,0.48,38.56,2,0.14,0.01,2,0.01,2.744,2,0.017,-999,9,-999,9,-999,9,-999,9,2355.6,2,2417.6,2,7.5177,25,6,-999,9,-999,-999,9,-999,-999,9,-999,-999,9,-999,1.4065,27.7357
49NZ20070724,   P01,62,1,13, X12019,2,20070815,322,46.9947,-179.4295,5721,2930.1,2,1.5647,2,1.56468,2,34.6572,2,34.6572,2,117.26,2,116.5,2,161.13,2,0.47,38.16,2,0.14,0.01,2,0.01,2.714,2,0.017,-999,9,-999,9,-999,9,-999,9,2353,2,2418.6,2,7.5314,25,2,-999,9,-999,-999,9,-999,-999,9,-999,-999,9,-999,1.3532,27.7456
49NZ20070724,   P01,62,1,12, X12040,2,20070815,322,46.9947,-179.4295,5721,3170.7,2,1.5166,2,1.51663,2,34.6664,2,34.6662,2,127.3,2,126.7,2,158.24,2,0.47,37.54,2,0.14,0.01,2,0.01,2.654,2,0.017,0,2,0,2,0.01,2,-999,9,2346.4,2,2419.7,2,7.5502,25,2,-999,9,-999,-999,9,-999,-999,9,-999,-999,9,-999,1.283,27.758
49NZ20070724,   P01,62,1,11, X12047,2,20070815,322,46.9947,-179.4295,5721,3421.9,2,1.4904,2,1.49042,2,34.6728,2,34.6726,2,134.6,2,134.16,2,156.12,2,0.46,37.03,2,0.14,0,2,0.01,2.62,2,0.017,-999,9,-999,9,-999,9,-999,9,2337.2,3,2419.3,2,7.5629,25,2,-999,9,-999,-999,9,-999,-999,9,-999,-999,9,-999,1.2325,27.7666
49NZ20070724,   P01,62,1,10, X12010,2,20070815,322,46.9947,-179.4295,5721,3669.7,2,1.4717,2,1.47169,2,34.678,2,34.6772,2,140.68,2,140.37,2,154.99,2,0.46,36.68,2,0.14,0.01,2,0.01,2.588,2,0.016,-999,9,-999,9,-999,9,-999,9,2333.5,3,2419.6,2,7.5746,25,2,-999,9,-999,-999,9,-999,-999,9,-999,-999,9,-999,1.1888,27.7738
49NZ20070724,   P01,62,1,9, X12015,2,20070815,322,46.9947,-179.4295,5721,3921.2,2,1.4617,2,1.46164,2,34.6823,2,34.6817,2,145.72,2,145.56,2,154.08,2,0.46,36.39,2,0.13,0.01,2,0.01,2.566,2,0.016,0,2,0,2,0,2,-999,9,2333.6,2,2418.8,2,7.584,25,2,-999,9,-999,-999,9,-999,-999,9,-999,-999,9,-999,1.1524,27.7798
49NZ20070724,   P01,62,1,8, X12046,2,20070815,322,46.9947,-179.4295,5721,4169.4,2,1.4661,2,1.4661,2,34.6849,2,34.685,6,148.97,2,148.95,2,153.44,2,0.46,36.06,2,0.13,0.01,2,0.01,2.539,2,0.016,-999,9,-999,9,-999,9,-999,9,2331.1,6,2421,2,7.5908,25,2,-999,9,-999,-999,9,-999,-999,9,-999,-999,9,-999,1.1296,27.7834
49NZ20070724,   P01,62,1,7, X12044,2,20070815,322,46.9947,-179.4295,5721,4420.5,2,1.4787,2,1.47871,2,34.6871,2,34.6866,2,150.89,2,151.13,2,154.86,2,0.46,36.01,2,0.13,0.01,2,0.01,2.529,2,0.016,-999,9,-999,9,-999,9,-999,9,2332.4,2,2421.4,6,7.5948,25,2,-999,9,-999,-999,9,-999,-999,9,-999,-999,9,-999,1.1135,27.7863
49NZ20070724,   P01,62,1,6, X12048,2,20070815,322,46.9947,-179.4295,5721,4670.4,2,1.5011,2,1.50123,2,34.6881,2,34.6872,2,151.86,2,152.04,2,155.71,2,0.46,36.01,2,0.13,0.01,2,0.01,2.528,2,0.016,0.001,2,0,2,0.01,2,-999,9,2332.4,2,2421.3,2,7.5968,25,6,-999,9,-999,-999,9,-999,-999,9,-999,-999,9,-999,1.1062,27.7876
49NZ20070724,   P01,62,1,5, X12017,2,20070815,322,46.9947,-179.4295,5721,4920.8,2,1.5277,2,1.52785,2,34.6887,2,34.6882,2,152.52,2,152.67,2,156.27,2,0.46,35.9,2,0.13,0.01,2,0.01,2.524,2,0.016,-999,9,-999,9,-999,9,-999,9,2325.4,3,2421.7,2,7.5981,25,2,-999,9,-999,-999,9,-999,-999,9,-999,-999,9,-999,1.1021,27.7884
49NZ20070724,   P01,62,1,4, X12928,2,20070815,322,46.9947,-179.4295,5721,5170.4,2,1.5581,2,1.55822,2,34.6889,2,34.6888,2,152.82,2,152.97,2,156.74,2,0.46,35.84,2,0.13,0,2,0.01,2.521,2,0.016,0.005,3,0.005,3,0.01,2,-999,9,2323.6,3,2421.8,2,7.5986,25,2,-999,9,-999,-999,9,-999,-999,9,-999,-999,9,-999,1.101,27.7886
49NZ20070724,   P01,62,1,3, X12931,2,20070815,322,46.9947,-179.4295,5721,5419,2,1.5884,2,1.58834,2,34.689,2,34.6887,2,153.44,2,153.37,2,156.1,2,0.46,35.93,2,0.13,0.01,2,0.01,2.522,2,0.016,-999,9,-999,9,-999,9,-999,9,2328.8,2,2421.6,2,7.5989,25,2,-999,9,-999,-999,9,-999,-999,9,-999,-999,9,-999,1.099,27.7888
49NZ20070724,   P01,62,1,2, X12930,2,20070815,322,46.9947,-179.4295,5721,5670.2,2,1.6184,2,1.61841,2,34.6893,2,34.689,2,154.53,2,154.31,2,154.81,2,0.46,35.84,2,0.13,0.01,2,0.01,2.518,2,0.016,-999,9,-999,9,-999,9,-999,9,2325.2,2,2419.8,2,7.6001,25,2,-999,9,-999,-999,9,-999,-999,9,-999,-999,9,-999,1.0955,27.7892
49NZ20070724,   P01,62,1,1, X12929,2,20070815,322,46.9947,-179.4295,5721,5840.4,2,1.6416,2,1.64153,2,34.6892,2,34.6891,6,154.77,2,154.45,2,154.87,2,0.46,35.79,2,0.13,0.01,2,0.01,2.515,2,0.016,0.031,4,0.057,4,0.011,4,-999,9,2327.5,2,2420.5,2,7.5998,25,2,-999,9,-999,-999,9,-999,-999,9,-999,-999,9,-999,1.0955,27.7892