BOTTLE,20081214JAMSTECIORGC,,,,,,,,,,,,,,,,,,,,,,,,,,,,,,,,,,,,,,,,,,,,,,,,,,,,,,,,,,,,,,,,,
EXPOCODE,SECT,STNNBR,CASTNO,SAMPNO,BTLNBR,BTLNBR_FLAG_W,DATE,TIME,LATITUDE,LONGITUDE,DEPTH,CTDPRS,CTDPRS_FLAG_W,CTDTMP,CTDTMP_FLAG_W,SBE35,SBE35_FLAG_W,CTDSAL,CTDSAL_FLAG_W,SALNTY,SALNTY_FLAG_W,CTDOXY,CTDOXY_FLAG_W,OXYGEN,OXYGEN_FLAG_W,SILCAT,SILCAT_FLAG_W,SILUNC,NITRAT,NITRAT_FLAG_W,NRAUNC,NITRIT,NITRIT_FLAG_W,NRIUNC,PHSPHT,PHSPHT_FLAG_W,PHPUNC,CFC-11,CFC-11_FLAG_W,CFC-12,CFC-12_FLAG_W,CFC113,CFC113_FLAG_W,CCL4,CCL4_FLAG_W,TCARBN,TCARBN_FLAG_W,ALKALI,ALKALI_FLAG_W,PH_TOT,PH_TMP,PH_FLAG_W,DELC13,DELC13_FLAG_W,C13ERR,DELC14,DELC14_FLAG_W,C14ERR,CS-137,CS-137_FLAG_W,CS137ER,PLUTO,PLUTO_FLAG_W,PLUTOER,THETA,SIG0
,,,,,,,,UTC,DEG,DEG,M,DBAR,,ITS-90,,ITS-90,,PSS-78,,PSS-78,,UMOL/KG,,UMOL/KG,,UMOL/KG,,UMOL/KG,UMOL/KG,,UMOL/KG,UMOL/KG,,UMOL/KG,UMOL/KG,,UMOL/KG,PMOL/KG,,PMOL/KG,,PMOL/KG,,PMOL/KG,,UMOL/KG,,UMOL/KG,,,ITS-90,,/MILLE,,/MILLE,/MILLE,,/MILLE,BQ/CUM,,BQ/CUM,MBQ/CUM,,MBQ/CUM,DEG C,KG/CUM
49NZ20070724,   P01,17,1,0,-999,9,20070729,1412,40.3877,147.384,5275,-999,9,-999,9,-999,9,-999,9,34.2454,2,-999,9,-999,9,-999,9,-999,-999,9,-999,-999,9,-999,-999,9,-999,-999,9,-999,9,-999,9,-999,9,-999,9,-999,9,-999,-999,9,-999,9,-999,-999,9,-999,-999,9,-999,-999,9,-999,-999,-999
49NZ20070724,   P01,17,1,36, X12042,2,20070729,1412,40.3877,147.384,5275,9.5,2,20.1928,2,20.19903,2,34.3855,2,34.318,2,232.6,2,229.46,2,1.87,2,0.12,0.07,2,0.03,0.01,2,0.01,0.072,2,0.027,2.051,2,1.232,2,0.319,2,-999,9,-999,9,-999,9,-999,-999,9,-999,9,-999,-999,9,-999,-999,9,-999,-999,9,-999,20.191,24.2427
49NZ20070724,   P01,17,1,35, X12041,2,20070729,1412,40.3877,147.384,5275,49.7,2,9.4958,2,9.47038,2,33.9488,2,33.9321,2,243.48,2,241.09,2,20.04,2,0.16,14.16,2,0.07,0.08,2,0.01,1.116,2,0.013,3.285,2,1.827,2,0.198,2,-999,9,-999,9,-999,9,-999,-999,9,-999,9,-999,-999,9,-999,-999,9,-999,-999,9,-999,9.4903,26.2159
49NZ20070724,   P01,17,1,34, X12036,2,20070729,1412,40.3877,147.384,5275,100.3,2,6.7296,2,6.6947,2,33.7829,2,33.7503,2,231.18,2,233.42,2,34.44,2,0.19,20.5,2,0.09,0.03,2,0.01,1.59,2,0.014,3.521,2,1.92,2,0.215,2,-999,9,-999,9,-999,9,-999,-999,9,-999,9,-999,-999,9,-999,-999,9,-999,-999,9,-999,6.7207,26.4977
49NZ20070724,   P01,17,1,33, X12033,2,20070729,1412,40.3877,147.384,5275,150.2,2,4.821,2,4.82146,2,33.6748,2,33.6565,2,220.61,2,221.44,2,48.88,2,0.23,25.87,2,0.11,0.02,2,0.01,1.988,2,0.015,3.619,6,1.95,6,0.216,6,-999,9,-999,9,-999,9,-999,-999,9,-999,9,-999,-999,9,-999,-999,9,-999,-999,9,-999,4.8098,26.646
49NZ20070724,   P01,17,1,32, X12038,2,20070729,1412,40.3877,147.384,5275,199.5,2,4.2485,2,4.23385,2,33.7095,2,33.7171,2,192.28,2,190.24,2,58.44,2,0.25,29.14,2,0.11,0.02,2,0.01,2.212,2,0.016,3.241,2,1.724,2,0.201,2,-999,9,-999,9,-999,9,-999,-999,9,-999,9,-999,-999,9,-999,-999,9,-999,-999,9,-999,4.2345,26.7355
49NZ20070724,   P01,17,1,31, X12003,2,20070729,1412,40.3877,147.384,5275,249.7,2,3.8706,2,3.8616,2,33.7648,2,33.7399,6,159.71,2,159.53,2,70.99,2,0.28,32.95,2,0.13,0.02,2,0.01,2.478,2,0.016,2.995,2,1.581,2,0.184,2,-999,9,-999,9,-999,9,-999,-999,9,-999,9,-999,-999,9,-999,-999,9,-999,-999,9,-999,3.8537,26.8183
49NZ20070724,   P01,17,1,30, X12008,2,20070729,1412,40.3877,147.384,5275,329.2,2,4.4717,2,4.47098,2,33.9884,2,33.9816,2,109.16,2,110.57,2,79.51,2,0.29,35.08,2,0.13,0.04,2,0.01,2.584,2,0.016,1.954,2,1.007,2,0.112,2,-999,9,-999,9,-999,9,-999,-999,9,-999,9,-999,-999,9,-999,-999,9,-999,-999,9,-999,4.4475,26.9345
49NZ20070724,   P01,17,1,29, X12035,2,20070729,1412,40.3877,147.384,5275,430,2,4.5012,2,4.50066,2,34.1352,2,34.1411,2,76.02,2,77.34,2,92.24,2,0.32,37.59,2,0.14,0.02,2,0.01,2.741,2,0.017,1.151,2,0.587,2,0.06,2,-999,9,-999,9,-999,9,-999,-999,9,-999,9,-999,-999,9,-999,-999,9,-999,-999,9,-999,4.4691,27.0488
49NZ20070724,   P01,17,1,28, X12034,2,20070729,1412,40.3877,147.384,5275,529.6,2,3.9746,2,3.97452,2,34.1876,2,34.1921,6,57.07,2,57.95,2,106.35,2,0.35,39.92,2,0.14,0.01,2,0.01,2.894,2,0.017,0.844,2,0.427,2,0.056,2,-999,9,-999,9,-999,9,-999,-999,9,-999,9,-999,-999,9,-999,-999,9,-999,-999,9,-999,3.9368,27.1463
49NZ20070724,   P01,17,1,27, X12049,2,20070729,1412,40.3877,147.384,5275,629.3,2,3.9603,2,3.95932,2,34.2897,2,34.2923,2,54.25,2,55.84,2,111.7,2,0.36,40.04,2,0.14,0.01,2,0.01,2.903,2,0.017,0.478,2,0.24,2,0.038,2,-999,9,-999,9,-999,9,-999,-999,9,-999,9,-999,-999,9,-999,-999,9,-999,-999,9,-999,3.9149,27.2298
49NZ20070724,   P01,17,1,26, X12032,2,20070729,1412,40.3877,147.384,5275,729.2,2,3.2662,2,3.266,2,34.2862,2,34.2865,2,39.56,2,40.18,2,127.15,2,0.4,42.14,2,0.15,0.01,2,0.01,3.039,2,0.018,0.472,6,0.236,6,0.03,6,-999,9,-999,9,-999,9,-999,-999,9,-999,9,-999,-999,9,-999,-999,9,-999,-999,9,-999,3.217,27.2953
49NZ20070724,   P01,17,1,25, X12043,2,20070729,1412,40.3877,147.384,5275,829.3,2,2.8363,2,2.83532,2,34.3126,2,34.3101,2,37.81,2,38.41,2,138.71,2,0.42,42.61,2,0.15,0.01,2,0.01,3.083,2,0.018,0.471,2,0.236,2,0.03,2,-999,9,-999,9,-999,9,-999,-999,9,-999,9,-999,-999,9,-999,-999,9,-999,-999,9,-999,2.7824,27.3558
49NZ20070724,   P01,17,1,24, X12030,2,20070729,1412,40.3877,147.384,5275,930.1,2,2.9443,2,2.944,2,34.393,2,34.3934,2,39.4,2,39.91,2,137.84,2,0.42,42.3,2,0.15,0.01,2,0.01,3.048,2,0.018,0.194,2,0.092,2,0.011,2,-999,9,-999,9,-999,9,-999,-999,9,-999,9,-999,-999,9,-999,-999,9,-999,-999,9,-999,2.8822,27.4111
49NZ20070724,   P01,17,1,23, X12027,2,20070729,1412,40.3877,147.384,5275,1069.8,2,2.5997,2,2.59941,2,34.4165,2,34.4175,6,37.8,2,38.32,2,148.1,2,0.44,42.81,2,0.15,0.01,2,0.01,3.089,2,0.018,0.203,2,0.098,2,0.018,2,-999,9,-999,9,-999,9,-999,-999,9,-999,9,-999,-999,9,-999,-999,9,-999,-999,9,-999,2.53,27.4607
49NZ20070724,   P01,17,1,22, X12028,2,20070729,1412,40.3877,147.384,5275,1269.2,2,2.3757,2,2.3758,2,34.4744,2,34.4745,2,43.39,2,43.87,2,154.15,2,0.46,42.45,2,0.15,0.01,2,0.01,3.059,2,0.018,0.122,2,0.056,2,0.012,2,-999,9,-999,9,-999,9,-999,-999,9,-999,9,-999,-999,9,-999,-999,9,-999,-999,9,-999,2.2931,27.527
49NZ20070724,   P01,17,1,21, X12009,2,20070729,1412,40.3877,147.384,5275,1469.5,2,2.2571,2,2.25727,2,34.5202,2,34.5191,2,49.29,2,49.54,2,156.63,2,0.46,42.26,2,0.15,0.01,2,0.01,3.038,2,0.018,0.054,2,0.023,2,0,2,-999,9,-999,9,-999,9,-999,-999,9,-999,9,-999,-999,9,-999,-999,9,-999,-999,9,-999,2.1604,27.5744
49NZ20070724,   P01,17,1,20, X12026,2,20070729,1412,40.3877,147.384,5275,1669.2,2,2.137,2,2.13704,2,34.5537,2,34.5538,2,57.91,2,58.02,2,158.21,2,0.47,41.96,2,0.15,0.01,2,0.01,2.99,2,0.017,0.02,2,0.007,2,0,2,-999,9,-999,9,-999,9,-999,-999,9,-999,9,-999,-999,9,-999,-999,9,-999,-999,9,-999,2.0259,27.612
49NZ20070724,   P01,17,1,19, X12025,2,20070729,1412,40.3877,147.384,5275,1870.9,2,1.9883,2,1.98795,2,34.5835,2,34.5835,2,69.46,2,68.93,2,160.16,2,0.47,41.4,2,0.15,0.01,2,0.01,2.941,2,0.017,0.008,2,0.001,2,0,2,-999,9,-999,9,-999,9,-999,-999,9,-999,9,-999,-999,9,-999,-999,9,-999,-999,9,-999,1.8629,27.6487
49NZ20070724,   P01,17,1,18, X12024,2,20070729,1412,40.3877,147.384,5275,2069.4,2,1.8652,2,1.86508,2,34.6065,2,34.6066,2,81.77,2,80.91,2,160.08,2,0.47,40.64,2,0.15,0.01,2,0.01,2.884,2,0.017,0.001,2,0,2,0,2,-999,9,-999,9,-999,9,-999,-999,9,-999,9,-999,-999,9,-999,-999,9,-999,-999,9,-999,1.7251,27.6777
49NZ20070724,   P01,17,1,17, X12023,2,20070729,1412,40.3877,147.384,5275,2269.1,2,1.7638,2,1.76382,2,34.6258,2,34.626,2,95.21,2,94.7,2,158.66,2,0.47,39.77,2,0.14,0.01,2,0.01,2.817,2,0.017,0.001,2,0,2,0,2,-999,9,-999,9,-999,9,-999,-999,9,-999,9,-999,-999,9,-999,-999,9,-999,-999,9,-999,1.6083,27.7019
49NZ20070724,   P01,17,1,16, X12022,2,20070729,1412,40.3877,147.384,5275,2470.4,2,1.6757,2,1.67561,2,34.6407,2,34.6408,2,106.82,2,106.16,2,157.04,2,0.46,39.05,2,0.14,0.01,2,0.01,2.762,2,0.017,0,2,0,2,0,2,-999,9,-999,9,-999,9,-999,-999,9,-999,9,-999,-999,9,-999,-999,9,-999,-999,9,-999,1.5041,27.7215
49NZ20070724,   P01,17,1,15, X12021,2,20070729,1412,40.3877,147.384,5275,2670.2,2,1.6189,2,1.61876,2,34.6505,2,34.6505,6,114.97,2,114.44,2,155.95,2,0.46,38.51,2,0.14,0.01,2,0.01,2.719,2,0.017,-999,9,-999,9,-999,9,-999,9,-999,9,-999,9,-999,-999,9,-999,9,-999,-999,9,-999,-999,9,-999,-999,9,-999,1.4304,27.7347
49NZ20070724,   P01,17,1,14, X12020,2,20070729,1412,40.3877,147.384,5275,2869.4,2,1.5692,2,1.56909,2,34.6593,2,34.6591,2,123.7,2,123.09,2,153.74,2,0.46,37.98,2,0.14,0.01,2,0.01,2.682,2,0.017,-999,9,-999,9,-999,9,-999,9,-999,9,-999,9,-999,-999,9,-999,9,-999,-999,9,-999,-999,9,-999,-999,9,-999,1.3633,27.7466
49NZ20070724,   P01,17,1,13, X12019,2,20070729,1412,40.3877,147.384,5275,3078.8,2,1.5328,2,1.53286,2,34.6659,2,34.6659,2,130.28,2,130.09,2,152.38,2,0.45,37.56,2,0.14,0.01,2,0.01,2.645,2,0.017,0,2,0,2,0,2,-999,9,-999,9,-999,9,-999,-999,9,-999,9,-999,-999,9,-999,-999,9,-999,-999,9,-999,1.3078,27.7558
49NZ20070724,   P01,17,1,12, X12040,2,20070729,1412,40.3877,147.384,5275,3329.2,2,1.5013,2,1.50145,2,34.6721,2,34.6721,2,136.4,2,136.41,2,150.94,2,0.45,36.94,2,0.14,0.02,2,0.01,2.605,2,0.016,-999,9,-999,9,-999,9,-999,9,-999,9,-999,9,-999,-999,9,-999,9,-999,-999,9,-999,-999,9,-999,-999,9,-999,1.2524,27.7647
49NZ20070724,   P01,17,1,11, X12047,2,20070729,1412,40.3877,147.384,5275,3581.1,2,1.4779,2,1.4779,2,34.6771,2,34.6771,2,142.13,2,142.1,2,149.92,2,0.45,36.65,2,0.14,0.01,2,0.01,2.582,2,0.016,-999,9,-999,9,-999,9,-999,9,-999,9,-999,9,-999,-999,9,-999,9,-999,-999,9,-999,-999,9,-999,-999,9,-999,1.204,27.7721
49NZ20070724,   P01,17,1,10, X12010,2,20070729,1412,40.3877,147.384,5275,3830,2,1.464,2,1.46396,2,34.6813,2,34.6813,2,146.9,2,146.92,2,148.7,2,0.45,36.41,2,0.13,0.01,2,0.01,2.552,2,0.016,0,2,0,2,0,2,-999,9,-999,9,-999,9,-999,-999,9,-999,9,-999,-999,9,-999,-999,9,-999,-999,9,-999,1.1644,27.7781
49NZ20070724,   P01,17,1,9, X12015,2,20070729,1412,40.3877,147.384,5275,4080.1,2,1.4602,2,1.46006,2,34.6842,2,34.6845,2,150.82,2,150.9,2,147.78,2,0.44,36.09,2,0.13,0.01,2,0.01,2.536,2,0.016,-999,9,-999,9,-999,9,-999,9,-999,9,-999,9,-999,-999,9,-999,9,-999,-999,9,-999,-999,9,-999,-999,9,-999,1.1337,27.7826
49NZ20070724,   P01,17,1,8, X12046,2,20070729,1412,40.3877,147.384,5275,4330.9,2,1.4618,2,1.46166,2,34.6869,2,34.687,6,154.26,2,154.57,2,146.7,2,0.44,35.88,2,0.13,0.02,2,0.01,2.518,2,0.016,-999,9,-999,9,-999,9,-999,9,-999,9,-999,9,-999,-999,9,-999,9,-999,-999,9,-999,-999,9,-999,-999,9,-999,1.1073,27.7866
49NZ20070724,   P01,17,1,7, X12044,2,20070729,1412,40.3877,147.384,5275,4579.9,2,1.4724,2,1.47219,2,34.6888,2,34.6891,2,156.58,2,156.94,2,146.3,2,0.44,35.7,2,0.13,0.02,2,0.01,2.5,2,0.016,0.007,2,0,2,0,2,-999,9,-999,9,-999,9,-999,-999,9,-999,9,-999,-999,9,-999,-999,9,-999,-999,9,-999,1.089,27.7893
49NZ20070724,   P01,17,1,6, X12048,2,20070729,1412,40.3877,147.384,5275,4831.5,2,1.4908,2,1.49061,2,34.6901,2,34.6904,2,158.12,2,158.39,2,146.18,2,0.44,35.62,2,0.13,0.02,2,0.01,2.497,2,0.016,-999,9,-999,9,-999,9,-999,9,-999,9,-999,9,-999,-999,9,-999,9,-999,-999,9,-999,-999,9,-999,-999,9,-999,1.0772,27.7912
49NZ20070724,   P01,17,1,5, X12017,2,20070729,1412,40.3877,147.384,5275,5079.8,2,1.513,2,1.51296,2,34.6911,2,34.6911,2,159.66,2,159.94,2,145.18,2,0.44,35.45,2,0.13,0.01,2,0.01,2.484,2,0.016,-999,9,-999,9,-999,9,-999,9,-999,9,-999,9,-999,-999,9,-999,9,-999,-999,9,-999,-999,9,-999,-999,9,-999,1.0686,27.7925
49NZ20070724,   P01,17,1,4, X12928,9,20070729,1412,40.3877,147.384,5275,9.4,2,20.264,2,20.23326,2,34.33,2,-999,9,232.67,2,-999,9,-999,9,-999,-999,9,-999,-999,9,-999,-999,9,-999,-999,9,-999,9,-999,9,-999,9,-999,9,-999,9,-999,-999,9,-999,9,-999,-999,9,-999,-999,9,-999,-999,9,-999,20.2623,24.1816
49NZ20070724,   P01,17,1,3, X12931,9,20070729,1412,40.3877,147.384,5275,49.6,2,9.7374,2,9.74155,2,33.9592,2,-999,9,242.01,2,-999,9,-999,9,-999,-999,9,-999,-999,9,-999,-999,9,-999,-999,9,-999,9,-999,9,-999,9,-999,9,-999,9,-999,-999,9,-999,9,-999,-999,9,-999,-999,9,-999,-999,9,-999,9.7319,26.1842
49NZ20070724,   P01,17,1,2, X12930,9,20070729,1412,40.3877,147.384,5275,100.2,2,6.7008,2,6.7125,2,33.7784,2,-999,9,231.57,2,-999,9,-999,9,-999,-999,9,-999,-999,9,-999,-999,9,-999,-999,9,-999,9,-999,9,-999,9,-999,9,-999,9,-999,-999,9,-999,9,-999,-999,9,-999,-999,9,-999,-999,9,-999,6.6919,26.498
49NZ20070724,   P01,17,1,1, X12929,2,20070729,1412,40.3877,147.384,5275,5363.3,2,1.5439,2,1.54364,2,34.6915,2,34.6919,6,160.48,2,160.46,2,145.7,2,0.44,35.46,2,0.13,0.02,2,0.01,2.496,2,0.016,0.002,2,0.001,2,0,2,-999,9,-999,9,-999,9,-999,-999,9,-999,9,-999,-999,9,-999,-999,9,-999,-999,9,-999,1.0631,27.7933