BOTTLE,20081214JAMSTECIORGC,,,,,,,,,,,,,,,,,,,,,,,,,,,,,,,,,,,,,,,,,,,,,,,,,,,,,,,,,,,,,,,,,
EXPOCODE,SECT,STNNBR,CASTNO,SAMPNO,BTLNBR,BTLNBR_FLAG_W,DATE,TIME,LATITUDE,LONGITUDE,DEPTH,CTDPRS,CTDPRS_FLAG_W,CTDTMP,CTDTMP_FLAG_W,SBE35,SBE35_FLAG_W,CTDSAL,CTDSAL_FLAG_W,SALNTY,SALNTY_FLAG_W,CTDOXY,CTDOXY_FLAG_W,OXYGEN,OXYGEN_FLAG_W,SILCAT,SILCAT_FLAG_W,SILUNC,NITRAT,NITRAT_FLAG_W,NRAUNC,NITRIT,NITRIT_FLAG_W,NRIUNC,PHSPHT,PHSPHT_FLAG_W,PHPUNC,CFC-11,CFC-11_FLAG_W,CFC-12,CFC-12_FLAG_W,CFC113,CFC113_FLAG_W,CCL4,CCL4_FLAG_W,TCARBN,TCARBN_FLAG_W,ALKALI,ALKALI_FLAG_W,PH_TOT,PH_TMP,PH_FLAG_W,DELC13,DELC13_FLAG_W,C13ERR,DELC14,DELC14_FLAG_W,C14ERR,CS-137,CS-137_FLAG_W,CS137ER,PLUTO,PLUTO_FLAG_W,PLUTOER,THETA,SIG0
,,,,,,,,UTC,DEG,DEG,M,DBAR,,ITS-90,,ITS-90,,PSS-78,,PSS-78,,UMOL/KG,,UMOL/KG,,UMOL/KG,,UMOL/KG,UMOL/KG,,UMOL/KG,UMOL/KG,,UMOL/KG,UMOL/KG,,UMOL/KG,PMOL/KG,,PMOL/KG,,PMOL/KG,,PMOL/KG,,UMOL/KG,,UMOL/KG,,,ITS-90,,/MILLE,,/MILLE,/MILLE,,/MILLE,BQ/CUM,,BQ/CUM,MBQ/CUM,,MBQ/CUM,DEG C,KG/CUM
49NZ20070724,   P01,102,1,0,-999,9,20070826,2258,47.0212,-134.6172,4000,-999,9,-999,9,-999,9,-999,9,32.4497,2,-999,9,-999,9,-999,9,-999,-999,9,-999,-999,9,-999,-999,9,-999,-999,9,-999,9,-999,9,-999,9,-999,9,-999,9,-999,-999,9,-999,9,-999,-999,9,-999,-999,9,-999,-999,9,-999,-999,-999
49NZ20070724,   P01,102,1,36, X12042,2,20070826,2258,47.0212,-134.6172,4000,9.4,2,15.0992,2,15.09846,2,32.4437,2,32.4396,2,265.97,2,265.96,2,8.52,2,0.14,3.13,2,0.04,0.07,2,0.01,0.657,2,0.013,2.958,2,1.707,2,-999,5,4.895,4,-999,9,-999,9,-999,-999,9,-999,9,-999,-999,9,-999,-999,9,-999,-999,9,-999,15.0978,23.9808
49NZ20070724,   P01,102,1,35, X12041,2,20070826,2258,47.0212,-134.6172,4000,49.7,2,9.2227,2,9.22463,2,32.5538,2,32.5561,2,285.32,2,286.47,2,9.28,2,0.14,7.64,2,0.05,0.33,2,0.01,1.022,2,0.013,3.972,2,2.244,2,0.354,2,6.144,4,-999,9,-999,9,-999,-999,9,-999,9,-999,-999,9,-999,-999,9,-999,-999,9,-999,9.2174,25.169
49NZ20070724,   P01,102,1,34, X12036,2,20070826,2258,47.0212,-134.6172,4000,99.9,2,7.2749,2,7.27495,2,32.6493,2,32.6644,2,286.35,2,286.59,2,13.39,2,0.15,12.21,2,0.07,0.04,2,0.01,1.206,2,0.013,4.29,2,2.41,2,0.353,2,6.682,4,-999,9,-999,9,-999,-999,9,-999,9,-999,-999,9,-999,-999,9,-999,-999,9,-999,7.2658,25.5314
49NZ20070724,   P01,102,1,33, X12033,2,20070826,2258,47.0212,-134.6172,4000,148.3,2,7.0422,2,7.04225,2,33.4782,2,33.527,2,214.7,2,214.57,2,26.37,2,0.18,21.01,2,0.09,0.02,2,0.01,1.605,2,0.014,4.073,6,2.225,6,0.273,6,3.426,4,-999,9,-999,9,-999,-999,9,-999,9,-999,-999,9,-999,-999,9,-999,-999,9,-999,7.0287,26.2161
49NZ20070724,   P01,102,1,32, X12038,2,20070826,2258,47.0212,-134.6172,4000,199.4,2,6.8178,2,6.82684,2,33.8165,2,33.817,2,192.72,2,192.69,2,33.92,2,0.19,23.82,2,0.1,0.02,2,0.01,1.743,2,0.014,3.798,2,2.023,2,0.249,2,2.92,4,-999,9,-999,9,-999,-999,9,-999,9,-999,-999,9,-999,-999,9,-999,-999,9,-999,6.7998,26.5136
49NZ20070724,   P01,102,1,31, X12003,2,20070826,2258,47.0212,-134.6172,4000,249.7,2,6.0689,2,6.06832,2,33.8441,2,33.8433,6,165.26,2,165.97,2,44.33,2,0.22,27.81,2,0.11,0.01,2,0.01,2.013,2,0.015,3.486,2,1.786,2,0.238,2,2.851,4,-999,9,-999,9,-999,-999,9,-999,9,-999,-999,9,-999,-999,9,-999,-999,9,-999,6.0477,26.6333
49NZ20070724,   P01,102,1,30, X12008,2,20070826,2258,47.0212,-134.6172,4000,330.8,2,5.3441,2,5.34441,2,33.8844,2,33.8856,2,110.45,2,109.62,2,60.53,2,0.25,34.33,2,0.13,0.01,2,0.01,2.443,2,0.016,2.752,2,1.349,2,0.164,2,2.216,4,-999,9,-999,9,-999,-999,9,-999,9,-999,-999,9,-999,-999,9,-999,-999,9,-999,5.3176,26.754
49NZ20070724,   P01,102,1,29, X12035,2,20070826,2258,47.0212,-134.6172,4000,431.6,2,4.6291,2,4.62627,2,33.9478,2,33.9505,2,67.69,2,67.3,2,78.03,2,0.29,39.56,2,0.14,0.01,2,0.01,2.798,2,0.017,1.953,2,0.917,2,0.109,2,1.673,4,-999,9,-999,9,-999,-999,9,-999,9,-999,-999,9,-999,-999,9,-999,-999,9,-999,4.5966,26.8861
49NZ20070724,   P01,102,1,28, X12034,2,20070826,2258,47.0212,-134.6172,4000,530.8,2,4.2849,2,4.28495,2,34.0282,2,34.0296,6,45.67,2,45.72,2,90.31,2,0.32,41.71,2,0.15,0.01,2,0.01,2.958,2,0.017,1.303,2,0.606,2,0.078,2,1.301,4,-999,9,-999,9,-999,-999,9,-999,9,-999,-999,9,-999,-999,9,-999,-999,9,-999,4.2459,26.9876
49NZ20070724,   P01,102,1,27, X12049,2,20070826,2258,47.0212,-134.6172,4000,630.7,2,4.0005,2,4.00033,2,34.135,2,34.1371,2,26.54,2,26.77,2,103.87,2,0.35,43.26,2,0.15,0.01,2,0.01,3.069,2,0.018,0.607,2,0.283,2,0.033,2,0.793,4,-999,9,-999,9,-999,-999,9,-999,9,-999,-999,9,-999,-999,9,-999,-999,9,-999,3.9549,27.1027
49NZ20070724,   P01,102,1,26, X12032,2,20070826,2258,47.0212,-134.6172,4000,732.1,2,3.7762,2,3.77606,2,34.2006,2,34.2007,2,19.65,2,20.04,2,113.14,2,0.37,43.67,2,0.16,0.01,2,0.01,3.12,2,0.018,0.288,6,0.137,6,0.02,6,0.507,4,-999,9,-999,9,-999,-999,9,-999,9,-999,-999,9,-999,-999,9,-999,-999,9,-999,3.7239,27.1781
49NZ20070724,   P01,102,1,25, X12043,2,20070826,2258,47.0212,-134.6172,4000,830.8,2,3.5192,2,3.51932,2,34.2635,2,34.2661,2,13.02,2,13.13,2,123.23,2,0.39,44.4,2,0.16,0.01,2,0.01,3.172,2,0.018,0.099,2,0.049,2,0,2,0.225,4,-999,9,-999,9,-999,-999,9,-999,9,-999,-999,9,-999,-999,9,-999,-999,9,-999,3.4609,27.254
49NZ20070724,   P01,102,1,24, X12030,2,20070826,2258,47.0212,-134.6172,4000,930.7,2,3.3479,2,3.34795,2,34.3185,2,34.3195,2,9.39,2,9.33,2,129.77,2,0.4,44.6,2,0.16,0.01,2,0.01,3.188,2,0.018,0.032,2,0.017,2,0,2,0.066,4,-999,9,-999,9,-999,-999,9,-999,9,-999,-999,9,-999,-999,9,-999,-999,9,-999,3.283,27.3149
49NZ20070724,   P01,102,1,23, X12027,2,20070826,2258,47.0212,-134.6172,4000,1070.4,2,3.0618,2,3.06216,2,34.3895,2,34.3894,6,9.8,2,9.77,2,139.8,2,0.43,44.9,2,0.16,0.01,2,0.01,3.213,2,0.018,0.006,2,0.005,2,0,2,0.018,4,-999,9,-999,9,-999,-999,9,-999,9,-999,-999,9,-999,-999,9,-999,-999,9,-999,2.9882,27.3988
49NZ20070724,   P01,102,1,22, X12028,2,20070826,2258,47.0212,-134.6172,4000,1271.4,2,2.7378,2,2.73816,2,34.4469,2,34.4464,2,13.26,2,13.1,2,149.77,2,0.45,44.86,2,0.16,0.01,2,0.01,3.185,2,0.018,0.004,2,0.001,2,0,2,0,4,-999,9,-999,9,-999,-999,9,-999,9,-999,-999,9,-999,-999,9,-999,-999,9,-999,2.6515,27.4746
49NZ20070724,   P01,102,1,21, X12009,2,20070826,2258,47.0212,-134.6172,4000,1469.6,2,2.4336,2,2.43348,2,34.4937,2,34.4942,2,21.56,2,21.52,2,158.56,2,0.47,44.57,2,0.16,0.01,2,0.01,3.15,2,0.018,0,2,0,2,0,2,0.023,4,-999,9,-999,9,-999,-999,9,-999,9,-999,-999,9,-999,-999,9,-999,-999,9,-999,2.3349,27.539
49NZ20070724,   P01,102,1,20, X12026,2,20070826,2258,47.0212,-134.6172,4000,1669.6,2,2.2145,2,2.21459,2,34.5355,2,34.5354,2,34.21,2,34.2,2,163.9,2,0.48,43.85,2,0.16,0.01,2,0.01,3.098,2,0.018,0,2,0,2,0,2,0.024,4,-999,9,-999,9,-999,-999,9,-999,9,-999,-999,9,-999,-999,9,-999,-999,9,-999,2.1025,27.5913
49NZ20070724,   P01,102,1,19, X12025,2,20070826,2258,47.0212,-134.6172,4000,1869.3,2,2.0471,2,2.04715,2,34.5699,2,34.5697,2,47.72,2,47.5,2,167.99,2,0.49,43.02,2,0.15,0.01,2,0.01,3.032,2,0.018,0,2,0.001,2,0,2,0.007,4,-999,9,-999,9,-999,-999,9,-999,9,-999,-999,9,-999,-999,9,-999,-999,9,-999,1.921,27.6333
49NZ20070724,   P01,102,1,18, X12024,2,20070826,2258,47.0212,-134.6172,4000,2070.4,2,1.918,2,1.91791,2,34.5965,2,34.5963,6,60.01,2,59.96,2,170.45,2,0.49,42.19,2,0.15,0.01,2,0.01,2.975,2,0.017,0,2,0,2,0,2,0.01,4,-999,9,-999,9,-999,-999,9,-999,9,-999,-999,9,-999,-999,9,-999,-999,9,-999,1.777,27.6657
49NZ20070724,   P01,102,1,17, X12023,2,20070826,2258,47.0212,-134.6172,4000,2270.2,2,1.8353,2,1.83525,2,34.6148,2,34.6146,2,69.91,2,70.02,2,172.13,2,0.5,41.53,2,0.15,0.01,2,0.01,2.94,2,0.017,0,2,0,2,0,2,0,4,-999,9,-999,9,-999,-999,9,-999,9,-999,-999,9,-999,-999,9,-999,-999,9,-999,1.6786,27.6878
49NZ20070724,   P01,102,1,16, X12022,2,20070826,2258,47.0212,-134.6172,4000,2470.4,2,1.7583,2,1.7583,2,34.6282,2,34.6281,2,79.83,2,80.01,2,172.65,2,0.5,41.03,2,0.15,0.01,2,0.01,2.892,2,0.017,-999,9,-999,9,-999,9,-999,9,-999,9,-999,9,-999,-999,9,-999,9,-999,-999,9,-999,-999,9,-999,-999,9,-999,1.5853,27.7055
49NZ20070724,   P01,102,1,15, X12021,2,20070826,2258,47.0212,-134.6172,4000,2670.3,2,1.695,2,1.69508,2,34.6386,2,34.6387,2,89.02,2,89.14,2,172.34,2,0.5,40.5,2,0.15,0.01,2,0.01,2.85,2,0.017,0.002,2,0,2,0,2,0.001,4,-999,9,-999,9,-999,-999,9,-999,9,-999,-999,9,-999,-999,9,-999,-999,9,-999,1.5051,27.7198
49NZ20070724,   P01,102,1,14, X12020,2,20070826,2258,47.0212,-134.6172,4000,2869.8,2,1.6342,2,1.63417,2,34.6483,2,34.6483,2,98.14,2,98.5,2,171.31,2,0.5,39.93,2,0.14,0.01,2,0.01,2.805,2,0.017,-999,9,-999,9,-999,9,-999,9,-999,9,-999,9,-999,-999,9,-999,9,-999,-999,9,-999,-999,9,-999,-999,9,-999,1.427,27.7332
49NZ20070724,   P01,102,1,13, X12019,2,20070826,2258,47.0212,-134.6172,4000,3080.5,2,1.5892,2,1.58925,2,34.6564,2,34.6564,6,107.06,2,107.26,2,170.27,2,0.49,39.36,2,0.14,0.01,2,0.01,2.758,2,0.017,-999,9,-999,9,-999,9,-999,9,-999,9,-999,9,-999,-999,9,-999,9,-999,-999,9,-999,-999,9,-999,-999,9,-999,1.3628,27.7443
49NZ20070724,   P01,102,1,12, X12040,2,20070826,2258,47.0212,-134.6172,4000,3330.4,2,1.5525,2,1.55256,2,34.6646,2,34.6643,2,116.14,2,116.4,2,169.44,2,0.49,38.07,2,0.14,0.01,2,0.01,2.661,2,0.017,0,2,0,2,0,2,0,4,-999,9,-999,9,-999,-999,9,-999,9,-999,-999,9,-999,-999,9,-999,-999,9,-999,1.3023,27.7552
49NZ20070724,   P01,102,1,11, X12047,2,20070826,2258,47.0212,-134.6172,4000,3580.7,2,1.5344,2,1.53439,2,34.6711,2,34.6711,2,122.94,2,123.23,2,169.37,2,0.49,38.61,2,0.14,0.01,2,0.01,2.699,2,0.017,-999,9,-999,9,-999,9,-999,9,-999,9,-999,9,-999,-999,9,-999,9,-999,-999,9,-999,-999,9,-999,-999,9,-999,1.2592,27.7634
49NZ20070724,   P01,102,1,10, X12010,2,20070826,2258,47.0212,-134.6172,4000,3830.5,2,1.5368,2,1.53676,2,34.675,2,34.675,2,126.69,2,126.96,2,171.06,2,0.5,37.97,2,0.14,0.01,2,0.01,2.657,2,0.017,-999,9,-999,9,-999,9,-999,9,-999,9,-999,9,-999,-999,9,-999,9,-999,-999,9,-999,-999,9,-999,-999,9,-999,1.2352,27.7682
49NZ20070724,   P01,102,1,9, X12015,9,20070826,2258,47.0212,-134.6172,4000,9.4,2,15.0635,2,15.0631,2,32.4385,2,-999,9,265.93,2,-999,9,-999,9,-999,-999,9,-999,-999,9,-999,-999,9,-999,-999,9,-999,9,-999,9,-999,9,-999,9,-999,9,-999,-999,9,-999,9,-999,-999,9,-999,-999,9,-999,-999,9,-999,15.0621,23.9845
49NZ20070724,   P01,102,1,8, X12046,9,20070826,2258,47.0212,-134.6172,4000,1469.4,2,2.4327,2,2.43234,2,34.4938,2,-999,9,21.81,2,-999,9,-999,9,-999,-999,9,-999,-999,9,-999,-999,9,-999,-999,9,-999,9,-999,9,-999,9,-999,9,-999,9,-999,-999,9,-999,9,-999,-999,9,-999,-999,9,-999,-999,9,-999,2.334,27.5391
49NZ20070724,   P01,102,1,7, X12044,9,20070826,2258,47.0212,-134.6172,4000,1669.5,2,2.2148,2,2.21481,2,34.5353,2,-999,9,34.61,2,-999,9,-999,9,-999,-999,9,-999,-999,9,-999,-999,9,-999,-999,9,-999,9,-999,9,-999,9,-999,9,-999,9,-999,-999,9,-999,9,-999,-999,9,-999,-999,9,-999,-999,9,-999,2.1028,27.5912
49NZ20070724,   P01,102,1,6, X12048,9,20070826,2258,47.0212,-134.6172,4000,1869.1,2,2.0475,2,2.04754,2,34.5698,2,-999,9,48.2,2,-999,9,-999,9,-999,-999,9,-999,-999,9,-999,-999,9,-999,-999,9,-999,9,-999,9,-999,9,-999,9,-999,9,-999,-999,9,-999,9,-999,-999,9,-999,-999,9,-999,-999,9,-999,1.9214,27.6332
49NZ20070724,   P01,102,1,5, X12014,9,20070826,2258,47.0212,-134.6172,4000,2070.6,2,1.918,2,1.9181,2,34.5965,2,-999,9,60.25,2,-999,9,-999,9,-999,-999,9,-999,-999,9,-999,-999,9,-999,-999,9,-999,9,-999,9,-999,9,-999,9,-999,9,-999,-999,9,-999,9,-999,-999,9,-999,-999,9,-999,-999,9,-999,1.777,27.6657
49NZ20070724,   P01,102,1,4, X12928,9,20070826,2258,47.0212,-134.6172,4000,2269.8,2,1.8355,2,1.83566,2,34.6148,2,-999,9,70.18,2,-999,9,-999,9,-999,-999,9,-999,-999,9,-999,-999,9,-999,-999,9,-999,9,-999,9,-999,9,-999,9,-999,9,-999,-999,9,-999,9,-999,-999,9,-999,-999,9,-999,-999,9,-999,1.6788,27.6878
49NZ20070724,   P01,102,1,3, X12931,9,20070826,2258,47.0212,-134.6172,4000,2469.9,2,1.7587,2,1.75886,2,34.6281,2,-999,9,80.09,2,-999,9,-999,9,-999,-999,9,-999,-999,9,-999,-999,9,-999,-999,9,-999,9,-999,9,-999,9,-999,9,-999,9,-999,-999,9,-999,9,-999,-999,9,-999,-999,9,-999,-999,9,-999,1.5857,27.7054
49NZ20070724,   P01,102,1,2, X12930,9,20070826,2258,47.0212,-134.6172,4000,2670.8,2,1.6951,2,1.69513,2,34.6386,2,-999,9,89.23,2,-999,9,-999,9,-999,-999,9,-999,-999,9,-999,-999,9,-999,-999,9,-999,9,-999,9,-999,9,-999,9,-999,9,-999,-999,9,-999,9,-999,-999,9,-999,-999,9,-999,-999,9,-999,1.5051,27.7198
49NZ20070724,   P01,102,1,1, X12929,2,20070826,2258,47.0212,-134.6172,4000,4054.5,2,1.5441,2,1.54395,2,34.678,2,34.678,6,128.57,2,128.77,2,174.78,2,0.5,38.07,2,0.14,0.01,2,0.01,2.659,2,0.017,0,2,0,2,0,2,0,4,-999,9,-999,9,-999,-999,9,-999,9,-999,-999,9,-999,-999,9,-999,-999,9,-999,1.218,27.7718