BOTTLE,20081214JAMSTECIORGC,,,,,,,,,,,,,,,,,,,,,,,,,,,,,,,,,,,,,,,,,,,,,,,,,,,,,,,,,,,,,,,,,
EXPOCODE,SECT,STNNBR,CASTNO,SAMPNO,BTLNBR,BTLNBR_FLAG_W,DATE,TIME,LATITUDE,LONGITUDE,DEPTH,CTDPRS,CTDPRS_FLAG_W,CTDTMP,CTDTMP_FLAG_W,SBE35,SBE35_FLAG_W,CTDSAL,CTDSAL_FLAG_W,SALNTY,SALNTY_FLAG_W,CTDOXY,CTDOXY_FLAG_W,OXYGEN,OXYGEN_FLAG_W,SILCAT,SILCAT_FLAG_W,SILUNC,NITRAT,NITRAT_FLAG_W,NRAUNC,NITRIT,NITRIT_FLAG_W,NRIUNC,PHSPHT,PHSPHT_FLAG_W,PHPUNC,CFC-11,CFC-11_FLAG_W,CFC-12,CFC-12_FLAG_W,CFC113,CFC113_FLAG_W,CCL4,CCL4_FLAG_W,TCARBN,TCARBN_FLAG_W,ALKALI,ALKALI_FLAG_W,PH_TOT,PH_TMP,PH_FLAG_W,DELC13,DELC13_FLAG_W,C13ERR,DELC14,DELC14_FLAG_W,C14ERR,CS-137,CS-137_FLAG_W,CS137ER,PLUTO,PLUTO_FLAG_W,PLUTOER,THETA,SIG0
,,,,,,,,UTC,DEG,DEG,M,DBAR,,ITS-90,,ITS-90,,PSS-78,,PSS-78,,UMOL/KG,,UMOL/KG,,UMOL/KG,,UMOL/KG,UMOL/KG,,UMOL/KG,UMOL/KG,,UMOL/KG,UMOL/KG,,UMOL/KG,PMOL/KG,,PMOL/KG,,PMOL/KG,,PMOL/KG,,UMOL/KG,,UMOL/KG,,,ITS-90,,/MILLE,,/MILLE,/MILLE,,/MILLE,BQ/CUM,,BQ/CUM,MBQ/CUM,,MBQ/CUM,DEG C,KG/CUM
49NZ20070724,   P01,15,1,0,-999,9,20070729,354,40.865,147.0647,4714,-999,9,-999,9,-999,9,-999,9,32.856,2,-999,9,-999,9,-999,9,-999,-999,9,-999,-999,9,-999,-999,9,-999,-999,9,-999,9,-999,9,-999,9,-999,9,-999,9,-999,-999,9,-999,9,-999,-999,9,-999,-999,9,-999,-999,9,-999,-999,-999
49NZ20070724,   P01,15,1,36, X12042,2,20070729,354,40.865,147.0647,4714,10.2,2,14.6262,2,14.62522,2,32.7968,2,32.8192,2,284.01,2,283.92,2,5.72,2,0.13,5.13,2,0.05,0.12,2,0.01,0.786,2,0.013,3.193,2,1.804,2,0.278,2,-999,9,-999,9,-999,9,-999,-999,9,-999,9,-999,-999,9,-999,-999,9,-999,-999,9,-999,14.6247,24.3542
49NZ20070724,   P01,15,1,35, X12041,2,20070729,354,40.865,147.0647,4714,49.6,2,4.9304,2,4.89539,2,33.3044,2,33.2512,2,289.05,2,301.62,2,30.14,2,0.19,18.81,2,0.09,0.3,2,0.01,1.628,2,0.014,4.674,2,2.558,2,0.319,2,-999,9,-999,9,-999,9,-999,-999,9,-999,9,-999,-999,9,-999,-999,9,-999,-999,9,-999,4.9267,26.3393
49NZ20070724,   P01,15,1,34, X12036,2,20070729,354,40.865,147.0647,4714,100.3,2,1.5906,2,1.59159,2,33.1877,2,33.1973,2,277.67,2,282.08,2,51.55,2,0.23,28.09,2,0.11,0.04,2,0.01,2.199,2,0.016,-999,5,-999,5,-999,5,-999,9,-999,9,-999,9,-999,-999,9,-999,9,-999,-999,9,-999,-999,9,-999,-999,9,-999,1.5859,26.5498
49NZ20070724,   P01,15,1,33, X12033,2,20070729,354,40.865,147.0647,4714,150,2,1.7992,2,1.79902,2,33.3561,2,33.3625,2,227.81,2,231.57,2,63.75,2,0.26,30.05,2,0.12,0.03,2,0.01,2.348,2,0.016,4.313,6,2.307,6,0.282,6,-999,9,-999,9,-999,9,-999,-999,9,-999,9,-999,-999,9,-999,-999,9,-999,-999,9,-999,1.7918,26.6701
49NZ20070724,   P01,15,1,32, X12038,2,20070729,354,40.865,147.0647,4714,199.4,2,1.9243,2,1.92436,2,33.4805,2,33.4827,2,194.84,2,198.12,2,74.38,2,0.28,32.45,2,0.12,0.04,2,0.01,2.514,2,0.016,3.865,2,2.056,2,0.262,2,-999,9,-999,9,-999,9,-999,-999,9,-999,9,-999,-999,9,-999,-999,9,-999,-999,9,-999,1.9141,26.7608
49NZ20070724,   P01,15,1,31, X12003,2,20070729,354,40.865,147.0647,4714,249.8,2,2.1655,2,2.16674,2,33.5646,2,33.5772,6,168.5,2,168.12,2,80.44,2,0.3,34.87,2,0.13,0.03,2,0.01,2.64,2,0.017,3.466,2,1.827,2,0.225,2,-999,9,-999,9,-999,9,-999,-999,9,-999,9,-999,-999,9,-999,-999,9,-999,-999,9,-999,2.1521,26.81
49NZ20070724,   P01,15,1,30, X12008,2,20070729,354,40.865,147.0647,4714,279.8,2,2.6054,2,2.60474,2,33.6708,2,33.6846,2,128.55,2,127.83,2,86.36,2,0.31,37.96,2,0.14,0.03,2,0.01,2.814,2,0.017,2.944,2,1.543,2,0.204,2,-999,9,-999,9,-999,9,-999,-999,9,-999,9,-999,-999,9,-999,-999,9,-999,-999,9,-999,2.5893,26.8596
49NZ20070724,   P01,15,1,29, X12035,2,20070729,354,40.865,147.0647,4714,369.2,2,2.76,2,2.75947,2,33.8307,2,33.8369,2,96.95,2,96.77,2,97.64,2,0.33,39.5,2,0.14,0.02,2,0.01,2.908,2,0.017,2.312,2,1.2,2,0.142,2,-999,9,-999,9,-999,9,-999,-999,9,-999,9,-999,-999,9,-999,-999,9,-999,-999,9,-999,2.7379,26.9747
49NZ20070724,   P01,15,1,28, X12034,2,20070729,354,40.865,147.0647,4714,470.3,2,3.1739,2,3.17382,2,34.0211,2,34.0251,6,54.18,2,53.24,2,110.63,2,0.36,42.01,2,0.15,0.02,2,0.01,3.049,2,0.018,1.439,2,0.731,2,0.103,2,-999,9,-999,9,-999,9,-999,-999,9,-999,9,-999,-999,9,-999,-999,9,-999,-999,9,-999,3.1437,27.0906
49NZ20070724,   P01,15,1,27, X12049,2,20070729,354,40.865,147.0647,4714,571.6,2,3.0004,2,3.00036,2,34.1327,2,34.1337,2,40.21,2,40.12,2,123.35,2,0.39,42.82,2,0.15,0.02,2,0.01,3.103,2,0.018,0.994,2,0.504,2,0.083,2,-999,9,-999,9,-999,9,-999,-999,9,-999,9,-999,-999,9,-999,-999,9,-999,-999,9,-999,2.9639,27.1959
49NZ20070724,   P01,15,1,26, X12032,2,20070729,354,40.865,147.0647,4714,671.5,2,2.871,2,2.87079,2,34.2086,2,34.2155,2,37.41,2,37.31,2,131.23,2,0.41,42.78,2,0.15,0.02,2,0.01,3.103,2,0.018,0.734,6,0.372,6,0.055,6,-999,9,-999,9,-999,9,-999,-999,9,-999,9,-999,-999,9,-999,-999,9,-999,-999,9,-999,2.8282,27.2687
49NZ20070724,   P01,15,1,25, X12043,2,20070729,354,40.865,147.0647,4714,770.2,2,3.0007,2,3.00076,2,34.3146,2,34.3185,2,36.99,2,37.23,2,134.41,2,0.41,42.54,2,0.15,0.02,2,0.01,3.077,2,0.018,0.393,2,0.198,2,0.032,2,-999,9,-999,9,-999,9,-999,-999,9,-999,9,-999,-999,9,-999,-999,9,-999,-999,9,-999,2.95,27.3425
49NZ20070724,   P01,15,1,24, X12030,2,20070729,354,40.865,147.0647,4714,869,2,2.9036,2,2.90341,2,34.3696,2,34.3691,2,37.53,2,37.59,2,139.41,2,0.43,42.52,2,0.15,0.02,2,0.01,3.071,2,0.018,0.267,2,0.134,2,0.023,2,-999,9,-999,9,-999,9,-999,-999,9,-999,9,-999,-999,9,-999,-999,9,-999,-999,9,-999,2.8464,27.3957
49NZ20070724,   P01,15,1,23, X12027,2,20070729,354,40.865,147.0647,4714,970.6,2,2.7279,2,2.72776,2,34.3994,2,34.3996,6,37.24,2,37.41,2,144.56,2,0.44,42.8,2,0.15,0.01,2,0.01,3.085,2,0.018,0.213,2,0.107,2,0.028,2,-999,9,-999,9,-999,9,-999,-999,9,-999,9,-999,-999,9,-999,-999,9,-999,-999,9,-999,2.6645,27.4355
49NZ20070724,   P01,15,1,22, X12028,2,20070729,354,40.865,147.0647,4714,1131.7,2,2.5563,2,2.55626,2,34.4519,2,34.4519,2,39.8,2,40.17,2,149.58,2,0.45,42.75,2,0.15,0.02,2,0.01,3.076,2,0.018,0.119,2,0.057,2,0.009,2,-999,9,-999,9,-999,9,-999,-999,9,-999,9,-999,-999,9,-999,-999,9,-999,-999,9,-999,2.4823,27.4931
49NZ20070724,   P01,15,1,21, X12009,2,20070729,354,40.865,147.0647,4714,1331.4,2,2.3389,2,2.33885,2,34.5067,2,34.5068,2,46.07,2,46.2,2,155.16,2,0.46,42.63,2,0.15,0.01,2,0.01,3.054,2,0.018,0.048,2,0.024,2,0.012,2,-999,9,-999,9,-999,9,-999,-999,9,-999,9,-999,-999,9,-999,-999,9,-999,-999,9,-999,2.2519,27.5562
49NZ20070724,   P01,15,1,20, X12026,2,20070729,354,40.865,147.0647,4714,1532.2,2,2.1883,2,2.18818,2,34.5431,2,34.5428,2,54.67,2,54.69,2,157.64,2,0.47,42.25,2,0.15,0.02,2,0.01,3.014,2,0.017,0.019,2,0.01,2,0,2,-999,9,-999,9,-999,9,-999,-999,9,-999,9,-999,-999,9,-999,-999,9,-999,-999,9,-999,2.0874,27.5987
49NZ20070724,   P01,15,1,19, X12025,2,20070729,354,40.865,147.0647,4714,1728.7,2,2.0419,2,2.04178,2,34.5733,2,34.5736,2,65.25,2,65.21,2,159.3,2,0.47,41.63,2,0.15,0.01,2,0.01,2.962,2,0.017,0.002,2,0.002,2,0,2,-999,9,-999,9,-999,9,-999,-999,9,-999,9,-999,-999,9,-999,-999,9,-999,-999,9,-999,1.9273,27.6355
49NZ20070724,   P01,15,1,18, X12024,2,20070729,354,40.865,147.0647,4714,1929.8,2,1.9189,2,1.91881,2,34.5993,2,34.5997,2,79.51,2,78.79,2,158.31,2,0.47,40.82,2,0.15,0.02,2,0.01,2.892,2,0.017,0,2,0,2,0,2,-999,9,-999,9,-999,9,-999,-999,9,-999,9,-999,-999,9,-999,-999,9,-999,-999,9,-999,1.7896,27.667
49NZ20070724,   P01,15,1,17, X12023,2,20070729,354,40.865,147.0647,4714,2130.8,2,1.8167,2,1.81667,2,34.6166,2,34.617,2,89.02,2,88.38,2,159.01,2,0.47,40.27,2,0.15,0.01,2,0.01,2.852,2,0.017,0,2,0,2,0,2,-999,9,-999,9,-999,9,-999,-999,9,-999,9,-999,-999,9,-999,-999,9,-999,-999,9,-999,1.6722,27.6897
49NZ20070724,   P01,15,1,16, X12022,2,20070729,354,40.865,147.0647,4714,2330.6,2,1.7229,2,1.72288,2,34.6323,2,34.6327,6,99.78,2,99.41,2,158.22,2,0.47,39.62,2,0.14,0.02,2,0.01,2.798,2,0.017,0,2,0,2,0,2,-999,9,-999,9,-999,9,-999,-999,9,-999,9,-999,-999,9,-999,-999,9,-999,-999,9,-999,1.5628,27.7105
49NZ20070724,   P01,15,1,15, X12021,2,20070729,354,40.865,147.0647,4714,2530.9,2,1.6514,2,1.65139,2,34.6447,2,34.644,2,109.6,2,109.13,2,156.86,2,0.46,38.89,2,0.14,0.02,2,0.01,2.748,2,0.017,0,2,0,2,0,2,-999,9,-999,9,-999,9,-999,-999,9,-999,9,-999,-999,9,-999,-999,9,-999,-999,9,-999,1.4749,27.7269
49NZ20070724,   P01,15,1,14, X12020,2,20070729,354,40.865,147.0647,4714,2729.5,2,1.5976,2,1.59753,2,34.654,2,34.6543,2,118.27,2,117.86,2,155.47,2,0.46,38.43,2,0.14,0.02,2,0.01,2.706,2,0.017,-999,9,-999,9,-999,9,-999,9,-999,9,-999,9,-999,-999,9,-999,9,-999,-999,9,-999,-999,9,-999,-999,9,-999,1.4041,27.7394
49NZ20070724,   P01,15,1,13, X12019,2,20070729,354,40.865,147.0647,4714,2931.1,2,1.5585,2,1.55839,2,34.661,2,34.6613,2,124.92,2,124.47,2,154.21,2,0.46,38,2,0.14,0.01,2,0.01,2.675,2,0.017,-999,9,-999,9,-999,9,-999,9,-999,9,-999,9,-999,-999,9,-999,9,-999,-999,9,-999,-999,9,-999,-999,9,-999,1.347,27.7491
49NZ20070724,   P01,15,1,12, X12040,2,20070729,354,40.865,147.0647,4714,3170,2,1.5187,2,1.51862,2,34.6683,2,34.6687,2,132.51,2,132.31,2,152.11,2,0.45,37.35,2,0.14,0.02,2,0.01,2.626,2,0.017,0.001,2,0,2,0,2,-999,9,-999,9,-999,9,-999,-999,9,-999,9,-999,-999,9,-999,-999,9,-999,-999,9,-999,1.2851,27.7594
49NZ20070724,   P01,15,1,11, X12047,2,20070729,354,40.865,147.0647,4714,3419.7,2,1.4863,2,1.48623,2,34.6745,2,34.6749,2,138.94,2,138.87,2,150.79,2,0.45,36.96,2,0.14,0.02,2,0.01,2.601,2,0.016,-999,9,-999,9,-999,9,-999,9,-999,9,-999,9,-999,-999,9,-999,9,-999,-999,9,-999,-999,9,-999,-999,9,-999,1.2287,27.7682
49NZ20070724,   P01,15,1,10, X12010,2,20070729,354,40.865,147.0647,4714,3671.1,2,1.4687,2,1.46868,2,34.6792,2,34.6792,2,144.28,2,144.41,2,148.97,2,0.45,36.54,2,0.14,0.01,2,0.01,2.571,2,0.016,-999,9,-999,9,-999,9,-999,9,-999,9,-999,9,-999,-999,9,-999,9,-999,-999,9,-999,-999,9,-999,-999,9,-999,1.1857,27.775
49NZ20070724,   P01,15,1,9, X12015,2,20070729,354,40.865,147.0647,4714,3918.7,2,1.4594,2,1.4593,2,34.6827,2,34.683,6,148.82,2,149,2,148.1,2,0.44,36.3,2,0.13,0.01,2,0.01,2.55,2,0.016,0.007,2,0.002,2,0,2,-999,9,-999,9,-999,9,-999,-999,9,-999,9,-999,-999,9,-999,-999,9,-999,-999,9,-999,1.1504,27.7802
49NZ20070724,   P01,15,1,8, X12046,2,20070729,354,40.865,147.0647,4714,4171.6,2,1.4566,2,1.45645,2,34.6856,2,34.6863,2,152.81,2,153.07,2,146.87,2,0.44,36.02,2,0.13,0.01,2,0.01,2.529,2,0.016,-999,9,-999,9,-999,9,-999,9,-999,9,-999,9,-999,-999,9,-999,9,-999,-999,9,-999,-999,9,-999,-999,9,-999,1.1201,27.7847
49NZ20070724,   P01,15,1,7, X12044,2,20070729,354,40.865,147.0647,4714,4419.5,2,1.4601,2,1.45999,2,34.6882,2,34.6885,2,155.99,2,156.2,2,146.29,2,0.44,35.84,2,0.13,0.01,2,0.01,2.512,2,0.016,-999,9,-999,9,-999,9,-999,9,-999,9,-999,9,-999,-999,9,-999,9,-999,-999,9,-999,-999,9,-999,-999,9,-999,1.0956,27.7884
49NZ20070724,   P01,15,1,6, X12048,2,20070729,354,40.865,147.0647,4714,4669.8,2,1.4773,2,1.47713,2,34.6894,2,34.6896,2,157.53,2,157.71,2,146.38,2,0.44,35.67,2,0.13,0.01,2,0.01,2.504,2,0.016,0.003,2,0.001,2,0,2,-999,9,-999,9,-999,9,-999,-999,9,-999,9,-999,-999,9,-999,-999,9,-999,-999,9,-999,1.0833,27.7902
49NZ20070724,   P01,15,1,5, X12017,2,20070729,354,40.865,147.0647,4714,4920.2,2,1.4986,2,1.49835,2,34.6904,2,34.6899,2,159.03,2,159.15,2,145.72,2,0.44,35.55,2,0.13,0.02,2,0.01,2.497,2,0.016,-999,9,-999,9,-999,9,-999,9,-999,9,-999,9,-999,-999,9,-999,9,-999,-999,9,-999,-999,9,-999,-999,9,-999,1.0741,27.7916
49NZ20070724,   P01,15,1,4, X12928,9,20070729,354,40.865,147.0647,4714,10.1,2,14.1997,2,14.20708,2,32.8014,2,-999,9,287.74,2,-999,9,-999,9,-999,-999,9,-999,-999,9,-999,-999,9,-999,-999,9,-999,9,-999,9,-999,9,-999,9,-999,9,-999,-999,9,-999,9,-999,-999,9,-999,-999,9,-999,-999,9,-999,14.1983,24.4474
49NZ20070724,   P01,15,1,3, X12931,9,20070729,354,40.865,147.0647,4714,49.6,2,4.8776,2,4.87354,2,33.2949,2,-999,9,288.28,2,-999,9,-999,9,-999,-999,9,-999,-999,9,-999,-999,9,-999,-999,9,-999,9,-999,9,-999,9,-999,9,-999,9,-999,-999,9,-999,9,-999,-999,9,-999,-999,9,-999,-999,9,-999,4.874,26.3376
49NZ20070724,   P01,15,1,2, X12930,9,20070729,354,40.865,147.0647,4714,100.2,2,1.5832,2,1.58285,2,33.1871,2,-999,9,277.71,2,-999,9,-999,9,-999,-999,9,-999,-999,9,-999,-999,9,-999,-999,9,-999,9,-999,9,-999,9,-999,9,-999,9,-999,-999,9,-999,9,-999,-999,9,-999,-999,9,-999,-999,9,-999,1.5785,26.5498
49NZ20070724,   P01,15,1,1, X12929,2,20070729,354,40.865,147.0647,4714,4959,2,1.5029,2,1.50276,2,34.6905,2,34.691,6,159.27,2,159.23,2,145.92,2,0.44,35.62,2,0.13,0.02,2,0.01,2.499,2,0.016,0.001,2,0.001,2,0,2,-999,9,-999,9,-999,9,-999,-999,9,-999,9,-999,-999,9,-999,-999,9,-999,-999,9,-999,1.0735,27.7917