BOTTLE,20081214JAMSTECIORGC,,,,,,,,,,,,,,,,,,,,,,,,,,,,,,,,,,,,,,,,,,,,,,,,,,,,,,,,,,,,,,,,,
EXPOCODE,SECT,STNNBR,CASTNO,SAMPNO,BTLNBR,BTLNBR_FLAG_W,DATE,TIME,LATITUDE,LONGITUDE,DEPTH,CTDPRS,CTDPRS_FLAG_W,CTDTMP,CTDTMP_FLAG_W,SBE35,SBE35_FLAG_W,CTDSAL,CTDSAL_FLAG_W,SALNTY,SALNTY_FLAG_W,CTDOXY,CTDOXY_FLAG_W,OXYGEN,OXYGEN_FLAG_W,SILCAT,SILCAT_FLAG_W,SILUNC,NITRAT,NITRAT_FLAG_W,NRAUNC,NITRIT,NITRIT_FLAG_W,NRIUNC,PHSPHT,PHSPHT_FLAG_W,PHPUNC,CFC-11,CFC-11_FLAG_W,CFC-12,CFC-12_FLAG_W,CFC113,CFC113_FLAG_W,CCL4,CCL4_FLAG_W,TCARBN,TCARBN_FLAG_W,ALKALI,ALKALI_FLAG_W,PH_TOT,PH_TMP,PH_FLAG_W,DELC13,DELC13_FLAG_W,C13ERR,DELC14,DELC14_FLAG_W,C14ERR,CS-137,CS-137_FLAG_W,CS137ER,PLUTO,PLUTO_FLAG_W,PLUTOER,THETA,SIG0
,,,,,,,,UTC,DEG,DEG,M,DBAR,,ITS-90,,ITS-90,,PSS-78,,PSS-78,,UMOL/KG,,UMOL/KG,,UMOL/KG,,UMOL/KG,UMOL/KG,,UMOL/KG,UMOL/KG,,UMOL/KG,UMOL/KG,,UMOL/KG,PMOL/KG,,PMOL/KG,,PMOL/KG,,PMOL/KG,,UMOL/KG,,UMOL/KG,,,ITS-90,,/MILLE,,/MILLE,/MILLE,,/MILLE,BQ/CUM,,BQ/CUM,MBQ/CUM,,MBQ/CUM,DEG C,KG/CUM
49NZ20070724,   P01,98,1,0,-999,9,20070825,2223,46.9952,-139.0657,4229,-999,9,-999,9,-999,9,-999,9,32.424,2,-999,9,-999,9,-999,9,-999,-999,9,-999,-999,9,-999,-999,9,-999,-999,9,-999,9,-999,9,-999,9,-999,9,-999,9,-999,-999,9,-999,9,-999,-999,9,-999,-999,9,-999,-999,9,-999,-999,-999
49NZ20070724,   P01,98,1,36, X12042,2,20070825,2223,46.9952,-139.0657,4229,9.8,2,14.0508,2,14.04777,2,32.4249,2,32.4189,2,271.97,2,271.11,2,2.55,2,0.12,4.72,2,0.05,0.08,2,0.01,0.746,2,0.013,3.162,2,1.78,2,0.288,2,-999,9,-999,9,-999,9,-999,-999,9,-999,9,-999,-999,9,-999,-999,9,-999,-999,9,-999,14.0494,24.1876
49NZ20070724,   P01,98,1,35, X12041,2,20070825,2223,46.9952,-139.0657,4229,50.1,2,8.8077,2,8.80797,2,32.5769,2,32.5815,2,299.6,2,298.25,2,11.68,2,0.14,9.28,2,0.06,0.11,2,0.01,1.082,2,0.013,4.104,2,2.284,2,0.353,2,-999,9,-999,9,-999,9,-999,-999,9,-999,9,-999,-999,9,-999,-999,9,-999,-999,9,-999,8.8026,25.2517
49NZ20070724,   P01,98,1,34, X12036,2,20070825,2223,46.9952,-139.0657,4229,100.4,2,6.7113,2,6.71135,2,32.6864,2,32.7651,2,293.7,2,288.6,2,15.42,2,0.15,12.66,2,0.07,0.71,2,0,1.245,2,0.013,4.426,2,2.464,2,0.353,2,-999,9,-999,9,-999,9,-999,-999,9,-999,9,-999,-999,9,-999,-999,9,-999,-999,9,-999,6.7026,25.6359
49NZ20070724,   P01,98,1,33, X12033,2,20070825,2223,46.9952,-139.0657,4229,150.6,2,6.9499,2,6.95017,2,33.6767,2,33.6928,2,222.05,2,222.36,2,27.8,2,0.18,20.64,2,0.09,0.01,2,0.01,1.535,2,0.014,4.092,6,2.225,6,0.273,6,-999,9,-999,9,-999,9,-999,-999,9,-999,9,-999,-999,9,-999,-999,9,-999,-999,9,-999,6.9362,26.3851
49NZ20070724,   P01,98,1,32, X12038,2,20070825,2223,46.9952,-139.0657,4229,200.1,2,6.5164,2,6.5177,2,33.8059,2,33.8091,2,198.95,2,199.35,2,35.48,2,0.2,23.7,2,0.1,0.01,2,0.01,1.722,2,0.014,3.839,2,2.041,2,0.25,2,-999,9,-999,9,-999,9,-999,-999,9,-999,9,-999,-999,9,-999,-999,9,-999,-999,9,-999,6.4988,26.5452
49NZ20070724,   P01,98,1,31, X12003,2,20070825,2223,46.9952,-139.0657,4229,249.8,2,6.1785,2,6.17743,2,33.8677,2,33.8623,6,174.81,2,173.85,2,44.53,2,0.22,26.85,2,0.11,0.01,2,0.01,1.945,2,0.015,3.465,2,1.796,2,0.215,2,-999,9,-999,9,-999,9,-999,-999,9,-999,9,-999,-999,9,-999,-999,9,-999,-999,9,-999,6.157,26.6381
49NZ20070724,   P01,98,1,30, X12008,2,20070825,2223,46.9952,-139.0657,4229,300.2,2,5.5029,2,5.50316,2,33.8636,2,33.8658,2,143.09,2,140.59,2,54.9,2,0.24,31.16,2,0.12,0.01,2,0.01,2.231,2,0.016,3.094,2,1.545,2,0.203,2,-999,9,-999,9,-999,9,-999,-999,9,-999,9,-999,-999,9,-999,-999,9,-999,-999,9,-999,5.4786,26.7185
49NZ20070724,   P01,98,1,29, X12035,2,20070825,2223,46.9952,-139.0657,4229,404.8,2,4.8712,2,4.87106,2,33.9475,2,33.9511,2,80.09,2,78.83,2,74.47,2,0.28,38.02,2,0.14,0.01,2,0.01,2.69,2,0.017,2.08,2,0.994,2,0.117,2,-999,9,-999,9,-999,9,-999,-999,9,-999,9,-999,-999,9,-999,-999,9,-999,-999,9,-999,4.84,26.8589
49NZ20070724,   P01,98,1,28, X12034,2,20070825,2223,46.9952,-139.0657,4229,505.9,2,4.2887,2,4.28873,2,34.0145,2,34.0155,6,51.81,2,51.83,2,88.99,2,0.31,41.17,2,0.15,0.01,2,0.01,2.917,2,0.017,1.471,2,0.683,2,0.081,2,-999,9,-999,9,-999,9,-999,-999,9,-999,9,-999,-999,9,-999,-999,9,-999,-999,9,-999,4.2516,26.9761
49NZ20070724,   P01,98,1,27, X12049,2,20070825,2223,46.9952,-139.0657,4229,605.7,2,4.0117,2,4.01103,2,34.1022,2,34.1045,2,33.16,2,33.35,2,101.43,2,0.34,42.77,2,0.15,0,2,0.01,3.035,2,0.018,0.853,2,0.393,2,0.05,2,-999,9,-999,9,-999,9,-999,-999,9,-999,9,-999,-999,9,-999,-999,9,-999,-999,9,-999,3.968,27.0752
49NZ20070724,   P01,98,1,26, X12032,2,20070825,2223,46.9952,-139.0657,4229,707.9,2,3.7469,2,3.74699,2,34.1918,2,34.1944,2,24.87,2,25.33,2,113.4,2,0.37,43.41,2,0.15,0.01,2,0.01,3.085,2,0.018,0.412,6,0.196,6,0.021,6,-999,9,-999,9,-999,9,-999,-999,9,-999,9,-999,-999,9,-999,-999,9,-999,-999,9,-999,3.6967,27.1739
49NZ20070724,   P01,98,1,25, X12043,2,20070825,2223,46.9952,-139.0657,4229,809.6,2,3.5046,2,3.5048,2,34.2562,2,34.2547,2,18.74,2,19.23,2,122.07,2,0.39,43.94,2,0.16,0,2,0.01,3.136,2,0.018,0.193,2,0.087,2,0.009,2,-999,9,-999,9,-999,9,-999,-999,9,-999,9,-999,-999,9,-999,-999,9,-999,-999,9,-999,3.448,27.2495
49NZ20070724,   P01,98,1,24, X12030,2,20070825,2223,46.9952,-139.0657,4229,909.6,2,3.2869,2,3.28694,2,34.3101,2,34.3097,2,12.34,2,12.41,2,130.43,2,0.41,44.69,2,0.16,0,2,0.01,3.159,2,0.018,0.061,2,0.031,2,0.012,2,-999,9,-999,9,-999,9,-999,-999,9,-999,9,-999,-999,9,-999,-999,9,-999,-999,9,-999,3.224,27.3137
49NZ20070724,   P01,98,1,23, X12027,2,20070825,2223,46.9952,-139.0657,4229,1012.2,2,3.0978,2,3.09799,2,34.3556,2,34.3561,6,10.76,2,10.76,2,137.52,2,0.42,44.94,2,0.16,0,2,0.01,3.204,2,0.018,0.027,2,0.016,2,0.009,2,-999,9,-999,9,-999,9,-999,-999,9,-999,9,-999,-999,9,-999,-999,9,-999,-999,9,-999,3.0285,27.3681
49NZ20070724,   P01,98,1,22, X12028,2,20070825,2223,46.9952,-139.0657,4229,1213.9,2,2.8066,2,2.80666,2,34.4293,2,34.429,2,11.02,2,10.99,2,147.96,2,0.44,45.15,2,0.16,0,2,0.01,3.206,2,0.018,0.004,2,0.005,2,0,2,-999,9,-999,9,-999,9,-999,-999,9,-999,9,-999,-999,9,-999,-999,9,-999,-999,9,-999,2.7241,27.4542
49NZ20070724,   P01,98,1,21, X12009,2,20070825,2223,46.9952,-139.0657,4229,1418.3,2,2.5439,2,2.5438,2,34.4907,2,34.4904,2,18.4,2,18.32,2,156.18,2,0.46,44.78,2,0.16,0,2,0.01,3.18,2,0.018,0,2,0.003,2,0,2,-999,9,-999,9,-999,9,-999,-999,9,-999,9,-999,-999,9,-999,-999,9,-999,-999,9,-999,2.448,27.5271
49NZ20070724,   P01,98,1,20, X12026,2,20070825,2223,46.9952,-139.0657,4229,1622.3,2,2.2747,2,2.27476,2,34.5327,2,34.5326,2,30.65,2,30.72,2,162.8,2,0.48,44.13,2,0.16,0,2,0.01,3.117,2,0.018,0,2,0,2,0,2,-999,9,-999,9,-999,9,-999,-999,9,-999,9,-999,-999,9,-999,-999,9,-999,-999,9,-999,2.1657,27.584
49NZ20070724,   P01,98,1,19, X12025,2,20070825,2223,46.9952,-139.0657,4229,1823.5,2,2.078,2,2.07796,2,34.5673,2,34.5673,2,44.17,2,44.19,2,167.92,2,0.49,43.32,2,0.15,0,2,0.01,3.058,2,0.018,0,2,0,2,0,2,-999,9,-999,9,-999,9,-999,-999,9,-999,9,-999,-999,9,-999,-999,9,-999,-999,9,-999,1.9552,27.6285
49NZ20070724,   P01,98,1,18, X12024,2,20070825,2223,46.9952,-139.0657,4229,2001.5,2,1.9558,2,1.95584,2,34.5914,2,34.5908,2,55.42,2,55.39,2,170.13,2,0.49,42.63,2,0.15,0,2,0.01,3.005,2,0.017,0,2,0.001,2,0,2,-999,9,-999,9,-999,9,-999,-999,9,-999,9,-999,-999,9,-999,-999,9,-999,-999,9,-999,1.82,27.6583
49NZ20070724,   P01,98,1,17, X12023,2,20070825,2223,46.9952,-139.0657,4229,2200.2,2,1.8571,2,1.85704,2,34.6117,2,34.6116,6,66.82,2,66.95,2,172.02,2,0.5,41.91,2,0.15,0,2,0.01,2.964,2,0.017,0,2,0,2,0,2,-999,9,-999,9,-999,9,-999,-999,9,-999,9,-999,-999,9,-999,-999,9,-999,-999,9,-999,1.706,27.6833
49NZ20070724,   P01,98,1,16, X12022,2,20070825,2223,46.9952,-139.0657,4229,2400.4,2,1.7772,2,1.77719,2,34.6242,2,34.6242,2,76.14,2,76.26,2,171.73,2,0.5,41.32,2,0.15,0,2,0.01,2.915,2,0.017,0.001,2,0.001,2,0,2,-999,9,-999,9,-999,9,-999,-999,9,-999,9,-999,-999,9,-999,-999,9,-999,-999,9,-999,1.61,27.7005
49NZ20070724,   P01,98,1,15, X12021,2,20070825,2223,46.9952,-139.0657,4229,2600.6,2,1.695,2,1.69525,2,34.6354,2,34.6357,2,86.99,2,86.81,2,170.61,2,0.49,40.7,2,0.15,0,2,0.01,2.864,2,0.017,-999,9,-999,9,-999,9,-999,9,-999,9,-999,9,-999,-999,9,-999,9,-999,-999,9,-999,-999,9,-999,-999,9,-999,1.5114,27.7168
49NZ20070724,   P01,98,1,14, X12020,2,20070825,2223,46.9952,-139.0657,4229,2802,2,1.624,2,1.62413,2,34.6471,2,34.6472,2,98.25,2,98.52,2,169.18,2,0.49,39.95,2,0.14,0,2,0.01,2.803,2,0.017,-999,9,-999,9,-999,9,-999,9,-999,9,-999,9,-999,-999,9,-999,9,-999,-999,9,-999,-999,9,-999,-999,9,-999,1.4233,27.7325
49NZ20070724,   P01,98,1,13, X12019,2,20070825,2223,46.9952,-139.0657,4229,3000.9,2,1.5771,2,1.57714,2,34.6558,2,34.6559,2,107.86,2,108.12,2,167.85,2,0.49,39.33,2,0.14,0,2,0.01,2.761,2,0.017,0.002,2,0.001,2,0,2,-999,9,-999,9,-999,9,-999,-999,9,-999,9,-999,-999,9,-999,-999,9,-999,-999,9,-999,1.3586,27.7441
49NZ20070724,   P01,98,1,12, X12040,2,20070825,2223,46.9952,-139.0657,4229,3251,2,1.5331,2,1.53314,2,34.6651,2,34.6652,6,118.79,2,118.84,2,166.75,2,0.49,38.56,2,0.14,0,2,0.01,2.691,2,0.017,-999,9,-999,9,-999,9,-999,9,-999,9,-999,9,-999,-999,9,-999,9,-999,-999,9,-999,-999,9,-999,-999,9,-999,1.2913,27.7563
49NZ20070724,   P01,98,1,11, X12047,2,20070825,2223,46.9952,-139.0657,4229,3501.6,2,1.5097,2,1.5097,2,34.6723,2,34.6723,2,126.15,2,126.48,2,166.61,2,0.49,38.02,2,0.14,0,2,0.01,2.664,2,0.017,-999,9,-999,9,-999,9,-999,9,-999,9,-999,9,-999,-999,9,-999,9,-999,-999,9,-999,-999,9,-999,-999,9,-999,1.2432,27.7654
49NZ20070724,   P01,98,1,10, X12010,2,20070825,2223,46.9952,-139.0657,4229,3749.9,2,1.5067,2,1.50667,2,34.6767,2,34.6768,2,130.65,2,130.96,2,167.48,2,0.49,37.86,2,0.14,0,2,0.01,2.645,2,0.017,0.001,2,0,2,0,2,-999,9,-999,9,-999,9,-999,-999,9,-999,9,-999,-999,9,-999,-999,9,-999,-999,9,-999,1.2145,27.771
49NZ20070724,   P01,98,1,9, X12015,2,20070825,2223,46.9952,-139.0657,4229,4001.7,2,1.5118,2,1.51183,2,34.6796,2,34.6799,2,134.35,2,134.67,2,167.74,2,0.49,37.55,2,0.14,0,2,0.01,2.628,2,0.017,-999,9,-999,9,-999,9,-999,9,-999,9,-999,9,-999,-999,9,-999,9,-999,-999,9,-999,-999,9,-999,-999,9,-999,1.1924,27.7749
49NZ20070724,   P01,98,1,8, X12046,2,20070825,2223,46.9952,-139.0657,4229,4251.1,2,1.5318,2,1.53173,2,34.6822,2,34.6827,2,134.7,2,134.95,2,172.66,2,0.5,37.64,2,0.14,0,2,0.01,2.617,2,0.017,-999,9,-999,9,-999,9,-999,9,-999,9,-999,9,-999,-999,9,-999,9,-999,-999,9,-999,-999,9,-999,-999,9,-999,1.1842,27.7775
49NZ20070724,   P01,98,1,7, X12044,9,20070825,2223,46.9952,-139.0657,4229,10.1,2,14.0764,2,14.07734,2,32.4248,2,-999,9,271.86,2,-999,9,-999,9,-999,-999,9,-999,-999,9,-999,-999,9,-999,-999,9,-999,9,-999,9,-999,9,-999,9,-999,9,-999,-999,9,-999,9,-999,-999,9,-999,-999,9,-999,-999,9,-999,14.075,24.1823
49NZ20070724,   P01,98,1,6, X12048,9,20070825,2223,46.9952,-139.0657,4229,50.4,2,8.8648,2,8.86229,2,32.5707,2,-999,9,299.82,2,-999,9,-999,9,-999,-999,9,-999,-999,9,-999,-999,9,-999,-999,9,-999,9,-999,9,-999,9,-999,9,-999,9,-999,-999,9,-999,9,-999,-999,9,-999,-999,9,-999,-999,9,-999,8.8596,25.238
49NZ20070724,   P01,98,1,5, X12014,9,20070825,2223,46.9952,-139.0657,4229,100.4,2,6.7117,2,6.71197,2,32.6878,2,-999,9,293.82,2,-999,9,-999,9,-999,-999,9,-999,-999,9,-999,-999,9,-999,-999,9,-999,9,-999,9,-999,9,-999,9,-999,9,-999,-999,9,-999,9,-999,-999,9,-999,-999,9,-999,-999,9,-999,6.703,25.637
49NZ20070724,   P01,98,1,4, X12928,9,20070825,2223,46.9952,-139.0657,4229,4251.1,2,1.5318,2,1.53176,2,34.6822,2,-999,9,134.75,2,-999,9,-999,9,-999,-999,9,-999,-999,9,-999,-999,9,-999,-999,9,-999,9,-999,9,-999,9,-999,9,-999,9,-999,-999,9,-999,9,-999,-999,9,-999,-999,9,-999,-999,9,-999,1.1842,27.7775
49NZ20070724,   P01,98,1,3, X12931,9,20070825,2223,46.9952,-139.0657,4229,4251,2,1.5318,2,1.53178,2,34.6823,2,-999,9,134.72,2,-999,9,-999,9,-999,-999,9,-999,-999,9,-999,-999,9,-999,-999,9,-999,9,-999,9,-999,9,-999,9,-999,9,-999,-999,9,-999,9,-999,-999,9,-999,-999,9,-999,-999,9,-999,1.1842,27.7776
49NZ20070724,   P01,98,1,2, X12930,9,20070825,2223,46.9952,-139.0657,4229,4251.1,2,1.5318,2,1.53174,2,34.6822,2,-999,9,134.74,2,-999,9,-999,9,-999,-999,9,-999,-999,9,-999,-999,9,-999,-999,9,-999,9,-999,9,-999,9,-999,9,-999,9,-999,-999,9,-999,9,-999,-999,9,-999,-999,9,-999,-999,9,-999,1.1842,27.7775
49NZ20070724,   P01,98,1,1, X12929,2,20070825,2223,46.9952,-139.0657,4229,4295.6,2,1.5365,2,1.53647,2,34.6823,2,34.6825,6,134.83,2,135.03,2,172.69,2,0.5,37.55,2,0.14,0,2,0.01,2.631,2,0.017,0,2,0.001,2,0,2,-999,9,-999,9,-999,9,-999,-999,9,-999,9,-999,-999,9,-999,-999,9,-999,-999,9,-999,1.1838,27.7776