BOTTLE,20081214JAMSTECIORGC,,,,,,,,,,,,,,,,,,,,,,,,,,,,,,,,,,,,,,,,,,,,,,,,,,,,,,,,,,,,,,,,,
EXPOCODE,SECT,STNNBR,CASTNO,SAMPNO,BTLNBR,BTLNBR_FLAG_W,DATE,TIME,LATITUDE,LONGITUDE,DEPTH,CTDPRS,CTDPRS_FLAG_W,CTDTMP,CTDTMP_FLAG_W,SBE35,SBE35_FLAG_W,CTDSAL,CTDSAL_FLAG_W,SALNTY,SALNTY_FLAG_W,CTDOXY,CTDOXY_FLAG_W,OXYGEN,OXYGEN_FLAG_W,SILCAT,SILCAT_FLAG_W,SILUNC,NITRAT,NITRAT_FLAG_W,NRAUNC,NITRIT,NITRIT_FLAG_W,NRIUNC,PHSPHT,PHSPHT_FLAG_W,PHPUNC,CFC-11,CFC-11_FLAG_W,CFC-12,CFC-12_FLAG_W,CFC113,CFC113_FLAG_W,CCL4,CCL4_FLAG_W,TCARBN,TCARBN_FLAG_W,ALKALI,ALKALI_FLAG_W,PH_TOT,PH_TMP,PH_FLAG_W,DELC13,DELC13_FLAG_W,C13ERR,DELC14,DELC14_FLAG_W,C14ERR,CS-137,CS-137_FLAG_W,CS137ER,PLUTO,PLUTO_FLAG_W,PLUTOER,THETA,SIG0
,,,,,,,,UTC,DEG,DEG,M,DBAR,,ITS-90,,ITS-90,,PSS-78,,PSS-78,,UMOL/KG,,UMOL/KG,,UMOL/KG,,UMOL/KG,UMOL/KG,,UMOL/KG,UMOL/KG,,UMOL/KG,UMOL/KG,,UMOL/KG,PMOL/KG,,PMOL/KG,,PMOL/KG,,PMOL/KG,,UMOL/KG,,UMOL/KG,,,ITS-90,,/MILLE,,/MILLE,/MILLE,,/MILLE,BQ/CUM,,BQ/CUM,MBQ/CUM,,MBQ/CUM,DEG C,KG/CUM
49NZ20070724,   P01,80,1,0,-999,9,20070820,1124,46.9885,-159.2583,5189,-999,9,-999,9,-999,9,-999,9,32.794,2,-999,9,-999,9,-999,9,-999,-999,9,-999,-999,9,-999,-999,9,-999,-999,9,-999,9,-999,9,-999,9,-999,9,-999,9,-999,-999,9,-999,9,-999,-999,9,-999,-999,9,-999,-999,9,-999,-999,-999
49NZ20070724,   P01,80,1,36, X12042,2,20070820,1124,46.9885,-159.2583,5189,9.9,2,13.2128,2,13.2316,2,32.7903,2,32.7999,2,281.65,2,281.01,2,11.87,2,0.15,7.98,2,0.06,0.14,2,0.01,0.861,2,0.013,3.378,2,1.889,2,0.37,2,4.397,4,-999,9,-999,9,-999,-999,9,-999,9,-999,-999,9,-999,-999,9,-999,-999,9,-999,13.2115,24.6396
49NZ20070724,   P01,80,1,35, X12041,2,20070820,1124,46.9885,-159.2583,5189,49.3,2,6.8045,2,6.79537,2,33.1191,2,33.1235,2,298.86,2,299.06,2,17.55,2,0.16,11.77,2,0.07,0.4,2,0,1.166,2,0.013,4.374,2,2.43,2,0.377,2,5.601,4,-999,9,-999,9,-999,-999,9,-999,9,-999,-999,9,-999,-999,9,-999,-999,9,-999,6.8002,25.964
49NZ20070724,   P01,80,1,34, X12036,2,20070820,1124,46.9885,-159.2583,5189,100.4,2,6.3782,2,6.37553,2,33.2807,2,33.2859,2,295.35,2,295.22,2,21.38,2,0.17,14.04,2,0.07,0.54,2,0,1.254,2,0.013,-999,5,-999,5,-999,5,5.614,4,-999,9,-999,9,-999,-999,9,-999,9,-999,-999,9,-999,-999,9,-999,-999,9,-999,6.3696,26.1476
49NZ20070724,   P01,80,1,33, X12033,2,20070820,1124,46.9885,-159.2583,5189,151.2,2,6.3513,2,6.35581,2,33.5127,2,33.5393,2,278.29,2,276.17,2,24.12,2,0.17,16.5,2,0.08,0.03,2,0.01,1.322,2,0.014,4.321,6,2.34,6,0.373,6,4.519,4,-999,9,-999,9,-999,-999,9,-999,9,-999,-999,9,-999,-999,9,-999,-999,9,-999,6.3383,26.3347
49NZ20070724,   P01,80,1,32, X12038,2,20070820,1124,46.9885,-159.2583,5189,199.2,2,6.0538,2,6.05627,2,33.768,2,33.7677,2,227.9,2,228.36,2,36.05,2,0.2,22.45,2,0.1,0.02,2,0.01,1.684,2,0.014,3.93,2,2.094,2,0.28,2,3.31,4,-999,9,-999,9,-999,-999,9,-999,9,-999,-999,9,-999,-999,9,-999,-999,9,-999,6.037,26.5745
49NZ20070724,   P01,80,1,31, X12003,2,20070820,1124,46.9885,-159.2583,5189,250.3,2,5.2997,2,5.29983,2,33.8148,2,33.8184,6,171.99,2,170.85,2,52.26,2,0.23,28.81,2,0.11,0.02,2,0.01,2.115,2,0.015,3.344,2,1.723,2,0.212,2,2.551,4,-999,9,-999,9,-999,-999,9,-999,9,-999,-999,9,-999,-999,9,-999,-999,9,-999,5.2799,26.7034
49NZ20070724,   P01,80,1,30, X12008,2,20070820,1124,46.9885,-159.2583,5189,280.5,2,4.963,2,4.96348,2,33.8386,2,33.8388,2,147.65,2,147.63,2,59.65,2,0.25,31.56,2,0.12,0.02,2,0.01,2.298,2,0.016,-999,5,-999,5,-999,5,2.311,4,-999,9,-999,9,-999,-999,9,-999,9,-999,-999,9,-999,-999,9,-999,-999,9,-999,4.9415,26.7611
49NZ20070724,   P01,80,1,29, X12035,2,20070820,1124,46.9885,-159.2583,5189,369.8,2,4.4322,2,4.43217,2,33.9149,2,33.9178,2,100.24,2,100.22,2,75.91,2,0.29,36.46,2,0.13,0.02,2,0.01,2.621,2,0.017,2.358,2,1.164,2,0.151,2,1.719,4,-999,9,-999,9,-999,-999,9,-999,9,-999,-999,9,-999,-999,9,-999,-999,9,-999,4.4051,26.8806
49NZ20070724,   P01,80,1,28, X12034,2,20070820,1124,46.9885,-159.2583,5189,469.9,2,4.2797,2,4.27969,2,34.024,2,34.0252,6,69.02,2,69.51,2,88.53,2,0.31,39.28,2,0.14,0.02,2,0.01,2.812,2,0.017,1.662,2,0.803,2,0.106,2,1.164,4,-999,9,-999,9,-999,-999,9,-999,9,-999,-999,9,-999,-999,9,-999,-999,9,-999,4.2454,26.9843
49NZ20070724,   P01,80,1,27, X12049,2,20070820,1124,46.9885,-159.2583,5189,569.4,2,4.1404,2,4.14052,2,34.1161,2,34.1178,2,51.11,2,51.69,2,98.92,2,0.34,40.78,2,0.15,0.02,2,0.01,2.905,2,0.017,1.093,2,0.521,2,0.06,2,0.819,4,-999,9,-999,9,-999,-999,9,-999,9,-999,-999,9,-999,-999,9,-999,-999,9,-999,4.0989,27.0728
49NZ20070724,   P01,80,1,26, X12032,2,20070820,1124,46.9885,-159.2583,5189,670.2,2,3.8216,2,3.82171,2,34.1919,2,34.1909,2,36.64,2,37.23,2,110.62,2,0.36,42.25,2,0.15,0.02,2,0.01,3.01,2,0.017,0.672,6,0.312,6,0.034,6,0.558,4,-999,9,-999,9,-999,-999,9,-999,9,-999,-999,9,-999,-999,9,-999,-999,9,-999,3.7739,27.1662
49NZ20070724,   P01,80,1,25, X12043,2,20070820,1124,46.9885,-159.2583,5189,771.2,2,3.549,2,3.54987,2,34.2507,2,34.2491,2,30.47,2,30.98,2,119.99,2,0.38,42.93,2,0.15,0.01,2,0.01,3.057,2,0.018,0.434,2,0.202,2,0.028,2,0.39,4,-999,9,-999,9,-999,-999,9,-999,9,-999,-999,9,-999,-999,9,-999,-999,9,-999,3.495,27.2405
49NZ20070724,   P01,80,1,24, X12030,2,20070820,1124,46.9885,-159.2583,5189,870.5,2,3.3229,2,3.32302,2,34.3008,2,34.3009,2,26.96,2,27.09,2,127.48,2,0.4,43.3,2,0.15,0.01,2,0.01,3.091,2,0.018,0.261,2,0.119,2,0.015,2,0.231,4,-999,9,-999,9,-999,-999,9,-999,9,-999,-999,9,-999,-999,9,-999,-999,9,-999,3.2628,27.3027
49NZ20070724,   P01,80,1,23, X12027,2,20070820,1124,46.9885,-159.2583,5189,970.3,2,3.1068,2,3.10647,2,34.3464,2,34.3468,6,24.96,2,25.19,2,134.67,2,0.42,43.75,2,0.16,0.01,2,0.01,3.117,2,0.018,0.163,2,0.075,2,0.014,2,0.172,4,-999,9,-999,9,-999,-999,9,-999,9,-999,-999,9,-999,-999,9,-999,-999,9,-999,3.0406,27.3596
49NZ20070724,   P01,80,1,22, X12028,2,20070820,1124,46.9885,-159.2583,5189,1130.7,2,2.8224,2,2.82235,2,34.4008,2,34.3998,2,21.79,2,22.09,2,144.3,2,0.44,44.06,2,0.16,0.01,2,0.01,3.136,2,0.018,0.081,2,0.038,2,0.012,2,0.141,4,-999,9,-999,9,-999,-999,9,-999,9,-999,-999,9,-999,-999,9,-999,-999,9,-999,2.7462,27.4295
49NZ20070724,   P01,80,1,21, X12009,2,20070820,1124,46.9885,-159.2583,5189,1330.8,2,2.5531,2,2.55299,2,34.4548,2,34.4551,2,22.8,2,22.84,2,153.49,2,0.46,44.38,2,0.16,0.01,2,0.01,3.142,2,0.018,0.037,2,0.016,2,0.007,2,0.119,4,-999,9,-999,9,-999,-999,9,-999,9,-999,-999,9,-999,-999,9,-999,-999,9,-999,2.464,27.4969
49NZ20070724,   P01,80,1,20, X12026,2,20070820,1124,46.9885,-159.2583,5189,1530.1,2,2.3473,2,2.34721,2,34.4993,2,34.4994,2,28.32,2,28.48,2,159.88,2,0.47,44.16,2,0.16,0.01,2,0.01,3.12,2,0.018,0.01,2,0.007,2,0.004,2,0.093,4,-999,9,-999,9,-999,-999,9,-999,9,-999,-999,9,-999,-999,9,-999,-999,9,-999,2.2448,27.5508
49NZ20070724,   P01,80,1,19, X12025,2,20070820,1124,46.9885,-159.2583,5189,1730.8,2,2.1685,2,2.16855,2,34.5386,2,34.5382,2,36.96,2,36.99,2,164.3,2,0.48,43.75,2,0.16,0.01,2,0.01,3.082,2,0.018,0.003,2,0.001,2,0.005,2,0.06,4,-999,9,-999,9,-999,-999,9,-999,9,-999,-999,9,-999,-999,9,-999,-999,9,-999,2.0521,27.5979
49NZ20070724,   P01,80,1,18, X12024,2,20070820,1124,46.9885,-159.2583,5189,1929.4,2,2.0386,2,2.03866,2,34.5682,2,34.5678,2,44.27,2,44.46,2,167.89,2,0.49,43.36,2,0.15,0.01,2,0.01,3.041,2,0.018,0,2,0,2,0.009,2,0.017,4,-999,9,-999,9,-999,-999,9,-999,9,-999,-999,9,-999,-999,9,-999,-999,9,-999,1.9077,27.6329
49NZ20070724,   P01,80,1,17, X12023,2,20070820,1124,46.9885,-159.2583,5189,2130.2,2,1.9412,2,1.94112,2,34.5889,2,34.589,2,54.47,2,54.26,2,168.96,2,0.49,42.78,2,0.15,0.01,2,0.01,3.003,2,0.017,0.004,2,0.005,2,0.008,2,0.035,4,-999,9,-999,9,-999,-999,9,-999,9,-999,-999,9,-999,-999,9,-999,-999,9,-999,1.7948,27.6582
49NZ20070724,   P01,80,1,16, X12022,2,20070820,1124,46.9885,-159.2583,5189,2329.8,2,1.8271,2,1.82711,2,34.6113,2,34.6113,2,68.23,2,67.96,2,169.88,2,0.49,41.93,2,0.15,0.01,2,0.01,2.941,2,0.017,0,2,0,2,0.006,2,0.037,4,-999,9,-999,9,-999,-999,9,-999,9,-999,-999,9,-999,-999,9,-999,-999,9,-999,1.6653,27.6861
49NZ20070724,   P01,80,1,15, X12021,2,20070820,1124,46.9885,-159.2583,5189,2531.6,2,1.7423,2,1.74226,2,34.6269,2,34.6272,6,80.99,2,80.65,2,169.07,2,0.49,41.13,2,0.15,0.01,2,0.01,2.876,2,0.017,-999,9,-999,9,-999,9,0.018,4,-999,9,-999,9,-999,-999,9,-999,9,-999,-999,9,-999,-999,9,-999,-999,9,-999,1.5641,27.7061
49NZ20070724,   P01,80,1,14, X12020,2,20070820,1124,46.9885,-159.2583,5189,2730.2,2,1.6771,2,1.67718,2,34.6391,2,34.6389,2,92.03,2,91.87,2,168.01,2,0.49,40.32,2,0.15,0.01,2,0.01,2.821,2,0.017,0.001,2,0,2,0.008,2,-999,9,-999,9,-999,9,-999,-999,9,-999,9,-999,-999,9,-999,-999,9,-999,-999,9,-999,1.482,27.7219
49NZ20070724,   P01,80,1,13, X12019,2,20070820,1124,46.9885,-159.2583,5189,2930.9,2,1.623,2,1.62302,2,34.6492,2,34.6495,2,102.44,2,102.33,2,166.29,2,0.48,39.7,2,0.14,0.01,2,0.01,2.779,2,0.017,-999,9,-999,9,-999,9,0.039,4,-999,9,-999,9,-999,-999,9,-999,9,-999,-999,9,-999,-999,9,-999,-999,9,-999,1.4102,27.7351
49NZ20070724,   P01,80,1,12, X12040,2,20070820,1124,46.9885,-159.2583,5189,3170.8,2,1.5655,2,1.56549,2,34.6598,2,34.6603,2,115.14,2,115.07,2,163.27,2,0.48,38.78,2,0.14,0.01,2,0.01,2.704,2,0.017,-999,9,-999,9,-999,9,-999,9,-999,9,-999,9,-999,-999,9,-999,9,-999,-999,9,-999,-999,9,-999,-999,9,-999,1.3308,27.7493
49NZ20070724,   P01,80,1,11, X12047,2,20070820,1124,46.9885,-159.2583,5189,3420.6,2,1.5215,2,1.52148,2,34.6687,2,34.6687,2,125.8,2,125.92,2,161.17,2,0.47,38.01,2,0.14,0.01,2,0.01,2.65,2,0.017,0.015,3,0.004,2,0.008,3,0.016,4,-999,9,-999,9,-999,-999,9,-999,9,-999,-999,9,-999,-999,9,-999,-999,9,-999,1.263,27.7612
49NZ20070724,   P01,80,1,10, X12010,2,20070820,1124,46.9885,-159.2583,5189,3671,2,1.494,2,1.49386,2,34.6752,2,34.6753,2,133.72,2,133.94,2,160.04,2,0.47,37.65,2,0.14,0.02,2,0.01,2.614,2,0.017,-999,9,-999,9,-999,9,-999,9,-999,9,-999,9,-999,-999,9,-999,9,-999,-999,9,-999,-999,9,-999,-999,9,-999,1.2104,27.7701
49NZ20070724,   P01,80,1,9, X12015,2,20070820,1124,46.9885,-159.2583,5189,3921.2,2,1.4838,2,1.48394,2,34.68,2,34.6801,6,139.02,2,139.36,2,160.05,2,0.47,37.25,2,0.14,0.01,2,0.01,2.586,2,0.016,-999,9,-999,9,-999,9,0.007,4,-999,9,-999,9,-999,-999,9,-999,9,-999,-999,9,-999,-999,9,-999,-999,9,-999,1.1739,27.7765
49NZ20070724,   P01,80,1,8, X12046,2,20070820,1124,46.9885,-159.2583,5189,4169.1,2,1.4905,2,1.49056,2,34.683,2,34.6833,2,141.67,2,142.07,2,161.75,2,0.47,37.07,2,0.14,0.01,2,0.01,2.575,2,0.016,0,2,0.001,2,0,2,-999,9,-999,9,-999,9,-999,-999,9,-999,9,-999,-999,9,-999,-999,9,-999,-999,9,-999,1.1533,27.7803
49NZ20070724,   P01,80,1,7, X12044,2,20070820,1124,46.9885,-159.2583,5189,4421.3,2,1.5043,2,1.50446,2,34.6851,2,34.6853,2,143.93,2,144.43,2,162.39,2,0.48,36.94,2,0.14,0.01,2,0.01,2.558,2,0.016,-999,9,-999,9,-999,9,0,4,-999,9,-999,9,-999,-999,9,-999,9,-999,-999,9,-999,-999,9,-999,-999,9,-999,1.1382,27.783
49NZ20070724,   P01,80,1,6, X12048,2,20070820,1124,46.9885,-159.2583,5189,4669.5,2,1.5252,2,1.5253,2,34.6865,2,34.6863,2,145.06,2,145.52,2,163.67,2,0.48,36.9,2,0.14,0.01,2,0.01,2.557,2,0.016,0.003,2,0.002,2,0,2,-999,9,-999,9,-999,9,-999,-999,9,-999,9,-999,-999,9,-999,-999,9,-999,-999,9,-999,1.1297,27.7847
49NZ20070724,   P01,80,1,5, X12017,2,20070820,1124,46.9885,-159.2583,5189,4920.8,2,1.5498,2,1.54982,2,34.6871,2,34.6872,2,146.02,2,146.31,2,164.59,2,0.48,36.83,2,0.14,0.01,2,0.01,2.548,2,0.016,-999,9,-999,9,-999,9,0.002,4,-999,9,-999,9,-999,-999,9,-999,9,-999,-999,9,-999,-999,9,-999,-999,9,-999,1.1235,27.7856
49NZ20070724,   P01,80,1,4, X12928,2,20070820,1124,46.9885,-159.2583,5189,5171.6,2,1.5785,2,1.57843,2,34.6877,2,34.6882,2,146.72,2,146.72,2,166.1,2,0.48,36.85,2,0.14,0.01,2,0.01,2.547,2,0.016,-999,9,-999,9,-999,9,-999,9,-999,9,-999,9,-999,-999,9,-999,9,-999,-999,9,-999,-999,9,-999,-999,9,-999,1.1205,27.7863
49NZ20070724,   P01,80,1,3, X12931,9,20070820,1124,46.9885,-159.2583,5189,9.9,2,13.1435,2,13.16253,2,32.7937,2,-999,9,282.28,2,-999,9,-999,9,-999,-999,9,-999,-999,9,-999,-999,9,-999,-999,9,-999,9,-999,9,-999,9,-999,9,-999,9,-999,-999,9,-999,9,-999,-999,9,-999,-999,9,-999,-999,9,-999,13.1422,24.6561
49NZ20070724,   P01,80,1,2, X12930,9,20070820,1124,46.9885,-159.2583,5189,49.8,2,6.8327,2,6.834,2,33.1175,2,-999,9,299.58,2,-999,9,-999,9,-999,-999,9,-999,-999,9,-999,-999,9,-999,-999,9,-999,9,-999,9,-999,9,-999,9,-999,9,-999,-999,9,-999,9,-999,-999,9,-999,-999,9,-999,-999,9,-999,6.8283,25.959
49NZ20070724,   P01,80,1,1, X12929,2,20070820,1124,46.9885,-159.2583,5189,5283.2,2,1.593,2,1.59304,2,34.6879,2,34.6881,6,146.74,2,146.8,2,166.14,2,0.48,36.8,2,0.14,0.01,2,0.01,2.545,2,0.016,0,2,0,2,0,2,0,4,-999,9,-999,9,-999,-999,9,-999,9,-999,-999,9,-999,-999,9,-999,-999,9,-999,1.1206,27.7865