BOTTLE,20081214JAMSTECIORGC,,,,,,,,,,,,,,,,,,,,,,,,,,,,,,,,,,,,,,,,,,,,,,,,,,,,,,,,,,,,,,,,,
EXPOCODE,SECT,STNNBR,CASTNO,SAMPNO,BTLNBR,BTLNBR_FLAG_W,DATE,TIME,LATITUDE,LONGITUDE,DEPTH,CTDPRS,CTDPRS_FLAG_W,CTDTMP,CTDTMP_FLAG_W,SBE35,SBE35_FLAG_W,CTDSAL,CTDSAL_FLAG_W,SALNTY,SALNTY_FLAG_W,CTDOXY,CTDOXY_FLAG_W,OXYGEN,OXYGEN_FLAG_W,SILCAT,SILCAT_FLAG_W,SILUNC,NITRAT,NITRAT_FLAG_W,NRAUNC,NITRIT,NITRIT_FLAG_W,NRIUNC,PHSPHT,PHSPHT_FLAG_W,PHPUNC,CFC-11,CFC-11_FLAG_W,CFC-12,CFC-12_FLAG_W,CFC113,CFC113_FLAG_W,CCL4,CCL4_FLAG_W,TCARBN,TCARBN_FLAG_W,ALKALI,ALKALI_FLAG_W,PH_TOT,PH_TMP,PH_FLAG_W,DELC13,DELC13_FLAG_W,C13ERR,DELC14,DELC14_FLAG_W,C14ERR,CS-137,CS-137_FLAG_W,CS137ER,PLUTO,PLUTO_FLAG_W,PLUTOER,THETA,SIG0
,,,,,,,,UTC,DEG,DEG,M,DBAR,,ITS-90,,ITS-90,,PSS-78,,PSS-78,,UMOL/KG,,UMOL/KG,,UMOL/KG,,UMOL/KG,UMOL/KG,,UMOL/KG,UMOL/KG,,UMOL/KG,UMOL/KG,,UMOL/KG,PMOL/KG,,PMOL/KG,,PMOL/KG,,PMOL/KG,,UMOL/KG,,UMOL/KG,,,ITS-90,,/MILLE,,/MILLE,/MILLE,,/MILLE,BQ/CUM,,BQ/CUM,MBQ/CUM,,MBQ/CUM,DEG C,KG/CUM
49NZ20070724,   P01,63,1,0,-999,9,20070815,1031,46.9968,-178.3077,5503,-999,9,-999,9,-999,9,-999,9,32.6757,2,-999,9,-999,9,-999,9,-999,-999,9,-999,-999,9,-999,-999,9,-999,-999,9,-999,9,-999,9,-999,9,-999,9,-999,9,-999,-999,9,-999,9,-999,-999,9,-999,-999,9,-999,-999,9,-999,-999,-999
49NZ20070724,   P01,63,1,36, X12042,2,20070815,1031,46.9968,-178.3077,5503,10,2,12.4321,2,12.43371,2,32.7141,2,32.7149,2,287.61,2,285.25,2,18.78,2,0.16,10.44,2,0.06,0.14,2,0.01,1.102,2,0.013,3.336,2,1.803,2,0.345,2,4.631,4,-999,9,-999,9,-999,-999,9,-999,9,-999,-999,9,-999,-999,9,-999,-999,9,-999,12.4308,24.7328
49NZ20070724,   P01,63,1,35, X12041,2,20070815,1031,46.9968,-178.3077,5503,50.4,2,4.9554,2,4.96041,2,33.0872,2,33.0777,2,318.28,2,319.48,2,29.15,2,0.18,17.08,2,0.08,0.33,2,0.01,1.549,2,0.014,4.841,2,2.504,2,0.496,2,6.601,4,-999,9,-999,9,-999,-999,9,-999,9,-999,-999,9,-999,-999,9,-999,-999,9,-999,4.9517,26.1643
49NZ20070724,   P01,63,1,34, X12036,2,20070815,1031,46.9968,-178.3077,5503,100.1,2,3.9928,2,3.99275,2,33.0683,2,33.078,2,309.98,2,309.34,2,31.72,2,0.19,19.7,2,0.09,0.03,2,0.01,1.643,2,0.014,4.938,2,2.56,2,0.502,2,6.724,4,-999,9,-999,9,-999,-999,9,-999,9,-999,-999,9,-999,-999,9,-999,-999,9,-999,3.9862,26.251
49NZ20070724,   P01,63,1,33, X12033,2,20070815,1031,46.9968,-178.3077,5503,150.1,2,3.7951,2,3.7947,2,33.5451,2,33.5579,2,217.52,2,216.41,2,52.19,2,0.23,28.33,2,0.11,0.03,2,0.01,2.166,2,0.015,4.132,2,2.086,2,0.327,6,4.004,4,-999,9,-999,9,-999,-999,9,-999,9,-999,-999,9,-999,-999,9,-999,-999,9,-999,3.7852,26.6503
49NZ20070724,   P01,63,1,32, X12038,2,20070815,1031,46.9968,-178.3077,5503,199.5,2,3.343,2,3.34227,2,33.6405,2,33.6523,2,161.65,2,159.57,2,68.5,2,0.27,33.92,2,0.13,0.03,2,0.01,2.533,2,0.016,3.544,2,1.771,2,0.276,2,3.21,4,-999,9,-999,9,-999,-999,9,-999,9,-999,-999,9,-999,-999,9,-999,-999,9,-999,3.3305,26.7698
49NZ20070724,   P01,63,1,31, X12003,2,20070815,1031,46.9968,-178.3077,5503,249.7,2,3.3946,2,3.39132,2,33.7328,2,33.7421,6,126.03,2,124.74,2,77.09,2,0.29,36.55,2,0.14,0.01,2,0.01,2.693,2,0.017,3.056,2,1.496,2,0.234,2,2.611,4,-999,9,-999,9,-999,-999,9,-999,9,-999,-999,9,-999,-999,9,-999,-999,9,-999,3.3787,26.8388
49NZ20070724,   P01,63,1,30, X12008,2,20070815,1031,46.9968,-178.3077,5503,301,2,3.4544,2,3.45404,2,33.821,2,33.8297,2,96.24,2,94.68,2,85.93,2,0.31,38.81,2,0.14,0,2,0.01,2.826,2,0.017,2.561,2,1.247,2,0.196,2,2.184,4,-999,9,-999,9,-999,-999,9,-999,9,-999,-999,9,-999,-999,9,-999,-999,9,-999,3.4349,26.9039
49NZ20070724,   P01,63,1,29, X12035,2,20070815,1031,46.9968,-178.3077,5503,400.1,2,3.6115,2,3.61036,2,33.9806,2,33.9855,2,54.25,2,49.95,2,100.69,2,0.34,42.23,2,0.15,0,2,0.01,3.037,2,0.018,1.665,2,0.788,2,0.122,2,1.381,4,-999,9,-999,9,-999,-999,9,-999,9,-999,-999,9,-999,-999,9,-999,-999,9,-999,3.5846,27.0167
49NZ20070724,   P01,63,1,28, X12034,2,20070815,1031,46.9968,-178.3077,5503,500.8,2,3.6491,2,3.64868,2,34.1111,2,34.1174,6,37.63,2,39.54,2,109.47,2,0.36,42.25,2,0.15,0.01,2,0.01,3.036,2,0.018,1.058,2,0.487,2,0.071,2,0.862,4,-999,9,-999,9,-999,-999,9,-999,9,-999,-999,9,-999,-999,9,-999,-999,9,-999,3.6148,27.1177
49NZ20070724,   P01,63,1,27, X12049,2,20070815,1031,46.9968,-178.3077,5503,600.6,2,3.5803,2,3.58001,2,34.2115,2,34.2137,2,35.28,2,36.19,2,117.4,2,0.38,42.27,2,0.15,0.02,2,0.01,3.039,2,0.018,0.656,2,0.296,2,0.035,2,0.609,4,-999,9,-999,9,-999,-999,9,-999,9,-999,-999,9,-999,-999,9,-999,-999,9,-999,3.539,27.205
49NZ20070724,   P01,63,1,26, X12032,2,20070815,1031,46.9968,-178.3077,5503,699.7,2,3.3491,2,3.3488,2,34.2621,2,34.2639,2,28.22,2,28.27,2,126.23,2,0.4,43.05,2,0.15,0.01,2,0.01,3.089,2,0.018,0.447,6,0.202,6,0.025,6,1.199,4,-999,9,-999,9,-999,-999,9,-999,9,-999,-999,9,-999,-999,9,-999,-999,9,-999,3.3016,27.2681
49NZ20070724,   P01,63,1,25, X12043,2,20070815,1031,46.9968,-178.3077,5503,800.7,2,3.1483,2,3.14812,2,34.3171,2,34.3172,2,26.89,2,27.06,2,133.34,2,0.41,43.27,2,0.15,0.02,2,0.01,3.112,2,0.018,0.291,2,0.13,2,0.016,2,0.416,4,-999,9,-999,9,-999,-999,9,-999,9,-999,-999,9,-999,-999,9,-999,-999,9,-999,3.0945,27.3313
49NZ20070724,   P01,63,1,24, X12030,2,20070815,1031,46.9968,-178.3077,5503,899.6,2,2.976,2,2.97596,2,34.3525,2,34.3521,2,25.71,2,25.86,2,139.13,2,0.43,43.41,2,0.15,0.01,2,0.01,3.115,2,0.018,0.218,2,0.097,2,0.015,2,0.232,4,-999,9,-999,9,-999,-999,9,-999,9,-999,-999,9,-999,-999,9,-999,-999,9,-999,2.916,27.3758
49NZ20070724,   P01,63,1,23, X12027,2,20070815,1031,46.9968,-178.3077,5503,1000.4,2,2.8018,2,2.80153,2,34.3902,2,34.3911,6,25.86,2,25.97,2,145.12,2,0.44,43.56,2,0.15,0.01,2,0.01,3.12,2,0.018,0.15,2,0.072,2,0.01,2,0.151,4,-999,9,-999,9,-999,-999,9,-999,9,-999,-999,9,-999,-999,9,-999,-999,9,-999,2.7356,27.4219
49NZ20070724,   P01,63,1,22, X12028,2,20070815,1031,46.9968,-178.3077,5503,1200.2,2,2.5026,2,2.50255,2,34.4573,2,34.4571,2,30.33,2,30.58,2,154.39,2,0.46,43.56,2,0.15,0,2,0.01,3.11,2,0.018,0.075,2,0.033,2,0.01,2,0.077,4,-999,9,-999,9,-999,-999,9,-999,9,-999,-999,9,-999,-999,9,-999,-999,9,-999,2.424,27.5024
49NZ20070724,   P01,63,1,21, X12009,2,20070815,1031,46.9968,-178.3077,5503,1400.1,2,2.296,2,2.29599,2,34.5017,2,34.502,2,35.92,2,36.03,2,160.56,2,0.47,43.22,2,0.15,0.01,2,0.01,3.078,2,0.018,0.037,2,0.016,2,0.004,2,0.06,4,-999,9,-999,9,-999,-999,9,-999,9,-999,-999,9,-999,-999,9,-999,-999,9,-999,2.2042,27.556
49NZ20070724,   P01,63,1,20, X12026,2,20070815,1031,46.9968,-178.3077,5503,1601.3,2,2.136,2,2.13585,2,34.5388,2,34.539,2,44.85,2,44.92,2,164.03,2,0.48,42.8,2,0.15,0.02,2,0.01,3.043,2,0.018,0.015,2,0.009,2,0,2,0.029,4,-999,9,-999,9,-999,-999,9,-999,9,-999,-999,9,-999,-999,9,-999,-999,9,-999,2.0304,27.5998
49NZ20070724,   P01,63,1,19, X12025,2,20070815,1031,46.9968,-178.3077,5503,1800.7,2,2.0012,2,2.00114,2,34.5693,2,34.569,2,56.46,2,56.28,2,165.55,2,0.48,42.06,2,0.15,0.01,2,0.01,2.987,2,0.017,0.004,2,0.003,2,0,2,0.016,4,-999,9,-999,9,-999,-999,9,-999,9,-999,-999,9,-999,-999,9,-999,-999,9,-999,1.8813,27.6359
49NZ20070724,   P01,63,1,18, X12024,2,20070815,1031,46.9968,-178.3077,5503,2001.1,2,1.8991,2,1.89906,2,34.5913,2,34.5914,2,66.88,2,66.5,2,166.53,2,0.49,41.5,2,0.15,0.01,2,0.01,2.943,2,0.017,0,2,0,2,0,2,0.003,4,-999,9,-999,9,-999,-999,9,-999,9,-999,-999,9,-999,-999,9,-999,-999,9,-999,1.7642,27.6625
49NZ20070724,   P01,63,1,17, X12023,2,20070815,1031,46.9968,-178.3077,5503,2201.3,2,1.7996,2,1.79961,2,34.6119,2,34.6117,2,78.97,2,78.62,2,166.48,2,0.49,40.76,2,0.15,0,2,0.01,2.892,2,0.017,0.002,2,0.003,2,0,2,0,4,-999,9,-999,9,-999,-999,9,-999,9,-999,-999,9,-999,-999,9,-999,-999,9,-999,1.6494,27.6877
49NZ20070724,   P01,63,1,16, X12022,2,20070815,1031,46.9968,-178.3077,5503,2400.3,2,1.7149,2,1.71469,2,34.6284,2,34.6285,2,90.87,2,90.42,2,165.64,2,0.48,40.05,2,0.14,0,2,0.01,2.842,2,0.017,-999,9,-999,9,-999,9,0.011,4,-999,9,-999,9,-999,-999,9,-999,9,-999,-999,9,-999,-999,9,-999,-999,9,-999,1.5489,27.7084
49NZ20070724,   P01,63,1,15, X12021,2,20070815,1031,46.9968,-178.3077,5503,2599.4,2,1.6556,2,1.65551,2,34.6399,2,34.6401,6,100.48,2,100.14,2,164.36,2,0.48,39.44,2,0.14,0,2,0.01,2.794,2,0.017,-999,9,-999,9,-999,9,0,4,-999,9,-999,9,-999,-999,9,-999,9,-999,-999,9,-999,-999,9,-999,-999,9,-999,1.4729,27.7232
49NZ20070724,   P01,63,1,14, X12020,2,20070815,1031,46.9968,-178.3077,5503,2800,2,1.6007,2,1.60072,2,34.6506,2,34.6509,2,110.09,2,109.8,2,162.86,2,0.48,38.82,2,0.14,0.01,2,0.01,2.757,2,0.017,0.002,2,0,2,0,2,-999,9,-999,9,-999,9,-999,-999,9,-999,9,-999,-999,9,-999,-999,9,-999,-999,9,-999,1.4007,27.7369
49NZ20070724,   P01,63,1,13, X12019,2,20070815,1031,46.9968,-178.3077,5503,2999.8,2,1.5587,2,1.55872,2,34.6589,2,34.6586,2,118.44,2,118.1,2,160.99,2,0.47,38.33,2,0.14,0.02,2,0.01,2.707,2,0.017,-999,9,-999,9,-999,9,0.008,4,-999,9,-999,9,-999,-999,9,-999,9,-999,-999,9,-999,-999,9,-999,-999,9,-999,1.3407,27.7479
49NZ20070724,   P01,63,1,12, X12040,2,20070815,1031,46.9968,-178.3077,5503,3250.7,2,1.5161,2,1.51623,2,34.6675,2,34.6677,2,127.99,2,127.53,2,158.22,2,0.47,37.6,2,0.14,0,2,0.01,2.657,2,0.017,-999,9,-999,9,-999,9,-999,9,-999,9,-999,9,-999,-999,9,-999,9,-999,-999,9,-999,-999,9,-999,-999,9,-999,1.2747,27.7594
49NZ20070724,   P01,63,1,11, X12047,2,20070815,1031,46.9968,-178.3077,5503,3501.7,2,1.4873,2,1.4872,2,34.674,2,34.6741,2,135.58,2,135.6,2,156.52,2,0.46,37.13,2,0.14,0,2,0.01,2.619,2,0.017,0,2,0,2,0,2,0,4,-999,9,-999,9,-999,-999,9,-999,9,-999,-999,9,-999,-999,9,-999,-999,9,-999,1.2214,27.7683
49NZ20070724,   P01,63,1,10, X12010,2,20070815,1031,46.9968,-178.3077,5503,3750.3,2,1.4697,2,1.46962,2,34.6791,2,34.679,2,141.76,2,141.8,2,155.17,2,0.46,36.76,2,0.14,0,2,0.01,2.59,2,0.016,-999,9,-999,9,-999,9,-999,9,-999,9,-999,9,-999,-999,9,-999,9,-999,-999,9,-999,-999,9,-999,-999,9,-999,1.1784,27.7754
49NZ20070724,   P01,63,1,9, X12015,2,20070815,1031,46.9968,-178.3077,5503,4002.3,2,1.4614,2,1.46139,2,34.6832,2,34.6833,2,146.7,2,146.74,2,154.68,2,0.46,36.5,2,0.13,0.02,2,0.01,2.565,2,0.016,-999,9,-999,9,-999,9,0.007,4,-999,9,-999,9,-999,-999,9,-999,9,-999,-999,9,-999,-999,9,-999,-999,9,-999,1.1433,27.7811
49NZ20070724,   P01,63,1,8, X12046,2,20070815,1031,46.9968,-178.3077,5503,4249.9,2,1.4665,2,1.46649,2,34.6859,2,34.6859,6,149.71,2,149.81,2,154.93,2,0.46,36.26,2,0.13,0.01,2,0.01,2.547,2,0.016,0,2,0,2,0,2,-999,9,-999,9,-999,9,-999,-999,9,-999,9,-999,-999,9,-999,-999,9,-999,-999,9,-999,1.121,27.7848
49NZ20070724,   P01,63,1,7, X12044,2,20070815,1031,46.9968,-178.3077,5503,4501.5,2,1.4844,2,1.48438,2,34.6876,2,34.6875,2,151.09,2,151.35,2,156.2,2,0.46,36.25,2,0.13,0.01,2,0.01,2.545,2,0.016,-999,9,-999,9,-999,9,0,4,-999,9,-999,9,-999,-999,9,-999,9,-999,-999,9,-999,-999,9,-999,-999,9,-999,1.1097,27.7869
49NZ20070724,   P01,63,1,6, X12048,2,20070815,1031,46.9968,-178.3077,5503,4749.3,2,1.5084,2,1.50858,2,34.6884,2,34.6884,2,151.98,2,152.07,2,156.83,2,0.46,36.2,2,0.13,0.01,2,0.01,2.539,2,0.016,-999,9,-999,9,-999,9,-999,9,-999,9,-999,9,-999,-999,9,-999,9,-999,-999,9,-999,-999,9,-999,-999,9,-999,1.104,27.788
49NZ20070724,   P01,63,1,5, X12017,2,20070815,1031,46.9968,-178.3077,5503,4999.6,2,1.5364,2,1.53638,2,34.6887,2,34.6886,2,152.62,2,152.82,2,157.21,2,0.46,36.07,2,0.13,0,2,0.01,2.535,2,0.016,0.014,3,0.007,3,0,2,0,4,-999,9,-999,9,-999,-999,9,-999,9,-999,-999,9,-999,-999,9,-999,-999,9,-999,1.101,27.7884
49NZ20070724,   P01,63,1,4, X12928,2,20070815,1031,46.9968,-178.3077,5503,5249.2,2,1.5667,2,1.56665,2,34.6889,2,34.6889,2,153.12,2,153.13,2,157.11,2,0.46,36.11,2,0.13,0.02,2,0.01,2.534,2,0.016,-999,9,-999,9,-999,9,-999,9,-999,9,-999,9,-999,-999,9,-999,9,-999,-999,9,-999,-999,9,-999,-999,9,-999,1.0994,27.7887
49NZ20070724,   P01,63,1,3, X12931,2,20070815,1031,46.9968,-178.3077,5503,5500.1,2,1.5974,2,1.59723,2,34.689,2,34.6891,2,153.95,2,153.8,2,156.37,2,0.46,35.99,2,0.13,0.01,2,0.01,2.528,2,0.016,-999,9,-999,9,-999,9,0,4,-999,9,-999,9,-999,-999,9,-999,9,-999,-999,9,-999,-999,9,-999,-999,9,-999,1.0973,27.7889
49NZ20070724,   P01,63,1,2, X12930,2,20070815,1031,46.9968,-178.3077,5503,20.1,2,11.9493,2,11.94267,2,32.7619,2,-999,9,286.97,2,290.42,2,22.4,2,0.17,11.38,2,0.06,0.14,2,0.01,1.181,2,0.013,-999,9,-999,9,-999,9,-999,9,-999,9,-999,9,-999,-999,9,-999,9,-999,-999,9,-999,-999,9,-999,-999,9,-999,11.9468,24.8612
49NZ20070724,   P01,63,1,1, X12929,2,20070815,1031,46.9968,-178.3077,5503,5630.4,2,1.6148,2,1.6148,2,34.6891,2,34.6891,6,154.09,2,153.75,2,156.25,2,0.46,35.95,2,0.13,0.01,2,0.01,2.529,2,0.016,0.001,2,0,2,0,2,0.009,4,-999,9,-999,9,-999,-999,9,-999,9,-999,-999,9,-999,-999,9,-999,-999,9,-999,1.0972,27.789