BOTTLE,20081214JAMSTECIORGC,,,,,,,,,,,,,,,,,,,,,,,,,,,,,,,,,,,,,,,,,,,,,,,,,,,,,,,,,,,,,,,,,
EXPOCODE,SECT,STNNBR,CASTNO,SAMPNO,BTLNBR,BTLNBR_FLAG_W,DATE,TIME,LATITUDE,LONGITUDE,DEPTH,CTDPRS,CTDPRS_FLAG_W,CTDTMP,CTDTMP_FLAG_W,SBE35,SBE35_FLAG_W,CTDSAL,CTDSAL_FLAG_W,SALNTY,SALNTY_FLAG_W,CTDOXY,CTDOXY_FLAG_W,OXYGEN,OXYGEN_FLAG_W,SILCAT,SILCAT_FLAG_W,SILUNC,NITRAT,NITRAT_FLAG_W,NRAUNC,NITRIT,NITRIT_FLAG_W,NRIUNC,PHSPHT,PHSPHT_FLAG_W,PHPUNC,CFC-11,CFC-11_FLAG_W,CFC-12,CFC-12_FLAG_W,CFC113,CFC113_FLAG_W,CCL4,CCL4_FLAG_W,TCARBN,TCARBN_FLAG_W,ALKALI,ALKALI_FLAG_W,PH_TOT,PH_TMP,PH_FLAG_W,DELC13,DELC13_FLAG_W,C13ERR,DELC14,DELC14_FLAG_W,C14ERR,CS-137,CS-137_FLAG_W,CS137ER,PLUTO,PLUTO_FLAG_W,PLUTOER,THETA,SIG0
,,,,,,,,UTC,DEG,DEG,M,DBAR,,ITS-90,,ITS-90,,PSS-78,,PSS-78,,UMOL/KG,,UMOL/KG,,UMOL/KG,,UMOL/KG,UMOL/KG,,UMOL/KG,UMOL/KG,,UMOL/KG,UMOL/KG,,UMOL/KG,PMOL/KG,,PMOL/KG,,PMOL/KG,,PMOL/KG,,UMOL/KG,,UMOL/KG,,,ITS-90,,/MILLE,,/MILLE,/MILLE,,/MILLE,BQ/CUM,,BQ/CUM,MBQ/CUM,,MBQ/CUM,DEG C,KG/CUM
49NZ20070724,   P01,7,1,0,-999,9,20070727,325,42.2847,146.0533,4158,-999,9,-999,9,-999,9,-999,9,32.7494,2,-999,9,-999,9,-999,9,-999,-999,9,-999,-999,9,-999,-999,9,-999,-999,9,-999,9,-999,9,-999,9,-999,9,-999,9,-999,-999,9,-999,9,-999,-999,9,-999,-999,9,-999,-999,9,-999,-999,-999
49NZ20070724,   P01,7,1,36, X12042,2,20070727,325,42.2847,146.0533,4158,9.4,2,10.9782,2,11.05698,2,32.8076,2,32.8489,2,311.31,2,323.28,2,7.35,2,0.14,8.02,2,0.06,0.15,2,0.01,1.032,2,0.013,4.268,2,2.309,2,0.399,2,-999,9,2021.6,2,2237.8,2,7.9276,25,6,-999,9,-999,-999,9,-999,-999,9,-999,-999,9,-999,10.9771,25.0727
49NZ20070724,   P01,7,1,35, X12041,2,20070727,325,42.2847,146.0533,4158,49.6,2,2.9383,2,2.93766,2,33.0349,2,33.0554,2,321.7,2,321.36,2,35.96,2,0.2,20.45,2,0.09,0.43,2,0,1.848,2,0.015,5.443,2,2.896,2,0.535,2,-999,9,2124,6,2245.6,2,7.707,25,2,-999,9,-999,-999,9,-999,-999,9,-999,-999,9,-999,2.9355,26.3221
49NZ20070724,   P01,7,1,34, X12036,2,20070727,325,42.2847,146.0533,4158,99.9,2,1.7919,2,1.79166,2,33.2304,2,33.2694,2,272.91,2,270.72,2,53.26,2,0.24,28.3,2,0.11,0.02,2,0.01,2.195,2,0.016,4.978,2,2.609,2,0.459,2,-999,9,1088.4,4,2255,6,7.5839,25,2,-999,9,-999,-999,9,-999,-999,9,-999,-999,9,-999,1.7871,26.5697
49NZ20070724,   P01,7,1,33, X12033,2,20070727,325,42.2847,146.0533,4158,149.3,2,2.2987,2,2.2889,2,33.4865,2,33.4933,2,183.33,2,183.28,2,72.74,2,0.28,34.51,2,0.13,0.02,2,0.01,2.586,2,0.016,3.911,2,2.011,2,0.348,2,-999,9,2237.1,2,2274.5,2,7.4598,25,6,-999,9,-999,-999,9,-999,-999,9,-999,-999,9,-999,2.2907,26.7365
49NZ20070724,   P01,7,1,32, X12038,2,20070727,325,42.2847,146.0533,4158,199.4,2,2.8955,2,2.8969,2,33.6607,2,33.6677,2,118.56,2,117.83,2,83.65,2,0.3,39.07,2,0.14,0.02,2,0.01,2.852,2,0.017,3.057,2,1.537,2,0.251,2,-999,9,2279.6,2,2286.4,2,7.3709,25,2,-999,9,-999,-999,9,-999,-999,9,-999,-999,9,-999,2.8837,26.8262
49NZ20070724,   P01,7,1,31, X12003,2,20070727,325,42.2847,146.0533,4158,249.2,2,2.9441,2,2.94699,2,33.7501,2,33.7648,6,96.5,2,93.46,2,90.79,2,0.32,40.6,2,0.15,0.02,2,0.01,2.945,2,0.017,2.63,2,1.316,2,0.219,2,-999,9,2297.7,2,2297.2,2,7.3389,25,2,-999,9,-999,-999,9,-999,-999,9,-999,-999,9,-999,2.9291,26.8936
49NZ20070724,   P01,7,1,30, X12008,2,20070727,325,42.2847,146.0533,4158,300.3,2,2.7302,2,2.70702,2,33.8094,2,33.8316,2,94.99,2,86.6,2,97.05,2,0.33,40.31,2,0.15,0.02,2,0.01,2.945,2,0.017,2.423,2,1.215,2,0.217,2,-999,9,2307.2,2,2306.1,2,7.3389,25,2,-999,9,-999,-999,9,-999,-999,9,-999,-999,9,-999,2.7125,26.9598
49NZ20070724,   P01,7,1,29, X12035,2,20070727,325,42.2847,146.0533,4158,401.6,2,3.2599,2,3.25971,2,34.0198,2,34.0299,2,37.55,2,38.23,2,111.25,2,0.36,43.26,2,0.15,0.01,2,0.01,3.119,2,0.018,1.387,2,0.687,2,0.087,2,-999,9,2342,2,2325.5,2,7.2967,25,2,-999,9,-999,-999,9,-999,-999,9,-999,-999,9,-999,3.234,27.0812
49NZ20070724,   P01,7,1,28, X12034,2,20070727,325,42.2847,146.0533,4158,501.6,2,2.9669,2,2.96523,2,34.1251,2,34.1206,6,41.33,2,42.1,2,122.07,2,0.39,42.66,2,0.15,0.01,2,0.01,3.083,2,0.018,1.119,2,0.556,2,0.082,2,-999,9,2348.8,2,2341.2,2,7.32,25,2,-999,9,-999,-999,9,-999,-999,9,-999,-999,9,-999,2.9353,27.1925
49NZ20070724,   P01,7,1,27, X12049,2,20070727,325,42.2847,146.0533,4158,599.4,2,2.9457,2,2.94556,2,34.2123,2,34.2125,2,32.1,2,32.89,2,131.09,2,0.41,43.13,2,0.15,0.01,2,0.01,3.111,2,0.018,0.758,2,0.375,2,0.056,2,-999,9,2361.7,2,2353.7,2,7.3202,25,2,-999,9,-999,-999,9,-999,-999,9,-999,-999,9,-999,2.9075,27.2646
49NZ20070724,   P01,7,1,26, X12032,2,20070727,325,42.2847,146.0533,4158,698.4,2,2.7794,2,2.78094,2,34.2645,2,34.2636,2,34.27,2,35.08,2,137.26,2,0.42,42.98,2,0.15,0.01,2,0.01,3.105,2,0.018,0.647,6,0.317,6,0.048,6,-999,9,2365.8,6,2362.7,2,7.3293,25,2,-999,9,-999,-999,9,-999,-999,9,-999,-999,9,-999,2.7352,27.3215
49NZ20070724,   P01,7,1,25, X12043,2,20070727,325,42.2847,146.0533,4158,798.1,2,2.5971,2,2.597,2,34.3046,2,34.3017,2,40.16,2,41.16,2,142.03,2,0.43,42.56,2,0.15,0.01,2,0.01,3.077,2,0.018,0.616,2,0.301,2,0.046,2,-999,9,2366.8,2,2369.2,6,7.3467,25,2,-999,9,-999,-999,9,-999,-999,9,-999,-999,9,-999,2.547,27.3698
49NZ20070724,   P01,7,1,24, X12030,2,20070727,325,42.2847,146.0533,4158,898.6,2,2.5672,2,2.56728,2,34.3519,2,34.3526,2,37.64,2,37.92,2,146.32,2,0.44,42.78,2,0.15,0.01,2,0.01,3.081,2,0.018,0.427,2,0.209,2,0.029,2,-999,9,2373.3,2,2376.8,2,7.3526,25,6,-999,9,-999,-999,9,-999,-999,9,-999,-999,9,-999,2.5102,27.4108
49NZ20070724,   P01,7,1,23, X12027,2,20070727,325,42.2847,146.0533,4158,1000.3,2,2.523,2,2.52379,2,34.3903,2,34.3916,6,37.87,2,37.65,2,149.15,2,0.45,42.81,2,0.15,0.01,2,0.01,3.075,2,0.018,0.324,2,0.159,2,0.023,2,-999,9,2376.3,2,2381.7,2,7.3577,25,2,-999,9,-999,-999,9,-999,-999,9,-999,-999,9,-999,2.459,27.4458
49NZ20070724,   P01,7,1,22, X12028,2,20070727,325,42.2847,146.0533,4158,1199.9,2,2.4056,2,2.40479,2,34.4684,2,34.4662,2,41.92,2,42.53,2,153.48,2,0.46,42.67,2,0.15,0,2,0.01,3.055,2,0.018,0.146,2,0.07,2,0.009,2,-999,9,2379.4,2,2393.5,2,7.3764,25,2,-999,9,-999,-999,9,-999,-999,9,-999,-999,9,-999,2.3279,27.5192
49NZ20070724,   P01,7,1,21, X12009,2,20070727,325,42.2847,146.0533,4158,1400.6,2,2.2652,2,2.2651,2,34.5132,2,34.512,2,47.76,2,47.52,2,157.01,2,0.46,42.44,2,0.15,0,2,0.01,3.037,2,0.018,0.078,2,0.033,2,0.005,2,-999,9,2381.6,2,2401,2,7.3927,25,2,-999,9,-999,-999,9,-999,-999,9,-999,-999,9,-999,2.1737,27.5678
49NZ20070724,   P01,7,1,20, X12026,2,20070727,325,42.2847,146.0533,4158,1599.8,2,2.129,2,2.12892,2,34.5471,2,34.5471,2,56.54,2,56.1,2,159.44,2,0.47,42.04,2,0.15,0,2,0.01,2.987,2,0.017,0.021,2,0.017,2,0.004,2,-999,9,2378.2,2,2406.3,2,7.4143,25,2,-999,9,-999,-999,9,-999,-999,9,-999,-999,9,-999,2.0235,27.607
49NZ20070724,   P01,7,1,19, X12025,2,20070727,325,42.2847,146.0533,4158,1798.6,2,2.0094,2,2.00875,2,34.5769,2,34.5764,2,66.81,2,66.17,2,160.17,2,0.47,41.51,2,0.15,0,2,0.01,2.942,2,0.017,0.007,2,0.007,2,0,2,-999,9,2375.4,2,2410.1,2,7.436,25,2,-999,9,-999,-999,9,-999,-999,9,-999,-999,9,-999,1.8896,27.6413
49NZ20070724,   P01,7,1,18, X12024,2,20070727,325,42.2847,146.0533,4158,1999.9,2,1.8932,2,1.8934,2,34.6016,2,34.6004,6,78.8,2,78.61,2,159.58,2,0.47,40.79,2,0.15,0,2,0.01,2.887,2,0.017,0,2,0,2,0.002,2,-999,9,2370.5,2,2414,2,7.4596,25,2,-999,9,-999,-999,9,-999,-999,9,-999,-999,9,-999,1.7585,27.6713
49NZ20070724,   P01,7,1,17, X12023,2,20070727,325,42.2847,146.0533,4158,2200.4,2,1.7895,2,1.78842,2,34.6214,2,34.6215,2,92.15,2,91.72,2,158.37,2,0.47,40.02,2,0.14,0,2,0.01,2.822,2,0.017,0,2,0.001,2,0,2,-999,9,2363.9,2,2415.5,2,7.4845,25,2,-999,9,-999,-999,9,-999,-999,9,-999,-999,9,-999,1.6395,27.6961
49NZ20070724,   P01,7,1,16, X12022,2,20070727,325,42.2847,146.0533,4158,2399.3,2,1.7085,2,1.70808,2,34.6353,2,34.6346,2,101.83,2,101.73,2,157.68,2,0.47,39.39,2,0.14,0,2,0.01,2.78,2,0.017,-999,9,-999,9,-999,9,-999,9,2356.7,6,2417.1,2,7.5033,25,2,-999,9,-999,-999,9,-999,-999,9,-999,-999,9,-999,1.5426,27.7144
49NZ20070724,   P01,7,1,15, X12021,2,20070727,325,42.2847,146.0533,4158,2599.4,2,1.6323,2,1.63312,2,34.6477,2,34.6466,2,112.49,2,111.75,2,156.63,2,0.46,38.64,2,0.14,0,2,0.01,2.723,2,0.017,-999,9,-999,9,-999,9,-999,9,2351.7,2,2418.1,6,7.5223,25,2,-999,9,-999,-999,9,-999,-999,9,-999,-999,9,-999,1.45,27.7311
49NZ20070724,   P01,7,1,14, X12020,2,20070727,325,42.2847,146.0533,4158,2799.5,2,1.5658,2,1.56569,2,34.6583,2,34.6583,2,122.89,2,122.33,2,154.74,2,0.46,38.03,2,0.14,0,2,0.01,2.671,2,0.017,0,2,0,2,0,2,-999,9,2345.5,2,2418.4,2,7.5412,25,6,-999,9,-999,-999,9,-999,-999,9,-999,-999,9,-999,1.3665,27.7456
49NZ20070724,   P01,7,1,13, X12019,2,20070727,325,42.2847,146.0533,4158,2999.7,2,1.5117,2,1.51167,2,34.6667,2,34.6665,6,130.79,2,130.59,2,152.93,2,0.46,37.46,2,0.14,0,2,0.01,2.631,2,0.017,-999,9,-999,9,-999,9,-999,9,2340.6,2,2418.5,2,7.5555,25,2,-999,9,-999,-999,9,-999,-999,9,-999,-999,9,-999,1.2947,27.7574
49NZ20070724,   P01,7,1,12, X12040,2,20070727,325,42.2847,146.0533,4158,3251.3,2,1.4668,2,1.46682,2,34.6743,2,34.6744,2,139.06,2,138.9,2,150.76,2,0.45,36.91,2,0.14,0,2,0.01,2.585,2,0.016,-999,9,-999,9,-999,9,-999,9,2332.6,2,2416.6,2,7.5683,25,2,-999,9,-999,-999,9,-999,-999,9,-999,-999,9,-999,1.2265,27.7682
49NZ20070724,   P01,7,1,11, X12047,2,20070727,325,42.2847,146.0533,4158,3501.7,2,1.4443,2,1.44431,2,34.6796,2,34.6794,2,145.14,2,144.86,2,148.87,2,0.45,36.47,2,0.13,0,2,0.01,2.553,2,0.016,0,2,0.001,2,0,2,-999,9,2328.4,2,2416.9,2,7.5785,25,2,-999,9,-999,-999,9,-999,-999,9,-999,-999,9,-999,1.1794,27.7758
49NZ20070724,   P01,7,1,10, X12010,2,20070727,325,42.2847,146.0533,4158,3748.6,2,1.4377,2,1.43769,2,34.6832,2,34.6831,2,149.37,2,149.14,2,147.49,2,0.44,36.2,2,0.13,0,2,0.01,2.527,2,0.016,-999,9,-999,9,-999,9,-999,9,2326,2,2416.3,2,7.5859,25,2,-999,9,-999,-999,9,-999,-999,9,-999,-999,9,-999,1.1474,27.7808
49NZ20070724,   P01,7,1,9, X12015,2,20070727,325,42.2847,146.0533,4158,3999.8,2,1.4371,2,1.43695,2,34.6858,2,34.6861,2,152.72,2,152.77,2,146.84,2,0.44,35.98,2,0.13,0,2,0.01,2.514,2,0.016,-999,9,-999,9,-999,9,-999,9,2322.4,2,2415.7,2,7.5929,25,2,-999,9,-999,-999,9,-999,-999,9,-999,-999,9,-999,1.12,27.7848
49NZ20070724,   P01,7,1,8, X12046,9,20070727,325,42.2847,146.0533,4158,9.4,2,11.1838,2,11.22983,2,32.7985,2,-999,9,308.85,2,-999,9,-999,9,-999,-999,9,-999,-999,9,-999,-999,9,-999,-999,9,-999,9,-999,9,-999,9,-999,9,-999,9,-999,-999,9,-999,9,-999,-999,9,-999,-999,9,-999,-999,9,-999,11.1827,25.0291
49NZ20070724,   P01,7,1,7, X12044,9,20070727,325,42.2847,146.0533,4158,49.7,2,2.9417,2,2.94301,2,33.0347,2,-999,9,321.21,2,-999,9,-999,9,-999,-999,9,-999,-999,9,-999,-999,9,-999,-999,9,-999,9,-999,9,-999,9,-999,9,-999,9,-999,-999,9,-999,9,-999,-999,9,-999,-999,9,-999,-999,9,-999,2.9389,26.3217
49NZ20070724,   P01,7,1,6, X12048,9,20070727,325,42.2847,146.0533,4158,100.1,2,1.8016,2,1.8045,2,33.2351,2,-999,9,272.8,2,-999,9,-999,9,-999,-999,9,-999,-999,9,-999,-999,9,-999,-999,9,-999,9,-999,9,-999,9,-999,9,-999,9,-999,-999,9,-999,9,-999,-999,9,-999,-999,9,-999,-999,9,-999,1.7967,26.5728
49NZ20070724,   P01,7,1,5, X12017,9,20070727,325,42.2847,146.0533,4158,149.4,2,2.3163,2,2.31676,2,33.5025,2,-999,9,175.95,2,-999,9,-999,9,-999,-999,9,-999,-999,9,-999,-999,9,-999,-999,9,-999,9,-999,9,-999,9,-999,9,-999,9,-999,-999,9,-999,9,-999,-999,9,-999,-999,9,-999,-999,9,-999,2.3083,26.7479
49NZ20070724,   P01,7,1,4, X12928,9,20070727,325,42.2847,146.0533,4158,199.3,2,2.8825,2,2.8848,2,33.6553,2,-999,9,119.88,2,-999,9,-999,9,-999,-999,9,-999,-999,9,-999,-999,9,-999,-999,9,-999,9,-999,9,-999,9,-999,9,-999,9,-999,-999,9,-999,9,-999,-999,9,-999,-999,9,-999,-999,9,-999,2.8707,26.823
49NZ20070724,   P01,7,1,3, X12931,9,20070727,325,42.2847,146.0533,4158,249.2,2,2.9775,2,2.96223,2,33.7539,2,-999,9,96.9,2,-999,9,-999,9,-999,-999,9,-999,-999,9,-999,-999,9,-999,-999,9,-999,9,-999,9,-999,9,-999,9,-999,9,-999,-999,9,-999,9,-999,-999,9,-999,-999,9,-999,-999,9,-999,2.9624,26.8937
49NZ20070724,   P01,7,1,2, X12930,9,20070727,325,42.2847,146.0533,4158,299.7,2,2.7568,2,2.78632,2,33.8321,2,-999,9,97.9,2,-999,9,-999,9,-999,-999,9,-999,-999,9,-999,-999,9,-999,-999,9,-999,9,-999,9,-999,9,-999,9,-999,9,-999,-999,9,-999,9,-999,-999,9,-999,-999,9,-999,-999,9,-999,2.7391,26.9757
49NZ20070724,   P01,7,1,1, X12929,2,20070727,325,42.2847,146.0533,4158,4228.1,2,1.4563,2,1.45617,2,34.6865,2,34.6863,6,153.55,2,153.46,2,146.81,2,0.44,35.91,2,0.13,0.01,2,0.01,2.516,2,0.016,0.002,2,0.005,2,0.001,2,-999,9,2323.7,2,2416,2,7.5934,25,2,-999,9,-999,-999,9,-999,-999,9,-999,-999,9,-999,1.1135,27.7858