BOTTLE,20081214JAMSTECIORGC,,,,,,,,,,,,,,,,,,,,,,,,,,,,,,,,,,,,,,,,,,,,,,,,,,,,,,,,,,,,,,,,,
EXPOCODE,SECT,STNNBR,CASTNO,SAMPNO,BTLNBR,BTLNBR_FLAG_W,DATE,TIME,LATITUDE,LONGITUDE,DEPTH,CTDPRS,CTDPRS_FLAG_W,CTDTMP,CTDTMP_FLAG_W,SBE35,SBE35_FLAG_W,CTDSAL,CTDSAL_FLAG_W,SALNTY,SALNTY_FLAG_W,CTDOXY,CTDOXY_FLAG_W,OXYGEN,OXYGEN_FLAG_W,SILCAT,SILCAT_FLAG_W,SILUNC,NITRAT,NITRAT_FLAG_W,NRAUNC,NITRIT,NITRIT_FLAG_W,NRIUNC,PHSPHT,PHSPHT_FLAG_W,PHPUNC,CFC-11,CFC-11_FLAG_W,CFC-12,CFC-12_FLAG_W,CFC113,CFC113_FLAG_W,CCL4,CCL4_FLAG_W,TCARBN,TCARBN_FLAG_W,ALKALI,ALKALI_FLAG_W,PH_TOT,PH_TMP,PH_FLAG_W,DELC13,DELC13_FLAG_W,C13ERR,DELC14,DELC14_FLAG_W,C14ERR,CS-137,CS-137_FLAG_W,CS137ER,PLUTO,PLUTO_FLAG_W,PLUTOER,THETA,SIG0
,,,,,,,,UTC,DEG,DEG,M,DBAR,,ITS-90,,ITS-90,,PSS-78,,PSS-78,,UMOL/KG,,UMOL/KG,,UMOL/KG,,UMOL/KG,UMOL/KG,,UMOL/KG,UMOL/KG,,UMOL/KG,UMOL/KG,,UMOL/KG,PMOL/KG,,PMOL/KG,,PMOL/KG,,PMOL/KG,,UMOL/KG,,UMOL/KG,,,ITS-90,,/MILLE,,/MILLE,/MILLE,,/MILLE,BQ/CUM,,BQ/CUM,MBQ/CUM,,MBQ/CUM,DEG C,KG/CUM
49NZ20070724,   P01,83,1,0,-999,9,20070821,833,46.9943,-155.863,5247,-999,9,-999,9,-999,9,-999,9,32.664,2,-999,9,-999,9,-999,9,-999,-999,9,-999,-999,9,-999,-999,9,-999,-999,9,-999,9,-999,9,-999,9,-999,9,-999,9,-999,-999,9,-999,9,-999,-999,9,-999,-999,9,-999,-999,9,-999,-999,-999
49NZ20070724,   P01,83,1,36, X12042,2,20070821,833,46.9943,-155.863,5247,10.8,2,14.0945,2,14.09523,2,32.6668,2,32.6755,2,274.69,2,278.02,2,1.41,2,0.12,7.11,2,0.05,0.14,2,0.01,0.816,2,0.013,3.26,2,1.822,2,0.323,2,-999,9,1997.8,2,2205.5,2,7.9217,25,6,-999,9,-999,-999,9,-999,-999,9,-999,-999,9,-999,14.093,24.3653
49NZ20070724,   P01,83,1,35, X12041,2,20070821,833,46.9943,-155.863,5247,50.5,2,6.6255,2,6.63826,2,32.9112,2,32.9136,2,308.7,2,309.23,2,21.47,2,0.17,13.02,2,0.07,0.15,2,0.01,1.325,2,0.014,4.549,2,2.538,2,0.414,2,-999,9,2063.6,6,2216.9,2,7.7978,25,2,-999,9,-999,-999,9,-999,-999,9,-999,-999,9,-999,6.6211,25.8237
49NZ20070724,   P01,83,1,34, X12036,2,20070821,833,46.9943,-155.863,5247,100.5,2,5.6505,2,5.65157,2,33.0478,2,33.0547,2,302.05,2,301.79,2,22.18,2,0.17,14.49,2,0.07,0.76,2,0,1.346,2,0.014,4.598,2,2.57,2,0.431,2,-999,9,2074.9,2,2220.7,6,7.775,25,2,-999,9,-999,-999,9,-999,-999,9,-999,-999,9,-999,5.6425,26.0536
49NZ20070724,   P01,83,1,33, X12033,2,20070821,833,46.9943,-155.863,5247,149.8,2,5.8658,2,5.87011,2,33.5972,2,33.6351,2,252.18,2,249.82,2,31.95,2,0.19,20.77,2,0.09,0.02,2,0.01,1.59,2,0.014,4.146,6,2.274,6,0.325,6,-999,9,2137.1,2,2253.6,2,7.6942,25,6,-999,9,-999,-999,9,-999,-999,9,-999,-999,9,-999,5.8535,26.4624
49NZ20070724,   P01,83,1,32, X12038,2,20070821,833,46.9943,-155.863,5247,200.4,2,5.3141,2,5.31396,2,33.7684,2,33.7688,2,191.56,2,192.02,2,47,2,0.22,26.78,2,0.11,0.02,2,0.01,1.994,2,0.015,3.634,2,1.914,2,0.261,2,-999,9,2188.1,2,2269.4,2,7.5904,25,2,-999,9,-999,-999,9,-999,-999,9,-999,-999,9,-999,5.2983,26.6645
49NZ20070724,   P01,83,1,31, X12003,2,20070821,833,46.9943,-155.863,5247,250.6,2,4.8927,2,4.89361,2,33.8316,2,33.8312,6,146.8,2,147.09,2,59.86,2,0.25,31.6,2,0.12,0.02,2,0.01,2.31,2,0.016,3.096,2,1.585,2,0.209,2,-999,9,2226.6,2,2279.9,2,7.5073,25,2,-999,9,-999,-999,9,-999,-999,9,-999,-999,9,-999,4.8737,26.7632
49NZ20070724,   P01,83,1,30, X12008,2,20070821,833,46.9943,-155.863,5247,278.7,2,4.6954,2,4.69355,2,33.8545,2,33.8541,2,129.18,2,128.3,2,65.88,2,0.26,33.58,2,0.13,0.02,2,0.01,2.447,2,0.016,2.851,2,1.441,2,0.178,2,-999,9,2244,2,2284.9,2,7.4694,25,2,-999,9,-999,-999,9,-999,-999,9,-999,-999,9,-999,4.6746,26.8035
49NZ20070724,   P01,83,1,29, X12035,2,20070821,833,46.9943,-155.863,5247,371.4,2,4.3778,2,4.37664,2,33.9591,2,33.9596,2,84.65,2,85.37,2,80.81,2,0.3,37.9,2,0.14,0.02,2,0.01,2.718,2,0.017,2.069,2,1.019,2,0.141,2,-999,9,2282,2,2300.7,2,7.4006,25,2,-999,9,-999,-999,9,-999,-999,9,-999,-999,9,-999,4.3507,26.9216
49NZ20070724,   P01,83,1,28, X12034,2,20070821,833,46.9943,-155.863,5247,470.9,2,4.1039,2,4.10369,2,34.0507,2,34.0541,6,55.87,2,55.68,2,94.91,2,0.33,40.65,2,0.15,0.02,2,0.01,2.912,2,0.017,1.416,2,0.681,2,0.081,2,-999,9,2311.5,2,2316.6,2,7.3572,25,2,-999,9,-999,-999,9,-999,-999,9,-999,-999,9,-999,4.0701,27.0237
49NZ20070724,   P01,83,1,27, X12049,2,20070821,833,46.9943,-155.863,5247,570.4,2,3.8349,2,3.83472,2,34.148,2,34.1486,2,37.82,2,38.33,2,107.8,2,0.36,42.17,2,0.15,0.01,2,0.01,3.009,2,0.017,0.866,2,0.412,2,0.055,2,-999,9,2334.2,2,2332.3,2,7.3398,25,2,-999,9,-999,-999,9,-999,-999,9,-999,-999,9,-999,3.7947,27.1292
49NZ20070724,   P01,83,1,26, X12032,2,20070821,833,46.9943,-155.863,5247,670.4,2,3.6642,2,3.6641,2,34.2125,2,34.2135,2,32.17,2,32.37,2,115.74,2,0.37,42.81,2,0.15,0.02,2,0.01,3.056,2,0.018,0.556,6,0.266,6,0.033,6,-999,9,2345.1,6,2344.2,2,7.338,25,2,-999,9,-999,-999,9,-999,-999,9,-999,-999,9,-999,3.6172,27.1981
49NZ20070724,   P01,83,1,25, X12043,2,20070821,833,46.9943,-155.863,5247,769.1,2,3.4152,2,3.41491,2,34.2661,2,34.2687,2,26.05,2,26.26,2,124.5,2,0.39,43.41,2,0.15,0.01,2,0.01,3.101,2,0.018,0.317,2,0.151,2,0.015,2,-999,9,2357,2,2353.9,6,7.3326,25,2,-999,9,-999,-999,9,-999,-999,9,-999,-999,9,-999,3.3622,27.2655
49NZ20070724,   P01,83,1,24, X12030,2,20070821,833,46.9943,-155.863,5247,870.1,2,3.2143,2,3.2144,2,34.3099,2,34.3097,2,24.29,2,24.44,2,130.86,2,0.41,43.63,2,0.15,0.01,2,0.01,3.104,2,0.018,0.129,2,0.061,2,0,2,-999,9,2365.8,2,2363.5,2,7.3317,25,2,-999,9,-999,-999,9,-999,-999,9,-999,-999,9,-999,3.1549,27.3199
49NZ20070724,   P01,83,1,23, X12027,2,20070821,833,46.9943,-155.863,5247,970.2,2,2.9997,2,2.99966,2,34.3538,2,34.3543,6,23.24,2,23.34,2,138.3,2,0.42,43.95,2,0.16,0.01,2,0.01,3.133,2,0.018,0.144,2,0.07,2,0,2,-999,9,2373.3,2,2372.8,2,7.3349,25,2,-999,9,-999,-999,9,-999,-999,9,-999,-999,9,-999,2.9343,27.3752
49NZ20070724,   P01,83,1,22, X12028,2,20070821,833,46.9943,-155.863,5247,1129.7,2,2.7532,2,2.75322,2,34.4085,2,34.4087,2,23.7,2,23.73,2,146.2,2,0.44,44.05,2,0.16,0.01,2,0.01,3.138,2,0.018,0.073,2,0.035,2,0,2,-999,9,2381.4,2,2382.7,2,7.343,25,2,-999,9,-999,-999,9,-999,-999,9,-999,-999,9,-999,2.6777,27.4416
49NZ20070724,   P01,83,1,21, X12009,2,20070821,833,46.9943,-155.863,5247,1330.7,2,2.5052,2,2.50528,2,34.4648,2,34.4648,2,20.9,2,20.93,2,155.17,2,0.46,44.35,2,0.16,0.01,2,0.01,3.149,2,0.018,0.015,2,0.007,2,0,2,-999,9,2394.7,2,2394.3,2,7.3405,25,2,-999,9,-999,-999,9,-999,-999,9,-999,-999,9,-999,2.4166,27.509
49NZ20070724,   P01,83,1,20, X12026,2,20070821,833,46.9943,-155.863,5247,1531.3,2,2.3037,2,2.30384,2,34.5106,2,34.5106,2,23.84,2,23.75,2,161.55,2,0.47,44.5,2,0.16,0.01,2,0.01,3.138,2,0.018,-999,5,-999,5,-999,5,-999,9,2398.8,2,2403.6,2,7.3515,25,6,-999,9,-999,-999,9,-999,-999,9,-999,-999,9,-999,2.2016,27.5634
49NZ20070724,   P01,83,1,19, X12025,2,20070821,833,46.9943,-155.863,5247,1730.5,2,2.1426,2,2.14258,2,34.5453,2,34.5455,2,33.43,2,32.97,2,165.78,2,0.48,44.02,2,0.16,0.01,2,0.01,3.093,2,0.018,0.003,2,0.001,2,0,2,-999,9,2398.4,2,2408.7,2,7.3731,25,2,-999,9,-999,-999,9,-999,-999,9,-999,-999,9,-999,2.0266,27.6053
49NZ20070724,   P01,83,1,18, X12024,2,20070821,833,46.9943,-155.863,5247,1930.5,2,2.0148,2,2.01477,2,34.5731,2,34.5727,2,44.11,2,43.72,2,168.77,2,0.49,43.35,2,0.15,0.01,2,0.01,3.046,2,0.018,0,2,0.001,2,0,2,-999,9,2395.3,2,2413,2,7.3925,25,2,-999,9,-999,-999,9,-999,-999,9,-999,-999,9,-999,1.8841,27.6387
49NZ20070724,   P01,83,1,17, X12023,2,20070821,833,46.9943,-155.863,5247,2129.5,2,1.9011,2,1.9011,2,34.5962,2,34.5962,2,56.27,2,55.94,2,170.3,2,0.49,42.74,2,0.15,0.01,2,0.01,3.001,2,0.017,0.001,2,0.001,2,0,2,-999,9,2390.2,2,2417,2,7.4184,25,2,-999,9,-999,-999,9,-999,-999,9,-999,-999,9,-999,1.7554,27.6671
49NZ20070724,   P01,83,1,16, X12022,2,20070821,833,46.9943,-155.863,5247,2330.7,2,1.8076,2,1.80759,2,34.6146,2,34.6147,2,68.99,2,68.54,2,170.39,2,0.49,41.85,2,0.15,0.01,2,0.01,2.933,2,0.017,-999,9,-999,9,-999,9,-999,9,2382.1,6,2418.8,2,7.4405,25,2,-999,9,-999,-999,9,-999,-999,9,-999,-999,9,-999,1.6461,27.6901
49NZ20070724,   P01,83,1,15, X12021,2,20070821,833,46.9943,-155.863,5247,2529.2,2,1.7302,2,1.73004,2,34.6287,2,34.6286,6,81.35,2,80.76,2,169.78,2,0.49,41.08,2,0.15,0.01,2,0.01,2.884,2,0.017,-999,9,-999,9,-999,9,-999,9,2375.2,2,2419.7,6,7.4649,25,2,-999,9,-999,-999,9,-999,-999,9,-999,-999,9,-999,1.5524,27.7083
49NZ20070724,   P01,83,1,14, X12020,2,20070821,833,46.9943,-155.863,5247,2730.1,2,1.657,2,1.65697,2,34.6415,2,34.6419,2,93.32,2,93.04,2,168.46,2,0.49,40.28,2,0.15,0.01,2,0.01,2.827,2,0.017,-999,9,-999,9,-999,9,-999,9,2367,2,2421.2,2,7.4874,25,6,-999,9,-999,-999,9,-999,-999,9,-999,-999,9,-999,1.4623,27.7252
49NZ20070724,   P01,83,1,13, X12019,2,20070821,833,46.9943,-155.863,5247,2930.4,2,1.6044,2,1.60451,2,34.6518,2,34.6517,2,104.35,2,104.11,2,166.26,2,0.48,39.61,2,0.14,0.01,2,0.01,2.768,2,0.017,-999,9,-999,9,-999,9,-999,9,2361.8,2,2420.3,2,7.509,25,2,-999,9,-999,-999,9,-999,-999,9,-999,-999,9,-999,1.3921,27.7385
49NZ20070724,   P01,83,1,12, X12040,2,20070821,833,46.9943,-155.863,5247,3170.6,2,1.5584,2,1.55837,2,34.6608,2,34.661,2,116.28,2,116.06,2,162.9,2,0.48,38.65,2,0.14,0.01,2,0.01,2.705,2,0.017,-999,9,-999,9,-999,9,-999,9,2352.2,2,2420.6,2,7.53,25,2,-999,9,-999,-999,9,-999,-999,9,-999,-999,9,-999,1.3239,27.7506
49NZ20070724,   P01,83,1,11, X12047,2,20070821,833,46.9943,-155.863,5247,3420.6,2,1.5183,2,1.51836,2,34.6692,2,34.6693,2,125.32,2,125.1,2,162.27,2,0.48,38.16,2,0.14,0.01,2,0.01,2.667,2,0.017,-999,9,-999,9,-999,9,-999,9,2347.5,2,2422,2,7.5462,25,2,-999,9,-999,-999,9,-999,-999,9,-999,-999,9,-999,1.2598,27.7618
49NZ20070724,   P01,83,1,10, X12010,2,20070821,833,46.9943,-155.863,5247,3670.1,2,1.4924,2,1.49236,2,34.6757,2,34.6755,2,133.8,2,133.85,2,159.81,2,0.47,37.53,2,0.14,0.01,2,0.01,2.617,2,0.017,-999,9,-999,9,-999,9,-999,9,2342.2,2,2422.1,2,7.5635,25,2,-999,9,-999,-999,9,-999,-999,9,-999,-999,9,-999,1.2089,27.7706
49NZ20070724,   P01,83,1,9, X12015,2,20070821,833,46.9943,-155.863,5247,3920.9,2,1.4834,2,1.48349,2,34.6804,2,34.6803,6,138.62,2,138.79,2,160.97,2,0.47,37.24,2,0.14,0.01,2,0.01,2.595,2,0.016,-999,9,-999,9,-999,9,-999,9,2339.5,2,2424.3,2,7.5747,25,2,-999,9,-999,-999,9,-999,-999,9,-999,-999,9,-999,1.1736,27.7768
49NZ20070724,   P01,83,1,8, X12046,2,20070821,833,46.9943,-155.863,5247,4171.3,2,1.4897,2,1.48968,2,34.6833,2,34.6838,2,141.73,2,142.05,2,161.34,2,0.47,36.98,2,0.14,0.02,2,0.01,2.578,2,0.016,-999,9,-999,9,-999,9,-999,9,2338.4,6,2425.8,2,7.5832,25,2,-999,9,-999,-999,9,-999,-999,9,-999,-999,9,-999,1.1523,27.7806
49NZ20070724,   P01,83,1,7, X12044,2,20070821,833,46.9943,-155.863,5247,4421.2,2,1.5051,2,1.50508,2,34.6852,2,34.6854,2,143.64,2,143.91,2,162.88,2,0.48,36.93,2,0.14,0.01,2,0.01,2.567,2,0.016,-999,9,-999,9,-999,9,-999,9,2337.2,2,2427,6,7.5865,25,2,-999,9,-999,-999,9,-999,-999,9,-999,-999,9,-999,1.139,27.783
49NZ20070724,   P01,83,1,6, X12048,2,20070821,833,46.9943,-155.863,5247,4670.2,2,1.5276,2,1.52768,2,34.6868,2,34.6862,2,144.3,2,144.66,2,165.21,2,0.48,36.94,2,0.14,0.01,2,0.01,2.565,2,0.016,-999,9,-999,9,-999,9,-999,9,2337.7,2,2428.4,2,7.5905,25,6,-999,9,-999,-999,9,-999,-999,9,-999,-999,9,-999,1.1319,27.7848
49NZ20070724,   P01,83,1,5, X12017,2,20070821,833,46.9943,-155.863,5247,4920.2,2,1.5506,2,1.55049,2,34.6872,2,34.6868,2,146.08,2,146.19,2,163.7,2,0.48,36.84,2,0.14,0.01,2,0.01,2.559,2,0.016,-999,9,-999,9,-999,9,-999,9,2335.3,2,2427.4,2,7.5931,25,2,-999,9,-999,-999,9,-999,-999,9,-999,-999,9,-999,1.1244,27.7856
49NZ20070724,   P01,83,1,4, X12928,2,20070821,833,46.9943,-155.863,5247,5170.1,2,1.5768,2,1.57674,2,34.6877,2,34.6879,2,147.43,2,147.36,2,163.4,2,0.48,36.67,2,0.14,0.01,2,0.01,2.551,2,0.016,-999,9,-999,9,-999,9,-999,9,2335.3,2,2426.7,2,7.5932,25,2,-999,9,-999,-999,9,-999,-999,9,-999,-999,9,-999,1.119,27.7864
49NZ20070724,   P01,83,1,3, X12931,9,20070821,833,46.9943,-155.863,5247,10.6,2,14.0832,2,14.07047,2,32.669,2,-999,9,275.37,2,-999,9,-999,9,-999,-999,9,-999,-999,9,-999,-999,9,-999,-999,9,-999,9,-999,9,-999,9,-999,9,-999,9,-999,-999,9,-999,9,-999,-999,9,-999,-999,9,-999,-999,9,-999,14.0817,24.3694
49NZ20070724,   P01,83,1,2, X12930,9,20070821,833,46.9943,-155.863,5247,200.7,2,5.3138,2,5.31364,2,33.7674,2,-999,9,191.61,2,-999,9,-999,9,-999,-999,9,-999,-999,9,-999,-999,9,-999,-999,9,-999,9,-999,9,-999,9,-999,9,-999,9,-999,-999,9,-999,9,-999,-999,9,-999,-999,9,-999,-999,9,-999,5.298,26.6637
49NZ20070724,   P01,83,1,1, X12929,2,20070821,833,46.9943,-155.863,5247,5342.1,2,1.5987,2,1.5986,2,34.6879,2,34.6885,6,147.74,2,147.39,2,164.37,2,0.48,36.67,2,0.14,0.01,2,0.01,2.549,2,0.016,-999,9,-999,9,-999,9,-999,9,2335.1,2,2426.2,2,7.5942,25,2,-999,9,-999,-999,9,-999,-999,9,-999,-999,9,-999,1.1186,27.7866