BOTTLE,20081214JAMSTECIORGC,,,,,,,,,,,,,,,,,,,,,,,,,,,,,,,,,,,,,,,,,,,,,,,,,,,,,,,,,,,,,,,,,
EXPOCODE,SECT,STNNBR,CASTNO,SAMPNO,BTLNBR,BTLNBR_FLAG_W,DATE,TIME,LATITUDE,LONGITUDE,DEPTH,CTDPRS,CTDPRS_FLAG_W,CTDTMP,CTDTMP_FLAG_W,SBE35,SBE35_FLAG_W,CTDSAL,CTDSAL_FLAG_W,SALNTY,SALNTY_FLAG_W,CTDOXY,CTDOXY_FLAG_W,OXYGEN,OXYGEN_FLAG_W,SILCAT,SILCAT_FLAG_W,SILUNC,NITRAT,NITRAT_FLAG_W,NRAUNC,NITRIT,NITRIT_FLAG_W,NRIUNC,PHSPHT,PHSPHT_FLAG_W,PHPUNC,CFC-11,CFC-11_FLAG_W,CFC-12,CFC-12_FLAG_W,CFC113,CFC113_FLAG_W,CCL4,CCL4_FLAG_W,TCARBN,TCARBN_FLAG_W,ALKALI,ALKALI_FLAG_W,PH_TOT,PH_TMP,PH_FLAG_W,DELC13,DELC13_FLAG_W,C13ERR,DELC14,DELC14_FLAG_W,C14ERR,CS-137,CS-137_FLAG_W,CS137ER,PLUTO,PLUTO_FLAG_W,PLUTOER,THETA,SIG0
,,,,,,,,UTC,DEG,DEG,M,DBAR,,ITS-90,,ITS-90,,PSS-78,,PSS-78,,UMOL/KG,,UMOL/KG,,UMOL/KG,,UMOL/KG,UMOL/KG,,UMOL/KG,UMOL/KG,,UMOL/KG,UMOL/KG,,UMOL/KG,PMOL/KG,,PMOL/KG,,PMOL/KG,,PMOL/KG,,UMOL/KG,,UMOL/KG,,,ITS-90,,/MILLE,,/MILLE,/MILLE,,/MILLE,BQ/CUM,,BQ/CUM,MBQ/CUM,,MBQ/CUM,DEG C,KG/CUM
49NZ20070724,   P01,84,1,0,-999,9,20070821,1521,46.994,-154.7653,5206,-999,9,-999,9,-999,9,-999,9,32.694,2,-999,9,-999,9,-999,9,-999,-999,9,-999,-999,9,-999,-999,9,-999,-999,9,-999,9,-999,9,-999,9,-999,9,-999,9,-999,-999,9,-999,9,-999,-999,9,-999,-999,9,-999,-999,9,-999,-999,-999
49NZ20070724,   P01,84,1,36, X12042,2,20070821,1521,46.994,-154.7653,5206,10.2,2,13.8972,2,13.9143,2,32.7149,2,32.7077,2,275.09,2,278.17,2,1.59,2,0.12,7.07,2,0.05,0.14,2,0.01,0.814,2,0.013,3.292,2,1.883,2,0.329,2,4.302,4,-999,9,-999,9,-999,-999,9,-999,9,-999,-999,9,-999,-999,9,-999,-999,9,-999,13.8958,24.4432
49NZ20070724,   P01,84,1,35, X12041,2,20070821,1521,46.994,-154.7653,5206,49.6,2,7.0654,2,7.04658,2,32.8781,2,32.8813,2,303.28,2,303.59,2,18.65,2,0.16,11.88,2,0.07,0.14,2,0.01,1.285,2,0.014,4.466,2,2.519,2,0.412,2,5.845,4,-999,9,-999,9,-999,-999,9,-999,9,-999,-999,9,-999,-999,9,-999,-999,9,-999,7.0609,25.7394
49NZ20070724,   P01,84,1,34, X12036,2,20070821,1521,46.994,-154.7653,5206,99.8,2,5.7237,2,5.72433,2,32.9964,2,33.0104,2,301.78,2,301.13,2,21.47,2,0.17,14,2,0.07,0.74,2,0,1.324,2,0.014,4.603,2,2.601,2,0.435,2,5.836,4,-999,9,-999,9,-999,-999,9,-999,9,-999,-999,9,-999,-999,9,-999,-999,9,-999,5.7157,26.0041
49NZ20070724,   P01,84,1,33, X12033,2,20070821,1521,46.994,-154.7653,5206,148.8,2,5.921,2,5.92154,2,33.3647,2,33.387,2,275.84,2,275,2,25.72,2,0.18,17.45,2,0.08,0.03,2,0.01,1.418,2,0.014,4.359,6,2.45,6,0.359,6,4.565,4,-999,9,-999,9,-999,-999,9,-999,9,-999,-999,9,-999,-999,9,-999,-999,9,-999,5.9087,26.2718
49NZ20070724,   P01,84,1,32, X12038,2,20070821,1521,46.994,-154.7653,5206,203.6,2,5.519,2,5.51956,2,33.7648,2,33.7638,2,201.07,2,203.13,2,43.45,2,0.21,25.29,2,0.1,0.01,2,0.01,1.891,2,0.015,3.728,2,2.016,2,0.28,2,3.02,4,-999,9,-999,9,-999,-999,9,-999,9,-999,-999,9,-999,-999,9,-999,-999,9,-999,5.5026,26.6374
49NZ20070724,   P01,84,1,31, X12003,2,20070821,1521,46.994,-154.7653,5206,253.1,2,4.9852,2,4.9855,2,33.8062,2,33.8067,6,159.49,2,160.11,2,55.78,2,0.24,30.08,2,0.12,0.01,2,0.01,2.218,2,0.016,3.315,2,1.73,2,0.234,2,2.246,4,-999,9,-999,9,-999,-999,9,-999,9,-999,-999,9,-999,-999,9,-999,-999,9,-999,4.9658,26.7327
49NZ20070724,   P01,84,1,30, X12008,2,20070821,1521,46.994,-154.7653,5206,301.9,2,4.7096,2,4.71099,2,33.8585,2,33.8574,2,126.28,2,127.91,2,65.84,2,0.26,33.43,2,0.13,0,2,0.01,2.429,2,0.016,2.849,2,1.456,2,0.191,2,2.066,4,-999,9,-999,9,-999,-999,9,-999,9,-999,-999,9,-999,-999,9,-999,-999,9,-999,4.687,26.8053
49NZ20070724,   P01,84,1,29, X12035,2,20070821,1521,46.994,-154.7653,5206,400.4,2,4.2688,2,4.26839,2,33.976,2,33.9807,2,75.48,2,75.26,2,85.18,2,0.31,38.73,2,0.14,0.01,2,0.01,2.778,2,0.017,1.896,2,0.935,2,0.132,2,1.378,4,-999,9,-999,9,-999,-999,9,-999,9,-999,-999,9,-999,-999,9,-999,-999,9,-999,4.2398,26.9467
49NZ20070724,   P01,84,1,28, X12034,2,20070821,1521,46.994,-154.7653,5206,500.4,2,4.1145,2,4.11438,2,34.0851,2,34.0863,6,51.13,2,50.99,2,97.74,2,0.33,40.83,2,0.15,0.01,2,0.01,2.91,2,0.017,1.222,2,0.592,2,0.07,2,0.909,4,-999,9,-999,9,-999,-999,9,-999,9,-999,-999,9,-999,-999,9,-999,-999,9,-999,4.0784,27.0503
49NZ20070724,   P01,84,1,27, X12049,2,20070821,1521,46.994,-154.7653,5206,599.2,2,3.8415,2,3.84149,2,34.1631,2,34.1622,2,35.28,2,35.61,2,109.19,2,0.36,42.27,2,0.15,0.01,2,0.01,3.005,2,0.017,0.527,2,0.247,2,0.031,2,0.531,4,-999,9,-999,9,-999,-999,9,-999,9,-999,-999,9,-999,-999,9,-999,-999,9,-999,3.7991,27.1408
49NZ20070724,   P01,84,1,26, X12032,2,20070821,1521,46.994,-154.7653,5206,699.4,2,3.5899,2,3.58948,2,34.2258,2,34.2257,2,28.57,2,28.76,2,118.51,2,0.38,43.06,2,0.15,0.01,2,0.01,3.057,2,0.018,0.466,6,0.22,6,0.022,6,0,4,-999,9,-999,9,-999,-999,9,-999,9,-999,-999,9,-999,-999,9,-999,-999,9,-999,3.5411,27.2162
49NZ20070724,   P01,84,1,25, X12043,2,20070821,1521,46.994,-154.7653,5206,800.7,2,3.3551,2,3.35503,2,34.2797,2,34.2802,2,25.39,2,25.5,2,126.72,2,0.4,43.39,2,0.15,0,2,0.01,3.087,2,0.018,0.271,2,0.124,2,0.015,2,0.298,4,-999,9,-999,9,-999,-999,9,-999,9,-999,-999,9,-999,-999,9,-999,-999,9,-999,3.3001,27.2823
49NZ20070724,   P01,84,1,24, X12030,2,20070821,1521,46.994,-154.7653,5206,900.6,2,3.1379,2,3.1378,2,34.3243,2,34.324,2,23.02,2,23.07,2,133.76,2,0.41,43.66,2,0.16,0.02,2,0.01,3.111,2,0.018,0.179,2,0.089,2,0.007,2,0.238,4,-999,9,-999,9,-999,-999,9,-999,9,-999,-999,9,-999,-999,9,-999,-999,9,-999,3.0768,27.3387
49NZ20070724,   P01,84,1,23, X12027,2,20070821,1521,46.994,-154.7653,5206,1000.8,2,2.9631,2,2.96313,2,34.3654,2,34.3648,6,21.65,2,21.98,2,139.49,2,0.43,43.87,2,0.16,0.01,2,0.01,3.125,2,0.018,0.104,2,0.051,2,0,2,0.151,4,-999,9,-999,9,-999,-999,9,-999,9,-999,-999,9,-999,-999,9,-999,-999,9,-999,2.8957,27.3879
49NZ20070724,   P01,84,1,22, X12028,2,20070821,1521,46.994,-154.7653,5206,1199.8,2,2.6825,2,2.68278,2,34.4263,2,34.4265,2,21.53,2,21.61,2,149.28,2,0.45,44.16,2,0.16,0.01,2,0.01,3.139,2,0.018,0.038,2,0.018,2,0,2,0.112,4,-999,9,-999,9,-999,-999,9,-999,9,-999,-999,9,-999,-999,9,-999,-999,9,-999,2.6023,27.4624
49NZ20070724,   P01,84,1,21, X12009,2,20070821,1521,46.994,-154.7653,5206,1401.7,2,2.4478,2,2.44802,2,34.4768,2,34.4766,2,22.05,2,21.89,2,157.44,2,0.47,44.42,2,0.16,0.01,2,0.01,3.14,2,0.018,0.009,2,0.005,2,0,2,0.055,4,-999,9,-999,9,-999,-999,9,-999,9,-999,-999,9,-999,-999,9,-999,-999,9,-999,2.3543,27.5238
49NZ20070724,   P01,84,1,20, X12026,2,20070821,1521,46.994,-154.7653,5206,1601.3,2,2.2582,2,2.25835,2,34.5183,2,34.5184,2,27.87,2,27.97,2,162.96,2,0.48,44.17,2,0.16,0.02,2,0.01,3.107,2,0.018,0,2,0,2,0,2,0,4,-999,9,-999,9,-999,-999,9,-999,9,-999,-999,9,-999,-999,9,-999,-999,9,-999,2.1511,27.5737
49NZ20070724,   P01,84,1,19, X12025,2,20070821,1521,46.994,-154.7653,5206,1801.4,2,2.1086,2,2.10861,2,34.5521,2,34.5522,2,35.31,2,35.07,2,166.77,2,0.49,43.83,2,0.16,0.01,2,0.01,3.072,2,0.018,0,2,0,2,0,2,0.053,4,-999,9,-999,9,-999,-999,9,-999,9,-999,-999,9,-999,-999,9,-999,-999,9,-999,1.9873,27.6138
49NZ20070724,   P01,84,1,18, X12024,2,20070821,1521,46.994,-154.7653,5206,2002.2,2,1.9814,2,1.9815,2,34.5797,2,34.5797,2,46.16,2,46.02,2,169.95,2,0.49,43.2,2,0.15,0.01,2,0.01,3.023,2,0.018,0,2,0,2,0,2,0.009,4,-999,9,-999,9,-999,-999,9,-999,9,-999,-999,9,-999,-999,9,-999,-999,9,-999,1.8452,27.647
49NZ20070724,   P01,84,1,17, X12023,2,20070821,1521,46.994,-154.7653,5206,2200.1,2,1.8747,2,1.87463,2,34.6013,2,34.6017,2,58.77,2,58.66,2,171.25,2,0.5,42.41,2,0.15,0,2,0.01,2.968,2,0.017,0,2,0,2,0,2,0,4,-999,9,-999,9,-999,-999,9,-999,9,-999,-999,9,-999,-999,9,-999,-999,9,-999,1.7234,27.6736
49NZ20070724,   P01,84,1,16, X12022,2,20070821,1521,46.994,-154.7653,5206,2399.6,2,1.7783,2,1.77824,2,34.6191,2,34.6192,2,71.8,2,71.56,2,171.26,2,0.5,41.58,2,0.15,0,2,0.01,2.907,2,0.017,-999,9,-999,9,-999,9,0,4,-999,9,-999,9,-999,-999,9,-999,9,-999,-999,9,-999,-999,9,-999,-999,9,-999,1.6112,27.6963
49NZ20070724,   P01,84,1,15, X12021,2,20070821,1521,46.994,-154.7653,5206,2601.2,2,1.7011,2,1.70118,2,34.6338,2,34.6341,6,84.37,2,84.15,2,170.37,2,0.49,40.82,2,0.15,0,2,0.01,2.853,2,0.017,-999,9,-999,9,-999,9,0.011,4,-999,9,-999,9,-999,-999,9,-999,9,-999,-999,9,-999,-999,9,-999,-999,9,-999,1.5174,27.7151
49NZ20070724,   P01,84,1,14, X12020,2,20070821,1521,46.994,-154.7653,5206,2800.2,2,1.6415,2,1.64146,2,34.6449,2,34.6453,2,95.37,2,95.37,2,168.78,2,0.49,40.11,2,0.15,0.01,2,0.01,2.794,2,0.017,-999,9,-999,9,-999,9,-999,9,-999,9,-999,9,-999,-999,9,-999,9,-999,-999,9,-999,-999,9,-999,-999,9,-999,1.4406,27.7295
49NZ20070724,   P01,84,1,13, X12019,2,20070821,1521,46.994,-154.7653,5206,3000,2,1.5942,2,1.59428,2,34.6541,2,34.6543,2,105.46,2,105.46,2,167.03,2,0.49,39.37,2,0.14,0,2,0.01,2.748,2,0.017,-999,9,-999,9,-999,9,0.006,4,-999,9,-999,9,-999,-999,9,-999,9,-999,-999,9,-999,-999,9,-999,-999,9,-999,1.3754,27.7415
49NZ20070724,   P01,84,1,12, X12040,2,20070821,1521,46.994,-154.7653,5206,3248.3,2,1.5434,2,1.54339,2,34.6638,2,34.6642,2,117.72,2,117.67,2,164.08,2,0.48,38.44,2,0.14,0.01,2,0.01,2.701,2,0.017,-999,9,-999,9,-999,9,-999,9,-999,9,-999,9,-999,-999,9,-999,9,-999,-999,9,-999,-999,9,-999,-999,9,-999,1.3016,27.7546
49NZ20070724,   P01,84,1,11, X12047,2,20070821,1521,46.994,-154.7653,5206,3500.2,2,1.5116,2,1.51166,2,34.6711,2,34.6711,2,127.19,2,127.21,2,162.47,2,0.48,37.91,2,0.14,0.01,2,0.01,2.654,2,0.017,-999,9,-999,9,-999,9,0.019,4,-999,9,-999,9,-999,-999,9,-999,9,-999,-999,9,-999,-999,9,-999,-999,9,-999,1.2452,27.7644
49NZ20070724,   P01,84,1,10, X12010,2,20070821,1521,46.994,-154.7653,5206,3750.7,2,1.4919,2,1.49199,2,34.677,2,34.6771,2,134.41,2,134.56,2,161.15,2,0.47,37.37,2,0.14,0.01,2,0.01,2.61,2,0.016,-999,9,-999,9,-999,9,-999,9,-999,9,-999,9,-999,-999,9,-999,9,-999,-999,9,-999,-999,9,-999,-999,9,-999,1.2,27.7722
49NZ20070724,   P01,84,1,9, X12015,2,20070821,1521,46.994,-154.7653,5206,3999.3,2,1.4871,2,1.48721,2,34.6811,2,34.6809,6,139.42,2,139.69,2,160.87,2,0.47,37.06,2,0.14,0.01,2,0.01,2.584,2,0.016,-999,9,-999,9,-999,9,0.019,4,-999,9,-999,9,-999,-999,9,-999,9,-999,-999,9,-999,-999,9,-999,-999,9,-999,1.1687,27.7777
49NZ20070724,   P01,84,1,8, X12046,2,20070821,1521,46.994,-154.7653,5206,4251.2,2,1.496,2,1.49611,2,34.6839,2,34.6839,2,142.08,2,142.36,2,162.35,2,0.48,36.88,2,0.14,0.01,2,0.01,2.556,2,0.016,-999,9,-999,9,-999,9,-999,9,-999,9,-999,9,-999,-999,9,-999,9,-999,-999,9,-999,-999,9,-999,-999,9,-999,1.1495,27.7812
49NZ20070724,   P01,84,1,7, X12044,2,20070821,1521,46.994,-154.7653,5206,4501.1,2,1.5136,2,1.51375,2,34.6857,2,34.6858,2,143.56,2,143.77,2,163.64,2,0.48,36.85,2,0.14,0.01,2,0.01,2.552,2,0.016,-999,9,-999,9,-999,9,0.021,4,-999,9,-999,9,-999,-999,9,-999,9,-999,-999,9,-999,-999,9,-999,-999,9,-999,1.1381,27.7835
49NZ20070724,   P01,84,1,6, X12048,2,20070821,1521,46.994,-154.7653,5206,4749.7,2,1.5366,2,1.53667,2,34.6868,2,34.6865,2,144.44,2,144.68,2,165.15,2,0.48,36.78,2,0.14,0.01,2,0.01,2.546,2,0.016,-999,9,-999,9,-999,9,-999,9,-999,9,-999,9,-999,-999,9,-999,9,-999,-999,9,-999,-999,9,-999,-999,9,-999,1.1312,27.7848
49NZ20070724,   P01,84,1,5, X12017,2,20070821,1521,46.994,-154.7653,5206,4999.9,2,1.562,2,1.56205,2,34.6874,2,34.6865,3,145.58,2,145.56,2,164.92,2,0.48,36.52,2,0.14,0.01,2,0.01,2.535,2,0.016,-999,9,-999,9,-999,9,0.055,4,-999,9,-999,9,-999,-999,9,-999,9,-999,-999,9,-999,-999,9,-999,-999,9,-999,1.1257,27.7857
49NZ20070724,   P01,84,1,4, X12928,2,20070821,1521,46.994,-154.7653,5206,5248,2,1.5902,2,1.58999,2,34.6878,2,34.688,2,146.61,2,146.4,2,165.3,2,0.48,36.7,2,0.14,0,2,0.01,2.537,2,0.016,-999,9,-999,9,-999,9,-999,9,-999,9,-999,9,-999,-999,9,-999,9,-999,-999,9,-999,-999,9,-999,-999,9,-999,1.1223,27.7862
49NZ20070724,   P01,84,1,3, X12931,9,20070821,1521,46.994,-154.7653,5206,49.5,2,7.0026,2,7.00189,2,32.8836,2,-999,9,303.8,2,-999,9,-999,9,-999,-999,9,-999,-999,9,-999,-999,9,-999,-999,9,-999,9,-999,9,-999,9,-999,9,-999,9,-999,-999,9,-999,9,-999,-999,9,-999,-999,9,-999,-999,9,-999,6.9982,25.7521
49NZ20070724,   P01,84,1,2, X12930,9,20070821,1521,46.994,-154.7653,5206,100.4,2,5.7237,2,5.72348,2,32.9977,2,-999,9,301.78,2,-999,9,-999,9,-999,-999,9,-999,-999,9,-999,-999,9,-999,-999,9,-999,9,-999,9,-999,9,-999,9,-999,9,-999,-999,9,-999,9,-999,-999,9,-999,-999,9,-999,-999,9,-999,5.7157,26.0051
49NZ20070724,   P01,84,1,1, X12929,2,20070821,1521,46.994,-154.7653,5206,5297.1,2,1.5965,2,1.59638,2,34.6878,2,34.6882,6,146.63,2,146.35,2,165.53,2,0.48,36.69,2,0.14,0.01,2,0.01,2.542,2,0.016,-999,9,-999,9,-999,9,0.162,4,-999,9,-999,9,-999,-999,9,-999,9,-999,-999,9,-999,-999,9,-999,-999,9,-999,1.1222,27.7862