BOTTLE,20081214JAMSTECIORGC,,,,,,,,,,,,,,,,,,,,,,,,,,,,,,,,,,,,,,,,,,,,,,,,,,,,,,,,,,,,,,,,,
EXPOCODE,SECT,STNNBR,CASTNO,SAMPNO,BTLNBR,BTLNBR_FLAG_W,DATE,TIME,LATITUDE,LONGITUDE,DEPTH,CTDPRS,CTDPRS_FLAG_W,CTDTMP,CTDTMP_FLAG_W,SBE35,SBE35_FLAG_W,CTDSAL,CTDSAL_FLAG_W,SALNTY,SALNTY_FLAG_W,CTDOXY,CTDOXY_FLAG_W,OXYGEN,OXYGEN_FLAG_W,SILCAT,SILCAT_FLAG_W,SILUNC,NITRAT,NITRAT_FLAG_W,NRAUNC,NITRIT,NITRIT_FLAG_W,NRIUNC,PHSPHT,PHSPHT_FLAG_W,PHPUNC,CFC-11,CFC-11_FLAG_W,CFC-12,CFC-12_FLAG_W,CFC113,CFC113_FLAG_W,CCL4,CCL4_FLAG_W,TCARBN,TCARBN_FLAG_W,ALKALI,ALKALI_FLAG_W,PH_TOT,PH_TMP,PH_FLAG_W,DELC13,DELC13_FLAG_W,C13ERR,DELC14,DELC14_FLAG_W,C14ERR,CS-137,CS-137_FLAG_W,CS137ER,PLUTO,PLUTO_FLAG_W,PLUTOER,THETA,SIG0
,,,,,,,,UTC,DEG,DEG,M,DBAR,,ITS-90,,ITS-90,,PSS-78,,PSS-78,,UMOL/KG,,UMOL/KG,,UMOL/KG,,UMOL/KG,UMOL/KG,,UMOL/KG,UMOL/KG,,UMOL/KG,UMOL/KG,,UMOL/KG,PMOL/KG,,PMOL/KG,,PMOL/KG,,PMOL/KG,,UMOL/KG,,UMOL/KG,,,ITS-90,,/MILLE,,/MILLE,/MILLE,,/MILLE,BQ/CUM,,BQ/CUM,MBQ/CUM,,MBQ/CUM,DEG C,KG/CUM
49NZ20070724,   P01,101,1,0,-999,9,20070826,1651,47,-135.7345,4141,-999,9,-999,9,-999,9,-999,9,32.4345,2,-999,9,-999,9,-999,9,-999,-999,9,-999,-999,9,-999,-999,9,-999,-999,9,-999,9,-999,9,-999,9,-999,9,-999,9,-999,-999,9,-999,9,-999,-999,9,-999,-999,9,-999,-999,9,-999,-999,-999
49NZ20070724,   P01,101,1,36, X12042,2,20070826,1651,47,-135.7345,4141,10.7,2,15.2012,2,15.19998,2,32.4349,2,32.4372,2,263.24,2,263.61,2,7,2,0.13,1.97,2,0.04,0.06,2,0.01,0.596,2,0.013,2.903,2,1.678,2,-999,5,-999,9,1965.2,2,2185.9,2,7.9523,25,6,-999,1,-999,-999,1,-999,-999,9,-999,-999,9,-999,15.1996,23.952
49NZ20070724,   P01,101,1,35, X12041,2,20070826,1651,47,-135.7345,4141,50,2,8.5589,2,8.55618,2,32.5941,2,32.5897,2,283.41,2,284.24,2,9.82,2,0.14,8.78,2,0.06,0.84,2,0,1.077,2,0.013,3.996,2,2.235,2,0.377,2,-999,9,2031.8,6,2188.7,2,7.8129,25,2,-999,1,-999,-999,1,-999,-999,9,-999,-999,9,-999,8.5539,25.3029
49NZ20070724,   P01,101,1,34, X12036,2,20070826,1651,47,-135.7345,4141,100.2,2,7.3383,2,7.33359,2,32.6508,2,32.6833,2,285,2,283.61,2,13.42,2,0.15,12.35,2,0.07,0.02,2,0.01,1.217,2,0.013,4.187,2,2.327,2,0.373,2,-999,9,2048.6,2,2194.8,6,7.7855,25,2,-999,1,-999,-999,1,-999,-999,9,-999,-999,9,-999,7.3291,25.524
49NZ20070724,   P01,101,1,33, X12033,2,20070826,1651,47,-135.7345,4141,150.7,2,7.0017,2,7.00199,2,33.5774,2,33.5875,2,208.92,2,210.44,2,27.54,2,0.18,21.63,2,0.09,0.02,2,0.01,1.64,2,0.014,4.024,6,2.179,6,0.297,6,-999,9,2138.3,2,2242.2,2,7.6575,25,6,-999,1,-999,-999,1,-999,-999,9,-999,-999,9,-999,6.988,26.2999
49NZ20070724,   P01,101,1,32, X12038,2,20070826,1651,47,-135.7345,4141,199.3,2,6.7743,2,6.77491,2,33.823,2,33.8248,2,185.1,2,185.34,2,35.15,2,0.2,24.58,2,0.1,0.02,2,0.01,1.788,2,0.015,3.68,2,1.945,2,0.259,2,-999,9,2166.9,2,2260.2,2,7.6204,25,2,-999,1,-999,-999,1,-999,-999,9,-999,-999,9,-999,6.7563,26.5245
49NZ20070724,   P01,101,1,31, X12003,2,20070826,1651,47,-135.7345,4141,250.1,2,6.1204,2,6.12099,2,33.85,2,33.8466,6,163.02,2,162.54,2,44.82,2,0.22,28.08,2,0.11,0.02,2,0.01,2.027,2,0.015,3.435,2,1.771,2,0.223,2,-999,9,2194.1,2,2270.1,2,7.5652,25,2,-999,1,-999,-999,1,-999,-999,9,-999,-999,9,-999,6.099,26.6315
49NZ20070724,   P01,101,1,30, X12008,2,20070826,1651,47,-135.7345,4141,301.1,2,5.5421,2,5.54199,2,33.8883,2,33.8878,2,115.91,2,115.71,2,57.67,2,0.25,33.37,2,0.13,0.02,2,0.01,2.383,2,0.016,2.798,2,1.383,2,0.174,2,-999,9,2239.5,2,2278.9,2,7.4718,25,2,-999,1,-999,-999,1,-999,-999,9,-999,-999,9,-999,5.5176,26.7334
49NZ20070724,   P01,101,1,29, X12035,2,20070826,1651,47,-135.7345,4141,401,2,4.8362,2,4.83607,2,33.9498,2,33.9494,2,69.85,2,70.02,2,74.55,2,0.28,39.08,2,0.14,0.02,2,0.01,2.759,2,0.017,1.989,2,0.943,2,0.116,2,-999,9,2284.9,2,2294,2,7.3808,25,2,-999,1,-999,-999,1,-999,-999,9,-999,-999,9,-999,4.8054,26.8646
49NZ20070724,   P01,101,1,28, X12034,2,20070826,1651,47,-135.7345,4141,499.8,2,4.3547,2,4.35471,2,34.027,2,34.0296,6,44.52,2,44.49,2,89.37,2,0.32,41.7,2,0.15,0.02,2,0.01,2.967,2,0.017,1.331,2,0.624,2,0.074,2,-999,9,2314.5,2,2310.5,2,7.3342,25,2,-999,1,-999,-999,1,-999,-999,9,-999,-999,9,-999,4.3178,26.979
49NZ20070724,   P01,101,1,27, X12049,2,20070826,1651,47,-135.7345,4141,599.7,2,4.0648,2,4.06495,2,34.1141,2,34.1158,2,28.52,2,29.04,2,101.34,2,0.34,43.09,2,0.15,0.02,2,0.01,3.056,2,0.018,0.742,2,0.342,2,0.045,2,-999,9,2335.3,2,2325.9,2,7.3243,25,2,-999,1,-999,-999,1,-999,-999,9,-999,-999,9,-999,4.0213,27.0792
49NZ20070724,   P01,101,1,26, X12032,2,20070826,1651,47,-135.7345,4141,701.5,2,3.8001,2,3.80048,2,34.1947,2,34.195,2,19.09,2,19.38,2,112,2,0.37,43.72,2,0.16,0.02,2,0.01,3.111,2,0.018,0.318,6,0.147,6,0.029,6,-999,9,2350,2,2341.1,2,7.3153,25,2,-999,1,-999,-999,1,-999,-999,9,-999,-999,9,-999,3.7501,27.1708
49NZ20070724,   P01,101,1,25, X12043,2,20070826,1651,47,-135.7345,4141,801.4,2,3.5813,2,3.58126,2,34.2563,2,34.2569,2,13.08,2,13.2,2,121.18,2,0.39,44.42,2,0.16,0.01,2,0.01,3.172,2,0.018,0.125,2,0.06,2,0.022,2,-999,9,2364.3,2,2354.3,6,7.3175,25,2,-999,1,-999,-999,1,-999,-999,9,-999,-999,9,-999,3.5248,27.2421
49NZ20070724,   P01,101,1,24, X12030,2,20070826,1651,47,-135.7345,4141,902,2,3.4034,2,3.40362,2,34.3071,2,34.3058,2,10.44,2,10.52,2,127.68,2,0.4,44.59,2,0.16,0.01,2,0.01,3.177,2,0.018,0.059,2,0.029,2,0.005,2,-999,9,2373.5,2,2362.5,2,7.3189,25,2,-999,1,-999,-999,1,-999,-999,9,-999,-999,9,-999,3.3403,27.3003
49NZ20070724,   P01,101,1,23, X12027,2,20070826,1651,47,-135.7345,4141,1000.6,2,3.2453,2,3.2454,2,34.3501,2,34.3501,6,9.51,2,9.52,2,133.81,2,0.41,44.9,2,0.16,0.01,2,0.01,3.206,2,0.018,0.039,2,0.019,2,0.009,2,-999,9,2380.6,2,2372.4,2,7.3185,25,2,-999,1,-999,-999,1,-999,-999,9,-999,-999,9,-999,3.1757,27.3501
49NZ20070724,   P01,101,1,22, X12028,2,20070826,1651,47,-135.7345,4141,1199.9,2,2.9254,2,2.92503,2,34.419,2,34.4188,2,11.3,2,11.35,2,144.62,2,0.44,44.95,2,0.16,0.01,2,0.01,3.21,2,0.018,0.014,2,0.008,2,0.005,2,-999,9,2391.4,2,2385.3,2,7.3294,25,2,-999,1,-999,-999,1,-999,-999,9,-999,-999,9,-999,2.8429,27.4355
49NZ20070724,   P01,101,1,21, X12009,2,20070826,1651,47,-135.7345,4141,1400,2,2.5972,2,2.59359,2,34.4725,2,34.4726,2,16.79,2,16.51,2,154.54,2,0.46,44.84,2,0.16,0.02,2,0.01,3.177,2,0.018,0.016,2,0.006,2,0.004,2,-999,9,2396.4,2,2396.2,2,7.3402,25,2,-999,1,-999,-999,1,-999,-999,9,-999,-999,9,-999,2.5022,27.5079
49NZ20070724,   P01,101,1,20, X12026,2,20070826,1651,47,-135.7345,4141,1599.5,2,2.3111,2,2.31093,2,34.5198,2,34.5196,2,28.15,2,27.86,2,162.01,2,0.48,44.12,2,0.16,0.01,2,0.01,3.125,2,0.018,0.002,2,0.001,2,0.003,2,-999,9,2398.1,2,2404.7,2,7.3634,25,6,-999,1,-999,-999,1,-999,-999,9,-999,-999,9,-999,2.2035,27.5707
49NZ20070724,   P01,101,1,19, X12025,2,20070826,1651,47,-135.7345,4141,1801,2,2.0984,2,2.09844,2,34.5606,2,34.5603,2,43.63,2,43.32,2,166.93,2,0.49,43.25,2,0.15,0.01,2,0.01,3.059,2,0.018,0.004,2,0.002,2,0.002,2,-999,9,2395.7,2,2412.3,2,7.3954,25,2,-999,1,-999,-999,1,-999,-999,9,-999,-999,9,-999,1.9772,27.6214
49NZ20070724,   P01,101,1,18, X12024,2,20070826,1651,47,-135.7345,4141,1999.6,2,1.9428,2,1.94287,2,34.5908,2,34.5904,6,57.37,2,57.18,2,170.34,2,0.49,42.34,2,0.15,0.01,2,0.01,3.003,2,0.017,0,2,0,2,0,2,-999,9,2390.2,2,2417.8,2,7.4246,25,2,-999,1,-999,-999,1,-999,-999,9,-999,-999,9,-999,1.8074,27.6588
49NZ20070724,   P01,101,1,17, X12023,2,20070826,1651,47,-135.7345,4141,2199.3,2,1.8578,2,1.85779,2,34.6088,2,34.6085,2,67.06,2,67.16,2,171.97,2,0.5,41.82,2,0.15,0.01,2,0.01,2.963,2,0.017,0,2,0,2,0,2,-999,9,2386,2,2421.7,2,7.4449,25,2,-999,1,-999,-999,1,-999,-999,9,-999,-999,9,-999,1.7068,27.6809
49NZ20070724,   P01,101,1,16, X12022,2,20070826,1651,47,-135.7345,4141,2399.9,2,1.7801,2,1.7803,2,34.6243,2,34.624,2,77.17,2,77.14,2,172.96,2,0.5,41.15,2,0.15,0.01,2,0.01,2.911,2,0.017,0,2,0,2,0.004,2,-999,9,2379.6,6,2424.4,2,7.4645,25,2,-999,1,-999,-999,1,-999,-999,9,-999,-999,9,-999,1.6129,27.7004
49NZ20070724,   P01,101,1,15, X12021,2,20070826,1651,47,-135.7345,4141,2600.8,2,1.7062,2,1.70626,2,34.6369,2,34.6369,2,87.33,2,87.44,2,172.51,2,0.5,40.56,2,0.15,0.02,2,0.01,2.86,2,0.017,-999,9,-999,9,-999,9,-999,9,2373.9,2,2426.2,6,7.4842,25,2,-999,1,-999,-999,1,-999,-999,9,-999,-999,9,-999,1.5224,27.7171
49NZ20070724,   P01,101,1,14, X12020,2,20070826,1651,47,-135.7345,4141,2800.3,2,1.6512,2,1.65122,2,34.6458,2,34.6456,2,95.44,2,95.41,2,171.07,2,0.5,40.1,2,0.15,0.02,2,0.01,2.814,2,0.017,-999,9,-999,9,-999,9,-999,9,2371.4,2,2425.8,2,7.4986,25,6,-999,1,-999,-999,1,-999,-999,9,-999,-999,9,-999,1.4501,27.7295
49NZ20070724,   P01,101,1,13, X12019,2,20070826,1651,47,-135.7345,4141,3000.4,2,1.6021,2,1.60216,2,34.654,2,34.6536,6,104.06,2,104.25,2,170.11,2,0.49,39.54,2,0.14,0.01,2,0.01,2.77,2,0.017,0,2,0,2,0.005,2,-999,9,2364.5,2,2427.8,2,7.5143,25,2,-999,1,-999,-999,1,-999,-999,9,-999,-999,9,-999,1.3831,27.7409
49NZ20070724,   P01,101,1,12, X12040,2,20070826,1651,47,-135.7345,4141,3251.3,2,1.5607,2,1.56072,2,34.6623,2,34.6623,2,113.64,2,113.78,2,169.07,2,0.49,38.82,2,0.14,0.02,2,0.01,2.707,2,0.017,-999,9,-999,9,-999,9,-999,9,2359.1,2,2427.1,2,7.533,25,2,-999,1,-999,-999,1,-999,-999,9,-999,-999,9,-999,1.3182,27.7522
49NZ20070724,   P01,101,1,11, X12047,2,20070826,1651,47,-135.7345,4141,3501.2,2,1.5331,2,1.53319,2,34.6695,2,34.6685,3,122.11,2,122.12,2,168.39,2,0.49,38.33,2,0.14,0.01,2,0.01,2.671,2,0.017,-999,9,-999,9,-999,9,-999,9,2353.5,2,2427.4,2,7.5482,25,2,-999,1,-999,-999,1,-999,-999,9,-999,-999,9,-999,1.2661,27.7616
49NZ20070724,   P01,101,1,10, X12010,2,20070826,1651,47,-135.7345,4141,3749.7,2,1.5276,2,1.52768,2,34.6742,2,34.6739,2,127.12,2,127.12,2,169.05,2,0.49,37.99,2,0.14,0.01,2,0.01,2.658,2,0.017,0,2,0,2,0,2,-999,9,2350.9,2,2429.8,2,7.5593,25,2,-999,1,-999,-999,1,-999,-999,9,-999,-999,9,-999,1.2349,27.7676
49NZ20070724,   P01,101,1,9, X12015,2,20070826,1651,47,-135.7345,4141,4000.5,2,1.5346,2,1.53456,2,34.6777,2,34.6777,2,130.41,2,130.53,2,170.19,2,0.49,37.77,2,0.14,0.02,2,0.01,2.642,2,0.017,-999,9,-999,9,-999,9,-999,9,2349,2,2431.3,2,7.5684,25,2,-999,1,-999,-999,1,-999,-999,9,-999,-999,9,-999,1.2147,27.7718
49NZ20070724,   P01,101,1,8, X12046,2,20070826,1651,47,-135.7345,4141,4001.4,2,1.5347,2,1.53461,2,34.6776,2,-999,9,130.41,2,-999,9,-999,9,-999,-999,9,-999,-999,9,-999,-999,9,-999,-999,9,-999,9,-999,9,-999,9,-999,9,-999,9,-999,-999,9,-999,9,-999,-999,9,-999,-999,9,-999,-999,9,-999,1.2147,27.7717
49NZ20070724,   P01,101,1,7, X12044,2,20070826,1651,47,-135.7345,4141,4001.3,2,1.5346,2,1.53461,2,34.6777,2,-999,9,130.42,2,-999,9,-999,9,-999,-999,9,-999,-999,9,-999,-999,9,-999,-999,9,-999,9,-999,9,-999,9,-999,9,-999,9,-999,-999,9,-999,9,-999,-999,9,-999,-999,9,-999,-999,9,-999,1.2146,27.7718
49NZ20070724,   P01,101,1,6, X12048,2,20070826,1651,47,-135.7345,4141,4000.8,2,1.5346,2,1.53449,2,34.6777,2,-999,9,130.41,2,-999,9,-999,9,-999,-999,9,-999,-999,9,-999,-999,9,-999,-999,9,-999,9,-999,9,-999,9,-999,9,-999,9,-999,-999,9,-999,9,-999,-999,9,-999,-999,9,-999,-999,9,-999,1.2147,27.7718
49NZ20070724,   P01,101,1,5, X12014,2,20070826,1651,47,-135.7345,4141,4000.9,2,1.5346,2,1.53454,2,34.6777,2,-999,9,130.38,2,-999,9,-999,9,-999,-999,9,-999,-999,9,-999,-999,9,-999,-999,9,-999,9,-999,9,-999,9,-999,9,-999,9,-999,-999,9,-999,9,-999,-999,9,-999,-999,9,-999,-999,9,-999,1.2147,27.7718
49NZ20070724,   P01,101,1,4, X12928,2,20070826,1651,47,-135.7345,4141,4000.7,2,1.5346,2,1.53448,2,34.6777,2,-999,9,130.41,2,-999,9,-999,9,-999,-999,9,-999,-999,9,-999,-999,9,-999,-999,9,-999,9,-999,9,-999,9,-999,9,-999,9,-999,-999,9,-999,9,-999,-999,9,-999,-999,9,-999,-999,9,-999,1.2147,27.7718
49NZ20070724,   P01,101,1,3, X12931,2,20070826,1651,47,-135.7345,4141,4001,2,1.5346,2,1.53455,2,34.6777,2,-999,9,130.4,2,-999,9,-999,9,-999,-999,9,-999,-999,9,-999,-999,9,-999,-999,9,-999,9,-999,9,-999,9,-999,9,-999,9,-999,-999,9,-999,9,-999,-999,9,-999,-999,9,-999,-999,9,-999,1.2147,27.7718
49NZ20070724,   P01,101,1,2, X12930,2,20070826,1651,47,-135.7345,4141,4000.2,2,1.5346,2,1.53458,2,34.6778,2,-999,9,130.41,2,-999,9,-999,9,-999,-999,9,-999,-999,9,-999,-999,9,-999,-999,9,-999,9,-999,9,-999,9,-999,9,-999,9,-999,-999,9,-999,9,-999,-999,9,-999,-999,9,-999,-999,9,-999,1.2147,27.7719
49NZ20070724,   P01,101,1,1, X12929,2,20070826,1651,47,-135.7345,4141,4202.3,2,1.547,2,1.54676,2,34.6801,2,34.68,6,130.73,2,130.63,2,175.31,2,0.5,37.89,2,0.14,0.01,2,0.01,2.649,2,0.017,0.003,2,0.002,2,0,2,-999,9,2353.2,2,2436.5,2,7.5737,25,2,-999,1,-999,-999,1,-999,-999,9,-999,-999,9,-999,1.2045,27.7744