BOTTLE,20081214JAMSTECIORGC,,,,,,,,,,,,,,,,,,,,,,,,,,,,,,,,,,,,,,,,,,,,,,,,,,,,,,,,,,,,,,,,,
EXPOCODE,SECT,STNNBR,CASTNO,SAMPNO,BTLNBR,BTLNBR_FLAG_W,DATE,TIME,LATITUDE,LONGITUDE,DEPTH,CTDPRS,CTDPRS_FLAG_W,CTDTMP,CTDTMP_FLAG_W,SBE35,SBE35_FLAG_W,CTDSAL,CTDSAL_FLAG_W,SALNTY,SALNTY_FLAG_W,CTDOXY,CTDOXY_FLAG_W,OXYGEN,OXYGEN_FLAG_W,SILCAT,SILCAT_FLAG_W,SILUNC,NITRAT,NITRAT_FLAG_W,NRAUNC,NITRIT,NITRIT_FLAG_W,NRIUNC,PHSPHT,PHSPHT_FLAG_W,PHPUNC,CFC-11,CFC-11_FLAG_W,CFC-12,CFC-12_FLAG_W,CFC113,CFC113_FLAG_W,CCL4,CCL4_FLAG_W,TCARBN,TCARBN_FLAG_W,ALKALI,ALKALI_FLAG_W,PH_TOT,PH_TMP,PH_FLAG_W,DELC13,DELC13_FLAG_W,C13ERR,DELC14,DELC14_FLAG_W,C14ERR,CS-137,CS-137_FLAG_W,CS137ER,PLUTO,PLUTO_FLAG_W,PLUTOER,THETA,SIG0
,,,,,,,,UTC,DEG,DEG,M,DBAR,,ITS-90,,ITS-90,,PSS-78,,PSS-78,,UMOL/KG,,UMOL/KG,,UMOL/KG,,UMOL/KG,UMOL/KG,,UMOL/KG,UMOL/KG,,UMOL/KG,UMOL/KG,,UMOL/KG,PMOL/KG,,PMOL/KG,,PMOL/KG,,PMOL/KG,,UMOL/KG,,UMOL/KG,,,ITS-90,,/MILLE,,/MILLE,/MILLE,,/MILLE,BQ/CUM,,BQ/CUM,MBQ/CUM,,MBQ/CUM,DEG C,KG/CUM
49NZ20070724,   P01,112,1,0,-999,9,20070828,2147,47.0052,-126.0028,2552,-999,9,-999,9,-999,9,-999,9,32.0774,2,-999,9,-999,9,-999,9,-999,-999,9,-999,-999,9,-999,-999,9,-999,-999,9,-999,9,-999,9,-999,9,-999,9,-999,9,-999,-999,9,-999,9,-999,-999,9,-999,-999,9,-999,-999,9,-999,-999,-999
49NZ20070724,   P01,112,1,36, X12042,2,20070828,2147,47.0052,-126.0028,2552,9.6,2,18.3581,2,18.36078,2,32.0632,2,32.072,2,246.41,2,248.25,2,5.02,2,0.13,0.05,2,0.03,0.01,2,0.01,0.356,2,0.014,2.523,2,1.526,2,-999,5,-999,9,1942.9,2,2166.8,2,7.968,25,2,-999,9,-999,-999,9,-999,-999,9,-999,-999,9,-999,18.3565,22.9375
49NZ20070724,   P01,112,1,35, X12041,2,20070828,2147,47.0052,-126.0028,2552,49.7,2,9.5181,2,9.50927,2,32.3866,2,32.3963,2,298.29,2,297.86,2,8.18,2,0.14,5.66,2,0.05,0.34,2,0,0.853,2,0.013,3.918,2,2.23,2,0.389,2,-999,9,2004.8,6,2175.3,2,7.8453,25,2,-999,9,-999,-999,9,-999,-999,9,-999,-999,9,-999,9.5127,24.9913
49NZ20070724,   P01,112,1,34, X12036,2,20070828,2147,47.0052,-126.0028,2552,100,2,7.9054,2,7.90579,2,32.9743,2,33.0493,2,207.76,2,203.61,2,21.86,2,0.17,19.75,2,0.09,0.02,2,0.01,1.633,2,0.014,3.822,2,2.109,2,0.302,2,-999,9,2111.8,2,2210.1,6,7.6493,25,2,-999,9,-999,-999,9,-999,-999,9,-999,-999,9,-999,7.8957,25.6983
49NZ20070724,   P01,112,1,33, X12033,2,20070828,2147,47.0052,-126.0028,2552,149.9,2,7.7658,2,7.76623,2,33.7516,2,33.7575,2,123.3,2,123.87,2,35.26,2,0.2,28.95,2,0.11,0.01,2,0.01,2.15,2,0.015,3.343,2,1.758,2,0.199,6,-999,9,2195.3,2,2249,2,7.508,25,6,-999,9,-999,-999,9,-999,-999,9,-999,-999,9,-999,7.7512,26.3298
49NZ20070724,   P01,112,1,32, X12038,2,20070828,2147,47.0052,-126.0028,2552,199.7,2,7.3991,2,7.39871,2,33.9306,2,33.9332,2,101.81,2,101.85,2,42,2,0.21,31.3,2,0.12,0.01,2,0.01,2.283,2,0.016,2.89,2,1.468,2,0.167,2,-999,9,2220.3,2,2263.4,2,7.4758,25,2,-999,9,-999,-999,9,-999,-999,9,-999,-999,9,-999,7.3801,26.5235
49NZ20070724,   P01,112,1,31, X12003,2,20070828,2147,47.0052,-126.0028,2552,250.1,2,6.8514,2,6.85288,2,33.9715,2,33.9704,6,88.09,2,88.38,2,49.19,2,0.23,33.42,2,0.13,0.01,2,0.01,2.427,2,0.016,2.57,2,1.279,2,0.142,2,-999,9,2237.7,2,2271.9,2,7.449,25,2,-999,9,-999,-999,9,-999,-999,9,-999,-999,9,-999,6.8286,26.6319
49NZ20070724,   P01,112,1,30, X12008,2,20070828,2147,47.0052,-126.0028,2552,280.1,2,6.6557,2,6.65461,2,34.0064,2,34.0065,2,71.74,2,71.43,2,54.08,2,0.24,35.32,2,0.13,0.01,2,0.01,2.572,2,0.016,2.19,2,1.066,2,0.121,2,-999,9,2255,2,2278.7,2,7.4169,25,2,-999,9,-999,-999,9,-999,-999,9,-999,-999,9,-999,6.6305,26.686
49NZ20070724,   P01,112,1,29, X12035,2,20070828,2147,47.0052,-126.0028,2552,370,2,5.9148,2,5.91499,2,34.0508,2,34.0506,2,47.56,2,47.79,2,66.67,2,0.27,38.59,2,0.14,0.01,2,0.01,2.813,2,0.017,1.467,2,0.702,2,0.071,2,-999,9,2285.4,2,2292.8,2,7.3703,25,2,-999,9,-999,-999,9,-999,-999,9,-999,-999,9,-999,5.8833,26.8172
49NZ20070724,   P01,112,1,28, X12034,2,20070828,2147,47.0052,-126.0028,2552,470.5,2,5.3058,2,5.30612,2,34.107,2,34.1061,6,30.23,2,30.45,2,79.54,2,0.29,40.71,2,0.15,0.01,2,0.01,2.988,2,0.017,0.882,2,0.413,2,0.046,2,-999,9,2310,2,2307.8,2,7.3392,25,2,-999,9,-999,-999,9,-999,-999,9,-999,-999,9,-999,5.2676,26.9362
49NZ20070724,   P01,112,1,27, X12049,2,20070828,2147,47.0052,-126.0028,2552,570.5,2,4.8814,2,4.88039,2,34.1578,2,34.1585,2,20.03,2,20.08,2,89.8,2,0.32,42.26,2,0.15,0.01,2,0.01,3.1,2,0.018,0.492,2,0.229,2,0.022,2,-999,9,2328.2,2,2320.2,2,7.3265,25,2,-999,9,-999,-999,9,-999,-999,9,-999,-999,9,-999,4.8365,27.0261
49NZ20070724,   P01,112,1,26, X12032,2,20070828,2147,47.0052,-126.0028,2552,668.8,2,4.5115,2,4.51237,2,34.2303,2,34.2301,2,12.1,2,12.14,2,100.64,2,0.34,43.16,2,0.15,0.01,2,0.01,3.185,2,0.018,0.222,6,0.111,6,0.026,6,-999,9,2344.2,6,2336.1,2,7.3184,25,2,-999,9,-999,-999,9,-999,-999,9,-999,-999,9,-999,4.4602,27.1252
49NZ20070724,   P01,112,1,25, X12043,2,20070828,2147,47.0052,-126.0028,2552,770.3,2,4.1212,2,4.12109,2,34.2817,2,34.2815,2,9.5,2,9.45,2,110.62,2,0.36,43.84,2,0.16,0.01,2,0.01,3.222,2,0.018,0.114,2,0.05,2,0.012,2,-999,9,2357.6,2,2348.5,6,7.3195,25,2,-999,9,-999,-999,9,-999,-999,9,-999,-999,9,-999,4.0638,27.2081
49NZ20070724,   P01,112,1,24, X12030,2,20070828,2147,47.0052,-126.0028,2552,870.3,2,3.789,2,3.78919,2,34.3397,2,34.3403,2,8.86,2,8.77,2,120.3,2,0.38,44.02,2,0.16,0.01,2,0.01,3.231,2,0.018,0.048,2,0.025,2,0,2,-999,9,2369.5,2,2361.7,2,7.3221,25,6,-999,9,-999,-999,9,-999,-999,9,-999,-999,9,-999,3.7257,27.2887
49NZ20070724,   P01,112,1,23, X12027,2,20070828,2147,47.0052,-126.0028,2552,968.3,2,3.5278,2,3.52782,2,34.3882,2,34.3879,2,10.1,2,10.1,2,128.03,2,0.4,44.25,2,0.16,0,2,0.01,3.23,2,0.018,0.02,2,0.011,2,0.007,2,-999,9,2375.2,2,2371,2,7.3254,25,2,-999,9,-999,-999,9,-999,-999,9,-999,-999,9,-999,3.4585,27.3536
49NZ20070724,   P01,112,1,22, X12028,2,20070828,2147,47.0052,-126.0028,2552,1130.4,2,3.2002,2,3.20055,2,34.4371,2,34.4368,6,13.7,2,13.91,2,137.53,2,0.42,44.34,2,0.16,0.01,2,0.01,3.221,2,0.018,0.01,2,0.006,2,0,2,-999,9,2383.6,2,2383.2,2,7.3395,25,2,-999,9,-999,-999,9,-999,-999,9,-999,-999,9,-999,3.1207,27.4246
49NZ20070724,   P01,112,1,21, X12009,2,20070828,2147,47.0052,-126.0028,2552,1332.1,2,2.8884,2,2.88866,2,34.4952,2,34.4956,2,23.88,2,24.3,2,146.08,2,0.44,44,2,0.16,0.01,2,0.01,3.189,2,0.018,0.002,2,0,2,0.008,2,-999,9,2386.1,2,2394.5,2,7.3621,25,2,-999,9,-999,-999,9,-999,-999,9,-999,-999,9,-999,2.7957,27.5005
49NZ20070724,   P01,112,1,20, X12026,2,20070828,2147,47.0052,-126.0028,2552,1531.1,2,2.5238,2,2.52412,2,34.5272,2,34.527,2,32.43,2,32.62,2,156.48,2,0.46,43.43,2,0.15,0.01,2,0.01,3.129,2,0.018,0.003,2,0.002,2,0,2,-999,9,2389.1,2,2404.7,2,7.3781,25,6,-999,9,-999,-999,9,-999,-999,9,-999,-999,9,-999,2.4191,27.5587
49NZ20070724,   P01,112,1,19, X12025,2,20070828,2147,47.0052,-126.0028,2552,1730.8,2,2.2797,2,2.27982,2,34.5549,2,34.5553,2,42.6,2,42.81,2,163.62,2,0.48,42.84,2,0.15,0.01,2,0.01,3.078,2,0.018,0,2,0,2,0,2,-999,9,2390.5,2,2411.5,2,7.3979,25,2,-999,9,-999,-999,9,-999,-999,9,-999,-999,9,-999,2.1618,27.6022
49NZ20070724,   P01,112,1,18, X12024,2,20070828,2147,47.0052,-126.0028,2552,1930.1,2,2.0455,2,2.04557,2,34.582,2,34.5828,6,53.96,2,54.32,2,169.94,2,0.49,42.12,2,0.15,0.01,2,0.01,3.024,2,0.018,0.003,2,0.003,2,0,2,-999,9,2389.4,2,2418.2,2,7.4202,25,2,-999,9,-999,-999,9,-999,-999,9,-999,-999,9,-999,1.9144,27.6435
49NZ20070724,   P01,112,1,17, X12023,2,20070828,2147,47.0052,-126.0028,2552,2129.7,2,1.862,2,1.86201,2,34.6111,2,34.6121,2,67.42,2,67.69,2,175.97,2,0.51,41.17,2,0.15,0.01,2,0.01,2.961,2,0.017,0.004,2,0.001,2,0,2,-999,9,2387.2,2,2425.6,2,7.4499,25,2,-999,9,-999,-999,9,-999,-999,9,-999,-999,9,-999,1.7169,27.682
49NZ20070724,   P01,112,1,16, X12022,2,20070828,2147,47.0052,-126.0028,2552,2329.6,2,1.7576,2,1.75754,2,34.6315,2,34.6323,2,76.12,2,76.63,2,181.23,2,0.52,40.43,2,0.15,0,2,0.01,2.925,2,0.017,0.008,2,0.008,2,0,2,-999,9,2385.3,6,2432.8,2,7.4702,25,2,-999,9,-999,-999,9,-999,-999,9,-999,-999,9,-999,1.597,27.7073
49NZ20070724,   P01,112,1,15, X12021,2,20070828,2147,47.0052,-126.0028,2552,2530.2,2,1.747,2,1.74679,2,34.6412,2,34.642,2,76.5,2,77.18,2,187.79,2,0.53,39.99,2,0.14,0,2,0.01,2.942,2,0.017,-999,9,-999,9,-999,9,-999,9,2393.6,2,2439.7,6,7.4762,25,2,-999,9,-999,-999,9,-999,-999,9,-999,-999,9,-999,1.5688,27.7172
49NZ20070724,   P01,112,1,14, X12020,9,20070828,2147,47.0052,-126.0028,2552,9.7,2,18.3867,2,18.3886,2,32.0608,2,-999,9,246.44,2,-999,9,-999,9,-999,-999,9,-999,-999,9,-999,-999,9,-999,-999,9,-999,9,-999,9,-999,9,-999,9,-999,9,-999,-999,9,-999,9,-999,-999,9,-999,-999,9,-999,-999,9,-999,18.385,22.9286
49NZ20070724,   P01,112,1,13, X12019,9,20070828,2147,47.0052,-126.0028,2552,249.2,2,6.8525,2,6.85055,2,33.9718,2,-999,9,88.12,2,-999,9,-999,9,-999,-999,9,-999,-999,9,-999,-999,9,-999,-999,9,-999,9,-999,9,-999,9,-999,9,-999,9,-999,-999,9,-999,9,-999,-999,9,-999,-999,9,-999,-999,9,-999,6.8297,26.632
49NZ20070724,   P01,112,1,12, X12040,9,20070828,2147,47.0052,-126.0028,2552,280.1,2,6.6583,2,6.65897,2,34.0063,2,-999,9,71.6,2,-999,9,-999,9,-999,-999,9,-999,-999,9,-999,-999,9,-999,-999,9,-999,9,-999,9,-999,9,-999,9,-999,9,-999,-999,9,-999,9,-999,-999,9,-999,-999,9,-999,-999,9,-999,6.6331,26.6855
49NZ20070724,   P01,112,1,11, X12047,9,20070828,2147,47.0052,-126.0028,2552,369.2,2,5.9186,2,5.9187,2,34.0504,2,-999,9,47.66,2,-999,9,-999,9,-999,-999,9,-999,-999,9,-999,-999,9,-999,-999,9,-999,9,-999,9,-999,9,-999,9,-999,9,-999,-999,9,-999,9,-999,-999,9,-999,-999,9,-999,-999,9,-999,5.8872,26.8164
49NZ20070724,   P01,112,1,10, X12010,9,20070828,2147,47.0052,-126.0028,2552,469.5,2,5.3068,2,5.30675,2,34.1067,2,-999,9,30.32,2,-999,9,-999,9,-999,-999,9,-999,-999,9,-999,-999,9,-999,-999,9,-999,9,-999,9,-999,9,-999,9,-999,9,-999,-999,9,-999,9,-999,-999,9,-999,-999,9,-999,-999,9,-999,5.2687,26.9358
49NZ20070724,   P01,112,1,9, X12015,9,20070828,2147,47.0052,-126.0028,2552,569.5,2,4.8802,2,4.8781,2,34.158,2,-999,9,20.03,2,-999,9,-999,9,-999,-999,9,-999,-999,9,-999,-999,9,-999,-999,9,-999,9,-999,9,-999,9,-999,9,-999,9,-999,-999,9,-999,9,-999,-999,9,-999,-999,9,-999,-999,9,-999,4.8354,27.0264
49NZ20070724,   P01,112,1,8, X12046,9,20070828,2147,47.0052,-126.0028,2552,669.1,2,4.5121,2,4.5118,2,34.2303,2,-999,9,12.11,2,-999,9,-999,9,-999,-999,9,-999,-999,9,-999,-999,9,-999,-999,9,-999,9,-999,9,-999,9,-999,9,-999,9,-999,-999,9,-999,9,-999,-999,9,-999,-999,9,-999,-999,9,-999,4.4608,27.1252
49NZ20070724,   P01,112,1,7, X12044,9,20070828,2147,47.0052,-126.0028,2552,769.3,2,4.1213,2,4.12125,2,34.2817,2,-999,9,9.49,2,-999,9,-999,9,-999,-999,9,-999,-999,9,-999,-999,9,-999,-999,9,-999,9,-999,9,-999,9,-999,9,-999,9,-999,-999,9,-999,9,-999,-999,9,-999,-999,9,-999,-999,9,-999,4.064,27.2081
49NZ20070724,   P01,112,1,6, X12048,9,20070828,2147,47.0052,-126.0028,2552,869.8,2,3.7902,2,3.79028,2,34.3395,2,-999,9,8.86,2,-999,9,-999,9,-999,-999,9,-999,-999,9,-999,-999,9,-999,-999,9,-999,9,-999,9,-999,9,-999,9,-999,9,-999,-999,9,-999,9,-999,-999,9,-999,-999,9,-999,-999,9,-999,3.7269,27.2885
49NZ20070724,   P01,112,1,5, X12014,9,20070828,2147,47.0052,-126.0028,2552,968.5,2,3.5273,2,3.52726,2,34.3881,2,-999,9,10.23,2,-999,9,-999,9,-999,-999,9,-999,-999,9,-999,-999,9,-999,-999,9,-999,9,-999,9,-999,9,-999,9,-999,9,-999,-999,9,-999,9,-999,-999,9,-999,-999,9,-999,-999,9,-999,3.458,27.3536
49NZ20070724,   P01,112,1,4, X12928,9,20070828,2147,47.0052,-126.0028,2552,1129.5,2,3.2052,2,3.20535,2,34.4368,2,-999,9,13.78,2,-999,9,-999,9,-999,-999,9,-999,-999,9,-999,-999,9,-999,-999,9,-999,9,-999,9,-999,9,-999,9,-999,9,-999,-999,9,-999,9,-999,-999,9,-999,-999,9,-999,-999,9,-999,3.1257,27.4239
49NZ20070724,   P01,112,1,3, X12931,9,20070828,2147,47.0052,-126.0028,2552,1331.1,2,2.8887,2,2.88859,2,34.495,2,-999,9,24.16,2,-999,9,-999,9,-999,-999,9,-999,-999,9,-999,-999,9,-999,-999,9,-999,9,-999,9,-999,9,-999,9,-999,9,-999,-999,9,-999,9,-999,-999,9,-999,-999,9,-999,-999,9,-999,2.7961,27.5003
49NZ20070724,   P01,112,1,2, X12930,9,20070828,2147,47.0052,-126.0028,2552,1530.2,2,2.5281,2,2.52835,2,34.5269,2,-999,9,32.75,2,-999,9,-999,9,-999,-999,9,-999,-999,9,-999,-999,9,-999,-999,9,-999,9,-999,9,-999,9,-999,9,-999,9,-999,-999,9,-999,9,-999,-999,9,-999,-999,9,-999,-999,9,-999,2.4234,27.5581
49NZ20070724,   P01,112,1,1, X12929,2,20070828,2147,47.0052,-126.0028,2552,2580.7,2,1.7471,2,1.74699,2,34.6424,2,34.6431,6,76.08,2,76.73,2,188.9,2,0.53,39.76,2,0.14,0.01,2,0.01,2.95,2,0.017,0.024,2,0.018,2,0,2,-999,9,2391.9,2,2440.4,2,7.4768,25,2,-999,9,-999,-999,9,-999,-999,9,-999,-999,9,-999,1.5643,27.7185