BOTTLE,20081214JAMSTECIORGC,,,,,,,,,,,,,,,,,,,,,,,,,,,,,,,,,,,,,,,,,,,,,,,,,,,,,,,,,,,,,,,,,
EXPOCODE,SECT,STNNBR,CASTNO,SAMPNO,BTLNBR,BTLNBR_FLAG_W,DATE,TIME,LATITUDE,LONGITUDE,DEPTH,CTDPRS,CTDPRS_FLAG_W,CTDTMP,CTDTMP_FLAG_W,SBE35,SBE35_FLAG_W,CTDSAL,CTDSAL_FLAG_W,SALNTY,SALNTY_FLAG_W,CTDOXY,CTDOXY_FLAG_W,OXYGEN,OXYGEN_FLAG_W,SILCAT,SILCAT_FLAG_W,SILUNC,NITRAT,NITRAT_FLAG_W,NRAUNC,NITRIT,NITRIT_FLAG_W,NRIUNC,PHSPHT,PHSPHT_FLAG_W,PHPUNC,CFC-11,CFC-11_FLAG_W,CFC-12,CFC-12_FLAG_W,CFC113,CFC113_FLAG_W,CCL4,CCL4_FLAG_W,TCARBN,TCARBN_FLAG_W,ALKALI,ALKALI_FLAG_W,PH_TOT,PH_TMP,PH_FLAG_W,DELC13,DELC13_FLAG_W,C13ERR,DELC14,DELC14_FLAG_W,C14ERR,CS-137,CS-137_FLAG_W,CS137ER,PLUTO,PLUTO_FLAG_W,PLUTOER,THETA,SIG0
,,,,,,,,UTC,DEG,DEG,M,DBAR,,ITS-90,,ITS-90,,PSS-78,,PSS-78,,UMOL/KG,,UMOL/KG,,UMOL/KG,,UMOL/KG,UMOL/KG,,UMOL/KG,UMOL/KG,,UMOL/KG,UMOL/KG,,UMOL/KG,PMOL/KG,,PMOL/KG,,PMOL/KG,,PMOL/KG,,UMOL/KG,,UMOL/KG,,,ITS-90,,/MILLE,,/MILLE,/MILLE,,/MILLE,BQ/CUM,,BQ/CUM,MBQ/CUM,,MBQ/CUM,DEG C,KG/CUM
49NZ20070724,   P01,107,1,0,-999,9,20070828,151,46.9965,-129.3797,2576,-999,9,-999,9,-999,9,-999,9,32.325,2,-999,9,-999,9,-999,9,-999,-999,9,-999,-999,9,-999,-999,9,-999,-999,9,-999,9,-999,9,-999,9,-999,9,-999,9,-999,-999,9,-999,9,-999,-999,9,-999,-999,9,-999,-999,9,-999,-999,-999
49NZ20070724,   P01,107,1,36, X12042,2,20070828,151,46.9965,-129.3797,2576,9.6,2,16.9113,2,16.90978,2,32.3301,2,32.3253,2,262.68,2,263.22,2,6.28,2,0.13,0.67,2,0.03,0.04,2,0.01,0.493,2,0.013,2.723,2,1.601,2,-999,5,-999,9,-999,9,-999,9,-999,-999,9,-999,9,-999,-999,9,-999,-999,9,-999,-999,9,-999,16.9098,23.4871
49NZ20070724,   P01,107,1,35, X12041,2,20070828,151,46.9965,-129.3797,2576,49.7,2,9.5084,2,9.51186,2,32.4559,2,32.4532,2,286.09,2,288.21,2,8.09,2,0.14,6.74,2,0.05,0.37,2,0,0.986,2,0.013,3.894,2,2.199,2,0.389,2,-999,9,-999,9,-999,9,-999,-999,9,-999,9,-999,-999,9,-999,-999,9,-999,-999,9,-999,9.503,25.047
49NZ20070724,   P01,107,1,34, X12036,2,20070828,151,46.9965,-129.3797,2576,100.1,2,7.4796,2,7.47896,2,32.6712,2,32.7106,2,261.85,2,261.73,2,14.08,2,0.15,13.83,2,0.07,0.02,2,0.01,1.292,2,0.014,4.08,2,2.27,2,0.326,2,-999,9,-999,9,-999,9,-999,-999,9,-999,9,-999,-999,9,-999,-999,9,-999,-999,9,-999,7.4703,25.5205
49NZ20070724,   P01,107,1,33, X12033,2,20070828,151,46.9965,-129.3797,2576,150.8,2,7.0391,2,7.03915,2,33.5219,2,33.5469,2,184.05,2,185.14,2,29.78,2,0.18,23.98,2,0.1,0.02,2,0.01,1.812,2,0.015,3.846,6,2.069,6,0.27,6,-999,9,-999,9,-999,9,-999,-999,9,-999,9,-999,-999,9,-999,-999,9,-999,-999,9,-999,7.0253,26.251
49NZ20070724,   P01,107,1,32, X12038,2,20070828,151,46.9965,-129.3797,2576,199.5,2,6.6675,2,6.66686,2,33.8224,2,33.8277,2,156.84,2,156.95,2,39.35,2,0.21,27.52,2,0.11,0.01,2,0.01,2.001,2,0.015,3.463,2,1.812,2,0.236,2,-999,9,-999,9,-999,9,-999,-999,9,-999,9,-999,-999,9,-999,-999,9,-999,-999,9,-999,6.6497,26.5383
49NZ20070724,   P01,107,1,31, X12003,2,20070828,151,46.9965,-129.3797,2576,250,2,6.141,2,6.14099,2,33.8859,2,33.8845,6,126.1,2,126.87,2,49.42,2,0.23,31.28,2,0.12,0.01,2,0.01,2.258,2,0.016,3.029,2,1.539,2,0.191,2,-999,9,-999,9,-999,9,-999,-999,9,-999,9,-999,-999,9,-999,-999,9,-999,-999,9,-999,6.1196,26.6572
49NZ20070724,   P01,107,1,30, X12008,2,20070828,151,46.9965,-129.3797,2576,300.6,2,5.6636,2,5.66359,2,33.8948,2,33.8973,2,109.58,2,107.13,2,57.24,2,0.24,33.9,2,0.13,0.01,2,0.01,2.435,2,0.016,2.732,2,1.359,2,0.166,2,-999,9,-999,9,-999,9,-999,-999,9,-999,9,-999,-999,9,-999,-999,9,-999,-999,9,-999,5.6388,26.7239
49NZ20070724,   P01,107,1,29, X12035,2,20070828,151,46.9965,-129.3797,2576,399.4,2,4.8912,2,4.89175,2,33.9515,2,33.9522,2,64.77,2,64.39,2,74.37,2,0.28,39.1,2,0.14,0.01,2,0.01,2.791,2,0.017,1.97,2,0.94,2,0.117,2,-999,9,-999,9,-999,9,-999,-999,9,-999,9,-999,-999,9,-999,-999,9,-999,-999,9,-999,4.8604,26.8598
49NZ20070724,   P01,107,1,28, X12034,2,20070828,151,46.9965,-129.3797,2576,500,2,4.3889,2,4.38976,2,34.026,2,34.0273,6,42.93,2,42.78,2,88.52,2,0.31,41.66,2,0.15,0.01,2,0.01,2.964,2,0.017,1.334,2,0.623,2,0.082,2,-999,9,-999,9,-999,9,-999,-999,9,-999,9,-999,-999,9,-999,-999,9,-999,-999,9,-999,4.3518,26.9746
49NZ20070724,   P01,107,1,27, X12049,2,20070828,151,46.9965,-129.3797,2576,599.8,2,4.2401,2,4.24011,2,34.1306,2,34.1338,2,23.85,2,23.37,2,99.03,2,0.34,43.03,2,0.15,0.01,2,0.01,3.087,2,0.018,0.601,2,0.278,2,0.032,2,-999,9,-999,9,-999,9,-999,-999,9,-999,9,-999,-999,9,-999,-999,9,-999,-999,9,-999,4.1958,27.0743
49NZ20070724,   P01,107,1,26, X12032,2,20070828,151,46.9965,-129.3797,2576,700.1,2,4.0628,2,4.06277,2,34.2161,2,34.2185,2,13.96,2,13.78,2,108.6,2,0.36,43.73,2,0.16,0.01,2,0.01,3.163,2,0.018,0.248,6,0.117,6,0.016,6,-999,9,-999,9,-999,9,-999,-999,9,-999,9,-999,-999,9,-999,-999,9,-999,-999,9,-999,4.0114,27.1614
49NZ20070724,   P01,107,1,25, X12043,2,20070828,151,46.9965,-129.3797,2576,800.9,2,3.7865,2,3.78644,2,34.2774,2,34.2777,2,10.78,2,10.5,2,117.78,2,0.38,44.08,2,0.16,0.01,2,0.01,3.205,2,0.018,0.113,2,0.052,2,0.015,2,-999,9,-999,9,-999,9,-999,-999,9,-999,9,-999,-999,9,-999,-999,9,-999,-999,9,-999,3.7287,27.2389
49NZ20070724,   P01,107,1,24, X12030,2,20070828,151,46.9965,-129.3797,2576,901.7,2,3.5832,2,3.58326,2,34.3311,2,34.3307,2,9.53,2,9.26,2,124.38,2,0.39,44.13,2,0.16,0.01,2,0.01,3.192,2,0.018,0.055,2,0.025,2,0.005,2,-999,9,-999,9,-999,9,-999,-999,9,-999,9,-999,-999,9,-999,-999,9,-999,-999,9,-999,3.5188,27.3023
49NZ20070724,   P01,107,1,23, X12027,2,20070828,151,46.9965,-129.3797,2576,1000.5,2,3.346,2,3.34585,2,34.3733,2,34.374,6,10.01,2,9.87,2,132.18,2,0.41,44.44,2,0.16,0.01,2,0.01,3.211,2,0.018,0.028,2,0.014,2,0.005,2,-999,9,-999,9,-999,9,-999,-999,9,-999,9,-999,-999,9,-999,-999,9,-999,-999,9,-999,3.2756,27.3592
49NZ20070724,   P01,107,1,22, X12028,2,20070828,151,46.9965,-129.3797,2576,1201.3,2,2.9799,2,2.98014,2,34.4395,2,34.4383,2,13.61,2,13.52,2,143.03,2,0.43,44.44,2,0.16,0.01,2,0.01,3.197,2,0.018,0.009,2,0.004,2,0.006,2,-999,9,-999,9,-999,9,-999,-999,9,-999,9,-999,-999,9,-999,-999,9,-999,-999,9,-999,2.8968,27.447
49NZ20070724,   P01,107,1,21, X12009,2,20070828,151,46.9965,-129.3797,2576,1401.6,2,2.5978,2,2.59791,2,34.4902,2,34.4899,2,21.62,2,21.49,2,154.17,2,0.46,44.22,2,0.16,0.01,2,0.01,3.164,2,0.018,0.001,2,0.002,2,0.002,2,-999,9,-999,9,-999,9,-999,-999,9,-999,9,-999,-999,9,-999,-999,9,-999,-999,9,-999,2.5026,27.522
49NZ20070724,   P01,107,1,20, X12026,2,20070828,151,46.9965,-129.3797,2576,1601.6,2,2.3006,2,2.30083,2,34.532,2,34.5323,2,34.21,2,34.29,2,162.18,2,0.48,43.46,2,0.15,0,2,0.01,3.096,2,0.018,0,2,0,2,0.003,2,-999,9,-999,9,-999,9,-999,-999,9,-999,9,-999,-999,9,-999,-999,9,-999,-999,9,-999,2.1929,27.5813
49NZ20070724,   P01,107,1,19, X12025,2,20070828,151,46.9965,-129.3797,2576,1800,2,2.0813,2,2.08137,2,34.5684,2,34.5685,2,48.56,2,48.6,2,167.46,2,0.49,42.65,2,0.15,0.01,2,0.01,3.041,2,0.018,0.001,2,0.001,2,0.004,2,-999,9,-999,9,-999,9,-999,-999,9,-999,9,-999,-999,9,-999,-999,9,-999,-999,9,-999,1.9604,27.629
49NZ20070724,   P01,107,1,18, X12024,2,20070828,151,46.9965,-129.3797,2576,2000.2,2,1.9257,2,1.92571,2,34.5944,2,34.595,6,61.12,2,61.21,2,170.94,2,0.5,41.86,2,0.15,0,2,0.01,2.975,2,0.017,0,2,0,2,0.005,2,-999,9,-999,9,-999,9,-999,-999,9,-999,9,-999,-999,9,-999,-999,9,-999,-999,9,-999,1.7905,27.663
49NZ20070724,   P01,107,1,17, X12023,2,20070828,151,46.9965,-129.3797,2576,2200.3,2,1.8398,2,1.83967,2,34.611,2,34.6116,2,70.2,2,70.48,2,172.41,2,0.5,41.24,2,0.15,0.01,2,0.01,2.932,2,0.017,0.001,2,0,2,0.003,2,-999,9,-999,9,-999,9,-999,-999,9,-999,9,-999,-999,9,-999,-999,9,-999,-999,9,-999,1.689,27.684
49NZ20070724,   P01,107,1,16, X12022,2,20070828,151,46.9965,-129.3797,2576,2400.8,2,1.7713,2,1.77118,2,34.6242,2,34.6246,2,78.94,2,79.27,2,173.55,2,0.5,40.77,2,0.15,0.01,2,0.01,2.89,2,0.017,0.001,2,0.001,2,0.003,2,-999,9,-999,9,-999,9,-999,-999,9,-999,9,-999,-999,9,-999,-999,9,-999,-999,9,-999,1.6042,27.7009
49NZ20070724,   P01,107,1,15, X12021,9,20070828,151,46.9965,-129.3797,2576,9.7,2,16.932,2,16.93066,2,32.3276,2,-999,9,262.28,2,-999,9,-999,9,-999,-999,9,-999,-999,9,-999,-999,9,-999,-999,9,-999,9,-999,9,-999,9,-999,9,-999,9,-999,-999,9,-999,9,-999,-999,9,-999,-999,9,-999,-999,9,-999,16.9304,23.4804
49NZ20070724,   P01,107,1,14, X12020,9,20070828,151,46.9965,-129.3797,2576,499.2,2,4.3911,2,4.3883,2,34.0263,2,-999,9,42.85,2,-999,9,-999,9,-999,-999,9,-999,-999,9,-999,-999,9,-999,-999,9,-999,9,-999,9,-999,9,-999,9,-999,9,-999,-999,9,-999,9,-999,-999,9,-999,-999,9,-999,-999,9,-999,4.3541,26.9746
49NZ20070724,   P01,107,1,13, X12019,9,20070828,151,46.9965,-129.3797,2576,599.7,2,4.2404,2,4.24084,2,34.1305,2,-999,9,23.7,2,-999,9,-999,9,-999,-999,9,-999,-999,9,-999,-999,9,-999,-999,9,-999,9,-999,9,-999,9,-999,9,-999,9,-999,-999,9,-999,9,-999,-999,9,-999,-999,9,-999,-999,9,-999,4.1961,27.0742
49NZ20070724,   P01,107,1,12, X12040,9,20070828,151,46.9965,-129.3797,2576,699.7,2,4.0628,2,4.06272,2,34.2165,2,-999,9,13.95,2,-999,9,-999,9,-999,-999,9,-999,-999,9,-999,-999,9,-999,-999,9,-999,9,-999,9,-999,9,-999,9,-999,9,-999,-999,9,-999,9,-999,-999,9,-999,-999,9,-999,-999,9,-999,4.0114,27.1617
49NZ20070724,   P01,107,1,11, X12047,9,20070828,151,46.9965,-129.3797,2576,799.6,2,3.7858,2,3.78587,2,34.2774,2,-999,9,10.77,2,-999,9,-999,9,-999,-999,9,-999,-999,9,-999,-999,9,-999,-999,9,-999,9,-999,9,-999,9,-999,9,-999,9,-999,-999,9,-999,9,-999,-999,9,-999,-999,9,-999,-999,9,-999,3.7281,27.2389
49NZ20070724,   P01,107,1,10, X12010,9,20070828,151,46.9965,-129.3797,2576,900.1,2,3.5849,2,3.58498,2,34.3309,2,-999,9,9.53,2,-999,9,-999,9,-999,-999,9,-999,-999,9,-999,-999,9,-999,-999,9,-999,9,-999,9,-999,9,-999,9,-999,9,-999,-999,9,-999,9,-999,-999,9,-999,-999,9,-999,-999,9,-999,3.5206,27.3019
49NZ20070724,   P01,107,1,9, X12015,9,20070828,151,46.9965,-129.3797,2576,1000.7,2,3.3448,2,3.34493,2,34.3732,2,-999,9,10.1,2,-999,9,-999,9,-999,-999,9,-999,-999,9,-999,-999,9,-999,-999,9,-999,9,-999,9,-999,9,-999,9,-999,9,-999,-999,9,-999,9,-999,-999,9,-999,-999,9,-999,-999,9,-999,3.2744,27.3593
49NZ20070724,   P01,107,1,8, X12046,9,20070828,151,46.9965,-129.3797,2576,1199,2,2.9832,2,2.98312,2,34.4379,2,-999,9,13.95,2,-999,9,-999,9,-999,-999,9,-999,-999,9,-999,-999,9,-999,-999,9,-999,9,-999,9,-999,9,-999,9,-999,9,-999,-999,9,-999,9,-999,-999,9,-999,-999,9,-999,-999,9,-999,2.9002,27.4454
49NZ20070724,   P01,107,1,7, X12044,9,20070828,151,46.9965,-129.3797,2576,1400.3,2,2.6016,2,2.60173,2,34.4894,2,-999,9,21.98,2,-999,9,-999,9,-999,-999,9,-999,-999,9,-999,-999,9,-999,-999,9,-999,9,-999,9,-999,9,-999,9,-999,9,-999,-999,9,-999,9,-999,-999,9,-999,-999,9,-999,-999,9,-999,2.5065,27.521
49NZ20070724,   P01,107,1,6, X12048,9,20070828,151,46.9965,-129.3797,2576,1600.2,2,2.3017,2,2.30178,2,34.5318,2,-999,9,34.67,2,-999,9,-999,9,-999,-999,9,-999,-999,9,-999,-999,9,-999,-999,9,-999,9,-999,9,-999,9,-999,9,-999,9,-999,-999,9,-999,9,-999,-999,9,-999,-999,9,-999,-999,9,-999,2.1941,27.581
49NZ20070724,   P01,107,1,5, X12014,9,20070828,151,46.9965,-129.3797,2576,1799,2,2.083,2,2.08285,2,34.568,2,-999,9,48.99,2,-999,9,-999,9,-999,-999,9,-999,-999,9,-999,-999,9,-999,-999,9,-999,9,-999,9,-999,9,-999,9,-999,9,-999,-999,9,-999,9,-999,-999,9,-999,-999,9,-999,-999,9,-999,1.9622,27.6285
49NZ20070724,   P01,107,1,4, X12928,9,20070828,151,46.9965,-129.3797,2576,1999.3,2,1.9251,2,1.92507,2,34.5945,2,-999,9,61.5,2,-999,9,-999,9,-999,-999,9,-999,-999,9,-999,-999,9,-999,-999,9,-999,9,-999,9,-999,9,-999,9,-999,9,-999,-999,9,-999,9,-999,-999,9,-999,-999,9,-999,-999,9,-999,1.79,27.6632
49NZ20070724,   P01,107,1,3, X12931,9,20070828,151,46.9965,-129.3797,2576,2200.3,2,1.8392,2,1.83917,2,34.6111,2,-999,9,70.44,2,-999,9,-999,9,-999,-999,9,-999,-999,9,-999,-999,9,-999,-999,9,-999,9,-999,9,-999,9,-999,9,-999,9,-999,-999,9,-999,9,-999,-999,9,-999,-999,9,-999,-999,9,-999,1.6884,27.6841
49NZ20070724,   P01,107,1,2, X12930,9,20070828,151,46.9965,-129.3797,2576,2399.6,2,1.7704,2,1.77042,2,34.6244,2,-999,9,79.15,2,-999,9,-999,9,-999,-999,9,-999,-999,9,-999,-999,9,-999,-999,9,-999,9,-999,9,-999,9,-999,9,-999,9,-999,-999,9,-999,9,-999,-999,9,-999,-999,9,-999,-999,9,-999,1.6034,27.7012
49NZ20070724,   P01,107,1,1, X12929,2,20070828,151,46.9965,-129.3797,2576,2598.3,2,1.7411,2,1.74107,2,34.6313,2,34.6317,6,83.65,2,84.35,2,174.42,2,0.5,40.49,2,0.15,0.01,2,0.01,2.873,2,0.017,0,2,0,2,0.004,2,-999,9,-999,9,-999,9,-999,-999,9,-999,9,-999,-999,9,-999,-999,9,-999,-999,9,-999,1.5569,27.7101