BOTTLE,20081214JAMSTECIORGC,,,,,,,,,,,,,,,,,,,,,,,,,,,,,,,,,,,,,,,,,,,,,,,,,,,,,,,,,,,,,,,,,
EXPOCODE,SECT,STNNBR,CASTNO,SAMPNO,BTLNBR,BTLNBR_FLAG_W,DATE,TIME,LATITUDE,LONGITUDE,DEPTH,CTDPRS,CTDPRS_FLAG_W,CTDTMP,CTDTMP_FLAG_W,SBE35,SBE35_FLAG_W,CTDSAL,CTDSAL_FLAG_W,SALNTY,SALNTY_FLAG_W,CTDOXY,CTDOXY_FLAG_W,OXYGEN,OXYGEN_FLAG_W,SILCAT,SILCAT_FLAG_W,SILUNC,NITRAT,NITRAT_FLAG_W,NRAUNC,NITRIT,NITRIT_FLAG_W,NRIUNC,PHSPHT,PHSPHT_FLAG_W,PHPUNC,CFC-11,CFC-11_FLAG_W,CFC-12,CFC-12_FLAG_W,CFC113,CFC113_FLAG_W,CCL4,CCL4_FLAG_W,TCARBN,TCARBN_FLAG_W,ALKALI,ALKALI_FLAG_W,PH_TOT,PH_TMP,PH_FLAG_W,DELC13,DELC13_FLAG_W,C13ERR,DELC14,DELC14_FLAG_W,C14ERR,CS-137,CS-137_FLAG_W,CS137ER,PLUTO,PLUTO_FLAG_W,PLUTOER,THETA,SIG0
,,,,,,,,UTC,DEG,DEG,M,DBAR,,ITS-90,,ITS-90,,PSS-78,,PSS-78,,UMOL/KG,,UMOL/KG,,UMOL/KG,,UMOL/KG,UMOL/KG,,UMOL/KG,UMOL/KG,,UMOL/KG,UMOL/KG,,UMOL/KG,PMOL/KG,,PMOL/KG,,PMOL/KG,,PMOL/KG,,UMOL/KG,,UMOL/KG,,,ITS-90,,/MILLE,,/MILLE,/MILLE,,/MILLE,BQ/CUM,,BQ/CUM,MBQ/CUM,,MBQ/CUM,DEG C,KG/CUM
49NZ20070724,   P01,3,1,0,-999,9,20070726,1336,42.8552,145.5408,926,-999,9,-999,9,-999,9,-999,9,32.7725,2,-999,9,-999,9,-999,9,-999,-999,9,-999,-999,9,-999,-999,9,-999,-999,9,-999,9,-999,9,-999,9,-999,9,-999,9,-999,-999,9,-999,9,-999,-999,9,-999,-999,9,-999,-999,9,-999,-999,-999
49NZ20070724,   P01,3,1,36, X12042,2,20070726,1336,42.8552,145.5408,926,9.8,2,10.4329,2,10.46432,2,32.7868,2,32.7965,2,305.33,2,301.63,2,9.26,2,0.14,10.22,2,0.06,0.19,2,0.01,1.191,2,0.013,4.001,2,2.23,2,0.317,2,-999,9,2040.2,2,2236.8,2,7.8876,25,6,-999,9,-999,-999,9,-999,-999,9,-999,-999,9,-999,10.4318,25.1513
49NZ20070724,   P01,3,1,35, X12041,2,20070726,1336,42.8552,145.5408,926,49.7,2,3.5151,2,3.48295,2,33.0704,2,33.0929,2,325.51,2,322.06,2,32.29,2,0.19,19.47,2,0.09,0.28,2,0.01,1.759,2,0.015,4.958,2,2.647,2,0.37,2,-999,9,2118.6,6,2252.1,2,7.7348,25,2,-999,9,-999,-999,9,-999,-999,9,-999,-999,9,-999,3.512,26.2985
49NZ20070724,   P01,3,1,34, X12036,2,20070726,1336,42.8552,145.5408,926,100.1,2,1.802,2,1.80156,2,33.2415,2,33.2596,2,270.68,2,270.68,2,55.39,2,0.24,28.38,2,0.11,0.08,2,0.01,2.224,2,0.016,4.793,2,2.551,2,0.352,2,-999,9,2179.5,2,2257.9,6,7.5774,25,2,-999,9,-999,-999,9,-999,-999,9,-999,-999,9,-999,1.7971,26.5779
49NZ20070724,   P01,3,1,33, X12033,2,20070726,1336,42.8552,145.5408,926,149.8,2,1.7636,2,1.76312,2,33.3216,2,33.3249,2,247.93,2,249.51,2,60.78,2,0.25,30.15,2,0.12,0.03,2,0.01,2.328,2,0.016,4.544,2,2.445,6,0.331,6,-999,9,2199,2,2261.6,2,7.5411,25,2,-999,9,-999,-999,9,-999,-999,9,-999,-999,9,-999,1.7563,26.6451
49NZ20070724,   P01,3,1,32, X12038,2,20070726,1336,42.8552,145.5408,926,200.2,2,1.9602,2,1.96091,2,33.4375,2,33.4435,2,208.9,2,210.09,2,69.77,2,0.27,32.36,2,0.12,0.03,2,0.01,2.466,2,0.016,4.028,2,2.199,2,0.297,2,-999,9,2225.4,2,2274.2,2,7.4921,25,2,-999,9,-999,-999,9,-999,-999,9,-999,-999,9,-999,1.95,26.7236
49NZ20070724,   P01,3,1,31, X12003,2,20070726,1336,42.8552,145.5408,926,249.2,2,2.0505,2,2.05196,2,33.5093,2,33.5183,6,190.04,2,187.68,2,75.36,2,0.28,33.56,2,0.13,0.04,2,0.01,2.549,2,0.016,3.729,2,2.002,2,0.274,2,-999,9,2240.5,2,2281.2,2,7.4642,25,2,-999,9,-999,-999,9,-999,-999,9,-999,-999,9,-999,2.0374,26.7745
49NZ20070724,   P01,3,1,30, X12008,2,20070726,1336,42.8552,145.5408,926,281.2,2,2.2524,2,2.25203,2,33.5653,2,33.5651,2,168.82,2,170.54,2,78.72,2,0.29,34.85,2,0.13,0.05,2,0.01,2.625,2,0.017,3.541,2,1.889,2,0.271,2,-999,9,2252.3,2,2284.5,2,7.4412,25,2,-999,9,-999,-999,9,-999,-999,9,-999,-999,9,-999,2.2371,26.8039
49NZ20070724,   P01,3,1,29, X12035,2,20070726,1336,42.8552,145.5408,926,369.3,2,2.3424,2,2.34116,2,33.6509,2,33.6453,2,145.81,2,147.63,2,84.92,2,0.31,36.17,2,0.13,0.04,2,0.01,2.715,2,0.017,3.171,2,1.694,2,0.233,2,-999,9,2269.1,2,2292.4,2,7.4109,25,2,-999,9,-999,-999,9,-999,-999,9,-999,-999,9,-999,2.3217,26.8656
49NZ20070724,   P01,3,1,28, X12034,2,20070726,1336,42.8552,145.5408,926,469,2,2.7056,2,2.70528,2,33.8074,2,33.8087,6,99.57,2,100.13,2,97.32,2,0.33,39.25,2,0.14,0.04,2,0.01,2.906,2,0.017,2.441,2,1.288,2,0.178,2,-999,9,2302.7,2,2307.7,2,7.3576,25,2,-999,9,-999,-999,9,-999,-999,9,-999,-999,9,-999,2.6774,26.9613
49NZ20070724,   P01,3,1,27, X12049,2,20070726,1336,42.8552,145.5408,926,570.6,2,2.7902,2,2.78901,2,33.9385,2,33.939,2,76.57,2,77.71,2,107.61,2,0.36,40.54,2,0.15,0.02,2,0.01,2.978,2,0.017,1.866,2,0.975,2,0.141,2,-999,9,2322.4,2,2322.9,2,7.3453,25,2,-999,9,-999,-999,9,-999,-999,9,-999,-999,9,-999,2.7549,27.0593
49NZ20070724,   P01,3,1,26, X12032,2,20070726,1336,42.8552,145.5408,926,669.4,2,2.9037,2,2.90449,2,34.0826,2,34.0878,2,50.11,2,49.04,2,120.34,2,0.38,42.3,2,0.15,0.01,2,0.01,3.08,2,0.018,1.228,6,0.637,6,0.094,6,-999,9,2345.5,6,2340,2,7.326,25,2,-999,9,-999,-999,9,-999,-999,9,-999,-999,9,-999,2.861,27.1651
49NZ20070724,   P01,3,1,25, X12043,2,20070726,1336,42.8552,145.5408,926,769.4,2,2.8541,2,2.85518,2,34.1576,2,34.1634,2,43.47,2,42.16,2,127.85,2,0.4,42.62,2,0.15,0.02,2,0.01,3.096,2,0.018,0.956,2,0.485,2,0.066,2,-999,9,2353.5,2,2349.7,6,7.3278,25,2,-999,9,-999,-999,9,-999,-999,9,-999,-999,9,-999,2.8046,27.2301
49NZ20070724,   P01,3,1,24, X12030,2,20070726,1336,42.8552,145.5408,926,869.7,2,2.7897,2,2.78947,2,34.2633,2,34.2627,2,34.6,2,35.44,2,137.79,2,0.42,42.95,2,0.15,0.02,2,0.01,3.117,2,0.018,0.626,2,0.319,2,0.043,2,-999,9,2365.8,2,2363.7,2,7.33,25,6,-999,9,-999,-999,9,-999,-999,9,-999,-999,9,-999,2.7333,27.3207
49NZ20070724,   P01,3,1,23, X12027,9,20070726,1336,42.8552,145.5408,926,-999,9,-999,9,-999,9,-999,9,-999,9,-999,9,-999,9,-999,9,-999,-999,9,-999,-999,9,-999,-999,9,-999,-999,9,-999,9,-999,9,-999,9,-999,9,-999,9,-999,-999,9,-999,9,-999,-999,9,-999,-999,9,-999,-999,9,-999,-999,-999
49NZ20070724,   P01,3,1,22, X12028,9,20070726,1336,42.8552,145.5408,926,-999,9,-999,9,-999,9,-999,9,-999,9,-999,9,-999,9,-999,9,-999,-999,9,-999,-999,9,-999,-999,9,-999,-999,9,-999,9,-999,9,-999,9,-999,9,-999,9,-999,-999,9,-999,9,-999,-999,9,-999,-999,9,-999,-999,9,-999,-999,-999
49NZ20070724,   P01,3,1,21, X12009,9,20070726,1336,42.8552,145.5408,926,-999,9,-999,9,-999,9,-999,9,-999,9,-999,9,-999,9,-999,9,-999,-999,9,-999,-999,9,-999,-999,9,-999,-999,9,-999,9,-999,9,-999,9,-999,9,-999,9,-999,-999,9,-999,9,-999,-999,9,-999,-999,9,-999,-999,9,-999,-999,-999
49NZ20070724,   P01,3,1,20, X12026,9,20070726,1336,42.8552,145.5408,926,-999,9,-999,9,-999,9,-999,9,-999,9,-999,9,-999,9,-999,9,-999,-999,9,-999,-999,9,-999,-999,9,-999,-999,9,-999,9,-999,9,-999,9,-999,9,-999,9,-999,-999,9,-999,9,-999,-999,9,-999,-999,9,-999,-999,9,-999,-999,-999
49NZ20070724,   P01,3,1,19, X12025,9,20070726,1336,42.8552,145.5408,926,-999,9,-999,9,-999,9,-999,9,-999,9,-999,9,-999,9,-999,9,-999,-999,9,-999,-999,9,-999,-999,9,-999,-999,9,-999,9,-999,9,-999,9,-999,9,-999,9,-999,-999,9,-999,9,-999,-999,9,-999,-999,9,-999,-999,9,-999,-999,-999
49NZ20070724,   P01,3,1,18, X12024,9,20070726,1336,42.8552,145.5408,926,9.8,2,10.5742,2,10.52562,2,32.7751,2,-999,9,304.46,2,-999,9,-999,9,-999,-999,9,-999,-999,9,-999,-999,9,-999,-999,9,-999,9,-999,9,-999,9,-999,9,-999,9,-999,-999,9,-999,9,-999,-999,9,-999,-999,9,-999,-999,9,-999,10.5731,25.1179
49NZ20070724,   P01,3,1,17, X12023,9,20070726,1336,42.8552,145.5408,926,49.5,2,3.424,2,3.45729,2,33.0865,2,-999,9,323.73,2,-999,9,-999,9,-999,-999,9,-999,-999,9,-999,-999,9,-999,-999,9,-999,9,-999,9,-999,9,-999,9,-999,9,-999,-999,9,-999,9,-999,-999,9,-999,-999,9,-999,-999,9,-999,3.421,26.3198
49NZ20070724,   P01,3,1,16, X12022,9,20070726,1336,42.8552,145.5408,926,99.9,2,1.8035,2,1.80468,2,33.2431,2,-999,9,269.34,2,-999,9,-999,9,-999,-999,9,-999,-999,9,-999,-999,9,-999,-999,9,-999,9,-999,9,-999,9,-999,9,-999,9,-999,-999,9,-999,9,-999,-999,9,-999,-999,9,-999,-999,9,-999,1.7986,26.5791
49NZ20070724,   P01,3,1,15, X12021,9,20070726,1336,42.8552,145.5408,926,150.1,2,1.7638,2,1.76403,2,33.3236,2,-999,9,247.19,2,-999,9,-999,9,-999,-999,9,-999,-999,9,-999,-999,9,-999,-999,9,-999,9,-999,9,-999,9,-999,9,-999,9,-999,-999,9,-999,9,-999,-999,9,-999,-999,9,-999,-999,9,-999,1.7565,26.6467
49NZ20070724,   P01,3,1,14, X12020,9,20070726,1336,42.8552,145.5408,926,199.9,2,1.9659,2,1.96769,2,33.4386,2,-999,9,209.19,2,-999,9,-999,9,-999,-999,9,-999,-999,9,-999,-999,9,-999,-999,9,-999,9,-999,9,-999,9,-999,9,-999,9,-999,-999,9,-999,9,-999,-999,9,-999,-999,9,-999,-999,9,-999,1.9557,26.7241
49NZ20070724,   P01,3,1,13, X12019,9,20070726,1336,42.8552,145.5408,926,249.1,2,2.047,2,2.0488,2,33.5087,2,-999,9,189.97,2,-999,9,-999,9,-999,-999,9,-999,-999,9,-999,-999,9,-999,-999,9,-999,9,-999,9,-999,9,-999,9,-999,9,-999,-999,9,-999,9,-999,-999,9,-999,-999,9,-999,-999,9,-999,2.0339,26.7743
49NZ20070724,   P01,3,1,12, X12040,9,20070726,1336,42.8552,145.5408,926,281,2,2.2485,2,2.24877,2,33.565,2,-999,9,168.88,2,-999,9,-999,9,-999,-999,9,-999,-999,9,-999,-999,9,-999,-999,9,-999,9,-999,9,-999,9,-999,9,-999,9,-999,-999,9,-999,9,-999,-999,9,-999,-999,9,-999,-999,9,-999,2.2332,26.804
49NZ20070724,   P01,3,1,11, X12047,9,20070726,1336,42.8552,145.5408,926,369.1,2,2.3392,2,2.33541,2,33.651,2,-999,9,146.04,2,-999,9,-999,9,-999,-999,9,-999,-999,9,-999,-999,9,-999,-999,9,-999,9,-999,9,-999,9,-999,9,-999,9,-999,-999,9,-999,9,-999,-999,9,-999,-999,9,-999,-999,9,-999,2.3185,26.866
49NZ20070724,   P01,3,1,10, X12010,9,20070726,1336,42.8552,145.5408,926,468.9,2,2.7067,2,2.70602,2,33.8092,2,-999,9,99.5,2,-999,9,-999,9,-999,-999,9,-999,-999,9,-999,-999,9,-999,-999,9,-999,9,-999,9,-999,9,-999,9,-999,9,-999,-999,9,-999,9,-999,-999,9,-999,-999,9,-999,-999,9,-999,2.6785,26.9626
49NZ20070724,   P01,3,1,9, X12015,9,20070726,1336,42.8552,145.5408,926,572.1,2,2.7727,2,2.77294,2,33.9419,2,-999,9,76.65,2,-999,9,-999,9,-999,-999,9,-999,-999,9,-999,-999,9,-999,-999,9,-999,9,-999,9,-999,9,-999,9,-999,9,-999,-999,9,-999,9,-999,-999,9,-999,-999,9,-999,-999,9,-999,2.7374,27.0635
49NZ20070724,   P01,3,1,8, X12046,9,20070726,1336,42.8552,145.5408,926,669.4,2,2.9151,2,2.91269,2,34.0856,2,-999,9,49.59,2,-999,9,-999,9,-999,-999,9,-999,-999,9,-999,-999,9,-999,-999,9,-999,9,-999,9,-999,9,-999,9,-999,9,-999,-999,9,-999,9,-999,-999,9,-999,-999,9,-999,-999,9,-999,2.8723,27.1665
49NZ20070724,   P01,3,1,7, X12044,9,20070726,1336,42.8552,145.5408,926,769.2,2,2.8584,2,2.85621,2,34.1577,2,-999,9,43.48,2,-999,9,-999,9,-999,-999,9,-999,-999,9,-999,-999,9,-999,-999,9,-999,9,-999,9,-999,9,-999,9,-999,9,-999,-999,9,-999,9,-999,-999,9,-999,-999,9,-999,-999,9,-999,2.8089,27.2298
49NZ20070724,   P01,3,1,6, X12048,9,20070726,1336,42.8552,145.5408,926,869.4,2,2.7907,2,2.79071,2,34.2628,2,-999,9,34.59,2,-999,9,-999,9,-999,-999,9,-999,-999,9,-999,-999,9,-999,-999,9,-999,9,-999,9,-999,9,-999,9,-999,9,-999,-999,9,-999,9,-999,-999,9,-999,-999,9,-999,-999,9,-999,2.7344,27.3202
49NZ20070724,   P01,3,1,5, X12017,9,20070726,1336,42.8552,145.5408,926,-999,9,-999,9,-999,9,-999,9,-999,9,-999,9,-999,9,-999,9,-999,-999,9,-999,-999,9,-999,-999,9,-999,-999,9,-999,9,-999,9,-999,9,-999,9,-999,9,-999,-999,9,-999,9,-999,-999,9,-999,-999,9,-999,-999,9,-999,-999,-999
49NZ20070724,   P01,3,1,4, X12928,9,20070726,1336,42.8552,145.5408,926,-999,9,-999,9,-999,9,-999,9,-999,9,-999,9,-999,9,-999,9,-999,-999,9,-999,-999,9,-999,-999,9,-999,-999,9,-999,9,-999,9,-999,9,-999,9,-999,9,-999,-999,9,-999,9,-999,-999,9,-999,-999,9,-999,-999,9,-999,-999,-999
49NZ20070724,   P01,3,1,3, X12931,9,20070726,1336,42.8552,145.5408,926,-999,9,-999,9,-999,9,-999,9,-999,9,-999,9,-999,9,-999,9,-999,-999,9,-999,-999,9,-999,-999,9,-999,-999,9,-999,9,-999,9,-999,9,-999,9,-999,9,-999,-999,9,-999,9,-999,-999,9,-999,-999,9,-999,-999,9,-999,-999,-999
49NZ20070724,   P01,3,1,2, X12930,9,20070726,1336,42.8552,145.5408,926,-999,9,-999,9,-999,9,-999,9,-999,9,-999,9,-999,9,-999,9,-999,-999,9,-999,-999,9,-999,-999,9,-999,-999,9,-999,9,-999,9,-999,9,-999,9,-999,9,-999,-999,9,-999,9,-999,-999,9,-999,-999,9,-999,-999,9,-999,-999,-999
49NZ20070724,   P01,3,1,1, X12929,2,20070726,1336,42.8552,145.5408,926,915.8,2,2.6727,2,2.67242,2,34.3224,2,34.3208,6,34.98,2,35.98,2,143.68,2,0.44,42.88,2,0.15,0.02,2,0.01,3.111,2,0.018,0.473,2,0.243,2,0.032,2,-999,9,2370.8,2,2372.1,2,7.3411,25,2,-999,9,-999,-999,9,-999,-999,9,-999,-999,9,-999,2.6138,27.3784