BOTTLE,20081214JAMSTECIORGC,,,,,,,,,,,,,,,,,,,,,,,,,,,,,,,,,,,,,,,,,,,,,,,,,,,,,,,,,,,,,,,,,
EXPOCODE,SECT,STNNBR,CASTNO,SAMPNO,BTLNBR,BTLNBR_FLAG_W,DATE,TIME,LATITUDE,LONGITUDE,DEPTH,CTDPRS,CTDPRS_FLAG_W,CTDTMP,CTDTMP_FLAG_W,SBE35,SBE35_FLAG_W,CTDSAL,CTDSAL_FLAG_W,SALNTY,SALNTY_FLAG_W,CTDOXY,CTDOXY_FLAG_W,OXYGEN,OXYGEN_FLAG_W,SILCAT,SILCAT_FLAG_W,SILUNC,NITRAT,NITRAT_FLAG_W,NRAUNC,NITRIT,NITRIT_FLAG_W,NRIUNC,PHSPHT,PHSPHT_FLAG_W,PHPUNC,CFC-11,CFC-11_FLAG_W,CFC-12,CFC-12_FLAG_W,CFC113,CFC113_FLAG_W,CCL4,CCL4_FLAG_W,TCARBN,TCARBN_FLAG_W,ALKALI,ALKALI_FLAG_W,PH_TOT,PH_TMP,PH_FLAG_W,DELC13,DELC13_FLAG_W,C13ERR,DELC14,DELC14_FLAG_W,C14ERR,CS-137,CS-137_FLAG_W,CS137ER,PLUTO,PLUTO_FLAG_W,PLUTOER,THETA,SIG0
,,,,,,,,UTC,DEG,DEG,M,DBAR,,ITS-90,,ITS-90,,PSS-78,,PSS-78,,UMOL/KG,,UMOL/KG,,UMOL/KG,,UMOL/KG,UMOL/KG,,UMOL/KG,UMOL/KG,,UMOL/KG,UMOL/KG,,UMOL/KG,PMOL/KG,,PMOL/KG,,PMOL/KG,,PMOL/KG,,UMOL/KG,,UMOL/KG,,,ITS-90,,/MILLE,,/MILLE,/MILLE,,/MILLE,BQ/CUM,,BQ/CUM,MBQ/CUM,,MBQ/CUM,DEG C,KG/CUM
49NZ20070724,   P01,79,1,0,-999,9,20070820,444,46.9975,-160.3612,5128,-999,9,-999,9,-999,9,-999,9,32.8162,2,-999,9,-999,9,-999,9,-999,-999,9,-999,-999,9,-999,-999,9,-999,-999,9,-999,9,-999,9,-999,9,-999,9,-999,9,-999,-999,9,-999,9,-999,-999,9,-999,-999,9,-999,-999,9,-999,-999,-999
49NZ20070724,   P01,79,1,36, X12042,2,20070820,444,46.9975,-160.3612,5128,9.6,2,13.7917,2,13.77774,2,32.8124,2,32.8139,2,280.25,2,276.67,2,11.94,2,0.15,7.72,2,0.05,0.14,2,0.01,0.835,2,0.013,3.258,2,1.85,2,0.312,2,-999,9,2002.4,2,2216.4,2,7.9158,25,2,-999,9,-999,-999,9,-999,-999,9,-999,-999,9,-999,13.7904,24.54
49NZ20070724,   P01,79,1,35, X12041,2,20070820,444,46.9975,-160.3612,5128,48.6,2,6.2842,2,6.28573,2,33.1305,2,33.1286,2,299.44,2,300.08,2,19.62,2,0.16,12.67,2,0.07,0.55,2,0,1.236,2,0.013,4.502,2,2.502,2,0.399,2,-999,9,2069.5,2,2226.1,2,7.792,25,2,-999,9,-999,-999,9,-999,-999,9,-999,-999,9,-999,6.2801,26.0405
49NZ20070724,   P01,79,1,34, X12036,2,20070820,444,46.9975,-160.3612,5128,99.8,2,6.5393,2,6.53721,2,33.3352,2,33.3381,2,293.97,2,294.1,2,20.99,2,0.17,13.66,2,0.07,0.54,2,0,1.223,2,0.013,4.343,2,2.413,2,0.39,2,-999,9,2078.5,2,2234.2,2,7.787,25,2,-999,9,-999,-999,9,-999,-999,9,-999,-999,9,-999,6.5306,26.1698
49NZ20070724,   P01,79,1,33, X12033,2,20070820,444,46.9975,-160.3612,5128,150.4,2,6.9296,2,6.93,2,33.7375,2,33.751,2,252.01,2,250.77,2,26.32,2,0.18,18.15,2,0.08,0.02,2,0.01,1.392,2,0.014,3.994,2,2.199,2,0.276,2,-999,9,2118.3,2,2256.2,2,7.7336,25,2,-999,9,-999,-999,9,-999,-999,9,-999,-999,9,-999,6.9159,26.4357
49NZ20070724,   P01,79,1,32, X12038,2,20070820,444,46.9975,-160.3612,5128,200.1,2,6.204,2,6.20399,2,33.8084,2,33.8081,2,217.92,2,219.93,2,37.02,2,0.2,22.64,2,0.1,0.02,2,0.01,1.698,2,0.014,3.756,2,2.014,2,0.252,2,-999,9,2154.7,2,2267.8,2,7.665,25,2,-999,9,-999,-999,9,-999,-999,9,-999,-999,9,-999,6.1869,26.5875
49NZ20070724,   P01,79,1,31, X12003,2,20070820,444,46.9975,-160.3612,5128,250.3,2,5.6012,2,5.59494,2,33.844,2,33.8435,6,173.19,2,175.04,2,49.7,2,0.23,27.65,2,0.11,0.01,2,0.01,2.04,2,0.015,3.316,6,1.723,6,0.203,6,-999,9,2194.9,2,2277,2,7.5782,25,2,-999,9,-999,-999,9,-999,-999,9,-999,-999,9,-999,5.5808,26.6907
49NZ20070724,   P01,79,1,30, X12008,2,20070820,444,46.9975,-160.3612,5128,328.9,2,4.9268,2,4.92671,2,33.9016,2,33.9032,2,122.64,2,122.6,2,66.75,2,0.27,33.46,2,0.13,0.01,2,0.01,2.437,2,0.016,2.646,2,1.326,2,0.155,2,-999,9,2243.8,6,2290.2,2,7.4768,25,2,-999,9,-999,-999,9,-999,-999,9,-999,-999,9,-999,4.9015,26.8156
49NZ20070724,   P01,79,1,29, X12035,2,20070820,444,46.9975,-160.3612,5128,430.2,2,4.4881,2,4.4882,2,33.9805,2,33.9812,2,85.78,2,85.89,2,81.27,2,0.3,37.51,2,0.14,0.01,2,0.01,2.697,2,0.017,1.98,2,0.968,2,0.105,2,-999,9,2280.1,2,2304.9,6,7.411,25,2,-999,9,-999,-999,9,-999,-999,9,-999,-999,9,-999,4.4561,26.9273
49NZ20070724,   P01,79,1,28, X12034,2,20070820,444,46.9975,-160.3612,5128,532.2,2,4.1706,2,4.17064,2,34.0849,2,34.0866,6,55.96,2,56.14,2,96.33,2,0.33,40.24,2,0.15,0.01,2,0.01,2.889,2,0.017,1.269,2,0.613,2,0.081,2,-999,9,2310.1,2,2322.8,2,7.3683,25,6,-999,9,-999,-999,9,-999,-999,9,-999,-999,9,-999,4.1319,27.0446
49NZ20070724,   P01,79,1,27, X12049,2,20070820,444,46.9975,-160.3612,5128,632.7,2,3.9007,2,3.90114,2,34.1778,2,34.1764,2,40.12,2,40.81,2,108.1,2,0.36,41.61,2,0.15,0.01,2,0.01,2.986,2,0.017,0.734,2,0.348,2,0.042,2,-999,9,2330.7,2,2337.5,2,7.3529,25,2,-999,9,-999,-999,9,-999,-999,9,-999,-999,9,-999,3.8554,27.1468
49NZ20070724,   P01,79,1,26, X12032,2,20070820,444,46.9975,-160.3612,5128,728.8,2,3.6845,2,3.68425,2,34.2348,2,34.234,2,33.42,2,34.15,2,116.28,2,0.37,42.43,2,0.15,0,2,0.01,3.04,2,0.018,0.44,6,0.209,6,0.019,6,-999,9,2344.5,6,2348.1,2,7.3469,25,2,-999,9,-999,-999,9,-999,-999,9,-999,-999,9,-999,3.633,27.2144
49NZ20070724,   P01,79,1,25, X12043,2,20070820,444,46.9975,-160.3612,5128,831,2,3.3853,2,3.38539,2,34.2868,2,34.2858,2,28.07,2,28.62,2,125.69,2,0.4,43.04,2,0.15,0.01,2,0.01,3.084,2,0.018,0.291,2,0.139,2,0.015,2,-999,9,2359.6,2,2360,6,7.3405,25,2,-999,9,-999,-999,9,-999,-999,9,-999,-999,9,-999,3.3278,27.2853
49NZ20070724,   P01,79,1,24, X12030,2,20070820,444,46.9975,-160.3612,5128,931.3,2,3.1552,2,3.15504,2,34.332,2,34.3313,2,25.49,2,25.94,2,133.17,2,0.41,43.54,2,0.15,0.01,2,0.01,3.103,2,0.018,0.184,2,0.088,2,0.014,2,-999,9,2364.4,2,2368.6,2,7.346,25,6,-999,9,-999,-999,9,-999,-999,9,-999,-999,9,-999,3.0916,27.3435
49NZ20070724,   P01,79,1,23, X12027,2,20070820,444,46.9975,-160.3612,5128,1070.8,2,2.9097,2,2.90948,2,34.3839,2,34.3845,6,24.27,2,24.52,2,141.41,2,0.43,43.83,2,0.16,0.01,2,0.01,3.124,2,0.018,0.095,2,0.045,2,0.006,2,-999,9,2375.6,2,2378.8,2,7.3421,25,2,-999,9,-999,-999,9,-999,-999,9,-999,-999,9,-999,2.8374,27.4079
49NZ20070724,   P01,79,1,22, X12028,2,20070820,444,46.9975,-160.3612,5128,1270.7,2,2.5908,2,2.59076,2,34.4454,2,34.4451,2,24.09,2,24.12,2,151.76,2,0.45,44.16,2,0.16,0,2,0.01,3.135,2,0.018,0.032,2,0.018,2,0.009,2,-999,9,2382.9,2,2392.1,2,7.3536,25,2,-999,9,-999,-999,9,-999,-999,9,-999,-999,9,-999,2.506,27.4859
49NZ20070724,   P01,79,1,21, X12009,2,20070820,444,46.9975,-160.3612,5128,1472.2,2,2.3835,2,2.38336,2,34.4937,2,34.4934,2,21.36,2,21.32,2,159.67,2,0.47,44.49,2,0.16,0,2,0.01,3.141,2,0.018,0,2,0,2,0,2,-999,9,2396.7,2,2401.8,2,7.3495,25,2,-999,9,-999,-999,9,-999,-999,9,-999,-999,9,-999,2.2852,27.5431
49NZ20070724,   P01,79,1,20, X12026,2,20070820,444,46.9975,-160.3612,5128,1669.8,2,2.2045,2,2.2046,2,34.5351,2,34.535,2,26.99,2,26.87,2,165.48,2,0.48,44.25,2,0.16,0,2,0.01,3.117,2,0.018,0,2,0,2,0,2,-999,9,2401.4,2,2408.3,2,7.3602,25,6,-999,9,-999,-999,9,-999,-999,9,-999,-999,9,-999,2.0926,27.5919
49NZ20070724,   P01,79,1,19, X12025,2,20070820,444,46.9975,-160.3612,5128,1870.9,2,2.0538,2,2.05392,2,34.5673,2,34.5668,2,39.39,2,38.97,2,168.69,2,0.49,43.71,2,0.16,0,2,0.01,3.064,2,0.018,0,2,0.002,2,0,2,-999,9,2396.5,2,2414.2,2,7.3841,25,2,-999,9,-999,-999,9,-999,-999,9,-999,-999,9,-999,1.9275,27.6307
49NZ20070724,   P01,79,1,18, X12024,2,20070820,444,46.9975,-160.3612,5128,2071.1,2,1.9274,2,1.92736,2,34.5915,2,34.5913,2,55.06,2,54.71,2,169.6,2,0.49,42.69,2,0.15,0,2,0.01,2.997,2,0.017,0,2,0.001,2,0.007,2,-999,9,2388.1,2,2417.6,2,7.4141,25,2,-999,9,-999,-999,9,-999,-999,9,-999,-999,9,-999,1.7862,27.661
49NZ20070724,   P01,79,1,17, X12023,2,20070820,444,46.9975,-160.3612,5128,2269.3,2,1.8145,2,1.8146,2,34.6123,2,34.6122,2,69.55,2,69.35,2,169.7,2,0.49,41.69,2,0.15,0,2,0.01,2.933,2,0.017,0.001,2,0.001,2,0,2,-999,9,2379.7,2,2419.3,2,7.4437,25,2,-999,9,-999,-999,9,-999,-999,9,-999,-999,9,-999,1.6582,27.6874
49NZ20070724,   P01,79,1,16, X12022,2,20070820,444,46.9975,-160.3612,5128,2471.8,2,1.7433,2,1.74344,2,34.6261,2,34.626,2,79.63,2,79.27,2,169.65,2,0.49,40.99,2,0.15,0,2,0.01,2.886,2,0.017,0,2,0,2,0,2,-999,9,2373.3,6,2420.4,2,7.4611,25,2,-999,9,-999,-999,9,-999,-999,9,-999,-999,9,-999,1.5704,27.705
49NZ20070724,   P01,79,1,15, X12021,2,20070820,444,46.9975,-160.3612,5128,2670.1,2,1.669,2,1.66917,2,34.6394,2,34.6394,6,92.54,2,92,2,167.91,2,0.49,40.12,2,0.15,0,2,0.01,2.827,2,0.017,-999,9,-999,9,-999,9,-999,9,2367.5,2,2421.8,6,7.485,25,2,-999,9,-999,-999,9,-999,-999,9,-999,-999,9,-999,1.4796,27.7223
49NZ20070724,   P01,79,1,14, X12020,2,20070820,444,46.9975,-160.3612,5128,2870.1,2,1.6171,2,1.61707,2,34.6492,2,34.6494,2,102.7,2,102.43,2,166.16,2,0.48,39.63,2,0.14,0,2,0.01,2.777,2,0.017,-999,9,-999,9,-999,9,-999,9,2362.2,2,2421.6,2,7.5015,25,6,-999,9,-999,-999,9,-999,-999,9,-999,-999,9,-999,1.4102,27.7351
49NZ20070724,   P01,79,1,13, X12019,2,20070820,444,46.9975,-160.3612,5128,3081,2,1.5729,2,1.57292,2,34.6578,2,34.6576,2,112.75,2,112.38,2,164.3,2,0.48,38.94,2,0.14,0,2,0.01,2.726,2,0.017,-999,9,-999,9,-999,9,-999,9,2354.2,2,2422.1,2,7.5248,25,2,-999,9,-999,-999,9,-999,-999,9,-999,-999,9,-999,1.3468,27.7466
49NZ20070724,   P01,79,1,12, X12040,2,20070820,444,46.9975,-160.3612,5128,3329.7,2,1.5203,2,1.52028,2,34.6674,2,34.6679,2,124.74,2,124.52,2,161.26,2,0.47,38.04,2,0.14,0.01,2,0.01,2.658,2,0.017,-999,9,-999,9,-999,9,-999,9,2346,2,2422,2,7.545,25,2,-999,9,-999,-999,9,-999,-999,9,-999,-999,9,-999,1.2709,27.7596
49NZ20070724,   P01,79,1,11, X12047,2,20070820,444,46.9975,-160.3612,5128,3581.7,2,1.4968,2,1.4968,2,34.6739,2,34.6739,2,132.17,2,132.03,2,160.22,2,0.47,37.46,2,0.14,0,2,0.01,2.623,2,0.017,-999,9,-999,9,-999,9,-999,9,2342.1,2,2423.1,2,7.5585,25,2,-999,9,-999,-999,9,-999,-999,9,-999,-999,9,-999,1.2224,27.7682
49NZ20070724,   P01,79,1,10, X12010,2,20070820,444,46.9975,-160.3612,5128,3830.7,2,1.4813,2,1.48134,2,34.679,2,34.679,2,138.16,2,138.24,2,160.07,2,0.47,37.17,2,0.14,0,2,0.01,2.598,2,0.016,-999,9,-999,9,-999,9,-999,9,2336.7,2,2424.4,2,7.5716,25,2,-999,9,-999,-999,9,-999,-999,9,-999,-999,9,-999,1.1812,27.7752
49NZ20070724,   P01,79,1,9, X12015,2,20070820,444,46.9975,-160.3612,5128,4080.9,2,1.4834,2,1.48353,2,34.6824,2,34.6823,6,141.77,2,142.03,2,160.7,2,0.47,36.94,2,0.14,0,2,0.01,2.577,2,0.016,-999,9,-999,9,-999,9,-999,9,2336.8,2,2425.7,2,7.5802,25,2,-999,9,-999,-999,9,-999,-999,9,-999,-999,9,-999,1.1561,27.7796
49NZ20070724,   P01,79,1,8, X12046,2,20070820,444,46.9975,-160.3612,5128,4331.1,2,1.4952,2,1.49525,2,34.6847,2,34.6849,2,144.17,2,144.29,2,161.64,2,0.47,36.69,2,0.14,0,2,0.01,2.562,2,0.016,-999,9,-999,9,-999,9,-999,9,2335.3,6,2426.5,2,7.5852,25,2,-999,9,-999,-999,9,-999,-999,9,-999,-999,9,-999,1.1397,27.7826
49NZ20070724,   P01,79,1,7, X12044,2,20070820,444,46.9975,-160.3612,5128,4581.2,2,1.5147,2,1.51471,2,34.6863,2,34.6864,2,145.33,2,145.49,2,163.39,2,0.48,36.63,2,0.14,0,2,0.01,2.556,2,0.016,-999,9,-999,9,-999,9,-999,9,2337,2,2427.3,2,7.5889,25,2,-999,9,-999,-999,9,-999,-999,9,-999,-999,9,-999,1.1299,27.7845
49NZ20070724,   P01,79,1,6, X12048,2,20070820,444,46.9975,-160.3612,5128,4829.9,2,1.5392,2,1.53918,2,34.687,2,34.6873,2,146.21,2,146.44,2,164.37,2,0.48,36.71,2,0.14,0,2,0.01,2.553,2,0.016,-999,9,-999,9,-999,9,-999,9,2335.2,2,2428.7,2,7.5917,25,6,-999,9,-999,-999,9,-999,-999,9,-999,-999,9,-999,1.1242,27.7855
49NZ20070724,   P01,79,1,5, X12017,2,20070820,444,46.9975,-160.3612,5128,5079.2,2,1.5663,2,1.56621,2,34.6877,2,34.6877,2,147.01,2,147.04,2,165.57,2,0.48,36.69,2,0.14,0.01,2,0.01,2.55,2,0.016,-999,9,-999,9,-999,9,-999,9,2334.6,2,2429.7,2,7.5925,25,2,-999,9,-999,-999,9,-999,-999,9,-999,-999,9,-999,1.1201,27.7863
49NZ20070724,   P01,79,1,4, X12928,9,20070820,444,46.9975,-160.3612,5128,10.3,2,13.5985,2,13.58568,2,32.8229,2,-999,9,282.98,2,-999,9,-999,9,-999,-999,9,-999,-999,9,-999,-999,9,-999,-999,9,-999,9,-999,9,-999,9,-999,9,-999,9,-999,-999,9,-999,9,-999,-999,9,-999,-999,9,-999,-999,9,-999,13.5971,24.5875
49NZ20070724,   P01,79,1,3, X12931,9,20070820,444,46.9975,-160.3612,5128,48.8,2,6.2878,2,6.28887,2,33.1288,2,-999,9,299.74,2,-999,9,-999,9,-999,-999,9,-999,-999,9,-999,-999,9,-999,-999,9,-999,9,-999,9,-999,9,-999,9,-999,9,-999,-999,9,-999,9,-999,-999,9,-999,-999,9,-999,-999,9,-999,6.2837,26.0387
49NZ20070724,   P01,79,1,2, X12930,2,20070820,444,46.9975,-160.3612,5128,45.5,2,6.3843,2,6.37982,2,33.1193,2,-999,9,300.53,2,300.38,2,19.54,2,0.16,12.55,2,0.07,0.45,2,0,1.231,2,0.013,-999,9,-999,9,-999,9,-999,9,-999,9,-999,9,-999,-999,9,-999,9,-999,-999,9,-999,-999,9,-999,-999,9,-999,6.3804,26.0188
49NZ20070724,   P01,79,1,1, X12929,2,20070820,444,46.9975,-160.3612,5128,5214.8,2,1.5836,2,1.5834,2,34.6877,2,34.6879,6,147.16,2,147.14,2,165.55,2,0.48,36.58,2,0.14,0.01,2,0.01,2.546,2,0.016,-999,9,-999,9,-999,9,-999,9,2336,2,2429.5,2,7.5934,25,2,-999,9,-999,-999,9,-999,-999,9,-999,-999,9,-999,1.1201,27.7863