BOTTLE,20081214JAMSTECIORGC,,,,,,,,,,,,,,,,,,,,,,,,,,,,,,,,,,,,,,,,,,,,,,,,,,,,,,,,,,,,,,,,,
EXPOCODE,SECT,STNNBR,CASTNO,SAMPNO,BTLNBR,BTLNBR_FLAG_W,DATE,TIME,LATITUDE,LONGITUDE,DEPTH,CTDPRS,CTDPRS_FLAG_W,CTDTMP,CTDTMP_FLAG_W,SBE35,SBE35_FLAG_W,CTDSAL,CTDSAL_FLAG_W,SALNTY,SALNTY_FLAG_W,CTDOXY,CTDOXY_FLAG_W,OXYGEN,OXYGEN_FLAG_W,SILCAT,SILCAT_FLAG_W,SILUNC,NITRAT,NITRAT_FLAG_W,NRAUNC,NITRIT,NITRIT_FLAG_W,NRIUNC,PHSPHT,PHSPHT_FLAG_W,PHPUNC,CFC-11,CFC-11_FLAG_W,CFC-12,CFC-12_FLAG_W,CFC113,CFC113_FLAG_W,CCL4,CCL4_FLAG_W,TCARBN,TCARBN_FLAG_W,ALKALI,ALKALI_FLAG_W,PH_TOT,PH_TMP,PH_FLAG_W,DELC13,DELC13_FLAG_W,C13ERR,DELC14,DELC14_FLAG_W,C14ERR,CS-137,CS-137_FLAG_W,CS137ER,PLUTO,PLUTO_FLAG_W,PLUTOER,THETA,SIG0
,,,,,,,,UTC,DEG,DEG,M,DBAR,,ITS-90,,ITS-90,,PSS-78,,PSS-78,,UMOL/KG,,UMOL/KG,,UMOL/KG,,UMOL/KG,UMOL/KG,,UMOL/KG,UMOL/KG,,UMOL/KG,UMOL/KG,,UMOL/KG,PMOL/KG,,PMOL/KG,,PMOL/KG,,PMOL/KG,,UMOL/KG,,UMOL/KG,,,ITS-90,,/MILLE,,/MILLE,/MILLE,,/MILLE,BQ/CUM,,BQ/CUM,MBQ/CUM,,MBQ/CUM,DEG C,KG/CUM
49NZ20070724,   P01,90,1,0,-999,9,20070823,1917,47.0085,-148.0368,5006,-999,9,-999,9,-999,9,-999,9,32.4311,2,-999,9,-999,9,-999,9,-999,-999,9,-999,-999,9,-999,-999,9,-999,-999,9,-999,9,-999,9,-999,9,-999,9,-999,9,-999,-999,9,-999,9,-999,-999,9,-999,-999,9,-999,-999,9,-999,-999,-999
49NZ20070724,   P01,90,1,36, X12042,2,20070823,1917,47.0085,-148.0368,5006,10.1,2,13.6701,2,13.66964,2,32.4676,2,32.4672,2,279.41,2,278.16,2,5.15,2,0.13,6.66,2,0.05,0.1,2,0.01,0.849,2,0.013,3.317,2,1.872,2,0.325,2,4.231,4,-999,9,-999,9,-999,-999,9,-999,9,-999,-999,9,-999,-999,9,-999,-999,9,-999,13.6687,24.2984
49NZ20070724,   P01,90,1,35, X12041,2,20070823,1917,47.0085,-148.0368,5006,50.1,2,6.6547,2,6.65824,2,32.7241,2,32.7457,2,299.4,2,301.01,2,18.54,2,0.16,12.18,2,0.07,0.15,2,0.01,1.325,2,0.014,4.579,2,2.554,2,0.412,2,5.901,4,-999,9,-999,9,-999,-999,9,-999,9,-999,-999,9,-999,-999,9,-999,-999,9,-999,6.6504,25.6724
49NZ20070724,   P01,90,1,34, X12036,2,20070823,1917,47.0085,-148.0368,5006,100.2,2,5.8799,2,5.87358,2,32.8838,2,32.894,2,296.85,2,296.85,2,18.79,2,0.16,13.97,2,0.07,0.16,2,0.01,1.29,2,0.014,4.621,2,2.575,2,0.402,2,5.907,4,-999,9,-999,9,-999,-999,9,-999,9,-999,-999,9,-999,-999,9,-999,-999,9,-999,5.8718,25.8963
49NZ20070724,   P01,90,1,33, X12033,2,20070823,1917,47.0085,-148.0368,5006,149.7,2,6.0765,2,6.08034,2,33.7066,2,33.708,2,236.01,2,237.01,2,31.86,2,0.19,20.98,2,0.09,0.01,2,0.01,1.601,2,0.014,4.148,6,2.264,6,0.297,6,3.3,4,-999,9,-999,9,-999,-999,9,-999,9,-999,-999,9,-999,-999,9,-999,-999,9,-999,6.0639,26.5226
49NZ20070724,   P01,90,1,32, X12038,2,20070823,1917,47.0085,-148.0368,5006,199.4,2,5.6831,2,5.6829,2,33.7859,2,33.7866,2,200.37,2,200.74,2,42.13,2,0.21,24.99,2,0.1,0.01,2,0.01,1.857,2,0.015,3.761,2,2.01,2,0.242,2,2.919,4,-999,9,-999,9,-999,-999,9,-999,9,-999,-999,9,-999,-999,9,-999,-999,9,-999,5.6668,26.6343
49NZ20070724,   P01,90,1,31, X12003,2,20070823,1917,47.0085,-148.0368,5006,250,2,5.2624,2,5.26327,2,33.8409,2,33.8405,6,155.9,2,154.88,2,55.01,2,0.24,29.91,2,0.12,0.01,2,0.01,2.187,2,0.015,3.238,2,1.673,2,0.21,2,2.358,4,-999,9,-999,9,-999,-999,9,-999,9,-999,-999,9,-999,-999,9,-999,-999,9,-999,5.2427,26.7283
49NZ20070724,   P01,90,1,30, X12008,2,20070823,1917,47.0085,-148.0368,5006,330.8,2,4.5744,2,4.57357,2,33.8957,2,33.898,2,99.99,2,98.84,2,72.83,2,0.28,36.35,2,0.13,0.01,2,0.01,2.592,2,0.016,2.52,2,1.255,2,0.161,2,1.765,4,-999,9,-999,9,-999,-999,9,-999,9,-999,-999,9,-999,-999,9,-999,-999,9,-999,4.5499,26.8498
49NZ20070724,   P01,90,1,29, X12035,2,20070823,1917,47.0085,-148.0368,5006,430.3,2,4.349,2,4.34996,2,34.011,2,34.0145,2,65.04,2,64.48,2,87.47,2,0.31,39.65,2,0.14,0.01,2,0.01,2.826,2,0.017,1.655,2,0.803,2,0.116,2,1.155,4,-999,9,-999,9,-999,-999,9,-999,9,-999,-999,9,-999,-999,9,-999,-999,9,-999,4.3175,26.9663
49NZ20070724,   P01,90,1,28, X12034,2,20070823,1917,47.0085,-148.0368,5006,531.6,2,4.0847,2,4.08486,2,34.107,2,34.1071,6,42.39,2,42.78,2,99.99,2,0.34,41.68,2,0.15,0.01,2,0.01,2.972,2,0.017,1.033,2,0.49,2,0.064,2,0.816,4,-999,9,-999,9,-999,-999,9,-999,9,-999,-999,9,-999,-999,9,-999,-999,9,-999,4.0464,27.071
49NZ20070724,   P01,90,1,27, X12049,2,20070823,1917,47.0085,-148.0368,5006,630.5,2,3.7979,2,3.79761,2,34.173,2,34.1741,2,32.36,2,32.39,2,110.72,2,0.36,42.62,2,0.15,0.01,2,0.01,3.041,2,0.018,0.659,2,0.309,2,0.037,2,0.537,4,-999,9,-999,9,-999,-999,9,-999,9,-999,-999,9,-999,-999,9,-999,-999,9,-999,3.7533,27.1533
49NZ20070724,   P01,90,1,26, X12032,2,20070823,1917,47.0085,-148.0368,5006,729.8,2,3.4687,2,3.46868,2,34.2244,2,34.2256,2,22.97,2,23.11,2,121.64,2,0.39,43.64,2,0.15,0.01,2,0.01,3.109,2,0.018,0.424,6,0.197,6,0.023,6,0.377,4,-999,9,-999,9,-999,-999,9,-999,9,-999,-999,9,-999,-999,9,-999,-999,9,-999,3.4184,27.2269
49NZ20070724,   P01,90,1,25, X12043,2,20070823,1917,47.0085,-148.0368,5006,829.9,2,3.3009,2,3.30026,2,34.2859,2,34.2874,2,22.23,2,22.33,2,128.37,2,0.4,43.7,2,0.16,0.01,2,0.01,3.124,2,0.018,0.23,2,0.109,2,0.02,2,0.231,4,-999,9,-999,9,-999,-999,9,-999,9,-999,-999,9,-999,-999,9,-999,-999,9,-999,3.244,27.2925
49NZ20070724,   P01,90,1,24, X12030,2,20070823,1917,47.0085,-148.0368,5006,932.5,2,3.1218,2,3.12176,2,34.336,2,34.3352,2,19.42,2,19.53,2,134.74,2,0.42,43.93,2,0.16,0.01,2,0.01,3.133,2,0.018,0.106,2,0.045,2,0.013,2,0.154,4,-999,9,-999,9,-999,-999,9,-999,9,-999,-999,9,-999,-999,9,-999,-999,9,-999,3.0584,27.3497
49NZ20070724,   P01,90,1,23, X12027,2,20070823,1917,47.0085,-148.0368,5006,1071.1,2,2.8786,2,2.87847,2,34.3886,2,34.3881,6,13.91,2,13.78,2,143.33,2,0.43,44.67,2,0.16,0.01,2,0.01,3.182,2,0.018,0.025,2,0.012,2,0,2,0.136,4,-999,9,-999,9,-999,-999,9,-999,9,-999,-999,9,-999,-999,9,-999,-999,9,-999,2.8065,27.4144
49NZ20070724,   P01,90,1,22, X12028,2,20070823,1917,47.0085,-148.0368,5006,1269.5,2,2.6049,2,2.60495,2,34.4462,2,34.4462,2,14.03,2,13.78,2,153.36,2,0.46,44.92,2,0.16,0.01,2,0.01,3.183,2,0.018,0.009,2,0.003,2,0,2,0.02,4,-999,9,-999,9,-999,-999,9,-999,9,-999,-999,9,-999,-999,9,-999,-999,9,-999,2.5201,27.4853
49NZ20070724,   P01,90,1,21, X12009,2,20070823,1917,47.0085,-148.0368,5006,1469.1,2,2.3916,2,2.39155,2,34.4921,2,34.4922,2,17.65,2,17.39,2,160.32,2,0.47,44.93,2,0.16,0.01,2,0.01,3.168,2,0.018,0,2,0,2,0,2,0.008,4,-999,9,-999,9,-999,-999,9,-999,9,-999,-999,9,-999,-999,9,-999,-999,9,-999,2.2934,27.5411
49NZ20070724,   P01,90,1,20, X12026,2,20070823,1917,47.0085,-148.0368,5006,1671.1,2,2.1936,2,2.19365,2,34.5333,2,34.5332,2,28.61,2,28.4,2,165.01,2,0.48,44.16,2,0.16,0.01,2,0.01,3.116,2,0.018,0,2,0,2,0,2,0,4,-999,9,-999,9,-999,-999,9,-999,9,-999,-999,9,-999,-999,9,-999,-999,9,-999,2.0817,27.5912
49NZ20070724,   P01,90,1,19, X12025,2,20070823,1917,47.0085,-148.0368,5006,1870.8,2,2.0268,2,2.02677,2,34.568,2,34.568,2,42.61,2,42.31,2,168.52,2,0.49,43.37,2,0.15,0.01,2,0.01,3.054,2,0.018,0.004,2,0,2,0,2,0,4,-999,9,-999,9,-999,-999,9,-999,9,-999,-999,9,-999,-999,9,-999,-999,9,-999,1.9009,27.6333
49NZ20070724,   P01,90,1,18, X12024,2,20070823,1917,47.0085,-148.0368,5006,2070.9,2,1.9051,2,1.90514,2,34.5928,2,34.5928,2,55.98,2,55.72,2,170.16,2,0.49,42.59,2,0.15,0.01,2,0.01,2.999,2,0.017,0,2,0,2,0,2,0,4,-999,9,-999,9,-999,-999,9,-999,9,-999,-999,9,-999,-999,9,-999,-999,9,-999,1.7643,27.6637
49NZ20070724,   P01,90,1,17, X12023,2,20070823,1917,47.0085,-148.0368,5006,2271.4,2,1.8132,2,1.81331,2,34.6113,2,34.6111,2,67.56,2,67.36,2,170.77,2,0.49,41.79,2,0.15,0.01,2,0.01,2.948,2,0.017,0.003,2,0,2,0,2,0.013,4,-999,9,-999,9,-999,-999,9,-999,9,-999,-999,9,-999,-999,9,-999,-999,9,-999,1.6567,27.6867
49NZ20070724,   P01,90,1,16, X12022,2,20070823,1917,47.0085,-148.0368,5006,2470.3,2,1.7267,2,1.72676,2,34.6277,2,34.6277,6,79.72,2,79.59,2,170.65,2,0.49,40.94,2,0.15,0.01,2,0.01,2.889,2,0.017,-999,9,-999,9,-999,9,0.018,4,-999,9,-999,9,-999,-999,9,-999,9,-999,-999,9,-999,-999,9,-999,-999,9,-999,1.5543,27.7074
49NZ20070724,   P01,90,1,15, X12021,2,20070823,1917,47.0085,-148.0368,5006,2670.3,2,1.6611,2,1.66114,2,34.6395,2,34.6397,2,90.96,2,90.68,2,169.8,2,0.49,40.32,2,0.15,0.01,2,0.01,2.841,2,0.017,0.002,2,0.002,2,0.007,2,0,4,-999,9,-999,9,-999,-999,9,-999,9,-999,-999,9,-999,-999,9,-999,-999,9,-999,1.4718,27.7229
49NZ20070724,   P01,90,1,14, X12020,2,20070823,1917,47.0085,-148.0368,5006,2870.6,2,1.6073,2,1.6073,2,34.6499,2,34.6499,2,101.06,2,100.95,2,168.72,2,0.49,39.65,2,0.14,0.01,2,0.01,2.79,2,0.017,-999,9,-999,9,-999,9,-999,9,-999,9,-999,9,-999,-999,9,-999,9,-999,-999,9,-999,-999,9,-999,-999,9,-999,1.4005,27.7364
49NZ20070724,   P01,90,1,13, X12019,2,20070823,1917,47.0085,-148.0368,5006,3080.3,2,1.5625,2,1.56251,2,34.6589,2,34.6588,2,110.82,2,110.66,2,166.52,2,0.49,38.9,2,0.14,0.01,2,0.01,2.735,2,0.017,-999,9,-999,9,-999,9,0,4,-999,9,-999,9,-999,-999,9,-999,9,-999,-999,9,-999,-999,9,-999,-999,9,-999,1.3367,27.7482
49NZ20070724,   P01,90,1,12, X12040,2,20070823,1917,47.0085,-148.0368,5006,3328.8,2,1.5235,2,1.52355,2,34.6674,2,34.6675,2,120.93,2,120.7,2,165.29,2,0.48,38.15,2,0.14,0.01,2,0.01,2.668,2,0.017,0,2,0,2,0,2,-999,9,-999,9,-999,9,-999,-999,9,-999,9,-999,-999,9,-999,-999,9,-999,-999,9,-999,1.2742,27.7594
49NZ20070724,   P01,90,1,11, X12047,2,20070823,1917,47.0085,-148.0368,5006,3580.6,2,1.4977,2,1.49772,2,34.6741,2,34.6739,2,129.4,2,129.46,2,163.75,2,0.48,37.66,2,0.14,0.01,2,0.01,2.635,2,0.017,-999,9,-999,9,-999,9,0,4,-999,9,-999,9,-999,-999,9,-999,9,-999,-999,9,-999,-999,9,-999,-999,9,-999,1.2234,27.7683
49NZ20070724,   P01,90,1,10, X12010,2,20070823,1917,47.0085,-148.0368,5006,3831.2,2,1.4895,2,1.48952,2,34.679,2,34.679,6,134.78,2,135.03,2,164.1,2,0.48,37.18,2,0.14,0.01,2,0.01,2.609,2,0.016,-999,9,-999,9,-999,9,-999,9,-999,9,-999,9,-999,-999,9,-999,9,-999,-999,9,-999,-999,9,-999,-999,9,-999,1.1891,27.7746
49NZ20070724,   P01,90,1,9, X12015,2,20070823,1917,47.0085,-148.0368,5006,4080.8,2,1.4955,2,1.49554,2,34.682,2,34.6819,2,137.96,2,138.46,2,165.32,2,0.48,36.98,2,0.14,0.01,2,0.01,2.59,2,0.016,0,2,0.002,2,0,2,0,4,-999,9,-999,9,-999,-999,9,-999,9,-999,-999,9,-999,-999,9,-999,-999,9,-999,1.1679,27.7785
49NZ20070724,   P01,90,1,8, X12046,2,20070823,1917,47.0085,-148.0368,5006,4329.5,2,1.5127,2,1.51288,2,34.684,2,34.6838,2,139.52,2,139.97,2,166.96,2,0.49,37.06,2,0.14,0.01,2,0.01,2.588,2,0.016,-999,9,-999,9,-999,9,-999,9,-999,9,-999,9,-999,-999,9,-999,9,-999,-999,9,-999,-999,9,-999,-999,9,-999,1.1568,27.7808
49NZ20070724,   P01,90,1,7, X12044,2,20070823,1917,47.0085,-148.0368,5006,4581.5,2,1.5364,2,1.53644,2,34.6851,2,34.685,2,140.35,2,140.69,2,168.17,2,0.49,37.1,2,0.14,0.01,2,0.01,2.583,2,0.016,0,2,0,2,0,2,0.016,4,-999,9,-999,9,-999,-999,9,-999,9,-999,-999,9,-999,-999,9,-999,-999,9,-999,1.1509,27.7821
49NZ20070724,   P01,90,1,6, X12048,2,20070823,1917,47.0085,-148.0368,5006,4830.5,2,1.563,2,1.56304,2,34.6858,2,34.6859,2,141.05,2,141.3,2,169.04,2,0.49,36.9,2,0.14,0.01,2,0.01,2.576,2,0.016,-999,9,-999,9,-999,9,-999,9,-999,9,-999,9,-999,-999,9,-999,9,-999,-999,9,-999,-999,9,-999,-999,9,-999,1.1472,27.783
49NZ20070724,   P01,90,1,5, X12017,9,20070823,1917,47.0085,-148.0368,5006,9.8,2,13.6759,2,13.67489,2,32.4676,2,-999,9,279.81,2,-999,9,-999,9,-999,-999,9,-999,-999,9,-999,-999,9,-999,-999,9,-999,9,-999,9,-999,9,-999,9,-999,9,-999,-999,9,-999,9,-999,-999,9,-999,-999,9,-999,-999,9,-999,13.6745,24.2972
49NZ20070724,   P01,90,1,4, X12928,9,20070823,1917,47.0085,-148.0368,5006,199.4,2,5.6826,2,5.68216,2,33.786,2,-999,9,200.47,2,-999,9,-999,9,-999,-999,9,-999,-999,9,-999,-999,9,-999,-999,9,-999,9,-999,9,-999,9,-999,9,-999,9,-999,-999,9,-999,9,-999,-999,9,-999,-999,9,-999,-999,9,-999,5.6663,26.6345
49NZ20070724,   P01,90,1,3, X12931,9,20070823,1917,47.0085,-148.0368,5006,4830.7,2,1.563,2,1.56305,2,34.6858,2,-999,9,141.04,2,-999,9,-999,9,-999,-999,9,-999,-999,9,-999,-999,9,-999,-999,9,-999,9,-999,9,-999,9,-999,9,-999,9,-999,-999,9,-999,9,-999,-999,9,-999,-999,9,-999,-999,9,-999,1.1471,27.783
49NZ20070724,   P01,90,1,2, X12930,9,20070823,1917,47.0085,-148.0368,5006,4830.8,2,1.5629,2,1.56294,2,34.6858,2,-999,9,141.06,2,-999,9,-999,9,-999,-999,9,-999,-999,9,-999,-999,9,-999,-999,9,-999,9,-999,9,-999,9,-999,9,-999,9,-999,-999,9,-999,9,-999,-999,9,-999,-999,9,-999,-999,9,-999,1.147,27.783
49NZ20070724,   P01,90,1,1, X12929,2,20070823,1917,47.0085,-148.0368,5006,5087.5,2,1.589,2,1.58892,2,34.6865,2,34.6867,6,142.68,2,142.7,2,169.45,2,0.49,36.89,2,0.14,0.01,2,0.01,2.578,2,0.016,0.002,2,0,2,0.013,2,-999,5,-999,9,-999,9,-999,-999,9,-999,9,-999,-999,9,-999,-999,9,-999,-999,9,-999,1.141,27.7839