BOTTLE,20081214JAMSTECIORGC,,,,,,,,,,,,,,,,,,,,,,,,,,,,,,,,,,,,,,,,,,,,,,,,,,,,,,,,,,,,,,,,,
EXPOCODE,SECT,STNNBR,CASTNO,SAMPNO,BTLNBR,BTLNBR_FLAG_W,DATE,TIME,LATITUDE,LONGITUDE,DEPTH,CTDPRS,CTDPRS_FLAG_W,CTDTMP,CTDTMP_FLAG_W,SBE35,SBE35_FLAG_W,CTDSAL,CTDSAL_FLAG_W,SALNTY,SALNTY_FLAG_W,CTDOXY,CTDOXY_FLAG_W,OXYGEN,OXYGEN_FLAG_W,SILCAT,SILCAT_FLAG_W,SILUNC,NITRAT,NITRAT_FLAG_W,NRAUNC,NITRIT,NITRIT_FLAG_W,NRIUNC,PHSPHT,PHSPHT_FLAG_W,PHPUNC,CFC-11,CFC-11_FLAG_W,CFC-12,CFC-12_FLAG_W,CFC113,CFC113_FLAG_W,CCL4,CCL4_FLAG_W,TCARBN,TCARBN_FLAG_W,ALKALI,ALKALI_FLAG_W,PH_TOT,PH_TMP,PH_FLAG_W,DELC13,DELC13_FLAG_W,C13ERR,DELC14,DELC14_FLAG_W,C14ERR,CS-137,CS-137_FLAG_W,CS137ER,PLUTO,PLUTO_FLAG_W,PLUTOER,THETA,SIG0
,,,,,,,,UTC,DEG,DEG,M,DBAR,,ITS-90,,ITS-90,,PSS-78,,PSS-78,,UMOL/KG,,UMOL/KG,,UMOL/KG,,UMOL/KG,UMOL/KG,,UMOL/KG,UMOL/KG,,UMOL/KG,UMOL/KG,,UMOL/KG,PMOL/KG,,PMOL/KG,,PMOL/KG,,PMOL/KG,,UMOL/KG,,UMOL/KG,,,ITS-90,,/MILLE,,/MILLE,/MILLE,,/MILLE,BQ/CUM,,BQ/CUM,MBQ/CUM,,MBQ/CUM,DEG C,KG/CUM
49NZ20070724,   P01,97,1,0,-999,9,20070825,1602,47.0267,-140.226,4332,-999,9,-999,9,-999,9,-999,9,32.4907,2,-999,9,-999,9,-999,9,-999,-999,9,-999,-999,9,-999,-999,9,-999,-999,9,-999,9,-999,9,-999,9,-999,9,-999,9,-999,-999,9,-999,9,-999,-999,9,-999,-999,9,-999,-999,9,-999,-999,-999
49NZ20070724,   P01,97,1,36, X12042,2,20070825,1602,47.0267,-140.226,4332,9.2,2,14.1418,2,14.14222,2,32.4941,2,32.4865,2,270.79,2,269.25,2,3.06,2,0.13,2.2,2,0.04,0.06,2,0.01,0.599,2,0.013,3.019,2,1.73,2,0.338,2,-999,9,1970.4,2,2190.4,2,7.9504,25,6,-999,1,-999,-999,1,-999,-999,9,-999,-999,9,-999,14.1405,24.2222
49NZ20070724,   P01,97,1,35, X12041,2,20070825,1602,47.0267,-140.226,4332,50,2,10.0974,2,10.103,2,32.616,2,32.6213,2,289.29,2,289.62,2,8.52,2,0.14,6.66,2,0.05,0.17,2,0.01,0.935,2,0.013,3.851,2,2.152,2,0.397,2,-999,9,2017.5,6,2194.1,2,7.8564,25,2,-999,1,-999,-999,1,-999,-999,9,-999,-999,9,-999,10.0918,25.0755
49NZ20070724,   P01,97,1,34, X12036,2,20070825,1602,47.0267,-140.226,4332,100.1,2,7.5089,2,7.50702,2,32.6887,2,32.7109,2,282.33,2,284.84,2,12.67,2,0.15,11.97,2,0.07,0.06,2,0.01,1.182,2,0.013,4.205,2,2.337,2,0.388,2,-999,9,2045.4,2,2194.8,6,7.7892,25,2,-999,1,-999,-999,1,-999,-999,9,-999,-999,9,-999,7.4996,25.5302
49NZ20070724,   P01,97,1,33, X12033,2,20070825,1602,47.0267,-140.226,4332,149.1,2,7.1854,2,7.18578,2,33.4633,2,33.4989,2,232.51,2,234.49,2,23.13,2,0.17,18.49,2,0.08,0.02,2,0.01,1.443,2,0.014,4.08,6,2.23,6,0.312,6,-999,9,2113.1,2,2236.1,2,7.7069,25,6,-999,1,-999,-999,1,-999,-999,9,-999,-999,9,-999,7.1716,26.1849
49NZ20070724,   P01,97,1,32, X12038,2,20070825,1602,47.0267,-140.226,4332,199.6,2,6.9285,2,6.92878,2,33.8232,2,33.8275,2,206.34,2,207.55,2,31.95,2,0.19,21.93,2,0.09,0.01,2,0.01,1.619,2,0.014,3.815,2,2.041,2,0.278,2,-999,9,2148.2,2,2259,2,7.6635,25,2,-999,1,-999,-999,1,-999,-999,9,-999,-999,9,-999,6.9103,26.504
49NZ20070724,   P01,97,1,31, X12003,2,20070825,1602,47.0267,-140.226,4332,251,2,6.2866,2,6.28665,2,33.8549,2,33.8528,6,180.25,2,183.15,2,41.14,2,0.21,25.52,2,0.1,0.02,2,0.01,1.866,2,0.015,3.569,2,1.865,2,0.254,2,-999,9,2177.6,2,2266.9,2,7.6069,25,2,-999,1,-999,-999,1,-999,-999,9,-999,-999,9,-999,6.2648,26.6142
49NZ20070724,   P01,97,1,30, X12008,2,20070825,1602,47.0267,-140.226,4332,280.2,2,5.8998,2,5.90018,2,33.8594,2,33.8586,2,163.81,2,164.7,2,47.3,2,0.22,28.04,2,0.11,0.01,2,0.01,2.04,2,0.015,3.337,2,1.722,2,0.239,2,-999,9,2197.4,2,2272.2,2,7.5643,25,2,-999,1,-999,-999,1,-999,-999,9,-999,-999,9,-999,5.8763,26.6668
49NZ20070724,   P01,97,1,29, X12035,2,20070825,1602,47.0267,-140.226,4332,370.6,2,5.1228,2,5.12296,2,33.9224,2,33.9247,2,89.58,2,87.85,2,68.24,2,0.27,36.68,2,0.14,0.02,2,0.01,2.609,2,0.016,2.33,2,1.126,2,0.145,2,-999,9,2264.5,2,2288.7,2,7.4177,25,2,-999,1,-999,-999,1,-999,-999,9,-999,-999,9,-999,5.0936,26.8102
49NZ20070724,   P01,97,1,28, X12034,2,20070825,1602,47.0267,-140.226,4332,469.9,2,4.4253,2,4.42448,2,33.9943,2,34.0005,6,59.13,2,57.92,2,85.27,2,0.31,40.38,2,0.15,0.01,2,0.01,2.876,2,0.017,1.596,2,0.754,2,0.097,2,-999,9,2301.4,2,2305.5,2,7.3586,25,2,-999,1,-999,-999,1,-999,-999,9,-999,-999,9,-999,4.3905,26.9453
49NZ20070724,   P01,97,1,27, X12049,2,20070825,1602,47.0267,-140.226,4332,571,2,4.0553,2,4.05534,2,34.0891,2,34.0926,2,37.03,2,36.95,2,99.36,2,0.34,42.36,2,0.15,0.02,2,0.01,3.01,2,0.017,0.952,2,0.442,2,0.065,2,-999,9,2326,2,2323.8,2,7.3313,25,2,-999,1,-999,-999,1,-999,-999,9,-999,-999,9,-999,4.0141,27.0601
49NZ20070724,   P01,97,1,26, X12032,2,20070825,1602,47.0267,-140.226,4332,672.6,2,3.8363,2,3.83697,2,34.1671,2,34.1668,2,27.37,2,27.93,2,109.05,2,0.36,43.1,2,0.15,0.01,2,0.01,3.073,2,0.018,0.554,6,0.255,6,0.036,6,-999,9,2341.2,6,2336.5,2,7.3259,25,2,-999,1,-999,-999,1,-999,-999,9,-999,-999,9,-999,3.7883,27.145
49NZ20070724,   P01,97,1,25, X12043,2,20070825,1602,47.0267,-140.226,4332,770.4,2,3.6355,2,3.63571,2,34.237,2,34.2364,2,16.96,2,17.38,2,118.38,2,0.38,43.95,2,0.16,0.02,2,0.01,3.147,2,0.018,0.203,2,0.095,2,0.017,2,-999,9,2360.9,2,2349.9,6,7.318,25,2,-999,1,-999,-999,1,-999,-999,9,-999,-999,9,-999,3.5811,27.2213
49NZ20070724,   P01,97,1,24, X12030,2,20070825,1602,47.0267,-140.226,4332,869.5,2,3.3873,2,3.38758,2,34.2851,2,34.2849,2,13.98,2,13.97,2,126.62,2,0.4,44.26,2,0.16,0.03,2,0.01,3.148,2,0.018,0.101,2,0.048,2,0.012,2,-999,9,2368.8,2,2360.6,2,7.3169,25,6,-999,1,-999,-999,1,-999,-999,9,-999,-999,9,-999,3.3268,27.284
49NZ20070724,   P01,97,1,23, X12027,2,20070825,1602,47.0267,-140.226,4332,971.2,2,3.1959,2,3.19604,2,34.3282,2,34.3273,6,11.33,2,11.36,2,133.45,2,0.41,44.64,2,0.16,0.02,2,0.01,3.194,2,0.018,0.038,2,0.019,2,0.011,2,-999,9,2377.6,2,2368,2,7.3151,25,2,-999,1,-999,-999,1,-999,-999,9,-999,-999,9,-999,3.129,27.337
49NZ20070724,   P01,97,1,22, X12028,2,20070825,1602,47.0267,-140.226,4332,1131.3,2,2.9562,2,2.95681,2,34.3903,2,34.3902,2,10.31,2,10.26,2,142.51,2,0.43,44.8,2,0.16,0.03,2,0.01,3.213,2,0.018,0.016,2,0.009,2,0.003,2,-999,9,2388.1,2,2380.6,2,7.322,25,2,-999,1,-999,-999,1,-999,-999,9,-999,-999,9,-999,2.8788,27.4093
49NZ20070724,   P01,97,1,21, X12009,2,20070825,1602,47.0267,-140.226,4332,1331.2,2,2.675,2,2.67514,2,34.4538,2,34.4532,2,13.12,2,13.04,2,151.83,2,0.45,44.92,2,0.16,0.03,2,0.01,3.203,2,0.018,0.003,2,0.001,2,0.011,2,-999,9,2394.5,2,2393,2,7.3302,25,2,-999,1,-999,-999,1,-999,-999,9,-999,-999,9,-999,2.5846,27.4859
49NZ20070724,   P01,97,1,20, X12026,2,20070825,1602,47.0267,-140.226,4332,1529.3,2,2.4145,2,2.41455,2,34.5028,2,34.5031,2,21.86,2,21.66,2,159.47,2,0.47,44.48,2,0.16,0.02,2,0.01,3.163,2,0.018,0,2,0,2,0.008,2,-999,9,2399.4,2,2401.1,2,7.3505,25,2,-999,1,-999,-999,1,-999,-999,9,-999,-999,9,-999,2.3113,27.5482
49NZ20070724,   P01,97,1,19, X12025,2,20070825,1602,47.0267,-140.226,4332,1730.7,2,2.1816,2,2.18194,2,34.5479,2,34.5474,2,36.42,2,36.27,2,164.73,2,0.48,43.51,2,0.15,0.02,2,0.01,3.095,2,0.018,0.002,2,0.002,2,0.01,2,-999,9,2395.4,2,2410.4,2,7.3791,25,2,-999,1,-999,-999,1,-999,-999,9,-999,-999,9,-999,2.065,27.6043
49NZ20070724,   P01,97,1,18, X12024,2,20070825,1602,47.0267,-140.226,4332,1930.5,2,2.009,2,2.00908,2,34.5779,2,34.5774,2,49.5,2,49.42,2,168.81,2,0.49,42.75,2,0.15,0.03,2,0.01,3.037,2,0.018,0,2,0.001,2,0.005,2,-999,9,2390.6,2,2415.5,2,7.4046,25,2,-999,1,-999,-999,1,-999,-999,9,-999,-999,9,-999,1.8784,27.643
49NZ20070724,   P01,97,1,17, X12023,2,20070825,1602,47.0267,-140.226,4332,2129.9,2,1.8855,2,1.88551,2,34.6003,2,34.6001,6,61.49,2,61.6,2,170.38,2,0.49,42.14,2,0.15,0.01,2,0.01,2.986,2,0.017,0.001,2,0,2,0,2,-999,9,2385.4,2,2418.3,2,7.4298,25,2,-999,1,-999,-999,1,-999,-999,9,-999,-999,9,-999,1.74,27.6716
49NZ20070724,   P01,97,1,16, X12022,2,20070825,1602,47.0267,-140.226,4332,2329.6,2,1.8035,2,1.80354,2,34.6182,2,34.6182,2,72.44,2,72.21,2,171.45,2,0.5,41.41,2,0.15,0.02,2,0.01,2.932,2,0.017,-999,9,-999,9,-999,9,-999,9,2380,2,2421.3,2,7.452,25,2,-999,1,-999,-999,1,-999,-999,9,-999,-999,9,-999,1.6421,27.6933
49NZ20070724,   P01,97,1,15, X12021,2,20070825,1602,47.0267,-140.226,4332,2530.9,2,1.7211,2,1.72112,2,34.6325,2,34.6323,2,83.52,2,83.25,2,171.1,2,0.5,40.79,2,0.15,0.01,2,0.01,2.883,2,0.017,-999,9,-999,9,-999,9,-999,9,2377.8,2,2423.4,6,7.4735,25,2,-999,1,-999,-999,1,-999,-999,9,-999,-999,9,-999,1.5433,27.7121
49NZ20070724,   P01,97,1,14, X12020,2,20070825,1602,47.0267,-140.226,4332,2729.5,2,1.6426,2,1.64255,2,34.6444,2,34.6444,2,95.16,2,95.05,2,169.93,2,0.49,39.99,2,0.14,0.02,2,0.01,2.818,2,0.017,0,2,0,2,0,2,-999,9,2369.6,2,2423.4,2,7.4942,25,6,-999,1,-999,-999,1,-999,-999,9,-999,-999,9,-999,1.4483,27.7285
49NZ20070724,   P01,97,1,13, X12019,2,20070825,1602,47.0267,-140.226,4332,2929.3,2,1.5862,2,1.5861,2,34.6532,2,34.6532,2,106.13,2,105.99,2,168.21,2,0.49,39.26,2,0.14,0.02,2,0.01,2.774,2,0.017,-999,9,-999,9,-999,9,-999,9,2360.8,2,2422.6,2,7.5141,25,2,-999,1,-999,-999,1,-999,-999,9,-999,-999,9,-999,1.3743,27.7409
49NZ20070724,   P01,97,1,12, X12040,2,20070825,1602,47.0267,-140.226,4332,3170.9,2,1.5437,2,1.54378,2,34.6626,2,34.6624,6,115.72,2,115.61,2,166.68,2,0.49,38.57,2,0.14,0.03,2,0.01,2.701,2,0.017,-999,9,-999,9,-999,9,-999,9,2357,2,2423.4,2,7.5332,25,2,-999,1,-999,-999,1,-999,-999,9,-999,-999,9,-999,1.3095,27.753
49NZ20070724,   P01,97,1,11, X12047,2,20070825,1602,47.0267,-140.226,4332,3419.4,2,1.5119,2,1.51194,2,34.6704,2,34.67,2,124.73,2,124.79,2,166.16,2,0.48,37.93,2,0.14,0.03,2,0.01,2.667,2,0.017,0.001,2,0,2,0,2,-999,9,2349.7,2,2426.8,2,7.5501,25,2,-999,1,-999,-999,1,-999,-999,9,-999,-999,9,-999,1.2537,27.7632
49NZ20070724,   P01,97,1,10, X12010,2,20070825,1602,47.0267,-140.226,4332,3670.1,2,1.4986,2,1.49864,2,34.676,2,34.6759,2,130.66,2,130.77,2,165.9,2,0.48,37.63,2,0.14,0.02,2,0.01,2.646,2,0.017,-999,9,-999,9,-999,9,-999,9,2346.1,2,2427.5,2,7.5626,25,2,-999,1,-999,-999,1,-999,-999,9,-999,-999,9,-999,1.215,27.7704
49NZ20070724,   P01,97,1,9, X12015,2,20070825,1602,47.0267,-140.226,4332,3919.8,2,1.4997,2,1.49982,2,34.6799,2,34.6797,2,134.78,2,134.84,2,166.7,2,0.49,37.4,2,0.14,0.03,2,0.01,2.624,2,0.017,-999,9,-999,9,-999,9,-999,9,2345.6,2,2429.5,2,7.5722,25,2,-999,1,-999,-999,1,-999,-999,9,-999,-999,9,-999,1.1895,27.7753
49NZ20070724,   P01,97,1,8, X12046,2,20070825,1602,47.0267,-140.226,4332,4170.7,2,1.5164,2,1.5164,2,34.6822,2,34.6824,2,136.29,2,136.46,2,169.16,2,0.49,37.35,2,0.14,0.02,2,0.01,2.623,2,0.017,-999,9,-999,9,-999,9,-999,9,2344.7,6,2431.8,2,7.5784,25,2,-999,1,-999,-999,1,-999,-999,9,-999,-999,9,-999,1.1783,27.7779
49NZ20070724,   P01,97,1,7, X12044,9,20070825,1602,47.0267,-140.226,4332,9.3,2,14.1435,2,14.14262,2,32.4942,2,-999,9,271.02,2,-999,9,-999,9,-999,-999,9,-999,-999,9,-999,-999,9,-999,-999,9,-999,9,-999,9,-999,9,-999,9,-999,9,-999,-999,9,-999,9,-999,-999,9,-999,-999,9,-999,-999,9,-999,14.1422,24.2219
49NZ20070724,   P01,97,1,6, X12048,9,20070825,1602,47.0267,-140.226,4332,50,2,10.109,2,10.11088,2,32.616,2,-999,9,289.47,2,-999,9,-999,9,-999,-999,9,-999,-999,9,-999,-999,9,-999,-999,9,-999,9,-999,9,-999,9,-999,9,-999,9,-999,-999,9,-999,9,-999,-999,9,-999,-999,9,-999,-999,9,-999,10.1034,25.0736
49NZ20070724,   P01,97,1,5, X12017,9,20070825,1602,47.0267,-140.226,4332,99.8,2,7.5242,2,7.52407,2,32.6875,2,-999,9,282.17,2,-999,9,-999,9,-999,-999,9,-999,-999,9,-999,-999,9,-999,-999,9,-999,9,-999,9,-999,9,-999,9,-999,9,-999,-999,9,-999,9,-999,-999,9,-999,-999,9,-999,-999,9,-999,7.5149,25.5271
49NZ20070724,   P01,97,1,4, X12928,9,20070825,1602,47.0267,-140.226,4332,4171,2,1.5165,2,1.51647,2,34.6821,2,-999,9,136.3,2,-999,9,-999,9,-999,-999,9,-999,-999,9,-999,-999,9,-999,-999,9,-999,9,-999,9,-999,9,-999,9,-999,9,-999,-999,9,-999,9,-999,-999,9,-999,-999,9,-999,-999,9,-999,1.1783,27.7778
49NZ20070724,   P01,97,1,3, X12931,9,20070825,1602,47.0267,-140.226,4332,4170.5,2,1.5163,2,1.51633,2,34.6823,2,-999,9,136.27,2,-999,9,-999,9,-999,-999,9,-999,-999,9,-999,-999,9,-999,-999,9,-999,9,-999,9,-999,9,-999,9,-999,9,-999,-999,9,-999,9,-999,-999,9,-999,-999,9,-999,-999,9,-999,1.1782,27.778
49NZ20070724,   P01,97,1,2, X12930,9,20070825,1602,47.0267,-140.226,4332,4169.3,2,1.5163,2,1.51626,2,34.6823,2,-999,9,136.31,2,-999,9,-999,9,-999,-999,9,-999,-999,9,-999,-999,9,-999,-999,9,-999,9,-999,9,-999,9,-999,9,-999,9,-999,-999,9,-999,9,-999,-999,9,-999,-999,9,-999,-999,9,-999,1.1783,27.778
49NZ20070724,   P01,97,1,1, X12929,2,20070825,1602,47.0267,-140.226,4332,4400.2,2,1.5418,2,1.54183,2,34.6839,2,34.6838,6,135.22,2,135.2,2,174.69,2,0.5,37.47,2,0.14,0.03,2,0.01,2.633,2,0.017,0.002,2,0.003,2,0,2,-999,9,2350.6,2,2436.5,2,7.5809,25,2,-999,1,-999,-999,1,-999,-999,9,-999,-999,9,-999,1.177,27.7794