BOTTLE,20081214JAMSTECIORGC,,,,,,,,,,,,,,,,,,,,,,,,,,,,,,,,,,,,,,,,,,,,,,,,,,,,,,,,,,,,,,,,,
EXPOCODE,SECT,STNNBR,CASTNO,SAMPNO,BTLNBR,BTLNBR_FLAG_W,DATE,TIME,LATITUDE,LONGITUDE,DEPTH,CTDPRS,CTDPRS_FLAG_W,CTDTMP,CTDTMP_FLAG_W,SBE35,SBE35_FLAG_W,CTDSAL,CTDSAL_FLAG_W,SALNTY,SALNTY_FLAG_W,CTDOXY,CTDOXY_FLAG_W,OXYGEN,OXYGEN_FLAG_W,SILCAT,SILCAT_FLAG_W,SILUNC,NITRAT,NITRAT_FLAG_W,NRAUNC,NITRIT,NITRIT_FLAG_W,NRIUNC,PHSPHT,PHSPHT_FLAG_W,PHPUNC,CFC-11,CFC-11_FLAG_W,CFC-12,CFC-12_FLAG_W,CFC113,CFC113_FLAG_W,CCL4,CCL4_FLAG_W,TCARBN,TCARBN_FLAG_W,ALKALI,ALKALI_FLAG_W,PH_TOT,PH_TMP,PH_FLAG_W,DELC13,DELC13_FLAG_W,C13ERR,DELC14,DELC14_FLAG_W,C14ERR,CS-137,CS-137_FLAG_W,CS137ER,PLUTO,PLUTO_FLAG_W,PLUTOER,THETA,SIG0
,,,,,,,,UTC,DEG,DEG,M,DBAR,,ITS-90,,ITS-90,,PSS-78,,PSS-78,,UMOL/KG,,UMOL/KG,,UMOL/KG,,UMOL/KG,UMOL/KG,,UMOL/KG,UMOL/KG,,UMOL/KG,UMOL/KG,,UMOL/KG,PMOL/KG,,PMOL/KG,,PMOL/KG,,PMOL/KG,,UMOL/KG,,UMOL/KG,,,ITS-90,,/MILLE,,/MILLE,/MILLE,,/MILLE,BQ/CUM,,BQ/CUM,MBQ/CUM,,MBQ/CUM,DEG C,KG/CUM
49NZ20070724,   P01,25,1,0,-999,9,20070731,1418,41.2613,150.357,5373,-999,9,-999,9,-999,9,-999,9,33.5761,2,-999,9,-999,9,-999,9,-999,-999,9,-999,-999,9,-999,-999,9,-999,-999,9,-999,9,-999,9,-999,9,-999,9,-999,9,-999,-999,9,-999,9,-999,-999,9,-999,-999,9,-999,-999,9,-999,-999,-999
49NZ20070724,   P01,25,1,36, X12042,2,20070731,1418,41.2613,150.357,5373,10,2,18.9045,2,18.90564,2,33.5922,2,33.7115,3,238.12,2,246.08,2,1.65,2,0.12,0.21,2,0.03,0.01,2,0.01,0.178,2,0.017,2.49,2,1.457,2,0.34,2,-999,9,1980.4,2,2260.1,2,8.0251,25,2,-999,9,-999,-999,9,-999,-999,9,-999,-999,9,-999,18.9027,23.97
49NZ20070724,   P01,25,1,35, X12041,2,20070731,1418,41.2613,150.357,5373,50.2,2,5.1505,2,5.15018,2,33.1717,2,33.1979,2,329.75,2,323.89,2,28.58,2,0.18,16.73,2,0.08,0.32,2,0.01,1.567,2,0.014,4.692,2,2.56,2,0.3,2,-999,9,2097.8,6,2250.4,2,7.7744,25,2,-999,9,-999,-999,9,-999,-999,9,-999,-999,9,-999,5.1467,26.2093
49NZ20070724,   P01,25,1,34, X12036,2,20070731,1418,41.2613,150.357,5373,100.6,2,2.5212,2,2.52098,2,33.2412,2,33.2752,2,291.99,2,292.62,2,43.95,2,0.22,24.51,2,0.1,0.02,2,0.01,1.951,2,0.015,4.838,2,2.623,2,0.288,2,-999,9,2150.5,2,2252.1,6,7.6433,25,2,-999,9,-999,-999,9,-999,-999,9,-999,-999,9,-999,2.5157,26.5223
49NZ20070724,   P01,25,1,33, X12033,2,20070731,1418,41.2613,150.357,5373,150.5,2,3.5389,2,3.53718,2,33.5028,2,33.4981,2,237.92,2,239.96,2,51.16,2,0.23,26.78,2,0.11,0.02,2,0.01,2.08,2,0.015,4.089,2,2.198,2,0.241,2,-999,9,2179.6,2,2265.2,2,7.5939,25,6,-999,9,-999,-999,9,-999,-999,9,-999,-999,9,-999,3.5293,26.6413
49NZ20070724,   P01,25,1,32, X12038,2,20070731,1418,41.2613,150.357,5373,199.2,2,4.6218,2,4.62105,2,33.7898,2,33.8007,2,176.03,2,175.54,2,59.22,2,0.25,29.33,2,0.11,0.03,2,0.01,2.216,2,0.016,2.996,6,1.579,6,0.177,6,-999,9,2211.2,2,2284.2,2,7.5539,25,2,-999,9,-999,-999,9,-999,-999,9,-999,-999,9,-999,4.6072,26.7595
49NZ20070724,   P01,25,1,31, X12003,2,20070731,1418,41.2613,150.357,5373,249.9,2,2.6878,2,2.68726,2,33.6232,2,33.6476,6,159.83,2,159.72,2,75.58,2,0.29,34.7,2,0.13,0.01,2,0.01,2.603,2,0.016,3.28,2,1.721,2,0.215,2,-999,9,2248,2,2285.9,2,7.4439,25,2,-999,9,-999,-999,9,-999,-999,9,-999,-999,9,-999,2.6733,26.8144
49NZ20070724,   P01,25,1,30, X12008,2,20070731,1418,41.2613,150.357,5373,300.4,2,3.6211,2,3.62191,2,33.814,2,33.7931,2,131.49,2,127.76,2,81.54,2,0.3,35.97,2,0.13,0.01,2,0.01,2.677,2,0.017,2.67,2,1.379,2,0.148,2,-999,9,2267.5,2,2296.2,2,7.4212,25,2,-999,9,-999,-999,9,-999,-999,9,-999,-999,9,-999,3.6012,26.8823
49NZ20070724,   P01,25,1,29, X12035,2,20070731,1418,41.2613,150.357,5373,400.1,2,2.9354,2,2.93493,2,33.8697,2,33.8826,2,78.87,2,78.53,2,100.02,2,0.34,40.56,2,0.15,0.01,2,0.01,2.968,2,0.017,2.074,2,1.053,2,0.132,2,-999,9,2312.2,2,2314,2,7.3313,25,2,-999,9,-999,-999,9,-999,-999,9,-999,-999,9,-999,2.9108,26.9907
49NZ20070724,   P01,25,1,28, X12034,2,20070731,1418,41.2613,150.357,5373,500.3,2,3.9269,2,3.927,2,34.147,2,34.127,6,60.71,2,60.01,2,105.95,2,0.35,40.25,2,0.15,0.01,2,0.01,2.924,2,0.017,1.093,2,0.54,2,0.066,2,-999,9,2320.8,2,2334.3,2,7.3689,25,2,-999,9,-999,-999,9,-999,-999,9,-999,-999,9,-999,3.8915,27.1187
49NZ20070724,   P01,25,1,27, X12049,2,20070731,1418,41.2613,150.357,5373,599.6,2,3.3418,2,3.33807,2,34.1616,2,34.179,2,44.92,2,47.17,2,116.44,2,0.38,41.51,2,0.15,0.01,2,0.01,3.003,2,0.017,0.842,2,0.417,2,0.041,2,-999,9,2339,2,2343.5,2,7.348,25,2,-999,9,-999,-999,9,-999,-999,9,-999,-999,9,-999,3.3017,27.188
49NZ20070724,   P01,25,1,26, X12032,2,20070731,1418,41.2613,150.357,5373,700.6,2,3.3153,2,3.31331,2,34.2579,2,34.2531,2,40.57,2,39.95,2,125.63,2,0.4,42.2,2,0.15,0.01,2,0.01,3.048,2,0.018,0.575,6,0.285,6,0.037,6,-999,9,2350.1,6,2356,2,7.3475,25,2,-999,9,-999,-999,9,-999,-999,9,-999,-999,9,-999,3.2679,27.2679
49NZ20070724,   P01,25,1,25, X12043,2,20070731,1418,41.2613,150.357,5373,800,2,3.0967,2,3.09728,2,34.3122,2,34.3153,2,36.91,2,37.6,2,132.21,2,0.41,42.4,2,0.15,0.01,2,0.01,3.063,2,0.018,0.372,2,0.186,2,0.027,2,-999,9,2361.2,2,2366.1,6,7.3505,25,2,-999,9,-999,-999,9,-999,-999,9,-999,-999,9,-999,3.0433,27.3321
49NZ20070724,   P01,25,1,24, X12030,2,20070731,1418,41.2613,150.357,5373,899.9,2,2.9313,2,2.93165,2,34.3623,2,34.3644,2,37.01,2,37.44,2,137.8,2,0.42,42.53,2,0.15,0.01,2,0.01,3.062,2,0.018,0.261,2,0.127,2,0.019,2,-999,9,2365.5,2,2374.2,2,7.358,25,6,-999,9,-999,-999,9,-999,-999,9,-999,-999,9,-999,2.8716,27.3876
49NZ20070724,   P01,25,1,23, X12027,2,20070731,1418,41.2613,150.357,5373,999.2,2,2.7419,2,2.74181,2,34.3966,2,34.397,6,35.71,2,36.04,2,144.29,2,0.44,42.83,2,0.15,0,2,0.01,3.088,2,0.018,0.202,2,0.098,2,0.026,2,-999,9,2371.6,2,2381.8,2,7.3577,25,2,-999,9,-999,-999,9,-999,-999,9,-999,-999,9,-999,2.6763,27.4322
49NZ20070724,   P01,25,1,22, X12028,2,20070731,1418,41.2613,150.357,5373,1200,2,2.5017,2,2.50199,2,34.4584,2,34.4582,2,40.17,2,40.39,2,151.2,2,0.45,42.7,2,0.15,0,2,0.01,3.073,2,0.018,0.112,2,0.056,2,0.01,2,-999,9,2378.3,2,2392.4,2,7.3723,25,2,-999,9,-999,-999,9,-999,-999,9,-999,-999,9,-999,2.4231,27.5033
49NZ20070724,   P01,25,1,21, X12009,2,20070731,1418,41.2613,150.357,5373,1400.4,2,2.3231,2,2.32332,2,34.506,2,34.5065,2,45.82,2,46.2,2,155.62,2,0.46,42.47,2,0.15,0,2,0.01,3.046,2,0.018,0.048,2,0.022,2,0,2,-999,9,2380,2,2400.5,2,7.3882,25,2,-999,9,-999,-999,9,-999,-999,9,-999,-999,9,-999,2.231,27.5574
49NZ20070724,   P01,25,1,20, X12026,2,20070731,1418,41.2613,150.357,5373,1600.1,2,2.1557,2,2.15571,2,34.5445,2,34.5443,2,54.8,2,55.16,2,158.88,2,0.47,42.19,2,0.15,0,2,0.01,3.009,2,0.017,0.024,2,0.012,2,0,2,-999,9,2378.3,3,2407,2,7.408,25,6,-999,9,-999,-999,9,-999,-999,9,-999,-999,9,-999,2.0499,27.6028
49NZ20070724,   P01,25,1,19, X12025,2,20070731,1418,41.2613,150.357,5373,1800.7,2,2.0275,2,2.02753,2,34.5738,2,34.5734,2,64.35,2,64.38,2,160.45,2,0.47,41.64,2,0.15,0.01,2,0.01,2.959,2,0.017,0.007,2,0.005,2,0,2,-999,9,2378.4,2,2410.7,2,7.4281,25,2,-999,9,-999,-999,9,-999,-999,9,-999,-999,9,-999,1.9073,27.6375
49NZ20070724,   P01,25,1,18, X12024,2,20070731,1418,41.2613,150.357,5373,1999.7,2,1.895,2,1.895,2,34.6004,2,34.6003,2,77.79,2,77.63,2,159.99,2,0.47,40.78,2,0.15,0.01,2,0.01,2.902,2,0.017,0,2,0,2,0,2,-999,9,2370.9,2,2413.9,2,7.4534,25,2,-999,9,-999,-999,9,-999,-999,9,-999,-999,9,-999,1.7603,27.6702
49NZ20070724,   P01,25,1,17, X12023,2,20070731,1418,41.2613,150.357,5373,2200,2,1.7767,2,1.77703,2,34.6216,2,34.6216,2,90.86,2,90.71,2,159.98,2,0.47,40.01,2,0.14,0.01,2,0.01,2.843,2,0.017,0,2,0,2,0,2,-999,9,2366.5,2,2417.7,2,7.4796,25,2,-999,9,-999,-999,9,-999,-999,9,-999,-999,9,-999,1.6269,27.6972
49NZ20070724,   P01,25,1,16, X12022,2,20070731,1418,41.2613,150.357,5373,2399.3,2,1.6968,2,1.69687,2,34.6359,2,34.6354,2,101.13,2,100.92,2,159.31,2,0.47,39.33,2,0.14,0.01,2,0.01,2.79,2,0.017,-999,9,-999,9,-999,9,-999,9,2359.4,6,2418.3,2,7.499,25,2,-999,9,-999,-999,9,-999,-999,9,-999,-999,9,-999,1.5311,27.7157
49NZ20070724,   P01,25,1,15, X12021,2,20070731,1418,41.2613,150.357,5373,2599.8,2,1.6343,2,1.63437,2,34.6471,2,34.647,6,110.53,2,110.37,2,157.81,2,0.47,38.83,2,0.14,0.01,2,0.01,2.751,2,0.017,-999,9,-999,9,-999,9,-999,9,2349.7,3,2419.3,6,7.5157,25,2,-999,9,-999,-999,9,-999,-999,9,-999,-999,9,-999,1.4519,27.7304
49NZ20070724,   P01,25,1,14, X12020,2,20070731,1418,41.2613,150.357,5373,2799.8,2,1.5899,2,1.58996,2,34.6552,2,34.6548,2,118,2,117.88,2,156.44,2,0.46,38.3,2,0.14,0.01,2,0.01,2.705,2,0.017,0,2,0,2,0,2,-999,9,2348.7,2,2419.8,2,7.5294,25,6,-999,9,-999,-999,9,-999,-999,9,-999,-999,9,-999,1.3901,27.7414
49NZ20070724,   P01,25,1,13, X12019,2,20070731,1418,41.2613,150.357,5373,3000,2,1.5443,2,1.5444,2,34.6632,2,34.6629,2,125.9,2,126.01,2,154.62,2,0.46,37.82,2,0.14,0.01,2,0.01,2.665,2,0.017,-999,9,-999,9,-999,9,-999,9,2343.2,2,2419.7,2,7.5435,25,2,-999,9,-999,-999,9,-999,-999,9,-999,-999,9,-999,1.3266,27.7523
49NZ20070724,   P01,25,1,12, X12040,2,20070731,1418,41.2613,150.357,5373,3249.5,2,1.5089,2,1.50906,2,34.67,2,34.6701,2,133.42,2,133.58,2,152.6,2,0.45,37.24,2,0.14,0,2,0.01,2.623,2,0.017,-999,9,-999,9,-999,9,-999,9,2338,2,2419.6,2,7.5579,25,2,-999,9,-999,-999,9,-999,-999,9,-999,-999,9,-999,1.2678,27.7619
49NZ20070724,   P01,25,1,11, X12047,2,20070731,1418,41.2613,150.357,5373,3500,2,1.4857,2,1.4859,2,34.6754,2,34.6752,2,139.64,2,139.81,2,151.1,2,0.45,36.82,2,0.14,0,2,0.01,2.591,2,0.016,0,2,0,2,0,2,-999,9,2333,2,2418.7,2,7.5684,25,2,-999,9,-999,-999,9,-999,-999,9,-999,-999,9,-999,1.22,27.7696
49NZ20070724,   P01,25,1,10, X12010,2,20070731,1418,41.2613,150.357,5373,3749.5,2,1.4664,2,1.46658,2,34.6801,2,34.6801,2,145.33,2,145.63,2,149.59,2,0.45,36.32,2,0.13,0.01,2,0.01,2.566,2,0.016,-999,9,-999,9,-999,9,-999,9,2329.7,2,2418.7,2,7.5782,25,2,-999,9,-999,-999,9,-999,-999,9,-999,-999,9,-999,1.1753,27.7764
49NZ20070724,   P01,25,1,9, X12015,2,20070731,1418,41.2613,150.357,5373,3999.3,2,1.4604,2,1.46064,2,34.6833,2,34.6831,2,149.35,2,149.77,2,148.55,2,0.45,36.23,2,0.13,0,2,0.01,2.541,2,0.016,-999,9,-999,9,-999,9,-999,9,2322.9,3,2418,2,7.5848,25,2,-999,9,-999,-999,9,-999,-999,9,-999,-999,9,-999,1.1427,27.7813
49NZ20070724,   P01,25,1,8, X12046,2,20070731,1418,41.2613,150.357,5373,4250.4,2,1.4653,2,1.46546,2,34.6857,2,34.6857,6,152.52,2,153.03,2,147.72,2,0.44,35.93,2,0.13,0.01,2,0.01,2.523,2,0.016,0,2,0,2,0,2,-999,9,2325.4,6,2417.9,2,7.5903,25,2,-999,9,-999,-999,9,-999,-999,9,-999,-999,9,-999,1.1198,27.7848
49NZ20070724,   P01,25,1,7, X12044,2,20070731,1418,41.2613,150.357,5373,4500.3,2,1.4713,2,1.47151,2,34.6881,2,34.6881,2,155.26,2,155.9,2,147.33,2,0.44,35.78,2,0.13,0.01,2,0.01,2.511,2,0.016,-999,9,-999,9,-999,9,-999,9,2319.3,3,2417,6,7.5942,25,2,-999,9,-999,-999,9,-999,-999,9,-999,-999,9,-999,1.0972,27.7882
49NZ20070724,   P01,25,1,6, X12048,2,20070731,1418,41.2613,150.357,5373,4751.7,2,1.4915,2,1.49168,2,34.6891,2,34.689,2,156.58,2,157.01,2,147.15,2,0.44,35.69,2,0.13,0.01,2,0.01,2.504,2,0.016,-999,9,-999,9,-999,9,-999,9,2320.8,2,2416.3,2,7.5967,25,6,-999,9,-999,-999,9,-999,-999,9,-999,-999,9,-999,1.0874,27.7897
49NZ20070724,   P01,25,1,5, X12017,2,20070731,1418,41.2613,150.357,5373,4999.5,2,1.5152,2,1.51534,2,34.69,2,34.6893,2,157.39,2,157.98,2,146.96,2,0.44,35.51,2,0.13,0.01,2,0.01,2.494,2,0.016,0.023,3,0.015,3,0,2,-999,9,2317.8,2,2417.1,2,7.5979,25,2,-999,9,-999,-999,9,-999,-999,9,-999,-999,9,-999,1.0805,27.7908
49NZ20070724,   P01,25,1,4, X12928,2,20070731,1418,41.2613,150.357,5373,5249.5,2,1.539,2,1.53907,2,34.6907,2,34.6909,2,158.8,2,159.2,2,147.15,2,0.44,35.62,2,0.13,0,2,0.01,2.497,2,0.016,-999,9,-999,9,-999,9,-999,9,2313.9,3,2417,2,7.5998,25,2,-999,9,-999,-999,9,-999,-999,9,-999,-999,9,-999,1.0727,27.792
49NZ20070724,   P01,25,1,3, X12931,9,20070731,1418,41.2613,150.357,5373,9.9,2,18.8784,2,18.88373,2,33.5967,2,-999,9,238.64,2,-999,9,-999,9,-999,-999,9,-999,-999,9,-999,-999,9,-999,-999,9,-999,9,-999,9,-999,9,-999,9,-999,9,-999,-999,9,-999,9,-999,-999,9,-999,-999,9,-999,-999,9,-999,18.8767,23.98
49NZ20070724,   P01,25,1,2, X12930,9,20070731,1418,41.2613,150.357,5373,200.3,2,4.6294,2,4.63052,2,33.7911,2,-999,9,175.15,2,-999,9,-999,9,-999,-999,9,-999,-999,9,-999,-999,9,-999,-999,9,-999,9,-999,9,-999,9,-999,9,-999,9,-999,-999,9,-999,9,-999,-999,9,-999,-999,9,-999,-999,9,-999,4.6147,26.7597
49NZ20070724,   P01,25,1,1, X12929,2,20070731,1418,41.2613,150.357,5373,5468.7,2,1.5608,2,1.56085,2,34.6914,2,34.6913,6,159.98,2,160.06,2,146.86,2,0.44,35.49,2,0.13,0,2,0.01,2.493,2,0.016,0.003,2,0,2,0,2,-999,9,2318.3,2,2415.6,2,7.6008,25,2,-999,9,-999,-999,9,-999,-999,9,-999,-999,9,-999,1.066,27.7929