BOTTLE,20081214JAMSTECIORGC,,,,,,,,,,,,,,,,,,,,,,,,,,,,,,,,,,,,,,,,,,,,,,,,,,,,,,,,,,,,,,,,,
EXPOCODE,SECT,STNNBR,CASTNO,SAMPNO,BTLNBR,BTLNBR_FLAG_W,DATE,TIME,LATITUDE,LONGITUDE,DEPTH,CTDPRS,CTDPRS_FLAG_W,CTDTMP,CTDTMP_FLAG_W,SBE35,SBE35_FLAG_W,CTDSAL,CTDSAL_FLAG_W,SALNTY,SALNTY_FLAG_W,CTDOXY,CTDOXY_FLAG_W,OXYGEN,OXYGEN_FLAG_W,SILCAT,SILCAT_FLAG_W,SILUNC,NITRAT,NITRAT_FLAG_W,NRAUNC,NITRIT,NITRIT_FLAG_W,NRIUNC,PHSPHT,PHSPHT_FLAG_W,PHPUNC,CFC-11,CFC-11_FLAG_W,CFC-12,CFC-12_FLAG_W,CFC113,CFC113_FLAG_W,CCL4,CCL4_FLAG_W,TCARBN,TCARBN_FLAG_W,ALKALI,ALKALI_FLAG_W,PH_TOT,PH_TMP,PH_FLAG_W,DELC13,DELC13_FLAG_W,C13ERR,DELC14,DELC14_FLAG_W,C14ERR,CS-137,CS-137_FLAG_W,CS137ER,PLUTO,PLUTO_FLAG_W,PLUTOER,THETA,SIG0
,,,,,,,,UTC,DEG,DEG,M,DBAR,,ITS-90,,ITS-90,,PSS-78,,PSS-78,,UMOL/KG,,UMOL/KG,,UMOL/KG,,UMOL/KG,UMOL/KG,,UMOL/KG,UMOL/KG,,UMOL/KG,UMOL/KG,,UMOL/KG,PMOL/KG,,PMOL/KG,,PMOL/KG,,PMOL/KG,,UMOL/KG,,UMOL/KG,,,ITS-90,,/MILLE,,/MILLE,/MILLE,,/MILLE,BQ/CUM,,BQ/CUM,MBQ/CUM,,MBQ/CUM,DEG C,KG/CUM
49NZ20070724,   P01,   X15,1,0,-999,9,20070818,2338,46.9983,-164.9857,5334,-999,9,-999,9,-999,9,-999,9,32.7088,2,-999,9,-999,9,-999,9,-999,-999,9,-999,-999,9,-999,-999,9,-999,-999,9,-999,9,-999,9,-999,9,-999,9,-999,9,-999,-999,9,-999,9,-999,-999,9,-999,-999,9,-999,-999,9,-999,-999,-999
49NZ20070724,   P01,   X15,1,36, X12042,2,20070818,2338,46.9983,-164.9857,5334,9.6,2,14.2755,2,14.27343,2,32.7096,2,32.7074,2,271.08,2,270.69,2,10.77,2,0.14,8.84,2,0.06,0.16,2,0.01,0.966,2,0.013,3.132,2,1.807,2,0.287,2,-999,9,2003.7,2,2212.4,2,7.9087,25,6,-999,1,-999,-999,1,-999,-999,9,-999,-999,9,-999,14.2741,24.3608
49NZ20070724,   P01,   X15,1,35, X12041,2,20070818,2338,46.9983,-164.9857,5334,49.1,2,5.5487,2,5.55875,2,32.9237,2,32.9223,2,314.73,2,315.21,2,26.14,2,0.18,15.81,2,0.08,0.3,2,0.01,1.503,2,0.014,4.762,2,2.674,2,0.421,2,-999,9,2073.7,6,2221.9,2,7.7719,25,2,-999,1,-999,-999,1,-999,-999,9,-999,-999,9,-999,5.5449,25.967
49NZ20070724,   P01,   X15,1,34, X12036,2,20070818,2338,46.9983,-164.9857,5334,100.2,2,5.0137,2,5.01517,2,33.0601,2,33.0624,2,306.48,2,306.48,2,27.28,2,0.18,16.7,2,0.08,0.56,2,0,1.484,2,0.014,4.737,2,2.661,2,0.405,2,-999,9,2085.2,2,2226.3,6,7.7545,25,2,-999,1,-999,-999,1,-999,-999,9,-999,-999,9,-999,5.0062,26.1368
49NZ20070724,   P01,   X15,1,33, X12033,2,20070818,2338,46.9983,-164.9857,5334,150.8,2,5.8461,2,5.84579,2,33.4875,2,33.4811,2,277.15,2,279.77,2,26.53,2,0.18,17.27,2,0.08,0.02,2,0.01,1.411,2,0.014,4.311,6,2.405,6,0.343,6,-999,9,2105.7,2,2245.4,2,7.745,25,6,-999,1,-999,-999,1,-999,-999,9,-999,-999,9,-999,5.8337,26.378
49NZ20070724,   P01,   X15,1,32, X12038,2,20070818,2338,46.9983,-164.9857,5334,200.9,2,4.7952,2,4.78795,2,33.6865,2,33.6884,2,203.72,2,206.22,2,47.23,2,0.22,26.67,2,0.11,0.02,2,0.01,2.021,2,0.015,3.837,2,2.065,2,0.257,2,-999,9,2183.9,2,2268.3,2,7.5927,25,2,-999,1,-999,-999,1,-999,-999,9,-999,-999,9,-999,4.7802,26.6585
49NZ20070724,   P01,   X15,1,31, X12003,2,20070818,2338,46.9983,-164.9857,5334,250.3,2,4.4345,2,4.43363,2,33.7711,2,33.7733,6,152.19,2,152.22,2,62.09,2,0.26,31.99,2,0.12,0.02,2,0.01,2.372,2,0.016,3.249,2,1.692,2,0.204,2,-999,9,2229.2,2,2281.2,2,7.4958,25,2,-999,1,-999,-999,1,-999,-999,9,-999,-999,9,-999,4.4164,26.7652
49NZ20070724,   P01,   X15,1,30, X12008,2,20070818,2338,46.9983,-164.9857,5334,301,2,4.1118,2,4.11108,2,33.8355,2,33.8328,2,113.82,2,114.93,2,73.7,2,0.28,35.71,2,0.13,0.02,2,0.01,2.618,2,0.017,2.771,2,1.41,2,0.182,2,-999,9,2262.5,2,2290.7,2,7.4265,25,2,-999,1,-999,-999,1,-999,-999,9,-999,-999,9,-999,4.0907,26.8505
49NZ20070724,   P01,   X15,1,29, X12035,2,20070818,2338,46.9983,-164.9857,5334,400.7,2,3.8681,2,3.86793,2,33.9481,2,33.9482,2,66.39,2,66.28,2,90.34,2,0.32,40.19,2,0.15,0.02,2,0.01,2.902,2,0.017,1.972,2,0.977,2,0.123,2,-999,9,2305.7,2,2306.8,2,7.3494,25,2,-999,1,-999,-999,1,-999,-999,9,-999,-999,9,-999,3.8404,26.9655
49NZ20070724,   P01,   X15,1,28, X12034,2,20070818,2338,46.9983,-164.9857,5334,502.9,2,3.8809,2,3.88122,2,34.0889,2,34.0889,6,46.57,2,46.79,2,102.05,2,0.34,41.14,2,0.15,0.02,2,0.01,2.967,2,0.017,1.205,2,0.586,2,0.086,2,-999,9,2324.3,2,2325.7,2,7.3434,25,2,-999,1,-999,-999,1,-999,-999,9,-999,-999,9,-999,3.8456,27.077
49NZ20070724,   P01,   X15,1,27, X12049,2,20070818,2338,46.9983,-164.9857,5334,602.9,2,3.7282,2,3.72827,2,34.1871,2,34.1864,2,35.09,2,35.28,2,112.54,2,0.37,42.13,2,0.15,0.02,2,0.01,3.032,2,0.018,0.697,2,0.338,2,0.039,2,-999,9,2339.4,2,2340.3,2,7.3419,25,2,-999,1,-999,-999,1,-999,-999,9,-999,-999,9,-999,3.686,27.1712
49NZ20070724,   P01,   X15,1,26, X12032,2,20070818,2338,46.9983,-164.9857,5334,700.2,2,3.4496,2,3.4498,2,34.2432,2,34.2423,2,27.85,2,28.12,2,122.39,2,0.39,42.9,2,0.15,0.02,2,0.01,3.092,2,0.018,0.468,6,0.226,6,0.026,6,-999,9,2353.8,6,2352.2,2,7.3321,25,2,-999,1,-999,-999,1,-999,-999,9,-999,-999,9,-999,3.4015,27.2436
49NZ20070724,   P01,   X15,1,25, X12043,2,20070818,2338,46.9983,-164.9857,5334,799.9,2,3.2806,2,3.28052,2,34.2992,2,34.2984,2,27.6,2,27.57,2,128.71,2,0.4,43.04,2,0.15,0.02,2,0.01,3.093,2,0.018,0.291,2,0.14,2,0.022,2,-999,9,2361.6,2,2362.2,6,7.3402,25,2,-999,1,-999,-999,1,-999,-999,9,-999,-999,9,-999,3.2261,27.3048
49NZ20070724,   P01,   X15,1,24, X12030,2,20070818,2338,46.9983,-164.9857,5334,900.4,2,3.0813,2,3.08104,2,34.3379,2,34.3365,2,25.52,2,25.66,2,135,2,0.42,43.31,2,0.15,0.01,2,0.01,3.107,2,0.018,0.209,2,0.103,2,0.016,2,-999,9,2369.8,2,2369,2,7.3386,25,6,-999,1,-999,-999,1,-999,-999,9,-999,-999,9,-999,3.0205,27.3546
49NZ20070724,   P01,   X15,1,23, X12027,2,20070818,2338,46.9983,-164.9857,5334,1001.2,2,2.9164,2,2.91621,2,34.375,2,34.3744,6,25.4,2,25.59,2,140.74,2,0.43,43.48,2,0.15,0.01,2,0.01,3.115,2,0.018,0.135,2,0.067,2,0.011,2,-999,9,2374.6,2,2377.1,2,7.3444,25,2,-999,1,-999,-999,1,-999,-999,9,-999,-999,9,-999,2.8493,27.3997
49NZ20070724,   P01,   X15,1,22, X12028,2,20070818,2338,46.9983,-164.9857,5334,1201.2,2,2.606,2,2.60601,2,34.4402,2,34.4394,2,27.19,2,27.24,2,150.41,2,0.45,43.68,2,0.16,0.01,2,0.01,3.122,2,0.018,0.056,2,0.031,2,0.01,2,-999,9,2384.6,2,2390.1,2,7.3535,25,2,-999,1,-999,-999,1,-999,-999,9,-999,-999,9,-999,2.5264,27.48
49NZ20070724,   P01,   X15,1,21, X12009,2,20070818,2338,46.9983,-164.9857,5334,1402.5,2,2.3884,2,2.38863,2,34.4867,2,34.486,2,29.98,2,29.95,2,157.65,2,0.47,43.65,2,0.16,0.01,2,0.01,3.108,2,0.018,0.029,2,0.012,2,0,2,-999,9,2389.5,2,2398.4,2,7.3593,25,2,-999,1,-999,-999,1,-999,-999,9,-999,-999,9,-999,2.2955,27.5366
49NZ20070724,   P01,   X15,1,20, X12026,2,20070818,2338,46.9983,-164.9857,5334,1601,2,2.2075,2,2.20739,2,34.5281,2,34.5281,2,35.91,2,35.85,2,162.88,2,0.48,43.41,2,0.15,0.02,2,0.01,3.084,2,0.018,0.005,2,0.004,2,0,2,-999,9,2391.4,2,2405,2,7.375,25,6,-999,1,-999,-999,1,-999,-999,9,-999,-999,9,-999,2.101,27.5855
49NZ20070724,   P01,   X15,1,19, X12025,2,20070818,2338,46.9983,-164.9857,5334,1801,2,2.0525,2,2.05251,2,34.5621,2,34.5618,2,47.27,2,47.11,2,165.79,2,0.48,42.8,2,0.15,0.01,2,0.01,3.036,2,0.018,0,2,0.002,2,0,2,-999,9,2388.5,2,2411,2,7.3993,25,2,-999,1,-999,-999,1,-999,-999,9,-999,-999,9,-999,1.9319,27.6262
49NZ20070724,   P01,   X15,1,18, X12024,2,20070818,2338,46.9983,-164.9857,5334,1999.3,2,1.9415,2,1.94149,2,34.5861,2,34.586,2,57.85,2,57.7,2,167.3,2,0.49,42.05,2,0.15,0.02,2,0.01,2.987,2,0.017,0,2,0,2,0,2,-999,9,2384.7,2,2412.9,2,7.4201,25,2,-999,1,-999,-999,1,-999,-999,9,-999,-999,9,-999,1.8062,27.6551
49NZ20070724,   P01,   X15,1,17, X12023,2,20070818,2338,46.9983,-164.9857,5334,2201.1,2,1.8457,2,1.84557,2,34.6059,2,34.6058,2,68.16,2,68.24,2,168.45,2,0.49,41.37,2,0.15,0.02,2,0.01,2.945,2,0.017,-999,9,-999,9,-999,9,-999,9,2381.3,2,2417.1,2,7.4405,25,2,-999,1,-999,-999,1,-999,-999,9,-999,-999,9,-999,1.6948,27.6795
49NZ20070724,   P01,   X15,1,16, X12022,2,20070818,2338,46.9983,-164.9857,5334,2400,2,1.7596,2,1.75956,2,34.6221,2,34.6221,2,80.11,2,79.94,2,167.97,2,0.49,40.78,2,0.15,0.02,2,0.01,2.892,2,0.017,-999,9,-999,9,-999,9,-999,9,2373.7,6,2418.9,2,7.4645,25,2,-999,1,-999,-999,1,-999,-999,9,-999,-999,9,-999,1.5928,27.7001
49NZ20070724,   P01,   X15,1,15, X12021,2,20070818,2338,46.9983,-164.9857,5334,2603.5,2,1.6844,2,1.68442,2,34.6358,2,34.6356,6,92.15,2,91.87,2,166.7,2,0.49,39.93,2,0.14,0.02,2,0.01,2.83,2,0.017,-999,9,-999,9,-999,9,-999,9,2366.8,2,2420.2,2,7.4861,25,2,-999,1,-999,-999,1,-999,-999,9,-999,-999,9,-999,1.5008,27.7178
49NZ20070724,   P01,   X15,1,14, X12020,2,20070818,2338,46.9983,-164.9857,5334,2801.7,2,1.6264,2,1.62644,2,34.6466,2,34.6466,2,102.54,2,102.33,2,165.37,2,0.48,39.17,2,0.14,0.02,2,0.01,2.775,2,0.017,-999,9,-999,9,-999,9,-999,9,2360.1,2,2421.3,2,7.5051,25,2,-999,1,-999,-999,1,-999,-999,9,-999,-999,9,-999,1.4257,27.7319
49NZ20070724,   P01,   X15,1,13, X12019,2,20070818,2338,46.9983,-164.9857,5334,3001.3,2,1.5801,2,1.58007,2,34.6556,2,34.6555,2,111.97,2,111.77,2,163.58,2,0.48,38.76,2,0.14,0.02,2,0.01,2.738,2,0.017,-999,9,-999,9,-999,9,-999,9,2353.1,2,2421.2,2,7.5229,25,2,-999,1,-999,-999,1,-999,-999,9,-999,-999,9,-999,1.3615,27.7438
49NZ20070724,   P01,   X15,1,12, X12040,2,20070818,2338,46.9983,-164.9857,5334,3251.8,2,1.5373,2,1.53733,2,34.6642,2,34.6647,3,122.22,2,121.97,2,160.87,2,0.47,37.98,2,0.14,0.01,2,0.01,2.681,2,0.017,-999,9,-999,9,-999,9,-999,9,2346.3,2,2421.9,2,7.5419,25,2,-999,1,-999,-999,1,-999,-999,9,-999,-999,9,-999,1.2953,27.7554
49NZ20070724,   P01,   X15,1,11, X12047,2,20070818,2338,46.9983,-164.9857,5334,3500.3,2,1.505,2,1.50499,2,34.6716,2,34.6717,2,130.82,2,130.67,2,158.97,2,0.47,37.4,2,0.14,0.01,2,0.01,2.64,2,0.017,-999,9,-999,9,-999,9,-999,9,2341,2,2421.6,2,7.5589,25,2,-999,1,-999,-999,1,-999,-999,9,-999,-999,9,-999,1.2388,27.7652
49NZ20070724,   P01,   X15,1,10, X12010,2,20070818,2338,46.9983,-164.9857,5334,3752.9,2,1.4816,2,1.48165,2,34.6776,2,34.6777,2,137.79,2,138.05,2,157.96,2,0.47,36.82,2,0.14,0.02,2,0.01,2.599,2,0.016,-999,9,-999,9,-999,9,-999,9,2336.7,2,2422.3,2,7.5719,25,2,-999,1,-999,-999,1,-999,-999,9,-999,-999,9,-999,1.1897,27.7735
49NZ20070724,   P01,   X15,1,9, X12015,2,20070818,2338,46.9983,-164.9857,5334,4002.6,2,1.474,2,1.47399,2,34.682,2,34.682,6,142.56,2,142.78,2,158.45,2,0.47,36.59,2,0.14,0.01,2,0.01,2.578,2,0.016,-999,9,-999,9,-999,9,-999,9,2333.1,2,2424.1,2,7.5814,25,2,-999,1,-999,-999,1,-999,-999,9,-999,-999,9,-999,1.1556,27.7793
49NZ20070724,   P01,   X15,1,8, X12046,2,20070818,2338,46.9983,-164.9857,5334,4249.5,2,1.4802,2,1.48021,2,34.6847,2,34.6852,2,145.87,2,146.17,2,158.6,2,0.47,36.46,2,0.13,0.01,2,0.01,2.558,2,0.016,-999,9,-999,9,-999,9,-999,9,2332.6,6,2424.9,2,7.5884,25,2,-999,1,-999,-999,1,-999,-999,9,-999,-999,9,-999,1.1343,27.7829
49NZ20070724,   P01,   X15,1,7, X12044,2,20070818,2338,46.9983,-164.9857,5334,4501.5,2,1.4981,2,1.49817,2,34.6864,2,34.6865,2,147.33,2,147.58,2,159.66,2,0.47,36.34,2,0.13,0.02,2,0.01,2.552,2,0.016,-999,9,-999,9,-999,9,-999,9,2330.1,2,2425.2,6,7.5916,25,2,-999,1,-999,-999,1,-999,-999,9,-999,-999,9,-999,1.123,27.7851
49NZ20070724,   P01,   X15,1,6, X12048,2,20070818,2338,46.9983,-164.9857,5334,4751.6,2,1.5209,2,1.52082,2,34.6873,2,34.6874,2,148.58,2,148.74,2,160.04,2,0.47,36.19,2,0.13,0.01,2,0.01,2.546,2,0.016,-999,9,-999,9,-999,9,-999,9,2328.6,2,2426,2,7.5943,25,6,-999,1,-999,-999,1,-999,-999,9,-999,-999,9,-999,1.1158,27.7863
49NZ20070724,   P01,   X15,1,5, X12017,2,20070818,2338,46.9983,-164.9857,5334,5000.3,2,1.5457,2,1.54579,2,34.688,2,34.6876,2,149.83,2,149.93,2,160.38,2,0.47,36.18,2,0.13,0.02,2,0.01,2.541,2,0.016,-999,9,-999,9,-999,9,-999,9,2329.8,2,2424.9,2,7.5952,25,2,-999,1,-999,-999,1,-999,-999,9,-999,-999,9,-999,1.1099,27.7873
49NZ20070724,   P01,   X15,1,4, X12928,2,20070818,2338,46.9983,-164.9857,5334,5250.7,2,1.5742,2,1.57412,2,34.6884,2,34.6888,2,150.73,2,150.62,2,160.55,2,0.47,36.08,2,0.13,0.02,2,0.01,2.532,2,0.016,-999,9,-999,9,-999,9,-999,9,2329.3,2,2424.7,2,7.5958,25,2,-999,1,-999,-999,1,-999,-999,9,-999,-999,9,-999,1.1065,27.7878
49NZ20070724,   P01,   X15,1,3, X12931,9,20070818,2338,46.9983,-164.9857,5334,300.5,2,4.1105,2,4.11066,2,33.8345,2,-999,9,114.26,2,-999,9,-999,9,-999,-999,9,-999,-999,9,-999,-999,9,-999,-999,9,-999,9,-999,9,-999,9,-999,9,-999,9,-999,-999,9,-999,9,-999,-999,9,-999,-999,9,-999,-999,9,-999,4.0894,26.8499
49NZ20070724,   P01,   X15,1,2, X12930,9,20070818,2338,46.9983,-164.9857,5334,700.3,2,3.4493,2,3.44959,2,34.2434,2,-999,9,27.85,2,-999,9,-999,9,-999,-999,9,-999,-999,9,-999,-999,9,-999,-999,9,-999,9,-999,9,-999,9,-999,9,-999,9,-999,-999,9,-999,9,-999,-999,9,-999,-999,9,-999,-999,9,-999,3.4012,27.2437
49NZ20070724,   P01,   X15,1,1, X12929,2,20070818,2338,46.9983,-164.9857,5334,5430.6,2,1.5966,2,1.5965,2,34.6885,2,34.6891,6,151.13,2,150.89,2,160.66,2,0.47,36.1,2,0.13,0.02,2,0.01,2.534,2,0.016,-999,9,-999,9,-999,9,-999,9,2330.7,2,2423.8,2,7.5952,25,2,-999,1,-999,-999,1,-999,-999,9,-999,-999,9,-999,1.1054,27.788