BOTTLE,20081214JAMSTECIORGC,,,,,,,,,,,,,,,,,,,,,,,,,,,,,,,,,,,,,,,,,,,,,,,,,,,,,,,,,,,,,,,,,
EXPOCODE,SECT,STNNBR,CASTNO,SAMPNO,BTLNBR,BTLNBR_FLAG_W,DATE,TIME,LATITUDE,LONGITUDE,DEPTH,CTDPRS,CTDPRS_FLAG_W,CTDTMP,CTDTMP_FLAG_W,SBE35,SBE35_FLAG_W,CTDSAL,CTDSAL_FLAG_W,SALNTY,SALNTY_FLAG_W,CTDOXY,CTDOXY_FLAG_W,OXYGEN,OXYGEN_FLAG_W,SILCAT,SILCAT_FLAG_W,SILUNC,NITRAT,NITRAT_FLAG_W,NRAUNC,NITRIT,NITRIT_FLAG_W,NRIUNC,PHSPHT,PHSPHT_FLAG_W,PHPUNC,CFC-11,CFC-11_FLAG_W,CFC-12,CFC-12_FLAG_W,CFC113,CFC113_FLAG_W,CCL4,CCL4_FLAG_W,TCARBN,TCARBN_FLAG_W,ALKALI,ALKALI_FLAG_W,PH_TOT,PH_TMP,PH_FLAG_W,DELC13,DELC13_FLAG_W,C13ERR,DELC14,DELC14_FLAG_W,C14ERR,CS-137,CS-137_FLAG_W,CS137ER,PLUTO,PLUTO_FLAG_W,PLUTOER,THETA,SIG0
,,,,,,,,UTC,DEG,DEG,M,DBAR,,ITS-90,,ITS-90,,PSS-78,,PSS-78,,UMOL/KG,,UMOL/KG,,UMOL/KG,,UMOL/KG,UMOL/KG,,UMOL/KG,UMOL/KG,,UMOL/KG,UMOL/KG,,UMOL/KG,PMOL/KG,,PMOL/KG,,PMOL/KG,,PMOL/KG,,UMOL/KG,,UMOL/KG,,,ITS-90,,/MILLE,,/MILLE,/MILLE,,/MILLE,BQ/CUM,,BQ/CUM,MBQ/CUM,,MBQ/CUM,DEG C,KG/CUM
49NZ20070724,   P01,19,1,0,-999,9,20070730,111,39.9487,147.7135,5238,-999,9,-999,9,-999,9,-999,9,34.4776,2,-999,9,-999,9,-999,9,-999,-999,9,-999,-999,9,-999,-999,9,-999,-999,9,-999,9,-999,9,-999,9,-999,9,-999,9,-999,-999,9,-999,9,-999,-999,9,-999,-999,9,-999,-999,9,-999,-999,-999
49NZ20070724,   P01,19,1,36, X12042,2,20070730,111,39.9487,147.7135,5238,10,2,20.5981,2,20.59981,2,34.4944,2,34.4978,2,227.49,2,227.49,2,2.14,2,0.12,0.04,2,0.03,0.02,2,0.01,0.048,2,0.035,2.076,2,1.315,2,0.409,2,-999,9,1984,2,2277.3,2,8.0498,25,6,-999,1,-999,-999,1,-999,-999,9,-999,-999,9,-999,20.5962,24.2179
49NZ20070724,   P01,19,1,35, X12041,2,20070730,111,39.9487,147.7135,5238,50.3,2,15.6632,2,15.67012,2,34.4676,2,34.4855,2,222.07,2,215.23,2,8.27,2,0.14,5.88,2,0.05,0.47,2,0,0.515,2,0.013,2.482,2,1.504,2,0.166,2,-999,9,2048.9,6,2280.7,2,7.9371,25,2,-999,1,-999,-999,1,-999,-999,9,-999,-999,9,-999,15.6554,25.416
49NZ20070724,   P01,19,1,34, X12036,2,20070730,111,39.9487,147.7135,5238,100,2,12.7352,2,12.72622,2,34.3766,2,34.3868,2,205.18,2,203.62,2,15.21,2,0.15,11.45,2,0.06,0.03,2,0.01,0.853,2,0.013,2.609,2,1.553,2,0.137,2,-999,9,2085.7,2,2279.1,6,7.8568,25,2,-999,1,-999,-999,1,-999,-999,9,-999,-999,9,-999,12.7218,25.9651
49NZ20070724,   P01,19,1,33, X12033,2,20070730,111,39.9487,147.7135,5238,150,2,10.6701,2,10.65978,2,34.1628,2,34.1588,2,220.49,2,214.97,2,19.07,2,0.16,13.25,2,0.07,0.03,2,0.01,1.002,2,0.013,2.919,6,1.742,6,0.194,6,-999,9,2102.3,2,2275.4,2,7.8183,25,6,-999,1,-999,-999,1,-999,-999,9,-999,-999,9,-999,10.6522,26.1855
49NZ20070724,   P01,19,1,32, X12038,2,20070730,111,39.9487,147.7135,5238,199.8,2,7.0056,2,7.0129,2,33.7699,2,33.7506,2,239.91,2,241.52,2,29.59,2,0.18,18.25,2,0.08,0.03,2,0.01,1.41,2,0.014,3.683,2,2.176,2,0.29,2,-999,9,2129.7,2,2266.7,2,7.7313,25,2,-999,1,-999,-999,1,-999,-999,9,-999,-999,9,-999,6.9873,26.4515
49NZ20070724,   P01,19,1,31, X12003,2,20070730,111,39.9487,147.7135,5238,249.6,2,6.7404,2,6.73505,2,33.9223,2,33.8945,6,188.07,2,191.24,2,45.45,2,0.22,24.58,2,0.1,0.03,2,0.01,1.851,2,0.015,3.034,2,1.741,2,0.192,2,-999,9,2178.7,2,2280,2,7.6376,25,2,-999,1,-999,-999,1,-999,-999,9,-999,-999,9,-999,6.7178,26.608
49NZ20070724,   P01,19,1,30, X12008,2,20070730,111,39.9487,147.7135,5238,300,2,3.9397,2,3.94338,2,33.6384,2,33.6311,2,212.69,2,212.86,2,55.98,2,0.24,28.01,2,0.11,0.02,2,0.01,2.144,2,0.015,3.736,2,2.152,2,0.291,2,-999,9,2199.6,2,2275.5,2,7.5696,25,2,-999,1,-999,-999,1,-999,-999,9,-999,-999,9,-999,3.9192,26.7112
49NZ20070724,   P01,19,1,29, X12035,2,20070730,111,39.9487,147.7135,5238,399.5,2,3.5196,2,3.51651,2,33.7605,2,33.7619,2,149.39,2,147.72,2,76.03,2,0.29,34.04,2,0.13,0.02,2,0.01,2.545,2,0.016,2.933,2,1.634,2,0.218,2,-999,9,2253.6,2,2292.6,2,7.4595,25,2,-999,1,-999,-999,1,-999,-999,9,-999,-999,9,-999,3.4932,26.8501
49NZ20070724,   P01,19,1,28, X12034,2,20070730,111,39.9487,147.7135,5238,500.1,2,3.9596,2,3.95951,2,33.9726,2,33.9699,6,95.63,2,96.7,2,89.16,2,0.32,37.25,2,0.14,0.02,2,0.01,2.725,2,0.017,1.961,2,1.087,2,0.131,2,-999,9,2287.8,2,2312.1,2,7.4102,25,2,-999,1,-999,-999,1,-999,-999,9,-999,-999,9,-999,3.9243,26.9766
49NZ20070724,   P01,19,1,27, X12049,2,20070730,111,39.9487,147.7135,5238,598.9,2,3.8176,2,3.81619,2,34.1093,2,34.1124,2,62.12,2,63.33,2,103.7,2,0.35,39.85,2,0.14,0.02,2,0.01,2.894,2,0.017,1.219,2,0.659,2,0.07,2,-999,9,2319.2,2,2331,2,7.3747,25,2,-999,1,-999,-999,1,-999,-999,9,-999,-999,9,-999,3.7754,27.1003
49NZ20070724,   P01,19,1,26, X12032,2,20070730,111,39.9487,147.7135,5238,699.6,2,3.5594,2,3.55913,2,34.2025,2,34.2052,2,46.08,2,47.25,2,116.28,2,0.37,41.35,2,0.15,0.02,2,0.01,2.979,2,0.017,0.797,6,0.426,6,0.049,2,-999,9,2340.7,6,2345.7,2,7.3567,25,2,-999,1,-999,-999,1,-999,-999,9,-999,-999,9,-999,3.5108,27.2006
49NZ20070724,   P01,19,1,25, X12043,2,20070730,111,39.9487,147.7135,5238,799.4,2,3.5585,2,3.55843,2,34.3077,2,34.2998,2,44.72,2,44.58,2,122.57,2,0.39,41.47,2,0.15,0.01,2,0.01,2.993,2,0.017,0.448,2,0.237,2,0.016,2,-999,9,2348.7,2,2360.1,6,7.3699,25,2,-999,1,-999,-999,1,-999,-999,9,-999,-999,9,-999,3.5022,27.2852
49NZ20070724,   P01,19,1,24, X12030,2,20070730,111,39.9487,147.7135,5238,899.6,2,3.2166,2,3.21684,2,34.3577,2,34.3575,2,41.56,2,42.12,2,130.35,2,0.41,41.84,2,0.15,0.01,2,0.01,3.015,2,0.017,0.292,2,0.135,2,0.012,2,-999,9,2357.5,2,2370.6,2,7.3723,25,6,-999,1,-999,-999,1,-999,-999,9,-999,-999,9,-999,3.1549,27.3581
49NZ20070724,   P01,19,1,23, X12027,2,20070730,111,39.9487,147.7135,5238,999.4,2,2.9632,2,2.96298,2,34.389,2,34.3893,6,39.07,2,39.45,2,137.63,2,0.42,42.49,2,0.15,0.01,2,0.01,3.05,2,0.018,0.233,2,0.11,2,0.016,2,-999,9,2367,2,2377.8,2,7.3669,25,2,-999,1,-999,-999,1,-999,-999,9,-999,-999,9,-999,2.8958,27.4068
49NZ20070724,   P01,19,1,22, X12028,2,20070730,111,39.9487,147.7135,5238,1200.3,2,2.7154,2,2.71525,2,34.4554,2,34.4559,2,42.15,2,42.49,2,144.9,2,0.44,42.5,2,0.15,0.01,2,0.01,3.049,2,0.018,0.065,2,0.041,2,0.005,2,-999,9,2373.8,2,2389.4,2,7.3825,25,2,-999,1,-999,-999,1,-999,-999,9,-999,-999,9,-999,2.6348,27.4829
49NZ20070724,   P01,19,1,21, X12009,2,20070730,111,39.9487,147.7135,5238,1401,2,2.4107,2,2.41071,2,34.5023,2,34.5026,2,45.05,2,45.16,2,152,2,0.45,42.37,2,0.15,0.03,2,0.01,3.031,2,0.018,0.032,2,0.02,2,0,2,-999,9,2381.2,2,2400.1,2,7.39,25,2,-999,1,-999,-999,1,-999,-999,9,-999,-999,9,-999,2.3176,27.5472
49NZ20070724,   P01,19,1,20, X12026,2,20070730,111,39.9487,147.7135,5238,1598.8,2,2.2177,2,2.21784,2,34.5415,2,34.5416,2,53.95,2,53.86,2,157.12,2,0.46,42.23,2,0.15,0.01,2,0.01,3.003,2,0.017,0.017,2,0.007,2,0.004,2,-999,9,2382.2,2,2405.8,2,7.4075,25,2,-999,1,-999,-999,1,-999,-999,9,-999,-999,9,-999,2.1112,27.5955
49NZ20070724,   P01,19,1,19, X12025,2,20070730,111,39.9487,147.7135,5238,1800.1,2,2.0649,2,2.06487,2,34.5718,2,34.5721,2,64.51,2,64.43,2,158.18,2,0.47,41.44,2,0.15,0.02,2,0.01,2.948,2,0.017,0.006,2,0.003,2,0.003,2,-999,9,2378.8,2,2410.2,2,7.4293,25,2,-999,1,-999,-999,1,-999,-999,9,-999,-999,9,-999,1.9442,27.633
49NZ20070724,   P01,19,1,18, X12024,2,20070730,111,39.9487,147.7135,5238,2000.5,2,1.9368,2,1.93683,2,34.5951,2,34.5953,2,75.34,2,74.99,2,160,2,0.47,40.98,2,0.15,0.02,2,0.01,2.907,2,0.017,0.009,2,0.006,2,0.004,2,-999,9,2373.4,2,2413.4,2,7.4506,25,2,-999,1,-999,-999,1,-999,-999,9,-999,-999,9,-999,1.8014,27.6627
49NZ20070724,   P01,19,1,17, X12023,2,20070730,111,39.9487,147.7135,5238,2199.9,2,1.8116,2,1.81179,2,34.6174,2,34.6174,2,88.91,2,88.56,2,159.37,2,0.47,40.22,2,0.15,0.02,2,0.01,2.844,2,0.017,0.003,2,0,2,0,2,-999,9,2367.3,2,2416,2,7.4767,25,2,-999,1,-999,-999,1,-999,-999,9,-999,-999,9,-999,1.6613,27.6912
49NZ20070724,   P01,19,1,16, X12022,2,20070730,111,39.9487,147.7135,5238,2400.6,2,1.7295,2,1.72949,2,34.632,2,34.6319,2,99.22,2,99.04,2,158.78,2,0.47,39.53,2,0.14,0.02,2,0.01,2.788,2,0.017,-999,9,-999,9,-999,9,-999,9,2362.1,6,2417.4,2,7.4966,25,2,-999,1,-999,-999,1,-999,-999,9,-999,-999,9,-999,1.5632,27.7102
49NZ20070724,   P01,19,1,15, X12021,2,20070730,111,39.9487,147.7135,5238,2599.4,2,1.6668,2,1.66679,2,34.6431,2,34.6433,6,108.06,2,107.73,2,157.57,2,0.47,39,2,0.14,0.02,2,0.01,2.744,2,0.017,-999,9,-999,9,-999,9,-999,9,2358.3,2,2418.6,6,7.5112,25,2,-999,1,-999,-999,1,-999,-999,9,-999,-999,9,-999,1.4839,27.7249
49NZ20070724,   P01,19,1,14, X12020,2,20070730,111,39.9487,147.7135,5238,2799.7,2,1.601,2,1.60098,2,34.654,2,34.654,2,117.86,2,117.62,2,156.15,2,0.46,38.37,2,0.14,0.02,2,0.01,2.699,2,0.017,0.002,2,0,2,0.001,2,-999,9,2351.5,2,2419.1,2,7.529,25,6,-999,1,-999,-999,1,-999,-999,9,-999,-999,9,-999,1.401,27.7397
49NZ20070724,   P01,19,1,13, X12019,2,20070730,111,39.9487,147.7135,5238,2999.9,2,1.5569,2,1.55682,2,34.6617,2,34.6618,2,125.53,2,125.39,2,154.51,2,0.46,37.87,2,0.14,0.02,2,0.01,2.662,2,0.017,-999,9,-999,9,-999,9,-999,9,2345.7,2,2419.9,2,7.5434,25,2,-999,1,-999,-999,1,-999,-999,9,-999,-999,9,-999,1.3389,27.7503
49NZ20070724,   P01,19,1,12, X12040,2,20070730,111,39.9487,147.7135,5238,3249.7,2,1.5205,2,1.52051,2,34.6688,2,34.6687,2,132.95,2,133.01,2,152.39,2,0.45,37.24,2,0.14,0.01,2,0.01,2.616,2,0.017,-999,9,-999,9,-999,9,-999,9,2341.4,2,2419,2,7.5571,25,2,-999,1,-999,-999,1,-999,-999,9,-999,-999,9,-999,1.2791,27.7602
49NZ20070724,   P01,19,1,11, X12047,2,20070730,111,39.9487,147.7135,5238,3500.4,2,1.4937,2,1.49357,2,34.6746,2,34.6745,2,139.06,2,138.72,2,151.31,2,0.45,36.93,2,0.14,0.02,2,0.01,2.582,2,0.016,0.001,2,0,2,0,2,-999,9,2336.2,2,2418.9,2,7.5672,25,2,-999,1,-999,-999,1,-999,-999,9,-999,-999,9,-999,1.2277,27.7684
49NZ20070724,   P01,19,1,10, X12010,2,20070730,111,39.9487,147.7135,5238,3750.3,2,1.476,2,1.476,2,34.6791,2,34.6792,2,144.75,2,144.3,2,149.87,2,0.45,36.54,2,0.14,0.01,2,0.01,2.56,2,0.016,-999,9,-999,9,-999,9,-999,9,2332.3,2,2417.7,2,7.5766,25,2,-999,1,-999,-999,1,-999,-999,9,-999,-999,9,-999,1.1845,27.775
49NZ20070724,   P01,19,1,9, X12015,2,20070730,111,39.9487,147.7135,5238,4001.3,2,1.4703,2,1.47021,2,34.6824,2,34.6824,2,148.74,2,148.63,2,148.37,2,0.45,36.17,2,0.13,0.02,2,0.01,2.542,2,0.016,-999,9,-999,9,-999,9,-999,9,2330.8,2,2417.9,2,7.5836,25,2,-999,1,-999,-999,1,-999,-999,9,-999,-999,9,-999,1.1521,27.7798
49NZ20070724,   P01,19,1,8, X12046,2,20070730,111,39.9487,147.7135,5238,4250.2,2,1.4637,2,1.4637,2,34.6858,2,34.6857,6,153.2,2,153.18,2,147.17,2,0.44,35.9,2,0.13,0.01,2,0.01,2.518,2,0.016,0.002,2,0,2,0.002,2,-999,9,2327.5,6,2417.5,2,7.5912,25,2,-999,1,-999,-999,1,-999,-999,9,-999,-999,9,-999,1.1182,27.7849
49NZ20070724,   P01,19,1,7, X12044,2,20070730,111,39.9487,147.7135,5238,4501.6,2,1.4738,2,1.47379,2,34.6877,2,34.6879,2,155.6,2,155.5,2,146.72,2,0.44,35.77,2,0.13,0.02,2,0.01,2.5,2,0.016,-999,9,-999,9,-999,9,-999,9,2323.8,2,2416.5,6,7.5951,25,2,-999,1,-999,-999,1,-999,-999,9,-999,-999,9,-999,1.0995,27.7877
49NZ20070724,   P01,19,1,6, X12048,2,20070730,111,39.9487,147.7135,5238,4751.4,2,1.4884,2,1.48838,2,34.6893,2,34.6896,2,157.64,2,157.51,2,146.68,2,0.44,35.64,2,0.13,0.02,2,0.01,2.495,2,0.016,-999,9,-999,9,-999,9,-999,9,2321.5,2,2416.7,2,7.5982,25,6,-999,1,-999,-999,1,-999,-999,9,-999,-999,9,-999,1.0844,27.7901
49NZ20070724,   P01,19,1,5, X12017,2,20070730,111,39.9487,147.7135,5238,5000.2,2,1.5089,2,1.50879,2,34.6904,2,34.6906,2,159.15,2,158.92,2,146.12,2,0.44,35.53,2,0.13,0.02,2,0.01,2.483,2,0.016,-999,5,-999,5,-999,5,-999,9,2321.7,2,2415.5,2,7.5997,25,2,-999,1,-999,-999,1,-999,-999,9,-999,-999,9,-999,1.0743,27.7916
49NZ20070724,   P01,19,1,4, X12928,2,20070730,111,39.9487,147.7135,5238,5250.6,2,1.5275,2,1.52728,2,34.6916,2,34.6923,2,160.9,2,160.49,2,145.87,2,0.44,35.31,2,0.13,0.02,2,0.01,2.479,2,0.016,-999,9,-999,9,-999,9,-999,9,2321.4,2,2415.1,2,7.6019,25,2,-999,1,-999,-999,1,-999,-999,9,-999,-999,9,-999,1.0614,27.7934
49NZ20070724,   P01,19,1,3, X12931,9,20070730,111,39.9487,147.7135,5238,10,2,20.6004,2,20.60132,2,34.4952,2,-999,9,227.82,2,-999,9,-999,9,-999,-999,9,-999,-999,9,-999,-999,9,-999,-999,9,-999,9,-999,9,-999,9,-999,9,-999,9,-999,-999,9,-999,9,-999,-999,9,-999,-999,9,-999,-999,9,-999,20.5985,24.2179
49NZ20070724,   P01,19,1,2, X12930,9,20070730,111,39.9487,147.7135,5238,10,2,20.5967,2,20.59746,2,34.4948,2,-999,9,227.78,2,-999,9,-999,9,-999,-999,9,-999,-999,9,-999,-999,9,-999,-999,9,-999,9,-999,9,-999,9,-999,9,-999,9,-999,-999,9,-999,9,-999,-999,9,-999,-999,9,-999,-999,9,-999,20.5948,24.2186
49NZ20070724,   P01,19,1,1, X12929,2,20070730,111,39.9487,147.7135,5238,5314.1,2,1.5354,2,1.53519,2,34.6917,2,34.6919,6,161.02,2,160.54,2,146.16,2,0.44,35.39,2,0.13,0.03,2,0.01,2.482,2,0.016,0.009,2,0,2,0,2,-999,9,2320,2,2414.8,2,7.6011,25,2,-999,1,-999,-999,1,-999,-999,9,-999,-999,9,-999,1.0611,27.7936