BOTTLE,20081214JAMSTECIORGC,,,,,,,,,,,,,,,,,,,,,,,,,,,,,,,,,,,,,,,,,,,,,,,,,,,,,,,,,,,,,,,,,
EXPOCODE,SECT,STNNBR,CASTNO,SAMPNO,BTLNBR,BTLNBR_FLAG_W,DATE,TIME,LATITUDE,LONGITUDE,DEPTH,CTDPRS,CTDPRS_FLAG_W,CTDTMP,CTDTMP_FLAG_W,SBE35,SBE35_FLAG_W,CTDSAL,CTDSAL_FLAG_W,SALNTY,SALNTY_FLAG_W,CTDOXY,CTDOXY_FLAG_W,OXYGEN,OXYGEN_FLAG_W,SILCAT,SILCAT_FLAG_W,SILUNC,NITRAT,NITRAT_FLAG_W,NRAUNC,NITRIT,NITRIT_FLAG_W,NRIUNC,PHSPHT,PHSPHT_FLAG_W,PHPUNC,CFC-11,CFC-11_FLAG_W,CFC-12,CFC-12_FLAG_W,CFC113,CFC113_FLAG_W,CCL4,CCL4_FLAG_W,TCARBN,TCARBN_FLAG_W,ALKALI,ALKALI_FLAG_W,PH_TOT,PH_TMP,PH_FLAG_W,DELC13,DELC13_FLAG_W,C13ERR,DELC14,DELC14_FLAG_W,C14ERR,CS-137,CS-137_FLAG_W,CS137ER,PLUTO,PLUTO_FLAG_W,PLUTOER,THETA,SIG0
,,,,,,,,UTC,DEG,DEG,M,DBAR,,ITS-90,,ITS-90,,PSS-78,,PSS-78,,UMOL/KG,,UMOL/KG,,UMOL/KG,,UMOL/KG,UMOL/KG,,UMOL/KG,UMOL/KG,,UMOL/KG,UMOL/KG,,UMOL/KG,PMOL/KG,,PMOL/KG,,PMOL/KG,,PMOL/KG,,UMOL/KG,,UMOL/KG,,,ITS-90,,/MILLE,,/MILLE,/MILLE,,/MILLE,BQ/CUM,,BQ/CUM,MBQ/CUM,,MBQ/CUM,DEG C,KG/CUM
49NZ20070724,   P01,9,1,0,-999,9,20070727,1404,41.9825,146.2425,6255,-999,9,-999,9,-999,9,-999,9,32.6766,2,-999,9,-999,9,-999,9,-999,-999,9,-999,-999,9,-999,-999,9,-999,-999,9,-999,9,-999,9,-999,9,-999,9,-999,9,-999,-999,9,-999,9,-999,-999,9,-999,-999,9,-999,-999,9,-999,-999,-999
49NZ20070724,   P01,9,1,36, X12042,2,20070727,1404,41.9825,146.2425,6255,10,2,12.0042,2,12.02341,2,32.7103,2,32.7202,2,292.66,2,295.62,2,6.65,2,0.13,8.46,2,0.06,0.16,2,0.01,1.097,2,0.013,3.831,2,2.067,2,0.397,2,-999,9,-999,9,-999,9,-999,-999,9,-999,9,-999,-999,9,-999,-999,9,-999,-999,9,-999,12.0029,24.8106
49NZ20070724,   P01,9,1,35, X12041,2,20070727,1404,41.9825,146.2425,6255,49.5,2,2.5844,2,2.58784,2,33.0297,2,33.0332,2,320.14,2,326.06,2,38.45,2,0.2,22.3,2,0.1,0.45,2,0,1.912,2,0.015,5.575,2,2.993,2,0.54,2,-999,9,-999,9,-999,9,-999,-999,9,-999,9,-999,-999,9,-999,-999,9,-999,-999,9,-999,2.5817,26.3478
49NZ20070724,   P01,9,1,34, X12036,2,20070727,1404,41.9825,146.2425,6255,99,2,1.6681,2,1.6696,2,33.1873,2,33.2215,2,281.64,2,275.79,2,52.39,2,0.23,27.87,2,0.11,0.07,2,0.01,2.202,2,0.016,5.057,2,2.681,2,0.481,2,-999,9,-999,9,-999,9,-999,-999,9,-999,9,-999,-999,9,-999,-999,9,-999,-999,9,-999,1.6634,26.544
49NZ20070724,   P01,9,1,33, X12033,2,20070727,1404,41.9825,146.2425,6255,149.6,2,2.1239,2,2.12433,2,33.4293,2,33.4439,2,201.82,2,200.9,2,69.68,2,0.27,33.21,2,0.13,0.03,2,0.01,2.525,2,0.016,4.06,6,2.108,6,0.388,6,-999,9,-999,9,-999,9,-999,-999,9,-999,9,-999,-999,9,-999,-999,9,-999,-999,9,-999,2.1161,26.7045
49NZ20070724,   P01,9,1,32, X12038,2,20070727,1404,41.9825,146.2425,6255,199.5,2,2.6928,2,2.69292,2,33.6179,2,33.6315,2,134.18,2,132.75,2,82.38,2,0.3,38.05,2,0.14,0.02,2,0.01,2.806,2,0.017,3.248,2,1.651,2,0.273,2,-999,9,-999,9,-999,9,-999,-999,9,-999,9,-999,-999,9,-999,-999,9,-999,-999,9,-999,2.6813,26.8095
49NZ20070724,   P01,9,1,31, X12003,2,20070727,1404,41.9825,146.2425,6255,249.7,2,3.0782,2,3.07712,2,33.7831,2,33.7887,6,82.03,2,84.48,2,92.88,2,0.32,40.86,2,0.15,0.02,2,0.01,2.976,2,0.017,2.522,2,1.266,2,0.196,2,-999,9,-999,9,-999,9,-999,-999,9,-999,9,-999,-999,9,-999,-999,9,-999,-999,9,-999,3.0629,26.908
49NZ20070724,   P01,9,1,30, X12008,2,20070727,1404,41.9825,146.2425,6255,280.3,2,2.8693,2,2.86927,2,33.8052,2,33.8226,2,90.2,2,88.12,2,97.01,2,0.33,40.23,2,0.15,0.02,2,0.01,2.954,2,0.017,2.426,2,1.222,2,0.208,2,-999,9,-999,9,-999,9,-999,-999,9,-999,9,-999,-999,9,-999,-999,9,-999,-999,9,-999,2.8525,26.9444
49NZ20070724,   P01,9,1,29, X12035,2,20070727,1404,41.9825,146.2425,6255,369.7,2,2.6961,2,2.69211,2,33.9017,2,33.9174,2,85.91,2,81.13,2,106.24,2,0.35,40.26,2,0.15,0.01,2,0.01,2.961,2,0.017,2.062,2,1.044,2,0.162,2,-999,9,-999,9,-999,9,-999,-999,9,-999,9,-999,-999,9,-999,-999,9,-999,-999,9,-999,2.6741,27.0369
49NZ20070724,   P01,9,1,28, X12034,2,20070727,1404,41.9825,146.2425,6255,470,2,3.0796,2,3.07962,2,34.0772,2,34.0862,6,42.55,2,42.6,2,118,2,0.38,42.59,2,0.15,0.01,2,0.01,3.086,2,0.018,1.219,2,0.613,2,0.085,2,-999,9,-999,9,-999,9,-999,-999,9,-999,9,-999,-999,9,-999,-999,9,-999,-999,9,-999,3.0497,27.1439
49NZ20070724,   P01,9,1,27, X12049,2,20070727,1404,41.9825,146.2425,6255,569.2,2,3.0938,2,3.09363,2,34.181,2,34.1838,2,35.9,2,35.92,2,125.92,2,0.4,42.69,2,0.15,0.02,2,0.01,3.088,2,0.018,0.858,2,0.428,2,0.054,2,-999,9,-999,9,-999,9,-999,-999,9,-999,9,-999,-999,9,-999,-999,9,-999,-999,9,-999,3.057,27.2261
49NZ20070724,   P01,9,1,26, X12032,2,20070727,1404,41.9825,146.2425,6255,669.9,2,2.9123,2,2.91238,2,34.2422,2,34.2439,2,33.77,2,33.7,2,133.63,2,0.41,42.93,2,0.15,0.01,2,0.01,3.104,2,0.018,0.675,6,0.334,6,0.044,6,-999,9,-999,9,-999,9,-999,-999,9,-999,9,-999,-999,9,-999,-999,9,-999,-999,9,-999,2.8693,27.2919
49NZ20070724,   P01,9,1,25, X12043,2,20070727,1404,41.9825,146.2425,6255,769.9,2,2.7958,2,2.79567,2,34.2968,2,34.2957,2,35.22,2,35.55,2,139.06,2,0.42,42.8,2,0.15,0.01,2,0.01,3.091,2,0.018,0.541,2,0.271,2,0.033,2,-999,9,-999,9,-999,9,-999,-999,9,-999,9,-999,-999,9,-999,-999,9,-999,-999,9,-999,2.7464,27.3464
49NZ20070724,   P01,9,1,24, X12030,2,20070727,1404,41.9825,146.2425,6255,870.5,2,2.6559,2,2.65606,2,34.3416,2,34.3426,2,36.24,2,36.12,2,144.17,2,0.44,42.52,2,0.15,0.01,2,0.01,3.091,2,0.018,0.445,2,0.213,2,0.031,2,-999,9,-999,9,-999,9,-999,-999,9,-999,9,-999,-999,9,-999,-999,9,-999,-999,9,-999,2.6003,27.3948
49NZ20070724,   P01,9,1,23, X12027,2,20070727,1404,41.9825,146.2425,6255,971.4,2,2.5193,2,2.52016,2,34.3844,2,34.3854,6,39.93,2,39.19,2,148.46,2,0.45,42.65,2,0.15,0.01,2,0.01,3.079,2,0.018,0.368,2,0.168,2,0.024,2,-999,9,-999,9,-999,9,-999,-999,9,-999,9,-999,-999,9,-999,-999,9,-999,-999,9,-999,2.4574,27.4412
49NZ20070724,   P01,9,1,22, X12028,2,20070727,1404,41.9825,146.2425,6255,1130.1,2,2.3746,2,2.37469,2,34.432,2,34.4322,2,43.48,2,42.79,2,154.08,2,0.46,42.48,2,0.15,0.01,2,0.01,3.067,2,0.018,0.273,2,0.129,2,0.018,2,-999,9,-999,9,-999,9,-999,-999,9,-999,9,-999,-999,9,-999,-999,9,-999,-999,9,-999,2.3024,27.4922
49NZ20070724,   P01,9,1,21, X12009,2,20070727,1404,41.9825,146.2425,6255,1331.5,2,2.3014,2,2.3014,2,34.4948,2,34.4947,2,46.34,2,45.56,2,156.52,2,0.46,42.52,2,0.15,0.01,2,0.01,3.052,2,0.018,0.062,2,0.051,2,0.007,2,-999,9,-999,9,-999,9,-999,-999,9,-999,9,-999,-999,9,-999,-999,9,-999,-999,9,-999,2.2148,27.5497
49NZ20070724,   P01,9,1,20, X12026,2,20070727,1404,41.9825,146.2425,6255,1532.3,2,2.1803,2,2.18027,2,34.5346,2,34.5341,2,53.87,2,53.14,2,158.79,2,0.47,42.13,2,0.15,0.01,2,0.01,3.02,2,0.018,0.028,2,0.023,2,0.006,2,-999,9,-999,9,-999,9,-999,-999,9,-999,9,-999,-999,9,-999,-999,9,-999,-999,9,-999,2.0795,27.5925
49NZ20070724,   P01,9,1,19, X12025,2,20070727,1404,41.9825,146.2425,6255,1730.8,2,2.0628,2,2.06299,2,34.5648,2,34.5639,2,62.48,2,61.4,2,159.94,2,0.47,41.71,2,0.15,0.01,2,0.01,2.975,2,0.017,0.009,2,0.013,2,0.001,2,-999,9,-999,9,-999,9,-999,-999,9,-999,9,-999,-999,9,-999,-999,9,-999,-999,9,-999,1.9477,27.6271
49NZ20070724,   P01,9,1,18, X12024,2,20070727,1404,41.9825,146.2425,6255,1931.6,2,1.9322,2,1.93214,2,34.5943,2,34.5938,2,75.21,2,74.78,2,160.06,2,0.47,41.02,2,0.15,0.01,2,0.01,2.919,2,0.017,0,2,0,2,0.001,2,-999,9,-999,9,-999,9,-999,-999,9,-999,9,-999,-999,9,-999,-999,9,-999,-999,9,-999,1.8026,27.662
49NZ20070724,   P01,9,1,17, X12023,2,20070727,1404,41.9825,146.2425,6255,2130.3,2,1.8228,2,1.82277,2,34.6153,2,34.6153,2,88.29,2,87.71,2,159.13,2,0.47,40.15,2,0.15,0.01,2,0.01,2.853,2,0.017,0,2,0.001,2,0.001,2,-999,9,-999,9,-999,9,-999,-999,9,-999,9,-999,-999,9,-999,-999,9,-999,-999,9,-999,1.6782,27.6882
49NZ20070724,   P01,9,1,16, X12022,2,20070727,1404,41.9825,146.2425,6255,2330.7,2,1.7362,2,1.73618,2,34.6306,2,34.6302,2,98.89,2,98.55,2,158.14,2,0.47,39.54,2,0.14,0.01,2,0.01,2.804,2,0.017,-999,9,-999,9,-999,9,-999,9,-999,9,-999,9,-999,-999,9,-999,9,-999,-999,9,-999,-999,9,-999,-999,9,-999,1.5759,27.7082
49NZ20070724,   P01,9,1,15, X12021,2,20070727,1404,41.9825,146.2425,6255,2529.5,2,1.6641,2,1.66398,2,34.6434,2,34.6428,6,109.76,2,109.16,2,156.17,2,0.46,38.82,2,0.14,0.01,2,0.01,2.747,2,0.017,0,2,0,2,0,2,-999,9,-999,9,-999,9,-999,-999,9,-999,9,-999,-999,9,-999,-999,9,-999,-999,9,-999,1.4875,27.7249
49NZ20070724,   P01,9,1,14, X12020,2,20070727,1404,41.9825,146.2425,6255,2729.9,2,1.6081,2,1.60796,2,34.6531,2,34.653,2,118.47,2,117.95,2,154.92,2,0.46,38.35,2,0.14,0.01,2,0.01,2.707,2,0.017,-999,9,-999,9,-999,9,-999,9,-999,9,-999,9,-999,-999,9,-999,9,-999,-999,9,-999,-999,9,-999,-999,9,-999,1.4144,27.738
49NZ20070724,   P01,9,1,13, X12019,2,20070727,1404,41.9825,146.2425,6255,2929.8,2,1.5579,2,1.55782,2,34.6614,2,34.6611,2,126.35,2,125.75,2,153.47,2,0.46,37.77,2,0.14,0,2,0.01,2.665,2,0.017,-999,9,-999,9,-999,9,-999,9,-999,9,-999,9,-999,-999,9,-999,9,-999,-999,9,-999,-999,9,-999,-999,9,-999,1.3466,27.7495
49NZ20070724,   P01,9,1,12, X12040,2,20070727,1404,41.9825,146.2425,6255,3170.6,2,1.5193,2,1.51926,2,34.6681,2,34.6681,2,132.75,2,132.52,2,152.59,2,0.45,37.21,2,0.14,0.01,2,0.01,2.628,2,0.017,0,2,0,2,0.002,2,-999,9,-999,9,-999,9,-999,-999,9,-999,9,-999,-999,9,-999,-999,9,-999,-999,9,-999,1.2857,27.7592
49NZ20070724,   P01,9,1,11, X12047,2,20070727,1404,41.9825,146.2425,6255,3420.4,2,1.4893,2,1.48929,2,34.674,2,34.6741,2,139.01,2,138.89,2,151.35,2,0.45,36.86,2,0.14,0.01,2,0.01,2.598,2,0.016,-999,9,-999,9,-999,9,-999,9,-999,9,-999,9,-999,-999,9,-999,9,-999,-999,9,-999,-999,9,-999,-999,9,-999,1.2316,27.7676
49NZ20070724,   P01,9,1,10, X12010,2,20070727,1404,41.9825,146.2425,6255,3671.2,2,1.4685,2,1.46845,2,34.6791,2,34.6792,2,145.14,2,144.94,2,149.46,2,0.45,36.57,2,0.14,0.01,2,0.01,2.572,2,0.016,-999,9,-999,9,-999,9,-999,9,-999,9,-999,9,-999,-999,9,-999,9,-999,-999,9,-999,-999,9,-999,-999,9,-999,1.1855,27.7749
49NZ20070724,   P01,9,1,9, X12015,2,20070727,1404,41.9825,146.2425,6255,3920.7,2,1.4494,2,1.44943,2,34.6836,2,34.6835,2,150.67,2,150.6,2,148.12,2,0.44,36.07,2,0.13,0.01,2,0.01,2.541,2,0.016,0,2,0,2,0.002,2,-999,9,-999,9,-999,9,-999,-999,9,-999,9,-999,-999,9,-999,-999,9,-999,-999,9,-999,1.1405,27.7817
49NZ20070724,   P01,9,1,8, X12046,2,20070727,1404,41.9825,146.2425,6255,4171.5,2,1.4445,2,1.44466,2,34.6871,2,34.6867,6,155.08,2,155.05,2,145.76,2,0.44,35.85,2,0.13,0.01,2,0.01,2.517,2,0.016,-999,9,-999,9,-999,9,-999,9,-999,9,-999,9,-999,-999,9,-999,9,-999,-999,9,-999,-999,9,-999,-999,9,-999,1.1083,27.7866
49NZ20070724,   P01,9,1,7, X12044,2,20070727,1404,41.9825,146.2425,6255,4421,2,1.4561,2,1.45618,2,34.6887,2,34.6882,2,157.37,2,157.4,2,145.3,2,0.44,35.63,2,0.13,0.01,2,0.01,2.501,2,0.016,-999,9,-999,9,-999,9,-999,9,-999,9,-999,9,-999,-999,9,-999,9,-999,-999,9,-999,-999,9,-999,-999,9,-999,1.0915,27.7891
49NZ20070724,   P01,9,1,6, X12048,2,20070727,1404,41.9825,146.2425,6255,4672.3,2,1.4712,2,1.47131,2,34.6902,2,34.69,2,159.38,2,159.54,2,144.35,2,0.44,35.5,2,0.13,0.01,2,0.01,2.493,2,0.016,0,2,0,2,0,2,-999,9,-999,9,-999,9,-999,-999,9,-999,9,-999,-999,9,-999,-999,9,-999,-999,9,-999,1.0771,27.7913
49NZ20070724,   P01,9,1,5, X12017,2,20070727,1404,41.9825,146.2425,6255,4921,2,1.4934,2,1.49356,2,34.691,2,34.6902,2,160.52,2,160.82,2,143.7,2,0.44,35.37,2,0.13,0.01,2,0.01,2.482,2,0.016,-999,9,-999,9,-999,9,-999,9,-999,9,-999,9,-999,-999,9,-999,9,-999,-999,9,-999,-999,9,-999,-999,9,-999,1.0689,27.7925
49NZ20070724,   P01,9,1,4, X12928,2,20070727,1404,41.9825,146.2425,6255,5170.2,2,1.5181,2,1.51822,2,34.6919,2,34.6914,2,161.33,2,161.41,2,143.59,2,0.43,35.36,2,0.13,0.01,2,0.01,2.481,2,0.016,-999,9,-999,9,-999,9,-999,9,-999,9,-999,9,-999,-999,9,-999,9,-999,-999,9,-999,-999,9,-999,-999,9,-999,1.0623,27.7936
49NZ20070724,   P01,9,1,3, X12931,2,20070727,1404,41.9825,146.2425,6255,5419.7,2,1.5472,2,1.54722,2,34.6922,2,34.6918,2,161.79,2,161.97,2,143.62,2,0.43,35.35,2,0.13,0.01,2,0.01,2.478,2,0.016,0,2,0,2,0.002,2,-999,9,-999,9,-999,9,-999,-999,9,-999,9,-999,-999,9,-999,-999,9,-999,-999,9,-999,1.0591,27.794
49NZ20070724,   P01,9,1,2, X12930,2,20070727,1404,41.9825,146.2425,6255,5670.3,2,1.5804,2,1.58047,2,34.6922,2,34.6918,2,161.79,2,162.07,2,143.61,2,0.43,35.29,2,0.13,0.01,2,0.01,2.478,2,0.016,-999,9,-999,9,-999,9,-999,9,-999,9,-999,9,-999,-999,9,-999,9,-999,-999,9,-999,-999,9,-999,-999,9,-999,1.0589,27.7941
49NZ20070724,   P01,9,1,1, X12929,2,20070727,1404,41.9825,146.2425,6255,6281.6,2,1.6656,2,1.66539,2,34.6924,2,34.6917,6,162.27,2,161.76,2,143.89,2,0.44,35.31,2,0.13,0.01,2,0.01,2.479,2,0.016,0,2,0.002,2,0,2,-999,9,-999,9,-999,9,-999,-999,9,-999,9,-999,-999,9,-999,-999,9,-999,-999,9,-999,1.059,27.7942