BOTTLE,20081214JAMSTECIORGC,,,,,,,,,,,,,,,,,,,,,,,,,,,,,,,,,,,,,,,,,,,,,,,,,,,,,,,,,,,,,,,,,
EXPOCODE,SECT,STNNBR,CASTNO,SAMPNO,BTLNBR,BTLNBR_FLAG_W,DATE,TIME,LATITUDE,LONGITUDE,DEPTH,CTDPRS,CTDPRS_FLAG_W,CTDTMP,CTDTMP_FLAG_W,SBE35,SBE35_FLAG_W,CTDSAL,CTDSAL_FLAG_W,SALNTY,SALNTY_FLAG_W,CTDOXY,CTDOXY_FLAG_W,OXYGEN,OXYGEN_FLAG_W,SILCAT,SILCAT_FLAG_W,SILUNC,NITRAT,NITRAT_FLAG_W,NRAUNC,NITRIT,NITRIT_FLAG_W,NRIUNC,PHSPHT,PHSPHT_FLAG_W,PHPUNC,CFC-11,CFC-11_FLAG_W,CFC-12,CFC-12_FLAG_W,CFC113,CFC113_FLAG_W,CCL4,CCL4_FLAG_W,TCARBN,TCARBN_FLAG_W,ALKALI,ALKALI_FLAG_W,PH_TOT,PH_TMP,PH_FLAG_W,DELC13,DELC13_FLAG_W,C13ERR,DELC14,DELC14_FLAG_W,C14ERR,CS-137,CS-137_FLAG_W,CS137ER,PLUTO,PLUTO_FLAG_W,PLUTOER,THETA,SIG0
,,,,,,,,UTC,DEG,DEG,M,DBAR,,ITS-90,,ITS-90,,PSS-78,,PSS-78,,UMOL/KG,,UMOL/KG,,UMOL/KG,,UMOL/KG,UMOL/KG,,UMOL/KG,UMOL/KG,,UMOL/KG,UMOL/KG,,UMOL/KG,PMOL/KG,,PMOL/KG,,PMOL/KG,,PMOL/KG,,UMOL/KG,,UMOL/KG,,,ITS-90,,/MILLE,,/MILLE,/MILLE,,/MILLE,BQ/CUM,,BQ/CUM,MBQ/CUM,,MBQ/CUM,DEG C,KG/CUM
49NZ20070724,   P01,14,1,0,-999,9,20070728,2242,41.13,146.8882,5334,-999,9,-999,9,-999,9,-999,9,32.9735,2,-999,9,-999,9,-999,9,-999,-999,9,-999,-999,9,-999,-999,9,-999,-999,9,-999,9,-999,9,-999,9,-999,9,-999,9,-999,-999,9,-999,9,-999,-999,9,-999,-999,9,-999,-999,9,-999,-999,-999
49NZ20070724,   P01,14,1,36, X12042,2,20070728,2242,41.13,146.8882,5334,9.4,2,14.1188,2,14.11254,2,32.9818,2,32.9912,2,281.7,2,277.32,2,3.14,2,0.13,2.6,2,0.04,0.08,2,0.01,0.54,2,0.013,3.242,2,1.933,2,0.404,2,-999,9,1998.7,2,2242.5,2,7.9822,25,2,-999,9,-999,-999,9,-999,-999,9,-999,-999,9,-999,14.1175,24.6035
49NZ20070724,   P01,14,1,35, X12041,2,20070728,2242,41.13,146.8882,5334,49.7,2,5.7869,2,5.78541,2,33.3315,2,33.3201,2,272.12,2,278.58,2,25.18,2,0.17,12.03,2,0.07,0.33,2,0.01,1.263,2,0.014,4.458,2,2.561,2,0.468,2,-999,9,2113.7,6,2259.9,2,7.7619,25,2,-999,9,-999,-999,9,-999,-999,9,-999,-999,9,-999,5.7829,26.2609
49NZ20070724,   P01,14,1,34, X12036,2,20070728,2242,41.13,146.8882,5334,100.1,2,2.4301,2,2.42784,2,33.1944,2,33.2011,2,278.27,2,283.8,2,45.46,2,0.22,23.41,2,0.1,0.16,2,0.01,1.965,2,0.015,4.959,2,2.83,2,0.479,2,-999,9,2157.7,2,2254.6,6,7.6336,25,2,-999,9,-999,-999,9,-999,-999,9,-999,-999,9,-999,2.4247,26.4922
49NZ20070724,   P01,14,1,33, X12033,2,20070728,2242,41.13,146.8882,5334,149.4,2,2.1284,2,2.12836,2,33.4053,2,33.4202,2,206.06,2,205.62,2,67.32,2,0.27,33.29,2,0.13,0.03,2,0.01,2.518,2,0.016,4.107,6,2.272,6,0.376,6,-999,9,2223.2,2,2268.5,2,7.4859,25,6,-999,9,-999,-999,9,-999,-999,9,-999,-999,9,-999,2.1206,26.6849
49NZ20070724,   P01,14,1,32, X12038,2,20070728,2242,41.13,146.8882,5334,201.1,2,2.914,2,2.90924,2,33.6737,2,33.6636,2,118.63,2,120.02,2,83.57,2,0.3,38.88,2,0.14,0.02,2,0.01,2.846,2,0.017,3.017,2,1.63,2,0.247,2,-999,9,2280.3,3,2288.8,2,7.3722,25,2,-999,9,-999,-999,9,-999,-999,9,-999,-999,9,-999,2.9021,26.835
49NZ20070724,   P01,14,1,31, X12003,2,20070728,2242,41.13,146.8882,5334,249.1,2,3.0279,2,3.02811,2,33.7872,2,33.7998,6,84.74,2,80.45,2,93.05,2,0.32,41.25,2,0.15,0.03,2,0.01,2.989,2,0.017,2.412,2,1.282,2,0.196,2,-999,9,2306.7,3,2299.4,2,7.3199,25,2,-999,9,-999,-999,9,-999,-999,9,-999,-999,9,-999,3.0127,26.9158
49NZ20070724,   P01,14,1,30, X12008,2,20070728,2242,41.13,146.8882,5334,331.7,2,3.3435,2,3.34371,2,33.9591,2,33.9675,2,42.08,2,42.05,2,105.19,2,0.35,43.46,2,0.15,0.02,2,0.01,3.119,2,0.018,1.615,2,0.845,2,0.113,2,-999,9,2334.3,3,2317.2,2,7.2889,25,2,-999,9,-999,-999,9,-999,-999,9,-999,-999,9,-999,3.3221,27.0246
49NZ20070724,   P01,14,1,29, X12035,2,20070728,2242,41.13,146.8882,5334,428.2,2,3.2232,2,3.2234,2,34.0725,2,34.0797,2,52.66,2,52.8,2,112.67,2,0.37,41.47,2,0.15,0.02,2,0.01,3.019,2,0.018,1.294,2,0.681,2,0.089,2,-999,9,2336,2,2334,2,7.3357,25,2,-999,9,-999,-999,9,-999,-999,9,-999,-999,9,-999,3.1956,27.1268
49NZ20070724,   P01,14,1,28, X12034,2,20070728,2242,41.13,146.8882,5334,529.1,2,3.1714,2,3.17161,2,34.1702,2,34.1672,6,42.03,2,41.89,2,122.76,2,0.39,42.42,2,0.15,0.02,2,0.01,3.071,2,0.018,0.928,2,0.481,2,0.052,2,-999,9,2350.1,2,2346.3,2,7.3323,25,2,-999,9,-999,-999,9,-999,-999,9,-999,-999,9,-999,3.137,27.2101
49NZ20070724,   P01,14,1,27, X12049,2,20070728,2242,41.13,146.8882,5334,628.7,2,2.8881,2,2.88807,2,34.2279,2,34.2285,2,36.42,2,36.35,2,132.83,2,0.41,42.85,2,0.15,0.02,2,0.01,3.098,2,0.018,0.738,2,0.379,2,0.05,2,-999,9,2359.8,2,2357.2,2,7.3292,25,2,-999,9,-999,-999,9,-999,-999,9,-999,-999,9,-999,2.8481,27.2824
49NZ20070724,   P01,14,1,26, X12032,2,20070728,2242,41.13,146.8882,5334,730.2,2,2.7739,2,2.77473,2,34.2767,2,34.2768,2,36.29,2,36.54,2,137.8,2,0.42,42.84,2,0.15,0.02,2,0.01,3.096,2,0.018,0.604,6,0.31,6,0.04,6,-999,9,2365.1,6,2365.7,2,7.3387,25,2,-999,9,-999,-999,9,-999,-999,9,-999,-999,9,-999,2.7275,27.3319
49NZ20070724,   P01,14,1,25, X12043,2,20070728,2242,41.13,146.8882,5334,830.6,2,2.6824,2,2.6824,2,34.3199,2,34.3201,2,36.18,2,36.37,2,142.74,2,0.43,42.86,2,0.15,0.02,2,0.01,3.101,2,0.018,0.492,2,0.251,2,0.034,2,-999,9,2369.6,2,2372,6,7.3435,25,2,-999,9,-999,-999,9,-999,-999,9,-999,-999,9,-999,2.6295,27.375
49NZ20070724,   P01,14,1,24, X12030,2,20070728,2242,41.13,146.8882,5334,929.3,2,2.6174,2,2.61741,2,34.3601,2,34.3616,2,37.02,2,37.17,2,145.45,2,0.44,42.71,2,0.15,0.01,2,0.01,3.083,2,0.018,0.382,2,0.188,2,0.023,2,-999,9,2372.5,2,2378.1,2,7.3516,25,6,-999,9,-999,-999,9,-999,-999,9,-999,-999,9,-999,2.5578,27.4133
49NZ20070724,   P01,14,1,23, X12027,2,20070728,2242,41.13,146.8882,5334,1069.9,2,2.5818,2,2.58176,2,34.439,2,34.4392,6,38.67,2,39.18,2,148.98,2,0.45,42.75,2,0.15,0.01,2,0.01,3.076,2,0.018,0.169,2,0.073,2,0.01,2,-999,9,2377.5,2,2388.5,2,7.3702,25,2,-999,9,-999,-999,9,-999,-999,9,-999,-999,9,-999,2.5122,27.4802
49NZ20070724,   P01,14,1,22, X12028,2,20070728,2242,41.13,146.8882,5334,1271.6,2,2.4266,2,2.42658,2,34.4975,2,34.4971,2,44.52,2,44.71,2,152.75,2,0.46,42.48,2,0.15,0.01,2,0.01,3.052,2,0.018,0.035,2,0.024,2,0.002,2,-999,9,2379,2,2398,2,7.3928,25,2,-999,9,-999,-999,9,-999,-999,9,-999,-999,9,-999,2.3432,27.5413
49NZ20070724,   P01,14,1,21, X12009,2,20070728,2242,41.13,146.8882,5334,1472.2,2,2.2248,2,2.22461,2,34.5308,2,34.5302,2,51.55,2,51.51,2,157.42,2,0.47,42.36,2,0.15,0.01,2,0.01,3.024,2,0.018,0.02,2,0.016,2,0.004,2,-999,9,2380.2,2,2404.6,2,7.406,25,2,-999,9,-999,-999,9,-999,-999,9,-999,-999,9,-999,2.1282,27.5855
49NZ20070724,   P01,14,1,20, X12026,2,20070728,2242,41.13,146.8882,5334,1669.8,2,2.0587,2,2.05857,2,34.5667,2,34.5667,2,62.8,2,63.15,2,159.46,2,0.47,41.72,2,0.15,0.01,2,0.01,2.968,2,0.017,0.015,2,0.007,2,0.004,2,-999,9,2376.2,2,2409.2,2,7.43,25,6,-999,9,-999,-999,9,-999,-999,9,-999,-999,9,-999,1.9486,27.6286
49NZ20070724,   P01,14,1,19, X12025,2,20070728,2242,41.13,146.8882,5334,1870.4,2,1.975,2,1.97491,2,34.586,2,34.586,2,70.91,2,71.02,2,159.83,2,0.47,41.31,2,0.15,0.01,2,0.01,2.934,2,0.017,0.003,2,0,2,0,2,-999,9,2373,2,2412.2,2,7.446,25,2,-999,9,-999,-999,9,-999,-999,9,-999,-999,9,-999,1.8498,27.6517
49NZ20070724,   P01,14,1,18, X12024,2,20070728,2242,41.13,146.8882,5334,2070.5,2,1.8632,2,1.86316,2,34.6079,2,34.6082,2,82.97,2,82.53,2,159.5,2,0.47,40.56,2,0.15,0.01,2,0.01,2.875,2,0.017,0,2,0,2,0,2,-999,9,2366.5,2,2415.1,2,7.4677,25,2,-999,9,-999,-999,9,-999,-999,9,-999,-999,9,-999,1.723,27.679
49NZ20070724,   P01,14,1,17, X12023,2,20070728,2242,41.13,146.8882,5334,2271.6,2,1.7526,2,1.75256,2,34.6273,2,34.6273,2,95.7,2,95.33,2,158.46,2,0.47,39.75,2,0.14,0.01,2,0.01,2.813,2,0.017,0,2,0,2,0,2,-999,9,2360.9,2,2416.9,2,7.4942,25,2,-999,9,-999,-999,9,-999,-999,9,-999,-999,9,-999,1.5971,27.7039
49NZ20070724,   P01,14,1,16, X12022,2,20070728,2242,41.13,146.8882,5334,2470.6,2,1.6721,2,1.67202,2,34.6411,2,34.6412,2,106.46,2,106,2,157.27,2,0.46,39.06,2,0.14,0.01,2,0.01,2.76,2,0.017,0,2,0,2,0,2,-999,9,2354.5,6,2418.1,2,7.5135,25,2,-999,9,-999,-999,9,-999,-999,9,-999,-999,9,-999,1.5006,27.7221
49NZ20070724,   P01,14,1,15, X12021,2,20070728,2242,41.13,146.8882,5334,2669.6,2,1.616,2,1.61593,2,34.6508,2,34.6508,6,115,2,114.43,2,155.6,2,0.46,38.33,2,0.14,0.01,2,0.01,2.72,2,0.017,-999,9,-999,9,-999,9,-999,9,2350.6,2,2418.9,6,7.5274,25,2,-999,9,-999,-999,9,-999,-999,9,-999,-999,9,-999,1.4277,27.7351
49NZ20070724,   P01,14,1,14, X12020,2,20070728,2242,41.13,146.8882,5334,2870.9,2,1.5595,2,1.55942,2,34.6603,2,34.6603,2,123.92,2,123.41,2,153.81,2,0.46,37.75,2,0.14,0.01,2,0.01,2.672,2,0.017,-999,9,-999,9,-999,9,-999,9,2345.1,2,2418.6,2,7.5434,25,6,-999,9,-999,-999,9,-999,-999,9,-999,-999,9,-999,1.3537,27.748
49NZ20070724,   P01,14,1,13, X12019,2,20070728,2242,41.13,146.8882,5334,3080.2,2,1.5285,2,1.52852,2,34.6663,2,34.6659,2,129.86,2,129.68,2,152.7,2,0.45,37.37,2,0.14,0.01,2,0.01,2.646,2,0.017,0,2,0,2,0,2,-999,9,2341.4,2,2418.5,2,7.5539,25,2,-999,9,-999,-999,9,-999,-999,9,-999,-999,9,-999,1.3034,27.7564
49NZ20070724,   P01,14,1,12, X12040,2,20070728,2242,41.13,146.8882,5334,3329,2,1.5037,2,1.50357,2,34.6717,2,34.6717,2,135.57,2,135.63,2,151.01,2,0.45,37.04,2,0.14,0.01,2,0.01,2.605,2,0.016,-999,9,-999,9,-999,9,-999,9,2336.1,2,2418.9,2,7.5645,25,2,-999,9,-999,-999,9,-999,-999,9,-999,-999,9,-999,1.2548,27.7642
49NZ20070724,   P01,14,1,11, X12047,2,20070728,2242,41.13,146.8882,5334,3580.6,2,1.4706,2,1.47051,2,34.6778,2,34.6781,2,142.91,2,142.9,2,149.35,2,0.45,36.65,2,0.14,0.01,2,0.01,2.571,2,0.016,-999,9,-999,9,-999,9,-999,9,2329.6,2,2418.5,2,7.5779,25,2,-999,9,-999,-999,9,-999,-999,9,-999,-999,9,-999,1.197,27.7731
49NZ20070724,   P01,14,1,10, X12010,2,20070728,2242,41.13,146.8882,5334,3829.5,2,1.462,2,1.46195,2,34.6815,2,34.6819,2,147.26,2,147.27,2,148.44,2,0.45,36.34,2,0.13,0.01,2,0.01,2.552,2,0.016,0,2,0,2,0,2,-999,9,2327.5,2,2417.7,2,7.5836,25,2,-999,9,-999,-999,9,-999,-999,9,-999,-999,9,-999,1.1625,27.7784
49NZ20070724,   P01,14,1,9, X12015,2,20070728,2242,41.13,146.8882,5334,4081.8,2,1.4638,2,1.46373,2,34.6839,2,34.6843,2,150.46,2,150.65,2,147.61,2,0.44,36.2,2,0.13,0.01,2,0.01,2.535,2,0.016,-999,9,-999,9,-999,9,-999,9,2325.3,2,2417.6,2,7.5878,25,2,-999,9,-999,-999,9,-999,-999,9,-999,-999,9,-999,1.137,27.7821
49NZ20070724,   P01,14,1,8, X12046,2,20070728,2242,41.13,146.8882,5334,4329.6,2,1.457,2,1.45692,2,34.6875,2,34.6878,6,154.93,2,155.13,2,146.5,2,0.44,35.84,2,0.13,0.01,2,0.01,2.508,2,0.016,-999,9,-999,9,-999,9,-999,9,2321.6,6,2416.7,2,7.5965,25,2,-999,9,-999,-999,9,-999,-999,9,-999,-999,9,-999,1.1028,27.7873
49NZ20070724,   P01,14,1,7, X12044,2,20070728,2242,41.13,146.8882,5334,4582.4,2,1.4718,2,1.47172,2,34.689,2,34.6895,2,156.8,2,157.13,2,146.33,2,0.44,35.76,2,0.13,0.01,2,0.01,2.502,2,0.016,0.014,3,0.015,3,0.006,3,-999,9,2319.8,2,2415.6,6,7.5978,25,2,-999,9,-999,-999,9,-999,-999,9,-999,-999,9,-999,1.0882,27.7895
49NZ20070724,   P01,14,1,6, X12048,2,20070728,2242,41.13,146.8882,5334,4829.8,2,1.4922,2,1.4922,2,34.6901,2,34.6901,2,158.12,2,158.45,2,145.94,2,0.44,35.65,2,0.13,0.01,2,0.01,2.494,2,0.016,-999,9,-999,9,-999,9,-999,9,2321.4,3,2415.1,2,7.6017,25,6,-999,9,-999,-999,9,-999,-999,9,-999,-999,9,-999,1.0787,27.7911
49NZ20070724,   P01,14,1,5, X12017,2,20070728,2242,41.13,146.8882,5334,5079.4,2,1.5138,2,1.51373,2,34.6909,2,34.6905,2,159.86,2,160.09,2,144.69,2,0.44,35.48,2,0.13,0.01,2,0.01,2.483,2,0.016,0.006,2,0.002,2,0.001,2,-999,9,2317.7,2,2414.4,2,7.6029,25,2,-999,9,-999,-999,9,-999,-999,9,-999,-999,9,-999,1.0694,27.7923
49NZ20070724,   P01,14,1,4, X12928,2,20070728,2242,41.13,146.8882,5334,5329.5,2,1.5376,2,1.53755,2,34.6918,2,34.6921,2,160.84,2,160.87,2,144.77,2,0.44,35.42,2,0.13,0.01,2,0.01,2.488,2,0.016,-999,9,-999,9,-999,9,-999,9,2314.7,2,2413.7,2,7.6042,25,2,-999,9,-999,-999,9,-999,-999,9,-999,-999,9,-999,1.0613,27.7936
49NZ20070724,   P01,14,1,3, X12931,9,20070728,2242,41.13,146.8882,5334,9.4,2,14.1726,2,14.16677,2,32.9752,2,-999,9,280.68,2,-999,9,-999,9,-999,-999,9,-999,-999,9,-999,-999,9,-999,-999,9,-999,9,-999,9,-999,9,-999,9,-999,9,-999,-999,9,-999,9,-999,-999,9,-999,-999,9,-999,-999,9,-999,14.1713,24.5872
49NZ20070724,   P01,14,1,2, X12930,9,20070728,2242,41.13,146.8882,5334,2271.3,2,1.7522,2,1.75217,2,34.6274,2,-999,9,95.77,2,-999,9,-999,9,-999,-999,9,-999,-999,9,-999,-999,9,-999,-999,9,-999,9,-999,9,-999,9,-999,9,-999,9,-999,-999,9,-999,9,-999,-999,9,-999,-999,9,-999,-999,9,-999,1.5967,27.704
49NZ20070724,   P01,14,1,1, X12929,2,20070728,2242,41.13,146.8882,5334,5427.8,2,1.5454,2,1.54536,2,34.6923,2,34.6925,6,162.13,2,161.89,2,143.5,2,0.43,35.31,2,0.13,0.01,2,0.01,2.482,2,0.016,0.003,2,0.002,2,0,2,-999,9,2314.5,2,2414.2,2,7.6055,25,2,-999,9,-999,-999,9,-999,-999,9,-999,-999,9,-999,1.0564,27.7943