BOTTLE,20081214JAMSTECIORGC,,,,,,,,,,,,,,,,,,,,,,,,,,,,,,,,,,,,,,,,,,,,,,,,,,,,,,,,,,,,,,,,,
EXPOCODE,SECT,STNNBR,CASTNO,SAMPNO,BTLNBR,BTLNBR_FLAG_W,DATE,TIME,LATITUDE,LONGITUDE,DEPTH,CTDPRS,CTDPRS_FLAG_W,CTDTMP,CTDTMP_FLAG_W,SBE35,SBE35_FLAG_W,CTDSAL,CTDSAL_FLAG_W,SALNTY,SALNTY_FLAG_W,CTDOXY,CTDOXY_FLAG_W,OXYGEN,OXYGEN_FLAG_W,SILCAT,SILCAT_FLAG_W,SILUNC,NITRAT,NITRAT_FLAG_W,NRAUNC,NITRIT,NITRIT_FLAG_W,NRIUNC,PHSPHT,PHSPHT_FLAG_W,PHPUNC,CFC-11,CFC-11_FLAG_W,CFC-12,CFC-12_FLAG_W,CFC113,CFC113_FLAG_W,CCL4,CCL4_FLAG_W,TCARBN,TCARBN_FLAG_W,ALKALI,ALKALI_FLAG_W,PH_TOT,PH_TMP,PH_FLAG_W,DELC13,DELC13_FLAG_W,C13ERR,DELC14,DELC14_FLAG_W,C14ERR,CS-137,CS-137_FLAG_W,CS137ER,PLUTO,PLUTO_FLAG_W,PLUTOER,THETA,SIG0
,,,,,,,,UTC,DEG,DEG,M,DBAR,,ITS-90,,ITS-90,,PSS-78,,PSS-78,,UMOL/KG,,UMOL/KG,,UMOL/KG,,UMOL/KG,UMOL/KG,,UMOL/KG,UMOL/KG,,UMOL/KG,UMOL/KG,,UMOL/KG,PMOL/KG,,PMOL/KG,,PMOL/KG,,PMOL/KG,,UMOL/KG,,UMOL/KG,,,ITS-90,,/MILLE,,/MILLE,/MILLE,,/MILLE,BQ/CUM,,BQ/CUM,MBQ/CUM,,MBQ/CUM,DEG C,KG/CUM
49NZ20070724,   P01,2,1,0,-999,9,20070726,1120,42.8893,145.5183,354,-999,9,-999,9,-999,9,-999,9,32.7797,2,-999,9,-999,9,-999,9,-999,-999,9,-999,-999,9,-999,-999,9,-999,-999,9,-999,9,-999,9,-999,9,-999,9,-999,9,-999,-999,9,-999,9,-999,-999,9,-999,-999,9,-999,-999,9,-999,-999,-999
49NZ20070724,   P01,2,1,36, X12042,2,20070726,1120,42.8893,145.5183,354,9.5,2,9.5439,2,9.47877,2,32.8027,2,32.8465,2,314.64,2,314.68,2,11.17,2,0.14,11.55,2,0.07,0.21,2,0.01,1.257,2,0.013,4.276,2,2.332,2,0.333,2,-999,9,2050.4,2,2238.3,2,7.8733,25,2,-999,9,-999,-999,9,-999,-999,9,-999,-999,9,-999,9.5429,25.3116
49NZ20070724,   P01,2,1,35, X12041,2,20070726,1120,42.8893,145.5183,354,49.3,2,2.7937,2,2.79812,2,33.0408,2,33.0446,2,321.7,2,320.41,2,35.6,2,0.2,21.23,2,0.09,0.3,2,0.01,1.822,2,0.015,5.157,2,2.722,2,0.375,2,-999,9,2117.2,6,2245.2,2,7.7231,25,2,-999,9,-999,-999,9,-999,-999,9,-999,-999,9,-999,2.7909,26.3392
49NZ20070724,   P01,2,1,34, X12036,2,20070726,1120,42.8893,145.5183,354,99.7,2,1.7529,2,1.75295,2,33.1854,2,33.1909,2,281.99,2,282.43,2,50.45,2,0.23,26.94,2,0.11,0.15,2,0.01,2.156,2,0.015,4.961,2,2.61,2,0.353,2,-999,9,2165.5,2,2254.1,2,7.6145,25,2,-999,9,-999,-999,9,-999,-999,9,-999,-999,9,-999,1.7481,26.5365
49NZ20070724,   P01,2,1,33, X12033,2,20070726,1120,42.8893,145.5183,354,149.5,2,1.9101,2,1.91016,2,33.3164,2,33.3239,2,244.1,2,243.66,2,59.92,2,0.25,28.58,2,0.11,0.14,2,0.01,2.27,2,0.016,4.42,6,2.312,6,0.324,6,-999,9,2199.3,2,2265.4,2,7.5497,25,6,-999,9,-999,-999,9,-999,-999,9,-999,-999,9,-999,1.9026,26.6302
49NZ20070724,   P01,2,1,32, X12038,2,20070726,1120,42.8893,145.5183,354,199.5,2,1.9843,2,1.98654,2,33.4135,2,33.4138,2,211.36,2,212.16,2,68.31,2,0.27,31.66,2,0.12,0.12,2,0.01,2.459,2,0.016,4.032,2,2.101,2,0.296,2,-999,9,2222,2,2270.7,2,7.5037,25,2,-999,9,-999,-999,9,-999,-999,9,-999,-999,9,-999,1.9741,26.7026
49NZ20070724,   P01,2,1,31, X12003,2,20070726,1120,42.8893,145.5183,354,249.8,2,2.0969,2,2.09646,2,33.4735,2,33.4797,2,193.68,2,193.78,2,73.2,2,0.28,33.14,2,0.13,0.12,2,0.01,2.544,2,0.016,3.828,2,1.989,2,0.278,2,-999,9,2233.9,2,2276,2,7.4788,25,2,-999,9,-999,-999,9,-999,-999,9,-999,-999,9,-999,2.0837,26.7423
49NZ20070724,   P01,2,1,30, X12008,9,20070726,1120,42.8893,145.5183,354,-999,9,-999,9,-999,9,-999,9,-999,9,-999,9,-999,9,-999,9,-999,-999,9,-999,-999,9,-999,-999,9,-999,-999,9,-999,9,-999,9,-999,9,-999,9,-999,9,-999,-999,9,-999,9,-999,-999,9,-999,-999,9,-999,-999,9,-999,-999,-999
49NZ20070724,   P01,2,1,29, X12035,9,20070726,1120,42.8893,145.5183,354,-999,9,-999,9,-999,9,-999,9,-999,9,-999,9,-999,9,-999,9,-999,-999,9,-999,-999,9,-999,-999,9,-999,-999,9,-999,9,-999,9,-999,9,-999,9,-999,9,-999,-999,9,-999,9,-999,-999,9,-999,-999,9,-999,-999,9,-999,-999,-999
49NZ20070724,   P01,2,1,28, X12034,9,20070726,1120,42.8893,145.5183,354,-999,9,-999,9,-999,9,-999,9,-999,9,-999,9,-999,9,-999,9,-999,-999,9,-999,-999,9,-999,-999,9,-999,-999,9,-999,9,-999,9,-999,9,-999,9,-999,9,-999,-999,9,-999,9,-999,-999,9,-999,-999,9,-999,-999,9,-999,-999,-999
49NZ20070724,   P01,2,1,27, X12049,9,20070726,1120,42.8893,145.5183,354,-999,9,-999,9,-999,9,-999,9,-999,9,-999,9,-999,9,-999,9,-999,-999,9,-999,-999,9,-999,-999,9,-999,-999,9,-999,9,-999,9,-999,9,-999,9,-999,9,-999,-999,9,-999,9,-999,-999,9,-999,-999,9,-999,-999,9,-999,-999,-999
49NZ20070724,   P01,2,1,26, X12032,9,20070726,1120,42.8893,145.5183,354,-999,9,-999,9,-999,9,-999,9,-999,9,-999,9,-999,9,-999,9,-999,-999,9,-999,-999,9,-999,-999,9,-999,-999,9,-999,9,-999,9,-999,9,-999,9,-999,9,-999,-999,9,-999,9,-999,-999,9,-999,-999,9,-999,-999,9,-999,-999,-999
49NZ20070724,   P01,2,1,25, X12043,9,20070726,1120,42.8893,145.5183,354,-999,9,-999,9,-999,9,-999,9,-999,9,-999,9,-999,9,-999,9,-999,-999,9,-999,-999,9,-999,-999,9,-999,-999,9,-999,9,-999,9,-999,9,-999,9,-999,9,-999,-999,9,-999,9,-999,-999,9,-999,-999,9,-999,-999,9,-999,-999,-999
49NZ20070724,   P01,2,1,24, X12030,9,20070726,1120,42.8893,145.5183,354,-999,9,-999,9,-999,9,-999,9,-999,9,-999,9,-999,9,-999,9,-999,-999,9,-999,-999,9,-999,-999,9,-999,-999,9,-999,9,-999,9,-999,9,-999,9,-999,9,-999,-999,9,-999,9,-999,-999,9,-999,-999,9,-999,-999,9,-999,-999,-999
49NZ20070724,   P01,2,1,23, X12027,9,20070726,1120,42.8893,145.5183,354,-999,9,-999,9,-999,9,-999,9,-999,9,-999,9,-999,9,-999,9,-999,-999,9,-999,-999,9,-999,-999,9,-999,-999,9,-999,9,-999,9,-999,9,-999,9,-999,9,-999,-999,9,-999,9,-999,-999,9,-999,-999,9,-999,-999,9,-999,-999,-999
49NZ20070724,   P01,2,1,22, X12028,9,20070726,1120,42.8893,145.5183,354,-999,9,-999,9,-999,9,-999,9,-999,9,-999,9,-999,9,-999,9,-999,-999,9,-999,-999,9,-999,-999,9,-999,-999,9,-999,9,-999,9,-999,9,-999,9,-999,9,-999,-999,9,-999,9,-999,-999,9,-999,-999,9,-999,-999,9,-999,-999,-999
49NZ20070724,   P01,2,1,21, X12009,9,20070726,1120,42.8893,145.5183,354,-999,9,-999,9,-999,9,-999,9,-999,9,-999,9,-999,9,-999,9,-999,-999,9,-999,-999,9,-999,-999,9,-999,-999,9,-999,9,-999,9,-999,9,-999,9,-999,9,-999,-999,9,-999,9,-999,-999,9,-999,-999,9,-999,-999,9,-999,-999,-999
49NZ20070724,   P01,2,1,20, X12026,9,20070726,1120,42.8893,145.5183,354,-999,9,-999,9,-999,9,-999,9,-999,9,-999,9,-999,9,-999,9,-999,-999,9,-999,-999,9,-999,-999,9,-999,-999,9,-999,9,-999,9,-999,9,-999,9,-999,9,-999,-999,9,-999,9,-999,-999,9,-999,-999,9,-999,-999,9,-999,-999,-999
49NZ20070724,   P01,2,1,19, X12025,9,20070726,1120,42.8893,145.5183,354,352.9,2,2.3299,2,2.33014,2,33.6123,2,-999,9,154.74,2,-999,9,-999,9,-999,-999,9,-999,-999,9,-999,-999,9,-999,-999,9,-999,9,-999,9,-999,9,-999,9,-999,9,-999,-999,9,-999,9,-999,-999,9,-999,-999,9,-999,-999,9,-999,2.3102,26.8356
49NZ20070724,   P01,2,1,18, X12024,9,20070726,1120,42.8893,145.5183,354,9.7,2,9.7924,2,9.74202,2,32.7937,2,-999,9,313.97,2,-999,9,-999,9,-999,-999,9,-999,-999,9,-999,-999,9,-999,-999,9,-999,9,-999,9,-999,9,-999,9,-999,9,-999,-999,9,-999,9,-999,-999,9,-999,-999,9,-999,-999,9,-999,9.7913,25.264
49NZ20070724,   P01,2,1,17, X12023,9,20070726,1120,42.8893,145.5183,354,49.4,2,2.82,2,2.82354,2,33.0385,2,-999,9,320.91,2,-999,9,-999,9,-999,-999,9,-999,-999,9,-999,-999,9,-999,-999,9,-999,9,-999,9,-999,9,-999,9,-999,9,-999,-999,9,-999,9,-999,-999,9,-999,-999,9,-999,-999,9,-999,2.8172,26.3352
49NZ20070724,   P01,2,1,16, X12022,9,20070726,1120,42.8893,145.5183,354,100,2,1.7534,2,1.75327,2,33.1855,2,-999,9,281.72,2,-999,9,-999,9,-999,-999,9,-999,-999,9,-999,-999,9,-999,-999,9,-999,9,-999,9,-999,9,-999,9,-999,9,-999,-999,9,-999,9,-999,-999,9,-999,-999,9,-999,-999,9,-999,1.7486,26.5365
49NZ20070724,   P01,2,1,15, X12021,9,20070726,1120,42.8893,145.5183,354,149.7,2,1.9109,2,1.91057,2,33.3146,2,-999,9,244.29,2,-999,9,-999,9,-999,-999,9,-999,-999,9,-999,-999,9,-999,-999,9,-999,9,-999,9,-999,9,-999,9,-999,9,-999,-999,9,-999,9,-999,-999,9,-999,-999,9,-999,-999,9,-999,1.9034,26.6287
49NZ20070724,   P01,2,1,14, X12020,9,20070726,1120,42.8893,145.5183,354,199.5,2,1.9832,2,1.98447,2,33.4132,2,-999,9,211.46,2,-999,9,-999,9,-999,-999,9,-999,-999,9,-999,-999,9,-999,-999,9,-999,9,-999,9,-999,9,-999,9,-999,9,-999,-999,9,-999,9,-999,-999,9,-999,-999,9,-999,-999,9,-999,1.973,26.7024
49NZ20070724,   P01,2,1,13, X12019,9,20070726,1120,42.8893,145.5183,354,249.9,2,2.0952,2,2.09507,2,33.4724,2,-999,9,194.36,2,-999,9,-999,9,-999,-999,9,-999,-999,9,-999,-999,9,-999,-999,9,-999,9,-999,9,-999,9,-999,9,-999,9,-999,-999,9,-999,9,-999,-999,9,-999,-999,9,-999,-999,9,-999,2.082,26.7416
49NZ20070724,   P01,2,1,12, X12040,9,20070726,1120,42.8893,145.5183,354,-999,9,-999,9,-999,9,-999,9,-999,9,-999,9,-999,9,-999,9,-999,-999,9,-999,-999,9,-999,-999,9,-999,-999,9,-999,9,-999,9,-999,9,-999,9,-999,9,-999,-999,9,-999,9,-999,-999,9,-999,-999,9,-999,-999,9,-999,-999,-999
49NZ20070724,   P01,2,1,11, X12047,9,20070726,1120,42.8893,145.5183,354,-999,9,-999,9,-999,9,-999,9,-999,9,-999,9,-999,9,-999,9,-999,-999,9,-999,-999,9,-999,-999,9,-999,-999,9,-999,9,-999,9,-999,9,-999,9,-999,9,-999,-999,9,-999,9,-999,-999,9,-999,-999,9,-999,-999,9,-999,-999,-999
49NZ20070724,   P01,2,1,10, X12010,9,20070726,1120,42.8893,145.5183,354,-999,9,-999,9,-999,9,-999,9,-999,9,-999,9,-999,9,-999,9,-999,-999,9,-999,-999,9,-999,-999,9,-999,-999,9,-999,9,-999,9,-999,9,-999,9,-999,9,-999,-999,9,-999,9,-999,-999,9,-999,-999,9,-999,-999,9,-999,-999,-999
49NZ20070724,   P01,2,1,9, X12015,9,20070726,1120,42.8893,145.5183,354,-999,9,-999,9,-999,9,-999,9,-999,9,-999,9,-999,9,-999,9,-999,-999,9,-999,-999,9,-999,-999,9,-999,-999,9,-999,9,-999,9,-999,9,-999,9,-999,9,-999,-999,9,-999,9,-999,-999,9,-999,-999,9,-999,-999,9,-999,-999,-999
49NZ20070724,   P01,2,1,8, X12046,9,20070726,1120,42.8893,145.5183,354,-999,9,-999,9,-999,9,-999,9,-999,9,-999,9,-999,9,-999,9,-999,-999,9,-999,-999,9,-999,-999,9,-999,-999,9,-999,9,-999,9,-999,9,-999,9,-999,9,-999,-999,9,-999,9,-999,-999,9,-999,-999,9,-999,-999,9,-999,-999,-999
49NZ20070724,   P01,2,1,7, X12044,9,20070726,1120,42.8893,145.5183,354,-999,9,-999,9,-999,9,-999,9,-999,9,-999,9,-999,9,-999,9,-999,-999,9,-999,-999,9,-999,-999,9,-999,-999,9,-999,9,-999,9,-999,9,-999,9,-999,9,-999,-999,9,-999,9,-999,-999,9,-999,-999,9,-999,-999,9,-999,-999,-999
49NZ20070724,   P01,2,1,6, X12048,9,20070726,1120,42.8893,145.5183,354,-999,9,-999,9,-999,9,-999,9,-999,9,-999,9,-999,9,-999,9,-999,-999,9,-999,-999,9,-999,-999,9,-999,-999,9,-999,9,-999,9,-999,9,-999,9,-999,9,-999,-999,9,-999,9,-999,-999,9,-999,-999,9,-999,-999,9,-999,-999,-999
49NZ20070724,   P01,2,1,5, X12017,9,20070726,1120,42.8893,145.5183,354,-999,9,-999,9,-999,9,-999,9,-999,9,-999,9,-999,9,-999,9,-999,-999,9,-999,-999,9,-999,-999,9,-999,-999,9,-999,9,-999,9,-999,9,-999,9,-999,9,-999,-999,9,-999,9,-999,-999,9,-999,-999,9,-999,-999,9,-999,-999,-999
49NZ20070724,   P01,2,1,4, X12928,9,20070726,1120,42.8893,145.5183,354,-999,9,-999,9,-999,9,-999,9,-999,9,-999,9,-999,9,-999,9,-999,-999,9,-999,-999,9,-999,-999,9,-999,-999,9,-999,9,-999,9,-999,9,-999,9,-999,9,-999,-999,9,-999,9,-999,-999,9,-999,-999,9,-999,-999,9,-999,-999,-999
49NZ20070724,   P01,2,1,3, X12931,9,20070726,1120,42.8893,145.5183,354,-999,9,-999,9,-999,9,-999,9,-999,9,-999,9,-999,9,-999,9,-999,-999,9,-999,-999,9,-999,-999,9,-999,-999,9,-999,9,-999,9,-999,9,-999,9,-999,9,-999,-999,9,-999,9,-999,-999,9,-999,-999,9,-999,-999,9,-999,-999,-999
49NZ20070724,   P01,2,1,2, X12930,9,20070726,1120,42.8893,145.5183,354,-999,9,-999,9,-999,9,-999,9,-999,9,-999,9,-999,9,-999,9,-999,-999,9,-999,-999,9,-999,-999,9,-999,-999,9,-999,9,-999,9,-999,9,-999,9,-999,9,-999,-999,9,-999,9,-999,-999,9,-999,-999,9,-999,-999,9,-999,-999,-999
49NZ20070724,   P01,2,1,1, X12929,2,20070726,1120,42.8893,145.5183,354,352.6,2,2.3403,2,2.33805,2,33.6148,2,33.6139,6,154,2,154.38,2,83.26,2,0.3,35.65,2,0.13,0.06,2,0.01,2.694,2,0.017,3.304,2,1.694,2,0.236,2,-999,9,2264.6,2,2288.3,2,7.4253,25,2,-999,9,-999,-999,9,-999,-999,9,-999,-999,9,-999,2.3206,26.8368