BOTTLE,20081214JAMSTECIORGC,,,,,,,,,,,,,,,,,,,,,,,,,,,,,,,,,,,,,,,,,,,,,,,,,,,,,,,,,,,,,,,,,
EXPOCODE,SECT,STNNBR,CASTNO,SAMPNO,BTLNBR,BTLNBR_FLAG_W,DATE,TIME,LATITUDE,LONGITUDE,DEPTH,CTDPRS,CTDPRS_FLAG_W,CTDTMP,CTDTMP_FLAG_W,SBE35,SBE35_FLAG_W,CTDSAL,CTDSAL_FLAG_W,SALNTY,SALNTY_FLAG_W,CTDOXY,CTDOXY_FLAG_W,OXYGEN,OXYGEN_FLAG_W,SILCAT,SILCAT_FLAG_W,SILUNC,NITRAT,NITRAT_FLAG_W,NRAUNC,NITRIT,NITRIT_FLAG_W,NRIUNC,PHSPHT,PHSPHT_FLAG_W,PHPUNC,CFC-11,CFC-11_FLAG_W,CFC-12,CFC-12_FLAG_W,CFC113,CFC113_FLAG_W,CCL4,CCL4_FLAG_W,TCARBN,TCARBN_FLAG_W,ALKALI,ALKALI_FLAG_W,PH_TOT,PH_TMP,PH_FLAG_W,DELC13,DELC13_FLAG_W,C13ERR,DELC14,DELC14_FLAG_W,C14ERR,CS-137,CS-137_FLAG_W,CS137ER,PLUTO,PLUTO_FLAG_W,PLUTOER,THETA,SIG0
,,,,,,,,UTC,DEG,DEG,M,DBAR,,ITS-90,,ITS-90,,PSS-78,,PSS-78,,UMOL/KG,,UMOL/KG,,UMOL/KG,,UMOL/KG,UMOL/KG,,UMOL/KG,UMOL/KG,,UMOL/KG,UMOL/KG,,UMOL/KG,PMOL/KG,,PMOL/KG,,PMOL/KG,,PMOL/KG,,UMOL/KG,,UMOL/KG,,,ITS-90,,/MILLE,,/MILLE,/MILLE,,/MILLE,BQ/CUM,,BQ/CUM,MBQ/CUM,,MBQ/CUM,DEG C,KG/CUM
49NZ20070724,   P01,91,1,0,-999,9,20070824,146,46.9982,-146.9277,4913,-999,9,-999,9,-999,9,-999,9,32.4638,2,-999,9,-999,9,-999,9,-999,-999,9,-999,-999,9,-999,-999,9,-999,-999,9,-999,9,-999,9,-999,9,-999,9,-999,9,-999,-999,9,-999,9,-999,-999,9,-999,-999,9,-999,-999,9,-999,-999,-999
49NZ20070724,   P01,91,1,36, X12042,2,20070824,146,46.9982,-146.9277,4913,9.5,2,13.7887,2,13.79274,2,32.4768,2,32.471,2,276.8,2,276.48,2,10.24,2,0.14,8.04,2,0.06,0.11,2,0.01,0.937,2,0.013,3.241,2,1.824,2,0.327,2,-999,9,1996.4,2,2193.9,2,7.9017,25,2,-999,9,-999,-999,9,-999,-999,9,-999,-999,9,-999,13.7874,24.2814
49NZ20070724,   P01,91,1,35, X12041,2,20070824,146,46.9982,-146.9277,4913,49.6,2,7.291,2,7.29521,2,32.7094,2,32.713,2,310.1,2,310.77,2,16.92,2,0.16,11.63,2,0.07,0.12,2,0.01,1.208,2,0.013,4.414,2,2.425,2,0.43,2,-999,9,2043.4,6,2203.8,2,7.8165,25,2,-999,9,-999,-999,9,-999,-999,9,-999,-999,9,-999,7.2865,25.5759
49NZ20070724,   P01,91,1,34, X12036,2,20070824,146,46.9982,-146.9277,4913,99.4,2,5.8099,2,5.80932,2,32.8859,2,33.0055,2,291.94,2,285.68,2,21.62,2,0.17,16.07,2,0.08,0.02,2,0.01,1.387,2,0.014,4.506,2,2.465,2,0.408,2,-999,9,2078.1,2,2215.2,6,7.7556,25,2,-999,9,-999,-999,9,-999,-999,9,-999,-999,9,-999,5.8019,25.9064
49NZ20070724,   P01,91,1,33, X12033,2,20070824,146,46.9982,-146.9277,4913,149.3,2,6.0489,2,6.0487,2,33.7417,2,33.7462,2,225.17,2,225.95,2,33.62,2,0.19,22.19,2,0.09,0.02,2,0.01,1.662,2,0.014,3.998,6,2.14,6,0.29,6,-999,9,2151.1,2,2256,2,7.6644,25,6,-999,9,-999,-999,9,-999,-999,9,-999,-999,9,-999,6.0364,26.5538
49NZ20070724,   P01,91,1,32, X12038,2,20070824,146,46.9982,-146.9277,4913,199.2,2,5.7846,2,5.78477,2,33.8381,2,33.8359,2,181.78,2,180.6,2,46.03,2,0.22,26.91,2,0.11,0.01,2,0.01,1.973,2,0.015,3.499,2,1.823,2,0.243,2,-999,9,2190.2,2,2267.3,2,7.5899,25,2,-999,9,-999,-999,9,-999,-999,9,-999,-999,9,-999,5.7682,26.6633
49NZ20070724,   P01,91,1,31, X12003,2,20070824,146,46.9982,-146.9277,4913,250.8,2,5.1167,2,5.11699,2,33.8458,2,33.8449,6,140.85,2,140.63,2,58.33,2,0.25,31.61,2,0.12,0.02,2,0.01,2.301,2,0.016,3.105,2,1.586,2,0.205,2,-999,9,2228.3,2,2275.4,2,7.5009,25,2,-999,9,-999,-999,9,-999,-999,9,-999,-999,9,-999,5.0972,26.7491
49NZ20070724,   P01,91,1,30, X12008,2,20070824,146,46.9982,-146.9277,4913,279.5,2,4.8342,2,4.83403,2,33.8653,2,33.8694,2,118.58,2,117.57,2,65.5,2,0.26,34.25,2,0.13,0.02,2,0.01,2.47,2,0.016,2.807,2,1.407,2,0.179,2,-999,9,2250.8,2,2281.3,2,7.4558,25,2,-999,9,-999,-999,9,-999,-999,9,-999,-999,9,-999,4.813,26.7967
49NZ20070724,   P01,91,1,29, X12035,2,20070824,146,46.9982,-146.9277,4913,370,2,4.6182,2,4.61806,2,33.9859,2,33.9874,2,77.5,2,77.36,2,80.25,2,0.3,38.14,2,0.14,0.02,2,0.01,2.729,2,0.017,1.91,2,0.932,2,0.123,2,-999,9,2285.3,2,2298.5,2,7.3984,25,2,-999,9,-999,-999,9,-999,-999,9,-999,-999,9,-999,4.5905,26.917
49NZ20070724,   P01,91,1,28, X12034,2,20070824,146,46.9982,-146.9277,4913,470.6,2,4.254,2,4.2541,2,34.0744,2,34.0742,6,50.78,2,50.93,2,94.49,2,0.33,40.9,2,0.15,0.01,2,0.01,2.917,2,0.017,1.278,2,0.605,2,0.081,2,-999,9,2313.9,2,2314.1,2,7.3573,25,2,-999,9,-999,-999,9,-999,-999,9,-999,-999,9,-999,4.2197,27.0271
49NZ20070724,   P01,91,1,27, X12049,2,20070824,146,46.9982,-146.9277,4913,569.2,2,3.9058,2,3.9061,2,34.139,2,34.1394,2,34.93,2,35.26,2,106.47,2,0.35,42.49,2,0.15,0.02,2,0.01,3.027,2,0.018,0.839,2,0.391,2,0.048,2,-999,9,2336.7,2,2327.8,2,7.3342,25,2,-999,9,-999,-999,9,-999,-999,9,-999,-999,9,-999,3.8654,27.1149
49NZ20070724,   P01,91,1,26, X12032,2,20070824,146,46.9982,-146.9277,4913,669.9,2,3.6342,2,3.63394,2,34.1992,2,34.202,2,27.57,2,27.7,2,116.42,2,0.38,43.37,2,0.15,0.01,2,0.01,3.088,2,0.018,0.527,6,0.243,6,0.029,6,-999,9,2350.3,6,2343,2,7.3265,25,2,-999,9,-999,-999,9,-999,-999,9,-999,-999,9,-999,3.5875,27.1905
49NZ20070724,   P01,91,1,25, X12043,2,20070824,146,46.9982,-146.9277,4913,769.1,2,3.4261,2,3.42594,2,34.2611,2,34.2629,2,23.15,2,23.29,2,124.52,2,0.39,43.72,2,0.16,0.01,2,0.01,3.119,2,0.018,0.281,2,0.131,2,0.011,2,-999,9,2361.2,2,2354.8,2,7.3278,25,2,-999,9,-999,-999,9,-999,-999,9,-999,-999,9,-999,3.373,27.2605
49NZ20070724,   P01,91,1,24, X12030,2,20070824,146,46.9982,-146.9277,4913,872.1,2,3.2421,2,3.24227,2,34.3131,2,34.3124,2,18.21,2,18.41,2,131.04,2,0.41,44.01,2,0.16,0.01,2,0.01,3.126,2,0.018,0.122,2,0.058,2,0.006,2,-999,9,2370.4,2,2364.9,2,7.3254,25,3,-999,9,-999,-999,9,-999,-999,9,-999,-999,9,-999,3.1824,27.32
49NZ20070724,   P01,91,1,23, X12027,2,20070824,146,46.9982,-146.9277,4913,969.1,2,3.0482,2,3.04812,2,34.3528,2,34.3534,6,18.04,2,18.07,2,137.77,2,0.42,44.25,2,0.16,0.02,2,0.01,3.153,2,0.018,0.081,2,0.037,2,0.001,2,-999,9,2378.1,2,2372.5,2,7.3304,25,2,-999,9,-999,-999,9,-999,-999,9,-999,-999,9,-999,2.9825,27.37
49NZ20070724,   P01,91,1,22, X12028,2,20070824,146,46.9982,-146.9277,4913,1130.7,2,2.7878,2,2.78774,2,34.407,2,34.4072,2,14.47,2,14.44,2,147.15,2,0.44,44.83,2,0.16,0.01,2,0.01,3.175,2,0.018,0.021,2,0.011,2,0,2,-999,9,2389.6,2,2384.1,2,7.328,25,2,-999,9,-999,-999,9,-999,-999,9,-999,-999,9,-999,2.7119,27.4375
49NZ20070724,   P01,91,1,21, X12009,2,20070824,146,46.9982,-146.9277,4913,1330.1,2,2.5101,2,2.51008,2,34.4659,2,34.466,2,15.56,2,15.27,2,156.78,2,0.46,45.02,2,0.16,0.02,2,0.01,3.178,2,0.018,0.001,2,0.001,2,0,2,-999,9,2400.4,2,2395.6,2,7.3347,25,2,-999,9,-999,-999,9,-999,-999,9,-999,-999,9,-999,2.4215,27.5094
49NZ20070724,   P01,91,1,20, X12026,2,20070824,146,46.9982,-146.9277,4913,1528.9,2,2.3015,2,2.30148,2,34.5108,2,34.5109,2,21.61,2,21.26,2,163.14,2,0.48,44.68,2,0.16,0.01,2,0.01,3.144,2,0.018,0,2,0.001,2,0,2,-999,9,2400.7,2,2403.1,2,7.3469,25,2,-999,9,-999,-999,9,-999,-999,9,-999,-999,9,-999,2.1996,27.5637
49NZ20070724,   P01,91,1,19, X12025,2,20070824,146,46.9982,-146.9277,4913,1731.5,2,2.129,2,2.1289,2,34.5471,2,34.5468,2,33.21,2,32.45,2,166.82,2,0.49,44.03,2,0.16,0.02,2,0.01,3.102,2,0.018,0.001,2,0.001,2,0,2,-999,9,2401,2,2408.7,2,7.3713,25,2,-999,9,-999,-999,9,-999,-999,9,-999,-999,9,-999,2.0131,27.6078
49NZ20070724,   P01,91,1,18, X12024,2,20070824,146,46.9982,-146.9277,4913,1929.8,2,1.985,2,1.985,2,34.5767,2,34.5766,2,46.78,2,46.46,2,169.55,2,0.49,43.2,2,0.15,0.01,2,0.01,3.039,2,0.018,0,2,0,2,0,2,-999,9,2392.9,2,2412.3,2,7.3982,25,2,-999,9,-999,-999,9,-999,-999,9,-999,-999,9,-999,1.8548,27.6438
49NZ20070724,   P01,91,1,17, X12023,2,20070824,146,46.9982,-146.9277,4913,2131.5,2,1.8882,2,1.88822,2,34.5965,2,34.597,2,58.57,2,58.19,2,170.22,2,0.49,42.54,2,0.15,0.01,2,0.01,2.991,2,0.017,0,2,0,2,0,2,-999,9,2387.3,2,2416.1,2,7.4222,25,2,-999,9,-999,-999,9,-999,-999,9,-999,-999,9,-999,1.7425,27.6683
49NZ20070724,   P01,91,1,16, X12022,2,20070824,146,46.9982,-146.9277,4913,2330.3,2,1.7956,2,1.79557,2,34.6146,2,34.6146,6,70.31,2,69.89,2,171.23,2,0.5,41.7,2,0.15,0.01,2,0.01,2.941,2,0.017,-999,9,-999,9,-999,9,-999,9,2381.5,6,2419,2,7.4445,25,2,-999,9,-999,-999,9,-999,-999,9,-999,-999,9,-999,1.6343,27.691
49NZ20070724,   P01,91,1,15, X12021,2,20070824,146,46.9982,-146.9277,4913,2530.5,2,1.715,2,1.71493,2,34.6296,2,34.6295,2,82.51,2,82.09,2,170.44,2,0.49,41.01,2,0.15,0.01,2,0.01,2.884,2,0.017,-999,9,-999,9,-999,9,-999,9,2375.4,2,2420.3,6,7.4675,25,2,-999,9,-999,-999,9,-999,-999,9,-999,-999,9,-999,1.5374,27.7101
49NZ20070724,   P01,91,1,14, X12020,2,20070824,146,46.9982,-146.9277,4913,2731.1,2,1.6469,2,1.64696,2,34.6423,2,34.6423,2,93.76,2,93.65,2,169.95,2,0.49,40.29,2,0.15,0.02,2,0.01,2.832,2,0.017,0,2,0,2,0,2,-999,9,2368.8,2,2421.9,2,7.4902,25,6,-999,9,-999,-999,9,-999,-999,9,-999,-999,9,-999,1.4523,27.7266
49NZ20070724,   P01,91,1,13, X12019,2,20070824,146,46.9982,-146.9277,4913,2931.3,2,1.594,2,1.59401,2,34.6526,2,34.6527,2,103.84,2,103.71,2,168.64,2,0.49,39.58,2,0.14,0.01,2,0.01,2.78,2,0.017,-999,9,-999,9,-999,9,-999,9,2362.6,2,2422.3,2,7.5102,25,2,-999,9,-999,-999,9,-999,-999,9,-999,-999,9,-999,1.3818,27.7399
49NZ20070724,   P01,91,1,12, X12040,2,20070824,146,46.9982,-146.9277,4913,3172.3,2,1.5414,2,1.54144,2,34.6631,2,34.6629,2,115.06,2,114.98,2,166.94,2,0.49,38.63,2,0.14,0.01,2,0.01,2.708,2,0.017,-999,9,-999,9,-999,9,-999,9,2356.5,2,2424.2,2,7.5307,25,2,-999,9,-999,-999,9,-999,-999,9,-999,-999,9,-999,1.3071,27.7536
49NZ20070724,   P01,91,1,11, X12047,2,20070824,146,46.9982,-146.9277,4913,3420.2,2,1.5107,2,1.51065,2,34.6704,2,34.6704,2,124.02,2,123.8,2,166.09,2,0.48,38.21,2,0.14,0.02,2,0.01,2.677,2,0.017,0,2,0.001,2,0,2,-999,9,2351.6,2,2425,2,7.5486,25,2,-999,9,-999,-999,9,-999,-999,9,-999,-999,9,-999,1.2525,27.7633
49NZ20070724,   P01,91,1,10, X12010,2,20070824,146,46.9982,-146.9277,4913,3670.2,2,1.4942,2,1.49426,2,34.6763,2,34.6761,6,130.77,2,130.82,2,165.83,2,0.48,37.75,2,0.14,0.01,2,0.01,2.64,2,0.017,-999,9,-999,9,-999,9,-999,9,2348.7,2,2427,2,7.5633,25,2,-999,9,-999,-999,9,-999,-999,9,-999,-999,9,-999,1.2107,27.7709
49NZ20070724,   P01,91,1,9, X12015,2,20070824,146,46.9982,-146.9277,4913,3919,2,1.4932,2,1.49328,2,34.6802,2,34.68,2,135.25,2,135.47,2,165.99,2,0.48,37.48,2,0.14,0.01,2,0.01,2.617,2,0.017,-999,9,-999,9,-999,9,-999,9,2345.3,2,2428,2,7.5733,25,2,-999,9,-999,-999,9,-999,-999,9,-999,-999,9,-999,1.1833,27.776
49NZ20070724,   P01,91,1,8, X12046,2,20070824,146,46.9982,-146.9277,4913,4171,2,1.5053,2,1.50536,2,34.6828,2,34.6828,2,137.44,2,138.26,2,167.96,2,0.49,37.34,2,0.14,0.01,2,0.01,2.606,2,0.016,0.002,2,0.001,2,0,2,-999,9,2345.5,6,2430.8,2,7.58,25,2,-999,9,-999,-999,9,-999,-999,9,-999,-999,9,-999,1.1675,27.7791
49NZ20070724,   P01,91,1,7, X12044,2,20070824,146,46.9982,-146.9277,4913,4419,2,1.5237,2,1.52373,2,34.6843,2,34.6843,2,139.13,2,139.37,2,168.73,2,0.49,37.24,2,0.14,0.02,2,0.01,2.599,2,0.016,-999,9,-999,9,-999,9,-999,9,2344.3,2,2432,6,7.5847,25,2,-999,9,-999,-999,9,-999,-999,9,-999,-999,9,-999,1.1573,27.781
49NZ20070724,   P01,91,1,6, X12048,2,20070824,146,46.9982,-146.9277,4913,4670.4,2,1.5459,2,1.54604,2,34.6854,2,34.6853,2,140.68,2,140.84,2,168.9,2,0.49,37.06,2,0.14,0.01,2,0.01,2.59,2,0.016,-999,9,-999,9,-999,9,-999,9,2341.8,2,2431.4,2,7.5873,25,6,-999,9,-999,-999,9,-999,-999,9,-999,-999,9,-999,1.1496,27.7825
49NZ20070724,   P01,91,1,5, X12017,2,20070824,146,46.9982,-146.9277,4913,4919.9,2,1.5692,2,1.56918,2,34.686,2,34.6854,3,142.3,2,142.22,2,168.38,2,0.49,36.95,2,0.14,0.02,2,0.01,2.581,2,0.016,-999,9,-999,9,-999,9,-999,9,2343.4,2,2431.3,2,7.589,25,2,-999,9,-999,-999,9,-999,-999,9,-999,-999,9,-999,1.1424,27.7834
49NZ20070724,   P01,91,1,4, X12928,9,20070824,146,46.9982,-146.9277,4913,9.1,2,13.7785,2,13.78461,2,32.4782,2,-999,9,276.59,2,-999,9,-999,9,-999,-999,9,-999,-999,9,-999,-999,9,-999,-999,9,-999,9,-999,9,-999,9,-999,9,-999,9,-999,-999,9,-999,9,-999,-999,9,-999,-999,9,-999,-999,9,-999,13.7772,24.2845
49NZ20070724,   P01,91,1,3, X12931,9,20070824,146,46.9982,-146.9277,4913,199.1,2,5.7855,2,5.7856,2,33.8382,2,-999,9,181.78,2,-999,9,-999,9,-999,-999,9,-999,-999,9,-999,-999,9,-999,-999,9,-999,9,-999,9,-999,9,-999,9,-999,9,-999,-999,9,-999,9,-999,-999,9,-999,-999,9,-999,-999,9,-999,5.7691,26.6632
49NZ20070724,   P01,91,1,2, X12930,9,20070824,146,46.9982,-146.9277,4913,251.2,2,5.1112,2,5.11174,2,33.846,2,-999,9,141.33,2,-999,9,-999,9,-999,-999,9,-999,-999,9,-999,-999,9,-999,-999,9,-999,9,-999,9,-999,9,-999,9,-999,9,-999,-999,9,-999,9,-999,-999,9,-999,-999,9,-999,-999,9,-999,5.0917,26.7498
49NZ20070724,   P01,91,1,1, X12929,2,20070824,146,46.9982,-146.9277,4913,4991.9,2,1.5778,2,1.57782,2,34.6863,2,34.6864,2,142.45,2,142.29,2,169.17,2,0.49,37.02,2,0.14,0.01,2,0.01,2.589,2,0.016,0,2,0.002,2,0,2,-999,9,2343.8,2,2430.1,2,7.5898,25,2,-999,9,-999,-999,9,-999,-999,9,-999,-999,9,-999,1.1419,27.7837