BOTTLE,20081214JAMSTECIORGC,,,,,,,,,,,,,,,,,,,,,,,,,,,,,,,,,,,,,,,,,,,,,,,,,,,,,,,,,,,,,,,,,
EXPOCODE,SECT,STNNBR,CASTNO,SAMPNO,BTLNBR,BTLNBR_FLAG_W,DATE,TIME,LATITUDE,LONGITUDE,DEPTH,CTDPRS,CTDPRS_FLAG_W,CTDTMP,CTDTMP_FLAG_W,SBE35,SBE35_FLAG_W,CTDSAL,CTDSAL_FLAG_W,SALNTY,SALNTY_FLAG_W,CTDOXY,CTDOXY_FLAG_W,OXYGEN,OXYGEN_FLAG_W,SILCAT,SILCAT_FLAG_W,SILUNC,NITRAT,NITRAT_FLAG_W,NRAUNC,NITRIT,NITRIT_FLAG_W,NRIUNC,PHSPHT,PHSPHT_FLAG_W,PHPUNC,CFC-11,CFC-11_FLAG_W,CFC-12,CFC-12_FLAG_W,CFC113,CFC113_FLAG_W,CCL4,CCL4_FLAG_W,TCARBN,TCARBN_FLAG_W,ALKALI,ALKALI_FLAG_W,PH_TOT,PH_TMP,PH_FLAG_W,DELC13,DELC13_FLAG_W,C13ERR,DELC14,DELC14_FLAG_W,C14ERR,CS-137,CS-137_FLAG_W,CS137ER,PLUTO,PLUTO_FLAG_W,PLUTOER,THETA,SIG0
,,,,,,,,UTC,DEG,DEG,M,DBAR,,ITS-90,,ITS-90,,PSS-78,,PSS-78,,UMOL/KG,,UMOL/KG,,UMOL/KG,,UMOL/KG,UMOL/KG,,UMOL/KG,UMOL/KG,,UMOL/KG,UMOL/KG,,UMOL/KG,PMOL/KG,,PMOL/KG,,PMOL/KG,,PMOL/KG,,UMOL/KG,,UMOL/KG,,,ITS-90,,/MILLE,,/MILLE,/MILLE,,/MILLE,BQ/CUM,,BQ/CUM,MBQ/CUM,,MBQ/CUM,DEG C,KG/CUM
49NZ20070724,   P01,76,1,0,-999,9,20070819,726,47.0093,-163.7218,5206,-999,9,-999,9,-999,9,-999,9,32.6398,2,-999,9,-999,9,-999,9,-999,-999,9,-999,-999,9,-999,-999,9,-999,-999,9,-999,9,-999,9,-999,9,-999,9,-999,9,-999,-999,9,-999,9,-999,-999,9,-999,-999,1,-999,-999,1,-999,-999,-999
49NZ20070724,   P01,76,1,36, X12042,2,20070819,726,47.0093,-163.7218,5206,9.7,2,14.33,2,14.32883,2,32.6423,2,32.651,2,270.06,2,272.02,2,10.47,2,0.14,8.55,2,0.06,0.15,2,0.01,0.952,2,0.013,3.14,2,1.764,2,0.336,2,-999,9,-999,9,-999,9,-999,-999,9,-999,9,-999,-999,9,-999,-999,9,-999,-999,9,-999,14.3286,24.2974
49NZ20070724,   P01,76,1,35, X12041,2,20070819,726,47.0093,-163.7218,5206,50.4,2,5.4489,2,5.45247,2,33.0403,2,33.084,2,307.22,2,307.45,2,24.79,2,0.17,15.29,2,0.08,0.6,2,0,1.437,2,0.014,4.729,2,2.533,2,0.455,2,-999,9,-999,9,-999,9,-999,-999,9,-999,9,-999,-999,9,-999,-999,9,-999,-999,9,-999,5.445,26.0709
49NZ20070724,   P01,76,1,34, X12036,2,20070819,726,47.0093,-163.7218,5206,100.8,2,6.2982,2,6.298,2,33.3643,2,33.3613,2,293.1,2,295.65,2,22.01,2,0.17,14.58,2,0.07,0.3,2,0.01,1.284,2,0.014,4.476,2,2.418,2,0.431,2,-999,9,-999,9,-999,9,-999,-999,9,-999,9,-999,-999,9,-999,-999,1,-999,-999,9,-999,6.2896,26.2238
49NZ20070724,   P01,76,1,33, X12033,2,20070819,726,47.0093,-163.7218,5206,150.5,2,6.4459,2,6.44849,2,33.5896,2,33.5892,2,276.06,2,276.07,2,24.79,2,0.17,16.67,2,0.08,0.03,2,0.01,1.348,2,0.014,4.253,6,2.294,6,0.371,6,-999,9,-999,9,-999,9,-999,-999,9,-999,9,-999,-999,9,-999,-999,9,-999,-999,9,-999,6.4328,26.3831
49NZ20070724,   P01,76,1,32, X12038,2,20070819,726,47.0093,-163.7218,5206,201,2,5.5333,2,5.53242,2,33.7575,2,33.7605,2,211.18,2,209.55,2,43.61,2,0.21,25.28,2,0.1,0.02,2,0.01,1.902,2,0.015,3.74,2,1.963,2,0.279,2,-999,9,-999,9,-999,9,-999,-999,9,-999,9,-999,-999,9,-999,-999,1,-999,-999,9,-999,5.5171,26.63
49NZ20070724,   P01,76,1,31, X12003,2,20070819,726,47.0093,-163.7218,5206,250.4,2,4.7403,2,4.73975,2,33.7729,2,33.7728,6,166.46,2,168.32,2,56.68,2,0.24,30.14,2,0.12,0.02,2,0.01,2.239,2,0.016,3.377,2,1.74,2,0.252,2,-999,9,-999,9,-999,9,-999,-999,9,-999,9,-999,-999,9,-999,-999,9,-999,-999,9,-999,4.7216,26.7336
49NZ20070724,   P01,76,1,30, X12008,2,20070819,726,47.0093,-163.7218,5206,331.2,2,4.2718,2,4.27168,2,33.8724,2,33.8698,2,107.16,2,107.1,2,75.24,2,0.28,36.32,2,0.13,0.01,2,0.01,2.642,2,0.017,2.588,2,1.298,2,0.166,2,-999,9,-999,9,-999,9,-999,-999,9,-999,9,-999,-999,9,-999,-999,9,-999,-999,9,-999,4.2481,26.8635
49NZ20070724,   P01,76,1,29, X12035,2,20070819,726,47.0093,-163.7218,5206,431.4,2,4.0509,2,4.05118,2,33.9833,2,33.9841,2,62.13,2,62.65,2,90.28,2,0.32,40.36,2,0.15,0.01,2,0.01,2.898,2,0.017,1.806,2,0.878,2,0.112,2,-999,9,-999,9,-999,9,-999,-999,9,-999,9,-999,-999,9,-999,-999,1,-999,-999,9,-999,4.0203,26.9753
49NZ20070724,   P01,76,1,28, X12034,2,20070819,726,47.0093,-163.7218,5206,531,2,3.8821,2,3.882,2,34.0996,2,34.1009,6,41.12,2,41.08,2,104.09,2,0.35,42.1,2,0.15,0.01,2,0.01,3.011,2,0.017,1.135,2,0.543,2,0.067,2,-999,9,-999,9,-999,9,-999,-999,9,-999,9,-999,-999,9,-999,-999,9,-999,-999,9,-999,3.8447,27.0857
49NZ20070724,   P01,76,1,27, X12049,2,20070819,726,47.0093,-163.7218,5206,631.6,2,3.661,2,3.66094,2,34.1847,2,34.1843,2,31.97,2,32.2,2,114.3,2,0.37,42.74,2,0.15,0.01,2,0.01,3.059,2,0.018,0.717,2,0.34,2,0.045,2,-999,9,-999,9,-999,9,-999,-999,9,-999,9,-999,-999,9,-999,-999,1,-999,-999,9,-999,3.617,27.176
49NZ20070724,   P01,76,1,26, X12032,2,20070819,726,47.0093,-163.7218,5206,730.2,2,3.4344,2,3.43457,2,34.2527,2,34.2533,2,27.53,2,27.55,2,123.89,2,0.39,43.38,2,0.15,0.02,2,0.01,3.098,2,0.018,0.444,6,0.207,6,0.023,6,-999,9,-999,9,-999,9,-999,-999,9,-999,9,-999,-999,9,-999,-999,9,-999,-999,9,-999,3.3842,27.2528
49NZ20070724,   P01,76,1,25, X12043,2,20070819,726,47.0093,-163.7218,5206,831.8,2,3.2465,2,3.24652,2,34.3009,2,34.3012,2,25.65,2,26.06,2,130,2,0.4,43.5,2,0.15,0.01,2,0.01,3.112,2,0.018,0.288,2,0.136,2,0.021,2,-999,9,-999,9,-999,9,-999,-999,9,-999,9,-999,-999,9,-999,-999,1,-999,-999,9,-999,3.1898,27.3095
49NZ20070724,   P01,76,1,24, X12030,2,20070819,726,47.0093,-163.7218,5206,931.4,2,3.0504,2,3.0505,2,34.3467,2,34.3469,2,24.88,2,25.03,2,136.8,2,0.42,43.67,2,0.16,0.01,2,0.01,3.12,2,0.018,0.186,2,0.086,2,0.01,2,-999,9,-999,9,-999,9,-999,-999,9,-999,9,-999,-999,9,-999,-999,9,-999,-999,9,-999,2.9875,27.3647
49NZ20070724,   P01,76,1,23, X12027,2,20070819,726,47.0093,-163.7218,5206,1071.5,2,2.8221,2,2.82212,2,34.3946,2,34.3942,6,24.67,2,24.82,2,144.31,2,0.44,43.67,2,0.16,0.01,2,0.01,3.133,2,0.018,0.112,2,0.055,2,0.007,2,-999,9,-999,9,-999,9,-999,-999,9,-999,9,-999,-999,9,-999,-999,1,-999,-999,9,-999,2.7504,27.4241
49NZ20070724,   P01,76,1,22, X12028,2,20070819,726,47.0093,-163.7218,5206,1272.5,2,2.5507,2,2.55085,2,34.4521,2,34.4517,2,26.8,2,26.99,2,153.01,2,0.46,44.01,2,0.16,0.01,2,0.01,3.131,2,0.018,0.058,3,0.028,3,0.013,3,-999,9,-999,9,-999,9,-999,-999,9,-999,9,-999,-999,9,-999,-999,9,-999,-999,9,-999,2.4661,27.4946
49NZ20070724,   P01,76,1,21, X12009,2,20070819,726,47.0093,-163.7218,5206,1472.3,2,2.3502,2,2.35017,2,34.4969,2,34.4963,2,29.59,2,29.85,2,159.34,2,0.47,44.02,2,0.16,0.01,2,0.01,3.119,2,0.018,0.023,2,0.012,2,0.005,2,-999,9,-999,9,-999,9,-999,-999,9,-999,9,-999,-999,9,-999,-999,9,-999,-999,9,-999,2.2522,27.5483
49NZ20070724,   P01,76,1,20, X12026,2,20070819,726,47.0093,-163.7218,5206,1670.7,2,2.1938,2,2.19352,2,34.5332,2,34.5334,2,33.87,2,34.17,2,163.78,2,0.48,43.86,2,0.16,0.01,2,0.01,3.097,2,0.018,0.008,2,0.005,2,0.005,2,-999,9,-999,9,-999,9,-999,-999,9,-999,9,-999,-999,9,-999,-999,9,-999,-999,9,-999,2.0819,27.5912
49NZ20070724,   P01,76,1,19, X12025,2,20070819,726,47.0093,-163.7218,5206,1870.3,2,2.0481,2,2.04799,2,34.566,2,34.5659,2,43.38,2,43.22,2,167.3,2,0.49,43.4,2,0.15,0.01,2,0.01,3.057,2,0.018,-999,5,-999,5,-999,5,-999,9,-999,9,-999,9,-999,-999,9,-999,9,-999,-999,9,-999,-999,1,-999,-999,9,-999,1.9219,27.6301
49NZ20070724,   P01,76,1,18, X12024,2,20070819,726,47.0093,-163.7218,5206,2071.2,2,1.9223,2,1.92198,2,34.591,2,34.5912,2,58.57,2,58.47,2,168.33,2,0.49,42.42,2,0.15,0.01,2,0.01,2.988,2,0.017,0.017,3,0.009,3,0.007,3,-999,9,-999,9,-999,9,-999,-999,9,-999,9,-999,-999,9,-999,-999,1,-999,-999,9,-999,1.7812,27.661
49NZ20070724,   P01,76,1,17, X12023,2,20070819,726,47.0093,-163.7218,5206,2270,2,1.826,2,1.82576,2,34.6101,2,34.6105,2,70.5,2,70.45,2,168.93,2,0.49,41.58,2,0.15,0.01,2,0.01,2.933,2,0.017,-999,9,-999,9,-999,9,-999,9,-999,9,-999,9,-999,-999,9,-999,9,-999,-999,9,-999,-999,1,-999,-999,9,-999,1.6694,27.6848
49NZ20070724,   P01,76,1,16, X12022,2,20070819,726,47.0093,-163.7218,5206,2471.5,2,1.7427,2,1.74274,2,34.6256,2,34.6258,2,82.96,2,82.97,2,167.42,2,0.49,40.81,2,0.15,0.01,2,0.01,2.877,2,0.017,-999,9,-999,9,-999,9,-999,9,-999,9,-999,9,-999,-999,9,-999,9,-999,-999,9,-999,-999,9,-999,-999,9,-999,1.5699,27.7046
49NZ20070724,   P01,76,1,15, X12021,2,20070819,726,47.0093,-163.7218,5206,2671.1,2,1.6758,2,1.67585,2,34.6382,2,34.6382,6,93.57,2,93.63,2,166.89,2,0.49,40.16,2,0.15,0.01,2,0.01,2.825,2,0.017,-999,9,-999,9,-999,9,-999,9,-999,9,-999,9,-999,-999,9,-999,9,-999,-999,9,-999,-999,9,-999,-999,9,-999,1.4862,27.7209
49NZ20070724,   P01,76,1,14, X12020,2,20070819,726,47.0093,-163.7218,5206,2871.2,2,1.6222,2,1.62217,2,34.6483,2,34.6485,2,103.38,2,103.56,2,165.43,2,0.48,39.47,2,0.14,0.01,2,0.01,2.776,2,0.017,-999,9,-999,9,-999,9,-999,9,-999,9,-999,9,-999,-999,9,-999,9,-999,-999,9,-999,-999,9,-999,-999,9,-999,1.4151,27.734
49NZ20070724,   P01,76,1,13, X12019,2,20070819,726,47.0093,-163.7218,5206,3081.1,2,1.571,2,1.57097,2,34.6579,2,34.6578,2,113.68,2,113.97,2,163.59,2,0.48,38.83,2,0.14,0.01,2,0.01,2.729,2,0.017,-999,9,-999,9,-999,9,-999,9,-999,9,-999,9,-999,-999,9,-999,9,-999,-999,9,-999,-999,1,-999,-999,9,-999,1.3449,27.7468
49NZ20070724,   P01,76,1,12, X12040,2,20070819,726,47.0093,-163.7218,5206,3331.1,2,1.5274,2,1.52748,2,34.6667,2,34.6668,2,123.94,2,124.11,2,160.58,2,0.47,38.02,2,0.14,0.01,2,0.01,2.667,2,0.017,-999,9,-999,9,-999,9,-999,9,-999,9,-999,9,-999,-999,9,-999,9,-999,-999,9,-999,-999,9,-999,-999,9,-999,1.2777,27.7586
49NZ20070724,   P01,76,1,11, X12047,2,20070819,726,47.0093,-163.7218,5206,3581.2,2,1.5008,2,1.50088,2,34.6733,2,34.6735,2,131.73,2,132.25,2,159.59,2,0.47,37.63,2,0.14,0.01,2,0.01,2.633,2,0.017,-999,9,-999,9,-999,9,-999,9,-999,9,-999,9,-999,-999,9,-999,9,-999,-999,9,-999,-999,9,-999,-999,9,-999,1.2264,27.7674
49NZ20070724,   P01,76,1,10, X12010,2,20070819,726,47.0093,-163.7218,5206,3832.3,2,1.4824,2,1.48239,2,34.6787,2,34.6788,2,138.08,2,138.73,2,159.12,2,0.47,37.21,2,0.14,0.01,2,0.01,2.608,2,0.016,-999,9,-999,9,-999,9,-999,9,-999,9,-999,9,-999,-999,9,-999,9,-999,-999,9,-999,-999,9,-999,-999,9,-999,1.1821,27.7749
49NZ20070724,   P01,76,1,9, X12015,2,20070819,726,47.0093,-163.7218,5206,4080.5,2,1.481,2,1.48104,2,34.6824,2,34.6823,2,142.01,2,142.86,2,159.29,2,0.47,36.92,2,0.14,0.01,2,0.01,2.583,2,0.016,-999,9,-999,9,-999,9,-999,9,-999,9,-999,9,-999,-999,9,-999,9,-999,-999,9,-999,-999,1,-999,-999,9,-999,1.1539,27.7798
49NZ20070724,   P01,76,1,8, X12046,2,20070819,726,47.0093,-163.7218,5206,4330.8,2,1.4909,2,1.49096,2,34.6849,2,34.6848,6,144.89,2,145.67,2,160,2,0.47,36.78,2,0.14,0,2,0.01,2.571,2,0.016,-999,9,-999,9,-999,9,-999,9,-999,9,-999,9,-999,-999,9,-999,9,-999,-999,9,-999,-999,9,-999,-999,9,-999,1.1355,27.783
49NZ20070724,   P01,76,1,7, X12044,2,20070819,726,47.0093,-163.7218,5206,4582.1,2,1.5091,2,1.5091,2,34.6864,2,34.6866,2,146.33,2,147.23,2,160.42,2,0.47,36.69,2,0.14,0.01,2,0.01,2.556,2,0.016,-999,9,-999,9,-999,9,-999,9,-999,9,-999,9,-999,-999,9,-999,9,-999,-999,9,-999,-999,9,-999,-999,9,-999,1.1243,27.785
49NZ20070724,   P01,76,1,6, X12048,2,20070819,726,47.0093,-163.7218,5206,4830.4,2,1.5306,2,1.53067,2,34.6873,2,34.6877,2,147.92,2,148.76,2,160.88,2,0.47,36.58,2,0.14,0.01,2,0.01,2.549,2,0.016,-999,9,-999,9,-999,9,-999,9,-999,9,-999,9,-999,-999,9,-999,9,-999,-999,9,-999,-999,9,-999,-999,9,-999,1.1158,27.7863
49NZ20070724,   P01,76,1,5, X12017,2,20070819,726,47.0093,-163.7218,5206,5079.5,2,1.5551,2,1.55511,2,34.6882,2,34.6884,2,149.37,2,150.09,2,160.4,2,0.47,36.48,2,0.13,0.01,2,0.01,2.54,2,0.016,-999,9,-999,9,-999,9,-999,9,-999,9,-999,9,-999,-999,9,-999,9,-999,-999,9,-999,-999,9,-999,-999,9,-999,1.1093,27.7874
49NZ20070724,   P01,76,1,4, X12928,2,20070819,726,47.0093,-163.7218,5206,3080.8,2,1.571,2,1.57102,2,34.6579,2,-999,9,113.79,2,-999,9,-999,9,-999,-999,9,-999,-999,9,-999,-999,9,-999,-999,9,-999,9,-999,9,-999,9,-999,9,-999,9,-999,-999,9,-999,9,-999,-999,9,-999,-999,1,-999,-999,9,-999,1.345,27.7468
49NZ20070724,   P01,76,1,3, X12931,2,20070819,726,47.0093,-163.7218,5206,4080.7,2,1.481,2,1.48094,2,34.6823,2,-999,9,142.03,2,-999,9,-999,9,-999,-999,9,-999,-999,9,-999,-999,9,-999,-999,9,-999,9,-999,9,-999,9,-999,9,-999,9,-999,-999,9,-999,9,-999,-999,9,-999,-999,1,-999,-999,9,-999,1.1538,27.7797
49NZ20070724,   P01,76,1,2, X12930,2,20070819,726,47.0093,-163.7218,5206,5293.4,2,1.5807,2,1.58065,2,34.6885,2,-999,9,149.97,2,-999,9,-999,9,-999,-999,9,-999,-999,9,-999,-999,9,-999,-999,9,-999,9,-999,9,-999,9,-999,9,-999,9,-999,-999,9,-999,9,-999,-999,9,-999,-999,1,-999,-999,9,-999,1.1074,27.7878
49NZ20070724,   P01,76,1,1, X12929,2,20070819,726,47.0093,-163.7218,5206,5293.5,2,1.5807,2,1.58061,2,34.6885,2,34.6889,6,149.94,2,150.71,2,161.61,2,0.47,36.38,2,0.13,0.02,2,0.01,2.545,2,0.016,-999,9,-999,9,-999,9,-999,9,-999,9,-999,9,-999,-999,9,-999,9,-999,-999,9,-999,-999,1,-999,-999,9,-999,1.1074,27.7878