BOTTLE,20081214JAMSTECIORGC,,,,,,,,,,,,,,,,,,,,,,,,,,,,,,,,,,,,,,,,,,,,,,,,,,,,,,,,,,,,,,,,,
EXPOCODE,SECT,STNNBR,CASTNO,SAMPNO,BTLNBR,BTLNBR_FLAG_W,DATE,TIME,LATITUDE,LONGITUDE,DEPTH,CTDPRS,CTDPRS_FLAG_W,CTDTMP,CTDTMP_FLAG_W,SBE35,SBE35_FLAG_W,CTDSAL,CTDSAL_FLAG_W,SALNTY,SALNTY_FLAG_W,CTDOXY,CTDOXY_FLAG_W,OXYGEN,OXYGEN_FLAG_W,SILCAT,SILCAT_FLAG_W,SILUNC,NITRAT,NITRAT_FLAG_W,NRAUNC,NITRIT,NITRIT_FLAG_W,NRIUNC,PHSPHT,PHSPHT_FLAG_W,PHPUNC,CFC-11,CFC-11_FLAG_W,CFC-12,CFC-12_FLAG_W,CFC113,CFC113_FLAG_W,CCL4,CCL4_FLAG_W,TCARBN,TCARBN_FLAG_W,ALKALI,ALKALI_FLAG_W,PH_TOT,PH_TMP,PH_FLAG_W,DELC13,DELC13_FLAG_W,C13ERR,DELC14,DELC14_FLAG_W,C14ERR,CS-137,CS-137_FLAG_W,CS137ER,PLUTO,PLUTO_FLAG_W,PLUTOER,THETA,SIG0
,,,,,,,,UTC,DEG,DEG,M,DBAR,,ITS-90,,ITS-90,,PSS-78,,PSS-78,,UMOL/KG,,UMOL/KG,,UMOL/KG,,UMOL/KG,UMOL/KG,,UMOL/KG,UMOL/KG,,UMOL/KG,UMOL/KG,,UMOL/KG,PMOL/KG,,PMOL/KG,,PMOL/KG,,PMOL/KG,,UMOL/KG,,UMOL/KG,,,ITS-90,,/MILLE,,/MILLE,/MILLE,,/MILLE,BQ/CUM,,BQ/CUM,MBQ/CUM,,MBQ/CUM,DEG C,KG/CUM
49NZ20070724,   P01,82,1,0,-999,9,20070821,130,47.0068,-157.026,5228,-999,9,-999,9,-999,9,-999,9,32.7487,2,-999,9,-999,9,-999,9,-999,-999,9,-999,-999,9,-999,-999,9,-999,-999,9,-999,9,-999,9,-999,9,-999,9,-999,9,-999,-999,9,-999,9,-999,-999,9,-999,-999,1,-999,-999,1,-999,-999,-999
49NZ20070724,   P01,82,1,36, X12042,2,20070821,130,47.0068,-157.026,5228,9.2,2,12.81,2,12.82732,2,32.7668,2,32.7679,2,291.45,2,291.12,2,9.02,2,0.14,7.9,2,0.05,0.14,2,0.01,0.863,2,0.013,3.507,2,1.977,2,0.332,2,-999,9,-999,9,-999,9,-999,-999,9,-999,9,-999,-999,9,-999,-999,9,-999,-999,9,-999,12.8088,24.7007
49NZ20070724,   P01,82,1,35, X12041,2,20070821,130,47.0068,-157.026,5228,49.5,2,6.3381,2,6.33736,2,32.9523,2,32.9499,2,306.6,2,306.87,2,22.73,2,0.17,14.02,2,0.07,0.19,2,0.01,1.386,2,0.014,4.61,2,2.588,2,0.391,2,-999,9,-999,9,-999,9,-999,-999,9,-999,9,-999,-999,9,-999,-999,9,-999,-999,9,-999,6.3339,25.893
49NZ20070724,   P01,82,1,34, X12036,2,20070821,130,47.0068,-157.026,5228,98.8,2,5.9138,2,5.91252,2,33.1761,2,33.1875,2,299.56,2,299.39,2,23.1,2,0.17,14.68,2,0.07,0.55,2,0,1.31,2,0.014,4.541,2,2.549,2,0.379,2,-999,9,-999,9,-999,9,-999,-999,9,-999,9,-999,-999,9,-999,-999,1,-999,-999,9,-999,5.9057,26.1231
49NZ20070724,   P01,82,1,33, X12033,2,20070821,130,47.0068,-157.026,5228,148.9,2,5.7022,2,5.7007,2,33.5319,2,33.5741,2,256.83,2,253.21,2,32.23,2,0.19,20.79,2,0.09,0.01,2,0.01,1.61,2,0.014,4.199,6,2.316,6,0.298,6,-999,9,-999,9,-999,9,-999,-999,9,-999,9,-999,-999,9,-999,-999,9,-999,-999,9,-999,5.6901,26.4307
49NZ20070724,   P01,82,1,32, X12038,2,20070821,130,47.0068,-157.026,5228,204.2,2,5.2599,2,5.25404,2,33.7648,2,33.7636,2,190.15,2,193.49,2,47.09,2,0.22,26.73,2,0.11,0.01,2,0.01,1.984,2,0.015,3.64,2,1.93,2,0.232,2,-999,9,-999,9,-999,9,-999,-999,9,-999,9,-999,-999,9,-999,-999,1,-999,-999,9,-999,5.2439,26.6679
49NZ20070724,   P01,82,1,31, X12003,2,20070821,130,47.0068,-157.026,5228,249.5,2,4.7555,2,4.75574,2,33.8113,2,33.8149,6,147.59,2,147.39,2,60.77,2,0.25,31.72,2,0.12,0.01,2,0.01,2.322,2,0.016,3.151,2,1.62,2,0.184,2,-999,9,-999,9,-999,9,-999,-999,9,-999,9,-999,-999,9,-999,-999,9,-999,-999,9,-999,4.7369,26.7624
49NZ20070724,   P01,82,1,30, X12008,2,20070821,130,47.0068,-157.026,5228,330,2,4.3921,2,4.39223,2,33.899,2,33.9026,2,102.32,2,101.96,2,75.39,2,0.28,36.31,2,0.13,0.01,2,0.01,2.632,2,0.017,2.445,2,1.218,2,0.142,2,-999,9,-999,9,-999,9,-999,-999,9,-999,9,-999,-999,9,-999,-999,9,-999,-999,9,-999,4.3681,26.872
49NZ20070724,   P01,82,1,29, X12035,2,20070821,130,47.0068,-157.026,5228,429.1,2,4.1781,2,4.17826,2,34.0165,2,34.0208,2,65.11,2,64.65,2,90.54,2,0.32,39.77,2,0.14,0,2,0.01,2.852,2,0.017,1.642,2,0.803,2,0.085,2,-999,9,-999,9,-999,9,-999,-999,9,-999,9,-999,-999,9,-999,-999,1,-999,-999,9,-999,4.1472,26.9886
49NZ20070724,   P01,82,1,28, X12034,2,20070821,130,47.0068,-157.026,5228,532.3,2,3.9713,2,3.97141,2,34.1158,2,34.1147,6,44.04,2,44.62,2,102.38,2,0.34,41.49,2,0.15,0.01,2,0.01,2.967,2,0.017,1.071,2,0.512,2,0.055,2,-999,9,-999,9,-999,9,-999,-999,9,-999,9,-999,-999,9,-999,-999,9,-999,-999,9,-999,3.9334,27.0895
49NZ20070724,   P01,82,1,27, X12049,2,20070821,130,47.0068,-157.026,5228,630.9,2,3.7384,2,3.73874,2,34.1851,2,34.1848,2,32.68,2,33.02,2,112.7,2,0.37,42.59,2,0.15,0,2,0.01,3.039,2,0.018,0.68,2,0.323,2,0.04,2,-999,9,-999,9,-999,9,-999,-999,9,-999,9,-999,-999,9,-999,-999,1,-999,-999,9,-999,3.6941,27.1688
49NZ20070724,   P01,82,1,26, X12032,2,20070821,130,47.0068,-157.026,5228,730.9,2,3.4934,2,3.49314,2,34.2469,2,34.2473,2,28.04,2,28.24,2,121.79,2,0.39,43.17,2,0.15,0.01,2,0.01,3.091,2,0.018,0.435,6,0.2,6,0.022,6,-999,9,-999,9,-999,9,-999,-999,9,-999,9,-999,-999,9,-999,-999,9,-999,-999,9,-999,3.4428,27.2425
49NZ20070724,   P01,82,1,25, X12043,2,20070821,130,47.0068,-157.026,5228,829.9,2,3.2681,2,3.26817,2,34.3023,2,34.3016,2,25.57,2,25.64,2,129.56,2,0.4,43.38,2,0.15,0.01,2,0.01,3.103,2,0.018,0.253,2,0.116,2,0.014,2,-999,9,-999,9,-999,9,-999,-999,9,-999,9,-999,-999,9,-999,-999,1,-999,-999,9,-999,3.2114,27.3086
49NZ20070724,   P01,82,1,24, X12030,2,20070821,130,47.0068,-157.026,5228,930,2,3.0649,2,3.06481,2,34.3402,2,34.3404,2,23.66,2,23.74,2,135.96,2,0.42,43.56,2,0.15,0.01,2,0.01,3.118,2,0.018,0.169,2,0.077,2,0.005,2,-999,9,-999,9,-999,9,-999,-999,9,-999,9,-999,-999,9,-999,-999,9,-999,-999,9,-999,3.0021,27.3582
49NZ20070724,   P01,82,1,23, X12027,2,20070821,130,47.0068,-157.026,5228,1071.6,2,2.8434,2,2.84323,2,34.3961,2,34.3951,6,20.3,2,20.56,2,143.86,2,0.44,44.09,2,0.16,0,2,0.01,3.152,2,0.018,0.057,2,0.027,2,0,2,-999,9,-999,9,-999,9,-999,-999,9,-999,9,-999,-999,9,-999,-999,1,-999,-999,9,-999,2.7715,27.4235
49NZ20070724,   P01,82,1,22, X12028,2,20070821,130,47.0068,-157.026,5228,1270.2,2,2.5769,2,2.57705,2,34.4507,2,34.4504,2,20.4,2,20.28,2,152.94,2,0.46,44.39,2,0.16,0.01,2,0.01,3.15,2,0.018,0.025,2,0.011,2,0,2,-999,9,-999,9,-999,9,-999,-999,9,-999,9,-999,-999,9,-999,-999,9,-999,-999,9,-999,2.4923,27.4913
49NZ20070724,   P01,82,1,21, X12009,2,20070821,130,47.0068,-157.026,5228,1470.8,2,2.3779,2,2.37803,2,34.4935,2,34.4931,2,23.17,2,23.14,2,159.45,2,0.47,44.32,2,0.16,0,2,0.01,3.143,2,0.018,0.005,2,0.004,2,0,2,-999,9,-999,9,-999,9,-999,-999,9,-999,9,-999,-999,9,-999,-999,9,-999,-999,9,-999,2.2797,27.5433
49NZ20070724,   P01,82,1,20, X12026,2,20070821,130,47.0068,-157.026,5228,1671.3,2,2.2093,2,2.20956,2,34.5304,2,34.5301,2,30.65,2,30.59,2,164.17,2,0.48,44.05,2,0.16,0.01,2,0.01,3.104,2,0.018,0.001,2,0,2,0,2,-999,9,-999,9,-999,9,-999,-999,9,-999,9,-999,-999,9,-999,-999,9,-999,-999,9,-999,2.0972,27.5877
49NZ20070724,   P01,82,1,19, X12025,2,20070821,130,47.0068,-157.026,5228,1871,2,2.0599,2,2.06009,2,34.5631,2,34.5628,2,41.47,2,41.2,2,167.37,2,0.49,43.44,2,0.15,0,2,0.01,3.061,2,0.018,0.001,2,0.002,2,0,2,-999,9,-999,9,-999,9,-999,-999,9,-999,9,-999,-999,9,-999,-999,1,-999,-999,9,-999,1.9335,27.6269
49NZ20070724,   P01,82,1,18, X12024,2,20070821,130,47.0068,-157.026,5228,2070.8,2,1.9381,2,1.9383,2,34.5892,2,34.5889,2,52.45,2,51.86,2,169.96,2,0.49,42.8,2,0.15,0,2,0.01,3.014,2,0.017,0.006,2,0.001,2,0,2,-999,9,-999,9,-999,9,-999,-999,9,-999,9,-999,-999,9,-999,-999,1,-999,-999,9,-999,1.7968,27.6583
49NZ20070724,   P01,82,1,17, X12023,2,20070821,130,47.0068,-157.026,5228,2270.9,2,1.8253,2,1.82562,2,34.6112,2,34.6112,2,67.02,2,66.77,2,170.47,2,0.49,41.91,2,0.15,0,2,0.01,2.948,2,0.017,0.002,2,0.002,2,0,2,-999,9,-999,9,-999,9,-999,-999,9,-999,9,-999,-999,9,-999,-999,1,-999,-999,9,-999,1.6687,27.6857
49NZ20070724,   P01,82,1,16, X12022,2,20070821,130,47.0068,-157.026,5228,2471.1,2,1.7427,2,1.74298,2,34.6266,2,34.6268,2,79.89,2,79.51,2,169.06,2,0.49,40.95,2,0.15,0.01,2,0.01,2.889,2,0.017,-999,9,-999,9,-999,9,-999,9,-999,9,-999,9,-999,-999,9,-999,9,-999,-999,9,-999,-999,9,-999,-999,9,-999,1.5699,27.7054
49NZ20070724,   P01,82,1,15, X12021,2,20070821,130,47.0068,-157.026,5228,2670.6,2,1.671,2,1.67119,2,34.6393,2,34.6395,6,92.53,2,92.15,2,167.71,2,0.49,40.21,2,0.15,0,2,0.01,2.834,2,0.017,-999,9,-999,9,-999,9,-999,9,-999,9,-999,9,-999,-999,9,-999,9,-999,-999,9,-999,-999,9,-999,-999,9,-999,1.4815,27.7221
49NZ20070724,   P01,82,1,14, X12020,2,20070821,130,47.0068,-157.026,5228,2870.5,2,1.6188,2,1.61892,2,34.649,2,34.6493,2,102.42,2,102.26,2,166.25,2,0.48,39.48,2,0.14,0,2,0.01,2.776,2,0.017,-999,9,-999,9,-999,9,-999,9,-999,9,-999,9,-999,-999,9,-999,9,-999,-999,9,-999,-999,9,-999,-999,9,-999,1.4118,27.7348
49NZ20070724,   P01,82,1,13, X12019,2,20070821,130,47.0068,-157.026,5228,3080.6,2,1.5753,2,1.57547,2,34.6577,2,34.6575,2,111.74,2,111.59,2,164.75,2,0.48,38.94,2,0.14,0,2,0.01,2.735,2,0.017,-999,9,-999,9,-999,9,-999,9,-999,9,-999,9,-999,-999,9,-999,9,-999,-999,9,-999,-999,1,-999,-999,9,-999,1.3492,27.7463
49NZ20070724,   P01,82,1,12, X12040,2,20070821,130,47.0068,-157.026,5228,3330.6,2,1.5306,2,1.53073,2,34.6665,2,34.6665,2,122.55,2,122.34,2,162.43,2,0.48,38.03,2,0.14,0,2,0.01,2.673,2,0.017,-999,9,-999,9,-999,9,-999,9,-999,9,-999,9,-999,-999,9,-999,9,-999,-999,9,-999,-999,9,-999,-999,9,-999,1.2809,27.7582
49NZ20070724,   P01,82,1,11, X12047,2,20070821,130,47.0068,-157.026,5228,3579.9,2,1.4972,2,1.49751,2,34.6739,2,34.6739,2,131.64,2,131.64,2,160.52,2,0.47,37.57,2,0.14,0,2,0.01,2.628,2,0.017,-999,9,-999,9,-999,9,-999,9,-999,9,-999,9,-999,-999,9,-999,9,-999,-999,9,-999,-999,9,-999,-999,9,-999,1.223,27.7681
49NZ20070724,   P01,82,1,10, X12010,2,20070821,130,47.0068,-157.026,5228,3831.3,2,1.4847,2,1.48493,2,34.6789,2,34.6789,2,137.06,2,137.34,2,160.42,2,0.47,37.19,2,0.14,0,2,0.01,2.594,2,0.016,-999,9,-999,9,-999,9,-999,9,-999,9,-999,9,-999,-999,9,-999,9,-999,-999,9,-999,-999,9,-999,-999,9,-999,1.1844,27.7749
49NZ20070724,   P01,82,1,9, X12015,2,20070821,130,47.0068,-157.026,5228,4080,2,1.4857,2,1.4859,2,34.6823,2,34.6823,2,141.11,2,141.48,2,160.62,2,0.47,36.94,2,0.14,0,2,0.01,2.579,2,0.016,-999,9,-999,9,-999,9,-999,9,-999,9,-999,9,-999,-999,9,-999,9,-999,-999,9,-999,-999,1,-999,-999,9,-999,1.1585,27.7794
49NZ20070724,   P01,82,1,8, X12046,2,20070821,130,47.0068,-157.026,5228,4331.9,2,1.4986,2,1.49886,2,34.6845,2,34.6846,6,143.45,2,143.71,2,161.66,2,0.47,36.82,2,0.14,0,2,0.01,2.568,2,0.016,-999,9,-999,9,-999,9,-999,9,-999,9,-999,9,-999,-999,9,-999,9,-999,-999,9,-999,-999,9,-999,-999,9,-999,1.1429,27.7822
49NZ20070724,   P01,82,1,7, X12044,2,20070821,130,47.0068,-157.026,5228,4580.1,2,1.518,2,1.51818,2,34.6861,2,34.6862,2,144.51,2,144.93,2,163.35,2,0.48,36.8,2,0.14,0,2,0.01,2.559,2,0.016,-999,9,-999,9,-999,9,-999,9,-999,9,-999,9,-999,-999,9,-999,9,-999,-999,9,-999,-999,9,-999,-999,9,-999,1.1332,27.7842
49NZ20070724,   P01,82,1,6, X12048,2,20070821,130,47.0068,-157.026,5228,4830.7,2,1.5408,2,1.54108,2,34.687,2,34.687,2,145.7,2,145.83,2,164,2,0.48,36.72,2,0.14,0,2,0.01,2.548,2,0.016,-999,9,-999,9,-999,9,-999,9,-999,9,-999,9,-999,-999,9,-999,9,-999,-999,9,-999,-999,9,-999,-999,9,-999,1.1257,27.7854
49NZ20070724,   P01,82,1,5, X12017,2,20070821,130,47.0068,-157.026,5228,5079.9,2,1.5675,2,1.56753,2,34.6875,2,34.6875,2,146.59,2,146.54,2,164.46,2,0.48,36.68,2,0.14,0,2,0.01,2.548,2,0.016,-999,9,-999,9,-999,9,-999,9,-999,9,-999,9,-999,-999,9,-999,9,-999,-999,9,-999,-999,9,-999,-999,9,-999,1.1212,27.7861
49NZ20070724,   P01,82,1,4, X12928,2,20070821,130,47.0068,-157.026,5228,3080.9,2,1.5752,2,1.57544,2,34.6577,2,-999,9,111.81,2,-999,9,-999,9,-999,-999,9,-999,-999,9,-999,-999,9,-999,-999,9,-999,9,-999,9,-999,9,-999,9,-999,9,-999,-999,9,-999,9,-999,-999,9,-999,-999,1,-999,-999,9,-999,1.3491,27.7463
49NZ20070724,   P01,82,1,3, X12931,2,20070821,130,47.0068,-157.026,5228,4080,2,1.4858,2,1.486,2,34.6822,2,-999,9,141.13,2,-999,9,-999,9,-999,-999,9,-999,-999,9,-999,-999,9,-999,-999,9,-999,9,-999,9,-999,9,-999,9,-999,9,-999,-999,9,-999,9,-999,-999,9,-999,-999,1,-999,-999,9,-999,1.1586,27.7793
49NZ20070724,   P01,82,1,2, X12930,2,20070821,130,47.0068,-157.026,5228,5321.7,2,1.5966,2,1.5965,2,34.6877,2,-999,9,147.46,2,-999,9,-999,9,-999,-999,9,-999,-999,9,-999,-999,9,-999,-999,9,-999,9,-999,9,-999,9,-999,9,-999,9,-999,-999,9,-999,9,-999,-999,9,-999,-999,1,-999,-999,9,-999,1.1192,27.7864
49NZ20070724,   P01,82,1,1, X12929,2,20070821,130,47.0068,-157.026,5228,5321.4,2,1.5964,2,1.59625,2,34.6877,2,34.6883,6,147.52,2,-999,5,164.9,2,0.48,36.65,2,0.14,0,2,0.01,2.558,2,0.016,-999,9,-999,9,-999,9,-999,9,-999,9,-999,9,-999,-999,9,-999,9,-999,-999,9,-999,-999,1,-999,-999,9,-999,1.119,27.7864