BOTTLE,20081214JAMSTECIORGC,,,,,,,,,,,,,,,,,,,,,,,,,,,,,,,,,,,,,,,,,,,,,,,,,,,,,,,,,,,,,,,,,
EXPOCODE,SECT,STNNBR,CASTNO,SAMPNO,BTLNBR,BTLNBR_FLAG_W,DATE,TIME,LATITUDE,LONGITUDE,DEPTH,CTDPRS,CTDPRS_FLAG_W,CTDTMP,CTDTMP_FLAG_W,SBE35,SBE35_FLAG_W,CTDSAL,CTDSAL_FLAG_W,SALNTY,SALNTY_FLAG_W,CTDOXY,CTDOXY_FLAG_W,OXYGEN,OXYGEN_FLAG_W,SILCAT,SILCAT_FLAG_W,SILUNC,NITRAT,NITRAT_FLAG_W,NRAUNC,NITRIT,NITRIT_FLAG_W,NRIUNC,PHSPHT,PHSPHT_FLAG_W,PHPUNC,CFC-11,CFC-11_FLAG_W,CFC-12,CFC-12_FLAG_W,CFC113,CFC113_FLAG_W,CCL4,CCL4_FLAG_W,TCARBN,TCARBN_FLAG_W,ALKALI,ALKALI_FLAG_W,PH_TOT,PH_TMP,PH_FLAG_W,DELC13,DELC13_FLAG_W,C13ERR,DELC14,DELC14_FLAG_W,C14ERR,CS-137,CS-137_FLAG_W,CS137ER,PLUTO,PLUTO_FLAG_W,PLUTOER,THETA,SIG0
,,,,,,,,UTC,DEG,DEG,M,DBAR,,ITS-90,,ITS-90,,PSS-78,,PSS-78,,UMOL/KG,,UMOL/KG,,UMOL/KG,,UMOL/KG,UMOL/KG,,UMOL/KG,UMOL/KG,,UMOL/KG,UMOL/KG,,UMOL/KG,PMOL/KG,,PMOL/KG,,PMOL/KG,,PMOL/KG,,UMOL/KG,,UMOL/KG,,,ITS-90,,/MILLE,,/MILLE,/MILLE,,/MILLE,BQ/CUM,,BQ/CUM,MBQ/CUM,,MBQ/CUM,DEG C,KG/CUM
49NZ20070724,   P01,113,1,0,-999,9,20070829,110,47.0042,-125.5103,1757,-999,9,-999,9,-999,9,-999,9,31.923,2,-999,9,-999,9,-999,9,-999,-999,9,-999,-999,9,-999,-999,9,-999,-999,9,-999,9,-999,9,-999,9,-999,9,-999,9,-999,-999,9,-999,9,-999,-999,9,-999,-999,9,-999,-999,9,-999,-999,-999
49NZ20070724,   P01,113,1,36, X12042,2,20070829,110,47.0042,-125.5103,1757,9.2,2,18.4003,2,18.40681,2,31.9297,2,32.0418,2,247.14,2,256.28,2,5.02,2,0.13,0.03,2,0.03,0.02,2,0.01,0.35,2,0.014,2.607,2,1.573,2,-999,5,-999,9,1934.9,2,2163,2,7.9769,25,6,-999,9,-999,-999,9,-999,-999,9,-999,-999,9,-999,18.3987,22.8251
49NZ20070724,   P01,113,1,35, X12041,2,20070829,110,47.0042,-125.5103,1757,49.5,2,9.3614,2,9.3583,2,32.3826,2,32.4127,2,289.2,2,290.11,2,7.99,2,0.14,6.31,2,0.05,0.35,2,0,0.888,2,0.013,3.8,2,2.154,2,0.345,2,-999,9,2010.1,6,2176.4,2,7.8356,25,2,-999,9,-999,-999,9,-999,-999,9,-999,-999,9,-999,9.3561,25.0132
49NZ20070724,   P01,113,1,34, X12036,2,20070829,110,47.0042,-125.5103,1757,99.8,2,8.0748,2,8.0699,2,32.9353,2,33.1368,2,213.95,2,194.25,2,23.12,2,0.17,20.96,2,0.09,0.04,2,0.01,1.69,2,0.014,3.695,2,2.038,2,0.277,2,-999,9,2120.7,2,2215.1,6,7.6337,25,2,-999,9,-999,-999,9,-999,-999,9,-999,-999,9,-999,8.065,25.643
49NZ20070724,   P01,113,1,33, X12033,2,20070829,110,47.0042,-125.5103,1757,149.6,2,7.7092,2,7.70749,2,33.7636,2,33.8028,2,118.44,2,116.09,2,36.97,2,0.2,29.83,2,0.12,0.03,2,0.01,2.202,2,0.016,3.197,6,1.688,6,0.209,6,-999,9,2202,2,2252.6,2,7.4917,25,6,-999,9,-999,-999,9,-999,-999,9,-999,-999,9,-999,7.6947,26.3473
49NZ20070724,   P01,113,1,32, X12038,2,20070829,110,47.0042,-125.5103,1757,199.4,2,7.1642,2,7.16444,2,33.9271,2,33.9309,2,94.19,2,83.99,2,47.27,2,0.22,33.07,2,0.13,0.03,2,0.01,2.445,2,0.016,2.724,2,1.394,2,0.173,2,-999,9,2237.1,2,2266.7,2,7.4321,25,2,-999,9,-999,-999,9,-999,-999,9,-999,-999,9,-999,7.1456,26.5535
49NZ20070724,   P01,113,1,31, X12003,2,20070829,110,47.0042,-125.5103,1757,249.2,2,6.8542,2,6.85381,2,33.9739,2,33.9794,6,68.48,2,67.73,2,53.93,2,0.24,35.05,2,0.13,0.03,2,0.01,2.591,2,0.016,2.353,2,1.182,2,0.135,2,-999,9,2256.8,2,2274.2,2,7.402,25,2,-999,9,-999,-999,9,-999,-999,9,-999,-999,9,-999,6.8314,26.6334
49NZ20070724,   P01,113,1,30, X12008,2,20070829,110,47.0042,-125.5103,1757,301,2,6.348,2,6.34145,2,33.9992,2,34.0005,2,67.23,2,66.41,2,58.24,2,0.25,36.5,2,0.14,0.02,2,0.01,2.644,2,0.017,2.035,2,0.994,2,0.12,2,-999,9,2263.9,2,2281.8,2,7.4011,25,2,-999,9,-999,-999,9,-999,-999,9,-999,-999,9,-999,6.3216,26.7208
49NZ20070724,   P01,113,1,29, X12035,2,20070829,110,47.0042,-125.5103,1757,401.3,2,5.5525,2,5.5525,2,34.0359,2,34.0395,2,48.16,2,47.54,2,70.98,2,0.28,39.41,2,0.14,0.02,2,0.01,2.858,2,0.017,1.416,2,0.672,2,0.06,2,-999,9,2289,2,2295.1,2,7.3609,25,2,-999,9,-999,-999,9,-999,-999,9,-999,-999,9,-999,5.5194,26.85
49NZ20070724,   P01,113,1,28, X12034,2,20070829,110,47.0042,-125.5103,1757,502.1,2,5.1399,2,5.14065,2,34.1207,2,34.1199,6,27.78,2,27.74,2,82.41,2,0.3,41.24,2,0.15,0.03,2,0.01,3.034,2,0.018,0.752,2,0.356,2,0.047,2,-999,9,2313.1,2,2310.4,2,7.3373,25,2,-999,9,-999,-999,9,-999,-999,9,-999,-999,9,-999,5.0997,26.9667
49NZ20070724,   P01,113,1,27, X12049,2,20070829,110,47.0042,-125.5103,1757,599.9,2,4.8275,2,4.82753,2,34.1836,2,34.1853,2,16.7,2,16.61,2,92.11,2,0.32,42.48,2,0.15,0.02,2,0.01,3.134,2,0.018,0.397,2,0.189,2,0.021,2,-999,9,2331.2,2,2324.1,2,7.3261,25,2,-999,9,-999,-999,9,-999,-999,9,-999,-999,9,-999,4.7804,27.0529
49NZ20070724,   P01,113,1,26, X12032,2,20070829,110,47.0042,-125.5103,1757,700,2,4.509,2,4.50907,2,34.2352,2,34.2369,2,11.51,2,11.57,2,100.79,2,0.34,43.14,2,0.15,0.03,2,0.01,3.197,2,0.018,0.212,6,0.103,6,0.014,6,-999,9,2344,6,2336.3,2,7.3189,25,2,-999,9,-999,-999,9,-999,-999,9,-999,-999,9,-999,4.4552,27.1297
49NZ20070724,   P01,113,1,25, X12043,2,20070829,110,47.0042,-125.5103,1757,800.1,2,4.1276,2,4.12767,2,34.2909,2,34.2915,2,9.15,2,9.1,2,111.21,2,0.36,43.83,2,0.16,0.01,2,0.01,3.235,2,0.018,0.11,2,0.05,2,0.013,2,-999,9,2357.4,2,2350,6,7.3193,25,2,-999,9,-999,-999,9,-999,-999,9,-999,-999,9,-999,4.0678,27.215
49NZ20070724,   P01,113,1,24, X12030,2,20070829,110,47.0042,-125.5103,1757,900.5,2,3.8464,2,3.84627,2,34.3433,2,34.3456,2,8.98,2,8.89,2,119.4,2,0.38,44.01,2,0.16,0.02,2,0.01,3.218,2,0.018,0.049,2,0.023,2,0.006,2,-999,9,2367.1,2,2362.6,2,7.3257,25,6,-999,9,-999,-999,9,-999,-999,9,-999,-999,9,-999,3.7803,27.2861
49NZ20070724,   P01,113,1,23, X12027,2,20070829,110,47.0042,-125.5103,1757,1000.7,2,3.5566,2,3.55665,2,34.3913,2,34.3914,6,10.36,2,10.32,2,127.76,2,0.4,44.25,2,0.16,0.02,2,0.01,3.247,2,0.018,0.025,2,0.011,2,0,2,-999,9,2374.9,2,2371.1,2,7.3301,25,2,-999,9,-999,-999,9,-999,-999,9,-999,-999,9,-999,3.4845,27.3536
49NZ20070724,   P01,113,1,22, X12028,2,20070829,110,47.0042,-125.5103,1757,1199.6,2,3.1607,2,3.16082,2,34.4549,2,34.4549,2,16.99,2,16.99,2,139.16,2,0.43,44.15,2,0.16,0.02,2,0.01,3.227,2,0.018,0.012,2,0.008,2,0.012,2,-999,9,2383.2,2,2385.5,2,7.3476,25,2,-999,9,-999,-999,9,-999,-999,9,-999,-999,9,-999,3.076,27.443
49NZ20070724,   P01,113,1,21, X12009,2,20070829,110,47.0042,-125.5103,1757,1399.9,2,2.6984,2,2.6985,2,34.5083,2,34.5083,2,27.39,2,27.74,2,152.21,2,0.45,43.66,2,0.16,0.02,2,0.01,3.172,2,0.018,0.006,2,0.006,2,0,2,-999,9,2388.6,2,2399.9,2,7.3694,25,2,-999,9,-999,-999,9,-999,-999,9,-999,-999,9,-999,2.6022,27.5279
49NZ20070724,   P01,113,1,20, X12026,2,20070829,110,47.0042,-125.5103,1757,1602.1,2,2.4483,2,2.4482,2,34.5373,2,34.5374,2,36.18,2,36.62,2,159.33,2,0.47,43.22,2,0.15,0.02,2,0.01,3.126,2,0.018,0.006,2,0.006,2,0.006,2,-999,9,2390,2,2407.2,2,7.3866,25,6,-999,9,-999,-999,9,-999,-999,9,-999,-999,9,-999,2.3387,27.5735
49NZ20070724,   P01,113,1,19, X12025,9,20070829,110,47.0042,-125.5103,1757,9.2,2,18.323,2,18.29286,2,31.9322,2,-999,9,246.83,2,-999,9,-999,9,-999,-999,9,-999,-999,9,-999,-999,9,-999,-999,9,-999,9,-999,9,-999,9,-999,9,-999,9,-999,-999,9,-999,9,-999,-999,9,-999,-999,9,-999,-999,9,-999,18.3214,22.846
49NZ20070724,   P01,113,1,18, X12024,9,20070829,110,47.0042,-125.5103,1757,49.5,2,9.3592,2,9.35405,2,32.3824,2,-999,9,288.9,2,-999,9,-999,9,-999,-999,9,-999,-999,9,-999,-999,9,-999,-999,9,-999,9,-999,9,-999,9,-999,9,-999,9,-999,-999,9,-999,9,-999,-999,9,-999,-999,9,-999,-999,9,-999,9.3539,25.0135
49NZ20070724,   P01,113,1,17, X12023,9,20070829,110,47.0042,-125.5103,1757,99.8,2,8.0901,2,8.08952,2,32.9534,2,-999,9,212.44,2,-999,9,-999,9,-999,-999,9,-999,-999,9,-999,-999,9,-999,-999,9,-999,9,-999,9,-999,9,-999,9,-999,9,-999,-999,9,-999,9,-999,-999,9,-999,-999,9,-999,-999,9,-999,8.0803,25.655
49NZ20070724,   P01,113,1,16, X12022,9,20070829,110,47.0042,-125.5103,1757,149.7,2,7.7117,2,7.71156,2,33.761,2,-999,9,119.13,2,-999,9,-999,9,-999,-999,9,-999,-999,9,-999,-999,9,-999,-999,9,-999,9,-999,9,-999,9,-999,9,-999,9,-999,-999,9,-999,9,-999,-999,9,-999,-999,9,-999,-999,9,-999,7.6972,26.3449
49NZ20070724,   P01,113,1,15, X12021,9,20070829,110,47.0042,-125.5103,1757,199.2,2,7.162,2,7.16149,2,33.9276,2,-999,9,92.96,2,-999,9,-999,9,-999,-999,9,-999,-999,9,-999,-999,9,-999,-999,9,-999,9,-999,9,-999,9,-999,9,-999,9,-999,-999,9,-999,9,-999,-999,9,-999,-999,9,-999,-999,9,-999,7.1434,26.5542
49NZ20070724,   P01,113,1,14, X12020,9,20070829,110,47.0042,-125.5103,1757,249.1,2,6.8507,2,6.84904,2,33.9743,2,-999,9,66.83,2,-999,9,-999,9,-999,-999,9,-999,-999,9,-999,-999,9,-999,-999,9,-999,9,-999,9,-999,9,-999,9,-999,9,-999,-999,9,-999,9,-999,-999,9,-999,-999,9,-999,-999,9,-999,6.828,26.6342
49NZ20070724,   P01,113,1,13, X12019,9,20070829,110,47.0042,-125.5103,1757,300.8,2,6.3557,2,6.35629,2,33.9987,2,-999,9,67.35,2,-999,9,-999,9,-999,-999,9,-999,-999,9,-999,-999,9,-999,-999,9,-999,9,-999,9,-999,9,-999,9,-999,9,-999,-999,9,-999,9,-999,-999,9,-999,-999,9,-999,-999,9,-999,6.3293,26.7194
49NZ20070724,   P01,113,1,12, X12040,9,20070829,110,47.0042,-125.5103,1757,399.2,2,5.5734,2,5.57365,2,34.0343,2,-999,9,48.5,2,-999,9,-999,9,-999,-999,9,-999,-999,9,-999,-999,9,-999,-999,9,-999,9,-999,9,-999,9,-999,9,-999,9,-999,-999,9,-999,9,-999,-999,9,-999,-999,9,-999,-999,9,-999,5.5404,26.8461
49NZ20070724,   P01,113,1,11, X12047,9,20070829,110,47.0042,-125.5103,1757,500.7,2,5.1543,2,5.15427,2,34.1178,2,-999,9,28.12,2,-999,9,-999,9,-999,-999,9,-999,-999,9,-999,-999,9,-999,-999,9,-999,9,-999,9,-999,9,-999,9,-999,9,-999,-999,9,-999,9,-999,-999,9,-999,-999,9,-999,-999,9,-999,5.1141,26.9627
49NZ20070724,   P01,113,1,10, X12010,9,20070829,110,47.0042,-125.5103,1757,599.7,2,4.828,2,4.82818,2,34.1835,2,-999,9,16.73,2,-999,9,-999,9,-999,-999,9,-999,-999,9,-999,-999,9,-999,-999,9,-999,9,-999,9,-999,9,-999,9,-999,9,-999,-999,9,-999,9,-999,-999,9,-999,-999,9,-999,-999,9,-999,4.7809,27.0527
49NZ20070724,   P01,113,1,9, X12015,9,20070829,110,47.0042,-125.5103,1757,698.9,2,4.5102,2,4.5101,2,34.2349,2,-999,9,11.5,2,-999,9,-999,9,-999,-999,9,-999,-999,9,-999,-999,9,-999,-999,9,-999,9,-999,9,-999,9,-999,9,-999,9,-999,-999,9,-999,9,-999,-999,9,-999,-999,9,-999,-999,9,-999,4.4565,27.1293
49NZ20070724,   P01,113,1,8, X12046,9,20070829,110,47.0042,-125.5103,1757,799.8,2,4.127,2,4.12678,2,34.2909,2,-999,9,9.13,2,-999,9,-999,9,-999,-999,9,-999,-999,9,-999,-999,9,-999,-999,9,-999,9,-999,9,-999,9,-999,9,-999,9,-999,-999,9,-999,9,-999,-999,9,-999,-999,9,-999,-999,9,-999,4.0672,27.2151
49NZ20070724,   P01,113,1,7, X12044,9,20070829,110,47.0042,-125.5103,1757,900.3,2,3.8445,2,3.84381,2,34.3437,2,-999,9,9.01,2,-999,9,-999,9,-999,-999,9,-999,-999,9,-999,-999,9,-999,-999,9,-999,9,-999,9,-999,9,-999,9,-999,9,-999,-999,9,-999,9,-999,-999,9,-999,-999,9,-999,-999,9,-999,3.7784,27.2866
49NZ20070724,   P01,113,1,6, X12048,9,20070829,110,47.0042,-125.5103,1757,999.3,2,3.5575,2,3.55736,2,34.3912,2,-999,9,10.45,2,-999,9,-999,9,-999,-999,9,-999,-999,9,-999,-999,9,-999,-999,9,-999,9,-999,9,-999,9,-999,9,-999,9,-999,-999,9,-999,9,-999,-999,9,-999,-999,9,-999,-999,9,-999,3.4855,27.3534
49NZ20070724,   P01,113,1,5, X12014,9,20070829,110,47.0042,-125.5103,1757,1198.7,2,3.1618,2,3.16165,2,34.4548,2,-999,9,17.33,2,-999,9,-999,9,-999,-999,9,-999,-999,9,-999,-999,9,-999,-999,9,-999,9,-999,9,-999,9,-999,9,-999,9,-999,-999,9,-999,9,-999,-999,9,-999,-999,9,-999,-999,9,-999,3.0772,27.4428
49NZ20070724,   P01,113,1,4, X12928,9,20070829,110,47.0042,-125.5103,1757,1399.8,2,2.7001,2,2.69989,2,34.5081,2,-999,9,27.73,2,-999,9,-999,9,-999,-999,9,-999,-999,9,-999,-999,9,-999,-999,9,-999,9,-999,9,-999,9,-999,9,-999,9,-999,-999,9,-999,9,-999,-999,9,-999,-999,9,-999,-999,9,-999,2.6039,27.5276
49NZ20070724,   P01,113,1,3, X12931,9,20070829,110,47.0042,-125.5103,1757,1601.3,2,2.449,2,2.44907,2,34.5371,2,-999,9,36.57,2,-999,9,-999,9,-999,-999,9,-999,-999,9,-999,-999,9,-999,-999,9,-999,9,-999,9,-999,9,-999,9,-999,9,-999,-999,9,-999,9,-999,-999,9,-999,-999,9,-999,-999,9,-999,2.3395,27.5733
49NZ20070724,   P01,113,1,2, X12930,9,20070829,110,47.0042,-125.5103,1757,1756.1,2,2.2262,2,2.226,2,34.5622,2,-999,9,44.51,2,-999,9,-999,9,-999,-999,9,-999,-999,9,-999,-999,9,-999,-999,9,-999,9,-999,9,-999,9,-999,9,-999,9,-999,-999,9,-999,9,-999,-999,9,-999,-999,9,-999,-999,9,-999,2.1069,27.6124
49NZ20070724,   P01,113,1,1, X12929,2,20070829,110,47.0042,-125.5103,1757,1755.9,2,2.2259,2,2.22577,2,34.5622,2,34.5622,6,44.49,2,45.35,2,165.67,2,0.48,42.56,2,0.15,0.02,2,0.01,3.082,2,0.018,0.004,2,0.002,2,0.007,2,-999,9,2390.7,2,2413,2,7.404,25,2,-999,9,-999,-999,9,-999,-999,9,-999,-999,9,-999,2.1066,27.6124