BOTTLE,20081214JAMSTECIORGC,,,,,,,,,,,,,,,,,,,,,,,,,,,,,,,,,,,,,,,,,,,,,,,,,,,,,,,,,,,,,,,,,
EXPOCODE,SECT,STNNBR,CASTNO,SAMPNO,BTLNBR,BTLNBR_FLAG_W,DATE,TIME,LATITUDE,LONGITUDE,DEPTH,CTDPRS,CTDPRS_FLAG_W,CTDTMP,CTDTMP_FLAG_W,SBE35,SBE35_FLAG_W,CTDSAL,CTDSAL_FLAG_W,SALNTY,SALNTY_FLAG_W,CTDOXY,CTDOXY_FLAG_W,OXYGEN,OXYGEN_FLAG_W,SILCAT,SILCAT_FLAG_W,SILUNC,NITRAT,NITRAT_FLAG_W,NRAUNC,NITRIT,NITRIT_FLAG_W,NRIUNC,PHSPHT,PHSPHT_FLAG_W,PHPUNC,CFC-11,CFC-11_FLAG_W,CFC-12,CFC-12_FLAG_W,CFC113,CFC113_FLAG_W,CCL4,CCL4_FLAG_W,TCARBN,TCARBN_FLAG_W,ALKALI,ALKALI_FLAG_W,PH_TOT,PH_TMP,PH_FLAG_W,DELC13,DELC13_FLAG_W,C13ERR,DELC14,DELC14_FLAG_W,C14ERR,CS-137,CS-137_FLAG_W,CS137ER,PLUTO,PLUTO_FLAG_W,PLUTOER,THETA,SIG0
,,,,,,,,UTC,DEG,DEG,M,DBAR,,ITS-90,,ITS-90,,PSS-78,,PSS-78,,UMOL/KG,,UMOL/KG,,UMOL/KG,,UMOL/KG,UMOL/KG,,UMOL/KG,UMOL/KG,,UMOL/KG,UMOL/KG,,UMOL/KG,PMOL/KG,,PMOL/KG,,PMOL/KG,,PMOL/KG,,UMOL/KG,,UMOL/KG,,,ITS-90,,/MILLE,,/MILLE,/MILLE,,/MILLE,BQ/CUM,,BQ/CUM,MBQ/CUM,,MBQ/CUM,DEG C,KG/CUM
49NZ20070724,   P01,5,1,0,-999,9,20070726,1930,42.644,145.6927,2411,-999,9,-999,9,-999,9,-999,9,32.7891,2,-999,9,-999,9,-999,9,-999,-999,9,-999,-999,9,-999,-999,9,-999,-999,9,-999,9,-999,9,-999,9,-999,9,-999,9,-999,-999,9,-999,9,-999,-999,9,-999,-999,9,-999,-999,9,-999,-999,-999
49NZ20070724,   P01,5,1,36, X12042,2,20070726,1930,42.644,145.6927,2411,9.6,2,6.1336,2,6.17459,2,32.9507,2,32.9626,2,332.55,2,330.94,2,19.65,2,0.16,15.04,2,0.07,0.2,2,0.01,1.458,2,0.014,5.012,2,2.689,2,0.486,2,-999,9,2072.7,2,2244.2,2,7.831,25,2,-999,9,-999,-999,9,-999,-999,9,-999,-999,9,-999,6.1328,25.917
49NZ20070724,   P01,5,1,35, X12041,2,20070726,1930,42.644,145.6927,2411,49.4,2,2.1165,2,2.12335,2,33.1015,2,33.1244,2,302.12,2,301.61,2,45.06,2,0.22,24.91,2,0.1,0.21,2,0.01,2.055,2,0.015,5.399,2,2.876,2,0.491,2,-999,9,2149.2,6,2248.9,2,7.6473,25,2,-999,9,-999,-999,9,-999,-999,9,-999,-999,9,-999,2.114,26.4421
49NZ20070724,   P01,5,1,34, X12036,3,20070726,1930,42.644,145.6927,2411,99.6,2,1.9355,2,1.93544,2,33.3356,2,33.3412,2,239.91,2,242.84,2,61.08,2,0.25,29.31,2,0.11,0.15,2,0.01,2.307,2,0.016,4.684,2,2.449,2,0.416,2,-999,9,2200.6,2,2267.3,6,7.5485,25,2,-999,9,-999,-999,9,-999,-999,9,-999,-999,9,-999,1.9305,26.6435
49NZ20070724,   P01,5,1,33, X12033,2,20070726,1930,42.644,145.6927,2411,149.6,2,1.8922,2,1.89216,2,33.468,2,33.4734,2,206.36,2,207.28,2,71.99,2,0.28,31.69,2,0.12,0.04,2,0.01,2.451,2,0.016,4.23,6,2.201,6,0.369,6,-999,9,2230.7,2,2278.7,2,7.4959,25,6,-999,9,-999,-999,9,-999,-999,9,-999,-999,9,-999,1.8847,26.753
49NZ20070724,   P01,5,1,32, X12038,2,20070726,1930,42.644,145.6927,2411,200.4,2,2.0464,2,2.04648,2,33.5365,2,33.5358,2,184.08,2,186.41,2,76.9,2,0.29,33.42,2,0.13,0.04,2,0.01,2.553,2,0.016,3.906,2,2.024,2,0.34,2,-999,9,2242.5,2,2284.6,2,7.4643,25,2,-999,9,-999,-999,9,-999,-999,9,-999,-999,9,-999,2.036,26.7965
49NZ20070724,   P01,5,1,31, X12003,2,20070726,1930,42.644,145.6927,2411,248.5,2,2.0428,2,2.04269,2,33.5942,2,33.5977,6,172.73,2,173,2,82.06,2,0.3,34.02,2,0.13,0.03,2,0.01,2.599,2,0.016,3.704,2,1.909,2,0.321,2,-999,9,2251.7,3,2290.4,2,7.4512,25,2,-999,9,-999,-999,9,-999,-999,9,-999,-999,9,-999,2.0298,26.8431
49NZ20070724,   P01,5,1,30, X12008,2,20070726,1930,42.644,145.6927,2411,329.1,2,2.6603,2,2.65999,2,33.7625,2,33.7659,2,112.56,2,113.03,2,93.33,2,0.32,38.53,2,0.14,0.03,2,0.01,2.854,2,0.017,2.812,2,1.427,2,0.231,2,-999,9,2291.1,2,2302,2,7.3771,25,2,-999,9,-999,-999,9,-999,-999,9,-999,-999,9,-999,2.641,26.9284
49NZ20070724,   P01,5,1,29, X12035,2,20070726,1930,42.644,145.6927,2411,429.6,2,2.8113,2,2.81134,2,33.8909,2,33.8938,2,82,2,81.82,2,103.64,2,0.35,40.53,2,0.15,0.01,2,0.01,2.966,2,0.017,2.206,2,1.124,2,0.173,2,-999,9,2315.9,2,2315.5,2,7.3451,25,2,-999,9,-999,-999,9,-999,-999,9,-999,-999,9,-999,2.7852,27.0187
49NZ20070724,   P01,5,1,28, X12034,2,20070726,1930,42.644,145.6927,2411,529.4,2,2.88,2,2.87955,2,33.9816,2,33.9861,6,64.17,2,64.01,2,111.31,2,0.36,41.48,2,0.15,0.01,2,0.01,3.028,2,0.018,1.768,2,0.897,2,0.13,2,-999,9,2331.3,2,2326,2,7.3293,25,2,-999,9,-999,-999,9,-999,-999,9,-999,-999,9,-999,2.847,27.0857
49NZ20070724,   P01,5,1,27, X12049,2,20070726,1930,42.644,145.6927,2411,629.5,2,3.0934,2,3.09335,2,34.0927,2,34.092,2,39.45,2,40.46,2,119.17,2,0.38,42.92,2,0.15,0.01,2,0.01,3.101,2,0.018,1.209,2,0.611,2,0.09,2,-999,9,2347.9,2,2336.2,2,7.3141,25,2,-999,9,-999,-999,9,-999,-999,9,-999,-999,9,-999,3.0525,27.1561
49NZ20070724,   P01,5,1,26, X12032,2,20070726,1930,42.644,145.6927,2411,730.4,2,3.1141,2,3.11414,2,34.1653,2,34.1643,2,29.62,2,30.5,2,125.48,2,0.4,43.47,2,0.15,0.01,2,0.01,3.132,2,0.018,0.88,6,0.446,6,0.065,6,-999,9,2356.2,2,2346.5,2,7.3124,25,2,-999,9,-999,-999,9,-999,-999,9,-999,-999,9,-999,3.0658,27.2127
49NZ20070724,   P01,5,1,25, X12043,2,20070726,1930,42.644,145.6927,2411,828.6,2,2.8644,2,2.86438,2,34.2305,2,34.228,2,35.19,2,36.65,2,134.09,2,0.41,42.97,2,0.15,0.01,2,0.01,3.109,2,0.018,0.763,2,0.39,2,0.055,2,-999,9,2363.7,2,2357.6,6,7.3309,25,2,-999,9,-999,-999,9,-999,-999,9,-999,-999,9,-999,2.8105,27.2877
49NZ20070724,   P01,5,1,24, X12030,2,20070726,1930,42.644,145.6927,2411,929,2,2.6812,2,2.68047,2,34.2853,2,34.2864,2,38.49,2,38.94,2,140.65,2,0.43,42.72,2,0.15,0.01,2,0.01,3.088,2,0.018,0.635,2,0.324,2,0.045,2,-999,9,2364.9,3,2367.2,2,7.343,25,2,-999,9,-999,-999,9,-999,-999,9,-999,-999,9,-999,2.6213,27.348
49NZ20070724,   P01,5,1,23, X12027,2,20070726,1930,42.644,145.6927,2411,1069.1,2,2.5883,2,2.58804,2,34.3543,2,34.3564,6,35.99,2,36.06,2,147.1,2,0.44,42.92,2,0.15,0.01,2,0.01,3.101,2,0.018,0.414,2,0.215,2,0.029,2,-999,9,2373.7,2,2376.8,2,7.3488,25,2,-999,9,-999,-999,9,-999,-999,9,-999,-999,9,-999,2.5189,27.412
49NZ20070724,   P01,5,1,22, X12028,2,20070726,1930,42.644,145.6927,2411,1269.2,2,2.4028,2,2.40276,2,34.4293,2,34.4289,2,41.75,2,42.16,2,153.94,2,0.46,42.62,2,0.15,0.01,2,0.01,3.078,2,0.018,0.266,2,0.132,2,0.017,2,-999,9,2379.5,2,2388.3,2,7.3704,25,2,-999,9,-999,-999,9,-999,-999,9,-999,-999,9,-999,2.32,27.4886
49NZ20070724,   P01,5,1,21, X12009,2,20070726,1930,42.644,145.6927,2411,1470.6,2,2.2575,2,2.25748,2,34.4818,2,34.4806,2,48.41,2,48.75,2,157.63,2,0.47,42.3,2,0.15,0.01,2,0.01,3.046,2,0.018,0.177,2,0.084,2,0.004,2,-999,9,2379.1,2,2396.9,2,7.3909,25,2,-999,9,-999,-999,9,-999,-999,9,-999,-999,9,-999,2.1608,27.5437
49NZ20070724,   P01,5,1,20, X12026,3,20070726,1930,42.644,145.6927,2411,1669.2,2,2.1466,2,2.14656,2,34.5298,2,34.5281,2,55.33,2,55.8,2,159.72,2,0.47,42.02,2,0.15,0.01,2,0.01,3.01,2,0.017,0.088,2,0.042,2,0.001,2,-999,9,2375.6,3,2403.7,2,7.411,25,6,-999,9,-999,-999,9,-999,-999,9,-999,-999,9,-999,2.0355,27.5921
49NZ20070724,   P01,5,1,19, X12025,2,20070726,1930,42.644,145.6927,2411,1870.4,2,2.0315,2,2.03141,2,34.572,2,34.5714,2,65.01,2,65.27,2,160.39,2,0.47,41.58,2,0.15,0.01,2,0.01,2.963,2,0.017,0.015,2,0.014,2,0.001,2,-999,9,2378,2,2409.2,2,7.4335,25,2,-999,9,-999,-999,9,-999,-999,9,-999,-999,9,-999,1.9055,27.6362
49NZ20070724,   P01,5,1,18, X12024,2,20070726,1930,42.644,145.6927,2411,2071.5,2,1.9167,2,1.91657,2,34.5968,2,34.5962,6,76.31,2,76.68,2,160.48,2,0.47,40.87,2,0.15,0,2,0.01,2.908,2,0.017,0.002,2,0.004,2,0.001,2,-999,9,2373.7,2,2413.7,2,7.457,25,2,-999,9,-999,-999,9,-999,-999,9,-999,-999,9,-999,1.7757,27.6661
49NZ20070724,   P01,5,1,17, X12023,2,20070726,1930,42.644,145.6927,2411,2272,2,1.8184,2,1.81805,2,34.6171,2,34.6163,2,87.64,2,88.13,2,159.72,2,0.47,40.23,2,0.15,0.01,2,0.01,2.855,2,0.017,0.008,6,0.004,6,0.002,6,-999,9,2367.9,2,2415.6,2,7.4807,25,2,-999,9,-999,-999,9,-999,-999,9,-999,-999,9,-999,1.6618,27.6909
49NZ20070724,   P01,5,1,16, X12022,9,20070726,1930,42.644,145.6927,2411,99.6,2,1.9348,2,1.93571,2,33.3351,2,-999,9,238.46,2,-999,9,-999,9,-999,-999,9,-999,-999,9,-999,-999,9,-999,-999,9,-999,9,-999,9,-999,9,-999,9,-999,9,-999,-999,9,-999,9,-999,-999,9,-999,-999,9,-999,-999,9,-999,1.9298,26.6431
49NZ20070724,   P01,5,1,15, X12021,9,20070726,1930,42.644,145.6927,2411,149.6,2,1.8921,2,1.89201,2,33.4688,2,-999,9,206.29,2,-999,9,-999,9,-999,-999,9,-999,-999,9,-999,-999,9,-999,-999,9,-999,9,-999,9,-999,9,-999,9,-999,9,-999,-999,9,-999,9,-999,-999,9,-999,-999,9,-999,-999,9,-999,1.8846,26.7536
49NZ20070724,   P01,5,1,14, X12020,9,20070726,1930,42.644,145.6927,2411,200.1,2,2.0477,2,2.04628,2,33.5365,2,-999,9,184.11,2,-999,9,-999,9,-999,-999,9,-999,-999,9,-999,-999,9,-999,-999,9,-999,9,-999,9,-999,9,-999,9,-999,9,-999,-999,9,-999,9,-999,-999,9,-999,-999,9,-999,-999,9,-999,2.0373,26.7964
49NZ20070724,   P01,5,1,13, X12019,9,20070726,1930,42.644,145.6927,2411,248.7,2,2.0449,2,2.04498,2,33.5949,2,-999,9,172.19,2,-999,9,-999,9,-999,-999,9,-999,-999,9,-999,-999,9,-999,-999,9,-999,9,-999,9,-999,9,-999,9,-999,9,-999,-999,9,-999,9,-999,-999,9,-999,-999,9,-999,-999,9,-999,2.0318,26.8435
49NZ20070724,   P01,5,1,12, X12040,9,20070726,1930,42.644,145.6927,2411,329.4,2,2.6537,2,2.65231,2,33.7637,2,-999,9,112.56,2,-999,9,-999,9,-999,-999,9,-999,-999,9,-999,-999,9,-999,-999,9,-999,9,-999,9,-999,9,-999,9,-999,9,-999,-999,9,-999,9,-999,-999,9,-999,-999,9,-999,-999,9,-999,2.6344,26.93
49NZ20070724,   P01,5,1,11, X12047,9,20070726,1930,42.644,145.6927,2411,429.8,2,2.8134,2,2.81309,2,33.8931,2,-999,9,81.75,2,-999,9,-999,9,-999,-999,9,-999,-999,9,-999,-999,9,-999,-999,9,-999,9,-999,9,-999,9,-999,9,-999,9,-999,-999,9,-999,9,-999,-999,9,-999,-999,9,-999,-999,9,-999,2.7873,27.0202
49NZ20070724,   P01,5,1,10, X12010,9,20070726,1930,42.644,145.6927,2411,529.3,2,2.8841,2,2.8841,2,33.9825,2,-999,9,65.5,2,-999,9,-999,9,-999,-999,9,-999,-999,9,-999,-999,9,-999,-999,9,-999,9,-999,9,-999,9,-999,9,-999,9,-999,-999,9,-999,9,-999,-999,9,-999,-999,9,-999,-999,9,-999,2.8511,27.0861
49NZ20070724,   P01,5,1,9, X12015,9,20070726,1930,42.644,145.6927,2411,629.3,2,3.0941,2,3.09445,2,34.0928,2,-999,9,39.44,2,-999,9,-999,9,-999,-999,9,-999,-999,9,-999,-999,9,-999,-999,9,-999,9,-999,9,-999,9,-999,9,-999,9,-999,-999,9,-999,9,-999,-999,9,-999,-999,9,-999,-999,9,-999,3.0532,27.1561
49NZ20070724,   P01,5,1,8, X12046,9,20070726,1930,42.644,145.6927,2411,729.9,2,3.1164,2,3.11621,2,34.1656,2,-999,9,29.48,2,-999,9,-999,9,-999,-999,9,-999,-999,9,-999,-999,9,-999,-999,9,-999,9,-999,9,-999,9,-999,9,-999,9,-999,-999,9,-999,9,-999,-999,9,-999,-999,9,-999,-999,9,-999,3.0681,27.2128
49NZ20070724,   P01,5,1,7, X12044,9,20070726,1930,42.644,145.6927,2411,828.5,2,2.8478,2,2.84982,2,34.2284,2,-999,9,35.78,2,-999,9,-999,9,-999,-999,9,-999,-999,9,-999,-999,9,-999,-999,9,-999,9,-999,9,-999,9,-999,9,-999,9,-999,-999,9,-999,9,-999,-999,9,-999,-999,9,-999,-999,9,-999,2.7941,27.2875
49NZ20070724,   P01,5,1,6, X12048,9,20070726,1930,42.644,145.6927,2411,928.9,2,2.6735,2,2.67384,2,34.2866,2,-999,9,38.59,2,-999,9,-999,9,-999,-999,9,-999,-999,9,-999,-999,9,-999,-999,9,-999,9,-999,9,-999,9,-999,9,-999,9,-999,-999,9,-999,9,-999,-999,9,-999,-999,9,-999,-999,9,-999,2.6137,27.3497
49NZ20070724,   P01,5,1,5, X12017,9,20070726,1930,42.644,145.6927,2411,1470.6,2,2.2577,2,2.2574,2,34.4816,2,-999,9,48.41,2,-999,9,-999,9,-999,-999,9,-999,-999,9,-999,-999,9,-999,-999,9,-999,9,-999,9,-999,9,-999,9,-999,9,-999,-999,9,-999,9,-999,-999,9,-999,-999,9,-999,-999,9,-999,2.161,27.5435
49NZ20070724,   P01,5,1,4, X12928,9,20070726,1930,42.644,145.6927,2411,1470.3,2,2.2575,2,2.25748,2,34.4818,2,-999,9,48.41,2,-999,9,-999,9,-999,-999,9,-999,-999,9,-999,-999,9,-999,-999,9,-999,9,-999,9,-999,9,-999,9,-999,9,-999,-999,9,-999,9,-999,-999,9,-999,-999,9,-999,-999,9,-999,2.1608,27.5437
49NZ20070724,   P01,5,1,3, X12931,9,20070726,1930,42.644,145.6927,2411,1470.1,2,2.2582,2,2.25806,2,34.4812,2,-999,9,48.41,2,-999,9,-999,9,-999,-999,9,-999,-999,9,-999,-999,9,-999,-999,9,-999,9,-999,9,-999,9,-999,9,-999,9,-999,-999,9,-999,9,-999,-999,9,-999,-999,9,-999,-999,9,-999,2.1615,27.5431
49NZ20070724,   P01,5,1,2, X12930,9,20070726,1930,42.644,145.6927,2411,1469.9,2,2.2585,2,2.25838,2,34.4809,2,-999,9,48.45,2,-999,9,-999,9,-999,-999,9,-999,-999,9,-999,-999,9,-999,-999,9,-999,9,-999,9,-999,9,-999,9,-999,9,-999,-999,9,-999,9,-999,-999,9,-999,-999,9,-999,-999,9,-999,2.1618,27.5429
49NZ20070724,   P01,5,1,1, X12929,2,20070726,1930,42.644,145.6927,2411,2442.8,2,1.7322,2,1.73192,2,34.632,2,34.6316,6,97.75,2,98.44,2,159.55,2,0.47,39.52,2,0.14,0.02,2,0.01,2.808,2,0.017,0.076,4,0.05,4,0.01,4,-999,9,2359.6,2,2416.7,2,7.499,25,2,-999,9,-999,-999,9,-999,-999,9,-999,-999,9,-999,1.5621,27.7103