BOTTLE,20081214JAMSTECIORGC,,,,,,,,,,,,,,,,,,,,,,,,,,,,,,,,,,,,,,,,,,,,,,,,,,,,,,,,,,,,,,,,,
EXPOCODE,SECT,STNNBR,CASTNO,SAMPNO,BTLNBR,BTLNBR_FLAG_W,DATE,TIME,LATITUDE,LONGITUDE,DEPTH,CTDPRS,CTDPRS_FLAG_W,CTDTMP,CTDTMP_FLAG_W,SBE35,SBE35_FLAG_W,CTDSAL,CTDSAL_FLAG_W,SALNTY,SALNTY_FLAG_W,CTDOXY,CTDOXY_FLAG_W,OXYGEN,OXYGEN_FLAG_W,SILCAT,SILCAT_FLAG_W,SILUNC,NITRAT,NITRAT_FLAG_W,NRAUNC,NITRIT,NITRIT_FLAG_W,NRIUNC,PHSPHT,PHSPHT_FLAG_W,PHPUNC,CFC-11,CFC-11_FLAG_W,CFC-12,CFC-12_FLAG_W,CFC113,CFC113_FLAG_W,CCL4,CCL4_FLAG_W,TCARBN,TCARBN_FLAG_W,ALKALI,ALKALI_FLAG_W,PH_TOT,PH_TMP,PH_FLAG_W,DELC13,DELC13_FLAG_W,C13ERR,DELC14,DELC14_FLAG_W,C14ERR,CS-137,CS-137_FLAG_W,CS137ER,PLUTO,PLUTO_FLAG_W,PLUTOER,THETA,SIG0
,,,,,,,,UTC,DEG,DEG,M,DBAR,,ITS-90,,ITS-90,,PSS-78,,PSS-78,,UMOL/KG,,UMOL/KG,,UMOL/KG,,UMOL/KG,UMOL/KG,,UMOL/KG,UMOL/KG,,UMOL/KG,UMOL/KG,,UMOL/KG,PMOL/KG,,PMOL/KG,,PMOL/KG,,PMOL/KG,,UMOL/KG,,UMOL/KG,,,ITS-90,,/MILLE,,/MILLE,/MILLE,,/MILLE,BQ/CUM,,BQ/CUM,MBQ/CUM,,MBQ/CUM,DEG C,KG/CUM
49NZ20070724,   P01,4,1,0,-999,9,20070726,1633,42.8142,145.5897,1534,-999,9,-999,9,-999,9,-999,9,32.7951,2,-999,9,-999,9,-999,9,-999,-999,9,-999,-999,9,-999,-999,9,-999,-999,9,-999,9,-999,9,-999,9,-999,9,-999,9,-999,-999,9,-999,9,-999,-999,9,-999,-999,9,-999,-999,9,-999,-999,-999
49NZ20070724,   P01,4,1,36, X12042,2,20070726,1633,42.8142,145.5897,1534,9.6,2,9.4448,2,9.43493,2,32.8282,2,32.8198,2,313.42,2,304.96,2,8.67,2,0.14,10.24,2,0.06,0.18,2,0.01,1.194,2,0.013,3.975,2,2.201,2,0.316,2,-999,9,-999,9,-999,9,-999,-999,9,-999,9,-999,-999,9,-999,-999,9,-999,-999,9,-999,9.4438,25.3475
49NZ20070724,   P01,4,1,35, X12041,2,20070726,1633,42.8142,145.5897,1534,49.6,2,3.3847,2,3.38617,2,33.0257,2,33.0306,2,323.25,2,323.2,2,32.61,2,0.19,20.02,2,0.09,0.26,2,0.01,1.744,2,0.014,5.086,2,2.692,2,0.361,2,-999,9,-999,9,-999,9,-999,-999,9,-999,9,-999,-999,9,-999,-999,9,-999,-999,9,-999,3.3817,26.275
49NZ20070724,   P01,4,1,34, X12036,2,20070726,1633,42.8142,145.5897,1534,99.9,2,2.0606,2,2.06036,2,33.2288,2,33.235,2,272.83,2,273.57,2,52.1,2,0.23,26.61,2,0.11,0.16,2,0.01,2.147,2,0.015,4.71,2,2.476,2,0.337,2,-999,9,-999,9,-999,9,-999,-999,9,-999,9,-999,-999,9,-999,-999,9,-999,-999,9,-999,2.0555,26.5485
49NZ20070724,   P01,4,1,33, X12033,2,20070726,1633,42.8142,145.5897,1534,149.7,2,1.9535,2,1.95351,2,33.3273,2,33.3381,2,240.74,2,239.89,2,61.08,2,0.25,29.81,2,0.12,0.14,2,0.01,2.315,2,0.016,4.404,2,2.311,2,0.318,6,-999,9,-999,9,-999,9,-999,-999,9,-999,9,-999,-999,9,-999,-999,9,-999,-999,9,-999,1.9459,26.6357
49NZ20070724,   P01,4,1,32, X12038,2,20070726,1633,42.8142,145.5897,1534,199.1,2,1.9064,2,1.90643,2,33.4143,2,33.4217,2,220.84,2,221.18,2,67.56,2,0.27,30.77,2,0.12,0.06,2,0.01,2.368,2,0.016,4.114,2,2.203,2,0.298,2,-999,9,-999,9,-999,9,-999,-999,9,-999,9,-999,-999,9,-999,-999,9,-999,-999,9,-999,1.8963,26.709
49NZ20070724,   P01,4,1,31, X12003,2,20070726,1633,42.8142,145.5897,1534,249,2,1.9116,2,1.91155,2,33.4821,2,33.4901,2,203.75,2,202.79,2,73.42,2,0.28,32.13,2,0.12,0.03,2,0.01,2.463,2,0.016,3.887,2,2.067,2,0.288,2,-999,9,-999,9,-999,9,-999,-999,9,-999,9,-999,-999,9,-999,-999,9,-999,-999,9,-999,1.8988,26.7632
49NZ20070724,   P01,4,1,30, X12008,2,20070726,1633,42.8142,145.5897,1534,299.5,2,2.1436,2,2.14364,2,33.5706,2,33.5791,2,171.78,2,172.19,2,80.14,2,0.3,34.57,2,0.13,0.03,2,0.01,2.611,2,0.017,3.501,2,1.944,2,0.255,2,-999,9,-999,9,-999,9,-999,-999,9,-999,9,-999,-999,9,-999,-999,9,-999,-999,9,-999,2.1275,26.8167
49NZ20070724,   P01,4,1,29, X12035,2,20070726,1633,42.8142,145.5897,1534,400.3,2,2.6124,2,2.61209,2,33.7527,2,33.7609,2,115.17,2,114.69,2,93.79,2,0.33,38.35,2,0.14,0.03,2,0.01,2.841,2,0.017,2.637,2,1.429,2,0.203,2,-999,9,-999,9,-999,9,-999,-999,9,-999,9,-999,-999,9,-999,-999,9,-999,-999,9,-999,2.5889,26.925
49NZ20070724,   P01,4,1,28, X12034,2,20070726,1633,42.8142,145.5897,1534,503,2,2.9871,2,2.98706,2,33.8907,2,33.8898,6,73.07,2,74.17,2,101.74,2,0.34,41.29,2,0.15,0.02,2,0.01,2.989,2,0.017,2.012,2,0.951,2,0.142,2,-999,9,-999,9,-999,9,-999,-999,9,-999,9,-999,-999,9,-999,-999,9,-999,-999,9,-999,2.9555,27.0035
49NZ20070724,   P01,4,1,27, X12049,2,20070726,1633,42.8142,145.5897,1534,598.5,2,2.7746,2,2.77467,2,33.9533,2,33.9572,2,75.47,2,75.36,2,109.54,2,0.36,40.87,2,0.15,0.01,2,0.01,2.974,2,0.017,1.831,2,0.894,2,0.145,2,-999,9,-999,9,-999,9,-999,-999,9,-999,9,-999,-999,9,-999,-999,9,-999,-999,9,-999,2.7375,27.0727
49NZ20070724,   P01,4,1,26, X12032,2,20070726,1633,42.8142,145.5897,1534,699,2,2.9409,2,2.94069,2,34.0444,2,34.0499,2,53.92,2,53.69,2,116.57,2,0.38,42.09,2,0.15,0.01,2,0.01,3.048,2,0.018,1.373,6,0.669,6,0.104,6,-999,9,-999,9,-999,9,-999,-999,9,-999,9,-999,-999,9,-999,-999,9,-999,-999,9,-999,2.896,27.1315
49NZ20070724,   P01,4,1,25, X12043,2,20070726,1633,42.8142,145.5897,1534,800.6,2,2.9701,2,2.97003,2,34.1799,2,34.1814,2,35.4,2,35.77,2,128.14,2,0.4,43.13,2,0.15,0.01,2,0.01,3.103,2,0.018,0.835,2,0.4,2,0.06,2,-999,9,-999,9,-999,9,-999,-999,9,-999,9,-999,-999,9,-999,-999,9,-999,-999,9,-999,2.9176,27.2378
49NZ20070724,   P01,4,1,24, X12030,2,20070726,1633,42.8142,145.5897,1534,900.1,2,2.7834,2,2.78317,2,34.266,2,34.2691,2,34.7,2,35.36,2,138.35,2,0.42,43.02,2,0.15,0.01,2,0.01,3.099,2,0.018,0.603,2,0.292,2,0.049,2,-999,9,-999,9,-999,9,-999,-999,9,-999,9,-999,-999,9,-999,-999,9,-999,-999,9,-999,2.7249,27.3236
49NZ20070724,   P01,4,1,23, X12027,2,20070726,1633,42.8142,145.5897,1534,1000.1,2,2.6204,2,2.6203,2,34.3533,2,34.353,6,35.88,2,36.79,2,146.08,2,0.44,42.99,2,0.15,0.01,2,0.01,3.086,2,0.018,0.388,2,0.188,2,0.042,2,-999,9,-999,9,-999,9,-999,-999,9,-999,9,-999,-999,9,-999,-999,9,-999,-999,9,-999,2.5557,27.408
49NZ20070724,   P01,4,1,22, X12028,2,20070726,1633,42.8142,145.5897,1534,1199.3,2,2.4773,2,2.47732,2,34.4111,2,34.4121,2,39.18,2,40.1,2,151.82,2,0.45,42.78,2,0.15,0.01,2,0.01,3.079,2,0.018,0.27,2,0.134,2,0.026,2,-999,9,-999,9,-999,9,-999,-999,9,-999,9,-999,-999,9,-999,-999,9,-999,-999,9,-999,2.3991,27.4675
49NZ20070724,   P01,4,1,21, X12009,2,20070726,1633,42.8142,145.5897,1534,1399.6,2,2.3114,2,2.31154,2,34.4735,2,34.4723,2,45.21,2,46.17,2,156.72,2,0.46,42.45,2,0.15,0.01,2,0.01,3.049,2,0.018,0.158,2,0.078,2,0.01,2,-999,9,-999,9,-999,9,-999,-999,9,-999,9,-999,-999,9,-999,-999,9,-999,-999,9,-999,2.2196,27.5323
49NZ20070724,   P01,4,1,20, X12026,9,20070726,1633,42.8142,145.5897,1534,-999,9,-999,9,-999,9,-999,9,-999,9,-999,9,-999,9,-999,9,-999,-999,9,-999,-999,9,-999,-999,9,-999,-999,9,-999,9,-999,9,-999,9,-999,9,-999,9,-999,-999,9,-999,9,-999,-999,9,-999,-999,9,-999,-999,9,-999,-999,-999
49NZ20070724,   P01,4,1,19, X12025,9,20070726,1633,42.8142,145.5897,1534,1565.2,2,2.2654,2,2.26509,2,34.4942,2,-999,9,47.53,2,-999,9,-999,9,-999,-999,9,-999,-999,9,-999,-999,9,-999,-999,9,-999,9,-999,9,-999,9,-999,9,-999,9,-999,-999,9,-999,9,-999,-999,9,-999,-999,9,-999,-999,9,-999,2.1611,27.5536
49NZ20070724,   P01,4,1,18, X12024,9,20070726,1633,42.8142,145.5897,1534,9.7,2,9.8138,2,9.73218,2,32.8106,2,-999,9,309.7,2,-999,9,-999,9,-999,-999,9,-999,-999,9,-999,-999,9,-999,-999,9,-999,9,-999,9,-999,9,-999,9,-999,9,-999,-999,9,-999,9,-999,-999,9,-999,-999,9,-999,-999,9,-999,9.8127,25.2737
49NZ20070724,   P01,4,1,17, X12023,9,20070726,1633,42.8142,145.5897,1534,50,2,3.388,2,3.38466,2,33.0254,2,-999,9,323.42,2,-999,9,-999,9,-999,-999,9,-999,-999,9,-999,-999,9,-999,-999,9,-999,9,-999,9,-999,9,-999,9,-999,9,-999,-999,9,-999,9,-999,-999,9,-999,-999,9,-999,-999,9,-999,3.385,26.2745
49NZ20070724,   P01,4,1,16, X12022,9,20070726,1633,42.8142,145.5897,1534,99.9,2,2.0629,2,2.06279,2,33.2286,2,-999,9,273.03,2,-999,9,-999,9,-999,-999,9,-999,-999,9,-999,-999,9,-999,-999,9,-999,9,-999,9,-999,9,-999,9,-999,9,-999,-999,9,-999,9,-999,-999,9,-999,-999,9,-999,-999,9,-999,2.0578,26.5482
49NZ20070724,   P01,4,1,15, X12021,9,20070726,1633,42.8142,145.5897,1534,149.5,2,1.954,2,1.954,2,33.3275,2,-999,9,240.73,2,-999,9,-999,9,-999,-999,9,-999,-999,9,-999,-999,9,-999,-999,9,-999,9,-999,9,-999,9,-999,9,-999,9,-999,-999,9,-999,9,-999,-999,9,-999,-999,9,-999,-999,9,-999,1.9465,26.6358
49NZ20070724,   P01,4,1,14, X12020,9,20070726,1633,42.8142,145.5897,1534,198.9,2,1.9063,2,1.90632,2,33.4141,2,-999,9,220.82,2,-999,9,-999,9,-999,-999,9,-999,-999,9,-999,-999,9,-999,-999,9,-999,9,-999,9,-999,9,-999,9,-999,9,-999,-999,9,-999,9,-999,-999,9,-999,-999,9,-999,-999,9,-999,1.8962,26.7089
49NZ20070724,   P01,4,1,13, X12019,9,20070726,1633,42.8142,145.5897,1534,249,2,1.9116,2,1.91164,2,33.4815,2,-999,9,203.92,2,-999,9,-999,9,-999,-999,9,-999,-999,9,-999,-999,9,-999,-999,9,-999,9,-999,9,-999,9,-999,9,-999,9,-999,-999,9,-999,9,-999,-999,9,-999,-999,9,-999,-999,9,-999,1.8988,26.7627
49NZ20070724,   P01,4,1,12, X12040,9,20070726,1633,42.8142,145.5897,1534,299.3,2,2.1453,2,2.14502,2,33.5702,2,-999,9,171.76,2,-999,9,-999,9,-999,-999,9,-999,-999,9,-999,-999,9,-999,-999,9,-999,9,-999,9,-999,9,-999,9,-999,9,-999,-999,9,-999,9,-999,-999,9,-999,-999,9,-999,-999,9,-999,2.1292,26.8163
49NZ20070724,   P01,4,1,11, X12047,9,20070726,1633,42.8142,145.5897,1534,400.8,2,2.6135,2,2.61345,2,33.7541,2,-999,9,115.1,2,-999,9,-999,9,-999,-999,9,-999,-999,9,-999,-999,9,-999,-999,9,-999,9,-999,9,-999,9,-999,9,-999,9,-999,-999,9,-999,9,-999,-999,9,-999,-999,9,-999,-999,9,-999,2.59,26.9261
49NZ20070724,   P01,4,1,10, X12010,9,20070726,1633,42.8142,145.5897,1534,501.8,2,2.9884,2,2.98842,2,33.8904,2,-999,9,73.06,2,-999,9,-999,9,-999,-999,9,-999,-999,9,-999,-999,9,-999,-999,9,-999,9,-999,9,-999,9,-999,9,-999,9,-999,-999,9,-999,9,-999,-999,9,-999,-999,9,-999,-999,9,-999,2.9569,27.0032
49NZ20070724,   P01,4,1,9, X12015,9,20070726,1633,42.8142,145.5897,1534,598.4,2,2.7739,2,2.7739,2,33.9531,2,-999,9,75.53,2,-999,9,-999,9,-999,-999,9,-999,-999,9,-999,-999,9,-999,-999,9,-999,9,-999,9,-999,9,-999,9,-999,9,-999,-999,9,-999,9,-999,-999,9,-999,-999,9,-999,-999,9,-999,2.7368,27.0726
49NZ20070724,   P01,4,1,8, X12046,9,20070726,1633,42.8142,145.5897,1534,699,2,2.9398,2,2.93997,2,34.0421,2,-999,9,54.12,2,-999,9,-999,9,-999,-999,9,-999,-999,9,-999,-999,9,-999,-999,9,-999,9,-999,9,-999,9,-999,9,-999,9,-999,-999,9,-999,9,-999,-999,9,-999,-999,9,-999,-999,9,-999,2.8949,27.1298
49NZ20070724,   P01,4,1,7, X12044,9,20070726,1633,42.8142,145.5897,1534,800.6,2,2.9719,2,2.97162,2,34.1803,2,-999,9,35.28,2,-999,9,-999,9,-999,-999,9,-999,-999,9,-999,-999,9,-999,-999,9,-999,9,-999,9,-999,9,-999,9,-999,9,-999,-999,9,-999,9,-999,-999,9,-999,-999,9,-999,-999,9,-999,2.9194,27.238
49NZ20070724,   P01,4,1,6, X12048,9,20070726,1633,42.8142,145.5897,1534,899.7,2,2.7826,2,2.78241,2,34.2665,2,-999,9,34.72,2,-999,9,-999,9,-999,-999,9,-999,-999,9,-999,-999,9,-999,-999,9,-999,9,-999,9,-999,9,-999,9,-999,9,-999,-999,9,-999,9,-999,-999,9,-999,-999,9,-999,-999,9,-999,2.7241,27.3241
49NZ20070724,   P01,4,1,5, X12017,9,20070726,1633,42.8142,145.5897,1534,1000,2,2.6186,2,2.61916,2,34.3532,2,-999,9,35.86,2,-999,9,-999,9,-999,-999,9,-999,-999,9,-999,-999,9,-999,-999,9,-999,9,-999,9,-999,9,-999,9,-999,9,-999,-999,9,-999,9,-999,-999,9,-999,-999,9,-999,-999,9,-999,2.554,27.4081
49NZ20070724,   P01,4,1,4, X12928,9,20070726,1633,42.8142,145.5897,1534,1200.3,2,2.4786,2,2.47842,2,34.4106,2,-999,9,39.12,2,-999,9,-999,9,-999,-999,9,-999,-999,9,-999,-999,9,-999,-999,9,-999,9,-999,9,-999,9,-999,9,-999,9,-999,-999,9,-999,9,-999,-999,9,-999,-999,9,-999,-999,9,-999,2.4003,27.467
49NZ20070724,   P01,4,1,3, X12931,9,20070726,1633,42.8142,145.5897,1534,1399.8,2,2.315,2,2.31488,2,34.4732,2,-999,9,45.15,2,-999,9,-999,9,-999,-999,9,-999,-999,9,-999,-999,9,-999,-999,9,-999,9,-999,9,-999,9,-999,9,-999,9,-999,-999,9,-999,9,-999,-999,9,-999,-999,9,-999,-999,9,-999,2.2231,27.5317
49NZ20070724,   P01,4,1,2, X12930,9,20070726,1633,42.8142,145.5897,1534,-999,9,-999,9,-999,9,-999,9,-999,9,-999,9,-999,9,-999,9,-999,-999,9,-999,-999,9,-999,-999,9,-999,-999,9,-999,9,-999,9,-999,9,-999,9,-999,9,-999,-999,9,-999,9,-999,-999,9,-999,-999,9,-999,-999,9,-999,-999,-999
49NZ20070724,   P01,4,1,1, X12929,2,20070726,1633,42.8142,145.5897,1534,1565.4,2,2.2655,2,2.26521,2,34.494,2,34.4929,6,47.53,2,48.62,2,158.41,2,0.47,42.41,2,0.15,0.02,2,0.01,3.049,2,0.018,0.133,2,0.068,2,0,2,-999,9,-999,9,-999,9,-999,-999,9,-999,9,-999,-999,9,-999,-999,9,-999,-999,9,-999,2.1612,27.5534