BOTTLE,20081214JAMSTECIORGC,,,,,,,,,,,,,,,,,,,,,,,,,,,,,,,,,,,,,,,,,,,,,,,,,,,,,,,,,,,,,,,,,
EXPOCODE,SECT,STNNBR,CASTNO,SAMPNO,BTLNBR,BTLNBR_FLAG_W,DATE,TIME,LATITUDE,LONGITUDE,DEPTH,CTDPRS,CTDPRS_FLAG_W,CTDTMP,CTDTMP_FLAG_W,SBE35,SBE35_FLAG_W,CTDSAL,CTDSAL_FLAG_W,SALNTY,SALNTY_FLAG_W,CTDOXY,CTDOXY_FLAG_W,OXYGEN,OXYGEN_FLAG_W,SILCAT,SILCAT_FLAG_W,SILUNC,NITRAT,NITRAT_FLAG_W,NRAUNC,NITRIT,NITRIT_FLAG_W,NRIUNC,PHSPHT,PHSPHT_FLAG_W,PHPUNC,CFC-11,CFC-11_FLAG_W,CFC-12,CFC-12_FLAG_W,CFC113,CFC113_FLAG_W,CCL4,CCL4_FLAG_W,TCARBN,TCARBN_FLAG_W,ALKALI,ALKALI_FLAG_W,PH_TOT,PH_TMP,PH_FLAG_W,DELC13,DELC13_FLAG_W,C13ERR,DELC14,DELC14_FLAG_W,C14ERR,CS-137,CS-137_FLAG_W,CS137ER,PLUTO,PLUTO_FLAG_W,PLUTOER,THETA,SIG0
,,,,,,,,UTC,DEG,DEG,M,DBAR,,ITS-90,,ITS-90,,PSS-78,,PSS-78,,UMOL/KG,,UMOL/KG,,UMOL/KG,,UMOL/KG,UMOL/KG,,UMOL/KG,UMOL/KG,,UMOL/KG,UMOL/KG,,UMOL/KG,PMOL/KG,,PMOL/KG,,PMOL/KG,,PMOL/KG,,UMOL/KG,,UMOL/KG,,,ITS-90,,/MILLE,,/MILLE,/MILLE,,/MILLE,BQ/CUM,,BQ/CUM,MBQ/CUM,,MBQ/CUM,DEG C,KG/CUM
49NZ20070724,   P01,88,1,0,-999,9,20070823,600,46.9892,-150.295,5043,-999,9,-999,9,-999,9,-999,9,32.5243,2,-999,9,-999,9,-999,9,-999,-999,9,-999,-999,9,-999,-999,9,-999,-999,9,-999,9,-999,9,-999,9,-999,9,-999,9,-999,-999,9,-999,9,-999,-999,9,-999,-999,9,-999,-999,9,-999,-999,-999
49NZ20070724,   P01,88,1,36, X12042,2,20070823,600,46.9892,-150.295,5043,9.6,2,13.7254,2,13.71823,2,32.5393,2,32.5313,2,280.72,2,277.89,2,2.72,2,0.12,6.32,2,0.05,0.12,2,0.01,0.795,2,0.013,3.27,2,1.845,2,0.3,2,-999,9,-999,9,-999,9,-999,-999,9,-999,9,-999,-999,9,-999,-999,9,-999,-999,9,-999,13.7241,24.3426
49NZ20070724,   P01,88,1,35, X12041,2,20070823,600,46.9892,-150.295,5043,49.9,2,6.5496,2,6.54259,2,32.7047,2,32.7193,2,302.1,2,302.93,2,19.01,2,0.16,12.72,2,0.07,0.15,2,0.01,1.37,2,0.014,4.611,2,2.576,2,0.398,2,-999,9,-999,9,-999,9,-999,-999,9,-999,9,-999,-999,9,-999,-999,9,-999,-999,9,-999,6.5453,25.6707
49NZ20070724,   P01,88,1,34, X12036,2,20070823,600,46.9892,-150.295,5043,100.2,2,5.3209,2,5.32065,2,32.8066,2,32.856,2,302.31,2,299.39,2,21.19,2,0.17,15.18,2,0.08,0.37,2,0,1.398,2,0.014,4.693,2,2.619,2,0.396,2,-999,9,-999,9,-999,9,-999,-999,9,-999,9,-999,-999,9,-999,-999,9,-999,-999,9,-999,5.3132,25.9013
49NZ20070724,   P01,88,1,33, X12033,2,20070823,600,46.9892,-150.295,5043,150.7,2,6.087,2,6.0895,2,33.7198,2,33.7197,2,233.97,2,235.59,2,32.08,2,0.19,21.21,2,0.09,0.02,2,0.01,1.616,2,0.014,4.089,6,2.231,6,0.282,6,-999,9,-999,9,-999,9,-999,-999,9,-999,9,-999,-999,9,-999,-999,9,-999,-999,9,-999,6.0743,26.5317
49NZ20070724,   P01,88,1,32, X12038,2,20070823,600,46.9892,-150.295,5043,200.2,2,5.7591,2,5.76022,2,33.8113,2,33.8108,2,194.54,2,194.59,2,43.33,2,0.21,25.48,2,0.1,0.02,2,0.01,1.891,2,0.015,3.644,2,1.967,2,0.219,2,-999,9,-999,9,-999,9,-999,-999,9,-999,9,-999,-999,9,-999,-999,9,-999,-999,9,-999,5.7426,26.6452
49NZ20070724,   P01,88,1,31, X12003,2,20070823,600,46.9892,-150.295,5043,250,2,5.1852,2,5.18434,2,33.8494,2,33.8477,6,149.94,2,150.25,2,56.78,2,0.24,30.52,2,0.12,0.02,2,0.01,2.235,2,0.016,3.145,2,1.628,2,0.193,2,-999,9,-999,9,-999,9,-999,-999,9,-999,9,-999,-999,9,-999,-999,9,-999,-999,9,-999,5.1657,26.744
49NZ20070724,   P01,88,1,30, X12008,2,20070823,600,46.9892,-150.295,5043,282.6,2,4.9015,2,4.90184,2,33.8855,2,33.8828,2,121.76,2,122.03,2,64.83,2,0.26,33.49,2,0.13,0.02,2,0.01,2.432,2,0.016,2.753,2,1.394,2,0.18,2,-999,9,-999,9,-999,9,-999,-999,9,-999,9,-999,-999,9,-999,-999,9,-999,-999,9,-999,4.8799,26.8053
49NZ20070724,   P01,88,1,29, X12035,2,20070823,600,46.9892,-150.295,5043,372.6,2,4.4172,2,4.41747,2,33.9579,2,33.9543,2,81.75,2,82.39,2,80.19,2,0.3,37.84,2,0.14,0.02,2,0.01,2.71,2,0.017,2.09,2,1.034,2,0.125,2,-999,9,-999,9,-999,9,-999,-999,9,-999,9,-999,-999,9,-999,-999,9,-999,-999,9,-999,4.3899,26.9164
49NZ20070724,   P01,88,1,28, X12034,2,20070823,600,46.9892,-150.295,5043,471,2,4.2565,2,4.25627,2,34.0642,2,34.0624,6,55.51,2,55.12,2,93.35,2,0.32,40.15,2,0.15,0.02,2,0.01,2.89,2,0.017,1.352,2,0.656,2,0.08,2,-999,9,-999,9,-999,9,-999,-999,9,-999,9,-999,-999,9,-999,-999,9,-999,-999,9,-999,4.2222,27.0187
49NZ20070724,   P01,88,1,27, X12049,2,20070823,600,46.9892,-150.295,5043,569.8,2,3.9056,2,3.90572,2,34.1356,2,34.1376,2,34.73,2,35.02,2,106.17,2,0.35,42.11,2,0.15,0.01,2,0.01,3.023,2,0.018,0.858,2,0.407,2,0.052,2,-999,9,-999,9,-999,9,-999,-999,9,-999,9,-999,-999,9,-999,-999,9,-999,-999,9,-999,3.8651,27.1123
49NZ20070724,   P01,88,1,26, X12032,2,20070823,600,46.9892,-150.295,5043,669.9,2,3.6829,2,3.68286,2,34.2031,2,34.2032,2,29.7,2,30.2,2,114.52,2,0.37,42.55,2,0.15,0.02,2,0.01,3.059,2,0.018,0.506,6,0.238,6,0.024,6,-999,9,-999,9,-999,9,-999,-999,9,-999,9,-999,-999,9,-999,-999,9,-999,-999,9,-999,3.6359,27.1888
49NZ20070724,   P01,88,1,25, X12043,2,20070823,600,46.9892,-150.295,5043,770.1,2,3.4481,2,3.44803,2,34.2516,2,34.252,2,25.06,2,25.27,2,122.85,2,0.39,43.16,2,0.15,0.02,2,0.01,3.103,2,0.018,-999,5,-999,5,-999,5,-999,9,-999,9,-999,9,-999,-999,9,-999,9,-999,-999,9,-999,-999,9,-999,-999,9,-999,3.3948,27.2509
49NZ20070724,   P01,88,1,24, X12030,2,20070823,600,46.9892,-150.295,5043,869.3,2,3.2454,2,3.24525,2,34.3057,2,34.3061,2,22.57,2,22.8,2,130.16,2,0.41,43.48,2,0.15,0.01,2,0.01,3.106,2,0.018,0.184,2,0.084,2,0.016,2,-999,9,-999,9,-999,9,-999,-999,9,-999,9,-999,-999,9,-999,-999,9,-999,-999,9,-999,3.1859,27.3137
49NZ20070724,   P01,88,1,23, X12027,2,20070823,600,46.9892,-150.295,5043,972.1,2,3.0361,2,3.03606,2,34.3524,2,34.3514,6,21.08,2,21.12,2,137.13,2,0.42,43.7,2,0.16,0.01,2,0.01,3.138,2,0.018,0.103,2,0.051,2,0.011,2,-999,9,-999,9,-999,9,-999,-999,9,-999,9,-999,-999,9,-999,-999,9,-999,-999,9,-999,2.9703,27.3708
49NZ20070724,   P01,88,1,22, X12028,2,20070823,600,46.9892,-150.295,5043,1130.2,2,2.802,2,2.80178,2,34.4045,2,34.4042,2,16.77,2,16.83,2,145.91,2,0.44,44.3,2,0.16,0.01,2,0.01,3.177,2,0.018,0.033,2,0.016,2,0,2,-999,9,-999,9,-999,9,-999,-999,9,-999,9,-999,-999,9,-999,-999,9,-999,-999,9,-999,2.726,27.4342
49NZ20070724,   P01,88,1,21, X12009,2,20070823,600,46.9892,-150.295,5043,1330.7,2,2.533,2,2.533,2,34.4634,2,34.4632,2,14.27,2,14.16,2,155.48,2,0.46,44.92,2,0.16,0.01,2,0.01,3.189,2,0.018,0.001,2,0,2,0,2,-999,9,-999,9,-999,9,-999,-999,9,-999,9,-999,-999,9,-999,-999,9,-999,-999,9,-999,2.4441,27.5055
49NZ20070724,   P01,88,1,20, X12026,2,20070823,600,46.9892,-150.295,5043,1529.3,2,2.3301,2,2.32987,2,34.5066,2,34.5062,2,19.09,2,19.01,2,162.06,2,0.48,44.68,2,0.16,0.01,2,0.01,3.164,2,0.018,0,2,0,2,0,2,-999,9,-999,9,-999,9,-999,-999,9,-999,9,-999,-999,9,-999,-999,9,-999,-999,9,-999,2.2279,27.5581
49NZ20070724,   P01,88,1,19, X12025,2,20070823,600,46.9892,-150.295,5043,1731.9,2,2.1592,2,2.15888,2,34.5434,2,34.5431,2,29.24,2,29.03,2,166.32,2,0.48,44.11,2,0.16,0.01,2,0.01,3.12,2,0.018,0,2,0,2,0,2,-999,9,-999,9,-999,9,-999,-999,9,-999,9,-999,-999,9,-999,-999,9,-999,-999,9,-999,2.0428,27.6025
49NZ20070724,   P01,88,1,18, X12024,2,20070823,600,46.9892,-150.295,5043,1929.9,2,2.0117,2,2.01173,2,34.5734,2,34.5732,2,43.11,2,42.91,2,169.21,2,0.49,43.17,2,0.15,0.01,2,0.01,3.059,2,0.018,0,2,0,2,0,2,-999,9,-999,9,-999,9,-999,-999,9,-999,9,-999,-999,9,-999,-999,9,-999,-999,9,-999,1.8811,27.6392
49NZ20070724,   P01,88,1,17, X12023,2,20070823,600,46.9892,-150.295,5043,2131.3,2,1.8954,2,1.89545,2,34.5974,2,34.5978,2,55.93,2,55.79,2,171.18,2,0.5,42.5,2,0.15,0.01,2,0.01,3.007,2,0.017,0,2,0,2,0,2,-999,9,-999,9,-999,9,-999,-999,9,-999,9,-999,-999,9,-999,-999,9,-999,-999,9,-999,1.7496,27.6685
49NZ20070724,   P01,88,1,16, X12022,2,20070823,600,46.9892,-150.295,5043,2330,2,1.8026,2,1.80262,2,34.615,2,34.6152,6,68.23,2,68.01,2,171.51,2,0.5,41.81,2,0.15,0.02,2,0.01,2.95,2,0.017,-999,9,-999,9,-999,9,-999,9,-999,9,-999,9,-999,-999,9,-999,9,-999,-999,9,-999,-999,9,-999,-999,9,-999,1.6412,27.6908
49NZ20070724,   P01,88,1,15, X12021,2,20070823,600,46.9892,-150.295,5043,2530.8,2,1.7079,2,1.70796,2,34.6317,2,34.6318,2,82.56,2,82.35,2,169.94,2,0.49,40.59,2,0.15,0.02,2,0.01,2.873,2,0.017,-999,9,-999,9,-999,9,-999,9,-999,9,-999,9,-999,-999,9,-999,9,-999,-999,9,-999,-999,9,-999,-999,9,-999,1.5304,27.7124
49NZ20070724,   P01,88,1,14, X12020,2,20070823,600,46.9892,-150.295,5043,2729.7,2,1.6409,2,1.64086,2,34.6438,2,34.6435,2,94.62,2,94.45,2,168.94,2,0.49,39.94,2,0.14,0.02,2,0.01,2.828,2,0.017,0,2,0,2,0,2,-999,9,-999,9,-999,9,-999,-999,9,-999,9,-999,-999,9,-999,-999,9,-999,-999,9,-999,1.4466,27.7282
49NZ20070724,   P01,88,1,13, X12019,2,20070823,600,46.9892,-150.295,5043,2930.8,2,1.589,2,1.58921,2,34.6537,2,34.6537,2,105.17,2,105.21,2,166.9,2,0.49,39.07,2,0.14,0.01,2,0.01,2.777,2,0.017,-999,9,-999,9,-999,9,-999,9,-999,9,-999,9,-999,-999,9,-999,9,-999,-999,9,-999,-999,9,-999,-999,9,-999,1.3769,27.7411
49NZ20070724,   P01,88,1,12, X12040,2,20070823,600,46.9892,-150.295,5043,3169.8,2,1.5434,2,1.54333,2,34.6626,2,34.6627,2,115.85,2,115.84,2,164.79,2,0.48,38.44,2,0.14,0.01,2,0.01,2.701,2,0.017,-999,9,-999,9,-999,9,-999,9,-999,9,-999,9,-999,-999,9,-999,9,-999,-999,9,-999,-999,9,-999,-999,9,-999,1.3093,27.7531
49NZ20070724,   P01,88,1,11, X12047,2,20070823,600,46.9892,-150.295,5043,3421,2,1.5053,2,1.50531,2,34.6709,2,34.671,2,126.22,2,126.39,2,162.95,2,0.48,37.86,2,0.14,0.02,2,0.01,2.664,2,0.017,0,2,0,2,0,2,-999,9,-999,9,-999,9,-999,-999,9,-999,9,-999,-999,9,-999,-999,9,-999,-999,9,-999,1.2471,27.7641
49NZ20070724,   P01,88,1,10, X12010,2,20070823,600,46.9892,-150.295,5043,3669.6,2,1.4879,2,1.48791,2,34.6765,2,34.6764,6,133.05,2,133.35,2,162.16,2,0.48,37.31,2,0.14,0.01,2,0.01,2.635,2,0.017,-999,9,-999,9,-999,9,-999,9,-999,9,-999,9,-999,-999,9,-999,9,-999,-999,9,-999,-999,9,-999,-999,9,-999,1.2046,27.7715
49NZ20070724,   P01,88,1,9, X12015,2,20070823,600,46.9892,-150.295,5043,3921.5,2,1.4803,2,1.48036,2,34.6811,2,34.6811,2,138.11,2,138.72,2,163.09,2,0.48,37.01,2,0.14,0.01,2,0.01,2.61,2,0.016,-999,9,-999,9,-999,9,-999,9,-999,9,-999,9,-999,-999,9,-999,9,-999,-999,9,-999,-999,9,-999,-999,9,-999,1.1705,27.7776
49NZ20070724,   P01,88,1,8, X12046,2,20070823,600,46.9892,-150.295,5043,4170.1,2,1.4926,2,1.49261,2,34.6837,2,34.6836,2,140.21,2,140.76,2,165.04,2,0.48,36.99,2,0.14,0.02,2,0.01,2.596,2,0.016,0,2,0,2,0,2,-999,9,-999,9,-999,9,-999,-999,9,-999,9,-999,-999,9,-999,-999,9,-999,-999,9,-999,1.1552,27.7807
49NZ20070724,   P01,88,1,7, X12044,2,20070823,600,46.9892,-150.295,5043,4419.8,2,1.5119,2,1.51187,2,34.6851,2,34.685,2,141.62,2,142.19,2,165.96,2,0.48,36.83,2,0.14,0.01,2,0.01,2.594,2,0.016,-999,9,-999,9,-999,9,-999,9,-999,9,-999,9,-999,-999,9,-999,9,-999,-999,9,-999,-999,9,-999,-999,9,-999,1.1458,27.7825
49NZ20070724,   P01,88,1,6, X12048,2,20070823,600,46.9892,-150.295,5043,4669.3,2,1.5325,2,1.53256,2,34.6862,2,34.6858,2,143.19,2,143.72,2,165.7,2,0.48,36.82,2,0.14,0.01,2,0.01,2.587,2,0.016,-999,9,-999,9,-999,9,-999,9,-999,9,-999,9,-999,-999,9,-999,9,-999,-999,9,-999,-999,9,-999,-999,9,-999,1.1368,27.784
49NZ20070724,   P01,88,1,5, X12017,2,20070823,600,46.9892,-150.295,5043,4919.8,2,1.5556,2,1.55563,2,34.6871,2,34.6868,2,144.71,2,145.08,2,165.56,2,0.48,36.68,2,0.14,0.01,2,0.01,2.567,2,0.016,-999,9,-999,9,-999,9,-999,9,-999,9,-999,9,-999,-999,9,-999,9,-999,-999,9,-999,-999,9,-999,-999,9,-999,1.1292,27.7852
49NZ20070724,   P01,88,1,4, X12928,9,20070823,600,46.9892,-150.295,5043,9.8,2,13.7544,2,13.75129,2,32.5394,2,-999,9,280.25,2,-999,9,-999,9,-999,-999,9,-999,-999,9,-999,-999,9,-999,-999,9,-999,9,-999,9,-999,9,-999,9,-999,9,-999,-999,9,-999,9,-999,-999,9,-999,-999,9,-999,-999,9,-999,13.753,24.3367
49NZ20070724,   P01,88,1,3, X12931,9,20070823,600,46.9892,-150.295,5043,50.4,2,6.5553,2,6.55926,2,32.7041,2,-999,9,302.21,2,-999,9,-999,9,-999,-999,9,-999,-999,9,-999,-999,9,-999,-999,9,-999,9,-999,9,-999,9,-999,9,-999,9,-999,-999,9,-999,9,-999,-999,9,-999,-999,9,-999,-999,9,-999,6.551,25.6695
49NZ20070724,   P01,88,1,2, X12930,9,20070823,600,46.9892,-150.295,5043,100,2,5.3223,2,5.32181,2,32.8066,2,-999,9,302.37,2,-999,9,-999,9,-999,-999,9,-999,-999,9,-999,-999,9,-999,-999,9,-999,9,-999,9,-999,9,-999,9,-999,9,-999,-999,9,-999,9,-999,-999,9,-999,-999,9,-999,-999,9,-999,5.3147,25.9011
49NZ20070724,   P01,88,1,1, X12929,2,20070823,600,46.9892,-150.295,5043,5130.9,2,1.5811,2,1.58103,2,34.6872,2,34.6874,6,145.12,2,145.2,2,165.82,2,0.48,36.64,2,0.14,0.02,2,0.01,2.58,2,0.016,0,2,0.001,2,0,2,-999,9,-999,9,-999,9,-999,-999,9,-999,9,-999,-999,9,-999,-999,9,-999,-999,9,-999,1.1281,27.7854