BOTTLE,20081214JAMSTECIORGC,,,,,,,,,,,,,,,,,,,,,,,,,,,,,,,,,,,,,,,,,,,,,,,,,,,,,,,,,,,,,,,,,
EXPOCODE,SECT,STNNBR,CASTNO,SAMPNO,BTLNBR,BTLNBR_FLAG_W,DATE,TIME,LATITUDE,LONGITUDE,DEPTH,CTDPRS,CTDPRS_FLAG_W,CTDTMP,CTDTMP_FLAG_W,SBE35,SBE35_FLAG_W,CTDSAL,CTDSAL_FLAG_W,SALNTY,SALNTY_FLAG_W,CTDOXY,CTDOXY_FLAG_W,OXYGEN,OXYGEN_FLAG_W,SILCAT,SILCAT_FLAG_W,SILUNC,NITRAT,NITRAT_FLAG_W,NRAUNC,NITRIT,NITRIT_FLAG_W,NRIUNC,PHSPHT,PHSPHT_FLAG_W,PHPUNC,CFC-11,CFC-11_FLAG_W,CFC-12,CFC-12_FLAG_W,CFC113,CFC113_FLAG_W,CCL4,CCL4_FLAG_W,TCARBN,TCARBN_FLAG_W,ALKALI,ALKALI_FLAG_W,PH_TOT,PH_TMP,PH_FLAG_W,DELC13,DELC13_FLAG_W,C13ERR,DELC14,DELC14_FLAG_W,C14ERR,CS-137,CS-137_FLAG_W,CS137ER,PLUTO,PLUTO_FLAG_W,PLUTOER,THETA,SIG0
,,,,,,,,UTC,DEG,DEG,M,DBAR,,ITS-90,,ITS-90,,PSS-78,,PSS-78,,UMOL/KG,,UMOL/KG,,UMOL/KG,,UMOL/KG,UMOL/KG,,UMOL/KG,UMOL/KG,,UMOL/KG,UMOL/KG,,UMOL/KG,PMOL/KG,,PMOL/KG,,PMOL/KG,,PMOL/KG,,UMOL/KG,,UMOL/KG,,,ITS-90,,/MILLE,,/MILLE,/MILLE,,/MILLE,BQ/CUM,,BQ/CUM,MBQ/CUM,,MBQ/CUM,DEG C,KG/CUM
49NZ20070724,   P01,64,1,0,-999,9,20070815,1742,46.9993,-177.2105,5710,-999,9,-999,9,-999,9,-999,9,32.6883,2,-999,9,-999,9,-999,9,-999,-999,9,-999,-999,9,-999,-999,9,-999,-999,9,-999,9,-999,9,-999,9,-999,9,-999,9,-999,-999,9,-999,9,-999,-999,9,-999,-999,9,-999,-999,9,-999,-999,-999
49NZ20070724,   P01,64,1,36, X12042,2,20070815,1742,46.9993,-177.2105,5710,9.2,2,13.3751,2,13.37362,2,32.6955,2,32.7096,2,284.08,2,280.84,2,18.83,2,0.16,8.26,2,0.06,0.13,2,0.01,0.935,2,0.013,3.105,2,1.792,2,0.297,2,-999,9,2001,2,2209.2,2,7.9212,25,6,-999,9,-999,-999,9,-999,-999,9,-999,-999,9,-999,13.3738,24.5339
49NZ20070724,   P01,64,1,35, X12041,2,20070815,1742,46.9993,-177.2105,5710,50.1,2,5.8578,2,5.8587,2,33.057,2,33.0631,2,308.72,2,311.84,2,26.96,2,0.18,15.53,2,0.08,0.31,2,0.01,1.473,2,0.014,4.535,2,2.545,2,0.391,2,-999,9,2080.2,6,2230.6,2,7.7768,25,2,-999,9,-999,-999,9,-999,-999,9,-999,-999,9,-999,5.8538,26.0354
49NZ20070724,   P01,64,1,34, X12036,2,20070815,1742,46.9993,-177.2105,5710,100,2,4.7039,2,4.70396,2,33.1456,2,33.1658,2,305.03,2,305,2,28.18,2,0.18,17.94,2,0.08,0.05,2,0.01,1.517,2,0.014,4.618,2,2.575,2,0.406,2,-999,9,2098.7,2,2234.9,6,7.7461,25,2,-999,9,-999,-999,9,-999,-999,9,-999,-999,9,-999,4.6967,26.2386
49NZ20070724,   P01,64,1,33, X12033,2,20070815,1742,46.9993,-177.2105,5710,150.6,2,4.1528,2,4.15216,2,33.5769,2,33.5939,2,212.66,2,208.55,2,51.73,2,0.23,28.39,2,0.11,0.02,2,0.01,2.153,2,0.015,3.877,6,2.094,6,0.278,6,-999,9,2192.9,2,2267.9,2,7.5654,25,6,-999,9,-999,-999,9,-999,-999,9,-999,-999,9,-999,4.1424,26.6396
49NZ20070724,   P01,64,1,32, X12038,2,20070815,1742,46.9993,-177.2105,5710,199.5,2,3.8833,2,3.88411,2,33.7213,2,33.7276,2,147.41,2,147.06,2,67.08,2,0.27,33.64,2,0.13,0.01,2,0.01,2.503,2,0.016,3.201,2,1.676,2,0.223,2,-999,9,2239.6,2,2282.7,2,7.4655,25,2,-999,9,-999,-999,9,-999,-999,9,-999,-999,9,-999,3.8699,26.7821
49NZ20070724,   P01,64,1,31, X12003,2,20070815,1742,46.9993,-177.2105,5710,248.7,2,3.8073,2,3.80728,2,33.8027,2,33.8056,6,113.41,2,115.04,2,76.13,2,0.29,36.41,2,0.13,0.01,2,0.01,2.67,2,0.017,2.754,2,1.428,2,0.191,2,-999,9,2268,2,2291.7,2,7.4162,25,2,-999,9,-999,-999,9,-999,-999,9,-999,-999,9,-999,3.7906,26.8547
49NZ20070724,   P01,64,1,30, X12008,2,20070815,1742,46.9993,-177.2105,5710,329.1,2,3.854,2,3.85366,2,33.9209,2,33.9221,2,77.88,2,78.45,2,87.66,2,0.31,39.23,2,0.14,0.01,2,0.01,2.84,2,0.017,2.077,2,1.058,2,0.15,2,-999,9,2297,2,2305.5,2,7.3701,25,2,-999,9,-999,-999,9,-999,-999,9,-999,-999,9,-999,3.8315,26.9447
49NZ20070724,   P01,64,1,29, X12035,2,20070815,1742,46.9993,-177.2105,5710,430.2,2,3.7668,2,3.76638,2,34.0333,2,34.0393,2,51.9,2,52.03,2,100.72,2,0.34,41.29,2,0.15,0.01,2,0.01,2.981,2,0.017,1.427,2,0.72,2,0.103,2,-999,9,2321.3,2,2321.8,2,7.3414,25,2,-999,9,-999,-999,9,-999,-999,9,-999,-999,9,-999,3.7373,27.0436
49NZ20070724,   P01,64,1,28, X12034,2,20070815,1742,46.9993,-177.2105,5710,528.9,2,3.5629,2,3.56265,2,34.1246,2,34.127,6,31.14,2,31.23,2,113.18,2,0.37,42.91,2,0.15,0.01,2,0.01,3.086,2,0.018,0.935,2,0.47,2,0.067,2,-999,9,2343.9,2,2337.3,2,7.3185,25,2,-999,9,-999,-999,9,-999,-999,9,-999,-999,9,-999,3.5269,27.1369
49NZ20070724,   P01,64,1,27, X12049,2,20070815,1742,46.9993,-177.2105,5710,629.2,2,3.464,2,3.46235,2,34.2136,2,34.2168,2,26.17,2,28.27,2,121.28,2,0.39,43.11,2,0.15,0.01,2,0.01,3.097,2,0.018,0.566,2,0.283,2,0.043,2,-999,9,2352.8,2,2349.1,2,7.3267,25,2,-999,9,-999,-999,9,-999,-999,9,-999,-999,9,-999,3.4211,27.2181
49NZ20070724,   P01,64,1,26, X12032,2,20070815,1742,46.9993,-177.2105,5710,728.7,2,3.3541,2,3.35384,2,34.2907,2,34.2905,2,30.99,2,30.34,2,127.15,2,0.4,42.71,2,0.15,0.01,2,0.01,3.081,2,0.018,0.354,6,0.178,6,0.024,6,-999,9,2359,6,2361,2,7.3474,25,2,-999,9,-999,-999,9,-999,-999,9,-999,-999,9,-999,3.3044,27.2906
49NZ20070724,   P01,64,1,25, X12043,2,20070815,1742,46.9993,-177.2105,5710,830.2,2,3.0999,2,3.09989,2,34.3301,2,34.3313,2,27,2,26.9,2,134.92,2,0.42,43.23,2,0.15,0.01,2,0.01,3.112,2,0.018,0.257,2,0.126,2,0.013,2,-999,9,2368.4,2,2370.1,2,7.3463,25,2,-999,9,-999,-999,9,-999,-999,9,-999,-999,9,-999,3.0442,27.3463
49NZ20070724,   P01,64,1,24, X12030,2,20070815,1742,46.9993,-177.2105,5710,930,2,2.9462,2,2.94597,2,34.3687,2,34.3682,2,27.31,2,26.99,2,139.87,2,0.43,43.29,2,0.15,0.01,2,0.01,3.111,2,0.018,0.194,2,0.091,2,0.013,2,-999,9,2372.3,2,2377.1,2,7.3472,25,6,-999,9,-999,-999,9,-999,-999,9,-999,-999,9,-999,2.8842,27.3916
49NZ20070724,   P01,64,1,23, X12027,2,20070815,1742,46.9993,-177.2105,5710,1072.2,2,2.7126,2,2.71234,2,34.4112,2,34.4112,6,27.04,2,27.15,2,147.15,2,0.44,43.4,2,0.15,0.01,2,0.01,3.118,2,0.018,0.122,2,0.06,2,0.01,2,-999,9,2380.3,2,2384.7,2,7.3503,25,2,-999,9,-999,-999,9,-999,-999,9,-999,-999,9,-999,2.6418,27.4469
49NZ20070724,   P01,64,1,22, X12028,2,20070815,1742,46.9993,-177.2105,5710,1271.3,2,2.4883,2,2.48799,2,34.4627,2,34.4629,2,31.38,2,31.34,2,154.38,2,0.46,43.3,2,0.15,0.01,2,0.01,3.104,2,0.018,0.068,2,0.032,2,0.01,2,-999,9,2385.2,2,2394.1,2,7.3626,25,2,-999,9,-999,-999,9,-999,-999,9,-999,-999,9,-999,2.4044,27.5083
49NZ20070724,   P01,64,1,21, X12009,2,20070815,1742,46.9993,-177.2105,5710,1470.3,2,2.2885,2,2.2884,2,34.507,2,34.5073,2,38.42,2,38.41,2,159.68,2,0.47,43.06,2,0.15,0.01,2,0.01,3.07,2,0.018,0.035,2,0.015,2,0.007,2,-999,9,2388.7,2,2401.3,2,7.3847,25,2,-999,9,-999,-999,9,-999,-999,9,-999,-999,9,-999,2.1914,27.5614
49NZ20070724,   P01,64,1,20, X12026,2,20070815,1742,46.9993,-177.2105,5710,1671.5,2,2.1318,2,2.13172,2,34.5427,2,34.5425,2,46.25,2,46.11,2,163.21,2,0.48,42.66,2,0.15,0.01,2,0.01,3.036,2,0.018,0.012,2,0.006,2,0.01,2,-999,9,2386.6,2,2408,2,7.3986,25,2,-999,9,-999,-999,9,-999,-999,9,-999,-999,9,-999,2.0206,27.6037
49NZ20070724,   P01,64,1,19, X12025,2,20070815,1742,46.9993,-177.2105,5710,1870.9,2,1.9931,2,1.99306,2,34.5735,2,34.5733,2,56.99,2,56.66,2,165.66,2,0.48,42.1,2,0.15,0.01,2,0.01,2.991,2,0.017,0.005,2,0.002,2,0.01,2,-999,9,2379.9,2,2412.1,2,7.4194,25,2,-999,9,-999,-999,9,-999,-999,9,-999,-999,9,-999,1.8676,27.6404
49NZ20070724,   P01,64,1,18, X12024,2,20070815,1742,46.9993,-177.2105,5710,2070.1,2,1.8888,2,1.88861,2,34.5959,2,34.5957,2,67.29,2,66.99,2,166.52,2,0.49,41.43,2,0.15,0.01,2,0.01,2.947,2,0.017,0.005,2,0.001,2,0,2,-999,9,2374.5,3,2414.9,2,7.4385,25,2,-999,9,-999,-999,9,-999,-999,9,-999,-999,9,-999,1.7483,27.6674
49NZ20070724,   P01,64,1,17, X12023,2,20070815,1742,46.9993,-177.2105,5710,2271.2,2,1.7925,2,1.79277,2,34.6151,2,34.6146,2,79.42,2,78.97,2,166.26,2,0.48,40.69,2,0.15,0.01,2,0.01,2.89,2,0.017,0,2,0,2,0,2,-999,9,2373.3,2,2418.1,2,7.4624,25,2,-999,9,-999,-999,9,-999,-999,9,-999,-999,9,-999,1.6364,27.6912
49NZ20070724,   P01,64,1,16, X12022,2,20070815,1742,46.9993,-177.2105,5710,2469.8,2,1.7123,2,1.71223,2,34.6305,2,34.6303,2,91.14,2,90.63,2,165.43,2,0.48,39.92,2,0.14,0.01,2,0.01,2.835,2,0.017,0,2,0,2,0,2,-999,9,2363,2,2418.9,2,7.4846,25,2,-999,9,-999,-999,9,-999,-999,9,-999,-999,9,-999,1.5402,27.7107
49NZ20070724,   P01,64,1,15, X12021,2,20070815,1742,46.9993,-177.2105,5710,2670.7,2,1.6514,2,1.65137,2,34.6421,2,34.6418,6,100.89,2,100.42,2,164.28,2,0.48,39.38,2,0.14,0.01,2,0.01,2.79,2,0.017,-999,9,-999,9,-999,9,-999,9,2361.7,2,2420.3,6,7.503,25,2,-999,9,-999,-999,9,-999,-999,9,-999,-999,9,-999,1.4623,27.7257
49NZ20070724,   P01,64,1,14, X12020,2,20070815,1742,46.9993,-177.2105,5710,2869.6,2,1.6023,2,1.60218,2,34.6516,2,34.6517,2,110,2,109.6,2,162.64,2,0.48,38.81,2,0.14,0.01,2,0.01,2.744,2,0.017,-999,9,-999,9,-999,9,-999,9,2352,2,2420.1,2,7.5194,25,6,-999,9,-999,-999,9,-999,-999,9,-999,-999,9,-999,1.3957,27.7381
49NZ20070724,   P01,64,1,13, X12019,2,20070815,1742,46.9993,-177.2105,5710,3080.1,2,1.5608,2,1.56069,2,34.6597,2,34.6599,2,118.71,2,118.29,2,160.91,2,0.47,38.2,2,0.14,0.01,2,0.01,2.705,2,0.017,0.001,2,0,2,0,2,-999,9,2347.8,2,2420.7,2,7.5344,25,2,-999,9,-999,-999,9,-999,-999,9,-999,-999,9,-999,1.3351,27.7489
49NZ20070724,   P01,64,1,12, X12040,2,20070815,1742,46.9993,-177.2105,5710,3329.9,2,1.5162,2,1.51618,2,34.6685,2,34.6681,2,129.09,2,128.93,2,157.59,2,0.47,37.49,2,0.14,0.01,2,0.01,2.643,2,0.017,-999,9,-999,9,-999,9,-999,9,2338.7,3,2421,2,7.5544,25,2,-999,9,-999,-999,9,-999,-999,9,-999,-999,9,-999,1.2669,27.7608
49NZ20070724,   P01,64,1,11, X12047,2,20070815,1742,46.9993,-177.2105,5710,3580.4,2,1.495,2,1.49505,2,34.6743,2,34.6739,2,135.68,2,135.72,2,156.19,2,0.46,37.01,2,0.14,0,2,0.01,2.612,2,0.017,-999,9,-999,9,-999,9,-999,9,2338.5,2,2421,2,7.5654,25,2,-999,9,-999,-999,9,-999,-999,9,-999,-999,9,-999,1.2208,27.7686
49NZ20070724,   P01,64,1,10, X12010,2,20070815,1742,46.9993,-177.2105,5710,3831.1,2,1.4768,2,1.47681,2,34.6794,2,34.6793,2,141.77,2,141.78,2,154.99,2,0.46,36.64,2,0.14,0.01,2,0.01,2.585,2,0.016,0.001,2,0,2,0,2,-999,9,2330.4,3,2420.3,2,7.5771,25,2,-999,9,-999,-999,9,-999,-999,9,-999,-999,9,-999,1.1768,27.7758
49NZ20070724,   P01,64,1,9, X12015,2,20070815,1742,46.9993,-177.2105,5710,4079.5,2,1.4724,2,1.47239,2,34.683,2,34.6828,2,146.03,2,146.08,2,154.75,2,0.46,36.45,2,0.13,0.01,2,0.01,2.559,2,0.016,-999,9,-999,9,-999,9,-999,9,2334,2,2421.4,2,7.5853,25,2,-999,9,-999,-999,9,-999,-999,9,-999,-999,9,-999,1.1456,27.7808
49NZ20070724,   P01,64,1,8, X12046,2,20070815,1742,46.9993,-177.2105,5710,4330.2,2,1.4791,2,1.47908,2,34.6857,2,34.6851,6,148.95,2,149.05,2,155.24,2,0.46,36.23,2,0.13,0.01,2,0.01,2.543,2,0.016,-999,9,-999,9,-999,9,-999,9,2331,6,2423.2,2,7.5919,25,2,-999,9,-999,-999,9,-999,-999,9,-999,-999,9,-999,1.1242,27.7844
49NZ20070724,   P01,64,1,7, X12044,2,20070815,1742,46.9993,-177.2105,5710,4579.5,2,1.4958,2,1.49581,2,34.6875,2,34.6871,2,150.36,2,150.69,2,156.69,2,0.46,36.18,2,0.13,0,2,0.01,2.538,2,0.016,0,2,0,2,0,2,-999,9,2332.1,2,2423.4,6,7.5948,25,2,-999,9,-999,-999,9,-999,-999,9,-999,-999,9,-999,1.1117,27.7867
49NZ20070724,   P01,64,1,6, X12048,2,20070815,1742,46.9993,-177.2105,5710,4831,2,1.5213,2,1.5213,2,34.6882,2,34.6879,2,151.11,2,151.33,2,157.71,2,0.47,36.1,2,0.13,0.01,2,0.01,2.531,2,0.016,-999,9,-999,9,-999,9,-999,9,2330.5,2,2424.8,2,7.5975,25,6,-999,9,-999,-999,9,-999,-999,9,-999,-999,9,-999,1.1067,27.7876
49NZ20070724,   P01,64,1,5, X12017,2,20070815,1742,46.9993,-177.2105,5710,5080.2,2,1.5502,2,1.55024,2,34.6885,2,34.688,2,151.64,2,151.74,2,158.2,2,0.47,36.04,2,0.13,0.01,2,0.01,2.527,2,0.016,-999,9,-999,9,-999,9,-999,9,2330.7,2,2423.9,2,7.5982,25,2,-999,9,-999,-999,9,-999,-999,9,-999,-999,9,-999,1.1045,27.7881
49NZ20070724,   P01,64,1,4, X12928,2,20070815,1742,46.9993,-177.2105,5710,5330,2,1.5797,2,1.57969,2,34.6889,2,34.6887,2,152.41,2,152.39,2,158.01,2,0.47,36.01,2,0.13,0,2,0.01,2.528,2,0.016,0.002,2,0,2,0,2,-999,9,2330.7,2,2422.8,2,7.5988,25,2,-999,9,-999,-999,9,-999,-999,9,-999,-999,9,-999,1.1018,27.7885
49NZ20070724,   P01,64,1,3, X12931,2,20070815,1742,46.9993,-177.2105,5710,5579.4,2,1.6122,2,1.61217,2,34.6888,2,34.6886,2,152.81,2,152.7,2,157.8,2,0.47,35.99,2,0.13,0.01,2,0.01,2.521,2,0.016,-999,9,-999,9,-999,9,-999,9,2329.6,2,2423.5,2,7.5985,25,2,-999,9,-999,-999,9,-999,-999,9,-999,-999,9,-999,1.1013,27.7885
49NZ20070724,   P01,64,1,2, X12930,9,20070815,1742,46.9993,-177.2105,5710,9.4,2,13.3701,2,13.36916,2,32.6983,2,-999,9,284.61,2,-999,9,-999,9,-999,-999,9,-999,-999,9,-999,-999,9,-999,-999,9,-999,9,-999,9,-999,9,-999,9,-999,9,-999,-999,9,-999,9,-999,-999,9,-999,-999,9,-999,-999,9,-999,13.3688,24.5371
49NZ20070724,   P01,64,1,1, X12929,2,20070815,1742,46.9993,-177.2105,5710,5823,2,1.6438,2,1.64361,2,34.6889,2,34.6888,6,153.5,2,153.18,2,157.14,2,0.46,35.98,2,0.13,0.01,2,0.01,2.522,2,0.016,0.002,2,0,2,0,2,-999,9,2327.7,2,2422,2,7.5988,25,2,-999,9,-999,-999,9,-999,-999,9,-999,-999,9,-999,1.0999,27.7887