BOTTLE,20081214JAMSTECIORGC,,,,,,,,,,,,,,,,,,,,,,,,,,,,,,,,,,,,,,,,,,,,,,,,,,,,,,,,,,,,,,,,,
EXPOCODE,SECT,STNNBR,CASTNO,SAMPNO,BTLNBR,BTLNBR_FLAG_W,DATE,TIME,LATITUDE,LONGITUDE,DEPTH,CTDPRS,CTDPRS_FLAG_W,CTDTMP,CTDTMP_FLAG_W,SBE35,SBE35_FLAG_W,CTDSAL,CTDSAL_FLAG_W,SALNTY,SALNTY_FLAG_W,CTDOXY,CTDOXY_FLAG_W,OXYGEN,OXYGEN_FLAG_W,SILCAT,SILCAT_FLAG_W,SILUNC,NITRAT,NITRAT_FLAG_W,NRAUNC,NITRIT,NITRIT_FLAG_W,NRIUNC,PHSPHT,PHSPHT_FLAG_W,PHPUNC,CFC-11,CFC-11_FLAG_W,CFC-12,CFC-12_FLAG_W,CFC113,CFC113_FLAG_W,CCL4,CCL4_FLAG_W,TCARBN,TCARBN_FLAG_W,ALKALI,ALKALI_FLAG_W,PH_TOT,PH_TMP,PH_FLAG_W,DELC13,DELC13_FLAG_W,C13ERR,DELC14,DELC14_FLAG_W,C14ERR,CS-137,CS-137_FLAG_W,CS137ER,PLUTO,PLUTO_FLAG_W,PLUTOER,THETA,SIG0
,,,,,,,,UTC,DEG,DEG,M,DBAR,,ITS-90,,ITS-90,,PSS-78,,PSS-78,,UMOL/KG,,UMOL/KG,,UMOL/KG,,UMOL/KG,UMOL/KG,,UMOL/KG,UMOL/KG,,UMOL/KG,UMOL/KG,,UMOL/KG,PMOL/KG,,PMOL/KG,,PMOL/KG,,PMOL/KG,,UMOL/KG,,UMOL/KG,,,ITS-90,,/MILLE,,/MILLE,/MILLE,,/MILLE,BQ/CUM,,BQ/CUM,MBQ/CUM,,MBQ/CUM,DEG C,KG/CUM
49NZ20070724,   P01,106,1,0,-999,9,20070827,2153,46.9802,-130.031,2631,-999,9,-999,9,-999,9,-999,9,32.3568,2,-999,9,-999,9,-999,9,-999,-999,9,-999,-999,9,-999,-999,9,-999,-999,9,-999,9,-999,9,-999,9,-999,9,-999,9,-999,-999,9,-999,9,-999,-999,9,-999,-999,9,-999,-999,9,-999,-999,-999
49NZ20070724,   P01,106,1,36, X12042,2,20070827,2153,46.9802,-130.031,2631,9.8,2,16.8556,2,16.8593,2,32.3593,2,32.3512,2,262.03,2,261.6,2,6.47,2,0.13,0.42,2,0.03,0.03,2,0.01,0.485,2,0.013,2.745,2,1.584,2,-999,5,-999,9,1946.1,2,2181.3,2,7.9848,25,6,-999,9,-999,-999,9,-999,-999,9,-999,-999,9,-999,16.854,23.5224
49NZ20070724,   P01,106,1,35, X12041,2,20070827,2153,46.9802,-130.031,2631,49.2,2,9.5137,2,9.50042,2,32.4338,2,32.4402,2,285.61,2,288.09,2,8.56,2,0.14,6.84,2,0.05,0.32,2,0.01,0.978,2,0.013,3.933,2,2.213,2,0.368,2,-999,9,2012.5,6,2180.4,2,7.838,25,2,-999,9,-999,-999,9,-999,-999,9,-999,-999,9,-999,9.5084,25.0289
49NZ20070724,   P01,106,1,34, X12036,2,20070827,2153,46.9802,-130.031,2631,100.2,2,7.3004,2,7.3004,2,32.6631,2,32.7287,2,267.36,2,262.83,2,15.71,2,0.15,14.44,2,0.07,0.02,2,0.01,1.325,2,0.014,4.172,2,2.324,2,0.32,2,-999,9,2062.7,2,2196.3,6,7.7497,25,2,-999,9,-999,-999,9,-999,-999,9,-999,-999,9,-999,7.2912,25.5388
49NZ20070724,   P01,106,1,33, X12033,2,20070827,2153,46.9802,-130.031,2631,150.4,2,7.7396,2,7.73727,2,33.6953,2,33.6999,2,117.38,2,119.89,2,36.35,2,0.2,29.3,2,0.11,0.02,2,0.01,2.199,2,0.016,3.347,6,1.764,6,0.202,6,-999,9,2199.1,2,2246.4,2,7.4952,25,2,-999,9,-999,-999,9,-999,-999,9,-999,-999,9,-999,7.725,26.2893
49NZ20070724,   P01,106,1,32, X12038,2,20070827,2153,46.9802,-130.031,2631,199.8,2,7.3027,2,7.30337,2,33.9178,2,33.9158,2,91.19,2,92.15,2,44.2,2,0.22,32.55,2,0.12,0.01,2,0.01,2.381,2,0.016,2.914,2,1.474,2,0.168,2,-999,9,2228,2,2262.7,2,7.4536,25,2,-999,9,-999,-999,9,-999,-999,9,-999,-999,9,-999,7.2839,26.527
49NZ20070724,   P01,106,1,31, X12003,2,20070827,2153,46.9802,-130.031,2631,250,2,6.7494,2,6.7495,2,33.9576,2,33.956,6,83.15,2,83.69,2,50.86,2,0.23,34.38,2,0.13,0.01,2,0.01,2.486,2,0.016,2.582,2,1.272,2,0.138,2,-999,9,2244.8,2,2271.5,2,7.4331,25,2,-999,9,-999,-999,9,-999,-999,9,-999,-999,9,-999,6.7268,26.6346
49NZ20070724,   P01,106,1,30, X12008,2,20070827,2153,46.9802,-130.031,2631,279.6,2,6.4294,2,6.42951,2,33.9566,2,33.9539,2,84.43,2,85.55,2,53.12,2,0.24,34.58,2,0.13,0.01,2,0.01,2.497,2,0.016,2.523,2,1.232,2,0.144,2,-999,9,2246.6,2,2275.4,2,7.431,25,2,-999,9,-999,-999,9,-999,-999,9,-999,-999,9,-999,6.4047,26.6763
49NZ20070724,   P01,106,1,29, X12035,2,20070827,2153,46.9802,-130.031,2631,370.7,2,5.6654,2,5.66541,2,33.9898,2,33.9891,2,60.3,2,60.83,2,65.76,2,0.26,38.29,2,0.14,0.01,2,0.01,2.743,2,0.017,1.878,2,0.881,2,0.094,2,-999,9,2274.4,2,2287.4,2,7.3821,25,2,-999,9,-999,-999,9,-999,-999,9,-999,-999,9,-999,5.6346,26.7996
49NZ20070724,   P01,106,1,28, X12034,2,20070827,2153,46.9802,-130.031,2631,470.1,2,5.0339,2,5.03366,2,34.0515,2,34.0505,6,38.96,2,39.37,2,79.7,2,0.29,41,2,0.15,0.01,2,0.01,2.946,2,0.017,1.198,2,0.556,2,0.057,2,-999,9,2306.7,2,2304.3,2,7.3439,25,2,-999,9,-999,-999,9,-999,-999,9,-999,-999,9,-999,4.9968,26.9237
49NZ20070724,   P01,106,1,27, X12049,2,20070827,2153,46.9802,-130.031,2631,569.4,2,4.4196,2,4.4198,2,34.1073,2,34.1053,2,26.93,2,27.57,2,93.56,2,0.32,42.66,2,0.15,0.01,2,0.01,3.048,2,0.018,0.738,2,0.344,2,0.029,2,-999,9,2328.9,2,2319.4,2,7.3243,25,2,-999,9,-999,-999,9,-999,-999,9,-999,-999,9,-999,4.3769,27.0365
49NZ20070724,   P01,106,1,26, X12032,2,20070827,2153,46.9802,-130.031,2631,670,2,4.2014,2,4.20141,2,34.1821,2,34.1821,2,16.79,2,16.91,2,102.95,2,0.35,43.55,2,0.15,0,2,0.01,3.131,2,0.018,0.359,6,0.171,6,0.022,6,-999,9,2344.2,6,2332.9,2,7.3159,25,2,-999,9,-999,-999,9,-999,-999,9,-999,-999,9,-999,4.1517,27.1198
49NZ20070724,   P01,106,1,25, X12043,2,20070827,2153,46.9802,-130.031,2631,770,2,3.9045,2,3.90431,2,34.2465,2,34.2446,2,12.18,2,12.23,2,112.88,2,0.37,43.99,2,0.16,0.01,2,0.01,3.178,2,0.018,0.171,2,0.079,2,0.011,2,-999,9,2355.2,2,2346.3,6,7.3162,25,2,-999,9,-999,-999,9,-999,-999,9,-999,-999,9,-999,3.8485,27.2022
49NZ20070724,   P01,106,1,24, X12030,2,20070827,2153,46.9802,-130.031,2631,870,2,3.7264,2,3.72636,2,34.3127,2,34.313,2,9.37,2,9.12,2,120.5,2,0.38,44.01,2,0.16,0.01,2,0.01,3.205,2,0.018,0.074,2,0.031,2,0,2,-999,9,2365.6,2,2358.8,2,7.3193,25,6,-999,9,-999,-999,9,-999,-999,9,-999,-999,9,-999,3.6636,27.2734
49NZ20070724,   P01,106,1,23, X12027,9,20070827,2153,46.9802,-130.031,2631,1130.6,2,3.1495,2,3.14934,2,34.417,2,-999,9,11.71,2,-999,9,-999,9,-999,-999,9,-999,-999,9,-999,-999,9,-999,-999,9,-999,9,-999,9,-999,9,-999,9,-999,9,-999,-999,9,-999,9,-999,-999,9,-999,-999,9,-999,-999,9,-999,3.0704,27.4133
49NZ20070724,   P01,106,1,22, X12028,2,20070827,2153,46.9802,-130.031,2631,1130.3,2,3.1481,2,3.14844,2,34.4173,2,34.4175,6,11.73,2,11.61,2,138.27,2,0.42,44.63,2,0.16,0.01,2,0.01,3.212,2,0.018,0.014,2,0.005,2,0,2,-999,9,2384.1,2,2381,2,7.3335,25,2,-999,9,-999,-999,9,-999,-999,9,-999,-999,9,-999,3.0691,27.4136
49NZ20070724,   P01,106,1,21, X12009,2,20070827,2153,46.9802,-130.031,2631,1331.6,2,2.7522,2,2.75213,2,34.4729,2,34.4731,2,18.2,2,18.11,2,149.91,2,0.45,44.37,2,0.16,0.01,2,0.01,3.186,2,0.018,0.004,2,0,2,0,2,-999,9,2392.4,2,2393.1,2,7.3476,25,2,-999,9,-999,-999,9,-999,-999,9,-999,-999,9,-999,2.661,27.4946
49NZ20070724,   P01,106,1,20, X12026,2,20070827,2153,46.9802,-130.031,2631,1530.2,2,2.372,2,2.37192,2,34.5181,2,34.5183,2,29.22,2,29.25,2,159.63,2,0.47,43.96,2,0.16,0.01,2,0.01,3.113,2,0.018,0.003,2,0,2,0,2,-999,9,2397.4,3,2403.7,2,7.3682,25,6,-999,9,-999,-999,9,-999,-999,9,-999,-999,9,-999,2.2692,27.5639
49NZ20070724,   P01,106,1,19, X12025,2,20070827,2153,46.9802,-130.031,2631,1729.8,2,2.1334,2,2.13349,2,34.5545,2,34.5546,2,42.46,2,42.45,2,165.74,2,0.48,43.14,2,0.15,0,2,0.01,3.053,2,0.018,0.002,2,0,2,0,2,-999,9,2390.7,2,2411.4,2,7.3934,25,2,-999,9,-999,-999,9,-999,-999,9,-999,-999,9,-999,2.0175,27.6134
49NZ20070724,   P01,106,1,18, X12024,2,20070827,2153,46.9802,-130.031,2631,1930.8,2,1.9827,2,1.98277,2,34.5867,2,34.5869,2,56.99,2,57.21,2,169.75,2,0.49,42.22,2,0.15,0,2,0.01,2.991,2,0.017,0.002,2,0.003,2,0,2,-999,9,2388.1,2,2418.4,2,7.4277,25,2,-999,9,-999,-999,9,-999,-999,9,-999,-999,9,-999,1.8524,27.6521
49NZ20070724,   P01,106,1,17, X12023,2,20070827,2153,46.9802,-130.031,2631,2130.4,2,1.8918,2,1.8917,2,34.6018,2,34.6024,6,64.87,2,65.1,2,171.6,2,0.5,41.77,2,0.15,0.01,2,0.01,2.957,2,0.017,0,2,0,2,0,2,-999,9,2384.6,2,2421.3,2,7.4424,25,2,-999,9,-999,-999,9,-999,-999,9,-999,-999,9,-999,1.7462,27.6723
49NZ20070724,   P01,106,1,16, X12022,2,20070827,2153,46.9802,-130.031,2631,2329.9,2,1.8098,2,1.80984,2,34.6168,2,34.6173,2,73.85,2,74,2,173.17,2,0.5,41.26,2,0.15,0,2,0.01,2.912,2,0.017,0.007,2,0.008,2,0,2,-999,9,2382.9,6,2424.3,2,7.4612,25,2,-999,9,-999,-999,9,-999,-999,9,-999,-999,9,-999,1.6483,27.6917
49NZ20070724,   P01,106,1,15, X12021,2,20070827,2153,46.9802,-130.031,2631,2532.1,2,1.7472,2,1.74701,2,34.6294,2,34.6298,2,82.52,2,82.86,2,174.17,2,0.5,40.69,2,0.15,0.01,2,0.01,2.872,2,0.017,0.009,2,0.007,2,0,2,-999,9,2377.4,2,2426.6,6,7.4793,25,2,-999,9,-999,-999,9,-999,-999,9,-999,-999,9,-999,1.5689,27.7077
49NZ20070724,   P01,106,1,14, X12020,2,20070827,2153,46.9802,-130.031,2631,971.1,2,3.5114,2,3.51117,2,34.3531,2,34.3525,2,9.44,2,9.32,2,127.26,2,0.4,44.44,2,0.16,0.01,2,0.01,3.223,2,0.018,0.043,2,0.018,2,0,2,-999,9,2374.3,2,2367.4,2,7.3249,25,2,-999,9,-999,-999,9,-999,-999,9,-999,-999,9,-999,3.4421,27.3273
49NZ20070724,   P01,106,1,13, X12019,9,20070827,2153,46.9802,-130.031,2631,9.6,2,16.8372,2,16.83662,2,32.3595,2,-999,9,262.29,2,-999,9,-999,9,-999,-999,9,-999,-999,9,-999,-999,9,-999,-999,9,-999,9,-999,9,-999,9,-999,9,-999,9,-999,-999,9,-999,9,-999,-999,9,-999,-999,9,-999,-999,9,-999,16.8357,23.5269
49NZ20070724,   P01,106,1,12, X12040,9,20070827,2153,46.9802,-130.031,2631,49.4,2,9.5205,2,9.52016,2,32.4332,2,-999,9,285.42,2,-999,9,-999,9,-999,-999,9,-999,-999,9,-999,-999,9,-999,-999,9,-999,9,-999,9,-999,9,-999,9,-999,9,-999,-999,9,-999,9,-999,-999,9,-999,-999,9,-999,-999,9,-999,9.5152,25.0273
49NZ20070724,   P01,106,1,11, X12047,9,20070827,2153,46.9802,-130.031,2631,100.2,2,7.3002,2,7.30021,2,32.6651,2,-999,9,268.03,2,-999,9,-999,9,-999,-999,9,-999,-999,9,-999,-999,9,-999,-999,9,-999,9,-999,9,-999,9,-999,9,-999,9,-999,-999,9,-999,9,-999,-999,9,-999,-999,9,-999,-999,9,-999,7.291,25.5404
49NZ20070724,   P01,106,1,10, X12010,9,20070827,2153,46.9802,-130.031,2631,150.3,2,7.7445,2,7.74359,2,33.6976,2,-999,9,118.19,2,-999,9,-999,9,-999,-999,9,-999,-999,9,-999,-999,9,-999,-999,9,-999,9,-999,9,-999,9,-999,9,-999,9,-999,-999,9,-999,9,-999,-999,9,-999,-999,9,-999,-999,9,-999,7.7299,26.2904
49NZ20070724,   P01,106,1,9, X12015,9,20070827,2153,46.9802,-130.031,2631,199.1,2,7.3135,2,7.31367,2,33.9159,2,-999,9,91.07,2,-999,9,-999,9,-999,-999,9,-999,-999,9,-999,-999,9,-999,-999,9,-999,9,-999,9,-999,9,-999,9,-999,9,-999,-999,9,-999,9,-999,-999,9,-999,-999,9,-999,-999,9,-999,7.2947,26.524
49NZ20070724,   P01,106,1,8, X12046,9,20070827,2153,46.9802,-130.031,2631,249.7,2,6.7488,2,6.74877,2,33.9578,2,-999,9,83.13,2,-999,9,-999,9,-999,-999,9,-999,-999,9,-999,-999,9,-999,-999,9,-999,9,-999,9,-999,9,-999,9,-999,9,-999,-999,9,-999,9,-999,-999,9,-999,-999,9,-999,-999,9,-999,6.7262,26.6348
49NZ20070724,   P01,106,1,7, X12044,9,20070827,2153,46.9802,-130.031,2631,1530.1,2,2.372,2,2.37195,2,34.518,2,-999,9,29.14,2,-999,9,-999,9,-999,-999,9,-999,-999,9,-999,-999,9,-999,-999,9,-999,9,-999,9,-999,9,-999,9,-999,9,-999,-999,9,-999,9,-999,-999,9,-999,-999,9,-999,-999,9,-999,2.2692,27.5638
49NZ20070724,   P01,106,1,6, X12048,9,20070827,2153,46.9802,-130.031,2631,1729.6,2,2.1335,2,2.13355,2,34.5545,2,-999,9,42.35,2,-999,9,-999,9,-999,-999,9,-999,-999,9,-999,-999,9,-999,-999,9,-999,9,-999,9,-999,9,-999,9,-999,9,-999,-999,9,-999,9,-999,-999,9,-999,-999,9,-999,-999,9,-999,2.0176,27.6134
49NZ20070724,   P01,106,1,5, X12014,9,20070827,2153,46.9802,-130.031,2631,279.9,2,6.4291,2,6.42944,2,33.9567,2,-999,9,84.44,2,-999,9,-999,9,-999,-999,9,-999,-999,9,-999,-999,9,-999,-999,9,-999,9,-999,9,-999,9,-999,9,-999,9,-999,-999,9,-999,9,-999,-999,9,-999,-999,9,-999,-999,9,-999,6.4044,26.6765
49NZ20070724,   P01,106,1,4, X12928,9,20070827,2153,46.9802,-130.031,2631,370.9,2,5.6647,2,5.66473,2,33.99,2,-999,9,60.24,2,-999,9,-999,9,-999,-999,9,-999,-999,9,-999,-999,9,-999,-999,9,-999,9,-999,9,-999,9,-999,9,-999,9,-999,-999,9,-999,9,-999,-999,9,-999,-999,9,-999,-999,9,-999,5.6339,26.7998
49NZ20070724,   P01,106,1,3, X12931,9,20070827,2153,46.9802,-130.031,2631,971.2,2,3.5125,2,3.51244,2,34.3531,2,-999,9,9.43,2,-999,9,-999,9,-999,-999,9,-999,-999,9,-999,-999,9,-999,-999,9,-999,9,-999,9,-999,9,-999,9,-999,9,-999,-999,9,-999,9,-999,-999,9,-999,-999,9,-999,-999,9,-999,3.4431,27.3272
49NZ20070724,   P01,106,1,2, X12930,9,20070827,2153,46.9802,-130.031,2631,1331.8,2,2.7522,2,2.7523,2,34.4729,2,-999,9,18.16,2,-999,9,-999,9,-999,-999,9,-999,-999,9,-999,-999,9,-999,-999,9,-999,9,-999,9,-999,9,-999,9,-999,9,-999,-999,9,-999,9,-999,-999,9,-999,-999,9,-999,-999,9,-999,2.661,27.4946
49NZ20070724,   P01,106,1,1, X12929,2,20070827,2153,46.9802,-130.031,2631,2656,2,1.7439,2,1.74375,2,34.6315,2,34.6319,6,83.88,2,84.45,2,174.14,2,0.5,40.55,2,0.15,0.01,2,0.01,2.866,2,0.017,0,2,0,2,0,2,-999,9,2376.7,2,2428,2,7.4815,25,2,-999,9,-999,-999,9,-999,-999,9,-999,-999,9,-999,1.5544,27.7105