BOTTLE,20081214JAMSTECIORGC,,,,,,,,,,,,,,,,,,,,,,,,,,,,,,,,,,,,,,,,,,,,,,,,,,,,,,,,,,,,,,,,,
EXPOCODE,SECT,STNNBR,CASTNO,SAMPNO,BTLNBR,BTLNBR_FLAG_W,DATE,TIME,LATITUDE,LONGITUDE,DEPTH,CTDPRS,CTDPRS_FLAG_W,CTDTMP,CTDTMP_FLAG_W,SBE35,SBE35_FLAG_W,CTDSAL,CTDSAL_FLAG_W,SALNTY,SALNTY_FLAG_W,CTDOXY,CTDOXY_FLAG_W,OXYGEN,OXYGEN_FLAG_W,SILCAT,SILCAT_FLAG_W,SILUNC,NITRAT,NITRAT_FLAG_W,NRAUNC,NITRIT,NITRIT_FLAG_W,NRIUNC,PHSPHT,PHSPHT_FLAG_W,PHPUNC,CFC-11,CFC-11_FLAG_W,CFC-12,CFC-12_FLAG_W,CFC113,CFC113_FLAG_W,CCL4,CCL4_FLAG_W,TCARBN,TCARBN_FLAG_W,ALKALI,ALKALI_FLAG_W,PH_TOT,PH_TMP,PH_FLAG_W,DELC13,DELC13_FLAG_W,C13ERR,DELC14,DELC14_FLAG_W,C14ERR,CS-137,CS-137_FLAG_W,CS137ER,PLUTO,PLUTO_FLAG_W,PLUTOER,THETA,SIG0
,,,,,,,,UTC,DEG,DEG,M,DBAR,,ITS-90,,ITS-90,,PSS-78,,PSS-78,,UMOL/KG,,UMOL/KG,,UMOL/KG,,UMOL/KG,UMOL/KG,,UMOL/KG,UMOL/KG,,UMOL/KG,UMOL/KG,,UMOL/KG,PMOL/KG,,PMOL/KG,,PMOL/KG,,PMOL/KG,,UMOL/KG,,UMOL/KG,,,ITS-90,,/MILLE,,/MILLE,/MILLE,,/MILLE,BQ/CUM,,BQ/CUM,MBQ/CUM,,MBQ/CUM,DEG C,KG/CUM
49NZ20070724,   P01,71,1,0,-999,9,20070817,1948,46.9945,-169.3425,5617,-999,9,-999,9,-999,9,-999,9,32.5489,2,-999,9,-999,9,-999,9,-999,-999,9,-999,-999,9,-999,-999,9,-999,-999,9,-999,9,-999,9,-999,9,-999,9,-999,9,-999,-999,9,-999,9,-999,-999,9,-999,-999,1,-999,-999,1,-999,-999,-999
49NZ20070724,   P01,71,1,36, X12042,2,20070817,1948,46.9945,-169.3425,5617,10.3,2,10.588,2,10.63981,2,32.7223,2,32.7145,2,297.21,2,296.58,2,21.35,2,0.17,12.2,2,0.07,0.14,2,0.01,1.251,2,0.013,3.733,2,2.104,2,0.338,2,-999,9,-999,9,-999,9,-999,-999,9,-999,9,-999,-999,9,-999,-999,9,-999,-999,9,-999,10.5868,25.0744
49NZ20070724,   P01,71,1,35, X12041,2,20070817,1948,46.9945,-169.3425,5617,50.1,2,5.0606,2,5.07435,2,32.916,2,32.9182,2,316.07,2,315.38,2,28.24,2,0.18,16.89,2,0.08,0.38,2,0,1.548,2,0.014,4.712,2,2.643,2,0.405,2,-999,9,-999,9,-999,9,-999,-999,9,-999,9,-999,-999,9,-999,-999,9,-999,-999,9,-999,5.0569,26.0169
49NZ20070724,   P01,71,1,34, X12036,2,20070817,1948,46.9945,-169.3425,5617,99.2,2,4.4949,2,4.49039,2,32.9664,2,32.9703,2,310.36,2,310.12,2,29.99,2,0.18,19.07,2,0.09,0.03,2,0.01,1.596,2,0.014,4.766,2,2.671,2,0.408,2,-999,9,-999,9,-999,9,-999,-999,9,-999,9,-999,-999,9,-999,-999,1,-999,-999,9,-999,4.4879,26.1187
49NZ20070724,   P01,71,1,33, X12033,2,20070817,1948,46.9945,-169.3425,5617,150.1,2,3.3995,2,3.39942,2,33.4181,2,33.4722,2,212.69,2,208.31,2,54.58,2,0.24,30.17,2,0.12,0.01,2,0.01,2.275,2,0.016,4.08,6,2.192,6,0.304,6,-999,9,-999,9,-999,9,-999,-999,9,-999,9,-999,-999,9,-999,-999,9,-999,-999,9,-999,3.3901,26.5869
49NZ20070724,   P01,71,1,32, X12038,2,20070817,1948,46.9945,-169.3425,5617,200.5,2,3.5328,2,3.53423,2,33.6976,2,33.7043,2,139.16,2,136.91,2,70.99,2,0.28,35.6,2,0.13,0.02,2,0.01,2.606,2,0.016,3.239,2,1.685,2,0.222,2,-999,9,-999,9,-999,9,-999,-999,9,-999,9,-999,-999,9,-999,-999,1,-999,-999,9,-999,3.5199,26.7975
49NZ20070724,   P01,71,1,31, X12003,2,20070817,1948,46.9945,-169.3425,5617,249.4,2,3.5816,2,3.58137,2,33.812,2,33.818,6,97.3,2,94.78,2,82.41,2,0.3,38.94,2,0.14,0.01,2,0.01,2.811,2,0.017,2.585,2,1.311,2,0.174,2,-999,9,-999,9,-999,9,-999,-999,9,-999,9,-999,-999,9,-999,-999,9,-999,-999,9,-999,3.5653,26.8842
49NZ20070724,   P01,71,1,30, X12008,2,20070817,1948,46.9945,-169.3425,5617,279.8,2,3.6206,2,3.62035,2,33.8624,2,33.868,2,79.91,2,78.21,2,87.04,2,0.31,40.15,2,0.15,0.01,2,0.01,2.872,2,0.017,2.306,2,1.164,2,0.154,2,-999,9,-999,9,-999,9,-999,-999,9,-999,9,-999,-999,9,-999,-999,9,-999,-999,9,-999,3.6021,26.9208
49NZ20070724,   P01,71,1,29, X12035,2,20070817,1948,46.9945,-169.3425,5617,370.7,2,3.639,2,3.63822,2,34.008,2,34.0125,2,39.75,2,39.27,2,102.24,2,0.34,43.24,2,0.15,0.01,2,0.01,3.071,2,0.018,1.465,2,0.724,2,0.096,2,-999,9,-999,9,-999,9,-999,-999,9,-999,9,-999,-999,9,-999,-999,1,-999,-999,9,-999,3.6141,27.0356
49NZ20070724,   P01,71,1,28, X12034,2,20070817,1948,46.9945,-169.3425,5617,469.8,2,3.5475,2,3.54704,2,34.1311,2,34.1345,6,28.04,2,28.68,2,113.86,2,0.37,43.54,2,0.15,0.01,2,0.01,3.093,2,0.018,0.872,2,0.43,2,0.056,2,-999,9,-999,9,-999,9,-999,-999,9,-999,9,-999,-999,9,-999,-999,9,-999,-999,9,-999,3.5158,27.1432
49NZ20070724,   P01,71,1,27, X12049,2,20070817,1948,46.9945,-169.3425,5617,571.1,2,3.4169,2,3.4167,2,34.2179,2,34.222,2,22.63,2,22.64,2,122.7,2,0.39,43.75,2,0.16,0,2,0.01,3.12,2,0.018,0.5,2,0.238,2,0.029,2,-999,9,-999,9,-999,9,-999,-999,9,-999,9,-999,-999,9,-999,-999,1,-999,-999,9,-999,3.3784,27.2256
49NZ20070724,   P01,71,1,26, X12032,2,20070817,1948,46.9945,-169.3425,5617,672.8,2,3.2408,2,3.24059,2,34.2751,2,34.2757,2,22.19,2,22.22,2,129.91,2,0.4,43.75,2,0.16,0.01,2,0.01,3.12,2,0.018,0.343,6,0.168,6,0.02,6,-999,9,-999,9,-999,9,-999,-999,9,-999,9,-999,-999,9,-999,-999,9,-999,-999,9,-999,3.1958,27.2884
49NZ20070724,   P01,71,1,25, X12043,2,20070817,1948,46.9945,-169.3425,5617,772,2,3.0719,2,3.07168,2,34.3203,2,34.3212,2,21.48,2,21.55,2,136.06,2,0.42,43.98,2,0.16,0.01,2,0.01,3.139,2,0.018,0.23,2,0.107,2,0.016,2,-999,9,-999,9,-999,9,-999,-999,9,-999,9,-999,-999,9,-999,-999,1,-999,-999,9,-999,3.0207,27.3406
49NZ20070724,   P01,71,1,24, X12030,2,20070817,1948,46.9945,-169.3425,5617,870.7,2,2.9052,2,2.90496,2,34.3647,2,34.3646,2,22.41,2,22.7,2,141.48,2,0.43,43.8,2,0.16,0,2,0.01,3.126,2,0.018,0.154,2,0.076,2,0.009,2,-999,9,-999,9,-999,9,-999,-999,9,-999,9,-999,-999,9,-999,-999,9,-999,-999,9,-999,2.8478,27.3916
49NZ20070724,   P01,71,1,23, X12027,2,20070817,1948,46.9945,-169.3425,5617,970.1,2,2.7712,2,2.77105,2,34.3989,2,34.3989,6,24.58,2,24.47,2,145.9,2,0.44,43.88,2,0.16,0.01,2,0.01,3.12,2,0.018,0.108,2,0.05,2,0.009,2,-999,9,-999,9,-999,9,-999,-999,9,-999,9,-999,-999,9,-999,-999,1,-999,-999,9,-999,2.7075,27.4313
49NZ20070724,   P01,71,1,22, X12028,2,20070817,1948,46.9945,-169.3425,5617,1132,2,2.5453,2,2.54505,2,34.4468,2,34.4471,2,27.61,2,27.7,2,153.08,2,0.46,43.9,2,0.16,0,2,0.01,3.12,2,0.018,0.061,2,0.028,2,0.006,2,-999,9,-999,9,-999,9,-999,-999,9,-999,9,-999,-999,9,-999,-999,9,-999,-999,9,-999,2.4714,27.49
49NZ20070724,   P01,71,1,21, X12009,2,20070817,1948,46.9945,-169.3425,5617,1331.9,2,2.3568,2,2.35667,2,34.4896,2,34.4894,2,33.35,2,33.49,2,158.34,2,0.47,43.65,2,0.16,0,2,0.01,3.091,2,0.018,0.032,2,0.014,2,0,2,-999,9,-999,9,-999,9,-999,-999,9,-999,9,-999,-999,9,-999,-999,9,-999,-999,9,-999,2.2696,27.5411
49NZ20070724,   P01,71,1,20, X12026,2,20070817,1948,46.9945,-169.3425,5617,1530.4,2,2.1966,2,2.19659,2,34.5277,2,34.5277,2,39.69,2,39.67,2,162.38,2,0.48,43.43,2,0.15,0,2,0.01,3.066,2,0.018,0.01,2,0.006,2,0.005,2,-999,9,-999,9,-999,9,-999,-999,9,-999,9,-999,-999,9,-999,-999,9,-999,-999,9,-999,2.0958,27.5856
49NZ20070724,   P01,71,1,19, X12025,2,20070817,1948,46.9945,-169.3425,5617,1729.7,2,2.0631,2,2.06299,2,34.5586,2,34.5584,2,47.87,2,47.71,2,165.48,2,0.48,42.98,2,0.15,0.01,2,0.01,3.027,2,0.018,0.002,2,0.001,2,0,2,-999,9,-999,9,-999,9,-999,-999,9,-999,9,-999,-999,9,-999,-999,1,-999,-999,9,-999,1.9481,27.6221
49NZ20070724,   P01,71,1,18, X12024,2,20070817,1948,46.9945,-169.3425,5617,1929.6,2,1.9458,2,1.94583,2,34.5844,2,34.5844,2,57.46,2,57.14,2,167.18,2,0.49,42.52,2,0.15,0,2,0.01,2.989,2,0.017,0,2,0.001,2,0,2,-999,9,-999,9,-999,9,-999,-999,9,-999,9,-999,-999,9,-999,-999,1,-999,-999,9,-999,1.8162,27.653
49NZ20070724,   P01,71,1,17, X12023,2,20070817,1948,46.9945,-169.3425,5617,2129.9,2,1.8294,2,1.82917,2,34.6072,2,34.6074,2,70.96,2,70.62,2,167.82,2,0.49,41.62,2,0.15,0,2,0.01,2.924,2,0.017,0,2,0,2,0,2,-999,9,-999,9,-999,9,-999,-999,9,-999,9,-999,-999,9,-999,-999,1,-999,-999,9,-999,1.6848,27.6813
49NZ20070724,   P01,71,1,16, X12022,2,20070817,1948,46.9945,-169.3425,5617,2329.7,2,1.7492,2,1.74911,2,34.6231,2,34.6232,2,81.88,2,81.44,2,167.22,2,0.49,40.92,2,0.15,0,2,0.01,2.877,2,0.017,-999,9,-999,9,-999,9,-999,9,-999,9,-999,9,-999,-999,9,-999,9,-999,-999,9,-999,-999,9,-999,-999,9,-999,1.5887,27.7012
49NZ20070724,   P01,71,1,15, X12021,2,20070817,1948,46.9945,-169.3425,5617,2529.4,2,1.6762,2,1.67614,2,34.6365,2,34.6365,6,93.5,2,93.09,2,166.49,2,0.49,40.11,2,0.15,0,2,0.01,2.819,2,0.017,0,2,0,2,0,2,-999,9,-999,9,-999,9,-999,-999,9,-999,9,-999,-999,9,-999,-999,9,-999,-999,9,-999,1.4994,27.7185
49NZ20070724,   P01,71,1,14, X12020,2,20070817,1948,46.9945,-169.3425,5617,2730,2,1.6159,2,1.61607,2,34.6477,2,34.648,2,104.12,2,104.05,2,164.52,2,0.48,39.5,2,0.14,0,2,0.01,2.773,2,0.017,-999,9,-999,9,-999,9,-999,9,-999,9,-999,9,-999,-999,9,-999,9,-999,-999,9,-999,-999,1,-999,-999,9,-999,1.422,27.7331
49NZ20070724,   P01,71,1,13, X12019,2,20070817,1948,46.9945,-169.3425,5617,2929.1,2,1.572,2,1.5715,2,34.656,2,34.6563,2,113.27,2,112.95,2,162.95,2,0.48,38.93,2,0.14,0,2,0.01,2.726,2,0.017,-999,9,-999,9,-999,9,-999,9,-999,9,-999,9,-999,-999,9,-999,9,-999,-999,9,-999,-999,1,-999,-999,9,-999,1.3605,27.7442
49NZ20070724,   P01,71,1,12, X12040,2,20070817,1948,46.9945,-169.3425,5617,3169.7,2,1.528,2,1.52785,2,34.6647,2,34.6649,2,123.23,2,123.07,2,160.33,2,0.47,38.09,2,0.14,0,2,0.01,2.666,2,0.017,0,2,0,2,0,2,-999,9,-999,9,-999,9,-999,-999,9,-999,9,-999,-999,9,-999,-999,1,-999,-999,9,-999,1.2943,27.7558
49NZ20070724,   P01,71,1,11, X12047,2,20070817,1948,46.9945,-169.3425,5617,3420.3,2,1.4931,2,1.49302,2,34.6721,2,34.6721,2,131.96,2,131.84,2,158.25,2,0.47,37.62,2,0.14,0,2,0.01,2.636,2,0.017,-999,9,-999,9,-999,9,-999,9,-999,9,-999,9,-999,-999,9,-999,9,-999,-999,9,-999,-999,9,-999,-999,9,-999,1.2353,27.7658
49NZ20070724,   P01,71,1,10, X12010,2,20070817,1948,46.9945,-169.3425,5617,3669.4,2,1.4763,2,1.47652,2,34.6773,2,34.6772,2,138.04,2,138.24,2,156.67,2,0.46,37.09,2,0.14,0.01,2,0.01,2.593,2,0.016,-999,9,-999,9,-999,9,-999,9,-999,9,-999,9,-999,-999,9,-999,9,-999,-999,9,-999,-999,1,-999,-999,9,-999,1.1933,27.773
49NZ20070724,   P01,71,1,9, X12015,2,20070817,1948,46.9945,-169.3425,5617,3919.2,2,1.47,2,1.47013,2,34.6812,2,34.681,2,142.84,2,143.02,2,156.23,2,0.46,36.92,2,0.14,0,2,0.01,2.57,2,0.016,0,2,0,2,0,2,-999,9,-999,9,-999,9,-999,-999,9,-999,9,-999,-999,9,-999,-999,1,-999,-999,9,-999,1.1607,27.7783
49NZ20070724,   P01,71,1,8, X12046,2,20070817,1948,46.9945,-169.3425,5617,4170.6,2,1.4692,2,1.46912,2,34.6846,2,34.6845,6,146.84,2,147.17,2,156.7,2,0.46,36.59,2,0.14,0,2,0.01,2.552,2,0.016,-999,9,-999,9,-999,9,-999,9,-999,9,-999,9,-999,-999,9,-999,9,-999,-999,9,-999,-999,1,-999,-999,9,-999,1.1324,27.783
49NZ20070724,   P01,71,1,7, X12044,2,20070817,1948,46.9945,-169.3425,5617,4420.2,2,1.4826,2,1.48265,2,34.6869,2,34.6868,2,148.57,2,148.91,2,158.21,2,0.47,36.46,2,0.13,0,2,0.01,2.54,2,0.016,-999,9,-999,9,-999,9,-999,9,-999,9,-999,9,-999,-999,9,-999,9,-999,-999,9,-999,-999,9,-999,-999,9,-999,1.1173,27.7859
49NZ20070724,   P01,71,1,6, X12048,2,20070817,1948,46.9945,-169.3425,5617,4670.7,2,1.5096,2,1.5096,2,34.6875,2,34.6869,2,148.83,2,149.19,2,159.6,2,0.47,36.53,2,0.14,0.01,2,0.01,2.538,2,0.016,0,2,0,2,0,2,-999,9,-999,9,-999,9,-999,-999,9,-999,9,-999,-999,9,-999,-999,1,-999,-999,9,-999,1.1144,27.7866
49NZ20070724,   P01,71,1,5, X12017,2,20070817,1948,46.9945,-169.3425,5617,4920.6,2,1.5391,2,1.53909,2,34.6877,2,34.6872,2,149.08,2,149.56,2,159.66,2,0.47,36.52,2,0.14,0,2,0.01,2.539,2,0.016,-999,9,-999,9,-999,9,-999,9,-999,9,-999,9,-999,-999,9,-999,9,-999,-999,9,-999,-999,1,-999,-999,9,-999,1.1132,27.7868
49NZ20070724,   P01,71,1,4, X12928,2,20070817,1948,46.9945,-169.3425,5617,5169.9,2,1.5673,2,1.56723,2,34.6881,2,34.6883,2,149.97,2,150.22,2,159.28,2,0.47,36.35,2,0.13,0.01,2,0.01,2.528,2,0.016,0.001,2,0.001,2,0,2,-999,9,-999,9,-999,9,-999,-999,9,-999,9,-999,-999,9,-999,-999,1,-999,-999,9,-999,1.1099,27.7873
49NZ20070724,   P01,71,1,3, X12931,2,20070817,1948,46.9945,-169.3425,5617,5420.1,2,1.5956,2,1.59544,2,34.6884,2,34.688,2,151.14,2,151.31,2,158.89,2,0.47,36.37,2,0.13,0,2,0.01,2.522,2,0.016,-999,9,-999,9,-999,9,-999,9,-999,9,-999,9,-999,-999,9,-999,9,-999,-999,9,-999,-999,9,-999,-999,9,-999,1.1058,27.7879
49NZ20070724,   P01,71,1,2, X12930,2,20070817,1948,46.9945,-169.3425,5617,5670,2,1.6222,2,1.62218,2,34.6889,2,34.6885,2,153.07,2,152.9,2,156.79,2,0.46,36.2,2,0.13,0,2,0.01,2.514,2,0.016,-999,9,-999,9,-999,9,-999,9,-999,9,-999,9,-999,-999,9,-999,9,-999,-999,9,-999,-999,1,-999,-999,9,-999,1.0992,27.7887
49NZ20070724,   P01,71,1,1, X12929,2,20070817,1948,46.9945,-169.3425,5617,5726.7,2,1.6279,2,1.62797,2,34.6891,2,34.6888,6,153.55,2,153.32,2,155.81,2,0.46,36.12,2,0.13,0,2,0.01,2.514,2,0.016,0,2,0,2,0,2,-999,9,-999,9,-999,9,-999,-999,9,-999,9,-999,-999,9,-999,-999,1,-999,-999,9,-999,1.0973,27.789