BOTTLE,20081214JAMSTECIORGC,,,,,,,,,,,,,,,,,,,,,,,,,,,,,,,,,,,,,,,,,,,,,,,,,,,,,,,,,,,,,,,,,
EXPOCODE,SECT,STNNBR,CASTNO,SAMPNO,BTLNBR,BTLNBR_FLAG_W,DATE,TIME,LATITUDE,LONGITUDE,DEPTH,CTDPRS,CTDPRS_FLAG_W,CTDTMP,CTDTMP_FLAG_W,SBE35,SBE35_FLAG_W,CTDSAL,CTDSAL_FLAG_W,SALNTY,SALNTY_FLAG_W,CTDOXY,CTDOXY_FLAG_W,OXYGEN,OXYGEN_FLAG_W,SILCAT,SILCAT_FLAG_W,SILUNC,NITRAT,NITRAT_FLAG_W,NRAUNC,NITRIT,NITRIT_FLAG_W,NRIUNC,PHSPHT,PHSPHT_FLAG_W,PHPUNC,CFC-11,CFC-11_FLAG_W,CFC-12,CFC-12_FLAG_W,CFC113,CFC113_FLAG_W,CCL4,CCL4_FLAG_W,TCARBN,TCARBN_FLAG_W,ALKALI,ALKALI_FLAG_W,PH_TOT,PH_TMP,PH_FLAG_W,DELC13,DELC13_FLAG_W,C13ERR,DELC14,DELC14_FLAG_W,C14ERR,CS-137,CS-137_FLAG_W,CS137ER,PLUTO,PLUTO_FLAG_W,PLUTOER,THETA,SIG0
,,,,,,,,UTC,DEG,DEG,M,DBAR,,ITS-90,,ITS-90,,PSS-78,,PSS-78,,UMOL/KG,,UMOL/KG,,UMOL/KG,,UMOL/KG,UMOL/KG,,UMOL/KG,UMOL/KG,,UMOL/KG,UMOL/KG,,UMOL/KG,PMOL/KG,,PMOL/KG,,PMOL/KG,,PMOL/KG,,UMOL/KG,,UMOL/KG,,,ITS-90,,/MILLE,,/MILLE,/MILLE,,/MILLE,BQ/CUM,,BQ/CUM,MBQ/CUM,,MBQ/CUM,DEG C,KG/CUM
49NZ20070724,   P01,28,1,0,-999,9,20070801,819,42.3297,152.0905,5121,-999,9,-999,9,-999,9,-999,9,33.2436,2,-999,9,-999,9,-999,9,-999,-999,9,-999,-999,9,-999,-999,9,-999,-999,9,-999,9,-999,9,-999,9,-999,9,-999,9,-999,-999,9,-999,9,-999,-999,9,-999,-999,9,-999,-999,9,-999,-999,-999
49NZ20070724,   P01,28,1,36, X12042,2,20070801,819,42.3297,152.0905,5121,10,2,15.6218,2,15.62061,2,33.2374,2,33.2619,2,271.47,2,271.52,2,3.6,2,0.13,3.71,2,0.04,0.11,2,0.01,0.595,2,0.013,2.986,2,1.864,2,0.377,2,-999,9,-999,9,-999,9,-999,-999,9,-999,9,-999,-999,9,-999,-999,9,-999,-999,9,-999,15.6203,24.4772
49NZ20070724,   P01,28,1,35, X12041,2,20070801,819,42.3297,152.0905,5121,50.3,2,4.2556,2,4.27022,2,33.1852,2,33.1918,2,308.03,2,311.03,2,34.96,2,0.2,21,2,0.09,0.12,2,0.01,1.731,2,0.014,4.908,2,3.001,2,0.518,2,-999,9,-999,9,-999,9,-999,-999,9,-999,9,-999,-999,9,-999,-999,9,-999,-999,9,-999,4.2522,26.317
49NZ20070724,   P01,28,1,34, X12036,2,20070801,819,42.3297,152.0905,5121,100.5,2,2.2473,2,2.24775,2,33.2364,2,33.2515,2,296.5,2,297.17,2,46.05,2,0.22,25.3,2,0.1,0.03,2,0.01,1.984,2,0.015,4.967,2,3.037,2,0.474,2,-999,9,-999,9,-999,9,-999,-999,9,-999,9,-999,-999,9,-999,-999,9,-999,-999,9,-999,2.242,26.5402
49NZ20070724,   P01,28,1,33, X12033,2,20070801,819,42.3297,152.0905,5121,150.3,2,2.0682,2,2.06794,2,33.4101,2,33.4275,2,215.98,2,213.24,2,65.86,2,0.26,32.45,2,0.12,0.02,2,0.01,2.454,2,0.016,4.185,2,2.475,2,0.357,2,-999,9,-999,9,-999,9,-999,-999,9,-999,9,-999,-999,9,-999,-999,9,-999,-999,9,-999,2.0605,26.6934
49NZ20070724,   P01,28,1,32, X12038,2,20070801,819,42.3297,152.0905,5121,202.1,2,2.4307,2,2.43237,2,33.5743,2,33.5775,2,160.51,2,161.81,2,76.9,2,0.29,35.63,2,0.13,0.02,2,0.01,2.662,2,0.017,3.546,2,2.059,2,0.288,2,-999,9,-999,9,-999,9,-999,-999,9,-999,9,-999,-999,9,-999,-999,9,-999,-999,9,-999,2.4195,26.7964
49NZ20070724,   P01,28,1,31, X12003,2,20070801,819,42.3297,152.0905,5121,250.9,2,2.8048,2,2.8047,2,33.7143,2,33.7233,6,131.1,2,130.06,2,83.94,2,0.3,36.93,2,0.14,0.02,2,0.01,2.726,2,0.017,2.943,2,1.681,2,0.232,2,-999,9,-999,9,-999,9,-999,-999,9,-999,9,-999,-999,9,-999,-999,9,-999,-999,9,-999,2.79,26.8772
49NZ20070724,   P01,28,1,30, X12008,2,20070801,819,42.3297,152.0905,5121,303.1,2,2.8642,2,2.86456,2,33.7943,2,33.801,2,97.96,2,97.32,2,93.32,2,0.32,39.62,2,0.14,0.02,2,0.01,2.896,2,0.017,2.519,2,1.419,2,0.205,2,-999,9,-999,9,-999,9,-999,-999,9,-999,9,-999,-999,9,-999,-999,9,-999,-999,9,-999,2.846,26.9362
49NZ20070724,   P01,28,1,29, X12035,2,20070801,819,42.3297,152.0905,5121,401.5,2,3.2213,2,3.22067,2,33.9778,2,33.9843,2,62.13,2,61.68,2,105.39,2,0.35,41.48,2,0.15,0.01,2,0.01,3.002,2,0.017,1.687,2,0.932,2,0.122,2,-999,9,-999,9,-999,9,-999,-999,9,-999,9,-999,-999,9,-999,-999,9,-999,-999,9,-999,3.1956,27.0512
49NZ20070724,   P01,28,1,28, X12034,2,20070801,819,42.3297,152.0905,5121,500,2,3.258,2,3.25718,2,34.107,2,34.1243,6,45.78,2,46.91,2,115.32,2,0.37,42.01,2,0.15,0.02,2,0.01,3.028,2,0.018,1.079,2,0.594,2,0.069,2,-999,9,-999,9,-999,9,-999,-999,9,-999,9,-999,-999,9,-999,-999,9,-999,-999,9,-999,3.2253,27.1516
49NZ20070724,   P01,28,1,27, X12049,2,20070801,819,42.3297,152.0905,5121,598.8,2,3.6816,2,3.6819,2,34.2692,2,34.2728,2,44.73,2,45.4,2,116.93,2,0.38,41.3,2,0.15,0.02,2,0.01,2.972,2,0.017,0.489,2,0.263,2,0.026,2,-999,9,-999,9,-999,9,-999,-999,9,-999,9,-999,-999,9,-999,-999,9,-999,-999,9,-999,3.6399,27.2411
49NZ20070724,   P01,28,1,26, X12032,2,20070801,819,42.3297,152.0905,5121,701,2,3.4233,2,3.42351,2,34.3253,2,34.3266,2,41.26,2,41.96,2,124.69,2,0.39,41.84,2,0.15,0.02,2,0.01,3.01,2,0.017,0.315,6,0.163,6,0.013,6,-999,9,-999,9,-999,9,-999,-999,9,-999,9,-999,-999,9,-999,-999,9,-999,-999,9,-999,3.3752,27.3115
49NZ20070724,   P01,28,1,25, X12043,2,20070801,819,42.3297,152.0905,5121,799.8,2,3.2018,2,3.2019,2,34.3679,2,34.3689,2,39.85,2,40.13,2,130.86,2,0.41,42.27,2,0.15,0.03,2,0.01,3.028,2,0.018,0.207,2,0.102,2,0.007,2,-999,9,-999,9,-999,9,-999,-999,9,-999,9,-999,-999,9,-999,-999,9,-999,-999,9,-999,3.1477,27.3669
49NZ20070724,   P01,28,1,24, X12030,2,20070801,819,42.3297,152.0905,5121,900.3,2,3.0214,2,3.02149,2,34.4042,2,34.4047,2,40.31,2,40.36,2,135.71,2,0.42,42.29,2,0.15,0.02,2,0.01,3.024,2,0.018,0.148,2,0.068,2,0.011,2,-999,9,-999,9,-999,9,-999,-999,9,-999,9,-999,-999,9,-999,-999,9,-999,-999,9,-999,2.961,27.413
49NZ20070724,   P01,28,1,23, X12027,2,20070801,819,42.3297,152.0905,5121,999,2,2.8546,2,2.8544,2,34.4285,2,34.4303,6,39.6,2,39.74,2,140.81,2,0.43,42.58,2,0.15,0.01,2,0.01,3.045,2,0.018,0.113,2,0.05,2,0.004,2,-999,9,-999,9,-999,9,-999,-999,9,-999,9,-999,-999,9,-999,-999,9,-999,-999,9,-999,2.788,27.4479
49NZ20070724,   P01,28,1,22, X12028,2,20070801,819,42.3297,152.0905,5121,1199,2,2.5258,2,2.52491,2,34.4756,2,34.4763,2,40.34,2,40.39,2,150.24,2,0.45,42.83,2,0.15,0.02,2,0.01,3.064,2,0.018,0.073,2,0.032,2,0.003,2,-999,9,-999,9,-999,9,-999,-999,9,-999,9,-999,-999,9,-999,-999,9,-999,-999,9,-999,2.447,27.515
49NZ20070724,   P01,28,1,21, X12009,2,20070801,819,42.3297,152.0905,5121,1400.7,2,2.2964,2,2.29652,2,34.5165,2,34.517,2,47.15,2,47.16,2,156.02,2,0.46,42.6,2,0.15,0.01,2,0.01,3.035,2,0.018,0.022,2,0.023,2,0,2,-999,9,-999,9,-999,9,-999,-999,9,-999,9,-999,-999,9,-999,-999,9,-999,-999,9,-999,2.2045,27.5679
49NZ20070724,   P01,28,1,20, X12026,2,20070801,819,42.3297,152.0905,5121,1601.6,2,2.1342,2,2.13432,2,34.5494,2,34.5496,2,56.34,2,56.11,2,158.98,2,0.47,42.12,2,0.15,0.02,2,0.01,2.993,2,0.017,0.013,2,0.01,2,0.004,2,-999,9,-999,9,-999,9,-999,-999,9,-999,9,-999,-999,9,-999,-999,9,-999,-999,9,-999,2.0285,27.6084
49NZ20070724,   P01,28,1,19, X12025,2,20070801,819,42.3297,152.0905,5121,1799.9,2,2.0036,2,2.00368,2,34.5745,2,34.5749,2,66.24,2,65.8,2,160.8,2,0.47,41.56,2,0.15,0.01,2,0.01,2.946,2,0.017,0.003,2,0.005,2,0.003,2,-999,9,-999,9,-999,9,-999,-999,9,-999,9,-999,-999,9,-999,-999,9,-999,-999,9,-999,1.8838,27.6398
49NZ20070724,   P01,28,1,18, X12024,2,20070801,819,42.3297,152.0905,5121,2003,2,1.8907,2,1.89075,2,34.5987,2,34.5988,2,77.57,2,77.21,2,161.02,2,0.47,40.89,2,0.15,0.02,2,0.01,2.889,2,0.017,0,2,0.001,2,0.004,2,-999,9,-999,9,-999,9,-999,-999,9,-999,9,-999,-999,9,-999,-999,9,-999,-999,9,-999,1.7558,27.6691
49NZ20070724,   P01,28,1,17, X12023,2,20070801,819,42.3297,152.0905,5121,2201.9,2,1.7845,2,1.78463,2,34.6196,2,34.6198,2,90.48,2,90.01,2,159.82,2,0.47,40.08,2,0.15,0.01,2,0.01,2.836,2,0.017,0,2,0,2,0,2,-999,9,-999,9,-999,9,-999,-999,9,-999,9,-999,-999,9,-999,-999,9,-999,-999,9,-999,1.6345,27.695
49NZ20070724,   P01,28,1,16, X12022,2,20070801,819,42.3297,152.0905,5121,2400.1,2,1.6985,2,1.69856,2,34.6349,2,34.6354,2,100.77,2,100.48,2,159.49,2,0.47,39.47,2,0.14,0.02,2,0.01,2.782,2,0.017,-999,9,-999,9,-999,9,-999,9,-999,9,-999,9,-999,-999,9,-999,9,-999,-999,9,-999,-999,9,-999,-999,9,-999,1.5328,27.7148
49NZ20070724,   P01,28,1,15, X12021,2,20070801,819,42.3297,152.0905,5121,2600.9,2,1.631,2,1.63088,2,34.6469,2,34.6475,6,111.16,2,110.74,2,157.84,2,0.47,38.88,2,0.14,0.01,2,0.01,2.734,2,0.017,-999,9,-999,9,-999,9,-999,9,-999,9,-999,9,-999,-999,9,-999,9,-999,-999,9,-999,-999,9,-999,-999,9,-999,1.4486,27.7305
49NZ20070724,   P01,28,1,14, X12020,2,20070801,819,42.3297,152.0905,5121,2802.2,2,1.5825,2,1.58258,2,34.6558,2,34.6565,2,119.83,2,119.47,2,155.81,2,0.46,38.29,2,0.14,0.02,2,0.01,2.683,2,0.017,0,2,0.002,2,0,2,-999,9,-999,9,-999,9,-999,-999,9,-999,9,-999,-999,9,-999,-999,9,-999,-999,9,-999,1.3826,27.7424
49NZ20070724,   P01,28,1,13, X12019,2,20070801,819,42.3297,152.0905,5121,3002.7,2,1.5419,2,1.54201,2,34.663,2,34.6635,2,126.72,2,126.43,2,154.5,2,0.46,37.83,2,0.14,0.01,2,0.01,2.656,2,0.017,-999,9,-999,9,-999,9,-999,9,-999,9,-999,9,-999,-999,9,-999,9,-999,-999,9,-999,-999,9,-999,-999,9,-999,1.324,27.7524
49NZ20070724,   P01,28,1,12, X12040,2,20070801,819,42.3297,152.0905,5121,3252.2,2,1.5063,2,1.5065,2,34.6701,2,34.6704,2,134.28,2,134.17,2,152.17,2,0.45,37.12,2,0.14,0.01,2,0.01,2.607,2,0.016,-999,9,-999,9,-999,9,-999,9,-999,9,-999,9,-999,-999,9,-999,9,-999,-999,9,-999,-999,9,-999,-999,9,-999,1.265,27.7622
49NZ20070724,   P01,28,1,11, X12047,2,20070801,819,42.3297,152.0905,5121,3501.3,2,1.4795,2,1.47954,2,34.6756,2,34.6762,2,140.66,2,140.71,2,150.72,2,0.45,36.83,2,0.14,0.02,2,0.01,2.573,2,0.016,0,2,0,2,0,2,-999,9,-999,9,-999,9,-999,-999,9,-999,9,-999,-999,9,-999,-999,9,-999,-999,9,-999,1.2138,27.7702
49NZ20070724,   P01,28,1,10, X12010,2,20070801,819,42.3297,152.0905,5121,3750.3,2,1.4634,2,1.46354,2,34.6801,2,34.6803,2,145.93,2,146.1,2,149.55,2,0.45,36.49,2,0.13,0.01,2,0.01,2.554,2,0.016,-999,9,-999,9,-999,9,-999,9,-999,9,-999,9,-999,-999,9,-999,9,-999,-999,9,-999,-999,9,-999,-999,9,-999,1.1723,27.7766
49NZ20070724,   P01,28,1,9, X12015,2,20070801,819,42.3297,152.0905,5121,4000.4,2,1.4566,2,1.4568,2,34.6833,2,34.6841,2,150.28,2,150.48,2,148.4,2,0.45,36.25,2,0.13,0.01,2,0.01,2.52,2,0.016,-999,9,-999,9,-999,9,-999,9,-999,9,-999,9,-999,-999,9,-999,9,-999,-999,9,-999,-999,9,-999,-999,9,-999,1.1389,27.7815
49NZ20070724,   P01,28,1,8, X12046,2,20070801,819,42.3297,152.0905,5121,4250.2,2,1.4584,2,1.45859,2,34.686,2,34.6868,6,153.56,2,153.77,2,147.91,2,0.44,35.99,2,0.13,0.01,2,0.01,2.507,2,0.016,0,2,0,2,0,2,-999,9,-999,9,-999,9,-999,-999,9,-999,9,-999,-999,9,-999,-999,9,-999,-999,9,-999,1.1131,27.7854
49NZ20070724,   P01,28,1,7, X12044,2,20070801,819,42.3297,152.0905,5121,4501.5,2,1.4692,2,1.46931,2,34.6879,2,34.6884,2,155.8,2,156.04,2,147.56,2,0.44,35.88,2,0.13,0.01,2,0.01,2.491,2,0.016,-999,9,-999,9,-999,9,-999,9,-999,9,-999,9,-999,-999,9,-999,9,-999,-999,9,-999,-999,9,-999,-999,9,-999,1.095,27.7882
49NZ20070724,   P01,28,1,6, X12048,2,20070801,819,42.3297,152.0905,5121,4750.7,2,1.4899,2,1.49005,2,34.689,2,34.6896,2,156.91,2,157.06,2,148.04,2,0.44,35.83,2,0.13,0,2,0.01,2.494,2,0.016,-999,9,-999,9,-999,9,-999,9,-999,9,-999,9,-999,-999,9,-999,9,-999,-999,9,-999,-999,9,-999,-999,9,-999,1.0859,27.7897
49NZ20070724,   P01,28,1,5, X12017,2,20070801,819,42.3297,152.0905,5121,5000.7,2,1.5143,2,1.51436,2,34.6896,2,34.6896,2,157.91,2,158.05,2,147.76,2,0.44,35.74,2,0.13,0.01,2,0.01,2.489,2,0.016,0.003,2,0.002,2,0,2,-999,9,-999,9,-999,9,-999,-999,9,-999,9,-999,-999,9,-999,-999,9,-999,-999,9,-999,1.0795,27.7906
49NZ20070724,   P01,28,1,4, X12928,9,20070801,819,42.3297,152.0905,5121,9.8,2,15.634,2,15.63446,2,33.2397,2,-999,9,272,2,-999,9,-999,9,-999,-999,9,-999,-999,9,-999,-999,9,-999,-999,9,-999,9,-999,9,-999,9,-999,9,-999,9,-999,-999,9,-999,9,-999,-999,9,-999,-999,9,-999,-999,9,-999,15.6325,24.4762
49NZ20070724,   P01,28,1,3, X12931,9,20070801,819,42.3297,152.0905,5121,50.4,2,4.3109,2,4.30797,2,33.1825,2,-999,9,308.41,2,-999,9,-999,9,-999,-999,9,-999,-999,9,-999,-999,9,-999,-999,9,-999,9,-999,9,-999,9,-999,9,-999,9,-999,-999,9,-999,9,-999,-999,9,-999,-999,9,-999,-999,9,-999,4.3074,26.3092
49NZ20070724,   P01,28,1,2, X12930,9,20070801,819,42.3297,152.0905,5121,100.7,2,2.235,2,2.23773,2,33.2367,2,-999,9,296.87,2,-999,9,-999,9,-999,-999,9,-999,-999,9,-999,-999,9,-999,-999,9,-999,9,-999,9,-999,9,-999,9,-999,9,-999,-999,9,-999,9,-999,-999,9,-999,-999,9,-999,-999,9,-999,2.2297,26.5414
49NZ20070724,   P01,28,1,1, X12929,2,20070801,819,42.3297,152.0905,5121,5202.5,2,1.5379,2,1.5379,2,34.69,2,34.6906,6,158.1,2,158.12,2,149.16,2,0.45,35.74,2,0.13,0,2,0.01,2.484,2,0.016,0.002,2,0,2,0,2,-999,9,-999,9,-999,9,-999,-999,9,-999,9,-999,-999,9,-999,-999,9,-999,-999,9,-999,1.0775,27.7911