BOTTLE,20081214JAMSTECIORGC,,,,,,,,,,,,,,,,,,,,,,,,,,,,,,,,,,,,,,,,,,,,,,,,,,,,,,,,,,,,,,,,,
EXPOCODE,SECT,STNNBR,CASTNO,SAMPNO,BTLNBR,BTLNBR_FLAG_W,DATE,TIME,LATITUDE,LONGITUDE,DEPTH,CTDPRS,CTDPRS_FLAG_W,CTDTMP,CTDTMP_FLAG_W,SBE35,SBE35_FLAG_W,CTDSAL,CTDSAL_FLAG_W,SALNTY,SALNTY_FLAG_W,CTDOXY,CTDOXY_FLAG_W,OXYGEN,OXYGEN_FLAG_W,SILCAT,SILCAT_FLAG_W,SILUNC,NITRAT,NITRAT_FLAG_W,NRAUNC,NITRIT,NITRIT_FLAG_W,NRIUNC,PHSPHT,PHSPHT_FLAG_W,PHPUNC,CFC-11,CFC-11_FLAG_W,CFC-12,CFC-12_FLAG_W,CFC113,CFC113_FLAG_W,CCL4,CCL4_FLAG_W,TCARBN,TCARBN_FLAG_W,ALKALI,ALKALI_FLAG_W,PH_TOT,PH_TMP,PH_FLAG_W,DELC13,DELC13_FLAG_W,C13ERR,DELC14,DELC14_FLAG_W,C14ERR,CS-137,CS-137_FLAG_W,CS137ER,PLUTO,PLUTO_FLAG_W,PLUTOER,THETA,SIG0
,,,,,,,,UTC,DEG,DEG,M,DBAR,,ITS-90,,ITS-90,,PSS-78,,PSS-78,,UMOL/KG,,UMOL/KG,,UMOL/KG,,UMOL/KG,UMOL/KG,,UMOL/KG,UMOL/KG,,UMOL/KG,UMOL/KG,,UMOL/KG,PMOL/KG,,PMOL/KG,,PMOL/KG,,PMOL/KG,,UMOL/KG,,UMOL/KG,,,ITS-90,,/MILLE,,/MILLE,/MILLE,,/MILLE,BQ/CUM,,BQ/CUM,MBQ/CUM,,MBQ/CUM,DEG C,KG/CUM
49NZ20070724,   P01,   X16,1,0,-999,9,20070822,1749,46.9965,-151.9977,5131,-999,9,-999,9,-999,9,-999,9,32.5814,2,-999,9,-999,9,-999,9,-999,-999,9,-999,-999,9,-999,-999,9,-999,-999,9,-999,9,-999,9,-999,9,-999,9,-999,9,-999,-999,9,-999,9,-999,-999,9,-999,-999,9,-999,-999,9,-999,-999,-999
49NZ20070724,   P01,   X16,1,36, X12042,2,20070822,1749,46.9965,-151.9977,5131,9.9,2,13.471,2,13.45503,2,32.6045,2,32.6095,2,281.53,2,283.91,2,2.22,2,0.12,5.46,2,0.05,0.1,2,0.01,0.751,2,0.013,3.339,2,1.898,2,0.33,2,-999,9,1991.3,2,2204.3,2,7.935,25,6,-999,1,-999,-999,1,-999,-999,9,-999,-999,9,-999,13.4696,24.4444
49NZ20070724,   P01,   X16,1,35, X12041,2,20070822,1749,46.9965,-151.9977,5131,49.7,2,7.1041,2,7.11262,2,32.7754,2,32.7763,2,300.19,2,301.48,2,17.86,2,0.16,11.74,2,0.07,0.12,2,0.01,1.305,2,0.014,4.458,2,2.508,2,0.384,2,-999,9,2055.7,6,2209.1,2,7.8012,25,2,-999,1,-999,-999,1,-999,-999,9,-999,-999,9,-999,7.0996,25.6533
49NZ20070724,   P01,   X16,1,34, X12036,2,20070822,1749,46.9965,-151.9977,5131,100.3,2,5.6752,2,5.67514,2,32.8933,2,32.9028,2,299.06,2,299.06,2,20.17,2,0.16,14.18,2,0.07,0.36,2,0,1.341,2,0.014,4.618,2,2.586,2,0.393,2,-999,9,2068.8,2,2212.9,6,7.7745,25,2,-999,1,-999,-999,1,-999,-999,9,-999,-999,9,-999,5.6672,25.9284
49NZ20070724,   P01,   X16,1,33, X12033,2,20070822,1749,46.9965,-151.9977,5131,149.6,2,6.0383,2,6.04131,2,33.5941,2,33.6233,2,251.08,2,249.89,2,29.43,2,0.18,19.79,2,0.09,0.01,2,0.01,1.547,2,0.014,4.196,6,2.312,6,0.304,6,-999,9,2130,2,2252.5,2,7.7013,25,6,-999,1,-999,-999,1,-999,-999,9,-999,-999,9,-999,6.0258,26.4385
49NZ20070724,   P01,   X16,1,32, X12038,2,20070822,1749,46.9965,-151.9977,5131,200,2,5.8471,2,5.84758,2,33.7792,2,33.7794,2,210.7,2,210.72,2,39.7,2,0.21,23.99,2,0.1,0,2,0.01,1.799,2,0.015,3.789,2,2.038,2,0.261,2,-999,9,2166.2,2,2265.1,2,7.6343,25,2,-999,1,-999,-999,1,-999,-999,9,-999,-999,9,-999,5.8305,26.609
49NZ20070724,   P01,   X16,1,31, X12003,2,20070822,1749,46.9965,-151.9977,5131,249.4,2,5.2967,2,5.30286,2,33.8351,2,33.8333,6,159.68,2,159.68,2,53.98,2,0.24,29.56,2,0.12,0,2,0.01,2.171,2,0.015,3.255,2,1.688,2,0.215,2,-999,9,2212.2,2,2276.5,2,7.5375,25,2,-999,1,-999,-999,1,-999,-999,9,-999,-999,9,-999,5.277,26.7198
49NZ20070724,   P01,   X16,1,30, X12008,2,20070822,1749,46.9965,-151.9977,5131,299.7,2,4.7373,2,4.73769,2,33.8433,2,33.8458,2,130.4,2,129.71,2,64.33,2,0.26,33.37,2,0.13,0,2,0.01,2.418,2,0.016,2.951,2,1.491,2,0.191,2,-999,9,2243,2,2284.6,2,7.4701,25,2,-999,1,-999,-999,1,-999,-999,9,-999,-999,9,-999,4.7148,26.7902
49NZ20070724,   P01,   X16,1,29, X12035,2,20070822,1749,46.9965,-151.9977,5131,402.8,2,4.4304,2,4.43037,2,33.9733,2,33.9753,2,80.27,2,79.59,2,81.87,2,0.3,38.11,2,0.14,0,2,0.01,2.735,2,0.017,1.968,2,0.971,2,0.125,2,-999,9,2285.6,2,2302.5,2,7.3936,25,2,-999,1,-999,-999,1,-999,-999,9,-999,-999,9,-999,4.4007,26.9275
49NZ20070724,   P01,   X16,1,28, X12034,2,20070822,1749,46.9965,-151.9977,5131,500.5,2,4.2092,2,4.20942,2,34.0769,2,34.0789,6,52.36,2,51.94,2,95.3,2,0.33,40.68,2,0.15,0,2,0.01,2.91,2,0.017,1.248,2,0.6,2,0.07,2,-999,9,2313.8,2,2319.3,2,7.3581,25,2,-999,1,-999,-999,1,-999,-999,9,-999,-999,9,-999,4.1728,27.0339
49NZ20070724,   P01,   X16,1,27, X12049,2,20070822,1749,46.9965,-151.9977,5131,600.9,2,3.889,2,3.88937,2,34.1544,2,34.1534,2,35.42,2,35.69,2,107.3,2,0.36,42.14,2,0.15,0,2,0.01,3.016,2,0.017,0.784,2,0.368,2,0.047,2,-999,9,2336.4,2,2333.5,2,7.3364,25,2,-999,1,-999,-999,1,-999,-999,9,-999,-999,9,-999,3.8462,27.1291
49NZ20070724,   P01,   X16,1,26, X12032,2,20070822,1749,46.9965,-151.9977,5131,701,2,3.6255,2,3.62535,2,34.2147,2,34.2147,2,28.75,2,28.66,2,116.74,2,0.38,42.94,2,0.15,0,2,0.01,3.071,2,0.018,0.467,6,0.219,6,0.02,6,-999,9,2350.2,6,2345.5,2,7.3297,25,2,-999,1,-999,-999,1,-999,-999,9,-999,-999,9,-999,3.5764,27.2039
49NZ20070724,   P01,   X16,1,25, X12043,2,20070822,1749,46.9965,-151.9977,5131,802.4,2,3.3526,2,3.35262,2,34.2718,2,34.2715,2,23.93,2,23.72,2,126.12,2,0.4,43.53,2,0.15,0,2,0.01,3.114,2,0.018,0.291,2,0.139,2,0.012,2,-999,9,2362.5,2,2356.3,6,7.3266,25,2,-999,1,-999,-999,1,-999,-999,9,-999,-999,9,-999,3.2975,27.2762
49NZ20070724,   P01,   X16,1,24, X12030,2,20070822,1749,46.9965,-151.9977,5131,899,2,3.1769,2,3.17685,2,34.3196,2,34.3204,2,22.35,2,22.23,2,132.16,2,0.41,43.6,2,0.15,0,2,0.01,3.114,2,0.018,0.163,2,0.076,2,0.007,2,-999,9,2370.9,2,2366,2,7.33,25,2,-999,1,-999,-999,1,-999,-999,9,-999,-999,9,-999,3.1156,27.3314
49NZ20070724,   P01,   X16,1,23, X12027,2,20070822,1749,46.9965,-151.9977,5131,999.4,2,3.0035,2,3.00361,2,34.3609,2,34.361,6,20.19,2,20.22,2,138.46,2,0.42,43.95,2,0.16,-0.01,2,0.01,3.136,2,0.018,-999,5,-999,5,-999,5,-999,9,2377.3,2,2375,2,7.3297,25,6,-999,1,-999,-999,1,-999,-999,9,-999,-999,9,-999,2.9359,27.3807
49NZ20070724,   P01,   X16,1,22, X12028,2,20070822,1749,46.9965,-151.9977,5131,1200.3,2,2.6914,2,2.69137,2,34.4279,2,34.4278,2,16.28,2,16.28,2,149.56,2,0.45,44.58,2,0.16,0,2,0.01,3.173,2,0.018,0.015,2,0.009,2,0,2,-999,9,2391.3,2,2388.5,2,7.3313,25,2,-999,1,-999,-999,1,-999,-999,9,-999,-999,9,-999,2.6111,27.4629
49NZ20070724,   P01,   X16,1,21, X12009,2,20070822,1749,46.9965,-151.9977,5131,1399.4,2,2.4569,2,2.45681,2,34.4768,2,34.4767,2,18.91,2,18.85,2,157.3,2,0.47,44.67,2,0.16,-0.01,2,0.01,3.159,2,0.018,0.009,2,0.006,2,0,2,-999,9,2399,2,2398.1,2,7.3371,25,2,-999,1,-999,-999,1,-999,-999,9,-999,-999,9,-999,2.3635,27.523
49NZ20070724,   P01,   X16,1,20, X12026,2,20070822,1749,46.9965,-151.9977,5131,1602.9,2,2.2745,2,2.2746,2,34.5167,2,34.5162,2,23.32,2,23.37,2,163.14,2,0.48,44.41,2,0.16,-0.01,2,0.01,3.134,2,0.018,0,2,0.001,2,0,2,-999,9,2401.9,2,2405.7,2,7.3506,25,6,-999,1,-999,-999,1,-999,-999,9,-999,-999,9,-999,2.1671,27.5711
49NZ20070724,   P01,   X16,1,19, X12025,2,20070822,1749,46.9965,-151.9977,5131,1801.1,2,2.0995,2,2.09964,2,34.5546,2,34.5543,2,34.12,2,33.95,2,167.62,2,0.49,43.91,2,0.16,0,2,0.01,3.085,2,0.018,0,2,0,2,0,2,-999,9,2399.1,2,2412,2,7.373,25,2,-999,1,-999,-999,1,-999,-999,9,-999,-999,9,-999,1.9783,27.6165
49NZ20070724,   P01,   X16,1,18, X12024,2,20070822,1749,46.9965,-151.9977,5131,1999.6,2,1.9735,2,1.97352,2,34.5807,2,34.5807,2,47.07,2,46.9,2,169.54,2,0.49,42.92,2,0.15,-0.01,2,0.01,3.028,2,0.018,0,2,0.001,2,0,2,-999,9,2393.5,2,2415.3,2,7.3969,25,2,-999,1,-999,-999,1,-999,-999,9,-999,-999,9,-999,1.8377,27.6484
49NZ20070724,   P01,   X16,1,17, X12023,2,20070822,1749,46.9965,-151.9977,5131,2200.5,2,1.8788,2,1.87866,2,34.6001,2,34.6001,2,58.64,2,58.56,2,170.85,2,0.49,42.37,2,0.15,0,2,0.01,2.979,2,0.017,0,2,0,2,0,2,-999,9,2387.3,2,2417.5,2,7.4214,25,2,-999,1,-999,-999,1,-999,-999,9,-999,-999,9,-999,1.7274,27.6724
49NZ20070724,   P01,   X16,1,16, X12022,2,20070822,1749,46.9965,-151.9977,5131,2400.8,2,1.7693,2,1.76928,2,34.6203,2,34.6207,2,73.13,2,73.05,2,170.77,2,0.49,41.41,2,0.15,0,2,0.01,2.915,2,0.017,0,2,0,2,0,2,-999,9,2379.7,6,2420.9,2,7.4503,25,2,-999,1,-999,-999,1,-999,-999,9,-999,-999,9,-999,1.6023,27.6979
49NZ20070724,   P01,   X16,1,15, X12021,2,20070822,1749,46.9965,-151.9977,5131,2598.6,2,1.7001,2,1.70023,2,34.6336,2,34.6337,6,84.4,2,84.31,2,170.04,2,0.49,40.69,2,0.15,-0.01,2,0.01,2.864,2,0.017,-999,9,-999,9,-999,9,-999,9,2375,2,2421.9,6,7.4709,25,2,-999,1,-999,-999,1,-999,-999,9,-999,-999,9,-999,1.5166,27.7149
49NZ20070724,   P01,   X16,1,14, X12020,2,20070822,1749,46.9965,-151.9977,5131,2801,2,1.6375,2,1.63757,2,34.6451,2,34.6454,2,95.88,2,96.04,2,168.48,2,0.49,39.91,2,0.14,0,2,0.01,2.807,2,0.017,-999,9,-999,9,-999,9,-999,9,2367.3,2,2422.2,2,7.4931,25,6,-999,1,-999,-999,1,-999,-999,9,-999,-999,9,-999,1.4366,27.7299
49NZ20070724,   P01,   X16,1,13, X12019,2,20070822,1749,46.9965,-151.9977,5131,3000.4,2,1.5859,2,1.58597,2,34.6548,2,34.655,2,106.52,2,106.74,2,166.88,2,0.49,39.16,2,0.14,0,2,0.01,2.755,2,0.017,0,2,0.001,2,0,2,-999,9,2358.9,2,2422.4,2,7.5128,25,2,-999,1,-999,-999,1,-999,-999,9,-999,-999,9,-999,1.3673,27.7427
49NZ20070724,   P01,   X16,1,12, X12040,2,20070822,1749,46.9965,-151.9977,5131,3250.9,2,1.5397,2,1.53985,2,34.6643,2,34.6643,2,117.93,2,118.09,2,163.94,2,0.48,38.34,2,0.14,0,2,0.01,2.694,2,0.017,-999,9,-999,9,-999,9,-999,9,2351.3,2,2423.4,2,7.5336,25,2,-999,1,-999,-999,1,-999,-999,9,-999,-999,9,-999,1.2977,27.7553
49NZ20070724,   P01,   X16,1,11, X12047,2,20070822,1749,46.9965,-151.9977,5131,3500.4,2,1.5077,2,1.5077,2,34.6715,2,34.6715,2,127.58,2,127.97,2,161.56,2,0.47,37.66,2,0.14,-0.01,2,0.01,2.651,2,0.017,-999,9,-999,9,-999,9,-999,9,2345.9,2,2424.1,2,7.5514,25,2,-999,1,-999,-999,1,-999,-999,9,-999,-999,9,-999,1.2414,27.765
49NZ20070724,   P01,   X16,1,10, X12010,2,20070822,1749,46.9965,-151.9977,5131,3749.4,2,1.4917,2,1.49173,2,34.6769,2,34.6769,2,134.16,2,134.77,2,160.67,2,0.47,37.34,2,0.14,-0.01,2,0.01,2.623,2,0.017,0,2,0,2,0,2,-999,9,2341.7,2,2424.2,2,7.5657,25,2,-999,1,-999,-999,1,-999,-999,9,-999,-999,9,-999,1.1999,27.7722
49NZ20070724,   P01,   X16,1,9, X12015,2,20070822,1749,46.9965,-151.9977,5131,4000.2,2,1.4872,2,1.48735,2,34.6811,2,34.6812,6,138.72,2,139.47,2,161.07,2,0.47,37.02,2,0.14,0,2,0.01,2.595,2,0.016,-999,9,-999,9,-999,9,-999,9,2340.1,2,2426.4,2,7.5759,25,2,-999,1,-999,-999,1,-999,-999,9,-999,-999,9,-999,1.1687,27.7777
49NZ20070724,   P01,   X16,1,8, X12046,2,20070822,1749,46.9965,-151.9977,5131,4250.3,2,1.4976,2,1.49771,2,34.6837,2,34.6837,2,141.11,2,141.99,2,162.65,2,0.48,36.87,2,0.14,0,2,0.01,2.58,2,0.016,-999,9,-999,9,-999,9,-999,9,2339.9,6,2427.8,2,7.5822,25,2,-999,1,-999,-999,1,-999,-999,9,-999,-999,9,-999,1.1511,27.781
49NZ20070724,   P01,   X16,1,7, X12044,2,20070822,1749,46.9965,-151.9977,5131,4502.2,2,1.5156,2,1.51562,2,34.6855,2,34.6846,3,142.65,2,143.4,2,164.13,2,0.48,36.73,2,0.14,-0.01,2,0.01,2.571,2,0.016,0,2,0,2,0,2,-999,9,2339.2,2,2429.2,6,7.586,25,2,-999,1,-999,-999,1,-999,-999,9,-999,-999,9,-999,1.1399,27.7832
49NZ20070724,   P01,   X16,1,6, X12048,2,20070822,1749,46.9965,-151.9977,5131,4749.7,2,1.5381,2,1.53818,2,34.6864,2,34.6865,2,143.85,2,144.5,2,164.43,2,0.48,36.7,2,0.14,0,2,0.01,2.567,2,0.016,-999,9,-999,9,-999,9,-999,9,2339.3,2,2429.8,2,7.5894,25,4,-999,1,-999,-999,1,-999,-999,9,-999,-999,9,-999,1.1327,27.7844
49NZ20070724,   P01,   X16,1,5, X12017,2,20070822,1749,46.9965,-151.9977,5131,5000.5,2,1.5633,2,1.56344,2,34.6873,2,34.6867,2,144.97,2,145.49,2,165.01,2,0.48,36.65,2,0.14,0,2,0.01,2.56,2,0.016,0,2,0,2,0,2,-999,9,2337.4,2,2429.4,2,7.5918,25,2,-999,1,-999,-999,1,-999,-999,9,-999,-999,9,-999,1.1269,27.7855
49NZ20070724,   P01,   X16,1,4, X12928,9,20070822,1749,46.9965,-151.9977,5131,9.6,2,13.5729,2,13.55019,2,32.6079,2,-999,9,280.25,2,-999,9,-999,9,-999,-999,9,-999,-999,9,-999,-999,9,-999,-999,9,-999,9,-999,9,-999,9,-999,9,-999,9,-999,-999,9,-999,9,-999,-999,9,-999,-999,9,-999,-999,9,-999,13.5716,24.4265
49NZ20070724,   P01,   X16,1,3, X12931,9,20070822,1749,46.9965,-151.9977,5131,49.7,2,7.0967,2,7.0964,2,32.7776,2,-999,9,300.44,2,-999,9,-999,9,-999,-999,9,-999,-999,9,-999,-999,9,-999,-999,9,-999,9,-999,9,-999,9,-999,9,-999,9,-999,-999,9,-999,9,-999,-999,9,-999,-999,9,-999,-999,9,-999,7.0922,25.656
49NZ20070724,   P01,   X16,1,2, X12930,9,20070822,1749,46.9965,-151.9977,5131,100.5,2,5.6759,2,5.67529,2,32.8933,2,-999,9,299.1,2,-999,9,-999,9,-999,-999,9,-999,-999,9,-999,-999,9,-999,-999,9,-999,9,-999,9,-999,9,-999,9,-999,9,-999,-999,9,-999,9,-999,-999,9,-999,-999,9,-999,-999,9,-999,5.6679,25.9284
49NZ20070724,   P01,   X16,1,1, X12929,2,20070822,1749,46.9965,-151.9977,5131,5228.4,2,1.5925,2,1.59241,2,34.6872,2,34.6876,3,145.25,2,145.54,2,165.47,2,0.48,36.65,2,0.14,0,2,0.01,2.564,2,0.016,0,2,0,2,0,2,-999,9,2337.8,2,2429.4,2,7.5906,25,2,-999,1,-999,-999,1,-999,-999,9,-999,-999,9,-999,1.1269,27.7854