BOTTLE,20081214JAMSTECIORGC,,,,,,,,,,,,,,,,,,,,,,,,,,,,,,,,,,,,,,,,,,,,,,,,,,,,,,,,,,,,,,,,,
EXPOCODE,SECT,STNNBR,CASTNO,SAMPNO,BTLNBR,BTLNBR_FLAG_W,DATE,TIME,LATITUDE,LONGITUDE,DEPTH,CTDPRS,CTDPRS_FLAG_W,CTDTMP,CTDTMP_FLAG_W,SBE35,SBE35_FLAG_W,CTDSAL,CTDSAL_FLAG_W,SALNTY,SALNTY_FLAG_W,CTDOXY,CTDOXY_FLAG_W,OXYGEN,OXYGEN_FLAG_W,SILCAT,SILCAT_FLAG_W,SILUNC,NITRAT,NITRAT_FLAG_W,NRAUNC,NITRIT,NITRIT_FLAG_W,NRIUNC,PHSPHT,PHSPHT_FLAG_W,PHPUNC,CFC-11,CFC-11_FLAG_W,CFC-12,CFC-12_FLAG_W,CFC113,CFC113_FLAG_W,CCL4,CCL4_FLAG_W,TCARBN,TCARBN_FLAG_W,ALKALI,ALKALI_FLAG_W,PH_TOT,PH_TMP,PH_FLAG_W,DELC13,DELC13_FLAG_W,C13ERR,DELC14,DELC14_FLAG_W,C14ERR,CS-137,CS-137_FLAG_W,CS137ER,PLUTO,PLUTO_FLAG_W,PLUTOER,THETA,SIG0
,,,,,,,,UTC,DEG,DEG,M,DBAR,,ITS-90,,ITS-90,,PSS-78,,PSS-78,,UMOL/KG,,UMOL/KG,,UMOL/KG,,UMOL/KG,UMOL/KG,,UMOL/KG,UMOL/KG,,UMOL/KG,UMOL/KG,,UMOL/KG,PMOL/KG,,PMOL/KG,,PMOL/KG,,PMOL/KG,,UMOL/KG,,UMOL/KG,,,ITS-90,,/MILLE,,/MILLE,/MILLE,,/MILLE,BQ/CUM,,BQ/CUM,MBQ/CUM,,MBQ/CUM,DEG C,KG/CUM
49NZ20070724,   P01,81,1,0,-999,9,20070820,1831,47.0043,-158.1392,5231,-999,9,-999,9,-999,9,-999,9,32.6607,2,-999,9,-999,9,-999,9,-999,-999,9,-999,-999,9,-999,-999,9,-999,-999,9,-999,9,-999,9,-999,9,-999,9,-999,9,-999,-999,9,-999,9,-999,-999,9,-999,-999,9,-999,-999,9,-999,-999,-999
49NZ20070724,   P01,81,1,36, X12042,2,20070820,1831,47.0043,-158.1392,5231,9.6,2,13.4003,2,13.39903,2,32.6494,2,32.6532,2,280.54,2,280.63,2,13.08,2,0.15,8.29,2,0.06,0.14,2,0.01,0.916,2,0.013,3.329,2,1.87,2,0.295,2,-999,9,2000.4,2,2204.5,2,7.9073,25,6,-999,1,-999,-999,1,-999,-999,9,-999,-999,9,-999,13.399,24.4932
49NZ20070724,   P01,81,1,35, X12041,2,20070820,1831,47.0043,-158.1392,5231,49.7,2,7.4279,2,7.43655,2,32.9365,2,32.9388,2,300.08,2,300.75,2,19.68,2,0.16,12.68,2,0.07,0.16,2,0.01,1.303,2,0.014,4.364,2,2.427,2,0.362,2,-999,9,2061.9,6,2219.6,2,7.804,25,2,-999,1,-999,-999,1,-999,-999,9,-999,-999,9,-999,7.4233,25.7356
49NZ20070724,   P01,81,1,34, X12036,2,20070820,1831,47.0043,-158.1392,5231,99.3,2,4.9583,2,4.95729,2,32.9221,2,32.9296,2,305.66,2,304.29,2,24.94,2,0.17,16.44,2,0.08,0.7,2,0,1.482,2,0.014,4.723,2,2.61,2,0.384,2,-999,9,2078.8,2,2217.4,6,7.7521,25,2,-999,1,-999,-999,1,-999,-999,9,-999,-999,9,-999,4.951,26.0335
49NZ20070724,   P01,81,1,33, X12033,2,20070820,1831,47.0043,-158.1392,5231,150.8,2,5.884,2,5.87742,2,33.3634,2,33.3993,2,280.12,2,276.8,2,26.48,2,0.18,17.54,2,0.08,0.03,2,0.01,1.423,2,0.014,4.365,6,2.412,6,0.319,6,-999,9,2103.4,2,2239.5,2,7.7421,25,2,-999,1,-999,-999,1,-999,-999,9,-999,-999,9,-999,5.8716,26.2753
49NZ20070724,   P01,81,1,32, X12038,2,20070820,1831,47.0043,-158.1392,5231,200.1,2,5.5602,2,5.56022,2,33.7377,2,33.7381,2,216.43,2,216.02,2,41.2,2,0.21,24.39,2,0.1,0.02,2,0.01,1.832,2,0.015,3.856,2,2.06,2,0.236,2,-999,9,2168.7,2,2265.3,2,7.6327,25,2,-999,1,-999,-999,1,-999,-999,9,-999,-999,9,-999,5.5441,26.6111
49NZ20070724,   P01,81,1,31, X12003,2,20070820,1831,47.0043,-158.1392,5231,250.1,2,4.9144,2,4.91501,2,33.7846,2,33.7893,6,165.95,2,165.57,2,55.6,2,0.24,29.88,2,0.12,0.02,2,0.01,2.208,2,0.016,3.351,2,1.735,2,0.197,2,-999,9,2213.2,2,2276,2,7.5341,25,2,-999,1,-999,-999,1,-999,-999,9,-999,-999,9,-999,4.8954,26.7235
49NZ20070724,   P01,81,1,30, X12008,2,20070820,1831,47.0043,-158.1392,5231,300.2,2,4.5547,2,4.55517,2,33.8398,2,33.8477,2,128.05,2,128.24,2,66.8,2,0.27,33.67,2,0.13,0.01,2,0.01,2.458,2,0.016,2.885,2,1.455,2,0.171,2,-999,9,2245.3,2,2285.5,2,7.4667,25,2,-999,1,-999,-999,1,-999,-999,9,-999,-999,9,-999,4.5326,26.8073
49NZ20070724,   P01,81,1,29, X12035,2,20070820,1831,47.0043,-158.1392,5231,399.7,2,4.2482,2,4.24766,2,33.9728,2,33.9755,2,76.97,2,77.08,2,84.77,2,0.31,38.52,2,0.14,0.01,2,0.01,2.777,2,0.017,1.942,2,0.949,2,0.11,2,-999,9,2293.2,2,2304.7,2,7.3846,25,2,-999,1,-999,-999,1,-999,-999,9,-999,-999,9,-999,4.2194,26.9463
49NZ20070724,   P01,81,1,28, X12034,2,20070820,1831,47.0043,-158.1392,5231,501.7,2,4.0629,2,4.06273,2,34.0795,2,34.0807,6,52.01,2,51.96,2,97.71,2,0.33,40.68,2,0.15,0,2,0.01,2.92,2,0.017,1.264,2,0.609,2,0.076,2,-999,9,2318.6,2,2320.5,2,7.3543,25,2,-999,1,-999,-999,1,-999,-999,9,-999,-999,9,-999,4.027,27.0511
49NZ20070724,   P01,81,1,27, X12049,2,20070820,1831,47.0043,-158.1392,5231,599.9,2,3.787,2,3.78729,2,34.1737,2,34.1735,2,36.31,2,36.56,2,110.56,2,0.36,42.27,2,0.15,0,2,0.01,3.02,2,0.018,0.749,2,0.35,2,0.042,2,-999,9,2337,2,2337.2,2,7.3397,25,2,-999,1,-999,-999,1,-999,-999,9,-999,-999,9,-999,3.7448,27.1547
49NZ20070724,   P01,81,1,26, X12032,2,20070820,1831,47.0043,-158.1392,5231,700,2,3.5834,2,3.58315,2,34.2359,2,34.2371,2,30.85,2,31,2,118.73,2,0.38,42.77,2,0.15,0,2,0.01,3.061,2,0.018,0.47,6,0.219,6,0.025,6,-999,9,2349.4,6,2349,2,7.338,25,2,-999,1,-999,-999,1,-999,-999,9,-999,-999,9,-999,3.5346,27.2249
49NZ20070724,   P01,81,1,25, X12043,2,20070820,1831,47.0043,-158.1392,5231,799.6,2,3.3316,2,3.33148,2,34.2838,2,34.285,2,25.85,2,25.81,2,127.52,2,0.4,43.36,2,0.15,0,2,0.01,3.104,2,0.018,0.301,2,0.135,2,0.021,2,-999,9,2362.7,2,2358.6,6,7.3313,25,2,-999,1,-999,-999,1,-999,-999,9,-999,-999,9,-999,3.2768,27.2877
49NZ20070724,   P01,81,1,24, X12030,2,20070820,1831,47.0043,-158.1392,5231,900.3,2,3.1253,2,3.1254,2,34.3273,2,34.3269,2,23.85,2,23.88,2,134.02,2,0.41,43.5,2,0.15,0.01,2,0.01,3.115,2,0.018,0.197,2,0.091,2,0,2,-999,9,2368.8,2,2367.2,2,7.3328,25,6,-999,1,-999,-999,1,-999,-999,9,-999,-999,9,-999,3.0643,27.3422
49NZ20070724,   P01,81,1,23, X12027,2,20070820,1831,47.0043,-158.1392,5231,1001.1,2,2.9408,2,2.94046,2,34.3704,2,34.3703,6,23.87,2,23.8,2,139.99,2,0.43,43.7,2,0.16,0.01,2,0.01,3.125,2,0.018,0.125,2,0.058,2,0,2,-999,9,2377,2,2375.1,2,7.3393,25,2,-999,1,-999,-999,1,-999,-999,9,-999,-999,9,-999,2.8735,27.3939
49NZ20070724,   P01,81,1,22, X12028,2,20070820,1831,47.0043,-158.1392,5231,1200.5,2,2.6768,2,2.67675,2,34.4295,2,34.4287,2,22.38,2,22.28,2,149.23,2,0.45,44.13,2,0.16,0.01,2,0.01,3.14,2,0.018,0.042,2,0.019,2,0,2,-999,9,2385.9,2,2387.2,2,7.3414,25,2,-999,1,-999,-999,1,-999,-999,9,-999,-999,9,-999,2.5966,27.4654
49NZ20070724,   P01,81,1,21, X12009,2,20070820,1831,47.0043,-158.1392,5231,1400.2,2,2.4251,2,2.42495,2,34.4803,2,34.4804,2,26.53,2,26.49,2,157.2,2,0.46,44.02,2,0.16,0.01,2,0.01,3.125,2,0.018,0.022,2,0.01,2,0,2,-999,9,2392.7,2,2397.6,2,7.3528,25,2,-999,1,-999,-999,1,-999,-999,9,-999,-999,9,-999,2.332,27.5284
49NZ20070724,   P01,81,1,20, X12026,2,20070820,1831,47.0043,-158.1392,5231,1601.2,2,2.2533,2,2.25354,2,34.5185,2,34.518,2,32.03,2,32,2,162.51,2,0.48,43.85,2,0.16,0.01,2,0.01,3.105,2,0.018,0.01,2,0.005,2,0,2,-999,9,2391.3,3,2404.5,2,7.3656,25,6,-999,1,-999,-999,1,-999,-999,9,-999,-999,9,-999,2.1463,27.5742
49NZ20070724,   P01,81,1,19, X12025,2,20070820,1831,47.0043,-158.1392,5231,1800,2,2.1125,2,2.11208,2,34.5508,2,34.551,2,39.19,2,39.06,2,165.51,2,0.48,43.36,2,0.15,0.01,2,0.01,3.059,2,0.018,0,2,0,2,0,2,-999,9,2395,2,2409.1,2,7.3807,25,2,-999,1,-999,-999,1,-999,-999,9,-999,-999,9,-999,1.9912,27.6124
49NZ20070724,   P01,81,1,18, X12024,2,20070820,1831,47.0043,-158.1392,5231,2000.5,2,1.9786,2,1.97864,2,34.5801,2,34.5802,2,48.38,2,48.2,2,169.06,2,0.49,43,2,0.15,0.01,2,0.01,3.025,2,0.018,0.003,2,0.001,2,0,2,-999,9,2392.6,2,2414.3,2,7.4015,25,2,-999,1,-999,-999,1,-999,-999,9,-999,-999,9,-999,1.8426,27.6476
49NZ20070724,   P01,81,1,17, X12023,2,20070820,1831,47.0043,-158.1392,5231,2199.7,2,1.8695,2,1.86956,2,34.6027,2,34.603,2,60.04,2,59.88,2,171.04,2,0.5,42.3,2,0.15,0,2,0.01,2.975,2,0.017,0.001,2,0.001,2,0,2,-999,9,2389.5,2,2418.4,2,7.4244,25,2,-999,1,-999,-999,1,-999,-999,9,-999,-999,9,-999,1.7183,27.6751
49NZ20070724,   P01,81,1,16, X12022,2,20070820,1831,47.0043,-158.1392,5231,2400.5,2,1.776,2,1.77595,2,34.6203,2,34.6205,2,73.58,2,73.29,2,170.37,2,0.49,41.47,2,0.15,0,2,0.01,2.913,2,0.017,0,2,0,2,0,2,-999,9,2379.9,6,2419.8,2,7.4515,25,2,-999,1,-999,-999,1,-999,-999,9,-999,-999,9,-999,1.6089,27.6974
49NZ20070724,   P01,81,1,15, X12021,2,20070820,1831,47.0043,-158.1392,5231,2599.6,2,1.7036,2,1.70377,2,34.6336,2,34.6337,6,85.24,2,84.85,2,169.34,2,0.49,40.71,2,0.15,0.01,2,0.01,2.856,2,0.017,-999,9,-999,9,-999,9,-999,9,2373.1,2,2420.4,6,7.4719,25,2,-999,1,-999,-999,1,-999,-999,9,-999,-999,9,-999,1.52,27.7147
49NZ20070724,   P01,81,1,14, X12020,2,20070820,1831,47.0043,-158.1392,5231,2800.3,2,1.6431,2,1.64294,2,34.6445,2,34.6449,2,96.26,2,96.08,2,168.15,2,0.49,39.97,2,0.14,0.01,2,0.01,2.806,2,0.017,-999,9,-999,9,-999,9,-999,9,2367.4,2,2422,2,7.493,25,6,-999,1,-999,-999,1,-999,-999,9,-999,-999,9,-999,1.4422,27.7291
49NZ20070724,   P01,81,1,13, X12019,2,20070820,1831,47.0043,-158.1392,5231,3000.9,2,1.5936,2,1.59364,2,34.6539,2,34.6541,2,106.34,2,106.28,2,166.49,2,0.49,39.23,2,0.14,0,2,0.01,2.752,2,0.017,0,2,0,2,0,2,-999,9,2360.9,2,2422.4,2,7.5131,25,2,-999,1,-999,-999,1,-999,-999,9,-999,-999,9,-999,1.3748,27.7415
49NZ20070724,   P01,81,1,12, X12040,2,20070820,1831,47.0043,-158.1392,5231,3250.5,2,1.5505,2,1.55049,2,34.6628,2,34.6631,2,117.98,2,117.74,2,163.22,2,0.48,38.4,2,0.14,0.01,2,0.01,2.689,2,0.017,-999,9,-999,9,-999,9,-999,9,2353.3,2,2421.8,2,7.5333,25,2,-999,1,-999,-999,1,-999,-999,9,-999,-999,9,-999,1.3083,27.7533
49NZ20070724,   P01,81,1,11, X12047,2,20070820,1831,47.0043,-158.1392,5231,3500.7,2,1.5058,2,1.50575,2,34.6716,2,34.6717,2,129.76,2,129.83,2,160.03,2,0.47,37.64,2,0.14,0,2,0.01,2.633,2,0.017,-999,9,-999,9,-999,9,-999,9,2345.9,2,2423,2,7.5542,25,2,-999,1,-999,-999,1,-999,-999,9,-999,-999,9,-999,1.2395,27.7652
49NZ20070724,   P01,81,1,10, X12010,2,20070820,1831,47.0043,-158.1392,5231,3750.6,2,1.4916,2,1.4918,2,34.6766,2,34.6766,2,135.68,2,135.8,2,158.93,2,0.47,37.25,2,0.14,0.01,2,0.01,2.604,2,0.016,0.006,2,0,2,0,2,-999,9,2340.1,2,2422.5,2,7.5663,25,2,-999,1,-999,-999,1,-999,-999,9,-999,-999,9,-999,1.1997,27.772
49NZ20070724,   P01,81,1,9, X12015,2,20070820,1831,47.0043,-158.1392,5231,4000,2,1.4855,2,1.48565,2,34.6808,2,34.681,6,140.34,2,140.63,2,159.36,2,0.47,36.95,2,0.14,0,2,0.01,2.579,2,0.016,-999,9,-999,9,-999,9,-999,9,2335,4,2422.8,2,7.5764,25,2,-999,1,-999,-999,1,-999,-999,9,-999,-999,9,-999,1.167,27.7776
49NZ20070724,   P01,81,1,8, X12046,2,20070820,1831,47.0043,-158.1392,5231,4250.7,2,1.4922,2,1.49239,2,34.6837,2,34.6841,2,143.35,2,143.67,2,160.27,2,0.47,36.78,2,0.14,0.01,2,0.01,2.56,2,0.016,-999,9,-999,9,-999,9,-999,9,2336.8,6,2425,2,7.5844,25,2,-999,1,-999,-999,1,-999,-999,9,-999,-999,9,-999,1.1458,27.7814
49NZ20070724,   P01,81,1,7, X12044,2,20070820,1831,47.0043,-158.1392,5231,4501,2,1.51,2,1.51015,2,34.6855,2,34.6853,2,144.68,2,144.94,2,161.92,2,0.48,36.71,2,0.14,0.01,2,0.01,2.552,2,0.016,0,2,0,2,0,2,-999,9,2337.2,2,2427.2,6,7.5885,25,2,-999,1,-999,-999,1,-999,-999,9,-999,-999,9,-999,1.1346,27.7836
49NZ20070724,   P01,81,1,6, X12048,2,20070820,1831,47.0043,-158.1392,5231,4749.5,2,1.5317,2,1.53186,2,34.6868,2,34.6869,2,145.62,2,145.97,2,163.37,2,0.48,36.65,2,0.14,0.01,2,0.01,2.549,2,0.016,-999,9,-999,9,-999,9,-999,9,2337.6,2,2427.9,2,7.591,25,6,-999,1,-999,-999,1,-999,-999,9,-999,-999,9,-999,1.1265,27.7852
49NZ20070724,   P01,81,1,5, X12017,2,20070820,1831,47.0043,-158.1392,5231,5000.1,2,1.5563,2,1.55629,2,34.6875,2,34.6871,2,147.02,2,147.14,2,162.95,2,0.48,36.6,2,0.14,0.01,2,0.01,2.545,2,0.016,-999,9,-999,9,-999,9,-999,9,2336.7,2,2427.6,2,7.5926,25,2,-999,1,-999,-999,1,-999,-999,9,-999,-999,9,-999,1.1202,27.7861
49NZ20070724,   P01,81,1,4, X12928,2,20070820,1831,47.0043,-158.1392,5231,5249.4,2,1.5845,2,1.58438,2,34.6879,2,34.688,2,148.04,2,147.99,2,164.04,2,0.48,36.53,2,0.14,0,2,0.01,2.542,2,0.016,-999,9,-999,9,-999,9,-999,9,2331.6,4,2427.7,2,7.5938,25,2,-999,1,-999,-999,1,-999,-999,9,-999,-999,9,-999,1.1166,27.7867
49NZ20070724,   P01,81,1,3, X12931,2,20070820,1831,47.0043,-158.1392,5231,5249.6,2,1.5845,2,1.58439,2,34.688,2,-999,9,148.04,2,-999,9,-999,9,-999,-999,9,-999,-999,9,-999,-999,9,-999,-999,9,-999,9,-999,9,-999,9,-999,9,-999,9,-999,-999,9,-999,9,-999,-999,9,-999,-999,9,-999,-999,9,-999,1.1166,27.7868
49NZ20070724,   P01,81,1,2, X12930,2,20070820,1831,47.0043,-158.1392,5231,5250,2,1.5845,2,1.58436,2,34.688,2,-999,9,148.08,2,-999,9,-999,9,-999,-999,9,-999,-999,9,-999,-999,9,-999,-999,9,-999,9,-999,9,-999,9,-999,9,-999,9,-999,-999,9,-999,9,-999,-999,9,-999,-999,9,-999,-999,9,-999,1.1165,27.7868
49NZ20070724,   P01,81,1,1, X12929,2,20070820,1831,47.0043,-158.1392,5231,5326.2,2,1.5944,2,1.59434,2,34.6879,2,34.6882,6,148.16,2,147.9,2,164.05,2,0.48,36.57,2,0.14,0,2,0.01,2.543,2,0.016,0.003,2,0,2,0,2,-999,9,2338.1,2,2427.7,2,7.5943,25,2,-999,1,-999,-999,1,-999,-999,9,-999,-999,9,-999,1.1165,27.7867