BOTTLE,20081214JAMSTECIORGC,,,,,,,,,,,,,,,,,,,,,,,,,,,,,,,,,,,,,,,,,,,,,,,,,,,,,,,,,,,,,,,,,
EXPOCODE,SECT,STNNBR,CASTNO,SAMPNO,BTLNBR,BTLNBR_FLAG_W,DATE,TIME,LATITUDE,LONGITUDE,DEPTH,CTDPRS,CTDPRS_FLAG_W,CTDTMP,CTDTMP_FLAG_W,SBE35,SBE35_FLAG_W,CTDSAL,CTDSAL_FLAG_W,SALNTY,SALNTY_FLAG_W,CTDOXY,CTDOXY_FLAG_W,OXYGEN,OXYGEN_FLAG_W,SILCAT,SILCAT_FLAG_W,SILUNC,NITRAT,NITRAT_FLAG_W,NRAUNC,NITRIT,NITRIT_FLAG_W,NRIUNC,PHSPHT,PHSPHT_FLAG_W,PHPUNC,CFC-11,CFC-11_FLAG_W,CFC-12,CFC-12_FLAG_W,CFC113,CFC113_FLAG_W,CCL4,CCL4_FLAG_W,TCARBN,TCARBN_FLAG_W,ALKALI,ALKALI_FLAG_W,PH_TOT,PH_TMP,PH_FLAG_W,DELC13,DELC13_FLAG_W,C13ERR,DELC14,DELC14_FLAG_W,C14ERR,CS-137,CS-137_FLAG_W,CS137ER,PLUTO,PLUTO_FLAG_W,PLUTOER,THETA,SIG0
,,,,,,,,UTC,DEG,DEG,M,DBAR,,ITS-90,,ITS-90,,PSS-78,,PSS-78,,UMOL/KG,,UMOL/KG,,UMOL/KG,,UMOL/KG,UMOL/KG,,UMOL/KG,UMOL/KG,,UMOL/KG,UMOL/KG,,UMOL/KG,PMOL/KG,,PMOL/KG,,PMOL/KG,,PMOL/KG,,UMOL/KG,,UMOL/KG,,,ITS-90,,/MILLE,,/MILLE,/MILLE,,/MILLE,BQ/CUM,,BQ/CUM,MBQ/CUM,,MBQ/CUM,DEG C,KG/CUM
49NZ20070724,   P01,16,1,0,-999,9,20070729,846,40.6267,147.2138,5292,-999,9,-999,9,-999,9,-999,9,33.1494,2,-999,9,-999,9,-999,9,-999,-999,9,-999,-999,9,-999,-999,9,-999,-999,9,-999,9,-999,9,-999,9,-999,9,-999,9,-999,-999,9,-999,9,-999,-999,9,-999,-999,9,-999,-999,9,-999,-999,-999
49NZ20070724,   P01,16,1,36, X12042,2,20070729,846,40.6267,147.2138,5292,10.1,2,14.6938,2,14.66988,2,32.9074,2,32.9663,2,287.94,2,273.11,2,3.89,2,0.13,3.15,2,0.04,0.07,2,0.01,0.597,2,0.013,3.087,2,1.623,2,0.387,2,-999,9,1991.2,2,2243.1,2,7.9947,25,6,-999,9,-999,-999,9,-999,-999,9,-999,-999,9,-999,14.6923,24.4251
49NZ20070724,   P01,16,1,35, X12041,2,20070729,846,40.6267,147.2138,5292,50.3,2,2.651,2,2.65463,2,33.101,2,33.1122,2,307.89,2,309.37,2,38.63,2,0.2,21.32,2,0.09,0.27,2,0.01,1.919,2,0.015,5.163,2,2.603,2,0.516,2,-999,9,2140.8,6,2252.8,2,7.6745,25,2,-999,9,-999,-999,9,-999,-999,9,-999,-999,9,-999,2.6482,26.3993
49NZ20070724,   P01,16,1,34, X12036,2,20070729,846,40.6267,147.2138,5292,100.2,2,1.7747,2,1.7749,2,33.2767,2,33.2868,2,257.78,2,258.42,2,57.03,2,0.24,28.85,2,0.11,0.02,2,0.01,2.252,2,0.016,4.76,2,2.342,2,0.449,2,-999,9,2188.5,2,2261.1,6,7.5605,25,2,-999,9,-999,-999,9,-999,-999,9,-999,-999,9,-999,1.7698,26.6081
49NZ20070724,   P01,16,1,33, X12033,2,20070729,846,40.6267,147.2138,5292,150.2,2,1.9813,2,1.98141,2,33.4337,2,33.4424,2,206.27,2,209.29,2,68.91,2,0.27,32.35,2,0.12,0.01,2,0.01,2.473,2,0.016,4.147,6,2.027,6,0.382,6,-999,9,2224.2,2,2272.6,2,7.4908,25,6,-999,9,-999,-999,9,-999,-999,9,-999,-999,9,-999,1.9737,26.7188
49NZ20070724,   P01,16,1,32, X12038,2,20070729,846,40.6267,147.2138,5292,199.1,2,2.2258,2,2.23032,2,33.5271,2,33.5346,2,187.81,2,186.79,2,73.67,2,0.28,33.3,2,0.13,0.02,2,0.01,2.541,2,0.016,3.813,2,1.859,2,0.337,2,-999,9,2237.6,2,2280.5,2,7.4675,25,2,-999,9,-999,-999,9,-999,-999,9,-999,-999,9,-999,2.2152,26.775
49NZ20070724,   P01,16,1,31, X12003,2,20070729,846,40.6267,147.2138,5292,250.5,2,2.7226,2,2.72088,2,33.6558,2,33.6623,6,158.49,2,158.52,2,77.26,2,0.29,34.58,2,0.13,0.02,2,0.01,2.605,2,0.016,3.332,2,1.613,2,0.274,2,-999,9,2249.2,2,2287,2,7.4474,25,2,-999,9,-999,-999,9,-999,-999,9,-999,-999,9,-999,2.708,26.8375
49NZ20070724,   P01,16,1,30, X12008,2,20070729,846,40.6267,147.2138,5292,301.1,2,2.6706,2,2.67061,2,33.7084,2,33.7187,2,138.42,2,137.84,2,84.56,2,0.31,36.34,2,0.13,0.02,2,0.01,2.717,2,0.017,3.018,2,1.462,2,0.244,2,-999,9,2270.8,2,2294.8,2,7.4123,25,2,-999,9,-999,-999,9,-999,-999,9,-999,-999,9,-999,2.6531,26.8842
49NZ20070724,   P01,16,1,29, X12035,2,20070729,846,40.6267,147.2138,5292,401.5,2,2.7537,2,2.75123,2,33.8609,2,33.8698,2,86.71,2,87.07,2,101.34,2,0.34,40.2,2,0.15,0.01,2,0.01,2.951,2,0.017,2.247,2,1.064,2,0.169,2,-999,9,2309.5,2,2312.8,2,7.3437,25,2,-999,9,-999,-999,9,-999,-999,9,-999,-999,9,-999,2.7296,26.9995
49NZ20070724,   P01,16,1,28, X12034,2,20070729,846,40.6267,147.2138,5292,500.4,2,3.0277,2,3.02773,2,34.0265,2,34.0306,6,50.99,2,50.91,2,113.74,2,0.37,42.28,2,0.15,0.01,2,0.01,3.067,2,0.018,1.47,2,0.692,2,0.099,2,-999,9,2336.1,2,2330.3,2,7.3166,25,2,-999,9,-999,-999,9,-999,-999,9,-999,-999,9,-999,2.996,27.1083
49NZ20070724,   P01,16,1,27, X12049,2,20070729,846,40.6267,147.2138,5292,600.3,2,3.2174,2,3.21871,2,34.1547,2,34.152,2,42.97,2,42.16,2,121.16,2,0.39,42.3,2,0.15,0.01,2,0.01,3.066,2,0.018,0.994,2,0.459,2,0.063,2,-999,9,2346.2,2,2343.7,2,7.3328,25,2,-999,9,-999,-999,9,-999,-999,9,-999,-999,9,-999,3.1779,27.194
49NZ20070724,   P01,16,1,26, X12032,2,20070729,846,40.6267,147.2138,5292,700.2,2,2.9256,2,2.92606,2,34.2115,2,34.213,2,36.26,2,36.16,2,131.62,2,0.41,42.9,2,0.15,0.01,2,0.01,3.105,2,0.018,0.796,6,0.361,6,0.053,6,-999,9,2360.2,2,2355,2,7.3297,25,2,-999,9,-999,-999,9,-999,-999,9,-999,-999,9,-999,2.8805,27.2663
49NZ20070724,   P01,16,1,25, X12043,2,20070729,846,40.6267,147.2138,5292,800.2,2,2.8909,2,2.89064,2,34.2883,2,34.2896,2,34.58,2,34.79,2,136.66,2,0.42,42.86,2,0.15,0.01,2,0.01,3.097,2,0.018,0.539,2,0.238,2,0.029,2,-999,9,2363.5,2,2365.6,6,7.3405,25,2,-999,9,-999,-999,9,-999,-999,9,-999,-999,9,-999,2.8388,27.3314
49NZ20070724,   P01,16,1,24, X12030,2,20070729,846,40.6267,147.2138,5292,899.7,2,2.7806,2,2.78069,2,34.3401,2,34.3407,2,36.02,2,36.25,2,141.19,2,0.43,42.81,2,0.15,0.01,2,0.01,3.083,2,0.018,0.416,2,0.18,2,0.024,2,-999,9,2367.9,2,2374.2,2,7.3481,25,2,-999,9,-999,-999,9,-999,-999,9,-999,-999,9,-999,2.722,27.3831
49NZ20070724,   P01,16,1,23, X12027,2,20070729,846,40.6267,147.2138,5292,999.6,2,2.6227,2,2.62252,2,34.3879,2,34.3891,6,37.62,2,37.97,2,146.89,2,0.44,42.75,2,0.15,0,2,0.01,3.086,2,0.018,0.319,2,0.134,2,0.014,2,-999,9,2373.4,2,2381.4,2,7.362,25,2,-999,9,-999,-999,9,-999,-999,9,-999,-999,9,-999,2.558,27.4355
49NZ20070724,   P01,16,1,22, X12028,2,20070729,846,40.6267,147.2138,5292,1199.8,2,2.5348,2,2.53508,2,34.4678,2,34.468,2,41.04,2,41.09,2,150.26,2,0.45,42.64,2,0.15,0.01,2,0.01,3.069,2,0.018,0.068,2,0.04,2,0.003,2,-999,9,2378.2,2,2393.3,2,7.3833,25,2,-999,9,-999,-999,9,-999,-999,9,-999,-999,9,-999,2.4559,27.5081
49NZ20070724,   P01,16,1,21, X12009,2,20070729,846,40.6267,147.2138,5292,1400,2,2.2744,2,2.27435,2,34.5047,2,34.504,2,46.96,2,47.07,2,157.37,2,0.47,42.43,2,0.15,0,2,0.01,3.048,2,0.018,0.057,2,0.035,2,0.004,2,-999,9,2381.5,2,2400.5,2,7.3944,25,2,-999,9,-999,-999,9,-999,-999,9,-999,-999,9,-999,2.1828,27.5602
49NZ20070724,   P01,16,1,20, X12026,2,20070729,846,40.6267,147.2138,5292,1599.7,2,2.1414,2,2.1414,2,34.5441,2,34.5437,2,55.88,2,55.37,2,159.15,2,0.47,41.98,2,0.15,0.01,2,0.01,3.006,2,0.017,0.026,2,0.013,2,0.005,2,-999,9,2377.2,2,2406.1,2,7.4152,25,6,-999,9,-999,-999,9,-999,-999,9,-999,-999,9,-999,2.0358,27.6036
49NZ20070724,   P01,16,1,19, X12025,2,20070729,846,40.6267,147.2138,5292,1799.3,2,2.0106,2,2.01049,2,34.5774,2,34.577,2,66.27,2,65.83,2,160.04,2,0.47,41.45,2,0.15,0,2,0.01,2.953,2,0.017,0.005,2,0.001,2,0,2,-999,9,2375.4,2,2411.3,2,7.4366,25,2,-999,9,-999,-999,9,-999,-999,9,-999,-999,9,-999,1.8907,27.6416
49NZ20070724,   P01,16,1,18, X12024,2,20070729,846,40.6267,147.2138,5292,2000.3,2,1.8951,2,1.89493,2,34.6015,2,34.6013,2,78.96,2,78.38,2,159.85,2,0.47,40.74,2,0.15,0,2,0.01,2.896,2,0.017,0.001,2,0.001,2,0,2,-999,9,2369.8,2,2414.1,2,7.4615,25,2,-999,9,-999,-999,9,-999,-999,9,-999,-999,9,-999,1.7603,27.671
49NZ20070724,   P01,16,1,17, X12023,2,20070729,846,40.6267,147.2138,5292,2200.1,2,1.7866,2,1.78665,2,34.6204,2,34.6206,2,90.25,2,89.57,2,159.65,2,0.47,40.04,2,0.14,0.01,2,0.01,2.846,2,0.017,0.002,2,0,2,0,2,-999,9,2364.8,2,2416.8,2,7.4818,25,2,-999,9,-999,-999,9,-999,-999,9,-999,-999,9,-999,1.6367,27.6955
49NZ20070724,   P01,16,1,16, X12022,2,20070729,846,40.6267,147.2138,5292,2400.9,2,1.7042,2,1.70426,2,34.6353,2,34.6348,2,100.91,2,100.51,2,158.92,2,0.47,39.43,2,0.14,0,2,0.01,2.789,2,0.017,-999,9,-999,9,-999,9,-999,9,2359.3,6,2419.7,3,7.5031,25,2,-999,9,-999,-999,9,-999,-999,9,-999,-999,9,-999,1.5383,27.7147
49NZ20070724,   P01,16,1,15, X12021,2,20070729,846,40.6267,147.2138,5292,2599.3,2,1.632,2,1.632,2,34.648,2,34.6457,3,112.36,2,111.89,2,156.42,2,0.46,38.64,2,0.14,0.01,2,0.01,2.732,2,0.017,-999,9,-999,9,-999,9,-999,9,2349,2,2418.1,6,7.5226,25,2,-999,9,-999,-999,9,-999,-999,9,-999,-999,9,-999,1.4497,27.7313
49NZ20070724,   P01,16,1,14, X12020,2,20070729,846,40.6267,147.2138,5292,2800.9,2,1.5749,2,1.57487,2,34.6575,2,34.6576,2,121.53,2,120.96,2,154.84,2,0.46,38.15,2,0.14,0.01,2,0.01,2.688,2,0.017,0,2,0,2,0,2,-999,9,2345.8,2,2418.7,2,7.5396,25,6,-999,9,-999,-999,9,-999,-999,9,-999,-999,9,-999,1.3753,27.7443
49NZ20070724,   P01,16,1,13, X12019,2,20070729,846,40.6267,147.2138,5292,2999.1,2,1.5351,2,1.53514,2,34.6646,2,34.6648,2,128.38,2,128.25,2,153.52,2,0.46,37.7,2,0.14,0.01,2,0.01,2.655,2,0.017,-999,9,-999,9,-999,9,-999,9,2341.1,2,2419.2,2,7.5525,25,2,-999,9,-999,-999,9,-999,-999,9,-999,-999,9,-999,1.3177,27.7541
49NZ20070724,   P01,16,1,12, X12040,2,20070729,846,40.6267,147.2138,5292,3249.6,2,1.504,2,1.50389,2,34.6707,2,34.6709,2,134.71,2,135.33,2,151.7,2,0.45,37.2,2,0.14,0.01,2,0.01,2.613,2,0.017,-999,9,-999,9,-999,9,-999,9,2338.1,2,2418.9,2,7.5631,25,2,-999,9,-999,-999,9,-999,-999,9,-999,-999,9,-999,1.263,27.7628
49NZ20070724,   P01,16,1,11, X12047,2,20070729,846,40.6267,147.2138,5292,3499.2,2,1.4778,2,1.47767,2,34.6763,2,34.676,2,141.04,2,140.78,2,150.22,2,0.45,36.82,2,0.14,0,2,0.01,2.583,2,0.016,0,2,0,2,0,2,-999,9,2333.6,2,2418.3,2,7.575,25,2,-999,9,-999,-999,9,-999,-999,9,-999,-999,9,-999,1.2123,27.7709
49NZ20070724,   P01,16,1,10, X12010,2,20070729,846,40.6267,147.2138,5292,3750.3,2,1.4613,2,1.46117,2,34.6806,2,34.6805,2,146.2,2,146.1,2,149.22,2,0.45,36.4,2,0.13,0.01,2,0.01,2.557,2,0.016,-999,9,-999,9,-999,9,-999,9,2328.8,2,2418.5,2,7.5817,25,2,-999,9,-999,-999,9,-999,-999,9,-999,-999,9,-999,1.1702,27.7772
49NZ20070724,   P01,16,1,9, X12015,2,20070729,846,40.6267,147.2138,5292,4000.8,2,1.4548,2,1.45472,2,34.6838,2,34.6839,2,150.48,2,150.53,2,147.85,2,0.44,36.16,2,0.13,0.01,2,0.01,2.538,2,0.016,-999,9,-999,9,-999,9,-999,9,2323.2,2,2417.4,2,7.5901,25,2,-999,9,-999,-999,9,-999,-999,9,-999,-999,9,-999,1.1371,27.7821
49NZ20070724,   P01,16,1,8, X12046,2,20070729,846,40.6267,147.2138,5292,4249.2,2,1.4553,2,1.45525,2,34.6867,2,34.6864,6,153.99,2,154.17,2,146.78,2,0.44,35.88,2,0.13,0.01,2,0.01,2.52,2,0.016,0,2,0,2,0,2,-999,9,2322.9,6,2416.2,2,7.5946,25,2,-999,9,-999,-999,9,-999,-999,9,-999,-999,9,-999,1.1102,27.7862
49NZ20070724,   P01,16,1,7, X12044,2,20070729,846,40.6267,147.2138,5292,4500.7,2,1.4635,2,1.46346,2,34.6889,2,34.689,2,156.67,2,156.92,2,146.34,2,0.44,35.74,2,0.13,0.01,2,0.01,2.503,2,0.016,-999,9,-999,9,-999,9,-999,9,2319.9,2,2416.6,6,7.5995,25,2,-999,9,-999,-999,9,-999,-999,9,-999,-999,9,-999,1.0896,27.7894
49NZ20070724,   P01,16,1,6, X12048,2,20070729,846,40.6267,147.2138,5292,4749.4,2,1.4816,2,1.48144,2,34.69,2,34.6899,2,158.22,2,158.4,2,146.23,2,0.44,35.61,2,0.13,0.01,2,0.01,2.49,2,0.016,-999,9,-999,9,-999,9,-999,9,2318.1,2,2415.3,2,7.6016,25,6,-999,9,-999,-999,9,-999,-999,9,-999,-999,9,-999,1.078,27.791
49NZ20070724,   P01,16,1,5, X12017,2,20070729,846,40.6267,147.2138,5292,4999.5,2,1.5049,2,1.50477,2,34.6909,2,34.6904,2,159.68,2,159.78,2,145.15,2,0.44,35.47,2,0.13,0.01,2,0.01,2.485,2,0.016,0.003,2,0,2,0.004,2,-999,9,2318.9,2,2415.4,2,7.603,25,2,-999,9,-999,-999,9,-999,-999,9,-999,-999,9,-999,1.0705,27.7922
49NZ20070724,   P01,16,1,4, X12928,2,20070729,846,40.6267,147.2138,5292,5249.2,2,1.5301,2,1.52993,2,34.6915,2,34.6914,2,160.93,2,160.96,2,143.78,2,0.44,35.46,2,0.13,0.01,2,0.01,2.482,2,0.016,-999,9,-999,9,-999,9,-999,9,-999,9,2414.9,2,7.604,25,2,-999,9,-999,-999,9,-999,-999,9,-999,-999,9,-999,1.0641,27.7932
49NZ20070724,   P01,16,1,3, X12931,9,20070729,846,40.6267,147.2138,5292,10,2,15.9252,2,15.96406,2,33.0066,2,-999,9,278.09,2,-999,9,-999,9,-999,-999,9,-999,-999,9,-999,-999,9,-999,-999,9,-999,9,-999,9,-999,9,-999,9,-999,9,-999,-999,9,-999,9,-999,-999,9,-999,-999,9,-999,-999,9,-999,15.9237,24.2319
49NZ20070724,   P01,16,1,2, X12930,9,20070729,846,40.6267,147.2138,5292,50.2,2,2.6507,2,2.6512,2,33.1014,2,-999,9,308.09,2,-999,9,-999,9,-999,-999,9,-999,-999,9,-999,-999,9,-999,-999,9,-999,9,-999,9,-999,9,-999,9,-999,9,-999,-999,9,-999,9,-999,-999,9,-999,-999,9,-999,-999,9,-999,2.6479,26.3996
49NZ20070724,   P01,16,1,1, X12929,2,20070729,846,40.6267,147.2138,5292,5381.5,2,1.5455,2,1.54526,2,34.6917,2,34.6919,6,161.01,2,160.8,2,145.18,2,0.44,35.46,2,0.13,0.01,2,0.01,2.486,2,0.016,0.003,2,0,2,0.003,2,-999,9,2314.6,2,2415.2,2,7.6033,25,2,-999,9,-999,-999,9,-999,-999,9,-999,-999,9,-999,1.0623,27.7934