BOTTLE,20081214JAMSTECIORGC,,,,,,,,,,,,,,,,,,,,,,,,,,,,,,,,,,,,,,,,,,,,,,,,,,,,,,,,,,,,,,,,,
EXPOCODE,SECT,STNNBR,CASTNO,SAMPNO,BTLNBR,BTLNBR_FLAG_W,DATE,TIME,LATITUDE,LONGITUDE,DEPTH,CTDPRS,CTDPRS_FLAG_W,CTDTMP,CTDTMP_FLAG_W,SBE35,SBE35_FLAG_W,CTDSAL,CTDSAL_FLAG_W,SALNTY,SALNTY_FLAG_W,CTDOXY,CTDOXY_FLAG_W,OXYGEN,OXYGEN_FLAG_W,SILCAT,SILCAT_FLAG_W,SILUNC,NITRAT,NITRAT_FLAG_W,NRAUNC,NITRIT,NITRIT_FLAG_W,NRIUNC,PHSPHT,PHSPHT_FLAG_W,PHPUNC,CFC-11,CFC-11_FLAG_W,CFC-12,CFC-12_FLAG_W,CFC113,CFC113_FLAG_W,CCL4,CCL4_FLAG_W,TCARBN,TCARBN_FLAG_W,ALKALI,ALKALI_FLAG_W,PH_TOT,PH_TMP,PH_FLAG_W,DELC13,DELC13_FLAG_W,C13ERR,DELC14,DELC14_FLAG_W,C14ERR,CS-137,CS-137_FLAG_W,CS137ER,PLUTO,PLUTO_FLAG_W,PLUTOER,THETA,SIG0
,,,,,,,,UTC,DEG,DEG,M,DBAR,,ITS-90,,ITS-90,,PSS-78,,PSS-78,,UMOL/KG,,UMOL/KG,,UMOL/KG,,UMOL/KG,UMOL/KG,,UMOL/KG,UMOL/KG,,UMOL/KG,UMOL/KG,,UMOL/KG,PMOL/KG,,PMOL/KG,,PMOL/KG,,PMOL/KG,,UMOL/KG,,UMOL/KG,,,ITS-90,,/MILLE,,/MILLE,/MILLE,,/MILLE,BQ/CUM,,BQ/CUM,MBQ/CUM,,MBQ/CUM,DEG C,KG/CUM
49NZ20070724,   P01,85,1,0,-999,9,20070821,2154,47,-153.6277,5222,-999,9,-999,9,-999,9,-999,9,32.6426,2,-999,9,-999,9,-999,9,-999,-999,9,-999,-999,9,-999,-999,9,-999,-999,9,-999,9,-999,9,-999,9,-999,9,-999,9,-999,-999,9,-999,9,-999,-999,9,-999,-999,9,-999,-999,9,-999,-999,-999
49NZ20070724,   P01,85,1,36, X12042,2,20070821,2154,47,-153.6277,5222,9.3,2,13.9822,2,13.978,2,32.6599,2,32.6511,2,273.16,2,272.24,2,2.52,2,0.12,6.16,2,0.05,0.12,2,0.01,0.765,2,0.013,3.225,2,1.819,2,0.289,2,-999,9,1994.1,2,2204.5,2,7.9243,25,6,-999,9,-999,-999,9,-999,-999,9,-999,-999,9,-999,13.9809,24.3832
49NZ20070724,   P01,85,1,35, X12041,2,20070821,2154,47,-153.6277,5222,50.2,2,7.7854,2,7.76996,2,32.8968,2,32.9067,2,301.53,2,302.62,2,16.67,2,0.16,10.87,2,0.06,0.14,2,0.01,1.187,2,0.013,4.35,2,2.426,2,0.394,2,-999,9,2053.9,6,2216.4,2,7.8183,25,2,-999,9,-999,-999,9,-999,-999,9,-999,-999,9,-999,7.7806,25.654
49NZ20070724,   P01,85,1,34, X12036,2,20070821,2154,47,-153.6277,5222,101,2,5.7678,2,5.76883,2,32.9857,2,32.9923,2,299.09,2,299.15,2,20.87,2,0.16,13.97,2,0.07,0.53,2,0,1.311,2,0.014,4.604,2,2.565,2,0.397,2,-999,9,2070.5,2,2218.9,6,7.7779,25,2,-999,9,-999,-999,9,-999,-999,9,-999,-999,9,-999,5.7597,25.9904
49NZ20070724,   P01,85,1,33, X12033,2,20070821,2154,47,-153.6277,5222,150,2,5.9242,2,5.93766,2,33.5848,2,33.6091,2,251.41,2,248.55,2,31.11,2,0.19,20.49,2,0.09,0.02,2,0.01,1.588,2,0.014,4.254,6,2.316,6,0.304,6,-999,9,2134.2,2,2251.7,2,7.6928,25,6,-999,9,-999,-999,9,-999,-999,9,-999,-999,9,-999,5.9118,26.4454
49NZ20070724,   P01,85,1,32, X12038,2,20070821,2154,47,-153.6277,5222,200.7,2,5.8234,2,5.8221,2,33.7728,2,33.7685,2,211.8,2,212.93,2,39.4,2,0.21,23.83,2,0.1,0.02,2,0.01,1.797,2,0.015,3.865,2,2.061,2,0.249,2,-999,9,2165.8,2,2266.1,2,7.6388,25,2,-999,9,-999,-999,9,-999,-999,9,-999,-999,9,-999,5.8068,26.6069
49NZ20070724,   P01,85,1,31, X12003,2,20070821,2154,47,-153.6277,5222,249.3,2,5.2504,2,5.24978,2,33.8025,2,33.808,6,172.29,2,170.9,2,51.76,2,0.23,28.7,2,0.11,0.02,2,0.01,2.122,2,0.015,3.44,2,1.778,2,0.222,2,-999,9,2204,2,2274.6,2,7.554,25,2,-999,9,-999,-999,9,-999,-999,9,-999,-999,9,-999,5.2308,26.6993
49NZ20070724,   P01,85,1,30, X12008,2,20070821,2154,47,-153.6277,5222,330.7,2,4.6287,2,4.62875,2,33.8736,2,33.8876,2,115.13,2,111.99,2,69.91,2,0.27,34.94,2,0.13,0.02,2,0.01,2.535,2,0.016,2.643,2,1.309,2,0.159,2,-999,9,2257.3,2,2289.8,2,7.4443,25,2,-999,9,-999,-999,9,-999,-999,9,-999,-999,9,-999,4.6041,26.8264
49NZ20070724,   P01,85,1,29, X12035,2,20070821,2154,47,-153.6277,5222,430.8,2,4.3775,2,4.37751,2,34.0047,2,34.0077,2,72.73,2,72.5,2,85.83,2,0.31,38.7,2,0.14,0.01,2,0.01,2.788,2,0.017,1.758,2,0.85,2,0.102,2,-999,9,2294.3,2,2308,2,7.3868,25,2,-999,9,-999,-999,9,-999,-999,9,-999,-999,9,-999,4.3459,26.9583
49NZ20070724,   P01,85,1,28, X12034,2,20070821,2154,47,-153.6277,5222,530.1,2,4.1284,2,4.12791,2,34.0976,2,34.1001,6,47.57,2,47.49,2,98.62,2,0.34,41.02,2,0.15,0.01,2,0.01,2.942,2,0.017,1.128,2,0.529,2,0.062,2,-999,9,2321.2,2,2323.7,2,7.3526,25,2,-999,9,-999,-999,9,-999,-999,9,-999,-999,9,-999,4.09,27.059
49NZ20070724,   P01,85,1,27, X12049,2,20070821,2154,47,-153.6277,5222,629.7,2,3.8433,2,3.84293,2,34.1684,2,34.1691,2,34.58,2,35,2,109.47,2,0.36,42.39,2,0.15,0.01,2,0.01,3.031,2,0.018,0.718,2,0.337,2,0.043,2,-999,9,2337.2,2,2336.8,2,7.3374,25,2,-999,9,-999,-999,9,-999,-999,9,-999,-999,9,-999,3.7986,27.145
49NZ20070724,   P01,85,1,26, X12032,2,20070821,2154,47,-153.6277,5222,730.2,2,3.6013,2,3.60077,2,34.2303,2,34.2324,2,29.46,2,29.48,2,118.49,2,0.38,42.88,2,0.15,0.01,2,0.01,3.072,2,0.018,0.419,6,0.195,6,0.017,6,-999,9,2351.2,6,2348.2,2,7.3374,25,2,-999,9,-999,-999,9,-999,-999,9,-999,-999,9,-999,3.5502,27.2189
49NZ20070724,   P01,85,1,25, X12043,2,20070821,2154,47,-153.6277,5222,829.8,2,3.3532,2,3.35306,2,34.2847,2,34.2849,2,25.2,2,25.38,2,126.62,2,0.4,43.31,2,0.15,0.01,2,0.01,3.12,2,0.018,0.25,2,0.117,2,0.012,2,-999,9,2362.2,2,2359.6,6,7.3342,25,2,-999,9,-999,-999,9,-999,-999,9,-999,-999,9,-999,3.296,27.2867
49NZ20070724,   P01,85,1,24, X12030,2,20070821,2154,47,-153.6277,5222,930.7,2,3.1361,2,3.13591,2,34.3311,2,34.3311,2,22.65,2,22.8,2,133.84,2,0.41,43.52,2,0.15,0.01,2,0.01,3.118,2,0.018,0.148,2,0.065,2,0.007,2,-999,9,2372.7,2,2369.8,2,7.3334,25,2,-999,9,-999,-999,9,-999,-999,9,-999,-999,9,-999,3.0727,27.3445
49NZ20070724,   P01,85,1,23, X12027,2,20070821,2154,47,-153.6277,5222,1070.4,2,2.8877,2,2.88735,2,34.3859,2,34.3858,2,20.07,2,20.14,2,142.41,2,0.43,43.98,2,0.16,0.01,2,0.01,3.15,2,0.018,0.064,2,0.027,2,0,2,-999,9,2383.4,2,2379.3,2,7.335,25,6,-999,9,-999,-999,9,-999,-999,9,-999,-999,9,-999,2.8156,27.4115
49NZ20070724,   P01,85,1,22, X12028,2,20070821,2154,47,-153.6277,5222,1270,2,2.5849,2,2.5849,2,34.4468,2,34.4467,2,21.22,2,21.23,2,152.8,2,0.46,44.22,2,0.16,0.01,2,0.01,3.148,2,0.018,0.022,2,0.007,2,0,2,-999,9,2392.7,2,2391.7,2,7.3423,25,2,-999,9,-999,-999,9,-999,-999,9,-999,-999,9,-999,2.5002,27.4875
49NZ20070724,   P01,85,1,21, X12009,2,20070821,2154,47,-153.6277,5222,1471.5,2,2.3626,2,2.36242,2,34.4953,2,34.4952,2,22.53,2,22.58,2,160.43,2,0.47,44.54,2,0.16,0.01,2,0.01,3.145,2,0.018,0.003,2,0,2,0,2,-999,9,2399,2,2401.7,2,7.3496,25,2,-999,9,-999,-999,9,-999,-999,9,-999,-999,9,-999,2.2646,27.546
49NZ20070724,   P01,85,1,20, X12026,2,20070821,2154,47,-153.6277,5222,1671.2,2,2.2008,2,2.20069,2,34.5335,2,34.5333,2,28.84,2,28.79,2,164.88,2,0.48,44.2,2,0.16,0.01,2,0.01,3.117,2,0.018,0,2,0,2,0,2,-999,9,2400.5,2,2408.5,2,7.3628,25,2,-999,9,-999,-999,9,-999,-999,9,-999,-999,9,-999,2.0888,27.5908
49NZ20070724,   P01,85,1,19, X12025,2,20070821,2154,47,-153.6277,5222,1870.7,2,2.0417,2,2.04181,2,34.5671,2,34.5669,2,40.43,2,40.31,2,168.76,2,0.49,43.4,2,0.15,0.01,2,0.01,3.059,2,0.018,0,2,0,2,0,2,-999,9,2395.6,2,2413.8,2,7.3869,25,2,-999,9,-999,-999,9,-999,-999,9,-999,-999,9,-999,1.9156,27.6315
49NZ20070724,   P01,85,1,18, X12024,2,20070821,2154,47,-153.6277,5222,2069.9,2,1.9193,2,1.91933,2,34.5919,2,34.5921,2,52.77,2,52.54,2,170.99,2,0.5,42.78,2,0.15,0.01,2,0.01,3.011,2,0.017,0,2,0,2,0,2,-999,9,2392.4,2,2416.9,2,7.411,25,2,-999,9,-999,-999,9,-999,-999,9,-999,-999,9,-999,1.7784,27.6619
49NZ20070724,   P01,85,1,17, X12023,2,20070821,2154,47,-153.6277,5222,2269.4,2,1.8237,2,1.82399,2,34.6112,2,34.6116,2,65.12,2,64.83,2,171.63,2,0.5,41.9,2,0.15,0.01,2,0.01,2.959,2,0.017,0.005,2,0,2,0,2,-999,9,2385.9,2,2420.3,2,7.435,25,2,-999,9,-999,-999,9,-999,-999,9,-999,-999,9,-999,1.6672,27.6858
49NZ20070724,   P01,85,1,16, X12022,2,20070821,2154,47,-153.6277,5222,2470.3,2,1.7432,2,1.74316,2,34.6262,2,34.6259,2,77.72,2,77.29,2,170.7,2,0.49,41.06,2,0.15,0.01,2,0.01,2.894,2,0.017,-999,9,-999,9,-999,9,-999,9,2379.1,6,2421.5,2,7.458,25,2,-999,9,-999,-999,9,-999,-999,9,-999,-999,9,-999,1.5705,27.705
49NZ20070724,   P01,85,1,15, X12021,2,20070821,2154,47,-153.6277,5222,2669.4,2,1.6833,2,1.68329,2,34.6375,2,34.6375,6,88.79,2,88.6,2,169.22,2,0.49,40.43,2,0.15,0.01,2,0.01,2.85,2,0.017,-999,9,-999,9,-999,9,-999,9,2370.8,2,2421.5,6,7.4797,25,2,-999,9,-999,-999,9,-999,-999,9,-999,-999,9,-999,1.4937,27.7197
49NZ20070724,   P01,85,1,14, X12020,2,20070821,2154,47,-153.6277,5222,2871,2,1.625,2,1.62507,2,34.6482,2,34.6481,2,99.7,2,99.56,2,167.7,2,0.49,39.66,2,0.14,0.01,2,0.01,2.79,2,0.017,-999,9,-999,9,-999,9,-999,9,2364.8,2,2422.1,2,7.5006,25,6,-999,9,-999,-999,9,-999,-999,9,-999,-999,9,-999,1.4178,27.7338
49NZ20070724,   P01,85,1,13, X12019,2,20070821,2154,47,-153.6277,5222,3080.8,2,1.5769,2,1.57691,2,34.6574,2,34.6575,2,110.22,2,110.14,2,166,2,0.48,39,2,0.14,0.01,2,0.01,2.739,2,0.017,-999,9,-999,9,-999,9,-999,9,2358.4,2,2422.5,2,7.5199,25,2,-999,9,-999,-999,9,-999,-999,9,-999,-999,9,-999,1.3507,27.7459
49NZ20070724,   P01,85,1,12, X12040,2,20070821,2154,47,-153.6277,5222,3330.9,2,1.5315,2,1.53155,2,34.6664,2,34.6664,2,121.98,2,121.64,2,162.39,2,0.48,38.08,2,0.14,0.01,2,0.01,2.681,2,0.017,-999,9,-999,9,-999,9,-999,9,2350.2,2,2422.8,2,7.5424,25,2,-999,9,-999,-999,9,-999,-999,9,-999,-999,9,-999,1.2818,27.7581
49NZ20070724,   P01,85,1,11, X12047,2,20070821,2154,47,-153.6277,5222,3579.5,2,1.5014,2,1.50151,2,34.6734,2,34.6732,2,131,2,130.8,2,160.64,2,0.47,37.55,2,0.14,0.01,2,0.01,2.632,2,0.017,-999,9,-999,9,-999,9,-999,9,2342.9,2,2423.5,2,7.5592,25,2,-999,9,-999,-999,9,-999,-999,9,-999,-999,9,-999,1.2271,27.7675
49NZ20070724,   P01,85,1,10, X12010,2,20070821,2154,47,-153.6277,5222,3830.2,2,1.4831,2,1.48306,2,34.679,2,34.6789,2,137.57,2,137.69,2,160.3,2,0.47,37.09,2,0.14,0.01,2,0.01,2.6,2,0.016,-999,9,-999,9,-999,9,-999,9,2339,2,2424.8,2,7.5721,25,2,-999,9,-999,-999,9,-999,-999,9,-999,-999,9,-999,1.183,27.775
49NZ20070724,   P01,85,1,9, X12015,2,20070821,2154,47,-153.6277,5222,4080.2,2,1.4854,2,1.4855,2,34.6824,2,34.6822,6,141.03,2,141.24,2,160.99,2,0.47,36.9,2,0.14,0.01,2,0.01,2.583,2,0.016,-999,9,-999,9,-999,9,-999,9,2336.6,2,2425.5,2,7.5794,25,2,-999,9,-999,-999,9,-999,-999,9,-999,-999,9,-999,1.1582,27.7794
49NZ20070724,   P01,85,1,8, X12046,2,20070821,2154,47,-153.6277,5222,4330,2,1.4989,2,1.49898,2,34.6847,2,34.6844,2,142.95,2,143.16,2,162.82,2,0.48,36.7,2,0.14,0.01,2,0.01,2.567,2,0.016,-999,9,-999,9,-999,9,-999,9,2338.9,6,2427.8,2,7.5863,25,2,-999,9,-999,-999,9,-999,-999,9,-999,-999,9,-999,1.1434,27.7823
49NZ20070724,   P01,85,1,7, X12044,2,20070821,2154,47,-153.6277,5222,4580.1,2,1.519,2,1.51906,2,34.6862,2,34.6861,2,144.17,2,144.52,2,164.16,2,0.48,36.78,2,0.14,0.01,2,0.01,2.568,2,0.016,-999,9,-999,9,-999,9,-999,9,2338.6,2,2428.9,6,7.5886,25,2,-999,9,-999,-999,9,-999,-999,9,-999,-999,9,-999,1.1342,27.7841
49NZ20070724,   P01,85,1,6, X12048,2,20070821,2154,47,-153.6277,5222,4828.8,2,1.5436,2,1.54354,2,34.687,2,34.6869,2,144.97,2,145.23,2,164.99,2,0.48,36.6,2,0.14,0.01,2,0.01,2.562,2,0.016,-999,9,-999,9,-999,9,-999,9,2336.6,2,2429.2,2,7.5921,25,6,-999,9,-999,-999,9,-999,-999,9,-999,-999,9,-999,1.1286,27.7852
49NZ20070724,   P01,85,1,5, X12017,2,20070821,2154,47,-153.6277,5222,5080.8,2,1.5703,2,1.57029,2,34.6876,2,34.6869,3,146.07,2,145.93,2,165.18,2,0.48,36.54,2,0.14,0.01,2,0.01,2.552,2,0.016,-999,9,-999,9,-999,9,-999,9,2337.1,2,2428.5,2,7.5925,25,2,-999,9,-999,-999,9,-999,-999,9,-999,-999,9,-999,1.1238,27.786
49NZ20070724,   P01,85,1,4, X12928,9,20070821,2154,47,-153.6277,5222,200.2,2,5.8264,2,5.8272,2,33.7735,2,-999,9,211.87,2,-999,9,-999,9,-999,-999,9,-999,-999,9,-999,-999,9,-999,-999,9,-999,9,-999,9,-999,9,-999,9,-999,9,-999,-999,9,-999,9,-999,-999,9,-999,-999,9,-999,-999,9,-999,5.8098,26.607
49NZ20070724,   P01,85,1,3, X12931,9,20070821,2154,47,-153.6277,5222,200.4,2,5.8318,2,5.83204,2,33.7736,2,-999,9,211.83,2,-999,9,-999,9,-999,-999,9,-999,-999,9,-999,-999,9,-999,-999,9,-999,9,-999,9,-999,9,-999,9,-999,9,-999,-999,9,-999,9,-999,-999,9,-999,-999,9,-999,-999,9,-999,5.8152,26.6065
49NZ20070724,   P01,85,1,2, X12930,9,20070821,2154,47,-153.6277,5222,200.6,2,5.8319,2,5.83032,2,33.7727,2,-999,9,211.44,2,-999,9,-999,9,-999,-999,9,-999,-999,9,-999,-999,9,-999,-999,9,-999,9,-999,9,-999,9,-999,9,-999,9,-999,-999,9,-999,9,-999,-999,9,-999,-999,9,-999,-999,9,-999,5.8153,26.6057
49NZ20070724,   P01,85,1,1, X12929,2,20070821,2154,47,-153.6277,5222,5314.3,2,1.5988,2,1.59882,2,34.6878,2,34.6878,6,146.67,2,146.43,2,165.49,2,0.48,36.57,2,0.14,0.01,2,0.01,2.558,2,0.016,-999,9,-999,9,-999,9,-999,9,2333.5,2,2429.4,2,7.5928,25,2,-999,9,-999,-999,9,-999,-999,9,-999,-999,9,-999,1.1222,27.7862