BOTTLE,20081214JAMSTECIORGC,,,,,,,,,,,,,,,,,,,,,,,,,,,,,,,,,,,,,,,,,,,,,,,,,,,,,,,,,,,,,,,,,
EXPOCODE,SECT,STNNBR,CASTNO,SAMPNO,BTLNBR,BTLNBR_FLAG_W,DATE,TIME,LATITUDE,LONGITUDE,DEPTH,CTDPRS,CTDPRS_FLAG_W,CTDTMP,CTDTMP_FLAG_W,SBE35,SBE35_FLAG_W,CTDSAL,CTDSAL_FLAG_W,SALNTY,SALNTY_FLAG_W,CTDOXY,CTDOXY_FLAG_W,OXYGEN,OXYGEN_FLAG_W,SILCAT,SILCAT_FLAG_W,SILUNC,NITRAT,NITRAT_FLAG_W,NRAUNC,NITRIT,NITRIT_FLAG_W,NRIUNC,PHSPHT,PHSPHT_FLAG_W,PHPUNC,CFC-11,CFC-11_FLAG_W,CFC-12,CFC-12_FLAG_W,CFC113,CFC113_FLAG_W,CCL4,CCL4_FLAG_W,TCARBN,TCARBN_FLAG_W,ALKALI,ALKALI_FLAG_W,PH_TOT,PH_TMP,PH_FLAG_W,DELC13,DELC13_FLAG_W,C13ERR,DELC14,DELC14_FLAG_W,C14ERR,CS-137,CS-137_FLAG_W,CS137ER,PLUTO,PLUTO_FLAG_W,PLUTOER,THETA,SIG0
,,,,,,,,UTC,DEG,DEG,M,DBAR,,ITS-90,,ITS-90,,PSS-78,,PSS-78,,UMOL/KG,,UMOL/KG,,UMOL/KG,,UMOL/KG,UMOL/KG,,UMOL/KG,UMOL/KG,,UMOL/KG,UMOL/KG,,UMOL/KG,PMOL/KG,,PMOL/KG,,PMOL/KG,,PMOL/KG,,UMOL/KG,,UMOL/KG,,,ITS-90,,/MILLE,,/MILLE,/MILLE,,/MILLE,BQ/CUM,,BQ/CUM,MBQ/CUM,,MBQ/CUM,DEG C,KG/CUM
49NZ20070724,   P01,12,1,0,-999,9,20070728,1000,41.6715,146.5332,6251,-999,9,-999,9,-999,9,-999,9,32.6744,2,-999,9,-999,9,-999,9,-999,-999,9,-999,-999,9,-999,-999,9,-999,-999,9,-999,9,-999,9,-999,9,-999,9,-999,9,-999,-999,9,-999,9,-999,-999,9,-999,-999,9,-999,-999,9,-999,-999,-999
49NZ20070724,   P01,12,1,36, X12042,2,20070728,1000,41.6715,146.5332,6251,10.2,2,14.5728,2,14.57555,2,32.6967,2,32.7848,2,289.79,2,292.35,2,12.05,2,0.15,7.9,2,0.05,0.14,2,0.01,0.995,2,0.013,3.518,2,1.936,2,0.338,2,-999,9,2011.4,2,2229.8,2,7.9407,25,6,-999,9,-999,-999,9,-999,-999,9,-999,-999,9,-999,14.5713,24.2883
49NZ20070724,   P01,12,1,35, X12041,2,20070728,1000,41.6715,146.5332,6251,49.9,2,3.7204,2,3.62887,2,33.0605,2,33.0696,2,325.35,2,326.04,2,32.4,2,0.19,18.96,2,0.09,0.4,2,0,1.772,2,0.015,5.292,2,2.851,2,0.509,2,-999,9,2115.2,2,2247.3,2,7.7291,25,2,-999,9,-999,-999,9,-999,-999,9,-999,-999,9,-999,3.7172,26.2711
49NZ20070724,   P01,12,1,34, X12036,2,20070728,1000,41.6715,146.5332,6251,99.9,2,1.79,2,1.79627,2,33.2145,2,33.2344,2,276.57,2,273.28,2,52.63,2,0.23,27.8,2,0.11,0.11,2,0.01,2.186,2,0.015,4.957,2,2.512,2,0.456,2,-999,9,2174.3,2,2254.9,2,7.5883,25,2,-999,9,-999,-999,9,-999,-999,9,-999,-999,9,-999,1.7852,26.5571
49NZ20070724,   P01,12,1,33, X12033,2,20070728,1000,41.6715,146.5332,6251,150.2,2,1.8665,2,1.86697,2,33.3804,2,33.391,2,226.1,2,224.54,2,65.22,2,0.26,31.49,2,0.12,0.02,2,0.01,2.408,2,0.016,4.4,2,2.204,2,0.391,2,-999,9,2213.7,2,2267.3,2,7.5098,25,2,-999,9,-999,-999,9,-999,-999,9,-999,-999,9,-999,1.859,26.6847
49NZ20070724,   P01,12,1,32, X12038,2,20070728,1000,41.6715,146.5332,6251,199.7,2,2.0862,2,2.08448,2,33.528,2,33.5365,2,181.48,2,182.07,2,76.76,2,0.29,34.21,2,0.13,0.03,2,0.01,2.582,2,0.016,3.799,2,1.868,2,0.335,2,-999,9,2248.1,2,2282.4,2,7.4552,25,2,-999,9,-999,-999,9,-999,-999,9,-999,-999,9,-999,2.0757,26.7866
49NZ20070724,   P01,12,1,31, X12003,2,20070728,1000,41.6715,146.5332,6251,249.7,2,2.406,2,2.39594,2,33.656,2,33.6831,6,142.33,2,131.64,2,85.97,2,0.31,37.48,2,0.14,0.02,2,0.01,2.773,2,0.017,3.108,6,1.512,6,0.255,6,-999,9,2277.8,2,2292.8,2,7.3924,25,2,-999,9,-999,-999,9,-999,-999,9,-999,-999,9,-999,2.3921,26.864
49NZ20070724,   P01,12,1,30, X12008,2,20070728,1000,41.6715,146.5332,6251,281.9,2,2.7824,2,2.77953,2,33.789,2,33.7893,2,100.08,2,100.71,2,93.73,2,0.33,39.76,2,0.14,0.02,2,0.01,2.899,2,0.017,2.6,2,1.261,2,0.211,2,-999,9,2298.7,6,2300.4,2,7.3546,25,2,-999,9,-999,-999,9,-999,-999,9,-999,-999,9,-999,2.7657,26.939
49NZ20070724,   P01,12,1,29, X12035,2,20070728,1000,41.6715,146.5332,6251,370.6,2,2.9701,2,2.96968,2,33.915,2,33.9208,2,70.56,2,71.43,2,104.55,2,0.35,41.4,2,0.15,0.01,2,0.01,3.004,2,0.017,2.023,2,0.975,2,0.162,2,-999,9,2321.7,2,2316.3,6,7.3282,25,2,-999,9,-999,-999,9,-999,-999,9,-999,-999,9,-999,2.9473,27.0237
49NZ20070724,   P01,12,1,28, X12034,2,20070728,1000,41.6715,146.5332,6251,472,2,2.8742,2,2.87384,2,34.0365,2,34.0481,6,58.54,2,54.28,2,116.41,2,0.38,42.15,2,0.15,0.01,2,0.01,3.047,2,0.018,1.444,2,0.701,2,0.101,2,-999,9,2339.1,2,2332.5,2,7.3245,25,2,-999,9,-999,-999,9,-999,-999,9,-999,-999,9,-999,2.845,27.1298
49NZ20070724,   P01,12,1,27, X12049,2,20070728,1000,41.6715,146.5332,6251,572.8,2,2.9192,2,2.91952,2,34.1639,2,34.1653,2,40.25,2,39.83,2,127.22,2,0.4,42.96,2,0.15,0.01,2,0.01,3.089,2,0.018,0.953,2,0.458,2,0.067,2,-999,9,2354.5,2,2348.2,2,7.3211,25,2,-999,9,-999,-999,9,-999,-999,9,-999,-999,9,-999,2.8829,27.2281
49NZ20070724,   P01,12,1,26, X12032,2,20070728,1000,41.6715,146.5332,6251,670,2,2.9079,2,2.90726,2,34.2503,2,34.2513,2,35.82,2,35.84,2,134.14,2,0.41,43.11,2,0.15,0.01,2,0.01,3.092,2,0.018,0.666,6,0.317,6,0.042,6,-999,9,2363,6,2360.2,2,7.3321,25,2,-999,9,-999,-999,9,-999,-999,9,-999,-999,9,-999,2.8649,27.2987
49NZ20070724,   P01,12,1,25, X12043,2,20070728,1000,41.6715,146.5332,6251,771,2,2.6604,2,2.66043,2,34.2976,2,34.2975,2,38.38,2,37.97,2,141.36,2,0.43,42.96,2,0.15,0.01,2,0.01,3.093,2,0.018,0.592,2,0.28,2,0.042,2,-999,9,2370.4,2,2369.4,2,7.3405,25,2,-999,9,-999,-999,9,-999,-999,9,-999,-999,9,-999,2.6118,27.3587
49NZ20070724,   P01,12,1,24, X12030,2,20070728,1000,41.6715,146.5332,6251,870,2,2.6328,2,2.63293,2,34.3657,2,34.3643,2,37.49,2,37.51,2,145.53,2,0.44,42.85,2,0.15,0.01,2,0.01,3.081,2,0.018,0.377,2,0.176,2,0.025,2,-999,9,2373.6,2,2378.7,2,7.3526,25,6,-999,9,-999,-999,9,-999,-999,9,-999,-999,9,-999,2.5773,27.4161
49NZ20070724,   P01,12,1,23, X12027,2,20070728,1000,41.6715,146.5332,6251,971.2,2,2.5383,2,2.53551,2,34.4026,2,34.4001,6,38.91,2,39.39,2,149.9,2,0.45,42.91,2,0.15,0,2,0.01,3.076,2,0.018,0.311,2,0.143,2,0.012,2,-999,9,2376.1,2,2383.8,2,7.3598,25,2,-999,9,-999,-999,9,-999,-999,9,-999,-999,9,-999,2.4763,27.4542
49NZ20070724,   P01,12,1,22, X12028,2,20070728,1000,41.6715,146.5332,6251,1130,2,2.3509,2,2.35083,2,34.4408,2,34.4415,2,44.54,2,44.91,2,153.74,2,0.46,42.28,2,0.15,0.01,2,0.01,3.043,2,0.018,0.257,2,0.111,2,0.014,2,-999,9,2380.7,2,2390.8,2,7.3766,25,2,-999,9,-999,-999,9,-999,-999,9,-999,-999,9,-999,2.2789,27.5012
49NZ20070724,   P01,12,1,21, X12009,2,20070728,1000,41.6715,146.5332,6251,1330.3,2,2.3484,2,2.34821,2,34.5038,2,34.5041,2,46.12,2,46.44,2,154.72,2,0.46,42.52,2,0.15,0.01,2,0.01,3.041,2,0.018,0.043,2,0.026,2,0.003,2,-999,9,2381.2,2,2399.6,2,7.397,25,2,-999,9,-999,-999,9,-999,-999,9,-999,-999,9,-999,2.2614,27.5531
49NZ20070724,   P01,12,1,20, X12026,2,20070728,1000,41.6715,146.5332,6251,1530,2,2.1925,2,2.19215,2,34.5457,2,34.5457,2,55.9,2,56.08,2,156.62,2,0.46,42.04,2,0.15,0.01,2,0.01,2.988,2,0.017,0.017,2,0.008,2,0,2,-999,9,2383.4,2,2405.9,2,7.4156,25,6,-999,9,-999,-999,9,-999,-999,9,-999,-999,9,-999,2.0917,27.6004
49NZ20070724,   P01,12,1,19, X12025,2,20070728,1000,41.6715,146.5332,6251,1730.7,2,2.0606,2,2.06052,2,34.5711,2,34.571,2,64.81,2,64.98,2,159.1,2,0.47,41.65,2,0.15,0.01,2,0.01,2.958,2,0.017,0.01,2,0.004,2,0,2,-999,9,2378.4,2,2410.3,2,7.4323,25,2,-999,9,-999,-999,9,-999,-999,9,-999,-999,9,-999,1.9456,27.6323
49NZ20070724,   P01,12,1,18, X12024,2,20070728,1000,41.6715,146.5332,6251,1929.3,2,1.9214,2,1.92142,2,34.5981,2,34.5976,2,77.9,2,77.18,2,158.98,2,0.47,40.81,2,0.15,0.01,2,0.01,2.895,2,0.017,0.001,2,0.001,2,0,2,-999,9,2371.9,2,2413.9,2,7.4585,25,2,-999,9,-999,-999,9,-999,-999,9,-999,-999,9,-999,1.7921,27.6658
49NZ20070724,   P01,12,1,17, X12023,2,20070728,1000,41.6715,146.5332,6251,2130.6,2,1.8121,2,1.8119,2,34.6177,2,34.6175,2,90.35,2,89.47,2,158.6,2,0.47,40.14,2,0.15,0,2,0.01,2.836,2,0.017,0,2,0,2,0,2,-999,9,2366.7,2,2415.8,2,7.4838,25,2,-999,9,-999,-999,9,-999,-999,9,-999,-999,9,-999,1.6677,27.691
49NZ20070724,   P01,12,1,16, X12022,2,20070728,1000,41.6715,146.5332,6251,2329.4,2,1.7147,2,1.71413,2,34.6346,2,34.6346,2,102.97,2,102.35,2,156.76,2,0.46,39.47,2,0.14,0.01,2,0.01,2.773,2,0.017,0,2,0,2,0,2,-999,9,2358.4,6,2418.4,2,7.5064,25,2,-999,9,-999,-999,9,-999,-999,9,-999,-999,9,-999,1.5548,27.7129
49NZ20070724,   P01,12,1,15, X12021,2,20070728,1000,41.6715,146.5332,6251,2529.6,2,1.6532,2,1.65327,2,34.645,2,34.6452,6,111.14,2,111.07,2,155.78,2,0.46,38.9,2,0.14,0.01,2,0.01,2.737,2,0.017,0,2,0,2,0,2,-999,9,2352.4,2,2418.5,6,7.5211,25,2,-999,9,-999,-999,9,-999,-999,9,-999,-999,9,-999,1.4768,27.727
49NZ20070724,   P01,12,1,14, X12020,2,20070728,1000,41.6715,146.5332,6251,2729.8,2,1.6138,2,1.61372,2,34.6526,2,34.6523,2,117.86,2,116.98,2,154.63,2,0.46,38.55,2,0.14,0.01,2,0.01,2.704,2,0.017,-999,9,-999,9,-999,9,-999,9,2350.6,2,2419.8,2,7.5334,25,6,-999,9,-999,-999,9,-999,-999,9,-999,-999,9,-999,1.42,27.7372
49NZ20070724,   P01,12,1,13, X12019,2,20070728,1000,41.6715,146.5332,6251,2929.8,2,1.5649,2,1.56487,2,34.6609,2,34.6609,2,125.86,2,125.09,2,152.75,2,0.46,38,2,0.14,0.01,2,0.01,2.662,2,0.017,-999,9,-999,9,-999,9,-999,9,2345.8,2,2419.1,2,7.5478,25,2,-999,9,-999,-999,9,-999,-999,9,-999,-999,9,-999,1.3534,27.7486
49NZ20070724,   P01,12,1,12, X12040,2,20070728,1000,41.6715,146.5332,6251,3169.4,2,1.5326,2,1.53252,2,34.6672,2,34.6671,2,131.45,2,131,2,151.54,2,0.45,37.65,2,0.14,0.01,2,0.01,2.63,2,0.017,0,2,0,2,0,2,-999,9,2343,2,2419.8,2,7.5567,25,2,-999,9,-999,-999,9,-999,-999,9,-999,-999,9,-999,1.2988,27.7575
49NZ20070724,   P01,12,1,11, X12047,2,20070728,1000,41.6715,146.5332,6251,3419.9,2,1.5044,2,1.50433,2,34.6733,2,34.6728,2,138.13,2,137.92,2,149.65,2,0.45,37.18,2,0.14,0,2,0.01,2.599,2,0.016,-999,9,-999,9,-999,9,-999,9,2336.5,2,2418.8,2,7.5702,25,2,-999,9,-999,-999,9,-999,-999,9,-999,-999,9,-999,1.2463,27.766
49NZ20070724,   P01,12,1,10, X12010,2,20070728,1000,41.6715,146.5332,6251,3669.4,2,1.4934,2,1.49339,2,34.6769,2,34.6765,2,141.57,2,141.29,2,149.44,2,0.45,36.99,2,0.14,0,2,0.01,2.582,2,0.016,-999,9,-999,9,-999,9,-999,9,2333.5,2,2418.2,2,7.575,25,2,-999,9,-999,-999,9,-999,-999,9,-999,-999,9,-999,1.21,27.7715
49NZ20070724,   P01,12,1,9, X12015,2,20070728,1000,41.6715,146.5332,6251,3920.4,2,1.4751,2,1.4752,2,34.6815,2,34.6812,2,147.04,2,146.69,2,148.41,2,0.45,36.64,2,0.14,0.01,2,0.01,2.553,2,0.016,0,2,0,2,0,2,-999,9,2328.5,2,2418.2,2,7.5832,25,2,-999,9,-999,-999,9,-999,-999,9,-999,-999,9,-999,1.1655,27.7782
49NZ20070724,   P01,12,1,8, X12046,2,20070728,1000,41.6715,146.5332,6251,4169.2,2,1.4633,2,1.46325,2,34.6851,2,34.6851,6,151.93,2,151.81,2,147.43,2,0.44,36.29,2,0.13,0,2,0.01,2.527,2,0.016,-999,9,-999,9,-999,9,-999,9,2327.2,6,2417.8,2,7.5912,25,2,-999,9,-999,-999,9,-999,-999,9,-999,-999,9,-999,1.1269,27.7838
49NZ20070724,   P01,12,1,7, X12044,2,20070728,1000,41.6715,146.5332,6251,4420.3,2,1.4761,2,1.47617,2,34.6869,2,34.6865,2,154.12,2,154.04,2,146.14,2,0.44,35.96,2,0.13,0.01,2,0.01,2.508,2,0.016,-999,9,-999,9,-999,9,-999,9,2324.5,2,2416.7,6,7.5946,25,2,-999,9,-999,-999,9,-999,-999,9,-999,-999,9,-999,1.111,27.7863
49NZ20070724,   P01,12,1,6, X12048,2,20070728,1000,41.6715,146.5332,6251,4669.4,2,1.4861,2,1.48616,2,34.6888,2,34.6886,2,157.44,2,157.4,2,143.81,2,0.44,35.69,2,0.13,0.01,2,0.01,2.494,2,0.016,0,2,0,2,0,2,-999,9,2321.9,2,2415.7,2,7.5994,25,6,-999,9,-999,-999,9,-999,-999,9,-999,-999,9,-999,1.0918,27.7892
49NZ20070724,   P01,12,1,5, X12017,2,20070728,1000,41.6715,146.5332,6251,4920.2,2,1.5021,2,1.50226,2,34.6904,2,34.6899,2,159.22,2,159.46,2,143.25,2,0.43,35.75,2,0.13,0.01,2,0.01,2.486,2,0.016,-999,9,-999,9,-999,9,-999,9,2320.3,2,2414.5,2,7.6018,25,2,-999,9,-999,-999,9,-999,-999,9,-999,-999,9,-999,1.0775,27.7913
49NZ20070724,   P01,12,1,4, X12928,2,20070728,1000,41.6715,146.5332,6251,5170,2,1.5254,2,1.52543,2,34.6911,2,34.6907,2,160.53,2,160.73,2,142.51,2,0.43,35.65,2,0.13,0.01,2,0.01,2.482,2,0.016,-999,9,-999,9,-999,9,-999,9,2316.2,2,2414.4,2,7.6035,25,2,-999,9,-999,-999,9,-999,-999,9,-999,-999,9,-999,1.0694,27.7925
49NZ20070724,   P01,12,1,3, X12931,2,20070728,1000,41.6715,146.5332,6251,5421.2,2,1.5517,2,1.55173,2,34.6918,2,34.6905,3,161.67,2,161.81,2,141.41,2,0.43,35.55,2,0.13,0.01,2,0.01,2.471,2,0.016,0,2,0,2,0,2,-999,9,2318.5,2,2413.9,2,7.6049,25,2,-999,9,-999,-999,9,-999,-999,9,-999,-999,9,-999,1.0633,27.7934
49NZ20070724,   P01,12,1,2, X12930,2,20070728,1000,41.6715,146.5332,6251,5669.3,2,1.58,2,1.58009,2,34.6923,2,34.6918,2,162.43,2,162.6,2,141.01,2,0.43,35.46,2,0.13,0.01,2,0.01,2.473,2,0.016,-999,9,-999,9,-999,9,-999,9,2317,2,2412.2,2,7.6055,25,2,-999,9,-999,-999,9,-999,-999,9,-999,-999,9,-999,1.0587,27.7942
49NZ20070724,   P01,12,1,1, X12929,2,20070728,1000,41.6715,146.5332,6251,6382.6,2,1.6749,2,1.67489,2,34.6929,2,34.6923,6,163.62,2,163.24,2,140.56,2,0.43,35.49,2,0.13,0.01,2,0.01,2.467,2,0.016,0,2,0,2,0,2,-999,9,2315.8,2,2412.8,2,7.6067,25,2,-999,9,-999,-999,9,-999,-999,9,-999,-999,9,-999,1.054,27.7949