BOTTLE,20081214JAMSTECIORGC,,,,,,,,,,,,,,,,,,,,,,,,,,,,,,,,,,,,,,,,,,,,,,,,,,,,,,,,,,,,,,,,,
EXPOCODE,SECT,STNNBR,CASTNO,SAMPNO,BTLNBR,BTLNBR_FLAG_W,DATE,TIME,LATITUDE,LONGITUDE,DEPTH,CTDPRS,CTDPRS_FLAG_W,CTDTMP,CTDTMP_FLAG_W,SBE35,SBE35_FLAG_W,CTDSAL,CTDSAL_FLAG_W,SALNTY,SALNTY_FLAG_W,CTDOXY,CTDOXY_FLAG_W,OXYGEN,OXYGEN_FLAG_W,SILCAT,SILCAT_FLAG_W,SILUNC,NITRAT,NITRAT_FLAG_W,NRAUNC,NITRIT,NITRIT_FLAG_W,NRIUNC,PHSPHT,PHSPHT_FLAG_W,PHPUNC,CFC-11,CFC-11_FLAG_W,CFC-12,CFC-12_FLAG_W,CFC113,CFC113_FLAG_W,CCL4,CCL4_FLAG_W,TCARBN,TCARBN_FLAG_W,ALKALI,ALKALI_FLAG_W,PH_TOT,PH_TMP,PH_FLAG_W,DELC13,DELC13_FLAG_W,C13ERR,DELC14,DELC14_FLAG_W,C14ERR,CS-137,CS-137_FLAG_W,CS137ER,PLUTO,PLUTO_FLAG_W,PLUTOER,THETA,SIG0
,,,,,,,,UTC,DEG,DEG,M,DBAR,,ITS-90,,ITS-90,,PSS-78,,PSS-78,,UMOL/KG,,UMOL/KG,,UMOL/KG,,UMOL/KG,UMOL/KG,,UMOL/KG,UMOL/KG,,UMOL/KG,UMOL/KG,,UMOL/KG,PMOL/KG,,PMOL/KG,,PMOL/KG,,PMOL/KG,,UMOL/KG,,UMOL/KG,,,ITS-90,,/MILLE,,/MILLE,/MILLE,,/MILLE,BQ/CUM,,BQ/CUM,MBQ/CUM,,MBQ/CUM,DEG C,KG/CUM
49NZ20070724,   P01,87,1,0,-999,9,20070822,2310,47.0018,-151.4153,5177,-999,9,-999,9,-999,9,-999,9,32.5943,2,-999,9,-999,9,-999,9,-999,-999,9,-999,-999,9,-999,-999,9,-999,-999,9,-999,9,-999,9,-999,9,-999,9,-999,9,-999,-999,9,-999,9,-999,-999,9,-999,-999,9,-999,-999,9,-999,-999,-999
49NZ20070724,   P01,87,1,36, X12042,2,20070822,2310,47.0018,-151.4153,5177,10.5,2,13.734,2,13.73384,2,32.6022,2,32.5931,2,279.32,2,278.42,2,3.49,2,0.13,5.73,2,0.05,0.12,2,0.01,0.766,2,0.013,3.254,2,1.823,2,0.322,2,-999,9,1988.3,2,2203.6,2,7.9332,25,6,-999,9,-999,-999,9,-999,-999,9,-999,-999,9,-999,13.7325,24.3895
49NZ20070724,   P01,87,1,35, X12041,2,20070822,2310,47.0018,-151.4153,5177,49.1,2,7.5263,2,7.40779,2,32.6805,2,32.6738,2,295.5,2,297.76,2,15.28,2,0.15,11.32,2,0.06,0.12,2,0.01,1.327,2,0.014,4.342,2,2.362,2,0.409,2,-999,9,2045.5,2,2203.2,2,7.8073,25,2,-999,9,-999,-999,9,-999,-999,9,-999,-999,9,-999,7.5217,25.5207
49NZ20070724,   P01,87,1,34, X12036,2,20070822,2310,47.0018,-151.4153,5177,100.1,2,5.4504,2,5.45211,2,32.8356,2,32.8611,2,300.85,2,299.69,2,20.62,2,0.16,14.89,2,0.07,0.16,2,0.01,1.366,2,0.014,4.663,2,2.528,2,0.431,2,-999,9,2066.5,2,2210.6,2,7.7689,25,2,-999,9,-999,-999,9,-999,-999,9,-999,-999,9,-999,5.4426,25.9092
49NZ20070724,   P01,87,1,33, X12033,2,20070822,2310,47.0018,-151.4153,5177,148.3,2,5.933,2,5.93199,2,33.6982,2,33.6982,2,233.2,2,235.89,2,32.83,2,0.19,21.47,2,0.09,0.02,2,0.01,1.642,2,0.014,4.127,2,2.201,2,0.298,2,-999,9,2144.5,2,2256.6,2,7.6758,25,2,-999,9,-999,-999,9,-999,-999,9,-999,-999,9,-999,5.9207,26.5339
49NZ20070724,   P01,87,1,32, X12038,2,20070822,2310,47.0018,-151.4153,5177,199.1,2,5.487,2,5.48726,2,33.7696,2,33.7745,2,198.52,2,197.45,2,44.13,2,0.22,25.8,2,0.11,0.03,2,0.01,1.928,2,0.015,3.733,2,1.943,2,0.275,2,-999,9,2178,2,2267.1,2,7.6038,25,2,-999,9,-999,-999,9,-999,-999,9,-999,-999,9,-999,5.4711,26.645
49NZ20070724,   P01,87,1,31, X12003,2,20070822,2310,47.0018,-151.4153,5177,250.5,2,5.0984,2,5.09791,2,33.8232,2,33.8269,6,155.31,2,154.84,2,56.18,2,0.24,30.34,2,0.12,0.02,2,0.01,2.233,2,0.016,3.232,6,1.65,6,0.227,6,-999,9,2219.2,2,2278.5,2,7.5254,25,2,-999,9,-999,-999,9,-999,-999,9,-999,-999,9,-999,5.079,26.7333
49NZ20070724,   P01,87,1,30, X12008,2,20070822,2310,47.0018,-151.4153,5177,329,2,4.5608,2,4.56044,2,33.9006,2,33.903,2,101.51,2,99.56,2,73.64,2,0.28,36.16,2,0.13,0.02,2,0.01,2.609,2,0.016,2.473,2,1.227,2,0.17,2,-999,9,2269.4,6,2291.9,2,7.423,25,2,-999,9,-999,-999,9,-999,-999,9,-999,-999,9,-999,4.5365,26.8552
49NZ20070724,   P01,87,1,29, X12035,2,20070822,2310,47.0018,-151.4153,5177,430.4,2,4.2331,2,4.23302,2,34.0089,2,34.0131,2,64.23,2,63.44,2,89.15,2,0.32,39.67,2,0.14,0.02,2,0.01,2.861,2,0.017,1.677,2,0.811,2,0.111,2,-999,9,2304.4,2,2310.1,6,7.3671,25,2,-999,9,-999,-999,9,-999,-999,9,-999,-999,9,-999,4.202,26.9768
49NZ20070724,   P01,87,1,28, X12034,2,20070822,2310,47.0018,-151.4153,5177,529.1,2,4.0545,2,4.05456,2,34.1147,2,34.1167,6,42.46,2,42.41,2,101.37,2,0.34,41.56,2,0.15,0.02,2,0.01,2.983,2,0.017,1.03,2,0.482,2,0.064,2,-999,9,2327.1,2,2324.3,2,7.3454,25,6,-999,9,-999,-999,9,-999,-999,9,-999,-999,9,-999,4.0165,27.0802
49NZ20070724,   P01,87,1,27, X12049,2,20070822,2310,47.0018,-151.4153,5177,629.6,2,3.7195,2,3.71956,2,34.1842,2,34.1851,2,29.83,2,30.07,2,113.43,2,0.37,42.92,2,0.15,0.01,2,0.01,3.075,2,0.018,0.642,2,0.298,2,0.039,2,-999,9,2346.5,2,2339.8,2,7.3288,25,2,-999,9,-999,-999,9,-999,-999,9,-999,-999,9,-999,3.6754,27.1699
49NZ20070724,   P01,87,1,26, X12032,2,20070822,2310,47.0018,-151.4153,5177,730.8,2,3.4447,2,3.44486,2,34.2397,2,34.2405,2,23.64,2,23.57,2,123.1,2,0.39,43.52,2,0.15,0.02,2,0.01,3.125,2,0.018,0.406,6,0.185,6,0.026,6,-999,9,2360,6,2351.6,2,7.3214,25,2,-999,9,-999,-999,9,-999,-999,9,-999,-999,9,-999,3.3944,27.2414
49NZ20070724,   P01,87,1,25, X12043,2,20070822,2310,47.0018,-151.4153,5177,831.9,2,3.2591,2,3.25906,2,34.2902,2,34.2906,2,22.71,2,22.75,2,129.29,2,0.4,43.47,2,0.15,0.02,2,0.01,3.132,2,0.018,0.261,2,0.118,2,0.015,2,-999,9,2366.2,2,2361.6,6,7.328,25,2,-999,9,-999,-999,9,-999,-999,9,-999,-999,9,-999,3.2023,27.2998
49NZ20070724,   P01,87,1,24, X12030,2,20070822,2310,47.0018,-151.4153,5177,929.3,2,3.0825,2,3.08232,2,34.3358,2,34.3358,2,21.7,2,21.68,2,135.68,2,0.42,43.74,2,0.16,0.01,2,0.01,3.117,2,0.018,0.16,2,0.074,2,0.009,2,-999,9,2375.8,2,2369.3,2,7.3324,25,6,-999,9,-999,-999,9,-999,-999,9,-999,-999,9,-999,3.0196,27.3531
49NZ20070724,   P01,87,1,23, X12027,2,20070822,2310,47.0018,-151.4153,5177,1070.5,2,2.8797,2,2.87954,2,34.3878,2,34.3876,6,18.61,2,18.78,2,142.82,2,0.43,44.18,2,0.16,0.02,2,0.01,3.167,2,0.018,0.066,2,0.028,2,0.006,2,-999,9,2385.7,2,2380.5,2,7.3344,25,2,-999,9,-999,-999,9,-999,-999,9,-999,-999,9,-999,2.8076,27.4137
49NZ20070724,   P01,87,1,22, X12028,2,20070822,2310,47.0018,-151.4153,5177,1270.7,2,2.6082,2,2.60791,2,34.4443,2,34.444,2,18.18,2,18.08,2,152.44,2,0.45,44.49,2,0.16,0.01,2,0.01,3.178,2,0.018,0.015,2,0.008,2,0,2,-999,9,2393.6,2,2392.9,2,7.3375,25,2,-999,9,-999,-999,9,-999,-999,9,-999,-999,9,-999,2.5232,27.4835
49NZ20070724,   P01,87,1,21, X12009,2,20070822,2310,47.0018,-151.4153,5177,1470,2,2.3705,2,2.37044,2,34.495,2,34.4949,2,20.15,2,19.91,2,160.46,2,0.47,44.61,2,0.16,0.02,2,0.01,3.174,2,0.018,0.003,2,0.001,2,0,2,-999,9,2401.7,2,2400.7,2,7.344,25,2,-999,9,-999,-999,9,-999,-999,9,-999,-999,9,-999,2.2725,27.5451
49NZ20070724,   P01,87,1,20, X12026,2,20070822,2310,47.0018,-151.4153,5177,1671.7,2,2.2012,2,2.20135,2,34.5329,2,34.5325,2,26.93,2,26.83,2,165.44,2,0.48,44.33,2,0.16,0.01,2,0.01,3.139,2,0.018,0.001,2,0,2,0,2,-999,9,2403.2,2,2408.3,2,7.36,25,6,-999,9,-999,-999,9,-999,-999,9,-999,-999,9,-999,2.0892,27.5903
49NZ20070724,   P01,87,1,19, X12025,2,20070822,2310,47.0018,-151.4153,5177,1870.6,2,2.0565,2,2.05656,2,34.564,2,34.5637,2,38.39,2,37.92,2,168.69,2,0.49,43.65,2,0.16,0.02,2,0.01,3.09,2,0.018,0,2,0,2,0.006,2,-999,9,2400.4,2,2413,2,7.383,25,2,-999,9,-999,-999,9,-999,-999,9,-999,-999,9,-999,1.9302,27.6279
49NZ20070724,   P01,87,1,18, X12024,2,20070822,2310,47.0018,-151.4153,5177,2070.6,2,1.9405,2,1.94048,2,34.5882,2,34.5882,2,50.97,2,50.51,2,170.43,2,0.49,42.93,2,0.15,0.02,2,0.01,3.038,2,0.018,0,2,0.001,2,0,2,-999,9,2393,2,2417,2,7.4081,25,2,-999,9,-999,-999,9,-999,-999,9,-999,-999,9,-999,1.7992,27.6574
49NZ20070724,   P01,87,1,17, X12023,2,20070822,2310,47.0018,-151.4153,5177,2270.4,2,1.8406,2,1.84062,2,34.6082,2,34.608,2,63.36,2,62.99,2,171.55,2,0.5,42.09,2,0.15,0.02,2,0.01,2.982,2,0.017,0,2,0,2,0,2,-999,9,2387.9,2,2419.2,2,7.4334,25,2,-999,9,-999,-999,9,-999,-999,9,-999,-999,9,-999,1.6838,27.6821
49NZ20070724,   P01,87,1,16, X12022,2,20070822,2310,47.0018,-151.4153,5177,2471.1,2,1.7518,2,1.75171,2,34.6246,2,34.6246,2,76.05,2,75.71,2,171.27,2,0.5,41.27,2,0.15,0.02,2,0.01,2.923,2,0.017,-999,9,-999,9,-999,9,-999,9,2382.5,6,2421.4,2,7.4563,25,2,-999,9,-999,-999,9,-999,-999,9,-999,-999,9,-999,1.5788,27.7031
49NZ20070724,   P01,87,1,15, X12021,2,20070822,2310,47.0018,-151.4153,5177,2670.1,2,1.6782,2,1.6782,2,34.6379,2,34.6379,6,88.69,2,88.09,2,169.83,2,0.49,40.44,2,0.15,0.02,2,0.01,2.867,2,0.017,0,2,0,2,0,2,-999,9,2375.4,2,2422.5,6,7.4795,25,2,-999,9,-999,-999,9,-999,-999,9,-999,-999,9,-999,1.4886,27.7204
49NZ20070724,   P01,87,1,14, X12020,2,20070822,2310,47.0018,-151.4153,5177,2869.5,2,1.623,2,1.62299,2,34.648,2,34.648,2,99.31,2,99.03,2,168.43,2,0.49,39.75,2,0.14,0.02,2,0.01,2.815,2,0.017,-999,9,-999,9,-999,9,-999,9,2366.8,2,2422.8,2,7.5006,25,2,-999,9,-999,-999,9,-999,-999,9,-999,-999,9,-999,1.416,27.7337
49NZ20070724,   P01,87,1,13, X12019,2,20070822,2310,47.0018,-151.4153,5177,3080.3,2,1.5756,2,1.57558,2,34.6574,2,34.6572,2,109.78,2,109.44,2,166.36,2,0.48,39.05,2,0.14,0.01,2,0.01,2.764,2,0.017,-999,9,-999,9,-999,9,-999,9,2360.3,2,2423.6,2,7.5191,25,2,-999,9,-999,-999,9,-999,-999,9,-999,-999,9,-999,1.3495,27.7461
49NZ20070724,   P01,87,1,12, X12040,2,20070822,2310,47.0018,-151.4153,5177,3329.3,2,1.5322,2,1.53229,2,34.6663,2,34.6659,2,120.81,2,120.61,2,163.71,2,0.48,38.22,2,0.14,0.02,2,0.01,2.674,2,0.017,0.002,2,0,2,0.001,2,-999,9,2350.9,2,2423.8,2,7.5405,25,2,-999,9,-999,-999,9,-999,-999,9,-999,-999,9,-999,1.2826,27.7579
49NZ20070724,   P01,87,1,11, X12047,2,20070822,2310,47.0018,-151.4153,5177,3579.3,2,1.5017,2,1.50191,2,34.6735,2,34.6732,2,130.34,2,130.34,2,161.2,2,0.47,37.76,2,0.14,0.02,2,0.01,2.652,2,0.017,-999,9,-999,9,-999,9,-999,9,2347,2,2423.8,2,7.5577,25,2,-999,9,-999,-999,9,-999,-999,9,-999,-999,9,-999,1.2274,27.7675
49NZ20070724,   P01,87,1,10, X12010,2,20070822,2310,47.0018,-151.4153,5177,3829.5,2,1.4861,2,1.48616,2,34.6787,2,34.6785,2,136.73,2,136.89,2,160.59,2,0.47,37.22,2,0.14,0.02,2,0.01,2.617,2,0.017,-999,9,-999,9,-999,9,-999,9,2341.6,2,2424.3,2,7.5707,25,2,-999,9,-999,-999,9,-999,-999,9,-999,-999,9,-999,1.186,27.7746
49NZ20070724,   P01,87,1,9, X12015,2,20070822,2310,47.0018,-151.4153,5177,4080,2,1.4856,2,1.48566,2,34.6826,2,34.6822,6,140.67,2,141.07,2,161.56,2,0.47,36.9,2,0.14,0.02,2,0.01,2.595,2,0.016,0,2,0,2,0,2,-999,9,2343.4,3,2426.1,2,7.5808,25,2,-999,9,-999,-999,9,-999,-999,9,-999,-999,9,-999,1.1584,27.7796
49NZ20070724,   P01,87,1,8, X12046,2,20070822,2310,47.0018,-151.4153,5177,4331.6,2,1.5,2,1.50007,2,34.6848,2,34.6846,2,142.46,2,142.73,2,163.7,2,0.48,36.87,2,0.14,0.01,2,0.01,2.59,2,0.016,-999,9,-999,9,-999,9,-999,9,2342.2,6,2428.4,2,7.5867,25,2,-999,9,-999,-999,9,-999,-999,9,-999,-999,9,-999,1.1443,27.7823
49NZ20070724,   P01,87,1,7, X12044,2,20070822,2310,47.0018,-151.4153,5177,4579.7,2,1.5204,2,1.52041,2,34.686,2,34.6858,2,143.71,2,143.99,2,163.96,2,0.48,36.71,2,0.14,0.02,2,0.01,2.576,2,0.016,-999,9,-999,9,-999,9,-999,9,2342.5,2,2429.8,6,7.5977,25,4,-999,9,-999,-999,9,-999,-999,9,-999,-999,9,-999,1.1356,27.7839
49NZ20070724,   P01,87,1,6, X12048,2,20070822,2310,47.0018,-151.4153,5177,4830.9,2,1.5445,2,1.54458,2,34.6869,2,34.687,2,144.82,2,144.96,2,164.94,2,0.48,36.75,2,0.14,0.02,2,0.01,2.572,2,0.016,0,2,0,2,0,2,-999,9,2339.5,2,2430.5,2,7.5918,25,6,-999,9,-999,-999,9,-999,-999,9,-999,-999,9,-999,1.1292,27.785
49NZ20070724,   P01,87,1,5, X12017,2,20070822,2310,47.0018,-151.4153,5177,5080.6,2,1.5731,2,1.57316,2,34.6873,2,34.6865,3,145.45,2,145.53,2,165.53,2,0.48,36.76,2,0.14,0.02,2,0.01,2.571,2,0.016,-999,9,-999,9,-999,9,-999,9,2339.2,2,2431.7,2,7.5929,25,2,-999,9,-999,-999,9,-999,-999,9,-999,-999,9,-999,1.1265,27.7855
49NZ20070724,   P01,87,1,4, X12928,9,20070822,2310,47.0018,-151.4153,5177,10.1,2,13.7141,2,13.71339,2,32.6037,2,-999,9,279.45,2,-999,9,-999,9,-999,-999,9,-999,-999,9,-999,-999,9,-999,-999,9,-999,9,-999,9,-999,9,-999,9,-999,9,-999,-999,9,-999,9,-999,-999,9,-999,-999,9,-999,-999,9,-999,13.7127,24.3947
49NZ20070724,   P01,87,1,3, X12931,9,20070822,2310,47.0018,-151.4153,5177,49.5,2,7.6399,2,7.59768,2,32.6728,2,-999,9,295.35,2,-999,9,-999,9,-999,-999,9,-999,-999,9,-999,-999,9,-999,-999,9,-999,9,-999,9,-999,9,-999,9,-999,9,-999,-999,9,-999,9,-999,-999,9,-999,-999,9,-999,-999,9,-999,7.6353,25.4986
49NZ20070724,   P01,87,1,2, X12930,2,20070822,2310,47.0018,-151.4153,5177,35,2,10.0801,2,10.07714,2,32.5987,2,-999,9,298.42,2,299.3,2,2.87,2,0.13,7.53,2,0.05,0.14,2,0.01,0.943,2,0.013,-999,9,-999,9,-999,9,-999,9,-999,9,-999,9,-999,-999,9,-999,9,-999,-999,9,-999,-999,9,-999,-999,9,-999,10.0762,25.0647
49NZ20070724,   P01,87,1,1, X12929,2,20070822,2310,47.0018,-151.4153,5177,5266.7,2,1.5971,2,1.5971,2,34.6874,2,34.6874,6,145.59,2,145.46,2,165.08,2,0.48,36.67,2,0.14,0.02,2,0.01,2.561,2,0.016,0.002,2,0.002,2,0,2,-999,9,2340.9,2,2430.2,2,7.5932,25,2,-999,9,-999,-999,9,-999,-999,9,-999,-999,9,-999,1.1266,27.7856