BOTTLE,20081214JAMSTECIORGC,,,,,,,,,,,,,,,,,,,,,,,,,,,,,,,,,,,,,,,,,,,,,,,,,,,,,,,,,,,,,,,,,
EXPOCODE,SECT,STNNBR,CASTNO,SAMPNO,BTLNBR,BTLNBR_FLAG_W,DATE,TIME,LATITUDE,LONGITUDE,DEPTH,CTDPRS,CTDPRS_FLAG_W,CTDTMP,CTDTMP_FLAG_W,SBE35,SBE35_FLAG_W,CTDSAL,CTDSAL_FLAG_W,SALNTY,SALNTY_FLAG_W,CTDOXY,CTDOXY_FLAG_W,OXYGEN,OXYGEN_FLAG_W,SILCAT,SILCAT_FLAG_W,SILUNC,NITRAT,NITRAT_FLAG_W,NRAUNC,NITRIT,NITRIT_FLAG_W,NRIUNC,PHSPHT,PHSPHT_FLAG_W,PHPUNC,CFC-11,CFC-11_FLAG_W,CFC-12,CFC-12_FLAG_W,CFC113,CFC113_FLAG_W,CCL4,CCL4_FLAG_W,TCARBN,TCARBN_FLAG_W,ALKALI,ALKALI_FLAG_W,PH_TOT,PH_TMP,PH_FLAG_W,DELC13,DELC13_FLAG_W,C13ERR,DELC14,DELC14_FLAG_W,C14ERR,CS-137,CS-137_FLAG_W,CS137ER,PLUTO,PLUTO_FLAG_W,PLUTOER,THETA,SIG0
,,,,,,,,UTC,DEG,DEG,M,DBAR,,ITS-90,,ITS-90,,PSS-78,,PSS-78,,UMOL/KG,,UMOL/KG,,UMOL/KG,,UMOL/KG,UMOL/KG,,UMOL/KG,UMOL/KG,,UMOL/KG,UMOL/KG,,UMOL/KG,PMOL/KG,,PMOL/KG,,PMOL/KG,,PMOL/KG,,UMOL/KG,,UMOL/KG,,,ITS-90,,/MILLE,,/MILLE,/MILLE,,/MILLE,BQ/CUM,,BQ/CUM,MBQ/CUM,,MBQ/CUM,DEG C,KG/CUM
49NZ20070724,   P01,94,1,0,-999,9,20070824,2119,47.0152,-143.4973,4601,-999,9,-999,9,-999,9,-999,9,32.3919,2,-999,9,-999,9,-999,9,-999,-999,9,-999,-999,9,-999,-999,9,-999,-999,9,-999,9,-999,9,-999,9,-999,9,-999,9,-999,-999,9,-999,9,-999,-999,9,-999,-999,9,-999,-999,9,-999,-999,-999
49NZ20070724,   P01,94,1,36, X12042,2,20070824,2119,47.0152,-143.4973,4601,10.1,2,13.8846,2,13.88292,2,32.3966,2,32.3914,2,273.24,2,273.86,2,10.44,2,0.14,5.95,2,0.05,0.09,2,0.01,0.841,2,0.013,3.216,2,1.816,2,0.292,2,-999,9,-999,9,-999,9,-999,-999,9,-999,9,-999,-999,9,-999,-999,9,-999,-999,9,-999,13.8832,24.1999
49NZ20070724,   P01,94,1,35, X12041,2,20070824,2119,47.0152,-143.4973,4601,50.1,2,7.3526,2,7.35279,2,32.6229,2,32.6552,2,304.6,2,306.56,2,16.85,2,0.16,11.39,2,0.06,0.13,2,0.01,1.212,2,0.013,4.435,2,2.479,2,0.413,2,-999,9,-999,9,-999,9,-999,-999,9,-999,9,-999,-999,9,-999,-999,9,-999,-999,9,-999,7.348,25.4994
49NZ20070724,   P01,94,1,34, X12036,2,20070824,2119,47.0152,-143.4973,4601,100.1,2,5.769,2,5.77015,2,32.8336,2,33.026,2,286.75,2,277.26,2,22.53,2,0.17,16.91,2,0.08,0.01,2,0.01,1.454,2,0.014,4.513,2,2.502,2,0.36,2,-999,9,-999,9,-999,9,-999,-999,9,-999,9,-999,-999,9,-999,-999,9,-999,-999,9,-999,5.761,25.87
49NZ20070724,   P01,94,1,33, X12033,2,20070824,2119,47.0152,-143.4973,4601,150.2,2,6.3253,2,6.32323,2,33.7524,2,33.7609,2,228.58,2,227.8,2,31.86,2,0.19,21.5,2,0.09,0.01,2,0.01,1.623,2,0.014,4.006,6,2.178,6,0.27,6,-999,9,-999,9,-999,9,-999,-999,9,-999,9,-999,-999,9,-999,-999,9,-999,-999,9,-999,6.3124,26.5272
49NZ20070724,   P01,94,1,32, X12038,2,20070824,2119,47.0152,-143.4973,4601,200.7,2,6.013,2,6.01238,2,33.8498,2,33.8477,2,185.71,2,187.55,2,42.67,2,0.21,25.7,2,0.1,0.01,2,0.01,1.896,2,0.015,3.581,2,1.88,2,0.234,2,-999,9,-999,9,-999,9,-999,-999,9,-999,9,-999,-999,9,-999,-999,9,-999,-999,9,-999,5.9961,26.6443
49NZ20070724,   P01,94,1,31, X12003,2,20070824,2119,47.0152,-143.4973,4601,250.2,2,5.387,2,5.38789,2,33.8474,2,33.8514,6,152.59,2,150.28,2,54.33,2,0.24,30.3,2,0.12,0.01,2,0.01,2.211,2,0.016,3.062,2,1.559,2,0.187,2,-999,9,-999,9,-999,9,-999,-999,9,-999,9,-999,-999,9,-999,-999,9,-999,-999,9,-999,5.367,26.7189
49NZ20070724,   P01,94,1,30, X12008,2,20070824,2119,47.0152,-143.4973,4601,283,2,5.1456,2,5.14519,2,33.8786,2,33.8778,2,125.16,2,126.18,2,60.46,2,0.25,32.77,2,0.12,0.01,2,0.01,2.369,2,0.016,2.896,2,1.453,2,0.171,2,-999,9,-999,9,-999,9,-999,-999,9,-999,9,-999,-999,9,-999,-999,9,-999,-999,9,-999,5.1235,26.772
49NZ20070724,   P01,94,1,29, X12035,2,20070824,2119,47.0152,-143.4973,4601,369.8,2,4.6614,2,4.66168,2,33.9545,2,33.9586,2,83.25,2,82,2,77.12,2,0.29,37.69,2,0.14,0,2,0.01,2.691,2,0.017,2.082,2,1.007,2,0.113,2,-999,9,-999,9,-999,9,-999,-999,9,-999,9,-999,-999,9,-999,-999,9,-999,-999,9,-999,4.6336,26.8873
49NZ20070724,   P01,94,1,28, X12034,2,20070824,2119,47.0152,-143.4973,4601,470.7,2,4.2377,2,4.23755,2,34.0352,2,34.0371,6,49.82,2,49.54,2,91.98,2,0.32,41.07,2,0.15,0,2,0.01,2.934,2,0.017,1.415,2,0.666,2,0.079,2,-999,9,-999,9,-999,9,-999,-999,9,-999,9,-999,-999,9,-999,-999,9,-999,-999,9,-999,4.2035,26.9976
49NZ20070724,   P01,94,1,27, X12049,2,20070824,2119,47.0152,-143.4973,4601,571.6,2,3.861,2,3.8609,2,34.1198,2,34.1205,2,32.6,2,33.06,2,105.54,2,0.35,42.74,2,0.15,0,2,0.01,3.054,2,0.018,0.852,2,0.401,2,0.049,2,-999,9,-999,9,-999,9,-999,-999,9,-999,9,-999,-999,9,-999,-999,9,-999,-999,9,-999,3.8206,27.1041
49NZ20070724,   P01,94,1,26, X12032,2,20070824,2119,47.0152,-143.4973,4601,671.4,2,3.6271,2,3.62709,2,34.2014,2,34.2019,2,26.09,2,26.3,2,116.13,2,0.37,43.25,2,0.15,0,2,0.01,3.09,2,0.018,0.47,6,0.221,6,0.022,6,-999,9,-999,9,-999,9,-999,-999,9,-999,9,-999,-999,9,-999,-999,9,-999,-999,9,-999,3.5803,27.193
49NZ20070724,   P01,94,1,25, X12043,2,20070824,2119,47.0152,-143.4973,4601,770.7,2,3.4705,2,3.4707,2,34.2637,2,34.2642,2,20.24,2,20.32,2,123.41,2,0.39,43.73,2,0.16,0,2,0.01,3.137,2,0.018,0.199,2,0.094,2,0.012,2,-999,9,-999,9,-999,9,-999,-999,9,-999,9,-999,-999,9,-999,-999,9,-999,-999,9,-999,3.417,27.2584
49NZ20070724,   P01,94,1,24, X12030,2,20070824,2119,47.0152,-143.4973,4601,870.3,2,3.2609,2,3.26075,2,34.3078,2,34.3066,2,17.51,2,17.55,2,129.88,2,0.4,44.11,2,0.16,0,2,0.01,3.138,2,0.018,0.106,2,0.052,2,0,2,-999,9,-999,9,-999,9,-999,-999,9,-999,9,-999,-999,9,-999,-999,9,-999,-999,9,-999,3.2012,27.3139
49NZ20070724,   P01,94,1,23, X12027,2,20070824,2119,47.0152,-143.4973,4601,971.1,2,3.0618,2,3.0618,2,34.3487,2,34.3495,6,15.17,2,14.95,2,137,2,0.42,44.35,2,0.16,0,2,0.01,3.172,2,0.018,0.053,2,0.024,2,0,2,-999,9,-999,9,-999,9,-999,-999,9,-999,9,-999,-999,9,-999,-999,9,-999,-999,9,-999,2.9959,27.3655
49NZ20070724,   P01,94,1,22, X12028,2,20070824,2119,47.0152,-143.4973,4601,1130.7,2,2.8226,2,2.82268,2,34.4018,2,34.4017,2,12.36,2,12.22,2,145.74,2,0.44,44.8,2,0.16,0,2,0.01,3.193,2,0.018,0.01,2,0.006,2,0,2,-999,9,-999,9,-999,9,-999,-999,9,-999,9,-999,-999,9,-999,-999,9,-999,-999,9,-999,2.7464,27.4303
49NZ20070724,   P01,94,1,21, X12009,2,20070824,2119,47.0152,-143.4973,4601,1332,2,2.5538,2,2.55372,2,34.4612,2,34.4607,2,14.52,2,14.07,2,155.03,2,0.46,44.95,2,0.16,0,2,0.01,3.189,2,0.018,0,2,0,2,0,2,-999,9,-999,9,-999,9,-999,-999,9,-999,9,-999,-999,9,-999,-999,9,-999,-999,9,-999,2.4646,27.5021
49NZ20070724,   P01,94,1,20, X12026,2,20070824,2119,47.0152,-143.4973,4601,1530.6,2,2.3414,2,2.3414,2,34.5042,2,34.5036,2,21.22,2,20.84,2,161.07,2,0.47,44.57,2,0.16,0,2,0.01,3.155,2,0.018,0,2,0,2,0,2,-999,9,-999,9,-999,9,-999,-999,9,-999,9,-999,-999,9,-999,-999,9,-999,-999,9,-999,2.2389,27.5552
49NZ20070724,   P01,94,1,19, X12025,2,20070824,2119,47.0152,-143.4973,4601,1731.1,2,2.1541,2,2.15358,2,34.5448,2,34.5446,2,34.03,2,33.75,2,165.52,2,0.48,43.81,2,0.16,0,2,0.01,3.098,2,0.018,0,2,0,2,0,2,-999,9,-999,9,-999,9,-999,-999,9,-999,9,-999,-999,9,-999,-999,9,-999,-999,9,-999,2.0379,27.604
49NZ20070724,   P01,94,1,18, X12024,2,20070824,2119,47.0152,-143.4973,4601,1930,2,1.9943,2,1.99431,2,34.5767,2,34.5762,2,48.6,2,48.4,2,168.31,2,0.49,42.96,2,0.15,0,2,0.01,3.04,2,0.018,0,2,0,2,0,2,-999,9,-999,9,-999,9,-999,-999,9,-999,9,-999,-999,9,-999,-999,9,-999,-999,9,-999,1.864,27.6432
49NZ20070724,   P01,94,1,17, X12023,2,20070824,2119,47.0152,-143.4973,4601,2129.5,2,1.8795,2,1.8795,2,34.6005,2,34.6004,6,61.36,2,61.19,2,170.11,2,0.49,42.1,2,0.15,0,2,0.01,2.983,2,0.017,0,2,0,2,0,2,-999,9,-999,9,-999,9,-999,-999,9,-999,9,-999,-999,9,-999,-999,9,-999,-999,9,-999,1.7341,27.6722
49NZ20070724,   P01,94,1,16, X12022,2,20070824,2119,47.0152,-143.4973,4601,2329.8,2,1.7839,2,1.78393,2,34.6175,2,34.6173,2,73.29,2,72.89,2,170.36,2,0.49,41.38,2,0.15,0,2,0.01,2.935,2,0.017,-999,9,-999,9,-999,9,-999,9,-999,9,-999,9,-999,-999,9,-999,9,-999,-999,9,-999,-999,9,-999,-999,9,-999,1.6228,27.6942
49NZ20070724,   P01,94,1,15, X12021,2,20070824,2119,47.0152,-143.4973,4601,2531.2,2,1.6976,2,1.69754,2,34.632,2,34.6321,2,85.82,2,85.36,2,169.53,2,0.49,40.71,2,0.15,0,2,0.01,2.88,2,0.017,-999,9,-999,9,-999,9,-999,9,-999,9,-999,9,-999,-999,9,-999,9,-999,-999,9,-999,-999,9,-999,-999,9,-999,1.5203,27.7134
49NZ20070724,   P01,94,1,14, X12020,2,20070824,2119,47.0152,-143.4973,4601,2729.8,2,1.6258,2,1.62579,2,34.6451,2,34.6451,2,97.76,2,97.41,2,168.54,2,0.49,39.82,2,0.14,0,2,0.01,2.815,2,0.017,0,2,0,2,0,2,-999,9,-999,9,-999,9,-999,-999,9,-999,9,-999,-999,9,-999,-999,9,-999,-999,9,-999,1.4318,27.7303
49NZ20070724,   P01,94,1,13, X12019,2,20070824,2119,47.0152,-143.4973,4601,2931.8,2,1.5701,2,1.57006,2,34.6556,2,34.6554,2,108.47,2,108.29,2,167.46,2,0.49,39.03,2,0.14,0,2,0.01,2.757,2,0.017,-999,9,-999,9,-999,9,-999,9,-999,9,-999,9,-999,-999,9,-999,9,-999,-999,9,-999,-999,9,-999,-999,9,-999,1.3583,27.744
49NZ20070724,   P01,94,1,12, X12040,2,20070824,2119,47.0152,-143.4973,4601,3170.5,2,1.5267,2,1.52671,2,34.6649,2,34.6648,2,118.55,2,118.4,2,166.38,2,0.49,38.35,2,0.14,0,2,0.01,2.693,2,0.017,-999,9,-999,9,-999,9,-999,9,-999,9,-999,9,-999,-999,9,-999,9,-999,-999,9,-999,-999,9,-999,-999,9,-999,1.2929,27.756
49NZ20070724,   P01,94,1,11, X12047,2,20070824,2119,47.0152,-143.4973,4601,3420.4,2,1.503,2,1.50297,2,34.6719,2,34.6715,6,125.61,2,125.5,2,165.69,2,0.48,37.99,2,0.14,0,2,0.01,2.675,2,0.017,0,2,0,2,0,2,-999,9,-999,9,-999,9,-999,-999,9,-999,9,-999,-999,9,-999,-999,9,-999,-999,9,-999,1.2449,27.765
49NZ20070724,   P01,94,1,10, X12010,2,20070824,2119,47.0152,-143.4973,4601,3671.2,2,1.4904,2,1.49053,2,34.677,2,34.6768,2,131.94,2,132.07,2,165.11,2,0.48,37.53,2,0.14,0,2,0.01,2.635,2,0.017,-999,9,-999,9,-999,9,-999,9,-999,9,-999,9,-999,-999,9,-999,9,-999,-999,9,-999,-999,9,-999,-999,9,-999,1.2069,27.7718
49NZ20070724,   P01,94,1,9, X12015,2,20070824,2119,47.0152,-143.4973,4601,3921.3,2,1.4937,2,1.49386,2,34.6806,2,34.68,2,135.51,2,135.81,2,165.9,2,0.48,37.28,2,0.14,0,2,0.01,2.618,2,0.017,-999,9,-999,9,-999,9,-999,9,-999,9,-999,9,-999,-999,9,-999,9,-999,-999,9,-999,-999,9,-999,-999,9,-999,1.1835,27.7763
49NZ20070724,   P01,94,1,8, X12046,2,20070824,2119,47.0152,-143.4973,4601,4168.8,2,1.5085,2,1.50855,2,34.6829,2,34.6825,2,137.44,2,137.67,2,167.56,2,0.49,37.25,2,0.14,0,2,0.01,2.613,2,0.017,0,2,0.001,2,0,2,-999,9,-999,9,-999,9,-999,-999,9,-999,9,-999,-999,9,-999,-999,9,-999,-999,9,-999,1.1708,27.779
49NZ20070724,   P01,94,1,7, X12044,2,20070824,2119,47.0152,-143.4973,4601,4420.2,2,1.5312,2,1.53119,2,34.6843,2,34.6844,2,138.24,2,138.33,2,169.69,2,0.49,37.18,2,0.14,0,2,0.01,2.605,2,0.016,-999,9,-999,9,-999,9,-999,9,-999,9,-999,9,-999,-999,9,-999,9,-999,-999,9,-999,-999,9,-999,-999,9,-999,1.1645,27.7805
49NZ20070724,   P01,94,1,6, X12048,9,20070824,2119,47.0152,-143.4973,4601,10,2,13.8739,2,13.87437,2,32.3973,2,-999,9,273.41,2,-999,9,-999,9,-999,-999,9,-999,-999,9,-999,-999,9,-999,-999,9,-999,9,-999,9,-999,9,-999,9,-999,9,-999,-999,9,-999,9,-999,-999,9,-999,-999,9,-999,-999,9,-999,13.8725,24.2026
49NZ20070724,   P01,94,1,5, X12017,9,20070824,2119,47.0152,-143.4973,4601,99.9,2,5.7848,2,5.78346,2,32.8635,2,-999,9,285.52,2,-999,9,-999,9,-999,-999,9,-999,-999,9,-999,-999,9,-999,-999,9,-999,9,-999,9,-999,9,-999,9,-999,9,-999,-999,9,-999,9,-999,-999,9,-999,-999,9,-999,-999,9,-999,5.7768,25.8918
49NZ20070724,   P01,94,1,4, X12928,9,20070824,2119,47.0152,-143.4973,4601,199.8,2,6.0161,2,6.01584,2,33.8476,2,-999,9,186.58,2,-999,9,-999,9,-999,-999,9,-999,-999,9,-999,-999,9,-999,-999,9,-999,9,-999,9,-999,9,-999,9,-999,9,-999,-999,9,-999,9,-999,-999,9,-999,-999,9,-999,-999,9,-999,5.9993,26.6421
49NZ20070724,   P01,94,1,3, X12931,9,20070824,2119,47.0152,-143.4973,4601,4420.3,2,1.5312,2,1.53115,2,34.6844,2,-999,9,138.31,2,-999,9,-999,9,-999,-999,9,-999,-999,9,-999,-999,9,-999,-999,9,-999,9,-999,9,-999,9,-999,9,-999,9,-999,-999,9,-999,9,-999,-999,9,-999,-999,9,-999,-999,9,-999,1.1644,27.7806
49NZ20070724,   P01,94,1,2, X12930,9,20070824,2119,47.0152,-143.4973,4601,4420.3,2,1.5311,2,1.53109,2,34.6845,2,-999,9,138.27,2,-999,9,-999,9,-999,-999,9,-999,-999,9,-999,-999,9,-999,-999,9,-999,9,-999,9,-999,9,-999,9,-999,9,-999,-999,9,-999,9,-999,-999,9,-999,-999,9,-999,-999,9,-999,1.1643,27.7807
49NZ20070724,   P01,94,1,1, X12929,2,20070824,2119,47.0152,-143.4973,4601,4667.4,2,1.5587,2,1.55865,2,34.6855,2,34.6852,6,138.32,2,138.13,2,173.84,2,0.5,37.33,2,0.14,0,2,0.01,2.615,2,0.017,0.002,2,0,2,0,2,-999,9,-999,9,-999,9,-999,-999,9,-999,9,-999,-999,9,-999,-999,9,-999,-999,9,-999,1.1624,27.7816