BOTTLE,20081214JAMSTECIORGC,,,,,,,,,,,,,,,,,,,,,,,,,,,,,,,,,,,,,,,,,,,,,,,,,,,,,,,,,,,,,,,,,
EXPOCODE,SECT,STNNBR,CASTNO,SAMPNO,BTLNBR,BTLNBR_FLAG_W,DATE,TIME,LATITUDE,LONGITUDE,DEPTH,CTDPRS,CTDPRS_FLAG_W,CTDTMP,CTDTMP_FLAG_W,SBE35,SBE35_FLAG_W,CTDSAL,CTDSAL_FLAG_W,SALNTY,SALNTY_FLAG_W,CTDOXY,CTDOXY_FLAG_W,OXYGEN,OXYGEN_FLAG_W,SILCAT,SILCAT_FLAG_W,SILUNC,NITRAT,NITRAT_FLAG_W,NRAUNC,NITRIT,NITRIT_FLAG_W,NRIUNC,PHSPHT,PHSPHT_FLAG_W,PHPUNC,CFC-11,CFC-11_FLAG_W,CFC-12,CFC-12_FLAG_W,CFC113,CFC113_FLAG_W,CCL4,CCL4_FLAG_W,TCARBN,TCARBN_FLAG_W,ALKALI,ALKALI_FLAG_W,PH_TOT,PH_TMP,PH_FLAG_W,DELC13,DELC13_FLAG_W,C13ERR,DELC14,DELC14_FLAG_W,C14ERR,CS-137,CS-137_FLAG_W,CS137ER,PLUTO,PLUTO_FLAG_W,PLUTOER,THETA,SIG0
,,,,,,,,UTC,DEG,DEG,M,DBAR,,ITS-90,,ITS-90,,PSS-78,,PSS-78,,UMOL/KG,,UMOL/KG,,UMOL/KG,,UMOL/KG,UMOL/KG,,UMOL/KG,UMOL/KG,,UMOL/KG,UMOL/KG,,UMOL/KG,PMOL/KG,,PMOL/KG,,PMOL/KG,,PMOL/KG,,UMOL/KG,,UMOL/KG,,,ITS-90,,/MILLE,,/MILLE,/MILLE,,/MILLE,BQ/CUM,,BQ/CUM,MBQ/CUM,,MBQ/CUM,DEG C,KG/CUM
49NZ20070724,   P01,44,1,0,-999,9,20070812,1918,46.9913,166.7448,5957,-999,9,-999,9,-999,9,-999,9,32.8422,2,-999,9,-999,9,-999,9,-999,-999,9,-999,-999,9,-999,-999,9,-999,-999,9,-999,9,-999,9,-999,9,-999,9,-999,9,-999,-999,9,-999,9,-999,-999,9,-999,-999,1,-999,-999,9,-999,-999,-999
49NZ20070724,   P01,44,1,36, X12042,2,20070812,1918,46.9913,166.7448,5957,10.3,2,9.0924,2,9.0902,2,32.8466,2,32.8465,2,292.99,2,294.69,2,27.89,2,0.18,14.75,2,0.07,0.16,2,0.01,1.426,2,0.014,-999,9,-999,9,-999,9,5.61,4,2051.4,2,2227,2,7.8339,25,6,-999,9,-999,-999,9,-999,-999,9,-999,-999,9,-999,9.0913,25.4179
49NZ20070724,   P01,44,1,35, X12041,2,20070812,1918,46.9913,166.7448,5957,25.1,2,8.9881,2,8.98758,2,32.8485,2,-999,9,292.28,2,-999,9,-999,9,-999,-999,9,-999,-999,9,-999,-999,9,-999,-999,9,-999,9,-999,9,-999,9,-999,9,-999,9,-999,-999,9,-999,9,-999,-999,9,-999,-999,9,-999,-999,9,-999,8.9855,25.436
49NZ20070724,   P01,44,1,34, X12036,2,20070812,1918,46.9913,166.7448,5957,50.2,2,6.8637,2,6.87261,2,32.8982,2,32.9204,2,301.6,2,308.76,2,33.69,2,0.19,18.16,2,0.08,0.28,2,0.01,1.685,2,0.014,-999,9,-999,9,-999,9,6.555,4,2082.3,6,2231.2,2,7.7711,25,2,-999,9,-999,-999,9,-999,-999,9,-999,-999,9,-999,6.8593,25.7821
49NZ20070724,   P01,44,1,33, X12033,2,20070812,1918,46.9913,166.7448,5957,99.8,2,2.7514,2,2.75128,2,33.0312,2,33.0484,2,318.92,2,310.42,2,44.46,2,0.22,25.51,2,0.1,0.02,2,0.01,2.017,2,0.015,-999,9,-999,9,-999,9,7.233,4,2127.3,2,2234.1,6,7.6641,25,2,-999,9,-999,-999,9,-999,-999,9,-999,-999,9,-999,2.7458,26.3354
49NZ20070724,   P01,44,1,32, X12038,2,20070812,1918,46.9913,166.7448,5957,150.1,2,3.6149,2,3.62174,2,33.6442,2,33.6721,2,110.17,2,105.76,2,77.01,2,0.29,39.57,2,0.14,0.01,2,0.01,2.846,2,0.017,-999,9,-999,9,-999,9,2.576,4,2273.7,2,2279.6,2,7.3648,25,6,-999,9,-999,-999,9,-999,-999,9,-999,-999,9,-999,3.6052,26.7467
49NZ20070724,   P01,44,1,31, X12003,2,20070812,1918,46.9913,166.7448,5957,200.1,2,3.7174,2,3.71715,2,33.842,2,33.8554,2,49.66,2,46.91,2,90.23,2,0.32,43.6,2,0.15,0.01,2,0.01,3.093,2,0.018,-999,9,-999,9,-999,9,1.707,4,2314.8,2,2298.2,2,7.2846,25,2,-999,9,-999,-999,9,-999,-999,9,-999,-999,9,-999,3.7042,26.8945
49NZ20070724,   P01,44,1,30, X12008,2,20070812,1918,46.9913,166.7448,5957,249.6,2,3.7147,2,3.71512,2,33.9486,2,33.9573,6,26.15,2,26.34,2,98.94,2,0.34,44.81,2,0.16,0.01,2,0.01,3.174,2,0.018,-999,9,-999,9,-999,9,1.298,4,2336.2,2,2308.9,2,7.2652,25,2,-999,9,-999,-999,9,-999,-999,9,-999,-999,9,-999,3.698,26.9801
49NZ20070724,   P01,44,1,29, X12035,2,20070812,1918,46.9913,166.7448,5957,299.6,2,3.6835,2,3.68319,2,34.0185,2,34.0242,2,19.93,2,20.43,2,104.7,2,0.35,44.98,2,0.16,0.01,2,0.01,3.188,2,0.018,-999,9,-999,9,-999,9,1.061,4,2342.5,2,2317.2,2,7.2699,25,2,-999,9,-999,-999,9,-999,-999,9,-999,-999,9,-999,3.6634,27.0391
49NZ20070724,   P01,44,1,28, X12034,2,20070812,1918,46.9913,166.7448,5957,402.9,2,3.5902,2,3.58982,2,34.1281,2,34.1295,2,17.8,2,18.26,2,114.27,2,0.37,44.45,2,0.16,0.01,2,0.01,3.155,2,0.018,-999,9,-999,9,-999,9,0.683,4,2350.9,2,2333.4,2,7.2904,25,2,-999,9,-999,-999,9,-999,-999,9,-999,-999,9,-999,3.5631,27.1362
49NZ20070724,   P01,44,1,27, X12049,2,20070812,1918,46.9913,166.7448,5957,600.7,2,3.1462,2,3.14609,2,34.2361,2,34.2368,6,22.51,2,22.56,2,130.49,2,0.41,43.99,2,0.16,0.01,2,0.01,3.14,2,0.018,-999,9,-999,9,-999,9,0.501,4,2363.2,2,2355.1,2,7.3123,25,2,-999,9,-999,-999,9,-999,-999,9,-999,-999,9,-999,3.1069,27.2655
49NZ20070724,   P01,44,1,26, X12032,2,20070812,1918,46.9913,166.7448,5957,798.9,2,2.8854,2,2.88537,2,34.3402,2,34.3433,2,24.15,2,24.23,2,141.74,2,0.43,43.81,2,0.16,0.01,2,0.01,3.129,2,0.018,-999,9,-999,9,-999,9,0.273,4,2373.3,2,2371.6,2,7.3338,25,2,-999,9,-999,-999,9,-999,-999,9,-999,-999,9,-999,2.8334,27.3733
49NZ20070724,   P01,44,1,25, X12043,2,20070812,1918,46.9913,166.7448,5957,1000.4,2,2.6311,2,2.63067,2,34.4198,2,34.421,6,30.65,2,30.85,2,149.4,2,0.45,43.41,2,0.15,0.01,2,0.01,3.102,2,0.018,-999,9,-999,9,-999,9,0.143,4,2378.3,6,2385.5,2,7.3548,25,2,-999,9,-999,-999,9,-999,-999,9,-999,-999,9,-999,2.5662,27.4603
49NZ20070724,   P01,44,1,24, X12030,2,20070812,1918,46.9913,166.7448,5957,1401.1,2,2.2238,2,2.22348,2,34.5146,2,34.5151,2,39.27,2,39.27,2,162.72,2,0.48,42.96,2,0.15,0.01,2,0.01,3.061,2,0.018,-999,9,-999,9,-999,9,0.022,4,2386.1,2,2403.2,2,7.3798,25,2,-999,9,-999,-999,9,-999,-999,9,-999,-999,9,-999,2.1327,27.5722
49NZ20070724,   P01,44,1,23, X12027,2,20070812,1918,46.9913,166.7448,5957,1999.7,2,1.8707,2,1.87059,2,34.5988,2,34.5998,2,72.9,2,72.63,2,164.81,2,0.48,41.23,2,0.15,0,2,0.01,2.921,2,0.017,-999,9,-999,9,-999,9,0.018,4,2371.3,2,2413.4,2,7.4492,25,6,-999,9,-999,-999,9,-999,-999,9,-999,-999,9,-999,1.7364,27.6707
49NZ20070724,   P01,44,1,22, X12028,2,20070812,1918,46.9913,166.7448,5957,2399.6,2,1.688,2,1.68794,2,34.6334,2,34.6338,6,97.83,2,97.43,2,162.49,2,0.48,39.62,2,0.14,0,2,0.01,2.799,2,0.017,-999,9,-999,9,-999,9,0,4,2358.8,2,2417.1,2,7.4959,25,2,-999,9,-999,-999,9,-999,-999,9,-999,-999,9,-999,1.5225,27.7143
49NZ20070724,   P01,44,1,21, X12009,2,20070812,1918,46.9913,166.7448,5957,2999,2,1.5474,2,1.54729,2,34.6612,2,34.6618,2,124.11,2,123.84,2,156.5,2,0.46,38,2,0.14,0,2,0.01,2.674,2,0.017,-999,9,-999,9,-999,9,0,4,2342.6,2,2419.4,2,7.5438,25,2,-999,9,-999,-999,9,-999,-999,9,-999,-999,9,-999,1.3297,27.7505
49NZ20070724,   P01,44,1,20, X12026,2,20070812,1918,46.9913,166.7448,5957,3499,2,1.4942,2,1.49404,2,34.6735,2,34.6741,2,137.43,2,137.54,2,152.88,2,0.46,37.07,2,0.14,0,2,0.01,2.601,2,0.016,-999,9,-999,9,-999,9,0.011,4,2334.4,2,2418.1,2,7.5678,25,2,-999,9,-999,-999,9,-999,-999,9,-999,-999,9,-999,1.2284,27.7674
49NZ20070724,   P01,44,1,19, X12025,2,20070812,1918,46.9913,166.7448,5957,3999.7,2,1.4773,2,1.47725,2,34.6813,2,34.6815,6,146.85,2,146.96,2,150.57,2,0.45,36.45,2,0.13,0,2,0.01,2.552,2,0.016,-999,9,-999,9,-999,9,0.004,4,2328.2,2,2417,2,7.5842,25,2,-999,9,-999,-999,9,-999,-999,9,-999,-999,9,-999,1.1591,27.7785
49NZ20070724,   P01,44,1,18, X12024,2,20070812,1918,46.9913,166.7448,5957,4501.9,2,1.4944,2,1.49438,2,34.6856,2,34.6857,2,152.13,2,152.44,2,149.04,2,0.45,36.33,2,0.13,0,2,0.01,2.526,2,0.016,-999,9,-999,9,-999,9,0,4,2324,6,2419.7,3,7.5934,25,2,-999,9,-999,-999,9,-999,-999,9,-999,-999,9,-999,1.1194,27.7847
49NZ20070724,   P01,44,1,17, X12023,2,20070812,1918,46.9913,166.7448,5957,5001.1,2,1.5293,2,1.5292,2,34.6884,2,34.6884,2,155.55,2,155.87,2,148.64,2,0.45,35.88,2,0.13,0,2,0.01,2.503,2,0.016,-999,9,-999,9,-999,9,0,4,2322,3,2417,6,7.5989,25,2,-999,9,-999,-999,9,-999,-999,9,-999,-999,9,-999,1.0939,27.7887
49NZ20070724,   P01,44,1,16, X12022,2,20070812,1918,46.9913,166.7448,5957,5249.6,2,1.5529,2,1.55278,2,34.6893,2,34.6896,2,156.64,2,156.92,2,148.93,2,0.45,35.81,2,0.13,0,2,0.01,2.503,2,0.016,-999,9,-999,9,-999,9,0.018,4,2318.7,2,2416.5,2,7.6005,25,2,-999,9,-999,-999,9,-999,-999,9,-999,-999,9,-999,1.0861,27.7899
49NZ20070724,   P01,44,1,15, X12021,2,20070812,1918,46.9913,166.7448,5957,5750,2,1.6127,2,1.61248,2,34.69,2,34.6901,2,157.49,2,157.46,2,150.05,2,0.45,35.77,2,0.13,0,2,0.01,2.498,2,0.016,-999,9,-999,9,-999,9,0,4,2320,2,2417.6,2,7.6022,25,2,-999,9,-999,-999,9,-999,-999,9,-999,-999,9,-999,1.0796,27.791
49NZ20070724,   P01,44,1,14, X12020,9,20070812,1918,46.9913,166.7448,5957,10.1,2,9.107,2,9.1122,2,32.8482,2,-999,9,293.14,2,-999,9,-999,9,-999,-999,9,-999,-999,9,-999,-999,9,-999,-999,9,-999,9,-999,9,-999,9,-999,9,-999,9,-999,-999,9,-999,9,-999,-999,9,-999,-999,9,-999,-999,9,-999,9.1059,25.4169
49NZ20070724,   P01,44,1,13, X12019,2,20070812,1918,46.9913,166.7448,5957,200.4,2,3.7198,2,3.71919,2,33.843,2,-999,9,49.63,2,-999,9,-999,9,-999,-999,9,-999,-999,9,-999,-999,9,-999,-999,9,-999,9,-999,9,-999,9,-999,9,-999,9,-999,-999,9,-999,9,-999,-999,9,-999,-999,9,-999,-999,9,-999,3.7065,26.8951
49NZ20070724,   P01,44,1,12, X12040,9,20070812,1918,46.9913,166.7448,5957,200.3,2,3.717,2,3.71666,2,33.8412,2,-999,9,49.83,2,-999,9,-999,9,-999,-999,9,-999,-999,9,-999,-999,9,-999,-999,9,-999,9,-999,9,-999,9,-999,9,-999,9,-999,-999,9,-999,9,-999,-999,9,-999,-999,9,-999,-999,9,-999,3.7037,26.8939
49NZ20070724,   P01,44,1,11, X12047,2,20070812,1918,46.9913,166.7448,5957,150.2,2,3.6079,2,3.61046,2,33.6413,2,-999,9,111.32,2,-999,9,-999,9,-999,-999,9,-999,-999,9,-999,-999,9,-999,-999,9,-999,9,-999,9,-999,9,-999,9,-999,9,-999,-999,9,-999,9,-999,-999,9,-999,-999,9,-999,-999,9,-999,3.5982,26.745
49NZ20070724,   P01,44,1,10, X12010,9,20070812,1918,46.9913,166.7448,5957,150.1,2,3.6111,2,3.61001,2,33.6414,2,-999,9,110.84,2,-999,9,-999,9,-999,-999,9,-999,-999,9,-999,-999,9,-999,-999,9,-999,9,-999,9,-999,9,-999,9,-999,9,-999,-999,9,-999,9,-999,-999,9,-999,-999,9,-999,-999,9,-999,3.6014,26.7448
49NZ20070724,   P01,44,1,9, X12015,2,20070812,1918,46.9913,166.7448,5957,99.7,2,2.7511,2,2.74981,2,33.0314,2,-999,9,319.01,2,-999,9,-999,9,-999,-999,9,-999,-999,9,-999,-999,9,-999,-999,9,-999,9,-999,9,-999,9,-999,9,-999,9,-999,-999,9,-999,9,-999,-999,9,-999,-999,9,-999,-999,9,-999,2.7455,26.3356
49NZ20070724,   P01,44,1,8, X12046,9,20070812,1918,46.9913,166.7448,5957,99.9,2,2.7524,2,2.75274,2,33.0307,2,-999,9,318.9,2,-999,9,-999,9,-999,-999,9,-999,-999,9,-999,-999,9,-999,-999,9,-999,9,-999,9,-999,9,-999,9,-999,9,-999,-999,9,-999,9,-999,-999,9,-999,-999,9,-999,-999,9,-999,2.7468,26.3349
49NZ20070724,   P01,44,1,7, X12044,2,20070812,1918,46.9913,166.7448,5957,50.3,2,6.8482,2,6.85048,2,32.9012,2,-999,9,301.96,2,-999,9,-999,9,-999,-999,9,-999,-999,9,-999,-999,9,-999,-999,9,-999,9,-999,9,-999,9,-999,9,-999,9,-999,-999,9,-999,9,-999,-999,9,-999,-999,9,-999,-999,9,-999,6.8438,25.7866
49NZ20070724,   P01,44,1,6, X12048,9,20070812,1918,46.9913,166.7448,5957,50.3,2,6.8816,2,6.88852,2,32.8991,2,-999,9,301.56,2,-999,9,-999,9,-999,-999,9,-999,-999,9,-999,-999,9,-999,-999,9,-999,9,-999,9,-999,9,-999,9,-999,9,-999,-999,9,-999,9,-999,-999,9,-999,-999,9,-999,-999,9,-999,6.8772,25.7804
49NZ20070724,   P01,44,1,5, X12017,2,20070812,1918,46.9913,166.7448,5957,10.2,2,9.1242,2,9.12979,2,32.8458,2,-999,9,292.62,2,-999,9,-999,9,-999,-999,9,-999,-999,9,-999,-999,9,-999,-999,9,-999,9,-999,9,-999,9,-999,9,-999,9,-999,-999,9,-999,9,-999,-999,9,-999,-999,9,-999,-999,9,-999,9.1231,25.4123
49NZ20070724,   P01,44,1,4, X12928,9,20070812,1918,46.9913,166.7448,5957,10.5,2,9.121,2,9.1216,2,32.8459,2,-999,9,292.74,2,-999,9,-999,9,-999,-999,9,-999,-999,9,-999,-999,9,-999,-999,9,-999,9,-999,9,-999,9,-999,9,-999,9,-999,-999,9,-999,9,-999,-999,9,-999,-999,9,-999,-999,9,-999,9.1199,25.4129
49NZ20070724,   P01,44,1,3, X12931,2,20070812,1918,46.9913,166.7448,5957,40.2,2,7.6758,2,7.67525,2,32.8804,2,-999,9,298.28,2,-999,9,29.48,2,0.18,15.99,2,0.08,0.19,2,0.01,1.56,2,0.014,-999,9,-999,9,-999,9,-999,9,-999,9,-999,9,-999,-999,9,-999,9,-999,-999,9,-999,-999,9,-999,-999,9,-999,7.672,25.6565
49NZ20070724,   P01,44,1,2, X12930,9,20070812,1918,46.9913,166.7448,5957,40.1,2,7.6868,2,7.68587,2,32.8793,2,-999,9,298.03,2,-999,9,-999,9,-999,-999,9,-999,-999,9,-999,-999,9,-999,-999,9,-999,9,-999,9,-999,9,-999,9,-999,9,-999,-999,9,-999,9,-999,-999,9,-999,-999,9,-999,-999,9,-999,7.683,25.6541
49NZ20070724,   P01,44,1,1, X12929,2,20070812,1918,46.9913,166.7448,5957,6001,2,1.6476,2,1.64723,2,34.6899,2,34.6906,6,157.8,2,157.47,2,149.94,2,0.45,35.95,2,0.13,0,2,0.01,2.496,2,0.016,-999,9,-999,9,-999,9,0,4,2321.5,2,2416.6,2,7.602,25,2,-999,9,-999,-999,9,-999,-999,9,-999,-999,9,-999,1.0799,27.7908