BOTTLE,20081214JAMSTECIORGC,,,,,,,,,,,,,,,,,,,,,,,,,,,,,,,,,,,,,,,,,,,,,,,,,,,,,,,,,,,,,,,,,
EXPOCODE,SECT,STNNBR,CASTNO,SAMPNO,BTLNBR,BTLNBR_FLAG_W,DATE,TIME,LATITUDE,LONGITUDE,DEPTH,CTDPRS,CTDPRS_FLAG_W,CTDTMP,CTDTMP_FLAG_W,SBE35,SBE35_FLAG_W,CTDSAL,CTDSAL_FLAG_W,SALNTY,SALNTY_FLAG_W,CTDOXY,CTDOXY_FLAG_W,OXYGEN,OXYGEN_FLAG_W,SILCAT,SILCAT_FLAG_W,SILUNC,NITRAT,NITRAT_FLAG_W,NRAUNC,NITRIT,NITRIT_FLAG_W,NRIUNC,PHSPHT,PHSPHT_FLAG_W,PHPUNC,CFC-11,CFC-11_FLAG_W,CFC-12,CFC-12_FLAG_W,CFC113,CFC113_FLAG_W,CCL4,CCL4_FLAG_W,TCARBN,TCARBN_FLAG_W,ALKALI,ALKALI_FLAG_W,PH_TOT,PH_TMP,PH_FLAG_W,DELC13,DELC13_FLAG_W,C13ERR,DELC14,DELC14_FLAG_W,C14ERR,CS-137,CS-137_FLAG_W,CS137ER,PLUTO,PLUTO_FLAG_W,PLUTOER,THETA,SIG0
,,,,,,,,UTC,DEG,DEG,M,DBAR,,ITS-90,,ITS-90,,PSS-78,,PSS-78,,UMOL/KG,,UMOL/KG,,UMOL/KG,,UMOL/KG,UMOL/KG,,UMOL/KG,UMOL/KG,,UMOL/KG,UMOL/KG,,UMOL/KG,PMOL/KG,,PMOL/KG,,PMOL/KG,,PMOL/KG,,UMOL/KG,,UMOL/KG,,,ITS-90,,/MILLE,,/MILLE,/MILLE,,/MILLE,BQ/CUM,,BQ/CUM,MBQ/CUM,,MBQ/CUM,DEG C,KG/CUM
49NZ20070724,   P01,95,1,0,-999,9,20070825,327,47.0082,-142.4382,4507,-999,9,-999,9,-999,9,-999,9,32.3341,2,-999,9,-999,9,-999,9,-999,-999,9,-999,-999,9,-999,-999,9,-999,-999,9,-999,9,-999,9,-999,9,-999,9,-999,9,-999,-999,9,-999,9,-999,-999,9,-999,-999,9,-999,-999,9,-999,-999,-999
49NZ20070724,   P01,95,1,36, X12042,2,20070825,327,47.0082,-142.4382,4507,9.9,2,13.7913,2,13.79023,2,32.3241,2,32.3267,2,275.32,2,275.32,2,10.59,2,0.14,6.06,2,0.05,0.1,2,0.01,0.84,2,0.013,3.17,2,1.802,2,0.334,2,-999,9,1972.9,2,2181,2,7.9218,25,6,-999,9,-999,-999,9,-999,-999,9,-999,-999,9,-999,13.7899,24.1629
49NZ20070724,   P01,95,1,35, X12041,2,20070825,327,47.0082,-142.4382,4507,50.2,2,7.9763,2,7.97838,2,32.6442,2,32.6452,2,294.78,2,300.3,2,15.96,2,0.15,11,2,0.06,0.14,2,0.01,1.224,2,0.013,4.284,2,2.366,2,0.416,2,-999,9,2040.6,2,2199.2,2,7.8107,25,2,-999,9,-999,-999,9,-999,-999,9,-999,-999,9,-999,7.9715,25.4282
49NZ20070724,   P01,95,1,34, X12036,2,20070825,327,47.0082,-142.4382,4507,99.9,2,6.1863,2,6.18569,2,32.8173,2,32.9757,2,288.69,2,282.9,2,20.31,2,0.16,15.5,2,0.08,0.05,2,0.01,1.368,2,0.014,4.397,2,2.411,2,0.396,2,-999,9,2073.6,2,2215.2,2,7.7595,25,2,-999,9,-999,-999,9,-999,-999,9,-999,-999,9,-999,6.178,25.8061
49NZ20070724,   P01,95,1,33, X12033,2,20070825,327,47.0082,-142.4382,4507,150.5,2,6.5282,2,6.52899,2,33.7319,2,33.7423,2,233.87,2,235.86,2,28.47,2,0.18,20.27,2,0.09,0.03,2,0.01,1.53,2,0.014,4.017,2,2.167,2,0.29,2,-999,9,2134.3,2,2255.2,2,7.6949,25,2,-999,9,-999,-999,9,-999,-999,9,-999,-999,9,-999,6.515,26.4847
49NZ20070724,   P01,95,1,32, X12038,2,20070825,327,47.0082,-142.4382,4507,200.8,2,6.3045,2,6.3045,2,33.8386,2,33.8391,2,201.02,2,201.9,2,37.89,2,0.2,23.9,2,0.1,0.02,2,0.01,1.758,2,0.015,3.684,2,1.947,2,0.257,2,-999,9,2165,2,2266.4,2,7.6379,25,2,-999,9,-999,-999,9,-999,-999,9,-999,-999,9,-999,6.2871,26.5985
49NZ20070724,   P01,95,1,31, X12003,2,20070825,327,47.0082,-142.4382,4507,249.4,2,5.7951,2,5.79558,2,33.8738,2,33.8726,6,157.97,2,157.38,2,50.52,2,0.23,28.89,2,0.11,0.02,2,0.01,2.102,2,0.015,3.191,6,1.641,6,0.219,6,-999,9,2203.7,2,2276.8,2,7.5525,25,2,-999,9,-999,-999,9,-999,-999,9,-999,-999,9,-999,5.7744,26.6908
49NZ20070724,   P01,95,1,30, X12008,2,20070825,327,47.0082,-142.4382,4507,299.8,2,5.2344,2,5.23464,2,33.884,2,33.8871,2,126.67,2,124.6,2,60.94,2,0.25,32.83,2,0.12,0.01,2,0.01,2.371,2,0.016,2.8,2,1.415,2,0.178,2,-999,9,2236.5,6,2284,2,7.4813,25,2,-999,9,-999,-999,9,-999,-999,9,-999,-999,9,-999,5.2107,26.7662
49NZ20070724,   P01,95,1,29, X12035,2,20070825,327,47.0082,-142.4382,4507,402,2,4.5622,2,4.5619,2,33.9644,2,33.965,2,73.94,2,73.76,2,79.85,2,0.29,38.77,2,0.14,0.01,2,0.01,2.747,2,0.017,1.994,2,0.968,2,0.123,2,-999,9,2285.3,2,2300,6,7.3855,25,2,-999,9,-999,-999,9,-999,-999,9,-999,-999,9,-999,4.5322,26.9063
49NZ20070724,   P01,95,1,28, X12034,2,20070825,327,47.0082,-142.4382,4507,500,2,4.1412,2,4.14092,2,34.0597,2,34.0641,6,44.22,2,43.62,2,96.54,2,0.33,41.84,2,0.15,0.01,2,0.01,2.975,2,0.017,1.247,2,0.589,2,0.08,2,-999,9,2322.2,2,2318,2,7.3373,25,6,-999,9,-999,-999,9,-999,-999,9,-999,-999,9,-999,4.1051,27.0273
49NZ20070724,   P01,95,1,27, X12049,2,20070825,327,47.0082,-142.4382,4507,599.9,2,3.8109,2,3.81088,2,34.1334,2,34.1344,2,30.47,2,30.85,2,107.96,2,0.36,42.96,2,0.15,0.01,2,0.01,3.06,2,0.018,0.801,2,0.372,2,0.046,2,-999,9,2338.7,2,2332.8,2,7.3238,25,2,-999,9,-999,-999,9,-999,-999,9,-999,-999,9,-999,3.7686,27.1202
49NZ20070724,   P01,95,1,26, X12032,2,20070825,327,47.0082,-142.4382,4507,701.8,2,3.6221,2,3.62214,2,34.2108,2,34.2109,2,24.93,2,25.4,2,116.8,2,0.38,43.45,2,0.15,0.01,2,0.01,3.096,2,0.018,0.432,6,0.198,6,0.029,6,-999,9,2352.4,6,2345.9,2,7.3268,25,2,-999,9,-999,-999,9,-999,-999,9,-999,-999,9,-999,3.573,27.2012
49NZ20070724,   P01,95,1,25, X12043,2,20070825,327,47.0082,-142.4382,4507,799,2,3.4208,2,3.42044,2,34.2722,2,34.2733,2,20.1,2,20.25,2,125.12,2,0.39,43.89,2,0.16,0.01,2,0.01,3.132,2,0.018,0.197,2,0.088,2,0.006,2,-999,9,2363.4,2,2358.1,6,7.3265,25,2,-999,9,-999,-999,9,-999,-999,9,-999,-999,9,-999,3.3655,27.2701
49NZ20070724,   P01,95,1,24, X12030,2,20070825,327,47.0082,-142.4382,4507,900.4,2,3.2097,2,3.20957,2,34.3194,2,34.3194,2,16.28,2,16.46,2,132.25,2,0.41,44.12,2,0.16,0.01,2,0.01,3.127,2,0.018,0.091,2,0.04,2,0.006,2,-999,9,2373.1,2,2367.3,2,7.3254,25,2,-999,9,-999,-999,9,-999,-999,9,-999,-999,9,-999,3.1481,27.3282
49NZ20070724,   P01,95,1,23, X12027,2,20070825,327,47.0082,-142.4382,4507,1001.1,2,3.0115,2,3.01154,2,34.3615,2,34.3615,6,13.44,2,13.34,2,139.3,2,0.43,44.6,2,0.16,0.01,2,0.01,3.186,2,0.018,0.039,2,0.019,2,0.004,2,-999,9,2380.8,2,2375.9,2,7.3224,25,2,-999,9,-999,-999,9,-999,-999,9,-999,-999,9,-999,2.9437,27.3805
49NZ20070724,   P01,95,1,22, X12028,2,20070825,327,47.0082,-142.4382,4507,1201,2,2.722,2,2.7221,2,34.4288,2,34.4282,2,12.01,2,11.94,2,149.98,2,0.45,44.91,2,0.16,0.02,2,0.01,3.2,2,0.018,0.002,2,0,2,0,2,-999,9,2394.1,2,2388.9,2,7.3259,25,2,-999,9,-999,-999,9,-999,-999,9,-999,-999,9,-999,2.6413,27.461
49NZ20070724,   P01,95,1,21, X12009,2,20070825,327,47.0082,-142.4382,4507,1400.7,2,2.4751,2,2.47514,2,34.4796,2,34.4792,2,16.79,2,16.67,2,157.64,2,0.47,44.89,2,0.16,0.01,2,0.01,3.176,2,0.018,0.002,2,0.001,2,0,2,-999,9,2400.2,2,2397.7,2,7.3403,25,2,-999,9,-999,-999,9,-999,-999,9,-999,-999,9,-999,2.3814,27.5237
49NZ20070724,   P01,95,1,20, X12026,2,20070825,327,47.0082,-142.4382,4507,1601.4,2,2.2653,2,2.26515,2,34.52,2,34.5202,2,26.12,2,25.54,2,163.49,2,0.48,44.3,2,0.16,0.01,2,0.01,3.129,2,0.018,0,2,0,2,0,2,-999,9,2400.1,2,2405,2,7.3585,25,6,-999,9,-999,-999,9,-999,-999,9,-999,-999,9,-999,2.1581,27.5745
49NZ20070724,   P01,95,1,19, X12025,2,20070825,327,47.0082,-142.4382,4507,1801.3,2,2.102,2,2.10149,2,34.5547,2,34.5547,2,39.27,2,38.71,2,166.87,2,0.49,43.6,2,0.15,0.01,2,0.01,3.081,2,0.018,0,2,0,2,0,2,-999,9,2395.3,2,2411.5,2,7.3835,25,2,-999,9,-999,-999,9,-999,-999,9,-999,-999,9,-999,1.9807,27.6164
49NZ20070724,   P01,95,1,18, X12024,2,20070825,327,47.0082,-142.4382,4507,2002.6,2,1.9484,2,1.94807,2,34.5856,2,34.5855,2,53.42,2,53.17,2,169.48,2,0.49,42.62,2,0.15,0.01,2,0.01,3.006,2,0.017,0,2,0,2,0,2,-999,9,2389.4,2,2415.9,2,7.4129,25,2,-999,9,-999,-999,9,-999,-999,9,-999,-999,9,-999,1.8127,27.6542
49NZ20070724,   P01,95,1,17, X12023,2,20070825,327,47.0082,-142.4382,4507,2201.1,2,1.8461,2,1.84604,2,34.6048,2,34.6048,6,65.45,2,64.98,2,170.26,2,0.49,41.97,2,0.15,0.01,2,0.01,2.959,2,0.017,0,2,0,2,0,2,-999,9,2382.4,2,2418,2,7.4367,25,2,-999,9,-999,-999,9,-999,-999,9,-999,-999,9,-999,1.6952,27.6785
49NZ20070724,   P01,95,1,16, X12022,2,20070825,327,47.0082,-142.4382,4507,2402.3,2,1.7524,2,1.75249,2,34.6224,2,34.6219,2,77.68,2,77.44,2,170.34,2,0.49,41.14,2,0.15,0.01,2,0.01,2.898,2,0.017,0,2,0,2,0.003,2,-999,9,2376.5,6,2421.5,2,7.4583,25,2,-999,9,-999,-999,9,-999,-999,9,-999,-999,9,-999,1.5855,27.7009
49NZ20070724,   P01,95,1,15, X12021,2,20070825,327,47.0082,-142.4382,4507,2599.1,2,1.6801,2,1.68024,2,34.6362,2,34.6361,2,88.83,2,88.6,2,169.97,2,0.49,40.5,2,0.15,0.01,2,0.01,2.847,2,0.017,-999,9,-999,9,-999,9,-999,9,2373.4,2,2421.9,6,7.4805,25,2,-999,9,-999,-999,9,-999,-999,9,-999,-999,9,-999,1.497,27.7185
49NZ20070724,   P01,95,1,14, X12020,2,20070825,327,47.0082,-142.4382,4507,2799.4,2,1.6104,2,1.61036,2,34.649,2,34.6489,2,100.26,2,100.2,2,169.07,2,0.49,39.64,2,0.14,0.01,2,0.01,2.793,2,0.017,-999,9,-999,9,-999,9,-999,9,2366.2,2,2423.6,2,7.5028,25,6,-999,9,-999,-999,9,-999,-999,9,-999,-999,9,-999,1.4102,27.7349
49NZ20070724,   P01,95,1,13, X12019,2,20070825,327,47.0082,-142.4382,4507,2999.5,2,1.5665,2,1.56641,2,34.6576,2,34.6575,2,109.09,2,109.04,2,168.1,2,0.49,39.14,2,0.14,0.01,2,0.01,2.752,2,0.017,0.005,2,0,2,0.001,2,-999,9,2358.6,2,2424.8,2,7.5197,25,2,-999,9,-999,-999,9,-999,-999,9,-999,-999,9,-999,1.3484,27.7463
49NZ20070724,   P01,95,1,12, X12040,2,20070825,327,47.0082,-142.4382,4507,3251.6,2,1.5228,2,1.52284,2,34.6667,2,34.6661,2,120.41,2,120.25,2,166.05,2,0.48,38.26,2,0.14,0.02,2,0.01,2.671,2,0.017,-999,9,-999,9,-999,9,-999,9,2353.8,2,2425.1,2,7.5415,25,2,-999,9,-999,-999,9,-999,-999,9,-999,-999,9,-999,1.2811,27.7583
49NZ20070724,   P01,95,1,11, X12047,2,20070825,327,47.0082,-142.4382,4507,3499.5,2,1.4994,2,1.49951,2,34.6732,2,34.6729,6,127.98,2,127.88,2,165.48,2,0.48,37.83,2,0.14,0.01,2,0.01,2.649,2,0.017,-999,9,-999,9,-999,9,-999,9,2349.1,2,2426.2,2,7.556,25,2,-999,9,-999,-999,9,-999,-999,9,-999,-999,9,-999,1.2334,27.7669
49NZ20070724,   P01,95,1,10, X12010,2,20070825,327,47.0082,-142.4382,4507,3752.1,2,1.4922,2,1.49232,2,34.6781,2,34.6778,2,133.07,2,133.11,2,165.86,2,0.48,37.5,2,0.14,0.02,2,0.01,2.628,2,0.017,0.001,2,0,2,0,2,-999,9,2344.3,2,2427.4,2,7.5673,25,2,-999,9,-999,-999,9,-999,-999,9,-999,-999,9,-999,1.2001,27.7731
49NZ20070724,   P01,95,1,9, X12015,2,20070825,327,47.0082,-142.4382,4507,3999.9,2,1.4995,2,1.49959,2,34.681,2,34.681,2,136.13,2,136.32,2,166.81,2,0.49,37.37,2,0.14,0.01,2,0.01,2.615,2,0.017,-999,9,-999,9,-999,9,-999,9,2346.6,2,2430.5,2,7.5756,25,2,-999,9,-999,-999,9,-999,-999,9,-999,-999,9,-999,1.1806,27.7768
49NZ20070724,   P01,95,1,8, X12046,2,20070825,327,47.0082,-142.4382,4507,4249.8,2,1.519,2,1.51909,2,34.6836,2,34.6834,2,137.24,2,137.29,2,169.83,2,0.49,37.36,2,0.14,0.02,2,0.01,2.61,2,0.017,0,2,0,2,0,2,-999,9,2345.8,6,2433,2,7.5805,25,2,-999,9,-999,-999,9,-999,-999,9,-999,-999,9,-999,1.1719,27.7795
49NZ20070724,   P01,95,1,7, X12044,2,20070825,327,47.0082,-142.4382,4507,4499.1,2,1.5434,2,1.54333,2,34.6845,2,34.6845,2,137.61,2,137.5,2,172.21,2,0.5,37.35,2,0.14,0.01,2,0.01,2.609,2,0.016,-999,9,-999,9,-999,9,-999,9,2350,2,2434.9,6,7.5831,25,2,-999,9,-999,-999,9,-999,-999,9,-999,-999,9,-999,1.1672,27.7805
49NZ20070724,   P01,95,1,6, X12048,9,20070825,327,47.0082,-142.4382,4507,50.2,2,7.9902,2,7.99203,2,32.6437,2,-999,9,295.71,2,-999,9,-999,9,-999,-999,9,-999,-999,9,-999,-999,9,-999,-999,9,-999,9,-999,9,-999,9,-999,9,-999,9,-999,-999,9,-999,9,-999,-999,9,-999,-999,9,-999,-999,9,-999,7.9854,25.4258
49NZ20070724,   P01,95,1,5, X12017,9,20070825,327,47.0082,-142.4382,4507,100,2,6.1873,2,6.18713,2,32.8182,2,-999,9,288.87,2,-999,9,-999,9,-999,-999,9,-999,-999,9,-999,-999,9,-999,-999,9,-999,9,-999,9,-999,9,-999,9,-999,9,-999,-999,9,-999,9,-999,-999,9,-999,-999,9,-999,-999,9,-999,6.179,25.8067
49NZ20070724,   P01,95,1,4, X12928,9,20070825,327,47.0082,-142.4382,4507,150.7,2,6.5249,2,6.52517,2,33.7319,2,-999,9,233.9,2,-999,9,-999,9,-999,-999,9,-999,-999,9,-999,-999,9,-999,-999,9,-999,9,-999,9,-999,9,-999,9,-999,9,-999,-999,9,-999,9,-999,-999,9,-999,-999,9,-999,-999,9,-999,6.5117,26.4851
49NZ20070724,   P01,95,1,3, X12931,9,20070825,327,47.0082,-142.4382,4507,201,2,6.3041,2,6.30408,2,33.8387,2,-999,9,200.81,2,-999,9,-999,9,-999,-999,9,-999,-999,9,-999,-999,9,-999,-999,9,-999,9,-999,9,-999,9,-999,9,-999,9,-999,-999,9,-999,9,-999,-999,9,-999,-999,9,-999,-999,9,-999,6.2867,26.5986
49NZ20070724,   P01,95,1,2, X12930,2,20070825,327,47.0082,-142.4382,4507,30.2,2,11.4799,2,11.48141,2,32.4732,2,-999,9,303.57,2,303.13,2,7.33,2,0.14,6.79,2,0.05,0.1,2,0.01,0.903,2,0.013,-999,9,-999,9,-999,9,-999,9,-999,9,-999,9,-999,-999,9,-999,9,-999,-999,9,-999,-999,9,-999,-999,9,-999,11.4762,24.7234
49NZ20070724,   P01,95,1,1, X12929,2,20070825,327,47.0082,-142.4382,4507,4573.8,2,1.5533,2,1.55322,2,34.6848,2,34.6846,6,137.17,2,137.04,2,173.69,2,0.5,37.25,2,0.14,0.01,2,0.01,2.592,2,0.016,0,2,0.001,2,0,2,-999,9,2346.8,2,2435.9,2,7.585,25,2,-999,9,-999,-999,9,-999,-999,9,-999,-999,9,-999,1.1681,27.7807