BOTTLE,20081214JAMSTECIORGC,,,,,,,,,,,,,,,,,,,,,,,,,,,,,,,,,,,,,,,,,,,,,,,,,,,,,,,,,,,,,,,,,
EXPOCODE,SECT,STNNBR,CASTNO,SAMPNO,BTLNBR,BTLNBR_FLAG_W,DATE,TIME,LATITUDE,LONGITUDE,DEPTH,CTDPRS,CTDPRS_FLAG_W,CTDTMP,CTDTMP_FLAG_W,SBE35,SBE35_FLAG_W,CTDSAL,CTDSAL_FLAG_W,SALNTY,SALNTY_FLAG_W,CTDOXY,CTDOXY_FLAG_W,OXYGEN,OXYGEN_FLAG_W,SILCAT,SILCAT_FLAG_W,SILUNC,NITRAT,NITRAT_FLAG_W,NRAUNC,NITRIT,NITRIT_FLAG_W,NRIUNC,PHSPHT,PHSPHT_FLAG_W,PHPUNC,CFC-11,CFC-11_FLAG_W,CFC-12,CFC-12_FLAG_W,CFC113,CFC113_FLAG_W,CCL4,CCL4_FLAG_W,TCARBN,TCARBN_FLAG_W,ALKALI,ALKALI_FLAG_W,PH_TOT,PH_TMP,PH_FLAG_W,DELC13,DELC13_FLAG_W,C13ERR,DELC14,DELC14_FLAG_W,C14ERR,CS-137,CS-137_FLAG_W,CS137ER,PLUTO,PLUTO_FLAG_W,PLUTOER,THETA,SIG0
,,,,,,,,UTC,DEG,DEG,M,DBAR,,ITS-90,,ITS-90,,PSS-78,,PSS-78,,UMOL/KG,,UMOL/KG,,UMOL/KG,,UMOL/KG,UMOL/KG,,UMOL/KG,UMOL/KG,,UMOL/KG,UMOL/KG,,UMOL/KG,PMOL/KG,,PMOL/KG,,PMOL/KG,,PMOL/KG,,UMOL/KG,,UMOL/KG,,,ITS-90,,/MILLE,,/MILLE,/MILLE,,/MILLE,BQ/CUM,,BQ/CUM,MBQ/CUM,,MBQ/CUM,DEG C,KG/CUM
49NZ20070724,   P01,92,1,0,-999,9,20070824,811,46.9938,-145.8067,4808,-999,9,-999,9,-999,9,-999,9,32.384,2,-999,9,-999,9,-999,9,-999,-999,9,-999,-999,9,-999,-999,9,-999,-999,9,-999,9,-999,9,-999,9,-999,9,-999,9,-999,-999,9,-999,9,-999,-999,9,-999,-999,1,-999,-999,1,-999,-999,-999
49NZ20070724,   P01,92,1,36, X12042,2,20070824,811,46.9938,-145.8067,4808,9.8,2,13.4312,2,13.43076,2,32.402,2,32.4039,2,275.79,2,277.53,2,15.99,2,0.15,8.58,2,0.06,0.12,2,0.01,0.996,2,0.013,3.324,2,1.888,2,0.326,2,-999,9,-999,9,-999,9,-999,-999,9,-999,9,-999,-999,9,-999,-999,9,-999,-999,9,-999,13.4299,24.2958
49NZ20070724,   P01,92,1,35, X12041,2,20070824,811,46.9938,-145.8067,4808,49.9,2,7.2029,2,7.20223,2,32.6428,2,32.6531,2,314.17,2,313.82,2,18.18,2,0.16,12.03,2,0.07,0.12,2,0.01,1.24,2,0.013,4.521,2,2.523,2,0.382,2,-999,9,-999,9,-999,9,-999,-999,9,-999,9,-999,-999,9,-999,-999,9,-999,-999,9,-999,7.1984,25.5355
49NZ20070724,   P01,92,1,34, X12036,2,20070824,811,46.9938,-145.8067,4808,100.1,2,5.5431,2,5.54405,2,32.7707,2,32.8542,2,297.63,2,293.86,2,21.34,2,0.17,15.57,2,0.08,0.24,2,0.01,1.397,2,0.014,4.627,2,2.57,2,0.403,2,-999,9,-999,9,-999,9,-999,-999,9,-999,9,-999,-999,9,-999,-999,1,-999,-999,9,-999,5.5353,25.8471
49NZ20070724,   P01,92,1,33, X12033,2,20070824,811,46.9938,-145.8067,4808,149.4,2,5.8748,2,5.87449,2,33.722,2,33.7228,2,226.34,2,227.53,2,34.02,2,0.19,22.43,2,0.1,0.02,2,0.01,1.67,2,0.014,4.089,6,2.205,6,0.292,6,-999,9,-999,9,-999,9,-999,-999,9,-999,9,-999,-999,9,-999,-999,9,-999,-999,9,-999,5.8625,26.5599
49NZ20070724,   P01,92,1,32, X12038,2,20070824,811,46.9938,-145.8067,4808,199.9,2,5.5519,2,5.55078,2,33.8145,2,33.8153,2,181.02,2,178.19,2,47.73,2,0.22,27.77,2,0.11,0.02,2,0.01,2.022,2,0.015,3.55,2,1.859,2,0.222,2,-999,9,-999,9,-999,9,-999,-999,9,-999,9,-999,-999,9,-999,-999,1,-999,-999,9,-999,5.5358,26.6728
49NZ20070724,   P01,92,1,31, X12003,2,20070824,811,46.9938,-145.8067,4808,250.9,2,4.9658,2,4.96673,2,33.8459,2,33.8496,6,133.98,2,133.04,2,60.74,2,0.25,32.87,2,0.12,0.02,2,0.01,2.36,2,0.016,3.03,2,1.528,2,0.2,2,-999,9,-999,9,-999,9,-999,-999,9,-999,9,-999,-999,9,-999,-999,9,-999,-999,9,-999,4.9466,26.7664
49NZ20070724,   P01,92,1,30, X12008,2,20070824,811,46.9938,-145.8067,4808,300.2,2,4.7192,2,4.71941,2,33.9053,2,33.9054,2,100.36,2,100.69,2,70.59,2,0.27,36.14,2,0.13,0.02,2,0.01,2.565,2,0.016,2.512,2,1.244,2,0.148,2,-999,9,-999,9,-999,9,-999,-999,9,-999,9,-999,-999,9,-999,-999,9,-999,-999,9,-999,4.6967,26.8413
49NZ20070724,   P01,92,1,29, X12035,2,20070824,811,46.9938,-145.8067,4808,400,2,4.4591,2,4.45895,2,34.0183,2,34.0218,2,65.73,2,65.4,2,86.37,2,0.31,39.67,2,0.14,0.01,2,0.01,2.813,2,0.017,1.622,2,0.786,2,0.09,2,-999,9,-999,9,-999,9,-999,-999,9,-999,9,-999,-999,9,-999,-999,1,-999,-999,9,-999,4.4295,26.9602
49NZ20070724,   P01,92,1,28, X12034,2,20070824,811,46.9938,-145.8067,4808,501.4,2,4.0961,2,4.09606,2,34.0932,2,34.0945,6,42.9,2,42.82,2,98.87,2,0.34,41.93,2,0.15,0.02,2,0.01,2.965,2,0.017,1.105,2,0.527,2,0.07,2,-999,9,-999,9,-999,9,-999,-999,9,-999,9,-999,-999,9,-999,-999,9,-999,-999,9,-999,4.06,27.0586
49NZ20070724,   P01,92,1,27, X12049,2,20070824,811,46.9938,-145.8067,4808,600.4,2,3.7212,2,3.72064,2,34.1572,2,34.1567,2,28.11,2,28.21,2,111.3,2,0.36,43.47,2,0.15,0.01,2,0.01,3.066,2,0.018,0.693,2,0.327,2,0.041,2,-999,9,-999,9,-999,9,-999,-999,9,-999,9,-999,-999,9,-999,-999,1,-999,-999,9,-999,3.6793,27.148
49NZ20070724,   P01,92,1,26, X12032,2,20070824,811,46.9938,-145.8067,4808,698.4,2,3.5435,2,3.5435,2,34.2213,2,34.2222,2,24.91,2,25.06,2,119.28,2,0.38,43.74,2,0.16,0.01,2,0.01,3.095,2,0.018,0.414,6,0.194,6,0.03,6,-999,9,-999,9,-999,9,-999,-999,9,-999,9,-999,-999,9,-999,-999,9,-999,-999,9,-999,3.4951,27.2171
49NZ20070724,   P01,92,1,25, X12043,2,20070824,811,46.9938,-145.8067,4808,800.8,2,3.3482,2,3.34822,2,34.2866,2,34.2869,2,20.98,2,21.08,2,127.05,2,0.4,44.12,2,0.16,0.02,2,0.01,3.123,2,0.018,0.187,2,0.089,2,0.011,2,-999,9,-999,9,-999,9,-999,-999,9,-999,9,-999,-999,9,-999,-999,1,-999,-999,9,-999,3.2932,27.2885
49NZ20070724,   P01,92,1,24, X12030,2,20070824,811,46.9938,-145.8067,4808,899.5,2,3.1613,2,3.16135,2,34.3289,2,34.3289,2,18.21,2,18.12,2,133.61,2,0.41,44.28,2,0.16,0.01,2,0.01,3.13,2,0.018,0.098,2,0.047,2,0.008,2,-999,9,-999,9,-999,9,-999,-999,9,-999,9,-999,-999,9,-999,-999,9,-999,-999,9,-999,3.1001,27.3402
49NZ20070724,   P01,92,1,23, X12027,2,20070824,811,46.9938,-145.8067,4808,1000.9,2,2.9843,2,2.98424,2,34.3654,2,34.3663,6,14.91,2,14.65,2,140.22,2,0.43,44.73,2,0.16,0.01,2,0.01,3.156,2,0.018,0.04,2,0.019,2,0.006,2,-999,9,-999,9,-999,9,-999,-999,9,-999,9,-999,-999,9,-999,-999,1,-999,-999,9,-999,2.9167,27.3861
49NZ20070724,   P01,92,1,22, X12028,2,20070824,811,46.9938,-145.8067,4808,1199.1,2,2.6697,2,2.66972,2,34.4344,2,34.4347,2,12.57,2,12.33,2,151.55,2,0.45,45.17,2,0.16,0.01,2,0.01,3.185,2,0.018,0.005,2,0.002,2,0,2,-999,9,-999,9,-999,9,-999,-999,9,-999,9,-999,-999,9,-999,-999,9,-999,-999,9,-999,2.5896,27.47
49NZ20070724,   P01,92,1,21, X12009,2,20070824,811,46.9938,-145.8067,4808,1401.1,2,2.4408,2,2.44076,2,34.4836,2,34.4837,2,15.73,2,15.45,2,158.98,2,0.47,45.21,2,0.16,0.01,2,0.01,3.169,2,0.018,0.005,2,0.003,2,0,2,-999,9,-999,9,-999,9,-999,-999,9,-999,9,-999,-999,9,-999,-999,9,-999,-999,9,-999,2.3474,27.5298
49NZ20070724,   P01,92,1,20, X12026,2,20070824,811,46.9938,-145.8067,4808,1601.8,2,2.2411,2,2.2413,2,34.5254,2,34.5249,2,25.53,2,25.23,2,164.33,2,0.48,44.77,2,0.16,0.01,2,0.01,3.121,2,0.018,0,2,0,2,0,2,-999,9,-999,9,-999,9,-999,-999,9,-999,9,-999,-999,9,-999,-999,9,-999,-999,9,-999,2.1342,27.5807
49NZ20070724,   P01,92,1,19, X12025,2,20070824,811,46.9938,-145.8067,4808,1800,2,2.0802,2,2.08028,2,34.5582,2,34.5583,2,38.63,2,38.39,2,167.54,2,0.49,43.85,2,0.16,0.01,2,0.01,3.07,2,0.018,0,2,0.001,2,0.006,2,-999,9,-999,9,-999,9,-999,-999,9,-999,9,-999,-999,9,-999,-999,9,-999,-999,9,-999,1.9593,27.6209
49NZ20070724,   P01,92,1,18, X12024,2,20070824,811,46.9938,-145.8067,4808,2001.9,2,1.9416,2,1.94173,2,34.5857,2,34.5856,2,53.01,2,52.91,2,169.48,2,0.49,43.1,2,0.15,0.01,2,0.01,3.003,2,0.017,0.001,2,0,2,0,2,-999,9,-999,9,-999,9,-999,-999,9,-999,9,-999,-999,9,-999,-999,1,-999,-999,9,-999,1.806,27.6549
49NZ20070724,   P01,92,1,17, X12023,2,20070824,811,46.9938,-145.8067,4808,2200.4,2,1.843,2,1.84294,2,34.6052,2,34.6052,2,64.73,2,64.46,2,170.7,2,0.49,42.32,2,0.15,0.01,2,0.01,2.953,2,0.017,0,2,0,2,0,2,-999,9,-999,9,-999,9,-999,-999,9,-999,9,-999,-999,9,-999,-999,9,-999,-999,9,-999,1.6922,27.6791
49NZ20070724,   P01,92,1,16, X12022,2,20070824,811,46.9938,-145.8067,4808,2399.4,2,1.7575,2,1.75742,2,34.6211,2,34.621,6,76.24,2,76,2,170.26,2,0.49,41.52,2,0.15,0.01,2,0.01,2.907,2,0.017,0,2,0.002,2,0,2,-999,9,-999,9,-999,9,-999,-999,9,-999,9,-999,-999,9,-999,-999,9,-999,-999,9,-999,1.5908,27.6994
49NZ20070724,   P01,92,1,15, X12021,2,20070824,811,46.9938,-145.8067,4808,2601.9,2,1.6719,2,1.67193,2,34.6363,2,34.6364,2,89.51,2,89.4,2,169.42,2,0.49,40.71,2,0.15,0.01,2,0.01,2.837,2,0.017,-999,9,-999,9,-999,9,-999,9,-999,9,-999,9,-999,-999,9,-999,9,-999,-999,9,-999,-999,9,-999,-999,9,-999,1.4887,27.7191
49NZ20070724,   P01,92,1,14, X12020,2,20070824,811,46.9938,-145.8067,4808,2800.8,2,1.6115,2,1.61141,2,34.6476,2,34.6477,2,100.25,2,100.23,2,168.36,2,0.49,39.95,2,0.14,0.01,2,0.01,2.782,2,0.017,-999,9,-999,9,-999,9,-999,9,-999,9,-999,9,-999,-999,9,-999,9,-999,-999,9,-999,-999,9,-999,-999,9,-999,1.4112,27.7337
49NZ20070724,   P01,92,1,13, X12019,2,20070824,811,46.9938,-145.8067,4808,3003.1,2,1.5629,2,1.56292,2,34.6572,2,34.6573,2,109.98,2,109.99,2,167.6,2,0.49,39.35,2,0.14,0.01,2,0.01,2.743,2,0.017,0,2,0,2,0,2,-999,9,-999,9,-999,9,-999,-999,9,-999,9,-999,-999,9,-999,-999,1,-999,-999,9,-999,1.3445,27.7463
49NZ20070724,   P01,92,1,12, X12040,2,20070824,811,46.9938,-145.8067,4808,3251.8,2,1.5207,2,1.52077,2,34.6665,2,34.6668,2,120.28,2,120.22,2,166.05,2,0.48,38.62,2,0.14,0.01,2,0.01,2.674,2,0.017,-999,9,-999,9,-999,9,-999,9,-999,9,-999,9,-999,-999,9,-999,9,-999,-999,9,-999,-999,9,-999,-999,9,-999,1.2791,27.7583
49NZ20070724,   P01,92,1,11, X12047,2,20070824,811,46.9938,-145.8067,4808,3499.7,2,1.4971,2,1.49696,2,34.673,2,34.6731,2,128.08,2,128.12,2,165.23,2,0.48,38.09,2,0.14,0.01,2,0.01,2.642,2,0.017,-999,9,-999,9,-999,9,-999,9,-999,9,-999,9,-999,-999,9,-999,9,-999,-999,9,-999,-999,9,-999,-999,9,-999,1.2311,27.7669
49NZ20070724,   P01,92,1,10, X12010,2,20070824,811,46.9938,-145.8067,4808,3750.3,2,1.4889,2,1.4889,2,34.6779,2,34.6778,6,133.39,2,133.66,2,165.23,2,0.48,37.75,2,0.14,0.01,2,0.01,2.62,2,0.017,0,2,0,2,0,2,-999,9,-999,9,-999,9,-999,-999,9,-999,9,-999,-999,9,-999,-999,9,-999,-999,9,-999,1.1971,27.7732
49NZ20070724,   P01,92,1,9, X12015,2,20070824,811,46.9938,-145.8067,4808,4001.6,2,1.4939,2,1.49403,2,34.6812,2,34.6813,2,136.75,2,137.01,2,166.24,2,0.48,37.5,2,0.14,0.01,2,0.01,2.602,2,0.016,-999,9,-999,9,-999,9,-999,9,-999,9,-999,9,-999,-999,9,-999,9,-999,-999,9,-999,-999,1,-999,-999,9,-999,1.175,27.7773
49NZ20070724,   P01,92,1,8, X12046,2,20070824,811,46.9938,-145.8067,4808,4251.6,2,1.5111,2,1.51128,2,34.6834,2,34.6834,2,138.21,2,138.66,2,168.09,2,0.49,37.53,2,0.14,0.01,2,0.01,2.595,2,0.016,-999,9,-999,9,-999,9,-999,9,-999,9,-999,9,-999,-999,9,-999,9,-999,-999,9,-999,-999,9,-999,-999,9,-999,1.1641,27.7799
49NZ20070724,   P01,92,1,7, X12044,2,20070824,811,46.9938,-145.8067,4808,4500.1,2,1.533,2,1.53308,2,34.6847,2,34.6847,2,139.26,2,139.54,2,169.39,2,0.49,37.48,2,0.14,0.01,2,0.01,2.59,2,0.016,0,2,0.003,2,0,2,-999,9,-999,9,-999,9,-999,-999,9,-999,9,-999,-999,9,-999,-999,9,-999,-999,9,-999,1.157,27.7814
49NZ20070724,   P01,92,1,6, X12048,2,20070824,811,46.9938,-145.8067,4808,4750.5,2,1.5563,2,1.55636,2,34.6856,2,34.6857,2,140.52,2,140.7,2,170.28,2,0.49,37.41,2,0.14,0.01,2,0.01,2.578,2,0.016,-999,9,-999,9,-999,9,-999,9,-999,9,-999,9,-999,-999,9,-999,9,-999,-999,9,-999,-999,9,-999,-999,9,-999,1.1502,27.7826
49NZ20070724,   P01,92,1,5, X12017,2,20070824,811,46.9938,-145.8067,4808,2001.2,2,1.9418,2,1.94188,2,34.5856,2,-999,9,53.11,2,-999,9,-999,9,-999,-999,9,-999,-999,9,-999,-999,9,-999,-999,9,-999,9,-999,9,-999,9,-999,9,-999,9,-999,-999,9,-999,9,-999,-999,9,-999,-999,1,-999,-999,9,-999,1.8063,27.6548
49NZ20070724,   P01,92,1,4, X12928,2,20070824,811,46.9938,-145.8067,4808,3002.8,2,1.5631,2,1.56315,2,34.6572,2,-999,9,109.98,2,-999,9,-999,9,-999,-999,9,-999,-999,9,-999,-999,9,-999,-999,9,-999,9,-999,9,-999,9,-999,9,-999,9,-999,-999,9,-999,9,-999,-999,9,-999,-999,1,-999,-999,9,-999,1.3447,27.7462
49NZ20070724,   P01,92,1,3, X12931,2,20070824,811,46.9938,-145.8067,4808,4001.3,2,1.494,2,1.49412,2,34.6812,2,-999,9,136.78,2,-999,9,-999,9,-999,-999,9,-999,-999,9,-999,-999,9,-999,-999,9,-999,9,-999,9,-999,9,-999,9,-999,9,-999,-999,9,-999,9,-999,-999,9,-999,-999,1,-999,-999,9,-999,1.1751,27.7773
49NZ20070724,   P01,92,1,2, X12930,2,20070824,811,46.9938,-145.8067,4808,4882,2,1.5704,2,1.57043,2,34.6861,2,-999,9,140.69,2,-999,9,-999,9,-999,-999,9,-999,-999,9,-999,-999,9,-999,-999,9,-999,9,-999,9,-999,9,-999,9,-999,9,-999,-999,9,-999,9,-999,-999,9,-999,-999,1,-999,-999,9,-999,1.1481,27.7831
49NZ20070724,   P01,92,1,1, X12929,2,20070824,811,46.9938,-145.8067,4808,4881.9,2,1.5704,2,1.57034,2,34.6861,2,34.6861,6,140.71,2,140.78,2,171.94,2,0.5,37.44,2,0.14,0.01,2,0.01,2.595,2,0.016,0.002,2,0,2,0,2,-999,9,-999,9,-999,9,-999,-999,9,-999,9,-999,-999,9,-999,-999,1,-999,-999,9,-999,1.1481,27.7831