BOTTLE,20081214JAMSTECIORGC,,,,,,,,,,,,,,,,,,,,,,,,,,,,,,,,,,,,,,,,,,,,,,,,,,,,,,,,,,,,,,,,,
EXPOCODE,SECT,STNNBR,CASTNO,SAMPNO,BTLNBR,BTLNBR_FLAG_W,DATE,TIME,LATITUDE,LONGITUDE,DEPTH,CTDPRS,CTDPRS_FLAG_W,CTDTMP,CTDTMP_FLAG_W,SBE35,SBE35_FLAG_W,CTDSAL,CTDSAL_FLAG_W,SALNTY,SALNTY_FLAG_W,CTDOXY,CTDOXY_FLAG_W,OXYGEN,OXYGEN_FLAG_W,SILCAT,SILCAT_FLAG_W,SILUNC,NITRAT,NITRAT_FLAG_W,NRAUNC,NITRIT,NITRIT_FLAG_W,NRIUNC,PHSPHT,PHSPHT_FLAG_W,PHPUNC,CFC-11,CFC-11_FLAG_W,CFC-12,CFC-12_FLAG_W,CFC113,CFC113_FLAG_W,CCL4,CCL4_FLAG_W,TCARBN,TCARBN_FLAG_W,ALKALI,ALKALI_FLAG_W,PH_TOT,PH_TMP,PH_FLAG_W,DELC13,DELC13_FLAG_W,C13ERR,DELC14,DELC14_FLAG_W,C14ERR,CS-137,CS-137_FLAG_W,CS137ER,PLUTO,PLUTO_FLAG_W,PLUTOER,THETA,SIG0
,,,,,,,,UTC,DEG,DEG,M,DBAR,,ITS-90,,ITS-90,,PSS-78,,PSS-78,,UMOL/KG,,UMOL/KG,,UMOL/KG,,UMOL/KG,UMOL/KG,,UMOL/KG,UMOL/KG,,UMOL/KG,UMOL/KG,,UMOL/KG,PMOL/KG,,PMOL/KG,,PMOL/KG,,PMOL/KG,,UMOL/KG,,UMOL/KG,,,ITS-90,,/MILLE,,/MILLE,/MILLE,,/MILLE,BQ/CUM,,BQ/CUM,MBQ/CUM,,MBQ/CUM,DEG C,KG/CUM
49NZ20070724,   P01,105,1,0,-999,9,20070827,1620,47.0065,-131.2317,2945,-999,9,-999,9,-999,9,-999,9,32.3607,2,-999,9,-999,9,-999,9,-999,-999,9,-999,-999,9,-999,-999,9,-999,-999,9,-999,9,-999,9,-999,9,-999,9,-999,9,-999,-999,9,-999,9,-999,-999,9,-999,-999,9,-999,-999,9,-999,-999,-999
49NZ20070724,   P01,105,1,36, X12042,2,20070827,1620,47.0065,-131.2317,2945,10.5,2,16.3643,2,16.36025,2,32.3615,2,32.3525,2,258.33,2,255.93,2,5.94,2,0.13,0.47,2,0.03,0.03,2,0.01,0.484,2,0.013,2.685,2,1.569,2,-999,5,-999,9,1951.9,2,2179.6,2,7.9709,25,6,-999,9,-999,-999,9,-999,-999,9,-999,-999,9,-999,16.3627,23.6371
49NZ20070724,   P01,105,1,35, X12041,2,20070827,1620,47.0065,-131.2317,2945,50.6,2,9.1442,2,9.08512,2,32.4159,2,32.4183,2,283.24,2,288.6,2,7.52,2,0.14,6.68,2,0.05,0.56,2,0,0.954,2,0.013,3.892,2,2.188,2,0.391,2,-999,9,2014.6,6,2178,2,7.8303,25,2,-999,9,-999,-999,9,-999,-999,9,-999,-999,9,-999,9.1389,25.0735
49NZ20070724,   P01,105,1,34, X12036,2,20070827,1620,47.0065,-131.2317,2945,99.9,2,7.4945,2,7.49396,2,32.7012,2,32.7712,2,252.67,2,249.19,2,15.52,2,0.15,15.08,2,0.08,0.03,2,0.01,1.36,2,0.014,4.019,2,2.228,2,0.329,2,-999,9,2066.7,2,2196.5,6,7.7294,25,2,-999,9,-999,-999,9,-999,-999,9,-999,-999,9,-999,7.4852,25.542
49NZ20070724,   P01,105,1,33, X12033,2,20070827,1620,47.0065,-131.2317,2945,150.6,2,7.0651,2,7.06809,2,33.707,2,33.7237,2,148.36,2,147.87,2,36.21,2,0.2,27.7,2,0.11,0.02,2,0.01,2.044,2,0.015,3.462,6,1.821,6,0.234,6,-999,9,2186.7,2,2250.8,2,7.544,25,6,-999,9,-999,-999,9,-999,-999,9,-999,-999,9,-999,7.0513,26.3933
49NZ20070724,   P01,105,1,32, X12038,2,20070827,1620,47.0065,-131.2317,2945,201.5,2,6.6732,2,6.67516,2,33.8576,2,33.8559,2,122.88,2,124.78,2,43.84,2,0.22,30.52,2,0.12,0.02,2,0.01,2.215,2,0.016,3.099,2,1.596,2,0.207,2,-999,9,2212.2,2,2262.8,2,7.5001,25,2,-999,9,-999,-999,9,-999,-999,9,-999,-999,9,-999,6.6552,26.5653
49NZ20070724,   P01,105,1,31, X12003,2,20070827,1620,47.0065,-131.2317,2945,251.4,2,6.3159,2,6.31631,2,33.9058,2,33.9043,6,105.29,2,106.35,2,50.73,2,0.23,32.88,2,0.12,0.01,2,0.01,2.373,2,0.016,2.755,2,1.387,2,0.171,2,-999,9,2232.9,2,2271.7,2,7.4656,25,2,-999,9,-999,-999,9,-999,-999,9,-999,-999,9,-999,6.294,26.6506
49NZ20070724,   P01,105,1,30, X12008,2,20070827,1620,47.0065,-131.2317,2945,330.4,2,5.8161,2,5.81612,2,33.9623,2,33.9639,2,75.56,2,74.49,2,61.71,2,0.25,36.71,2,0.14,0.02,2,0.01,2.633,2,0.017,2.144,2,1.04,2,0.138,2,-999,9,2264.9,2,2279.7,2,7.4056,25,2,-999,9,-999,-999,9,-999,-999,9,-999,-999,9,-999,5.7884,26.759
49NZ20070724,   P01,105,1,29, X12035,2,20070827,1620,47.0065,-131.2317,2945,432.7,2,4.8368,2,4.83707,2,33.9799,2,33.9807,2,57.87,2,57.87,2,76.49,2,0.29,39.91,2,0.14,0.02,2,0.01,2.837,2,0.017,1.717,2,0.812,2,0.092,2,-999,9,2292.8,2,2297.5,2,7.3607,25,2,-999,9,-999,-999,9,-999,-999,9,-999,-999,9,-999,4.8035,26.8887
49NZ20070724,   P01,105,1,28, X12034,2,20070827,1620,47.0065,-131.2317,2945,530.6,2,4.6731,2,4.67348,2,34.1141,2,34.114,6,25.76,2,26.04,2,89.49,2,0.32,42.21,2,0.15,0.02,2,0.01,3.053,2,0.018,0.726,2,0.337,2,0.043,2,-999,9,2323.9,2,2316.5,2,7.3247,25,2,-999,9,-999,-999,9,-999,-999,9,-999,-999,9,-999,4.6324,27.0142
49NZ20070724,   P01,105,1,27, X12049,2,20070827,1620,47.0065,-131.2317,2945,630.1,2,4.2877,2,4.28705,2,34.1717,2,34.1715,2,17.56,2,17.81,2,100.48,2,0.34,43.25,2,0.15,0.01,2,0.01,3.125,2,0.018,0.41,2,0.19,2,0.022,2,-999,9,2342.2,2,2330.2,2,7.3168,25,2,-999,9,-999,-999,9,-999,-999,9,-999,-999,9,-999,4.2407,27.1022
49NZ20070724,   P01,105,1,26, X12032,2,20070827,1620,47.0065,-131.2317,2945,729.8,2,3.9573,2,3.957,2,34.2286,2,34.2311,2,12.9,2,12.48,2,111,2,0.36,43.99,2,0.16,0.01,2,0.01,3.168,2,0.018,0.195,6,0.091,6,0.018,6,-999,9,2354.7,6,2344.6,2,7.3089,25,2,-999,9,-999,-999,9,-999,-999,9,-999,-999,9,-999,3.9042,27.1823
49NZ20070724,   P01,105,1,25, X12043,2,20070827,1620,47.0065,-131.2317,2945,832.2,2,3.7793,2,3.77887,2,34.3026,2,34.3022,2,9.36,2,9.09,2,118.59,2,0.38,44.18,2,0.16,0.02,2,0.01,3.22,2,0.018,0.08,2,0.037,2,0.01,2,-999,9,2366.4,2,2356.4,2,7.3153,25,2,-999,9,-999,-999,9,-999,-999,9,-999,-999,9,-999,3.7191,27.2598
49NZ20070724,   P01,105,1,24, X12030,2,20070827,1620,47.0065,-131.2317,2945,930.3,2,3.5588,2,3.559,2,34.3584,2,34.3579,2,9.19,2,8.97,2,126.24,2,0.4,44.37,2,0.16,0.01,2,0.01,3.213,2,0.018,0.046,2,0.019,2,0.009,2,-999,9,2373.6,2,2367.8,2,7.3227,25,6,-999,9,-999,-999,9,-999,-999,9,-999,-999,9,-999,3.4923,27.3266
49NZ20070724,   P01,105,1,23, X12027,2,20070827,1620,47.0065,-131.2317,2945,1071.3,2,3.1611,2,3.16103,2,34.4057,2,34.4057,6,11.1,2,11.1,2,137.49,2,0.42,44.61,2,0.16,0.01,2,0.01,3.216,2,0.018,0.02,2,0.009,2,0.007,2,-999,9,2382.7,2,2379.4,2,7.3277,25,2,-999,9,-999,-999,9,-999,-999,9,-999,-999,9,-999,3.0866,27.4028
49NZ20070724,   P01,105,1,22, X12028,2,20070827,1620,47.0065,-131.2317,2945,1270.5,2,2.7731,2,2.77296,2,34.4502,2,34.4507,2,15.32,2,15.08,2,148.73,2,0.45,44.71,2,0.16,0.01,2,0.01,3.192,2,0.018,0,2,0.001,2,0.006,2,-999,9,2394.2,2,2390.4,2,7.3371,25,2,-999,9,-999,-999,9,-999,-999,9,-999,-999,9,-999,2.6865,27.4742
49NZ20070724,   P01,105,1,21, X12009,2,20070827,1620,47.0065,-131.2317,2945,1471.1,2,2.4601,2,2.46028,2,34.5062,2,34.5063,2,26.04,2,25.86,2,157.5,2,0.47,44.11,2,0.16,0.02,2,0.01,3.133,2,0.018,0.001,2,0.002,2,0.006,2,-999,9,2393.9,2,2400.8,2,7.36,25,2,-999,9,-999,-999,9,-999,-999,9,-999,-999,9,-999,2.361,27.5467
49NZ20070724,   P01,105,1,20, X12026,2,20070827,1620,47.0065,-131.2317,2945,1669.8,2,2.1886,2,2.18835,2,34.5495,2,34.5498,6,40.82,2,40.77,2,164.5,2,0.48,43.22,2,0.15,0.01,2,0.01,3.059,2,0.018,0.002,2,0.002,2,0,2,-999,9,2393.3,2,2410.2,2,7.3906,25,6,-999,9,-999,-999,9,-999,-999,9,-999,-999,9,-999,2.0768,27.6046
49NZ20070724,   P01,105,1,19, X12025,2,20070827,1620,47.0065,-131.2317,2945,1870.2,2,2.0282,2,2.02867,2,34.5799,2,34.5798,2,54.08,2,53.91,2,168.76,2,0.49,42.39,2,0.15,0.01,2,0.01,3.002,2,0.017,0,2,0.001,2,0.002,2,-999,9,2388.7,2,2416.8,2,7.4193,25,2,-999,9,-999,-999,9,-999,-999,9,-999,-999,9,-999,1.9023,27.6428
49NZ20070724,   P01,105,1,18, X12024,2,20070827,1620,47.0065,-131.2317,2945,2071.9,2,1.935,2,1.93492,2,34.5962,2,34.5962,2,61.78,2,61.64,2,170.77,2,0.49,41.9,2,0.15,0.01,2,0.01,2.971,2,0.017,0.003,2,0.001,2,0.003,2,-999,9,2386.4,2,2420.1,2,7.4336,25,2,-999,9,-999,-999,9,-999,-999,9,-999,-999,9,-999,1.7936,27.6642
49NZ20070724,   P01,105,1,17, X12023,2,20070827,1620,47.0065,-131.2317,2945,2270.9,2,1.8184,2,1.81844,2,34.6161,2,34.6161,6,73.12,2,73.14,2,172.78,2,0.5,41.28,2,0.15,0.01,2,0.01,2.922,2,0.017,0.005,2,0.003,2,0.005,2,-999,9,2381.9,2,2423.4,2,7.4592,25,2,-999,9,-999,-999,9,-999,-999,9,-999,-999,9,-999,1.6619,27.6901
49NZ20070724,   P01,105,1,16, X12022,2,20070827,1620,47.0065,-131.2317,2945,2471.4,2,1.7568,2,1.75676,2,34.6275,2,34.6274,2,81.19,2,81.24,2,173.3,2,0.5,40.76,2,0.15,0.01,2,0.01,2.887,2,0.017,0,2,0,2,0,2,-999,9,2377.6,6,2425.5,2,7.4735,25,2,-999,9,-999,-999,9,-999,-999,9,-999,-999,9,-999,1.5837,27.7051
49NZ20070724,   P01,105,1,15, X12021,2,20070827,1620,47.0065,-131.2317,2945,2668.8,2,1.7152,2,1.7152,2,34.6348,2,34.6349,2,87.31,2,87.55,2,173.38,2,0.5,40.48,2,0.15,0.01,2,0.01,2.854,2,0.017,0,2,0,2,0,2,-999,9,2374.9,2,2426.6,6,7.4852,25,2,-999,9,-999,-999,9,-999,-999,9,-999,-999,9,-999,1.525,27.7152
49NZ20070724,   P01,105,1,14, X12020,2,20070827,1620,47.0065,-131.2317,2945,2871,2,1.694,2,1.69405,2,34.6401,2,34.6401,2,91.66,2,91.75,2,173.84,2,0.5,40.19,2,0.15,0.02,2,0.01,2.835,2,0.017,0,2,0,2,0,2,-999,9,2371.8,2,2427.6,2,7.4942,25,6,-999,9,-999,-999,9,-999,-999,9,-999,-999,9,-999,1.4854,27.7224
49NZ20070724,   P01,105,1,13, X12019,9,20070827,1620,47.0065,-131.2317,2945,10.9,2,16.3834,2,16.38255,2,32.3628,2,-999,9,258.37,2,-999,9,-999,9,-999,-999,9,-999,-999,9,-999,-999,9,-999,-999,9,-999,9,-999,9,-999,9,-999,9,-999,9,-999,-999,9,-999,9,-999,-999,9,-999,-999,9,-999,-999,9,-999,16.3817,23.6337
49NZ20070724,   P01,105,1,12, X12040,9,20070827,1620,47.0065,-131.2317,2945,50.4,2,9.4809,2,9.46809,2,32.4006,2,-999,9,278.7,2,-999,9,-999,9,-999,-999,9,-999,-999,9,-999,-999,9,-999,-999,9,-999,9,-999,9,-999,9,-999,9,-999,9,-999,-999,9,-999,9,-999,-999,9,-999,-999,9,-999,-999,9,-999,9.4755,25.0082
49NZ20070724,   P01,105,1,11, X12047,9,20070827,1620,47.0065,-131.2317,2945,100.3,2,7.4995,2,7.49698,2,32.7165,2,-999,9,251.52,2,-999,9,-999,9,-999,-999,9,-999,-999,9,-999,-999,9,-999,-999,9,-999,9,-999,9,-999,9,-999,9,-999,9,-999,-999,9,-999,9,-999,-999,9,-999,-999,9,-999,-999,9,-999,7.4901,25.5533
49NZ20070724,   P01,105,1,10, X12010,9,20070827,1620,47.0065,-131.2317,2945,150.1,2,7.0355,2,7.02838,2,33.7212,2,-999,9,146.4,2,-999,9,-999,9,-999,-999,9,-999,-999,9,-999,-999,9,-999,-999,9,-999,9,-999,9,-999,9,-999,9,-999,9,-999,-999,9,-999,9,-999,-999,9,-999,-999,9,-999,-999,9,-999,7.0217,26.4085
49NZ20070724,   P01,105,1,9, X12015,9,20070827,1620,47.0065,-131.2317,2945,200.3,2,6.6873,2,6.68633,2,33.8571,2,-999,9,123.26,2,-999,9,-999,9,-999,-999,9,-999,-999,9,-999,-999,9,-999,-999,9,-999,9,-999,9,-999,9,-999,9,-999,9,-999,-999,9,-999,9,-999,-999,9,-999,-999,9,-999,-999,9,-999,6.6694,26.5631
49NZ20070724,   P01,105,1,8, X12046,9,20070827,1620,47.0065,-131.2317,2945,10.6,2,16.3682,2,16.36724,2,32.362,2,-999,9,258.37,2,-999,9,-999,9,-999,-999,9,-999,-999,9,-999,-999,9,-999,-999,9,-999,9,-999,9,-999,9,-999,9,-999,9,-999,-999,9,-999,9,-999,-999,9,-999,-999,9,-999,-999,9,-999,16.3665,23.6366
49NZ20070724,   P01,105,1,7, X12044,9,20070827,1620,47.0065,-131.2317,2945,50.3,2,9.1181,2,9.13818,2,32.4192,2,-999,9,285.2,2,-999,9,-999,9,-999,-999,9,-999,-999,9,-999,-999,9,-999,-999,9,-999,9,-999,9,-999,9,-999,9,-999,9,-999,-999,9,-999,9,-999,-999,9,-999,-999,9,-999,-999,9,-999,9.1128,25.0802
49NZ20070724,   P01,105,1,6, X12048,9,20070827,1620,47.0065,-131.2317,2945,99.8,2,7.4907,2,7.4905,2,32.7127,2,-999,9,252.52,2,-999,9,-999,9,-999,-999,9,-999,-999,9,-999,-999,9,-999,-999,9,-999,9,-999,9,-999,9,-999,9,-999,9,-999,-999,9,-999,9,-999,-999,9,-999,-999,9,-999,-999,9,-999,7.4814,25.5516
49NZ20070724,   P01,105,1,5, X12014,9,20070827,1620,47.0065,-131.2317,2945,150.6,2,7.065,2,7.06295,2,33.7072,2,-999,9,148.09,2,-999,9,-999,9,-999,-999,9,-999,-999,9,-999,-999,9,-999,-999,9,-999,9,-999,9,-999,9,-999,9,-999,9,-999,-999,9,-999,9,-999,-999,9,-999,-999,9,-999,-999,9,-999,7.0512,26.3935
49NZ20070724,   P01,105,1,4, X12928,9,20070827,1620,47.0065,-131.2317,2945,200.9,2,6.6752,2,6.67633,2,33.8576,2,-999,9,122.81,2,-999,9,-999,9,-999,-999,9,-999,-999,9,-999,-999,9,-999,-999,9,-999,9,-999,9,-999,9,-999,9,-999,9,-999,-999,9,-999,9,-999,-999,9,-999,-999,9,-999,-999,9,-999,6.6572,26.5651
49NZ20070724,   P01,105,1,3, X12931,9,20070827,1620,47.0065,-131.2317,2945,35,2,13.1884,2,13.1892,2,32.3406,2,-999,9,292.97,2,-999,9,-999,9,-999,-999,9,-999,-999,9,-999,-999,9,-999,-999,9,-999,9,-999,9,-999,9,-999,9,-999,9,-999,-999,9,-999,9,-999,-999,9,-999,-999,9,-999,-999,9,-999,13.1837,24.2973
49NZ20070724,   P01,105,1,2, X12930,2,20070827,1620,47.0065,-131.2317,2945,35,2,13.2097,2,13.20082,2,32.3383,2,-999,9,292.38,2,292.18,2,6.48,2,0.13,1.91,2,0.04,0.05,2,0.01,0.607,2,0.013,-999,9,-999,9,-999,9,-999,9,-999,9,-999,9,-999,-999,9,-999,9,-999,-999,9,-999,-999,9,-999,-999,9,-999,13.205,24.2913
49NZ20070724,   P01,105,1,1, X12929,2,20070827,1620,47.0065,-131.2317,2945,2969.2,2,1.6709,2,1.67067,2,34.6444,2,34.6448,6,94.96,2,95.26,2,173.91,2,0.5,39.89,2,0.14,0.01,2,0.01,2.801,2,0.017,0.003,2,0.002,2,0,2,-999,9,2369,2,2428.3,2,7.4994,25,6,-999,9,-999,-999,9,-999,-999,9,-999,-999,9,-999,1.4535,27.7282