BOTTLE,20081214JAMSTECIORGC,,,,,,,,,,,,,,,,,,,,,,,,,,,,,,,,,,,,,,,,,,,,,,,,,,,,,,,,,,,,,,,,,
EXPOCODE,SECT,STNNBR,CASTNO,SAMPNO,BTLNBR,BTLNBR_FLAG_W,DATE,TIME,LATITUDE,LONGITUDE,DEPTH,CTDPRS,CTDPRS_FLAG_W,CTDTMP,CTDTMP_FLAG_W,SBE35,SBE35_FLAG_W,CTDSAL,CTDSAL_FLAG_W,SALNTY,SALNTY_FLAG_W,CTDOXY,CTDOXY_FLAG_W,OXYGEN,OXYGEN_FLAG_W,SILCAT,SILCAT_FLAG_W,SILUNC,NITRAT,NITRAT_FLAG_W,NRAUNC,NITRIT,NITRIT_FLAG_W,NRIUNC,PHSPHT,PHSPHT_FLAG_W,PHPUNC,CFC-11,CFC-11_FLAG_W,CFC-12,CFC-12_FLAG_W,CFC113,CFC113_FLAG_W,CCL4,CCL4_FLAG_W,TCARBN,TCARBN_FLAG_W,ALKALI,ALKALI_FLAG_W,PH_TOT,PH_TMP,PH_FLAG_W,DELC13,DELC13_FLAG_W,C13ERR,DELC14,DELC14_FLAG_W,C14ERR,CS-137,CS-137_FLAG_W,CS137ER,PLUTO,PLUTO_FLAG_W,PLUTOER,THETA,SIG0
,,,,,,,,UTC,DEG,DEG,M,DBAR,,ITS-90,,ITS-90,,PSS-78,,PSS-78,,UMOL/KG,,UMOL/KG,,UMOL/KG,,UMOL/KG,UMOL/KG,,UMOL/KG,UMOL/KG,,UMOL/KG,UMOL/KG,,UMOL/KG,PMOL/KG,,PMOL/KG,,PMOL/KG,,PMOL/KG,,UMOL/KG,,UMOL/KG,,,ITS-90,,/MILLE,,/MILLE,/MILLE,,/MILLE,BQ/CUM,,BQ/CUM,MBQ/CUM,,MBQ/CUM,DEG C,KG/CUM
49NZ20070724,   P01,73,1,0,-999,9,20070818,947,47.0022,-167.083,5427,-999,9,-999,9,-999,9,-999,9,32.6149,2,-999,9,-999,9,-999,9,-999,-999,9,-999,-999,9,-999,-999,9,-999,-999,9,-999,9,-999,9,-999,9,-999,9,-999,9,-999,-999,9,-999,9,-999,-999,9,-999,-999,9,-999,-999,9,-999,-999,-999
49NZ20070724,   P01,73,1,36, X12042,2,20070818,947,47.0022,-167.083,5427,10,2,14.3659,2,14.36375,2,32.626,2,32.6288,2,270.37,2,269.54,2,14.46,2,0.15,9.04,2,0.06,0.15,2,0.01,0.994,2,0.013,3.056,2,1.771,2,0.274,2,4.242,4,-999,9,-999,9,-999,-999,9,-999,9,-999,-999,9,-999,-999,9,-999,-999,9,-999,14.3645,24.2774
49NZ20070724,   P01,73,1,35, X12041,2,20070818,947,47.0022,-167.083,5427,49.8,2,6.6385,2,6.6429,2,33.1325,2,33.1328,2,311.87,2,311.81,2,23.74,2,0.17,13.9,2,0.07,0.22,2,0.01,1.35,2,0.014,4.45,2,2.518,2,0.396,2,6.01,4,-999,9,-999,9,-999,-999,9,-999,9,-999,-999,9,-999,-999,9,-999,-999,9,-999,6.6342,25.9964
49NZ20070724,   P01,73,1,34, X12036,2,20070818,947,47.0022,-167.083,5427,100.4,2,5.9989,2,6.0007,2,33.3518,2,33.3662,2,295.88,2,295.13,2,23.57,2,0.17,15.46,2,0.08,0.11,2,0.01,1.342,2,0.014,4.351,2,2.463,2,0.382,2,5.802,4,-999,9,-999,9,-999,-999,9,-999,9,-999,-999,9,-999,-999,9,-999,-999,9,-999,5.9906,26.2515
49NZ20070724,   P01,73,1,33, X12033,2,20070818,947,47.0022,-167.083,5427,150.4,2,5.277,2,5.27712,2,33.6676,2,33.6709,2,234.11,2,233.63,2,39.82,2,0.21,23.62,2,0.1,0.02,2,0.01,1.842,2,0.015,3.98,6,2.189,6,0.28,6,3.915,4,-999,9,-999,9,-999,-999,9,-999,9,-999,-999,9,-999,-999,9,-999,-999,9,-999,5.2653,26.5885
49NZ20070724,   P01,73,1,32, X12038,2,20070818,947,47.0022,-167.083,5427,199.7,2,4.8677,2,4.86783,2,33.7771,2,33.7916,2,176.1,2,171.16,2,55.99,2,0.24,29.51,2,0.12,0.02,2,0.01,2.233,2,0.016,3.26,2,1.728,2,0.211,2,2.86,4,-999,9,-999,9,-999,-999,9,-999,9,-999,-999,9,-999,-999,9,-999,-999,9,-999,4.8527,26.7223
49NZ20070724,   P01,73,1,31, X12003,2,20070818,947,47.0022,-167.083,5427,250.7,2,4.6493,2,4.64854,2,33.8589,2,33.8572,6,131.22,2,131.69,2,67.5,2,0.27,33.38,2,0.13,0.01,2,0.01,2.485,2,0.016,2.746,2,1.426,2,0.162,2,2.246,4,-999,9,-999,9,-999,-999,9,-999,9,-999,-999,9,-999,-999,9,-999,-999,9,-999,4.6307,26.8118
49NZ20070724,   P01,73,1,30, X12008,2,20070818,947,47.0022,-167.083,5427,330.6,2,4.2926,2,4.29218,2,33.9447,2,33.9478,2,92.16,2,92.13,2,81.87,2,0.3,37.3,2,0.14,0.01,2,0.01,2.726,2,0.017,2.097,2,1.067,2,0.127,2,1.671,4,-999,9,-999,9,-999,-999,9,-999,9,-999,-999,9,-999,-999,9,-999,-999,9,-999,4.2688,26.9188
49NZ20070724,   P01,73,1,29, X12035,2,20070818,947,47.0022,-167.083,5427,430.4,2,3.899,2,3.89866,2,34.0362,2,34.0391,2,54.97,2,54.82,2,98.06,2,0.33,40.92,2,0.15,0.01,2,0.01,2.965,2,0.017,1.456,2,0.719,2,0.092,2,1.225,4,-999,9,-999,9,-999,-999,9,-999,9,-999,-999,9,-999,-999,9,-999,-999,9,-999,3.869,27.0327
49NZ20070724,   P01,73,1,28, X12034,2,20070818,947,47.0022,-167.083,5427,530.5,2,3.7127,2,3.71284,2,34.1361,2,34.1371,6,36.47,2,36.41,2,110.33,2,0.36,42.48,2,0.15,0.01,2,0.01,3.056,2,0.018,0.915,2,0.452,2,0.053,2,0.859,4,-999,9,-999,9,-999,-999,9,-999,9,-999,-999,9,-999,-999,9,-999,-999,9,-999,3.676,27.1315
49NZ20070724,   P01,73,1,27, X12049,2,20070818,947,47.0022,-167.083,5427,630.6,2,3.57,2,3.56975,2,34.2102,2,34.2117,2,31.04,2,31.56,2,118.11,2,0.38,42.73,2,0.15,0.01,2,0.01,3.074,2,0.018,0.587,2,0.284,2,0.032,2,0.641,4,-999,9,-999,9,-999,-999,9,-999,9,-999,-999,9,-999,-999,9,-999,-999,9,-999,3.5265,27.2052
49NZ20070724,   P01,73,1,26, X12032,2,20070818,947,47.0022,-167.083,5427,731.1,2,3.3628,2,3.36266,2,34.2773,2,34.2771,2,28.89,2,29.14,2,126.48,2,0.4,43.14,2,0.15,0.01,2,0.01,3.102,2,0.018,0.361,6,0.175,6,0.025,6,0.812,4,-999,9,-999,9,-999,-999,9,-999,9,-999,-999,9,-999,-999,9,-999,-999,9,-999,3.3129,27.2791
49NZ20070724,   P01,73,1,25, X12043,2,20070818,947,47.0022,-167.083,5427,830.4,2,3.1396,2,3.13959,2,34.3251,2,34.3247,2,26.28,2,26.5,2,133.96,2,0.41,43.42,2,0.15,0.01,2,0.01,3.122,2,0.018,0.233,2,0.112,2,0.014,2,0.389,4,-999,9,-999,9,-999,-999,9,-999,9,-999,-999,9,-999,-999,9,-999,-999,9,-999,3.0837,27.3387
49NZ20070724,   P01,73,1,24, X12030,2,20070818,947,47.0022,-167.083,5427,929.9,2,2.979,2,2.97886,2,34.3607,2,34.3607,2,25.98,2,26.18,2,138.91,2,0.42,43.46,2,0.15,0.04,2,0.01,3.117,2,0.018,0.165,2,0.08,2,0.009,2,0.26,4,-999,9,-999,9,-999,-999,9,-999,9,-999,-999,9,-999,-999,9,-999,-999,9,-999,2.9168,27.3823
49NZ20070724,   P01,73,1,23, X12027,2,20070818,947,47.0022,-167.083,5427,1071,2,2.7452,2,2.74509,2,34.4081,2,34.4078,6,25.37,2,25.55,2,146.81,2,0.44,43.72,2,0.16,0.02,2,0.01,3.14,2,0.018,0.095,2,0.049,2,0.009,2,0.192,4,-999,9,-999,9,-999,-999,9,-999,9,-999,-999,9,-999,-999,9,-999,-999,9,-999,2.6742,27.4416
49NZ20070724,   P01,73,1,22, X12028,2,20070818,947,47.0022,-167.083,5427,1270.5,2,2.4998,2,2.49978,2,34.4605,2,34.4602,2,29.57,2,29.69,2,154.57,2,0.46,43.63,2,0.15,0.02,2,0.01,3.126,2,0.018,0.055,2,0.03,2,0,2,0.1,4,-999,9,-999,9,-999,-999,9,-999,9,-999,-999,9,-999,-999,9,-999,-999,9,-999,2.4159,27.5056
49NZ20070724,   P01,73,1,21, X12009,2,20070818,947,47.0022,-167.083,5427,1470,2,2.3127,2,2.31261,2,34.5032,2,34.5027,2,33.33,2,33.5,2,160.28,2,0.47,43.61,2,0.15,0.01,2,0.01,3.113,2,0.018,0.017,2,0.01,2,0,2,0.083,4,-999,9,-999,9,-999,-999,9,-999,9,-999,-999,9,-999,-999,9,-999,-999,9,-999,2.2153,27.5563
49NZ20070724,   P01,73,1,20, X12026,2,20070818,947,47.0022,-167.083,5427,1671.4,2,2.1593,2,2.15921,2,34.5384,2,34.5381,2,40.96,2,41.17,2,164.01,2,0.48,43.28,2,0.15,0.02,2,0.01,3.081,2,0.018,0.006,2,0.007,2,0,2,0.052,4,-999,9,-999,9,-999,-999,9,-999,9,-999,-999,9,-999,-999,9,-999,-999,9,-999,2.0478,27.5981
49NZ20070724,   P01,73,1,19, X12025,2,20070818,947,47.0022,-167.083,5427,1872.1,2,2.0351,2,2.03517,2,34.5677,2,34.5671,2,48.44,2,48.32,2,166.84,2,0.49,42.87,2,0.15,0.01,2,0.01,3.046,2,0.018,0,2,0.005,2,0,2,0.009,4,-999,9,-999,9,-999,-999,9,-999,9,-999,-999,9,-999,-999,9,-999,-999,9,-999,1.909,27.6324
49NZ20070724,   P01,73,1,18, X12024,2,20070818,947,47.0022,-167.083,5427,2070.5,2,1.905,2,1.90503,2,34.5929,2,34.5926,2,63.79,2,63.82,2,167.28,2,0.49,41.79,2,0.15,0.01,2,0.01,2.979,2,0.017,0,2,0.001,2,0.008,2,0.005,4,-999,9,-999,9,-999,-999,9,-999,9,-999,-999,9,-999,-999,9,-999,-999,9,-999,1.7642,27.6638
49NZ20070724,   P01,73,1,17, X12023,2,20070818,947,47.0022,-167.083,5427,2270.6,2,1.8237,2,1.82362,2,34.6099,2,34.6098,2,73.52,2,73.25,2,167.9,2,0.49,41.31,2,0.15,0.01,2,0.01,2.934,2,0.017,-999,9,-999,9,-999,9,0.01,4,-999,9,-999,9,-999,-999,9,-999,9,-999,-999,9,-999,-999,9,-999,-999,9,-999,1.6671,27.6848
49NZ20070724,   P01,73,1,16, X12022,2,20070818,947,47.0022,-167.083,5427,2470.3,2,1.743,2,1.74293,2,34.6254,2,34.6254,2,84.68,2,84.43,2,167.7,2,0.49,40.6,2,0.15,0.01,2,0.01,2.885,2,0.017,-999,9,-999,9,-999,9,0.04,4,-999,9,-999,9,-999,-999,9,-999,9,-999,-999,9,-999,-999,9,-999,-999,9,-999,1.5703,27.7044
49NZ20070724,   P01,73,1,15, X12021,2,20070818,947,47.0022,-167.083,5427,2671.5,2,1.6664,2,1.66633,2,34.6398,2,34.6398,6,96.51,2,96.55,2,165.61,2,0.48,39.8,2,0.14,0.01,2,0.01,2.823,2,0.017,-999,9,-999,9,-999,9,0,4,-999,9,-999,9,-999,-999,9,-999,9,-999,-999,9,-999,-999,9,-999,-999,9,-999,1.4769,27.7228
49NZ20070724,   P01,73,1,14, X12020,2,20070818,947,47.0022,-167.083,5427,2870.3,2,1.6154,2,1.61512,2,34.6494,2,34.6495,2,106.81,2,106.45,2,164.42,2,0.48,39.2,2,0.14,0.02,2,0.01,2.78,2,0.017,-999,9,-999,9,-999,9,-999,9,-999,9,-999,9,-999,-999,9,-999,9,-999,-999,9,-999,-999,9,-999,-999,9,-999,1.4085,27.7354
49NZ20070724,   P01,73,1,13, X12019,2,20070818,947,47.0022,-167.083,5427,3081.3,2,1.5665,2,1.56655,2,34.6588,2,34.6586,2,115.93,2,115.77,2,162.92,2,0.48,38.59,2,0.14,0.01,2,0.01,2.736,2,0.017,-999,9,-999,9,-999,9,0,4,-999,9,-999,9,-999,-999,9,-999,9,-999,-999,9,-999,-999,9,-999,-999,9,-999,1.3405,27.7478
49NZ20070724,   P01,73,1,12, X12040,2,20070818,947,47.0022,-167.083,5427,3330.7,2,1.5254,2,1.52543,2,34.667,2,34.6668,2,125.78,2,125.8,2,160.16,2,0.47,37.76,2,0.14,0,2,0.01,2.671,2,0.017,-999,9,-999,9,-999,9,-999,9,-999,9,-999,9,-999,-999,9,-999,9,-999,-999,9,-999,-999,9,-999,-999,9,-999,1.2758,27.759
49NZ20070724,   P01,73,1,11, X12047,2,20070818,947,47.0022,-167.083,5427,3580.6,2,1.4964,2,1.49644,2,34.6738,2,34.6737,2,133.83,2,133.75,2,158.44,2,0.47,37.35,2,0.14,0,2,0.01,2.638,2,0.017,-999,9,-999,9,-999,9,0.006,4,-999,9,-999,9,-999,-999,9,-999,9,-999,-999,9,-999,-999,9,-999,-999,9,-999,1.2221,27.7681
49NZ20070724,   P01,73,1,10, X12010,2,20070818,947,47.0022,-167.083,5427,3830.4,2,1.4798,2,1.47973,2,34.6788,2,34.6788,2,140,2,140.16,2,157.51,2,0.47,36.96,2,0.14,0,2,0.01,2.613,2,0.017,-999,9,-999,9,-999,9,-999,9,-999,9,-999,9,-999,-999,9,-999,9,-999,-999,9,-999,-999,9,-999,-999,9,-999,1.1798,27.7751
49NZ20070724,   P01,73,1,9, X12015,2,20070818,947,47.0022,-167.083,5427,4081.2,2,1.4759,2,1.47598,2,34.6828,2,34.6826,2,144.48,2,144.58,2,157.29,2,0.47,36.65,2,0.14,0,2,0.01,2.586,2,0.016,-999,9,-999,9,-999,9,0.007,4,-999,9,-999,9,-999,-999,9,-999,9,-999,-999,9,-999,-999,9,-999,-999,9,-999,1.1488,27.7804
49NZ20070724,   P01,73,1,8, X12046,2,20070818,947,47.0022,-167.083,5427,4331.1,2,1.4847,2,1.48474,2,34.6852,2,34.6851,6,147.27,2,147.5,2,157.58,2,0.47,36.53,2,0.14,0,2,0.01,2.585,2,0.016,-999,9,-999,9,-999,9,-999,9,-999,9,-999,9,-999,-999,9,-999,9,-999,-999,9,-999,-999,9,-999,-999,9,-999,1.1295,27.7837
49NZ20070724,   P01,73,1,7, X12044,2,20070818,947,47.0022,-167.083,5427,4581.2,2,1.5005,2,1.50052,2,34.6871,2,34.6873,2,149.08,2,149.39,2,158.22,2,0.47,36.38,2,0.13,0.01,2,0.01,2.561,2,0.016,-999,9,-999,9,-999,9,0.029,4,-999,9,-999,9,-999,-999,9,-999,9,-999,-999,9,-999,-999,9,-999,-999,9,-999,1.1161,27.7861
49NZ20070724,   P01,73,1,6, X12048,2,20070818,947,47.0022,-167.083,5427,4831,2,1.5259,2,1.52586,2,34.6878,2,34.6877,2,149.66,2,150.03,2,159.78,2,0.47,36.41,2,0.13,0.01,2,0.01,2.566,2,0.016,-999,9,-999,9,-999,9,-999,9,-999,9,-999,9,-999,-999,9,-999,9,-999,-999,9,-999,-999,9,-999,-999,9,-999,1.1112,27.787
49NZ20070724,   P01,73,1,5, X12017,2,20070818,947,47.0022,-167.083,5427,5080.5,2,1.5513,2,1.5513,2,34.6884,2,34.6879,2,151.12,2,151.2,2,158.65,2,0.47,36.23,2,0.13,0.01,2,0.01,2.545,2,0.016,-999,9,-999,9,-999,9,0.069,4,-999,9,-999,9,-999,-999,9,-999,9,-999,-999,9,-999,-999,9,-999,-999,9,-999,1.1055,27.7879
49NZ20070724,   P01,73,1,4, X12928,2,20070818,947,47.0022,-167.083,5427,5330.4,2,1.5777,2,1.57776,2,34.689,2,34.6892,2,152.48,2,152.38,2,158.52,2,0.47,36.13,2,0.13,0.01,2,0.01,2.548,2,0.016,-999,9,-999,9,-999,9,-999,9,-999,9,-999,9,-999,-999,9,-999,9,-999,-999,9,-999,-999,9,-999,-999,9,-999,1.0999,27.7887
49NZ20070724,   P01,73,1,3, X12931,9,20070818,947,47.0022,-167.083,5427,10.4,2,14.3668,2,14.36697,2,32.6265,2,-999,9,270.2,2,-999,9,-999,9,-999,-999,9,-999,-999,9,-999,-999,9,-999,-999,9,-999,9,-999,9,-999,9,-999,9,-999,9,-999,-999,9,-999,9,-999,-999,9,-999,-999,9,-999,-999,9,-999,14.3653,24.2776
49NZ20070724,   P01,73,1,2, X12930,9,20070818,947,47.0022,-167.083,5427,49.7,2,6.645,2,6.64535,2,33.1329,2,-999,9,311.74,2,-999,9,-999,9,-999,-999,9,-999,-999,9,-999,-999,9,-999,-999,9,-999,9,-999,9,-999,9,-999,9,-999,9,-999,-999,9,-999,9,-999,-999,9,-999,-999,9,-999,-999,9,-999,6.6407,25.9959
49NZ20070724,   P01,73,1,1, X12929,2,20070818,947,47.0022,-167.083,5427,5531.4,2,1.6025,2,1.60247,2,34.689,2,34.6891,6,153.17,2,152.95,2,157.58,2,0.47,36.19,2,0.13,0,2,0.01,2.547,2,0.016,-999,9,-999,9,-999,9,0.043,4,-999,9,-999,9,-999,-999,9,-999,9,-999,-999,9,-999,-999,9,-999,-999,9,-999,1.0982,27.7889