BOTTLE,20081214JAMSTECIORGC,,,,,,,,,,,,,,,,,,,,,,,,,,,,,,,,,,,,,,,,,,,,,,,,,,,,,,,,,,,,,,,,,
EXPOCODE,SECT,STNNBR,CASTNO,SAMPNO,BTLNBR,BTLNBR_FLAG_W,DATE,TIME,LATITUDE,LONGITUDE,DEPTH,CTDPRS,CTDPRS_FLAG_W,CTDTMP,CTDTMP_FLAG_W,SBE35,SBE35_FLAG_W,CTDSAL,CTDSAL_FLAG_W,SALNTY,SALNTY_FLAG_W,CTDOXY,CTDOXY_FLAG_W,OXYGEN,OXYGEN_FLAG_W,SILCAT,SILCAT_FLAG_W,SILUNC,NITRAT,NITRAT_FLAG_W,NRAUNC,NITRIT,NITRIT_FLAG_W,NRIUNC,PHSPHT,PHSPHT_FLAG_W,PHPUNC,CFC-11,CFC-11_FLAG_W,CFC-12,CFC-12_FLAG_W,CFC113,CFC113_FLAG_W,CCL4,CCL4_FLAG_W,TCARBN,TCARBN_FLAG_W,ALKALI,ALKALI_FLAG_W,PH_TOT,PH_TMP,PH_FLAG_W,DELC13,DELC13_FLAG_W,C13ERR,DELC14,DELC14_FLAG_W,C14ERR,CS-137,CS-137_FLAG_W,CS137ER,PLUTO,PLUTO_FLAG_W,PLUTOER,THETA,SIG0
,,,,,,,,UTC,DEG,DEG,M,DBAR,,ITS-90,,ITS-90,,PSS-78,,PSS-78,,UMOL/KG,,UMOL/KG,,UMOL/KG,,UMOL/KG,UMOL/KG,,UMOL/KG,UMOL/KG,,UMOL/KG,UMOL/KG,,UMOL/KG,PMOL/KG,,PMOL/KG,,PMOL/KG,,PMOL/KG,,UMOL/KG,,UMOL/KG,,,ITS-90,,/MILLE,,/MILLE,/MILLE,,/MILLE,BQ/CUM,,BQ/CUM,MBQ/CUM,,MBQ/CUM,DEG C,KG/CUM
49NZ20070724,   P01,24,1,0,-999,9,20070731,836,40.9278,149.8622,5380,-999,9,-999,9,-999,9,-999,9,34.4808,2,-999,9,-999,9,-999,9,-999,-999,9,-999,-999,9,-999,-999,9,-999,-999,9,-999,9,-999,9,-999,9,-999,9,-999,9,-999,-999,9,-999,9,-999,-999,9,-999,-999,9,-999,-999,9,-999,-999,-999
49NZ20070724,   P01,24,1,36, X12042,2,20070731,836,40.9278,149.8622,5380,8.3,2,21.2095,2,21.2221,2,34.4544,2,34.4623,2,223.14,2,226.4,2,2.16,2,0.12,0.06,2,0.03,0.01,2,0.01,0.069,2,0.027,2.081,2,1.318,2,0.444,2,-999,9,-999,9,-999,9,-999,-999,9,-999,9,-999,-999,9,-999,-999,9,-999,-999,9,-999,21.2079,24.0221
49NZ20070724,   P01,24,1,35, X12041,2,20070731,836,40.9278,149.8622,5380,49.4,2,13.0181,2,13.03473,2,34.2806,2,34.2004,2,212.83,2,223.88,2,10.86,2,0.14,8.63,2,0.06,0.08,2,0.01,0.701,2,0.013,2.691,2,1.592,2,0.143,2,-999,9,-999,9,-999,9,-999,-999,9,-999,9,-999,-999,9,-999,-999,9,-999,-999,9,-999,13.0114,25.8332
49NZ20070724,   P01,24,1,34, X12036,2,20070731,836,40.9278,149.8622,5380,99.5,2,10.9068,2,10.90725,2,34.2718,2,34.254,2,212.69,2,203.05,2,22.58,2,0.17,15.21,2,0.08,0.02,2,0.01,1.127,2,0.013,2.907,2,1.721,2,0.241,2,-999,9,-999,9,-999,9,-999,-999,9,-999,9,-999,-999,9,-999,-999,9,-999,-999,9,-999,10.8948,26.2273
49NZ20070724,   P01,24,1,33, X12033,2,20070731,836,40.9278,149.8622,5380,149.2,2,7.4303,2,7.43491,2,33.8066,2,33.7974,2,237.52,2,237.52,2,28.08,2,0.18,17.96,2,0.08,0.01,2,0.01,1.387,2,0.014,3.542,6,2.033,6,0.264,6,-999,9,-999,9,-999,9,-999,-999,9,-999,9,-999,-999,9,-999,-999,9,-999,-999,9,-999,7.4162,26.4209
49NZ20070724,   P01,24,1,32, X12038,2,20070731,836,40.9278,149.8622,5380,199.2,2,5.3928,2,5.39449,2,33.6745,2,33.6571,2,232.87,2,234.88,2,41.63,2,0.21,23.3,2,0.1,0.01,2,0.01,1.801,2,0.015,3.816,2,2.149,2,0.31,2,-999,9,-999,9,-999,9,-999,-999,9,-999,9,-999,-999,9,-999,-999,9,-999,-999,9,-999,5.377,26.5809
49NZ20070724,   P01,24,1,31, X12003,2,20070731,836,40.9278,149.8622,5380,250.8,2,4.1951,2,4.19612,2,33.6638,2,33.6637,6,204.29,2,206.18,2,54.74,2,0.24,27.97,2,0.11,0,2,0.01,2.127,2,0.015,3.622,2,2.015,2,0.292,2,-999,9,-999,9,-999,9,-999,-999,9,-999,9,-999,-999,9,-999,-999,9,-999,-999,9,-999,4.1775,26.7051
49NZ20070724,   P01,24,1,30, X12008,2,20070731,836,40.9278,149.8622,5380,279.3,2,3.1703,2,3.17003,2,33.6035,2,33.6111,2,189.75,2,187.83,2,66.48,2,0.27,31.84,2,0.12,0,2,0.01,2.416,2,0.016,3.605,2,2.009,2,0.279,2,-999,9,-999,9,-999,9,-999,-999,9,-999,9,-999,-999,9,-999,-999,9,-999,-999,9,-999,3.153,26.7566
49NZ20070724,   P01,24,1,29, X12035,2,20070731,836,40.9278,149.8622,5380,369.2,2,4.8005,2,4.79981,2,33.9914,2,33.9673,2,114.35,2,115.85,2,77.57,2,0.29,34.53,2,0.13,0.01,2,0.01,2.546,2,0.016,2.121,2,1.151,2,0.125,2,-999,9,-999,9,-999,9,-999,-999,9,-999,9,-999,-999,9,-999,-999,9,-999,-999,9,-999,4.7723,26.9013
49NZ20070724,   P01,24,1,28, X12034,2,20070731,836,40.9278,149.8622,5380,469.5,2,3.6973,2,3.69843,2,33.9842,2,33.9616,6,82.39,2,82.32,2,96.56,2,0.33,39.18,2,0.14,0.01,2,0.01,2.864,2,0.017,1.884,2,1.013,2,0.14,2,-999,9,-999,9,-999,9,-999,-999,9,-999,9,-999,-999,9,-999,-999,9,-999,-999,9,-999,3.6652,27.0116
49NZ20070724,   P01,24,1,27, X12049,2,20070731,836,40.9278,149.8622,5380,569.5,2,3.8494,2,3.84848,2,34.1443,2,34.146,2,58.05,2,58.02,2,106.2,2,0.35,40.16,2,0.15,0,2,0.01,2.916,2,0.017,1.04,2,0.557,2,0.055,2,-999,9,-999,9,-999,9,-999,-999,9,-999,9,-999,-999,9,-999,-999,9,-999,-999,9,-999,3.8092,27.1248
49NZ20070724,   P01,24,1,26, X12032,2,20070731,836,40.9278,149.8622,5380,670.6,2,3.5137,2,3.51381,2,34.2161,2,34.2138,2,45,2,44.87,2,117.99,2,0.38,41.46,2,0.15,0,2,0.01,3.012,2,0.017,0.736,6,0.39,6,0.043,6,-999,9,-999,9,-999,9,-999,-999,9,-999,9,-999,-999,9,-999,-999,9,-999,-999,9,-999,3.4675,27.2156
49NZ20070724,   P01,24,1,25, X12043,2,20070731,836,40.9278,149.8622,5380,772.2,2,3.058,2,3.0508,2,34.2517,2,34.2492,2,36.27,2,36,2,130.57,2,0.41,42.66,2,0.15,0,2,0.01,3.08,2,0.018,-999,5,-999,5,-999,5,-999,9,-999,9,-999,9,-999,-999,9,-999,9,-999,-999,9,-999,-999,9,-999,-999,9,-999,3.0069,27.2871
49NZ20070724,   P01,24,1,24, X12030,2,20070731,836,40.9278,149.8622,5380,871,2,3.0281,2,3.02828,2,34.3252,2,34.3252,2,37.08,2,37,2,134.19,2,0.41,42.38,2,0.15,0,2,0.01,3.058,2,0.018,0.386,2,0.196,2,0.021,2,-999,9,-999,9,-999,9,-999,-999,9,-999,9,-999,-999,9,-999,-999,9,-999,-999,9,-999,2.9699,27.3491
49NZ20070724,   P01,24,1,23, X12027,2,20070731,836,40.9278,149.8622,5380,970.4,2,3.0388,2,3.03913,2,34.3992,2,34.3986,6,41.55,2,41.48,2,135.49,2,0.42,42.21,2,0.15,0.01,2,0.01,3.043,2,0.018,0.164,2,0.087,2,0.006,2,-999,9,-999,9,-999,9,-999,-999,9,-999,9,-999,-999,9,-999,-999,9,-999,-999,9,-999,2.973,27.4079
49NZ20070724,   P01,24,1,22, X12028,2,20070731,836,40.9278,149.8622,5380,1129.3,2,2.6214,2,2.62148,2,34.4304,2,34.4303,2,38.06,2,38.01,2,147.93,2,0.44,42.76,2,0.15,0.01,2,0.01,3.083,2,0.018,0.157,2,0.082,2,0.007,2,-999,9,-999,9,-999,9,-999,-999,9,-999,9,-999,-999,9,-999,-999,9,-999,-999,9,-999,2.5471,27.4704
49NZ20070724,   P01,24,1,21, X12009,2,20070731,836,40.9278,149.8622,5380,1329.2,2,2.4442,2,2.44444,2,34.4891,2,34.4881,2,42.49,2,42.31,2,152.69,2,0.45,42.71,2,0.15,0.01,2,0.01,3.06,2,0.018,0.068,2,0.034,2,0,2,-999,9,-999,9,-999,9,-999,-999,9,-999,9,-999,-999,9,-999,-999,9,-999,-999,9,-999,2.3563,27.5335
49NZ20070724,   P01,24,1,20, X12026,2,20070731,836,40.9278,149.8622,5380,1528.7,2,2.2691,2,2.26912,2,34.5293,2,34.5288,2,50.27,2,50.11,2,156.21,2,0.46,42.41,2,0.15,0.01,2,0.01,3.026,2,0.018,0.013,2,0.016,2,0.001,2,-999,9,-999,9,-999,9,-999,-999,9,-999,9,-999,-999,9,-999,-999,9,-999,-999,9,-999,2.1676,27.5811
49NZ20070724,   P01,24,1,19, X12025,2,20070731,836,40.9278,149.8622,5380,1730.2,2,2.1109,2,2.11099,2,34.5599,2,34.5594,2,59.76,2,59.62,2,158.81,2,0.47,41.81,2,0.15,0.02,2,0.01,2.984,2,0.018,0.004,2,0.011,2,0.003,2,-999,9,-999,9,-999,9,-999,-999,9,-999,9,-999,-999,9,-999,-999,9,-999,-999,9,-999,1.9953,27.6195
49NZ20070724,   P01,24,1,18, X12024,2,20070731,836,40.9278,149.8622,5380,1929.4,2,1.9799,2,1.98001,2,34.586,2,34.5856,2,70.69,2,70.62,2,159.92,2,0.47,41.1,2,0.15,0.02,2,0.01,2.93,2,0.017,0.004,2,0.009,2,0.002,2,-999,9,-999,9,-999,9,-999,-999,9,-999,9,-999,-999,9,-999,-999,9,-999,-999,9,-999,1.8498,27.6517
49NZ20070724,   P01,24,1,17, X12023,2,20070731,836,40.9278,149.8622,5380,2130.1,2,1.8546,2,1.85461,2,34.6098,2,34.6092,2,83.94,2,83.68,2,159.72,2,0.47,40.47,2,0.15,0.01,2,0.01,2.877,2,0.017,0.001,2,0.007,2,0.003,2,-999,9,-999,9,-999,9,-999,-999,9,-999,9,-999,-999,9,-999,-999,9,-999,-999,9,-999,1.7096,27.6815
49NZ20070724,   P01,24,1,16, X12022,2,20070731,836,40.9278,149.8622,5380,2330.2,2,1.7611,2,1.76123,2,34.6269,2,34.6265,2,95.23,2,95.1,2,158.63,2,0.47,39.74,2,0.14,0.01,2,0.01,2.814,2,0.017,-999,9,-999,9,-999,9,-999,9,-999,9,-999,9,-999,-999,9,-999,9,-999,-999,9,-999,-999,9,-999,-999,9,-999,1.6004,27.7033
49NZ20070724,   P01,24,1,15, X12021,2,20070731,836,40.9278,149.8622,5380,2530.1,2,1.6788,2,1.67892,2,34.6409,2,34.6403,6,106.06,2,106.08,2,157.57,2,0.47,39.1,2,0.14,0.01,2,0.01,2.768,2,0.017,0,2,0.001,2,0,2,-999,9,-999,9,-999,9,-999,-999,9,-999,9,-999,-999,9,-999,-999,9,-999,-999,9,-999,1.5019,27.7219
49NZ20070724,   P01,24,1,14, X12020,2,20070731,836,40.9278,149.8622,5380,2730.5,2,1.6171,2,1.61718,2,34.6512,2,34.6507,2,115.01,2,114.74,2,156.28,2,0.46,38.44,2,0.14,0,2,0.01,2.717,2,0.017,-999,9,-999,9,-999,9,-999,9,-999,9,-999,9,-999,-999,9,-999,9,-999,-999,9,-999,-999,9,-999,-999,9,-999,1.4232,27.7358
49NZ20070724,   P01,24,1,13, X12019,2,20070731,836,40.9278,149.8622,5380,2930.6,2,1.5737,2,1.57392,2,34.6591,2,34.6591,2,122.38,2,122.34,2,155.03,2,0.46,38.06,2,0.14,0.01,2,0.01,2.684,2,0.017,-999,9,-999,9,-999,9,-999,9,-999,9,-999,9,-999,-999,9,-999,9,-999,-999,9,-999,-999,9,-999,-999,9,-999,1.362,27.7465
49NZ20070724,   P01,24,1,12, X12040,2,20070731,836,40.9278,149.8622,5380,3171.7,2,1.527,2,1.52722,2,34.6673,2,34.6667,2,130.59,2,130.69,2,152.75,2,0.46,37.49,2,0.14,0.01,2,0.01,2.647,2,0.017,0,2,0,2,0,2,-999,9,-999,9,-999,9,-999,-999,9,-999,9,-999,-999,9,-999,-999,9,-999,-999,9,-999,1.2931,27.7579
49NZ20070724,   P01,24,1,11, X12047,2,20070731,836,40.9278,149.8622,5380,3421.1,2,1.4968,2,1.49699,2,34.6734,2,34.6732,2,137.34,2,137.66,2,151.29,2,0.45,36.93,2,0.14,0.01,2,0.01,2.6,2,0.016,-999,9,-999,9,-999,9,-999,9,-999,9,-999,9,-999,-999,9,-999,9,-999,-999,9,-999,-999,9,-999,-999,9,-999,1.2388,27.7666
49NZ20070724,   P01,24,1,10, X12010,2,20070731,836,40.9278,149.8622,5380,3669.2,2,1.4774,2,1.47753,2,34.678,2,34.6778,2,142.93,2,143.36,2,150.03,2,0.45,36.7,2,0.14,0,2,0.01,2.577,2,0.016,-999,9,-999,9,-999,9,-999,9,-999,9,-999,9,-999,-999,9,-999,9,-999,-999,9,-999,-999,9,-999,-999,9,-999,1.1944,27.7734
49NZ20070724,   P01,24,1,9, X12015,2,20070731,836,40.9278,149.8622,5380,3918.7,2,1.4664,2,1.46648,2,34.6819,2,34.682,2,147.75,2,148.09,2,148.54,2,0.45,36.3,2,0.13,0.01,2,0.01,2.548,2,0.016,0,2,0.002,2,0,2,-999,9,-999,9,-999,9,-999,-999,9,-999,9,-999,-999,9,-999,-999,9,-999,-999,9,-999,1.1573,27.7791
49NZ20070724,   P01,24,1,8, X12046,2,20070731,836,40.9278,149.8622,5380,4171.3,2,1.4629,2,1.46304,2,34.6849,2,34.6847,6,151.52,2,152.04,2,147.81,2,0.44,36.08,2,0.13,0.01,2,0.01,2.536,2,0.016,-999,9,-999,9,-999,9,-999,9,-999,9,-999,9,-999,-999,9,-999,9,-999,-999,9,-999,-999,9,-999,-999,9,-999,1.1262,27.7837
49NZ20070724,   P01,24,1,7, X12044,2,20070731,836,40.9278,149.8622,5380,4420.8,2,1.4693,2,1.46947,2,34.6872,2,34.6873,2,154.5,2,155.06,2,146.93,2,0.44,35.77,2,0.13,0.01,2,0.01,2.528,2,0.016,-999,9,-999,9,-999,9,-999,9,-999,9,-999,9,-999,-999,9,-999,9,-999,-999,9,-999,-999,9,-999,-999,9,-999,1.1044,27.787
49NZ20070724,   P01,24,1,6, X12048,2,20070731,836,40.9278,149.8622,5380,4670.6,2,1.485,2,1.48518,2,34.6887,2,34.6886,2,156.15,2,156.75,2,147.09,2,0.44,35.74,2,0.13,0,2,0.01,2.505,2,0.016,0.008,3,0.017,3,0,2,-999,9,-999,9,-999,9,-999,-999,9,-999,9,-999,-999,9,-999,-999,9,-999,-999,9,-999,1.0906,27.7892
49NZ20070724,   P01,24,1,5, X12017,2,20070731,836,40.9278,149.8622,5380,4919.2,2,1.5047,2,1.50474,2,34.6899,2,34.6898,2,157.42,2,158.12,2,147.45,2,0.44,35.57,2,0.13,0.01,2,0.01,2.494,2,0.016,-999,9,-999,9,-999,9,-999,9,-999,9,-999,9,-999,-999,9,-999,9,-999,-999,9,-999,-999,9,-999,-999,9,-999,1.0801,27.7908
49NZ20070724,   P01,24,1,4, X12928,2,20070731,836,40.9278,149.8622,5380,5168.6,2,1.5291,2,1.52911,2,34.6906,2,34.6906,2,158.62,2,159.11,2,147.01,2,0.44,35.65,2,0.13,0,2,0.01,2.494,2,0.016,-999,9,-999,9,-999,9,-999,9,-999,9,-999,9,-999,-999,9,-999,9,-999,-999,9,-999,-999,9,-999,-999,9,-999,1.0732,27.7918
49NZ20070724,   P01,24,1,3, X12931,2,20070731,836,40.9278,149.8622,5380,5418.3,2,1.551,2,1.55101,2,34.6915,2,34.6913,2,160.89,2,161.25,2,144.7,2,0.44,35.42,2,0.13,0.01,2,0.01,2.482,2,0.016,-999,9,-999,9,-999,9,-999,9,-999,9,-999,9,-999,-999,9,-999,9,-999,-999,9,-999,-999,9,-999,-999,9,-999,1.063,27.7932
49NZ20070724,   P01,24,1,2, X12930,9,20070731,836,40.9278,149.8622,5380,8.4,2,21.2423,2,21.23923,2,34.4542,2,-999,9,222.6,2,-999,9,-999,9,-999,-999,9,-999,-999,9,-999,-999,9,-999,-999,9,-999,9,-999,9,-999,9,-999,9,-999,9,-999,-999,9,-999,9,-999,-999,9,-999,-999,9,-999,-999,9,-999,21.2407,24.013
49NZ20070724,   P01,24,1,1, X12929,2,20070731,836,40.9278,149.8622,5380,5475.8,2,1.5576,2,1.55757,2,34.6916,2,34.6913,6,161.02,2,161.38,2,145,2,0.44,35.4,2,0.13,0,2,0.01,2.482,2,0.016,0,2,0,2,0,2,-999,9,-999,9,-999,9,-999,-999,9,-999,9,-999,-999,9,-999,-999,9,-999,-999,9,-999,1.062,27.7934