BOTTLE,20081214JAMSTECIORGC,,,,,,,,,,,,,,,,,,,,,,,,,,,,,,,,,,,,,,,,,,,,,,,,,,,,,,,,,,,,,,,,,
EXPOCODE,SECT,STNNBR,CASTNO,SAMPNO,BTLNBR,BTLNBR_FLAG_W,DATE,TIME,LATITUDE,LONGITUDE,DEPTH,CTDPRS,CTDPRS_FLAG_W,CTDTMP,CTDTMP_FLAG_W,SBE35,SBE35_FLAG_W,CTDSAL,CTDSAL_FLAG_W,SALNTY,SALNTY_FLAG_W,CTDOXY,CTDOXY_FLAG_W,OXYGEN,OXYGEN_FLAG_W,SILCAT,SILCAT_FLAG_W,SILUNC,NITRAT,NITRAT_FLAG_W,NRAUNC,NITRIT,NITRIT_FLAG_W,NRIUNC,PHSPHT,PHSPHT_FLAG_W,PHPUNC,CFC-11,CFC-11_FLAG_W,CFC-12,CFC-12_FLAG_W,CFC113,CFC113_FLAG_W,CCL4,CCL4_FLAG_W,TCARBN,TCARBN_FLAG_W,ALKALI,ALKALI_FLAG_W,PH_TOT,PH_TMP,PH_FLAG_W,DELC13,DELC13_FLAG_W,C13ERR,DELC14,DELC14_FLAG_W,C14ERR,CS-137,CS-137_FLAG_W,CS137ER,PLUTO,PLUTO_FLAG_W,PLUTOER,THETA,SIG0
,,,,,,,,UTC,DEG,DEG,M,DBAR,,ITS-90,,ITS-90,,PSS-78,,PSS-78,,UMOL/KG,,UMOL/KG,,UMOL/KG,,UMOL/KG,UMOL/KG,,UMOL/KG,UMOL/KG,,UMOL/KG,UMOL/KG,,UMOL/KG,PMOL/KG,,PMOL/KG,,PMOL/KG,,PMOL/KG,,UMOL/KG,,UMOL/KG,,,ITS-90,,/MILLE,,/MILLE,/MILLE,,/MILLE,BQ/CUM,,BQ/CUM,MBQ/CUM,,MBQ/CUM,DEG C,KG/CUM
49NZ20070724,   P01,   X17,1,0,-999,9,20070824,1525,46.9,-144.4363,4682,-999,9,-999,9,-999,9,-999,9,32.3661,2,-999,9,-999,9,-999,9,-999,-999,9,-999,-999,9,-999,-999,9,-999,-999,9,-999,9,-999,9,-999,9,-999,9,-999,9,-999,-999,9,-999,9,-999,-999,9,-999,-999,9,-999,-999,9,-999,-999,-999
49NZ20070724,   P01,   X17,1,36, X12042,2,20070824,1525,46.9,-144.4363,4682,9.5,2,13.3645,2,13.36387,2,32.3655,2,32.368,2,275.44,2,276.03,2,14.02,2,0.15,7.8,2,0.05,0.12,2,0.01,0.952,2,0.013,3.268,2,1.843,2,0.321,2,-999,9,1989.7,2,2186.3,2,7.8978,25,6,-999,1,-999,-999,1,-999,-999,9,-999,-999,9,-999,13.3632,24.2809
49NZ20070724,   P01,   X17,1,35, X12041,2,20070824,1525,46.9,-144.4363,4682,49.9,2,6.9384,2,6.93981,2,32.7441,2,32.7711,2,303.33,2,303.14,2,17.33,2,0.16,11.96,2,0.07,0.29,2,0.01,1.244,2,0.013,4.409,2,2.433,2,0.422,2,-999,9,2048.7,6,2205.7,2,7.8014,25,2,-999,1,-999,-999,1,-999,-999,9,-999,-999,9,-999,6.934,25.6509
49NZ20070724,   P01,   X17,1,34, X12036,2,20070824,1525,46.9,-144.4363,4682,100.2,2,6.1998,2,6.19857,2,32.9604,2,33.0801,2,286.72,2,281.64,2,20.36,2,0.16,15.47,2,0.08,0.02,2,0.01,1.337,2,0.014,4.391,2,2.401,2,0.377,2,-999,9,2075.9,2,2219.9,6,7.7612,25,2,-999,1,-999,-999,1,-999,-999,9,-999,-999,9,-999,6.1914,25.9174
49NZ20070724,   P01,   X17,1,33, X12033,2,20070824,1525,46.9,-144.4363,4682,149.6,2,6.2021,2,6.20273,2,33.7645,2,33.7602,2,222.78,2,225.35,2,32.56,2,0.19,21.84,2,0.09,0.01,2,0.01,1.636,2,0.014,3.964,2,2.12,2,0.286,6,-999,9,2145.7,2,2259.6,2,7.6695,25,2,-999,1,-999,-999,1,-999,-999,9,-999,-999,9,-999,6.1893,26.5525
49NZ20070724,   P01,   X17,1,32, X12038,2,20070824,1525,46.9,-144.4363,4682,199.2,2,5.8618,2,5.86468,2,33.8278,2,33.8268,2,189.3,2,188.38,2,43.57,2,0.21,25.98,2,0.11,0.01,2,0.01,1.915,2,0.015,3.6,2,1.882,2,0.269,2,-999,9,2182.5,2,2269.2,2,7.6025,25,2,-999,1,-999,-999,1,-999,-999,9,-999,-999,9,-999,5.8453,26.6456
49NZ20070724,   P01,   X17,1,31, X12003,2,20070824,1525,46.9,-144.4363,4682,249.1,2,5.2136,2,5.21339,2,33.8463,2,33.8494,6,145.26,2,142.99,2,57.11,2,0.24,31.13,2,0.12,0.01,2,0.01,2.275,2,0.016,3.093,2,1.573,2,0.208,2,-999,9,2224.6,2,2279.5,2,7.5088,25,2,-999,1,-999,-999,1,-999,-999,9,-999,-999,9,-999,5.1941,26.7383
49NZ20070724,   P01,   X17,1,30, X12008,2,20070824,1525,46.9,-144.4363,4682,329.3,2,4.7366,2,4.73689,2,33.9231,2,33.9365,2,94.55,2,92.71,2,72.49,2,0.28,36.31,2,0.13,0.01,2,0.01,2.605,2,0.016,-999,5,-999,5,-999,5,-999,9,2266.7,2,2293.5,2,7.422,25,2,-999,1,-999,-999,1,-999,-999,9,-999,-999,9,-999,4.7118,26.8538
49NZ20070724,   P01,   X17,1,29, X12035,2,20070824,1525,46.9,-144.4363,4682,429,2,4.3349,2,4.33416,2,34.0212,2,34.0277,2,59.52,2,58.18,2,88.83,2,0.31,39.98,2,0.14,0.01,2,0.01,2.868,2,0.017,1.56,2,0.748,2,0.105,2,-999,9,2303.2,2,2308.4,2,7.363,25,2,-999,1,-999,-999,1,-999,-999,9,-999,-999,9,-999,4.3035,26.9759
49NZ20070724,   P01,   X17,1,28, X12034,2,20070824,1525,46.9,-144.4363,4682,530,2,3.8973,2,3.89728,2,34.1105,2,34.1074,2,33.72,2,34.62,2,103.61,2,0.35,42.39,2,0.15,0,2,0.01,3.029,2,0.018,0.977,2,0.46,2,0.066,2,-999,9,2331.4,2,2325.4,2,7.3256,25,2,-999,1,-999,-999,1,-999,-999,9,-999,-999,9,-999,3.8599,27.0928
49NZ20070724,   P01,   X17,1,27, X12049,2,20070824,1525,46.9,-144.4363,4682,631.3,2,3.6257,2,3.62559,2,34.1822,2,34.1804,2,25.54,2,25.99,2,114.66,2,0.37,43.26,2,0.15,0.01,2,0.01,3.093,2,0.018,0.597,2,0.277,2,0.036,2,-999,9,2346.3,2,2340.8,2,7.3193,25,2,-999,1,-999,-999,1,-999,-999,9,-999,-999,9,-999,3.5819,27.1775
49NZ20070724,   P01,   X17,1,26, X12032,2,20070824,1525,46.9,-144.4363,4682,731.5,2,3.463,2,3.46292,2,34.2401,2,34.2412,2,23.48,2,23.89,2,122.28,2,0.39,43.35,2,0.15,0,2,0.01,3.107,2,0.018,0.367,6,0.169,6,0.019,6,-999,9,2357.1,6,2351.8,2,7.3241,25,2,-999,1,-999,-999,1,-999,-999,9,-999,-999,9,-999,3.4125,27.24
49NZ20070724,   P01,   X17,1,25, X12043,2,20070824,1525,46.9,-144.4363,4682,829.8,2,3.3074,2,3.30667,2,34.2954,2,34.2961,2,20.59,2,20.67,2,128.4,2,0.4,43.75,2,0.16,0.01,2,0.01,3.133,2,0.018,0.176,2,0.083,2,0.008,2,-999,9,2365.6,2,2362.5,6,7.3282,25,2,-999,1,-999,-999,1,-999,-999,9,-999,-999,9,-999,3.2505,27.2995
49NZ20070724,   P01,   X17,1,24, X12030,2,20070824,1525,46.9,-144.4363,4682,930.9,2,3.0937,2,3.0949,2,34.3432,2,34.3439,2,15.05,2,15.2,2,135.98,2,0.42,44.18,2,0.16,0.01,2,0.01,3.144,2,0.018,0.068,2,0.033,2,0.007,2,-999,9,2375.4,2,2371.8,2,7.3236,25,6,-999,1,-999,-999,1,-999,-999,9,-999,-999,9,-999,3.0306,27.358
49NZ20070724,   P01,   X17,1,23, X12027,2,20070824,1525,46.9,-144.4363,4682,1068.2,2,2.8612,2,2.86092,2,34.3929,2,34.3929,6,12.26,2,12.29,2,144.61,2,0.44,44.61,2,0.16,0.01,2,0.01,3.188,2,0.018,0.031,2,0.013,2,0.005,2,-999,9,2389,2,2381.6,2,7.3226,25,2,-999,1,-999,-999,1,-999,-999,9,-999,-999,9,-999,2.7895,27.4194
49NZ20070724,   P01,   X17,1,22, X12028,2,20070824,1525,46.9,-144.4363,4682,1268.9,2,2.5663,2,2.56642,2,34.4564,2,34.4559,2,14.01,2,13.91,2,154.5,2,0.46,44.86,2,0.16,0.01,2,0.01,3.177,2,0.018,0.007,2,0.004,2,0,2,-999,9,2398,2,2395.4,2,7.3302,25,2,-999,1,-999,-999,1,-999,-999,9,-999,-999,9,-999,2.4819,27.4968
49NZ20070724,   P01,   X17,1,21, X12009,2,20070824,1525,46.9,-144.4363,4682,1470.1,2,2.3529,2,2.35294,2,34.5007,2,34.5004,2,20.68,2,20.53,2,161.04,2,0.47,44.5,2,0.16,0.01,2,0.01,3.146,2,0.018,0.002,2,0,2,0,2,-999,9,2400.1,2,2402.7,2,7.3451,25,2,-999,1,-999,-999,1,-999,-999,9,-999,-999,9,-999,2.2551,27.5511
49NZ20070724,   P01,   X17,1,20, X12026,2,20070824,1525,46.9,-144.4363,4682,1668.8,2,2.1814,2,2.18144,2,34.5362,2,34.536,2,31.43,2,31.42,2,164.79,2,0.48,43.87,2,0.16,0.01,2,0.01,3.098,2,0.018,0,2,0.001,2,0,2,-999,9,2395.4,2,2406.7,2,7.3681,25,6,-999,1,-999,-999,1,-999,-999,9,-999,-999,9,-999,2.0698,27.5946
49NZ20070724,   P01,   X17,1,19, X12025,2,20070824,1525,46.9,-144.4363,4682,1871.3,2,2.0266,2,2.02683,2,34.5688,2,34.568,2,44.88,2,44.67,2,167.82,2,0.49,43.1,2,0.15,0.01,2,0.01,3.037,2,0.018,0,2,0,2,0,2,-999,9,2390.8,2,2412.1,2,7.3944,25,2,-999,1,-999,-999,1,-999,-999,9,-999,-999,9,-999,1.9006,27.634
49NZ20070724,   P01,   X17,1,18, X12024,2,20070824,1525,46.9,-144.4363,4682,2070.3,2,1.9093,2,1.909,2,34.5919,2,34.5919,2,57.71,2,57.54,2,169.15,2,0.49,42.25,2,0.15,0.01,2,0.01,2.991,2,0.017,0.005,2,0.001,2,0,2,-999,9,2386.8,2,2416.8,2,7.4193,25,2,-999,1,-999,-999,1,-999,-999,9,-999,-999,9,-999,1.7685,27.6627
49NZ20070724,   P01,   X17,1,17, X12023,2,20070824,1525,46.9,-144.4363,4682,2269.4,2,1.8024,2,1.80242,2,34.612,2,34.6119,2,70.36,2,70.35,2,169.98,2,0.49,41.43,2,0.15,0.01,2,0.01,2.929,2,0.017,0.006,2,0.001,2,0,2,-999,9,2380,2,2418.7,2,7.4445,25,2,-999,1,-999,-999,1,-999,-999,9,-999,-999,9,-999,1.6463,27.688
49NZ20070724,   P01,   X17,1,16, X12022,2,20070824,1525,46.9,-144.4363,4682,2470,2,1.7172,2,1.71719,2,34.6283,2,34.6285,3,82.48,2,82.04,2,169.63,2,0.49,40.64,2,0.15,0.01,2,0.01,2.872,2,0.017,-999,9,-999,9,-999,9,-999,9,2372.5,6,2421.5,2,7.4669,25,2,-999,1,-999,-999,1,-999,-999,9,-999,-999,9,-999,1.545,27.7086
49NZ20070724,   P01,   X17,1,15, X12021,2,20070824,1525,46.9,-144.4363,4682,2670.9,2,1.6359,2,1.6359,2,34.643,2,34.6431,2,95.24,2,95.13,2,168.96,2,0.49,39.88,2,0.14,0,2,0.01,2.806,2,0.017,0,2,0.001,2,0,2,-999,9,2366.1,2,2420.9,6,7.4928,25,2,-999,1,-999,-999,1,-999,-999,9,-999,-999,9,-999,1.4471,27.7275
49NZ20070724,   P01,   X17,1,14, X12020,2,20070824,1525,46.9,-144.4363,4682,2873.4,2,1.5797,2,1.57961,2,34.6537,2,34.6538,2,105.69,2,105.6,2,167.99,2,0.49,39.25,2,0.14,0,2,0.01,2.764,2,0.017,-999,9,-999,9,-999,9,-999,9,2360.2,2,2422.5,2,7.5128,25,6,-999,1,-999,-999,1,-999,-999,9,-999,-999,9,-999,1.3732,27.7414
49NZ20070724,   P01,   X17,1,13, X12019,2,20070824,1525,46.9,-144.4363,4682,3080.5,2,1.5345,2,1.53449,2,34.6629,2,34.6624,2,115.31,2,115.09,2,166.95,2,0.49,38.64,2,0.14,0.01,2,0.01,2.718,2,0.017,-999,9,-999,9,-999,9,-999,9,2354.1,2,2424.3,2,7.5307,25,2,-999,1,-999,-999,1,-999,-999,9,-999,-999,9,-999,1.3093,27.7533
49NZ20070724,   P01,   X17,1,12, X12040,2,20070824,1525,46.9,-144.4363,4682,3327.7,2,1.505,2,1.5049,2,34.6702,2,34.6697,2,124.05,2,123.87,2,165.56,2,0.48,38,2,0.14,0,2,0.01,2.661,2,0.017,0.002,2,0.001,2,0,2,-999,9,2347.3,2,2424.6,2,7.5484,25,2,-999,1,-999,-999,1,-999,-999,9,-999,-999,9,-999,1.2562,27.7629
49NZ20070724,   P01,   X17,1,11, X12047,2,20070824,1525,46.9,-144.4363,4682,3579,2,1.4875,2,1.48748,2,34.6762,2,34.6762,3,130.55,2,130.72,2,165.17,2,0.48,37.58,2,0.14,0,2,0.01,2.632,2,0.017,-999,9,-999,9,-999,9,-999,9,2343,2,2426.5,2,7.5619,25,2,-999,1,-999,-999,1,-999,-999,9,-999,-999,9,-999,1.2136,27.7707
49NZ20070724,   P01,   X17,1,10, X12010,2,20070824,1525,46.9,-144.4363,4682,3830.1,2,1.4869,2,1.48694,2,34.68,2,34.6797,2,134.86,2,135.19,2,166.05,2,0.48,37.32,2,0.14,0,2,0.01,2.612,2,0.017,-999,9,-999,9,-999,9,-999,9,2341.4,2,2429.3,2,7.5723,25,2,-999,1,-999,-999,1,-999,-999,9,-999,-999,9,-999,1.1867,27.7756
49NZ20070724,   P01,   X17,1,9, X12015,2,20070824,1525,46.9,-144.4363,4682,4080.7,2,1.4998,2,1.4998,2,34.6828,2,34.6825,2,136.91,2,137.23,2,168.04,2,0.49,37.24,2,0.14,0.01,2,0.01,2.604,2,0.016,0,2,0,2,0,2,-999,9,2343.7,2,2430.9,2,7.5791,25,2,-999,1,-999,-999,1,-999,-999,9,-999,-999,9,-999,1.1721,27.7788
49NZ20070724,   P01,   X17,1,8, X12046,2,20070824,1525,46.9,-144.4363,4682,4329.4,2,1.5197,2,1.51974,2,34.6843,2,34.6841,2,138.13,2,138.51,2,169.17,2,0.49,37.11,2,0.14,0,2,0.01,2.592,2,0.016,-999,9,-999,9,-999,9,-999,9,2343.3,6,2432.9,2,7.5831,25,2,-999,1,-999,-999,1,-999,-999,9,-999,-999,9,-999,1.1636,27.7806
49NZ20070724,   P01,   X17,1,7, X12044,2,20070824,1525,46.9,-144.4363,4682,4580,2,1.5447,2,1.54466,2,34.6856,2,34.6854,2,138.77,2,139.07,2,171.55,2,0.5,37.17,2,0.14,0.01,2,0.01,2.595,2,0.016,-999,9,-999,9,-999,9,-999,9,2342.7,2,2434.8,6,7.5862,25,2,-999,1,-999,-999,1,-999,-999,9,-999,-999,9,-999,1.1591,27.7819
49NZ20070724,   P01,   X17,1,6, X12048,2,20070824,1525,46.9,-144.4363,4682,4580.3,2,1.5447,2,1.54461,2,34.6855,2,-999,9,138.79,2,-999,9,-999,9,-999,-999,9,-999,-999,9,-999,-999,9,-999,-999,9,-999,9,-999,9,-999,9,-999,9,-999,9,-999,-999,9,-999,9,-999,-999,9,-999,-999,9,-999,-999,9,-999,1.159,27.7819
49NZ20070724,   P01,   X17,1,5, X12017,2,20070824,1525,46.9,-144.4363,4682,4579.9,2,1.5447,2,1.54469,2,34.6855,2,-999,9,138.78,2,-999,9,-999,9,-999,-999,9,-999,-999,9,-999,-999,9,-999,-999,9,-999,9,-999,9,-999,9,-999,9,-999,9,-999,-999,9,-999,9,-999,-999,9,-999,-999,9,-999,-999,9,-999,1.1591,27.7819
49NZ20070724,   P01,   X17,1,4, X12928,2,20070824,1525,46.9,-144.4363,4682,4579.7,2,1.5447,2,1.54463,2,34.6856,2,-999,9,138.78,2,-999,9,-999,9,-999,-999,9,-999,-999,9,-999,-999,9,-999,-999,9,-999,9,-999,9,-999,9,-999,9,-999,9,-999,-999,9,-999,9,-999,-999,9,-999,-999,9,-999,-999,9,-999,1.1591,27.7819
49NZ20070724,   P01,   X17,1,3, X12931,2,20070824,1525,46.9,-144.4363,4682,4579.4,2,1.5447,2,1.54464,2,34.6856,2,-999,9,138.77,2,-999,9,-999,9,-999,-999,9,-999,-999,9,-999,-999,9,-999,-999,9,-999,9,-999,9,-999,9,-999,9,-999,9,-999,-999,9,-999,9,-999,-999,9,-999,-999,9,-999,-999,9,-999,1.1591,27.7819
49NZ20070724,   P01,   X17,1,2, X12930,2,20070824,1525,46.9,-144.4363,4682,4579.8,2,1.5447,2,1.54466,2,34.6856,2,-999,9,138.77,2,-999,9,-999,9,-999,-999,9,-999,-999,9,-999,-999,9,-999,-999,9,-999,9,-999,9,-999,9,-999,9,-999,9,-999,-999,9,-999,9,-999,-999,9,-999,-999,9,-999,-999,9,-999,1.1591,27.7819
49NZ20070724,   P01,   X17,1,1, X12929,2,20070824,1525,46.9,-144.4363,4682,4743,2,1.5611,2,1.56109,2,34.686,2,34.6859,6,139.27,2,139.39,2,172.84,2,0.5,37.16,2,0.14,0.01,2,0.01,2.597,2,0.016,0,2,0,2,0,2,-999,9,2343.8,2,2435.2,2,7.5869,25,2,-999,1,-999,-999,1,-999,-999,9,-999,-999,9,-999,1.1558,27.7825