BOTTLE,20081214JAMSTECIORGC,,,,,,,,,,,,,,,,,,,,,,,,,,,,,,,,,,,,,,,,,,,,,,,,,,,,,,,,,,,,,,,,,
EXPOCODE,SECT,STNNBR,CASTNO,SAMPNO,BTLNBR,BTLNBR_FLAG_W,DATE,TIME,LATITUDE,LONGITUDE,DEPTH,CTDPRS,CTDPRS_FLAG_W,CTDTMP,CTDTMP_FLAG_W,SBE35,SBE35_FLAG_W,CTDSAL,CTDSAL_FLAG_W,SALNTY,SALNTY_FLAG_W,CTDOXY,CTDOXY_FLAG_W,OXYGEN,OXYGEN_FLAG_W,SILCAT,SILCAT_FLAG_W,SILUNC,NITRAT,NITRAT_FLAG_W,NRAUNC,NITRIT,NITRIT_FLAG_W,NRIUNC,PHSPHT,PHSPHT_FLAG_W,PHPUNC,CFC-11,CFC-11_FLAG_W,CFC-12,CFC-12_FLAG_W,CFC113,CFC113_FLAG_W,CCL4,CCL4_FLAG_W,TCARBN,TCARBN_FLAG_W,ALKALI,ALKALI_FLAG_W,PH_TOT,PH_TMP,PH_FLAG_W,DELC13,DELC13_FLAG_W,C13ERR,DELC14,DELC14_FLAG_W,C14ERR,CS-137,CS-137_FLAG_W,CS137ER,PLUTO,PLUTO_FLAG_W,PLUTOER,THETA,SIG0
,,,,,,,,UTC,DEG,DEG,M,DBAR,,ITS-90,,ITS-90,,PSS-78,,PSS-78,,UMOL/KG,,UMOL/KG,,UMOL/KG,,UMOL/KG,UMOL/KG,,UMOL/KG,UMOL/KG,,UMOL/KG,UMOL/KG,,UMOL/KG,PMOL/KG,,PMOL/KG,,PMOL/KG,,PMOL/KG,,UMOL/KG,,UMOL/KG,,,ITS-90,,/MILLE,,/MILLE,/MILLE,,/MILLE,BQ/CUM,,BQ/CUM,MBQ/CUM,,MBQ/CUM,DEG C,KG/CUM
49NZ20070724,   P01,114,1,0,-999,9,20070829,421,46.999,-125.058,986,-999,9,-999,9,-999,9,-999,9,31.7273,2,-999,9,-999,9,-999,9,-999,-999,9,-999,-999,9,-999,-999,9,-999,-999,9,-999,9,-999,9,-999,9,-999,9,-999,9,-999,-999,9,-999,9,-999,-999,9,-999,-999,9,-999,-999,9,-999,-999,-999
49NZ20070724,   P01,114,1,36, X12042,2,20070829,421,46.999,-125.058,986,9.9,2,17.7797,2,17.779,2,31.7184,2,31.7089,2,251.62,2,249.84,2,9.72,2,0.14,0.04,2,0.03,0.01,2,0.01,0.301,2,0.014,2.604,2,1.545,2,-999,5,-999,9,1912.2,2,2153.8,2,8.003,25,6,-999,9,-999,-999,9,-999,-999,9,-999,-999,9,-999,17.7781,22.8138
49NZ20070724,   P01,114,1,35, X12041,2,20070829,421,46.999,-125.058,986,50.1,2,8.2373,2,8.23178,2,32.4249,2,32.4422,2,270.97,2,275.18,2,10.67,2,0.14,10.78,2,0.06,0.04,2,0.01,1.126,2,0.013,4.041,2,2.292,2,0.378,2,-999,9,2032.8,6,2177.1,2,7.7813,25,2,-999,9,-999,-999,9,-999,-999,9,-999,-999,9,-999,8.2324,25.2181
49NZ20070724,   P01,114,1,34, X12036,2,20070829,421,46.999,-125.058,986,99.7,2,7.8167,2,7.81667,2,33.3864,2,33.5261,2,160.45,2,141.55,2,32.01,2,0.19,26.9,2,0.11,0.02,2,0.01,2.032,2,0.015,-999,5,-999,5,-999,5,-999,9,2175,2,2237,6,7.5338,25,2,-999,9,-999,-999,9,-999,-999,9,-999,-999,9,-999,7.8071,26.0347
49NZ20070724,   P01,114,1,33, X12033,2,20070829,421,46.999,-125.058,986,149.9,2,7.4523,2,7.45122,2,33.8703,2,33.8793,2,113.39,2,102.48,2,41.74,2,0.21,31.19,2,0.12,0.02,2,0.01,2.3,2,0.016,3.049,6,1.598,6,0.185,6,-999,9,2219.6,2,2259.6,2,7.4661,25,6,-999,9,-999,-999,9,-999,-999,9,-999,-999,9,-999,7.4381,26.4679
49NZ20070724,   P01,114,1,32, X12038,2,20070829,421,46.999,-125.058,986,199.3,2,7.0331,2,7.03314,2,33.9581,2,33.9563,2,53.07,2,52.58,2,55.82,2,0.24,35.3,2,0.13,0.03,2,0.01,2.702,2,0.017,2.457,2,1.265,2,0.149,2,-999,9,2264.7,2,2271.3,2,7.3637,25,2,-999,9,-999,-999,9,-999,-999,9,-999,-999,9,-999,7.0147,26.596
49NZ20070724,   P01,114,1,31, X12003,2,20070829,421,46.999,-125.058,986,252,2,6.8417,2,6.8423,2,33.992,2,33.9883,6,47.55,2,49.18,2,57.83,2,0.25,36.25,2,0.13,0.03,2,0.01,2.743,2,0.017,2.232,2,1.133,2,0.124,2,-999,9,2269.8,2,2275.1,2,7.3621,25,2,-999,9,-999,-999,9,-999,-999,9,-999,-999,9,-999,6.8187,26.6494
49NZ20070724,   P01,114,1,30, X12008,2,20070829,421,46.999,-125.058,986,327.9,2,6.1581,2,6.15811,2,34.0558,2,34.0553,2,47.18,2,47.75,2,65.09,2,0.26,38.12,2,0.14,0.01,2,0.01,2.809,2,0.017,1.554,2,0.755,2,0.078,2,-999,9,2282.1,2,2291,2,7.3703,25,2,-999,9,-999,-999,9,-999,-999,9,-999,-999,9,-999,6.1297,26.7901
49NZ20070724,   P01,114,1,29, X12035,2,20070829,421,46.999,-125.058,986,429.6,2,5.6252,2,5.6249,2,34.0904,2,34.0891,2,36.95,2,37.28,2,74.37,2,0.28,39.9,2,0.14,0.01,2,0.01,2.94,2,0.017,1.087,2,0.525,2,0.049,2,-999,9,2298.3,2,2302.2,2,7.3517,25,2,-999,9,-999,-999,9,-999,-999,9,-999,-999,9,-999,5.5894,26.8846
49NZ20070724,   P01,114,1,28, X12034,2,20070829,421,46.999,-125.058,986,529.1,2,5.0692,2,5.0704,2,34.1541,2,34.1564,2,22.71,2,22.74,2,87.54,2,0.31,41.56,2,0.15,0.01,2,0.01,3.087,2,0.018,0.591,2,0.29,2,0.03,2,-999,9,2322.1,2,2318,2,7.331,25,2,-999,9,-999,-999,9,-999,-999,9,-999,-999,9,-999,5.027,27.0015
49NZ20070724,   P01,114,1,27, X12049,2,20070829,421,46.999,-125.058,986,629.3,2,4.7006,2,4.70116,2,34.2092,2,34.2113,2,15.35,2,15.44,2,96.9,2,0.33,42.61,2,0.15,0.01,2,0.01,3.163,2,0.018,0.337,2,0.166,2,0.019,2,-999,9,2338,2,2330.9,2,7.3242,25,2,-999,9,-999,-999,9,-999,-999,9,-999,-999,9,-999,4.6516,27.0875
49NZ20070724,   P01,114,1,26, X12032,2,20070829,421,46.999,-125.058,986,729.7,2,4.417,2,4.41598,2,34.2575,2,34.2572,2,12.56,2,12.86,2,104.64,2,0.35,43.08,2,0.15,0.01,2,0.01,3.199,2,0.018,0.236,6,0.12,6,0.015,6,-999,9,2347.9,6,2341.2,2,7.3237,25,2,-999,9,-999,-999,9,-999,-999,9,-999,-999,9,-999,4.3612,27.1576
49NZ20070724,   P01,114,1,25, X12043,2,20070829,421,46.999,-125.058,986,832.2,2,3.9973,2,3.99682,2,34.3266,2,34.329,2,10.99,2,11.34,2,116.56,2,0.38,43.64,2,0.15,0.01,2,0.01,3.238,2,0.018,0.117,2,0.052,2,0.013,2,-999,9,2361.4,2,2357.8,6,7.3276,25,2,-999,9,-999,-999,9,-999,-999,9,-999,-999,9,-999,3.9357,27.2571
49NZ20070724,   P01,114,1,24, X12030,9,20070829,421,46.999,-125.058,986,9.8,2,17.7585,2,17.75415,2,31.7164,2,-999,9,251.59,2,-999,9,-999,9,-999,-999,9,-999,-999,9,-999,-999,9,-999,-999,9,-999,9,-999,9,-999,9,-999,9,-999,9,-999,-999,9,-999,9,-999,-999,9,-999,-999,9,-999,-999,9,-999,17.7569,22.8173
49NZ20070724,   P01,114,1,23, X12027,9,20070829,421,46.999,-125.058,986,329.6,2,6.1554,2,6.15521,2,34.0567,2,-999,9,47.09,2,-999,9,-999,9,-999,-999,9,-999,-999,9,-999,-999,9,-999,-999,9,-999,9,-999,9,-999,9,-999,9,-999,9,-999,-999,9,-999,9,-999,-999,9,-999,-999,9,-999,-999,9,-999,6.1268,26.7912
49NZ20070724,   P01,114,1,22, X12028,9,20070829,421,46.999,-125.058,986,429.4,2,5.6204,2,5.61991,2,34.0902,2,-999,9,36.89,2,-999,9,-999,9,-999,-999,9,-999,-999,9,-999,-999,9,-999,-999,9,-999,9,-999,9,-999,9,-999,9,-999,9,-999,-999,9,-999,9,-999,-999,9,-999,-999,9,-999,-999,9,-999,5.5846,26.885
49NZ20070724,   P01,114,1,21, X12009,9,20070829,421,46.999,-125.058,986,529,2,5.0695,2,5.06942,2,34.1538,2,-999,9,22.7,2,-999,9,-999,9,-999,-999,9,-999,-999,9,-999,-999,9,-999,-999,9,-999,9,-999,9,-999,9,-999,9,-999,9,-999,-999,9,-999,9,-999,-999,9,-999,-999,9,-999,-999,9,-999,5.0273,27.0012
49NZ20070724,   P01,114,1,20, X12026,9,20070829,421,46.999,-125.058,986,629.4,2,4.6996,2,4.69947,2,34.2093,2,-999,9,15.33,2,-999,9,-999,9,-999,-999,9,-999,-999,9,-999,-999,9,-999,-999,9,-999,9,-999,9,-999,9,-999,9,-999,9,-999,-999,9,-999,9,-999,-999,9,-999,-999,9,-999,-999,9,-999,4.6506,27.0877
49NZ20070724,   P01,114,1,19, X12025,9,20070829,421,46.999,-125.058,986,729.7,2,4.4183,2,4.41749,2,34.2572,2,-999,9,12.6,2,-999,9,-999,9,-999,-999,9,-999,-999,9,-999,-999,9,-999,-999,9,-999,9,-999,9,-999,9,-999,9,-999,9,-999,-999,9,-999,9,-999,-999,9,-999,-999,9,-999,-999,9,-999,4.3625,27.1572
49NZ20070724,   P01,114,1,18, X12024,9,20070829,421,46.999,-125.058,986,831.5,2,3.9878,2,3.98756,2,34.3281,2,-999,9,11.03,2,-999,9,-999,9,-999,-999,9,-999,-999,9,-999,-999,9,-999,-999,9,-999,9,-999,9,-999,9,-999,9,-999,9,-999,-999,9,-999,9,-999,-999,9,-999,-999,9,-999,-999,9,-999,3.9263,27.2592
49NZ20070724,   P01,114,1,17, X12023,9,20070829,421,46.999,-125.058,986,950.6,2,3.6946,2,3.69439,2,34.3733,2,-999,9,11.76,2,-999,9,-999,9,-999,-999,9,-999,-999,9,-999,-999,9,-999,-999,9,-999,9,-999,9,-999,9,-999,9,-999,9,-999,-999,9,-999,9,-999,-999,9,-999,-999,9,-999,-999,9,-999,3.6255,27.3255
49NZ20070724,   P01,114,1,16, X12022,9,20070829,421,46.999,-125.058,986,950.7,2,3.6941,2,3.69439,2,34.3687,2,-999,9,11.75,2,-999,9,-999,9,-999,-999,9,-999,-999,9,-999,-999,9,-999,-999,9,-999,9,-999,9,-999,9,-999,9,-999,9,-999,-999,9,-999,9,-999,-999,9,-999,-999,9,-999,-999,9,-999,3.625,27.3219
49NZ20070724,   P01,114,1,15, X12021,2,20070829,421,46.999,-125.058,986,19.7,2,17.6167,2,17.62,2,31.8095,2,-999,9,254.18,2,-999,9,-999,9,-999,-999,9,-999,-999,9,-999,-999,9,-999,-999,9,-999,9,-999,9,-999,9,-999,9,-999,9,-999,-999,9,-999,9,-999,-999,9,-999,-999,9,-999,-999,9,-999,17.6135,22.9228
49NZ20070724,   P01,114,1,14, X12020,2,20070829,421,46.999,-125.058,986,30.2,2,10.193,2,9.84126,2,32.3016,2,-999,9,272.19,2,-999,9,-999,9,-999,-999,9,-999,-999,9,-999,-999,9,-999,-999,9,-999,9,-999,9,-999,9,-999,9,-999,9,-999,-999,9,-999,9,-999,-999,9,-999,-999,9,-999,-999,9,-999,10.1896,24.814
49NZ20070724,   P01,114,1,13, X12019,9,20070829,421,46.999,-125.058,986,9.9,2,17.7737,2,17.76453,2,31.7189,2,-999,9,252.08,2,-999,9,-999,9,-999,-999,9,-999,-999,9,-999,-999,9,-999,-999,9,-999,9,-999,9,-999,9,-999,9,-999,9,-999,-999,9,-999,9,-999,-999,9,-999,-999,9,-999,-999,9,-999,17.7721,22.8156
49NZ20070724,   P01,114,1,12, X12040,9,20070829,421,46.999,-125.058,986,9.9,2,17.7813,2,17.77961,2,31.7177,2,-999,9,252.1,2,-999,9,-999,9,-999,-999,9,-999,-999,9,-999,-999,9,-999,-999,9,-999,9,-999,9,-999,9,-999,9,-999,9,-999,-999,9,-999,9,-999,-999,9,-999,-999,9,-999,-999,9,-999,17.7797,22.8129
49NZ20070724,   P01,114,1,11, X12047,9,20070829,421,46.999,-125.058,986,50.2,2,8.2627,2,8.26487,2,32.4226,2,-999,9,271.53,2,-999,9,-999,9,-999,-999,9,-999,-999,9,-999,-999,9,-999,-999,9,-999,9,-999,9,-999,9,-999,9,-999,9,-999,-999,9,-999,9,-999,-999,9,-999,-999,9,-999,-999,9,-999,8.2578,25.2126
49NZ20070724,   P01,114,1,10, X12010,9,20070829,421,46.999,-125.058,986,50.2,2,8.2656,2,8.26588,2,32.4221,2,-999,9,271.25,2,-999,9,-999,9,-999,-999,9,-999,-999,9,-999,-999,9,-999,-999,9,-999,9,-999,9,-999,9,-999,9,-999,9,-999,-999,9,-999,9,-999,-999,9,-999,-999,9,-999,-999,9,-999,8.2607,25.2118
49NZ20070724,   P01,114,1,9, X12015,9,20070829,421,46.999,-125.058,986,99.8,2,7.8165,2,7.81365,2,33.3686,2,-999,9,160.26,2,-999,9,-999,9,-999,-999,9,-999,-999,9,-999,-999,9,-999,-999,9,-999,9,-999,9,-999,9,-999,9,-999,9,-999,-999,9,-999,9,-999,-999,9,-999,-999,9,-999,-999,9,-999,7.8069,26.0208
49NZ20070724,   P01,114,1,8, X12046,9,20070829,421,46.999,-125.058,986,99.7,2,7.8157,2,7.81524,2,33.3793,2,-999,9,160.32,2,-999,9,-999,9,-999,-999,9,-999,-999,9,-999,-999,9,-999,-999,9,-999,9,-999,9,-999,9,-999,9,-999,9,-999,-999,9,-999,9,-999,-999,9,-999,-999,9,-999,-999,9,-999,7.8061,26.0293
49NZ20070724,   P01,114,1,7, X12044,9,20070829,421,46.999,-125.058,986,149.7,2,7.45,2,7.44866,2,33.8717,2,-999,9,112.72,2,-999,9,-999,9,-999,-999,9,-999,-999,9,-999,-999,9,-999,-999,9,-999,9,-999,9,-999,9,-999,9,-999,9,-999,-999,9,-999,9,-999,-999,9,-999,-999,9,-999,-999,9,-999,7.4358,26.4693
49NZ20070724,   P01,114,1,6, X12048,9,20070829,421,46.999,-125.058,986,149.7,2,7.4504,2,7.44869,2,33.8719,2,-999,9,112.02,2,-999,9,-999,9,-999,-999,9,-999,-999,9,-999,-999,9,-999,-999,9,-999,9,-999,9,-999,9,-999,9,-999,9,-999,-999,9,-999,9,-999,-999,9,-999,-999,9,-999,-999,9,-999,7.4362,26.4694
49NZ20070724,   P01,114,1,5, X12014,9,20070829,421,46.999,-125.058,986,199.2,2,7.0309,2,7.03108,2,33.958,2,-999,9,52.53,2,-999,9,-999,9,-999,-999,9,-999,-999,9,-999,-999,9,-999,-999,9,-999,9,-999,9,-999,9,-999,9,-999,9,-999,-999,9,-999,9,-999,-999,9,-999,-999,9,-999,-999,9,-999,7.0125,26.5962
49NZ20070724,   P01,114,1,4, X12928,9,20070829,421,46.999,-125.058,986,199.3,2,7.0319,2,7.03215,2,33.958,2,-999,9,53.02,2,-999,9,-999,9,-999,-999,9,-999,-999,9,-999,-999,9,-999,-999,9,-999,9,-999,9,-999,9,-999,9,-999,9,-999,-999,9,-999,9,-999,-999,9,-999,-999,9,-999,-999,9,-999,7.0135,26.5961
49NZ20070724,   P01,114,1,3, X12931,9,20070829,421,46.999,-125.058,986,25,2,13.8157,2,13.87119,2,32.2238,2,-999,9,309.98,2,-999,9,-999,9,-999,-999,9,-999,-999,9,-999,-999,9,-999,-999,9,-999,9,-999,9,-999,9,-999,9,-999,9,-999,-999,9,-999,9,-999,-999,9,-999,-999,9,-999,-999,9,-999,13.8122,24.0809
49NZ20070724,   P01,114,1,2, X12930,2,20070829,421,46.999,-125.058,986,24.9,2,13.6369,2,13.66876,2,32.2232,2,-999,9,311.13,2,311.13,2,6.68,2,0.13,0.71,2,0.03,0.04,2,0.01,0.522,2,0.013,-999,9,-999,9,-999,9,-999,9,-999,9,-999,9,-999,-999,9,-999,9,-999,-999,9,-999,-999,9,-999,-999,9,-999,13.6335,24.1167
49NZ20070724,   P01,114,1,1, X12929,2,20070829,421,46.999,-125.058,986,950.5,2,3.6945,2,3.6941,2,34.3734,2,34.3709,6,11.73,2,11.87,2,124.15,2,0.39,43.79,2,0.16,0.02,2,0.01,3.23,2,0.018,0.072,2,0.034,2,0,2,-999,9,2368.6,2,2367.2,2,7.3307,25,2,-999,9,-999,-999,9,-999,-999,9,-999,-999,9,-999,3.6254,27.3256