BOTTLE,20081214JAMSTECIORGC,,,,,,,,,,,,,,,,,,,,,,,,,,,,,,,,,,,,,,,,,,,,,,,,,,,,,,,,,,,,,,,,,
EXPOCODE,SECT,STNNBR,CASTNO,SAMPNO,BTLNBR,BTLNBR_FLAG_W,DATE,TIME,LATITUDE,LONGITUDE,DEPTH,CTDPRS,CTDPRS_FLAG_W,CTDTMP,CTDTMP_FLAG_W,SBE35,SBE35_FLAG_W,CTDSAL,CTDSAL_FLAG_W,SALNTY,SALNTY_FLAG_W,CTDOXY,CTDOXY_FLAG_W,OXYGEN,OXYGEN_FLAG_W,SILCAT,SILCAT_FLAG_W,SILUNC,NITRAT,NITRAT_FLAG_W,NRAUNC,NITRIT,NITRIT_FLAG_W,NRIUNC,PHSPHT,PHSPHT_FLAG_W,PHPUNC,CFC-11,CFC-11_FLAG_W,CFC-12,CFC-12_FLAG_W,CFC113,CFC113_FLAG_W,CCL4,CCL4_FLAG_W,TCARBN,TCARBN_FLAG_W,ALKALI,ALKALI_FLAG_W,PH_TOT,PH_TMP,PH_FLAG_W,DELC13,DELC13_FLAG_W,C13ERR,DELC14,DELC14_FLAG_W,C14ERR,CS-137,CS-137_FLAG_W,CS137ER,PLUTO,PLUTO_FLAG_W,PLUTOER,THETA,SIG0
,,,,,,,,UTC,DEG,DEG,M,DBAR,,ITS-90,,ITS-90,,PSS-78,,PSS-78,,UMOL/KG,,UMOL/KG,,UMOL/KG,,UMOL/KG,UMOL/KG,,UMOL/KG,UMOL/KG,,UMOL/KG,UMOL/KG,,UMOL/KG,PMOL/KG,,PMOL/KG,,PMOL/KG,,PMOL/KG,,UMOL/KG,,UMOL/KG,,,ITS-90,,/MILLE,,/MILLE,/MILLE,,/MILLE,BQ/CUM,,BQ/CUM,MBQ/CUM,,MBQ/CUM,DEG C,KG/CUM
49NZ20070724,   P01,65,1,0,-999,9,20070816,59,47.0123,-176.0447,5637,-999,9,-999,9,-999,9,-999,9,32.5541,2,-999,9,-999,9,-999,9,-999,-999,9,-999,-999,9,-999,-999,9,-999,-999,9,-999,9,-999,9,-999,9,-999,9,-999,9,-999,-999,9,-999,9,-999,-999,9,-999,-999,1,-999,-999,1,-999,-999,-999
49NZ20070724,   P01,65,1,36, X12042,2,20070816,59,47.0123,-176.0447,5637,9.5,2,13.6151,2,13.61181,2,32.5729,2,32.6412,2,278.85,2,280.81,2,15.01,2,0.15,9.08,2,0.06,0.13,2,0.01,1.01,2,0.013,3.307,2,1.713,2,0.335,2,-999,9,-999,9,-999,9,-999,-999,9,-999,9,-999,-999,9,-999,-999,9,-999,-999,9,-999,13.6138,24.3909
49NZ20070724,   P01,65,1,35, X12041,2,20070816,59,47.0123,-176.0447,5637,50.1,2,5.1568,2,5.15709,2,33.0304,2,33.0289,2,310.29,2,312.78,2,28.71,2,0.18,16.88,2,0.08,0.4,2,0,1.552,2,0.014,4.813,2,2.438,2,0.491,2,-999,9,-999,9,-999,9,-999,-999,9,-999,9,-999,-999,9,-999,-999,9,-999,-999,9,-999,5.153,26.0967
49NZ20070724,   P01,65,1,34, X12036,2,20070816,59,47.0123,-176.0447,5637,100.2,2,4.7771,2,4.77706,2,33.1247,2,33.1466,2,301.48,2,299.91,2,28.89,2,0.18,18.46,2,0.08,0.01,2,0.01,1.543,2,0.014,4.704,2,2.379,2,0.462,2,-999,9,-999,9,-999,9,-999,-999,9,-999,9,-999,-999,9,-999,-999,1,-999,-999,9,-999,4.7698,26.2141
49NZ20070724,   P01,65,1,33, X12033,2,20070816,59,47.0123,-176.0447,5637,150,2,3.9294,2,3.92882,2,33.5798,2,33.5964,2,195.14,2,192.89,2,54.82,2,0.24,30.17,2,0.12,0.01,2,0.01,2.262,2,0.016,3.886,6,1.894,6,0.297,6,-999,9,-999,9,-999,9,-999,-999,9,-999,9,-999,-999,9,-999,-999,9,-999,-999,9,-999,3.9193,26.6646
49NZ20070724,   P01,65,1,32, X12038,2,20070816,59,47.0123,-176.0447,5637,200.7,2,3.8046,2,3.80491,2,33.7363,2,33.7392,2,130.67,2,131.79,2,70.03,2,0.27,35.39,2,0.13,0.01,2,0.01,2.593,2,0.016,3.162,2,1.501,2,0.234,2,-999,9,-999,9,-999,9,-999,-999,9,-999,9,-999,-999,9,-999,-999,1,-999,-999,9,-999,3.7912,26.8019
49NZ20070724,   P01,65,1,31, X12003,2,20070816,59,47.0123,-176.0447,5637,250.1,2,3.7716,2,3.77146,2,33.8148,2,33.8201,6,101.8,2,102.68,2,78.84,2,0.29,37.75,2,0.14,0.01,2,0.01,2.747,2,0.017,2.692,2,1.27,2,0.198,2,-999,9,-999,9,-999,9,-999,-999,9,-999,9,-999,-999,9,-999,-999,9,-999,-999,9,-999,3.7549,26.8679
49NZ20070724,   P01,65,1,30, X12008,2,20070816,59,47.0123,-176.0447,5637,279.4,2,3.7826,2,3.78236,2,33.8604,2,33.8714,2,89.2,2,87.68,2,83.98,2,0.3,38.97,2,0.14,0.02,2,0.01,2.82,2,0.017,2.389,2,1.12,2,0.163,2,-999,9,-999,9,-999,9,-999,-999,9,-999,9,-999,-999,9,-999,-999,9,-999,-999,9,-999,3.7638,26.9033
49NZ20070724,   P01,65,1,29, X12035,2,20070816,59,47.0123,-176.0447,5637,371,2,3.762,2,3.76163,2,33.9795,2,33.9857,2,56.31,2,56.18,2,96.1,2,0.33,41.45,2,0.15,0.01,2,0.01,2.97,2,0.017,1.732,2,0.801,2,0.121,2,-999,9,-999,9,-999,9,-999,-999,9,-999,9,-999,-999,9,-999,-999,1,-999,-999,9,-999,3.7367,27.0009
49NZ20070724,   P01,65,1,28, X12034,2,20070816,59,47.0123,-176.0447,5637,469.7,2,3.6665,2,3.66639,2,34.095,2,34.0989,6,33.97,2,33.85,2,108.42,2,0.36,42.93,2,0.15,0,2,0.01,3.067,2,0.018,1.082,2,0.49,2,0.077,2,-999,9,-999,9,-999,9,-999,-999,9,-999,9,-999,-999,9,-999,-999,9,-999,-999,9,-999,3.6344,27.1029
49NZ20070724,   P01,65,1,27, X12049,2,20070816,59,47.0123,-176.0447,5637,569.7,2,3.5324,2,3.53222,2,34.1703,2,34.1734,2,25.79,2,25.46,2,117.12,2,0.38,43.53,2,0.15,0.01,2,0.01,3.104,2,0.018,0.725,2,0.322,2,0.046,2,-999,9,-999,9,-999,9,-999,-999,9,-999,9,-999,-999,9,-999,-999,1,-999,-999,9,-999,3.4936,27.1766
49NZ20070724,   P01,65,1,26, X12032,2,20070816,59,47.0123,-176.0447,5637,670.5,2,3.3568,2,3.35641,2,34.2414,2,34.242,2,22.85,2,22.91,2,125.08,2,0.39,43.74,2,0.16,0,2,0.01,3.12,2,0.018,0.473,2,0.211,2,0.031,2,-999,9,-999,9,-999,9,-999,-999,9,-999,9,-999,-999,9,-999,-999,9,-999,-999,9,-999,3.3114,27.2506
49NZ20070724,   P01,65,1,25, X12043,2,20070816,59,47.0123,-176.0447,5637,771.3,2,3.1865,2,3.18655,2,34.2919,2,34.2921,2,22.79,2,22.79,2,131.9,2,0.41,43.79,2,0.16,0,2,0.01,3.125,2,0.018,0.326,2,0.145,2,0.017,2,-999,9,-999,9,-999,9,-999,-999,9,-999,9,-999,-999,9,-999,-999,1,-999,-999,9,-999,3.1347,27.3074
49NZ20070724,   P01,65,1,24, X12030,2,20070816,59,47.0123,-176.0447,5637,869.4,2,3.0236,2,3.02341,2,34.3339,2,34.3343,2,23.18,2,23.23,2,137.35,2,0.42,43.8,2,0.16,0.01,2,0.01,3.131,2,0.018,0.24,2,0.104,2,0.018,2,-999,9,-999,9,-999,9,-999,-999,9,-999,9,-999,-999,9,-999,-999,9,-999,-999,9,-999,2.9656,27.3565
49NZ20070724,   P01,65,1,23, X12027,2,20070816,59,47.0123,-176.0447,5637,969.8,2,2.8864,2,2.88642,2,34.3723,2,34.3722,6,24.88,2,25.1,2,141.77,2,0.43,43.74,2,0.16,0,2,0.01,3.124,2,0.018,0.17,2,0.071,2,0.014,2,-999,9,-999,9,-999,9,-999,-999,9,-999,9,-999,-999,9,-999,-999,1,-999,-999,9,-999,2.8219,27.4
49NZ20070724,   P01,65,1,22, X12028,2,20070816,59,47.0123,-176.0447,5637,1129.8,2,2.6481,2,2.64801,2,34.4274,2,34.4274,2,27.2,2,27.51,2,149.32,2,0.45,43.73,2,0.16,0,2,0.01,3.114,2,0.018,0.093,2,0.039,2,0.006,2,-999,9,-999,9,-999,9,-999,-999,9,-999,9,-999,-999,9,-999,-999,9,-999,-999,9,-999,2.5735,27.4657
49NZ20070724,   P01,65,1,21, X12009,2,20070816,59,47.0123,-176.0447,5637,1329.1,2,2.4181,2,2.41768,2,34.4784,2,34.4785,2,32.55,2,32.56,2,156.11,2,0.46,43.58,2,0.15,0,2,0.01,3.096,2,0.018,0.045,2,0.021,2,0.003,2,-999,9,-999,9,-999,9,-999,-999,9,-999,9,-999,-999,9,-999,-999,9,-999,-999,9,-999,2.3305,27.527
49NZ20070724,   P01,65,1,20, X12026,2,20070816,59,47.0123,-176.0447,5637,1529.8,2,2.234,2,2.2339,2,34.5189,2,34.5189,2,40.28,2,40.23,2,160.86,2,0.47,43.27,2,0.15,-0.01,2,0.01,3.06,2,0.018,0.022,2,0.01,2,0,2,-999,9,-999,9,-999,9,-999,-999,9,-999,9,-999,-999,9,-999,-999,9,-999,-999,9,-999,2.1328,27.5756
49NZ20070724,   P01,65,1,19, X12025,2,20070816,59,47.0123,-176.0447,5637,1728.9,2,2.0929,2,2.09271,2,34.5515,2,34.5513,2,49.62,2,49.41,2,163.77,2,0.48,42.65,2,0.15,0,2,0.01,3.019,2,0.017,0.008,2,0.004,2,0.004,2,-999,9,-999,9,-999,9,-999,-999,9,-999,9,-999,-999,9,-999,-999,1,-999,-999,9,-999,1.9776,27.6141
49NZ20070724,   P01,65,1,18, X12024,2,20070816,59,47.0123,-176.0447,5637,1930.3,2,1.9575,2,1.95728,2,34.5809,2,34.5808,2,60.8,2,60.59,2,165.28,2,0.48,41.95,2,0.15,0,2,0.01,2.97,2,0.017,0.003,2,0,2,0,2,-999,9,-999,9,-999,9,-999,-999,9,-999,9,-999,-999,9,-999,-999,1,-999,-999,9,-999,1.8277,27.6493
49NZ20070724,   P01,65,1,17, X12023,2,20070816,59,47.0123,-176.0447,5637,2129,2,1.8424,2,1.84235,2,34.6045,2,34.6037,2,72.8,2,72.58,2,166.62,2,0.49,41.36,2,0.15,0,2,0.01,2.918,2,0.017,0.011,2,0.003,2,0.005,2,-999,9,-999,9,-999,9,-999,-999,9,-999,9,-999,-999,9,-999,-999,1,-999,-999,9,-999,1.6977,27.6781
49NZ20070724,   P01,65,1,16, X12022,2,20070816,59,47.0123,-176.0447,5637,2329.5,2,1.7637,2,1.76374,2,34.6208,2,34.6208,2,82.57,2,82.15,2,166.4,2,0.49,40.76,2,0.15,0,2,0.01,2.874,2,0.017,-999,9,-999,9,-999,9,-999,9,-999,9,-999,9,-999,-999,9,-999,9,-999,-999,9,-999,-999,9,-999,-999,9,-999,1.603,27.6983
49NZ20070724,   P01,65,1,15, X12021,2,20070816,59,47.0123,-176.0447,5637,2530.6,2,1.6921,2,1.69204,2,34.6347,2,34.6343,6,92.63,2,92.07,2,165.41,2,0.48,40.13,2,0.15,0,2,0.01,2.823,2,0.017,0,2,0,2,0.005,2,-999,9,-999,9,-999,9,-999,-999,9,-999,9,-999,-999,9,-999,-999,9,-999,-999,9,-999,1.5149,27.7159
49NZ20070724,   P01,65,1,14, X12020,2,20070816,59,47.0123,-176.0447,5637,2730.1,2,1.632,2,1.63197,2,34.6458,2,34.6461,2,103.1,2,102.82,2,164.04,2,0.48,39.4,2,0.14,0.01,2,0.01,2.773,2,0.017,-999,9,-999,9,-999,9,-999,9,-999,9,-999,9,-999,-999,9,-999,9,-999,-999,9,-999,-999,1,-999,-999,9,-999,1.4378,27.7304
49NZ20070724,   P01,65,1,13, X12019,2,20070816,59,47.0123,-176.0447,5637,2929.9,2,1.5882,2,1.58819,2,34.6543,2,34.6544,2,111.71,2,111.26,2,161.77,2,0.47,38.87,2,0.14,0.01,2,0.01,2.742,2,0.017,-999,9,-999,9,-999,9,-999,9,-999,9,-999,9,-999,-999,9,-999,9,-999,-999,9,-999,-999,1,-999,-999,9,-999,1.3762,27.7417
49NZ20070724,   P01,65,1,12, X12040,2,20070816,59,47.0123,-176.0447,5637,3169.7,2,1.5394,2,1.53925,2,34.6635,2,34.6639,2,122.74,2,122.4,2,159.41,2,0.47,38.15,2,0.14,0,2,0.01,2.678,2,0.017,0,2,0.001,2,0.003,2,-999,9,-999,9,-999,9,-999,-999,9,-999,9,-999,-999,9,-999,-999,1,-999,-999,9,-999,1.3054,27.7541
49NZ20070724,   P01,65,1,11, X12047,2,20070816,59,47.0123,-176.0447,5637,3418.8,2,1.5063,2,1.5063,2,34.6708,2,34.6708,2,131.06,2,130.76,2,156.99,2,0.46,37.54,2,0.14,0,2,0.01,2.632,2,0.017,-999,9,-999,9,-999,9,-999,9,-999,9,-999,9,-999,-999,9,-999,9,-999,-999,9,-999,-999,9,-999,-999,9,-999,1.2483,27.7639
49NZ20070724,   P01,65,1,10, X12010,2,20070816,59,47.0123,-176.0447,5637,3669.4,2,1.484,2,1.48396,2,34.6765,2,34.6766,2,137.9,2,137.79,2,155.81,2,0.46,37.13,2,0.14,0,2,0.01,2.6,2,0.016,-999,9,-999,9,-999,9,-999,9,-999,9,-999,9,-999,-999,9,-999,9,-999,-999,9,-999,-999,1,-999,-999,9,-999,1.2008,27.7718
49NZ20070724,   P01,65,1,9, X12015,2,20070816,59,47.0123,-176.0447,5637,3920.8,2,1.4713,2,1.47131,2,34.6811,2,34.6807,2,143.5,2,143.66,2,155.29,2,0.46,36.81,2,0.14,0.02,2,0.01,2.568,2,0.016,0,2,0,2,0,2,-999,9,-999,9,-999,9,-999,-999,9,-999,9,-999,-999,9,-999,-999,1,-999,-999,9,-999,1.1618,27.7782
49NZ20070724,   P01,65,1,8, X12046,2,20070816,59,47.0123,-176.0447,5637,4169.2,2,1.4705,2,1.47046,2,34.6844,2,34.6847,6,147.82,2,148.02,2,154.29,2,0.46,36.5,2,0.13,0.01,2,0.01,2.546,2,0.016,-999,9,-999,9,-999,9,-999,9,-999,9,-999,9,-999,-999,9,-999,9,-999,-999,9,-999,-999,1,-999,-999,9,-999,1.1339,27.7827
49NZ20070724,   P01,65,1,7, X12044,2,20070816,59,47.0123,-176.0447,5637,4419.4,2,1.4826,2,1.48264,2,34.6865,2,34.6865,2,149.74,2,149.85,2,155.63,2,0.46,36.4,2,0.13,0,2,0.01,2.536,2,0.016,-999,9,-999,9,-999,9,-999,9,-999,9,-999,9,-999,-999,9,-999,9,-999,-999,9,-999,-999,9,-999,-999,9,-999,1.1174,27.7855
49NZ20070724,   P01,65,1,6, X12048,2,20070816,59,47.0123,-176.0447,5637,4670.6,2,1.5047,2,1.50479,2,34.6878,2,34.6876,2,150.44,2,150.66,2,157.1,2,0.46,36.35,2,0.13,0.01,2,0.01,2.534,2,0.016,0,2,0,2,0.003,2,-999,9,-999,9,-999,9,-999,-999,9,-999,9,-999,-999,9,-999,-999,1,-999,-999,9,-999,1.1097,27.7871
49NZ20070724,   P01,65,1,5, X12017,2,20070816,59,47.0123,-176.0447,5637,4919.5,2,1.5305,2,1.53055,2,34.6883,2,34.6873,2,151.56,2,151.76,2,157.07,2,0.46,36.29,2,0.13,0.01,2,0.01,2.529,2,0.016,-999,9,-999,9,-999,9,-999,9,-999,9,-999,9,-999,-999,9,-999,9,-999,-999,9,-999,-999,1,-999,-999,9,-999,1.105,27.7879
49NZ20070724,   P01,65,1,4, X12928,2,20070816,59,47.0123,-176.0447,5637,5168.7,2,1.5597,2,1.55968,2,34.6886,2,34.6885,2,152.15,2,152.15,2,157.54,2,0.47,36.24,2,0.13,0.01,2,0.01,2.522,2,0.016,0.006,2,0.006,2,0,2,-999,9,-999,9,-999,9,-999,-999,9,-999,9,-999,-999,9,-999,-999,1,-999,-999,9,-999,1.1027,27.7882
49NZ20070724,   P01,65,1,3, X12931,2,20070816,59,47.0123,-176.0447,5637,5419.8,2,1.5913,2,1.5913,2,34.6888,2,34.6885,2,152.49,2,152.39,2,157.51,2,0.47,36.21,2,0.13,0,2,0.01,2.519,2,0.016,-999,9,-999,9,-999,9,-999,9,-999,9,-999,9,-999,-999,9,-999,9,-999,-999,9,-999,-999,9,-999,-999,9,-999,1.1017,27.7885
49NZ20070724,   P01,65,1,2, X12930,2,20070816,59,47.0123,-176.0447,5637,5669.8,2,1.624,2,1.6239,2,34.6889,2,34.6892,2,152.96,2,152.6,2,157.32,2,0.47,36.19,2,0.13,0,2,0.01,2.521,2,0.016,-999,9,-999,9,-999,9,-999,9,-999,9,-999,9,-999,-999,9,-999,9,-999,-999,9,-999,-999,1,-999,-999,9,-999,1.101,27.7886
49NZ20070724,   P01,65,1,1, X12929,2,20070816,59,47.0123,-176.0447,5637,5735.3,2,1.6317,2,1.63165,2,34.689,2,34.6889,6,153.39,2,152.99,2,156.98,2,0.46,36.19,2,0.13,0.01,2,0.01,2.52,2,0.016,0.001,2,0,2,0,2,-999,9,-999,9,-999,9,-999,-999,9,-999,9,-999,-999,9,-999,-999,1,-999,-999,9,-999,1.0998,27.7887