BOTTLE,20081214JAMSTECIORGC,,,,,,,,,,,,,,,,,,,,,,,,,,,,,,,,,,,,,,,,,,,,,,,,,,,,,,,,,,,,,,,,,
EXPOCODE,SECT,STNNBR,CASTNO,SAMPNO,BTLNBR,BTLNBR_FLAG_W,DATE,TIME,LATITUDE,LONGITUDE,DEPTH,CTDPRS,CTDPRS_FLAG_W,CTDTMP,CTDTMP_FLAG_W,SBE35,SBE35_FLAG_W,CTDSAL,CTDSAL_FLAG_W,SALNTY,SALNTY_FLAG_W,CTDOXY,CTDOXY_FLAG_W,OXYGEN,OXYGEN_FLAG_W,SILCAT,SILCAT_FLAG_W,SILUNC,NITRAT,NITRAT_FLAG_W,NRAUNC,NITRIT,NITRIT_FLAG_W,NRIUNC,PHSPHT,PHSPHT_FLAG_W,PHPUNC,CFC-11,CFC-11_FLAG_W,CFC-12,CFC-12_FLAG_W,CFC113,CFC113_FLAG_W,CCL4,CCL4_FLAG_W,TCARBN,TCARBN_FLAG_W,ALKALI,ALKALI_FLAG_W,PH_TOT,PH_TMP,PH_FLAG_W,DELC13,DELC13_FLAG_W,C13ERR,DELC14,DELC14_FLAG_W,C14ERR,CS-137,CS-137_FLAG_W,CS137ER,PLUTO,PLUTO_FLAG_W,PLUTOER,THETA,SIG0
,,,,,,,,UTC,DEG,DEG,M,DBAR,,ITS-90,,ITS-90,,PSS-78,,PSS-78,,UMOL/KG,,UMOL/KG,,UMOL/KG,,UMOL/KG,UMOL/KG,,UMOL/KG,UMOL/KG,,UMOL/KG,UMOL/KG,,UMOL/KG,PMOL/KG,,PMOL/KG,,PMOL/KG,,PMOL/KG,,UMOL/KG,,UMOL/KG,,,ITS-90,,/MILLE,,/MILLE,/MILLE,,/MILLE,BQ/CUM,,BQ/CUM,MBQ/CUM,,MBQ/CUM,DEG C,KG/CUM
49NZ20070724,   P01,40,1,0,-999,9,20070812,319,46.9958,162.2578,5662,-999,9,-999,9,-999,9,-999,9,32.8841,2,-999,9,-999,9,-999,9,-999,-999,9,-999,-999,9,-999,-999,9,-999,-999,9,-999,9,-999,9,-999,9,-999,9,-999,9,-999,-999,9,-999,9,-999,-999,9,-999,-999,1,-999,-999,9,-999,-999,-999
49NZ20070724,   P01,40,1,36, X12042,2,20070812,319,46.9958,162.2578,5662,9.3,2,10.4759,2,10.47645,2,32.8797,2,32.8757,2,292.4,2,292.43,2,23.48,2,0.17,11.61,2,0.07,0.15,2,0.01,1.181,2,0.013,-999,9,-999,9,-999,9,-999,9,2034.8,2,2226.5,2,7.8736,25,6,-999,9,-999,-999,9,-999,-999,9,-999,-999,9,-999,10.4748,25.2163
49NZ20070724,   P01,40,1,35, X12041,2,20070812,319,46.9958,162.2578,5662,24.4,2,9.5572,2,9.55759,2,32.8686,2,-999,9,293.65,2,-999,9,-999,9,-999,-999,9,-999,-999,9,-999,-999,9,-999,-999,9,-999,9,-999,9,-999,9,-999,9,-999,9,-999,-999,9,-999,9,-999,-999,9,-999,-999,9,-999,-999,9,-999,9.5546,25.3612
49NZ20070724,   P01,40,1,34, X12036,2,20070812,319,46.9958,162.2578,5662,49.8,2,3.6598,2,3.66642,2,33.0727,2,33.1041,2,319.63,2,317.67,2,30.41,2,0.19,18.62,2,0.08,0.43,2,0,1.582,2,0.014,-999,9,-999,9,-999,9,-999,9,2105.6,6,2235.5,2,7.7345,25,2,-999,9,-999,-999,9,-999,-999,9,-999,-999,9,-999,3.6567,26.2867
49NZ20070724,   P01,40,1,33, X12033,2,20070812,319,46.9958,162.2578,5662,100.3,2,4.0907,2,4.08653,2,33.4179,2,33.4177,2,294.45,2,292.49,2,37.09,2,0.2,21.74,2,0.09,0.03,2,0.01,1.716,2,0.014,-999,9,-999,9,-999,9,-999,9,2133.5,2,2253.5,2,7.6981,25,2,-999,9,-999,-999,9,-999,-999,9,-999,-999,9,-999,4.0839,26.5192
49NZ20070724,   P01,40,1,32, X12038,2,20070812,319,46.9958,162.2578,5662,150.2,2,2.7195,2,2.72043,2,33.5175,2,33.5296,2,192.85,2,187.95,2,67.23,2,0.27,33.37,2,0.13,0.02,2,0.01,2.502,2,0.016,-999,9,-999,9,-999,9,-999,9,2231.2,2,2272.5,2,7.48,25,6,-999,9,-999,-999,9,-999,-999,9,-999,-999,9,-999,2.7109,26.7268
49NZ20070724,   P01,40,1,31, X12003,2,20070812,319,46.9958,162.2578,5662,199.4,2,2.8791,2,2.87859,2,33.645,2,33.6504,2,145.29,2,144.46,2,76.89,2,0.29,36.21,2,0.13,0.02,2,0.01,2.681,2,0.017,-999,9,-999,9,-999,9,-999,9,2264.9,2,2283.6,2,7.419,25,2,-999,9,-999,-999,9,-999,-999,9,-999,-999,9,-999,2.8673,26.8151
49NZ20070724,   P01,40,1,30, X12008,2,20070812,319,46.9958,162.2578,5662,249.4,2,2.9675,2,2.96745,2,33.7635,2,33.7788,6,96.96,2,93.85,2,90.58,2,0.32,40.15,2,0.15,0.01,2,0.01,2.923,2,0.017,-999,9,-999,9,-999,9,-999,9,2299.1,2,2297.4,2,7.3472,25,2,-999,9,-999,-999,9,-999,-999,9,-999,-999,9,-999,2.9524,26.9022
49NZ20070724,   P01,40,1,29, X12035,2,20070812,319,46.9958,162.2578,5662,300.9,2,3.1484,2,3.14817,2,33.8671,2,33.8743,2,69.29,2,69.26,2,97.45,2,0.33,41.59,2,0.15,0.01,2,0.01,3.001,2,0.017,-999,9,-999,9,-999,9,-999,9,2316.2,2,2307,2,7.3242,25,2,-999,9,-999,-999,9,-999,-999,9,-999,-999,9,-999,3.1296,26.969
49NZ20070724,   P01,40,1,28, X12034,2,20070812,319,46.9958,162.2578,5662,399.8,2,3.303,2,3.30263,2,34.015,2,34.0248,2,43.79,2,43.83,2,109.79,2,0.36,42.95,2,0.15,0.01,2,0.01,3.087,2,0.018,-999,9,-999,9,-999,9,-999,9,2341.2,2,2324.6,2,7.3089,25,2,-999,9,-999,-999,9,-999,-999,9,-999,-999,9,-999,3.2771,27.0734
49NZ20070724,   P01,40,1,27, X12049,2,20070812,319,46.9958,162.2578,5662,599.8,2,3.2152,2,3.215,2,34.2183,2,34.2251,6,29.06,2,30.19,2,126.66,2,0.4,43.15,2,0.15,0.01,2,0.01,3.09,2,0.018,-999,9,-999,9,-999,9,-999,9,2360.3,2,2352.7,2,7.3288,25,2,-999,9,-999,-999,9,-999,-999,9,-999,-999,9,-999,3.1756,27.2449
49NZ20070724,   P01,40,1,26, X12032,2,20070812,319,46.9958,162.2578,5662,800.8,2,3.0033,2,3.00308,2,34.3364,2,34.3385,2,29.67,2,30.63,2,136.99,2,0.42,43.13,2,0.15,0.01,2,0.01,3.097,2,0.018,-999,9,-999,9,-999,9,-999,9,2367.8,2,2370.1,2,7.3506,25,2,-999,9,-999,-999,9,-999,-999,9,-999,-999,9,-999,2.9504,27.3599
49NZ20070724,   P01,40,1,25, X12043,2,20070812,319,46.9958,162.2578,5662,1000.3,2,2.7058,2,2.70593,2,34.4104,2,34.4125,6,31.13,2,31.55,2,146.93,2,0.44,43.29,2,0.15,0,2,0.01,3.093,2,0.018,-999,9,-999,9,-999,9,-999,9,2378.1,6,2383.9,2,7.3589,25,2,-999,9,-999,-999,9,-999,-999,9,-999,-999,9,-999,2.6403,27.4464
49NZ20070724,   P01,40,1,24, X12030,2,20070812,319,46.9958,162.2578,5662,1399,2,2.2789,2,2.27878,2,34.5044,2,34.5056,2,40.73,2,41.32,2,159.17,2,0.47,42.83,2,0.15,0,2,0.01,3.052,2,0.018,-999,9,-999,9,-999,9,-999,9,2385.7,2,2400.2,6,7.3842,25,2,-999,9,-999,-999,9,-999,-999,9,-999,-999,9,-999,2.1874,27.5596
49NZ20070724,   P01,40,1,23, X12027,2,20070812,319,46.9958,162.2578,5662,2002.1,2,1.8802,2,1.88002,2,34.5946,2,34.5951,2,68.72,2,68.77,2,167.64,2,0.49,41.29,2,0.15,0,2,0.01,2.934,2,0.017,-999,9,-999,9,-999,9,-999,9,2376.6,3,2414,2,7.4426,25,2,-999,9,-999,-999,9,-999,-999,9,-999,-999,9,-999,1.7455,27.6666
49NZ20070724,   P01,40,1,22, X12028,2,20070812,319,46.9958,162.2578,5662,2400.8,2,1.7015,2,1.70142,2,34.6322,2,34.6328,6,95.74,2,95.94,2,163.22,2,0.48,39.6,2,0.14,0.01,2,0.01,2.809,2,0.017,-999,9,-999,9,-999,9,-999,9,2363.3,2,2417.1,2,7.4944,25,2,-999,9,-999,-999,9,-999,-999,9,-999,-999,9,-999,1.5356,27.7124
49NZ20070724,   P01,40,1,21, X12009,2,20070812,319,46.9958,162.2578,5662,3000.5,2,1.5513,2,1.55117,2,34.6613,2,34.6617,2,123.44,2,123.73,2,156.31,2,0.46,37.84,2,0.14,0.01,2,0.01,2.668,2,0.017,-999,9,-999,9,-999,9,-999,9,2347,2,2417.8,2,7.5448,25,2,-999,9,-999,-999,9,-999,-999,9,-999,-999,9,-999,1.3334,27.7503
49NZ20070724,   P01,40,1,20, X12026,2,20070812,319,46.9958,162.2578,5662,3501.5,2,1.494,2,1.49388,2,34.6741,2,34.6743,2,137.98,2,138.53,2,151.85,2,0.45,36.96,2,0.14,0.01,2,0.01,2.589,2,0.016,-999,9,-999,9,-999,9,-999,9,2334.6,2,2418.2,2,7.5722,25,2,-999,9,-999,-999,9,-999,-999,9,-999,-999,9,-999,1.2279,27.768
49NZ20070724,   P01,40,1,19, X12025,2,20070812,319,46.9958,162.2578,5662,4001.4,2,1.4761,2,1.47609,2,34.6816,2,34.6817,6,147.21,2,147.77,2,149.4,2,0.45,36.42,2,0.13,0,2,0.01,2.544,2,0.016,-999,9,-999,9,-999,9,-999,9,2325.6,2,2416.8,2,7.5865,25,2,-999,9,-999,-999,9,-999,-999,9,-999,-999,9,-999,1.1577,27.7789
49NZ20070724,   P01,40,1,18, X12024,2,20070812,319,46.9958,162.2578,5662,4501.1,2,1.4862,2,1.48616,2,34.6863,2,34.6867,2,153.23,2,153.98,2,147.64,2,0.44,35.97,2,0.13,0,2,0.01,2.509,2,0.016,-999,9,-999,9,-999,9,-999,9,2321.2,6,2416.1,2,7.5963,25,2,-999,9,-999,-999,9,-999,-999,9,-999,-999,9,-999,1.1115,27.7858
49NZ20070724,   P01,40,1,17, X12023,2,20070812,319,46.9958,162.2578,5662,5000.2,2,1.5209,2,1.52075,2,34.6891,2,34.6894,2,156.61,2,157.26,2,147.36,2,0.44,35.72,2,0.13,0.01,2,0.01,2.494,2,0.016,-999,9,-999,9,-999,9,-999,9,2317.8,2,2416.2,6,7.6018,25,2,-999,9,-999,-999,9,-999,-999,9,-999,-999,9,-999,1.0859,27.7898
49NZ20070724,   P01,40,1,16, X12022,2,20070812,319,46.9958,162.2578,5662,5250,2,1.5459,2,1.54573,2,34.6898,2,34.6901,2,157.55,2,158.3,2,147.1,2,0.44,35.7,2,0.13,0.01,2,0.01,2.493,2,0.016,-999,9,-999,9,-999,9,-999,9,2318.1,2,2415.7,2,7.6026,25,6,-999,9,-999,-999,9,-999,-999,9,-999,-999,9,-999,1.0793,27.7908
49NZ20070724,   P01,40,1,15, X12021,9,20070812,319,46.9958,162.2578,5662,3000.5,2,1.5514,2,1.55123,2,34.6612,2,-999,9,123.46,2,-999,9,-999,9,-999,-999,9,-999,-999,9,-999,-999,9,-999,-999,9,-999,9,-999,9,-999,9,-999,9,-999,9,-999,-999,9,-999,9,-999,-999,9,-999,-999,9,-999,-999,9,-999,1.3335,27.7502
49NZ20070724,   P01,40,1,14, X12020,9,20070812,319,46.9958,162.2578,5662,199.4,2,2.8785,2,2.87857,2,33.6457,2,-999,9,145.21,2,-999,9,-999,9,-999,-999,9,-999,-999,9,-999,-999,9,-999,-999,9,-999,9,-999,9,-999,9,-999,9,-999,9,-999,-999,9,-999,9,-999,-999,9,-999,-999,9,-999,-999,9,-999,2.8667,26.8157
49NZ20070724,   P01,40,1,13, X12019,2,20070812,319,46.9958,162.2578,5662,199.3,2,2.8789,2,2.87902,2,33.6453,2,-999,9,145.29,2,-999,9,-999,9,-999,-999,9,-999,-999,9,-999,-999,9,-999,-999,9,-999,9,-999,9,-999,9,-999,9,-999,9,-999,-999,9,-999,9,-999,-999,9,-999,-999,9,-999,-999,9,-999,2.8671,26.8154
49NZ20070724,   P01,40,1,12, X12040,9,20070812,319,46.9958,162.2578,5662,199.5,2,2.8784,2,2.8784,2,33.6454,2,-999,9,145.14,2,-999,9,-999,9,-999,-999,9,-999,-999,9,-999,-999,9,-999,-999,9,-999,9,-999,9,-999,9,-999,9,-999,9,-999,-999,9,-999,9,-999,-999,9,-999,-999,9,-999,-999,9,-999,2.8666,26.8155
49NZ20070724,   P01,40,1,11, X12047,2,20070812,319,46.9958,162.2578,5662,150,2,2.7301,2,2.72849,2,33.5178,2,-999,9,192.78,2,-999,9,-999,9,-999,-999,9,-999,-999,9,-999,-999,9,-999,-999,9,-999,9,-999,9,-999,9,-999,9,-999,9,-999,-999,9,-999,9,-999,-999,9,-999,-999,9,-999,-999,9,-999,2.7215,26.7261
49NZ20070724,   P01,40,1,10, X12010,9,20070812,319,46.9958,162.2578,5662,150,2,2.7262,2,2.7288,2,33.5173,2,-999,9,192.82,2,-999,9,-999,9,-999,-999,9,-999,-999,9,-999,-999,9,-999,-999,9,-999,9,-999,9,-999,9,-999,9,-999,9,-999,-999,9,-999,9,-999,-999,9,-999,-999,9,-999,-999,9,-999,2.7176,26.726
49NZ20070724,   P01,40,1,9, X12015,2,20070812,319,46.9958,162.2578,5662,100.3,2,4.0821,2,4.07734,2,33.4163,2,-999,9,294.45,2,-999,9,-999,9,-999,-999,9,-999,-999,9,-999,-999,9,-999,-999,9,-999,9,-999,9,-999,9,-999,9,-999,9,-999,-999,9,-999,9,-999,-999,9,-999,-999,9,-999,-999,9,-999,4.0753,26.5188
49NZ20070724,   P01,40,1,8, X12046,9,20070812,319,46.9958,162.2578,5662,100.2,2,4.0826,2,4.07748,2,33.4155,2,-999,9,294.21,2,-999,9,-999,9,-999,-999,9,-999,-999,9,-999,-999,9,-999,-999,9,-999,9,-999,9,-999,9,-999,9,-999,9,-999,-999,9,-999,9,-999,-999,9,-999,-999,9,-999,-999,9,-999,4.0758,26.5182
49NZ20070724,   P01,40,1,7, X12044,2,20070812,319,46.9958,162.2578,5662,49.9,2,3.6237,2,3.64108,2,33.0722,2,-999,9,320.59,2,-999,9,-999,9,-999,-999,9,-999,-999,9,-999,-999,9,-999,-999,9,-999,9,-999,9,-999,9,-999,9,-999,9,-999,-999,9,-999,9,-999,-999,9,-999,-999,9,-999,-999,9,-999,3.6206,26.2898
49NZ20070724,   P01,40,1,6, X12048,9,20070812,319,46.9958,162.2578,5662,49.8,2,3.6979,2,3.67195,2,33.0751,2,-999,9,319.86,2,-999,9,-999,9,-999,-999,9,-999,-999,9,-999,-999,9,-999,-999,9,-999,9,-999,9,-999,9,-999,9,-999,9,-999,-999,9,-999,9,-999,-999,9,-999,-999,9,-999,-999,9,-999,3.6947,26.285
49NZ20070724,   P01,40,1,5, X12017,2,20070812,319,46.9958,162.2578,5662,9.4,2,10.5274,2,10.53126,2,32.8801,2,-999,9,291.87,2,-999,9,-999,9,-999,-999,9,-999,-999,9,-999,-999,9,-999,-999,9,-999,9,-999,9,-999,9,-999,9,-999,9,-999,-999,9,-999,9,-999,-999,9,-999,-999,9,-999,-999,9,-999,10.5263,25.2077
49NZ20070724,   P01,40,1,4, X12928,9,20070812,319,46.9958,162.2578,5662,9.3,2,10.5717,2,10.57012,2,32.8771,2,-999,9,291.59,2,-999,9,-999,9,-999,-999,9,-999,-999,9,-999,-999,9,-999,-999,9,-999,9,-999,9,-999,9,-999,9,-999,9,-999,-999,9,-999,9,-999,-999,9,-999,-999,9,-999,-999,9,-999,10.5706,25.1978
49NZ20070724,   P01,40,1,3, X12931,2,20070812,319,46.9958,162.2578,5662,29.3,2,8.6446,2,8.64941,2,32.8994,2,-999,9,296.26,2,-999,9,-999,9,-999,-999,9,-999,-999,9,-999,-999,9,-999,-999,9,-999,9,-999,9,-999,9,-999,9,-999,9,-999,-999,9,-999,9,-999,-999,9,-999,-999,9,-999,-999,9,-999,8.6416,25.5289
49NZ20070724,   P01,40,1,2, X12930,2,20070812,319,46.9958,162.2578,5662,29.3,2,8.647,2,8.62492,2,32.8949,2,-999,9,296.38,2,309.86,2,26.43,2,0.18,13.82,2,0.07,0.23,2,0.01,1.362,2,0.014,-999,9,-999,9,-999,9,-999,9,-999,9,-999,9,-999,-999,9,-999,9,-999,-999,9,-999,-999,9,-999,-999,9,-999,8.644,25.525
49NZ20070724,   P01,40,1,1, X12929,2,20070812,319,46.9958,162.2578,5662,5776.1,2,1.6048,2,1.60454,2,34.6907,2,34.6912,6,159.76,2,160.16,2,145.5,2,0.44,35.41,2,0.13,0.02,2,0.01,2.481,2,0.016,-999,9,-999,9,-999,9,-999,9,2315.8,2,2414.8,2,7.6048,25,2,-999,9,-999,-999,9,-999,-999,9,-999,-999,9,-999,1.0686,27.7923