BOTTLE,20081214JAMSTECIORGC,,,,,,,,,,,,,,,,,,,,,,,,,,,,,,,,,,,,,,,,,,,,,,,,,,,,,,,,,,,,,,,,,
EXPOCODE,SECT,STNNBR,CASTNO,SAMPNO,BTLNBR,BTLNBR_FLAG_W,DATE,TIME,LATITUDE,LONGITUDE,DEPTH,CTDPRS,CTDPRS_FLAG_W,CTDTMP,CTDTMP_FLAG_W,SBE35,SBE35_FLAG_W,CTDSAL,CTDSAL_FLAG_W,SALNTY,SALNTY_FLAG_W,CTDOXY,CTDOXY_FLAG_W,OXYGEN,OXYGEN_FLAG_W,SILCAT,SILCAT_FLAG_W,SILUNC,NITRAT,NITRAT_FLAG_W,NRAUNC,NITRIT,NITRIT_FLAG_W,NRIUNC,PHSPHT,PHSPHT_FLAG_W,PHPUNC,CFC-11,CFC-11_FLAG_W,CFC-12,CFC-12_FLAG_W,CFC113,CFC113_FLAG_W,CCL4,CCL4_FLAG_W,TCARBN,TCARBN_FLAG_W,ALKALI,ALKALI_FLAG_W,PH_TOT,PH_TMP,PH_FLAG_W,DELC13,DELC13_FLAG_W,C13ERR,DELC14,DELC14_FLAG_W,C14ERR,CS-137,CS-137_FLAG_W,CS137ER,PLUTO,PLUTO_FLAG_W,PLUTOER,THETA,SIG0
,,,,,,,,UTC,DEG,DEG,M,DBAR,,ITS-90,,ITS-90,,PSS-78,,PSS-78,,UMOL/KG,,UMOL/KG,,UMOL/KG,,UMOL/KG,UMOL/KG,,UMOL/KG,UMOL/KG,,UMOL/KG,UMOL/KG,,UMOL/KG,PMOL/KG,,PMOL/KG,,PMOL/KG,,PMOL/KG,,UMOL/KG,,UMOL/KG,,,ITS-90,,/MILLE,,/MILLE,/MILLE,,/MILLE,BQ/CUM,,BQ/CUM,MBQ/CUM,,MBQ/CUM,DEG C,KG/CUM
49NZ20070724,   P01,110,1,0,-999,9,20070828,1413,46.9942,-127.199,2632,-999,9,-999,9,-999,9,-999,9,32.0179,2,-999,9,-999,9,-999,9,-999,-999,9,-999,-999,9,-999,-999,9,-999,-999,9,-999,9,-999,9,-999,9,-999,9,-999,9,-999,-999,9,-999,9,-999,-999,9,-999,-999,9,-999,-999,9,-999,-999,-999
49NZ20070724,   P01,110,1,36, X12042,2,20070828,1413,46.9942,-127.199,2632,9.7,2,17.9012,2,17.90154,2,32.0248,2,32.0386,2,248.68,2,248.37,2,5.42,2,0.13,0.07,2,0.03,0.01,2,0.01,0.369,2,0.014,2.511,2,1.546,2,-999,5,-999,9,1933.6,2,2164.1,2,7.9783,25,6,-999,9,-999,-999,9,-999,-999,9,-999,-999,9,-999,17.8996,23.0191
49NZ20070724,   P01,110,1,35, X12041,2,20070828,1413,46.9942,-127.199,2632,50.1,2,9.3867,2,9.39142,2,32.3423,2,32.3515,2,296.48,2,296.74,2,8.14,2,0.14,5.63,2,0.05,0.34,2,0,0.865,2,0.013,3.921,2,2.206,2,0.379,2,-999,9,2002.7,6,2173.9,2,7.8455,25,2,-999,9,-999,-999,9,-999,-999,9,-999,-999,9,-999,9.3814,24.9777
49NZ20070724,   P01,110,1,34, X12036,2,20070828,1413,46.9942,-127.199,2632,100.7,2,7.8501,2,7.84992,2,32.9056,2,33.0096,2,217.77,2,212.17,2,20.15,2,0.16,18.95,2,0.09,0.02,2,0.01,1.568,2,0.014,3.916,2,2.163,2,0.277,2,-999,9,2104.5,2,2208.6,6,7.6633,25,2,-999,9,-999,-999,9,-999,-999,9,-999,-999,9,-999,7.8404,25.6523
49NZ20070724,   P01,110,1,33, X12033,2,20070828,1413,46.9942,-127.199,2632,150.3,2,7.4863,2,7.48639,2,33.7394,2,33.7687,2,138.9,2,138.41,2,34.82,2,0.2,28.15,2,0.11,0.02,2,0.01,2.062,2,0.015,3.462,6,1.829,6,0.198,6,-999,9,2190,2,2251.6,2,7.5304,25,6,-999,9,-999,-999,9,-999,-999,9,-999,-999,9,-999,7.472,26.3602
49NZ20070724,   P01,110,1,32, X12038,2,20070828,1413,46.9942,-127.199,2632,198.9,2,6.8855,2,6.8834,2,33.8914,2,33.8942,2,121.58,2,121.03,2,43.03,2,0.21,30.64,2,0.12,0.01,2,0.01,2.208,2,0.016,3.126,2,1.596,2,0.185,2,-999,9,2212.6,2,2264.9,2,7.4959,25,2,-999,9,-999,-999,9,-999,-999,9,-999,-999,9,-999,6.8674,26.5635
49NZ20070724,   P01,110,1,31, X12003,2,20070828,1413,46.9942,-127.199,2632,250.8,2,6.4135,2,6.41521,2,33.9413,2,33.9407,6,96.06,2,96.32,2,51.4,2,0.23,33.66,2,0.13,0.01,2,0.01,2.418,2,0.016,2.662,2,1.322,2,0.13,2,-999,9,2239.7,2,2274.4,2,7.4532,25,2,-999,9,-999,-999,9,-999,-999,9,-999,-999,9,-999,6.3915,26.666
49NZ20070724,   P01,110,1,30, X12008,2,20070828,1413,46.9942,-127.199,2632,299.7,2,6.2935,2,6.294,2,34.0074,2,34.0066,2,63.63,2,63.91,2,58.33,2,0.25,36.86,2,0.14,0.01,2,0.01,2.656,2,0.017,2.018,2,0.976,2,0.099,2,-999,9,2265.2,2,2283,2,7.3964,25,2,-999,9,-999,-999,9,-999,-999,9,-999,-999,9,-999,6.2673,26.7342
49NZ20070724,   P01,110,1,29, X12035,2,20070828,1413,46.9942,-127.199,2632,398.8,2,5.6686,2,5.66773,2,34.0633,2,34.0637,2,40.23,2,40.65,2,71.36,2,0.28,39.76,2,0.14,0.01,2,0.01,2.893,2,0.017,1.268,2,0.603,2,0.056,2,-999,9,2291.8,2,2297.5,2,7.3519,25,2,-999,9,-999,-999,9,-999,-999,9,-999,-999,9,-999,5.6353,26.8576
49NZ20070724,   P01,110,1,28, X12034,2,20070828,1413,46.9942,-127.199,2632,499.4,2,5.0763,2,5.07622,2,34.1046,2,34.1092,6,28.96,2,28.14,2,82.42,2,0.3,41.49,2,0.15,0.01,2,0.01,3.019,2,0.017,0.794,2,0.377,2,0.032,2,-999,9,2314.7,2,2310.3,2,7.3324,25,2,-999,9,-999,-999,9,-999,-999,9,-999,-999,9,-999,5.0365,26.9612
49NZ20070724,   P01,110,1,27, X12049,2,20070828,1413,46.9942,-127.199,2632,599.1,2,4.6807,2,4.68098,2,34.1882,2,34.1895,2,15.55,2,15.53,2,94.97,2,0.33,42.8,2,0.15,0.01,2,0.01,3.144,2,0.018,0.363,2,0.176,2,0.013,2,-999,9,2336.3,2,2327.6,2,7.3197,25,2,-999,9,-999,-999,9,-999,-999,9,-999,-999,9,-999,4.6343,27.0728
49NZ20070724,   P01,110,1,26, X12032,2,20070828,1413,46.9942,-127.199,2632,698.8,2,4.3188,2,4.31852,2,34.2517,2,34.252,2,10.61,2,10.75,2,104.9,2,0.35,43.63,2,0.15,0.01,2,0.01,3.201,2,0.018,0.176,6,0.086,6,0.012,6,-999,9,2349.6,6,2341.6,2,7.3173,25,2,-999,9,-999,-999,9,-999,-999,9,-999,-999,9,-999,4.2661,27.1631
49NZ20070724,   P01,110,1,25, X12043,2,20070828,1413,46.9942,-127.199,2632,801.2,2,4.0464,2,4.04651,2,34.3034,2,34.3025,2,8.97,2,9.04,2,113.06,2,0.37,43.97,2,0.16,0.01,2,0.01,3.227,2,0.018,0.091,2,0.043,2,0.007,2,-999,9,2359.9,2,2352.1,6,7.3187,25,2,-999,9,-999,-999,9,-999,-999,9,-999,-999,9,-999,3.987,27.2334
49NZ20070724,   P01,110,1,24, X12030,2,20070828,1413,46.9942,-127.199,2632,898.6,2,3.7755,2,3.77605,2,34.3534,2,34.3535,2,9.1,2,9.03,2,120.94,2,0.39,44.16,2,0.16,0.01,2,0.01,3.218,2,0.018,0.052,2,0.023,2,0,2,-999,9,2368.9,2,2363.8,2,7.3249,25,6,-999,9,-999,-999,9,-999,-999,9,-999,-999,9,-999,3.71,27.3012
49NZ20070724,   P01,110,1,23, X12027,2,20070828,1413,46.9942,-127.199,2632,999.6,2,3.4946,2,3.49264,2,34.3888,2,34.389,6,10.18,2,10.23,2,129.05,2,0.4,44.41,2,0.16,0.01,2,0.01,3.226,2,0.018,0.028,2,0.016,2,0.002,2,-999,9,2376.3,2,2372.3,2,7.3274,25,2,-999,9,-999,-999,9,-999,-999,9,-999,-999,9,-999,3.4231,27.3575
49NZ20070724,   P01,110,1,22, X12028,2,20070828,1413,46.9942,-127.199,2632,1200.7,2,3.043,2,3.04307,2,34.4592,2,34.4592,2,16.58,2,16.71,2,142.08,2,0.43,44.41,2,0.16,0.01,2,0.01,3.211,2,0.018,0.017,2,0.008,2,0,2,-999,9,2386.6,2,2387.6,2,7.3474,25,2,-999,9,-999,-999,9,-999,-999,9,-999,-999,9,-999,2.9593,27.4571
49NZ20070724,   P01,110,1,21, X12009,2,20070828,1413,46.9942,-127.199,2632,1399.5,2,2.7251,2,2.72525,2,34.5039,2,34.5038,2,25.73,2,26.16,2,151.37,2,0.45,43.81,2,0.16,0.01,2,0.01,3.168,2,0.018,0.008,2,0.009,2,0,2,-999,9,2389.3,2,2398.8,2,7.3682,25,2,-999,9,-999,-999,9,-999,-999,9,-999,-999,9,-999,2.6287,27.5222
49NZ20070724,   P01,110,1,20, X12026,2,20070828,1413,46.9942,-127.199,2632,1600.6,2,2.3401,2,2.34028,2,34.5325,2,34.5325,2,34.58,2,34.77,2,161.48,2,0.47,43.58,2,0.15,0.01,2,0.01,3.103,2,0.018,0.004,2,0.005,2,0,2,-999,9,2390.9,2,2406.5,2,7.3794,25,2,-999,9,-999,-999,9,-999,-999,9,-999,-999,9,-999,2.232,27.5785
49NZ20070724,   P01,110,1,19, X12025,2,20070828,1413,46.9942,-127.199,2632,1800.6,2,2.0808,2,2.08087,2,34.5666,2,34.5668,6,47.83,2,48.08,2,167.73,2,0.49,42.81,2,0.15,0.01,2,0.01,3.037,2,0.018,0.006,2,0.007,2,0,2,-999,9,2389.5,2,2414.8,2,7.4058,25,2,-999,9,-999,-999,9,-999,-999,9,-999,-999,9,-999,1.9599,27.6276
49NZ20070724,   P01,110,1,18, X12024,2,20070828,1413,46.9942,-127.199,2632,2001.1,2,1.9103,2,1.91038,2,34.5964,2,34.5967,2,61.63,2,61.84,2,171.77,2,0.5,42,2,0.15,0.01,2,0.01,2.975,2,0.017,0.006,2,0.005,2,0,2,-999,9,2384.5,2,2420.7,2,7.434,25,2,-999,9,-999,-999,9,-999,-999,9,-999,-999,9,-999,1.7753,27.6658
49NZ20070724,   P01,110,1,17, X12023,2,20070828,1413,46.9942,-127.199,2632,2198.4,2,1.8116,2,1.81156,2,34.6156,2,34.6164,2,72.11,2,72.37,2,174.62,2,0.5,41.21,2,0.15,0.01,2,0.01,2.922,2,0.017,0.002,2,0.002,2,0,2,-999,9,2382.4,2,2424.6,2,7.4591,25,2,-999,9,-999,-999,9,-999,-999,9,-999,-999,9,-999,1.6614,27.6898
49NZ20070724,   P01,110,1,16, X12022,2,20070828,1413,46.9942,-127.199,2632,2400.4,2,1.7673,2,1.7673,2,34.6294,2,34.6298,2,76.69,2,77.09,2,179.34,2,0.51,40.67,2,0.15,0.01,2,0.01,2.916,2,0.017,0.008,2,0.011,2,0.006,2,-999,9,2384.6,6,2430.6,2,7.4694,25,2,-999,9,-999,-999,9,-999,-999,9,-999,-999,9,-999,1.6003,27.7054
49NZ20070724,   P01,110,1,15, X12021,2,20070828,1413,46.9942,-127.199,2632,2598.4,2,1.7575,2,1.75737,2,34.641,2,34.6411,2,76.99,2,77.51,2,187.01,2,0.53,40.16,2,0.15,0.01,2,0.01,2.939,2,0.017,0.04,2,0.021,2,0.014,2,-999,9,2388.2,2,2439.5,6,7.4775,25,2,-999,9,-999,-999,9,-999,-999,9,-999,-999,9,-999,1.5729,27.7167
49NZ20070724,   P01,110,1,14, X12020,9,20070828,1413,46.9942,-127.199,2632,9.9,2,17.9083,2,17.90858,2,32.0307,2,-999,9,248.58,2,-999,9,-999,9,-999,-999,9,-999,-999,9,-999,-999,9,-999,-999,9,-999,9,-999,9,-999,9,-999,9,-999,9,-999,-999,9,-999,9,-999,-999,9,-999,-999,9,-999,-999,9,-999,17.9066,23.0219
49NZ20070724,   P01,110,1,13, X12019,9,20070828,1413,46.9942,-127.199,2632,249.4,2,6.4344,2,6.43437,2,33.9408,2,-999,9,96.19,2,-999,9,-999,9,-999,-999,9,-999,-999,9,-999,-999,9,-999,-999,9,-999,9,-999,9,-999,9,-999,9,-999,9,-999,-999,9,-999,9,-999,-999,9,-999,-999,9,-999,-999,9,-999,6.4124,26.6629
49NZ20070724,   P01,110,1,12, X12040,9,20070828,1413,46.9942,-127.199,2632,299.2,2,6.2944,2,6.29336,2,34.0073,2,-999,9,63.64,2,-999,9,-999,9,-999,-999,9,-999,-999,9,-999,-999,9,-999,-999,9,-999,9,-999,9,-999,9,-999,9,-999,9,-999,-999,9,-999,9,-999,-999,9,-999,-999,9,-999,-999,9,-999,6.2682,26.734
49NZ20070724,   P01,110,1,11, X12047,9,20070828,1413,46.9942,-127.199,2632,400.1,2,5.6477,2,5.64427,2,34.0623,2,-999,9,40.04,2,-999,9,-999,9,-999,-999,9,-999,-999,9,-999,-999,9,-999,-999,9,-999,9,-999,9,-999,9,-999,9,-999,9,-999,-999,9,-999,9,-999,-999,9,-999,-999,9,-999,-999,9,-999,5.6144,26.8593
49NZ20070724,   P01,110,1,10, X12010,9,20070828,1413,46.9942,-127.199,2632,498.9,2,5.0769,2,5.07683,2,34.104,2,-999,9,28.95,2,-999,9,-999,9,-999,-999,9,-999,-999,9,-999,-999,9,-999,-999,9,-999,9,-999,9,-999,9,-999,9,-999,9,-999,-999,9,-999,9,-999,-999,9,-999,-999,9,-999,-999,9,-999,5.0372,26.9606
49NZ20070724,   P01,110,1,9, X12015,9,20070828,1413,46.9942,-127.199,2632,599.4,2,4.678,2,4.67855,2,34.1886,2,-999,9,15.46,2,-999,9,-999,9,-999,-999,9,-999,-999,9,-999,-999,9,-999,-999,9,-999,9,-999,9,-999,9,-999,9,-999,9,-999,-999,9,-999,9,-999,-999,9,-999,-999,9,-999,-999,9,-999,4.6316,27.0734
49NZ20070724,   P01,110,1,8, X12046,9,20070828,1413,46.9942,-127.199,2632,698.6,2,4.3204,2,4.31893,2,34.2513,2,-999,9,10.53,2,-999,9,-999,9,-999,-999,9,-999,-999,9,-999,-999,9,-999,-999,9,-999,9,-999,9,-999,9,-999,9,-999,9,-999,-999,9,-999,9,-999,-999,9,-999,-999,9,-999,-999,9,-999,4.2677,27.1626
49NZ20070724,   P01,110,1,7, X12044,9,20070828,1413,46.9942,-127.199,2632,801.2,2,4.0475,2,4.04765,2,34.3032,2,-999,9,8.98,2,-999,9,-999,9,-999,-999,9,-999,-999,9,-999,-999,9,-999,-999,9,-999,9,-999,9,-999,9,-999,9,-999,9,-999,-999,9,-999,9,-999,-999,9,-999,-999,9,-999,-999,9,-999,3.9881,27.2331
49NZ20070724,   P01,110,1,6, X12048,9,20070828,1413,46.9942,-127.199,2632,898.6,2,3.7736,2,3.77313,2,34.3538,2,-999,9,9.13,2,-999,9,-999,9,-999,-999,9,-999,-999,9,-999,-999,9,-999,-999,9,-999,9,-999,9,-999,9,-999,9,-999,9,-999,-999,9,-999,9,-999,-999,9,-999,-999,9,-999,-999,9,-999,3.7081,27.3017
49NZ20070724,   P01,110,1,5, X12014,9,20070828,1413,46.9942,-127.199,2632,1001.3,2,3.4947,2,3.49465,2,34.3886,2,-999,9,10.33,2,-999,9,-999,9,-999,-999,9,-999,-999,9,-999,-999,9,-999,-999,9,-999,9,-999,9,-999,9,-999,9,-999,9,-999,-999,9,-999,9,-999,-999,9,-999,-999,9,-999,-999,9,-999,3.423,27.3573
49NZ20070724,   P01,110,1,4, X12928,9,20070828,1413,46.9942,-127.199,2632,1200.5,2,3.0424,2,3.04247,2,34.4593,2,-999,9,16.74,2,-999,9,-999,9,-999,-999,9,-999,-999,9,-999,-999,9,-999,-999,9,-999,9,-999,9,-999,9,-999,9,-999,9,-999,-999,9,-999,9,-999,-999,9,-999,-999,9,-999,-999,9,-999,2.9587,27.4572
49NZ20070724,   P01,110,1,3, X12931,9,20070828,1413,46.9942,-127.199,2632,1399.6,2,2.7256,2,2.72578,2,34.5039,2,-999,9,25.97,2,-999,9,-999,9,-999,-999,9,-999,-999,9,-999,-999,9,-999,-999,9,-999,9,-999,9,-999,9,-999,9,-999,9,-999,-999,9,-999,9,-999,-999,9,-999,-999,9,-999,-999,9,-999,2.6292,27.5221
49NZ20070724,   P01,110,1,2, X12930,9,20070828,1413,46.9942,-127.199,2632,1600.5,2,2.3403,2,2.34034,2,34.5324,2,-999,9,34.81,2,-999,9,-999,9,-999,-999,9,-999,-999,9,-999,-999,9,-999,-999,9,-999,9,-999,9,-999,9,-999,9,-999,9,-999,-999,9,-999,9,-999,-999,9,-999,-999,9,-999,-999,9,-999,2.2322,27.5784
49NZ20070724,   P01,110,1,1, X12929,2,20070828,1413,46.9942,-127.199,2632,2658.3,2,1.7606,2,1.76052,2,34.6421,2,34.6423,6,75.96,2,76.27,2,188.74,2,0.53,40.12,2,0.15,0.01,2,0.01,2.949,2,0.017,0.028,2,0.02,2,0.007,2,-999,9,2393,2,2441.2,2,7.4757,25,2,-999,9,-999,-999,9,-999,-999,9,-999,-999,9,-999,1.5705,27.7178