BOTTLE,20081214JAMSTECIORGC,,,,,,,,,,,,,,,,,,,,,,,,,,,,,,,,,,,,,,,,,,,,,,,,,,,,,,,,,,,,,,,,,
EXPOCODE,SECT,STNNBR,CASTNO,SAMPNO,BTLNBR,BTLNBR_FLAG_W,DATE,TIME,LATITUDE,LONGITUDE,DEPTH,CTDPRS,CTDPRS_FLAG_W,CTDTMP,CTDTMP_FLAG_W,SBE35,SBE35_FLAG_W,CTDSAL,CTDSAL_FLAG_W,SALNTY,SALNTY_FLAG_W,CTDOXY,CTDOXY_FLAG_W,OXYGEN,OXYGEN_FLAG_W,SILCAT,SILCAT_FLAG_W,SILUNC,NITRAT,NITRAT_FLAG_W,NRAUNC,NITRIT,NITRIT_FLAG_W,NRIUNC,PHSPHT,PHSPHT_FLAG_W,PHPUNC,CFC-11,CFC-11_FLAG_W,CFC-12,CFC-12_FLAG_W,CFC113,CFC113_FLAG_W,CCL4,CCL4_FLAG_W,TCARBN,TCARBN_FLAG_W,ALKALI,ALKALI_FLAG_W,PH_TOT,PH_TMP,PH_FLAG_W,DELC13,DELC13_FLAG_W,C13ERR,DELC14,DELC14_FLAG_W,C14ERR,CS-137,CS-137_FLAG_W,CS137ER,PLUTO,PLUTO_FLAG_W,PLUTOER,THETA,SIG0
,,,,,,,,UTC,DEG,DEG,M,DBAR,,ITS-90,,ITS-90,,PSS-78,,PSS-78,,UMOL/KG,,UMOL/KG,,UMOL/KG,,UMOL/KG,UMOL/KG,,UMOL/KG,UMOL/KG,,UMOL/KG,UMOL/KG,,UMOL/KG,PMOL/KG,,PMOL/KG,,PMOL/KG,,PMOL/KG,,UMOL/KG,,UMOL/KG,,,ITS-90,,/MILLE,,/MILLE,/MILLE,,/MILLE,BQ/CUM,,BQ/CUM,MBQ/CUM,,MBQ/CUM,DEG C,KG/CUM
49NZ20070724,   P01,26,1,0,-999,9,20070731,2011,41.5622,150.8738,5211,-999,9,-999,9,-999,9,-999,9,33.0037,2,-999,9,-999,9,-999,9,-999,-999,9,-999,-999,9,-999,-999,9,-999,-999,9,-999,9,-999,9,-999,9,-999,9,-999,9,-999,-999,9,-999,9,-999,-999,9,-999,-999,1,-999,-999,1,-999,-999,-999
49NZ20070724,   P01,26,1,36, X12042,2,20070731,2011,41.5622,150.8738,5211,10.6,2,16.1772,2,16.16952,2,33.0105,2,33.1724,3,264.71,2,284.41,2,4.75,2,0.13,4.89,2,0.05,0.13,2,0.01,0.723,2,0.013,3.168,2,1.944,2,0.37,2,-999,9,-999,9,-999,9,-999,-999,9,-999,9,-999,-999,9,-999,-999,9,-999,-999,9,-999,16.1755,24.178
49NZ20070724,   P01,26,1,35, X12041,2,20070731,2011,41.5622,150.8738,5211,49.5,2,4.8156,2,4.85372,2,33.1774,2,33.1877,2,318.92,2,318.67,2,31.11,2,0.19,18.39,2,0.08,0.37,2,0,1.656,2,0.014,4.858,2,2.902,2,0.486,2,-999,9,-999,9,-999,9,-999,-999,9,-999,9,-999,-999,9,-999,-999,9,-999,-999,9,-999,4.812,26.2513
49NZ20070724,   P01,26,1,34, X12036,2,20070731,2011,41.5622,150.8738,5211,100.6,2,2.538,2,2.52552,2,33.226,2,33.2263,2,299.29,2,305.02,2,43.42,2,0.21,24.38,2,0.1,0.03,2,0.01,1.942,2,0.015,5.025,2,2.975,2,0.497,2,-999,9,-999,9,-999,9,-999,-999,9,-999,9,-999,-999,9,-999,-999,1,-999,-999,9,-999,2.5325,26.5087
49NZ20070724,   P01,26,1,33, X12033,2,20070731,2011,41.5622,150.8738,5211,150.2,2,2.262,2,2.27121,2,33.3775,2,33.3925,2,236.82,2,236.42,2,59.34,2,0.25,30.21,2,0.12,0.04,2,0.01,2.323,2,0.016,4.386,6,2.549,6,0.391,6,-999,9,-999,9,-999,9,-999,-999,9,-999,9,-999,-999,9,-999,-999,9,-999,-999,9,-999,2.254,26.6522
49NZ20070724,   P01,26,1,32, X12038,2,20070731,2011,41.5622,150.8738,5211,199.4,2,2.4584,2,2.45824,2,33.5381,2,33.5455,2,170.48,2,171.27,2,73.42,2,0.28,34.87,2,0.13,0.04,2,0.01,2.618,2,0.017,3.669,2,2.049,2,0.305,2,-999,9,-999,9,-999,9,-999,-999,9,-999,9,-999,-999,9,-999,-999,1,-999,-999,9,-999,2.4474,26.7652
49NZ20070724,   P01,26,1,31, X12003,2,20070731,2011,41.5622,150.8738,5211,248.4,2,2.6261,2,2.62633,2,33.6543,2,33.6651,6,132.86,2,132.61,2,83.21,2,0.3,37.49,2,0.14,0.03,2,0.01,2.791,2,0.017,3.134,2,1.727,2,0.252,2,-999,9,-999,9,-999,9,-999,-999,9,-999,9,-999,-999,9,-999,-999,9,-999,-999,9,-999,2.6118,26.8445
49NZ20070724,   P01,26,1,30, X12008,2,20070731,2011,41.5622,150.8738,5211,330.3,2,2.6551,2,2.65637,2,33.7965,2,33.8136,2,104.11,2,104.08,2,96.49,2,0.33,38.8,2,0.14,0.03,2,0.01,2.874,2,0.017,-999,5,-999,5,-999,5,-999,9,-999,9,-999,9,-999,-999,9,-999,9,-999,-999,9,-999,-999,9,-999,-999,9,-999,2.6358,26.9561
49NZ20070724,   P01,26,1,29, X12035,2,20070731,2011,41.5622,150.8738,5211,430.3,2,3.2362,2,3.23644,2,34.0204,2,34.0231,2,57.36,2,57.67,2,108.09,2,0.36,41.2,2,0.15,0.03,2,0.01,3.017,2,0.017,1.51,2,0.82,2,0.103,2,-999,9,-999,9,-999,9,-999,-999,9,-999,9,-999,-999,9,-999,-999,1,-999,-999,9,-999,3.2085,27.0841
49NZ20070724,   P01,26,1,28, X12034,2,20070731,2011,41.5622,150.8738,5211,529.4,2,3.269,2,3.26946,2,34.1292,2,34.1324,6,43.98,2,43.27,2,117.73,2,0.38,42,2,0.15,0.03,2,0.01,3.058,2,0.018,1.025,2,0.558,2,0.08,2,-999,9,-999,9,-999,9,-999,-999,9,-999,9,-999,-999,9,-999,-999,9,-999,-999,9,-999,3.2342,27.1684
49NZ20070724,   P01,26,1,27, X12049,2,20070731,2011,41.5622,150.8738,5211,629.4,2,3.1479,2,3.14518,2,34.2119,2,34.2189,2,36.63,2,37.03,2,126.58,2,0.4,42.52,2,0.15,0.03,2,0.01,3.076,2,0.018,0.709,2,0.383,2,0.046,2,-999,9,-999,9,-999,9,-999,-999,9,-999,9,-999,-999,9,-999,-999,1,-999,-999,9,-999,3.1066,27.2462
49NZ20070724,   P01,26,1,26, X12032,2,20070731,2011,41.5622,150.8738,5211,732.4,2,2.9462,2,2.94626,2,34.2747,2,34.283,2,35.42,2,35.52,2,134.34,2,0.41,42.74,2,0.15,0.03,2,0.01,3.092,2,0.018,0.523,6,0.284,6,0.027,6,-999,9,-999,9,-999,9,-999,-999,9,-999,9,-999,-999,9,-999,-999,9,-999,-999,9,-999,2.8986,27.3152
49NZ20070724,   P01,26,1,25, X12043,2,20070731,2011,41.5622,150.8738,5211,827.9,2,3.0129,2,3.01384,2,34.3489,2,34.3457,2,38.63,2,38.55,2,135.26,2,0.42,42.36,2,0.15,0.02,2,0.01,3.06,2,0.018,0.334,2,0.179,2,0.024,2,-999,9,-999,9,-999,9,-999,-999,9,-999,9,-999,-999,9,-999,-999,1,-999,-999,9,-999,2.9579,27.3691
49NZ20070724,   P01,26,1,24, X12030,2,20070731,2011,41.5622,150.8738,5211,930.9,2,2.8656,2,2.86593,2,34.3955,2,34.3918,2,38.12,2,38.26,2,139.48,2,0.43,42.34,2,0.15,0.02,2,0.01,3.053,2,0.018,0.215,2,0.109,2,0.014,2,-999,9,-999,9,-999,9,-999,-999,9,-999,9,-999,-999,9,-999,-999,9,-999,-999,9,-999,2.8041,27.4201
49NZ20070724,   P01,26,1,23, X12027,2,20070731,2011,41.5622,150.8738,5211,1071.9,2,2.6671,2,2.66683,2,34.4359,2,34.4362,6,38.32,2,38.67,2,146.19,2,0.44,42.77,2,0.15,0.02,2,0.01,3.077,2,0.018,0.146,2,0.074,2,0.005,2,-999,9,-999,9,-999,9,-999,-999,9,-999,9,-999,-999,9,-999,-999,1,-999,-999,9,-999,2.5966,27.4705
49NZ20070724,   P01,26,1,22, X12028,2,20070731,2011,41.5622,150.8738,5211,1271.9,2,2.4488,2,2.44882,2,34.492,2,34.4931,2,43.13,2,43.31,2,151.86,2,0.45,42.66,2,0.15,0.03,2,0.01,3.059,2,0.018,-999,5,-999,5,-999,5,-999,9,-999,9,-999,9,-999,-999,9,-999,9,-999,-999,9,-999,-999,9,-999,-999,9,-999,2.3652,27.5351
49NZ20070724,   P01,26,1,21, X12009,2,20070731,2011,41.5622,150.8738,5211,1471.6,2,2.2769,2,2.27698,2,34.5276,2,34.5278,2,49.79,2,49.71,2,155.66,2,0.46,42.28,2,0.15,0.02,2,0.01,3.032,2,0.018,-999,5,-999,5,-999,5,-999,9,-999,9,-999,9,-999,-999,9,-999,9,-999,-999,9,-999,-999,9,-999,-999,9,-999,2.1797,27.5788
49NZ20070724,   P01,26,1,20, X12026,2,20070731,2011,41.5622,150.8738,5211,1668.1,2,2.0975,2,2.09773,2,34.5585,2,34.559,2,59.41,2,59.11,2,159.14,2,0.47,41.91,2,0.15,0.02,2,0.01,2.995,2,0.017,-999,5,-999,5,-999,5,-999,9,-999,9,-999,9,-999,-999,9,-999,9,-999,-999,9,-999,-999,9,-999,-999,9,-999,1.987,27.6189
49NZ20070724,   P01,26,1,19, X12025,2,20070731,2011,41.5622,150.8738,5211,1872.2,2,1.9716,2,1.97261,2,34.586,2,34.586,2,70.61,2,70.44,2,159.61,2,0.47,41.03,2,0.15,0.02,2,0.01,2.933,2,0.017,-999,5,-999,5,-999,5,-999,9,-999,9,-999,9,-999,-999,9,-999,9,-999,-999,9,-999,-999,1,-999,-999,9,-999,1.8463,27.652
49NZ20070724,   P01,26,1,18, X12024,2,20070731,2011,41.5622,150.8738,5211,2072.1,2,1.8592,2,1.85925,2,34.6075,2,34.6077,2,82.67,2,82.39,2,159.46,2,0.47,40.45,2,0.15,0.02,2,0.01,2.884,2,0.017,-999,5,-999,5,-999,5,-999,9,-999,9,-999,9,-999,-999,9,-999,9,-999,-999,9,-999,-999,1,-999,-999,9,-999,1.719,27.6789
49NZ20070724,   P01,26,1,17, X12023,2,20070731,2011,41.5622,150.8738,5211,2269.3,2,1.7577,2,1.75786,2,34.6243,2,34.6249,2,92.83,2,92.77,2,159.41,2,0.47,39.58,2,0.14,0.02,2,0.01,2.832,2,0.017,0,2,0.002,2,0.003,2,-999,9,-999,9,-999,9,-999,-999,9,-999,9,-999,-999,9,-999,-999,1,-999,-999,9,-999,1.6023,27.7011
49NZ20070724,   P01,26,1,16, X12022,2,20070731,2011,41.5622,150.8738,5211,2470,2,1.6846,2,1.68459,2,34.6378,2,34.6385,2,102.87,2,102.83,2,158.99,2,0.47,39.21,2,0.14,0.02,2,0.01,2.786,2,0.017,0,2,0,2,0,2,-999,9,-999,9,-999,9,-999,-999,9,-999,9,-999,-999,9,-999,-999,9,-999,-999,9,-999,1.5129,27.7185
49NZ20070724,   P01,26,1,15, X12021,2,20070731,2011,41.5622,150.8738,5211,2668.6,2,1.6223,2,1.62239,2,34.6487,2,34.649,6,112.16,2,112.02,2,157.43,2,0.47,38.65,2,0.14,0.02,2,0.01,2.741,2,0.017,-999,9,-999,9,-999,9,-999,9,-999,9,-999,9,-999,-999,9,-999,9,-999,-999,9,-999,-999,9,-999,-999,9,-999,1.4339,27.733
49NZ20070724,   P01,26,1,14, X12020,2,20070731,2011,41.5622,150.8738,5211,2872.7,2,1.573,2,1.57305,2,34.6575,2,34.658,2,120.74,2,120.59,2,156,2,0.46,38.01,2,0.14,0.02,2,0.01,2.695,2,0.017,-999,9,-999,9,-999,9,-999,9,-999,9,-999,9,-999,-999,9,-999,9,-999,-999,9,-999,-999,1,-999,-999,9,-999,1.3667,27.7449
49NZ20070724,   P01,26,1,13, X12019,2,20070731,2011,41.5622,150.8738,5211,3082.2,2,1.5306,2,1.53059,2,34.6651,2,34.6652,2,128.43,2,128.42,2,153.8,2,0.46,37.55,2,0.14,0.02,2,0.01,2.658,2,0.017,0,2,0,2,0,2,-999,9,-999,9,-999,9,-999,-999,9,-999,9,-999,-999,9,-999,-999,1,-999,-999,9,-999,1.3053,27.7553
49NZ20070724,   P01,26,1,12, X12040,2,20070731,2011,41.5622,150.8738,5211,3329,2,1.4962,2,1.49638,2,34.6717,2,34.672,2,135.95,2,136.4,2,151.19,2,0.45,36.92,2,0.14,0.02,2,0.01,2.602,2,0.016,-999,9,-999,9,-999,9,-999,9,-999,9,-999,9,-999,-999,9,-999,9,-999,-999,9,-999,-999,1,-999,-999,9,-999,1.2475,27.7647
49NZ20070724,   P01,26,1,11, X12047,2,20070731,2011,41.5622,150.8738,5211,3579.3,2,1.4768,2,1.47702,2,34.6766,2,34.6767,2,141.67,2,142.03,2,150.3,2,0.45,36.64,2,0.14,0.02,2,0.01,2.583,2,0.016,-999,9,-999,9,-999,9,-999,9,-999,9,-999,9,-999,-999,9,-999,9,-999,-999,9,-999,-999,9,-999,-999,9,-999,1.2031,27.7717
49NZ20070724,   P01,26,1,10, X12010,2,20070731,2011,41.5622,150.8738,5211,3828.6,2,1.4671,2,1.46725,2,34.6803,2,34.6805,2,146.36,2,146.62,2,149.31,2,0.45,36.5,2,0.14,0.01,2,0.01,2.571,2,0.016,0,2,0,2,0,2,-999,9,-999,9,-999,9,-999,-999,9,-999,9,-999,-999,9,-999,-999,9,-999,-999,9,-999,1.1676,27.7771
49NZ20070724,   P01,26,1,9, X12015,2,20070731,2011,41.5622,150.8738,5211,4079.6,2,1.4587,2,1.45885,2,34.6837,2,34.6845,2,150.83,2,151.36,2,147.97,2,0.44,36.09,2,0.13,0.02,2,0.01,2.538,2,0.016,-999,9,-999,9,-999,9,-999,9,-999,9,-999,9,-999,-999,9,-999,9,-999,-999,9,-999,-999,1,-999,-999,9,-999,1.1323,27.7823
49NZ20070724,   P01,26,1,8, X12046,2,20070731,2011,41.5622,150.8738,5211,4328.8,2,1.4626,2,1.46277,2,34.6863,2,34.6867,6,153.94,2,154.43,2,147.41,2,0.44,35.88,2,0.13,0.02,2,0.01,2.525,2,0.016,-999,9,-999,9,-999,9,-999,9,-999,9,-999,9,-999,-999,9,-999,9,-999,-999,9,-999,-999,9,-999,-999,9,-999,1.1083,27.786
49NZ20070724,   P01,26,1,7, X12044,2,20070731,2011,41.5622,150.8738,5211,4579.6,2,1.4771,2,1.47724,2,34.6878,2,34.6884,2,155.8,2,156.23,2,147.4,2,0.44,35.79,2,0.13,0.01,2,0.01,2.519,2,0.016,0,2,0,2,0.003,2,-999,9,-999,9,-999,9,-999,-999,9,-999,9,-999,-999,9,-999,-999,9,-999,-999,9,-999,1.0936,27.7882
49NZ20070724,   P01,26,1,6, X12048,2,20070731,2011,41.5622,150.8738,5211,4829.9,2,1.4973,2,1.49741,2,34.6889,2,34.6896,2,157.02,2,157.3,2,147.49,2,0.44,35.67,2,0.13,0.02,2,0.01,2.509,2,0.016,-999,9,-999,9,-999,9,-999,9,-999,9,-999,9,-999,-999,9,-999,9,-999,-999,9,-999,-999,9,-999,-999,9,-999,1.0837,27.7898
49NZ20070724,   P01,26,1,5, X12017,2,20070731,2011,41.5622,150.8738,5211,5080.7,2,1.5231,2,1.52313,2,34.6895,2,34.6891,2,157.78,2,157.99,2,147.86,2,0.44,35.62,2,0.13,0.02,2,0.01,2.502,2,0.016,-999,9,-999,9,-999,9,-999,9,-999,9,-999,9,-999,-999,9,-999,9,-999,-999,9,-999,-999,1,-999,-999,9,-999,1.0782,27.7906
49NZ20070724,   P01,26,1,4, X12928,2,20070731,2011,41.5622,150.8738,5211,4079.9,2,1.4591,2,1.45924,2,34.6838,2,-999,9,150.76,2,-999,9,-999,9,-999,-999,9,-999,-999,9,-999,-999,9,-999,-999,9,-999,9,-999,9,-999,9,-999,9,-999,9,-999,-999,9,-999,9,-999,-999,9,-999,-999,1,-999,-999,9,-999,1.1326,27.7824
49NZ20070724,   P01,26,1,3, X12931,2,20070731,2011,41.5622,150.8738,5211,5080.5,2,1.523,2,1.52316,2,34.6896,2,-999,9,157.76,2,-999,9,-999,9,-999,-999,9,-999,-999,9,-999,-999,9,-999,-999,9,-999,9,-999,9,-999,9,-999,9,-999,9,-999,-999,9,-999,9,-999,-999,9,-999,-999,1,-999,-999,9,-999,1.0781,27.7907
49NZ20070724,   P01,26,1,2, X12930,2,20070731,2011,41.5622,150.8738,5211,5303.1,2,1.5469,2,1.54676,2,34.69,2,-999,9,158.25,2,-999,9,-999,9,-999,-999,9,-999,-999,9,-999,-999,9,-999,-999,9,-999,9,-999,9,-999,9,-999,9,-999,9,-999,-999,9,-999,9,-999,-999,9,-999,-999,1,-999,-999,9,-999,1.0736,27.7914
49NZ20070724,   P01,26,1,1, X12929,2,20070731,2011,41.5622,150.8738,5211,5302.8,2,1.5467,2,1.54679,2,34.6901,2,34.6906,6,158.23,2,158.07,2,148.99,2,0.45,35.62,2,0.13,0.01,2,0.01,2.508,2,0.016,0,2,0.001,2,0.002,2,-999,9,-999,9,-999,9,-999,-999,9,-999,9,-999,-999,9,-999,-999,1,-999,-999,9,-999,1.0734,27.7914