BOTTLE,20081214JAMSTECIORGC,,,,,,,,,,,,,,,,,,,,,,,,,,,,,,,,,,,,,,,,,,,,,,,,,,,,,,,,,,,,,,,,,
EXPOCODE,SECT,STNNBR,CASTNO,SAMPNO,BTLNBR,BTLNBR_FLAG_W,DATE,TIME,LATITUDE,LONGITUDE,DEPTH,CTDPRS,CTDPRS_FLAG_W,CTDTMP,CTDTMP_FLAG_W,SBE35,SBE35_FLAG_W,CTDSAL,CTDSAL_FLAG_W,SALNTY,SALNTY_FLAG_W,CTDOXY,CTDOXY_FLAG_W,OXYGEN,OXYGEN_FLAG_W,SILCAT,SILCAT_FLAG_W,SILUNC,NITRAT,NITRAT_FLAG_W,NRAUNC,NITRIT,NITRIT_FLAG_W,NRIUNC,PHSPHT,PHSPHT_FLAG_W,PHPUNC,CFC-11,CFC-11_FLAG_W,CFC-12,CFC-12_FLAG_W,CFC113,CFC113_FLAG_W,CCL4,CCL4_FLAG_W,TCARBN,TCARBN_FLAG_W,ALKALI,ALKALI_FLAG_W,PH_TOT,PH_TMP,PH_FLAG_W,DELC13,DELC13_FLAG_W,C13ERR,DELC14,DELC14_FLAG_W,C14ERR,CS-137,CS-137_FLAG_W,CS137ER,PLUTO,PLUTO_FLAG_W,PLUTOER,THETA,SIG0
,,,,,,,,UTC,DEG,DEG,M,DBAR,,ITS-90,,ITS-90,,PSS-78,,PSS-78,,UMOL/KG,,UMOL/KG,,UMOL/KG,,UMOL/KG,UMOL/KG,,UMOL/KG,UMOL/KG,,UMOL/KG,UMOL/KG,,UMOL/KG,PMOL/KG,,PMOL/KG,,PMOL/KG,,PMOL/KG,,UMOL/KG,,UMOL/KG,,,ITS-90,,/MILLE,,/MILLE,/MILLE,,/MILLE,BQ/CUM,,BQ/CUM,MBQ/CUM,,MBQ/CUM,DEG C,KG/CUM
49NZ20070724,   P01,70,1,0,-999,9,20070817,1252,46.9992,-170.4295,5520,-999,9,-999,9,-999,9,-999,9,32.5852,2,-999,9,-999,9,-999,9,-999,-999,9,-999,-999,9,-999,-999,9,-999,-999,9,-999,9,-999,9,-999,9,-999,9,-999,9,-999,-999,9,-999,9,-999,-999,9,-999,-999,9,-999,-999,9,-999,-999,-999
49NZ20070724,   P01,70,1,36, X12042,2,20070817,1252,46.9992,-170.4295,5520,9,2,13.7618,2,13.7618,2,32.5886,2,32.5914,2,268.98,2,268.36,2,17.27,2,0.16,9.71,2,0.06,0.15,2,0.01,1.078,2,0.013,3.122,2,1.803,2,0.282,2,-999,9,1999.3,2,2201.5,2,7.8944,25,2,-999,9,-999,-999,9,-999,-999,9,-999,-999,9,-999,13.7606,24.3732
49NZ20070724,   P01,70,1,35, X12041,2,20070817,1252,46.9992,-170.4295,5520,49.4,2,5.18,2,5.18209,2,32.9217,2,32.9208,2,318.24,2,316.5,2,30.23,2,0.19,17.38,2,0.08,0.32,2,0.01,1.593,2,0.014,4.704,2,2.65,2,0.416,2,-999,9,2077.9,2,2224.5,2,7.7608,25,2,-999,9,-999,-999,9,-999,-999,9,-999,-999,9,-999,5.1763,26.0079
49NZ20070724,   P01,70,1,34, X12036,2,20070817,1252,46.9992,-170.4295,5520,99.5,2,3.9826,2,3.98519,2,32.9664,2,32.9698,2,315.08,2,312.52,2,32.02,2,0.19,20.03,2,0.09,0.08,2,0.01,1.67,2,0.014,4.846,2,2.723,2,0.432,2,-999,9,2091.2,2,2224.7,2,7.7305,25,2,-999,9,-999,-999,9,-999,-999,9,-999,-999,9,-999,3.976,26.171
49NZ20070724,   P01,70,1,33, X12033,2,20070817,1252,46.9992,-170.4295,5520,149.2,2,3.1403,2,3.141,2,33.4979,2,33.5168,2,192.74,2,187.92,2,60.89,2,0.25,32.46,2,0.12,0.01,2,0.01,2.439,2,0.016,3.911,2,2.089,2,0.28,2,-999,9,2214.6,2,2266.8,2,7.4956,25,2,-999,9,-999,-999,9,-999,-999,9,-999,-999,9,-999,3.1313,26.6743
49NZ20070724,   P01,70,1,32, X12038,2,20070817,1252,46.9992,-170.4295,5520,200.1,2,3.5801,2,3.57937,2,33.7362,2,33.741,2,126.98,2,125.02,2,73.76,2,0.28,36.48,2,0.13,0.01,2,0.01,2.663,2,0.017,3.061,2,1.59,2,0.214,2,-999,9,2258.9,2,2286.1,2,7.4168,25,2,-999,9,-999,-999,9,-999,-999,9,-999,-999,9,-999,3.5671,26.8236
49NZ20070724,   P01,70,1,31, X12003,2,20070817,1252,46.9992,-170.4295,5520,250.1,2,3.7851,2,3.78569,2,33.8495,2,33.8525,6,91.21,2,89.06,2,82.57,2,0.3,38.91,2,0.14,0.01,2,0.01,2.81,2,0.017,2.453,6,1.24,6,0.165,6,-999,9,2283.1,2,2296.1,2,7.3713,25,2,-999,9,-999,-999,9,-999,-999,9,-999,-999,9,-999,3.7683,26.8942
49NZ20070724,   P01,70,1,30, X12008,2,20070817,1252,46.9992,-170.4295,5520,329.4,2,3.6953,2,3.69488,2,33.9511,2,33.9522,2,58.5,2,57.61,2,94.67,2,0.33,41.75,2,0.15,0.02,2,0.01,2.984,2,0.017,1.841,2,0.885,2,0.12,2,-999,9,2310.7,6,2309,2,7.3302,25,2,-999,9,-999,-999,9,-999,-999,9,-999,-999,9,-999,3.6732,26.9845
49NZ20070724,   P01,70,1,29, X12035,2,20070817,1252,46.9992,-170.4295,5520,430.4,2,3.6354,2,3.63533,2,34.0662,2,34.0673,2,36.31,2,36.51,2,106.73,2,0.35,42.91,2,0.15,0.01,2,0.01,3.076,2,0.018,1.209,2,0.596,2,0.081,2,-999,9,2330.6,2,2325.9,6,7.3147,25,2,-999,9,-999,-999,9,-999,-999,9,-999,-999,9,-999,3.6063,27.0827
49NZ20070724,   P01,70,1,28, X12034,2,20070817,1252,46.9992,-170.4295,5520,528.9,2,3.5478,2,3.54794,2,34.166,2,34.1686,6,27.92,2,27.89,2,116.59,2,0.38,43.24,2,0.15,0.01,2,0.01,3.095,2,0.018,0.738,2,0.359,2,0.046,2,-999,9,2345.1,2,2339.2,2,7.3163,25,6,-999,9,-999,-999,9,-999,-999,9,-999,-999,9,-999,3.5119,27.1714
49NZ20070724,   P01,70,1,27, X12049,2,20070817,1252,46.9992,-170.4295,5520,629.3,2,3.3813,2,3.38127,2,34.2324,2,34.2334,2,24.09,2,24.36,2,124.24,2,0.39,43.53,2,0.15,0.01,2,0.01,3.122,2,0.018,0.485,2,0.235,2,0.027,2,-999,9,2357.9,2,2351.3,2,7.3225,25,2,-999,9,-999,-999,9,-999,-999,9,-999,-999,9,-999,3.3388,27.2409
49NZ20070724,   P01,70,1,26, X12032,2,20070817,1252,46.9992,-170.4295,5520,729.8,2,3.1953,2,3.19511,2,34.2898,2,34.2902,2,21.35,2,21.5,2,132.16,2,0.41,43.85,2,0.16,0,2,0.01,3.145,2,0.018,0.301,6,0.146,6,0.016,6,-999,9,2365,2,2360.7,2,7.3251,25,2,-999,9,-999,-999,9,-999,-999,9,-999,-999,9,-999,3.1464,27.3047
49NZ20070724,   P01,70,1,25, X12043,2,20070817,1252,46.9992,-170.4295,5520,830.5,2,3.0127,2,3.01255,2,34.3351,2,34.3347,2,22.24,2,22.38,2,138.08,2,0.42,43.91,2,0.16,0.01,2,0.01,3.148,2,0.018,0.222,2,0.11,2,0.012,2,-999,9,2370.4,2,2369.9,6,7.331,25,2,-999,9,-999,-999,9,-999,-999,9,-999,-999,9,-999,2.9576,27.3582
49NZ20070724,   P01,70,1,24, X12030,2,20070817,1252,46.9992,-170.4295,5520,930.6,2,2.8676,2,2.86746,2,34.372,2,34.3714,2,22.29,2,22.31,2,142.62,2,0.43,43.95,2,0.16,0.01,2,0.01,3.144,2,0.018,0.146,2,0.073,2,0.013,2,-999,9,2376.1,2,2376.8,2,7.3348,25,6,-999,9,-999,-999,9,-999,-999,9,-999,-999,9,-999,2.8061,27.4012
49NZ20070724,   P01,70,1,23, X12027,2,20070817,1252,46.9992,-170.4295,5520,1069.9,2,2.6888,2,2.68831,2,34.4189,2,34.4186,6,26.35,2,26.61,2,148.43,2,0.45,43.76,2,0.16,0,2,0.01,3.13,2,0.018,0.098,2,0.048,2,0.01,2,-999,9,2380.6,2,2385.2,2,7.3478,25,2,-999,9,-999,-999,9,-999,-999,9,-999,-999,9,-999,2.6183,27.4551
49NZ20070724,   P01,70,1,22, X12028,2,20070817,1252,46.9992,-170.4295,5520,1270.9,2,2.4279,2,2.4279,2,34.4738,2,34.4738,2,31.07,2,31.27,2,156.25,2,0.46,43.55,2,0.15,0.01,2,0.01,3.116,2,0.018,0.045,2,0.021,2,0.007,2,-999,9,2383.2,2,2395,2,7.3623,25,2,-999,9,-999,-999,9,-999,-999,9,-999,-999,9,-999,2.3446,27.5222
49NZ20070724,   P01,70,1,21, X12009,2,20070817,1252,46.9992,-170.4295,5520,1472.3,2,2.254,2,2.25394,2,34.5153,2,34.5148,2,35.85,2,35.87,2,161.27,2,0.47,43.5,2,0.15,0.01,2,0.01,3.091,2,0.018,0.017,2,0.006,2,0.006,2,-999,9,2389.6,2,2403.4,2,7.3744,25,2,-999,9,-999,-999,9,-999,-999,9,-999,-999,9,-999,2.1571,27.5708
49NZ20070724,   P01,70,1,20, X12026,2,20070817,1252,46.9992,-170.4295,5520,1670.5,2,2.1008,2,2.10072,2,34.5492,2,34.5488,2,46.51,2,46.49,2,164.42,2,0.48,42.82,2,0.15,0.01,2,0.01,3.042,2,0.018,0.009,2,0.001,2,0.006,2,-999,9,2386.9,2,2408.1,2,7.397,25,6,-999,9,-999,-999,9,-999,-999,9,-999,-999,9,-999,1.9901,27.6113
49NZ20070724,   P01,70,1,19, X12025,2,20070817,1252,46.9992,-170.4295,5520,1871.5,2,1.9808,2,1.98086,2,34.5761,2,34.5754,2,56.18,2,55.98,2,166.44,2,0.49,42.43,2,0.15,0.01,2,0.01,3.003,2,0.017,0.001,2,0,2,0.005,2,-999,9,2382.8,2,2412.3,2,7.4158,25,2,-999,9,-999,-999,9,-999,-999,9,-999,-999,9,-999,1.8555,27.6434
49NZ20070724,   P01,70,1,18, X12024,2,20070817,1252,46.9992,-170.4295,5520,2072.3,2,1.8733,2,1.87313,2,34.5987,2,34.5987,2,67.5,2,67.38,2,167.57,2,0.49,41.7,2,0.15,0.01,2,0.01,2.947,2,0.017,0.001,2,0,2,0,2,-999,9,2377.1,2,2415.5,2,7.439,25,2,-999,9,-999,-999,9,-999,-999,9,-999,-999,9,-999,1.7329,27.6708
49NZ20070724,   P01,70,1,17, X12023,2,20070817,1252,46.9992,-170.4295,5520,2272.2,2,1.7746,2,1.77474,2,34.6185,2,34.618,2,78.54,2,78.46,2,167.79,2,0.49,41.1,2,0.15,0.01,2,0.01,2.907,2,0.017,0.004,2,0.003,2,0,2,-999,9,2371.1,2,2419.1,2,7.4604,25,2,-999,9,-999,-999,9,-999,-999,9,-999,-999,9,-999,1.6187,27.6953
49NZ20070724,   P01,70,1,16, X12022,2,20070817,1252,46.9992,-170.4295,5520,2471.2,2,1.7058,2,1.7058,2,34.6318,2,34.6313,2,88.69,2,88.57,2,167.02,2,0.49,40.37,2,0.15,0.01,2,0.01,2.856,2,0.017,0,2,0,2,0,2,-999,9,2366.4,6,2419.8,2,7.4787,25,2,-999,9,-999,-999,9,-999,-999,9,-999,-999,9,-999,1.5337,27.7122
49NZ20070724,   P01,70,1,15, X12021,2,20070817,1252,46.9992,-170.4295,5520,2670.1,2,1.6443,2,1.64429,2,34.6432,2,34.6428,6,99.35,2,99.33,2,165.38,2,0.48,39.71,2,0.14,0.01,2,0.01,2.802,2,0.017,-999,9,-999,9,-999,9,-999,9,2360.2,2,2420.6,6,7.4989,25,2,-999,9,-999,-999,9,-999,-999,9,-999,-999,9,-999,1.4554,27.7271
49NZ20070724,   P01,70,1,14, X12020,2,20070817,1252,46.9992,-170.4295,5520,2870.8,2,1.5965,2,1.59633,2,34.6521,2,34.6518,2,109,2,108.9,2,163.66,2,0.48,39.13,2,0.14,0.01,2,0.01,2.764,2,0.017,-999,9,-999,9,-999,9,-999,9,2355.3,2,2421.7,2,7.5171,25,6,-999,9,-999,-999,9,-999,-999,9,-999,-999,9,-999,1.3899,27.7389
49NZ20070724,   P01,70,1,13, X12019,2,20070817,1252,46.9992,-170.4295,5520,3080.9,2,1.5468,2,1.54669,2,34.6612,2,34.6611,2,119.37,2,119.29,2,161.52,2,0.47,38.39,2,0.14,0.01,2,0.01,2.704,2,0.017,0,2,0,2,0,2,-999,9,2348.3,2,2421,2,7.5356,25,2,-999,9,-999,-999,9,-999,-999,9,-999,-999,9,-999,1.3213,27.7511
49NZ20070724,   P01,70,1,12, X12040,2,20070817,1252,46.9992,-170.4295,5520,3329.9,2,1.5113,2,1.51124,2,34.6689,2,34.6688,2,128.18,2,128.28,2,159.06,2,0.47,37.75,2,0.14,0.01,2,0.01,2.656,2,0.017,-999,9,-999,9,-999,9,-999,9,2341.8,2,2421.4,2,7.5533,25,2,-999,9,-999,-999,9,-999,-999,9,-999,-999,9,-999,1.2621,27.7614
49NZ20070724,   P01,70,1,11, X12047,2,20070817,1252,46.9992,-170.4295,5520,3579.6,2,1.4816,2,1.48169,2,34.6756,2,34.6754,2,136.07,2,136.34,2,157.27,2,0.46,37.28,2,0.14,0.01,2,0.01,2.621,2,0.017,-999,9,-999,9,-999,9,-999,9,2335.1,2,2422.3,2,7.5669,25,2,-999,9,-999,-999,9,-999,-999,9,-999,-999,9,-999,1.2078,27.7706
49NZ20070724,   P01,70,1,10, X12010,2,20070817,1252,46.9992,-170.4295,5520,3830.7,2,1.4677,2,1.46775,2,34.6804,2,34.6798,2,141.93,2,142.27,2,156.62,2,0.46,36.87,2,0.14,0,2,0.01,2.587,2,0.016,0,2,0,2,0,2,-999,9,2330.3,2,2422,2,7.5776,25,2,-999,9,-999,-999,9,-999,-999,9,-999,-999,9,-999,1.1679,27.7772
49NZ20070724,   P01,70,1,9, X12015,2,20070817,1252,46.9992,-170.4295,5520,4081.2,2,1.4655,2,1.46556,2,34.684,2,34.6834,2,146.07,2,146.45,2,156.55,2,0.46,36.59,2,0.14,0.01,2,0.01,2.566,2,0.016,-999,9,-999,9,-999,9,-999,9,2331.2,2,2422.1,2,7.5861,25,2,-999,9,-999,-999,9,-999,-999,9,-999,-999,9,-999,1.1387,27.7821
49NZ20070724,   P01,70,1,8, X12046,2,20070817,1252,46.9992,-170.4295,5520,4330.8,2,1.4773,2,1.47744,2,34.6862,2,34.6858,6,148.21,2,148.79,2,157.24,2,0.46,36.46,2,0.13,0.01,2,0.01,2.554,2,0.016,-999,9,-999,9,-999,9,-999,9,2329.8,6,2424.1,2,7.5914,25,2,-999,9,-999,-999,9,-999,-999,9,-999,-999,9,-999,1.1224,27.7849
49NZ20070724,   P01,70,1,7, X12044,2,20070817,1252,46.9992,-170.4295,5520,4581.1,2,1.4989,2,1.49884,2,34.6874,2,34.6874,2,148.91,2,149.47,2,159.13,2,0.47,36.42,2,0.13,0,2,0.01,2.547,2,0.016,0.001,2,0,2,0,2,-999,9,2329.4,2,2426.2,6,7.5952,25,2,-999,9,-999,-999,9,-999,-999,9,-999,-999,9,-999,1.1146,27.7865
49NZ20070724,   P01,70,1,6, X12048,2,20070817,1252,46.9992,-170.4295,5520,4829.3,2,1.5265,2,1.52641,2,34.6877,2,34.6876,2,149.42,2,150.04,2,159.23,2,0.47,36.49,2,0.13,0.01,2,0.01,2.544,2,0.016,-999,9,-999,9,-999,9,-999,9,2331.9,2,2425.7,2,7.5951,25,6,-999,9,-999,-999,9,-999,-999,9,-999,-999,9,-999,1.112,27.7869
49NZ20070724,   P01,70,1,5, X12017,2,20070817,1252,46.9992,-170.4295,5520,5080.4,2,1.5537,2,1.5537,2,34.6883,2,34.6876,2,150.48,2,150.87,2,158.98,2,0.47,36.39,2,0.13,0.01,2,0.01,2.537,2,0.016,-999,9,-999,9,-999,9,-999,9,2328.8,2,2425,2,7.5962,25,2,-999,9,-999,-999,9,-999,-999,9,-999,-999,9,-999,1.1078,27.7876
49NZ20070724,   P01,70,1,4, X12928,2,20070817,1252,46.9992,-170.4295,5520,5329.4,2,1.582,2,1.5819,2,34.6886,2,34.6882,2,151.46,2,151.7,2,158.56,2,0.47,36.25,2,0.13,0.01,2,0.01,2.538,2,0.016,0,2,0.001,2,0,2,-999,9,2323.8,3,2423,2,7.5968,25,2,-999,9,-999,-999,9,-999,-999,9,-999,-999,9,-999,1.1041,27.7881
49NZ20070724,   P01,70,1,3, X12931,2,20070817,1252,46.9992,-170.4295,5520,5580.5,2,1.611,2,1.61082,2,34.6889,2,34.6885,2,152.71,2,152.74,2,157.38,2,0.47,36.17,2,0.13,0.01,2,0.01,2.534,2,0.016,-999,9,-999,9,-999,9,-999,9,2326.4,2,2422.3,2,7.597,25,2,-999,9,-999,-999,9,-999,-999,9,-999,-999,9,-999,1.1,27.7887
49NZ20070724,   P01,70,1,2, X12930,2,20070817,1252,46.9992,-170.4295,5520,49.1,2,5.1096,2,5.11362,2,32.9199,2,-999,9,317.51,2,-999,9,-999,9,-999,-999,9,-999,-999,9,-999,-999,9,-999,-999,9,-999,9,-999,9,-999,9,-999,9,-999,9,-999,-999,9,-999,9,-999,-999,9,-999,-999,9,-999,-999,9,-999,5.1059,26.0145
49NZ20070724,   P01,70,1,1, X12929,2,20070817,1252,46.9992,-170.4295,5520,5665.9,2,1.6225,2,1.62242,2,34.689,2,34.6887,6,152.86,2,153.04,2,157.73,2,0.47,36.2,2,0.13,0.01,2,0.01,2.532,2,0.016,0,2,0.001,2,0,2,-999,9,2327,2,2422.5,2,7.597,25,2,-999,9,-999,-999,9,-999,-999,9,-999,-999,9,-999,1.1,27.7887