BOTTLE,20081214JAMSTECIORGC,,,,,,,,,,,,,,,,,,,,,,,,,,,,,,,,,,,,,,,,,,,,,,,,,,,,,,,,,,,,,,,,,
EXPOCODE,SECT,STNNBR,CASTNO,SAMPNO,BTLNBR,BTLNBR_FLAG_W,DATE,TIME,LATITUDE,LONGITUDE,DEPTH,CTDPRS,CTDPRS_FLAG_W,CTDTMP,CTDTMP_FLAG_W,SBE35,SBE35_FLAG_W,CTDSAL,CTDSAL_FLAG_W,SALNTY,SALNTY_FLAG_W,CTDOXY,CTDOXY_FLAG_W,OXYGEN,OXYGEN_FLAG_W,SILCAT,SILCAT_FLAG_W,SILUNC,NITRAT,NITRAT_FLAG_W,NRAUNC,NITRIT,NITRIT_FLAG_W,NRIUNC,PHSPHT,PHSPHT_FLAG_W,PHPUNC,CFC-11,CFC-11_FLAG_W,CFC-12,CFC-12_FLAG_W,CFC113,CFC113_FLAG_W,CCL4,CCL4_FLAG_W,TCARBN,TCARBN_FLAG_W,ALKALI,ALKALI_FLAG_W,PH_TOT,PH_TMP,PH_FLAG_W,DELC13,DELC13_FLAG_W,C13ERR,DELC14,DELC14_FLAG_W,C14ERR,CS-137,CS-137_FLAG_W,CS137ER,PLUTO,PLUTO_FLAG_W,PLUTOER,THETA,SIG0
,,,,,,,,UTC,DEG,DEG,M,DBAR,,ITS-90,,ITS-90,,PSS-78,,PSS-78,,UMOL/KG,,UMOL/KG,,UMOL/KG,,UMOL/KG,UMOL/KG,,UMOL/KG,UMOL/KG,,UMOL/KG,UMOL/KG,,UMOL/KG,PMOL/KG,,PMOL/KG,,PMOL/KG,,PMOL/KG,,UMOL/KG,,UMOL/KG,,,ITS-90,,/MILLE,,/MILLE,/MILLE,,/MILLE,BQ/CUM,,BQ/CUM,MBQ/CUM,,MBQ/CUM,DEG C,KG/CUM
49NZ20070724,   P01,89,1,0,-999,9,20070823,1236,46.9917,-149.1445,5058,-999,9,-999,9,-999,9,-999,9,32.4401,2,-999,9,-999,9,-999,9,-999,-999,9,-999,-999,9,-999,-999,9,-999,-999,9,-999,9,-999,9,-999,9,-999,9,-999,9,-999,-999,9,-999,9,-999,-999,9,-999,-999,9,-999,-999,9,-999,-999,-999
49NZ20070724,   P01,89,1,36, X12042,2,20070823,1236,46.9917,-149.1445,5058,10.6,2,13.5745,2,13.57337,2,32.453,2,32.4439,2,280.44,2,277.66,2,6.95,2,0.13,6.99,2,0.05,0.11,2,0.01,0.896,2,0.013,3.266,2,1.848,2,0.337,2,-999,9,1988.1,2,2191.3,2,7.9154,25,6,-999,9,-999,-999,9,-999,-999,9,-999,-999,9,-999,13.573,24.3065
49NZ20070724,   P01,89,1,35, X12041,2,20070823,1236,46.9917,-149.1445,5058,48.1,2,7.8035,2,7.78886,2,32.607,2,32.612,2,302.53,2,302.88,2,14.84,2,0.15,11.3,2,0.06,0.12,2,0.01,1.286,2,0.014,4.348,2,2.373,2,0.411,2,-999,9,2039.7,6,2199.6,2,7.8163,25,2,-999,9,-999,-999,9,-999,-999,9,-999,-999,9,-999,7.7989,25.4238
49NZ20070724,   P01,89,1,34, X12036,2,20070823,1236,46.9917,-149.1445,5058,100,2,5.5029,2,5.50298,2,32.8088,2,32.8407,2,300.65,2,299.6,2,19.82,2,0.16,14.24,2,0.07,0.79,2,0,1.374,2,0.014,4.66,2,2.538,2,0.436,2,-999,9,2067.3,2,2210,6,7.7685,25,2,-999,9,-999,-999,9,-999,-999,9,-999,-999,9,-999,5.4951,25.8819
49NZ20070724,   P01,89,1,33, X12033,2,20070823,1236,46.9917,-149.1445,5058,149.4,2,6.2172,2,6.21764,2,33.673,2,33.6818,2,241.75,2,241.65,2,29.84,2,0.18,20.42,2,0.09,0.03,2,0.01,1.566,2,0.014,4.145,6,2.223,6,0.302,6,-999,9,2136.6,2,2254.7,2,7.693,25,6,-999,9,-999,-999,9,-999,-999,9,-999,-999,9,-999,6.2045,26.4783
49NZ20070724,   P01,89,1,32, X12038,2,20070823,1236,46.9917,-149.1445,5058,200.8,2,5.803,2,5.80306,2,33.7901,2,33.794,2,203.91,2,203.15,2,40.95,2,0.21,24.65,2,0.1,0.02,2,0.01,1.843,2,0.015,3.747,2,1.967,2,0.255,2,-999,9,2171.4,2,2267.9,2,7.6239,25,2,-999,9,-999,-999,9,-999,-999,9,-999,-999,9,-999,5.7864,26.6231
49NZ20070724,   P01,89,1,31, X12003,2,20070823,1236,46.9917,-149.1445,5058,249.7,2,5.3237,2,5.32494,2,33.8451,2,33.8455,6,157.6,2,155.33,2,54.68,2,0.24,29.95,2,0.12,0.02,2,0.01,2.192,2,0.016,3.175,2,1.629,2,0.204,2,-999,9,2215.2,2,2277.6,2,7.5337,25,2,-999,9,-999,-999,9,-999,-999,9,-999,-999,9,-999,5.3039,26.7245
49NZ20070724,   P01,89,1,30, X12008,2,20070823,1236,46.9917,-149.1445,5058,299.7,2,4.8188,2,4.81911,2,33.8762,2,33.8771,2,119.51,2,118.56,2,66.19,2,0.26,34.08,2,0.13,0.02,2,0.01,2.467,2,0.016,2.745,2,1.378,2,0.176,2,-999,9,2249.8,2,2286.6,2,7.4596,25,2,-999,9,-999,-999,9,-999,-999,9,-999,-999,9,-999,4.7961,26.8072
49NZ20070724,   P01,89,1,29, X12035,2,20070823,1236,46.9917,-149.1445,5058,402.8,2,4.3477,2,4.34829,2,33.9644,2,33.964,2,77.18,2,77.87,2,82.29,2,0.3,38.5,2,0.14,0.02,2,0.01,2.753,2,0.017,2.033,2,0.996,2,0.13,2,-999,9,2289.6,2,2302.1,2,7.3873,25,2,-999,9,-999,-999,9,-999,-999,9,-999,-999,9,-999,4.3183,26.9292
49NZ20070724,   P01,89,1,28, X12034,2,20070823,1236,46.9917,-149.1445,5058,500,2,4.2193,2,4.21938,2,34.0695,2,34.0729,6,52.18,2,51.42,2,94.58,2,0.33,40.73,2,0.15,0.02,2,0.01,2.905,2,0.017,1.305,2,0.62,2,0.075,2,-999,9,2314.4,2,2318.2,2,7.3579,25,2,-999,9,-999,-999,9,-999,-999,9,-999,-999,9,-999,4.1829,27.027
49NZ20070724,   P01,89,1,27, X12049,2,20070823,1236,46.9917,-149.1445,5058,601.7,2,3.9303,2,3.93052,2,34.15,2,34.1495,2,36.59,2,36.86,2,105.95,2,0.35,42.17,2,0.15,0.02,2,0.01,3.012,2,0.017,0.824,2,0.384,2,0.041,2,-999,9,2333.5,2,2332,2,7.3414,25,2,-999,9,-999,-999,9,-999,-999,9,-999,-999,9,-999,3.8873,27.1214
49NZ20070724,   P01,89,1,26, X12032,2,20070823,1236,46.9917,-149.1445,5058,701.8,2,3.5886,2,3.58852,2,34.2134,2,34.213,2,26.67,2,26.98,2,117.4,2,0.38,43.31,2,0.15,0.02,2,0.01,3.092,2,0.018,0.482,6,0.223,6,0.023,6,-999,9,2351.3,6,2346.3,2,7.3268,25,2,-999,9,-999,-999,9,-999,-999,9,-999,-999,9,-999,3.5397,27.2064
49NZ20070724,   P01,89,1,25, X12043,2,20070823,1236,46.9917,-149.1445,5058,802.1,2,3.3783,2,3.37829,2,34.2752,2,34.275,2,23.69,2,24.03,2,125.37,2,0.39,43.57,2,0.15,0.02,2,0.01,3.117,2,0.018,0.262,2,0.122,2,0.017,2,-999,9,2362.1,2,2357.2,6,7.3325,25,2,-999,9,-999,-999,9,-999,-999,9,-999,-999,9,-999,3.323,27.2765
49NZ20070724,   P01,89,1,24, X12030,2,20070823,1236,46.9917,-149.1445,5058,900.1,2,3.1869,2,3.18683,2,34.3231,2,34.3234,2,20.63,2,20.62,2,132.25,2,0.41,43.82,2,0.16,0.02,2,0.01,3.107,2,0.018,0.148,2,0.066,2,0,2,-999,9,2371.9,2,2366.8,2,7.3322,25,6,-999,9,-999,-999,9,-999,-999,9,-999,-999,9,-999,3.1254,27.3332
49NZ20070724,   P01,89,1,23, X12027,2,20070823,1236,46.9917,-149.1445,5058,999.8,2,3.0086,2,3.0085,2,34.3597,2,34.3597,6,19.33,2,19.27,2,138.39,2,0.42,44.2,2,0.16,0.01,2,0.01,3.139,2,0.018,0.082,2,0.038,2,0.01,2,-999,9,2379.7,2,2374.4,2,7.3304,25,2,-999,9,-999,-999,9,-999,-999,9,-999,-999,9,-999,2.9409,27.3793
49NZ20070724,   P01,89,1,22, X12028,2,20070823,1236,46.9917,-149.1445,5058,1200.2,2,2.7136,2,2.71349,2,34.4239,2,34.4237,2,13.45,2,13.21,2,149.32,2,0.45,44.88,2,0.16,0.02,2,0.01,3.182,2,0.018,0.013,2,0.004,2,0.006,2,-999,9,2393.9,2,2387.8,2,7.3295,25,2,-999,9,-999,-999,9,-999,-999,9,-999,-999,9,-999,2.6331,27.4578
49NZ20070724,   P01,89,1,21, X12009,2,20070823,1236,46.9917,-149.1445,5058,1401.5,2,2.4736,2,2.47366,2,34.476,2,34.4758,2,14.7,2,14.34,2,157.54,2,0.47,44.93,2,0.16,0.02,2,0.01,3.171,2,0.018,0,2,0,2,0.009,2,-999,9,2400.2,2,2398.3,2,7.3327,25,2,-999,9,-999,-999,9,-999,-999,9,-999,-999,9,-999,2.3798,27.521
49NZ20070724,   P01,89,1,20, X12026,2,20070823,1236,46.9917,-149.1445,5058,1601.4,2,2.2633,2,2.2631,2,34.5198,2,34.5199,2,22.82,2,22.54,2,163.28,2,0.48,44.69,2,0.16,0.01,2,0.01,3.149,2,0.018,0,2,0,2,0,2,-999,9,2403.8,2,2404.4,2,7.3514,25,6,-999,9,-999,-999,9,-999,-999,9,-999,-999,9,-999,2.1561,27.5745
49NZ20070724,   P01,89,1,19, X12025,2,20070823,1236,46.9917,-149.1445,5058,1801.9,2,2.0919,2,2.09179,2,34.5546,2,34.5547,2,36.73,2,36.52,2,167.1,2,0.49,43.82,2,0.16,0.02,2,0.01,3.076,2,0.018,0.005,2,0.003,2,0,2,-999,9,2399.5,2,2410.2,2,7.3797,25,2,-999,9,-999,-999,9,-999,-999,9,-999,-999,9,-999,1.9707,27.6171
49NZ20070724,   P01,89,1,18, X12024,2,20070823,1236,46.9917,-149.1445,5058,2001.1,2,1.9598,2,1.95975,2,34.5819,2,34.5819,2,50.2,2,50.2,2,169.14,2,0.49,43.05,2,0.15,0.01,2,0.01,3.023,2,0.018,0.002,2,0.004,2,0.006,2,-999,9,2392.5,2,2414.6,2,7.4049,25,2,-999,9,-999,-999,9,-999,-999,9,-999,-999,9,-999,1.8241,27.6504
49NZ20070724,   P01,89,1,17, X12023,2,20070823,1236,46.9917,-149.1445,5058,2199.7,2,1.8559,2,1.8559,2,34.6029,2,34.6029,2,62.41,2,62.18,2,170.38,2,0.49,42.12,2,0.15,0.02,2,0.01,2.972,2,0.017,0.002,2,0,2,0,2,-999,9,2387,2,2417.3,2,7.4301,25,2,-999,9,-999,-999,9,-999,-999,9,-999,-999,9,-999,1.7049,27.6763
49NZ20070724,   P01,89,1,16, X12022,2,20070823,1236,46.9917,-149.1445,5058,2400.7,2,1.7677,2,1.76775,2,34.6198,2,34.6197,6,74.36,2,73.97,2,170.38,2,0.49,41.5,2,0.15,0.01,2,0.01,2.917,2,0.017,0,2,0,2,0,2,-999,9,2380.3,6,2419.8,2,7.4517,25,2,-999,9,-999,-999,9,-999,-999,9,-999,-999,9,-999,1.6007,27.6977
49NZ20070724,   P01,89,1,15, X12021,2,20070823,1236,46.9917,-149.1445,5058,2599.6,2,1.6899,2,1.68992,2,34.6341,2,-999,5,86.41,2,86.19,2,170.02,2,0.49,40.71,2,0.15,0.02,2,0.01,2.859,2,0.017,-999,9,-999,9,-999,9,-999,9,2374.4,2,2420.9,6,7.4764,25,2,-999,9,-999,-999,9,-999,-999,9,-999,-999,9,-999,1.5065,27.7161
49NZ20070724,   P01,89,1,14, X12020,2,20070823,1236,46.9917,-149.1445,5058,2799.9,2,1.627,2,1.6269,2,34.646,2,34.6458,2,97.39,2,97.39,2,168.7,2,0.49,40.01,2,0.14,0.01,2,0.01,2.807,2,0.017,-999,9,-999,9,-999,9,-999,9,2367.9,2,2422,2,7.497,25,6,-999,9,-999,-999,9,-999,-999,9,-999,-999,9,-999,1.4265,27.7314
49NZ20070724,   P01,89,1,13, X12019,2,20070823,1236,46.9917,-149.1445,5058,3000.4,2,1.5755,2,1.57554,2,34.6561,2,34.656,2,107.83,2,107.97,2,167.5,2,0.49,39.25,2,0.14,0.02,2,0.01,2.765,2,0.017,0.002,2,0,2,0,2,-999,9,2360.7,2,2423.4,2,7.5167,25,2,-999,9,-999,-999,9,-999,-999,9,-999,-999,9,-999,1.3571,27.7445
49NZ20070724,   P01,89,1,12, X12040,2,20070823,1236,46.9917,-149.1445,5058,3250.3,2,1.5261,2,1.52622,2,34.666,2,34.6661,2,119.19,2,119.31,2,165.31,2,0.48,38.42,2,0.14,0.01,2,0.01,2.682,2,0.017,-999,9,-999,9,-999,9,-999,9,2354.6,2,2423.8,2,7.539,25,2,-999,9,-999,-999,9,-999,-999,9,-999,-999,9,-999,1.2845,27.7575
49NZ20070724,   P01,89,1,11, X12047,2,20070823,1236,46.9917,-149.1445,5058,3500.2,2,1.4977,2,1.49757,2,34.6728,2,34.6728,2,128.51,2,128.5,2,163.13,2,0.48,37.79,2,0.14,0.01,2,0.01,2.651,2,0.017,-999,9,-999,9,-999,9,-999,9,2347.6,2,2423.6,2,7.5556,25,2,-999,9,-999,-999,9,-999,-999,9,-999,-999,9,-999,1.2317,27.7667
49NZ20070724,   P01,89,1,10, X12010,2,20070823,1236,46.9917,-149.1445,5058,3749.7,2,1.4822,2,1.48216,2,34.6783,2,34.678,6,135.12,2,135.33,2,162.6,2,0.48,37.41,2,0.14,0.01,2,0.01,2.619,2,0.017,0.008,2,0.004,2,0.011,2,-999,9,2343.2,2,2426.1,2,7.5701,25,2,-999,9,-999,-999,9,-999,-999,9,-999,-999,9,-999,1.1906,27.7739
49NZ20070724,   P01,89,1,9, X12015,2,20070823,1236,46.9917,-149.1445,5058,4000.8,2,1.4876,2,1.48761,2,34.6815,2,34.6812,2,138.16,2,138.58,2,163.86,2,0.48,37.21,2,0.14,0.01,2,0.01,2.6,2,0.016,-999,9,-999,9,-999,9,-999,9,2343,2,2427.4,2,7.5781,25,2,-999,9,-999,-999,9,-999,-999,9,-999,-999,9,-999,1.169,27.778
49NZ20070724,   P01,89,1,8, X12046,2,20070823,1236,46.9917,-149.1445,5058,4251.2,2,1.5028,2,1.50292,2,34.6839,2,34.6837,2,139.98,2,140.31,2,165.97,2,0.48,37.21,2,0.14,0.01,2,0.01,2.593,2,0.016,-999,9,-999,9,-999,9,-999,9,2342.3,6,2430,2,7.5837,25,2,-999,9,-999,-999,9,-999,-999,9,-999,-999,9,-999,1.1561,27.7808
49NZ20070724,   P01,89,1,7, X12044,2,20070823,1236,46.9917,-149.1445,5058,4500,2,1.5212,2,1.52131,2,34.6851,2,34.6849,2,141.55,2,142.05,2,165.82,2,0.48,37.06,2,0.14,0.01,2,0.01,2.588,2,0.016,0,2,0,2,0.008,2,-999,9,2341.2,2,2430.2,6,7.5871,25,2,-999,9,-999,-999,9,-999,-999,9,-999,-999,9,-999,1.1456,27.7825
49NZ20070724,   P01,89,1,6, X12048,2,20070823,1236,46.9917,-149.1445,5058,4750,2,1.5438,2,1.54389,2,34.6859,2,34.6856,2,143.1,2,143.41,2,165.2,2,0.48,37.05,2,0.14,0.01,2,0.01,2.583,2,0.016,-999,9,-999,9,-999,9,-999,9,2341,2,2429.6,2,7.5896,25,2,-999,9,-999,-999,9,-999,-999,9,-999,-999,9,-999,1.1382,27.7836
49NZ20070724,   P01,89,1,5, X12017,2,20070823,1236,46.9917,-149.1445,5058,4999.9,2,1.5669,2,1.56695,2,34.6869,2,34.6862,2,144.67,2,144.77,2,165.44,2,0.48,36.77,2,0.14,0.01,2,0.01,2.568,2,0.016,-999,9,-999,9,-999,9,-999,9,2338.3,2,2430,2,7.5916,25,2,-999,9,-999,-999,9,-999,-999,9,-999,-999,9,-999,1.1304,27.785
49NZ20070724,   P01,89,1,4, X12928,9,20070823,1236,46.9917,-149.1445,5058,10.4,2,13.5718,2,13.57186,2,32.4533,2,-999,9,280.93,2,-999,9,-999,9,-999,-999,9,-999,-999,9,-999,-999,9,-999,-999,9,-999,9,-999,9,-999,9,-999,9,-999,9,-999,-999,9,-999,9,-999,-999,9,-999,-999,9,-999,-999,9,-999,13.5704,24.3072
49NZ20070724,   P01,89,1,3, X12931,9,20070823,1236,46.9917,-149.1445,5058,200.7,2,5.8039,2,5.80379,2,33.7904,2,-999,9,203.83,2,-999,9,-999,9,-999,-999,9,-999,-999,9,-999,-999,9,-999,-999,9,-999,9,-999,9,-999,9,-999,9,-999,9,-999,-999,9,-999,9,-999,-999,9,-999,-999,9,-999,-999,9,-999,5.7873,26.6232
49NZ20070724,   P01,89,1,2, X12930,9,20070823,1236,46.9917,-149.1445,5058,200,2,5.8006,2,5.80066,2,33.7914,2,-999,9,203.03,2,-999,9,-999,9,-999,-999,9,-999,-999,9,-999,-999,9,-999,-999,9,-999,9,-999,9,-999,9,-999,9,-999,9,-999,-999,9,-999,9,-999,-999,9,-999,-999,9,-999,-999,9,-999,5.7841,26.6244
49NZ20070724,   P01,89,1,1, X12929,2,20070823,1236,46.9917,-149.1445,5058,5140.3,2,1.5835,2,1.58343,2,34.6871,2,34.687,6,145,2,145.02,2,166.46,2,0.49,36.84,2,0.14,0.02,2,0.01,2.592,2,0.016,0,2,0,2,0,2,-999,9,2338.5,2,2430.4,2,7.592,25,2,-999,9,-999,-999,9,-999,-999,9,-999,-999,9,-999,1.1292,27.7852