BOTTLE,20081214JAMSTECIORGC,,,,,,,,,,,,,,,,,,,,,,,,,,,,,,,,,,,,,,,,,,,,,,,,,,,,,,,,,,,,,,,,,
EXPOCODE,SECT,STNNBR,CASTNO,SAMPNO,BTLNBR,BTLNBR_FLAG_W,DATE,TIME,LATITUDE,LONGITUDE,DEPTH,CTDPRS,CTDPRS_FLAG_W,CTDTMP,CTDTMP_FLAG_W,SBE35,SBE35_FLAG_W,CTDSAL,CTDSAL_FLAG_W,SALNTY,SALNTY_FLAG_W,CTDOXY,CTDOXY_FLAG_W,OXYGEN,OXYGEN_FLAG_W,SILCAT,SILCAT_FLAG_W,SILUNC,NITRAT,NITRAT_FLAG_W,NRAUNC,NITRIT,NITRIT_FLAG_W,NRIUNC,PHSPHT,PHSPHT_FLAG_W,PHPUNC,CFC-11,CFC-11_FLAG_W,CFC-12,CFC-12_FLAG_W,CFC113,CFC113_FLAG_W,CCL4,CCL4_FLAG_W,TCARBN,TCARBN_FLAG_W,ALKALI,ALKALI_FLAG_W,PH_TOT,PH_TMP,PH_FLAG_W,DELC13,DELC13_FLAG_W,C13ERR,DELC14,DELC14_FLAG_W,C14ERR,CS-137,CS-137_FLAG_W,CS137ER,PLUTO,PLUTO_FLAG_W,PLUTOER,THETA,SIG0
,,,,,,,,UTC,DEG,DEG,M,DBAR,,ITS-90,,ITS-90,,PSS-78,,PSS-78,,UMOL/KG,,UMOL/KG,,UMOL/KG,,UMOL/KG,UMOL/KG,,UMOL/KG,UMOL/KG,,UMOL/KG,UMOL/KG,,UMOL/KG,PMOL/KG,,PMOL/KG,,PMOL/KG,,PMOL/KG,,UMOL/KG,,UMOL/KG,,,ITS-90,,/MILLE,,/MILLE,/MILLE,,/MILLE,BQ/CUM,,BQ/CUM,MBQ/CUM,,MBQ/CUM,DEG C,KG/CUM
49NZ20070724,   P01,11,1,0,-999,9,20070728,329,41.7103,146.4155,6539,-999,9,-999,9,-999,9,-999,9,32.6656,2,-999,9,-999,9,-999,9,-999,-999,9,-999,-999,9,-999,-999,9,-999,-999,9,-999,9,-999,9,-999,9,-999,9,-999,9,-999,-999,9,-999,9,-999,-999,9,-999,-999,1,-999,-999,1,-999,-999,-999
49NZ20070724,   P01,11,1,36, X12042,2,20070728,329,41.7103,146.4155,6539,9.9,2,11.5429,2,11.66686,2,32.8412,2,32.8508,2,307.85,2,306.97,2,13.99,2,0.15,9.27,2,0.06,0.15,2,0.01,1.093,2,0.013,3.662,2,2.01,3,0.271,2,-999,9,-999,9,-999,9,-999,-999,9,-999,9,-999,-999,9,-999,-999,9,-999,-999,9,-999,11.5417,24.9975
49NZ20070724,   P01,11,1,35, X12041,2,20070728,329,41.7103,146.4155,6539,49.7,2,3.3156,2,3.29851,2,33.0906,2,33.0938,2,313.28,2,315.9,2,36.2,2,0.2,20.26,2,0.09,0.36,2,0,1.822,2,0.015,5.126,2,2.689,3,0.352,2,-999,9,-999,9,-999,9,-999,-999,9,-999,9,-999,-999,9,-999,-999,9,-999,-999,9,-999,3.3126,26.3331
49NZ20070724,   P01,11,1,34, X12036,2,20070728,329,41.7103,146.4155,6539,99.9,2,1.9351,2,1.934,2,33.252,2,33.2622,2,263.64,2,266.95,2,54.16,2,0.24,27.22,2,0.11,0.13,2,0.01,2.167,2,0.015,4.795,2,2.507,3,0.333,2,-999,9,-999,9,-999,9,-999,-999,9,-999,9,-999,-999,9,-999,-999,1,-999,-999,9,-999,1.9301,26.5765
49NZ20070724,   P01,11,1,33, X12033,2,20070728,329,41.7103,146.4155,6539,149.9,2,1.9034,2,1.90202,2,33.4056,2,33.4229,2,215.2,2,213.71,2,67.4,2,0.27,32.13,2,0.12,0.02,2,0.01,2.454,2,0.016,4.149,6,2.22,3,0.272,6,-999,9,-999,9,-999,9,-999,-999,9,-999,9,-999,-999,9,-999,-999,9,-999,-999,9,-999,1.8959,26.7022
49NZ20070724,   P01,11,1,32, X12038,2,20070728,329,41.7103,146.4155,6539,201.7,2,2.3018,2,2.30185,2,33.5436,2,33.5504,2,171.46,2,171.46,2,76.08,2,0.29,35.04,2,0.13,0.02,2,0.01,2.628,2,0.017,3.623,2,1.909,3,0.233,2,-999,9,-999,9,-999,9,-999,-999,9,-999,9,-999,-999,9,-999,-999,1,-999,-999,9,-999,2.2909,26.7822
49NZ20070724,   P01,11,1,31, X12003,2,20070728,329,41.7103,146.4155,6539,249.6,2,2.5766,2,2.57509,2,33.6653,2,33.6846,6,132.7,2,129.1,2,86.04,2,0.31,37.82,2,0.14,0.02,2,0.01,2.794,2,0.017,3.008,2,1.617,3,0.196,2,-999,9,-999,9,-999,9,-999,-999,9,-999,9,-999,-999,9,-999,-999,9,-999,-999,9,-999,2.5624,26.8574
49NZ20070724,   P01,11,1,30, X12008,2,20070728,329,41.7103,146.4155,6539,329.9,2,2.9612,2,2.96115,2,33.8442,2,33.8559,2,81.01,2,79.62,2,98.1,2,0.33,40.83,2,0.15,0.02,2,0.01,2.97,2,0.017,2.228,2,1.173,3,0.153,2,-999,9,-999,9,-999,9,-999,-999,9,-999,9,-999,-999,9,-999,-999,9,-999,-999,9,-999,2.941,26.9677
49NZ20070724,   P01,11,1,29, X12035,2,20070728,329,41.7103,146.4155,6539,428.7,2,3.0001,2,2.99958,2,34.0018,2,34.0115,2,56.29,2,55.94,2,112.21,2,0.37,41.92,2,0.15,0.01,2,0.01,3.041,2,0.018,1.534,2,0.807,3,0.105,2,-999,9,-999,9,-999,9,-999,-999,9,-999,9,-999,-999,9,-999,-999,1,-999,-999,9,-999,2.9733,27.0906
49NZ20070724,   P01,11,1,28, X12034,2,20070728,329,41.7103,146.4155,6539,529.4,2,3.0464,2,3.04609,2,34.1147,2,34.1217,6,41,2,40.83,2,121.56,2,0.39,42.72,2,0.15,0.01,2,0.01,3.086,2,0.018,1.057,2,0.56,3,0.063,2,-999,9,-999,9,-999,9,-999,-999,9,-999,9,-999,-999,9,-999,-999,9,-999,-999,9,-999,3.0126,27.1772
49NZ20070724,   P01,11,1,27, X12049,2,20070728,329,41.7103,146.4155,6539,629.5,2,2.9073,2,2.90736,2,34.2079,2,34.2116,2,36.96,2,37,2,131.27,2,0.41,42.85,2,0.15,0.01,2,0.01,3.091,2,0.018,0.763,2,0.401,3,0.06,2,-999,9,-999,9,-999,9,-999,-999,9,-999,9,-999,-999,9,-999,-999,1,-999,-999,9,-999,2.8672,27.2647
49NZ20070724,   P01,11,1,26, X12032,2,20070728,329,41.7103,146.4155,6539,732.5,2,2.9267,2,2.92672,2,34.2885,2,34.2835,2,36.17,2,36.42,2,135.99,2,0.42,42.78,2,0.15,0.01,2,0.01,3.085,2,0.018,0.532,6,0.28,3,0.042,6,-999,9,-999,9,-999,9,-999,-999,9,-999,9,-999,-999,9,-999,-999,9,-999,-999,9,-999,2.8792,27.3279
49NZ20070724,   P01,11,1,25, X12043,2,20070728,329,41.7103,146.4155,6539,829.6,2,2.6389,2,2.6386,2,34.317,2,34.318,2,37.44,2,37.65,2,143.84,2,0.44,42.82,2,0.15,0.01,2,0.01,3.085,2,0.018,0.497,2,0.252,3,0.038,2,-999,9,-999,9,-999,9,-999,-999,9,-999,9,-999,-999,9,-999,-999,1,-999,-999,9,-999,2.5863,27.3764
49NZ20070724,   P01,11,1,24, X12030,2,20070728,329,41.7103,146.4155,6539,932.2,2,2.5882,2,2.58984,2,34.3797,2,34.3789,2,37.74,2,37.87,2,147.19,2,0.44,42.69,2,0.15,0.01,2,0.01,3.072,2,0.018,0.312,2,0.16,3,0.022,2,-999,9,-999,9,-999,9,-999,-999,9,-999,9,-999,-999,9,-999,-999,9,-999,-999,9,-999,2.5286,27.4315
49NZ20070724,   P01,11,1,23, X12027,2,20070728,329,41.7103,146.4155,6539,1070.6,2,2.4376,2,2.4376,2,34.4253,2,34.4262,6,41.32,2,41.8,2,152.23,2,0.45,42.54,2,0.15,0.01,2,0.01,3.061,2,0.018,0.234,2,0.119,3,0.018,2,-999,9,-999,9,-999,9,-999,-999,9,-999,9,-999,-999,9,-999,-999,1,-999,-999,9,-999,2.3692,27.4814
49NZ20070724,   P01,11,1,22, X12028,2,20070728,329,41.7103,146.4155,6539,1269.9,2,2.282,2,2.28195,2,34.4645,2,34.4643,2,47.43,2,47.96,2,156.53,2,0.46,42.32,2,0.15,0.01,2,0.01,3.037,2,0.018,0.195,2,0.101,3,0.01,2,-999,9,-999,9,-999,9,-999,-999,9,-999,9,-999,-999,9,-999,-999,9,-999,-999,9,-999,2.2003,27.5266
49NZ20070724,   P01,11,1,21, X12009,2,20070728,329,41.7103,146.4155,6539,1472.4,2,2.2343,2,2.23428,2,34.5108,2,34.5104,2,50,2,50.34,2,158.11,2,0.47,42.28,2,0.15,0.01,2,0.01,3.024,2,0.018,0.085,2,0.044,3,0,2,-999,9,-999,9,-999,9,-999,-999,9,-999,9,-999,-999,9,-999,-999,9,-999,-999,9,-999,2.1376,27.5687
49NZ20070724,   P01,11,1,20, X12026,2,20070728,329,41.7103,146.4155,6539,1670.4,2,2.1341,2,2.13388,2,34.5543,2,34.5546,2,58.51,2,58.5,2,158.83,2,0.47,41.92,2,0.15,0.01,2,0.01,2.984,2,0.017,0.018,2,0.01,3,0,2,-999,9,-999,9,-999,9,-999,-999,9,-999,9,-999,-999,9,-999,-999,9,-999,-999,9,-999,2.023,27.6127
49NZ20070724,   P01,11,1,19, X12025,2,20070728,329,41.7103,146.4155,6539,1869.6,2,2.0011,2,2.00143,2,34.5837,2,34.5834,2,70.41,2,70.5,2,159.38,2,0.47,41.25,2,0.15,0.01,2,0.01,2.933,2,0.017,0.01,2,0.004,3,0,2,-999,9,-999,9,-999,9,-999,-999,9,-999,9,-999,-999,9,-999,-999,1,-999,-999,9,-999,1.8756,27.6479
49NZ20070724,   P01,11,1,18, X12024,2,20070728,329,41.7103,146.4155,6539,2068.7,2,1.8765,2,1.8764,2,34.6071,2,34.6069,2,83.65,2,82.72,2,158.82,2,0.47,40.47,2,0.15,0.01,2,0.01,2.874,2,0.017,0,2,0,3,0,2,-999,9,-999,9,-999,9,-999,-999,9,-999,9,-999,-999,9,-999,-999,1,-999,-999,9,-999,1.7363,27.6773
49NZ20070724,   P01,11,1,17, X12023,2,20070728,329,41.7103,146.4155,6539,2270.3,2,1.7808,2,1.78116,2,34.6244,2,34.6245,2,95.47,2,94.85,2,157.48,2,0.47,39.71,2,0.14,0.01,2,0.01,2.811,2,0.017,0.001,2,0,3,0,2,-999,9,-999,9,-999,9,-999,-999,9,-999,9,-999,-999,9,-999,-999,1,-999,-999,9,-999,1.6249,27.6995
49NZ20070724,   P01,11,1,16, X12022,2,20070728,329,41.7103,146.4155,6539,2469.2,2,1.6804,2,1.68037,2,34.6406,2,34.6409,2,106.81,2,106.4,2,155.94,2,0.46,39,2,0.14,0.01,2,0.01,2.753,2,0.017,0,2,0,3,0,2,-999,9,-999,9,-999,9,-999,-999,9,-999,9,-999,-999,9,-999,-999,9,-999,-999,9,-999,1.5089,27.7211
49NZ20070724,   P01,11,1,15, X12021,2,20070728,329,41.7103,146.4155,6539,2669.8,2,1.6195,2,1.61937,2,34.6507,2,34.6509,6,115.56,2,114.99,2,155.51,2,0.46,38.45,2,0.14,0.01,2,0.01,2.709,2,0.017,-999,9,-999,9,-999,9,-999,9,-999,9,-999,9,-999,-999,9,-999,9,-999,-999,9,-999,-999,9,-999,-999,9,-999,1.4311,27.7348
49NZ20070724,   P01,11,1,14, X12020,2,20070728,329,41.7103,146.4155,6539,2869.9,2,1.5777,2,1.57764,2,34.6587,2,34.6585,2,123.18,2,122.74,2,154.1,2,0.46,37.98,2,0.14,0.01,2,0.01,2.674,2,0.017,-999,9,-999,9,-999,9,-999,9,-999,9,-999,9,-999,-999,9,-999,9,-999,-999,9,-999,-999,1,-999,-999,9,-999,1.3716,27.7455
49NZ20070724,   P01,11,1,13, X12019,2,20070728,329,41.7103,146.4155,6539,3079.7,2,1.5372,2,1.53698,2,34.6652,2,34.6652,2,128.67,2,128.43,2,154.38,2,0.46,37.5,2,0.14,0.02,2,0.01,2.651,2,0.017,0.001,2,0.002,3,0,2,-999,9,-999,9,-999,9,-999,-999,9,-999,9,-999,-999,9,-999,-999,1,-999,-999,9,-999,1.312,27.7549
49NZ20070724,   P01,11,1,12, X12040,2,20070728,329,41.7103,146.4155,6539,3331.5,2,1.5232,2,1.52307,2,34.6697,2,34.6694,2,133.71,2,133.4,2,152.59,2,0.45,37.1,2,0.14,0.01,2,0.01,2.608,2,0.016,-999,9,-999,9,-999,9,-999,9,-999,9,-999,9,-999,-999,9,-999,9,-999,-999,9,-999,-999,1,-999,-999,9,-999,1.2736,27.7613
49NZ20070724,   P01,11,1,11, X12047,2,20070728,329,41.7103,146.4155,6539,3581.3,2,1.503,2,1.50287,2,34.675,2,34.675,2,140.1,2,139.94,2,149.69,2,0.45,36.83,2,0.14,0.01,2,0.01,2.578,2,0.016,-999,9,-999,9,-999,9,-999,9,-999,9,-999,9,-999,-999,9,-999,9,-999,-999,9,-999,-999,9,-999,-999,9,-999,1.2285,27.7687
49NZ20070724,   P01,11,1,10, X12010,2,20070728,329,41.7103,146.4155,6539,3829.5,2,1.4895,2,1.48939,2,34.6789,2,34.6789,2,144.06,2,144.12,2,149.69,2,0.45,36.48,2,0.13,0,2,0.01,2.559,2,0.016,0.003,2,0.001,3,0,2,-999,9,-999,9,-999,9,-999,-999,9,-999,9,-999,-999,9,-999,-999,1,-999,-999,9,-999,1.1893,27.7745
49NZ20070724,   P01,11,1,9, X12015,2,20070728,329,41.7103,146.4155,6539,4080,2,1.4745,2,1.4744,2,34.683,2,34.6832,2,149.14,2,149.34,2,148.19,2,0.45,36.25,2,0.13,0.01,2,0.01,2.532,2,0.016,-999,9,-999,9,-999,9,-999,9,-999,9,-999,9,-999,-999,9,-999,9,-999,-999,9,-999,-999,1,-999,-999,9,-999,1.1476,27.7807
49NZ20070724,   P01,11,1,8, X12046,2,20070728,329,41.7103,146.4155,6539,4329.1,2,1.477,2,1.47701,2,34.6856,2,34.6857,6,152.47,2,152.6,2,147.17,2,0.44,35.97,2,0.13,0.01,2,0.01,2.514,2,0.016,-999,9,-999,9,-999,9,-999,9,-999,9,-999,9,-999,-999,9,-999,9,-999,-999,9,-999,-999,1,-999,-999,9,-999,1.1223,27.7845
49NZ20070724,   P01,11,1,7, X12044,2,20070728,329,41.7103,146.4155,6539,4579.8,2,1.4818,2,1.48184,2,34.6881,2,34.6882,2,156.13,2,156.54,2,144.96,2,0.44,35.77,2,0.13,0,2,0.01,2.494,2,0.016,0,2,0,3,0,2,-999,9,-999,9,-999,9,-999,-999,9,-999,9,-999,-999,9,-999,-999,9,-999,-999,9,-999,1.0981,27.7882
49NZ20070724,   P01,11,1,6, X12048,2,20070728,329,41.7103,146.4155,6539,4828.6,2,1.4969,2,1.49693,2,34.6896,2,34.69,2,157.6,2,158.06,2,144.84,2,0.44,35.61,2,0.13,0,2,0.01,2.486,2,0.016,-999,9,-999,9,-999,9,-999,9,-999,9,-999,9,-999,-999,9,-999,9,-999,-999,9,-999,-999,1,-999,-999,9,-999,1.0834,27.7904
49NZ20070724,   P01,11,1,5, X12017,2,20070728,329,41.7103,146.4155,6539,5081.8,2,1.5204,2,1.52046,2,34.6906,2,34.69,2,158.63,2,159.31,2,144.63,2,0.44,35.48,2,0.13,0,2,0.01,2.481,2,0.016,-999,9,-999,9,-999,9,-999,9,-999,9,-999,9,-999,-999,9,-999,9,-999,-999,9,-999,-999,1,-999,-999,9,-999,1.0755,27.7917
49NZ20070724,   P01,11,1,4, X12928,2,20070728,329,41.7103,146.4155,6539,5330.4,2,1.5447,2,1.54479,2,34.6913,2,34.6909,2,159.91,2,160.53,2,143.78,2,0.44,35.46,2,0.13,0,2,0.01,2.473,2,0.016,0,2,0,3,0,2,-999,9,-999,9,-999,9,-999,-999,9,-999,9,-999,-999,9,-999,-999,1,-999,-999,9,-999,1.068,27.7928
49NZ20070724,   P01,11,1,3, X12931,2,20070728,329,41.7103,146.4155,6539,5579.9,2,1.5707,2,1.57082,2,34.6921,2,34.6918,2,160.86,2,161.26,2,143.45,2,0.43,35.46,2,0.13,0,2,0.01,2.471,2,0.016,-999,9,-999,9,-999,9,-999,9,-999,9,-999,9,-999,-999,9,-999,9,-999,-999,9,-999,-999,9,-999,-999,9,-999,1.0613,27.7939
49NZ20070724,   P01,11,1,2, X12930,2,20070728,329,41.7103,146.4155,6539,5830.8,2,1.6029,2,1.60299,2,34.6923,2,34.6922,2,160.9,2,161.31,2,143.88,2,0.44,35.33,2,0.13,0,2,0.01,2.477,2,0.016,-999,9,-999,9,-999,9,-999,9,-999,9,-999,9,-999,-999,9,-999,9,-999,-999,9,-999,-999,1,-999,-999,9,-999,1.0595,27.7941
49NZ20070724,   P01,11,1,1, X12929,2,20070728,329,41.7103,146.4155,6539,6501.3,2,1.6934,2,1.69333,2,34.6926,2,34.6927,6,163.24,2,163.2,2,141.16,2,0.43,35.27,2,0.13,0.01,2,0.01,2.461,2,0.016,0.002,2,0,3,0,2,-999,9,-999,9,-999,9,-999,-999,9,-999,9,-999,-999,9,-999,-999,1,-999,-999,9,-999,1.0552,27.7947