BOTTLE,20081214JAMSTECIORGC,,,,,,,,,,,,,,,,,,,,,,,,,,,,,,,,,,,,,,,,,,,,,,,,,,,,,,,,,,,,,,,,,
EXPOCODE,SECT,STNNBR,CASTNO,SAMPNO,BTLNBR,BTLNBR_FLAG_W,DATE,TIME,LATITUDE,LONGITUDE,DEPTH,CTDPRS,CTDPRS_FLAG_W,CTDTMP,CTDTMP_FLAG_W,SBE35,SBE35_FLAG_W,CTDSAL,CTDSAL_FLAG_W,SALNTY,SALNTY_FLAG_W,CTDOXY,CTDOXY_FLAG_W,OXYGEN,OXYGEN_FLAG_W,SILCAT,SILCAT_FLAG_W,SILUNC,NITRAT,NITRAT_FLAG_W,NRAUNC,NITRIT,NITRIT_FLAG_W,NRIUNC,PHSPHT,PHSPHT_FLAG_W,PHPUNC,CFC-11,CFC-11_FLAG_W,CFC-12,CFC-12_FLAG_W,CFC113,CFC113_FLAG_W,CCL4,CCL4_FLAG_W,TCARBN,TCARBN_FLAG_W,ALKALI,ALKALI_FLAG_W,PH_TOT,PH_TMP,PH_FLAG_W,DELC13,DELC13_FLAG_W,C13ERR,DELC14,DELC14_FLAG_W,C14ERR,CS-137,CS-137_FLAG_W,CS137ER,PLUTO,PLUTO_FLAG_W,PLUTOER,THETA,SIG0
,,,,,,,,UTC,DEG,DEG,M,DBAR,,ITS-90,,ITS-90,,PSS-78,,PSS-78,,UMOL/KG,,UMOL/KG,,UMOL/KG,,UMOL/KG,UMOL/KG,,UMOL/KG,UMOL/KG,,UMOL/KG,UMOL/KG,,UMOL/KG,PMOL/KG,,PMOL/KG,,PMOL/KG,,PMOL/KG,,UMOL/KG,,UMOL/KG,,,ITS-90,,/MILLE,,/MILLE,/MILLE,,/MILLE,BQ/CUM,,BQ/CUM,MBQ/CUM,,MBQ/CUM,DEG C,KG/CUM
49NZ20070724,   P01,22,1,0,-999,9,20070730,1857,40.3213,148.8717,5465,-999,9,-999,9,-999,9,-999,9,34.4833,2,-999,9,-999,9,-999,9,-999,-999,9,-999,-999,9,-999,-999,9,-999,-999,9,-999,9,-999,9,-999,9,-999,9,-999,9,-999,-999,9,-999,9,-999,-999,9,-999,-999,1,-999,-999,1,-999,-999,-999
49NZ20070724,   P01,22,1,36, X12042,2,20070730,1857,40.3213,148.8717,5465,10,2,20.2012,2,20.19996,2,34.5006,2,34.5051,2,232.63,2,228.89,2,1.87,2,0.12,0.06,2,0.03,0.01,2,0.01,0.06,2,0.03,2.073,2,1.246,2,0.285,2,-999,9,-999,9,-999,9,-999,-999,9,-999,9,-999,-999,9,-999,-999,9,-999,-999,9,-999,20.1993,24.3283
49NZ20070724,   P01,22,1,35, X12041,2,20070730,1857,40.3213,148.8717,5465,49.6,2,16.7283,2,16.72688,2,34.6517,2,34.6497,2,190.29,2,191.23,2,8.7,2,0.14,7.45,2,0.05,0.09,2,0.01,0.564,2,0.013,2.214,2,1.263,2,0.099,2,-999,9,-999,9,-999,9,-999,-999,9,-999,9,-999,-999,9,-999,-999,9,-999,-999,9,-999,16.7203,25.3129
49NZ20070724,   P01,22,1,34, X12036,2,20070730,1857,40.3213,148.8717,5465,99.5,2,14.0674,2,14.06953,2,34.5145,2,34.4971,2,190.17,2,191.36,2,14.44,2,0.15,11.32,2,0.06,0.03,2,0.01,0.835,2,0.013,2.378,2,1.339,2,0.097,2,-999,9,-999,9,-999,9,-999,-999,9,-999,9,-999,-999,9,-999,-999,1,-999,-999,9,-999,14.0531,25.8007
49NZ20070724,   P01,22,1,33, X12033,2,20070730,1857,40.3213,148.8717,5465,149.6,2,11.6743,2,11.67487,2,34.3251,2,34.31,2,203.54,2,203.78,2,19.14,2,0.16,13.47,2,0.07,0.03,2,0.01,1.005,2,0.013,2.599,6,1.437,6,0.115,6,-999,9,-999,9,-999,9,-999,-999,9,-999,9,-999,-999,9,-999,-999,9,-999,-999,9,-999,11.6553,26.1298
49NZ20070724,   P01,22,1,32, X12038,2,20070730,1857,40.3213,148.8717,5465,200.6,2,8.8474,2,8.84548,2,34.0118,2,33.9914,2,215.14,2,215.14,2,25.89,2,0.18,16.68,2,0.08,0.02,2,0.01,1.27,2,0.014,3.022,2,1.638,2,0.147,2,-999,9,-999,9,-999,9,-999,-999,9,-999,9,-999,-999,9,-999,-999,1,-999,-999,9,-999,8.8261,26.3717
49NZ20070724,   P01,22,1,31, X12003,2,20070730,1857,40.3213,148.8717,5465,249,2,6.8921,2,6.89567,2,33.8764,2,33.8698,6,211.95,2,211.21,2,37.62,2,0.2,21.65,2,0.09,0.02,2,0.01,1.651,2,0.014,3.173,2,1.702,2,0.159,2,-999,9,-999,9,-999,9,-999,-999,9,-999,9,-999,-999,9,-999,-999,9,-999,-999,9,-999,6.8693,26.5514
49NZ20070724,   P01,22,1,30, X12008,2,20070730,1857,40.3213,148.8717,5465,302.1,2,5.7358,2,5.73483,2,33.8558,2,33.8511,2,187.72,2,188.52,2,49.68,2,0.23,26.21,2,0.11,0.02,2,0.01,1.983,2,0.015,3.017,2,1.583,2,0.163,2,-999,9,-999,9,-999,9,-999,-999,9,-999,9,-999,-999,9,-999,-999,9,-999,-999,9,-999,5.7108,26.6843
49NZ20070724,   P01,22,1,29, X12035,2,20070730,1857,40.3213,148.8717,5465,398.8,2,4.9098,2,4.91025,2,33.9166,2,33.9087,2,144.18,2,141.83,2,68.55,2,0.27,32.08,2,0.12,0.01,2,0.01,2.388,2,0.016,2.457,2,1.253,2,0.121,2,-999,9,-999,9,-999,9,-999,-999,9,-999,9,-999,-999,9,-999,-999,1,-999,-999,9,-999,4.879,26.83
49NZ20070724,   P01,22,1,28, X12034,2,20070730,1857,40.3213,148.8717,5465,498.8,2,4.2118,2,4.21363,2,34.0063,2,34.0151,6,93.66,2,92,2,87.18,2,0.31,36.81,2,0.14,0.01,2,0.01,2.707,2,0.017,1.73,2,0.868,2,0.088,2,-999,9,-999,9,-999,9,-999,-999,9,-999,9,-999,-999,9,-999,-999,9,-999,-999,9,-999,4.1755,26.9775
49NZ20070724,   P01,22,1,27, X12049,2,20070730,1857,40.3213,148.8717,5465,599.7,2,3.0538,2,3.05452,2,33.9941,2,34.0003,2,61.14,2,59.88,2,108.94,2,0.36,41.19,2,0.15,0,2,0.01,3.014,2,0.017,-999,5,-999,5,-999,5,-999,9,-999,9,-999,9,-999,-999,9,-999,9,-999,-999,9,-999,-999,1,-999,-999,9,-999,3.0152,27.0807
49NZ20070724,   P01,22,1,26, X12032,2,20070730,1857,40.3213,148.8717,5465,699.5,2,3.5431,2,3.54424,2,34.1992,2,34.1997,2,47,2,47.42,2,115.17,2,0.37,41.06,2,0.15,0.01,2,0.01,3.003,2,0.017,0.776,6,0.38,6,0.045,6,-999,9,-999,9,-999,9,-999,-999,9,-999,9,-999,-999,9,-999,-999,9,-999,-999,9,-999,3.4946,27.1995
49NZ20070724,   P01,22,1,25, X12043,2,20070730,1857,40.3213,148.8717,5465,799.4,2,3.1909,2,3.19302,2,34.2518,2,34.2533,2,38.75,2,38.8,2,127.14,2,0.4,42.26,2,0.15,0,2,0.01,3.061,2,0.018,-999,5,-999,5,-999,5,-999,9,-999,9,-999,9,-999,-999,9,-999,9,-999,-999,9,-999,-999,1,-999,-999,9,-999,3.137,27.2753
49NZ20070724,   P01,22,1,24, X12030,2,20070730,1857,40.3213,148.8717,5465,898.3,2,3.0349,2,3.03508,2,34.3227,2,34.3238,2,37.2,2,37.42,2,133.7,2,0.41,42.16,2,0.15,0.02,2,0.01,3.065,2,0.018,0.104,4,-999,5,0.02,4,-999,9,-999,9,-999,9,-999,-999,9,-999,9,-999,-999,9,-999,-999,9,-999,-999,9,-999,2.9747,27.3467
49NZ20070724,   P01,22,1,23, X12027,2,20070730,1857,40.3213,148.8717,5465,998.5,2,2.9309,2,2.93126,2,34.3756,2,34.3768,6,38.01,2,38.56,2,138.17,2,0.42,42.43,2,0.15,0.01,2,0.01,3.06,2,0.018,0.234,2,0.109,2,0.028,2,-999,9,-999,9,-999,9,-999,-999,9,-999,9,-999,-999,9,-999,-999,1,-999,-999,9,-999,2.8639,27.3989
49NZ20070724,   P01,22,1,22, X12028,2,20070730,1857,40.3213,148.8717,5465,1202.7,2,2.6798,2,2.67986,2,34.451,2,34.4502,2,39.33,2,39.83,2,144.86,2,0.44,42.4,2,0.15,0.01,2,0.01,3.07,2,0.018,0.083,2,0.039,2,0.007,2,-999,9,-999,9,-999,9,-999,-999,9,-999,9,-999,-999,9,-999,-999,9,-999,-999,9,-999,2.5993,27.4824
49NZ20070724,   P01,22,1,21, X12009,2,20070730,1857,40.3213,148.8717,5465,1399.6,2,2.4242,2,2.42536,2,34.4992,2,34.4984,2,44.23,2,44.5,2,152.53,2,0.45,42.68,2,0.15,0,2,0.01,3.046,2,0.018,0.043,2,0.017,2,0,2,-999,9,-999,9,-999,9,-999,-999,9,-999,9,-999,-999,9,-999,-999,9,-999,-999,9,-999,2.3311,27.5436
49NZ20070724,   P01,22,1,20, X12026,2,20070730,1857,40.3213,148.8717,5465,1599.1,2,2.227,2,2.22702,2,34.5357,2,34.5353,2,52.01,2,52.61,2,156.91,2,0.46,42.3,2,0.15,0.01,2,0.01,3.022,2,0.018,0.023,2,0.01,2,0,2,-999,9,-999,9,-999,9,-999,-999,9,-999,9,-999,-999,9,-999,-999,9,-999,-999,9,-999,2.1204,27.5901
49NZ20070724,   P01,22,1,19, X12025,2,20070730,1857,40.3213,148.8717,5465,1799,2,2.0728,2,2.07281,2,34.568,2,34.5677,2,62.68,2,62.3,2,159.13,2,0.47,41.67,2,0.15,0,2,0.01,2.969,2,0.017,0.017,2,0.007,2,0,2,-999,9,-999,9,-999,9,-999,-999,9,-999,9,-999,-999,9,-999,-999,1,-999,-999,9,-999,1.9521,27.6293
49NZ20070724,   P01,22,1,18, X12024,2,20070730,1857,40.3213,148.8717,5465,2000.6,2,1.9436,2,1.94352,2,34.5927,2,34.5926,2,73.55,2,73.08,2,160.1,2,0.47,41.1,2,0.15,0,2,0.01,2.925,2,0.017,0.001,2,0,2,0,2,-999,9,-999,9,-999,9,-999,-999,9,-999,9,-999,-999,9,-999,-999,1,-999,-999,9,-999,1.8081,27.6603
49NZ20070724,   P01,22,1,17, X12023,2,20070730,1857,40.3213,148.8717,5465,2200.8,2,1.8437,2,1.84367,2,34.6116,2,34.6116,2,84.74,2,84.16,2,159.78,2,0.47,40.41,2,0.15,0,2,0.01,2.861,2,0.017,0.002,2,0,2,0,2,-999,9,-999,9,-999,9,-999,-999,9,-999,9,-999,-999,9,-999,-999,1,-999,-999,9,-999,1.6928,27.6842
49NZ20070724,   P01,22,1,16, X12022,2,20070730,1857,40.3213,148.8717,5465,2401.8,2,1.7415,2,1.74164,2,34.63,2,34.6297,2,97,2,96.58,2,158.79,2,0.47,39.67,2,0.14,0.01,2,0.01,2.805,2,0.017,-999,9,-999,9,-999,9,-999,9,-999,9,-999,9,-999,-999,9,-999,9,-999,-999,9,-999,-999,9,-999,-999,9,-999,1.5748,27.7078
49NZ20070724,   P01,22,1,15, X12021,2,20070730,1857,40.3213,148.8717,5465,2598.5,2,1.6672,2,1.6673,2,34.6429,2,34.6427,6,107.58,2,107.07,2,157.28,2,0.47,39.03,2,0.14,0,2,0.01,2.756,2,0.017,-999,9,-999,9,-999,9,-999,9,-999,9,-999,9,-999,-999,9,-999,9,-999,-999,9,-999,-999,9,-999,-999,9,-999,1.4843,27.7247
49NZ20070724,   P01,22,1,14, X12020,2,20070730,1857,40.3213,148.8717,5465,2799.8,2,1.6128,2,1.61294,2,34.6525,2,34.6522,2,116.1,2,115.63,2,155.84,2,0.46,38.42,2,0.14,0,2,0.01,2.711,2,0.017,0,2,0,2,0,2,-999,9,-999,9,-999,9,-999,-999,9,-999,9,-999,-999,9,-999,-999,1,-999,-999,9,-999,1.4125,27.7376
49NZ20070724,   P01,22,1,13, X12019,2,20070730,1857,40.3213,148.8717,5465,3000.8,2,1.5659,2,1.56596,2,34.6608,2,34.6608,2,124.05,2,123.62,2,153.78,2,0.46,37.84,2,0.14,0.01,2,0.01,2.682,2,0.017,-999,9,-999,9,-999,9,-999,9,-999,9,-999,9,-999,-999,9,-999,9,-999,-999,9,-999,-999,1,-999,-999,9,-999,1.3477,27.7489
49NZ20070724,   P01,22,1,12, X12040,2,20070730,1857,40.3213,148.8717,5465,3248.6,2,1.5334,2,1.53347,2,34.6673,2,34.6674,2,130.58,2,130.29,2,152.82,2,0.46,37.45,2,0.14,0.01,2,0.01,2.653,2,0.017,-999,9,-999,9,-999,9,-999,9,-999,9,-999,9,-999,-999,9,-999,9,-999,-999,9,-999,-999,1,-999,-999,9,-999,1.2918,27.7581
49NZ20070724,   P01,22,1,11, X12047,2,20070730,1857,40.3213,148.8717,5465,3500.4,2,1.5011,2,1.50114,2,34.6738,2,34.6739,2,137.93,2,137.94,2,149.76,2,0.45,36.7,2,0.14,0.01,2,0.01,2.59,2,0.016,0,2,0,2,0,2,-999,9,-999,9,-999,9,-999,-999,9,-999,9,-999,-999,9,-999,-999,9,-999,-999,9,-999,1.2349,27.7672
49NZ20070724,   P01,22,1,10, X12010,2,20070730,1857,40.3213,148.8717,5465,3749,2,1.4802,2,1.48028,2,34.6787,2,34.6789,2,143.62,2,143.68,2,149.04,2,0.45,36.45,2,0.13,0,2,0.01,2.57,2,0.016,-999,9,-999,9,-999,9,-999,9,-999,9,-999,9,-999,-999,9,-999,9,-999,-999,9,-999,-999,1,-999,-999,9,-999,1.1888,27.7744
49NZ20070724,   P01,22,1,9, X12015,2,20070730,1857,40.3213,148.8717,5465,3999.5,2,1.4697,2,1.46982,2,34.6824,2,34.6827,2,148.13,2,148.38,2,147.77,2,0.44,36.16,2,0.13,0,2,0.01,2.541,2,0.016,-999,9,-999,9,-999,9,-999,9,-999,9,-999,9,-999,-999,9,-999,9,-999,-999,9,-999,-999,1,-999,-999,9,-999,1.1517,27.7799
49NZ20070724,   P01,22,1,8, X12046,2,20070730,1857,40.3213,148.8717,5465,4249.7,2,1.4704,2,1.47039,2,34.685,2,34.685,6,151.75,2,152.03,2,146.6,2,0.44,35.93,2,0.13,0,2,0.01,2.529,2,0.016,0.002,2,0.002,2,0,2,-999,9,-999,9,-999,9,-999,-999,9,-999,9,-999,-999,9,-999,-999,1,-999,-999,9,-999,1.1248,27.7839
49NZ20070724,   P01,22,1,7, X12044,2,20070730,1857,40.3213,148.8717,5465,4501.6,2,1.4762,2,1.47631,2,34.6875,2,34.6877,2,154.62,2,155.03,2,145.96,2,0.44,35.73,2,0.13,0.01,2,0.01,2.509,2,0.016,-999,9,-999,9,-999,9,-999,9,-999,9,-999,9,-999,-999,9,-999,9,-999,-999,9,-999,-999,9,-999,-999,9,-999,1.1018,27.7874
49NZ20070724,   P01,22,1,6, X12048,2,20070730,1857,40.3213,148.8717,5465,4750.5,2,1.4902,2,1.49029,2,34.6892,2,34.6894,2,156.69,2,157.18,2,145.49,2,0.44,35.49,2,0.13,0,2,0.01,2.505,2,0.016,-999,9,-999,9,-999,9,-999,9,-999,9,-999,9,-999,-999,9,-999,9,-999,-999,9,-999,-999,1,-999,-999,9,-999,1.0862,27.7899
49NZ20070724,   P01,22,1,5, X12017,2,20070730,1857,40.3213,148.8717,5465,4999.3,2,1.5127,2,1.51283,2,34.6902,2,34.6898,2,157.82,2,158.24,2,146.29,2,0.44,35.64,2,0.13,0,2,0.01,2.492,2,0.016,0.006,2,0.001,2,0,2,-999,9,-999,9,-999,9,-999,-999,9,-999,9,-999,-999,9,-999,-999,1,-999,-999,9,-999,1.0781,27.7912
49NZ20070724,   P01,22,1,4, X12928,2,20070730,1857,40.3213,148.8717,5465,5249.3,2,1.5365,2,1.5365,2,34.6908,2,34.6908,2,159.44,2,159.77,2,144.99,2,0.44,35.58,2,0.13,0,2,0.01,2.489,2,0.016,-999,9,-999,9,-999,9,-999,9,-999,9,-999,9,-999,-999,9,-999,9,-999,-999,9,-999,-999,1,-999,-999,9,-999,1.0703,27.7922
49NZ20070724,   P01,22,1,3, X12931,2,20070730,1857,40.3213,148.8717,5465,5499.1,2,1.56,2,1.55993,2,34.6917,2,34.6916,2,161.16,2,161.32,2,142.97,2,0.43,35.15,2,0.13,0,2,0.01,2.473,2,0.016,-999,9,-999,9,-999,9,-999,9,-999,9,-999,9,-999,-999,9,-999,9,-999,-999,9,-999,-999,9,-999,-999,9,-999,1.0614,27.7935
49NZ20070724,   P01,22,1,2, X12930,2,20070730,1857,40.3213,148.8717,5465,5560.8,2,1.5678,2,1.56764,2,34.6917,2,-999,9,161.4,2,-999,9,-999,9,-999,-999,9,-999,-999,9,-999,-999,9,-999,-999,9,-999,9,-999,9,-999,9,-999,9,-999,9,-999,-999,9,-999,9,-999,-999,9,-999,-999,1,-999,-999,9,-999,1.0609,27.7935
49NZ20070724,   P01,22,1,1, X12929,2,20070730,1857,40.3213,148.8717,5465,5560.9,2,1.5678,2,1.56766,2,34.6917,2,34.6916,6,161.41,2,161.37,2,143.43,2,0.43,35.36,2,0.13,0,2,0.01,2.498,2,0.016,0.003,2,0.003,2,0,2,-999,9,-999,9,-999,9,-999,-999,9,-999,9,-999,-999,9,-999,-999,1,-999,-999,9,-999,1.0609,27.7935