BOTTLE,20081214JAMSTECIORGC,,,,,,,,,,,,,,,,,,,,,,,,,,,,,,,,,,,,,,,,,,,,,,,,,,,,,,,,,,,,,,,,,
EXPOCODE,SECT,STNNBR,CASTNO,SAMPNO,BTLNBR,BTLNBR_FLAG_W,DATE,TIME,LATITUDE,LONGITUDE,DEPTH,CTDPRS,CTDPRS_FLAG_W,CTDTMP,CTDTMP_FLAG_W,SBE35,SBE35_FLAG_W,CTDSAL,CTDSAL_FLAG_W,SALNTY,SALNTY_FLAG_W,CTDOXY,CTDOXY_FLAG_W,OXYGEN,OXYGEN_FLAG_W,SILCAT,SILCAT_FLAG_W,SILUNC,NITRAT,NITRAT_FLAG_W,NRAUNC,NITRIT,NITRIT_FLAG_W,NRIUNC,PHSPHT,PHSPHT_FLAG_W,PHPUNC,CFC-11,CFC-11_FLAG_W,CFC-12,CFC-12_FLAG_W,CFC113,CFC113_FLAG_W,CCL4,CCL4_FLAG_W,TCARBN,TCARBN_FLAG_W,ALKALI,ALKALI_FLAG_W,PH_TOT,PH_TMP,PH_FLAG_W,DELC13,DELC13_FLAG_W,C13ERR,DELC14,DELC14_FLAG_W,C14ERR,CS-137,CS-137_FLAG_W,CS137ER,PLUTO,PLUTO_FLAG_W,PLUTOER,THETA,SIG0
,,,,,,,,UTC,DEG,DEG,M,DBAR,,ITS-90,,ITS-90,,PSS-78,,PSS-78,,UMOL/KG,,UMOL/KG,,UMOL/KG,,UMOL/KG,UMOL/KG,,UMOL/KG,UMOL/KG,,UMOL/KG,UMOL/KG,,UMOL/KG,PMOL/KG,,PMOL/KG,,PMOL/KG,,PMOL/KG,,UMOL/KG,,UMOL/KG,,,ITS-90,,/MILLE,,/MILLE,/MILLE,,/MILLE,BQ/CUM,,BQ/CUM,MBQ/CUM,,MBQ/CUM,DEG C,KG/CUM
49NZ20070724,   P01,108,1,0,-999,9,20070828,552,47.003,-128.6433,2725,-999,9,-999,9,-999,9,-999,9,32.301,2,-999,9,-999,9,-999,9,-999,-999,9,-999,-999,9,-999,-999,9,-999,-999,9,-999,9,-999,9,-999,9,-999,9,-999,9,-999,-999,9,-999,9,-999,-999,9,-999,-999,9,-999,-999,9,-999,-999,-999
49NZ20070724,   P01,108,1,36, X12042,2,20070828,552,47.003,-128.6433,2725,10.1,2,17.3365,2,17.33475,2,32.3067,2,32.296,2,251.11,2,249.52,2,4.96,2,0.13,0.05,2,0.03,0.01,2,0.01,0.433,2,0.013,2.608,2,1.587,2,-999,5,-999,9,1947.7,2,2174.3,2,7.9697,25,6,-999,1,-999,-999,1,-999,-999,9,-999,-999,9,-999,17.3348,23.3696
49NZ20070724,   P01,108,1,35, X12041,2,20070828,552,47.003,-128.6433,2725,50.2,2,10.2915,2,10.29563,2,32.4188,2,32.4295,2,288.86,2,290.97,2,8.44,2,0.14,6.51,2,0.05,0.29,2,0.01,0.939,2,0.013,3.862,2,2.19,2,0.385,2,-999,9,2007.4,6,2181,2,7.8513,25,2,-999,1,-999,-999,1,-999,-999,9,-999,-999,9,-999,10.2858,24.8892
49NZ20070724,   P01,108,1,34, X12036,2,20070828,552,47.003,-128.6433,2725,100.3,2,7.2748,2,7.27318,2,32.8212,2,32.8971,2,247.2,2,241.82,2,18.16,2,0.16,16.52,2,0.08,0.03,2,0.01,1.438,2,0.014,4.098,2,2.267,2,0.301,2,-999,9,2084,2,2204.3,6,7.713,25,2,-999,1,-999,-999,1,-999,-999,9,-999,-999,9,-999,7.2656,25.6667
49NZ20070724,   P01,108,1,33, X12033,2,20070828,552,47.003,-128.6433,2725,150.5,2,7.0874,2,7.08727,2,33.7006,2,33.717,2,162.8,2,163.29,2,33.52,2,0.19,26.01,2,0.11,0.01,2,0.01,1.923,2,0.015,3.699,6,1.962,6,0.237,6,-999,9,2174.3,2,2250.4,2,7.5761,25,6,-999,1,-999,-999,1,-999,-999,9,-999,-999,9,-999,7.0736,26.3851
49NZ20070724,   P01,108,1,32, X12038,2,20070828,552,47.003,-128.6433,2725,200,2,7.0158,2,7.01565,2,33.9036,2,33.909,2,116.05,2,115.25,2,43.3,2,0.21,30.73,2,0.12,0.01,2,0.01,2.238,2,0.016,3.046,2,1.558,2,0.184,2,-999,9,2215.6,2,2265.4,2,7.4938,25,2,-999,1,-999,-999,1,-999,-999,9,-999,-999,9,-999,6.9974,26.5554
49NZ20070724,   P01,108,1,31, X12003,2,20070828,552,47.003,-128.6433,2725,250.2,2,6.6278,2,6.62799,2,33.9612,2,33.9618,6,89.69,2,89.06,2,51.28,2,0.23,33.9,2,0.13,0.01,2,0.01,2.45,2,0.016,2.55,2,1.26,2,0.143,2,-999,9,2241.1,2,2274.5,2,7.4455,25,2,-999,1,-999,-999,1,-999,-999,9,-999,-999,9,-999,6.6054,26.6536
49NZ20070724,   P01,108,1,30, X12008,2,20070828,552,47.003,-128.6433,2725,332.7,2,5.9203,2,5.91953,2,34.0005,2,33.9982,2,63.29,2,64.4,2,62.59,2,0.26,37.37,2,0.14,0.01,2,0.01,2.69,2,0.017,1.921,2,0.914,2,0.097,2,-999,9,2270.5,2,2287,2,7.3934,25,2,-999,1,-999,-999,1,-999,-999,9,-999,-999,9,-999,5.8921,26.7763
49NZ20070724,   P01,108,1,29, X12035,2,20070828,552,47.003,-128.6433,2725,433.3,2,5.3091,2,5.30913,2,34.0601,2,34.0579,2,40.25,2,41.64,2,75.39,2,0.28,40.13,2,0.15,0.01,2,0.01,2.918,2,0.017,1.178,2,0.545,2,0.054,2,-999,9,2298.4,2,2301.5,2,7.3519,25,2,-999,1,-999,-999,1,-999,-999,9,-999,-999,9,-999,5.2741,26.8983
49NZ20070724,   P01,108,1,28, X12034,2,20070828,552,47.003,-128.6433,2725,530.5,2,4.8326,2,4.83301,2,34.1312,2,34.1302,6,24,2,24.14,2,88.43,2,0.31,41.92,2,0.15,0.01,2,0.01,3.065,2,0.018,0.598,2,0.286,2,0.044,2,-999,9,2323.4,2,2317.4,2,7.3277,25,2,-999,1,-999,-999,1,-999,-999,9,-999,-999,9,-999,4.7912,27.0101
49NZ20070724,   P01,108,1,27, X12049,2,20070828,552,47.003,-128.6433,2725,630.6,2,4.5012,2,4.50146,2,34.199,2,34.2005,2,13.61,2,14.1,2,98.99,2,0.34,43.08,2,0.15,0.01,2,0.01,3.164,2,0.018,0.301,2,0.144,2,0.02,2,-999,9,2340.9,2,2331.4,2,7.3186,25,2,-999,1,-999,-999,1,-999,-999,9,-999,-999,9,-999,4.4531,27.1011
49NZ20070724,   P01,108,1,26, X12032,2,20070828,552,47.003,-128.6433,2725,729.9,2,4.1682,2,4.16825,2,34.2524,2,34.252,2,10.29,2,10.14,2,108.26,2,0.36,43.58,2,0.15,0.01,2,0.01,3.197,2,0.018,0.151,6,0.071,6,0.013,6,-999,9,2353.3,6,2345.3,2,7.3176,25,2,-999,1,-999,-999,1,-999,-999,9,-999,-999,9,-999,4.1138,27.1796
49NZ20070724,   P01,108,1,25, X12043,2,20070828,552,47.003,-128.6433,2725,830.1,2,3.9113,2,3.91054,2,34.3079,2,34.3065,2,8.63,2,8.32,2,116.48,2,0.38,43.98,2,0.16,0.01,2,0.01,3.23,2,0.018,0.073,2,0.035,2,0,2,-999,9,2364.5,2,2355.6,6,7.3196,25,2,-999,1,-999,-999,1,-999,-999,9,-999,-999,9,-999,3.8504,27.2509
49NZ20070724,   P01,108,1,24, X12030,2,20070828,552,47.003,-128.6433,2725,929.7,2,3.653,2,3.65293,2,34.3443,2,34.3448,2,8.82,2,8.55,2,123.8,2,0.39,44.31,2,0.16,0.01,2,0.01,3.209,2,0.018,0.042,2,0.021,2,0,2,-999,9,2371.9,2,2363.1,2,7.3216,25,2,-999,1,-999,-999,1,-999,-999,9,-999,-999,9,-999,3.5859,27.3062
49NZ20070724,   P01,108,1,23, X12027,2,20070828,552,47.003,-128.6433,2725,1071.1,2,3.299,2,3.29889,2,34.4,2,34.4002,6,10.64,2,10.47,2,134.45,2,0.41,44.44,2,0.16,0.01,2,0.01,3.223,2,0.018,0.02,2,0.009,2,0,2,-999,9,2380.1,2,2377.4,2,7.3291,25,2,-999,1,-999,-999,1,-999,-999,9,-999,-999,9,-999,3.2234,27.3854
49NZ20070724,   P01,108,1,22, X12028,2,20070828,552,47.003,-128.6433,2725,1270.6,2,2.9001,2,2.90003,2,34.4547,2,34.4545,2,15.38,2,15.34,2,145.94,2,0.44,44.46,2,0.16,0.01,2,0.01,3.201,2,0.018,0.006,2,0.003,2,0,2,-999,9,2390.4,2,2390.4,2,7.342,25,2,-999,1,-999,-999,1,-999,-999,9,-999,-999,9,-999,2.8122,27.4667
49NZ20070724,   P01,108,1,21, X12009,2,20070828,552,47.003,-128.6433,2725,1471.4,2,2.5483,2,2.54846,2,34.5005,2,34.5005,2,24.13,2,23.95,2,155.83,2,0.46,44.09,2,0.16,0.01,2,0.01,3.151,2,0.018,0.004,2,0.006,2,0,2,-999,9,2395.1,2,2400.7,2,7.3617,25,2,-999,1,-999,-999,1,-999,-999,9,-999,-999,9,-999,2.4481,27.5349
49NZ20070724,   P01,108,1,20, X12026,2,20070828,552,47.003,-128.6433,2725,1670.1,2,2.2731,2,2.27314,2,34.538,2,34.5381,2,36.6,2,36.52,2,163.32,2,0.48,43.25,2,0.15,0.01,2,0.01,3.089,2,0.018,0.003,2,0,2,0,2,-999,9,2393.2,2,2409,2,7.3822,25,6,-999,1,-999,-999,1,-999,-999,9,-999,-999,9,-999,2.1603,27.5887
49NZ20070724,   P01,108,1,19, X12025,2,20070828,552,47.003,-128.6433,2725,1871.2,2,2.0637,2,2.06378,2,34.5692,2,34.5692,2,49.14,2,49.07,2,168.54,2,0.49,42.64,2,0.15,0.01,2,0.01,3.038,2,0.018,0.002,2,0.002,2,0,2,-999,9,2388.1,2,2415,2,7.4087,25,2,-999,1,-999,-999,1,-999,-999,9,-999,-999,9,-999,1.9372,27.6315
49NZ20070724,   P01,108,1,18, X12024,2,20070828,552,47.003,-128.6433,2725,2071.4,2,1.9113,2,1.9113,2,34.5978,2,34.5982,6,61.87,2,61.89,2,172.95,2,0.5,41.67,2,0.15,0.01,2,0.01,2.978,2,0.017,0.003,2,0.001,2,0,2,-999,9,2386.1,2,2421.8,2,7.4355,25,2,-999,1,-999,-999,1,-999,-999,9,-999,-999,9,-999,1.7704,27.6673
49NZ20070724,   P01,108,1,17, X12023,2,20070828,552,47.003,-128.6433,2725,2270.6,2,1.8177,2,1.81764,2,34.6163,2,34.6167,2,71.56,2,71.69,2,175.69,2,0.51,41.13,2,0.15,0.01,2,0.01,2.934,2,0.017,0.004,2,0.003,2,0.002,2,-999,9,2384.1,2,2425.8,2,7.4568,25,2,-999,1,-999,-999,1,-999,-999,9,-999,-999,9,-999,1.6612,27.6903
49NZ20070724,   P01,108,1,16, X12022,2,20070828,552,47.003,-128.6433,2725,2471,2,1.7756,2,1.77548,2,34.6289,2,34.6291,2,76.48,2,76.67,2,179.39,2,0.51,40.64,2,0.15,0.01,2,0.01,2.922,2,0.017,0.003,2,0.002,2,0,2,-999,9,2384.7,6,2431.3,2,7.4708,25,2,-999,1,-999,-999,1,-999,-999,9,-999,-999,9,-999,1.6022,27.7049
49NZ20070724,   P01,108,1,15, X12021,2,20070828,552,47.003,-128.6433,2725,2669.8,2,1.7678,2,1.76766,2,34.6405,2,34.6406,2,76.38,2,76.67,2,187.56,2,0.53,40.11,2,0.15,0.01,2,0.01,2.943,2,0.017,0.031,2,0.022,2,0.008,2,-999,9,2392.3,2,2440.2,6,7.4767,25,2,-999,1,-999,-999,1,-999,-999,9,-999,-999,9,-999,1.5765,27.7161
49NZ20070724,   P01,108,1,14, X12020,9,20070828,552,47.003,-128.6433,2725,10,2,17.3481,2,17.35388,2,32.3047,2,-999,9,250.84,2,-999,9,-999,9,-999,-999,9,-999,-999,9,-999,-999,9,-999,-999,9,-999,9,-999,9,-999,9,-999,9,-999,9,-999,-999,9,-999,9,-999,-999,9,-999,-999,9,-999,-999,9,-999,17.3465,23.3653
49NZ20070724,   P01,108,1,13, X12019,9,20070828,552,47.003,-128.6433,2725,730.2,2,4.1664,2,4.16662,2,34.2521,2,-999,9,10.28,2,-999,9,-999,9,-999,-999,9,-999,-999,9,-999,-999,9,-999,-999,9,-999,9,-999,9,-999,9,-999,9,-999,9,-999,-999,9,-999,9,-999,-999,9,-999,-999,9,-999,-999,9,-999,4.112,27.1796
49NZ20070724,   P01,108,1,12, X12040,9,20070828,552,47.003,-128.6433,2725,830,2,3.908,2,3.90617,2,34.3069,2,-999,9,8.64,2,-999,9,-999,9,-999,-999,9,-999,-999,9,-999,-999,9,-999,-999,9,-999,9,-999,9,-999,9,-999,9,-999,9,-999,-999,9,-999,9,-999,-999,9,-999,-999,9,-999,-999,9,-999,3.8471,27.2504
49NZ20070724,   P01,108,1,11, X12047,9,20070828,552,47.003,-128.6433,2725,929.6,2,3.651,2,3.65084,2,34.3446,2,-999,9,8.86,2,-999,9,-999,9,-999,-999,9,-999,-999,9,-999,-999,9,-999,-999,9,-999,9,-999,9,-999,9,-999,9,-999,9,-999,-999,9,-999,9,-999,-999,9,-999,-999,9,-999,-999,9,-999,3.5839,27.3066
49NZ20070724,   P01,108,1,10, X12010,9,20070828,552,47.003,-128.6433,2725,1071.1,2,3.299,2,3.2991,2,34.4002,2,-999,9,10.74,2,-999,9,-999,9,-999,-999,9,-999,-999,9,-999,-999,9,-999,-999,9,-999,9,-999,9,-999,9,-999,9,-999,9,-999,-999,9,-999,9,-999,-999,9,-999,-999,9,-999,-999,9,-999,3.2234,27.3856
49NZ20070724,   P01,108,1,9, X12015,9,20070828,552,47.003,-128.6433,2725,1271.4,2,2.8985,2,2.89865,2,34.4547,2,-999,9,15.52,2,-999,9,-999,9,-999,-999,9,-999,-999,9,-999,-999,9,-999,-999,9,-999,9,-999,9,-999,9,-999,9,-999,9,-999,-999,9,-999,9,-999,-999,9,-999,-999,9,-999,-999,9,-999,2.8106,27.4669
49NZ20070724,   P01,108,1,8, X12046,9,20070828,552,47.003,-128.6433,2725,1470.3,2,2.5501,2,2.55027,2,34.5003,2,-999,9,24.43,2,-999,9,-999,9,-999,-999,9,-999,-999,9,-999,-999,9,-999,-999,9,-999,9,-999,9,-999,9,-999,9,-999,9,-999,-999,9,-999,9,-999,-999,9,-999,-999,9,-999,-999,9,-999,2.45,27.5346
49NZ20070724,   P01,108,1,7, X12044,9,20070828,552,47.003,-128.6433,2725,1669.7,2,2.2729,2,2.27289,2,34.538,2,-999,9,36.81,2,-999,9,-999,9,-999,-999,9,-999,-999,9,-999,-999,9,-999,-999,9,-999,9,-999,9,-999,9,-999,9,-999,9,-999,-999,9,-999,9,-999,-999,9,-999,-999,9,-999,-999,9,-999,2.1601,27.5887
49NZ20070724,   P01,108,1,6, X12048,9,20070828,552,47.003,-128.6433,2725,1870.8,2,2.0638,2,2.06383,2,34.5691,2,-999,9,49.34,2,-999,9,-999,9,-999,-999,9,-999,-999,9,-999,-999,9,-999,-999,9,-999,9,-999,9,-999,9,-999,9,-999,9,-999,-999,9,-999,9,-999,-999,9,-999,-999,9,-999,-999,9,-999,1.9374,27.6314
49NZ20070724,   P01,108,1,5, X12014,9,20070828,552,47.003,-128.6433,2725,2069.7,2,1.9113,2,1.91122,2,34.5979,2,-999,9,62.19,2,-999,9,-999,9,-999,-999,9,-999,-999,9,-999,-999,9,-999,-999,9,-999,9,-999,9,-999,9,-999,9,-999,9,-999,-999,9,-999,9,-999,-999,9,-999,-999,9,-999,-999,9,-999,1.7705,27.6674
49NZ20070724,   P01,108,1,4, X12928,9,20070828,552,47.003,-128.6433,2725,2270.2,2,1.8177,2,1.81763,2,34.6163,2,-999,9,71.72,2,-999,9,-999,9,-999,-999,9,-999,-999,9,-999,-999,9,-999,-999,9,-999,9,-999,9,-999,9,-999,9,-999,9,-999,-999,9,-999,9,-999,-999,9,-999,-999,9,-999,-999,9,-999,1.6612,27.6903
49NZ20070724,   P01,108,1,3, X12931,9,20070828,552,47.003,-128.6433,2725,2471.2,2,1.7754,2,1.77537,2,34.629,2,-999,9,76.54,2,-999,9,-999,9,-999,-999,9,-999,-999,9,-999,-999,9,-999,-999,9,-999,9,-999,9,-999,9,-999,9,-999,9,-999,-999,9,-999,9,-999,-999,9,-999,-999,9,-999,-999,9,-999,1.602,27.705
49NZ20070724,   P01,108,1,2, X12930,9,20070828,552,47.003,-128.6433,2725,2669.5,2,1.7677,2,1.7675,2,34.6405,2,-999,9,76.3,2,-999,9,-999,9,-999,-999,9,-999,-999,9,-999,-999,9,-999,-999,9,-999,9,-999,9,-999,9,-999,9,-999,9,-999,-999,9,-999,9,-999,-999,9,-999,-999,9,-999,-999,9,-999,1.5764,27.7161
49NZ20070724,   P01,108,1,1, X12929,2,20070828,552,47.003,-128.6433,2725,2752,2,1.7726,2,1.77242,2,34.6421,2,34.6422,6,75.98,2,76.31,2,188.97,2,0.53,39.94,2,0.14,0.01,2,0.01,2.96,2,0.017,0.108,2,0.034,2,0,2,-999,9,2395.2,2,2441.6,2,7.4772,25,2,-999,1,-999,-999,1,-999,-999,9,-999,-999,9,-999,1.5735,27.7176