BOTTLE,20081214JAMSTECIORGC,,,,,,,,,,,,,,,,,,,,,,,,,,,,,,,,,,,,,,,,,,,,,,,,,,,,,,,,,,,,,,,,,
EXPOCODE,SECT,STNNBR,CASTNO,SAMPNO,BTLNBR,BTLNBR_FLAG_W,DATE,TIME,LATITUDE,LONGITUDE,DEPTH,CTDPRS,CTDPRS_FLAG_W,CTDTMP,CTDTMP_FLAG_W,SBE35,SBE35_FLAG_W,CTDSAL,CTDSAL_FLAG_W,SALNTY,SALNTY_FLAG_W,CTDOXY,CTDOXY_FLAG_W,OXYGEN,OXYGEN_FLAG_W,SILCAT,SILCAT_FLAG_W,SILUNC,NITRAT,NITRAT_FLAG_W,NRAUNC,NITRIT,NITRIT_FLAG_W,NRIUNC,PHSPHT,PHSPHT_FLAG_W,PHPUNC,CFC-11,CFC-11_FLAG_W,CFC-12,CFC-12_FLAG_W,CFC113,CFC113_FLAG_W,CCL4,CCL4_FLAG_W,TCARBN,TCARBN_FLAG_W,ALKALI,ALKALI_FLAG_W,PH_TOT,PH_TMP,PH_FLAG_W,DELC13,DELC13_FLAG_W,C13ERR,DELC14,DELC14_FLAG_W,C14ERR,CS-137,CS-137_FLAG_W,CS137ER,PLUTO,PLUTO_FLAG_W,PLUTOER,THETA,SIG0
,,,,,,,,UTC,DEG,DEG,M,DBAR,,ITS-90,,ITS-90,,PSS-78,,PSS-78,,UMOL/KG,,UMOL/KG,,UMOL/KG,,UMOL/KG,UMOL/KG,,UMOL/KG,UMOL/KG,,UMOL/KG,UMOL/KG,,UMOL/KG,PMOL/KG,,PMOL/KG,,PMOL/KG,,PMOL/KG,,UMOL/KG,,UMOL/KG,,,ITS-90,,/MILLE,,/MILLE,/MILLE,,/MILLE,BQ/CUM,,BQ/CUM,MBQ/CUM,,MBQ/CUM,DEG C,KG/CUM
49NZ20070724,   P01,78,1,0,-999,9,20070819,2131,47,-161.4863,5082,-999,9,-999,9,-999,9,-999,9,32.6497,2,-999,9,-999,9,-999,9,-999,-999,9,-999,-999,9,-999,-999,9,-999,-999,9,-999,9,-999,9,-999,9,-999,9,-999,9,-999,-999,9,-999,9,-999,-999,9,-999,-999,9,-999,-999,9,-999,-999,-999
49NZ20070724,   P01,78,1,36, X12042,2,20070819,2131,47,-161.4863,5082,10,2,13.1023,2,13.09965,2,32.6527,2,32.6573,2,281.43,2,284.72,2,12.69,2,0.15,8.66,2,0.06,0.13,2,0.01,0.948,2,0.013,3.405,2,1.908,2,0.359,2,-999,9,-999,9,-999,9,-999,-999,9,-999,9,-999,-999,9,-999,-999,9,-999,-999,9,-999,13.101,24.5551
49NZ20070724,   P01,78,1,35, X12041,2,20070819,2131,47,-161.4863,5082,50.3,2,6.862,2,6.87256,2,32.9126,2,32.9181,2,301.54,2,305.88,2,23.27,2,0.17,14.3,2,0.07,0.18,2,0.01,1.415,2,0.014,4.599,2,2.478,2,0.437,2,-999,9,-999,9,-999,9,-999,-999,9,-999,9,-999,-999,9,-999,-999,9,-999,-999,9,-999,6.8576,25.7937
49NZ20070724,   P01,78,1,34, X12036,2,20070819,2131,47,-161.4863,5082,100.3,2,5.2921,2,5.29245,2,33.0285,2,33.0387,2,301.14,2,302.02,2,25.54,2,0.18,16.65,2,0.08,0.32,2,0.01,1.464,2,0.014,4.758,2,2.543,2,0.447,2,-999,9,-999,9,-999,9,-999,-999,9,-999,9,-999,-999,9,-999,-999,9,-999,-999,9,-999,5.2844,26.0802
49NZ20070724,   P01,78,1,33, X12033,2,20070819,2131,47,-161.4863,5082,149.3,2,5.4057,2,5.40552,2,33.5829,2,33.6046,2,241.45,2,240.3,2,36.28,2,0.2,22.42,2,0.1,0.01,2,0.01,1.723,2,0.014,4.145,6,2.196,6,0.337,6,-999,9,-999,9,-999,9,-999,-999,9,-999,9,-999,-999,9,-999,-999,9,-999,-999,9,-999,5.3939,26.5064
49NZ20070724,   P01,78,1,32, X12038,2,20070819,2131,47,-161.4863,5082,200.8,2,4.7286,2,4.72961,2,33.7193,2,33.7191,2,179.15,2,180.68,2,52.19,2,0.23,29.13,2,0.11,0.01,2,0.01,2.164,2,0.015,3.644,2,1.872,2,0.245,2,-999,9,-999,9,-999,9,-999,-999,9,-999,9,-999,-999,9,-999,-999,9,-999,-999,9,-999,4.7137,26.6919
49NZ20070724,   P01,78,1,31, X12003,2,20070819,2131,47,-161.4863,5082,249,2,4.4426,2,4.44285,2,33.7895,2,33.7909,6,138.5,2,139.04,2,63.7,2,0.26,33.15,2,0.13,0.01,2,0.01,2.422,2,0.016,3.164,2,1.598,2,0.218,2,-999,9,-999,9,-999,9,-999,-999,9,-999,9,-999,-999,9,-999,-999,9,-999,-999,9,-999,4.4246,26.779
49NZ20070724,   P01,78,1,30, X12008,2,20070819,2131,47,-161.4863,5082,300,2,4.2529,2,4.25274,2,33.8691,2,33.8712,2,101.16,2,100.83,2,75.45,2,0.28,36.79,2,0.14,0.01,2,0.01,2.653,2,0.017,2.564,2,1.275,2,0.157,2,-999,9,-999,9,-999,9,-999,-999,9,-999,9,-999,-999,9,-999,-999,9,-999,-999,9,-999,4.2315,26.8627
49NZ20070724,   P01,78,1,29, X12035,2,20070819,2131,47,-161.4863,5082,402.2,2,4.0548,2,4.05448,2,34.0027,2,34.0047,2,61.91,2,62.04,2,91.53,2,0.32,40.2,2,0.15,0.01,2,0.01,2.884,2,0.017,1.72,2,0.831,2,0.095,2,-999,9,-999,9,-999,9,-999,-999,9,-999,9,-999,-999,9,-999,-999,9,-999,-999,9,-999,4.0264,26.9901
49NZ20070724,   P01,78,1,28, X12034,2,20070819,2131,47,-161.4863,5082,500.8,2,3.937,2,3.93836,2,34.1045,2,34.1077,6,44.94,2,44.67,2,102.65,2,0.34,41.55,2,0.15,0.01,2,0.01,2.975,2,0.017,1.127,2,0.537,2,0.057,2,-999,9,-999,9,-999,9,-999,-999,9,-999,9,-999,-999,9,-999,-999,9,-999,-999,9,-999,3.9016,27.0838
49NZ20070724,   P01,78,1,27, X12049,2,20070819,2131,47,-161.4863,5082,600.9,2,3.7452,2,3.74525,2,34.1939,2,34.1956,2,35.95,2,35.84,2,112.85,2,0.37,42.25,2,0.15,0,2,0.01,3.022,2,0.018,0.688,2,0.317,2,0.04,2,-999,9,-999,9,-999,9,-999,-999,9,-999,9,-999,-999,9,-999,-999,9,-999,-999,9,-999,3.7031,27.1749
49NZ20070724,   P01,78,1,26, X12032,2,20070819,2131,47,-161.4863,5082,700.6,2,3.4868,2,3.48669,2,34.2483,2,34.2488,2,29.15,2,29.02,2,122.16,2,0.39,42.99,2,0.15,0.01,2,0.01,3.077,2,0.018,0.457,6,0.213,6,0.028,6,-999,9,-999,9,-999,9,-999,-999,9,-999,9,-999,-999,9,-999,-999,9,-999,-999,9,-999,3.4385,27.244
49NZ20070724,   P01,78,1,25, X12043,2,20070819,2131,47,-161.4863,5082,801,2,3.2728,2,3.27269,2,34.3013,2,34.3014,2,26.21,2,26.15,2,129.27,2,0.4,43.38,2,0.15,0.01,2,0.01,3.1,2,0.018,0.273,2,0.128,2,0.024,2,-999,9,-999,9,-999,9,-999,-999,9,-999,9,-999,-999,9,-999,-999,9,-999,-999,9,-999,3.2182,27.3072
49NZ20070724,   P01,78,1,24, X12030,2,20070819,2131,47,-161.4863,5082,899.6,2,3.0884,2,3.08823,2,34.3445,2,34.3446,2,25.27,2,25.2,2,135.18,2,0.42,43.45,2,0.15,0.01,2,0.01,3.107,2,0.018,0.174,2,0.072,2,0.012,2,-999,9,-999,9,-999,9,-999,-999,9,-999,9,-999,-999,9,-999,-999,9,-999,-999,9,-999,3.0276,27.3593
49NZ20070724,   P01,78,1,23, X12027,2,20070819,2131,47,-161.4863,5082,1001,2,2.9257,2,2.92554,2,34.3722,2,34.372,6,24.45,2,24.54,2,140.51,2,0.43,43.67,2,0.16,0.01,2,0.01,3.127,2,0.018,0.143,2,0.063,2,0.013,2,-999,9,-999,9,-999,9,-999,-999,9,-999,9,-999,-999,9,-999,-999,9,-999,-999,9,-999,2.8585,27.3966
49NZ20070724,   P01,78,1,22, X12028,2,20070819,2131,47,-161.4863,5082,1201.1,2,2.6517,2,2.65176,2,34.4362,2,34.4361,2,23.49,2,23.61,2,149.7,2,0.45,44.05,2,0.16,0.01,2,0.01,3.134,2,0.018,0.045,2,0.017,2,0.007,2,-999,9,-999,9,-999,9,-999,-999,9,-999,9,-999,-999,9,-999,-999,9,-999,-999,9,-999,2.5717,27.473
49NZ20070724,   P01,78,1,21, X12009,2,20070819,2131,47,-161.4863,5082,1401.7,2,2.4194,2,2.41925,2,34.4838,2,34.4837,2,25.15,2,24.99,2,157.58,2,0.47,44.12,2,0.16,0.01,2,0.01,3.129,2,0.018,0.01,2,0.005,2,0.006,2,-999,9,-999,9,-999,9,-999,-999,9,-999,9,-999,-999,9,-999,-999,9,-999,-999,9,-999,2.3262,27.5318
49NZ20070724,   P01,78,1,20, X12026,2,20070819,2131,47,-161.4863,5082,1600.5,2,2.2269,2,2.22685,2,34.5244,2,34.5241,2,34.16,2,33.95,2,162.49,2,0.48,43.69,2,0.16,0.01,2,0.01,3.085,2,0.018,0.003,2,0.004,2,0.017,2,-999,9,-999,9,-999,9,-999,-999,9,-999,9,-999,-999,9,-999,-999,9,-999,-999,9,-999,2.1202,27.581
49NZ20070724,   P01,78,1,19, X12025,2,20070819,2131,47,-161.4863,5082,1800.1,2,2.0876,2,2.08746,2,34.5551,2,34.555,2,44.65,2,44.48,2,165.38,2,0.48,43.11,2,0.15,0.01,2,0.01,3.038,2,0.018,0,2,0,2,0.006,2,-999,9,-999,9,-999,9,-999,-999,9,-999,9,-999,-999,9,-999,-999,9,-999,-999,9,-999,1.9666,27.6179
49NZ20070724,   P01,78,1,18, X12024,2,20070819,2131,47,-161.4863,5082,2000.1,2,1.9707,2,1.97074,2,34.5808,2,34.5806,2,52.75,2,52.31,2,168.06,2,0.49,42.66,2,0.15,0.01,2,0.01,3.001,2,0.017,0,2,0,2,0.009,2,-999,9,-999,9,-999,9,-999,-999,9,-999,9,-999,-999,9,-999,-999,9,-999,-999,9,-999,1.8349,27.6487
49NZ20070724,   P01,78,1,17, X12023,2,20070819,2131,47,-161.4863,5082,2200.9,2,1.8677,2,1.86773,2,34.6027,2,34.6027,2,61.29,2,61.08,2,170.34,2,0.49,42.27,2,0.15,0.01,2,0.01,2.966,2,0.017,-999,9,-999,9,-999,9,-999,9,-999,9,-999,9,-999,-999,9,-999,9,-999,-999,9,-999,-999,9,-999,-999,9,-999,1.7164,27.6753
49NZ20070724,   P01,78,1,16, X12022,2,20070819,2131,47,-161.4863,5082,2399.9,2,1.7837,2,1.78373,2,34.619,2,34.6189,2,72.33,2,71.68,2,170.79,2,0.49,41.56,2,0.15,0.01,2,0.01,2.918,2,0.017,-999,9,-999,9,-999,9,-999,9,-999,9,-999,9,-999,-999,9,-999,9,-999,-999,9,-999,-999,9,-999,-999,9,-999,1.6165,27.6958
49NZ20070724,   P01,78,1,15, X12021,2,20070819,2131,47,-161.4863,5082,2601.3,2,1.7016,2,1.7017,2,34.6338,2,34.6339,6,85.73,2,85.26,2,169.54,2,0.49,40.69,2,0.15,0.01,2,0.01,2.853,2,0.017,-999,9,-999,9,-999,9,-999,9,-999,9,-999,9,-999,-999,9,-999,9,-999,-999,9,-999,-999,9,-999,-999,9,-999,1.5179,27.715
49NZ20070724,   P01,78,1,14, X12020,2,20070819,2131,47,-161.4863,5082,2799.6,2,1.6348,2,1.63472,2,34.6458,2,34.6461,2,97.81,2,97.64,2,167.75,2,0.49,39.93,2,0.14,0.01,2,0.01,2.798,2,0.017,-999,9,-999,9,-999,9,-999,9,-999,9,-999,9,-999,-999,9,-999,9,-999,-999,9,-999,-999,9,-999,-999,9,-999,1.4341,27.7307
49NZ20070724,   P01,78,1,13, X12019,2,20070819,2131,47,-161.4863,5082,3002.2,2,1.5851,2,1.58513,2,34.6552,2,34.6554,2,108.43,2,108.2,2,165.96,2,0.48,39.2,2,0.14,0.01,2,0.01,2.747,2,0.017,-999,9,-999,9,-999,9,-999,9,-999,9,-999,9,-999,-999,9,-999,9,-999,-999,9,-999,-999,9,-999,-999,9,-999,1.3663,27.7431
49NZ20070724,   P01,78,1,12, X12040,2,20070819,2131,47,-161.4863,5082,3251.4,2,1.5426,2,1.54266,2,34.6639,2,34.6641,2,119.22,2,118.99,2,163.15,2,0.48,38.38,2,0.14,0.02,2,0.01,2.689,2,0.017,-999,9,-999,9,-999,9,-999,9,-999,9,-999,9,-999,-999,9,-999,9,-999,-999,9,-999,-999,9,-999,-999,9,-999,1.3005,27.7548
49NZ20070724,   P01,78,1,11, X12047,2,20070819,2131,47,-161.4863,5082,3499.5,2,1.503,2,1.50305,2,34.672,2,34.6721,2,129.55,2,129.55,2,161.07,2,0.47,37.76,2,0.14,0.02,2,0.01,2.642,2,0.017,-999,9,-999,9,-999,9,-999,9,-999,9,-999,9,-999,-999,9,-999,9,-999,-999,9,-999,-999,9,-999,-999,9,-999,1.2369,27.7657
49NZ20070724,   P01,78,1,10, X12010,2,20070819,2131,47,-161.4863,5082,3751.2,2,1.4835,2,1.48341,2,34.6777,2,34.678,2,136.28,2,136.48,2,160.26,2,0.47,37.28,2,0.14,0.01,2,0.01,2.601,2,0.016,-999,9,-999,9,-999,9,-999,9,-999,9,-999,9,-999,-999,9,-999,9,-999,-999,9,-999,-999,9,-999,-999,9,-999,1.1917,27.7734
49NZ20070724,   P01,78,1,9, X12015,2,20070819,2131,47,-161.4863,5082,4001,2,1.4816,2,1.48172,2,34.6815,2,34.6814,6,140.79,2,141.02,2,160.2,2,0.47,37.03,2,0.14,0.01,2,0.01,2.584,2,0.016,-999,9,-999,9,-999,9,-999,9,-999,9,-999,9,-999,-999,9,-999,9,-999,-999,9,-999,-999,9,-999,-999,9,-999,1.1631,27.7784
49NZ20070724,   P01,78,1,8, X12046,2,20070819,2131,47,-161.4863,5082,4248.6,2,1.4891,2,1.48914,2,34.6843,2,34.6846,2,143.63,2,143.87,2,161.47,2,0.47,36.85,2,0.14,0.01,2,0.01,2.56,2,0.016,-999,9,-999,9,-999,9,-999,9,-999,9,-999,9,-999,-999,9,-999,9,-999,-999,9,-999,-999,9,-999,-999,9,-999,1.1431,27.782
49NZ20070724,   P01,78,1,7, X12044,2,20070819,2131,47,-161.4863,5082,4500.3,2,1.5066,2,1.50667,2,34.6861,2,34.6863,2,145.13,2,145.41,2,162.37,2,0.48,36.76,2,0.14,0.01,2,0.01,2.562,2,0.016,-999,9,-999,9,-999,9,-999,9,-999,9,-999,9,-999,-999,9,-999,9,-999,-999,9,-999,-999,9,-999,-999,9,-999,1.1314,27.7843
49NZ20070724,   P01,78,1,6, X12048,2,20070819,2131,47,-161.4863,5082,4750.7,2,1.5302,2,1.53029,2,34.6872,2,34.6873,2,145.96,2,146.2,2,164.05,2,0.48,36.7,2,0.14,0.01,2,0.01,2.548,2,0.016,-999,9,-999,9,-999,9,-999,9,-999,9,-999,9,-999,-999,9,-999,9,-999,-999,9,-999,-999,9,-999,-999,9,-999,1.1249,27.7856
49NZ20070724,   P01,78,1,5, X12017,2,20070819,2131,47,-161.4863,5082,5001.3,2,1.554,2,1.55405,2,34.688,2,34.6878,2,147.67,2,147.74,2,164.16,2,0.48,36.68,2,0.14,0.01,2,0.01,2.539,2,0.016,-999,9,-999,9,-999,9,-999,9,-999,9,-999,9,-999,-999,9,-999,9,-999,-999,9,-999,-999,9,-999,-999,9,-999,1.1178,27.7867
49NZ20070724,   P01,78,1,4, X12928,9,20070819,2131,47,-161.4863,5082,99.8,2,5.2928,2,5.29293,2,33.0274,2,-999,9,301.04,2,-999,9,-999,9,-999,-999,9,-999,-999,9,-999,-999,9,-999,-999,9,-999,9,-999,9,-999,9,-999,9,-999,9,-999,-999,9,-999,9,-999,-999,9,-999,-999,9,-999,-999,9,-999,5.2852,26.0792
49NZ20070724,   P01,78,1,3, X12931,9,20070819,2131,47,-161.4863,5082,1001,2,2.9265,2,2.9265,2,34.3722,2,-999,9,24.45,2,-999,9,-999,9,-999,-999,9,-999,-999,9,-999,-999,9,-999,-999,9,-999,9,-999,9,-999,9,-999,9,-999,9,-999,-999,9,-999,9,-999,-999,9,-999,-999,9,-999,-999,9,-999,2.8593,27.3966
49NZ20070724,   P01,78,1,2, X12930,9,20070819,2131,47,-161.4863,5082,5001,2,1.5541,2,1.55411,2,34.6879,2,-999,9,147.65,2,-999,9,-999,9,-999,-999,9,-999,-999,9,-999,-999,9,-999,-999,9,-999,9,-999,9,-999,9,-999,9,-999,9,-999,-999,9,-999,9,-999,-999,9,-999,-999,9,-999,-999,9,-999,1.1179,27.7866
49NZ20070724,   P01,78,1,1, X12929,2,20070819,2131,47,-161.4863,5082,5171.3,2,1.5714,2,1.57133,2,34.6883,2,34.689,6,149.01,2,148.89,2,163.26,2,0.48,36.59,2,0.14,0.01,2,0.01,2.539,2,0.016,-999,9,-999,9,-999,9,-999,9,-999,9,-999,9,-999,-999,9,-999,9,-999,-999,9,-999,-999,9,-999,-999,9,-999,1.1137,27.7872