BOTTLE,20081214JAMSTECIORGC,,,,,,,,,,,,,,,,,,,,,,,,,,,,,,,,,,,,,,,,,,,,,,,,,,,,,,,,,,,,,,,,,
EXPOCODE,SECT,STNNBR,CASTNO,SAMPNO,BTLNBR,BTLNBR_FLAG_W,DATE,TIME,LATITUDE,LONGITUDE,DEPTH,CTDPRS,CTDPRS_FLAG_W,CTDTMP,CTDTMP_FLAG_W,SBE35,SBE35_FLAG_W,CTDSAL,CTDSAL_FLAG_W,SALNTY,SALNTY_FLAG_W,CTDOXY,CTDOXY_FLAG_W,OXYGEN,OXYGEN_FLAG_W,SILCAT,SILCAT_FLAG_W,SILUNC,NITRAT,NITRAT_FLAG_W,NRAUNC,NITRIT,NITRIT_FLAG_W,NRIUNC,PHSPHT,PHSPHT_FLAG_W,PHPUNC,CFC-11,CFC-11_FLAG_W,CFC-12,CFC-12_FLAG_W,CFC113,CFC113_FLAG_W,CCL4,CCL4_FLAG_W,TCARBN,TCARBN_FLAG_W,ALKALI,ALKALI_FLAG_W,PH_TOT,PH_TMP,PH_FLAG_W,DELC13,DELC13_FLAG_W,C13ERR,DELC14,DELC14_FLAG_W,C14ERR,CS-137,CS-137_FLAG_W,CS137ER,PLUTO,PLUTO_FLAG_W,PLUTOER,THETA,SIG0
,,,,,,,,UTC,DEG,DEG,M,DBAR,,ITS-90,,ITS-90,,PSS-78,,PSS-78,,UMOL/KG,,UMOL/KG,,UMOL/KG,,UMOL/KG,UMOL/KG,,UMOL/KG,UMOL/KG,,UMOL/KG,UMOL/KG,,UMOL/KG,PMOL/KG,,PMOL/KG,,PMOL/KG,,PMOL/KG,,UMOL/KG,,UMOL/KG,,,ITS-90,,/MILLE,,/MILLE,/MILLE,,/MILLE,BQ/CUM,,BQ/CUM,MBQ/CUM,,MBQ/CUM,DEG C,KG/CUM
49NZ20070724,   P01,77,1,0,-999,9,20070819,1426,47.0025,-162.6202,5176,-999,9,-999,9,-999,9,-999,9,32.6588,2,-999,9,-999,9,-999,9,-999,-999,9,-999,-999,9,-999,-999,9,-999,-999,9,-999,9,-999,9,-999,9,-999,9,-999,9,-999,-999,9,-999,9,-999,-999,9,-999,-999,9,-999,-999,9,-999,-999,-999
49NZ20070724,   P01,77,1,36, X12042,2,20070819,1426,47.0025,-162.6202,5176,10.2,2,13.479,2,13.47912,2,32.6634,2,32.6641,2,276.45,2,276.61,2,10.72,2,0.14,8.64,2,0.06,0.14,2,0.01,0.951,2,0.013,3.298,2,1.875,2,0.316,2,-999,9,2000.9,2,2204.3,2,7.9056,25,6,-999,9,-999,-999,9,-999,-999,9,-999,-999,9,-999,13.4776,24.4883
49NZ20070724,   P01,77,1,35, X12041,2,20070819,1426,47.0025,-162.6202,5176,50.2,2,6.2819,2,6.27568,2,33.1213,2,33.1151,2,307.29,2,307.53,2,23.41,2,0.17,14.32,2,0.07,0.31,2,0.01,1.374,2,0.014,4.452,2,2.475,2,0.388,2,-999,9,2075.3,6,2228.2,2,7.7853,25,2,-999,9,-999,-999,9,-999,-999,9,-999,-999,9,-999,6.2777,26.0335
49NZ20070724,   P01,77,1,34, X12036,2,20070819,1426,47.0025,-162.6202,5176,99.6,2,6.3752,2,6.37651,2,33.3709,2,33.3703,2,294.45,2,295.84,2,21.46,2,0.17,14.1,2,0.07,0.44,2,0,1.249,2,0.013,4.403,2,2.469,2,0.382,2,-999,9,2081,2,2236.5,6,7.7845,25,2,-999,9,-999,-999,9,-999,-999,9,-999,-999,9,-999,6.3667,26.2191
49NZ20070724,   P01,77,1,33, X12033,2,20070819,1426,47.0025,-162.6202,5176,150.1,2,6.696,2,6.69545,2,33.6281,2,33.6264,2,278.28,2,280.18,2,22.35,2,0.17,15.31,2,0.08,0.02,2,0.01,1.244,2,0.013,4.147,6,2.326,6,0.335,6,-999,9,2094.6,2,2248.3,2,7.7738,25,6,-999,9,-999,-999,9,-999,-999,9,-999,-999,9,-999,6.6827,26.3807
49NZ20070724,   P01,77,1,32, X12038,2,20070819,1426,47.0025,-162.6202,5176,200.3,2,5.7563,2,5.75779,2,33.7723,2,33.7713,2,218.46,2,219,2,40.43,2,0.21,23.9,2,0.1,0.01,2,0.01,1.797,2,0.015,3.762,2,2.035,2,0.255,2,-999,9,2163.2,2,2267.3,2,7.645,25,2,-999,9,-999,-999,9,-999,-999,9,-999,-999,9,-999,5.7398,26.6147
49NZ20070724,   P01,77,1,31, X12003,2,20070819,1426,47.0025,-162.6202,5176,250.7,2,4.8062,2,4.80611,2,33.7968,2,33.7981,6,159.02,2,159.09,2,58.41,2,0.25,30.79,2,0.12,0.01,2,0.01,2.268,2,0.016,3.237,2,1.676,2,0.208,2,-999,9,2219.2,2,2280.2,2,7.5239,25,2,-999,9,-999,-999,9,-999,-999,9,-999,-999,9,-999,4.7874,26.7452
49NZ20070724,   P01,77,1,30, X12008,2,20070819,1426,47.0025,-162.6202,5176,280.9,2,4.6534,2,4.65375,2,33.8326,2,33.8331,2,137.87,2,138.08,2,64.45,2,0.26,32.86,2,0.12,0.01,2,0.01,2.407,2,0.016,2.85,2,1.44,2,0.172,2,-999,9,2237.1,2,2285.1,2,7.4847,25,2,-999,9,-999,-999,9,-999,-999,9,-999,-999,9,-999,4.6326,26.7907
49NZ20070724,   P01,77,1,29, X12035,2,20070819,1426,47.0025,-162.6202,5176,369.9,2,4.1574,2,4.15703,2,33.9104,2,33.9105,2,90.27,2,90.19,2,80.75,2,0.3,37.97,2,0.14,0.01,2,0.01,2.733,2,0.017,2.233,2,1.11,2,0.146,2,-999,9,2280,2,2298.2,2,7.3962,25,2,-999,9,-999,-999,9,-999,-999,9,-999,-999,9,-999,4.1311,26.9059
49NZ20070724,   P01,77,1,28, X12034,2,20070819,1426,47.0025,-162.6202,5176,471.1,2,3.962,2,3.96208,2,34.0365,2,34.0375,6,51,2,51.22,2,96.66,2,0.33,41.3,2,0.15,0.01,2,0.01,2.963,2,0.017,1.462,2,0.719,2,0.094,2,-999,9,2314.8,2,2317.7,2,7.3431,25,2,-999,9,-999,-999,9,-999,-999,9,-999,-999,9,-999,3.9288,27.027
49NZ20070724,   P01,77,1,27, X12049,2,20070819,1426,47.0025,-162.6202,5176,568.9,2,3.8928,2,3.89308,2,34.1443,2,34.1459,2,41.7,2,42.02,2,106.22,2,0.35,41.9,2,0.15,0.01,2,0.01,2.992,2,0.017,0.913,2,0.439,2,0.049,2,-999,9,2326.9,2,2332.8,2,7.3496,25,2,-999,9,-999,-999,9,-999,-999,9,-999,-999,9,-999,3.8524,27.1205
49NZ20070724,   P01,77,1,26, X12032,2,20070819,1426,47.0025,-162.6202,5176,668.4,2,3.7063,2,3.70787,2,34.2191,2,34.2173,2,35.29,2,34.85,2,115.23,2,0.37,42.48,2,0.15,0.01,2,0.01,3.046,2,0.018,0.554,6,0.266,6,0.037,6,-999,9,2341.9,6,2345.9,2,7.3452,25,2,-999,9,-999,-999,9,-999,-999,9,-999,-999,9,-999,3.6593,27.1993
49NZ20070724,   P01,77,1,25, X12043,2,20070819,1426,47.0025,-162.6202,5176,770.9,2,3.4042,2,3.4045,2,34.2712,2,34.2715,2,28.77,2,28.78,2,124.76,2,0.39,43.07,2,0.15,0.01,2,0.01,3.086,2,0.018,0.366,2,0.179,2,0.023,2,-999,9,2356.3,2,2357.4,6,7.339,25,2,-999,9,-999,-999,9,-999,-999,9,-999,-999,9,-999,3.3511,27.2707
49NZ20070724,   P01,77,1,24, X12030,2,20070819,1426,47.0025,-162.6202,5176,871.7,2,3.24,2,3.24011,2,34.32,2,34.3197,2,26.99,2,26.94,2,130.36,2,0.41,43.31,2,0.15,0.01,2,0.01,3.089,2,0.018,0.207,2,0.1,2,0.017,2,-999,9,2364.3,2,2366.2,2,7.3434,25,6,-999,9,-999,-999,9,-999,-999,9,-999,-999,9,-999,3.1803,27.3257
49NZ20070724,   P01,77,1,23, X12027,2,20070819,1426,47.0025,-162.6202,5176,971,2,3.0468,2,3.04666,2,34.3584,2,34.3577,6,25.2,2,25.24,2,136.8,2,0.42,43.76,2,0.16,0.01,2,0.01,3.125,2,0.018,0.134,2,0.065,2,0,2,-999,9,2370.6,2,2373.3,2,7.3436,25,2,-999,9,-999,-999,9,-999,-999,9,-999,-999,9,-999,2.981,27.3746
49NZ20070724,   P01,77,1,22, X12028,2,20070819,1426,47.0025,-162.6202,5176,1129.8,2,2.7723,2,2.77226,2,34.4127,2,34.4127,2,24.58,2,24.44,2,145.6,2,0.44,44.07,2,0.16,0.01,2,0.01,3.137,2,0.018,0.075,2,0.037,2,0,2,-999,9,2380.3,2,2384.8,2,7.3476,25,2,-999,9,-999,-999,9,-999,-999,9,-999,-999,9,-999,2.6966,27.4434
49NZ20070724,   P01,77,1,21, X12009,2,20070819,1426,47.0025,-162.6202,5176,1330.2,2,2.4937,2,2.49359,2,34.4643,2,34.4642,2,28.02,2,28.12,2,154.62,2,0.46,44.02,2,0.16,0.01,2,0.01,3.115,2,0.018,0.036,2,0.017,2,0,2,-999,9,2387.3,2,2395.2,2,7.3556,25,2,-999,9,-999,-999,9,-999,-999,9,-999,-999,9,-999,2.4053,27.5095
49NZ20070724,   P01,77,1,20, X12026,2,20070819,1426,47.0025,-162.6202,5176,1532,2,2.3222,2,2.32236,2,34.5059,2,34.5052,2,27,2,27.22,2,160.64,2,0.47,44.28,2,0.16,0.01,2,0.01,3.127,2,0.018,0.008,2,0.005,2,0,2,-999,9,2393.8,2,2403.3,2,7.3586,25,6,-999,9,-999,-999,9,-999,-999,9,-999,-999,9,-999,2.2198,27.5581
49NZ20070724,   P01,77,1,19, X12025,2,20070819,1426,47.0025,-162.6202,5176,1729.1,2,2.1456,2,2.14556,2,34.5454,2,34.5454,2,33.99,2,33.94,2,165.47,2,0.48,44.1,2,0.16,0.01,2,0.01,3.095,2,0.018,0,2,0,2,0,2,-999,9,2396.3,2,2409.9,2,7.3745,25,2,-999,9,-999,-999,9,-999,-999,9,-999,-999,9,-999,2.0296,27.6051
49NZ20070724,   P01,77,1,18, X12024,2,20070819,1426,47.0025,-162.6202,5176,1932,2,2.0074,2,2.00742,2,34.5745,2,34.5741,2,47.41,2,47.53,2,168.15,2,0.49,43.22,2,0.15,0.01,2,0.01,3.034,2,0.018,0.002,2,0,2,0,2,-999,9,2390.6,2,2413.9,2,7.4003,25,2,-999,9,-999,-999,9,-999,-999,9,-999,-999,9,-999,1.8767,27.6405
49NZ20070724,   P01,77,1,17, X12023,2,20070819,1426,47.0025,-162.6202,5176,2130.8,2,1.8872,2,1.88701,2,34.5978,2,34.5981,2,63.24,2,63.19,2,168.6,2,0.49,42.18,2,0.15,0.01,2,0.01,2.965,2,0.017,-999,9,-999,9,-999,9,-999,9,2382.6,2,2416.6,2,7.4315,25,2,-999,9,-999,-999,9,-999,-999,9,-999,-999,9,-999,1.7416,27.6695
49NZ20070724,   P01,77,1,16, X12022,2,20070819,1426,47.0025,-162.6202,5176,2329.3,2,1.7872,2,1.78724,2,34.6168,2,34.6169,2,75.98,2,75.75,2,168.34,2,0.49,41.29,2,0.15,0.01,2,0.01,2.907,2,0.017,-999,9,-999,9,-999,9,-999,9,2374.7,6,2418.5,2,7.454,25,2,-999,9,-999,-999,9,-999,-999,9,-999,-999,9,-999,1.6261,27.6934
49NZ20070724,   P01,77,1,15, X12021,2,20070819,1426,47.0025,-162.6202,5176,2530.7,2,1.7097,2,1.70963,2,34.6315,2,34.6315,6,85.68,2,85.41,2,168.6,2,0.49,40.74,2,0.15,0.01,2,0.01,2.863,2,0.017,-999,9,-999,9,-999,9,-999,9,2369.3,2,2420.6,6,7.4734,25,2,-999,9,-999,-999,9,-999,-999,9,-999,-999,9,-999,1.5322,27.7121
49NZ20070724,   P01,77,1,14, X12020,2,20070819,1426,47.0025,-162.6202,5176,2729.8,2,1.6395,2,1.63952,2,34.6443,2,34.6445,2,97.17,2,97.45,2,167.26,2,0.49,39.96,2,0.14,0.01,2,0.01,2.803,2,0.017,-999,9,-999,9,-999,9,-999,9,2362.7,2,2421.3,2,7.496,25,6,-999,9,-999,-999,9,-999,-999,9,-999,-999,9,-999,1.4452,27.7287
49NZ20070724,   P01,77,1,13, X12019,2,20070819,1426,47.0025,-162.6202,5176,2920.5,2,1.5928,2,1.59279,2,34.653,2,34.6531,2,106.77,2,106.8,2,165.79,2,0.48,39.39,2,0.14,0.01,2,0.01,2.763,2,0.017,-999,9,-999,9,-999,9,-999,9,2356.8,2,2422,2,7.5134,25,2,-999,9,-999,-999,9,-999,-999,9,-999,-999,9,-999,1.3816,27.7403
49NZ20070724,   P01,77,1,12, X12040,2,20070819,1426,47.0025,-162.6202,5176,3171.6,2,1.554,2,1.55403,2,34.6614,2,34.6611,2,116.48,2,116.52,2,163.56,2,0.48,38.75,2,0.14,0.01,2,0.01,2.707,2,0.017,-999,9,-999,9,-999,9,-999,9,2352.8,2,2422,2,7.5318,25,2,-999,9,-999,-999,9,-999,-999,9,-999,-999,9,-999,1.3195,27.7513
49NZ20070724,   P01,77,1,11, X12047,2,20070819,1426,47.0025,-162.6202,5176,3419.9,2,1.516,2,1.51591,2,34.6693,2,34.6696,2,126.57,2,126.59,2,161.32,2,0.47,38.07,2,0.14,0.01,2,0.01,2.657,2,0.017,-999,9,-999,9,-999,9,-999,9,2345.2,2,2422.8,2,7.5493,25,2,-999,9,-999,-999,9,-999,-999,9,-999,-999,9,-999,1.2577,27.7621
49NZ20070724,   P01,77,1,10, X12010,2,20070819,1426,47.0025,-162.6202,5176,3670.5,2,1.4915,2,1.49147,2,34.6756,2,34.6756,2,133.99,2,134.23,2,160.04,2,0.47,37.48,2,0.14,0.01,2,0.01,2.616,2,0.017,-999,9,-999,9,-999,9,-999,9,2340.1,2,2424,2,7.5647,25,2,-999,9,-999,-999,9,-999,-999,9,-999,-999,9,-999,1.208,27.7706
49NZ20070724,   P01,77,1,9, X12015,2,20070819,1426,47.0025,-162.6202,5176,3919.3,2,1.4846,2,1.48468,2,34.6798,2,34.6799,2,139.18,2,139.72,2,159.55,2,0.47,37.13,2,0.14,0.01,2,0.01,2.594,2,0.016,-999,9,-999,9,-999,9,-999,9,2335.6,3,2423.6,2,7.5747,25,2,-999,9,-999,-999,9,-999,-999,9,-999,-999,9,-999,1.1749,27.7762
49NZ20070724,   P01,77,1,8, X12046,2,20070819,1426,47.0025,-162.6202,5176,4170.2,2,1.4886,2,1.48847,2,34.683,2,34.6832,2,142.46,2,143.05,2,160.32,2,0.47,37.02,2,0.14,0.01,2,0.01,2.573,2,0.016,-999,9,-999,9,-999,9,-999,9,2336.3,6,2425.8,2,7.5828,25,2,-999,9,-999,-999,9,-999,-999,9,-999,-999,9,-999,1.1513,27.7804
49NZ20070724,   P01,77,1,7, X12044,2,20070819,1426,47.0025,-162.6202,5176,4420.6,2,1.502,2,1.50204,2,34.6853,2,34.6855,2,144.65,2,145.16,2,161.93,2,0.48,36.83,2,0.14,0,2,0.01,2.564,2,0.016,-999,9,-999,9,-999,9,-999,9,2335.5,2,2426.3,6,7.5879,25,2,-999,9,-999,-999,9,-999,-999,9,-999,-999,9,-999,1.1361,27.7833
49NZ20070724,   P01,77,1,6, X12048,2,20070819,1426,47.0025,-162.6202,5176,4670,2,1.5222,2,1.52224,2,34.6867,2,34.6869,2,145.77,2,146.3,2,163.23,2,0.48,36.8,2,0.14,0.01,2,0.01,2.558,2,0.016,-999,9,-999,9,-999,9,-999,9,2334.7,2,2427,2,7.5909,25,2,-999,9,-999,-999,9,-999,-999,9,-999,-999,9,-999,1.1267,27.7851
49NZ20070724,   P01,77,1,5, X12017,2,20070819,1426,47.0025,-162.6202,5176,4920.4,2,1.5454,2,1.54547,2,34.6875,2,34.6874,2,147.33,2,147.67,2,163.66,2,0.48,36.73,2,0.14,0.01,2,0.01,2.551,2,0.016,-999,9,-999,9,-999,9,-999,9,2333.4,2,2426.9,2,7.5929,25,2,-999,9,-999,-999,9,-999,-999,9,-999,-999,9,-999,1.1193,27.7863
49NZ20070724,   P01,77,1,4, X12928,2,20070819,1426,47.0025,-162.6202,5176,5169,2,1.5688,2,1.56868,2,34.6883,2,34.6889,2,149.45,2,149.57,2,162.63,2,0.48,36.59,2,0.14,0,2,0.01,2.542,2,0.016,-999,9,-999,9,-999,9,-999,9,2328.9,3,2425.8,2,7.594,25,2,-999,9,-999,-999,9,-999,-999,9,-999,-999,9,-999,1.1115,27.7874
49NZ20070724,   P01,77,1,3, X12931,9,20070819,1426,47.0025,-162.6202,5176,10.3,2,13.4809,2,13.47915,2,32.6642,2,-999,9,276.97,2,-999,9,-999,9,-999,-999,9,-999,-999,9,-999,-999,9,-999,-999,9,-999,9,-999,9,-999,9,-999,9,-999,9,-999,-999,9,-999,9,-999,-999,9,-999,-999,9,-999,-999,9,-999,13.4795,24.4886
49NZ20070724,   P01,77,1,2, X12930,9,20070819,1426,47.0025,-162.6202,5176,10,2,13.4745,2,13.47508,2,32.6642,2,-999,9,276.65,2,-999,9,-999,9,-999,-999,9,-999,-999,9,-999,-999,9,-999,-999,9,-999,9,-999,9,-999,9,-999,9,-999,9,-999,-999,9,-999,9,-999,-999,9,-999,-999,9,-999,-999,9,-999,13.4731,24.4899
49NZ20070724,   P01,77,1,1, X12929,2,20070819,1426,47.0025,-162.6202,5176,5267,2,1.5815,2,1.5815,2,34.6884,2,34.6889,6,149.51,2,149.4,2,163.33,2,0.48,36.58,2,0.14,0.01,2,0.01,2.551,2,0.016,-999,9,-999,9,-999,9,-999,9,2331.1,2,2425.4,2,7.5953,25,2,-999,9,-999,-999,9,-999,-999,9,-999,-999,9,-999,1.1115,27.7875