BOTTLE,20081214JAMSTECIORGC,,,,,,,,,,,,,,,,,,,,,,,,,,,,,,,,,,,,,,,,,,,,,,,,,,,,,,,,,,,,,,,,,
EXPOCODE,SECT,STNNBR,CASTNO,SAMPNO,BTLNBR,BTLNBR_FLAG_W,DATE,TIME,LATITUDE,LONGITUDE,DEPTH,CTDPRS,CTDPRS_FLAG_W,CTDTMP,CTDTMP_FLAG_W,SBE35,SBE35_FLAG_W,CTDSAL,CTDSAL_FLAG_W,SALNTY,SALNTY_FLAG_W,CTDOXY,CTDOXY_FLAG_W,OXYGEN,OXYGEN_FLAG_W,SILCAT,SILCAT_FLAG_W,SILUNC,NITRAT,NITRAT_FLAG_W,NRAUNC,NITRIT,NITRIT_FLAG_W,NRIUNC,PHSPHT,PHSPHT_FLAG_W,PHPUNC,CFC-11,CFC-11_FLAG_W,CFC-12,CFC-12_FLAG_W,CFC113,CFC113_FLAG_W,CCL4,CCL4_FLAG_W,TCARBN,TCARBN_FLAG_W,ALKALI,ALKALI_FLAG_W,PH_TOT,PH_TMP,PH_FLAG_W,DELC13,DELC13_FLAG_W,C13ERR,DELC14,DELC14_FLAG_W,C14ERR,CS-137,CS-137_FLAG_W,CS137ER,PLUTO,PLUTO_FLAG_W,PLUTOER,THETA,SIG0
,,,,,,,,UTC,DEG,DEG,M,DBAR,,ITS-90,,ITS-90,,PSS-78,,PSS-78,,UMOL/KG,,UMOL/KG,,UMOL/KG,,UMOL/KG,UMOL/KG,,UMOL/KG,UMOL/KG,,UMOL/KG,UMOL/KG,,UMOL/KG,PMOL/KG,,PMOL/KG,,PMOL/KG,,PMOL/KG,,UMOL/KG,,UMOL/KG,,,ITS-90,,/MILLE,,/MILLE,/MILLE,,/MILLE,BQ/CUM,,BQ/CUM,MBQ/CUM,,MBQ/CUM,DEG C,KG/CUM
49NZ20070724,   P01,10,1,0,-999,9,20070727,2008,41.8665,146.3133,6739,-999,9,-999,9,-999,9,-999,9,32.69,2,-999,9,-999,9,-999,9,-999,-999,9,-999,-999,9,-999,-999,9,-999,-999,9,-999,9,-999,9,-999,9,-999,9,-999,9,-999,-999,9,-999,9,-999,-999,9,-999,-999,9,-999,-999,9,-999,-999,-999
49NZ20070724,   P01,10,1,36, X12042,2,20070727,2008,41.8665,146.3133,6739,9.6,2,12.0938,2,12.19108,2,32.7139,2,32.7613,2,295.38,2,301.04,2,6.7,2,0.13,8.48,2,0.06,0.17,2,0.01,1.082,2,0.013,3.801,2,2.069,3,0.289,2,-999,9,2026.7,2,2237,2,7.9163,25,6,-999,1,-999,-999,1,-999,-999,9,-999,-999,9,-999,12.0926,24.7967
49NZ20070724,   P01,10,1,35, X12041,2,20070727,2008,41.8665,146.3133,6739,49.5,2,3.5574,2,3.55639,2,33.0189,2,33.0284,2,329.11,2,326.91,2,31.33,2,0.19,18.87,2,0.09,0.34,2,0,1.767,2,0.015,5.135,2,2.653,3,0.353,2,-999,9,2111.7,6,2247,2,7.7356,25,2,-999,1,-999,-999,1,-999,-999,9,-999,-999,9,-999,3.5543,26.2535
49NZ20070724,   P01,10,1,34, X12036,2,20070727,2008,41.8665,146.3133,6739,99.3,2,1.9414,2,1.94148,2,33.2356,2,33.2487,2,270.53,2,270.61,2,52.47,2,0.23,26.63,2,0.11,0.12,2,0.01,2.138,2,0.015,4.818,2,2.446,3,0.343,2,-999,9,2178.5,2,2259.4,6,7.5876,25,2,-999,1,-999,-999,1,-999,-999,9,-999,-999,9,-999,1.9365,26.5629
49NZ20070724,   P01,10,1,33, X12033,2,20070727,2008,41.8665,146.3133,6739,149.5,2,2.0139,2,2.01433,2,33.4226,2,33.4314,2,213.29,2,212.96,2,67.13,2,0.27,32.12,2,0.12,0.02,2,0.01,2.455,2,0.016,4.107,6,2.063,3,0.287,6,-999,9,2221.2,2,2270.9,2,7.493,25,6,-999,1,-999,-999,1,-999,-999,9,-999,-999,9,-999,2.0063,26.7075
49NZ20070724,   P01,10,1,32, X12038,2,20070727,2008,41.8665,146.3133,6739,200.2,2,2.0167,2,2.01674,2,33.5422,2,33.5461,2,181.16,2,181.4,2,78.71,2,0.29,33.78,2,0.13,0.02,2,0.01,2.582,2,0.016,3.632,2,1.817,3,0.255,2,-999,9,2248.2,2,2284,2,7.4527,25,2,-999,1,-999,-999,1,-999,-999,9,-999,-999,9,-999,2.0063,26.8033
49NZ20070724,   P01,10,1,31, X12003,2,20070727,2008,41.8665,146.3133,6739,252.4,2,2.3947,2,2.39329,2,33.6818,2,33.6808,6,138.21,2,138.73,2,87.88,2,0.31,36.79,2,0.14,0.03,2,0.01,2.752,2,0.017,3.056,2,1.51,3,0.216,2,-999,9,2277.5,2,2296.7,2,7.4011,25,2,-999,1,-999,-999,1,-999,-999,9,-999,-999,9,-999,2.3807,26.8856
49NZ20070724,   P01,10,1,30, X12008,2,20070727,2008,41.8665,146.3133,6739,300,2,2.7425,2,2.74292,2,33.8004,2,33.8081,2,100.57,2,98.81,2,96.21,2,0.33,39.5,2,0.14,0.02,2,0.01,2.903,2,0.017,2.46,2,1.19,3,0.185,2,-999,9,2300.7,2,2305.4,2,7.3573,25,2,-999,1,-999,-999,1,-999,-999,9,-999,-999,9,-999,2.7248,26.9516
49NZ20070724,   P01,10,1,29, X12035,2,20070727,2008,41.8665,146.3133,6739,400.8,2,3.0395,2,3.03938,2,33.9768,2,33.9904,2,59.36,2,57.32,2,109.21,2,0.36,41.89,2,0.15,0.01,2,0.01,3.044,2,0.018,1.623,2,0.778,3,0.122,2,-999,9,2331.6,2,2323.7,2,7.3218,25,2,-999,1,-999,-999,1,-999,-999,9,-999,-999,9,-999,3.0144,27.067
49NZ20070724,   P01,10,1,28, X12034,2,20070727,2008,41.8665,146.3133,6739,499.5,2,3.0691,2,3.06918,2,34.1116,2,34.1197,6,40.91,2,40.73,2,120.75,2,0.38,42.66,2,0.15,0.01,2,0.01,3.091,2,0.018,1.068,2,0.507,3,0.072,2,-999,9,2348.8,2,2341,2,7.3187,25,2,-999,1,-999,-999,1,-999,-999,9,-999,-999,9,-999,3.0372,27.1725
49NZ20070724,   P01,10,1,27, X12049,2,20070727,2008,41.8665,146.3133,6739,599.2,2,3.02,2,3.02071,2,34.2113,2,34.2148,2,34.54,2,34.71,2,129.94,2,0.4,42.98,2,0.15,0,2,0.01,3.102,2,0.018,0.724,2,0.336,3,0.054,2,-999,9,2358.4,2,2354.3,2,7.3256,25,2,-999,1,-999,-999,1,-999,-999,9,-999,-999,9,-999,2.9814,27.2572
49NZ20070724,   P01,10,1,26, X12032,2,20070727,2008,41.8665,146.3133,6739,700.1,2,2.8722,2,2.87166,2,34.2673,2,34.2697,2,34.98,2,35.05,2,136.05,2,0.42,42.95,2,0.15,0.01,2,0.01,3.098,2,0.018,0.593,6,0.276,3,0.044,6,-999,9,2365.7,6,2362.8,2,7.3346,25,2,-999,1,-999,-999,1,-999,-999,9,-999,-999,9,-999,2.8273,27.3156
49NZ20070724,   P01,10,1,25, X12043,2,20070727,2008,41.8665,146.3133,6739,799.5,2,2.696,2,2.69655,2,34.3175,2,34.3173,2,36.37,2,36.33,2,142.66,2,0.43,42.85,2,0.15,0,2,0.01,3.097,2,0.018,0.479,2,0.216,3,0.038,2,-999,9,2371.3,2,2371.8,6,7.3408,25,2,-999,1,-999,-999,1,-999,-999,9,-999,-999,9,-999,2.6452,27.3717
49NZ20070724,   P01,10,1,24, X12030,2,20070727,2008,41.8665,146.3133,6739,899.8,2,2.602,2,2.60215,2,34.3616,2,34.3602,2,36.97,2,36.91,2,146.12,2,0.44,42.83,2,0.15,0.01,2,0.01,3.085,2,0.018,0.365,2,0.163,3,0.024,2,-999,9,2373.5,2,2378.3,2,7.355,25,6,-999,1,-999,-999,1,-999,-999,9,-999,-999,9,-999,2.5447,27.4156
49NZ20070724,   P01,10,1,23, X12027,2,20070727,2008,41.8665,146.3133,6739,1000.7,2,2.4726,2,2.47278,2,34.3988,2,34.3985,6,39.96,2,40.32,2,150.59,2,0.45,42.72,2,0.15,0.01,2,0.01,3.078,2,0.018,0.304,2,0.137,3,0.024,2,-999,9,2376.9,2,2384.2,2,7.3609,25,2,-999,1,-999,-999,1,-999,-999,9,-999,-999,9,-999,2.409,27.4568
49NZ20070724,   P01,10,1,22, X12028,2,20070727,2008,41.8665,146.3133,6739,1200.8,2,2.3174,2,2.31747,2,34.4538,2,34.4547,2,45.7,2,45.92,2,155.43,2,0.46,42.48,2,0.15,0.01,2,0.01,3.055,2,0.018,0.198,2,0.087,3,0.026,2,-999,9,2379.1,2,2393.6,2,7.3806,25,2,-999,1,-999,-999,1,-999,-999,9,-999,-999,9,-999,2.2405,27.5148
49NZ20070724,   P01,10,1,21, X12009,2,20070727,2008,41.8665,146.3133,6739,1402.4,2,2.2458,2,2.24661,2,34.5127,2,34.5118,2,49.24,2,49.34,2,157.49,2,0.47,42.41,2,0.15,0,2,0.01,3.034,2,0.018,0.064,2,0.029,3,0.012,2,-999,9,2381.8,2,2401,2,7.3962,25,2,-999,1,-999,-999,1,-999,-999,9,-999,-999,9,-999,2.1544,27.5689
49NZ20070724,   P01,10,1,20, X12026,2,20070727,2008,41.8665,146.3133,6739,1601.2,2,2.132,2,2.13192,2,34.5497,2,34.5491,2,57.2,2,57.22,2,159.11,2,0.47,42.01,2,0.15,0,2,0.01,2.996,2,0.017,0.025,2,0.012,3,0.01,2,-999,9,2380.3,2,2407,2,7.4158,25,6,-999,1,-999,-999,1,-999,-999,9,-999,-999,9,-999,2.0264,27.6088
49NZ20070724,   P01,10,1,19, X12025,2,20070727,2008,41.8665,146.3133,6739,1801.9,2,2.0049,2,2.00478,2,34.5774,2,34.5771,2,67.1,2,67.13,2,160.38,2,0.47,41.53,2,0.15,0,2,0.01,2.954,2,0.017,0.014,2,0.008,3,0,2,-999,9,2375.1,2,2411.7,2,7.437,25,2,-999,1,-999,-999,1,-999,-999,9,-999,-999,9,-999,1.8849,27.6421
49NZ20070724,   P01,10,1,18, X12024,2,20070727,2008,41.8665,146.3133,6739,2002.8,2,1.8873,2,1.88727,2,34.603,2,34.6032,2,80.17,2,79.38,2,159.64,2,0.47,40.74,2,0.15,0,2,0.01,2.889,2,0.017,0,2,0,3,0,2,-999,9,2370,2,2414,2,7.4627,25,2,-999,1,-999,-999,1,-999,-999,9,-999,-999,9,-999,1.7524,27.6728
49NZ20070724,   P01,10,1,17, X12023,2,20070727,2008,41.8665,146.3133,6739,2199.5,2,1.7957,2,1.79573,2,34.6201,2,34.62,2,91.11,2,90.39,2,159.18,2,0.47,40.09,2,0.15,0,2,0.01,2.836,2,0.017,0,2,0,3,0,2,-999,9,2364.9,2,2416,2,7.4838,25,2,-999,1,-999,-999,1,-999,-999,9,-999,-999,9,-999,1.6457,27.6946
49NZ20070724,   P01,10,1,16, X12022,2,20070727,2008,41.8665,146.3133,6739,2399.6,2,1.7161,2,1.7161,2,34.6344,2,34.6342,2,101.67,2,100.97,2,157.63,2,0.47,39.46,2,0.14,0,2,0.01,2.787,2,0.017,-999,9,-999,9,-999,9,-999,9,2360.6,6,2418,2,7.505,25,2,-999,1,-999,-999,1,-999,-999,9,-999,-999,9,-999,1.5501,27.7131
49NZ20070724,   P01,10,1,15, X12021,2,20070727,2008,41.8665,146.3133,6739,2599.9,2,1.6499,2,1.64983,2,34.6461,2,34.6458,6,111.77,2,111.01,2,155.65,2,0.46,38.68,2,0.14,0,2,0.01,2.724,2,0.017,-999,9,-999,9,-999,9,-999,9,2352.7,2,2418.7,6,7.5219,25,2,-999,1,-999,-999,1,-999,-999,9,-999,-999,9,-999,1.4672,27.7285
49NZ20070724,   P01,10,1,14, X12020,2,20070727,2008,41.8665,146.3133,6739,2799.1,2,1.5981,2,1.59812,2,34.6552,2,34.6551,2,120.02,2,119.14,2,154.97,2,0.46,38.31,2,0.14,0,2,0.01,2.695,2,0.017,0,2,0,3,0,2,-999,9,2347.8,2,2418.9,2,7.5344,25,2,-999,1,-999,-999,1,-999,-999,9,-999,-999,9,-999,1.3982,27.7408
49NZ20070724,   P01,10,1,13, X12019,2,20070727,2008,41.8665,146.3133,6739,2999,2,1.5617,2,1.56165,2,34.6618,2,34.662,2,126.31,2,125.57,2,153.7,2,0.46,37.89,2,0.14,0,2,0.01,2.663,2,0.017,-999,9,-999,9,-999,9,-999,9,2346,2,2418.7,2,7.5477,25,2,-999,1,-999,-999,1,-999,-999,9,-999,-999,9,-999,1.3437,27.75
49NZ20070724,   P01,10,1,12, X12040,2,20070727,2008,41.8665,146.3133,6739,3249.3,2,1.5253,2,1.52512,2,34.6686,2,34.6688,2,133.21,2,132.79,2,151.69,2,0.45,37.26,2,0.14,0,2,0.01,2.618,2,0.017,-999,9,-999,9,-999,9,-999,9,2339,2,2419.6,2,7.5615,25,2,-999,1,-999,-999,1,-999,-999,9,-999,-999,9,-999,1.2838,27.7597
49NZ20070724,   P01,10,1,11, X12047,2,20070727,2008,41.8665,146.3133,6739,3499.3,2,1.4971,2,1.49708,2,34.6746,2,34.6746,2,139.47,2,139.25,2,150.57,2,0.45,36.98,2,0.14,0,2,0.01,2.594,2,0.016,0,2,0,3,0,2,-999,9,2334.4,2,2418.8,2,7.571,25,2,-999,1,-999,-999,1,-999,-999,9,-999,-999,9,-999,1.2311,27.7681
49NZ20070724,   P01,10,1,10, X12010,2,20070727,2008,41.8665,146.3133,6739,3749.4,2,1.4819,2,1.48191,2,34.6789,2,34.6788,2,144.4,2,144.22,2,149.24,2,0.45,36.64,2,0.14,0,2,0.01,2.571,2,0.016,-999,9,-999,9,-999,9,-999,9,2330.5,2,2418.7,2,7.5784,25,2,-999,1,-999,-999,1,-999,-999,9,-999,-999,9,-999,1.1904,27.7744
49NZ20070724,   P01,10,1,9, X12015,2,20070727,2008,41.8665,146.3133,6739,3998.6,2,1.4733,2,1.47336,2,34.6823,2,34.6826,2,148.8,2,148.77,2,147.87,2,0.44,36.32,2,0.13,0,2,0.01,2.55,2,0.016,-999,9,-999,9,-999,9,-999,9,2329.6,2,2417.9,2,7.5859,25,2,-999,1,-999,-999,1,-999,-999,9,-999,-999,9,-999,1.1553,27.7795
49NZ20070724,   P01,10,1,8, X12046,2,20070727,2008,41.8665,146.3133,6739,4249.4,2,1.4701,2,1.47017,2,34.6852,2,34.6853,6,152.29,2,152.18,2,147.24,2,0.44,36.12,2,0.13,0.01,2,0.01,2.528,2,0.016,0,2,0.001,2,0,2,-999,9,2325,6,2416.7,2,7.5897,25,2,-999,1,-999,-999,1,-999,-999,9,-999,-999,9,-999,1.1245,27.784
49NZ20070724,   P01,10,1,7, X12044,2,20070727,2008,41.8665,146.3133,6739,4498.7,2,1.4739,2,1.47407,2,34.6879,2,34.6879,2,155.72,2,155.72,2,145.75,2,0.44,35.83,2,0.13,0,2,0.01,2.507,2,0.016,-999,9,-999,9,-999,9,-999,9,2323.1,2,2416,6,7.5956,25,2,-999,1,-999,-999,1,-999,-999,9,-999,-999,9,-999,1.0999,27.7879
49NZ20070724,   P01,10,1,6, X12048,2,20070727,2008,41.8665,146.3133,6739,4749.7,2,1.4877,2,1.48788,2,34.6896,2,34.6897,2,157.87,2,158.07,2,144.87,2,0.44,35.69,2,0.13,0,2,0.01,2.495,2,0.016,-999,9,-999,9,-999,9,-999,9,2318.9,2,2415.5,2,7.6,25,6,-999,1,-999,-999,1,-999,-999,9,-999,-999,9,-999,1.0839,27.7903
49NZ20070724,   P01,10,1,5, X12017,2,20070727,2008,41.8665,146.3133,6739,4998.9,2,1.5079,2,1.50803,2,34.6906,2,34.6906,2,159.52,2,160.01,2,143.86,2,0.44,35.54,2,0.13,0,2,0.01,2.485,2,0.016,0.002,2,0.001,2,0,2,-999,9,2318.4,2,2415.1,2,7.6028,25,2,-999,1,-999,-999,1,-999,-999,9,-999,-999,9,-999,1.0735,27.7918
49NZ20070724,   P01,10,1,4, X12928,2,20070727,2008,41.8665,146.3133,6739,5249.7,2,1.5317,2,1.53186,2,34.6915,2,34.6917,2,160.66,2,160.97,2,143.28,2,0.43,35.44,2,0.13,0,2,0.01,2.478,2,0.016,-999,9,-999,9,-999,9,-999,9,2316.3,2,2414.8,2,7.6035,25,2,-999,1,-999,-999,1,-999,-999,9,-999,-999,9,-999,1.0656,27.7931
49NZ20070724,   P01,10,1,3, X12931,2,20070727,2008,41.8665,146.3133,6739,5499.9,2,1.5584,2,1.55853,2,34.6921,2,34.6919,2,161.41,2,161.69,2,143.03,2,0.43,35.38,2,0.13,0,2,0.01,2.474,2,0.016,0.004,2,0.003,2,0.005,2,-999,9,2316.3,2,2413.9,2,7.6034,25,2,-999,1,-999,-999,1,-999,-999,9,-999,-999,9,-999,1.0597,27.7939
49NZ20070724,   P01,10,1,2, X12930,2,20070727,2008,41.8665,146.3133,6739,5750.6,2,1.5908,2,1.5908,2,34.6923,2,34.6924,2,161.58,2,161.71,2,143.4,2,0.43,35.39,2,0.13,0,2,0.01,2.477,2,0.016,-999,9,-999,9,-999,9,-999,9,2316.8,2,2414,2,7.603,25,2,-999,1,-999,-999,1,-999,-999,9,-999,-999,9,-999,1.0584,27.7942
49NZ20070724,   P01,10,1,1, X12929,2,20070727,2008,41.8665,146.3133,6739,6501.6,2,1.6967,2,1.69674,2,34.6927,2,34.6922,6,162.19,2,161.73,2,143.5,2,0.43,35.33,2,0.13,0.01,2,0.01,2.477,2,0.016,0,2,0.002,2,0,2,-999,9,2318.4,2,2414.9,2,7.605,25,2,-999,1,-999,-999,1,-999,-999,9,-999,-999,9,-999,1.0583,27.7945