BOTTLE,20020809WHPSIObren
EXPOCODE,SECT_ID,STNNBR,CASTNO,SAMPNO,BTLNBR,BTLNBR_FLAG_W,DATE,TIME,LATITUDE,LONGITUDE,DEPTH,CTDPRS,CTDTMP,CTDSAL,CTDSAL_FLAG_W,SALNTY,SALNTY_FLAG_W,CTDOXY,CTDOXY_FLAG_W,OXYGEN,OXYGEN_FLAG_W,SILCAT,SILCAT_FLAG_W,NO2+NO3,NO2+NO3_FLAG_W,PHSPHT,PHSPHT_FLAG_W,CTDRAW,REVTMP,REVPRS,THETA
,,,,,,,,,,,,DBAR,ITS-90,PSS-78,,PSS-78,,UMOL/KG,,UMOL/KG,,UMOL/KG,,UMOL/KG,,UMOL/KG,,,DEG C,DBAR,ITS-90
     33KI109_1,  PRS2,     2,  9,     17,     17,2,19991109,1453, 22.7563,-157.9903, 4718,      4.9,  25.3186,  35.3165,2,  35.3205,2,    205.5,1,   -999.0,9,  -999.00,9,  -999.00,9,  -999.00,9,      5,-999.000,  -999.0, 25.3176
     33KI109_1,  PRS2,     2,  9,     16,     16,3,19991109,1453, 22.7563,-157.9903, 4718,     15.0,  25.3122,  35.3162,2,  35.3236,2,    205.3,1,   -999.0,9,  -999.00,9,  -999.00,9,  -999.00,9,     16,-999.000,  -999.0, 25.3090
     33KI109_1,  PRS2,     2,  9,     15,     15,2,19991109,1453, 22.7563,-157.9903, 4718,     45.0,  25.3272,  35.3174,2,  35.3162,2,    205.3,1,   -999.0,9,  -999.00,9,  -999.00,9,  -999.00,9,     45,-999.000,  -999.0, 25.3173
     33KI109_1,  PRS2,     2,  9,     14,     14,2,19991109,1453, 22.7563,-157.9903, 4718,     74.3,  23.9588,  35.2334,2,  35.2238,2,    215.7,1,   -999.0,9,  -999.00,9,  -999.00,9,  -999.00,9,     74,-999.000,  -999.0, 23.9432
     33KI109_1,  PRS2,     2,  9,     13,     13,2,19991109,1453, 22.7563,-157.9903, 4718,     99.4,  22.8530,  35.3039,2,  35.3072,2,    216.2,1,   -999.0,9,  -999.00,9,  -999.00,9,  -999.00,9,     99,-999.000,  -999.0, 22.8328
     33KI109_1,  PRS2,     2,  9,     12,     12,2,19991109,1453, 22.7563,-157.9903, 4718,    110.5,  22.1446,  35.2996,2,  35.3113,3,    210.0,1,   -999.0,9,  -999.00,9,  -999.00,9,  -999.00,9,    112,-999.000,  -999.0, 22.1226
     33KI109_1,  PRS2,     2,  9,     11,     11,2,19991109,1453, 22.7563,-157.9903, 4718,    119.2,  21.8066,  35.3015,2,  35.3380,4,    208.4,1,   -999.0,9,  -999.00,9,  -999.00,9,  -999.00,9,    120,-999.000,  -999.0, 21.7831
     33KI109_1,  PRS2,     2,  9,     10,     32,2,19991109,1453, 22.7563,-157.9903, 4718,    130.2,  21.3819,  35.2672,2,  35.2736,2,    199.8,1,   -999.0,9,  -999.00,9,  -999.00,9,  -999.00,9,    130,-999.000,  -999.0, 21.3566
     33KI109_1,  PRS2,     2,  9,      9,      3,2,19991109,1453, 22.7563,-157.9903, 4718,    149.7,  20.9167,  35.2492,2,  35.2501,2,    199.8,1,   -999.0,9,  -999.00,9,  -999.00,9,  -999.00,9,    150,-999.000,  -999.0, 20.8881
     33KI109_1,  PRS2,     2,  9,      8,     29,2,19991109,1453, 22.7563,-157.9903, 4718,    159.1,  20.6072,  35.2300,2,  35.2330,2,    198.1,1,   -999.0,9,  -999.00,9,  -999.00,9,  -999.00,9,    159,-999.000,  -999.0, 20.5772
     33KI109_1,  PRS2,     2,  9,      7,     28,2,19991109,1453, 22.7563,-157.9903, 4718,    179.5,  19.5046,  35.1341,2,  35.1262,2,    199.3,1,   -999.0,9,  -999.00,9,  -999.00,9,  -999.00,9,    181,-999.000,  -999.0, 19.4719
     33KI109_1,  PRS2,     2,  9,      6,      7,2,19991109,1453, 22.7563,-157.9903, 4718,    200.8,  18.4883,  34.9903,2,  34.9925,2,    199.7,1,   -999.0,9,  -999.00,9,  -999.00,9,  -999.00,9,    201,-999.000,  -999.0, 18.4532
     33KI109_1,  PRS2,     2,  9,      5,     38,2,19991109,1453, 22.7563,-157.9903, 4718,    399.8,  10.6509,  34.2059,2,  34.2064,2,    201.9,1,   -999.0,9,  -999.00,9,  -999.00,9,  -999.00,9,    399,-999.000,  -999.0, 10.6026
     33KI109_1,  PRS2,     2,  9,      4,     36,2,19991109,1453, 22.7563,-157.9903, 4718,    530.3,   7.0827,  34.0265,2,  34.0265,2,    128.4,1,   -999.0,9,  -999.00,9,  -999.00,9,  -999.00,9,    530,-999.000,  -999.0,  7.0323
     33KI109_1,  PRS2,     2,  9,      3,     35,2,19991109,1453, 22.7563,-157.9903, 4718,    599.6,   5.7909,  34.0566,2,  34.0567,2,     76.5,1,   -999.0,9,  -999.00,9,  -999.00,9,  -999.00,9,    599,-999.000,  -999.0,  5.7395
     33KI109_1,  PRS2,     2,  9,      2,     34,2,19991109,1453, 22.7563,-157.9903, 4718,    799.5,   4.5476,  34.3211,2,  34.3211,2,     30.2,1,   -999.0,9,  -999.00,9,  -999.00,9,  -999.00,9,    800,-999.000,  -999.0,  4.4851
     33KI109_1,  PRS2,     2,  9,      1,     33,2,19991109,1453, 22.7563,-157.9903, 4718,   1020.1,   3.8801,  34.4837,2,  34.4819,2,     44.4,1,   -999.0,9,  -999.00,9,  -999.00,9,  -999.00,9,   1019,-999.000,  -999.0,  3.8037
     33KI109_1,  PRS2,     2, 10,     13,     13,2,19991109,1758, 22.7727,-157.9812, 4716,      4.4,  25.2992,  35.3107,2,  35.3440,4,    205.8,1,   -999.0,9,  -999.00,9,  -999.00,9,  -999.00,9,      5,-999.000,  -999.0, 25.2982
     33KI109_1,  PRS2,     2, 10,     12,     12,2,19991109,1758, 22.7727,-157.9812, 4716,      4.5,  25.2993,  35.3107,2,  35.3379,4,    205.9,1,   -999.0,9,  -999.00,9,  -999.00,9,  -999.00,9,      5,-999.000,  -999.0, 25.2984
     33KI109_1,  PRS2,     2, 10,     11,     11,2,19991109,1758, 22.7727,-157.9812, 4716,     24.3,  25.3008,  35.3102,2,  35.3115,2,    206.2,1,   -999.0,9,  -999.00,9,  -999.00,9,  -999.00,9,     25,-999.000,  -999.0, 25.2954
     33KI109_1,  PRS2,     2, 10,     10,     32,2,19991109,1758, 22.7727,-157.9812, 4716,     24.3,  25.3014,  35.3101,2,  35.3094,2,    206.3,1,   -999.0,9,  -999.00,9,  -999.00,9,  -999.00,9,     25,-999.000,  -999.0, 25.2961
     33KI109_1,  PRS2,     2, 10,      8,     29,2,19991109,1758, 22.7727,-157.9812, 4716,     44.2,  25.3015,  35.3099,2,  35.3117,2,    206.3,1,   -999.0,9,  -999.00,9,  -999.00,9,  -999.00,9,     45,-999.000,  -999.0, 25.2919
     33KI109_1,  PRS2,     2, 10,      9,      3,2,19991109,1758, 22.7727,-157.9812, 4716,     44.4,  25.3006,  35.3098,2,  35.3401,4,    206.3,1,   -999.0,9,  -999.00,9,  -999.00,9,  -999.00,9,     44,-999.000,  -999.0, 25.2909
     33KI109_1,  PRS2,     2, 10,      7,     28,2,19991109,1758, 22.7727,-157.9812, 4716,     74.0,  23.4982,  35.2893,2,  35.3176,4,    216.1,1,   -999.0,9,  -999.00,9,  -999.00,9,  -999.00,9,     75,-999.000,  -999.0, 23.4829
     33KI109_1,  PRS2,     2, 10,      6,      7,2,19991109,1758, 22.7727,-157.9812, 4716,     99.1,  22.8212,  35.3085,2,  35.3167,2,    219.2,1,   -999.0,9,  -999.00,9,  -999.00,9,  -999.00,9,     99,-999.000,  -999.0, 22.8011
     33KI109_1,  PRS2,     2, 10,      5,     38,2,19991109,1758, 22.7727,-157.9812, 4716,    124.1,  21.3054,  35.2599,2,  35.2597,2,    202.2,1,   -999.0,9,  -999.00,9,  -999.00,9,  -999.00,9,    125,-999.000,  -999.0, 21.2814
     33KI109_1,  PRS2,     2, 10,      4,     36,2,19991109,1758, 22.7727,-157.9812, 4716,    149.2,  20.6313,  35.2305,2,  35.2426,2,    198.4,1,   -999.0,9,  -999.00,9,  -999.00,9,  -999.00,9,    149,-999.000,  -999.0, 20.6031
     33KI109_1,  PRS2,     2, 10,      3,     35,2,19991109,1758, 22.7727,-157.9812, 4716,    176.1,  18.6654,  35.0173,2,  35.0452,3,    199.9,1,   -999.0,9,  -999.00,9,  -999.00,9,  -999.00,9,    178,-999.000,  -999.0, 18.6344
     33KI109_1,  PRS2,     2, 10,      2,     34,2,19991109,1758, 22.7727,-157.9812, 4716,    539.7,   6.5746,  34.0274,2,  34.0285,2,    115.7,1,   -999.0,9,  -999.00,9,  -999.00,9,  -999.00,9,    541,-999.000,  -999.0,  6.5254
     33KI109_1,  PRS2,     2, 10,      1,     33,2,19991109,1758, 22.7727,-157.9812, 4716,   1020.3,   3.8757,  34.4851,2,  34.4859,2,     44.1,1,   -999.0,9,  -999.00,9,  -999.00,9,  -999.00,9,   1021,-999.000,  -999.0,  3.7993
     33KI109_1,  PRS2,     2, 11,     16,     16,2,19991109,2057, 22.7873,-157.9682, 4700,      4.2,  25.4563,  35.3596,2,  35.3578,2,    204.9,1,   -999.0,9,  -999.00,9,  -999.00,9,  -999.00,9,      4,-999.000,  -999.0, 25.4553
     33KI109_1,  PRS2,     2, 11,     17,     17,2,19991109,2057, 22.7873,-157.9682, 4700,      4.3,  25.4541,  35.3593,2,  35.3610,2,    204.9,1,   -999.0,9,  -999.00,9,  -999.00,9,  -999.00,9,      5,-999.000,  -999.0, 25.4532
     33KI109_1,  PRS2,     2, 11,     14,     14,2,19991109,2057, 22.7873,-157.9682, 4700,     24.7,  25.4355,  35.3567,2,  35.3604,2,    204.8,1,   -999.0,9,  -999.00,9,  -999.00,9,  -999.00,9,     26,-999.000,  -999.0, 25.4301
     33KI109_1,  PRS2,     2, 11,     15,     15,2,19991109,2057, 22.7873,-157.9682, 4700,     24.9,  25.4356,  35.3568,2,  35.3548,2,    204.8,1,   -999.0,9,  -999.00,9,  -999.00,9,  -999.00,9,     25,-999.000,  -999.0, 25.4302
     33KI109_1,  PRS2,     2, 11,     13,     13,2,19991109,2057, 22.7873,-157.9682, 4700,     34.9,  25.4341,  35.3562,2,  35.3569,2,    205.8,1,   -999.0,9,  -999.00,9,  -999.00,9,  -999.00,9,     36,-999.000,  -999.0, 25.4264
     33KI109_1,  PRS2,     2, 11,     12,     12,2,19991109,2057, 22.7873,-157.9682, 4700,     44.4,  25.4226,  35.3519,2,  35.3831,4,    206.0,1,   -999.0,9,  -999.00,9,  -999.00,9,  -999.00,9,     45,-999.000,  -999.0, 25.4128
     33KI109_1,  PRS2,     2, 11,     11,     11,3,19991109,2057, 22.7873,-157.9682, 4700,     44.4,  25.4211,  35.3517,2,  35.3545,2,    206.1,1,   -999.0,9,  -999.00,9,  -999.00,9,  -999.00,9,     45,-999.000,  -999.0, 25.4114
     33KI109_1,  PRS2,     2, 11,      9,      3,2,19991109,2057, 22.7873,-157.9682, 4700,     75.2,  23.7439,  35.2933,2,  35.2879,2,    218.4,1,   -999.0,9,  -999.00,9,  -999.00,9,  -999.00,9,     76,-999.000,  -999.0, 23.7281
     33KI109_1,  PRS2,     2, 11,     10,     32,2,19991109,2057, 22.7873,-157.9682, 4700,     75.4,  23.7130,  35.2933,2,  35.2933,2,    218.6,1,   -999.0,9,  -999.00,9,  -999.00,9,  -999.00,9,     76,-999.000,  -999.0, 23.6973
     33KI109_1,  PRS2,     2, 11,      8,     29,2,19991109,2057, 22.7873,-157.9682, 4700,     99.7,  22.8759,  35.3050,2,  35.3045,2,    218.1,1,   -999.0,9,  -999.00,9,  -999.00,9,  -999.00,9,    101,-999.000,  -999.0, 22.8556
     33KI109_1,  PRS2,     2, 11,      7,     28,2,19991109,2057, 22.7873,-157.9682, 4700,    124.4,  21.2298,  35.2570,2,  35.2572,2,    200.7,1,   -999.0,9,  -999.00,9,  -999.00,9,  -999.00,9,    125,-999.000,  -999.0, 21.2058
     33KI109_1,  PRS2,     2, 11,      6,      7,2,19991109,2057, 22.7873,-157.9682, 4700,    150.0,  20.3076,  35.2371,2,  35.2541,2,    199.2,1,   -999.0,9,  -999.00,9,  -999.00,9,  -999.00,9,    150,-999.000,  -999.0, 20.2796
     33KI109_1,  PRS2,     2, 11,      5,     38,2,19991109,2057, 22.7873,-157.9682, 4700,    176.2,  18.8260,  35.0396,2,  35.0603,2,    199.9,1,   -999.0,9,  -999.00,9,  -999.00,9,  -999.00,9,    176,-999.000,  -999.0, 18.7948
     33KI109_1,  PRS2,     2, 11,      4,     36,2,19991109,2057, 22.7873,-157.9682, 4700,    248.4,  14.2019,  34.4574,2,  34.4572,2,    206.6,1,   -999.0,9,  -999.00,9,  -999.00,9,  -999.00,9,    249,-999.000,  -999.0, 14.1658
     33KI109_1,  PRS2,     2, 11,      3,     35,2,19991109,2057, 22.7873,-157.9682, 4700,    501.8,   7.2023,  34.0366,2,  34.0373,2,    132.3,1,   -999.0,9,  -999.00,9,  -999.00,9,  -999.00,9,    502,-999.000,  -999.0,  7.1542
     33KI109_1,  PRS2,     2, 11,      2,     34,2,19991109,2057, 22.7873,-157.9682, 4700,    750.3,   4.7929,  34.2534,2,  34.2915,4,     28.7,1,   -999.0,9,  -999.00,9,  -999.00,9,  -999.00,9,    751,-999.000,  -999.0,  4.7333
     33KI109_1,  PRS2,     2, 11,      1,     33,2,19991109,2057, 22.7873,-157.9682, 4700,   1021.5,   3.8344,  34.4846,2,  34.4877,2,     44.7,1,   -999.0,9,  -999.00,9,  -999.00,9,  -999.00,9,   1022,-999.000,  -999.0,  3.7583
     33KI109_1,  PRS2,     2, 12,      4,     36,2,19991109,2359, 22.7625,-157.9785, 4710,      5.4,  25.3858,  35.3252,2,  35.3262,2,    206.6,1,   -999.0,9,  -999.00,9,  -999.00,9,  -999.00,9,      5,-999.000,  -999.0, 25.3847
     33KI109_1,  PRS2,     2, 12,      3,     35,2,19991109,2359, 22.7625,-157.9785, 4710,     99.7,  22.2981,  35.2858,2,  35.2879,2,    209.0,1,   -999.0,9,  -999.00,9,  -999.00,9,  -999.00,9,    100,-999.000,  -999.0, 22.2782
     33KI109_1,  PRS2,     2, 12,      2,     34,2,19991109,2359, 22.7625,-157.9785, 4710,    524.8,   6.8539,  34.0254,2,  34.0540,4,    124.7,1,   -999.0,9,  -999.00,9,  -999.00,9,  -999.00,9,    525,-999.000,  -999.0,  6.8050
     33KI109_1,  PRS2,     2, 12,      1,     33,2,19991109,2359, 22.7625,-157.9785, 4710,   1019.4,   3.8835,  34.4683,2,  34.4657,2,     40.9,1,   -999.0,9,  -999.00,9,  -999.00,9,  -999.00,9,   1021,-999.000,  -999.0,  3.8072
     33KI109_1,  PRS2,     2, 13,      4,     36,2,19991110,0257, 22.7515,-158.0030, 4723,      4.8,  25.3615,  35.3198,2,  35.3195,2,    205.1,1,   -999.0,9,  -999.00,9,  -999.00,9,  -999.00,9,      5,-999.000,  -999.0, 25.3605
     33KI109_1,  PRS2,     2, 13,      3,     35,2,19991110,0257, 22.7515,-158.0030, 4723,     99.9,  22.4801,  35.2896,2,  35.2928,2,    212.4,1,   -999.0,9,  -999.00,9,  -999.00,9,  -999.00,9,    100,-999.000,  -999.0, 22.4600
     33KI109_1,  PRS2,     2, 13,      2,     34,2,19991110,0257, 22.7515,-158.0030, 4723,    553.3,   6.6203,  34.0259,2,  34.0256,2,    113.3,1,   -999.0,9,  -999.00,9,  -999.00,9,  -999.00,9,    554,-999.000,  -999.0,  6.5696
     33KI109_1,  PRS2,     2, 13,      1,     33,2,19991110,0257, 22.7515,-158.0030, 4723,   1020.5,   3.8629,  34.4861,2,  34.4841,2,     44.9,1,   -999.0,9,  -999.00,9,  -999.00,9,  -999.00,9,   1021,-999.000,  -999.0,  3.7866
     33KI109_1,  PRS2,     2, 14,     10,     32,2,19991110,0556, 22.7512,-157.9787, 4712,      4.9,  25.3131,  35.3194,2,  35.3172,2,    205.5,1,   -999.0,9,  -999.00,9,  -999.00,9,  -999.00,9,      5,-999.000,  -999.0, 25.3121
     33KI109_1,  PRS2,     2, 14,      9,      3,2,19991110,0556, 22.7512,-157.9787, 4712,     25.2,  25.3144,  35.3193,2,  35.3185,2,    205.8,1,   -999.0,9,  -999.00,9,  -999.00,9,  -999.00,9,     26,-999.000,  -999.0, 25.3089
     33KI109_1,  PRS2,     2, 14,      8,     29,3,19991110,0556, 22.7512,-157.9787, 4712,     44.6,  25.2981,  35.3199,2,  35.3194,2,    206.7,1,   -999.0,9,  -999.00,9,  -999.00,9,  -999.00,9,     44,-999.000,  -999.0, 25.2883
     33KI109_1,  PRS2,     2, 14,      7,     28,2,19991110,0556, 22.7512,-157.9787, 4712,     74.9,  25.2327,  35.3219,2,  35.3209,2,    207.1,1,   -999.0,9,  -999.00,9,  -999.00,9,  -999.00,9,     75,-999.000,  -999.0, 25.2163
     33KI109_1,  PRS2,     2, 14,      6,      7,2,19991110,0556, 22.7512,-157.9787, 4712,    110.1,  22.0505,  35.2759,2,  35.3432,4,    206.4,1,   -999.0,9,  -999.00,9,  -999.00,9,  -999.00,9,    110,-999.000,  -999.0, 22.0287
     33KI109_1,  PRS2,     2, 14,      5,     38,2,19991110,0556, 22.7512,-157.9787, 4712,    124.7,  21.3165,  35.2591,2,  35.3195,4,    200.9,1,   -999.0,9,  -999.00,9,  -999.00,9,  -999.00,9,    126,-999.000,  -999.0, 21.2923
     33KI109_1,  PRS2,     2, 14,      4,     36,2,19991110,0556, 22.7512,-157.9787, 4712,    150.0,  20.3816,  35.2309,2,  35.2325,2,    198.0,1,   -999.0,9,  -999.00,9,  -999.00,9,  -999.00,9,    150,-999.000,  -999.0, 20.3534
     33KI109_1,  PRS2,     2, 14,      3,     35,2,19991110,0556, 22.7512,-157.9787, 4712,    175.3,  19.2897,  35.1021,2,  35.1023,2,    200.1,1,   -999.0,9,  -999.00,9,  -999.00,9,  -999.00,9,    176,-999.000,  -999.0, 19.2580
     33KI109_1,  PRS2,     2, 14,      2,     34,2,19991110,0556, 22.7512,-157.9787, 4712,    548.6,   6.6158,  34.0261,2,  34.0419,4,    114.4,1,   -999.0,9,  -999.00,9,  -999.00,9,  -999.00,9,    549,-999.000,  -999.0,  6.5655
     33KI109_1,  PRS2,     2, 14,      1,     33,2,19991110,0556, 22.7512,-157.9787, 4712,   1019.7,   3.9085,  34.4742,2,  34.4757,2,     41.4,1,   -999.0,9,  -999.00,9,  -999.00,9,  -999.00,9,   1020,-999.000,  -999.0,  3.8320
     33KI109_1,  PRS2,     2, 15,     17,     17,2,19991110,0900, 22.7492,-158.0148, 4725,      5.0,  25.2891,  35.3178,2,  35.3194,2,    205.9,2,    207.0,2,  -999.00,9,  -999.00,9,  -999.00,9,      5,-999.000,  -999.0, 25.2880
     33KI109_1,  PRS2,     2, 15,     16,     16,2,19991110,0900, 22.7492,-158.0148, 4725,     90.8,  22.2261,  35.2796,2,  35.2832,2,    206.5,2,    209.2,2,  -999.00,9,  -999.00,9,  -999.00,9,     92,-999.000,  -999.0, 22.2080
     33KI109_1,  PRS2,     2, 15,     15,     15,2,19991110,0900, 22.7492,-158.0148, 4725,    519.8,   6.6801,  34.0262,2,  34.0246,2,    114.4,2,    116.9,2,  -999.00,9,  -999.00,9,  -999.00,9,    521,-999.000,  -999.0,  6.6323
     33KI109_1,  PRS2,     2, 15,     14,     14,2,19991110,0900, 22.7492,-158.0148, 4725,    850.9,   4.4709,  34.3528,2,  34.3491,2,     30.5,2,     29.0,2,  -999.00,9,  -999.00,9,  -999.00,9,    850,-999.000,  -999.0,  4.4046
     33KI109_1,  PRS2,     2, 15,     13,     13,2,19991110,0900, 22.7492,-158.0148, 4725,    999.7,   3.9824,  34.4675,2,  34.4671,2,     42.5,2,     40.8,2,  -999.00,9,  -999.00,9,  -999.00,9,   1000,-999.000,  -999.0,  3.9070
     33KI109_1,  PRS2,     2, 15,     12,     12,2,19991110,0900, 22.7492,-158.0148, 4725,   2000.5,   2.0742,  34.6220,2,  34.6221,2,     86.4,2,     87.9,2,  -999.00,9,  -999.00,9,  -999.00,9,   2001,-999.000,  -999.0,  1.9366
     33KI109_1,  PRS2,     2, 15,     11,     11,2,19991110,0900, 22.7492,-158.0148, 4725,   3001.1,   1.5445,  34.6719,2,  34.6716,2,    124.9,2,    125.3,2,  -999.00,9,  -999.00,9,  -999.00,9,   3001,-999.000,  -999.0,  1.3266
     33KI109_1,  PRS2,     2, 15,     10,     32,2,19991110,0900, 22.7492,-158.0148, 4725,   3494.8,   1.4750,  34.6817,2,  34.6776,3,    138.4,3,   -999.0,5,  -999.00,9,  -999.00,9,  -999.00,9,   3494,-999.000,  -999.0,  1.2100
     33KI109_1,  PRS2,     2, 15,      9,      3,2,19991110,0900, 22.7492,-158.0148, 4725,   3495.2,   1.4748,  34.6817,2,  34.6870,4,    138.5,3,   -999.0,5,  -999.00,9,  -999.00,9,  -999.00,9,   3495,-999.000,  -999.0,  1.2098
     33KI109_1,  PRS2,     2, 15,      8,     29,2,19991110,0900, 22.7492,-158.0148, 4725,   3495.4,   1.4746,  34.6818,2,  34.6830,2,    138.7,2,   -999.0,5,  -999.00,9,  -999.00,9,  -999.00,9,   3496,-999.000,  -999.0,  1.2096
     33KI109_1,  PRS2,     2, 15,      7,     28,2,19991110,0900, 22.7492,-158.0148, 4725,   3495.5,   1.4746,  34.6817,2,  34.6816,2,    138.8,2,   -999.0,5,  -999.00,9,  -999.00,9,  -999.00,9,   3496,-999.000,  -999.0,  1.2096
     33KI109_1,  PRS2,     2, 15,      6,      7,2,19991110,0900, 22.7492,-158.0148, 4725,   3495.6,   1.4746,  34.6817,2,  34.6827,2,    138.9,2,   -999.0,5,  -999.00,9,  -999.00,9,  -999.00,9,   3496,-999.000,  -999.0,  1.2095
     33KI109_1,  PRS2,     2, 15,      5,     38,2,19991110,0900, 22.7492,-158.0148, 4725,   3495.6,   1.4745,  34.6818,2,  34.6811,2,    138.8,2,   -999.0,5,  -999.00,9,  -999.00,9,  -999.00,9,   3496,-999.000,  -999.0,  1.2095
     33KI109_1,  PRS2,     2, 15,      4,     36,2,19991110,0900, 22.7492,-158.0148, 4725,   3495.9,   1.4745,  34.6819,2,  34.6869,4,    138.8,3,   -999.0,5,  -999.00,9,  -999.00,9,  -999.00,9,   3497,-999.000,  -999.0,  1.2094
     33KI109_1,  PRS2,     2, 15,      3,     35,2,19991110,0900, 22.7492,-158.0148, 4725,   3496.3,   1.4745,  34.6818,2,  34.6825,2,    138.7,2,    138.2,2,  -999.00,9,  -999.00,9,  -999.00,9,   3497,-999.000,  -999.0,  1.2094
     33KI109_1,  PRS2,     2, 15,      2,     34,2,19991110,0900, 22.7492,-158.0148, 4725,   3998.1,   1.4539,  34.6880,2,  34.6869,2,    149.7,2,    148.2,2,  -999.00,9,  -999.00,9,  -999.00,9,   3998,-999.000,  -999.0,  1.1365
     33KI109_1,  PRS2,     2, 15,      1,     33,2,19991110,0900, 22.7492,-158.0148, 4725,   4805.7,   1.5097,  34.6909,2,  34.6909,2,    157.0,2,    154.0,2,  -999.00,9,  -999.00,9,  -999.00,9,   4807,-999.000,  -999.0,  1.0985