BOTTLE,20020809WHPSIObren
EXPOCODE,SECT_ID,STNNBR,CASTNO,SAMPNO,BTLNBR,BTLNBR_FLAG_W,DATE,TIME,LATITUDE,LONGITUDE,DEPTH,CTDPRS,CTDTMP,CTDSAL,CTDSAL_FLAG_W,SALNTY,SALNTY_FLAG_W,CTDOXY,CTDOXY_FLAG_W,OXYGEN,OXYGEN_FLAG_W,SILCAT,SILCAT_FLAG_W,NO2+NO3,NO2+NO3_FLAG_W,PHSPHT,PHSPHT_FLAG_W,CTDRAW,REVTMP,REVPRS,THETA
,,,,,,,,,,,,DBAR,ITS-90,PSS-78,,PSS-78,,UMOL/KG,,UMOL/KG,,UMOL/KG,,UMOL/KG,,UMOL/KG,,,DEG C,DBAR,ITS-90
     33KI109_1,  PRS2,     2,  4,     12,     12,2,19991108,2356, 22.7498,-157.9787, 4717,      5.1,  25.3974,  35.3199,2,  35.3187,2,    204.5,1,   -999.0,9,  -999.00,9,  -999.00,9,  -999.00,9,      6,-999.000,  -999.0, 25.3963
     33KI109_1,  PRS2,     2,  4,     11,     11,2,19991108,2356, 22.7498,-157.9787, 4717,     24.6,  25.3890,  35.3195,2,  35.3180,2,    206.5,1,   -999.0,9,  -999.00,9,  -999.00,9,  -999.00,9,     24,-999.000,  -999.0, 25.3836
     33KI109_1,  PRS2,     2,  4,     10,     32,2,19991108,2356, 22.7498,-157.9787, 4717,     45.0,  25.3217,  35.3197,2,  35.3180,2,    207.2,1,   -999.0,9,  -999.00,9,  -999.00,9,  -999.00,9,     45,-999.000,  -999.0, 25.3118
     33KI109_1,  PRS2,     2,  4,      9,      3,2,19991108,2356, 22.7498,-157.9787, 4717,     75.2,  23.6459,  35.2986,2,  35.2942,2,    218.3,1,   -999.0,9,  -999.00,9,  -999.00,9,  -999.00,9,     76,-999.000,  -999.0, 23.6302
     33KI109_1,  PRS2,     2,  4,      8,     29,2,19991108,2356, 22.7498,-157.9787, 4717,    100.7,  21.7829,  35.2728,2,  35.2681,2,    201.3,1,   -999.0,9,  -999.00,9,  -999.00,9,  -999.00,9,    101,-999.000,  -999.0, 21.7631
     33KI109_1,  PRS2,     2,  4,      7,     28,2,19991108,2356, 22.7498,-157.9787, 4717,    126.0,  20.8066,  35.2462,2,  35.2430,2,    199.7,1,   -999.0,9,  -999.00,9,  -999.00,9,  -999.00,9,    126,-999.000,  -999.0, 20.7826
     33KI109_1,  PRS2,     2,  4,      6,      7,2,19991108,2356, 22.7498,-157.9787, 4717,    149.8,  20.2398,  35.2165,2,  35.2155,2,    200.0,1,   -999.0,9,  -999.00,9,  -999.00,9,  -999.00,9,    150,-999.000,  -999.0, 20.2119
     33KI109_1,  PRS2,     2,  4,      5,     38,2,19991108,2356, 22.7498,-157.9787, 4717,    175.1,  19.2508,  35.0960,2,  35.0950,2,    200.3,1,   -999.0,9,  -999.00,9,  -999.00,9,  -999.00,9,    175,-999.000,  -999.0, 19.2193
     33KI109_1,  PRS2,     2,  4,      4,     36,2,19991108,2356, 22.7498,-157.9787, 4717,    252.0,  15.2658,  34.5612,2,  34.5617,2,    202.2,1,   -999.0,9,  -999.00,9,  -999.00,9,  -999.00,9,    253,-999.000,  -999.0, 15.2272
     33KI109_1,  PRS2,     2,  4,      3,     35,2,19991108,2356, 22.7498,-157.9787, 4717,    500.1,   7.4204,  34.0338,2,  34.0319,2,    141.1,1,   -999.0,9,  -999.00,9,  -999.00,9,  -999.00,9,    501,-999.000,  -999.0,  7.3717
     33KI109_1,  PRS2,     2,  4,      2,     34,2,19991108,2356, 22.7498,-157.9787, 4717,    750.9,   4.9272,  34.2777,2,  34.2788,2,     31.6,1,   -999.0,9,  -999.00,9,  -999.00,9,  -999.00,9,    752,-999.000,  -999.0,  4.8667
     33KI109_1,  PRS2,     2,  4,      1,     33,2,19991108,2356, 22.7498,-157.9787, 4717,   1019.6,   3.9362,  34.4721,2,  34.4895,4,     42.1,1,   -999.0,9,  -999.00,9,  -999.00,9,  -999.00,9,   1021,-999.000,  -999.0,  3.8594
     33KI109_1,  PRS2,     2,  5,     17,     17,2,19991109,0256, 22.7538,-158.0113, 4730,      4.7,  25.3783,  35.3062,2,  35.3067,2,    206.5,2,    206.8,2,  -999.00,5,  -999.00,5,  -999.00,5,      5,-999.000,  -999.0, 25.3773
     33KI109_1,  PRS2,     2,  5,     16,     16,2,19991109,0256, 22.7538,-158.0113, 4730,     96.5,  22.4133,  35.2833,2,  35.3207,4,    211.5,3,    210.1,2,  -999.00,5,  -999.00,5,  -999.00,5,     97,-999.000,  -999.0, 22.3940
     33KI109_1,  PRS2,     2,  5,     15,     15,2,19991109,0256, 22.7538,-158.0113, 4730,    210.1,  18.1776,  34.9489,2,  34.9633,2,    200.3,2,    198.8,2,     4.57,2,     2.84,2,     0.23,2,    211,-999.000,  -999.0, 18.1413
     33KI109_1,  PRS2,     2,  5,     14,     14,2,19991109,0256, 22.7538,-158.0113, 4730,    224.3,  17.8622,  34.9019,2,  34.9000,2,    199.7,2,    198.3,2,     3.59,2,     3.21,2,     0.25,2,    225,-999.000,  -999.0, 17.8238
     33KI109_1,  PRS2,     2,  5,     13,     13,2,19991109,0256, 22.7538,-158.0113, 4730,    234.2,  17.4680,  34.8532,2,  34.8574,2,    200.0,2,    198.7,2,     3.82,2,     3.46,2,     0.27,2,    235,-999.000,  -999.0, 17.4286
     33KI109_1,  PRS2,     2,  5,     12,     12,2,19991109,0256, 22.7538,-158.0113, 4730,    249.1,  16.1972,  34.7003,2,  34.6988,2,    202.8,2,    202.4,2,     5.34,2,     4.50,2,     0.35,2,    250,-999.000,  -999.0, 16.1575
     33KI109_1,  PRS2,     2,  5,     11,     11,2,19991109,0256, 22.7538,-158.0113, 4730,    273.5,  15.1488,  34.5803,2,  34.5786,2,    205.3,2,    204.5,2,     6.52,2,     5.73,2,     0.41,2,    274,-999.000,  -999.0, 15.1071
     33KI109_1,  PRS2,     2,  5,     10,     32,2,19991109,0256, 22.7538,-158.0113, 4730,    298.5,  13.9136,  34.4444,2,  34.4468,2,    209.0,2,    208.5,2,     7.27,2,     7.12,2,     0.52,2,    299,-999.000,  -999.0, 13.8707
     33KI109_1,  PRS2,     2,  5,      9,      3,2,19991109,0256, 22.7538,-158.0113, 4730,    323.7,  12.5301,  34.3026,2,  34.3019,2,    208.4,2,    209.2,2,    10.18,2,     9.32,2,     0.69,2,    325,-999.000,  -999.0, 12.4868
     33KI109_1,  PRS2,     2,  5,      8,     29,2,19991109,0256, 22.7538,-158.0113, 4730,    349.7,  11.8367,  34.2944,2,  34.3153,3,    213.5,3,    211.4,2,    11.79,2,    11.04,2,     0.81,2,    350,-999.000,  -999.0, 11.7915
     33KI109_1,  PRS2,     2,  5,      7,     28,2,19991109,0256, 22.7538,-158.0113, 4730,    400.1,  10.5455,  34.2123,2,  34.2115,2,    206.0,2,    206.4,2,    17.06,2,    14.27,2,     1.00,2,    400,-999.000,  -999.0, 10.4975
     33KI109_1,  PRS2,     2,  5,      6,      7,2,19991109,0256, 22.7538,-158.0113, 4730,    500.4,   7.7601,  34.0402,2,  34.0402,2,    156.3,2,    153.0,2,    36.21,2,    24.24,2,     1.77,2,    501,-999.000,  -999.0,  7.7101
     33KI109_1,  PRS2,     2,  5,      5,     38,2,19991109,0256, 22.7538,-158.0113, 4730,    599.3,   5.9255,  34.0459,2,  34.0455,2,     84.9,2,   -999.0,5,    55.74,3,    29.68,3,     2.29,3,    601,-999.000,  -999.0,  5.8736
     33KI109_1,  PRS2,     2,  5,      4,     36,2,19991109,0256, 22.7538,-158.0113, 4730,    699.1,   4.8515,  34.1950,2,  34.1924,2,     31.6,2,     29.0,2,    86.86,2,    38.27,3,     2.90,2,    699,-999.000,  -999.0,  4.7960
     33KI109_1,  PRS2,     2,  5,      3,     35,2,19991109,0256, 22.7538,-158.0113, 4730,    799.8,   4.4777,  34.3439,2,  34.3431,2,     30.8,2,     29.2,2,   101.08,2,    41.08,2,     3.04,2,    799,-999.000,  -999.0,  4.4157
     33KI109_1,  PRS2,     2,  5,      2,     34,2,19991109,0256, 22.7538,-158.0113, 4730,    899.3,   4.2327,  34.4425,2,  34.4442,2,     38.3,2,     37.3,2,   104.98,2,    40.79,2,     2.97,2,    900,-999.000,  -999.0,  4.1639
     33KI109_1,  PRS2,     2,  5,      1,     33,2,19991109,0256, 22.7538,-158.0113, 4730,   1020.3,   3.8472,  34.4864,2,  34.4848,2,     44.9,2,     44.2,2,   113.61,2,    41.07,2,     3.02,2,   1021,-999.000,  -999.0,  3.7711
     33KI109_1,  PRS2,     2,  6,     23,     30,2,19991109,0556, 22.7478,-157.9960, 4722,      5.1,  25.3355,  35.3219,2,  35.3204,2,    205.7,2,   -999.0,5,  -999.00,5,  -999.00,5,  -999.00,5,      5,-999.000,  -999.0, 25.3344
     33KI109_1,  PRS2,     2,  6,     22,     22,2,19991109,0556, 22.7478,-157.9960, 4722,      5.3,  25.3359,  35.3220,2,  35.3207,2,    205.7,2,    207.0,2,     1.31,2,     0.07,2,     0.04,2,      6,-999.000,  -999.0, 25.3348
     33KI109_1,  PRS2,     2,  6,     21,     21,2,19991109,0556, 22.7478,-157.9960, 4722,     14.9,  25.3417,  35.3216,2,  35.3210,2,    205.7,2,    206.7,2,     1.29,2,    -0.01,2,     0.04,2,     15,-999.000,  -999.0, 25.3385
     33KI109_1,  PRS2,     2,  6,     19,     19,2,19991109,0556, 22.7478,-157.9960, 4722,     25.3,  25.3412,  35.3217,2,  35.3207,2,    205.8,2,    206.8,2,     1.35,2,     0.00,2,     0.04,2,     27,-999.000,  -999.0, 25.3357
     33KI109_1,  PRS2,     2,  6,     20,     20,2,19991109,0556, 22.7478,-157.9960, 4722,     25.4,  25.3409,  35.3218,2,  35.3347,3,    205.8,3,   -999.0,5,  -999.00,5,  -999.00,5,  -999.00,5,     26,-999.000,  -999.0, 25.3353
     33KI109_1,  PRS2,     2,  6,     18,     18,2,19991109,0556, 22.7478,-157.9960, 4722,     35.0,  25.3380,  35.3216,2,  35.3221,2,    206.6,2,    206.9,2,     1.33,2,     0.00,2,     0.03,2,     35,-999.000,  -999.0, 25.3304
     33KI109_1,  PRS2,     2,  6,     17,     17,2,19991109,0556, 22.7478,-157.9960, 4722,     45.1,  25.3366,  35.3214,2,  35.2607,4,    206.6,3,    207.0,2,     1.47,2,     0.01,2,     0.02,2,     46,-999.000,  -999.0, 25.3267
     33KI109_1,  PRS2,     2,  6,     16,     16,2,19991109,0556, 22.7478,-157.9960, 4722,     60.1,  25.0543,  35.3044,2,  35.3434,4,    209.3,3,    208.9,2,     1.56,2,     0.01,2,     0.03,2,     60,-999.000,  -999.0, 25.0412
     33KI109_1,  PRS2,     2,  6,     15,     15,2,19991109,0556, 22.7478,-157.9960, 4722,     74.9,  23.8248,  35.2592,2,  35.2553,2,    217.3,2,    216.3,2,     1.50,2,     0.00,2,     0.03,2,     75,-999.000,  -999.0, 23.8091
     33KI109_1,  PRS2,     2,  6,     14,     14,2,19991109,0556, 22.7478,-157.9960, 4722,     84.4,  22.8881,  35.3046,2,  35.3015,2,    216.7,2,    221.0,2,     1.60,2,     0.01,2,     0.02,2,     84,-999.000,  -999.0, 22.8709
     33KI109_1,  PRS2,     2,  6,     13,     13,2,19991109,0556, 22.7478,-157.9960, 4722,     94.5,  22.0800,  35.2714,2,  35.2698,2,    203.2,2,    205.1,2,     1.75,2,     0.47,2,     0.07,2,     95,-999.000,  -999.0, 22.0613
     33KI109_1,  PRS2,     2,  6,     12,     12,2,19991109,0556, 22.7478,-157.9960, 4722,    104.1,  21.5001,  35.2668,2,  35.2668,2,    202.4,2,    202.2,2,     1.84,2,     0.85,2,     0.10,2,    104,-999.000,  -999.0, 21.4799
     33KI109_1,  PRS2,     2,  6,     11,     11,2,19991109,0556, 22.7478,-157.9960, 4722,    114.5,  21.1767,  35.2510,2,  35.2489,2,    200.0,2,    200.3,2,     2.26,2,     1.07,2,     0.14,2,    115,-999.000,  -999.0, 21.1546
     33KI109_1,  PRS2,     2,  6,     10,     32,2,19991109,0556, 22.7478,-157.9960, 4722,    124.4,  20.6973,  35.2407,2,  35.2404,2,    199.2,2,    198.5,2,     2.10,2,     1.36,2,     0.17,2,    124,-999.000,  -999.0, 20.6738
     33KI109_1,  PRS2,     2,  6,      9,      3,2,19991109,0556, 22.7478,-157.9960, 4722,    135.0,  20.3376,  35.2254,2,  35.2184,2,    196.9,2,    197.4,2,     2.23,2,     1.58,2,     0.17,2,    135,-999.000,  -999.0, 20.3124
     33KI109_1,  PRS2,     2,  6,      8,     29,2,19991109,0556, 22.7478,-157.9960, 4722,    150.1,  19.7958,  35.1736,2,  35.2214,4,    199.8,3,    198.6,2,     2.44,2,     1.75,2,     0.15,2,    151,-999.000,  -999.0, 19.7683
     33KI109_1,  PRS2,     2,  6,      7,     28,2,19991109,0556, 22.7478,-157.9960, 4722,    159.8,  19.0310,  35.0677,2,  35.0660,2,    199.9,2,    199.4,2,  -999.00,5,  -999.00,5,  -999.00,5,    160,-999.000,  -999.0, 19.0024
     33KI109_1,  PRS2,     2,  6,      6,      7,2,19991109,0556, 22.7478,-157.9960, 4722,    174.7,  18.6372,  35.0143,2,  35.0127,2,    200.4,2,    199.1,2,     3.12,2,     2.49,2,     0.21,2,    176,-999.000,  -999.0, 18.6064
     33KI109_1,  PRS2,     2,  6,      5,     38,2,19991109,0556, 22.7478,-157.9960, 4722,    185.2,  18.3033,  34.9620,2,  34.9623,2,    199.5,2,    198.4,2,  -999.00,5,  -999.00,5,  -999.00,5,    186,-999.000,  -999.0, 18.2711
     33KI109_1,  PRS2,     2,  6,      4,     36,2,19991109,0556, 22.7478,-157.9960, 4722,    199.5,  17.5025,  34.8560,2,  34.8560,2,    199.3,2,    198.9,2,     3.91,2,     3.46,2,     0.28,2,    200,-999.000,  -999.0, 17.4689
     33KI109_1,  PRS2,     2,  6,      3,     35,2,19991109,0556, 22.7478,-157.9960, 4722,    538.9,   6.7178,  34.0247,2,  34.0226,2,    117.0,2,    118.8,2,  -999.00,5,  -999.00,5,  -999.00,5,    539,-999.000,  -999.0,  6.6681
     33KI109_1,  PRS2,     2,  6,      2,     34,2,19991109,0556, 22.7478,-157.9960, 4722,    825.2,   4.4892,  34.3433,2,  34.3445,2,     29.8,2,     31.1,2,  -999.00,5,  -999.00,5,  -999.00,5,    826,-999.000,  -999.0,  4.4250
     33KI109_1,  PRS2,     2,  6,      1,     33,2,19991109,0556, 22.7478,-157.9960, 4722,   1019.7,   3.9025,  34.4792,2,  34.4829,2,     42.9,2,     42.8,2,  -999.00,5,  -999.00,5,  -999.00,5,   1021,-999.000,  -999.0,  3.8260
     33KI109_1,  PRS2,     2,  7,      4,     36,2,19991109,0857, 22.7523,-157.9755, 4712,      4.7,  25.3154,  35.3208,2,  35.3198,2,    206.4,1,   -999.0,9,  -999.00,9,  -999.00,9,  -999.00,9,      5,-999.000,  -999.0, 25.3144
     33KI109_1,  PRS2,     2,  7,      3,     35,2,19991109,0857, 22.7523,-157.9755, 4712,    100.3,  22.5871,  35.2930,2,  35.3206,4,    215.7,1,   -999.0,9,  -999.00,9,  -999.00,9,  -999.00,9,    101,-999.000,  -999.0, 22.5669
     33KI109_1,  PRS2,     2,  7,      2,     34,2,19991109,0857, 22.7523,-157.9755, 4712,    530.5,   6.4074,  34.0299,2,  34.0324,2,    106.3,1,   -999.0,9,  -999.00,9,  -999.00,9,  -999.00,9,    530,-999.000,  -999.0,  6.3597
     33KI109_1,  PRS2,     2,  7,      1,     33,2,19991109,0857, 22.7523,-157.9755, 4712,   1019.1,   3.9275,  34.4627,2,  34.4634,2,     40.5,1,   -999.0,9,  -999.00,9,  -999.00,9,  -999.00,9,   1019,-999.000,  -999.0,  3.8509
     33KI109_1,  PRS2,     2,  8,     13,     13,2,19991109,1157, 22.7487,-157.9972, 4723,      4.9,  25.2997,  35.3169,2,  35.3584,4,    205.4,1,   -999.0,9,  -999.00,9,  -999.00,9,  -999.00,9,      6,-999.000,  -999.0, 25.2986
     33KI109_1,  PRS2,     2,  8,     12,     12,2,19991109,1157, 22.7487,-157.9972, 4723,     23.9,  25.3019,  35.3167,2,  35.3523,4,    205.4,1,   -999.0,9,  -999.00,9,  -999.00,9,  -999.00,9,     24,-999.000,  -999.0, 25.2967
     33KI109_1,  PRS2,     2,  8,     11,     11,2,19991109,1157, 22.7487,-157.9972, 4723,     49.4,  25.3025,  35.3169,2,  35.3170,2,    205.4,1,   -999.0,9,  -999.00,9,  -999.00,9,  -999.00,9,     49,-999.000,  -999.0, 25.2916
     33KI109_1,  PRS2,     2,  8,     10,     32,2,19991109,1157, 22.7487,-157.9972, 4723,     74.2,  24.2549,  35.2229,2,  35.2305,2,    215.2,1,   -999.0,9,  -999.00,9,  -999.00,9,  -999.00,9,     74,-999.000,  -999.0, 24.2392
     33KI109_1,  PRS2,     2,  8,      9,      3,2,19991109,1157, 22.7487,-157.9972, 4723,    100.4,  22.4257,  35.2878,2,  35.2853,2,    211.2,1,   -999.0,9,  -999.00,9,  -999.00,9,  -999.00,9,    101,-999.000,  -999.0, 22.4056
     33KI109_1,  PRS2,     2,  8,      8,     29,2,19991109,1157, 22.7487,-157.9972, 4723,    124.3,  21.3955,  35.2678,2,  35.2654,2,    201.7,1,   -999.0,9,  -999.00,9,  -999.00,9,  -999.00,9,    125,-999.000,  -999.0, 21.3714
     33KI109_1,  PRS2,     2,  8,      7,     28,2,19991109,1157, 22.7487,-157.9972, 4723,    149.3,  20.4744,  35.2071,2,  35.2278,4,    197.2,1,   -999.0,9,  -999.00,9,  -999.00,9,  -999.00,9,    150,-999.000,  -999.0, 20.4463
     33KI109_1,  PRS2,     2,  8,      6,      7,2,19991109,1157, 22.7487,-157.9972, 4723,    174.6,  19.0205,  35.0653,2,  35.0668,2,    199.4,1,   -999.0,9,  -999.00,9,  -999.00,9,  -999.00,9,    175,-999.000,  -999.0, 18.9893
     33KI109_1,  PRS2,     2,  8,      5,     38,2,19991109,1157, 22.7487,-157.9972, 4723,    199.3,  17.6000,  34.8678,2,  34.8770,2,    199.1,1,   -999.0,9,  -999.00,9,  -999.00,9,  -999.00,9,    199,-999.000,  -999.0, 17.5663
     33KI109_1,  PRS2,     2,  8,      4,     36,2,19991109,1157, 22.7487,-157.9972, 4723,    250.1,  14.5338,  34.5057,2,  34.5278,2,    205.6,1,   -999.0,9,  -999.00,9,  -999.00,9,  -999.00,9,    250,-999.000,  -999.0, 14.4968
     33KI109_1,  PRS2,     2,  8,      3,     35,2,19991109,1157, 22.7487,-157.9972, 4723,    350.7,  11.4399,  34.2606,2,  34.2701,2,    207.2,1,   -999.0,9,  -999.00,9,  -999.00,9,  -999.00,9,    351,-999.000,  -999.0, 11.3956
     33KI109_1,  PRS2,     2,  8,      2,     34,2,19991109,1157, 22.7487,-157.9972, 4723,    499.1,   7.5037,  34.0365,2,  34.0359,2,    145.1,1,   -999.0,9,  -999.00,9,  -999.00,9,  -999.00,9,    499,-999.000,  -999.0,  7.4547
     33KI109_1,  PRS2,     2,  8,      1,     33,2,19991109,1157, 22.7487,-157.9972, 4723,   1020.4,   3.7901,  34.4734,2,  34.4787,3,     42.9,1,   -999.0,9,  -999.00,9,  -999.00,9,  -999.00,9,   1021,-999.000,  -999.0,  3.7144