BOTTLE,20020809WHPSIObren
#code : jjward hyd_to_exchange.pl 
#original files copied from HTML directory: 20020809
#original HYD file: /whpo/11/HOTS/BOTTLE/hot109/hot109.sea   Fri Aug  9 09:51:26 2002
#original SUM file: /whpo/11/HOTS/BOTTLE/hot109/hot109.sum   Fri Aug  9 13:30:31 2002
EXPOCODE,SECT_ID,STNNBR,CASTNO,SAMPNO,BTLNBR,BTLNBR_FLAG_W,DATE,TIME,LATITUDE,LONGITUDE,DEPTH,CTDPRS,CTDTMP,CTDSAL,CTDSAL_FLAG_W,SALNTY,SALNTY_FLAG_W,CTDOXY,CTDOXY_FLAG_W,OXYGEN,OXYGEN_FLAG_W,SILCAT,SILCAT_FLAG_W,NO2+NO3,NO2+NO3_FLAG_W,PHSPHT,PHSPHT_FLAG_W,CTDRAW,REVTMP,REVPRS,THETA
,,,,,,,,,,,,DBAR,ITS-90,PSS-78,,PSS-78,,UMOL/KG,,UMOL/KG,,UMOL/KG,,UMOL/KG,,UMOL/KG,,,DEG C,DBAR,ITS-90
     33KI109_1,  PRS2,     1,  1,     24,     31,2,19991108,0005, 22.3240,-158.2618, 1450,      4.6,  26.1061,  35.0982,2,  35.0998,2,    203.2,2,    204.2,2,  -999.00,5,  -999.00,5,  -999.00,5,      5,-999.000,  -999.0, 26.1051
     33KI109_1,  PRS2,     1,  1,     23,     30,2,19991108,0005, 22.3240,-158.2618, 1450,      4.6,  26.1064,  35.0982,2,  35.1340,4,    203.3,3,    204.0,2,     0.89,2,     0.00,2,     0.09,2,      5,-999.000,  -999.0, 26.1053
     33KI109_1,  PRS2,     1,  1,     22,     22,2,19991108,0005, 22.3240,-158.2618, 1450,     25.3,  26.0818,  35.0958,2,  35.0966,2,    204.0,2,    208.1,3,     0.88,2,     0.00,2,     0.08,2,     25,-999.000,  -999.0, 26.0761
     33KI109_1,  PRS2,     1,  1,     21,     21,2,19991108,0005, 22.3240,-158.2618, 1450,     44.6,  26.0787,  35.0956,2,  35.0948,2,    204.4,2,    204.4,2,     0.88,2,     0.01,2,     0.09,2,     45,-999.000,  -999.0, 26.0687
     33KI109_1,  PRS2,     1,  1,     20,     20,2,19991108,0005, 22.3240,-158.2618, 1450,     60.4,  26.0789,  35.0955,2,  35.0960,2,    204.5,2,    203.8,2,     0.97,2,     0.00,2,     0.10,2,     60,-999.000,  -999.0, 26.0655
     33KI109_1,  PRS2,     1,  1,     19,     19,2,19991108,0005, 22.3240,-158.2618, 1450,     75.1,  25.7012,  35.1185,2,  35.1186,2,    206.4,2,    206.4,2,     1.05,2,    -0.01,2,     0.07,2,     76,-999.000,  -999.0, 25.6846
     33KI109_1,  PRS2,     1,  1,     18,     18,2,19991108,0005, 22.3240,-158.2618, 1450,     95.7,  24.4916,  35.1553,2,  35.1552,2,    212.0,2,    219.3,3,     1.16,2,     0.00,2,     0.07,2,     96,-999.000,  -999.0, 24.4711
     33KI109_1,  PRS2,     1,  1,     17,     17,2,19991108,0005, 22.3240,-158.2618, 1450,    104.4,  24.2958,  35.1600,2,  35.1631,2,    211.1,2,    209.4,2,     1.21,2,     0.01,2,     0.07,2,    105,-999.000,  -999.0, 24.2736
     33KI109_1,  PRS2,     1,  1,     16,     16,2,19991108,0005, 22.3240,-158.2618, 1450,    114.5,  23.6062,  35.2200,2,  35.2166,2,    209.8,2,    210.9,2,     1.27,2,     0.04,2,     0.07,2,    115,-999.000,  -999.0, 23.5824
     33KI109_1,  PRS2,     1,  1,     15,     15,2,19991108,0005, 22.3240,-158.2618, 1450,    124.9,  22.9008,  35.2504,2,  35.2508,2,    208.1,2,    212.5,2,     1.34,2,     0.22,2,     0.11,2,    125,-999.000,  -999.0, 22.8753
     33KI109_1,  PRS2,     1,  1,     14,     14,2,19991108,0005, 22.3240,-158.2618, 1450,    148.7,  21.6192,  35.2291,2,  35.2281,2,    201.8,2,    207.9,2,     1.62,2,     0.93,2,     0.17,2,    150,-999.000,  -999.0, 21.5902
     33KI109_1,  PRS2,     1,  1,     13,     13,2,19991108,0005, 22.3240,-158.2618, 1450,    174.2,  20.5330,  35.1506,2,  35.1488,2,    193.9,2,    193.4,2,     2.08,2,     1.87,2,     0.21,2,    175,-999.000,  -999.0, 20.5002
     33KI109_1,  PRS2,     1,  1,     12,     12,2,19991108,0005, 22.3240,-158.2618, 1450,    199.5,  18.4631,  34.9362,2,  34.9351,2,    193.1,2,    198.2,2,     3.53,2,     3.47,2,     0.29,2,    199,-999.000,  -999.0, 18.4282
     33KI109_1,  PRS2,     1,  1,     11,     11,2,19991108,0005, 22.3240,-158.2618, 1450,    224.8,  16.9229,  34.7552,2,  34.7582,2,    192.2,2,    191.1,2,     4.67,2,     5.01,2,     0.40,2,    225,-999.000,  -999.0, 16.8859
     33KI109_1,  PRS2,     1,  1,     10,     32,2,19991108,0005, 22.3240,-158.2618, 1450,    249.7,  14.9910,  34.5427,2,  34.5458,2,    192.9,2,    192.8,2,     7.03,2,     7.21,2,     0.57,2,    251,-999.000,  -999.0, 14.9533
     33KI109_1,  PRS2,     1,  1,      9,      3,2,19991108,0005, 22.3240,-158.2618, 1450,    276.8,  13.7347,  34.4101,2,  34.4139,2,    190.7,2,    192.5,2,  -999.00,5,  -999.00,5,  -999.00,5,    277,-999.000,  -999.0, 13.6953
     33KI109_1,  PRS2,     1,  1,      8,     29,2,19991108,0005, 22.3240,-158.2618, 1450,    301.3,  12.7882,  34.3303,2,  34.3300,2,    194.3,2,    194.1,2,    10.53,2,    10.53,2,     0.79,2,    301,-999.000,  -999.0, 12.7474
     33KI109_1,  PRS2,     1,  1,      7,     28,2,19991108,0005, 22.3240,-158.2618, 1450,    400.4,   8.7081,  34.1157,2,  34.1146,2,    151.4,2,    150.3,2,    32.60,2,    22.56,2,     1.61,2,    400,-999.000,  -999.0,  8.6655
     33KI109_1,  PRS2,     1,  1,      6,      7,2,19991108,0005, 22.3240,-158.2618, 1450,    500.3,   6.5553,  34.1261,2,  34.1357,3,     83.0,3,     84.0,2,    58.84,2,    32.60,2,     2.42,2,    501,-999.000,  -999.0,  6.5098
     33KI109_1,  PRS2,     1,  1,      5,     38,2,19991108,0005, 22.3240,-158.2618, 1450,    598.8,   5.8417,  34.2403,2,  34.2380,2,     46.7,2,     48.0,2,  -999.00,5,  -999.00,5,  -999.00,5,    599,-999.000,  -999.0,  5.7899
     33KI109_1,  PRS2,     1,  1,      4,     36,2,19991108,0005, 22.3240,-158.2618, 1450,    699.8,   5.2487,  34.3365,2,  34.3342,2,     34.6,2,     33.3,2,    85.45,2,    39.76,2,     2.94,2,    702,-999.000,  -999.0,  5.1907
     33KI109_1,  PRS2,     1,  1,      3,     35,2,19991108,0005, 22.3240,-158.2618, 1450,    799.4,   4.8522,  34.4021,2,  34.4043,2,     35.1,2,     33.9,2,  -999.00,5,  -999.00,5,  -999.00,5,    799,-999.000,  -999.0,  4.7878
     33KI109_1,  PRS2,     1,  1,      2,     34,2,19991108,0005, 22.3240,-158.2618, 1450,    898.5,   4.5790,  34.4628,2,  34.4694,3,     40.5,3,     39.3,2,  -999.00,5,  -999.00,5,  -999.00,5,    900,-999.000,  -999.0,  4.5077
     33KI109_1,  PRS2,     1,  1,      1,     33,2,19991108,0005, 22.3240,-158.2618, 1450,   1020.2,   4.1744,  34.5070,2,  34.5058,2,     47.2,2,     49.3,2,   105.98,2,    41.10,2,     3.04,2,   1021,-999.000,  -999.0,  4.0956
     33KI109_1,  PRS2,     2,  1,     24,     31,2,19991108,1314, 22.7635,-157.9955, 4715,      4.8,  25.4612,  35.3441,2,  35.3458,2,    206.4,2,    206.4,2,     1.35,2,     0.03,2,     0.08,2,      4,-999.000,  -999.0, 25.4601
     33KI109_1,  PRS2,     2,  1,     23,     30,2,19991108,1314, 22.7635,-157.9955, 4715,    552.7,   6.5759,  34.0287,2,  34.0270,2,    112.8,2,    123.3,2,    51.64,2,    29.93,2,     2.17,2,    553,-999.000,  -999.0,  6.5254
     33KI109_1,  PRS2,     2,  1,     22,     22,2,19991108,1314, 22.7635,-157.9955, 4715,    810.9,   4.4848,  34.3516,2,  34.3501,2,     31.0,2,     29.8,2,   100.08,2,    40.78,2,     2.97,2,    811,-999.000,  -999.0,  4.4217
     33KI109_1,  PRS2,     2,  1,     21,     21,2,19991108,1314, 22.7635,-157.9955, 4715,   1001.7,   3.8993,  34.4827,2,  34.4817,2,     43.7,2,     43.6,2,   111.77,2,    40.98,2,     2.99,2,   1002,-999.000,  -999.0,  3.8243
     33KI109_1,  PRS2,     2,  1,     20,     20,2,19991108,1314, 22.7635,-157.9955, 4715,   1204.1,   3.4507,  34.5313,2,  34.5309,2,     51.6,2,     66.3,4,   122.86,2,    41.00,2,     3.00,2,   1203,-999.000,  -999.0,  3.3628
     33KI109_1,  PRS2,     2,  1,     19,     19,2,19991108,1314, 22.7635,-157.9955, 4715,   1400.2,   3.0121,  34.5589,2,  34.5586,2,     61.0,2,     82.2,4,   133.03,2,    41.14,2,     2.95,2,   1400,-999.000,  -999.0,  2.9124
     33KI109_1,  PRS2,     2,  1,     18,     18,2,19991108,1314, 22.7635,-157.9955, 4715,   1601.4,   2.6954,  34.5799,2,  34.5789,2,     69.4,2,     83.9,4,   141.39,2,    40.44,2,     2.92,2,   1602,-999.000,  -999.0,  2.5827
     33KI109_1,  PRS2,     2,  1,     17,     17,2,19991108,1314, 22.7635,-157.9955, 4715,   1799.3,   2.3989,  34.5991,2,  34.6021,2,     77.0,2,     89.3,4,   145.79,2,    40.00,2,     2.89,2,   1800,-999.000,  -999.0,  2.2736
     33KI109_1,  PRS2,     2,  1,     16,     16,2,19991108,1314, 22.7635,-157.9955, 4715,   2002.6,   2.1460,  34.6173,2,  34.6172,2,     85.1,2,     86.8,2,   152.70,2,    39.58,2,     2.83,2,   2003,-999.000,  -999.0,  2.0072
     33KI109_1,  PRS2,     2,  1,     15,     15,2,19991108,1314, 22.7635,-157.9955, 4715,   2198.5,   1.9692,  34.6310,2,  34.6301,2,     91.9,2,     92.6,2,   156.71,2,    38.80,2,     2.81,2,   2199,-999.000,  -999.0,  1.8164
     33KI109_1,  PRS2,     2,  1,     14,     14,2,19991108,1314, 22.7635,-157.9955, 4715,   2400.8,   1.8371,  34.6428,2,  34.6429,2,     99.1,2,    105.6,4,   159.15,2,    38.43,2,     2.79,2,   2401,-999.000,  -999.0,  1.6688
     33KI109_1,  PRS2,     2,  1,     13,     13,2,19991108,1314, 22.7635,-157.9955, 4715,   2596.6,   1.7236,  34.6531,2,  34.6528,2,    107.1,2,    107.2,2,   159.74,2,    38.10,2,     2.73,2,   2598,-999.000,  -999.0,  1.5398
     33KI109_1,  PRS2,     2,  1,     12,     12,2,19991108,1314, 22.7635,-157.9955, 4715,   2799.3,   1.6363,  34.6623,2,  34.6625,2,    115.9,2,    116.9,2,   158.90,3,    37.68,2,     2.68,2,   2799,-999.000,  -999.0,  1.4355
     33KI109_1,  PRS2,     2,  1,     11,     11,2,19991108,1314, 22.7635,-157.9955, 4715,   2998.0,   1.5758,  34.6691,2,  34.6681,2,    122.6,2,    127.1,4,   159.81,2,    37.37,2,     2.65,2,   2998,-999.000,  -999.0,  1.3576
     33KI109_1,  PRS2,     2,  1,     10,     32,2,19991108,1314, 22.7635,-157.9955, 4715,   3200.8,   1.5193,  34.6753,2,  34.6758,2,    130.1,2,    129.4,2,   158.63,2,    36.87,2,     2.65,2,   3201,-999.000,  -999.0,  1.2827
     33KI109_1,  PRS2,     2,  1,      9,      3,2,19991108,1314, 22.7635,-157.9955, 4715,   3400.4,   1.4888,  34.6795,2,  34.6818,2,    136.3,2,    141.7,4,   156.90,2,    36.59,2,     2.58,2,   3401,-999.000,  -999.0,  1.2331
     33KI109_1,  PRS2,     2,  1,      8,     29,2,19991108,1314, 22.7635,-157.9955, 4715,   3598.7,   1.4776,  34.6823,2,  34.6828,2,    140.5,2,    141.8,2,   155.94,2,    36.48,2,     2.56,2,   3599,-999.000,  -999.0,  1.2019
     33KI109_1,  PRS2,     2,  1,      7,     28,2,19991108,1314, 22.7635,-157.9955, 4715,   3798.3,   1.4648,  34.6853,2,  34.6857,2,    144.8,2,    143.5,4,   154.81,2,    36.06,2,     2.49,3,   3798,-999.000,  -999.0,  1.1686
     33KI109_1,  PRS2,     2,  1,      6,      7,2,19991108,1314, 22.7635,-157.9955, 4715,   3999.2,   1.4571,  34.6876,2,  34.6866,2,    149.9,2,    149.2,2,   152.84,2,    35.78,2,     2.48,3,   4000,-999.000,  -999.0,  1.1394
     33KI109_1,  PRS2,     2,  1,      5,     38,2,19991108,1314, 22.7635,-157.9955, 4715,   4199.1,   1.4629,  34.6889,2,  34.6890,2,    152.8,2,    157.0,4,   151.04,2,    36.07,3,     2.52,2,   4201,-999.000,  -999.0,  1.1231
     33KI109_1,  PRS2,     2,  1,      4,     36,2,19991108,1314, 22.7635,-157.9955, 4715,   4398.9,   1.4753,  34.6898,2,  34.6903,2,    155.0,2,    151.6,4,   150.05,2,    36.05,3,     2.52,2,   4399,-999.000,  -999.0,  1.1126
     33KI109_1,  PRS2,     2,  1,      3,     35,2,19991108,1314, 22.7635,-157.9955, 4715,   4499.4,   1.4842,  34.6900,2,  34.6904,2,    155.3,2,    154.6,2,   150.72,2,    36.02,3,     2.51,2,   4498,-999.000,  -999.0,  1.1097
     33KI109_1,  PRS2,     2,  1,      2,     34,2,19991108,1314, 22.7635,-157.9955, 4715,   4598.4,   1.4947,  34.6901,2,  34.6897,2,    155.6,2,    152.4,4,   149.55,2,    35.55,2,     2.51,2,   4599,-999.000,  -999.0,  1.1084
     33KI109_1,  PRS2,     2,  1,      1,     33,2,19991108,1314, 22.7635,-157.9955, 4715,   4797.1,   1.5094,  34.6909,2,  34.6914,2,    156.4,2,    159.4,4,   148.27,2,    35.51,2,     2.48,2,   4797,-999.000,  -999.0,  1.0992
     33KI109_1,  PRS2,     2,  2,     24,     31,2,19991108,1836, 22.7622,-157.9952, 4714,      4.3,  25.3809,  35.3109,2,  35.3117,2,    206.0,2,    206.4,2,     1.23,2,     0.00,2,     0.04,2,      5,-999.000,  -999.0, 25.3800
     33KI109_1,  PRS2,     2,  2,     23,     30,2,19991108,1836, 22.7622,-157.9952, 4714,      9.1,  25.3777,  35.3108,2,  35.3228,3,    205.9,3,    206.5,2,     1.10,2,     0.00,2,     0.03,2,     10,-999.000,  -999.0, 25.3757
     33KI109_1,  PRS2,     2,  2,     22,     22,2,19991108,1836, 22.7622,-157.9952, 4714,     78.4,  23.5659,  35.2859,2,  35.2868,2,    217.6,2,    216.6,2,     1.40,2,     0.00,2,     0.04,2,     80,-999.000,  -999.0, 23.5496
     33KI109_1,  PRS2,     2,  2,     21,     21,2,19991108,1836, 22.7622,-157.9952, 4714,     93.8,  22.7543,  35.3012,2,  35.3428,4,    215.6,3,    215.0,2,     1.42,2,     0.00,2,     0.05,2,     95,-999.000,  -999.0, 22.7353
     33KI109_1,  PRS2,     2,  2,     20,     20,2,19991108,1836, 22.7622,-157.9952, 4714,    115.6,  21.8720,  35.2713,2,  35.2738,2,    201.2,2,    203.8,2,     1.59,2,     0.57,2,     0.10,2,    118,-999.000,  -999.0, 21.8492
     33KI109_1,  PRS2,     2,  2,     19,     19,2,19991108,1836, 22.7622,-157.9952, 4714,    165.2,  19.7722,  35.1717,2,  35.1404,3,    199.2,3,    198.7,2,     2.57,2,     1.75,2,     0.19,2,    166,-999.000,  -999.0, 19.7419
     33KI109_1,  PRS2,     2,  2,     18,     18,2,19991108,1836, 22.7622,-157.9952, 4714,    191.9,  17.5425,  34.8651,2,  34.8670,2,    198.3,2,    199.1,2,     3.61,2,     3.30,2,     0.27,2,    193,-999.000,  -999.0, 17.5102
     33KI109_1,  PRS2,     2,  2,     17,     17,2,19991108,1836, 22.7622,-157.9952, 4714,    218.2,  16.1480,  34.6915,2,  34.6914,2,    203.2,2,    202.6,2,     5.81,2,     4.42,2,     0.35,2,    219,-999.000,  -999.0, 16.1133
     33KI109_1,  PRS2,     2,  2,     16,     16,2,19991108,1836, 22.7622,-157.9952, 4714,    316.9,  12.0513,  34.2885,2,  34.3004,2,    209.6,2,    214.5,3,    10.55,2,    10.09,2,     0.72,2,    318,-999.000,  -999.0, 12.0099
     33KI109_1,  PRS2,     2,  2,     15,     15,2,19991108,1836, 22.7622,-157.9952, 4714,    373.9,  10.5117,  34.2108,2,  34.2118,2,    205.5,2,    206.5,2,    16.88,2,    14.02,2,     1.02,2,    375,-999.000,  -999.0, 10.4670
     33KI109_1,  PRS2,     2,  2,     14,     14,2,19991108,1836, 22.7622,-157.9952, 4714,    399.6,   9.9091,  34.1556,2,  34.1592,2,    195.5,2,    196.4,2,    19.72,2,    15.99,2,     1.12,2,    400,-999.000,  -999.0,  9.8630
     33KI109_1,  PRS2,     2,  2,     13,     13,2,19991108,1836, 22.7622,-157.9952, 4714,    446.3,   8.6533,  34.0791,2,  34.0920,2,    171.4,2,    169.3,2,    25.52,3,    18.71,3,     1.40,2,    447,-999.000,  -999.0,  8.6059
     33KI109_1,  PRS2,     2,  2,     12,     12,2,19991108,1836, 22.7622,-157.9952, 4714,    513.9,   6.9215,  34.0256,2,  34.0256,2,    125.5,2,    125.8,2,    46.52,2,    28.00,2,     2.04,2,    515,-999.000,  -999.0,  6.8734
     33KI109_1,  PRS2,     2,  2,     11,     11,2,19991108,1836, 22.7622,-157.9952, 4714,    539.2,   6.4595,  34.0292,2,  34.0311,2,    110.3,2,    107.6,2,    53.52,2,    30.86,2,     2.24,2,    540,-999.000,  -999.0,  6.4107
     33KI109_1,  PRS2,     2,  2,     10,     32,2,19991108,1836, 22.7622,-157.9952, 4714,    548.1,   6.3333,  34.0312,2,  34.0312,2,    103.0,2,    102.0,2,    55.88,2,    31.84,2,     2.29,2,    549,-999.000,  -999.0,  6.2842
     33KI109_1,  PRS2,     2,  2,      9,      3,2,19991108,1836, 22.7622,-157.9952, 4714,    589.7,   5.7339,  34.0618,2,  34.0624,2,     75.0,2,     73.1,2,    67.59,2,    35.39,2,     2.51,2,    590,-999.000,  -999.0,  5.6837
     33KI109_1,  PRS2,     2,  2,      8,     29,2,19991108,1836, 22.7622,-157.9952, 4714,    634.4,   5.2795,  34.1119,2,  34.1149,2,     51.0,2,     50.6,2,    78.00,2,    37.99,2,     2.76,2,    634,-999.000,  -999.0,  5.2273
     33KI109_1,  PRS2,     2,  2,      7,     28,2,19991108,1836, 22.7622,-157.9952, 4714,    699.2,   4.8808,  34.1929,2,  34.1901,2,     30.4,2,   -999.0,5,    89.03,2,    40.18,2,     2.94,2,    699,-999.000,  -999.0,  4.8251
     33KI109_1,  PRS2,     2,  2,      6,      7,2,19991108,1836, 22.7622,-157.9952, 4714,    781.9,   4.7181,  34.2953,2,  34.2976,2,     31.4,2,     29.7,2,    95.95,2,    40.60,2,     2.95,2,    783,-999.000,  -999.0,  4.6561
     33KI109_1,  PRS2,     2,  2,      5,     38,2,19991108,1836, 22.7622,-157.9952, 4714,    800.0,   4.6347,  34.3112,2,  34.3111,2,     31.0,2,     28.9,2,    96.81,2,    40.67,2,     3.00,2,    800,-999.000,  -999.0,  4.5717
     33KI109_1,  PRS2,     2,  2,      4,     36,2,19991108,1836, 22.7622,-157.9952, 4714,    862.8,   4.4118,  34.3731,2,  34.3724,2,     31.4,2,     30.3,2,   100.72,2,    40.43,2,     2.98,2,    863,-999.000,  -999.0,  4.3448
     33KI109_1,  PRS2,     2,  2,      3,     35,2,19991108,1836, 22.7622,-157.9952, 4714,    898.9,   4.2727,  34.4155,2,  34.4158,2,     34.2,2,   -999.0,5,   105.26,2,    41.37,2,     3.02,2,    900,-999.000,  -999.0,  4.2036
     33KI109_1,  PRS2,     2,  2,      2,     34,2,19991108,1836, 22.7622,-157.9952, 4714,    981.0,   3.9500,  34.4671,2,  34.4693,2,     41.4,2,   -999.0,5,   111.87,2,    41.38,2,     3.02,2,    983,-999.000,  -999.0,  3.8764
     33KI109_1,  PRS2,     2,  2,      1,     33,2,19991108,1836, 22.7622,-157.9952, 4714,   1021.8,   3.8132,  34.4788,2,  34.4788,2,     43.3,2,     42.9,2,   114.53,2,    41.40,2,     3.03,2,   1023,-999.000,  -999.0,  3.7373
     33KI109_1,  PRS2,     2,  3,     12,     12,2,19991108,2102, 22.7822,-157.9720, 4702,      4.4,  25.5059,  35.3557,2,  35.3580,2,    205.2,1,   -999.0,9,  -999.00,9,  -999.00,9,  -999.00,9,      5,-999.000,  -999.0, 25.5050
     33KI109_1,  PRS2,     2,  3,     11,     11,2,19991108,2102, 22.7822,-157.9720, 4702,     23.9,  25.4983,  35.3547,2,  35.3892,4,    205.2,1,   -999.0,9,  -999.00,9,  -999.00,9,  -999.00,9,     24,-999.000,  -999.0, 25.4930
     33KI109_1,  PRS2,     2,  3,     10,     32,2,19991108,2102, 22.7822,-157.9720, 4702,     43.9,  25.4779,  35.3518,2,  35.3749,4,    206.0,1,   -999.0,9,  -999.00,9,  -999.00,9,  -999.00,9,     45,-999.000,  -999.0, 25.4682
     33KI109_1,  PRS2,     2,  3,      9,      3,2,19991108,2102, 22.7822,-157.9720, 4702,     73.7,  23.7335,  35.3004,2,  35.3327,4,    219.3,1,   -999.0,9,  -999.00,9,  -999.00,9,  -999.00,9,     75,-999.000,  -999.0, 23.7181
     33KI109_1,  PRS2,     2,  3,      8,     29,2,19991108,2102, 22.7822,-157.9720, 4702,     99.1,  22.2363,  35.2915,2,  35.2912,2,    209.5,1,   -999.0,9,  -999.00,9,  -999.00,9,  -999.00,9,    100,-999.000,  -999.0, 22.2166
     33KI109_1,  PRS2,     2,  3,      7,     28,2,19991108,2102, 22.7822,-157.9720, 4702,    125.1,  21.4275,  35.2650,2,  35.2650,2,    201.4,1,   -999.0,9,  -999.00,9,  -999.00,9,  -999.00,9,    125,-999.000,  -999.0, 21.4032
     33KI109_1,  PRS2,     2,  3,      6,      7,3,19991108,2102, 22.7822,-157.9720, 4702,    149.6,  20.5525,  35.2324,2,  35.2318,2,    197.5,1,   -999.0,9,  -999.00,9,  -999.00,9,  -999.00,9,    150,-999.000,  -999.0, 20.5243
     33KI109_1,  PRS2,     2,  3,      5,     38,2,19991108,2102, 22.7822,-157.9720, 4702,    176.3,  19.3357,  35.1078,2,  35.1109,2,    199.5,1,   -999.0,9,  -999.00,9,  -999.00,9,  -999.00,9,    178,-999.000,  -999.0, 19.3039
     33KI109_1,  PRS2,     2,  3,      4,     36,2,19991108,2102, 22.7822,-157.9720, 4702,    251.3,  14.0483,  34.4493,2,  34.4638,2,    207.8,1,   -999.0,9,  -999.00,9,  -999.00,9,  -999.00,9,    252,-999.000,  -999.0, 14.0120
     33KI109_1,  PRS2,     2,  3,      3,     35,2,19991108,2102, 22.7822,-157.9720, 4702,    499.8,   7.1428,  34.0303,2,  34.0319,2,    130.7,1,   -999.0,9,  -999.00,9,  -999.00,9,  -999.00,9,    501,-999.000,  -999.0,  7.0951
     33KI109_1,  PRS2,     2,  3,      2,     34,2,19991108,2102, 22.7822,-157.9720, 4702,    753.7,   4.7757,  34.2318,2,  34.2303,2,     26.9,1,   -999.0,9,  -999.00,9,  -999.00,9,  -999.00,9,    755,-999.000,  -999.0,  4.7159
     33KI109_1,  PRS2,     2,  3,      1,     33,2,19991108,2102, 22.7822,-157.9720, 4702,   1019.3,   3.8433,  34.4798,2,  34.4827,2,     43.2,1,   -999.0,9,  -999.00,9,  -999.00,9,  -999.00,9,   1019,-999.000,  -999.0,  3.7673