BOTTLE,20060426WHPSIODBK
EXPOCODE,SECT_ID,STNNBR,CASTNO,SAMPNO,BTLNBR,BTLNBR_FLAG_W,DATE,TIME,LATITUDE,LONGITUDE,DEPTH,CTDPRS,CTDTMP,CTDSAL,CTDSAL_FLAG_W,SALNTY,SALNTY_FLAG_W,CTDOXY,CTDOXY_FLAG_W,THETA,OXYGEN,OXYGEN_FLAG_W
,,,,,,,,,,,,DBAR,ITS-90,PSS-78,,PSS-78,,UMOL/KG,,DEG C,UMOL/KG,
  33KM200411_1,  PR15,    21,  1,     13,     13,2,20041129,1411, -6.0017, 165.0533, 3596,      1.7,  30.0237,  34.0079,2,  34.0077,2,   -999.0,9, 30.0233,   -999.0,9
  33KM200411_1,  PR15,    21,  1,     10,     10,2,20041129,1411, -6.0017, 165.0533, 3596,     20.0,  30.0726,  34.0289,2,  34.0365,2,   -999.0,9, 30.0676,   -999.0,9
  33KM200411_1,  PR15,    21,  1,      9,      9,2,20041129,1411, -6.0017, 165.0533, 3596,     39.9,  30.2046,  34.4864,2,  34.4631,2,   -999.0,9, 30.1947,   -999.0,9
  33KM200411_1,  PR15,    21,  1,      5,      5,2,20041129,1411, -6.0017, 165.0533, 3596,    199.8,  20.7000,  35.7883,2,  35.8276,2,   -999.0,9, 20.6620,   -999.0,9
  33KM200411_1,  PR15,    21,  1,      4,      4,2,20041129,1411, -6.0017, 165.0533, 3596,    399.9,   9.2347,  34.6944,2,  34.6924,2,   -999.0,9,  9.1902,   -999.0,9
  33KM200411_1,  PR15,    21,  1,      3,      3,2,20041129,1411, -6.0017, 165.0533, 3596,    599.6,   7.0904,  34.5620,2,  34.5613,2,   -999.0,9,  7.0326,   -999.0,9
  33KM200411_1,  PR15,    21,  1,      2,      2,2,20041129,1411, -6.0017, 165.0533, 3596,    798.8,   5.7431,  34.5362,2,  34.5403,2,   -999.0,9,  5.6732,   -999.0,9
  33KM200411_1,  PR15,    21,  1,      1,      1,2,20041129,1411, -6.0017, 165.0533, 3596,    999.4,   4.5295,  34.5363,2,  34.5358,2,   -999.0,9,  4.4498,   -999.0,9
  33KM200411_1,  PR15,    22,  1,     13,     13,2,20041129,2052, -6.9967, 164.9183, 3713,      2.1,  29.8776,  34.2694,2,  34.2713,2,   -999.0,9, 29.8771,   -999.0,9
  33KM200411_1,  PR15,    22,  1,     11,     11,2,20041129,2052, -6.9967, 164.9183, 3713,     20.3,  29.8666,  34.2741,2,  34.2748,2,   -999.0,9, 29.8616,   -999.0,9
  33KM200411_1,  PR15,    22,  1,     10,     10,2,20041129,2052, -6.9967, 164.9183, 3713,     40.1,  29.8671,  34.4092,2,  34.4032,2,   -999.0,9, 29.8572,   -999.0,9
  33KM200411_1,  PR15,    22,  1,      5,      5,2,20041129,2052, -6.9967, 164.9183, 3713,    200.8,  21.2018,  35.8480,2,  35.8600,2,   -999.0,9, 21.1629,   -999.0,9
  33KM200411_1,  PR15,    22,  1,      3,      3,2,20041129,2052, -6.9967, 164.9183, 3713,    598.8,   6.6717,  34.5426,2,  34.5427,2,   -999.0,9,  6.6159,   -999.0,9
  33KM200411_1,  PR15,    22,  1,      2,      2,2,20041129,2052, -6.9967, 164.9183, 3713,    799.9,   5.3134,  34.5306,2,  34.5502,2,   -999.0,9,  5.2460,   -999.0,9
  33KM200411_1,  PR15,    23,  1,     13,     13,2,20041130,0409, -8.0367, 164.7667, 3891,      3.0,  29.6906,  34.2698,2,  34.2692,2,   -999.0,9, 29.6898,   -999.0,9
  33KM200411_1,  PR15,    23,  1,     10,     10,2,20041130,0409, -8.0367, 164.7667, 3891,     19.8,  29.7093,  34.2834,2,  34.2823,2,   -999.0,9, 29.7044,   -999.0,9
  33KM200411_1,  PR15,    23,  1,      9,      9,2,20041130,0409, -8.0367, 164.7667, 3891,     39.9,  29.7273,  34.9654,2,  34.9098,2,   -999.0,9, 29.7174,   -999.0,9
  33KM200411_1,  PR15,    23,  1,      5,      5,2,20041130,0409, -8.0367, 164.7667, 3891,    202.9,  20.0672,  35.6990,2,  35.7047,2,   -999.0,9, 20.0294,   -999.0,9
  33KM200411_1,  PR15,    23,  1,      4,      4,2,20041130,0409, -8.0367, 164.7667, 3891,    499.8,   7.9607,  34.6096,2,  34.6089,2,   -999.0,9,  7.9095,   -999.0,9
  33KM200411_1,  PR15,    23,  1,      3,      3,2,20041130,0409, -8.0367, 164.7667, 3891,    999.8,   4.4497,  34.5229,2,  34.5220,2,   -999.0,9,  4.3706,   -999.0,9
  33KM200411_1,  PR15,    23,  1,      1,      1,2,20041130,0409, -8.0367, 164.7667, 3891,   3000.9,   1.7042,  34.6714,2,  34.6712,2,   -999.0,9,  1.4828,   -999.0,9