BOTTLE,20060426WHPSIODBK
#code : jjward hyd_to_exchange.pl 
#original files copied from HTML directory: 20060426
#original HYD file: pr15_2004b_hy.txt   Wed Apr 26 12:03:38 2006
#original SUM file: pr15_2004b_su.txt   Wed Apr 26 12:15:27 2006
EXPOCODE,SECT_ID,STNNBR,CASTNO,SAMPNO,BTLNBR,BTLNBR_FLAG_W,DATE,TIME,LATITUDE,LONGITUDE,DEPTH,CTDPRS,CTDTMP,CTDSAL,CTDSAL_FLAG_W,SALNTY,SALNTY_FLAG_W,CTDOXY,CTDOXY_FLAG_W,THETA,OXYGEN,OXYGEN_FLAG_W
,,,,,,,,,,,,DBAR,ITS-90,PSS-78,,PSS-78,,UMOL/KG,,DEG C,UMOL/KG,
  33KM200411_1,  PR15,     1,  1,     13,     13,2,20041123,2123,  8.0217, 165.1017, 5209,      3.3,  30.0065,  33.8086,2,  33.8046,2,   -999.0,9, 30.0057,   -999.0,9
  33KM200411_1,  PR15,     1,  1,     10,     10,2,20041123,2123,  8.0217, 165.1017, 5209,     19.5,  30.0295,  33.8257,2,  33.8256,2,   -999.0,9, 30.0247,   -999.0,9
  33KM200411_1,  PR15,     1,  1,      9,      9,2,20041123,2123,  8.0217, 165.1017, 5209,     39.8,  29.9827,  33.8530,2,  33.8453,2,   -999.0,9, 29.9729,   -999.0,9
  33KM200411_1,  PR15,     1,  1,      5,      5,2,20041123,2123,  8.0217, 165.1017, 5209,    202.0,  11.4548,  34.5461,2,  34.5452,2,   -999.0,9, 11.4294,   -999.0,9
  33KM200411_1,  PR15,     1,  1,      4,      4,2,20041123,2123,  8.0217, 165.1017, 5209,    500.9,   8.0551,  34.5875,2,  34.5877,2,   -999.0,9,  8.0035,   -999.0,9
  33KM200411_1,  PR15,     1,  1,      3,      3,2,20041123,2123,  8.0217, 165.1017, 5209,   1500.3,   3.1197,  34.5981,2,  34.6005,2,   -999.0,9,  3.0103,   -999.0,9
  33KM200411_1,  PR15,     1,  1,      2,      2,2,20041123,2123,  8.0217, 165.1017, 5209,   3000.6,   1.6256,  34.6752,2,  34.6756,2,   -999.0,9,  1.4060,   -999.0,9
  33KM200411_1,  PR15,     1,  1,      1,      1,2,20041123,2123,  8.0217, 165.1017, 5209,   4900.7,   1.3905,  34.7012,2,  34.7019,2,   -999.0,9,  0.9717,   -999.0,9
  33KM200411_1,  PR15,     2,  1,     13,     13,2,20041124,0540,  7.0017, 165.0633, 5154,      1.4,  30.3275,  33.7365,2,  33.7350,2,   -999.0,9, 30.3272,   -999.0,9
  33KM200411_1,  PR15,     2,  1,     10,     10,2,20041124,0540,  7.0017, 165.0633, 5154,     19.4,  30.0562,  33.7518,2,  33.7486,2,   -999.0,9, 30.0514,   -999.0,9
  33KM200411_1,  PR15,     2,  1,      9,      9,2,20041124,0540,  7.0017, 165.0633, 5154,     39.9,  29.5091,  33.8603,2,  33.8462,2,   -999.0,9, 29.4994,   -999.0,9
  33KM200411_1,  PR15,     2,  1,      5,      5,2,20041124,0540,  7.0017, 165.0633, 5154,    200.3,  11.3371,  34.5733,2,  34.5707,2,   -999.0,9, 11.3120,   -999.0,9
  33KM200411_1,  PR15,     2,  1,      4,      4,2,20041124,0540,  7.0017, 165.0633, 5154,    400.8,   8.7914,  34.6201,2,  34.6180,2,   -999.0,9,  8.7482,   -999.0,9
  33KM200411_1,  PR15,     2,  1,      3,      3,2,20041124,0540,  7.0017, 165.0633, 5154,    599.7,   7.2280,  34.5637,2,  34.5614,2,   -999.0,9,  7.1695,   -999.0,9
  33KM200411_1,  PR15,     2,  1,      2,      2,2,20041124,0540,  7.0017, 165.0633, 5154,    800.1,   5.5043,  34.5457,2,  34.5432,2,   -999.0,9,  5.4356,   -999.0,9
  33KM200411_1,  PR15,     2,  1,      1,      1,2,20041124,0540,  7.0017, 165.0633, 5154,   1000.4,   4.5560,  34.5591,2,  34.5570,2,   -999.0,9,  4.4759,   -999.0,9
  33KM200411_1,  PR15,     3,  1,     13,     13,2,20041124,1202,  5.9967, 165.0500, 5008,      2.0,  30.1461,  33.7418,2,  33.7398,2,   -999.0,9, 30.1456,   -999.0,9
  33KM200411_1,  PR15,     3,  1,     10,     10,2,20041124,1202,  5.9967, 165.0500, 5008,     19.8,  30.1262,  33.7390,2,  33.7413,2,   -999.0,9, 30.1213,   -999.0,9
  33KM200411_1,  PR15,     3,  1,      9,      9,2,20041124,1202,  5.9967, 165.0500, 5008,     39.5,  29.7131,  33.7729,2,  33.7675,2,   -999.0,9, 29.7034,   -999.0,9
  33KM200411_1,  PR15,     3,  1,      5,      5,2,20041124,1202,  5.9967, 165.0500, 5008,    199.9,  12.5874,  34.5575,2,  34.5589,2,   -999.0,9, 12.5606,   -999.0,9
  33KM200411_1,  PR15,     3,  1,      4,      4,2,20041124,1202,  5.9967, 165.0500, 5008,    400.2,   8.7844,  34.6294,2,  34.6261,2,   -999.0,9,  8.7412,   -999.0,9
  33KM200411_1,  PR15,     3,  1,      3,      3,2,20041124,1202,  5.9967, 165.0500, 5008,    599.9,   7.1495,  34.5609,2,  34.5586,2,   -999.0,9,  7.0914,   -999.0,9
  33KM200411_1,  PR15,     3,  1,      2,      2,2,20041124,1202,  5.9967, 165.0500, 5008,    799.5,   5.6275,  34.5456,2,  34.5439,2,   -999.0,9,  5.5582,   -999.0,9
  33KM200411_1,  PR15,     3,  1,      1,      1,2,20041124,1202,  5.9967, 165.0500, 5008,   1000.7,   4.6483,  34.5575,2,  34.5607,2,   -999.0,9,  4.5675,   -999.0,9
  33KM200411_1,  PR15,     4,  1,     13,     13,2,20041124,1806,  5.0267, 165.0117, 4772,      1.6,  30.0690,  33.9634,2,  33.9621,2,   -999.0,9, 30.0686,   -999.0,9
  33KM200411_1,  PR15,     4,  1,     10,     10,2,20041124,1806,  5.0267, 165.0117, 4772,     19.3,  30.0715,  33.9636,2,  33.9644,2,   -999.0,9, 30.0667,   -999.0,9
  33KM200411_1,  PR15,     4,  1,      9,      9,2,20041124,1806,  5.0267, 165.0117, 4772,     40.0,  29.6212,  34.0640,2,  34.0621,2,   -999.0,9, 29.6114,   -999.0,9
  33KM200411_1,  PR15,     4,  1,      5,      5,2,20041124,1806,  5.0267, 165.0117, 4772,    200.8,  15.0150,  34.6341,2,  34.6463,2,   -999.0,9, 14.9846,   -999.0,9
  33KM200411_1,  PR15,     4,  1,      4,      4,2,20041124,1806,  5.0267, 165.0117, 4772,    401.0,   8.6818,  34.6254,2,  34.6242,2,   -999.0,9,  8.6389,   -999.0,9
  33KM200411_1,  PR15,     4,  1,      3,      3,2,20041124,1806,  5.0267, 165.0117, 4772,    601.7,   7.0024,  34.5621,2,  34.5647,2,   -999.0,9,  6.9448,   -999.0,9
  33KM200411_1,  PR15,     4,  1,      2,      2,2,20041124,1806,  5.0267, 165.0117, 4772,    799.9,   5.6948,  34.5412,2,  34.5402,2,   -999.0,9,  5.6251,   -999.0,9
  33KM200411_1,  PR15,     4,  1,      1,      1,2,20041124,1806,  5.0267, 165.0117, 4772,    998.7,   4.6824,  34.5562,2,  34.5567,2,   -999.0,9,  4.6015,   -999.0,9
  33KM200411_1,  PR15,     5,  1,     13,     13,2,20041125,0945,  4.0050, 164.9550, 4485,      2.0,  29.9923,  34.0216,2,  34.0190,2,   -999.0,9, 29.9918,   -999.0,9
  33KM200411_1,  PR15,     5,  1,     10,     10,2,20041125,0945,  4.0050, 164.9550, 4485,     19.7,  29.9945,  34.0204,2,  34.0216,2,   -999.0,9, 29.9896,   -999.0,9
  33KM200411_1,  PR15,     5,  1,      9,      9,2,20041125,0945,  4.0050, 164.9550, 4485,     40.1,  30.1189,  34.4185,2,  34.4043,2,   -999.0,9, 30.1089,   -999.0,9
  33KM200411_1,  PR15,     5,  1,      5,      5,2,20041125,0945,  4.0050, 164.9550, 4485,    199.4,  16.5745,  34.7093,2,  34.7143,2,   -999.0,9, 16.5422,   -999.0,9
  33KM200411_1,  PR15,     5,  1,      4,      4,2,20041125,0945,  4.0050, 164.9550, 4485,    399.6,   8.6628,  34.5969,2,  34.5993,2,   -999.0,9,  8.6201,   -999.0,9
  33KM200411_1,  PR15,     5,  1,      3,      3,2,20041125,0945,  4.0050, 164.9550, 4485,    601.0,   7.2012,  34.5676,2,  34.5660,2,   -999.0,9,  7.1427,   -999.0,9
  33KM200411_1,  PR15,     5,  1,      2,      2,2,20041125,0945,  4.0050, 164.9550, 4485,    799.1,   5.6063,  34.5453,2,  34.5441,2,   -999.0,9,  5.5371,   -999.0,9
  33KM200411_1,  PR15,     5,  1,      1,      1,2,20041125,0945,  4.0050, 164.9550, 4485,    999.9,   4.7215,  34.5554,2,  34.5542,2,   -999.0,9,  4.6402,   -999.0,9
  33KM200411_1,  PR15,     6,  1,     13,     13,2,20041125,1604,  3.0017, 164.9750, 4202,      2.1,  30.1408,  33.9285,2,  33.9227,2,   -999.0,9, 30.1402,   -999.0,9
  33KM200411_1,  PR15,     6,  1,     10,     10,2,20041125,1604,  3.0017, 164.9750, 4202,     19.2,  30.1529,  33.9297,2,  33.9244,2,   -999.0,9, 30.1481,   -999.0,9
  33KM200411_1,  PR15,     6,  1,      9,      9,2,20041125,1604,  3.0017, 164.9750, 4202,     39.9,  30.1647,  33.9299,2,  33.9250,2,   -999.0,9, 30.1547,   -999.0,9
  33KM200411_1,  PR15,     6,  1,      5,      5,2,20041125,1604,  3.0017, 164.9750, 4202,    198.9,  15.4347,  34.6951,2,  34.6953,2,   -999.0,9, 15.4040,   -999.0,9
  33KM200411_1,  PR15,     6,  1,      4,      4,2,20041125,1604,  3.0017, 164.9750, 4202,    399.6,   9.6373,  34.6963,2,  34.6926,2,   -999.0,9,  9.5917,   -999.0,9
  33KM200411_1,  PR15,     6,  1,      3,      3,2,20041125,1604,  3.0017, 164.9750, 4202,    600.0,   7.3119,  34.5697,2,  34.5660,2,   -999.0,9,  7.2531,   -999.0,9
  33KM200411_1,  PR15,     6,  1,      2,      2,2,20041125,1604,  3.0017, 164.9750, 4202,    800.9,   5.8131,  34.5473,2,  34.5435,2,   -999.0,9,  5.7425,   -999.0,9
  33KM200411_1,  PR15,     6,  1,      1,      1,2,20041125,1604,  3.0017, 164.9750, 4202,    999.3,   4.7805,  34.5519,2,  34.5484,2,   -999.0,9,  4.6988,   -999.0,9
  33KM200411_1,  PR15,     8,  1,     13,     13,2,20041125,2325,  1.9900, 164.9733, 4173,      1.7,  30.0561,  33.9653,2,  33.9629,2,   -999.0,9, 30.0557,   -999.0,9
  33KM200411_1,  PR15,     8,  1,     10,     10,2,20041125,2325,  1.9900, 164.9733, 4173,     19.6,  30.0552,  33.9630,2,  33.9608,2,   -999.0,9, 30.0503,   -999.0,9
  33KM200411_1,  PR15,     8,  1,      9,      9,2,20041125,2325,  1.9900, 164.9733, 4173,     39.9,  30.4140,  34.2215,2,  34.2742,2,   -999.0,9, 30.4040,   -999.0,9
  33KM200411_1,  PR15,     8,  1,      5,      5,2,20041125,2325,  1.9900, 164.9733, 4173,    199.6,  16.6147,  34.8262,2,  34.8292,2,   -999.0,9, 16.5823,   -999.0,9
  33KM200411_1,  PR15,     8,  1,      4,      4,2,20041125,2325,  1.9900, 164.9733, 4173,    401.0,   9.5684,  34.6947,2,  34.6932,2,   -999.0,9,  9.5228,   -999.0,9
  33KM200411_1,  PR15,     8,  1,      3,      3,2,20041125,2325,  1.9900, 164.9733, 4173,    600.7,   7.0531,  34.5612,2,  34.5630,2,   -999.0,9,  6.9954,   -999.0,9
  33KM200411_1,  PR15,     8,  1,      2,      2,2,20041125,2325,  1.9900, 164.9733, 4173,    799.2,   5.6653,  34.5379,2,  34.5373,2,   -999.0,9,  5.5958,   -999.0,9
  33KM200411_1,  PR15,     8,  1,      1,      1,2,20041125,2325,  1.9900, 164.9733, 4173,    999.1,   4.6604,  34.5562,2,  34.5556,2,   -999.0,9,  4.5796,   -999.0,9
  33KM200411_1,  PR15,    10,  1,     13,     13,2,20041126,0702,  1.0033, 165.0100, 4328,      2.2,  30.5339,  34.3185,2,  34.3181,2,   -999.0,9, 30.5333,   -999.0,9
  33KM200411_1,  PR15,    10,  1,     10,     10,2,20041126,0702,  1.0033, 165.0100, 4328,     19.6,  30.4672,  34.3104,2,  34.3083,2,   -999.0,9, 30.4623,   -999.0,9
  33KM200411_1,  PR15,    10,  1,      9,      9,2,20041126,0702,  1.0033, 165.0100, 4328,     39.6,  30.4911,  34.3389,2,  34.3356,2,   -999.0,9, 30.4812,   -999.0,9
  33KM200411_1,  PR15,    10,  1,      5,      5,2,20041126,0702,  1.0033, 165.0100, 4328,    199.9,  15.9468,  34.8276,2,  34.8389,2,   -999.0,9, 15.9152,   -999.0,9
  33KM200411_1,  PR15,    10,  1,      4,      4,2,20041126,0702,  1.0033, 165.0100, 4328,    399.1,  10.1813,  34.7333,2,  34.7329,2,   -999.0,9, 10.1341,   -999.0,9
  33KM200411_1,  PR15,    10,  1,      3,      3,2,20041126,0702,  1.0033, 165.0100, 4328,    600.6,   6.9114,  34.5694,2,  34.5673,2,   -999.0,9,  6.8543,   -999.0,9
  33KM200411_1,  PR15,    10,  1,      2,      2,2,20041126,0702,  1.0033, 165.0100, 4328,    800.0,   5.6580,  34.5480,2,  34.5514,2,   -999.0,9,  5.5885,   -999.0,9
  33KM200411_1,  PR15,    10,  1,      1,      1,2,20041126,0702,  1.0033, 165.0100, 4328,   1000.4,   4.6556,  34.5513,2,  34.5505,2,   -999.0,9,  4.5748,   -999.0,9
  33KM200411_1,  PR15,    12,  1,     13,     13,2,20041126,1550, -0.0083, 165.0517, 4373,      3.6,  30.3433,  34.1774,2,  34.1830,2,   -999.0,9, 30.3424,   -999.0,9
  33KM200411_1,  PR15,    12,  1,     10,     10,2,20041126,1550, -0.0083, 165.0517, 4373,     19.8,  30.3628,  34.1959,2,  34.2016,2,   -999.0,9, 30.3579,   -999.0,9
  33KM200411_1,  PR15,    12,  1,      9,      9,2,20041126,1550, -0.0083, 165.0517, 4373,     39.7,  30.3805,  34.2060,2,  34.1995,2,   -999.0,9, 30.3706,   -999.0,9
  33KM200411_1,  PR15,    12,  1,      5,      5,2,20041126,1550, -0.0083, 165.0517, 4373,    200.3,  17.4485,  35.2799,2,  35.2894,2,   -999.0,9, 17.4148,   -999.0,9
  33KM200411_1,  PR15,    12,  1,      4,      4,2,20041126,1550, -0.0083, 165.0517, 4373,    500.5,   8.3120,  34.6250,2,  34.6259,2,   -999.0,9,  8.2595,   -999.0,9
  33KM200411_1,  PR15,    12,  1,      3,      3,2,20041126,1550, -0.0083, 165.0517, 4373,   1500.5,   3.1182,  34.6010,2,  34.6034,2,   -999.0,9,  3.0088,   -999.0,9
  33KM200411_1,  PR15,    12,  1,      2,      2,2,20041126,1550, -0.0083, 165.0517, 4373,   3000.8,   1.6320,  34.6745,2,  34.6739,2,   -999.0,9,  1.4122,   -999.0,9
  33KM200411_1,  PR15,    12,  1,      1,      1,2,20041126,1550, -0.0083, 165.0517, 4373,   4098.7,   1.3934,  34.6961,2,  34.6970,2,   -999.0,9,  1.0666,   -999.0,9
  33KM200411_1,  PR15,    14,  1,     13,     13,2,20041127,1505, -0.9933, 165.0417, 4543,      1.8,  30.2524,  34.0838,2,  34.0801,2,   -999.0,9, 30.2520,   -999.0,9
  33KM200411_1,  PR15,    14,  1,     10,     10,2,20041127,1505, -0.9933, 165.0417, 4543,     19.6,  30.2557,  34.0807,2,  34.0806,2,   -999.0,9, 30.2509,   -999.0,9
  33KM200411_1,  PR15,    14,  1,      9,      9,2,20041127,1505, -0.9933, 165.0417, 4543,     40.0,  30.4017,  34.2013,2,  34.1896,2,   -999.0,9, 30.3917,   -999.0,9
  33KM200411_1,  PR15,    14,  1,      5,      5,2,20041127,1505, -0.9933, 165.0417, 4543,    201.3,  19.3863,  35.4411,2,  35.4359,2,   -999.0,9, 19.3498,   -999.0,9
  33KM200411_1,  PR15,    14,  1,      4,      4,2,20041127,1505, -0.9933, 165.0417, 4543,    400.3,  10.3656,  34.7654,2,  34.7633,2,   -999.0,9, 10.3178,   -999.0,9
  33KM200411_1,  PR15,    14,  1,      3,      3,2,20041127,1505, -0.9933, 165.0417, 4543,    600.9,   7.0201,  34.5694,2,  34.5655,2,   -999.0,9,  6.9625,   -999.0,9
  33KM200411_1,  PR15,    14,  1,      2,      2,2,20041127,1505, -0.9933, 165.0417, 4543,    803.1,   5.7985,  34.5476,2,  34.5441,2,   -999.0,9,  5.7278,   -999.0,9
  33KM200411_1,  PR15,    14,  1,      1,      1,2,20041127,1505, -0.9933, 165.0417, 4543,    999.3,   4.6754,  34.5472,2,  34.5456,2,   -999.0,9,  4.5945,   -999.0,9
  33KM200411_1,  PR15,    16,  1,     13,     13,2,20041128,0309, -2.0117, 165.0200, 4463,      1.7,  31.1064,  34.2994,2,  34.2970,2,   -999.0,9, 31.1060,   -999.0,9
  33KM200411_1,  PR15,    16,  1,     10,     10,2,20041128,0309, -2.0117, 165.0200, 4463,     19.8,  30.3613,  34.2928,2,  34.2936,2,   -999.0,9, 30.3564,   -999.0,9
  33KM200411_1,  PR15,    16,  1,      9,      9,2,20041128,0309, -2.0117, 165.0200, 4463,     39.8,  30.4621,  34.3776,2,  34.3748,2,   -999.0,9, 30.4521,   -999.0,9
  33KM200411_1,  PR15,    16,  1,      5,      5,2,20041128,0309, -2.0117, 165.0200, 4463,    199.7,  15.7893,  35.2703,2,  35.2734,2,   -999.0,9, 15.7579,   -999.0,9
  33KM200411_1,  PR15,    16,  1,      4,      4,2,20041128,0309, -2.0117, 165.0200, 4463,    399.6,  10.5973,  34.7814,2,  34.7822,2,   -999.0,9, 10.5488,   -999.0,9
  33KM200411_1,  PR15,    16,  1,      3,      3,2,20041128,0309, -2.0117, 165.0200, 4463,    599.5,   6.8507,  34.5642,2,  34.5642,2,   -999.0,9,  6.7939,   -999.0,9
  33KM200411_1,  PR15,    16,  1,      2,      2,2,20041128,0309, -2.0117, 165.0200, 4463,    799.5,   5.5464,  34.5471,2,  34.5460,2,   -999.0,9,  5.4775,   -999.0,9
  33KM200411_1,  PR15,    16,  1,      1,      1,2,20041128,0309, -2.0117, 165.0200, 4463,   1001.5,   4.5962,  34.5464,2,  34.5476,2,   -999.0,9,  4.5157,   -999.0,9
  33KM200411_1,  PR15,    18,  1,     13,     13,2,20041128,1255, -2.9933, 165.0517, 4192,      2.4,  30.5002,  34.4875,2,  34.4927,2,   -999.0,9, 30.4996,   -999.0,9
  33KM200411_1,  PR15,    18,  1,     10,     10,2,20041128,1255, -2.9933, 165.0517, 4192,     19.5,  30.5907,  34.5628,2,  34.5611,2,   -999.0,9, 30.5858,   -999.0,9
  33KM200411_1,  PR15,    18,  1,      9,      9,2,20041128,1255, -2.9933, 165.0517, 4192,     40.5,  30.6493,  34.6147,2,  34.6101,2,   -999.0,9, 30.6391,   -999.0,9
  33KM200411_1,  PR15,    18,  1,      5,      5,2,20041128,1255, -2.9933, 165.0517, 4192,    200.8,  17.3144,  35.4343,2,  35.4630,2,   -999.0,9, 17.2808,   -999.0,9
  33KM200411_1,  PR15,    18,  1,      4,      4,2,20041128,1255, -2.9933, 165.0517, 4192,    399.7,   9.4426,  34.7113,2,  34.7118,2,   -999.0,9,  9.3976,   -999.0,9
  33KM200411_1,  PR15,    18,  1,      3,      3,2,20041128,1255, -2.9933, 165.0517, 4192,    600.1,   7.0260,  34.5647,2,  34.5672,2,   -999.0,9,  6.9684,   -999.0,9
  33KM200411_1,  PR15,    18,  1,      2,      2,2,20041128,1255, -2.9933, 165.0517, 4192,    800.2,   5.5262,  34.5368,2,  34.5345,2,   -999.0,9,  5.4574,   -999.0,9
  33KM200411_1,  PR15,    18,  1,      1,      1,2,20041128,1255, -2.9933, 165.0517, 4192,   1001.6,   4.5686,  34.5500,2,  34.5392,2,   -999.0,9,  4.4884,   -999.0,9
  33KM200411_1,  PR15,    19,  1,     13,     13,2,20041128,1915, -4.0000, 165.1267, 3380,      2.0,  30.2766,  34.2891,2,  34.2934,2,   -999.0,9, 30.2761,   -999.0,9
  33KM200411_1,  PR15,    19,  1,     10,     10,2,20041128,1915, -4.0000, 165.1267, 3380,     20.3,  30.2866,  34.2919,2,  34.2869,2,   -999.0,9, 30.2816,   -999.0,9
  33KM200411_1,  PR15,    19,  1,      9,      9,2,20041128,1915, -4.0000, 165.1267, 3380,     39.7,  30.5833,  34.6336,2,  34.6229,2,   -999.0,9, 30.5733,   -999.0,9
  33KM200411_1,  PR15,    19,  1,      5,      5,2,20041128,1915, -4.0000, 165.1267, 3380,    200.2,  18.8873,  35.5669,2,  35.5732,2,   -999.0,9, 18.8516,   -999.0,9
  33KM200411_1,  PR15,    19,  1,      4,      4,2,20041128,1915, -4.0000, 165.1267, 3380,    398.9,   9.1420,  34.6872,2,  34.6857,2,   -999.0,9,  9.0979,   -999.0,9
  33KM200411_1,  PR15,    19,  1,      3,      3,2,20041128,1915, -4.0000, 165.1267, 3380,    600.1,   7.2146,  34.5879,2,  34.5906,2,   -999.0,9,  7.1561,   -999.0,9
  33KM200411_1,  PR15,    19,  1,      2,      2,2,20041128,1915, -4.0000, 165.1267, 3380,    801.1,   5.6904,  34.5442,2,  34.5471,2,   -999.0,9,  5.6206,   -999.0,9
  33KM200411_1,  PR15,    20,  1,     13,     13,2,20041129,0422, -4.9650, 165.1900, 2522,      1.8,  30.2146,  34.2180,2,  34.2225,2,   -999.0,9, 30.2142,   -999.0,9
  33KM200411_1,  PR15,    20,  1,     10,     10,2,20041129,0422, -4.9650, 165.1900, 2522,     20.1,  30.2314,  34.2489,2,  34.2475,2,   -999.0,9, 30.2264,   -999.0,9
  33KM200411_1,  PR15,    20,  1,      9,      9,2,20041129,0422, -4.9650, 165.1900, 2522,     39.8,  30.1808,  34.2977,2,  34.2940,2,   -999.0,9, 30.1709,   -999.0,9
  33KM200411_1,  PR15,    20,  1,      5,      5,2,20041129,0422, -4.9650, 165.1900, 2522,    199.0,  19.0014,  35.6179,2,  35.6249,2,   -999.0,9, 18.9658,   -999.0,9
  33KM200411_1,  PR15,    20,  1,      4,      4,2,20041129,0422, -4.9650, 165.1900, 2522,    398.9,   9.0765,  34.6858,2,  34.6865,2,   -999.0,9,  9.0326,   -999.0,9
  33KM200411_1,  PR15,    20,  1,      3,      3,2,20041129,0422, -4.9650, 165.1900, 2522,    599.8,   7.2899,  34.5879,2,  34.5866,2,   -999.0,9,  7.2311,   -999.0,9
  33KM200411_1,  PR15,    20,  1,      2,      2,2,20041129,0422, -4.9650, 165.1900, 2522,    799.7,   5.7113,  34.5418,2,  34.5404,2,   -999.0,9,  5.6415,   -999.0,9
  33KM200411_1,  PR15,    20,  1,      1,      1,2,20041129,0422, -4.9650, 165.1900, 2522,   1000.0,   4.8983,  34.5348,2,  34.5332,2,   -999.0,9,  4.8157,   -999.0,9