BOTTLE,20090923WHPSIOMYS
EXPOCODE,SECT_ID,STNNBR,CASTNO,SAMPNO,BTLNBR,BTLNBR_FLAG_W,DATE,TIME,LATITUDE,LONGITUDE,DEPTH,CTDRAW,CTDPRS,CTDTMP,CTDSAL,CTDSAL_FLAG_W,SALNTY,SALNTY_FLAG_W,CTDOXY,CTDOXY_FLAG_W,THETA,OXYGEN,OXYGEN_FLAG_W,SILCAT,SILCAT_FLAG_W,NO2+NO3,NO2+NO3_FLAG_W,PHSPHT,PHSPHT_FLAG_W,REVPRS,REVTMP
,,,,,,,,,,,,,DBAR,ITS-90,PSS-78,,PSS-78,,UMOL/KG,,ITS-90,UMOL/KG,,UMOL/KG,,UMOL/KG,,UMOL/KG,,DBAR,DEG C
     33KB206_1,  PRS2,     2,  3,     24,   8024,2,20081130,1604, 22.7498,-157.9990, 4743,     10,     10.1,  24.8370,  35.2342,2,  35.2347,2,    208.0,2, 24.8349,    208.4,2,     0.73,2,     0.12,3,     0.00,2,  -999.0,-999.000
     33KB206_1,  PRS2,     2,  3,     23,   8023,2,20081130,1604, 22.7498,-157.9990, 4743,    501,    498.9,   7.1755,  34.0574,2,  34.0586,2,    115.8,2,  7.1278,    112.9,2,    46.47,2,    29.28,2,     2.09,2,  -999.0,-999.000
     33KB206_1,  PRS2,     2,  3,     22,   8022,2,20081130,1604, 22.7498,-157.9990, 4743,    802,    801.6,   4.6318,  34.3484,2,  34.3494,2,     29.0,2,  4.5686,     29.1,2,    93.74,2,    41.23,2,     3.02,2,  -999.0,-999.000
     33KB206_1,  PRS2,     2,  3,     21,   8021,2,20081130,1604, 22.7498,-157.9990, 4743,    997,    999.2,   4.0025,  34.4829,2,  34.4836,2,     42.0,2,  3.9269,     41.2,2,   106.42,2,    41.56,2,     3.01,2,  -999.0,-999.000
     33KB206_1,  PRS2,     2,  3,     20,   8020,2,20081130,1604, 22.7498,-157.9990, 4743,   1199,   1200.2,   3.4329,  34.5273,2,  34.5284,2,     52.1,2,  3.3454,     52.5,2,   121.58,2,    41.35,2,     2.98,2,  -999.0,-999.000
     33KB206_1,  PRS2,     2,  3,     19,   8019,2,20081130,1604, 22.7498,-157.9990, 4743,   1398,   1400.5,   2.9999,  34.5593,2,  34.5604,2,     61.5,2,  2.9003,     61.1,2,   130.80,2,    41.14,2,     2.94,2,  -999.0,-999.000
     33KB206_1,  PRS2,     2,  3,     18,   8018,2,20081130,1604, 22.7498,-157.9990, 4743,   1596,   1598.8,   2.6292,  34.5825,2,  34.5838,2,     71.6,2,  2.5175,     71.6,2,   140.67,2,    40.49,2,     2.89,2,  -999.0,-999.000
     33KB206_1,  PRS2,     2,  3,     17,   8017,2,20081130,1604, 22.7498,-157.9990, 4743,   1799,   1797.4,   2.3403,  34.6001,2,  34.6013,2,     79.7,2,  2.2160,     79.4,2,   146.23,2,    40.04,2,     2.85,2,  -999.0,-999.000
     33KB206_1,  PRS2,     2,  3,     16,   8016,2,20081130,1604, 22.7498,-157.9990, 4743,   1999,   1999.5,   2.0888,  34.6202,2,  34.6213,2,     88.9,2,  1.9511,     89.3,2,   151.15,2,    39.54,2,     2.80,2,  -999.0,-999.000
     33KB206_1,  PRS2,     2,  3,     15,   8015,2,20081130,1604, 22.7498,-157.9990, 4743,   2201,   2200.3,   1.9423,  34.6320,2,  34.6331,2,     95.5,2,  1.7897,     95.7,2,   154.40,2,    39.14,2,     2.75,2,  -999.0,-999.000
     33KB206_1,  PRS2,     2,  3,     14,   8014,2,20081130,1604, 22.7498,-157.9990, 4743,   2403,   2399.9,   1.7815,  34.6451,2,  34.6458,2,    103.4,2,  1.6142,    104.2,2,   157.86,2,    38.73,2,     2.72,2,  -999.0,-999.000
     33KB206_1,  PRS2,     2,  3,     13,   8025,2,20081130,1604, 22.7498,-157.9990, 4743,   2600,   2600.0,   1.7018,  34.6529,2,  34.6537,2,    109.7,2,  1.5181,    109.3,2,   158.07,2,    38.37,2,     2.69,2,  -999.0,-999.000
     33KB206_1,  PRS2,     2,  3,     12,   8012,2,20081130,1604, 22.7498,-157.9990, 4743,   2799,   2799.2,   1.6099,  34.6619,2,  34.6629,2,    117.6,2,  1.4097,    118.4,2,   158.57,2,    37.81,2,     2.65,2,  -999.0,-999.000
     33KB206_1,  PRS2,     2,  3,     11,   8011,2,20081130,1604, 22.7498,-157.9990, 4743,   3000,   3002.6,   1.5375,  34.6696,2,  34.6710,2,    126.1,2,  1.3196,    125.9,2,   158.18,2,    37.37,2,     2.61,2,  -999.0,-999.000
     33KB206_1,  PRS2,     2,  3,     10,   8010,2,20081130,1604, 22.7498,-157.9990, 4743,   3203,   3201.4,   1.4957,  34.6750,2,  34.6763,2,    132.5,2,  1.2596,    132.6,2,   157.42,2,    36.98,2,     2.58,2,  -999.0,-999.000
     33KB206_1,  PRS2,     2,  3,      9,   8009,2,20081130,1604, 22.7498,-157.9990, 4743,   3400,   3398.9,   1.4761,  34.6778,2,  34.6791,2,    136.5,2,  1.2209,    136.0,2,   155.75,2,    36.54,2,     2.54,2,  -999.0,-999.000
     33KB206_1,  PRS2,     2,  3,      8,   8008,2,20081130,1604, 22.7498,-157.9990, 4743,   3601,   3600.6,   1.4624,  34.6809,2,  34.6824,2,    140.9,2,  1.1869,    141.8,2,   153.34,2,    36.40,2,     2.53,2,  -999.0,-999.000
     33KB206_1,  PRS2,     2,  3,      7,   8026,2,20081130,1604, 22.7498,-157.9990, 4743,   3803,   3801.0,   1.4605,  34.6832,2,  34.6844,2,    143.7,2,  1.1641,    143.6,2,   156.18,3,    36.12,2,     2.51,2,  -999.0,-999.000
     33KB206_1,  PRS2,     2,  3,      6,   8006,2,20081130,1604, 22.7498,-157.9990, 4743,   4002,   3998.6,   1.4583,  34.6853,2,  34.6864,2,    147.1,2,  1.1407,    146.9,2,   153.49,2,    35.79,2,     2.49,2,  -999.0,-999.000
     33KB206_1,  PRS2,     2,  3,      5,   8005,2,20081130,1604, 22.7498,-157.9990, 4743,   4197,   4198.5,   1.4641,  34.6868,2,  34.6879,2,    149.6,2,  1.1244,    148.7,2,   153.51,2,    35.71,2,     2.48,2,  -999.0,-999.000
     33KB206_1,  PRS2,     2,  3,      4,   8004,2,20081130,1604, 22.7498,-157.9990, 4743,   4400,   4400.9,   1.4801,  34.6872,2,  34.6883,2,    150.5,2,  1.1171,    150.4,2,   152.20,2,    35.72,2,     2.47,2,  -999.0,-999.000
     33KB206_1,  PRS2,     2,  3,      3,   8003,2,20081130,1604, 22.7498,-157.9990, 4743,   4498,   4498.6,   1.4876,  34.6873,2,  34.6887,2,    151.0,2,  1.1131,    150.8,2,   153.05,2,    35.52,2,     2.47,2,  -999.0,-999.000
     33KB206_1,  PRS2,     2,  3,      2,   8002,2,20081130,1604, 22.7498,-157.9990, 4743,   4601,   4601.0,   1.4959,  34.6878,2,  34.6899,2,    151.5,2,  1.1093,    152.2,2,   151.71,2,    35.42,2,     2.47,2,  -999.0,-999.000
     33KB206_1,  PRS2,     2,  3,      1,   8001,2,20081130,1604, 22.7498,-157.9990, 4743,   4803,   4805.1,   1.5103,  34.6888,2,  34.6910,2,    152.8,2,  1.0992,    152.8,2,   150.47,2,    35.28,2,     2.48,2,  -999.0,-999.000
     33KB206_1,  PRS2,     2,  4,     24,   8024,2,20081130,2232, 22.7500,-157.9995, 4742,     12,     10.9,  24.8639,  35.2378,2,  35.2367,2,    207.4,2, 24.8616,    207.4,2,     1.40,2,     0.01,2,     0.03,2,  -999.0,-999.000
     33KB206_1,  PRS2,     2,  4,     23,   8023,2,20081130,2232, 22.7500,-157.9995, 4742,     71,     71.3,  23.1579,  35.2098,2,  35.2085,2,    213.8,2, 23.1433,    212.8,2,     1.90,2,     0.00,2,     0.05,2,  -999.0,-999.000
     33KB206_1,  PRS2,     2,  4,     22,   8022,2,20081130,2232, 22.7500,-157.9995, 4742,    108,    104.9,  21.9017,  35.2321,2,  35.2320,2,    202.0,2, 21.8810,    200.5,2,     1.56,2,     0.62,2,     0.08,2,  -999.0,-999.000
     33KB206_1,  PRS2,     2,  4,     21,   8021,2,20081130,2232, 22.7500,-157.9995, 4742,    163,    161.1,  19.3827,  34.9904,2,  34.9963,2,    191.6,2, 19.3536,    190.6,2,     2.64,2,     2.50,2,     0.22,2,  -999.0,-999.000
     33KB206_1,  PRS2,     2,  4,     20,   8020,2,20081130,2232, 22.7500,-157.9995, 4742,    220,    220.0,  15.6007,  34.5510,2,  34.5529,2,    193.9,2, 15.5666,    194.7,2,     5.45,2,     6.01,2,     0.45,2,  -999.0,-999.000
     33KB206_1,  PRS2,     2,  4,     19,   8019,2,20081130,2232, 22.7500,-157.9995, 4742,    266,    265.2,  13.3809,  34.3472,2,  34.3507,2,    199.6,2, 13.3439,    199.3,2,     8.75,2,     9.30,2,     0.65,2,  -999.0,-999.000
     33KB206_1,  PRS2,     2,  4,     18,   8018,2,20081130,2232, 22.7500,-157.9995, 4742,    305,    304.8,  11.7950,  34.2469,2,  34.2470,2,    203.4,2, 11.7558,    203.7,2,    12.36,2,    12.17,2,     0.85,2,  -999.0,-999.000
     33KB206_1,  PRS2,     2,  4,     17,   8017,2,20081130,2232, 22.7500,-157.9995, 4742,    352,    351.8,  10.5897,  34.1751,2,  34.1744,2,    195.9,2, 10.5474,    195.8,2,    17.10,2,    15.40,2,     1.07,2,  -999.0,-999.000
     33KB206_1,  PRS2,     2,  4,     16,   8016,2,20081130,2232, 22.7500,-157.9995, 4742,    385,    385.2,  10.0590,  34.1537,2,  34.1519,2,    181.0,2, 10.0141,    177.4,2,    21.17,2,    18.02,2,     1.29,2,  -999.0,-999.000
     33KB206_1,  PRS2,     2,  4,     15,   8015,2,20081130,2232, 22.7500,-157.9995, 4742,    422,    421.0,   9.2159,  34.1317,2,  34.1330,2,    154.8,2,  9.1695,    146.9,2,    28.77,2,    22.31,2,     1.61,2,  -999.0,-999.000
     33KB206_1,  PRS2,     2,  4,     14,   8014,2,20081130,2232, 22.7500,-157.9995, 4742,    456,    455.8,   8.3291,  34.1037,2,  34.1025,2,    127.7,2,  8.2817,    126.9,2,    36.40,2,    26.20,2,     1.87,2,  -999.0,-999.000
     33KB206_1,  PRS2,     2,  4,     13,   8025,2,20081130,2232, 22.7500,-157.9995, 4742,    488,    488.0,   7.4991,  34.0757,2,  34.0770,2,    114.3,2,  7.4513,    115.0,2,    44.12,2,    28.72,2,     2.05,2,  -999.0,-999.000
     33KB206_1,  PRS2,     2,  4,     12,   8012,2,20081130,2232, 22.7500,-157.9995, 4742,    520,    520.8,   6.8664,  34.0611,2,  34.0597,2,    106.7,2,  6.8177,    104.9,2,    51.29,2,    31.12,2,     2.19,2,  -999.0,-999.000
     33KB206_1,  PRS2,     2,  4,     11,   8011,2,20081130,2232, 22.7500,-157.9995, 4742,    575,    576.0,   6.1047,  34.0983,2,  34.0989,2,     74.4,2,  6.0540,     74.3,2,    64.39,2,    34.99,2,     2.50,2,  -999.0,-999.000
     33KB206_1,  PRS2,     2,  4,     10,   8010,2,20081130,2232, 22.7500,-157.9995, 4742,    621,    623.0,   5.8765,  34.1738,2,  34.1724,2,     60.0,2,  5.8225,     59.9,2,    71.59,2,    36.83,2,     2.65,2,  -999.0,-999.000
     33KB206_1,  PRS2,     2,  4,      9,   8009,2,20081130,2232, 22.7500,-157.9995, 4742,    688,    687.1,   5.1181,  34.2130,2,  34.2124,2,     39.5,2,  5.0621,     40.1,2,    85.64,2,    39.89,2,     2.86,2,  -999.0,-999.000
     33KB206_1,  PRS2,     2,  4,      8,   8008,2,20081130,2232, 22.7500,-157.9995, 4742,    723,    721.7,   4.8263,  34.2737,2,  34.2732,2,     33.1,2,  4.7689,     33.9,2,    93.19,2,    40.85,2,     2.94,2,  -999.0,-999.000
     33KB206_1,  PRS2,     2,  4,      7,   8026,2,20081130,2232, 22.7500,-157.9995, 4742,    755,    754.4,   4.7280,  34.3004,2,  34.2987,2,     30.7,2,  4.6683,     31.4,2,    95.70,2,    41.38,2,     2.98,2,  -999.0,-999.000
     33KB206_1,  PRS2,     2,  4,      6,   8006,2,20081130,2232, 22.7500,-157.9995, 4742,    791,    791.8,   4.6792,  34.3329,2,  34.3327,2,     30.6,2,  4.6166,     30.4,2,    96.82,2,    41.54,2,     3.00,2,  -999.0,-999.000
     33KB206_1,  PRS2,     2,  4,      5,   8005,2,20081130,2232, 22.7500,-157.9995, 4742,    823,    822.5,   4.4957,  34.3836,2,  34.3808,2,     30.4,2,  4.4316,     29.6,2,   100.97,2,    41.85,2,     3.02,2,  -999.0,-999.000
     33KB206_1,  PRS2,     2,  4,      4,   8004,2,20081130,2232, 22.7500,-157.9995, 4742,    872,    870.8,   4.3679,  34.4194,2,  34.4180,2,     33.4,2,  4.3005,     33.9,2,   104.15,2,    41.99,2,     3.01,2,  -999.0,-999.000
     33KB206_1,  PRS2,     2,  4,      3,   8003,2,20081130,2232, 22.7500,-157.9995, 4742,    922,    921.4,   4.2936,  34.4373,2,  34.4363,2,     35.2,2,  4.2224,     34.8,2,   104.43,2,    42.14,2,     3.02,2,  -999.0,-999.000
     33KB206_1,  PRS2,     2,  4,      2,   8002,2,20081130,2232, 22.7500,-157.9995, 4742,    968,    969.4,   4.1816,  34.4578,2,  34.4573,2,     38.0,2,  4.1072,     38.6,2,   106.54,2,    40.81,2,     2.90,4,  -999.0,-999.000
     33KB206_1,  PRS2,     2,  4,      1,   8001,2,20081130,2232, 22.7500,-157.9995, 4742,   1018,   1019.3,   4.1100,  34.4702,2,  34.4714,2,     39.5,2,  4.0320,     39.6,2,   108.33,2,    42.00,2,     3.02,2,  -999.0,-999.000
     33KB206_1,  PRS2,     2,  5,     24,   8024,2,20081201,0134, 22.6787,-158.0503, 4764,     11,      9.3,  25.0158,  35.2193,2,-999.0000,5,    208.0,1, 25.0138,   -999.0,9,  -999.00,9,  -999.00,9,  -999.00,9,  -999.0,-999.000
     33KB206_1,  PRS2,     2,  5,     23,   8023,2,20081201,0134, 22.6787,-158.0503, 4764,      8,      9.7,  25.0181,  35.2187,2,  35.2174,2,    208.2,1, 25.0160,   -999.0,9,  -999.00,9,  -999.00,9,  -999.00,9,  -999.0,-999.000
     33KB206_1,  PRS2,     2,  5,     22,   8022,2,20081201,0134, 22.6787,-158.0503, 4764,     25,     24.7,  24.8837,  35.2341,2,-999.0000,5,    207.3,1, 24.8784,   -999.0,9,  -999.00,9,  -999.00,9,  -999.00,9,  -999.0,-999.000
     33KB206_1,  PRS2,     2,  5,     20,   8020,2,20081201,0134, 22.6787,-158.0503, 4764,     25,     25.0,  24.8836,  35.2339,2,-999.0000,5,    207.2,1, 24.8782,   -999.0,9,  -999.00,9,  -999.00,9,  -999.00,9,  -999.0,-999.000
     33KB206_1,  PRS2,     2,  5,     21,   8021,2,20081201,0134, 22.6787,-158.0503, 4764,     24,     25.3,  24.8837,  35.2339,2,  35.2327,2,    207.2,1, 24.8783,   -999.0,9,  -999.00,9,  -999.00,9,  -999.00,9,  -999.0,-999.000
     33KB206_1,  PRS2,     2,  5,     17,   8017,2,20081201,0134, 22.6787,-158.0503, 4764,     45,     44.7,  24.7474,  35.2603,2,  35.2607,2,    207.4,1, 24.7378,   -999.0,9,  -999.00,9,  -999.00,9,  -999.00,9,  -999.0,-999.000
     33KB206_1,  PRS2,     2,  5,     19,   8019,2,20081201,0134, 22.6787,-158.0503, 4764,     47,     45.0,  24.7544,  35.2587,2,-999.0000,5,    206.8,1, 24.7447,   -999.0,9,  -999.00,9,  -999.00,9,  -999.00,9,  -999.0,-999.000
     33KB206_1,  PRS2,     2,  5,     18,   8018,2,20081201,0134, 22.6787,-158.0503, 4764,     46,     45.1,  24.7477,  35.2601,2,-999.0000,5,    207.2,1, 24.7380,   -999.0,9,  -999.00,9,  -999.00,9,  -999.00,9,  -999.0,-999.000
     33KB206_1,  PRS2,     2,  5,     15,   8015,2,20081201,0134, 22.6787,-158.0503, 4764,     75,     74.8,  24.6848,  35.2705,2,  35.2704,2,    207.1,1, 24.6688,   -999.0,9,  -999.00,9,  -999.00,9,  -999.00,9,  -999.0,-999.000
     33KB206_1,  PRS2,     2,  5,     16,   8016,2,20081201,0134, 22.6787,-158.0503, 4764,     76,     75.0,  24.6846,  35.2704,2,-999.0000,5,    207.1,1, 24.6684,   -999.0,9,  -999.00,9,  -999.00,9,  -999.00,9,  -999.0,-999.000
     33KB206_1,  PRS2,     2,  5,     14,   8014,2,20081201,0134, 22.6787,-158.0503, 4764,     98,     99.8,  22.9501,  35.2339,2,-999.0000,5,    210.8,1, 22.9297,   -999.0,9,  -999.00,9,  -999.00,9,  -999.00,9,  -999.0,-999.000
     33KB206_1,  PRS2,     2,  5,     13,   8025,2,20081201,0134, 22.6787,-158.0503, 4764,    101,     99.8,  22.9453,  35.2356,2,  35.2306,2,    210.0,1, 22.9250,   -999.0,9,  -999.00,9,  -999.00,9,  -999.00,9,  -999.0,-999.000
     33KB206_1,  PRS2,     2,  5,     11,   8011,2,20081201,0134, 22.6787,-158.0503, 4764,    124,    123.7,  21.8718,  35.2319,2,  35.2302,2,    200.7,1, 21.8474,   -999.0,9,  -999.00,9,  -999.00,9,  -999.00,9,  -999.0,-999.000
     33KB206_1,  PRS2,     2,  5,     12,   8012,2,20081201,0134, 22.6787,-158.0503, 4764,    124,    123.8,  21.8814,  35.2317,2,-999.0000,5,    201.2,1, 21.8570,   -999.0,9,  -999.00,9,  -999.00,9,  -999.00,9,  -999.0,-999.000
     33KB206_1,  PRS2,     2,  5,      9,   8009,2,20081201,0134, 22.6787,-158.0503, 4764,    151,    148.1,  21.0769,  35.2007,2,  35.2018,2,    195.5,1, 21.0485,   -999.0,9,  -999.00,9,  -999.00,9,  -999.00,9,  -999.0,-999.000
     33KB206_1,  PRS2,     2,  5,     10,   8010,2,20081201,0134, 22.6787,-158.0503, 4764,    150,    148.5,  21.0989,  35.2016,2,-999.0000,5,    195.8,1, 21.0704,   -999.0,9,  -999.00,9,  -999.00,9,  -999.00,9,  -999.0,-999.000
     33KB206_1,  PRS2,     2,  5,      8,   8008,2,20081201,0134, 22.6787,-158.0503, 4764,    175,    174.4,  20.1829,  35.1211,2,-999.0000,5,    193.3,1, 20.1505,   -999.0,9,  -999.00,9,  -999.00,9,  -999.00,9,  -999.0,-999.000
     33KB206_1,  PRS2,     2,  5,      7,   8026,2,20081201,0134, 22.6787,-158.0503, 4764,    173,    175.2,  20.1446,  35.1158,2,  35.1195,2,    193.7,1, 20.1121,   -999.0,9,  -999.00,9,  -999.00,9,  -999.00,9,  -999.0,-999.000
     33KB206_1,  PRS2,     2,  5,      6,   8006,2,20081201,0134, 22.6787,-158.0503, 4764,    202,    200.8,  19.1297,  34.9910,2,  35.0004,2,    191.4,1, 19.0937,   -999.0,9,  -999.00,9,  -999.00,9,  -999.00,9,  -999.0,-999.000
     33KB206_1,  PRS2,     2,  5,      5,   8005,2,20081201,0134, 22.6787,-158.0503, 4764,    253,    251.3,  15.3500,  34.5228,2,  34.5294,2,    194.1,1, 15.3114,   -999.0,9,  -999.00,9,  -999.00,9,  -999.00,9,  -999.0,-999.000
     33KB206_1,  PRS2,     2,  5,      3,   8003,2,20081201,0134, 22.6787,-158.0503, 4764,    347,    348.8,  11.2139,  34.2078,2,  34.2113,2,    199.7,1, 11.1704,   -999.0,9,  -999.00,9,  -999.00,9,  -999.00,9,  -999.0,-999.000
     33KB206_1,  PRS2,     2,  5,      4,   8004,2,20081201,0134, 22.6787,-158.0503, 4764,    347,    349.2,  11.2114,  34.2064,2,  34.2115,2,    199.7,1, 11.1679,   -999.0,9,  -999.00,9,  -999.00,9,  -999.00,9,  -999.0,-999.000
     33KB206_1,  PRS2,     2,  5,      2,   8002,2,20081201,0134, 22.6787,-158.0503, 4764,    519,    520.2,   6.9463,  34.0536,2,  34.0539,2,    108.2,1,  6.8974,   -999.0,9,  -999.00,9,  -999.00,9,  -999.00,9,  -999.0,-999.000
     33KB206_1,  PRS2,     2,  5,      1,   8001,2,20081201,0134, 22.6787,-158.0503, 4764,   1021,   1019.6,   4.0195,  34.4804,2,  34.4807,2,     41.1,1,  3.9421,   -999.0,9,  -999.00,9,  -999.00,9,  -999.00,9,  -999.0,-999.000