BOTTLE,20090923WHPSIOMYS
EXPOCODE,SECT_ID,STNNBR,CASTNO,SAMPNO,BTLNBR,BTLNBR_FLAG_W,DATE,TIME,LATITUDE,LONGITUDE,DEPTH,CTDRAW,CTDPRS,CTDTMP,CTDSAL,CTDSAL_FLAG_W,SALNTY,SALNTY_FLAG_W,CTDOXY,CTDOXY_FLAG_W,THETA,OXYGEN,OXYGEN_FLAG_W,SILCAT,SILCAT_FLAG_W,NO2+NO3,NO2+NO3_FLAG_W,PHSPHT,PHSPHT_FLAG_W,REVPRS,REVTMP
,,,,,,,,,,,,,DBAR,ITS-90,PSS-78,,PSS-78,,UMOL/KG,,ITS-90,UMOL/KG,,UMOL/KG,,UMOL/KG,,UMOL/KG,,DBAR,DEG C
     33KB206_1,  PRS2,     2,  6,     18,   8018,2,20081201,0529, 22.7943,-158.0108, 4728,      7,      8.2,  24.8657,  35.2372,2,  35.2365,2,    206.2,1, 24.8639,   -999.0,9,  -999.00,9,  -999.00,9,  -999.00,9,  -999.0,-999.000
     33KB206_1,  PRS2,     2,  6,     17,   8017,2,20081201,0529, 22.7943,-158.0108, 4728,     25,     24.8,  24.8703,  35.2371,2,  35.2369,2,    206.1,1, 24.8650,   -999.0,9,  -999.00,9,  -999.00,9,  -999.00,9,  -999.0,-999.000
     33KB206_1,  PRS2,     2,  6,     16,   8016,2,20081201,0529, 22.7943,-158.0108, 4728,     43,     45.6,  24.8745,  35.2368,2,  35.2369,2,    206.1,1, 24.8647,   -999.0,9,  -999.00,9,  -999.00,9,  -999.00,9,  -999.0,-999.000
     33KB206_1,  PRS2,     2,  6,     15,   8015,2,20081201,0529, 22.7943,-158.0108, 4728,     73,     75.3,  24.8026,  35.2420,2,  35.2377,2,    206.8,1, 24.7864,   -999.0,9,  -999.00,9,  -999.00,9,  -999.00,9,  -999.0,-999.000
     33KB206_1,  PRS2,     2,  6,     14,   8014,2,20081201,0529, 22.7943,-158.0108, 4728,    100,    100.2,  22.6968,  35.2366,2,  35.2389,2,    208.0,1, 22.6766,   -999.0,9,  -999.00,9,  -999.00,9,  -999.00,9,  -999.0,-999.000
     33KB206_1,  PRS2,     2,  6,     12,   8012,2,20081201,0529, 22.7943,-158.0108, 4728,    111,    109.4,  22.2528,  35.2366,2,-999.0000,5,    200.9,1, 22.2310,   -999.0,9,  -999.00,9,  -999.00,9,  -999.00,9,  -999.0,-999.000
     33KB206_1,  PRS2,     2,  6,     13,   8025,2,20081201,0529, 22.7943,-158.0108, 4728,    109,    110.0,  22.2441,  35.2369,2,-999.0000,5,    201.3,1, 22.2221,   -999.0,9,  -999.00,9,  -999.00,9,  -999.00,9,  -999.0,-999.000
     33KB206_1,  PRS2,     2,  6,     11,   8011,2,20081201,0529, 22.7943,-158.0108, 4728,    126,    124.5,  21.6505,  35.2207,2,  35.2221,2,    195.8,1, 21.6261,   -999.0,9,  -999.00,9,  -999.00,9,  -999.00,9,  -999.0,-999.000
     33KB206_1,  PRS2,     2,  6,     10,   8010,2,20081201,0529, 22.7943,-158.0108, 4728,    150,    148.9,  20.9560,  35.1773,2,  35.1784,2,    193.5,1, 20.9275,   -999.0,9,  -999.00,9,  -999.00,9,  -999.00,9,  -999.0,-999.000
     33KB206_1,  PRS2,     2,  6,      9,   8009,2,20081201,0529, 22.7943,-158.0108, 4728,    173,    173.7,  20.0868,  35.0625,2,  35.0699,2,    188.6,1, 20.0546,   -999.0,9,  -999.00,9,  -999.00,9,  -999.00,9,  -999.0,-999.000
     33KB206_1,  PRS2,     2,  6,      8,   8008,2,20081201,0529, 22.7943,-158.0108, 4728,    202,    200.7,  19.1739,  34.9519,2,  34.9606,2,    189.5,1, 19.1379,   -999.0,9,  -999.00,9,  -999.00,9,  -999.00,9,  -999.0,-999.000
     33KB206_1,  PRS2,     2,  6,      7,   8026,2,20081201,0529, 22.7943,-158.0108, 4728,    252,    251.4,  15.7399,  34.5639,2,  34.5661,2,    193.6,1, 15.7006,   -999.0,9,  -999.00,9,  -999.00,9,  -999.00,9,  -999.0,-999.000
     33KB206_1,  PRS2,     2,  6,      5,   8005,2,20081201,0529, 22.7943,-158.0108, 4728,    350,    349.1,  11.7239,  34.2400,2,  34.2424,2,    202.2,1, 11.6791,   -999.0,9,  -999.00,9,  -999.00,9,  -999.00,9,  -999.0,-999.000
     33KB206_1,  PRS2,     2,  6,      6,   8006,2,20081201,0529, 22.7943,-158.0108, 4728,    348,    349.2,  11.7339,  34.2389,2,  34.2426,2,    202.0,1, 11.6891,   -999.0,9,  -999.00,9,  -999.00,9,  -999.00,9,  -999.0,-999.000
     33KB206_1,  PRS2,     2,  6,      4,   8004,2,20081201,0529, 22.7943,-158.0108, 4728,    509,    509.9,   7.3951,  34.0658,2,  34.0660,2,    116.9,1,  7.3454,   -999.0,9,  -999.00,9,  -999.00,9,  -999.00,9,  -999.0,-999.000
     33KB206_1,  PRS2,     2,  6,      3,   8003,2,20081201,0529, 22.7943,-158.0108, 4728,    750,    750.6,   4.9759,  34.2569,2,-999.0000,5,     37.3,1,  4.9152,   -999.0,9,  -999.00,9,  -999.00,9,  -999.00,9,  -999.0,-999.000
     33KB206_1,  PRS2,     2,  6,      1,   8001,2,20081201,0529, 22.7943,-158.0108, 4728,   1020,   1019.8,   3.9529,  34.4776,2,  34.4775,2,     42.4,1,  3.8760,   -999.0,9,  -999.00,9,  -999.00,9,  -999.00,9,  -999.0,-999.000
     33KB206_1,  PRS2,     2,  6,      2,   8002,2,20081201,0529, 22.7943,-158.0108, 4728,   1021,   1020.2,   3.9542,  34.4779,2,-999.0000,5,     42.3,1,  3.8773,   -999.0,9,  -999.00,9,  -999.00,9,  -999.00,9,  -999.0,-999.000
     33KB206_1,  PRS2,     2,  7,     23,   8023,2,20081201,0902, 22.8325,-158.0030, 4701,      6,      7.1,  24.8749,  35.2358,2,  35.2349,2,    206.4,2, 24.8733,   -999.0,5,  -999.00,9,  -999.00,9,  -999.00,9,  -999.0,-999.000
     33KB206_1,  PRS2,     2,  7,     22,   8022,2,20081201,0902, 22.8325,-158.0030, 4701,      6,      7.1,  24.8746,  35.2359,2,  35.2347,2,    206.2,2, 24.8730,    205.6,2,  -999.00,9,  -999.00,9,  -999.00,9,  -999.0,-999.000
     33KB206_1,  PRS2,     2,  7,     21,   8021,2,20081201,0902, 22.8325,-158.0030, 4701,     15,     13.9,  24.8707,  35.2364,2,  35.2349,2,    206.1,2, 24.8676,   -999.0,5,  -999.00,9,  -999.00,9,  -999.00,9,  -999.0,-999.000
     33KB206_1,  PRS2,     2,  7,     19,   8019,2,20081201,0902, 22.8325,-158.0030, 4701,     22,     23.3,  24.8742,  35.2368,2,  35.2355,2,    206.1,2, 24.8691,    207.9,2,  -999.00,9,  -999.00,9,  -999.00,9,  -999.0,-999.000
     33KB206_1,  PRS2,     2,  7,     20,   8020,2,20081201,0902, 22.8325,-158.0030, 4701,     23,     23.6,  24.8739,  35.2365,2,  35.2355,2,    206.0,2, 24.8688,   -999.0,5,  -999.00,9,  -999.00,9,  -999.00,9,  -999.0,-999.000
     33KB206_1,  PRS2,     2,  7,     18,   8018,2,20081201,0902, 22.8325,-158.0030, 4701,     38,     35.1,  24.8763,  35.2373,2,  35.2355,2,    206.3,2, 24.8687,   -999.0,5,  -999.00,9,  -999.00,9,  -999.00,9,  -999.0,-999.000
     33KB206_1,  PRS2,     2,  7,     17,   8017,2,20081201,0902, 22.8325,-158.0030, 4701,     45,     43.7,  24.8774,  35.2476,2,  35.2455,2,    206.8,2, 24.8680,    207.0,2,  -999.00,9,  -999.00,9,  -999.00,9,  -999.0,-999.000
     33KB206_1,  PRS2,     2,  7,     16,   8016,2,20081201,0902, 22.8325,-158.0030, 4701,     59,     58.6,  24.8685,  35.2626,2,  35.2611,2,    206.4,2, 24.8558,   -999.0,5,  -999.00,9,  -999.00,9,  -999.00,9,  -999.0,-999.000
     33KB206_1,  PRS2,     2,  7,     15,   8015,2,20081201,0902, 22.8325,-158.0030, 4701,     75,     74.5,  23.6952,  35.2285,2,  35.2302,2,    212.3,2, 23.6796,    212.4,2,  -999.00,9,  -999.00,9,  -999.00,9,  -999.0,-999.000
     33KB206_1,  PRS2,     2,  7,     14,   8014,2,20081201,0902, 22.8325,-158.0030, 4701,     84,     84.1,  23.0350,  35.2227,2,  35.2213,2,    209.1,2, 23.0178,    206.1,2,  -999.00,9,  -999.00,9,  -999.00,9,  -999.0,-999.000
     33KB206_1,  PRS2,     2,  7,     13,   8025,2,20081201,0902, 22.8325,-158.0030, 4701,     92,     89.9,  22.7234,  35.2181,2,  35.2176,2,    203.2,2, 22.7052,   -999.0,5,  -999.00,9,  -999.00,9,  -999.00,9,  -999.0,-999.000
     33KB206_1,  PRS2,     2,  7,     12,   8012,2,20081201,0902, 22.8325,-158.0030, 4701,     97,     98.8,  22.3891,  35.2297,2,  35.2284,2,    199.6,2, 22.3693,    199.5,2,  -999.00,9,  -999.00,9,  -999.00,9,  -999.0,-999.000
     33KB206_1,  PRS2,     2,  7,     11,   8011,2,20081201,0902, 22.8325,-158.0030, 4701,    111,    110.2,  21.8940,  35.2336,2,  35.2327,2,    193.3,2, 21.8722,   -999.0,5,  -999.00,9,  -999.00,9,  -999.00,9,  -999.0,-999.000
     33KB206_1,  PRS2,     2,  7,     10,   8010,2,20081201,0902, 22.8325,-158.0030, 4701,    119,    115.8,  21.7151,  35.2314,2,  35.2310,2,    193.5,2, 21.6924,    197.8,2,  -999.00,9,  -999.00,9,  -999.00,9,  -999.0,-999.000
     33KB206_1,  PRS2,     2,  7,      9,   8009,2,20081201,0902, 22.8325,-158.0030, 4701,    123,    123.6,  21.5020,  35.2287,2,  35.2278,2,    193.6,2, 21.4780,    195.7,2,  -999.00,9,  -999.00,9,  -999.00,9,  -999.0,-999.000
     33KB206_1,  PRS2,     2,  7,      8,   8008,2,20081201,0902, 22.8325,-158.0030, 4701,    129,    127.2,  21.4458,  35.2224,2,  35.2227,2,    193.4,2, 21.4211,   -999.0,5,  -999.00,9,  -999.00,9,  -999.00,9,  -999.0,-999.000
     33KB206_1,  PRS2,     2,  7,      7,   8026,2,20081201,0902, 22.8325,-158.0030, 4701,    149,    150.6,  20.4939,  35.1299,2,  35.1382,2,    193.8,2, 20.4655,    193.1,2,  -999.00,9,  -999.00,9,  -999.00,9,  -999.0,-999.000
     33KB206_1,  PRS2,     2,  7,      6,   8006,2,20081201,0902, 22.8325,-158.0030, 4701,    165,    164.0,  19.6495,  35.0208,2,  35.0218,2,    192.9,2, 19.6196,    193.5,2,  -999.00,9,  -999.00,9,  -999.00,9,  -999.0,-999.000
     33KB206_1,  PRS2,     2,  7,      5,   8005,2,20081201,0902, 22.8325,-158.0030, 4701,    176,    175.1,  18.7847,  34.9098,2,  34.9119,2,    193.7,2, 18.7538,    192.9,2,  -999.00,9,  -999.00,9,  -999.00,9,  -999.0,-999.000
     33KB206_1,  PRS2,     2,  7,      4,   8004,2,20081201,0902, 22.8325,-158.0030, 4701,    200,    200.0,  16.9575,  34.7066,2,  34.7103,2,    190.5,2, 16.9246,    192.0,2,  -999.00,9,  -999.00,9,  -999.00,9,  -999.0,-999.000
     33KB206_1,  PRS2,     2,  7,      3,   8003,2,20081201,0902, 22.8325,-158.0030, 4701,    521,    521.0,   6.9028,  34.0577,2,  34.0568,2,    106.6,2,  6.8540,    106.8,2,  -999.00,9,  -999.00,9,  -999.00,9,  -999.0,-999.000
     33KB206_1,  PRS2,     2,  7,      2,   8002,2,20081201,0902, 22.8325,-158.0030, 4701,    842,    841.0,   4.6758,  34.3421,2,  34.3411,2,     29.4,2,  4.6090,     29.3,2,  -999.00,9,  -999.00,9,  -999.00,9,  -999.0,-999.000
     33KB206_1,  PRS2,     2,  7,      1,   8001,2,20081201,0902, 22.8325,-158.0030, 4701,   1021,   1020.7,   3.9830,  34.4722,2,  34.4707,2,     42.1,2,  3.9058,     42.1,2,  -999.00,9,  -999.00,9,  -999.00,9,  -999.0,-999.000
     33KB206_1,  PRS2,     2,  8,     23,   8023,2,20081201,1218, 22.8228,-157.9965, 4700,      9,      9.1,  24.8126,  35.2456,2,  35.2432,2,    206.2,1, 24.8107,   -999.0,9,  -999.00,9,  -999.00,9,  -999.00,9,  -999.0,-999.000
     33KB206_1,  PRS2,     2,  8,     22,   8022,2,20081201,1218, 22.8228,-157.9965, 4700,      9,      9.3,  24.8121,  35.2455,2,-999.0000,5,    206.3,1, 24.8101,   -999.0,9,  -999.00,9,  -999.00,9,  -999.00,9,  -999.0,-999.000
     33KB206_1,  PRS2,     2,  8,     24,   8024,2,20081201,1218, 22.8228,-157.9965, 4700,      8,      9.5,  24.8129,  35.2457,2,-999.0000,5,    206.3,1, 24.8108,   -999.0,9,  -999.00,9,  -999.00,9,  -999.00,9,  -999.0,-999.000
     33KB206_1,  PRS2,     2,  8,     18,   8018,2,20081201,1218, 22.8228,-157.9965, 4700,     25,     25.2,  24.8180,  35.2452,2,-999.0000,5,    206.2,1, 24.8125,   -999.0,9,  -999.00,9,  -999.00,9,  -999.00,9,  -999.0,-999.000
     33KB206_1,  PRS2,     2,  8,     19,   8019,2,20081201,1218, 22.8228,-157.9965, 4700,     25,     25.3,  24.8177,  35.2450,2,-999.0000,5,    206.1,1, 24.8122,   -999.0,9,  -999.00,9,  -999.00,9,  -999.00,9,  -999.0,-999.000
     33KB206_1,  PRS2,     2,  8,     21,   8021,2,20081201,1218, 22.8228,-157.9965, 4700,     25,     25.4,  24.8153,  35.2453,2,-999.0000,5,    206.3,1, 24.8099,   -999.0,9,  -999.00,9,  -999.00,9,  -999.00,9,  -999.0,-999.000
     33KB206_1,  PRS2,     2,  8,     20,   8020,2,20081201,1218, 22.8228,-157.9965, 4700,     26,     25.4,  24.8162,  35.2450,2,-999.0000,5,    206.2,1, 24.8107,   -999.0,9,  -999.00,9,  -999.00,9,  -999.00,9,  -999.0,-999.000
     33KB206_1,  PRS2,     2,  8,     15,   8015,2,20081201,1218, 22.8228,-157.9965, 4700,     44,     42.0,  24.8199,  35.2448,2,-999.0000,5,    206.7,1, 24.8109,   -999.0,9,  -999.00,9,  -999.00,9,  -999.00,9,  -999.0,-999.000
     33KB206_1,  PRS2,     2,  8,     17,   8017,2,20081201,1218, 22.8228,-157.9965, 4700,     44,     42.1,  24.8199,  35.2446,2,-999.0000,5,    206.4,1, 24.8108,   -999.0,9,  -999.00,9,  -999.00,9,  -999.00,9,  -999.0,-999.000
     33KB206_1,  PRS2,     2,  8,     14,   8014,2,20081201,1218, 22.8228,-157.9965, 4700,     40,     42.5,  24.8198,  35.2446,2,-999.0000,5,    206.8,1, 24.8106,   -999.0,9,  -999.00,9,  -999.00,9,  -999.00,9,  -999.0,-999.000
     33KB206_1,  PRS2,     2,  8,     16,   8016,2,20081201,1218, 22.8228,-157.9965, 4700,     41,     42.8,  24.8200,  35.2445,2,-999.0000,5,    206.6,1, 24.8108,   -999.0,9,  -999.00,9,  -999.00,9,  -999.00,9,  -999.0,-999.000
     33KB206_1,  PRS2,     2,  8,     10,   8010,2,20081201,1218, 22.8228,-157.9965, 4700,     74,     74.4,  23.6138,  35.2235,2,-999.0000,5,    213.9,1, 23.5983,   -999.0,9,  -999.00,9,  -999.00,9,  -999.00,9,  -999.0,-999.000
     33KB206_1,  PRS2,     2,  8,     12,   8012,2,20081201,1218, 22.8228,-157.9965, 4700,     76,     74.7,  23.6125,  35.2230,2,-999.0000,5,    214.2,1, 23.5969,   -999.0,9,  -999.00,9,  -999.00,9,  -999.00,9,  -999.0,-999.000
     33KB206_1,  PRS2,     2,  8,     11,   8011,2,20081201,1218, 22.8228,-157.9965, 4700,     74,     74.7,  23.6143,  35.2232,2,-999.0000,5,    214.0,1, 23.5987,   -999.0,9,  -999.00,9,  -999.00,9,  -999.00,9,  -999.0,-999.000
     33KB206_1,  PRS2,     2,  8,     13,   8025,2,20081201,1218, 22.8228,-157.9965, 4700,     75,     75.2,  23.6109,  35.2229,2,-999.0000,5,    214.4,1, 23.5953,   -999.0,9,  -999.00,9,  -999.00,9,  -999.00,9,  -999.0,-999.000
     33KB206_1,  PRS2,     2,  8,      8,   8008,2,20081201,1218, 22.8228,-157.9965, 4700,     99,     99.0,  22.5594,  35.2293,2,-999.0000,5,    201.2,1, 22.5395,   -999.0,9,  -999.00,9,  -999.00,9,  -999.00,9,  -999.0,-999.000
     33KB206_1,  PRS2,     2,  8,      9,   8009,2,20081201,1218, 22.8228,-157.9965, 4700,     99,     99.2,  22.5596,  35.2291,2,-999.0000,5,    201.2,1, 22.5396,   -999.0,9,  -999.00,9,  -999.00,9,  -999.00,9,  -999.0,-999.000
     33KB206_1,  PRS2,     2,  8,      7,   8026,2,20081201,1218, 22.8228,-157.9965, 4700,    100,     99.3,  22.5537,  35.2285,2,-999.0000,5,    201.3,1, 22.5337,   -999.0,9,  -999.00,9,  -999.00,9,  -999.00,9,  -999.0,-999.000
     33KB206_1,  PRS2,     2,  8,      6,   8006,2,20081201,1218, 22.8228,-157.9965, 4700,    124,    123.6,  21.8646,  35.2357,2,-999.0000,5,    197.9,1, 21.8402,   -999.0,9,  -999.00,9,  -999.00,9,  -999.00,9,  -999.0,-999.000
     33KB206_1,  PRS2,     2,  8,      5,   8005,2,20081201,1218, 22.8228,-157.9965, 4700,    123,    123.9,  21.8599,  35.2356,2,-999.0000,5,    197.6,1, 21.8355,   -999.0,9,  -999.00,9,  -999.00,9,  -999.00,9,  -999.0,-999.000
     33KB206_1,  PRS2,     2,  8,      4,   8004,2,20081201,1218, 22.8228,-157.9965, 4700,    126,    124.1,  21.8599,  35.2356,2,-999.0000,5,    197.4,1, 21.8355,   -999.0,9,  -999.00,9,  -999.00,9,  -999.00,9,  -999.0,-999.000
     33KB206_1,  PRS2,     2,  8,      3,   8003,2,20081201,1218, 22.8228,-157.9965, 4700,    151,    149.8,  20.9037,  35.1756,2,-999.0000,5,    195.2,1, 20.8751,   -999.0,9,  -999.00,9,  -999.00,9,  -999.00,9,  -999.0,-999.000
     33KB206_1,  PRS2,     2,  8,      2,   8002,2,20081201,1218, 22.8228,-157.9965, 4700,    173,    174.9,  19.9247,  35.0476,2,-999.0000,5,    192.3,1, 19.8925,   -999.0,9,  -999.00,9,  -999.00,9,  -999.00,9,  -999.0,-999.000
     33KB206_1,  PRS2,     2,  8,      1,   8001,2,20081201,1218, 22.8228,-157.9965, 4700,    503,    501.3,   6.9135,  34.0571,2,  34.0572,2,    105.5,1,  6.8666,   -999.0,9,  -999.00,9,  -999.00,9,  -999.00,9,  -999.0,-999.000
     33KB206_1,  PRS2,     2,  9,     20,   8020,2,20081201,1550, 22.6810,-157.9590, 4743,      9,      8.9,  24.9274,  35.1918,2,  35.1906,2,    205.9,1, 24.9255,   -999.0,9,  -999.00,9,  -999.00,9,  -999.00,9,  -999.0,-999.000
     33KB206_1,  PRS2,     2,  9,     19,   8019,2,20081201,1550, 22.6810,-157.9590, 4743,     83,     81.1,  24.8518,  35.2704,2,  35.2708,2,    206.4,1, 24.8343,   -999.0,9,  -999.00,9,  -999.00,9,  -999.00,9,  -999.0,-999.000
     33KB206_1,  PRS2,     2,  9,     14,   8014,2,20081201,1550, 22.6810,-157.9590, 4743,    129,    125.5,  21.7429,  35.2063,2,-999.0000,5,    198.8,1, 21.7183,   -999.0,9,  -999.00,9,  -999.00,9,  -999.00,9,  -999.0,-999.000
     33KB206_1,  PRS2,     2,  9,     16,   8016,2,20081201,1550, 22.6810,-157.9590, 4743,    128,    125.9,  21.7369,  35.2048,2,-999.0000,5,    200.7,1, 21.7122,   -999.0,9,  -999.00,9,  -999.00,9,  -999.00,9,  -999.0,-999.000
     33KB206_1,  PRS2,     2,  9,     18,   8018,2,20081201,1550, 22.6810,-157.9590, 4743,    127,    126.0,  21.7367,  35.2049,2,-999.0000,5,    202.0,1, 21.7120,   -999.0,9,  -999.00,9,  -999.00,9,  -999.00,9,  -999.0,-999.000
     33KB206_1,  PRS2,     2,  9,     15,   8015,2,20081201,1550, 22.6810,-157.9590, 4743,    124,    126.5,  21.7323,  35.2056,2,-999.0000,5,    199.7,1, 21.7075,   -999.0,9,  -999.00,9,  -999.00,9,  -999.00,9,  -999.0,-999.000
     33KB206_1,  PRS2,     2,  9,     17,   8017,2,20081201,1550, 22.6810,-157.9590, 4743,    125,    126.8,  21.7323,  35.2045,2,-999.0000,5,    201.5,1, 21.7074,   -999.0,9,  -999.00,9,  -999.00,9,  -999.00,9,  -999.0,-999.000
     33KB206_1,  PRS2,     2,  9,     13,   8025,2,20081201,1550, 22.6810,-157.9590, 4743,    201,    200.0,  18.0878,  34.8524,2,-999.0000,5,    190.0,1, 18.0534,   -999.0,9,  -999.00,9,  -999.00,9,  -999.00,9,  -999.0,-999.000
     33KB206_1,  PRS2,     2,  9,     10,   8010,2,20081201,1550, 22.6810,-157.9590, 4743,    201,    200.1,  18.0872,  34.8527,2,-999.0000,5,    189.7,1, 18.0528,   -999.0,9,  -999.00,9,  -999.00,9,  -999.00,9,  -999.0,-999.000
     33KB206_1,  PRS2,     2,  9,     12,   8012,2,20081201,1550, 22.6810,-157.9590, 4743,    201,    200.3,  18.0892,  34.8525,2,-999.0000,5,    189.9,1, 18.0548,   -999.0,9,  -999.00,9,  -999.00,9,  -999.00,9,  -999.0,-999.000
     33KB206_1,  PRS2,     2,  9,     11,   8011,2,20081201,1550, 22.6810,-157.9590, 4743,    200,    200.3,  18.0892,  34.8521,2,-999.0000,5,    189.8,1, 18.0548,   -999.0,9,  -999.00,9,  -999.00,9,  -999.00,9,  -999.0,-999.000
     33KB206_1,  PRS2,     2,  9,      9,   8009,2,20081201,1550, 22.6810,-157.9590, 4743,    200,    200.3,  18.0831,  34.8520,2,-999.0000,5,    189.7,1, 18.0486,   -999.0,9,  -999.00,9,  -999.00,9,  -999.00,9,  -999.0,-999.000
     33KB206_1,  PRS2,     2,  9,      8,   8008,2,20081201,1550, 22.6810,-157.9590, 4743,    526,    525.9,   6.7725,  34.0559,2,  34.0543,2,    104.6,1,  6.7238,   -999.0,9,  -999.00,9,  -999.00,9,  -999.00,9,  -999.0,-999.000
     33KB206_1,  PRS2,     2,  9,      7,   8026,2,20081201,1550, 22.6810,-157.9590, 4743,   1021,   1021.1,   4.0220,  34.4671,2,  34.4663,2,     41.0,1,  3.9445,   -999.0,9,  -999.00,9,  -999.00,9,  -999.00,9,  -999.0,-999.000
     33KB206_1,  PRS2,     2,  9,      5,   8005,2,20081201,1550, 22.6810,-157.9590, 4743,   1022,   1021.1,   4.0213,  34.4673,2,  34.4667,2,     41.1,1,  3.9437,   -999.0,9,  -999.00,9,  -999.00,9,  -999.00,9,  -999.0,-999.000
     33KB206_1,  PRS2,     2,  9,      4,   8004,2,20081201,1550, 22.6810,-157.9590, 4743,   1021,   1021.1,   4.0207,  34.4674,2,  34.4661,2,     41.1,1,  3.9432,   -999.0,9,  -999.00,9,  -999.00,9,  -999.00,9,  -999.0,-999.000
     33KB206_1,  PRS2,     2,  9,      3,   8003,2,20081201,1550, 22.6810,-157.9590, 4743,   1022,   1021.1,   4.0203,  34.4675,2,  34.4663,2,     41.2,1,  3.9428,   -999.0,9,  -999.00,9,  -999.00,9,  -999.00,9,  -999.0,-999.000
     33KB206_1,  PRS2,     2,  9,      2,   8002,2,20081201,1550, 22.6810,-157.9590, 4743,   1021,   1021.1,   4.0197,  34.4677,2,  34.4663,2,     41.3,1,  3.9422,   -999.0,9,  -999.00,9,  -999.00,9,  -999.00,9,  -999.0,-999.000
     33KB206_1,  PRS2,     2,  9,      1,   8001,2,20081201,1550, 22.6810,-157.9590, 4743,   1021,   1021.1,   4.0187,  34.4678,2,  34.4663,2,     41.2,1,  3.9412,   -999.0,9,  -999.00,9,  -999.00,9,  -999.00,9,  -999.0,-999.000
     33KB206_1,  PRS2,     2,  9,      6,   8006,2,20081201,1550, 22.6810,-157.9590, 4743,   1021,   1021.3,   4.0215,  34.4672,2,  34.4665,2,     41.1,1,  3.9439,   -999.0,9,  -999.00,9,  -999.00,9,  -999.00,9,  -999.0,-999.000