BOTTLE,20090923WHPSIOMYS
EXPOCODE,SECT_ID,STNNBR,CASTNO,SAMPNO,BTLNBR,BTLNBR_FLAG_W,DATE,TIME,LATITUDE,LONGITUDE,DEPTH,CTDRAW,CTDPRS,CTDTMP,CTDSAL,CTDSAL_FLAG_W,SALNTY,SALNTY_FLAG_W,CTDOXY,CTDOXY_FLAG_W,THETA,OXYGEN,OXYGEN_FLAG_W,SILCAT,SILCAT_FLAG_W,NO2+NO3,NO2+NO3_FLAG_W,PHSPHT,PHSPHT_FLAG_W,REVPRS,REVTMP
,,,,,,,,,,,,,DBAR,ITS-90,PSS-78,,PSS-78,,UMOL/KG,,ITS-90,UMOL/KG,,UMOL/KG,,UMOL/KG,,UMOL/KG,,DBAR,DEG C
     33KB206_1,  PRS2,     2, 16,     23,   8023,2,20081202,1157, 22.7505,-157.9998, 4743,     12,     11.2,  24.9641,  35.1781,2,  35.1772,2,    206.4,2, 24.9616,    205.9,2,  -999.00,9,  -999.00,9,  -999.00,9,  -999.0,-999.000
     33KB206_1,  PRS2,     2, 16,     22,   8022,2,20081202,1157, 22.7505,-157.9998, 4743,     11,     11.7,  24.9646,  35.1780,2,-999.0000,5,    206.6,2, 24.9621,   -999.0,5,  -999.00,9,  -999.00,9,  -999.00,9,  -999.0,-999.000
     33KB206_1,  PRS2,     2, 16,     21,   8021,2,20081202,1157, 22.7505,-157.9998, 4743,     51,     50.0,  24.9463,  35.2200,2,-999.0000,5,    207.0,2, 24.9355,   -999.0,5,  -999.00,9,  -999.00,9,  -999.00,9,  -999.0,-999.000
     33KB206_1,  PRS2,     2, 16,     20,   8020,2,20081202,1157, 22.7505,-157.9998, 4743,     49,     50.0,  24.9465,  35.2201,2,-999.0000,5,    207.2,2, 24.9357,   -999.0,5,  -999.00,9,  -999.00,9,  -999.00,9,  -999.0,-999.000
     33KB206_1,  PRS2,     2, 16,     19,   8019,2,20081202,1157, 22.7505,-157.9998, 4743,     73,     75.0,  24.9060,  35.2633,2,-999.0000,5,    206.0,2, 24.8898,   -999.0,5,  -999.00,9,  -999.00,9,  -999.00,9,  -999.0,-999.000
     33KB206_1,  PRS2,     2, 16,     18,   8018,2,20081202,1157, 22.7505,-157.9998, 4743,     89,     90.1,  24.8405,  35.2747,2,  35.2741,2,    206.5,2, 24.8210,    206.0,2,  -999.00,9,  -999.00,9,  -999.00,9,  -999.0,-999.000
     33KB206_1,  PRS2,     2, 16,     16,   8016,2,20081202,1157, 22.7505,-157.9998, 4743,    102,    101.6,  24.8554,  35.2888,2,-999.0000,5,    207.3,2, 24.8334,   -999.0,5,  -999.00,9,  -999.00,9,  -999.00,9,  -999.0,-999.000
     33KB206_1,  PRS2,     2, 16,     15,   8015,2,20081202,1157, 22.7505,-157.9998, 4743,    102,    101.6,  24.8562,  35.2888,2,-999.0000,5,    207.3,2, 24.8343,   -999.0,5,  -999.00,9,  -999.00,9,  -999.00,9,  -999.0,-999.000
     33KB206_1,  PRS2,     2, 16,     17,   8017,2,20081202,1157, 22.7505,-157.9998, 4743,    102,    101.8,  24.8559,  35.2896,2,-999.0000,5,    207.3,2, 24.8339,   -999.0,5,  -999.00,9,  -999.00,9,  -999.00,9,  -999.0,-999.000
     33KB206_1,  PRS2,     2, 16,     14,   8014,2,20081202,1157, 22.7505,-157.9998, 4743,    123,    124.1,  22.8961,  35.1819,2,-999.0000,5,    211.4,2, 22.8709,   -999.0,5,  -999.00,9,  -999.00,9,  -999.00,9,  -999.0,-999.000
     33KB206_1,  PRS2,     2, 16,     13,   8025,2,20081202,1157, 22.7505,-157.9998, 4743,    176,    173.3,  20.6069,  35.1821,2,-999.0000,5,    195.2,2, 20.5742,   -999.0,5,  -999.00,9,  -999.00,9,  -999.00,9,  -999.0,-999.000
     33KB206_1,  PRS2,     2, 16,     12,   8012,2,20081202,1157, 22.7505,-157.9998, 4743,    401,    400.0,   9.8180,  34.1439,2,-999.0000,5,    170.4,2,  9.7721,   -999.0,5,  -999.00,9,  -999.00,9,  -999.00,9,  -999.0,-999.000
     33KB206_1,  PRS2,     2, 16,     11,   8011,2,20081202,1157, 22.7505,-157.9998, 4743,    498,    498.2,   7.2355,  34.0608,2,  34.0595,2,    112.3,2,  7.1877,     94.4,4,  -999.00,9,  -999.00,9,  -999.00,9,  -999.0,-999.000
     33KB206_1,  PRS2,     2, 16,     10,   8010,2,20081202,1157, 22.7505,-157.9998, 4743,    596,    598.2,   5.8411,  34.1357,2,-999.0000,5,     57.9,2,  5.7895,   -999.0,5,  -999.00,9,  -999.00,9,  -999.00,9,  -999.0,-999.000
     33KB206_1,  PRS2,     2, 16,      9,   8009,2,20081202,1157, 22.7505,-157.9998, 4743,    767,    769.2,   5.0454,  34.3480,2,-999.0000,5,     36.1,2,  4.9826,   -999.0,5,  -999.00,9,  -999.00,9,  -999.00,9,  -999.0,-999.000
     33KB206_1,  PRS2,     2, 16,      8,   8008,2,20081202,1157, 22.7505,-157.9998, 4743,    881,    880.4,   4.4080,  34.3980,2,  34.3978,2,     32.5,2,  4.3396,     31.6,2,  -999.00,9,  -999.00,9,  -999.00,9,  -999.0,-999.000
     33KB206_1,  PRS2,     2, 16,      7,   8026,2,20081202,1157, 22.7505,-157.9998, 4743,   1002,   1001.3,   4.1050,  34.4677,2,-999.0000,5,     39.5,2,  4.0285,   -999.0,5,  -999.00,9,  -999.00,9,  -999.00,9,  -999.0,-999.000
     33KB206_1,  PRS2,     2, 16,      6,   8006,2,20081202,1157, 22.7505,-157.9998, 4743,   2001,   2000.4,   2.1577,  34.6156,2,-999.0000,5,     86.0,2,  2.0188,   -999.0,5,  -999.00,9,  -999.00,9,  -999.00,9,  -999.0,-999.000
     33KB206_1,  PRS2,     2, 16,      5,   8005,2,20081202,1157, 22.7505,-157.9998, 4743,   1999,   2000.7,   2.1568,  34.6158,2,  34.6162,2,     86.0,2,  2.0180,     74.9,4,  -999.00,9,  -999.00,9,  -999.00,9,  -999.0,-999.000
     33KB206_1,  PRS2,     2, 16,      3,   8003,2,20081202,1157, 22.7505,-157.9998, 4743,   3002,   3000.4,   1.5345,  34.6709,2,  34.6714,2,    125.4,2,  1.3169,    125.1,2,  -999.00,9,  -999.00,9,  -999.00,9,  -999.0,-999.000
     33KB206_1,  PRS2,     2, 16,      4,   8004,2,20081202,1157, 22.7505,-157.9998, 4743,   3001,   3000.8,   1.5348,  34.6706,2,-999.0000,5,    125.4,2,  1.3172,   -999.0,5,  -999.00,9,  -999.00,9,  -999.00,9,  -999.0,-999.000
     33KB206_1,  PRS2,     2, 16,      2,   8002,2,20081202,1157, 22.7505,-157.9998, 4743,   4002,   4000.1,   1.4535,  34.6868,2,-999.0000,5,    147.5,2,  1.1359,    147.9,2,  -999.00,9,  -999.00,9,  -999.00,9,  -999.0,-999.000
     33KB206_1,  PRS2,     2, 16,      1,   8001,2,20081202,1157, 22.7505,-157.9998, 4743,   4805,   4805.1,   1.5106,  34.6898,2,  34.6942,4,    152.7,3,  1.0995,    152.4,2,  -999.00,9,  -999.00,9,  -999.00,9,  -999.0,-999.000
     33KB206_1,  PRS2,    50,  1,      2,   8002,2,20081202,2101, 22.8002,-157.9033, 4712,      6,      6.7,  24.8677,  35.2529,2,-999.0000,9,    206.4,1, 24.8663,   -999.0,9,  -999.00,9,  -999.00,9,  -999.00,9,  -999.0,-999.000
     33KB206_1,  PRS2,    50,  1,      1,   8001,2,20081202,2101, 22.8002,-157.9033, 4712,    101,    101.6,  22.6868,  35.2185,2,-999.0000,9,    200.3,1, 22.6663,   -999.0,9,  -999.00,9,  -999.00,9,  -999.00,9,  -999.0,-999.000
     33KB206_1,  PRS2,    50,  2,     23,   8023,2,20081202,2331, 22.8037,-157.9080, 4682,      6,      5.8,  24.9772,  35.2334,2,-999.0000,9,    206.3,1, 24.9759,   -999.0,9,  -999.00,9,  -999.00,9,  -999.00,9,  -999.0,-999.000
     33KB206_1,  PRS2,    50,  2,     24,   8024,2,20081202,2331, 22.8037,-157.9080, 4682,      6,      5.9,  24.9786,  35.2333,2,-999.0000,9,    206.7,1, 24.9773,   -999.0,9,  -999.00,9,  -999.00,9,  -999.00,9,  -999.0,-999.000
     33KB206_1,  PRS2,    50,  2,     22,   8022,2,20081202,2331, 22.8037,-157.9080, 4682,      6,      5.9,  24.9776,  35.2332,2,-999.0000,9,    206.2,1, 24.9763,   -999.0,9,  -999.00,9,  -999.00,9,  -999.00,9,  -999.0,-999.000
     33KB206_1,  PRS2,    50,  2,     21,   8021,2,20081202,2331, 22.8037,-157.9080, 4682,     15,     15.5,  24.9096,  35.2437,2,-999.0000,9,    206.8,1, 24.9063,   -999.0,9,  -999.00,9,  -999.00,9,  -999.00,9,  -999.0,-999.000
     33KB206_1,  PRS2,    50,  2,     18,   8018,2,20081202,2331, 22.8037,-157.9080, 4682,     26,     25.0,  24.8751,  35.2546,2,-999.0000,9,    206.3,1, 24.8697,   -999.0,9,  -999.00,9,  -999.00,9,  -999.00,9,  -999.0,-999.000
     33KB206_1,  PRS2,    50,  2,     19,   8019,2,20081202,2331, 22.8037,-157.9080, 4682,     25,     25.1,  24.8743,  35.2551,2,-999.0000,9,    206.2,1, 24.8688,   -999.0,9,  -999.00,9,  -999.00,9,  -999.00,9,  -999.0,-999.000
     33KB206_1,  PRS2,    50,  2,     20,   8020,2,20081202,2331, 22.8037,-157.9080, 4682,     26,     25.2,  24.8734,  35.2556,2,-999.0000,9,    206.1,1, 24.8680,   -999.0,9,  -999.00,9,  -999.00,9,  -999.00,9,  -999.0,-999.000
     33KB206_1,  PRS2,    50,  2,     17,   8017,2,20081202,2331, 22.8037,-157.9080, 4682,     41,     40.0,  24.8222,  35.2745,2,-999.0000,9,    206.8,1, 24.8136,   -999.0,9,  -999.00,9,  -999.00,9,  -999.00,9,  -999.0,-999.000
     33KB206_1,  PRS2,    50,  2,     16,   8016,2,20081202,2331, 22.8037,-157.9080, 4682,     45,     44.6,  24.8185,  35.2890,2,-999.0000,9,    205.6,1, 24.8089,   -999.0,9,  -999.00,9,  -999.00,9,  -999.00,9,  -999.0,-999.000
     33KB206_1,  PRS2,    50,  2,     14,   8014,2,20081202,2331, 22.8037,-157.9080, 4682,     43,     44.6,  24.8185,  35.2890,2,-999.0000,9,    205.9,1, 24.8088,   -999.0,9,  -999.00,9,  -999.00,9,  -999.00,9,  -999.0,-999.000
     33KB206_1,  PRS2,    50,  2,     15,   8015,2,20081202,2331, 22.8037,-157.9080, 4682,     45,     44.7,  24.8185,  35.2891,2,-999.0000,9,    205.8,1, 24.8088,   -999.0,9,  -999.00,9,  -999.00,9,  -999.00,9,  -999.0,-999.000
     33KB206_1,  PRS2,    50,  2,     13,   8025,2,20081202,2331, 22.8037,-157.9080, 4682,     69,     69.7,  24.7703,  35.3141,2,-999.0000,9,    206.5,1, 24.7552,   -999.0,9,  -999.00,9,  -999.00,9,  -999.00,9,  -999.0,-999.000
     33KB206_1,  PRS2,    50,  2,     11,   8011,2,20081202,2331, 22.8037,-157.9080, 4682,     75,     74.9,  24.4162,  35.2782,2,-999.0000,9,    206.9,1, 24.4002,   -999.0,9,  -999.00,9,  -999.00,9,  -999.00,9,  -999.0,-999.000
     33KB206_1,  PRS2,    50,  2,     10,   8010,2,20081202,2331, 22.8037,-157.9080, 4682,     76,     75.0,  24.3742,  35.2777,2,-999.0000,9,    206.6,1, 24.3582,   -999.0,9,  -999.00,9,  -999.00,9,  -999.00,9,  -999.0,-999.000
     33KB206_1,  PRS2,    50,  2,     12,   8012,2,20081202,2331, 22.8037,-157.9080, 4682,     75,     75.2,  24.3884,  35.2772,2,-999.0000,9,    207.2,1, 24.3723,   -999.0,9,  -999.00,9,  -999.00,9,  -999.00,9,  -999.0,-999.000
     33KB206_1,  PRS2,    50,  2,      9,   8009,2,20081202,2331, 22.8037,-157.9080, 4682,     95,     93.7,  22.6570,  35.2112,2,-999.0000,9,    200.0,1, 22.6381,   -999.0,9,  -999.00,9,  -999.00,9,  -999.00,9,  -999.0,-999.000
     33KB206_1,  PRS2,    50,  2,      6,   8006,2,20081202,2331, 22.8037,-157.9080, 4682,    101,    100.9,  22.3181,  35.2262,2,-999.0000,9,    198.6,1, 22.2979,   -999.0,9,  -999.00,9,  -999.00,9,  -999.00,9,  -999.0,-999.000
     33KB206_1,  PRS2,    50,  2,      8,   8008,2,20081202,2331, 22.8037,-157.9080, 4682,    102,    101.0,  22.3181,  35.2257,2,-999.0000,9,    198.2,1, 22.2979,   -999.0,9,  -999.00,9,  -999.00,9,  -999.00,9,  -999.0,-999.000
     33KB206_1,  PRS2,    50,  2,      7,   8026,2,20081202,2331, 22.8037,-157.9080, 4682,    101,    101.0,  22.3182,  35.2261,2,-999.0000,9,    198.4,1, 22.2980,   -999.0,9,  -999.00,9,  -999.00,9,  -999.00,9,  -999.0,-999.000
     33KB206_1,  PRS2,    50,  2,      5,   8005,2,20081202,2331, 22.8037,-157.9080, 4682,    126,    126.4,  21.3188,  35.2231,2,-999.0000,9,    196.5,1, 21.2943,   -999.0,9,  -999.00,9,  -999.00,9,  -999.00,9,  -999.0,-999.000
     33KB206_1,  PRS2,    50,  2,      4,   8004,2,20081202,2331, 22.8037,-157.9080, 4682,    125,    126.4,  21.3038,  35.2229,2,-999.0000,9,    196.0,1, 21.2793,   -999.0,9,  -999.00,9,  -999.00,9,  -999.00,9,  -999.0,-999.000
     33KB206_1,  PRS2,    50,  2,      3,   8003,2,20081202,2331, 22.8037,-157.9080, 4682,    127,    126.5,  21.2885,  35.2190,2,-999.0000,9,    195.4,1, 21.2640,   -999.0,9,  -999.00,9,  -999.00,9,  -999.00,9,  -999.0,-999.000
     33KB206_1,  PRS2,    50,  2,      2,   8002,2,20081202,2331, 22.8037,-157.9080, 4682,    151,    150.3,  20.1600,  35.1052,2,-999.0000,9,    190.6,1, 20.1320,   -999.0,9,  -999.00,9,  -999.00,9,  -999.00,9,  -999.0,-999.000
     33KB206_1,  PRS2,    50,  2,      1,   8001,2,20081202,2331, 22.8037,-157.9080, 4682,    175,    175.7,  18.9687,  34.9646,2,-999.0000,9,    190.8,1, 18.9374,   -999.0,9,  -999.00,9,  -999.00,9,  -999.00,9,  -999.0,-999.000