BOTTLE,20090923WHPSIOMYS
EXPOCODE,SECT_ID,STNNBR,CASTNO,SAMPNO,BTLNBR,BTLNBR_FLAG_W,DATE,TIME,LATITUDE,LONGITUDE,DEPTH,CTDRAW,CTDPRS,CTDTMP,CTDSAL,CTDSAL_FLAG_W,SALNTY,SALNTY_FLAG_W,CTDOXY,CTDOXY_FLAG_W,THETA,OXYGEN,OXYGEN_FLAG_W,SILCAT,SILCAT_FLAG_W,NO2+NO3,NO2+NO3_FLAG_W,PHSPHT,PHSPHT_FLAG_W,REVPRS,REVTMP
,,,,,,,,,,,,,DBAR,ITS-90,PSS-78,,PSS-78,,UMOL/KG,,ITS-90,UMOL/KG,,UMOL/KG,,UMOL/KG,,UMOL/KG,,DBAR,DEG C
     33KB206_1,  PRS2,     2, 10,     23,   8023,2,20081201,1826, 22.6810,-157.9590, 4746,     10,      7.6,  24.9454,  35.1879,2,-999.0000,5,    206.7,1, 24.9438,   -999.0,9,  -999.00,9,  -999.00,9,  -999.00,9,  -999.0,-999.000
     33KB206_1,  PRS2,     2, 10,     22,   8022,2,20081201,1826, 22.6810,-157.9590, 4746,      7,      7.6,  24.9457,  35.1879,2,  35.1865,2,    206.6,1, 24.9441,   -999.0,9,  -999.00,9,  -999.00,9,  -999.00,9,  -999.0,-999.000
     33KB206_1,  PRS2,     2, 10,     24,   8024,2,20081201,1826, 22.6810,-157.9590, 4746,      8,      8.2,  24.9446,  35.1878,2,-999.0000,5,    206.6,1, 24.9428,   -999.0,9,  -999.00,9,  -999.00,9,  -999.00,9,  -999.0,-999.000
     33KB206_1,  PRS2,     2, 10,     21,   8021,2,20081201,1826, 22.6810,-157.9590, 4746,     26,     25.8,  24.9388,  35.1867,2,-999.0000,5,    206.3,1, 24.9332,   -999.0,9,  -999.00,9,  -999.00,9,  -999.00,9,  -999.0,-999.000
     33KB206_1,  PRS2,     2, 10,     20,   8020,2,20081201,1826, 22.6810,-157.9590, 4746,     25,     25.9,  24.9385,  35.1866,2,-999.0000,5,    206.2,1, 24.9329,   -999.0,9,  -999.00,9,  -999.00,9,  -999.00,9,  -999.0,-999.000
     33KB206_1,  PRS2,     2, 10,     19,   8019,2,20081201,1826, 22.6810,-157.9590, 4746,     26,     25.9,  24.9387,  35.1867,2,  35.1872,2,    206.3,1, 24.9331,   -999.0,9,  -999.00,9,  -999.00,9,  -999.00,9,  -999.0,-999.000
     33KB206_1,  PRS2,     2, 10,     18,   8018,2,20081201,1826, 22.6810,-157.9590, 4746,     44,     45.1,  24.9687,  35.2055,2,-999.0000,5,    206.3,1, 24.9589,   -999.0,9,  -999.00,9,  -999.00,9,  -999.00,9,  -999.0,-999.000
     33KB206_1,  PRS2,     2, 10,     17,   8017,2,20081201,1826, 22.6810,-157.9590, 4746,     45,     45.4,  24.9676,  35.2049,2,-999.0000,5,    206.2,1, 24.9578,   -999.0,9,  -999.00,9,  -999.00,9,  -999.00,9,  -999.0,-999.000
     33KB206_1,  PRS2,     2, 10,     16,   8016,2,20081201,1826, 22.6810,-157.9590, 4746,     46,     45.4,  24.9661,  35.2032,2,  35.1993,2,    206.0,1, 24.9562,   -999.0,9,  -999.00,9,  -999.00,9,  -999.00,9,  -999.0,-999.000
     33KB206_1,  PRS2,     2, 10,     13,   8025,2,20081201,1826, 22.6810,-157.9590, 4746,     74,     74.9,  24.9281,  35.2414,2,  35.2412,2,    205.8,1, 24.9119,   -999.0,9,  -999.00,9,  -999.00,9,  -999.00,9,  -999.0,-999.000
     33KB206_1,  PRS2,     2, 10,     15,   8015,2,20081201,1826, 22.6810,-157.9590, 4746,     75,     75.0,  24.9289,  35.2412,2,-999.0000,5,    206.3,1, 24.9127,   -999.0,9,  -999.00,9,  -999.00,9,  -999.00,9,  -999.0,-999.000
     33KB206_1,  PRS2,     2, 10,     14,   8014,2,20081201,1826, 22.6810,-157.9590, 4746,     75,     75.1,  24.9283,  35.2414,2,-999.0000,5,    206.1,1, 24.9120,   -999.0,9,  -999.00,9,  -999.00,9,  -999.00,9,  -999.0,-999.000
     33KB206_1,  PRS2,     2, 10,     11,   8011,2,20081201,1826, 22.6810,-157.9590, 4746,    100,    100.4,  22.8086,  35.1784,2,-999.0000,5,    210.1,1, 22.7882,   -999.0,9,  -999.00,9,  -999.00,9,  -999.00,9,  -999.0,-999.000
     33KB206_1,  PRS2,     2, 10,     10,   8010,2,20081201,1826, 22.6810,-157.9590, 4746,    100,    100.4,  22.8086,  35.1784,2,  35.1821,2,    209.8,1, 22.7882,   -999.0,9,  -999.00,9,  -999.00,9,  -999.00,9,  -999.0,-999.000
     33KB206_1,  PRS2,     2, 10,     12,   8012,2,20081201,1826, 22.6810,-157.9590, 4746,    100,    100.7,  22.7979,  35.1776,2,-999.0000,5,    210.4,1, 22.7775,   -999.0,9,  -999.00,9,  -999.00,9,  -999.00,9,  -999.0,-999.000
     33KB206_1,  PRS2,     2, 10,      7,   8026,2,20081201,1826, 22.6810,-157.9590, 4746,    125,    125.0,  21.8625,  35.2038,2,  35.2048,2,    200.8,1, 21.8379,   -999.0,9,  -999.00,9,  -999.00,9,  -999.00,9,  -999.0,-999.000
     33KB206_1,  PRS2,     2, 10,      8,   8008,2,20081201,1826, 22.6810,-157.9590, 4746,    124,    125.2,  21.8625,  35.2037,2,-999.0000,5,    200.5,1, 21.8379,   -999.0,9,  -999.00,9,  -999.00,9,  -999.00,9,  -999.0,-999.000
     33KB206_1,  PRS2,     2, 10,      9,   8009,2,20081201,1826, 22.6810,-157.9590, 4746,    127,    125.4,  21.8631,  35.2039,2,-999.0000,5,    200.2,1, 21.8384,   -999.0,9,  -999.00,9,  -999.00,9,  -999.00,9,  -999.0,-999.000
     33KB206_1,  PRS2,     2, 10,      6,   8006,2,20081201,1826, 22.6810,-157.9590, 4746,    150,    149.6,  21.0784,  35.2144,2,-999.0000,5,    195.6,1, 21.0497,   -999.0,9,  -999.00,9,  -999.00,9,  -999.00,9,  -999.0,-999.000
     33KB206_1,  PRS2,     2, 10,      5,   8005,2,20081201,1826, 22.6810,-157.9590, 4746,    150,    149.6,  21.0784,  35.2143,2,  35.2168,2,    195.5,1, 21.0497,   -999.0,9,  -999.00,9,  -999.00,9,  -999.00,9,  -999.0,-999.000
     33KB206_1,  PRS2,     2, 10,      4,   8004,2,20081201,1826, 22.6810,-157.9590, 4746,    177,    175.6,  19.7190,  35.0592,2,-999.0000,5,    190.7,1, 19.6868,   -999.0,9,  -999.00,9,  -999.00,9,  -999.00,9,  -999.0,-999.000
     33KB206_1,  PRS2,     2, 10,      3,   8003,2,20081201,1826, 22.6810,-157.9590, 4746,    174,    176.0,  19.7145,  35.0580,2,  35.0626,2,    191.1,1, 19.6822,   -999.0,9,  -999.00,9,  -999.00,9,  -999.00,9,  -999.0,-999.000
     33KB206_1,  PRS2,     2, 10,      2,   8002,2,20081201,1826, 22.6810,-157.9590, 4746,    525,    526.0,   6.7732,  34.0549,2,  34.0546,2,    102.4,1,  6.7244,   -999.0,9,  -999.00,9,  -999.00,9,  -999.00,9,  -999.0,-999.000
     33KB206_1,  PRS2,     2, 10,      1,   8001,2,20081201,1826, 22.6810,-157.9590, 4746,   1020,   1018.5,   3.9009,  34.4783,2,  34.4762,2,     43.9,1,  3.8245,   -999.0,9,  -999.00,9,  -999.00,9,  -999.00,9,  -999.0,-999.000
     33KB206_1,  PRS2,     2, 11,     18,   8018,2,20081201,2057, 22.6652,-157.9713, 4750,      8,      8.1,  24.9852,  35.1669,2,  35.1670,2,    206.3,1, 24.9835,   -999.0,9,  -999.00,9,  -999.00,9,  -999.00,9,  -999.0,-999.000
     33KB206_1,  PRS2,     2, 11,     17,   8017,2,20081201,2057, 22.6652,-157.9713, 4750,     44,     44.4,  24.9664,  35.1961,2,  35.1912,2,    206.5,1, 24.9568,   -999.0,9,  -999.00,9,  -999.00,9,  -999.00,9,  -999.0,-999.000
     33KB206_1,  PRS2,     2, 11,     16,   8016,2,20081201,2057, 22.6652,-157.9713, 4750,     60,     59.3,  24.9204,  35.2298,2,  35.2314,2,    206.1,1, 24.9076,   -999.0,9,  -999.00,9,  -999.00,9,  -999.00,9,  -999.0,-999.000
     33KB206_1,  PRS2,     2, 11,     15,   8015,2,20081201,2057, 22.6652,-157.9713, 4750,     76,     76.0,  23.7210,  35.2313,2,-999.0000,5,    213.6,1, 23.7052,   -999.0,9,  -999.00,9,  -999.00,9,  -999.00,9,  -999.0,-999.000
     33KB206_1,  PRS2,     2, 11,     14,   8014,2,20081201,2057, 22.6652,-157.9713, 4750,     87,     85.9,  22.8139,  35.1957,2,  35.1975,2,    209.6,1, 22.7964,   -999.0,9,  -999.00,9,  -999.00,9,  -999.00,9,  -999.0,-999.000
     33KB206_1,  PRS2,     2, 11,     12,   8012,2,20081201,2057, 22.6652,-157.9713, 4750,     99,     98.4,  22.5878,  35.1850,2,-999.0000,5,    208.0,1, 22.5679,   -999.0,9,  -999.00,9,  -999.00,9,  -999.00,9,  -999.0,-999.000
     33KB206_1,  PRS2,     2, 11,     13,   8025,2,20081201,2057, 22.6652,-157.9713, 4750,    100,     98.6,  22.6036,  35.1861,2,  35.1880,2,    208.4,1, 22.5837,   -999.0,9,  -999.00,9,  -999.00,9,  -999.00,9,  -999.0,-999.000
     33KB206_1,  PRS2,     2, 11,     11,   8011,2,20081201,2057, 22.6652,-157.9713, 4750,    124,    124.4,  21.5878,  35.2213,2,  35.2188,2,    198.6,1, 21.5635,   -999.0,9,  -999.00,9,  -999.00,9,  -999.00,9,  -999.0,-999.000
     33KB206_1,  PRS2,     2, 11,      7,   8026,2,20081201,2057, 22.6652,-157.9713, 4750,    151,    151.1,  20.5007,  35.1579,2,  35.1616,2,    194.1,1, 20.4723,   -999.0,9,  -999.00,9,  -999.00,9,  -999.00,9,  -999.0,-999.000
     33KB206_1,  PRS2,     2, 11,     10,   8010,2,20081201,2057, 22.6652,-157.9713, 4750,    151,    151.3,  20.4993,  35.1580,2,-999.0000,5,    194.1,1, 20.4708,   -999.0,9,  -999.00,9,  -999.00,9,  -999.00,9,  -999.0,-999.000
     33KB206_1,  PRS2,     2, 11,      8,   8008,2,20081201,2057, 22.6652,-157.9713, 4750,    152,    151.3,  20.4993,  35.1580,2,-999.0000,5,    194.3,1, 20.4708,   -999.0,9,  -999.00,9,  -999.00,9,  -999.00,9,  -999.0,-999.000
     33KB206_1,  PRS2,     2, 11,      9,   8009,2,20081201,2057, 22.6652,-157.9713, 4750,    151,    151.4,  20.4987,  35.1578,2,-999.0000,5,    194.3,1, 20.4702,   -999.0,9,  -999.00,9,  -999.00,9,  -999.00,9,  -999.0,-999.000
     33KB206_1,  PRS2,     2, 11,      6,   8006,2,20081201,2057, 22.6652,-157.9713, 4750,    175,    174.0,  19.2211,  34.9869,2,-999.0000,5,    193.2,1, 19.1899,   -999.0,9,  -999.00,9,  -999.00,9,  -999.00,9,  -999.0,-999.000
     33KB206_1,  PRS2,     2, 11,      5,   8005,2,20081201,2057, 22.6652,-157.9713, 4750,    172,    174.0,  19.2044,  34.9848,2,-999.0000,5,    193.1,1, 19.1732,   -999.0,9,  -999.00,9,  -999.00,9,  -999.00,9,  -999.0,-999.000
     33KB206_1,  PRS2,     2, 11,      4,   8004,2,20081201,2057, 22.6652,-157.9713, 4750,    175,    174.1,  19.1883,  34.9828,2,-999.0000,5,    193.0,1, 19.1570,   -999.0,9,  -999.00,9,  -999.00,9,  -999.00,9,  -999.0,-999.000
     33KB206_1,  PRS2,     2, 11,      3,   8003,2,20081201,2057, 22.6652,-157.9713, 4750,    175,    174.5,  19.1717,  34.9806,2,  34.9888,2,    192.8,1, 19.1404,   -999.0,9,  -999.00,9,  -999.00,9,  -999.00,9,  -999.0,-999.000
     33KB206_1,  PRS2,     2, 11,      2,   8002,2,20081201,2057, 22.6652,-157.9713, 4750,    509,    509.9,   6.8284,  34.0564,2,  34.0558,2,    104.8,1,  6.7810,   -999.0,9,  -999.00,9,  -999.00,9,  -999.00,9,  -999.0,-999.000
     33KB206_1,  PRS2,     2, 11,      1,   8001,2,20081201,2057, 22.6652,-157.9713, 4750,   1021,   1020.6,   3.9285,  34.4904,2,  34.4897,2,     46.6,1,  3.8518,   -999.0,9,  -999.00,9,  -999.00,9,  -999.00,9,  -999.0,-999.000
     33KB206_1,  PRS2,     2, 12,     24,   8024,2,20081202,0014, 22.6698,-157.9822, 4746,      6,      6.0,  24.9698,  35.1758,2,  35.1750,2,    207.1,1, 24.9685,   -999.0,9,  -999.00,9,  -999.00,9,  -999.00,9,  -999.0,-999.000
     33KB206_1,  PRS2,     2, 12,     23,   8023,2,20081202,0014, 22.6698,-157.9822, 4746,     27,     25.8,  24.9631,  35.1820,2,  35.1811,2,    206.5,1, 24.9575,   -999.0,9,  -999.00,9,  -999.00,9,  -999.00,9,  -999.0,-999.000
     33KB206_1,  PRS2,     2, 12,     22,   8022,2,20081202,0014, 22.6698,-157.9822, 4746,     46,     45.2,  24.9713,  35.1919,2,  35.1902,2,    206.8,1, 24.9615,   -999.0,9,  -999.00,9,  -999.00,9,  -999.00,9,  -999.0,-999.000
     33KB206_1,  PRS2,     2, 12,     21,   8021,2,20081202,0014, 22.6698,-157.9822, 4746,     75,     75.3,  24.9471,  35.2346,2,  35.2331,2,    207.5,1, 24.9308,   -999.0,9,  -999.00,9,  -999.00,9,  -999.00,9,  -999.0,-999.000
     33KB206_1,  PRS2,     2, 12,     20,   8020,2,20081202,0014, 22.6698,-157.9822, 4746,     99,     99.4,  22.7218,  35.1884,2,  35.1805,2,    208.0,1, 22.7017,   -999.0,9,  -999.00,9,  -999.00,9,  -999.00,9,  -999.0,-999.000
     33KB206_1,  PRS2,     2, 12,     19,   8019,2,20081202,0014, 22.6698,-157.9822, 4746,    125,    124.4,  22.1841,  35.2311,2,  35.2268,2,    205.3,1, 22.1594,   -999.0,9,  -999.00,9,  -999.00,9,  -999.00,9,  -999.0,-999.000
     33KB206_1,  PRS2,     2, 12,     18,   8018,2,20081202,0014, 22.6698,-157.9822, 4746,    149,    149.8,  20.7232,  35.1964,2,  35.2030,2,    195.3,1, 20.6948,   -999.0,9,  -999.00,9,  -999.00,9,  -999.00,9,  -999.0,-999.000
     33KB206_1,  PRS2,     2, 12,     16,   8016,2,20081202,0014, 22.6698,-157.9822, 4746,    202,    201.4,  17.0919,  34.7287,2,-999.0000,5,    191.3,1, 17.0586,   -999.0,9,  -999.00,9,  -999.00,9,  -999.00,9,  -999.0,-999.000
     33KB206_1,  PRS2,     2, 12,     17,   8017,2,20081202,0014, 22.6698,-157.9822, 4746,    201,    201.6,  17.0843,  34.7261,2,-999.0000,5,    191.4,1, 17.0509,   -999.0,9,  -999.00,9,  -999.00,9,  -999.00,9,  -999.0,-999.000
     33KB206_1,  PRS2,     2, 12,     15,   8015,2,20081202,0014, 22.6698,-157.9822, 4746,    251,    249.9,  14.5717,  34.4459,2,  34.4426,2,    196.2,1, 14.5347,   -999.0,9,  -999.00,9,  -999.00,9,  -999.00,9,  -999.0,-999.000
     33KB206_1,  PRS2,     2, 12,     13,   8025,2,20081202,0014, 22.6698,-157.9822, 4746,    299,    300.1,  12.9298,  34.3091,2,-999.0000,5,    200.4,1, 12.8888,   -999.0,9,  -999.00,9,  -999.00,9,  -999.00,9,  -999.0,-999.000
     33KB206_1,  PRS2,     2, 12,     14,   8014,2,20081202,0014, 22.6698,-157.9822, 4746,    299,    300.2,  12.9333,  34.3093,2,-999.0000,5,    200.5,1, 12.8923,   -999.0,9,  -999.00,9,  -999.00,9,  -999.00,9,  -999.0,-999.000
     33KB206_1,  PRS2,     2, 12,     12,   8012,2,20081202,0014, 22.6698,-157.9822, 4746,    351,    350.2,  11.0443,  34.1962,2,  34.1968,2,    199.2,1, 11.0011,   -999.0,9,  -999.00,9,  -999.00,9,  -999.00,9,  -999.0,-999.000
     33KB206_1,  PRS2,     2, 12,     11,   8011,2,20081202,0014, 22.6698,-157.9822, 4746,    401,    400.8,   9.5865,  34.1431,2,-999.0000,5,    142.9,1,  9.5412,   -999.0,9,  -999.00,9,  -999.00,9,  -999.00,9,  -999.0,-999.000
     33KB206_1,  PRS2,     2, 12,      9,   8009,2,20081202,0014, 22.6698,-157.9822, 4746,    502,    499.4,   6.9945,  34.0557,2,-999.0000,5,    108.8,1,  6.9475,   -999.0,9,  -999.00,9,  -999.00,9,  -999.00,9,  -999.0,-999.000
     33KB206_1,  PRS2,     2, 12,     10,   8010,2,20081202,0014, 22.6698,-157.9822, 4746,    501,    499.7,   7.0127,  34.0563,2,-999.0000,5,    109.1,1,  6.9656,   -999.0,9,  -999.00,9,  -999.00,9,  -999.00,9,  -999.0,-999.000
     33KB206_1,  PRS2,     2, 12,      8,   8008,2,20081202,0014, 22.6698,-157.9822, 4746,    522,    520.5,   6.6932,  34.0574,2,  34.0566,2,     99.9,1,  6.6453,   -999.0,9,  -999.00,9,  -999.00,9,  -999.00,9,  -999.0,-999.000
     33KB206_1,  PRS2,     2, 12,      7,   8026,2,20081202,0014, 22.6698,-157.9822, 4746,    600,    600.8,   5.7406,  34.1457,2,-999.0000,5,     56.9,1,  5.6893,   -999.0,9,  -999.00,9,  -999.00,9,  -999.00,9,  -999.0,-999.000
     33KB206_1,  PRS2,     2, 12,      6,   8006,2,20081202,0014, 22.6698,-157.9822, 4746,    702,    699.9,   5.2260,  34.2898,2,-999.0000,5,     38.7,1,  5.1683,   -999.0,9,  -999.00,9,  -999.00,9,  -999.00,9,  -999.0,-999.000
     33KB206_1,  PRS2,     2, 12,      5,   8005,2,20081202,0014, 22.6698,-157.9822, 4746,    771,    770.3,   4.7973,  34.3155,2,-999.0000,5,     34.8,1,  4.7359,   -999.0,9,  -999.00,9,  -999.00,9,  -999.00,9,  -999.0,-999.000
     33KB206_1,  PRS2,     2, 12,      4,   8004,2,20081202,0014, 22.6698,-157.9822, 4746,    799,    800.2,   4.5828,  34.3521,2,-999.0000,5,     32.5,1,  4.5200,   -999.0,9,  -999.00,9,  -999.00,9,  -999.00,9,  -999.0,-999.000
     33KB206_1,  PRS2,     2, 12,      3,   8003,2,20081202,0014, 22.6698,-157.9822, 4746,    900,    899.5,   4.2690,  34.4219,2,-999.0000,5,     36.7,1,  4.1999,   -999.0,9,  -999.00,9,  -999.00,9,  -999.00,9,  -999.0,-999.000
     33KB206_1,  PRS2,     2, 12,      2,   8002,2,20081202,0014, 22.6698,-157.9822, 4746,   1020,   1020.0,   3.9850,  34.4863,2,-999.0000,5,     45.6,1,  3.9078,   -999.0,9,  -999.00,9,  -999.00,9,  -999.00,9,  -999.0,-999.000
     33KB206_1,  PRS2,     2, 12,      1,   8001,2,20081202,0014, 22.6698,-157.9822, 4746,   1021,   1020.1,   3.9848,  34.4865,2,  34.4824,2,     45.6,1,  3.9076,   -999.0,9,  -999.00,9,  -999.00,9,  -999.00,9,  -999.0,-999.000