BOTTLE,20090923WHPSIOMYS
EXPOCODE,SECT_ID,STNNBR,CASTNO,SAMPNO,BTLNBR,BTLNBR_FLAG_W,DATE,TIME,LATITUDE,LONGITUDE,DEPTH,CTDRAW,CTDPRS,CTDTMP,CTDSAL,CTDSAL_FLAG_W,SALNTY,SALNTY_FLAG_W,CTDOXY,CTDOXY_FLAG_W,THETA,OXYGEN,OXYGEN_FLAG_W,SILCAT,SILCAT_FLAG_W,NO2+NO3,NO2+NO3_FLAG_W,PHSPHT,PHSPHT_FLAG_W,REVPRS,REVTMP
,,,,,,,,,,,,,DBAR,ITS-90,PSS-78,,PSS-78,,UMOL/KG,,ITS-90,UMOL/KG,,UMOL/KG,,UMOL/KG,,UMOL/KG,,DBAR,DEG C
     33KB206_1,  PRS2,     2, 13,     21,   8021,2,20081202,0257, 22.6698,-157.9822, 4746,      8,      6.8,  25.0744,  35.1652,2,  35.1640,2,    206.7,1, 25.0729,   -999.0,9,  -999.00,9,  -999.00,9,  -999.00,9,  -999.0,-999.000
     33KB206_1,  PRS2,     2, 13,     22,   8022,2,20081202,0257, 22.6698,-157.9822, 4746,      7,      6.9,  25.0751,  35.1652,2,-999.0000,5,    206.6,1, 25.0736,   -999.0,9,  -999.00,9,  -999.00,9,  -999.00,9,  -999.0,-999.000
     33KB206_1,  PRS2,     2, 13,     20,   8020,2,20081202,0257, 22.6698,-157.9822, 4746,     14,     14.9,  25.0358,  35.1685,2,  35.1701,2,    206.8,1, 25.0325,   -999.0,9,  -999.00,9,  -999.00,9,  -999.00,9,  -999.0,-999.000
     33KB206_1,  PRS2,     2, 13,     19,   8019,2,20081202,0257, 22.6698,-157.9822, 4746,     26,     25.4,  24.9626,  35.1788,2,-999.0000,5,    206.7,1, 24.9571,   -999.0,9,  -999.00,9,  -999.00,9,  -999.00,9,  -999.0,-999.000
     33KB206_1,  PRS2,     2, 13,     18,   8018,2,20081202,0257, 22.6698,-157.9822, 4746,     26,     25.4,  24.9625,  35.1789,2,  35.1770,2,    206.6,1, 24.9570,   -999.0,9,  -999.00,9,  -999.00,9,  -999.00,9,  -999.0,-999.000
     33KB206_1,  PRS2,     2, 13,     17,   8017,2,20081202,0257, 22.6698,-157.9822, 4746,     36,     35.8,  24.9617,  35.1817,2,  35.1800,2,    206.7,1, 24.9540,   -999.0,9,  -999.00,9,  -999.00,9,  -999.00,9,  -999.0,-999.000
     33KB206_1,  PRS2,     2, 13,     16,   8016,2,20081202,0257, 22.6698,-157.9822, 4746,     36,     35.9,  24.9617,  35.1818,2,  35.1801,2,    206.6,1, 24.9539,   -999.0,9,  -999.00,9,  -999.00,9,  -999.00,9,  -999.0,-999.000
     33KB206_1,  PRS2,     2, 13,     15,   8015,2,20081202,0257, 22.6698,-157.9822, 4746,     45,     44.1,  24.9679,  35.1856,2,-999.0000,5,    206.4,1, 24.9583,   -999.0,9,  -999.00,9,  -999.00,9,  -999.00,9,  -999.0,-999.000
     33KB206_1,  PRS2,     2, 13,     14,   8014,2,20081202,0257, 22.6698,-157.9822, 4746,     44,     44.2,  24.9685,  35.1856,2,  35.1845,2,    206.6,1, 24.9589,   -999.0,9,  -999.00,9,  -999.00,9,  -999.00,9,  -999.0,-999.000
     33KB206_1,  PRS2,     2, 13,     13,   8025,2,20081202,0257, 22.6698,-157.9822, 4746,     59,     59.6,  24.9783,  35.1906,2,  35.1918,2,    206.2,1, 24.9654,   -999.0,9,  -999.00,9,  -999.00,9,  -999.00,9,  -999.0,-999.000
     33KB206_1,  PRS2,     2, 13,     11,   8011,2,20081202,0257, 22.6698,-157.9822, 4746,     74,     74.2,  24.9817,  35.2108,2,  35.2119,2,    206.2,1, 24.9656,   -999.0,9,  -999.00,9,  -999.00,9,  -999.00,9,  -999.0,-999.000
     33KB206_1,  PRS2,     2, 13,     12,   8012,2,20081202,0257, 22.6698,-157.9822, 4746,     75,     74.3,  24.9813,  35.2110,2,-999.0000,5,    206.1,1, 24.9652,   -999.0,9,  -999.00,9,  -999.00,9,  -999.00,9,  -999.0,-999.000
     33KB206_1,  PRS2,     2, 13,     10,   8010,2,20081202,0257, 22.6698,-157.9822, 4746,     99,     99.5,  22.8900,  35.1894,2,-999.0000,5,    212.9,1, 22.8698,   -999.0,9,  -999.00,9,  -999.00,9,  -999.00,9,  -999.0,-999.000
     33KB206_1,  PRS2,     2, 13,      9,   8009,2,20081202,0257, 22.6698,-157.9822, 4746,    100,     99.6,  22.8647,  35.1891,2,  35.1894,2,    212.2,1, 22.8445,   -999.0,9,  -999.00,9,  -999.00,9,  -999.00,9,  -999.0,-999.000
     33KB206_1,  PRS2,     2, 13,      7,   8026,2,20081202,0257, 22.6698,-157.9822, 4746,    126,    124.3,  22.1241,  35.2092,2,  35.2105,2,    204.4,1, 22.0994,   -999.0,9,  -999.00,9,  -999.00,9,  -999.00,9,  -999.0,-999.000
     33KB206_1,  PRS2,     2, 13,      8,   8008,2,20081202,0257, 22.6698,-157.9822, 4746,    125,    124.4,  22.1270,  35.2076,2,-999.0000,5,    204.4,1, 22.1022,   -999.0,9,  -999.00,9,  -999.00,9,  -999.00,9,  -999.0,-999.000
     33KB206_1,  PRS2,     2, 13,      6,   8006,2,20081202,0257, 22.6698,-157.9822, 4746,    151,    150.7,  21.1991,  35.2218,2,-999.0000,5,    197.0,1, 21.1700,   -999.0,9,  -999.00,9,  -999.00,9,  -999.00,9,  -999.0,-999.000
     33KB206_1,  PRS2,     2, 13,      5,   8005,2,20081202,0257, 22.6698,-157.9822, 4746,    152,    150.9,  21.1805,  35.2246,2,  35.2233,2,    197.2,1, 21.1515,   -999.0,9,  -999.00,9,  -999.00,9,  -999.00,9,  -999.0,-999.000
     33KB206_1,  PRS2,     2, 13,      4,   8004,2,20081202,0257, 22.6698,-157.9822, 4746,    175,    174.8,  19.9728,  35.0847,2,-999.0000,5,    189.9,1, 19.9405,   -999.0,9,  -999.00,9,  -999.00,9,  -999.00,9,  -999.0,-999.000
     33KB206_1,  PRS2,     2, 13,      3,   8003,2,20081202,0257, 22.6698,-157.9822, 4746,    175,    174.8,  19.9653,  35.0855,2,  35.0750,2,    190.2,1, 19.9330,   -999.0,9,  -999.00,9,  -999.00,9,  -999.00,9,  -999.0,-999.000
     33KB206_1,  PRS2,     2, 13,      2,   8002,2,20081202,0257, 22.6698,-157.9822, 4746,    500,    500.3,   7.1214,  34.0586,2,  34.0578,2,    111.9,1,  7.0738,   -999.0,9,  -999.00,9,  -999.00,9,  -999.00,9,  -999.0,-999.000
     33KB206_1,  PRS2,     2, 13,      1,   8001,2,20081202,0257, 22.6698,-157.9822, 4746,   1020,   1019.7,   3.8972,  34.4827,2,  34.4815,2,     46.5,1,  3.8207,   -999.0,9,  -999.00,9,  -999.00,9,  -999.00,9,  -999.0,-999.000
     33KB206_1,  PRS2,     2, 14,     23,   8023,2,20081202,0600, 22.7023,-157.9838, 4731,      5,      4.9,  25.0456,  35.1649,2,-999.0000,5,    206.2,1, 25.0446,   -999.0,9,  -999.00,9,  -999.00,9,  -999.00,9,  -999.0,-999.000
     33KB206_1,  PRS2,     2, 14,     22,   8022,2,20081202,0600, 22.7023,-157.9838, 4731,      5,      5.0,  25.0457,  35.1649,2,  35.1670,2,    206.3,1, 25.0446,   -999.0,9,  -999.00,9,  -999.00,9,  -999.00,9,  -999.0,-999.000
     33KB206_1,  PRS2,     2, 14,     20,   8020,2,20081202,0600, 22.7023,-157.9838, 4731,     26,     25.2,  25.0425,  35.1677,2,-999.0000,5,    206.3,1, 25.0371,   -999.0,9,  -999.00,9,  -999.00,9,  -999.00,9,  -999.0,-999.000
     33KB206_1,  PRS2,     2, 14,     19,   8019,2,20081202,0600, 22.7023,-157.9838, 4731,     26,     25.2,  25.0417,  35.1682,2,  35.1666,2,    206.2,1, 25.0362,   -999.0,9,  -999.00,9,  -999.00,9,  -999.00,9,  -999.0,-999.000
     33KB206_1,  PRS2,     2, 14,     21,   8021,2,20081202,0600, 22.7023,-157.9838, 4731,     26,     25.3,  25.0430,  35.1675,2,-999.0000,5,    206.3,1, 25.0375,   -999.0,9,  -999.00,9,  -999.00,9,  -999.00,9,  -999.0,-999.000
     33KB206_1,  PRS2,     2, 14,     18,   8018,2,20081202,0600, 22.7023,-157.9838, 4731,     46,     45.1,  24.9746,  35.1990,2,-999.0000,5,    207.0,1, 24.9649,   -999.0,9,  -999.00,9,  -999.00,9,  -999.00,9,  -999.0,-999.000
     33KB206_1,  PRS2,     2, 14,     17,   8017,2,20081202,0600, 22.7023,-157.9838, 4731,     46,     45.2,  24.9745,  35.1990,2,  35.1979,2,    206.9,1, 24.9647,   -999.0,9,  -999.00,9,  -999.00,9,  -999.00,9,  -999.0,-999.000
     33KB206_1,  PRS2,     2, 14,     16,   8016,2,20081202,0600, 22.7023,-157.9838, 4731,     60,     59.1,  24.9748,  35.2037,2,  35.1506,4,    206.9,1, 24.9619,   -999.0,9,  -999.00,9,  -999.00,9,  -999.00,9,  -999.0,-999.000
     33KB206_1,  PRS2,     2, 14,     15,   8015,2,20081202,0600, 22.7023,-157.9838, 4731,     76,     75.1,  24.9629,  35.2303,2,-999.0000,5,    206.3,1, 24.9466,   -999.0,9,  -999.00,9,  -999.00,9,  -999.00,9,  -999.0,-999.000
     33KB206_1,  PRS2,     2, 14,     14,   8014,2,20081202,0600, 22.7023,-157.9838, 4731,     76,     75.1,  24.9629,  35.2303,2,  35.2302,2,    206.3,1, 24.9467,   -999.0,9,  -999.00,9,  -999.00,9,  -999.00,9,  -999.0,-999.000
     33KB206_1,  PRS2,     2, 14,     13,   8025,2,20081202,0600, 22.7023,-157.9838, 4731,     86,     85.8,  24.4813,  35.2528,2,  35.2519,2,    209.3,1, 24.4629,   -999.0,9,  -999.00,9,  -999.00,9,  -999.00,9,  -999.0,-999.000
     33KB206_1,  PRS2,     2, 14,     11,   8011,2,20081202,0600, 22.7023,-157.9838, 4731,    101,    100.2,  23.2257,  35.2075,2,  35.2034,2,    213.6,1, 23.2051,   -999.0,9,  -999.00,9,  -999.00,9,  -999.00,9,  -999.0,-999.000
     33KB206_1,  PRS2,     2, 14,     12,   8012,2,20081202,0600, 22.7023,-157.9838, 4731,    100,    100.5,  23.1946,  35.2034,2,-999.0000,5,    213.7,1, 23.1739,   -999.0,9,  -999.00,9,  -999.00,9,  -999.00,9,  -999.0,-999.000
     33KB206_1,  PRS2,     2, 14,     10,   8010,2,20081202,0600, 22.7023,-157.9838, 4731,    114,    114.5,  22.2764,  35.1615,2,  35.1648,2,    204.0,1, 22.2536,   -999.0,9,  -999.00,9,  -999.00,9,  -999.00,9,  -999.0,-999.000
     33KB206_1,  PRS2,     2, 14,      9,   8009,2,20081202,0600, 22.7023,-157.9838, 4731,    124,    124.2,  21.7172,  35.1965,2,-999.0000,5,    198.7,1, 21.6928,   -999.0,9,  -999.00,9,  -999.00,9,  -999.00,9,  -999.0,-999.000
     33KB206_1,  PRS2,     2, 14,      8,   8008,2,20081202,0600, 22.7023,-157.9838, 4731,    125,    124.2,  21.7036,  35.1976,2,  35.1965,2,    198.6,1, 21.6792,   -999.0,9,  -999.00,9,  -999.00,9,  -999.00,9,  -999.0,-999.000
     33KB206_1,  PRS2,     2, 14,      7,   8026,2,20081202,0600, 22.7023,-157.9838, 4731,    134,    134.6,  21.5446,  35.2313,2,  35.2292,2,    197.2,1, 21.5184,   -999.0,9,  -999.00,9,  -999.00,9,  -999.00,9,  -999.0,-999.000
     33KB206_1,  PRS2,     2, 14,      6,   8006,2,20081202,0600, 22.7023,-157.9838, 4731,    149,    149.1,  20.9552,  35.2201,2,-999.0000,5,    195.4,1, 20.9267,   -999.0,9,  -999.00,9,  -999.00,9,  -999.00,9,  -999.0,-999.000
     33KB206_1,  PRS2,     2, 14,      5,   8005,2,20081202,0600, 22.7023,-157.9838, 4731,    150,    149.1,  20.9453,  35.2193,2,  35.2229,2,    195.2,1, 20.9168,   -999.0,9,  -999.00,9,  -999.00,9,  -999.00,9,  -999.0,-999.000
     33KB206_1,  PRS2,     2, 14,      4,   8004,2,20081202,0600, 22.7023,-157.9838, 4731,    175,    174.7,  19.9907,  35.0873,2,-999.0000,5,    189.7,1, 19.9584,   -999.0,9,  -999.00,9,  -999.00,9,  -999.00,9,  -999.0,-999.000
     33KB206_1,  PRS2,     2, 14,      3,   8003,2,20081202,0600, 22.7023,-157.9838, 4731,    175,    174.9,  19.9906,  35.0862,2,  35.0880,2,    189.8,1, 19.9583,   -999.0,9,  -999.00,9,  -999.00,9,  -999.00,9,  -999.0,-999.000
     33KB206_1,  PRS2,     2, 14,      2,   8002,2,20081202,0600, 22.7023,-157.9838, 4731,    520,    520.5,   6.8259,  34.0554,2,  34.0531,2,    104.0,1,  6.7774,   -999.0,9,  -999.00,9,  -999.00,9,  -999.00,9,  -999.0,-999.000
     33KB206_1,  PRS2,     2, 14,      1,   8001,2,20081202,0600, 22.7023,-157.9838, 4731,   1020,   1020.0,   3.9537,  34.4799,2,  34.4777,2,     42.6,1,  3.8767,   -999.0,9,  -999.00,9,  -999.00,9,  -999.00,9,  -999.0,-999.000
     33KB206_1,  PRS2,     2, 15,     24,   8024,2,20081202,0900, 22.6712,-157.9830, 4746,      6,      5.1,  25.0308,  35.1664,2,  35.1654,2,    205.9,1, 25.0297,   -999.0,9,  -999.00,9,  -999.00,9,  -999.00,9,  -999.0,-999.000
     33KB206_1,  PRS2,     2, 15,     23,   8023,2,20081202,0900, 22.6712,-157.9830, 4746,     25,     24.8,  25.0146,  35.1692,2,  35.1691,2,    206.4,1, 25.0092,   -999.0,9,  -999.00,9,  -999.00,9,  -999.00,9,  -999.0,-999.000
     33KB206_1,  PRS2,     2, 15,     22,   8022,2,20081202,0900, 22.6712,-157.9830, 4746,     46,     46.4,  24.9778,  35.1945,2,  35.1935,2,    206.6,1, 24.9677,   -999.0,9,  -999.00,9,  -999.00,9,  -999.00,9,  -999.0,-999.000
     33KB206_1,  PRS2,     2, 15,     21,   8021,2,20081202,0900, 22.6712,-157.9830, 4746,     76,     74.8,  24.8377,  35.2625,2,  35.2619,2,    207.1,1, 24.8216,   -999.0,9,  -999.00,9,  -999.00,9,  -999.00,9,  -999.0,-999.000
     33KB206_1,  PRS2,     2, 15,     20,   8020,2,20081202,0900, 22.6712,-157.9830, 4746,    100,     99.9,  22.3082,  35.2169,2,  35.2050,2,    202.8,1, 22.2882,   -999.0,9,  -999.00,9,  -999.00,9,  -999.00,9,  -999.0,-999.000
     33KB206_1,  PRS2,     2, 15,     19,   8019,2,20081202,0900, 22.6712,-157.9830, 4746,    124,    124.1,  21.4234,  35.2360,2,  35.2345,2,    199.0,1, 21.3993,   -999.0,9,  -999.00,9,  -999.00,9,  -999.00,9,  -999.0,-999.000
     33KB206_1,  PRS2,     2, 15,     18,   8018,2,20081202,0900, 22.6712,-157.9830, 4746,    150,    150.4,  20.4972,  35.1599,2,  35.1471,2,    192.5,1, 20.4689,   -999.0,9,  -999.00,9,  -999.00,9,  -999.00,9,  -999.0,-999.000
     33KB206_1,  PRS2,     2, 15,     17,   8017,2,20081202,0900, 22.6712,-157.9830, 4746,    176,    174.7,  19.1455,  34.9827,2,  34.9866,2,    190.5,1, 19.1142,   -999.0,9,  -999.00,9,  -999.00,9,  -999.00,9,  -999.0,-999.000
     33KB206_1,  PRS2,     2, 15,     13,   8025,2,20081202,0900, 22.6712,-157.9830, 4746,    501,    500.6,   7.1802,  34.0649,2,-999.0000,5,    109.3,1,  7.1323,   -999.0,9,  -999.00,9,  -999.00,9,  -999.00,9,  -999.0,-999.000
     33KB206_1,  PRS2,     2, 15,     16,   8016,2,20081202,0900, 22.6712,-157.9830, 4746,    502,    500.7,   7.1781,  34.0651,2,-999.0000,5,    110.1,1,  7.1302,   -999.0,9,  -999.00,9,  -999.00,9,  -999.00,9,  -999.0,-999.000
     33KB206_1,  PRS2,     2, 15,     15,   8015,2,20081202,0900, 22.6712,-157.9830, 4746,    501,    500.8,   7.1787,  34.0651,2,-999.0000,5,    109.7,1,  7.1308,   -999.0,9,  -999.00,9,  -999.00,9,  -999.00,9,  -999.0,-999.000
     33KB206_1,  PRS2,     2, 15,     14,   8014,2,20081202,0900, 22.6712,-157.9830, 4746,    501,    500.8,   7.1796,  34.0652,2,-999.0000,5,    109.5,1,  7.1317,   -999.0,9,  -999.00,9,  -999.00,9,  -999.00,9,  -999.0,-999.000
     33KB206_1,  PRS2,     2, 15,     12,   8012,2,20081202,0900, 22.6712,-157.9830, 4746,    499,    500.8,   7.1804,  34.0652,2,-999.0000,5,    109.2,1,  7.1325,   -999.0,9,  -999.00,9,  -999.00,9,  -999.00,9,  -999.0,-999.000
     33KB206_1,  PRS2,     2, 15,     11,   8011,2,20081202,0900, 22.6712,-157.9830, 4746,    549,    550.2,   6.4772,  34.0657,2,  34.0652,2,     90.0,1,  6.4273,   -999.0,9,  -999.00,9,  -999.00,9,  -999.00,9,  -999.0,-999.000
     33KB206_1,  PRS2,     2, 15,      7,   8026,2,20081202,0900, 22.6712,-157.9830, 4746,    770,    770.1,   4.7177,  34.3205,2,-999.0000,5,     29.5,1,  4.6568,   -999.0,9,  -999.00,9,  -999.00,9,  -999.00,9,  -999.0,-999.000
     33KB206_1,  PRS2,     2, 15,      8,   8008,2,20081202,0900, 22.6712,-157.9830, 4746,    771,    770.2,   4.7177,  34.3204,2,-999.0000,5,     29.5,1,  4.6567,   -999.0,9,  -999.00,9,  -999.00,9,  -999.00,9,  -999.0,-999.000
     33KB206_1,  PRS2,     2, 15,      6,   8006,2,20081202,0900, 22.6712,-157.9830, 4746,    771,    770.2,   4.7183,  34.3202,2,-999.0000,5,     29.5,1,  4.6573,   -999.0,9,  -999.00,9,  -999.00,9,  -999.00,9,  -999.0,-999.000
     33KB206_1,  PRS2,     2, 15,     10,   8010,2,20081202,0900, 22.6712,-157.9830, 4746,    771,    770.3,   4.7174,  34.3204,2,-999.0000,5,     29.6,1,  4.6564,   -999.0,9,  -999.00,9,  -999.00,9,  -999.00,9,  -999.0,-999.000
     33KB206_1,  PRS2,     2, 15,      9,   8009,2,20081202,0900, 22.6712,-157.9830, 4746,    770,    770.3,   4.7175,  34.3204,2,-999.0000,5,     29.6,1,  4.6565,   -999.0,9,  -999.00,9,  -999.00,9,  -999.00,9,  -999.0,-999.000
     33KB206_1,  PRS2,     2, 15,      5,   8005,2,20081202,0900, 22.6712,-157.9830, 4746,   1020,   1020.3,   3.9119,  34.4766,2,-999.0000,5,     44.2,1,  3.8353,   -999.0,9,  -999.00,9,  -999.00,9,  -999.00,9,  -999.0,-999.000
     33KB206_1,  PRS2,     2, 15,      4,   8004,2,20081202,0900, 22.6712,-157.9830, 4746,   1020,   1020.4,   3.9119,  34.4766,2,-999.0000,5,     44.2,1,  3.8353,   -999.0,9,  -999.00,9,  -999.00,9,  -999.00,9,  -999.0,-999.000
     33KB206_1,  PRS2,     2, 15,      3,   8003,2,20081202,0900, 22.6712,-157.9830, 4746,   1021,   1020.4,   3.9121,  34.4766,2,-999.0000,5,     44.2,1,  3.8354,   -999.0,9,  -999.00,9,  -999.00,9,  -999.00,9,  -999.0,-999.000
     33KB206_1,  PRS2,     2, 15,      1,   8001,2,20081202,0900, 22.6712,-157.9830, 4746,   1021,   1020.5,   3.9118,  34.4767,2,  34.4752,2,     44.2,1,  3.8352,   -999.0,9,  -999.00,9,  -999.00,9,  -999.00,9,  -999.0,-999.000
     33KB206_1,  PRS2,     2, 15,      2,   8002,2,20081202,0900, 22.6712,-157.9830, 4746,   1021,   1020.6,   3.9120,  34.4766,2,-999.0000,5,     44.2,1,  3.8354,   -999.0,9,  -999.00,9,  -999.00,9,  -999.00,9,  -999.0,-999.000