BOTTLE,20090923WHPSIOMYS
#code : jjward hyd_to_exchange.pl 
#original files copied from HTML directory: 20090923
#original HYD file: 33KB206_1_hy.txt   Wed Sep 23 18:03:13 2009
#original SUM file: ../33KB206_1su.txt   Wed Sep 23 18:03:12 2009
EXPOCODE,SECT_ID,STNNBR,CASTNO,SAMPNO,BTLNBR,BTLNBR_FLAG_W,DATE,TIME,LATITUDE,LONGITUDE,DEPTH,CTDRAW,CTDPRS,CTDTMP,CTDSAL,CTDSAL_FLAG_W,SALNTY,SALNTY_FLAG_W,CTDOXY,CTDOXY_FLAG_W,THETA,OXYGEN,OXYGEN_FLAG_W,SILCAT,SILCAT_FLAG_W,NO2+NO3,NO2+NO3_FLAG_W,PHSPHT,PHSPHT_FLAG_W,REVPRS,REVTMP
,,,,,,,,,,,,,DBAR,ITS-90,PSS-78,,PSS-78,,UMOL/KG,,ITS-90,UMOL/KG,,UMOL/KG,,UMOL/KG,,UMOL/KG,,DBAR,DEG C
     33KB206_1,  PRS2,     1,  1,     23,   8023,2,20081129,2330, 21.3443,-158.2743, 1727,      7,      8.3,  25.5871,  35.0946,2,  35.0945,2,    203.8,2, 25.5853,    203.7,2,  -999.00,9,  -999.00,9,  -999.00,9,  -999.0,-999.000
     33KB206_1,  PRS2,     1,  1,     24,   8024,2,20081129,2330, 21.3443,-158.2743, 1727,      7,      8.4,  25.5847,  35.0956,2,  35.0941,2,    203.7,2, 25.5829,    204.1,2,  -999.00,9,  -999.00,9,  -999.00,9,  -999.0,-999.000
     33KB206_1,  PRS2,     1,  1,     22,   8022,2,20081129,2330, 21.3443,-158.2743, 1727,     25,     25.5,  25.5736,  35.0918,2,  35.0909,2,    204.5,2, 25.5680,    204.7,2,  -999.00,9,  -999.00,9,  -999.00,9,  -999.0,-999.000
     33KB206_1,  PRS2,     1,  1,     21,   8021,2,20081129,2330, 21.3443,-158.2743, 1727,     44,     43.4,  25.5577,  35.0942,2,  35.0935,2,    204.2,2, 25.5482,    203.5,2,  -999.00,9,  -999.00,9,  -999.00,9,  -999.0,-999.000
     33KB206_1,  PRS2,     1,  1,     20,   8020,2,20081129,2330, 21.3443,-158.2743, 1727,     57,     58.9,  25.2197,  35.2155,2,  35.2142,2,    205.4,2, 25.2069,    205.6,2,  -999.00,9,  -999.00,9,  -999.00,9,  -999.0,-999.000
     33KB206_1,  PRS2,     1,  1,     19,   8019,2,20081129,2330, 21.3443,-158.2743, 1727,     74,     74.0,  24.0819,  35.1925,2,  35.1947,2,    207.6,2, 24.0663,    206.7,2,  -999.00,9,  -999.00,9,  -999.00,9,  -999.0,-999.000
     33KB206_1,  PRS2,     1,  1,     18,   8018,2,20081129,2330, 21.3443,-158.2743, 1727,    101,    100.2,  22.5457,  35.1889,2,  35.1872,2,    200.6,2, 22.5255,    199.9,2,  -999.00,9,  -999.00,9,  -999.00,9,  -999.0,-999.000
     33KB206_1,  PRS2,     1,  1,     17,   8017,2,20081129,2330, 21.3443,-158.2743, 1727,    114,    114.5,  22.0309,  35.1672,2,  35.1668,2,    194.9,2, 22.0082,    195.2,2,  -999.00,9,  -999.00,9,  -999.00,9,  -999.0,-999.000
     33KB206_1,  PRS2,     1,  1,     16,   8016,2,20081129,2330, 21.3443,-158.2743, 1727,    125,    125.7,  21.7568,  35.1668,2,  35.1673,2,    194.1,2, 21.7321,    194.6,2,  -999.00,9,  -999.00,9,  -999.00,9,  -999.0,-999.000
     33KB206_1,  PRS2,     1,  1,     15,   8015,2,20081129,2330, 21.3443,-158.2743, 1727,    149,    150.1,  20.4788,  35.0817,2,  35.0872,2,    188.0,2, 20.4506,    195.6,4,  -999.00,9,  -999.00,9,  -999.00,9,  -999.0,-999.000
     33KB206_1,  PRS2,     1,  1,     14,   8014,2,20081129,2330, 21.3443,-158.2743, 1727,    177,    174.8,  18.6487,  34.8862,2,  34.8880,2,    187.6,2, 18.6180,    188.8,2,  -999.00,9,  -999.00,9,  -999.00,9,  -999.0,-999.000
     33KB206_1,  PRS2,     1,  1,     13,   8025,2,20081129,2330, 21.3443,-158.2743, 1727,    200,    199.4,  16.6429,  34.6602,2,  34.6749,2,    187.8,2, 16.6106,    187.8,2,  -999.00,9,  -999.00,9,  -999.00,9,  -999.0,-999.000
     33KB206_1,  PRS2,     1,  1,     12,   8012,2,20081129,2330, 21.3443,-158.2743, 1727,    223,    224.2,  15.1072,  34.4959,2,  34.4970,2,    187.1,2, 15.0732,    187.7,2,  -999.00,9,  -999.00,9,  -999.00,9,  -999.0,-999.000
     33KB206_1,  PRS2,     1,  1,     11,   8011,2,20081129,2330, 21.3443,-158.2743, 1727,    251,    248.5,  13.7860,  34.3767,2,  34.3786,2,    186.5,2, 13.7506,    187.6,2,  -999.00,9,  -999.00,9,  -999.00,9,  -999.0,-999.000
     33KB206_1,  PRS2,     1,  1,     10,   8010,2,20081129,2330, 21.3443,-158.2743, 1727,    297,    299.0,  11.7467,  34.2275,2,  34.2319,2,    180.5,2, 11.7084,    178.9,2,  -999.00,9,  -999.00,9,  -999.00,9,  -999.0,-999.000
     33KB206_1,  PRS2,     1,  1,      9,   8009,2,20081129,2330, 21.3443,-158.2743, 1727,    354,    350.6,   9.8021,  34.1545,2,  34.1562,2,    151.6,2,  9.7620,    151.3,2,  -999.00,9,  -999.00,9,  -999.00,9,  -999.0,-999.000
     33KB206_1,  PRS2,     1,  1,      8,   8008,2,20081129,2330, 21.3443,-158.2743, 1727,    401,    402.2,   8.6080,  34.1421,2,  34.1423,2,    124.2,2,  8.5654,    124.6,2,  -999.00,9,  -999.00,9,  -999.00,9,  -999.0,-999.000
     33KB206_1,  PRS2,     1,  1,      7,   8026,2,20081129,2330, 21.3443,-158.2743, 1727,    501,    500.2,   6.7849,  34.1536,2,  34.1517,2,     77.4,2,  6.7385,     76.2,2,  -999.00,9,  -999.00,9,  -999.00,9,  -999.0,-999.000
     33KB206_1,  PRS2,     1,  1,      6,   8006,2,20081129,2330, 21.3443,-158.2743, 1727,    599,    599.0,   5.5119,  34.2161,2,  34.2134,2,     44.5,2,  5.4617,     44.9,2,  -999.00,9,  -999.00,9,  -999.00,9,  -999.0,-999.000
     33KB206_1,  PRS2,     1,  1,      5,   8005,2,20081129,2330, 21.3443,-158.2743, 1727,    699,    699.7,   5.1585,  34.3695,2,  34.3680,2,     33.8,2,  5.1010,     33.2,2,  -999.00,9,  -999.00,9,  -999.00,9,  -999.0,-999.000
     33KB206_1,  PRS2,     1,  1,      4,   8004,2,20081129,2330, 21.3443,-158.2743, 1727,    750,    750.4,   5.0099,  34.3981,2,  34.3984,2,     34.2,2,  4.9488,     34.6,2,  -999.00,9,  -999.00,9,  -999.00,9,  -999.0,-999.000
     33KB206_1,  PRS2,     1,  1,      3,   8003,2,20081129,2330, 21.3443,-158.2743, 1727,    901,    900.0,   4.4698,  34.4659,2,  34.4654,2,     40.3,2,  4.3992,     40.2,2,  -999.00,9,  -999.00,9,  -999.00,9,  -999.0,-999.000
     33KB206_1,  PRS2,     1,  1,      2,   8002,2,20081129,2330, 21.3443,-158.2743, 1727,    899,    900.1,   4.4695,  34.4660,2,  34.4648,2,     40.3,2,  4.3989,     40.7,2,  -999.00,9,  -999.00,9,  -999.00,9,  -999.0,-999.000
     33KB206_1,  PRS2,     1,  1,      1,   8001,2,20081129,2330, 21.3443,-158.2743, 1727,   1020,   1018.9,   4.1037,  34.4977,2,  34.4977,2,     44.8,2,  4.0257,     44.9,2,  -999.00,9,  -999.00,9,  -999.00,9,  -999.0,-999.000
     33KB206_1,  PRS2,     2,  1,     15,   8015,2,20081130,1121, 22.7595,-158.0007, 4732,     24,     26.7,  24.8945,  35.2329,2,-999.0000,9,    206.6,1, 24.8887,   -999.0,9,  -999.00,9,  -999.00,9,  -999.00,9,  -999.0,-999.000
     33KB206_1,  PRS2,     2,  1,     14,   8014,2,20081130,1121, 22.7595,-158.0007, 4732,     27,     27.0,  24.8937,  35.2317,2,-999.0000,9,    206.9,1, 24.8879,   -999.0,9,  -999.00,9,  -999.00,9,  -999.00,9,  -999.0,-999.000
     33KB206_1,  PRS2,     2,  1,     12,   8012,2,20081130,1121, 22.7595,-158.0007, 4732,     27,     27.1,  24.8887,  35.2326,2,-999.0000,9,    207.3,1, 24.8828,   -999.0,9,  -999.00,9,  -999.00,9,  -999.00,9,  -999.0,-999.000
     33KB206_1,  PRS2,     2,  1,     13,   8025,2,20081130,1121, 22.7595,-158.0007, 4732,     28,     27.2,  24.8909,  35.2325,2,-999.0000,9,    207.1,1, 24.8850,   -999.0,9,  -999.00,9,  -999.00,9,  -999.00,9,  -999.0,-999.000
     33KB206_1,  PRS2,     2,  1,     11,   8011,2,20081130,1121, 22.7595,-158.0007, 4732,     27,     27.2,  24.8911,  35.2324,2,-999.0000,9,    207.5,1, 24.8852,   -999.0,9,  -999.00,9,  -999.00,9,  -999.00,9,  -999.0,-999.000
     33KB206_1,  PRS2,     2,  1,     10,   8010,2,20081130,1121, 22.7595,-158.0007, 4732,     40,     42.9,  24.8973,  35.2326,2,-999.0000,9,    207.7,1, 24.8880,   -999.0,9,  -999.00,9,  -999.00,9,  -999.00,9,  -999.0,-999.000
     33KB206_1,  PRS2,     2,  1,      9,   8009,2,20081130,1121, 22.7595,-158.0007, 4732,     42,     43.8,  24.8968,  35.2320,2,-999.0000,9,    207.6,1, 24.8874,   -999.0,9,  -999.00,9,  -999.00,9,  -999.00,9,  -999.0,-999.000
     33KB206_1,  PRS2,     2,  1,      8,   8008,2,20081130,1121, 22.7595,-158.0007, 4732,     44,     43.8,  24.8956,  35.2322,2,-999.0000,9,    207.5,1, 24.8862,   -999.0,9,  -999.00,9,  -999.00,9,  -999.00,9,  -999.0,-999.000
     33KB206_1,  PRS2,     2,  1,      7,   8026,2,20081130,1121, 22.7595,-158.0007, 4732,     44,     43.8,  24.8951,  35.2319,2,-999.0000,9,    207.5,1, 24.8856,   -999.0,9,  -999.00,9,  -999.00,9,  -999.00,9,  -999.0,-999.000
     33KB206_1,  PRS2,     2,  1,      6,   8006,2,20081130,1121, 22.7595,-158.0007, 4732,     41,     43.8,  24.8945,  35.2322,2,-999.0000,9,    207.4,1, 24.8850,   -999.0,9,  -999.00,9,  -999.00,9,  -999.00,9,  -999.0,-999.000
     33KB206_1,  PRS2,     2,  1,      4,   8004,2,20081130,1121, 22.7595,-158.0007, 4732,     79,     75.8,  24.7127,  35.2465,2,-999.0000,9,    207.1,1, 24.6964,   -999.0,9,  -999.00,9,  -999.00,9,  -999.00,9,  -999.0,-999.000
     33KB206_1,  PRS2,     2,  1,      5,   8005,2,20081130,1121, 22.7595,-158.0007, 4732,     78,     75.9,  24.6772,  35.2478,2,-999.0000,9,    207.2,1, 24.6609,   -999.0,9,  -999.00,9,  -999.00,9,  -999.00,9,  -999.0,-999.000
     33KB206_1,  PRS2,     2,  1,      3,   8003,2,20081130,1121, 22.7595,-158.0007, 4732,     80,     76.3,  24.7041,  35.2472,2,-999.0000,9,    207.1,1, 24.6877,   -999.0,9,  -999.00,9,  -999.00,9,  -999.00,9,  -999.0,-999.000
     33KB206_1,  PRS2,     2,  1,      2,   8002,2,20081130,1121, 22.7595,-158.0007, 4732,     78,     76.7,  24.7426,  35.2454,2,-999.0000,9,    206.9,1, 24.7261,   -999.0,9,  -999.00,9,  -999.00,9,  -999.00,9,  -999.0,-999.000
     33KB206_1,  PRS2,     2,  1,      1,   8001,2,20081130,1121, 22.7595,-158.0007, 4732,     77,     76.7,  24.7531,  35.2435,2,-999.0000,9,    206.9,1, 24.7366,   -999.0,9,  -999.00,9,  -999.00,9,  -999.00,9,  -999.0,-999.000
     33KB206_1,  PRS2,     2,  2,     23,   8023,2,20081130,1304, 22.7595,-158.0005, 4733,     11,     10.0,  24.8676,  35.2289,2,  35.2292,2,    206.6,1, 24.8654,   -999.0,9,  -999.00,9,  -999.00,9,  -999.00,9,  -999.0,-999.000
     33KB206_1,  PRS2,     2,  2,     22,   8022,2,20081130,1304, 22.7595,-158.0005, 4733,      8,     10.1,  24.8687,  35.2287,2,  35.2292,2,    206.6,1, 24.8665,   -999.0,9,  -999.00,9,  -999.00,9,  -999.00,9,  -999.0,-999.000
     33KB206_1,  PRS2,     2,  2,     24,   8024,2,20081130,1304, 22.7595,-158.0005, 4733,     11,     10.2,  24.8673,  35.2287,2,  35.2290,2,    206.6,1, 24.8651,   -999.0,9,  -999.00,9,  -999.00,9,  -999.00,9,  -999.0,-999.000
     33KB206_1,  PRS2,     2,  2,     21,   8021,2,20081130,1304, 22.7595,-158.0005, 4733,     20,     22.2,  24.8811,  35.2282,2,-999.0000,5,    206.7,1, 24.8763,   -999.0,9,  -999.00,9,  -999.00,9,  -999.00,9,  -999.0,-999.000
     33KB206_1,  PRS2,     2,  2,     20,   8020,2,20081130,1304, 22.7595,-158.0005, 4733,     26,     22.2,  24.8811,  35.2282,2,  35.2284,2,    206.8,1, 24.8763,   -999.0,9,  -999.00,9,  -999.00,9,  -999.00,9,  -999.0,-999.000
     33KB206_1,  PRS2,     2,  2,     19,   8019,2,20081130,1304, 22.7595,-158.0005, 4733,     21,     22.3,  24.8812,  35.2281,2,  35.2282,2,    206.8,1, 24.8764,   -999.0,9,  -999.00,9,  -999.00,9,  -999.00,9,  -999.0,-999.000
     33KB206_1,  PRS2,     2,  2,     18,   8018,2,20081130,1304, 22.7595,-158.0005, 4733,     22,     22.3,  24.8812,  35.2279,2,  35.2288,2,    206.8,1, 24.8764,   -999.0,9,  -999.00,9,  -999.00,9,  -999.00,9,  -999.0,-999.000
     33KB206_1,  PRS2,     2,  2,     15,   8015,2,20081130,1304, 22.7595,-158.0005, 4733,     45,     43.3,  24.8844,  35.2277,2,  35.2280,2,    206.5,1, 24.8750,   -999.0,9,  -999.00,9,  -999.00,9,  -999.00,9,  -999.0,-999.000
     33KB206_1,  PRS2,     2,  2,     17,   8017,2,20081130,1304, 22.7595,-158.0005, 4733,     44,     43.5,  24.8834,  35.2284,2,  35.2282,2,    206.7,1, 24.8740,   -999.0,9,  -999.00,9,  -999.00,9,  -999.00,9,  -999.0,-999.000
     33KB206_1,  PRS2,     2,  2,     16,   8016,2,20081130,1304, 22.7595,-158.0005, 4733,     43,     43.6,  24.8843,  35.2278,2,  35.2274,2,    206.7,1, 24.8749,   -999.0,9,  -999.00,9,  -999.00,9,  -999.00,9,  -999.0,-999.000
     33KB206_1,  PRS2,     2,  2,     14,   8014,2,20081130,1304, 22.7595,-158.0005, 4733,     73,     75.0,  24.8863,  35.2276,2,  35.2284,2,    206.4,1, 24.8701,   -999.0,9,  -999.00,9,  -999.00,9,  -999.00,9,  -999.0,-999.000
     33KB206_1,  PRS2,     2,  2,     13,   8025,2,20081130,1304, 22.7595,-158.0005, 4733,     75,     75.7,  24.8860,  35.2274,2,  35.2276,2,    206.5,1, 24.8696,   -999.0,9,  -999.00,9,  -999.00,9,  -999.00,9,  -999.0,-999.000
     33KB206_1,  PRS2,     2,  2,     12,   8012,2,20081130,1304, 22.7595,-158.0005, 4733,     78,     76.7,  24.8851,  35.2274,2,  35.2282,2,    206.6,1, 24.8685,   -999.0,9,  -999.00,9,  -999.00,9,  -999.00,9,  -999.0,-999.000
     33KB206_1,  PRS2,     2,  2,     10,   8010,2,20081130,1304, 22.7595,-158.0005, 4733,    100,    100.2,  23.4291,  35.2325,2,  35.2329,2,    213.6,1, 23.4083,   -999.0,9,  -999.00,9,  -999.00,9,  -999.00,9,  -999.0,-999.000
     33KB206_1,  PRS2,     2,  2,      9,   8009,2,20081130,1304, 22.7595,-158.0005, 4733,    100,    100.2,  23.4284,  35.2325,2,  35.2335,2,    213.8,1, 23.4076,   -999.0,9,  -999.00,9,  -999.00,9,  -999.00,9,  -999.0,-999.000
     33KB206_1,  PRS2,     2,  2,     11,   8011,2,20081130,1304, 22.7595,-158.0005, 4733,    100,    100.6,  23.4270,  35.2324,2,  35.2331,2,    213.2,1, 23.4062,   -999.0,9,  -999.00,9,  -999.00,9,  -999.00,9,  -999.0,-999.000
     33KB206_1,  PRS2,     2,  2,      7,   8026,2,20081130,1304, 22.7595,-158.0005, 4733,    124,    120.2,  22.5908,  35.2385,2,  35.2385,2,    206.8,1, 22.5666,   -999.0,9,  -999.00,9,  -999.00,9,  -999.00,9,  -999.0,-999.000
     33KB206_1,  PRS2,     2,  2,      8,   8008,2,20081130,1304, 22.7595,-158.0005, 4733,    118,    121.1,  22.5831,  35.2384,2,-999.0000,5,    206.7,1, 22.5587,   -999.0,9,  -999.00,9,  -999.00,9,  -999.00,9,  -999.0,-999.000
     33KB206_1,  PRS2,     2,  2,      6,   8006,2,20081130,1304, 22.7595,-158.0005, 4733,    121,    121.8,  22.5873,  35.2385,2,  35.2377,2,    206.6,1, 22.5628,   -999.0,9,  -999.00,9,  -999.00,9,  -999.00,9,  -999.0,-999.000
     33KB206_1,  PRS2,     2,  2,      5,   8005,2,20081130,1304, 22.7595,-158.0005, 4733,    122,    121.8,  22.5924,  35.2384,2,  35.2387,2,    206.3,1, 22.5678,   -999.0,9,  -999.00,9,  -999.00,9,  -999.00,9,  -999.0,-999.000
     33KB206_1,  PRS2,     2,  2,      4,   8004,2,20081130,1304, 22.7595,-158.0005, 4733,    146,    147.5,  21.4993,  35.2148,2,  35.2138,2,    195.6,1, 21.4705,   -999.0,9,  -999.00,9,  -999.00,9,  -999.00,9,  -999.0,-999.000
     33KB206_1,  PRS2,     2,  2,      3,   8003,2,20081130,1304, 22.7595,-158.0005, 4733,    177,    175.0,  20.0277,  35.0528,2,  35.0531,2,    189.7,1, 19.9953,   -999.0,9,  -999.00,9,  -999.00,9,  -999.00,9,  -999.0,-999.000
     33KB206_1,  PRS2,     2,  2,      1,   8001,2,20081130,1304, 22.7595,-158.0005, 4733,    200,    200.0,  18.6761,  34.8976,2,-999.0000,5,    189.0,1, 18.6408,   -999.0,9,  -999.00,9,  -999.00,9,  -999.00,9,  -999.0,-999.000
     33KB206_1,  PRS2,     2,  2,      2,   8002,2,20081130,1304, 22.7595,-158.0005, 4733,    199,    200.4,  18.6548,  34.8921,2,-999.0000,5,    188.9,1, 18.6195,   -999.0,9,  -999.00,9,  -999.00,9,  -999.00,9,  -999.0,-999.000