BOTTLE,20090923WHPSIOMYS
EXPOCODE,SECT_ID,STNNBR,CASTNO,SAMPNO,BTLNBR,BTLNBR_FLAG_W,DATE,TIME,LATITUDE,LONGITUDE,DEPTH,CTDRAW,CTDPRS,CTDTMP,CTDSAL,CTDSAL_FLAG_W,SALNTY,SALNTY_FLAG_W,CTDOXY,CTDOXY_FLAG_W,THETA,OXYGEN,OXYGEN_FLAG_W,SILCAT,SILCAT_FLAG_W,NO2+NO3,NO2+NO3_FLAG_W,PHSPHT,PHSPHT_FLAG_W,REVPRS,REVTMP
,,,,,,,,,,,,,DBAR,ITS-90,PSS-78,,PSS-78,,UMOL/KG,,ITS-90,UMOL/KG,,UMOL/KG,,UMOL/KG,,UMOL/KG,,DBAR,DEG C
     33KI159_1,  PRS2,     2,  8,     21,     21,3,20040519,1151, 22.7457,-157.9943, 4722,      5,      4.6,  25.5339,  34.5536,2,  34.5494,2,    210.3,1, 25.5329,   -999.0,9,  -999.00,9,  -999.00,9,  -999.00,9,  -999.0,-999.000
     33KI159_1,  PRS2,     2,  8,     22,     22,3,20040519,1151, 22.7457,-157.9943, 4722,      5,      4.7,  25.5340,  34.5537,2,  34.5549,2,    210.3,1, 25.5330,   -999.0,9,  -999.00,9,  -999.00,9,  -999.00,9,  -999.0,-999.000
     33KI159_1,  PRS2,     2,  8,     20,     20,3,20040519,1151, 22.7457,-157.9943, 4722,      5,      4.7,  25.5371,  34.5501,2,  34.5488,2,    210.3,1, 25.5361,   -999.0,9,  -999.00,9,  -999.00,9,  -999.00,9,  -999.0,-999.000
     33KI159_1,  PRS2,     2,  8,     19,     19,2,20040519,1151, 22.7457,-157.9943, 4722,     25,     24.2,  25.2481,  34.7124,2,  34.7164,2,    212.5,1, 25.2428,   -999.0,9,  -999.00,9,  -999.00,9,  -999.00,9,  -999.0,-999.000
     33KI159_1,  PRS2,     2,  8,     18,     18,3,20040519,1151, 22.7457,-157.9943, 4722,     25,     24.2,  25.2486,  34.7122,2,  34.7054,2,    212.5,1, 25.2434,   -999.0,9,  -999.00,9,  -999.00,9,  -999.00,9,  -999.0,-999.000
     33KI159_1,  PRS2,     2,  8,     17,     17,3,20040519,1151, 22.7457,-157.9943, 4722,     25,     24.2,  25.2493,  34.7121,2,  34.7103,2,    212.3,1, 25.2440,   -999.0,9,  -999.00,9,  -999.00,9,  -999.00,9,  -999.0,-999.000
     33KI159_1,  PRS2,     2,  8,     16,     16,2,20040519,1151, 22.7457,-157.9943, 4722,     45,     44.4,  25.1884,  34.7734,2,  34.7748,2,    212.1,1, 25.1788,   -999.0,9,  -999.00,9,  -999.00,9,  -999.00,9,  -999.0,-999.000
     33KI159_1,  PRS2,     2,  8,     15,    102,2,20040519,1151, 22.7457,-157.9943, 4722,     45,     44.5,  25.1881,  34.7737,2,  34.7767,2,    212.1,1, 25.1784,   -999.0,9,  -999.00,9,  -999.00,9,  -999.00,9,  -999.0,-999.000
     33KI159_1,  PRS2,     2,  8,     14,    101,2,20040519,1151, 22.7457,-157.9943, 4722,     45,     44.5,  25.1860,  34.7741,2,  34.7742,2,    212.1,1, 25.1763,   -999.0,9,  -999.00,9,  -999.00,9,  -999.00,9,  -999.0,-999.000
     33KI159_1,  PRS2,     2,  8,     13,     42,2,20040519,1151, 22.7457,-157.9943, 4722,     75,     74.2,  24.2130,  35.0554,2,  35.0533,2,    218.1,1, 24.1973,   -999.0,9,  -999.00,9,  -999.00,9,  -999.00,9,  -999.0,-999.000
     33KI159_1,  PRS2,     2,  8,     12,     12,3,20040519,1151, 22.7457,-157.9943, 4722,     75,     74.2,  24.2117,  35.0554,2,  35.0516,2,    218.2,1, 24.1959,   -999.0,9,  -999.00,9,  -999.00,9,  -999.00,9,  -999.0,-999.000
     33KI159_1,  PRS2,     2,  8,     11,     39,2,20040519,1151, 22.7457,-157.9943, 4722,     75,     74.3,  24.2078,  35.0554,2,  35.0541,2,    218.3,1, 24.1921,   -999.0,9,  -999.00,9,  -999.00,9,  -999.00,9,  -999.0,-999.000
     33KI159_1,  PRS2,     2,  8,     10,     32,3,20040519,1151, 22.7457,-157.9943, 4722,    100,     99.0,  23.3076,  35.1668,2,  35.1687,2,    211.6,1, 23.2871,   -999.0,9,  -999.00,9,  -999.00,9,  -999.00,9,  -999.0,-999.000
     33KI159_1,  PRS2,     2,  8,      9,      3,2,20040519,1151, 22.7457,-157.9943, 4722,    100,     99.1,  23.2975,  35.1695,2,  35.1685,2,    211.6,1, 23.2771,   -999.0,9,  -999.00,9,  -999.00,9,  -999.00,9,  -999.0,-999.000
     33KI159_1,  PRS2,     2,  8,      8,     29,2,20040519,1151, 22.7457,-157.9943, 4722,    100,     99.1,  23.2937,  35.1701,2,  35.1735,2,    211.7,1, 23.2733,   -999.0,9,  -999.00,9,  -999.00,9,  -999.00,9,  -999.0,-999.000
     33KI159_1,  PRS2,     2,  8,      7,     28,2,20040519,1151, 22.7457,-157.9943, 4722,    126,    124.6,  22.1539,  35.1400,2,  35.1453,2,    199.2,1, 22.1292,   -999.0,9,  -999.00,9,  -999.00,9,  -999.00,9,  -999.0,-999.000
     33KI159_1,  PRS2,     2,  8,      6,     13,2,20040519,1151, 22.7457,-157.9943, 4722,    125,    124.6,  22.1573,  35.1407,2,  35.1370,2,    198.8,1, 22.1326,   -999.0,9,  -999.00,9,  -999.00,9,  -999.00,9,  -999.0,-999.000
     33KI159_1,  PRS2,     2,  8,      5,     38,2,20040519,1151, 22.7457,-157.9943, 4722,    125,    124.6,  22.1589,  35.1408,2,  35.1388,2,    198.5,1, 22.1341,   -999.0,9,  -999.00,9,  -999.00,9,  -999.00,9,  -999.0,-999.000
     33KI159_1,  PRS2,     2,  8,      4,     36,2,20040519,1151, 22.7457,-157.9943, 4722,    150,    149.5,  20.8883,  35.0874,2,  35.0941,2,    193.0,1, 20.8597,   -999.0,9,  -999.00,9,  -999.00,9,  -999.00,9,  -999.0,-999.000
     33KI159_1,  PRS2,     2,  8,      3,     35,2,20040519,1151, 22.7457,-157.9943, 4722,    176,    174.8,  19.8272,  35.0135,2,  35.0157,2,    191.2,1, 19.7951,   -999.0,9,  -999.00,9,  -999.00,9,  -999.00,9,  -999.0,-999.000
     33KI159_1,  PRS2,     2,  8,      2,     34,2,20040519,1151, 22.7457,-157.9943, 4722,    481,    480.3,   7.5582,  34.0548,2,  34.0541,2,    135.4,1,  7.5109,   -999.0,9,  -999.00,9,  -999.00,9,  -999.00,9,  -999.0,-999.000
     33KI159_1,  PRS2,     2,  8,      1,     33,2,20040519,1151, 22.7457,-157.9943, 4722,   1023,   1022.0,   3.9409,  34.4786,2,  34.4785,2,     47.0,1,  3.8639,   -999.0,9,  -999.00,9,  -999.00,9,  -999.00,9,  -999.0,-999.000
     33KI159_1,  PRS2,     2,  9,      9,      3,2,20040519,1455, 22.7508,-157.9945, 4721,      5,      4.7,  25.5450,  34.4907,2,  34.4885,2,    208.0,1, 25.5439,   -999.0,9,  -999.00,9,  -999.00,9,  -999.00,9,  -999.0,-999.000
     33KI159_1,  PRS2,     2,  9,      8,     29,2,20040519,1455, 22.7508,-157.9945, 4721,    150,    149.9,  20.8065,  35.0786,2,  35.0821,2,    192.8,1, 20.7780,   -999.0,9,  -999.00,9,  -999.00,9,  -999.00,9,  -999.0,-999.000
     33KI159_1,  PRS2,     2,  9,      7,     28,2,20040519,1455, 22.7508,-157.9945, 4721,    500,    499.2,   7.9033,  34.0572,2,  34.0560,2,    146.7,1,  7.8528,   -999.0,9,  -999.00,9,  -999.00,9,  -999.00,9,  -999.0,-999.000
     33KI159_1,  PRS2,     2,  9,      4,     36,2,20040519,1455, 22.7508,-157.9945, 4721,   1021,   1019.8,   3.9556,  34.4785,2,  34.4781,2,     47.0,1,  3.8787,   -999.0,9,  -999.00,9,  -999.00,9,  -999.00,9,  -999.0,-999.000
     33KI159_1,  PRS2,     2,  9,      3,     35,2,20040519,1455, 22.7508,-157.9945, 4721,   1020,   1019.8,   3.9557,  34.4784,2,  34.4932,4,     47.0,1,  3.8788,   -999.0,9,  -999.00,9,  -999.00,9,  -999.00,9,  -999.0,-999.000
     33KI159_1,  PRS2,     2,  9,      5,     38,2,20040519,1455, 22.7508,-157.9945, 4721,   1021,   1019.9,   3.9556,  34.4784,2,-999.0000,5,     47.0,1,  3.8787,   -999.0,9,  -999.00,9,  -999.00,9,  -999.00,9,  -999.0,-999.000
     33KI159_1,  PRS2,     2,  9,      2,     34,2,20040519,1455, 22.7508,-157.9945, 4721,   1021,   1019.9,   3.9557,  34.4782,2,  34.4777,2,     47.0,1,  3.8788,   -999.0,9,  -999.00,9,  -999.00,9,  -999.00,9,  -999.0,-999.000
     33KI159_1,  PRS2,     2,  9,      1,     33,2,20040519,1455, 22.7508,-157.9945, 4721,   1021,   1019.9,   3.9551,  34.4784,2,  34.4793,2,     47.0,1,  3.8782,   -999.0,9,  -999.00,9,  -999.00,9,  -999.00,9,  -999.0,-999.000
     33KI159_1,  PRS2,     2,  9,      6,     13,2,20040519,1455, 22.7508,-157.9945, 4721,   1021,   1020.0,   3.9553,  34.4784,2,-999.0000,5,     47.0,1,  3.8784,   -999.0,9,  -999.00,9,  -999.00,9,  -999.00,9,  -999.0,-999.000
     33KI159_1,  PRS2,     2, 10,     10,     32,3,20040519,1755, 22.7613,-157.9578, 4708,      5,      4.1,  25.5086,  34.4736,2,  34.4754,2,    210.1,1, 25.5077,   -999.0,9,  -999.00,9,  -999.00,9,  -999.00,9,  -999.0,-999.000
     33KI159_1,  PRS2,     2, 10,      9,      3,2,20040519,1755, 22.7613,-157.9578, 4708,     25,     23.8,  25.3655,  34.6533,2,  34.6519,2,    210.8,1, 25.3603,   -999.0,9,  -999.00,9,  -999.00,9,  -999.00,9,  -999.0,-999.000
     33KI159_1,  PRS2,     2, 10,      8,     29,2,20040519,1755, 22.7613,-157.9578, 4708,     45,     44.1,  25.0624,  34.7610,2,  34.7626,2,    212.2,1, 25.0528,   -999.0,9,  -999.00,9,  -999.00,9,  -999.00,9,  -999.0,-999.000
     33KI159_1,  PRS2,     2, 10,      7,     28,3,20040519,1755, 22.7613,-157.9578, 4708,     75,     74.3,  24.4965,  35.0091,2,  35.0098,2,    217.1,1, 24.4806,   -999.0,9,  -999.00,9,  -999.00,9,  -999.00,9,  -999.0,-999.000
     33KI159_1,  PRS2,     2, 10,      6,     13,2,20040519,1755, 22.7613,-157.9578, 4708,    101,     99.6,  23.9574,  35.1230,2,  35.1264,2,    218.3,1, 23.9364,   -999.0,9,  -999.00,9,  -999.00,9,  -999.00,9,  -999.0,-999.000
     33KI159_1,  PRS2,     2, 10,      5,     38,2,20040519,1755, 22.7613,-157.9578, 4708,    125,    124.4,  22.7779,  35.1812,2,  35.1825,2,    207.1,1, 22.7527,   -999.0,9,  -999.00,9,  -999.00,9,  -999.00,9,  -999.0,-999.000
     33KI159_1,  PRS2,     2, 10,      4,     36,2,20040519,1755, 22.7613,-157.9578, 4708,    150,    149.5,  21.4512,  35.2417,2,  35.2363,2,    199.3,1, 21.4221,   -999.0,9,  -999.00,9,  -999.00,9,  -999.00,9,  -999.0,-999.000
     33KI159_1,  PRS2,     2, 10,      3,     35,3,20040519,1755, 22.7613,-157.9578, 4708,    176,    174.9,  20.0213,  35.1266,2,  35.1240,2,    197.8,1, 19.9889,   -999.0,9,  -999.00,9,  -999.00,9,  -999.00,9,  -999.0,-999.000
     33KI159_1,  PRS2,     2, 10,      2,     34,2,20040519,1755, 22.7613,-157.9578, 4708,    501,    500.7,   7.6794,  34.0509,2,  34.0521,2,    139.9,1,  7.6296,   -999.0,9,  -999.00,9,  -999.00,9,  -999.00,9,  -999.0,-999.000
     33KI159_1,  PRS2,     2, 10,      1,     33,2,20040519,1755, 22.7613,-157.9578, 4708,   1021,   1020.4,   3.9916,  34.4679,2,  34.4652,2,     45.3,1,  3.9144,   -999.0,9,  -999.00,9,  -999.00,9,  -999.00,9,  -999.0,-999.000
     33KI159_1,  PRS2,     2, 11,      5,     38,2,20040519,2054, 22.7560,-157.9417, 4700,      4,      3.9,  25.6419,  34.4547,2,  34.4538,2,    209.6,1, 25.6410,   -999.0,9,  -999.00,9,  -999.00,9,  -999.00,9,  -999.0,-999.000
     33KI159_1,  PRS2,     2, 11,      4,     36,2,20040519,2054, 22.7560,-157.9417, 4700,      5,      3.9,  25.6355,  34.4547,2,  34.4565,2,    209.6,1, 25.6346,   -999.0,9,  -999.00,9,  -999.00,9,  -999.00,9,  -999.0,-999.000
     33KI159_1,  PRS2,     2, 11,      3,     35,2,20040519,2054, 22.7560,-157.9417, 4700,    139,    138.4,  21.3439,  35.2218,2,  35.2288,2,    200.3,1, 21.3170,   -999.0,9,  -999.00,9,  -999.00,9,  -999.00,9,  -999.0,-999.000
     33KI159_1,  PRS2,     2, 11,      2,     34,2,20040519,2054, 22.7560,-157.9417, 4700,    499,    499.4,   7.1144,  34.0602,2,  34.0568,2,    116.4,1,  7.0669,   -999.0,9,  -999.00,9,  -999.00,9,  -999.00,9,  -999.0,-999.000
     33KI159_1,  PRS2,     2, 11,      1,     33,2,20040519,2054, 22.7560,-157.9417, 4700,   1020,   1020.2,   4.0408,  34.4860,2,  34.4848,2,     47.1,1,  3.9632,   -999.0,9,  -999.00,9,  -999.00,9,  -999.00,9,  -999.0,-999.000
     33KI159_1,  PRS2,     2, 12,     11,     39,2,20040519,2355, 22.7633,-157.9222, 4700,      5,      4.2,  25.8400,  34.4461,2,  34.4467,2,    208.7,1, 25.8391,   -999.0,9,  -999.00,9,  -999.00,9,  -999.00,9,  -999.0,-999.000
     33KI159_1,  PRS2,     2, 12,     10,     32,3,20040519,2355, 22.7633,-157.9222, 4700,     25,     24.1,  25.3259,  34.6687,2,  34.6730,2,    211.1,1, 25.3206,   -999.0,9,  -999.00,9,  -999.00,9,  -999.00,9,  -999.0,-999.000
     33KI159_1,  PRS2,     2, 12,      9,      3,2,20040519,2355, 22.7633,-157.9222, 4700,     45,     44.4,  24.8913,  34.8427,2,  34.8448,2,    213.8,1, 24.8817,   -999.0,9,  -999.00,9,  -999.00,9,  -999.00,9,  -999.0,-999.000
     33KI159_1,  PRS2,     2, 12,      8,     29,2,20040519,2355, 22.7633,-157.9222, 4700,     75,     74.2,  23.8859,  35.1172,2,  35.1360,3,    218.5,1, 23.8704,   -999.0,9,  -999.00,9,  -999.00,9,  -999.00,9,  -999.0,-999.000
     33KI159_1,  PRS2,     2, 12,      7,     28,2,20040519,2355, 22.7633,-157.9222, 4700,    100,     99.3,  22.8662,  35.1321,2,  35.1297,2,    209.0,1, 22.8460,   -999.0,9,  -999.00,9,  -999.00,9,  -999.00,9,  -999.0,-999.000
     33KI159_1,  PRS2,     2, 12,      6,     13,2,20040519,2355, 22.7633,-157.9222, 4700,    125,    124.5,  21.7624,  35.2361,2,  35.2389,2,    204.6,1, 21.7379,   -999.0,9,  -999.00,9,  -999.00,9,  -999.00,9,  -999.0,-999.000
     33KI159_1,  PRS2,     2, 12,      5,     38,2,20040519,2355, 22.7633,-157.9222, 4700,    150,    149.7,  20.7857,  35.1928,2,  35.1878,2,    200.3,1, 20.7572,   -999.0,9,  -999.00,9,  -999.00,9,  -999.00,9,  -999.0,-999.000
     33KI159_1,  PRS2,     2, 12,      4,     36,2,20040519,2355, 22.7633,-157.9222, 4700,    250,    250.2,  15.8914,  34.5980,2,  34.5979,2,    203.3,1, 15.8521,   -999.0,9,  -999.00,9,  -999.00,9,  -999.00,9,  -999.0,-999.000
     33KI159_1,  PRS2,     2, 12,      3,     35,2,20040519,2355, 22.7633,-157.9222, 4700,    351,    350.0,  10.9644,  34.1762,2,  34.1762,2,    203.6,1, 10.9215,   -999.0,9,  -999.00,9,  -999.00,9,  -999.00,9,  -999.0,-999.000
     33KI159_1,  PRS2,     2, 12,      2,     34,2,20040519,2355, 22.7633,-157.9222, 4700,    500,    499.5,   7.2974,  34.0567,2,  34.0576,2,    123.4,1,  7.2492,   -999.0,9,  -999.00,9,  -999.00,9,  -999.00,9,  -999.0,-999.000
     33KI159_1,  PRS2,     2, 12,      1,     33,2,20040519,2355, 22.7633,-157.9222, 4700,   1019,   1018.6,   4.0427,  34.4850,2,  34.4854,2,     47.5,1,  3.9652,   -999.0,9,  -999.00,9,  -999.00,9,  -999.00,9,  -999.0,-999.000
     33KI159_1,  PRS2,     2, 13,      5,     38,2,20040520,0257, 22.7607,-157.9028, 4685,      5,      4.5,  25.7956,  34.4373,2,  34.4389,2,    210.1,1, 25.7946,   -999.0,9,  -999.00,9,  -999.00,9,  -999.00,9,  -999.0,-999.000
     33KI159_1,  PRS2,     2, 13,      4,     36,3,20040520,0257, 22.7607,-157.9028, 4685,      5,      4.6,  25.7982,  34.4373,2,  34.4406,2,    210.2,1, 25.7971,   -999.0,9,  -999.00,9,  -999.00,9,  -999.00,9,  -999.0,-999.000
     33KI159_1,  PRS2,     2, 13,      3,     35,2,20040520,0257, 22.7607,-157.9028, 4685,     80,     79.4,  24.2152,  35.0733,2,  35.0655,2,    218.1,1, 24.1984,   -999.0,9,  -999.00,9,  -999.00,9,  -999.00,9,  -999.0,-999.000
     33KI159_1,  PRS2,     2, 13,      2,     34,2,20040520,0257, 22.7607,-157.9028, 4685,    481,    479.7,   8.0989,  34.0727,2,  34.0756,2,    151.2,1,  8.0498,   -999.0,9,  -999.00,9,  -999.00,9,  -999.00,9,  -999.0,-999.000
     33KI159_1,  PRS2,     2, 13,      1,     33,2,20040520,0257, 22.7607,-157.9028, 4685,   1021,   1020.4,   4.0382,  34.4728,2,  34.4709,2,     45.7,1,  3.9606,   -999.0,9,  -999.00,9,  -999.00,9,  -999.00,9,  -999.0,-999.000