BOTTLE,20090923WHPSIOMYS
EXPOCODE,SECT_ID,STNNBR,CASTNO,SAMPNO,BTLNBR,BTLNBR_FLAG_W,DATE,TIME,LATITUDE,LONGITUDE,DEPTH,CTDRAW,CTDPRS,CTDTMP,CTDSAL,CTDSAL_FLAG_W,SALNTY,SALNTY_FLAG_W,CTDOXY,CTDOXY_FLAG_W,THETA,OXYGEN,OXYGEN_FLAG_W,SILCAT,SILCAT_FLAG_W,NO2+NO3,NO2+NO3_FLAG_W,PHSPHT,PHSPHT_FLAG_W,REVPRS,REVTMP
,,,,,,,,,,,,,DBAR,ITS-90,PSS-78,,PSS-78,,UMOL/KG,,ITS-90,UMOL/KG,,UMOL/KG,,UMOL/KG,,UMOL/KG,,DBAR,DEG C
     33KI159_1,  PRS2,     2,  3,     16,     16,3,20040518,2055, 22.7425,-157.9707, 4718,      5,      4.3,  25.3593,  34.7002,2,  34.6991,2,    211.6,1, 25.3584,   -999.0,9,  -999.00,9,  -999.00,9,  -999.00,9,  -999.0,-999.000
     33KI159_1,  PRS2,     2,  3,     15,    102,2,20040518,2055, 22.7425,-157.9707, 4718,      5,      4.3,  25.3467,  34.6998,2,  34.7064,2,    211.4,1, 25.3457,   -999.0,9,  -999.00,9,  -999.00,9,  -999.00,9,  -999.0,-999.000
     33KI159_1,  PRS2,     2,  3,     14,    101,2,20040518,2055, 22.7425,-157.9707, 4718,      5,      4.3,  25.3458,  34.6998,2,  34.6981,2,    211.2,1, 25.3448,   -999.0,9,  -999.00,9,  -999.00,9,  -999.00,9,  -999.0,-999.000
     33KI159_1,  PRS2,     2,  3,     13,     42,2,20040518,2055, 22.7425,-157.9707, 4718,     25,     24.1,  25.0652,  34.7687,2,  34.7697,2,    212.3,1, 25.0599,   -999.0,9,  -999.00,9,  -999.00,9,  -999.00,9,  -999.0,-999.000
     33KI159_1,  PRS2,     2,  3,     12,     12,3,20040518,2055, 22.7425,-157.9707, 4718,     45,     44.0,  24.6189,  34.9691,2,  34.9638,2,    216.5,1, 24.6094,   -999.0,9,  -999.00,9,  -999.00,9,  -999.00,9,  -999.0,-999.000
     33KI159_1,  PRS2,     2,  3,     11,     39,2,20040518,2055, 22.7425,-157.9707, 4718,     61,     59.7,  24.1081,  35.0892,2,  35.0882,2,    217.1,1, 24.0955,   -999.0,9,  -999.00,9,  -999.00,9,  -999.00,9,  -999.0,-999.000
     33KI159_1,  PRS2,     2,  3,     10,     32,3,20040518,2055, 22.7425,-157.9707, 4718,     75,     73.7,  23.6969,  35.1169,2,  35.1222,2,    215.1,1, 23.6816,   -999.0,9,  -999.00,9,  -999.00,9,  -999.00,9,  -999.0,-999.000
     33KI159_1,  PRS2,     2,  3,      9,      3,2,20040518,2055, 22.7425,-157.9707, 4718,     86,     84.5,  23.3464,  35.1528,2,  35.1522,2,    211.7,1, 23.3289,   -999.0,9,  -999.00,9,  -999.00,9,  -999.00,9,  -999.0,-999.000
     33KI159_1,  PRS2,     2,  3,      8,     29,3,20040518,2055, 22.7425,-157.9707, 4718,    100,     98.8,  22.9276,  35.1465,2,  35.1475,2,    207.0,1, 22.9075,   -999.0,9,  -999.00,9,  -999.00,9,  -999.00,9,  -999.0,-999.000
     33KI159_1,  PRS2,     2,  3,      7,     28,2,20040518,2055, 22.7425,-157.9707, 4718,    115,    114.0,  22.1357,  35.1263,2,  35.1573,4,    198.4,1, 22.1130,   -999.0,9,  -999.00,9,  -999.00,9,  -999.00,9,  -999.0,-999.000
     33KI159_1,  PRS2,     2,  3,      6,     13,2,20040518,2055, 22.7425,-157.9707, 4718,    125,    123.9,  21.7222,  35.1254,2,  35.1266,2,    196.4,1, 21.6979,   -999.0,9,  -999.00,9,  -999.00,9,  -999.00,9,  -999.0,-999.000
     33KI159_1,  PRS2,     2,  3,      5,     38,2,20040518,2055, 22.7425,-157.9707, 4718,    149,    148.9,  20.2358,  35.0558,2,  35.0661,2,    192.6,1, 20.2081,   -999.0,9,  -999.00,9,  -999.00,9,  -999.00,9,  -999.0,-999.000
     33KI159_1,  PRS2,     2,  3,      4,     36,3,20040518,2055, 22.7425,-157.9707, 4718,    174,    173.3,  19.3239,  35.0425,2,  35.0388,2,    201.4,1, 19.2926,   -999.0,9,  -999.00,9,  -999.00,9,  -999.00,9,  -999.0,-999.000
     33KI159_1,  PRS2,     2,  3,      3,     35,2,20040518,2055, 22.7425,-157.9707, 4718,    200,    198.9,  17.8896,  34.8543,2,  34.8635,2,    198.2,1, 17.8556,   -999.0,9,  -999.00,9,  -999.00,9,  -999.00,9,  -999.0,-999.000
     33KI159_1,  PRS2,     2,  3,      2,     34,2,20040518,2055, 22.7425,-157.9707, 4718,    501,    499.5,   7.2798,  34.0674,2,  34.0725,2,    118.7,1,  7.2317,   -999.0,9,  -999.00,9,  -999.00,9,  -999.00,9,  -999.0,-999.000
     33KI159_1,  PRS2,     2,  3,      1,     33,2,20040518,2055, 22.7425,-157.9707, 4718,   1020,   1019.9,   3.9129,  34.4750,2,  34.4769,2,     46.3,1,  3.8364,   -999.0,9,  -999.00,9,  -999.00,9,  -999.00,9,  -999.0,-999.000
     33KI159_1,  PRS2,     2,  4,     14,    101,2,20040518,2355, 22.7453,-157.9993, 4722,      5,      4.3,  25.4612,  34.7278,2,  34.7341,2,    210.6,1, 25.4603,   -999.0,9,  -999.00,9,  -999.00,9,  -999.00,9,  -999.0,-999.000
     33KI159_1,  PRS2,     2,  4,     13,     42,2,20040518,2355, 22.7453,-157.9993, 4722,     25,     24.0,  25.0921,  34.7480,2,  34.7541,2,    213.1,1, 25.0868,   -999.0,9,  -999.00,9,  -999.00,9,  -999.00,9,  -999.0,-999.000
     33KI159_1,  PRS2,     2,  4,     12,     12,2,20040518,2355, 22.7453,-157.9993, 4722,     46,     44.7,  24.8365,  34.8569,2,  34.8654,2,    214.8,1, 24.8269,   -999.0,9,  -999.00,9,  -999.00,9,  -999.00,9,  -999.0,-999.000
     33KI159_1,  PRS2,     2,  4,     11,     39,2,20040518,2355, 22.7453,-157.9993, 4722,     75,     75.0,  23.9084,  35.0761,2,  35.0665,2,    216.0,1, 23.8926,   -999.0,9,  -999.00,9,  -999.00,9,  -999.00,9,  -999.0,-999.000
     33KI159_1,  PRS2,     2,  4,     10,     32,2,20040518,2355, 22.7453,-157.9993, 4722,     99,     98.9,  22.8549,  35.1208,2,  35.1203,2,    206.1,1, 22.8348,   -999.0,9,  -999.00,9,  -999.00,9,  -999.00,9,  -999.0,-999.000
     33KI159_1,  PRS2,     2,  4,      9,      3,2,20040518,2355, 22.7453,-157.9993, 4722,    125,    124.4,  21.8160,  35.1081,2,  35.1037,2,    197.0,1, 21.7916,   -999.0,9,  -999.00,9,  -999.00,9,  -999.00,9,  -999.0,-999.000
     33KI159_1,  PRS2,     2,  4,      8,     29,2,20040518,2355, 22.7453,-157.9993, 4722,    149,    148.4,  20.8664,  35.0752,2,  35.0715,2,    192.7,1, 20.8382,   -999.0,9,  -999.00,9,  -999.00,9,  -999.00,9,  -999.0,-999.000
     33KI159_1,  PRS2,     2,  4,      7,     28,2,20040518,2355, 22.7453,-157.9993, 4722,    176,    174.3,  19.9859,  35.0424,2,  35.0484,2,    192.3,1, 19.9537,   -999.0,9,  -999.00,9,  -999.00,9,  -999.00,9,  -999.0,-999.000
     33KI159_1,  PRS2,     2,  4,      6,     13,2,20040518,2355, 22.7453,-157.9993, 4722,    200,    199.1,  19.0294,  35.0047,2,  35.0047,2,    199.6,1, 18.9939,   -999.0,9,  -999.00,9,  -999.00,9,  -999.00,9,  -999.0,-999.000
     33KI159_1,  PRS2,     2,  4,      5,     38,2,20040518,2355, 22.7453,-157.9993, 4722,    250,    249.0,  15.9650,  34.6065,2,  34.6134,2,    202.4,1, 15.9257,   -999.0,9,  -999.00,9,  -999.00,9,  -999.00,9,  -999.0,-999.000
     33KI159_1,  PRS2,     2,  4,      3,     35,2,20040518,2355, 22.7453,-157.9993, 4722,    351,    350.0,  11.2761,  34.1981,2,  34.1983,2,    203.7,1, 11.2324,   -999.0,9,  -999.00,9,  -999.00,9,  -999.00,9,  -999.0,-999.000
     33KI159_1,  PRS2,     2,  4,      4,     36,2,20040518,2355, 22.7453,-157.9993, 4722,    352,    350.2,  11.2616,  34.1963,2,  34.1979,2,    203.9,1, 11.2179,   -999.0,9,  -999.00,9,  -999.00,9,  -999.00,9,  -999.0,-999.000
     33KI159_1,  PRS2,     2,  4,      2,     34,2,20040518,2355, 22.7453,-157.9993, 4722,    476,    474.8,   7.9130,  34.0575,2,  34.0601,2,    147.6,1,  7.8651,   -999.0,9,  -999.00,9,  -999.00,9,  -999.00,9,  -999.0,-999.000
     33KI159_1,  PRS2,     2,  4,      1,     33,2,20040518,2355, 22.7453,-157.9993, 4722,   1022,   1020.8,   3.8698,  34.4820,2,  34.4836,2,     47.8,1,  3.7934,   -999.0,9,  -999.00,9,  -999.00,9,  -999.00,9,  -999.0,-999.000
     33KI159_1,  PRS2,     2,  5,     16,     16,2,20040519,0252, 22.7440,-158.0030, 4727,      5,      4.1,  25.5970,  34.6482,2,-999.0000,5,    212.4,1, 25.5961,   -999.0,9,  -999.00,9,  -999.00,9,  -999.00,9,  -999.0,-999.000
     33KI159_1,  PRS2,     2,  5,     15,    102,2,20040519,0252, 22.7440,-158.0030, 4727,      5,      4.1,  25.5646,  34.6545,2,  34.6512,2,    212.4,1, 25.5637,   -999.0,9,  -999.00,9,  -999.00,9,  -999.00,9,  -999.0,-999.000
     33KI159_1,  PRS2,     2,  5,     14,    101,2,20040519,0252, 22.7440,-158.0030, 4727,      5,      4.1,  25.5207,  34.6620,2,  34.6698,2,    212.5,1, 25.5198,   -999.0,9,  -999.00,9,  -999.00,9,  -999.00,9,  -999.0,-999.000
     33KI159_1,  PRS2,     2,  5,     13,     42,2,20040519,0252, 22.7440,-158.0030, 4727,     25,     23.9,  25.2705,  34.7477,2,  34.7473,2,    212.5,1, 25.2653,   -999.0,9,  -999.00,9,  -999.00,9,  -999.00,9,  -999.0,-999.000
     33KI159_1,  PRS2,     2,  5,     12,     12,2,20040519,0252, 22.7440,-158.0030, 4727,     44,     43.7,  25.1813,  34.7679,2,  34.7591,2,    212.8,1, 25.1718,   -999.0,9,  -999.00,9,  -999.00,9,  -999.00,9,  -999.0,-999.000
     33KI159_1,  PRS2,     2,  5,     11,     39,2,20040519,0252, 22.7440,-158.0030, 4727,     75,     73.9,  24.1124,  35.0500,2,-999.0000,5,    216.7,1, 24.0968,   -999.0,9,  -999.00,9,  -999.00,9,  -999.00,9,  -999.0,-999.000
     33KI159_1,  PRS2,     2,  5,     10,     32,2,20040519,0252, 22.7440,-158.0030, 4727,    100,     98.9,  23.3103,  35.1318,2,  35.1311,2,    210.7,1, 23.2899,   -999.0,9,  -999.00,9,  -999.00,9,  -999.00,9,  -999.0,-999.000
     33KI159_1,  PRS2,     2,  5,      9,      3,2,20040519,0252, 22.7440,-158.0030, 4727,    125,    124.4,  22.0664,  35.1071,2,  35.1063,2,    199.6,1, 22.0417,   -999.0,9,  -999.00,9,  -999.00,9,  -999.00,9,  -999.0,-999.000
     33KI159_1,  PRS2,     2,  5,      8,     29,2,20040519,0252, 22.7440,-158.0030, 4727,    151,    150.8,  21.1440,  35.0946,2,  35.0933,2,    195.1,1, 21.1150,   -999.0,9,  -999.00,9,  -999.00,9,  -999.00,9,  -999.0,-999.000
     33KI159_1,  PRS2,     2,  5,      7,     28,2,20040519,0252, 22.7440,-158.0030, 4727,    175,    174.7,  20.5867,  35.0746,2,  35.0728,2,    193.1,1, 20.5537,   -999.0,9,  -999.00,9,  -999.00,9,  -999.00,9,  -999.0,-999.000
     33KI159_1,  PRS2,     2,  5,      6,     13,2,20040519,0252, 22.7440,-158.0030, 4727,    201,    200.2,  19.4405,  35.0153,2,  35.0150,2,    194.7,1, 19.4042,   -999.0,9,  -999.00,9,  -999.00,9,  -999.00,9,  -999.0,-999.000
     33KI159_1,  PRS2,     2,  5,      5,     38,2,20040519,0252, 22.7440,-158.0030, 4727,    252,    250.9,  15.4542,  34.5461,2,  34.5521,2,    203.7,1, 15.4155,   -999.0,9,  -999.00,9,  -999.00,9,  -999.00,9,  -999.0,-999.000
     33KI159_1,  PRS2,     2,  5,      3,     35,2,20040519,0252, 22.7440,-158.0030, 4727,    351,    350.4,  12.1189,  34.2521,2,  34.2523,2,    200.9,1, 12.0729,   -999.0,9,  -999.00,9,  -999.00,9,  -999.00,9,  -999.0,-999.000
     33KI159_1,  PRS2,     2,  5,      4,     36,2,20040519,0252, 22.7440,-158.0030, 4727,    352,    351.3,  12.1140,  34.2520,2,  34.2530,2,    200.8,1, 12.0680,   -999.0,9,  -999.00,9,  -999.00,9,  -999.00,9,  -999.0,-999.000
     33KI159_1,  PRS2,     2,  5,      2,     34,2,20040519,0252, 22.7440,-158.0030, 4727,    501,    499.9,   7.5833,  34.0527,2,  34.0539,2,    137.4,1,  7.5340,   -999.0,9,  -999.00,9,  -999.00,9,  -999.00,9,  -999.0,-999.000
     33KI159_1,  PRS2,     2,  5,      1,     33,2,20040519,0252, 22.7440,-158.0030, 4727,   1020,   1019.2,   4.0289,  34.4729,2,  34.4728,2,     46.0,1,  3.9514,   -999.0,9,  -999.00,9,  -999.00,9,  -999.00,9,  -999.0,-999.000
     33KI159_1,  PRS2,     2,  6,     16,     16,2,20040519,0550, 22.7487,-157.9975, 4725,      5,      4.1,  25.5585,  34.6062,2,-999.0000,5,    211.3,1, 25.5576,   -999.0,9,  -999.00,9,  -999.00,9,  -999.00,9,  -999.0,-999.000
     33KI159_1,  PRS2,     2,  6,     15,    102,2,20040519,0550, 22.7487,-157.9975, 4725,      4,      4.2,  25.5563,  34.6056,2,  34.6197,4,    211.3,1, 25.5554,   -999.0,9,  -999.00,9,  -999.00,9,  -999.00,9,  -999.0,-999.000
     33KI159_1,  PRS2,     2,  6,     14,    101,2,20040519,0550, 22.7487,-157.9975, 4725,      5,      4.2,  25.5559,  34.6055,2,  34.6071,2,    211.2,1, 25.5550,   -999.0,9,  -999.00,9,  -999.00,9,  -999.00,9,  -999.0,-999.000
     33KI159_1,  PRS2,     2,  6,     13,     42,2,20040519,0550, 22.7487,-157.9975, 4725,     15,     14.4,  25.5082,  34.6590,2,  34.6572,2,    211.0,1, 25.5051,   -999.0,9,  -999.00,9,  -999.00,9,  -999.00,9,  -999.0,-999.000
     33KI159_1,  PRS2,     2,  6,     12,     12,2,20040519,0550, 22.7487,-157.9975, 4725,     25,     24.7,  25.2477,  34.7203,2,  34.7174,2,    212.6,1, 25.2423,   -999.0,9,  -999.00,9,  -999.00,9,  -999.00,9,  -999.0,-999.000
     33KI159_1,  PRS2,     2,  6,     11,     39,2,20040519,0550, 22.7487,-157.9975, 4725,     34,     33.6,  25.2021,  34.7412,2,  34.7323,2,    212.8,1, 25.1947,   -999.0,9,  -999.00,9,  -999.00,9,  -999.00,9,  -999.0,-999.000
     33KI159_1,  PRS2,     2,  6,     10,     32,2,20040519,0550, 22.7487,-157.9975, 4725,     34,     33.6,  25.2025,  34.7429,2,  34.7703,4,    212.8,1, 25.1952,   -999.0,9,  -999.00,9,  -999.00,9,  -999.00,9,  -999.0,-999.000
     33KI159_1,  PRS2,     2,  6,      9,      3,2,20040519,0550, 22.7487,-157.9975, 4725,     46,     44.5,  25.1186,  34.7930,2,  34.7960,2,    212.9,1, 25.1089,   -999.0,9,  -999.00,9,  -999.00,9,  -999.00,9,  -999.0,-999.000
     33KI159_1,  PRS2,     2,  6,      8,     29,2,20040519,0550, 22.7487,-157.9975, 4725,     60,     58.9,  24.6827,  34.8993,2,  34.8865,2,    217.0,1, 24.6700,   -999.0,9,  -999.00,9,  -999.00,9,  -999.00,9,  -999.0,-999.000
     33KI159_1,  PRS2,     2,  6,      7,     28,2,20040519,0550, 22.7487,-157.9975, 4725,     75,     73.6,  24.1362,  35.0487,2,  35.0468,2,    217.9,1, 24.1207,   -999.0,9,  -999.00,9,  -999.00,9,  -999.00,9,  -999.0,-999.000
     33KI159_1,  PRS2,     2,  6,      6,     13,2,20040519,0550, 22.7487,-157.9975, 4725,    100,     99.6,  23.1781,  35.1454,2,  35.1443,2,    211.0,1, 23.1576,   -999.0,9,  -999.00,9,  -999.00,9,  -999.00,9,  -999.0,-999.000
     33KI159_1,  PRS2,     2,  6,      5,     38,2,20040519,0550, 22.7487,-157.9975, 4725,    124,    123.1,  22.0787,  35.1168,2,  35.1179,2,    198.4,1, 22.0543,   -999.0,9,  -999.00,9,  -999.00,9,  -999.00,9,  -999.0,-999.000
     33KI159_1,  PRS2,     2,  6,      4,     36,2,20040519,0550, 22.7487,-157.9975, 4725,    150,    149.7,  21.1653,  35.0933,2,  35.0915,2,    196.2,1, 21.1365,   -999.0,9,  -999.00,9,  -999.00,9,  -999.00,9,  -999.0,-999.000
     33KI159_1,  PRS2,     2,  6,      3,     35,2,20040519,0550, 22.7487,-157.9975, 4725,    176,    174.0,  20.0166,  35.0407,2,  35.0366,2,    190.6,1, 19.9844,   -999.0,9,  -999.00,9,  -999.00,9,  -999.00,9,  -999.0,-999.000
     33KI159_1,  PRS2,     2,  6,      2,     34,2,20040519,0550, 22.7487,-157.9975, 4725,    499,    498.4,   7.3945,  34.0719,2,  34.0744,2,    123.6,1,  7.3460,   -999.0,9,  -999.00,9,  -999.00,9,  -999.00,9,  -999.0,-999.000
     33KI159_1,  PRS2,     2,  6,      1,     33,2,20040519,0550, 22.7487,-157.9975, 4725,   1020,   1019.1,   4.0290,  34.4721,2,  34.4714,2,     45.5,1,  3.9516,   -999.0,9,  -999.00,9,  -999.00,9,  -999.00,9,  -999.0,-999.000
     33KI159_1,  PRS2,     2,  7,     20,     20,2,20040519,0853, 22.7430,-157.9952, 4731,      4,      3.8,  25.5187,  34.5840,2,-999.0000,5,    210.3,2, 25.5179,   -999.0,5,  -999.00,9,  -999.00,9,  -999.00,9,  -999.0,-999.000
     33KI159_1,  PRS2,     2,  7,     19,     19,2,20040519,0853, 22.7430,-157.9952, 4731,      4,      3.8,  25.5178,  34.5840,2,-999.0000,5,    210.2,2, 25.5170,    210.3,2,  -999.00,9,  -999.00,9,  -999.00,9,  -999.0,-999.000
     33KI159_1,  PRS2,     2,  7,     18,     18,2,20040519,0853, 22.7430,-157.9952, 4731,     15,     14.2,  25.4633,  34.6546,2,  34.6378,3,    210.6,3, 25.4601,   -999.0,5,  -999.00,9,  -999.00,9,  -999.00,9,  -999.0,-999.000
     33KI159_1,  PRS2,     2,  7,     17,     17,2,20040519,0853, 22.7430,-157.9952, 4731,     25,     24.2,  25.2340,  34.7079,2,  34.7091,2,    212.6,2, 25.2288,   -999.0,5,  -999.00,9,  -999.00,9,  -999.00,9,  -999.0,-999.000
     33KI159_1,  PRS2,     2,  7,     16,     16,2,20040519,0853, 22.7430,-157.9952, 4731,     25,     24.2,  25.2343,  34.7080,2,  34.7076,2,    212.7,2, 25.2290,    213.9,2,  -999.00,9,  -999.00,9,  -999.00,9,  -999.0,-999.000
     33KI159_1,  PRS2,     2,  7,     15,    102,2,20040519,0853, 22.7430,-157.9952, 4731,     35,     34.1,  25.1661,  34.7689,2,  34.7742,2,    212.3,2, 25.1587,   -999.0,5,  -999.00,9,  -999.00,9,  -999.00,9,  -999.0,-999.000
     33KI159_1,  PRS2,     2,  7,     14,    101,2,20040519,0853, 22.7430,-157.9952, 4731,     44,     43.9,  24.8617,  34.8570,2,  34.8607,2,    215.8,2, 24.8522,    215.3,2,  -999.00,9,  -999.00,9,  -999.00,9,  -999.0,-999.000
     33KI159_1,  PRS2,     2,  7,     13,     42,2,20040519,0853, 22.7430,-157.9952, 4731,     61,     59.5,  24.2760,  35.0209,2,  35.0169,2,    216.9,2, 24.2633,   -999.0,5,  -999.00,9,  -999.00,9,  -999.00,9,  -999.0,-999.000
     33KI159_1,  PRS2,     2,  7,     12,     12,2,20040519,0853, 22.7430,-157.9952, 4731,     75,     73.9,  23.9944,  35.0702,2,  35.0758,2,    217.4,2, 23.9789,    217.5,2,  -999.00,9,  -999.00,9,  -999.00,9,  -999.0,-999.000
     33KI159_1,  PRS2,     2,  7,     11,     39,2,20040519,0853, 22.7430,-157.9952, 4731,     84,     83.4,  23.7314,  35.1069,2,  35.1035,2,    214.5,2, 23.7140,    215.8,2,  -999.00,9,  -999.00,9,  -999.00,9,  -999.0,-999.000
     33KI159_1,  PRS2,     2,  7,     10,     32,2,20040519,0853, 22.7430,-157.9952, 4731,     99,     98.3,  22.8075,  35.1449,2,  35.1435,2,    206.3,2, 22.7876,    208.5,2,  -999.00,9,  -999.00,9,  -999.00,9,  -999.0,-999.000
     33KI159_1,  PRS2,     2,  7,      9,      3,2,20040519,0853, 22.7430,-157.9952, 4731,    115,    113.6,  22.0004,  35.1101,2,  35.1179,2,    197.2,2, 21.9779,    200.0,2,  -999.00,9,  -999.00,9,  -999.00,9,  -999.0,-999.000
     33KI159_1,  PRS2,     2,  7,      8,     29,2,20040519,0853, 22.7430,-157.9952, 4731,    124,    123.8,  21.4276,  35.1114,2,  35.1096,2,    194.4,2, 21.4036,    196.2,2,  -999.00,9,  -999.00,9,  -999.00,9,  -999.0,-999.000
     33KI159_1,  PRS2,     2,  7,      7,     28,2,20040519,0853, 22.7430,-157.9952, 4731,    150,    149.2,  20.0693,  35.0521,2,  35.0600,2,    192.0,2, 20.0417,    193.0,2,  -999.00,9,  -999.00,9,  -999.00,9,  -999.0,-999.000
     33KI159_1,  PRS2,     2,  7,      6,     13,2,20040519,0853, 22.7430,-157.9952, 4731,    165,    164.4,  19.6572,  35.0297,2,  35.0305,2,    193.5,2, 19.6272,    193.2,2,  -999.00,9,  -999.00,9,  -999.00,9,  -999.0,-999.000
     33KI159_1,  PRS2,     2,  7,      5,     38,2,20040519,0853, 22.7430,-157.9952, 4731,    175,    174.4,  19.2872,  35.0018,2,  34.9970,2,    194.5,2, 19.2558,    195.1,2,  -999.00,9,  -999.00,9,  -999.00,9,  -999.0,-999.000
     33KI159_1,  PRS2,     2,  7,      4,     36,2,20040519,0853, 22.7430,-157.9952, 4731,    199,    198.3,  18.3692,  34.9086,2,  34.9030,2,    198.2,2, 18.3347,    196.8,2,  -999.00,9,  -999.00,9,  -999.00,9,  -999.0,-999.000
     33KI159_1,  PRS2,     2,  7,      3,     35,2,20040519,0853, 22.7430,-157.9952, 4731,    480,    479.0,   7.6477,  34.0551,2,  34.0550,2,    139.4,2,  7.6003,    137.3,2,  -999.00,9,  -999.00,9,  -999.00,9,  -999.0,-999.000
     33KI159_1,  PRS2,     2,  7,      2,     34,2,20040519,0853, 22.7430,-157.9952, 4731,    750,    749.1,   4.9216,  34.3335,2,  34.3323,2,     37.0,2,  4.8612,     36.7,2,  -999.00,9,  -999.00,9,  -999.00,9,  -999.0,-999.000
     33KI159_1,  PRS2,     2,  7,      1,     33,2,20040519,0853, 22.7430,-157.9952, 4731,   1021,   1020.2,   3.9484,  34.4760,2,  34.4752,2,     46.6,2,  3.8715,     47.1,2,  -999.00,9,  -999.00,9,  -999.00,9,  -999.0,-999.000