BOTTLE,20090923WHPSIOMYS
#code : jjward hyd_to_exchange.pl 
#original files copied from HTML directory: 20090923
#original HYD file: 33KI159_1_hy.txt   Wed Sep 23 17:56:02 2009
#original SUM file: ../33KI159_1su.txt   Wed Sep 23 17:56:01 2009
EXPOCODE,SECT_ID,STNNBR,CASTNO,SAMPNO,BTLNBR,BTLNBR_FLAG_W,DATE,TIME,LATITUDE,LONGITUDE,DEPTH,CTDRAW,CTDPRS,CTDTMP,CTDSAL,CTDSAL_FLAG_W,SALNTY,SALNTY_FLAG_W,CTDOXY,CTDOXY_FLAG_W,THETA,OXYGEN,OXYGEN_FLAG_W,SILCAT,SILCAT_FLAG_W,NO2+NO3,NO2+NO3_FLAG_W,PHSPHT,PHSPHT_FLAG_W,REVPRS,REVTMP
,,,,,,,,,,,,,DBAR,ITS-90,PSS-78,,PSS-78,,UMOL/KG,,ITS-90,UMOL/KG,,UMOL/KG,,UMOL/KG,,UMOL/KG,,DBAR,DEG C
     33KI159_1,  PRS2,     1,  1,     23,     30,2,20040517,2349, 21.3460,-158.2740, 1738,      5,      4.6,  26.4109,  34.3782,2,  34.3772,2,    208.0,2, 26.4099,    208.5,2,  -999.00,9,  -999.00,9,  -999.00,9,  -999.0,-999.000
     33KI159_1,  PRS2,     1,  1,     24,     31,2,20040517,2349, 21.3460,-158.2740, 1738,      5,      4.7,  26.4034,  34.3774,2,  34.3782,2,    207.9,2, 26.4023,    209.1,2,  -999.00,9,  -999.00,9,  -999.00,9,  -999.0,-999.000
     33KI159_1,  PRS2,     1,  1,     22,     22,3,20040517,2349, 21.3460,-158.2740, 1738,     25,     24.5,  26.3112,  34.3733,2,  34.3817,2,    209.0,2, 26.3057,    209.2,2,  -999.00,9,  -999.00,9,  -999.00,9,  -999.0,-999.000
     33KI159_1,  PRS2,     1,  1,     21,     21,3,20040517,2349, 21.3460,-158.2740, 1738,     46,     45.0,  25.7634,  34.5264,2,  34.5417,3,    213.1,3, 25.7535,    212.7,2,  -999.00,9,  -999.00,9,  -999.00,9,  -999.0,-999.000
     33KI159_1,  PRS2,     1,  1,     20,     20,2,20040517,2349, 21.3460,-158.2740, 1738,     60,     60.0,  25.3441,  34.7629,2,  34.7598,2,    215.6,2, 25.3309,    214.5,2,  -999.00,9,  -999.00,9,  -999.00,9,  -999.0,-999.000
     33KI159_1,  PRS2,     1,  1,     19,     19,3,20040517,2349, 21.3460,-158.2740, 1738,     75,     74.3,  25.2166,  34.8877,2,  34.8867,2,    214.5,2, 25.2004,    214.4,2,  -999.00,9,  -999.00,9,  -999.00,9,  -999.0,-999.000
     33KI159_1,  PRS2,     1,  1,     18,     18,3,20040517,2349, 21.3460,-158.2740, 1738,     99,     98.6,  24.7981,  34.9567,2,  34.9054,4,    215.4,3, 24.7768,    214.8,2,  -999.00,9,  -999.00,9,  -999.00,9,  -999.0,-999.000
     33KI159_1,  PRS2,     1,  1,     17,     17,4,20040517,2349, 21.3460,-158.2740, 1738,    115,    115.0,  24.3309,  35.0346,2,-999.0000,5,    215.9,2, 24.3065,   -999.0,5,  -999.00,9,  -999.00,9,  -999.00,9,  -999.0,-999.000
     33KI159_1,  PRS2,     1,  1,     16,     16,2,20040517,2349, 21.3460,-158.2740, 1738,    126,    124.2,  23.7708,  35.1060,2,  35.0941,2,    212.7,2, 23.7448,    212.8,2,  -999.00,9,  -999.00,9,  -999.00,9,  -999.0,-999.000
     33KI159_1,  PRS2,     1,  1,     15,    102,2,20040517,2349, 21.3460,-158.2740, 1738,    151,    149.9,  22.9135,  35.1750,2,  35.1748,2,    208.5,2, 22.8830,    207.9,2,  -999.00,9,  -999.00,9,  -999.00,9,  -999.0,-999.000
     33KI159_1,  PRS2,     1,  1,     14,    101,2,20040517,2349, 21.3460,-158.2740, 1738,    175,    174.4,  21.4594,  35.1221,2,  35.1256,2,    196.4,2, 21.4255,    196.3,2,  -999.00,9,  -999.00,9,  -999.00,9,  -999.0,-999.000
     33KI159_1,  PRS2,     1,  1,     13,     42,2,20040517,2349, 21.3460,-158.2740, 1738,    200,    199.1,  19.6087,  34.9771,2,  34.9764,2,    187.1,2, 19.5723,    188.0,2,  -999.00,9,  -999.00,9,  -999.00,9,  -999.0,-999.000
     33KI159_1,  PRS2,     1,  1,     12,     12,2,20040517,2349, 21.3460,-158.2740, 1738,    224,    223.8,  17.1537,  34.7187,2,  34.7172,2,    178.3,2, 17.1166,    181.5,2,  -999.00,9,  -999.00,9,  -999.00,9,  -999.0,-999.000
     33KI159_1,  PRS2,     1,  1,     11,     39,2,20040517,2349, 21.3460,-158.2740, 1738,    250,    249.2,  16.2629,  34.6397,2,  34.6378,2,    181.6,2, 16.2230,    182.2,2,  -999.00,9,  -999.00,9,  -999.00,9,  -999.0,-999.000
     33KI159_1,  PRS2,     1,  1,     10,     32,2,20040517,2349, 21.3460,-158.2740, 1738,    301,    299.8,  13.1018,  34.3099,2,  34.3087,2,    194.3,2, 13.0605,    194.2,2,  -999.00,9,  -999.00,9,  -999.00,9,  -999.0,-999.000
     33KI159_1,  PRS2,     1,  1,      9,      3,2,20040517,2349, 21.3460,-158.2740, 1738,    349,    348.9,  10.8766,  34.2091,2,  34.2083,2,    172.8,2, 10.8340,    166.6,2,  -999.00,9,  -999.00,9,  -999.00,9,  -999.0,-999.000
     33KI159_1,  PRS2,     1,  1,      8,     29,2,20040517,2349, 21.3460,-158.2740, 1738,    401,    399.7,   9.0245,  34.1439,2,  34.1423,2,    142.7,2,  8.9810,    142.3,2,  -999.00,9,  -999.00,9,  -999.00,9,  -999.0,-999.000
     33KI159_1,  PRS2,     1,  1,      7,     28,2,20040517,2349, 21.3460,-158.2740, 1738,    499,    498.6,   7.1507,  34.1508,2,  34.1491,2,     96.7,2,  7.1031,     92.9,2,  -999.00,9,  -999.00,9,  -999.00,9,  -999.0,-999.000
     33KI159_1,  PRS2,     1,  1,      6,     13,2,20040517,2349, 21.3460,-158.2740, 1738,    600,    599.5,   6.1216,  34.2393,2,  34.2423,2,     45.5,2,  6.0685,     44.5,2,  -999.00,9,  -999.00,9,  -999.00,9,  -999.0,-999.000
     33KI159_1,  PRS2,     1,  1,      5,     38,2,20040517,2349, 21.3460,-158.2740, 1738,    699,    698.1,   5.2693,  34.3551,2,  34.3543,2,     35.3,2,  5.2114,     35.0,2,  -999.00,9,  -999.00,9,  -999.00,9,  -999.0,-999.000
     33KI159_1,  PRS2,     1,  1,      4,     36,2,20040517,2349, 21.3460,-158.2740, 1738,    750,    749.4,   5.0523,  34.3838,2,  34.3806,2,     36.3,2,  4.9911,     36.0,2,  -999.00,9,  -999.00,9,  -999.00,9,  -999.0,-999.000
     33KI159_1,  PRS2,     1,  1,      3,     35,2,20040517,2349, 21.3460,-158.2740, 1738,    799,    799.1,   4.8280,  34.4260,2,  34.4247,2,     37.9,2,  4.7637,     38.0,2,  -999.00,9,  -999.00,9,  -999.00,9,  -999.0,-999.000
     33KI159_1,  PRS2,     1,  1,      2,     34,2,20040517,2349, 21.3460,-158.2740, 1738,    901,    900.0,   4.3811,  34.4782,2,  34.4765,2,     43.3,2,  4.3111,     43.9,2,  -999.00,9,  -999.00,9,  -999.00,9,  -999.0,-999.000
     33KI159_1,  PRS2,     1,  1,      1,     33,2,20040517,2349, 21.3460,-158.2740, 1738,   1021,   1020.3,   4.0369,  34.5061,2,  34.5052,2,     47.4,2,  3.9593,     48.2,2,  -999.00,9,  -999.00,9,  -999.00,9,  -999.0,-999.000
     33KI159_1,  PRS2,     2,  1,     24,     31,3,20040518,1149, 22.7697,-158.0010, 4720,      5,      4.4,  25.1326,  34.7476,2,  34.7479,2,    212.0,2, 25.1316,    211.2,2,     1.00,2,     0.01,2,     0.00,2,  -999.0,-999.000
     33KI159_1,  PRS2,     2,  1,     23,     30,2,20040518,1149, 22.7697,-158.0010, 4720,    500,    499.6,   7.8783,  34.0568,2,  34.0570,2,    143.2,2,  7.8280,    144.3,2,    37.20,2,    25.77,2,     1.92,2,  -999.0,-999.000
     33KI159_1,  PRS2,     2,  1,     22,     22,2,20040518,1149, 22.7697,-158.0010, 4720,    751,    750.0,   5.0290,  34.3195,2,  34.3195,2,     37.6,2,  4.9679,     36.2,2,    81.43,4,    40.13,2,     2.98,2,  -999.0,-999.000
     33KI159_1,  PRS2,     2,  1,     21,     21,2,20040518,1149, 22.7697,-158.0010, 4720,   1002,   1000.2,   4.0075,  34.4539,2,  34.4549,2,     43.5,2,  3.9318,     42.9,2,    93.72,4,    41.30,2,     3.03,2,  -999.0,-999.000
     33KI159_1,  PRS2,     2,  1,     20,     20,2,20040518,1149, 22.7697,-158.0010, 4720,   1200,   1199.1,   3.5331,  34.5220,2,  34.5216,2,     54.7,2,  3.4449,     54.5,2,   118.51,2,    41.19,2,     3.03,2,  -999.0,-999.000
     33KI159_1,  PRS2,     2,  1,     19,     19,2,20040518,1149, 22.7697,-158.0010, 4720,   1400,   1399.9,   3.1145,  34.5513,2,  34.5531,2,     63.0,2,  3.0137,     63.4,2,   127.83,2,    40.75,2,     2.96,2,  -999.0,-999.000
     33KI159_1,  PRS2,     2,  1,     18,     18,2,20040518,1149, 22.7697,-158.0010, 4720,   1600,   1599.3,   2.7352,  34.5768,2,  34.5773,2,     72.4,2,  2.6223,     72.4,2,   136.55,2,    40.40,2,     2.92,2,  -999.0,-999.000
     33KI159_1,  PRS2,     2,  1,     17,     17,2,20040518,1149, 22.7697,-158.0010, 4720,   1801,   1799.9,   2.4206,  34.5975,2,  34.6016,3,     81.0,3,  2.2949,     81.2,2,   143.59,2,    39.89,2,     2.88,2,  -999.0,-999.000
     33KI159_1,  PRS2,     2,  1,     16,     16,2,20040518,1149, 22.7697,-158.0010, 4720,   2000,   1999.2,   2.1642,  34.6191,2,  34.6205,2,     89.0,2,  2.0253,     89.5,2,   145.30,3,    39.48,2,     2.84,2,  -999.0,-999.000
     33KI159_1,  PRS2,     2,  1,     15,    102,2,20040518,1149, 22.7697,-158.0010, 4720,   2200,   2199.4,   1.9844,  34.6328,2,  34.6331,2,     97.1,2,  1.8312,     97.4,2,   152.06,2,    38.91,2,     2.80,2,  -999.0,-999.000
     33KI159_1,  PRS2,     2,  1,     14,    101,2,20040518,1149, 22.7697,-158.0010, 4720,   2400,   2399.4,   1.8402,  34.6441,2,  34.6443,2,    104.6,2,  1.6719,    104.6,2,   152.93,3,    38.72,2,     2.77,2,  -999.0,-999.000
     33KI159_1,  PRS2,     2,  1,     13,     42,2,20040518,1149, 22.7697,-158.0010, 4720,   2600,   2598.9,   1.7192,  34.6542,2,  34.6549,2,    111.7,2,  1.5353,    111.7,2,   157.48,2,    38.22,2,     2.73,2,  -999.0,-999.000
     33KI159_1,  PRS2,     2,  1,     12,     12,2,20040518,1149, 22.7697,-158.0010, 4720,   2800,   2799.5,   1.6369,  34.6626,2,  34.6617,2,    118.8,2,  1.4362,    118.8,2,   158.49,2,    37.86,2,     2.70,2,  -999.0,-999.000
     33KI159_1,  PRS2,     2,  1,     11,     39,2,20040518,1149, 22.7697,-158.0010, 4720,   3000,   2999.7,   1.5884,  34.6689,2,  34.6692,2,    124.3,2,  1.3698,    124.5,2,   158.49,2,    37.55,2,     2.67,2,  -999.0,-999.000
     33KI159_1,  PRS2,     2,  1,     10,     32,2,20040518,1149, 22.7697,-158.0010, 4720,   3200,   3200.6,   1.5251,  34.6732,2,  34.6745,2,    131.1,2,  1.2884,    131.4,2,   158.31,2,    37.06,2,     2.61,2,  -999.0,-999.000
     33KI159_1,  PRS2,     2,  1,      9,      3,2,20040518,1149, 22.7697,-158.0010, 4720,   3400,   3399.8,   1.4896,  34.6783,2,  34.6775,2,    137.4,2,  1.2339,    138.0,2,   156.19,2,    36.63,2,     2.59,2,  -999.0,-999.000
     33KI159_1,  PRS2,     2,  1,      8,     29,2,20040518,1149, 22.7697,-158.0010, 4720,   3600,   3599.3,   1.4741,  34.6816,2,  34.6822,2,    141.9,2,  1.1985,    136.9,4,   155.32,2,    36.37,2,     2.58,2,  -999.0,-999.000
     33KI159_1,  PRS2,     2,  1,      7,     28,2,20040518,1149, 22.7697,-158.0010, 4720,   3800,   3799.2,   1.4636,  34.6843,2,  34.6838,2,    146.1,2,  1.1672,    146.2,2,   153.40,2,    36.10,2,     2.56,2,  -999.0,-999.000
     33KI159_1,  PRS2,     2,  1,      6,     13,2,20040518,1149, 22.7697,-158.0010, 4720,   3999,   3999.5,   1.4637,  34.6862,2,  34.6863,2,    149.1,2,  1.1459,    149.0,2,   151.78,2,    35.90,2,     2.52,2,  -999.0,-999.000
     33KI159_1,  PRS2,     2,  1,      5,     38,2,20040518,1149, 22.7697,-158.0010, 4720,   4198,   4198.1,   1.4698,  34.6878,2,  34.6881,2,    151.7,2,  1.1300,    150.8,2,   151.12,2,    35.78,2,     2.51,2,  -999.0,-999.000
     33KI159_1,  PRS2,     2,  1,      4,     36,2,20040518,1149, 22.7697,-158.0010, 4720,   4400,   4398.4,   1.4805,  34.6889,2,  34.6899,2,    153.4,2,  1.1178,    153.0,2,   150.08,2,    35.83,2,     2.49,2,  -999.0,-999.000
     33KI159_1,  PRS2,     2,  1,      3,     35,2,20040518,1149, 22.7697,-158.0010, 4720,   4499,   4498.5,   1.4876,  34.6893,2,  34.6893,2,    154.4,2,  1.1132,    153.9,2,   149.31,2,    35.75,2,     2.49,2,  -999.0,-999.000
     33KI159_1,  PRS2,     2,  1,      2,     34,2,20040518,1149, 22.7697,-158.0010, 4720,   4600,   4599.0,   1.4962,  34.6896,2,  34.6897,2,    154.5,2,  1.1099,    154.7,2,   149.35,2,    35.59,2,     2.51,2,  -999.0,-999.000
     33KI159_1,  PRS2,     2,  1,      1,     33,2,20040518,1149, 22.7697,-158.0010, 4720,   4795,   4794.5,   1.5109,  34.6903,2,  34.6903,2,    156.0,2,  1.1010,    156.3,2,   148.54,2,    35.56,2,     2.49,2,  -999.0,-999.000
     33KI159_1,  PRS2,     2,  2,     24,     31,3,20040518,1756, 22.7475,-158.0008, 4721,      5,      4.1,  25.1815,  34.6954,2,  34.6971,2,    211.4,2, 25.1806,    211.8,2,     1.09,2,     0.03,2,     0.10,2,  -999.0,-999.000
     33KI159_1,  PRS2,     2,  2,     23,     30,2,20040518,1756, 22.7475,-158.0008, 4721,     48,     47.1,  24.7359,  34.8928,2,  34.8969,2,    215.4,2, 24.7258,    214.9,2,     1.04,2,     0.03,2,     0.08,2,  -999.0,-999.000
     33KI159_1,  PRS2,     2,  2,     22,     22,2,20040518,1756, 22.7475,-158.0008, 4721,     74,     74.0,  23.5735,  35.1413,2,  35.1463,2,    214.5,2, 23.5581,    214.6,2,     1.09,2,     0.06,2,     0.08,2,  -999.0,-999.000
     33KI159_1,  PRS2,     2,  2,     21,     21,3,20040518,1756, 22.7475,-158.0008, 4721,    126,    125.3,  21.6636,  35.1305,2,  35.1154,4,    197.1,3, 21.6391,    196.3,2,     1.60,2,     0.52,2,     0.01,3,  -999.0,-999.000
     33KI159_1,  PRS2,     2,  2,     20,     20,2,20040518,1756, 22.7475,-158.0008, 4721,    176,    174.9,  19.4059,  35.0510,2,  35.0429,2,    198.2,2, 19.3742,    198.2,2,     2.44,2,     2.34,2,     0.03,4,  -999.0,-999.000
     33KI159_1,  PRS2,     2,  2,     19,     19,2,20040518,1756, 22.7475,-158.0008, 4721,    217,    215.7,  17.2868,  34.7783,2,  34.7708,2,    199.7,2, 17.2508,    199.0,2,     3.36,2,     3.85,2,     0.37,2,  -999.0,-999.000
     33KI159_1,  PRS2,     2,  2,     18,     18,3,20040518,1756, 22.7475,-158.0008, 4721,    257,    256.0,  15.6505,  34.5682,2,  34.5677,2,    203.2,2, 15.6106,    202.8,2,     4.84,2,     5.39,2,     0.49,2,  -999.0,-999.000
     33KI159_1,  PRS2,     2,  2,     17,     17,2,20040518,1756, 22.7475,-158.0008, 4721,    297,    296.2,  13.6276,  34.3584,2,  34.3572,2,    202.4,2, 13.5856,    201.5,2,     8.02,2,     8.59,2,     0.71,2,  -999.0,-999.000
     33KI159_1,  PRS2,     2,  2,     16,     16,2,20040518,1756, 22.7475,-158.0008, 4721,    336,    335.5,  11.8879,  34.2384,2,  34.2419,2,    201.0,2, 11.8446,    200.3,2,    11.93,2,    12.03,2,     0.94,2,  -999.0,-999.000
     33KI159_1,  PRS2,     2,  2,     15,    102,2,20040518,1756, 22.7475,-158.0008, 4721,    385,    384.8,  10.5275,  34.1571,2,  34.1579,2,    201.5,2, 10.4814,    199.9,2,    16.10,2,    14.78,2,     1.13,2,  -999.0,-999.000
     33KI159_1,  PRS2,     2,  2,     14,    101,2,20040518,1756, 22.7475,-158.0008, 4721,    438,    436.8,   9.0381,  34.0986,2,  34.0982,2,    178.7,2,  8.9904,    176.9,2,    26.09,2,    20.18,2,     1.50,2,  -999.0,-999.000
     33KI159_1,  PRS2,     2,  2,     13,     42,2,20040518,1756, 22.7475,-158.0008, 4721,    476,    476.1,   8.1447,  34.0640,2,  34.0635,2,    154.5,2,  8.0958,    152.5,2,    33.90,2,    24.12,2,     1.78,2,  -999.0,-999.000
     33KI159_1,  PRS2,     2,  2,     12,     12,2,20040518,1756, 22.7475,-158.0008, 4721,    515,    514.2,   7.3093,  34.0711,2,  34.0723,2,    122.8,2,  7.2596,    119.1,2,    44.39,2,    28.29,2,     2.11,2,  -999.0,-999.000
     33KI159_1,  PRS2,     2,  2,     11,     39,2,20040518,1756, 22.7475,-158.0008, 4721,    548,    547.2,   6.5412,  34.0750,2,  34.0772,2,     91.7,2,  6.4913,     92.1,2,    55.12,2,    32.19,2,     2.40,2,  -999.0,-999.000
     33KI159_1,  PRS2,     2,  2,     10,     32,2,20040518,1756, 22.7475,-158.0008, 4721,    593,    591.7,   5.9833,  34.1181,2,  34.1183,2,     72.0,2,  5.9317,     69.4,2,    65.86,2,    35.03,2,     2.61,2,  -999.0,-999.000
     33KI159_1,  PRS2,     2,  2,      9,      3,2,20040518,1756, 22.7475,-158.0008, 4721,    640,    639.4,   5.4729,  34.1595,2,  34.1581,2,     52.7,2,  5.4193,     50.8,2,    75.60,2,    37.64,2,     2.81,2,  -999.0,-999.000
     33KI159_1,  PRS2,     2,  2,      8,     29,2,20040518,1756, 22.7475,-158.0008, 4721,    690,    689.6,   5.2815,  34.2555,2,  34.2572,2,     39.4,2,  5.2244,     38.9,2,    74.15,4,    39.05,2,     2.89,2,  -999.0,-999.000
     33KI159_1,  PRS2,     2,  2,      7,     28,2,20040518,1756, 22.7475,-158.0008, 4721,    729,    728.2,   5.1394,  34.3068,2,  34.2534,4,     39.1,3,  5.0797,     38.2,2,    74.39,4,    40.01,2,     2.96,2,  -999.0,-999.000
     33KI159_1,  PRS2,     2,  2,      6,     13,2,20040518,1756, 22.7475,-158.0008, 4721,    768,    767.0,   4.8318,  34.3202,2,  34.3201,2,     37.0,2,  4.7704,     36.6,2,    85.12,4,    39.45,3,     2.94,2,  -999.0,-999.000
     33KI159_1,  PRS2,     2,  2,      5,     38,2,20040518,1756, 22.7475,-158.0008, 4721,    818,    817.0,   4.6838,  34.3660,2,  34.3709,2,     37.5,2,  4.6190,     36.8,2,    72.46,4,    40.42,2,     2.97,2,  -999.0,-999.000
     33KI159_1,  PRS2,     2,  2,      4,     36,2,20040518,1756, 22.7475,-158.0008, 4721,    867,    867.0,   4.5017,  34.3945,2,  34.3945,2,     38.0,2,  4.4338,     38.0,2,    76.60,4,    40.70,2,     2.97,2,  -999.0,-999.000
     33KI159_1,  PRS2,     2,  2,      3,     35,2,20040518,1756, 22.7475,-158.0008, 4721,    906,    905.3,   4.3952,  34.4057,2,  34.4063,2,     37.6,2,  4.3247,     37.6,2,    60.55,4,    40.91,2,     2.97,2,  -999.0,-999.000
     33KI159_1,  PRS2,     2,  2,      2,     34,2,20040518,1756, 22.7475,-158.0008, 4721,    943,    942.5,   4.2365,  34.4204,2,  34.4216,2,     39.5,2,  4.1640,     39.3,2,    63.23,4,    41.10,2,     2.97,2,  -999.0,-999.000
     33KI159_1,  PRS2,     2,  2,      1,     33,3,20040518,1756, 22.7475,-158.0008, 4721,   1021,   1019.9,   4.0418,  34.4664,2,  34.4669,2,     44.7,2,  3.9642,     44.2,2,   102.42,4,    41.11,2,     2.99,2,  -999.0,-999.000