BOTTLE,20090923WHPSIOMYS
EXPOCODE,SECT_ID,STNNBR,CASTNO,SAMPNO,BTLNBR,BTLNBR_FLAG_W,DATE,TIME,LATITUDE,LONGITUDE,DEPTH,CTDRAW,CTDPRS,CTDTMP,CTDSAL,CTDSAL_FLAG_W,SALNTY,SALNTY_FLAG_W,CTDOXY,CTDOXY_FLAG_W,THETA,OXYGEN,OXYGEN_FLAG_W,SILCAT,SILCAT_FLAG_W,NO2+NO3,NO2+NO3_FLAG_W,PHSPHT,PHSPHT_FLAG_W,REVPRS,REVTMP
,,,,,,,,,,,,,DBAR,ITS-90,PSS-78,,PSS-78,,UMOL/KG,,ITS-90,UMOL/KG,,UMOL/KG,,UMOL/KG,,UMOL/KG,,DBAR,DEG C
     33KI159_1,  PRS2,     2, 14,     21,     21,3,20040520,0557, 22.7547,-157.9498, 4702,      5,      3.8,  25.7170,  34.4739,2,  34.4728,2,    210.7,1, 25.7161,   -999.0,9,  -999.00,9,  -999.00,9,  -999.00,9,  -999.0,-999.000
     33KI159_1,  PRS2,     2, 14,     24,     31,2,20040520,0557, 22.7547,-157.9498, 4702,      5,      3.9,  25.7106,  34.4698,2,  34.4697,2,    210.4,1, 25.7097,   -999.0,9,  -999.00,9,  -999.00,9,  -999.00,9,  -999.0,-999.000
     33KI159_1,  PRS2,     2, 14,     23,     30,2,20040520,0557, 22.7547,-157.9498, 4702,      5,      3.9,  25.7112,  34.4714,2,  34.4705,2,    210.5,1, 25.7104,   -999.0,9,  -999.00,9,  -999.00,9,  -999.00,9,  -999.0,-999.000
     33KI159_1,  PRS2,     2, 14,     22,     22,2,20040520,0557, 22.7547,-157.9498, 4702,      5,      3.9,  25.7142,  34.4720,2,  34.4728,2,    210.6,1, 25.7133,   -999.0,9,  -999.00,9,  -999.00,9,  -999.00,9,  -999.0,-999.000
     33KI159_1,  PRS2,     2, 14,     20,     20,3,20040520,0557, 22.7547,-157.9498, 4702,     25,     24.4,  25.5316,  34.5453,2,  34.5641,3,    210.6,1, 25.5263,   -999.0,9,  -999.00,9,  -999.00,9,  -999.00,9,  -999.0,-999.000
     33KI159_1,  PRS2,     2, 14,     19,     19,2,20040520,0557, 22.7547,-157.9498, 4702,     25,     24.4,  25.5275,  34.5521,2,  34.5673,3,    210.6,1, 25.5221,   -999.0,9,  -999.00,9,  -999.00,9,  -999.00,9,  -999.0,-999.000
     33KI159_1,  PRS2,     2, 14,     17,     17,2,20040520,0557, 22.7547,-157.9498, 4702,     45,     43.6,  24.9838,  34.7609,2,  34.7610,2,    214.0,1, 24.9743,   -999.0,9,  -999.00,9,  -999.00,9,  -999.00,9,  -999.0,-999.000
     33KI159_1,  PRS2,     2, 14,     18,     18,2,20040520,0557, 22.7547,-157.9498, 4702,     44,     43.7,  24.9837,  34.7611,2,  34.7561,2,    214.0,1, 24.9743,   -999.0,9,  -999.00,9,  -999.00,9,  -999.00,9,  -999.0,-999.000
     33KI159_1,  PRS2,     2, 14,     16,     16,2,20040520,0557, 22.7547,-157.9498, 4702,     60,     58.8,  24.7638,  34.8861,2,  34.8853,2,    215.1,1, 24.7512,   -999.0,9,  -999.00,9,  -999.00,9,  -999.00,9,  -999.0,-999.000
     33KI159_1,  PRS2,     2, 14,     14,    101,2,20040520,0557, 22.7547,-157.9498, 4702,     75,     74.0,  24.3308,  35.0140,2,  35.0120,2,    216.0,1, 24.3151,   -999.0,9,  -999.00,9,  -999.00,9,  -999.00,9,  -999.0,-999.000
     33KI159_1,  PRS2,     2, 14,     15,    102,2,20040520,0557, 22.7547,-157.9498, 4702,     75,     74.1,  24.3297,  35.0144,2,  35.0112,2,    216.1,1, 24.3140,   -999.0,9,  -999.00,9,  -999.00,9,  -999.00,9,  -999.0,-999.000
     33KI159_1,  PRS2,     2, 14,     13,     42,2,20040520,0557, 22.7547,-157.9498, 4702,     85,     83.7,  23.9451,  35.0727,2,  35.0691,2,    214.4,1, 23.9275,   -999.0,9,  -999.00,9,  -999.00,9,  -999.00,9,  -999.0,-999.000
     33KI159_1,  PRS2,     2, 14,     12,     12,3,20040520,0557, 22.7547,-157.9498, 4702,    100,     98.9,  23.4967,  35.1312,2,  35.1412,2,    212.9,1, 23.4762,   -999.0,9,  -999.00,9,  -999.00,9,  -999.00,9,  -999.0,-999.000
     33KI159_1,  PRS2,     2, 14,     11,     39,3,20040520,0557, 22.7547,-157.9498, 4702,    100,     99.0,  23.5235,  35.1294,2,  35.1297,2,    212.8,1, 23.5030,   -999.0,9,  -999.00,9,  -999.00,9,  -999.00,9,  -999.0,-999.000
     33KI159_1,  PRS2,     2, 14,     10,     32,2,20040520,0557, 22.7547,-157.9498, 4702,    114,    113.6,  22.5330,  35.1477,2,  35.1447,2,    203.5,1, 22.5101,   -999.0,9,  -999.00,9,  -999.00,9,  -999.00,9,  -999.0,-999.000
     33KI159_1,  PRS2,     2, 14,      8,     29,2,20040520,0557, 22.7547,-157.9498, 4702,    125,    123.7,  22.2266,  35.1169,2,  35.1171,2,    199.4,1, 22.2019,   -999.0,9,  -999.00,9,  -999.00,9,  -999.00,9,  -999.0,-999.000
     33KI159_1,  PRS2,     2, 14,      9,      3,2,20040520,0557, 22.7547,-157.9498, 4702,    124,    123.9,  22.2283,  35.1165,2,  35.1175,2,    199.9,1, 22.2036,   -999.0,9,  -999.00,9,  -999.00,9,  -999.00,9,  -999.0,-999.000
     33KI159_1,  PRS2,     2, 14,      7,     28,2,20040520,0557, 22.7547,-157.9498, 4702,    135,    134.2,  21.7230,  35.1102,2,  35.1122,2,    196.2,1, 21.6967,   -999.0,9,  -999.00,9,  -999.00,9,  -999.00,9,  -999.0,-999.000
     33KI159_1,  PRS2,     2, 14,      6,     13,2,20040520,0557, 22.7547,-157.9498, 4702,    150,    148.7,  21.6852,  35.1249,2,  35.1238,2,    196.6,1, 21.6561,   -999.0,9,  -999.00,9,  -999.00,9,  -999.00,9,  -999.0,-999.000
     33KI159_1,  PRS2,     2, 14,      5,     38,2,20040520,0557, 22.7547,-157.9498, 4702,    150,    148.7,  21.6886,  35.1268,2,  35.1268,2,    196.7,1, 21.6595,   -999.0,9,  -999.00,9,  -999.00,9,  -999.00,9,  -999.0,-999.000
     33KI159_1,  PRS2,     2, 14,      4,     36,2,20040520,0557, 22.7547,-157.9498, 4702,    175,    173.5,  20.4312,  35.0603,2,  35.0559,2,    188.7,1, 20.3987,   -999.0,9,  -999.00,9,  -999.00,9,  -999.00,9,  -999.0,-999.000
     33KI159_1,  PRS2,     2, 14,      3,     35,3,20040520,0557, 22.7547,-157.9498, 4702,    174,    173.5,  20.4294,  35.0588,2,  35.0561,2,    188.7,1, 20.3968,   -999.0,9,  -999.00,9,  -999.00,9,  -999.00,9,  -999.0,-999.000
     33KI159_1,  PRS2,     2, 14,      2,     34,2,20040520,0557, 22.7547,-157.9498, 4702,    510,    509.5,   7.5807,  34.0515,2,  34.0523,2,    138.4,1,  7.5305,   -999.0,9,  -999.00,9,  -999.00,9,  -999.00,9,  -999.0,-999.000
     33KI159_1,  PRS2,     2, 14,      1,     33,2,20040520,0557, 22.7547,-157.9498, 4702,   1021,   1020.3,   4.0504,  34.4530,2,  34.4524,2,     43.1,1,  3.9728,   -999.0,9,  -999.00,9,  -999.00,9,  -999.00,9,  -999.0,-999.000
     33KI159_1,  PRS2,     2, 15,      8,     29,2,20040520,0927, 22.7535,-158.0033, 4725,     25,     24.3,  25.6281,  34.4858,2,  34.4846,2,    211.0,2, 25.6228,    210.8,2,  -999.00,9,  -999.00,9,  -999.00,9,  -999.0,-999.000
     33KI159_1,  PRS2,     2, 15,      7,     28,2,20040520,0927, 22.7535,-158.0033, 4725,    354,    353.2,  11.0614,  34.1901,2,  34.1921,2,    200.5,2, 11.0178,    199.9,2,  -999.00,9,  -999.00,9,  -999.00,9,  -999.0,-999.000
     33KI159_1,  PRS2,     2, 15,      6,     13,2,20040520,0927, 22.7535,-158.0033, 4725,    523,    522.6,   6.6715,  34.0691,2,  34.0717,2,     98.0,2,  6.6235,     97.6,2,  -999.00,9,  -999.00,9,  -999.00,9,  -999.0,-999.000
     33KI159_1,  PRS2,     2, 15,      5,     38,2,20040520,0927, 22.7535,-158.0033, 4725,    803,    802.5,   4.6471,  34.3637,2,  34.3639,2,     38.5,2,  4.5837,     37.7,2,  -999.00,9,  -999.00,9,  -999.00,9,  -999.0,-999.000
     33KI159_1,  PRS2,     2, 15,      4,     36,2,20040520,0927, 22.7535,-158.0033, 4725,   2006,   2006.1,   2.1548,  34.6141,2,  34.6142,2,     89.7,2,  2.0156,     90.5,2,  -999.00,9,  -999.00,9,  -999.00,9,  -999.0,-999.000
     33KI159_1,  PRS2,     2, 15,      3,     35,2,20040520,0927, 22.7535,-158.0033, 4725,   3006,   3005.3,   1.5521,  34.6676,2,  34.6679,2,    126.8,2,  1.3336,    127.4,2,  -999.00,9,  -999.00,9,  -999.00,9,  -999.0,-999.000
     33KI159_1,  PRS2,     2, 15,      2,     34,2,20040520,0927, 22.7535,-158.0033, 4725,   4020,   4018.8,   1.4611,  34.6847,2,  34.6850,2,    149.9,2,  1.1412,    150.3,2,  -999.00,9,  -999.00,9,  -999.00,9,  -999.0,-999.000
     33KI159_1,  PRS2,     2, 15,      1,     33,2,20040520,0927, 22.7535,-158.0033, 4725,   4799,   4799.4,   1.5076,  34.6887,2,  34.6895,2,    156.8,2,  1.0972,    157.2,2,  -999.00,9,  -999.00,9,  -999.00,9,  -999.0,-999.000
     33KI159_1,  PRS2,     6,  1,     13,     42,2,20040521,0500, 21.8475,-158.3630, 2464,      5,      4.3,  26.2594,  34.4399,2,  34.4357,2,    207.4,1, 26.2584,   -999.0,9,  -999.00,9,  -999.00,9,  -999.00,9,  -999.0,-999.000
     33KI159_1,  PRS2,     6,  1,     12,     12,2,20040521,0500, 21.8475,-158.3630, 2464,     25,     24.3,  25.7065,  34.4516,2,  34.4624,2,    210.6,1, 25.7011,   -999.0,9,  -999.00,9,  -999.00,9,  -999.00,9,  -999.0,-999.000
     33KI159_1,  PRS2,     6,  1,     11,     39,2,20040521,0500, 21.8475,-158.3630, 2464,     45,     44.5,  25.2227,  34.6316,2,  34.6453,2,    212.4,1, 25.2130,   -999.0,9,  -999.00,9,  -999.00,9,  -999.00,9,  -999.0,-999.000
     33KI159_1,  PRS2,     6,  1,     10,     32,3,20040521,0500, 21.8475,-158.3630, 2464,     75,     74.3,  24.5969,  34.9010,2,  34.9016,2,    214.1,1, 24.5810,   -999.0,9,  -999.00,9,  -999.00,9,  -999.00,9,  -999.0,-999.000
     33KI159_1,  PRS2,     6,  1,      9,      3,2,20040521,0500, 21.8475,-158.3630, 2464,    100,     99.4,  24.0049,  35.0215,2,  35.0207,2,    211.3,1, 23.9840,   -999.0,9,  -999.00,9,  -999.00,9,  -999.00,9,  -999.0,-999.000
     33KI159_1,  PRS2,     6,  1,      8,     29,2,20040521,0500, 21.8475,-158.3630, 2464,    125,    124.5,  23.3356,  35.1705,2,  35.1662,2,    211.1,1, 23.3099,   -999.0,9,  -999.00,9,  -999.00,9,  -999.00,9,  -999.0,-999.000
     33KI159_1,  PRS2,     6,  1,      7,     28,2,20040521,0500, 21.8475,-158.3630, 2464,    150,    149.2,  22.5511,  35.2030,2,  35.2006,2,    203.6,1, 22.5210,   -999.0,9,  -999.00,9,  -999.00,9,  -999.00,9,  -999.0,-999.000
     33KI159_1,  PRS2,     6,  1,      6,     13,2,20040521,0500, 21.8475,-158.3630, 2464,    176,    174.7,  21.2643,  35.1763,2,  35.1595,3,    197.3,1, 21.2305,   -999.0,9,  -999.00,9,  -999.00,9,  -999.00,9,  -999.0,-999.000
     33KI159_1,  PRS2,     6,  1,      5,     38,2,20040521,0500, 21.8475,-158.3630, 2464,    499,    498.7,   7.3246,  34.1444,2,  34.1442,2,     93.5,1,  7.2763,   -999.0,9,  -999.00,9,  -999.00,9,  -999.00,9,  -999.0,-999.000
     33KI159_1,  PRS2,     6,  1,      4,     36,2,20040521,0500, 21.8475,-158.3630, 2464,    999,    998.9,   4.1965,  34.4751,2,  34.4730,2,     45.8,1,  4.1194,   -999.0,9,  -999.00,9,  -999.00,9,  -999.00,9,  -999.0,-999.000
     33KI159_1,  PRS2,     6,  1,      3,     35,2,20040521,0500, 21.8475,-158.3630, 2464,   1499,   1498.4,   2.7995,  34.5742,2,  34.5736,2,     70.9,1,  2.6941,   -999.0,9,  -999.00,9,  -999.00,9,  -999.00,9,  -999.0,-999.000
     33KI159_1,  PRS2,     6,  1,      2,     34,2,20040521,0500, 21.8475,-158.3630, 2464,   1999,   1998.7,   2.1689,  34.6180,2,  34.6164,2,     90.6,1,  2.0300,   -999.0,9,  -999.00,9,  -999.00,9,  -999.00,9,  -999.0,-999.000
     33KI159_1,  PRS2,     6,  1,      1,     33,2,20040521,0500, 21.8475,-158.3630, 2464,   2461,   2460.7,   1.8120,  34.6450,2,  34.6441,2,    107.5,1,  1.6388,   -999.0,9,  -999.00,9,  -999.00,9,  -999.00,9,  -999.0,-999.000