BOTTLE,20121207CCHSIOMYS
EXPOCODE,SECT_ID,STNNBR,CASTNO,SAMPNO,BTLNBR,BTLNBR_FLAG_W,DATE,TIME,LATITUDE,LONGITUDE,DEPTH,CTDPRS,CTDTMP,CTDSAL,CTDSAL_FLAG_W,SALNTY,SALNTY_FLAG_W,CTDOXY,CTDOXY_FLAG_W,OXYGEN,OXYGEN_FLAG_W,SILCAT,SILCAT_FLAG_W,NITRAT,NITRAT_FLAG_W,NITRIT,NITRIT_FLAG_W,PHSPHT,PHSPHT_FLAG_W,CTDRAW,THETA
,,,,,,,,,,,,DBAR,ITS-90,PSS-78,,PSS-78,,UMOL/KG,,UMOL/KG,,UMOL/KG,,UMOL/KG,,UMOL/KG,,UMOL/KG,,DBAR,DEG C
90CI20000602,     ------,      29,          1,         24,         24,2,20000613,       1216,  48.150000,150.1316667,       3327,     3.2,   4.1200,  32.3203,2,  32.3220,2, 356.5000,2,   352.2,1,   19.33,2,    4.84,2,    0.08,2,    0.72,2, -999.00,   4.1198
90CI20000602,     ------,      29,          1,         23,         23,2,20000613,       1216,  48.150000,150.1316667,       3327,    10.0,   4.1120,  32.3199,2,  32.3230,2, 341.2000,2,   352.5,1,   19.32,2,    4.79,2,    0.08,2,    0.73,2, -999.00,   4.1114
90CI20000602,     ------,      29,          1,         22,         22,2,20000613,       1216,  48.150000,150.1316667,       3327,    28.4,   1.9161,  32.4502,2,  32.4496,2, 338.7000,2,   355.4,1,   20.65,2,    9.07,2,    0.12,2,    1.01,2, -999.00,   1.9148
90CI20000602,     ------,      29,          1,         21,         21,2,20000613,       1216,  48.150000,150.1316667,       3327,    49.4,  -0.9046,  32.7548,2,  32.7602,2, 357.1000,2,   361.1,1,   27.73,2,   16.86,2,    0.17,2,    1.53,2, -999.00,  -0.9058
90CI20000602,     ------,      29,          1,         20,         20,2,20000613,       1216,  48.150000,150.1316667,       3327,    74.8,  -1.4955,  32.8727,2,  32.8734,2, 346.9000,2,   338.7,1,   31.94,2,   19.45,2,    0.20,2,    1.71,2, -999.00,  -1.4970
90CI20000602,     ------,      29,          1,         19,         19,2,20000613,       1216,  48.150000,150.1316667,       3327,   100.6,  -0.9354,  32.9714,2,  32.9715,2, 332.1000,2,   317.6,1,   34.61,2,   20.58,2,    0.02,2,    1.79,2, -999.00,  -0.9378
90CI20000602,     ------,      29,          1,         18,         18,2,20000613,       1216,  48.150000,150.1316667,       3327,   125.2,  -0.7508,  33.0521,2,  33.0519,2, 306.3000,2,   304.8,1,   38.24,2,   21.97,2,    0.02,2,    1.90,2, -999.00,  -0.7542
90CI20000602,     ------,      29,          1,         17,         17,2,20000613,       1216,  48.150000,150.1316667,       3327,   134.9,  -0.7633,  33.0603,2,  33.0626,2, 293.7000,2,   302.3,1,   38.80,2,   22.20,2,    0.03,2,    1.91,2, -999.00,  -0.7669
90CI20000602,     ------,      29,          1,         16,         16,2,20000613,       1216,  48.150000,150.1316667,       3327,   146.7,  -0.5591,  33.1062,2,  33.1041,2, 286.1000,2,   293.1,1,   40.70,2,   22.77,2,    0.03,2,    1.97,2, -999.00,  -0.5633
90CI20000602,     ------,      29,          1,         15,         15,2,20000613,       1216,  48.150000,150.1316667,       3327,   202.8,  -0.0527,  33.2152,2,  33.2138,2, 243.5000,2,   255.3,1,   51.43,2,   26.90,2,    0.02,2,    2.24,2, -999.00,  -0.0596
90CI20000602,     ------,      29,          1,         14,         14,2,20000613,       1216,  48.150000,150.1316667,       3327,   304.2,   1.0704,  33.4350,2,  33.4315,2, 186.8000,2,   179.7,1,   70.23,2,   32.15,2,    0.03,2,    2.61,2, -999.00,   1.0569
90CI20000602,     ------,      29,          1,         13,         13,2,20000613,       1216,  48.150000,150.1316667,       3327,   405.7,   1.3430,  33.5545,2,  33.5519,2, 178.1000,2,   185.9,1,   68.27,2,   29.27,2,    0.01,2,    2.37,2, -999.00,   1.3235
90CI20000602,     ------,      29,          1,         12,         12,2,20000613,       1216,  48.150000,150.1316667,       3327,   506.9,   1.6155,  33.7121,2,  33.7106,2, 130.6000,2,   129.8,1,   95.79,2,   35.19,2,    0.00,2,    2.77,2, -999.00,   1.5894
90CI20000602,     ------,      29,          1,         11,         11,2,20000613,       1216,  48.150000,150.1316667,       3327,   609.2,   1.9444,  33.8663,2,  33.8633,2,  97.9000,2,    90.8,1,  115.51,2,   38.76,2,    0.00,2,    2.98,2, -999.00,   1.9108
90CI20000602,     ------,      29,          1,         10,         10,2,20000613,       1216,  48.150000,150.1316667,       3327,   711.6,   2.2813,  34.0363,2,  34.0367,2,  64.8000,2,    63.5,1,  132.22,2,   40.44,2,    0.00,2,    3.07,2, -999.00,   2.2392
90CI20000602,     ------,      29,          1,          9,          9,2,20000613,       1216,  48.150000,150.1316667,       3327,   810.8,   2.3463,  34.1416,2,  34.1418,2,  49.3000,2,    48.8,1,  145.72,2,   41.58,2,    0.00,2,    3.13,2, -999.00,   2.2972
90CI20000602,     ------,      29,          1,          8,          8,2,20000613,       1216,  48.150000,150.1316667,       3327,  1012.7,   2.3322,  34.3019,2,  34.3018,2,  39.5000,2,    40.8,1,  159.11,2,   41.77,2,    0.00,2,    3.14,2, -999.00,   2.2690
90CI20000602,     ------,      29,          1,          7,          7,2,20000613,       1216,  48.150000,150.1316667,       3327,  1214.7,   2.2674,  34.4108,2,  34.4113,2,  43.2000,2,    42.3,1,  164.43,2,   42.32,2,    0.00,2,    3.11,2, -999.00,   2.1900
90CI20000602,     ------,      29,          1,          6,          6,2,20000613,       1216,  48.150000,150.1316667,       3327,  1418.3,   2.1515,  34.4742,2,  34.4742,2,  48.6000,2,    49.2,1,  167.17,2,   41.98,2,    0.00,2,    3.07,2, -999.00,   2.0599
90CI20000602,     ------,      29,          1,          5,          5,2,20000613,       1216,  48.150000,150.1316667,       3327,  1619.8,   2.1034,  34.5143,2,  34.5152,2,  54.2000,2,    54.9,1,  166.92,2,   41.93,2,    0.00,2,    3.04,2, -999.00,   1.9968
90CI20000602,     ------,      29,          1,          4,          4,2,20000613,       1216,  48.150000,150.1316667,       3327,  2024.6,   1.9524,  34.5543,2,  34.5552,2,  67.1000,2,    66.5,1,  171.66,2,   41.04,2,    0.00,2,    2.99,2, -999.00,   1.8149
90CI20000602,     ------,      29,          1,          3,          3,2,20000613,       1216,  48.150000,150.1316667,       3327,  2534.5,   1.8598,  34.5918,2,  34.5919,2,  78.6000,2,    78.9,1,  175.02,2,   40.10,2,    0.00,2,    2.95,2, -999.00,   1.6793
90CI20000602,     ------,      29,          1,          2,          2,2,20000613,       1216,  48.150000,150.1316667,       3327,  3044.9,   1.8630,  34.6045,2,  34.6050,2,  83.3000,2,    82.6,1,  177.99,2,   39.86,2,    0.00,2,    2.93,2, -999.00,   1.6342
90CI20000602,     ------,      29,          1,          1,          1,2,20000613,       1216,  48.150000,150.1316667,       3327,  3332.8,   1.8639,  34.6116,2,  34.6121,2,  86.6000,2,    87.1,1,  177.33,2,   39.62,2,    0.00,2,    2.90,2, -999.00,   1.6062
90CI20000602,     ------,      30,          1,         22,         22,2,20000613,       1805,  48.580000,149.6783333,       1620,     3.9,   3.2706,  32.5285,2,  32.5304,2, 349.4000,2,   349.2,1,   18.00,2,    9.95,2,    0.12,2,    1.02,2, -999.00,   3.2704
90CI20000602,     ------,      30,          1,         21,         21,2,20000613,       1805,  48.580000,149.6783333,       1620,     9.4,   3.2599,  32.5270,2,  32.5302,2, 348.3000,2,   349.5,1,   17.79,2,    9.95,2,    0.12,2,    1.02,2, -999.00,   3.2594
90CI20000602,     ------,      30,          1,         20,         20,2,20000613,       1805,  48.580000,149.6783333,       1620,    18.8,   3.2616,  32.5287,2,  32.5309,2, 347.7000,2,   349.3,1,   18.35,2,    9.95,2,    0.12,2,    1.02,2, -999.00,   3.2605
90CI20000602,     ------,      30,          1,         19,         19,2,20000613,       1805,  48.580000,149.6783333,       1620,    28.6,   2.7542,  32.5176,2,  32.5350,2, 352.8000,2,   353.9,1,   18.33,2,   10.05,2,    0.12,2,    1.03,2, -999.00,   2.7526
90CI20000602,     ------,      30,          1,         18,         18,2,20000613,       1805,  48.580000,149.6783333,       1620,    49.6,  -0.1802,  32.7743,2,  32.7790,2, 363.2000,2,   363.5,1,   20.99,2,   15.07,2,    0.16,2,    1.38,2, -999.00,  -0.1817
90CI20000602,     ------,      30,          1,         17,         17,2,20000613,       1805,  48.580000,149.6783333,       1620,    74.8,  -0.3183,  32.9550,2,  32.9552,2, 329.0000,2,   327.6,1,   34.72,2,   19.80,2,    0.08,2,    1.69,2, -999.00,  -0.3206
90CI20000602,     ------,      30,          1,         16,         16,2,20000613,       1805,  48.580000,149.6783333,       1620,    97.8,   0.0984,  33.0699,2,  33.0688,2, 295.9000,2,   304.2,1,   41.58,2,   22.08,2,    0.03,2,    1.84,2, -999.00,   0.0951
90CI20000602,     ------,      30,          1,         15,         15,2,20000613,       1805,  48.580000,149.6783333,       1620,   124.8,   0.5809,  33.1835,2,  33.1831,2, 266.8000,2,   265.4,1,   48.24,2,   24.82,2,    0.02,2,    2.04,2, -999.00,   0.5761
90CI20000602,     ------,      30,          1,         14,         14,2,20000613,       1805,  48.580000,149.6783333,       1620,   150.4,   0.7737,  33.2440,2,  33.2441,2, 242.5000,2,   242.5,1,   51.67,2,   26.57,2,    0.03,2,    2.17,2, -999.00,   0.7677
90CI20000602,     ------,      30,          1,         13,         13,2,20000613,       1805,  48.580000,149.6783333,       1620,   201.0,   0.8737,  33.3398,2,  33.3398,2, 209.0000,2,   208.3,1,   60.83,2,   29.82,2,    0.04,2,    2.42,2, -999.00,   0.8653
90CI20000602,     ------,      30,          1,         12,         12,2,20000613,       1805,  48.580000,149.6783333,       1620,   249.1,   0.9638,  33.3910,2,  33.3911,2, 193.2000,2,   193.3,1,   65.21,2,   30.93,2,    0.04,2,    2.51,2, -999.00,   0.9530
90CI20000602,     ------,      30,          1,         11,         11,2,20000613,       1805,  48.580000,149.6783333,       1620,   302.2,   1.0687,  33.4460,2,  33.4455,2, 174.0000,2,   180.3,1,   68.83,2,   31.50,2,    0.05,2,    2.57,2, -999.00,   1.0552
90CI20000602,     ------,      30,          1,         10,         10,2,20000613,       1805,  48.580000,149.6783333,       1620,   401.9,   1.5288,  33.6126,2,  33.6055,2, 153.8000,2,   151.3,1,   82.80,2,   33.43,2,    0.00,2,    2.66,2, -999.00,   1.5088
90CI20000602,     ------,      30,          1,          9,          9,2,20000613,       1805,  48.580000,149.6783333,       1620,   503.4,   1.9765,  33.8000,2,  33.8010,2, 115.1000,2,   109.0,1,  103.93,2,   36.93,2,    0.00,2,    2.83,2, -999.00,   1.9491
90CI20000602,     ------,      30,          1,          8,          8,2,20000613,       1805,  48.580000,149.6783333,       1620,   606.3,   2.3262,  33.9974,2,  33.9985,2,  72.4000,2,    68.8,1,  125.79,2,   40.30,2,    0.00,2,    3.02,2, -999.00,   2.2907
90CI20000602,     ------,      30,          1,          7,          7,2,20000613,       1805,  48.580000,149.6783333,       1620,   707.7,   2.4434,  34.1107,2,  34.1114,2,  54.0000,2,    52.5,1,  137.07,2,   41.54,2,    0.00,2,    3.09,2, -999.00,   2.4006
90CI20000602,     ------,      30,          1,          6,          6,2,20000613,       1805,  48.580000,149.6783333,       1620,   807.0,   2.4417,  34.1988,2,  34.1996,2,  40.3000,2,    43.6,1,  147.25,2,   41.88,2,    0.00,2,    3.12,2, -999.00,   2.3922
90CI20000602,     ------,      30,          1,          5,          5,2,20000613,       1805,  48.580000,149.6783333,       1620,   907.7,   2.5467,  34.3051,2,  34.3068,2,  35.4000,2,    36.1,1,  150.37,2,   42.67,2,    0.00,2,    3.13,2, -999.00,   2.4893
90CI20000602,     ------,      30,          1,          4,          4,2,20000613,       1805,  48.580000,149.6783333,       1620,  1011.2,   2.4599,  34.3668,2,  34.3679,2,  36.5000,2,    35.4,1,  157.46,2,   42.62,2,    0.00,2,    3.13,2, -999.00,   2.3957
90CI20000602,     ------,      30,          1,          3,          3,2,20000613,       1805,  48.580000,149.6783333,       1620,  1213.4,   2.1963,  34.4500,2,  34.4509,2,  46.0000,2,    46.7,1,  165.37,2,   41.97,2,    0.00,2,    3.08,2, -999.00,   2.1196
90CI20000602,     ------,      30,          1,          2,          2,2,20000613,       1805,  48.580000,149.6783333,       1620,  1415.2,   2.1486,  34.4992,2,  34.5007,2,  51.6000,2,    51.7,1,  164.76,2,   41.87,2,    0.00,2,    3.04,2, -999.00,   2.0573
90CI20000602,     ------,      30,          1,          1,          1,2,20000613,       1805,  48.580000,149.6783333,       1620,  1590.1,   2.0851,  34.5200,2,  34.5215,2,  55.9000,2,    55.9,1,  169.33,2,   41.48,2,    0.00,2,    3.04,2, -999.00,   1.9810
90CI20000602,     ------,      31,          1,         20,         20,2,20000614,       0604,  49.505000,147.4950000,       1251,     3.5,   3.4745,  32.3253,2,  32.3259,2, 353.3000,2,   354.1,1,   18.20,2,    6.12,2,    0.10,2,    0.77,2, -999.00,   3.4743
90CI20000602,     ------,      31,          1,         19,         19,2,20000614,       0604,  49.505000,147.4950000,       1251,     9.7,   3.0305,  32.3529,2,  32.3504,2, 357.8000,2,   358.3,1,   18.19,2,    5.88,2,    0.10,2,    0.76,2, -999.00,   3.0300
90CI20000602,     ------,      31,          1,         18,         18,2,20000614,       0604,  49.505000,147.4950000,       1251,    27.9,   2.9249,  32.3709,2,  32.3729,2, 357.5000,2,   359.2,1,   18.17,2,    5.93,2,    0.10,2,    0.76,2, -999.00,   2.9234
90CI20000602,     ------,      31,          1,         17,         17,2,20000614,       0604,  49.505000,147.4950000,       1251,    48.2,   1.8255,  32.6217,2,  32.6238,2, 365.7000,2,   358.4,1,   18.92,2,   10.93,2,    0.12,2,    1.13,2, -999.00,   1.8232
90CI20000602,     ------,      31,          1,         16,         16,2,20000614,       0604,  49.505000,147.4950000,       1251,    74.1,  -1.2215,  32.8619,2,  32.8582,2, 357.4000,2,   339.0,1,   30.37,2,   18.74,2,    0.13,2,    1.67,2, -999.00,  -1.2231
90CI20000602,     ------,      31,          1,         15,         15,2,20000614,       0604,  49.505000,147.4950000,       1251,    98.6,  -1.1831,  32.9481,2,  32.9461,2, 331.4000,2,   327.5,1,   33.22,2,   20.40,2,    0.04,2,    1.76,2, -999.00,  -1.1853
90CI20000602,     ------,      31,          1,         14,         14,2,20000614,       0604,  49.505000,147.4950000,       1251,   124.9,  -0.5326,  33.0498,2,  33.0491,2, 287.2000,2,   303.6,1,   38.74,2,   22.31,2,    0.03,2,    1.89,2, -999.00,  -0.5362
90CI20000602,     ------,      31,          1,         13,         13,2,20000614,       0604,  49.505000,147.4950000,       1251,   150.1,   0.3106,  33.1743,2,  33.1695,2, 271.6000,2,   267.1,1,   46.19,2,   24.94,2,    0.02,2,    2.07,2, -999.00,   0.3052
90CI20000602,     ------,      31,          1,         12,         12,2,20000614,       0604,  49.505000,147.4950000,       1251,   199.3,   0.4682,  33.2607,2,  33.2629,2, 235.3000,2,   238.7,1,   53.63,2,   27.47,2,    0.02,2,    2.26,2, -999.00,   0.4606
90CI20000602,     ------,      31,          1,         11,         11,2,20000614,       0604,  49.505000,147.4950000,       1251,   250.7,   0.9895,  33.3775,2,  33.3732,2, 193.5000,2,   197.7,1,   63.57,2,   30.83,2,    0.02,2,    2.50,2, -999.00,   0.9786
90CI20000602,     ------,      31,          1,         10,         10,2,20000614,       0604,  49.505000,147.4950000,       1251,   302.0,   1.1737,  33.4702,2,  33.4704,2, 171.5000,2,   173.9,1,   71.79,2,   32.20,2,    0.05,2,    2.61,2, -999.00,   1.1600
90CI20000602,     ------,      31,          1,          9,          9,2,20000614,       0604,  49.505000,147.4950000,       1251,   399.2,   1.3142,  33.5890,2,  33.5881,2, 150.6000,2,   148.1,1,   83.67,2,   34.22,2,    0.01,2,    2.74,2, -999.00,   1.2951
90CI20000602,     ------,      31,          1,          8,          8,2,20000614,       0604,  49.505000,147.4950000,       1251,   503.2,   1.7735,  33.7965,2,  33.7957,2, 118.3000,2,   113.9,1,  104.06,2,   36.46,2,    0.00,2,    2.83,2, -999.00,   1.7469
90CI20000602,     ------,      31,          1,          7,          7,2,20000614,       0604,  49.505000,147.4950000,       1251,   601.9,   2.2289,  33.9753,2,  33.9744,2,  76.1000,2,    74.6,1,  124.39,2,   39.83,2,    0.00,2,    2.99,2, -999.00,   2.1942
90CI20000602,     ------,      31,          1,          6,          6,2,20000614,       0604,  49.505000,147.4950000,       1251,   705.0,   2.3285,  34.1191,2,  34.1180,2,  51.5000,2,    49.2,1,  145.68,2,   41.55,2,    0.00,2,    3.12,2, -999.00,   2.2865
90CI20000602,     ------,      31,          1,          5,          5,2,20000614,       0604,  49.505000,147.4950000,       1251,   805.9,   2.3490,  34.1829,2,  34.1826,2,  42.9000,2,    42.5,1,  155.13,2,   41.84,2,    0.00,2,    3.15,2, -999.00,   2.3001
90CI20000602,     ------,      31,          1,          4,          4,2,20000614,       0604,  49.505000,147.4950000,       1251,   907.9,   2.3813,  34.2575,2,  34.2566,2,  36.8000,2,    35.7,1,  163.24,2,   42.09,2,    0.00,2,    3.17,2, -999.00,   2.3251
90CI20000602,     ------,      31,          1,          3,          3,2,20000614,       0604,  49.505000,147.4950000,       1251,  1043.4,   2.3811,  34.3368,2,  34.3355,2,  30.7000,2,    30.4,1,  176.01,2,   42.48,2,    0.00,2,    3.19,2, -999.00,   2.3153
90CI20000602,     ------,      31,          1,          2,          2,2,20000614,       0604,  49.505000,147.4950000,       1251,  1211.7,   2.3185,  34.4205,2,  34.4197,2,  38.5000,2,    38.5,1,  170.17,2,   42.33,2,    0.00,2,    3.12,2, -999.00,   2.2409
90CI20000602,     ------,      31,          1,          1,          1,2,20000614,       0604,  49.505000,147.4950000,       1251,  1228.1,   2.3176,  34.4212,2,  34.4199,2,  38.2000,2,    38.6,1,  169.96,2,   42.38,2,    0.00,2,    3.13,2, -999.00,   2.2388