BOTTLE,20121207CCHSIOMYS
EXPOCODE,SECT_ID,STNNBR,CASTNO,SAMPNO,BTLNBR,BTLNBR_FLAG_W,DATE,TIME,LATITUDE,LONGITUDE,DEPTH,CTDPRS,CTDTMP,CTDSAL,CTDSAL_FLAG_W,SALNTY,SALNTY_FLAG_W,CTDOXY,CTDOXY_FLAG_W,OXYGEN,OXYGEN_FLAG_W,SILCAT,SILCAT_FLAG_W,NITRAT,NITRAT_FLAG_W,NITRIT,NITRIT_FLAG_W,PHSPHT,PHSPHT_FLAG_W,CTDRAW,THETA
,,,,,,,,,,,,DBAR,ITS-90,PSS-78,,PSS-78,,UMOL/KG,,UMOL/KG,,UMOL/KG,,UMOL/KG,,UMOL/KG,,UMOL/KG,,DBAR,DEG C
90CI20000602,     ------,      13,          1,         24,         24,2,20000610,       1559,  46.415000,149.6150000,       3292,     3.6,   3.1589,  32.5024,2,  32.5059,2, 353.7000,2,   357.8,1,   24.10,2,    9.78,2,    0.13,2,    1.01,2, -999.00,   3.1587
90CI20000602,     ------,      13,          1,         23,         23,2,20000610,       1559,  46.415000,149.6150000,       3292,    10.1,   2.8627,  32.5056,2,  32.5112,2, 348.1000,2,   358.3,1,   24.09,2,    9.88,2,    0.13,2,    1.04,2, -999.00,   2.8621
90CI20000602,     ------,      13,          1,         22,         22,2,20000610,       1559,  46.415000,149.6150000,       3292,    28.9,   2.7539,  32.5126,2,  32.5225,2, 341.0000,2,   351.8,1,   24.45,2,   10.73,2,    0.13,2,    1.09,2, -999.00,   2.7523
90CI20000602,     ------,      13,          1,         21,         21,2,20000610,       1559,  46.415000,149.6150000,       3292,    50.4,   0.5010,  32.6873,2,  32.6837,2, 339.7000,2,   341.2,1,   29.59,2,   15.63,2,    0.22,2,    1.42,2, -999.00,   0.4992
90CI20000602,     ------,      13,          1,         20,         20,2,20000610,       1559,  46.415000,149.6150000,       3292,    75.1,   0.2632,  32.8108,2,  32.8165,2, 330.7000,2,   324.1,1,   34.35,2,   18.52,2,    0.20,2,    1.61,2, -999.00,   0.2606
90CI20000602,     ------,      13,          1,         19,         19,2,20000610,       1559,  46.415000,149.6150000,       3292,    99.8,   0.2483,  32.8861,2,  32.8994,2, 317.9000,2,   314.1,1,   37.20,2,   19.93,2,    0.16,2,    1.70,2, -999.00,   0.2449
90CI20000602,     ------,      13,          1,         18,         18,2,20000610,       1559,  46.415000,149.6150000,       3292,   125.9,   0.3257,  32.9675,2,  32.9688,2, 306.5000,2,   305.8,1,   40.06,2,   21.28,2,    0.08,2,    1.78,2, -999.00,   0.3212
90CI20000602,     ------,      13,          1,         17,         17,2,20000610,       1559,  46.415000,149.6150000,       3292,   149.9,   0.3478,  33.0004,2,  33.0025,2, 304.1000,2,   300.9,1,   41.19,2,   21.83,2,    0.06,2,    1.82,2, -999.00,   0.3424
90CI20000602,     ------,      13,          1,         16,         16,2,20000610,       1559,  46.415000,149.6150000,       3292,   202.0,   0.5479,  33.0712,2,  33.0788,2, 283.5000,2,   287.8,1,   44.42,2,   23.21,2,    0.05,2,    1.90,2, -999.00,   0.5401
90CI20000602,     ------,      13,          1,         15,         15,2,20000610,       1559,  46.415000,149.6150000,       3292,   251.5,   0.8510,  33.1625,2,  33.1650,2, 275.5000,2,   273.2,1,   49.57,2,   24.82,2,    0.05,2,    2.01,2, -999.00,   0.8405
90CI20000602,     ------,      13,          1,         14,         14,2,20000610,       1559,  46.415000,149.6150000,       3292,   301.8,   1.0598,  33.2329,2,  33.2381,2, 257.0000,2,   256.0,1,   54.72,2,   26.62,2,    0.16,2,    2.14,2, -999.00,   1.0464
90CI20000602,     ------,      13,          1,         13,         13,2,20000610,       1559,  46.415000,149.6150000,       3292,   403.0,   1.2484,  33.3352,2,  33.3401,2, 225.4000,2,   227.0,1,   60.83,2,   28.82,2,    0.01,2,    2.29,2, -999.00,   1.2295
90CI20000602,     ------,      13,          1,         12,         12,2,20000610,       1559,  46.415000,149.6150000,       3292,   505.4,   1.6417,  33.5057,2,  33.5114,2, 183.0000,2,   178.2,1,   73.47,2,   32.13,2,    0.00,2,    2.51,2, -999.00,   1.6158
90CI20000602,     ------,      13,          1,         11,         11,2,20000610,       1559,  46.415000,149.6150000,       3292,   605.0,   1.9326,  33.6671,2,  33.6725,2, 139.2000,2,   138.2,1,   86.90,2,   35.11,2,    0.00,2,    2.68,2, -999.00,   1.8995
90CI20000602,     ------,      13,          1,         10,         10,2,20000610,       1559,  46.415000,149.6150000,       3292,   706.7,   1.9496,  33.8041,2,  33.8095,2, 114.2000,2,   113.3,1,  103.85,2,   36.57,2,    0.00,2,    2.81,2, -999.00,   1.9101
90CI20000602,     ------,      13,          1,          9,          9,2,20000610,       1559,  46.415000,149.6150000,       3292,   807.1,   2.1305,  33.9494,2,  33.9557,2,  87.3000,2,    86.2,1,  121.09,2,   38.61,2,    0.00,2,    2.94,2, -999.00,   2.0832
90CI20000602,     ------,      13,          1,          8,          8,2,20000610,       1559,  46.415000,149.6150000,       3292,  1009.4,   2.3166,  34.1593,2,  34.1657,2,  56.5000,2,    57.0,1,  143.54,2,   41.05,2,    0.00,2,    3.06,2, -999.00,   2.2540
90CI20000602,     ------,      13,          1,          7,          7,2,20000610,       1559,  46.415000,149.6150000,       3292,  1210.8,   2.2301,  34.3472,2,  34.3537,2,  49.9000,2,    49.4,1,  160.31,2,   41.84,2,    0.00,2,    3.09,2, -999.00,   2.1535
90CI20000602,     ------,      13,          1,          6,          6,2,20000610,       1559,  46.415000,149.6150000,       3292,  1415.5,   2.1451,  34.4441,2,  34.4541,2,  51.7000,2,    51.6,1,  166.46,2,   41.79,2,    0.00,2,    3.07,2, -999.00,   2.0539
90CI20000602,     ------,      13,          1,          5,          5,2,20000610,       1559,  46.415000,149.6150000,       3292,  1618.4,   2.0646,  34.5008,2,  34.5011,2,  56.3000,2,    56.3,1,  169.24,2,   41.49,2,    0.00,2,    3.04,2, -999.00,   1.9587
90CI20000602,     ------,      13,          1,          4,          4,2,20000610,       1559,  46.415000,149.6150000,       3292,  2025.8,   1.9620,  34.5500,2,  34.5498,2,  66.2000,2,    65.6,1,  172.63,2,   41.00,2,    0.00,2,    2.99,2, -999.00,   1.8243
90CI20000602,     ------,      13,          1,          3,          3,2,20000610,       1559,  46.415000,149.6150000,       3292,  2534.8,   1.8649,  34.5917,2,  34.5910,2,  76.4000,2,    78.1,1,  175.83,2,   40.12,2,    0.00,2,    2.95,2, -999.00,   1.6842
90CI20000602,     ------,      13,          1,          2,          2,2,20000610,       1559,  46.415000,149.6150000,       3292,  3045.9,   1.8635,  34.6055,2,  34.6044,2,  81.4000,2,    81.9,1,  179.65,2,   39.63,2,    0.00,2,    2.95,2, -999.00,   1.6345
90CI20000602,     ------,      13,          1,          1,          1,2,20000610,       1559,  46.415000,149.6150000,       3292,  3294.3,   1.8615,  34.6127,2,  34.6120,2,  87.0000,2,    86.5,1,  178.43,2,   39.49,2,    0.00,2,    2.91,2, -999.00,   1.6079
90CI20000602,     ------,      14,          1,         24,         24,2,20000611,       0037,  47.101667,150.5233333,       2347,     2.2,   3.2421,  32.3993,2,  32.3946,2, 363.3000,2,   363.8,1,   20.45,2,    6.45,2,    0.11,2,    0.83,2, -999.00,   3.2420
90CI20000602,     ------,      14,          1,         23,         23,2,20000611,       0037,  47.101667,150.5233333,       2347,     9.9,   3.0314,  32.4013,2,  32.4067,2, 363.8000,2,   364.4,1,   20.24,2,    6.73,2,    0.11,2,    0.85,2, -999.00,   3.0308
90CI20000602,     ------,      14,          1,         22,         22,2,20000611,       0037,  47.101667,150.5233333,       2347,    20.5,   2.7385,  32.4173,2,  32.4165,2, 353.7000,2,   359.2,1,   20.41,2,    7.43,2,    0.11,2,    0.88,2, -999.00,   2.7373
90CI20000602,     ------,      14,          1,         21,         21,2,20000611,       0037,  47.101667,150.5233333,       2347,    29.6,   1.9370,  32.4691,2,  32.4635,2, 351.1000,2,   356.2,1,   21.73,2,    9.19,2,    0.12,2,    1.01,2, -999.00,   1.9355
90CI20000602,     ------,      14,          1,         20,         20,2,20000611,       0037,  47.101667,150.5233333,       2347,    49.0,  -0.2751,  32.7013,2,  32.6843,2, 348.2000,2,   342.9,1,   28.20,2,   15.96,2,    0.18,2,    1.46,2, -999.00,  -0.2766
90CI20000602,     ------,      14,          1,         19,         19,2,20000611,       0037,  47.101667,150.5233333,       2347,    74.5,  -0.8950,  32.8393,2,  32.8406,2, 336.9000,2,   332.4,1,   30.28,2,   18.49,2,    0.08,2,    1.64,2, -999.00,  -0.8969
90CI20000602,     ------,      14,          1,         18,         18,2,20000611,       0037,  47.101667,150.5233333,       2347,    99.4,  -0.9850,  32.9127,2,  32.9000,2, 329.4000,2,   330.5,1,   31.78,2,   19.42,2,    0.04,2,    1.72,2, -999.00,  -0.9874
90CI20000602,     ------,      14,          1,         17,         17,2,20000611,       0037,  47.101667,150.5233333,       2347,   125.3,  -0.7019,  32.9691,2,  32.9690,2, 316.3000,2,   319.1,1,   34.43,2,   20.26,2,    0.04,2,    1.77,2, -999.00,  -0.7053
90CI20000602,     ------,      14,          1,         16,         16,2,20000611,       0037,  47.101667,150.5233333,       2347,   148.9,  -0.3646,  33.0186,2,  33.0156,2, 303.1000,2,   309.6,1,   36.90,2,   20.96,2,    0.04,2,    1.81,2, -999.00,  -0.3692
90CI20000602,     ------,      14,          1,         15,         15,2,20000611,       0037,  47.101667,150.5233333,       2347,   201.0,  -0.0930,  33.1382,2,  33.1365,2, 264.5000,2,   279.7,1,   43.75,2,   23.88,2,    0.03,2,    2.02,2, -999.00,  -0.0997
90CI20000602,     ------,      14,          1,         14,         14,2,20000611,       0037,  47.101667,150.5233333,       2347,   251.2,   0.6676,  33.2575,2,  33.2606,2, 243.1000,2,   242.6,1,   51.18,2,   26.34,2,    0.06,2,    2.19,2, -999.00,   0.6574
90CI20000602,     ------,      14,          1,         13,         13,2,20000611,       0037,  47.101667,150.5233333,       2347,   300.7,   0.8667,  33.3143,2,  33.3133,2, 217.5000,2,   223.5,1,   57.46,2,   28.66,2,    0.05,2,    2.34,2, -999.00,   0.8539
90CI20000602,     ------,      14,          1,         12,         12,2,20000611,       0037,  47.101667,150.5233333,       2347,   402.6,   1.1035,  33.4263,2,  33.4279,2, 189.3000,2,   194.2,1,   65.67,2,   30.22,2,    0.01,2,    2.47,2, -999.00,   1.0851
90CI20000602,     ------,      14,          1,         11,         11,2,20000611,       0037,  47.101667,150.5233333,       2347,   504.0,   1.5695,  33.6440,2,  33.6426,2, 165.4000,2,   153.2,1,   83.07,2,   32.78,2,    0.01,2,    2.61,2, -999.00,   1.5438
90CI20000602,     ------,      14,          1,         10,         10,2,20000611,       0037,  47.101667,150.5233333,       2347,   605.5,   1.8409,  33.7850,2,  33.7850,2, 130.4000,2,   118.8,1,  100.54,2,   35.74,2,    0.01,2,    2.80,2, -999.00,   1.8081
90CI20000602,     ------,      14,          1,          9,          9,2,20000611,       0037,  47.101667,150.5233333,       2347,   705.9,   2.0043,  33.8800,2,  33.8788,2, 100.9000,2,    96.6,1,  113.25,2,   37.43,2,    0.00,2,    2.91,2, -999.00,   1.9643
90CI20000602,     ------,      14,          1,          8,          8,2,20000611,       0037,  47.101667,150.5233333,       2347,   807.6,   2.3077,  34.0850,2,  34.0865,2,  65.6000,2,    63.6,1,  134.98,2,   40.23,2,    0.00,2,    3.06,2, -999.00,   2.2591
90CI20000602,     ------,      14,          1,          7,          7,2,20000611,       0037,  47.101667,150.5233333,       2347,  1010.6,   2.3680,  34.2534,2,  34.2551,2,  46.7000,2,    46.5,1,  151.03,2,   41.63,2,    0.00,2,    3.12,2, -999.00,   2.3048
90CI20000602,     ------,      14,          1,          6,          6,2,20000611,       0037,  47.101667,150.5233333,       2347,  1212.3,   2.2798,  34.3871,2,  34.3875,2,  43.4000,2,    45.2,1,  160.68,2,   41.92,2,    0.00,2,    3.12,2, -999.00,   2.2025
90CI20000602,     ------,      14,          1,          5,          5,2,20000611,       0037,  47.101667,150.5233333,       2347,  1417.7,   2.1626,  34.4638,2,  34.4643,2,  49.9000,2,    51.1,1,  164.62,2,   41.62,2,    0.00,2,    3.08,2, -999.00,   2.0711
90CI20000602,     ------,      14,          1,          4,          4,2,20000611,       0037,  47.101667,150.5233333,       2347,  1618.9,   2.0619,  34.5111,2,  34.5103,2,  56.8000,2,    58.0,1,  167.57,2,   41.12,2,    0.00,2,    3.06,2, -999.00,   1.9559
90CI20000602,     ------,      14,          1,          3,          3,2,20000611,       0037,  47.101667,150.5233333,       2347,  1822.0,   2.0260,  34.5296,2,  34.5295,2,  61.9000,2,    62.2,1,  167.95,2,   40.97,2,    0.00,2,    3.03,2, -999.00,   1.9042
90CI20000602,     ------,      14,          1,          2,          2,2,20000611,       0037,  47.101667,150.5233333,       2347,  2026.9,   1.9441,  34.5566,2,  34.5564,2,  69.0000,2,    68.5,1,  171.31,2,   40.29,2,    0.00,2,    3.00,2, -999.00,   1.8065
90CI20000602,     ------,      14,          1,          1,          1,2,20000611,       0037,  47.101667,150.5233333,       2347,  2369.1,   1.8762,  34.5836,2,  34.5830,2,  75.9000,2,    76.3,1,  174.09,2,   39.89,2,    0.00,2,    2.99,2, -999.00,   1.7102
90CI20000602,     ------,      15,          1,          6,          6,2,20000611,       0347,  47.248333,150.7250000,       1259,     9.2,   3.0676,  32.4095,2,  32.4145,2, 357.0000,2,   364.0,1, -999.00,9, -999.00,9, -999.00,9, -999.00,9, -999.00,   3.0670
90CI20000602,     ------,      15,          1,          5,          5,2,20000611,       0347,  47.248333,150.7250000,       1259,   300.5,   1.2201,  33.3928,2,  33.3926,2, 206.0000,2,   206.2,1, -999.00,9, -999.00,9, -999.00,9, -999.00,9, -999.00,   1.2063
90CI20000602,     ------,      15,          1,          4,          4,2,20000611,       0347,  47.248333,150.7250000,       1259,   704.5,   2.1806,  33.9964,2,  33.9949,2,  74.6000,2,    74.3,1, -999.00,9, -999.00,9, -999.00,9, -999.00,9, -999.00,   2.1397
90CI20000602,     ------,      15,          1,          3,          3,2,20000611,       0347,  47.248333,150.7250000,       1259,  1009.9,   2.3425,  34.2700,2,  34.2704,2,  42.8000,2,    42.7,1, -999.00,9, -999.00,9, -999.00,9, -999.00,9, -999.00,   2.2795
90CI20000602,     ------,      15,          1,          2,          2,2,20000611,       0347,  47.248333,150.7250000,       1259,  1110.5,   2.3141,  34.3368,2,  34.3394,2,  42.7000,2,    43.2,1, -999.00,9, -999.00,9, -999.00,9, -999.00,9, -999.00,   2.2441
90CI20000602,     ------,      15,          1,          1,          1,2,20000611,       0347,  47.248333,150.7250000,       1259,  1251.2,   2.2104,  34.4294,2,  34.4278,2,  48.5000,2,    48.6,1, -999.00,9, -999.00,9, -999.00,9, -999.00,9, -999.00,   2.1309