BOTTLE,20121207CCHSIOMYS
EXPOCODE,SECT_ID,STNNBR,CASTNO,SAMPNO,BTLNBR,BTLNBR_FLAG_W,DATE,TIME,LATITUDE,LONGITUDE,DEPTH,CTDPRS,CTDTMP,CTDSAL,CTDSAL_FLAG_W,SALNTY,SALNTY_FLAG_W,CTDOXY,CTDOXY_FLAG_W,OXYGEN,OXYGEN_FLAG_W,SILCAT,SILCAT_FLAG_W,NITRAT,NITRAT_FLAG_W,NITRIT,NITRIT_FLAG_W,PHSPHT,PHSPHT_FLAG_W,CTDRAW,THETA
,,,,,,,,,,,,DBAR,ITS-90,PSS-78,,PSS-78,,UMOL/KG,,UMOL/KG,,UMOL/KG,,UMOL/KG,,UMOL/KG,,UMOL/KG,,DBAR,DEG C
90CI20000602,     ------,      88,          1,          3,          3,2,20000625,       2225,  55.188333,142.4550000,        140,    18.7,   0.9343,  32.5439,2,  32.4935,2, 485.8000,2,   475.2,1, -999.00,9, -999.00,9, -999.00,9, -999.00,9, -999.00,   0.9336
90CI20000602,     ------,      88,          1,          2,          2,2,20000625,       2225,  55.188333,142.4550000,        140,    45.0,  -1.1985,  33.1608,2,  33.1597,2, 277.5000,2,   279.4,1, -999.00,9, -999.00,9, -999.00,9, -999.00,9, -999.00,  -1.1995
90CI20000602,     ------,      88,          1,          1,          1,2,20000625,       2225,  55.188333,142.4550000,        140,   136.8,  -1.7352,  33.4079,2,  33.4075,2, 316.3000,2,   321.3,1,   40.64,2,   18.14,2,    0.16,2,    1.99,2, -999.00,  -1.7378
90CI20000602,     ------,      89,          1,         12,         12,2,20000626,       0101,  55.368333,142.8483333,        203,     3.1,   7.9516,  29.2545,2,  29.3367,2, 320.6000,2,   323.1,1,    2.16,2,    0.21,2,    0.00,2,    0.07,2, -999.00,   7.9513
90CI20000602,     ------,      89,          1,         11,         11,2,20000626,       0101,  55.368333,142.8483333,        203,     8.9,   3.3068,  31.3482,2,  31.2160,2, 378.3000,2,   409.4,1,    0.75,2,    0.15,2,    0.01,2,    0.13,2, -999.00,   3.3063
90CI20000602,     ------,      89,          1,         10,         10,2,20000626,       0101,  55.368333,142.8483333,        203,    18.4,   0.6178,  32.4349,2,  32.3814,2, 403.9000,2,   399.9,1,    1.54,2,    6.30,2,    0.08,2,    0.75,2, -999.00,   0.6171
90CI20000602,     ------,      89,          1,          9,          9,2,20000626,       0101,  55.368333,142.8483333,        203,    28.5,  -0.4847,  32.7822,2,  32.7652,2, 347.8000,2,   337.6,1,   17.08,2,   15.73,2,    0.10,2,    1.46,2, -999.00,  -0.4855
90CI20000602,     ------,      89,          1,          8,          8,2,20000626,       0101,  55.368333,142.8483333,        203,    49.3,  -0.8170,  32.9110,2,  32.9092,2, 310.9000,2,   317.8,1,   30.22,2,   20.29,2,    0.11,2,    1.79,2, -999.00,  -0.8183
90CI20000602,     ------,      89,          1,          7,          7,2,20000626,       0101,  55.368333,142.8483333,        203,    74.1,  -0.9127,  33.0383,2,  33.0387,2, 291.4000,2,   295.0,1,   44.36,2,   24.50,2,    0.09,2,    2.07,2, -999.00,  -0.9145
90CI20000602,     ------,      89,          1,          6,          6,2,20000626,       0101,  55.368333,142.8483333,        203,    99.0,  -0.5106,  33.1365,2,  33.1322,2, 265.4000,2,   271.0,1,   53.51,2,   27.28,2,    0.08,2,    2.26,2, -999.00,  -0.5134
90CI20000602,     ------,      89,          1,          5,          5,2,20000626,       0101,  55.368333,142.8483333,        203,   123.9,  -0.9578,  33.1652,2,  33.1641,2, 266.1000,2,   269.5,1,   56.69,2,   27.40,2,    0.05,2,    2.39,2, -999.00,  -0.9609
90CI20000602,     ------,      89,          1,          4,          4,2,20000626,       0101,  55.368333,142.8483333,        203,   149.2,  -0.8265,  33.2061,2,  33.2035,2, 244.3000,2,   248.2,1,   61.46,2,   28.17,2,    0.04,2,    2.49,2, -999.00,  -0.8305
90CI20000602,     ------,      89,          1,          3,          3,2,20000626,       0101,  55.368333,142.8483333,        203,   170.1,  -0.4028,  33.2681,2,  33.2632,2, 229.3000,2,   228.4,1,   66.43,2,   29.44,2,    0.05,2,    2.56,2, -999.00,  -0.4080
90CI20000602,     ------,      89,          1,          2,          2,2,20000626,       0101,  55.368333,142.8483333,        203,   187.2,  -1.5106,  33.4123,2,  33.4100,2, 297.7000,2,   304.3,1,   45.47,2,   19.77,2,    0.13,2,    2.07,2, -999.00,  -1.5146
90CI20000602,     ------,      89,          1,          1,          1,2,20000626,       0101,  55.368333,142.8483333,        203,   196.8,  -1.5260,  33.4103,2,  33.4114,2, 297.6000,2,   304.7,1,   44.86,2,   19.72,2,    0.13,2,    2.07,2, -999.00,  -1.5302
90CI20000602,     ------,      90,          1,         12,         12,2,20000626,       0217,  55.393333,142.9066667,        310,     2.8,   7.8826,  29.3752,2,  29.3782,2, 319.8000,2,   322.0,1,    1.98,2,    0.00,2,    0.00,2,    0.06,2, -999.00,   7.8824
90CI20000602,     ------,      90,          1,         11,         11,2,20000626,       0217,  55.393333,142.9066667,        310,     8.4,   5.8389,  30.1680,2,  29.8696,2, 335.0000,2,   345.2,1,    1.60,2,    0.00,2,    0.00,2,    0.06,2, -999.00,   5.8382
90CI20000602,     ------,      90,          1,         10,         10,2,20000626,       0217,  55.393333,142.9066667,        310,    18.4,   0.5838,  32.4316,2,  32.4236,2, 394.7000,2,   382.0,1,    2.42,2,    7.53,2,    0.08,2,    0.85,2, -999.00,   0.5832
90CI20000602,     ------,      90,          1,          9,          9,2,20000626,       0217,  55.393333,142.9066667,        310,    27.8,  -0.5637,  32.7833,2,  32.7833,2, 328.6000,2,   334.6,1,   19.16,2,   16.43,2,    0.10,2,    1.52,2, -999.00,  -0.5644
90CI20000602,     ------,      90,          1,          8,          8,2,20000626,       0217,  55.393333,142.9066667,        310,    49.8,  -0.4690,  33.0066,2,  33.0060,2, 293.0000,2,   294.3,1,   43.65,2,   23.65,2,    0.09,2,    2.00,2, -999.00,  -0.4704
90CI20000602,     ------,      90,          1,          7,          7,2,20000626,       0217,  55.393333,142.9066667,        310,    73.4,  -0.0942,  33.1105,2,  33.1104,2, 254.4000,2,   269.5,1,   51.22,2,   26.60,2,    0.07,2,    2.18,2, -999.00,  -0.0965
90CI20000602,     ------,      90,          1,          6,          6,2,20000626,       0217,  55.393333,142.9066667,        310,    98.6,  -0.1465,  33.1413,2,  33.1386,2, 259.8000,2,   264.0,1,   53.61,2,   27.26,2,    0.06,2,    2.24,2, -999.00,  -0.1497
90CI20000602,     ------,      90,          1,          5,          5,2,20000626,       0217,  55.393333,142.9066667,        310,   124.2,  -0.1697,  33.1821,2,  33.1811,2, 247.4000,2,   254.1,1,   57.60,2,   28.44,2,    0.06,2,    2.35,2, -999.00,  -0.1737
90CI20000602,     ------,      90,          1,          4,          4,2,20000626,       0217,  55.393333,142.9066667,        310,   149.8,  -0.1424,  33.2065,2,  33.2049,2, 236.0000,2,   246.6,1,   60.39,2,   29.09,2,    0.07,2,    2.40,2, -999.00,  -0.1473
90CI20000602,     ------,      90,          1,          3,          3,2,20000626,       0217,  55.393333,142.9066667,        310,   200.4,   0.0175,  33.2491,2,  33.2483,2, 223.6000,2,   231.7,1,   64.77,2,   29.97,2,    0.04,2,    2.48,2, -999.00,   0.0106
90CI20000602,     ------,      90,          1,          2,          2,2,20000626,       0217,  55.393333,142.9066667,        310,   247.0,   0.7306,  33.3974,2,  33.3961,2, 178.0000,2,   184.7,1,   75.71,2,   32.05,2,    0.05,2,    2.67,2, -999.00,   0.7204
90CI20000602,     ------,      90,          1,          1,          1,2,20000626,       0217,  55.393333,142.9066667,        310,   297.9,  -0.7190,  33.4049,2,  33.4049,2, 247.0000,2,   260.7,1,   57.02,2,   24.24,2,    0.09,2,    2.29,2, -999.00,  -0.7277
90CI20000602,     ------,      91,          1,          4,          4,2,20000626,       0314,  55.411667,142.9500000,        407,     4.6,   7.8441,  29.3091,2,  29.4783,2, 331.1000,2,   333.3,1, -999.00,9, -999.00,9, -999.00,9, -999.00,9, -999.00,   7.8436
90CI20000602,     ------,      91,          1,          3,          3,2,20000626,       0314,  55.411667,142.9500000,        407,    16.7,   3.2375,  31.4427,2,  31.5053,2, 435.5000,2,   422.7,1, -999.00,9, -999.00,9, -999.00,9, -999.00,9, -999.00,   3.2366
90CI20000602,     ------,      91,          1,          2,          2,2,20000626,       0314,  55.411667,142.9500000,        407,   277.1,   0.9977,  33.3988,2,  33.3977,2, 172.4000,2,   170.5,1, -999.00,9, -999.00,9, -999.00,9, -999.00,9, -999.00,   0.9855
90CI20000602,     ------,      91,          1,          1,          1,2,20000626,       0314,  55.411667,142.9500000,        407,   390.4,  -1.1278,  33.4108,2,  33.4092,2, 282.1000,2,   283.0,1,   51.46,2,   21.87,2,    0.10,2,    2.17,2, -999.00,  -1.1382
90CI20000602,     ------,      92,          1,          3,          3,2,20000626,       0440,  55.490000,143.1366667,        397,     3.6,   5.7395,  30.6142,2,  30.6521,2, 366.1000,2,   375.7,1, -999.00,9, -999.00,9, -999.00,9, -999.00,9, -999.00,   5.7392
90CI20000602,     ------,      92,          1,          2,          2,2,20000626,       0440,  55.490000,143.1366667,        397,    17.1,   3.0061,  31.7335,2,  31.7219,2, 409.9000,2,   409.8,1, -999.00,9, -999.00,9, -999.00,9, -999.00,9, -999.00,   3.0051
90CI20000602,     ------,      92,          1,          1,          1,4,20000626,       0440,  55.490000,143.1366667,        397,   384.1,   1.2254,  33.4839,2,  31.7198,4, 130.9000,2,   409.4,4,    1.25,2,    1.29,2,    0.04,2,    0.26,2, -999.00,   1.2074
90CI20000602,     ------,      93,          1,          4,          4,2,20000626,       0647,  55.295000,143.1550000,        231,     3.6,   9.6461,  27.5859,2,  28.0370,2, 351.6000,2,   317.9,1, -999.00,9, -999.00,9, -999.00,9, -999.00,9, -999.00,   9.6457
90CI20000602,     ------,      93,          1,          3,          3,2,20000626,       0647,  55.295000,143.1550000,        231,    15.1,   2.1842,  31.8227,2,  31.8834,2, 433.9000,2,   408.6,1, -999.00,9, -999.00,9, -999.00,9, -999.00,9, -999.00,   2.1835
90CI20000602,     ------,      93,          1,          2,          2,2,20000626,       0647,  55.295000,143.1550000,        231,   199.6,   1.1751,  33.4534,2,  33.4557,2, 165.6000,2,   158.4,1, -999.00,9, -999.00,9, -999.00,9, -999.00,9, -999.00,   1.1662
90CI20000602,     ------,      93,          1,          1,          1,2,20000626,       0647,  55.295000,143.1550000,        231,   225.2,  -0.3450,  33.4047,2,  33.4039,2, 240.6000,2,   241.4,1,   61.41,2,   26.00,2,    0.07,2,    2.38,2, -999.00,  -0.3522
90CI20000602,     ------,      94,          1,         11,         11,2,20000626,       0918,  55.000000,143.0000000,        105,     3.3,  10.8903,  24.4067,2,  24.2131,2, 323.3000,2,   312.3,1,    8.53,2,    0.08,2,    0.00,2,    0.01,2, -999.00,  10.8899
90CI20000602,     ------,      94,          1,         10,         10,2,20000626,       0918,  55.000000,143.0000000,        105,     8.1,   4.7767,  30.2758,2,  30.1076,2, 351.8000,2,   385.5,1,    1.51,2,    0.07,2,    0.00,2,    0.06,2, -999.00,   4.7761
90CI20000602,     ------,      94,          1,          9,          9,2,20000626,       0918,  55.000000,143.0000000,        105,    18.1,  -0.1336,  32.5767,2,  32.5868,2, 438.3000,2,   400.5,1,    0.71,2,    1.16,2,    0.04,2,    0.39,2, -999.00,  -0.1341
90CI20000602,     ------,      94,          1,          8,          8,2,20000626,       0918,  55.000000,143.0000000,        105,    27.7,  -1.4599,  33.0274,2,  33.0430,2, 330.0000,2,   318.7,1,   10.83,2,   20.62,2,    0.16,2,    1.88,2, -999.00,  -1.4604
90CI20000602,     ------,      94,          1,          7,          7,2,20000626,       0918,  55.000000,143.0000000,        105,    37.5,  -1.2088,  33.1361,2,  33.1361,2, 316.9000,2,   292.1,1,   35.06,2,   24.01,2,    0.08,2,    2.12,2, -999.00,  -1.2096
90CI20000602,     ------,      94,          1,          6,          6,2,20000626,       0918,  55.000000,143.0000000,        105,    47.5,  -0.9026,  33.1888,2,  33.1848,2, 277.6000,2,   262.6,1,   57.70,2,   27.38,2,    0.03,2,    2.40,2, -999.00,  -0.9038
90CI20000602,     ------,      94,          1,          5,          5,2,20000626,       0918,  55.000000,143.0000000,        105,    57.8,  -1.6605,  33.2248,2,  33.2329,2, 290.1000,2,   313.1,1,   17.75,2,   19.59,2,    0.11,2,    1.85,2, -999.00,  -1.6615
90CI20000602,     ------,      94,          1,          4,          4,2,20000626,       0918,  55.000000,143.0000000,        105,    67.4,  -1.7159,  33.4217,2,  33.4151,2, 317.7000,2,   322.5,1,   35.61,2,   16.56,2,    0.17,2,    1.89,2, -999.00,  -1.7172
90CI20000602,     ------,      94,          1,          3,          3,2,20000626,       0918,  55.000000,143.0000000,        105,    79.2,  -1.7190,  33.4254,2,  33.4227,2, 322.4000,2,   323.5,1,   35.60,2,   16.27,2,    0.17,2,    1.90,2, -999.00,  -1.7204
90CI20000602,     ------,      94,          1,          2,          2,2,20000626,       0918,  55.000000,143.0000000,        105,    87.9,  -1.7178,  33.4252,2,  33.4227,2, 324.3000,2,   322.8,1,   35.59,2,   16.23,2,    0.17,2,    1.86,2, -999.00,  -1.7194
90CI20000602,     ------,      94,          1,          1,          1,2,20000626,       0918,  55.000000,143.0000000,        105,   100.5,  -1.7173,  33.4249,2,  33.4231,2, 320.6000,2,   322.7,1,   35.58,2,   16.28,2,    0.17,2,    1.85,2, -999.00,  -1.7192
90CI20000602,     ------,      95,          1,          4,          4,2,20000626,       1308,  55.155000,143.4466667,        214,     3.2,   6.2330,  29.5318,2,  29.3788,2, 371.7000,2,   367.9,1, -999.00,9, -999.00,9, -999.00,9, -999.00,9, -999.00,   6.2327
90CI20000602,     ------,      95,          1,          3,          3,2,20000626,       1308,  55.155000,143.4466667,        214,    12.3,   2.5636,  31.9665,2,  32.0098,2, 400.6000,2,   408.3,1, -999.00,9, -999.00,9, -999.00,9, -999.00,9, -999.00,   2.5629
90CI20000602,     ------,      95,          1,          2,          2,2,20000626,       1308,  55.155000,143.4466667,        214,   116.7,   0.2960,  33.1878,2,  33.1871,2, 238.6000,2,   242.9,1, -999.00,9, -999.00,9, -999.00,9, -999.00,9, -999.00,   0.2918
90CI20000602,     ------,      95,          1,          1,          1,2,20000626,       1308,  55.155000,143.4466667,        214,   198.5,  -0.6804,  33.2754,2,  33.2727,2, 260.6000,2,   270.2,1, -999.00,9, -999.00,9, -999.00,9, -999.00,9, -999.00,  -0.6861
90CI20000602,     ------,      96,          1,          4,          4,2,20000626,       1344,  55.161667,143.4566667,        363,     3.3,   6.2771,  29.4910,2,  28.2287,2, 286.1000,2,   345.6,1, -999.00,9, -999.00,9, -999.00,9, -999.00,9, -999.00,   6.2768
90CI20000602,     ------,      96,          1,          3,          3,2,20000626,       1344,  55.161667,143.4566667,        363,    13.2,   3.2632,  31.7236,2,  31.7425,2, 406.4000,2,   415.7,1, -999.00,9, -999.00,9, -999.00,9, -999.00,9, -999.00,   3.2625
90CI20000602,     ------,      96,          1,          2,          2,2,20000626,       1344,  55.161667,143.4566667,        363,   115.7,   0.3606,  33.1951,2,  33.1945,2, 235.6000,2,   239.4,1, -999.00,9, -999.00,9, -999.00,9, -999.00,9, -999.00,   0.3564
90CI20000602,     ------,      96,          1,          1,          1,2,20000626,       1344,  55.161667,143.4566667,        363,   338.0,  -0.5645,  33.3820,2,  33.3817,2, 247.6000,2,   248.3,1, -999.00,9, -999.00,9, -999.00,9, -999.00,9, -999.00,  -0.5750
90CI20000602,     ------,      97,          1,          4,          4,2,20000626,       1437,  55.178333,143.4850000,        574,     3.3,   4.7047,  30.7774,2,  31.0996,2, 394.4000,2,   393.0,1, -999.00,9, -999.00,9, -999.00,9, -999.00,9, -999.00,   4.7045
90CI20000602,     ------,      97,          1,          3,          3,2,20000626,       1437,  55.178333,143.4850000,        574,    19.4,   1.6210,  32.3763,2,  32.3760,2, 382.2000,2,   389.6,1, -999.00,9, -999.00,9, -999.00,9, -999.00,9, -999.00,   1.6202
90CI20000602,     ------,      97,          1,          2,          2,2,20000626,       1437,  55.178333,143.4850000,        574,   307.5,   0.3320,  33.4130,2,  33.3985,2, 204.8000,2,   207.7,1, -999.00,9, -999.00,9, -999.00,9, -999.00,9, -999.00,   0.3202
90CI20000602,     ------,      97,          1,          1,          1,2,20000626,       1437,  55.178333,143.4850000,        574,   552.6,  -0.5348,  33.4341,2,  33.4315,2, 249.1000,2,   251.4,1, -999.00,9, -999.00,9, -999.00,9, -999.00,9, -999.00,  -0.5533
90CI20000602,     ------,      98,          1,          4,          4,2,20000626,       1726,  55.053333,143.7000000,        329,     4.0,   7.3934,  29.6723,2,  29.7344,2, 329.8000,2,   331.5,1, -999.00,9, -999.00,9, -999.00,9, -999.00,9, -999.00,   7.3931
90CI20000602,     ------,      98,          1,          3,          3,2,20000626,       1726,  55.053333,143.7000000,        329,    18.2,   2.0454,  32.3923,2,  32.3917,2, 397.2000,2,   390.3,1, -999.00,9, -999.00,9, -999.00,9, -999.00,9, -999.00,   2.0446
90CI20000602,     ------,      98,          1,          2,          2,2,20000626,       1726,  55.053333,143.7000000,        329,   235.2,   0.6059,  33.3374,2,  33.3386,2, 197.8000,2,   201.0,1, -999.00,9, -999.00,9, -999.00,9, -999.00,9, -999.00,   0.5965
90CI20000602,     ------,      98,          1,          1,          1,2,20000626,       1726,  55.053333,143.7000000,        329,   301.0,  -0.9250,  33.3109,2,  33.3101,2, 278.2000,2,   281.4,1, -999.00,9, -999.00,9, -999.00,9, -999.00,9, -999.00,  -0.9332
90CI20000602,     ------,      99,          1,          4,          4,2,20000626,       2006,  54.851667,143.3033333,        109,     2.4,  10.7591,  23.4595,2,  24.0226,2, 313.3000,2,   317.4,1, -999.00,9, -999.00,9, -999.00,9, -999.00,9, -999.00,  10.7589
90CI20000602,     ------,      99,          1,          3,          3,2,20000626,       2006,  54.851667,143.3033333,        109,    10.3,   4.9965,  30.5126,2,  30.8174,2, 356.1000,2,   365.3,1, -999.00,9, -999.00,9, -999.00,9, -999.00,9, -999.00,   4.9958
90CI20000602,     ------,      99,          1,          2,          2,2,20000626,       2006,  54.851667,143.3033333,        109,    79.7,  -0.8006,  33.1971,2,  33.1945,2, 245.0000,2,   249.0,1, -999.00,9, -999.00,9, -999.00,9, -999.00,9, -999.00,  -0.8027
90CI20000602,     ------,      99,          1,          1,          1,2,20000626,       2006,  54.851667,143.3033333,        109,   106.1,  -1.4863,  33.2843,2,  33.2828,2, 299.0000,2,   302.4,1, -999.00,9, -999.00,9, -999.00,9, -999.00,9, -999.00,  -1.4885
90CI20000602,     ------,     100,          1,          4,          4,2,20000626,       2222,  54.925000,143.8066667,        207,     2.3,   7.8361,  29.3237,2,  29.3505,2, 283.3000,2,   324.3,1, -999.00,9, -999.00,9, -999.00,9, -999.00,9, -999.00,   7.8359
90CI20000602,     ------,     100,          1,          3,          3,2,20000626,       2222,  54.925000,143.8066667,        207,    28.2,   2.3214,  32.3506,2,  32.3880,2, 405.8000,2,   391.0,1, -999.00,9, -999.00,9, -999.00,9, -999.00,9, -999.00,   2.3200
90CI20000602,     ------,     100,          1,          2,          2,2,20000626,       2222,  54.925000,143.8066667,        207,   143.0,   0.4636,  33.2458,2,  33.2536,2, 244.7000,2,   226.8,1, -999.00,9, -999.00,9, -999.00,9, -999.00,9, -999.00,   0.4582
90CI20000602,     ------,     100,          1,          1,          1,2,20000626,       2222,  54.925000,143.8066667,        207,   197.0,  -1.1011,  33.3388,2,  33.3285,2, 295.3000,2,   283.0,1, -999.00,9, -999.00,9, -999.00,9, -999.00,9, -999.00,  -1.1060