BOTTLE,20121207CCHSIOMYS
EXPOCODE,SECT_ID,STNNBR,CASTNO,SAMPNO,BTLNBR,BTLNBR_FLAG_W,DATE,TIME,LATITUDE,LONGITUDE,DEPTH,CTDPRS,CTDTMP,CTDSAL,CTDSAL_FLAG_W,SALNTY,SALNTY_FLAG_W,CTDOXY,CTDOXY_FLAG_W,OXYGEN,OXYGEN_FLAG_W,SILCAT,SILCAT_FLAG_W,NITRAT,NITRAT_FLAG_W,NITRIT,NITRIT_FLAG_W,PHSPHT,PHSPHT_FLAG_W,CTDRAW,THETA
,,,,,,,,,,,,DBAR,ITS-90,PSS-78,,PSS-78,,UMOL/KG,,UMOL/KG,,UMOL/KG,,UMOL/KG,,UMOL/KG,,UMOL/KG,,DBAR,DEG C
90CI20000602,     ------,      47,          1,          8,          8,2,20000618,       1125,  54.431667,142.8833333,        101,     2.6,   9.0926,  22.5405,2,  22.5462,2, 319.2000,2,   320.8,1,   17.05,2,    0.25,2,    0.04,2,    0.02,2, -999.00,   9.0923
90CI20000602,     ------,      47,          1,          7,          7,2,20000618,       1125,  54.431667,142.8833333,        101,     9.9,   7.4087,  26.1311,2,  25.6842,2, 322.0000,2,   334.8,1,    8.41,2,    0.17,2,    0.02,2,    0.05,2, -999.00,   7.4079
90CI20000602,     ------,      47,          1,          6,          6,2,20000618,       1125,  54.431667,142.8833333,        101,    20.2,  -0.2262,  32.0960,2,  32.0722,2, 336.7000,2,   334.0,1,    4.47,2,    7.03,2,    0.10,2,    0.90,2, -999.00,  -0.2268
90CI20000602,     ------,      47,          1,          5,          5,2,20000618,       1125,  54.431667,142.8833333,        101,    29.6,  -0.9172,  32.7069,2,  32.7157,2, 325.0000,2,   322.3,1,    5.62,2,    9.19,2,    0.11,2,    1.14,2, -999.00,  -0.9179
90CI20000602,     ------,      47,          1,          4,          4,2,20000618,       1125,  54.431667,142.8833333,        101,    39.8,  -1.2684,  33.0747,2,  33.0557,2, 324.4000,2,   327.6,1,    5.21,2,   10.17,2,    0.13,2,    1.25,2, -999.00,  -1.2692
90CI20000602,     ------,      47,          1,          3,          3,2,20000618,       1125,  54.431667,142.8833333,        101,    50.3,  -1.4149,  33.1701,2,  33.1745,2, 324.0000,2,   325.2,1,    5.19,2,   10.88,2,    0.13,2,    1.32,2, -999.00,  -1.4159
90CI20000602,     ------,      47,          1,          2,          2,2,20000618,       1125,  54.431667,142.8833333,        101,    74.6,  -1.4627,  33.2234,2,  33.2197,2, 324.0000,2,   325.6,1,    5.56,2,   11.16,2,    0.13,2,    1.35,2, -999.00,  -1.4642
90CI20000602,     ------,      47,          1,          1,          1,2,20000618,       1125,  54.431667,142.8833333,        101,    95.8,  -1.4704,  33.2349,2,  33.2318,2, 324.2000,2,   326.9,1,    5.74,2,   11.25,2,    0.13,2,    1.36,2, -999.00,  -1.4724
90CI20000602,     ------,      48,          1,          6,          6,2,20000618,       1235,  54.488333,142.9950000,         85,     3.4,   7.6138,  26.7569,2,  26.7566,2, 321.2000,2,   322.4,1,    5.36,2,    0.41,2,    0.01,2,    0.08,2, -999.00,   7.6136
90CI20000602,     ------,      48,          1,          5,          5,2,20000618,       1235,  54.488333,142.9950000,         85,     9.8,   3.0355,  30.3494,2,  30.2595,2, 365.8000,2,   393.4,1,    1.06,2,    0.04,2,    0.01,2,    0.08,2, -999.00,   3.0350
90CI20000602,     ------,      48,          1,          4,          4,2,20000618,       1235,  54.488333,142.9950000,         85,    18.8,  -0.0082,  32.3338,2,  32.2804,2, 430.1000,2,   432.0,1,    0.46,2,    0.03,2,    0.02,2,    0.24,2, -999.00,  -0.0088
90CI20000602,     ------,      48,          1,          3,          3,2,20000618,       1235,  54.488333,142.9950000,         85,    29.7,  -1.3831,  33.1866,2,  33.1859,2, 325.4000,2,   288.0,1,    1.41,2,   19.29,2,    0.13,2,    1.78,2, -999.00,  -1.3837
90CI20000602,     ------,      48,          1,          2,          2,2,20000618,       1235,  54.488333,142.9950000,         85,    49.6,  -1.7045,  33.3916,2,  33.3910,2, 320.5000,2,   322.4,1,   17.84,2,   14.69,2,    0.15,2,    1.66,2, -999.00,  -1.7054
90CI20000602,     ------,      48,          1,          1,          1,2,20000618,       1235,  54.488333,142.9950000,         85,    78.5,  -1.7029,  33.3970,2,  33.3956,2, 320.0000,2,   322.7,1,   17.24,2,   14.45,2,    0.16,2,    1.64,2, -999.00,  -1.7044
90CI20000602,     ------,      49,          1,          7,          7,2,20000618,       1352,  54.505000,143.0466667,         95,     2.7,   8.2362,  26.8857,2,  26.9595,2, 312.2000,2,   317.5,1,    4.48,2,    0.09,2,    0.01,2,    0.05,2, -999.00,   8.2360
90CI20000602,     ------,      49,          1,          6,          6,2,20000618,       1352,  54.505000,143.0466667,         95,     9.9,   5.7617,  30.8622,2,  30.6920,2, 350.4000,2,   352.9,1,    0.57,2,    0.00,2,    0.00,2,    0.08,2, -999.00,   5.7610
90CI20000602,     ------,      49,          1,          5,          5,2,20000618,       1352,  54.505000,143.0466667,         95,    19.3,   0.1508,  32.3537,2,  32.3251,2, 442.2000,2,   446.5,1,    0.55,2,    0.02,2,    0.02,2,    0.41,2, -999.00,   0.1502
90CI20000602,     ------,      49,          1,          4,          4,2,20000618,       1352,  54.505000,143.0466667,         95,    28.8,  -0.8151,  32.6912,2,  32.8535,2, 429.3000,2,   391.6,1,    6.53,2,    4.20,2,    0.07,2,    0.80,2, -999.00,  -0.8158
90CI20000602,     ------,      49,          1,          3,          3,2,20000618,       1352,  54.505000,143.0466667,         95,    50.3,  -1.6961,  33.4124,2,  33.4109,2, 323.0000,2,   323.7,1,   31.45,2,   16.29,2,    0.12,2,    1.77,2, -999.00,  -1.6970
90CI20000602,     ------,      49,          1,          2,          2,2,20000618,       1352,  54.505000,143.0466667,         95,    74.3,  -1.6882,  33.4156,2,  33.4135,2, 320.6000,2,   322.2,1,   31.43,2,   16.34,2,    0.12,2,    1.78,2, -999.00,  -1.6896
90CI20000602,     ------,      49,          1,          1,          1,2,20000618,       1352,  54.505000,143.0466667,         95,    88.4,  -1.6826,  33.4166,2,  33.4105,2, 322.4000,2,   322.0,1,   31.41,2,   16.34,2,    0.12,2,    1.78,2, -999.00,  -1.6843
90CI20000602,     ------,      50,          1,          7,          7,2,20000619,       0903,  54.616667,143.2833333,        108,     2.2,   7.2532,  29.7706,2,  29.8086,2, 328.4000,2,   330.3,1,    0.98,2,    0.06,2,    0.00,2,    0.04,2, -999.00,   7.2530
90CI20000602,     ------,      50,          1,          6,          6,2,20000619,       0903,  54.616667,143.2833333,        108,     8.9,   3.1383,  31.3501,2,  30.9495,2, 386.5000,2,   395.5,1,    0.77,2,    0.00,2,    0.00,2,    0.07,2, -999.00,   3.1378
90CI20000602,     ------,      50,          1,          5,          5,2,20000619,       0903,  54.616667,143.2833333,        108,    19.0,   0.2537,  32.3045,2,  32.2504,2, 437.6000,2,   436.3,1,    0.55,2,    0.47,2,    0.02,2,    0.28,2, -999.00,   0.2531
90CI20000602,     ------,      50,          1,          4,          4,2,20000619,       0903,  54.616667,143.2833333,        108,    27.6,  -1.5006,  33.0373,2,  32.9503,2, 353.9000,2,   349.6,1,    0.53,2,    8.67,2,    0.14,2,    0.97,2, -999.00,  -1.5011
90CI20000602,     ------,      50,          1,          3,          3,2,20000619,       0903,  54.616667,143.2833333,        108,    50.0,  -1.6166,  33.2179,2,  33.2376,2, 298.5000,2,   316.0,1,   36.95,2,   20.36,2,    0.06,2,    1.92,2, -999.00,  -1.6175
90CI20000602,     ------,      50,          1,          2,          2,2,20000619,       0903,  54.616667,143.2833333,        108,    74.2,  -1.6910,  33.4141,2,  33.4098,2, 317.2000,2,   320.6,1,   36.54,2,   17.03,2,    0.12,2,    1.85,2, -999.00,  -1.6924
90CI20000602,     ------,      50,          1,          1,          1,2,20000619,       0903,  54.616667,143.2833333,        108,   105.9,  -1.7060,  33.4172,2,  33.4188,2, 320.5000,2,   322.9,1,   35.76,2,   16.65,2,    0.12,2,    1.84,2, -999.00,  -1.7080
90CI20000602,     ------,      51,          1,          8,          8,2,20000619,       1047,  54.705000,143.4650000,        115,     3.4,   6.8522,  29.7175,2,  29.7274,2, 327.6000,2,   331.0,1,    1.03,2,    0.07,2,    0.00,2,    0.06,2, -999.00,   6.8519
90CI20000602,     ------,      51,          1,          7,          7,2,20000619,       1047,  54.705000,143.4650000,        115,     8.7,   6.3562,  29.9457,2,  29.9742,2, 335.0000,2,   346.6,1,    0.82,2,    0.00,2,    0.00,2,    0.05,2, -999.00,   6.3555
90CI20000602,     ------,      51,          1,          6,          6,2,20000619,       1047,  54.705000,143.4650000,        115,    18.5,   2.9260,  31.4411,2,  31.4853,2, 377.6000,2,   426.8,1,    0.41,2,    0.07,2,    0.00,2,    0.10,2, -999.00,   2.9250
90CI20000602,     ------,      51,          1,          5,          5,2,20000619,       1047,  54.705000,143.4650000,        115,    27.9,  -1.4355,  32.9314,2,  32.9538,2, 343.4000,2,   341.2,1,    2.13,2,   14.56,2,    0.20,2,    1.38,2, -999.00,  -1.4360
90CI20000602,     ------,      51,          1,          4,          4,2,20000619,       1047,  54.705000,143.4650000,        115,    49.4,  -0.5743,  33.1961,2,  33.1959,2, 299.4000,2,   260.9,1,   56.34,2,   27.29,2,    0.05,2,    2.33,2, -999.00,  -0.5757
90CI20000602,     ------,      51,          1,          3,          3,2,20000619,       1047,  54.705000,143.4650000,        115,    74.7,  -0.9808,  33.2505,2,  33.2388,2, 271.3000,2,   273.3,1,   54.20,2,   25.87,2,    0.03,2,    2.27,2, -999.00,  -0.9826
90CI20000602,     ------,      51,          1,          2,          2,2,20000619,       1047,  54.705000,143.4650000,        115,   101.1,  -1.6871,  33.4542,2,  33.4533,2, 321.2000,2,   322.8,1,   36.03,2,   16.05,2,    0.14,2,    1.81,2, -999.00,  -1.6890
90CI20000602,     ------,      51,          1,          1,          1,2,20000619,       1047,  54.705000,143.4650000,        115,   110.8,  -1.6899,  33.4555,2,  33.4494,2, 324.6000,2,   324.2,1,   36.01,2,   16.01,2,    0.14,2,    1.81,2, -999.00,  -1.6920
90CI20000602,     ------,      52,          1,          8,          8,2,20000619,       1204,  54.761667,143.5800000,        119,     3.6,   6.2886,  30.3726,2,  30.3784,2, 332.3000,2,   346.6,1,    0.87,2,    0.00,2,    0.00,2,    0.04,2, -999.00,   6.2883
90CI20000602,     ------,      52,          1,          7,          7,2,20000619,       1204,  54.761667,143.5800000,        119,     9.6,   5.5407,  30.7163,2,  30.7371,2, 350.7000,2,   369.0,1,    0.86,2,    0.00,2,    0.00,2,    0.05,2, -999.00,   5.5400
90CI20000602,     ------,      52,          1,          6,          6,2,20000619,       1204,  54.761667,143.5800000,        119,    18.6,   2.0997,  31.9158,2,  31.8489,2, 396.3000,2,   439.6,1,    0.65,2,    0.00,2,    0.00,2,    0.13,2, -999.00,   2.0988
90CI20000602,     ------,      52,          1,          5,          5,2,20000619,       1204,  54.761667,143.5800000,        119,    29.5,  -0.5701,  32.7392,2,  32.7168,2, 434.9000,2,   419.3,1,    1.82,2,    2.44,2,    0.09,2,    0.59,2, -999.00,  -0.5709
90CI20000602,     ------,      52,          1,          4,          4,2,20000619,       1204,  54.761667,143.5800000,        119,    49.7,   0.0800,  33.2222,2,  33.2168,2, 267.5000,2,   242.0,1,   61.18,2,   29.31,2,    0.05,2,    2.39,2, -999.00,   0.0783
90CI20000602,     ------,      52,          1,          3,          3,2,20000619,       1204,  54.761667,143.5800000,        119,    74.8,   0.7169,  33.3170,2,  33.3160,2, 204.0000,2,   202.6,1,   70.03,2,   31.66,2,    0.03,2,    2.56,2, -999.00,   0.7139
90CI20000602,     ------,      52,          1,          2,          2,2,20000619,       1204,  54.761667,143.5800000,        119,   100.3,  -1.7160,  33.4426,2,  33.4430,2, 272.4000,2,   326.6,1,   35.47,2,   15.88,2,    0.12,2,    1.78,2, -999.00,  -1.7179
90CI20000602,     ------,      52,          1,          1,          1,2,20000619,       1204,  54.761667,143.5800000,        119,   114.1,  -1.7403,  33.4480,2,  33.4469,2, 311.2000,2,   327.9,1,   34.46,2,   15.58,2,    0.14,2,    1.76,2, -999.00,  -1.7425
90CI20000602,     ------,      53,          1,          8,          8,2,20000619,       1328,  54.831667,143.7316667,        128,     2.8,   3.3057,  31.8183,2,  31.8185,2, 334.6000,2,   420.5,1,    0.96,2,    0.12,2,    0.01,2,    0.13,2, -999.00,   3.3056
90CI20000602,     ------,      53,          1,          7,          7,2,20000619,       1328,  54.831667,143.7316667,        128,     9.6,   2.3348,  32.0573,2,  32.0462,2, 416.9000,2,   427.7,1,    1.34,2,    0.15,2,    0.02,2,    0.24,2, -999.00,   2.3344
90CI20000602,     ------,      53,          1,          6,          6,2,20000619,       1328,  54.831667,143.7316667,        128,    19.5,   1.4439,  32.1933,2,  32.1970,2, 408.8000,2,   431.6,1,    1.33,2,    0.56,2,    0.04,2,    0.34,2, -999.00,   1.4431
90CI20000602,     ------,      53,          1,          5,          5,2,20000619,       1328,  54.831667,143.7316667,        128,    28.6,   0.9824,  32.4872,2,  32.5453,2, 382.1000,2,   377.5,1,   13.12,2,    9.20,2,    0.10,2,    0.95,2, -999.00,   0.9813
90CI20000602,     ------,      53,          1,          4,          4,2,20000619,       1328,  54.831667,143.7316667,        128,    48.9,  -0.7469,  32.9607,2,  32.9594,2, 313.0000,2,   314.1,1,   35.72,2,   20.96,2,    0.10,2,    1.86,2, -999.00,  -0.7482
90CI20000602,     ------,      53,          1,          3,          3,2,20000619,       1328,  54.831667,143.7316667,        128,    75.5,  -0.8804,  33.1159,2,  33.1105,2, 294.2000,2,   293.7,1,   41.79,2,   23.42,2,    0.09,2,    2.05,2, -999.00,  -0.8823
90CI20000602,     ------,      53,          1,          2,          2,2,20000619,       1328,  54.831667,143.7316667,        128,   100.0,  -0.6698,  33.3008,2,  33.2969,2, 267.2000,2,   269.2,1,   52.57,2,   24.64,2,    0.07,2,    2.22,2, -999.00,  -0.6726
90CI20000602,     ------,      53,          1,          1,          1,2,20000619,       1328,  54.831667,143.7316667,        128,   123.2,  -1.5960,  33.4433,2,  33.4426,2, 296.5000,2,   318.2,1,   36.42,2,   16.52,2,    0.12,2,    1.82,2, -999.00,  -1.5985
90CI20000602,     ------,      54,          1,         14,         14,2,20000619,       1510,  54.933333,143.8933333,        498,     3.1,   2.8542,  32.3141,2,  32.3136,2, 422.7000,2,   427.4,1,    0.86,2,    0.38,2,    1.15,2,    0.27,2, -999.00,   2.8540
90CI20000602,     ------,      54,          1,         13,         13,2,20000619,       1510,  54.933333,143.8933333,        498,     9.5,   2.8394,  32.3150,2,  32.3161,2, 418.2000,2,   426.6,1,    0.84,2,    0.32,2,    0.04,2,    0.29,2, -999.00,   2.8389
90CI20000602,     ------,      54,          1,         12,         12,2,20000619,       1510,  54.933333,143.8933333,        498,    19.2,   2.7402,  32.3200,2,  32.3208,2, 419.4000,2,   427.8,1,    1.02,2,    0.45,2,    0.04,2,    0.28,2, -999.00,   2.7392
90CI20000602,     ------,      54,          1,         11,         11,2,20000619,       1510,  54.933333,143.8933333,        498,    30.6,   1.5932,  32.4182,2,  32.4130,2, 420.6000,2,   422.8,1,    1.99,2,    2.99,2,    0.08,2,    0.50,2, -999.00,   1.5918
90CI20000602,     ------,      54,          1,         10,         10,2,20000619,       1510,  54.933333,143.8933333,        498,    50.8,  -0.3645,  32.6837,2,  32.6827,2, 364.4000,2,   356.8,1,   21.59,2,   15.38,2,    0.14,2,    1.41,2, -999.00,  -0.3660
90CI20000602,     ------,      54,          1,          9,          9,2,20000619,       1510,  54.933333,143.8933333,        498,    75.7,  -0.6680,  32.7352,2,  32.7333,2, 339.6000,2,   345.9,1,   27.06,2,   17.21,2,    0.13,2,    1.55,2, -999.00,  -0.6700
90CI20000602,     ------,      54,          1,          8,          8,2,20000619,       1510,  54.933333,143.8933333,        498,   101.1,  -0.7783,  32.8772,2,  32.8755,2, 332.0000,2,   321.3,1,   37.42,2,   21.20,2,    0.11,2,    1.82,2, -999.00,  -0.7809
90CI20000602,     ------,      54,          1,          7,          7,2,20000619,       1510,  54.933333,143.8933333,        498,   127.3,  -0.4479,  32.9798,2,  32.9719,2, 299.8000,2,   303.1,1,   42.30,2,   23.31,2,    0.10,2,    1.95,2, -999.00,  -0.4516
90CI20000602,     ------,      54,          1,          6,          6,2,20000619,       1510,  54.933333,143.8933333,        498,   153.8,   0.0715,  33.1039,2,  33.0998,2, 272.8000,2,   273.6,1,   49.71,2,   26.17,2,    0.07,2,    2.13,2, -999.00,   0.0662
90CI20000602,     ------,      54,          1,          5,          5,2,20000619,       1510,  54.933333,143.8933333,        498,   204.3,   0.9179,  33.3082,2,  33.2982,2, 204.7000,2,   199.7,1,   68.29,2,   31.77,2,    0.02,2,    2.56,2, -999.00,   0.9093
90CI20000602,     ------,      54,          1,          4,          4,2,20000619,       1510,  54.933333,143.8933333,        498,   255.5,   0.7462,  33.3593,2,  33.3595,2, 197.4000,2,   194.4,1,   70.80,2,   31.80,2,    0.03,2,    2.60,2, -999.00,   0.7356
90CI20000602,     ------,      54,          1,          3,          3,2,20000619,       1510,  54.933333,143.8933333,        498,   325.3,   0.0175,  33.3871,2,  33.3600,2, 236.0000,2,   234.4,1,   62.33,2,   27.56,2,    0.06,2,    2.41,2, -999.00,   0.0059
90CI20000602,     ------,      54,          1,          2,          2,2,20000619,       1510,  54.933333,143.8933333,        498,   404.0,  -0.9684,  33.3715,2,  33.3854,2, 286.3000,2,   289.4,1,   49.97,2,   21.85,2,    0.09,2,    2.13,2, -999.00,  -0.9798
90CI20000602,     ------,      54,          1,          1,          1,2,20000619,       1510,  54.933333,143.8933333,        498,   479.1,  -1.1329,  33.3861,2,  33.3852,2, 290.8000,2,   288.3,1,   49.74,2,   21.85,2,    0.09,2,    2.12,2, -999.00,  -1.1461