BOTTLE,20121207CCHSIOMYS
EXPOCODE,SECT_ID,STNNBR,CASTNO,SAMPNO,BTLNBR,BTLNBR_FLAG_W,DATE,TIME,LATITUDE,LONGITUDE,DEPTH,CTDPRS,CTDTMP,CTDSAL,CTDSAL_FLAG_W,SALNTY,SALNTY_FLAG_W,CTDOXY,CTDOXY_FLAG_W,OXYGEN,OXYGEN_FLAG_W,SILCAT,SILCAT_FLAG_W,NITRAT,NITRAT_FLAG_W,NITRIT,NITRIT_FLAG_W,PHSPHT,PHSPHT_FLAG_W,CTDRAW,THETA
,,,,,,,,,,,,DBAR,ITS-90,PSS-78,,PSS-78,,UMOL/KG,,UMOL/KG,,UMOL/KG,,UMOL/KG,,UMOL/KG,,UMOL/KG,,DBAR,DEG C
90CI20000602,     ------,      37,          1,          5,          5,2,20000616,       1212,  52.996667,143.6316667,         46,     2.6,   5.5360,  30.5184,2,  30.7766,2, 389.6000,2,   391.0,1,    1.34,2,    0.05,2,    0.01,2,    0.25,2, -999.00,   5.5358
90CI20000602,     ------,      37,          1,          4,          4,2,20000616,       1212,  52.996667,143.6316667,         46,    10.4,   1.7566,  32.3437,2,  32.3480,2, 411.4000,2,   430.3,1,    1.12,2,    0.13,2,    0.02,2,    0.50,2, -999.00,   1.7561
90CI20000602,     ------,      37,          1,          3,          3,2,20000616,       1212,  52.996667,143.6316667,         46,    19.2,   0.2211,  32.5305,2,  32.5242,2, 398.8000,2,   392.3,1,    3.60,2,    4.23,2,    0.06,2,    0.82,2, -999.00,   0.2205
90CI20000602,     ------,      37,          1,          2,          2,2,20000616,       1212,  52.996667,143.6316667,         46,    29.3,  -0.3342,  32.6339,2,  32.6334,2, 362.2000,2,   365.4,1,    7.23,2,    7.38,2,    0.07,2,    1.15,2, -999.00,  -0.3351
90CI20000602,     ------,      37,          1,          1,          1,2,20000616,       1212,  52.996667,143.6316667,         46,    44.5,  -0.4402,  32.6551,2,  32.6560,2, 353.8000,2,   361.6,1,    8.36,2,    8.08,2,    0.07,2,    1.19,2, -999.00,  -0.4415
90CI20000602,     ------,      38,          1,          6,          6,2,20000616,       1332,  52.996667,143.8316667,         72,     2.9,   2.6708,  32.3805,2,  32.3812,2, 447.2000,2,   461.8,1,    0.85,2,    0.03,2,    0.01,2,    0.35,2, -999.00,   2.6707
90CI20000602,     ------,      38,          1,          5,          5,2,20000616,       1332,  52.996667,143.8316667,         72,    10.1,   1.4696,  32.5092,2,  32.5032,2, 442.5000,2,   447.5,1,    1.78,2,    0.15,2,    0.02,2,    0.49,2, -999.00,   1.4692
90CI20000602,     ------,      38,          1,          4,          4,2,20000616,       1332,  52.996667,143.8316667,         72,    19.9,  -1.1135,  32.8501,2,  32.8508,2, 377.8000,2,   344.2,1,   21.06,2,   12.81,2,    0.06,2,    1.47,2, -999.00,  -1.1140
90CI20000602,     ------,      38,          1,          3,          3,2,20000616,       1332,  52.996667,143.8316667,         72,    29.6,  -1.1264,  32.8603,2,  32.8670,2, 344.9000,2,   343.1,1,   20.95,2,   13.15,2,    0.07,2,    1.48,2, -999.00,  -1.1270
90CI20000602,     ------,      38,          1,          2,          2,2,20000616,       1332,  52.996667,143.8316667,         72,    50.1,  -1.1618,  32.9046,2,  32.9059,2, 335.6000,2,   339.2,1,   16.89,2,   13.76,2,    0.08,2,    1.55,2, -999.00,  -1.1629
90CI20000602,     ------,      38,          1,          1,          1,2,20000616,       1332,  52.996667,143.8316667,         72,    68.4,  -1.1629,  32.9095,2,  32.9092,2, 341.4000,2,   339.5,1,   16.49,2,   13.80,2,    0.08,2,    1.55,2, -999.00,  -1.1645
90CI20000602,     ------,      39,          1,          8,          8,2,20000616,       1546,  52.990000,144.0083333,        105,     1.9,   2.7659,  32.3009,2,  32.3075,2, 428.2000,2,   437.8,1,    0.67,2,    0.05,2,    0.01,2,    0.36,2, -999.00,   2.7658
90CI20000602,     ------,      39,          1,          7,          7,2,20000616,       1546,  52.990000,144.0083333,        105,     9.1,   2.2850,  32.3574,2,  32.3644,2, 435.8000,2,   442.3,1,    0.65,2,    0.08,2,    0.01,2,    0.38,2, -999.00,   2.2846
90CI20000602,     ------,      39,          1,          6,          6,2,20000616,       1546,  52.990000,144.0083333,        105,    18.4,   0.5171,  32.7074,2,  32.7363,2, 408.4000,2,   410.6,1,    1.01,2,    2.50,2,    0.06,2,    0.78,2, -999.00,   0.5164
90CI20000602,     ------,      39,          1,          5,          5,2,20000616,       1546,  52.990000,144.0083333,        105,    29.0,  -1.2157,  32.9776,2,  32.9779,2, 342.4000,2,   335.2,1,   24.62,2,   16.01,2,    0.09,2,    1.70,2, -999.00,  -1.2163
90CI20000602,     ------,      39,          1,          4,          4,2,20000616,       1546,  52.990000,144.0083333,        105,    49.4,  -1.2143,  32.9863,2,  32.9855,2, 331.4000,2,   334.8,1,   24.41,2,   16.43,2,    0.09,2,    1.73,2, -999.00,  -1.2154
90CI20000602,     ------,      39,          1,          3,          3,2,20000616,       1546,  52.990000,144.0083333,        105,    74.8,  -1.2094,  33.0050,2,  33.0036,2, 334.0000,2,   334.0,1,   25.54,2,   16.90,2,    0.10,2,    1.77,2, -999.00,  -1.2111
90CI20000602,     ------,      39,          1,          2,          2,2,20000616,       1546,  52.990000,144.0083333,        105,    99.5,  -1.2032,  33.0195,2,  33.0188,2, 336.4000,2,   333.4,1,   26.10,2,   17.40,2,    0.12,2,    1.81,2, -999.00,  -1.2055
90CI20000602,     ------,      39,          1,          1,          1,2,20000616,       1546,  52.990000,144.0083333,        105,   100.2,  -1.2025,  33.0190,2,  33.0184,2, 336.3000,2,   332.5,1,   26.08,2,   17.41,2,    0.11,2,    1.82,2, -999.00,  -1.2048
90CI20000602,     ------,      40,          1,         23,         23,2,20000617,       0630,  53.000000,145.8366667,       1755,     2.7,   4.2912,  32.2944,2,  32.2949,2, 354.3000,2,   359.5,1,    6.24,2,    7.11,2,    0.12,2,    0.63,2, -999.00,   4.2911
90CI20000602,     ------,      40,          1,         22,         22,2,20000617,       0630,  53.000000,145.8366667,       1755,     9.9,   3.7395,  32.3362,2,  32.3353,2, 371.0000,2,   365.8,1,    5.98,2,    7.62,2,    0.13,2,    0.66,2, -999.00,   3.7389
90CI20000602,     ------,      40,          1,         21,         21,2,20000617,       0630,  53.000000,145.8366667,       1755,    17.9,   2.8731,  32.3662,2,  32.3732,2, 373.9000,2,   375.9,1,    4.78,2,    8.07,2,    0.14,2,    0.67,2, -999.00,   2.8721
90CI20000602,     ------,      40,          1,         20,         20,2,20000617,       0630,  53.000000,145.8366667,       1755,    27.1,   0.5170,  32.5790,2,  32.5765,2, 384.9000,2,   377.1,1,   12.12,2,   12.60,2,    0.16,2,    1.14,2, -999.00,   0.5161
90CI20000602,     ------,      40,          1,         19,         19,2,20000617,       0630,  53.000000,145.8366667,       1755,    49.4,  -1.5667,  32.7776,2,  32.7748,2, 352.6000,2,   357.3,1,   26.49,2,   16.53,2,    0.21,2,    1.52,2, -999.00,  -1.5676
90CI20000602,     ------,      40,          1,         18,         18,2,20000617,       0630,  53.000000,145.8366667,       1755,    71.7,  -1.6188,  32.8355,2,  32.8346,2, 338.0000,2,   343.7,1,   29.47,2,   18.52,2,    0.24,2,    1.64,2, -999.00,  -1.6201
90CI20000602,     ------,      40,          1,         17,         17,2,20000617,       0630,  53.000000,145.8366667,       1755,    99.5,  -0.1021,  33.1641,2,  33.1545,2, 275.6000,2,   257.6,1,   50.68,2,   27.55,2,    0.03,2,    2.27,2, -999.00,  -0.1054
90CI20000602,     ------,      40,          1,         16,         16,2,20000617,       0630,  53.000000,145.8366667,       1755,   122.5,   0.7708,  33.2965,2,  33.2883,2, 215.4000,2,   206.4,1,   62.59,2,   31.41,2,    0.02,2,    2.53,2, -999.00,   0.7659
90CI20000602,     ------,      40,          1,         15,         15,2,20000617,       0630,  53.000000,145.8366667,       1755,   151.1,   0.8122,  33.3350,2,  33.3338,2, 189.3000,2,   188.9,1,   66.13,2,   32.69,2,    0.02,2,    2.64,2, -999.00,   0.8060
90CI20000602,     ------,      40,          1,         14,         14,2,20000617,       0630,  53.000000,145.8366667,       1755,   199.9,   0.9646,  33.4029,2,  33.4001,2, 166.9000,2,   169.0,1,   71.58,2,   34.11,2,    0.04,2,    2.76,2, -999.00,   0.9561
90CI20000602,     ------,      40,          1,         13,         13,2,20000617,       0630,  53.000000,145.8366667,       1755,   252.0,   1.1118,  33.4777,2,  33.4720,2, 147.8000,2,   149.3,1,   77.61,2,   35.10,2,    0.05,2,    2.85,2, -999.00,   1.1005
90CI20000602,     ------,      40,          1,         12,         12,2,20000617,       0630,  53.000000,145.8366667,       1755,   302.0,   1.3204,  33.5586,2,  33.5562,2, 130.0000,2,   131.5,1,   84.97,2,   36.09,2,    0.06,2,    2.90,2, -999.00,   1.3063
90CI20000602,     ------,      40,          1,         11,         11,2,20000617,       0630,  53.000000,145.8366667,       1755,   402.3,   1.6867,  33.7164,2,  33.7142,2, 108.5000,2,   110.5,1,   99.21,2,   37.34,2,    0.01,2,    2.91,2, -999.00,   1.6661
90CI20000602,     ------,      40,          1,         10,         10,2,20000617,       0630,  53.000000,145.8366667,       1755,   504.0,   2.0565,  33.9033,2,  33.9013,2,  80.1000,2,    79.5,1,  118.87,2,   39.52,2,    0.00,2,    3.01,2, -999.00,   2.0286
90CI20000602,     ------,      40,          1,          9,          9,2,20000617,       0630,  53.000000,145.8366667,       1755,   605.4,   2.3026,  34.0530,2,  34.0519,2,  55.7000,2,    54.8,1,  136.70,2,   41.12,2,    0.00,2,    3.10,2, -999.00,   2.2673
90CI20000602,     ------,      40,          1,          8,          8,2,20000617,       0630,  53.000000,145.8366667,       1755,   705.5,   2.3508,  34.1505,2,  34.1477,2,  45.0000,2,    44.0,1,  149.41,2,   41.65,2,    0.00,2,    3.15,2, -999.00,   2.3086
90CI20000602,     ------,      40,          1,          7,          7,2,20000617,       0630,  53.000000,145.8366667,       1755,   807.2,   2.3764,  34.2177,2,  34.2155,2,  38.6000,2,    37.2,1,  157.70,2,   41.98,2,    0.00,2,    3.16,2, -999.00,   2.3272
90CI20000602,     ------,      40,          1,          6,          6,2,20000617,       0630,  53.000000,145.8366667,       1755,   908.9,   2.4102,  34.2985,2,  34.2952,2,  32.0000,2,    30.9,1,  166.61,2,   42.31,2,    0.00,2,    3.18,2, -999.00,   2.3537
90CI20000602,     ------,      40,          1,          5,          5,2,20000617,       0630,  53.000000,145.8366667,       1755,  1010.0,   2.3827,  34.3496,2,  34.3487,2,  29.2000,2,    28.8,1,  174.39,2,   42.35,2,    0.00,2,    3.18,2, -999.00,   2.3192
90CI20000602,     ------,      40,          1,          4,          4,2,20000617,       0630,  53.000000,145.8366667,       1755,  1214.0,   2.3310,  34.4036,2,  34.4019,2,  26.8000,2,    27.0,1,  189.14,2,   42.15,2,    0.00,2,    3.20,2, -999.00,   2.2531
90CI20000602,     ------,      40,          1,          3,          3,2,20000617,       0630,  53.000000,145.8366667,       1755,  1416.3,   2.3272,  34.4222,2,  34.4200,2,  23.6000,2,    24.1,1,  205.44,2,   41.85,2,    0.00,2,    3.22,2, -999.00,   2.2340
90CI20000602,     ------,      40,          1,          2,          2,2,20000617,       0630,  53.000000,145.8366667,       1755,  1619.9,   2.3465,  34.4303,2,  34.4275,2,  16.6000,2,    16.0,1,  235.49,2,   41.01,2,    0.00,2,    3.32,2, -999.00,   2.2370
90CI20000602,     ------,      40,          1,          1,          1,2,20000617,       0630,  53.000000,145.8366667,       1755,  1736.2,   2.3577,  34.4307,2,  34.4291,2,  15.0000,2,  -999.0,5,  240.79,2,   40.90,2,    0.00,2,    3.33,2, -999.00,   2.2386
90CI20000602,     ------,      41,          1,         23,         23,2,20000617,       0944,  53.030000,145.5116667,       1750,     2.8,   4.8975,  32.4133,2,  32.4160,2, 304.6000,2,   399.4,1,    0.53,2,    0.43,2,    0.08,2,    0.29,2, -999.00,   4.8973
90CI20000602,     ------,      41,          1,         22,         22,2,20000617,       0944,  53.030000,145.5116667,       1750,     8.5,   4.6063,  32.4626,2,  32.4487,2, 394.3000,2,   403.5,1,    1.20,2,    1.53,2,    0.11,2,    0.35,2, -999.00,   4.6057
90CI20000602,     ------,      41,          1,         21,         21,2,20000617,       0944,  53.030000,145.5116667,       1750,    18.5,   2.8776,  32.4555,2,  32.4524,2, 390.5000,2,   369.0,1,   10.51,2,   10.22,2,    0.15,2,    0.93,2, -999.00,   2.8766
90CI20000602,     ------,      41,          1,         20,         20,2,20000617,       0944,  53.030000,145.5116667,       1750,    28.0,   1.3378,  32.5293,2,  32.5213,2, 368.5000,2,   382.4,1,    6.45,2,   11.10,2,    0.16,2,    1.03,2, -999.00,   1.3366
90CI20000602,     ------,      41,          1,         19,         19,2,20000617,       0944,  53.030000,145.5116667,       1750,    48.7,  -0.3757,  32.6747,2,  32.6667,2, 361.6000,2,   364.1,1,   26.32,2,   15.14,2,    0.16,2,    1.42,2, -999.00,  -0.3771
90CI20000602,     ------,      41,          1,         18,         18,2,20000617,       0944,  53.030000,145.5116667,       1750,    73.9,  -1.6324,  32.8217,2,  32.8231,2, 337.3000,2,   344.0,1,   30.05,2,   18.39,2,    0.25,2,    1.63,2, -999.00,  -1.6338
90CI20000602,     ------,      41,          1,         17,         17,2,20000617,       0944,  53.030000,145.5116667,       1750,    99.0,  -0.4862,  33.1047,2,  33.1021,2, 284.4000,2,   273.4,1,   46.84,2,   25.94,2,    0.02,2,    2.15,2, -999.00,  -0.4891
90CI20000602,     ------,      41,          1,         16,         16,2,20000617,       0944,  53.030000,145.5116667,       1750,   124.6,   0.5330,  33.2765,2,  33.2775,2, 221.4000,2,   210.4,1,   62.24,2,   31.32,2,    0.02,2,    2.53,2, -999.00,   0.5282
90CI20000602,     ------,      41,          1,         15,         15,2,20000617,       0944,  53.030000,145.5116667,       1750,   150.7,   0.7060,  33.3268,2,  33.3223,2, 192.4000,2,   195.4,1,   65.69,2,   32.37,2,    0.02,2,    2.59,2, -999.00,   0.7000
90CI20000602,     ------,      41,          1,         14,         14,2,20000617,       0944,  53.030000,145.5116667,       1750,   200.4,   0.9319,  33.4010,2,  33.3986,2, 172.0000,2,   173.9,1,   71.63,2,   33.76,2,    0.02,2,    2.72,2, -999.00,   0.9233
90CI20000602,     ------,      41,          1,         13,         13,2,20000617,       0944,  53.030000,145.5116667,       1750,   251.6,   0.8911,  33.4493,2,  33.4505,2, 161.9000,2,   162.6,1,   75.63,2,   34.19,2,    0.03,2,    2.77,2, -999.00,   0.8804
90CI20000602,     ------,      41,          1,         12,         12,2,20000617,       0944,  53.030000,145.5116667,       1750,   302.6,   1.0556,  33.5191,2,  33.5168,2, 148.0000,2,   151.1,1,   80.47,2,   34.69,2,    0.01,2,    2.81,2, -999.00,   1.0421
90CI20000602,     ------,      41,          1,         11,         11,2,20000617,       0944,  53.030000,145.5116667,       1750,   403.0,   1.4519,  33.6731,2,  33.6707,2, 123.6000,2,   127.9,1,   93.93,2,   36.05,2,    0.00,2,    2.85,2, -999.00,   1.4321
90CI20000602,     ------,      41,          1,         10,         10,2,20000617,       0944,  53.030000,145.5116667,       1750,   488.6,   1.8140,  33.8309,2,  33.8292,2,  98.9000,2,    98.0,1,  110.77,2,   38.32,2,    0.00,2,    2.94,2, -999.00,   1.7880
90CI20000602,     ------,      41,          1,          9,          9,2,20000617,       0944,  53.030000,145.5116667,       1750,   604.6,   2.2688,  34.0361,2,  34.0345,2,  60.2000,2,    57.6,1,  135.80,2,   41.10,2,    0.00,2,    3.10,2, -999.00,   2.2337
90CI20000602,     ------,      41,          1,          8,          8,2,20000617,       0944,  53.030000,145.5116667,       1750,   706.3,   2.3740,  34.1527,2,  34.1525,2,  44.1000,2,    43.1,1,  150.25,2,   41.93,2,    0.00,2,    3.16,2, -999.00,   2.3317
90CI20000602,     ------,      41,          1,          7,          7,2,20000617,       0944,  53.030000,145.5116667,       1750,   805.8,   2.3869,  34.2252,2,  34.2226,2,  37.7000,2,    36.5,1,  159.67,2,   42.03,2,    0.00,2,    3.17,2, -999.00,   2.3377
90CI20000602,     ------,      41,          1,          6,          6,2,20000617,       0944,  53.030000,145.5116667,       1750,   908.6,   2.4097,  34.2911,2,  34.2892,2,  32.1000,2,    31.4,1,  166.57,2,   42.42,2,    0.00,2,    3.18,2, -999.00,   2.3533
90CI20000602,     ------,      41,          1,          5,          5,2,20000617,       0944,  53.030000,145.5116667,       1750,  1011.0,   2.3895,  34.3466,2,  34.3446,2,  29.7000,2,    29.2,1,  174.33,2,   42.42,2,    0.00,2,    3.19,2, -999.00,   2.3259
90CI20000602,     ------,      41,          1,          4,          4,2,20000617,       0944,  53.030000,145.5116667,       1750,  1213.9,   2.3384,  34.4003,2,  34.3997,2,  28.0000,2,    27.5,1,  188.44,2,   42.37,2,    0.00,2,    3.19,2, -999.00,   2.2605
90CI20000602,     ------,      41,          1,          3,          3,2,20000617,       0944,  53.030000,145.5116667,       1750,  1416.4,   2.3274,  34.4218,2,  34.4191,2,  25.1000,2,    24.4,1,  204.97,2,   42.13,2,    0.00,2,    3.22,2, -999.00,   2.2342
90CI20000602,     ------,      41,          1,          2,          2,2,20000617,       0944,  53.030000,145.5116667,       1750,  1630.4,   2.3478,  34.4299,2,  34.4285,2,  16.2000,2,    16.6,1,  236.11,2,   41.25,2,    0.00,2,    3.31,2, -999.00,   2.2375
90CI20000602,     ------,      41,          1,          1,          1,2,20000617,       0944,  53.030000,145.5116667,       1750,  1729.4,   2.3571,  34.4309,2,  34.4287,2,  14.3000,2,    15.5,1,  240.95,2,   41.10,2,    0.00,2,    3.33,2, -999.00,   2.2387