BOTTLE,20121207CCHSIOMYS
EXPOCODE,SECT_ID,STNNBR,CASTNO,SAMPNO,BTLNBR,BTLNBR_FLAG_W,DATE,TIME,LATITUDE,LONGITUDE,DEPTH,CTDPRS,CTDTMP,CTDSAL,CTDSAL_FLAG_W,SALNTY,SALNTY_FLAG_W,CTDOXY,CTDOXY_FLAG_W,OXYGEN,OXYGEN_FLAG_W,SILCAT,SILCAT_FLAG_W,NITRAT,NITRAT_FLAG_W,NITRIT,NITRIT_FLAG_W,PHSPHT,PHSPHT_FLAG_W,CTDRAW,THETA
,,,,,,,,,,,,DBAR,ITS-90,PSS-78,,PSS-78,,UMOL/KG,,UMOL/KG,,UMOL/KG,,UMOL/KG,,UMOL/KG,,UMOL/KG,,DBAR,DEG C
90CI20000602,     ------,      75,          1,         11,         11,2,20000623,       0048,  55.696667,139.3950000,        110,     2.8,   4.3376,  30.7065,2,  30.7066,2, 364.5000,2,   381.2,1,    7.87,2,    0.07,2,    0.00,2,    0.25,2, -999.00,   4.3374
90CI20000602,     ------,      75,          1,         10,         10,2,20000623,       0048,  55.696667,139.3950000,        110,    10.0,   4.1982,  31.0214,2,  30.8693,2, 382.1000,2,   384.1,1,    8.05,2,    0.00,2,    0.00,2,    0.26,2, -999.00,   4.1976
90CI20000602,     ------,      75,          1,          9,          9,2,20000623,       0048,  55.696667,139.3950000,        110,    19.9,  -1.2563,  32.9891,2,  32.9164,2, 448.1000,2,   454.8,1,   10.62,2,    2.61,2,    0.09,2,    0.83,2, -999.00,  -1.2567
90CI20000602,     ------,      75,          1,          8,          8,2,20000623,       0048,  55.696667,139.3950000,        110,    27.6,  -1.5873,  33.1196,2,  33.1164,2, 376.5000,2,   317.9,1,   36.79,2,   23.53,2,    0.15,2,    2.07,2, -999.00,  -1.5878
90CI20000602,     ------,      75,          1,          7,          7,2,20000623,       0048,  55.696667,139.3950000,        110,    39.0,  -1.6914,  33.1518,2,  33.1486,2, 314.6000,2,   303.1,1,   37.36,2,   24.98,2,    0.11,2,    2.18,2, -999.00,  -1.6921
90CI20000602,     ------,      75,          1,          6,          6,2,20000623,       0048,  55.696667,139.3950000,        110,    50.5,  -1.7389,  33.1771,2,  33.1721,2, 310.1000,2,   316.0,1,   37.14,2,   23.53,2,    0.14,2,    2.12,2, -999.00,  -1.7398
90CI20000602,     ------,      75,          1,          5,          5,2,20000623,       0048,  55.696667,139.3950000,        110,    60.3,  -1.7532,  33.1973,2,  33.1928,2, 316.3000,2,   318.1,1,   38.71,2,   22.76,2,    0.14,2,    2.12,2, -999.00,  -1.7543
90CI20000602,     ------,      75,          1,          4,          4,2,20000623,       0048,  55.696667,139.3950000,        110,    79.5,  -1.7597,  33.2866,2,  33.2856,2, 317.9000,2,   317.6,1,   42.08,2,   20.59,2,    0.07,2,    2.05,2, -999.00,  -1.7612
90CI20000602,     ------,      75,          1,          3,          3,2,20000623,       0048,  55.696667,139.3950000,        110,    99.9,  -1.7596,  33.2878,2,  33.2862,2, 318.6000,2,   318.0,1,   42.06,2,   20.59,2,    0.07,2,    2.07,2, -999.00,  -1.7614
90CI20000602,     ------,      75,          1,          2,          2,2,20000623,       0048,  55.696667,139.3950000,        110,   118.8,  -1.7599,  33.2879,2,  33.2869,2, 321.9000,2,   317.9,1,   42.03,2,   20.63,2,    0.07,2,    2.06,2, -999.00,  -1.7621
90CI20000602,     ------,      75,          1,          1,          1,2,20000623,       0048,  55.696667,139.3950000,        110,   125.9,  -1.7601,  33.2878,2,  33.2877,2, 322.7000,2,   317.6,1,   42.41,2,   20.57,2,    0.08,2,    2.06,2, -999.00,  -1.7624
90CI20000602,     ------,      76,          1,         12,         12,2,20000623,       0453,  55.740000,138.8966667,        132,     3.2,   5.5369,  31.3482,2,  31.3515,2, 350.5000,2,   350.1,1,    7.87,2,    0.13,2,    0.00,2,    0.22,2, -999.00,   5.5366
90CI20000602,     ------,      76,          1,         11,         11,2,20000623,       0453,  55.740000,138.8966667,        132,     9.6,   5.3129,  31.4992,2,  31.5150,2, 351.7000,2,   358.6,1,    8.05,2,    0.22,2,    0.01,2,    0.23,2, -999.00,   5.3122
90CI20000602,     ------,      76,          1,         10,         10,2,20000623,       0453,  55.740000,138.8966667,        132,    18.9,  -1.4715,  33.0591,2,  33.0604,2, 359.6000,2,   361.0,1,   28.97,2,   17.60,2,    0.30,2,    1.67,2, -999.00,  -1.4719
90CI20000602,     ------,      76,          1,          9,          9,2,20000623,       0453,  55.740000,138.8966667,        132,    28.2,  -1.6180,  33.0921,2,  33.0953,2, 333.6000,2,   328.5,1,   28.55,2,   22.31,2,    0.26,2,    1.99,2, -999.00,  -1.6185
90CI20000602,     ------,      76,          1,          8,          8,2,20000623,       0453,  55.740000,138.8966667,        132,    38.4,  -1.6473,  33.1195,2,  33.1232,2, 317.0000,2,   305.8,1,   37.70,2,   24.48,2,    0.16,2,    2.15,2, -999.00,  -1.6480
90CI20000602,     ------,      76,          1,          7,          7,2,20000623,       0453,  55.740000,138.8966667,        132,    48.8,  -1.7177,  33.1621,2,  33.1789,2, 315.8000,2,   316.9,1,   37.28,2,   22.40,2,    0.16,2,    2.11,2, -999.00,  -1.7186
90CI20000602,     ------,      76,          1,          6,          6,2,20000623,       0453,  55.740000,138.8966667,        132,    59.8,  -1.7158,  33.2237,2,  33.2230,2, 317.0000,2,   316.1,1,   40.84,2,   20.89,2,    0.15,2,    2.07,2, -999.00,  -1.7169
90CI20000602,     ------,      76,          1,          5,          5,2,20000623,       0453,  55.740000,138.8966667,        132,    69.1,  -1.7155,  33.2243,2,  33.2247,2, 316.0000,2,   316.0,1,   41.02,2,   20.88,2,    0.15,2,    2.08,2, -999.00,  -1.7167
90CI20000602,     ------,      76,          1,          4,          4,2,20000623,       0453,  55.740000,138.8966667,        132,    78.3,  -1.7151,  33.2250,2,  33.2253,2, 316.0000,2,   315.9,1,   40.99,2,   20.88,2,    0.15,2,    2.08,2, -999.00,  -1.7166
90CI20000602,     ------,      76,          1,          3,          3,2,20000623,       0453,  55.740000,138.8966667,        132,    88.9,  -1.7149,  33.2248,2,  33.2251,2, 315.5000,2,   316.3,1,   40.97,2,   20.78,2,    0.15,2,    2.08,2, -999.00,  -1.7165
90CI20000602,     ------,      76,          1,          2,          2,2,20000623,       0453,  55.740000,138.8966667,        132,   100.3,  -1.7146,  33.2245,2,  33.2253,2, 315.6000,2,   316.1,1,   40.95,2,   20.87,2,    0.15,2,    2.08,2, -999.00,  -1.7165
90CI20000602,     ------,      76,          1,          1,          1,2,20000623,       0453,  55.740000,138.8966667,        132,   107.1,  -1.7140,  33.2247,2,  33.2255,2, 315.0000,2,   316.0,1,   41.12,2,   20.91,2,    0.15,2,    2.09,2, -999.00,  -1.7160
90CI20000602,     ------,      77,          1,         10,         10,2,20000623,       0750,  55.793333,138.3666667,         92,     2.8,   6.5058,  31.9179,2,  31.9184,2, 340.0000,2,   341.6,1,    4.61,2,    0.12,2,    0.01,2,    0.17,2, -999.00,   6.5056
90CI20000602,     ------,      77,          1,          9,          9,2,20000623,       0750,  55.793333,138.3666667,         92,     8.1,   6.4147,  31.9205,2,  31.9259,2, 342.8000,2,   342.9,1,    4.59,2,    0.07,2,    0.01,2,    0.17,2, -999.00,   6.4141
90CI20000602,     ------,      77,          1,          8,          8,2,20000623,       0750,  55.793333,138.3666667,         92,    18.4,   0.7961,  32.6200,2,  32.7653,2, 381.2000,2,   382.7,1,    9.72,2,    7.21,2,    0.17,2,    1.02,2, -999.00,   0.7954
90CI20000602,     ------,      77,          1,          7,          7,2,20000623,       0750,  55.793333,138.3666667,         92,    27.8,  -1.5122,  33.0704,2,  33.0785,2, 354.9000,2,   352.6,1,   29.10,2,   18.87,2,    0.30,2,    1.81,2, -999.00,  -1.5127
90CI20000602,     ------,      77,          1,          6,          6,2,20000623,       0750,  55.793333,138.3666667,         92,    39.3,  -1.6381,  33.1493,2,  33.0736,2, 325.9000,2,   325.6,1,   34.82,2,   20.38,2,    0.19,2,    2.01,2, -999.00,  -1.6388
90CI20000602,     ------,      77,          1,          5,          5,2,20000623,       0750,  55.793333,138.3666667,         92,    48.6,  -1.6573,  33.1598,2,  33.1594,2, 321.8000,2,   318.6,1,   37.77,2,   20.82,2,    0.18,2,    2.07,2, -999.00,  -1.6582
90CI20000602,     ------,      77,          1,          4,          4,2,20000623,       0750,  55.793333,138.3666667,         92,    58.8,  -1.6619,  33.1613,2,  33.1598,2, 318.6000,2,   317.5,1,   38.75,2,   20.91,2,    0.18,2,    2.09,2, -999.00,  -1.6630
90CI20000602,     ------,      77,          1,          3,          3,2,20000623,       0750,  55.793333,138.3666667,         92,    68.8,  -1.6631,  33.1608,2,  33.1600,2, 316.1000,2,   317.6,1,   38.73,2,   21.00,2,    0.18,2,    2.10,2, -999.00,  -1.6644
90CI20000602,     ------,      77,          1,          2,          2,2,20000623,       0750,  55.793333,138.3666667,         92,    80.0,  -1.6632,  33.1617,2,  33.1605,2, 316.0000,2,   317.1,1,   38.32,2,   20.86,2,    0.18,2,    2.09,2, -999.00,  -1.6647
90CI20000602,     ------,      77,          1,          1,          1,2,20000623,       0750,  55.793333,138.3666667,         92,    88.5,  -1.6623,  33.1620,2,  33.1604,2, 313.4000,2,   317.1,1,   38.70,2,   20.95,2,    0.17,2,    2.10,2, -999.00,  -1.6640
90CI20000602,     ------,      78,          1,          8,          8,2,20000623,       1600,  55.878333,137.7066667,         69,     2.1,   7.3083,  31.5024,2,  31.5010,2, 324.5000,2,   325.5,1,    1.14,2,    0.12,2,    0.00,2,    0.32,2, -999.00,   7.3081
90CI20000602,     ------,      78,          1,          7,          7,2,20000623,       1600,  55.878333,137.7066667,         69,     9.5,   7.2186,  31.5844,2,  31.6157,2, 327.2000,2,   326.4,1,    1.13,2,    0.12,2,    0.00,2,    0.33,2, -999.00,   7.2178
90CI20000602,     ------,      78,          1,          6,          6,2,20000623,       1600,  55.878333,137.7066667,         69,    20.1,   5.8097,  31.8066,2,  31.8484,2, 331.9000,2,   335.0,1,    1.53,2,    0.49,2,    0.01,2,    0.46,2, -999.00,   5.8082
90CI20000602,     ------,      78,          1,          5,          5,2,20000623,       1600,  55.878333,137.7066667,         69,    29.8,   2.1287,  32.2640,2,  32.2753,2, 331.4000,2,   324.3,1,    8.11,2,    4.22,2,    0.08,2,    1.14,2, -999.00,   2.1272
90CI20000602,     ------,      78,          1,          4,          4,2,20000623,       1600,  55.878333,137.7066667,         69,    40.0,   1.8566,  32.3310,2,  32.3440,2, 322.2000,2,   322.9,1,    9.30,2,    5.05,2,    0.08,2,    1.21,2, -999.00,   1.8547
90CI20000602,     ------,      78,          1,          3,          3,2,20000623,       1600,  55.878333,137.7066667,         69,    50.8,   1.1826,  32.5081,2,  32.5211,2, 323.5000,2,   322.6,1,   12.89,2,    7.10,2,    0.10,2,    1.35,2, -999.00,   1.1805
90CI20000602,     ------,      78,          1,          2,          2,2,20000623,       1600,  55.878333,137.7066667,         69,    58.8,   0.5761,  32.6632,2,  32.6508,2, 323.0000,2,   322.8,1,   15.68,2,    8.73,2,    0.12,2,    1.45,2, -999.00,   0.5739
90CI20000602,     ------,      78,          1,          1,          1,2,20000623,       1600,  55.878333,137.7066667,         69,    62.6,   0.4501,  32.6996,2,  32.6793,2, 321.5000,2,   323.0,1,   16.47,2,    9.15,2,    0.12,2,    1.46,2, -999.00,   0.4478
90CI20000602,     ------,      79,          1,          9,          9,2,20000624,       0836,  55.451667,138.2466667,         83,     2.9,   6.2695,  31.1905,2,  31.2219,2, 336.3000,2,   344.0,1,    4.29,2,    0.12,2,    0.00,2,    0.32,2, -999.00,   6.2693
90CI20000602,     ------,      79,          1,          8,          8,2,20000624,       0836,  55.451667,138.2466667,         83,     9.3,   5.9745,  31.2845,2,  31.3577,2, 356.2000,2,   356.3,1,    4.28,2,    0.16,2,    0.00,2,    0.33,2, -999.00,   5.9738
90CI20000602,     ------,      79,          1,          7,          7,2,20000624,       0836,  55.451667,138.2466667,         83,    18.5,   1.3313,  32.3532,2,  32.3930,2, 386.6000,2,   390.4,1,    9.26,2,    2.98,2,    0.04,2,    0.69,2, -999.00,   1.3305
90CI20000602,     ------,      79,          1,          6,          6,2,20000624,       0836,  55.451667,138.2466667,         83,    28.6,  -1.1265,  33.0469,2,  33.0470,2, 346.2000,2,   338.1,1,   27.62,2,   15.14,2,    0.14,2,    1.71,2, -999.00,  -1.1271
90CI20000602,     ------,      79,          1,          5,          5,2,20000624,       0836,  55.451667,138.2466667,         83,    38.1,  -1.3994,  33.1271,2,  33.1285,2, 327.4000,2,   329.0,1,   31.80,2,   17.58,2,    0.16,2,    1.88,2, -999.00,  -1.4002
90CI20000602,     ------,      79,          1,          4,          4,2,20000624,       0836,  55.451667,138.2466667,         83,    49.0,  -1.4642,  33.1449,2,  33.1489,2, 327.4000,2,   330.3,1,   32.40,2,   17.91,2,    0.16,2,    1.90,2, -999.00,  -1.4652
90CI20000602,     ------,      79,          1,          3,          3,2,20000624,       0836,  55.451667,138.2466667,         83,    58.8,  -1.5534,  33.1721,2,  33.1729,2, 330.4000,2,   332.8,1,   32.39,2,   18.34,2,    0.16,2,    1.93,2, -999.00,  -1.5545
90CI20000602,     ------,      79,          1,          2,          2,2,20000624,       0836,  55.451667,138.2466667,         83,    69.0,  -1.5776,  33.1788,2,  33.1786,2, 334.8000,2,   332.6,1,   32.58,2,   18.30,2,    0.16,2,    1.92,2, -999.00,  -1.5789
90CI20000602,     ------,      79,          1,          1,          1,2,20000624,       0836,  55.451667,138.2466667,         83,    80.4,  -1.5803,  33.1790,2,  33.1801,2, 333.0000,2,   332.5,1,   32.78,2,   18.40,2,    0.16,2,    1.94,2, -999.00,  -1.5819
90CI20000602,     ------,      80,          1,          9,          9,2,20000624,       1357,  55.001667,139.1050000,         88,     2.9,   5.4123,  31.2294,2,  31.2893,2, 348.1000,2,   349.2,1,    3.03,2,    0.10,2,    0.00,2,    0.20,2, -999.00,   5.4121
90CI20000602,     ------,      80,          1,          8,          8,2,20000624,       1357,  55.001667,139.1050000,         88,    10.1,   4.1012,  31.7241,2,  31.9622,2, 352.7000,2,   405.1,1,    4.61,2,    0.23,2,    0.01,2,    0.27,2, -999.00,   4.1006
90CI20000602,     ------,      80,          1,          7,          7,2,20000624,       1357,  55.001667,139.1050000,         88,    20.1,   0.0137,  32.7736,2,  32.8196,2, 366.1000,2,   424.4,1,    3.59,2,    3.88,2,    0.06,2,    0.84,2, -999.00,   0.0131
90CI20000602,     ------,      80,          1,          6,          6,2,20000624,       1357,  55.001667,139.1050000,         88,    30.0,  -1.0515,  33.0563,2,  33.0828,2, 337.1000,2,   336.8,1,   28.64,2,   15.38,2,    0.15,2,    1.74,2, -999.00,  -1.0522
90CI20000602,     ------,      80,          1,          5,          5,2,20000624,       1357,  55.001667,139.1050000,         88,    39.5,  -1.3822,  33.1621,2,  33.1826,2, 329.9000,2,   329.4,1,   34.19,2,   17.39,2,    0.14,2,    1.90,2, -999.00,  -1.3830
90CI20000602,     ------,      80,          1,          4,          4,2,20000624,       1357,  55.001667,139.1050000,         88,    49.9,  -1.5987,  33.2504,2,  33.2551,2, 325.6000,2,   325.2,1,   36.56,2,   18.43,2,    0.11,2,    2.00,2, -999.00,  -1.5996
90CI20000602,     ------,      80,          1,          3,          3,2,20000624,       1357,  55.001667,139.1050000,         88,    60.3,  -1.6047,  33.2533,2,  33.2555,2, 325.3000,2,   325.6,1,   36.74,2,   18.66,2,    0.12,2,    2.00,2, -999.00,  -1.6059
90CI20000602,     ------,      80,          1,          2,          2,2,20000624,       1357,  55.001667,139.1050000,         88,    69.7,  -1.6053,  33.2535,2,  33.2549,2, 325.0000,2,   325.0,1,   36.53,2,   18.71,2,    0.12,2,    2.03,2, -999.00,  -1.6066
90CI20000602,     ------,      80,          1,          1,          1,2,20000624,       1357,  55.001667,139.1050000,         88,    84.4,  -1.6049,  33.2536,2,  33.2545,2, 325.5000,2,   324.8,1,   36.71,2,   18.52,2,    0.12,2,    2.04,2, -999.00,  -1.6065