BOTTLE,20121207CCHSIOMYS
EXPOCODE,SECT_ID,STNNBR,CASTNO,SAMPNO,BTLNBR,BTLNBR_FLAG_W,DATE,TIME,LATITUDE,LONGITUDE,DEPTH,CTDPRS,CTDTMP,CTDSAL,CTDSAL_FLAG_W,SALNTY,SALNTY_FLAG_W,CTDOXY,CTDOXY_FLAG_W,OXYGEN,OXYGEN_FLAG_W,SILCAT,SILCAT_FLAG_W,NITRAT,NITRAT_FLAG_W,NITRIT,NITRIT_FLAG_W,PHSPHT,PHSPHT_FLAG_W,CTDRAW,THETA
,,,,,,,,,,,,DBAR,ITS-90,PSS-78,,PSS-78,,UMOL/KG,,UMOL/KG,,UMOL/KG,,UMOL/KG,,UMOL/KG,,UMOL/KG,,DBAR,DEG C
90CI20000602,     ------,      55,          1,         19,         19,2,20000619,       1723,  55.045000,144.1816667,        958,     3.0,   2.2033,  32.4515,2,  32.4535,2, 293.6000,2,   422.6,1,    1.20,2,    1.81,2,    0.08,2,    0.40,2, -999.00,   2.2032
90CI20000602,     ------,      55,          1,         18,         18,2,20000619,       1723,  55.045000,144.1816667,        958,     9.8,   2.2014,  32.4524,2,  32.4558,2, 419.5000,2,   422.5,1,    1.37,2,    1.90,2,    0.08,2,    0.40,2, -999.00,   2.2009
90CI20000602,     ------,      55,          1,         17,         17,2,20000619,       1723,  55.045000,144.1816667,        958,    19.8,   1.7022,  32.4899,2,  32.4918,2, 413.4000,2,   414.7,1,    2.13,2,    3.97,2,    0.09,2,    0.54,2, -999.00,   1.7013
90CI20000602,     ------,      55,          1,         16,         16,2,20000619,       1723,  55.045000,144.1816667,        958,    30.1,   1.4836,  32.5113,2,  32.5120,2, 405.0000,2,   406.4,1,    3.08,2,    5.05,2,    0.10,2,    0.63,2, -999.00,   1.4823
90CI20000602,     ------,      55,          1,         15,         15,2,20000619,       1723,  55.045000,144.1816667,        958,    50.0,  -0.2720,  32.6894,2,  32.6883,2, 363.9000,2,   355.3,1,   21.28,2,   15.32,2,    0.14,2,    1.41,2, -999.00,  -0.2734
90CI20000602,     ------,      55,          1,         14,         14,2,20000619,       1723,  55.045000,144.1816667,        958,    72.5,  -0.5905,  32.8192,2,  32.8143,2, 324.1000,2,   332.6,1,   32.50,2,   19.57,2,    0.13,2,    1.70,2, -999.00,  -0.5925
90CI20000602,     ------,      55,          1,         13,         13,2,20000619,       1723,  55.045000,144.1816667,        958,   100.9,  -0.5070,  32.9355,2,  32.9359,2, 307.2000,2,   308.9,1,   40.03,2,   22.55,2,    0.10,2,    1.90,2, -999.00,  -0.5098
90CI20000602,     ------,      55,          1,         12,         12,2,20000619,       1723,  55.045000,144.1816667,        958,   124.9,  -0.2781,  33.0154,2,  33.0113,2, 293.4000,2,   290.5,1,   45.44,2,   24.52,2,    0.08,2,    2.03,2, -999.00,  -0.2819
90CI20000602,     ------,      55,          1,         11,         11,2,20000619,       1723,  55.045000,144.1816667,        958,   149.6,  -0.1213,  33.0592,2,  33.0590,2, 279.9000,2,   279.0,1,   48.71,2,   25.73,2,    0.07,2,    2.10,2, -999.00,  -0.1262
90CI20000602,     ------,      55,          1,         10,         10,2,20000619,       1723,  55.045000,144.1816667,        958,   201.5,   0.5222,  33.2041,2,  33.2034,2, 230.2000,2,   238.0,1,   58.38,2,   29.17,2,    0.03,2,    2.35,2, -999.00,   0.5145
90CI20000602,     ------,      55,          1,          9,          9,2,20000619,       1723,  55.045000,144.1816667,        958,   252.2,   1.0429,  33.3224,2,  33.3207,2, 196.4000,2,   196.6,1,   68.43,2,   32.09,2,    0.01,2,    2.56,2, -999.00,   1.0318
90CI20000602,     ------,      55,          1,          8,          8,2,20000619,       1723,  55.045000,144.1816667,        958,   302.7,   1.3556,  33.4278,2,  33.4276,2, 159.6000,2,   156.4,1,   80.05,2,   34.51,2,    0.00,2,    2.77,2, -999.00,   1.3414
90CI20000602,     ------,      55,          1,          7,          7,2,20000619,       1723,  55.045000,144.1816667,        958,   402.5,   1.6649,  33.5615,2,  33.5595,2, 127.5000,2,   129.8,1,   89.54,2,   36.11,2,    0.00,2,    2.85,2, -999.00,   1.6445
90CI20000602,     ------,      55,          1,          6,          6,2,20000619,       1723,  55.045000,144.1816667,        958,   504.1,   2.0174,  33.8223,2,  33.8221,2,  92.4000,2,    90.9,1,  114.83,2,   38.55,2,    0.00,2,    2.99,2, -999.00,   1.9898
90CI20000602,     ------,      55,          1,          5,          5,2,20000619,       1723,  55.045000,144.1816667,        958,   606.3,   2.2778,  34.0672,2,  34.0671,2,  64.5000,2,    57.8,1,  141.45,2,   40.65,2,    0.00,2,    3.11,2, -999.00,   2.2425
90CI20000602,     ------,      55,          1,          4,          4,2,20000619,       1723,  55.045000,144.1816667,        958,   707.8,   2.3325,  34.1468,2,  34.1466,2,  53.5000,2,    48.9,1,  150.69,2,   41.24,2,    0.00,2,    3.13,2, -999.00,   2.2903
90CI20000602,     ------,      55,          1,          3,          3,2,20000619,       1723,  55.045000,144.1816667,        958,   808.7,   2.3454,  34.1747,2,  34.1748,2,  47.0000,2,    46.2,1,  154.22,2,   41.43,2,    0.00,2,    3.13,2, -999.00,   2.2963
90CI20000602,     ------,      55,          1,          2,          2,2,20000619,       1723,  55.045000,144.1816667,        958,   909.1,   2.3516,  34.2064,2,  34.2065,2,  42.7000,2,    43.6,1,  158.74,2,   41.42,2,    0.00,2,    3.15,2, -999.00,   2.2956
90CI20000602,     ------,      55,          1,          1,          1,2,20000619,       1723,  55.045000,144.1816667,        958,   930.8,   2.3577,  34.2124,2,  34.2114,2,  41.1000,2,    42.3,1,  159.50,2,   41.57,2,    0.00,2,    3.16,2, -999.00,   2.3002
90CI20000602,     ------,      56,          1,         13,         13,2,20000619,       2046,  55.333333,144.5766667,        412,     1.9,   2.1194,  32.6509,2,  32.6523,2, 364.3000,2,   387.3,1,    2.57,2,    6.79,2,    0.13,2,    0.69,2, -999.00,   2.1193
90CI20000602,     ------,      56,          1,         12,         12,2,20000619,       2046,  55.333333,144.5766667,        412,     9.3,   1.4459,  32.7051,2,  32.7087,2, 374.3000,2,   374.0,1,    8.95,2,   10.11,2,    0.13,2,    1.01,2, -999.00,   1.4455
90CI20000602,     ------,      56,          1,         11,         11,2,20000619,       2046,  55.333333,144.5766667,        412,    19.8,   0.6569,  32.7839,2,  32.7813,2, 359.5000,2,   356.0,1,   18.24,2,   14.14,2,    0.14,2,    1.29,2, -999.00,   0.6562
90CI20000602,     ------,      56,          1,         10,         10,2,20000619,       2046,  55.333333,144.5766667,        412,    29.8,   0.3539,  32.8170,2,  32.8186,2, 345.9000,2,   345.4,1,   22.88,2,   16.03,2,    0.15,2,    1.44,2, -999.00,   0.3529
90CI20000602,     ------,      56,          1,          9,          9,2,20000619,       2046,  55.333333,144.5766667,        412,    50.3,  -0.1588,  32.9000,2,  32.8963,2, 328.0000,2,   323.3,1,   33.54,2,   19.90,2,    0.13,2,    1.73,2, -999.00,  -0.1603
90CI20000602,     ------,      56,          1,          8,          8,2,20000619,       2046,  55.333333,144.5766667,        412,    73.7,  -0.1971,  32.9314,2,  32.9296,2, 308.4000,2,   314.1,1,   36.83,2,   21.20,2,    0.12,2,    1.81,2, -999.00,  -0.1994
90CI20000602,     ------,      56,          1,          7,          7,2,20000619,       2046,  55.333333,144.5766667,        412,    98.6,  -0.2536,  33.0054,2,  33.0033,2, 291.1000,2,   294.1,1,   44.20,2,   23.79,2,    0.11,2,    1.99,2, -999.00,  -0.2566
90CI20000602,     ------,      56,          1,          6,          6,2,20000619,       2046,  55.333333,144.5766667,        412,   123.3,   0.2859,  33.1716,2,  33.1646,2, 249.5000,2,   242.3,1,   58.77,2,   28.61,2,    0.08,2,    2.33,2, -999.00,   0.2815
90CI20000602,     ------,      56,          1,          5,          5,2,20000619,       2046,  55.333333,144.5766667,        412,   150.6,   0.9314,  33.3067,2,  33.3060,2, 203.1000,2,   201.5,1,   67.51,2,   31.56,2,    0.03,2,    2.53,2, -999.00,   0.9251
90CI20000602,     ------,      56,          1,          4,          4,2,20000619,       2046,  55.333333,144.5766667,        412,   201.3,   1.2502,  33.4059,2,  33.4029,2, 164.4000,2,   162.0,1,   78.81,2,   34.10,2,    0.00,2,    2.74,2, -999.00,   1.2411
90CI20000602,     ------,      56,          1,          3,          3,2,20000619,       2046,  55.333333,144.5766667,        412,   251.3,   1.5535,  33.4974,2,  33.4942,2, 129.3000,2,   129.3,1,   89.73,2,   35.95,2,    0.00,2,    2.90,2, -999.00,   1.5413
90CI20000602,     ------,      56,          1,          2,          2,2,20000619,       2046,  55.333333,144.5766667,        412,   300.9,   1.6283,  33.5587,2,  33.5637,2, 130.2000,2,   130.4,1,   87.78,2,   36.10,2,    0.00,2,    2.88,2, -999.00,   1.6134
90CI20000602,     ------,      56,          1,          1,          1,2,20000619,       2046,  55.333333,144.5766667,        412,   403.9,   1.8816,  33.7027,2,  33.7020,2, 106.2000,2,   105.2,1,  105.38,2,   37.12,2,    0.00,2,    2.96,2, -999.00,   1.8603
90CI20000602,     ------,      57,          1,         10,         10,2,20000620,       2352,  55.491667,144.8600000,        181,     2.2,   1.4895,  32.7449,2,  32.7458,2, 361.7000,2,   377.2,1,    8.98,2,   10.60,2,    0.15,2,    0.95,2, -999.00,   1.4894
90CI20000602,     ------,      57,          1,          9,          9,2,20000620,       2352,  55.491667,144.8600000,        181,    10.2,   1.2049,  32.7534,2,  32.7571,2, 372.4000,2,   372.9,1,   10.91,2,   11.50,2,    0.15,2,    1.02,2, -999.00,   1.2045
90CI20000602,     ------,      57,          1,          8,          8,2,20000620,       2352,  55.491667,144.8600000,        181,    20.0,  -0.0818,  32.8719,2,  32.8616,2, 331.7000,2,   333.3,1,   28.61,2,   18.44,2,    0.15,2,    1.61,2, -999.00,  -0.0824
90CI20000602,     ------,      57,          1,          7,          7,2,20000620,       2352,  55.491667,144.8600000,        181,    29.2,  -0.2823,  32.9168,2,  32.9137,2, 323.8000,2,   317.9,1,   35.42,2,   20.84,2,    0.14,2,    1.78,2, -999.00,  -0.2832
90CI20000602,     ------,      57,          1,          6,          6,2,20000620,       2352,  55.491667,144.8600000,        181,    50.6,  -0.2391,  32.9606,2,  32.9529,2, 302.7000,2,   306.1,1,   39.89,2,   21.95,2,    0.12,2,    1.88,2, -999.00,  -0.2407
90CI20000602,     ------,      57,          1,          5,          5,2,20000620,       2352,  55.491667,144.8600000,        181,    75.8,  -0.1786,  33.1055,2,  33.0929,2, 252.4000,2,   264.9,1, -999.00,9, -999.00,5, -999.00,9, -999.00,9, -999.00,  -0.1810
90CI20000602,     ------,      57,          1,          4,          4,2,20000620,       2352,  55.491667,144.8600000,        181,   100.5,   0.3922,  33.1873,2,  33.1854,2, 234.8000,2,   232.3,1,   61.91,2,   29.01,2,    0.06,2,    2.39,2, -999.00,   0.3885
90CI20000602,     ------,      57,          1,          3,          3,2,20000620,       2352,  55.491667,144.8600000,        181,   126.2,   0.4510,  33.2011,2,  33.2004,2, 229.5000,2,   227.3,1,   63.67,2,   29.44,2,    0.06,2,    2.42,2, -999.00,   0.4463
90CI20000602,     ------,      57,          1,          2,          2,2,20000620,       2352,  55.491667,144.8600000,        181,   152.3,   0.4733,  33.2121,2,  33.2092,2, 227.9000,2,   225.2,1,   64.26,2,   29.64,2,    0.06,2,    2.43,2, -999.00,   0.4676
90CI20000602,     ------,      57,          1,          1,          1,2,20000620,       2352,  55.491667,144.8600000,        181,   170.6,   0.4888,  33.2193,2,  33.2196,2, 223.6000,2,   220.9,1,   64.85,2,   29.88,2,    0.06,2,    2.46,2, -999.00,   0.4823
90CI20000602,     ------,      58,          1,          8,          8,2,20000620,       1050,  55.653333,145.0200000,        125,     2.1,   0.6457,  32.9787,2,  32.9809,2, 306.2000,2,   306.3,1,   43.30,2,   22.42,2,    0.13,2,    1.98,2, -999.00,   0.6456
90CI20000602,     ------,      58,          1,          7,          7,2,20000620,       1050,  55.653333,145.0200000,        125,     9.2,   0.6456,  32.9781,2,  32.9807,2, 306.5000,2,   306.2,1,   43.28,2,   22.51,2,    0.13,2,    1.99,2, -999.00,   0.6452
90CI20000602,     ------,      58,          1,          6,          6,2,20000620,       1050,  55.653333,145.0200000,        125,    20.3,   0.6445,  32.9782,2,  32.9803,2, 306.5000,2,   306.1,1,   43.45,2,   22.51,2,    0.13,2,    2.01,2, -999.00,   0.6437
90CI20000602,     ------,      58,          1,          5,          5,2,20000620,       1050,  55.653333,145.0200000,        125,    29.7,   0.6449,  32.9783,2,  32.9805,2, 306.4000,2,   306.0,1,   43.43,2,   22.51,2,    0.13,2,    2.03,2, -999.00,   0.6437
90CI20000602,     ------,      58,          1,          4,          4,2,20000620,       1050,  55.653333,145.0200000,        125,    49.2,   0.6469,  32.9773,2,  32.9793,2, 306.5000,2,   306.3,1,   43.42,2,   22.56,2,    0.13,2,    2.03,2, -999.00,   0.6450
90CI20000602,     ------,      58,          1,          3,          3,2,20000620,       1050,  55.653333,145.0200000,        125,    75.2,   0.6458,  32.9787,2,  32.9795,2, 306.2000,2,   306.4,1,   43.20,2,   22.52,2,    0.13,2,    2.03,2, -999.00,   0.6429
90CI20000602,     ------,      58,          1,          2,          2,2,20000620,       1050,  55.653333,145.0200000,        125,   100.6,   0.6421,  32.9793,2,  32.9828,2, 306.0000,2,   306.9,1,   43.38,2,   22.56,2,    0.13,2,    2.05,2, -999.00,   0.6383
90CI20000602,     ------,      58,          1,          1,          1,2,20000620,       1050,  55.653333,145.0200000,        125,   119.9,   0.6379,  32.9816,2,  32.9851,2, 305.8000,2,   305.0,1,   43.36,2,   22.57,2,    0.13,2,    2.08,2, -999.00,   0.6332
90CI20000602,     ------,      61,          1,         10,         10,2,20000621,       0756,  55.831667,145.4983333,        173,     2.0,   1.2957,  32.9516,2,  32.9528,2, 338.8000,2,   337.8,1,   34.14,2,   18.95,2,    0.14,2,    1.60,2, -999.00,   1.2956
90CI20000602,     ------,      61,          1,          9,          9,2,20000621,       0756,  55.831667,145.4983333,        173,     9.6,   0.7775,  32.9485,2,  32.9468,2, 327.0000,2,   328.5,1,   33.73,2,   19.25,2,    0.13,2,    1.62,2, -999.00,   0.7772
90CI20000602,     ------,      61,          1,          8,          8,2,20000621,       0756,  55.831667,145.4983333,        173,    19.4,   0.6538,  32.9668,2,  32.9694,2, 307.9000,2,   307.8,1,   38.97,2,   21.44,2,    0.11,2,    1.80,2, -999.00,   0.6531
90CI20000602,     ------,      61,          1,          7,          7,2,20000621,       0756,  55.831667,145.4983333,        173,    29.6,   0.5832,  32.9801,2,  32.9785,2, 299.6000,2,   303.9,1,   41.99,2,   22.34,2,    0.12,2,    1.90,2, -999.00,   0.5821
90CI20000602,     ------,      61,          1,          6,          6,2,20000621,       0756,  55.831667,145.4983333,        173,    50.0,   0.5264,  32.9933,2,  32.9929,2, 294.2000,2,   296.6,1,   43.80,2,   22.81,2,    0.12,2,    1.96,2, -999.00,   0.5245
90CI20000602,     ------,      61,          1,          5,          5,2,20000621,       0756,  55.831667,145.4983333,        173,    74.3,   0.4541,  33.0188,2,  33.0208,2, 285.9000,2,   285.5,1,   46.02,2,   23.64,2,    0.10,2,    1.97,2, -999.00,   0.4514
90CI20000602,     ------,      61,          1,          4,          4,2,20000621,       0756,  55.831667,145.4983333,        173,   101.1,   0.4397,  33.0430,2,  33.0465,2, 278.3000,2,   277.4,1,   48.84,2,   24.49,2,    0.10,2,    2.07,2, -999.00,   0.4360
90CI20000602,     ------,      61,          1,          3,          3,2,20000621,       0756,  55.831667,145.4983333,        173,   126.0,   0.4563,  33.0775,2,  33.0782,2, 271.7000,2,   267.6,1,   52.47,2,   25.40,2,    0.10,2,    2.15,2, -999.00,   0.4516
90CI20000602,     ------,      61,          1,          2,          2,2,20000621,       0756,  55.831667,145.4983333,        173,   151.3,   0.4581,  33.0785,2,  33.0802,2, 266.4000,2,   266.9,1,   52.47,2,   25.40,2,    0.10,2,    2.16,2, -999.00,   0.4524
90CI20000602,     ------,      61,          1,          1,          1,2,20000621,       0756,  55.831667,145.4983333,        173,   165.9,   0.4607,  33.0798,2,  33.0821,2, 261.3000,2,   266.3,1,   52.66,2,   25.54,2,    0.09,2,    2.17,2, -999.00,   0.4545
90CI20000602,     ------,      62,          1,          9,          9,2,20000621,       0908,  55.835000,145.2966667,        166,     2.4,   1.0811,  32.9560,2,  32.9571,2, 335.1000,2,   324.7,1,   36.07,2,   19.86,2,    0.13,2,    1.69,2, -999.00,   1.0810
90CI20000602,     ------,      62,          1,          8,          8,2,20000621,       0908,  55.835000,145.2966667,        166,     9.7,   0.8813,  32.9588,2,  32.9592,2, 326.0000,2,   323.1,1,   36.46,2,   19.96,2,    0.12,2,    1.71,2, -999.00,   0.8809
90CI20000602,     ------,      62,          1,          7,          7,2,20000621,       0908,  55.835000,145.2966667,        166,    18.6,   0.7874,  32.9601,2,  32.9614,2, 321.2000,2,   322.2,1,   36.45,2,   20.01,2,    0.12,2,    1.70,2, -999.00,   0.7867
90CI20000602,     ------,      62,          1,          6,          6,2,20000621,       0908,  55.835000,145.2966667,        166,    28.9,   0.6821,  32.9686,2,  32.9756,2, 314.2000,2,   309.0,1,   39.28,2,   21.34,2,    0.12,2,    1.81,2, -999.00,   0.6810
90CI20000602,     ------,      62,          1,          5,          5,2,20000621,       0908,  55.835000,145.2966667,        166,    49.3,   0.5437,  32.9995,2,  33.0005,2, 292.8000,2,   294.9,1,   43.52,2,   22.87,2,    0.11,2,    1.95,2, -999.00,   0.5419
90CI20000602,     ------,      62,          1,          4,          4,2,20000621,       0908,  55.835000,145.2966667,        166,    74.8,   0.5117,  33.0220,2,  33.0241,2, 281.7000,2,   285.3,1,   46.35,2,   23.73,2,    0.11,2,    2.04,2, -999.00,   0.5089
90CI20000602,     ------,      62,          1,          3,          3,2,20000621,       0908,  55.835000,145.2966667,        166,   100.2,   0.4901,  33.0559,2,  33.0554,2, 276.0000,2,   275.6,1,   49.99,2,   24.73,2,    0.10,2,    2.11,2, -999.00,   0.4863
90CI20000602,     ------,      62,          1,          2,          2,2,20000621,       0908,  55.835000,145.2966667,        166,   124.6,   0.4876,  33.0584,2,  33.0586,2, 274.1000,2,   274.7,1,   49.99,2,   24.83,2,    0.10,2,    2.14,2, -999.00,   0.4829
90CI20000602,     ------,      62,          1,          1,          1,2,20000621,       0908,  55.835000,145.2966667,        166,   160.8,   0.4866,  33.0589,2,  33.0584,2, 272.0000,2,   274.6,1,   49.98,2,   24.83,2,    0.10,2,    2.13,2, -999.00,   0.4805