BOTTLE,20121207CCHSIOMYS
EXPOCODE,SECT_ID,STNNBR,CASTNO,SAMPNO,BTLNBR,BTLNBR_FLAG_W,DATE,TIME,LATITUDE,LONGITUDE,DEPTH,CTDPRS,CTDTMP,CTDSAL,CTDSAL_FLAG_W,SALNTY,SALNTY_FLAG_W,CTDOXY,CTDOXY_FLAG_W,OXYGEN,OXYGEN_FLAG_W,SILCAT,SILCAT_FLAG_W,NITRAT,NITRAT_FLAG_W,NITRIT,NITRIT_FLAG_W,PHSPHT,PHSPHT_FLAG_W,CTDRAW,THETA
,,,,,,,,,,,,DBAR,ITS-90,PSS-78,,PSS-78,,UMOL/KG,,UMOL/KG,,UMOL/KG,,UMOL/KG,,UMOL/KG,,UMOL/KG,,DBAR,DEG C
90CI20000602,     ------,       1,          1,         18,         18,2,20000604,       0810,  46.350000,148.4850000,       3359,     2.2,   5.0060,  32.2916,2,  32.2949,2, 369.6000,2,   358.2,1,   18.08,2,    0.88,2,    0.04,2,    0.46,2, -999.00,   5.0058
90CI20000602,     ------,       1,          1,         17,         17,2,20000604,       0810,  46.350000,148.4850000,       3359,    11.0,   4.0683,  32.2879,2,  32.2930,2, 372.0000,2,   384.5,1,   25.12,2,    8.38,2,    0.13,2,    1.01,2, -999.00,   4.0676
90CI20000602,     ------,       1,          1,         16,         16,2,20000604,       0810,  46.350000,148.4850000,       3359,    29.5,   1.5539,  32.3998,2,  32.4091,2, 409.7000,2,   362.3,1,   25.12,2,    8.43,2,    0.13,2,    1.03,2, -999.00,   1.5526
90CI20000602,     ------,       1,          1,         15,         15,2,20000604,       0810,  46.350000,148.4850000,       3359,    48.2,  -0.1867,  32.6594,2,  32.6894,2, 346.2000,2,   333.6,1,   31.96,2,   16.62,2,    0.15,2,    1.52,2, -999.00,  -0.1882
90CI20000602,     ------,       1,          1,         14,         14,2,20000604,       0810,  46.350000,148.4850000,       3359,    73.9,  -0.3104,  32.7838,2,  32.7828,2, 318.9000,2,   322.4,1,   34.12,2,   19.17,2,    0.13,2,    1.65,2, -999.00,  -0.3126
90CI20000602,     ------,       1,          1,         13,         13,2,20000604,       0810,  46.350000,148.4850000,       3359,    99.5,  -0.4660,  32.8940,2,  32.8972,2, 310.8000,2,   312.4,1,   36.47,2,   19.92,2,    0.07,2,    1.73,2, -999.00,  -0.4689
90CI20000602,     ------,       1,          1,         12,         12,2,20000604,       0810,  46.350000,148.4850000,       3359,   124.2,  -0.6215,  32.9479,2,  32.9490,2, 306.7000,2,   315.9,1,   36.67,2,   20.28,2,    0.09,2,    1.76,2, -999.00,  -0.6250
90CI20000602,     ------,       1,          1,         11,         11,2,20000604,       0810,  46.350000,148.4850000,       3359,   149.7,   0.6702,  33.0981,2,  33.1019,2, 292.0000,2,   287.6,1,   47.66,2,   23.02,2,    0.13,2,    1.96,2, -999.00,   0.6643
90CI20000602,     ------,       1,          1,         10,         10,2,20000604,       0810,  46.350000,148.4850000,       3359,   199.2,   0.9399,  33.2005,2,  33.2097,2, 268.2000,2,   266.0,1,   54.93,2,   26.11,2,    0.13,2,    2.12,2, -999.00,   0.9315
90CI20000602,     ------,       1,          1,          9,          9,2,20000604,       0810,  46.350000,148.4850000,       3359,   247.4,   1.1382,  33.2976,2,  33.2998,2, 240.0000,2,   238.2,1,   60.83,2,   28.15,2,    0.14,2,    2.25,2, -999.00,   1.1272
90CI20000602,     ------,       1,          1,          8,          8,2,20000604,       0810,  46.350000,148.4850000,       3359,   298.3,   1.1491,  33.3676,2,  33.3718,2, 216.7000,2,   217.4,1,   63.40,2,   29.38,2,    0.08,2,    2.33,2, -999.00,   1.1356
90CI20000602,     ------,       1,          1,          7,          7,2,20000604,       0810,  46.350000,148.4850000,       3359,   397.2,   1.1322,  33.4765,2,  33.4790,2, 190.2000,2,   196.2,1,   65.18,2,   28.99,2,    0.01,2,    2.36,2, -999.00,   1.1139
90CI20000602,     ------,       1,          1,          6,          6,2,20000604,       0810,  46.350000,148.4850000,       3359,   497.1,   1.5185,  33.6549,2,  33.6665,2, 150.5000,2,   148.7,1,   87.08,2,   33.18,2,    0.00,2,    2.63,2, -999.00,   1.4935
90CI20000602,     ------,       1,          1,          5,          5,2,20000604,       0810,  46.350000,148.4850000,       3359,   596.8,   1.7918,  33.8052,2,  33.8056,2, 118.9000,2,   113.2,1,  106.70,2,   36.49,2,    0.00,2,    2.82,2, -999.00,   1.7597
90CI20000602,     ------,       1,          1,          4,          4,2,20000604,       0810,  46.350000,148.4850000,       3359,   695.4,   2.1058,  33.9667,2,  33.9734,2,  77.5000,2,    73.5,1,  129.25,2,   39.92,2,    0.00,2,    3.03,2, -999.00,   2.0659
90CI20000602,     ------,       1,          1,          3,          3,9,20000604,       0810,  46.350000,148.4850000,       3359,   795.3,   2.2663,  34.1008,2,-999.0000,9,  58.6000,2,  -999.0,9, -999.00,9, -999.00,9, -999.00,9, -999.00,9, -999.00,   2.2188
90CI20000602,     ------,       1,          1,          2,          2,2,20000604,       0810,  46.350000,148.4850000,       3359,   995.6,   2.3446,  34.2473,2,  34.2463,2,  40.1000,2,    41.4,1,  158.51,2,   42.26,2,    0.00,2,    3.16,2, -999.00,   2.2826
90CI20000602,     ------,       1,          1,          1,          1,2,20000604,       0810,  46.350000,148.4850000,       3359,  1024.4,   2.3183,  34.2653,2,  34.2649,2,  40.8000,2,    43.3,1,  158.36,2,   42.19,2,    0.00,2,    3.16,2, -999.00,   2.2545
90CI20000602,     ------,       2,          1,         22,         22,2,20000606,       1132,  46.585000,150.9750000,       1703,     3.4,   1.2571,  32.7343,2,  32.7374,2, 334.6000,2,   332.7,1,   31.72,2,   15.69,2,    0.13,2,    1.40,2, -999.00,   1.2569
90CI20000602,     ------,       2,          1,         23,         23,2,20000606,       1132,  46.585000,150.9750000,       1703,     3.6,   1.2575,  32.7345,2,  32.7375,2, 335.0000,2,   334.0,1,   31.73,2,   15.69,2,    0.13,2,    1.40,2, -999.00,   1.2573
90CI20000602,     ------,       2,          1,         21,         21,2,20000606,       1132,  46.585000,150.9750000,       1703,     8.5,   1.2600,  32.7329,2,  32.7359,2, 336.1000,2,   332.8,1,   31.70,2,   15.70,2,    0.13,2,    1.40,2, -999.00,   1.2597
90CI20000602,     ------,       2,          1,         20,         20,9,20000606,       1132,  46.585000,150.9750000,       1703,    19.2,   1.2562,  32.7354,2,-999.0000,9, 333.7000,2,  -999.0,9, -999.00,9, -999.00,9, -999.00,9, -999.00,9, -999.00,   1.2554
90CI20000602,     ------,       2,          1,         19,         19,2,20000606,       1132,  46.585000,150.9750000,       1703,    30.9,   1.2741,  32.7579,2,  32.7634,2, 329.3000,2,   330.9,1,   32.45,2,   16.07,2,    0.13,2,    1.43,2, -999.00,   1.2728
90CI20000602,     ------,       2,          1,         18,         18,9,20000606,       1132,  46.585000,150.9750000,       1703,    48.2,   1.3196,  32.7773,2,-999.0000,9, 325.6000,2,  -999.0,9, -999.00,9, -999.00,9, -999.00,9, -999.00,9, -999.00,   1.3176
90CI20000602,     ------,       2,          1,         17,         17,2,20000606,       1132,  46.585000,150.9750000,       1703,    72.8,   1.3448,  32.7958,2,  32.7985,2, 318.6000,2,   328.4,1,   33.60,2,   16.55,2,    0.14,2,    1.47,2, -999.00,   1.3416
90CI20000602,     ------,       2,          1,         16,         16,2,20000606,       1132,  46.585000,150.9750000,       1703,   102.3,   1.0261,  32.8999,2,  32.8933,2, 311.0000,2,   314.0,1,   37.63,2,   18.77,2,    0.12,2,    1.62,2, -999.00,   1.0218
90CI20000602,     ------,       2,          1,         15,         15,2,20000606,       1132,  46.585000,150.9750000,       1703,   124.9,   0.7897,  32.9945,2,  32.9882,2, 307.0000,2,   305.8,1,   41.27,2,   21.02,2,    0.14,2,    1.77,2, -999.00,   0.7847
90CI20000602,     ------,       2,          1,         14,         14,2,20000606,       1132,  46.585000,150.9750000,       1703,   151.4,   0.9118,  33.0463,2,  33.0463,2, 293.2000,2,   293.0,1,   44.92,2,   22.21,2,    0.14,2,    1.86,2, -999.00,   0.9056
90CI20000602,     ------,       2,          1,         13,         13,9,20000606,       1132,  46.585000,150.9750000,       1703,   200.8,   0.9545,  33.1017,2,-999.0000,9, 280.6000,2,  -999.0,9, -999.00,9, -999.00,9, -999.00,9, -999.00,9, -999.00,   0.9461
90CI20000602,     ------,       2,          1,         12,         12,2,20000606,       1132,  46.585000,150.9750000,       1703,   299.3,   1.1796,  33.2996,2,  33.2980,2, 234.5000,2,   239.0,1,   58.78,2,   27.98,2,    0.11,2,    2.23,2, -999.00,   1.1661
90CI20000602,     ------,       2,          1,         11,         11,2,20000606,       1132,  46.585000,150.9750000,       1703,   396.5,   1.3229,  33.4249,2,  33.4242,2, 199.6000,2,   198.7,1,   68.22,2,   30.75,2,    0.07,2,    2.44,2, -999.00,   1.3041
90CI20000602,     ------,       2,          1,         10,         10,2,20000606,       1132,  46.585000,150.9750000,       1703,   499.5,   1.7701,  33.5571,2,  33.5566,2, 168.1000,2,   170.7,1,   80.95,2,   32.94,2,    0.09,2,    2.54,2, -999.00,   1.7439
90CI20000602,     ------,       2,          1,          9,          9,2,20000606,       1132,  46.585000,150.9750000,       1703,   598.0,   2.1472,  33.6962,2,  33.6934,2, 137.1000,2,   135.6,1,   91.00,2,   35.68,2,    0.05,2,    2.71,2, -999.00,   2.1134
90CI20000602,     ------,       2,          1,          8,          8,4,20000606,       1132,  46.585000,150.9750000,       1703,   701.3,   2.4508,  33.8132,2,  33.6950,4,  96.6000,2,   132.5,4,   91.36,2,   35.79,2,    0.05,2,    2.72,2, -999.00,   2.4087
90CI20000602,     ------,       2,          1,          7,          7,4,20000606,       1132,  46.585000,150.9750000,       1703,   802.4,   2.3576,  33.9592,2,  32.7537,4,  77.7000,2,  -999.0,9,   32.30,2,   16.02,2,    0.14,2,    1.44,2, -999.00,   2.3092
90CI20000602,     ------,       2,          1,          6,          6,2,20000606,       1132,  46.585000,150.9750000,       1703,   997.1,   2.2391,  34.1151,2,  34.1144,2,  66.0000,2,    71.1,1,  135.78,2,   40.03,2,    0.00,2,    2.99,2, -999.00,   2.1781
90CI20000602,     ------,       2,          1,          5,          5,2,20000606,       1132,  46.585000,150.9750000,       1703,  1196.2,   2.2442,  34.2877,2,  34.2879,2,  59.6000,2,    57.6,1,  151.75,2,   41.16,2,    0.00,2,    3.05,2, -999.00,   2.1687
90CI20000602,     ------,       2,          1,          4,          4,2,20000606,       1132,  46.585000,150.9750000,       1703,  1397.9,   2.0629,  34.4744,2,  34.4777,2,  62.0000,2,    62.0,1,  166.46,2,   41.31,2,    0.00,2,    3.01,2, -999.00,   1.9738
90CI20000602,     ------,       2,          1,          3,          3,2,20000606,       1132,  46.585000,150.9750000,       1703,  1595.3,   2.0598,  34.4851,2,  34.4846,2,  63.6000,2,    62.0,1,  167.03,2,   41.13,2,    0.00,2,    3.02,2, -999.00,   1.9557
90CI20000602,     ------,       2,          1,          2,          2,9,20000606,       1132,  46.585000,150.9750000,       1703,  1683.9,   2.0309,  34.5028,2,-999.0000,9,  65.5000,2,  -999.0,9, -999.00,9, -999.00,9, -999.00,9, -999.00,9, -999.00,   1.9201
90CI20000602,     ------,       2,          1,          1,          1,2,20000606,       1132,  46.585000,150.9750000,       1703,  1684.4,   2.0282,  34.5041,2,  34.5053,2,  65.5000,2,    66.3,1,  168.60,2,   41.19,2,    0.00,2,    3.00,2, -999.00,   1.9175
90CI20000602,     ------,       3,          1,         23,         23,2,20000606,       1527,  46.665000,151.0900000,       2989,     1.9,   1.5966,  32.7432,2,  32.7419,2, 335.4000,2,   335.3,1,   31.08,2,   15.27,2,    0.14,2,    1.37,2, -999.00,   1.5965
90CI20000602,     ------,       3,          1,         22,         22,2,20000606,       1527,  46.665000,151.0900000,       2989,     9.1,   1.5857,  32.7448,2,  32.7447,2, 336.0000,2,   335.0,1,   31.04,2,   15.31,2,    0.14,2,    1.37,2, -999.00,   1.5852
90CI20000602,     ------,       3,          1,         21,         21,2,20000606,       1527,  46.665000,151.0900000,       2989,    29.7,   1.0260,  32.8448,2,  32.8460,2, 333.3000,2,   325.4,1,   33.90,2,   17.49,2,    0.13,2,    1.53,2, -999.00,   1.0248
90CI20000602,     ------,       3,          1,         20,         20,2,20000606,       1527,  46.665000,151.0900000,       2989,    47.9,   0.9356,  32.8343,2,  32.8379,2, 326.2000,2,   328.2,1,   33.29,2,   17.25,2,    0.14,2,    1.53,2, -999.00,   0.9336
90CI20000602,     ------,       3,          1,         19,         19,2,20000606,       1527,  46.665000,151.0900000,       2989,    70.0,   0.3976,  32.9031,2,  32.9066,2, 307.9000,2,   318.8,1,   35.57,2,   19.15,2,    0.13,2,    1.66,2, -999.00,   0.3951
90CI20000602,     ------,       3,          1,         18,         18,4,20000606,       1527,  46.665000,151.0900000,       2989,    97.2,   0.5599,  33.0341,2,  32.9948,4, 290.5000,2,   303.5,4,   40.54,2,   21.14,2,    0.13,2,    1.80,2, -999.00,   0.5562
90CI20000602,     ------,       3,          1,         17,         17,2,20000606,       1527,  46.665000,151.0900000,       2989,   122.5,   0.9101,  33.1267,2,  33.1284,2, 282.8000,2,   275.2,1,   48.97,2,   24.27,2,    0.14,2,    1.98,2, -999.00,   0.9051
90CI20000602,     ------,       3,          1,         16,         16,2,20000606,       1527,  46.665000,151.0900000,       2989,   148.9,   0.8960,  33.1477,2,  33.1493,2, 275.2000,2,   271.0,1,   50.09,2,   24.66,2,    0.12,2,    2.01,2, -999.00,   0.8899
90CI20000602,     ------,       3,          1,         15,         15,9,20000606,       1527,  46.665000,151.0900000,       2989,   197.5,   0.9849,  33.2048,2,-999.0000,9, 273.0000,2,  -999.0,9, -999.00,9, -999.00,9, -999.00,9, -999.00,9, -999.00,   0.9765
90CI20000602,     ------,       3,          1,         14,         14,2,20000606,       1527,  46.665000,151.0900000,       2989,   248.6,   0.9605,  33.2278,2,  33.2335,2, 246.1000,2,   254.2,1,   54.88,2,   26.31,2,    0.14,2,    2.15,2, -999.00,   0.9499
90CI20000602,     ------,       3,          1,         13,         13,9,20000606,       1527,  46.665000,151.0900000,       2989,   399.5,   1.3532,  33.4430,2,-999.0000,9, 206.5000,2,  -999.0,9, -999.00,9, -999.00,9, -999.00,9, -999.00,9, -999.00,   1.3341
90CI20000602,     ------,       3,          1,         12,         12,2,20000606,       1527,  46.665000,151.0900000,       2989,   495.1,   1.4421,  33.5182,2,  33.5196,2, 174.3000,2,   175.5,1,   73.15,2,   31.76,2,    0.01,2,    2.52,2, -999.00,   1.4176
90CI20000602,     ------,       3,          1,         11,         11,4,20000606,       1527,  46.665000,151.0900000,       2989,   593.5,   1.9111,  33.6678,2,  33.5468,4, 109.0000,2,   156.0,4,   79.10,2,   33.10,2,    0.02,2,    2.59,2, -999.00,   1.8788
90CI20000602,     ------,       3,          1,         10,         10,2,20000606,       1527,  46.665000,151.0900000,       2989,   695.9,   2.5641,  33.8164,2,  33.8169,2,  76.1000,2,    97.0,1,   99.77,2,   38.72,2,    0.02,2,    2.87,2, -999.00,   2.5218
90CI20000602,     ------,       3,          1,          9,          9,2,20000606,       1527,  46.665000,151.0900000,       2989,   794.6,   2.4679,  34.0096,2,  34.0088,2,  69.2000,2,    84.8,1,  122.12,2,   40.40,2,    0.00,2,    3.00,2, -999.00,   2.4193
90CI20000602,     ------,       3,          1,          8,          8,2,20000606,       1527,  46.665000,151.0900000,       2989,   994.2,   2.3973,  34.1960,2,  34.1933,2,  54.3000,2,    50.5,1,  145.27,2,   41.48,2,    0.00,2,    3.09,2, -999.00,   2.3350
90CI20000602,     ------,       3,          1,          7,          7,2,20000606,       1527,  46.665000,151.0900000,       2989,  1200.6,   2.2888,  34.3565,2,  34.3567,2,  51.3000,2,    46.3,1,  157.90,2,   42.07,2,    0.00,2,    3.08,2, -999.00,   2.2123
90CI20000602,     ------,       3,          1,          6,          6,2,20000606,       1527,  46.665000,151.0900000,       2989,  1400.4,   2.1266,  34.4636,2,  34.4639,2,  51.8000,2,    53.8,1,  165.07,2,   41.75,2,    0.00,2,    3.05,2, -999.00,   2.0368
90CI20000602,     ------,       3,          1,          5,          5,2,20000606,       1527,  46.665000,151.0900000,       2989,  1596.2,   2.0772,  34.4985,2,  34.4984,2,  57.0000,2,    57.5,1,  167.04,2,   41.60,2,    0.00,2,    3.02,2, -999.00,   1.9728
90CI20000602,     ------,       3,          1,          4,          4,2,20000606,       1527,  46.665000,151.0900000,       2989,  1796.7,   2.0484,  34.5203,2,  34.5196,2,  59.8000,2,    59.9,1,  168.01,2,   41.59,2,    0.00,2,    3.01,2, -999.00,   1.9283
90CI20000602,     ------,       3,          1,          3,          3,2,20000606,       1527,  46.665000,151.0900000,       2989,  2000.0,   1.9766,  34.5431,2,  34.5428,2,  66.1000,2,    66.4,1,  170.38,2,   40.95,2,    0.00,2,    2.99,2, -999.00,   1.8408
90CI20000602,     ------,       3,          1,          2,          2,2,20000606,       1527,  46.665000,151.0900000,       2989,  2496.2,   1.8676,  34.5900,2,  34.5893,2,  78.1000,2,    78.5,1,  173.76,2,   40.30,2,    0.00,2,    2.94,2, -999.00,   1.6904
90CI20000602,     ------,       3,          1,          1,          1,2,20000606,       1527,  46.665000,151.0900000,       2989,  2902.7,   1.8446,  34.6062,2,  34.6056,2,  84.8000,2,    84.6,1,  175.75,2,   39.70,2,    0.00,2,    2.91,2, -999.00,   1.6299