BOTTLE,20121207CCHSIOMYS
EXPOCODE,SECT_ID,STNNBR,CASTNO,SAMPNO,BTLNBR,BTLNBR_FLAG_W,DATE,TIME,LATITUDE,LONGITUDE,DEPTH,CTDPRS,CTDTMP,CTDSAL,CTDSAL_FLAG_W,SALNTY,SALNTY_FLAG_W,CTDOXY,CTDOXY_FLAG_W,OXYGEN,OXYGEN_FLAG_W,SILCAT,SILCAT_FLAG_W,NITRAT,NITRAT_FLAG_W,NITRIT,NITRIT_FLAG_W,PHSPHT,PHSPHT_FLAG_W,CTDRAW,THETA
,,,,,,,,,,,,DBAR,ITS-90,PSS-78,,PSS-78,,UMOL/KG,,UMOL/KG,,UMOL/KG,,UMOL/KG,,UMOL/KG,,UMOL/KG,,DBAR,DEG C
90CI20000602,     ------,       4,          1,         23,         23,2,20000606,       2039,  46.735000,151.2066667,       3170,     3.3,   2.6173,  32.6611,2,  32.6648,2, 373.3000,2,   353.2,1,   25.64,2,   10.18,2,    0.13,2,    0.97,2, -999.00,   2.6171
90CI20000602,     ------,       4,          1,         22,         22,2,20000606,       2039,  46.735000,151.2066667,       3170,    19.0,   2.6164,  32.6616,2,  32.6651,2, 350.9000,2,   353.2,1,   25.64,2,   10.22,2,    0.13,2,    0.96,2, -999.00,   2.6154
90CI20000602,     ------,       4,          1,         21,         21,2,20000606,       2039,  46.735000,151.2066667,       3170,    37.8,   2.5896,  32.6651,2,  32.6716,2, 346.5000,2,   353.1,1,   25.82,2,   10.46,2,    0.13,2,    1.00,2, -999.00,   2.5876
90CI20000602,     ------,       4,          1,         20,         20,2,20000606,       2039,  46.735000,151.2066667,       3170,    57.2,   1.6634,  32.7187,2,  32.7181,2, 343.0000,2,   344.3,1,   28.11,2,   13.19,2,    0.14,2,    1.23,2, -999.00,   1.6608
90CI20000602,     ------,       4,          1,         19,         19,2,20000606,       2039,  46.735000,151.2066667,       3170,    84.7,   0.4000,  32.8240,2,  32.8283,2, 330.9000,2,   329.1,1,   31.94,2,   17.39,2,    0.14,2,    1.57,2, -999.00,   0.3969
90CI20000602,     ------,       4,          1,         18,         18,2,20000606,       2039,  46.735000,151.2066667,       3170,   110.3,  -0.0997,  32.8965,2,  32.8823,2, 308.0000,2,   322.8,1,   33.66,2,   18.64,2,    0.13,2,    1.66,2, -999.00,  -0.1032
90CI20000602,     ------,       4,          1,         17,         17,2,20000606,       2039,  46.735000,151.2066667,       3170,   135.1,  -0.8996,  32.9468,2,  32.9518,2, 292.4000,2,   320.9,1,   33.46,2,   20.10,2,    0.04,2,    1.76,2, -999.00,  -0.9030
90CI20000602,     ------,       4,          1,         16,         16,2,20000606,       2039,  46.735000,151.2066667,       3170,   165.2,  -0.6828,  33.0161,2,  32.9971,2, 288.4000,2,   313.6,1,   35.17,2,   20.53,2,    0.03,2,    1.81,2, -999.00,  -0.6874
90CI20000602,     ------,       4,          1,         15,         15,9,20000606,       2039,  46.735000,151.2066667,       3170,   212.1,  -0.4615,  33.0885,2,-999.0000,9, 273.5000,2,  -999.0,9, -999.00,9, -999.00,9, -999.00,9, -999.00,9, -999.00,  -0.4679
90CI20000602,     ------,       4,          1,         14,         14,9,20000606,       2039,  46.735000,151.2066667,       3170,   261.6,  -0.1835,  33.1642,2,-999.0000,9, 257.5000,2,  -999.0,9, -999.00,9, -999.00,9, -999.00,9, -999.00,9, -999.00,  -0.1922
90CI20000602,     ------,       4,          1,         12,         12,4,20000606,       2039,  46.735000,151.2066667,       3170,   312.5,   0.7332,  33.2798,2,  33.3039,2, 243.1000,2,   230.2,1,   56.15,2,   27.78,2,    0.09,2,    2.26,2, -999.00,   0.7202
90CI20000602,     ------,       4,          1,         13,         13,9,20000606,       2039,  46.735000,151.2066667,       3170,   312.5,   0.7332,  33.2798,2,-999.0000,9, 243.1000,2,  -999.0,9, -999.00,9, -999.00,9, -999.00,9, -999.00,9, -999.00,   0.7202
90CI20000602,     ------,       4,          1,         11,         11,4,20000606,       2039,  46.735000,151.2066667,       3170,   412.2,   1.2785,  33.4113,2,  33.3790,2, 192.6000,2,   206.1,1,   64.30,2,   29.76,2,    0.04,2,    2.38,2, -999.00,   1.2590
90CI20000602,     ------,       4,          1,         10,         10,2,20000606,       2039,  46.735000,151.2066667,       3170,   615.5,   1.8470,  33.7743,2,  33.7772,2, 137.1000,2,   121.3,1,  100.28,2,   35.82,2,    0.00,2,    2.76,2, -999.00,   1.8136
90CI20000602,     ------,       4,          1,          9,          9,2,20000606,       2039,  46.735000,151.2066667,       3170,   714.6,   1.9388,  33.8343,2,  33.8222,2, 106.1000,2,   109.7,1,  106.65,2,   36.74,2,    0.00,2,    2.82,2, -999.00,   1.8988
90CI20000602,     ------,       4,          1,          6,          6,2,20000606,       2039,  46.735000,151.2066667,       3170,   814.0,   2.1962,  34.0218,2,  34.0200,2,  87.2000,2,    69.5,1,  131.31,2,   39.86,2,    0.00,2,    3.02,2, -999.00,   2.1480
90CI20000602,     ------,       4,          1,          7,          7,2,20000606,       2039,  46.735000,151.2066667,       3170,   814.8,   2.1938,  34.0187,2,  34.0209,2,  87.2000,2,    69.5,1,  131.32,2,   40.01,2,    0.00,2,    3.02,2, -999.00,   2.1456
90CI20000602,     ------,       4,          1,          8,          8,2,20000606,       2039,  46.735000,151.2066667,       3170,   815.3,   2.1942,  34.0212,2,  34.0194,2,  87.2000,2,    69.2,1,  131.33,2,   39.71,2,    0.00,2,    3.02,2, -999.00,   2.1459
90CI20000602,     ------,       4,          1,          5,          5,2,20000606,       2039,  46.735000,151.2066667,       3170,  1616.1,   2.1045,  34.4976,2,  34.5001,2,  53.4000,2,    55.5,1,  166.98,2,   41.66,2,    0.00,2,    3.03,2, -999.00,   1.9982
90CI20000602,     ------,       4,          1,          4,          4,2,20000606,       2039,  46.735000,151.2066667,       3170,  2023.2,   1.9553,  34.5525,2,  34.5531,2,  66.3000,2,    68.2,1,  170.56,2,   40.97,2,    0.00,2,    2.98,2, -999.00,   1.8178
90CI20000602,     ------,       4,          1,          3,          3,2,20000606,       2039,  46.735000,151.2066667,       3170,  2529.6,   1.8586,  34.5916,2,  34.5932,2,  78.8000,2,    79.8,1,  174.55,2,   40.09,2,    0.00,2,    2.94,2, -999.00,   1.6786
90CI20000602,     ------,       4,          1,          2,          2,2,20000606,       2039,  46.735000,151.2066667,       3170,  3043.0,   1.8501,  34.6071,2,  34.6086,2,  85.9000,2,    87.0,1,  175.34,2,   39.64,2,    0.00,2,    2.91,2, -999.00,   1.6218
90CI20000602,     ------,       4,          1,          1,          1,2,20000606,       2039,  46.735000,151.2066667,       3170,  3146.7,   1.8506,  34.6094,2,  34.6104,2,  88.2000,2,    87.5,1,  174.72,2,   39.59,2,    0.00,2,    2.90,2, -999.00,   1.6120
90CI20000602,     ------,       5,          1,         24,         24,2,20000607,       0206,  46.740000,151.4166667,       2817,     4.1,   1.7570,  32.5315,2,  32.5356,2, 351.8000,2,   356.0,1,   24.13,2,   10.46,2,    0.13,2,    1.02,2, -999.00,   1.7568
90CI20000602,     ------,       5,          1,         23,         23,2,20000607,       0206,  46.740000,151.4166667,       2817,    11.1,   1.8111,  32.5648,2,  32.5541,2, 356.3000,2,   355.3,1,   24.12,2,   10.60,2,    0.13,2,    1.03,2, -999.00,   1.8106
90CI20000602,     ------,       5,          1,         22,         22,2,20000607,       0206,  46.740000,151.4166667,       2817,    30.0,   0.2580,  32.8697,2,  32.7528,2, 330.4000,2,   335.6,1,   30.83,2,   16.08,2,    0.13,2,    1.42,2, -999.00,   0.2570
90CI20000602,     ------,       5,          1,         21,         21,2,20000607,       0206,  46.740000,151.4166667,       2817,    49.4,   0.4562,  32.9658,2,  32.9684,2, 304.8000,2,   309.0,1,   39.47,2,   20.90,2,    0.15,2,    1.75,2, -999.00,   0.4544
90CI20000602,     ------,       5,          1,         20,         20,9,20000607,       0206,  46.740000,151.4166667,       2817,    77.7,   0.6785,  33.0302,2,-999.0000,9, 293.4000,2,  -999.0,9, -999.00,9, -999.00,9, -999.00,9, -999.00,9, -999.00,   0.6755
90CI20000602,     ------,       5,          1,         19,         19,2,20000607,       0206,  46.740000,151.4166667,       2817,   102.1,   0.8760,  33.1207,2,  33.1179,2, 281.9000,2,   281.2,1,   47.14,2,   23.65,2,    0.11,2,    1.92,2, -999.00,   0.8718
90CI20000602,     ------,       5,          1,         18,         18,2,20000607,       0206,  46.740000,151.4166667,       2817,   125.7,   1.2458,  33.2038,2,  33.1690,2, 276.7000,2,   270.2,1,   51.55,2,   24.74,2,    0.11,2,    2.00,2, -999.00,   1.2402
90CI20000602,     ------,       5,          1,         17,         17,2,20000607,       0206,  46.740000,151.4166667,       2817,   153.0,   1.2771,  33.2162,2,-999.0000,9, 262.3000,2,   258.3,1,   56.15,2,   25.60,2,    0.11,2,    2.07,2, -999.00,   1.2702
90CI20000602,     ------,       5,          1,         16,         16,2,20000607,       0206,  46.740000,151.4166667,       2817,   203.9,   1.3678,  33.2651,2,  33.2676,2, 237.4000,2,   247.1,1,   59.41,2,   26.84,2,    0.11,2,    2.14,2, -999.00,   1.3585
90CI20000602,     ------,       5,          1,         15,         15,2,20000607,       0206,  46.740000,151.4166667,       2817,   254.9,   1.3889,  33.3130,2,  33.3122,2, 223.8000,2,   236.2,1,   62.86,2,   27.80,2,    0.11,2,    2.21,2, -999.00,   1.3770
90CI20000602,     ------,       5,          1,         14,         14,2,20000607,       0206,  46.740000,151.4166667,       2817,   306.9,   1.4612,  33.3665,2,  33.3633,2, 213.6000,2,   221.4,1,   66.89,2,   28.82,2,    0.10,2,    2.27,2, -999.00,   1.4466
90CI20000602,     ------,       5,          1,         13,         13,2,20000607,       0206,  46.740000,151.4166667,       2817,   399.9,   1.6552,  33.5569,2,  33.5557,2, 175.4000,2,   174.6,1,   81.13,2,   32.17,2,    0.06,2,    2.50,2, -999.00,   1.6350
90CI20000602,     ------,       5,          1,         12,         12,2,20000607,       0206,  46.740000,151.4166667,       2817,   502.2,   1.6947,  33.7136,2,  33.7127,2, 130.5000,2,   134.3,1,   92.70,2,   34.74,2,    0.00,2,    2.68,2, -999.00,   1.6686
90CI20000602,     ------,       5,          1,         11,         11,2,20000607,       0206,  46.740000,151.4166667,       2817,   598.8,   1.8902,  33.8172,2,  33.8153,2, 109.0000,2,   110.0,1,  105.86,2,   36.68,2,    0.00,2,    2.81,2, -999.00,   1.8575
90CI20000602,     ------,       5,          1,         10,         10,2,20000607,       0206,  46.740000,151.4166667,       2817,   697.8,   2.1393,  33.9713,2,  33.9709,2,  88.5000,2,    84.4,1,  122.96,2,   39.02,2,    0.00,2,    2.93,2, -999.00,   2.0991
90CI20000602,     ------,       5,          1,          9,          9,2,20000607,       0206,  46.740000,151.4166667,       2817,   804.4,   2.3115,  34.1299,2,  34.1233,2,  61.9000,2,    55.7,1,  142.75,2,   41.07,2,    0.00,2,    3.06,2, -999.00,   2.2631
90CI20000602,     ------,       5,          1,          8,          8,2,20000607,       0206,  46.740000,151.4166667,       2817,  1003.3,   2.3277,  34.3127,2,  34.3110,2,  47.3000,2,    44.3,1,  157.56,2,   42.15,2,    0.00,2,    3.09,2, -999.00,   2.2652
90CI20000602,     ------,       5,          1,          7,          7,2,20000607,       0206,  46.740000,151.4166667,       2817,  1210.0,   2.2483,  34.4072,2,  34.4047,2,  48.5000,2,    48.0,1,  160.72,2,   42.20,2,    0.00,2,    3.05,2, -999.00,   2.1714
90CI20000602,     ------,       5,          1,          6,          6,2,20000607,       0206,  46.740000,151.4166667,       2817,  1413.0,   2.1938,  34.4452,2,  34.4447,2,  51.7000,2,    52.5,1,  161.90,2,   42.15,2,    0.00,2,    3.03,2, -999.00,   2.1023
90CI20000602,     ------,       5,          1,          5,          5,2,20000607,       0206,  46.740000,151.4166667,       2817,  1617.9,   2.1449,  34.4759,2,  34.4760,2,  54.1000,2,    55.8,1,  164.07,2,   41.71,2,    0.00,2,    3.01,2, -999.00,   2.0380
90CI20000602,     ------,       5,          1,          4,          4,2,20000607,       0206,  46.740000,151.4166667,       2817,  1823.1,   2.0407,  34.5232,2,  34.5127,3,  58.4000,2,    59.7,1,  167.45,2,   41.76,2,    0.00,2,    3.00,2, -999.00,   1.9186
90CI20000602,     ------,       5,          1,          3,          3,2,20000607,       0206,  46.740000,151.4166667,       2817,  2025.8,   1.9776,  34.5475,2,  34.5485,2,  65.4000,2,    66.5,1,  170.43,2,   41.17,2,    0.00,2,    2.96,2, -999.00,   1.8396
90CI20000602,     ------,       5,          1,          2,          2,2,20000607,       0206,  46.740000,151.4166667,       2817,  2538.1,   1.8448,  34.5961,2,  34.5970,2,  84.2000,2,    84.3,1,  169.21,2,   40.08,2,    0.00,2,    2.87,2, -999.00,   1.6642
90CI20000602,     ------,       5,          1,          1,          1,2,20000607,       0206,  46.740000,151.4166667,       2817,  2783.2,   1.7831,  34.6154,2,  34.6156,2,  96.0000,2,    95.1,1,  166.19,2,   39.30,2,    0.00,2,    2.81,2, -999.00,   1.5811
90CI20000602,     ------,       6,          1,         20,         20,2,20000607,       0635,  46.751667,151.6216667,       1278,     2.2,   0.9671,  33.0890,2,  33.0911,2, 278.8000,2,   285.0,1,   48.13,2,   23.43,2,    0.12,2,    1.91,2, -999.00,   0.9670
90CI20000602,     ------,       6,          1,         19,         19,2,20000607,       0635,  46.751667,151.6216667,       1278,     7.6,   0.9728,  33.0924,2,  33.0941,2, 281.6000,2,   284.2,1,   48.30,2,   23.52,2,    0.12,2,    1.92,2, -999.00,   0.9725
90CI20000602,     ------,       6,          1,         18,         18,2,20000607,       0635,  46.751667,151.6216667,       1278,    12.7,   1.0174,  33.1238,2,  33.1146,2, 280.2000,2,   279.8,1,   49.62,2,   23.90,2,    0.12,2,    1.94,2, -999.00,   1.0169
90CI20000602,     ------,       6,          1,         17,         17,2,20000607,       0635,  46.751667,151.6216667,       1278,    22.0,   1.1656,  33.1737,2,  33.1752,2, 275.4000,2,   266.5,1,   53.82,2,   24.91,2,    0.12,2,    2.02,2, -999.00,   1.1647
90CI20000602,     ------,       6,          1,         16,         16,2,20000607,       0635,  46.751667,151.6216667,       1278,    50.6,   1.3301,  33.2583,2,  33.2269,2, 248.5000,2,   255.6,1,   57.25,2,   25.96,2,    0.11,2,    2.08,2, -999.00,   1.3278
90CI20000602,     ------,       6,          1,         15,         15,2,20000607,       0635,  46.751667,151.6216667,       1278,    59.2,   1.4145,  33.3104,2,  33.2918,2, 244.4000,2,   240.9,1,   61.65,2,   27.25,2,    0.11,2,    2.16,2, -999.00,   1.4118
90CI20000602,     ------,       6,          1,         14,         14,2,20000607,       0635,  46.751667,151.6216667,       1278,   100.3,   1.4853,  33.3710,2,  33.3699,2, 225.8000,2,   221.4,1,   67.30,2,   28.84,2,    0.10,2,    2.30,2, -999.00,   1.4806
90CI20000602,     ------,       6,          1,         13,         13,2,20000607,       0635,  46.751667,151.6216667,       1278,   128.4,   1.4920,  33.3744,2,  33.3754,2, 215.6000,2,   220.2,1,   68.14,2,   28.88,2,    0.10,2,    2.27,2, -999.00,   1.4860
90CI20000602,     ------,       6,          1,         12,         12,2,20000607,       0635,  46.751667,151.6216667,       1278,   153.2,   1.5068,  33.3836,2,  33.3836,2, 212.3000,2,   220.7,1,   68.69,2,   29.27,2,    0.10,2,    2.27,2, -999.00,   1.4997
90CI20000602,     ------,       6,          1,         11,         11,2,20000607,       0635,  46.751667,151.6216667,       1278,   206.9,   1.5491,  33.4139,2,  33.4135,2, 201.3000,2,   211.5,1,   71.17,2,   29.57,2,    0.09,2,    2.31,2, -999.00,   1.5392
90CI20000602,     ------,       6,          1,         10,         10,2,20000607,       0635,  46.751667,151.6216667,       1278,   252.6,   1.5594,  33.4220,2,  33.4217,2, 186.6000,2,   209.3,1,   71.54,2,   29.76,2,    0.09,2,    2.32,2, -999.00,   1.5472
90CI20000602,     ------,       6,          1,          9,          9,2,20000607,       0635,  46.751667,151.6216667,       1278,   309.4,   1.5866,  33.4545,2,  33.4565,2, 178.7000,2,   201.1,1,   74.01,2,   30.44,2,    0.08,2,    2.37,2, -999.00,   1.5714
90CI20000602,     ------,       6,          1,          8,          8,2,20000607,       0635,  46.751667,151.6216667,       1278,   403.6,   1.6539,  33.5289,2,  33.5260,2, 151.8000,2,   184.1,1,   79.19,2,   31.51,2,    0.07,2,    2.46,2, -999.00,   1.6335
90CI20000602,     ------,       6,          1,          7,          7,2,20000607,       0635,  46.751667,151.6216667,       1278,   500.5,   2.1500,  33.9656,2,  33.9545,2,  90.8000,2,    90.0,1,  120.59,2,   38.71,2,    0.02,2,    2.89,2, -999.00,   2.1218
90CI20000602,     ------,       6,          1,          6,          6,2,20000607,       0635,  46.751667,151.6216667,       1278,   599.8,   2.3063,  34.1644,2,  34.1625,2,  62.1000,2,    58.0,1,  143.23,2,   41.17,2,    0.01,2,    3.05,2, -999.00,   2.2712
90CI20000602,     ------,       6,          1,          5,          5,2,20000607,       0635,  46.751667,151.6216667,       1278,   705.7,   2.3327,  34.2505,2,  34.2503,2,  46.5000,2,    47.4,1,  152.88,2,   42.05,2,    0.00,2,    3.09,2, -999.00,   2.2905
90CI20000602,     ------,       6,          1,          4,          4,2,20000607,       0635,  46.751667,151.6216667,       1278,   803.3,   2.3398,  34.3281,2,  34.3287,2,  46.4000,2,    48.7,1,  153.25,2,   42.15,2,    0.00,2,    3.07,2, -999.00,   2.2910
90CI20000602,     ------,       6,          1,          3,          3,2,20000607,       0635,  46.751667,151.6216667,       1278,   905.7,   2.2738,  34.3989,2,  34.3982,2,  48.0000,2,    48.2,1,  157.19,2,   42.35,2,    0.00,2,    3.05,2, -999.00,   2.2184
90CI20000602,     ------,       6,          1,          2,          2,2,20000607,       0635,  46.751667,151.6216667,       1278,   994.9,   2.2205,  34.4480,2,  34.3987,4,  48.5000,2,    48.2,4,  156.97,2,   42.35,2,    0.00,2,    3.05,2, -999.00,   2.1592
90CI20000602,     ------,       6,          1,          1,          1,2,20000607,       0635,  46.751667,151.6216667,       1278,  1257.4,   2.1895,  34.4758,2,  34.4753,2,  50.9000,2,    51.4,1,  162.11,2,   42.39,2,    0.00,2,    3.04,2, -999.00,   2.1096