BOTTLE,20121207CCHSIOMYS
EXPOCODE,SECT_ID,STNNBR,CASTNO,SAMPNO,BTLNBR,BTLNBR_FLAG_W,DATE,TIME,LATITUDE,LONGITUDE,DEPTH,CTDPRS,CTDTMP,CTDSAL,CTDSAL_FLAG_W,SALNTY,SALNTY_FLAG_W,CTDOXY,CTDOXY_FLAG_W,OXYGEN,OXYGEN_FLAG_W,SILCAT,SILCAT_FLAG_W,NITRAT,NITRAT_FLAG_W,NITRIT,NITRIT_FLAG_W,PHSPHT,PHSPHT_FLAG_W,CTDRAW,THETA
,,,,,,,,,,,,DBAR,ITS-90,PSS-78,,PSS-78,,UMOL/KG,,UMOL/KG,,UMOL/KG,,UMOL/KG,,UMOL/KG,,UMOL/KG,,DBAR,DEG C
90CI20000602,     ------,      68,          1,         13,         13,2,20000622,       0450,  55.501667,142.5950000,        324,     2.6,   7.3723,  29.1757,2,  29.2124,2, 335.1000,2,   328.3,1,    1.87,2,    0.28,2,    0.00,2,    0.07,2, -999.00,   7.3721
90CI20000602,     ------,      68,          1,         12,         12,2,20000622,       0450,  55.501667,142.5950000,        324,     9.8,   4.7457,  31.1188,2,  31.0667,2, 350.1000,2,   389.2,1,    0.63,2,    0.09,2,    0.00,2,    0.09,2, -999.00,   4.7450
90CI20000602,     ------,      68,          1,         11,         11,2,20000622,       0450,  55.501667,142.5950000,        324,    18.7,   2.1728,  32.2335,2,  32.1002,2, 442.9000,2,   446.1,1,    0.21,2,    0.14,2,    0.00,2,    0.22,2, -999.00,   2.1719
90CI20000602,     ------,      68,          1,         10,         10,2,20000622,       0450,  55.501667,142.5950000,        324,    27.8,   0.4416,  32.5687,2,  32.5651,2, 393.4000,2,   385.1,1,    2.80,2,    7.17,2,    0.07,2,    0.84,2, -999.00,   0.4406
90CI20000602,     ------,      68,          1,          9,          9,2,20000622,       0450,  55.501667,142.5950000,        324,    50.6,  -0.8024,  32.7818,2,  32.7696,2, 338.8000,2,   328.9,1,   18.05,2,   17.23,2,    0.12,2,    1.54,2, -999.00,  -0.8036
90CI20000602,     ------,      68,          1,          8,          8,2,20000622,       0450,  55.501667,142.5950000,        324,    74.9,  -1.1582,  33.0064,2,  33.0043,2, 296.1000,2,   305.1,1,   44.37,2,   24.45,2,    0.10,2,    2.03,2, -999.00,  -1.1599
90CI20000602,     ------,      68,          1,          7,          7,2,20000622,       0450,  55.501667,142.5950000,        324,    99.6,  -0.4576,  33.1196,2,  33.1137,2, 276.3000,2,   277.0,1,   51.98,2,   27.02,2,    0.02,2,    2.22,2, -999.00,  -0.4605
90CI20000602,     ------,      68,          1,          6,          6,2,20000622,       0450,  55.501667,142.5950000,        324,   126.8,  -0.1757,  33.1753,2,  33.1720,2, 252.7000,2,   256.7,1,   56.79,2,   28.30,2,    0.02,2,    2.31,2, -999.00,  -0.1797
90CI20000602,     ------,      68,          1,          5,          5,2,20000622,       0450,  55.501667,142.5950000,        324,   149.8,   0.2570,  33.2315,2,  33.2291,2, 231.7000,2,   235.2,1,   60.99,2,   29.81,2,    0.02,2,    2.41,2, -999.00,   0.2516
90CI20000602,     ------,      68,          1,          4,          4,2,20000622,       0450,  55.501667,142.5950000,        324,   200.4,   0.8418,  33.3342,2,  33.3308,2, 191.9000,2,   197.7,1,   69.42,2,   32.22,2,    0.02,2,    2.58,2, -999.00,   0.8334
90CI20000602,     ------,      68,          1,          3,          3,2,20000622,       0450,  55.501667,142.5950000,        324,   250.2,   1.0795,  33.4109,2,  33.4094,2, 168.0000,2,   169.0,1,   78.87,2,   33.93,2,    0.01,2,    2.73,2, -999.00,   1.0684
90CI20000602,     ------,      68,          1,          2,          2,2,20000622,       0450,  55.501667,142.5950000,        324,   301.9,   0.3056,  33.4340,2,  33.4391,2, 165.4000,2,   200.1,1,   74.01,2,   29.83,2,    0.05,2,    2.58,2, -999.00,   0.2941
90CI20000602,     ------,      68,          1,          1,          1,2,20000622,       0450,  55.501667,142.5950000,        324,   314.7,  -1.5090,  33.4521,2,  33.4531,2, 299.7000,2,   311.6,1,   43.60,2,   18.61,2,    0.13,2,    2.01,2, -999.00,  -1.5162
90CI20000602,     ------,      69,          1,         11,         11,2,20000622,       0750,  55.501667,141.9583333,        265,     3.9,   7.8997,  29.9164,2,  29.9239,2, 315.8000,2,   317.1,1,    1.46,2,    0.08,2,    0.00,2,    0.05,2, -999.00,   7.8994
90CI20000602,     ------,      69,          1,         10,         10,2,20000622,       0750,  55.501667,141.9583333,        265,     8.9,   5.8924,  30.7143,2,  30.5406,2, 316.8000,2,   356.9,1,    1.04,2,    0.03,2,    0.00,2,    0.05,2, -999.00,   5.8917
90CI20000602,     ------,      69,          1,          9,          9,2,20000622,       0750,  55.501667,141.9583333,        265,    17.0,   0.2041,  32.4151,2,  32.3748,2, 436.8000,2,   446.2,1,    0.42,2,    0.17,2,    0.00,2,    0.25,2, -999.00,   0.2035
90CI20000602,     ------,      69,          1,          8,          8,2,20000622,       0750,  55.501667,141.9583333,        265,    27.7,  -0.8967,  32.7565,2,  32.7769,2, 338.7000,2,   329.9,1,   13.80,2,   16.93,2,    0.13,2,    1.56,2, -999.00,  -0.8974
90CI20000602,     ------,      69,          1,          7,          7,2,20000622,       0750,  55.501667,141.9583333,        265,    48.6,  -1.4850,  32.9449,2,  32.9440,2, 301.3000,2,   314.7,1,   42.57,2,   23.49,2,    0.13,2,    1.98,2, -999.00,  -1.4859
90CI20000602,     ------,      69,          1,          6,          6,2,20000622,       0750,  55.501667,141.9583333,        265,    74.0,  -1.1750,  33.0655,2,  33.0710,2, 291.6000,2,   294.2,1,   48.95,2,   25.84,2,    0.03,2,    2.15,2, -999.00,  -1.1767
90CI20000602,     ------,      69,          1,          5,          5,9,20000622,       0750,  55.501667,141.9583333,        265,   101.3,  -0.7070,  33.1575,2,-999.0000,9, 274.7000,2,  -999.0,9, -999.00,9, -999.00,9, -999.00,9, -999.00,9, -999.00,  -0.7098
90CI20000602,     ------,      69,          1,          4,          4,2,20000622,       0750,  55.501667,141.9583333,        265,   150.5,   0.2910,  33.2743,2,  33.2740,2, 223.0000,2,   217.0,1,   67.74,2,   31.03,2,    0.03,2,    2.54,2, -999.00,   0.2855
90CI20000602,     ------,      69,          1,          3,          3,2,20000622,       0750,  55.501667,141.9583333,        265,   192.2,   0.6352,  33.3346,2,  33.3323,2, 193.1000,2,   194.5,1,   73.16,2,   32.45,2,    0.02,2,    2.65,2, -999.00,   0.6276
90CI20000602,     ------,      69,          1,          2,          2,2,20000622,       0750,  55.501667,141.9583333,        265,   210.1,   0.2925,  33.3335,2,  33.3335,2, 193.4000,2,   195.1,1,   76.12,2,   31.94,2,    0.02,2,    2.71,2, -999.00,   0.2847
90CI20000602,     ------,      69,          1,          1,          1,2,20000622,       0750,  55.501667,141.9583333,        265,   256.0,   0.3317,  33.3513,2,  33.3498,2, 177.8000,2,   187.8,1,   79.31,2,   32.07,2,    0.02,2,    2.77,2, -999.00,   0.3220
90CI20000602,     ------,      70,          1,         11,         11,2,20000622,       1044,  55.500000,141.4166667,        245,     2.9,   7.0011,  31.4975,2,  31.4977,2, 336.7000,2,   335.5,1,    1.29,2,    0.21,2,    0.00,2,    0.07,2, -999.00,   7.0009
90CI20000602,     ------,      70,          1,         10,         10,2,20000622,       1044,  55.500000,141.4166667,        245,     8.9,   6.6403,  31.5428,2,  31.5561,2, 344.8000,2,   347.6,1,    1.08,2,    0.07,2,    0.00,2,    0.06,2, -999.00,   6.6395
90CI20000602,     ------,      70,          1,          9,          9,2,20000622,       1044,  55.500000,141.4166667,        245,    18.7,  -0.6177,  32.3145,2,  32.4012,2, 443.0000,2,    19.9,5,   15.11,2,   11.21,2,    0.13,2,    1.14,2, -999.00,  -0.6182
90CI20000602,     ------,      70,          1,          8,          8,2,20000622,       1044,  55.500000,141.4166667,        245,    28.5,  -1.5369,  32.8433,2,  32.8507,2, 325.9000,2,   311.1,1,   43.65,2,   24.07,2,    0.20,2,    2.09,2, -999.00,  -1.5374
90CI20000602,     ------,      70,          1,          7,          7,2,20000622,       1044,  55.500000,141.4166667,        245,    49.1,  -1.6088,  33.0340,2,  33.0333,2, 306.2000,2,   302.4,1,   49.23,2,   26.01,2,    0.09,2,    2.19,2, -999.00,  -1.6097
90CI20000602,     ------,      70,          1,          6,          6,2,20000622,       1044,  55.500000,141.4166667,        245,    73.5,  -1.5133,  33.0772,2,  33.0707,2, 298.8000,2,   299.4,1,   50.62,2,   26.47,2,    0.05,2,    2.23,2, -999.00,  -1.5147
90CI20000602,     ------,      70,          1,          5,          5,2,20000622,       1044,  55.500000,141.4166667,        245,    99.0,  -0.6396,  33.1680,2,  33.1714,2, 257.0000,2,   253.9,1,   59.81,2,   29.14,2,    0.05,2,    2.43,2, -999.00,  -0.6424
90CI20000602,     ------,      70,          1,          4,          4,2,20000622,       1044,  55.500000,141.4166667,        245,   123.9,  -0.1322,  33.2278,2,  33.2293,2, 229.4000,2,   231.2,1,   65.00,2,   30.32,2,    0.03,2,    2.51,2, -999.00,  -0.1362
90CI20000602,     ------,      70,          1,          3,          3,2,20000622,       1044,  55.500000,141.4166667,        245,   150.5,   0.1609,  33.2694,2,  33.2690,2, 211.3000,2,   212.2,1,   69.79,2,   31.50,2,    0.03,2,    2.61,2, -999.00,   0.1556
90CI20000602,     ------,      70,          1,          2,          2,2,20000622,       1044,  55.500000,141.4166667,        245,   200.5,   0.3454,  33.3057,2,  33.3057,2, 193.8000,2,   193.8,1,   74.79,2,   32.54,2,    0.02,2,    2.69,2, -999.00,   0.3379
90CI20000602,     ------,      70,          1,          1,          1,2,20000622,       1044,  55.500000,141.4166667,        245,   237.7,   0.4714,  33.3484,2,  33.3478,2, 169.9000,2,   170.9,1,   83.80,2,   33.28,2,    0.04,2,    2.87,2, -999.00,   0.4622
90CI20000602,     ------,      71,          1,          4,          4,2,20000622,       1318,  55.545000,140.9616667,        199,     3.1,   6.2387,  31.7064,2,  31.7095,2, 349.6000,2,   348.2,1, -999.00,9, -999.00,9, -999.00,9, -999.00,9, -999.00,   6.2385
90CI20000602,     ------,      71,          1,          3,          3,2,20000622,       1318,  55.545000,140.9616667,        199,    64.4,  -1.6480,  33.0567,2,  33.0597,2, 306.1000,2,   307.0,1, -999.00,9, -999.00,9, -999.00,9, -999.00,9, -999.00,  -1.6491
90CI20000602,     ------,      71,          1,          2,          2,2,20000622,       1318,  55.545000,140.9616667,        199,   170.7,   0.2321,  33.2840,2,  33.2832,2, 199.7000,2,   196.4,1, -999.00,9, -999.00,9, -999.00,9, -999.00,9, -999.00,   0.2259
90CI20000602,     ------,      71,          1,          1,          1,2,20000622,       1318,  55.545000,140.9616667,        199,   189.2,   0.2321,  33.2846,2,  33.2830,2, 190.7000,2,   196.3,1, -999.00,9, -999.00,9, -999.00,9, -999.00,9, -999.00,   0.2252
90CI20000602,     ------,      72,          1,         12,         12,2,20000622,       1458,  55.571667,140.6916667,        175,     3.0,   6.1013,  31.8261,2,  31.8272,2, 357.4000,2,   355.0,1,    0.97,2,    0.10,2,    0.00,2,    0.06,2, -999.00,   6.1010
90CI20000602,     ------,      72,          1,         11,         11,2,20000622,       1458,  55.571667,140.6916667,        175,     9.5,   5.7308,  31.9529,2,  31.9521,2, 359.5000,2,   368.1,1,    1.19,2,    0.10,2,    0.00,2,    0.08,2, -999.00,   5.7301
90CI20000602,     ------,      72,          1,         10,         10,2,20000622,       1458,  55.571667,140.6916667,        175,    18.7,  -0.1171,  32.3715,2,  32.2548,2, 418.0000,2,   442.4,1,    5.04,2,    0.78,2,    0.03,2,    0.37,2, -999.00,  -0.1177
90CI20000602,     ------,      72,          1,          9,          9,2,20000622,       1458,  55.571667,140.6916667,        175,    28.6,  -1.5090,  32.8429,2,  32.8408,2, 309.9000,2,   295.4,1,   16.14,2,   20.98,2,    0.12,2,    1.73,2, -999.00,  -1.5095
90CI20000602,     ------,      72,          1,          8,          8,2,20000622,       1458,  55.571667,140.6916667,        175,    39.2,  -1.5944,  33.0094,2,  33.0072,2, 300.3000,2,   306.8,1,   40.53,2,   24.82,2,    0.32,2,    2.11,2, -999.00,  -1.5952
90CI20000602,     ------,      72,          1,          7,          7,2,20000622,       1458,  55.571667,140.6916667,        175,    48.5,  -1.4584,  33.0479,2,  33.0467,2, 300.9000,2,   307.3,1,   45.99,2,   25.46,2,    0.11,2,    2.14,2, -999.00,  -1.4594
90CI20000602,     ------,      72,          1,          6,          6,2,20000622,       1458,  55.571667,140.6916667,        175,    59.2,  -1.4792,  33.0719,2,  33.0717,2, 296.3000,2,   307.4,1,   47.22,2,   25.53,2,    0.07,2,    2.16,2, -999.00,  -1.4803
90CI20000602,     ------,      72,          1,          5,          5,2,20000622,       1458,  55.571667,140.6916667,        175,    79.1,  -1.5226,  33.1062,2,  33.1065,2, 298.3000,2,   306.6,1,   49.45,2,   26.18,2,    0.04,2,    2.24,2, -999.00,  -1.5241
90CI20000602,     ------,      72,          1,          4,          4,2,20000622,       1458,  55.571667,140.6916667,        175,    99.0,  -1.2009,  33.1435,2,  33.1418,2, 280.0000,2,   282.7,1,   54.51,2,   27.28,2,    0.03,2,    2.36,2, -999.00,  -1.2031
90CI20000602,     ------,      72,          1,          3,          3,2,20000622,       1458,  55.571667,140.6916667,        175,   118.9,  -0.7306,  33.1815,2,  33.1809,2, 241.6000,2,   244.2,1,   62.79,2,   29.36,2,    0.03,2,    2.54,2, -999.00,  -0.7338
90CI20000602,     ------,      72,          1,          2,          2,2,20000622,       1458,  55.571667,140.6916667,        175,   139.4,  -0.6737,  33.2313,2,  33.2294,2, 228.4000,2,   236.0,1,   64.42,2,   29.24,2,    0.10,2,    2.58,2, -999.00,  -0.6776
90CI20000602,     ------,      72,          1,          1,          1,2,20000622,       1458,  55.571667,140.6916667,        175,   166.1,  -1.1321,  33.2230,2,  33.2218,2, 250.1000,2,   258.9,1,   59.60,2,   27.26,2,    0.12,2,    2.49,2, -999.00,  -1.1361
90CI20000602,     ------,      73,          1,          4,          4,2,20000622,       1647,  55.600000,140.3950000,        158,     3.0,   4.3525,  31.8195,2,  31.8212,2, 426.1000,2,   425.5,1, -999.00,9, -999.00,9, -999.00,9, -999.00,9, -999.00,   4.3523
90CI20000602,     ------,      73,          1,          3,          3,2,20000622,       1647,  55.600000,140.3950000,        158,     9.4,   4.0156,  31.8107,2,  31.8410,2, 436.4000,2,   440.7,1, -999.00,9, -999.00,9, -999.00,9, -999.00,9, -999.00,   4.0150
90CI20000602,     ------,      73,          1,          2,          2,2,20000622,       1647,  55.600000,140.3950000,        158,    79.6,  -1.4155,  33.1653,2,  33.1664,2, 282.2000,2,   283.5,1, -999.00,9, -999.00,9, -999.00,9, -999.00,9, -999.00,  -1.4171
90CI20000602,     ------,      73,          1,          1,          1,2,20000622,       1647,  55.600000,140.3950000,        158,   149.0,  -1.6438,  33.2420,2,  33.2413,2, 290.1000,2,   291.9,1, -999.00,9, -999.00,9, -999.00,9, -999.00,9, -999.00,  -1.6467
90CI20000602,     ------,      74,          1,         12,         12,2,20000622,       2143,  55.636667,139.9900000,        148,     2.8,   4.4750,  31.3030,2,  31.3027,2, 423.3000,2,   417.3,1,    4.62,2,    0.13,2,    0.01,2,    0.14,2, -999.00,   4.4748
90CI20000602,     ------,      74,          1,         11,         11,2,20000622,       2143,  55.636667,139.9900000,        148,     9.6,   4.0149,  31.7071,2,  31.6960,2, 428.4000,2,   447.7,1,    3.02,2,    0.03,2,    0.02,2,    0.14,2, -999.00,   4.0143
90CI20000602,     ------,      74,          1,         10,         10,2,20000622,       2143,  55.636667,139.9900000,        148,    19.4,  -1.3486,  32.5546,2,  32.5737,2, 375.7000,2,   336.3,1,   74.39,4,    0.00,5,    0.19,2,    1.92,2, -999.00,  -1.3489
90CI20000602,     ------,      74,          1,          9,          9,2,20000622,       2143,  55.636667,139.9900000,        148,    28.9,  -1.6155,  33.0557,2,  33.0527,2, 326.8000,2,   319.5,1,   77.11,4,    0.00,5,    0.35,2,    2.13,2, -999.00,  -1.6161
90CI20000602,     ------,      74,          1,          8,          8,2,20000622,       2143,  55.636667,139.9900000,        148,    38.3,  -1.6616,  33.0909,2,  33.0876,2, 313.9000,2,   314.3,1,   79.27,4,    0.00,5,    0.07,2,    2.19,2, -999.00,  -1.6623
90CI20000602,     ------,      74,          1,          7,          7,2,20000622,       2143,  55.636667,139.9900000,        148,    47.6,  -1.6390,  33.0995,2,  33.0963,2, 309.3000,2,   313.3,1,   68.70,4,    0.00,5,    0.05,2,    2.20,2, -999.00,  -1.6399
90CI20000602,     ------,      74,          1,          6,          6,2,20000622,       2143,  55.636667,139.9900000,        148,    58.6,  -1.6656,  33.1110,2,  33.1080,2, 308.4000,2,   311.5,1,   68.87,4,    0.00,5,    0.05,2,    2.23,2, -999.00,  -1.6667
90CI20000602,     ------,      74,          1,          5,          5,2,20000622,       2143,  55.636667,139.9900000,        148,    77.7,  -1.5272,  33.1323,2,  33.1300,2, 305.4000,2,   296.3,1,   51.19,2,   26.31,2,    0.05,2,    2.31,2, -999.00,  -1.5288
90CI20000602,     ------,      74,          1,          4,          4,2,20000622,       2143,  55.636667,139.9900000,        148,    99.6,  -1.6044,  33.1558,2,  33.1552,2, 298.7000,2,   297.7,1,   50.61,2,   26.00,2,    0.05,2,    2.30,2, -999.00,  -1.6064
90CI20000602,     ------,      74,          1,          3,          3,2,20000622,       2143,  55.636667,139.9900000,        148,   116.4,  -1.7536,  33.3165,2,  33.3156,2, 311.6000,2,   312.8,1,   46.18,2,   20.86,2,    0.06,2,    2.10,2, -999.00,  -1.7558
90CI20000602,     ------,      74,          1,          2,          2,2,20000622,       2143,  55.636667,139.9900000,        148,   130.1,  -1.7538,  33.3187,2,  33.3185,2, 314.7000,2,   312.8,1,   46.20,2,   20.71,2,    0.05,2,    2.10,2, -999.00,  -1.7562
90CI20000602,     ------,      74,          1,          1,          1,2,20000622,       2143,  55.636667,139.9900000,        148,   140.2,  -1.7538,  33.3192,2,  33.3191,2, 315.8000,2,   313.5,1,   46.42,2,   20.70,2,    0.06,2,    2.12,2, -999.00,  -1.7564