BOTTLE,20121207CCHSIOMYS
EXPOCODE,SECT_ID,STNNBR,CASTNO,SAMPNO,BTLNBR,BTLNBR_FLAG_W,DATE,TIME,LATITUDE,LONGITUDE,DEPTH,CTDPRS,CTDTMP,CTDSAL,CTDSAL_FLAG_W,SALNTY,SALNTY_FLAG_W,CTDOXY,CTDOXY_FLAG_W,OXYGEN,OXYGEN_FLAG_W,SILCAT,SILCAT_FLAG_W,NITRAT,NITRAT_FLAG_W,NITRIT,NITRIT_FLAG_W,PHSPHT,PHSPHT_FLAG_W,CTDRAW,THETA
,,,,,,,,,,,,DBAR,ITS-90,PSS-78,,PSS-78,,UMOL/KG,,UMOL/KG,,UMOL/KG,,UMOL/KG,,UMOL/KG,,UMOL/KG,,DBAR,DEG C
90CI20000602,     ------,      16,          1,         24,         24,2,20000611,       0949,  47.398333,150.9183333,       3355,     2.9,   2.9948,  32.3711,2,  32.3640,2, 363.9000,2,   369.5,1,   20.14,2,    5.29,2,    0.11,2,    0.70,2, -999.00,   2.9946
90CI20000602,     ------,      16,          1,         23,         23,2,20000611,       0949,  47.398333,150.9183333,       3355,     9.8,   2.8398,  32.4035,2,  32.4030,2, 366.8000,2,   366.3,1,   21.28,2,    7.03,2,    0.12,2,    0.83,2, -999.00,   2.8393
90CI20000602,     ------,      16,          1,         22,         22,2,20000611,       0949,  47.398333,150.9183333,       3355,    28.7,   0.9957,  32.5453,2,  32.5411,2, 359.5000,2,   351.6,1,   24.93,2,   12.22,2,    0.15,2,    1.20,2, -999.00,   0.9946
90CI20000602,     ------,      16,          1,         21,         21,2,20000611,       0949,  47.398333,150.9183333,       3355,    46.3,   0.4258,  32.6097,2,  32.6086,2, 348.2000,2,   347.1,1,   26.65,2,   14.14,2,    0.16,2,    1.33,2, -999.00,   0.4242
90CI20000602,     ------,      16,          1,         20,         20,2,20000611,       0949,  47.398333,150.9183333,       3355,    71.6,  -0.3032,  32.7771,2,  32.7818,2, 332.1000,2,   331.7,1,   31.26,2,   17.80,2,    0.13,2,    1.57,2, -999.00,  -0.3053
90CI20000602,     ------,      16,          1,         19,         19,2,20000611,       0949,  47.398333,150.9183333,       3355,    99.2,  -0.0826,  32.9461,2,  32.9435,2, 314.1000,2,   316.4,1,   36.44,2,   20.18,2,    0.11,2,    1.73,2, -999.00,  -0.0857
90CI20000602,     ------,      16,          1,         18,         18,2,20000611,       0949,  47.398333,150.9183333,       3355,   123.0,   0.0854,  32.9995,2,  33.0019,2, 305.6000,2,   307.4,1,   39.12,2,   21.26,2,    0.11,2,    1.81,2, -999.00,   0.0812
90CI20000602,     ------,      16,          1,         17,         17,2,20000611,       0949,  47.398333,150.9183333,       3355,   149.0,   0.2609,  33.0653,2,  33.0617,2, 288.8000,2,   295.6,1,   41.61,2,   22.25,2,    0.07,2,    1.86,2, -999.00,   0.2556
90CI20000602,     ------,      16,          1,         16,         16,2,20000611,       0949,  47.398333,150.9183333,       3355,   200.6,   0.8056,  33.2139,2,  33.2155,2, 261.4000,2,   256.9,1,   49.69,2,   25.27,2,    0.03,2,    2.06,2, -999.00,   0.7973
90CI20000602,     ------,      16,          1,         15,         15,2,20000611,       0949,  47.398333,150.9183333,       3355,   251.9,   1.0027,  33.2940,2,  33.2929,2, 231.1000,2,   230.7,1,   53.33,2,   27.10,2,    0.05,2,    2.22,2, -999.00,   0.9918
90CI20000602,     ------,      16,          1,         14,         14,2,20000611,       0949,  47.398333,150.9183333,       3355,   302.4,   1.0262,  33.3479,2,  33.3471,2, 205.1000,2,   213.8,1,   58.13,2,   28.71,2,    0.06,2,    2.33,2, -999.00,   1.0128
90CI20000602,     ------,      16,          1,         13,         13,2,20000611,       0949,  47.398333,150.9183333,       3355,   402.9,   1.2789,  33.4998,2,  33.4985,2, 177.8000,2,   178.2,1,   72.01,2,   31.44,2,    0.00,2,    2.53,2, -999.00,   1.2598
90CI20000602,     ------,      16,          1,         12,         12,2,20000611,       0949,  47.398333,150.9183333,       3355,   502.5,   1.5670,  33.6418,2,  33.6416,2, 151.0000,2,   150.1,1,   84.55,2,   33.26,2,    0.00,2,    2.63,2, -999.00,   1.5415
90CI20000602,     ------,      16,          1,         11,         11,2,20000611,       0949,  47.398333,150.9183333,       3355,   604.9,   1.9114,  33.8305,2,  33.8286,2, 119.1000,2,   108.8,1,  107.23,2,   36.78,2,    0.00,2,    2.83,2, -999.00,   1.8782
90CI20000602,     ------,      16,          1,         10,         10,2,20000611,       0949,  47.398333,150.9183333,       3355,   705.1,   2.1609,  33.9823,2,  33.9817,2,  86.0000,2,    76.3,1,  126.34,2,   39.45,2,    0.00,2,    3.00,2, -999.00,   2.1200
90CI20000602,     ------,      16,          1,          9,          9,2,20000611,       0949,  47.398333,150.9183333,       3355,   806.6,   2.2617,  34.0890,2,  34.0889,2,  60.9000,2,    56.9,1,  141.25,2,   40.81,2,    0.00,2,    3.10,2, -999.00,   2.2135
90CI20000602,     ------,      16,          1,          8,          8,2,20000611,       0949,  47.398333,150.9183333,       3355,  1009.4,   2.3512,  34.2794,2,  34.2800,2,  41.8000,2,    41.4,1,  157.46,2,   42.17,2,    0.00,2,    3.13,2, -999.00,   2.2881
90CI20000602,     ------,      16,          1,          7,          7,2,20000611,       0949,  47.398333,150.9183333,       3355,  1199.8,   2.2803,  34.3850,2,  34.3854,2,  43.2000,2,    44.5,1,  161.40,2,   42.12,2,    0.00,2,    3.10,2, -999.00,   2.2040
90CI20000602,     ------,      16,          1,          6,          6,2,20000611,       0949,  47.398333,150.9183333,       3355,  1415.9,   2.1618,  34.4629,2,  34.4628,2,  47.1000,2,    49.1,1,  166.96,2,   41.87,2,    0.00,2,    3.07,2, -999.00,   2.0703
90CI20000602,     ------,      16,          1,          5,          5,2,20000611,       0949,  47.398333,150.9183333,       3355,  1617.9,   2.0958,  34.4999,2,  34.5004,2,  52.2000,2,    54.0,1,  168.72,2,   41.52,2,    0.00,2,    3.05,2, -999.00,   1.9895
90CI20000602,     ------,      16,          1,          4,          4,2,20000611,       0949,  47.398333,150.9183333,       3355,  2024.5,   1.9760,  34.5478,2,  34.5481,2,  63.2000,2,    64.8,1,  171.69,2,   40.87,2,    0.00,2,    3.00,2, -999.00,   1.8381
90CI20000602,     ------,      16,          1,          3,          3,2,20000611,       0949,  47.398333,150.9183333,       3355,  2533.6,   1.8764,  34.5872,2,  34.5875,2,  77.2000,2,    78.2,1,  174.46,2,   40.03,2,    0.00,2,    2.94,2, -999.00,   1.6957
90CI20000602,     ------,      16,          1,          2,          2,2,20000611,       0949,  47.398333,150.9183333,       3355,  3044.1,   1.8664,  34.6043,2,  34.6032,2,  83.7000,2,    83.5,1,  176.44,2,   39.64,2,    0.00,2,    2.93,2, -999.00,   1.6376
90CI20000602,     ------,      16,          1,          1,          1,2,20000611,       0949,  47.398333,150.9183333,       3355,  3362.7,   1.8664,  34.6127,2,  34.6144,3,  87.6000,2,    87.0,1,  178.82,2,   39.24,2,    0.00,2,    2.91,2, -999.00,   1.6056
90CI20000602,     ------,      17,          1,          6,          6,2,20000611,       1336,  47.540000,151.1233333,       3364,     9.8,   1.8885,  32.6777,2,  32.6912,2, 336.3000,2,   339.1,1, -999.00,9, -999.00,9, -999.00,9, -999.00,9, -999.00,   1.8880
90CI20000602,     ------,      17,          1,          5,          5,2,20000611,       1336,  47.540000,151.1233333,       3364,   302.7,   1.3815,  33.3608,2,  33.3814,2, 216.3000,2,   216.0,1, -999.00,9, -999.00,9, -999.00,9, -999.00,9, -999.00,   1.3673
90CI20000602,     ------,      17,          1,          4,          4,2,20000611,       1336,  47.540000,151.1233333,       3364,   606.6,   1.8526,  33.7010,2,  33.7261,2, 135.5000,2,   135.2,1, -999.00,9, -999.00,9, -999.00,9, -999.00,9, -999.00,   1.8198
90CI20000602,     ------,      17,          1,          3,          3,2,20000611,       1336,  47.540000,151.1233333,       3364,   908.7,   2.3428,  34.1772,2,  34.1930,2,  49.4000,2,    49.1,1, -999.00,9, -999.00,9, -999.00,9, -999.00,9, -999.00,   2.2870
90CI20000602,     ------,      17,          1,          2,          2,2,20000611,       1336,  47.540000,151.1233333,       3364,  1213.2,   2.2752,  34.3573,2,  34.3806,2,  47.3000,2,    46.9,1, -999.00,9, -999.00,9, -999.00,9, -999.00,9, -999.00,   2.1980
90CI20000602,     ------,      17,          1,          1,          1,2,20000611,       1336,  47.540000,151.1233333,       3364,  1417.4,   2.1780,  34.4320,2,  34.4592,2,  49.6000,2,    49.4,1, -999.00,9, -999.00,9, -999.00,9, -999.00,9, -999.00,   2.0864
90CI20000602,     ------,      18,          1,         24,         24,2,20000611,       1641,  47.663333,151.3600000,       3361,     4.2,   2.4123,  32.5602,2,  32.5613,2, 348.7000,2,   349.4,1,   25.94,2,   10.57,2,    0.13,2,    1.06,2, -999.00,   2.4121
90CI20000602,     ------,      18,          1,         23,         23,2,20000611,       1641,  47.663333,151.3600000,       3361,     8.5,   2.1162,  32.5787,2,  32.5648,2, 348.2000,2,   349.9,1,   25.73,2,   10.89,2,    0.13,2,    1.09,2, -999.00,   2.1158
90CI20000602,     ------,      18,          1,         22,         22,2,20000611,       1641,  47.663333,151.3600000,       3361,    29.7,   1.1690,  32.8182,2,  32.8218,2, 316.5000,2,   322.9,1,   35.68,2,   17.28,2,    0.14,2,    1.54,2, -999.00,   1.1677
90CI20000602,     ------,      18,          1,         21,         21,2,20000611,       1641,  47.663333,151.3600000,       3361,    49.7,   1.2430,  32.9049,2,  32.9102,2, 306.0000,2,   311.4,1,   39.69,2,   19.22,2,    0.13,2,    1.66,2, -999.00,   1.2408
90CI20000602,     ------,      18,          1,         20,         20,2,20000611,       1641,  47.663333,151.3600000,       3361,    74.7,   0.9658,  33.0461,2,  33.0478,2, 290.4000,2,   292.2,1,   45.43,2,   22.24,2,    0.13,2,    1.86,2, -999.00,   0.9627
90CI20000602,     ------,      18,          1,         19,         19,2,20000611,       1641,  47.663333,151.3600000,       3361,   100.4,   0.9791,  33.1445,2,  33.1433,2, 281.4000,2,   275.3,1,   50.21,2,   24.18,2,    0.13,2,    2.00,2, -999.00,   0.9749
90CI20000602,     ------,      18,          1,         18,         18,2,20000611,       1641,  47.663333,151.3600000,       3361,   125.7,   1.0552,  33.1803,2,  33.1827,2, 270.7000,2,   268.1,1,   52.11,2,   24.94,2,    0.12,2,    2.04,2, -999.00,   1.0499
90CI20000602,     ------,      18,          1,         17,         17,2,20000611,       1641,  47.663333,151.3600000,       3361,   150.4,   1.0337,  33.2309,2,  33.2314,2, 255.3000,2,   253.8,1,   51.90,2,   25.72,2,    0.10,2,    2.10,2, -999.00,   1.0273
90CI20000602,     ------,      18,          1,         16,         16,2,20000611,       1641,  47.663333,151.3600000,       3361,   201.8,   1.1855,  33.2569,2,  33.2567,2, 237.3000,2,   249.6,1,   56.68,2,   26.55,2,    0.13,2,    2.16,2, -999.00,   1.1766
90CI20000602,     ------,      18,          1,         15,         15,2,20000611,       1641,  47.663333,151.3600000,       3361,   252.4,   1.3570,  33.3392,2,  33.3394,2, 229.4000,2,   228.7,1,   64.15,2,   28.30,2,    0.13,2,    2.27,2, -999.00,   1.3453
90CI20000602,     ------,      18,          1,         14,         14,2,20000611,       1641,  47.663333,151.3600000,       3361,   302.1,   1.4060,  33.3736,2,  33.3723,2, 216.4000,2,   219.9,1,   66.63,2,   29.26,2,    0.12,2,    2.32,2, -999.00,   1.3918
90CI20000602,     ------,      18,          1,         13,         13,2,20000611,       1641,  47.663333,151.3600000,       3361,   402.5,   1.5263,  33.4513,2,  33.4514,2, 205.2000,2,   198.9,1,   72.77,2,   30.59,2,    0.09,2,    2.41,2, -999.00,   1.5065
90CI20000602,     ------,      18,          1,         12,         12,2,20000611,       1641,  47.663333,151.3600000,       3361,   504.5,   1.6496,  33.5404,2,  33.5411,2, 178.9000,2,   177.7,1,   80.06,2,   31.94,2,    0.07,2,    2.50,2, -999.00,   1.6237
90CI20000602,     ------,      18,          1,         11,         11,2,20000611,       1641,  47.663333,151.3600000,       3361,   605.5,   1.7567,  33.6781,2,  33.6798,2, 146.7000,2,   143.7,1,   90.26,2,   34.18,2,    0.04,2,    2.66,2, -999.00,   1.7244
90CI20000602,     ------,      18,          1,         10,         10,2,20000611,       1641,  47.663333,151.3600000,       3361,   705.1,   2.0668,  33.8959,2,  33.8924,2,  92.6000,2,   111.2,1,  114.63,2,   37.98,2,    0.00,2,    2.90,2, -999.00,   2.0266
90CI20000602,     ------,      18,          1,          9,          9,2,20000611,       1641,  47.663333,151.3600000,       3361,   805.6,   2.2294,  34.0125,2,  34.0123,2,  69.2000,2,    71.6,1,  129.22,2,   39.83,2,    0.00,2,    3.01,2, -999.00,   2.1816
90CI20000602,     ------,      18,          1,          8,          8,2,20000611,       1641,  47.663333,151.3600000,       3361,  1011.9,   2.3535,  34.2538,2,  34.2557,2,  47.3000,2,    44.1,1,  154.18,2,   41.98,2,    0.00,2,    3.12,2, -999.00,   2.2903
90CI20000602,     ------,      18,          1,          7,          7,2,20000611,       1641,  47.663333,151.3600000,       3361,  1212.1,   2.2982,  34.3765,2,  34.3780,2,  48.1000,2,    44.1,1,  160.30,2,   42.13,2,    0.00,2,    3.10,2, -999.00,   2.2208
90CI20000602,     ------,      18,          1,          6,          6,2,20000611,       1641,  47.663333,151.3600000,       3361,  1415.8,   2.1821,  34.4463,2,  34.4475,2,  52.3000,2,    51.7,1,  163.06,2,   41.83,2,    0.00,2,    3.06,2, -999.00,   2.0905
90CI20000602,     ------,      18,          1,          5,          5,2,20000611,       1641,  47.663333,151.3600000,       3361,  1619.0,   2.1167,  34.4902,2,  34.4915,2,  55.4000,2,    55.4,1,  165.84,2,   41.68,2,    0.00,2,    3.03,2, -999.00,   2.0101
90CI20000602,     ------,      18,          1,          4,          4,2,20000611,       1641,  47.663333,151.3600000,       3361,  2026.7,   1.9635,  34.5529,2,  34.5534,2,  67.2000,2,    67.0,1,  170.41,2,   40.94,2,    0.00,2,    2.99,2, -999.00,   1.8257
90CI20000602,     ------,      18,          1,          3,          3,2,20000611,       1641,  47.663333,151.3600000,       3361,  2535.8,   1.8840,  34.5882,2,  34.5887,2,  79.1000,2,    78.4,1,  170.79,2,   40.21,2,    0.00,2,    2.92,2, -999.00,   1.7029
90CI20000602,     ------,      18,          1,          2,          2,2,20000611,       1641,  47.663333,151.3600000,       3361,  3045.2,   1.8599,  34.6055,2,  34.6050,2,  85.7000,2,    85.3,1,  173.38,2,   39.72,2,    0.00,2,    2.91,2, -999.00,   1.6311
90CI20000602,     ------,      18,          1,          1,          1,2,20000611,       1641,  47.663333,151.3600000,       3361,  3366.1,   1.8426,  34.6161,2,  34.6156,2,  92.4000,2,    92.8,1,  170.15,2,   38.99,2,    0.00,2,    2.86,2, -999.00,   1.5820
90CI20000602,     ------,      19,          1,          6,          6,2,20000611,       2019,  47.805000,151.5633333,       3353,     9.8,   1.6484,  32.8056,2,  32.8139,2, 323.0000,2,   322.7,1, -999.00,9, -999.00,9, -999.00,9, -999.00,9, -999.00,   1.6479
90CI20000602,     ------,      19,          1,          5,          5,2,20000611,       2019,  47.805000,151.5633333,       3353,   301.5,   1.5113,  33.4523,2,  33.4535,2, 197.1000,2,   198.0,1, -999.00,9, -999.00,9, -999.00,9, -999.00,9, -999.00,   1.4967
90CI20000602,     ------,      19,          1,          4,          4,2,20000611,       2019,  47.805000,151.5633333,       3353,   808.2,   2.2883,  34.0874,2,  34.0874,2,  62.5000,2,    58.7,1, -999.00,9, -999.00,9, -999.00,9, -999.00,9, -999.00,   2.2398
90CI20000602,     ------,      19,          1,          3,          3,2,20000611,       2019,  47.805000,151.5633333,       3353,  1011.4,   2.3536,  34.2595,2,  34.2585,2,  42.2000,2,    42.4,1, -999.00,9, -999.00,9, -999.00,9, -999.00,9, -999.00,   2.2904
90CI20000602,     ------,      19,          1,          2,          2,2,20000611,       2019,  47.805000,151.5633333,       3353,  1213.4,   2.3149,  34.3622,2,  34.3619,2,  42.8000,2,    42.9,1, -999.00,9, -999.00,9, -999.00,9, -999.00,9, -999.00,   2.2373
90CI20000602,     ------,      19,          1,          1,          1,2,20000611,       2019,  47.805000,151.5633333,       3353,  1415.1,   2.1960,  34.4547,2,  34.4543,2,  47.2000,2,    47.2,1, -999.00,9, -999.00,9, -999.00,9, -999.00,9, -999.00,   2.1043
90CI20000602,     ------,      20,          1,          6,          6,2,20000611,       2344,  47.836667,151.0366667,       3360,     9.0,   3.3341,  32.3167,2,  32.3179,2, 403.2000,2,   404.8,1, -999.00,9, -999.00,9, -999.00,9, -999.00,9, -999.00,   3.3335
90CI20000602,     ------,      20,          1,          5,          5,2,20000611,       2344,  47.836667,151.0366667,       3360,   300.9,   1.0754,  33.3129,2,  33.3132,2, 161.0000,2,  -999.0,9, -999.00,9, -999.00,9, -999.00,9, -999.00,9, -999.00,   1.0620
90CI20000602,     ------,      20,          1,          4,          4,2,20000611,       2344,  47.836667,151.0366667,       3360,   808.0,   2.2255,  34.0403,2,  34.0406,2,  56.9000,2,  -999.0,9, -999.00,9, -999.00,9, -999.00,9, -999.00,9, -999.00,   2.1775
90CI20000602,     ------,      20,          1,          3,          3,2,20000611,       2344,  47.836667,151.0366667,       3360,  1009.9,   2.3419,  34.2475,2,  34.2485,2,  44.8000,2,    44.9,1, -999.00,9, -999.00,9, -999.00,9, -999.00,9, -999.00,   2.2790
90CI20000602,     ------,      20,          1,          2,          2,2,20000611,       2344,  47.836667,151.0366667,       3360,  1213.4,   2.2728,  34.3835,2,  34.3838,2,  44.3000,2,    44.3,1, -999.00,9, -999.00,9, -999.00,9, -999.00,9, -999.00,   2.1955
90CI20000602,     ------,      20,          1,          1,          1,2,20000611,       2344,  47.836667,151.0366667,       3360,  1418.1,   2.1994,  34.4519,2,  34.4519,2,  44.8000,2,  -999.0,9, -999.00,9, -999.00,9, -999.00,9, -999.00,9, -999.00,   2.1074
90CI20000602,     ------,      21,          1,          6,          6,2,20000612,       0318,  47.555000,151.3466667,       3364,     9.9,   2.6873,  32.4798,2,  32.5004,2, 356.8000,2,   359.5,1,   23.02,2,    9.85,2,    0.12,2,    1.01,2, -999.00,   2.6868
90CI20000602,     ------,      21,          1,          5,          5,2,20000612,       0318,  47.555000,151.3466667,       3364,   267.0,   1.4429,  33.3657,2,  33.3674,2, 221.3000,2,   221.5,1,   66.56,2,   28.79,2,    0.12,2,    2.30,2, -999.00,   1.4303
90CI20000602,     ------,      21,          1,          4,          4,2,20000612,       0318,  47.555000,151.3466667,       3364,   808.3,   2.2109,  34.0045,2,  34.0057,2,  76.9000,2,    77.6,1,  126.87,2,   39.49,2,    0.00,2,    2.98,2, -999.00,   2.1630
90CI20000602,     ------,      21,          1,          3,          3,2,20000612,       0318,  47.555000,151.3466667,       3364,  1011.2,   2.3449,  34.2223,2,  34.2220,2,  44.1000,2,    44.0,1,  153.19,2,   41.88,2,    0.00,2,    3.14,2, -999.00,   2.2818
90CI20000602,     ------,      21,          1,          2,          2,2,20000612,       0318,  47.555000,151.3466667,       3364,  1213.8,   2.2991,  34.3703,2,  34.3701,2,  44.4000,2,    44.4,1,  159.70,2,   42.17,2,    0.00,2,    3.12,2, -999.00,   2.2216
90CI20000602,     ------,      21,          1,          1,          1,2,20000612,       0318,  47.555000,151.3466667,       3364,  1414.9,   2.2025,  34.4423,2,  34.4416,2,  49.9000,2,    50.3,1,  163.66,2,   42.02,2,    0.00,2,    3.07,2, -999.00,   2.1108