BOTTLE,20121207CCHSIOMYS
EXPOCODE,SECT_ID,STNNBR,CASTNO,SAMPNO,BTLNBR,BTLNBR_FLAG_W,DATE,TIME,LATITUDE,LONGITUDE,DEPTH,CTDPRS,CTDTMP,CTDSAL,CTDSAL_FLAG_W,SALNTY,SALNTY_FLAG_W,CTDOXY,CTDOXY_FLAG_W,OXYGEN,OXYGEN_FLAG_W,SILCAT,SILCAT_FLAG_W,NITRAT,NITRAT_FLAG_W,NITRIT,NITRIT_FLAG_W,PHSPHT,PHSPHT_FLAG_W,CTDRAW,THETA
,,,,,,,,,,,,DBAR,ITS-90,PSS-78,,PSS-78,,UMOL/KG,,UMOL/KG,,UMOL/KG,,UMOL/KG,,UMOL/KG,,UMOL/KG,,DBAR,DEG C
90CI20000602,     ------,      63,          1,          8,          8,2,20000621,       1118,  55.611667,145.3000000,        127,     2.3,   0.6333,  32.9817,2,  32.9828,2, 303.1000,2,   303.4,1,   44.88,2,   22.84,2,    0.13,2,    2.01,2, -999.00,   0.6332
90CI20000602,     ------,      63,          1,          7,          7,2,20000621,       1118,  55.611667,145.3000000,        127,    10.4,   0.6294,  32.9817,2,  32.9828,2, 303.4000,2,   303.4,1,   45.04,2,   22.84,2,    0.13,2,    2.01,2, -999.00,   0.6290
90CI20000602,     ------,      63,          1,          6,          6,2,20000621,       1118,  55.611667,145.3000000,        127,    20.1,   0.6297,  32.9822,2,  32.9824,2, 303.4000,2,   303.2,1,   44.80,2,   22.85,2,    0.13,2,    2.00,2, -999.00,   0.6290
90CI20000602,     ------,      63,          1,          5,          5,2,20000621,       1118,  55.611667,145.3000000,        127,    29.8,   0.6285,  32.9828,2,  32.9830,2, 303.4000,2,   303.0,1,   45.17,2,   22.91,2,    0.13,2,    2.01,2, -999.00,   0.6274
90CI20000602,     ------,      63,          1,          4,          4,2,20000621,       1118,  55.611667,145.3000000,        127,    49.1,   0.6283,  32.9823,2,  32.9832,2, 303.4000,2,   303.0,1,   44.93,2,   22.91,2,    0.13,2,    2.03,2, -999.00,   0.6265
90CI20000602,     ------,      63,          1,          3,          3,2,20000621,       1118,  55.611667,145.3000000,        127,    74.1,   0.6254,  32.9833,2,  32.9838,2, 303.4000,2,   303.2,1,   44.89,2,   22.92,2,    0.13,2,    2.02,2, -999.00,   0.6225
90CI20000602,     ------,      63,          1,          2,          2,2,20000621,       1118,  55.611667,145.3000000,        127,   100.6,   0.6251,  32.9831,2,  32.9840,2, 303.5000,2,   303.1,1,   45.05,2,   22.88,2,    0.13,2,    2.01,2, -999.00,   0.6212
90CI20000602,     ------,      63,          1,          1,          1,2,20000621,       1118,  55.611667,145.3000000,        127,   121.2,   0.6223,  32.9837,2,  32.9840,2, 303.2000,2,   302.6,1,   45.01,2,   22.93,2,    0.13,2,    2.03,2, -999.00,   0.6177
90CI20000602,     ------,      64,          1,         13,         13,2,20000621,       1335,  55.388333,145.2933333,        408,     2.2,   0.8938,  32.9928,2,  32.9840,2, 321.4000,2,   322.6,1,   36.39,2,   20.20,2,    0.12,2,    1.67,2, -999.00,   0.8937
90CI20000602,     ------,      64,          1,         12,         12,2,20000621,       1335,  55.388333,145.2933333,        408,    10.0,   0.7882,  32.9887,2,  32.9888,2, 319.0000,2,   315.3,1,   37.95,2,   20.92,2,    0.11,2,    1.74,2, -999.00,   0.7878
90CI20000602,     ------,      64,          1,         11,         11,2,20000621,       1335,  55.388333,145.2933333,        408,    19.1,   0.7361,  32.9911,2,  32.9910,2, 314.9000,2,   312.9,1,   38.51,2,   20.93,2,    0.11,2,    1.77,2, -999.00,   0.7353
90CI20000602,     ------,      64,          1,         10,         10,2,20000621,       1335,  55.388333,145.2933333,        408,    26.9,   0.6940,  32.9942,2,  32.9943,2, 312.6000,2,   308.8,1,   39.07,2,   21.46,2,    0.11,2,    1.81,2, -999.00,   0.6929
90CI20000602,     ------,      64,          1,          9,          9,2,20000621,       1335,  55.388333,145.2933333,        408,    48.6,   0.5787,  33.0035,2,  33.0038,2, 303.5000,2,   300.2,1,   42.88,2,   22.72,2,    0.10,2,    1.90,2, -999.00,   0.5768
90CI20000602,     ------,      64,          1,          8,          8,2,20000621,       1335,  55.388333,145.2933333,        408,    75.5,   0.5506,  33.0064,2,  33.0071,2, 292.1000,2,   295.8,1,   44.04,2,   22.97,2,    0.10,2,    1.95,2, -999.00,   0.5478
90CI20000602,     ------,      64,          1,          7,          7,2,20000621,       1335,  55.388333,145.2933333,        408,    99.4,   0.5451,  33.0073,2,  33.0095,2, 290.0000,2,   294.7,1,   44.20,2,   23.21,2,    0.10,2,    1.96,2, -999.00,   0.5413
90CI20000602,     ------,      64,          1,          6,          6,2,20000621,       1335,  55.388333,145.2933333,        408,   123.7,   0.4911,  33.0310,2,  33.0313,2, 288.6000,2,   283.8,1,   47.69,2,   24.16,2,    0.09,2,    2.06,2, -999.00,   0.4865
90CI20000602,     ------,      64,          1,          5,          5,2,20000621,       1335,  55.388333,145.2933333,        408,   150.5,   0.4861,  33.0814,2,  33.0815,2, 277.1000,2,   266.4,1,   52.92,2,   26.00,2,    0.08,2,    2.17,2, -999.00,   0.4804
90CI20000602,     ------,      64,          1,          4,          4,2,20000621,       1335,  55.388333,145.2933333,        408,   200.5,   0.5819,  33.1798,2,  33.1815,2, 233.5000,2,   232.9,1,   62.96,2,   28.73,2,    0.06,2,    2.38,2, -999.00,   0.5740
90CI20000602,     ------,      64,          1,          3,          3,2,20000621,       1335,  55.388333,145.2933333,        408,   251.2,   0.6896,  33.2636,2,  33.2672,2, 204.5000,2,   205.7,1,   70.10,2,   31.00,2,    0.04,2,    2.53,2, -999.00,   0.6793
90CI20000602,     ------,      64,          1,          2,          2,2,20000621,       1335,  55.388333,145.2933333,        408,   302.0,   1.0316,  33.3700,2,  33.3720,2, 177.8000,2,   176.4,1,   77.03,2,   32.89,2,    0.03,2,    2.67,2, -999.00,   1.0182
90CI20000602,     ------,      64,          1,          1,          1,2,20000621,       1335,  55.388333,145.2933333,        408,   393.9,   1.1851,  33.4190,2,  33.4203,2, 165.6000,2,   166.4,1,   79.58,2,   33.58,2,    0.03,2,    2.69,2, -999.00,   1.1668
90CI20000602,     ------,      65,          1,         18,         18,2,20000621,       1549,  55.163333,145.2950000,        841,     3.2,   4.4608,  32.5694,2,  32.5726,2, 362.4000,2,   363.5,1,    1.00,2,    3.64,2,    0.08,2,    0.43,2, -999.00,   4.4606
90CI20000602,     ------,      65,          1,         17,         17,2,20000621,       1549,  55.163333,145.2950000,        841,     9.2,   4.2729,  32.5758,2,  32.5745,2, 364.7000,2,   365.7,1,    1.00,2,    3.73,2,    0.08,2,    0.44,2, -999.00,   4.2723
90CI20000602,     ------,      65,          1,         16,         16,2,20000621,       1549,  55.163333,145.2950000,        841,    18.9,   3.0488,  32.6132,2,  32.6153,2, 373.0000,2,   374.6,1,    1.41,2,    4.67,2,    0.09,2,    0.61,2, -999.00,   3.0477
90CI20000602,     ------,      65,          1,         15,         15,2,20000621,       1549,  55.163333,145.2950000,        841,    29.2,   2.3700,  32.6246,2,  32.6291,2, 377.2000,2,   376.2,1,    1.81,2,    5.97,2,    0.10,2,    0.77,2, -999.00,   2.3685
90CI20000602,     ------,      65,          1,         14,         14,2,20000621,       1549,  55.163333,145.2950000,        841,    49.3,   0.5957,  32.7077,2,  32.7092,2, 370.9000,2,   365.1,1,    8.63,2,   10.19,2,    0.15,2,    1.18,2, -999.00,   0.5938
90CI20000602,     ------,      65,          1,         13,         13,2,20000621,       1549,  55.163333,145.2950000,        841,    74.0,  -0.4790,  32.7701,2,  32.7627,2, 363.8000,2,   358.8,1,   20.07,2,   14.23,2,    0.18,2,    1.40,2, -999.00,  -0.4811
90CI20000602,     ------,      65,          1,         12,         12,2,20000621,       1549,  55.163333,145.2950000,        841,    99.7,  -1.0075,  32.8625,2,  32.8652,2, 340.5000,2,   347.4,1,   32.72,2,   18.90,2,    0.20,2,    1.64,2, -999.00,  -1.0099
90CI20000602,     ------,      65,          1,         11,         11,2,20000621,       1549,  55.163333,145.2950000,        841,   124.3,  -0.2429,  33.0437,2,  33.0449,2, 299.3000,2,   300.8,1,   44.55,2,   24.20,2,    0.07,2,    1.95,2, -999.00,  -0.2468
90CI20000602,     ------,      65,          1,         10,         10,2,20000621,       1549,  55.163333,145.2950000,        841,   149.5,   0.2350,  33.1312,2,  33.1312,2, 272.6000,2,   275.1,1,   50.56,2,   26.46,2,    0.04,2,    2.09,2, -999.00,   0.2296
90CI20000602,     ------,      65,          1,          9,          9,2,20000621,       1549,  55.163333,145.2950000,        841,   199.4,   0.9203,  33.2767,2,  33.2780,2, 227.4000,2,   222.3,1,   61.19,2,   30.43,2,    0.02,2,    2.39,2, -999.00,   0.9119
90CI20000602,     ------,      65,          1,          8,          8,2,20000621,       1549,  55.163333,145.2950000,        841,   250.7,   1.1450,  33.3515,2,  33.3536,2, 193.7000,2,   189.1,1,   67.60,2,   32.70,2,    0.04,2,    2.57,2, -999.00,   1.1338
90CI20000602,     ------,      65,          1,          7,          7,2,20000621,       1549,  55.163333,145.2950000,        841,   301.4,   1.3339,  33.4309,2,  33.4326,2, 165.3000,2,   162.5,1,   74.62,2,   34.39,2,    0.01,2,    2.71,2, -999.00,   1.3198
90CI20000602,     ------,      65,          1,          6,          6,2,20000621,       1549,  55.163333,145.2950000,        841,   402.8,   1.6832,  33.5966,2,  33.5962,2, 121.9000,2,   127.0,1,   88.27,2,   36.06,2,    0.01,2,    2.82,2, -999.00,   1.6627
90CI20000602,     ------,      65,          1,          5,          5,2,20000621,       1549,  55.163333,145.2950000,        841,   502.7,   2.0052,  33.7467,2,  33.7458,2,  90.0000,2,   100.2,1,  104.15,2,   37.84,2,    0.01,2,    2.91,2, -999.00,   1.9778
90CI20000602,     ------,      65,          1,          4,          4,2,20000621,       1549,  55.163333,145.2950000,        841,   605.1,   2.2711,  33.9193,2,  33.9209,2,  66.6000,2,    70.6,1,  125.93,2,   39.42,2,    0.00,2,    3.04,2, -999.00,   2.2361
90CI20000602,     ------,      65,          1,          3,          3,2,20000621,       1549,  55.163333,145.2950000,        841,   704.6,   2.4126,  34.1324,2,  34.1342,2,  50.1000,2,    45.5,1,  148.83,2,   41.19,2,    0.00,2,    3.11,2, -999.00,   2.3701
90CI20000602,     ------,      65,          1,          2,          2,2,20000621,       1549,  55.163333,145.2950000,        841,   808.1,   2.3997,  34.2370,2,  34.2373,2,  37.3000,2,    37.7,1,  162.68,2,   41.57,2,    0.00,2,    3.15,2, -999.00,   2.3503
90CI20000602,     ------,      65,          1,          1,          1,2,20000621,       1549,  55.163333,145.2950000,        841,   821.7,   2.4018,  34.2423,2,  34.2389,2,  34.9000,2,    37.4,1,  163.28,2,   41.70,2,    0.00,2,    3.16,2, -999.00,   2.3514
90CI20000602,     ------,      66,          1,         18,         18,2,20000621,       2202,  55.506667,143.9983333,        921,     2.5,   2.4187,  32.6433,2,  32.6449,2, 382.5000,2,   404.6,1,    1.89,2,    4.57,2,    0.12,2,    0.55,2, -999.00,   2.4186
90CI20000602,     ------,      66,          1,         17,         17,2,20000621,       2202,  55.506667,143.9983333,        921,     9.6,   2.4040,  32.6432,2,  32.6443,2, 382.9000,2,   404.2,1,    2.08,2,    4.62,2,    0.12,2,    0.55,2, -999.00,   2.4035
90CI20000602,     ------,      66,          1,         16,         16,2,20000621,       2202,  55.506667,143.9983333,        921,    18.6,   2.2166,  32.6548,2,  32.6573,2, 400.7000,2,   400.9,1,    2.67,2,    5.46,2,    0.12,2,    0.60,2, -999.00,   2.2156
90CI20000602,     ------,      66,          1,         15,         15,2,20000621,       2202,  55.506667,143.9983333,        921,    29.4,   1.3709,  32.7225,2,  32.7242,2, 390.6000,2,   379.4,1,    8.28,2,    9.91,2,    0.13,2,    0.95,2, -999.00,   1.3696
90CI20000602,     ------,      66,          1,         14,         14,2,20000621,       2202,  55.506667,143.9983333,        921,    50.5,   0.3020,  32.7712,2,  32.7652,2, 357.2000,2,   354.4,1,   18.71,2,   14.88,2,    0.13,2,    1.39,2, -999.00,   0.3003
90CI20000602,     ------,      66,          1,         13,         13,2,20000621,       2202,  55.506667,143.9983333,        921,    75.3,  -0.4034,  32.8702,2,  32.8724,2, 325.8000,2,   324.1,1,   33.76,2,   20.16,2,    0.12,2,    1.74,2, -999.00,  -0.4056
90CI20000602,     ------,      66,          1,         12,         12,2,20000621,       2202,  55.506667,143.9983333,        921,    99.9,  -0.1132,  32.9646,2,  32.9598,2, 303.8000,2,   306.9,1,   39.78,2,   22.09,2,    0.12,2,    1.88,2, -999.00,  -0.1163
90CI20000602,     ------,      66,          1,         11,         11,2,20000621,       2202,  55.506667,143.9983333,        921,   126.1,  -0.0898,  33.0281,2,  33.0330,2, 287.3000,2,   291.9,1,   44.99,2,   24.21,2,    0.11,2,    2.03,2, -999.00,  -0.0939
90CI20000602,     ------,      66,          1,         10,         10,2,20000621,       2202,  55.506667,143.9983333,        921,   150.5,   0.1694,  33.1066,2,  33.1059,2, 276.6000,2,   272.2,1,   49.61,2,   26.25,2,    0.11,2,    2.15,2, -999.00,   0.1641
90CI20000602,     ------,      66,          1,          9,          9,2,20000621,       2202,  55.506667,143.9983333,        921,   202.2,   0.5712,  33.1961,2,  33.1959,2, 242.4000,2,   247.2,1,   55.84,2,   28.50,2,    0.07,2,    2.30,2, -999.00,   0.5633
90CI20000602,     ------,      66,          1,          8,          8,2,20000621,       2202,  55.506667,143.9983333,        921,   251.0,   0.9084,  33.2701,2,  33.2690,2, 214.7000,2,   219.4,1,   62.68,2,   30.63,2,    0.02,2,    2.45,2, -999.00,   0.8977
90CI20000602,     ------,      66,          1,          7,          7,2,20000621,       2202,  55.506667,143.9983333,        921,   302.1,   1.2956,  33.3863,2,  33.3854,2, 179.3000,2,   174.7,1,   72.94,2,   33.40,2,    0.01,2,    2.68,2, -999.00,   1.2815
90CI20000602,     ------,      66,          1,          6,          6,2,20000621,       2202,  55.506667,143.9983333,        921,   403.0,   1.7939,  33.6411,2,  33.6331,2, 123.9000,2,   116.3,1,   96.92,2,   36.73,2,    0.00,2,    2.92,2, -999.00,   1.7730
90CI20000602,     ------,      66,          1,          5,          5,2,20000621,       2202,  55.506667,143.9983333,        921,   504.3,   2.0999,  33.9116,2,  33.9117,2,  83.0000,2,    78.9,1,  125.86,2,   39.12,2,    0.00,2,    3.04,2, -999.00,   2.0718
90CI20000602,     ------,      66,          1,          4,          4,2,20000621,       2202,  55.506667,143.9983333,        921,   605.2,   2.2474,  34.0762,2,  34.0772,2,  61.5000,2,    58.4,1,  143.77,2,   40.41,2,    0.00,2,    3.11,2, -999.00,   2.2122
90CI20000602,     ------,      66,          1,          3,          3,2,20000621,       2202,  55.506667,143.9983333,        921,   706.7,   2.2896,  34.1257,2,  34.1250,2,  52.6000,2,    52.3,1,  149.71,2,   40.46,2,    0.00,2,    3.14,2, -999.00,   2.2477
90CI20000602,     ------,      66,          1,          2,          2,2,20000621,       2202,  55.506667,143.9983333,        921,   805.9,   2.3256,  34.1768,2,  34.1760,2,  46.6000,2,    47.2,1,  156.07,2,   41.18,2,    0.00,2,    3.15,2, -999.00,   2.2769
90CI20000602,     ------,      66,          1,          1,          1,2,20000621,       2202,  55.506667,143.9983333,        921,   907.0,   2.3425,  34.2050,2,  34.2048,2,  42.3000,2,    44.1,1,  158.34,2,   41.37,2,    0.00,2,    3.16,2, -999.00,   2.2867
90CI20000602,     ------,      67,          1,         14,         14,2,20000622,       0200,  55.505000,143.2033333,        430,     2.0,   4.2127,  31.3815,2,  31.4337,2, 385.1000,2,   401.0,1,    0.59,2,    0.14,2,    0.00,2,    0.16,2, -999.00,   4.2125
90CI20000602,     ------,      67,          1,         13,         13,2,20000622,       0200,  55.505000,143.2033333,        430,     8.1,   2.8236,  31.9326,2,  31.9067,2, 422.8000,2,   428.9,1,    0.56,2,    0.13,2,    0.01,2,    0.18,2, -999.00,   2.8232
90CI20000602,     ------,      67,          1,         12,         12,2,20000622,       0200,  55.505000,143.2033333,        430,    18.9,   1.0532,  32.4141,2,  32.3387,2, 407.9000,2,   403.6,1,    2.35,2,    5.18,2,    0.08,2,    0.62,2, -999.00,   1.0525
90CI20000602,     ------,      67,          1,         11,         11,2,20000622,       0200,  55.505000,143.2033333,        430,    29.4,   0.0789,  32.5924,2,  32.5947,2, 378.2000,2,   373.5,1,   11.77,2,   11.60,2,    0.11,2,    1.13,2, -999.00,   0.0780
90CI20000602,     ------,      67,          1,         10,         10,2,20000622,       0200,  55.505000,143.2033333,        430,    49.2,  -0.6819,  32.7518,2,  32.7470,2, 333.5000,2,   343.1,1,   26.01,2,   17.14,2,    0.11,2,    1.64,2, -999.00,  -0.6832
90CI20000602,     ------,      67,          1,          9,          9,2,20000622,       0200,  55.505000,143.2033333,        430,    75.3,  -0.4425,  32.9996,2,  32.9968,2, 299.3000,2,   297.5,1,   44.06,2,   24.00,2,    0.09,2,    1.99,2, -999.00,  -0.4446
90CI20000602,     ------,      67,          1,          8,          8,2,20000622,       0200,  55.505000,143.2033333,        430,   100.7,   0.0180,  33.1087,2,  33.1067,2, 267.8000,2,   270.3,1,   50.87,2,   26.65,2,    0.07,2,    2.16,2, -999.00,   0.0146
90CI20000602,     ------,      67,          1,          7,          7,2,20000622,       0200,  55.505000,143.2033333,        430,   125.7,   0.2287,  33.1722,2,  33.1717,2, 247.7000,2,   250.0,1,   56.47,2,   28.31,2,    0.06,2,    2.29,2, -999.00,   0.2242
90CI20000602,     ------,      67,          1,          6,          6,2,20000622,       0200,  55.505000,143.2033333,        430,   150.4,   0.4469,  33.2248,2,  33.2246,2, 230.4000,2,   231.8,1,   61.28,2,   29.70,2,    0.03,2,    2.39,2, -999.00,   0.4412
90CI20000602,     ------,      67,          1,          5,          5,2,20000622,       0200,  55.505000,143.2033333,        430,   200.6,   0.8209,  33.3216,2,  33.3214,2, 197.7000,2,   197.1,1,   70.51,2,   32.13,2,    0.01,2,    2.58,2, -999.00,   0.8126
90CI20000602,     ------,      67,          1,          4,          4,2,20000622,       0200,  55.505000,143.2033333,        430,   253.5,   1.0269,  33.3807,2,  33.3817,2, 173.9000,2,   176.0,1,   77.12,2,   33.18,2,    0.00,2,    2.68,2, -999.00,   1.0158
90CI20000602,     ------,      67,          1,          3,          3,2,20000622,       0200,  55.505000,143.2033333,        430,   301.2,   1.2513,  33.4519,2,  33.4490,2, 156.8000,2,   157.1,1,   83.14,2,   34.51,2,    0.00,2,    2.78,2, -999.00,   1.2374
90CI20000602,     ------,      67,          1,          2,          2,2,20000622,       0200,  55.505000,143.2033333,        430,   403.1,   1.6025,  33.5874,2,  33.5886,2, 125.2000,2,   124.8,1,   97.03,2,   36.27,2,    0.00,2,    2.92,2, -999.00,   1.5822
90CI20000602,     ------,      67,          1,          1,          1,2,20000622,       0200,  55.505000,143.2033333,        430,   418.4,   1.6608,  33.6126,2,  33.6106,2, 120.7000,2,   121.0,1,   99.03,2,   36.50,2,    0.01,2,    2.92,2, -999.00,   1.6395