BOTTLE,20121207CCHSIOMYS
EXPOCODE,SECT_ID,STNNBR,CASTNO,SAMPNO,BTLNBR,BTLNBR_FLAG_W,DATE,TIME,LATITUDE,LONGITUDE,DEPTH,CTDPRS,CTDTMP,CTDSAL,CTDSAL_FLAG_W,SALNTY,SALNTY_FLAG_W,CTDOXY,CTDOXY_FLAG_W,OXYGEN,OXYGEN_FLAG_W,SILCAT,SILCAT_FLAG_W,NITRAT,NITRAT_FLAG_W,NITRIT,NITRIT_FLAG_W,PHSPHT,PHSPHT_FLAG_W,CTDRAW,THETA
,,,,,,,,,,,,DBAR,ITS-90,PSS-78,,PSS-78,,UMOL/KG,,UMOL/KG,,UMOL/KG,,UMOL/KG,,UMOL/KG,,UMOL/KG,,DBAR,DEG C
90CI20000602,     ------,      22,          1,         24,         24,2,20000612,       0649,  47.360000,151.5333333,       3360,     3.2,   4.2535,  32.3787,2,  32.3830,2, 364.8000,2,   373.5,1,   19.04,2,    3.91,2,    0.11,2,    0.54,2, -999.00,   4.2533
90CI20000602,     ------,      22,          1,         23,         23,2,20000612,       0649,  47.360000,151.5333333,       3360,    10.1,   3.7713,  32.3831,2,  32.3855,2, 374.3000,2,   371.2,1,   19.40,2,    4.71,2,    0.11,2,    0.57,2, -999.00,   3.7706
90CI20000602,     ------,      22,          1,         22,         22,2,20000612,       0649,  47.360000,151.5333333,       3360,    28.3,   2.0931,  32.4154,2,  32.4404,2, 358.5000,2,   360.6,1,   22.07,2,    7.74,2,    0.12,2,    0.86,2, -999.00,   2.0917
90CI20000602,     ------,      22,          1,         21,         21,2,20000612,       0649,  47.360000,151.5333333,       3360,    45.7,  -0.4630,  32.8286,2,  32.8354,2, 335.3000,2,   328.7,1,   31.85,2,   18.55,2,    0.07,2,    1.58,2, -999.00,  -0.4642
90CI20000602,     ------,      22,          1,         20,         20,2,20000612,       0649,  47.360000,151.5333333,       3360,    74.1,  -0.4302,  32.9693,2,  32.9709,2, 295.2000,2,   315.2,1,   35.28,2,   20.36,2,    0.05,2,    1.75,2, -999.00,  -0.4323
90CI20000602,     ------,      22,          1,         19,         19,2,20000612,       0649,  47.360000,151.5333333,       3360,    98.3,   0.2981,  33.0854,2,  33.0864,2, 252.3000,2,   290.6,1,   41.41,2,   22.34,2,    0.05,2,    1.86,2, -999.00,   0.2946
90CI20000602,     ------,      22,          1,         18,         18,2,20000612,       0649,  47.360000,151.5333333,       3360,   117.7,   0.5977,  33.1220,2,  33.1241,2, 249.2000,2,   281.4,1,   44.66,2,   23.29,2,    0.09,2,    1.93,2, -999.00,   0.5932
90CI20000602,     ------,      22,          1,         17,         17,2,20000612,       0649,  47.360000,151.5333333,       3360,   133.4,   0.7161,  33.1582,2,  33.1576,2, 242.7000,2,   271.5,1,   46.18,2,   24.00,2,    0.09,2,    1.99,2, -999.00,   0.7108
90CI20000602,     ------,      22,          1,         16,         16,2,20000612,       0649,  47.360000,151.5333333,       3360,   177.8,   1.0605,  33.2445,2,  33.2459,2, 234.5000,2,   250.1,1,   53.85,2,   26.09,2,    0.12,2,    2.12,2, -999.00,   1.0528
90CI20000602,     ------,      22,          1,         15,         15,2,20000612,       0649,  47.360000,151.5333333,       3360,   206.0,   1.1392,  33.2727,2,  33.2734,2, 228.0000,2,   244.8,1,   57.10,2,   26.74,2,    0.14,2,    2.18,2, -999.00,   1.1301
90CI20000602,     ------,      22,          1,         14,         14,2,20000612,       0649,  47.360000,151.5333333,       3360,   301.1,   1.2629,  33.3327,2,  33.3338,2, 217.4000,2,   228.9,1,   61.69,2,   28.58,2,    0.16,2,    2.28,2, -999.00,   1.2490
90CI20000602,     ------,      22,          1,         13,         13,2,20000612,       0649,  47.360000,151.5333333,       3360,   404.3,   1.3148,  33.3885,2,  33.3902,2, 212.7000,2,   210.1,1,   64.94,2,   29.77,2,    0.06,2,    2.36,2, -999.00,   1.2956
90CI20000602,     ------,      22,          1,         12,         12,2,20000612,       0649,  47.360000,151.5333333,       3360,   505.0,   1.4313,  33.4601,2,  33.4509,2, 203.4000,2,   195.1,1,   70.12,2,   30.55,2,    0.04,2,    2.44,2, -999.00,   1.4064
90CI20000602,     ------,      22,          1,         11,         11,2,20000612,       0649,  47.360000,151.5333333,       3360,   604.3,   1.4006,  33.5401,2,  33.5398,2, 180.2000,2,   170.3,1,   75.11,2,   32.06,2,    0.01,2,    2.54,2, -999.00,   1.3703
90CI20000602,     ------,      22,          1,         10,         10,2,20000612,       0649,  47.360000,151.5333333,       3360,   690.7,   1.7575,  33.7016,2,  33.7007,2, 142.4000,2,   136.3,1,   91.30,2,   34.66,2,    0.00,2,    2.70,2, -999.00,   1.7201
90CI20000602,     ------,      22,          1,          9,          9,2,20000612,       0649,  47.360000,151.5333333,       3360,   806.8,   2.0979,  33.9105,2,  33.9122,2,  93.4000,2,    91.0,1,  116.70,2,   38.28,2,    0.00,2,    2.91,2, -999.00,   2.0510
90CI20000602,     ------,      22,          1,          8,          8,2,20000612,       0649,  47.360000,151.5333333,       3360,  1011.0,   2.3689,  34.2333,2,  34.2352,2,  47.1000,2,    45.0,1,  151.81,2,   41.88,2,    0.00,2,    3.11,2, -999.00,   2.3056
90CI20000602,     ------,      22,          1,          7,          7,2,20000612,       0649,  47.360000,151.5333333,       3360,  1213.8,   2.2889,  34.3781,2,  34.3794,2,  44.2000,2,    44.5,1,  161.12,2,   41.73,2,    0.00,2,    3.09,2, -999.00,   2.2115
90CI20000602,     ------,      22,          1,          6,          6,2,20000612,       0649,  47.360000,151.5333333,       3360,  1416.9,   2.1981,  34.4501,2,  34.4513,2,  49.8000,2,    48.5,1,  164.89,2,   42.02,2,    0.00,2,    3.06,2, -999.00,   2.1062
90CI20000602,     ------,      22,          1,          5,          5,2,20000612,       0649,  47.360000,151.5333333,       3360,  1619.5,   2.1187,  34.4897,2,  34.4909,2,  54.7000,2,    54.4,1,  166.46,2,   41.68,2,    0.00,2,    3.03,2, -999.00,   2.0119
90CI20000602,     ------,      22,          1,          4,          4,2,20000612,       0649,  47.360000,151.5333333,       3360,  2025.0,   1.9844,  34.5462,2,  34.5472,2,  64.5000,2,    66.2,1,  169.84,2,   40.99,2,    0.00,2,    2.98,2, -999.00,   1.8464
90CI20000602,     ------,      22,          1,          3,          3,2,20000612,       0649,  47.360000,151.5333333,       3360,  2536.4,   1.8976,  34.5836,2,  34.5848,2,  77.1000,2,    77.8,1,  170.42,2,   40.31,2,    0.00,2,    2.93,2, -999.00,   1.7162
90CI20000602,     ------,      22,          1,          2,          2,2,20000612,       0649,  47.360000,151.5333333,       3360,  3047.3,   1.8580,  34.6064,2,  34.6133,3,  85.6000,2,    85.5,1,  173.61,2,   39.62,2,    0.00,2,    2.92,2, -999.00,   1.6291
90CI20000602,     ------,      22,          1,          1,          1,2,20000612,       0649,  47.360000,151.5333333,       3360,  3368.0,   1.8450,  34.6153,2,  34.6168,2,  92.2000,2,    92.7,1,  170.38,2,   39.23,2,    0.00,2,    2.86,2, -999.00,   1.5842
90CI20000602,     ------,      23,          1,          6,          6,2,20000612,       1118,  47.116667,151.7716667,       2945,     8.4,   3.1776,  32.5498,2,  32.5478,2, 341.3000,2,   351.7,1, -999.00,9, -999.00,9, -999.00,9, -999.00,9, -999.00,   3.1771
90CI20000602,     ------,      23,          1,          5,          5,2,20000612,       1118,  47.116667,151.7716667,       2945,   302.5,   1.5409,  33.3886,2,  33.3902,2, 218.4000,2,   216.2,1, -999.00,9, -999.00,9, -999.00,9, -999.00,9, -999.00,   1.5263
90CI20000602,     ------,      23,          1,          4,          4,2,20000612,       1118,  47.116667,151.7716667,       2945,   803.2,   2.2782,  34.1111,2,  34.1170,3,  57.5000,2,    54.2,1, -999.00,9, -999.00,9, -999.00,9, -999.00,9, -999.00,   2.2301
90CI20000602,     ------,      23,          1,          3,          3,2,20000612,       1118,  47.116667,151.7716667,       2945,  1009.9,   2.3304,  34.3218,2,  34.3244,3,  48.6000,2,    46.5,1, -999.00,9, -999.00,9, -999.00,9, -999.00,9, -999.00,   2.2673
90CI20000602,     ------,      23,          1,          2,          2,2,20000612,       1118,  47.116667,151.7716667,       2945,  1213.2,   2.2447,  34.4107,2,  34.4114,2,  48.8000,2,    49.0,1, -999.00,9, -999.00,9, -999.00,9, -999.00,9, -999.00,   2.1676
90CI20000602,     ------,      23,          1,          1,          1,2,20000612,       1118,  47.116667,151.7716667,       2945,  1417.8,   2.1667,  34.4632,2,  34.4629,2,  49.4000,2,    51.2,1, -999.00,9, -999.00,9, -999.00,9, -999.00,9, -999.00,   2.0750
90CI20000602,     ------,      24,          1,         24,         24,2,20000612,       1526,  46.890000,151.4266667,       3053,     2.8,   3.5628,  32.3621,2,  32.3642,2, 348.1000,2,   362.3,1,   19.02,2,    4.89,2,    0.10,2,    0.72,2, -999.00,   3.5626
90CI20000602,     ------,      24,          1,         23,         23,2,20000612,       1526,  46.890000,151.4266667,       3053,     9.2,   3.5301,  32.3620,2,  32.3649,2, 354.9000,2,   362.7,1,   18.99,2,    4.93,2,    0.11,2,    0.71,2, -999.00,   3.5295
90CI20000602,     ------,      24,          1,         22,         22,2,20000612,       1526,  46.890000,151.4266667,       3053,    28.9,   2.4591,  32.3847,2,  32.3857,2, 361.1000,2,   361.8,1,   19.75,2,    6.35,2,    0.11,2,    0.82,2, -999.00,   2.4576
90CI20000602,     ------,      24,          1,         21,         21,2,20000612,       1526,  46.890000,151.4266667,       3053,    50.2,   0.9557,  32.5046,2,  32.5141,2, 360.8000,2,   356.1,1,   22.66,2,   10.77,2,    0.14,2,    1.13,2, -999.00,   0.9537
90CI20000602,     ------,      24,          1,         20,         20,2,20000612,       1526,  46.890000,151.4266667,       3053,    74.1,  -0.2830,  32.7804,2,  32.7883,2, 336.4000,2,   336.8,1,   29.85,2,   17.17,2,    0.14,2,    1.55,2, -999.00,  -0.2852
90CI20000602,     ------,      24,          1,         19,         19,2,20000612,       1526,  46.890000,151.4266667,       3053,    99.3,  -0.0600,  32.9610,2,  32.9656,2, 311.4000,2,   314.7,1,   36.65,2,   20.40,2,    0.12,2,    1.75,2, -999.00,  -0.0632
90CI20000602,     ------,      24,          1,         18,         18,2,20000612,       1526,  46.890000,151.4266667,       3053,   124.4,   0.0692,  33.0443,2,  33.0452,2, 294.8000,2,   301.6,1,   39.73,2,   21.86,2,    0.09,2,    1.84,2, -999.00,   0.0650
90CI20000602,     ------,      24,          1,         17,         17,2,20000612,       1526,  46.890000,151.4266667,       3053,   150.9,  -0.0485,  33.1104,2,  33.1161,2, 289.8000,2,   283.3,1,   42.24,2,   23.39,2,    0.04,2,    1.96,2, -999.00,  -0.0535
90CI20000602,     ------,      24,          1,         16,         16,2,20000612,       1526,  46.890000,151.4266667,       3053,   200.8,   0.2079,  33.2040,2,  33.2056,2, 258.3000,2,   258.5,1,   47.66,2,   25.47,2,    0.12,2,    2.13,2, -999.00,   0.2007
90CI20000602,     ------,      24,          1,         15,         15,2,20000612,       1526,  46.890000,151.4266667,       3053,   251.2,   0.6765,  33.3017,2,  33.3009,2, 224.9000,2,   226.9,1,   55.42,2,   28.06,2,    0.08,2,    2.32,2, -999.00,   0.6663
90CI20000602,     ------,      24,          1,         14,         14,2,20000612,       1526,  46.890000,151.4266667,       3053,   301.5,   1.0194,  33.3748,2,  33.3705,2, 206.1000,2,   210.6,1,   60.84,2,   29.14,2,    0.05,2,    2.37,2, -999.00,   1.0062
90CI20000602,     ------,      24,          1,         13,         13,2,20000612,       1526,  46.890000,151.4266667,       3053,   402.6,   1.3525,  33.5342,2,  33.5330,2, 172.4000,2,   170.2,1,   75.03,2,   31.88,2,    0.01,2,    2.57,2, -999.00,   1.3332
90CI20000602,     ------,      24,          1,         12,         12,2,20000612,       1526,  46.890000,151.4266667,       3053,   503.6,   1.5692,  33.6499,2,  33.6504,2, 151.8000,2,   149.6,1,   84.94,2,   33.28,2,    0.01,2,    2.64,2, -999.00,   1.5435
90CI20000602,     ------,      24,          1,         11,         11,2,20000612,       1526,  46.890000,151.4266667,       3053,   605.8,   1.9375,  33.8492,2,  33.8495,2, 102.5000,2,   102.7,1,  109.77,2,   37.23,2,    0.01,2,    2.87,2, -999.00,   1.9041
90CI20000602,     ------,      24,          1,         10,         10,2,20000612,       1526,  46.890000,151.4266667,       3053,   704.2,   2.1414,  33.9781,2,  33.9779,2,  78.6000,2,    75.4,1,  126.85,2,   39.44,2,    0.01,2,    3.02,2, -999.00,   2.1007
90CI20000602,     ------,      24,          1,          9,          9,2,20000612,       1526,  46.890000,151.4266667,       3053,   807.1,   2.2790,  34.0992,2,  34.1008,2,  56.0000,2,    55.2,1,  141.85,2,   40.81,2,    0.00,2,    3.11,2, -999.00,   2.2306
90CI20000602,     ------,      24,          1,          8,          8,2,20000612,       1526,  46.890000,151.4266667,       3053,  1011.7,   2.3482,  34.2962,2,  34.2967,2,  43.8000,2,    42.4,1,  156.75,2,   41.98,2,    0.00,2,    3.12,2, -999.00,   2.2850
90CI20000602,     ------,      24,          1,          7,          7,2,20000612,       1526,  46.890000,151.4266667,       3053,  1213.2,   2.2585,  34.4032,2,  34.4041,2,  46.0000,2,    46.5,1,  160.88,2,   41.91,2,    0.00,2,    3.08,2, -999.00,   2.1813
90CI20000602,     ------,      24,          1,          6,          6,2,20000612,       1526,  46.890000,151.4266667,       3053,  1416.4,   2.1675,  34.4556,2,  34.4576,2,  50.4000,2,    50.5,1,  164.82,2,   41.55,2,    0.00,2,    3.06,2, -999.00,   2.0760
90CI20000602,     ------,      24,          1,          5,          5,2,20000612,       1526,  46.890000,151.4266667,       3053,  1619.5,   2.0757,  34.5044,2,  34.5054,2,  55.0000,2,    56.3,1,  167.56,2,   41.44,2,    0.00,2,    3.03,2, -999.00,   1.9694
90CI20000602,     ------,      24,          1,          4,          4,2,20000612,       1526,  46.890000,151.4266667,       3053,  2026.1,   1.9606,  34.5547,2,  34.5554,2,  66.9000,2,    67.8,1,  169.30,2,   40.73,2,    0.00,2,    2.97,2, -999.00,   1.8228
90CI20000602,     ------,      24,          1,          3,          3,2,20000612,       1526,  46.890000,151.4266667,       3053,  2535.9,   1.8623,  34.5921,2,  34.5923,2,  80.2000,2,    80.4,1,  172.25,2,   39.92,2,    0.00,2,    2.92,2, -999.00,   1.6816
90CI20000602,     ------,      24,          1,          2,          2,2,20000612,       1526,  46.890000,151.4266667,       3053,  3046.1,   1.8359,  34.6101,2,  34.6101,2,  89.1000,2,    88.3,1,  172.36,2,   39.51,2,    0.00,2,    2.89,2, -999.00,   1.6075
90CI20000602,     ------,      24,          1,          1,          1,2,20000612,       1526,  46.890000,151.4266667,       3053,  3078.6,   1.8222,  34.6143,2,  34.6158,2,  90.9000,2,    91.4,1,  169.25,2,   39.35,2,    0.00,2,    2.86,2, -999.00,   1.5910