BOTTLE,20121207CCHSIOMYS
EXPOCODE,SECT_ID,STNNBR,CASTNO,SAMPNO,BTLNBR,BTLNBR_FLAG_W,DATE,TIME,LATITUDE,LONGITUDE,DEPTH,CTDPRS,CTDTMP,CTDSAL,CTDSAL_FLAG_W,SALNTY,SALNTY_FLAG_W,CTDOXY,CTDOXY_FLAG_W,OXYGEN,OXYGEN_FLAG_W,SILCAT,SILCAT_FLAG_W,NITRAT,NITRAT_FLAG_W,NITRIT,NITRIT_FLAG_W,PHSPHT,PHSPHT_FLAG_W,CTDRAW,THETA
,,,,,,,,,,,,DBAR,ITS-90,PSS-78,,PSS-78,,UMOL/KG,,UMOL/KG,,UMOL/KG,,UMOL/KG,,UMOL/KG,,UMOL/KG,,DBAR,DEG C
90CI20000602,     ------,       7,          1,         24,         24,2,20000608,       0922,  45.821667,150.2516667,        611,     1.7,   1.4357,  32.8561,2,-999.0000,9, 322.9000,2,  -999.0,9, -999.00,9, -999.00,9, -999.00,9, -999.00,9, -999.00,   1.4356
90CI20000602,     ------,       7,          1,         23,         23,2,20000608,       0922,  45.821667,150.2516667,        611,     1.9,   1.4350,  32.8564,2,  32.8582,2, 323.3000,2,   319.4,1,   36.90,2,   18.07,2,    0.13,2,    1.55,2, -999.00,   1.4350
90CI20000602,     ------,       7,          1,         22,         22,2,20000608,       0922,  45.821667,150.2516667,        611,     9.6,   1.3198,  32.8873,2,  32.8890,2, 320.5000,2,   315.6,1,   38.03,2,   18.87,2,    0.13,2,    1.59,2, -999.00,   1.3194
90CI20000602,     ------,       7,          1,         21,         21,2,20000608,       0922,  45.821667,150.2516667,        611,    17.9,   1.2575,  32.9221,2,  32.9201,2, 314.5000,2,   311.0,1,   39.36,2,   19.58,2,    0.13,2,    1.64,2, -999.00,   1.2568
90CI20000602,     ------,       7,          1,         20,         20,2,20000608,       0922,  45.821667,150.2516667,        611,    27.5,   1.2323,  32.9282,2,  32.9203,2, 313.9000,2,   312.0,1,   39.33,2,   19.53,2,    0.13,2,    1.64,2, -999.00,   1.2311
90CI20000602,     ------,       7,          1,         18,         18,2,20000608,       0922,  45.821667,150.2516667,        611,    49.0,   1.1795,  32.9431,2,  32.9477,2, 307.2000,2,   309.3,1,   40.26,2,   20.00,2,    0.12,2,    1.67,2, -999.00,   1.1774
90CI20000602,     ------,       7,          1,         19,         19,2,20000608,       0922,  45.821667,150.2516667,        611,    49.1,   1.1837,  32.9423,2,-999.0000,9, 307.2000,2,  -999.0,9, -999.00,9, -999.00,9, -999.00,9, -999.00,9, -999.00,   1.1816
90CI20000602,     ------,       7,          1,         17,         17,2,20000608,       0922,  45.821667,150.2516667,        611,    73.0,   0.9516,  32.9901,2,  33.0067,2, 302.6000,2,   301.0,1,   41.97,2,   20.90,2,    0.11,2,    1.73,2, -999.00,   0.9487
90CI20000602,     ------,       7,          1,         16,         16,2,20000608,       0922,  45.821667,150.2516667,        611,    98.4,   0.9084,  33.0415,2,-999.0000,9, 292.5000,2,  -999.0,9, -999.00,9, -999.00,9, -999.00,9, -999.00,9, -999.00,   0.9044
90CI20000602,     ------,       7,          1,         15,         15,2,20000608,       0922,  45.821667,150.2516667,        611,    98.9,   0.9072,  33.0354,2,  33.0392,2, 292.5000,2,   290.6,1,   44.45,2,   21.89,2,    0.11,2,    1.80,2, -999.00,   0.9031
90CI20000602,     ------,       7,          1,         14,         14,2,20000608,       0922,  45.821667,150.2516667,        611,   121.8,   0.9058,  33.0665,2,  33.0695,2, 282.2000,2,   284.0,1,   46.35,2,   22.55,2,    0.11,2,    1.84,2, -999.00,   0.9009
90CI20000602,     ------,       7,          1,         13,         13,2,20000608,       0922,  45.821667,150.2516667,        611,   151.4,   0.9414,  33.1296,2,-999.0000,9, 274.5000,2,  -999.0,9, -999.00,9, -999.00,9, -999.00,9, -999.00,9, -999.00,   0.9351
90CI20000602,     ------,       7,          1,         12,         12,2,20000608,       0922,  45.821667,150.2516667,        611,   152.0,   0.9420,  33.1297,2,  33.1321,2, 274.2000,2,   272.1,1,   49.99,2,   23.87,2,    0.11,2,    1.93,2, -999.00,   0.9356
90CI20000602,     ------,       7,          1,         10,         10,2,20000608,       0922,  45.821667,150.2516667,        611,   198.1,   1.0533,  33.1868,2,  33.1864,2, 259.4000,2,   257.9,1,   54.20,2,   25.00,2,    0.10,2,    1.99,2, -999.00,   1.0447
90CI20000602,     ------,       7,          1,         11,         11,2,20000608,       0922,  45.821667,150.2516667,        611,   198.4,   1.0564,  33.1859,2,-999.0000,9, 259.4000,2,  -999.0,9, -999.00,9, -999.00,9, -999.00,9, -999.00,9, -999.00,   1.0479
90CI20000602,     ------,       7,          1,          9,          9,2,20000608,       0922,  45.821667,150.2516667,        611,   250.5,   1.1562,  33.2451,2,  33.2478,2, 245.7000,2,   245.4,1,   58.22,2,   26.32,2,    0.10,2,    2.07,2, -999.00,   1.1451
90CI20000602,     ------,       7,          1,          7,          7,2,20000608,       0922,  45.821667,150.2516667,        611,   308.1,   1.1510,  33.2440,2,  33.2468,2, 239.8000,2,   245.9,1,   57.80,2,   26.32,2,    0.11,2,    2.09,2, -999.00,   1.1372
90CI20000602,     ------,       7,          1,          8,          8,2,20000608,       0922,  45.821667,150.2516667,        611,   310.8,   1.1496,  33.2460,2,-999.0000,9, 240.4000,2,  -999.0,9, -999.00,9, -999.00,9, -999.00,9, -999.00,9, -999.00,   1.1356
90CI20000602,     ------,       7,          1,          5,          5,2,20000608,       0922,  45.821667,150.2516667,        611,   393.8,   1.2769,  33.3007,2,  33.3034,2, 223.3000,2,   232.7,1,   62.02,2,   27.55,2,    0.10,2,    2.17,2, -999.00,   1.2585
90CI20000602,     ------,       7,          1,          6,          6,2,20000608,       0922,  45.821667,150.2516667,        611,   394.5,   1.2797,  33.3012,2,-999.0000,9, 223.3000,2,  -999.0,9, -999.00,9, -999.00,9, -999.00,9, -999.00,9, -999.00,   1.2612
90CI20000602,     ------,       7,          1,          4,          4,2,20000608,       0922,  45.821667,150.2516667,        611,   493.6,   1.7952,  33.5703,2,-999.0000,9, 172.3000,2,  -999.0,9, -999.00,9, -999.00,9, -999.00,9, -999.00,9, -999.00,   1.7693
90CI20000602,     ------,       7,          1,          3,          3,2,20000608,       0922,  45.821667,150.2516667,        611,   497.7,   1.8224,  33.5854,2,  33.5806,2, 166.1000,2,   166.1,1,   83.62,2,   32.78,2,    0.06,2,    2.49,2, -999.00,   1.7962
90CI20000602,     ------,       7,          1,          2,          2,9,20000608,       0922,  45.821667,150.2516667,        611,   589.6,   2.0258,  33.6911,2,-999.0000,9, 126.8000,2,  -999.0,9, -999.00,9, -999.00,9, -999.00,9, -999.00,9, -999.00,   1.9931
90CI20000602,     ------,       7,          1,          1,          1,2,20000608,       0922,  45.821667,150.2516667,        611,   592.7,   2.0409,  33.6975,2,  33.6977,2, 126.1000,2,  -999.0,5,   92.88,2,   34.89,2,    0.06,2,    2.62,2, -999.00,   2.0080
90CI20000602,     ------,       8,          1,         24,         24,2,20000608,       1233,  45.585000,150.5450000,        732,     1.9,   3.8434,  32.9332,2,-999.0000,9, 343.9000,2,  -999.0,9, -999.00,9, -999.00,9, -999.00,9, -999.00,9, -999.00,   3.8433
90CI20000602,     ------,       8,          1,         23,         23,2,20000608,       1233,  45.585000,150.5450000,        732,     2.0,   3.8436,  32.9333,2,  32.9353,2, 344.2000,2,   351.3,1,   23.76,2,   13.17,2,    0.14,2,    1.28,2, -999.00,   3.8435
90CI20000602,     ------,       8,          1,         22,         22,2,20000608,       1233,  45.585000,150.5450000,        732,     9.4,   3.7494,  32.9332,2,  32.9345,2, 351.6000,2,   351.3,1,   23.54,2,   13.22,2,    0.14,2,    1.29,2, -999.00,   3.7488
90CI20000602,     ------,       8,          1,         21,         21,2,20000608,       1233,  45.585000,150.5450000,        732,    19.2,   3.6781,  32.9325,2,  32.9339,2, 353.3000,2,   350.5,1,   23.71,2,   13.26,2,    0.14,2,    1.30,2, -999.00,   3.6769
90CI20000602,     ------,       8,          1,         20,         20,2,20000608,       1233,  45.585000,150.5450000,        732,    28.5,   3.6270,  32.9330,2,  32.9337,2, 351.2000,2,   350.7,1,   23.87,2,   13.21,2,    0.14,2,    1.30,2, -999.00,   3.6252
90CI20000602,     ------,       8,          1,         18,         18,2,20000608,       1233,  45.585000,150.5450000,        732,    47.0,   3.5557,  32.9319,2,  32.9343,2, 351.8000,2,   350.5,1,   24.04,2,   13.39,2,    0.14,2,    1.31,2, -999.00,   3.5528
90CI20000602,     ------,       8,          1,         19,         19,2,20000608,       1233,  45.585000,150.5450000,        732,    47.3,   3.5202,  32.9367,2,-999.0000,9, 350.9000,2,  -999.0,9, -999.00,9, -999.00,9, -999.00,9, -999.00,9, -999.00,   3.5173
90CI20000602,     ------,       8,          1,         17,         17,2,20000608,       1233,  45.585000,150.5450000,        732,    73.8,   1.3878,  33.0126,2,  33.0154,2, 345.6000,2,   334.1,1,   37.30,2,   20.51,2,    0.20,2,    1.82,2, -999.00,   1.3845
90CI20000602,     ------,       8,          1,         15,         15,2,20000608,       1233,  45.585000,150.5450000,        732,    99.8,   1.0439,  33.0380,2,  33.0347,2, 324.1000,2,   329.7,1,   40.35,2,   22.24,2,    0.21,2,    1.90,2, -999.00,   1.0397
90CI20000602,     ------,       8,          1,         16,         16,2,20000608,       1233,  45.585000,150.5450000,        732,   100.4,   1.0504,  33.0358,2,-999.0000,9, 324.1000,2,  -999.0,9, -999.00,9, -999.00,9, -999.00,9, -999.00,9, -999.00,   1.0462
90CI20000602,     ------,       8,          1,         14,         14,2,20000608,       1233,  45.585000,150.5450000,        732,   123.7,   0.5042,  33.0594,2,  33.0637,2, 325.4000,2,   322.4,1,   43.78,2,   24.19,2,    0.20,2,    1.99,2, -999.00,   0.4995
90CI20000602,     ------,       8,          1,         13,         13,2,20000608,       1233,  45.585000,150.5450000,        732,   146.7,   0.2605,  33.0876,2,  33.0900,2, 311.8000,2,   313.5,1,   47.02,2,   25.43,2,    0.13,2,    2.04,2, -999.00,   0.2553
90CI20000602,     ------,       8,          1,         12,         12,2,20000608,       1233,  45.585000,150.5450000,        732,   198.1,   0.6052,  33.1679,2,-999.0000,9, 287.6000,2,  -999.0,9, -999.00,9, -999.00,9, -999.00,9, -999.00,9, -999.00,   0.5974
90CI20000602,     ------,       8,          1,         11,         11,2,20000608,       1233,  45.585000,150.5450000,        732,   198.3,   0.6016,  33.1688,2,  33.1642,2, 287.6000,2,   291.4,1,   51.42,2,   27.06,2,    0.11,2,    2.12,2, -999.00,   0.5938
90CI20000602,     ------,       8,          1,         10,         10,2,20000608,       1233,  45.585000,150.5450000,        732,   214.8,   1.0321,  33.2554,2,  33.2542,2, 261.1000,2,   258.7,1,   57.16,2,   28.82,2,    0.10,2,    2.24,2, -999.00,   1.0229
90CI20000602,     ------,       8,          1,          8,          8,2,20000608,       1233,  45.585000,150.5450000,        732,   296.2,   2.1048,  33.5193,2,  33.5195,2, 166.0000,2,   166.8,1,   76.00,2,   34.20,2,    0.06,2,    2.56,2, -999.00,   2.0890
90CI20000602,     ------,       8,          1,          9,          9,2,20000608,       1233,  45.585000,150.5450000,        732,   296.5,   2.1211,  33.5257,2,-999.0000,9, 165.9000,2,  -999.0,9, -999.00,9, -999.00,9, -999.00,9, -999.00,9, -999.00,   2.1053
90CI20000602,     ------,       8,          1,          6,          6,2,20000608,       1233,  45.585000,150.5450000,        732,   401.4,   2.9724,  33.7955,2,  33.7974,2,  66.9000,2,    82.0,1,   95.85,2,   39.99,2,    0.01,2,    2.91,2, -999.00,   2.9476
90CI20000602,     ------,       8,          1,          7,          7,2,20000608,       1233,  45.585000,150.5450000,        732,   402.2,   2.9720,  33.7988,2,-999.0000,9,  66.8000,2,  -999.0,9, -999.00,9, -999.00,9, -999.00,9, -999.00,9, -999.00,   2.9472
90CI20000602,     ------,       8,          1,          5,          5,2,20000608,       1233,  45.585000,150.5450000,        732,   503.9,   3.1372,  33.9555,2,  33.9554,2,  46.5000,2,    49.7,1,  108.80,2,   42.19,2,    0.00,2,    3.06,2, -999.00,   3.1049
90CI20000602,     ------,       8,          1,          3,          3,2,20000608,       1233,  45.585000,150.5450000,        732,   604.2,   3.2695,  34.0690,2,  34.0688,2,  32.3000,2,    29.3,1,  117.90,2,   43.16,2,    0.00,2,    3.15,2, -999.00,   3.2295
90CI20000602,     ------,       8,          1,          4,          4,2,20000608,       1233,  45.585000,150.5450000,        732,   604.5,   3.2736,  34.0715,2,-999.0000,9,  32.3000,2,  -999.0,9, -999.00,9, -999.00,9, -999.00,9, -999.00,9, -999.00,   3.2336
90CI20000602,     ------,       8,          1,          2,          2,9,20000608,       1233,  45.585000,150.5450000,        732,   732.0,   2.7045,  34.2693,2,-999.0000,9,  35.3000,2,  -999.0,9, -999.00,9, -999.00,9, -999.00,9, -999.00,9, -999.00,   2.6583
90CI20000602,     ------,       8,          1,          1,          1,2,20000608,       1233,  45.585000,150.5450000,        732,   732.2,   2.7038,  34.2697,2,  34.2702,2,  35.3000,2,    35.4,1,  141.93,2,   42.61,2,    0.00,2,    3.09,2, -999.00,   2.6577
90CI20000602,     ------,       9,          1,         21,         21,2,20000608,       1954,  45.868333,151.9666667,       1501,     3.5,   2.0622,  33.0259,2,  33.0264,2, 322.2000,2,   322.3,1,   41.88,2,   21.02,2,    0.13,2,    1.76,2, -999.00,   2.0620
90CI20000602,     ------,       9,          1,         20,         20,2,20000608,       1954,  45.868333,151.9666667,       1501,     8.4,   2.0078,  33.0362,2,  33.0309,2, 319.1000,2,   319.8,1,   42.05,2,   21.20,2,    0.14,2,    1.77,2, -999.00,   2.0074
90CI20000602,     ------,       9,          1,         19,         19,2,20000608,       1954,  45.868333,151.9666667,       1501,    19.9,   1.7643,  33.0762,2,  33.0744,2, 314.7000,2,   309.5,1,   44.92,2,   22.16,2,    0.13,2,    1.84,2, -999.00,   1.7633
90CI20000602,     ------,       9,          1,         18,         18,2,20000608,       1954,  45.868333,151.9666667,       1501,    28.1,   1.4550,  33.1384,2,  33.1353,2, 303.7000,2,   292.0,1,   49.33,2,   23.54,2,    0.13,2,    1.93,2, -999.00,   1.4538
90CI20000602,     ------,       9,          1,         17,         17,2,20000608,       1954,  45.868333,151.9666667,       1501,    48.4,   1.2315,  33.2165,2,  33.2145,2, 262.3000,2,   264.2,1,   55.08,2,   25.58,2,    0.13,2,    2.05,2, -999.00,   1.2294
90CI20000602,     ------,       9,          1,         16,         16,2,20000608,       1954,  45.868333,151.9666667,       1501,    74.9,   1.2449,  33.2754,2,  33.2731,2, 246.0000,2,   247.1,1,   59.88,2,   26.96,2,    0.12,2,    2.17,2, -999.00,   1.2416
90CI20000602,     ------,       9,          1,         15,         15,2,20000608,       1954,  45.868333,151.9666667,       1501,    98.8,   1.2390,  33.2830,2,  33.2829,2, 241.9000,2,   244.3,1,   60.63,2,   27.20,2,    0.12,2,    2.18,2, -999.00,   1.2346
90CI20000602,     ------,       9,          1,         14,         14,2,20000608,       1954,  45.868333,151.9666667,       1501,   123.9,   1.2493,  33.2997,2,  33.2995,2, 241.2000,2,   240.0,1,   61.58,2,   27.58,2,    0.12,2,    2.20,2, -999.00,   1.2438
90CI20000602,     ------,       9,          1,         13,         13,2,20000608,       1954,  45.868333,151.9666667,       1501,   149.3,   1.2583,  33.3164,2,  33.3163,2, 239.3000,2,   235.4,1,   62.72,2,   27.81,2,    0.12,2,    2.22,2, -999.00,   1.2516
90CI20000602,     ------,       9,          1,         12,         12,2,20000608,       1954,  45.868333,151.9666667,       1501,   200.0,   1.2813,  33.3275,2,  33.3274,2, 231.6000,2,   233.0,1,   63.67,2,   28.10,2,    0.12,2,    2.24,2, -999.00,   1.2723
90CI20000602,     ------,       9,          1,         11,         11,2,20000608,       1954,  45.868333,151.9666667,       1501,   250.8,   1.3271,  33.3523,2,  33.3520,2, 223.8000,2,   226.9,1, -999.00,9, -999.00,5, -999.00,9, -999.00,9, -999.00,   1.3156
90CI20000602,     ------,       9,          1,         10,         10,2,20000608,       1954,  45.868333,151.9666667,       1501,   301.0,   1.3549,  33.3722,2,  33.3719,2, 216.1000,2,   220.8,1,   67.32,2,   28.96,2,    0.12,2,    2.29,2, -999.00,   1.3408
90CI20000602,     ------,       9,          1,          9,          9,2,20000608,       1954,  45.868333,151.9666667,       1501,   402.3,   1.4044,  33.4096,2,  33.4093,2, 203.4000,2,   211.6,1,   70.19,2,   29.69,2,    0.11,2,    2.34,2, -999.00,   1.3850
90CI20000602,     ------,       9,          1,          8,          8,2,20000608,       1954,  45.868333,151.9666667,       1501,   503.8,   1.7837,  33.5906,2,  33.5887,2, 180.4000,2,   164.8,1,   84.47,2,   33.31,2,    0.08,2,    2.55,2, -999.00,   1.7572
90CI20000602,     ------,       9,          1,          7,          7,2,20000608,       1954,  45.868333,151.9666667,       1501,   603.1,   2.2653,  33.7347,2,  33.7348,2, 143.8000,2,   122.1,1,   94.13,2,   36.64,2,    0.04,2,    2.76,2, -999.00,   2.2306
90CI20000602,     ------,       9,          1,          6,          6,2,20000608,       1954,  45.868333,151.9666667,       1501,   706.5,   2.6412,  33.9508,2,  33.9494,2,  97.7000,2,    76.0,1,  112.18,2,   40.02,2,    0.02,2,    2.94,2, -999.00,   2.5975
90CI20000602,     ------,       9,          1,          5,          5,2,20000608,       1954,  45.868333,151.9666667,       1501,   806.2,   2.8597,  34.0906,2,  34.0903,2,  57.0000,2,    48.3,1,  124.07,2,   42.09,2,    0.01,2,    3.06,2, -999.00,   2.8076
90CI20000602,     ------,       9,          1,          4,          4,2,20000608,       1954,  45.868333,151.9666667,       1501,   907.6,   2.9337,  34.1527,2,  34.1531,2,  31.7000,2,    37.8,1,  129.75,2,   42.83,2,    0.01,2,    3.09,2, -999.00,   2.8738
90CI20000602,     ------,       9,          1,          3,          3,2,20000608,       1954,  45.868333,151.9666667,       1501,  1009.7,   2.8689,  34.2723,2,  34.2722,2,  28.3000,2,    28.0,1,  141.54,2,   43.56,2,    0.00,2,    3.13,2, -999.00,   2.8017
90CI20000602,     ------,       9,          1,          2,          2,2,20000608,       1954,  45.868333,151.9666667,       1501,  1211.8,   2.4757,  34.3810,2,  34.3811,2,  39.6000,2,    38.4,1,  155.00,2,   42.82,2,    0.00,2,    3.09,2, -999.00,   2.3966
90CI20000602,     ------,       9,          1,          1,          1,2,20000608,       1954,  45.868333,151.9666667,       1501,  1411.2,   2.0857,  34.5103,2,  34.5103,2,  53.8000,2,    56.1,1,  165.57,2,   41.82,2,    0.00,2,    3.01,2, -999.00,   1.9954