BOTTLE,20121207CCHSIOMYS
EXPOCODE,SECT_ID,STNNBR,CASTNO,SAMPNO,BTLNBR,BTLNBR_FLAG_W,DATE,TIME,LATITUDE,LONGITUDE,DEPTH,CTDPRS,CTDTMP,CTDSAL,CTDSAL_FLAG_W,SALNTY,SALNTY_FLAG_W,CTDOXY,CTDOXY_FLAG_W,OXYGEN,OXYGEN_FLAG_W,SILCAT,SILCAT_FLAG_W,NITRAT,NITRAT_FLAG_W,NITRIT,NITRIT_FLAG_W,PHSPHT,PHSPHT_FLAG_W,CTDRAW,THETA
,,,,,,,,,,,,DBAR,ITS-90,PSS-78,,PSS-78,,UMOL/KG,,UMOL/KG,,UMOL/KG,,UMOL/KG,,UMOL/KG,,UMOL/KG,,DBAR,DEG C
90CI20000602,     ------,      42,          1,         24,         24,2,20000617,       1254,  53.033333,145.5066667,       1750,     3.3,   4.7292,  32.4209,2,-999.0000,9, 185.4000,2,  -999.0,9, -999.00,9, -999.00,9, -999.00,9, -999.00,9, -999.00,   4.7289
90CI20000602,     ------,      42,          1,         23,         23,2,20000617,       1254,  53.033333,145.5066667,       1750,     3.4,   4.7250,  32.4223,2,  32.4234,2, 266.9000,2,  -999.0,9, -999.00,9, -999.00,9, -999.00,9, -999.00,9, -999.00,   4.7248
90CI20000602,     ------,      42,          1,         21,         21,2,20000617,       1254,  53.033333,145.5066667,       1750,    20.4,   3.2236,  32.4573,2,-999.0000,9, 396.3000,2,  -999.0,9, -999.00,9, -999.00,9, -999.00,9, -999.00,9, -999.00,   3.2224
90CI20000602,     ------,      42,          1,         22,         22,2,20000617,       1254,  53.033333,145.5066667,       1750,    20.5,   3.2980,  32.4595,2,-999.0000,9, 393.9000,2,  -999.0,9, -999.00,9, -999.00,9, -999.00,9, -999.00,9, -999.00,   3.2968
90CI20000602,     ------,      42,          1,         19,         19,2,20000617,       1254,  53.033333,145.5066667,       1750,    51.6,   0.4423,  32.6437,2,-999.0000,9, 350.5000,2,  -999.0,9, -999.00,9, -999.00,9, -999.00,9, -999.00,9, -999.00,   0.4405
90CI20000602,     ------,      42,          1,         20,         20,2,20000617,       1254,  53.033333,145.5066667,       1750,    52.0,   0.3825,  32.6433,2,-999.0000,9, 344.8000,2,  -999.0,9, -999.00,9, -999.00,9, -999.00,9, -999.00,9, -999.00,   0.3807
90CI20000602,     ------,      42,          1,         17,         17,2,20000617,       1254,  53.033333,145.5066667,       1750,   100.7,  -1.0497,  32.9661,2,-999.0000,9, 290.3000,2,  -999.0,9, -999.00,9, -999.00,9, -999.00,9, -999.00,9, -999.00,  -1.0521
90CI20000602,     ------,      42,          1,         18,         18,2,20000617,       1254,  53.033333,145.5066667,       1750,   101.2,  -1.0166,  32.9721,2,-999.0000,9, 290.3000,2,  -999.0,9, -999.00,9, -999.00,9, -999.00,9, -999.00,9, -999.00,  -1.0190
90CI20000602,     ------,      42,          1,         15,         15,2,20000617,       1254,  53.033333,145.5066667,       1750,   203.9,   0.9242,  33.4002,2,-999.0000,9, 157.1000,2,  -999.0,9, -999.00,9, -999.00,9, -999.00,9, -999.00,9, -999.00,   0.9155
90CI20000602,     ------,      42,          1,         16,         16,2,20000617,       1254,  53.033333,145.5066667,       1750,   205.0,   0.9400,  33.4031,2,  33.3981,2, 156.3000,2,  -999.0,9, -999.00,9, -999.00,9, -999.00,9, -999.00,9, -999.00,   0.9312
90CI20000602,     ------,      42,          1,         13,         13,2,20000617,       1254,  53.033333,145.5066667,       1750,   303.7,   1.0377,  33.5132,2,-999.0000,9, 134.3000,2,  -999.0,9, -999.00,9, -999.00,9, -999.00,9, -999.00,9, -999.00,   1.0242
90CI20000602,     ------,      42,          1,         14,         14,2,20000617,       1254,  53.033333,145.5066667,       1750,   305.1,   1.0460,  33.5163,2,-999.0000,9, 134.5000,2,  -999.0,9, -999.00,9, -999.00,9, -999.00,9, -999.00,9, -999.00,   1.0324
90CI20000602,     ------,      42,          1,         11,         11,2,20000617,       1254,  53.033333,145.5066667,       1750,   405.2,   1.4426,  33.6827,2,-999.0000,9, 109.7000,2,  -999.0,9, -999.00,9, -999.00,9, -999.00,9, -999.00,9, -999.00,   1.4228
90CI20000602,     ------,      42,          1,         12,         12,2,20000617,       1254,  53.033333,145.5066667,       1750,   406.5,   1.4642,  33.6898,2,  33.6817,2, 110.3000,2,  -999.0,9, -999.00,9, -999.00,9, -999.00,9, -999.00,9, -999.00,   1.4442
90CI20000602,     ------,      42,          1,          9,          9,2,20000617,       1254,  53.033333,145.5066667,       1750,   606.8,   2.2729,  34.0374,2,-999.0000,9,  55.6000,2,  -999.0,9, -999.00,9, -999.00,9, -999.00,9, -999.00,9, -999.00,   2.2376
90CI20000602,     ------,      42,          1,         10,         10,2,20000617,       1254,  53.033333,145.5066667,       1750,   608.1,   2.2713,  34.0381,2,  34.0328,2,  55.2000,2,  -999.0,9, -999.00,9, -999.00,9, -999.00,9, -999.00,9, -999.00,   2.2359
90CI20000602,     ------,      42,          1,          7,          7,2,20000617,       1254,  53.033333,145.5066667,       1750,   809.9,   2.3846,  34.2211,2,-999.0000,9,  34.6000,2,  -999.0,9, -999.00,9, -999.00,9, -999.00,9, -999.00,9, -999.00,   2.3352
90CI20000602,     ------,      42,          1,          8,          8,2,20000617,       1254,  53.033333,145.5066667,       1750,   810.7,   2.3844,  34.2214,2,-999.0000,9,  34.6000,2,  -999.0,9, -999.00,9, -999.00,9, -999.00,9, -999.00,9, -999.00,   2.3349
90CI20000602,     ------,      42,          1,          5,          5,2,20000617,       1254,  53.033333,145.5066667,       1750,  1011.5,   2.3826,  34.3492,2,-999.0000,9,  26.5000,2,  -999.0,9, -999.00,9, -999.00,9, -999.00,9, -999.00,9, -999.00,   2.3190
90CI20000602,     ------,      42,          1,          6,          6,2,20000617,       1254,  53.033333,145.5066667,       1750,  1012.1,   2.3827,  34.3492,2,-999.0000,9,  26.5000,2,  -999.0,9, -999.00,9, -999.00,9, -999.00,9, -999.00,9, -999.00,   2.3190
90CI20000602,     ------,      42,          1,          4,          4,2,20000617,       1254,  53.033333,145.5066667,       1750,  1417.9,   2.3277,  34.4208,2,-999.0000,9,  23.3000,2,  -999.0,9, -999.00,9, -999.00,9, -999.00,9, -999.00,9, -999.00,   2.2344
90CI20000602,     ------,      42,          1,          3,          3,2,20000617,       1254,  53.033333,145.5066667,       1750,  1417.9,   2.3277,  34.4208,2,-999.0000,9,  23.3000,2,  -999.0,9, -999.00,9, -999.00,9, -999.00,9, -999.00,9, -999.00,   2.2344
90CI20000602,     ------,      42,          1,          2,          2,2,20000617,       1254,  53.033333,145.5066667,       1750,  1730.1,   2.3574,  34.4304,2,-999.0000,9,  13.1000,2,  -999.0,9, -999.00,9, -999.00,9, -999.00,9, -999.00,9, -999.00,   2.2389
90CI20000602,     ------,      42,          1,          1,          1,2,20000617,       1254,  53.033333,145.5066667,       1750,  1730.5,   2.3573,  34.4307,2,-999.0000,9,  13.1000,2,  -999.0,9, -999.00,9, -999.00,9, -999.00,9, -999.00,9, -999.00,   2.2388
90CI20000602,     ------,      43,          1,         20,         20,2,20000617,       1728,  52.998333,144.7516667,        996,     2.8,   3.9032,  32.3522,2,  32.3455,2, 375.4000,2,   397.7,1,    1.20,2,    0.71,2,    0.07,2,    0.38,2, -999.00,   3.9030
90CI20000602,     ------,      43,          1,         19,         19,2,20000617,       1728,  52.998333,144.7516667,        996,    10.0,   3.7942,  32.3888,2,  32.3884,2, 399.9000,2,   403.1,1,    1.09,2,    0.71,2,    0.07,2,    0.38,2, -999.00,   3.7936
90CI20000602,     ------,      43,          1,         18,         18,2,20000617,       1728,  52.998333,144.7516667,        996,    18.6,   2.8737,  32.4484,2,  32.4465,2, 404.9000,2,   418.5,1,    0.99,2,    1.86,2,    0.10,2,    0.46,2, -999.00,   2.8726
90CI20000602,     ------,      43,          1,         17,         17,2,20000617,       1728,  52.998333,144.7516667,        996,    29.6,   1.1976,  32.5938,2,  32.5947,2, 383.5000,2,   374.1,1,    1.84,2,    9.31,2,    0.17,2,    0.99,2, -999.00,   1.1963
90CI20000602,     ------,      43,          1,         16,         16,2,20000617,       1728,  52.998333,144.7516667,        996,    48.7,  -1.0407,  32.6988,2,  32.6979,2, 361.9000,2,   356.8,1,   27.26,2,   16.49,2,    0.18,2,    1.54,2, -999.00,  -1.0418
90CI20000602,     ------,      43,          1,         15,         15,2,20000617,       1728,  52.998333,144.7516667,        996,    73.9,  -1.5396,  32.8045,2,  32.8031,2, 349.9000,2,   351.1,1,   31.10,2,   18.25,2,    0.22,2,    1.62,2, -999.00,  -1.5410
90CI20000602,     ------,      43,          1,         14,         14,2,20000617,       1728,  52.998333,144.7516667,        996,   100.2,  -1.2638,  32.9006,2,  32.8979,2, 331.1000,2,   335.9,1,   33.81,2,   20.36,2,    0.10,2,    1.74,2, -999.00,  -1.2660
90CI20000602,     ------,      43,          1,         13,         13,2,20000617,       1728,  52.998333,144.7516667,        996,   124.3,   0.0703,  33.1040,2,  33.1019,2, 276.6000,2,   280.8,1,   47.61,2,   25.86,2,    0.08,2,    2.10,2, -999.00,   0.0661
90CI20000602,     ------,      43,          1,         12,         12,2,20000617,       1728,  52.998333,144.7516667,        996,   150.2,   0.6145,  33.2059,2,  33.2036,2, 250.4000,2,   248.6,1,   56.26,2,   28.72,2,    0.07,2,    2.31,2, -999.00,   0.6086
90CI20000602,     ------,      43,          1,         11,         11,2,20000617,       1728,  52.998333,144.7516667,        996,   203.0,   0.8114,  33.2971,2,  33.2944,2, 211.7000,2,   212.1,1,   66.18,2,   31.37,2,    0.03,2,    2.50,2, -999.00,   0.8030
90CI20000602,     ------,      43,          1,         10,         10,2,20000617,       1728,  52.998333,144.7516667,        996,   250.9,   0.9335,  33.3794,2,  33.3781,2, 184.5000,2,   184.4,1,   73.65,2,   32.88,2,    0.01,2,    2.63,2, -999.00,   0.9227
90CI20000602,     ------,      43,          1,          9,          9,2,20000617,       1728,  52.998333,144.7516667,        996,   301.1,   1.5442,  33.5015,2,  33.5002,2, 139.6000,2,   137.5,1,   86.29,2,   35.53,2,    0.00,2,    2.84,2, -999.00,   1.5296
90CI20000602,     ------,      43,          1,          8,          8,2,20000617,       1728,  52.998333,144.7516667,        996,   343.0,   1.3294,  33.5321,2,  33.5314,2, 155.9000,2,   145.6,1,   85.55,2,   34.79,2,    0.00,2,    2.79,2, -999.00,   1.3132
90CI20000602,     ------,      43,          1,          7,          7,2,20000617,       1728,  52.998333,144.7516667,        996,   403.1,   1.7244,  33.6432,2,  33.6413,2, 119.7000,2,   120.2,1,   92.40,2,   36.76,2,    0.00,2,    2.87,2, -999.00,   1.7037
90CI20000602,     ------,      43,          1,          6,          6,2,20000617,       1728,  52.998333,144.7516667,        996,   503.5,   1.8860,  33.8106,2,  33.8111,2,  93.7000,2,    94.8,1,  109.60,2,   38.64,2,    0.00,2,    2.95,2, -999.00,   1.8590
90CI20000602,     ------,      43,          1,          5,          5,2,20000617,       1728,  52.998333,144.7516667,        996,   603.8,   2.2288,  33.9717,2,  33.9726,2,  65.0000,2,    65.8,1,  127.75,2,   40.57,2,    0.00,2,    3.07,2, -999.00,   2.1939
90CI20000602,     ------,      43,          1,          4,          4,2,20000617,       1728,  52.998333,144.7516667,        996,   705.3,   2.4054,  34.1052,2,  34.1023,2,  48.8000,2,    48.0,1,  142.57,2,   41.44,2,    0.00,2,    3.12,2, -999.00,   2.3630
90CI20000602,     ------,      43,          1,          3,          3,2,20000617,       1728,  52.998333,144.7516667,        996,   806.5,   2.4104,  34.1820,2,  34.1788,2,  40.9000,2,    41.8,1,  152.53,2,   41.81,2,    0.00,2,    3.15,2, -999.00,   2.3611
90CI20000602,     ------,      43,          1,          2,          2,2,20000617,       1728,  52.998333,144.7516667,        996,   907.5,   2.4571,  34.2532,2,  34.2526,2,  34.2000,2,    33.8,1,  161.28,2,   42.14,2,    0.00,2,    3.17,2, -999.00,   2.4004
90CI20000602,     ------,      43,          1,          1,          1,2,20000617,       1728,  52.998333,144.7516667,        996,   969.3,   2.4259,  34.3054,2,  34.3030,2,  30.2000,2,    30.3,1,  170.04,2,   42.17,2,    0.00,2,    3.19,2, -999.00,   2.3650
90CI20000602,     ------,      44,          1,         14,         14,2,20000617,       1951,  52.993333,144.4066667,        473,     3.2,   5.1828,  31.5771,2,  31.5820,2, 369.0000,2,   363.2,1,    0.00,2,    0.05,2,    0.00,2,    0.24,2, -999.00,   5.1826
90CI20000602,     ------,      44,          1,         13,         13,2,20000617,       1951,  52.993333,144.4066667,        473,     9.4,   5.1693,  31.7124,2,  31.8244,2, 375.2000,2,   390.3,1,    0.00,2,    0.05,2,    0.00,2,    0.23,2, -999.00,   5.1686
90CI20000602,     ------,      44,          1,         12,         12,2,20000617,       1951,  52.993333,144.4066667,        473,    19.0,   2.4805,  32.5783,2,  32.5784,2, 467.4000,2,   484.2,1,    0.00,2,    0.08,2,    0.01,2,    0.26,2, -999.00,   2.4795
90CI20000602,     ------,      44,          1,         11,         11,2,20000617,       1951,  52.993333,144.4066667,        473,    29.1,   0.5966,  32.6378,2,  32.6490,2, 417.2000,2,   401.0,1,    7.29,2,    8.05,2,    0.11,2,    0.88,2, -999.00,   0.5956
90CI20000602,     ------,      44,          1,         10,         10,2,20000617,       1951,  52.993333,144.4066667,        473,    48.8,   0.0790,  32.9457,2,  32.9454,2, 355.0000,2,   350.2,1,   12.12,2,   13.25,2,    0.11,2,    1.44,2, -999.00,   0.0774
90CI20000602,     ------,      44,          1,          9,          9,2,20000617,       1951,  52.993333,144.4066667,        473,    74.4,  -0.2644,  33.0957,2,  33.0897,2, 276.6000,2,   281.3,1,   48.59,2,   25.61,2,    0.04,2,    2.10,2, -999.00,  -0.2666
90CI20000602,     ------,      44,          1,          8,          8,2,20000617,       1951,  52.993333,144.4066667,        473,    98.8,  -0.3837,  33.1638,2,  33.1632,2, 266.6000,2,   276.3,1,   51.50,2,   25.65,2,    0.09,2,    2.19,2, -999.00,  -0.3867
90CI20000602,     ------,      44,          1,          7,          7,2,20000617,       1951,  52.993333,144.4066667,        473,   124.2,  -1.1285,  33.1463,2,  33.1456,2, 288.3000,2,   307.7,1,   46.05,2,   22.84,2,    0.11,2,    2.06,2, -999.00,  -1.1314
90CI20000602,     ------,      44,          1,          6,          6,2,20000617,       1951,  52.993333,144.4066667,        473,   150.1,  -0.8011,  33.1913,2,  33.1918,2, 285.4000,2,   285.9,1,   50.71,2,   24.62,2,    0.07,2,    2.16,2, -999.00,  -0.8051
90CI20000602,     ------,      44,          1,          5,          5,2,20000617,       1951,  52.993333,144.4066667,        473,   200.9,  -0.6153,  33.2688,2,  33.2684,2, 266.0000,2,   265.7,1,   56.15,2,   25.98,2,    0.08,2,    2.27,2, -999.00,  -0.6212
90CI20000602,     ------,      44,          1,          4,          4,2,20000617,       1951,  52.993333,144.4066667,        473,   250.4,  -0.4616,  33.3052,2,  33.3031,2, 260.1000,2,   256.1,1,   59.07,2,   26.68,2,    0.04,2,    2.32,2, -999.00,  -0.4694
90CI20000602,     ------,      44,          1,          3,          3,2,20000617,       1951,  52.993333,144.4066667,        473,   300.6,   0.2988,  33.3833,2,  33.3817,2, 249.8000,2,   211.3,1,   68.99,2,   30.11,2,    0.03,2,    2.52,2, -999.00,   0.2874
90CI20000602,     ------,      44,          1,          2,          2,2,20000617,       1951,  52.993333,144.4066667,        473,   400.2,  -0.0951,  33.3908,2,  33.3901,2, 231.6000,2,   231.6,1,   66.07,2,   28.12,2,    0.01,2,    2.43,2, -999.00,  -0.1094
90CI20000602,     ------,      44,          1,          1,          1,2,20000617,       1951,  52.993333,144.4066667,        473,   467.6,   0.2728,  33.4836,2,  33.4793,2, 204.5000,2,   207.4,1,   74.07,2,   29.48,2,    0.02,2,    2.53,2, -999.00,   0.2543
90CI20000602,     ------,      45,          1,          5,          5,2,20000617,       2210,  53.000000,144.3216667,        331,     8.3,   5.4449,  31.6105,2,  31.6161,2, 363.2000,2,   364.9,1,    1.04,2,    0.14,2,    0.00,2,    0.24,2, -999.00,   5.4443
90CI20000602,     ------,      45,          1,          4,          4,2,20000617,       2210,  53.000000,144.3216667,        331,    70.2,  -1.1421,  33.1425,2,  33.1413,2, 308.5000,2,   309.6,1,   45.23,2,   22.56,2,    0.12,2,    2.04,2, -999.00,  -1.1437
90CI20000602,     ------,      45,          1,          3,          3,2,20000617,       2210,  53.000000,144.3216667,        331,   201.6,   0.0666,  33.3211,2,  33.3236,2, 229.5000,2,   229.1,1,   64.52,2,   28.94,2,    0.08,2,    2.42,2, -999.00,   0.0595
90CI20000602,     ------,      45,          1,          2,          2,2,20000617,       2210,  53.000000,144.3216667,        331,   301.9,  -0.0484,  33.3283,2,  33.3285,2, 234.7000,2,   232.6,1,   64.33,2,   28.55,2,    0.08,2,    2.42,2, -999.00,  -0.0590
90CI20000602,     ------,      45,          1,          1,          1,2,20000617,       2210,  53.000000,144.3216667,        331,   325.4,  -0.1909,  33.3234,2,  33.3222,2, 237.4000,2,   240.9,1,   63.16,2,   27.80,2,    0.07,2,    2.39,2, -999.00,  -0.2020
90CI20000602,     ------,      46,          1,         10,         10,2,20000617,       2303,  52.998333,144.2483333,        214,     2.9,   5.1537,  31.6798,2,  31.6811,2, 367.7000,2,   371.1,1,    1.32,2,    0.14,2,    0.00,2,    0.25,2, -999.00,   5.1535
90CI20000602,     ------,      46,          1,          9,          9,2,20000617,       2303,  52.998333,144.2483333,        214,    10.0,   4.2119,  32.0064,2,  32.0007,2, 389.7000,2,   404.1,1,    1.10,2,    0.09,2,    0.00,2,    0.28,2, -999.00,   4.2113
90CI20000602,     ------,      46,          1,          8,          8,2,20000617,       2303,  52.998333,144.2483333,        214,    19.1,   3.1416,  32.3182,2,  32.3205,2, 449.0000,2,   459.9,1,    1.08,2,    0.05,2,    0.00,2,    0.29,2, -999.00,   3.1405
90CI20000602,     ------,      46,          1,          7,          7,2,20000617,       2303,  52.998333,144.2483333,        214,    29.9,   0.7846,  32.8287,2,  32.7563,2, 445.3000,2,   409.7,1,    0.86,2,    1.46,2,    0.04,2,    0.62,2, -999.00,   0.7834
90CI20000602,     ------,      46,          1,          6,          6,2,20000617,       2303,  52.998333,144.2483333,        214,    50.0,  -0.7155,  33.0723,2,  33.0642,2, 334.0000,2,   324.2,1,   27.79,2,   19.74,2,    0.15,2,    1.84,2, -999.00,  -0.7168
90CI20000602,     ------,      46,          1,          5,          5,2,20000617,       2303,  52.998333,144.2483333,        214,    67.3,  -0.8379,  33.1534,2,  33.1419,2, 308.6000,2,   304.7,1,   46.94,2,   23.05,2,    0.12,2,    2.08,2, -999.00,  -0.8397
90CI20000602,     ------,      46,          1,          4,          4,2,20000617,       2303,  52.998333,144.2483333,        214,    99.1,   0.8227,  33.3026,2,  33.3014,2, 206.2000,2,   207.3,1,   66.69,2,   31.26,2,    0.06,2,    2.52,2, -999.00,   0.8187
90CI20000602,     ------,      46,          1,          3,          3,2,20000617,       2303,  52.998333,144.2483333,        214,   121.2,  -0.0587,  33.2660,2,  33.2628,2, 237.7000,2,   243.5,1,   60.82,2,   28.23,2,    0.09,2,    2.36,2, -999.00,  -0.0628
90CI20000602,     ------,      46,          1,          2,          2,2,20000617,       2303,  52.998333,144.2483333,        214,   150.5,   0.1711,  33.2996,2,  33.2982,2, 224.5000,2,   227.0,1,   64.34,2,   29.03,2,    0.09,2,    2.44,2, -999.00,   0.1657
90CI20000602,     ------,      46,          1,          1,          1,2,20000617,       2303,  52.998333,144.2483333,        214,   206.9,   0.1810,  33.3004,2,  33.2992,2, 224.3000,2,   226.5,1,   64.54,2,   29.07,2,    0.09,2,    2.44,2, -999.00,   0.1736