BOTTLE,20121207CCHSIOMYS
EXPOCODE,SECT_ID,STNNBR,CASTNO,SAMPNO,BTLNBR,BTLNBR_FLAG_W,DATE,TIME,LATITUDE,LONGITUDE,DEPTH,CTDPRS,CTDTMP,CTDSAL,CTDSAL_FLAG_W,SALNTY,SALNTY_FLAG_W,CTDOXY,CTDOXY_FLAG_W,OXYGEN,OXYGEN_FLAG_W,SILCAT,SILCAT_FLAG_W,NITRAT,NITRAT_FLAG_W,NITRIT,NITRIT_FLAG_W,PHSPHT,PHSPHT_FLAG_W,CTDRAW,THETA
,,,,,,,,,,,,DBAR,ITS-90,PSS-78,,PSS-78,,UMOL/KG,,UMOL/KG,,UMOL/KG,,UMOL/KG,,UMOL/KG,,UMOL/KG,,DBAR,DEG C
90CI20000602,     ------,      25,          1,         24,         24,2,20000612,       1920,  47.061667,151.2383333,       3179,     3.1,   1.8133,  32.7540,2,  32.7545,2, 191.1000,2,   333.1,1,   32.88,2,   15.26,2,    0.14,2,    1.36,2, -999.00,   1.8132
90CI20000602,     ------,      25,          1,         23,         23,2,20000612,       1920,  47.061667,151.2383333,       3179,     9.6,   1.7765,  32.7529,2,  32.7547,2, 177.8000,2,   333.0,1,   32.87,2,   15.36,2,    0.14,2,    1.37,2, -999.00,   1.7760
90CI20000602,     ------,      25,          1,         22,         22,2,20000612,       1920,  47.061667,151.2383333,       3179,    26.3,   0.9042,  32.8177,2,  32.8147,2, 167.1000,2,   329.0,1,   34.59,2,   17.21,2,    0.15,2,    1.51,2, -999.00,   0.9031
90CI20000602,     ------,      25,          1,         21,         21,2,20000612,       1920,  47.061667,151.2383333,       3179,    49.3,   0.7786,  32.9977,2,  33.0280,2, 160.5000,2,   299.2,1,   43.07,2,   21.57,2,    0.14,2,    1.82,2, -999.00,   0.7767
90CI20000602,     ------,      25,          1,         20,         20,2,20000612,       1920,  47.061667,151.2383333,       3179,    74.6,   0.8918,  33.1310,2,  33.1320,2, 168.5000,2,   277.5,1,   48.66,2,   23.64,2,    0.13,2,    1.95,2, -999.00,   0.8888
90CI20000602,     ------,      25,          1,         19,         19,2,20000612,       1920,  47.061667,151.2383333,       3179,    99.9,   0.9306,  33.1871,2,  33.1872,2, 165.7000,2,   264.5,1,   50.38,2,   24.80,2,    0.12,2,    2.03,2, -999.00,   0.9265
90CI20000602,     ------,      25,          1,         18,         18,2,20000612,       1920,  47.061667,151.2383333,       3179,   124.9,   1.1082,  33.2337,2,  33.2349,2, 163.9000,2,   252.7,1,   54.81,2,   25.81,2,    0.12,2,    2.10,2, -999.00,   1.1029
90CI20000602,     ------,      25,          1,         17,         17,2,20000612,       1920,  47.061667,151.2383333,       3179,   150.1,   1.3229,  33.3061,2,  33.3063,2, 161.8000,2,   233.4,1,   61.76,2,   27.51,2,    0.11,2,    2.20,2, -999.00,   1.3161
90CI20000602,     ------,      25,          1,         16,         16,2,20000612,       1920,  47.061667,151.2383333,       3179,   201.6,   1.3777,  33.3351,2,  33.3356,2, 163.8000,2,   226.2,1,   64.26,2,   28.06,2,    0.10,2,    2.24,2, -999.00,   1.3684
90CI20000602,     ------,      25,          1,         15,         15,2,20000612,       1920,  47.061667,151.2383333,       3179,   251.9,   1.3789,  33.3681,2,  33.3683,2, 166.5000,2,   218.0,1,   65.98,2,   28.75,2,    0.09,2,    2.30,2, -999.00,   1.3672
90CI20000602,     ------,      25,          1,         14,         14,2,20000612,       1920,  47.061667,151.2383333,       3179,   302.4,   1.5790,  33.4316,2,  33.4298,2, 171.0000,2,   206.2,1,   72.36,2,   29.71,2,    0.10,2,    2.35,2, -999.00,   1.5642
90CI20000602,     ------,      25,          1,         13,         13,2,20000612,       1920,  47.061667,151.2383333,       3179,   403.5,   1.6493,  33.5032,2,  33.5030,2, 189.2000,2,   188.6,1,   78.35,2,   31.13,2,    0.09,2,    2.44,2, -999.00,   1.6289
90CI20000602,     ------,      25,          1,         12,         12,2,20000612,       1920,  47.061667,151.2383333,       3179,   504.0,   1.7787,  33.6211,2,  33.6197,2, 158.2000,2,   161.3,1,   87.84,2,   33.20,2,    0.06,2,    2.57,2, -999.00,   1.7522
90CI20000602,     ------,      25,          1,         11,         11,2,20000612,       1920,  47.061667,151.2383333,       3179,   605.1,   1.9031,  33.8168,2,  33.8166,2, 115.6000,2,   111.2,1,  105.14,2,   36.63,2,    0.00,2,    2.82,2, -999.00,   1.8699
90CI20000602,     ------,      25,          1,         10,         10,2,20000612,       1920,  47.061667,151.2383333,       3179,   707.3,   2.1248,  33.9406,2,  33.9412,2,  79.9000,2,    84.1,1,  121.17,2,   38.70,2,    0.00,2,    2.95,2, -999.00,   2.0841
90CI20000602,     ------,      25,          1,          9,          9,2,20000612,       1920,  47.061667,151.2383333,       3179,   809.0,   2.2386,  34.0513,2,  34.0509,2,  66.6000,2,    63.9,1,  135.51,2,   40.43,2,    0.00,2,    3.05,2, -999.00,   2.1904
90CI20000602,     ------,      25,          1,          8,          8,2,20000612,       1920,  47.061667,151.2383333,       3179,  1010.2,   2.3500,  34.2958,2,  34.2962,2,  46.0000,2,    43.0,1,  156.72,2,   42.12,2,    0.00,2,    3.12,2, -999.00,   2.2868
90CI20000602,     ------,      25,          1,          7,          7,2,20000612,       1920,  47.061667,151.2383333,       3179,  1205.3,   2.2690,  34.3979,2,  34.3983,2,  44.6000,2,    45.5,1,  161.90,2,   42.22,2,    0.00,2,    3.10,2, -999.00,   2.1923
90CI20000602,     ------,      25,          1,          6,          6,2,20000612,       1920,  47.061667,151.2383333,       3179,  1414.6,   2.1456,  34.4722,2,  34.4720,2,  50.6000,2,    52.3,1,  165.49,2,   41.93,2,    0.00,2,    3.05,2, -999.00,   2.0544
90CI20000602,     ------,      25,          1,          5,          5,2,20000612,       1920,  47.061667,151.2383333,       3179,  1619.3,   2.0895,  34.5050,2,  34.5055,2,  56.5000,2,    56.7,1,  166.88,2,   41.59,2,    0.00,2,    3.03,2, -999.00,   1.9831
90CI20000602,     ------,      25,          1,          4,          4,2,20000612,       1920,  47.061667,151.2383333,       3179,  2025.1,   1.9659,  34.5527,2,  34.5534,2,  68.7000,2,    67.3,1,  170.08,2,   41.15,2,    0.00,2,    2.97,2, -999.00,   1.8281
90CI20000602,     ------,      25,          1,          3,          3,2,20000612,       1920,  47.061667,151.2383333,       3179,  2534.6,   1.8569,  34.5932,2,  34.5942,2,  80.4000,2,    80.9,1,  172.89,2,   40.17,2,    0.00,2,    2.92,2, -999.00,   1.6764
90CI20000602,     ------,      25,          1,          2,          2,2,20000612,       1920,  47.061667,151.2383333,       3179,  3047.6,   1.8329,  34.6112,2,  34.6113,2,  89.1000,2,    88.9,1,  173.07,2,   39.63,2,    0.00,2,    2.89,2, -999.00,   1.6044
90CI20000602,     ------,      25,          1,          1,          1,2,20000612,       1920,  47.061667,151.2383333,       3179,  3200.9,   1.8272,  34.6157,2,  34.6156,2,  91.8000,2,    92.3,1,  170.64,2,   39.54,2,    0.00,2,    2.85,2, -999.00,   1.5837
90CI20000602,     ------,      26,          1,          6,          6,2,20000612,       2304,  47.228333,151.0866667,       3363,     9.0,   3.1922,  32.3654,2,  32.3704,2, 363.1000,2,   364.2,1, -999.00,9, -999.00,9, -999.00,9, -999.00,9, -999.00,   3.1917
90CI20000602,     ------,      26,          1,          5,          5,2,20000612,       2304,  47.228333,151.0866667,       3363,   301.2,   1.1572,  33.3828,2,  33.3848,2, 209.4000,2,   208.8,1, -999.00,9, -999.00,9, -999.00,9, -999.00,9, -999.00,   1.1435
90CI20000602,     ------,      26,          1,          4,          4,2,20000612,       2304,  47.228333,151.0866667,       3363,   808.3,   2.2582,  34.0633,2,  34.0667,2,  61.0000,2,    60.7,1, -999.00,9, -999.00,9, -999.00,9, -999.00,9, -999.00,   2.2099
90CI20000602,     ------,      26,          1,          3,          3,2,20000612,       2304,  47.228333,151.0866667,       3363,  1010.0,   2.3584,  34.2584,2,  34.2605,2,  43.5000,2,    43.5,1, -999.00,9, -999.00,9, -999.00,9, -999.00,9, -999.00,   2.2953
90CI20000602,     ------,      26,          1,          2,          2,2,20000612,       2304,  47.228333,151.0866667,       3363,  1212.4,   2.2746,  34.3849,2,  34.3870,2,  44.3000,2,    44.4,1, -999.00,9, -999.00,9, -999.00,9, -999.00,9, -999.00,   2.1974
90CI20000602,     ------,      26,          1,          1,          1,2,20000612,       2304,  47.228333,151.0866667,       3363,  1416.5,   2.1725,  34.4572,2,  34.4572,2,  48.7000,2,    48.5,1, -999.00,9, -999.00,9, -999.00,9, -999.00,9, -999.00,   2.0809
90CI20000602,     ------,      27,          1,          6,          6,2,20000613,       0243,  47.535000,150.7883333,       3370,    10.6,   3.8375,  32.2941,2,  32.2985,2, 371.7000,2,   371.4,1,   17.89,2,    2.69,2,    0.08,2,    0.61,2, -999.00,   3.8369
90CI20000602,     ------,      27,          1,          5,          5,2,20000613,       0243,  47.535000,150.7883333,       3370,   305.1,   0.9004,  33.3255,2,  33.3242,2, 215.3000,2,   215.7,1,   57.60,2,   28.97,2,    0.00,2,    2.36,2, -999.00,   0.8872
90CI20000602,     ------,      27,          1,          4,          4,2,20000613,       0243,  47.535000,150.7883333,       3370,   809.8,   2.2528,  34.0808,2,  34.0811,2,  61.6000,2,    59.4,1,  139.50,2,   40.72,2,    0.00,2,    3.07,2, -999.00,   2.2045
90CI20000602,     ------,      27,          1,          3,          3,2,20000613,       0243,  47.535000,150.7883333,       3370,  1051.5,   2.3612,  34.2670,2,  34.2769,3,  42.9000,2,    41.7,1,  156.16,2,   42.21,2,    0.00,2,    3.14,2, -999.00,   2.2951
90CI20000602,     ------,      27,          1,          2,          2,2,20000613,       0243,  47.535000,150.7883333,       3370,  1212.2,   2.2739,  34.3959,2,  34.3962,2,  40.5000,2,    42.1,1,  163.35,2,   42.32,2,    0.00,2,    3.12,2, -999.00,   2.1967
90CI20000602,     ------,      27,          1,          1,          1,2,20000613,       0243,  47.535000,150.7883333,       3370,  1412.1,   2.1918,  34.4569,2,  34.4589,2,  46.5000,2,    46.7,1,  166.34,2,   42.27,2,    0.00,2,    3.09,2, -999.00,   2.1003
90CI20000602,     ------,      28,          1,         24,         24,2,20000613,       0531,  47.660000,150.6633333,       3371,     3.5,   4.1312,  32.4326,2,  32.4343,2, 381.0000,2,   384.7,1,   13.74,2,    2.65,2,    0.09,2,    0.58,2, -999.00,   4.1310
90CI20000602,     ------,      28,          1,         23,         23,2,20000613,       0531,  47.660000,150.6633333,       3371,     9.2,   4.1190,  32.4285,2,  32.4273,2, 379.8000,2,   381.4,1,   14.30,2,    2.98,2,    0.09,2,    0.60,2, -999.00,   4.1184
90CI20000602,     ------,      28,          1,         22,         22,2,20000613,       0531,  47.660000,150.6633333,       3371,    27.9,   4.0372,  32.4911,2,  32.4914,2, 376.9000,2,   404.6,1,    9.25,2,    1.25,2,    0.05,2,    0.46,2, -999.00,   4.0354
90CI20000602,     ------,      28,          1,         21,         21,2,20000613,       0531,  47.660000,150.6633333,       3371,    49.5,   2.8422,  32.6327,2,  32.6289,2, 356.2000,2,   360.5,1,   14.06,2,    7.59,2,    0.09,2,    0.91,2, -999.00,   2.8394
90CI20000602,     ------,      28,          1,         20,         20,2,20000613,       0531,  47.660000,150.6633333,       3371,    73.9,   1.7306,  32.9418,2,  32.9336,2, 311.8000,2,   318.4,1,   34.32,2,   17.07,2,    0.14,2,    1.57,2, -999.00,   1.7271
90CI20000602,     ------,      28,          1,         19,         19,2,20000613,       0531,  47.660000,150.6633333,       3371,    95.5,   0.9676,  33.1943,2,  33.1943,2, 278.9000,2,   261.2,1,   52.08,2,   25.47,2,    0.16,2,    2.07,2, -999.00,   0.9637
90CI20000602,     ------,      28,          1,         18,         18,2,20000613,       0531,  47.660000,150.6633333,       3371,   120.1,   0.9489,  33.2183,2,  33.2181,2, 259.6000,2,   255.7,1,   53.02,2,   26.02,2,    0.13,2,    2.11,2, -999.00,   0.9439
90CI20000602,     ------,      28,          1,         17,         17,2,20000613,       0531,  47.660000,150.6633333,       3371,   147.7,   1.0120,  33.2515,2,  33.2518,2, 248.6000,2,   245.7,1,   55.50,2,   26.88,2,    0.09,2,    2.14,2, -999.00,   1.0057
90CI20000602,     ------,      28,          1,         16,         16,2,20000613,       0531,  47.660000,150.6633333,       3371,   200.4,   1.0328,  33.2990,2,  33.2990,2, 226.4000,2,   231.6,1,   57.80,2,   27.96,2,    0.06,2,    2.23,2, -999.00,   1.0242
90CI20000602,     ------,      28,          1,         15,         15,2,20000613,       0531,  47.660000,150.6633333,       3371,   251.8,   1.2657,  33.3820,2,  33.3819,2, 205.7000,2,   209.7,1,   64.54,2,   29.74,2,    0.10,2,    2.35,2, -999.00,   1.2542
90CI20000602,     ------,      28,          1,         14,         14,2,20000613,       0531,  47.660000,150.6633333,       3371,   303.8,   1.1862,  33.4381,2,  33.4326,2, 192.4000,2,   193.8,1,   66.64,2,   30.12,2,    0.01,2,    2.45,2, -999.00,   1.1724
90CI20000602,     ------,      28,          1,         13,         13,2,20000613,       0531,  47.660000,150.6633333,       3371,   404.8,   1.4192,  33.5452,2,  33.5460,2, 161.4000,2,   170.8,1,   74.35,2,   31.71,2,    0.01,2,    2.53,2, -999.00,   1.3995
90CI20000602,     ------,      28,          1,         12,         12,2,20000613,       0531,  47.660000,150.6633333,       3371,   484.3,   1.5424,  33.6405,2,  33.6411,2, 156.6000,2,   153.9,1,   83.04,2,   32.82,2,    0.00,2,    2.60,2, -999.00,   1.5180
90CI20000602,     ------,      28,          1,         11,         11,2,20000613,       0531,  47.660000,150.6633333,       3371,   605.6,   1.8688,  33.8266,2,  33.8208,2, 118.2000,2,   108.7,1,  106.92,2,   36.76,2,    0.00,2,    2.84,2, -999.00,   1.8358
90CI20000602,     ------,      28,          1,         10,         10,2,20000613,       0531,  47.660000,150.6633333,       3371,   703.2,   2.1041,  33.9575,2,  33.9579,2,  84.2000,2,    78.8,1,  124.68,2,   39.20,2,    0.00,2,    2.99,2, -999.00,   2.0637
90CI20000602,     ------,      28,          1,          9,          9,2,20000613,       0531,  47.660000,150.6633333,       3371,   808.8,   2.2684,  34.0759,2,  34.0751,2,  63.0000,2,    59.5,1,  138.22,2,   40.72,2,    0.00,2,    3.07,2, -999.00,   2.2200
90CI20000602,     ------,      28,          1,          8,          8,2,20000613,       0531,  47.660000,150.6633333,       3371,  1009.7,   2.3620,  34.2460,2,  34.2460,2,  42.7000,2,    43.1,1,  153.84,2,   41.89,2,    0.00,2,    3.13,2, -999.00,   2.2989
90CI20000602,     ------,      28,          1,          7,          7,2,20000613,       0531,  47.660000,150.6633333,       3371,  1214.7,   2.2807,  34.3778,2,  34.3774,2,  43.7000,2,    43.5,1,  162.17,2,   42.08,2,    0.00,2,    3.10,2, -999.00,   2.2032
90CI20000602,     ------,      28,          1,          6,          6,2,20000613,       0531,  47.660000,150.6633333,       3371,  1411.6,   2.1908,  34.4579,2,  34.4587,2,  47.5000,2,    47.8,1,  165.73,2,   42.02,2,    0.00,2,    3.08,2, -999.00,   2.0993
90CI20000602,     ------,      28,          1,          5,          5,2,20000613,       0531,  47.660000,150.6633333,       3371,  1618.1,   2.1010,  34.4996,2,  34.5001,2,  52.1000,2,    53.8,1,  168.70,2,   41.71,2,    0.00,2,    3.05,2, -999.00,   1.9946
90CI20000602,     ------,      28,          1,          4,          4,2,20000613,       0531,  47.660000,150.6633333,       3371,  2024.4,   1.9694,  34.5493,2,  34.5495,2,  63.7000,2,    65.9,1,  171.48,2,   41.01,2,    0.00,2,    2.99,2, -999.00,   1.8317
90CI20000602,     ------,      28,          1,          3,          3,2,20000613,       0531,  47.660000,150.6633333,       3371,  2586.5,   1.8711,  34.5900,2,  34.5895,2,  78.1000,2,    78.8,1,  174.26,2,   40.06,2,    0.00,2,    2.94,2, -999.00,   1.6857
90CI20000602,     ------,      28,          1,          2,          2,2,20000613,       0531,  47.660000,150.6633333,       3371,  3046.7,   1.8659,  34.6030,2,  34.6030,2,  83.7000,2,    83.4,1,  175.63,2,   39.71,2,    0.00,2,    2.92,2, -999.00,   1.6369
90CI20000602,     ------,      28,          1,          1,          1,2,20000613,       0531,  47.660000,150.6633333,       3371,  3373.1,   1.8642,  34.6113,2,  34.6119,2,  88.8000,2,    88.4,1,  174.78,2,   39.26,2,    0.00,2,    2.89,2, -999.00,   1.6025