BOTTLE,20121207CCHSIOMYS
EXPOCODE,SECT_ID,STNNBR,CASTNO,SAMPNO,BTLNBR,BTLNBR_FLAG_W,DATE,TIME,LATITUDE,LONGITUDE,DEPTH,CTDPRS,CTDTMP,CTDSAL,CTDSAL_FLAG_W,SALNTY,SALNTY_FLAG_W,CTDOXY,CTDOXY_FLAG_W,OXYGEN,OXYGEN_FLAG_W,SILCAT,SILCAT_FLAG_W,NITRAT,NITRAT_FLAG_W,NITRIT,NITRIT_FLAG_W,PHSPHT,PHSPHT_FLAG_W,CTDRAW,THETA
,,,,,,,,,,,,DBAR,ITS-90,PSS-78,,PSS-78,,UMOL/KG,,UMOL/KG,,UMOL/KG,,UMOL/KG,,UMOL/KG,,UMOL/KG,,DBAR,DEG C
90CI20000602,     ------,      10,          1,         24,         24,2,20000609,       0341,  46.260000,151.9516667,       3511,     4.1,   2.3167,  33.0483,2,  33.0533,2, 328.4000,2,   328.9,1,   41.10,2,   18.74,2,    0.17,2,    1.66,2, -999.00,   2.3165
90CI20000602,     ------,      10,          1,         23,         23,2,20000609,       0341,  46.260000,151.9516667,       3511,    10.3,   2.2066,  33.0531,2,  33.0531,2, 329.2000,2,   325.4,1,   41.66,2,   19.26,2,    0.16,2,    1.69,2, -999.00,   2.2061
90CI20000602,     ------,      10,          1,         22,         22,2,20000609,       0341,  46.260000,151.9516667,       3511,    28.1,   2.0074,  33.0753,2,  33.0753,2, 317.9000,2,   315.6,1,   43.57,2,   20.40,2,    0.16,2,    1.75,2, -999.00,   2.0060
90CI20000602,     ------,      10,          1,         21,         21,2,20000609,       0341,  46.260000,151.9516667,       3511,    49.9,   1.8032,  33.1095,2,  33.1039,2, 297.4000,2,   301.9,1,   45.86,2,   21.46,2,    0.14,2,    1.82,2, -999.00,   1.8008
90CI20000602,     ------,      10,          1,         20,         20,2,20000609,       0341,  46.260000,151.9516667,       3511,    74.2,   1.4671,  33.1780,2,  33.1731,2, 271.9000,2,   275.2,1,   52.20,2,   24.23,2,    0.13,2,    1.99,2, -999.00,   1.4637
90CI20000602,     ------,      10,          1,         19,         19,2,20000609,       0341,  46.260000,151.9516667,       3511,   100.2,   1.3858,  33.2328,2,  33.2320,2, 266.4000,2,   258.3,1,   57.00,2,   25.71,2,    0.12,2,    2.07,2, -999.00,   1.3813
90CI20000602,     ------,      10,          1,         18,         18,2,20000609,       0341,  46.260000,151.9516667,       3511,   124.7,   1.3552,  33.2717,2,  33.2766,2, 248.0000,2,   245.2,1,   60.45,2,   26.77,2,    0.11,2,    2.15,2, -999.00,   1.3496
90CI20000602,     ------,      10,          1,         17,         17,2,20000609,       0341,  46.260000,151.9516667,       3511,   150.5,   1.3566,  33.3016,2,  33.3012,2, 236.4000,2,   237.0,1,   62.55,2,   27.30,2,    0.11,2,    2.19,2, -999.00,   1.3498
90CI20000602,     ------,      10,          1,         16,         16,2,20000609,       0341,  46.260000,151.9516667,       3511,   200.7,   1.4657,  33.3723,2,  33.3725,2, 219.7000,2,   218.9,1,   67.74,2,   28.93,2,    0.10,2,    2.29,2, -999.00,   1.4563
90CI20000602,     ------,      10,          1,         15,         15,2,20000609,       0341,  46.260000,151.9516667,       3511,   250.0,   1.5465,  33.4167,2,  33.4162,2, 202.4000,2,   206.8,1,   71.00,2,   29.80,2,    0.10,2,    2.36,2, -999.00,   1.5345
90CI20000602,     ------,      10,          1,         14,         14,2,20000609,       0341,  46.260000,151.9516667,       3511,   302.0,   1.8440,  33.4682,2,  33.4691,2, 184.4000,2,   189.6,1,   74.45,2,   31.95,2,    0.06,2,    2.48,2, -999.00,   1.8286
90CI20000602,     ------,      10,          1,         13,         13,2,20000609,       0341,  46.260000,151.9516667,       3511,   402.6,   1.9352,  33.5731,2,  33.5722,2, 168.1000,2,   162.7,1,   82.35,2,   33.61,2,    0.08,2,    2.58,2, -999.00,   1.9139
90CI20000602,     ------,      10,          1,         12,         12,2,20000609,       0341,  46.260000,151.9516667,       3511,   501.8,   2.2128,  33.7296,2,  33.7292,2, 127.8000,2,   124.5,1,   93.75,2,   36.61,2,    0.03,2,    2.75,2, -999.00,   2.1845
90CI20000602,     ------,      10,          1,         11,         11,2,20000609,       0341,  46.260000,151.9516667,       3511,   606.3,   2.5455,  33.9532,2,  33.9522,2,  73.2000,2,    78.6,1,  114.53,2,   39.94,2,    0.02,2,    2.95,2, -999.00,   2.5090
90CI20000602,     ------,      10,          1,         10,         10,2,20000609,       0341,  46.260000,151.9516667,       3511,   705.5,   2.5947,  34.0815,2,  34.0819,2,  47.4000,2,    60.6,1,  127.02,2,   40.83,2,    0.01,2,    3.02,2, -999.00,   2.5512
90CI20000602,     ------,      10,          1,          9,          9,2,20000609,       0341,  46.260000,151.9516667,       3511,   806.4,   2.4943,  34.1580,2,  34.1582,2,  22.1000,2,    56.6,1,  136.42,2,   41.37,2,    0.01,2,    3.04,2, -999.00,   2.4445
90CI20000602,     ------,      10,          1,          8,          8,2,20000609,       0341,  46.260000,151.9516667,       3511,  1009.6,   2.7424,  34.3677,2,  34.3676,2,  29.2000,2,    22.4,1,  150.81,2,   43.73,2,    0.01,2,    3.17,2, -999.00,   2.6760
90CI20000602,     ------,      10,          1,          7,          7,2,20000609,       0341,  46.260000,151.9516667,       3511,  1214.0,   2.3090,  34.4305,2,  34.4297,2,  41.5000,2,    43.4,1,  160.33,2,   42.55,2,    0.00,2,    3.08,2, -999.00,   2.2312
90CI20000602,     ------,      10,          1,          6,          6,2,20000609,       0341,  46.260000,151.9516667,       3511,  1416.0,   2.1768,  34.4860,2,  34.4860,2,  50.2000,2,    50.3,1,  164.49,2,   42.15,2,    0.00,2,    3.05,2, -999.00,   2.0852
90CI20000602,     ------,      10,          1,          5,          5,2,20000609,       0341,  46.260000,151.9516667,       3511,  1617.7,   2.0617,  34.5275,2,  34.5289,2,  62.9000,2,    58.7,1,  166.45,2,   41.56,2,    0.00,2,    3.01,2, -999.00,   1.9557
90CI20000602,     ------,      10,          1,          4,          4,2,20000609,       0341,  46.260000,151.9516667,       3511,  2024.3,   1.9116,  34.5894,2,  34.5885,2,  77.9000,2,    73.7,1,  166.41,2,   40.97,2,    0.00,2,    2.93,2, -999.00,   1.7746
90CI20000602,     ------,      10,          1,          3,          3,2,20000609,       0341,  46.260000,151.9516667,       3511,  2534.2,   1.6505,  34.6414,2,  34.6411,2, 106.9000,2,   109.3,1,  161.36,2,   38.66,2,    0.00,2,    2.76,2, -999.00,   1.4737
90CI20000602,     ------,      10,          1,          2,          2,2,20000609,       0341,  46.260000,151.9516667,       3511,  3046.8,   1.5062,  34.6684,2,  34.6689,2, 131.1000,2,   131.9,1,  156.54,2,   37.24,2,    0.00,2,    2.63,2, -999.00,   1.2848
90CI20000602,     ------,      10,          1,          1,          1,2,20000609,       0341,  46.260000,151.9516667,       3511,  3461.0,   1.4335,  34.6807,2,  34.6811,2, 146.1000,2,   146.0,1,  152.72,2,   36.37,2,    0.00,2,    2.57,2, -999.00,   1.1730
90CI20000602,     ------,      11,          1,         24,         24,2,20000609,       1138,  46.590000,151.5966667,       2318,     3.0,   1.8547,  32.6027,2,  32.6050,2, 335.9000,2,   343.1,1,   27.49,2,   12.28,2,    0.12,2,    1.18,2, -999.00,   1.8546
90CI20000602,     ------,      11,          1,         23,         23,2,20000609,       1138,  46.590000,151.5966667,       2318,     9.7,   1.8528,  32.6039,2,  32.6085,2, 339.8000,2,   342.8,1,   27.28,2,   12.37,2,    0.12,2,    1.18,2, -999.00,   1.8523
90CI20000602,     ------,      11,          1,         22,         22,2,20000609,       1138,  46.590000,151.5966667,       2318,    19.3,   1.4885,  32.7352,2,  32.7374,2, 339.4000,2,   332.2,1,   31.51,2,   14.95,2,    0.14,2,    1.36,2, -999.00,   1.4876
90CI20000602,     ------,      11,          1,         21,         21,2,20000609,       1138,  46.590000,151.5966667,       2318,    30.7,   1.3445,  32.7952,2,  32.7936,2, 336.7000,2,   326.6,1,   33.61,2,   16.22,2,    0.13,2,    1.44,2, -999.00,   1.3432
90CI20000602,     ------,      11,          1,         20,         20,2,20000609,       1138,  46.590000,151.5966667,       2318,    49.2,   1.1366,  32.9751,2,  32.9648,2, 302.0000,2,   303.8,1,   41.12,2,   19.86,2,    0.12,2,    1.68,2, -999.00,   1.1346
90CI20000602,     ------,      11,          1,         19,         19,2,20000609,       1138,  46.590000,151.5966667,       2318,    75.6,   0.2279,  33.0767,2,  33.0768,2, 278.7000,2,   296.8,1,   42.06,2,   22.20,2,    0.09,2,    1.85,2, -999.00,   0.2253
90CI20000602,     ------,      11,          1,         18,         18,2,20000609,       1138,  46.590000,151.5966667,       2318,   100.5,   1.1616,  33.2435,2,  33.2418,2, 267.3000,2,   253.7,1,   56.70,2,   26.03,2,    0.10,2,    2.10,2, -999.00,   1.1572
90CI20000602,     ------,      11,          1,         17,         17,2,20000609,       1138,  46.590000,151.5966667,       2318,   126.4,   1.2960,  33.2643,2,  33.2644,2, 246.0000,2,   248.2,1,   59.78,2,   26.45,2,    0.11,2,    2.13,2, -999.00,   1.2903
90CI20000602,     ------,      11,          1,         16,         16,2,20000609,       1138,  46.590000,151.5966667,       2318,   152.2,   1.3819,  33.2927,2,  33.2938,2, 236.5000,2,   241.5,1,   62.65,2,   27.06,2,    0.11,2,    2.17,2, -999.00,   1.3749
90CI20000602,     ------,      11,          1,         15,         15,2,20000609,       1138,  46.590000,151.5966667,       2318,   202.1,   1.4510,  33.3302,2,  33.3316,2, 231.1000,2,   231.5,1,   65.53,2,   27.82,2,    0.10,2,    2.20,2, -999.00,   1.4416
90CI20000602,     ------,      11,          1,         14,         14,2,20000609,       1138,  46.590000,151.5966667,       2318,   253.3,   1.5060,  33.3705,2,  33.3692,2, 220.5000,2,   221.2,1,   67.64,2,   28.40,2,    0.10,2,    2.26,2, -999.00,   1.4939
90CI20000602,     ------,      11,          1,         13,         13,2,20000609,       1138,  46.590000,151.5966667,       2318,   303.9,   1.5404,  33.4075,2,  33.4084,2, 216.2000,2,   211.7,1,   70.71,2,   29.25,2,    0.09,2,    2.31,2, -999.00,   1.5256
90CI20000602,     ------,      11,          1,         12,         12,2,20000609,       1138,  46.590000,151.5966667,       2318,   405.2,   1.7550,  33.6078,2,  33.5987,2, 180.5000,2,   161.3,1,   84.41,2,   33.02,2,    0.05,2,    2.56,2, -999.00,   1.7342
90CI20000602,     ------,      11,          1,         11,         11,2,20000609,       1138,  46.590000,151.5966667,       2318,   506.4,   1.9689,  33.7737,2,  33.7665,2, 131.4000,2,   119.0,1,   99.12,2,   35.90,2,    0.01,2,    2.77,2, -999.00,   1.9413
90CI20000602,     ------,      11,          1,         10,         10,2,20000609,       1138,  46.590000,151.5966667,       2318,   609.0,   1.9564,  33.8585,2,  33.8585,2, 100.4000,2,   103.3,1,  110.96,2,   36.92,2,    0.00,2,    2.84,2, -999.00,   1.9228
90CI20000602,     ------,      11,          1,          9,          9,2,20000609,       1138,  46.590000,151.5966667,       2318,   706.9,   2.0251,  33.9002,2,  33.8999,2,  92.5000,2,    94.5,1,  116.01,2,   37.74,2,    0.00,2,    2.89,2, -999.00,   1.9849
90CI20000602,     ------,      11,          1,          8,          8,2,20000609,       1138,  46.590000,151.5966667,       2318,   807.2,   2.2014,  34.0336,2,  34.0308,2,  70.1000,2,    67.1,1,  133.41,2,   39.87,2,    0.00,2,    3.02,2, -999.00,   2.1536
90CI20000602,     ------,      11,          1,          7,          7,2,20000609,       1138,  46.590000,151.5966667,       2318,  1014.0,   2.4085,  34.2659,2,  34.2633,2,  45.9000,2,    52.5,1,  145.40,2,   41.38,2,    0.00,2,    3.04,2, -999.00,   2.3447
90CI20000602,     ------,      11,          1,          6,          6,2,20000609,       1138,  46.590000,151.5966667,       2318,  1214.7,   2.2320,  34.3843,2,  34.3753,3,  55.8000,2,    55.0,1,  155.48,2,   41.23,2,    0.00,2,    3.03,2, -999.00,   2.1550
90CI20000602,     ------,      11,          1,          5,          5,2,20000609,       1138,  46.590000,151.5966667,       2318,  1419.8,   2.0913,  34.4720,2,  34.4715,2,  57.5000,2,    58.7,1,  164.63,2,   41.12,2,    0.00,2,    3.01,2, -999.00,   2.0004
90CI20000602,     ------,      11,          1,          4,          4,2,20000609,       1138,  46.590000,151.5966667,       2318,  1623.2,   2.0634,  34.5119,2,  34.5111,2,  57.9000,2,    58.0,1,  167.00,2,   41.26,2,    0.00,2,    3.00,2, -999.00,   1.9570
90CI20000602,     ------,      11,          1,          3,          3,2,20000609,       1138,  46.590000,151.5966667,       2318,  1824.2,   1.9644,  34.5487,2,  34.5476,2,  66.5000,2,    65.5,1,  169.78,2,   40.86,2,    0.00,2,    2.98,2, -999.00,   1.8432
90CI20000602,     ------,      11,          1,          2,          2,2,20000609,       1138,  46.590000,151.5966667,       2318,  2023.0,   1.8452,  34.5825,2,  34.5813,2,  79.5000,2,    78.0,1,  171.16,2,   39.93,2,    0.00,2,    2.90,2, -999.00,   1.7094
90CI20000602,     ------,      11,          1,          1,          1,2,20000609,       1138,  46.590000,151.5966667,       2318,  2272.9,   1.6390,  34.6407,2,  34.6409,2, 105.5000,2,   105.9,1,  161.91,2,   38.56,2,    0.00,2,    2.74,2, -999.00,   1.4853
90CI20000602,     ------,      12,          1,         24,         24,2,20000610,       1130,  46.161667,149.9000000,       2170,     3.1,   2.5938,  32.5332,2,  32.5269,2, 344.6000,2,   352.0,1,   24.31,2,   11.06,2,    0.13,2,    1.10,2, -999.00,   2.5936
90CI20000602,     ------,      12,          1,         23,         23,2,20000610,       1130,  46.161667,149.9000000,       2170,     9.5,   2.5121,  32.5560,2,  32.5644,2, 347.7000,2,   349.4,1,   25.64,2,   11.99,2,    0.14,2,    1.16,2, -999.00,   2.5116
90CI20000602,     ------,      12,          1,         22,         22,2,20000610,       1130,  46.161667,149.9000000,       2170,    18.7,   2.5024,  32.6023,2,  32.6012,2, 348.2000,2,   347.2,1,   26.78,2,   12.74,2,    0.14,2,    1.21,2, -999.00,   2.5015
90CI20000602,     ------,      12,          1,         21,         21,2,20000610,       1130,  46.161667,149.9000000,       2170,    28.2,   2.3646,  32.6136,2,  32.6138,2, 347.1000,2,   346.6,1,   26.96,2,   12.93,2,    0.14,2,    1.23,2, -999.00,   2.3631
90CI20000602,     ------,      12,          1,         20,         20,2,20000610,       1130,  46.161667,149.9000000,       2170,    48.7,   1.0636,  32.7159,2,  32.7285,2, 343.5000,2,   335.9,1,   30.59,2,   15.82,2,    0.17,2,    1.44,2, -999.00,   1.0616
90CI20000602,     ------,      12,          1,         19,         19,2,20000610,       1130,  46.161667,149.9000000,       2170,    70.0,   0.5213,  32.8370,2,  32.8398,2, 321.7000,2,   321.4,1,   35.18,2,   18.59,2,    0.18,2,    1.61,2, -999.00,   0.5187
90CI20000602,     ------,      12,          1,         18,         18,2,20000610,       1130,  46.161667,149.9000000,       2170,    94.8,   0.4516,  32.9314,2,  32.9309,2, 309.1000,2,   309.1,1,   39.00,2,   20.47,2,    0.15,2,    1.74,2, -999.00,   0.4481
90CI20000602,     ------,      12,          1,         17,         17,2,20000610,       1130,  46.161667,149.9000000,       2170,   109.4,   0.4758,  32.9421,2,  32.9406,2, 302.1000,2,   307.5,1,   39.56,2,   20.62,2,    0.14,2,    1.75,2, -999.00,   0.4717
90CI20000602,     ------,      12,          1,         16,         16,2,20000610,       1130,  46.161667,149.9000000,       2170,   150.3,   0.6003,  33.0414,2,  33.0407,2, 291.4000,2,   292.4,1,   43.96,2,   22.47,2,    0.13,2,    1.86,2, -999.00,   0.5945
90CI20000602,     ------,      12,          1,         15,         15,2,20000610,       1130,  46.161667,149.9000000,       2170,   200.7,   0.6570,  33.0794,2,  33.0799,2, 280.3000,2,   286.1,1,   45.28,2,   23.13,2,    0.13,2,    1.91,2, -999.00,   0.6490
90CI20000602,     ------,      12,          1,         14,         14,2,20000610,       1130,  46.161667,149.9000000,       2170,   245.8,   1.0006,  33.1518,2,  33.1506,2, 266.5000,2,   269.9,1,   51.21,2,   24.56,2,    0.14,2,    2.01,2, -999.00,   0.9900
90CI20000602,     ------,      12,          1,         13,         13,2,20000610,       1130,  46.161667,149.9000000,       2170,   301.8,   1.3567,  33.2802,2,  33.2802,2, 239.3000,2,   237.0,1,   62.32,2,   27.05,2,    0.11,2,    2.17,2, -999.00,   1.3426
90CI20000602,     ------,      12,          1,         12,         12,2,20000610,       1130,  46.161667,149.9000000,       2170,   402.8,   1.3174,  33.3998,2,  33.4007,2, 213.6000,2,   207.2,1,   67.29,2,   30.04,2,    0.04,2,    2.37,2, -999.00,   1.2983
90CI20000602,     ------,      12,          1,         11,         11,2,20000610,       1130,  46.161667,149.9000000,       2170,   504.2,   1.4847,  33.5395,4,  33.5418,2,-999.0000,9,   171.0,1,   75.92,2,   32.27,2,    0.01,2,    2.54,2, -999.00,   1.4595
90CI20000602,     ------,      12,          1,         10,         10,2,20000610,       1130,  46.161667,149.9000000,       2170,   590.0,   1.7134,  33.6675,4,  33.6684,2,-999.0000,9,   144.3,1,   88.02,2,   34.15,2,    0.01,2,    2.66,2, -999.00,   1.6822
90CI20000602,     ------,      12,          1,          9,          9,2,20000610,       1130,  46.161667,149.9000000,       2170,   705.3,   2.1265,  33.9625,4,  33.9625,2,-999.0000,9,    83.5,1,  123.03,2,   39.00,2,    0.01,2,    2.95,2, -999.00,   2.0858
90CI20000602,     ------,      12,          1,          8,          8,2,20000610,       1130,  46.161667,149.9000000,       2170,   807.2,   2.2836,  34.1250,4,  34.1228,2,-999.0000,9,    61.1,1,  140.20,2,   40.71,2,    0.00,2,    3.06,2, -999.00,   2.2352
90CI20000602,     ------,      12,          1,          7,          7,2,20000610,       1130,  46.161667,149.9000000,       2170,  1009.2,   2.3018,  34.2262,4,  34.2267,2,-999.0000,9,    52.5,1,  149.41,2,   41.44,2,    0.00,2,    3.08,2, -999.00,   2.2392
90CI20000602,     ------,      12,          1,          6,          6,2,20000610,       1130,  46.161667,149.9000000,       2170,  1212.8,   2.2117,  34.4023,2,  34.4030,2,  49.3000,2,    48.6,1,  162.83,2,   41.98,2,    0.00,2,    3.08,2, -999.00,   2.1350
90CI20000602,     ------,      12,          1,          5,          5,2,20000610,       1130,  46.161667,149.9000000,       2170,  1415.9,   2.1168,  34.4782,2,  34.4771,2,  53.2000,2,    52.3,1,  167.57,2,   41.78,2,    0.00,2,    3.10,2, -999.00,   2.0258
90CI20000602,     ------,      12,          1,          4,          4,2,20000610,       1130,  46.161667,149.9000000,       2170,  1617.7,   2.0977,  34.5025,2,  34.5012,2,  52.8000,2,    53.3,1,  169.13,2,   41.83,2,    0.00,2,    3.05,2, -999.00,   1.9914
90CI20000602,     ------,      12,          1,          3,          3,2,20000610,       1130,  46.161667,149.9000000,       2170,  1821.6,   2.0316,  34.5263,2,  34.5257,2,  58.9000,2,    59.6,1,  171.09,2,   41.34,2,    0.00,2,    3.03,2, -999.00,   1.9097
90CI20000602,     ------,      12,          1,          2,          2,2,20000610,       1130,  46.161667,149.9000000,       2170,  2024.9,   1.9411,  34.5580,2,  34.5565,2,  67.9000,2,    67.6,1,  173.25,2,   40.85,2,    0.00,2,    2.98,2, -999.00,   1.8038
90CI20000602,     ------,      12,          1,          1,          1,2,20000610,       1130,  46.161667,149.9000000,       2170,  2162.0,   1.8504,  34.5868,2,  34.5854,2,  75.6000,2,    75.9,1,  176.42,2,   40.21,2,    0.00,2,    2.96,2, -999.00,   1.7028