BOTTLE,20121207CCHSIOMYS
EXPOCODE,SECT_ID,STNNBR,CASTNO,SAMPNO,BTLNBR,BTLNBR_FLAG_W,DATE,TIME,LATITUDE,LONGITUDE,DEPTH,CTDPRS,CTDTMP,CTDSAL,CTDSAL_FLAG_W,SALNTY,SALNTY_FLAG_W,CTDOXY,CTDOXY_FLAG_W,OXYGEN,OXYGEN_FLAG_W,SILCAT,SILCAT_FLAG_W,NITRAT,NITRAT_FLAG_W,NITRIT,NITRIT_FLAG_W,PHSPHT,PHSPHT_FLAG_W,CTDRAW,THETA
,,,,,,,,,,,,DBAR,ITS-90,PSS-78,,PSS-78,,UMOL/KG,,UMOL/KG,,UMOL/KG,,UMOL/KG,,UMOL/KG,,UMOL/KG,,DBAR,DEG C
90CI20000602,     ------,      32,          1,         17,         17,2,20000614,       1352,  49.508333,146.4783333,        803,     2.3,   2.1629,  32.1095,2,  32.0954,2, 418.5000,2,   435.1,1,    1.75,2,    0.29,2,    0.00,2,    0.21,2, -999.00,   2.1628
90CI20000602,     ------,      32,          1,         16,         16,2,20000614,       1352,  49.508333,146.4783333,        803,     9.9,   1.8806,  32.2083,2,  32.2054,2, 426.2000,2,   394.8,1,    4.79,2,    3.48,2,    0.10,2,    0.48,2, -999.00,   1.8802
90CI20000602,     ------,      32,          1,         15,         15,2,20000614,       1352,  49.508333,146.4783333,        803,    19.6,   1.2202,  32.3288,2,  32.3482,2, 371.6000,2,   368.4,1,   14.16,2,    9.76,2,    0.15,2,    1.06,2, -999.00,   1.2194
90CI20000602,     ------,      32,          1,         14,         14,2,20000614,       1352,  49.508333,146.4783333,        803,    29.4,  -0.6808,  32.5139,2,  32.5085,2, 369.6000,2,   369.2,1,   23.51,2,   12.99,2,    0.16,2,    1.32,2, -999.00,  -0.6815
90CI20000602,     ------,      32,          1,         13,         13,2,20000614,       1352,  49.508333,146.4783333,        803,    50.1,  -1.6050,  32.7751,2,  32.7750,2, 354.5000,2,   354.3,1,   29.23,2,   17.34,2,    0.20,2,    1.59,2, -999.00,  -1.6059
90CI20000602,     ------,      32,          1,         12,         12,2,20000614,       1352,  49.508333,146.4783333,        803,    74.6,  -1.7047,  32.8529,2,  32.8522,2, 339.4000,2,   348.7,1,   28.63,2,   18.03,2,    0.22,2,    1.61,2, -999.00,  -1.7060
90CI20000602,     ------,      32,          1,         11,         11,2,20000614,       1352,  49.508333,146.4783333,        803,   100.0,  -1.1851,  32.9776,2,  32.9762,2, 322.1000,2,   316.8,1,   37.59,2,   22.14,2,    0.08,2,    1.87,2, -999.00,  -1.1873
90CI20000602,     ------,      32,          1,         10,         10,2,20000614,       1352,  49.508333,146.4783333,        803,   125.1,  -0.3494,  33.1426,2,  33.1415,2, 269.6000,2,   269.4,1,   51.33,2,   26.99,2,    0.03,2,    2.23,2, -999.00,  -0.3532
90CI20000602,     ------,      32,          1,          9,          9,2,20000614,       1352,  49.508333,146.4783333,        803,   150.4,   0.2746,  33.2283,2,  33.2273,2, 234.3000,2,   238.2,1,   57.62,2,   29.24,2,    0.05,2,    2.37,2, -999.00,   0.2691
90CI20000602,     ------,      32,          1,          8,          8,2,20000614,       1352,  49.508333,146.4783333,        803,   200.9,   0.8080,  33.3347,2,  33.3333,2, 187.0000,2,   188.4,1,   67.35,2,   32.82,2,    0.05,2,    2.66,2, -999.00,   0.7997
90CI20000602,     ------,      32,          1,          7,          7,2,20000614,       1352,  49.508333,146.4783333,        803,   251.5,   0.9290,  33.3974,2,  33.3983,2, 165.7000,2,   168.2,1,   72.87,2,   34.33,2,    0.05,2,    2.77,2, -999.00,   0.9182
90CI20000602,     ------,      32,          1,          6,          6,2,20000614,       1352,  49.508333,146.4783333,        803,   301.5,   1.1077,  33.4774,2,  33.4800,2, 146.4000,2,   146.4,1,   79.74,2,   35.57,2,    0.04,2,    2.87,2, -999.00,   1.0941
90CI20000602,     ------,      32,          1,          5,          5,2,20000614,       1352,  49.508333,146.4783333,        803,   403.2,   1.8253,  33.6839,2,  33.6845,2, 110.2000,2,   110.3,1,   97.76,2,   37.46,2,    0.01,2,    2.92,2, -999.00,   1.8043
90CI20000602,     ------,      32,          1,          4,          4,2,20000614,       1352,  49.508333,146.4783333,        803,   503.5,   2.1361,  33.8765,2,  33.8787,2,  81.4000,2,    79.3,1,  117.02,2,   39.62,2,    0.00,2,    3.03,2, -999.00,   2.1079
90CI20000602,     ------,      32,          1,          3,          3,2,20000614,       1352,  49.508333,146.4783333,        803,   604.4,   2.3192,  34.0242,2,  34.0238,2,  60.0000,2,    58.3,1,  136.42,2,   40.75,2,    0.00,2,    3.11,2, -999.00,   2.2838
90CI20000602,     ------,      32,          1,          2,          2,2,20000614,       1352,  49.508333,146.4783333,        803,   706.4,   2.3536,  34.0971,2,  34.0976,2,  51.4000,2,    50.8,1,  145.38,2,   41.05,2,    0.00,2,    3.13,2, -999.00,   2.3115
90CI20000602,     ------,      32,          1,          1,          1,2,20000614,       1352,  49.508333,146.4783333,        803,   786.5,   2.3790,  34.1372,2,  34.1359,2,  44.9000,2,    46.2,1,  151.82,2,   41.29,2,    0.00,2,    3.16,2, -999.00,   2.3313
90CI20000602,     ------,      33,          1,         24,         24,2,20000614,       1551,  49.506667,146.4966667,        812,     2.6,   2.3264,  32.0461,2,  32.0660,2, 426.5000,2,  -999.0,9, -999.00,9, -999.00,9, -999.00,9, -999.00,9, -999.00,   2.3262
90CI20000602,     ------,      33,          1,         23,         23,2,20000614,       1551,  49.506667,146.4966667,        812,     2.8,   2.2783,  32.0601,2,-999.0000,9, 427.2000,2,  -999.0,9, -999.00,9, -999.00,9, -999.00,9, -999.00,9, -999.00,   2.2781
90CI20000602,     ------,      33,          1,         21,         21,2,20000614,       1551,  49.506667,146.4966667,        812,    19.2,  -0.0924,  32.4247,2,-999.0000,9, 380.3000,2,  -999.0,9, -999.00,9, -999.00,9, -999.00,9, -999.00,9, -999.00,  -0.0930
90CI20000602,     ------,      33,          1,         22,         22,2,20000614,       1551,  49.506667,146.4966667,        812,    19.3,   0.0051,  32.4066,2,-999.0000,9, 380.1000,2,  -999.0,9, -999.00,9, -999.00,9, -999.00,9, -999.00,9, -999.00,   0.0045
90CI20000602,     ------,      33,          1,         20,         20,2,20000614,       1551,  49.506667,146.4966667,        812,    50.7,  -1.6972,  32.8267,2,-999.0000,9, 342.1000,2,  -999.0,9, -999.00,9, -999.00,9, -999.00,9, -999.00,9, -999.00,  -1.6980
90CI20000602,     ------,      33,          1,         19,         19,2,20000614,       1551,  49.506667,146.4966667,        812,    50.8,  -1.6972,  32.8275,2,-999.0000,9, 341.9000,2,  -999.0,9, -999.00,9, -999.00,9, -999.00,9, -999.00,9, -999.00,  -1.6981
90CI20000602,     ------,      33,          1,         18,         18,2,20000614,       1551,  49.506667,146.4966667,        812,   100.1,  -0.6640,  33.1004,2,-999.0000,9, 293.2000,2,  -999.0,9, -999.00,9, -999.00,9, -999.00,9, -999.00,9, -999.00,  -0.6667
90CI20000602,     ------,      33,          1,         17,         17,2,20000614,       1551,  49.506667,146.4966667,        812,   100.1,  -0.6649,  33.0993,2,-999.0000,9, 293.2000,2,  -999.0,9, -999.00,9, -999.00,9, -999.00,9, -999.00,9, -999.00,  -0.6677
90CI20000602,     ------,      33,          1,         16,         16,2,20000614,       1551,  49.506667,146.4966667,        812,   150.3,   0.4154,  33.2614,2,-999.0000,9, 233.7000,2,  -999.0,9, -999.00,9, -999.00,9, -999.00,9, -999.00,9, -999.00,   0.4098
90CI20000602,     ------,      33,          1,         15,         15,2,20000614,       1551,  49.506667,146.4966667,        812,   150.6,   0.4170,  33.2623,2,-999.0000,9, 233.7000,2,  -999.0,9, -999.00,9, -999.00,9, -999.00,9, -999.00,9, -999.00,   0.4113
90CI20000602,     ------,      33,          1,         14,         14,2,20000614,       1551,  49.506667,146.4966667,        812,   201.0,   0.9076,  33.3602,2,-999.0000,9, 181.7000,2,  -999.0,9, -999.00,9, -999.00,9, -999.00,9, -999.00,9, -999.00,   0.8991
90CI20000602,     ------,      33,          1,         13,         13,2,20000614,       1551,  49.506667,146.4966667,        812,   201.2,   0.9074,  33.3606,2,-999.0000,9, 181.7000,2,  -999.0,9, -999.00,9, -999.00,9, -999.00,9, -999.00,9, -999.00,   0.8989
90CI20000602,     ------,      33,          1,         11,         11,2,20000614,       1551,  49.506667,146.4966667,        812,   251.3,   0.9495,  33.4192,2,-999.0000,9, 158.7000,2,  -999.0,9, -999.00,9, -999.00,9, -999.00,9, -999.00,9, -999.00,   0.9386
90CI20000602,     ------,      33,          1,         12,         12,2,20000614,       1551,  49.506667,146.4966667,        812,   251.6,   0.9497,  33.4194,2,-999.0000,9, 158.7000,2,  -999.0,9, -999.00,9, -999.00,9, -999.00,9, -999.00,9, -999.00,   0.9389
90CI20000602,     ------,      33,          1,          9,          9,2,20000614,       1551,  49.506667,146.4966667,        812,   300.7,   1.2483,  33.5198,2,-999.0000,9, 133.6000,2,  -999.0,9, -999.00,9, -999.00,9, -999.00,9, -999.00,9, -999.00,   1.2344
90CI20000602,     ------,      33,          1,         10,         10,2,20000614,       1551,  49.506667,146.4966667,        812,   300.8,   1.2596,  33.5194,2,-999.0000,9, 133.6000,2,  -999.0,9, -999.00,9, -999.00,9, -999.00,9, -999.00,9, -999.00,   1.2457
90CI20000602,     ------,      33,          1,          7,          7,2,20000614,       1551,  49.506667,146.4966667,        812,   404.1,   1.9217,  33.7190,2,-999.0000,9,  98.0000,2,  -999.0,9, -999.00,9, -999.00,9, -999.00,9, -999.00,9, -999.00,   1.9003
90CI20000602,     ------,      33,          1,          8,          8,2,20000614,       1551,  49.506667,146.4966667,        812,   404.6,   1.9213,  33.7192,2,-999.0000,9,  98.0000,2,  -999.0,9, -999.00,9, -999.00,9, -999.00,9, -999.00,9, -999.00,   1.8998
90CI20000602,     ------,      33,          1,          5,          5,2,20000614,       1551,  49.506667,146.4966667,        812,   503.8,   2.1731,  33.8953,2,  33.8896,2,  72.7000,2,  -999.0,9, -999.00,9, -999.00,9, -999.00,9, -999.00,9, -999.00,   2.1448
90CI20000602,     ------,      33,          1,          6,          6,2,20000614,       1551,  49.506667,146.4966667,        812,   504.0,   2.1698,  33.8923,2,-999.0000,9,  72.7000,2,  -999.0,9, -999.00,9, -999.00,9, -999.00,9, -999.00,9, -999.00,   2.1415
90CI20000602,     ------,      33,          1,          3,          3,2,20000614,       1551,  49.506667,146.4966667,        812,   605.1,   2.3182,  34.0357,2,  34.0353,2,  52.6000,2,  -999.0,9, -999.00,9, -999.00,9, -999.00,9, -999.00,9, -999.00,   2.2828
90CI20000602,     ------,      33,          1,          4,          4,2,20000614,       1551,  49.506667,146.4966667,        812,   605.2,   2.3182,  34.0350,2,-999.0000,9,  52.6000,2,  -999.0,9, -999.00,9, -999.00,9, -999.00,9, -999.00,9, -999.00,   2.2828
90CI20000602,     ------,      33,          1,          1,          1,2,20000614,       1551,  49.506667,146.4966667,        812,   792.6,   2.3829,  34.1470,2,  34.1437,2,  37.5000,2,  -999.0,9, -999.00,9, -999.00,9, -999.00,9, -999.00,9, -999.00,   2.3348
90CI20000602,     ------,      33,          1,          2,          2,2,20000614,       1551,  49.506667,146.4966667,        812,   792.8,   2.3830,  34.1467,2,-999.0000,9,  37.5000,2,  -999.0,9, -999.00,9, -999.00,9, -999.00,9, -999.00,9, -999.00,   2.3348
90CI20000602,     ------,      34,          1,         14,         14,2,20000615,       0628,  49.500000,145.6666667,        489,     2.6,   2.6832,  32.2324,2,  32.2207,2, 373.4000,2,   374.2,1,    7.33,2,    6.01,2,    0.14,2,    0.76,2, -999.00,   2.6830
90CI20000602,     ------,      34,          1,         13,         13,2,20000615,       0628,  49.500000,145.6666667,        489,     8.8,   1.8095,  32.2315,2,  32.2374,2, 375.3000,2,   380.7,1,    8.25,2,    5.95,2,    0.14,2,    0.76,2, -999.00,   1.8091
90CI20000602,     ------,      34,          1,         12,         12,2,20000615,       0628,  49.500000,145.6666667,        489,    18.8,   1.4014,  32.2739,2,  32.2892,2, 376.9000,2,   378.8,1,    8.79,2,    7.03,2,    0.15,2,    0.84,2, -999.00,   1.4006
90CI20000602,     ------,      34,          1,         11,         11,2,20000615,       0628,  49.500000,145.6666667,        489,    28.4,   0.2120,  32.4111,2,  32.4236,2, 375.9000,2,   372.8,1,   15.03,2,   10.49,2,    0.16,2,    1.10,2, -999.00,   0.2111
90CI20000602,     ------,      34,          1,         10,         10,2,20000615,       0628,  49.500000,145.6666667,        489,    48.8,  -1.5488,  32.8130,2,  32.8073,2, 338.1000,2,   345.2,1,   30.92,2,   18.53,2,    0.19,2,    1.69,2, -999.00,  -1.5497
90CI20000602,     ------,      34,          1,          9,          9,2,20000615,       0628,  49.500000,145.6666667,        489,    73.1,  -1.1490,  32.9587,2,  32.9610,2, 319.1000,2,   317.0,1,   38.67,2,   22.19,2,    0.09,2,    1.91,2, -999.00,  -1.1506
90CI20000602,     ------,      34,          1,          8,          8,2,20000615,       0628,  49.500000,145.6666667,        489,    99.1,  -1.0161,  33.0449,2,  33.0552,2, 293.0000,2,   297.5,1,   45.67,2,   24.96,2,    0.10,2,    2.12,2, -999.00,  -1.0185
90CI20000602,     ------,      34,          1,          7,          7,2,20000615,       0628,  49.500000,145.6666667,        489,   120.6,  -0.8846,  33.1005,2,  33.1104,2, 285.4000,2,   287.5,1,   48.68,2,   25.88,2,    0.08,2,    2.19,2, -999.00,  -0.8877
90CI20000602,     ------,      34,          1,          6,          6,2,20000615,       0628,  49.500000,145.6666667,        489,   150.4,  -0.5552,  33.1788,2,  33.1809,2, 270.4000,2,   271.5,1,   52.64,2,   27.03,2,    0.08,2,    2.29,2, -999.00,  -0.5595
90CI20000602,     ------,      34,          1,          5,          5,2,20000615,       0628,  49.500000,145.6666667,        489,   199.9,  -0.4753,  33.2377,2,  33.2413,2, 245.5000,2,   251.8,1,   58.12,2,   28.31,2,    0.10,2,    2.40,2, -999.00,  -0.4813
90CI20000602,     ------,      34,          1,          4,          4,2,20000615,       0628,  49.500000,145.6666667,        489,   249.1,  -0.0722,  33.3036,2,  33.3056,2, 221.8000,2,   226.2,1,   65.13,2,   29.94,2,    0.06,2,    2.52,2, -999.00,  -0.0808
90CI20000602,     ------,      34,          1,          3,          3,2,20000615,       0628,  49.500000,145.6666667,        489,   301.1,   0.8330,  33.4190,2,  33.4201,2, 172.9000,2,   173.0,1,   74.61,2,   33.57,2,    0.10,2,    2.75,2, -999.00,   0.8202
90CI20000602,     ------,      34,          1,          2,          2,2,20000615,       0628,  49.500000,145.6666667,        489,   402.5,   1.4589,  33.5778,2,  33.5802,2, 127.6000,2,   129.6,1,   90.41,2,   36.20,2,    0.00,2,    2.88,2, -999.00,   1.4392
90CI20000602,     ------,      34,          1,          1,          1,9,20000615,       0628,  49.500000,145.6666667,        489,   474.0,   1.8361,  33.7261,2,-999.0000,9,  89.1000,2,  -999.0,9, -999.00,9, -999.00,9, -999.00,9, -999.00,9, -999.00,   1.8110
90CI20000602,     ------,      35,          1,         11,         11,2,20000615,       0935,  49.500000,145.0750000,        293,     2.4,   3.0579,  32.3872,2,  32.3884,2, 370.5000,2,   390.3,1,    5.78,2,    5.37,2,    0.12,2,    0.61,2, -999.00,   3.0578
90CI20000602,     ------,      35,          1,         10,         10,2,20000615,       0935,  49.500000,145.0750000,        293,     9.0,   2.0346,  32.4041,2,  32.4069,2, 395.1000,2,   403.2,1,    4.62,2,    4.98,2,    0.13,2,    0.57,2, -999.00,   2.0342
90CI20000602,     ------,      35,          1,          9,          9,2,20000615,       0935,  49.500000,145.0750000,        293,    19.0,   0.9423,  32.4505,2,  32.4517,2, 378.6000,2,   378.2,1,   13.40,2,   10.04,2,    0.14,2,    0.97,2, -999.00,   0.9415
90CI20000602,     ------,      35,          1,          8,          8,2,20000615,       0935,  49.500000,145.0750000,        293,    29.5,  -0.0394,  32.5277,2,  32.5920,2, 362.4000,2,   362.3,1,   23.91,2,   14.71,2,    0.16,2,    1.39,2, -999.00,  -0.0403
90CI20000602,     ------,      35,          1,          7,          7,2,20000615,       0935,  49.500000,145.0750000,        293,    49.2,  -1.4780,  32.8317,2,  32.8545,2, 338.7000,2,   336.4,1,   34.22,2,   20.00,2,    0.18,2,    1.77,2, -999.00,  -1.4790
90CI20000602,     ------,      35,          1,          6,          6,2,20000615,       0935,  49.500000,145.0750000,        293,    73.4,  -1.2108,  33.0429,2,  33.0428,2, 309.1000,2,   309.2,1,   42.80,2,   23.68,2,    0.03,2,    2.02,2, -999.00,  -1.2125
90CI20000602,     ------,      35,          1,          5,          5,2,20000615,       0935,  49.500000,145.0750000,        293,    99.0,  -1.2575,  33.0992,2,  33.0969,2, 300.2000,2,   304.5,1,   45.65,2,   24.36,2,    0.02,2,    2.12,2, -999.00,  -1.2597
90CI20000602,     ------,      35,          1,          4,          4,2,20000615,       0935,  49.500000,145.0750000,        293,   123.8,  -1.1419,  33.1408,2,  33.1410,2, 287.6000,2,   293.3,1,   49.07,2,   25.49,2,    0.03,2,    2.21,2, -999.00,  -1.1448
90CI20000602,     ------,      35,          1,          3,          3,2,20000615,       0935,  49.500000,145.0750000,        293,   150.9,  -0.9533,  33.1680,2,  33.1692,2, 277.5000,2,   282.3,1,   51.91,2,   26.26,2,    0.02,2,    2.27,2, -999.00,  -0.9572
90CI20000602,     ------,      35,          1,          2,          2,2,20000615,       0935,  49.500000,145.0750000,        293,   202.1,  -0.3075,  33.2400,2,  33.2394,2, 246.9000,2,   245.8,1,   59.16,2,   28.56,2,    0.02,2,    2.42,2, -999.00,  -0.3139
90CI20000602,     ------,      35,          1,          1,          1,2,20000615,       0935,  49.500000,145.0750000,        293,   282.5,   0.0954,  33.2990,2,  33.2973,2, 207.9000,2,   212.4,1,   68.52,2,   30.77,2,    0.17,2,    2.62,2, -999.00,   0.0853
90CI20000602,     ------,      36,          1,          9,          9,2,20000615,       1211,  49.500000,144.5666667,        137,     1.9,   2.2829,  32.4548,2,  32.4517,2, 412.3000,2,   454.0,1,    1.00,2,    0.20,2,    0.01,2,    0.16,2, -999.00,   2.2828
90CI20000602,     ------,      36,          1,          8,          8,2,20000615,       1211,  49.500000,144.5666667,        137,     8.6,   1.3806,  32.5572,2,  32.5539,2, 428.7000,2,   425.6,1,    0.98,2,    1.06,2,    0.04,2,    0.27,2, -999.00,   1.3802
90CI20000602,     ------,      36,          1,          7,          7,2,20000615,       1211,  49.500000,144.5666667,        137,    19.8,  -1.3067,  32.7886,2,  32.7732,2, 363.5000,2,   346.5,1,   22.76,2,   17.51,2,    0.18,2,    1.59,2, -999.00,  -1.3071
90CI20000602,     ------,      36,          1,          6,          6,2,20000615,       1211,  49.500000,144.5666667,        137,    28.9,  -1.6167,  32.8747,2,  32.8736,2, 340.4000,2,   336.1,1,   31.91,2,   20.35,2,    0.19,2,    1.78,2, -999.00,  -1.6173
90CI20000602,     ------,      36,          1,          5,          5,2,20000615,       1211,  49.500000,144.5666667,        137,    49.4,  -1.6934,  32.9747,2,  32.9803,2, 324.4000,2,   333.2,1,   36.09,2,   20.91,2,    0.15,2,    1.86,2, -999.00,  -1.6943
90CI20000602,     ------,      36,          1,          4,          4,2,20000615,       1211,  49.500000,144.5666667,        137,    75.9,  -1.7549,  33.0417,2,  33.0434,2, 322.2000,2,   325.0,1,   38.93,2,   18.17,2,    0.13,2,    1.89,2, -999.00,  -1.7562
90CI20000602,     ------,      36,          1,          3,          3,2,20000615,       1211,  49.500000,144.5666667,        137,   100.1,  -1.7540,  33.0417,2,  33.0432,2, 323.2000,2,  -999.0,5,   39.30,2,   18.35,2,    0.14,2,    1.90,2, -999.00,  -1.7558
90CI20000602,     ------,      36,          1,          2,          2,2,20000615,       1211,  49.500000,144.5666667,        137,   125.8,  -1.7532,  33.0410,2,  33.0436,2, 325.7000,2,   325.4,1,   39.27,2,   18.26,2,    0.13,2,    1.90,2, -999.00,  -1.7554
90CI20000602,     ------,      36,          1,          1,          1,2,20000615,       1211,  49.500000,144.5666667,        137,   129.6,  -1.7530,  33.0416,2,  33.0426,2, 325.8000,2,   325.5,1,   39.25,2,   18.30,2,    0.13,2,    1.90,2, -999.00,  -1.7554