BOTTLE,20121207CCHSIOMYS
EXPOCODE,SECT_ID,STNNBR,CASTNO,SAMPNO,BTLNBR,BTLNBR_FLAG_W,DATE,TIME,LATITUDE,LONGITUDE,DEPTH,CTDPRS,CTDTMP,CTDSAL,CTDSAL_FLAG_W,SALNTY,SALNTY_FLAG_W,CTDOXY,CTDOXY_FLAG_W,OXYGEN,OXYGEN_FLAG_W,SILCAT,SILCAT_FLAG_W,NITRAT,NITRAT_FLAG_W,NITRIT,NITRIT_FLAG_W,PHSPHT,PHSPHT_FLAG_W,CTDRAW,THETA
,,,,,,,,,,,,DBAR,ITS-90,PSS-78,,PSS-78,,UMOL/KG,,UMOL/KG,,UMOL/KG,,UMOL/KG,,UMOL/KG,,UMOL/KG,,DBAR,DEG C
90CI20000602,     ------,     101,          1,          4,          4,2,20000626,       2259,  54.931667,143.8283333,        299,     2.7,   6.1863,  30.4793,2,  31.0553,2, 330.1000,2,   387.3,1, -999.00,9, -999.00,9, -999.00,9, -999.00,9, -999.00,   6.1861
90CI20000602,     ------,     101,          1,          3,          3,2,20000626,       2259,  54.931667,143.8283333,        299,    20.1,   2.6432,  32.2545,2,  32.2871,2, 406.0000,2,   401.1,1, -999.00,9, -999.00,9, -999.00,9, -999.00,9, -999.00,   2.6421
90CI20000602,     ------,     101,          1,          2,          2,2,20000626,       2259,  54.931667,143.8283333,        299,   185.8,   0.3487,  33.3166,2,  33.3163,2, 225.2000,2,   220.2,1, -999.00,9, -999.00,9, -999.00,9, -999.00,9, -999.00,   0.3417
90CI20000602,     ------,     101,          1,          1,          1,2,20000626,       2259,  54.931667,143.8283333,        299,   286.0,  -0.7126,  33.3475,2,  33.3458,2, 264.6000,2,   268.9,1, -999.00,9, -999.00,9, -999.00,9, -999.00,9, -999.00,  -0.7209
90CI20000602,     ------,     102,          1,          5,          5,2,20000627,       0154,  54.935000,143.8500000,        384,     2.9,   8.0456,  29.4074,2,  29.6965,2, 249.2000,2,   330.2,1, -999.00,9, -999.00,9, -999.00,9, -999.00,9, -999.00,   8.0453
90CI20000602,     ------,     102,          1,          4,          4,2,20000627,       0154,  54.935000,143.8500000,        384,    18.4,   1.9445,  32.3767,2,  32.3639,2, 394.3000,2,   396.1,1, -999.00,9, -999.00,9, -999.00,9, -999.00,9, -999.00,   1.9437
90CI20000602,     ------,     102,          1,          3,          3,2,20000627,       0154,  54.935000,143.8500000,        384,   214.2,   0.9597,  33.3926,2,  33.3906,2, 176.8000,2,   177.1,1, -999.00,9, -999.00,9, -999.00,9, -999.00,9, -999.00,   0.9505
90CI20000602,     ------,     102,          1,          2,          2,2,20000627,       0154,  54.935000,143.8500000,        384,   289.5,  -0.7701,  33.3427,2,  33.3411,2, 271.8000,2,   273.8,1, -999.00,9, -999.00,9, -999.00,9, -999.00,9, -999.00,  -0.7785
90CI20000602,     ------,     102,          1,          1,          1,2,20000627,       0154,  54.935000,143.8500000,        384,   377.9,  -0.8555,  33.3908,2,  33.3896,2, 267.0000,2,   270.0,1, -999.00,9, -999.00,9, -999.00,9, -999.00,9, -999.00,  -0.8665
90CI20000602,     ------,     103,          1,         24,         24,2,20000627,       0301,  54.951667,143.9250000,        603,     3.0,   3.9500,  31.8244,2,  31.8311,2, 423.5000,2,   414.1,1, -999.00,9, -999.00,9, -999.00,9, -999.00,9, -999.00,   3.9498
90CI20000602,     ------,     103,          1,          3,          3,2,20000627,       0301,  54.951667,143.9250000,        603,   490.0,   1.9352,  33.7761,2,  33.7751,2,  98.0000,2,    98.0,1, -999.00,9, -999.00,9, -999.00,9, -999.00,9, -999.00,   1.9087
90CI20000602,     ------,     103,          1,          2,          2,2,20000627,       0301,  54.951667,143.9250000,        603,   502.4,   1.4033,  33.7387,2,  33.7404,2, 127.3000,2,   127.6,1, -999.00,9, -999.00,9, -999.00,9, -999.00,9, -999.00,   1.3783
90CI20000602,     ------,     103,          1,          1,          1,2,20000627,       0301,  54.951667,143.9250000,        603,   590.0,   1.9435,  33.9309,2,  33.9263,2,  84.1000,2,    85.0,1, -999.00,9, -999.00,9, -999.00,9, -999.00,9, -999.00,   1.9110
90CI20000602,     ------,     104,          1,          7,          7,2,20000627,       1445,  54.000000,143.3283333,         94,     3.1,  10.0747,  26.9318,2,  27.3153,2, 331.4000,2,   326.5,1,    4.11,2,    0.07,2,    0.01,2,    0.04,2, -999.00,  10.0744
90CI20000602,     ------,     104,          1,          6,          6,2,20000627,       1445,  54.000000,143.3283333,         94,     9.0,   4.3117,  31.2797,2,  31.2119,2, 371.9000,2,   383.1,1,    1.47,2,    0.08,2,    0.00,2,    0.16,2, -999.00,   4.3112
90CI20000602,     ------,     104,          1,          5,          5,2,20000627,       1445,  54.000000,143.3283333,         94,    18.7,   1.8538,  32.2225,2,  32.2318,2, 400.3000,2,   420.2,1,    1.27,2,    0.21,2,    0.02,2,    0.32,2, -999.00,   1.8530
90CI20000602,     ------,     104,          1,          4,          4,2,20000627,       1445,  54.000000,143.3283333,         94,    28.4,  -0.8121,  32.8022,2,  32.8020,2, 392.6000,2,   375.5,1,    4.51,2,    6.22,2,    0.09,2,    0.92,2, -999.00,  -0.8129
90CI20000602,     ------,     104,          1,          3,          3,2,20000627,       1445,  54.000000,143.3283333,         94,    48.4,  -1.6210,  33.3193,2,  33.3185,2, 311.6000,2,   317.4,1,   21.89,2,   15.40,2,    0.13,2,    1.68,2, -999.00,  -1.6219
90CI20000602,     ------,     104,          1,          2,          2,2,20000627,       1445,  54.000000,143.3283333,         94,    74.1,  -1.6210,  33.3198,2,  33.3199,2, 309.8000,2,   317.2,1,   22.09,2,   15.46,2,    0.12,2,    1.68,2, -999.00,  -1.6224
90CI20000602,     ------,     104,          1,          1,          1,2,20000627,       1445,  54.000000,143.3283333,         94,    88.0,  -1.6219,  33.3203,2,  33.3224,2, 310.5000,2,   317.5,1,   22.29,2,   15.46,2,    0.12,2,    1.69,2, -999.00,  -1.6236
90CI20000602,     ------,     105,          1,          8,          8,2,20000627,       1612,  54.000000,143.5833333,        108,     2.4,   9.7492,  26.8347,2,-999.0000,9, 322.2000,2,  -999.0,9, -999.00,9, -999.00,9, -999.00,9, -999.00,9, -999.00,   9.7489
90CI20000602,     ------,     105,          1,          7,          7,2,20000627,       1612,  54.000000,143.5833333,        108,     2.5,   9.6837,  26.8917,2,  26.6505,2, 324.2000,2,   323.5,1,    5.97,2,    0.25,2,    0.01,2,    0.06,2, -999.00,   9.6834
90CI20000602,     ------,     105,          1,          6,          6,2,20000627,       1612,  54.000000,143.5833333,        108,     8.9,   5.8025,  30.5524,2,  30.6860,2, 357.5000,2,   363.2,1,    2.11,2,    0.12,2,    0.00,2,    0.13,2, -999.00,   5.8018
90CI20000602,     ------,     105,          1,          5,          5,2,20000627,       1612,  54.000000,143.5833333,        108,    18.6,   2.1171,  32.1627,2,  32.1470,2, 417.4000,2,   422.8,1,    1.51,2,    0.16,2,    0.00,2,    0.25,2, -999.00,   2.1162
90CI20000602,     ------,     105,          1,          4,          4,2,20000627,       1612,  54.000000,143.5833333,        108,    28.6,   0.6093,  32.6356,2,  32.6931,2, 398.4000,2,   356.9,1,    4.74,2,    8.77,2,    0.09,2,    1.00,2, -999.00,   0.6082
90CI20000602,     ------,     105,          1,          3,          3,2,20000627,       1612,  54.000000,143.5833333,        108,    48.8,  -1.3270,  33.2605,2,  33.2583,2, 300.0000,2,   301.8,1,   33.18,2,   19.30,2,    0.12,2,    1.89,2, -999.00,  -1.3281
90CI20000602,     ------,     105,          1,          2,          2,2,20000627,       1612,  54.000000,143.5833333,        108,    74.1,  -1.4040,  33.2807,2,  33.2754,2, 296.6000,2,   304.5,1,   29.14,2,   18.25,2,    0.12,2,    1.84,2, -999.00,  -1.4055
90CI20000602,     ------,     105,          1,          1,          1,2,20000627,       1612,  54.000000,143.5833333,        108,   100.1,  -1.4837,  33.2992,2,  33.2990,2, 301.0000,2,   310.2,1,   23.09,2,   16.44,2,    0.12,2,    1.75,2, -999.00,  -1.4857
90CI20000602,     ------,     106,          1,          9,          9,2,20000627,       1738,  54.000000,143.8316667,        139,     2.8,   9.0007,  28.0547,2,  27.9727,2, 334.7000,2,  -999.0,9,    7.00,2,    0.11,2,    0.01,2,    0.11,2, -999.00,   9.0004
90CI20000602,     ------,     106,          1,         10,         10,2,20000627,       1738,  54.000000,143.8316667,        139,     2.9,   8.9891,  28.0570,2,-999.0000,9, 336.4000,2,  -999.0,9, -999.00,9, -999.00,9, -999.00,9, -999.00,9, -999.00,   8.9888
90CI20000602,     ------,     106,          1,          8,          8,2,20000627,       1738,  54.000000,143.8316667,        139,     9.3,   6.1291,  30.6117,2,  30.9971,2, 350.5000,2,  -999.0,9,    2.55,2,    0.10,2,    0.01,2,    0.13,2, -999.00,   6.1284
90CI20000602,     ------,     106,          1,          7,          7,2,20000627,       1738,  54.000000,143.8316667,        139,    18.3,   2.9487,  32.1046,2,  32.0518,2, 418.4000,2,  -999.0,9,    1.75,2,    0.20,2,    0.01,2,    0.25,2, -999.00,   2.9477
90CI20000602,     ------,     106,          1,          6,          6,2,20000627,       1738,  54.000000,143.8316667,        139,    28.7,  -0.0773,  32.9056,2,  32.8683,2, 366.6000,2,  -999.0,9,   15.04,2,   13.83,2,    0.10,2,    1.38,2, -999.00,  -0.0782
90CI20000602,     ------,     106,          1,          5,          5,2,20000627,       1738,  54.000000,143.8316667,        139,    48.6,  -0.5188,  33.1843,2,  33.1725,2, 283.1000,2,  -999.0,9,   44.02,2,   22.44,2,    0.10,2,    2.02,2, -999.00,  -0.5202
90CI20000602,     ------,     106,          1,          4,          4,2,20000627,       1738,  54.000000,143.8316667,        139,    73.9,  -0.5991,  33.2388,2,  33.2382,2, 263.9000,2,  -999.0,9,   49.04,2,   23.63,2,    0.09,2,    2.12,2, -999.00,  -0.6011
90CI20000602,     ------,     106,          1,          3,          3,2,20000627,       1738,  54.000000,143.8316667,        139,    99.0,  -0.6645,  33.2378,2,  33.2361,2, 266.3000,2,  -999.0,9,   47.62,2,   23.20,2,    0.10,2,    2.11,2, -999.00,  -0.6672
90CI20000602,     ------,     106,          1,          2,          2,2,20000627,       1738,  54.000000,143.8316667,        139,   119.4,  -0.7900,  33.2372,2,  33.2359,2, 274.5000,2,  -999.0,9,   45.80,2,   22.47,2,    0.10,2,    2.08,2, -999.00,  -0.7932
90CI20000602,     ------,     106,          1,          1,          1,2,20000627,       1738,  54.000000,143.8316667,        139,   129.6,  -0.8262,  33.2371,2,  33.2363,2, 277.2000,2,  -999.0,9,   45.39,2,   22.42,2,    0.10,2,    2.07,2, -999.00,  -0.8296
90CI20000602,     ------,     107,          1,         14,         14,2,20000627,       1917,  54.001667,143.9933333,        410,     3.1,   9.0020,  28.6873,2,  28.7576,2, 310.1000,2,   312.6,1,    3.07,2,    0.03,2,    0.00,2,    0.06,2, -999.00,   9.0017
90CI20000602,     ------,     107,          1,         13,         13,2,20000627,       1917,  54.001667,143.9933333,        410,     8.4,   5.6488,  31.2293,2,  31.2079,2, 352.3000,2,   371.3,1,    1.04,2,    0.03,2,    0.00,2,    0.13,2, -999.00,   5.6481
90CI20000602,     ------,     107,          1,         12,         12,2,20000627,       1917,  54.001667,143.9933333,        410,    18.0,   3.0995,  32.1201,2,  32.1263,2, 411.8000,2,   420.2,1,    0.42,2,    0.69,2,    0.05,2,    0.24,2, -999.00,   3.0985
90CI20000602,     ------,     107,          1,         11,         11,2,20000627,       1917,  54.001667,143.9933333,        410,    27.3,   0.9050,  32.5353,2,  32.5403,2, 401.9000,2,   387.4,1,    1.81,2,    8.57,2,    0.14,2,    0.86,2, -999.00,   0.9040
90CI20000602,     ------,     107,          1,         10,         10,2,20000627,       1917,  54.001667,143.9933333,        410,    48.8,  -0.2253,  32.8534,2,  32.8557,2, 343.3000,2,   342.3,1,   21.85,2,   15.72,2,    0.11,2,    1.51,2, -999.00,  -0.2268
90CI20000602,     ------,     107,          1,          9,          9,2,20000627,       1917,  54.001667,143.9933333,        410,    72.7,  -0.5471,  32.9640,2,  32.9653,2, 310.7000,2,   319.5,1,   32.27,2,   19.43,2,    0.11,2,    1.76,2, -999.00,  -0.5491
90CI20000602,     ------,     107,          1,          8,          8,2,20000627,       1917,  54.001667,143.9933333,        410,    98.2,  -0.5186,  33.0941,2,  33.0940,2, 287.8000,2,   295.0,1,   40.69,2,   22.07,2,    0.10,2,    1.96,2, -999.00,  -0.5214
90CI20000602,     ------,     107,          1,          7,          7,2,20000627,       1917,  54.001667,143.9933333,        410,   123.6,  -0.4271,  33.2042,2,  33.2033,2, 262.3000,2,   273.4,1,   48.31,2,   24.08,2,    0.09,2,    2.12,2, -999.00,  -0.4308
90CI20000602,     ------,     107,          1,          6,          6,2,20000627,       1917,  54.001667,143.9933333,        410,   150.0,   0.1614,  33.2751,2,  33.2754,2, 257.5000,2,   237.2,1,   58.35,2,   27.89,2,    0.07,2,    2.34,2, -999.00,   0.1561
90CI20000602,     ------,     107,          1,          5,          5,2,20000627,       1917,  54.001667,143.9933333,        410,   200.1,   1.3334,  33.4247,2,  33.4229,2, 169.2000,2,   161.7,1,   78.25,2,   34.04,2,    0.01,2,    2.74,2, -999.00,   1.3242
90CI20000602,     ------,     107,          1,          4,          4,2,20000627,       1917,  54.001667,143.9933333,        410,   251.5,   1.4941,  33.5076,2,  33.5087,2, 144.5000,2,   142.7,1,   83.89,2,   35.22,2,    0.00,2,    2.82,2, -999.00,   1.4820
90CI20000602,     ------,     107,          1,          3,          3,2,20000627,       1917,  54.001667,143.9933333,        410,   300.6,   0.3113,  33.4453,2,  33.4564,2, 119.4000,2,   203.9,1,   71.01,2,   29.68,2,    0.06,2,    2.53,2, -999.00,   0.2998
90CI20000602,     ------,     107,          1,          2,          2,2,20000627,       1917,  54.001667,143.9933333,        410,   350.6,  -0.2412,  33.4372,2,  33.4367,2, 231.4000,2,   237.4,1,   62.76,2,   26.36,2,    0.08,2,    2.35,2, -999.00,  -0.2532
90CI20000602,     ------,     107,          1,          1,          1,2,20000627,       1917,  54.001667,143.9933333,        410,   399.4,  -0.2670,  33.4404,2,  33.4393,2, 234.7000,2,   238.5,1,   62.56,2,   26.22,2,    0.08,2,    2.36,2, -999.00,  -0.2807
90CI20000602,     ------,     108,          1,         21,         21,2,20000627,       2116,  54.005000,144.1600000,        963,     2.2,   8.5213,  29.9810,2,  30.8292,2, 345.1000,2,   342.1,1,    1.43,2,    0.15,2,    0.00,2,    0.14,2, -999.00,   8.5211
90CI20000602,     ------,     108,          1,         20,         20,2,20000627,       2116,  54.005000,144.1600000,        963,     9.0,   4.8058,  32.2924,2,  32.3222,2, 403.0000,2,   407.6,1,    0.41,2,    0.09,2,    0.01,2,    0.22,2, -999.00,   4.8052
90CI20000602,     ------,     108,          1,         19,         19,2,20000627,       2116,  54.005000,144.1600000,        963,    18.9,   1.6638,  32.4550,2,  32.4597,2, 403.8000,2,   402.8,1,    0.39,2,    4.14,2,    0.10,2,    0.52,2, -999.00,   1.6630
90CI20000602,     ------,     108,          1,         18,         18,2,20000627,       2116,  54.005000,144.1600000,        963,    29.3,   0.4434,  32.5368,2,  32.5393,2, 368.8000,2,   368.6,1,    3.00,2,    9.76,2,    0.14,2,    1.09,2, -999.00,   0.4424
90CI20000602,     ------,     108,          1,         17,         17,2,20000627,       2116,  54.005000,144.1600000,        963,    48.7,   0.1234,  32.6529,2,  32.6579,2, 354.4000,2,   359.5,1,   13.05,2,   12.81,2,    0.15,2,    1.30,2, -999.00,   0.1218
90CI20000602,     ------,     108,          1,         16,         16,2,20000627,       2116,  54.005000,144.1600000,        963,    73.7,  -0.8058,  32.8170,2,  32.8156,2, 340.4000,2,   336.1,1,   29.75,2,   18.70,2,    0.14,2,    1.67,2, -999.00,  -0.8077
90CI20000602,     ------,     108,          1,         15,         15,2,20000627,       2116,  54.005000,144.1600000,        963,    99.3,  -0.8631,  32.9185,2,  32.9191,2, 323.7000,2,   321.8,1,   36.18,2,   21.43,2,    0.13,2,    1.83,2, -999.00,  -0.8656
90CI20000602,     ------,     108,          1,         14,         14,2,20000627,       2116,  54.005000,144.1600000,        963,   124.2,  -0.3382,  33.0347,2,  33.0324,2, 294.5000,2,   294.3,1,   43.83,2,   24.38,2,    0.11,2,    2.01,2, -999.00,  -0.3419
90CI20000602,     ------,     108,          1,         13,         13,2,20000627,       2116,  54.005000,144.1600000,        963,   150.6,   0.4310,  33.1819,2,  33.1734,2, 245.2000,2,   248.3,1,   55.52,2,   28.28,2,    0.05,2,    2.28,2, -999.00,   0.4254
90CI20000602,     ------,     108,          1,         12,         12,2,20000627,       2116,  54.005000,144.1600000,        963,   201.2,   0.9109,  33.2963,2,  33.2946,2, 211.2000,2,   207.8,1,   64.79,2,   31.19,2,    0.03,2,    2.49,2, -999.00,   0.9024
90CI20000602,     ------,     108,          1,         11,         11,2,20000627,       2116,  54.005000,144.1600000,        963,   250.4,   1.2590,  33.3908,2,  33.3918,2, 174.3000,2,   171.9,1,   74.48,2,   33.44,2,    0.01,2,    2.68,2, -999.00,   1.2476
90CI20000602,     ------,     108,          1,         10,         10,2,20000627,       2116,  54.005000,144.1600000,        963,   301.1,   1.4805,  33.4785,2,  33.4786,2, 145.4000,2,   145.6,1,   83.17,2,   34.95,2,    0.01,2,    2.80,2, -999.00,   1.4660
90CI20000602,     ------,     108,          1,          9,          9,2,20000627,       2116,  54.005000,144.1600000,        963,   358.2,   0.5880,  33.4779,2,  33.4817,2, 190.4000,2,   186.2,1,   75.08,2,   31.07,2,    0.02,2,    2.59,2, -999.00,   0.5733
90CI20000602,     ------,     108,          1,          8,          8,2,20000627,       2116,  54.005000,144.1600000,        963,   403.6,   0.5709,  33.5302,2,  33.5314,2, 186.2000,2,   187.8,1,   77.11,2,   30.59,2,    0.03,2,    2.58,2, -999.00,   0.5542
90CI20000602,     ------,     108,          1,          7,          7,2,20000627,       2116,  54.005000,144.1600000,        963,   459.1,   1.0915,  33.6661,2,  33.6619,2, 151.1000,2,   154.0,1,   91.06,2,   32.95,2,    0.04,2,    2.70,2, -999.00,   1.0701
90CI20000602,     ------,     108,          1,          6,          6,2,20000627,       2116,  54.005000,144.1600000,        963,   504.7,   1.7480,  33.7887,2,  33.7892,2, 105.3000,2,  -999.0,5,  109.11,2,   36.93,2,    0.00,2,    2.91,2, -999.00,   1.7215
90CI20000602,     ------,     108,          1,          5,          5,2,20000627,       2116,  54.005000,144.1600000,        963,   606.2,   2.2104,  33.9676,2,  33.9665,2,  68.8000,2,    68.9,1,  130.69,2,   39.76,2,    0.00,2,    3.09,2, -999.00,   2.1756
90CI20000602,     ------,     108,          1,          4,          4,2,20000627,       2116,  54.005000,144.1600000,        963,   707.7,   2.2977,  34.0759,2,  34.0747,2,  55.9000,2,    56.1,1,  142.35,2,   40.70,2,    0.00,2,    3.11,2, -999.00,   2.2558
90CI20000602,     ------,     108,          1,          3,          3,2,20000627,       2116,  54.005000,144.1600000,        963,   806.5,   2.3772,  34.1638,2,  34.1614,2,  45.5000,2,    46.0,1,  152.82,2,   41.29,2,    0.00,2,    3.14,2, -999.00,   2.3282
90CI20000602,     ------,     108,          1,          2,          2,2,20000627,       2116,  54.005000,144.1600000,        963,   908.4,   2.3639,  34.2078,2,  34.2066,2,  42.6000,2,    42.3,1,  159.63,2,   41.49,2,    0.00,2,    3.16,2, -999.00,   2.3079
90CI20000602,     ------,     108,          1,          1,          1,2,20000627,       2116,  54.005000,144.1600000,        963,   962.0,   2.3759,  34.2161,2,  34.2154,2,  41.0000,2,    40.8,1,  161.51,2,   41.50,2,    0.01,2,    3.17,2, -999.00,   2.3160