BOTTLE,20121207CCHSIOMYS
EXPOCODE,SECT_ID,STNNBR,CASTNO,SAMPNO,BTLNBR,BTLNBR_FLAG_W,DATE,TIME,LATITUDE,LONGITUDE,DEPTH,CTDPRS,CTDTMP,CTDSAL,CTDSAL_FLAG_W,SALNTY,SALNTY_FLAG_W,CTDOXY,CTDOXY_FLAG_W,OXYGEN,OXYGEN_FLAG_W,SILCAT,SILCAT_FLAG_W,NITRAT,NITRAT_FLAG_W,NITRIT,NITRIT_FLAG_W,PHSPHT,PHSPHT_FLAG_W,CTDRAW,THETA
,,,,,,,,,,,,DBAR,ITS-90,PSS-78,,PSS-78,,UMOL/KG,,UMOL/KG,,UMOL/KG,,UMOL/KG,,UMOL/KG,,UMOL/KG,,DBAR,DEG C
90CI20000602,     ------,     109,          1,         21,         21,2,20000628,       2345,  54.003333,144.3333333,       1210,     2.5,   5.9008,  32.4126,2,-999.0000,9, 368.8000,2,  -999.0,9, -999.00,9, -999.00,9, -999.00,9, -999.00,9, -999.00,   5.9006
90CI20000602,     ------,     109,          1,         20,         20,2,20000628,       2345,  54.003333,144.3333333,       1210,     2.6,   5.9051,  32.4123,2,  32.4220,2, 369.4000,2,   374.5,1,    0.79,2,    0.04,2,    0.01,2,    0.24,2, -999.00,   5.9049
90CI20000602,     ------,     109,          1,         19,         19,2,20000628,       2345,  54.003333,144.3333333,       1210,    10.4,   4.9085,  32.5183,2,  32.4882,2, 394.5000,2,   387.8,1,    1.07,2,    0.26,2,    0.02,2,    0.29,2, -999.00,   4.9078
90CI20000602,     ------,     109,          1,         18,         18,2,20000628,       2345,  54.003333,144.3333333,       1210,    19.7,   3.8597,  32.6013,2,  32.6086,2, 388.2000,2,   389.0,1,    1.06,2,    3.77,2,    0.10,2,    0.55,2, -999.00,   3.8584
90CI20000602,     ------,     109,          1,         17,         17,2,20000628,       2345,  54.003333,144.3333333,       1210,    29.9,   2.5359,  32.6312,2,  32.6290,2, 387.5000,2,   386.0,1,    1.64,2,    7.32,2,    0.15,2,    0.77,2, -999.00,   2.5344
90CI20000602,     ------,     109,          1,         16,         16,2,20000628,       2345,  54.003333,144.3333333,       1210,    49.9,   0.5090,  32.6569,2,  32.6620,2, 362.1000,2,   363.0,1,   21.02,2,   13.88,2,    0.16,2,    1.32,2, -999.00,   0.5071
90CI20000602,     ------,     109,          1,         15,         15,2,20000628,       2345,  54.003333,144.3333333,       1210,    75.2,  -1.4792,  32.7786,2,  32.7866,2, 351.1000,2,   354.8,1,   28.54,2,   17.39,2,    0.24,2,    1.59,2, -999.00,  -1.4806
90CI20000602,     ------,     109,          1,         14,         14,2,20000628,       2345,  54.003333,144.3333333,       1210,    98.5,  -1.5744,  32.8390,2,  32.8418,2, 341.4000,2,   348.8,1,   29.97,2,   18.39,2,    0.23,2,    1.62,2, -999.00,  -1.5762
90CI20000602,     ------,     109,          1,         13,         13,2,20000628,       2345,  54.003333,144.3333333,       1210,   124.0,  -0.5420,  33.0474,2,  33.0467,2, 296.2000,2,   293.4,1,   43.27,2,   24.04,2,    0.04,2,    2.00,2, -999.00,  -0.5456
90CI20000602,     ------,     109,          1,         12,         12,2,20000628,       2345,  54.003333,144.3333333,       1210,   150.3,   0.4514,  33.2517,2,  33.2508,2, 242.8000,2,   226.1,1,   58.02,2,   29.67,2,    0.02,2,    2.41,2, -999.00,   0.4457
90CI20000602,     ------,     109,          1,         11,         11,2,20000628,       2345,  54.003333,144.3333333,       1210,   200.3,   0.8481,  33.3530,2,  33.3655,2, 190.0000,2,   186.4,1,   67.56,2,   32.70,2,    0.04,2,    2.65,2, -999.00,   0.8397
90CI20000602,     ------,     109,          1,         10,         10,2,20000628,       2345,  54.003333,144.3333333,       1210,   250.8,   0.9720,  33.4234,2,  33.4243,2, 162.9000,2,   165.9,1,   72.46,2,   33.98,2,    0.00,2,    2.75,2, -999.00,   0.9612
90CI20000602,     ------,     109,          1,          9,          9,2,20000628,       2345,  54.003333,144.3333333,       1210,   301.6,   1.4857,  33.5200,2,  33.5199,2, 130.6000,2,   138.5,1,   81.72,2,   35.70,2,    0.00,2,    2.85,2, -999.00,   1.4712
90CI20000602,     ------,     109,          1,          8,          8,2,20000628,       2345,  54.003333,144.3333333,       1210,   403.3,   1.7078,  33.6451,2,  33.6444,2, 118.6000,2,   119.4,1,   92.14,2,   36.52,2,    0.00,2,    2.87,2, -999.00,   1.6871
90CI20000602,     ------,     109,          1,          7,          7,2,20000628,       2345,  54.003333,144.3333333,       1210,   501.0,   1.8337,  33.7849,2,  33.7840,2, 100.5000,2,   101.3,1,  105.47,2,   37.76,2,    0.00,2,    2.93,2, -999.00,   1.8070
90CI20000602,     ------,     109,          1,          6,          6,2,20000628,       2345,  54.003333,144.3333333,       1210,   605.0,   2.2661,  33.9781,2,  33.9775,2,  64.2000,2,    64.6,1,  126.70,2,   40.31,2,    0.00,2,    3.07,2, -999.00,   2.2310
90CI20000602,     ------,     109,          1,          5,          5,2,20000628,       2345,  54.003333,144.3333333,       1210,   706.2,   2.4087,  34.1020,2,  34.1035,2,  49.6000,2,    47.6,1,  141.28,2,   41.27,2,    0.00,2,    3.12,2, -999.00,   2.3662
90CI20000602,     ------,     109,          1,          4,          4,2,20000628,       2345,  54.003333,144.3333333,       1210,   807.3,   2.3900,  34.1858,2,  34.1841,2,  44.5000,2,    43.2,1,  155.33,2,   41.12,2,    0.00,2,    3.15,2, -999.00,   2.3408
90CI20000602,     ------,     109,          1,          3,          3,2,20000628,       2345,  54.003333,144.3333333,       1210,   907.8,   2.4339,  34.2555,2,  34.2559,2,  35.1000,2,    34.2,1,  161.19,2,   41.89,2,    0.00,2,    3.19,2, -999.00,   2.3774
90CI20000602,     ------,     109,          1,          2,          2,2,20000628,       2345,  54.003333,144.3333333,       1210,  1011.0,   2.3932,  34.3531,2,  34.3532,2,  28.3000,2,    28.3,1,  177.11,2,   41.99,2,    0.00,2,    3.20,2, -999.00,   2.3295
90CI20000602,     ------,     109,          1,          1,          1,2,20000628,       2345,  54.003333,144.3333333,       1210,  1175.5,   2.3408,  34.4071,2,  34.4078,2,  24.0000,2,    24.6,1,  199.42,2,   41.19,2,    0.02,2,    3.24,2, -999.00,   2.2656
90CI20000602,     ------,     110,          1,         21,         21,2,20000628,       0503,  54.008333,144.8350000,       1441,     2.0,   6.5776,  32.4435,2,  32.4543,2, 358.6000,2,   356.3,1,    1.01,2,    0.87,2,    0.04,2,    0.31,2, -999.00,   6.5775
90CI20000602,     ------,     110,          1,         20,         20,2,20000628,       0503,  54.008333,144.8350000,       1441,     8.8,   6.0995,  32.4310,2,  32.4529,2, 356.2000,2,   362.8,1,    0.70,2,    0.82,2,    0.04,2,    0.31,2, -999.00,   6.0988
90CI20000602,     ------,     110,          1,         19,         19,2,20000628,       0503,  54.008333,144.8350000,       1441,    18.3,   3.7929,  32.5092,2,  32.5149,2, 389.3000,2,   398.6,1,    1.27,2,    4.84,2,    0.11,2,    0.54,2, -999.00,   3.7918
90CI20000602,     ------,     110,          1,         18,         18,2,20000628,       0503,  54.008333,144.8350000,       1441,    29.0,   0.7684,  32.6227,2,  32.6297,2, 365.1000,2,   364.1,1,   21.53,2,   13.52,2,    0.15,2,    1.30,2, -999.00,   0.7673
90CI20000602,     ------,     110,          1,         17,         17,2,20000628,       0503,  54.008333,144.8350000,       1441,    48.3,  -1.3376,  32.7579,2,  32.7665,2, 357.5000,2,   354.6,1,   27.31,2,   16.75,2,    0.24,2,    1.55,2, -999.00,  -1.3386
90CI20000602,     ------,     110,          1,         16,         16,2,20000628,       0503,  54.008333,144.8350000,       1441,    74.2,  -1.6026,  32.8168,2,  32.8236,2, 327.8000,2,   351.4,1,   29.02,2,   17.93,2,    0.25,2,    1.60,2, -999.00,  -1.6040
90CI20000602,     ------,     110,          1,         15,         15,2,20000628,       0503,  54.008333,144.8350000,       1441,    99.1,  -1.1690,  32.9412,2,  32.9460,2, 323.6000,2,   322.9,1,   35.66,2,   21.28,2,    0.08,2,    1.79,2, -999.00,  -1.1713
90CI20000602,     ------,     110,          1,         14,         14,2,20000628,       0503,  54.008333,144.8350000,       1441,   125.7,   0.0692,  33.1970,2,  33.1974,2, 248.9000,2,   246.0,1,   52.72,2,   27.86,2,    0.03,2,    2.29,2, -999.00,   0.0649
90CI20000602,     ------,     110,          1,         13,         13,2,20000628,       0503,  54.008333,144.8350000,       1441,   150.3,   0.3804,  33.2612,2,  33.2615,2, 221.7000,2,   224.8,1,   57.62,2,   29.63,2,    0.02,2,    2.41,2, -999.00,   0.3748
90CI20000602,     ------,     110,          1,         12,         12,2,20000628,       0503,  54.008333,144.8350000,       1441,   200.0,   0.6809,  33.3460,2,  33.3517,2, 187.7000,2,   194.1,1,   65.71,2,   31.97,2,    0.03,2,    2.59,2, -999.00,   0.6728
90CI20000602,     ------,     110,          1,         11,         11,2,20000628,       0503,  54.008333,144.8350000,       1441,   251.8,   0.7867,  33.4036,2,  33.4071,2, 172.2000,2,   176.8,1,   70.32,2,   33.12,2,    0.07,2,    2.70,2, -999.00,   0.7762
90CI20000602,     ------,     110,          1,         10,         10,2,20000628,       0503,  54.008333,144.8350000,       1441,   300.7,   0.9818,  33.4730,2,  33.4763,2, 156.1000,2,   159.7,1,   76.09,2,   34.08,2,    0.01,2,    2.77,2, -999.00,   0.9686
90CI20000602,     ------,     110,          1,          9,          9,2,20000628,       0503,  54.008333,144.8350000,       1441,   402.3,   1.4080,  33.6306,2,  33.6328,2, 131.1000,2,   132.9,1,   89.40,2,   35.44,2,    0.00,2,    2.82,2, -999.00,   1.3884
90CI20000602,     ------,     110,          1,          8,          8,2,20000628,       0503,  54.008333,144.8350000,       1441,   503.4,   1.8826,  33.8280,2,  33.8297,2, 102.2000,2,    94.4,1,  111.74,2,   38.32,2,    0.00,2,    2.97,2, -999.00,   1.8555
90CI20000602,     ------,     110,          1,          7,          7,2,20000628,       0503,  54.008333,144.8350000,       1441,   605.4,   2.1893,  33.9768,2,  33.9779,2,  68.7000,2,    67.9,1,  127.44,2,   40.10,2,    0.00,2,    3.07,2, -999.00,   2.1546
90CI20000602,     ------,     110,          1,          6,          6,2,20000628,       0503,  54.008333,144.8350000,       1441,   707.3,   2.3224,  34.0930,2,  34.0949,2,  51.8000,2,    50.6,1,  141.43,2,   41.21,2,    0.00,2,    3.14,2, -999.00,   2.2803
90CI20000602,     ------,     110,          1,          5,          5,2,20000628,       0503,  54.008333,144.8350000,       1441,   808.2,   2.3922,  34.1927,2,  34.1866,2,  40.4000,2,    39.2,1,  154.01,2,   41.84,2,    0.00,2,    3.17,2, -999.00,   2.3428
90CI20000602,     ------,     110,          1,          4,          4,2,20000628,       0503,  54.008333,144.8350000,       1441,   907.7,   2.4084,  34.2632,2,  34.2641,2,  34.3000,2,    33.2,1,  162.51,2,   42.08,2,    0.00,2,    3.20,2, -999.00,   2.3520
90CI20000602,     ------,     110,          1,          3,          3,2,20000628,       0503,  54.008333,144.8350000,       1441,  1012.3,   2.4193,  34.3335,2,  34.3342,2,  30.1000,2,    29.6,1,  171.03,2,   42.17,2,    0.00,2,    3.20,2, -999.00,   2.3554
90CI20000602,     ------,     110,          1,          2,          2,2,20000628,       0503,  54.008333,144.8350000,       1441,  1214.1,   2.3604,  34.3962,2,  34.3984,2,  27.3000,2,    28.3,1,  184.03,2,   42.06,2,    0.00,2,    3.20,2, -999.00,   2.2822
90CI20000602,     ------,     110,          1,          1,          1,2,20000628,       0503,  54.008333,144.8350000,       1441,  1421.4,   2.3415,  34.4201,2,  34.4217,2,  22.9000,2,    24.4,1,  203.11,2,   41.53,2,    0.00,2,    3.24,2, -999.00,   2.2478
90CI20000602,     ------,     111,          1,         24,         24,2,20000702,       1039,  46.413333,149.6116667,       3295,     2.9,   8.1342,  32.4137,2,  32.4268,2, 296.0000,2,   366.7,1,    5.42,2,    1.52,2,    0.08,2,    0.49,2, -999.00,   8.1340
90CI20000602,     ------,     111,          1,         23,         23,2,20000702,       1039,  46.413333,149.6116667,       3295,    11.0,   5.6126,  32.4546,2,  32.5524,2, 367.8000,2,   367.7,1,    3.98,2,    1.84,2,    0.07,2,    0.52,2, -999.00,   5.6117
90CI20000602,     ------,     111,          1,         22,         22,2,20000702,       1039,  46.413333,149.6116667,       3295,    28.9,   4.2185,  32.5381,2,  32.4551,2, 361.7000,2,   344.0,1,   17.47,2,    7.94,2,    0.15,2,    0.95,2, -999.00,   4.2165
90CI20000602,     ------,     111,          1,         21,         21,2,20000702,       1039,  46.413333,149.6116667,       3295,    49.4,   1.2077,  32.8339,2,  32.8355,2, 325.3000,2,   319.4,1,   35.59,2,   17.78,2,    0.27,2,    1.60,2, -999.00,   1.2056
90CI20000602,     ------,     111,          1,         20,         20,2,20000702,       1039,  46.413333,149.6116667,       3295,    74.2,   1.0408,  32.9567,2,  32.9554,2, 292.5000,2,   301.5,1,   40.80,2,   20.25,2,    0.23,2,    1.78,2, -999.00,   1.0377
90CI20000602,     ------,     111,          1,         19,         19,2,20000702,       1039,  46.413333,149.6116667,       3295,    99.4,   0.7010,  33.0201,2,  33.0233,2, 280.6000,2,   292.3,1,   43.80,2,   22.25,2,    0.11,2,    1.86,2, -999.00,   0.6972
90CI20000602,     ------,     111,          1,         18,         18,2,20000702,       1039,  46.413333,149.6116667,       3295,   124.7,   0.8775,  33.0594,2,  33.0616,2, 275.9000,2,   285.0,1,   45.99,2,   22.70,2,    0.17,2,    1.91,2, -999.00,   0.8724
90CI20000602,     ------,     111,          1,         17,         17,2,20000702,       1039,  46.413333,149.6116667,       3295,   148.6,   0.5046,  33.0598,2,  33.0534,2, 285.7000,2,   289.3,1,   44.15,2,   22.49,2,    0.14,2,    1.90,2, -999.00,   0.4990
90CI20000602,     ------,     111,          1,         16,         16,2,20000702,       1039,  46.413333,149.6116667,       3295,   200.5,   0.8209,  33.1589,2,  33.1534,2, 265.2000,2,   269.6,1,   47.49,2,   24.36,2,    0.02,2,    2.01,2, -999.00,   0.8126
90CI20000602,     ------,     111,          1,         15,         15,2,20000702,       1039,  46.413333,149.6116667,       3295,   249.9,   1.1577,  33.2524,2,  33.2481,2, 244.7000,2,   244.8,1,   53.16,2,   26.41,2,    0.02,2,    2.16,2, -999.00,   1.1466
90CI20000602,     ------,     111,          1,         14,         14,2,20000702,       1039,  46.413333,149.6116667,       3295,   300.4,   1.1334,  33.3041,2,  33.2983,2, 226.4000,2,   226.9,1,   56.15,2,   27.55,2,    0.01,2,    2.27,2, -999.00,   1.1199
90CI20000602,     ------,     111,          1,         13,         13,2,20000702,       1039,  46.413333,149.6116667,       3295,   401.7,   0.9427,  33.3799,2,  33.3778,2, 199.0000,2,   202.8,1,   61.76,2,   29.25,2,    0.01,2,    2.42,2, -999.00,   0.9249
90CI20000602,     ------,     111,          1,         12,         12,2,20000702,       1039,  46.413333,149.6116667,       3295,   502.5,   1.1819,  33.5061,2,  33.5041,2, 173.5000,2,   175.7,1,   72.02,2,   31.04,2,    0.01,2,    2.54,2, -999.00,   1.1580
90CI20000602,     ------,     111,          1,         11,         11,2,20000702,       1039,  46.413333,149.6116667,       3295,   603.8,   1.6472,  33.6830,2,  33.6769,2, 137.5000,2,   127.6,1,   93.79,2,   35.03,2,    0.00,2,    2.79,2, -999.00,   1.6156
90CI20000602,     ------,     111,          1,         10,         10,2,20000702,       1039,  46.413333,149.6116667,       3295,   705.3,   1.8911,  33.8394,2,  33.8329,2,  99.5000,2,    99.0,1,  111.37,2,   37.31,2,    0.00,2,    2.92,2, -999.00,   1.8519
90CI20000602,     ------,     111,          1,          9,          9,2,20000702,       1039,  46.413333,149.6116667,       3295,   805.4,   2.1947,  34.0278,2,  34.0212,2,  66.2000,2,    65.2,1,  134.08,2,   39.79,2,    0.00,2,    3.06,2, -999.00,   2.1471
90CI20000602,     ------,     111,          1,          8,          8,2,20000702,       1039,  46.413333,149.6116667,       3295,  1008.3,   2.3282,  34.2217,2,  34.2131,2,  45.2000,2,    46.5,1,  151.80,2,   41.18,2,    0.00,2,    3.14,2, -999.00,   2.2655
90CI20000602,     ------,     111,          1,          7,          7,2,20000702,       1039,  46.413333,149.6116667,       3295,  1210.7,   2.2918,  34.3726,2,  34.3717,2,  42.8000,2,    43.6,1,  160.57,2,   41.51,2,    0.00,2,    3.11,2, -999.00,   2.2146
90CI20000602,     ------,     111,          1,          6,          6,2,20000702,       1039,  46.413333,149.6116667,       3295,  1413.1,   2.1773,  34.4444,2,  34.4443,2,  50.9000,2,    49.8,1,  164.02,2,   41.31,2,    0.00,2,    3.07,2, -999.00,   2.0860
90CI20000602,     ------,     111,          1,          5,          5,2,20000702,       1039,  46.413333,149.6116667,       3295,  1618.8,   2.0787,  34.4930,2,  34.4903,2,  55.9000,2,    56.8,1,  167.06,2,   40.92,2,    0.00,2,    3.04,2, -999.00,   1.9726
90CI20000602,     ------,     111,          1,          4,          4,2,20000702,       1039,  46.413333,149.6116667,       3295,  2024.2,   1.9651,  34.5492,2,  34.5467,2,  66.3000,2,    66.1,1,  170.55,2,   40.29,2,    0.00,2,    3.00,2, -999.00,   1.8275
90CI20000602,     ------,     111,          1,          3,          3,2,20000702,       1039,  46.413333,149.6116667,       3295,  2533.5,   1.8683,  34.5901,2,  34.5884,2,  78.1000,2,    78.8,1,  173.37,2,   39.58,2,    0.00,2,    2.94,2, -999.00,   1.6877
90CI20000602,     ------,     111,          1,          2,          2,2,20000702,       1039,  46.413333,149.6116667,       3295,  3045.2,   1.8653,  34.6043,2,  34.6020,2,  82.1000,2,    82.1,1,  178.09,2,   39.14,2,    0.00,2,    2.96,2, -999.00,   1.6364
90CI20000602,     ------,     111,          1,          1,          1,2,20000702,       1039,  46.413333,149.6116667,       3295,  3301.1,   1.8699,  34.6101,2,  34.6099,2,  83.8000,2,    83.7,1,  180.95,2,   39.00,2,    0.00,2,    2.97,2, -999.00,   1.6154