BOTTLE,20121207CCHSIOMYS
EXPOCODE,SECT_ID,STNNBR,CASTNO,SAMPNO,BTLNBR,BTLNBR_FLAG_W,DATE,TIME,LATITUDE,LONGITUDE,DEPTH,CTDPRS,CTDTMP,CTDSAL,CTDSAL_FLAG_W,SALNTY,SALNTY_FLAG_W,CTDOXY,CTDOXY_FLAG_W,OXYGEN,OXYGEN_FLAG_W,SILCAT,SILCAT_FLAG_W,NITRAT,NITRAT_FLAG_W,NITRIT,NITRIT_FLAG_W,PHSPHT,PHSPHT_FLAG_W,CTDRAW,THETA
,,,,,,,,,,,,DBAR,ITS-90,PSS-78,,PSS-78,,UMOL/KG,,UMOL/KG,,UMOL/KG,,UMOL/KG,,UMOL/KG,,UMOL/KG,,DBAR,DEG C
90CI20000602,     ------,      81,          1,         23,         23,2,20000624,       1831,  54.998333,139.9983333,        115,     2.3,   4.5249,  31.0224,2,  31.0907,2, 374.4000,2,   386.8,1,    2.48,2,    0.16,2,    0.00,2,    0.21,2, -999.00,   4.5247
90CI20000602,     ------,      81,          1,         24,         24,2,20000624,       1831,  54.998333,139.9983333,        115,     2.4,   4.5209,  31.0240,2,-999.0000,2, 375.2000,2,  -999.0,9, -999.00,9, -999.00,9, -999.00,9, -999.00,9, -999.00,   4.5208
90CI20000602,     ------,      81,          1,         21,         21,2,20000624,       1831,  54.998333,139.9983333,        115,     8.9,   3.9713,  31.5427,2,  31.8162,2, 395.6000,2,   433.9,1,    1.87,2,    0.42,2,    0.01,2,    0.25,2, -999.00,   3.9707
90CI20000602,     ------,      81,          1,         22,         22,2,20000624,       1831,  54.998333,139.9983333,        115,     9.0,   3.9709,  31.5465,2,-999.0000,2, 395.3000,2,  -999.0,9, -999.00,9, -999.00,9, -999.00,9, -999.00,9, -999.00,   3.9703
90CI20000602,     ------,      81,          1,         19,         19,2,20000624,       1831,  54.998333,139.9983333,        115,    18.7,  -1.3326,  33.0650,2,  33.1065,2, 406.3000,2,   411.0,1,    4.83,2,    6.64,2,    0.11,2,    1.10,2, -999.00,  -1.3330
90CI20000602,     ------,      81,          1,         20,         20,2,20000624,       1831,  54.998333,139.9983333,        115,    18.7,  -1.4142,  33.0691,2,-999.0000,2, 405.7000,2,  -999.0,9, -999.00,9, -999.00,9, -999.00,9, -999.00,9, -999.00,  -1.4146
90CI20000602,     ------,      81,          1,         17,         17,2,20000624,       1831,  54.998333,139.9983333,        115,    28.9,  -1.7261,  33.2020,2,  33.2109,2, 332.9000,2,   334.3,1,   30.67,2,   19.04,2,    0.12,2,    1.94,2, -999.00,  -1.7266
90CI20000602,     ------,      81,          1,         18,         18,2,20000624,       1831,  54.998333,139.9983333,        115,    28.9,  -1.7215,  33.1922,2,-999.0000,2, 337.9000,2,  -999.0,9, -999.00,9, -999.00,9, -999.00,9, -999.00,9, -999.00,  -1.7221
90CI20000602,     ------,      81,          1,         15,         15,2,20000624,       1831,  54.998333,139.9983333,        115,    39.1,  -1.7566,  33.2574,2,  33.2714,3, 327.1000,2,   326.1,1,   37.21,2,   20.48,2,    0.07,2,    2.00,2, -999.00,  -1.7572
90CI20000602,     ------,      81,          1,         16,         16,2,20000624,       1831,  54.998333,139.9983333,        115,    39.2,  -1.7565,  33.2580,2,-999.0000,2, 327.1000,2,  -999.0,9, -999.00,9, -999.00,9, -999.00,9, -999.00,9, -999.00,  -1.7572
90CI20000602,     ------,      81,          1,         14,         14,2,20000624,       1831,  54.998333,139.9983333,        115,    48.6,  -1.7534,  33.3136,2,-999.0000,3, 322.2000,2,  -999.0,9, -999.00,9, -999.00,9, -999.00,9, -999.00,9, -999.00,  -1.7542
90CI20000602,     ------,      81,          1,         13,         13,2,20000624,       1831,  54.998333,139.9983333,        115,    48.6,  -1.7537,  33.3141,2,  33.3281,3, 322.2000,2,   320.3,1,   40.18,2,   19.98,2,    0.06,2,    2.02,2, -999.00,  -1.7546
90CI20000602,     ------,      81,          1,         12,         12,2,20000624,       1831,  54.998333,139.9983333,        115,    58.3,  -1.7487,  33.3187,2,-999.0000,3, 319.5000,2,  -999.0,9, -999.00,9, -999.00,9, -999.00,9, -999.00,9, -999.00,  -1.7498
90CI20000602,     ------,      81,          1,         11,         11,2,20000624,       1831,  54.998333,139.9983333,        115,    58.4,  -1.7477,  33.3190,2,  33.3312,3, 319.5000,2,   319.3,1,   40.56,2,   19.98,2,    0.07,2,    2.03,2, -999.00,  -1.7488
90CI20000602,     ------,      81,          1,         10,         10,2,20000624,       1831,  54.998333,139.9983333,        115,    68.2,  -1.7460,  33.3201,2,-999.0000,3, 318.6000,2,  -999.0,9, -999.00,9, -999.00,9, -999.00,9, -999.00,9, -999.00,  -1.7472
90CI20000602,     ------,      81,          1,          9,          9,2,20000624,       1831,  54.998333,139.9983333,        115,    68.3,  -1.7464,  33.3205,2,  33.3293,3, 318.6000,2,   319.0,1,   40.74,2,   19.92,2,    0.08,2,    2.04,2, -999.00,  -1.7476
90CI20000602,     ------,      81,          1,          7,          7,2,20000624,       1831,  54.998333,139.9983333,        115,    79.2,  -1.7458,  33.3199,2,  33.3281,3, 318.9000,2,   318.8,1,   40.72,2,   19.93,2,    0.07,2,    2.04,2, -999.00,  -1.7473
90CI20000602,     ------,      81,          1,          8,          8,2,20000624,       1831,  54.998333,139.9983333,        115,    79.6,  -1.7458,  33.3198,2,-999.0000,3, 318.9000,2,  -999.0,9, -999.00,9, -999.00,9, -999.00,9, -999.00,9, -999.00,  -1.7473
90CI20000602,     ------,      81,          1,          5,          5,2,20000624,       1831,  54.998333,139.9983333,        115,    89.3,  -1.7455,  33.3199,2,  33.3260,3, 319.5000,2,   319.3,1,   40.70,2,   20.02,2,    0.07,2,    2.05,2, -999.00,  -1.7471
90CI20000602,     ------,      81,          1,          6,          6,2,20000624,       1831,  54.998333,139.9983333,        115,    89.6,  -1.7454,  33.3196,2,-999.0000,3, 319.5000,2,  -999.0,9, -999.00,9, -999.00,9, -999.00,9, -999.00,9, -999.00,  -1.7470
90CI20000602,     ------,      81,          1,          3,          3,2,20000624,       1831,  54.998333,139.9983333,        115,    99.3,  -1.7448,  33.3207,2,  33.3248,2, 318.8000,2,   318.7,1,   40.68,2,   19.92,2,    0.08,2,    2.05,2, -999.00,  -1.7466
90CI20000602,     ------,      81,          1,          4,          4,2,20000624,       1831,  54.998333,139.9983333,        115,    99.4,  -1.7445,  33.3206,2,-999.0000,2, 318.8000,2,  -999.0,9, -999.00,9, -999.00,9, -999.00,9, -999.00,9, -999.00,  -1.7463
90CI20000602,     ------,      81,          1,          1,          1,2,20000624,       1831,  54.998333,139.9983333,        115,   111.3,  -1.7428,  33.3200,2,  33.3237,2, 318.4000,2,   318.4,1,   40.66,2,   19.97,2,    0.08,2,    2.06,2, -999.00,  -1.7449
90CI20000602,     ------,      81,          1,          2,          2,2,20000624,       1831,  54.998333,139.9983333,        115,   111.4,  -1.7423,  33.3203,2,-999.0000,2, 318.4000,2,  -999.0,9, -999.00,9, -999.00,9, -999.00,9, -999.00,9, -999.00,  -1.7444
90CI20000602,     ------,      82,          1,         11,         11,2,20000624,       2325,  55.000000,141.0016667,        136,     2.6,   6.2811,  32.0321,2,  31.9966,2, 338.8000,2,   513.8,1,    1.30,2,    0.07,2,    0.00,2,    0.11,2, -999.00,   6.2808
90CI20000602,     ------,      82,          1,         10,         10,2,20000624,       2325,  55.000000,141.0016667,        136,     8.5,   5.7799,  32.1695,2,  32.1786,2, 363.5000,2,   354.7,1,    1.09,2,    0.07,2,    0.00,2,    0.12,2, -999.00,   5.7792
90CI20000602,     ------,      82,          1,          9,          9,2,20000624,       2325,  55.000000,141.0016667,        136,    18.4,   1.2552,  32.4995,2,  32.4840,2, 444.1000,2,   462.3,1,    1.07,2,    0.06,2,    0.00,2,    0.27,2, -999.00,   1.2544
90CI20000602,     ------,      82,          1,          8,          8,2,20000624,       2325,  55.000000,141.0016667,        136,    28.5,  -1.5753,  33.0354,2,  33.0815,2, 412.2000,2,   320.4,1,    3.08,2,   19.25,2,    0.17,2,    1.74,2, -999.00,  -1.5758
90CI20000602,     ------,      82,          1,          7,          7,2,20000624,       2325,  55.000000,141.0016667,        136,    38.2,  -1.6523,  33.1510,2,  33.1466,2, 305.3000,2,   308.0,1,   35.65,2,   23.94,2,    0.13,2,    2.11,2, -999.00,  -1.6530
90CI20000602,     ------,      82,          1,          6,          6,2,20000624,       2325,  55.000000,141.0016667,        136,    48.8,  -1.7033,  33.1761,2,  33.1745,2, 301.5000,2,   309.2,1,   41.25,2,   24.17,2,    0.10,2,    2.14,2, -999.00,  -1.7042
90CI20000602,     ------,      82,          1,          5,          5,2,20000624,       2325,  55.000000,141.0016667,        136,    58.0,  -1.7280,  33.1920,2,  33.1926,2, 307.0000,2,   317.0,1,   40.84,2,   22.87,2,    0.08,2,    2.09,2, -999.00,  -1.7290
90CI20000602,     ------,      82,          1,          4,          4,2,20000624,       2325,  55.000000,141.0016667,        136,    78.4,  -1.7596,  33.2204,2,  33.2220,2, 328.8000,2,   328.6,1,   39.63,2,   21.35,2,    0.06,2,    2.01,2, -999.00,  -1.7610
90CI20000602,     ------,      82,          1,          3,          3,2,20000624,       2325,  55.000000,141.0016667,        136,    99.0,  -1.7661,  33.3315,2,  33.3331,2, 318.7000,2,   321.1,1,   44.02,2,   20.17,2,    0.07,2,    2.06,2, -999.00,  -1.7679
90CI20000602,     ------,      82,          1,          2,          2,2,20000624,       2325,  55.000000,141.0016667,        136,   120.1,  -1.7644,  33.3340,2,  33.3357,2, 312.4000,2,   320.7,1,   44.01,2,   20.12,2,    0.08,2,    2.06,2, -999.00,  -1.7666
90CI20000602,     ------,      82,          1,          1,          1,2,20000624,       2325,  55.000000,141.0016667,        136,   132.3,  -1.7631,  33.3346,2,  33.3372,2, 318.0000,2,   320.6,1,   44.00,2,   20.07,2,    0.08,2,    2.06,2, -999.00,  -1.7655
90CI20000602,     ------,      83,          1,          9,          9,2,20000625,       0318,  54.498333,140.9983333,         69,     1.8,  10.6702,  24.6368,2,-999.0000,9, 327.4000,2,  -999.0,9, -999.00,9, -999.00,9, -999.00,9, -999.00,9, -999.00,  10.6700
90CI20000602,     ------,      83,          1,         10,         10,2,20000625,       0318,  54.498333,140.9983333,         69,     1.9,  10.6829,  24.6619,2,-999.0000,9, 329.9000,2,  -999.0,9, -999.00,9, -999.00,9, -999.00,9, -999.00,9, -999.00,  10.6827
90CI20000602,     ------,      83,          1,          8,          8,2,20000625,       0318,  54.498333,140.9983333,         69,     2.0,   9.2678,  25.7736,2,  25.9858,2, 330.4000,2,   329.0,1,    8.02,2,    0.17,2,    0.01,2,    0.06,2, -999.00,   9.2676
90CI20000602,     ------,      83,          1,          7,          7,2,20000625,       0318,  54.498333,140.9983333,         69,     8.0,   3.5412,  31.9309,2,  31.8757,2, 415.0000,2,   434.6,1,    0.76,2,    0.08,2,    0.00,2,    0.11,2, -999.00,   3.5407
90CI20000602,     ------,      83,          1,          6,          6,2,20000625,       0318,  54.498333,140.9983333,         69,    18.0,  -1.0819,  32.7912,2,  32.8401,2, 464.2000,2,   450.3,1,    1.07,2,    3.34,2,    0.05,2,    0.70,2, -999.00,  -1.0823
90CI20000602,     ------,      83,          1,          5,          5,2,20000625,       0318,  54.498333,140.9983333,         69,    28.1,  -1.4925,  33.2128,2,  33.2133,2, 334.5000,2,   333.0,1,   23.36,2,   14.87,2,    0.13,2,    1.72,2, -999.00,  -1.4931
90CI20000602,     ------,      83,          1,          4,          4,2,20000625,       0318,  54.498333,140.9983333,         69,    37.9,  -1.5692,  33.2456,2,  33.2462,2, 329.1000,2,   331.1,1,   31.15,2,   15.61,2,    0.14,2,    1.79,2, -999.00,  -1.5699
90CI20000602,     ------,      83,          1,          3,          3,2,20000625,       0318,  54.498333,140.9983333,         69,    49.2,  -1.6011,  33.2611,2,  33.2616,2, 324.9000,2,   328.1,1,   33.75,2,   15.51,2,    0.15,2,    1.83,2, -999.00,  -1.6020
90CI20000602,     ------,      83,          1,          2,          2,2,20000625,       0318,  54.498333,140.9983333,         69,    58.2,  -1.6069,  33.2701,2,  33.2676,2, 324.5000,2,   326.5,1,   33.54,2,   15.27,2,    0.16,2,    1.83,2, -999.00,  -1.6080
90CI20000602,     ------,      83,          1,          1,          1,2,20000625,       0318,  54.498333,140.9983333,         69,    68.2,  -1.6055,  33.2686,2,  33.2680,2, 325.1000,2,   325.9,1,   33.73,2,   15.37,2,    0.16,2,    1.82,2, -999.00,  -1.6068
90CI20000602,     ------,      84,          1,          6,          6,2,20000625,       0720,  54.000000,141.0000000,         29,     2.3,  10.2998,  21.8364,2,  22.3232,2, 358.1000,2,   342.1,1,   10.33,2,    0.00,2,    0.00,2,    0.00,2, -999.00,  10.2996
90CI20000602,     ------,      84,          1,          5,          5,2,20000625,       0720,  54.000000,141.0000000,         29,     4.1,   8.8025,  23.7435,2,  24.3664,2, 361.5000,2,  -999.0,5,    8.89,2,    0.00,2,    0.00,2,    0.00,2, -999.00,   8.8022
90CI20000602,     ------,      84,          1,          4,          4,2,20000625,       0720,  54.000000,141.0000000,         29,     8.4,  -1.0866,  32.8132,2,  32.8584,2, 340.8000,2,   369.2,1,    0.80,2,    1.78,2,    0.04,2,    0.35,2, -999.00,  -1.0867
90CI20000602,     ------,      84,          1,          3,          3,2,20000625,       0720,  54.000000,141.0000000,         29,    13.1,  -1.4752,  33.1922,2,  33.2021,2, 297.7000,2,   299.8,1,    2.01,2,    8.51,2,    0.13,2,    1.16,2, -999.00,  -1.4754
90CI20000602,     ------,      84,          1,          2,          2,2,20000625,       0720,  54.000000,141.0000000,         29,    18.4,  -1.5341,  33.2676,2,  33.2653,2, 288.7000,2,   289.0,1,    2.81,2,   10.63,2,    0.13,2,    1.48,2, -999.00,  -1.5344
90CI20000602,     ------,      84,          1,          1,          1,2,20000625,       0720,  54.000000,141.0000000,         29,    26.5,  -1.5334,  33.2693,2,  33.2696,2, 288.1000,2,   287.8,1,    2.81,2,   10.58,2,    0.14,2,    1.49,2, -999.00,  -1.5339
90CI20000602,     ------,      85,          1,          7,          7,2,20000625,       1157,  54.001667,141.9950000,         40,     2.4,  11.8536,  16.6596,2,  15.8387,2, 374.6000,2,   364.3,1,   36.34,2,    0.10,2,    0.06,2,    0.10,2, -999.00,  11.8534
90CI20000602,     ------,      85,          1,          6,          6,2,20000625,       1157,  54.001667,141.9950000,         40,     4.2,  10.8257,  18.8160,2,  17.6419,2, 365.2000,2,   362.2,1,   29.79,2,    0.07,2,    0.05,2,    0.07,2, -999.00,  10.8253
90CI20000602,     ------,      85,          1,          5,          5,2,20000625,       1157,  54.001667,141.9950000,         40,     9.3,  -0.1591,  32.2916,2,  32.2006,2, 331.7000,2,   342.1,1,    2.40,2,    6.03,2,    0.09,2,    0.61,2, -999.00,  -0.1594
90CI20000602,     ------,      85,          1,          4,          4,2,20000625,       1157,  54.001667,141.9950000,         40,    14.0,  -0.8890,  32.8130,2,  32.7182,2, 299.2000,2,   310.5,1,   11.41,2,   11.65,2,    0.16,2,    1.41,2, -999.00,  -0.8893
90CI20000602,     ------,      85,          1,          3,          3,2,20000625,       1157,  54.001667,141.9950000,         40,    19.8,  -0.8939,  32.8163,2,  32.8106,2, 284.8000,2,   292.7,1,   23.02,2,   13.39,2,    0.21,2,    1.63,2, -999.00,  -0.8944
90CI20000602,     ------,      85,          1,          2,          2,2,20000625,       1157,  54.001667,141.9950000,         40,    30.1,  -0.9093,  32.8209,2,  32.8156,2, 284.4000,2,   292.1,1,   21.81,2,   13.39,2,    0.21,2,    1.63,2, -999.00,  -0.9100
90CI20000602,     ------,      85,          1,          1,          1,2,20000625,       1157,  54.001667,141.9950000,         40,    36.5,  -0.9292,  32.8259,2,  32.8213,2, 281.5000,2,   292.6,1,   21.80,2,   13.30,2,    0.21,2,    1.63,2, -999.00,  -0.9301
90CI20000602,     ------,      86,          1,          6,          6,2,20000625,       1524,  54.500000,142.0000000,         46,     2.5,  12.0550,  16.6911,2,  16.9350,2, 361.2000,2,   380.4,1,   27.19,2,    0.12,2,    0.02,2,    0.02,2, -999.00,  12.0548
90CI20000602,     ------,      86,          1,          5,          5,2,20000625,       1524,  54.500000,142.0000000,         46,     8.4,   6.8469,  24.6719,2,  23.5519,2, 335.3000,2,   327.4,1,   16.39,2,    1.34,2,    0.04,2,    0.20,2, -999.00,   6.8463
90CI20000602,     ------,      86,          1,          4,          4,2,20000625,       1524,  54.500000,142.0000000,         46,    13.3,  -0.1426,  32.4199,2,  32.4890,2, 327.1000,2,   332.2,1,    4.89,2,    6.97,2,    0.14,2,    0.64,2, -999.00,  -0.1430
90CI20000602,     ------,      86,          1,          3,          3,2,20000625,       1524,  54.500000,142.0000000,         46,    18.4,  -0.7359,  32.6708,2,  32.8839,2, 318.0000,2,   319.3,1,    2.88,2,    7.46,2,    0.13,2,    0.80,2, -999.00,  -0.7364
90CI20000602,     ------,      86,          1,          2,          2,2,20000625,       1524,  54.500000,142.0000000,         46,    28.7,  -1.6800,  33.3278,2,  33.3216,2, 284.9000,2,   288.2,1,    7.66,2,   13.27,2,    0.16,2,    1.64,2, -999.00,  -1.6805
90CI20000602,     ------,      86,          1,          1,          1,2,20000625,       1524,  54.500000,142.0000000,         46,    41.3,  -1.6815,  33.3272,2,  33.3232,2, 285.1000,2,   287.7,1,    7.85,2,   13.31,2,    0.16,2,    1.65,2, -999.00,  -1.6823
90CI20000602,     ------,      87,          1,         10,         10,2,20000625,       1923,  54.998333,141.9966667,        119,     2.7,   8.7475,  27.0418,2,  27.2037,2, 321.3000,2,   330.5,1,    5.47,2,    0.12,2,    0.01,2,    0.04,2, -999.00,   8.7472
90CI20000602,     ------,      87,          1,          9,          9,2,20000625,       1923,  54.998333,141.9966667,        119,     9.2,   5.2941,  31.4631,2,  32.8460,2, 375.2000,2,   378.8,1,    0.85,2,    0.07,2,    0.00,2,    0.11,2, -999.00,   5.2934
90CI20000602,     ------,      87,          1,          8,          8,2,20000625,       1923,  54.998333,141.9966667,        119,    18.9,   1.4072,  32.4932,2,  32.5333,2, 499.9000,2,   487.6,1,    0.64,2,    0.12,2,    0.01,2,    0.21,2, -999.00,   1.4064
90CI20000602,     ------,      87,          1,          7,          7,2,20000625,       1923,  54.998333,141.9966667,        119,    28.1,  -1.3021,  32.9771,2,  32.9663,2, 430.1000,2,   362.2,1,    0.83,2,   10.84,2,    0.21,2,    1.06,2, -999.00,  -1.3027
90CI20000602,     ------,      87,          1,          6,          6,2,20000625,       1923,  54.998333,141.9966667,        119,    38.4,  -1.1150,  33.1553,2,  33.1587,2, 283.8000,2,   266.0,1,   38.92,2,   26.70,2,    0.05,2,    2.37,2, -999.00,  -1.1159
90CI20000602,     ------,      87,          1,          5,          5,2,20000625,       1923,  54.998333,141.9966667,        119,    48.5,  -0.8557,  33.1989,2,  33.1996,2, 254.2000,2,   250.9,1,   56.87,2,   27.57,2,    0.04,2,    2.42,2, -999.00,  -0.8570
90CI20000602,     ------,      87,          1,          4,          4,2,20000625,       1923,  54.998333,141.9966667,        119,    57.9,  -1.1156,  33.2050,2,  33.2056,2, 256.4000,2,   272.8,1,   42.89,2,   25.25,2,    0.06,2,    2.26,2, -999.00,  -1.1170
90CI20000602,     ------,      87,          1,          3,          3,2,20000625,       1923,  54.998333,141.9966667,        119,    79.2,  -1.6602,  33.3086,2,  33.3158,2, 312.9000,2,   317.3,1,   42.47,2,   20.35,2,    0.10,2,    2.05,2, -999.00,  -1.6617
90CI20000602,     ------,      87,          1,          2,          2,2,20000625,       1923,  54.998333,141.9966667,        119,    99.7,  -1.7261,  33.3931,2,  33.3920,2, 317.6000,2,   318.3,1,   41.86,2,   18.44,2,    0.15,2,    2.03,2, -999.00,  -1.7280
90CI20000602,     ------,      87,          1,          1,          1,2,20000625,       1923,  54.998333,141.9966667,        119,   115.9,  -1.7256,  33.3926,2,  33.3924,2, 309.5000,2,   318.2,1,   41.85,2,   18.57,2,    0.16,2,    2.03,2, -999.00,  -1.7277