BOTTLE,20081218PRINUNIVRMKPRINUNIVRMK
EXPOCODE,SECT_ID,STNNBR,CASTNO,BTLNBR,BTLNBR_FLAG_W,DATE,LATITUDE,LONGITUDE,DEPTH,CTDPRS,CTDTMP,CTDSAL,CTDSAL_FLAG_W,SALNTY,SALNTY_FLAG_W,OXYGEN,OXYGEN_FLAG_W,SILCAT,SILCAT_FLAG_W,NITRAT,NITRAT_FLAG_W,NITRIT,NITRIT_FLAG_W,PHSPHT,PHSPHT_FLAG_W,CFC-11,CFC-11_FLAG_W,CFC-12,CFC-12_FLAG_W,CFC113,CFC113_FLAG_W,CCL4,CCL4_FLAG_W,MCHFRM,MCHFRM_FLAG_W,TCARBN,TCARBN_FLAG_W,ALKALI,ALKALI_FLAG_W,TRITUM,TRITUM_FLAG_W,HELIUM,HELIUM_FLAG_W,DELHE3,DELHE3_FLAG_W,THETA
,,,,,,,,,METERS,DBARS,ITS-90,PSS-78,,PSS-78,,UMOL/KG,,UMOL/KG,,UMOL/KG,,UMOL/KG,,UMOL/KG,,PMOL/KG,,PMOL/KG,,PMOL/KG,,PMOL/KG,,PMOL/KG,,UMOL/KG,,UMOL/KG,,TU,,NMOL/KG,,PERCNT,,DEGC
  58JH19951108,   GNS,   337,  1,     12,2,19951122, 65.0000,  -6.5010, 2080,      9.4,   4.1040,  34.8840,2,  34.8897,2,    308.2,2,     4.06,2,     9.13,2,     0.06,2,     0.63,2,    5.398,2,    2.842,2,    0.508,2,    6.805,2,   13.861,2,   2131.5,2,   2349.0,3, -999.000,9,-999.0000,9,  -999.00,9,   4.1033
  58JH19951108,   GNS,   337,  1,     11,2,19951122, 65.0000,  -6.5010, 2080,     50.7,   4.0840,  34.8940,2,  34.8997,2,    306.0,2,     4.11,2,     9.25,2,     0.06,2,     0.63,2,    5.448,2,    2.840,2,    0.505,2,    6.920,2,   14.119,2,   2136.0,2,   -999.0,9, -999.000,9,-999.0000,9,  -999.00,9,   4.0805
  58JH19951108,   GNS,   337,  1,     10,2,19951122, 65.0000,  -6.5010, 2080,     98.8,   4.1000,  34.9090,2,  34.9146,2,    304.7,2,     4.17,2,     9.43,2,     0.06,2,     0.65,2,    5.444,2,    2.819,2,    0.504,2,    6.897,2,   14.039,2,   2133.9,2,   2259.5,3, -999.000,9,-999.0000,9,  -999.00,9,   4.0931
  58JH19951108,   GNS,   337,  1,      9,2,19951122, 65.0000,  -6.5010, 2080,    199.8,   2.8480,  34.9810,2,  34.9864,2,    305.1,2,     5.81,2,    12.57,2,     0.01,2,     0.83,2,    5.604,2,    2.833,2,    0.501,2,    6.672,2,   16.542,2,   2150.3,2,   -999.0,9, -999.000,9,-999.0000,9,  -999.00,9,   2.8358
  58JH19951108,   GNS,   337,  1,      8,2,19951122, 65.0000,  -6.5010, 2080,    299.8,   1.7280,  34.9190,2,  34.9241,2,    303.4,2,     6.13,2,    12.97,2,     0.01,2,     0.86,2,    5.481,2,    2.707,2,    0.479,2,    6.609,2,   16.977,2,   2180.1,2,   -999.0,9, -999.000,9,-999.0000,9,  -999.00,9,   1.7122
  58JH19951108,   GNS,   337,  1,      7,2,19951122, 65.0000,  -6.5010, 2080,    499.4,   0.2230,  34.8890,2,  34.8936,2,    301.2,2,     6.92,2,    13.21,2,     0.01,2,     0.89,2,    4.485,2,    2.159,2,    0.360,2,    6.003,2,   14.211,2,   2174.4,2,   2261.6,3, -999.000,9,-999.0000,9,  -999.00,9,   0.2020
  58JH19951108,   GNS,   337,  1,      6,2,19951122, 65.0000,  -6.5010, 2080,    749.8,  -0.4440,  34.8880,2,  34.8922,2,    309.5,2,     7.73,2,    13.20,2,     0.01,2,     0.89,2,    3.760,2,    1.796,2,    0.291,2,    5.226,2,    11.61,2,   2178.6,2,   -999.0,9, -999.000,9,-999.0000,9,  -999.00,9,  -0.4730
  58JH19951108,   GNS,   337,  1,      5,2,19951122, 65.0000,  -6.5010, 2080,    999.8,  -0.6670,  34.9010,2,  34.9048,2,    299.9,2,     9.59,2,    13.81,2,     0.01,2,     0.94,2,    1.720,2,    0.823,2,    0.109,2,    2.941,2,    5.536,2,   2167.7,2,   2272.8,3, -999.000,9,-999.0000,9,  -999.00,9,  -0.7062
  58JH19951108,   GNS,   337,  1,      4,2,19951122, 65.0000,  -6.5010, 2080,   1254.1,  -0.7600,  34.9050,2,  34.9085,2,    296.8,2,    10.52,2,    14.07,2,     0.01,2,     0.96,2,    1.089,2,    0.539,2,    0.041,2,    2.319,2,    3.533,2,   2166.6,2,   2271.8,3, -999.000,9,-999.0000,9,  -999.00,9,  -0.8111
  58JH19951108,   GNS,   337,  1,      3,2,19951122, 65.0000,  -6.5010, 2080,   1498.6,  -0.8370,  34.9070,2,  34.9102,2,    297.7,2,    11.15,2,    14.09,2,     0.01,2,     0.97,2,    0.798,2,    0.401,2,    0.024,2,    2.001,2,    2.578,2,   2166.1,2,   -999.0,9, -999.000,9,-999.0000,9,  -999.00,9,  -0.9004
  58JH19951108,   GNS,   337,  1,      2,2,19951122, 65.0000,  -6.5010, 2080,   1747.1,  -0.8920,  34.9070,2,  34.9098,2,    296.4,2,    11.76,2,    14.36,2,     0.01,2,     0.97,2,    0.590,2,    0.306,2,    0.021,2,    1.774,2,    1.938,2,   2169.1,2,   -999.0,9, -999.000,9,-999.0000,9,  -999.00,9,  -0.9689
  58JH19951108,   GNS,   337,  1,      1,2,19951122, 65.0000,  -6.5010, 2080,   2050.3,  -0.9160,  34.9070,2,  34.9094,2,    297.7,2,    12.56,2,    14.45,2,     0.01,2,     0.98,2,    0.464,2,    0.252,2,    0.020,2,    1.557,2,    1.502,2,   2160.7,2,   -999.0,9, -999.000,9,-999.0000,9,  -999.00,9,  -1.0114
  58JH19951108,   GNS,   338,  1,     12,2,19951122, 65.0000,  -7.7500, 1720,      9.5,   3.6920,  34.6550,2,  34.6607,2,    310.0,2,     3.63,2,     8.80,2,     0.05,2,     0.61,2,    5.617,2,    2.968,2,    0.526,2,    6.914,2,   14.215,2,   2121.7,2,   -999.0,9, -999.000,9,-999.0000,9,  -999.00,9,   3.6914
  58JH19951108,   GNS,   338,  1,     11,2,19951122, 65.0000,  -7.7500, 1720,     49.4,   2.3970,  34.6730,2,  34.6785,2,    322.6,2,     3.14,2,     8.62,2,     0.07,2,     0.61,2,    6.063,2,    3.158,2,    0.566,2,    7.351,2,   15.586,2,   2154.8,2,   -999.0,9, -999.000,9,-999.0000,9,  -999.00,9,   2.3942
  58JH19951108,   GNS,   338,  1,     10,2,19951122, 65.0000,  -7.7500, 1720,     99.1,   0.8950,  34.7860,2,  34.7902,2,    319.5,2,     5.28,2,    11.43,2,     0.01,2,     0.78,2,    6.147,2,    3.062,2,    0.554,2,    7.313,2,   17.211,2,   2171.2,2,   2240.6,3, -999.000,9,-999.0000,9,  -999.00,9,   0.8907
  58JH19951108,   GNS,   338,  1,      9,2,19951122, 65.0000,  -7.7500, 1720,    200.6,   0.3960,  34.8490,2,  34.8540,2,    318.7,2,     6.00,2,    12.47,2,     0.01,2,     0.85,2,    5.911,2,    2.932,2,    0.522,2,    7.065,2,   17.314,2,   2175.5,2,   -999.0,9, -999.000,9,-999.0000,9,  -999.00,9,   0.3878
  58JH19951108,   GNS,   338,  1,      8,2,19951122, 65.0000,  -7.7500, 1720,    299.2,   0.3340,  34.8840,2,  34.8889,2,    307.8,2,     6.74,2,    13.14,2,     0.01,2,     0.89,2,    4.741,2,    2.306,2,    0.390,2,    6.018,2,   14.708,2,   2177.8,2,   2255.5,3, -999.000,9,-999.0000,9,  -999.00,9,   0.3217
  58JH19951108,   GNS,   338,  1,      7,2,19951122, 65.0000,  -7.7500, 1720,    499.9,  -0.2760,  34.8880,2,  34.8926,2,    305.1,2,     7.62,2,    13.30,2,     0.01,2,     0.91,2,    3.608,2,    1.702,2,    0.274,2,    4.893,2,   11.314,2,   2174.4,2,   -999.0,9, -999.000,9,-999.0000,9,  -999.00,9,  -0.2949
  58JH19951108,   GNS,   338,  1,      6,2,19951122, 65.0000,  -7.7500, 1720,    600.1,  -0.4350,  34.8930,2,  34.8974,2,    300.3,2,     8.32,2,    13.61,2,     0.01,2,     0.93,2,    2.821,2,    1.297,2,    0.198,2,    3.980,2,    8.924,2,   2174.7,2,   -999.0,9, -999.000,9,-999.0000,9,  -999.00,9,  -0.4575
  58JH19951108,   GNS,   338,  1,      5,2,19951122, 65.0000,  -7.7500, 1720,    800.2,  -0.6180,  34.9000,2,  34.9041,2,    297.7,2,     9.47,2,    13.74,2,     0.01,2,     0.94,2,    1.854,2,    0.876,2,    0.114,2,    3.027,2,    5.918,2,   2175.8,2,   -999.0,9, -999.000,9,-999.0000,9,  -999.00,9,  -0.6482
  58JH19951108,   GNS,   338,  1,      4,2,19951122, 65.0000,  -7.7500, 1720,    997.6,  -0.6870,  34.9020,2,  34.9058,2,    296.4,2,     9.84,2,    13.87,2,     0.01,2,     0.95,2,    1.467,2,    0.708,2,    0.054,2,    2.698,2,    4.709,2,   2173.7,2,   -999.0,9, -999.000,9,-999.0000,9,  -999.00,9,  -0.7259
  58JH19951108,   GNS,   338,  1,      3,2,19951122, 65.0000,  -7.7500, 1720,   1251.3,  -0.8130,  34.9060,2,  34.9095,2,    295.1,2,    10.88,2,    14.24,2,     0.01,2,     0.97,2,    0.878,2,    0.434,2,    0.026,2,    2.100,2,    2.838,2,   2176.3,2,   -999.0,9, -999.000,9,-999.0000,9,  -999.00,9,  -0.8634
  58JH19951108,   GNS,   338,  1,      2,2,19951122, 65.0000,  -7.7500, 1720,   1498.7,  -0.8660,  34.9060,2,  34.9092,2,    297.7,2,    11.40,2,    14.25,2,     0.01,2,     0.98,2,    0.724,2,    0.368,2,    0.024,2,    1.923,2,    2.357,2,   2172.8,2,   -999.0,9, -999.000,9,-999.0000,9,  -999.00,9,  -0.9290
  58JH19951108,   GNS,   338,  1,      1,2,19951122, 65.0000,  -7.7500, 1720,   1711.5,  -0.9020,  34.9070,2,  34.9099,2,    298.2,2,    11.83,2,    14.28,2,     0.01,2,     0.98,2,    0.619,2,    0.308,2,    0.018,2,    1.806,2,    2.047,2,   2171.8,2,   -999.0,9, -999.000,9,-999.0000,9,  -999.00,9,  -0.9767
  58JH19951108,   GNS,   339,  1,     12,2,19951122, 65.0000,  -8.9960, 1455,     11.9,   3.7900,  34.6530,2,  34.6587,2,    308.2,2,     3.73,2,     8.86,2,     0.05,2,     0.61,2,    5.468,2,    2.890,2,    0.502,2,    6.784,2,   13.818,2,   2137.3,2,   -999.0,9, -999.000,9,-999.0000,9,  -999.00,9,   3.7892
  58JH19951108,   GNS,   339,  1,     11,2,19951122, 65.0000,  -8.9960, 1455,     48.2,   3.2920,  34.6530,2,  34.6586,2,    313.5,2,     3.32,2,     8.52,2,     0.07,2,     0.60,2,    5.672,2,    2.968,2,    0.514,2,    6.991,2,   14.437,2,   2131.7,2,   -999.0,9, -999.000,9,-999.0000,9,  -999.00,9,   3.2890
  58JH19951108,   GNS,   339,  1,     10,2,19951122, 65.0000,  -8.9960, 1455,     99.4,   1.9070,  34.7930,2,  34.7984,2,    308.6,2,     5.73,2,    12.03,2,     0.02,2,     0.82,2,    5.578,2,    2.819,2,    0.509,2,    6.688,2,   15.524,2,   2155.0,2,   -999.0,9, -999.000,9,-999.0000,9,  -999.00,9,   1.9018
  58JH19951108,   GNS,   339,  1,      9,2,19951122, 65.0000,  -8.9960, 1455,    198.6,   0.9860,  34.8870,2,  34.8921,2,    310.8,2,     6.21,2,    12.88,2,     0.01,2,     0.87,2,    5.421,2,    2.699,2,    0.466,2,    6.592,2,   16.202,2,   2162.8,2,   -999.0,9, -999.000,9,-999.0000,9,  -999.00,9,   0.9769
  58JH19951108,   GNS,   339,  1,      8,2,19951122, 65.0000,  -8.9960, 1455,    299.4,   0.5770,  34.8760,2,  34.8809,2,    311.2,2,     6.35,2,    12.95,2,     0.01,2,     0.87,2, -999.000,9, -999.000,9, -999.000,9, -999.000,9,     -999,9,   2160.6,2,   -999.0,9, -999.000,9,-999.0000,9,  -999.00,9,   0.5641
  58JH19951108,   GNS,   339,  1,      7,2,19951122, 65.0000,  -8.9960, 1455,    399.2,  -0.0440,  34.8620,2,  34.8667,2,    316.9,2,     6.66,2,    12.81,2,     0.02,2,     0.88,2,    5.085,2,    2.519,2,    0.434,2,    6.405,2,   15.378,2,   2158.0,2,   -999.0,9, -999.000,9,-999.0000,9,  -999.00,9,  -0.0595
  58JH19951108,   GNS,   339,  1,      6,2,19951122, 65.0000,  -8.9960, 1455,    499.3,  -0.2300,  34.8800,2,  34.8846,2,    308.2,2,     7.34,2,    13.05,2,     0.01,2,     0.90,2,    4.003,2,    1.934,2,    0.319,2,    5.183,2,   12.765,2,   2180.5,2,   -999.0,9, -999.000,9,-999.0000,9,  -999.00,9,  -0.2491
  58JH19951108,   GNS,   339,  1,      5,2,19951122, 65.0000,  -8.9960, 1455,    598.1,  -0.2910,  34.8860,2,  34.8904,2,    304.7,2,     7.75,2,    13.17,2,     0.03,2,     0.91,2,    3.566,2,    1.701,2,    0.274,2,    4.626,2,   11.469,2,   2179.7,2,   -999.0,9, -999.000,9,-999.0000,9,  -999.00,9,  -0.3141
  58JH19951108,   GNS,   339,  1,      4,2,19951122, 65.0000,  -8.9960, 1455,    799.2,  -0.4620,  34.8950,2,  34.8991,2,    301.6,2,     8.88,2,    13.46,2,     0.02,2,     0.93,2,    2.596,2,    1.235,2,    0.196,2,    3.722,2,    8.492,2,   2169.3,2,   2251.7,3, -999.000,9,-999.0000,9,  -999.00,9,  -0.4932
  58JH19951108,   GNS,   339,  1,      3,2,19951122, 65.0000,  -8.9960, 1455,    999.0,  -0.6150,  34.9020,2,  34.9059,2,    298.6,2,    10.37,2,    13.75,2,     0.02,2,     0.95,2,    1.720,2,    0.832,2,    0.075,2,    2.786,2,    5.516,2,   2170.9,2,   -999.0,9, -999.000,9,-999.0000,9,  -999.00,9,  -0.6546
  58JH19951108,   GNS,   339,  1,      2,2,19951122, 65.0000,  -8.9960, 1455,   1200.7,  -0.6750,  34.9040,2,  34.9076,2,    295.5,2,    10.92,2,    13.91,2,     0.02,2,     0.97,2,    1.403,2,    0.696,2,    0.075,2,    2.506,2,    4.517,2,   2171.1,2,   2261.7,3, -999.000,9,-999.0000,9,  -999.00,9,  -0.7241
  58JH19951108,   GNS,   339,  1,      1,2,19951122, 65.0000,  -8.9960, 1455,   1400.8,  -0.7010,  34.9050,2,  34.9083,2,    294.7,2,    11.39,2,    14.13,2,     0.03,2,     0.98,2,    1.250,2,    0.619,2,    0.053,2,    2.376,2,    4.059,2,   2164.8,2,   2251.5,3, -999.000,9,-999.0000,9,  -999.00,9,  -0.7605
  58JH19951108,   GNS,   340,  1,     12,2,19951122, 64.9980,  -9.9990,  710,     10.4,   4.0100,  34.5580,2,  34.5637,2,    307.0,2,     3.95,2,     8.58,2,     0.07,2,     0.62,2,    5.512,2,    2.896,2,    0.521,2,    6.855,2,   14.047,2,   2130.2,2,   2267.9,3, -999.000,9,-999.0000,9,  -999.00,9,   4.0093
  58JH19951108,   GNS,   340,  1,     11,2,19951122, 64.9980,  -9.9990,  710,     30.9,   3.7990,  34.5460,2,  34.5507,2,    307.8,2,     3.83,2,     8.53,2,     0.06,2,     0.61,2,    5.563,2,    2.955,2,    0.530,2,    6.913,2,   14.235,2,   2127.6,2,   -999.0,9, -999.000,9,-999.0000,9,  -999.00,9,   3.7969
  58JH19951108,   GNS,   340,  1,     10,2,19951122, 64.9980,  -9.9990,  710,     47.2,   3.8490,  34.5630,2,  34.5686,2,    306.5,2,     3.95,2,     8.60,2,     0.05,2,     0.62,2,    5.487,2,    2.903,2,    0.520,2,    6.790,2,   14.035,2,   2125.4,2,   -999.0,9, -999.000,9,-999.0000,9,  -999.00,9,   3.8458
  58JH19951108,   GNS,   340,  1,      9,2,19951122, 64.9980,  -9.9990,  710,     98.2,   4.5600,  34.8060,2,  34.8117,2,    285.5,2,     5.76,2,    11.59,2,     0.02,2,     0.80,2,    5.005,2,    2.597,2,    0.462,2,    5.630,2,    13.53,2,   2147.8,2,   -999.0,9, -999.000,9,-999.0000,9,  -999.00,9,   4.5528
  58JH19951108,   GNS,   340,  1,      8,2,19951122, 64.9980,  -9.9990,  710,    148.6,   3.9450,  34.9630,2,  34.9685,2,    282.5,2,     7.68,2,    13.80,2,     0.02,2,     0.95,2,    4.471,2,    2.272,2,    0.392,2,    4.797,2,   12.622,2,   2159.6,2,   -999.0,9, -999.000,9,-999.0000,9,  -999.00,9,   3.9347
  58JH19951108,   GNS,   340,  1,      7,2,19951122, 64.9980,  -9.9990,  710,    198.3,   2.1530,  34.8870,2,  34.8923,2,    296.9,2,     7.44,2,    13.74,2,     0.02,2,     0.96,2,    4.987,2,    2.523,2,    0.455,2,    5.932,2,   14.258,2,   2161.9,2,   2290.8,3, -999.000,9,-999.0000,9,  -999.00,9,   2.1420
  58JH19951108,   GNS,   340,  1,      6,2,19951122, 64.9980,  -9.9990,  710,    248.8,   0.5870,  34.8680,2,  34.8730,2,    305.6,2,     8.08,2,    13.50,2,     0.02,2,     1.00,2,    4.664,2,    2.331,2,    0.408,2,    5.980,2,    13.94,2,   2163.0,2,   -999.0,9, -999.000,9,-999.0000,9,  -999.00,9,   0.5764
  58JH19951108,   GNS,   340,  1,      5,2,19951122, 64.9980,  -9.9990,  710,    298.5,  -0.0630,  34.8760,2,  34.8809,2,    305.1,2,     8.26,2,    13.36,2,     0.02,2,     0.99,2,    3.948,2,    1.901,2,    0.327,2,    5.193,2,   12.298,2,   2164.4,2,   -999.0,9, -999.000,9,-999.0000,9,  -999.00,9,  -0.0743
  58JH19951108,   GNS,   340,  1,      4,2,19951122, 64.9980,  -9.9990,  710,    397.9,  -0.3340,  34.8860,2,  34.8907,2,    301.2,2,     8.90,2,    13.47,2,     0.01,2,     0.95,2,    3.196,2,    1.524,2,    0.242,2,    4.245,2,   10.164,2,   2162.0,2,   -999.0,9, -999.000,9,-999.0000,9,  -999.00,9,  -0.3485
  58JH19951108,   GNS,   340,  1,      3,2,19951122, 64.9980,  -9.9990,  710,    500.4,  -0.4920,  34.8950,2,  34.8995,2,    296.4,2,     9.93,2,    13.66,2,     0.03,2,  -999.00,9,    2.457,2,    1.173,2,    0.174,2,    3.500,2,     7.91,2,   2161.5,2,   2269.5,3, -999.000,9,-999.0000,9,  -999.00,9,  -0.5100
  58JH19951108,   GNS,   340,  1,      2,2,19951122, 64.9980,  -9.9990,  710,    601.2,  -0.5300,  34.8960,2,  34.9004,2,    295.5,2,    10.58,2,    13.74,2,     0.02,2,     0.99,2,    2.241,2,    1.058,2,    0.151,2,    3.262,2,    7.135,2,   2160.7,2,   -999.0,9, -999.000,9,-999.0000,9,  -999.00,9,  -0.5520
  58JH19951108,   GNS,   340,  1,      1,2,19951122, 64.9980,  -9.9990,  710,    651.6,  -0.5330,  34.8960,2,  34.9003,2,    295.1,2,    10.62,2,    13.87,2,     0.03,2,  -999.00,9,    2.221,2,    1.045,2,    0.152,2,    3.261,2,    7.123,2,   2160.6,2,   2257.5,3, -999.000,9,-999.0000,9,  -999.00,9,  -0.5572
  58JH19951108,   GNS,   341,  1,     12,2,19951122, 65.0000, -11.0010,  560,     10.5,   6.3090,  34.9180,2,  34.9240,2,    285.9,2,     5.36,2,    11.08,2,     0.04,2,     0.75,2,    4.644,2,    2.491,2,    0.435,2,    5.627,2,   11.889,2,   -999.0,9,   -999.0,9, -999.000,9,-999.0000,9,  -999.00,9,   6.3081
  58JH19951108,   GNS,   341,  1,     11,2,19951122, 65.0000, -11.0010,  560,     29.9,   6.2990,  34.9140,2,  34.9199,2,    286.8,2,     5.39,2,    11.11,2,     0.05,2,     0.75,2,    4.658,2,    2.504,2,    0.437,2,    5.593,2,   11.824,2,   -999.0,9,   -999.0,9, -999.000,9,-999.0000,9,  -999.00,9,   6.2964
  58JH19951108,   GNS,   341,  1,     10,2,19951122, 65.0000, -11.0010,  560,     49.4,   6.2790,  34.9120,2,  34.9179,2,    287.3,2,     5.38,2,    11.05,2,     0.04,2,     0.76,2,    4.662,2,    2.511,2,    0.431,2,    5.634,2,   11.933,2,   -999.0,9,   -999.0,9, -999.000,9,-999.0000,9,  -999.00,9,   6.2747
  58JH19951108,   GNS,   341,  1,      9,2,19951122, 65.0000, -11.0010,  560,     73.3,   6.7030,  35.0130,2,  35.0190,2,    274.6,2,     6.34,2,    12.58,2,     0.04,2,     0.85,2,    4.334,2,    2.290,2,    0.393,2,    4.394,2,   11.572,2,   -999.0,9,   -999.0,9, -999.000,9,-999.0000,9,  -999.00,9,   6.6964
  58JH19951108,   GNS,   341,  1,      8,2,19951122, 65.0000, -11.0010,  560,     99.5,   5.4590,  34.9050,2,  34.9108,2,    277.2,2,     6.38,2,    12.25,2,     0.03,2,     0.84,2,    4.656,2,    2.433,2,    0.416,2,    4.901,2,   12.663,2,   -999.0,9,   -999.0,9, -999.000,9,-999.0000,9,  -999.00,9,   5.4509
  58JH19951108,   GNS,   341,  1,      7,2,19951122, 65.0000, -11.0010,  560,    124.4,   3.1460,  34.7420,2,  34.7475,2,    288.2,2,     6.18,2,    12.24,2,     0.04,2,     0.86,2,    5.292,2,    2.750,2,    0.488,2,    5.991,2,   14.534,2,   -999.0,9,   -999.0,9, -999.000,9,-999.0000,9,  -999.00,9,   3.1382
  58JH19951108,   GNS,   341,  1,      6,2,19951122, 65.0000, -11.0010,  560,    148.2,   3.0990,  34.8830,2,  34.8884,2,    287.7,2,     7.41,2,    13.81,2,     0.03,2,     0.96,2,    5.037,2,    2.562,2,    0.461,2,    5.666,2,    14.26,2,   -999.0,9,   -999.0,9, -999.000,9,-999.0000,9,  -999.00,9,   3.0897
  58JH19951108,   GNS,   341,  1,      5,2,19951122, 65.0000, -11.0010,  560,    198.3,   1.0280,  34.8160,2,  34.8211,2,    307.3,2,     7.33,2,    13.88,2,     0.04,2,     0.97,2,    5.699,2,    2.885,2,    0.510,2,    6.779,2,   16.198,2,   -999.0,9,   -999.0,9, -999.000,9,-999.0000,9,  -999.00,9,   1.0189
  58JH19951108,   GNS,   341,  1,      4,2,19951122, 65.0000, -11.0010,  560,    299.5,  -0.0700,  34.8550,2,  34.8598,2,    313.4,2,     7.08,2,    13.02,2,     0.03,2,     0.91,2,    4.928,2,    2.441,2,    0.432,2,    6.323,2,   14.922,2,   -999.0,9,   -999.0,9, -999.000,9,-999.0000,9,  -999.00,9,  -0.0813
  58JH19951108,   GNS,   341,  1,      3,2,19951122, 65.0000, -11.0010,  560,    401.6,  -0.2550,  34.8790,2,  34.8837,2,    313.9,2,     8.09,2,    13.32,2,     0.03,2,     0.93,2,    3.695,2,    1.768,2,    0.297,2,    4.825,2,   11.694,2,   -999.0,9,   -999.0,9, -999.000,9,-999.0000,9,  -999.00,9,  -0.2699
  58JH19951108,   GNS,   341,  1,      2,2,19951122, 65.0000, -11.0010,  560,    498.6,  -0.4420,  34.8910,2,  34.8955,2,    296.9,2,     9.93,2,    13.58,2,     0.04,2,     0.96,2,    2.737,2,    1.275,2,    0.191,2,    3.764,2,    8.849,2,   -999.0,9,   -999.0,9, -999.000,9,-999.0000,9,  -999.00,9,  -0.4602
  58JH19951108,   GNS,   341,  1,      1,2,19951122, 65.0000, -11.0010,  560,    520.0,  -0.4420,  34.8910,2,  34.8955,2,    296.4,2,     9.96,2,    13.64,2,     0.04,2,     0.96,2,    2.739,2,    1.296,2,    0.199,2,    3.758,2,    8.733,2,   -999.0,9,   -999.0,9, -999.000,9,-999.0000,9,  -999.00,9,  -0.4611
  58JH19951108,   GNS,   342,  1,   -999,2,19951122, 64.4980, -10.9970,  400,   -999.0,-999.0000,-999.0000,9,  34.8916,2,   -999.0,9,  -999.00,9,  -999.00,9,  -999.00,9,  -999.00,9, -999.000,9, -999.000,9, -999.000,9, -999.000,9,     -999,9,   -999.0,9,   -999.0,9, -999.000,9,-999.0000,9,  -999.00,9,-999.0000
  58JH19951108,   GNS,   343,  1,   -999,2,19951123, 64.5010, -10.0030,  545,   -999.0,-999.0000,-999.0000,9,  34.8916,2,   -999.0,9,  -999.00,9,  -999.00,9,  -999.00,9,  -999.00,9, -999.000,9, -999.000,9, -999.000,9, -999.000,9,     -999,9,   -999.0,9,   -999.0,9, -999.000,9,-999.0000,9,  -999.00,9,-999.0000