BOTTLE,20081218PRINUNIVRMKPRINUNIVRMK
EXPOCODE,SECT_ID,STNNBR,CASTNO,BTLNBR,BTLNBR_FLAG_W,DATE,LATITUDE,LONGITUDE,DEPTH,CTDPRS,CTDTMP,CTDSAL,CTDSAL_FLAG_W,SALNTY,SALNTY_FLAG_W,OXYGEN,OXYGEN_FLAG_W,SILCAT,SILCAT_FLAG_W,NITRAT,NITRAT_FLAG_W,NITRIT,NITRIT_FLAG_W,PHSPHT,PHSPHT_FLAG_W,CFC-11,CFC-11_FLAG_W,CFC-12,CFC-12_FLAG_W,CFC113,CFC113_FLAG_W,CCL4,CCL4_FLAG_W,MCHFRM,MCHFRM_FLAG_W,TCARBN,TCARBN_FLAG_W,ALKALI,ALKALI_FLAG_W,TRITUM,TRITUM_FLAG_W,HELIUM,HELIUM_FLAG_W,DELHE3,DELHE3_FLAG_W,THETA
,,,,,,,,,METERS,DBARS,ITS-90,PSS-78,,PSS-78,,UMOL/KG,,UMOL/KG,,UMOL/KG,,UMOL/KG,,UMOL/KG,,PMOL/KG,,PMOL/KG,,PMOL/KG,,PMOL/KG,,PMOL/KG,,UMOL/KG,,UMOL/KG,,TU,,NMOL/KG,,PERCNT,,DEGC
  58JH19951108,   GNS,   326,  2,     12,2,19951119, 66.9990,   0.0030, 3570,     10.0,   5.9200,  34.9930,2,  34.9979,2,    290.7,2,     3.91,2,     8.57,2,     0.22,2,     0.62,2,    4.795,2,    2.600,2,    0.454,2,    6.169,2,   12.233,2,   2119.7,2,   2329.3,3,    1.771,2,   0.0000,2,    -1.87,2,   5.9192
  58JH19951108,   GNS,   326,  2,     11,2,19951119, 66.9990,   0.0030, 3570,     50.1,   5.9120,  34.9900,2,  34.9959,2,    294.7,2,     3.92,2,     8.60,2,     0.21,2,     0.62,2,    4.806,2,    2.583,2,    0.462,2,    6.171,2,   12.108,2,   2108.2,2,   -999.0,9,    1.883,2,   0.0000,2,    -1.60,2,   5.9078
  58JH19951108,   GNS,   326,  2,     10,2,19951119, 66.9990,   0.0030, 3570,     98.8,   4.7000,  35.0080,2,  35.0137,2,    288.5,2,     5.77,2,    12.50,2,     0.02,2,     0.84,2,    5.030,2,    2.620,2,    0.464,2,    5.925,2,   14.011,2,   2158.5,2,   2222.4,3,    1.747,2,   0.0000,2,    -0.70,2,   4.6926
  58JH19951108,   GNS,   326,  2,      9,2,19951119, 66.9990,   0.0030, 3570,    200.6,   2.7080,  34.9350,2,  34.9403,2,    305.1,2,     6.20,2,    13.06,2,     0.03,2,     0.87,2,    5.675,2,    2.903,2,    0.523,2,    6.839,2,   16.304,2,   2157.1,2,   2250.2,3, -999.000,9,   0.0000,2,    -0.80,2,   2.6960
  58JH19951108,   GNS,   326,  2,      8,2,19951119, 66.9990,   0.0030, 3570,    301.6,   1.9100,  34.9280,2,  34.9331,2,    298.2,2,     6.33,2,    13.48,2,     0.02,2,     0.91,2, -999.000,9, -999.000,9, -999.000,9, -999.000,9,     -999,9,   2156.5,2,   -999.0,9, -999.000,9,-999.0000,9,  -999.00,9,   1.8936
  58JH19951108,   GNS,   326,  2,      7,2,19951119, 66.9990,   0.0030, 3570,    401.0,   0.9130,  34.8940,2,  34.8989,2,    302.1,2,     6.73,2,    13.61,2,     0.03,2,     0.93,2,    4.814,2,    2.379,2,    0.404,2,    5.938,2,   15.691,2,   2159.1,2,   -999.0,9, -999.000,9,-999.0000,9,  -999.00,9,   0.8942
  58JH19951108,   GNS,   326,  2,      6,2,19951119, 66.9990,   0.0030, 3570,    501.4,   0.2780,  34.8870,2,  34.8916,2,    298.6,2,     7.08,2,    13.69,2,     0.02,2,     0.93,2, -999.000,9, -999.000,9, -999.000,9, -999.000,9,     -999,9,   2179.3,2,   -999.0,9,    1.589,2,   0.0000,2,  -999.00,9,   0.2567
  58JH19951108,   GNS,   326,  2,      5,2,19951119, 66.9990,   0.0030, 3570,    600.0,  -0.0650,  34.8890,2,  34.8935,2,    299.0,2,     7.52,2,    13.70,2,     0.02,2,     0.93,2,    3.501,2,    1.654,2,    0.240,2,    4.628,2,   11.396,2,   2170.0,2,   -999.0,9, -999.000,9,   0.0000,2,     6.29,2,  -0.0893
  58JH19951108,   GNS,   326,  2,      4,2,19951119, 66.9990,   0.0030, 3570,    700.8,  -0.2510,  34.8950,2,  34.8993,2,    294.2,2,     8.09,2,    13.94,2,     0.02,2,     0.94,2,    2.691,2,    1.253,2,    0.160,2,    3.862,2,    8.567,2,   2167.7,2,   2254.3,3,    1.310,2,   0.0000,2,     7.60,2,  -0.2790
  58JH19951108,   GNS,   326,  2,      3,2,19951119, 66.9990,   0.0030, 3570,    799.9,  -0.4040,  34.8980,2,  34.9021,2,    294.2,2,     8.56,2,    14.08,2,     0.02,2,     0.96,2,    2.162,2,    1.013,2,    0.102,2,    3.410,2,    6.782,2,   2162.8,2,   -999.0,9, -999.000,9,-999.0000,9,  -999.00,9,  -0.4356
  58JH19951108,   GNS,   326,  2,      2,2,19951119, 66.9990,   0.0030, 3570,    999.9,  -0.5900,  34.9020,2,  34.9059,2,    296.4,2,     9.51,2,    14.25,2,     0.03,2,     0.97,2,    1.395,2,    0.676,2,    0.053,2,    2.754,2,    4.327,2,   2169.9,2,   -999.0,9,    0.902,2,-999.0000,9,  -999.00,9,  -0.6298
  58JH19951108,   GNS,   326,  2,      1,2,19951119, 66.9990,   0.0030, 3570,   1100.5,  -0.6610,  34.9040,2,  34.9077,2,    294.7,2,     9.89,2,    14.32,2,     0.03,2,     0.97,2,    1.103,2,    0.551,2,    0.035,2,    2.464,2,    3.432,2,   2163.0,2,   -999.0,9, -999.000,9,   0.0000,2,  -999.00,9,  -0.7052
  58JH19951108,   GNS,   326,  1,     12,2,19951119, 66.9990,   0.0030, 3570,   1300.3,  -0.7710,  34.9060,2,  34.9094,2,    293.4,2,    10.71,2,    14.44,2,     0.03,2,     0.99,2,    0.721,2,    0.379,2,    0.020,2,    2.014,2,    2.236,2,   2154.9,2,   2244.0,3,    0.614,2,   0.0000,2,     6.13,2,  -0.8244
  58JH19951108,   GNS,   326,  1,     11,2,19951119, 66.9990,   0.0030, 3570,   1501.0,  -0.8360,  34.9070,2,  34.9102,2,    296.8,2,    11.22,2,    14.44,2,     0.02,2,     0.98,2,    0.550,2,    0.305,2,    0.017,2,    1.758,2,    1.692,2,   2158.1,2,   2279.2,3, -999.000,9,   0.0000,2,     5.46,2,  -0.8995
  58JH19951108,   GNS,   326,  1,     10,2,19951119, 66.9990,   0.0030, 3570,   1699.2,  -0.8730,  34.9070,2,  34.9099,2,    295.1,2,    11.56,2,  -999.00,9,     0.02,2,     0.97,2,    0.451,2,    0.251,2,    0.018,2,    1.614,2,    1.417,2,   2194.7,2,   2234.6,3,    0.444,2,   0.0000,2,     5.23,2,  -0.9474
  58JH19951108,   GNS,   326,  1,      9,2,19951119, 66.9990,   0.0030, 3570,   1901.9,  -0.8990,  34.9070,2,  34.9096,2,    297.3,2,    11.91,2,    14.56,2,     0.02,2,     0.99,2,    0.402,2,    0.229,2,    0.019,2,    1.532,2,    1.272,2,   2189.1,2,   -999.0,9,    0.372,2,   0.0000,2,     4.71,2,  -0.9852
  58JH19951108,   GNS,   326,  1,      8,2,19951119, 66.9990,   0.0030, 3570,   2099.3,  -0.9120,  34.9070,2,  34.9094,2,    295.1,2,    12.27,2,    14.61,2,     0.03,2,     0.99,2,    0.375,2,    0.218,2,    0.017,2,    1.476,2,    1.182,2,   2178.8,2,   -999.0,9,    0.348,2,   0.0000,2,     4.97,2,  -1.0106
  58JH19951108,   GNS,   326,  1,      7,2,19951119, 66.9990,   0.0030, 3570,   2297.4,  -0.9120,  34.9070,2,  34.9091,2,    296.8,2,    12.63,2,    14.58,2,     0.02,2,     1.00,2,    0.336,2,    0.200,2,    0.017,2,    1.399,2,     1.06,2,   2180.1,2,   -999.0,9,    0.364,2,   0.0000,2,     4.04,2,  -1.0239
  58JH19951108,   GNS,   326,  1,      6,2,19951119, 66.9990,   0.0030, 3570,   2498.2,  -0.9040,  34.9070,2,  34.9089,2,    296.4,2,    12.92,2,    14.70,2,     0.02,2,     1.00,2,    0.290,2,    0.165,2,    0.017,2,    1.322,2,    0.915,2,   2172.7,2,   -999.0,9,    0.271,2,   0.0000,2,     4.03,2,  -1.0301
  58JH19951108,   GNS,   326,  1,      5,2,19951119, 66.9990,   0.0030, 3570,   2700.1,  -0.8930,  34.9080,2,  34.9086,2,    297.3,2,    13.25,2,    14.62,2,     0.02,2,     1.00,2,    0.243,2,    0.140,2,    0.016,2,    1.229,2,    0.765,2,   2174.9,2,   2245.5,3,    0.274,2,   0.0000,2,     4.05,2,  -1.0342
  58JH19951108,   GNS,   326,  1,      4,2,19951119, 66.9990,   0.0030, 3570,   2900.1,  -0.8770,  34.9080,2,  34.9094,2,    296.8,2,    13.28,2,    14.64,2,     0.03,2,     1.00,2,    0.237,2,    0.138,2,    0.016,2,    1.216,2,    0.739,2,   2173.9,2,   2259.7,3,    0.274,2,   0.0000,2,     4.17,2,  -1.0339
  58JH19951108,   GNS,   326,  1,      3,2,19951119, 66.9990,   0.0030, 3570,   3100.6,  -0.8610,  34.9080,2,  34.9091,2,    296.8,2,    13.28,2,    14.62,2,     0.02,2,     1.01,2,    0.238,2,    0.131,2,    0.030,2,    1.210,2,    0.724,2,   2172.0,2,   2244.6,3,    0.306,2,   0.0000,2,     3.98,2,  -1.0343
  58JH19951108,   GNS,   326,  1,      2,2,19951119, 66.9990,   0.0030, 3570,   3298.8,  -0.8440,  34.9080,2,  34.9089,2,    289.0,4,    13.28,2,    14.58,2,     0.02,2,     1.00,2,    0.234,2,    0.116,2,    0.017,2,    1.215,2,    0.726,2,   2172.2,2,   2270.3,3,    0.292,2,   0.0000,2,     4.46,2,  -1.0342
  58JH19951108,   GNS,   326,  1,      1,2,19951119, 66.9990,   0.0030, 3570,   3502.8,  -0.8260,  34.9080,2,  34.9086,2,    296.4,2,    13.29,2,    14.58,2,     0.02,2,     1.00,2,    0.233,2,    0.129,2,    0.018,2,    1.207,2,    0.726,2,   2169.2,2,   -999.0,9, -999.000,9,   0.0000,2,     3.92,2,  -1.0343
  58JH19951108,   GNS,   327,  2,     12,2,19951120, 66.3330,  -3.4190, 3674,      8.4,   4.5460,  34.8850,2,  34.8908,2,    299.0,2,     3.86,2,     8.46,2,     0.16,2,     0.60,2,    5.241,2,    2.797,2,    0.526,2,    6.727,2,    13.39,2,   2121.1,2,   -999.0,9,    1.933,2,   0.0000,2,    -1.93,2,   4.5454
  58JH19951108,   GNS,   327,  2,     11,2,19951120, 66.3330,  -3.4190, 3674,     50.0,   4.5490,  34.8840,2,  34.8897,2,    299.0,2,     3.89,2,     8.42,2,     0.16,2,     0.61,2,    5.249,2,    2.791,2,    0.481,2,    6.744,2,   13.342,2,   2121.0,2,   2347.5,3,    1.822,2,   0.0000,2,    -1.61,2,   4.5453
  58JH19951108,   GNS,   327,  2,     10,2,19951120, 66.3330,  -3.4190, 3674,     97.6,   2.9240,  34.9140,2,  34.9195,2,    300.8,2,     5.46,2,    12.16,2,     0.01,2,     0.81,2,    5.801,2,    2.991,2,    0.577,2,    6.965,2,   16.129,2,   2172.0,2,   -999.0,9,    1.808,2,   0.0000,2,    -1.22,2,   2.9181
  58JH19951108,   GNS,   327,  2,      9,2,19951120, 66.3330,  -3.4190, 3674,    199.4,   2.5210,  34.9490,2,  34.9543,2,    302.1,2,     5.77,2,    12.52,2,     0.01,2,     0.84,2,    5.711,2,    2.905,2,    0.514,2,    6.788,2,   16.577,2,   2170.0,2,   2260.2,3, -999.000,9,-999.0000,9,  -999.00,9,   2.5093
  58JH19951108,   GNS,   327,  2,      8,2,19951120, 66.3330,  -3.4190, 3674,    300.4,   1.8370,  34.9320,2,  34.9371,2,    299.0,2,     6.12,2,    13.07,2,     0.01,2,     0.87,2,    5.419,2,    2.718,2,    0.489,2,    6.458,2,   16.781,2,   2158.7,2,   -999.0,9,    1.729,2,   0.0000,2,  -999.00,9,   1.8209
  58JH19951108,   GNS,   327,  2,      7,2,19951120, 66.3330,  -3.4190, 3674,    398.5,   0.8390,  34.8960,2,  34.9008,2,    297.3,2,     6.54,2,    13.30,2,     0.01,2,     0.89,2,    4.860,2,    2.392,2,    0.417,2,    6.050,2,   15.571,2,   2174.9,2,   2279.1,3, -999.000,9,-999.0000,9,  -999.00,9,   0.8206
  58JH19951108,   GNS,   327,  2,      6,2,19951120, 66.3330,  -3.4190, 3674,    498.2,   0.1710,  34.8850,2,  34.8896,2,    298.6,2,     7.00,2,    13.39,2,     0.01,2,     0.91,2,    4.183,2,    2.010,2,    0.354,2,    5.384,2,   13.466,2,   2170.8,2,   2259.8,3,    1.583,2,   0.0000,2,     4.47,2,   0.1503
  58JH19951108,   GNS,   327,  2,      5,2,19951120, 66.3330,  -3.4190, 3674,    597.7,  -0.0800,  34.8880,2,  34.8925,2,    296.4,2,     7.36,2,    13.51,2,     0.01,2,     0.91,2,    3.637,2,    1.736,2,    0.256,2,    4.809,2,   11.753,2,   2165.3,2,   -999.0,9, -999.000,9,-999.0000,9,  -999.00,9,  -0.1041
  58JH19951108,   GNS,   327,  2,      4,2,19951120, 66.3330,  -3.4190, 3674,    800.5,  -0.4090,  34.8970,2,  34.9011,2,    289.9,2,     8.56,2,    14.04,2,     0.01,2,     0.96,2,    2.187,2,    1.038,2,    0.122,2,    3.416,2,    6.868,2,   2163.3,2,   2186.4,3,    1.198,2,   0.0000,2,     7.68,2,  -0.4406
  58JH19951108,   GNS,   327,  2,      3,2,19951120, 66.3330,  -3.4190, 3674,    999.0,  -0.6100,  34.9030,2,  34.9069,2,    289.4,2,     9.63,2,    14.17,2,     0.01,2,     0.97,2,    1.372,2,    0.666,2,    0.068,2,    2.705,2,    4.243,2,   2170.8,2,   -999.0,9,    0.881,2,   0.0000,2,     7.50,2,  -0.6496
  58JH19951108,   GNS,   327,  2,      2,2,19951120, 66.3330,  -3.4190, 3674,   1249.7,  -0.7620,  34.9060,2,  34.9095,2,    289.9,2,    10.58,2,    14.32,2,     0.01,2,     0.98,2,    0.759,2,    0.394,2, -999.000,9,    2.060,2,    2.333,2,   2162.4,2,   2245.8,3,    0.655,2,   0.0000,2,     6.62,2,  -0.8128
  58JH19951108,   GNS,   327,  2,      1,2,19951120, 66.3330,  -3.4190, 3674,   1498.8,  -0.8280,  34.9070,2,  34.9102,2,    290.7,2,    11.10,2,    14.39,2,     0.01,2,     0.99,2,    0.558,2,    0.294,2,    0.031,2,    1.783,2,    1.706,2,   2159.5,2,   -999.0,9,    0.541,2,   0.0000,2,     5.95,2,  -0.8915
  58JH19951108,   GNS,   327,  1,     12,2,19951120, 66.3330,  -3.4190, 3674,   1750.9,  -0.8830,  34.9070,2,  34.9098,2,    291.6,2,    11.66,2,    14.49,2,     0.01,2,     0.98,2,    0.444,2,    0.243,2,    0.022,2,    1.603,2,    1.355,2,   2156.6,2,   -999.0,9,    0.470,2,   0.0000,2,     5.01,2,  -0.9603
  58JH19951108,   GNS,   327,  1,     11,2,19951120, 66.3330,  -3.4190, 3674,   1998.9,  -0.9060,  34.9070,2,  34.9095,2,    292.5,2,    12.11,2,    14.58,2,     0.01,2,     0.99,2, -999.000,9, -999.000,9, -999.000,9, -999.000,9,     -999,9,   2157.5,2,   2267.6,3,    0.369,2,   0.0000,2,     4.76,2,  -0.9982
  58JH19951108,   GNS,   327,  1,     10,2,19951120, 66.3330,  -3.4190, 3674,   2251.5,  -0.9100,  34.9070,2,  34.9092,2,    292.5,2,    12.47,2,    14.62,2,     0.01,2,     0.99,2,    0.360,2,    0.201,2, -999.000,9,    1.424,2,    1.098,2,   2157.5,2,   -999.0,9,    0.336,2,   0.0000,2,     4.76,2,  -1.0188
  58JH19951108,   GNS,   327,  1,      9,2,19951120, 66.3330,  -3.4190, 3674,   2498.7,  -0.9020,  34.9070,2,  34.9089,2,    292.1,2,    12.90,2,    14.65,2,     0.01,2,     1.00,2,    0.304,2,    0.174,2, -999.000,9,    1.333,2,    0.949,2,   2180.2,2,   2264.3,3,    0.328,2,   0.0000,2,     4.57,2,  -1.0282
  58JH19951108,   GNS,   327,  1,      8,2,19951120, 66.3330,  -3.4190, 3674,   2749.6,  -0.8890,  34.9080,2,  34.9096,2,    291.6,2,    13.30,2,    14.74,2,     0.01,2,     1.01,2,    0.243,2,    0.155,2, -999.000,9,    1.235,2,    0.782,2,   2171.1,2,   2258.4,3,    0.269,2,   0.0000,2,     3.89,2,  -1.0340
  58JH19951108,   GNS,   327,  1,      7,2,19951120, 66.3330,  -3.4190, 3674,   2998.5,  -0.8690,  34.9080,2,  34.9093,2,    291.6,2,    13.30,2,    14.74,2,     0.01,2,     1.00,2,    0.239,2,    0.152,2,    0.018,2,    1.228,2,    0.757,2,   2164.0,2,   -999.0,9,    0.295,2,   0.0000,2,     4.16,2,  -1.0338
  58JH19951108,   GNS,   327,  1,      6,2,19951120, 66.3330,  -3.4190, 3674,   3198.4,  -0.8530,  34.9080,2,  34.9090,2,    292.1,2,    13.30,2,    14.73,2,     0.01,2,     0.99,2,    0.241,2,    0.137,2,    0.016,2,    1.215,2,    0.744,2,   2169.9,2,   2284.1,3,    0.280,2,   0.0000,2,     4.68,2,  -1.0345
  58JH19951108,   GNS,   327,  1,      5,2,19951120, 66.3330,  -3.4190, 3674,   3298.0,  -0.8440,  34.9080,2,  34.9089,2,    292.1,2,    13.30,2,    14.72,2,     0.01,2,     1.00,2,    0.238,2,    0.131,2,    0.016,2,    1.222,2,    0.747,2,   2170.6,2,   -999.0,9,    0.275,2,   0.0000,2,     4.06,2,  -1.0341
  58JH19951108,   GNS,   327,  1,      4,2,19951120, 66.3330,  -3.4190, 3674,   3398.4,  -0.8350,  34.9080,2,  34.9088,2,    292.1,2,    13.30,2,    14.68,2,     0.02,2,     1.00,2,    0.238,2,    0.130,2, -999.000,9,    1.220,2,    0.741,2,   2162.8,2,   -999.0,9,    0.266,2,   0.0000,2,     4.22,2,  -1.0339
  58JH19951108,   GNS,   327,  1,      3,2,19951120, 66.3330,  -3.4190, 3674,   3498.1,  -0.8260,  34.9080,2,  34.9086,2,    292.5,2,    13.35,2,    14.74,2,     0.02,2,     1.00,2,    0.244,2,    0.134,2,    0.017,2,    1.222,2,    0.758,2,   2163.0,2,   -999.0,9,    0.302,2,   0.0000,2,     4.14,2,  -1.0338
  58JH19951108,   GNS,   327,  1,      1,2,19951120, 66.3330,  -3.4190, 3674,   3599.1,  -0.8170,  34.9080,2,  34.9085,2,    292.1,2,    13.31,2,    14.75,2,     0.01,2,     1.00,2,    0.239,2,    0.128,2,    0.017,2,    1.220,2,     0.75,2,   2158.2,2,   -999.0,9,    0.282,2,   0.0000,2,     4.11,2,  -1.0340
  58JH19951108,   GNS,   327,  1,      2,2,19951120, 66.3330,  -3.4190, 3674,   3600.2,  -0.8170,  34.9080,2,  34.9085,2,    292.9,2,    13.31,2,    14.74,2,     0.01,2,     1.00,2,    0.238,2,    0.136,2,    0.016,2,    1.215,2,    0.752,2,   2159.3,2,   -999.0,9,    0.250,2,   0.0000,2,     3.98,2,  -1.0341
  58JH19951108,   GNS,   328,  1,   -999,2,19951120, 66.0000,  -6.4970, 2770,   1001.0,  -0.7110,  34.9085,2,  34.9097,2,   -999.0,9,  -999.00,9,  -999.00,9,  -999.00,9,  -999.00,9, -999.000,9, -999.000,9, -999.000,9, -999.000,9,     -999,9,   -999.0,9,   -999.0,9, -999.000,9,-999.0000,9,  -999.00,9,  -0.7499
  58JH19951108,   GNS,   329,  1,   -999,2,19951121, 65.9990,  -7.7510, 1767,   1001.0,  -0.7110,  34.9085,2,-999.0000,9,   -999.0,9,  -999.00,9,  -999.00,9,  -999.00,9,  -999.00,9, -999.000,9, -999.000,9, -999.000,9, -999.000,9,     -999,9,   -999.0,9,   -999.0,9, -999.000,9,-999.0000,9,  -999.00,9,  -0.7499
  58JH19951108,   GNS,   330,  1,   -999,2,19951121, 66.0000,  -8.9990,  838,    820.0,  -0.5080,  34.9053,2,  34.9041,2,   -999.0,9,  -999.00,9,  -999.00,9,  -999.00,9,  -999.00,9, -999.000,9, -999.000,9, -999.000,9, -999.000,9,     -999,9,   -999.0,9,   -999.0,9, -999.000,9,-999.0000,9,  -999.00,9,  -0.5399
  58JH19951108,   GNS,   331,  1,   -999,2,19951121, 65.9990, -10.0000, 1187,   1001.0,  -0.7070,  34.9082,2,  34.9091,2,   -999.0,9,  -999.00,9,  -999.00,9,  -999.00,9,  -999.00,9, -999.000,9, -999.000,9, -999.000,9, -999.000,9,     -999,9,   -999.0,9,   -999.0,9, -999.000,9,-999.0000,9,  -999.00,9,  -0.7459
  58JH19951108,   GNS,   332,  1,   -999,2,19951121, 65.5000, -11.0010,  855,    799.0,  -0.6020,  34.9036,2,  34.9084,2,   -999.0,9,  -999.00,9,  -999.00,9,  -999.00,9,  -999.00,9, -999.000,9, -999.000,9, -999.000,9, -999.000,9,     -999,9,   -999.0,9,   -999.0,9, -999.000,9,-999.0000,9,  -999.00,9,  -0.6323
  58JH19951108,   GNS,   333,  1,   -999,2,19951121, 65.5000, -10.0010,  835,    791.0,  -0.5380,  34.9024,2,  34.9055,2,   -999.0,9,  -999.00,9,  -999.00,9,  -999.00,9,  -999.00,9, -999.000,9, -999.000,9, -999.000,9, -999.000,9,     -999,9,   -999.0,9,   -999.0,9, -999.000,9,-999.0000,9,  -999.00,9,  -0.5683
  58JH19951108,   GNS,   334,  1,   -999,2,19951121, 65.5000,  -9.0000,  832,    790.0,  -0.5820,  34.9032,2,  34.9048,2,   -999.0,9,  -999.00,9,  -999.00,9,  -999.00,9,  -999.00,9, -999.000,9, -999.000,9, -999.000,9, -999.000,9,     -999,9,   -999.0,9,   -999.0,9, -999.000,9,-999.0000,9,  -999.00,9,  -0.6120
  58JH19951108,   GNS,   335,  1,   -999,2,19951121, 65.5010,  -7.7490, 1470,   1002.0,  -0.6660,  34.9079,2,  34.9090,2,   -999.0,9,  -999.00,9,  -999.00,9,  -999.00,9,  -999.00,9, -999.000,9, -999.000,9, -999.000,9, -999.000,9,     -999,9,   -999.0,9,   -999.0,9, -999.000,9,-999.0000,9,  -999.00,9,  -0.7053
  58JH19951108,   GNS,   336,  1,   -999,2,19951122, 65.5010,  -6.4990, 2560,   1001.0,  -0.6070,  34.9044,2,  34.9052,2,   -999.0,9,  -999.00,9,  -999.00,9,  -999.00,9,  -999.00,9, -999.000,9, -999.000,9, -999.000,9, -999.000,9,     -999,9,   -999.0,9,   -999.0,9, -999.000,9,-999.0000,9,  -999.00,9,  -0.6467