BOTTLE,20081218PRINUNIVRMKPRINUNIVRMK
EXPOCODE,SECT_ID,STNNBR,CASTNO,BTLNBR,BTLNBR_FLAG_W,DATE,LATITUDE,LONGITUDE,DEPTH,CTDPRS,CTDTMP,CTDSAL,CTDSAL_FLAG_W,SALNTY,SALNTY_FLAG_W,OXYGEN,OXYGEN_FLAG_W,SILCAT,SILCAT_FLAG_W,NITRAT,NITRAT_FLAG_W,NITRIT,NITRIT_FLAG_W,PHSPHT,PHSPHT_FLAG_W,CFC-11,CFC-11_FLAG_W,CFC-12,CFC-12_FLAG_W,CFC113,CFC113_FLAG_W,CCL4,CCL4_FLAG_W,MCHFRM,MCHFRM_FLAG_W,TCARBN,TCARBN_FLAG_W,ALKALI,ALKALI_FLAG_W,TRITUM,TRITUM_FLAG_W,HELIUM,HELIUM_FLAG_W,DELHE3,DELHE3_FLAG_W,THETA
,,,,,,,,,METERS,DBARS,ITS-90,PSS-78,,PSS-78,,UMOL/KG,,UMOL/KG,,UMOL/KG,,UMOL/KG,,UMOL/KG,,PMOL/KG,,PMOL/KG,,PMOL/KG,,PMOL/KG,,PMOL/KG,,UMOL/KG,,UMOL/KG,,TU,,NMOL/KG,,PERCNT,,DEGC
  58JH19951108,   GNS,   304,  2,     12,2,19951114, 75.0160,   7.0570, 1729,     10.6,   4.1520,  35.0460,2,  35.0517,2,    302.0,2,     4.84,2,    10.69,2,     0.08,2,     0.74,2,    5.316,2,    2.843,2,    0.492,2,    6.303,2,   13.842,2,   2137.8,2,   2198.1,3, -999.000,9,-999.0000,9,  -999.00,9,   4.1513
  58JH19951108,   GNS,   304,  2,     11,2,19951114, 75.0160,   7.0570, 1729,     18.9,   4.1540,  35.0460,2,  35.0517,2,    301.2,2,     4.88,2,    10.73,2,     0.08,2,     0.74,2,    5.305,2,    2.861,2,    0.502,2,    6.274,2,   13.745,2,   2131.4,2,   -999.0,9, -999.000,9,-999.0000,9,  -999.00,9,   4.1527
  58JH19951108,   GNS,   304,  2,     10,2,19951114, 75.0160,   7.0570, 1729,     27.3,   4.1540,  35.0460,2,  35.0517,2,    302.0,2,     4.88,2,    10.69,2,     0.08,2,     0.75,2,    5.314,2,    2.824,2,    0.494,2,    6.257,2,   13.702,2,   2132.4,2,   2214.5,3, -999.000,9,-999.0000,9,  -999.00,9,   4.1521
  58JH19951108,   GNS,   304,  2,      9,2,19951114, 75.0160,   7.0570, 1729,     50.3,   4.1570,  35.0460,2,  35.0517,2,    302.0,2,     4.86,2,    10.73,2,     0.08,2,     0.74,2, -999.000,9, -999.000,9, -999.000,9, -999.000,9,     -999,9,   2125.2,2,   -999.0,9, -999.000,9,-999.0000,9,  -999.00,9,   4.1534
  58JH19951108,   GNS,   304,  2,      8,2,19951114, 75.0160,   7.0570, 1729,     74.8,   4.1550,  35.0460,2,  35.0517,2,    301.2,2,     4.88,2,    10.77,2,     0.08,2,     0.75,2, -999.000,9, -999.000,9, -999.000,9, -999.000,9,     -999,9,   2122.3,2,   2227.3,3, -999.000,9,-999.0000,9,  -999.00,9,   4.1497
  58JH19951108,   GNS,   304,  2,      7,2,19951114, 75.0160,   7.0570, 1729,     98.8,   4.1600,  35.0460,2,  35.0516,2,    302.0,2,     4.87,2,    10.75,2,     0.08,2,     0.74,2,    5.302,2,    2.827,2,    0.497,2,    6.267,2,   13.679,2,   2173.1,2,   -999.0,9, -999.000,9,-999.0000,9,  -999.00,9,   4.1530
  58JH19951108,   GNS,   304,  2,      6,2,19951114, 75.0160,   7.0570, 1729,    123.2,   4.1620,  35.0460,2,  35.0516,2,    302.0,2,     4.88,2,    10.78,2,     0.08,2,     0.74,2,    5.302,2,    2.813,2,    0.493,2,    6.310,2,   13.817,2,   2159.6,2,   2252.2,3, -999.000,9,-999.0000,9,  -999.00,9,   4.1532
  58JH19951108,   GNS,   304,  2,      5,2,19951114, 75.0160,   7.0570, 1729,    148.1,   4.1630,  35.0460,2,  35.0516,2,    301.6,2,     4.88,2,    10.75,2,     0.08,2,     0.74,2,    5.314,2,    2.836,2,    0.497,2,    6.317,2,   13.795,2,   2155.6,2,   -999.0,9, -999.000,9,-999.0000,9,  -999.00,9,   4.1524
  58JH19951108,   GNS,   304,  2,      4,2,19951114, 75.0160,   7.0570, 1729,    199.9,   4.1690,  35.0450,2,  35.0505,2,    302.0,2,     4.88,2,    10.77,2,     0.08,2,     0.74,2,    5.303,2,    2.834,2,    0.500,2,    6.298,2,   13.734,2,   2150.6,2,   2247.0,3, -999.000,9,-999.0000,9,  -999.00,9,   4.1546
  58JH19951108,   GNS,   304,  2,      3,2,19951114, 75.0160,   7.0570, 1729,    248.2,   3.7740,  35.0350,2,  35.0404,2,    299.4,2,     5.71,2,    12.40,2,     0.01,2,     0.84,2,    5.409,2,    2.830,2,    0.492,2,    6.160,2,   15.531,2,   2158.1,2,   2250.2,3, -999.000,9,-999.0000,9,  -999.00,9,   3.7569
  58JH19951108,   GNS,   304,  2,      2,2,19951114, 75.0160,   7.0570, 1729,    298.4,   3.2520,  35.0060,2,  35.0113,2,    299.4,2,     5.85,2,    12.64,2,     0.01,2,     0.86,2,    5.454,2,    2.816,2,    0.487,2,    6.226,2,   15.912,2,   2152.2,2,   2257.5,3, -999.000,9,-999.0000,9,  -999.00,9,   3.2325
  58JH19951108,   GNS,   304,  2,      1,2,19951114, 75.0160,   7.0570, 1729,    400.4,   1.2570,  34.9200,2,  34.9249,2,    302.9,2,     6.36,2,    13.19,2,     0.01,2,     0.89,2,    5.044,2,    2.551,2,    0.435,2,    5.960,2,     15.3,2,   2162.2,2,   2222.7,3, -999.000,9,-999.0000,9,  -999.00,9,   1.2371
  58JH19951108,   GNS,   304,  1,     12,2,19951114, 75.0160,   7.0570, 1729,    497.0,   0.1160,  34.8910,2,  34.8956,2,    308.6,2,     6.96,2,    13.22,2,     0.01,2,     0.90,2,    4.482,2,    2.259,2,    0.371,2,    5.660,2,   13.443,2,   2169.9,2,   -999.0,9, -999.000,9,-999.0000,9,  -999.00,9,   0.0956
  58JH19951108,   GNS,   304,  1,     11,2,19951114, 75.0160,   7.0570, 1729,    599.9,  -0.3060,  34.8860,2,  34.8904,2,    314.3,2,     7.25,2,    13.18,2,     0.01,2,     0.90,2,    4.394,2,    2.203,2,    0.370,2,    5.690,2,   12.977,2,   2170.3,2,   2198.5,3, -999.000,9,-999.0000,9,  -999.00,9,  -0.3291
  58JH19951108,   GNS,   304,  1,     10,2,19951114, 75.0160,   7.0570, 1729,    699.0,  -0.5150,  34.8850,2,  34.8893,2,    320.0,2,     7.22,2,    12.92,2,     0.01,2,     0.89,2,    4.717,2,    2.396,2,    0.401,2,    6.078,2,   13.568,2,   2171.2,2,   -999.0,9, -999.000,9,-999.0000,9,  -999.00,9,  -0.5413
  58JH19951108,   GNS,   304,  1,      9,2,19951114, 75.0160,   7.0570, 1729,    797.9,  -0.6530,  34.8840,2,  34.8881,2,    319.5,2,     7.37,2,    13.01,2,     0.01,2,     0.89,2,    4.554,2,    2.302,2,    0.362,2,    5.904,2,   13.373,2,   2168.0,2,   2243.7,3, -999.000,9,-999.0000,9,  -999.00,9,  -0.6829
  58JH19951108,   GNS,   304,  1,      8,2,19951114, 75.0160,   7.0570, 1729,    900.8,  -0.6960,  34.8880,2,  34.8920,2,    311.7,2,     8.18,2,    13.45,2,     0.01,2,     0.92,2,    3.478,2,    1.720,2,    0.275,2,    4.706,2,   10.281,2,   2167.8,2,   -999.0,9, -999.000,9,-999.0000,9,  -999.00,9,  -0.7302
  58JH19951108,   GNS,   304,  1,      7,2,19951114, 75.0160,   7.0570, 1729,   1001.2,  -0.7050,  34.8900,2,  34.8938,2,    309.9,2,     8.37,2,    13.52,2,     0.01,2,     0.93,2,    3.231,2,    1.590,2,    0.247,2,    4.451,2,    9.621,2,   2171.6,2,   2276.4,3, -999.000,9,-999.0000,9,  -999.00,9,  -0.7439
  58JH19951108,   GNS,   304,  1,      6,2,19951114, 75.0160,   7.0570, 1729,   1102.0,  -0.7410,  34.8930,2,  34.8967,2,    305.6,2,     8.83,2,    13.63,2,     0.01,2,     0.94,2,    2.709,2,    1.344,2,    0.191,2,    3.956,2,    8.116,2,   2172.6,2,   -999.0,9, -999.000,9,-999.0000,9,  -999.00,9,  -0.7845
  58JH19951108,   GNS,   304,  1,      5,2,19951114, 75.0160,   7.0570, 1729,   1202.2,  -0.7410,  34.8990,2,  34.9026,2,    300.8,2,     9.51,2,    13.88,2,     0.01,2,     0.96,2,    1.886,2,    0.963,2,    0.086,2,    3.166,2,    5.738,2,   2170.9,2,   2194.4,3, -999.000,9,-999.0000,9,  -999.00,9,  -0.7896
  58JH19951108,   GNS,   304,  1,      4,2,19951114, 75.0160,   7.0570, 1729,   1298.6,  -0.7650,  34.9030,2,  34.9064,2,    297.7,2,     9.99,2,    14.03,2,     0.01,2,     0.96,2,    1.416,2,    0.729,2,    0.060,2,    2.719,2,    4.404,2,   2172.5,2,   2268.1,3, -999.000,9,-999.0000,9,  -999.00,9,  -0.8183
  58JH19951108,   GNS,   304,  1,      3,2,19951114, 75.0160,   7.0570, 1729,   1399.1,  -0.7920,  34.9040,2,  34.9073,2,    298.2,2,    10.28,2,    14.15,2,     0.01,2,     0.97,2,    1.215,2,    0.629,2,    0.045,2,    2.497,2,    3.789,2,   2172.9,2,   2249.7,3, -999.000,9,-999.0000,9,  -999.00,9,  -0.8504
  58JH19951108,   GNS,   304,  1,      2,2,19951114, 75.0160,   7.0570, 1729,   1498.8,  -0.8330,  34.9050,2,  34.9082,2,    299.5,2,    10.71,2,    14.21,2,     0.03,2,     0.98,2,    1.027,2,    0.532,2,    0.026,2,    2.337,2,    3.247,2,   2172.5,2,   2225.7,3, -999.000,9,-999.0000,9,  -999.00,9,  -0.8964
  58JH19951108,   GNS,   304,  1,      1,2,19951114, 75.0160,   7.0570, 1729,   1688.9,  -0.8880,  34.9050,2,  34.9079,2,    299.5,2,    11.06,2,    14.31,2,     0.01,2,     0.98,2,    0.859,2,    0.455,2,    0.028,2,    2.162,2,    2.728,2,   2179.2,2,   -999.0,9, -999.000,9,-999.0000,9,  -999.00,9,  -0.9616
  58JH19951108,   GNS,   305,  1,     12,2,19951114, 75.0010,   4.9980, 3035,     11.1,   2.0170,  34.9230,2,  34.9285,2,    319.5,2,     3.75,2,     8.48,2,     0.14,2,     0.67,2, -999.000,9, -999.000,9, -999.000,9, -999.000,9,     -999,9,   -999.0,9,   -999.0,9, -999.000,9,-999.0000,9,  -999.00,9,   2.0164
  58JH19951108,   GNS,   305,  1,     11,2,19951114, 75.0010,   4.9980, 3035,     49.2,   1.9890,  34.9200,2,  34.9254,2,    319.1,2,     3.76,2,     8.42,2,     0.14,2,     0.68,2, -999.000,9, -999.000,9, -999.000,9, -999.000,9,     -999,9,   -999.0,9,   -999.0,9, -999.000,9,-999.0000,9,  -999.00,9,   1.9864
  58JH19951108,   GNS,   305,  1,     10,2,19951114, 75.0010,   4.9980, 3035,    100.5,   0.7390,  34.9040,2,  34.9092,2,    320.4,2,     6.47,2,    13.07,2,     0.02,2,     0.92,2, -999.000,9, -999.000,9, -999.000,9, -999.000,9,     -999,9,   -999.0,9,   -999.0,9, -999.000,9,-999.0000,9,  -999.00,9,   0.7347
  58JH19951108,   GNS,   305,  1,      9,2,19951114, 75.0010,   4.9980, 3035,    251.3,  -0.4220,  34.8850,2,  34.8899,2,    320.8,2,     7.04,2,    12.92,2,     0.01,2,     0.89,2, -999.000,9, -999.000,9, -999.000,9, -999.000,9,     -999,9,   -999.0,9,   -999.0,9, -999.000,9,-999.0000,9,  -999.00,9,  -0.4306
  58JH19951108,   GNS,   305,  1,      8,2,19951114, 75.0010,   4.9980, 3035,    500.9,  -0.7160,  34.8810,2,  34.8855,2,    324.8,2,     7.14,2,    12.82,2,     0.01,2,     0.88,2, -999.000,9, -999.000,9, -999.000,9, -999.000,9,     -999,9,   -999.0,9,   -999.0,9, -999.000,9,-999.0000,9,  -999.00,9,  -0.7331
  58JH19951108,   GNS,   305,  1,      7,2,19951114, 75.0010,   4.9980, 3035,    750.3,  -0.8120,  34.8810,2,  34.8852,2,    321.3,2,     7.60,2,    13.06,2,     0.01,2,     0.91,2, -999.000,9, -999.000,9, -999.000,9, -999.000,9,     -999,9,   -999.0,9,   -999.0,9, -999.000,9,-999.0000,9,  -999.00,9,  -0.8387
  58JH19951108,   GNS,   305,  1,      6,2,19951114, 75.0010,   4.9980, 3035,   1000.4,  -0.8240,  34.8870,2,  34.8908,2,    314.3,2,     8.31,2,    13.42,2,     0.01,2,     0.92,2, -999.000,9, -999.000,9, -999.000,9, -999.000,9,     -999,9,   -999.0,9,   -999.0,9, -999.000,9,-999.0000,9,  -999.00,9,  -0.8619
  58JH19951108,   GNS,   305,  1,      5,2,19951114, 75.0010,   4.9980, 3035,   1348.8,  -0.8060,  34.9040,2,  34.9074,2,    301.2,2,     9.80,2,    13.81,2,     0.01,2,     0.97,2, -999.000,9, -999.000,9, -999.000,9, -999.000,9,     -999,9,   -999.0,9,   -999.0,9, -999.000,9,-999.0000,9,  -999.00,9,  -0.8615
  58JH19951108,   GNS,   305,  1,      4,2,19951114, 75.0010,   4.9980, 3035,   1701.8,  -0.9160,  34.9040,2,  34.9069,2,    301.6,2,    10.72,2,    14.14,2,     0.01,2,     0.98,2, -999.000,9, -999.000,9, -999.000,9, -999.000,9,     -999,9,   -999.0,9,   -999.0,9, -999.000,9,-999.0000,9,  -999.00,9,  -0.9899
  58JH19951108,   GNS,   305,  1,      3,2,19951114, 75.0010,   4.9980, 3035,   1999.5,  -0.9540,  34.9040,2,  34.9065,2,    302.5,2,    11.01,2,    14.24,2,     0.01,2,     1.00,2, -999.000,9, -999.000,9, -999.000,9, -999.000,9,     -999,9,   -999.0,9,   -999.0,9, -999.000,9,-999.0000,9,  -999.00,9,  -1.0455
  58JH19951108,   GNS,   305,  1,      2,2,19951114, 75.0010,   4.9980, 3035,   2497.9,  -0.9860,  34.9020,2,  34.9039,2,    304.3,2,    11.31,2,    14.24,2,     0.01,2,     1.00,2, -999.000,9, -999.000,9, -999.000,9, -999.000,9,     -999,9,   -999.0,9,   -999.0,9, -999.000,9,-999.0000,9,  -999.00,9,  -1.1105
  58JH19951108,   GNS,   305,  1,      1,2,19951114, 75.0010,   4.9980, 3035,   2899.8,  -0.9910,  34.9000,2,  34.9014,2,    305.1,2,    11.51,2,    14.22,2,     0.01,2,     0.99,2, -999.000,9, -999.000,9, -999.000,9, -999.000,9,     -999,9,   -999.0,9,   -999.0,9, -999.000,9,-999.0000,9,  -999.00,9,  -1.1453
  58JH19951108,   GNS,   306,  1,     12,2,19951114, 75.0030,   3.0060, 2470,    397.2,  -0.7440,  34.8780,2,  34.8826,2,    323.4,2,     7.15,2,    12.87,2,     0.01,2,     0.93,2,    4.945,2,    2.437,2,    0.416,2,    6.569,2,   14.545,2,   2224.0,3,   2242.8,3, -999.000,9,-999.0000,9,  -999.00,9,  -0.7571
  58JH19951108,   GNS,   306,  1,     11,2,19951114, 75.0030,   3.0060, 2470,    498.0,  -0.7960,  34.8790,2,  34.8835,2,    325.2,2,     7.25,2,    12.82,2,     0.01,2,     0.92,2,    4.964,2,    2.432,2,    0.420,2,    6.598,2,   14.474,2,   2174.6,2,   -999.0,9, -999.000,9,-999.0000,9,  -999.00,9,  -0.8127
  58JH19951108,   GNS,   306,  1,     10,2,19951114, 75.0030,   3.0060, 2470,    599.6,  -0.8700,  34.8770,2,  34.8813,2,    325.6,2,     7.31,2,    12.90,2,     0.01,2,     0.95,3,    4.927,2,    2.434,2,    0.417,2,    6.536,2,   14.445,2,   2172.6,2,   2283.9,3, -999.000,9,-999.0000,9,  -999.00,9,  -0.8902
  58JH19951108,   GNS,   306,  1,      9,2,19951114, 75.0030,   3.0060, 2470,    800.5,  -0.9200,  34.8760,2,  34.8801,2,    325.6,2,     7.39,2,    12.95,2,     0.01,2,     0.92,2,    4.844,2,    2.408,2,    0.412,2,    6.440,2,   14.284,2,   2168.9,2,   2268.9,3, -999.000,9,-999.0000,9,  -999.00,9,  -0.9482
  58JH19951108,   GNS,   306,  1,      8,2,19951114, 75.0030,   3.0060, 2470,    999.7,  -0.8410,  34.8870,2,  34.8908,2,    312.5,2,     8.46,2,    13.45,2,     0.01,2,     0.96,2,    3.335,2,    1.609,2,    0.256,2,    4.566,2,    9.735,2,   2168.1,2,   2160.8,3, -999.000,9,-999.0000,9,  -999.00,9,  -0.8787
  58JH19951108,   GNS,   306,  1,      7,2,19951114, 75.0030,   3.0060, 2470,   1197.5,  -0.7800,  34.9020,2,  34.9056,2,    299.9,2,     9.88,2,    13.98,2,     0.01,2,     0.99,2,    1.504,2,    0.730,2,    0.088,2,    2.766,2,    4.576,2,   2166.8,2,   2253.5,3, -999.000,9,-999.0000,9,  -999.00,9,  -0.8279
  58JH19951108,   GNS,   306,  1,      6,2,19951114, 75.0030,   3.0060, 2470,   1399.6,  -0.8530,  34.9030,2,  34.9063,2,    300.3,2,    10.31,2,    14.12,2,     0.01,2,     0.99,2,    1.234,2,    0.617,2,    0.064,2,    2.511,2,    3.714,2,   2165.6,2,   2227.0,3, -999.000,9,-999.0000,9,  -999.00,9,  -0.9107
  58JH19951108,   GNS,   306,  1,      5,2,19951114, 75.0030,   3.0060, 2470,   1597.6,  -0.9090,  34.9030,2,  34.9060,2,    301.2,2,    10.60,2,    14.21,2,     0.01,2,     0.99,2,    1.099,2,    0.547,2,    0.062,2,    2.403,2,    3.302,2,   2161.1,2,   -999.0,9, -999.000,9,-999.0000,9,  -999.00,9,  -0.9770
  58JH19951108,   GNS,   306,  1,      4,2,19951114, 75.0030,   3.0060, 2470,   1800.8,  -0.9380,  34.9030,2,  34.9058,2,    302.1,2,    10.85,2,    14.29,2,     0.01,2,     0.99,2,    0.971,2,    0.492,2,    0.054,2,    2.301,2,    2.936,2,   2185.5,3,   2230.9,3, -999.000,9,-999.0000,9,  -999.00,9,  -1.0175
  58JH19951108,   GNS,   306,  1,      3,2,19951114, 75.0030,   3.0060, 2470,   2001.9,  -0.9630,  34.9040,2,  34.9065,2,    302.5,2,    11.04,2,    14.24,2,     0.01,2,     0.99,2,    0.874,2,    0.453,2,    0.043,2,    2.225,2,    2.606,2,   2167.9,2,   -999.0,9, -999.000,9,-999.0000,9,  -999.00,9,  -1.0545
  58JH19951108,   GNS,   306,  1,      2,2,19951114, 75.0030,   3.0060, 2470,   2198.8,  -0.9780,  34.9030,2,  34.9052,2,    303.0,2,    11.27,2,    14.27,2,     0.01,2,     1.00,2,    0.806,2,    0.406,2,    0.037,2,    2.189,2,    2.396,2,   2172.7,2,   -999.0,9, -999.000,9,-999.0000,9,  -999.00,9,  -1.0820
  58JH19951108,   GNS,   306,  1,      1,2,19951114, 75.0030,   3.0060, 2470,   2400.1,  -0.9860,  34.9020,2,  34.9040,2,    303.0,2,    11.43,2,    14.31,2,     0.01,2,     0.98,2, -999.000,9, -999.000,9, -999.000,9, -999.000,9,     -999,9,   2171.4,2,   2223.8,3, -999.000,9,-999.0000,9,  -999.00,9,  -1.1036
  58JH19951108,   GNS,   307,  1,     12,2,19951115, 75.0000,   0.9960, 3701,     10.4,   0.3150,  34.8800,2,  34.8853,2,    332.6,2,     4.39,2,     9.00,2,     0.10,2,  -999.00,9,    6.221,2,    3.197,2,    0.590,2,    7.856,2,    15.87,2,   2135.2,2,   -999.0,9, -999.000,9,-999.0000,9,  -999.00,9,   0.3146
  58JH19951108,   GNS,   307,  1,     11,2,19951115, 75.0000,   0.9960, 3701,     99.0,   0.2290,  34.8830,2,  34.8881,2,    331.3,2,     4.72,2,     9.61,2,     0.08,2,     0.71,2, -999.000,9, -999.000,9, -999.000,9, -999.000,9,     -999,9,   2138.6,2,   2227.0,3, -999.000,9,-999.0000,9,  -999.00,9,   0.2252
  58JH19951108,   GNS,   307,  1,     10,2,19951115, 75.0000,   0.9960, 3701,    251.1,  -0.6280,  34.8780,2,  34.8818,2,    326.5,2,     6.82,2,    12.71,2,     0.01,2,     0.86,2,    5.330,2,    2.655,2,    0.464,2,    6.938,2,   15.376,2,   2150.0,2,   2234.3,3, -999.000,9,-999.0000,9,  -999.00,9,  -0.6362
  58JH19951108,   GNS,   307,  1,      9,2,19951115, 75.0000,   0.9960, 3701,    499.6,  -0.8870,  34.8730,2,  34.8775,2,    326.5,2,     7.18,2,    12.86,2,     0.01,2,     0.88,2,    5.082,2,    2.503,2,    0.431,2,    6.705,2,    14.84,2,   2149.4,2,   2231.3,3, -999.000,9,-999.0000,9,  -999.00,9,  -0.9033
  58JH19951108,   GNS,   307,  1,      8,2,19951115, 75.0000,   0.9960, 3701,    749.0,  -0.9390,  34.8730,2,  34.8789,2,   -999.0,9,  -999.00,9,  -999.00,9,  -999.00,9,  -999.00,9, -999.000,9, -999.000,9, -999.000,9, -999.000,9,     -999,9,   -999.0,9,   2192.2,3, -999.000,9,-999.0000,9,  -999.00,9,  -0.9649
  58JH19951108,   GNS,   307,  1,      7,2,19951115, 75.0000,   0.9960, 3701,    998.8,  -0.9400,  34.8750,2,  34.8788,2,    327.4,2,     7.35,2,    12.89,2,     0.00,2,     0.88,2,    4.918,2,    2.442,2,    0.422,2,    6.542,2,   14.405,2,   2149.3,2,   -999.0,9, -999.000,9,-999.0000,9,  -999.00,9,  -0.9768
  58JH19951108,   GNS,   307,  1,      6,2,19951115, 75.0000,   0.9960, 3701,   1496.7,  -0.8250,  34.9020,2,  34.9052,2,    303.0,2,    10.08,2,    14.04,2,     0.01,2,     0.95,2,    1.381,2,    0.680,2,    0.071,2,    2.698,2,    4.274,2,   2147.0,2,   2261.7,3, -999.000,9,-999.0000,9,  -999.00,9,  -0.8884
  58JH19951108,   GNS,   307,  1,      5,2,19951115, 75.0000,   0.9960, 3701,   1998.3,  -0.9400,  34.9030,2,  34.9055,2,    303.4,2,    10.76,2,    14.17,2,     0.01,2,     0.95,2,    1.056,2,    0.539,2,    0.056,2,    2.445,2,    3.265,2,   2146.2,2,   -999.0,9, -999.000,9,-999.0000,9,  -999.00,9,  -1.0316
  58JH19951108,   GNS,   307,  1,      4,2,19951115, 75.0000,   0.9960, 3701,   2349.8,  -0.9680,  34.9020,2,  34.9041,2,    303.4,2,    10.97,2,    14.17,2,     0.01,2,     0.95,2,    0.935,2,    0.479,2,    0.038,2,    2.347,2,     2.79,2,   -999.0,9,   2220.6,3, -999.000,9,-999.0000,9,  -999.00,9,  -1.0824
  58JH19951108,   GNS,   307,  1,      3,2,19951115, 75.0000,   0.9960, 3701,   2701.7,  -0.9810,  34.9010,2,  34.9026,2,    304.7,2,    11.24,2,    14.19,2,     0.01,2,     0.99,2,    0.835,2,    0.439,2,    0.038,2,    2.322,2,    2.468,2,   -999.0,9,   2242.8,3, -999.000,9,-999.0000,9,  -999.00,9,  -1.1204
  58JH19951108,   GNS,   307,  1,      2,2,19951115, 75.0000,   0.9960, 3701,   2999.2,  -0.9890,  34.9000,2,  34.9012,2,    306.4,2,    11.40,2,    14.21,2,     0.01,2,     0.97,2,    0.777,2,    0.415,2,    0.029,2,    2.348,2,    2.293,2,   2212.6,3,   2222.1,3, -999.000,9,-999.0000,9,  -999.00,9,  -1.1511
  58JH19951108,   GNS,   307,  1,      1,2,19951115, 75.0000,   0.9960, 3701,   3600.0,  -0.9730,  34.8980,2,  34.8984,2,   -999.0,9,  -999.00,9,  -999.00,9,  -999.00,9,  -999.00,9, -999.000,9, -999.000,9, -999.000,9, -999.000,9,     -999,9,   -999.0,9,   2225.0,3, -999.000,9,-999.0000,9,  -999.00,9,  -1.1859