BOTTLE,20081218PRINUNIVRMKPRINUNIVRMK
EXPOCODE,SECT_ID,STNNBR,CASTNO,BTLNBR,BTLNBR_FLAG_W,DATE,LATITUDE,LONGITUDE,DEPTH,CTDPRS,CTDTMP,CTDSAL,CTDSAL_FLAG_W,SALNTY,SALNTY_FLAG_W,OXYGEN,OXYGEN_FLAG_W,SILCAT,SILCAT_FLAG_W,NITRAT,NITRAT_FLAG_W,NITRIT,NITRIT_FLAG_W,PHSPHT,PHSPHT_FLAG_W,CFC-11,CFC-11_FLAG_W,CFC-12,CFC-12_FLAG_W,CFC113,CFC113_FLAG_W,CCL4,CCL4_FLAG_W,MCHFRM,MCHFRM_FLAG_W,TCARBN,TCARBN_FLAG_W,ALKALI,ALKALI_FLAG_W,TRITUM,TRITUM_FLAG_W,HELIUM,HELIUM_FLAG_W,DELHE3,DELHE3_FLAG_W,THETA
,,,,,,,,,METERS,DBARS,ITS-90,PSS-78,,PSS-78,,UMOL/KG,,UMOL/KG,,UMOL/KG,,UMOL/KG,,UMOL/KG,,PMOL/KG,,PMOL/KG,,PMOL/KG,,PMOL/KG,,PMOL/KG,,UMOL/KG,,UMOL/KG,,TU,,NMOL/KG,,PERCNT,,DEGC
  58JH19951108,   GNS,   322,  1,     12,2,19951118, 70.8340,   3.1310, 3162,     10.3,   5.2690,  35.0860,2,  35.0919,2,    295.5,2,     4.73,2,    10.34,2,     0.04,2,     0.72,2,    5.033,2,    2.592,2,    0.459,2,    6.065,2,   12.701,2,   2136.4,2,   2305.3,3, -999.000,9,-999.0000,9,  -999.00,9,   5.2682
  58JH19951108,   GNS,   322,  1,     11,2,19951118, 70.8340,   3.1310, 3162,     50.6,   5.2200,  35.0870,2,  35.0928,2,    295.9,2,     4.85,2,    10.55,2,     0.04,2,     0.73,2,    5.030,2,    2.601,2,    0.467,2,    6.024,2,   12.858,2,   2139.6,2,   -999.0,9, -999.000,9,-999.0000,9,  -999.00,9,   5.2160
  58JH19951108,   GNS,   322,  1,     10,2,19951118, 70.8340,   3.1310, 3162,    100.4,   5.1830,  35.0880,2,  35.0938,2,    295.5,2,     4.93,2,    10.70,2,     0.04,2,     0.75,2,    5.043,2,    2.615,2,    0.468,2,    5.992,2,   12.968,2,   2137.4,2,   -999.0,9, -999.000,9,-999.0000,9,  -999.00,9,   5.1751
  58JH19951108,   GNS,   322,  1,      9,2,19951118, 70.8340,   3.1310, 3162,    173.7,   5.1890,  35.0880,2,  35.0937,2,    295.5,2,     4.92,2,    10.71,2,     0.04,2,     0.74,2,    5.040,2,    2.621,2,    0.465,2,    5.982,2,   12.924,2,   2134.8,2,   2229.0,3, -999.000,9,-999.0000,9,  -999.00,9,   5.1752
  58JH19951108,   GNS,   322,  1,      8,2,19951118, 70.8340,   3.1310, 3162,    398.8,   4.1590,  35.0540,2,  35.0593,2,    298.6,2,     5.60,2,    12.16,2,     0.01,2,     0.84,2,    5.309,2,    2.690,2,    0.462,2,    6.105,2,   15.148,2,   2154.2,2,   2231.7,3, -999.000,9,-999.0000,9,  -999.00,9,   4.1298
  58JH19951108,   GNS,   322,  1,      7,2,19951118, 70.8340,   3.1310, 3162,    696.8,   1.2550,  34.9080,2,  34.9125,2,    299.9,2,     6.68,2,    13.46,2,     0.01,2,     0.93,2,    4.860,2,    2.334,2,    0.408,2,    5.816,2,   15.818,2,   2162.2,2,   -999.0,9, -999.000,9,-999.0000,9,  -999.00,9,   1.2186
  58JH19951108,   GNS,   322,  1,      6,2,19951118, 70.8340,   3.1310, 3162,   1001.9,  -0.2580,  34.8940,2,  34.8979,2,    297.3,2,     8.11,2,    13.80,2,     0.01,2,     0.96,2,    2.750,2,    1.266,2,    0.174,2,    3.959,2,    8.779,2,   2161.7,2,   -999.0,9, -999.000,9,-999.0000,9,  -999.00,9,  -0.3006
  58JH19951108,   GNS,   322,  1,      5,2,19951118, 70.8340,   3.1310, 3162,   1498.3,  -0.6940,  34.9050,2,  34.9082,2,    296.0,2,    10.26,2,    14.09,2,     0.02,2,     0.99,2,    1.016,2,    0.491,2,    0.031,2,    2.396,2,    3.242,2,   2161.9,2,   -999.0,9, -999.000,9,-999.0000,9,  -999.00,9,  -0.7591
  58JH19951108,   GNS,   322,  1,      4,2,19951118, 70.8340,   3.1310, 3162,   1999.7,  -0.8450,  34.9070,2,  34.9095,2,    297.3,2,    11.50,2,    14.31,2,     0.01,2,     1.00,2,    0.555,2,    0.293,2, -999.000,9,    1.824,2,    1.796,2,   2158.6,2,   -999.0,9, -999.000,9,-999.0000,9,  -999.00,9,  -0.9383
  58JH19951108,   GNS,   322,  1,      3,2,19951118, 70.8340,   3.1310, 3162,   2501.5,  -0.8810,  34.9070,2,  34.9089,2,    297.7,2,    12.22,2,    14.48,2,     0.01,2,     1.02,2,    0.432,2,    0.233,2, -999.000,9,    1.609,2,    1.378,2,   2159.3,2,   2270.3,3, -999.000,9,-999.0000,9,  -999.00,9,  -1.0078
  58JH19951108,   GNS,   322,  1,      2,2,19951118, 70.8340,   3.1310, 3162,   2998.3,  -0.8600,  34.9080,2,  34.9093,2,    297.3,2,    12.94,2,    14.61,2,     0.01,2,     1.02,2,    0.311,2,    0.164,2, -999.000,9,    1.385,2,     0.99,2,   2159.0,2,   2274.4,3, -999.000,9,-999.0000,9,  -999.00,9,  -1.0250
  58JH19951108,   GNS,   322,  1,      1,2,19951118, 70.8340,   3.1310, 3162,   3101.9,  -0.8520,  34.9080,2,  34.9091,2,    297.7,2,    13.04,2,    14.68,2,     0.01,2,     1.04,2,    0.304,2,    0.172,2, -999.000,9,    1.372,2,    0.964,2,   2185.3,2,   2286.9,3, -999.000,9,-999.0000,9,  -999.00,9,  -1.0256
  58JH19951108,   GNS,   323,  1,     12,2,19951118, 70.4170,   4.0660, 3210,     11.1,   5.8540,  35.1060,2,  35.1119,2,    292.0,2,     4.60,2,    10.08,2,     0.03,2,     0.68,2, -999.000,9, -999.000,9, -999.000,9, -999.000,9,     -999,9,   2146.8,2,   2246.3,3, -999.000,9,-999.0000,9,  -999.00,9,   5.8531
  58JH19951108,   GNS,   323,  1,     11,2,19951118, 70.4170,   4.0660, 3210,     49.1,   5.7910,  35.1030,2,  35.1089,2,    291.6,2,     4.67,2,    10.18,2,     0.03,2,     0.69,2, -999.000,9, -999.000,9, -999.000,9, -999.000,9,     -999,9,   2148.1,2,   -999.0,9, -999.000,9,-999.0000,9,  -999.00,9,   5.7869
  58JH19951108,   GNS,   323,  1,     10,2,19951118, 70.4170,   4.0660, 3210,     98.7,   5.6060,  35.1010,2,  35.1068,2,    292.9,2,     4.76,2,    10.31,2,     0.03,2,     0.69,2, -999.000,9, -999.000,9, -999.000,9, -999.000,9,     -999,9,   2131.5,2,   2256.9,3, -999.000,9,-999.0000,9,  -999.00,9,   5.5979
  58JH19951108,   GNS,   323,  1,      9,2,19951118, 70.4170,   4.0660, 3210,    199.4,   5.3220,  35.0850,2,  35.0907,2,    294.6,2,     4.87,2,    10.50,2,     0.03,2,     0.71,2, -999.000,9, -999.000,9, -999.000,9, -999.000,9,     -999,9,   2132.6,2,   -999.0,9, -999.000,9,-999.0000,9,  -999.00,9,   5.3059
  58JH19951108,   GNS,   323,  1,      8,2,19951118, 70.4170,   4.0660, 3210,    399.1,   4.1860,  35.0580,2,  35.0633,2,    299.0,2,     5.56,2,    12.12,2,     0.01,2,     0.81,2, -999.000,9, -999.000,9, -999.000,9, -999.000,9,     -999,9,   2139.0,2,   -999.0,9, -999.000,9,-999.0000,9,  -999.00,9,   4.1567
  58JH19951108,   GNS,   323,  1,      7,2,19951118, 70.4170,   4.0660, 3210,    598.4,   3.4070,  35.0130,2,  35.0180,2,    299.4,2,     5.89,2,    12.51,2,     0.01,2,     0.84,2, -999.000,9, -999.000,9, -999.000,9, -999.000,9,     -999,9,   2142.0,2,   -999.0,9, -999.000,9,-999.0000,9,  -999.00,9,   3.3658
  58JH19951108,   GNS,   323,  1,      6,2,19951118, 70.4170,   4.0660, 3210,    798.7,   0.6170,  34.8920,2,  34.8963,2,    299.5,2,     6.90,2,    13.48,2,     0.01,2,     0.91,2, -999.000,9, -999.000,9, -999.000,9, -999.000,9,     -999,9,   2152.7,2,   -999.0,9, -999.000,9,-999.0000,9,  -999.00,9,   0.5787
  58JH19951108,   GNS,   323,  1,      5,2,19951118, 70.4170,   4.0660, 3210,   1001.2,  -0.1630,  34.8920,2,  34.8959,2,    299.0,2,     7.79,2,    13.64,2,     0.01,2,     0.93,2, -999.000,9, -999.000,9, -999.000,9, -999.000,9,     -999,9,   2157.5,2,   -999.0,9, -999.000,9,-999.0000,9,  -999.00,9,  -0.2064
  58JH19951108,   GNS,   323,  1,      4,2,19951118, 70.4170,   4.0660, 3210,   1498.9,  -0.6660,  34.9050,2,  34.9082,2,    295.5,2,    10.06,2,    14.17,2,     0.01,2,     0.96,2, -999.000,9, -999.000,9, -999.000,9, -999.000,9,     -999,9,   2158.9,2,   -999.0,9, -999.000,9,-999.0000,9,  -999.00,9,  -0.7314
  58JH19951108,   GNS,   323,  1,      3,2,19951118, 70.4170,   4.0660, 3210,   2000.4,  -0.8380,  34.9070,2,  34.9095,2,    297.3,2,    11.40,2,    14.31,2,     0.01,2,     0.98,2, -999.000,9, -999.000,9, -999.000,9, -999.000,9,     -999,9,   2158.5,2,   -999.0,9, -999.000,9,-999.0000,9,  -999.00,9,  -0.9314
  58JH19951108,   GNS,   323,  1,      2,2,19951118, 70.4170,   4.0660, 3210,   2598.4,  -0.8780,  34.9070,2,  34.9088,2,    297.7,2,    12.30,2,    14.49,2,     0.01,2,     0.98,2, -999.000,9, -999.000,9, -999.000,9, -999.000,9,     -999,9,   2161.9,2,   -999.0,9, -999.000,9,-999.0000,9,  -999.00,9,  -1.0119
  58JH19951108,   GNS,   323,  1,      1,2,19951118, 70.4170,   4.0660, 3210,   3150.2,  -0.8480,  34.9080,2,  34.9091,2,    296.8,2,    13.04,2,    14.75,2,     0.01,2,     1.00,2, -999.000,9, -999.000,9, -999.000,9, -999.000,9,     -999,9,   2157.2,2,   -999.0,9, -999.000,9,-999.0000,9,  -999.00,9,  -1.0257
  58JH19951108,   GNS,   324,  2,     12,2,19951118, 69.9970,   4.9990, 3214,     10.8,   6.4100,  35.1190,2,  35.1250,2,    285.5,2,     4.52,2,    10.06,2,     0.04,2,     0.67,2,    4.710,2,    2.476,2,    0.436,2,    5.348,2,   11.409,2,   2135.9,2,   -999.0,9, -999.000,9,-999.0000,9,  -999.00,9,   6.4090
  58JH19951108,   GNS,   324,  2,     11,2,19951118, 69.9970,   4.9990, 3214,     30.4,   6.4240,  35.1190,2,  35.1250,2,    286.8,2,     4.54,2,    10.15,2,     0.04,2,     0.68,2, -999.000,9, -999.000,9, -999.000,9, -999.000,9,     -999,9,   2144.0,2,   -999.0,9, -999.000,9,-999.0000,9,  -999.00,9,   6.4213
  58JH19951108,   GNS,   324,  2,     10,2,19951118, 69.9970,   4.9990, 3214,     49.2,   6.4260,  35.1190,2,  35.1250,2,    285.9,2,     4.55,2,    10.16,2,     0.04,2,     0.68,2,    4.715,2,    2.472,2,    0.434,2,    5.293,2,   11.311,2,   2132.0,2,   2268.6,3,    1.856,2,   0.0000,2,    -1.62,2,   6.4216
  58JH19951108,   GNS,   324,  2,      9,2,19951118, 69.9970,   4.9990, 3214,     97.6,   6.4320,  35.1190,2,  35.1249,2,    286.8,2,     4.55,2,    10.18,2,     0.04,2,     0.69,2,    4.717,2,    2.450,2,    0.434,2,    5.330,2,   11.487,2,   2137.0,2,   2243.4,3, -999.000,9,-999.0000,9,  -999.00,9,   6.4233
  58JH19951108,   GNS,   324,  2,      8,2,19951118, 69.9970,   4.9990, 3214,    150.4,   6.4230,  35.1180,2,  35.1238,2,    284.6,2,     4.68,2,    10.38,2,     0.04,2,     0.70,2, -999.000,9, -999.000,9, -999.000,9, -999.000,9,     -999,9,   2134.5,2,   2237.5,3, -999.000,9,-999.0000,9,  -999.00,9,   6.4096
  58JH19951108,   GNS,   324,  2,      7,2,19951118, 69.9970,   4.9990, 3214,    199.0,   5.8100,  35.1050,2,-999.0000,9,   -999.0,9,  -999.00,9,  -999.00,9,  -999.00,9,  -999.00,9, -999.000,9, -999.000,9, -999.000,9, -999.000,9,     -999,9,   -999.0,9,   2260.2,3, -999.000,9,-999.0000,9,  -999.00,9,   5.7931
  58JH19951108,   GNS,   324,  2,      6,2,19951118, 69.9970,   4.9990, 3214,    247.5,   5.3010,  35.0710,2,  35.0766,2,    286.8,2,     5.66,2,    12.17,2,     0.02,2,     0.82,2,    4.939,2,    2.528,2,    0.440,2,    5.204,2,   13.035,2,   2145.1,2,   -999.0,9,    1.850,2,   0.0000,2,    -0.89,2,   5.2809
  58JH19951108,   GNS,   324,  2,      5,2,19951118, 69.9970,   4.9990, 3214,    301.0,   4.5800,  35.0320,2,  35.0375,2,    294.6,2,     5.65,2,    12.25,2,     0.02,2,     0.83,2,    5.138,2,    2.620,2,    0.463,2,    5.800,2,   13.887,2,   2135.9,2,   2245.2,3,    1.854,2,   0.0000,2,    -1.15,2,   4.5572
  58JH19951108,   GNS,   324,  2,      4,2,19951118, 69.9970,   4.9990, 3214,    398.1,   4.1560,  35.0460,2,  35.0503,2,    297.3,2,     5.88,2,    12.45,2,     0.02,2,     0.83,2,    5.314,2,    2.679,2,    0.469,2,    6.095,2,   14.445,2,   2148.1,2,   2231.9,3,    1.920,2,   0.0000,2,    -1.46,2,   4.1268
  58JH19951108,   GNS,   324,  2,      3,2,19951118, 69.9970,   4.9990, 3214,    501.3,   3.9890,  35.0520,2,  35.0571,2,    299.4,2,     6.01,2,    12.58,2,     0.02,2,     0.84,2,    5.363,2,    2.675,2,    0.477,2,    6.180,2,   14.866,2,   2135.1,2,   -999.0,9, -999.000,9,-999.0000,9,  -999.00,9,   3.9525
  58JH19951108,   GNS,   324,  2,      2,2,19951118, 69.9970,   4.9990, 3214,    600.6,   3.3160,  35.0070,2,  35.0119,2,    299.4,2,     5.90,2,    12.65,2,     0.01,2,     0.85,2,    5.398,2,    2.656,2,    0.476,2,    6.216,2,   15.681,2,   2144.6,2,   -999.0,9,    1.891,2,   0.0000,2,    -0.41,2,   3.2751
  58JH19951108,   GNS,   324,  2,      1,2,19951118, 69.9970,   4.9990, 3214,    799.4,   0.6480,  34.8900,2,  34.8943,2,    300.8,2,     6.86,2,    13.58,2,     0.02,2,     0.92,2,    4.564,2,    2.186,2,    0.370,2,    5.578,2,   14.432,2,   2149.7,2,   -999.0,9, -999.000,9,-999.0000,9,  -999.00,9,   0.6095
  58JH19951108,   GNS,   324,  1,     12,2,19951118, 69.9970,   4.9990, 3214,   1000.7,  -0.0970,  34.8910,2,  34.8949,2,    299.5,2,     7.63,2,    13.69,2,     0.01,2,     0.94,2,    3.350,2,    1.571,2,    0.234,2,    4.468,2,    10.35,2,   2153.5,2,   -999.0,9,    1.405,2,   0.0000,2,     6.42,2,  -0.1409
  58JH19951108,   GNS,   324,  1,     11,2,19951118, 69.9970,   4.9990, 3214,   1198.8,  -0.4340,  34.8980,2,  34.9016,2,    297.7,2,     8.73,2,    13.96,2,     0.02,2,     0.96,2,    2.093,2,    0.991,2,    0.100,2,    3.406,2,    6.458,2,   2194.9,3,   2270.4,3,    1.060,2,   0.0000,2,     7.33,2,  -0.4854
  58JH19951108,   GNS,   324,  1,     10,2,19951118, 69.9970,   4.9990, 3214,   1399.4,  -0.6100,  34.9030,2,  34.9063,2,    296.0,2,     9.70,2,    14.17,2,     0.02,2,     0.97,2,    1.345,2,    0.672,2,    0.064,2,    2.741,2,    4.175,2,   2186.2,3,   2270.3,3,    0.894,2,   0.0000,2,     7.13,2,  -0.6705
  58JH19951108,   GNS,   324,  1,      9,2,19951118, 69.9970,   4.9990, 3214,   1599.2,  -0.7100,  34.9060,2,  34.9091,2,    296.0,2,    10.39,2,    14.28,2,     0.02,2,     0.99,2,    0.950,2,    0.482,2,    0.028,2,    2.319,2,    2.936,2,   2174.2,2,   -999.0,9,    0.720,2,   0.0000,2,     6.58,2,  -0.7807
  58JH19951108,   GNS,   324,  1,      8,2,19951118, 69.9970,   4.9990, 3214,   1798.9,  -0.7880,  34.9070,2,  34.9098,2,    297.3,2,    11.00,2,    14.35,2,     0.01,2,     0.99,2,    0.694,2,    0.371,2,    0.023,2,    1.984,2,    2.151,2,   2172.4,2,   -999.0,9,    0.584,2,   0.0000,2,     6.15,2,  -0.8695
  58JH19951108,   GNS,   324,  1,      7,2,19951118, 69.9970,   4.9990, 3214,   1999.4,  -0.8320,  34.9070,2,  34.9095,2,    297.7,2,    11.39,2,    14.42,2,     0.01,2,     1.00,2,    0.569,2,    0.302,2,    0.018,2,    1.819,2,    1.799,2,   2174.3,2,   -999.0,9,    0.521,2,   0.0000,2,     5.57,2,  -0.9254
  58JH19951108,   GNS,   324,  1,      6,2,19951118, 69.9970,   4.9990, 3214,   2198.2,  -0.8590,  34.9070,2,  34.9093,2,    298.2,2,    11.72,2,    14.46,2,     0.01,2,     1.00,2,    0.500,2,    0.271,2,    0.017,2,    1.708,2,    1.578,2,   2169.0,2,   -999.0,9,    0.423,2,   0.0000,2,     5.58,2,  -0.9651
  58JH19951108,   GNS,   324,  1,      5,2,19951118, 69.9970,   4.9990, 3214,   2397.9,  -0.8760,  34.9070,2,  34.9090,2,    298.6,2,    12.05,2,    14.54,2,     0.01,2,     1.00,2,    0.443,2,    0.247,2,    0.018,2,    1.605,2,    1.393,2,   2167.8,2,   -999.0,9, -999.000,9,   0.0000,2,     5.36,2,  -0.9955
  58JH19951108,   GNS,   324,  1,      4,2,19951118, 69.9970,   4.9990, 3214,   2599.3,  -0.8780,  34.9070,2,  34.9088,2,   -999.0,9,    12.33,2,    14.57,2,     0.01,2,     0.99,2,    0.400,2,    0.226,2,    0.017,2,    1.545,2,    1.283,2,   2176.2,2,   -999.0,9,    0.412,2,   0.0000,2,     4.91,2,  -1.0120
  58JH19951108,   GNS,   324,  1,      3,2,19951118, 69.9970,   4.9990, 3214,   2800.0,  -0.8710,  34.9070,2,  34.9085,2,    297.3,2,    12.70,2,    14.64,2,     0.02,2,     1.01,2,    0.353,2,    0.196,2, -999.000,9,    1.454,2,     1.13,2,   2176.0,2,   -999.0,9,    0.351,2,   0.0000,2,     4.71,2,  -1.0202
  58JH19951108,   GNS,   324,  1,      2,2,19951118, 69.9970,   4.9990, 3214,   3000.3,  -0.8600,  34.9080,2,  34.9093,2,    296.8,2,    12.90,2,    14.73,2,     0.01,2,     1.01,2,    0.312,2,    0.178,2, -999.000,9,    1.397,2,    1.086,2,   2170.2,2,   -999.0,9,    0.354,2,   0.0000,2,     4.80,2,  -1.0252
  58JH19951108,   GNS,   324,  1,      1,2,19951118, 69.9970,   4.9990, 3214,   3151.8,  -0.8480,  34.9080,2,  34.9091,2,    297.3,2,    13.05,2,    14.76,2,     0.01,2,     1.01,2,    0.300,2,    0.177,2, -999.000,9,    1.360,2,    1.047,2,   2172.7,2,   -999.0,9,    0.339,2,   0.0000,2,     4.32,2,  -1.0258
  58JH19951108,   GNS,   325,  1,     12,2,19951119, 69.0010,   3.2460, 3229,     10.9,   5.6170,  35.0970,2,  35.1029,2,    292.0,2,     4.70,2,    10.29,2,     0.03,2,     0.70,2,    4.937,2,    2.557,2,    0.460,2,    5.870,2,   12.079,2,   2145.9,2,   -999.0,9, -999.000,9,-999.0000,9,  -999.00,9,   5.6161
  58JH19951108,   GNS,   325,  1,     11,2,19951119, 69.0010,   3.2460, 3229,    100.9,   5.6470,  35.0960,2,  35.1018,2,    291.1,2,     4.73,2,    10.32,2,     0.03,2,     0.71,2,    4.942,2,    2.558,2,    0.456,2,    5.870,2,   12.037,2,   2142.1,2,   2249.6,3, -999.000,9,-999.0000,9,  -999.00,9,   5.6386
  58JH19951108,   GNS,   325,  1,     10,2,19951119, 69.0010,   3.2460, 3229,    249.1,   5.1610,  35.0630,2,  35.0676,2,    289.4,2,     5.80,2,    12.35,2,     0.02,2,     0.83,2,    5.044,2,    2.567,2,    0.451,2,    5.426,2,   13.362,2,   2144.7,2,   -999.0,9, -999.000,9,-999.0000,9,  -999.00,9,   5.1411
  58JH19951108,   GNS,   325,  1,      9,2,19951119, 69.0010,   3.2460, 3229,    499.9,   3.8550,  35.0400,2,  35.0451,2,    297.7,2,     5.73,2,    12.41,2,     0.01,2,     0.84,2,    5.376,2,    2.683,2,    0.475,2,    6.176,2,   15.135,2,   2152.2,2,   -999.0,9, -999.000,9,-999.0000,9,  -999.00,9,   3.8192
  58JH19951108,   GNS,   325,  1,      8,2,19951119, 69.0010,   3.2460, 3229,    750.0,   0.7850,  34.8930,2,-999.0000,9,   -999.0,9,  -999.00,9,  -999.00,9,  -999.00,9,  -999.00,9, -999.000,9, -999.000,9, -999.000,9, -999.000,9,     -999,9,   -999.0,9,   -999.0,9, -999.000,9,-999.0000,9,  -999.00,9,   0.7484
  58JH19951108,   GNS,   325,  1,      7,2,19951119, 69.0010,   3.2460, 3229,   1001.6,  -0.1800,  34.8920,2,  34.8959,2,    299.0,2,     7.82,2,    13.75,2,     0.01,2,     0.94,2,    3.132,2,    1.449,2,    0.224,2,    4.300,2,    9.607,2,   2164.1,2,   2231.9,3, -999.000,9,-999.0000,9,  -999.00,9,  -0.2232
  58JH19951108,   GNS,   325,  1,      6,2,19951119, 69.0010,   3.2460, 3229,   1498.6,  -0.6720,  34.9050,2,  34.9082,2,    295.1,2,    10.13,2,    14.25,2,     0.01,2,     0.98,2,    1.087,2,    0.544,2,    0.044,2,    2.503,2,    3.406,2,   2033.4,3,   -999.0,9, -999.000,9,-999.0000,9,  -999.00,9,  -0.7373
  58JH19951108,   GNS,   325,  1,      5,2,19951119, 69.0010,   3.2460, 3229,   1999.7,  -0.8290,  34.9070,2,  34.9095,2,    296.8,2,    11.39,2,    14.39,2,     0.02,2,     1.00,2,    0.570,2,    0.310,2,    0.021,2,    1.837,2,      1.8,2,   2171.6,2,   -999.0,9, -999.000,9,-999.0000,9,  -999.00,9,  -0.9225
  58JH19951108,   GNS,   325,  1,      4,2,19951119, 69.0010,   3.2460, 3229,   2348.3,  -0.8730,  34.9070,2,  34.9091,2,    297.3,2,    11.95,2,    14.52,2,     0.02,2,     1.00,2,    0.452,2,    0.250,2,    0.017,2,    1.649,2,    1.429,2,   2162.5,2,   2255.9,3, -999.000,9,-999.0000,9,  -999.00,9,  -0.9891
  58JH19951108,   GNS,   325,  1,      3,2,19951119, 69.0010,   3.2460, 3229,   2699.2,  -0.8740,  34.9070,2,  34.9086,2,    297.3,2,    12.49,2,    14.63,2,     0.02,2,     1.01,2,    0.378,2,    0.218,2,    0.018,2,    1.505,2,    1.179,2,   2174.0,2,   2272.5,3, -999.000,9,-999.0000,9,  -999.00,9,  -1.0155
  58JH19951108,   GNS,   325,  1,      2,2,19951119, 69.0010,   3.2460, 3229,   2998.9,  -0.8590,  34.9080,2,  34.9083,2,    297.3,2,    12.89,2,    14.70,2,     0.02,2,     1.02,2,    0.318,2,    0.181,2,    0.017,2,    1.393,2,    0.977,2,   2174.1,2,   -999.0,9, -999.000,9,-999.0000,9,  -999.00,9,  -1.0241
  58JH19951108,   GNS,   325,  1,      1,2,19951119, 69.0010,   3.2460, 3229,   3151.2,  -0.8480,  34.9080,2,  34.9091,2,    296.0,2,    13.11,2,    14.73,2,     0.01,2,     1.02,2,    0.296,2,    0.172,2,    0.018,2,    1.327,2,    0.874,2,   2185.6,2,   2270.3,3, -999.000,9,-999.0000,9,  -999.00,9,  -1.0257