BOTTLE,20081218PRINUNIVRMKPRINUNIVRMK
EXPOCODE,SECT_ID,STNNBR,CASTNO,BTLNBR,BTLNBR_FLAG_W,DATE,LATITUDE,LONGITUDE,DEPTH,CTDPRS,CTDTMP,CTDSAL,CTDSAL_FLAG_W,SALNTY,SALNTY_FLAG_W,OXYGEN,OXYGEN_FLAG_W,SILCAT,SILCAT_FLAG_W,NITRAT,NITRAT_FLAG_W,NITRIT,NITRIT_FLAG_W,PHSPHT,PHSPHT_FLAG_W,CFC-11,CFC-11_FLAG_W,CFC-12,CFC-12_FLAG_W,CFC113,CFC113_FLAG_W,CCL4,CCL4_FLAG_W,MCHFRM,MCHFRM_FLAG_W,TCARBN,TCARBN_FLAG_W,ALKALI,ALKALI_FLAG_W,TRITUM,TRITUM_FLAG_W,HELIUM,HELIUM_FLAG_W,DELHE3,DELHE3_FLAG_W,THETA
,,,,,,,,,METERS,DBARS,ITS-90,PSS-78,,PSS-78,,UMOL/KG,,UMOL/KG,,UMOL/KG,,UMOL/KG,,UMOL/KG,,PMOL/KG,,PMOL/KG,,PMOL/KG,,PMOL/KG,,PMOL/KG,,UMOL/KG,,UMOL/KG,,TU,,NMOL/KG,,PERCNT,,DEGC
  58JH19951108,   GNS,   299,  1,     12,2,19951113, 74.4990,  13.9970, 2104,     10.1,   4.7300,  35.0510,2,  35.0568,2,    295.9,2,     4.77,2,    10.55,2,     0.05,2,     0.72,2,    5.128,2,    2.752,2,    0.472,2,    5.969,2,   13.175,2,   -999.0,9,   -999.0,9, -999.000,9,-999.0000,9,  -999.00,9,   4.7292
  58JH19951108,   GNS,   299,  1,     11,2,19951113, 74.4990,  13.9970, 2104,     49.3,   4.7290,  35.0510,2,  35.0568,2,    296.8,2,     4.75,2,    10.48,2,     0.05,2,     0.72,2,    5.126,2,    2.743,2,    0.479,2,    5.761,2,   13.077,2,   -999.0,9,   -999.0,9, -999.000,9,-999.0000,9,  -999.00,9,   4.7253
  58JH19951108,   GNS,   299,  1,     10,2,19951113, 74.4990,  13.9970, 2104,     98.7,   4.7340,  35.0510,2,  35.0567,2,    294.6,2,     4.75,2,    10.52,2,     0.05,2,     0.71,2,    5.138,2,    2.756,2,    0.465,2,    5.936,2,   13.109,2,   -999.0,9,   -999.0,9, -999.000,9,-999.0000,9,  -999.00,9,   4.7265
  58JH19951108,   GNS,   299,  1,      9,2,19951113, 74.4990,  13.9970, 2104,    199.5,   4.7360,  35.0500,2,  35.0556,2,    296.8,2,     4.76,2,    10.53,2,     0.05,2,     0.73,2,    5.127,2,    2.780,2,    0.473,2,    5.962,2,   13.148,2,   -999.0,9,   -999.0,9, -999.000,9,-999.0000,9,  -999.00,9,   4.7208
  58JH19951108,   GNS,   299,  1,      8,2,19951113, 74.4990,  13.9970, 2104,    298.0,   4.0770,  35.0470,2,  35.0524,2,    298.1,2,     4.76,2,    10.56,2,     0.05,2,     0.72,2,    5.289,2,    2.772,2,    0.455,2,    5.954,2,   14.863,2,   -999.0,9,   -999.0,9, -999.000,9,-999.0000,9,  -999.00,9,   4.0556
  58JH19951108,   GNS,   299,  1,      7,2,19951113, 74.4990,  13.9970, 2104,    500.4,   2.7870,  35.0000,2,  35.0040,2,    302.9,2,     5.65,2,    12.32,2,     0.01,2,     0.84,2,    5.335,2,    2.753,2,    0.464,2,    6.171,2,    15.43,2,   -999.0,9,   -999.0,9, -999.000,9,-999.0000,9,  -999.00,9,   2.7554
  58JH19951108,   GNS,   299,  1,      6,2,19951113, 74.4990,  13.9970, 2104,    750.4,  -0.0320,  34.8920,2,  34.8963,2,    299.0,2,     6.00,3,    12.77,2,     0.01,2,     0.86,2,    3.594,2,    1.744,2,    0.258,2,    4.688,2,   11.087,2,   -999.0,9,   -999.0,9, -999.000,9,-999.0000,9,  -999.00,9,  -0.0636
  58JH19951108,   GNS,   299,  1,      5,2,19951113, 74.4990,  13.9970, 2104,    999.8,  -0.5370,  34.8960,2,  34.8999,0,    296.4,2,     7.70,2,    13.76,2,     0.01,2,     0.94,2,    5.089,2, -999.000,9,    0.459,2,    5.886,2,   12.895,2,   -999.0,9,   -999.0,9, -999.000,9,-999.0000,9,  -999.00,9,  -0.5772
  58JH19951108,   GNS,   299,  1,      4,2,19951113, 74.4990,  13.9970, 2104,   1250.2,  -0.7180,  34.9040,2,  34.9075,2,    297.3,2,    10.42,2,    14.35,2,     0.01,2,     1.00,2,    1.114,2,    0.595,2,    0.038,2,    2.456,2,    3.415,2,   -999.0,9,   -999.0,9, -999.000,9,-999.0000,9,  -999.00,9,  -0.7693
  58JH19951108,   GNS,   299,  1,      3,2,19951113, 74.4990,  13.9970, 2104,   1501.5,  -0.8250,  34.9060,2,  34.9092,2,    297.3,2,    11.28,2,    14.50,2,     0.01,2,     1.00,2,    0.767,2,    0.425,2,    0.025,2,    2.049,2,    2.362,2,   -999.0,9,   -999.0,9, -999.000,9,-999.0000,9,  -999.00,9,  -0.8887
  58JH19951108,   GNS,   299,  1,      2,2,19951113, 74.4990,  13.9970, 2104,   1747.5,  -0.8900,  34.9070,2,  34.9098,2,    298.6,2,    11.86,2,    14.67,2,     0.01,2,     1.01,2,    0.584,2,    0.329,2,    0.023,2,    1.819,2,    1.805,2,   -999.0,9,   -999.0,9, -999.000,9,-999.0000,9,  -999.00,9,  -0.9670
  58JH19951108,   GNS,   299,  1,      1,2,19951113, 74.4990,  13.9970, 2104,   2050.4,  -0.9230,  34.9060,2,  34.9060,2,    299.0,2,    12.45,2,    14.78,2,     0.01,2,  -999.00,9,    0.528,2,    0.301,2,    0.021,2,    1.694,2,    1.635,2,   -999.0,9,   -999.0,9, -999.000,9,-999.0000,9,  -999.00,9,  -1.0182
  58JH19951108,   GNS,   300,  1,     12,2,19951113, 74.4990,  12.4910, 2285,     10.2,   4.8020,  35.0570,2,  35.0628,2,    298.6,2,     4.68,2,    10.40,2,     0.07,2,     0.71,2, -999.000,9, -999.000,9, -999.000,9, -999.000,9,     -999,9,   2141.1,2,   2231.6,3, -999.000,9,-999.0000,9,  -999.00,9,   4.8012
  58JH19951108,   GNS,   300,  1,     11,2,19951113, 74.4990,  12.4910, 2285,     49.8,   4.8040,  35.0570,2,  35.0628,2,    295.9,2,     4.64,2,    10.27,2,     0.07,2,     0.71,2, -999.000,9, -999.000,9, -999.000,9, -999.000,9,     -999,9,   2138.8,2,   2255.1,3, -999.000,9,-999.0000,9,  -999.00,9,   4.8002
  58JH19951108,   GNS,   300,  1,     10,2,19951113, 74.4990,  12.4910, 2285,     99.7,   4.7990,  35.0570,2,  35.0627,2,    296.4,2,     4.59,2,    10.26,2,     0.07,2,     0.71,2, -999.000,9, -999.000,9, -999.000,9, -999.000,9,     -999,9,   2160.0,2,   2259.6,3, -999.000,9,-999.0000,9,  -999.00,9,   4.7914
  58JH19951108,   GNS,   300,  1,      9,2,19951113, 74.4990,  12.4910, 2285,    251.0,   4.2710,  35.0400,2,  35.0455,2,    294.2,2,     5.73,2,    12.43,2,     0.01,2,     0.85,2, -999.000,9, -999.000,9, -999.000,9, -999.000,9,     -999,9,   2172.1,2,   2246.0,3, -999.000,9,-999.0000,9,  -999.00,9,   4.2527
  58JH19951108,   GNS,   300,  1,      8,2,19951113, 74.4990,  12.4910, 2285,    500.4,   2.3980,  34.9760,2,  34.9809,2,    301.2,2,     6.25,2,    12.75,2,     0.01,2,     0.88,2, -999.000,9, -999.000,9, -999.000,9, -999.000,9,     -999,9,   2174.7,2,   -999.0,9, -999.000,9,-999.0000,9,  -999.00,9,   2.3680
  58JH19951108,   GNS,   300,  1,      7,2,19951113, 74.4990,  12.4910, 2285,    750.2,  -0.1780,  34.8860,2,  34.8902,2,    311.7,2,     7.19,2,    13.17,2,     0.01,2,     0.91,2, -999.000,9, -999.000,9, -999.000,9, -999.000,9,     -999,9,   2173.9,2,   2266.5,3, -999.000,9,-999.0000,9,  -999.00,9,  -0.2087
  58JH19951108,   GNS,   300,  1,      6,2,19951113, 74.4990,  12.4910, 2285,    999.3,  -0.6550,  34.8840,2,  34.8878,2,    312.5,2,     7.88,2,    13.35,2,     0.01,2,     0.93,2, -999.000,9, -999.000,9, -999.000,9, -999.000,9,     -999,9,   2182.5,2,   2266.4,3, -999.000,9,-999.0000,9,  -999.00,9,  -0.6942
  58JH19951108,   GNS,   300,  1,      5,2,19951113, 74.4990,  12.4910, 2285,   1249.0,  -0.7040,  34.9010,2,-999.0000,9,   -999.0,9,  -999.00,9,  -999.00,9,  -999.00,9,  -999.00,9, -999.000,9, -999.000,9, -999.000,9, -999.000,9,     -999,9,   -999.0,9,   2277.7,3, -999.000,9,-999.0000,9,  -999.00,9,  -0.7553
  58JH19951108,   GNS,   300,  1,      4,2,19951113, 74.4990,  12.4910, 2285,   1498.0,  -0.7970,  34.9050,2,  34.9082,2,    298.2,2,    10.73,2,    14.26,2,     0.01,2,     1.00,2, -999.000,9, -999.000,9, -999.000,9, -999.000,9,     -999,9,   2178.7,2,   -999.0,9, -999.000,9,-999.0000,9,  -999.00,9,  -0.8608
  58JH19951108,   GNS,   300,  1,      3,2,19951113, 74.4990,  12.4910, 2285,   1751.1,  -0.8710,  34.9060,2,  34.9088,2,    297.7,2,    11.47,2,    14.38,2,     0.01,2,     1.02,2, -999.000,9, -999.000,9, -999.000,9, -999.000,9,     -999,9,   2177.3,2,   -999.0,9, -999.000,9,-999.0000,9,  -999.00,9,  -0.9485
  58JH19951108,   GNS,   300,  1,      2,2,19951113, 74.4990,  12.4910, 2285,   1999.5,  -0.9030,  34.9060,2,  34.9085,2,    298.6,2,    11.87,2,    14.47,2,     0.01,2,     1.01,2, -999.000,9, -999.000,9, -999.000,9, -999.000,9,     -999,9,   2170.3,2,   2310.3,3, -999.000,9,-999.0000,9,  -999.00,9,  -0.9953
  58JH19951108,   GNS,   300,  1,      1,2,19951113, 74.4990,  12.4910, 2285,   2226.4,  -0.9160,  34.9060,2,  34.9082,2,    298.6,2,    12.17,2,    14.51,2,     0.01,2,     1.04,2, -999.000,9, -999.000,9, -999.000,9, -999.000,9,     -999,9,   2170.7,2,   2253.8,3, -999.000,9,-999.0000,9,  -999.00,9,  -1.0230
  58JH19951108,   GNS,   301,  3,     12,2,19951113, 74.4990,  10.9860, 2392,     10.6,   4.2470,  35.0460,2,  35.0518,2,    299.9,2,     4.82,2,    10.66,2,     0.06,2,     0.75,2,    5.302,2,    2.835,2,    0.488,2,    6.295,2,    13.61,2,   2137.2,2,   -999.0,9, -999.000,9,-999.0000,9,  -999.00,9,   4.2462
  58JH19951108,   GNS,   301,  3,     11,2,19951113, 74.4990,  10.9860, 2392,     19.1,   4.2480,  35.0460,2,  35.0517,2,    299.9,2,     4.81,2,    10.64,2,     0.06,2,     0.78,2,    5.287,2,    2.848,2,    0.484,2,    6.349,2,   13.622,2,   2133.6,2,   2201.2,3, -999.000,9,-999.0000,9,  -999.00,9,   4.2466
  58JH19951108,   GNS,   301,  3,     10,2,19951113, 74.4990,  10.9860, 2392,     27.7,   4.2410,  35.0460,2,  35.0517,2,    299.0,2,     4.78,2,    10.59,2,     0.06,2,     0.73,2, -999.000,9, -999.000,9, -999.000,9, -999.000,9,     -999,9,   2152.5,2,   2226.4,3, -999.000,9,-999.0000,9,  -999.00,9,   4.2390
  58JH19951108,   GNS,   301,  3,      9,2,19951113, 74.4990,  10.9860, 2392,     38.6,   4.2330,  35.0470,2,  35.0527,2,    299.9,2,     4.83,2,    10.66,2,     0.06,2,     0.73,2, -999.000,9, -999.000,9, -999.000,9, -999.000,9,     -999,9,   2153.3,2,   2246.9,3, -999.000,9,-999.0000,9,  -999.00,9,   4.2303
  58JH19951108,   GNS,   301,  3,      8,2,19951113, 74.4990,  10.9860, 2392,     51.1,   4.2290,  35.0470,2,  35.0527,2,    299.9,2,     4.85,2,    10.76,2,     0.06,2,     0.74,2, -999.000,9, -999.000,9, -999.000,9, -999.000,9,     -999,9,   2148.8,2,   -999.0,9, -999.000,9,-999.0000,9,  -999.00,9,   4.2254
  58JH19951108,   GNS,   301,  3,      7,2,19951113, 74.4990,  10.9860, 2392,     75.9,   4.1840,  35.0470,2,  35.0527,2,    300.7,2,     4.85,2,    10.69,2,     0.07,2,     0.74,2, -999.000,9, -999.000,9, -999.000,9, -999.000,9,     -999,9,   2148.8,2,   2231.8,3, -999.000,9,-999.0000,9,  -999.00,9,   4.1786
  58JH19951108,   GNS,   301,  3,      6,2,19951113, 74.4990,  10.9860, 2392,     98.3,   4.1760,  35.0460,2,  35.0516,2,    300.7,2,     4.83,2,    10.70,2,     0.07,2,     0.74,2,    5.318,2,    2.850,2,    0.494,2,    6.314,2,    13.81,2,   2146.1,2,   2220.7,3, -999.000,9,-999.0000,9,  -999.00,9,   4.1690
  58JH19951108,   GNS,   301,  3,      5,2,19951113, 74.4990,  10.9860, 2392,    122.9,   4.1680,  35.0460,2,  35.0516,2,    300.3,2,     4.85,2,    10.74,2,     0.07,2,     0.74,2,    5.324,2,    2.849,2,    0.497,2,    6.321,2,    13.94,2,   2143.3,2,   -999.0,9, -999.000,9,-999.0000,9,  -999.00,9,   4.1592
  58JH19951108,   GNS,   301,  3,      4,2,19951113, 74.4990,  10.9860, 2392,    150.3,   4.1060,  35.0440,2,  35.0496,2,    300.3,2,     4.77,2,    10.64,2,     0.08,2,     0.74,2,    5.340,2,    2.900,2,    0.495,2,    6.347,2,   14.021,2,   2145.6,2,   2273.9,3, -999.000,9,-999.0000,9,  -999.00,9,   4.0953
  58JH19951108,   GNS,   301,  3,      3,2,19951113, 74.4990,  10.9860, 2392,    199.0,   4.0120,  35.0410,2,  35.0465,2,    299.9,2,     4.98,2,    11.09,2,     0.07,2,     0.77,2,    5.359,2,    2.881,2,    0.494,2,    6.277,2,   14.316,2,   2145.2,2,   -999.0,9, -999.000,9,-999.0000,9,  -999.00,9,   3.9980
  58JH19951108,   GNS,   301,  3,      2,2,19951113, 74.4990,  10.9860, 2392,    249.5,   3.8090,  35.0400,2,  35.0454,2,    299.0,2,     5.62,2,    12.33,2,     0.01,2,     0.84,2,    5.423,2,    2.854,2,    0.479,2,    6.180,2,   15.366,2,   2148.4,2,   2213.0,3, -999.000,9,-999.0000,9,  -999.00,9,   3.7917
  58JH19951108,   GNS,   301,  3,      1,2,19951113, 74.4990,  10.9860, 2392,    300.3,   3.4210,  35.0250,2,  35.0303,2,    299.9,2,     5.73,2,    12.31,2,     0.01,2,     0.85,2,    5.418,2,    2.853,2,    0.473,2,    6.181,2,   15.579,2,   2147.8,2,   2230.6,3, -999.000,9,-999.0000,9,  -999.00,9,   3.4010
  58JH19951108,   GNS,   301,  1,     12,2,19951113, 74.4990,  10.9860, 2392,    398.8,   2.8010,  34.9950,2,  35.0001,2,    302.1,2,     5.90,2,    12.66,2,     0.01,2,     0.86,2,    5.356,2,    2.759,2,    0.466,2,    6.101,2,   15.623,2,   2152.3,2,   2277.4,3, -999.000,9,-999.0000,9,  -999.00,9,   2.7761
  58JH19951108,   GNS,   301,  1,     11,2,19951113, 74.4990,  10.9860, 2392,    498.0,   1.3070,  34.9310,2,  34.9358,2,    303.4,2,     6.61,2,    13.18,2,     0.01,2,     0.91,2,    4.755,2,    2.387,2,    0.397,2,    5.646,2,    14.52,2,   2185.9,3,   2242.7,3, -999.000,9,-999.0000,9,  -999.00,9,   1.2816
  58JH19951108,   GNS,   301,  1,     10,2,19951113, 74.4990,  10.9860, 2392,    600.9,   0.2170,  34.8940,2,  34.8985,2,    305.6,2,     7.13,2,    13.35,2,     0.01,2,     0.92,2,    4.228,2,    2.103,2,    0.337,2,    5.303,2,   12.975,2,   2159.1,2,   2313.3,3, -999.000,9,-999.0000,9,  -999.00,9,   0.1912
  58JH19951108,   GNS,   301,  1,      9,2,19951113, 74.4990,  10.9860, 2392,    801.1,  -0.4760,  34.8850,2,  34.8891,2,    313.9,2,     7.47,2,    13.19,2,     0.01,2,     0.92,2,    4.144,2,    2.065,2,    0.342,2,    5.463,2,   12.368,2,   2151.0,2,   2331.8,3, -999.000,9,-999.0000,9,  -999.00,9,  -0.5072
  58JH19951108,   GNS,   301,  1,      8,2,19951113, 74.4990,  10.9860, 2392,    998.1,  -0.6630,  34.8880,2,  34.8918,2,    309.1,2,     8.23,2,    13.53,2,     0.01,2,     0.95,2,    3.314,2,    1.645,2,    0.257,2,    4.504,2,    9.869,2,   -999.0,9,   2241.1,3, -999.000,9,-999.0000,9,  -999.00,9,  -0.7021
  58JH19951108,   GNS,   301,  1,      7,2,19951113, 74.4990,  10.9860, 2392,   1200.3,  -0.7160,  34.8970,2,  34.9006,2,    301.6,2,     9.34,2,    13.86,2,     0.01,2,     0.96,2,    2.016,2,    1.047,2,    0.144,2,    3.275,2,    6.146,2,   2193.7,3,   2239.2,3, -999.000,9,-999.0000,9,  -999.00,9,  -0.7647
  58JH19951108,   GNS,   301,  1,      6,2,19951113, 74.4990,  10.9860, 2392,   1402.3,  -0.7580,  34.9040,2,  34.9073,2,    298.2,2,    10.34,2,    14.17,2,     0.01,2,     1.00,2,    1.184,2,    0.632,2,    0.083,2,    2.504,2,    3.796,2,   2181.3,2,   -999.0,9, -999.000,9,-999.0000,9,  -999.00,9,  -0.8170
  58JH19951108,   GNS,   301,  1,      5,2,19951113, 74.4990,  10.9860, 2392,   1600.6,  -0.8240,  34.9060,2,  34.9090,2,    298.2,2,    11.09,2,    14.33,2,     0.02,2,  -999.00,9,    0.843,2,    0.464,2,    0.052,2,    2.135,2,    2.676,2,   2189.4,2,   -999.0,9, -999.000,9,-999.0000,9,  -999.00,9,  -0.8933
  58JH19951108,   GNS,   301,  1,      4,2,19951113, 74.4990,  10.9860, 2392,   1800.2,  -0.8650,  34.9060,2,  34.9088,2,    298.2,2,    11.42,2,    14.41,2,     0.01,2,     1.00,2,    0.716,2,    0.460,2,    0.062,2,    1.973,2,    2.225,2,   2181.1,2,   2324.5,3, -999.000,9,-999.0000,9,  -999.00,9,  -0.9455
  58JH19951108,   GNS,   301,  1,      3,2,19951113, 74.4990,  10.9860, 2392,   1999.4,  -0.8950,  34.9060,2,  34.9085,2,    299.0,2,    11.65,2,    14.44,2,     0.01,2,     1.00,2,    0.652,2,    0.360,2,    0.038,2,    1.914,2,    2.052,2,   2174.5,2,   2271.7,3, -999.000,9,-999.0000,9,  -999.00,9,  -0.9874
  58JH19951108,   GNS,   301,  1,      2,2,19951113, 74.4990,  10.9860, 2392,   2199.1,  -0.9090,  34.9060,2,  34.9083,2,    299.9,2,    11.90,2,    14.43,2,     0.01,2,     1.00,2,    0.613,2,    0.354,2,    0.048,2,    1.850,2,    1.906,2,   2175.2,2,   2235.8,3, -999.000,9,-999.0000,9,  -999.00,9,  -1.0143
  58JH19951108,   GNS,   301,  1,      1,2,19951113, 74.4990,  10.9860, 2392,   2341.1,  -0.9170,  34.9060,2,  34.9081,2,    300.3,2,    11.83,2,    14.42,2,     0.01,2,     1.00,2,    0.669,2,    0.374,2,    0.024,2,    1.932,2,    2.064,2,   2180.7,2,   2252.1,3, -999.000,9,-999.0000,9,  -999.00,9,  -1.0318
  58JH19951108,   GNS,   302,  1,     12,2,19951114, 74.5010,   8.9980, 2606,      9.4,   4.2960,  35.0510,2,  35.0568,2,    298.6,2,     4.87,2,    10.69,2,     0.06,2,     0.74,2, -999.000,9, -999.000,9, -999.000,9, -999.000,9,     -999,9,   2137.5,2,   2256.3,3, -999.000,9,-999.0000,9,  -999.00,9,   4.2953
  58JH19951108,   GNS,   302,  1,     11,2,19951114, 74.5010,   8.9980, 2606,     49.9,   4.3050,  35.0510,2,  35.0567,2,    298.1,2,     4.86,2,    10.68,2,     0.06,2,     0.76,2,    5.238,2,    2.805,2,    0.490,2,    6.188,2,   13.616,2,   2133.7,2,   2262.8,3, -999.000,9,-999.0000,9,  -999.00,9,   4.3014
  58JH19951108,   GNS,   302,  1,     10,2,19951114, 74.5010,   8.9980, 2606,     97.8,   4.2970,  35.0510,2,  35.0567,2,    298.1,2,     4.76,2,    10.62,2,     0.06,2,     0.73,2,    5.261,2,    2.602,2,    0.479,2,    6.207,2,   13.615,2,   2140.0,2,   2204.5,3, -999.000,9,-999.0000,9,  -999.00,9,   4.2900
  58JH19951108,   GNS,   302,  1,      9,2,19951114, 74.5010,   8.9980, 2606,    250.9,   3.8750,  35.0450,2,  35.0504,2,    298.1,2,     5.58,2,    12.63,2,     0.01,2,     0.83,2,    5.382,2,    2.827,2,    0.483,2,    6.069,2,   15.092,2,   2146.0,2,   2249.7,3, -999.000,9,-999.0000,9,  -999.00,9,   3.8575
  58JH19951108,   GNS,   302,  1,      8,2,19951114, 74.5010,   8.9980, 2606,    499.3,   1.8840,  34.9520,2,  34.9569,2,    300.8,2,     6.32,2,    13.07,2,     0.01,2,     0.89,2,    5.058,2,    2.577,2,    0.432,2,    5.874,2,   15.291,2,   2152.9,2,   2230.6,3, -999.000,9,-999.0000,9,  -999.00,9,   1.8562
  58JH19951108,   GNS,   302,  1,      7,2,19951114, 74.5010,   8.9980, 2606,    749.1,  -0.3300,  34.8860,2,  34.8902,2,    311.2,2,     7.32,2,    13.20,2,     0.01,2,     0.91,2,    4.174,2,    2.076,2,    0.343,2,    5.391,2,   12.431,2,   2187.1,2,   2223.5,3, -999.000,9,-999.0000,9,  -999.00,9,  -0.3597
  58JH19951108,   GNS,   302,  1,      6,2,19951114, 74.5010,   8.9980, 2606,    998.3,  -0.6310,  34.8870,2,  34.8899,2,    307.8,2,     7.96,2,    13.40,2,     0.01,2,     0.92,2,    3.632,2,    1.774,2,    0.284,2,    4.820,2,   10.802,2,   2178.4,2,   -999.0,9, -999.000,9,-999.0000,9,  -999.00,9,  -0.6704
  58JH19951108,   GNS,   302,  1,      5,2,19951114, 74.5010,   8.9980, 2606,   1349.4,  -0.7220,  34.9040,2,  34.9074,2,    296.4,2,    10.21,2,    14.18,2,     0.01,2,     0.98,2,    1.254,2,    0.671,2,    0.078,2,    2.560,2,    3.867,2,   2171.6,2,   -999.0,9, -999.000,9,-999.0000,9,  -999.00,9,  -0.7785
  58JH19951108,   GNS,   302,  1,      4,2,19951114, 74.5010,   8.9980, 2606,   1699.6,  -0.8420,  34.9060,2,  34.9089,2,    296.4,2,    11.18,2,    14.35,2,     0.01,2,     1.00,2, -999.000,9, -999.000,9, -999.000,9, -999.000,9,     -999,9,   2173.7,2,   -999.0,9, -999.000,9,-999.0000,9,  -999.00,9,  -0.9168
  58JH19951108,   GNS,   302,  1,      3,2,19951114, 74.5010,   8.9980, 2606,   1997.6,  -0.8930,  34.9060,2,  34.9085,2,    299.9,2,    11.57,2,    14.40,2,     0.02,2,     1.01,2, -999.000,9, -999.000,9, -999.000,9, -999.000,9,     -999,9,   2170.4,2,   2237.6,3, -999.000,9,-999.0000,9,  -999.00,9,  -0.9854
  58JH19951108,   GNS,   302,  1,      2,2,19951114, 74.5010,   8.9980, 2606,   2298.7,  -0.9120,  34.9060,2,  34.9081,2,    299.5,2,    11.63,2,    14.42,2,     0.01,2,     0.99,2, -999.000,9, -999.000,9, -999.000,9, -999.000,9,     -999,9,   2169.0,2,   2274.6,3, -999.000,9,-999.0000,9,  -999.00,9,  -1.0239
  58JH19951108,   GNS,   302,  1,      1,2,19951114, 74.5010,   8.9980, 2606,   2542.1,  -0.9140,  34.9050,2,  34.9068,2,    300.8,2,    11.57,2,    14.36,2,     0.02,2,     1.00,2, -999.000,9, -999.000,9, -999.000,9, -999.000,9,     -999,9,   2163.9,2,   2266.7,3, -999.000,9,-999.0000,9,  -999.00,9,  -1.0431