BOTTLE,20010705WHPSIOKJU
#code : jjward hyd_to_exchange.pl 
#original files copied from HTML directory: 20010705
#original HYD file: bottle   Thu Jul  5 12:31:15 2001
#original SUM file: ar15_ksu.txt.tmp   Thu Jul  5 12:19:09 2001
EXPOCODE,SECT_ID,STNNBR,CASTNO,SAMPNO,BTLNBR,BTLNBR_FLAG_W,DATE,TIME,LATITUDE,LONGITUDE,DEPTH,CTDPRS,CTDTMP,CTDSAL,CTDSAL_FLAG_W,SALNTY,SALNTY_FLAG_W
,,,,,,,,,,,,DBAR,ITST90,ISS78,,ISS78,
      06MT28_2,  AR15,   292,  1,      7,     24,2,19940520,0815,-21.0010, -10.5740, 4245,     11.3,  23.8066,  36.5900,2,  36.5903,2
      06MT28_2,  AR15,   292,  1,      6,     16,2,19940520,0815,-21.0010, -10.5740, 4245,    774.9,   4.3506,  34.3959,2,  34.4707,2
      06MT28_2,  AR15,   292,  1,      5,     15,2,19940520,0815,-21.0010, -10.5740, 4245,    896.2,   3.8942,  34.4469,2,  34.3919,4
      06MT28_2,  AR15,   292,  1,      4,     12,2,19940520,0815,-21.0010, -10.5740, 4245,   1196.2,   3.4808,  34.6559,2,  34.5615,4
      06MT28_2,  AR15,   292,  1,      3,      7,2,19940520,0815,-21.0010, -10.5740, 4245,   2495.3,   2.6399,  34.8881,2,  34.9158,4
      06MT28_2,  AR15,   292,  1,      2,      3,2,19940520,0815,-21.0010, -10.5740, 4245,   4201.1,   2.4549,  34.8833,2,  34.8783,4
      06MT28_2,  AR15,   292,  1,      1,      1,2,19940520,0815,-21.0010, -10.5740, 4245,   4280.4,   2.4627,  34.8837,2,  34.8789,2
      06MT28_2,  AR15,   295,  1,     15,     24,2,19940521,1711,-21.0013, -15.0175, 3978,     13.6,  24.5569,  36.7419,2,  36.7416,2
      06MT28_2,  AR15,   295,  1,     14,     15,2,19940521,1711,-21.0013, -15.0175, 3978,    745.4,   4.5867,  34.4135,2,  34.5983,4
      06MT28_2,  AR15,   295,  1,     13,     14,2,19940521,1711,-21.0013, -15.0175, 3978,    895.4,   3.8946,  34.4535,2,  34.4719,4
      06MT28_2,  AR15,   295,  1,     12,     11,2,19940521,1711,-21.0013, -15.0175, 3978,   1194.6,   3.5554,  34.6730,2,  34.5109,2
      06MT28_2,  AR15,   295,  1,     11,      6,2,19940521,1711,-21.0013, -15.0175, 3978,   2500.1,   2.8854,  34.9161,2,  34.9082,4
      06MT28_2,  AR15,   295,  1,     10,      4,2,19940521,1711,-21.0013, -15.0175, 3978,   3589.0,   2.2193,  34.8646,2,  34.8989,4
      06MT28_2,  AR15,   295,  1,      9,      2,2,19940521,1711,-21.0013, -15.0175, 3978,   3913.4,   1.9795,  34.8395,2,  34.8601,4
      06MT28_2,  AR15,   295,  1,      8,      1,2,19940521,1711,-21.0013, -15.0175, 3978,   3990.3,   1.8342,  34.8262,2,  34.8365,2
      06MT28_2,  AR15,   296,  1,     20,     24,2,19940522,0449,-22.0003, -16.1502, 4924,     13.9,  24.5979,  36.8595,2,  36.8611,2
      06MT28_2,  AR15,   296,  1,     19,      7,2,19940522,0449,-22.0003, -16.1502, 4924,    706.9,   5.1347,  34.3931,2,  34.3926,2
      06MT28_2,  AR15,   296,  1,     18,      6,2,19940522,0449,-22.0003, -16.1502, 4924,    896.4,   3.7860,  34.4463,2,  34.4449,2
      06MT28_2,  AR15,   296,  1,     17,      3,2,19940522,0449,-22.0003, -16.1502, 4924,   1196.7,   3.5001,  34.6570,2,  34.6581,2
      06MT28_2,  AR15,   296,  1,     16,      1,2,19940522,0449,-22.0003, -16.1502, 4924,   1496.2,   3.4367,  34.8136,2,  34.8136,2
      06MT28_2,  AR15,   297,  1,     26,     23,2,19940522,1435,-22.9998, -17.2840, 4324,     31.6,  24.2874,  36.7715,2,  36.7724,2
      06MT28_2,  AR15,   297,  1,     25,     16,2,19940522,1435,-22.9998, -17.2840, 4324,    777.7,   4.2877,  34.3811,2,  34.3894,2
      06MT28_2,  AR15,   297,  1,     24,     15,2,19940522,1435,-22.9998, -17.2840, 4324,    896.9,   3.8402,  34.4221,2,  34.3840,2
      06MT28_2,  AR15,   297,  1,     23,      7,2,19940522,1435,-22.9998, -17.2840, 4324,   2499.9,   2.9465,  34.9307,2,  34.9334,4
      06MT28_2,  AR15,   297,  1,     22,      2,2,19940522,1435,-22.9998, -17.2840, 4324,   4201.3,   1.4805,  34.7923,2,  34.7907,2
      06MT28_2,  AR15,   297,  1,     21,      1,2,19940522,1435,-22.9998, -17.2840, 4324,   4299.0,   1.3824,  34.7823,2,  34.7907,2
      06MT28_2,  AR15,   298,  1,     31,     24,2,19940523,0242,-23.9998, -18.6005, 4271,      1.6,  24.1557,  36.8110,2,  36.8453,2
      06MT28_2,  AR15,   298,  1,     30,     16,2,19940523,0242,-23.9998, -18.6005, 4271,    826.0,   4.1966,  34.3732,2,  34.3717,2
      06MT28_2,  AR15,   298,  1,     29,     15,2,19940523,0242,-23.9998, -18.6005, 4271,    894.9,   3.9007,  34.3893,2,  34.3901,2
      06MT28_2,  AR15,   298,  1,     28,     12,2,19940523,0242,-23.9998, -18.6005, 4271,   1196.9,   3.2453,  34.5864,2,  34.5872,2
      06MT28_2,  AR15,   298,  1,     27,      1,2,19940523,0242,-23.9998, -18.6005, 4271,   1497.3,   3.1014,  34.7469,2,  34.7508,4
      06MT28_2,  AR15,   300,  1,     33,     24,2,19940523,2306,-25.9998, -20.9342, 4673,     11.4,  22.9566,  36.2089,2,  36.2087,2
      06MT28_2,  AR15,   300,  1,     32,     12,2,19940523,2306,-25.9998, -20.9342, 4673,   1196.5,   3.1042,  34.5473,2,  34.5493,2
      06MT28_2,  AR15,   301,  1,     40,     24,2,19940524,0833,-27.0010, -22.1675, 4394,     14.3,  22.2327,  36.2075,2,  36.2083,2
      06MT28_2,  AR15,   301,  1,     39,     21,2,19940524,0833,-27.0010, -22.1675, 4394,    100.9,  18.2285,  35.8171,2,  35.8192,2
      06MT28_2,  AR15,   301,  1,     38,     16,2,19940524,0833,-27.0010, -22.1675, 4394,    826.4,   4.5401,  34.3229,2,  34.3231,2
      06MT28_2,  AR15,   301,  1,     37,     15,2,19940524,0833,-27.0010, -22.1675, 4394,    895.2,   4.0177,  34.3311,2,  34.3286,2
      06MT28_2,  AR15,   301,  1,     36,     12,2,19940524,0833,-27.0010, -22.1675, 4394,   1194.2,   3.1122,  34.5072,2,  34.5067,2
      06MT28_2,  AR15,   301,  1,     35,      7,2,19940524,0833,-27.0010, -22.1675, 4394,   2500.6,   2.8735,  34.9103,2,  34.9084,2
      06MT28_2,  AR15,   301,  1,     34,      1,2,19940524,0833,-27.0010, -22.1675, 4394,   4382.0,   1.2990,  34.7725,2,  34.7666,2
      06MT28_2,  AR15,   302,  1,     45,     24,2,19940524,2021,-28.0010, -23.4148, 5189,     11.5,  21.8582,  35.9841,2,  35.9822,2
      06MT28_2,  AR15,   302,  1,     44,     16,2,19940524,2021,-28.0010, -23.4148, 5189,    846.2,   4.5373,  34.3249,2,  34.3245,2
      06MT28_2,  AR15,   302,  1,     43,     15,2,19940524,2021,-28.0010, -23.4148, 5189,    897.4,   4.2063,  34.3292,2,  34.3299,2
      06MT28_2,  AR15,   302,  1,     42,     12,2,19940524,2021,-28.0010, -23.4148, 5189,   1195.4,   3.1541,  34.4741,2,  34.4775,2
      06MT28_2,  AR15,   302,  1,     41,      2,2,19940524,2021,-28.0010, -23.4148, 5189,   1514.4,   2.9272,  34.6711,2,  34.6727,2
      06MT28_2,  AR15,   303,  1,     49,     24,2,19940525,0602,-29.0005, -24.7007, 4637,     10.9,  20.8108,  35.8769,2,  35.8575,2
      06MT28_2,  AR15,   303,  1,     48,     16,2,19940525,0602,-29.0005, -24.7007, 4637,    789.9,   5.0371,  34.3182,2,  34.3186,2
      06MT28_2,  AR15,   303,  1,     47,     15,2,19940525,0602,-29.0005, -24.7007, 4637,    876.8,   4.2335,  34.3065,2,  34.3070,2
      06MT28_2,  AR15,   303,  1,     46,     12,2,19940525,0602,-29.0005, -24.7007, 4637,   1196.0,   3.1638,  34.4428,2,  34.4440,4
      06MT28_2,  AR15,   304,  1,     55,     24,2,19940525,1540,-30.0005, -25.9772, 4370,     12.2,  20.6435,  35.7329,2,  35.7308,2
      06MT28_2,  AR15,   304,  1,     54,     16,2,19940525,1540,-30.0005, -25.9772, 4370,    795.9,   6.4459,  34.4281,2,  34.4214,2
      06MT28_2,  AR15,   304,  1,     53,     14,2,19940525,1540,-30.0005, -25.9772, 4370,    975.4,   4.4525,  34.3193,2,  34.3167,2
      06MT28_2,  AR15,   304,  1,     52,     12,2,19940525,1540,-30.0005, -25.9772, 4370,   1195.1,   3.5176,  34.3852,2,  34.3838,2
      06MT28_2,  AR15,   304,  1,     51,      7,2,19940525,1540,-30.0005, -25.9772, 4370,   2501.7,   2.6861,  34.8550,2,  34.8535,2
      06MT28_2,  AR15,   304,  1,     50,      1,2,19940525,1540,-30.0005, -25.9772, 4370,   4417.3,   1.2525,  34.7597,2,  34.7561,2
      06MT28_2,  AR15,   305,  1,     60,     24,2,19940526,0250,-30.8178, -27.3840, 4662,     12.3,  21.4368,  35.8935,2,  35.8926,2
      06MT28_2,  AR15,   305,  1,     59,     16,2,19940526,0250,-30.8178, -27.3840, 4662,    798.1,   5.3507,  34.3245,2,  34.3239,2
      06MT28_2,  AR15,   305,  1,     58,     15,2,19940526,0250,-30.8178, -27.3840, 4662,    927.4,   4.2817,  34.2811,2,  34.2813,2
      06MT28_2,  AR15,   305,  1,     57,     12,2,19940526,0250,-30.8178, -27.3840, 4662,   1295.7,   3.0822,  34.4453,2,  34.4458,2
      06MT28_2,  AR15,   305,  1,     56,      2,2,19940526,0250,-30.8178, -27.3840, 4662,   1505.6,   2.9404,  34.5715,2,  34.5712,2
      06MT28_2,  AR15,   306,  1,     67,     24,2,19940526,1410,-31.6245, -28.8182, 3750,     11.4,  21.4913,  36.0031,2,  36.0022,2
      06MT28_2,  AR15,   306,  1,     66,     21,2,19940526,1410,-31.6245, -28.8182, 3750,    101.0,  18.1665,  35.7405,2,  35.7417,2
      06MT28_2,  AR15,   306,  1,     65,     20,2,19940526,1410,-31.6245, -28.8182, 3750,    199.7,  15.5760,  35.4915,2,  35.4895,2
      06MT28_2,  AR15,   306,  1,     64,     16,2,19940526,1410,-31.6245, -28.8182, 3750,    796.8,   5.2391,  34.3095,2,  34.3074,2
      06MT28_2,  AR15,   306,  1,     63,     15,2,19940526,1410,-31.6245, -28.8182, 3750,    895.3,   4.4768,  34.2802,2,  34.2793,2
      06MT28_2,  AR15,   306,  1,     62,     12,2,19940526,1410,-31.6245, -28.8182, 3750,   1195.6,   3.2093,  34.3679,2,  34.3671,2
      06MT28_2,  AR15,   306,  1,     61,      7,2,19940526,1410,-31.6245, -28.8182, 3750,   2499.8,   2.8125,  34.8765,2,  34.8741,2
      06MT28_2,  AR15,   308,  1,     71,     24,2,19940527,0400,-33.3765, -28.8132, 4000,     11.1,  20.4299,  35.8579,2,  35.8558,2
      06MT28_2,  AR15,   308,  1,     70,     16,2,19940527,0400,-33.3765, -28.8132, 4000,    797.1,   5.1629,  34.2928,2,  34.2945,2
      06MT28_2,  AR15,   308,  1,     69,     15,2,19940527,0400,-33.3765, -28.8132, 4000,    898.1,   4.5969,  34.3059,2,  34.3065,2
      06MT28_2,  AR15,   308,  1,     68,     14,2,19940527,0400,-33.3765, -28.8132, 4000,    997.2,   4.0050,  34.3112,2,  34.3126,2
      06MT28_2,  AR15,   310,  1,     78,     24,2,19940527,1830,-34.3152, -28.4915, 4047,     15.2,  19.2411,  35.7384,2,  35.7375,2
      06MT28_2,  AR15,   310,  1,     77,     16,2,19940527,1830,-34.3152, -28.4915, 4047,    795.0,   4.6722,  34.2355,2,  34.2343,2
      06MT28_2,  AR15,   310,  1,     76,     15,2,19940527,1830,-34.3152, -28.4915, 4047,    897.2,   4.0748,  34.2253,2,  34.2252,2
      06MT28_2,  AR15,   310,  1,     75,     14,2,19940527,1830,-34.3152, -28.4915, 4047,    955.6,   3.8093,  34.2244,2,  34.2245,2
      06MT28_2,  AR15,   310,  1,     74,     12,2,19940527,1830,-34.3152, -28.4915, 4047,   1197.1,   3.0260,  34.3136,2,  34.3156,2
      06MT28_2,  AR15,   310,  1,     73,      7,2,19940527,1830,-34.3152, -28.4915, 4047,   2500.0,   2.8006,  34.8583,2,  34.8573,2
      06MT28_2,  AR15,   310,  1,     72,      2,2,19940527,1830,-34.3152, -28.4915, 4047,   4064.1,   0.9861,  34.7281,2,  34.7256,2
      06MT28_2,  AR15,   313,  1,     85,     24,2,19940528,1545,-34.4192, -27.8680, 4357,     11.6,  17.4171,  35.5527,2,  35.5501,2
      06MT28_2,  AR15,   313,  1,     84,     16,2,19940528,1545,-34.4192, -27.8680, 4357,    797.0,   4.5574,  34.2281,2,  34.2289,2
      06MT28_2,  AR15,   313,  1,     83,     15,2,19940528,1545,-34.4192, -27.8680, 4357,    876.6,   4.1431,  34.2237,2,  34.2229,2
      06MT28_2,  AR15,   313,  1,     82,     14,2,19940528,1545,-34.4192, -27.8680, 4357,    997.5,   3.5336,  34.2298,2,  34.2306,2
      06MT28_2,  AR15,   313,  1,     81,     12,2,19940528,1545,-34.4192, -27.8680, 4357,   1198.1,   2.9910,  34.3028,2,  34.3034,2
      06MT28_2,  AR15,   313,  1,     80,      7,2,19940528,1545,-34.4192, -27.8680, 4357,   2498.4,   2.8085,  34.8613,2,  34.8598,2
      06MT28_2,  AR15,   313,  1,     79,      4,2,19940528,1545,-34.4192, -27.8680, 4357,   4204.7,   0.8503,  34.7140,2,  34.7111,2
      06MT28_2,  AR15,   316,  1,     92,     24,2,19940529,1755,-34.5865, -27.0567, 4177,     10.5,  17.3675,  35.5247,2,  35.5244,2
      06MT28_2,  AR15,   316,  1,     91,     16,2,19940529,1755,-34.5865, -27.0567, 4177,    796.8,   4.2996,  34.2369,2,  34.2418,2
      06MT28_2,  AR15,   316,  1,     90,     15,2,19940529,1755,-34.5865, -27.0567, 4177,    875.2,   3.8924,  34.2342,2,  34.2336,2
      06MT28_2,  AR15,   316,  1,     89,     12,2,19940529,1755,-34.5865, -27.0567, 4177,   1195.6,   2.9588,  34.3487,2,  34.3509,2
      06MT28_2,  AR15,   316,  1,     88,      7,2,19940529,1755,-34.5865, -27.0567, 4177,   2500.6,   2.8055,  34.8645,2,  34.8666,2
      06MT28_2,  AR15,   316,  1,     87,      4,2,19940529,1755,-34.5865, -27.0567, 4177,   4103.6,   1.1792,  34.7475,2,  34.7482,2
      06MT28_2,  AR15,   316,  1,     86,      2,2,19940529,1755,-34.5865, -27.0567, 4177,   4203.2,   1.0042,  34.7289,2,  34.7292,2
      06MT28_2,  AR15,   318,  1,    105,     24,2,19940520,1841,-34.5137, -27.3202, 4332,     14.7,  16.6317,  35.4744,2,  35.6321,3
      06MT28_2,  AR15,   318,  1,    104,     23,2,19940520,1841,-34.5137, -27.3202, 4332,     30.3,  16.6364,  35.4747,2,  35.4767,4
      06MT28_2,  AR15,   318,  1,    102,     16,2,19940520,1841,-34.5137, -27.3202, 4332,    795.5,   4.3333,  34.2227,2,  34.2255,2
      06MT28_2,  AR15,   318,  1,    103,     16,2,19940520,1841,-34.5137, -27.3202, 4332,    795.5,   4.3333,  34.2227,2,  34.2652,4
      06MT28_2,  AR15,   318,  1,    101,     15,2,19940520,1841,-34.5137, -27.3202, 4332,    856.0,   4.0824,  34.2203,2,  34.2256,2
      06MT28_2,  AR15,   318,  1,    100,     13,2,19940520,1841,-34.5137, -27.3202, 4332,   1095.0,   3.0979,  34.2910,2,  34.3317,4
      06MT28_2,  AR15,   318,  1,     99,     12,2,19940520,1841,-34.5137, -27.3202, 4332,   1194.9,   2.8708,  34.3342,2,  34.3380,2
      06MT28_2,  AR15,   318,  1,     98,      8,2,19940520,1841,-34.5137, -27.3202, 4332,   2000.0,   2.8472,  34.7705,2,  34.8765,4
      06MT28_2,  AR15,   318,  1,     97,      7,2,19940520,1841,-34.5137, -27.3202, 4332,   2499.6,   2.8800,  34.8798,2,  34.8821,2
      06MT28_2,  AR15,   318,  1,     95,      4,2,19940520,1841,-34.5137, -27.3202, 4332,   4204.8,   0.9136,  34.7195,2,  34.7214,2
      06MT28_2,  AR15,   318,  1,     96,      4,2,19940520,1841,-34.5137, -27.3202, 4332,   4204.8,   0.9136,  34.7195,2,  34.6787,4
      06MT28_2,  AR15,   318,  1,     94,      2,2,19940520,1841,-34.5137, -27.3202, 4332,   4337.6,   0.6321,  34.6969,2,  34.7194,2
      06MT28_2,  AR15,   318,  1,     93,      1,2,19940520,1841,-34.5137, -27.3202, 4332,   4337.9,   0.6327,  34.6962,2,  34.6791,4
      06MT28_2,  AR15,   333,  1,    111,     24,2,19940605,2216,-35.7985, -30.6660, 4157,     13.7,  17.2317,  35.5479,2,  35.5482,2
      06MT28_2,  AR15,   333,  1,    110,     16,2,19940605,2216,-35.7985, -30.6660, 4157,    796.1,   4.8588,  34.2444,2,  34.2466,2
      06MT28_2,  AR15,   333,  1,    109,     15,2,19940605,2216,-35.7985, -30.6660, 4157,    895.9,   4.3579,  34.2587,2,  34.2632,2
      06MT28_2,  AR15,   333,  1,    108,     12,2,19940605,2216,-35.7985, -30.6660, 4157,   1196.8,   3.0083,  34.2859,2,  34.2886,2
      06MT28_2,  AR15,   333,  1,    107,      7,2,19940605,2216,-35.7985, -30.6660, 4157,   2489.0,   3.0149,  34.8818,2,  34.8824,2
      06MT28_2,  AR15,   333,  1,    106,      3,2,19940605,2216,-35.7985, -30.6660, 4157,   4003.6,   0.9190,  34.7145,2,  34.7140,2
      06MT28_2,  AR15,   335,  1,    116,     24,2,19940606,1530,-37.6090, -32.3677, 4500,     10.0,  15.5383,  35.2047,2,  35.2059,2
      06MT28_2,  AR15,   335,  1,    115,     16,2,19940606,1530,-37.6090, -32.3677, 4500,    796.4,   4.1738,  34.2089,2,  34.2118,2
      06MT28_2,  AR15,   335,  1,    114,     15,2,19940606,1530,-37.6090, -32.3677, 4500,    897.1,   3.7915,  34.2167,2,  34.2148,2
      06MT28_2,  AR15,   335,  1,    113,     12,2,19940606,1530,-37.6090, -32.3677, 4500,   1196.0,   2.9123,  34.2948,2,  34.2916,2
      06MT28_2,  AR15,   335,  1,    112,      8,2,19940606,1530,-37.6090, -32.3677, 4500,   2499.8,   2.6472,  34.8173,2,  34.8166,2
      06MT28_2,  AR15,   338,  1,    122,     24,2,19940607,1537,-39.9032, -34.5798, 4789,     15.3,  11.5348,  34.6030,2,  34.6034,2
      06MT28_2,  AR15,   338,  1,    121,     17,2,19940607,1537,-39.9032, -34.5798, 4789,    697.6,   3.0644,  34.2170,2,  34.3078,2
      06MT28_2,  AR15,   338,  1,    120,     12,2,19940607,1537,-39.9032, -34.5798, 4789,   1295.4,   2.7291,  34.5515,2,  34.5513,2
      06MT28_2,  AR15,   338,  1,    119,      7,2,19940607,1537,-39.9032, -34.5798, 4789,   2560.2,   2.6007,  34.8321,2,  34.8307,2
      06MT28_2,  AR15,   338,  1,    118,      7,2,19940607,1537,-39.9032, -34.5798, 4789,   2561.0,   2.5940,  34.8328,2,  34.8307,4
      06MT28_2,  AR15,   338,  1,    117,      2,2,19940607,1537,-39.9032, -34.5798, 4789,   4704.5,   0.2034,  34.6706,2,  34.6663,2
      06MT28_2,  AR15,   342,  1,    126,     12,2,19940609,0904,-35.9023, -38.7680, 4888,   1195.1,   3.0334,  34.3080,2,  34.3085,2
      06MT28_2,  AR15,   342,  1,    125,      7,2,19940609,0904,-35.9023, -38.7680, 4888,   2498.4,   2.9560,  34.8649,2,  34.8647,2
      06MT28_2,  AR15,   342,  1,    124,      3,2,19940609,0904,-35.9023, -38.7680, 4888,   4851.1,   0.2117,  34.6715,2,  34.6690,2
      06MT28_2,  AR15,   342,  1,    123,      2,2,19940609,0904,-35.9023, -38.7680, 4888,   4920.1,   0.2146,  34.6707,2,  34.6687,2