BOTTLE,20020809WHPSIObren
EXPOCODE,SECT_ID,STNNBR,CASTNO,SAMPNO,BTLNBR,BTLNBR_FLAG_W,DATE,TIME,LATITUDE,LONGITUDE,DEPTH,CTDPRS,CTDTMP,CTDSAL,CTDSAL_FLAG_W,SALNTY,SALNTY_FLAG_W,CTDOXY,CTDOXY_FLAG_W,OXYGEN,OXYGEN_FLAG_W,SILCAT,SILCAT_FLAG_W,NO2+NO3,NO2+NO3_FLAG_W,PHSPHT,PHSPHT_FLAG_W,CTDRAW,REVTMP,REVPRS,THETA
,,,,,,,,,,,,DBAR,ITS-90,PSS-78,,PSS-78,,UMOL/KG,,UMOL/KG,,UMOL/KG,,UMOL/KG,,UMOL/KG,,,DEG C,DBAR,ITS-90
     32MW070_1,  PRS2,     2, 11,     21,     21,2,19960327,2201, 22.7550,-158.0035, 4725,      4.6,  23.2518,  34.8517,2,  34.8527,2,    218.3,1,   -999.0,9,  -999.00,9,  -999.00,9,  -999.00,9,      5,-999.000,  -999.0, 23.2509
     32MW070_1,  PRS2,     2, 11,     20,     20,2,19960327,2201, 22.7550,-158.0035, 4725,      8.6,  23.1781,  34.8499,2,  34.8489,2,    217.5,1,   -999.0,9,  -999.00,9,  -999.00,9,  -999.00,9,      9,-999.000,  -999.0, 23.1763
     32MW070_1,  PRS2,     2, 11,     19,     19,2,19960327,2201, 22.7550,-158.0035, 4725,     25.0,  23.1517,  34.8502,2,-999.0000,5,    218.6,1,   -999.0,9,  -999.00,9,  -999.00,9,  -999.00,9,     25,-999.000,  -999.0, 23.1466
     32MW070_1,  PRS2,     2, 11,     18,     18,2,19960327,2201, 22.7550,-158.0035, 4725,     44.5,  23.1479,  34.8501,2,  34.8490,2,    218.7,1,   -999.0,9,  -999.00,9,  -999.00,9,  -999.00,9,     44,-999.000,  -999.0, 23.1388
     32MW070_1,  PRS2,     2, 11,     17,     17,2,19960327,2201, 22.7550,-158.0035, 4725,     49.6,  23.1461,  34.8499,2,  34.8500,2,    218.7,1,   -999.0,9,  -999.00,9,  -999.00,9,  -999.00,9,     51,-999.000,  -999.0, 23.1359
     32MW070_1,  PRS2,     2, 11,     16,     16,2,19960327,2201, 22.7550,-158.0035, 4725,     59.7,  23.1381,  34.8525,2,  34.8576,2,    218.7,1,   -999.0,9,  -999.00,9,  -999.00,9,  -999.00,9,     60,-999.000,  -999.0, 23.1259
     32MW070_1,  PRS2,     2, 11,     15,     15,2,19960327,2201, 22.7550,-158.0035, 4725,     74.8,  22.5385,  35.0058,2,  35.0054,2,    219.6,1,   -999.0,9,  -999.00,9,  -999.00,9,  -999.00,9,     75,-999.000,  -999.0, 22.5234
     32MW070_1,  PRS2,     2, 11,     14,     14,2,19960327,2201, 22.7550,-158.0035, 4725,    100.5,  21.6394,  35.0888,2,  35.0888,2,    209.3,1,   -999.0,9,  -999.00,9,  -999.00,9,  -999.00,9,    101,-999.000,  -999.0, 21.6198
     32MW070_1,  PRS2,     2, 11,     13,     13,2,19960327,2201, 22.7550,-158.0035, 4725,    114.4,  21.1423,  35.0700,2,  35.0728,2,    203.4,1,   -999.0,9,  -999.00,9,  -999.00,9,  -999.00,9,    116,-999.000,  -999.0, 21.1203
     32MW070_1,  PRS2,     2, 11,     12,     12,2,19960327,2201, 22.7550,-158.0035, 4725,    125.1,  20.8644,  35.0743,2,  35.0749,2,    199.5,1,   -999.0,9,  -999.00,9,  -999.00,9,  -999.00,9,    125,-999.000,  -999.0, 20.8406
     32MW070_1,  PRS2,     2, 11,     11,     11,2,19960327,2201, 22.7550,-158.0035, 4725,    150.5,  19.8851,  35.0504,2,-999.0000,5,    186.1,1,   -999.0,9,  -999.00,9,  -999.00,9,  -999.00,9,    151,-999.000,  -999.0, 19.8574
     32MW070_1,  PRS2,     2, 11,     10,     32,2,19960327,2201, 22.7550,-158.0035, 4725,    174.7,  18.7901,  34.9537,2,  34.9539,2,    186.8,1,   -999.0,9,  -999.00,9,  -999.00,9,  -999.00,9,    175,-999.000,  -999.0, 18.7592
     32MW070_1,  PRS2,     2, 11,      9,      3,2,19960327,2201, 22.7550,-158.0035, 4725,    199.5,  17.8363,  34.8468,2,  34.8533,2,    182.6,1,   -999.0,9,  -999.00,9,  -999.00,9,  -999.00,9,    200,-999.000,  -999.0, 17.8023
     32MW070_1,  PRS2,     2, 11,      8,     29,2,19960327,2201, 22.7550,-158.0035, 4725,    251.1,  14.6483,  34.4432,2,  34.4477,2,    163.5,1,   -999.0,9,  -999.00,9,  -999.00,9,  -999.00,9,    251,-999.000,  -999.0, 14.6110
     32MW070_1,  PRS2,     2, 11,      7,     28,2,19960327,2201, 22.7550,-158.0035, 4725,    301.0,  12.2521,  34.2426,2,  34.2431,2,    180.4,1,   -999.0,9,  -999.00,9,  -999.00,9,  -999.00,9,    302,-999.000,  -999.0, 12.2125
     32MW070_1,  PRS2,     2, 11,      6,      7,2,19960327,2201, 22.7550,-158.0035, 4725,    450.6,   7.9696,  34.0675,2,  34.0753,2,    141.2,1,   -999.0,9,  -999.00,9,  -999.00,9,  -999.00,9,    451,-999.000,  -999.0,  7.9240
     32MW070_1,  PRS2,     2, 11,      5,     38,2,19960327,2201, 22.7550,-158.0035, 4725,    499.3,   7.3829,  34.0727,2,  34.0692,2,    111.8,1,   -999.0,9,  -999.00,9,  -999.00,9,  -999.00,9,    498,-999.000,  -999.0,  7.3344
     32MW070_1,  PRS2,     2, 11,      4,     36,2,19960327,2201, 22.7550,-158.0035, 4725,    748.0,   5.0249,  34.3016,2,  34.3021,2,     22.7,1,   -999.0,9,  -999.00,9,  -999.00,9,  -999.00,9,    748,-999.000,  -999.0,  4.9640
     32MW070_1,  PRS2,     2, 11,      1,     33,2,19960327,2201, 22.7550,-158.0035, 4725,   1020.4,   4.1056,  34.4863,2,-999.0000,5,     36.5,1,   -999.0,9,  -999.00,9,  -999.00,9,  -999.00,9,   1020,-999.000,  -999.0,  4.0275
     32MW070_1,  PRS2,     2, 11,      3,     35,2,19960327,2201, 22.7550,-158.0035, 4725,   1020.6,   4.1044,  34.4863,2,  34.4878,2,     36.5,1,   -999.0,9,  -999.00,9,  -999.00,9,  -999.00,9,   1021,-999.000,  -999.0,  4.0262
     32MW070_1,  PRS2,     2, 11,      2,     34,2,19960327,2201, 22.7550,-158.0035, 4725,   1020.6,   4.1051,  34.4866,2,-999.0000,5,     36.5,1,   -999.0,9,  -999.00,9,  -999.00,9,  -999.00,9,   1021,-999.000,  -999.0,  4.0269
     32MW070_1,  PRS2,     2, 12,     24,     31,2,19960328,0059, 22.7515,-157.9988, 4725,      2.0,  23.3884,  34.8431,2,  34.8433,2,    219.1,1,   -999.0,9,  -999.00,9,  -999.00,9,  -999.00,9,      2,-999.000,  -999.0, 23.3880
     32MW070_1,  PRS2,     2, 12,     23,     30,2,19960328,0059, 22.7515,-157.9988, 4725,      5.2,  23.2324,  34.8436,2,  34.8406,2,    217.8,1,   -999.0,9,  -999.00,9,  -999.00,9,  -999.00,9,      5,-999.000,  -999.0, 23.2314
     32MW070_1,  PRS2,     2, 12,     22,     22,2,19960328,0059, 22.7515,-157.9988, 4725,      9.8,  23.1395,  34.8417,2,  34.8399,2,    216.4,1,   -999.0,9,  -999.00,9,  -999.00,9,  -999.00,9,     10,-999.000,  -999.0, 23.1375
     32MW070_1,  PRS2,     2, 12,     21,     21,2,19960328,0059, 22.7515,-157.9988, 4725,     15.1,  23.1215,  34.8408,2,  34.8406,2,    218.1,1,   -999.0,9,  -999.00,9,  -999.00,9,  -999.00,9,     15,-999.000,  -999.0, 23.1184
     32MW070_1,  PRS2,     2, 12,     20,     20,2,19960328,0059, 22.7515,-157.9988, 4725,     19.1,  23.1134,  34.8417,2,  34.8404,2,    218.7,1,   -999.0,9,  -999.00,9,  -999.00,9,  -999.00,9,     19,-999.000,  -999.0, 23.1095
     32MW070_1,  PRS2,     2, 12,     19,     19,2,19960328,0059, 22.7515,-157.9988, 4725,     24.5,  23.1306,  34.8535,2,  34.8541,2,    219.1,1,   -999.0,9,  -999.00,9,  -999.00,9,  -999.00,9,     25,-999.000,  -999.0, 23.1256
     32MW070_1,  PRS2,     2, 12,     18,     18,2,19960328,0059, 22.7515,-157.9988, 4725,     29.4,  23.1333,  34.8586,2,  34.8567,2,    219.1,1,   -999.0,9,  -999.00,9,  -999.00,9,  -999.00,9,     30,-999.000,  -999.0, 23.1273
     32MW070_1,  PRS2,     2, 12,     17,     17,2,19960328,0059, 22.7515,-157.9988, 4725,     33.9,  23.1256,  34.8570,2,  34.8561,2,    219.0,1,   -999.0,9,  -999.00,9,  -999.00,9,  -999.00,9,     34,-999.000,  -999.0, 23.1186
     32MW070_1,  PRS2,     2, 12,     16,     16,2,19960328,0059, 22.7515,-157.9988, 4725,     40.0,  23.1078,  34.8535,2,  34.8525,2,    219.2,1,   -999.0,9,  -999.00,9,  -999.00,9,  -999.00,9,     40,-999.000,  -999.0, 23.0996
     32MW070_1,  PRS2,     2, 12,     15,     15,2,19960328,0059, 22.7515,-157.9988, 4725,     44.8,  23.1025,  34.8527,2,  34.8528,2,    218.9,1,   -999.0,9,  -999.00,9,  -999.00,9,  -999.00,9,     45,-999.000,  -999.0, 23.0933
     32MW070_1,  PRS2,     2, 12,     14,     14,2,19960328,0059, 22.7515,-157.9988, 4725,     49.8,  23.1013,  34.8532,2,  34.8539,2,    219.1,1,   -999.0,9,  -999.00,9,  -999.00,9,  -999.00,9,     51,-999.000,  -999.0, 23.0912
     32MW070_1,  PRS2,     2, 12,     13,     13,2,19960328,0059, 22.7515,-157.9988, 4725,     54.0,  23.0887,  34.8561,2,  34.8542,2,    218.9,1,   -999.0,9,  -999.00,9,  -999.00,9,  -999.00,9,     54,-999.000,  -999.0, 23.0777
     32MW070_1,  PRS2,     2, 12,     12,     12,2,19960328,0059, 22.7515,-157.9988, 4725,     64.0,  22.8263,  34.9596,2,  34.9476,2,    218.6,1,   -999.0,9,  -999.00,9,  -999.00,9,  -999.00,9,     65,-999.000,  -999.0, 22.8134
     32MW070_1,  PRS2,     2, 12,     11,     11,2,19960328,0059, 22.7515,-157.9988, 4725,     74.3,  22.7044,  34.9896,2,  34.9861,2,    219.2,1,   -999.0,9,  -999.00,9,  -999.00,9,  -999.00,9,     75,-999.000,  -999.0, 22.6894
     32MW070_1,  PRS2,     2, 12,     10,     32,2,19960328,0059, 22.7515,-157.9988, 4725,     84.1,  22.3788,  35.0295,2,  35.0342,2,    217.7,1,   -999.0,9,  -999.00,9,  -999.00,9,  -999.00,9,     85,-999.000,  -999.0, 22.3620
     32MW070_1,  PRS2,     2, 12,      9,      3,2,19960328,0059, 22.7515,-157.9988, 4725,     94.6,  22.0941,  35.0622,2,  35.0667,2,    214.8,1,   -999.0,9,  -999.00,9,  -999.00,9,  -999.00,9,     95,-999.000,  -999.0, 22.0754
     32MW070_1,  PRS2,     2, 12,      8,     29,2,19960328,0059, 22.7515,-157.9988, 4725,    104.4,  21.7370,  35.0900,2,  35.0907,2,    210.5,1,   -999.0,9,  -999.00,9,  -999.00,9,  -999.00,9,    106,-999.000,  -999.0, 21.7165
     32MW070_1,  PRS2,     2, 12,      7,     28,2,19960328,0059, 22.7515,-157.9988, 4725,    114.9,  21.2695,  35.0994,2,  35.1050,2,    205.1,1,   -999.0,9,  -999.00,9,  -999.00,9,  -999.00,9,    115,-999.000,  -999.0, 21.2473
     32MW070_1,  PRS2,     2, 12,      6,      7,2,19960328,0059, 22.7515,-157.9988, 4725,    124.9,  20.9390,  35.0783,2,  35.0763,2,    197.6,1,   -999.0,9,  -999.00,9,  -999.00,9,  -999.00,9,    125,-999.000,  -999.0, 20.9152
     32MW070_1,  PRS2,     2, 12,      5,     38,2,19960328,0059, 22.7515,-157.9988, 4725,    149.2,  19.9414,  35.0345,2,  35.0363,2,    186.0,1,   -999.0,9,  -999.00,9,  -999.00,9,  -999.00,9,    150,-999.000,  -999.0, 19.9139
     32MW070_1,  PRS2,     2, 12,      4,     36,2,19960328,0059, 22.7515,-157.9988, 4725,    174.7,  18.7752,  34.9572,2,  34.9565,2,    183.3,1,   -999.0,9,  -999.00,9,  -999.00,9,  -999.00,9,    174,-999.000,  -999.0, 18.7444
     32MW070_1,  PRS2,     2, 12,      3,     35,2,19960328,0059, 22.7515,-157.9988, 4725,    249.7,  14.4806,  34.4234,2,  34.4232,2,    161.9,1,   -999.0,9,  -999.00,9,  -999.00,9,  -999.00,9,    249,-999.000,  -999.0, 14.4438
     32MW070_1,  PRS2,     2, 12,      2,     34,2,19960328,0059, 22.7515,-157.9988, 4725,    520.3,   7.1448,  34.0740,2,  34.0730,2,    109.9,1,   -999.0,9,  -999.00,9,  -999.00,9,  -999.00,9,    520,-999.000,  -999.0,  7.0951
     32MW070_1,  PRS2,     2, 12,      1,     33,2,19960328,0059, 22.7515,-157.9988, 4725,   1020.5,   4.0996,  34.4866,2,  34.4887,2,     36.5,1,   -999.0,9,  -999.00,9,  -999.00,9,  -999.00,9,   1019,-999.000,  -999.0,  4.0215
     32MW070_1,  PRS2,     2, 13,     21,     21,2,19960328,0329, 22.7628,-157.9822, 4720,      4.2,  23.3843,  34.8495,2,  34.8501,2,    217.5,1,   -999.0,9,  -999.00,9,  -999.00,9,  -999.00,9,      5,-999.000,  -999.0, 23.3834
     32MW070_1,  PRS2,     2, 13,     22,     22,2,19960328,0329, 22.7628,-157.9822, 4720,      4.3,  23.3783,  34.8481,2,-999.0000,5,    217.5,1,   -999.0,9,  -999.00,9,  -999.00,9,  -999.00,9,      4,-999.000,  -999.0, 23.3774
     32MW070_1,  PRS2,     2, 13,     19,     19,2,19960328,0329, 22.7628,-157.9822, 4720,     24.7,  23.1187,  34.8369,2,  34.8384,2,    217.0,1,   -999.0,9,  -999.00,9,  -999.00,9,  -999.00,9,     25,-999.000,  -999.0, 23.1136
     32MW070_1,  PRS2,     2, 13,     20,     20,3,19960328,0329, 22.7628,-157.9822, 4720,     24.8,  23.1187,  34.8368,2,-999.0000,5,    216.9,1,   -999.0,9,  -999.00,9,  -999.00,9,  -999.00,9,     25,-999.000,  -999.0, 23.1136
     32MW070_1,  PRS2,     2, 13,     15,     15,2,19960328,0329, 22.7628,-157.9822, 4720,     44.3,  23.1061,  34.8423,2,-999.0000,5,    217.8,1,   -999.0,9,  -999.00,9,  -999.00,9,  -999.00,9,     46,-999.000,  -999.0, 23.0971
     32MW070_1,  PRS2,     2, 13,     18,     18,2,19960328,0329, 22.7628,-157.9822, 4720,     44.4,  23.1059,  34.8424,2,-999.0000,5,    217.8,1,   -999.0,9,  -999.00,9,  -999.00,9,  -999.00,9,     45,-999.000,  -999.0, 23.0969
     32MW070_1,  PRS2,     2, 13,     17,     17,2,19960328,0329, 22.7628,-157.9822, 4720,     44.4,  23.1060,  34.8423,2,-999.0000,5,    217.8,1,   -999.0,9,  -999.00,9,  -999.00,9,  -999.00,9,     45,-999.000,  -999.0, 23.0969
     32MW070_1,  PRS2,     2, 13,     16,     16,2,19960328,0329, 22.7628,-157.9822, 4720,     44.5,  23.1063,  34.8422,2,-999.0000,5,    217.8,1,   -999.0,9,  -999.00,9,  -999.00,9,  -999.00,9,     45,-999.000,  -999.0, 23.0972
     32MW070_1,  PRS2,     2, 13,     14,     14,2,19960328,0329, 22.7628,-157.9822, 4720,     44.6,  23.1060,  34.8420,2,-999.0000,5,    217.9,1,   -999.0,9,  -999.00,9,  -999.00,9,  -999.00,9,     44,-999.000,  -999.0, 23.0969
     32MW070_1,  PRS2,     2, 13,     13,     13,2,19960328,0329, 22.7628,-157.9822, 4720,     44.6,  23.1059,  34.8419,2,  34.8442,2,    217.9,1,   -999.0,9,  -999.00,9,  -999.00,9,  -999.00,9,     45,-999.000,  -999.0, 23.0968
     32MW070_1,  PRS2,     2, 13,     12,     12,2,19960328,0329, 22.7628,-157.9822, 4720,     59.6,  23.0993,  34.8490,2,-999.0000,5,    217.9,1,   -999.0,9,  -999.00,9,  -999.00,9,  -999.00,9,     60,-999.000,  -999.0, 23.0871
     32MW070_1,  PRS2,     2, 13,     11,     11,2,19960328,0329, 22.7628,-157.9822, 4720,     59.7,  23.0987,  34.8494,2,  34.8520,2,    217.9,1,   -999.0,9,  -999.00,9,  -999.00,9,  -999.00,9,     61,-999.000,  -999.0, 23.0865
     32MW070_1,  PRS2,     2, 13,      9,      3,2,19960328,0329, 22.7628,-157.9822, 4720,     74.0,  22.7202,  34.9776,2,  34.9789,2,    218.7,1,   -999.0,9,  -999.00,9,  -999.00,9,  -999.00,9,     75,-999.000,  -999.0, 22.7053
     32MW070_1,  PRS2,     2, 13,     10,     32,2,19960328,0329, 22.7628,-157.9822, 4720,     74.1,  22.7197,  34.9775,2,-999.0000,5,    218.8,1,   -999.0,9,  -999.00,9,  -999.00,9,  -999.00,9,     73,-999.000,  -999.0, 22.7047
     32MW070_1,  PRS2,     2, 13,      8,     29,2,19960328,0329, 22.7628,-157.9822, 4720,     99.7,  22.2007,  35.0425,2,-999.0000,5,    214.8,1,   -999.0,9,  -999.00,9,  -999.00,9,  -999.00,9,    100,-999.000,  -999.0, 22.1809
     32MW070_1,  PRS2,     2, 13,      7,     28,2,19960328,0329, 22.7628,-157.9822, 4720,     99.7,  22.2008,  35.0427,2,  35.0462,2,    214.7,1,   -999.0,9,  -999.00,9,  -999.00,9,  -999.00,9,    100,-999.000,  -999.0, 22.1810
     32MW070_1,  PRS2,     2, 13,      5,     38,2,19960328,0329, 22.7628,-157.9822, 4720,    114.3,  21.7346,  35.0874,2,  35.0898,2,    210.0,1,   -999.0,9,  -999.00,9,  -999.00,9,  -999.00,9,    115,-999.000,  -999.0, 21.7122
     32MW070_1,  PRS2,     2, 13,      6,      7,2,19960328,0329, 22.7628,-157.9822, 4720,    114.5,  21.7353,  35.0867,2,-999.0000,5,    210.5,1,   -999.0,9,  -999.00,9,  -999.00,9,  -999.00,9,    114,-999.000,  -999.0, 21.7129
     32MW070_1,  PRS2,     2, 13,      3,     35,2,19960328,0329, 22.7628,-157.9822, 4720,    150.9,  20.0368,  35.0356,2,  35.0364,2,    186.3,1,   -999.0,9,  -999.00,9,  -999.00,9,  -999.00,9,    152,-999.000,  -999.0, 20.0089
     32MW070_1,  PRS2,     2, 13,      4,     36,2,19960328,0329, 22.7628,-157.9822, 4720,    151.1,  20.0354,  35.0357,2,-999.0000,5,    186.4,1,   -999.0,9,  -999.00,9,  -999.00,9,  -999.00,9,    152,-999.000,  -999.0, 20.0074
     32MW070_1,  PRS2,     2, 13,      2,     34,2,19960328,0329, 22.7628,-157.9822, 4720,    520.7,   6.5853,  34.0967,2,  34.0922,2,     77.0,1,   -999.0,9,  -999.00,9,  -999.00,9,  -999.00,9,    520,-999.000,  -999.0,  6.5378
     32MW070_1,  PRS2,     2, 13,      1,     33,2,19960328,0329, 22.7628,-157.9822, 4720,   1019.7,   4.0955,  34.4868,2,  34.4891,2,     36.6,1,   -999.0,9,  -999.00,9,  -999.00,9,  -999.00,9,   1020,-999.000,  -999.0,  4.0175
     32MW070_1,  PRS2,     2, 14,     12,     12,2,19960328,0656, 22.7573,-157.9983, 4725,      5.0,  23.3202,  34.8500,2,  34.8497,2,    217.4,1,   -999.0,9,  -999.00,9,  -999.00,9,  -999.00,9,      6,-999.000,  -999.0, 23.3192
     32MW070_1,  PRS2,     2, 14,     11,     11,2,19960328,0656, 22.7573,-157.9983, 4725,     24.7,  23.2542,  34.8580,2,  34.8583,2,    217.4,1,   -999.0,9,  -999.00,9,  -999.00,9,  -999.00,9,     25,-999.000,  -999.0, 23.2492
     32MW070_1,  PRS2,     2, 14,     10,     32,2,19960328,0656, 22.7573,-157.9983, 4725,     44.8,  23.1585,  34.8589,2,  34.8600,2,    217.2,1,   -999.0,9,  -999.00,9,  -999.00,9,  -999.00,9,     45,-999.000,  -999.0, 23.1493
     32MW070_1,  PRS2,     2, 14,      9,      3,2,19960328,0656, 22.7573,-157.9983, 4725,     59.6,  23.1379,  34.9059,2,  34.8923,2,    217.3,1,   -999.0,9,  -999.00,9,  -999.00,9,  -999.00,9,     61,-999.000,  -999.0, 23.1257
     32MW070_1,  PRS2,     2, 14,      8,     29,2,19960328,0656, 22.7573,-157.9983, 4725,     73.6,  22.7518,  34.9780,2,  34.9781,2,    216.8,1,   -999.0,9,  -999.00,9,  -999.00,9,  -999.00,9,     74,-999.000,  -999.0, 22.7369
     32MW070_1,  PRS2,     2, 14,      7,     28,2,19960328,0656, 22.7573,-157.9983, 4725,     98.6,  22.2455,  35.0468,2,  35.0497,2,    215.1,1,   -999.0,9,  -999.00,9,  -999.00,9,  -999.00,9,     99,-999.000,  -999.0, 22.2258
     32MW070_1,  PRS2,     2, 14,      6,      7,2,19960328,0656, 22.7573,-157.9983, 4725,    115.0,  21.6662,  35.0925,2,  35.0945,2,    208.7,1,   -999.0,9,  -999.00,9,  -999.00,9,  -999.00,9,    116,-999.000,  -999.0, 21.6437
     32MW070_1,  PRS2,     2, 14,      5,     38,2,19960328,0656, 22.7573,-157.9983, 4725,    124.8,  21.4431,  35.1006,2,  35.0991,2,    207.1,1,   -999.0,9,  -999.00,9,  -999.00,9,  -999.00,9,    125,-999.000,  -999.0, 21.4189
     32MW070_1,  PRS2,     2, 14,      4,     36,2,19960328,0656, 22.7573,-157.9983, 4725,    149.2,  20.2823,  35.0423,2,  35.0428,2,    187.3,1,   -999.0,9,  -999.00,9,  -999.00,9,  -999.00,9,    149,-999.000,  -999.0, 20.2544
     32MW070_1,  PRS2,     2, 14,      3,     35,2,19960328,0656, 22.7573,-157.9983, 4725,    174.5,  19.3395,  35.0057,2,  35.0071,2,    183.9,1,   -999.0,9,  -999.00,9,  -999.00,9,  -999.00,9,    175,-999.000,  -999.0, 19.3080
     32MW070_1,  PRS2,     2, 14,      2,     34,2,19960328,0656, 22.7573,-157.9983, 4725,    500.3,   6.8809,  34.0832,2,  34.0851,2,     94.0,1,   -999.0,9,  -999.00,9,  -999.00,9,  -999.00,9,    501,-999.000,  -999.0,  6.8342
     32MW070_1,  PRS2,     2, 14,      1,     33,2,19960328,0656, 22.7573,-157.9983, 4725,   1021.0,   4.0998,  34.4864,2,  34.4890,2,     36.5,1,   -999.0,9,  -999.00,9,  -999.00,9,  -999.00,9,   1021,-999.000,  -999.0,  4.0216