BOTTLE,20020809WHPSIObren
#code : jjward hyd_to_exchange.pl 
#original files copied from HTML directory: 20020809
#original HYD file: /whpo/11/HOTS/BOTTLE/hot70/hot70.sea   Fri Aug  9 09:51:36 2002
#original SUM file: /whpo/11/HOTS/BOTTLE/hot70/hot70.sum   Fri Aug  9 13:30:40 2002
EXPOCODE,SECT_ID,STNNBR,CASTNO,SAMPNO,BTLNBR,BTLNBR_FLAG_W,DATE,TIME,LATITUDE,LONGITUDE,DEPTH,CTDPRS,CTDTMP,CTDSAL,CTDSAL_FLAG_W,SALNTY,SALNTY_FLAG_W,CTDOXY,CTDOXY_FLAG_W,OXYGEN,OXYGEN_FLAG_W,SILCAT,SILCAT_FLAG_W,NO2+NO3,NO2+NO3_FLAG_W,PHSPHT,PHSPHT_FLAG_W,CTDRAW,REVTMP,REVPRS,THETA
,,,,,,,,,,,,DBAR,ITS-90,PSS-78,,PSS-78,,UMOL/KG,,UMOL/KG,,UMOL/KG,,UMOL/KG,,UMOL/KG,,,DEG C,DBAR,ITS-90
     32MW070_1,  PRS2,     1,  1,     20,     20,2,19960325,2223, 21.3470,-158.2732, 1450,      3.8,  23.9766,  34.6992,2,  34.6972,2,    210.4,2,    211.1,2,  -999.00,5,  -999.00,5,  -999.00,5,      5,-999.000,  -999.0, 23.9758
     32MW070_1,  PRS2,     1,  1,     19,     19,3,19960325,2223, 21.3470,-158.2732, 1450,      3.8,  23.9761,  34.6992,2,  34.6970,2,    210.4,2,    211.2,2,     1.06,2,     0.01,2,     0.09,2,      5,-999.000,  -999.0, 23.9753
     32MW070_1,  PRS2,     1,  1,     18,     18,2,19960325,2223, 21.3470,-158.2732, 1450,     24.0,  23.8688,  34.8285,2,  34.8195,2,    210.6,2,    211.4,2,     1.11,2,     0.00,2,     0.09,2,     25,-999.000,  -999.0, 23.8638
     32MW070_1,  PRS2,     1,  1,     17,     17,2,19960325,2223, 21.3470,-158.2732, 1450,     43.4,  23.1712,  34.9133,2,  34.9090,2,    209.8,2,    209.3,2,     1.12,2,     0.00,2,     0.11,2,     44,-999.000,  -999.0, 23.1623
     32MW070_1,  PRS2,     1,  1,     16,     16,2,19960325,2223, 21.3470,-158.2732, 1450,     59.1,  22.6585,  34.9495,2,  34.9471,2,    208.0,2,    207.8,2,     1.29,2,     0.12,2,     0.11,2,     60,-999.000,  -999.0, 22.6465
     32MW070_1,  PRS2,     1,  1,     15,     15,2,19960325,2223, 21.3470,-158.2732, 1450,     73.8,  22.3214,  34.9869,2,  34.9848,2,    206.6,2,    205.0,2,     1.34,2,     0.32,2,     0.13,2,     74,-999.000,  -999.0, 22.3066
     32MW070_1,  PRS2,     1,  1,     14,     14,2,19960325,2223, 21.3470,-158.2732, 1450,     93.2,  21.6315,  35.0266,2,  35.0249,2,    201.6,2,    200.6,2,     1.47,2,     0.72,2,     0.16,2,     94,-999.000,  -999.0, 21.6133
     32MW070_1,  PRS2,     1,  1,     13,     13,2,19960325,2223, 21.3470,-158.2732, 1450,    104.0,  21.2043,  35.0350,2,  35.0334,2,    198.4,2,    200.2,2,     1.70,2,     0.98,2,     0.17,2,    105,-999.000,  -999.0, 21.1843
     32MW070_1,  PRS2,     1,  1,     12,     12,2,19960325,2223, 21.3470,-158.2732, 1450,    114.8,  21.0269,  35.0365,2,  35.0344,2,    199.3,2,    199.3,2,     1.68,2,     1.10,2,     0.18,2,    116,-999.000,  -999.0, 21.0049
     32MW070_1,  PRS2,     1,  1,     11,     11,2,19960325,2223, 21.3470,-158.2732, 1450,    123.5,  20.9945,  35.0391,2,  35.0392,2,    198.7,2,    199.7,2,     1.72,2,     1.10,2,     0.18,2,    125,-999.000,  -999.0, 20.9709
     32MW070_1,  PRS2,     1,  1,     10,     32,2,19960325,2223, 21.3470,-158.2732, 1450,    148.2,  19.9952,  35.0119,2,  35.0118,2,    196.3,2,    196.5,2,     2.25,2,     2.03,2,     0.23,2,    150,-999.000,  -999.0, 19.9678
     32MW070_1,  PRS2,     1,  1,      9,      3,2,19960325,2223, 21.3470,-158.2732, 1450,    174.1,  18.8060,  34.9571,2,  34.9578,2,    190.8,2,    190.4,2,     2.86,2,     3.19,2,     0.31,2,    176,-999.000,  -999.0, 18.7752
     32MW070_1,  PRS2,     1,  1,      8,     29,2,19960325,2223, 21.3470,-158.2732, 1450,    202.5,  17.8659,  34.8718,2,  34.8793,2,    188.9,2,    189.6,2,     3.57,2,     4.06,2,     0.36,2,    204,-999.000,  -999.0, 17.8313
     32MW070_1,  PRS2,     1,  1,      7,     28,2,19960325,2223, 21.3470,-158.2732, 1450,    222.1,  16.9291,  34.7588,2,  34.7643,2,    188.3,2,    187.4,2,     4.78,2,     5.34,2,     0.46,2,    223,-999.000,  -999.0, 16.8926
     32MW070_1,  PRS2,     1,  1,      6,      7,2,19960325,2223, 21.3470,-158.2732, 1450,    248.4,  15.0178,  34.5427,2,  34.5439,2,    182.5,2,    181.7,2,     7.84,2,     8.44,2,     0.68,2,    250,-999.000,  -999.0, 14.9802
     32MW070_1,  PRS2,     1,  1,      5,     38,2,19960325,2223, 21.3470,-158.2732, 1450,    300.5,  11.9091,  34.2680,2,  34.2686,2,    173.2,2,    174.6,2,    15.11,2,    14.16,2,     1.07,2,    302,-999.000,  -999.0, 11.8702
     32MW070_1,  PRS2,     1,  1,      4,     36,2,19960325,2223, 21.3470,-158.2732, 1450,    396.8,   8.8592,  34.1287,2,  34.1282,2,    142.7,2,    142.2,2,    31.40,2,    23.12,2,     1.69,2,    397,-999.000,  -999.0,  8.8165
     32MW070_1,  PRS2,     1,  1,      3,     35,2,19960325,2223, 21.3470,-158.2732, 1450,    493.9,   7.1974,  34.1663,2,  34.1662,2,     90.8,2,     90.4,2,    53.63,2,    30.97,2,     2.25,2,    496,-999.000,  -999.0,  7.1501
     32MW070_1,  PRS2,     1,  1,      2,     34,2,19960325,2223, 21.3470,-158.2732, 1450,    750.9,   5.0601,  34.3975,2,  34.3938,2,     30.0,2,     29.5,2,    88.42,2,    40.65,2,     2.98,2,    752,-999.000,  -999.0,  4.9987
     32MW070_1,  PRS2,     1,  1,      1,     33,2,19960325,2223, 21.3470,-158.2732, 1450,   1024.2,   4.1821,  34.4940,2,  34.4942,2,     41.0,2,     41.6,2,   104.70,2,    41.76,2,     3.02,2,   1024,-999.000,  -999.0,  4.1030
     32MW070_1,  PRS2,     2,  1,     24,     31,2,19960326,1250, 22.7685,-157.9952, 4725,      4.4,  23.0754,  34.8459,2,  34.8471,2,    220.9,2,    213.8,2,     1.10,2,     0.00,2,     0.18,3,      5,-999.000,  -999.0, 23.0745
     32MW070_1,  PRS2,     2,  1,     23,     30,2,19960326,1250, 22.7685,-157.9952, 4725,    299.8,  11.6694,  34.2116,2,  34.2099,2,    194.5,2,    192.2,2,    11.98,2,    12.62,2,     0.92,2,    298,-999.000,  -999.0, 11.6312
     32MW070_1,  PRS2,     2,  1,     22,     22,2,19960326,1250, 22.7685,-157.9952, 4725,    800.1,   4.6262,  34.3716,2,  34.3697,2,     25.7,2,     22.7,2,    96.42,2,    41.52,2,     2.96,2,    802,-999.000,  -999.0,  4.5632
     32MW070_1,  PRS2,     2,  1,     21,     21,2,19960326,1250, 22.7685,-157.9952, 4725,   1001.0,   4.1357,  34.4826,2,  34.4818,2,     38.5,2,     37.1,2,   105.98,2,    41.99,2,     3.00,2,   1000,-999.000,  -999.0,  4.0590
     32MW070_1,  PRS2,     2,  1,     20,     20,2,19960326,1250, 22.7685,-157.9952, 4725,   1200.8,   3.5951,  34.5271,2,  34.5258,2,     48.6,2,     48.1,2,   117.01,2,    41.90,2,     2.99,2,   1201,-999.000,  -999.0,  3.5061
     32MW070_1,  PRS2,     2,  1,     19,     19,2,19960326,1250, 22.7685,-157.9952, 4725,   1399.4,   3.0409,  34.5605,2,  34.5583,2,     60.5,2,     60.1,2,   128.70,2,    41.33,2,     2.94,2,   1400,-999.000,  -999.0,  2.9409
     32MW070_1,  PRS2,     2,  1,     18,     18,2,19960326,1250, 22.7685,-157.9952, 4725,   1599.6,   2.6935,  34.5829,2,  34.5813,2,     69.2,2,     69.3,2,   137.10,2,    40.95,2,     2.91,2,   1600,-999.000,  -999.0,  2.5810
     32MW070_1,  PRS2,     2,  1,     17,     17,4,19960326,1250, 22.7685,-157.9952, 4725,   1802.7,   2.3988,  34.6016,2,-999.0000,5,     78.6,2,   -999.0,5,  -999.00,5,  -999.00,5,  -999.00,5,   1799,-999.000,  -999.0,  2.2733
     32MW070_1,  PRS2,     2,  1,     16,     16,2,19960326,1250, 22.7685,-157.9952, 4725,   2001.7,   2.1349,  34.6184,2,  34.6579,4,     86.2,3,     87.6,2,   149.61,2,    39.95,2,     2.81,2,   1999,-999.000,  -999.0,  1.9963
     32MW070_1,  PRS2,     2,  1,     15,     15,2,19960326,1250, 22.7685,-157.9952, 4725,   2200.1,   1.9719,  34.6311,2,  34.6304,2,     94.1,2,     94.4,2,   152.95,2,    39.74,2,     2.76,2,   2202,-999.000,  -999.0,  1.8189
     32MW070_1,  PRS2,     2,  1,     14,     14,2,19960326,1250, 22.7685,-157.9952, 4725,   2400.3,   1.8035,  34.6443,2,  34.6424,2,    102.7,2,    102.4,2,   156.37,2,    39.14,2,     2.74,2,   2396,-999.000,  -999.0,  1.6358
     32MW070_1,  PRS2,     2,  1,     13,     13,2,19960326,1250, 22.7685,-157.9952, 4725,   2598.3,   1.6922,  34.6533,2,  34.6515,2,    108.2,2,    107.7,2,   160.12,2,    38.81,2,     2.71,2,   2599,-999.000,  -999.0,  1.5089
     32MW070_1,  PRS2,     2,  1,     12,     12,2,19960326,1250, 22.7685,-157.9952, 4725,   2800.8,   1.6109,  34.6623,2,  34.6607,2,    115.3,2,    116.4,2,   159.95,2,    38.37,2,     2.67,2,   2798,-999.000,  -999.0,  1.4105
     32MW070_1,  PRS2,     2,  1,     11,     11,2,19960326,1250, 22.7685,-157.9952, 4725,   2999.3,   1.5582,  34.6683,2,  34.6656,2,    121.9,2,    122.5,2,   159.30,2,    37.81,2,     2.63,2,   2998,-999.000,  -999.0,  1.3402
     32MW070_1,  PRS2,     2,  1,     10,     32,2,19960326,1250, 22.7685,-157.9952, 4725,   3199.1,   1.5237,  34.6737,2,  34.6705,2,    128.0,2,    128.2,2,   157.89,2,    37.57,2,     2.60,2,   3201,-999.000,  -999.0,  1.2871
     32MW070_1,  PRS2,     2,  1,      9,      3,2,19960326,1250, 22.7685,-157.9952, 4725,   3399.5,   1.4933,  34.6778,2,  34.6748,2,    133.6,2,    134.0,2,   156.72,2,    37.25,2,     2.58,2,   3399,-999.000,  -999.0,  1.2375
     32MW070_1,  PRS2,     2,  1,      8,     29,2,19960326,1250, 22.7685,-157.9952, 4725,   3600.2,   1.4738,  34.6813,2,  34.6788,2,    138.5,2,    141.7,3,   154.38,2,    36.91,2,     2.55,2,   3599,-999.000,  -999.0,  1.1980
     32MW070_1,  PRS2,     2,  1,      7,     28,2,19960326,1250, 22.7685,-157.9952, 4725,   3800.6,   1.4634,  34.6839,2,  34.6830,2,    142.9,2,   -999.0,5,   152.98,2,    36.58,2,     2.53,2,   3803,-999.000,  -999.0,  1.1670
     32MW070_1,  PRS2,     2,  1,      6,      7,2,19960326,1250, 22.7685,-157.9952, 4725,   4000.1,   1.4642,  34.6854,2,  34.6847,2,    146.8,2,    146.7,2,   151.54,2,    36.46,2,     2.52,2,   3999,-999.000,  -999.0,  1.1462
     32MW070_1,  PRS2,     2,  1,      5,     38,2,19960326,1250, 22.7685,-157.9952, 4725,   4201.2,   1.4678,  34.6872,2,  34.6845,2,    149.5,2,    149.4,2,   149.44,2,    36.14,2,     2.49,2,   4204,-999.000,  -999.0,  1.1277
     32MW070_1,  PRS2,     2,  1,      4,     36,2,19960326,1250, 22.7685,-157.9952, 4725,   4400.6,   1.4785,  34.6881,2,  34.6884,2,    151.6,2,    151.3,2,   148.59,2,    36.12,2,     2.48,2,   4401,-999.000,  -999.0,  1.1156
     32MW070_1,  PRS2,     2,  1,      3,     35,2,19960326,1250, 22.7685,-157.9952, 4725,   4599.8,   1.4915,  34.6891,2,  34.6868,2,    153.0,2,    152.7,2,   147.77,2,    36.02,2,     2.48,2,   4599,-999.000,  -999.0,  1.1053
     32MW070_1,  PRS2,     2,  1,      2,     34,2,19960326,1250, 22.7685,-157.9952, 4725,   4698.4,   1.4981,  34.6895,2,  34.6884,2,    154.8,2,    153.4,2,   147.85,2,    36.07,2,     2.47,2,   4698,-999.000,  -999.0,  1.1001
     32MW070_1,  PRS2,     2,  1,      1,     33,2,19960326,1250, 22.7685,-157.9952, 4725,   4800.6,   1.5088,  34.6896,2,  34.6888,2,    154.7,2,    154.4,2,   147.13,2,    35.83,2,     2.48,2,   4803,-999.000,  -999.0,  1.0983
     32MW070_1,  PRS2,     2,  2,     24,     31,2,19960326,1829, 22.7793,-158.0203, 4720,      8.9,  23.0694,  34.8535,2,  34.8521,2,    212.4,2,    214.2,2,     1.05,2,     0.01,2,     0.10,2,      9,-999.000,  -999.0, 23.0676
     32MW070_1,  PRS2,     2,  2,     23,     30,2,19960326,1829, 22.7793,-158.0203, 4720,     49.7,  23.0673,  34.8554,2,  34.8555,2,    220.0,2,    214.3,2,     1.05,2,     0.00,2,     0.10,2,     50,-999.000,  -999.0, 23.0571
     32MW070_1,  PRS2,     2,  2,     22,     22,2,19960326,1829, 22.7793,-158.0203, 4720,     68.7,  22.4467,  35.0211,2,  35.0189,2,    218.2,2,    215.1,2,     1.07,2,     0.01,2,     0.08,2,     67,-999.000,  -999.0, 22.4329
     32MW070_1,  PRS2,     2,  2,     21,     21,2,19960326,1829, 22.7793,-158.0203, 4720,     95.0,  21.7056,  35.0871,2,  35.0869,2,    217.5,2,    209.8,2,     1.30,2,     0.04,2,     0.10,2,     96,-999.000,  -999.0, 21.6870
     32MW070_1,  PRS2,     2,  2,     20,     20,2,19960326,1829, 22.7793,-158.0203, 4720,    154.5,  19.6506,  35.0405,2,  35.0402,2,    197.6,2,    191.5,2,     2.08,2,     2.27,2,     0.25,2,    156,-999.000,  -999.0, 19.6224
     32MW070_1,  PRS2,     2,  2,     19,     19,3,19960326,1829, 22.7793,-158.0203, 4720,    200.0,  17.9901,  34.8713,2,  34.8682,2,    191.0,2,    188.5,2,     3.30,2,     3.97,2,     0.37,2,    202,-999.000,  -999.0, 17.9557
     32MW070_1,  PRS2,     2,  2,     18,     18,2,19960326,1829, 22.7793,-158.0203, 4720,    233.4,  16.0856,  34.6145,2,  34.6156,2,    184.8,2,    179.8,2,     5.36,2,     6.76,2,     0.56,2,    234,-999.000,  -999.0, 16.0485
     32MW070_1,  PRS2,     2,  2,     17,     17,2,19960326,1829, 22.7793,-158.0203, 4720,    265.3,  13.7921,  34.3626,2,  34.3655,2,    163.6,2,    172.5,2,     8.52,2,    10.43,2,     0.83,2,    265,-999.000,  -999.0, 13.7543
     32MW070_1,  PRS2,     2,  2,     16,     16,2,19960326,1829, 22.7793,-158.0203, 4720,    306.7,  11.8599,  34.2198,2,  34.2192,2,    193.2,2,    191.1,2,    11.59,2,    12.54,2,     0.92,2,    308,-999.000,  -999.0, 11.8203
     32MW070_1,  PRS2,     2,  2,     15,     15,2,19960326,1829, 22.7793,-158.0203, 4720,    349.2,  10.7703,  34.1831,2,  34.2194,4,    199.6,3,    193.0,2,    15.73,2,    15.01,2,     1.07,2,    349,-999.000,  -999.0, 10.7279
     32MW070_1,  PRS2,     2,  2,     14,     14,2,19960326,1829, 22.7793,-158.0203, 4720,    407.4,   8.9894,  34.0940,2,  34.0963,2,    170.8,2,    170.6,2,    25.17,2,    20.57,2,     1.46,2,    408,-999.000,  -999.0,  8.9452
     32MW070_1,  PRS2,     2,  2,     13,     13,2,19960326,1829, 22.7793,-158.0203, 4720,    438.7,   8.2520,  34.0672,2,  34.0673,2,    158.5,2,    159.1,2,    31.77,2,    23.42,2,     1.65,2,    439,-999.000,  -999.0,  8.2067
     32MW070_1,  PRS2,     2,  2,     12,     12,2,19960326,1829, 22.7793,-158.0203, 4720,    474.0,   7.5495,  34.0660,2,  34.0650,2,    133.2,2,    131.9,2,    40.65,2,    27.15,2,     1.93,2,    475,-999.000,  -999.0,  7.5030
     32MW070_1,  PRS2,     2,  2,     11,     11,2,19960326,1829, 22.7793,-158.0203, 4720,    500.4,   7.3793,  34.1047,2,  34.1053,2,     99.9,2,    103.3,2,    45.62,2,    29.89,2,     2.17,2,    501,-999.000,  -999.0,  7.3307
     32MW070_1,  PRS2,     2,  2,     10,     32,2,19960326,1829, 22.7793,-158.0203, 4720,    545.7,   6.6754,  34.0811,2,  34.0813,2,     93.0,2,     88.7,2,    53.88,2,    32.49,2,     2.34,2,    546,-999.000,  -999.0,  6.6251
     32MW070_1,  PRS2,     2,  2,      9,      3,2,19960326,1829, 22.7793,-158.0203, 4720,    578.4,   6.5050,  34.1619,2,  34.1602,2,     66.3,2,     58.6,2,    60.89,2,    35.27,2,     2.59,2,    579,-999.000,  -999.0,  6.4522
     32MW070_1,  PRS2,     2,  2,      8,     29,2,19960326,1829, 22.7793,-158.0203, 4720,    635.4,   5.5321,  34.1516,2,  34.1508,2,     44.5,2,     42.6,2,    75.27,2,    38.48,2,     2.79,2,    636,-999.000,  -999.0,  5.4786
     32MW070_1,  PRS2,     2,  2,      7,     28,2,19960326,1829, 22.7793,-158.0203, 4720,    675.5,   5.1434,  34.2317,2,  34.2308,2,     29.9,2,     29.4,2,    84.72,2,    40.49,2,     2.95,2,    678,-999.000,  -999.0,  5.0883
     32MW070_1,  PRS2,     2,  2,      6,      7,2,19960326,1829, 22.7793,-158.0203, 4720,    748.5,   4.9244,  34.3371,2,  34.3347,2,     26.6,2,     26.8,2,    90.27,2,    41.17,2,     2.99,2,    750,-999.000,  -999.0,  4.8641
     32MW070_1,  PRS2,     2,  2,      5,     38,2,19960326,1829, 22.7793,-158.0203, 4720,    799.8,   4.7102,  34.3708,2,  34.3698,2,     25.0,2,     27.5,2,    95.00,2,    41.64,2,     3.02,2,    802,-999.000,  -999.0,  4.6467
     32MW070_1,  PRS2,     2,  2,      4,     36,2,19960326,1829, 22.7793,-158.0203, 4720,    854.6,   4.5151,  34.4134,2,  34.4121,2,     27.5,2,     27.4,2,    99.52,2,    42.18,2,     3.05,2,    854,-999.000,  -999.0,  4.4481
     32MW070_1,  PRS2,     2,  2,      3,     35,2,19960326,1829, 22.7793,-158.0203, 4720,    901.2,   4.4002,  34.4489,2,  34.4495,2,     32.2,2,     31.9,2,   101.04,2,    42.15,2,     3.04,2,    900,-999.000,  -999.0,  4.3300
     32MW070_1,  PRS2,     2,  2,      2,     34,2,19960326,1829, 22.7793,-158.0203, 4720,    949.5,   4.2423,  34.4637,2,  34.4635,2,     34.1,2,     34.1,2,   104.66,2,    42.29,2,     3.03,2,    951,-999.000,  -999.0,  4.1691
     32MW070_1,  PRS2,     2,  2,      1,     33,2,19960326,1829, 22.7793,-158.0203, 4720,   1018.7,   4.1024,  34.4884,2,  34.4883,2,     38.3,2,     39.3,2,   107.04,2,    42.17,2,     3.03,2,   1020,-999.000,  -999.0,  4.0244