BOTTLE,20020809WHPSIObren
EXPOCODE,SECT_ID,STNNBR,CASTNO,SAMPNO,BTLNBR,BTLNBR_FLAG_W,DATE,TIME,LATITUDE,LONGITUDE,DEPTH,CTDPRS,CTDTMP,CTDSAL,CTDSAL_FLAG_W,SALNTY,SALNTY_FLAG_W,CTDOXY,CTDOXY_FLAG_W,OXYGEN,OXYGEN_FLAG_W,SILCAT,SILCAT_FLAG_W,NO2+NO3,NO2+NO3_FLAG_W,PHSPHT,PHSPHT_FLAG_W,CTDRAW,REVTMP,REVPRS,THETA
,,,,,,,,,,,,DBAR,ITS-90,PSS-78,,PSS-78,,UMOL/KG,,UMOL/KG,,UMOL/KG,,UMOL/KG,,UMOL/KG,,,DEG C,DBAR,ITS-90
     32MW070_1,  PRS2,     2, 15,     24,     31,2,19960328,1301, 22.7513,-158.0002, 4725,      4.0,  23.2675,  34.8580,2,  34.8563,2,    216.2,1,   -999.0,9,  -999.00,9,  -999.00,9,  -999.00,9,      4,-999.000,  -999.0, 23.2667
     32MW070_1,  PRS2,     2, 15,     23,     30,2,19960328,1301, 22.7513,-158.0002, 4725,      8.9,  23.2692,  34.8582,2,  34.8558,2,    216.2,1,   -999.0,9,  -999.00,9,  -999.00,9,  -999.00,9,      9,-999.000,  -999.0, 23.2673
     32MW070_1,  PRS2,     2, 15,     22,     22,2,19960328,1301, 22.7513,-158.0002, 4725,     24.3,  23.2697,  34.8579,2,  34.8559,2,    216.2,1,   -999.0,9,  -999.00,9,  -999.00,9,  -999.00,9,     25,-999.000,  -999.0, 23.2647
     32MW070_1,  PRS2,     2, 15,     21,     21,2,19960328,1301, 22.7513,-158.0002, 4725,     44.6,  23.2071,  34.8623,2,  34.8621,2,    216.2,1,   -999.0,9,  -999.00,9,  -999.00,9,  -999.00,9,     45,-999.000,  -999.0, 23.1980
     32MW070_1,  PRS2,     2, 15,     20,     20,2,19960328,1301, 22.7513,-158.0002, 4725,     59.6,  22.7981,  34.9970,2,  34.9944,2,    216.7,1,   -999.0,9,  -999.00,9,  -999.00,9,  -999.00,9,     60,-999.000,  -999.0, 22.7861
     32MW070_1,  PRS2,     2, 15,     19,     19,2,19960328,1301, 22.7513,-158.0002, 4725,     74.3,  22.4193,  35.0580,2,  35.0576,2,    216.5,1,   -999.0,9,  -999.00,9,  -999.00,9,  -999.00,9,     74,-999.000,  -999.0, 22.4044
     32MW070_1,  PRS2,     2, 15,     13,     13,2,19960328,1301, 22.7513,-158.0002, 4725,    114.6,  21.3353,  35.0737,2,-999.0000,5,    204.5,1,   -999.0,9,  -999.00,9,  -999.00,9,  -999.00,9,    114,-999.000,  -999.0, 21.3132
     32MW070_1,  PRS2,     2, 15,      9,      3,2,19960328,1301, 22.7513,-158.0002, 4725,    114.7,  21.3395,  35.0783,2,-999.0000,5,    204.1,1,   -999.0,9,  -999.00,9,  -999.00,9,  -999.00,9,    116,-999.000,  -999.0, 21.3173
     32MW070_1,  PRS2,     2, 15,      8,     29,2,19960328,1301, 22.7513,-158.0002, 4725,    114.7,  21.3350,  35.0735,2,-999.0000,5,    203.8,1,   -999.0,9,  -999.00,9,  -999.00,9,  -999.00,9,    115,-999.000,  -999.0, 21.3128
     32MW070_1,  PRS2,     2, 15,     17,     17,2,19960328,1301, 22.7513,-158.0002, 4725,    114.9,  21.3564,  35.0967,2,-999.0000,5,    204.0,1,   -999.0,9,  -999.00,9,  -999.00,9,  -999.00,9,    115,-999.000,  -999.0, 21.3341
     32MW070_1,  PRS2,     2, 15,     16,     16,2,19960328,1301, 22.7513,-158.0002, 4725,    114.9,  21.3551,  35.0946,2,-999.0000,5,    204.2,1,   -999.0,9,  -999.00,9,  -999.00,9,  -999.00,9,    115,-999.000,  -999.0, 21.3329
     32MW070_1,  PRS2,     2, 15,     15,     15,2,19960328,1301, 22.7513,-158.0002, 4725,    114.9,  21.3529,  35.0905,2,-999.0000,5,    204.3,1,   -999.0,9,  -999.00,9,  -999.00,9,  -999.00,9,    115,-999.000,  -999.0, 21.3307
     32MW070_1,  PRS2,     2, 15,     14,     14,2,19960328,1301, 22.7513,-158.0002, 4725,    114.9,  21.3479,  35.0862,2,-999.0000,5,    204.4,1,   -999.0,9,  -999.00,9,  -999.00,9,  -999.00,9,    115,-999.000,  -999.0, 21.3257
     32MW070_1,  PRS2,     2, 15,     12,     12,2,19960328,1301, 22.7513,-158.0002, 4725,    114.9,  21.3374,  35.0756,2,-999.0000,5,    204.5,1,   -999.0,9,  -999.00,9,  -999.00,9,  -999.00,9,    116,-999.000,  -999.0, 21.3152
     32MW070_1,  PRS2,     2, 15,     18,     18,2,19960328,1301, 22.7513,-158.0002, 4725,    115.0,  21.3555,  35.1018,2,  35.0950,2,    203.8,1,   -999.0,9,  -999.00,9,  -999.00,9,  -999.00,9,    115,-999.000,  -999.0, 21.3333
     32MW070_1,  PRS2,     2, 15,     11,     11,2,19960328,1301, 22.7513,-158.0002, 4725,    115.0,  21.3501,  35.0870,2,-999.0000,5,    204.5,1,   -999.0,9,  -999.00,9,  -999.00,9,  -999.00,9,    115,-999.000,  -999.0, 21.3279
     32MW070_1,  PRS2,     2, 15,     10,     32,2,19960328,1301, 22.7513,-158.0002, 4725,    115.0,  21.3523,  35.0866,2,-999.0000,5,    204.3,1,   -999.0,9,  -999.00,9,  -999.00,9,  -999.00,9,    115,-999.000,  -999.0, 21.3301
     32MW070_1,  PRS2,     2, 15,      7,     28,2,19960328,1301, 22.7513,-158.0002, 4725,    124.1,  20.9757,  35.1103,2,  35.1117,2,    200.6,1,   -999.0,9,  -999.00,9,  -999.00,9,  -999.00,9,    125,-999.000,  -999.0, 20.9519
     32MW070_1,  PRS2,     2, 15,      6,      7,2,19960328,1301, 22.7513,-158.0002, 4725,    149.3,  19.9439,  35.0594,2,  35.0612,2,    188.3,1,   -999.0,9,  -999.00,9,  -999.00,9,  -999.00,9,    150,-999.000,  -999.0, 19.9164
     32MW070_1,  PRS2,     2, 15,      5,     38,2,19960328,1301, 22.7513,-158.0002, 4725,    174.4,  19.2701,  35.0011,2,  35.0052,2,    185.2,1,   -999.0,9,  -999.00,9,  -999.00,9,  -999.00,9,    174,-999.000,  -999.0, 19.2387
     32MW070_1,  PRS2,     2, 15,      4,     36,2,19960328,1301, 22.7513,-158.0002, 4725,    249.5,  15.2273,  34.5092,2,  34.5081,2,    164.8,1,   -999.0,9,  -999.00,9,  -999.00,9,  -999.00,9,    250,-999.000,  -999.0, 15.1892
     32MW070_1,  PRS2,     2, 15,      3,     35,2,19960328,1301, 22.7513,-158.0002, 4725,    501.9,   7.2806,  34.0887,2,  34.0888,2,    103.2,1,   -999.0,9,  -999.00,9,  -999.00,9,  -999.00,9,    502,-999.000,  -999.0,  7.2322
     32MW070_1,  PRS2,     2, 15,      2,     34,2,19960328,1301, 22.7513,-158.0002, 4725,    749.8,   4.9410,  34.3253,2,  34.3265,2,     24.0,1,   -999.0,9,  -999.00,9,  -999.00,9,  -999.00,9,    751,-999.000,  -999.0,  4.8805
     32MW070_1,  PRS2,     2, 15,      1,     33,2,19960328,1301, 22.7513,-158.0002, 4725,   1021.9,   4.1616,  34.4795,2,  34.4819,2,     35.2,1,   -999.0,9,  -999.00,9,  -999.00,9,  -999.00,9,   1022,-999.000,  -999.0,  4.0829
     32MW070_1,  PRS2,     2, 16,     20,     20,2,19960328,1608, 22.7235,-158.0050, 4720,      5.0,  23.2822,  34.8660,2,  34.8667,2,    215.9,2,    214.6,2,  -999.00,9,  -999.00,9,  -999.00,9,      5,-999.000,  -999.0, 23.2812
     32MW070_1,  PRS2,     2, 16,     19,     19,2,19960328,1608, 22.7235,-158.0050, 4720,     14.2,  23.2662,  34.8645,2,  34.8646,2,    215.7,2,   -999.0,5,  -999.00,9,  -999.00,9,  -999.00,9,     15,-999.000,  -999.0, 23.2633
     32MW070_1,  PRS2,     2, 16,     17,     17,2,19960328,1608, 22.7235,-158.0050, 4720,     44.7,  23.1746,  34.8769,2,-999.0000,5,    215.3,2,   -999.0,5,  -999.00,9,  -999.00,9,  -999.00,9,     44,-999.000,  -999.0, 23.1655
     32MW070_1,  PRS2,     2, 16,     16,     16,2,19960328,1608, 22.7235,-158.0050, 4720,     44.7,  23.1746,  34.8768,2,-999.0000,5,    215.3,2,   -999.0,5,  -999.00,9,  -999.00,9,  -999.00,9,     45,-999.000,  -999.0, 23.1655
     32MW070_1,  PRS2,     2, 16,     18,     18,2,19960328,1608, 22.7235,-158.0050, 4720,     44.8,  23.1742,  34.8768,2,  34.8773,2,    215.2,2,   -999.0,5,  -999.00,9,  -999.00,9,  -999.00,9,     44,-999.000,  -999.0, 23.1650
     32MW070_1,  PRS2,     2, 16,     15,     15,2,19960328,1608, 22.7235,-158.0050, 4720,     50.4,  23.1640,  34.8814,2,  34.8804,2,    215.3,2,    214.2,2,  -999.00,9,  -999.00,9,  -999.00,9,     51,-999.000,  -999.0, 23.1537
     32MW070_1,  PRS2,     2, 16,     14,     14,2,19960328,1608, 22.7235,-158.0050, 4720,    100.9,  21.9350,  35.0796,2,  35.0786,2,    211.6,2,   -999.0,5,  -999.00,9,  -999.00,9,  -999.00,9,    102,-999.000,  -999.0, 21.9151
     32MW070_1,  PRS2,     2, 16,     13,     13,2,19960328,1608, 22.7235,-158.0050, 4720,    149.0,  20.0174,  35.0638,2,  35.0672,2,    191.9,2,   -999.0,5,  -999.00,9,  -999.00,9,  -999.00,9,    150,-999.000,  -999.0, 19.9898
     32MW070_1,  PRS2,     2, 16,     12,     12,2,19960328,1608, 22.7235,-158.0050, 4720,    199.8,  17.8479,  34.8497,2,  34.8522,2,    183.0,2,   -999.0,5,  -999.00,9,  -999.00,9,  -999.00,9,    200,-999.000,  -999.0, 17.8138
     32MW070_1,  PRS2,     2, 16,     11,     11,2,19960328,1608, 22.7235,-158.0050, 4720,    250.4,  14.6107,  34.4394,2,  34.4396,2,    155.4,2,   -999.0,5,  -999.00,9,  -999.00,9,  -999.00,9,    251,-999.000,  -999.0, 14.5735
     32MW070_1,  PRS2,     2, 16,     10,     32,2,19960328,1608, 22.7235,-158.0050, 4720,    300.3,  11.8094,  34.2156,2,  34.2219,2,    181.8,2,    189.3,2,  -999.00,9,  -999.00,9,  -999.00,9,    301,-999.000,  -999.0, 11.7708
     32MW070_1,  PRS2,     2, 16,      9,      3,2,19960328,1608, 22.7235,-158.0050, 4720,    400.4,   8.9137,  34.0931,2,  34.0953,2,    160.4,2,    165.9,2,  -999.00,9,  -999.00,9,  -999.00,9,    401,-999.000,  -999.0,  8.8704
     32MW070_1,  PRS2,     2, 16,      8,     29,2,19960328,1608, 22.7235,-158.0050, 4720,    501.1,   6.9623,  34.1227,2,  34.1232,2,     84.8,2,     82.1,2,  -999.00,9,  -999.00,9,  -999.00,9,    502,-999.000,  -999.0,  6.9151
     32MW070_1,  PRS2,     2, 16,      7,     28,2,19960328,1608, 22.7235,-158.0050, 4720,    750.5,   4.9033,  34.3469,2,  34.3470,2,     22.8,2,     23.7,2,  -999.00,9,  -999.00,9,  -999.00,9,    751,-999.000,  -999.0,  4.8428
     32MW070_1,  PRS2,     2, 16,      6,      7,2,19960328,1608, 22.7235,-158.0050, 4720,    799.4,   4.7630,  34.3931,2,  34.3929,2,     22.9,2,     26.1,2,  -999.00,9,  -999.00,9,  -999.00,9,    800,-999.000,  -999.0,  4.6991
     32MW070_1,  PRS2,     2, 16,      5,     38,2,19960328,1608, 22.7235,-158.0050, 4720,    999.7,   4.1173,  34.4850,2,  34.4843,2,     37.0,2,   -999.0,5,  -999.00,9,  -999.00,9,  -999.00,9,    999,-999.000,  -999.0,  4.0408
     32MW070_1,  PRS2,     2, 16,      4,     36,2,19960328,1608, 22.7235,-158.0050, 4720,   2000.2,   2.1511,  34.6178,2,  34.6205,2,     86.8,2,     87.3,2,  -999.00,9,  -999.00,9,  -999.00,9,   2000,-999.000,  -999.0,  2.0124
     32MW070_1,  PRS2,     2, 16,      3,     35,2,19960328,1608, 22.7235,-158.0050, 4720,   3000.3,   1.5726,  34.6672,2,  34.6671,2,    121.9,2,    121.0,2,  -999.00,9,  -999.00,9,  -999.00,9,   2999,-999.000,  -999.0,  1.3543
     32MW070_1,  PRS2,     2, 16,      2,     34,2,19960328,1608, 22.7235,-158.0050, 4720,   4001.1,   1.4616,  34.6857,2,  34.6868,2,    148.1,2,    148.8,2,  -999.00,9,  -999.00,9,  -999.00,9,   4001,-999.000,  -999.0,  1.1437
     32MW070_1,  PRS2,     2, 16,      1,     33,2,19960328,1608, 22.7235,-158.0050, 4720,   4800.6,   1.5149,  34.6891,2,  34.6895,2,    154.1,2,    153.8,2,  -999.00,9,  -999.00,9,  -999.00,9,   4799,-999.000,  -999.0,  1.1041