BOTTLE,20020809WHPSIObren
EXPOCODE,SECT_ID,STNNBR,CASTNO,SAMPNO,BTLNBR,BTLNBR_FLAG_W,DATE,TIME,LATITUDE,LONGITUDE,DEPTH,CTDPRS,CTDTMP,CTDSAL,CTDSAL_FLAG_W,SALNTY,SALNTY_FLAG_W,CTDOXY,CTDOXY_FLAG_W,OXYGEN,OXYGEN_FLAG_W,SILCAT,SILCAT_FLAG_W,NO2+NO3,NO2+NO3_FLAG_W,PHSPHT,PHSPHT_FLAG_W,CTDRAW,REVTMP,REVPRS,THETA
,,,,,,,,,,,,DBAR,ITS-90,PSS-78,,PSS-78,,UMOL/KG,,UMOL/KG,,UMOL/KG,,UMOL/KG,,UMOL/KG,,,DEG C,DBAR,ITS-90
     32MW070_1,  PRS2,     2,  7,     22,     22,2,19960327,0958, 22.7620,-158.0047, 4720,      4.0,  23.1431,  34.8522,2,  34.8505,2,    222.6,1,   -999.0,9,  -999.00,9,  -999.00,9,  -999.00,9,      5,-999.000,  -999.0, 23.1423
     32MW070_1,  PRS2,     2,  7,     21,     21,2,19960327,0958, 22.7620,-158.0047, 4720,     23.9,  23.1588,  34.8522,2,  34.8513,2,    222.7,1,   -999.0,9,  -999.00,9,  -999.00,9,  -999.00,9,     26,-999.000,  -999.0, 23.1539
     32MW070_1,  PRS2,     2,  7,     20,     20,2,19960327,0958, 22.7620,-158.0047, 4720,     43.9,  23.1650,  34.8520,2,-999.0000,5,    222.6,1,   -999.0,9,  -999.00,9,  -999.00,9,  -999.00,9,     44,-999.000,  -999.0, 23.1561
     32MW070_1,  PRS2,     2,  7,     18,     18,2,19960327,0958, 22.7620,-158.0047, 4720,     44.0,  23.1572,  34.8498,2,-999.0000,5,    222.7,1,   -999.0,9,  -999.00,9,  -999.00,9,  -999.00,9,     44,-999.000,  -999.0, 23.1481
     32MW070_1,  PRS2,     2,  7,     17,     17,2,19960327,0958, 22.7620,-158.0047, 4720,     44.0,  23.1568,  34.8498,2,-999.0000,5,    222.7,1,   -999.0,9,  -999.00,9,  -999.00,9,  -999.00,9,     45,-999.000,  -999.0, 23.1478
     32MW070_1,  PRS2,     2,  7,     19,     19,2,19960327,0958, 22.7620,-158.0047, 4720,     44.2,  23.1653,  34.8519,2,-999.0000,5,    222.6,1,   -999.0,9,  -999.00,9,  -999.00,9,  -999.00,9,     45,-999.000,  -999.0, 23.1562
     32MW070_1,  PRS2,     2,  7,     16,     16,2,19960327,0958, 22.7620,-158.0047, 4720,     44.2,  23.1568,  34.8496,2,-999.0000,5,    222.7,1,   -999.0,9,  -999.00,9,  -999.00,9,  -999.00,9,     44,-999.000,  -999.0, 23.1477
     32MW070_1,  PRS2,     2,  7,     15,     15,2,19960327,0958, 22.7620,-158.0047, 4720,     44.3,  23.1569,  34.8494,2,  34.8515,2,    222.7,1,   -999.0,9,  -999.00,9,  -999.00,9,  -999.00,9,     44,-999.000,  -999.0, 23.1478
     32MW070_1,  PRS2,     2,  7,     14,     14,2,19960327,0958, 22.7620,-158.0047, 4720,     59.1,  23.1597,  34.8493,2,  34.8497,2,    222.7,1,   -999.0,9,  -999.00,9,  -999.00,9,  -999.00,9,     60,-999.000,  -999.0, 23.1476
     32MW070_1,  PRS2,     2,  7,     13,     13,2,19960327,0958, 22.7620,-158.0047, 4720,     74.4,  22.5603,  35.0022,2,  35.0014,2,    223.2,1,   -999.0,9,  -999.00,9,  -999.00,9,  -999.00,9,     74,-999.000,  -999.0, 22.5454
     32MW070_1,  PRS2,     2,  7,     12,     12,2,19960327,0958, 22.7620,-158.0047, 4720,     99.6,  21.9034,  35.0783,2,  35.0793,2,    218.6,1,   -999.0,9,  -999.00,9,  -999.00,9,  -999.00,9,    100,-999.000,  -999.0, 21.8837
     32MW070_1,  PRS2,     2,  7,     11,     11,2,19960327,0958, 22.7620,-158.0047, 4720,    114.5,  21.6113,  35.0947,2,-999.0000,5,    216.3,1,   -999.0,9,  -999.00,9,  -999.00,9,  -999.00,9,    117,-999.000,  -999.0, 21.5889
     32MW070_1,  PRS2,     2,  7,      6,      7,2,19960327,0958, 22.7620,-158.0047, 4720,    114.6,  21.6043,  35.0952,2,  35.0980,2,    216.1,1,   -999.0,9,  -999.00,9,  -999.00,9,  -999.00,9,    116,-999.000,  -999.0, 21.5819
     32MW070_1,  PRS2,     2,  7,     10,     32,2,19960327,0958, 22.7620,-158.0047, 4720,    114.7,  21.6109,  35.0947,2,-999.0000,5,    216.2,1,   -999.0,9,  -999.00,9,  -999.00,9,  -999.00,9,    114,-999.000,  -999.0, 21.5885
     32MW070_1,  PRS2,     2,  7,      9,      3,2,19960327,0958, 22.7620,-158.0047, 4720,    114.7,  21.6058,  35.0950,2,-999.0000,5,    216.2,1,   -999.0,9,  -999.00,9,  -999.00,9,  -999.00,9,    114,-999.000,  -999.0, 21.5834
     32MW070_1,  PRS2,     2,  7,      8,     29,2,19960327,0958, 22.7620,-158.0047, 4720,    114.8,  21.6057,  35.0948,2,-999.0000,5,    216.1,1,   -999.0,9,  -999.00,9,  -999.00,9,  -999.00,9,    116,-999.000,  -999.0, 21.5833
     32MW070_1,  PRS2,     2,  7,      7,     28,2,19960327,0958, 22.7620,-158.0047, 4720,    114.9,  21.6047,  35.0949,2,-999.0000,5,    216.1,1,   -999.0,9,  -999.00,9,  -999.00,9,  -999.00,9,    114,-999.000,  -999.0, 21.5823
     32MW070_1,  PRS2,     2,  7,      5,     38,2,19960327,0958, 22.7620,-158.0047, 4720,    150.7,  20.1325,  35.0435,2,  35.0431,2,    192.9,1,   -999.0,9,  -999.00,9,  -999.00,9,  -999.00,9,    151,-999.000,  -999.0, 20.1045
     32MW070_1,  PRS2,     2,  7,      4,     36,2,19960327,0958, 22.7620,-158.0047, 4720,    499.9,   7.0636,  34.0680,2,  34.0690,2,    108.7,1,   -999.0,9,  -999.00,9,  -999.00,9,  -999.00,9,    500,-999.000,  -999.0,  7.0162
     32MW070_1,  PRS2,     2,  7,      3,     35,2,19960327,0958, 22.7620,-158.0047, 4720,   1019.7,   4.0789,  34.4876,2,-999.0000,5,     38.2,1,   -999.0,9,  -999.00,9,  -999.00,9,  -999.00,9,   1019,-999.000,  -999.0,  4.0010
     32MW070_1,  PRS2,     2,  7,      2,     34,2,19960327,0958, 22.7620,-158.0047, 4720,   1019.7,   4.0792,  34.4873,2,-999.0000,5,     38.1,1,   -999.0,9,  -999.00,9,  -999.00,9,  -999.00,9,   1021,-999.000,  -999.0,  4.0013
     32MW070_1,  PRS2,     2,  7,      1,     33,2,19960327,0958, 22.7620,-158.0047, 4720,   1019.7,   4.0794,  34.4873,2,  34.4885,2,     38.1,1,   -999.0,9,  -999.00,9,  -999.00,9,  -999.00,9,   1019,-999.000,  -999.0,  4.0015
     32MW070_1,  PRS2,     2,  8,     18,     18,3,19960327,1301, 22.7498,-158.0008, 4725,      3.8,  23.1374,  34.8444,2,-999.0000,5,    223.3,1,   -999.0,9,  -999.00,9,  -999.00,9,  -999.00,9,      4,-999.000,  -999.0, 23.1366
     32MW070_1,  PRS2,     2,  8,     17,     17,2,19960327,1301, 22.7498,-158.0008, 4725,      3.9,  23.1415,  34.8444,2,  34.8416,2,    223.2,1,   -999.0,9,  -999.00,9,  -999.00,9,  -999.00,9,      4,-999.000,  -999.0, 23.1407
     32MW070_1,  PRS2,     2,  8,     16,     16,3,19960327,1301, 22.7498,-158.0008, 4725,     24.0,  23.1528,  34.8434,2,-999.0000,5,    223.2,1,   -999.0,9,  -999.00,9,  -999.00,9,  -999.00,9,     24,-999.000,  -999.0, 23.1479
     32MW070_1,  PRS2,     2,  8,     15,     15,2,19960327,1301, 22.7498,-158.0008, 4725,     24.0,  23.1504,  34.8428,2,  34.8413,2,    223.2,1,   -999.0,9,  -999.00,9,  -999.00,9,  -999.00,9,     24,-999.000,  -999.0, 23.1455
     32MW070_1,  PRS2,     2,  8,     14,     14,2,19960327,1301, 22.7498,-158.0008, 4725,     44.9,  23.1459,  34.8421,2,-999.0000,5,    223.1,1,   -999.0,9,  -999.00,9,  -999.00,9,  -999.00,9,     45,-999.000,  -999.0, 23.1367
     32MW070_1,  PRS2,     2,  8,     13,     13,2,19960327,1301, 22.7498,-158.0008, 4725,     44.9,  23.1445,  34.8419,2,  34.8421,2,    223.1,1,   -999.0,9,  -999.00,9,  -999.00,9,  -999.00,9,     45,-999.000,  -999.0, 23.1353
     32MW070_1,  PRS2,     2,  8,     12,     12,3,19960327,1301, 22.7498,-158.0008, 4725,     59.5,  22.8410,  34.9649,2,-999.0000,5,    222.8,1,   -999.0,9,  -999.00,9,  -999.00,9,  -999.00,9,     60,-999.000,  -999.0, 22.8289
     32MW070_1,  PRS2,     2,  8,     11,     11,3,19960327,1301, 22.7498,-158.0008, 4725,     59.6,  22.8777,  34.9527,2,  34.9525,2,    222.8,1,   -999.0,9,  -999.00,9,  -999.00,9,  -999.00,9,     61,-999.000,  -999.0, 22.8655
     32MW070_1,  PRS2,     2,  8,      9,      3,2,19960327,1301, 22.7498,-158.0008, 4725,     75.4,  22.4105,  35.0213,2,  35.0216,2,    221.4,1,   -999.0,9,  -999.00,9,  -999.00,9,  -999.00,9,     76,-999.000,  -999.0, 22.3954
     32MW070_1,  PRS2,     2,  8,     10,     32,2,19960327,1301, 22.7498,-158.0008, 4725,     75.5,  22.4026,  35.0221,2,-999.0000,5,    221.6,1,   -999.0,9,  -999.00,9,  -999.00,9,  -999.00,9,     75,-999.000,  -999.0, 22.3875
     32MW070_1,  PRS2,     2,  8,      7,     28,2,19960327,1301, 22.7498,-158.0008, 4725,     99.0,  21.5482,  35.0981,2,  35.0999,2,    212.5,1,   -999.0,9,  -999.00,9,  -999.00,9,  -999.00,9,     99,-999.000,  -999.0, 21.5289
     32MW070_1,  PRS2,     2,  8,      8,     29,2,19960327,1301, 22.7498,-158.0008, 4725,     99.1,  21.5378,  35.0985,2,-999.0000,5,    213.0,1,   -999.0,9,  -999.00,9,  -999.00,9,  -999.00,9,     99,-999.000,  -999.0, 21.5185
     32MW070_1,  PRS2,     2,  8,      6,      7,2,19960327,1301, 22.7498,-158.0008, 4725,    113.1,  21.0824,  35.1024,2,  35.1033,2,    207.5,1,   -999.0,9,  -999.00,9,  -999.00,9,  -999.00,9,    114,-999.000,  -999.0, 21.0607
     32MW070_1,  PRS2,     2,  8,      5,     38,3,19960327,1301, 22.7498,-158.0008, 4725,    113.4,  21.0840,  35.1019,2,-999.0000,5,    207.1,1,   -999.0,9,  -999.00,9,  -999.00,9,  -999.00,9,    114,-999.000,  -999.0, 21.0622
     32MW070_1,  PRS2,     2,  8,      4,     36,2,19960327,1301, 22.7498,-158.0008, 4725,    150.1,  20.0670,  35.0378,2,-999.0000,5,    192.5,1,   -999.0,9,  -999.00,9,  -999.00,9,  -999.00,9,    151,-999.000,  -999.0, 20.0392
     32MW070_1,  PRS2,     2,  8,      3,     35,2,19960327,1301, 22.7498,-158.0008, 4725,    150.1,  20.0660,  35.0381,2,  35.0388,2,    192.7,1,   -999.0,9,  -999.00,9,  -999.00,9,  -999.00,9,    151,-999.000,  -999.0, 20.0382
     32MW070_1,  PRS2,     2,  8,      2,     34,2,19960327,1301, 22.7498,-158.0008, 4725,    450.0,   7.9589,  34.0744,2,  34.0756,2,    140.0,1,   -999.0,9,  -999.00,9,  -999.00,9,  -999.00,9,    450,-999.000,  -999.0,  7.9134
     32MW070_1,  PRS2,     2,  8,      1,     33,2,19960327,1301, 22.7498,-158.0008, 4725,   1021.9,   4.0912,  34.4876,2,  34.4922,2,     38.1,1,   -999.0,9,  -999.00,9,  -999.00,9,  -999.00,9,   1022,-999.000,  -999.0,  4.0130
     32MW070_1,  PRS2,     2,  9,     23,     30,2,19960327,1601, 22.7578,-158.0030, 4720,      2.0,  23.1214,  34.8546,2,  34.8513,2,    221.3,1,   -999.0,9,  -999.00,9,  -999.00,9,  -999.00,9,      3,-999.000,  -999.0, 23.1210
     32MW070_1,  PRS2,     2,  9,     22,     22,2,19960327,1601, 22.7578,-158.0030, 4720,      4.9,  23.1237,  34.8542,2,  34.8541,2,    221.3,1,   -999.0,9,  -999.00,9,  -999.00,9,  -999.00,9,      5,-999.000,  -999.0, 23.1227
     32MW070_1,  PRS2,     2,  9,     21,     21,2,19960327,1601, 22.7578,-158.0030, 4720,     13.7,  23.1321,  34.8535,2,  34.8516,2,    221.3,1,   -999.0,9,  -999.00,9,  -999.00,9,  -999.00,9,     14,-999.000,  -999.0, 23.1293
     32MW070_1,  PRS2,     2,  9,     20,     20,2,19960327,1601, 22.7578,-158.0030, 4720,     19.1,  23.1341,  34.8531,2,  34.8515,2,    221.2,1,   -999.0,9,  -999.00,9,  -999.00,9,  -999.00,9,     19,-999.000,  -999.0, 23.1302
     32MW070_1,  PRS2,     2,  9,     19,     19,2,19960327,1601, 22.7578,-158.0030, 4720,     24.8,  23.1356,  34.8528,2,  34.8509,2,    221.1,1,   -999.0,9,  -999.00,9,  -999.00,9,  -999.00,9,     25,-999.000,  -999.0, 23.1305
     32MW070_1,  PRS2,     2,  9,     18,     18,2,19960327,1601, 22.7578,-158.0030, 4720,     30.2,  23.1363,  34.8522,2,  34.8522,2,    221.0,1,   -999.0,9,  -999.00,9,  -999.00,9,  -999.00,9,     31,-999.000,  -999.0, 23.1301
     32MW070_1,  PRS2,     2,  9,     17,     17,2,19960327,1601, 22.7578,-158.0030, 4720,     34.3,  23.1375,  34.8520,2,  34.8523,2,    220.8,1,   -999.0,9,  -999.00,9,  -999.00,9,  -999.00,9,     35,-999.000,  -999.0, 23.1305
     32MW070_1,  PRS2,     2,  9,     16,     16,2,19960327,1601, 22.7578,-158.0030, 4720,     39.7,  23.1363,  34.8512,2,  34.8516,2,    220.7,1,   -999.0,9,  -999.00,9,  -999.00,9,  -999.00,9,     39,-999.000,  -999.0, 23.1282
     32MW070_1,  PRS2,     2,  9,     15,     15,2,19960327,1601, 22.7578,-158.0030, 4720,     43.3,  23.1389,  34.8510,2,  34.8500,2,    220.6,1,   -999.0,9,  -999.00,9,  -999.00,9,  -999.00,9,     43,-999.000,  -999.0, 23.1300
     32MW070_1,  PRS2,     2,  9,     14,     14,2,19960327,1601, 22.7578,-158.0030, 4720,     49.6,  23.1379,  34.8515,2,  34.8496,2,    220.6,1,   -999.0,9,  -999.00,9,  -999.00,9,  -999.00,9,     51,-999.000,  -999.0, 23.1277
     32MW070_1,  PRS2,     2,  9,     13,     13,2,19960327,1601, 22.7578,-158.0030, 4720,     55.3,  23.0659,  34.8768,2,  34.8687,2,    220.6,1,   -999.0,9,  -999.00,9,  -999.00,9,  -999.00,9,     55,-999.000,  -999.0, 23.0546
     32MW070_1,  PRS2,     2,  9,     12,     12,2,19960327,1601, 22.7578,-158.0030, 4720,     65.0,  22.5892,  35.0004,2,  34.9880,2,    220.2,1,   -999.0,9,  -999.00,9,  -999.00,9,  -999.00,9,     65,-999.000,  -999.0, 22.5761
     32MW070_1,  PRS2,     2,  9,     11,     11,2,19960327,1601, 22.7578,-158.0030, 4720,     75.5,  22.3325,  35.0701,2,  35.0610,2,    219.8,1,   -999.0,9,  -999.00,9,  -999.00,9,  -999.00,9,     75,-999.000,  -999.0, 22.3174
     32MW070_1,  PRS2,     2,  9,     10,     32,2,19960327,1601, 22.7578,-158.0030, 4720,     84.7,  21.6804,  35.0915,2,  35.0908,2,    212.0,1,   -999.0,9,  -999.00,9,  -999.00,9,  -999.00,9,     85,-999.000,  -999.0, 21.6638
     32MW070_1,  PRS2,     2,  9,      9,      3,2,19960327,1601, 22.7578,-158.0030, 4720,     94.8,  21.3152,  35.1035,2,  35.1040,2,    206.3,1,   -999.0,9,  -999.00,9,  -999.00,9,  -999.00,9,     96,-999.000,  -999.0, 21.2969
     32MW070_1,  PRS2,     2,  9,      8,     29,2,19960327,1601, 22.7578,-158.0030, 4720,    105.3,  20.7710,  35.0796,2,  35.0877,2,    198.0,1,   -999.0,9,  -999.00,9,  -999.00,9,  -999.00,9,    105,-999.000,  -999.0, 20.7510
     32MW070_1,  PRS2,     2,  9,      7,     28,2,19960327,1601, 22.7578,-158.0030, 4720,    114.7,  20.5694,  35.0627,2,  35.0638,2,    194.7,1,   -999.0,9,  -999.00,9,  -999.00,9,  -999.00,9,    116,-999.000,  -999.0, 20.5477
     32MW070_1,  PRS2,     2,  9,      6,      7,2,19960327,1601, 22.7578,-158.0030, 4720,    123.9,  20.2608,  35.0417,2,  35.0503,2,    196.2,1,   -999.0,9,  -999.00,9,  -999.00,9,  -999.00,9,    124,-999.000,  -999.0, 20.2377
     32MW070_1,  PRS2,     2,  9,      5,     38,3,19960327,1601, 22.7578,-158.0030, 4720,    150.9,  19.7171,  35.0428,2,  35.0422,2,    194.4,1,   -999.0,9,  -999.00,9,  -999.00,9,  -999.00,9,    150,-999.000,  -999.0, 19.6895
     32MW070_1,  PRS2,     2,  9,      4,     36,2,19960327,1601, 22.7578,-158.0030, 4720,    174.9,  18.7904,  34.9507,2,  34.9547,2,    189.3,1,   -999.0,9,  -999.00,9,  -999.00,9,  -999.00,9,    175,-999.000,  -999.0, 18.7594
     32MW070_1,  PRS2,     2,  9,      3,     35,2,19960327,1601, 22.7578,-158.0030, 4720,    250.5,  14.0463,  34.3792,2,  34.3836,2,    161.6,1,   -999.0,9,  -999.00,9,  -999.00,9,  -999.00,9,    251,-999.000,  -999.0, 14.0101
     32MW070_1,  PRS2,     2,  9,      2,     34,2,19960327,1601, 22.7578,-158.0030, 4720,    699.7,   5.0801,  34.2802,2,  34.2812,2,     22.9,1,   -999.0,9,  -999.00,9,  -999.00,9,  -999.00,9,    700,-999.000,  -999.0,  5.0232
     32MW070_1,  PRS2,     2,  9,      1,     33,2,19960327,1601, 22.7578,-158.0030, 4720,   1023.5,   4.0557,  34.4925,2,  34.4953,2,     38.3,1,   -999.0,9,  -999.00,9,  -999.00,9,  -999.00,9,   1023,-999.000,  -999.0,  3.9777
     32MW070_1,  PRS2,     2, 10,     15,     15,2,19960327,1859, 22.7502,-157.9955, 4725,      4.3,  23.1807,  34.8520,2,  34.8508,2,    219.7,1,   -999.0,9,  -999.00,9,  -999.00,9,  -999.00,9,      5,-999.000,  -999.0, 23.1799
     32MW070_1,  PRS2,     2, 10,     14,     14,2,19960327,1859, 22.7502,-157.9955, 4725,     24.6,  23.1398,  34.8500,2,  34.8489,2,    219.5,1,   -999.0,9,  -999.00,9,  -999.00,9,  -999.00,9,     24,-999.000,  -999.0, 23.1348
     32MW070_1,  PRS2,     2, 10,     13,     13,2,19960327,1859, 22.7502,-157.9955, 4725,     45.0,  23.1386,  34.8499,2,  34.8488,2,    219.5,1,   -999.0,9,  -999.00,9,  -999.00,9,  -999.00,9,     46,-999.000,  -999.0, 23.1294
     32MW070_1,  PRS2,     2, 10,     12,     12,2,19960327,1859, 22.7502,-157.9955, 4725,     60.1,  23.0130,  34.8923,2,  34.8860,2,    218.4,1,   -999.0,9,  -999.00,9,  -999.00,9,  -999.00,9,     61,-999.000,  -999.0, 23.0007
     32MW070_1,  PRS2,     2, 10,     11,     11,2,19960327,1859, 22.7502,-157.9955, 4725,     74.6,  22.5715,  35.0006,2,  34.9996,2,    219.6,1,   -999.0,9,  -999.00,9,  -999.00,9,  -999.00,9,     75,-999.000,  -999.0, 22.5565
     32MW070_1,  PRS2,     2, 10,     10,     32,2,19960327,1859, 22.7502,-157.9955, 4725,     85.1,  22.2931,  35.0372,2,  35.0362,2,    216.1,1,   -999.0,9,  -999.00,9,  -999.00,9,  -999.00,9,     86,-999.000,  -999.0, 22.2761
     32MW070_1,  PRS2,     2, 10,      9,      3,2,19960327,1859, 22.7502,-157.9955, 4725,    100.1,  21.5015,  35.1004,2,  35.1002,2,    208.5,1,   -999.0,9,  -999.00,9,  -999.00,9,  -999.00,9,    100,-999.000,  -999.0, 21.4820
     32MW070_1,  PRS2,     2, 10,      8,     29,2,19960327,1859, 22.7502,-157.9955, 4725,    114.9,  20.9483,  35.1000,2,  35.1103,2,    202.2,1,   -999.0,9,  -999.00,9,  -999.00,9,  -999.00,9,    115,-999.000,  -999.0, 20.9264
     32MW070_1,  PRS2,     2, 10,      7,     28,2,19960327,1859, 22.7502,-157.9955, 4725,    125.1,  20.4309,  35.0522,2,  35.0534,2,    192.0,1,   -999.0,9,  -999.00,9,  -999.00,9,  -999.00,9,    125,-999.000,  -999.0, 20.4074
     32MW070_1,  PRS2,     2, 10,      6,      7,2,19960327,1859, 22.7502,-157.9955, 4725,    150.7,  19.7041,  35.0435,2,  35.0457,2,    190.6,1,   -999.0,9,  -999.00,9,  -999.00,9,  -999.00,9,    151,-999.000,  -999.0, 19.6765
     32MW070_1,  PRS2,     2, 10,      5,     38,2,19960327,1859, 22.7502,-157.9955, 4725,    175.5,  18.8768,  34.9603,2,  34.9623,2,    188.2,1,   -999.0,9,  -999.00,9,  -999.00,9,  -999.00,9,    175,-999.000,  -999.0, 18.8457
     32MW070_1,  PRS2,     2, 10,      4,     36,2,19960327,1859, 22.7502,-157.9955, 4725,    250.1,  14.1369,  34.3880,2,  34.3909,2,    157.9,1,   -999.0,9,  -999.00,9,  -999.00,9,  -999.00,9,    250,-999.000,  -999.0, 14.1006
     32MW070_1,  PRS2,     2, 10,      3,     35,2,19960327,1859, 22.7502,-157.9955, 4725,    500.4,   7.0801,  34.0687,2,  34.0694,2,    105.2,1,   -999.0,9,  -999.00,9,  -999.00,9,  -999.00,9,    501,-999.000,  -999.0,  7.0326
     32MW070_1,  PRS2,     2, 10,      2,     34,2,19960327,1859, 22.7502,-157.9955, 4725,    750.9,   4.9213,  34.3165,2,  34.3179,2,     23.1,1,   -999.0,9,  -999.00,9,  -999.00,9,  -999.00,9,    751,-999.000,  -999.0,  4.8608
     32MW070_1,  PRS2,     2, 10,      1,     33,2,19960327,1859, 22.7502,-157.9955, 4725,   1020.2,   4.1004,  34.4858,2,  34.4883,2,     36.7,1,   -999.0,9,  -999.00,9,  -999.00,9,  -999.00,9,   1020,-999.000,  -999.0,  4.0223