BOTTLE,20020809WHPSIObren
EXPOCODE,SECT_ID,STNNBR,CASTNO,SAMPNO,BTLNBR,BTLNBR_FLAG_W,DATE,TIME,LATITUDE,LONGITUDE,DEPTH,CTDPRS,CTDTMP,CTDSAL,CTDSAL_FLAG_W,SALNTY,SALNTY_FLAG_W,CTDOXY,CTDOXY_FLAG_W,OXYGEN,OXYGEN_FLAG_W,SILCAT,SILCAT_FLAG_W,NO2+NO3,NO2+NO3_FLAG_W,PHSPHT,PHSPHT_FLAG_W,CTDRAW,REVTMP,REVPRS,THETA
,,,,,,,,,,,,DBAR,ITS-90,PSS-78,,PSS-78,,UMOL/KG,,UMOL/KG,,UMOL/KG,,UMOL/KG,,UMOL/KG,,,DEG C,DBAR,ITS-90
     32MW070_1,  PRS2,     2,  3,     19,     19,2,19960326,2204, 22.7493,-158.0005, 4725,      5.2,  23.2334,  34.8510,2,  34.8506,2,    194.6,1,   -999.0,9,  -999.00,9,  -999.00,9,  -999.00,9,      6,-999.000,  -999.0, 23.2324
     32MW070_1,  PRS2,     2,  3,     18,     18,2,19960326,2204, 22.7493,-158.0005, 4725,     24.7,  23.0984,  34.8480,2,  34.8464,2,    204.7,1,   -999.0,9,  -999.00,9,  -999.00,9,  -999.00,9,     26,-999.000,  -999.0, 23.0934
     32MW070_1,  PRS2,     2,  3,     17,     17,2,19960326,2204, 22.7493,-158.0005, 4725,     44.0,  23.0915,  34.8495,2,  35.0604,4,    207.2,1,   -999.0,9,  -999.00,9,  -999.00,9,  -999.00,9,     46,-999.000,  -999.0, 23.0825
     32MW070_1,  PRS2,     2,  3,     15,     15,2,19960326,2204, 22.7493,-158.0005, 4725,     44.3,  23.0914,  34.8492,2,-999.0000,5,    207.3,1,   -999.0,9,  -999.00,9,  -999.00,9,  -999.00,9,     46,-999.000,  -999.0, 23.0823
     32MW070_1,  PRS2,     2,  3,     16,     16,2,19960326,2204, 22.7493,-158.0005, 4725,     44.4,  23.0915,  34.8493,2,-999.0000,5,    207.2,1,   -999.0,9,  -999.00,9,  -999.00,9,  -999.00,9,     45,-999.000,  -999.0, 23.0824
     32MW070_1,  PRS2,     2,  3,     14,     14,2,19960326,2204, 22.7493,-158.0005, 4725,     74.7,  22.5847,  34.9979,2,  34.9923,2,    210.6,1,   -999.0,9,  -999.00,9,  -999.00,9,  -999.00,9,     74,-999.000,  -999.0, 22.5696
     32MW070_1,  PRS2,     2,  3,     13,     13,2,19960326,2204, 22.7493,-158.0005, 4725,    100.1,  21.9048,  35.0786,2,  35.0777,2,    208.4,1,   -999.0,9,  -999.00,9,  -999.00,9,  -999.00,9,    101,-999.000,  -999.0, 21.8851
     32MW070_1,  PRS2,     2,  3,     11,     11,2,19960326,2204, 22.7493,-158.0005, 4725,    115.2,  21.4657,  35.0942,2,-999.0000,5,    206.7,1,   -999.0,9,  -999.00,9,  -999.00,9,  -999.00,9,    117,-999.000,  -999.0, 21.4433
     32MW070_1,  PRS2,     2,  3,     12,     12,2,19960326,2204, 22.7493,-158.0005, 4725,    115.6,  21.4804,  35.0939,2,  35.0924,2,    207.1,1,   -999.0,9,  -999.00,9,  -999.00,9,  -999.00,9,    114,-999.000,  -999.0, 21.4580
     32MW070_1,  PRS2,     2,  3,     10,     32,2,19960326,2204, 22.7493,-158.0005, 4725,    125.1,  21.1265,  35.0932,2,  35.0929,2,    200.6,1,   -999.0,9,  -999.00,9,  -999.00,9,  -999.00,9,    127,-999.000,  -999.0, 21.1025
     32MW070_1,  PRS2,     2,  3,      9,      3,2,19960326,2204, 22.7493,-158.0005, 4725,    148.6,  19.7118,  35.0233,2,  35.0232,2,    189.6,1,   -999.0,9,  -999.00,9,  -999.00,9,  -999.00,9,    149,-999.000,  -999.0, 19.6846
     32MW070_1,  PRS2,     2,  3,      8,     29,2,19960326,2204, 22.7493,-158.0005, 4725,    174.8,  18.3998,  34.9186,2,  34.9168,2,    189.6,1,   -999.0,9,  -999.00,9,  -999.00,9,  -999.00,9,    176,-999.000,  -999.0, 18.3694
     32MW070_1,  PRS2,     2,  3,      7,     28,2,19960326,2204, 22.7493,-158.0005, 4725,    200.9,  17.1742,  34.7572,2,  34.7576,2,    185.4,1,   -999.0,9,  -999.00,9,  -999.00,9,  -999.00,9,    200,-999.000,  -999.0, 17.1408
     32MW070_1,  PRS2,     2,  3,      6,      7,2,19960326,2204, 22.7493,-158.0005, 4725,    249.7,  14.2477,  34.3977,2,  34.4017,2,    168.7,1,   -999.0,9,  -999.00,9,  -999.00,9,  -999.00,9,    252,-999.000,  -999.0, 14.2113
     32MW070_1,  PRS2,     2,  3,      5,     38,2,19960326,2204, 22.7493,-158.0005, 4725,    299.7,  12.1068,  34.2306,2,  34.2288,2,    175.6,1,   -999.0,9,  -999.00,9,  -999.00,9,  -999.00,9,    302,-999.000,  -999.0, 12.0677
     32MW070_1,  PRS2,     2,  3,      4,     36,2,19960326,2204, 22.7493,-158.0005, 4725,    349.0,  10.3015,  34.1497,2,  34.1468,2,    197.6,1,   -999.0,9,  -999.00,9,  -999.00,9,  -999.00,9,    351,-999.000,  -999.0, 10.2603
     32MW070_1,  PRS2,     2,  3,      3,     35,2,19960326,2204, 22.7493,-158.0005, 4725,    500.0,   7.1324,  34.0667,2,  34.0657,2,    123.6,1,   -999.0,9,  -999.00,9,  -999.00,9,  -999.00,9,    499,-999.000,  -999.0,  7.0848
     32MW070_1,  PRS2,     2,  3,      2,     34,2,19960326,2204, 22.7493,-158.0005, 4725,    750.2,   4.9121,  34.3177,2,  34.3164,2,     24.8,1,   -999.0,9,  -999.00,9,  -999.00,9,  -999.00,9,    750,-999.000,  -999.0,  4.8517
     32MW070_1,  PRS2,     2,  3,      1,     33,2,19960326,2204, 22.7493,-158.0005, 4725,   1021.0,   4.1207,  34.4855,2,  34.4894,2,     37.4,1,   -999.0,9,  -999.00,9,  -999.00,9,  -999.00,9,   1021,-999.000,  -999.0,  4.0424
     32MW070_1,  PRS2,     2,  4,     12,     12,2,19960327,0059, 22.7495,-157.9992, 4725,      5.2,  23.2620,  34.8495,2,  34.8484,2,    206.6,1,   -999.0,9,  -999.00,9,  -999.00,9,  -999.00,9,      6,-999.000,  -999.0, 23.2610
     32MW070_1,  PRS2,     2,  4,     11,     11,2,19960327,0059, 22.7495,-157.9992, 4725,     24.7,  23.1339,  34.8439,2,  34.8439,2,    208.3,1,   -999.0,9,  -999.00,9,  -999.00,9,  -999.00,9,     25,-999.000,  -999.0, 23.1289
     32MW070_1,  PRS2,     2,  4,     10,     32,2,19960327,0059, 22.7495,-157.9992, 4725,     44.5,  23.1142,  34.8434,2,  34.8521,2,    210.3,1,   -999.0,9,  -999.00,9,  -999.00,9,  -999.00,9,     45,-999.000,  -999.0, 23.1051
     32MW070_1,  PRS2,     2,  4,      9,      3,2,19960327,0059, 22.7495,-157.9992, 4725,     75.0,  22.6657,  34.9807,2,  34.9568,3,    213.0,1,   -999.0,9,  -999.00,9,  -999.00,9,  -999.00,9,     74,-999.000,  -999.0, 22.6506
     32MW070_1,  PRS2,     2,  4,      8,     29,2,19960327,0059, 22.7495,-157.9992, 4725,     99.0,  21.7735,  35.0856,2,  35.0870,2,    209.0,1,   -999.0,9,  -999.00,9,  -999.00,9,  -999.00,9,    100,-999.000,  -999.0, 21.7541
     32MW070_1,  PRS2,     2,  4,      7,     28,2,19960327,0059, 22.7495,-157.9992, 4725,    124.1,  20.7205,  35.0615,2,  35.0686,2,    198.5,1,   -999.0,9,  -999.00,9,  -999.00,9,  -999.00,9,    124,-999.000,  -999.0, 20.6970
     32MW070_1,  PRS2,     2,  4,      6,      7,2,19960327,0059, 22.7495,-157.9992, 4725,    149.7,  19.8298,  35.0274,2,  35.0275,2,    190.1,1,   -999.0,9,  -999.00,9,  -999.00,9,  -999.00,9,    149,-999.000,  -999.0, 19.8023
     32MW070_1,  PRS2,     2,  4,      5,     38,2,19960327,0059, 22.7495,-157.9992, 4725,    174.6,  19.1092,  34.9845,2,  34.9846,2,    191.3,1,   -999.0,9,  -999.00,9,  -999.00,9,  -999.00,9,    176,-999.000,  -999.0, 19.0780
     32MW070_1,  PRS2,     2,  4,      4,     36,2,19960327,0059, 22.7495,-157.9992, 4725,    250.9,  14.5577,  34.4338,2,  34.4357,2,    168.4,1,   -999.0,9,  -999.00,9,  -999.00,9,  -999.00,9,    251,-999.000,  -999.0, 14.5206
     32MW070_1,  PRS2,     2,  4,      3,     35,2,19960327,0059, 22.7495,-157.9992, 4725,    498.2,   6.9578,  34.0707,2,  34.0672,2,    107.5,1,   -999.0,9,  -999.00,9,  -999.00,9,  -999.00,9,    499,-999.000,  -999.0,  6.9110
     32MW070_1,  PRS2,     2,  4,      2,     34,2,19960327,0059, 22.7495,-157.9992, 4725,    750.7,   4.9484,  34.3373,2,  34.3326,2,     25.8,1,   -999.0,9,  -999.00,9,  -999.00,9,  -999.00,9,    749,-999.000,  -999.0,  4.8877
     32MW070_1,  PRS2,     2,  4,      1,     33,2,19960327,0059, 22.7495,-157.9992, 4725,   1020.9,   4.0930,  34.4884,2,  34.4892,2,     38.1,1,   -999.0,9,  -999.00,9,  -999.00,9,  -999.00,9,   1020,-999.000,  -999.0,  4.0149
     32MW070_1,  PRS2,     2,  5,     23,     30,2,19960327,0357, 22.7610,-157.9980, 4725,      4.4,  23.2032,  34.8522,2,  34.8519,2,    213.7,2,   -999.0,5,  -999.00,5,  -999.00,5,  -999.00,5,      5,-999.000,  -999.0, 23.2023
     32MW070_1,  PRS2,     2,  5,     22,     22,2,19960327,0357, 22.7610,-157.9980, 4725,     24.9,  23.1860,  34.8499,2,  34.8520,2,    213.5,2,   -999.0,5,  -999.00,5,  -999.00,5,  -999.00,5,     26,-999.000,  -999.0, 23.1809
     32MW070_1,  PRS2,     2,  5,     21,     21,2,19960327,0357, 22.7610,-157.9980, 4725,     44.7,  23.1094,  34.8445,2,  34.8444,2,    213.7,2,   -999.0,5,  -999.00,5,  -999.00,5,  -999.00,5,     44,-999.000,  -999.0, 23.1002
     32MW070_1,  PRS2,     2,  5,     20,     20,2,19960327,0357, 22.7610,-157.9980, 4725,     58.7,  23.0948,  34.8483,2,  34.8490,2,    214.5,2,   -999.0,5,  -999.00,5,  -999.00,5,  -999.00,5,     59,-999.000,  -999.0, 23.0828
     32MW070_1,  PRS2,     2,  5,     19,     19,2,19960327,0357, 22.7610,-157.9980, 4725,     74.2,  22.5937,  34.9954,2,  34.9966,2,    213.9,2,   -999.0,5,  -999.00,5,  -999.00,5,  -999.00,5,     74,-999.000,  -999.0, 22.5787
     32MW070_1,  PRS2,     2,  5,     18,     18,2,19960327,0357, 22.7610,-157.9980, 4725,     98.9,  21.7319,  35.0886,2,  35.0870,2,    210.4,2,   -999.0,5,  -999.00,5,  -999.00,5,  -999.00,5,     99,-999.000,  -999.0, 21.7125
     32MW070_1,  PRS2,     2,  5,     17,     17,2,19960327,0357, 22.7610,-157.9980, 4725,    113.4,  21.0100,  35.0882,2,  35.0880,2,    201.8,2,   -999.0,5,  -999.00,5,  -999.00,5,  -999.00,5,    114,-999.000,  -999.0, 20.9883
     32MW070_1,  PRS2,     2,  5,     16,     16,2,19960327,0357, 22.7610,-157.9980, 4725,    148.9,  20.0609,  35.0539,2,  35.0505,2,    192.4,2,   -999.0,5,  -999.00,5,  -999.00,5,  -999.00,5,    150,-999.000,  -999.0, 20.0333
     32MW070_1,  PRS2,     2,  5,     15,     15,2,19960327,0357, 22.7610,-157.9980, 4725,    208.1,  16.5682,  34.6817,2,  34.6843,2,    180.6,2,    183.4,2,     4.69,2,     5.86,2,     0.49,2,    208,-999.000,  -999.0, 16.5345
     32MW070_1,  PRS2,     2,  5,     14,     14,2,19960327,0357, 22.7610,-157.9980, 4725,    225.0,  15.8445,  34.5865,2,  34.5847,2,    176.9,2,    178.8,2,     5.69,2,     7.20,2,     0.59,2,    225,-999.000,  -999.0, 15.8092
     32MW070_1,  PRS2,     2,  5,     13,     13,2,19960327,0357, 22.7610,-157.9980, 4725,    234.3,  15.5810,  34.5530,2,  34.5509,2,    176.5,2,    177.5,2,     6.03,2,     7.63,2,     0.63,2,    234,-999.000,  -999.0, 15.5447
     32MW070_1,  PRS2,     2,  5,     12,     12,2,19960327,0357, 22.7610,-157.9980, 4725,    249.3,  14.9948,  34.4856,2,  34.4634,3,    174.1,3,    173.0,2,     7.17,2,     9.07,2,     0.73,2,    248,-999.000,  -999.0, 14.9571
     32MW070_1,  PRS2,     2,  5,     11,     11,2,19960327,0357, 22.7610,-157.9980, 4725,    273.6,  12.8639,  34.2765,2,  34.2765,2,    155.6,2,    163.1,2,    11.19,2,    13.18,3,     1.02,3,    274,-999.000,  -999.0, 12.8267
     32MW070_1,  PRS2,     2,  5,     10,     32,2,19960327,0357, 22.7610,-157.9980, 4725,    299.2,  11.6506,  34.2078,2,  34.2062,2,    187.9,2,    191.0,2,    12.13,2,    13.01,2,     0.95,2,    300,-999.000,  -999.0, 11.6125
     32MW070_1,  PRS2,     2,  5,      9,      3,2,19960327,0357, 22.7610,-157.9980, 4725,    323.1,  10.6757,  34.1529,2,  34.1528,2,    190.6,2,    193.5,2,    14.99,2,    14.82,2,     1.07,2,    323,-999.000,  -999.0, 10.6368
     32MW070_1,  PRS2,     2,  5,      8,     29,2,19960327,0357, 22.7610,-157.9980, 4725,    349.8,  10.2420,  34.1550,2,  34.1565,2,    189.4,2,    188.9,2,    18.19,2,    16.55,2,     1.17,2,    349,-999.000,  -999.0, 10.2009
     32MW070_1,  PRS2,     2,  5,      7,     28,2,19960327,0357, 22.7610,-157.9980, 4725,    399.8,   9.0425,  34.1001,2,  34.0983,2,    168.8,2,    167.0,2,    25.71,2,    20.93,2,     1.49,2,    401,-999.000,  -999.0,  8.9989
     32MW070_1,  PRS2,     2,  5,      6,      7,2,19960327,0357, 22.7610,-157.9980, 4725,    499.5,   6.8680,  34.0761,2,  34.0750,2,    102.2,2,     99.6,2,    50.57,2,    31.32,2,     2.25,2,    501,-999.000,  -999.0,  6.8214
     32MW070_1,  PRS2,     2,  5,      5,     38,2,19960327,0357, 22.7610,-157.9980, 4725,    599.5,   5.5736,  34.1459,2,  34.1463,2,     46.2,2,     45.0,2,    74.22,2,    38.30,2,     2.77,2,    599,-999.000,  -999.0,  5.5231
     32MW070_1,  PRS2,     2,  5,      4,     36,2,19960327,0357, 22.7610,-157.9980, 4725,    700.0,   5.0061,  34.2648,2,  34.2657,2,     25.9,2,     25.3,2,    88.19,2,    40.97,2,     2.98,2,    700,-999.000,  -999.0,  4.9495
     32MW070_1,  PRS2,     2,  5,      3,     35,2,19960327,0357, 22.7610,-157.9980, 4725,    797.5,   4.7858,  34.3996,2,  34.3974,2,     27.9,2,     28.3,2,    93.73,2,    41.66,2,     3.02,2,    797,-999.000,  -999.0,  4.7219
     32MW070_1,  PRS2,     2,  5,      2,     34,2,19960327,0357, 22.7610,-157.9980, 4725,    899.7,   4.5186,  34.4500,2,  34.4493,2,     32.5,2,     33.2,2,    98.81,2,    42.05,2,     3.05,2,    900,-999.000,  -999.0,  4.4477
     32MW070_1,  PRS2,     2,  5,      1,     33,2,19960327,0357, 22.7610,-157.9980, 4725,   1019.6,   4.1308,  34.4827,2,  34.4828,2,     37.1,2,     37.8,2,   106.75,2,    42.20,2,     3.02,2,   1021,-999.000,  -999.0,  4.0525
     32MW070_1,  PRS2,     2,  6,     22,     22,2,19960327,0659, 22.7533,-157.9980, 4725,      4.8,  23.1737,  34.8538,2,  34.8531,2,    212.7,2,    213.7,2,     1.12,2,     0.00,2,     0.08,2,      5,-999.000,  -999.0, 23.1728
     32MW070_1,  PRS2,     2,  6,     21,     21,2,19960327,0659, 22.7533,-157.9980, 4725,      4.8,  23.1726,  34.8537,2,  34.8519,2,    212.7,2,   -999.0,5,  -999.00,5,  -999.00,5,  -999.00,5,      5,-999.000,  -999.0, 23.1716
     32MW070_1,  PRS2,     2,  6,     20,     20,2,19960327,0659, 22.7533,-157.9980, 4725,     13.1,  23.1720,  34.8538,2,  34.8529,2,    212.7,2,    213.9,2,     1.10,2,     0.02,2,     0.08,2,     13,-999.000,  -999.0, 23.1693
     32MW070_1,  PRS2,     2,  6,     19,     19,2,19960327,0659, 22.7533,-157.9980, 4725,     24.4,  23.1695,  34.8518,2,  34.8522,2,    212.7,2,   -999.0,5,  -999.00,5,  -999.00,5,  -999.00,5,     25,-999.000,  -999.0, 23.1645
     32MW070_1,  PRS2,     2,  6,     18,     18,2,19960327,0659, 22.7533,-157.9980, 4725,     24.4,  23.1702,  34.8527,2,  34.8538,2,    212.7,2,    214.4,2,     1.10,2,     0.03,2,     0.09,2,     24,-999.000,  -999.0, 23.1652
     32MW070_1,  PRS2,     2,  6,     17,     17,2,19960327,0659, 22.7533,-157.9980, 4725,     34.0,  23.1715,  34.8521,2,  34.8514,2,    212.7,2,    214.2,2,     1.11,2,     0.01,2,     0.09,2,     35,-999.000,  -999.0, 23.1646
     32MW070_1,  PRS2,     2,  6,     16,     16,2,19960327,0659, 22.7533,-157.9980, 4725,     44.3,  23.1387,  34.8461,2,  34.8458,2,    213.7,2,    214.8,2,     1.08,2,     0.00,2,     0.08,2,     45,-999.000,  -999.0, 23.1296
     32MW070_1,  PRS2,     2,  6,     15,     15,2,19960327,0659, 22.7533,-157.9980, 4725,     58.8,  23.1219,  34.8473,2,  34.8468,2,    215.1,2,    214.6,2,     1.05,2,     0.00,2,     0.08,2,     60,-999.000,  -999.0, 23.1099
     32MW070_1,  PRS2,     2,  6,     14,     14,2,19960327,0659, 22.7533,-157.9980, 4725,     72.8,  22.6484,  34.9893,2,  34.9820,2,    215.3,2,    216.8,2,     1.06,2,     0.01,2,     0.06,2,     73,-999.000,  -999.0, 22.6337
     32MW070_1,  PRS2,     2,  6,     13,     13,2,19960327,0659, 22.7533,-157.9980, 4725,     84.4,  22.5034,  35.0102,2,  35.0115,2,    216.2,2,    215.6,2,     1.05,2,     0.01,2,     0.06,2,     87,-999.000,  -999.0, 22.4864
     32MW070_1,  PRS2,     2,  6,     12,     12,2,19960327,0659, 22.7533,-157.9980, 4725,     95.2,  22.2022,  35.0488,2,  35.0486,2,    215.4,2,    214.0,2,     1.11,2,     0.01,2,     0.07,2,     95,-999.000,  -999.0, 22.1833
     32MW070_1,  PRS2,     2,  6,     11,     11,2,19960327,0659, 22.7533,-157.9980, 4725,    104.6,  21.9168,  35.0794,2,  35.0797,2,    215.4,2,    212.7,2,     1.12,2,     0.01,2,     0.07,2,    105,-999.000,  -999.0, 21.8962
     32MW070_1,  PRS2,     2,  6,     10,     32,2,19960327,0659, 22.7533,-157.9980, 4725,    114.7,  21.4285,  35.0994,2,  35.0993,2,    209.2,2,    207.9,2,     1.28,2,     0.18,2,     0.10,2,    117,-999.000,  -999.0, 21.4062
     32MW070_1,  PRS2,     2,  6,      9,      3,2,19960327,0659, 22.7533,-157.9980, 4725,    123.7,  21.1433,  35.0962,2,  35.1002,2,    205.4,2,    204.9,2,     1.56,2,     0.41,2,     0.12,2,    124,-999.000,  -999.0, 21.1196
     32MW070_1,  PRS2,     2,  6,      8,     29,2,19960327,0659, 22.7533,-157.9980, 4725,    134.0,  20.8660,  35.0792,2,  35.0814,2,    200.0,2,    200.6,2,     1.65,2,     0.82,2,     0.16,2,    134,-999.000,  -999.0, 20.8405
     32MW070_1,  PRS2,     2,  6,      7,     28,2,19960327,0659, 22.7533,-157.9980, 4725,    148.7,  20.1107,  35.0378,2,  35.0425,2,    191.0,2,    193.3,2,     1.94,2,     1.68,2,     0.22,2,    148,-999.000,  -999.0, 20.0831
     32MW070_1,  PRS2,     2,  6,      6,      7,2,19960327,0659, 22.7533,-157.9980, 4725,    159.1,  20.0828,  35.0438,2,  35.0430,2,    192.1,2,    192.9,2,  -999.00,5,  -999.00,5,  -999.00,5,    160,-999.000,  -999.0, 20.0533
     32MW070_1,  PRS2,     2,  6,      5,     38,2,19960327,0659, 22.7533,-157.9980, 4725,    173.0,  19.4527,  35.0163,2,  35.0248,2,    192.3,2,    190.7,2,     2.31,2,     2.47,2,     0.26,2,    173,-999.000,  -999.0, 19.4214
     32MW070_1,  PRS2,     2,  6,      4,     36,2,19960327,0659, 22.7533,-157.9980, 4725,    184.3,  19.0845,  34.9833,2,  34.9846,2,    190.1,2,    189.8,2,  -999.00,5,  -999.00,5,  -999.00,5,    185,-999.000,  -999.0, 19.0515
     32MW070_1,  PRS2,     2,  6,      3,     35,2,19960327,0659, 22.7533,-157.9980, 4725,    199.6,  18.2677,  34.9034,2,  34.9015,2,    188.3,2,    190.0,2,     3.10,2,     3.70,2,     0.34,2,    200,-999.000,  -999.0, 18.2331
     32MW070_1,  PRS2,     2,  6,      2,     34,2,19960327,0659, 22.7533,-157.9980, 4725,    750.5,   4.7786,  34.3448,2,  34.3449,2,     24.1,2,   -999.0,5,  -999.00,5,  -999.00,5,  -999.00,5,    752,-999.000,  -999.0,  4.7189
     32MW070_1,  PRS2,     2,  6,      1,     33,2,19960327,0659, 22.7533,-157.9980, 4725,   1018.9,   4.1219,  34.4835,2,  34.4856,2,     37.0,2,   -999.0,5,  -999.00,5,  -999.00,5,  -999.00,5,   1019,-999.000,  -999.0,  4.0437