BOTTLE,20010418WHPSIOKJU
#code : jjward hyd_to_exchange.pl 
#original files copied from HTML directory: 200101418
#original HYD file: pr16_mhy.txt   Fri Dec 10 13:02:23 1999
#original SUM file: pr16_msu.txt.tmp   Wed Apr 18 16:09:05 2001
EXPOCODE,SECT_ID,STNNBR,CASTNO,SAMPNO,BTLNBR,BTLNBR_FLAG_W,DATE,TIME,LATITUDE,LONGITUDE,DEPTH,CTDPRS,CTDTMP,CTDSAL,CTDSAL_FLAG_W,SALNTY,SALNTY_FLAG_W,CTDOXY,CTDOXY_FLAG_W,OXYGEN,OXYGEN_FLAG_W
,,,,,,,,,,,,DBAR,ITS-90,PSS-78,,PSS-78,,UMOL/KG,,UMOL/KG,
   3175EP394_1,  PR16,    20,  1,      9,      9,2,19940817,0607, -1.9867,-110.0100, -999,      4.2,  22.1092,  34.7347,2,  34.7460,2,   -999.0,9,   -999.0,9
   3175EP394_1,  PR16,    20,  1,      8,      8,2,19940817,0607, -1.9867,-110.0100, -999,      4.2,  22.1092,  34.7347,2,  34.7460,2,   -999.0,9,   -999.0,9
   3175EP394_1,  PR16,    20,  1,      7,      7,2,19940817,0607, -1.9867,-110.0100, -999,      9.2,  22.1062,  34.7354,2,  34.7460,2,   -999.0,9,   -999.0,9
   3175EP394_1,  PR16,    20,  1,      6,      6,2,19940817,0607, -1.9867,-110.0100, -999,    149.5,  13.1084,  34.9058,2,  34.9180,2,   -999.0,9,   -999.0,9
   3175EP394_1,  PR16,    20,  1,      5,      5,2,19940817,0607, -1.9867,-110.0100, -999,    498.5,   8.7749,  34.6583,2,  34.6680,2,   -999.0,9,   -999.0,9
   3175EP394_1,  PR16,    20,  1,      4,      4,2,19940817,0607, -1.9867,-110.0100, -999,    598.1,   7.2921,  34.5833,2,  34.5940,2,   -999.0,9,   -999.0,9
   3175EP394_1,  PR16,    20,  1,      3,      3,2,19940817,0607, -1.9867,-110.0100, -999,    798.4,   5.7033,  34.5397,2,  34.5570,2,   -999.0,9,   -999.0,9
   3175EP394_1,  PR16,    20,  1,      1,      1,2,19940817,0607, -1.9867,-110.0100, -999,   1002.7,   4.5874,  34.5409,2,  34.5600,2,   -999.0,9,   -999.0,9
   3175EP394_1,  PR16,    21,  1,      9,      9,2,19940817,1153, -0.9983,-110.0233, -999,      4.9,  21.9773,  34.7189,2,  34.7260,2,   -999.0,9,   -999.0,9
   3175EP394_1,  PR16,    21,  1,      8,      8,2,19940817,1153, -0.9983,-110.0233, -999,      5.0,  21.9773,  34.7196,2,  34.7260,2,   -999.0,9,   -999.0,9
   3175EP394_1,  PR16,    21,  1,      7,      7,2,19940817,1153, -0.9983,-110.0233, -999,      9.2,  21.9803,  34.7197,2,  34.7260,2,   -999.0,9,   -999.0,9
   3175EP394_1,  PR16,    21,  1,      6,      6,2,19940817,1153, -0.9983,-110.0233, -999,    148.4,  13.1664,  34.9154,2,  34.9270,2,   -999.0,9,   -999.0,9
   3175EP394_1,  PR16,    21,  1,      5,      5,2,19940817,1153, -0.9983,-110.0233, -999,    498.4,   8.7819,  34.6599,2,  34.6620,2,   -999.0,9,   -999.0,9
   3175EP394_1,  PR16,    21,  1,      4,      4,2,19940817,1153, -0.9983,-110.0233, -999,    598.0,   7.5890,  34.5976,2,  34.6010,2,   -999.0,9,   -999.0,9
   3175EP394_1,  PR16,    21,  1,      3,      3,2,19940817,1153, -0.9983,-110.0233, -999,    797.9,   5.7813,  34.5451,2,  34.5500,2,   -999.0,9,   -999.0,9
   3175EP394_1,  PR16,    21,  1,      2,      2,2,19940817,1153, -0.9983,-110.0233, -999,    996.3,   4.5424,  34.5512,2,  34.5530,2,   -999.0,9,   -999.0,9
   3175EP394_1,  PR16,    21,  1,      1,      1,2,19940817,1153, -0.9983,-110.0233, -999,    997.5,   4.5344,  34.5484,2,  34.5530,2,   -999.0,9,   -999.0,9
   3175EP394_1,  PR16,    22,  1,     12,     12,2,19940817,1946, -0.0017,-110.0300, -999,      7.2,  22.0543,  34.7402,2,  34.7460,2,   -999.0,9,   -999.0,9
   3175EP394_1,  PR16,    22,  1,     11,     11,2,19940817,1946, -0.0017,-110.0300, -999,      9.9,  22.0103,  34.7409,2,  34.7460,2,   -999.0,9,   -999.0,9
   3175EP394_1,  PR16,    22,  1,     10,     10,2,19940817,1946, -0.0017,-110.0300, -999,     90.5,  15.9740,  34.9629,2,  34.9820,2,   -999.0,9,   -999.0,9
   3175EP394_1,  PR16,    22,  1,      9,      9,2,19940817,1946, -0.0017,-110.0300, -999,    148.3,  14.3742,  34.9840,2,  34.9870,2,   -999.0,9,   -999.0,9
   3175EP394_1,  PR16,    22,  1,      8,      8,2,19940817,1946, -0.0017,-110.0300, -999,    498.7,   8.6119,  34.6515,2,  34.6540,2,   -999.0,9,   -999.0,9
   3175EP394_1,  PR16,    22,  1,      7,      7,2,19940817,1946, -0.0017,-110.0300, -999,    996.5,   4.7024,  34.5500,2,  34.5540,2,   -999.0,9,   -999.0,9
   3175EP394_1,  PR16,    22,  1,      6,      6,2,19940817,1946, -0.0017,-110.0300, -999,   1496.0,   3.2106,  34.5947,2,  34.6040,2,   -999.0,9,   -999.0,9
   3175EP394_1,  PR16,    22,  1,      5,      5,2,19940817,1946, -0.0017,-110.0300, -999,   1996.5,   2.3287,  34.6344,2,  34.6330,2,   -999.0,9,   -999.0,9
   3175EP394_1,  PR16,    22,  1,      3,      3,2,19940817,1946, -0.0017,-110.0300, -999,   2748.6,   1.7778,  34.6652,2,  34.6680,2,   -999.0,9,   -999.0,9
   3175EP394_1,  PR16,    22,  1,      2,      2,2,19940817,1946, -0.0017,-110.0300, -999,   2999.0,   1.6918,  34.6704,2,  34.6730,2,   -999.0,9,   -999.0,9
   3175EP394_1,  PR16,    23,  1,      8,      8,2,19940817,2333,  0.4983,-110.0567, -999,      4.2,  22.7322,  34.6024,2,  34.6060,2,   -999.0,9,   -999.0,9
   3175EP394_1,  PR16,    23,  1,      9,      9,2,19940817,2333,  0.4983,-110.0567, -999,      4.5,  22.7322,  34.6023,2,  34.6060,2,   -999.0,9,   -999.0,9
   3175EP394_1,  PR16,    23,  1,      7,      7,2,19940817,2333,  0.4983,-110.0567, -999,      9.3,  22.7032,  34.6036,2,  34.6060,2,   -999.0,9,   -999.0,9
   3175EP394_1,  PR16,    23,  1,      6,      6,2,19940817,2333,  0.4983,-110.0567, -999,    147.4,  13.7133,  34.8859,2,  34.8920,2,   -999.0,9,   -999.0,9
   3175EP394_1,  PR16,    23,  1,      5,      5,2,19940817,2333,  0.4983,-110.0567, -999,    498.4,   8.5029,  34.6456,2,  34.6510,2,   -999.0,9,   -999.0,9
   3175EP394_1,  PR16,    23,  1,      3,      3,2,19940817,2333,  0.4983,-110.0567, -999,    797.3,   5.7153,  34.5505,2,  34.5560,2,   -999.0,9,   -999.0,9
   3175EP394_1,  PR16,    23,  1,      2,      2,2,19940817,2333,  0.4983,-110.0567, -999,   1003.5,   4.8024,  34.5494,2,  34.5560,2,   -999.0,9,   -999.0,9
   3175EP394_1,  PR16,    24,  1,      8,      8,2,19940818,0245,  0.9983,-110.0783, -999,      3.9,  24.4440,  34.4599,2,  34.4510,2,   -999.0,9,   -999.0,9
   3175EP394_1,  PR16,    24,  1,      7,      7,2,19940818,0245,  0.9983,-110.0783, -999,      9.0,  24.4480,  34.4597,2,  34.4520,2,   -999.0,9,   -999.0,9
   3175EP394_1,  PR16,    24,  1,      6,      6,2,19940818,0245,  0.9983,-110.0783, -999,    150.3,  13.2523,  34.8971,2,  34.8890,2,   -999.0,9,   -999.0,9
   3175EP394_1,  PR16,    24,  1,      5,      5,2,19940818,0245,  0.9983,-110.0783, -999,    498.1,   8.7839,  34.6780,2,  34.6640,2,   -999.0,9,   -999.0,9
   3175EP394_1,  PR16,    24,  1,      4,      4,2,19940818,0245,  0.9983,-110.0783, -999,    598.9,   7.3981,  34.6161,2,  34.6010,2,   -999.0,9,   -999.0,9
   3175EP394_1,  PR16,    24,  1,      3,      3,2,19940818,0245,  0.9983,-110.0783, -999,    798.1,   5.6193,  34.5712,2,  34.5530,2,   -999.0,9,   -999.0,9
   3175EP394_1,  PR16,    24,  1,      2,      2,2,19940818,0245,  0.9983,-110.0783, -999,   1003.1,   4.5664,  34.5751,2,  34.5570,2,   -999.0,9,   -999.0,9
   3175EP394_1,  PR16,    24,  1,      1,      1,2,19940818,0245,  0.9983,-110.0783, -999,   1004.1,   4.5644,  34.5767,2,  34.5560,2,   -999.0,9,   -999.0,9
   3175EP394_1,  PR16,    25,  1,      9,      9,2,19940818,0600,  1.4933,-110.1050, -999,      4.0,  25.3808,  34.2470,2,  34.2480,2,   -999.0,9,   -999.0,9
   3175EP394_1,  PR16,    25,  1,      8,      8,2,19940818,0600,  1.4933,-110.1050, -999,      4.0,  25.3808,  34.2470,2,  34.2480,2,   -999.0,9,   -999.0,9
   3175EP394_1,  PR16,    25,  1,      5,      5,2,19940818,0600,  1.4933,-110.1050, -999,    498.2,   8.4519,  34.6482,2,  34.6380,2,   -999.0,9,   -999.0,9
   3175EP394_1,  PR16,    25,  1,      4,      4,2,19940818,0600,  1.4933,-110.1050, -999,    599.4,   7.0131,  34.5865,2,  34.5860,2,   -999.0,9,   -999.0,9
   3175EP394_1,  PR16,    25,  1,      3,      3,2,19940818,0600,  1.4933,-110.1050, -999,    797.2,   5.8013,  34.5588,2,  34.5560,2,   -999.0,9,   -999.0,9
   3175EP394_1,  PR16,    25,  1,      2,      2,2,19940818,0600,  1.4933,-110.1050, -999,   1001.0,   4.4354,  34.5622,2,  34.5560,2,   -999.0,9,   -999.0,9
   3175EP394_1,  PR16,    25,  1,      1,      1,2,19940818,0600,  1.4933,-110.1050, -999,   1001.5,   4.4334,  34.5629,2,  34.5560,2,   -999.0,9,   -999.0,9
   3175EP394_1,  PR16,    26,  1,     11,     11,2,19940818,0958,  2.0200,-110.1400, -999,      6.2,  25.7148,  34.2520,2,  34.2390,2,   -999.0,9,   -999.0,9
   3175EP394_1,  PR16,    26,  1,     10,     10,2,19940818,0958,  2.0200,-110.1400, -999,      9.0,  25.7358,  34.2318,2,  34.2370,2,   -999.0,9,   -999.0,9
   3175EP394_1,  PR16,    26,  1,      9,      9,2,19940818,0958,  2.0200,-110.1400, -999,    148.7,  13.6273,  34.9067,2,  34.9140,2,   -999.0,9,   -999.0,9
   3175EP394_1,  PR16,    26,  1,      8,      8,2,19940818,0958,  2.0200,-110.1400, -999,    501.4,   8.2500,  34.6205,2,  34.6260,2,   -999.0,9,   -999.0,9
   3175EP394_1,  PR16,    26,  1,      7,      7,2,19940818,0958,  2.0200,-110.1400, -999,    997.4,   4.4424,  34.5567,2,  34.5660,2,   -999.0,9,   -999.0,9
   3175EP394_1,  PR16,    26,  1,      6,      6,2,19940818,0958,  2.0200,-110.1400, -999,   1496.8,   3.1956,  34.5946,2,  34.6000,2,   -999.0,9,   -999.0,9
   3175EP394_1,  PR16,    26,  1,      5,      5,2,19940818,0958,  2.0200,-110.1400, -999,   1996.4,   2.3287,  34.6332,2,  34.6600,2,   -999.0,9,   -999.0,9
   3175EP394_1,  PR16,    26,  1,      4,      4,2,19940818,0958,  2.0200,-110.1400, -999,   2497.1,   1.8218,  34.6608,2,  34.6600,2,   -999.0,9,   -999.0,9
   3175EP394_1,  PR16,    26,  1,      3,      3,2,19940818,0958,  2.0200,-110.1400, -999,   2746.5,   1.7528,  34.6646,2,  34.6740,2,   -999.0,9,   -999.0,9
   3175EP394_1,  PR16,    26,  1,      1,      1,2,19940818,0958,  2.0200,-110.1400, -999,   2996.9,   1.6838,  34.6688,2,  34.6800,2,   -999.0,9,   -999.0,9
   3175EP394_1,  PR16,    26,  1,      2,      2,2,19940818,0958,  2.0200,-110.1400, -999,   2999.5,   1.6848,  34.6678,2,  34.6730,2,   -999.0,9,   -999.0,9