BOTTLE,20090923WHPSIOMYS
EXPOCODE,SECT_ID,STNNBR,CASTNO,SAMPNO,BTLNBR,BTLNBR_FLAG_W,DATE,TIME,LATITUDE,LONGITUDE,DEPTH,CTDRAW,CTDPRS,CTDTMP,CTDSAL,CTDSAL_FLAG_W,SALNTY,SALNTY_FLAG_W,CTDOXY,CTDOXY_FLAG_W,THETA,OXYGEN,OXYGEN_FLAG_W,SILCAT,SILCAT_FLAG_W,NO2+NO3,NO2+NO3_FLAG_W,PHSPHT,PHSPHT_FLAG_W,REVPRS,REVTMP
,,,,,,,,,,,,,DBAR,ITS-90,PSS-78,,PSS-78,,UMOL/KG,,ITS-90,UMOL/KG,,UMOL/KG,,UMOL/KG,,UMOL/KG,,DBAR,DEG C
     33KI161_1,  PRS2,     2,  3,     23,     30,2,20040713,2356, 22.7492,-158.0003, 4722,      5,      4.8,  26.5204,  34.6095,2,  34.6136,2,    204.5,2, 26.5193,   -999.0,5,  -999.00,5,  -999.00,5,  -999.00,5,  -999.0,-999.000
     33KI161_1,  PRS2,     2,  3,     24,     31,2,20040713,2356, 22.7492,-158.0003, 4722,      5,      4.9,  26.5189,  34.6093,2,-999.0000,5,    204.5,2, 26.5178,   -999.0,5,  -999.00,5,  -999.00,5,  -999.00,5,  -999.0,-999.000
     33KI161_1,  PRS2,     2,  3,     22,     22,3,20040713,2356, 22.7492,-158.0003, 4722,      5,      4.9,  26.5216,  34.6093,2,  34.6071,2,    204.5,2, 26.5205,    205.3,2,     0.92,2,     0.05,2,     0.01,2,  -999.0,-999.000
     33KI161_1,  PRS2,     2,  3,     21,     21,3,20040713,2356, 22.7492,-158.0003, 4722,      5,      4.9,  26.5207,  34.6094,2,  34.6075,2,    204.5,2, 26.5196,   -999.0,5,  -999.00,5,  -999.00,5,  -999.00,5,  -999.0,-999.000
     33KI161_1,  PRS2,     2,  3,     20,     20,3,20040713,2356, 22.7492,-158.0003, 4722,     25,     25.1,  26.4738,  34.6079,2,  34.6087,2,    205.3,2, 26.4682,   -999.0,5,  -999.00,5,  -999.00,5,  -999.00,5,  -999.0,-999.000
     33KI161_1,  PRS2,     2,  3,     19,     19,2,20040713,2356, 22.7492,-158.0003, 4722,     26,     25.1,  26.4735,  34.6078,2,-999.0000,5,    205.2,2, 26.4678,    205.4,2,     0.93,2,     0.03,2,     0.01,2,  -999.0,-999.000
     33KI161_1,  PRS2,     2,  3,     18,     18,4,20040713,2356, 22.7492,-158.0003, 4722,     25,     25.3,  26.4735,  34.6078,2,-999.0000,5,    205.2,2, 26.4678,   -999.0,5,  -999.00,5,  -999.00,5,  -999.00,5,  -999.0,-999.000
     33KI161_1,  PRS2,     2,  3,     17,     17,3,20040713,2356, 22.7492,-158.0003, 4722,     44,     43.4,  26.4504,  34.6075,2,  34.6052,2,    205.3,2, 26.4406,    205.0,2,     0.95,2,     0.03,2,     0.02,2,  -999.0,-999.000
     33KI161_1,  PRS2,     2,  3,     16,     16,3,20040713,2356, 22.7492,-158.0003, 4722,     44,     43.4,  26.4504,  34.6076,2,  34.6050,2,    205.2,2, 26.4406,   -999.0,5,  -999.00,5,  -999.00,5,  -999.00,5,  -999.0,-999.000
     33KI161_1,  PRS2,     2,  3,     15,    102,2,20040713,2356, 22.7492,-158.0003, 4722,     60,     60.0,  26.3839,  34.6144,2,  34.6225,2,    205.6,2, 26.3703,   -999.0,5,     0.93,2,     0.07,2,     0.02,2,  -999.0,-999.000
     33KI161_1,  PRS2,     2,  3,     13,     42,2,20040713,2356, 22.7492,-158.0003, 4722,     74,     74.3,  25.2124,  34.8567,2,  34.8642,2,    216.4,2, 25.1962,   -999.0,5,  -999.00,5,  -999.00,5,  -999.00,5,  -999.0,-999.000
     33KI161_1,  PRS2,     2,  3,     14,    101,2,20040713,2356, 22.7492,-158.0003, 4722,     75,     74.4,  25.2145,  34.8565,2,  34.8548,2,    216.3,2, 25.1983,    215.8,2,     0.95,2,  -999.00,5,     0.00,2,  -999.0,-999.000
     33KI161_1,  PRS2,     2,  3,     12,     12,2,20040713,2356, 22.7492,-158.0003, 4722,     84,     84.5,  24.8217,  34.9411,2,  34.9323,2,    216.7,2, 24.8034,    216.6,2,  -999.00,5,  -999.00,5,  -999.00,5,  -999.0,-999.000
     33KI161_1,  PRS2,     2,  3,     10,     32,2,20040713,2356, 22.7492,-158.0003, 4722,    100,     99.6,  24.2884,  35.0517,2,  35.0551,2,    214.6,2, 24.2672,   -999.0,5,  -999.00,5,  -999.00,5,  -999.00,5,  -999.0,-999.000
     33KI161_1,  PRS2,     2,  3,     11,     39,2,20040713,2356, 22.7492,-158.0003, 4722,     99,     99.7,  24.3106,  35.0471,2,  35.0390,2,    214.7,2, 24.2894,    214.8,2,     0.99,2,  -999.00,5,     0.00,2,  -999.0,-999.000
     33KI161_1,  PRS2,     2,  3,      9,      3,2,20040713,2356, 22.7492,-158.0003, 4722,    114,    114.4,  24.0151,  35.0968,2,  35.1024,2,    212.9,2, 23.9910,    212.3,2,  -999.00,5,  -999.00,5,  -999.00,5,  -999.0,-999.000
     33KI161_1,  PRS2,     2,  3,      7,     28,2,20040713,2356, 22.7492,-158.0003, 4722,    126,    124.9,  23.3725,  35.2087,2,  35.2113,2,    208.8,2, 23.3467,   -999.0,5,  -999.00,5,  -999.00,5,  -999.00,5,  -999.0,-999.000
     33KI161_1,  PRS2,     2,  3,      8,     29,2,20040713,2356, 22.7492,-158.0003, 4722,    125,    125.1,  23.3532,  35.2110,2,  35.2052,2,    209.0,2, 23.3274,    209.3,2,     1.08,2,     0.01,2,     0.01,2,  -999.0,-999.000
     33KI161_1,  PRS2,     2,  3,      6,     13,2,20040713,2356, 22.7492,-158.0003, 4722,    136,    135.5,  22.8490,  35.2784,2,  35.2759,2,    205.7,2, 22.8214,   -999.0,5,  -999.00,5,  -999.00,5,  -999.00,5,  -999.0,-999.000
     33KI161_1,  PRS2,     2,  3,      4,     36,2,20040713,2356, 22.7492,-158.0003, 4722,    151,    149.7,  22.4879,  35.2880,2,  35.2869,2,    203.2,2, 22.4578,   -999.0,5,  -999.00,5,  -999.00,5,  -999.00,5,  -999.0,-999.000
     33KI161_1,  PRS2,     2,  3,      5,     38,3,20040713,2356, 22.7492,-158.0003, 4722,    150,    149.8,  22.4867,  35.2880,2,  35.2808,2,    203.2,2, 22.4565,    203.2,2,     1.22,2,     0.35,2,     0.01,2,  -999.0,-999.000
     33KI161_1,  PRS2,     2,  3,      3,     35,2,20040713,2356, 22.7492,-158.0003, 4722,    175,    174.8,  21.4932,  35.2685,2,  35.2676,2,    202.8,2, 21.4592,    200.3,2,     1.53,2,     0.89,2,     0.03,2,  -999.0,-999.000
     33KI161_1,  PRS2,     2,  3,      2,     34,2,20040713,2356, 22.7492,-158.0003, 4722,    175,    174.8,  21.4945,  35.2685,2,  35.2698,2,    202.2,2, 21.4604,   -999.0,5,  -999.00,5,  -999.00,5,  -999.00,5,  -999.0,-999.000
     33KI161_1,  PRS2,     2,  3,      1,     33,3,20040713,2356, 22.7492,-158.0003, 4722,    201,    200.0,  20.3312,  35.1447,2,  35.1443,2,    192.4,2, 20.2938,    192.2,2,     1.96,2,     1.91,2,     0.06,2,  -999.0,-999.000
     33KI161_1,  PRS2,     2,  4,     22,     22,3,20040714,0127, 22.7520,-157.9845, 4715,      5,      4.8,  26.5430,  34.6117,2,  34.6126,2,    204.8,1, 26.5419,   -999.0,9,  -999.00,9,  -999.00,9,  -999.00,9,  -999.0,-999.000
     33KI161_1,  PRS2,     2,  4,     24,     31,3,20040714,0127, 22.7520,-157.9845, 4715,      5,      4.9,  26.5420,  34.6115,2,  34.6093,2,    204.8,1, 26.5409,   -999.0,9,  -999.00,9,  -999.00,9,  -999.00,9,  -999.0,-999.000
     33KI161_1,  PRS2,     2,  4,     23,     30,3,20040714,0127, 22.7520,-157.9845, 4715,      5,      4.9,  26.5424,  34.6115,2,  34.6099,2,    204.8,1, 26.5412,   -999.0,9,  -999.00,9,  -999.00,9,  -999.00,9,  -999.0,-999.000
     33KI161_1,  PRS2,     2,  4,     21,     21,2,20040714,0127, 22.7520,-157.9845, 4715,     25,     24.8,  26.5087,  34.6092,2,-999.0000,5,    205.0,1, 26.5031,   -999.0,9,  -999.00,9,  -999.00,9,  -999.00,9,  -999.0,-999.000
     33KI161_1,  PRS2,     2,  4,     20,     20,2,20040714,0127, 22.7520,-157.9845, 4715,     25,     24.8,  26.5021,  34.6086,2,  34.6089,2,    204.9,1, 26.4965,   -999.0,9,  -999.00,9,  -999.00,9,  -999.00,9,  -999.0,-999.000
     33KI161_1,  PRS2,     2,  4,     19,     19,2,20040714,0127, 22.7520,-157.9845, 4715,     25,     24.8,  26.4998,  34.6083,2,  34.6054,2,    204.9,1, 26.4942,   -999.0,9,  -999.00,9,  -999.00,9,  -999.00,9,  -999.0,-999.000
     33KI161_1,  PRS2,     2,  4,     16,     16,3,20040714,0127, 22.7520,-157.9845, 4715,     43,     42.7,  26.4548,  34.6074,2,  34.6069,2,    205.1,1, 26.4452,   -999.0,9,  -999.00,9,  -999.00,9,  -999.00,9,  -999.0,-999.000
     33KI161_1,  PRS2,     2,  4,     17,     17,2,20040714,0127, 22.7520,-157.9845, 4715,     43,     43.1,  26.4549,  34.6072,2,  34.6062,2,    205.1,1, 26.4452,   -999.0,9,  -999.00,9,  -999.00,9,  -999.00,9,  -999.0,-999.000
     33KI161_1,  PRS2,     2,  4,     18,     18,3,20040714,0127, 22.7520,-157.9845, 4715,     44,     43.4,  26.4544,  34.6070,2,-999.0000,5,    205.1,1, 26.4446,   -999.0,9,  -999.00,9,  -999.00,9,  -999.00,9,  -999.0,-999.000
     33KI161_1,  PRS2,     2,  4,     15,    102,2,20040714,0127, 22.7520,-157.9845, 4715,     74,     74.8,  25.2034,  34.8595,2,  34.8572,2,    217.2,1, 25.1871,   -999.0,9,  -999.00,9,  -999.00,9,  -999.00,9,  -999.0,-999.000
     33KI161_1,  PRS2,     2,  4,     14,    101,2,20040714,0127, 22.7520,-157.9845, 4715,     75,     74.9,  25.2031,  34.8595,2,  34.8582,2,    217.2,1, 25.1868,   -999.0,9,  -999.00,9,  -999.00,9,  -999.00,9,  -999.0,-999.000
     33KI161_1,  PRS2,     2,  4,     13,     42,2,20040714,0127, 22.7520,-157.9845, 4715,     75,     74.9,  25.2026,  34.8597,2,  34.8572,2,    217.1,1, 25.1863,   -999.0,9,  -999.00,9,  -999.00,9,  -999.00,9,  -999.0,-999.000
     33KI161_1,  PRS2,     2,  4,     11,     39,2,20040714,0127, 22.7520,-157.9845, 4715,    100,     99.8,  24.2795,  35.0526,2,  35.0465,2,    214.3,1, 24.2583,   -999.0,9,  -999.00,9,  -999.00,9,  -999.00,9,  -999.0,-999.000
     33KI161_1,  PRS2,     2,  4,     10,     32,2,20040714,0127, 22.7520,-157.9845, 4715,    100,     99.9,  24.2835,  35.0520,2,  35.0598,2,    214.3,1, 24.2623,   -999.0,9,  -999.00,9,  -999.00,9,  -999.00,9,  -999.0,-999.000
     33KI161_1,  PRS2,     2,  4,     12,     12,2,20040714,0127, 22.7520,-157.9845, 4715,    101,    100.1,  24.2710,  35.0539,2,  35.0661,2,    214.3,1, 24.2497,   -999.0,9,  -999.00,9,  -999.00,9,  -999.00,9,  -999.0,-999.000
     33KI161_1,  PRS2,     2,  4,      7,     28,2,20040714,0127, 22.7520,-157.9845, 4715,    126,    125.5,  23.2984,  35.2189,2,  35.2176,2,    208.5,1, 23.2725,   -999.0,9,  -999.00,9,  -999.00,9,  -999.00,9,  -999.0,-999.000
     33KI161_1,  PRS2,     2,  4,      9,      3,2,20040714,0127, 22.7520,-157.9845, 4715,    126,    125.8,  23.2949,  35.2193,2,  35.2178,2,    208.6,1, 23.2690,   -999.0,9,  -999.00,9,  -999.00,9,  -999.00,9,  -999.0,-999.000
     33KI161_1,  PRS2,     2,  4,      8,     29,2,20040714,0127, 22.7520,-157.9845, 4715,    126,    125.8,  23.2974,  35.2190,2,  35.2172,2,    208.6,1, 23.2715,   -999.0,9,  -999.00,9,  -999.00,9,  -999.00,9,  -999.0,-999.000
     33KI161_1,  PRS2,     2,  4,      5,     38,3,20040714,0127, 22.7520,-157.9845, 4715,    150,    149.3,  22.4870,  35.2880,2,-999.0000,5,    202.8,1, 22.4570,   -999.0,9,  -999.00,9,  -999.00,9,  -999.00,9,  -999.0,-999.000
     33KI161_1,  PRS2,     2,  4,      6,     13,2,20040714,0127, 22.7520,-157.9845, 4715,    150,    149.4,  22.4876,  35.2879,2,  35.2988,3,    202.9,1, 22.4576,   -999.0,9,  -999.00,9,  -999.00,9,  -999.00,9,  -999.0,-999.000
     33KI161_1,  PRS2,     2,  4,      4,     36,2,20040714,0127, 22.7520,-157.9845, 4715,    150,    149.4,  22.4858,  35.2884,2,  35.2854,2,    202.6,1, 22.4557,   -999.0,9,  -999.00,9,  -999.00,9,  -999.00,9,  -999.0,-999.000
     33KI161_1,  PRS2,     2,  4,      1,     33,2,20040714,0127, 22.7520,-157.9845, 4715,    175,    174.5,  21.4590,  35.2739,2,  35.2735,2,    201.5,1, 21.4250,   -999.0,9,  -999.00,9,  -999.00,9,  -999.00,9,  -999.0,-999.000
     33KI161_1,  PRS2,     2,  4,      2,     34,2,20040714,0127, 22.7520,-157.9845, 4715,    175,    174.6,  21.4602,  35.2746,2,  35.2775,2,    201.6,1, 21.4262,   -999.0,9,  -999.00,9,  -999.00,9,  -999.00,9,  -999.0,-999.000
     33KI161_1,  PRS2,     2,  4,      3,     35,3,20040714,0127, 22.7520,-157.9845, 4715,    175,    174.7,  21.4633,  35.2761,2,  35.2721,2,    201.7,1, 21.4293,   -999.0,9,  -999.00,9,  -999.00,9,  -999.00,9,  -999.0,-999.000
     33KI161_1,  PRS2,     2,  5,     21,     21,3,20040714,0256, 22.7485,-157.9998, 4715,      5,      5.2,  26.5222,  34.6127,2,  34.6262,3,    205.8,1, 26.5210,   -999.0,9,  -999.00,9,  -999.00,9,  -999.00,9,  -999.0,-999.000
     33KI161_1,  PRS2,     2,  5,     20,     20,3,20040714,0256, 22.7485,-157.9998, 4715,      5,      5.2,  26.5232,  34.6126,2,-999.0000,5,    205.9,1, 26.5221,   -999.0,9,  -999.00,9,  -999.00,9,  -999.00,9,  -999.0,-999.000
     33KI161_1,  PRS2,     2,  5,     24,     31,2,20040714,0256, 22.7485,-157.9998, 4715,      6,      5.3,  26.5279,  34.6126,2,  34.6121,2,    205.6,1, 26.5267,   -999.0,9,  -999.00,9,  -999.00,9,  -999.00,9,  -999.0,-999.000
     33KI161_1,  PRS2,     2,  5,     23,     30,3,20040714,0256, 22.7485,-157.9998, 4715,      6,      5.3,  26.5276,  34.6125,2,  34.6113,2,    205.5,1, 26.5264,   -999.0,9,  -999.00,9,  -999.00,9,  -999.00,9,  -999.0,-999.000
     33KI161_1,  PRS2,     2,  5,     22,     22,3,20040714,0256, 22.7485,-157.9998, 4715,      5,      5.3,  26.5236,  34.6126,2,  34.6148,2,    205.1,1, 26.5224,   -999.0,9,  -999.00,9,  -999.00,9,  -999.00,9,  -999.0,-999.000
     33KI161_1,  PRS2,     2,  5,     19,     19,2,20040714,0256, 22.7485,-157.9998, 4715,     15,     15.2,  26.5296,  34.6126,2,  34.6146,2,    205.8,1, 26.5262,   -999.0,9,  -999.00,9,  -999.00,9,  -999.00,9,  -999.0,-999.000
     33KI161_1,  PRS2,     2,  5,     17,     17,2,20040714,0256, 22.7485,-157.9998, 4715,     24,     23.9,  26.5110,  34.6111,2,-999.0000,5,    205.4,1, 26.5056,   -999.0,9,  -999.00,9,  -999.00,9,  -999.00,9,  -999.0,-999.000
     33KI161_1,  PRS2,     2,  5,     18,     18,2,20040714,0256, 22.7485,-157.9998, 4715,     24,     24.0,  26.5116,  34.6112,2,  34.6132,2,    205.4,1, 26.5062,   -999.0,9,  -999.00,9,  -999.00,9,  -999.00,9,  -999.0,-999.000
     33KI161_1,  PRS2,     2,  5,     16,     16,3,20040714,0256, 22.7485,-157.9998, 4715,     36,     35.1,  26.4814,  34.6100,2,-999.0000,5,    205.6,1, 26.4735,   -999.0,9,  -999.00,9,  -999.00,9,  -999.00,9,  -999.0,-999.000
     33KI161_1,  PRS2,     2,  5,     15,    102,2,20040714,0256, 22.7485,-157.9998, 4715,     44,     44.1,  26.4784,  34.6099,2,  34.6081,2,    205.3,1, 26.4684,   -999.0,9,  -999.00,9,  -999.00,9,  -999.00,9,  -999.0,-999.000
     33KI161_1,  PRS2,     2,  5,     14,    101,2,20040714,0256, 22.7485,-157.9998, 4715,     45,     44.1,  26.4780,  34.6098,2,-999.0000,5,    205.2,1, 26.4680,   -999.0,9,  -999.00,9,  -999.00,9,  -999.00,9,  -999.0,-999.000
     33KI161_1,  PRS2,     2,  5,     13,     42,2,20040714,0256, 22.7485,-157.9998, 4715,     50,     50.1,  26.4732,  34.6096,2,  34.6364,4,    205.4,1, 26.4619,   -999.0,9,  -999.00,9,  -999.00,9,  -999.00,9,  -999.0,-999.000
     33KI161_1,  PRS2,     2,  5,     12,     12,3,20040714,0256, 22.7485,-157.9998, 4715,     60,     59.8,  26.4525,  34.6102,2,-999.0000,5,    205.5,1, 26.4390,   -999.0,9,  -999.00,9,  -999.00,9,  -999.00,9,  -999.0,-999.000
     33KI161_1,  PRS2,     2,  5,     10,     32,2,20040714,0256, 22.7485,-157.9998, 4715,     75,     75.3,  25.0008,  34.9040,2,  34.9026,2,    218.1,1, 24.9845,   -999.0,9,  -999.00,9,  -999.00,9,  -999.00,9,  -999.0,-999.000
     33KI161_1,  PRS2,     2,  5,     11,     39,2,20040714,0256, 22.7485,-157.9998, 4715,     75,     75.4,  24.9926,  34.9061,2,  34.9097,2,    218.0,1, 24.9763,   -999.0,9,  -999.00,9,  -999.00,9,  -999.00,9,  -999.0,-999.000
     33KI161_1,  PRS2,     2,  5,      8,     29,2,20040714,0256, 22.7485,-157.9998, 4715,    100,     99.7,  24.1646,  35.0732,2,  35.0963,3,    214.2,1, 24.1435,   -999.0,9,  -999.00,9,  -999.00,9,  -999.00,9,  -999.0,-999.000
     33KI161_1,  PRS2,     2,  5,      9,      3,2,20040714,0256, 22.7485,-157.9998, 4715,    100,     99.8,  24.1725,  35.0716,2,  35.0644,2,    214.3,1, 24.1514,   -999.0,9,  -999.00,9,  -999.00,9,  -999.00,9,  -999.0,-999.000
     33KI161_1,  PRS2,     2,  5,      7,     28,2,20040714,0256, 22.7485,-157.9998, 4715,    125,    125.2,  23.2857,  35.2231,2,  35.2416,3,    208.6,1, 23.2599,   -999.0,9,  -999.00,9,  -999.00,9,  -999.00,9,  -999.0,-999.000
     33KI161_1,  PRS2,     2,  5,      6,     13,2,20040714,0256, 22.7485,-157.9998, 4715,    125,    125.3,  23.2783,  35.2247,2,  35.2357,2,    208.6,1, 23.2524,   -999.0,9,  -999.00,9,  -999.00,9,  -999.00,9,  -999.0,-999.000
     33KI161_1,  PRS2,     2,  5,      5,     38,2,20040714,0256, 22.7485,-157.9998, 4715,    149,    150.0,  22.3486,  35.2898,2,  35.2840,2,    201.7,1, 22.3185,   -999.0,9,  -999.00,9,  -999.00,9,  -999.00,9,  -999.0,-999.000
     33KI161_1,  PRS2,     2,  5,      4,     36,2,20040714,0256, 22.7485,-157.9998, 4715,    151,    150.0,  22.2768,  35.2931,2,  35.2966,2,    201.9,1, 22.2468,   -999.0,9,  -999.00,9,  -999.00,9,  -999.00,9,  -999.0,-999.000
     33KI161_1,  PRS2,     2,  5,      3,     35,2,20040714,0256, 22.7485,-157.9998, 4715,    174,    174.1,  21.4736,  35.2598,2,  35.2643,2,    199.3,1, 21.4396,   -999.0,9,  -999.00,9,  -999.00,9,  -999.00,9,  -999.0,-999.000
     33KI161_1,  PRS2,     2,  5,      2,     34,2,20040714,0256, 22.7485,-157.9998, 4715,    175,    174.1,  21.4179,  35.2501,2,  35.2621,2,    199.1,1, 21.3841,   -999.0,9,  -999.00,9,  -999.00,9,  -999.00,9,  -999.0,-999.000
     33KI161_1,  PRS2,     2,  5,      1,     33,2,20040714,0256, 22.7485,-157.9998, 4715,    200,    200.4,  20.1120,  35.1283,2,  35.1337,2,    193.3,1, 20.0747,   -999.0,9,  -999.00,9,  -999.00,9,  -999.00,9,  -999.0,-999.000