BOTTLE,20090923WHPSIOMYS
#code : jjward hyd_to_exchange.pl 
#original files copied from HTML directory: 20090923
#original HYD file: 33KI161_1_hy.txt   Wed Sep 23 17:56:19 2009
#original SUM file: ../33KI161_1su.txt   Wed Sep 23 17:56:19 2009
EXPOCODE,SECT_ID,STNNBR,CASTNO,SAMPNO,BTLNBR,BTLNBR_FLAG_W,DATE,TIME,LATITUDE,LONGITUDE,DEPTH,CTDRAW,CTDPRS,CTDTMP,CTDSAL,CTDSAL_FLAG_W,SALNTY,SALNTY_FLAG_W,CTDOXY,CTDOXY_FLAG_W,THETA,OXYGEN,OXYGEN_FLAG_W,SILCAT,SILCAT_FLAG_W,NO2+NO3,NO2+NO3_FLAG_W,PHSPHT,PHSPHT_FLAG_W,REVPRS,REVTMP
,,,,,,,,,,,,,DBAR,ITS-90,PSS-78,,PSS-78,,UMOL/KG,,ITS-90,UMOL/KG,,UMOL/KG,,UMOL/KG,,UMOL/KG,,DBAR,DEG C
     33KI161_1,  PRS2,     1,  1,     23,     30,2,20040713,0036, 21.3450,-158.2690, 1482,      5,      4.8,  27.3255,  34.5805,2,  34.5802,2,    203.1,2, 27.3244,    203.2,2,  -999.00,9,  -999.00,9,  -999.00,9,  -999.0,-999.000
     33KI161_1,  PRS2,     1,  1,     24,     31,2,20040713,0036, 21.3450,-158.2690, 1482,      5,      4.9,  27.3280,  34.5809,2,  34.5804,2,    203.2,2, 27.3268,    203.1,2,  -999.00,9,  -999.00,9,  -999.00,9,  -999.0,-999.000
     33KI161_1,  PRS2,     1,  1,     22,     22,2,20040713,0036, 21.3450,-158.2690, 1482,     24,     24.3,  27.0879,  34.5695,2,  34.5688,2,    204.1,2, 27.0824,    204.0,2,  -999.00,9,  -999.00,9,  -999.00,9,  -999.0,-999.000
     33KI161_1,  PRS2,     1,  1,     21,     21,3,20040713,0036, 21.3450,-158.2690, 1482,     44,     44.6,  26.3072,  34.6131,2,  34.6044,2,    212.5,2, 26.2972,    211.3,2,  -999.00,9,  -999.00,9,  -999.00,9,  -999.0,-999.000
     33KI161_1,  PRS2,     1,  1,     20,     20,3,20040713,0036, 21.3450,-158.2690, 1482,     61,     60.8,  25.4251,  34.7859,2,  34.7765,2,    211.9,2, 25.4118,    211.9,2,  -999.00,9,  -999.00,9,  -999.00,9,  -999.0,-999.000
     33KI161_1,  PRS2,     1,  1,     19,     19,3,20040713,0036, 21.3450,-158.2690, 1482,     76,     76.2,  24.7995,  34.9546,2,  34.9390,3,    214.1,3, 24.7831,    214.8,2,  -999.00,9,  -999.00,9,  -999.00,9,  -999.0,-999.000
     33KI161_1,  PRS2,     1,  1,     18,     18,3,20040713,0036, 21.3450,-158.2690, 1482,    100,    100.5,  23.1254,  35.1597,2,  35.1390,3,    206.3,3, 23.1048,    207.1,2,  -999.00,9,  -999.00,9,  -999.00,9,  -999.0,-999.000
     33KI161_1,  PRS2,     1,  1,     17,     17,2,20040713,0036, 21.3450,-158.2690, 1482,    115,    115.5,  22.4249,  35.1849,2,  35.1768,2,    201.9,2, 22.4018,    201.5,2,  -999.00,9,  -999.00,9,  -999.00,9,  -999.0,-999.000
     33KI161_1,  PRS2,     1,  1,     16,     16,3,20040713,0036, 21.3450,-158.2690, 1482,    126,    125.0,  22.1678,  35.2159,2,  35.1758,4,    200.2,3, 22.1429,    201.1,2,  -999.00,9,  -999.00,9,  -999.00,9,  -999.0,-999.000
     33KI161_1,  PRS2,     1,  1,     15,    102,2,20040713,0036, 21.3450,-158.2690, 1482,    151,    151.6,  20.3071,  35.0904,2,  35.1061,2,    190.4,2, 20.2788,    190.3,2,  -999.00,9,  -999.00,9,  -999.00,9,  -999.0,-999.000
     33KI161_1,  PRS2,     1,  1,     14,    101,2,20040713,0036, 21.3450,-158.2690, 1482,    176,    175.4,  19.8437,  35.0452,2,  35.0535,2,    190.3,2, 19.8114,    189.3,2,  -999.00,9,  -999.00,9,  -999.00,9,  -999.0,-999.000
     33KI161_1,  PRS2,     1,  1,     13,     42,2,20040713,0036, 21.3450,-158.2690, 1482,    200,    199.8,  18.2944,  34.8635,2,  34.8713,2,    185.5,2, 18.2597,    186.3,2,  -999.00,9,  -999.00,9,  -999.00,9,  -999.0,-999.000
     33KI161_1,  PRS2,     1,  1,     12,     12,2,20040713,0036, 21.3450,-158.2690, 1482,    224,    224.1,  15.6630,  34.5578,2,  34.5596,2,    189.6,2, 15.6282,    190.1,2,  -999.00,9,  -999.00,9,  -999.00,9,  -999.0,-999.000
     33KI161_1,  PRS2,     1,  1,     11,     39,2,20040713,0036, 21.3450,-158.2690, 1482,    250,    249.8,  14.5923,  34.4461,2,  34.4491,2,    190.6,2, 14.5553,    190.1,2,  -999.00,9,  -999.00,9,  -999.00,9,  -999.0,-999.000
     33KI161_1,  PRS2,     1,  1,     10,     32,2,20040713,0036, 21.3450,-158.2690, 1482,    300,    299.8,  12.0097,  34.2410,2,  34.2417,2,    179.7,2, 11.9707,    180.1,2,  -999.00,9,  -999.00,9,  -999.00,9,  -999.0,-999.000
     33KI161_1,  PRS2,     1,  1,      9,      3,2,20040713,0036, 21.3450,-158.2690, 1482,    350,    350.1,  10.2278,  34.1694,2,  34.1679,2,    175.0,2, 10.1867,    174.6,2,  -999.00,9,  -999.00,9,  -999.00,9,  -999.0,-999.000
     33KI161_1,  PRS2,     1,  1,      8,     29,2,20040713,0036, 21.3450,-158.2690, 1482,    399,    399.6,   9.3277,  34.1442,2,  34.1450,2,    156.0,2,  9.2833,    155.2,2,  -999.00,9,  -999.00,9,  -999.00,9,  -999.0,-999.000
     33KI161_1,  PRS2,     1,  1,      7,     28,2,20040713,0036, 21.3450,-158.2690, 1482,    501,    500.0,   7.4576,  34.1315,2,  34.1279,2,    110.7,2,  7.4087,    111.3,2,  -999.00,9,  -999.00,9,  -999.00,9,  -999.0,-999.000
     33KI161_1,  PRS2,     1,  1,      6,     13,2,20040713,0036, 21.3450,-158.2690, 1482,    600,    599.6,   6.0265,  34.2063,2,  34.2048,2,     53.1,2,  5.9739,     52.0,2,  -999.00,9,  -999.00,9,  -999.00,9,  -999.0,-999.000
     33KI161_1,  PRS2,     1,  1,      5,     38,2,20040713,0036, 21.3450,-158.2690, 1482,    700,    699.6,   5.3449,  34.3234,2,  34.3223,2,     36.1,2,  5.2865,     36.3,2,  -999.00,9,  -999.00,9,  -999.00,9,  -999.0,-999.000
     33KI161_1,  PRS2,     1,  1,      4,     36,2,20040713,0036, 21.3450,-158.2690, 1482,    751,    750.8,   4.8899,  34.3828,2,  34.3817,2,     35.8,2,  4.8295,     35.8,2,  -999.00,9,  -999.00,9,  -999.00,9,  -999.0,-999.000
     33KI161_1,  PRS2,     1,  1,      3,     35,2,20040713,0036, 21.3450,-158.2690, 1482,    801,    800.1,   4.7110,  34.4136,2,  34.4129,2,     37.0,2,  4.6474,     37.6,2,  -999.00,9,  -999.00,9,  -999.00,9,  -999.0,-999.000
     33KI161_1,  PRS2,     1,  1,      2,     34,2,20040713,0036, 21.3450,-158.2690, 1482,    901,    900.2,   4.5153,  34.4731,2,  34.7233,4,     41.4,3,  4.4444,    130.3,4,  -999.00,9,  -999.00,9,  -999.00,9,  -999.0,-999.000
     33KI161_1,  PRS2,     1,  1,      1,     33,2,20040713,0036, 21.3450,-158.2690, 1482,   1022,   1021.8,   4.0860,  34.5019,2,  34.5005,2,     46.8,2,  4.0078,     46.8,2,  -999.00,9,  -999.00,9,  -999.00,9,  -999.0,-999.000
     33KI161_1,  PRS2,     2,  1,     13,     42,2,20040713,1752, 22.7513,-158.0007, 4728,      5,      4.9,  26.4388,  34.6082,2,  34.6071,2,    204.8,1, 26.4377,   -999.0,9,  -999.00,9,  -999.00,9,  -999.00,9,  -999.0,-999.000
     33KI161_1,  PRS2,     2,  1,     23,     30,2,20040713,1752, 22.7513,-158.0007, 4728,      6,      5.0,  26.4382,  34.6079,2,  34.6144,2,    204.5,1, 26.4371,   -999.0,9,  -999.00,9,  -999.00,9,  -999.00,9,  -999.0,-999.000
     33KI161_1,  PRS2,     2,  1,     22,     22,2,20040713,1752, 22.7513,-158.0007, 4728,      5,      5.0,  26.4382,  34.6080,2,  34.6054,2,    204.6,1, 26.4371,   -999.0,9,  -999.00,9,  -999.00,9,  -999.00,9,  -999.0,-999.000
     33KI161_1,  PRS2,     2,  1,     21,     21,2,20040713,1752, 22.7513,-158.0007, 4728,      5,      5.0,  26.4380,  34.6080,2,  34.6132,2,    204.6,1, 26.4368,   -999.0,9,  -999.00,9,  -999.00,9,  -999.00,9,  -999.0,-999.000
     33KI161_1,  PRS2,     2,  1,     20,     20,2,20040713,1752, 22.7513,-158.0007, 4728,      5,      5.0,  26.4380,  34.6080,2,  34.6050,2,    204.6,1, 26.4368,   -999.0,9,  -999.00,9,  -999.00,9,  -999.00,9,  -999.0,-999.000
     33KI161_1,  PRS2,     2,  1,     19,     19,2,20040713,1752, 22.7513,-158.0007, 4728,      5,      5.0,  26.4385,  34.6081,2,  34.6168,2,    204.7,1, 26.4373,   -999.0,9,  -999.00,9,  -999.00,9,  -999.00,9,  -999.0,-999.000
     33KI161_1,  PRS2,     2,  1,     18,     18,3,20040713,1752, 22.7513,-158.0007, 4728,      6,      5.0,  26.4385,  34.6081,2,  34.6052,2,    204.7,1, 26.4373,   -999.0,9,  -999.00,9,  -999.00,9,  -999.00,9,  -999.0,-999.000
     33KI161_1,  PRS2,     2,  1,     17,     17,2,20040713,1752, 22.7513,-158.0007, 4728,      5,      5.0,  26.4382,  34.6082,2,  34.6217,3,    204.7,1, 26.4371,   -999.0,9,  -999.00,9,  -999.00,9,  -999.00,9,  -999.0,-999.000
     33KI161_1,  PRS2,     2,  1,     16,     16,3,20040713,1752, 22.7513,-158.0007, 4728,      5,      5.0,  26.4385,  34.6080,2,  34.6209,3,    204.8,1, 26.4374,   -999.0,9,  -999.00,9,  -999.00,9,  -999.00,9,  -999.0,-999.000
     33KI161_1,  PRS2,     2,  1,     15,    102,2,20040713,1752, 22.7513,-158.0007, 4728,      6,      5.0,  26.4388,  34.6080,2,  34.6066,2,    204.8,1, 26.4377,   -999.0,9,  -999.00,9,  -999.00,9,  -999.00,9,  -999.0,-999.000
     33KI161_1,  PRS2,     2,  1,     14,    101,2,20040713,1752, 22.7513,-158.0007, 4728,      5,      5.0,  26.4389,  34.6080,2,  34.6056,2,    204.8,1, 26.4378,   -999.0,9,  -999.00,9,  -999.00,9,  -999.00,9,  -999.0,-999.000
     33KI161_1,  PRS2,     2,  1,     24,     31,2,20040713,1752, 22.7513,-158.0007, 4728,      5,      5.1,  26.4386,  34.6079,2,  34.6136,2,    204.5,1, 26.4374,   -999.0,9,  -999.00,9,  -999.00,9,  -999.00,9,  -999.0,-999.000
     33KI161_1,  PRS2,     2,  1,     12,     12,2,20040713,1752, 22.7513,-158.0007, 4728,      5,      5.1,  26.4387,  34.6081,2,  34.6054,2,    204.9,1, 26.4375,   -999.0,9,  -999.00,9,  -999.00,9,  -999.00,9,  -999.0,-999.000
     33KI161_1,  PRS2,     2,  1,     11,     39,2,20040713,1752, 22.7513,-158.0007, 4728,     30,     30.1,  26.4429,  34.6080,2,-999.0000,5,    204.9,1, 26.4361,   -999.0,9,  -999.00,9,  -999.00,9,  -999.00,9,  -999.0,-999.000
     33KI161_1,  PRS2,     2,  1,      7,     28,2,20040713,1752, 22.7513,-158.0007, 4728,     30,     30.1,  26.4424,  34.6081,2,  34.6140,2,    204.4,1, 26.4356,   -999.0,9,  -999.00,9,  -999.00,9,  -999.00,9,  -999.0,-999.000
     33KI161_1,  PRS2,     2,  1,      6,     13,2,20040713,1752, 22.7513,-158.0007, 4728,     30,     30.1,  26.4419,  34.6082,2,-999.0000,5,    204.7,1, 26.4351,   -999.0,9,  -999.00,9,  -999.00,9,  -999.00,9,  -999.0,-999.000
     33KI161_1,  PRS2,     2,  1,     10,     32,2,20040713,1752, 22.7513,-158.0007, 4728,     31,     30.2,  26.4426,  34.6082,2,-999.0000,5,    204.5,1, 26.4357,   -999.0,9,  -999.00,9,  -999.00,9,  -999.00,9,  -999.0,-999.000
     33KI161_1,  PRS2,     2,  1,      8,     29,2,20040713,1752, 22.7513,-158.0007, 4728,     31,     30.2,  26.4431,  34.6081,2,  34.6073,2,    204.4,1, 26.4363,   -999.0,9,  -999.00,9,  -999.00,9,  -999.00,9,  -999.0,-999.000
     33KI161_1,  PRS2,     2,  1,      5,     38,2,20040713,1752, 22.7513,-158.0007, 4728,     30,     30.2,  26.4418,  34.6081,2,-999.0000,5,    204.6,1, 26.4350,   -999.0,9,  -999.00,9,  -999.00,9,  -999.00,9,  -999.0,-999.000
     33KI161_1,  PRS2,     2,  1,      4,     36,2,20040713,1752, 22.7513,-158.0007, 4728,     30,     30.2,  26.4396,  34.6082,2,-999.0000,5,    204.4,1, 26.4328,   -999.0,9,  -999.00,9,  -999.00,9,  -999.00,9,  -999.0,-999.000
     33KI161_1,  PRS2,     2,  1,      3,     35,3,20040713,1752, 22.7513,-158.0007, 4728,     30,     30.2,  26.4378,  34.6082,2,-999.0000,5,    204.4,1, 26.4310,   -999.0,9,  -999.00,9,  -999.00,9,  -999.00,9,  -999.0,-999.000
     33KI161_1,  PRS2,     2,  1,      9,      3,2,20040713,1752, 22.7513,-158.0007, 4728,     30,     30.3,  26.4433,  34.6082,2,  34.6622,4,    204.5,1, 26.4365,   -999.0,9,  -999.00,9,  -999.00,9,  -999.00,9,  -999.0,-999.000
     33KI161_1,  PRS2,     2,  1,      2,     34,2,20040713,1752, 22.7513,-158.0007, 4728,     31,     30.3,  26.4380,  34.6083,2,-999.0000,5,    204.4,1, 26.4312,   -999.0,9,  -999.00,9,  -999.00,9,  -999.00,9,  -999.0,-999.000
     33KI161_1,  PRS2,     2,  1,      1,     33,2,20040713,1752, 22.7513,-158.0007, 4728,    702,    701.0,   5.2543,  34.2311,2,  34.2358,2,     41.0,1,  5.1963,   -999.0,9,  -999.00,9,  -999.00,9,  -999.00,9,  -999.0,-999.000
     33KI161_1,  PRS2,     2,  2,     24,     31,2,20040713,1914, 22.7492,-157.9952, 4728,      5,      4.9,  26.4899,  34.6108,2,  34.6089,2,    204.7,2, 26.4888,    205.0,2,     1.10,2,     0.09,2,     0.01,2,  -999.0,-999.000
     33KI161_1,  PRS2,     2,  2,     23,     30,2,20040713,1914, 22.7492,-157.9952, 4728,     60,     60.2,  26.4355,  34.6092,2,  34.6077,2,    205.1,2, 26.4219,    200.7,3,     1.12,2,     0.03,2,     0.12,3,  -999.0,-999.000
     33KI161_1,  PRS2,     2,  2,     22,     22,3,20040713,1914, 22.7492,-157.9952, 4728,     96,     95.9,  24.0620,  35.0878,2,  35.0791,2,    212.8,2, 24.0417,    213.0,2,     1.17,2,     0.12,2,     0.08,2,  -999.0,-999.000
     33KI161_1,  PRS2,     2,  2,     21,     21,3,20040713,1914, 22.7492,-157.9952, 4728,    150,    149.9,  21.9040,  35.3069,2,  35.2972,2,    204.6,2, 21.8744,    204.8,2,     1.37,2,     0.24,2,     0.10,2,  -999.0,-999.000
     33KI161_1,  PRS2,     2,  2,     20,     20,2,20040713,1914, 22.7492,-157.9952, 4728,    199,    198.5,  19.6234,  35.0851,2,  35.0852,2,    195.0,2, 19.5871,    195.5,2,     2.09,2,     1.88,2,     0.20,2,  -999.0,-999.000
     33KI161_1,  PRS2,     2,  2,     19,     19,2,20040713,1914, 22.7492,-157.9952, 4728,    266,    265.7,  15.2710,  34.5060,2,  34.5078,2,    207.6,2, 15.2304,    206.3,2,     5.31,2,     4.91,2,     0.47,2,  -999.0,-999.000
     33KI161_1,  PRS2,     2,  2,     18,     18,2,20040713,1914, 22.7492,-157.9952, 4728,    343,    343.1,  11.5203,  34.2161,2,  34.2158,2,    203.0,2, 11.4769,    202.8,2,    13.13,2,    12.52,2,     0.97,2,  -999.0,-999.000
     33KI161_1,  PRS2,     2,  2,     17,     17,2,20040713,1914, 22.7492,-157.9952, 4728,    383,    382.8,  10.3207,  34.1657,2,  34.1677,2,    172.7,2, 10.2754,    173.0,2,    19.95,2,    17.97,2,     1.37,2,  -999.0,-999.000
     33KI161_1,  PRS2,     2,  2,     16,     16,2,20040713,1914, 22.7492,-157.9952, 4728,    502,    502.2,   7.3876,  34.0537,2,  34.0527,2,    131.6,2,  7.3388,    125.7,3,    43.46,2,    28.33,2,     2.07,2,  -999.0,-999.000
     33KI161_1,  PRS2,     2,  2,     15,    102,2,20040713,1914, 22.7492,-157.9952, 4728,    583,    583.4,   6.2889,  34.1185,2,  34.1160,2,     76.3,2,  6.2367,     76.0,2,    62.67,2,    34.41,2,     2.55,2,  -999.0,-999.000
     33KI161_1,  PRS2,     2,  2,     14,    101,2,20040713,1914, 22.7492,-157.9952, 4728,    695,    694.5,   5.0781,  34.2032,2,  34.2007,2,     43.2,2,  5.0217,     37.9,3,    84.65,2,    39.92,2,     2.95,2,  -999.0,-999.000
     33KI161_1,  PRS2,     2,  2,     13,     42,2,20040713,1914, 22.7492,-157.9952, 4728,    754,    754.1,   4.7217,  34.2810,2,  34.2793,2,     31.6,2,  4.6621,     30.5,2,    94.01,2,    41.23,2,     3.05,2,  -999.0,-999.000
     33KI161_1,  PRS2,     2,  2,     12,     12,2,20040713,1914, 22.7492,-157.9952, 4728,    847,    847.0,   4.4633,  34.3695,2,  34.3696,2,     32.2,2,  4.3973,     31.8,2,    91.49,3,    41.59,2,     3.04,2,  -999.0,-999.000
     33KI161_1,  PRS2,     2,  2,     11,     39,2,20040713,1914, 22.7492,-157.9952, 4728,   1002,   1001.4,   4.0751,  34.4528,2,  34.4534,2,     40.7,2,  3.9988,     40.7,2,   107.80,2,    41.58,2,     3.05,2,  -999.0,-999.000
     33KI161_1,  PRS2,     2,  2,     10,     32,2,20040713,1914, 22.7492,-157.9952, 4728,   1200,   1199.8,   3.5035,  34.5206,2,  34.5205,2,     52.9,2,  3.4155,     53.0,2,   120.09,2,    41.41,2,     2.99,2,  -999.0,-999.000
     33KI161_1,  PRS2,     2,  2,      9,      3,2,20040713,1914, 22.7492,-157.9952, 4728,   1601,   1600.5,   2.6463,  34.5822,2,  34.5812,2,     72.4,2,  2.5344,     72.5,2,   138.98,2,    40.61,2,     2.95,2,  -999.0,-999.000
     33KI161_1,  PRS2,     2,  2,      8,     29,2,20040713,1914, 22.7492,-157.9952, 4728,   2000,   2000.5,   2.1000,  34.6190,2,  34.6189,2,     88.8,2,  1.9621,     88.3,2,   151.30,2,    39.67,2,     2.85,2,  -999.0,-999.000
     33KI161_1,  PRS2,     2,  2,      7,     28,2,20040713,1914, 22.7492,-157.9952, 4728,   2401,   2400.1,   1.7550,  34.6457,2,  34.6451,2,    101.6,2,  1.5882,    101.9,2,   161.31,2,    38.87,2,     2.75,2,  -999.0,-999.000
     33KI161_1,  PRS2,     2,  2,      6,     13,2,20040713,1914, 22.7492,-157.9952, 4728,   2800,   2800.1,   1.5835,  34.6643,2,  34.6639,2,    118.6,2,  1.3838,    119.1,2,   160.14,2,    37.81,2,     2.68,2,  -999.0,-999.000
     33KI161_1,  PRS2,     2,  2,      5,     38,2,20040713,1914, 22.7492,-157.9952, 4728,   3200,   3200.6,   1.4839,  34.6767,2,  34.6769,2,    132.8,2,  1.2481,    132.9,2,   158.19,2,    36.95,2,     2.61,2,  -999.0,-999.000
     33KI161_1,  PRS2,     2,  2,      4,     36,2,20040713,1914, 22.7492,-157.9952, 4728,   3601,   3600.4,   1.4526,  34.6829,2,  34.6832,2,    141.7,2,  1.1774,    141.6,2,   153.52,2,    36.28,2,     2.55,2,  -999.0,-999.000
     33KI161_1,  PRS2,     2,  2,      3,     35,2,20040713,1914, 22.7492,-157.9952, 4728,   4000,   4000.8,   1.4571,  34.6867,2,  34.6869,2,    147.1,2,  1.1393,    146.9,2,   151.97,2,    36.17,2,     2.53,2,  -999.0,-999.000
     33KI161_1,  PRS2,     2,  2,      2,     34,2,20040713,1914, 22.7492,-157.9952, 4728,   4400,   4400.8,   1.4787,  34.6887,2,  34.6887,2,    150.4,2,  1.1158,    150.4,2,   150.06,2,    35.84,2,     2.53,2,  -999.0,-999.000
     33KI161_1,  PRS2,     2,  2,      1,     33,2,20040713,1914, 22.7492,-157.9952, 4728,   4804,   4804.2,   1.5140,  34.6899,2,  34.6901,2,    152.5,2,  1.1029,    156.9,4,   148.24,2,    35.58,2,     2.49,2,  -999.0,-999.000