BOTTLE,20010417WHPSIOKJU
EXPOCODE,SECT_ID,STNNBR,CASTNO,SAMPNO,BTLNBR,BTLNBR_FLAG_W,DATE,TIME,LATITUDE,LONGITUDE,DEPTH,CTDPRS,CTDTMP,CTDSAL,CTDSAL_FLAG_W,SALNTY,SALNTY_FLAG_W,OXYGEN,OXYGEN_FLAG_W,NITRAT,NITRAT_FLAG_W,NITRIT,NITRIT_FLAG_W,PHSPHT,PHSPHT_FLAG_W
,,,,,,,,,,,,DBAR,DEG C,PSS-78,,PSS-78,,UMOL/KG,,UMOL/KG,,UMOL/KG,,UMOL/KG,
    49SU9407_1,  PR17,SU4962,  3,     23,   -999,5,19940718,1412, 30.6538, 132.1557, 2470,      9.9,  29.9340,  34.6590,3,-999.0000,9,    189.0,3,     0.00,3,     0.00,3,     0.02,3
    49SU9407_1,  PR17,SU4962,  3,     22,   -999,5,19940718,1412, 30.6538, 132.1557, 2470,     24.8,  26.6840,  34.5451,3,-999.0000,9,    211.0,3,     0.00,3,     0.00,3,     0.03,3
    49SU9407_1,  PR17,SU4962,  3,     21,   -999,5,19940718,1412, 30.6538, 132.1557, 2470,     50.2,  24.3640,  34.7357,3,-999.0000,9,    206.0,3,     0.00,3,     0.02,3,     0.05,3
    49SU9407_1,  PR17,SU4962,  3,     20,   -999,5,19940718,1412, 30.6538, 132.1557, 2470,     74.8,  22.9430,  34.8232,3,-999.0000,9,    200.0,3,     0.90,3,     0.24,3,     0.11,3
    49SU9407_1,  PR17,SU4962,  3,     19,   -999,5,19940718,1412, 30.6538, 132.1557, 2470,    100.8,  21.4110,  34.8811,3,-999.0000,9,    203.0,3,     1.20,3,     0.08,3,     0.12,3
    49SU9407_1,  PR17,SU4962,  3,     18,   -999,5,19940718,1412, 30.6538, 132.1557, 2470,    126.4,  20.9230,  34.9258,3,-999.0000,9,    215.0,3,     0.40,3,     0.13,3,     0.06,3
    49SU9407_1,  PR17,SU4962,  3,     17,   -999,5,19940718,1412, 30.6538, 132.1557, 2470,    151.8,  20.2580,  34.9140,3,-999.0000,9,    210.0,3,     1.30,3,     0.04,3,     0.12,3
    49SU9407_1,  PR17,SU4962,  3,     16,   -999,5,19940718,1412, 30.6538, 132.1557, 2470,    202.4,  19.4110,  34.8939,3,-999.0000,9,    205.0,3,     2.00,3,     0.02,3,     0.17,3
    49SU9407_1,  PR17,SU4962,  3,     15,   -999,5,19940718,1412, 30.6538, 132.1557, 2470,    251.7,  17.9570,  34.8090,3,-999.0000,9,    196.0,3,     4.30,3,     0.01,3,     0.33,3
    49SU9407_1,  PR17,SU4962,  3,     14,   -999,5,19940718,1412, 30.6538, 132.1557, 2470,    302.0,  16.9440,  34.7496,3,-999.0000,9,    192.0,3,     6.00,3,     0.00,3,     0.44,3
    49SU9407_1,  PR17,SU4962,  3,     13,   -999,5,19940718,1412, 30.6538, 132.1557, 2470,    404.5,  13.2380,  34.5063,3,-999.0000,9,    168.0,3,    14.40,3,     0.00,3,     1.03,3
    49SU9407_1,  PR17,SU4963,  2,      9,   -999,5,19940718,1811, 31.0122, 131.7173, 1460,    404.3,   8.4870,  34.2367,3,  34.2330,3,    142.0,3,    25.80,3,     0.01,3,     1.79,3
    49SU9407_1,  PR17,SU4963,  2,      8,   -999,5,19940718,1811, 31.0122, 131.7173, 1460,    504.2,   6.4820,  34.2589,3,  34.2525,3,    103.0,3,    33.40,3,     0.01,3,     2.31,3
    49SU9407_1,  PR17,SU4963,  2,      7,   -999,5,19940718,1811, 31.0122, 131.7173, 1460,    605.6,   5.1850,  34.2809,3,  34.2759,3,     80.0,3,    38.00,3,     0.00,3,     2.62,3
    49SU9407_1,  PR17,SU4963,  2,      6,   -999,5,19940718,1811, 31.0122, 131.7173, 1460,    707.0,   4.3510,  34.3365,3,  34.3287,3,     72.0,3,    40.20,3,     0.01,3,     2.77,3
    49SU9407_1,  PR17,SU4963,  2,      5,   -999,5,19940718,1811, 31.0122, 131.7173, 1460,    807.5,   3.9640,  34.3721,3,  34.3604,3,     72.0,3,    40.10,3,     0.01,3,     2.76,3
    49SU9407_1,  PR17,SU4963,  2,      4,   -999,5,19940718,1811, 31.0122, 131.7173, 1460,    908.7,   3.5960,  34.2229,3,  34.4051,3,     65.0,3,    41.90,3,     0.00,3,     2.88,3
    49SU9407_1,  PR17,SU4963,  2,      3,   -999,5,19940718,1811, 31.0122, 131.7173, 1460,   1008.8,   3.3490,  34.5138,3,  34.4311,3,     67.0,3,    42.20,3,     0.00,3,     2.88,3
    49SU9407_1,  PR17,SU4963,  2,      2,   -999,5,19940718,1811, 31.0122, 131.7173, 1460,   1212.5,   2.9960,  34.4813,3,  34.4755,3,     74.0,3,    42.20,3,     0.00,3,     2.87,3
    49SU9407_1,  PR17,SU4963,  2,      1,   -999,5,19940718,1811, 31.0122, 131.7173, 1460,   1408.5,   2.8380,  34.5031,3,  34.4964,3,     78.0,3,    42.10,3,     0.01,3,     2.85,3
    49SU9407_1,  PR17,SU4963,  3,     19,   -999,5,19940718,1856, 31.0273, 131.7228, 1450,     16.4,  32.7600,  32.1269,3,  34.4564,3,    199.0,3,     0.00,3,     0.00,3,     0.02,3
    49SU9407_1,  PR17,SU4963,  3,     18,   -999,5,19940718,1856, 31.0273, 131.7228, 1450,     25.0,  27.5080,  34.4316,3,  34.4321,3,    210.0,3,     0.00,3,     0.00,3,     0.02,3
    49SU9407_1,  PR17,SU4963,  3,     17,   -999,5,19940718,1856, 31.0273, 131.7228, 1450,     51.1,  26.1100,  34.5384,3,  34.4643,3,    212.0,3,     0.00,3,     0.00,3,     0.02,3
    49SU9407_1,  PR17,SU4963,  3,     16,   -999,5,19940718,1856, 31.0273, 131.7228, 1450,     76.2,  24.4400,  34.6880,3,  34.6863,3,    207.0,3,     0.40,3,     0.09,3,     0.07,3
    49SU9407_1,  PR17,SU4963,  3,     15,   -999,5,19940718,1856, 31.0273, 131.7228, 1450,    100.6,  22.8770,  34.7752,3,  34.7654,3,    204.0,3,     1.10,3,     0.21,3,     0.13,3
    49SU9407_1,  PR17,SU4963,  3,     14,   -999,5,19940718,1856, 31.0273, 131.7228, 1450,    125.3,  21.4590,  34.8044,3,  34.8015,3,    196.0,3,     2.40,3,     0.17,3,     0.23,3
    49SU9407_1,  PR17,SU4963,  3,     13,   -999,5,19940718,1856, 31.0273, 131.7228, 1450,    151.1,  19.8160,  34.7337,3,  34.7510,3,    184.0,3,     4.50,3,     0.08,3,     0.35,3
    49SU9407_1,  PR17,SU4963,  3,     12,   -999,5,19940718,1856, 31.0273, 131.7228, 1450,    202.1,  15.9290,  34.6505,3,  34.6472,3,    176.0,3,     9.60,3,     0.02,3,     0.66,3
    49SU9407_1,  PR17,SU4963,  3,     11,   -999,5,19940718,1856, 31.0273, 131.7228, 1450,    252.7,  14.5850,  34.5974,3,  34.5971,3,    180.0,3,    10.90,3,     0.00,3,     0.76,3
    49SU9407_1,  PR17,SU4963,  3,     10,   -999,5,19940718,1856, 31.0273, 131.7228, 1450,    303.6,  12.9240,  34.5001,3,  34.5009,3,    169.0,3,    15.00,3,     0.01,3,     1.05,3
    49SU9407_1,  PR17,SU4964,  2,      8,   -999,5,19940718,2050, 31.1702, 131.5112,  270,     10.2,  29.1890,  34.3284,3,-999.0000,9,    199.0,3,     0.00,3,     0.00,3,     0.02,3
    49SU9407_1,  PR17,SU4964,  2,      7,   -999,5,19940718,2050, 31.1702, 131.5112,  270,     25.5,  27.0160,  34.2721,3,-999.0000,9,    213.0,3,     0.00,3,     0.00,3,     0.03,3
    49SU9407_1,  PR17,SU4964,  2,      6,   -999,5,19940718,2050, 31.1702, 131.5112,  270,     51.8,  23.7230,  34.4822,3,-999.0000,9,    213.0,3,     0.10,3,     0.02,3,     0.06,3
    49SU9407_1,  PR17,SU4964,  2,      5,   -999,5,19940718,2050, 31.1702, 131.5112,  270,     75.7,  21.7590,  34.5425,3,-999.0000,9,    207.0,3,     1.20,3,     0.16,3,     0.16,3
    49SU9407_1,  PR17,SU4964,  2,      4,   -999,5,19940718,2050, 31.1702, 131.5112,  270,    100.3,  19.0680,  34.5862,3,-999.0000,9,    194.0,3,     4.30,3,     0.21,3,     0.37,3
    49SU9407_1,  PR17,SU4964,  2,      3,   -999,5,19940718,2050, 31.1702, 131.5112,  270,    126.3,  17.9830,  34.5663,3,-999.0000,9,    192.0,3,     5.70,3,     0.21,3,     0.46,3
    49SU9407_1,  PR17,SU4964,  2,      2,   -999,5,19940718,2050, 31.1702, 131.5112,  270,    151.8,  16.4590,  34.6022,3,-999.0000,9,    182.0,3,     8.50,3,     0.04,3,     0.64,3
    49SU9407_1,  PR17,SU4964,  2,      1,   -999,5,19940718,2050, 31.1702, 131.5112,  270,    206.8,  14.5250,  34.5829,3,-999.0000,9,    179.0,3,    11.30,3,     0.00,3,     0.82,3