BOTTLE,20010417WHPSIOKJU
#code : jjward hyd_to_exchange.pl 
#original files copied from HTML directory: 20010417
#original HYD file: pr17_ohy.txt   Tue Apr 17 14:58:56 2001
#original SUM file: pr17_osu.txt   Tue Apr 17 14:55:07 2001
#Station/cast: SU4959/1,SU4960/1,SU4961/1,SU4962/1, SU4963/1, SU4964/1.Deleted from exchange file due to missing navigation data.
EXPOCODE,SECT_ID,STNNBR,CASTNO,SAMPNO,BTLNBR,BTLNBR_FLAG_W,DATE,TIME,LATITUDE,LONGITUDE,DEPTH,CTDPRS,CTDTMP,CTDSAL,CTDSAL_FLAG_W,SALNTY,SALNTY_FLAG_W,OXYGEN,OXYGEN_FLAG_W,NITRAT,NITRAT_FLAG_W,NITRIT,NITRIT_FLAG_W,PHSPHT,PHSPHT_FLAG_W
,,,,,,,,,,,,DBAR,DEG C,PSS-78,,PSS-78,,UMOL/KG,,UMOL/KG,,UMOL/KG,,UMOL/KG,
    49SU9407_1,  PR17,SU4959,  2,      8,   -999,5,19940717,1741, 29.4943, 133.5202, 2760,   1212.1,   3.4340,  34.4298,3,-999.0000,9,     64.0,3,    42.50,3,     0.00,3,     2.91,3
    49SU9407_1,  PR17,SU4959,  2,      7,   -999,5,19940717,1741, 29.4943, 133.5202, 2760,   1413.6,   2.8630,  34.5006,3,-999.0000,9,     76.0,3,    42.30,3,     0.00,3,     2.88,3
    49SU9407_1,  PR17,SU4959,  2,      6,   -999,5,19940717,1741, 29.4943, 133.5202, 2760,   1617.6,   2.5560,  34.5367,3,-999.0000,9,     86.0,3,    42.10,3,     0.00,3,     2.87,3
    49SU9407_1,  PR17,SU4959,  2,      5,   -999,5,19940717,1741, 29.4943, 133.5202, 2760,   1820.5,   2.3670,  34.5634,3,-999.0000,9,     94.0,3,    41.40,3,     0.00,3,     2.81,3
    49SU9407_1,  PR17,SU4959,  2,      4,   -999,5,19940717,1741, 29.4943, 133.5202, 2760,   2025.8,   2.1420,  34.5941,3,-999.0000,9,    105.0,3,    41.00,3,     0.00,3,     2.77,3
    49SU9407_1,  PR17,SU4959,  2,      3,   -999,5,19940717,1741, 29.4943, 133.5202, 2760,   2226.6,   1.9710,  34.6197,3,-999.0000,9,    116.0,3,    40.60,3,     0.00,3,     2.72,3
    49SU9407_1,  PR17,SU4959,  2,      2,   -999,5,19940717,1741, 29.4943, 133.5202, 2760,   2430.8,   1.8580,  34.6358,3,-999.0000,9,    124.0,3,    40.00,3,     0.00,3,     2.68,3
    49SU9407_1,  PR17,SU4959,  2,      1,   -999,5,19940717,1741, 29.4943, 133.5202, 2760,   2646.0,   1.7300,  34.6530,3,-999.0000,9,    133.0,3,    39.30,3,     0.00,3,     2.64,3
    49SU9407_1,  PR17,SU4959,  3,     14,   -999,5,19940717,1851, 29.4873, 133.5232, 2760,    503.1,  14.2190,  34.5745,3,-999.0000,9,    183.0,3,    11.20,3,     0.00,3,     0.84,3
    49SU9407_1,  PR17,SU4959,  3,     13,   -999,5,19940717,1851, 29.4873, 133.5232, 2760,    605.0,  11.1690,  34.3587,3,-999.0000,9,    173.0,3,    17.90,3,     0.00,3,     1.30,3
    49SU9407_1,  PR17,SU4959,  3,     12,   -999,5,19940717,1851, 29.4873, 133.5232, 2760,    705.7,   8.8500,  34.2526,3,-999.0000,9,    150.0,3,    24.70,3,     0.00,3,     1.76,3
    49SU9407_1,  PR17,SU4959,  3,     11,   -999,5,19940717,1851, 29.4873, 133.5232, 2760,    806.9,   6.9940,  34.1898,3,-999.0000,9,    123.0,3,    30.80,3,     0.00,3,     2.18,3
    49SU9407_1,  PR17,SU4959,  3,     10,   -999,5,19940717,1851, 29.4873, 133.5232, 2760,    907.8,   5.4460,  34.2636,3,-999.0000,9,     86.0,3,    37.40,3,     0.00,3,     2.62,3
    49SU9407_1,  PR17,SU4959,  3,      9,   -999,5,19940717,1851, 29.4873, 133.5232, 2760,   1015.6,   4.4110,  34.3355,3,-999.0000,9,     71.0,3,    40.50,3,     0.00,3,     2.81,3
    49SU9407_1,  PR17,SU4959,  4,     25,   -999,5,19940717,1927, 29.4813, 133.5218, 2790,      9.1,  29.1880,  34.5039,3,-999.0000,9,    202.0,3,     0.00,3,     0.00,3,     0.04,3
    49SU9407_1,  PR17,SU4959,  4,     24,   -999,5,19940717,1927, 29.4813, 133.5218, 2790,     25.5,  26.7030,  34.7157,3,-999.0000,9,    213.0,3,     0.00,3,     0.00,3,     0.03,3
    49SU9407_1,  PR17,SU4959,  4,     23,   -999,5,19940717,1927, 29.4813, 133.5218, 2790,     50.6,  23.7590,  34.8970,3,-999.0000,9,    228.0,3,     0.00,3,     0.00,3,     0.03,3
    49SU9407_1,  PR17,SU4959,  4,     22,   -999,5,19940717,1927, 29.4813, 133.5218, 2790,     75.5,  22.0180,  34.9440,3,-999.0000,9,    231.0,3,     0.00,3,     0.01,3,     0.04,3
    49SU9407_1,  PR17,SU4959,  4,     21,   -999,5,19940717,1927, 29.4813, 133.5218, 2790,    100.8,  20.7300,  34.9691,3,-999.0000,9,    233.0,3,     0.00,3,     0.00,3,     0.04,3
    49SU9407_1,  PR17,SU4959,  4,     20,   -999,5,19940717,1927, 29.4813, 133.5218, 2790,    126.3,  19.4760,  34.9463,3,-999.0000,9,    221.0,3,     0.20,3,     0.15,3,     0.07,3
    49SU9407_1,  PR17,SU4959,  4,     19,   -999,5,19940717,1927, 29.4813, 133.5218, 2790,    151.2,  18.9270,  34.9232,3,-999.0000,9,    215.0,3,     1.20,3,     0.07,3,     0.15,3
    49SU9407_1,  PR17,SU4959,  4,     18,   -999,5,19940717,1927, 29.4813, 133.5218, 2790,    202.1,  18.3420,  34.8927,3,-999.0000,9,    216.0,3,     2.10,3,     0.01,3,     0.21,3
    49SU9407_1,  PR17,SU4959,  4,     17,   -999,5,19940717,1927, 29.4813, 133.5218, 2790,    252.5,  18.0020,  34.8659,3,-999.0000,9,   -999.0,5,     2.40,3,     0.02,3,     0.23,3
    49SU9407_1,  PR17,SU4959,  4,     16,   -999,5,19940717,1927, 29.4813, 133.5218, 2790,    302.5,  17.3830,  34.8114,3,-999.0000,9,    210.0,3,     3.70,3,     0.01,3,     0.31,3
    49SU9407_1,  PR17,SU4959,  4,     15,   -999,5,19940717,1927, 29.4813, 133.5218, 2790,    408.4,  15.9530,  34.6889,3,-999.0000,9,    192.0,3,     7.40,3,     0.00,3,     0.58,3
    49SU9407_1,  PR17,SU4960,  2,     11,   -999,5,19940718,0118, 29.9482, 132.9775, 3760,   1618.1,   2.6280,  34.5306,3,  34.5259,3,     85.0,3,    42.30,3,     0.00,3,     2.89,3
    49SU9407_1,  PR17,SU4960,  2,     10,   -999,5,19940718,0118, 29.9482, 132.9775, 3760,   1820.7,   2.3510,  34.5644,3,  34.5597,3,     93.0,3,    41.90,3,     0.00,3,     2.85,3
    49SU9407_1,  PR17,SU4960,  2,      9,   -999,5,19940718,0118, 29.9482, 132.9775, 3760,   2023.3,   2.1360,  34.5944,3,  34.5900,3,    107.0,3,    41.40,3,     0.00,3,     2.79,3
    49SU9407_1,  PR17,SU4960,  2,      8,   -999,5,19940718,0118, 29.9482, 132.9775, 3760,   2226.3,   1.9760,  34.6182,3,  34.6105,3,    118.0,3,    40.60,3,     0.00,3,     2.74,3
    49SU9407_1,  PR17,SU4960,  2,      7,   -999,5,19940718,0118, 29.9482, 132.9775, 3760,   2429.8,   1.8570,  34.6361,3,  34.6305,3,    126.0,3,    40.00,3,     0.00,3,     2.69,3
    49SU9407_1,  PR17,SU4960,  2,      6,   -999,5,19940718,0118, 29.9482, 132.9775, 3760,   2633.4,   1.7620,  34.6494,3,  34.6452,3,    133.0,3,    39.50,3,     0.00,3,     2.66,3
    49SU9407_1,  PR17,SU4960,  2,      5,   -999,5,19940718,0118, 29.9482, 132.9775, 3760,   2838.6,   1.6760,  34.6611,3,  34.6541,3,    141.0,3,    39.00,3,     0.00,3,     2.61,3
    49SU9407_1,  PR17,SU4960,  2,      4,   -999,5,19940718,0118, 29.9482, 132.9775, 3760,   3041.4,   1.6090,  34.6710,3,  34.6658,3,   -999.0,9,    38.90,3,     0.00,3,     2.59,3
    49SU9407_1,  PR17,SU4960,  2,      3,   -999,5,19940718,0118, 29.9482, 132.9775, 3760,   3246.5,   1.5770,  34.6772,3,  34.6679,3,    147.0,3,    38.70,3,     0.00,3,     2.58,3
    49SU9407_1,  PR17,SU4960,  2,      2,   -999,5,19940718,0118, 29.9482, 132.9775, 3760,   3451.7,   1.5550,  34.6827,3,  34.6740,3,    150.0,3,    38.60,3,     0.00,3,     2.54,3
    49SU9407_1,  PR17,SU4960,  2,      1,   -999,5,19940718,0118, 29.9482, 132.9775, 3760,   3678.9,   1.5540,  34.6835,3,  34.6750,3,    153.0,3,    38.40,3,     0.00,3,     2.54,3
    49SU9407_1,  PR17,SU4960,  3,     20,   -999,5,19940718,0240, 29.9423, 132.9682, 3830,    402.0,  16.5990,  34.7487,3,  34.7441,3,    200.0,3,     5.80,3,     0.00,3,     0.46,3
    49SU9407_1,  PR17,SU4960,  3,     19,   -999,5,19940718,0240, 29.9423, 132.9682, 3830,    504.1,  14.5520,  34.5848,3,  34.5853,3,    187.0,3,    10.30,3,     0.00,3,     0.76,3
    49SU9407_1,  PR17,SU4960,  3,     18,   -999,5,19940718,0240, 29.9423, 132.9682, 3830,    604.7,  11.5430,  34.3658,3,  34.3624,3,    175.0,3,    16.80,3,     0.00,3,     1.21,3
    49SU9407_1,  PR17,SU4960,  3,     17,   -999,5,19940718,0240, 29.9423, 132.9682, 3830,    706.0,   9.1480,  34.2470,3,  34.2454,3,    151.0,3,    24.00,3,     0.00,3,     1.71,3
    49SU9407_1,  PR17,SU4960,  3,     16,   -999,5,19940718,0240, 29.9423, 132.9682, 3830,    807.4,   7.0840,  34.1990,3,  34.2033,3,    122.0,3,    30.50,3,     0.00,3,     2.16,3
    49SU9407_1,  PR17,SU4960,  3,     15,   -999,5,19940718,0240, 29.9423, 132.9682, 3830,    908.8,   5.8910,  34.2219,3,-999.0000,5,     95.0,3,    35.80,3,     0.00,3,     2.52,3
    49SU9407_1,  PR17,SU4960,  3,     14,   -999,5,19940718,0240, 29.9423, 132.9682, 3830,   1008.9,   4.8350,  34.2871,3,  34.2862,3,     77.0,3,    39.50,3,     0.00,3,     2.76,3
    49SU9407_1,  PR17,SU4960,  3,     13,   -999,5,19940718,0240, 29.9423, 132.9682, 3830,   1211.3,   3.5680,  34.4150,3,  34.4118,3,     67.0,3,    42.50,3,     0.00,3,     2.93,3
    49SU9407_1,  PR17,SU4960,  3,     12,   -999,5,19940718,0240, 29.9423, 132.9682, 3830,   1430.3,   2.9380,  34.4867,3,  34.4830,3,     74.0,3,    42.80,3,     0.00,3,     2.93,3
    49SU9407_1,  PR17,SU4960,  4,     30,   -999,5,19940718,0314, 29.9407, 132.9645, 3840,     10.0,  29.8780,  34.6010,3,  34.5983,3,    195.0,3,     0.00,3,     0.00,3,     0.04,3
    49SU9407_1,  PR17,SU4960,  4,     29,   -999,5,19940718,0314, 29.9407, 132.9645, 3840,     25.6,  27.0310,  34.6691,3,  34.6344,3,    211.0,3,     0.10,3,     0.00,3,     0.05,3
    49SU9407_1,  PR17,SU4960,  4,     28,   -999,5,19940718,0314, 29.9407, 132.9645, 3840,     51.5,  23.5130,  34.8192,3,  34.8134,3,    227.0,3,     0.30,3,     0.00,3,     0.06,3
    49SU9407_1,  PR17,SU4960,  4,     27,   -999,5,19940718,0314, 29.9407, 132.9645, 3840,     76.2,  21.1630,  34.9169,3,  34.9074,3,    226.0,3,     0.10,3,     0.00,3,     0.06,3
    49SU9407_1,  PR17,SU4960,  4,     26,   -999,5,19940718,0314, 29.9407, 132.9645, 3840,     99.9,  20.5030,  34.9396,3,  34.9403,3,    221.0,3,     0.10,3,     0.02,3,     0.07,3
    49SU9407_1,  PR17,SU4960,  4,     25,   -999,5,19940718,0314, 29.9407, 132.9645, 3840,    124.2,  20.0690,  34.9522,3,  34.9506,3,    215.0,3,     0.80,3,     0.10,3,     0.12,3
    49SU9407_1,  PR17,SU4960,  4,     24,   -999,5,19940718,0314, 29.9407, 132.9645, 3840,    151.0,  19.8420,  34.9379,3,  34.9368,3,    213.0,3,     1.10,3,     0.03,3,     0.14,3
    49SU9407_1,  PR17,SU4960,  4,     23,   -999,5,19940718,0314, 29.9407, 132.9645, 3840,    202.2,  19.1030,  34.9070,3,  34.9099,3,    213.0,3,     1.60,3,     0.01,3,     0.18,3
    49SU9407_1,  PR17,SU4960,  4,     22,   -999,5,19940718,0314, 29.9407, 132.9645, 3840,    252.8,  18.4540,  34.9017,3,  34.9012,3,    217.0,3,     1.90,3,     0.01,3,     0.20,3
    49SU9407_1,  PR17,SU4960,  4,     21,   -999,5,19940718,0314, 29.9407, 132.9645, 3840,    304.0,  17.9830,  34.8589,3,  34.8615,3,    213.0,3,     2.70,3,     0.00,3,     0.25,3
    49SU9407_1,  PR17,SU4961,  2,     11,   -999,5,19940718,0738, 30.2982, 132.5507, 3930,   1819.8,   2.3090,  34.5705,3,-999.0000,9,     98.0,3,    40.40,3,     0.00,3,     2.85,3
    49SU9407_1,  PR17,SU4961,  2,     10,   -999,5,19940718,0738, 30.2982, 132.5507, 3930,   2024.6,   2.1200,  34.6010,3,-999.0000,9,    109.0,3,    39.70,3,     0.00,3,     2.79,3
    49SU9407_1,  PR17,SU4961,  2,      9,   -999,5,19940718,0738, 30.2982, 132.5507, 3930,   2227.1,   1.9780,  34.6206,3,-999.0000,9,    120.0,3,    39.00,3,     0.00,3,     2.74,3
    49SU9407_1,  PR17,SU4961,  2,      8,   -999,5,19940718,0738, 30.2982, 132.5507, 3930,   2430.8,   1.8480,  34.6379,3,-999.0000,9,    126.0,3,    38.80,3,     0.00,3,     2.71,3
    49SU9407_1,  PR17,SU4961,  2,      7,   -999,5,19940718,0738, 30.2982, 132.5507, 3930,   2634.8,   1.7270,  34.6529,3,-999.0000,9,    135.0,3,    38.30,3,     0.00,3,     2.67,3
    49SU9407_1,  PR17,SU4961,  2,      6,   -999,5,19940718,0738, 30.2982, 132.5507, 3930,   2839.3,   1.6560,  34.6636,3,-999.0000,9,    140.0,3,    38.00,3,     0.00,3,     2.65,3
    49SU9407_1,  PR17,SU4961,  2,      5,   -999,5,19940718,0738, 30.2982, 132.5507, 3930,   3043.5,   1.5800,  34.6739,3,-999.0000,9,    148.0,3,    37.00,3,     0.00,3,     2.58,3
    49SU9407_1,  PR17,SU4961,  2,      4,   -999,5,19940718,0738, 30.2982, 132.5507, 3930,   3246.6,   1.5450,  34.6805,3,-999.0000,9,    150.0,3,    37.60,3,     0.00,3,     2.61,3
    49SU9407_1,  PR17,SU4961,  2,      3,   -999,5,19940718,0738, 30.2982, 132.5507, 3930,   3451.4,   1.5230,  34.6849,3,-999.0000,9,    153.0,3,    37.50,3,     0.00,3,     2.59,3
    49SU9407_1,  PR17,SU4961,  2,      2,   -999,5,19940718,0738, 30.2982, 132.5507, 3930,   3656.3,   1.5240,  34.6871,3,-999.0000,9,    155.0,3,    37.30,3,     0.00,3,     2.58,3
    49SU9407_1,  PR17,SU4961,  2,      1,   -999,5,19940718,0738, 30.2982, 132.5507, 3930,   3924.9,   1.5360,  34.6887,3,-999.0000,9,    158.0,3,    37.20,3,     0.00,3,     2.57,3
    49SU9407_1,  PR17,SU4961,  3,     21,   -999,5,19940718,0903, 30.3138, 132.5440, 3710,    403.6,  16.0200,  34.6998,3,-999.0000,9,    194.0,3,     7.10,3,     0.01,3,     0.55,3
    49SU9407_1,  PR17,SU4961,  3,     20,   -999,5,19940718,0903, 30.3138, 132.5440, 3710,    504.7,  13.2290,  34.4868,3,-999.0000,9,    185.0,3,    12.20,3,     0.00,3,     0.92,3
    49SU9407_1,  PR17,SU4961,  3,     19,   -999,5,19940718,0903, 30.3138, 132.5440, 3710,    605.7,  10.1460,  34.2737,3,-999.0000,9,    169.0,3,    19.60,3,     0.00,3,     1.45,3
    49SU9407_1,  PR17,SU4961,  3,     18,   -999,5,19940718,0903, 30.3138, 132.5440, 3710,    705.5,   7.8130,  34.1652,3,-999.0000,9,    143.0,3,    26.70,3,     0.00,3,     1.95,3
    49SU9407_1,  PR17,SU4961,  3,     17,   -999,5,19940718,0903, 30.3138, 132.5440, 3710,    807.5,   6.5730,  34.1735,3,-999.0000,9,    117.0,3,    31.70,3,     0.00,3,     2.29,3
    49SU9407_1,  PR17,SU4961,  3,     16,   -999,5,19940718,0903, 30.3138, 132.5440, 3710,    908.5,   5.2320,  34.2242,3,-999.0000,9,     90.0,3,    36.00,3,     0.00,3,     2.60,3
    49SU9407_1,  PR17,SU4961,  3,     15,   -999,5,19940718,0903, 30.3138, 132.5440, 3710,   1008.9,   4.4510,  34.3104,3,-999.0000,9,     70.0,3,    39.70,3,     0.00,3,     2.82,3
    49SU9407_1,  PR17,SU4961,  3,     14,   -999,5,19940718,0903, 30.3138, 132.5440, 3710,   1212.4,   3.4180,  34.4297,3,-999.0000,9,     68.0,3,    41.40,3,     0.00,3,     2.94,3
    49SU9407_1,  PR17,SU4961,  3,     13,   -999,5,19940718,0903, 30.3138, 132.5440, 3710,   1414.4,   2.9290,  34.4909,3,-999.0000,9,     78.0,3,    41.40,3,     0.00,3,     2.94,3
    49SU9407_1,  PR17,SU4961,  3,     12,   -999,5,19940718,0903, 30.3138, 132.5440, 3710,   1621.4,   2.5820,  34.5352,3,-999.0000,9,     89.0,3,    40.80,3,     0.00,3,     2.89,3
    49SU9407_1,  PR17,SU4961,  4,     31,   -999,5,19940718,0945, 30.3212, 132.5407, 4050,     10.6,  29.8930,  34.5813,3,-999.0000,9,    197.0,3,     0.00,3,     0.00,3,     0.03,3
    49SU9407_1,  PR17,SU4961,  4,     30,   -999,5,19940718,0945, 30.3212, 132.5407, 4050,     24.8,  27.3240,  34.5526,3,-999.0000,9,    209.0,3,     0.00,3,     0.00,3,     0.02,3
    49SU9407_1,  PR17,SU4961,  4,     29,   -999,5,19940718,0945, 30.3212, 132.5407, 4050,     51.1,  24.2240,  34.8111,3,-999.0000,9,    225.0,3,     0.00,3,     0.00,3,     0.02,3
    49SU9407_1,  PR17,SU4961,  4,     28,   -999,5,19940718,0945, 30.3212, 132.5407, 4050,     76.5,  22.0760,  34.8945,3,-999.0000,9,    226.0,3,     0.00,3,     0.00,3,     0.03,3
    49SU9407_1,  PR17,SU4961,  4,     27,   -999,5,19940718,0945, 30.3212, 132.5407, 4050,    101.3,  20.7630,  34.9023,3,-999.0000,9,    211.0,3,     0.90,3,     0.06,3,     0.11,3
    49SU9407_1,  PR17,SU4961,  4,     26,   -999,5,19940718,0945, 30.3212, 132.5407, 4050,    126.1,  20.4000,  34.9213,3,-999.0000,9,    215.0,3,     0.50,3,     0.23,3,     0.08,3
    49SU9407_1,  PR17,SU4961,  4,     25,   -999,5,19940718,0945, 30.3212, 132.5407, 4050,    152.7,  19.9310,  34.9191,3,-999.0000,9,    210.0,3,     1.30,3,     0.03,3,     0.13,3
    49SU9407_1,  PR17,SU4961,  4,     24,   -999,5,19940718,0945, 30.3212, 132.5407, 4050,    201.6,  19.0030,  34.8911,3,-999.0000,9,    208.0,3,     2.00,3,     0.01,3,     0.18,3
    49SU9407_1,  PR17,SU4961,  4,     23,   -999,5,19940718,0945, 30.3212, 132.5407, 4050,    252.5,  18.4320,  34.8909,3,-999.0000,9,    212.0,3,     2.20,3,     0.01,3,     0.21,3
    49SU9407_1,  PR17,SU4961,  4,     22,   -999,5,19940718,0945, 30.3212, 132.5407, 4050,    306.0,  17.7360,  34.8381,3,-999.0000,9,    208.0,3,     3.20,3,     0.01,3,     0.27,3
    49SU9407_1,  PR17,SU4962,  2,     12,   -999,5,19940718,1319, 30.6328, 132.1540, 2520,    503.8,  12.0280,  34.4495,3,-999.0000,9,    160.0,3,    17.20,3,     0.00,3,     1.23,3
    49SU9407_1,  PR17,SU4962,  2,     11,   -999,5,19940718,1319, 30.6328, 132.1540, 2520,    604.7,   9.6910,  34.3687,3,-999.0000,9,    139.0,3,    23.40,3,     0.00,3,     1.67,3
    49SU9407_1,  PR17,SU4962,  2,     10,   -999,5,19940718,1319, 30.6328, 132.1540, 2520,    706.8,   5.3430,  34.2332,3,-999.0000,9,     84.0,3,    36.40,3,     0.00,3,     2.59,3
    49SU9407_1,  PR17,SU4962,  2,      9,   -999,5,19940718,1319, 30.6328, 132.1540, 2520,    807.8,   4.4950,  34.2921,3,-999.0000,9,     74.0,3,    39.00,3,     0.00,3,     2.77,3
    49SU9407_1,  PR17,SU4962,  2,      8,   -999,5,19940718,1319, 30.6328, 132.1540, 2520,    908.8,   4.0090,  34.3469,3,-999.0000,9,   -999.0,5,  -999.00,5,  -999.00,5,  -999.00,5
    49SU9407_1,  PR17,SU4962,  2,      7,   -999,5,19940718,1319, 30.6328, 132.1540, 2520,   1009.9,   3.6940,  34.3992,3,-999.0000,9,     66.0,3,    40.80,3,     0.00,3,     2.87,3
    49SU9407_1,  PR17,SU4962,  2,      6,   -999,5,19940718,1319, 30.6328, 132.1540, 2520,   1211.6,   3.0530,  34.4747,3,-999.0000,9,     74.0,3,    40.60,3,     0.00,3,     2.86,3
    49SU9407_1,  PR17,SU4962,  2,      5,   -999,5,19940718,1319, 30.6328, 132.1540, 2520,   1412.9,   2.6930,  34.5211,3,-999.0000,9,     87.0,3,    39.70,3,     0.00,3,     2.79,3
    49SU9407_1,  PR17,SU4962,  2,      4,   -999,5,19940718,1319, 30.6328, 132.1540, 2520,   1617.3,   2.4350,  34.5534,3,-999.0000,9,     91.0,3,    40.60,3,     0.00,3,     2.82,3
    49SU9407_1,  PR17,SU4962,  2,      3,   -999,5,19940718,1319, 30.6328, 132.1540, 2520,   1819.2,   2.1640,  34.5894,3,-999.0000,9,    102.0,3,    39.60,3,     0.00,3,     2.74,3
    49SU9407_1,  PR17,SU4962,  2,      2,   -999,5,19940718,1319, 30.6328, 132.1540, 2520,   2022.6,   2.0180,  34.6114,3,-999.0000,9,    114.0,3,    39.40,3,     0.00,3,     2.71,3
    49SU9407_1,  PR17,SU4962,  2,      1,   -999,5,19940718,1319, 30.6328, 132.1540, 2520,   2247.0,   1.8930,  34.6292,3,-999.0000,9,    123.0,3,    38.90,3,     0.00,3,     2.67,3