BOTTLE,20020320WHPSIOKJU
EXPOCODE,SECT_ID,STNNBR,CASTNO,SAMPNO,BTLNBR,BTLNBR_FLAG_W,DATE,TIME,LATITUDE,LONGITUDE,DEPTH,CTDPRS,CTDTMP,CTDSAL,CTDSAL_FLAG_W,SALNTY,SALNTY_FLAG_W,CTDOXY,CTDOXY_FLAG_W,OXYGEN,OXYGEN_FLAG_W,SILCAT,SILCAT_FLAG_W,NITRAT,NITRAT_FLAG_W,NITRIT,NITRIT_FLAG_W,PHSPHT,PHSPHT_FLAG_W,REVPRS,REVPRS_FLAG_W,THETA,REVTMP,REVTMP_FLAG_W
,,,,,,,,,,,,DBAR,ITS-90,PSS-78,,PSS-78,,UMOL/KG,,UMOL/KG,,UMOL/KG,,UMOL/KG,,UMOL/KG,,UMOL/KG,,DBAR,,DEG C,ITS-90,
     64PE96N_1,  AR12,    99,  1,     20,   X046,2,19960713,2202, 47.4997,  -9.7502, 4232,      9.6,  15.9813,  35.6045,2,  35.6031,6,    260.0,2,    260.1,6,     0.76,2,     0.01,2,     0.04,2,     0.06,2,  -999.0,9, 15.9798,-999.000,9
     64PE96N_1,  AR12,    99,  1,     19,   X047,2,19960713,2202, 47.4997,  -9.7502, 4232,    205.8,  11.3640,  35.5611,2,  35.5607,2,    244.5,2,    243.7,2,     3.60,2,     9.76,2,     0.04,2,     0.59,2,  -999.0,9, 11.3379,-999.000,9
     64PE96N_1,  AR12,    99,  1,     18,   X014,4,19960713,2202, 47.4997,  -9.7502, 4232,    402.3,  10.8158,  35.4918,2,-999.0000,9,    242.3,2,   -999.0,9,    26.67,4,    19.15,4,     0.04,4,     1.25,4,  -999.0,9, 10.7660,-999.000,9
     64PE96N_1,  AR12,    99,  1,     17,   X032,2,19960713,2202, 47.4997,  -9.7502, 4232,    604.1,  10.1910,  35.4562,2,  35.4556,2,    237.8,3,    219.2,2,     6.52,2,    14.34,2,     0.03,2,     0.88,2,  -999.0,9, 10.1182,-999.000,9
     64PE96N_1,  AR12,    99,  1,     16,   X026,2,19960713,2202, 47.4997,  -9.7502, 4232,    706.6,  10.1221,  35.5409,2,-999.0000,9,    221.3,2,   -999.0,9,     7.53,2,    15.27,2,     0.04,2,     0.94,2,  -999.0,9, 10.0368,-999.000,9
     64PE96N_1,  AR12,    99,  1,     15,   X059,4,19960713,2202, 47.4997,  -9.7502, 4232,    807.6,  10.0231,  35.6214,2,  35.5779,4,    207.9,2,    216.6,4,     6.26,4,    13.02,4,     0.04,4,     0.80,4,  -999.0,9,  9.9256,-999.000,9
     64PE96N_1,  AR12,    99,  1,     14,   X025,2,19960713,2202, 47.4997,  -9.7502, 4232,    908.9,   9.5803,  35.6312,2,-999.0000,9,    194.5,2,   -999.0,9,     9.45,2,    17.01,2,     0.04,2,     1.05,2,  -999.0,9,  9.4729,-999.000,9
     64PE96N_1,  AR12,    99,  1,     13,   X058,2,19960713,2202, 47.4997,  -9.7502, 4232,   1011.2,   8.8523,  35.5721,2,  35.5739,2,    194.7,2,    194.8,2,    10.20,2,    17.52,2,     0.05,2,     1.09,2,  -999.0,9,  8.7375,-999.000,9
     64PE96N_1,  AR12,    99,  1,     12,   X015,2,19960713,2202, 47.4997,  -9.7502, 4232,   1263.6,   7.3324,  35.4289,2,-999.0000,9,    197.4,3,   -999.0,9,    11.77,2,    18.08,2,     0.04,2,     1.14,2,  -999.0,9,  7.2012,-999.000,9
     64PE96N_1,  AR12,    99,  1,     11,   X034,2,19960713,2202, 47.4997,  -9.7502, 4232,   1517.9,   5.5836,  35.1890,2,  35.2089,4,    212.4,3,    233.0,2,    12.86,2,    18.20,2,     0.04,2,     1.17,2,  -999.0,9,  5.4433,-999.000,9
     64PE96N_1,  AR12,    99,  1,     10,   X023,2,19960713,2202, 47.4997,  -9.7502, 4232,   1771.1,   4.3653,  35.0492,2,-999.0000,9,    232.6,3,   -999.0,9,    16.20,2,    18.36,2,     0.03,2,     1.20,2,  -999.0,9,  4.2148,-999.000,9
     64PE96N_1,  AR12,    99,  1,      9,   X035,4,19960713,2202, 47.4997,  -9.7502, 4232,   2026.8,   3.6612,  34.9955,2,  35.0728,4,    246.8,2,    247.0,4,    19.05,4,    18.33,4,     0.03,4,     1.20,4,  -999.0,9,  3.4960,-999.000,9
     64PE96N_1,  AR12,    99,  1,      8,   X044,2,19960713,2202, 47.4997,  -9.7502, 4232,   2238.8,   3.3041,  34.9783,2,-999.0000,9,    247.8,2,   -999.0,9,    27.15,2,    20.05,2,     0.05,2,     1.32,2,  2282.9,4,  3.1241,   3.260,4
     64PE96N_1,  AR12,    99,  1,      7,   X011,2,19960713,2202, 47.4997,  -9.7502, 4232,   2537.2,   3.0141,  34.9598,2,  34.9603,2,    243.8,2,    245.9,2,    31.21,2,    20.68,2,     0.03,2,     1.37,2,  -999.0,9,  2.8102,-999.000,9
     64PE96N_1,  AR12,    99,  1,      6,   X061,2,19960713,2202, 47.4997,  -9.7502, 4232,   2785.5,   2.8454,  34.9464,2,-999.0000,9,    242.8,2,   -999.0,9,    34.20,2,    21.04,2,     0.04,2,     1.40,2,  -999.0,9,  2.6199,   2.847,6
     64PE96N_1,  AR12,    99,  1,      5,   X057,4,19960713,2202, 47.4997,  -9.7502, 4232,   3047.3,   2.7175,  34.9350,2,  34.9943,4,    241.6,2,    241.1,4,    32.59,4,    20.74,4,     0.02,4,     1.36,4,  -999.0,9,  2.4679,-999.000,9
     64PE96N_1,  AR12,    99,  1,      4,   X031,2,19960713,2202, 47.4997,  -9.7502, 4232,   3302.6,   2.6353,  34.9269,2,-999.0000,9,    240.8,2,   -999.0,9,    38.16,2,    21.70,2,     0.04,2,     1.45,2,  -999.0,9,  2.3608,   2.632,6
     64PE96N_1,  AR12,    99,  1,      3,   X021,2,19960713,2202, 47.4997,  -9.7502, 4232,   3558.6,   2.5707,  34.9192,2,  34.9178,2,    239.9,2,    241.5,2,    40.15,2,    22.01,2,     0.03,2,     1.48,2,  -999.0,9,  2.2700,-999.000,9
     64PE96N_1,  AR12,    99,  1,      2,   X056,2,19960713,2202, 47.4997,  -9.7502, 4232,   4072.8,   2.4942,  34.9070,2,-999.0000,9,    238.4,2,   -999.0,9,    42.54,2,    22.40,2,     0.05,2,     1.50,2,  4073.4,6,  2.1376,   2.495,2
     64PE96N_1,  AR12,    99,  1,      1,   X051,2,19960713,2202, 47.4997,  -9.7502, 4232,   4336.4,   2.4896,  34.9030,2,  34.9014,6,    236.1,2,    234.8,6,    44.72,2,    22.52,2,     0.04,2,     1.52,2,  -999.0,9,  2.1022,-999.000,9