BOTTLE,20020320WHPSIOKJU
EXPOCODE,SECT_ID,STNNBR,CASTNO,SAMPNO,BTLNBR,BTLNBR_FLAG_W,DATE,TIME,LATITUDE,LONGITUDE,DEPTH,CTDPRS,CTDTMP,CTDSAL,CTDSAL_FLAG_W,SALNTY,SALNTY_FLAG_W,CTDOXY,CTDOXY_FLAG_W,OXYGEN,OXYGEN_FLAG_W,SILCAT,SILCAT_FLAG_W,NITRAT,NITRAT_FLAG_W,NITRIT,NITRIT_FLAG_W,PHSPHT,PHSPHT_FLAG_W,REVPRS,REVPRS_FLAG_W,THETA,REVTMP,REVTMP_FLAG_W
,,,,,,,,,,,,DBAR,ITS-90,PSS-78,,PSS-78,,UMOL/KG,,UMOL/KG,,UMOL/KG,,UMOL/KG,,UMOL/KG,,UMOL/KG,,DBAR,,DEG C,ITS-90,
     64PE96N_1,  AR12,    25,  1,     24,   X051,2,19960624,1952, 46.0002,  -7.3345, 4758,     10.0,  17.3761,  35.6893,2,  35.6905,2,    246.5,2,    246.6,6,     1.24,2,     0.01,2,     0.03,2,     0.07,2,  -999.0,9, 17.3744,-999.000,9
     64PE96N_1,  AR12,    25,  1,     23,   X050,2,19960624,1952, 46.0002,  -7.3345, 4758,    101.2,  12.1388,  35.6264,2,  35.6286,2,    245.1,2,    242.1,2,     2.31,2,     6.56,2,     0.04,2,     0.39,2,  -999.0,9, 12.1254,-999.000,9
     64PE96N_1,  AR12,    25,  1,     22,   X049,2,19960624,1952, 46.0002,  -7.3345, 4758,    202.3,  11.6505,  35.5872,2,  35.5824,2,    246.2,2,   -999.0,9,     2.74,2,     7.91,2,     0.04,2,     0.48,2,  -999.0,9, 11.6244,-999.000,9
     64PE96N_1,  AR12,    25,  1,     21,   X048,2,19960624,1952, 46.0002,  -7.3345, 4758,    303.0,  11.3058,  35.5675,2,-999.0000,9,    234.2,2,    235.4,2,     3.33,2,     9.38,2,     0.04,2,     0.57,2,  -999.0,9, 11.2673,-999.000,9
     64PE96N_1,  AR12,    25,  1,     20,   X047,2,19960624,1952, 46.0002,  -7.3345, 4758,    403.9,  10.9933,  35.5469,2,-999.0000,9,    228.6,2,   -999.0,9,     4.69,2,    12.21,2,     0.02,2,     0.74,2,  -999.0,9, 10.9428,-999.000,9
     64PE96N_1,  AR12,    25,  1,     19,   X046,2,19960624,1952, 46.0002,  -7.3345, 4758,    504.1,  10.7133,  35.5443,2,  35.5455,2,    221.1,2,    217.9,2,     5.70,2,    13.47,2,     0.02,2,     0.82,2,  -999.0,9, 10.6509,-999.000,9
     64PE96N_1,  AR12,    25,  1,     18,   X014,2,19960624,1952, 46.0002,  -7.3345, 4758,    604.8,  10.4837,  35.5769,2,-999.0000,9,    209.1,2,   -999.0,9,     6.92,2,    14.85,2,     0.03,2,     0.91,2,  -999.0,9, 10.4095,-999.000,9
     64PE96N_1,  AR12,    25,  1,     17,   X026,2,19960624,1952, 46.0002,  -7.3345, 4758,    807.3,  10.2034,  35.7139,2,  35.7221,4,    193.8,2,   -999.0,9,     8.62,2,    16.35,2,     0.01,2,     1.01,2,  -999.0,9, 10.1048,-999.000,9
     64PE96N_1,  AR12,    25,  1,     16,   X032,2,19960624,1952, 46.0002,  -7.3345, 4758,   1010.5,   9.7985,  35.8016,2,-999.0000,9,    190.7,2,   -999.0,9,     9.76,2,    16.86,2,     0.02,2,     1.04,2,  -999.0,9,  9.6767,-999.000,9
     64PE96N_1,  AR12,    25,  1,     15,   X007,2,19960624,1952, 46.0002,  -7.3345, 4758,   1263.4,   7.8561,  35.5438,2,  35.5442,2,    206.2,2,    205.8,2,    11.75,2,    17.71,2,     0.01,2,     1.12,2,  -999.0,9,  7.7199,-999.000,9
     64PE96N_1,  AR12,    25,  1,     14,   X025,2,19960624,1952, 46.0002,  -7.3345, 4758,   1518.1,   5.7743,  35.2390,2,-999.0000,9,    230.0,2,   -999.0,9,    13.38,2,    18.28,2,     0.01,2,     1.18,2,  -999.0,9,  5.6318,-999.000,9
     64PE96N_1,  AR12,    25,  1,     13,   X009,2,19960624,1952, 46.0002,  -7.3345, 4758,   1772.0,   4.3976,  35.0609,2,  35.0588,2,    246.4,2,    248.3,2,    16.87,2,    18.50,2,     0.01,2,     1.22,2,  -999.0,9,  4.2465,-999.000,9
     64PE96N_1,  AR12,    25,  1,     12,   X045,2,19960624,1952, 46.0002,  -7.3345, 4758,   2026.0,   3.7566,  35.0067,2,-999.0000,9,    248.8,2,   -999.0,9,    20.77,2,    19.00,2,     0.00,2,     1.26,2,  -999.0,9,  3.5900,-999.000,9
     64PE96N_1,  AR12,    25,  1,     11,   X024,2,19960624,1952, 46.0002,  -7.3345, 4758,   2280.4,   3.4412,  34.9924,2,  34.9932,2,    245.5,2,    246.5,2,    26.12,2,    19.76,2,     0.01,2,     1.32,2,  -999.0,9,  3.2548,-999.000,9
     64PE96N_1,  AR12,    25,  1,     10,   X023,2,19960624,1952, 46.0002,  -7.3345, 4758,   2536.6,   3.1356,  34.9701,2,-999.0000,9,    244.0,2,   -999.0,9,    30.46,2,    20.44,2,     0.00,2,     1.38,2,  -999.0,9,  2.9294,-999.000,9
     64PE96N_1,  AR12,    25,  1,      9,   X008,2,19960624,1952, 46.0002,  -7.3345, 4758,   2791.3,   2.9328,  34.9533,2,  34.9527,2,    243.8,2,    243.9,2,    32.81,2,    20.88,2,     0.01,2,     1.41,2,  -999.0,9,  2.7049,-999.000,9
     64PE96N_1,  AR12,    25,  1,      8,   X044,2,19960624,1952, 46.0002,  -7.3345, 4758,   3049.0,   2.7847,  34.9406,2,-999.0000,9,    242.6,2,   -999.0,9,    35.40,2,    21.12,2,     0.00,2,     1.44,2,  -999.0,9,  2.5334,-999.000,9
     64PE96N_1,  AR12,    25,  1,      7,   X043,2,19960624,1952, 46.0002,  -7.3345, 4758,   3302.7,   2.6579,  34.9290,2,  34.9289,2,    241.5,2,    241.4,2,    37.83,2,    21.62,2,     0.01,2,     1.46,2,  -999.0,9,  2.3828,-999.000,9
     64PE96N_1,  AR12,    25,  1,      6,   X030,2,19960624,1952, 46.0002,  -7.3345, 4758,   3558.7,   2.5764,  34.9203,2,-999.0000,9,    240.4,2,   -999.0,9,    39.67,2,    21.85,2,     0.01,2,     1.48,2,  -999.0,9,  2.2756,-999.000,9
     64PE96N_1,  AR12,    25,  1,      5,   X001,2,19960624,1952, 46.0002,  -7.3345, 4758,   3815.5,   2.5261,  34.9132,2,  34.9121,2,    239.9,2,    239.9,2,    41.36,2,    22.04,2,     0.00,2,     1.50,2,  -999.0,9,  2.1980,-999.000,9
     64PE96N_1,  AR12,    25,  1,      4,   X031,2,19960624,1952, 46.0002,  -7.3345, 4758,   4071.3,   2.5027,  34.9081,2,-999.0000,9,    239.7,2,   -999.0,9,    42.35,2,    22.23,2,     0.01,2,     1.50,2,  -999.0,9,  2.1461,-999.000,9
     64PE96N_1,  AR12,    25,  1,      3,   X042,2,19960624,1952, 46.0002,  -7.3345, 4758,   4328.1,   2.4917,  34.9038,2,  34.9022,2,    239.1,2,    240.2,2,    43.80,2,    22.37,2,     0.00,2,     1.52,2,  -999.0,9,  2.1052,-999.000,9
     64PE96N_1,  AR12,    25,  1,      2,   X019,2,19960624,1952, 46.0002,  -7.3345, 4758,   4586.7,   2.4998,  34.9010,2,-999.0000,9,    237.4,2,   -999.0,9,    44.49,2,    22.52,2,     0.00,2,     1.53,2,  -999.0,9,  2.0818,-999.000,9
     64PE96N_1,  AR12,    25,  1,      1,   X041,4,19960624,1952, 46.0002,  -7.3345, 4758,   4873.9,   2.5275,  34.8998,2,  35.5254,4,    238.0,2,    229.9,4,     7.28,4,    11.21,4,     0.02,4,     0.70,4,  -999.0,9,  2.0730,-999.000,9
     64PE96N_1,  AR12,    26,  1,     24,   X051,2,19960625,0203, 45.9993,  -7.9993, 4783,     10.2,  16.8645,  35.6336,2,  35.6347,2,    247.4,2,    247.4,2,     0.31,2,     0.06,2,     0.02,2,     0.08,2,  -999.0,9, 16.8628,-999.000,9
     64PE96N_1,  AR12,    26,  1,     23,   X050,2,19960625,0203, 45.9993,  -7.9993, 4783,    101.0,  12.2508,  35.5924,2,  35.5951,2,    246.4,2,    243.9,2,     1.95,2,     5.45,2,     0.11,2,     0.33,2,  -999.0,9, 12.2374,-999.000,9
     64PE96N_1,  AR12,    26,  1,     22,   X049,2,19960625,0203, 45.9993,  -7.9993, 4783,    201.9,  11.4564,  35.5709,2,-999.0000,9,    248.4,2,   -999.0,9,     3.19,2,     8.89,2,     0.04,2,     0.54,2,  -999.0,9, 11.4306,-999.000,9
     64PE96N_1,  AR12,    26,  1,     21,   X048,2,19960625,0203, 45.9993,  -7.9993, 4783,    302.8,  11.2660,  35.5530,2,  35.5530,2,    242.0,2,    241.9,2,     3.72,2,    10.20,2,     0.03,2,     0.62,2,  -999.0,9, 11.2276,-999.000,9
     64PE96N_1,  AR12,    26,  1,     20,   X047,2,19960625,0203, 45.9993,  -7.9993, 4783,    401.5,  11.0688,  35.5342,2,-999.0000,9,    231.7,2,   -999.0,9,     4.38,2,    11.67,2,     0.03,2,     0.71,2,  -999.0,9, 11.0184,-999.000,9
     64PE96N_1,  AR12,    26,  1,     19,   X046,2,19960625,0203, 45.9993,  -7.9993, 4783,    605.9,  10.4347,  35.4939,2,  35.4948,2,    222.3,2,    220.4,2,     5.82,2,    13.92,2,     0.02,2,     0.85,2,  -999.0,9, 10.3606,-999.000,9
     64PE96N_1,  AR12,    26,  1,     18,   X014,2,19960625,0203, 45.9993,  -7.9993, 4783,    808.5,  10.1587,  35.6336,2,-999.0000,9,    196.7,2,   -999.0,9,     8.24,2,    16.39,2,     0.02,2,     1.01,2,  -999.0,9, 10.0603,-999.000,9
     64PE96N_1,  AR12,    26,  1,     17,   X026,2,19960625,0203, 45.9993,  -7.9993, 4783,   1011.0,   9.3963,  35.6940,2,  35.6975,2,    192.8,2,    190.7,2,    10.07,2,    17.32,2,     0.03,2,     1.07,2,  -999.0,9,  9.2775,-999.000,9
     64PE96N_1,  AR12,    26,  1,     16,   X032,2,19960625,0203, 45.9993,  -7.9993, 4783,   1263.5,   7.6039,  35.5001,2,-999.0000,9,    206.2,2,   -999.0,9,    11.85,2,    18.15,2,     0.01,2,     1.14,2,  -999.0,9,  7.4701,-999.000,9
     64PE96N_1,  AR12,    26,  1,     15,   X007,2,19960625,0203, 45.9993,  -7.9993, 4783,   1503.4,   5.5348,  35.1822,2,  35.1800,2,    232.3,2,    234.5,2,    12.88,2,    18.50,2,     0.02,2,     1.19,2,  -999.0,9,  5.3966,-999.000,9
     64PE96N_1,  AR12,    26,  1,     14,   X025,2,19960625,0203, 45.9993,  -7.9993, 4783,   1772.2,   4.2113,  35.0067,2,-999.0000,9,    252.4,2,   -999.0,9,    13.66,2,    18.26,2,     0.00,2,     1.19,2,  -999.0,9,  4.0628,-999.000,9
     64PE96N_1,  AR12,    26,  1,     13,   X009,2,19960625,0203, 45.9993,  -7.9993, 4783,   2026.6,   3.9575,  35.0101,2,  35.0092,2,    249.5,2,    253.3,2,    17.45,2,    18.74,2,     0.01,2,     1.23,2,  -999.0,9,  3.7879,-999.000,9
     64PE96N_1,  AR12,    26,  1,     12,   X045,2,19960625,0203, 45.9993,  -7.9993, 4783,   2279.7,   3.5379,  34.9866,2,-999.0000,9,    247.9,2,   -999.0,9,    21.96,2,    19.29,2,     0.01,2,     1.28,2,  -999.0,9,  3.3500,-999.000,9
     64PE96N_1,  AR12,    26,  1,     11,   X024,2,19960625,0203, 45.9993,  -7.9993, 4783,   2537.3,   3.2124,  34.9726,2,  34.9729,2,    243.2,2,    246.3,2,    28.27,2,    20.35,2,     0.00,2,     1.35,2,  -999.0,9,  3.0047,-999.000,9
     64PE96N_1,  AR12,    26,  1,     10,   X023,2,19960625,0203, 45.9993,  -7.9993, 4783,   2792.4,   2.9656,  34.9549,2,-999.0000,9,    242.1,2,   -999.0,9,    32.15,2,    20.85,2,     0.00,2,     1.39,2,  -999.0,9,  2.7369,-999.000,9
     64PE96N_1,  AR12,    26,  1,      9,   X008,2,19960625,0203, 45.9993,  -7.9993, 4783,   3046.8,   2.8063,  34.9429,2,  34.9439,2,    241.7,2,    243.9,2,    33.94,2,    21.16,2,     0.00,2,     1.41,2,  -999.0,9,  2.5548,-999.000,9
     64PE96N_1,  AR12,    26,  1,      8,   X044,2,19960625,0203, 45.9993,  -7.9993, 4783,   3296.7,   2.6808,  34.9318,2,-999.0000,9,    240.2,2,   -999.0,9,    36.75,2,    21.64,2,     0.00,2,     1.44,2,  -999.0,9,  2.4058,-999.000,9
     64PE96N_1,  AR12,    26,  1,      7,   X043,2,19960625,0203, 45.9993,  -7.9993, 4783,   3560.0,   2.6031,  34.9228,2,  34.9227,2,    238.7,2,    241.2,2,    39.32,2,    21.88,2,     0.00,2,     1.47,2,  -999.0,9,  2.3014,-999.000,9
     64PE96N_1,  AR12,    26,  1,      6,   X030,2,19960625,0203, 45.9993,  -7.9993, 4783,   3814.1,   2.5546,  34.9160,2,-999.0000,9,    237.7,2,   -999.0,9,    40.92,2,    22.24,2,     0.00,2,     1.49,2,  -999.0,9,  2.2259,-999.000,9
     64PE96N_1,  AR12,    26,  1,      5,   X001,2,19960625,0203, 45.9993,  -7.9993, 4783,   4073.9,   2.5275,  34.9105,2,  34.9102,2,    237.2,2,    239.4,2,    42.25,2,    22.35,2,     0.00,2,     1.49,2,  -999.0,9,  2.1698,-999.000,9
     64PE96N_1,  AR12,    26,  1,      4,   X031,2,19960625,0203, 45.9993,  -7.9993, 4783,   4322.5,   2.5104,  34.9058,2,-999.0000,9,    236.8,2,   -999.0,9,    42.68,2,    22.45,2,     0.00,2,     1.50,2,  -999.0,9,  2.1240,-999.000,9
     64PE96N_1,  AR12,    26,  1,      3,   X042,2,19960625,0203, 45.9993,  -7.9993, 4783,   4585.1,   2.5087,  34.9021,2,  34.9020,2,    236.1,2,    238.2,2,    44.30,2,    22.62,2,     0.00,2,     1.51,2,  -999.0,9,  2.0906,-999.000,9
     64PE96N_1,  AR12,    26,  1,      2,   X019,2,19960625,0203, 45.9993,  -7.9993, 4783,   4844.3,   2.5279,  34.9005,2,-999.0000,9,    234.9,2,   -999.0,9,    44.82,2,    22.78,2,     0.00,2,     1.52,2,  -999.0,9,  2.0772,-999.000,9
     64PE96N_1,  AR12,    26,  1,      1,   X041,2,19960625,0203, 45.9993,  -7.9993, 4783,   4909.0,   2.5367,  34.9004,2,  34.9002,6,    235.3,2,    236.9,6,    44.78,6,    22.82,6,     0.00,2,     1.50,6,  -999.0,9,  2.0775,-999.000,9
     64PE96N_1,  AR12,    27,  1,     24,   X051,2,19960625,0751, 45.9997,  -8.6678, 4800,     10.1,  16.7947,  35.6339,2,  35.6322,6,    250.1,2,    250.2,6,     0.48,2,     0.02,2,     0.02,2,     0.06,2,  -999.0,9, 16.7930,-999.000,9
     64PE96N_1,  AR12,    27,  1,     23,   X050,2,19960625,0751, 45.9997,  -8.6678, 4800,    100.3,  11.8130,  35.5871,2,  35.5892,2,    249.9,2,    247.1,2,     2.16,2,     6.24,2,     0.03,2,     0.35,2,  -999.0,9, 11.8000,-999.000,9
     64PE96N_1,  AR12,    27,  1,     22,   X049,2,19960625,0751, 45.9997,  -8.6678, 4800,    201.5,  11.5637,  35.5769,2,-999.0000,9,    249.4,2,   -999.0,9,     2.67,2,     7.85,2,     0.03,2,     0.45,2,  -999.0,9, 11.5378,-999.000,9
     64PE96N_1,  AR12,    27,  1,     21,   X048,2,19960625,0751, 45.9997,  -8.6678, 4800,    302.6,  11.3897,  35.5652,2,  35.5726,3,    246.9,2,    245.2,2,     2.78,2,     8.10,2,     0.02,2,     0.48,2,  -999.0,9, 11.3511,-999.000,9
     64PE96N_1,  AR12,    27,  1,     20,   X047,2,19960625,0751, 45.9997,  -8.6678, 4800,    403.7,  11.1813,  35.5658,2,-999.0000,9,    228.1,2,   -999.0,9,     4.25,2,    11.96,2,     0.02,2,     0.69,2,  -999.0,9, 11.1302,-999.000,9
     64PE96N_1,  AR12,    27,  1,     19,   X046,2,19960625,0751, 45.9997,  -8.6678, 4800,    606.2,  10.4782,  35.5574,2,  35.5604,2,    210.3,2,    208.4,2,     6.54,2,    14.86,2,     0.01,2,     0.87,2,  -999.0,9, 10.4038,-999.000,9
     64PE96N_1,  AR12,    27,  1,     18,   X014,4,19960625,0751, 45.9997,  -8.6678, 4800,    808.3,  10.0501,  35.6730,2,-999.0000,9,    192.7,2,   -999.0,9,     5.38,4,    11.77,4,     0.02,4,     0.70,4,  -999.0,9,  9.9523,-999.000,9
     64PE96N_1,  AR12,    27,  1,     17,   X026,2,19960625,0751, 45.9997,  -8.6678, 4800,   1010.2,   9.3667,  35.7008,2,  35.6991,2,    191.6,2,    191.8,2,    10.08,2,    17.37,2,     0.01,2,     1.04,2,  -999.0,9,  9.2482,-999.000,9
     64PE96N_1,  AR12,    27,  1,     16,   X032,2,19960625,0751, 45.9997,  -8.6678, 4800,   1265.0,   7.7136,  35.5171,2,-999.0000,9,    206.0,2,   -999.0,9,    11.65,2,    18.14,2,     0.00,2,     1.11,2,  -999.0,9,  7.5786,-999.000,9
     64PE96N_1,  AR12,    27,  1,     15,   X007,2,19960625,0751, 45.9997,  -8.6678, 4800,   1518.6,   5.0720,  35.1130,2,  35.1098,2,    242.6,2,    243.8,2,    12.54,2,    18.39,2,     0.00,2,     1.15,2,  -999.0,9,  4.9376,-999.000,9
     64PE96N_1,  AR12,    27,  1,     14,   X025,2,19960625,0751, 45.9997,  -8.6678, 4800,   1772.6,   3.9660,  34.9608,2,-999.0000,9,    263.8,2,   -999.0,9,    12.23,2,    18.07,2,     0.00,2,     1.14,2,  -999.0,9,  3.8208,-999.000,9
     64PE96N_1,  AR12,    27,  1,     13,   X009,2,19960625,0751, 45.9997,  -8.6678, 4800,   2026.9,   3.7555,  34.9714,2,  34.9700,2,    263.0,2,    264.7,2,    15.70,2,    18.33,2,     0.00,2,     1.17,2,  -999.0,9,  3.5890,-999.000,9
     64PE96N_1,  AR12,    27,  1,     12,   X045,2,19960625,0751, 45.9997,  -8.6678, 4800,   2281.4,   3.6344,  35.0049,2,-999.0000,9,    250.7,2,   -999.0,9,    23.61,2,    19.75,2,     0.00,2,     1.27,2,  -999.0,9,  3.4447,-999.000,9
     64PE96N_1,  AR12,    27,  1,     11,   X024,2,19960625,0751, 45.9997,  -8.6678, 4800,   2536.6,   3.2278,  34.9752,2,  34.9744,2,    250.3,2,    252.0,2,    27.32,2,    20.22,2,     0.00,2,     1.31,2,  -999.0,9,  3.0199,-999.000,9
     64PE96N_1,  AR12,    27,  1,     10,   X023,2,19960625,0751, 45.9997,  -8.6678, 4800,   2791.5,   2.9712,  34.9564,2,-999.0000,9,    250.4,2,   -999.0,9,    30.51,2,    20.63,2,     0.00,2,     1.34,2,  -999.0,9,  2.7425,-999.000,9
     64PE96N_1,  AR12,    27,  1,      9,   X008,2,19960625,0751, 45.9997,  -8.6678, 4800,   3047.5,   2.7839,  34.9415,2,  34.9341,3,    248.8,2,    248.8,2,    35.42,2,    21.42,2,     0.00,2,     1.40,2,  -999.0,9,  2.5328,-999.000,9
     64PE96N_1,  AR12,    27,  1,      8,   X044,2,19960625,0751, 45.9997,  -8.6678, 4800,   3303.3,   2.6556,  34.9296,2,-999.0000,9,    246.8,2,   -999.0,9,    37.08,2,    21.69,2,     0.01,2,     1.41,2,  3302.8,6,  2.3805,   2.656,2
     64PE96N_1,  AR12,    27,  1,      7,   X043,4,19960625,0751, 45.9997,  -8.6678, 4800,   3559.7,   2.5850,  34.9212,2,  35.5024,4,    245.7,2,    230.9,4,     7.11,4,    12.18,4,     0.02,4,     0.74,4,  -999.0,9,  2.2838,-999.000,9
     64PE96N_1,  AR12,    27,  1,      6,   X030,2,19960625,0751, 45.9997,  -8.6678, 4800,   3815.6,   2.5383,  34.9143,2,-999.0000,9,    244.6,2,   -999.0,9,    41.07,2,    22.23,2,     0.01,2,     1.46,2,  -999.0,9,  2.2098,   2.538,6
     64PE96N_1,  AR12,    27,  1,      5,   X001,2,19960625,0751, 45.9997,  -8.6678, 4800,   4071.9,   2.5106,  34.9088,2,  34.9076,2,    244.3,2,    244.0,2,    42.25,2,    22.41,2,     0.01,2,     1.46,2,  -999.0,9,  2.1537,-999.000,9
     64PE96N_1,  AR12,    27,  1,      4,   X031,2,19960625,0751, 45.9997,  -8.6678, 4800,   4328.9,   2.4946,  34.9041,2,-999.0000,9,    243.8,2,   -999.0,9,    42.92,2,    22.60,2,     0.01,2,     1.47,2,  -999.0,9,  2.1079,   2.493,6
     64PE96N_1,  AR12,    27,  1,      3,   X042,2,19960625,0751, 45.9997,  -8.6678, 4800,   4584.8,   2.4986,  34.9010,2,  34.9020,2,    242.7,2,    245.5,2,    44.20,6,    22.64,6,     0.02,2,     1.48,6,  -999.0,9,  2.0809,-999.000,9
     64PE96N_1,  AR12,    27,  1,      2,   X019,4,19960625,0751, 45.9997,  -8.6678, 4800,   4844.1,   2.5234,  34.8999,2,-999.0000,9,    242.2,2,   -999.0,9,     6.72,4,    11.83,4,     0.02,4,     0.72,4,  4844.9,6,  2.0728,   2.521,2
     64PE96N_1,  AR12,    27,  1,      1,   X041,4,19960625,0751, 45.9997,  -8.6678, 4800,   4927.3,   2.5326,  34.8996,2,  35.5006,4,    242.5,2,    233.1,4,     6.82,4,    11.42,4,     0.02,4,     0.69,4,  -999.0,9,  2.0712,-999.000,9