BOTTLE,20020320WHPSIOKJU
EXPOCODE,SECT_ID,STNNBR,CASTNO,SAMPNO,BTLNBR,BTLNBR_FLAG_W,DATE,TIME,LATITUDE,LONGITUDE,DEPTH,CTDPRS,CTDTMP,CTDSAL,CTDSAL_FLAG_W,SALNTY,SALNTY_FLAG_W,CTDOXY,CTDOXY_FLAG_W,OXYGEN,OXYGEN_FLAG_W,SILCAT,SILCAT_FLAG_W,NITRAT,NITRAT_FLAG_W,NITRIT,NITRIT_FLAG_W,PHSPHT,PHSPHT_FLAG_W,REVPRS,REVPRS_FLAG_W,THETA,REVTMP,REVTMP_FLAG_W
,,,,,,,,,,,,DBAR,ITS-90,PSS-78,,PSS-78,,UMOL/KG,,UMOL/KG,,UMOL/KG,,UMOL/KG,,UMOL/KG,,UMOL/KG,,DBAR,,DEG C,ITS-90,
     64PE96N_1,  AR12,    76,  1,     22,   X049,2,19960709,0426, 44.8750,  -3.7500, 3906,      8.9,  18.5696,  35.6368,2,  35.6398,6,    235.0,2,    235.1,6,     0.69,2,     0.04,2,     0.04,2,     0.04,2,  -999.0,9, 18.5680,  18.559,2
     64PE96N_1,  AR12,    76,  1,     21,   X048,2,19960709,0426, 44.8750,  -3.7500, 3906,    100.1,  12.7363,  35.6490,2,  35.6483,2,    241.2,2,    238.3,2,     1.74,2,     4.81,2,     0.05,2,     0.28,2,  -999.0,9, 12.7227,  12.734,2
     64PE96N_1,  AR12,    76,  1,     20,   X046,2,19960709,0426, 44.8750,  -3.7500, 3906,    201.9,  12.2437,  35.6319,2,-999.0000,9,    241.1,2,   -999.0,9,     2.19,2,     6.42,2,     0.04,2,     0.39,2,  -999.0,9, 12.2168,  12.242,2
     64PE96N_1,  AR12,    76,  1,     19,   X047,2,19960709,0426, 44.8750,  -3.7500, 3906,    302.5,  11.7403,  35.5947,2,  35.5932,2,    232.7,2,    231.9,2,     3.08,2,     9.17,2,     0.03,2,     0.56,2,  -999.0,9, 11.7009,  11.738,2
     64PE96N_1,  AR12,    76,  1,     18,   X014,2,19960709,0426, 44.8750,  -3.7500, 3906,    403.8,  11.0969,  35.5676,2,-999.0000,9,    223.3,2,   -999.0,9,     4.64,2,    12.21,2,     0.03,2,     0.74,2,  -999.0,9, 11.0461,  11.094,2
     64PE96N_1,  AR12,    76,  1,     17,   X032,2,19960709,0426, 44.8750,  -3.7500, 3906,    488.3,  10.6748,  35.5601,2,  35.5605,2,    214.4,2,    212.1,2,     5.94,2,    13.81,2,     0.04,2,     0.85,2,  -999.0,9, 10.6146,  10.674,2
     64PE96N_1,  AR12,    76,  1,     16,   X026,2,19960709,0426, 44.8750,  -3.7500, 3906,    605.7,  10.3595,  35.5964,2,-999.0000,9,    201.6,2,   -999.0,9,     7.32,2,    15.30,2,     0.03,2,     0.95,2,  -999.0,9, 10.2857,  10.359,2
     64PE96N_1,  AR12,    76,  1,     15,   X059,2,19960709,0426, 44.8750,  -3.7500, 3906,    808.0,  10.0468,  35.7121,2,  35.7121,2,    187.9,2,    188.1,2,     8.89,2,    16.59,2,     0.05,2,     1.02,2,  -999.0,9,  9.9490,  10.047,2
     64PE96N_1,  AR12,    76,  1,     14,   X025,2,19960709,0426, 44.8750,  -3.7500, 3906,   1011.7,   9.5113,  35.7495,2,-999.0000,9,    188.0,2,   -999.0,9,    10.03,2,    16.98,2,     0.05,2,     1.06,2,  -999.0,9,  9.3915,   9.510,2
     64PE96N_1,  AR12,    76,  1,     13,   X058,4,19960709,0426, 44.8750,  -3.7500, 3906,   1212.0,   8.3185,  35.6147,2,  35.6504,4,    197.6,2,    205.4,4,     7.86,4,    15.02,4,     0.03,4,     0.93,4,  -999.0,9,  8.1841,   8.306,2
     64PE96N_1,  AR12,    76,  1,     12,   X015,2,19960709,0426, 44.8750,  -3.7500, 3906,   1416.2,   6.4678,  35.3446,2,-999.0000,9,    217.7,2,   -999.0,9,    13.26,2,    18.22,2,     0.03,2,     1.17,2,  -999.0,9,  6.3284,   6.463,2
     64PE96N_1,  AR12,    76,  1,     11,   X034,2,19960709,0426, 44.8750,  -3.7500, 3906,   1619.1,   5.1589,  35.1668,2,  35.1677,2,    234.4,2,    236.6,2,    15.22,2,    18.45,2,     0.03,2,     1.19,2,  -999.0,9,  5.0132,   5.157,2
     64PE96N_1,  AR12,    76,  1,     10,   X023,2,19960709,0426, 44.8750,  -3.7500, 3906,   1822.6,   4.2944,  35.0625,2,-999.0000,9,    244.4,2,   -999.0,9,    17.61,2,    18.57,2,     0.03,2,     1.22,2,  -999.0,9,  4.1398,   4.294,2
     64PE96N_1,  AR12,    76,  1,      9,   X035,2,19960709,0426, 44.8750,  -3.7500, 3906,   2025.3,   3.8398,  35.0272,2,  35.0302,2,    244.8,2,    246.7,2,    21.39,2,    19.18,2,     0.03,2,     1.29,2,  -999.0,9,  3.6720,   3.853,3
     64PE96N_1,  AR12,    76,  1,      8,   X044,2,19960709,0426, 44.8750,  -3.7500, 3906,   2281.5,   3.3985,  34.9901,2,-999.0000,9,    246.0,2,   -999.0,9,    25.43,2,    19.72,2,     0.03,2,     1.32,2,  2282.3,6,  3.2128,   3.398,6
     64PE96N_1,  AR12,    76,  1,      7,   X011,2,19960709,0426, 44.8750,  -3.7500, 3906,   2537.3,   3.1008,  34.9676,2,  34.9663,6,    244.8,2,    246.1,2,    29.76,2,    20.28,2,     0.02,2,     1.36,2,  -999.0,9,  2.8952,   3.101,2
     64PE96N_1,  AR12,    76,  1,      6,   X061,2,19960709,0426, 44.8750,  -3.7500, 3906,   2790.8,   2.9005,  34.9514,2,-999.0000,9,    244.0,2,   -999.0,9,    32.74,2,    20.69,2,     0.04,2,     1.39,2,  -999.0,9,  2.6733,   2.901,6
     64PE96N_1,  AR12,    76,  1,      5,   X057,2,19960709,0426, 44.8750,  -3.7500, 3906,   3046.8,   2.7192,  34.9358,2,-999.0000,9,    243.5,2,    242.2,2,    34.26,2,    21.00,2,     0.03,2,     1.42,2,  -999.0,9,  2.4696,   2.717,2
     64PE96N_1,  AR12,    76,  1,      4,   X031,2,19960709,0426, 44.8750,  -3.7500, 3906,   3301.7,   2.6079,  34.9247,2,-999.0000,9,    242.3,2,   -999.0,9,    38.11,2,    21.46,2,     0.02,2,     1.47,2,  -999.0,9,  2.3341,   2.609,6
     64PE96N_1,  AR12,    76,  1,      3,   X021,2,19960709,0426, 44.8750,  -3.7500, 3906,   3558.2,   2.5475,  34.9175,2,  34.9170,2,    241.5,2,    241.5,2,    40.16,2,    21.72,2,     0.02,2,     1.48,2,  -999.0,9,  2.2475,   2.547,2
     64PE96N_1,  AR12,    76,  1,      2,   X056,2,19960709,0426, 44.8750,  -3.7500, 3906,   3814.0,   2.5055,  34.9110,2,-999.0000,9,    241.0,2,   -999.0,9,    42.00,2,    22.06,2,     0.04,2,     1.50,2,  3813.4,6,  2.1781,   2.505,6
     64PE96N_1,  AR12,    76,  1,      1,   X051,2,19960709,0426, 44.8750,  -3.7500, 3906,   3987.8,   2.4733,  34.9057,2,  34.9056,6,    239.1,2,    235.7,6,    43.75,6,    22.24,6,     0.02,2,     1.53,6,  -999.0,9,  2.1271,   2.473,2
     64PE96N_1,  AR12,    77,  1,     22,   X049,2,19960709,0831, 45.0002,  -3.9998, 4254,      9.7,  18.5115,  35.6665,2,  35.6700,6,    236.6,2,    236.7,6,     0.94,2,     0.03,2,     0.00,2,     0.03,2,  -999.0,9, 18.5098,  18.510,2
     64PE96N_1,  AR12,    77,  1,     21,   X048,2,19960709,0831, 45.0002,  -3.9998, 4254,    101.3,  12.3687,  35.6426,2,  35.6407,2,    243.5,2,    240.4,2,     1.98,2,     5.75,2,     0.02,2,     0.26,2,  -999.0,9, 12.3552,  12.407,4
     64PE96N_1,  AR12,    77,  1,     20,   X046,2,19960709,0831, 45.0002,  -3.9998, 4254,    201.6,  11.8606,  35.6056,2,-999.0000,9,    239.2,2,   -999.0,9,     2.60,2,     7.59,2,     0.02,2,     0.46,2,  -999.0,9, 11.8343,  11.860,2
     64PE96N_1,  AR12,    77,  1,     19,   X047,2,19960709,0831, 45.0002,  -3.9998, 4254,    399.4,  11.0944,  35.5587,2,  35.5577,2,    225.6,2,    225.3,2,     4.43,2,    11.91,2,     0.00,2,     0.67,2,  -999.0,9, 11.0442,  11.092,2
     64PE96N_1,  AR12,    77,  1,     18,   X014,2,19960709,0831, 45.0002,  -3.9998, 4254,    605.4,  10.3701,  35.5636,2,-999.0000,9,    206.7,2,   -999.0,9,     6.94,2,    14.80,2,     0.00,2,     0.90,2,  -999.0,9, 10.2963,  10.372,2
     64PE96N_1,  AR12,    77,  1,     17,   X032,2,19960709,0831, 45.0002,  -3.9998, 4254,    707.7,  10.2058,  35.6138,2,  35.6169,2,    198.6,2,    197.2,2,     7.84,2,    15.62,2,     0.01,2,     0.95,2,  -999.0,9, 10.1199,  10.204,2
     64PE96N_1,  AR12,    77,  1,     16,   X026,2,19960709,0831, 45.0002,  -3.9998, 4254,    807.3,  10.1008,  35.6950,2,-999.0000,9,    190.7,2,   -999.0,9,     8.67,2,    16.34,2,     0.00,2,     1.00,2,  -999.0,9, 10.0028,  10.102,2
     64PE96N_1,  AR12,    77,  1,     15,   X059,2,19960709,0831, 45.0002,  -3.9998, 4254,    906.7,   9.9056,  35.7444,2,  35.7450,2,    186.4,2,    187.0,2,     9.31,2,    16.72,2,     0.01,2,     1.03,2,  -999.0,9,  9.7962,   9.902,2
     64PE96N_1,  AR12,    77,  1,     14,   X025,2,19960709,0831, 45.0002,  -3.9998, 4254,   1011.5,   9.6633,  35.7579,2,-999.0000,9,    186.3,2,   -999.0,9,     9.80,2,    16.94,2,     0.00,2,     1.04,2,  -999.0,9,  9.5424,   9.666,2
     64PE96N_1,  AR12,    77,  1,     13,   X058,4,19960709,0831, 45.0002,  -3.9998, 4254,   1262.0,   8.1222,  35.5867,2,  35.6103,4,    198.9,2,    223.3,4,     4.23,4,     9.67,4,     0.02,4,     0.59,4,  -999.0,9,  7.9837,   8.123,2
     64PE96N_1,  AR12,    77,  1,     12,   X015,2,19960709,0831, 45.0002,  -3.9998, 4254,   1517.2,   6.1230,  35.2971,2,-999.0000,9,    221.2,2,   -999.0,9,    13.63,2,    18.22,2,     0.01,2,     1.16,2,  -999.0,9,  5.9765,   6.126,2
     64PE96N_1,  AR12,    77,  1,     11,   X034,2,19960709,0831, 45.0002,  -3.9998, 4254,   1771.6,   4.5800,  35.0920,2,  35.1122,3,    241.0,2,    242.7,2,    15.98,2,    18.39,2,     0.01,2,     1.20,2,  -999.0,9,  4.4265,   4.600,4
     64PE96N_1,  AR12,    77,  1,     10,   X023,2,19960709,0831, 45.0002,  -3.9998, 4254,   2026.2,   3.8929,  35.0317,2,-999.0000,9,    243.3,2,   -999.0,9,    21.25,2,    19.00,2,     0.01,2,     1.26,2,  -999.0,9,  3.7242,   3.900,2
     64PE96N_1,  AR12,    77,  1,      9,   X035,2,19960709,0831, 45.0002,  -3.9998, 4254,   2280.7,   3.4658,  34.9959,2,  35.0217,4,    243.9,2,    244.9,2,    24.17,2,    19.46,2,     0.00,2,     1.29,2,  -999.0,9,  3.2790,   3.469,2
     64PE96N_1,  AR12,    77,  1,      8,   X044,2,19960709,0831, 45.0002,  -3.9998, 4254,   2536.3,   3.1641,  34.9722,2,-999.0000,9,    243.7,2,   -999.0,9,    28.79,2,    20.12,2,     0.00,2,     1.34,2,  2536.8,6,  2.9574,   3.164,6
     64PE96N_1,  AR12,    77,  1,      7,   X011,2,19960709,0831, 45.0002,  -3.9998, 4254,   2790.7,   2.9071,  34.9516,2,  34.9521,2,    243.1,2,    244.8,2,    32.46,2,    20.68,2,     0.00,2,     1.39,2,  -999.0,9,  2.6798,   2.907,2
     64PE96N_1,  AR12,    77,  1,      6,   X061,2,19960709,0831, 45.0002,  -3.9998, 4254,   3048.0,   2.7423,  34.9374,2,-999.0000,9,    241.9,2,   -999.0,9,    35.59,2,    21.14,2,     0.02,2,     1.42,2,  -999.0,9,  2.4921,   2.742,6
     64PE96N_1,  AR12,    77,  1,      5,   X057,4,19960709,0831, 45.0002,  -3.9998, 4254,   3288.1,   2.6304,  34.9269,2,  34.9845,4,    240.9,2,    239.5,4,    34.38,4,    20.69,4,     0.00,4,     1.39,4,  -999.0,9,  2.3575,   2.630,2
     64PE96N_1,  AR12,    77,  1,      4,   X031,2,19960709,0831, 45.0002,  -3.9998, 4254,   3559.1,   2.5489,  34.9174,2,-999.0000,9,    240.0,2,   -999.0,9,    40.20,2,    21.80,2,     0.00,2,     1.47,2,  -999.0,9,  2.2487,   2.548,6
     64PE96N_1,  AR12,    77,  1,      3,   X021,2,19960709,0831, 45.0002,  -3.9998, 4254,   3814.8,   2.5091,  34.9114,2,  34.9104,2,    239.3,2,    240.7,2,    41.89,2,    21.99,2,     0.00,2,     1.48,2,  -999.0,9,  2.1815,   2.509,2
     64PE96N_1,  AR12,    77,  1,      2,   X056,2,19960709,0831, 45.0002,  -3.9998, 4254,   4072.6,   2.4805,  34.9057,2,-999.0000,9,    237.8,2,   -999.0,9,    43.43,2,    22.24,2,     0.01,2,     1.51,2,  4072.4,6,  2.1243,   2.481,6
     64PE96N_1,  AR12,    77,  1,      1,   X051,2,19960709,0831, 45.0002,  -3.9998, 4254,   4353.6,   2.4874,  34.9024,2,  34.9018,6,    235.8,2,    234.4,6,    44.95,6,    22.40,6,     0.02,2,     1.53,6,  -999.0,9,  2.0980,   2.487,2
     64PE96N_1,  AR12,    78,  1,     22,   X049,2,19960709,1524, 45.6662,  -4.4490, 4086,      8.9,  16.8636,  35.6279,2,  35.6299,6,    248.1,2,    248.1,6,     0.56,2,     0.00,2,     0.00,2,     0.03,2,  -999.0,9, 16.8621,-999.000,9
     64PE96N_1,  AR12,    78,  1,     21,   X048,2,19960709,1524, 45.6662,  -4.4490, 4086,    100.4,  12.1903,  35.6345,2,  35.6342,2,    243.8,2,    241.6,2,     2.08,2,     6.46,2,     0.01,2,     0.37,2,  -999.0,9, 12.1770,-999.000,9
     64PE96N_1,  AR12,    78,  1,     20,   X046,2,19960709,1524, 45.6662,  -4.4490, 4086,    201.8,  11.6565,  35.5873,2,-999.0000,9,    241.4,2,   -999.0,9,     2.65,2,     7.96,2,     0.01,2,     0.47,2,  -999.0,9, 11.6305,-999.000,9
     64PE96N_1,  AR12,    78,  1,     19,   X047,2,19960709,1524, 45.6662,  -4.4490, 4086,    403.5,  11.1101,  35.5603,2,  35.5607,2,    225.0,2,    225.4,2,     4.35,2,    11.79,2,     0.00,2,     0.70,2,  -999.0,9, 11.0593,-999.000,9
     64PE96N_1,  AR12,    78,  1,     18,   X014,2,19960709,1524, 45.6662,  -4.4490, 4086,    600.5,  10.5117,  35.5627,2,-999.0000,9,    210.1,2,   -999.0,9,     6.42,2,    14.42,2,     0.00,2,     0.87,2,  -999.0,9, 10.4379,-999.000,9
     64PE96N_1,  AR12,    78,  1,     17,   X032,2,19960709,1524, 45.6662,  -4.4490, 4086,    706.1,  10.3063,  35.6221,2,  35.6245,2,    202.3,2,    198.5,2,     7.57,2,    15.44,2,     0.01,2,     0.94,2,  -999.0,9, 10.2201,-999.000,9
     64PE96N_1,  AR12,    78,  1,     16,   X026,2,19960709,1524, 45.6662,  -4.4490, 4086,    807.0,  10.1037,  35.6843,2,-999.0000,9,    194.8,2,   -999.0,9,     8.54,2,    16.29,2,     0.00,2,     0.99,2,  -999.0,9, 10.0058,-999.000,9
     64PE96N_1,  AR12,    78,  1,     15,   X059,2,19960709,1524, 45.6662,  -4.4490, 4086,    907.1,   9.9280,  35.7396,2,  35.6966,3,    190.6,2,    192.5,2,     8.45,2,    16.03,2,     0.00,2,     0.98,2,  -999.0,9,  9.8184,-999.000,9
     64PE96N_1,  AR12,    78,  1,     14,   X025,2,19960709,1524, 45.6662,  -4.4490, 4086,   1010.8,   9.5398,  35.7485,2,-999.0000,9,    192.0,2,   -999.0,9,     9.90,2,    17.03,2,     0.00,2,     1.04,2,  -999.0,9,  9.4199,-999.000,9
     64PE96N_1,  AR12,    78,  1,     13,   X058,4,19960709,1524, 45.6662,  -4.4490, 4086,   1264.0,   8.2182,  35.5963,2,  35.6443,4,    201.0,2,    197.0,4,     7.81,4,    15.40,4,     0.00,4,     0.95,4,  -999.0,9,  8.0786,-999.000,9
     64PE96N_1,  AR12,    78,  1,     12,   X015,2,19960709,1524, 45.6662,  -4.4490, 4086,   1517.2,   6.3444,  35.3305,2,-999.0000,9,    219.7,2,   -999.0,9,    13.56,2,    18.22,2,     0.00,2,     1.16,2,  -999.0,9,  6.1954,-999.000,9
     64PE96N_1,  AR12,    78,  1,     11,   X034,2,19960709,1524, 45.6662,  -4.4490, 4086,   1769.8,   4.6464,  35.1133,2,  35.1263,3,    237.4,2,    239.3,2,    17.23,2,    18.75,2,     0.01,2,     1.21,2,  -999.0,9,  4.4921,-999.000,9
     64PE96N_1,  AR12,    78,  1,     10,   X023,2,19960709,1524, 45.6662,  -4.4490, 4086,   2026.3,   3.7069,  35.0162,2,-999.0000,9,    244.3,2,   -999.0,9,    22.40,2,    19.26,2,     0.01,2,     1.28,2,  -999.0,9,  3.5410,-999.000,9
     64PE96N_1,  AR12,    78,  1,      9,   X035,2,19960709,1524, 45.6662,  -4.4490, 4086,   2280.7,   3.3077,  34.9843,2,  34.9970,3,    244.2,2,    246.1,2,    26.29,2,    19.85,2,     0.00,2,     1.29,2,  -999.0,9,  3.1236,-999.000,9
     64PE96N_1,  AR12,    78,  1,      8,   X044,2,19960709,1524, 45.6662,  -4.4490, 4086,   2535.3,   3.0794,  34.9661,2,-999.0000,9,    243.9,2,   -999.0,9,    29.82,2,    20.33,2,     0.01,2,     1.37,2,  2535.3,6,  2.8744,   3.078,2
     64PE96N_1,  AR12,    78,  1,      7,   X011,2,19960709,1524, 45.6662,  -4.4490, 4086,   2791.2,   2.8524,  34.9477,2,  34.9482,2,    243.0,2,    244.6,2,    33.27,2,    20.88,2,     0.01,2,     1.41,2,  -999.0,9,  2.6262,-999.000,9
     64PE96N_1,  AR12,    78,  1,      6,   X061,2,19960709,1524, 45.6662,  -4.4490, 4086,   3048.2,   2.7253,  34.9359,2,-999.0000,9,    242.3,2,   -999.0,9,    35.93,2,    21.13,2,     0.01,2,     1.42,2,  -999.0,9,  2.4754,   2.725,6
     64PE96N_1,  AR12,    78,  1,      5,   X057,2,19960709,1524, 45.6662,  -4.4490, 4086,   3303.2,   2.6372,  34.9270,2,  34.9301,2,    241.6,2,    242.4,2,    37.75,2,    21.52,2,     0.02,2,     1.46,2,  -999.0,9,  2.3625,-999.000,9
     64PE96N_1,  AR12,    78,  1,      4,   X031,2,19960709,1524, 45.6662,  -4.4490, 4086,   3559.1,   2.5629,  34.9189,2,-999.0000,9,    240.9,2,   -999.0,9,    39.79,2,    21.83,2,     0.01,2,     1.47,2,  -999.0,9,  2.2624,   2.562,6
     64PE96N_1,  AR12,    78,  1,      3,   X021,2,19960709,1524, 45.6662,  -4.4490, 4086,   3814.5,   2.5140,  34.9119,2,  34.9123,2,    240.3,2,    240.8,2,    41.64,2,    21.88,2,     0.02,2,     1.48,2,  -999.0,9,  2.1863,-999.000,9
     64PE96N_1,  AR12,    78,  1,      2,   X056,2,19960709,1524, 45.6662,  -4.4490, 4086,   4072.6,   2.4787,  34.9054,2,-999.0000,9,    237.9,2,   -999.0,9,    44.00,2,    22.44,2,     0.02,2,     1.53,2,  4070.9,6,  2.1226,   2.480,2
     64PE96N_1,  AR12,    78,  1,      1,   X051,2,19960709,1524, 45.6662,  -4.4490, 4086,   4179.1,   2.4777,  34.9038,2,  34.9034,6,    238.1,2,    234.8,6,    44.28,6,    22.37,6,     0.01,2,     1.53,6,  -999.0,9,  2.1092,-999.000,9