BOTTLE,20020320WHPSIOKJU
EXPOCODE,SECT_ID,STNNBR,CASTNO,SAMPNO,BTLNBR,BTLNBR_FLAG_W,DATE,TIME,LATITUDE,LONGITUDE,DEPTH,CTDPRS,CTDTMP,CTDSAL,CTDSAL_FLAG_W,SALNTY,SALNTY_FLAG_W,CTDOXY,CTDOXY_FLAG_W,OXYGEN,OXYGEN_FLAG_W,SILCAT,SILCAT_FLAG_W,NITRAT,NITRAT_FLAG_W,NITRIT,NITRIT_FLAG_W,PHSPHT,PHSPHT_FLAG_W,REVPRS,REVPRS_FLAG_W,THETA,REVTMP,REVTMP_FLAG_W
,,,,,,,,,,,,DBAR,ITS-90,PSS-78,,PSS-78,,UMOL/KG,,UMOL/KG,,UMOL/KG,,UMOL/KG,,UMOL/KG,,UMOL/KG,,DBAR,,DEG C,ITS-90,
     64PE96N_1,  AR12,    85,  1,      4,   X031,2,19960711,0121, 47.6663,  -7.3327,  161,      8.9,  14.7728,  35.5860,2,  35.5852,6,    262.6,2,    262.7,6,     0.83,2,     0.51,2,     0.04,2,     0.07,2,  -999.0,9, 14.7715,  14.773,6
     64PE96N_1,  AR12,    85,  1,      3,   X021,2,19960711,0121, 47.6663,  -7.3327,  161,     49.9,  13.5508,  35.5841,2,  35.5811,2,    251.6,2,    251.7,2,     1.63,2,     3.71,2,     0.15,2,     0.22,2,  -999.0,9, 13.5437,-999.000,9
     64PE96N_1,  AR12,    85,  1,      2,   X056,2,19960711,0121, 47.6663,  -7.3327,  161,    101.5,  12.1961,  35.5755,2,-999.0000,9,    240.1,2,   -999.0,9,     2.57,2,     6.62,2,     0.07,2,     0.40,2,   100.4,6, 12.1827,  12.202,2
     64PE96N_1,  AR12,    85,  1,      1,   X051,2,19960711,0121, 47.6663,  -7.3327,  161,    164.8,  11.7600,  35.5734,2,  35.5720,6,    237.2,2,    235.8,6,     3.18,2,     8.09,2,     0.04,2,     0.49,2,  -999.0,9, 11.7386,-999.000,9
     64PE96N_1,  AR12,    86,  1,     11,   X034,2,19960711,0253, 47.5825,  -7.4167,  812,      9.5,  15.3736,  35.6005,2,  35.6006,6,    262.5,2,    262.6,6,     0.48,2,     0.00,2,     0.04,2,     0.06,2,  -999.0,9, 15.3721,-999.000,9
     64PE96N_1,  AR12,    86,  1,     10,   X023,2,19960711,0253, 47.5825,  -7.4167,  812,     52.1,  14.1877,  35.5946,2,-999.0000,9,    252.1,2,   -999.0,9,     0.85,2,     1.30,2,     0.22,2,     0.10,2,  -999.0,9, 14.1801,-999.000,9
     64PE96N_1,  AR12,    86,  1,      9,   X035,2,19960711,0253, 47.5825,  -7.4167,  812,    100.4,  12.1213,  35.5932,2,  35.5926,2,    239.8,2,    239.2,2,     2.49,2,     6.79,2,     0.04,2,     0.40,2,  -999.0,9, 12.1081,-999.000,9
     64PE96N_1,  AR12,    86,  1,      8,   X044,2,19960711,0253, 47.5825,  -7.4167,  812,    201.4,  11.5608,  35.5805,2,-999.0000,9,    234.7,2,   -999.0,9,     3.33,2,     8.77,2,     0.02,2,     0.53,2,   200.8,6, 11.5350,  11.562,2
     64PE96N_1,  AR12,    86,  1,      7,   X011,2,19960711,0253, 47.5825,  -7.4167,  812,    303.6,  11.2826,  35.5700,2,  35.5712,2,    232.0,2,    233.0,2,     3.89,2,     9.96,2,     0.02,2,     0.60,2,  -999.0,9, 11.2441,-999.000,9
     64PE96N_1,  AR12,    86,  1,      6,   X061,2,19960711,0253, 47.5825,  -7.4167,  812,    404.0,  11.1213,  35.5644,2,-999.0000,9,    227.9,2,   -999.0,9,     4.38,2,    11.00,2,     0.01,2,     0.66,2,  -999.0,9, 11.0704,  11.117,6
     64PE96N_1,  AR12,    86,  1,      5,   X057,2,19960711,0253, 47.5825,  -7.4167,  812,    505.2,  10.8598,  35.5660,2,  35.5658,2,    223.2,2,    224.0,2,     5.15,2,    11.91,2,     0.00,2,     0.72,2,  -999.0,9, 10.7968,-999.000,9
     64PE96N_1,  AR12,    86,  1,      4,   X031,2,19960711,0253, 47.5825,  -7.4167,  812,    605.3,  10.5249,  35.5688,2,-999.0000,9,    218.1,2,   -999.0,9,     6.22,2,    13.25,2,     0.01,2,     0.81,2,  -999.0,9, 10.4504,  10.521,6
     64PE96N_1,  AR12,    86,  1,      3,   X021,2,19960711,0253, 47.5825,  -7.4167,  812,    706.4,  10.1356,  35.5759,2,  35.5758,2,    212.2,2,    208.7,2,     7.42,2,    14.74,2,     0.01,2,     0.91,2,  -999.0,9, 10.0502,-999.000,9
     64PE96N_1,  AR12,    86,  1,      2,   X056,2,19960711,0253, 47.5825,  -7.4167,  812,    808.3,   9.7844,  35.5950,2,-999.0000,9,    207.5,2,   -999.0,9,     8.49,2,    15.90,2,     0.00,2,     0.98,2,   805.9,6,  9.6882,   9.784,2
     64PE96N_1,  AR12,    86,  1,      1,   X051,2,19960711,0253, 47.5825,  -7.4167,  812,    858.3,   9.7505,  35.5962,2,  35.5953,6,    208.3,2,    201.9,6,     8.62,6,    15.90,6,     0.00,2,     0.98,6,  -999.0,9,  9.6483,-999.000,9
     64PE96N_1,  AR12,    87,  1,     18,   X014,2,19960711,0456, 47.4995,  -7.4995, 1482,     10.5,  14.9321,  35.5999,2,  35.5991,6,    264.7,2,    264.7,6,     0.60,2,     0.06,2,     0.04,2,     0.06,2,  -999.0,9, 14.9305,-999.000,9
     64PE96N_1,  AR12,    87,  1,     17,   X032,2,19960711,0456, 47.4995,  -7.4995, 1482,     51.3,  13.1977,  35.5965,2,  35.5945,2,    247.9,2,    247.7,2,     1.21,2,     3.29,2,     0.19,2,     0.21,2,  -999.0,9, 13.1906,-999.000,9
     64PE96N_1,  AR12,    87,  1,     16,   X026,2,19960711,0456, 47.4995,  -7.4995, 1482,    101.3,  12.0504,  35.5936,2,-999.0000,9,    240.2,2,    240.4,2,     2.23,2,     6.63,2,     0.05,2,     0.39,2,  -999.0,9, 12.0371,-999.000,9
     64PE96N_1,  AR12,    87,  1,     15,   X059,3,19960711,0456, 47.4995,  -7.4995, 1482,    202.2,  11.4898,  35.5783,2,-999.0000,9,    234.9,2,   -999.0,9,  -999.00,9,  -999.00,9,  -999.00,9,  -999.00,9,  -999.0,9, 11.4640,-999.000,9
     64PE96N_1,  AR12,    87,  1,     14,   X025,2,19960711,0456, 47.4995,  -7.4995, 1482,    303.4,  11.1206,  35.5669,2,-999.0000,9,    227.3,2,   -999.0,9,     4.37,2,    10.98,2,     0.02,2,     0.66,2,  -999.0,9, 11.0825,-999.000,9
     64PE96N_1,  AR12,    87,  1,     13,   X058,2,19960711,0456, 47.4995,  -7.4995, 1482,    403.4,  10.8968,  35.5627,2,  35.5642,2,    222.5,2,    227.0,2,     4.75,2,    11.46,2,     0.03,2,     0.69,2,  -999.0,9, 10.8466,-999.000,9
     64PE96N_1,  AR12,    87,  1,     12,   X015,2,19960711,0456, 47.4995,  -7.4995, 1482,    504.1,  10.6472,  35.5606,2,-999.0000,9,    217.2,2,   -999.0,9,     5.75,2,    12.98,2,     0.01,2,     0.79,2,  -999.0,9, 10.5851,-999.000,9
     64PE96N_1,  AR12,    87,  1,     11,   X034,2,19960711,0456, 47.4995,  -7.4995, 1482,    605.1,  10.3691,  35.5594,2,  35.5573,2,    211.3,2,    212.6,2,     6.57,2,    14.14,2,     0.01,2,     0.87,2,  -999.0,9, 10.2954,-999.000,9
     64PE96N_1,  AR12,    87,  1,     10,   X023,2,19960711,0456, 47.4995,  -7.4995, 1482,    707.6,  10.0889,  35.5784,2,-999.0000,9,    203.3,2,   -999.0,9,     7.70,2,    15.50,2,     0.02,2,     0.96,2,  -999.0,9, 10.0036,-999.000,9
     64PE96N_1,  AR12,    87,  1,      9,   X035,2,19960711,0456, 47.4995,  -7.4995, 1482,    808.5,   9.8445,  35.6216,2,  35.6203,2,    198.4,2,    198.2,2,     8.55,2,    16.23,2,     0.01,2,     1.00,2,  -999.0,9,  9.7479,-999.000,9
     64PE96N_1,  AR12,    87,  1,      8,   X044,2,19960711,0456, 47.4995,  -7.4995, 1482,    907.3,   9.6454,  35.6503,2,-999.0000,9,    195.2,2,   -999.0,9,     9.21,2,    16.59,2,     0.01,2,     1.02,2,   908.3,6,  9.5378,   9.642,2
     64PE96N_1,  AR12,    87,  1,      7,   X011,2,19960711,0456, 47.4995,  -7.4995, 1482,   1010.3,   9.1022,  35.6398,2,  35.6387,2,    197.1,2,    197.0,2,    10.25,2,    17.06,2,     0.00,2,     1.06,2,  -999.0,9,  8.9856,-999.000,9
     64PE96N_1,  AR12,    87,  1,      6,   X061,2,19960711,0456, 47.4995,  -7.4995, 1482,   1112.2,   8.6860,  35.6164,2,-999.0000,9,    198.9,2,   -999.0,9,    10.95,2,    17.42,2,     0.00,2,     1.09,2,  -999.0,9,  8.5604,   8.682,6
     64PE96N_1,  AR12,    87,  1,      5,   X057,2,19960711,0456, 47.4995,  -7.4995, 1482,   1213.3,   7.7525,  35.4979,2,  35.4995,2,    206.1,2,    208.0,2,    12.11,2,    17.74,2,     0.01,2,     1.12,2,  -999.0,9,  7.6231,-999.000,9
     64PE96N_1,  AR12,    87,  1,      4,   X031,2,19960711,0456, 47.4995,  -7.4995, 1482,   1314.9,   6.9372,  35.3916,2,  35.3903,2,    214.3,2,   -999.0,9,    13.56,2,    18.13,2,     0.00,2,     1.16,2,  -999.0,9,  6.8041,   6.943,6
     64PE96N_1,  AR12,    87,  1,      3,   X021,2,19960711,0456, 47.4995,  -7.4995, 1482,   1403.0,   6.3542,  35.3174,2,-999.0000,9,    220.6,2,    216.5,2,    13.53,2,    18.09,2,     0.00,2,     1.15,2,  -999.0,9,  6.2174,-999.000,9
     64PE96N_1,  AR12,    87,  1,      2,   X056,2,19960711,0456, 47.4995,  -7.4995, 1482,   1517.3,   6.0491,  35.2777,2,-999.0000,9,    225.8,2,   -999.0,9,    14.99,2,    18.45,2,     0.01,2,     1.18,2,  1514.4,6,  5.9035,   6.043,2
     64PE96N_1,  AR12,    87,  1,      1,   X051,2,19960711,0456, 47.4995,  -7.4995, 1482,   1608.7,   5.6719,  35.2282,2,  35.2300,6,    232.1,2,    230.1,6,    15.88,6,    18.52,6,     0.00,2,     1.19,6,  -999.0,9,  5.5211,-999.000,9
     64PE96N_1,  AR12,    88,  1,     22,   X049,2,19960711,0805, 47.4170,  -7.5838, 3698,      9.5,  15.5721,  35.6101,2,  35.6110,6,    258.4,2,    258.5,6,     0.42,2,     0.05,2,     0.02,2,     0.05,2,  -999.0,9, 15.5706,  15.562,2
     64PE96N_1,  AR12,    88,  1,     21,   X048,2,19960711,0805, 47.4170,  -7.5838, 3698,    101.2,  12.1328,  35.5951,2,  35.5953,2,    243.2,2,    241.0,2,     2.09,2,     6.14,2,     0.04,2,     0.36,2,  -999.0,9, 12.1195,  12.139,2
     64PE96N_1,  AR12,    88,  1,     20,   X046,2,19960711,0805, 47.4170,  -7.5838, 3698,    201.4,  11.4702,  35.5772,2,-999.0000,9,    236.8,2,   -999.0,9,     3.54,2,     9.03,2,     0.03,2,     0.54,2,  -999.0,9, 11.4445,  11.469,2
     64PE96N_1,  AR12,    88,  1,     19,   X047,2,19960711,0805, 47.4170,  -7.5838, 3698,    302.8,  11.3036,  35.5718,2,  35.5717,2,    234.5,2,    233.2,2,     3.93,2,     9.88,2,     0.03,2,     0.59,2,  -999.0,9, 11.2651,  11.303,2
     64PE96N_1,  AR12,    88,  1,     18,   X014,2,19960711,0805, 47.4170,  -7.5838, 3698,    404.8,  11.1582,  35.5641,2,-999.0000,9,    231.4,2,   -999.0,9,     4.32,2,    10.67,2,     0.02,2,     0.64,2,  -999.0,9, 11.1071,  11.155,2
     64PE96N_1,  AR12,    88,  1,     17,   X032,2,19960711,0805, 47.4170,  -7.5838, 3698,    505.0,  10.7885,  35.5364,2,  35.5395,2,    227.9,2,    226.9,2,     5.12,2,    11.96,2,     0.02,2,     0.73,2,  -999.0,9, 10.7258,  10.779,2
     64PE96N_1,  AR12,    88,  1,     16,   X026,2,19960711,0805, 47.4170,  -7.5838, 3698,    505.2,  10.7933,  35.5366,2,-999.0000,9,    227.0,2,   -999.0,9,     5.13,2,    11.96,2,     0.02,2,     0.73,2,  -999.0,9, 10.7305,  10.304,4
     64PE96N_1,  AR12,    88,  1,     15,   X059,4,19960711,0805, 47.4170,  -7.5838, 3698,    807.9,   9.8265,  35.6184,2,  35.5856,4,    202.3,2,    239.6,4,     2.75,4,     7.46,4,     0.03,4,     0.45,4,  -999.0,9,  9.7301,   9.837,2
     64PE96N_1,  AR12,    88,  1,     14,   X025,2,19960711,0805, 47.4170,  -7.5838, 3698,   1010.4,   9.2931,  35.6601,2,-999.0000,9,    199.2,2,   -999.0,9,    10.17,2,    16.97,2,     0.03,2,     1.05,2,  -999.0,9,  9.1751,   9.289,2
     64PE96N_1,  AR12,    88,  1,     13,   X058,2,19960711,0805, 47.4170,  -7.5838, 3698,   1212.4,   8.3322,  35.5880,2,  35.5885,2,    203.6,2,    200.8,2,    11.50,2,    17.51,2,     0.02,2,     1.10,2,  -999.0,9,  8.1977,   8.337,2
     64PE96N_1,  AR12,    88,  1,     12,   X015,2,19960711,0805, 47.4170,  -7.5838, 3698,   1417.0,   6.9891,  35.4018,2,-999.0000,9,    215.9,2,   -999.0,9,    13.58,2,    18.08,2,     0.02,2,     1.15,2,  -999.0,9,  6.8441,   6.989,2
     64PE96N_1,  AR12,    88,  1,     11,   X034,2,19960711,0805, 47.4170,  -7.5838, 3698,   1619.6,   5.6300,  35.2261,2,  35.2266,2,    228.9,2,    231.0,2,    16.04,2,    18.50,2,     0.03,2,     1.19,2,  -999.0,9,  5.4785,   5.657,4
     64PE96N_1,  AR12,    88,  1,     10,   X023,2,19960711,0805, 47.4170,  -7.5838, 3698,   1822.6,   4.3261,  35.0608,2,-999.0000,9,    244.5,2,   -999.0,9,    18.21,2,    18.59,2,     0.01,2,     1.22,2,  -999.0,9,  4.1711,   4.371,4
     64PE96N_1,  AR12,    88,  1,      9,   X035,2,19960711,0805, 47.4170,  -7.5838, 3698,   2025.8,   3.8735,  35.0258,2,  35.0261,2,    245.4,2,    247.4,2,    22.10,2,    19.33,2,     0.02,2,     1.27,2,  -999.0,9,  3.7051,   3.874,2
     64PE96N_1,  AR12,    88,  1,      8,   X044,2,19960711,0805, 47.4170,  -7.5838, 3698,   2229.2,   3.5792,  35.0072,2,-999.0000,9,    243.5,2,   -999.0,9,    25.91,2,    19.87,2,     0.01,2,     1.31,2,  2229.6,2,  3.3955,   3.584,6
     64PE96N_1,  AR12,    88,  1,      7,   X011,2,19960711,0805, 47.4170,  -7.5838, 3698,   2433.1,   3.2104,  34.9776,2,  34.9774,2,    243.6,2,    244.4,2,    30.17,2,    20.53,2,     0.02,2,     1.37,2,  -999.0,9,  3.0130,   3.208,2
     64PE96N_1,  AR12,    88,  1,      6,   X061,2,19960711,0805, 47.4170,  -7.5838, 3698,   2636.8,   3.0434,  34.9631,2,-999.0000,9,    243.6,2,   -999.0,9,    32.39,2,    20.90,2,     0.02,2,     1.39,2,  -999.0,9,  2.8290,   3.046,6
     64PE96N_1,  AR12,    88,  1,      5,   X057,2,19960711,0805, 47.4170,  -7.5838, 3698,   2841.8,   2.8894,  34.9494,2,  35.0107,4,    243.1,2,    240.1,2,    31.61,2,    20.48,2,     0.00,2,     1.37,2,  -999.0,9,  2.6573,   2.889,2
     64PE96N_1,  AR12,    88,  1,      4,   X031,2,19960711,0805, 47.4170,  -7.5838, 3698,   3046.1,   2.7878,  34.9398,2,-999.0000,9,    242.9,2,   -999.0,9,    36.33,2,    21.43,2,     0.01,2,     1.44,2,  -999.0,9,  2.5367,   2.788,6
     64PE96N_1,  AR12,    88,  1,      3,   X021,2,19960711,0805, 47.4170,  -7.5838, 3698,   3301.3,   2.6937,  34.9304,2,  34.9305,2,    242.8,2,    241.8,2,    38.12,2,    21.65,2,     0.01,2,     1.45,2,  -999.0,9,  2.4179,   2.694,2
     64PE96N_1,  AR12,    88,  1,      2,   X056,2,19960711,0805, 47.4170,  -7.5838, 3698,   3554.1,   2.6056,  34.9211,2,-999.0000,9,    242.3,2,   -999.0,9,    39.90,2,    21.97,2,     0.01,2,     1.48,2,  3552.4,6,  2.3045,   2.605,6
     64PE96N_1,  AR12,    88,  1,      1,   X051,2,19960711,0805, 47.4170,  -7.5838, 3698,   3802.8,   2.5654,  34.9154,2,  34.9146,6,    242.3,2,    239.3,6,    41.33,6,    22.12,6,     0.01,2,     1.48,6,  -999.0,9,  2.2377,   2.565,2
     64PE96N_1,  AR12,    89,  1,     22,   X049,2,19960711,1225, 47.3333,  -7.6663, 4085,      9.7,  15.8659,  35.6251,2,  35.6261,6,    256.8,2,    256.9,6,     0.33,2,     0.04,2,     0.03,2,     0.05,2,  -999.0,9, 15.8644,-999.000,9
     64PE96N_1,  AR12,    89,  1,     21,   X048,2,19960711,1225, 47.3333,  -7.6663, 4085,    100.4,  11.8351,  35.5757,2,  35.5747,2,    247.1,2,    243.7,2,     2.42,2,     7.09,2,     0.05,2,     0.42,2,  -999.0,9, 11.8221,-999.000,9
     64PE96N_1,  AR12,    89,  1,     20,   X046,2,19960711,1225, 47.3333,  -7.6663, 4085,    200.8,  11.4226,  35.5668,2,-999.0000,9,    243.8,2,   -999.0,9,     3.14,2,     8.58,2,     0.04,2,     0.50,2,  -999.0,9, 11.3970,-999.000,9
     64PE96N_1,  AR12,    89,  1,     19,   X047,2,19960711,1225, 47.3333,  -7.6663, 4085,    402.4,  10.8197,  35.5199,2,  35.5145,3,    230.5,2,    229.1,2,     4.98,2,    12.33,2,     0.04,2,     0.75,2,  -999.0,9, 10.7699,-999.000,9
     64PE96N_1,  AR12,    89,  1,     18,   X014,2,19960711,1225, 47.3333,  -7.6663, 4085,    604.9,  10.2581,  35.5218,2,-999.0000,9,    215.4,2,   -999.0,9,     6.81,2,    14.44,2,     0.04,2,     0.88,2,  -999.0,9, 10.1849,-999.000,9
     64PE96N_1,  AR12,    89,  1,     17,   X032,2,19960711,1225, 47.3333,  -7.6663, 4085,    707.3,  10.0504,  35.5808,2,  35.5812,2,    205.0,2,    202.7,2,     7.92,2,    15.63,2,     0.03,2,     0.96,2,  -999.0,9,  9.9654,-999.000,9
     64PE96N_1,  AR12,    89,  1,     16,   X026,2,19960711,1225, 47.3333,  -7.6663, 4085,    807.4,   9.8578,  35.6350,2,-999.0000,9,    198.4,2,   -999.0,9,     8.80,2,    16.42,2,     0.05,2,     1.01,2,  -999.0,9,  9.7613,-999.000,9
     64PE96N_1,  AR12,    89,  1,     15,   X059,4,19960711,1225, 47.3333,  -7.6663, 4085,    908.9,   9.4986,  35.6340,2,  35.5731,4,    198.8,2,    243.8,4,     2.65,4,     7.30,4,     0.09,4,     0.44,4,  -999.0,9,  9.3917,-999.000,9
     64PE96N_1,  AR12,    89,  1,     14,   X025,2,19960711,1225, 47.3333,  -7.6663, 4085,   1010.7,   9.1179,  35.6392,2,-999.0000,9,    197.8,2,   -999.0,9,    10.34,2,    17.13,2,     0.03,2,     1.05,2,  -999.0,9,  9.0012,-999.000,9
     64PE96N_1,  AR12,    89,  1,     13,   X058,2,19960711,1225, 47.3333,  -7.6663, 4085,   1263.1,   7.5772,  35.4855,2,  35.4818,2,    209.2,2,    209.6,2,    12.39,2,    17.85,2,     0.04,2,     1.11,2,  -999.0,9,  7.4437,-999.000,9
     64PE96N_1,  AR12,    89,  1,     12,   X015,2,19960711,1225, 47.3333,  -7.6663, 4085,   1517.5,   5.6342,  35.2133,2,-999.0000,9,    230.6,2,   -999.0,9,    14.57,2,    18.47,2,     0.04,2,     1.18,2,  -999.0,9,  5.4933,-999.000,9
     64PE96N_1,  AR12,    89,  1,     11,   X034,2,19960711,1225, 47.3333,  -7.6663, 4085,   1770.9,   4.4197,  35.0708,2,  35.0659,3,    244.2,2,    247.7,2,    17.79,2,    18.83,2,     0.05,2,     1.23,2,  -999.0,9,  4.2684,-999.000,9
     64PE96N_1,  AR12,    89,  1,     10,   X023,2,19960711,1225, 47.3333,  -7.6663, 4085,   2024.8,   3.9000,  35.0273,2,-999.0000,9,    245.1,2,   -999.0,9,    21.84,2,    19.22,2,     0.04,2,     1.26,2,  -999.0,9,  3.7313,-999.000,9
     64PE96N_1,  AR12,    89,  1,      9,   X035,2,19960711,1225, 47.3333,  -7.6663, 4085,   2281.8,   3.5056,  34.9990,2,  34.9987,2,    244.7,2,    246.3,2,    26.37,2,    20.07,2,     0.05,2,     1.31,2,  -999.0,9,  3.3180,-999.000,9
     64PE96N_1,  AR12,    89,  1,      8,   X044,2,19960711,1225, 47.3333,  -7.6663, 4085,   2535.4,   3.1184,  34.9676,2,-999.0000,9,    244.6,2,   -999.0,9,    30.37,2,    20.56,2,     0.04,2,     1.35,2,  2538.8,6,  2.9127,   3.120,2
     64PE96N_1,  AR12,    89,  1,      7,   X011,2,19960711,1225, 47.3333,  -7.6663, 4085,   2791.1,   2.9438,  34.9538,2,  34.9547,2,    243.1,2,    243.9,2,    33.34,2,    21.09,2,     0.03,2,     1.39,2,  -999.0,9,  2.7157,-999.000,9
     64PE96N_1,  AR12,    89,  1,      6,   X061,3,19960711,1225, 47.3333,  -7.6663, 4085,   3046.6,   2.8265,  34.9429,2,-999.0000,9,    242.7,2,   -999.0,9,  -999.00,9,  -999.00,9,  -999.00,9,  -999.00,9,  -999.0,9,  2.5745,  15.201,4
     64PE96N_1,  AR12,    89,  1,      4,   X031,2,19960711,1225, 47.3333,  -7.6663, 4085,   3557.2,   2.6141,  34.9219,2,-999.0000,9,    241.1,2,   -999.0,9,    39.46,2,    22.03,2,     0.03,2,     1.47,2,  -999.0,9,  2.3125,   2.613,6
     64PE96N_1,  AR12,    89,  1,      5,   X057,2,19960711,1225, 47.3333,  -7.6663, 4085,   3557.2,   2.6141,  34.9219,9,-999.0000,5,   -999.0,9,    244.6,2,    31.53,2,    20.87,2,     0.05,2,     1.36,2,  -999.0,9,  2.3125,-999.000,9
     64PE96N_1,  AR12,    89,  1,      3,   X021,2,19960711,1225, 47.3333,  -7.6663, 4085,   3813.8,   2.5537,  34.9145,2,  34.9129,2,    240.5,2,    240.4,2,    41.52,2,    22.21,2,     0.02,2,     1.48,2,  -999.0,9,  2.2250,-999.000,9
     64PE96N_1,  AR12,    89,  1,      2,   X056,2,19960711,1225, 47.3333,  -7.6663, 4085,   4071.5,   2.4994,  34.9072,2,-999.0000,9,    239.5,2,   -999.0,9,    43.11,2,    22.33,2,     0.03,2,     1.50,2,  4070.9,6,  2.1428,   2.501,2
     64PE96N_1,  AR12,    89,  1,      1,   X051,2,19960711,1225, 47.3333,  -7.6663, 4085,   4177.1,   2.5053,  34.9064,2,  34.9059,6,    240.0,2,    237.6,6,    43.53,6,    22.45,6,     0.02,2,     1.51,6,  -999.0,9,  2.1363,-999.000,9