BOTTLE,20020320WHPSIOKJU
EXPOCODE,SECT_ID,STNNBR,CASTNO,SAMPNO,BTLNBR,BTLNBR_FLAG_W,DATE,TIME,LATITUDE,LONGITUDE,DEPTH,CTDPRS,CTDTMP,CTDSAL,CTDSAL_FLAG_W,SALNTY,SALNTY_FLAG_W,CTDOXY,CTDOXY_FLAG_W,OXYGEN,OXYGEN_FLAG_W,SILCAT,SILCAT_FLAG_W,NITRAT,NITRAT_FLAG_W,NITRIT,NITRIT_FLAG_W,PHSPHT,PHSPHT_FLAG_W,REVPRS,REVPRS_FLAG_W,THETA,REVTMP,REVTMP_FLAG_W
,,,,,,,,,,,,DBAR,ITS-90,PSS-78,,PSS-78,,UMOL/KG,,UMOL/KG,,UMOL/KG,,UMOL/KG,,UMOL/KG,,UMOL/KG,,DBAR,,DEG C,ITS-90,
     64PE96N_1,  AR12,    96,  1,     20,   X046,2,19960713,0946, 48.0000,  -9.4997, 1812,     10.2,  15.8885,  35.6221,2,  35.6200,6,    258.7,2,    258.8,6,     0.25,2,     0.06,2,     0.02,2,     0.06,2,  -999.0,9, 15.8869,  15.892,2
     64PE96N_1,  AR12,    96,  1,     19,   X047,2,19960713,0946, 48.0000,  -9.4997, 1812,     49.7,  12.7711,  35.5885,2,  35.5860,2,    249.9,2,    250.0,2,     1.00,2,     3.35,2,     0.39,2,     0.24,2,  -999.0,9, 12.7643,  12.791,3
     64PE96N_1,  AR12,    96,  1,     18,   X014,4,19960713,0946, 48.0000,  -9.4997, 1812,    100.3,  11.9194,  35.5915,2,-999.0000,9,    242.7,2,   -999.0,9,    11.33,4,    15.81,4,     0.04,4,     0.98,4,  -999.0,9, 11.9063,  11.912,2
     64PE96N_1,  AR12,    96,  1,     17,   X032,2,19960713,0946, 48.0000,  -9.4997, 1812,    200.4,  11.4420,  35.5696,2,  35.5690,2,    242.3,2,    247.4,2,     2.98,2,     8.69,2,     0.03,2,     0.52,2,  -999.0,9, 11.4165,  11.439,2
     64PE96N_1,  AR12,    96,  1,     16,   X026,2,19960713,0946, 48.0000,  -9.4997, 1812,    303.2,  11.2411,  35.5507,2,-999.0000,9,    234.8,2,   -999.0,9,     3.78,2,    10.56,2,     0.02,2,     0.63,2,  -999.0,9, 11.2027,  11.240,2
     64PE96N_1,  AR12,    96,  1,     15,   X059,2,19960713,0946, 48.0000,  -9.4997, 1812,    403.3,  10.8993,  35.5260,2,  35.5283,2,    225.4,2,    228.6,2,     4.68,2,    12.30,2,     0.06,2,     0.73,2,  -999.0,9, 10.8491,  10.899,2
     64PE96N_1,  AR12,    96,  1,     14,   X025,2,19960713,0946, 48.0000,  -9.4997, 1812,    504.9,  10.6390,  35.5076,2,-999.0000,9,    223.2,2,   -999.0,9,     5.30,2,    13.26,2,     0.02,2,     0.79,2,  -999.0,9, 10.5768,  10.639,2
     64PE96N_1,  AR12,    96,  1,     13,   X058,2,19960713,0946, 48.0000,  -9.4997, 1812,    604.5,  10.3363,  35.5113,2,  35.5128,2,    212.4,2,    214.5,2,     6.40,2,    14.54,2,     0.02,2,     0.88,2,  -999.0,9, 10.2628,  10.335,2
     64PE96N_1,  AR12,    96,  1,     12,   X015,2,19960713,0946, 48.0000,  -9.4997, 1812,    706.7,  10.0453,  35.5458,2,-999.0000,9,    202.6,2,   -999.0,9,     7.82,2,    16.17,2,     0.02,2,     0.99,2,  -999.0,9,  9.9604,  10.048,2
     64PE96N_1,  AR12,    96,  1,     11,   X034,2,19960713,0946, 48.0000,  -9.4997, 1812,    808.1,   9.6937,  35.5662,2,  35.5657,2,    196.8,2,    193.2,2,     8.83,2,    17.09,2,     0.01,2,     1.05,2,  -999.0,9,  9.5981,   9.694,2
     64PE96N_1,  AR12,    96,  1,     10,   X023,2,19960713,0946, 48.0000,  -9.4997, 1812,    908.5,   9.4939,  35.6271,2,-999.0000,9,    194.1,2,   -999.0,9,     9.36,2,    17.19,2,     0.02,2,     1.06,2,  -999.0,9,  9.3871,   9.522,4
     64PE96N_1,  AR12,    96,  1,      9,   X035,2,19960713,0946, 48.0000,  -9.4997, 1812,   1010.6,   9.1710,  35.6557,2,  35.6564,2,    195.2,2,    192.2,2,    10.01,2,    17.52,2,     0.02,2,     1.08,2,  -999.0,9,  9.0539,   9.162,2
     64PE96N_1,  AR12,    96,  1,      8,   X044,2,19960713,0946, 48.0000,  -9.4997, 1812,   1110.8,   8.6088,  35.6126,2,-999.0000,9,    200.3,2,   -999.0,9,    10.49,2,    17.74,2,     0.01,2,     1.09,2,  1110.3,6,  8.4840,   8.612,6
     64PE96N_1,  AR12,    96,  1,      7,   X011,2,19960713,0946, 48.0000,  -9.4997, 1812,   1212.2,   7.9964,  35.5314,2,  35.5281,2,    204.8,2,    204.3,2,    10.94,2,    17.95,2,     0.02,2,     1.12,2,  -999.0,9,  7.8649,   8.020,4
     64PE96N_1,  AR12,    96,  1,      6,   X061,2,19960713,0946, 48.0000,  -9.4997, 1812,   1314.5,   7.1459,  35.4084,2,-999.0000,9,    213.8,2,   -999.0,9,    11.78,2,    18.14,2,     0.01,2,     1.14,2,  -999.0,9,  7.0108,   7.167,3
     64PE96N_1,  AR12,    96,  1,      5,   X057,2,19960713,0946, 48.0000,  -9.4997, 1812,   1416.2,   6.4818,  35.3145,2,  35.3327,3,    221.2,2,    221.7,2,    11.95,2,    17.92,2,     0.01,2,     1.13,2,  -999.0,9,  6.3423,   6.482,2
     64PE96N_1,  AR12,    96,  1,      4,   X031,2,19960713,0946, 48.0000,  -9.4997, 1812,   1518.1,   5.6252,  35.1954,2,-999.0000,9,    231.9,2,   -999.0,9,    13.20,2,    18.45,2,     0.02,2,     1.17,2,  -999.0,9,  5.4844,   5.689,4
     64PE96N_1,  AR12,    96,  1,      3,   X021,2,19960713,0946, 48.0000,  -9.4997, 1812,   1619.5,   4.4916,  35.0759,2,  35.0774,2,    244.9,2,    245.0,2,    17.58,2,    18.73,2,     0.02,2,     1.22,2,  -999.0,9,  4.3541,   4.502,2
     64PE96N_1,  AR12,    96,  1,      2,   X056,2,19960713,0946, 48.0000,  -9.4997, 1812,   1721.1,   4.3286,  35.0663,2,-999.0000,9,    246.7,2,   -999.0,9,    19.58,2,    19.08,2,     0.02,2,     1.24,2,  1716.9,6,  4.1834,   4.330,6
     64PE96N_1,  AR12,    96,  1,      1,   X051,2,19960713,0946, 48.0000,  -9.4997, 1812,   1840.1,   4.2543,  35.0588,2,  35.0601,6,    250.4,2,    244.0,6,    19.91,6,    19.16,6,     0.01,2,     1.25,6,  -999.0,9,  4.0986,   4.254,2
     64PE96N_1,  AR12,    97,  1,     22,   X049,2,19960713,1307, 47.8337,  -9.5838, 3805,     10.8,  16.7740,  35.6333,2,  35.6309,6,    254.0,2,    254.1,2,     0.22,2,     0.01,2,     0.00,2,     0.06,2,  -999.0,9, 16.7722,  16.771,2
     64PE96N_1,  AR12,    97,  1,     21,   X048,2,19960713,1307, 47.8337,  -9.5838, 3805,    101.1,  11.8730,  35.5901,2,  35.5909,2,    246.4,2,    242.8,2,     2.67,2,     8.20,2,     0.01,2,     0.50,2,  -999.0,9, 11.8599,  11.873,2
     64PE96N_1,  AR12,    97,  1,     20,   X046,2,19960713,1307, 47.8337,  -9.5838, 3805,    202.1,  11.3859,  35.5604,2,-999.0000,9,    247.0,2,   -999.0,9,     3.58,2,     9.69,2,     0.00,2,     0.59,2,  -999.0,9, 11.3602,  11.400,2
     64PE96N_1,  AR12,    97,  1,     19,   X047,2,19960713,1307, 47.8337,  -9.5838, 3805,    302.3,  11.1351,  35.5313,2,  35.5307,2,    244.4,2,    244.4,2,     3.83,2,    10.19,2,     0.01,2,     0.62,2,  -999.0,9, 11.0971,  11.139,2
     64PE96N_1,  AR12,    97,  1,     18,   X014,4,19960713,1307, 47.8337,  -9.5838, 3805,    403.6,  10.8776,  35.5015,2,-999.0000,9,    240.3,2,   -999.0,9,    24.91,4,    18.66,4,     0.00,4,     1.22,4,  -999.0,9, 10.8275,  10.879,2
     64PE96N_1,  AR12,    97,  1,     17,   X032,2,19960713,1307, 47.8337,  -9.5838, 3805,    504.5,  10.6255,  35.4982,2,  35.4973,2,    228.8,2,    226.9,2,     5.22,2,    12.86,2,     0.00,2,     0.79,2,  -999.0,9, 10.5634,  10.624,2
     64PE96N_1,  AR12,    97,  1,     16,   X026,2,19960713,1307, 47.8337,  -9.5838, 3805,    606.2,  10.3716,  35.4960,2,-999.0000,9,    220.9,2,   -999.0,9,     6.10,2,    13.85,2,     0.00,2,     0.86,2,  -999.0,9, 10.2978,  10.370,2
     64PE96N_1,  AR12,    97,  1,     15,   X059,2,19960713,1307, 47.8337,  -9.5838, 3805,    807.2,   9.7047,  35.5438,2,  35.5489,3,    199.8,2,    200.1,2,     8.07,2,    15.81,2,     0.00,2,     0.98,2,  -999.0,9,  9.6092,   9.705,2
     64PE96N_1,  AR12,    97,  1,     14,   X025,2,19960713,1307, 47.8337,  -9.5838, 3805,   1009.9,   9.0058,  35.6146,2,-999.0000,9,    198.3,2,   -999.0,9,    10.05,2,    17.42,2,     0.00,2,     1.08,2,  -999.0,9,  8.8900,   9.012,2
     64PE96N_1,  AR12,    97,  1,     13,   X058,2,19960713,1307, 47.8337,  -9.5838, 3805,   1214.1,   8.1755,  35.5542,2,  35.5482,3,    204.5,2,    202.7,2,    11.08,2,    17.68,2,     0.00,2,     1.11,2,  -999.0,9,  8.0422,   8.180,2
     64PE96N_1,  AR12,    97,  1,     12,   X015,2,19960713,1307, 47.8337,  -9.5838, 3805,   1416.3,   6.3219,  35.2896,2,-999.0000,9,    223.7,2,   -999.0,9,    12.33,2,    18.03,2,     0.00,2,     1.16,2,  -999.0,9,  6.1841,   6.326,2
     64PE96N_1,  AR12,    97,  1,     11,   X034,2,19960713,1307, 47.8337,  -9.5838, 3805,   1619.0,   4.7506,  35.0775,2,  35.0766,2,    244.2,2,    247.4,2,    13.72,2,    18.14,2,     0.00,2,     1.18,2,  -999.0,9,  4.6101,   4.741,2
     64PE96N_1,  AR12,    97,  1,     10,   X023,2,19960713,1307, 47.8337,  -9.5838, 3805,   1822.5,   4.0333,  35.0049,2,-999.0000,9,    252.1,2,   -999.0,9,    15.75,2,    18.03,2,     0.00,2,     1.19,2,  -999.0,9,  3.8824,   4.034,2
     64PE96N_1,  AR12,    97,  1,      9,   X035,2,19960713,1307, 47.8337,  -9.5838, 3805,   2026.4,   3.7727,  35.0155,2,  35.0985,4,    244.5,2,    242.6,3,    20.72,2,    18.60,2,     0.00,2,     1.22,2,  -999.0,9,  3.6058,   3.781,2
     64PE96N_1,  AR12,    97,  1,      8,   X044,2,19960713,1307, 47.8337,  -9.5838, 3805,   2280.8,   3.3702,  34.9822,2,-999.0000,9,    245.1,2,   -999.0,9,    27.15,2,    19.88,2,     0.00,2,     1.33,2,  2282.3,6,  3.1850,   3.371,6
     64PE96N_1,  AR12,    97,  1,      7,   X011,2,19960713,1307, 47.8337,  -9.5838, 3805,   2536.8,   3.1129,  34.9647,2,  34.9643,2,    244.8,2,    246.3,2,    30.12,2,    20.30,2,     0.00,2,     1.37,2,  -999.0,9,  2.9072,   3.114,2
     64PE96N_1,  AR12,    97,  1,      6,   X061,2,19960713,1307, 47.8337,  -9.5838, 3805,   2790.8,   2.8788,  34.9471,2,-999.0000,9,    242.9,2,   -999.0,9,    34.36,2,    20.92,2,     0.00,2,     1.41,2,  -999.0,9,  2.6521,   2.880,6
     64PE96N_1,  AR12,    97,  1,      5,   X057,4,19960713,1307, 47.8337,  -9.5838, 3805,   3046.8,   2.7748,  34.9375,2,  35.0192,4,    242.4,2,    241.3,4,    31.11,4,    20.17,4,     0.00,4,     1.35,4,  -999.0,9,  2.5240,   2.774,2
     64PE96N_1,  AR12,    97,  1,      4,   X031,2,19960713,1307, 47.8337,  -9.5838, 3805,   3303.1,   2.6907,  34.9295,2,-999.0000,9,    241.4,2,   -999.0,9,    38.25,2,    21.50,2,     0.00,2,     1.45,2,  -999.0,9,  2.4148,   2.688,6
     64PE96N_1,  AR12,    97,  1,      3,   X021,2,19960713,1307, 47.8337,  -9.5838, 3805,   3558.5,   2.6032,  34.9211,2,  34.9204,2,    241.2,2,    241.1,2,    40.14,2,    21.85,2,     0.00,2,     1.48,2,  -999.0,9,  2.3017,   2.604,2
     64PE96N_1,  AR12,    97,  1,      2,   X056,2,19960713,1307, 47.8337,  -9.5838, 3805,   3815.1,   2.5436,  34.9140,2,-999.0000,9,    240.9,2,   -999.0,9,    41.34,2,    22.02,2,     0.00,2,     1.49,2,  3815.9,6,  2.2151,   2.544,2
     64PE96N_1,  AR12,    97,  1,      1,   X051,2,19960713,1307, 47.8337,  -9.5838, 3805,   3879.0,   2.5284,  34.9119,2,  34.9111,6,    241.3,2,    238.6,6,    42.38,6,    22.01,6,     0.01,2,     1.49,6,  -999.0,9,  2.1930,   2.527,2
     64PE96N_1,  AR12,    98,  1,     21,   X048,2,19960713,1646, 47.6668,  -9.6662, 4059,      8.4,  17.0629,  35.6377,2,  35.6434,6,    253.8,2,    253.9,6,     0.17,2,     0.01,2,     0.01,2,     0.05,2,  -999.0,9, 17.0615,-999.000,9
     64PE96N_1,  AR12,    98,  1,     20,   X046,2,19960713,1646, 47.6668,  -9.6662, 4059,     99.9,  11.8831,  35.6115,2,-999.0000,9,    246.7,2,   -999.0,9,     2.62,2,     7.92,2,     0.01,2,     0.48,2,  -999.0,9, 11.8701,-999.000,9
     64PE96N_1,  AR12,    98,  1,     19,   X047,2,19960713,1646, 47.6668,  -9.6662, 4059,    201.9,  11.3560,  35.5561,2,  35.5557,2,    245.9,2,    245.2,2,     3.65,2,     9.65,2,     0.00,2,     0.59,2,  -999.0,9, 11.3304,-999.000,9
     64PE96N_1,  AR12,    98,  1,     18,   X014,4,19960713,1646, 47.6668,  -9.6662, 4059,    404.5,  10.8524,  35.4990,2,-999.0000,9,    235.6,2,   -999.0,9,    25.19,4,    18.56,4,     0.00,4,     1.23,4,  -999.0,9, 10.8022,-999.000,9
     64PE96N_1,  AR12,    98,  1,     17,   X032,2,19960713,1646, 47.6668,  -9.6662, 4059,    605.9,  10.3456,  35.5075,2,  35.5098,2,    216.7,2,    214.8,2,     6.42,2,    14.03,2,     0.00,2,     0.87,2,  -999.0,9, 10.2719,-999.000,9
     64PE96N_1,  AR12,    98,  1,     16,   X026,2,19960713,1646, 47.6668,  -9.6662, 4059,    707.1,  10.1357,  35.5491,2,-999.0000,9,    203.9,2,    201.3,2,     7.54,6,    15.39,6,     0.00,2,     0.96,6,  -999.0,9, 10.0503,-999.000,9
     64PE96N_1,  AR12,    98,  1,     15,   X059,3,19960713,1646, 47.6668,  -9.6662, 4059,    805.5,   9.8485,  35.5957,2,-999.0000,9,    194.9,2,   -999.0,9,  -999.00,9,  -999.00,9,  -999.00,9,  -999.00,9,  -999.0,9,  9.7523,-999.000,9
     64PE96N_1,  AR12,    98,  1,     14,   X025,2,19960713,1646, 47.6668,  -9.6662, 4059,    909.7,   9.4229,  35.6017,2,-999.0000,9,    192.5,2,   -999.0,9,     9.47,2,    16.94,2,     0.00,2,     1.07,2,  -999.0,9,  9.3165,-999.000,9
     64PE96N_1,  AR12,    98,  1,     13,   X058,2,19960713,1646, 47.6668,  -9.6662, 4059,   1010.8,   8.9803,  35.6178,2,  35.6170,2,    194.6,2,    193.6,2,     9.99,2,    17.11,2,     0.00,2,     1.08,2,  -999.0,9,  8.8646,-999.000,9
     64PE96N_1,  AR12,    98,  1,     12,   X015,2,19960713,1646, 47.6668,  -9.6662, 4059,   1264.9,   7.1499,  35.4105,2,-999.0000,9,    211.0,2,   -999.0,9,    11.51,2,    17.56,2,     0.00,2,     1.13,2,  -999.0,9,  7.0202,-999.000,9
     64PE96N_1,  AR12,    98,  1,     11,   X034,2,19960713,1646, 47.6668,  -9.6662, 4059,   1517.9,   5.1073,  35.1283,2,  35.1286,2,    237.8,2,    242.3,2,    12.74,2,    17.87,2,     0.00,2,     1.17,2,  -999.0,9,  4.9725,-999.000,9
     64PE96N_1,  AR12,    98,  1,     10,   X023,2,19960713,1646, 47.6668,  -9.6662, 4059,   1771.7,   4.1551,  35.0233,2,-999.0000,9,    248.4,2,   -999.0,9,    16.38,2,    17.81,2,     0.00,2,     1.20,2,  -999.0,9,  4.0074,-999.000,9
     64PE96N_1,  AR12,    98,  1,      9,   X035,4,19960713,1646, 47.6668,  -9.6662, 4059,   2026.1,   3.7070,  34.9929,2,  35.0267,4,    249.5,2,    251.4,4,    18.24,4,    18.07,4,     0.00,4,     1.21,4,  -999.0,9,  3.5412,-999.000,9
     64PE96N_1,  AR12,    98,  1,      8,   X044,2,19960713,1646, 47.6668,  -9.6662, 4059,   2281.5,   3.3737,  34.9830,2,-999.0000,9,    245.3,2,   -999.0,9,    25.54,2,    19.32,2,     0.00,2,     1.31,2,  2282.3,6,  3.1884,   3.371,2
     64PE96N_1,  AR12,    98,  1,      7,   X011,2,19960713,1646, 47.6668,  -9.6662, 4059,   2536.5,   3.0616,  34.9613,2,  34.9634,2,    243.0,2,    245.9,2,    30.33,2,    20.04,2,     0.00,2,     1.35,2,  -999.0,9,  2.8568,-999.000,9
     64PE96N_1,  AR12,    98,  1,      6,   X061,2,19960713,1646, 47.6668,  -9.6662, 4059,   2779.0,   2.9065,  34.9503,2,-999.0000,9,    242.9,2,   -999.0,9,    32.80,2,    20.41,2,     0.00,2,     1.39,2,  -999.0,9,  2.6804,   2.905,6
     64PE96N_1,  AR12,    98,  1,      5,   X057,4,19960713,1646, 47.6668,  -9.6662, 4059,   3048.0,   2.7548,  34.9378,2,  35.0182,4,    241.3,2,    240.6,4,    30.05,4,    19.63,4,     0.00,4,     1.32,4,  -999.0,9,  2.5043,-999.000,9
     64PE96N_1,  AR12,    98,  1,      4,   X031,2,19960713,1646, 47.6668,  -9.6662, 4059,   3301.4,   2.6554,  34.9281,2,-999.0000,9,    240.1,2,   -999.0,9,    38.15,2,    21.24,2,     0.00,2,     1.44,2,  -999.0,9,  2.3805,   2.654,6
     64PE96N_1,  AR12,    98,  1,      3,   X021,2,19960713,1646, 47.6668,  -9.6662, 4059,   3558.8,   2.5770,  34.9192,2,  34.9186,2,    238.9,2,    241.0,2,    40.32,2,    21.59,2,     0.00,2,     1.47,2,  -999.0,9,  2.2761,-999.000,9
     64PE96N_1,  AR12,    98,  1,      2,   X056,2,19960713,1646, 47.6668,  -9.6662, 4059,   4072.4,   2.4777,  34.9052,2,-999.0000,9,    236.9,2,   -999.0,9,    43.64,2,    21.99,2,     0.00,2,     1.50,2,  4071.4,6,  2.1217,   2.477,2
     64PE96N_1,  AR12,    98,  1,      1,   X051,2,19960713,1646, 47.6668,  -9.6662, 4059,   4146.9,   2.4720,  34.9035,2,  34.9031,6,    237.1,2,    235.3,6,    44.55,6,    22.40,6,     0.02,2,     1.52,6,  -999.0,9,  2.1075,-999.000,9