BOTTLE,20020320WHPSIOKJU
EXPOCODE,SECT_ID,STNNBR,CASTNO,SAMPNO,BTLNBR,BTLNBR_FLAG_W,DATE,TIME,LATITUDE,LONGITUDE,DEPTH,CTDPRS,CTDTMP,CTDSAL,CTDSAL_FLAG_W,SALNTY,SALNTY_FLAG_W,CTDOXY,CTDOXY_FLAG_W,OXYGEN,OXYGEN_FLAG_W,SILCAT,SILCAT_FLAG_W,NITRAT,NITRAT_FLAG_W,NITRIT,NITRIT_FLAG_W,PHSPHT,PHSPHT_FLAG_W,REVPRS,REVPRS_FLAG_W,THETA,REVTMP,REVTMP_FLAG_W
,,,,,,,,,,,,DBAR,ITS-90,PSS-78,,PSS-78,,UMOL/KG,,UMOL/KG,,UMOL/KG,,UMOL/KG,,UMOL/KG,,UMOL/KG,,DBAR,,DEG C,ITS-90,
     64PE96N_1,  AR12,    72,  1,     17,   X032,2,19960708,1432, 44.3750,  -2.7498, 1427,     10.3,  19.0057,  35.3806,2,  35.5245,3,    241.2,2,    241.3,6,     0.61,2,     0.00,2,     0.02,2,     0.05,2,  -999.0,9, 19.0039,-999.000,9
     64PE96N_1,  AR12,    72,  1,     16,   X026,2,19960708,1432, 44.3750,  -2.7498, 1427,     49.9,  13.8305,  35.6562,2,-999.0000,9,    260.4,2,   -999.0,9,     0.70,2,     0.06,2,     0.06,2,     0.06,2,  -999.0,9, 13.8233,-999.000,9
     64PE96N_1,  AR12,    72,  1,     15,   X059,2,19960708,1432, 44.3750,  -2.7498, 1427,    100.7,  12.5554,  35.6529,2,  35.6526,2,    240.2,2,    238.4,2,     1.92,2,     5.54,2,     0.03,2,     0.33,2,  -999.0,9, 12.5418,-999.000,9
     64PE96N_1,  AR12,    72,  1,     14,   X025,2,19960708,1432, 44.3750,  -2.7498, 1427,    202.0,  12.0174,  35.6164,2,-999.0000,9,    237.4,2,   -999.0,9,     2.48,2,     7.26,2,     0.02,2,     0.43,2,  -999.0,9, 11.9908,-999.000,9
     64PE96N_1,  AR12,    72,  1,     13,   X058,2,19960708,1432, 44.3750,  -2.7498, 1427,    301.9,  11.4772,  35.5851,2,  35.5853,2,    228.4,2,    228.5,2,     3.62,2,    10.52,2,     0.02,2,     0.63,2,  -999.0,9, 11.4385,-999.000,9
     64PE96N_1,  AR12,    72,  1,     12,   X015,2,19960708,1432, 44.3750,  -2.7498, 1427,    403.5,  11.1807,  35.5698,2,-999.0000,9,    224.5,2,   -999.0,9,     4.28,2,    11.74,2,     0.01,2,     0.71,2,  -999.0,9, 11.1297,-999.000,9
     64PE96N_1,  AR12,    72,  1,     11,   X034,2,19960708,1432, 44.3750,  -2.7498, 1427,    505.5,  10.8480,  35.5566,2,  35.5570,2,    218.9,2,    218.5,2,     5.21,2,    13.12,2,     0.01,2,     0.78,2,  -999.0,9, 10.7850,-999.000,9
     64PE96N_1,  AR12,    72,  1,     10,   X023,2,19960708,1432, 44.3750,  -2.7498, 1427,    605.6,  10.5555,  35.5696,2,-999.0000,9,    209.6,2,   -999.0,9,     6.38,2,    14.41,2,     0.02,2,     0.88,2,  -999.0,9, 10.4809,-999.000,9
     64PE96N_1,  AR12,    72,  1,      9,   X035,2,19960708,1432, 44.3750,  -2.7498, 1427,    707.6,  10.2934,  35.6216,2,  35.6236,2,    198.4,2,    196.8,2,     7.61,2,    15.70,2,     0.01,2,     0.96,2,  -999.0,9, 10.2070,-999.000,9
     64PE96N_1,  AR12,    72,  1,      8,   X044,2,19960708,1432, 44.3750,  -2.7498, 1427,    807.2,  10.1398,  35.6789,2,-999.0000,9,    193.4,2,   -999.0,9,     8.41,2,    16.41,2,     0.02,2,     1.00,2,   805.8,6, 10.0416,  10.143,2
     64PE96N_1,  AR12,    72,  1,      7,   X011,2,19960708,1432, 44.3750,  -2.7498, 1427,    909.5,   9.9255,  35.7365,2,  35.7384,2,    189.5,2,    187.5,2,     9.20,2,    16.89,2,     0.01,2,     1.04,2,  -999.0,9,  9.8157,-999.000,9
     64PE96N_1,  AR12,    72,  1,      6,   X061,2,19960708,1432, 44.3750,  -2.7498, 1427,   1011.1,   9.3769,  35.7388,2,-999.0000,9,    192.3,2,   -999.0,9,    10.08,2,    17.17,2,     0.00,2,     1.06,2,  -999.0,9,  9.2581,   9.369,6
     64PE96N_1,  AR12,    72,  1,      5,   X057,2,19960708,1432, 44.3750,  -2.7498, 1427,   1111.4,   8.8907,  35.6904,2,  35.6865,2,    196.5,2,    194.5,2,    10.64,2,    17.42,2,     0.02,2,     1.08,2,  -999.0,9,  8.7635,-999.000,9
     64PE96N_1,  AR12,    72,  1,      4,   X031,2,19960708,1432, 44.3750,  -2.7498, 1427,   1211.9,   8.3334,  35.6175,2,-999.0000,9,    201.6,2,   -999.0,9,    11.23,2,    17.88,2,     0.00,2,     1.10,2,  -999.0,9,  8.1989,   8.335,6
     64PE96N_1,  AR12,    72,  1,      3,   X021,2,19960708,1432, 44.3750,  -2.7498, 1427,   1314.0,   7.7373,  35.5318,2,  35.5305,2,    209.0,2,    206.1,2,    11.77,2,    17.85,2,     0.00,2,     1.12,2,  -999.0,9,  7.5964,-999.000,9
     64PE96N_1,  AR12,    72,  1,      2,   X050,2,19960708,1432, 44.3750,  -2.7498, 1427,   1417.2,   6.8909,  35.4084,2,-999.0000,9,    219.6,2,   -999.0,9,    12.80,2,    18.18,2,     0.01,2,     1.15,2,  -999.0,9,  6.7469,-999.000,9
     64PE96N_1,  AR12,    72,  1,      1,   X051,2,19960708,1432, 44.3750,  -2.7498, 1427,   1437.0,   6.7761,  35.3918,2,  35.3929,6,    221.9,2,    215.9,6,    13.04,6,    18.17,6,     0.01,2,     1.16,6,  -999.0,9,  6.6311,-999.000,9
     64PE96N_1,  AR12,    73,  1,     18,   X014,2,19960708,1705, 44.4997,  -2.9998, 1592,      9.2,  18.4131,  35.6286,2,  35.6378,6,    242.8,2,    242.9,6,     0.66,2,     0.00,2,     0.01,2,     0.04,2,  -999.0,9, 18.4115,-999.000,9
     64PE96N_1,  AR12,    73,  1,     17,   X032,2,19960708,1705, 44.4997,  -2.9998, 1592,     50.2,  13.3586,  35.6452,2,  35.6463,2,    254.5,2,    252.0,2,     1.21,2,     1.60,2,     0.09,2,     0.10,2,  -999.0,9, 13.3516,-999.000,9
     64PE96N_1,  AR12,    73,  1,     16,   X026,2,19960708,1705, 44.4997,  -2.9998, 1592,    101.5,  12.4613,  35.6474,2,-999.0000,9,    238.0,2,   -999.0,9,     2.07,2,     5.86,2,     0.02,2,     0.34,2,  -999.0,9, 12.4477,-999.000,9
     64PE96N_1,  AR12,    73,  1,     15,   X059,2,19960708,1705, 44.4997,  -2.9998, 1592,    201.3,  12.0008,  35.6160,2,  35.6147,2,    236.0,2,    238.4,2,     2.47,2,     7.31,2,     0.00,2,     0.43,2,  -999.0,9, 11.9743,-999.000,9
     64PE96N_1,  AR12,    73,  1,     14,   X025,2,19960708,1705, 44.4997,  -2.9998, 1592,    304.0,  11.6209,  35.5903,2,-999.0000,9,    228.9,2,   -999.0,9,     3.32,2,     9.77,2,     0.01,2,     0.58,2,  -999.0,9, 11.5816,-999.000,9
     64PE96N_1,  AR12,    73,  1,     13,   X058,2,19960708,1705, 44.4997,  -2.9998, 1592,    404.1,  11.2551,  35.5729,2,  35.5723,2,    223.3,2,    225.8,2,     4.08,2,    11.46,2,     0.00,2,     0.69,2,  -999.0,9, 11.2038,-999.000,9
     64PE96N_1,  AR12,    73,  1,     12,   X015,2,19960708,1705, 44.4997,  -2.9998, 1592,    503.2,  10.8990,  35.5615,2,-999.0000,9,    216.8,2,   -999.0,9,     5.10,2,    12.85,2,     0.02,2,     0.78,2,  -999.0,9, 10.8361,-999.000,9
     64PE96N_1,  AR12,    73,  1,     11,   X034,2,19960708,1705, 44.4997,  -2.9998, 1592,    605.0,  10.5666,  35.5713,2,  35.5715,2,    208.3,2,    208.4,2,     6.37,2,    14.30,2,     0.02,2,     0.88,2,  -999.0,9, 10.4920,-999.000,9
     64PE96N_1,  AR12,    73,  1,     10,   X023,2,19960708,1705, 44.4997,  -2.9998, 1592,    706.2,  10.3377,  35.6073,2,-999.0000,9,    199.4,2,   -999.0,9,     7.47,2,    15.43,2,     0.01,2,     0.95,2,  -999.0,9, 10.2513,-999.000,9
     64PE96N_1,  AR12,    73,  1,      9,   X035,2,19960708,1705, 44.4997,  -2.9998, 1592,    807.4,  10.1711,  35.6671,2,  35.6708,2,    192.5,2,    191.1,2,     8.42,2,    16.18,2,     0.02,2,     1.00,2,  -999.0,9, 10.0727,-999.000,9
     64PE96N_1,  AR12,    73,  1,      8,   X044,2,19960708,1705, 44.4997,  -2.9998, 1592,    909.2,   9.9844,  35.7330,2,-999.0000,9,    188.0,2,   -999.0,9,     9.17,2,    16.58,2,     0.02,2,     1.03,2,   907.3,6,  9.8742,   9.983,2
     64PE96N_1,  AR12,    73,  1,      7,   X011,2,19960708,1705, 44.4997,  -2.9998, 1592,   1010.7,   9.7509,  35.7535,2,  35.7537,2,    188.8,2,    187.3,2,     9.69,2,    17.02,2,     0.01,2,     1.04,2,  -999.0,9,  9.6295,-999.000,9
     64PE96N_1,  AR12,    73,  1,      6,   X061,2,19960708,1705, 44.4997,  -2.9998, 1592,   1112.0,   9.1721,  35.7223,2,-999.0000,9,    192.7,2,   -999.0,9,    10.45,2,    17.19,2,     0.02,2,     1.08,2,  -999.0,9,  9.0425,   9.130,4
     64PE96N_1,  AR12,    73,  1,      5,   X057,2,19960708,1705, 44.4997,  -2.9998, 1592,   1213.9,   8.4001,  35.6257,2,  35.6256,2,    197.8,2,    198.8,2,    11.29,2,    17.60,2,     0.01,2,     1.10,2,  -999.0,9,  8.2648,-999.000,9
     64PE96N_1,  AR12,    73,  1,      4,   X031,2,19960708,1705, 44.4997,  -2.9998, 1592,   1314.0,   7.6023,  35.5114,2,-999.0000,9,    205.0,2,   -999.0,9,    12.19,2,    17.91,2,     0.02,2,     1.13,2,  -999.0,9,  7.4627,-999.000,9
     64PE96N_1,  AR12,    73,  1,      3,   X021,2,19960708,1705, 44.4997,  -2.9998, 1592,   1416.4,   6.8234,  35.3999,2,  35.3998,2,    213.1,2,    216.2,2,    12.98,2,    18.05,2,     0.03,2,     1.16,2,  -999.0,9,  6.6802,-999.000,9
     64PE96N_1,  AR12,    73,  1,      2,   X050,2,19960708,1705, 44.4997,  -2.9998, 1592,   1517.4,   5.9824,  35.2800,2,-999.0000,9,    224.2,2,   -999.0,9,    14.13,2,    18.39,2,     0.02,2,     1.18,2,  -999.0,9,  5.8375,-999.000,9
     64PE96N_1,  AR12,    73,  1,      1,   X051,2,19960708,1705, 44.4997,  -2.9998, 1592,   1612.2,   5.2567,  35.1837,2,  35.1852,6,    236.4,2,    234.0,6,    15.57,6,    18.46,6,     0.02,2,     1.21,6,  -999.0,9,  5.1105,-999.000,9
     64PE96N_1,  AR12,    74,  1,     22,   X049,2,19960708,2032, 44.6267,  -3.2483, -999,     10.3,  18.4970,  35.6612,2,  35.6649,6,    237.2,2,    237.2,6,     0.63,2,     0.00,2,     0.00,2,     0.05,2,  -999.0,9, 18.4952,  18.495,2
     64PE96N_1,  AR12,    74,  1,     21,   X048,2,19960708,2032, 44.6267,  -3.2483, -999,    100.7,  12.3804,  35.6423,2,  35.6421,2,    241.2,2,    239.6,2,     2.03,2,     5.88,2,     0.02,2,     0.35,2,  -999.0,9, 12.3669,  12.378,2
     64PE96N_1,  AR12,    74,  1,     20,   X046,2,19960708,2032, 44.6267,  -3.2483, -999,    202.0,  11.8308,  35.6005,2,-999.0000,9,    241.8,2,   -999.0,9,     2.38,2,     7.17,2,     0.02,2,     0.44,2,  -999.0,9, 11.8045,  11.832,2
     64PE96N_1,  AR12,    74,  1,     19,   X047,2,19960708,2032, 44.6267,  -3.2483, -999,    302.6,  11.4849,  35.5821,2,  35.5813,2,    231.9,2,    231.6,2,     3.42,2,     9.97,2,     0.01,2,     0.61,2,  -999.0,9, 11.4461,  11.486,2
     64PE96N_1,  AR12,    74,  1,     18,   X014,2,19960708,2032, 44.6267,  -3.2483, -999,    402.6,  11.1648,  35.5664,2,-999.0000,9,    226.3,2,   -999.0,9,     4.23,2,    11.57,2,     0.02,2,     0.70,2,  -999.0,9, 11.1139,  11.166,2
     64PE96N_1,  AR12,    74,  1,     17,   X032,2,19960708,2032, 44.6267,  -3.2483, -999,    489.3,  10.8726,  35.5556,2,  35.5552,2,    219.5,2,    219.0,2,     5.12,2,    12.79,2,     0.02,2,     0.78,2,  -999.0,9, 10.8115,  10.870,2
     64PE96N_1,  AR12,    74,  1,     16,   X026,2,19960708,2032, 44.6267,  -3.2483, -999,    605.7,  10.5402,  35.5678,2,-999.0000,9,    209.6,2,   -999.0,9,     6.45,2,    14.28,2,     0.03,2,     0.89,2,  -999.0,9, 10.4656,  10.541,2
     64PE96N_1,  AR12,    74,  1,     15,   X059,2,19960708,2032, 44.6267,  -3.2483, -999,    704.6,  10.3310,  35.6093,2,  35.6097,2,    200.1,2,    198.2,2,     7.45,2,    15.40,2,     0.03,2,     0.96,2,  -999.0,9, 10.2449,  10.333,2
     64PE96N_1,  AR12,    74,  1,     14,   X025,2,19960708,2032, 44.6267,  -3.2483, -999,    806.4,  10.1462,  35.6777,2,-999.0000,9,    192.9,2,   -999.0,9,     8.47,2,    16.13,2,     0.02,2,     1.01,2,  -999.0,9, 10.0481,  10.153,2
     64PE96N_1,  AR12,    74,  1,     13,   X058,2,19960708,2032, 44.6267,  -3.2483, -999,    908.6,   9.9638,  35.7354,2,  35.7351,2,    189.3,2,    187.2,2,     9.25,2,    16.63,2,     0.02,2,     1.03,2,  -999.0,9,  9.8538,   9.965,2
     64PE96N_1,  AR12,    74,  1,     12,   X015,2,19960708,2032, 44.6267,  -3.2483, -999,   1009.2,   9.6495,  35.7521,2,-999.0000,9,    190.1,2,   -999.0,9,     9.83,2,    16.80,2,     0.04,2,     1.05,2,  -999.0,9,  9.5290,   9.655,2
     64PE96N_1,  AR12,    74,  1,     11,   X034,2,19960708,2032, 44.6267,  -3.2483, -999,   1111.0,   9.1330,  35.7166,2,  35.7152,2,    193.9,2,    192.3,2,    10.44,2,    17.20,2,     0.03,2,     1.07,2,  -999.0,9,  9.0039,   9.134,2
     64PE96N_1,  AR12,    74,  1,     10,   X023,2,19960708,2032, 44.6267,  -3.2483, -999,   1213.2,   8.3671,  35.6217,2,-999.0000,9,    200.5,2,   -999.0,9,    11.30,2,    17.40,2,     0.02,2,     1.10,2,  -999.0,9,  8.2321,   8.367,2
     64PE96N_1,  AR12,    74,  1,      9,   X035,2,19960708,2032, 44.6267,  -3.2483, -999,   1313.5,   7.7078,  35.5283,2,  35.5231,3,    206.0,2,    206.8,2,    11.96,2,    17.70,2,     0.04,2,     1.13,2,  -999.0,9,  7.5672,   7.709,2
     64PE96N_1,  AR12,    74,  1,      8,   X044,2,19960708,2032, 44.6267,  -3.2483, -999,   1414.9,   6.9982,  35.4256,2,-999.0000,9,    213.1,2,   -999.0,9,    12.75,2,    18.03,2,     0.02,2,     1.15,2,  1413.8,6,  6.8533,   6.998,6
     64PE96N_1,  AR12,    74,  1,      7,   X011,2,19960708,2032, 44.6267,  -3.2483, -999,   1619.7,   5.3975,  35.2008,2,  35.1969,2,    232.0,2,    233.9,2,    15.01,2,    18.37,2,     0.04,2,     1.20,2,  -999.0,9,  5.2489,   5.401,2
     64PE96N_1,  AR12,    74,  1,      6,   X061,2,19960708,2032, 44.6267,  -3.2483, -999,   1822.7,   4.4577,  35.0822,2,-999.0000,9,    243.8,2,   -999.0,9,    17.27,2,    18.50,2,     0.03,2,     1.23,2,  -999.0,9,  4.3009,   4.457,6
     64PE96N_1,  AR12,    74,  1,      5,   X057,2,19960708,2032, 44.6267,  -3.2483, -999,   2027.6,   3.9372,  35.0345,2,  35.0368,2,    247.5,2,    247.3,2,    20.62,2,    19.12,2,     0.03,2,     1.27,2,  -999.0,9,  3.7677,   3.936,2
     64PE96N_1,  AR12,    74,  1,      4,   X031,2,19960708,2032, 44.6267,  -3.2483, -999,   2228.7,   3.5820,  35.0064,2,-999.0000,9,    248.3,2,   -999.0,9,    24.24,2,    19.46,2,     0.06,2,     1.31,2,  -999.0,9,  3.3983,   3.584,6
     64PE96N_1,  AR12,    74,  1,      3,   X021,2,19960708,2032, 44.6267,  -3.2483, -999,   2433.5,   3.2672,  34.9797,2,  34.9795,2,    249.8,2,    247.9,2,    27.00,2,    19.89,2,     0.03,2,     1.35,2,  -999.0,9,  3.0688,   3.268,2
     64PE96N_1,  AR12,    74,  1,      2,   X056,2,19960708,2032, 44.6267,  -3.2483, -999,   2635.1,   3.0738,  34.9646,2,-999.0000,9,    250.8,2,   -999.0,9,    29.38,2,    20.33,2,     0.04,2,     1.37,2,  2631.9,6,  2.8589,   3.074,6
     64PE96N_1,  AR12,    74,  1,      1,   X051,2,19960708,2032, 44.6267,  -3.2483, -999,   2826.6,   2.9816,  34.9565,2,  34.9559,6,    251.8,2,    245.5,6,    31.21,6,    20.23,6,     0.05,2,     1.38,6,  -999.0,9,  2.7491,   2.983,2
     64PE96N_1,  AR12,    75,  1,     22,   X049,2,19960709,0019, 44.7497,  -3.5000, -999,      8.9,  18.6034,  35.6347,2,  35.6372,6,    236.2,2,    236.3,6,     0.77,2,     0.40,2,     0.01,2,     0.03,2,  -999.0,9, 18.6018,  18.593,2
     64PE96N_1,  AR12,    75,  1,     21,   X048,2,19960709,0019, 44.7497,  -3.5000, -999,    100.2,  12.3305,  35.6391,2,  35.6391,2,    243.5,2,    240.9,2,     2.00,2,     5.99,2,     0.04,2,     0.34,2,  -999.0,9, 12.3171,  12.328,2
     64PE96N_1,  AR12,    75,  1,     20,   X046,2,19960709,0019, 44.7497,  -3.5000, -999,    201.7,  11.7968,  35.5972,2,-999.0000,9,    242.6,2,   -999.0,9,     2.49,2,     7.83,2,     0.02,2,     0.45,2,  -999.0,9, 11.7706,  11.793,2
     64PE96N_1,  AR12,    75,  1,     19,   X047,2,19960709,0019, 44.7497,  -3.5000, -999,    303.1,  11.4494,  35.5791,2,  35.5796,2,    232.6,2,    231.8,2,     3.48,2,    10.12,2,     0.02,2,     0.61,2,  -999.0,9, 11.4106,  11.449,2
     64PE96N_1,  AR12,    75,  1,     18,   X014,2,19960709,0019, 44.7497,  -3.5000, -999,    396.4,  11.1359,  35.5622,2,-999.0000,9,    226.2,2,   -999.0,9,     4.27,2,    10.54,3,     0.03,2,     0.71,2,  -999.0,9, 11.0859,  11.133,2
     64PE96N_1,  AR12,    75,  1,     17,   X032,2,19960709,0019, 44.7497,  -3.5000, -999,    504.9,  10.8146,  35.5479,2,  35.5490,2,    221.4,2,    220.0,2,     5.20,2,    11.79,3,     0.02,2,     0.78,2,  -999.0,9, 10.7518,  10.816,2
     64PE96N_1,  AR12,    75,  1,     16,   X026,2,19960709,0019, 44.7497,  -3.5000, -999,    603.9,  10.5332,  35.5607,2,-999.0000,9,    210.9,2,   -999.0,9,     6.33,2,    13.29,3,     0.03,2,     0.88,2,  -999.0,9, 10.4589,  10.531,2
     64PE96N_1,  AR12,    75,  1,     15,   X059,2,19960709,0019, 44.7497,  -3.5000, -999,    809.1,  10.1190,  35.6874,2,  35.6866,2,    192.0,2,    190.1,2,     8.54,2,    15.38,3,     0.04,2,     1.00,2,  -999.0,9, 10.0207,  10.118,2
     64PE96N_1,  AR12,    75,  1,     14,   X025,2,19960709,0019, 44.7497,  -3.5000, -999,   1010.1,   9.6302,  35.7600,2,-999.0000,9,    189.9,2,   -999.0,9,     9.84,2,    16.02,3,     0.03,2,     1.05,2,  -999.0,9,  9.5097,   9.629,2
     64PE96N_1,  AR12,    75,  1,     13,   X058,2,19960709,0019, 44.7497,  -3.5000, -999,   1212.7,   8.4143,  35.6273,2,  35.6356,4,    199.3,2,    198.3,2,    11.09,2,    16.54,3,     0.04,2,     1.09,2,  -999.0,9,  8.2790,   8.401,3
     64PE96N_1,  AR12,    75,  1,     12,   X015,2,19960709,0019, 44.7497,  -3.5000, -999,   1418.2,   6.8721,  35.4079,2,-999.0000,9,    214.5,2,   -999.0,9,    13.05,2,    17.08,3,     0.04,2,     1.15,2,  -999.0,9,  6.7282,   6.884,2
     64PE96N_1,  AR12,    75,  1,     11,   X034,2,19960709,0019, 44.7497,  -3.5000, -999,   1620.1,   5.3502,  35.1868,2,  35.1848,2,    233.3,2,    236.0,2,    14.35,2,    17.71,3,     0.02,2,     1.18,2,  -999.0,9,  5.2021,   5.350,2
     64PE96N_1,  AR12,    75,  1,     10,   X023,2,19960709,0019, 44.7497,  -3.5000, -999,   1821.3,   4.4267,  35.0764,2,-999.0000,9,    243.5,2,   -999.0,9,    16.82,2,    18.00,3,     0.02,2,     1.21,2,  -999.0,9,  4.2704,   4.431,2
     64PE96N_1,  AR12,    75,  1,      9,   X035,2,19960709,0019, 44.7497,  -3.5000, -999,   2027.6,   3.9599,  35.0366,2,  35.0464,4,    244.5,2,    245.7,2,    20.43,2,    18.62,3,     0.03,2,     1.26,2,  -999.0,9,  3.7900,   3.962,2
     64PE96N_1,  AR12,    75,  1,      8,   X044,2,19960709,0019, 44.7497,  -3.5000, -999,   2231.1,   3.5315,  35.0003,2,-999.0000,9,    246.3,2,   -999.0,9,    24.03,2,    19.18,3,     0.04,2,     1.30,2,  -999.0,9,  3.3485,   3.532,2
     64PE96N_1,  AR12,    75,  1,      7,   X011,2,19960709,0019, 44.7497,  -3.5000, -999,   2435.0,   3.2076,  34.9757,2,  34.9758,2,    246.3,2,    247.0,2,    27.68,2,    19.79,3,     0.02,2,     1.34,2,  -999.0,9,  3.0101,   3.212,2
     64PE96N_1,  AR12,    75,  1,      6,   X061,2,19960709,0019, 44.7497,  -3.5000, -999,   2638.0,   3.0396,  34.9623,2,-999.0000,9,    246.2,2,   -999.0,9,    29.91,2,    20.05,3,     0.03,2,     1.37,2,  -999.0,9,  2.8251,   3.039,2
     64PE96N_1,  AR12,    75,  1,      5,   X057,2,19960709,0019, 44.7497,  -3.5000, -999,   2843.2,   2.8691,  34.9487,2,  34.9557,4,    245.5,2,    245.0,2,    32.31,2,    20.48,3,     0.03,2,     1.39,2,  -999.0,9,  2.6372,   2.869,2
     64PE96N_1,  AR12,    75,  1,      4,   X031,2,19960709,0019, 44.7497,  -3.5000, -999,   3044.7,   2.7631,  34.9394,2,-999.0000,9,    245.0,2,   -999.0,9,    34.63,2,    20.92,3,     0.02,2,     1.42,2,  -999.0,9,  2.5127,   2.767,2
     64PE96N_1,  AR12,    75,  1,      3,   X021,2,19960709,0019, 44.7497,  -3.5000, -999,   3301.5,   2.6522,  34.9289,2,  34.9289,2,    244.3,2,    243.3,2,    37.39,2,    21.26,3,     0.04,2,     1.45,2,  -999.0,9,  2.3774,   2.652,2
     64PE96N_1,  AR12,    75,  1,      2,   X056,2,19960709,0019, 44.7497,  -3.5000, -999,   3559.6,   2.5719,  34.9195,2,-999.0000,9,    244.2,2,   -999.0,9,    39.84,2,    21.79,3,     0.04,2,     1.48,2,  -999.0,9,  2.2711,   2.573,2
     64PE96N_1,  AR12,    75,  1,      1,   X051,2,19960709,0019, 44.7497,  -3.5000, -999,   3767.6,   2.5485,  34.9152,2,  34.9146,6,    244.0,2,    238.7,6,    41.03,6,    21.92,6,     0.03,2,     1.49,6,  -999.0,9,  2.2252,   2.553,3