BOTTLE,20020320WHPSIOKJU
EXPOCODE,SECT_ID,STNNBR,CASTNO,SAMPNO,BTLNBR,BTLNBR_FLAG_W,DATE,TIME,LATITUDE,LONGITUDE,DEPTH,CTDPRS,CTDTMP,CTDSAL,CTDSAL_FLAG_W,SALNTY,SALNTY_FLAG_W,CTDOXY,CTDOXY_FLAG_W,OXYGEN,OXYGEN_FLAG_W,SILCAT,SILCAT_FLAG_W,NITRAT,NITRAT_FLAG_W,NITRIT,NITRIT_FLAG_W,PHSPHT,PHSPHT_FLAG_W,REVPRS,REVPRS_FLAG_W,THETA,REVTMP,REVTMP_FLAG_W
,,,,,,,,,,,,DBAR,ITS-90,PSS-78,,PSS-78,,UMOL/KG,,UMOL/KG,,UMOL/KG,,UMOL/KG,,UMOL/KG,,UMOL/KG,,DBAR,,DEG C,ITS-90,
     64PE96N_1,  AR12,    54,  1,     21,   X048,2,19960629,2301, 47.9988, -11.1987, 4234,     10.3,  15.6616,  35.5771,2,  35.5797,6,    262.5,2,    262.6,6,     0.28,2,     0.00,2,     0.01,2,     0.04,2,  -999.0,9, 15.6600,-999.000,9
     64PE96N_1,  AR12,    54,  1,     20,   X046,2,19960629,2301, 47.9988, -11.1987, 4234,    102.1,  11.6043,  35.5555,2,-999.0000,9,    254.0,2,   -999.0,9,     2.41,2,     7.44,2,     0.01,2,     0.45,2,  -999.0,9, 11.5912,-999.000,9
     64PE96N_1,  AR12,    54,  1,     19,   X047,3,19960629,2301, 47.9988, -11.1987, 4234,    201.2,  11.2896,  35.5493,2,-999.0000,9,    251.9,2,   -999.0,9,  -999.00,9,  -999.00,9,  -999.00,9,  -999.00,9,  -999.0,9, 11.2642,-999.000,9
     64PE96N_1,  AR12,    54,  1,     18,   X014,2,19960629,2301, 47.9988, -11.1987, 4234,    402.3,  10.9495,  35.5281,2,-999.0000,9,    239.2,2,   -999.0,9,     4.24,2,    10.61,2,     0.01,2,     0.65,2,  -999.0,9, 10.8993,-999.000,9
     64PE96N_1,  AR12,    54,  1,     17,   X032,2,19960629,2301, 47.9988, -11.1987, 4234,    606.5,  10.2963,  35.4976,2,  35.4990,2,    220.6,2,    219.8,2,     6.28,2,    13.82,2,     0.00,2,     0.85,2,  -999.0,9, 10.2227,-999.000,9
     64PE96N_1,  AR12,    54,  1,     16,   X026,2,19960629,2301, 47.9988, -11.1987, 4234,    706.8,   9.9638,  35.5274,2,-999.0000,9,    207.5,2,   -999.0,9,     7.54,2,    15.30,2,     0.00,2,     0.95,2,  -999.0,9,  9.8793,-999.000,9
     64PE96N_1,  AR12,    54,  1,     15,   X059,2,19960629,2301, 47.9988, -11.1987, 4234,    808.9,   9.7160,  35.6010,2,  35.6034,2,    192.1,2,    191.8,2,     9.01,2,    16.91,2,     0.00,2,     1.04,2,  -999.0,9,  9.6202,-999.000,9
     64PE96N_1,  AR12,    54,  1,     14,   X025,2,19960629,2301, 47.9988, -11.1987, 4234,    907.5,   9.3198,  35.6321,2,-999.0000,9,    191.1,2,   -999.0,9,     9.79,2,    17.35,2,     0.00,2,     1.07,2,  -999.0,9,  9.2143,-999.000,9
     64PE96N_1,  AR12,    54,  1,     13,   X058,2,19960629,2301, 47.9988, -11.1987, 4234,   1011.6,   8.5315,  35.5678,2,  35.5689,2,    196.3,2,   -999.0,9,    10.40,2,    17.68,2,     0.01,2,     1.11,2,  -999.0,9,  8.4190,-999.000,9
     64PE96N_1,  AR12,    54,  1,     12,   X015,2,19960629,2301, 47.9988, -11.1987, 4234,   1266.2,   6.6929,  35.3356,2,-999.0000,9,    217.7,2,   -999.0,9,    11.72,2,    18.29,2,     0.00,2,     1.16,2,  -999.0,9,  6.5675,-999.000,9
     64PE96N_1,  AR12,    54,  1,     11,   X034,2,19960629,2301, 47.9988, -11.1987, 4234,   1517.2,   4.7469,  35.0638,2,  35.0667,2,    247.4,2,    248.1,2,    12.92,2,    18.23,2,     0.00,2,     1.18,2,  -999.0,9,  4.6164,-999.000,9
     64PE96N_1,  AR12,    54,  1,     10,   X023,2,19960629,2301, 47.9988, -11.1987, 4234,   1772.0,   4.0991,  34.9940,2,-999.0000,9,    257.6,2,   -999.0,9,    14.31,2,    17.94,2,     0.00,2,     1.18,2,  -999.0,9,  3.9521,-999.000,9
     64PE96N_1,  AR12,    54,  1,      9,   X035,2,19960629,2301, 47.9988, -11.1987, 4234,   2026.5,   3.6779,  34.9731,2,  34.9738,2,    258.8,2,    260.0,2,    17.07,2,    18.35,2,     0.00,2,     1.20,2,  -999.0,9,  3.5126,-999.000,9
     64PE96N_1,  AR12,    54,  1,      8,   X044,2,19960629,2301, 47.9988, -11.1987, 4234,   2279.0,   3.3925,  34.9755,2,-999.0000,9,    251.7,2,   -999.0,9,    24.13,2,    19.38,2,     0.00,2,     1.29,2,  2281.8,6,  3.2072,   3.399,2
     64PE96N_1,  AR12,    54,  1,      7,   X011,2,19960629,2301, 47.9988, -11.1987, 4234,   2536.9,   3.1328,  34.9625,2,  34.9638,2,    248.4,2,    247.8,2,    29.02,2,    20.18,2,     0.00,2,     1.35,2,  -999.0,9,  2.9267,-999.000,9
     64PE96N_1,  AR12,    54,  1,      6,   X030,2,19960629,2301, 47.9988, -11.1987, 4234,   2791.0,   2.9676,  34.9532,2,-999.0000,9,    246.5,2,   -999.0,9,    32.03,2,    20.56,2,     0.01,2,     1.39,2,  -999.0,9,  2.7391,   2.967,6
     64PE96N_1,  AR12,    54,  1,      5,   X057,2,19960629,2301, 47.9988, -11.1987, 4234,   3045.6,   2.8281,  34.9435,2,  34.9446,2,    245.4,2,    245.3,2,    33.64,2,    20.86,2,     0.00,2,     1.41,2,  -999.0,9,  2.5762,-999.000,9
     64PE96N_1,  AR12,    54,  1,      4,   X031,2,19960629,2301, 47.9988, -11.1987, 4234,   3301.8,   2.7036,  34.9319,2,-999.0000,9,    243.8,2,   -999.0,9,    36.59,2,    21.39,2,     0.01,2,     1.44,2,  -999.0,9,  2.4275,   2.703,6
     64PE96N_1,  AR12,    54,  1,      3,   X021,4,19960629,2301, 47.9988, -11.1987, 4234,   3560.0,   2.6237,  34.9231,2,  34.9434,4,    242.6,2,    242.3,4,    36.66,4,    21.01,4,     0.02,4,     1.42,4,  -999.0,9,  2.3215,-999.000,9
     64PE96N_1,  AR12,    54,  1,      2,   X056,2,19960629,2301, 47.9988, -11.1987, 4234,   3815.1,   2.5367,  34.9136,2,-999.0000,9,    241.3,2,   -999.0,9,    41.60,6,    22.08,6,     0.01,2,     1.49,6,  3814.4,6,  2.2083,   2.539,2
     64PE96N_1,  AR12,    54,  1,      1,   X055,4,19960629,2301, 47.9988, -11.1987, 4234,   4071.0,   2.4899,  34.9065,2,  35.5396,4,    240.6,2,   -999.0,9,     4.28,4,    10.54,4,     0.04,4,     0.66,4,  -999.0,9,  2.1337,-999.000,9
     64PE96N_1,  AR12,    55,  1,     22,   X049,2,19960630,0252, 47.8327, -11.2663, 4363,     12.8,  16.3546,  35.5971,2,  35.5987,6,    250.4,2,    250.5,6,     0.48,2,     0.02,2,     0.02,2,     0.05,2,  -999.0,9, 16.3525,-999.000,9
     64PE96N_1,  AR12,    55,  1,     21,   X048,2,19960630,0252, 47.8327, -11.2663, 4363,    100.3,  11.7398,  35.5769,2,  35.5765,2,    252.5,2,    246.9,2,     2.39,2,     7.05,2,     0.05,2,     0.43,2,  -999.0,9, 11.7269,-999.000,9
     64PE96N_1,  AR12,    55,  1,     20,   X046,2,19960630,0252, 47.8327, -11.2663, 4363,    202.7,  11.3614,  35.5624,2,-999.0000,9,    251.9,2,   -999.0,9,     3.11,2,     8.54,2,     0.05,2,     0.53,2,  -999.0,9, 11.3357,-999.000,9
     64PE96N_1,  AR12,    55,  1,     19,   X047,2,19960630,0252, 47.8327, -11.2663, 4363,    405.9,  10.8651,  35.5146,2,  35.5131,2,    231.4,2,    229.6,2,     4.88,2,    12.28,2,     0.02,2,     0.75,2,  -999.0,9, 10.8147,-999.000,9
     64PE96N_1,  AR12,    55,  1,     18,   X014,2,19960630,0252, 47.8327, -11.2663, 4363,    605.7,  10.1479,  35.4839,2,-999.0000,9,    213.4,2,   -999.0,9,     7.02,2,    14.88,2,     0.04,2,     0.92,2,  -999.0,9, 10.0751,-999.000,9
     64PE96N_1,  AR12,    55,  1,     17,   X032,2,19960630,0252, 47.8327, -11.2663, 4363,    707.9,   9.9864,  35.5597,2,  35.5602,2,    204.6,2,    203.7,2,     7.96,2,    15.55,2,     0.02,2,     0.96,2,  -999.0,9,  9.9016,-999.000,9
     64PE96N_1,  AR12,    55,  1,     16,   X026,2,19960630,0252, 47.8327, -11.2663, 4363,    809.7,   9.7409,  35.6148,2,-999.0000,9,    191.8,2,   -999.0,9,     9.02,2,    16.74,2,     0.04,2,     1.04,2,  -999.0,9,  9.6448,-999.000,9
     64PE96N_1,  AR12,    55,  1,     15,   X059,2,19960630,0252, 47.8327, -11.2663, 4363,   1011.0,   8.9748,  35.6346,2,  35.6333,2,    193.5,2,    194.7,2,    10.43,2,    17.50,2,     0.05,2,     1.08,2,  -999.0,9,  8.8591,-999.000,9
     64PE96N_1,  AR12,    55,  1,     14,   X025,2,19960630,0252, 47.8327, -11.2663, 4363,   1265.3,   6.6043,  35.3161,2,-999.0000,9,    219.4,2,   -999.0,9,    12.75,2,    18.24,2,     0.01,2,     1.17,2,  -999.0,9,  6.4798,-999.000,9
     64PE96N_1,  AR12,    55,  1,     13,   X058,2,19960630,0252, 47.8327, -11.2663, 4363,   1521.2,   4.5065,  35.0130,2,  35.0130,2,    252.8,2,    253.4,2,    12.03,2,    18.15,2,     0.03,2,     1.18,2,  -999.0,9,  4.3784,-999.000,9
     64PE96N_1,  AR12,    55,  1,     12,   X015,2,19960630,0252, 47.8327, -11.2663, 4363,   1772.9,   3.8870,  34.9597,2,-999.0000,9,    264.4,2,   -999.0,9,    13.31,2,    18.00,2,     0.02,2,     1.17,2,  -999.0,9,  3.7429,-999.000,9
     64PE96N_1,  AR12,    55,  1,     11,   X034,2,19960630,0252, 47.8327, -11.2663, 4363,   2026.9,   3.6450,  34.9708,2,  34.9722,2,    261.0,2,    259.6,2,    17.44,2,    18.42,2,     0.02,2,     1.22,2,  -999.0,9,  3.4801,-999.000,9
     64PE96N_1,  AR12,    55,  1,     10,   X023,2,19960630,0252, 47.8327, -11.2663, 4363,   2279.5,   3.4383,  34.9790,2,-999.0000,9,    251.5,2,   -999.0,9,    24.24,2,    19.34,2,     0.06,2,     1.29,2,  -999.0,9,  3.2521,-999.000,9
     64PE96N_1,  AR12,    55,  1,      9,   X035,2,19960630,0252, 47.8327, -11.2663, 4363,   2536.7,   3.1149,  34.9620,2,  34.9615,2,    248.5,2,    247.6,2,    29.72,2,    20.41,2,     0.02,2,     1.36,2,  -999.0,9,  2.9091,-999.000,9
     64PE96N_1,  AR12,    55,  1,      8,   X044,2,19960630,0252, 47.8327, -11.2663, 4363,   2791.6,   2.9294,  34.9498,2,-999.0000,9,    245.6,2,   -999.0,9,    33.42,2,    20.88,2,     0.04,2,     1.41,2,  2792.8,6,  2.7016,   2.931,2
     64PE96N_1,  AR12,    55,  1,      7,   X011,2,19960630,0252, 47.8327, -11.2663, 4363,   3045.4,   2.7743,  34.9378,2,  34.9371,2,    244.0,2,    243.3,2,    36.45,2,    21.47,2,     0.01,2,     1.44,2,  -999.0,9,  2.5236,-999.000,9
     64PE96N_1,  AR12,    55,  1,      6,   X030,2,19960630,0252, 47.8327, -11.2663, 4363,   3303.6,   2.6653,  34.9293,2,-999.0000,9,    243.7,2,   -999.0,9,    38.08,2,    21.60,2,     0.01,2,     1.44,2,  -999.0,9,  2.3899,   2.664,6
     64PE96N_1,  AR12,    55,  1,      5,   X057,2,19960630,0252, 47.8327, -11.2663, 4363,   3561.6,   2.5847,  34.9208,2,  34.9214,2,    242.3,2,    241.6,2,    40.00,2,    21.80,2,     0.04,2,     1.47,2,  -999.0,9,  2.2833,-999.000,9
     64PE96N_1,  AR12,    55,  1,      4,   X031,2,19960630,0252, 47.8327, -11.2663, 4363,   3814.1,   2.5309,  34.9133,2,-999.0000,9,    241.2,2,   -999.0,9,    41.68,2,    22.21,2,     0.00,2,     1.49,2,  -999.0,9,  2.2028,   2.530,6
     64PE96N_1,  AR12,    55,  1,      3,   X021,4,19960630,0252, 47.8327, -11.2663, 4363,   4071.4,   2.5012,  34.9077,2,  34.9340,4,    240.6,2,    243.5,4,    36.46,4,    21.38,4,     0.02,4,     1.43,4,  -999.0,9,  2.1446,-999.000,9
     64PE96N_1,  AR12,    55,  1,      2,   X056,2,19960630,0252, 47.8327, -11.2663, 4363,   4325.3,   2.4929,  34.9037,2,-999.0000,9,    239.4,2,   -999.0,9,    44.88,2,    22.55,2,     0.02,2,     1.51,2,  4325.4,6,  2.1067,   2.492,2
     64PE96N_1,  AR12,    55,  1,      1,   X051,2,19960630,0252, 47.8327, -11.2663, 4363,   4462.9,   2.5003,  34.9027,2,  34.9020,6,    239.2,2,    237.1,6,    44.82,2,    22.62,2,     0.00,2,     1.52,2,  -999.0,9,  2.0974,-999.000,9
     64PE96N_1,  AR12,    69,  1,      4,   X031,2,19960708,0630, 43.9995,  -1.9975,  138,     10.3,  18.8724,  35.3251,2,  35.3283,2,    235.6,2,    235.7,6,     0.48,2,     0.00,2,     0.05,2,     0.06,2,  -999.0,9, 18.8706,  18.858,4
     64PE96N_1,  AR12,    69,  1,      3,   X021,2,19960708,0630, 43.9995,  -1.9975,  138,     51.0,  13.4532,  35.6222,2,  35.6211,2,    246.7,2,    243.8,2,     1.29,2,     1.97,2,     0.18,2,     0.09,2,  -999.0,9, 13.4460,-999.000,9
     64PE96N_1,  AR12,    69,  1,      2,   X056,2,19960708,0630, 43.9995,  -1.9975,  138,    100.7,  12.4896,  35.6417,2,-999.0000,9,    245.1,2,   -999.0,9,     1.47,2,     2.63,2,     0.08,2,     0.17,2,    96.4,6, 12.4761,  12.416,4
     64PE96N_1,  AR12,    69,  1,      1,   X051,2,19960708,0630, 43.9995,  -1.9975,  138,    133.5,  12.0737,  35.6241,2,  35.6234,6,    233.7,2,    227.4,6,     3.24,2,     7.88,2,     0.12,2,     0.47,2,  -999.0,9, 12.0561,-999.000,9
     64PE96N_1,  AR12,    70,  1,     11,   X034,2,19960708,0839, 44.1250,  -2.2500,  894,      9.6,  19.0745,  35.0278,2,  35.0731,6,    234.1,2,    234.2,6,     0.45,2,     0.00,2,     0.06,2,     0.06,2,  -999.0,9, 19.0728,-999.000,9
     64PE96N_1,  AR12,    70,  1,     10,   X023,2,19960708,0839, 44.1250,  -2.2500,  894,     50.5,  13.1213,  35.6474,2,-999.0000,9,    239.8,2,   -999.0,9,     1.43,2,     2.77,2,     0.18,2,     0.17,2,  -999.0,9, 13.1143,-999.000,9
     64PE96N_1,  AR12,    70,  1,      9,   X035,2,19960708,0839, 44.1250,  -2.2500,  894,    101.3,  12.4906,  35.6492,2,  35.6488,2,    234.2,2,    238.4,2,     2.04,2,     5.70,2,     0.06,2,     0.34,2,  -999.0,9, 12.4770,-999.000,9
     64PE96N_1,  AR12,    70,  1,      8,   X044,2,19960708,0839, 44.1250,  -2.2500,  894,    202.5,  12.0372,  35.6163,2,-999.0000,9,    238.0,2,   -999.0,9,     2.45,2,     7.10,2,     0.07,2,     0.42,2,   200.3,6, 12.0105,  12.045,2
     64PE96N_1,  AR12,    70,  1,      7,   X011,2,19960708,0839, 44.1250,  -2.2500,  894,    302.7,  11.5979,  35.5891,2,  35.5887,2,    231.3,2,    230.5,2,     3.36,2,     9.81,2,     0.08,2,     0.58,2,  -999.0,9, 11.5588,-999.000,9
     64PE96N_1,  AR12,    70,  1,      6,   X030,2,19960708,0839, 44.1250,  -2.2500,  894,    403.7,  11.2089,  35.5710,2,-999.0000,9,    224.5,2,   -999.0,9,     4.28,2,    11.63,2,     0.12,2,     0.68,2,  -999.0,9, 11.1578,  11.212,6
     64PE96N_1,  AR12,    70,  1,      5,   X057,2,19960708,0839, 44.1250,  -2.2500,  894,    503.6,  10.9102,  35.5586,2,  35.5590,2,    219.8,2,    219.8,2,     5.09,2,    12.95,2,     0.05,2,     0.77,2,  -999.0,9, 10.8472,-999.000,9
     64PE96N_1,  AR12,    70,  1,      4,   X031,2,19960708,0839, 44.1250,  -2.2500,  894,    606.3,  10.5139,  35.5725,2,-999.0000,9,    205.8,2,   -999.0,9,     6.46,2,    14.63,2,     0.06,2,     0.90,2,  -999.0,9, 10.4394,  10.545,4
     64PE96N_1,  AR12,    70,  1,      3,   X021,2,19960708,0839, 44.1250,  -2.2500,  894,    707.1,  10.2668,  35.6244,2,  35.6263,2,    196.4,2,    195.8,2,     7.77,2,    15.96,2,     0.05,2,     0.98,2,  -999.0,9, 10.1806,-999.000,9
     64PE96N_1,  AR12,    70,  1,      2,   X050,4,19960708,0839, 44.1250,  -2.2500,  894,    809.1,  10.0757,  35.6993,2,-999.0000,9,    191.1,2,   -999.0,9,     5.41,4,    12.18,4,     0.12,4,     0.69,4,  -999.0,9,  9.9776,-999.000,9
     64PE96N_1,  AR12,    70,  1,      1,   X051,2,19960708,0839, 44.1250,  -2.2500,  894,    903.0,  10.0037,  35.7149,2,  35.7154,6,    190.9,2,    187.2,6,     9.07,6,    16.85,6,     0.05,2,     1.05,6,  -999.0,9,  9.8942,-999.000,9
     64PE96N_1,  AR12,    71,  1,     13,   X058,2,19960708,1113, 44.2497,  -2.4998, 1091,     10.1,  19.3124,  35.2823,2,  35.3025,6,    232.0,2,    232.1,6,     0.37,2,     0.00,2,     0.01,2,     0.03,2,  -999.0,9, 19.3106,-999.000,9
     64PE96N_1,  AR12,    71,  1,     12,   X015,2,19960708,1113, 44.2497,  -2.4998, 1091,     50.6,  14.2262,  35.6562,2,-999.0000,9,    256.5,2,   -999.0,9,     0.66,2,     0.00,2,     0.00,2,     0.05,2,  -999.0,9, 14.2188,-999.000,9
     64PE96N_1,  AR12,    71,  1,     11,   X034,2,19960708,1113, 44.2497,  -2.4998, 1091,    100.4,  12.5444,  35.6539,2,  35.6527,2,    234.4,2,    238.7,2,     1.88,2,     5.40,2,     0.04,2,     0.32,2,  -999.0,9, 12.5309,-999.000,9
     64PE96N_1,  AR12,    71,  1,     10,   X023,2,19960708,1113, 44.2497,  -2.4998, 1091,    200.9,  11.9112,  35.6085,2,-999.0000,9,    233.8,2,   -999.0,9,     2.60,2,     7.67,2,     0.02,2,     0.46,2,  -999.0,9, 11.8849,-999.000,9
     64PE96N_1,  AR12,    71,  1,      9,   X035,2,19960708,1113, 44.2497,  -2.4998, 1091,    301.9,  11.4582,  35.5844,2,  35.5837,2,    226.3,2,    228.4,2,     3.64,2,    10.59,2,     0.01,2,     0.63,2,  -999.0,9, 11.4195,-999.000,9
     64PE96N_1,  AR12,    71,  1,      8,   X044,2,19960708,1113, 44.2497,  -2.4998, 1091,    405.4,  11.0401,  35.5622,2,-999.0000,9,    222.0,2,   -999.0,9,     4.57,2,    12.20,2,     0.03,2,     0.74,2,   403.8,6, 10.9892,  10.045,4
     64PE96N_1,  AR12,    71,  1,      7,   X011,2,19960708,1113, 44.2497,  -2.4998, 1091,    500.0,  10.7922,  35.5594,2,  35.5594,2,    215.3,2,    216.2,2,     5.42,2,    13.28,2,     0.03,2,     0.81,2,  -999.0,9, 10.7301,-999.000,9
     64PE96N_1,  AR12,    71,  1,      6,   X061,2,19960708,1113, 44.2497,  -2.4998, 1091,    605.5,  10.5069,  35.5832,2,-999.0000,9,    204.7,2,   -999.0,9,     6.61,2,    14.67,2,     0.02,2,     0.89,2,  -999.0,9, 10.4325,  10.505,6
     64PE96N_1,  AR12,    71,  1,      5,   X057,2,19960708,1113, 44.2497,  -2.4998, 1091,    707.9,  10.2843,  35.6278,2,  35.6308,2,    195.4,2,    196.2,2,     7.73,2,    15.81,2,     0.02,2,     0.96,2,  -999.0,9, 10.1980,-999.000,9
     64PE96N_1,  AR12,    71,  1,      4,   X031,2,19960708,1113, 44.2497,  -2.4998, 1091,    807.7,  10.0382,  35.7086,2,-999.0000,9,    186.9,2,   -999.0,9,     8.85,2,    16.57,2,     0.02,2,     1.02,2,  -999.0,9,  9.9405,  10.038,6
     64PE96N_1,  AR12,    71,  1,      3,   X021,2,19960708,1113, 44.2497,  -2.4998, 1091,    909.4,   9.8320,  35.7487,2,  35.7492,2,    186.3,2,    187.2,2,     9.45,2,    16.90,2,     0.03,2,     1.04,2,  -999.0,9,  9.7228,-999.000,9
     64PE96N_1,  AR12,    71,  1,      2,   X050,2,19960708,1113, 44.2497,  -2.4998, 1091,   1011.5,   9.5345,  35.7499,2,-999.0000,9,    189.2,2,   -999.0,9,     9.91,2,    17.12,2,     0.02,2,     1.05,2,  -999.0,9,  9.4145,-999.000,9
     64PE96N_1,  AR12,    71,  1,      1,   X051,2,19960708,1113, 44.2497,  -2.4998, 1091,   1100.3,   9.0548,  35.7082,2,  35.7093,6,    191.9,2,    191.1,6,    10.77,2,    17.34,2,     0.03,2,     1.08,2,  -999.0,9,  8.9276,-999.000,9