BOTTLE,20020320WHPSIOKJU
EXPOCODE,SECT_ID,STNNBR,CASTNO,SAMPNO,BTLNBR,BTLNBR_FLAG_W,DATE,TIME,LATITUDE,LONGITUDE,DEPTH,CTDPRS,CTDTMP,CTDSAL,CTDSAL_FLAG_W,SALNTY,SALNTY_FLAG_W,CTDOXY,CTDOXY_FLAG_W,OXYGEN,OXYGEN_FLAG_W,SILCAT,SILCAT_FLAG_W,NITRAT,NITRAT_FLAG_W,NITRIT,NITRIT_FLAG_W,PHSPHT,PHSPHT_FLAG_W,REVPRS,REVPRS_FLAG_W,THETA,REVTMP,REVTMP_FLAG_W
,,,,,,,,,,,,DBAR,ITS-90,PSS-78,,PSS-78,,UMOL/KG,,UMOL/KG,,UMOL/KG,,UMOL/KG,,UMOL/KG,,UMOL/KG,,DBAR,,DEG C,ITS-90,
     64PE96N_1,  AR12,    22,  1,     24,   X051,2,19960624,0319, 46.4660,  -5.8705, -999,     10.0,  16.8104,  35.6551,2,  35.6461,6,    251.6,2,    251.7,6,     0.84,2,     0.03,2,     0.01,2,     0.05,2,  -999.0,9, 16.8088,-999.000,9
     64PE96N_1,  AR12,    22,  1,     23,   X050,2,19960624,0319, 46.4660,  -5.8705, -999,    100.0,  12.2015,  35.6015,2,  35.6006,2,    245.4,2,    243.4,2,     2.04,2,     5.53,2,     0.02,2,     0.28,2,  -999.0,9, 12.1883,-999.000,9
     64PE96N_1,  AR12,    22,  1,     22,   X049,2,19960624,0319, 46.4660,  -5.8705, -999,    200.0,  11.5960,  35.5799,2,-999.0000,9,    244.8,2,   -999.0,9,     2.56,2,     7.84,2,     0.01,2,     0.42,2,  -999.0,9, 11.5703,-999.000,9
     64PE96N_1,  AR12,    22,  1,     21,   X048,2,19960624,0319, 46.4660,  -5.8705, -999,    300.0,  11.2772,  35.5646,2,  35.5639,2,    233.6,2,    231.7,2,     3.78,2,    10.84,2,     0.02,2,     0.60,2,  -999.0,9, 11.2392,-999.000,9
     64PE96N_1,  AR12,    22,  1,     20,   X047,2,19960624,0319, 46.4660,  -5.8705, -999,    400.0,  10.9378,  35.5434,2,-999.0000,9,    228.5,2,   -999.0,9,     4.66,2,    12.28,2,     0.01,2,     0.69,2,  -999.0,9, 10.8879,-999.000,9
     64PE96N_1,  AR12,    22,  1,     19,   X046,2,19960624,0319, 46.4660,  -5.8705, -999,    501.0,  10.7424,  35.5400,2,  35.5391,2,    222.5,2,    221.1,2,     5.32,2,    13.28,2,     0.01,2,     0.76,2,  -999.0,9, 10.6803,-999.000,9
     64PE96N_1,  AR12,    22,  1,     18,   X014,2,19960624,0319, 46.4660,  -5.8705, -999,    601.0,  10.4595,  35.5524,2,-999.0000,9,    213.8,2,   -999.0,9,     6.54,2,    14.66,2,     0.02,2,     0.85,2,  -999.0,9, 10.3859,-999.000,9
     64PE96N_1,  AR12,    22,  1,     17,   X026,2,19960624,0319, 46.4660,  -5.8705, -999,    701.0,  10.1411,  35.5961,2,  35.5969,2,    205.5,2,    203.0,2,     7.73,2,    15.58,2,     0.01,2,     0.91,2,  -999.0,9, 10.0564,-999.000,9
     64PE96N_1,  AR12,    22,  1,     16,   X032,2,19960624,0319, 46.4660,  -5.8705, -999,    809.9,  10.0765,  35.6749,2,-999.0000,9,    196.2,2,   -999.0,9,     8.62,2,    16.49,2,     0.02,2,     0.96,2,  -999.0,9,  9.9784,-999.000,9
     64PE96N_1,  AR12,    22,  1,     15,   X007,2,19960624,0319, 46.4660,  -5.8705, -999,    910.8,   9.7958,  35.7057,2,  35.7056,2,    192.1,2,    192.6,2,     9.35,2,    16.98,2,     0.01,2,     0.99,2,  -999.0,9,  9.6867,-999.000,9
     64PE96N_1,  AR12,    22,  1,     14,   X025,2,19960624,0319, 46.4660,  -5.8705, -999,   1010.7,   9.6737,  35.7930,2,-999.0000,9,    190.9,2,   -999.0,9,     9.83,2,    17.08,2,     0.01,2,     0.99,2,  -999.0,9,  9.5528,-999.000,9
     64PE96N_1,  AR12,    22,  1,     13,   X009,2,19960624,0319, 46.4660,  -5.8705, -999,   1264.4,   7.9498,  35.5644,2,  35.5598,3,    204.8,2,    206.9,2,    11.44,2,    17.95,2,     0.01,2,     1.07,2,  -999.0,9,  7.8126,-999.000,9
     64PE96N_1,  AR12,    22,  1,     12,   X045,2,19960624,0319, 46.4660,  -5.8705, -999,   1518.7,   5.7063,  35.2345,2,-999.0000,9,    230.0,2,   -999.0,9,    13.82,2,    18.46,2,     0.02,2,     1.13,2,  -999.0,9,  5.5645,-999.000,9
     64PE96N_1,  AR12,    22,  1,     11,   X024,2,19960624,0319, 46.4660,  -5.8705, -999,   1774.0,   4.1128,  35.0011,2,  34.9989,2,    258.5,2,    259.5,2,    13.90,2,    18.22,2,     0.01,2,     1.13,2,  -999.0,9,  3.9654,-999.000,9
     64PE96N_1,  AR12,    22,  1,     10,   X023,2,19960624,0319, 46.4660,  -5.8705, -999,   2027.7,   3.8979,  35.0135,2,-999.0000,9,    252.6,2,   -999.0,9,    18.67,2,    18.85,2,     0.01,2,     1.18,2,  -999.0,9,  3.7290,-999.000,9
     64PE96N_1,  AR12,    22,  1,      9,   X008,2,19960624,0319, 46.4660,  -5.8705, -999,   2281.4,   3.5649,  35.0017,2,  35.0025,2,    248.7,2,    249.5,2,    24.13,2,    19.80,2,     0.01,2,     1.25,2,  -999.0,9,  3.3763,-999.000,9
     64PE96N_1,  AR12,    22,  1,      8,   X044,2,19960624,0319, 46.4660,  -5.8705, -999,   2536.9,   3.1978,  34.9739,2,-999.0000,9,    247.3,2,   -999.0,9,    24.24,2,    19.71,2,     0.02,2,     1.25,2,  -999.0,9,  2.9904,-999.000,9
     64PE96N_1,  AR12,    22,  1,      7,   X043,2,19960624,0319, 46.4660,  -5.8705, -999,   2794.0,   2.9289,  34.9527,2,  34.9525,2,    246.5,2,    246.0,2,    33.23,2,    20.99,2,     0.01,2,     1.35,2,  -999.0,9,  2.7008,-999.000,9
     64PE96N_1,  AR12,    22,  1,      6,   X030,2,19960624,0319, 46.4660,  -5.8705, -999,   3050.6,   2.7509,  34.9374,2,  34.9369,2,    245.3,2,   -999.0,9,    36.48,2,    21.56,2,     0.01,2,     1.39,2,  -999.0,9,  2.5002,-999.000,9
     64PE96N_1,  AR12,    22,  1,      5,   X001,2,19960624,0319, 46.4660,  -5.8705, -999,   3306.1,   2.6441,  34.9273,2,-999.0000,9,    244.8,2,    244.0,2,    36.47,2,    21.42,2,     0.02,2,     1.38,2,  -999.0,9,  2.3690,-999.000,9
     64PE96N_1,  AR12,    22,  1,      4,   X031,2,19960624,0319, 46.4660,  -5.8705, -999,   3561.6,   2.5586,  34.9179,2,-999.0000,9,    243.9,2,   -999.0,9,    38.47,2,    21.78,2,     0.01,2,     1.42,2,  -999.0,9,  2.2579,-999.000,9
     64PE96N_1,  AR12,    22,  1,      3,   X042,2,19960624,0319, 46.4660,  -5.8705, -999,   3815.7,   2.5117,  34.9114,2,  34.9101,2,    243.2,2,    239.9,2,    42.39,2,    22.28,2,     0.02,2,     1.45,2,  -999.0,9,  2.1840,-999.000,9
     64PE96N_1,  AR12,    22,  1,      2,   X019,2,19960624,0319, 46.4660,  -5.8705, -999,   4074.8,   2.4909,  34.9060,2,-999.0000,9,    242.8,2,   -999.0,9,    43.76,2,    22.61,2,     0.01,2,     1.48,2,  -999.0,9,  2.1342,-999.000,9
     64PE96N_1,  AR12,    22,  1,      1,   X041,4,19960624,0319, 46.4660,  -5.8705, -999,   4296.9,   2.4885,  34.9036,2,  34.9056,4,    242.2,2,    238.3,4,    43.39,4,    22.52,4,     0.03,4,     1.48,4,  -999.0,9,  2.1058,-999.000,9
     64PE96N_1,  AR12,    23,  1,     24,   X051,2,19960624,0811, 46.2658,  -6.1690, 4607,      9.6,  17.0225,  35.6701,2,  35.6699,6,    250.9,2,    250.9,6,     0.98,2,     0.05,2,     0.01,2,     0.07,2,  -999.0,9, 17.0209,-999.000,9
     64PE96N_1,  AR12,    23,  1,     23,   X050,2,19960624,0811, 46.2658,  -6.1690, 4607,    100.9,  11.7663,  35.5927,2,  35.5950,2,    245.7,2,    244.2,2,     2.36,2,     7.16,2,     0.02,2,     0.39,2,  -999.0,9, 11.7533,-999.000,9
     64PE96N_1,  AR12,    23,  1,     22,   X049,2,19960624,0811, 46.2658,  -6.1690, 4607,    202.4,  11.4579,  35.5744,2,-999.0000,9,    240.3,2,   -999.0,9,     3.06,2,     8.83,2,     0.01,2,     0.49,2,  -999.0,9, 11.4321,-999.000,9
     64PE96N_1,  AR12,    23,  1,     21,   X048,2,19960624,0811, 46.2658,  -6.1690, 4607,    303.1,  11.1840,  35.5627,2,  35.5647,2,    229.5,2,    227.9,2,     4.08,2,    11.49,2,     0.02,2,     0.65,2,  -999.0,9, 11.1458,-999.000,9
     64PE96N_1,  AR12,    23,  1,     20,   X047,2,19960624,0811, 46.2658,  -6.1690, 4607,    404.4,  10.8695,  35.5474,2,-999.0000,9,    223.7,2,   -999.0,9,     4.94,2,    12.82,2,     0.01,2,     0.73,2,  -999.0,9, 10.8193,-999.000,9
     64PE96N_1,  AR12,    23,  1,     19,   X046,2,19960624,0811, 46.2658,  -6.1690, 4607,    504.6,  10.6288,  35.5391,2,  35.5407,2,    219.8,2,    218.8,2,     5.67,2,    13.73,2,     0.02,2,     0.78,2,  -999.0,9, 10.5667,-999.000,9
     64PE96N_1,  AR12,    23,  1,     18,   X014,2,19960624,0811, 46.2658,  -6.1690, 4607,    606.6,  10.3683,  35.5536,2,-999.0000,9,    214.2,2,   -999.0,9,     6.61,2,    14.45,2,     0.02,2,     0.84,2,  -999.0,9, 10.2944,-999.000,9
     64PE96N_1,  AR12,    23,  1,     17,   X026,2,19960624,0811, 46.2658,  -6.1690, 4607,    809.3,   9.9985,  35.6457,2,  35.6499,2,    200.1,2,   -999.0,9,     8.43,2,    16.33,2,     0.02,2,     0.95,2,  -999.0,9,  9.9009,-999.000,9
     64PE96N_1,  AR12,    23,  1,     16,   X032,2,19960624,0811, 46.2658,  -6.1690, 4607,   1011.4,   9.7014,  35.7664,2,-999.0000,9,    194.1,2,   -999.0,9,     9.71,2,    17.15,2,     0.02,2,     1.01,2,  -999.0,9,  9.5802,-999.000,9
     64PE96N_1,  AR12,    23,  1,     15,   X007,2,19960624,0811, 46.2658,  -6.1690, 4607,   1264.8,   8.0806,  35.5844,2,  35.5825,2,    205.7,2,    204.1,2,    11.38,2,    17.81,2,     0.02,2,     1.06,2,  -999.0,9,  7.9421,-999.000,9
     64PE96N_1,  AR12,    23,  1,     14,   X025,2,19960624,0811, 46.2658,  -6.1690, 4607,   1518.8,   6.0007,  35.2707,2,-999.0000,9,    227.1,2,   -999.0,9,    12.97,2,    18.40,2,     0.03,2,     1.13,2,  -999.0,9,  5.8555,-999.000,9
     64PE96N_1,  AR12,    23,  1,     13,   X009,2,19960624,0811, 46.2658,  -6.1690, 4607,   1772.2,   4.6313,  35.0931,2,  35.0932,2,    241.9,2,    246.0,2,    15.63,2,    18.60,2,     0.02,2,     1.16,2,  -999.0,9,  4.4771,-999.000,9
     64PE96N_1,  AR12,    23,  1,     12,   X045,2,19960624,0811, 46.2658,  -6.1690, 4607,   2027.3,   3.8670,  35.0182,2,-999.0000,9,   -999.0,9,   -999.0,9,    19.64,2,    19.09,2,     0.03,2,     1.21,2,  -999.0,9,  3.6986,-999.000,9
     64PE96N_1,  AR12,    23,  1,     11,   X024,2,19960624,0811, 46.2658,  -6.1690, 4607,   2282.4,   3.4671,  34.9948,2,  34.9960,2,   -999.0,9,    247.7,2,    25.12,2,    19.81,2,     0.03,2,     1.28,2,  -999.0,9,  3.2801,-999.000,9
     64PE96N_1,  AR12,    23,  1,     10,   X023,2,19960624,0811, 46.2658,  -6.1690, 4607,   2536.7,   3.1549,  34.9716,2,-999.0000,9,    244.9,2,   -999.0,9,    28.76,2,    20.39,2,     0.03,2,     1.32,2,  -999.0,9,  2.9484,-999.000,9
     64PE96N_1,  AR12,    23,  1,      9,   X008,2,19960624,0811, 46.2658,  -6.1690, 4607,   2792.0,   2.9194,  34.9521,2,  34.9542,2,    243.5,2,    245.2,2,    32.72,2,    20.94,2,     0.03,2,     1.36,2,  -999.0,9,  2.6917,-999.000,9
     64PE96N_1,  AR12,    23,  1,      8,   X044,2,19960624,0811, 46.2658,  -6.1690, 4607,   3048.0,   2.7652,  34.9388,2,-999.0000,9,    242.1,2,   -999.0,9,    35.85,2,    21.45,2,     0.03,2,     1.40,2,  -999.0,9,  2.5144,-999.000,9
     64PE96N_1,  AR12,    23,  1,      7,   X043,2,19960624,0811, 46.2658,  -6.1690, 4607,   3300.9,   2.6477,  34.9278,2,  34.9291,2,    241.6,2,    242.5,2,    38.40,2,    21.76,2,     0.04,2,     1.43,2,  -999.0,9,  2.3730,-999.000,9
     64PE96N_1,  AR12,    23,  1,      6,   X030,2,19960624,0811, 46.2658,  -6.1690, 4607,   3545.2,   2.5836,  34.9203,2,-999.0000,9,    240.4,2,   -999.0,9,    40.07,2,    22.00,2,     0.03,2,     1.45,2,  -999.0,9,  2.2841,-999.000,9
     64PE96N_1,  AR12,    23,  1,      5,   X001,2,19960624,0811, 46.2658,  -6.1690, 4607,   3815.4,   2.5378,  34.9142,2,  34.9153,2,    239.5,2,    241.2,2,    41.44,2,    22.20,2,     0.03,2,     1.46,2,  -999.0,9,  2.2094,-999.000,9
     64PE96N_1,  AR12,    23,  1,      4,   X031,2,19960624,0811, 46.2658,  -6.1690, 4607,   4071.4,   2.5045,  34.9083,2,-999.0000,9,   -999.0,9,   -999.0,9,    42.05,2,    22.20,2,     0.04,2,     1.47,2,  -999.0,9,  2.1478,-999.000,9
     64PE96N_1,  AR12,    23,  1,      3,   X042,2,19960624,0811, 46.2658,  -6.1690, 4607,   4310.5,   2.4933,  34.9039,2,  34.9049,2,    237.9,2,    240.0,2,    43.63,2,    22.55,2,     0.04,2,     1.49,2,  -999.0,9,  2.1088,-999.000,9
     64PE96N_1,  AR12,    23,  1,      2,   X019,2,19960624,0811, 46.2658,  -6.1690, 4607,   4586.8,   2.5051,  34.9011,2,-999.0000,9,    235.8,2,   -999.0,9,    45.05,2,    22.71,2,     0.04,2,     1.50,2,  -999.0,9,  2.0869,-999.000,9
     64PE96N_1,  AR12,    23,  1,      1,   X041,2,19960624,0811, 46.2658,  -6.1690, 4607,   4725.8,   2.5216,  34.9011,2,  34.9020,6,    236.3,2,    240.8,2,    45.21,6,    22.62,6,     0.03,2,     1.50,6,  -999.0,9,  2.0859,-999.000,9
     64PE96N_1,  AR12,    24,  1,     24,   X051,2,19960624,1344, 46.0007,  -6.5675, 4731,     11.2,  17.0145,  35.6832,2,  35.6804,6,    251.5,2,    251.6,6,     1.14,2,     0.00,2,     0.02,2,     0.06,2,  -999.0,9, 17.0126,-999.000,9
     64PE96N_1,  AR12,    24,  1,     23,   X050,2,19960624,1344, 46.0007,  -6.5675, 4731,    100.5,  12.1861,  35.6365,2,  35.6356,2,    243.8,2,    241.7,2,     2.13,2,     6.53,2,     0.02,2,     0.35,2,  -999.0,9, 12.1728,-999.000,9
     64PE96N_1,  AR12,    24,  1,     22,   X049,2,19960624,1344, 46.0007,  -6.5675, 4731,    200.1,  11.6580,  35.5871,2,-999.0000,9,    246.2,2,   -999.0,9,     2.57,2,     7.69,2,     0.02,2,     0.43,2,  -999.0,9, 11.6322,-999.000,9
     64PE96N_1,  AR12,    24,  1,     21,   X048,2,19960624,1344, 46.0007,  -6.5675, 4731,    301.0,  11.3433,  35.5676,2,  35.5662,2,    233.0,2,    233.1,2,     3.72,2,    10.67,2,     0.01,2,     0.61,2,  -999.0,9, 11.3050,-999.000,9
     64PE96N_1,  AR12,    24,  1,     20,   X047,2,19960624,1344, 46.0007,  -6.5675, 4731,    403.7,  11.0520,  35.5577,2,-999.0000,9,    225.5,2,   -999.0,9,     4.48,2,    12.15,2,     0.02,2,     0.70,2,  -999.0,9, 11.0013,-999.000,9
     64PE96N_1,  AR12,    24,  1,     19,   X046,2,19960624,1344, 46.0007,  -6.5675, 4731,    507.5,  10.6631,  35.5422,2,  35.5415,2,    219.2,2,    218.2,2,     5.58,2,    13.49,2,     0.01,2,     0.79,2,  -999.0,9, 10.6005,-999.000,9
     64PE96N_1,  AR12,    24,  1,     18,   X014,2,19960624,1344, 46.0007,  -6.5675, 4731,    603.1,  10.4712,  35.5750,2,-999.0000,9,    207.9,2,   -999.0,9,     5.12,2,    12.12,2,     0.02,2,     0.71,2,  -999.0,9, 10.3973,-999.000,9
     64PE96N_1,  AR12,    24,  1,     17,   X026,2,19960624,1344, 46.0007,  -6.5675, 4731,    807.5,  10.1025,  35.6971,2,  35.6992,2,    192.7,2,    190.4,2,     8.75,2,    16.52,2,     0.01,2,     0.98,2,  -999.0,9, 10.0045,-999.000,9
     64PE96N_1,  AR12,    24,  1,     16,   X032,2,19960624,1344, 46.0007,  -6.5675, 4731,   1011.7,   9.7922,  35.8141,2,-999.0000,9,    189.8,2,   -999.0,9,     9.64,2,    16.77,2,     0.02,2,     1.00,2,  -999.0,9,  9.6702,-999.000,9
     64PE96N_1,  AR12,    24,  1,     15,   X007,2,19960624,1344, 46.0007,  -6.5675, 4731,   1264.9,   7.8993,  35.5501,2,  35.5497,2,    205.1,2,    206.7,2,    11.52,2,    17.75,2,     0.02,2,     1.08,2,  -999.0,9,  7.7625,-999.000,9
     64PE96N_1,  AR12,    24,  1,     14,   X025,2,19960624,1344, 46.0007,  -6.5675, 4731,   1518.0,   5.7000,  35.2343,2,  35.2324,2,    229.7,2,   -999.0,9,    13.94,2,    18.33,2,     0.02,2,     1.14,2,  -999.0,9,  5.5583,-999.000,9
     64PE96N_1,  AR12,    24,  1,     13,   X009,2,19960624,1344, 46.0007,  -6.5675, 4731,   1773.0,   4.3892,  35.0645,2,-999.0000,9,    246.7,2,    231.6,3,    13.86,2,    18.36,2,     0.02,2,     1.15,2,  -999.0,9,  4.2381,-999.000,9
     64PE96N_1,  AR12,    24,  1,     12,   X045,2,19960624,1344, 46.0007,  -6.5675, 4731,   2027.1,   3.8704,  35.0202,2,-999.0000,9,    248.0,2,   -999.0,9,    19.72,2,    18.98,2,     0.01,2,     1.21,2,  -999.0,9,  3.7020,-999.000,9
     64PE96N_1,  AR12,    24,  1,     11,   X024,2,19960624,1344, 46.0007,  -6.5675, 4731,   2281.1,   3.4586,  34.9913,2,  34.9929,2,    249.0,2,    250.1,2,    24.08,2,    19.45,2,     0.02,2,     1.26,2,  -999.0,9,  3.2719,-999.000,9
     64PE96N_1,  AR12,    24,  1,     10,   X023,2,19960624,1344, 46.0007,  -6.5675, 4731,   2537.7,   3.1632,  34.9713,2,-999.0000,9,    246.2,2,   -999.0,9,    29.26,2,    20.25,2,     0.00,2,     1.32,2,  -999.0,9,  2.9564,-999.000,9
     64PE96N_1,  AR12,    24,  1,      9,   X008,2,19960624,1344, 46.0007,  -6.5675, 4731,   2791.4,   2.9744,  34.9566,2,  34.9566,2,    245.5,2,    247.4,2,    31.94,2,    20.66,2,     0.01,2,     1.36,2,  -999.0,9,  2.7457,-999.000,9
     64PE96N_1,  AR12,    24,  1,      8,   X044,2,19960624,1344, 46.0007,  -6.5675, 4731,   3046.6,   2.7971,  34.9419,2,-999.0000,9,    244.4,2,   -999.0,9,    34.81,2,    21.12,2,     0.01,2,     1.39,2,  -999.0,9,  2.5458,-999.000,9
     64PE96N_1,  AR12,    24,  1,      7,   X043,4,19960624,1344, 46.0007,  -6.5675, 4731,   3302.1,   2.6694,  34.9303,2,  35.5243,4,    243.5,2,    225.5,4,     8.08,4,    12.91,4,     0.02,4,     0.78,4,  -999.0,9,  2.3941,-999.000,9
     64PE96N_1,  AR12,    24,  1,      6,   X030,2,19960624,1344, 46.0007,  -6.5675, 4731,   3560.0,   2.5905,  34.9217,2,-999.0000,9,    242.2,2,   -999.0,9,    39.33,2,    21.85,2,     0.01,2,     1.43,2,  -999.0,9,  2.2892,-999.000,9
     64PE96N_1,  AR12,    24,  1,      5,   X001,2,19960624,1344, 46.0007,  -6.5675, 4731,   3815.4,   2.5350,  34.9140,2,  34.9137,2,    241.2,2,    241.3,2,    41.40,2,    21.99,2,     0.01,2,     1.45,2,  -999.0,9,  2.2067,-999.000,9
     64PE96N_1,  AR12,    24,  1,      4,   X031,2,19960624,1344, 46.0007,  -6.5675, 4731,   4074.1,   2.5054,  34.9082,2,-999.0000,9,    240.3,2,   -999.0,9,    42.73,2,    22.18,2,     0.02,2,     1.47,2,  -999.0,9,  2.1484,-999.000,9
     64PE96N_1,  AR12,    24,  1,      3,   X042,2,19960624,1344, 46.0007,  -6.5675, 4731,   4328.7,   2.4927,  34.9039,2,  34.9025,2,    240.2,2,    241.6,2,    44.26,2,    22.42,2,     0.02,2,     1.48,2,  -999.0,9,  2.1061,-999.000,9
     64PE96N_1,  AR12,    24,  1,      2,   X019,4,19960624,1344, 46.0007,  -6.5675, 4731,   4587.0,   2.5015,  34.9011,2,-999.0000,9,    238.7,2,   -999.0,9,     8.16,4,    13.11,4,     0.02,4,     0.79,4,  -999.0,9,  2.0834,-999.000,9
     64PE96N_1,  AR12,    24,  1,      1,   X041,4,19960624,1344, 46.0007,  -6.5675, 4731,   4858.4,   2.5280,  34.9001,2,  35.5586,4,    238.8,2,    223.4,4,     6.44,4,    11.41,4,     0.02,4,     0.69,4,  -999.0,9,  2.0755,-999.000,9