BOTTLE,20020320WHPSIOKJU
EXPOCODE,SECT_ID,STNNBR,CASTNO,SAMPNO,BTLNBR,BTLNBR_FLAG_W,DATE,TIME,LATITUDE,LONGITUDE,DEPTH,CTDPRS,CTDTMP,CTDSAL,CTDSAL_FLAG_W,SALNTY,SALNTY_FLAG_W,CTDOXY,CTDOXY_FLAG_W,OXYGEN,OXYGEN_FLAG_W,SILCAT,SILCAT_FLAG_W,NITRAT,NITRAT_FLAG_W,NITRIT,NITRIT_FLAG_W,PHSPHT,PHSPHT_FLAG_W,REVPRS,REVPRS_FLAG_W,THETA,REVTMP,REVTMP_FLAG_W
,,,,,,,,,,,,DBAR,ITS-90,PSS-78,,PSS-78,,UMOL/KG,,UMOL/KG,,UMOL/KG,,UMOL/KG,,UMOL/KG,,UMOL/KG,,DBAR,,DEG C,ITS-90,
     64PE96N_1,  AR12,    35,  1,     24,   X051,2,19960627,1207, 47.0000, -12.6650, 4653,    101.7,  11.7793,  35.6030,2,  35.6021,6,    246.1,2,    244.7,6,     3.30,2,     8.94,2,     0.03,2,     0.53,2,  -999.0,9, 11.7661,  11.789,2
     64PE96N_1,  AR12,    35,  1,     23,   X050,2,19960627,1207, 47.0000, -12.6650, 4653,    203.1,  11.3230,  35.5503,2,  35.5486,2,    247.6,2,    245.2,2,     3.92,2,    10.10,2,     0.03,2,     0.61,2,  -999.0,9, 11.2973,  11.332,2
     64PE96N_1,  AR12,    35,  1,     22,   X049,2,19960627,1207, 47.0000, -12.6650, 4653,    303.2,  10.9566,  35.5080,2,-999.0000,9,    250.6,2,   -999.0,9,     4.02,2,    10.31,2,     0.03,2,     0.62,2,  -999.0,9, 10.9189,  10.949,2
     64PE96N_1,  AR12,    35,  1,     21,   X048,2,19960627,1207, 47.0000, -12.6650, 4653,    404.3,  10.7298,  35.4868,2,  35.4859,2,    246.7,2,    246.0,2,     4.35,2,    10.99,2,     0.03,2,     0.66,2,  -999.0,9, 10.6800,  10.732,2
     64PE96N_1,  AR12,    35,  1,     20,   X046,2,19960627,1207, 47.0000, -12.6650, 4653,    504.3,  10.4486,  35.4563,2,-999.0000,9,    243.3,2,   -999.0,9,     4.89,2,    11.89,2,     0.02,2,     0.71,2,  -999.0,9, 10.3872,  10.448,2
     64PE96N_1,  AR12,    35,  1,     19,   X047,2,19960627,1207, 47.0000, -12.6650, 4653,    605.5,  10.0156,  35.4148,2,  35.4168,2,    227.6,2,    226.6,2,     6.42,2,    14.10,2,     0.03,2,     0.85,2,  -999.0,9,  9.9435,  10.011,2
     64PE96N_1,  AR12,    35,  1,     18,   X014,2,19960627,1207, 47.0000, -12.6650, 4653,    806.6,   9.0554,  35.4239,2,-999.0000,9,    200.2,2,   -999.0,9,     9.43,2,    17.40,2,     0.01,2,     1.07,2,  -999.0,9,  8.9639,   9.054,2
     64PE96N_1,  AR12,    35,  1,     17,   X032,2,19960627,1207, 47.0000, -12.6650, 4653,   1012.2,   8.6948,  35.5860,2,  35.5757,3,    196.1,2,    196.3,2,    10.43,2,    17.78,2,     0.02,2,     1.08,2,  -999.0,9,  8.5810,   8.677,3
     64PE96N_1,  AR12,    35,  1,     16,   X026,2,19960627,1207, 47.0000, -12.6650, 4653,   1263.6,   6.3321,  35.2670,2,-999.0000,9,    221.7,2,   -999.0,9,    11.60,2,    18.50,2,     0.02,2,     1.14,2,  -999.0,9,  6.2104,   6.339,2
     64PE96N_1,  AR12,    35,  1,     15,   X059,2,19960627,1207, 47.0000, -12.6650, 4653,   1518.1,   4.4479,  35.0057,2,  35.0020,2,    252.1,2,    255.1,2,    11.72,2,    18.14,2,     0.04,2,     1.15,2,  -999.0,9,  4.3208,   4.447,2
     64PE96N_1,  AR12,    35,  1,     14,   X025,2,19960627,1207, 47.0000, -12.6650, 4653,   1770.9,   3.6548,  34.9172,2,-999.0000,9,    269.9,2,   -999.0,9,    11.56,2,    17.68,2,     0.02,2,     1.12,2,  -999.0,9,  3.5140,   3.657,2
     64PE96N_1,  AR12,    35,  1,     13,   X007,2,19960627,1207, 47.0000, -12.6650, 4653,   2026.9,   3.6730,  34.9622,2,  34.9614,2,    261.2,2,    264.0,2,    14.65,2,    17.92,2,     0.02,2,     1.15,2,  -999.0,9,  3.5077,   3.672,2
     64PE96N_1,  AR12,    35,  1,     12,   X015,2,19960627,1207, 47.0000, -12.6650, 4653,   2280.9,   3.3942,  34.9589,2,-999.0000,9,    258.5,2,   -999.0,9,    18.44,2,    18.49,2,     0.02,2,     1.18,2,  -999.0,9,  3.2087,   3.394,2
     64PE96N_1,  AR12,    35,  1,     11,   X034,2,19960627,1207, 47.0000, -12.6650, 4653,   2537.1,   3.1317,  34.9608,2,  34.9879,4,    249.2,2,    249.9,2,    25.18,2,    19.51,2,     0.02,2,     1.26,2,  -999.0,9,  2.9256,   3.131,2
     64PE96N_1,  AR12,    35,  1,     10,   X023,2,19960627,1207, 47.0000, -12.6650, 4653,   2791.7,   2.9265,  34.9512,2,  34.9502,2,    245.1,2,   -999.0,9,    31.54,2,    20.58,2,     0.04,2,     1.34,2,  -999.0,9,  2.6987,   2.926,2
     64PE96N_1,  AR12,    35,  1,      9,   X035,2,19960627,1207, 47.0000, -12.6650, 4653,   3046.9,   2.7827,  34.9416,2,-999.0000,9,    243.3,2,    245.7,2,    33.21,2,    20.94,2,     0.02,2,     1.36,2,  -999.0,9,  2.5317,   2.782,2
     64PE96N_1,  AR12,    35,  1,      8,   X044,2,19960627,1207, 47.0000, -12.6650, 4653,   3302.1,   2.6719,  34.9310,2,-999.0000,9,    241.5,2,   -999.0,9,    36.95,2,    21.54,2,     0.03,2,     1.41,2,  3302.3,6,  2.3965,   2.672,6
     64PE96N_1,  AR12,    35,  1,      7,   X011,2,19960627,1207, 47.0000, -12.6650, 4653,   3559.6,   2.5955,  34.9226,2,  34.9215,2,    239.7,2,    242.4,2,    39.28,2,    21.91,2,     0.03,2,     1.43,2,  -999.0,9,  2.2941,   2.596,2
     64PE96N_1,  AR12,    35,  1,      6,   X030,2,19960627,1207, 47.0000, -12.6650, 4653,   3814.8,   2.5434,  34.9151,2,-999.0000,9,    239.0,2,   -999.0,9,    41.44,2,    22.12,2,     0.03,2,     1.45,2,  -999.0,9,  2.2149,   2.545,6
     64PE96N_1,  AR12,    35,  1,      5,   X057,2,19960627,1207, 47.0000, -12.6650, 4653,   4070.1,   2.5110,  34.9092,2,  34.9076,2,    238.9,2,    241.5,2,    42.67,2,    22.49,2,     0.04,2,     1.46,2,  -999.0,9,  2.1543,   2.511,2
     64PE96N_1,  AR12,    35,  1,      4,   X031,2,19960627,1207, 47.0000, -12.6650, 4653,   4329.0,   2.4984,  34.9047,2,-999.0000,9,    239.2,2,   -999.0,9,    43.25,2,    22.41,2,     0.03,2,     1.48,2,  -999.0,9,  2.1116,   2.499,6
     64PE96N_1,  AR12,    35,  1,      3,   X021,2,19960627,1207, 47.0000, -12.6650, 4653,   4586.8,   2.5046,  34.9018,2,  34.9010,2,    238.0,2,    239.3,2,    44.65,2,    22.66,2,     0.03,2,     1.48,2,  -999.0,9,  2.0865,   2.504,2
     64PE96N_1,  AR12,    35,  1,      1,   X055,2,19960627,1207, 47.0000, -12.6650, 4653,   4764.7,   2.5184,  34.9006,2,  34.9073,4,    239.4,2,    240.6,6,    43.21,6,    22.37,6,     0.03,2,     1.47,6,  -999.0,9,  2.0779,-999.000,9
     64PE96N_1,  AR12,    35,  1,      2,   X056,2,19960627,1207, 47.0000, -12.6650, 4653,   4764.7,   2.5184,  34.9006,2,-999.0000,9,    239.4,2,   -999.0,9,    43.85,2,    22.55,2,     0.07,2,     1.48,2,  4766.4,6,  2.0779,   2.517,6
     64PE96N_1,  AR12,    36,  1,     24,   X051,2,19960627,1755, 47.4998, -12.6678, 4438,    101.1,  11.6425,  35.5942,2,  35.5940,6,    250.4,2,    246.9,6,     3.34,2,     8.99,2,     0.02,2,     0.54,2,  -999.0,9, 11.6295,  11.651,2
     64PE96N_1,  AR12,    36,  1,     23,   X050,2,19960627,1755, 47.4998, -12.6678, 4438,    202.1,  11.1380,  35.5220,2,  35.5203,2,    250.0,2,    247.4,2,     4.09,2,    10.28,2,     0.02,2,     0.62,2,  -999.0,9, 11.1127,  11.138,2
     64PE96N_1,  AR12,    36,  1,     22,   X049,2,19960627,1755, 47.4998, -12.6678, 4438,    303.2,  10.9111,  35.5014,2,-999.0000,9,    250.0,2,   -999.0,9,     4.10,2,    10.41,2,     0.01,2,     0.63,2,  -999.0,9, 10.8735,  10.911,2
     64PE96N_1,  AR12,    36,  1,     21,   X048,2,19960627,1755, 47.4998, -12.6678, 4438,    404.5,  10.6226,  35.4660,2,  35.4656,2,    241.6,2,    240.3,2,     4.70,2,    11.90,2,     0.01,2,     0.71,2,  -999.0,9, 10.5731,  10.619,2
     64PE96N_1,  AR12,    36,  1,     20,   X046,2,19960627,1755, 47.4998, -12.6678, 4438,    504.7,  10.4180,  35.4563,2,-999.0000,9,    243.5,2,   -999.0,9,     4.78,2,    11.92,2,     0.01,2,     0.72,2,  -999.0,9, 10.3567,  10.421,2
     64PE96N_1,  AR12,    36,  1,     19,   X047,2,19960627,1755, 47.4998, -12.6678, 4438,    605.4,  10.0889,  35.4210,2,  35.4210,2,    232.2,2,    230.6,2,     6.01,2,    13.62,2,     0.01,2,     0.83,2,  -999.0,9, 10.0165,  10.091,2
     64PE96N_1,  AR12,    36,  1,     18,   X014,2,19960627,1755, 47.4998, -12.6678, 4438,    706.9,   9.5544,  35.3963,2,-999.0000,9,    215.8,2,   -999.0,9,     7.95,2,    15.94,2,     0.00,2,     0.97,2,  -999.0,9,  9.4721,   9.552,2
     64PE96N_1,  AR12,    36,  1,     17,   X032,2,19960627,1755, 47.4998, -12.6678, 4438,    808.5,   9.0601,  35.4703,2,  35.4797,4,    203.4,3,    195.2,2,     9.60,2,    17.58,2,     0.01,2,     1.07,2,  -999.0,9,  8.9683,   9.067,2
     64PE96N_1,  AR12,    36,  1,     16,   X026,2,19960627,1755, 47.4998, -12.6678, 4438,   1010.4,   8.7874,  35.6229,2,-999.0000,9,    193.7,2,    195.7,2,    10.28,2,    17.60,2,     0.01,2,     1.08,2,  -999.0,9,  8.6731,   8.795,2
     64PE96N_1,  AR12,    36,  1,     15,   X059,2,19960627,1755, 47.4998, -12.6678, 4438,   1263.5,   5.6313,  35.1484,2,  35.1518,2,    221.1,3,    232.7,2,    11.40,2,    18.35,2,     0.01,2,     1.16,2,  -999.0,9,  5.5164,   5.629,2
     64PE96N_1,  AR12,    36,  1,     14,   X025,2,19960627,1755, 47.4998, -12.6678, 4438,   1517.7,   4.1767,  34.9629,2,-999.0000,9,    248.5,3,   -999.0,9,    11.27,2,    18.07,2,     0.01,2,     1.14,2,  -999.0,9,  4.0529,   4.178,2
     64PE96N_1,  AR12,    36,  1,     13,   X058,2,19960627,1755, 47.4998, -12.6678, 4438,   1771.7,   3.6846,  34.9188,2,  34.9193,2,    261.7,3,    272.5,2,    11.38,2,    17.56,2,     0.01,2,     1.12,2,  -999.0,9,  3.5434,   3.684,2
     64PE96N_1,  AR12,    36,  1,     12,   X015,2,19960627,1755, 47.4998, -12.6678, 4438,   2027.5,   3.5337,  34.9308,2,-999.0000,9,    261.1,3,   -999.0,9,    12.87,2,    17.57,2,     0.01,2,     1.13,2,  -999.0,9,  3.3706,   3.534,2
     64PE96N_1,  AR12,    36,  1,     11,   X034,2,19960627,1755, 47.4998, -12.6678, 4438,   2281.7,   3.4068,  34.9519,2,  34.9527,2,    257.1,3,    264.8,2,    15.90,2,    17.80,2,     0.01,2,     1.15,2,  -999.0,9,  3.2210,   3.407,2
     64PE96N_1,  AR12,    36,  1,     10,   X023,2,19960627,1755, 47.4998, -12.6678, 4438,   2536.2,   3.2137,  34.9598,2,-999.0000,9,    251.9,3,   -999.0,9,    21.14,2,    18.70,2,     0.02,2,     1.21,2,  -999.0,9,  3.0062,   3.212,2
     64PE96N_1,  AR12,    36,  1,      9,   X035,2,19960627,1755, 47.4998, -12.6678, 4438,   2792.2,   2.9817,  34.9543,2,  34.9791,4,    249.3,2,    250.5,2,    26.70,2,    19.52,2,     0.01,2,     1.28,2,  -999.0,9,  2.7527,   2.982,2
     64PE96N_1,  AR12,    36,  1,      8,   X044,2,19960627,1755, 47.4998, -12.6678, 4438,   3045.3,   2.8184,  34.9441,2,-999.0000,9,    247.6,2,   -999.0,9,    32.93,2,    20.75,2,     0.02,2,     1.36,2,  3043.8,6,  2.5667,   2.819,6
     64PE96N_1,  AR12,    36,  1,      7,   X011,2,19960627,1755, 47.4998, -12.6678, 4438,   3302.5,   2.6922,  34.9329,2,  34.9315,2,    245.0,2,    244.1,2,    36.59,2,    21.30,2,     0.02,2,     1.40,2,  -999.0,9,  2.4163,   2.692,2
     64PE96N_1,  AR12,    36,  1,      6,   X030,2,19960627,1755, 47.4998, -12.6678, 4438,   3559.3,   2.6149,  34.9244,2,-999.0000,9,    244.3,2,   -999.0,9,    39.09,2,    21.84,2,     0.06,2,     1.43,2,  -999.0,9,  2.3130,   2.615,6
     64PE96N_1,  AR12,    36,  1,      5,   X057,2,19960627,1755, 47.4998, -12.6678, 4438,   3816.3,   2.5603,  34.9170,2,  34.9158,2,    244.8,2,    241.8,2,    40.86,2,    22.01,2,     0.02,2,     1.45,2,  -999.0,9,  2.2312,   2.560,2
     64PE96N_1,  AR12,    36,  1,      4,   X031,2,19960627,1755, 47.4998, -12.6678, 4438,   4060.7,   2.5292,  34.9116,2,-999.0000,9,    243.9,2,   -999.0,9,    41.96,2,    22.15,2,     0.02,2,     1.45,2,  -999.0,9,  2.1730,   2.530,6
     64PE96N_1,  AR12,    36,  1,      3,   X021,2,19960627,1755, 47.4998, -12.6678, 4438,   4329.0,   2.5123,  34.9068,2,  34.9065,2,    242.9,2,    239.9,2,    43.60,2,    22.47,2,     0.02,2,     1.48,2,  -999.0,9,  2.1251,   2.513,2
     64PE96N_1,  AR12,    36,  1,      1,   X055,2,19960627,1755, 47.4998, -12.6678, 4438,   4545.4,   2.4973,  34.9024,2,  34.9055,6,    243.9,2,    239.5,6,    43.70,6,    22.35,6,     0.02,2,     1.48,6,  -999.0,9,  2.0844,-999.000,9
     64PE96N_1,  AR12,    36,  1,      2,   X056,2,19960627,1755, 47.4998, -12.6678, 4438,   4545.4,   2.4973,  34.9024,2,-999.0000,9,    243.9,2,   -999.0,9,    44.23,2,    22.51,2,     0.03,2,     1.49,2,  4547.4,6,  2.0844,   2.497,6
     64PE96N_1,  AR12,    38,  1,     24,   X051,2,19960628,0748, 48.1998, -12.5330, 2775,     50.0,  12.5083,  35.5449,2,  35.5450,6,    252.2,2,    253.1,6,     1.52,2,     2.88,2,     0.31,2,     0.32,2,  -999.0,9, 12.5016,-999.000,9
     64PE96N_1,  AR12,    38,  1,     23,   X050,2,19960628,0748, 48.1998, -12.5330, 2775,    101.8,  11.6561,  35.5529,2,  35.5498,2,    248.9,2,    248.7,2,     2.78,2,     7.71,2,     0.09,2,     0.49,2,  -999.0,9, 11.6430,-999.000,9
     64PE96N_1,  AR12,    38,  1,     22,   X049,2,19960628,0748, 48.1998, -12.5330, 2775,    201.2,  11.1220,  35.5305,2,-999.0000,9,    250.1,2,   -999.0,9,     3.85,2,     9.88,2,     0.04,2,     0.62,2,  -999.0,9, 11.0968,-999.000,9
     64PE96N_1,  AR12,    38,  1,     21,   X048,2,19960628,0748, 48.1998, -12.5330, 2775,    303.6,  10.9625,  35.5145,2,  35.5132,2,    250.2,2,    247.9,2,     4.08,2,    10.23,2,     0.03,2,     0.65,2,  -999.0,9, 10.9247,-999.000,9
     64PE96N_1,  AR12,    38,  1,     20,   X046,2,19960628,0748, 48.1998, -12.5330, 2775,    405.8,  10.6718,  35.4765,2,-999.0000,9,    238.0,2,    236.8,2,     4.91,2,    11.93,2,     0.03,2,     0.76,2,  -999.0,9, 10.6220,-999.000,9
     64PE96N_1,  AR12,    38,  1,     19,   X047,3,19960628,0748, 48.1998, -12.5330, 2775,    504.5,  10.3753,  35.4534,2,-999.0000,9,    233.5,2,   -999.0,9,  -999.00,9,  -999.00,9,  -999.00,9,  -999.00,9,  -999.0,9, 10.3142,-999.000,9
     64PE96N_1,  AR12,    38,  1,     18,   X014,2,19960628,0748, 48.1998, -12.5330, 2775,    608.0,   9.6513,  35.3673,2,-999.0000,9,    219.2,2,   -999.0,9,     7.50,2,    15.40,2,     0.03,2,     0.97,2,  -999.0,9,  9.5805,-999.000,9
     64PE96N_1,  AR12,    38,  1,     17,   X032,2,19960628,0748, 48.1998, -12.5330, 2775,    706.9,   9.5571,  35.4405,2,  35.4322,3,    205.7,2,    204.2,2,     8.68,2,    16.44,2,     0.02,2,     1.05,2,  -999.0,9,  9.4747,-999.000,9
     64PE96N_1,  AR12,    38,  1,     16,   X026,2,19960628,0748, 48.1998, -12.5330, 2775,    807.2,   9.1567,  35.5000,2,-999.0000,9,    197.0,2,   -999.0,9,     9.64,2,    17.36,2,     0.03,2,     1.11,2,  -999.0,9,  9.0644,-999.000,9
     64PE96N_1,  AR12,    38,  1,     15,   X059,2,19960628,0748, 48.1998, -12.5330, 2775,    909.9,   8.3437,  35.4244,2,  35.4242,2,    199.6,2,    198.8,2,    10.63,2,    18.21,2,     0.02,2,     1.16,2,  -999.0,9,  8.2445,-999.000,9
     64PE96N_1,  AR12,    38,  1,     14,   X025,2,19960628,0748, 48.1998, -12.5330, 2775,   1011.2,   8.0238,  35.4732,2,  35.4775,2,    202.1,2,   -999.0,9,    10.99,2,    18.13,2,     0.02,2,     1.16,2,  -999.0,9,  7.9152,-999.000,9
     64PE96N_1,  AR12,    38,  1,     13,   X058,2,19960628,0748, 48.1998, -12.5330, 2775,   1111.5,   7.9637,  35.5040,2,-999.0000,9,    203.9,2,    205.6,2,    11.29,2,    17.93,2,     0.02,2,     1.14,2,  -999.0,9,  7.8442,-999.000,9
     64PE96N_1,  AR12,    38,  1,     12,   X015,2,19960628,0748, 48.1998, -12.5330, 2775,   1212.5,   6.2219,  35.2297,2,-999.0000,9,    223.6,2,   -999.0,9,    11.98,2,    18.51,2,     0.02,2,     1.20,2,  -999.0,9,  6.1066,-999.000,9
     64PE96N_1,  AR12,    38,  1,     11,   X034,2,19960628,0748, 48.1998, -12.5330, 2775,   1314.8,   5.1420,  35.0776,2,  35.0762,2,    240.4,2,    240.9,2,    11.62,2,    18.49,2,     0.03,2,     1.21,2,  -999.0,9,  5.0269,-999.000,9
     64PE96N_1,  AR12,    38,  1,     10,   X023,2,19960628,0748, 48.1998, -12.5330, 2775,   1413.0,   4.5729,  35.0127,2,-999.0000,9,    252.3,2,   -999.0,9,    11.68,2,    18.09,2,     0.02,2,     1.20,2,  -999.0,9,  4.4544,-999.000,9
     64PE96N_1,  AR12,    38,  1,      9,   X035,2,19960628,0748, 48.1998, -12.5330, 2775,   1519.1,   4.1894,  34.9661,2,  34.9742,3,    259.8,2,    259.4,2,    11.27,2,    18.02,2,     0.02,2,     1.19,2,  -999.0,9,  4.0653,-999.000,9
     64PE96N_1,  AR12,    38,  1,      8,   X044,2,19960628,0748, 48.1998, -12.5330, 2775,   1618.7,   3.9625,  34.9413,2,-999.0000,9,    265.4,2,   -999.0,9,    11.40,2,    17.85,2,     0.03,2,     1.16,2,  1606.8,4,  3.8319,   3.998,4
     64PE96N_1,  AR12,    38,  1,      7,   X011,2,19960628,0748, 48.1998, -12.5330, 2775,   1823.1,   3.6115,  34.9142,2,  34.9152,2,    273.9,2,    273.2,2,    11.56,2,    17.47,2,     0.02,2,     1.17,2,  -999.0,9,  3.4666,-999.000,9
     64PE96N_1,  AR12,    38,  1,      6,   X030,2,19960628,0748, 48.1998, -12.5330, 2775,   2027.6,   3.5108,  34.9290,2,-999.0000,9,    271.7,2,   -999.0,9,    13.09,2,    17.61,2,     0.02,2,     1.16,2,  -999.0,9,  3.3480,   3.510,6
     64PE96N_1,  AR12,    38,  1,      5,   X057,2,19960628,0748, 48.1998, -12.5330, 2775,   2231.4,   3.3544,  34.9534,2,  34.9538,2,    264.9,2,    263.5,2,    17.08,2,    18.06,2,     0.02,2,     1.21,2,  -999.0,9,  3.1744,-999.000,9
     64PE96N_1,  AR12,    38,  1,      4,   X031,2,19960628,0748, 48.1998, -12.5330, 2775,   2435.0,   3.2069,  34.9596,2,-999.0000,9,    259.8,2,   -999.0,9,    21.88,2,    18.87,2,     0.02,2,     1.26,2,  -999.0,9,  3.0095,   3.200,6
     64PE96N_1,  AR12,    38,  1,      3,   X021,2,19960628,0748, 48.1998, -12.5330, 2775,   2638.3,   3.0420,  34.9553,2,  34.9542,2,    252.5,2,    248.5,2,    29.82,2,    20.20,2,     0.02,2,     1.35,2,  -999.0,9,  2.8275,-999.000,9
     64PE96N_1,  AR12,    38,  1,      1,   X055,2,19960628,0748, 48.1998, -12.5330, 2775,   2812.7,   2.8832,  34.9450,2,  34.9488,6,    251.5,2,    246.1,6,    32.98,6,    20.87,6,     0.03,2,     1.40,6,  -999.0,9,  2.6542,-999.000,9
     64PE96N_1,  AR12,    38,  1,      2,   X056,2,19960628,0748, 48.1998, -12.5330, 2775,   2812.7,   2.8832,  34.9450,2,-999.0000,9,    251.5,2,   -999.0,9,    32.57,2,    20.84,2,     0.02,2,     1.41,2,  2809.4,6,  2.6542,   2.883,2