BOTTLE,20020320WHPSIOKJU
EXPOCODE,SECT_ID,STNNBR,CASTNO,SAMPNO,BTLNBR,BTLNBR_FLAG_W,DATE,TIME,LATITUDE,LONGITUDE,DEPTH,CTDPRS,CTDTMP,CTDSAL,CTDSAL_FLAG_W,SALNTY,SALNTY_FLAG_W,CTDOXY,CTDOXY_FLAG_W,OXYGEN,OXYGEN_FLAG_W,SILCAT,SILCAT_FLAG_W,NITRAT,NITRAT_FLAG_W,NITRIT,NITRIT_FLAG_W,PHSPHT,PHSPHT_FLAG_W,REVPRS,REVPRS_FLAG_W,THETA,REVTMP,REVTMP_FLAG_W
,,,,,,,,,,,,DBAR,ITS-90,PSS-78,,PSS-78,,UMOL/KG,,UMOL/KG,,UMOL/KG,,UMOL/KG,,UMOL/KG,,UMOL/KG,,DBAR,,DEG C,ITS-90,
     64PE96N_1,  AR12,    32,  1,     24,   X051,2,19960626,1744, 45.9992, -12.0003, 4785,    101.3,  12.0279,  35.6142,2,  35.6129,6,    244.5,2,    243.6,6,     2.53,2,     7.61,2,     0.03,2,     0.45,2,  -999.0,9, 12.0146,  12.032,2
     64PE96N_1,  AR12,    32,  1,     23,   X050,2,19960626,1744, 45.9992, -12.0003, 4785,    201.2,  11.6130,  35.5884,2,  35.5913,2,    245.3,2,    243.9,2,     3.15,2,     8.81,2,     0.02,2,     0.53,2,  -999.0,9, 11.5871,  11.610,2
     64PE96N_1,  AR12,    32,  1,     22,   X049,2,19960626,1744, 45.9992, -12.0003, 4785,    302.5,  11.2600,  35.5381,2,-999.0000,9,    238.4,2,   -999.0,9,     4.34,2,    11.32,2,     0.01,2,     0.67,2,  -999.0,9, 11.2217,  11.259,2
     64PE96N_1,  AR12,    32,  1,     21,   X048,2,19960626,1744, 45.9992, -12.0003, 4785,    403.5,  11.0958,  35.5272,2,  35.5236,2,    242.1,2,    241.3,2,     4.20,2,    10.82,2,     0.01,2,     0.65,2,  -999.0,9, 11.0450,  11.093,2
     64PE96N_1,  AR12,    32,  1,     20,   X047,2,19960626,1744, 45.9992, -12.0003, 4785,    506.5,  10.7527,  35.4875,2,-999.0000,9,    230.5,2,   -999.0,9,     5.21,2,    12.99,2,     0.01,2,     0.77,2,  -999.0,9, 10.6899,  10.753,2
     64PE96N_1,  AR12,    32,  1,     19,   X046,2,19960626,1744, 45.9992, -12.0003, 4785,    605.6,  10.3170,  35.4484,2,  35.4476,2,    226.2,2,    224.3,2,     6.13,2,    14.07,2,     0.01,2,     0.86,2,  -999.0,9, 10.2435,  10.319,2
     64PE96N_1,  AR12,    32,  1,     18,   X014,4,19960626,1744, 45.9992, -12.0003, 4785,    808.1,   9.7559,  35.5340,2,-999.0000,9,    199.8,2,   -999.0,9,     4.99,4,    11.58,4,     0.01,4,     0.70,4,  -999.0,9,  9.6600,   9.742,2
     64PE96N_1,  AR12,    32,  1,     17,   X026,2,19960626,1744, 45.9992, -12.0003, 4785,   1011.8,   9.2448,  35.6760,2,  35.6778,2,    195.5,2,    193.4,2,    10.05,2,    17.52,2,     0.00,2,     1.06,2,  -999.0,9,  9.1270,   9.244,2
     64PE96N_1,  AR12,    32,  1,     16,   X032,2,19960626,1744, 45.9992, -12.0003, 4785,   1263.2,   7.2194,  35.4200,2,-999.0000,9,    214.9,2,    214.1,2,    11.35,2,    18.10,2,     0.00,2,     1.13,2,  -999.0,9,  7.0893,   7.222,2
     64PE96N_1,  AR12,    32,  1,     15,   X007,2,19960626,1744, 45.9992, -12.0003, 4785,   1518.4,   5.5867,  35.2058,2,  35.2049,2,    235.8,2,    238.0,2,    12.61,2,    18.31,2,     0.02,2,     1.15,2,  -999.0,9,  5.4463,   5.585,2
     64PE96N_1,  AR12,    32,  1,     14,   X025,2,19960626,1744, 45.9992, -12.0003, 4785,   1772.4,   4.2964,  35.0308,2,-999.0000,9,    253.8,2,   -999.0,9,    14.08,2,    18.26,2,     0.00,2,     1.17,2,  -999.0,9,  4.1467,   4.296,2
     64PE96N_1,  AR12,    32,  1,     13,   X009,2,19960626,1744, 45.9992, -12.0003, 4785,   2026.3,   3.8691,  35.0068,2,  35.0059,2,    253.4,2,    256.4,2,    17.81,2,    18.73,2,     0.00,2,     1.20,2,  -999.0,9,  3.7008,   3.871,2
     64PE96N_1,  AR12,    32,  1,     12,   X015,2,19960626,1744, 45.9992, -12.0003, 4785,   2280.5,   3.4625,  34.9877,2,-999.0000,9,    250.0,2,   -999.0,9,    23.28,2,    19.47,2,     0.00,2,     1.27,2,  -999.0,9,  3.2758,   3.464,2
     64PE96N_1,  AR12,    32,  1,     11,   X024,2,19960626,1744, 45.9992, -12.0003, 4785,   2537.0,   3.1437,  34.9685,2,  34.9692,2,    247.7,2,    249.7,2,    27.80,2,    20.18,2,     0.00,2,     1.33,2,  -999.0,9,  2.9373,   3.145,2
     64PE96N_1,  AR12,    32,  1,     10,   X023,2,19960626,1744, 45.9992, -12.0003, 4785,   2791.2,   2.9041,  34.9516,2,-999.0000,9,    245.7,2,   -999.0,9,    31.83,2,    20.77,2,     0.00,2,     1.36,2,  -999.0,9,  2.6768,   2.905,2
     64PE96N_1,  AR12,    32,  1,      9,   X008,2,19960626,1744, 45.9992, -12.0003, 4785,   3047.3,   2.7605,  34.9398,2,  34.9389,2,    245.0,2,    247.7,2,    34.46,2,    21.11,2,     0.00,2,     1.40,2,  -999.0,9,  2.5099,   2.760,2
     64PE96N_1,  AR12,    32,  1,      8,   X044,2,19960626,1744, 45.9992, -12.0003, 4785,   3303.2,   2.6434,  34.9286,2,-999.0000,9,    243.0,2,   -999.0,9,    37.40,2,    21.64,2,     0.00,2,     1.42,2,  3302.8,6,  2.3686,   2.643,6
     64PE96N_1,  AR12,    32,  1,      7,   X011,2,19960626,1744, 45.9992, -12.0003, 4785,   3559.9,   2.5678,  34.9197,2,  34.9186,2,    241.6,2,    242.2,2,    39.93,2,    22.01,2,     0.00,2,     1.47,2,  -999.0,9,  2.2670,   2.568,2
     64PE96N_1,  AR12,    32,  1,      6,   X030,2,19960626,1744, 45.9992, -12.0003, 4785,   3681.8,   2.5483,  34.9167,2,-999.0000,9,    241.0,2,   -999.0,9,    40.48,2,    22.09,2,     0.00,2,     1.45,2,  -999.0,9,  2.2346,   2.548,6
     64PE96N_1,  AR12,    32,  1,      5,   X057,4,19960626,1744, 45.9992, -12.0003, 4785,   4072.4,   2.5051,  34.9082,2,  35.4619,4,    240.6,2,    232.0,4,     8.31,4,    13.64,4,     0.02,4,     0.83,4,  -999.0,9,  2.1483,   2.505,2
     64PE96N_1,  AR12,    32,  1,      4,   X031,2,19960626,1744, 45.9992, -12.0003, 4785,   4329.1,   2.4966,  34.9044,2,-999.0000,9,    240.4,2,   -999.0,9,    43.37,2,    22.46,2,     0.01,2,     1.51,2,  -999.0,9,  2.1098,   2.496,6
     64PE96N_1,  AR12,    32,  1,      3,   X021,2,19960626,1744, 45.9992, -12.0003, 4785,   4587.3,   2.5021,  34.9016,2,  34.9008,2,    240.2,2,    240.9,2,    44.29,2,    22.61,2,     0.01,2,     1.50,2,  -999.0,9,  2.0840,   2.502,2
     64PE96N_1,  AR12,    32,  1,      1,   X055,4,19960626,1744, 45.9992, -12.0003, 4785,   4760.7,   2.5153,  34.9002,2,  34.9279,4,    240.2,2,    243.8,4,    37.89,4,    21.79,4,     0.02,4,     1.44,4,  -999.0,9,  2.0754,-999.000,9
     64PE96N_1,  AR12,    32,  1,      2,   X056,2,19960626,1744, 45.9992, -12.0003, 4785,   4760.7,   2.5153,  34.9002,2,-999.0000,9,    240.2,2,   -999.0,9,    43.09,2,    22.31,2,     0.01,2,     1.48,2,  4762.9,6,  2.0754,   2.514,6
     64PE96N_1,  AR12,    33,  1,     24,   X051,2,19960627,0000, 46.0005, -12.6667, 4780,    100.1,  12.0916,  35.6439,2,  35.6435,6,    242.2,2,    243.1,6,     2.76,2,     8.11,2,     0.04,2,     0.44,2,  -999.0,9, 12.0784,-999.000,9
     64PE96N_1,  AR12,    33,  1,     23,   X050,2,19960627,0000, 46.0005, -12.6667, 4780,    201.8,  11.5824,  35.5862,2,  35.5836,2,    247.0,2,    245.7,2,     3.41,2,     9.28,2,     0.03,2,     0.50,2,  -999.0,9, 11.5565,-999.000,9
     64PE96N_1,  AR12,    33,  1,     22,   X049,2,19960627,0000, 46.0005, -12.6667, 4780,    303.3,  11.2334,  35.5455,2,-999.0000,9,    244.1,2,   -999.0,9,     3.69,2,    10.24,2,     0.02,2,     0.56,2,  -999.0,9, 11.1950,-999.000,9
     64PE96N_1,  AR12,    33,  1,     21,   X048,2,19960627,0000, 46.0005, -12.6667, 4780,    403.0,  10.9648,  35.5170,2,  35.5169,2,    235.1,2,    232.6,2,     4.50,2,    11.89,2,     0.02,2,     0.67,2,  -999.0,9, 10.9145,-999.000,9
     64PE96N_1,  AR12,    33,  1,     20,   X047,2,19960627,0000, 46.0005, -12.6667, 4780,    507.5,  10.6628,  35.4963,2,-999.0000,9,    228.8,2,   -999.0,9,     5.21,2,    13.16,2,     0.02,2,     0.74,2,  -999.0,9, 10.6002,-999.000,9
     64PE96N_1,  AR12,    33,  1,     19,   X046,2,19960627,0000, 46.0005, -12.6667, 4780,    605.2,  10.1832,  35.4615,2,  35.4608,2,    216.9,2,    216.6,2,     6.59,2,    14.81,2,     0.02,2,     0.86,2,  -999.0,9, 10.1103,-999.000,9
     64PE96N_1,  AR12,    33,  1,     18,   X014,2,19960627,0000, 46.0005, -12.6667, 4780,    810.4,   9.9240,  35.6405,2,-999.0000,9,    189.7,2,   -999.0,9,     8.91,2,    16.84,2,     0.02,2,     0.99,2,  -999.0,9,  9.8267,-999.000,9
     64PE96N_1,  AR12,    33,  1,     17,   X026,2,19960627,0000, 46.0005, -12.6667, 4780,   1009.8,   9.0596,  35.6659,2,  35.6640,2,    192.7,2,    192.5,2,    10.09,2,    17.62,2,     0.02,2,     1.03,2,  -999.0,9,  8.9434,-999.000,9
     64PE96N_1,  AR12,    33,  1,     16,   X032,3,19960627,0000, 46.0005, -12.6667, 4780,   1263.2,   6.3306,  35.2819,2,-999.0000,9,    223.8,2,   -999.0,9,  -999.00,9,  -999.00,9,  -999.00,9,  -999.00,9,  -999.0,9,  6.2089,-999.000,9
     64PE96N_1,  AR12,    33,  1,     15,   X007,2,19960627,0000, 46.0005, -12.6667, 4780,   1519.1,   4.6338,  35.0428,2,  35.0407,2,    251.1,2,    252.6,2,    12.06,2,    18.24,2,     0.02,2,     1.14,2,  -999.0,9,  4.5044,-999.000,9
     64PE96N_1,  AR12,    33,  1,     14,   X025,2,19960627,0000, 46.0005, -12.6667, 4780,   1772.6,   3.8267,  34.9493,2,-999.0000,9,    266.9,2,   -999.0,9,    12.61,2,    17.90,2,     0.02,2,     1.14,2,  -999.0,9,  3.6834,-999.000,9
     64PE96N_1,  AR12,    33,  1,     13,   X009,2,19960627,0000, 46.0005, -12.6667, 4780,   2026.2,   3.7056,  34.9790,2,  34.9783,2,    259.9,2,    258.8,2,    16.58,2,    18.44,2,     0.02,2,     1.16,2,  -999.0,9,  3.5399,-999.000,9
     64PE96N_1,  AR12,    33,  1,     12,   X045,2,19960627,0000, 46.0005, -12.6667, 4780,   2280.0,   3.3606,  34.9736,2,-999.0000,9,    254.3,2,   -999.0,9,    22.37,2,    19.31,2,     0.01,2,     1.24,2,  -999.0,9,  3.1757,-999.000,9
     64PE96N_1,  AR12,    33,  1,     11,   X034,4,19960627,0000, 46.0005, -12.6667, 4780,   2537.0,   3.1347,  34.9670,2,  35.5631,4,    249.2,2,    229.7,4,     5.32,4,    12.00,4,     0.04,4,     0.70,4,  -999.0,9,  2.9285,-999.000,9
     64PE96N_1,  AR12,    33,  1,     10,   X023,2,19960627,0000, 46.0005, -12.6667, 4780,   2791.7,   2.9127,  34.9514,2,-999.0000,9,    246.6,2,   -999.0,9,    32.04,2,    20.72,2,     0.02,2,     1.35,2,  -999.0,9,  2.6852,-999.000,9
     64PE96N_1,  AR12,    33,  1,      9,   X035,2,19960627,0000, 46.0005, -12.6667, 4780,   3040.5,   2.7718,  34.9400,2,  34.9419,2,    245.4,2,    245.7,2,    34.19,2,    21.14,2,     0.02,2,     1.38,2,  -999.0,9,  2.5217,-999.000,9
     64PE96N_1,  AR12,    33,  1,      8,   X044,2,19960627,0000, 46.0005, -12.6667, 4780,   3303.8,   2.6612,  34.9300,2,-999.0000,9,    244.1,2,   -999.0,9,    37.15,2,    21.66,2,     0.02,2,     1.43,2,  3303.3,6,  2.3859,   2.659,2
     64PE96N_1,  AR12,    33,  1,      7,   X011,2,19960627,0000, 46.0005, -12.6667, 4780,   3559.1,   2.5864,  34.9214,2,  34.9216,2,    242.8,2,    242.4,2,    39.83,2,    21.98,2,     0.02,2,     1.45,2,  -999.0,9,  2.2853,-999.000,9
     64PE96N_1,  AR12,    33,  1,      6,   X030,2,19960627,0000, 46.0005, -12.6667, 4780,   3816.5,   2.5406,  34.9146,2,-999.0000,9,    241.5,2,   -999.0,9,    41.50,2,    22.31,2,     0.02,2,     1.48,2,  -999.0,9,  2.2120,   2.540,6
     64PE96N_1,  AR12,    33,  1,      5,   X057,2,19960627,0000, 46.0005, -12.6667, 4780,   4071.9,   2.5099,  34.9087,2,  34.9080,2,    241.6,2,    242.4,2,    42.98,2,    22.47,2,     0.02,2,     1.50,2,  -999.0,9,  2.1530,-999.000,9
     64PE96N_1,  AR12,    33,  1,      4,   X031,2,19960627,0000, 46.0005, -12.6667, 4780,   4328.2,   2.5025,  34.9048,2,-999.0000,9,    241.5,2,   -999.0,9,    43.74,2,    22.65,2,     0.03,2,     1.51,2,  -999.0,9,  2.1157,   2.502,6
     64PE96N_1,  AR12,    33,  1,      3,   X021,2,19960627,0000, 46.0005, -12.6667, 4780,   4585.9,   2.5123,  34.9024,2,  34.9014,2,    241.4,2,    240.8,2,    44.57,2,    22.62,2,     0.02,2,     1.52,2,  -999.0,9,  2.0940,-999.000,9
     64PE96N_1,  AR12,    33,  1,      1,   X055,4,19960627,0000, 46.0005, -12.6667, 4780,   4765.0,   2.5248,  34.9010,2,  34.9059,4,    241.7,2,    240.6,4,    44.10,6,    22.60,4,     0.03,2,     1.51,4,  -999.0,9,  2.0841,-999.000,9
     64PE96N_1,  AR12,    33,  1,      2,   X056,4,19960627,0000, 46.0005, -12.6667, 4780,   4765.0,   2.5248,  34.9010,2,-999.0000,9,    241.7,2,   -999.0,9,    40.99,4,    22.16,4,     0.02,4,     1.48,4,  4766.4,6,  2.0841,   2.523,2
     64PE96N_1,  AR12,    34,  1,     24,   X051,2,19960627,0550, 46.5002, -12.6667, 3995,    101.9,  11.6119,  35.5804,2,  35.5802,6,    243.6,2,    244.7,6,     3.00,2,     8.93,2,     0.03,2,     0.48,2,  -999.0,9, 11.5988,  11.606,2
     64PE96N_1,  AR12,    34,  1,     23,   X050,2,19960627,0550, 46.5002, -12.6667, 3995,    202.6,  11.3085,  35.5553,2,  35.5552,2,    245.1,2,    244.6,2,     3.54,2,     9.80,2,     0.03,2,     0.55,2,  -999.0,9, 11.2829,  11.303,2
     64PE96N_1,  AR12,    34,  1,     22,   X049,2,19960627,0550, 46.5002, -12.6667, 3995,    300.1,  11.0467,  35.5216,2,-999.0000,9,    239.6,2,   -999.0,9,     4.09,2,    11.17,2,     0.03,2,     0.62,2,  -999.0,9, 11.0092,  11.048,2
     64PE96N_1,  AR12,    34,  1,     21,   X048,2,19960627,0550, 46.5002, -12.6667, 3995,    405.0,  10.6379,  35.4702,2,  35.4715,2,    233.1,2,    230.4,2,     5.02,2,    12.67,2,     0.03,2,     0.73,2,  -999.0,9, 10.5883,  10.638,2
     64PE96N_1,  AR12,    34,  1,     20,   X046,2,19960627,0550, 46.5002, -12.6667, 3995,    504.4,  10.3464,  35.4524,2,-999.0000,9,    230.5,2,   -999.0,9,     5.67,2,    13.61,2,     0.03,2,     0.78,2,  -999.0,9, 10.2854,  10.354,2
     64PE96N_1,  AR12,    34,  1,     19,   X047,2,19960627,0550, 46.5002, -12.6667, 3995,    606.1,   9.9481,  35.4221,2,  35.4218,2,    218.6,2,    218.6,2,     7.00,2,    15.15,2,     0.04,2,     0.90,2,  -999.0,9,  9.8762,   9.950,2
     64PE96N_1,  AR12,    34,  1,     18,   X014,2,19960627,0550, 46.5002, -12.6667, 3995,    707.2,   9.4828,  35.4226,2,-999.0000,9,    204.3,2,   -999.0,9,     8.52,2,    16.84,2,     0.03,2,     1.01,2,  -999.0,9,  9.4008,   9.480,2
     64PE96N_1,  AR12,    34,  1,     17,   X032,2,19960627,0550, 46.5002, -12.6667, 3995,    808.3,   9.5029,  35.5654,2,  35.5647,2,    194.8,2,    191.7,2,     9.28,2,    17.30,2,     0.03,2,     1.03,2,  -999.0,9,  9.4084,   9.536,4
     64PE96N_1,  AR12,    34,  1,     16,   X026,2,19960627,0550, 46.5002, -12.6667, 3995,    909.1,   9.4501,  35.6651,2,-999.0000,9,    190.9,2,   -999.0,9,     9.70,2,    17.40,2,     0.03,2,     1.03,2,  -999.0,9,  9.3435,   9.444,2
     64PE96N_1,  AR12,    34,  1,     15,   X059,2,19960627,0550, 46.5002, -12.6667, 3995,   1010.6,   9.1438,  35.6946,2,  35.6931,2,    192.7,2,    194.2,2,    10.10,2,    17.48,2,     0.03,2,     1.04,2,  -999.0,9,  9.0268,   9.142,2
     64PE96N_1,  AR12,    34,  1,     14,   X025,2,19960627,0550, 46.5002, -12.6667, 3995,   1212.6,   7.2345,  35.4405,2,-999.0000,9,    212.4,2,    212.9,2,    11.37,2,    18.09,2,     0.03,2,     1.10,2,  -999.0,9,  7.1098,   7.249,3
     64PE96N_1,  AR12,    34,  1,     13,   X058,4,19960627,0550, 46.5002, -12.6667, 3995,   1415.5,   5.2291,  35.1312,2,  35.4072,4,    240.2,2,    239.2,4,     8.01,4,    14.35,4,     0.04,4,     0.87,4,  -999.0,9,  5.1031,   5.252,4
     64PE96N_1,  AR12,    34,  1,     12,   X045,2,19960627,0550, 46.5002, -12.6667, 3995,   1619.6,   3.9460,  34.9439,2,-999.0000,9,    266.0,2,   -999.0,9,    11.52,2,    17.95,2,     0.03,2,     1.13,2,  -999.0,9,  3.8155,   3.946,2
     64PE96N_1,  AR12,    34,  1,     11,   X034,2,19960627,0550, 46.5002, -12.6667, 3995,   1824.0,   3.6221,  34.9199,2,  34.9234,2,    272.8,2,    271.3,2,    11.90,2,    17.70,2,     0.03,2,     1.13,2,  -999.0,9,  3.4769,   3.623,2
     64PE96N_1,  AR12,    34,  1,     10,   X023,2,19960627,0550, 46.5002, -12.6667, 3995,   2026.5,   3.5646,  34.9564,2,  34.9508,3,    264.6,2,   -999.0,9,    15.29,2,    17.92,2,     0.03,2,     1.15,2,  -999.0,9,  3.4010,   3.568,2
     64PE96N_1,  AR12,    34,  1,      9,   X035,2,19960627,0550, 46.5002, -12.6667, 3995,   2280.6,   3.3411,  34.9685,2,-999.0000,9,    257.5,2,    256.5,2,    21.14,2,    18.90,2,     0.04,2,     1.23,2,  -999.0,9,  3.1565,   3.341,2
     64PE96N_1,  AR12,    34,  1,      8,   X044,2,19960627,0550, 46.5002, -12.6667, 3995,   2536.2,   3.0997,  34.9649,2,  34.9687,2,    250.6,2,   -999.0,9,    27.30,2,    19.99,2,     0.03,2,     1.31,2,  2535.8,6,  2.8943,   3.103,6
     64PE96N_1,  AR12,    34,  1,      7,   X011,2,19960627,0550, 46.5002, -12.6667, 3995,   2792.2,   2.8937,  34.9516,2,-999.0000,9,    248.2,2,    247.7,2,    31.20,2,    20.62,2,     0.03,2,     1.36,2,  -999.0,9,  2.6665,   2.895,2
     64PE96N_1,  AR12,    34,  1,      6,   X030,3,19960627,0550, 46.5002, -12.6667, 3995,   3047.2,   2.7454,  34.9393,2,-999.0000,9,    245.6,2,   -999.0,9,  -999.00,9,  -999.00,9,  -999.00,9,  -999.00,9,  -999.0,9,  2.4952,   2.745,2
     64PE96N_1,  AR12,    34,  1,      5,   X057,2,19960627,0550, 46.5002, -12.6667, 3995,   3302.2,   2.6320,  34.9286,2,  34.9270,2,    243.6,2,    243.2,2,    38.10,2,    21.64,2,     0.03,2,     1.44,2,  -999.0,9,  2.3576,   2.632,2
     64PE96N_1,  AR12,    34,  1,      4,   X031,2,19960627,0550, 46.5002, -12.6667, 3995,   3558.6,   2.5696,  34.9207,2,-999.0000,9,    243.5,2,   -999.0,9,    40.20,2,    22.02,2,     0.03,2,     1.47,2,  -999.0,9,  2.2689,   2.570,6
     64PE96N_1,  AR12,    34,  1,      3,   X021,2,19960627,0550, 46.5002, -12.6667, 3995,   3813.9,   2.5392,  34.9154,2,  34.9129,2,    241.3,2,    240.4,2,    41.94,2,    22.32,2,     0.03,2,     1.48,2,  -999.0,9,  2.2109,   2.539,2
     64PE96N_1,  AR12,    34,  1,      1,   X055,2,19960627,0550, 46.5002, -12.6667, 3995,   4076.5,   2.5159,  34.9103,2,  34.9112,6,    226.2,3,    238.8,6,    43.28,6,    22.48,6,     0.04,2,     1.49,6,  -999.0,9,  2.1583,-999.000,9
     64PE96N_1,  AR12,    34,  1,      2,   X056,2,19960627,0550, 46.5002, -12.6667, 3995,   4076.5,   2.5159,  34.9103,2,-999.0000,9,    226.2,3,   -999.0,9,    42.93,2,    22.36,2,     0.04,2,     1.49,2,  4076.9,6,  2.1583,   2.515,6