BOTTLE,20020320WHPSIOKJU
EXPOCODE,SECT_ID,STNNBR,CASTNO,SAMPNO,BTLNBR,BTLNBR_FLAG_W,DATE,TIME,LATITUDE,LONGITUDE,DEPTH,CTDPRS,CTDTMP,CTDSAL,CTDSAL_FLAG_W,SALNTY,SALNTY_FLAG_W,CTDOXY,CTDOXY_FLAG_W,OXYGEN,OXYGEN_FLAG_W,SILCAT,SILCAT_FLAG_W,NITRAT,NITRAT_FLAG_W,NITRIT,NITRIT_FLAG_W,PHSPHT,PHSPHT_FLAG_W,REVPRS,REVPRS_FLAG_W,THETA,REVTMP,REVTMP_FLAG_W
,,,,,,,,,,,,DBAR,ITS-90,PSS-78,,PSS-78,,UMOL/KG,,UMOL/KG,,UMOL/KG,,UMOL/KG,,UMOL/KG,,UMOL/KG,,DBAR,,DEG C,ITS-90,
     64PE96N_1,  AR12,    51,  1,     22,   X049,2,19960629,1327, 48.5000, -11.0003, -999,     10.8,  15.1905,  35.5531,2,  35.5531,6,    274.3,2,    274.4,6,     0.43,2,     0.09,2,     0.00,2,     0.06,2,  -999.0,9, 15.1889,-999.000,9
     64PE96N_1,  AR12,    51,  1,     21,   X048,2,19960629,1327, 48.5000, -11.0003, -999,    102.1,  12.0717,  35.5677,2,  35.5669,2,    248.6,2,    247.6,2,     2.20,2,     6.30,2,     0.09,2,     0.40,2,  -999.0,9, 12.0583,-999.000,9
     64PE96N_1,  AR12,    51,  1,     20,   X046,2,19960629,1327, 48.5000, -11.0003, -999,    202.3,  11.3434,  35.5581,2,-999.0000,9,    247.5,2,   -999.0,9,     3.33,2,     8.90,2,     0.00,2,     0.55,2,  -999.0,9, 11.3178,-999.000,9
     64PE96N_1,  AR12,    51,  1,     19,   X047,2,19960629,1327, 48.5000, -11.0003, -999,    303.0,  11.1410,  35.5370,2,  35.5364,2,    241.0,2,    242.6,2,     3.93,2,    10.36,2,     0.00,2,     0.63,2,  -999.0,9, 11.1029,-999.000,9
     64PE96N_1,  AR12,    51,  1,     18,   X014,2,19960629,1327, 48.5000, -11.0003, -999,    403.1,  10.9070,  35.5087,2,-999.0000,9,    236.8,2,   -999.0,9,     4.41,2,    11.08,2,     0.02,2,     0.69,2,  -999.0,9, 10.8569,-999.000,9
     64PE96N_1,  AR12,    51,  1,     17,   X032,2,19960629,1327, 48.5000, -11.0003, -999,    505.1,  10.6040,  35.4817,2,  35.4766,3,    227.1,2,    231.6,2,     5.34,2,    12.80,2,     0.00,2,     0.79,2,  -999.0,9, 10.5419,-999.000,9
     64PE96N_1,  AR12,    51,  1,     16,   X026,2,19960629,1327, 48.5000, -11.0003, -999,    607.2,  10.2030,  35.4486,2,-999.0000,9,    220.5,2,   -999.0,9,     6.42,2,    14.19,2,     0.01,2,     0.88,2,  -999.0,9, 10.1298,-999.000,9
     64PE96N_1,  AR12,    51,  1,     15,   X059,2,19960629,1327, 48.5000, -11.0003, -999,    709.8,   9.7693,  35.4490,2,  35.4487,2,    206.1,2,    207.1,2,     8.04,2,    16.00,2,     0.00,2,     0.99,2,  -999.0,9,  9.6855,-999.000,9
     64PE96N_1,  AR12,    51,  1,     14,   X025,2,19960629,1327, 48.5000, -11.0003, -999,    810.4,   9.3642,  35.4716,2,-999.0000,9,    196.2,2,   -999.0,9,     9.27,2,    17.42,2,     0.00,2,     1.08,2,  -999.0,9,  9.2704,-999.000,9
     64PE96N_1,  AR12,    51,  1,     13,   X058,2,19960629,1327, 48.5000, -11.0003, -999,    909.9,   9.1640,  35.5344,2,  35.5357,2,    191.4,2,    192.8,2,     9.87,2,    17.66,2,     0.02,2,     1.10,2,  -999.0,9,  9.0593,-999.000,9
     64PE96N_1,  AR12,    51,  1,     12,   X015,2,19960629,1327, 48.5000, -11.0003, -999,   1011.6,   8.9416,  35.5651,2,-999.0000,9,    192.1,2,   -999.0,9,    10.18,2,    17.83,2,     0.00,2,     1.11,2,  -999.0,9,  8.8261,-999.000,9
     64PE96N_1,  AR12,    51,  1,     11,   X034,2,19960629,1327, 48.5000, -11.0003, -999,   1111.7,   8.2066,  35.5044,2,  35.5008,2,    199.1,2,    201.0,2,    10.93,2,    18.15,2,     0.00,2,     1.13,2,  -999.0,9,  8.0851,-999.000,9
     64PE96N_1,  AR12,    51,  1,     10,   X023,2,19960629,1327, 48.5000, -11.0003, -999,   1213.8,   7.4502,  35.4135,2,-999.0000,9,    207.4,2,   -999.0,9,    11.61,2,    18.02,2,     0.00,2,     1.15,2,  -999.0,9,  7.3235,-999.000,9
     64PE96N_1,  AR12,    51,  1,      9,   X035,4,19960629,1327, 48.5000, -11.0003, -999,   1317.2,   6.7583,  35.3234,2,  35.3485,4,    215.4,2,    218.0,4,    11.48,4,    17.95,4,     0.00,4,     1.14,4,  -999.0,9,  6.6268,-999.000,9
     64PE96N_1,  AR12,    51,  1,      8,   X044,2,19960629,1327, 48.5000, -11.0003, -999,   1415.6,   5.8125,  35.1921,2,-999.0000,9,    228.5,2,   -999.0,9,    12.25,2,    18.42,2,     0.00,2,     1.18,2,  1412.8,6,  5.6803,   5.802,2
     64PE96N_1,  AR12,    51,  1,      7,   X011,2,19960629,1327, 48.5000, -11.0003, -999,   1517.6,   5.0595,  35.1003,2,  35.0951,3,    241.1,2,    243.7,2,    13.01,2,    18.31,2,     0.00,2,     1.19,2,  -999.0,9,  4.9253,-999.000,9
     64PE96N_1,  AR12,    51,  1,      6,   X030,2,19960629,1327, 48.5000, -11.0003, -999,   1620.6,   4.4254,  35.0173,2,-999.0000,9,    251.1,2,   -999.0,9,    12.86,2,    18.31,2,     0.00,2,     1.19,2,  -999.0,9,  4.2888,   4.428,6
     64PE96N_1,  AR12,    51,  1,      5,   X057,2,19960629,1327, 48.5000, -11.0003, -999,   1823.3,   3.8364,  34.9727,2,  34.9838,3,    259.2,2,    260.2,2,    15.19,2,    18.15,2,     0.00,2,     1.19,2,  -999.0,9,  3.6882,-999.000,9
     64PE96N_1,  AR12,    51,  1,      4,   X031,2,19960629,1327, 48.5000, -11.0003, -999,   2027.5,   3.6028,  34.9773,2,-999.0000,9,    256.5,2,   -999.0,9,    19.32,2,    18.79,2,     0.00,2,     1.24,2,  -999.0,9,  3.4385,   3.606,6
     64PE96N_1,  AR12,    51,  1,      3,   X021,2,19960629,1327, 48.5000, -11.0003, -999,   2232.3,   3.3187,  34.9695,2,  34.9684,2,    252.6,2,    251.8,2,    24.85,2,    19.68,2,     0.00,2,     1.30,2,  -999.0,9,  3.1392,-999.000,9
     64PE96N_1,  AR12,    51,  1,      2,   X056,2,19960629,1327, 48.5000, -11.0003, -999,   2436.5,   3.1307,  34.9607,2,-999.0000,9,    250.9,2,   -999.0,9,    28.97,2,    20.29,2,     0.00,2,     1.36,2,  2433.4,6,  2.9345,   3.128,2
     64PE96N_1,  AR12,    51,  1,      1,   X055,2,19960629,1327, 48.5000, -11.0003, -999,   2646.0,   2.9270,  34.9481,2,  34.9475,6,    250.6,2,    245.2,6,    33.14,6,    20.98,6,     0.02,2,     1.40,6,  -999.0,9,  2.7139,-999.000,9
     64PE96N_1,  AR12,    52,  1,     22,   X049,2,19960629,1610, 48.3333, -11.0663, -999,      9.3,  15.7820,  35.5794,2,  35.5771,6,    264.7,2,    264.8,6,     0.82,2,     0.07,2,     0.00,2,     0.05,2,  -999.0,9, 15.7805,-999.000,9
     64PE96N_1,  AR12,    52,  1,     21,   X048,2,19960629,1610, 48.3333, -11.0663, -999,    102.3,  11.5947,  35.5719,2,  35.5715,2,    251.3,2,    248.0,2,     2.70,2,     7.87,2,     0.03,2,     0.47,2,  -999.0,9, 11.5816,-999.000,9
     64PE96N_1,  AR12,    52,  1,     20,   X046,2,19960629,1610, 48.3333, -11.0663, -999,    202.1,  11.3360,  35.5587,2,-999.0000,9,    250.4,2,   -999.0,9,     3.02,2,     8.59,2,     0.00,2,     0.52,2,  -999.0,9, 11.3104,-999.000,9
     64PE96N_1,  AR12,    52,  1,     19,   X047,2,19960629,1610, 48.3333, -11.0663, -999,    304.3,  11.1389,  35.5373,2,  35.5372,2,    242.5,2,    243.6,2,     3.70,2,    10.19,2,     0.02,2,     0.62,2,  -999.0,9, 11.1006,-999.000,9
     64PE96N_1,  AR12,    52,  1,     18,   X014,2,19960629,1610, 48.3333, -11.0663, -999,    401.8,  10.9554,  35.5198,2,-999.0000,9,    236.1,2,   -999.0,9,     4.32,2,    11.46,2,     0.01,2,     0.69,2,  -999.0,9, 10.9053,-999.000,9
     64PE96N_1,  AR12,    52,  1,     17,   X032,2,19960629,1610, 48.3333, -11.0663, -999,    505.5,  10.5970,  35.4901,2,  35.4896,2,    228.9,2,    229.0,2,     5.22,2,    12.91,2,     0.03,2,     0.79,2,  -999.0,9, 10.5349,-999.000,9
     64PE96N_1,  AR12,    52,  1,     16,   X026,2,19960629,1610, 48.3333, -11.0663, -999,    603.9,  10.3036,  35.4847,2,-999.0000,9,    219.6,2,   -999.0,9,     6.26,2,    14.31,2,     0.01,2,     0.88,2,  -999.0,9, 10.2304,-999.000,9
     64PE96N_1,  AR12,    52,  1,     15,   X059,2,19960629,1610, 48.3333, -11.0663, -999,    708.0,   9.8115,  35.4680,2,  35.4689,2,    206.3,2,    205.5,2,     7.86,2,    15.95,2,     0.00,2,     0.99,2,  -999.0,9,  9.7277,-999.000,9
     64PE96N_1,  AR12,    52,  1,     14,   X025,2,19960629,1610, 48.3333, -11.0663, -999,    808.9,   9.6206,  35.5542,2,-999.0000,9,    195.3,2,   -999.0,9,     8.90,2,    16.93,2,     0.02,2,     1.05,2,  -999.0,9,  9.5254,-999.000,9
     64PE96N_1,  AR12,    52,  1,     13,   X058,2,19960629,1610, 48.3333, -11.0663, -999,    910.6,   9.4091,  35.5988,2,  35.5997,2,    192.8,2,    192.1,2,     9.58,2,    17.45,2,     0.01,2,     1.08,2,  -999.0,9,  9.3026,-999.000,9
     64PE96N_1,  AR12,    52,  1,     12,   X015,2,19960629,1610, 48.3333, -11.0663, -999,   1011.2,   8.9020,  35.5975,2,-999.0000,9,    196.1,2,   -999.0,9,    10.29,2,    17.63,2,     0.01,2,     1.10,2,  -999.0,9,  8.7868,-999.000,9
     64PE96N_1,  AR12,    52,  1,     11,   X034,2,19960629,1610, 48.3333, -11.0663, -999,   1120.0,   8.2624,  35.5450,2,  35.5458,2,    201.3,2,    200.6,2,    10.77,2,    17.91,2,     0.01,2,     1.12,2,  -999.0,9,  8.1394,-999.000,9
     64PE96N_1,  AR12,    52,  1,     10,   X023,2,19960629,1610, 48.3333, -11.0663, -999,   1214.5,   7.6839,  35.4792,2,-999.0000,9,    206.5,2,   -999.0,9,    11.33,2,    18.02,2,     0.01,2,     1.13,2,  -999.0,9,  7.5550,-999.000,9
     64PE96N_1,  AR12,    52,  1,      9,   X035,4,19960629,1610, 48.3333, -11.0663, -999,   1314.4,   6.7372,  35.3478,2,  35.3626,4,    219.2,2,    218.8,4,    11.63,4,    17.88,4,     0.02,4,     1.14,4,  -999.0,9,  6.6061,-999.000,9
     64PE96N_1,  AR12,    52,  1,      8,   X044,2,19960629,1610, 48.3333, -11.0663, -999,   1415.2,   5.5161,  35.1697,2,-999.0000,9,    235.7,2,   -999.0,9,    12.48,2,    18.42,2,     0.01,2,     1.18,2,  1414.3,6,  5.3871,   5.504,3
     64PE96N_1,  AR12,    52,  1,      7,   X011,2,19960629,1610, 48.3333, -11.0663, -999,   1518.9,   4.8459,  35.0744,2,  35.0739,2,    246.5,2,    247.1,2,    12.39,2,    18.21,2,     0.01,2,     1.18,2,  -999.0,9,  4.7141,-999.000,9
     64PE96N_1,  AR12,    52,  1,      6,   X030,2,19960629,1610, 48.3333, -11.0663, -999,   1618.5,   4.3259,  35.0025,2,-999.0000,9,    256.7,2,   -999.0,9,    12.20,2,    18.10,2,     0.02,2,     1.18,2,  -999.0,9,  4.1907,   4.329,6
     64PE96N_1,  AR12,    52,  1,      5,   X057,2,19960629,1610, 48.3333, -11.0663, -999,   1721.0,   3.9891,  34.9740,2,  34.9807,3,    262.3,2,    261.0,2,    13.36,2,    18.15,2,     0.01,2,     1.18,2,  -999.0,9,  3.8485,-999.000,9
     64PE96N_1,  AR12,    52,  1,      4,   X031,2,19960629,1610, 48.3333, -11.0663, -999,   1822.8,   3.8391,  34.9662,2,-999.0000,9,    264.2,2,   -999.0,9,    14.27,2,    18.02,2,     0.01,2,     1.18,2,  -999.0,9,  3.6910,   3.840,6
     64PE96N_1,  AR12,    52,  1,      3,   X021,2,19960629,1610, 48.3333, -11.0663, -999,   1923.6,   3.7679,  34.9785,2,  34.9787,2,    261.6,2,    259.4,2,    16.68,2,    18.36,2,     0.03,2,     1.22,2,  -999.0,9,  3.6111,-999.000,9
     64PE96N_1,  AR12,    52,  1,      2,   X056,2,19960629,1610, 48.3333, -11.0663, -999,   2025.0,   3.6596,  34.9746,2,-999.0000,9,    262.7,2,   -999.0,9,    17.88,2,    18.57,2,     0.03,2,     1.22,2,  2022.9,6,  3.4947,   3.656,2
     64PE96N_1,  AR12,    52,  1,      1,   X055,2,19960629,1610, 48.3333, -11.0663, -999,   2209.7,   3.4113,  34.9704,2,  34.9805,4,    261.8,2,    256.0,2,    22.62,6,    19.22,6,     0.01,2,     1.28,6,  -999.0,9,  3.2324,-999.000,9
     64PE96N_1,  AR12,    53,  1,     22,   X049,3,19960629,1921, 48.1662, -11.1325, 3761,      9.0,  16.0111,  35.5693,2,-999.0000,9,    249.8,2,   -999.0,9,  -999.00,9,  -999.00,9,  -999.00,9,  -999.00,9,  -999.0,9, 16.0097,-999.000,9
     64PE96N_1,  AR12,    53,  1,     21,   X048,2,19960629,1921, 48.1662, -11.1325, 3761,    100.2,  11.9410,  35.5499,2,  35.5521,6,    250.8,2,    251.6,6,     1.89,2,     6.26,2,     0.31,2,     0.41,2,  -999.0,9, 11.9279,-999.000,9
     64PE96N_1,  AR12,    53,  1,     20,   X046,2,19960629,1921, 48.1662, -11.1325, 3761,    202.3,  11.3321,  35.5561,2,-999.0000,9,    250.2,2,   -999.0,9,     2.96,2,     8.68,2,     0.03,2,     0.53,2,  -999.0,9, 11.3065,-999.000,9
     64PE96N_1,  AR12,    53,  1,     19,   X047,2,19960629,1921, 48.1662, -11.1325, 3761,    301.2,  11.2016,  35.5450,2,  35.5450,2,    248.9,2,    247.5,2,     3.49,2,     9.53,2,     0.03,2,     0.59,2,  -999.0,9, 11.1636,-999.000,9
     64PE96N_1,  AR12,    53,  1,     18,   X014,2,19960629,1921, 48.1662, -11.1325, 3761,    402.0,  10.9726,  35.5216,2,-999.0000,9,    239.1,2,   -999.0,9,     4.27,2,    11.08,2,     0.02,2,     0.68,2,  -999.0,9, 10.9224,-999.000,9
     64PE96N_1,  AR12,    53,  1,     17,   X032,2,19960629,1921, 48.1662, -11.1325, 3761,    504.7,  10.6588,  35.4944,2,  35.4944,2,    231.2,2,    229.9,2,     5.18,2,    12.72,2,     0.03,2,     0.79,2,  -999.0,9, 10.5966,-999.000,9
     64PE96N_1,  AR12,    53,  1,     16,   X026,2,19960629,1921, 48.1662, -11.1325, 3761,    604.7,  10.3804,  35.4881,2,-999.0000,9,    222.0,2,   -999.0,9,     6.25,2,    14.07,2,     0.01,2,     0.86,2,  -999.0,9, 10.3067,-999.000,9
     64PE96N_1,  AR12,    53,  1,     15,   X059,2,19960629,1921, 48.1662, -11.1325, 3761,    806.6,   9.7852,  35.6069,2,  35.6080,2,    199.4,2,    198.2,2,     8.85,2,    16.36,2,     0.01,2,     1.01,2,  -999.0,9,  9.6892,-999.000,9
     64PE96N_1,  AR12,    53,  1,     14,   X025,2,19960629,1921, 48.1662, -11.1325, 3761,   1009.6,   8.9891,  35.6189,2,-999.0000,9,    196.9,2,   -999.0,9,    10.46,2,    17.51,2,     0.02,2,     1.09,2,  -999.0,9,  8.8735,-999.000,9
     64PE96N_1,  AR12,    53,  1,     13,   X058,2,19960629,1921, 48.1662, -11.1325, 3761,   1213.0,   7.2117,  35.4012,2,  35.3964,3,    212.0,2,    213.3,2,    11.59,2,    18.31,2,     0.00,2,     1.16,2,  -999.0,9,  7.0873,-999.000,9
     64PE96N_1,  AR12,    53,  1,     12,   X015,2,19960629,1921, 48.1662, -11.1325, 3761,   1415.4,   5.3812,  35.1373,2,-999.0000,9,    237.4,2,   -999.0,9,    12.22,2,    18.43,2,     0.00,2,     1.19,2,  -999.0,9,  5.2536,-999.000,9
     64PE96N_1,  AR12,    53,  1,     11,   X034,4,19960629,1921, 48.1662, -11.1325, 3761,   1620.0,   4.1533,  34.9662,2,  35.1040,4,    260.9,2,    253.4,4,    10.27,4,    16.28,4,     0.03,4,     1.03,4,  -999.0,9,  4.0202,-999.000,9
     64PE96N_1,  AR12,    53,  1,     10,   X023,2,19960629,1921, 48.1662, -11.1325, 3761,   1823.5,   3.6553,  34.9163,2,-999.0000,9,    272.6,2,   -999.0,9,    11.72,2,    17.68,2,     0.01,2,     1.15,2,  -999.0,9,  3.5097,-999.000,9
     64PE96N_1,  AR12,    53,  1,      9,   X035,2,19960629,1921, 48.1662, -11.1325, 3761,   2026.8,   3.6814,  34.9581,2,  34.9594,2,    264.2,2,    263.6,2,    15.29,2,    18.11,2,     0.01,2,     1.20,2,  -999.0,9,  3.5161,-999.000,9
     64PE96N_1,  AR12,    53,  1,      8,   X044,2,19960629,1921, 48.1662, -11.1325, 3761,   2229.9,   3.4788,  34.9624,2,-999.0000,9,    261.1,2,   -999.0,9,    18.12,2,    18.52,2,     0.01,2,     1.22,2,  2232.8,6,  3.2969,   3.478,2
     64PE96N_1,  AR12,    53,  1,      7,   X011,2,19960629,1921, 48.1662, -11.1325, 3761,   2432.3,   3.2853,  34.9667,2,  34.9677,2,    253.0,2,    252.1,2,    25.05,2,    19.60,2,     0.00,2,     1.31,2,  -999.0,9,  3.0867,-999.000,9
     64PE96N_1,  AR12,    53,  1,      6,   X030,2,19960629,1921, 48.1662, -11.1325, 3761,   2637.6,   3.0007,  34.9533,2,-999.0000,9,    248.2,2,   -999.0,9,    32.03,2,    20.83,2,     0.00,2,     1.39,2,  -999.0,9,  2.7870,   3.003,6
     64PE96N_1,  AR12,    53,  1,      5,   X057,2,19960629,1921, 48.1662, -11.1325, 3761,   2843.2,   2.8796,  34.9471,2,  34.9490,2,    247.7,2,    245.0,2,    33.37,2,    21.11,2,     0.00,2,     1.41,2,  -999.0,9,  2.6475,-999.000,9
     64PE96N_1,  AR12,    53,  1,      4,   X031,2,19960629,1921, 48.1662, -11.1325, 3761,   3048.3,   2.7594,  34.9374,2,-999.0000,9,    246.2,2,   -999.0,9,    36.05,2,    21.38,2,     0.00,2,     1.44,2,  -999.0,9,  2.5088,   2.758,6
     64PE96N_1,  AR12,    53,  1,      3,   X021,2,19960629,1921, 48.1662, -11.1325, 3761,   3302.9,   2.6825,  34.9295,2,  34.9299,2,    245.6,2,    243.3,2,    37.77,2,    21.72,2,     0.00,2,     1.46,2,  -999.0,9,  2.4068,-999.000,9
     64PE96N_1,  AR12,    53,  1,      2,   X056,2,19960629,1921, 48.1662, -11.1325, 3761,   3558.2,   2.5842,  34.9201,2,-999.0000,9,    244.7,2,   -999.0,9,    40.12,6,    22.03,6,     0.00,2,     1.48,6,  3557.9,6,  2.2832,   2.587,2
     64PE96N_1,  AR12,    53,  1,      1,   X055,4,19960629,1921, 48.1662, -11.1325, 3761,   3842.8,   2.5067,  34.9105,2,  35.5474,4,    244.8,2,    247.6,4,     3.55,4,     9.18,4,     0.05,4,     0.57,4,  -999.0,9,  2.1760,-999.000,9