BOTTLE,20020320WHPSIOKJU
EXPOCODE,SECT_ID,STNNBR,CASTNO,SAMPNO,BTLNBR,BTLNBR_FLAG_W,DATE,TIME,LATITUDE,LONGITUDE,DEPTH,CTDPRS,CTDTMP,CTDSAL,CTDSAL_FLAG_W,SALNTY,SALNTY_FLAG_W,CTDOXY,CTDOXY_FLAG_W,OXYGEN,OXYGEN_FLAG_W,SILCAT,SILCAT_FLAG_W,NITRAT,NITRAT_FLAG_W,NITRIT,NITRIT_FLAG_W,PHSPHT,PHSPHT_FLAG_W,REVPRS,REVPRS_FLAG_W,THETA,REVTMP,REVTMP_FLAG_W
,,,,,,,,,,,,DBAR,ITS-90,PSS-78,,PSS-78,,UMOL/KG,,UMOL/KG,,UMOL/KG,,UMOL/KG,,UMOL/KG,,UMOL/KG,,DBAR,,DEG C,ITS-90,
     64PE96N_1,  AR12,    28,  1,     24,   X051,2,19960625,1535, 45.9998,  -9.3337, 4793,      9.0,  16.6202,  35.6660,2,  35.6630,6,    251.9,2,    252.0,6,     0.83,2,     0.06,2,     0.03,2,     0.07,2,  -999.0,9, 16.6187,-999.000,9
     64PE96N_1,  AR12,    28,  1,     23,   X050,2,19960625,1535, 45.9998,  -9.3337, 4793,    101.2,  12.1370,  35.6464,2,  35.6506,2,    245.6,2,    241.4,2,     2.41,2,     6.94,2,     0.04,2,     0.40,2,  -999.0,9, 12.1236,-999.000,9
     64PE96N_1,  AR12,    28,  1,     22,   X049,2,19960625,1535, 45.9998,  -9.3337, 4793,    204.0,  11.6409,  35.5929,2,  35.5959,2,    241.0,2,   -999.0,9,     3.24,2,     9.15,2,     0.04,2,     0.54,2,  -999.0,9, 11.6146,-999.000,9
     64PE96N_1,  AR12,    28,  1,     21,   X048,2,19960625,1535, 45.9998,  -9.3337, 4793,    302.4,  11.3520,  35.5677,2,-999.0000,9,    236.7,2,    237.0,2,     3.40,2,     9.59,2,     0.02,2,     0.58,2,  -999.0,9, 11.3135,-999.000,9
     64PE96N_1,  AR12,    28,  1,     20,   X047,2,19960625,1535, 45.9998,  -9.3337, 4793,    404.0,  11.0698,  35.5485,2,-999.0000,9,    229.8,2,   -999.0,9,     4.72,2,    12.46,2,     0.02,2,     0.74,2,  -999.0,9, 11.0190,-999.000,9
     64PE96N_1,  AR12,    28,  1,     19,   X046,2,19960625,1535, 45.9998,  -9.3337, 4793,    504.6,  10.8184,  35.5343,2,  35.5356,2,    225.2,2,    223.2,2,     5.32,2,    13.26,2,     0.04,2,     0.79,2,  -999.0,9, 10.7556,-999.000,9
     64PE96N_1,  AR12,    28,  1,     18,   X014,2,19960625,1535, 45.9998,  -9.3337, 4793,    605.5,  10.5512,  35.5539,2,-999.0000,9,    213.5,2,   -999.0,9,     4.46,2,    11.10,2,     0.02,2,     0.67,2,  -999.0,9, 10.4766,-999.000,9
     64PE96N_1,  AR12,    28,  1,     17,   X026,4,19960625,1535, 45.9998,  -9.3337, 4793,    808.4,  10.4349,  35.7507,2,  35.7566,4,    191.9,2,    189.9,4,     8.44,4,    16.27,4,     0.03,4,     0.97,4,  -999.0,9, 10.3348,-999.000,9
     64PE96N_1,  AR12,    28,  1,     16,   X032,2,19960625,1535, 45.9998,  -9.3337, 4793,   1010.3,   9.8057,  35.7849,2,-999.0000,9,    190.0,2,    188.5,2,     9.62,2,    16.96,2,     0.01,2,     1.03,2,  -999.0,9,  9.6839,-999.000,9
     64PE96N_1,  AR12,    28,  1,     15,   X007,2,19960625,1535, 45.9998,  -9.3337, 4793,   1264.1,   7.7245,  35.5065,2,  35.5050,2,    208.9,2,    209.6,2,    11.18,2,    18.03,2,     0.01,2,     1.11,2,  -999.0,9,  7.5895,-999.000,9
     64PE96N_1,  AR12,    28,  1,     14,   X025,2,19960625,1535, 45.9998,  -9.3337, 4793,   1517.8,   5.4267,  35.1697,2,-999.0000,9,    237.8,2,   -999.0,9,    12.35,2,    18.34,2,     0.01,2,     1.16,2,  -999.0,9,  5.2882,-999.000,9
     64PE96N_1,  AR12,    28,  1,     13,   X009,2,19960625,1535, 45.9998,  -9.3337, 4793,   1772.7,   4.1895,  35.0035,2,  35.0023,2,    259.8,2,    260.4,2,    13.06,2,    18.17,2,     0.01,2,     1.16,2,  -999.0,9,  4.0413,-999.000,9
     64PE96N_1,  AR12,    28,  1,     12,   X045,2,19960625,1535, 45.9998,  -9.3337, 4793,   2027.1,   3.7935,  34.9856,2,-999.0000,9,    260.0,2,   -999.0,9,    16.27,2,    18.34,2,     0.02,2,     1.18,2,  -999.0,9,  3.6263,-999.000,9
     64PE96N_1,  AR12,    28,  1,     11,   X024,2,19960625,1535, 45.9998,  -9.3337, 4793,   2281.5,   3.4739,  34.9829,2,  34.9829,2,    254.5,2,    255.2,2,    21.65,2,    19.15,2,     0.00,2,     1.25,2,  -999.0,9,  3.2869,-999.000,9
     64PE96N_1,  AR12,    28,  1,     10,   X023,2,19960625,1535, 45.9998,  -9.3337, 4793,   2535.6,   3.1850,  34.9692,2,-999.0000,9,    251.7,2,   -999.0,9,    26.24,2,    19.82,2,     0.01,2,     1.29,2,  -999.0,9,  2.9780,-999.000,9
     64PE96N_1,  AR12,    28,  1,      9,   X008,2,19960625,1535, 45.9998,  -9.3337, 4793,   2791.3,   2.9285,  34.9531,2,  34.9543,2,    247.3,2,    247.5,2,    31.82,2,    20.76,2,     0.00,2,     1.36,2,  -999.0,9,  2.7007,-999.000,9
     64PE96N_1,  AR12,    28,  1,      8,   X044,2,19960625,1535, 45.9998,  -9.3337, 4793,   3047.9,   2.7614,  34.9397,2,-999.0000,9,    246.9,2,   -999.0,9,    34.29,2,    21.19,2,     0.00,2,     1.39,2,  3046.8,6,  2.5107,   2.765,2
     64PE96N_1,  AR12,    28,  1,      7,   X043,4,19960625,1535, 45.9998,  -9.3337, 4793,   3303.8,   2.6495,  34.9293,2,  35.5428,4,    245.4,2,    227.3,4,     6.82,4,    12.51,4,     0.01,4,     0.75,4,  -999.0,9,  2.3745,-999.000,9
     64PE96N_1,  AR12,    28,  1,      6,   X030,2,19960625,1535, 45.9998,  -9.3337, 4793,   3559.0,   2.5868,  34.9215,2,-999.0000,9,    244.0,2,   -999.0,9,    39.32,2,    21.91,2,     0.01,2,     1.45,2,  -999.0,9,  2.2857,   2.586,6
     64PE96N_1,  AR12,    28,  1,      5,   X001,2,19960625,1535, 45.9998,  -9.3337, 4793,   3816.7,   2.5435,  34.9147,2,  34.9156,2,    243.0,2,    242.9,2,    41.22,2,    22.07,2,     0.02,2,     1.45,2,  -999.0,9,  2.2148,-999.000,9
     64PE96N_1,  AR12,    28,  1,      4,   X031,2,19960625,1535, 45.9998,  -9.3337, 4793,   4072.3,   2.5123,  34.9088,2,-999.0000,9,    242.5,2,   -999.0,9,    42.27,2,    22.30,2,     0.01,2,     1.48,2,  -999.0,9,  2.1553,   2.513,6
     64PE96N_1,  AR12,    28,  1,      3,   X042,2,19960625,1535, 45.9998,  -9.3337, 4793,   4328.7,   2.5023,  34.9047,2,  34.9041,2,    242.6,2,    244.2,2,    43.39,6,    22.47,6,     0.03,2,     1.48,6,  -999.0,9,  2.1154,-999.000,9
     64PE96N_1,  AR12,    28,  1,      2,   X019,4,19960625,1535, 45.9998,  -9.3337, 4793,   4588.1,   2.5037,  34.9014,2,-999.0000,9,    242.2,2,   -999.0,9,     5.59,4,    11.11,4,     0.02,4,     0.68,4,  4589.4,6,  2.0854,   2.502,2
     64PE96N_1,  AR12,    28,  1,      1,   X041,4,19960625,1535, 45.9998,  -9.3337, 4793,   4767.5,   2.5151,  34.9001,2,  35.5568,4,    242.1,2,    229.5,4,     6.14,4,    11.12,4,     0.03,4,     0.68,4,  -999.0,9,  2.0744,-999.000,9
     64PE96N_1,  AR12,    30,  1,     24,   X051,2,19960626,0522, 46.0003, -10.6662, 4780,    101.4,  12.2244,  35.6527,2,  35.6517,6,    239.2,2,    239.8,6,     2.31,2,     7.16,2,     0.03,2,     0.41,2,  -999.0,9, 12.2110,  12.224,2
     64PE96N_1,  AR12,    30,  1,     23,   X050,2,19960626,0522, 46.0003, -10.6662, 4780,    202.8,  11.8139,  35.6097,2,  35.6087,4,    243.5,2,    242.8,2,     2.67,2,     8.14,2,     0.02,2,     0.47,2,  -999.0,9, 11.7875,  11.795,3
     64PE96N_1,  AR12,    30,  1,     22,   X049,2,19960626,0522, 46.0003, -10.6662, 4780,    301.4,  11.3807,  35.5694,2,-999.0000,9,    234.7,2,   -999.0,9,     3.79,2,    10.84,2,     0.02,2,     0.62,2,  -999.0,9, 11.3422,  11.378,2
     64PE96N_1,  AR12,    30,  1,     21,   X048,2,19960626,0522, 46.0003, -10.6662, 4780,    400.1,  11.0882,  35.5499,2,  35.5484,4,    228.9,2,    225.4,2,     4.64,2,    12.36,2,     0.00,2,     0.71,2,  -999.0,9, 11.0379,  11.096,2
     64PE96N_1,  AR12,    30,  1,     20,   X047,2,19960626,0522, 46.0003, -10.6662, 4780,    505.4,  10.7737,  35.5469,2,-999.0000,9,    221.2,2,   -999.0,9,     5.57,2,    13.56,2,     0.02,2,     0.79,2,  -999.0,9, 10.7110,  10.771,2
     64PE96N_1,  AR12,    30,  1,     19,   X046,2,19960626,0522, 46.0003, -10.6662, 4780,    605.2,  10.2431,  35.5098,2,  35.5018,4,    212.3,2,    210.3,2,     6.97,2,    15.23,2,     0.01,2,     0.90,2,  -999.0,9, 10.1699,  10.248,2
     64PE96N_1,  AR12,    30,  1,     18,   X014,2,19960626,0522, 46.0003, -10.6662, 4780,    808.5,  10.0183,  35.6673,2,-999.0000,9,    192.3,2,   -999.0,9,     8.77,2,    16.73,2,     0.01,2,     0.99,2,  -999.0,9,  9.9207,  10.017,2
     64PE96N_1,  AR12,    30,  1,     17,   X026,2,19960626,0522, 46.0003, -10.6662, 4780,   1009.5,   9.1081,  35.6431,2,  35.6444,4,    194.4,2,    193.2,2,     9.90,2,    17.61,2,     0.02,2,     1.06,2,  -999.0,9,  8.9916,   9.116,2
     64PE96N_1,  AR12,    30,  1,     16,   X032,2,19960626,0522, 46.0003, -10.6662, 4780,   1264.1,   7.8492,  35.5681,2,-999.0000,9,    207.6,2,    207.9,2,    11.19,2,    17.78,2,     0.01,2,     1.07,2,  -999.0,9,  7.7129,   7.864,3
     64PE96N_1,  AR12,    30,  1,     15,   X007,2,19960626,0522, 46.0003, -10.6662, 4780,   1517.8,   5.4046,  35.1739,2,  35.1703,4,    237.9,2,    239.7,2,    12.56,2,    18.29,2,     0.02,2,     1.13,2,  -999.0,9,  5.2664,   5.407,2
     64PE96N_1,  AR12,    30,  1,     14,   X025,2,19960626,0522, 46.0003, -10.6662, 4780,   1769.8,   4.0567,  34.9917,2,-999.0000,9,    260.2,2,   -999.0,9,    13.66,2,    18.20,2,     0.02,2,     1.15,2,  -999.0,9,  3.9105,   4.057,2
     64PE96N_1,  AR12,    30,  1,     13,   X009,2,19960626,0522, 46.0003, -10.6662, 4780,   2026.9,   3.7525,  34.9980,2,  34.9983,4,    255.3,2,    256.0,2,    18.09,2,    18.62,2,     0.03,2,     1.19,2,  -999.0,9,  3.5859,   3.752,2
     64PE96N_1,  AR12,    30,  1,     12,   X045,2,19960626,0522, 46.0003, -10.6662, 4780,   2281.3,   3.4060,  34.9754,2,-999.0000,9,    254.2,2,   -999.0,9,    21.83,2,    19.23,2,     0.04,2,     1.23,2,  -999.0,9,  3.2202,   3.405,2
     64PE96N_1,  AR12,    30,  1,     11,   X024,2,19960626,0522, 46.0003, -10.6662, 4780,   2537.4,   3.1659,  34.9663,2,  34.9666,3,    250.1,2,    250.7,2,    26.75,2,    19.89,2,     0.02,2,     1.30,2,  -999.0,9,  2.9591,   3.164,2
     64PE96N_1,  AR12,    30,  1,     10,   X023,2,19960626,0522, 46.0003, -10.6662, 4780,   2791.3,   2.9432,  34.9534,2,-999.0000,9,    247.6,2,   -999.0,9,    30.63,2,    20.42,2,     0.03,2,     1.33,2,  -999.0,9,  2.7151,   2.942,2
     64PE96N_1,  AR12,    30,  1,      9,   X008,2,19960626,0522, 46.0003, -10.6662, 4780,   3047.0,   2.7919,  34.9422,2,  34.9420,3,    246.1,2,    246.7,2,    33.55,2,    21.08,2,     0.02,2,     1.37,2,  -999.0,9,  2.5406,   2.791,2
     64PE96N_1,  AR12,    30,  1,      8,   X044,2,19960626,0522, 46.0003, -10.6662, 4780,   3302.2,   2.6792,  34.9317,2,-999.0000,9,    244.1,2,   -999.0,9,    36.44,2,    21.35,2,     0.04,2,     1.40,2,  3301.8,6,  2.4036,   2.680,6
     64PE96N_1,  AR12,    30,  1,      7,   X043,2,19960626,0522, 46.0003, -10.6662, 4780,   3558.4,   2.6035,  34.9230,2,  34.9250,3,    242.4,2,    243.6,2,    38.05,2,    21.69,2,     0.04,2,     1.42,2,  -999.0,9,  2.3020,   2.604,2
     64PE96N_1,  AR12,    30,  1,      6,   X030,2,19960626,0522, 46.0003, -10.6662, 4780,   3813.7,   2.5534,  34.9158,2,-999.0000,9,    241.7,2,   -999.0,9,    41.17,2,    22.13,2,     0.04,2,     1.45,2,  -999.0,9,  2.2247,   2.553,6
     64PE96N_1,  AR12,    30,  1,      5,   X001,2,19960626,0522, 46.0003, -10.6662, 4780,   4071.2,   2.5230,  34.9101,2,  34.9096,3,    241.5,2,    241.3,2,    42.33,2,    22.23,2,     0.05,2,     1.46,2,  -999.0,9,  2.1658,   2.523,2
     64PE96N_1,  AR12,    30,  1,      4,   X031,2,19960626,0522, 46.0003, -10.6662, 4780,   4331.0,   2.5038,  34.9050,2,-999.0000,9,    241.4,2,   -999.0,9,    42.87,2,    22.48,2,     0.04,2,     1.47,2,  -999.0,9,  2.1166,   2.503,6
     64PE96N_1,  AR12,    30,  1,      3,   X042,2,19960626,0522, 46.0003, -10.6662, 4780,   4587.6,   2.5113,  34.9022,2,  34.9022,2,    241.8,2,    244.4,2,    43.90,2,    22.44,2,     0.04,2,     1.48,2,  -999.0,9,  2.0928,   2.510,2
     64PE96N_1,  AR12,    30,  1,      1,   X041,2,19960626,0522, 46.0003, -10.6662, 4780,   4754.9,   2.5223,  34.9013,2,  34.9016,6,    242.5,2,    237.3,6,    44.50,6,    22.57,6,     0.03,2,     1.50,6,  -999.0,9,  2.0829,-999.000,9
     64PE96N_1,  AR12,    30,  1,      2,   X019,2,19960626,0522, 46.0003, -10.6662, 4780,   4754.9,   2.5223,  34.9013,2,-999.0000,9,    242.5,2,   -999.0,9,    44.49,2,    22.63,2,     0.05,2,     1.48,2,  4756.9,6,  2.0829,   2.521,6
     64PE96N_1,  AR12,    31,  1,     24,   X051,2,19960626,1141, 45.9993, -11.3337, 4773,    101.5,  12.3031,  35.6634,2,  35.6556,6,    241.4,2,    242.3,6,     2.18,2,     6.79,2,     0.04,2,     0.40,2,  -999.0,9, 12.2896,  12.305,2
     64PE96N_1,  AR12,    31,  1,     23,   X050,2,19960626,1141, 45.9993, -11.3337, 4773,    202.0,  11.7038,  35.5968,2,  35.5964,2,    244.6,2,    243.3,2,     2.79,2,     8.14,2,     0.04,2,     0.48,2,  -999.0,9, 11.6777,  11.705,2
     64PE96N_1,  AR12,    31,  1,     22,   X049,2,19960626,1141, 45.9993, -11.3337, 4773,    303.2,  11.3934,  35.5761,2,-999.0000,9,    229.4,2,   -999.0,9,     4.08,2,    11.50,2,     0.04,2,     0.67,2,  -999.0,9, 11.3547,  11.391,2
     64PE96N_1,  AR12,    31,  1,     21,   X048,2,19960626,1141, 45.9993, -11.3337, 4773,    404.8,  10.9165,  35.5050,2,  35.5037,2,    242.3,2,    239.4,2,     4.37,2,    11.25,2,     0.08,2,     0.68,2,  -999.0,9, 10.8661,  10.915,2
     64PE96N_1,  AR12,    31,  1,     20,   X047,2,19960626,1141, 45.9993, -11.3337, 4773,    506.4,  10.8716,  35.5471,2,-999.0000,9,    223.2,2,   -999.0,9,     5.25,2,    13.13,2,     0.05,2,     0.78,2,  -999.0,9, 10.8084,  10.873,2
     64PE96N_1,  AR12,    31,  1,     19,   X046,2,19960626,1141, 45.9993, -11.3337, 4773,    606.9,  10.5742,  35.5454,2,  35.5495,2,    214.3,2,    211.9,2,     6.28,2,    14.36,2,     0.04,2,     0.87,2,  -999.0,9, 10.4994,  10.579,2
     64PE96N_1,  AR12,    31,  1,     18,   X014,2,19960626,1141, 45.9993, -11.3337, 4773,    808.0,  10.1739,  35.6925,2,-999.0000,9,    189.8,2,   -999.0,9,     8.67,2,    16.43,2,     0.07,2,     1.00,2,  -999.0,9, 10.0754,  10.167,2
     64PE96N_1,  AR12,    31,  1,     17,   X026,2,19960626,1141, 45.9993, -11.3337, 4773,   1012.4,   9.9741,  35.8572,2,  35.8573,2,    186.5,2,    186.9,2,     9.53,2,    16.72,2,     0.03,2,     1.02,2,  -999.0,9,  9.8507,   9.970,2
     64PE96N_1,  AR12,    31,  1,     16,   X032,2,19960626,1141, 45.9993, -11.3337, 4773,   1262.1,   7.9177,  35.5714,2,-999.0000,9,    205.3,2,    202.8,2,    10.96,2,    17.61,2,     0.04,2,     1.09,2,  -999.0,9,  7.7811,   7.939,4
     64PE96N_1,  AR12,    31,  1,     15,   X007,2,19960626,1141, 45.9993, -11.3337, 4773,   1518.3,   5.5963,  35.2008,2,  35.1998,2,    234.8,2,    235.9,2,    12.22,2,    18.19,2,     0.04,2,     1.16,2,  -999.0,9,  5.4558,   5.592,2
     64PE96N_1,  AR12,    31,  1,     14,   X025,2,19960626,1141, 45.9993, -11.3337, 4773,   1770.8,   4.2841,  35.0197,2,-999.0000,9,    255.8,2,   -999.0,9,    13.77,2,    18.17,2,     0.04,2,     1.18,2,  -999.0,9,  4.1347,   4.291,2
     64PE96N_1,  AR12,    31,  1,     13,   X009,2,19960626,1141, 45.9993, -11.3337, 4773,   2025.0,   3.9323,  35.0040,2,  35.0041,2,    255.1,2,    259.0,2,    16.81,2,    18.50,2,     0.04,2,     1.21,2,  -999.0,9,  3.7632,   3.934,2
     64PE96N_1,  AR12,    31,  1,     12,   X045,2,19960626,1141, 45.9993, -11.3337, 4773,   2281.9,   3.5978,  34.9981,2,-999.0000,9,    250.1,2,   -999.0,9,    22.40,2,    19.53,2,     0.12,2,     1.28,2,  -999.0,9,  3.4087,   3.597,2
     64PE96N_1,  AR12,    31,  1,     11,   X024,2,19960626,1141, 45.9993, -11.3337, 4773,   2537.7,   3.2507,  34.9761,2,  34.9764,2,    248.0,2,    248.0,2,    27.00,2,    19.95,2,     0.03,2,     1.33,2,  -999.0,9,  3.0423,   3.257,2
     64PE96N_1,  AR12,    31,  1,     10,   X023,2,19960626,1141, 45.9993, -11.3337, 4773,   2782.9,   2.9983,  34.9583,2,-999.0000,9,    246.4,2,   -999.0,9,    30.42,2,    20.51,2,     0.04,2,     1.36,2,  -999.0,9,  2.7699,   3.000,2
     64PE96N_1,  AR12,    31,  1,      9,   X008,2,19960626,1141, 45.9993, -11.3337, 4773,   3046.5,   2.7981,  34.9424,2,  34.9422,2,    244.7,2,    244.1,2,    34.17,2,    21.10,2,     0.03,2,     1.41,2,  -999.0,9,  2.5468,   2.800,2
     64PE96N_1,  AR12,    31,  1,      8,   X044,2,19960626,1141, 45.9993, -11.3337, 4773,   3302.1,   2.6809,  34.9319,2,-999.0000,9,    243.3,2,   -999.0,9,    36.56,2,    21.32,2,     0.03,2,     1.43,2,  3300.8,6,  2.4053,   2.682,6
     64PE96N_1,  AR12,    31,  1,      7,   X043,2,19960626,1141, 45.9993, -11.3337, 4773,   3560.4,   2.6037,  34.9231,2,  34.9223,2,    241.4,2,    242.8,2,    39.12,2,    21.93,2,     0.05,2,     1.47,2,  -999.0,9,  2.3020,   2.604,2
     64PE96N_1,  AR12,    31,  1,      6,   X030,2,19960626,1141, 45.9993, -11.3337, 4773,   3815.3,   2.5589,  34.9162,2,-999.0000,9,    240.5,2,   -999.0,9,    41.08,2,    22.00,2,     0.02,2,     1.48,2,  -999.0,9,  2.2299,   2.558,6
     64PE96N_1,  AR12,    31,  1,      5,   X001,2,19960626,1141, 45.9993, -11.3337, 4773,   4073.0,   2.5246,  34.9101,2,  34.9099,2,    240.2,2,    239.6,2,    42.42,2,    22.24,2,     0.03,2,     1.49,2,  -999.0,9,  2.1671,   2.524,2
     64PE96N_1,  AR12,    31,  1,      4,   X031,2,19960626,1141, 45.9993, -11.3337, 4773,   4330.4,   2.5093,  34.9053,2,-999.0000,9,    240.1,2,   -999.0,9,    43.18,2,    22.46,2,     0.02,2,     1.50,2,  -999.0,9,  2.1220,   2.509,6
     64PE96N_1,  AR12,    31,  1,      3,   X042,2,19960626,1141, 45.9993, -11.3337, 4773,   4586.4,   2.5147,  34.9027,2,  34.9024,2,    239.5,2,    242.8,2,    44.13,2,    22.48,2,     0.03,2,     1.51,2,  -999.0,9,  2.0963,   2.514,2
     64PE96N_1,  AR12,    31,  1,      1,   X041,2,19960626,1141, 45.9993, -11.3337, 4773,   4763.3,   2.5262,  34.9014,2,  34.9016,6,    240.9,2,    236.9,6,    44.55,6,    22.58,6,     0.04,2,     1.51,6,  -999.0,9,  2.0856,-999.000,9
     64PE96N_1,  AR12,    31,  1,      2,   X019,4,19960626,1141, 45.9993, -11.3337, 4773,   4763.3,   2.5262,  34.9014,2,-999.0000,9,    240.9,2,   -999.0,9,    41.95,4,    22.26,4,     0.04,4,     1.48,4,  4764.4,4,  2.0856,   2.526,4