BOTTLE,20020320WHPSIOKJU
EXPOCODE,SECT_ID,STNNBR,CASTNO,SAMPNO,BTLNBR,BTLNBR_FLAG_W,DATE,TIME,LATITUDE,LONGITUDE,DEPTH,CTDPRS,CTDTMP,CTDSAL,CTDSAL_FLAG_W,SALNTY,SALNTY_FLAG_W,CTDOXY,CTDOXY_FLAG_W,OXYGEN,OXYGEN_FLAG_W,SILCAT,SILCAT_FLAG_W,NITRAT,NITRAT_FLAG_W,NITRIT,NITRIT_FLAG_W,PHSPHT,PHSPHT_FLAG_W,REVPRS,REVPRS_FLAG_W,THETA,REVTMP,REVTMP_FLAG_W
,,,,,,,,,,,,DBAR,ITS-90,PSS-78,,PSS-78,,UMOL/KG,,UMOL/KG,,UMOL/KG,,UMOL/KG,,UMOL/KG,,UMOL/KG,,DBAR,,DEG C,ITS-90,
     64PE96N_1,  AR12,    79,  1,     22,   X049,2,19960709,1910, 45.7500,  -4.3330, 2801,      8.4,  17.3444,  35.6510,2,  35.6519,6,    244.5,2,    244.6,6,     0.51,2,     0.01,2,     0.02,2,     0.04,2,  -999.0,9, 17.3430,-999.000,9
     64PE96N_1,  AR12,    79,  1,     21,   X048,2,19960709,1910, 45.7500,  -4.3330, 2801,    100.6,  12.1649,  35.6224,2,  35.6212,2,    240.3,2,    237.3,2,     2.22,2,     6.58,2,     0.04,2,     0.39,2,  -999.0,9, 12.1516,-999.000,9
     64PE96N_1,  AR12,    79,  1,     20,   X046,2,19960709,1910, 45.7500,  -4.3330, 2801,    201.0,  11.7015,  35.5944,2,-999.0000,9,    237.8,2,   -999.0,9,     2.87,2,     8.21,2,     0.02,2,     0.49,2,  -999.0,9, 11.6755,-999.000,9
     64PE96N_1,  AR12,    79,  1,     19,   X047,2,19960709,1910, 45.7500,  -4.3330, 2801,    302.4,  11.4389,  35.5752,2,  35.5731,2,    235.2,2,    235.4,2,     3.38,2,     9.79,2,     0.03,2,     0.58,2,  -999.0,9, 11.4002,-999.000,9
     64PE96N_1,  AR12,    79,  1,     18,   X014,2,19960709,1910, 45.7500,  -4.3330, 2801,    403.5,  11.1546,  35.5674,2,-999.0000,9,    226.0,2,   -999.0,9,     4.32,2,    11.43,2,     0.03,2,     0.68,2,  -999.0,9, 11.1037,-999.000,9
     64PE96N_1,  AR12,    79,  1,     17,   X032,2,19960709,1910, 45.7500,  -4.3330, 2801,    504.1,  10.8745,  35.5693,2,  35.5689,2,    219.5,2,    219.4,2,     5.24,2,    12.72,2,     0.03,2,     0.77,2,  -999.0,9, 10.8115,-999.000,9
     64PE96N_1,  AR12,    79,  1,     16,   X026,2,19960709,1910, 45.7500,  -4.3330, 2801,    604.7,  10.5374,  35.5704,2,-999.0000,9,    212.2,2,   -999.0,9,     6.35,2,    14.22,2,     0.03,2,     0.86,2,  -999.0,9, 10.4630,-999.000,9
     64PE96N_1,  AR12,    79,  1,     15,   X059,2,19960709,1910, 45.7500,  -4.3330, 2801,    706.2,  10.2627,  35.6276,2,  35.6291,2,    200.9,2,    198.9,2,     7.73,2,    15.65,2,     0.03,2,     0.95,2,  -999.0,9, 10.1767,-999.000,9
     64PE96N_1,  AR12,    79,  1,     14,   X025,2,19960709,1910, 45.7500,  -4.3330, 2801,    807.6,  10.0235,  35.6875,2,-999.0000,9,    194.0,2,   -999.0,9,     8.80,2,    16.54,2,     0.03,2,     1.01,2,  -999.0,9,  9.9259,-999.000,9
     64PE96N_1,  AR12,    79,  1,     13,   X058,2,19960709,1910, 45.7500,  -4.3330, 2801,    904.2,   9.8805,  35.7315,2,  35.7278,2,    190.3,2,    188.3,2,     9.26,2,    16.94,2,     0.02,2,     1.03,2,  -999.0,9,  9.7716,-999.000,9
     64PE96N_1,  AR12,    79,  1,     12,   X015,2,19960709,1910, 45.7500,  -4.3330, 2801,   1009.5,   9.5676,  35.7404,2,-999.0000,9,    191.4,2,   -999.0,9,     9.96,2,    17.25,2,     0.02,2,     1.06,2,  -999.0,9,  9.4476,-999.000,9
     64PE96N_1,  AR12,    79,  1,     11,   X034,2,19960709,1910, 45.7500,  -4.3330, 2801,   1111.3,   9.1737,  35.7158,2,  35.7163,2,    193.0,2,    191.8,2,    10.52,2,    17.45,2,     0.04,2,     1.08,2,  -999.0,9,  9.0442,-999.000,9
     64PE96N_1,  AR12,    79,  1,     10,   X023,2,19960709,1910, 45.7500,  -4.3330, 2801,   1212.2,   8.5355,  35.6429,2,-999.0000,9,    198.6,2,   -999.0,9,    11.25,2,    17.82,2,     0.03,2,     1.11,2,  -999.0,9,  8.3991,-999.000,9
     64PE96N_1,  AR12,    79,  1,      9,   X035,2,19960709,1910, 45.7500,  -4.3330, 2801,   1298.3,   7.9163,  35.5579,2,  35.5538,2,    203.6,2,    204.4,2,    11.94,2,    18.02,2,     0.03,2,     1.12,2,  -999.0,9,  7.7755,-999.000,9
     64PE96N_1,  AR12,    79,  1,      8,   X044,2,19960709,1910, 45.7500,  -4.3330, 2801,   1415.2,   6.7502,  35.3912,2,-999.0000,9,    215.3,2,   -999.0,9,    13.29,2,    18.44,2,     0.04,2,     1.17,2,  1413.8,6,  6.6079,   6.789,4
     64PE96N_1,  AR12,    79,  1,      7,   X011,2,19960709,1910, 45.7500,  -4.3330, 2801,   1619.3,   5.1663,  35.1696,2,  35.1700,2,    234.6,2,    236.6,2,    15.41,2,    18.81,2,     0.03,2,     1.20,2,  -999.0,9,  5.0205,-999.000,9
     64PE96N_1,  AR12,    79,  1,      6,   X061,2,19960709,1910, 45.7500,  -4.3330, 2801,   1823.1,   4.4296,  35.0810,2,  35.0807,2,    242.5,2,   -999.0,9,    17.83,2,    18.92,2,     0.02,2,     1.23,2,  -999.0,9,  4.2731,   4.426,6
     64PE96N_1,  AR12,    79,  1,      5,   X057,2,19960709,1910, 45.7500,  -4.3330, 2801,   2024.3,   3.9203,  35.0353,2,-999.0000,9,    244.9,2,    242.9,2,    20.63,2,    19.19,2,     0.03,2,     1.26,2,  -999.0,9,  3.7514,-999.000,9
     64PE96N_1,  AR12,    79,  1,      4,   X031,2,19960709,1910, 45.7500,  -4.3330, 2801,   2229.1,   3.6049,  35.0088,2,-999.0000,9,    245.7,2,   -999.0,9,    24.36,2,    19.85,2,     0.02,2,     1.31,2,  -999.0,9,  3.4208,   3.603,6
     64PE96N_1,  AR12,    79,  1,      3,   X021,2,19960709,1910, 45.7500,  -4.3330, 2801,   2433.8,   3.1814,  34.9740,2,  34.9734,2,    246.9,2,    246.3,2,    28.83,2,    20.39,2,     0.02,2,     1.36,2,  -999.0,9,  2.9845,-999.000,9
     64PE96N_1,  AR12,    79,  1,      2,   X056,2,19960709,1910, 45.7500,  -4.3330, 2801,   2639.3,   3.0426,  34.9625,2,-999.0000,9,    247.8,2,   -999.0,9,    30.75,2,    20.72,2,     0.01,2,     1.39,2,  2636.4,6,  2.8279,   3.039,2
     64PE96N_1,  AR12,    79,  1,      1,   X051,2,19960709,1910, 45.7500,  -4.3330, 2801,   2861.0,   2.8504,  34.9463,2,  34.9457,6,    248.9,2,    242.7,6,    34.10,6,    21.09,6,     0.01,2,     1.43,6,  -999.0,9,  2.6171,-999.000,9
     64PE96N_1,  AR12,    80,  1,     22,   X049,2,19960709,2236, 45.8338,  -4.2160, -999,      9.7,  17.7082,  35.6796,2,  35.6832,6,    241.0,2,    241.1,6,     0.77,2,     0.05,2,     0.05,2,     0.06,2,  -999.0,9, 17.7066,-999.000,9
     64PE96N_1,  AR12,    80,  1,     21,   X048,2,19960709,2236, 45.8338,  -4.2160, -999,     99.7,  12.2234,  35.6212,2,  35.6193,2,    241.7,2,    239.7,2,     2.20,2,     6.08,2,     0.04,2,     0.36,2,  -999.0,9, 12.2102,-999.000,9
     64PE96N_1,  AR12,    80,  1,     20,   X046,2,19960709,2236, 45.8338,  -4.2160, -999,    201.7,  11.7560,  35.5975,2,-999.0000,9,    236.8,2,   -999.0,9,     2.93,2,     7.97,2,     0.04,2,     0.49,2,  -999.0,9, 11.7298,-999.000,9
     64PE96N_1,  AR12,    80,  1,     19,   X047,2,19960709,2236, 45.8338,  -4.2160, -999,    303.0,  11.5052,  35.5823,2,  35.5809,2,    234.8,2,    235.0,2,     3.40,2,     9.22,2,     0.04,2,     0.56,2,  -999.0,9, 11.4663,-999.000,9
     64PE96N_1,  AR12,    80,  1,     18,   X014,2,19960709,2236, 45.8338,  -4.2160, -999,    403.6,  11.1484,  35.5702,2,-999.0000,9,    226.0,2,   -999.0,9,     4.53,2,    11.43,2,     0.02,2,     0.71,2,  -999.0,9, 11.0975,-999.000,9
     64PE96N_1,  AR12,    80,  1,     17,   X032,2,19960709,2236, 45.8338,  -4.2160, -999,    504.2,  10.8194,  35.5636,2,  35.5631,2,    220.6,2,    219.1,2,     5.47,2,    12.80,2,     0.03,2,     0.79,2,  -999.0,9, 10.7566,-999.000,9
     64PE96N_1,  AR12,    80,  1,     16,   X026,2,19960709,2236, 45.8338,  -4.2160, -999,    604.4,  10.5366,  35.5696,2,-999.0000,9,    213.3,2,   -999.0,9,     6.42,2,    14.11,2,     0.02,2,     0.88,2,  -999.0,9, 10.4622,-999.000,9
     64PE96N_1,  AR12,    80,  1,     15,   X059,4,19960709,2236, 45.8338,  -4.2160, -999,    705.6,  10.2965,  35.6188,2,  35.6070,4,    203.5,2,    216.8,4,     5.27,4,    11.63,4,     0.03,4,     0.72,4,  -999.0,9, 10.2104,-999.000,9
     64PE96N_1,  AR12,    80,  1,     14,   X025,2,19960709,2236, 45.8338,  -4.2160, -999,    807.7,  10.1302,  35.6939,2,-999.0000,9,    195.3,2,   -999.0,9,     8.70,2,    16.47,2,     0.02,2,     1.03,2,  -999.0,9, 10.0320,-999.000,9
     64PE96N_1,  AR12,    80,  1,     13,   X058,4,19960709,2236, 45.8338,  -4.2160, -999,    908.8,   9.9158,  35.7434,2,  35.6745,4,    191.9,2,    200.3,4,     7.85,4,    15.25,4,     0.02,4,     0.96,4,  -999.0,9,  9.8061,-999.000,9
     64PE96N_1,  AR12,    80,  1,     12,   X015,2,19960709,2236, 45.8338,  -4.2160, -999,   1009.6,   9.5063,  35.7413,2,-999.0000,9,    194.5,2,   -999.0,9,    10.08,2,    17.11,2,     0.03,2,     1.08,2,  -999.0,9,  9.3868,-999.000,9
     64PE96N_1,  AR12,    80,  1,     11,   X034,2,19960709,2236, 45.8338,  -4.2160, -999,   1111.6,   9.0260,  35.7027,2,  35.6974,3,    196.9,2,    193.4,2,    10.68,2,    17.41,2,     0.02,2,     1.10,2,  -999.0,9,  8.8977,-999.000,9
     64PE96N_1,  AR12,    80,  1,     10,   X023,2,19960709,2236, 45.8338,  -4.2160, -999,   1214.1,   8.2920,  35.6095,2,-999.0000,9,    202.6,2,   -999.0,9,    11.45,2,    17.58,2,     0.01,2,     1.13,2,  -999.0,9,  8.1576,-999.000,9
     64PE96N_1,  AR12,    80,  1,      9,   X035,2,19960709,2236, 45.8338,  -4.2160, -999,   1416.3,   6.8527,  35.4046,2,  35.4017,2,    215.5,2,    216.4,2,    13.26,2,    18.13,2,     0.01,2,     1.18,2,  -999.0,9,  6.7092,-999.000,9
     64PE96N_1,  AR12,    80,  1,      8,   X044,2,19960709,2236, 45.8338,  -4.2160, -999,   1618.8,   5.2980,  35.1932,2,-999.0000,9,    231.9,2,   -999.0,9,    15.72,2,    18.61,2,     0.00,2,     1.22,2,  1619.6,2,  5.1507,   5.281,4
     64PE96N_1,  AR12,    80,  1,      7,   X011,2,19960709,2236, 45.8338,  -4.2160, -999,   1822.3,   4.3567,  35.0792,2,  35.0789,2,    240.7,2,    243.5,2,    18.71,2,    18.90,2,     0.01,2,     1.26,2,  -999.0,9,  4.2013,-999.000,9
     64PE96N_1,  AR12,    80,  1,      6,   X061,2,19960709,2236, 45.8338,  -4.2160, -999,   2025.6,   3.9182,  35.0390,2,-999.0000,9,    242.6,2,   -999.0,9,    22.16,2,    19.36,2,     0.03,2,     1.29,2,  -999.0,9,  3.7491,   3.919,6
     64PE96N_1,  AR12,    80,  1,      5,   X057,2,19960709,2236, 45.8338,  -4.2160, -999,   2230.1,   3.4609,  34.9970,2,-999.0000,5,    245.5,2,    241.3,2,    22.31,2,    18.76,2,     0.00,2,     1.26,2,  -999.0,9,  3.2791,-999.000,9
     64PE96N_1,  AR12,    80,  1,      4,   X031,2,19960709,2236, 45.8338,  -4.2160, -999,   2434.8,   3.2671,  34.9806,2,-999.0000,9,    245.4,2,   -999.0,9,    27.68,2,    20.03,2,     0.02,2,     1.36,2,  -999.0,9,  3.0685,   3.266,6
     64PE96N_1,  AR12,    80,  1,      3,   X021,2,19960709,2236, 45.8338,  -4.2160, -999,   2637.7,   3.0388,  34.9622,2,  34.9615,2,    246.1,2,    245.5,2,    30.77,2,    20.53,2,     0.00,2,     1.40,2,  -999.0,9,  2.8244,-999.000,9
     64PE96N_1,  AR12,    80,  1,      2,   X056,2,19960709,2236, 45.8338,  -4.2160, -999,   2841.8,   2.8882,  34.9491,2,-999.0000,9,    246.3,2,   -999.0,9,    33.19,2,    20.81,2,     0.00,2,     1.42,2,  2838.9,6,  2.6561,   2.889,2
     64PE96N_1,  AR12,    80,  1,      1,   X051,2,19960709,2236, 45.8338,  -4.2160, -999,   2940.3,   2.7690,  34.9393,2,  34.9397,6,    247.1,2,    241.9,2,    35.27,6,    21.06,6,     0.01,2,     1.44,6,  -999.0,9,  2.5293,-999.000,9
     64PE96N_1,  AR12,    81,  1,     21,   X048,2,19960710,0212, 45.9170,  -4.0980, 1876,     10.3,  17.6594,  35.6827,2,  35.6832,6,    241.5,2,    241.6,6,     0.77,2,     0.06,2,     0.03,2,     0.06,2,  -999.0,9, 17.6576,-999.000,9
     64PE96N_1,  AR12,    81,  1,     20,   X046,2,19960710,0212, 45.9170,  -4.0980, 1876,     50.7,  13.3857,  35.6406,2,-999.0000,9,    250.5,2,   -999.0,9,     1.18,2,     1.81,2,     0.24,2,     0.13,2,  -999.0,9, 13.3786,-999.000,9
     64PE96N_1,  AR12,    81,  1,     19,   X047,2,19960710,0212, 45.9170,  -4.0980, 1876,    101.2,  12.1879,  35.6180,2,  35.6180,2,    239.8,2,    237.8,2,     2.25,2,     6.23,2,     0.03,2,     0.36,2,  -999.0,9, 12.1745,-999.000,9
     64PE96N_1,  AR12,    81,  1,     18,   X014,2,19960710,0212, 45.9170,  -4.0980, 1876,    202.0,  11.6843,  35.5903,2,-999.0000,9,    241.0,2,   -999.0,9,     2.79,2,     7.74,2,     0.02,2,     0.46,2,  -999.0,9, 11.6582,-999.000,9
     64PE96N_1,  AR12,    81,  1,     17,   X032,2,19960710,0212, 45.9170,  -4.0980, 1876,    303.1,  11.5047,  35.5808,2,  35.5788,2,    236.2,2,    235.6,2,     3.38,2,     9.30,2,     0.03,2,     0.56,2,  -999.0,9, 11.4658,-999.000,9
     64PE96N_1,  AR12,    81,  1,     16,   X026,2,19960710,0212, 45.9170,  -4.0980, 1876,    403.5,  11.2523,  35.5694,2,-999.0000,9,    227.8,2,   -999.0,9,     4.16,2,    11.20,2,     0.03,2,     0.68,2,  -999.0,9, 11.2011,-999.000,9
     64PE96N_1,  AR12,    81,  1,     15,   X059,2,19960710,0212, 45.9170,  -4.0980, 1876,    504.1,  10.8508,  35.5681,2,  35.5819,4,    217.4,2,    220.4,2,     4.88,2,    11.53,2,     0.04,2,     0.71,2,  -999.0,9, 10.7879,-999.000,9
     64PE96N_1,  AR12,    81,  1,     14,   X025,2,19960710,0212, 45.9170,  -4.0980, 1876,    606.3,  10.4424,  35.5982,2,-999.0000,9,    206.4,2,   -999.0,9,     6.98,2,    14.89,2,     0.02,2,     0.93,2,  -999.0,9, 10.3682,-999.000,9
     64PE96N_1,  AR12,    81,  1,     13,   X058,2,19960710,0212, 45.9170,  -4.0980, 1876,    704.9,  10.2246,  35.6391,2,  35.6402,2,    197.8,2,    194.9,2,     8.02,2,    15.89,2,     0.01,2,     1.00,2,  -999.0,9, 10.1389,-999.000,9
     64PE96N_1,  AR12,    81,  1,     12,   X015,2,19960710,0212, 45.9170,  -4.0980, 1876,    809.6,  10.1040,  35.6865,2,-999.0000,9,    193.3,2,   -999.0,9,     8.68,2,    16.35,2,     0.00,2,     1.03,2,  -999.0,9, 10.0057,-999.000,9
     64PE96N_1,  AR12,    81,  1,     11,   X034,2,19960710,0212, 45.9170,  -4.0980, 1876,    909.9,   9.9859,  35.7141,2,  35.7139,2,    191.5,2,    188.8,2,     9.06,2,    16.61,2,     0.00,2,     1.04,2,  -999.0,9,  9.8757,-999.000,9
     64PE96N_1,  AR12,    81,  1,     10,   X023,2,19960710,0212, 45.9170,  -4.0980, 1876,   1009.0,   9.7206,  35.7312,2,-999.0000,9,    192.2,2,   -999.0,9,     9.68,2,    16.71,2,     0.01,2,     1.06,2,  -999.0,9,  9.5996,-999.000,9
     64PE96N_1,  AR12,    81,  1,      9,   X035,2,19960710,0212, 45.9170,  -4.0980, 1876,   1113.8,   9.3085,  35.7194,2,  35.7177,2,    193.3,2,    191.2,2,    10.30,2,    17.17,2,     0.00,2,     1.08,2,  -999.0,9,  9.1776,-999.000,9
     64PE96N_1,  AR12,    81,  1,      8,   X044,2,19960710,0212, 45.9170,  -4.0980, 1876,   1212.9,   8.7420,  35.6622,2,-999.0000,9,    197.7,2,   -999.0,9,    11.00,2,    17.51,2,     0.02,2,     1.11,2,  1210.8,6,  8.6037,   8.745,2
     64PE96N_1,  AR12,    81,  1,      7,   X011,2,19960710,0212, 45.9170,  -4.0980, 1876,   1314.1,   8.1746,  35.5888,2,  35.5866,2,    202.1,2,    202.0,2,    11.65,2,    17.73,2,     0.00,2,     1.13,2,  -999.0,9,  8.0294,-999.000,9
     64PE96N_1,  AR12,    81,  1,      6,   X061,2,19960710,0212, 45.9170,  -4.0980, 1876,   1415.7,   7.5434,  35.5021,2,-999.0000,9,    207.5,2,   -999.0,9,    12.34,2,    17.97,2,     0.00,2,     1.15,2,  -999.0,9,  7.3927,   7.546,6
     64PE96N_1,  AR12,    81,  1,      5,   X057,2,19960710,0212, 45.9170,  -4.0980, 1876,   1519.1,   6.5868,  35.3678,2,  35.3808,4,    217.7,2,    218.8,2,    13.43,2,    18.11,2,     0.00,2,     1.17,2,  -999.0,9,  6.4348,-999.000,9
     64PE96N_1,  AR12,    81,  1,      4,   X031,2,19960710,0212, 45.9170,  -4.0980, 1876,   1619.3,   5.8566,  35.2712,2,-999.0000,9,    225.9,2,   -999.0,9,    15.38,2,    18.50,2,     0.00,2,     1.21,2,  -999.0,9,  5.7024,   5.842,3
     64PE96N_1,  AR12,    81,  1,      3,   X021,2,19960710,0212, 45.9170,  -4.0980, 1876,   1722.2,   5.3112,  35.1981,2,  35.1976,2,    233.1,2,    233.8,2,    16.35,2,    18.64,2,     0.00,2,     1.23,2,  -999.0,9,  5.1530,-999.000,9
     64PE96N_1,  AR12,    81,  1,      2,   X056,2,19960710,0212, 45.9170,  -4.0980, 1876,   1822.0,   4.9188,  35.1517,2,-999.0000,9,    240.2,2,   -999.0,9,    17.94,2,    18.79,2,     0.00,2,     1.24,2,  1818.4,6,  4.7557,   4.914,2
     64PE96N_1,  AR12,    81,  1,      1,   X051,2,19960710,0212, 45.9170,  -4.0980, 1876,   1905.0,   4.3862,  35.0885,2,  35.0888,6,    247.4,2,    240.7,6,    19.83,2,    19.05,6,     0.00,2,     1.25,6,  -999.0,9,  4.2221,-999.000,9
     64PE96N_1,  AR12,    82,  1,      8,   X044,2,19960710,0503, 46.0000,  -3.9837,  600,     10.0,  17.5651,  35.5578,2,  35.5697,2,    241.0,2,    241.1,6,     0.43,2,     0.00,2,     0.01,2,     0.05,2,     8.8,6, 17.5634,  11.570,4
     64PE96N_1,  AR12,    82,  1,      7,   X011,2,19960710,0503, 46.0000,  -3.9837,  600,     49.8,  14.6456,  35.6483,2,  35.6470,2,    255.6,2,    255.6,2,     0.83,2,     0.01,2,     0.02,2,     0.06,2,  -999.0,9, 14.6382,-999.000,9
     64PE96N_1,  AR12,    82,  1,      6,   X061,2,19960710,0503, 46.0000,  -3.9837,  600,    101.1,  12.5178,  35.6430,2,-999.0000,9,    235.3,2,   -999.0,9,     1.80,2,     5.22,2,     0.02,2,     0.29,2,  -999.0,9, 12.5042,  12.525,6
     64PE96N_1,  AR12,    82,  1,      5,   X057,2,19960710,0503, 46.0000,  -3.9837,  600,    202.6,  11.8424,  35.6056,2,  35.6032,2,    231.5,2,    236.9,2,     2.71,2,     7.83,2,     0.02,2,     0.45,2,  -999.0,9, 11.8160,-999.000,9
     64PE96N_1,  AR12,    82,  1,      4,   X031,2,19960710,0503, 46.0000,  -3.9837,  600,    301.4,  11.4845,  35.5861,2,-999.0000,9,    226.1,2,   -999.0,9,     3.54,2,     9.93,2,     0.02,2,     0.59,2,  -999.0,9, 11.4458,  11.475,6
     64PE96N_1,  AR12,    82,  1,      3,   X021,2,19960710,0503, 46.0000,  -3.9837,  600,    403.0,  11.1586,  35.5798,2,  35.5786,2,    219.3,2,    221.7,2,     4.53,2,    11.65,2,     0.01,2,     0.70,2,  -999.0,9, 11.1077,-999.000,9
     64PE96N_1,  AR12,    82,  1,      2,   X056,2,19960710,0503, 46.0000,  -3.9837,  600,    504.5,  10.8054,  35.5777,2,-999.0000,9,    213.1,2,   -999.0,9,     5.53,2,    13.00,2,     0.03,2,     0.80,2,   501.9,6, 10.7426,  10.797,2
     64PE96N_1,  AR12,    82,  1,      1,   X051,2,19960710,0503, 46.0000,  -3.9837,  600,    576.5,  10.7428,  35.5822,2,  35.5810,6,    213.7,2,    212.4,6,     5.87,6,    13.61,6,     0.01,2,     0.82,6,  -999.0,9, 10.6711,-999.000,9
     64PE96N_1,  AR12,    83,  2,      4,   X031,2,19960710,0708, 46.0833,  -3.8668,  144,     10.2,  17.7138,  35.5005,2,  35.5061,2,    242.5,2,    242.6,6,     0.42,2,     0.00,2,     0.01,2,     0.06,2,  -999.0,9, 17.7121,  17.703,6
     64PE96N_1,  AR12,    83,  2,      3,   X021,2,19960710,0708, 46.0833,  -3.8668,  144,     50.4,  13.3439,  35.6374,2,  35.6361,2,    258.6,2,    255.4,6,     0.73,2,     1.27,2,     0.13,2,     0.09,2,  -999.0,9, 13.3368,-999.000,9
     64PE96N_1,  AR12,    83,  2,      2,   X056,2,19960710,0708, 46.0833,  -3.8668,  144,    100.8,  12.0417,  35.6104,2,-999.0000,9,    230.2,2,   -999.0,9,     2.58,2,     6.37,2,     0.06,2,     0.34,2,    98.9,6, 12.0285,  12.044,2
     64PE96N_1,  AR12,    83,  2,      1,   X051,2,19960710,0708, 46.0833,  -3.8668,  144,    144.0,  12.0502,  35.6141,2,  35.6121,6,    232.5,2,    229.9,6,     2.62,2,     6.66,2,     0.03,2,     0.38,2,  -999.0,9, 12.0313,-999.000,9
     64PE96N_1,  AR12,    84,  1,      4,   X031,2,19960711,0010, 47.7505,  -7.2482,  174,     10.2,  15.0696,  35.5770,2,  35.5759,6,    261.2,2,    261.3,6,     0.67,2,     0.19,2,     0.05,2,     0.06,2,  -999.0,9, 15.0681,  15.069,6
     64PE96N_1,  AR12,    84,  1,      3,   X021,2,19960711,0010, 47.7505,  -7.2482,  174,     49.6,  14.1245,  35.5788,2,  35.5771,2,    255.8,2,    255.9,2,     1.03,2,     1.74,2,     0.15,2,     0.11,2,  -999.0,9, 14.1173,-999.000,9
     64PE96N_1,  AR12,    84,  1,      2,   X056,2,19960711,0010, 47.7505,  -7.2482,  174,     99.7,  12.2856,  35.5701,2,-999.0000,9,    241.7,2,   -999.0,9,     2.44,2,     6.41,2,     0.06,2,     0.38,2,    98.4,6, 12.2723,  12.311,4
     64PE96N_1,  AR12,    84,  1,      1,   X051,2,19960711,0010, 47.7505,  -7.2482,  174,    172.2,  11.9957,  35.5768,2,  35.5752,6,    240.4,2,    238.3,6,     2.75,2,     7.10,2,     0.05,2,     0.43,2,  -999.0,9, 11.9731,-999.000,9