BOTTLE,20020320WHPSIOKJU
EXPOCODE,SECT_ID,STNNBR,CASTNO,SAMPNO,BTLNBR,BTLNBR_FLAG_W,DATE,TIME,LATITUDE,LONGITUDE,DEPTH,CTDPRS,CTDTMP,CTDSAL,CTDSAL_FLAG_W,SALNTY,SALNTY_FLAG_W,CTDOXY,CTDOXY_FLAG_W,OXYGEN,OXYGEN_FLAG_W,SILCAT,SILCAT_FLAG_W,NITRAT,NITRAT_FLAG_W,NITRIT,NITRIT_FLAG_W,PHSPHT,PHSPHT_FLAG_W,REVPRS,REVPRS_FLAG_W,THETA,REVTMP,REVTMP_FLAG_W
,,,,,,,,,,,,DBAR,ITS-90,PSS-78,,PSS-78,,UMOL/KG,,UMOL/KG,,UMOL/KG,,UMOL/KG,,UMOL/KG,,UMOL/KG,,DBAR,,DEG C,ITS-90,
     64PE96N_1,  AR12,    39,  1,     24,   X051,2,19960628,1117, 48.4017, -12.4005, 2505,     52.2,  12.7277,  35.5620,2,  35.5610,6,    251.4,2,    253.0,6,     1.31,2,     2.66,2,     0.35,2,     0.30,2,  -999.0,9, 12.7206,-999.000,9
     64PE96N_1,  AR12,    39,  1,     23,   X050,2,19960628,1117, 48.4017, -12.4005, 2505,    101.0,  11.6886,  35.5570,2,  35.5532,2,    248.2,2,    247.2,2,     3.14,2,     8.71,2,     0.03,2,     0.54,2,  -999.0,9, 11.6756,-999.000,9
     64PE96N_1,  AR12,    39,  1,     22,   X049,2,19960628,1117, 48.4017, -12.4005, 2505,    201.3,  11.2130,  35.5434,2,-999.0000,9,    250.1,2,   -999.0,9,     3.70,2,     9.52,2,     0.03,2,     0.59,2,  -999.0,9, 11.1877,-999.000,9
     64PE96N_1,  AR12,    39,  1,     21,   X048,2,19960628,1117, 48.4017, -12.4005, 2505,    303.3,  10.9942,  35.5172,2,  35.5164,2,    249.1,2,    246.9,2,     4.02,2,    10.29,2,     0.03,2,     0.63,2,  -999.0,9, 10.9564,-999.000,9
     64PE96N_1,  AR12,    39,  1,     20,   X046,2,19960628,1117, 48.4017, -12.4005, 2505,    403.6,  10.6847,  35.4750,2,-999.0000,9,    244.1,2,   -999.0,9,     4.63,2,    11.50,2,     0.03,2,     0.72,2,  -999.0,9, 10.6351,-999.000,9
     64PE96N_1,  AR12,    39,  1,     19,   X047,3,19960628,1117, 48.4017, -12.4005, 2505,    504.7,  10.2852,  35.4343,2,  35.4367,3,    236.4,2,    233.8,3,     5.51,3,    13.04,3,     0.03,3,     0.82,3,  -999.0,9, 10.2244,-999.000,9
     64PE96N_1,  AR12,    39,  1,     18,   X014,2,19960628,1117, 48.4017, -12.4005, 2505,    607.5,   9.9766,  35.4244,2,-999.0000,9,    223.7,2,   -999.0,9,     6.68,2,    14.51,2,     0.03,2,     0.91,2,  -999.0,9,  9.9044,-999.000,9
     64PE96N_1,  AR12,    39,  1,     17,   X032,2,19960628,1117, 48.4017, -12.4005, 2505,    706.8,   9.4561,  35.3970,2,  35.3970,2,    209.0,2,    206.7,2,     8.35,2,    16.33,2,     0.03,2,     1.04,2,  -999.0,9,  9.3743,-999.000,9
     64PE96N_1,  AR12,    39,  1,     16,   X026,2,19960628,1117, 48.4017, -12.4005, 2505,    808.1,   9.2907,  35.4644,2,-999.0000,9,    197.9,2,   -999.0,9,     9.24,2,    17.28,2,     0.03,2,     1.09,2,  -999.0,9,  9.1976,-999.000,9
     64PE96N_1,  AR12,    39,  1,     15,   X059,2,19960628,1117, 48.4017, -12.4005, 2505,    909.7,   8.8827,  35.4721,2,  35.4754,2,    196.0,2,    195.8,2,     9.92,2,    17.89,2,     0.03,2,     1.12,2,  -999.0,9,  8.7800,-999.000,9
     64PE96N_1,  AR12,    39,  1,     14,   X025,2,19960628,1117, 48.4017, -12.4005, 2505,   1012.7,   8.6567,  35.5481,2,-999.0000,9,    198.2,2,   -999.0,9,    10.34,2,    17.82,2,     0.02,2,     1.12,2,  -999.0,9,  8.5432,-999.000,9
     64PE96N_1,  AR12,    39,  1,     13,   X058,2,19960628,1117, 48.4017, -12.4005, 2505,   1115.2,   7.9617,  35.4853,2,  35.4828,2,    204.0,2,    204.1,2,    10.97,2,    17.96,2,     0.03,2,     1.14,2,  -999.0,9,  7.8418,-999.000,9
     64PE96N_1,  AR12,    39,  1,     12,   X015,2,19960628,1117, 48.4017, -12.4005, 2505,   1211.1,   6.6086,  35.2767,2,-999.0000,9,    218.7,2,   -999.0,9,    11.70,2,    18.39,2,     0.02,2,     1.19,2,  -999.0,9,  6.4899,-999.000,9
     64PE96N_1,  AR12,    39,  1,     11,   X034,2,19960628,1117, 48.4017, -12.4005, 2505,   1313.7,   6.1189,  35.2364,2,  35.2369,2,    226.8,2,    227.0,2,    12.14,2,    18.39,2,     0.02,2,     1.18,2,  -999.0,9,  5.9941,-999.000,9
     64PE96N_1,  AR12,    39,  1,     10,   X023,2,19960628,1117, 48.4017, -12.4005, 2505,   1418.4,   5.4440,  35.1527,2,-999.0000,9,    236.3,2,   -999.0,9,    12.84,2,    18.14,2,     0.03,2,     1.19,2,  -999.0,9,  5.3154,-999.000,9
     64PE96N_1,  AR12,    39,  1,      9,   X035,2,19960628,1117, 48.4017, -12.4005, 2505,   1516.5,   4.7707,  35.0674,2,  35.0684,2,    248.0,2,    247.6,2,    13.20,2,    18.30,2,     0.02,2,     1.19,2,  -999.0,9,  4.6400,-999.000,9
     64PE96N_1,  AR12,    39,  1,      8,   X044,2,19960628,1117, 48.4017, -12.4005, 2505,   1610.2,   4.0115,  34.9523,2,-999.0000,9,    264.1,2,   -999.0,9,    11.93,2,    17.89,2,     0.03,2,     1.17,2,  1618.3,4,  3.8810,   3.971,4
     64PE96N_1,  AR12,    39,  1,      7,   X011,2,19960628,1117, 48.4017, -12.4005, 2505,   1722.7,   3.7400,  34.9287,2,  34.9282,2,    269.4,2,    269.1,2,    12.23,2,    17.62,2,     0.03,2,     1.17,2,  -999.0,9,  3.6026,-999.000,9
     64PE96N_1,  AR12,    39,  1,      6,   X030,2,19960628,1117, 48.4017, -12.4005, 2505,   1821.9,   3.6272,  34.9328,2,-999.0000,9,    270.1,2,   -999.0,9,    13.15,2,    17.77,2,     0.03,2,     1.17,2,  -999.0,9,  3.4821,   3.625,6
     64PE96N_1,  AR12,    39,  1,      5,   X057,2,19960628,1117, 48.4017, -12.4005, 2505,   2028.6,   3.5763,  34.9704,2,  34.9688,2,    259.2,2,    257.8,2,    19.19,2,    18.61,2,     0.04,2,     1.24,2,  -999.0,9,  3.4123,-999.000,9
     64PE96N_1,  AR12,    39,  1,      4,   X031,2,19960628,1117, 48.4017, -12.4005, 2505,   2230.0,   3.3600,  34.9672,2,-999.0000,9,    256.1,2,   -999.0,9,    23.01,2,    19.16,2,     0.03,2,     1.29,2,  -999.0,9,  3.1800,   3.358,6
     64PE96N_1,  AR12,    39,  1,      3,   X021,2,19960628,1117, 48.4017, -12.4005, 2505,   2436.4,   3.1952,  34.9620,2,  34.9621,2,    254.6,2,    250.7,2,    26.73,2,    19.85,2,     0.03,2,     1.33,2,  -999.0,9,  2.9978,-999.000,9
     64PE96N_1,  AR12,    39,  1,      1,   X055,2,19960628,1117, 48.4017, -12.4005, 2505,   2539.0,   3.0087,  34.9535,2,  34.9561,6,    253.5,2,    247.9,6,    30.10,6,    20.39,6,     0.02,2,     1.38,6,  -999.0,9,  2.8047,-999.000,9
     64PE96N_1,  AR12,    39,  1,      2,   X056,2,19960628,1117, 48.4017, -12.4005, 2505,   2539.0,   3.0087,  34.9535,2,-999.0000,9,    253.5,2,   -999.0,9,    30.97,2,    20.41,2,     0.04,2,     1.38,2,  2536.9,6,  2.8047,   3.007,2
     64PE96N_1,  AR12,    40,  1,     22,   X049,2,19960628,1444, 48.6162, -12.2517, 1784,     11.0,  15.8573,  35.5672,2,  35.5686,6,    259.3,2,    259.4,6,     0.66,2,     0.00,2,     0.04,2,     0.06,2,  -999.0,9, 15.8556,-999.000,9
     64PE96N_1,  AR12,    40,  1,     21,   X048,2,19960628,1444, 48.6162, -12.2517, 1784,     50.6,  12.4284,  35.5648,2,  35.5648,2,    257.5,2,    254.7,2,     1.41,2,     3.33,2,     0.37,2,     0.31,2,  -999.0,9, 12.4216,-999.000,9
     64PE96N_1,  AR12,    40,  1,     20,   X046,2,19960628,1444, 48.6162, -12.2517, 1784,    101.5,  11.5249,  35.5667,2,-999.0000,9,    251.4,2,   -999.0,9,     2.59,2,     7.82,2,     0.04,2,     0.48,2,  -999.0,9, 11.5120,-999.000,9
     64PE96N_1,  AR12,    40,  1,     19,   X047,3,19960628,1444, 48.6162, -12.2517, 1784,    151.8,  11.4288,  35.5665,2,  35.5665,3,    250.9,2,    250.1,3,     2.71,3,     8.07,3,     0.04,3,     0.50,3,  -999.0,9, 11.4095,-999.000,9
     64PE96N_1,  AR12,    40,  1,     18,   X014,2,19960628,1444, 48.6162, -12.2517, 1784,    201.6,  11.3489,  35.5591,2,-999.0000,9,    250.8,2,   -999.0,9,     2.93,2,     8.47,2,     0.03,2,     0.53,2,  -999.0,9, 11.3233,-999.000,9
     64PE96N_1,  AR12,    40,  1,     17,   X032,2,19960628,1444, 48.6162, -12.2517, 1784,    301.6,  11.2192,  35.5488,2,  35.5492,2,    245.5,2,    245.6,2,     3.41,2,     9.51,2,     0.03,2,     0.59,2,  -999.0,9, 11.1811,-999.000,9
     64PE96N_1,  AR12,    40,  1,     16,   X026,2,19960628,1444, 48.6162, -12.2517, 1784,    406.5,  11.0178,  35.5376,2,-999.0000,9,    235.6,2,   -999.0,9,     4.20,2,    11.03,2,     0.03,2,     0.68,2,  -999.0,9, 10.9669,-999.000,9
     64PE96N_1,  AR12,    40,  1,     15,   X059,2,19960628,1444, 48.6162, -12.2517, 1784,    505.1,  10.5710,  35.4651,2,  35.4727,4,    233.5,2,    235.1,2,     4.93,2,    12.37,2,     0.04,2,     0.77,2,  -999.0,9, 10.5091,-999.000,9
     64PE96N_1,  AR12,    40,  1,     14,   X025,2,19960628,1444, 48.6162, -12.2517, 1784,    605.0,  10.3794,  35.4928,2,-999.0000,9,    220.7,2,   -999.0,9,     6.10,2,    14.09,2,     0.03,2,     0.88,2,  -999.0,9, 10.3057,-999.000,9
     64PE96N_1,  AR12,    40,  1,     13,   X058,2,19960628,1444, 48.6162, -12.2517, 1784,    706.3,  10.1371,  35.5174,2,  35.5204,2,    207.8,2,    206.3,2,     7.29,2,    15.48,2,     0.02,2,     0.96,2,  -999.0,9, 10.0518,-999.000,9
     64PE96N_1,  AR12,    40,  1,     12,   X015,2,19960628,1444, 48.6162, -12.2517, 1784,    808.8,   9.8555,  35.5430,2,-999.0000,9,    201.1,2,   -999.0,9,     8.30,2,    16.39,2,     0.03,2,     1.03,2,  -999.0,9,  9.7589,-999.000,9
     64PE96N_1,  AR12,    40,  1,     11,   X034,2,19960628,1444, 48.6162, -12.2517, 1784,    909.5,   9.0110,  35.5024,2,  35.5040,2,    196.5,2,    194.3,2,     9.85,2,    17.76,2,     0.02,2,     1.13,2,  -999.0,9,  8.9074,-999.000,9
     64PE96N_1,  AR12,    40,  1,     10,   X023,2,19960628,1444, 48.6162, -12.2517, 1784,   1010.7,   8.6773,  35.5397,2,-999.0000,9,    198.6,2,   -999.0,9,    10.39,2,    17.87,2,     0.04,2,     1.13,2,  -999.0,9,  8.5639,-999.000,9
     64PE96N_1,  AR12,    40,  1,      9,   X035,2,19960628,1444, 48.6162, -12.2517, 1784,   1111.8,   8.0067,  35.4881,2,  35.4871,2,    204.7,2,    204.3,2,    11.00,2,    17.93,2,     0.01,2,     1.14,2,  -999.0,9,  7.8868,-999.000,9
     64PE96N_1,  AR12,    40,  1,      8,   X044,2,19960628,1444, 48.6162, -12.2517, 1784,   1216.4,   7.2064,  35.3910,2,-999.0000,9,    213.3,2,   -999.0,9,    11.70,2,    18.26,2,     0.03,2,     1.17,2,  1213.3,6,  7.0816,   7.191,3
     64PE96N_1,  AR12,    40,  1,      7,   X011,2,19960628,1444, 48.6162, -12.2517, 1784,   1316.5,   5.9950,  35.2123,2,  35.2152,2,    228.2,2,    228.2,2,    12.08,2,    18.42,2,     0.01,2,     1.19,2,  -999.0,9,  5.8711,-999.000,9
     64PE96N_1,  AR12,    40,  1,      6,   X030,2,19960628,1444, 48.6162, -12.2517, 1784,   1415.2,   5.5391,  35.1635,2,-999.0000,9,    235.0,2,   -999.0,9,    12.76,2,    18.41,2,     0.00,2,     1.20,2,  -999.0,9,  5.4098,   5.535,6
     64PE96N_1,  AR12,    40,  1,      5,   X057,2,19960628,1444, 48.6162, -12.2517, 1784,   1519.0,   4.9579,  35.0928,2,  35.0928,2,    244.5,2,    244.6,2,    13.27,2,    18.38,2,     0.00,2,     1.20,2,  -999.0,9,  4.8248,-999.000,9
     64PE96N_1,  AR12,    40,  1,      4,   X031,2,19960628,1444, 48.6162, -12.2517, 1784,   1619.9,   4.3423,  35.0224,2,-999.0000,9,    255.8,2,   -999.0,9,    14.19,2,    18.23,2,     0.00,2,     1.20,2,  -999.0,9,  4.2067,   4.363,3
     64PE96N_1,  AR12,    40,  1,      3,   X021,2,19960628,1444, 48.6162, -12.2517, 1784,   1721.5,   3.9201,  34.9857,2,  34.9865,2,    263.6,2,    258.6,2,    15.47,2,    18.32,2,     0.02,2,     1.22,2,  -999.0,9,  3.7803,-999.000,9
     64PE96N_1,  AR12,    40,  1,      1,   X055,2,19960628,1444, 48.6162, -12.2517, 1784,   1807.3,   3.7549,  34.9716,2,  34.9726,6,   -999.0,9,    260.7,6,    16.06,6,    18.28,6,     0.00,2,     1.21,6,  -999.0,9,  3.6093,-999.000,9
     64PE96N_1,  AR12,    40,  1,      2,   X056,2,19960628,1444, 48.6162, -12.2517, 1784,   1807.3,   3.7549,  34.9716,2,-999.0000,9,    269.6,2,   -999.0,9,    15.93,2,    18.32,2,     0.02,2,     1.21,2,  1804.4,6,  3.6093,   3.753,2
     64PE96N_1,  AR12,    41,  1,     17,   X032,2,19960628,1720, 48.8167, -12.1197, 1445,     11.0,  15.7881,  35.5679,2,  35.5693,6,    264.8,2,    264.9,6,     0.73,2,     0.00,2,     0.00,2,     0.04,2,  -999.0,9, 15.7864,-999.000,9
     64PE96N_1,  AR12,    41,  1,     16,   X026,2,19960628,1720, 48.8167, -12.1197, 1445,     49.8,  12.6066,  35.5665,2,-999.0000,9,    258.5,2,   -999.0,9,     1.27,2,     2.13,2,     0.25,2,     0.23,2,  -999.0,9, 12.5999,-999.000,9
     64PE96N_1,  AR12,    41,  1,     15,   X059,2,19960628,1720, 48.8167, -12.1197, 1445,    101.0,  11.5740,  35.5683,2,  35.5680,2,    250.7,2,    249.3,2,     2.54,2,     7.80,2,     0.01,2,     0.47,2,  -999.0,9, 11.5611,-999.000,9
     64PE96N_1,  AR12,    41,  1,     14,   X025,2,19960628,1720, 48.8167, -12.1197, 1445,    202.6,  11.3213,  35.5563,2,-999.0000,9,    248.4,2,   -999.0,9,     3.14,2,     8.96,2,     0.01,2,     0.55,2,  -999.0,9, 11.2956,-999.000,9
     64PE96N_1,  AR12,    41,  1,     13,   X058,2,19960628,1720, 48.8167, -12.1197, 1445,    303.0,  11.1343,  35.5339,2,  35.5316,2,    244.9,2,    245.5,2,     3.65,2,    10.13,2,     0.00,2,     0.62,2,  -999.0,9, 11.0962,-999.000,9
     64PE96N_1,  AR12,    41,  1,     12,   X015,2,19960628,1720, 48.8167, -12.1197, 1445,    403.1,  10.9308,  35.5158,2,-999.0000,9,    236.9,2,   -999.0,9,     4.22,2,    11.34,2,     0.00,2,     0.69,2,  -999.0,9, 10.8806,-999.000,9
     64PE96N_1,  AR12,    41,  1,     11,   X034,2,19960628,1720, 48.8167, -12.1197, 1445,    507.0,  10.5567,  35.4707,2,  35.4709,2,    232.2,2,    233.1,2,     5.02,2,    12.70,2,     0.00,2,     0.78,2,  -999.0,9, 10.4946,-999.000,9
     64PE96N_1,  AR12,    41,  1,     10,   X023,2,19960628,1720, 48.8167, -12.1197, 1445,    604.1,  10.1609,  35.4337,2,-999.0000,9,    226.2,2,   -999.0,9,     5.97,2,    13.84,2,     0.00,2,     0.86,2,  -999.0,9, 10.0883,-999.000,9
     64PE96N_1,  AR12,    41,  1,      9,   X035,2,19960628,1720, 48.8167, -12.1197, 1445,    706.5,   9.9784,  35.4750,2,  35.4763,2,    211.4,2,    209.8,2,     7.16,2,    15.30,2,     0.00,2,     0.95,2,  -999.0,9,  9.8939,-999.000,9
     64PE96N_1,  AR12,    41,  1,      8,   X044,2,19960628,1720, 48.8167, -12.1197, 1445,    808.9,   9.6123,  35.5230,2,-999.0000,9,    200.7,2,   -999.0,9,     8.54,2,    16.71,2,     0.00,2,     1.03,2,   806.3,6,  9.5171,   9.612,2
     64PE96N_1,  AR12,    41,  1,      7,   X011,2,19960628,1720, 48.8167, -12.1197, 1445,    907.3,   9.1435,  35.5318,2,  35.5344,2,    195.1,2,    193.5,2,     9.57,2,    17.58,2,     0.00,2,     1.10,2,  -999.0,9,  9.0393,-999.000,9
     64PE96N_1,  AR12,    41,  1,      6,   X030,2,19960628,1720, 48.8167, -12.1197, 1445,   1009.4,   8.7580,  35.5510,2,-999.0000,9,    197.2,2,   -999.0,9,    10.15,2,    17.83,2,     0.01,2,     1.11,2,  -999.0,9,  8.6442,   8.757,6
     64PE96N_1,  AR12,    41,  1,      5,   X057,2,19960628,1720, 48.8167, -12.1197, 1445,   1110.9,   8.1158,  35.4944,2,  35.4906,2,    202.0,2,    202.3,2,    10.69,2,    17.96,2,     0.01,2,     1.14,2,  -999.0,9,  7.9951,-999.000,9
     64PE96N_1,  AR12,    41,  1,      4,   X031,2,19960628,1720, 48.8167, -12.1197, 1445,   1213.9,   7.4398,  35.4153,2,-999.0000,9,    209.7,2,   -999.0,9,    11.20,2,    18.22,2,     0.01,2,     1.15,2,  -999.0,9,  7.3132,   7.422,3
     64PE96N_1,  AR12,    41,  1,      3,   X021,2,19960628,1720, 48.8167, -12.1197, 1445,   1316.4,   6.3293,  35.2758,2,  35.2750,2,    224.1,2,    224.6,2,    12.32,2,    18.32,2,     0.00,2,     1.17,2,  -999.0,9,  6.2021,-999.000,9
     64PE96N_1,  AR12,    41,  1,      2,   X056,2,19960628,1720, 48.8167, -12.1197, 1445,   1416.3,   5.7597,  35.2063,2,-999.0000,9,    233.8,2,   -999.0,9,    13.37,2,    18.31,2,     0.00,2,     1.18,2,  1413.4,6,  5.6279,   5.763,2
     64PE96N_1,  AR12,    41,  1,      1,   X055,2,19960628,1720, 48.8167, -12.1197, 1445,   1462.6,   5.4943,  35.1747,3,  35.1927,6,    238.6,2,    234.4,6,    13.61,6,    18.22,6,     0.01,2,     1.18,6,  -999.0,9,  5.3607,-999.000,9
     64PE96N_1,  AR12,    42,  1,     12,   X015,2,19960628,1950, 49.0328, -11.9660, 1006,      9.7,  15.1421,  35.5433,2,  35.5460,6,    269.3,2,    269.4,6,     0.90,2,     0.04,2,     0.03,2,     0.06,2,  -999.0,9, 15.1406,-999.000,9
     64PE96N_1,  AR12,    42,  1,     11,   X034,2,19960628,1950, 49.0328, -11.9660, 1006,     51.1,  12.2978,  35.5518,2,-999.0000,9,    255.6,2,   -999.0,9,     1.69,2,     3.82,2,     0.38,2,     0.32,2,  -999.0,9, 12.2910,-999.000,9
     64PE96N_1,  AR12,    42,  1,     10,   X023,2,19960628,1950, 49.0328, -11.9660, 1006,    100.9,  11.6040,  35.5694,2,  35.5692,2,    250.6,2,    259.8,3,     2.97,2,     8.30,2,     0.03,2,     0.51,2,  -999.0,9, 11.5911,-999.000,9
     64PE96N_1,  AR12,    42,  1,      9,   X035,2,19960628,1950, 49.0328, -11.9660, 1006,    202.6,  11.2346,  35.5474,2,  35.5468,2,    252.0,2,    248.8,2,     3.44,2,     9.24,2,     0.01,2,     0.57,2,  -999.0,9, 11.2091,-999.000,9
     64PE96N_1,  AR12,    42,  1,      8,   X044,2,19960628,1950, 49.0328, -11.9660, 1006,    303.1,  11.1488,  35.5398,2,-999.0000,9,    248.8,2,   -999.0,9,     3.54,2,     9.52,2,     0.01,2,     0.60,2,   301.3,6, 11.1106,  11.149,2
     64PE96N_1,  AR12,    42,  1,      7,   X011,2,19960628,1950, 49.0328, -11.9660, 1006,    404.5,  10.8561,  35.5122,2,  35.5104,2,    235.8,2,    233.5,2,     4.57,2,    11.82,2,     0.02,2,     0.73,2,  -999.0,9, 10.8059,-999.000,9
     64PE96N_1,  AR12,    42,  1,      6,   X030,2,19960628,1950, 49.0328, -11.9660, 1006,    503.9,  10.6310,  35.4966,2,-999.0000,9,    229.9,2,   -999.0,9,     5.18,2,    12.74,2,     0.01,2,     0.79,2,  -999.0,9, 10.5690,  10.627,6
     64PE96N_1,  AR12,    42,  1,      5,   X057,2,19960628,1950, 49.0328, -11.9660, 1006,    605.8,  10.2549,  35.4681,2,  35.4676,2,    220.7,2,    220.6,2,     6.20,2,    14.03,2,     0.01,2,     0.88,2,  -999.0,9, 10.1816,-999.000,9
     64PE96N_1,  AR12,    42,  1,      4,   X031,2,19960628,1950, 49.0328, -11.9660, 1006,    708.2,   9.7984,  35.4418,2,-999.0000,9,    207.4,2,   -999.0,9,     7.62,2,    15.81,2,     0.01,2,     0.99,2,  -999.0,9,  9.7147,   9.797,6
     64PE96N_1,  AR12,    42,  1,      3,   X021,2,19960628,1950, 49.0328, -11.9660, 1006,    809.2,   9.6775,  35.5342,2,  35.5338,2,    201.7,2,    202.4,2,     8.43,2,    16.03,2,     0.00,2,     1.01,2,  -999.0,9,  9.5819,-999.000,9
     64PE96N_1,  AR12,    42,  1,      2,   X056,2,19960628,1950, 49.0328, -11.9660, 1006,    909.4,   9.2556,  35.5497,2,-999.0000,9,    195.2,2,   -999.0,9,     9.47,2,    17.29,2,     0.00,2,     1.08,2,   905.9,6,  9.1504,   9.254,2
     64PE96N_1,  AR12,    42,  1,      1,   X055,2,19960628,1950, 49.0328, -11.9660, 1006,   1020.0,   8.4450,  35.5163,2,  35.5168,6,    206.4,2,    202.8,6,    10.72,6,    17.44,6,     0.00,2,     1.10,6,  -999.0,9,  8.3322,-999.000,9