BOTTLE,20020320WHPSIOKJU
EXPOCODE,SECT_ID,STNNBR,CASTNO,SAMPNO,BTLNBR,BTLNBR_FLAG_W,DATE,TIME,LATITUDE,LONGITUDE,DEPTH,CTDPRS,CTDTMP,CTDSAL,CTDSAL_FLAG_W,SALNTY,SALNTY_FLAG_W,CTDOXY,CTDOXY_FLAG_W,OXYGEN,OXYGEN_FLAG_W,SILCAT,SILCAT_FLAG_W,NITRAT,NITRAT_FLAG_W,NITRIT,NITRIT_FLAG_W,PHSPHT,PHSPHT_FLAG_W,REVPRS,REVPRS_FLAG_W,THETA,REVTMP,REVTMP_FLAG_W
,,,,,,,,,,,,DBAR,ITS-90,PSS-78,,PSS-78,,UMOL/KG,,UMOL/KG,,UMOL/KG,,UMOL/KG,,UMOL/KG,,UMOL/KG,,DBAR,,DEG C,ITS-90,
     64PE96N_1,  AR12,    90,  1,     22,   X049,2,19960711,1709, 47.2498,  -7.7503, 4157,      9.7,  15.6463,  35.6018,2,  35.5990,6,    262.3,2,    262.4,6,     0.43,2,     0.00,2,     0.00,2,     0.04,2,  -999.0,9, 15.6448,  15.521,4
     64PE96N_1,  AR12,    90,  1,     21,   X048,2,19960711,1709, 47.2498,  -7.7503, 4157,    100.2,  12.0026,  35.5922,2,  35.5929,2,    246.2,2,    242.9,2,     2.35,2,     6.75,2,     0.02,2,     0.39,2,  -999.0,9, 11.9895,  11.998,2
     64PE96N_1,  AR12,    90,  1,     20,   X046,2,19960711,1709, 47.2498,  -7.7503, 4157,    202.0,  11.4116,  35.5659,2,-999.0000,9,    246.3,2,   -999.0,9,     3.21,2,     8.84,2,     0.01,2,     0.53,2,  -999.0,9, 11.3859,  11.418,2
     64PE96N_1,  AR12,    90,  1,     19,   X047,2,19960711,1709, 47.2498,  -7.7503, 4157,    403.8,  10.9190,  35.5175,2,  35.5169,2,    230.7,2,    231.2,2,     4.63,2,    11.90,2,     0.00,2,     0.71,2,  -999.0,9, 10.8687,  10.917,2
     64PE96N_1,  AR12,    90,  1,     18,   X014,2,19960711,1709, 47.2498,  -7.7503, 4157,    606.2,  10.2887,  35.4869,2,-999.0000,9,    217.2,2,   -999.0,9,     6.49,2,    14.23,2,     0.00,2,     0.87,2,  -999.0,9, 10.2152,  10.285,2
     64PE96N_1,  AR12,    90,  1,     17,   X032,2,19960711,1709, 47.2498,  -7.7503, 4157,    707.4,  10.0713,  35.5411,2,  35.5422,2,    204.6,2,    203.9,2,     7.61,2,    15.38,2,     0.00,2,     0.95,2,  -999.0,9,  9.9862,  10.066,2
     64PE96N_1,  AR12,    90,  1,     16,   X026,2,19960711,1709, 47.2498,  -7.7503, 4157,    807.7,   9.9210,  35.6106,2,-999.0000,9,    198.2,2,   -999.0,9,     8.38,2,    15.91,2,     0.00,2,     0.98,2,  -999.0,9,  9.8241,   9.920,2
     64PE96N_1,  AR12,    90,  1,     15,   X059,2,19960711,1709, 47.2498,  -7.7503, 4157,    909.6,   9.6742,  35.6532,2,  35.6549,2,    192.9,2,    193.5,2,     9.24,2,    16.53,2,     0.00,2,     1.02,2,  -999.0,9,  9.5661,   9.675,2
     64PE96N_1,  AR12,    90,  1,     14,   X025,2,19960711,1709, 47.2498,  -7.7503, 4157,   1009.8,   9.3352,  35.6605,2,-999.0000,9,    192.2,2,   -999.0,9,     9.90,2,    16.86,2,     0.00,2,     1.04,2,  -999.0,9,  9.2170,   9.336,2
     64PE96N_1,  AR12,    90,  1,     13,   X058,4,19960711,1709, 47.2498,  -7.7503, 4157,   1265.0,   7.5305,  35.4657,2,  35.5455,4,    206.7,2,    219.4,4,     6.70,4,    13.92,4,     0.00,2,     0.85,4,  -999.0,9,  7.3972,   7.560,4
     64PE96N_1,  AR12,    90,  1,     12,   X015,2,19960711,1709, 47.2498,  -7.7503, 4157,   1518.8,   5.2952,  35.1498,2,-999.0000,9,    235.8,2,   -999.0,9,    12.76,2,    18.14,2,     0.00,2,     1.16,2,  -999.0,9,  5.1581,   5.319,4
     64PE96N_1,  AR12,    90,  1,     11,   X034,2,19960711,1709, 47.2498,  -7.7503, 4157,   1771.7,   4.1315,  35.0045,2,  35.0619,4,    253.1,2,    252.5,2,    13.71,2,    17.83,2,     0.00,2,     1.15,2,  -999.0,9,  3.9841,   4.131,2
     64PE96N_1,  AR12,    90,  1,     10,   X023,2,19960711,1709, 47.2498,  -7.7503, 4157,   2027.4,   3.8523,  35.0103,2,-999.0000,9,    248.1,2,   -999.0,9,    19.63,2,    18.55,2,     0.00,2,     1.23,2,  -999.0,9,  3.6842,   3.852,2
     64PE96N_1,  AR12,    90,  1,      9,   X035,2,19960711,1709, 47.2498,  -7.7503, 4157,   2281.1,   3.3345,  34.9813,2,  34.9804,2,    246.2,2,    248.5,2,    26.05,2,    19.70,2,     0.00,2,     1.31,2,  -999.0,9,  3.1499,   3.333,2
     64PE96N_1,  AR12,    90,  1,      8,   X044,2,19960711,1709, 47.2498,  -7.7503, 4157,   2535.6,   3.0765,  34.9659,2,-999.0000,9,    242.4,2,   -999.0,9,    31.59,2,    20.57,2,     0.00,2,     1.37,2,  2539.3,6,  2.8715,   3.080,6
     64PE96N_1,  AR12,    90,  1,      7,   X011,2,19960711,1709, 47.2498,  -7.7503, 4157,   2791.1,   2.8961,  34.9503,2,  34.9539,2,    242.1,2,    243.3,6,    33.88,2,    20.82,2,     0.00,2,     1.40,2,  -999.0,9,  2.6690,   2.900,2
     64PE96N_1,  AR12,    90,  1,      6,   X061,2,19960711,1709, 47.2498,  -7.7503, 4157,   3047.1,   2.7651,  34.9378,2,-999.0000,9,    241.4,2,   -999.0,9,    36.38,2,    21.24,2,     0.01,2,     1.43,2,  -999.0,9,  2.5144,   2.763,6
     64PE96N_1,  AR12,    90,  1,      5,   X057,4,19960711,1709, 47.2498,  -7.7503, 4157,   3303.0,   2.6797,  34.9295,2,  35.0322,4,    240.6,2,    238.1,4,    32.17,4,    20.20,2,     0.00,4,     1.34,4,  -999.0,9,  2.4041,   2.680,2
     64PE96N_1,  AR12,    90,  1,      4,   X031,2,19960711,1709, 47.2498,  -7.7503, 4157,   3558.6,   2.6281,  34.9230,2,-999.0000,9,    240.3,2,   -999.0,9,    39.37,2,    21.71,2,     0.00,2,     1.47,2,  -999.0,9,  2.3260,   2.627,6
     64PE96N_1,  AR12,    90,  1,      3,   X021,2,19960711,1709, 47.2498,  -7.7503, 4157,   3764.6,   2.5515,  34.9150,2,  34.9144,2,    239.7,2,    240.6,2,    41.29,2,    21.87,2,     0.01,2,     1.48,2,  -999.0,9,  2.2284,   2.551,2
     64PE96N_1,  AR12,    90,  1,      2,   X056,4,19960711,1709, 47.2498,  -7.7503, 4157,   4071.9,   2.5047,  34.9077,2,-999.0000,9,    239.3,2,   -999.0,9,    40.72,4,    21.86,4,     0.01,4,     1.48,4,  3764.9,4,  2.1479,   2.504,2
     64PE96N_1,  AR12,    90,  1,      1,   X051,2,19960711,1709, 47.2498,  -7.7503, 4157,   4311.6,   2.4966,  34.9039,2,  34.9072,6,    238.7,2,    237.7,6,    42.98,6,    22.29,6,     0.01,2,     1.50,6,  -999.0,9,  2.1119,   2.496,2
     64PE96N_1,  AR12,    91,  1,     20,   X046,2,19960711,2113, 47.1667,  -7.8330, 4220,      8.7,  15.9111,  35.6050,2,  35.6059,6,    256.1,2,    256.2,6,  -999.00,9,  -999.00,9,  -999.00,5,  -999.00,9,  -999.0,9, 15.9097,-999.000,9
     64PE96N_1,  AR12,    91,  1,     19,   X047,2,19960711,2113, 47.1667,  -7.8330, 4220,    101.0,  11.8770,  35.5873,2,  35.5892,2,    248.3,2,    244.6,2,     2.32,2,     7.00,2,     0.04,2,     0.42,2,  -999.0,9, 11.8639,-999.000,9
     64PE96N_1,  AR12,    91,  1,     18,   X014,2,19960711,2113, 47.1667,  -7.8330, 4220,    201.0,  11.4747,  35.5717,2,-999.0000,9,    247.7,2,   -999.0,9,     2.87,2,     8.39,2,     0.05,2,     0.50,2,  -999.0,9, 11.4490,-999.000,9
     64PE96N_1,  AR12,    91,  1,     17,   X032,2,19960711,2113, 47.1667,  -7.8330, 4220,    401.6,  11.0385,  35.5345,2,  35.5286,3,    231.9,2,    230.4,2,     4.37,2,    11.90,2,     0.03,2,     0.71,2,  -999.0,9, 10.9882,-999.000,9
     64PE96N_1,  AR12,    91,  1,     16,   X026,2,19960711,2113, 47.1667,  -7.8330, 4220,    604.7,  10.4746,  35.5253,2,-999.0000,9,    218.0,2,   -999.0,9,     6.18,2,    14.23,2,     0.03,2,     0.87,2,  -999.0,9, 10.4005,-999.000,9
     64PE96N_1,  AR12,    91,  1,     15,   X059,2,19960711,2113, 47.1667,  -7.8330, 4220,    705.4,  10.0722,  35.5442,2,  35.5462,2,    206.9,2,    202.6,2,     7.69,2,    15.70,2,     0.03,2,     0.96,2,  -999.0,9,  9.9873,-999.000,9
     64PE96N_1,  AR12,    91,  1,     14,   X025,2,19960711,2113, 47.1667,  -7.8330, 4220,    806.9,   9.9221,  35.6117,2,-999.0000,9,    201.2,2,   -999.0,9,     8.48,2,    16.21,2,     0.02,2,     0.99,2,  -999.0,9,  9.8253,-999.000,9
     64PE96N_1,  AR12,    91,  1,     13,   X058,2,19960711,2113, 47.1667,  -7.8330, 4220,    909.1,   9.6703,  35.6818,2,  35.6320,3,    194.2,2,    198.9,2,     8.47,2,    16.18,2,     0.03,2,     0.98,2,  -999.0,9,  9.5622,-999.000,9
     64PE96N_1,  AR12,    91,  1,     12,   X015,2,19960711,2113, 47.1667,  -7.8330, 4220,   1010.3,   9.0462,  35.6498,2,-999.0000,9,    197.5,2,   -999.0,9,    10.39,2,    17.31,2,     0.03,2,     1.07,2,  -999.0,9,  8.9300,-999.000,9
     64PE96N_1,  AR12,    91,  1,     11,   X034,2,19960711,2113, 47.1667,  -7.8330, 4220,   1262.0,   7.5118,  35.4715,2,  35.4833,3,    209.9,2,    208.3,2,    11.40,2,    17.83,2,     0.03,2,     1.11,2,  -999.0,9,  7.3790,-999.000,9
     64PE96N_1,  AR12,    91,  1,     10,   X023,2,19960711,2113, 47.1667,  -7.8330, 4220,   1516.4,   5.4991,  35.1809,2,-999.0000,9,    234.3,2,   -999.0,9,    13.07,2,    18.42,2,     0.02,2,     1.16,2,  -999.0,9,  5.3599,-999.000,9
     64PE96N_1,  AR12,    91,  1,      9,   X035,2,19960711,2113, 47.1667,  -7.8330, 4220,   1771.8,   4.1031,  34.9904,2,  34.9895,2,    257.3,2,    259.9,2,    13.34,2,    18.15,2,     0.03,2,     1.17,2,  -999.0,9,  3.9561,-999.000,9
     64PE96N_1,  AR12,    91,  1,      8,   X044,2,19960711,2113, 47.1667,  -7.8330, 4220,   2025.8,   3.8199,  34.9919,2,-999.0000,9,    255.0,2,   -999.0,9,    17.02,2,    18.57,2,     0.02,2,     1.20,2,  2029.8,6,  3.6525,   3.819,2
     64PE96N_1,  AR12,    91,  1,      7,   X011,2,19960711,2113, 47.1667,  -7.8330, 4220,   2280.1,   3.5771,  34.9953,2,  35.0024,3,    248.7,2,    249.8,2,    22.46,2,    19.35,2,     0.01,2,     1.27,2,  -999.0,9,  3.3885,-999.000,9
     64PE96N_1,  AR12,    91,  1,      6,   X061,2,19960711,2113, 47.1667,  -7.8330, 4220,   2535.7,   3.2314,  34.9752,2,-999.0000,9,    245.6,2,   -999.0,9,    28.51,2,    20.28,2,     0.00,2,     1.33,2,  -999.0,9,  3.0235,   3.233,6
     64PE96N_1,  AR12,    91,  1,      5,   X057,2,19960711,2113, 47.1667,  -7.8330, 4220,   2790.8,   2.9657,  34.9555,2,  35.0022,3,    243.6,2,    241.5,2,    30.41,2,    20.38,2,     0.02,2,     1.34,2,  -999.0,9,  2.7372,-999.000,9
     64PE96N_1,  AR12,    91,  1,      4,   X031,2,19960711,2113, 47.1667,  -7.8330, 4220,   3046.4,   2.7998,  34.9406,2,-999.0000,9,    242.6,2,   -999.0,9,    36.17,2,    21.43,2,     0.03,2,     1.43,2,  -999.0,9,  2.5485,   2.799,6
     64PE96N_1,  AR12,    91,  1,      3,   X021,2,19960711,2113, 47.1667,  -7.8330, 4220,   3302.8,   2.6724,  34.9285,2,  34.9070,3,    242.2,2,    241.8,2,    38.23,2,    21.72,2,     0.01,2,     1.45,2,  -999.0,9,  2.3970,-999.000,9
     64PE96N_1,  AR12,    91,  1,      2,   X056,2,19960711,2113, 47.1667,  -7.8330, 4220,   3558.6,   2.6095,  34.9213,2,-999.0000,9,    241.3,2,   -999.0,9,    39.47,2,    21.94,2,     0.01,2,     1.46,2,  3558.4,6,  2.3078,   2.609,2
     64PE96N_1,  AR12,    91,  1,      1,   X051,2,19960711,2113, 47.1667,  -7.8330, 4220,   3813.0,   2.5436,  34.9135,2,  34.9077,3,    240.7,2,    237.7,6,    43.21,6,    22.42,6,     0.03,2,     1.50,6,  -999.0,9,  2.2153,-999.000,9
     64PE96N_1,  AR12,    92,  1,     18,   X014,4,19960712,0159, 47.0000,  -8.0007, 4417,     10.0,  15.6061,  35.6012,2,  35.1516,4,    254.6,2,    254.7,4,    25.03,4,    17.08,4,     0.03,4,     1.12,4,  -999.0,9, 15.6045,-999.000,9
     64PE96N_1,  AR12,    92,  1,     17,   X032,2,19960712,0159, 47.0000,  -8.0007, 4417,    100.9,  11.6518,  35.5792,2,  35.5795,2,    241.0,2,    245.8,2,     2.67,2,     7.88,2,     0.05,2,     0.48,2,  -999.0,9, 11.6388,-999.000,9
     64PE96N_1,  AR12,    92,  1,     16,   X026,2,19960712,0159, 47.0000,  -8.0007, 4417,    201.2,  11.3952,  35.5600,2,-999.0000,9,    238.7,2,   -999.0,9,     2.87,2,     8.09,2,     0.04,2,     0.49,2,  -999.0,9, 11.3696,-999.000,9
     64PE96N_1,  AR12,    92,  1,     15,   X059,2,19960712,0159, 47.0000,  -8.0007, 4417,    404.2,  11.2197,  35.5471,2,  35.5483,2,    228.0,2,   -999.0,9,     3.70,2,    10.01,2,     0.04,2,     0.60,2,  -999.0,9, 11.1685,-999.000,9
     64PE96N_1,  AR12,    92,  1,     14,   X025,2,19960712,0159, 47.0000,  -8.0007, 4417,    605.3,  10.5726,  35.5079,2,-999.0000,9,    215.1,2,   -999.0,9,     5.62,2,    13.47,2,     0.05,2,     0.81,2,  -999.0,9, 10.4980,-999.000,9
     64PE96N_1,  AR12,    92,  1,     13,   X058,2,19960712,0159, 47.0000,  -8.0007, 4417,    707.1,  10.2188,  35.5186,2,  35.5237,2,    206.1,2,    206.9,2,     7.12,2,    15.22,2,     0.03,2,     0.93,2,  -999.0,9, 10.1330,-999.000,9
     64PE96N_1,  AR12,    92,  1,     12,   X015,2,19960712,0159, 47.0000,  -8.0007, 4417,    807.1,  10.1235,  35.5982,2,-999.0000,9,    198.0,2,   -999.0,9,     8.28,2,    16.28,2,     0.04,2,     0.99,2,  -999.0,9, 10.0255,-999.000,9
     64PE96N_1,  AR12,    92,  1,     11,   X034,2,19960712,0159, 47.0000,  -8.0007, 4417,   1009.8,   9.5715,  35.7267,2,  35.7250,2,    193.5,2,    189.3,2,     9.78,2,    17.11,2,     0.06,2,     1.03,2,  -999.0,9,  9.4515,-999.000,9
     64PE96N_1,  AR12,    92,  1,     10,   X023,2,19960712,0159, 47.0000,  -8.0007, 4417,   1264.1,   7.6828,  35.5057,2,-999.0000,9,    207.1,2,   -999.0,9,    11.59,2,    18.02,2,     0.03,2,     1.12,2,  -999.0,9,  7.5482,-999.000,9
     64PE96N_1,  AR12,    92,  1,      9,   X035,2,19960712,0159, 47.0000,  -8.0007, 4417,   1517.3,   5.2769,  35.1506,2,  35.1570,4,    233.8,2,    238.6,2,    13.12,2,    18.32,2,     0.04,2,     1.16,2,  -999.0,9,  5.1402,-999.000,9
     64PE96N_1,  AR12,    92,  1,      8,   X044,2,19960712,0159, 47.0000,  -8.0007, 4417,   1772.4,   4.1124,  34.9899,2,-999.0000,9,    250.5,2,   -999.0,9,    13.10,6,    18.06,2,     0.03,2,     1.17,6,  1774.8,6,  3.9652,   4.115,2
     64PE96N_1,  AR12,    92,  1,      7,   X011,2,19960712,0159, 47.0000,  -8.0007, 4417,   2026.2,   3.8620,  35.0069,2,  35.0103,2,    246.9,2,    252.7,2,    18.90,2,    18.83,2,     0.03,2,     1.22,2,  -999.0,9,  3.6938,-999.000,9
     64PE96N_1,  AR12,    92,  1,      6,   X061,2,19960712,0159, 47.0000,  -8.0007, 4417,   2281.9,   3.4768,  34.9869,2,-999.0000,9,    247.1,2,   -999.0,9,    23.42,2,    19.39,2,     0.04,2,     1.27,2,  -999.0,9,  3.2897,   3.476,6
     64PE96N_1,  AR12,    92,  1,      5,   X057,2,19960712,0159, 47.0000,  -8.0007, 4417,   2536.1,   3.1290,  34.9672,2,  35.0051,3,    246.4,2,    245.6,2,    27.31,2,    19.92,2,     0.03,2,     1.31,2,  -999.0,9,  2.9230,-999.000,9
     64PE96N_1,  AR12,    92,  1,      4,   X031,2,19960712,0159, 47.0000,  -8.0007, 4417,   2792.4,   2.9216,  34.9522,2,-999.0000,9,    244.9,2,   -999.0,9,    33.90,2,    21.08,2,     0.04,2,     1.40,2,  -999.0,9,  2.6939,   2.920,6
     64PE96N_1,  AR12,    92,  1,      2,   X056,2,19960712,0159, 47.0000,  -8.0007, 4417,   3046.0,   2.7529,  34.9372,2,-999.0000,9,    244.9,2,   -999.0,9,    36.73,2,    21.56,2,     0.04,2,     1.43,2,  3044.4,6,  2.5026,   2.756,2
     64PE96N_1,  AR12,    92,  1,      3,   X021,2,19960712,0159, 47.0000,  -8.0007, 4417,   3046.0,   2.7529,  34.9372,2,  34.9368,2,    244.9,2,    242.6,2,    36.84,2,    21.55,2,     0.05,2,     1.43,2,  -999.0,9,  2.5026,-999.000,9
     64PE96N_1,  AR12,    92,  1,      1,   X051,2,19960712,0159, 47.0000,  -8.0007, 4417,   4521.4,   2.4996,  34.9017,2,  34.9036,6,    239.2,2,    236.9,6,    44.30,2,    22.51,2,     0.05,2,     1.50,2,  -999.0,9,  2.0896,-999.000,9
     64PE96N_1,  AR12,    94,  1,      4,   X031,2,19960713,0610, 48.3337,  -9.3348,  146,     10.0,  14.8879,  35.5743,2,  35.5750,2,    263.4,2,    263.5,6,     0.71,2,     0.33,2,     0.06,2,     0.07,2,  -999.0,9, 14.8864,  14.882,6
     64PE96N_1,  AR12,    94,  1,      3,   X021,2,19960713,0610, 48.3337,  -9.3348,  146,     51.0,  12.7780,  35.5581,2,  35.5603,2,    250.1,2,    247.3,2,     1.85,2,     4.85,2,     0.13,2,     0.26,2,  -999.0,9, 12.7711,-999.000,9
     64PE96N_1,  AR12,    94,  1,      2,   X056,2,19960713,0610, 48.3337,  -9.3348,  146,    100.3,  11.5826,  35.5570,2,-999.0000,9,    244.2,2,   -999.0,9,     3.07,2,     8.21,2,     0.05,2,     0.49,2,    99.9,6, 11.5698,  11.584,2
     64PE96N_1,  AR12,    94,  1,      1,   X051,2,19960713,0610, 48.3337,  -9.3348,  146,    146.1,  11.5637,  35.5573,2,  35.5565,2,    245.7,2,    238.1,6,     3.10,2,     8.31,2,     0.05,2,     0.50,2,  -999.0,9, 11.5450,-999.000,9
     64PE96N_1,  AR12,    95,  1,      7,   X011,2,19960713,0742, 48.1667,  -9.4162,  440,     10.0,  16.2718,  35.6315,2,  35.6289,6,    257.0,2,    257.1,6,     0.13,2,     0.06,2,     0.02,2,     0.06,2,  -999.0,9, 16.2702,-999.000,9
     64PE96N_1,  AR12,    95,  1,      6,   X061,2,19960713,0742, 48.1667,  -9.4162,  440,     50.8,  13.1867,  35.5903,2,-999.0000,9,    252.0,2,   -999.0,9,     0.74,2,     2.67,2,     0.33,2,     0.20,2,  -999.0,9, 13.1796,  13.161,4
     64PE96N_1,  AR12,    95,  1,      5,   X057,2,19960713,0742, 48.1667,  -9.4162,  440,    102.0,  11.9078,  35.5830,2,  35.5807,2,    246.4,2,    244.8,2,     2.23,2,     6.96,2,     0.05,2,     0.41,2,  -999.0,9, 11.8945,-999.000,9
     64PE96N_1,  AR12,    95,  1,      4,   X031,2,19960713,0742, 48.1667,  -9.4162,  440,    200.3,  11.4077,  35.5584,2,-999.0000,9,    243.7,2,   -999.0,9,     3.09,2,     8.73,2,     0.05,2,     0.51,2,  -999.0,9, 11.3822,  11.404,6
     64PE96N_1,  AR12,    95,  1,      3,   X021,2,19960713,0742, 48.1667,  -9.4162,  440,    302.3,  11.2226,  35.5493,2,  35.5486,2,    241.4,2,    241.9,2,     3.59,2,     9.59,2,     0.04,2,     0.58,2,  -999.0,9, 11.1844,-999.000,9
     64PE96N_1,  AR12,    95,  1,      2,   X056,2,19960713,0742, 48.1667,  -9.4162,  440,    404.6,  11.0168,  35.5431,2,-999.0000,9,    236.8,2,   -999.0,9,     4.23,2,    10.57,2,     0.06,2,     0.64,2,   401.4,6, 10.9661,  11.019,2
     64PE96N_1,  AR12,    95,  1,      1,   X051,2,19960713,0742, 48.1667,  -9.4162,  440,    444.8,  10.8792,  35.5411,2,  35.5408,6,    238.0,2,    232.0,6,     4.73,2,    11.32,2,     0.05,2,     0.69,2,  -999.0,9, 10.8238,-999.000,9