BOTTLE,20020320WHPSIOKJU
#code : jjward hyd_to_exchange.pl 
#original files copied from HTML directory: 20020320
#original HYD file: ar12_ehy.txt   Mon Feb 21 13:11:39 2000
#original SUM file: ar12_esu.txt   Wed Mar 20 12:14:05 2002
EXPOCODE,SECT_ID,STNNBR,CASTNO,SAMPNO,BTLNBR,BTLNBR_FLAG_W,DATE,TIME,LATITUDE,LONGITUDE,DEPTH,CTDPRS,CTDTMP,CTDSAL,CTDSAL_FLAG_W,SALNTY,SALNTY_FLAG_W,CTDOXY,CTDOXY_FLAG_W,OXYGEN,OXYGEN_FLAG_W,SILCAT,SILCAT_FLAG_W,NITRAT,NITRAT_FLAG_W,NITRIT,NITRIT_FLAG_W,PHSPHT,PHSPHT_FLAG_W,REVPRS,REVPRS_FLAG_W,THETA,REVTMP,REVTMP_FLAG_W
,,,,,,,,,,,,DBAR,ITS-90,PSS-78,,PSS-78,,UMOL/KG,,UMOL/KG,,UMOL/KG,,UMOL/KG,,UMOL/KG,,UMOL/KG,,DBAR,,DEG C,ITS-90,
     64PE96N_1,  AR12,    16,  1,      4,   X031,2,19960623,0838, 46.9335,  -5.0983,  146,     10.4,  15.0878,  35.5851,2,-999.0000,9,    266.7,2,    266.8,2,     0.39,2,     0.20,2,     0.04,2,     0.07,2,  -999.0,9, 15.0862,-999.000,9
     64PE96N_1,  AR12,    16,  1,      3,   X042,2,19960623,0838, 46.9335,  -5.0983,  146,     50.1,  12.1216,  35.5881,2,-999.0000,9,    240.4,2,    240.4,2,     1.81,2,     4.67,2,     0.21,2,     0.27,2,  -999.0,9, 12.1150,-999.000,9
     64PE96N_1,  AR12,    16,  1,      2,   X019,2,19960623,0838, 46.9335,  -5.0983,  146,    102.8,  11.7798,  35.5791,2,-999.0000,9,    229.0,2,    228.8,2,     3.03,2,     6.96,2,     0.06,2,     0.40,2,  -999.0,9, 11.7665,-999.000,9
     64PE96N_1,  AR12,    16,  1,      1,   X041,2,19960623,0838, 46.9335,  -5.0983,  146,    150.3,  11.7355,  35.5693,2,-999.0000,9,    228.2,2,    228.3,6,     3.04,2,     6.81,2,     0.08,2,     0.41,2,  -999.0,9, 11.7161,-999.000,9
     64PE96N_1,  AR12,    17,  1,      5,   X001,2,19960623,0942, 46.8623,  -5.2008,  183,     10.5,  15.8978,  35.6373,2,-999.0000,9,    258.9,2,    259.0,2,     0.68,2,     0.00,2,     0.02,2,     0.06,2,  -999.0,9, 15.8961,-999.000,9
     64PE96N_1,  AR12,    17,  1,      4,   X031,3,19960623,0942, 46.8623,  -5.2008,  183,     50.4,  12.6553,  35.5991,2,-999.0000,9,    245.5,2,    237.9,3,     2.89,3,     7.75,2,     0.05,3,     0.44,3,  -999.0,9, 12.6485,-999.000,9
     64PE96N_1,  AR12,    17,  1,      3,   X042,2,19960623,0942, 46.8623,  -5.2008,  183,    101.3,  12.1250,  35.5942,2,-999.0000,9,    238.3,2,    238.5,2,     2.30,2,     5.96,2,     0.14,2,     0.35,2,  -999.0,9, 12.1116,-999.000,9
     64PE96N_1,  AR12,    17,  1,      2,   X019,2,19960623,0942, 46.8623,  -5.2008,  183,    152.0,  11.8036,  35.5970,2,-999.0000,9,    239.7,2,    241.4,2,     2.72,2,     7.39,2,     0.05,2,     0.43,2,  -999.0,9, 11.7839,-999.000,9
     64PE96N_1,  AR12,    17,  1,      1,   X041,2,19960623,0942, 46.8623,  -5.2008,  183,    185.2,  11.6738,  35.5902,2,-999.0000,9,    238.6,2,    237.0,6,     3.06,2,     8.11,2,     0.05,2,     0.47,2,  -999.0,9, 11.6499,-999.000,9
     64PE96N_1,  AR12,    18,  1,     12,   X045,2,19960623,1129, 46.8020,  -5.3007,  907,      9.1,  15.8320,  35.6320,2,-999.0000,9,    259.1,2,   -999.0,9,     0.50,2,     0.05,2,     0.01,2,     0.07,2,  -999.0,9, 15.8306,-999.000,9
     64PE96N_1,  AR12,    18,  1,     11,   X024,4,19960623,1129, 46.8020,  -5.3007,  907,     49.9,  13.1391,  35.6282,2,-999.0000,9,    249.1,2,   -999.0,9,     5.57,4,    13.52,4,     0.00,4,     0.79,4,  -999.0,9, 13.1322,-999.000,9
     64PE96N_1,  AR12,    18,  1,     10,   X023,2,19960623,1129, 46.8020,  -5.3007,  907,    100.4,  12.1281,  35.6205,2,-999.0000,9,    243.5,2,   -999.0,9,     2.59,2,     7.71,2,     0.01,2,     0.44,2,  -999.0,9, 12.1149,-999.000,9
     64PE96N_1,  AR12,    18,  1,      9,   X008,4,19960623,1129, 46.8020,  -5.3007,  907,    201.4,  11.6026,  35.5813,2,-999.0000,9,    244.0,2,   -999.0,9,     5.96,4,    13.96,4,     0.01,4,     0.83,4,  -999.0,9, 11.5767,-999.000,9
     64PE96N_1,  AR12,    18,  1,      8,   X044,2,19960623,1129, 46.8020,  -5.3007,  907,    301.4,  11.3938,  35.5743,2,-999.0000,9,    230.3,2,   -999.0,9,     3.60,2,    10.46,2,     0.02,2,     0.61,2,  -999.0,9, 11.3553,-999.000,9
     64PE96N_1,  AR12,    18,  1,      7,   X043,2,19960623,1129, 46.8020,  -5.3007,  907,    402.8,  11.0776,  35.5618,2,-999.0000,9,    222.1,2,   -999.0,9,     4.41,2,    12.10,2,     0.02,2,     0.70,2,  -999.0,9, 11.0270,-999.000,9
     64PE96N_1,  AR12,    18,  1,      6,   X030,2,19960623,1129, 46.8020,  -5.3007,  907,    504.4,  10.7765,  35.5487,2,-999.0000,9,    216.4,2,   -999.0,9,     3.95,2,    10.33,2,     0.00,2,     0.60,2,  -999.0,9, 10.7139,-999.000,9
     64PE96N_1,  AR12,    18,  1,      5,   X001,2,19960623,1129, 46.8020,  -5.3007,  907,    605.8,  10.5694,  35.5507,2,-999.0000,9,    210.6,2,   -999.0,9,     5.11,2,    12.39,2,     0.01,2,     0.73,2,  -999.0,9, 10.4947,-999.000,9
     64PE96N_1,  AR12,    18,  1,      4,   X031,2,19960623,1129, 46.8020,  -5.3007,  907,    705.6,  10.2828,  35.5892,2,-999.0000,9,    200.8,2,   -999.0,9,     7.24,2,    15.23,2,     0.01,2,     0.91,2,  -999.0,9, 10.1968,-999.000,9
     64PE96N_1,  AR12,    18,  1,      3,   X042,2,19960623,1129, 46.8020,  -5.3007,  907,    808.2,   9.9286,  35.6375,2,-999.0000,9,    198.2,2,   -999.0,9,     8.31,2,    15.81,2,     0.01,2,     0.95,2,  -999.0,9,  9.8316,-999.000,9
     64PE96N_1,  AR12,    18,  1,      2,   X019,2,19960623,1129, 46.8020,  -5.3007,  907,    909.9,   9.6003,  35.6394,2,-999.0000,9,    200.0,2,   -999.0,9,     8.99,2,    16.21,2,     0.01,2,     0.98,2,  -999.0,9,  9.4926,-999.000,9
     64PE96N_1,  AR12,    18,  1,      1,   X041,4,19960623,1129, 46.8020,  -5.3007,  907,    952.3,   9.5111,  35.6396,2,-999.0000,9,    200.3,2,   -999.0,9,     7.08,4,    14.97,4,     0.00,4,     0.90,4,  -999.0,9,  9.3988,-999.000,9
     64PE96N_1,  AR12,    20,  1,     24,   X051,2,19960623,1847, 46.7013,  -5.4707, -999,     10.9,  17.4812,  35.6799,2,  35.6795,6,    250.6,2,    250.7,6,     1.34,2,     0.04,2,     0.02,2,     0.08,2,  -999.0,9, 17.4794,-999.000,9
     64PE96N_1,  AR12,    20,  1,     23,   X050,2,19960623,1847, 46.7013,  -5.4707, -999,     50.7,  13.2187,  35.6175,2,  35.6184,2,    255.1,2,    252.9,2,     1.32,2,     1.59,2,     0.20,2,     0.14,2,  -999.0,9, 13.2116,-999.000,9
     64PE96N_1,  AR12,    20,  1,     22,   X049,2,19960623,1847, 46.7013,  -5.4707, -999,    101.3,  12.4720,  35.6273,2,-999.0000,9,    244.9,2,   -999.0,9,     2.05,2,     5.08,2,     0.05,2,     0.29,2,  -999.0,9, 12.4584,-999.000,9
     64PE96N_1,  AR12,    20,  1,     21,   X048,2,19960623,1847, 46.7013,  -5.4707, -999,    202.6,  11.6756,  35.5858,2,  35.5931,2,   -999.0,9,    247.9,2,     2.58,2,     7.22,2,     0.04,2,     0.42,2,  -999.0,9, 11.6494,-999.000,9
     64PE96N_1,  AR12,    20,  1,     20,   X047,2,19960623,1847, 46.7013,  -5.4707, -999,    304.1,  11.4156,  35.5651,2,-999.0000,9,    250.0,2,   -999.0,9,     2.97,2,     8.21,2,     0.02,2,     0.48,2,  -999.0,9, 11.3767,-999.000,9
     64PE96N_1,  AR12,    20,  1,     19,   X046,2,19960623,1847, 46.7013,  -5.4707, -999,    404.9,  11.2196,  35.5610,2,  35.5623,2,    230.9,2,    232.7,2,     4.21,2,    11.07,2,     0.03,2,     0.65,2,  -999.0,9, 11.1683,-999.000,9
     64PE96N_1,  AR12,    20,  1,     18,   X014,2,19960623,1847, 46.7013,  -5.4707, -999,    505.5,  10.8679,  35.5458,2,-999.0000,9,   -999.0,9,   -999.0,9,     5.14,2,    12.43,2,     0.03,2,     0.75,2,  -999.0,9, 10.8048,-999.000,9
     64PE96N_1,  AR12,    20,  1,     17,   X026,2,19960623,1847, 46.7013,  -5.4707, -999,    605.6,  10.5313,  35.5479,2,  35.5499,2,    214.5,2,    213.3,2,     6.38,2,    14.35,2,     0.03,2,     0.86,2,  -999.0,9, 10.4568,-999.000,9
     64PE96N_1,  AR12,    20,  1,     16,   X032,2,19960623,1847, 46.7013,  -5.4707, -999,    707.9,  10.3814,  35.6048,2,-999.0000,9,    202.5,2,   -999.0,9,     7.64,2,    15.59,2,     0.03,2,     0.95,2,  -999.0,9, 10.2946,-999.000,9
     64PE96N_1,  AR12,    20,  1,     15,   X007,2,19960623,1847, 46.7013,  -5.4707, -999,    809.3,  10.1891,  35.6929,2,  35.7018,4,    193.7,2,    191.9,2,     8.71,2,    16.51,2,     0.02,2,     1.01,2,  -999.0,9, 10.0904,-999.000,9
     64PE96N_1,  AR12,    20,  1,     14,   X025,2,19960623,1847, 46.7013,  -5.4707, -999,    909.9,  10.0827,  35.7668,2,-999.0000,9,    189.2,2,   -999.0,9,     9.32,2,    16.83,2,     0.03,2,     1.03,2,  -999.0,9,  9.9718,-999.000,9
     64PE96N_1,  AR12,    20,  1,     13,   X009,2,19960623,1847, 46.7013,  -5.4707, -999,   1010.7,   9.6378,  35.7744,2,  35.7761,2,    191.6,2,    190.3,2,    10.05,2,    17.21,2,     0.02,2,     1.05,2,  -999.0,9,  9.5171,-999.000,9
     64PE96N_1,  AR12,    20,  1,     12,   X045,2,19960623,1847, 46.7013,  -5.4707, -999,   1113.7,   9.0485,  35.7146,2,-999.0000,9,    196.4,2,   -999.0,9,    10.79,2,    17.50,2,     0.02,2,     1.07,2,  -999.0,9,  8.9197,-999.000,9
     64PE96N_1,  AR12,    20,  1,     11,   X024,2,19960623,1847, 46.7013,  -5.4707, -999,   1214.4,   8.3393,  35.6200,2,  35.6094,3,    203.5,2,    203.4,2,    11.51,2,    17.78,2,     0.01,2,     1.11,2,  -999.0,9,  8.2044,-999.000,9
     64PE96N_1,  AR12,    20,  1,     10,   X023,2,19960623,1847, 46.7013,  -5.4707, -999,   1316.7,   7.2351,  35.4403,2,-999.0000,9,    214.8,2,   -999.0,9,    12.58,2,    18.27,2,     0.01,2,     1.15,2,  -999.0,9,  7.0988,-999.000,9
     64PE96N_1,  AR12,    20,  1,      9,   X008,2,19960623,1847, 46.7013,  -5.4707, -999,   1418.5,   6.3303,  35.3136,2,  35.3143,2,    226.7,2,    225.5,2,    13.56,2,    18.44,2,     0.01,2,     1.17,2,  -999.0,9,  6.1921,-999.000,9
     64PE96N_1,  AR12,    20,  1,      8,   X044,2,19960623,1847, 46.7013,  -5.4707, -999,   1520.2,   5.9223,  35.2758,2,-999.0000,9,    230.1,2,   -999.0,9,    15.96,2,    18.65,2,     0.01,2,     1.20,2,  -999.0,9,  5.7778,-999.000,9
     64PE96N_1,  AR12,    20,  1,      7,   X043,4,19960623,1847, 46.7013,  -5.4707, -999,   1621.8,   5.5881,  35.2331,2,  35.5332,4,    234.1,2,    216.3,4,     8.96,4,    15.35,4,     0.01,4,     0.95,4,  -999.0,9,  5.4369,-999.000,9
     64PE96N_1,  AR12,    20,  1,      6,   X030,2,19960623,1847, 46.7013,  -5.4707, -999,   1721.5,   5.2419,  35.1921,2,-999.0000,9,    237.0,2,   -999.0,9,    18.05,2,    18.95,2,     0.00,2,     1.22,2,  -999.0,9,  5.0847,-999.000,9
     64PE96N_1,  AR12,    20,  1,      5,   X001,2,19960623,1847, 46.7013,  -5.4707, -999,   1825.0,   4.7308,  35.1351,2,  35.1328,2,    241.7,2,    238.5,2,    19.88,2,    19.14,2,     0.00,2,     1.24,2,  -999.0,9,  4.5699,-999.000,9
     64PE96N_1,  AR12,    20,  1,      4,   X031,3,19960623,1847, 46.7013,  -5.4707, -999,   2029.0,   4.1735,  35.0712,2,-999.0000,9,    245.7,2,   -999.0,9,     5.40,4,    10.29,3,     0.02,4,     0.63,4,  -999.0,9,  4.0002,-999.000,9
     64PE96N_1,  AR12,    20,  1,      3,   X042,4,19960623,1847, 46.7013,  -5.4707, -999,   2232.7,   3.5647,  35.0098,2,  35.5710,4,    250.6,2,    232.0,4,     5.35,4,    10.33,4,     0.02,4,     0.63,4,  -999.0,9,  3.3809,-999.000,9
     64PE96N_1,  AR12,    20,  1,      1,   X041,4,19960623,1847, 46.7013,  -5.4707, -999,   2432.0,   3.2789,  34.9849,2,  35.5642,4,    252.8,2,    231.8,4,     5.68,4,    10.55,4,     0.03,4,     0.63,4,  -999.0,9,  3.0804,-999.000,9
     64PE96N_1,  AR12,    20,  1,      2,   X019,4,19960623,1847, 46.7013,  -5.4707, -999,   2443.7,   3.2448,  34.9805,2,-999.0000,9,    253.5,2,   -999.0,9,     5.58,4,     9.97,4,     0.03,4,     0.61,4,  -999.0,9,  3.0458,-999.000,9
     64PE96N_1,  AR12,    21,  1,     24,   X051,2,19960623,2224, 46.6670,  -5.5385, -999,     11.0,  17.3019,  35.6802,2,  35.6808,6,    248.7,2,    248.8,6,     1.20,2,     0.00,2,     0.02,2,     0.06,2,  -999.0,9, 17.3001,-999.000,9
     64PE96N_1,  AR12,    21,  1,     23,   X050,2,19960623,2224, 46.6670,  -5.5385, -999,    100.7,  12.0904,  35.6217,2,  35.6225,2,    246.3,2,    242.9,2,     2.19,2,     6.58,2,     0.01,2,     0.37,2,  -999.0,9, 12.0772,-999.000,9
     64PE96N_1,  AR12,    21,  1,     22,   X049,2,19960623,2224, 46.6670,  -5.5385, -999,    201.9,  11.6499,  35.5874,2,-999.0000,9,    245.4,2,   -999.0,9,     2.62,2,     7.99,2,     0.01,2,     0.46,2,  -999.0,9, 11.6239,-999.000,9
     64PE96N_1,  AR12,    21,  1,     21,   X048,2,19960623,2224, 46.6670,  -5.5385, -999,    302.4,  11.3438,  35.5717,2,  35.5725,2,    233.8,2,    233.1,2,     3.68,2,    10.79,2,     0.01,2,     0.63,2,  -999.0,9, 11.3053,-999.000,9
     64PE96N_1,  AR12,    21,  1,     20,   X047,3,19960623,2224, 46.6670,  -5.5385, -999,    403.5,  11.0439,  35.5506,2,-999.0000,9,    229.0,2,   -999.0,9,     4.41,2,    12.08,3,     0.02,2,     0.70,4,  -999.0,9, 10.9933,-999.000,9
     64PE96N_1,  AR12,    21,  1,     19,   X046,2,19960623,2224, 46.6670,  -5.5385, -999,    505.1,  10.7390,  35.5476,2,  35.5493,2,    220.4,2,    218.0,2,     5.45,2,    13.46,2,     0.00,2,     0.79,2,  -999.0,9, 10.6764,-999.000,9
     64PE96N_1,  AR12,    21,  1,     18,   X014,2,19960623,2224, 46.6670,  -5.5385, -999,    605.0,  10.5163,  35.5826,2,  35.5838,2,    209.6,2,   -999.0,9,     5.52,2,    13.18,2,     0.01,2,     0.78,2,  -999.0,9, 10.4419,-999.000,9
     64PE96N_1,  AR12,    21,  1,     17,   X026,2,19960623,2224, 46.6670,  -5.5385, -999,    707.7,  10.2902,  35.6150,2,-999.0000,9,    201.8,2,    205.5,2,     6.62,2,    14.83,2,     0.01,2,     0.88,2,  -999.0,9, 10.2039,-999.000,9
     64PE96N_1,  AR12,    21,  1,     16,   X032,3,19960623,2224, 46.6670,  -5.5385, -999,    808.7,  10.1396,  35.6975,2,-999.0000,9,   -999.0,9,   -999.0,9,     8.51,2,    16.51,3,     0.00,2,     0.98,4,  -999.0,9, 10.0412,-999.000,9
     64PE96N_1,  AR12,    21,  1,     15,   X007,2,19960623,2224, 46.6670,  -5.5385, -999,    908.9,  10.0007,  35.7719,2,  35.7736,2,    189.4,2,    187.0,2,     9.12,2,    16.78,2,     0.00,2,     1.00,2,  -999.0,9,  9.8904,-999.000,9
     64PE96N_1,  AR12,    21,  1,     14,   X025,2,19960623,2224, 46.6670,  -5.5385, -999,   1010.9,   9.6586,  35.7688,2,-999.0000,9,    190.7,2,   -999.0,9,     9.71,2,    17.13,2,     0.00,2,     1.03,2,  -999.0,9,  9.5378,-999.000,9
     64PE96N_1,  AR12,    21,  1,     13,   X009,4,19960623,2224, 46.6670,  -5.5385, -999,   1202.4,   8.6361,  35.6724,2,  35.6169,4,    199.4,2,    217.1,4,     6.24,4,    13.23,4,     0.00,4,     0.79,4,  -999.0,9,  8.5000,-999.000,9
     64PE96N_1,  AR12,    21,  1,     12,   X045,2,19960623,2224, 46.6670,  -5.5385, -999,   1416.6,   6.7376,  35.3825,2,-999.0000,9,    219.3,2,   -999.0,9,    12.47,2,    18.18,2,     0.00,2,     1.12,2,  -999.0,9,  6.5953,-999.000,9
     64PE96N_1,  AR12,    21,  1,     11,   X024,2,19960623,2224, 46.6670,  -5.5385, -999,   1619.7,   5.1684,  35.1452,2,  35.1462,2,    240.1,2,    241.8,2,    13.90,2,    18.39,2,     0.00,2,     1.15,2,  -999.0,9,  5.0226,-999.000,9
     64PE96N_1,  AR12,    21,  1,     10,   X023,4,19960623,2224, 46.6670,  -5.5385, -999,   1823.7,   4.2692,  35.0356,2,-999.0000,9,    253.4,2,   -999.0,9,     6.92,4,    13.30,4,     0.00,4,     0.79,4,  -999.0,9,  4.1149,-999.000,9
     64PE96N_1,  AR12,    21,  1,      9,   X008,2,19960623,2224, 46.6670,  -5.5385, -999,   2027.9,   4.0366,  35.0360,2,  35.0372,2,    249.7,2,    249.5,2,    19.27,2,    18.96,2,     0.01,2,     1.21,2,  -999.0,9,  3.8656,-999.000,9
     64PE96N_1,  AR12,    21,  1,      8,   X044,2,19960623,2224, 46.6670,  -5.5385, -999,   2231.6,   3.6057,  35.0052,2,-999.0000,9,    249.6,2,   -999.0,9,    23.77,2,    19.64,2,     0.01,2,     1.27,2,  -999.0,9,  3.4214,-999.000,9
     64PE96N_1,  AR12,    21,  1,      7,   X043,2,19960623,2224, 46.6670,  -5.5385, -999,   2435.3,   3.2578,  34.9792,2,-999.0000,9,    248.8,2,   -999.0,9,  -999.00,9,  -999.00,9,  -999.00,9,  -999.00,9,  -999.0,9,  3.0594,-999.000,9
     64PE96N_1,  AR12,    21,  1,      6,   X030,2,19960623,2224, 46.6670,  -5.5385, -999,   2639.9,   3.0504,  34.9633,2,-999.0000,9,    247.7,2,   -999.0,9,    31.39,2,    20.76,2,     0.02,2,     1.34,2,  -999.0,9,  2.8355,-999.000,9
     64PE96N_1,  AR12,    21,  1,      5,   X001,2,19960623,2224, 46.6670,  -5.5385, -999,   2845.9,   2.8770,  34.9490,2,  34.9488,2,    247.8,2,    243.8,2,    34.21,2,    21.06,2,     0.00,2,     1.38,2,  -999.0,9,  2.6447,-999.000,9
     64PE96N_1,  AR12,    21,  1,      4,   X031,2,19960623,2224, 46.6670,  -5.5385, -999,   3048.3,   2.7442,  34.9369,2,-999.0000,9,    246.8,2,   -999.0,9,    36.65,2,    21.47,2,     0.02,2,     1.41,2,  -999.0,9,  2.4939,-999.000,9
     64PE96N_1,  AR12,    21,  1,      3,   X042,2,19960623,2224, 46.6670,  -5.5385, -999,   3252.1,   2.6906,  34.9313,2,  34.9308,2,    246.5,2,    245.2,2,    37.93,2,    21.63,2,     0.01,2,     1.42,2,  -999.0,9,  2.4201,-999.000,9
     64PE96N_1,  AR12,    21,  1,      2,   X019,2,19960623,2224, 46.6670,  -5.5385, -999,   3457.1,   2.6153,  34.9227,2,-999.0000,9,    246.7,2,   -999.0,9,    39.91,2,    21.95,2,     0.02,2,     1.44,2,  -999.0,9,  2.3246,-999.000,9
     64PE96N_1,  AR12,    21,  1,      1,   X041,4,19960623,2224, 46.6670,  -5.5385, -999,   3609.0,   2.5781,  34.9188,2,  35.5401,4,    248.3,2,    225.9,4,     7.11,4,    11.96,4,     0.03,4,     0.72,4,  -999.0,9,  2.2717,-999.000,9