BOTTLE,20020320WHPSIOKJU
EXPOCODE,SECT_ID,STNNBR,CASTNO,SAMPNO,BTLNBR,BTLNBR_FLAG_W,DATE,TIME,LATITUDE,LONGITUDE,DEPTH,CTDPRS,CTDTMP,CTDSAL,CTDSAL_FLAG_W,SALNTY,SALNTY_FLAG_W,CTDOXY,CTDOXY_FLAG_W,OXYGEN,OXYGEN_FLAG_W,SILCAT,SILCAT_FLAG_W,NITRAT,NITRAT_FLAG_W,NITRIT,NITRIT_FLAG_W,PHSPHT,PHSPHT_FLAG_W,REVPRS,REVPRS_FLAG_W,THETA,REVTMP,REVTMP_FLAG_W
,,,,,,,,,,,,DBAR,ITS-90,PSS-78,,PSS-78,,UMOL/KG,,UMOL/KG,,UMOL/KG,,UMOL/KG,,UMOL/KG,,UMOL/KG,,DBAR,,DEG C,ITS-90,
     64PE96N_1,  AR12,    43,  1,     12,   X015,2,19960628,2228, 49.2498, -11.8327,  932,     10.3,  14.9751,  35.5471,2,  35.5475,2,    267.7,2,    267.8,6,     0.84,2,     0.10,2,     0.05,2,     0.08,2,  -999.0,9, 14.9735,-999.000,9
     64PE96N_1,  AR12,    43,  1,     11,   X034,2,19960628,2228, 49.2498, -11.8327,  932,     50.1,  12.8087,  35.5389,2,  35.5394,2,    260.1,2,    258.9,2,     1.40,2,     2.38,2,     0.26,2,     0.24,2,  -999.0,9, 12.8019,-999.000,9
     64PE96N_1,  AR12,    43,  1,     10,   X023,2,19960628,2228, 49.2498, -11.8327,  932,    103.1,  11.8030,  35.5575,2,-999.0000,9,    251.4,2,   -999.0,9,     2.32,2,     6.88,2,     0.06,2,     0.43,2,  -999.0,9, 11.7896,-999.000,9
     64PE96N_1,  AR12,    43,  1,      9,   X035,2,19960628,2228, 49.2498, -11.8327,  932,    201.1,  11.2772,  35.5530,2,  35.5526,2,    252.1,2,    250.4,2,     3.24,2,     8.84,2,     0.04,2,     0.55,2,  -999.0,9, 11.2518,-999.000,9
     64PE96N_1,  AR12,    43,  1,      8,   X044,2,19960628,2228, 49.2498, -11.8327,  932,    304.2,  11.1393,  35.5393,2,-999.0000,9,    247.9,2,   -999.0,9,     3.56,2,     9.42,2,     0.04,2,     0.59,2,   300.3,6, 11.1010,  11.141,2
     64PE96N_1,  AR12,    43,  1,      7,   X011,2,19960628,2228, 49.2498, -11.8327,  932,    403.2,  10.9303,  35.5211,2,  35.5208,2,    241.1,2,    243.0,2,     4.21,2,    10.78,2,     0.03,2,     0.67,2,  -999.0,9, 10.8801,-999.000,9
     64PE96N_1,  AR12,    43,  1,      6,   X030,2,19960628,2228, 49.2498, -11.8327,  932,    505.1,  10.5844,  35.4971,2,-999.0000,9,    232.9,2,   -999.0,9,     5.20,2,    12.44,2,     0.03,2,     0.77,2,  -999.0,9, 10.5224,  10.585,6
     64PE96N_1,  AR12,    43,  1,      5,   X057,2,19960628,2228, 49.2498, -11.8327,  932,    607.1,  10.2284,  35.4920,2,  35.4918,2,    218.5,2,    219.9,2,     6.52,2,    14.00,2,     0.03,2,     0.88,2,  -999.0,9, 10.1551,-999.000,9
     64PE96N_1,  AR12,    43,  1,      4,   X031,2,19960628,2228, 49.2498, -11.8327,  932,    705.4,   9.8865,  35.5077,2,-999.0000,9,    207.4,2,   -999.0,9,     7.86,2,    15.59,2,     0.03,2,     0.98,2,  -999.0,9,  9.8026,   9.882,6
     64PE96N_1,  AR12,    43,  1,      3,   X021,2,19960628,2228, 49.2498, -11.8327,  932,    806.9,   9.4565,  35.5438,2,  35.5434,2,    199.9,2,    199.9,2,     9.11,2,    16.50,2,     0.03,2,     1.04,2,  -999.0,9,  9.3625,-999.000,9
     64PE96N_1,  AR12,    43,  1,      2,   X056,2,19960628,2228, 49.2498, -11.8327,  932,    910.4,   9.2091,  35.5487,2,-999.0000,9,    198.6,2,   -999.0,9,     9.89,2,    16.93,2,     0.04,2,     1.07,2,   907.4,6,  9.1040,   9.209,2
     64PE96N_1,  AR12,    43,  1,      1,   X055,2,19960628,2228, 49.2498, -11.8327,  932,    943.3,   9.1059,  35.5500,2,  35.5487,6,    197.0,2,    196.4,6,    10.20,2,    17.26,2,     0.04,2,     1.09,2,  -999.0,9,  8.9975,-999.000,9
     64PE96N_1,  AR12,    44,  1,      7,   X011,2,19960629,0114, 49.2503, -11.4172,  414,     11.1,  14.3480,  35.5334,2,  35.5336,2,    262.5,2,    262.5,6,     0.89,2,     1.91,2,     0.15,2,     0.17,2,  -999.0,9, 14.3464,-999.000,9
     64PE96N_1,  AR12,    44,  1,      8,   X044,2,19960629,0114, 49.2503, -11.4172,  414,     11.1,  14.3485,  35.5335,2,-999.0000,9,    262.0,2,   -999.0,9,  -999.00,9,  -999.00,9,  -999.00,9,  -999.00,9,     8.8,6, 14.3469,  14.348,2
     64PE96N_1,  AR12,    44,  1,      6,   X030,2,19960629,0114, 49.2503, -11.4172,  414,     50.0,  13.5631,  35.5334,2,-999.0000,9,    261.6,2,   -999.0,9,     1.22,2,     2.45,2,     0.21,2,     0.24,2,  -999.0,9, 13.5560,  13.547,3
     64PE96N_1,  AR12,    44,  1,      5,   X057,2,19960629,0114, 49.2503, -11.4172,  414,    101.4,  12.0268,  35.5445,2,  35.5441,2,    248.6,2,    251.5,2,     2.14,2,     6.00,2,     0.41,2,     0.40,2,  -999.0,9, 12.0135,-999.000,9
     64PE96N_1,  AR12,    44,  1,      4,   X031,2,19960629,0114, 49.2503, -11.4172,  414,    151.1,  11.4444,  35.5503,2,-999.0000,9,    247.5,2,   -999.0,9,     2.99,2,     8.20,2,     0.05,2,     0.51,2,  -999.0,9, 11.4252,  11.442,6
     64PE96N_1,  AR12,    44,  1,      3,   X021,2,19960629,0114, 49.2503, -11.4172,  414,    201.7,  11.3142,  35.5499,2,  35.5492,2,    247.9,2,    249.5,2,     3.12,2,     8.79,2,     0.04,2,     0.55,2,  -999.0,9, 11.2887,-999.000,9
     64PE96N_1,  AR12,    44,  1,      2,   X056,2,19960629,0114, 49.2503, -11.4172,  414,    303.5,  11.1027,  35.5396,2,-999.0000,9,    241.6,2,   -999.0,9,     4.11,2,     9.95,2,     0.05,2,     0.64,2,   301.9,6, 11.0646,  11.102,2
     64PE96N_1,  AR12,    44,  1,      1,   X055,2,19960629,0114, 49.2503, -11.4172,  414,    414.9,  10.8786,  35.5195,2,  35.5205,6,    241.2,2,    240.1,6,     4.72,2,    10.74,2,     0.06,2,     0.69,2,  -999.0,9, 10.8270,-999.000,9
     64PE96N_1,  AR12,    45,  1,      5,   X057,2,19960629,0332, 49.2498, -10.9998,  173,     11.0,  14.6846,  35.5287,2,  35.5290,6,    264.5,2,    264.5,6,     0.30,2,     1.50,2,     0.09,2,     0.11,2,  -999.0,9, 14.6830,-999.000,9
     64PE96N_1,  AR12,    45,  1,      6,   X030,2,19960629,0332, 49.2498, -10.9998,  173,     11.4,  14.6915,  35.5288,2,-999.0000,9,    263.0,2,   -999.0,9,  -999.00,9,  -999.00,9,  -999.00,9,  -999.00,9,  -999.0,9, 14.6898,  14.685,6
     64PE96N_1,  AR12,    45,  1,      4,   X031,2,19960629,0332, 49.2498, -10.9998,  173,     49.3,  12.9276,  35.5294,2,-999.0000,9,    261.4,2,   -999.0,9,     1.38,2,     3.04,2,     0.22,2,     0.26,2,  -999.0,9, 12.9208,  12.877,4
     64PE96N_1,  AR12,    45,  1,      3,   X021,2,19960629,0332, 49.2498, -10.9998,  173,    101.3,  11.6241,  35.5374,2,  35.5360,2,    250.8,2,    249.9,2,     2.14,2,     7.17,2,     0.06,2,     0.44,2,  -999.0,9, 11.6111,-999.000,9
     64PE96N_1,  AR12,    45,  1,      2,   X056,2,19960629,0332, 49.2498, -10.9998,  173,    152.6,  11.1323,  35.5406,2,-999.0000,9,    243.9,2,   -999.0,9,     3.70,2,     9.44,2,     0.04,2,     0.59,2,   149.4,6, 11.1132,  11.132,2
     64PE96N_1,  AR12,    45,  1,      1,   X055,2,19960629,0332, 49.2498, -10.9998,  173,    169.9,  11.0420,  35.5393,2,  35.5390,2,    238.5,2,    237.8,6,  -999.00,9,  -999.00,9,  -999.00,9,  -999.00,9,  -999.0,9, 11.0209,-999.000,9
     64PE96N_1,  AR12,    46,  1,      4,   X031,2,19960629,0453, 49.2502, -10.7503,  150,     10.1,  15.2529,  35.5449,2,  35.5447,2,    271.4,2,    271.5,6,     0.20,2,     0.08,2,     0.01,2,     0.06,2,  -999.0,9, 15.2514,  15.258,6
     64PE96N_1,  AR12,    46,  1,      3,   X021,2,19960629,0453, 49.2502, -10.7503,  150,     51.5,  11.7812,  35.5381,2,  35.5376,2,    252.5,2,    252.4,2,     1.93,2,     6.41,2,     0.25,2,     0.39,2,  -999.0,9, 11.7746,-999.000,9
     64PE96N_1,  AR12,    46,  1,      2,   X056,2,19960629,0453, 49.2502, -10.7503,  150,    101.3,  11.2631,  35.5442,2,-999.0000,9,    247.5,2,   -999.0,9,     3.27,2,     8.84,2,     0.02,2,     0.54,2,   100.9,6, 11.2504,  11.260,2
     64PE96N_1,  AR12,    46,  1,      1,   X055,2,19960629,0453, 49.2502, -10.7503,  150,    151.9,  11.0275,  35.5388,2,  35.5389,6,    239.6,2,    238.2,2,     4.11,6,     9.01,6,     0.06,2,     0.57,6,  -999.0,9, 11.0086,-999.000,9
     64PE96N_1,  AR12,    47,  1,      4,   X031,2,19960629,0544, 49.1663, -10.7347,  153,      9.5,  15.1184,  35.5437,2,  35.5448,2,    274.4,2,    274.5,6,     0.22,2,     0.08,2,     0.04,2,     0.06,2,  -999.0,9, 15.1170,  15.115,6
     64PE96N_1,  AR12,    47,  1,      3,   X021,2,19960629,0544, 49.1663, -10.7347,  153,     51.1,  12.5508,  35.5295,2,  35.5288,2,    261.5,2,    260.7,2,     1.58,2,     4.05,2,     0.48,2,     0.30,2,  -999.0,9, 12.5439,-999.000,9
     64PE96N_1,  AR12,    47,  1,      2,   X056,2,19960629,0544, 49.1663, -10.7347,  153,    100.5,  11.4305,  35.5390,2,  35.5387,2,    249.2,2,    248.5,2,     2.71,2,     8.42,2,     0.05,2,     0.52,2,    98.9,6, 11.4178,  11.434,2
     64PE96N_1,  AR12,    47,  1,      1,   X055,2,19960629,0544, 49.1663, -10.7347,  153,    155.4,  11.1570,  35.5410,2,  35.5404,6,    241.9,2,    240.2,6,     3.79,2,     9.44,2,     0.05,2,     0.60,2,  -999.0,9, 11.1376,-999.000,9
     64PE96N_1,  AR12,    48,  1,      4,   X031,2,19960629,0704, 49.0000, -10.8012,  151,     10.3,  14.6563,  35.5371,2,  35.5381,2,    266.1,2,    266.2,6,     0.63,2,     1.52,2,     0.11,2,     0.13,2,  -999.0,9, 14.6548,  14.655,6
     64PE96N_1,  AR12,    48,  1,      3,   X021,2,19960629,0704, 49.0000, -10.8012,  151,     51.2,  11.8676,  35.5390,2,  35.5398,2,    249.9,2,    252.0,2,     2.25,2,     6.61,2,     0.40,2,     0.43,2,  -999.0,9, 11.8610,-999.000,9
     64PE96N_1,  AR12,    48,  1,      2,   X056,2,19960629,0704, 49.0000, -10.8012,  151,    102.0,  11.4924,  35.5490,2,  35.5487,2,    247.6,2,    247.6,2,     3.00,2,     8.20,2,     0.06,2,     0.51,2,   100.9,6, 11.4794,  11.494,2
     64PE96N_1,  AR12,    48,  1,      1,   X055,2,19960629,0704, 49.0000, -10.8012,  151,    152.3,  11.3153,  35.5508,2,  35.5507,6,    248.2,2,    245.6,6,     3.48,2,     8.78,2,     0.06,2,     0.55,2,  -999.0,9, 11.2961,-999.000,9
     64PE96N_1,  AR12,    49,  1,     10,   X023,2,19960629,0836, 48.8327, -10.8678,  772,      9.9,  14.7261,  35.5503,2,  35.5516,6,    270.1,2,    270.2,6,     0.75,2,     0.00,2,     0.04,2,     0.07,2,  -999.0,9, 14.7246,-999.000,9
     64PE96N_1,  AR12,    49,  1,      9,   X035,2,19960629,0836, 48.8327, -10.8678,  772,     49.5,  12.8523,  35.5534,2,  35.5546,2,    255.4,2,    255.5,2,     1.55,2,     2.49,2,     0.28,2,     0.27,2,  -999.0,9, 12.8455,-999.000,9
     64PE96N_1,  AR12,    49,  1,      8,   X044,2,19960629,0836, 48.8327, -10.8678,  772,    100.2,  11.8696,  35.5614,2,-999.0000,9,    245.9,2,   -999.0,9,     2.47,2,     6.49,2,     0.23,2,     0.43,2,     0.3,4, 11.8566,  13.486,4
     64PE96N_1,  AR12,    49,  1,      7,   X011,2,19960629,0836, 48.8327, -10.8678,  772,    203.7,  11.3544,  35.5591,2,  35.5591,2,    246.1,2,    249.1,2,     3.27,2,     8.86,2,     0.06,2,     0.56,2,  -999.0,9, 11.3286,-999.000,9
     64PE96N_1,  AR12,    49,  1,      6,   X030,2,19960629,0836, 48.8327, -10.8678,  772,    301.5,  11.2730,  35.5515,2,-999.0000,9,    245.6,2,   -999.0,9,     3.46,2,     9.14,2,     0.06,2,     0.52,2,  -999.0,9, 11.2348,  11.273,6
     64PE96N_1,  AR12,    49,  1,      5,   X057,2,19960629,0836, 48.8327, -10.8678,  772,    402.2,  11.0783,  35.5357,2,  35.5352,2,    240.2,2,    240.1,2,     4.16,2,    10.57,2,     0.05,2,     0.67,2,  -999.0,9, 11.0278,-999.000,9
     64PE96N_1,  AR12,    49,  1,      4,   X031,2,19960629,0836, 48.8327, -10.8678,  772,    505.7,  10.8248,  35.5289,2,-999.0000,9,    236.6,2,   -999.0,9,     4.87,2,    11.12,2,     0.07,2,     0.72,2,  -999.0,9, 10.7618,  10.824,6
     64PE96N_1,  AR12,    49,  1,      3,   X021,2,19960629,0836, 48.8327, -10.8678,  772,    605.3,  10.4998,  35.5227,2,  35.5226,2,    230.3,2,    230.2,2,     5.87,2,    12.17,2,     0.05,2,     0.77,2,  -999.0,9, 10.4255,-999.000,9
     64PE96N_1,  AR12,    49,  1,      2,   X056,2,19960629,0836, 48.8327, -10.8678,  772,    697.9,   9.9048,  35.5133,2,-999.0000,9,    220.7,2,   -999.0,9,     7.38,2,    14.15,2,     0.04,2,     0.88,2,   694.9,6,  9.8217,   9.830,4
     64PE96N_1,  AR12,    49,  1,      1,   X055,4,19960629,0836, 48.8327, -10.8678,  772,    751.1,   9.3604,  35.5016,2,  35.5031,4,    214.1,2,    215.6,4,     8.58,4,    15.21,4,     0.05,4,     0.96,4,  -999.0,9,  9.2737,-999.000,9
     64PE96N_1,  AR12,    50,  1,     15,   X059,2,19960629,1035, 48.6667, -10.9337, 1268,      9.5,  15.2366,  35.5573,2,  35.5583,6,    271.7,2,    271.7,6,     0.67,2,     0.03,2,     0.02,2,     0.05,2,  -999.0,9, 15.2351,-999.000,9
     64PE96N_1,  AR12,    50,  1,     14,   X025,2,19960629,1035, 48.6667, -10.9337, 1268,     50.7,  12.6577,  35.5482,2,-999.0000,9,    260.1,2,   -999.0,9,     1.34,2,     3.71,2,     0.42,2,     0.29,2,  -999.0,9, 12.6508,-999.000,9
     64PE96N_1,  AR12,    50,  1,     13,   X058,2,19960629,1035, 48.6667, -10.9337, 1268,    103.7,  11.6858,  35.5572,2,  35.5562,2,    252.1,2,    249.3,2,     2.45,2,     7.31,2,     0.06,2,     0.44,2,  -999.0,9, 11.6725,-999.000,9
     64PE96N_1,  AR12,    50,  1,     12,   X015,2,19960629,1035, 48.6667, -10.9337, 1268,    199.6,  11.3486,  35.5586,2,-999.0000,9,    249.9,2,   -999.0,9,     3.02,2,     8.62,2,     0.05,2,     0.52,2,  -999.0,9, 11.3233,-999.000,9
     64PE96N_1,  AR12,    50,  1,     11,   X034,2,19960629,1035, 48.6667, -10.9337, 1268,    303.9,  11.1675,  35.5417,2,  35.5410,2,    244.8,2,    245.0,2,     3.60,2,     9.79,2,     0.04,2,     0.60,2,  -999.0,9, 11.1292,-999.000,9
     64PE96N_1,  AR12,    50,  1,     10,   X023,2,19960629,1035, 48.6667, -10.9337, 1268,    403.8,  11.0318,  35.5310,2,-999.0000,9,    239.9,2,   -999.0,9,     3.99,2,    10.49,2,     0.03,2,     0.64,2,  -999.0,9, 10.9812,-999.000,9
     64PE96N_1,  AR12,    50,  1,      9,   X035,2,19960629,1035, 48.6667, -10.9337, 1268,    503.2,  10.6971,  35.5074,2,  35.5071,2,    231.3,2,    232.4,2,     5.05,2,    12.15,2,     0.05,2,     0.75,2,  -999.0,9, 10.6349,-999.000,9
     64PE96N_1,  AR12,    50,  1,      8,   X044,2,19960629,1035, 48.6667, -10.9337, 1268,    607.3,  10.4448,  35.5151,2,-999.0000,9,    225.5,2,   -999.0,9,     5.90,2,    13.06,2,     0.01,2,     0.81,2,   605.3,6, 10.3705,  10.447,2
     64PE96N_1,  AR12,    50,  1,      7,   X011,2,19960629,1035, 48.6667, -10.9337, 1268,    705.3,  10.0216,  35.5283,2,  35.5287,2,    213.8,2,    212.9,2,     7.35,2,    14.77,2,     0.03,2,     0.92,2,  -999.0,9,  9.9370,-999.000,9
     64PE96N_1,  AR12,    50,  1,      6,   X030,2,19960629,1035, 48.6667, -10.9337, 1268,    808.5,   9.6585,  35.5527,2,-999.0000,9,    203.8,2,   -999.0,9,     8.60,2,    16.19,2,     0.03,2,     1.01,2,  -999.0,9,  9.5631,   9.676,3
     64PE96N_1,  AR12,    50,  1,      5,   X057,2,19960629,1035, 48.6667, -10.9337, 1268,    909.9,   9.2836,  35.5628,2,  35.5625,2,    202.7,2,    200.5,2,     9.44,2,    16.75,2,     0.02,2,     1.05,2,  -999.0,9,  9.1781,-999.000,9
     64PE96N_1,  AR12,    50,  1,      4,   X031,2,19960629,1035, 48.6667, -10.9337, 1268,   1011.5,   8.9543,  35.5592,2,-999.0000,9,    203.8,2,   -999.0,9,    10.17,2,    17.21,2,     0.04,2,     1.08,2,  -999.0,9,  8.8388,   8.965,6
     64PE96N_1,  AR12,    50,  1,      3,   X021,2,19960629,1035, 48.6667, -10.9337, 1268,   1112.8,   8.2028,  35.5111,2,  35.5086,2,    210.2,2,    204.9,2,    11.11,2,    17.79,2,     0.02,2,     1.13,2,  -999.0,9,  8.0812,-999.000,9
     64PE96N_1,  AR12,    50,  1,      2,   X056,2,19960629,1035, 48.6667, -10.9337, 1268,   1214.1,   7.4076,  35.4164,2,-999.0000,9,    221.4,2,   -999.0,9,    11.84,2,    18.13,2,     0.03,2,     1.16,2,  1211.4,6,  7.2813,   7.379,4
     64PE96N_1,  AR12,    50,  1,      1,   X055,2,19960629,1035, 48.6667, -10.9337, 1268,   1283.7,   6.6597,  35.3208,2,  35.3174,6,    233.8,3,    221.8,6,    12.98,6,    18.22,6,     0.03,2,     1.18,6,  -999.0,9,  6.5327,-999.000,9