BOTTLE,20020730WHPSIO
EXPOCODE,SECT_ID,STNNBR,CASTNO,SAMPNO,BTLNBR,BTLNBR_FLAG_W,DATE,TIME,LATITUDE,LONGITUDE,DEPTH,CTDPRS,CTDTMP,CTDSAL,CTDSAL_FLAG_W,SALNTY,SALNTY_FLAG_W,CTDOXY,CTDOXY_FLAG_W,OXYGEN,OXYGEN_FLAG_W,SILCAT,SILCAT_FLAG_W,NO2+NO3,NO2+NO3_FLAG_W,PHSPHT,PHSPHT_FLAG_W,REVPRS,THETA,REVTMP
,,,,,,,,,,,,DBR,ITS-90,PSS-78,,PSS-78,,UMOL/KG,,UMOL/KG,,UMOL/KG,,UMOL/KG,,UMOL/KG,,DBR,ITS-90,ITS-90
     09FA290_1, PR13N,    16,  1,   -999,      6,2,19900301,0749,-43.2442, 156.2917, 4666,      2.9,  16.9980,  34.9730,2,  34.9740,2,    239.5,2,    243.3,2,     0.90,2,     0.20,2,     0.22,2,  -999.0, 16.9975,  16.991
     09FA290_1, PR13N,    16,  1,   -999,     45,2,19900301,0749,-43.2442, 156.2917, 4666,     78.1,  13.0370,  34.9920,2,  34.9950,2,    228.9,2,    244.1,2,     1.60,2,     5.79,2,     0.55,2,  -999.0, 13.0263,-999.000
     09FA290_1, PR13N,    16,  1,   -999,     44,2,19900301,0749,-43.2442, 156.2917, 4666,    123.3,  12.3320,  35.0610,2,  35.0540,2,    223.0,2,    236.9,2,     2.40,2,     8.44,2,     0.72,2,  -999.0, 12.3157,-999.000
     09FA290_1, PR13N,    16,  1,   -999,     31,2,19900301,0749,-43.2442, 156.2917, 4666,    198.5,  10.9850,  34.8780,2,  34.8810,2,    209.0,2,    223.0,2,     3.60,2,    13.24,2,     0.97,2,  -999.0, 10.9606,-999.000
     09FA290_1, PR13N,    16,  1,   -999,     40,2,19900301,0749,-43.2442, 156.2917, 4666,    398.3,   9.1830,  34.6690,2,  34.6770,2,    226.1,2,    214.2,2,     6.69,2,    19.88,2,     1.37,2,  -999.0,  9.1389,-999.000
     09FA290_1, PR13N,    16,  1,   -999,     18,2,19900301,0749,-43.2442, 156.2917, 4666,    498.6,   8.4670,  34.5730,2,  34.5790,2,    224.6,2,    221.1,2,     7.79,2,    21.18,2,     1.46,2,  -999.0,  8.4141,-999.000
     09FA290_1, PR13N,    16,  1,   -999,     41,2,19900301,0749,-43.2442, 156.2917, 4666,    598.5,   7.9020,  34.5310,2,  34.5290,2,    201.0,2,    209.5,2,    11.09,2,    23.98,2,     1.63,2,  -999.0,  7.8407,-999.000
     09FA290_1, PR13N,    16,  1,   -999,     35,2,19900301,0749,-43.2442, 156.2917, 4666,    798.7,   6.4830,  34.4590,2,  34.4580,2,    181.3,2,    191.1,2,    21.28,2,    28.63,2,     1.92,2,  -999.0,  6.4087,-999.000
     09FA290_1, PR13N,    16,  1,   -999,     37,2,19900301,0749,-43.2442, 156.2917, 4666,   1029.3,   4.7300,  34.4110,2,  34.4080,2,    179.1,2,    186.6,2,    37.66,2,    32.44,2,     2.23,2,  -999.0,  4.6463,-999.000
     09FA290_1, PR13N,    16,  1,   -999,      2,2,19900301,0749,-43.2442, 156.2917, 4666,   1228.7,   3.7000,  34.4340,2,  34.4320,2,    177.0,2,    181.6,2,    49.95,2,    34.59,2,     2.37,2,  -999.0,  3.6079,-999.000
     09FA290_1, PR13N,    16,  1,   -999,     29,2,19900301,0749,-43.2442, 156.2917, 4666,   1747.6,   2.5940,  34.6170,2,  34.6100,2,    160.7,2,    162.4,2,    82.32,2,    35.91,2,     2.46,2,  -999.0,  2.4703,-999.000
     09FA290_1, PR13N,    16,  1,   -999,     46,2,19900301,0749,-43.2442, 156.2917, 4666,   1747.6,   2.5940,  34.6170,2,  34.6150,2,    160.7,2,    163.5,2,    82.32,2,    35.41,2,     2.46,2,    63.4,  2.4703,   2.625
     09FA290_1, PR13N,    16,  1,   -999,     34,2,19900301,0749,-43.2442, 156.2917, 4666,   2223.4,   2.1850,  34.7040,2,  34.7060,2,    179.8,2,    180.2,2,    85.41,2,    33.93,2,     2.31,2,  -999.0,  2.0261,-999.000
     09FA290_1, PR13N,    16,  1,   -999,     28,2,19900301,0749,-43.2442, 156.2917, 4666,   2499.4,   1.9550,  34.7250,2,  34.7260,2,    179.8,2,    182.1,2,    90.11,2,    33.43,2,     2.28,2,  -999.0,  1.7753,-999.000
     09FA290_1, PR13N,    16,  1,   -999,     25,2,19900301,0749,-43.2442, 156.2917, 4666,   2499.4,   1.9550,  34.7250,2,  34.7260,2,    179.8,2,    182.7,2,    91.71,2,    33.60,2,     2.29,2,  -999.0,  1.7753,-999.000
     09FA290_1, PR13N,    16,  1,   -999,      1,2,19900301,0749,-43.2442, 156.2917, 4666,   2593.2,   1.8700,  34.7290,2,  34.7310,2,    184.1,2,    184.9,2,    93.21,2,    33.43,2,     2.29,2,  -999.0,  1.6833,-999.000
     09FA290_1, PR13N,    16,  1,   -999,     10,2,19900301,0749,-43.2442, 156.2917, 4666,   2923.5,   1.6180,  34.7320,2,  34.7280,2,    190.8,2,    189.1,2,    99.50,2,    33.43,2,     2.31,2,  -999.0,  1.4056,-999.000
     09FA290_1, PR13N,    16,  1,   -999,     36,2,19900301,0749,-43.2442, 156.2917, 4666,   3498.3,   1.2700,  34.7240,2,  34.7210,2,    190.8,2,    194.7,2,   108.99,2,    33.76,2,     2.32,2,  -999.0,  1.0096,-999.000
     09FA290_1, PR13N,    16,  1,   -999,     26,2,19900301,0749,-43.2442, 156.2917, 4666,   3498.3,   1.2700,  34.7240,2,  34.7230,2,    190.8,2,    195.2,2,   110.59,2,    33.93,2,     2.32,2,  -999.0,  1.0095,-999.000
     09FA290_1, PR13N,    16,  1,   -999,      9,2,19900301,0749,-43.2442, 156.2917, 4666,   3580.7,   1.2320,  34.7210,2,  34.7230,2,    196.0,2,    195.2,2,   113.79,2,    33.93,2,     2.32,2,  -999.0,  0.9642,-999.000
     09FA290_1, PR13N,    16,  1,   -999,     43,2,19900301,0749,-43.2442, 156.2917, 4666,   3998.8,   1.1030,  34.7140,2,  34.7160,2,    199.1,2,    202.2,2,   115.38,2,    33.93,2,     2.34,2,  -999.0,  0.7952,-999.000
     09FA290_1, PR13N,    16,  1,   -999,     12,2,19900301,0749,-43.2442, 156.2917, 4666,   4497.6,   1.0150,  34.7090,2,  34.7100,2,    198.0,2,    200.8,2,   116.98,2,    34.26,2,     2.34,2,    29.1,  0.6552,   1.034
     09FA290_1, PR13N,    16,  1,   -999,     24,2,19900301,0749,-43.2442, 156.2917, 4666,   4742.6,   0.9890,  34.7070,2,  34.7070,2,    198.0,2,    203.8,2,   120.18,2,    34.09,2,     2.34,2,  -999.0,  0.6021,-999.000
     09FA290_1, PR13N,    17,  1,   -999,      6,2,19900301,1439,-43.2490, 157.2000, 4787,      2.8,  17.6210,  35.3260,2,  35.3250,2,    225.8,2,    232.4,2,     0.70,2,     0.20,2,     0.24,2,  -999.0, 17.6205,  17.603
     09FA290_1, PR13N,    17,  1,   -999,     45,2,19900301,1439,-43.2490, 157.2000, 4787,     90.0,  12.8610,  35.0440,2,  35.0560,2,    226.2,2,    237.2,2,     2.00,2,     7.09,2,     0.64,2,  -999.0, 12.8488,-999.000
     09FA290_1, PR13N,    17,  1,   -999,     44,2,19900301,1439,-43.2490, 157.2000, 4787,    199.3,  11.9620,  35.0650,2,-999.0000,5,    206.9,2,    208.0,2,     4.00,2,    12.89,2,     0.94,2,  -999.0, 11.9360,-999.000
     09FA290_1, PR13N,    17,  1,   -999,     29,2,19900301,1439,-43.2490, 157.2000, 4787,    398.0,   9.5800,  34.7390,2,  34.7470,2,    199.0,2,    208.6,2,     6.49,2,    19.08,2,     1.33,2,  -999.0,  9.5347,-999.000
     09FA290_1, PR13N,    17,  1,   -999,     36,2,19900301,1439,-43.2490, 157.2000, 4787,    497.7,   8.6680,  34.6190,2,  34.6200,2,    197.9,2,    208.9,2,     8.49,2,    21.78,2,     1.48,2,  -999.0,  8.6145,-999.000
     09FA290_1, PR13N,    17,  1,   -999,     18,2,19900301,1439,-43.2490, 157.2000, 4787,    596.3,   8.0950,  34.5780,2,  34.5790,2,    186.8,2,    221.1,2,    12.39,2,    24.38,2,     1.66,2,  -999.0,  8.0331,-999.000
     09FA290_1, PR13N,    17,  1,   -999,     24,2,19900301,1439,-43.2490, 157.2000, 4787,    797.2,   6.4650,  34.4760,2,  34.4790,2,    175.0,2,    186.1,2,    23.78,2,    28.97,2,     1.95,2,  -999.0,  6.3909,-999.000
     09FA290_1, PR13N,    17,  1,   -999,     35,2,19900301,1439,-43.2490, 157.2000, 4787,    955.2,   5.1960,  34.4290,2,  34.4360,2,    178.6,2,    185.8,2,    35.76,2,    31.67,2,     2.15,2,  -999.0,  5.1154,-999.000
     09FA290_1, PR13N,    17,  1,   -999,     37,2,19900301,1439,-43.2490, 157.2000, 4787,   1237.4,   3.7360,  34.4580,2,  34.4570,2,    168.1,2,    175.8,2,    52.35,2,    34.67,2,     2.37,2,  -999.0,  3.6428,-999.000
     09FA290_1, PR13N,    17,  1,   -999,      2,2,19900301,1439,-43.2490, 157.2000, 4787,   1317.9,   3.6300,  34.5190,2,  34.5200,2,    159.5,2,    161.6,2,    66.73,2,    35.56,2,     2.43,2,  -999.0,  3.5308,-999.000
     09FA290_1, PR13N,    17,  1,   -999,     42,2,19900301,1439,-43.2490, 157.2000, 4787,   1468.4,   3.0720,  34.5330,2,  34.5450,3,    164.6,2,    163.5,2,    68.33,2,    36.06,2,     2.48,2,  -999.0,  2.9660,-999.000
     09FA290_1, PR13N,    17,  1,   -999,     31,2,19900301,1439,-43.2490, 157.2000, 4787,   1468.4,   3.0720,  34.5330,2,  34.5350,2,    164.6,2,    163.5,2,    68.33,2,    36.06,2,     2.48,2,  -999.0,  2.9661,-999.000
     09FA290_1, PR13N,    17,  1,   -999,     46,2,19900301,1439,-43.2490, 157.2000, 4787,   1747.8,   2.5770,  34.6140,2,  34.6160,2,    171.4,2,    166.0,2,    76.42,2,    35.56,2,     2.42,2,    60.9,  2.4535,   2.606
     09FA290_1, PR13N,    17,  1,   -999,     34,2,19900301,1439,-43.2490, 157.2000, 4787,   1997.9,   2.3540,  34.6760,2,  34.6810,2,    176.4,2,    169.9,2,    81.42,2,    34.97,2,     2.37,2,  -999.0,  2.2122,-999.000
     09FA290_1, PR13N,    17,  1,   -999,     25,2,19900301,1439,-43.2490, 157.2000, 4787,   2203.1,   2.1810,  34.7090,2,  34.7160,2,    182.3,2,    176.9,2,    84.72,2,    33.97,2,     2.33,2,  -999.0,  2.0239,-999.000
     09FA290_1, PR13N,    17,  1,   -999,     28,2,19900301,1439,-43.2490, 157.2000, 4787,   2573.4,   1.9010,  34.7350,2,  34.7380,2,    184.7,2,    183.8,2,    91.31,2,    33.57,2,     2.30,2,  -999.0,  1.7155,-999.000
     09FA290_1, PR13N,    17,  1,   -999,     10,2,19900301,1439,-43.2490, 157.2000, 4787,   2911.7,   1.6230,  34.7360,2,  34.7270,2,    189.7,2,    188.3,2,    99.70,2,    33.57,2,     2.28,2,  -999.0,  1.4116,-999.000
     09FA290_1, PR13N,    17,  1,   -999,     40,2,19900301,1439,-43.2490, 157.2000, 4787,   3247.8,   1.4040,  34.7320,2,  34.7270,2,    193.6,2,    192.2,2,   106.49,2,    34.07,2,     2.30,2,  -999.0,  1.1651,-999.000
     09FA290_1, PR13N,    17,  1,   -999,      1,2,19900301,1439,-43.2490, 157.2000, 4787,   3564.2,   1.2610,  34.7270,2,  34.7280,2,    193.9,2,    194.9,2,   111.69,2,    34.07,2,     2.33,2,  -999.0,  0.9941,-999.000
     09FA290_1, PR13N,    17,  1,   -999,     43,2,19900301,1439,-43.2490, 157.2000, 4787,   3999.3,   1.1440,  34.7220,2,  34.7220,2,    195.7,2,    196.6,2,   115.08,2,    34.47,2,     2.33,2,  -999.0,  0.8349,-999.000
     09FA290_1, PR13N,    17,  1,   -999,     41,2,19900301,1439,-43.2490, 157.2000, 4787,   4850.9,   1.0530,  34.7140,2,  34.7090,2,    195.7,2,    199.7,2,   120.28,2,    34.67,2,     2.34,2,  -999.0,  0.6513,-999.000
     09FA290_1, PR13N,    18,  1,   -999,     45,2,19900301,2153,-43.2553, 158.1353, 4825,    109.3,  12.3750,  34.9910,2,  34.9950,3,    250.3,2,    241.7,2,     1.80,2,     7.09,2,     0.63,2,  -999.0, 12.3605,-999.000
     09FA290_1, PR13N,    18,  1,   -999,     44,2,19900301,2153,-43.2553, 158.1353, 4825,    199.0,  11.5640,  34.9230,2,  34.9240,3,    241.4,2,    241.9,2,     2.20,2,     9.19,2,     0.75,2,  -999.0, 11.5387,-999.000
     09FA290_1, PR13N,    18,  1,   -999,     29,2,19900301,2153,-43.2553, 158.1353, 4825,    399.0,   9.5960,  34.7200,2,  34.7300,3,    223.7,2,    213.0,2,     6.09,2,    18.58,2,     1.28,2,  -999.0,  9.5505,-999.000
     09FA290_1, PR13N,    18,  1,   -999,     36,2,19900301,2153,-43.2553, 158.1353, 4825,    500.0,   8.9330,  34.6250,2,  34.6300,3,    220.8,2,    220.8,2,     6.69,2,    20.18,2,     1.38,2,  -999.0,  8.8782,-999.000
     09FA290_1, PR13N,    18,  1,   -999,     18,2,19900301,2153,-43.2553, 158.1353, 4825,    601.2,   8.2600,  34.5550,2,  34.5590,3,    209.7,2,    212.2,2,     9.19,2,    22.58,2,     1.54,2,  -999.0,  8.1968,-999.000
     09FA290_1, PR13N,    18,  1,   -999,     24,2,19900301,2153,-43.2553, 158.1353, 4825,    803.0,   6.7170,  34.4700,2,  34.4710,3,    199.7,2,    190.5,2,    20.78,2,    28.07,2,     1.90,2,  -999.0,  6.6408,-999.000
     09FA290_1, PR13N,    18,  1,   -999,     35,2,19900301,2153,-43.2553, 158.1353, 4825,   1027.6,   4.9850,  34.4030,2,  34.4110,3,    196.2,2,    189.1,2,    36.06,2,    31.97,2,     2.14,2,  -999.0,  4.8994,-999.000
     09FA290_1, PR13N,    18,  1,   -999,     37,2,19900301,2153,-43.2553, 158.1353, 4825,   1271.9,   3.7350,  34.4360,2,  34.4410,3,    180.9,2,    176.7,2,    54.35,2,    34.47,2,     2.35,2,  -999.0,  3.6389,-999.000
     09FA290_1, PR13N,    18,  1,   -999,      2,2,19900301,2153,-43.2553, 158.1353, 4825,   1481.8,   3.1140,  34.5290,2,  34.5310,3,    166.5,2,    163.0,2,    71.53,2,    36.06,2,     2.46,2,  -999.0,  3.0065,-999.000
     09FA290_1, PR13N,    18,  1,   -999,     42,2,19900301,2153,-43.2553, 158.1353, 4825,   1481.8,   3.1140,  34.5290,2,  34.5310,3,    166.5,2,    161.9,2,    73.03,2,    36.06,2,     2.46,2,  -999.0,  3.0065,-999.000
     09FA290_1, PR13N,    18,  1,   -999,     31,2,19900301,2153,-43.2553, 158.1353, 4825,   1753.5,   2.6310,  34.6070,2,  34.6060,3,    164.6,2,    164.1,2,    80.92,2,    35.66,2,     2.46,2,  -999.0,  2.5064,-999.000
     09FA290_1, PR13N,    18,  1,   -999,     46,2,19900301,2153,-43.2553, 158.1353, 4825,   1999.2,   2.3620,  34.6610,2,  34.6610,3,    171.7,2,    170.2,2,    84.12,2,    34.67,2,     2.35,2,     1.4,  2.2200,   2.405
     09FA290_1, PR13N,    18,  1,   -999,     34,2,19900301,2153,-43.2553, 158.1353, 4825,   2268.6,   2.1590,  34.7010,2,  34.6980,3,    181.3,2,    178.6,2,    85.61,2,    33.77,2,     2.29,2,  -999.0,  1.9965,-999.000
     09FA290_1, PR13N,    18,  1,   -999,     25,2,19900301,2153,-43.2553, 158.1353, 4825,   2504.7,   1.9640,  34.7190,2,  34.7180,3,    181.5,2,    183.6,2,    90.41,2,    33.57,2,     2.26,2,  -999.0,  1.7837,-999.000
     09FA290_1, PR13N,    18,  1,   -999,     28,2,19900301,2153,-43.2553, 158.1353, 4825,   2504.7,   1.9640,  34.7190,2,  34.7180,3,    181.5,2,    185.5,2,    90.41,2,    33.27,2,     2.26,2,  -999.0,  1.7837,-999.000
     09FA290_1, PR13N,    18,  1,   -999,      9,2,19900301,2153,-43.2553, 158.1353, 4825,   2639.2,   1.8530,  34.7230,2,  34.7220,3,    184.0,2,    185.5,2,    93.61,2,    33.37,2,     2.31,2,  -999.0,  1.6624,-999.000
     09FA290_1, PR13N,    18,  1,   -999,     10,2,19900301,2153,-43.2553, 158.1353, 4825,   2931.9,   1.6080,  34.7250,2,  34.7210,3,    186.0,2,    189.7,2,   100.00,2,    33.57,2,     2.29,2,  -999.0,  1.3951,-999.000
     09FA290_1, PR13N,    18,  1,   -999,     26,2,19900301,2153,-43.2553, 158.1353, 4825,   3610.6,   1.2460,  34.7170,2,  34.7130,3,    194.5,2,    195.2,2,   109.79,2,    33.97,2,     2.32,2,  -999.0,  0.9748,-999.000
     09FA290_1, PR13N,    18,  1,   -999,     40,2,19900301,2153,-43.2553, 158.1353, 4825,   3610.6,   1.2460,  34.7170,2,  34.7140,3,    194.5,2,    196.3,2,   109.79,2,    33.97,2,     2.31,2,  -999.0,  0.9748,-999.000
     09FA290_1, PR13N,    18,  1,   -999,      1,2,19900301,2153,-43.2553, 158.1353, 4825,   3994.3,   1.1430,  34.7110,2,  34.7070,3,    194.2,2,    196.1,2,   111.39,2,    34.07,2,     2.32,2,  -999.0,  0.8346,-999.000
     09FA290_1, PR13N,    18,  1,   -999,     43,2,19900301,2153,-43.2553, 158.1353, 4825,   4488.0,   1.0640,  34.7070,2,  34.7030,3,    199.8,2,    200.2,2,   116.38,2,    34.07,2,     2.32,2,  -999.0,  0.7038,-999.000
     09FA290_1, PR13N,    18,  1,   -999,     12,2,19900301,2153,-43.2553, 158.1353, 4825,   4897.2,   1.0530,  34.7020,2,  34.7030,3,    201.1,2,    200.2,2,   119.68,2,    34.27,2,     2.32,2,    31.9,  0.6459,   1.074
     09FA290_1, PR13N,    18,  1,   -999,     41,2,19900301,2153,-43.2553, 158.1353, 4825,   4897.2,   1.0530,  34.7020,2,  34.7020,3,    201.1,2,    200.2,2,   121.28,2,    34.27,2,     2.32,2,  -999.0,  0.6459,-999.000