BOTTLE,20020730WHPSIO
EXPOCODE,SECT_ID,STNNBR,CASTNO,SAMPNO,BTLNBR,BTLNBR_FLAG_W,DATE,TIME,LATITUDE,LONGITUDE,DEPTH,CTDPRS,CTDTMP,CTDSAL,CTDSAL_FLAG_W,SALNTY,SALNTY_FLAG_W,CTDOXY,CTDOXY_FLAG_W,OXYGEN,OXYGEN_FLAG_W,SILCAT,SILCAT_FLAG_W,NO2+NO3,NO2+NO3_FLAG_W,PHSPHT,PHSPHT_FLAG_W,REVPRS,THETA,REVTMP
,,,,,,,,,,,,DBR,ITS-90,PSS-78,,PSS-78,,UMOL/KG,,UMOL/KG,,UMOL/KG,,UMOL/KG,,UMOL/KG,,DBR,ITS-90,ITS-90
     09FA290_1, PR13N,     9,  1,   -999,      6,2,19900227,0332,-43.2322, 150.0982, 3104,      3.5,  15.1900,  34.8470,2,  34.8490,2,    254.3,2,    252.8,2,     0.90,2,     1.10,2,     0.35,2,  -999.0, 15.1895,  15.239
     09FA290_1, PR13N,     9,  1,   -999,     18,2,19900227,0332,-43.2322, 150.0982, 3104,     73.1,  14.0570,  35.1090,2,  35.1060,2,    246.3,2,    247.5,2,     0.70,2,     1.80,2,     0.35,2,  -999.0, 14.0464,-999.000
     09FA290_1, PR13N,     9,  1,   -999,     41,2,19900227,0332,-43.2322, 150.0982, 3104,     99.3,  12.4050,  34.9430,2,  34.9540,2,    244.7,2,    241.4,2,     1.80,2,     7.49,2,     0.67,2,  -999.0, 12.3918,-999.000
     09FA290_1, PR13N,     9,  1,   -999,     28,2,19900227,0332,-43.2322, 150.0982, 3104,    197.9,  10.1780,  34.7430,2,  34.7410,2,    236.9,2,    241.8,2,     3.30,2,    13.99,2,     1.03,2,  -999.0, 10.1548,-999.000
     09FA290_1, PR13N,     9,  1,   -999,     29,2,19900227,0332,-43.2322, 150.0982, 3104,    398.5,   9.0350,  34.6110,2,  34.6120,2,    229.8,2,    245.3,2,     4.40,2,    17.38,2,     1.21,2,  -999.0,  8.9913,-999.000
     09FA290_1, PR13N,     9,  1,   -999,     45,2,19900227,0332,-43.2322, 150.0982, 3104,    499.4,   8.6480,  34.5690,2,  34.5700,2,    238.5,2,    240.0,2,     5.39,2,    19.38,2,     1.33,2,  -999.0,  8.5944,-999.000
     09FA290_1, PR13N,     9,  1,   -999,      1,2,19900227,0332,-43.2322, 150.0982, 3104,    598.0,   8.2330,  34.5330,2,  34.5340,2,    220.9,2,    223.7,2,     7.89,2,    21.88,2,     1.48,2,  -999.0,  8.1703,-999.000
     09FA290_1, PR13N,     9,  1,   -999,     37,2,19900227,0332,-43.2322, 150.0982, 3104,    799.8,   6.8400,  34.4510,2,  34.4530,2,    223.7,2,    202.4,2,    17.08,2,    27.27,2,     1.48,3,  -999.0,  6.7635,-999.000
     09FA290_1, PR13N,     9,  1,   -999,     42,2,19900227,0332,-43.2322, 150.0982, 3104,    999.4,   4.9360,  34.3910,2,  34.3950,2,    191.8,2,    194.8,2,    34.07,2,    31.97,2,     2.15,2,  -999.0,  4.8534,-999.000
     09FA290_1, PR13N,     9,  1,   -999,     34,2,19900227,0332,-43.2322, 150.0982, 3104,   1218.3,   3.8630,  34.4480,2,  34.4470,2,    180.6,2,    176.4,2,    50.25,2,    34.47,2,     2.35,2,  -999.0,  3.7702,-999.000
     09FA290_1, PR13N,     9,  1,   -999,      2,2,19900227,0332,-43.2322, 150.0982, 3104,   1458.1,   3.1230,  34.5270,2,  34.5300,2,    163.1,2,    163.8,2,    68.23,2,    36.06,2,     2.47,2,  -999.0,  3.0174,-999.000
     09FA290_1, PR13N,     9,  1,   -999,     46,2,19900227,0332,-43.2322, 150.0982, 3104,   1507.6,   3.0540,  34.5410,2,  34.5440,2,    163.4,2,    161.8,2,    71.63,2,    36.26,2,     2.47,2,    14.6,  2.9450,   3.075
     09FA290_1, PR13N,     9,  1,   -999,     24,2,19900227,0332,-43.2322, 150.0982, 3104,   1507.6,   3.0540,  34.5410,2,  34.5430,2,    163.4,2,    162.4,2,    71.63,2,    36.06,2,     2.45,2,  -999.0,  2.9450,-999.000
     09FA290_1, PR13N,     9,  1,   -999,     10,2,19900227,0332,-43.2322, 150.0982, 3104,   1748.7,   2.6310,  34.6090,2,  34.6090,2,    162.1,2,    167.3,3,    75.02,2,    35.36,2,     2.41,2,  -999.0,  2.5068,-999.000
     09FA290_1, PR13N,     9,  1,   -999,     36,2,19900227,0332,-43.2322, 150.0982, 3104,   1748.7,   2.6310,  34.6090,2,  34.6090,2,    162.1,2,    163.2,2,    83.52,3,    34.47,2,     2.33,3,  -999.0,  2.5068,-999.000
     09FA290_1, PR13N,     9,  1,   -999,     25,2,19900227,0332,-43.2322, 150.0982, 3104,   2175.5,   2.2290,  34.6960,2,  34.6950,2,    174.2,2,    175.8,2,    78.42,2,    36.06,2,     2.45,3,  -999.0,  2.0736,-999.000
     09FA290_1, PR13N,     9,  1,   -999,     40,2,19900227,0332,-43.2322, 150.0982, 3104,   2498.5,   1.9890,  34.7290,2,  34.7260,2,    177.0,2,    183.4,2,    90.41,2,    33.67,2,     2.29,2,  -999.0,  1.8087,-999.000
     09FA290_1, PR13N,     9,  1,   -999,     31,2,19900227,0332,-43.2322, 150.0982, 3104,   2846.8,   1.7250,  34.7360,2,  34.7310,2,    184.7,2,    188.3,2,    99.10,2,    33.67,2,     2.29,2,  -999.0,  1.5176,-999.000
     09FA290_1, PR13N,     9,  1,   -999,     12,2,19900227,0332,-43.2322, 150.0982, 3104,   2846.8,   1.7250,  34.7360,2,  34.7330,2,    184.7,2,    188.0,2,    99.10,2,    33.67,2,     2.29,2,    50.9,  1.5176,   1.726
     09FA290_1, PR13N,     9,  1,   -999,      9,2,19900227,0332,-43.2322, 150.0982, 3104,   3098.7,   1.3940,  34.7300,2,  34.7270,2,    194.3,2,    194.2,2,   105.99,2,    33.67,2,     2.29,2,  -999.0,  1.1698,-999.000
     09FA290_1, PR13N,    10,  1,   -999,      6,2,19900227,0847,-43.2568, 150.8838, 3576,      3.4,  15.4100,  34.8560,2,  34.8620,2,    263.4,2,    253.7,2,     0.80,2,     0.80,2,     0.25,2,  -999.0, 15.4095,  15.432
     09FA290_1, PR13N,    10,  1,   -999,     35,2,19900227,0847,-43.2568, 150.8838, 3576,     78.3,  13.3000,  34.9200,2,  34.9180,2,    239.5,2,    251.7,2,     1.20,2,     4.30,2,     0.45,2,  -999.0, 13.2891,-999.000
     09FA290_1, PR13N,    10,  1,   -999,     18,2,19900227,0847,-43.2568, 150.8838, 3576,    198.5,  11.2700,  34.9300,2,  34.9250,2,    247.4,2,    237.0,2,     3.20,2,    11.29,2,     0.84,2,  -999.0, 11.2452,-999.000
     09FA290_1, PR13N,    10,  1,   -999,     41,2,19900227,0847,-43.2568, 150.8838, 3576,    398.6,   9.2280,  34.6370,2,  34.6360,2,    246.9,2,    245.9,2,     4.70,2,    16.58,2,     1.17,2,  -999.0,  9.1837,-999.000
     09FA290_1, PR13N,    10,  1,   -999,     28,2,19900227,0847,-43.2568, 150.8838, 3576,    498.4,   8.8680,  34.5980,2,  34.5970,2,    239.1,2,    239.2,2,     5.29,2,    18.38,2,     1.27,2,  -999.0,  8.8137,-999.000
     09FA290_1, PR13N,    10,  1,   -999,     29,2,19900227,0847,-43.2568, 150.8838, 3576,    598.8,   8.3620,  34.5560,2,  34.5550,2,    216.1,2,    224.6,2,     8.29,2,    21.28,2,     1.46,2,  -999.0,  8.2986,-999.000
     09FA290_1, PR13N,    10,  1,   -999,     45,2,19900227,0847,-43.2568, 150.8838, 3576,    799.2,   6.8650,  34.4730,2,  34.4730,2,    198.2,2,    196.5,2,    18.88,2,    27.27,2,     1.86,2,  -999.0,  6.7883,-999.000
     09FA290_1, PR13N,    10,  1,   -999,     37,2,19900227,0847,-43.2568, 150.8838, 3576,   1099.0,   4.1190,  34.3630,2,  34.3660,2,    196.2,2,    186.3,2,    38.16,2,    32.57,2,     2.24,2,  -999.0,  4.0343,-999.000
     09FA290_1, PR13N,    10,  1,   -999,     46,2,19900227,0847,-43.2568, 150.8838, 3576,   1243.5,   3.5990,  34.4250,2,  34.4270,2,    188.7,2,    182.8,2,    51.55,2,    34.17,2,     2.36,2,    51.1,  3.5066,   3.622
     09FA290_1, PR13N,    10,  1,   -999,     34,2,19900227,0847,-43.2568, 150.8838, 3576,   1468.6,   3.1540,  34.5390,2,  34.5390,2,    165.0,2,    161.5,2,    76.62,2,    35.36,2,     2.51,2,  -999.0,  3.0471,-999.000
     09FA290_1, PR13N,    10,  1,   -999,      2,2,19900227,0847,-43.2568, 150.8838, 3576,   1501.0,   3.0780,  34.5510,2,  34.5510,2,    165.1,2,    161.5,2,    78.32,2,    35.66,2,     2.51,2,  -999.0,  2.9692,-999.000
     09FA290_1, PR13N,    10,  1,   -999,     42,2,19900227,0847,-43.2568, 150.8838, 3576,   1748.8,   2.5710,  34.6280,2,  34.6310,2,    161.8,2,   -999.0,5,    86.71,2,    35.36,2,     2.49,2,  -999.0,  2.4475,-999.000
     09FA290_1, PR13N,    10,  1,   -999,     24,2,19900227,0847,-43.2568, 150.8838, 3576,   1748.8,   2.5710,  34.6280,2,  34.6310,2,    161.8,2,    162.6,2,    86.71,2,    35.16,2,     2.44,2,  -999.0,  2.4475,-999.000
     09FA290_1, PR13N,    10,  1,   -999,     10,2,19900227,0847,-43.2568, 150.8838, 3576,   2155.2,   2.2030,  34.7040,2,  34.7050,2,    173.7,2,    176.6,2,    88.31,2,    33.77,2,     2.34,2,  -999.0,  2.0498,-999.000
     09FA290_1, PR13N,    10,  1,   -999,     36,2,19900227,0847,-43.2568, 150.8838, 3576,   2449.7,   1.9500,  34.7300,2,  34.7310,2,    175.8,2,    182.2,2,    96.70,2,    33.37,2,     2.36,2,  -999.0,  1.7748,-999.000
     09FA290_1, PR13N,    10,  1,   -999,     25,2,19900227,0847,-43.2568, 150.8838, 3576,   2449.7,   1.9500,  34.7300,2,  34.7310,2,    175.8,2,    183.4,2,    96.70,2,    33.17,2,     2.31,2,  -999.0,  1.7748,-999.000
     09FA290_1, PR13N,    10,  1,   -999,     40,2,19900227,0847,-43.2568, 150.8838, 3576,   2499.9,   1.9270,  34.7310,2,  34.7290,2,    176.2,2,    183.4,2,    96.70,2,    33.37,2,     2.31,2,  -999.0,  1.7477,-999.000
     09FA290_1, PR13N,    10,  1,   -999,     31,2,19900227,0847,-43.2568, 150.8838, 3576,   2836.2,   1.7180,  34.7400,2,  34.7410,2,    182.2,2,    188.9,2,   103.50,2,    32.97,2,     2.29,2,  -999.0,  1.5117,-999.000
     09FA290_1, PR13N,    10,  1,   -999,     12,2,19900227,0847,-43.2568, 150.8838, 3576,   3347.5,   1.3330,  34.7310,2,  34.7300,2,    192.8,2,    197.1,2,   110.29,2,    33.17,2,     2.29,2,    51.8,  1.0860,   1.345
     09FA290_1, PR13N,    10,  1,   -999,      9,2,19900227,0847,-43.2568, 150.8838, 3576,   3598.3,   1.2000,  34.7280,2,  34.7250,2,    200.0,2,    198.3,2,   115.38,2,    33.37,2,     2.31,2,  -999.0,  0.9312,-999.000
     09FA290_1, PR13N,    11,  1,   -999,      6,2,19900227,1418,-43.2472, 151.6677, 4220,      3.4,  16.3300,  35.0510,2,  35.0500,2,    262.3,2,    247.2,2,     0.90,2,     0.40,2,     0.23,2,  -999.0, 16.3295,  16.328
     09FA290_1, PR13N,    11,  1,   -999,     43,2,19900227,1418,-43.2472, 151.6677, 4220,     71.4,  14.0440,  35.2940,2,  35.2850,2,    226.6,2,    218.3,2,     2.80,2,     7.39,2,     0.59,2,  -999.0, 14.0337,-999.000
     09FA290_1, PR13N,    11,  1,   -999,      9,2,19900227,1418,-43.2472, 151.6677, 4220,    100.4,  13.3780,  35.2430,2,  35.2440,2,    220.9,2,    210.4,2,     3.60,2,     9.69,2,     0.71,2,  -999.0, 13.3639,-999.000
     09FA290_1, PR13N,    11,  1,   -999,     18,2,19900227,1418,-43.2472, 151.6677, 4220,    200.1,  11.5340,  34.9770,2,  34.9960,2,    218.8,2,    213.7,2,     4.40,2,    13.19,2,     0.94,2,  -999.0, 11.5086,-999.000
     09FA290_1, PR13N,    11,  1,   -999,     41,2,19900227,1418,-43.2472, 151.6677, 4220,    404.2,   9.1250,  34.6280,2,  34.6330,2,    227.6,2,    240.0,2,     4.90,2,    17.48,2,     1.18,2,  -999.0,  9.0804,-999.000
     09FA290_1, PR13N,    11,  1,   -999,     24,2,19900227,1418,-43.2472, 151.6677, 4220,    500.3,   8.7180,  34.5790,2,  34.5770,2,    231.4,2,    238.6,2,     5.09,2,    19.08,2,     1.30,2,  -999.0,  8.6640,-999.000
     09FA290_1, PR13N,    11,  1,   -999,     29,2,19900227,1418,-43.2472, 151.6677, 4220,    600.8,   8.2940,  34.5460,2,  34.5470,2,    220.3,2,    223.1,2,     8.59,2,    21.68,2,     1.45,2,  -999.0,  8.2307,-999.000
     09FA290_1, PR13N,    11,  1,   -999,     25,2,19900227,1418,-43.2472, 151.6677, 4220,    804.0,   6.6200,  34.4390,2,  34.4420,2,    201.7,2,    200.9,2,    18.58,2,    82.62,2,     1.84,2,  -999.0,  6.5444,-999.000
     09FA290_1, PR13N,    11,  1,   -999,      1,2,19900227,1418,-43.2472, 151.6677, 4220,   1134.9,   3.9410,  34.3660,2,  34.3680,2,    196.5,2,    197.4,2,    42.76,2,    33.37,2,     2.24,2,  -999.0,  3.8547,-999.000
     09FA290_1, PR13N,    11,  1,   -999,     37,2,19900227,1418,-43.2472, 151.6677, 4220,   1255.6,   3.7180,  34.4530,2,  34.4510,2,    185.5,2,    176.1,2,    60.34,2,    34.47,2,     2.34,2,  -999.0,  3.6234,-999.000
     09FA290_1, PR13N,    11,  1,   -999,     34,2,19900227,1418,-43.2472, 151.6677, 4220,   1498.7,   3.0710,  34.5430,2,  34.5430,2,    162.6,2,    162.1,2,    81.22,2,    35.76,2,     2.43,2,  -999.0,  2.9625,-999.000
     09FA290_1, PR13N,    11,  1,   -999,     46,2,19900227,1418,-43.2472, 151.6677, 4220,   1498.7,   3.0710,  34.5430,2,  34.5450,2,    162.6,2,    163.2,2,    81.22,2,    35.76,2,     2.43,2,     5.5,  2.9625,   3.085
     09FA290_1, PR13N,    11,  1,   -999,      2,2,19900227,1418,-43.2472, 151.6677, 4220,   1750.7,   2.6030,  34.6170,2,  34.6150,2,    162.0,2,    164.7,2,    89.31,2,    35.46,2,     2.37,2,  -999.0,  2.4789,-999.000
     09FA290_1, PR13N,    11,  1,   -999,     28,2,19900227,1418,-43.2472, 151.6677, 4220,   2247.0,   2.1800,  34.7050,2,  34.7040,2,    174.3,2,    178.4,2,    94.21,2,    33.77,2,     2.27,2,  -999.0,  2.0191,-999.000
     09FA290_1, PR13N,    11,  1,   -999,     42,2,19900227,1418,-43.2472, 151.6677, 4220,   2247.0,   2.1800,  34.7050,2,  34.7040,2,    174.3,2,    177.5,2,    94.21,2,    33.77,2,     2.27,2,  -999.0,  2.0191,-999.000
     09FA290_1, PR13N,    11,  1,   -999,     10,2,19900227,1418,-43.2472, 151.6677, 4220,   2563.3,   1.9520,  34.7320,2,  34.7320,2,    180.1,2,    185.4,2,   100.70,2,    33.27,2,     2.22,2,  -999.0,  1.7665,-999.000
     09FA290_1, PR13N,    11,  1,   -999,     36,2,19900227,1418,-43.2472, 151.6677, 4220,   2959.4,   1.6560,  34.7320,2,  34.7320,2,    186.1,2,    189.5,2,   110.39,2,    33.37,2,     2.24,2,  -999.0,  1.4393,-999.000
     09FA290_1, PR13N,    11,  1,   -999,     45,2,19900227,1418,-43.2472, 151.6677, 4220,   3455.3,   1.3000,  34.7250,2,  34.7230,2,    197.1,2,    197.4,2,   118.58,2,    33.57,2,     2.24,2,  -999.0,  1.0431,-999.000
     09FA290_1, PR13N,    11,  1,   -999,     40,2,19900227,1418,-43.2472, 151.6677, 4220,   3455.3,   1.3000,  34.7250,2,  34.7130,3,    197.1,2,    198.5,2,   118.58,2,    33.37,2,     2.24,2,  -999.0,  1.0432,-999.000
     09FA290_1, PR13N,    11,  1,   -999,     31,2,19900227,1418,-43.2472, 151.6677, 4220,   3996.0,   1.0160,  34.7120,2,  34.7110,2,    207.8,2,    202.9,2,   126.77,2,    33.57,2,     2.25,2,  -999.0,  0.7110,-999.000
     09FA290_1, PR13N,    11,  1,   -999,     12,2,19900227,1418,-43.2472, 151.6677, 4220,   4200.1,   0.9670,  34.7100,2,  34.7080,2,    210.1,2,    203.8,2,   128.37,2,    33.77,2,     2.29,2,    96.2,  0.6415,   0.984
     09FA290_1, PR13N,    12,  1,   -999,      6,2,19900227,2046,-43.2722, 152.5985, 4613,      4.5,  16.6660,  34.9840,2,  34.9860,2,    242.3,2,    242.6,2,     0.80,2,     0.20,2,     0.20,2,  -999.0, 16.6653,  16.666
     09FA290_1, PR13N,    12,  1,   -999,     44,2,19900227,2046,-43.2722, 152.5985, 4613,     42.2,  16.1880,  35.0010,2,  35.0000,2,    226.6,2,    243.4,2,     0.80,2,     0.60,2,     0.22,2,  -999.0, 16.1813,-999.000
     09FA290_1, PR13N,    12,  1,   -999,     43,2,19900227,2046,-43.2722, 152.5985, 4613,     76.4,  11.6950,  34.7390,2,  34.7400,2,    247.7,2,    255.8,2,     1.70,2,     8.89,2,     0.64,2,  -999.0, 11.6853,-999.000
     09FA290_1, PR13N,    12,  1,   -999,      9,2,19900227,2046,-43.2722, 152.5985, 4613,    197.4,   9.7640,  34.6700,2,  34.6730,2,    234.1,2,    242.7,2,     3.70,2,    14.89,2,     1.05,2,  -999.0,  9.7415,-999.000
     09FA290_1, PR13N,    12,  1,   -999,     18,2,19900227,2046,-43.2722, 152.5985, 4613,    398.3,   8.9350,  34.6050,2,  34.6050,2,    235.7,2,    241.8,2,     5.19,2,    18.18,2,     1.24,2,  -999.0,  8.8916,-999.000
     09FA290_1, PR13N,    12,  1,   -999,     41,2,19900227,2046,-43.2722, 152.5985, 4613,    499.6,   8.4780,  34.5460,2,  34.5490,2,    230.2,2,    237.5,2,     6.09,2,    19.68,2,     1.42,2,  -999.0,  8.4250,-999.000
     09FA290_1, PR13N,    12,  1,   -999,     24,2,19900227,2046,-43.2722, 152.5985, 4613,    597.4,   8.1780,  34.5400,2,  34.5380,2,    214.6,2,    218.5,2,     9.29,2,    22.28,2,     1.52,2,  -999.0,  8.1156,-999.000
     09FA290_1, PR13N,    12,  1,   -999,     29,2,19900227,2046,-43.2722, 152.5985, 4613,    801.0,   6.5080,  34.4460,2,  34.4500,2,    202.5,2,    196.3,2,    20.28,2,    28.17,2,     1.92,2,  -999.0,  6.4333,-999.000
     09FA290_1, PR13N,    12,  1,   -999,     25,2,19900227,2046,-43.2722, 152.5985, 4613,   1009.3,   4.7110,  34.3800,2,  34.3850,2,    194.2,2,    195.1,2,    34.47,2,    31.97,2,     2.19,2,  -999.0,  4.6293,-999.000
     09FA290_1, PR13N,    12,  1,   -999,      1,2,19900227,2046,-43.2722, 152.5985, 4613,   1266.2,   3.6980,  34.4700,2,  34.4700,2,    170.3,2,    171.8,2,    61.64,2,    34.77,2,     2.44,2,  -999.0,  3.6027,-999.000
     09FA290_1, PR13N,    12,  1,   -999,     37,2,19900227,2046,-43.2722, 152.5985, 4613,   1506.5,   3.0680,  34.5540,2,  34.5520,2,    158.2,2,    158.8,2,    81.42,2,    35.86,2,     2.53,2,  -999.0,  2.9589,-999.000
     09FA290_1, PR13N,    12,  1,   -999,     46,2,19900227,2046,-43.2722, 152.5985, 4613,   1506.5,   3.0680,  34.5540,2,  34.5530,2,    158.2,2,    159.1,2,    81.42,2,    35.86,2,     2.54,2,    20.1,  2.9589,   3.093
     09FA290_1, PR13N,    12,  1,   -999,     34,2,19900227,2046,-43.2722, 152.5985, 4613,   1749.4,   2.6630,  34.6110,2,  34.6090,2,    154.3,2,    159.7,2,    89.61,2,    35.76,2,     2.49,2,  -999.0,  2.5383,-999.000
     09FA290_1, PR13N,    12,  1,   -999,      2,2,19900227,2046,-43.2722, 152.5985, 4613,   2295.6,   2.1630,  34.7080,2,  34.7060,2,    170.1,2,    177.5,2,    91.21,2,    33.67,2,     2.34,2,  -999.0,  1.9980,-999.000
     09FA290_1, PR13N,    12,  1,   -999,     42,2,19900227,2046,-43.2722, 152.5985, 4613,   2676.4,   1.9010,  34.7340,2,  34.7310,2,    177.0,2,    185.1,2,    99.30,2,    33.07,2,     2.29,2,  -999.0,  1.7060,-999.000
     09FA290_1, PR13N,    12,  1,   -999,     28,2,19900227,2046,-43.2722, 152.5985, 4613,   2676.4,   1.9010,  34.7340,2,  34.7310,2,    177.0,2,    184.8,2,  -999.00,5,  -999.00,5,  -999.00,5,  -999.0,  1.7060,-999.000
     09FA290_1, PR13N,    12,  1,   -999,     10,2,19900227,2046,-43.2722, 152.5985, 4613,   3059.6,   1.6320,  34.7330,2,  34.7310,2,    182.6,2,    190.4,2,   105.69,2,    33.27,2,     2.32,2,  -999.0,  1.4062,-999.000
     09FA290_1, PR13N,    12,  1,   -999,     36,2,19900227,2046,-43.2722, 152.5985, 4613,   3497.5,   1.3130,  34.7260,2,  34.7240,2,    188.9,2,    195.7,2,   112.19,2,    33.47,2,     2.34,2,  -999.0,  1.0515,-999.000
     09FA290_1, PR13N,    12,  1,   -999,     40,2,19900227,2046,-43.2722, 152.5985, 4613,   3497.5,   1.3130,  34.7260,2,  34.7200,2,    188.9,2,    197.3,2,   112.19,2,    33.67,2,     2.34,2,  -999.0,  1.0516,-999.000
     09FA290_1, PR13N,    12,  1,   -999,     45,2,19900227,2046,-43.2722, 152.5985, 4613,   3633.0,   1.2340,  34.7230,2,  34.7250,2,    189.0,2,    195.7,2,   108.99,2,    32.67,2,     2.26,2,  -999.0,  0.9608,-999.000
     09FA290_1, PR13N,    12,  1,   -999,     31,2,19900227,2046,-43.2722, 152.5985, 4613,   3998.1,   1.1090,  34.7150,2,  34.7200,2,    192.3,2,    196.8,2,   113.79,2,    33.87,2,     2.36,2,  -999.0,  0.8011,-999.000
     09FA290_1, PR13N,    12,  1,   -999,     12,2,19900227,2046,-43.2722, 152.5985, 4613,   4499.3,   1.0000,  34.7080,2,  34.7090,2,    200.3,2,    205.0,2,   120.28,2,    33.67,2,     2.36,2,    99.7,  0.6405,   1.017
     09FA290_1, PR13N,    12,  1,   -999,     35,2,19900227,2046,-43.2722, 152.5985, 4613,   4640.3,   0.9750,  34.7090,2,  34.7080,2,    202.5,2,    204.4,2,   125.17,2,    34.07,2,     2.37,2,  -999.0,  0.6003,-999.000