BOTTLE,20020730WHPSIO
EXPOCODE,SECT_ID,STNNBR,CASTNO,SAMPNO,BTLNBR,BTLNBR_FLAG_W,DATE,TIME,LATITUDE,LONGITUDE,DEPTH,CTDPRS,CTDTMP,CTDSAL,CTDSAL_FLAG_W,SALNTY,SALNTY_FLAG_W,CTDOXY,CTDOXY_FLAG_W,OXYGEN,OXYGEN_FLAG_W,SILCAT,SILCAT_FLAG_W,NO2+NO3,NO2+NO3_FLAG_W,PHSPHT,PHSPHT_FLAG_W,REVPRS,THETA,REVTMP
,,,,,,,,,,,,DBR,ITS-90,PSS-78,,PSS-78,,UMOL/KG,,UMOL/KG,,UMOL/KG,,UMOL/KG,,UMOL/KG,,DBR,ITS-90,ITS-90
     09FA290_2,FRAN90,   134,  1,   -999,      6,2,19900405,0207,-35.2503, 155.3605, 4735,      4.1,  21.9930,  35.2880,2,  35.2870,2,    215.6,2,    219.6,2,     0.70,2,     0.18,2,     0.10,2,  -999.0, 21.9922,  22.002
     09FA290_2,FRAN90,   134,  1,   -999,     27,2,19900405,0207,-35.2503, 155.3605, 4735,     47.8,  20.2780,  35.5500,2,  35.5460,2,    224.1,2,    218.9,2,     0.70,2,     0.18,2,     0.15,2,  -999.0, 20.2691,-999.000
     09FA290_2,FRAN90,   134,  1,   -999,     45,2,19900405,0207,-35.2503, 155.3605, 4735,     98.5,  16.8670,  35.4920,2,  35.5030,2,    191.9,2,    185.7,2,     2.20,2,     6.56,2,     0.57,2,  -999.0, 16.8508,-999.000
     09FA290_2,FRAN90,   134,  1,   -999,     28,2,19900405,0207,-35.2503, 155.3605, 4735,    199.2,  13.5870,  35.2520,2,  35.2520,2,    191.5,2,    195.1,2,     3.60,2,    11.13,2,     0.85,2,  -999.0, 13.5587,-999.000
     09FA290_2,FRAN90,   134,  1,   -999,     36,2,19900405,0207,-35.2503, 155.3605, 4735,    298.0,  11.7470,  35.0350,2,  35.0410,2,    191.7,2,    194.9,2,     5.29,2,    14.97,2,     1.07,2,  -999.0, 11.7085,-999.000
     09FA290_2,FRAN90,   134,  1,   -999,      1,2,19900405,0207,-35.2503, 155.3605, 4735,    399.0,  10.0540,  34.8040,2,  34.8070,2,    199.1,2,    202.6,2,     6.49,2,    18.43,2,     1.29,2,  -999.0, 10.0072,-999.000
     09FA290_2,FRAN90,   134,  1,   -999,     25,2,19900405,0207,-35.2503, 155.3605, 4735,    497.5,   8.9400,  34.6720,2,  34.6740,2,    194.7,2,    193.7,2,    10.49,2,    22.26,2,     1.54,2,  -999.0,  8.8855,-999.000
     09FA290_2,FRAN90,   134,  1,   -999,     37,2,19900405,0207,-35.2503, 155.3605, 4735,    598.5,   7.8660,  34.5780,2,  34.5950,2,    189.7,2,    187.3,2,    15.58,2,    25.36,2,     1.74,2,  -999.0,  7.8048,-999.000
     09FA290_2,FRAN90,   134,  1,   -999,     18,2,19900405,0207,-35.2503, 155.3605, 4735,    799.4,   6.3100,  34.4790,2,  34.4830,2,    185.5,2,    184.6,2,    26.57,2,    29.37,2,     2.01,2,  -999.0,  6.2366,-999.000
     09FA290_2,FRAN90,   134,  1,   -999,     35,2,19900405,0207,-35.2503, 155.3605, 4735,    868.8,   5.7560,  34.4640,2,  34.4670,2,    182.7,2,    182.3,2,    33.17,2,    30.65,2,     2.09,2,  -999.0,  5.6795,-999.000
     09FA290_2,FRAN90,   134,  1,   -999,     10,2,19900405,0207,-35.2503, 155.3605, 4735,    998.8,   4.9280,  34.4720,2,  34.4750,2,    174.7,2,    175.2,2,    42.66,2,    32.66,2,     2.26,2,  -999.0,  4.8454,-999.000
     09FA290_2,FRAN90,   134,  1,   -999,     46,2,19900405,0207,-35.2503, 155.3605, 4735,   1188.5,   3.9670,  34.5140,2,  34.5140,2,    166.6,2,    162.6,2,    61.14,2,    34.85,2,     2.41,2,    91.2,  3.8757,   3.994
     09FA290_2,FRAN90,   134,  1,   -999,     29,2,19900405,0207,-35.2503, 155.3605, 4735,   1417.0,   3.2490,  34.5630,2,  34.5640,2,    155.2,2,    154.6,2,    79.02,2,    36.30,2,     2.51,2,  -999.0,  3.1453,-999.000
     09FA290_2,FRAN90,   134,  1,   -999,     26,2,19900405,0207,-35.2503, 155.3605, 4735,   1499.1,   3.0070,  34.5850,2,  34.5870,2,    154.9,2,    152.8,2,    88.21,2,    36.30,2,     2.55,2,  -999.0,  2.8991,-999.000
     09FA290_2,FRAN90,   134,  1,   -999,     41,2,19900405,0207,-35.2503, 155.3605, 4735,   1748.1,   2.5350,  34.6390,2,  34.6390,2,    160.8,2,    157.2,2,    90.01,2,    36.12,2,     2.53,2,  -999.0,  2.4120,-999.000
     09FA290_2,FRAN90,   134,  1,   -999,     42,2,19900405,0207,-35.2503, 155.3605, 4735,   2165.8,   2.1170,  34.7020,2,  34.7020,2,    171.6,2,    174.6,2,    90.01,2,    34.49,2,     2.40,2,  -999.0,  1.9643,-999.000
     09FA290_2,FRAN90,   134,  1,   -999,     40,2,19900405,0207,-35.2503, 155.3605, 4735,   2496.1,   1.8720,  34.7270,2,  34.7250,2,    181.1,2,    181.7,2,    95.60,2,    34.31,2,     2.34,2,  -999.0,  1.6941,-999.000
     09FA290_2,FRAN90,   134,  1,   -999,      9,2,19900405,0207,-35.2503, 155.3605, 4735,   2796.8,   1.6350,  34.7310,2,  34.7320,2,    184.6,2,    185.5,2,   101.20,2,    33.76,2,     2.33,2,  -999.0,  1.4341,-999.000
     09FA290_2,FRAN90,   134,  1,   -999,      2,2,19900405,0207,-35.2503, 155.3605, 4735,   3297.8,   1.2470,  34.7240,2,  34.7230,2,    190.5,2,    192.6,2,   112.29,2,    34.12,2,     2.36,2,  -999.0,  1.0070,-999.000
     09FA290_2,FRAN90,   134,  1,   -999,     43,2,19900405,0207,-35.2503, 155.3605, 4735,   3497.8,   1.2030,  34.7220,2,  34.7190,2,    192.1,2,    193.7,2,   112.29,2,    34.31,2,     2.36,2,  -999.0,  0.9443,-999.000
     09FA290_2,FRAN90,   134,  1,   -999,      8,2,19900405,0207,-35.2503, 155.3605, 4735,   3996.3,   1.1420,  34.7210,2,  34.7190,2,    194.7,2,    195.8,2,   115.98,2,    34.49,2,     2.38,2,  -999.0,  0.8333,-999.000
     09FA290_2,FRAN90,   134,  1,   -999,     12,2,19900405,0207,-35.2503, 155.3605, 4735,   4497.0,   1.1530,  34.7200,2,  34.7150,2,    198.4,2,    195.2,2,   117.88,2,    34.49,2,     2.38,2,    33.1,  0.7889,   1.156
     09FA290_2,FRAN90,   134,  1,   -999,     24,2,19900405,0207,-35.2503, 155.3605, 4735,   4739.6,   1.1500,  34.7170,2,  34.7170,2,    202.0,2,    196.4,2,   117.88,2,    34.49,2,     2.38,2,  -999.0,  0.7581,-999.000
     09FA290_2,FRAN90,   135,  1,   -999,      6,2,19900405,0857,-34.8307, 154.7175, 4910,      3.1,  21.1480,  35.4630,2,  35.4600,2,    220.0,2,    220.1,2,     0.90,2,     0.18,2,     0.11,2,  -999.0, 21.1474,  21.174
     09FA290_2,FRAN90,   135,  1,   -999,     27,2,19900405,0857,-34.8307, 154.7175, 4910,     48.9,  18.9410,  35.5110,2,  35.5150,2,    229.0,2,    226.6,2,     0.70,2,     0.18,2,     0.13,2,  -999.0, 18.9323,-999.000
     09FA290_2,FRAN90,   135,  1,   -999,     45,2,19900405,0857,-34.8307, 154.7175, 4910,     98.2,  15.6030,  35.4450,2,  35.4450,2,    207.8,2,    204.2,2,     2.30,2,     6.56,2,     0.56,2,  -999.0, 15.5877,-999.000
     09FA290_2,FRAN90,   135,  1,   -999,     28,2,19900405,0857,-34.8307, 154.7175, 4910,    158.4,  14.2380,  35.3410,2,  35.3420,2,    207.3,2,    206.3,2,     2.90,2,     8.75,2,     0.71,2,  -999.0, 14.2148,-999.000
     09FA290_2,FRAN90,   135,  1,   -999,     36,2,19900405,0857,-34.8307, 154.7175, 4910,    198.0,  13.3010,  35.2370,2,  35.2370,2,    192.5,2,    204.0,2,     3.50,2,    10.58,2,     0.82,2,  -999.0, 13.2733,-999.000
     09FA290_2,FRAN90,   135,  1,   -999,      1,2,19900405,0857,-34.8307, 154.7175, 4910,    299.0,  11.1250,  34.9450,2,  34.9500,2,    193.7,2,    189.6,2,     6.09,2,    17.14,2,     1.20,2,  -999.0, 11.0877,-999.000
     09FA290_2,FRAN90,   135,  1,   -999,     25,2,19900405,0857,-34.8307, 154.7175, 4910,    398.4,   9.6420,  34.7510,2,  34.7490,2,    204.0,2,    199.6,2,     7.29,2,    20.06,2,     1.36,2,  -999.0,  9.5965,-999.000
     09FA290_2,FRAN90,   135,  1,   -999,     37,2,19900405,0857,-34.8307, 154.7175, 4910,    498.3,   8.4730,  34.6200,2,  34.6230,2,    193.9,2,    194.9,2,    11.49,2,    23.71,2,     1.59,2,  -999.0,  8.4201,-999.000
     09FA290_2,FRAN90,   135,  1,   -999,     18,2,19900405,0857,-34.8307, 154.7175, 4910,    597.6,   7.5570,  34.5500,2,  34.5540,2,    191.0,2,    189.1,2,    16.58,2,    26.07,2,     1.76,2,  -999.0,  7.4973,-999.000
     09FA290_2,FRAN90,   135,  1,   -999,     35,2,19900405,0857,-34.8307, 154.7175, 4910,    798.2,   6.0380,  34.4740,2,  34.4770,2,    185.5,2,    183.2,2,    29.07,2,    29.91,2,     2.03,2,  -999.0,  5.9664,-999.000
     09FA290_2,FRAN90,   135,  1,   -999,     10,2,19900405,0857,-34.8307, 154.7175, 4910,    898.9,   5.3020,  34.4650,2,  34.4660,2,    181.1,2,    178.5,2,    38.26,2,    31.73,2,     2.13,2,  -999.0,  5.2257,-999.000
     09FA290_2,FRAN90,   135,  1,   -999,     46,2,19900405,0857,-34.8307, 154.7175, 4910,    998.2,   4.7450,  34.4760,2,  34.4780,2,    175.3,2,    173.4,2,    46.45,2,    33.01,2,     2.25,2,    99.3,  4.6638,   4.773
     09FA290_2,FRAN90,   135,  1,   -999,     29,2,19900405,0857,-34.8307, 154.7175, 4910,   1169.5,   3.9130,  34.5070,2,  34.5060,2,    166.9,2,    164.0,2,    61.34,2,    34.83,2,     2.38,2,  -999.0,  3.8238,-999.000
     09FA290_2,FRAN90,   135,  1,   -999,     26,2,19900405,0857,-34.8307, 154.7175, 4910,   1389.2,   3.1530,  34.5630,2,  34.5630,2,    158.6,2,    157.2,2,    78.72,2,    36.28,2,     2.49,2,  -999.0,  3.0527,-999.000
     09FA290_2,FRAN90,   135,  1,   -999,     41,2,19900405,0857,-34.8307, 154.7175, 4910,   1498.9,   2.8940,  34.5930,2,  34.5960,2,    155.2,2,    154.3,2,    82.22,2,    36.47,2,     2.51,2,  -999.0,  2.7874,-999.000
     09FA290_2,FRAN90,   135,  1,   -999,     42,2,19900405,0857,-34.8307, 154.7175, 4910,   1749.2,   2.4780,  34.6490,2,  34.6490,2,    160.3,2,    159.6,2,    89.31,2,    35.92,2,     2.48,2,  -999.0,  2.3556,-999.000
     09FA290_2,FRAN90,   135,  1,   -999,     40,2,19900405,0857,-34.8307, 154.7175, 4910,   2118.0,   2.1510,  34.7030,2,  34.7040,2,    171.6,2,    174.0,2,    87.61,2,    34.47,2,     2.31,2,  -999.0,  2.0019,-999.000
     09FA290_2,FRAN90,   135,  1,   -999,      9,2,19900405,0857,-34.8307, 154.7175, 4910,   2508.4,   1.8630,  34.7300,2,  34.7270,2,    179.9,2,    183.4,2,    94.71,2,    33.92,2,     2.30,2,  -999.0,  1.6842,-999.000
     09FA290_2,FRAN90,   135,  1,   -999,      2,2,19900405,0857,-34.8307, 154.7175, 4910,   2838.5,   1.6060,  34.7330,2,  34.7290,2,    181.1,2,    187.0,2,   100.10,2,    33.92,2,     2.30,2,  -999.0,  1.4019,-999.000
     09FA290_2,FRAN90,   135,  1,   -999,     43,2,19900405,0857,-34.8307, 154.7175, 4910,   3487.2,   1.2400,  34.7260,2,  34.7240,2,    190.7,2,    194.3,2,   110.79,2,    34.29,2,     2.30,2,  -999.0,  0.9814,-999.000
     09FA290_2,FRAN90,   135,  1,   -999,      8,2,19900405,0857,-34.8307, 154.7175, 4910,   3998.0,   1.1520,  34.7230,2,  34.7210,2,    194.0,2,    195.2,2,   114.49,2,    34.47,2,     2.31,2,  -999.0,  0.8428,-999.000
     09FA290_2,FRAN90,   135,  1,   -999,     12,2,19900405,0857,-34.8307, 154.7175, 4910,   4497.6,   1.1450,  34.7210,2,  34.7190,2,    198.4,2,    196.4,2,   114.49,2,    34.65,2,     2.31,2,    37.1,  0.7810,   1.131
     09FA290_2,FRAN90,   135,  1,   -999,     24,2,19900405,0857,-34.8307, 154.7175, 4910,   4750.5,   1.1470,  34.7200,2,  34.7170,2,    201.6,2,    197.0,2,   118.08,2,    34.65,2,     2.33,2,  -999.0,  0.7539,-999.000
     09FA290_2,FRAN90,   136,  1,   -999,     27,2,19900405,2224,-33.9530, 153.3513, 4813,     50.0,  23.4100,  35.4320,2,  35.4280,2,    216.9,2,    218.6,2,     0.70,2,     0.18,2,     0.10,2,  -999.0, 23.3997,-999.000
     09FA290_2,FRAN90,   136,  1,   -999,     45,2,19900405,2224,-33.9530, 153.3513, 4813,     74.1,  23.1430,  35.5260,2,  35.5240,2,    216.2,2,    214.5,2,     0.70,2,     0.18,2,     0.10,2,  -999.0, 23.1278,-999.000
     09FA290_2,FRAN90,   136,  1,   -999,     28,2,19900405,2224,-33.9530, 153.3513, 4813,     98.0,  21.7110,  35.5920,2,  35.5850,2,    215.9,2,    213.9,2,     0.90,2,     0.18,2,     0.16,2,  -999.0, 21.6918,-999.000
     09FA290_2,FRAN90,   136,  1,   -999,     36,2,19900405,2224,-33.9530, 153.3513, 4813,    199.8,  19.1540,  35.6190,2,  35.6170,2,    202.8,2,    202.4,2,     1.00,2,     2.91,2,     0.33,2,  -999.0, 19.1180,-999.000
     09FA290_2,FRAN90,   136,  1,   -999,      1,2,19900405,2224,-33.9530, 153.3513, 4813,    299.1,  18.0730,  35.5820,2,  35.5810,2,    186.3,2,    187.1,2,     1.80,2,     5.63,2,     0.49,2,  -999.0, 18.0212,-999.000
     09FA290_2,FRAN90,   136,  1,   -999,     25,2,19900405,2224,-33.9530, 153.3513, 4813,    396.9,  15.6700,  35.4110,2,  35.4110,2,    185.9,2,    184.2,2,     2.80,2,     9.08,2,     0.71,2,  -999.0, 15.6075,-999.000
     09FA290_2,FRAN90,   136,  1,   -999,     37,2,19900405,2224,-33.9530, 153.3513, 4813,    502.3,  13.1590,  35.1630,2,  35.1670,2,    184.3,2,    186.0,2,     4.60,2,    13.45,2,     0.99,2,  -999.0, 13.0885,-999.000
     09FA290_2,FRAN90,   136,  1,   -999,     18,2,19900405,2224,-33.9530, 153.3513, 4813,    597.5,  11.0670,  34.9290,2,  34.9350,2,    188.3,2,    189.3,2,     6.49,2,    17.44,2,     1.22,2,  -999.0, 10.9918,-999.000
     09FA290_2,FRAN90,   136,  1,   -999,     35,2,19900405,2224,-33.9530, 153.3513, 4813,    799.7,   8.1100,  34.5900,2,  34.5930,2,    189.9,2,    190.2,2,    13.79,2,    24.71,2,     1.68,2,  -999.0,  8.0258,-999.000
     09FA290_2,FRAN90,   136,  1,   -999,     10,2,19900405,2224,-33.9530, 153.3513, 4813,    998.4,   6.2360,  34.4770,2,  34.4840,2,    184.9,2,    183.8,2,    27.37,2,    29.25,2,     1.99,2,  -999.0,  6.1436,-999.000
     09FA290_2,FRAN90,   136,  1,   -999,     46,2,19900405,2224,-33.9530, 153.3513, 4813,   1122.5,   5.3770,  34.4680,2,  34.4720,2,    183.6,2,    177.6,2,    38.66,2,    31.43,2,     2.14,2,    24.4,  5.2794,   5.430
     09FA290_2,FRAN90,   136,  1,   -999,     29,2,19900405,2224,-33.9530, 153.3513, 4813,   1360.0,   4.1200,  34.5060,2,  34.5090,2,    165.5,2,    164.0,2,    59.94,2,    34.52,2,     2.37,2,  -999.0,  4.0122,-999.000
     09FA290_2,FRAN90,   136,  1,   -999,     26,2,19900405,2224,-33.9530, 153.3513, 4813,   1496.1,   3.5930,  34.5400,2,  34.5400,2,    158.9,2,    157.5,2,    71.63,2,    35.60,2,     2.47,2,  -999.0,  3.4788,-999.000
     09FA290_2,FRAN90,   136,  1,   -999,     41,2,19900405,2224,-33.9530, 153.3513, 4813,   1601.7,   3.2260,  34.5690,2,  34.5700,2,    155.1,2,    153.4,2,    80.12,2,    36.33,2,     2.52,2,  -999.0,  3.1068,-999.000
     09FA290_2,FRAN90,   136,  1,   -999,     42,2,19900405,2224,-33.9530, 153.3513, 4813,   1750.2,   2.8440,  34.6050,2,  34.6050,2,    153.1,2,    153.7,2,    86.91,2,    36.33,2,     2.52,2,  -999.0,  2.7168,-999.000
     09FA290_2,FRAN90,   136,  1,   -999,     40,2,19900405,2224,-33.9530, 153.3513, 4813,   2328.8,   2.1530,  34.7000,2,  34.7010,2,    171.7,2,    172.5,2,    88.71,2,    34.70,2,     2.37,2,  -999.0,  1.9852,-999.000
     09FA290_2,FRAN90,   136,  1,   -999,      9,2,19900405,2224,-33.9530, 153.3513, 4813,   2660.0,   1.8720,  34.7250,2,  34.7230,2,    180.2,2,    181.7,2,    93.81,2,    33.98,2,     2.32,2,  -999.0,  1.6791,-999.000
     09FA290_2,FRAN90,   136,  1,   -999,      2,2,19900405,2224,-33.9530, 153.3513, 4813,   2967.8,   1.6390,  34.7320,2,  34.7270,2,    184.5,2,    187.3,2,    99.10,2,    33.79,2,     2.30,2,  -999.0,  1.4219,-999.000
     09FA290_2,FRAN90,   136,  1,   -999,     43,2,19900405,2224,-33.9530, 153.3513, 4813,   3545.5,   1.2480,  34.7230,2,  34.7200,2,    191.3,2,    193.7,2,   107.79,2,    34.34,2,     2.32,2,  -999.0,  0.9834,-999.000
     09FA290_2,FRAN90,   136,  1,   -999,      8,2,19900405,2224,-33.9530, 153.3513, 4813,   3997.9,   1.1590,  34.7210,2,  34.7190,2,    194.2,2,    193.7,2,   113.09,2,    34.34,2,     2.34,2,  -999.0,  0.8497,-999.000
     09FA290_2,FRAN90,   136,  1,   -999,     12,2,19900405,2224,-33.9530, 153.3513, 4813,   4496.5,   1.1600,  34.7180,2,  34.7180,2,    197.7,2,    196.1,2,   113.09,2,    34.52,2,     2.35,2,    17.7,  0.7957,   1.182
     09FA290_2,FRAN90,   136,  1,   -999,     24,2,19900405,2224,-33.9530, 153.3513, 4813,   4722.4,   1.1700,  34.7190,2,  34.7180,2,    200.7,2,    195.5,2,   114.79,2,    34.52,2,     2.35,2,  -999.0,  0.7794,-999.000