BOTTLE,20020730WHPSIO
EXPOCODE,SECT_ID,STNNBR,CASTNO,SAMPNO,BTLNBR,BTLNBR_FLAG_W,DATE,TIME,LATITUDE,LONGITUDE,DEPTH,CTDPRS,CTDTMP,CTDSAL,CTDSAL_FLAG_W,SALNTY,SALNTY_FLAG_W,CTDOXY,CTDOXY_FLAG_W,OXYGEN,OXYGEN_FLAG_W,SILCAT,SILCAT_FLAG_W,NO2+NO3,NO2+NO3_FLAG_W,PHSPHT,PHSPHT_FLAG_W,REVPRS,THETA,REVTMP
,,,,,,,,,,,,DBR,ITS-90,PSS-78,,PSS-78,,UMOL/KG,,UMOL/KG,,UMOL/KG,,UMOL/KG,,UMOL/KG,,DBR,ITS-90,ITS-90
     09FA290_1, PR13N,    23,  1,   -999,      6,2,19900303,1051,-43.2588, 162.7467, 4900,      3.9,  17.1590,  35.0650,2,  35.0670,2,    228.1,2,    241.4,2,     1.40,2,     0.20,2,     0.17,2,  -999.0, 17.1584,  17.185
     09FA290_1, PR13N,    23,  1,   -999,     44,2,19900303,1051,-43.2588, 162.7467, 4900,     98.2,  13.3510,  35.1660,2,  35.1640,2,    216.3,2,    235.8,2,     1.80,2,     5.49,2,     0.45,2,  -999.0, 13.3373,-999.000
     09FA290_1, PR13N,    23,  1,   -999,     31,2,19900303,1051,-43.2588, 162.7467, 4900,    398.0,   9.0910,  34.6290,2,  34.6340,2,    217.6,2,    235.9,2,     4.99,2,    17.88,2,     1.17,2,  -999.0,  9.0472,-999.000
     09FA290_1, PR13N,    23,  1,   -999,     36,2,19900303,1051,-43.2588, 162.7467, 4900,    500.6,   8.6390,  34.5720,2,  34.5780,2,    219.2,2,    237.1,2,     5.79,2,    19.28,2,     1.29,2,  -999.0,  8.5853,-999.000
     09FA290_1, PR13N,    23,  1,   -999,     18,2,19900303,1051,-43.2588, 162.7467, 4900,    601.3,   8.3180,  34.5620,2,  34.5670,2,    207.6,2,    213.8,2,     9.09,2,    22.28,2,     1.50,2,  -999.0,  8.2545,-999.000
     09FA290_1, PR13N,    23,  1,   -999,     24,2,19900303,1051,-43.2588, 162.7467, 4900,    800.2,   7.0570,  34.4900,2,  34.4930,2,    183.8,2,    190.6,2,    18.18,2,    26.97,2,     1.80,2,  -999.0,  6.9791,-999.000
     09FA290_1, PR13N,    23,  1,   -999,     35,2,19900303,1051,-43.2588, 162.7467, 4900,   1001.0,   5.5290,  34.4300,2,  34.4320,2,    186.4,2,    185.3,2,    31.27,2,    30.67,2,     2.09,2,  -999.0,  5.4417,-999.000
     09FA290_1, PR13N,    23,  1,   -999,     46,2,19900303,1051,-43.2588, 162.7467, 4900,   1096.8,   4.7010,  34.4130,2,  34.4150,2,    182.3,2,    185.3,2,    41.06,2,    32.27,2,     2.22,2,     5.5,  4.6115,   4.726
     09FA290_1, PR13N,    23,  1,   -999,      2,2,19900303,1051,-43.2588, 162.7467, 4900,   1286.9,   3.6490,  34.4590,2,  34.4610,2,    175.1,2,    175.6,2,    59.34,2,    34.47,2,     2.39,2,  -999.0,  3.5524,-999.000
     09FA290_1, PR13N,    23,  1,   -999,     29,2,19900303,1051,-43.2588, 162.7467, 4900,   1498.7,   3.1060,  34.5340,2,-999.0000,5,    162.6,2,    161.2,2,    77.52,2,    35.56,2,     2.50,2,  -999.0,  2.9973,-999.000
     09FA290_1, PR13N,    23,  1,   -999,     41,2,19900303,1051,-43.2588, 162.7467, 4900,   1498.7,   3.1060,  34.5340,2,  34.5370,2,    162.6,2,    162.4,2,    77.52,2,    35.66,2,     2.50,2,  -999.0,  2.9971,-999.000
     09FA290_1, PR13N,    23,  1,   -999,      8,2,19900303,1051,-43.2588, 162.7467, 4900,   1748.0,   2.6540,  34.6070,2,  34.6040,2,    161.6,2,    160.3,2,    86.61,2,    35.56,2,     2.49,2,  -999.0,  2.5295,-999.000
     09FA290_1, PR13N,    23,  1,   -999,     26,2,19900303,1051,-43.2588, 162.7467, 4900,   2347.8,   2.1210,  34.6990,2,  34.6970,2,    173.7,2,    176.5,2,    94.31,2,    33.77,2,     2.30,2,  -999.0,  1.9521,-999.000
     09FA290_1, PR13N,    23,  1,   -999,     25,2,19900303,1051,-43.2588, 162.7467, 4900,   2500.3,   1.9790,  34.7140,2,  34.7100,2,    174.0,2,    180.6,2,    97.30,2,    33.57,2,     2.32,2,  -999.0,  1.7988,-999.000
     09FA290_1, PR13N,    23,  1,   -999,     28,2,19900303,1051,-43.2588, 162.7467, 4900,   2500.3,   1.9790,  34.7140,2,  34.7110,2,    174.0,2,    180.6,2,    97.30,2,    33.77,2,     2.32,2,  -999.0,  1.7988,-999.000
     09FA290_1, PR13N,    23,  1,   -999,     43,2,19900303,1051,-43.2588, 162.7467, 4900,   2650.6,   1.8410,  34.7240,2,  34.7200,2,    176.6,2,    183.5,2,    98.80,2,    33.57,2,     2.30,2,  -999.0,  1.6496,-999.000
     09FA290_1, PR13N,    23,  1,   -999,     10,2,19900303,1051,-43.2588, 162.7467, 4900,   2960.2,   1.5930,  34.7240,2,  34.7210,2,    181.5,2,    187.3,2,   104.89,2,    33.57,2,     2.30,2,  -999.0,  1.3777,-999.000
     09FA290_1, PR13N,    23,  1,   -999,     34,2,19900303,1051,-43.2588, 162.7467, 4900,   3498.8,   1.2820,  34.7180,2,  34.7160,2,    185.3,2,    193.2,2,   115.58,2,    33.87,2,     2.34,2,  -999.0,  1.0212,-999.000
     09FA290_1, PR13N,    23,  1,   -999,     40,2,19900303,1051,-43.2588, 162.7467, 4900,   3498.8,   1.2820,  34.7180,2,  34.7160,2,    185.3,2,    192.0,2,   115.58,2,    33.57,2,     2.34,2,  -999.0,  1.0212,-999.000
     09FA290_1, PR13N,    23,  1,   -999,      1,2,19900303,1051,-43.2588, 162.7467, 4900,   3635.6,   1.2360,  34.7170,2,  34.7150,2,    187.0,2,    193.5,2,   117.08,2,    34.07,2,     2.35,2,  -999.0,  0.9625,-999.000
     09FA290_1, PR13N,    23,  1,   -999,      9,2,19900303,1051,-43.2588, 162.7467, 4900,   3997.1,   1.1690,  34.7150,2,  34.7130,2,    190.7,2,    194.4,2,   117.08,2,    34.07,2,     2.35,2,  -999.0,  0.8595,-999.000
     09FA290_1, PR13N,    23,  1,   -999,     12,2,19900303,1051,-43.2588, 162.7467, 4900,   4499.2,   1.1250,  34.7110,2,  34.7110,2,    195.5,2,    197.0,2,   120.08,2,    34.07,2,     2.35,2,    34.3,  0.7615,   1.134
     09FA290_1, PR13N,    23,  1,   -999,     42,2,19900303,1051,-43.2588, 162.7467, 4900,   4947.6,   1.0860,  34.7070,2,  34.7070,2,    197.8,2,    197.6,2,   124.68,2,    34.27,2,     2.35,2,  -999.0,  0.6718,-999.000
     09FA290_1, PR13N,    24,  1,   -999,      6,2,19900303,1800,-43.2553, 163.6768, 4600,      4.0,  17.0310,  34.9720,2,  34.9740,2,    240.6,2,    241.1,2,     1.20,2,     0.20,2,     0.19,2,  -999.0, 17.0303,  17.068
     09FA290_1, PR13N,    24,  1,   -999,     44,2,19900303,1800,-43.2553, 163.6768, 4600,     97.7,  13.1080,  35.1820,2,  35.1770,2,    229.1,2,    231.7,2,     2.10,2,     6.09,2,     0.56,2,  -999.0, 13.0945,-999.000
     09FA290_1, PR13N,    24,  1,   -999,     31,2,19900303,1800,-43.2553, 163.6768, 4600,    112.2,  12.8120,  35.1590,2,  35.1610,2,    226.1,2,    231.9,2,     2.10,2,     6.89,2,     0.60,2,  -999.0, 12.7967,-999.000
     09FA290_1, PR13N,    24,  1,   -999,     36,2,19900303,1800,-43.2553, 163.6768, 4600,    196.8,  11.9320,  35.0550,2,  35.0570,2,    214.8,2,    219.3,2,     3.30,2,    10.79,2,     0.85,2,  -999.0, 11.9064,-999.000
     09FA290_1, PR13N,    24,  1,   -999,     18,2,19900303,1800,-43.2553, 163.6768, 4600,    402.1,   9.4720,  34.7050,2,  34.7110,2,    205.9,2,    215.3,2,     5.59,2,    18.38,2,     1.26,2,  -999.0,  9.4266,-999.000
     09FA290_1, PR13N,    24,  1,   -999,     24,2,19900303,1800,-43.2553, 163.6768, 4600,    498.2,   8.9020,  34.6280,2,  34.6290,2,    217.8,2,    218.5,2,     6.69,2,    19.98,2,     1.38,2,  -999.0,  8.8475,-999.000
     09FA290_1, PR13N,    24,  1,   -999,     35,2,19900303,1800,-43.2553, 163.6768, 4600,    597.5,   8.3000,  34.5780,2,  34.5790,2,    204.2,2,    203.5,2,    10.19,2,    22.88,2,     1.57,2,  -999.0,  8.2370,-999.000
     09FA290_1, PR13N,    24,  1,   -999,     46,2,19900303,1800,-43.2553, 163.6768, 4600,    804.0,   6.7460,  34.4850,2,  34.4930,2,    186.1,2,    186.8,2,    20.98,2,    27.97,2,     1.91,2,     6.3,  6.6695,   6.810
     09FA290_1, PR13N,    24,  1,   -999,      2,2,19900303,1800,-43.2553, 163.6768, 4600,   1080.6,   4.7760,  34.4230,2,  34.4260,2,    182.5,2,    182.7,2,    37.26,2,    32.27,2,     2.18,2,  -999.0,  4.6873,-999.000
     09FA290_1, PR13N,    24,  1,   -999,     41,2,19900303,1800,-43.2553, 163.6768, 4600,   1285.9,   3.7420,  34.4620,2,  34.4640,2,    173.8,2,    171.2,2,    54.15,2,    34.57,2,     2.39,2,  -999.0,  3.6446,-999.000
     09FA290_1, PR13N,    24,  1,   -999,      8,2,19900303,1800,-43.2553, 163.6768, 4600,   1514.4,   3.0590,  34.5410,2,  34.5430,2,    160.6,2,    161.2,2,    73.13,2,    35.66,2,     2.45,2,  -999.0,  2.9493,-999.000
     09FA290_1, PR13N,    24,  1,   -999,     29,2,19900303,1800,-43.2553, 163.6768, 4600,   1514.4,   3.0590,  34.5410,2,  34.5410,2,    160.6,2,    162.1,2,    73.13,2,    35.66,2,     2.48,2,  -999.0,  2.9493,-999.000
     09FA290_1, PR13N,    24,  1,   -999,     26,2,19900303,1800,-43.2553, 163.6768, 4600,   1749.3,   2.6650,  34.6100,2,  34.6110,2,    155.6,2,    159.7,2,    84.42,2,    35.66,2,     2.48,2,  -999.0,  2.5402,-999.000
     09FA290_1, PR13N,    24,  1,   -999,     25,2,19900303,1800,-43.2553, 163.6768, 4600,   1997.7,   2.3930,  34.6580,2,  34.6580,2,    161.0,2,    165.6,2,    86.01,2,    34.97,2,     2.43,2,  -999.0,  2.2507,-999.000
     09FA290_1, PR13N,    24,  1,   -999,     28,2,19900303,1800,-43.2553, 163.6768, 4600,   2265.4,   2.1320,  34.7000,2,  34.7000,2,    169.0,2,    175.9,2,    87.61,2,    33.67,2,     2.32,2,  -999.0,  1.9703,-999.000
     09FA290_1, PR13N,    24,  1,   -999,     43,2,19900303,1800,-43.2553, 163.6768, 4600,   2590.3,   1.8480,  34.7200,2,  34.7210,2,    175.5,2,    184.4,2,    94.11,2,    33.37,2,     2.31,2,  -999.0,  1.6620,-999.000
     09FA290_1, PR13N,    24,  1,   -999,     10,2,19900303,1800,-43.2553, 163.6768, 4600,   2590.3,   1.8480,  34.7200,2,  34.7180,2,    175.5,2,    182.6,2,    92.41,2,    33.37,2,     2.29,2,  -999.0,  1.6620,-999.000
     09FA290_1, PR13N,    24,  1,   -999,     40,2,19900303,1800,-43.2553, 163.6768, 4600,   2957.2,   1.5240,  34.7240,2,  34.7210,2,    180.5,2,    188.8,2,   102.20,2,    33.67,2,     2.32,2,  -999.0,  1.3105,-999.000
     09FA290_1, PR13N,    24,  1,   -999,      1,2,19900303,1800,-43.2553, 163.6768, 4600,   3616.8,   1.2290,  34.7190,2,  34.7150,2,    185.4,2,    192.9,2,   111.99,2,    33.87,2,     2.34,2,  -999.0,  0.9576,-999.000
     09FA290_1, PR13N,    24,  1,   -999,     34,2,19900303,1800,-43.2553, 163.6768, 4600,   3616.8,   1.2290,  34.7190,2,  34.7160,2,    185.4,2,    193.5,2,   111.99,2,    33.87,2,     2.34,2,  -999.0,  0.9576,-999.000
     09FA290_1, PR13N,    24,  1,   -999,      9,2,19900303,1800,-43.2553, 163.6768, 4600,   3997.4,   1.1700,  34.7140,2,  34.7120,2,    185.9,2,    194.4,2,   111.99,2,    34.07,2,     2.34,2,  -999.0,  0.8605,-999.000
     09FA290_1, PR13N,    24,  1,   -999,     12,2,19900303,1800,-43.2553, 163.6768, 4600,   4498.5,   1.1270,  34.7130,2,  34.7080,2,    190.1,2,    196.2,2,   115.28,2,    34.27,2,     2.34,2,    29.6,  0.7636,   1.136
     09FA290_1, PR13N,    24,  1,   -999,     42,2,19900303,1800,-43.2553, 163.6768, 4600,   4649.7,   1.0900,  34.7100,2,  34.7050,2,    186.2,2,    196.7,2,   118.48,2,    34.37,2,     2.36,2,  -999.0,  0.7105,-999.000
     09FA290_1, PR13N,    25,  1,   -999,      6,2,19900304,0055,-43.2472, 164.6113, 3400,      2.4,  16.1020,  34.7790,2,  34.7780,2,    255.2,2,    248.5,2,     0.60,2,     0.20,2,     0.17,2,  -999.0, 16.1016,  16.137
     09FA290_1, PR13N,    25,  1,   -999,     36,2,19900304,0055,-43.2472, 164.6113, 3400,     85.1,  13.3630,  35.1800,2,  35.1780,2,    242.1,2,    236.7,2,     1.90,2,     5.99,2,     0.48,2,  -999.0, 13.3511,-999.000
     09FA290_1, PR13N,    25,  1,   -999,     18,2,19900304,0055,-43.2472, 164.6113, 3400,    100.6,  13.0170,  35.1590,2,  35.1620,2,    231.6,2,    235.2,2,     1.90,2,     6.59,2,     0.55,2,  -999.0, 13.0032,-999.000
     09FA290_1, PR13N,    25,  1,   -999,     24,2,19900304,0055,-43.2472, 164.6113, 3400,    199.3,  11.3330,  34.9390,2,  34.9380,2,    222.1,2,    222.9,2,     3.50,2,    12.09,2,     0.87,2,  -999.0, 11.3080,-999.000
     09FA290_1, PR13N,    25,  1,   -999,     35,2,19900304,0055,-43.2472, 164.6113, 3400,    399.1,   9.2050,  34.6700,2,  34.6650,2,    213.6,2,    216.5,2,     6.39,2,    19.68,2,     1.30,2,  -999.0,  9.1607,-999.000
     09FA290_1, PR13N,    25,  1,   -999,     41,2,19900304,0055,-43.2472, 164.6113, 3400,    499.4,   8.4610,  34.5760,2,  34.5730,2,    212.4,2,    218.2,2,     8.09,2,    21.28,2,     1.45,2,  -999.0,  8.4081,-999.000
     09FA290_1, PR13N,    25,  1,   -999,      2,2,19900304,0055,-43.2472, 164.6113, 3400,    600.4,   7.9690,  34.5380,2,  34.5370,2,    207.8,2,    206.2,2,    11.19,2,    23.88,2,     1.60,2,  -999.0,  7.9072,-999.000
     09FA290_1, PR13N,    25,  1,   -999,     46,2,19900304,0055,-43.2472, 164.6113, 3400,    799.7,   6.7390,  34.4790,2,  34.4800,2,    186.9,2,    186.5,2,    20.98,2,    28.07,2,     1.89,2,     2.2,  6.6630,   6.741
     09FA290_1, PR13N,    25,  1,   -999,     29,2,19900304,0055,-43.2472, 164.6113, 3400,   1008.9,   5.1950,  34.4060,2,  34.4070,2,    188.0,2,    190.6,2,    32.17,2,    31.17,2,     2.12,2,  -999.0,  5.1095,-999.000
     09FA290_1, PR13N,    25,  1,   -999,      8,2,19900304,0055,-43.2472, 164.6113, 3400,   1249.8,   3.7520,  34.4460,2,  34.4480,2,    174.4,2,    176.5,2,    55.54,2,    34.17,2,     2.37,2,  -999.0,  3.6576,-999.000
     09FA290_1, PR13N,    25,  1,   -999,     25,2,19900304,0055,-43.2472, 164.6113, 3400,   1477.3,   3.0890,  34.5280,2,  34.5280,2,    164.9,2,    163.5,2,    73.13,2,    35.36,2,     2.47,2,  -999.0,  2.9821,-999.000
     09FA290_1, PR13N,    25,  1,   -999,     26,2,19900304,0055,-43.2472, 164.6113, 3400,   1477.3,   3.0890,  34.5280,2,  34.5270,2,    164.9,2,    163.2,2,    73.13,2,    35.56,2,     2.47,2,  -999.0,  2.9822,-999.000
     09FA290_1, PR13N,    25,  1,   -999,     28,2,19900304,0055,-43.2472, 164.6113, 3400,   1747.7,   2.6080,  34.6150,2,  34.6160,2,    164.9,2,    162.1,2,    84.32,2,    34.97,2,     2.44,2,  -999.0,  2.4841,-999.000
     09FA290_1, PR13N,    25,  1,   -999,     43,2,19900304,0055,-43.2472, 164.6113, 3400,   1999.4,   2.3500,  34.6630,2,  34.6650,2,    171.4,2,    169.1,2,    87.51,2,    34.57,2,     2.39,2,  -999.0,  2.2082,-999.000
     09FA290_1, PR13N,    25,  1,   -999,     10,2,19900304,0055,-43.2472, 164.6113, 3400,   2268.3,   2.1340,  34.6950,2,  34.6960,2,    172.8,2,    184.4,3,    89.11,2,    33.77,2,     2.34,2,  -999.0,  1.9720,-999.000
     09FA290_1, PR13N,    25,  1,   -999,     34,2,19900304,0055,-43.2472, 164.6113, 3400,   2497.2,   1.9420,  34.7150,2,  34.7190,2,    179.9,2,    182.6,2,    92.31,2,    33.17,2,     2.31,2,  -999.0,  1.7627,-999.000
     09FA290_1, PR13N,    25,  1,   -999,     40,2,19900304,0055,-43.2472, 164.6113, 3400,   2497.2,   1.9420,  34.7150,2,  34.7170,2,    179.9,2,    183.5,2,    92.31,2,    33.37,2,     2.31,2,  -999.0,  1.7628,-999.000
     09FA290_1, PR13N,    25,  1,   -999,      1,2,19900304,0055,-43.2472, 164.6113, 3400,   2597.3,   1.8400,  34.7200,2,  34.7200,2,    180.5,2,    185.0,2,    95.60,2,    33.17,2,     2.31,2,  -999.0,  1.6535,-999.000
     09FA290_1, PR13N,    25,  1,   -999,      9,2,19900304,0055,-43.2472, 164.6113, 3400,   2925.1,   1.5970,  34.7210,2,  34.7210,2,    186.8,2,    188.2,2,   103.60,2,    33.37,2,     2.31,2,  -999.0,  1.3849,-999.000
     09FA290_1, PR13N,    25,  1,   -999,     12,2,19900304,0055,-43.2472, 164.6113, 3400,   3186.1,   1.4260,  34.7200,2,  34.7170,2,    189.0,2,    189.6,2,   106.89,2,    33.57,2,     2.32,2,    11.8,  1.1927,   1.430
     09FA290_1, PR13N,    25,  1,   -999,     42,2,19900304,0055,-43.2472, 164.6113, 3400,   3394.4,   1.2890,  34.7170,2,  34.7170,2,    192.1,2,    192.3,2,   111.79,2,    33.77,2,     2.34,2,  -999.0,  1.0385,-999.000