BOTTLE,20020730WHPSIO
EXPOCODE,SECT_ID,STNNBR,CASTNO,SAMPNO,BTLNBR,BTLNBR_FLAG_W,DATE,TIME,LATITUDE,LONGITUDE,DEPTH,CTDPRS,CTDTMP,CTDSAL,CTDSAL_FLAG_W,SALNTY,SALNTY_FLAG_W,CTDOXY,CTDOXY_FLAG_W,OXYGEN,OXYGEN_FLAG_W,SILCAT,SILCAT_FLAG_W,NO2+NO3,NO2+NO3_FLAG_W,PHSPHT,PHSPHT_FLAG_W,REVPRS,THETA,REVTMP
,,,,,,,,,,,,DBR,ITS-90,PSS-78,,PSS-78,,UMOL/KG,,UMOL/KG,,UMOL/KG,,UMOL/KG,,UMOL/KG,,DBR,ITS-90,ITS-90
     09FA290_2,FRAN90,   129,  1,   -999,      6,2,19900403,1511,-36.1747, 159.1488, 4963,      5.9,  22.8270,  35.5170,2,  35.5180,2,    217.9,2,    220.1,2,     0.80,2,     0.18,2,     0.10,2,  -999.0, 22.8258,  22.845
     09FA290_2,FRAN90,   129,  1,   -999,     43,2,19900403,1511,-36.1747, 159.1488, 4963,     48.6,  22.8350,  35.5160,2,  35.5180,2,    227.1,2,    221.6,2,     0.80,2,     0.18,2,     0.08,2,  -999.0, 22.8251,-999.000
     09FA290_2,FRAN90,   129,  1,   -999,     31,2,19900403,1511,-36.1747, 159.1488, 4963,     89.5,  19.9360,  35.6260,2,  35.6270,2,    208.4,2,    209.8,2,     1.10,2,     0.89,2,  -999.00,5,  -999.0, 19.9195,-999.000
     09FA290_2,FRAN90,   129,  1,   -999,      5,2,19900403,1511,-36.1747, 159.1488, 4963,    148.7,  18.5390,  35.6110,2,  35.6130,2,    196.8,2,    196.8,2,     1.40,2,     4.28,2,     0.41,2,  -999.0, 18.5129,-999.000
     09FA290_2,FRAN90,   129,  1,   -999,     27,2,19900403,1511,-36.1747, 159.1488, 4963,    197.5,  16.6340,  35.4920,2,  35.4920,2,    188.1,2,    187.2,2,     2.10,2,     7.30,2,     0.61,2,  -999.0, 16.6018,-999.000
     09FA290_2,FRAN90,   129,  1,   -999,     29,2,19900403,1511,-36.1747, 159.1488, 4963,    296.9,  14.2830,  35.3400,2,  35.3400,2,    200.2,2,    201.9,2,     3.00,2,     8.90,2,     0.73,2,  -999.0, 14.2392,-999.000
     09FA290_2,FRAN90,   129,  1,   -999,     45,2,19900403,1511,-36.1747, 159.1488, 4963,    395.7,  12.0370,  35.0670,2,  35.0630,2,    191.4,2,    190.7,2,     4.99,2,    14.96,2,     1.07,2,  -999.0, 11.9848,-999.000
     09FA290_2,FRAN90,   129,  1,   -999,     37,2,19900403,1511,-36.1747, 159.1488, 4963,    498.6,  10.0360,  34.7960,2,  34.8020,2,    199.3,2,    200.5,2,     6.29,2,    18.69,2,     1.30,2,  -999.0,  9.9773,-999.000
     09FA290_2,FRAN90,   129,  1,   -999,     18,2,19900403,1511,-36.1747, 159.1488, 4963,    597.6,   8.9320,  34.6660,2,  34.6710,2,    196.5,2,    196.4,2,     9.49,2,    22.08,2,     1.52,2,  -999.0,  8.8662,-999.000
     09FA290_2,FRAN90,   129,  1,   -999,     10,2,19900403,1511,-36.1747, 159.1488, 4963,    798.8,   7.0230,  34.5150,2,  34.5230,2,    188.4,2,    187.0,2,    19.88,2,    27.42,2,     1.88,2,  -999.0,  6.9454,-999.000
     09FA290_2,FRAN90,   129,  1,   -999,     42,2,19900403,1511,-36.1747, 159.1488, 4963,    997.8,   5.4510,  34.4680,2,  34.4730,2,    179.1,2,    178.5,2,    37.66,2,    31.16,2,     2.15,2,  -999.0,  5.3645,-999.000
     09FA290_2,FRAN90,   129,  1,   -999,     40,2,19900403,1511,-36.1747, 159.1488, 4963,   1247.5,   4.2440,  34.5010,2,  34.5050,2,    168.7,2,    166.1,2,    56.14,2,    33.83,2,     2.38,2,  -999.0,  4.1450,-999.000
     09FA290_2,FRAN90,   129,  1,   -999,     24,2,19900403,1511,-36.1747, 159.1488, 4963,   1497.5,   3.4310,  34.5550,2,  34.5570,2,    156.5,2,    154.9,2,    75.32,2,    35.96,2,     2.48,2,  -999.0,  3.3185,-999.000
     09FA290_2,FRAN90,   129,  1,   -999,     28,2,19900403,1511,-36.1747, 159.1488, 4963,   1748.6,   2.7530,  34.6160,2,  34.6160,2,    155.8,2,    154.9,2,    87.81,2,    36.32,2,     2.53,2,  -999.0,  2.6271,-999.000
     09FA290_2,FRAN90,   129,  1,   -999,     36,2,19900403,1511,-36.1747, 159.1488, 4963,   1997.1,   2.4090,  34.6640,2,  34.6670,2,    161.8,2,    163.1,2,    89.61,2,    35.61,2,     2.46,2,  -999.0,  2.2665,-999.000
     09FA290_2,FRAN90,   129,  1,   -999,     46,2,19900403,1511,-36.1747, 159.1488, 4963,   2306.6,   2.1200,  34.7100,2,  34.7110,2,    172.8,2,    174.9,2,    89.61,2,    34.37,2,     2.39,2,    13.0,  1.9548,   2.145
     09FA290_2,FRAN90,   129,  1,   -999,      1,2,19900403,1511,-36.1747, 159.1488, 4963,   2497.5,   1.9440,  34.7260,2,  34.7250,2,    178.4,2,    180.2,2,    91.41,2,    34.19,2,     2.33,2,  -999.0,  1.7647,-999.000
     09FA290_2,FRAN90,   129,  1,   -999,     25,2,19900403,1511,-36.1747, 159.1488, 4963,   2598.3,   1.8420,  34.7320,2,  34.7270,2,    180.1,2,    182.3,2,    95.00,2,    33.66,2,     2.31,2,  -999.0,  1.6554,-999.000
     09FA290_2,FRAN90,   129,  1,   -999,      8,2,19900403,1511,-36.1747, 159.1488, 4963,   2899.0,   1.6240,  34.7360,2,  34.7300,2,    182.6,2,    186.7,2,   102.20,2,    34.01,2,     2.31,2,  -999.0,  1.4138,-999.000
     09FA290_2,FRAN90,   129,  1,   -999,     41,2,19900403,1511,-36.1747, 159.1488, 4963,   3497.3,   1.2640,  34.7290,2,  34.7250,2,    189.7,2,    193.4,2,   112.99,2,    34.19,2,     2.35,2,  -999.0,  1.0038,-999.000
     09FA290_2,FRAN90,   129,  1,   -999,     26,2,19900403,1511,-36.1747, 159.1488, 4963,   3995.2,   1.1620,  34.7250,2,  34.7250,2,    193.2,2,    193.7,2,   116.58,2,    34.37,2,     2.35,2,  -999.0,  0.8528,-999.000
     09FA290_2,FRAN90,   129,  1,   -999,     12,2,19900403,1511,-36.1747, 159.1488, 4963,   4478.1,   1.1390,  34.7220,2,  34.7220,2,    196.1,2,    195.8,2,   118.38,2,    34.55,2,     2.35,2,     2.7,  0.7774,   1.156
     09FA290_2,FRAN90,   129,  1,   -999,      2,2,19900403,1511,-36.1747, 159.1488, 4963,   4696.3,   1.1310,  34.7200,2,  34.7170,2,    197.8,2,    196.4,2,   120.18,2,    34.55,2,     2.36,2,  -999.0,  0.7447,-999.000
     09FA290_2,FRAN90,   130,  1,   -999,      6,2,19900404,0001,-36.2010, 157.8555, 4628,      3.7,  22.7170,  35.5250,2,  35.5280,2,    227.9,2,    215.7,2,     0.90,2,     0.18,2,     0.12,2,  -999.0, 22.7163,  22.729
     09FA290_2,FRAN90,   130,  1,   -999,     43,2,19900404,0001,-36.2010, 157.8555, 4628,     47.9,  22.6130,  35.5200,2,  35.5210,2,    211.9,2,    219.2,2,     0.90,2,     0.18,2,     0.12,2,  -999.0, 22.6033,-999.000
     09FA290_2,FRAN90,   130,  1,   -999,     31,2,19900404,0001,-36.2010, 157.8555, 4628,     97.5,  19.8200,  35.6090,2,  35.6090,2,    200.6,2,    204.2,2,     1.90,2,     1.45,2,     0.25,2,  -999.0, 19.8021,-999.000
     09FA290_2,FRAN90,   130,  1,   -999,      5,2,19900404,0001,-36.2010, 157.8555, 4628,    197.7,  17.6560,  35.5440,2,  35.5450,2,    180.5,2,    184.5,2,     2.80,2,     6.53,2,     0.56,2,  -999.0, 17.6224,-999.000
     09FA290_2,FRAN90,   130,  1,   -999,     27,2,19900404,0001,-36.2010, 157.8555, 4628,    298.5,  15.0800,  35.3790,2,  35.3820,2,    191.1,2,    193.6,2,     4.00,2,     8.90,2,     0.73,2,  -999.0, 15.0343,-999.000
     09FA290_2,FRAN90,   130,  1,   -999,     29,2,19900404,0001,-36.2010, 157.8555, 4628,    396.5,  13.0090,  35.1760,2,  35.1890,2,    191.9,2,    193.7,2,     6.29,2,    12.35,2,     0.93,2,  -999.0, 12.9539,-999.000
     09FA290_2,FRAN90,   130,  1,   -999,     45,2,19900404,0001,-36.2010, 157.8555, 4628,    498.1,  11.0080,  34.9210,2,  34.9290,2,    197.8,2,    190.2,2,     8.09,2,    17.43,2,     1.23,2,  -999.0, 10.9458,-999.000
     09FA290_2,FRAN90,   130,  1,   -999,     37,2,19900404,0001,-36.2010, 157.8555, 4628,    597.5,   9.6610,  34.7450,2,  34.7470,2,    193.1,2,    196.1,2,    16.68,2,    20.52,2,     1.41,2,  -999.0,  9.5919,-999.000
     09FA290_2,FRAN90,   130,  1,   -999,     18,2,19900404,0001,-36.2010, 157.8555, 4628,    798.3,   7.6550,  34.5590,2,  34.5580,2,    185.7,2,    187.0,2,    31.07,2,    26.14,2,     1.79,2,  -999.0,  7.5736,-999.000
     09FA290_2,FRAN90,   130,  1,   -999,     10,2,19900404,0001,-36.2010, 157.8555, 4628,    998.5,   5.8700,  34.4640,2,  34.4670,2,    178.9,2,    182.0,2,    29.17,2,    30.51,2,     2.07,2,  -999.0,  5.7803,-999.000
     09FA290_2,FRAN90,   130,  1,   -999,     42,2,19900404,0001,-36.2010, 157.8555, 4628,   1298.6,   4.1990,  34.4970,2,  34.4970,2,    169.8,2,    165.5,2,    56.04,2,    34.51,2,     2.37,2,  -999.0,  4.0959,-999.000
     09FA290_2,FRAN90,   130,  1,   -999,     40,2,19900404,0001,-36.2010, 157.8555, 4628,   1548.8,   3.2720,  34.5600,2,  34.5590,2,    159.8,2,    152.8,2,    77.12,2,    36.49,2,     2.52,2,  -999.0,  3.1569,-999.000
     09FA290_2,FRAN90,   130,  1,   -999,     24,2,19900404,0001,-36.2010, 157.8555, 4628,   1747.6,   2.7910,  34.6060,2,  34.6050,2,    156.8,2,    153.1,2,    84.32,2,    36.49,2,     2.52,2,  -999.0,  2.6647,-999.000
     09FA290_2,FRAN90,   130,  1,   -999,     28,2,19900404,0001,-36.2010, 157.8555, 4628,   1998.9,   2.4590,  34.6500,2,  34.6460,2,    159.7,2,    161.1,2,    86.11,2,    35.95,2,     2.47,2,  -999.0,  2.3156,-999.000
     09FA290_2,FRAN90,   130,  1,   -999,     46,2,19900404,0001,-36.2010, 157.8555, 4628,   2503.2,   2.0580,  34.7110,2,  34.7120,2,    176.2,2,    178.1,2,    87.81,2,    34.14,2,     2.34,2,    13.0,  1.8761,   2.075
     09FA290_2,FRAN90,   130,  1,   -999,      1,2,19900404,0001,-36.2010, 157.8555, 4628,   2697.2,   1.8940,  34.7260,2,  34.7220,2,    181.8,2,    181.7,2,    91.41,2,    33.96,2,     2.32,2,  -999.0,  1.6972,-999.000
     09FA290_2,FRAN90,   130,  1,   -999,     25,2,19900404,0001,-36.2010, 157.8555, 4628,   3048.1,   1.6390,  34.7300,2,  34.7260,2,    188.2,2,    187.3,2,    98.60,2,    33.96,2,     2.32,2,  -999.0,  1.4142,-999.000
     09FA290_2,FRAN90,   130,  1,   -999,      8,2,19900404,0001,-36.2010, 157.8555, 4628,   3497.0,   1.3350,  34.7230,2,  34.7140,3,    195.2,2,    190.5,2,   105.79,2,    34.14,2,     2.34,2,  -999.0,  1.0731,-999.000
     09FA290_2,FRAN90,   130,  1,   -999,     41,2,19900404,0001,-36.2010, 157.8555, 4628,   3698.1,   1.2670,  34.7220,2,  34.7170,3,    195.6,2,    192.8,2,   109.39,2,    34.51,2,     2.35,2,  -999.0,  0.9863,-999.000
     09FA290_2,FRAN90,   130,  1,   -999,     26,2,19900404,0001,-36.2010, 157.8555, 4628,   3997.5,   1.1780,  34.7160,2,  34.7210,2,    196.6,2,    194.6,2,   111.19,2,    34.51,2,     2.35,2,  -999.0,  0.8682,-999.000
     09FA290_2,FRAN90,   130,  1,   -999,     12,2,19900404,0001,-36.2010, 157.8555, 4628,   4496.2,   1.1210,  34.7140,2,  34.7150,2,    199.3,2,    196.1,2,   118.38,2,    34.69,2,     2.37,2,    26.8,  0.7580,   1.111
     09FA290_2,FRAN90,   130,  1,   -999,      2,2,19900404,0001,-36.2010, 157.8555, 4628,   4692.5,   1.1010,  34.7120,2,  34.7150,2,    199.3,2,    196.7,2,   116.58,2,    34.51,2,     2.37,2,  -999.0,  0.7162,-999.000
     09FA290_2,FRAN90,   131,  1,   -999,      6,2,19900404,0409,-36.1952, 157.8637, 4600,      4.8,  22.7130,  35.5280,2,  35.5240,2,   -999.0,5,   -999.0,5,  -999.00,5,  -999.00,5,  -999.00,5,  -999.0, 22.7120,-999.000
     09FA290_2,FRAN90,   131,  1,   -999,     40,2,19900404,0409,-36.1952, 157.8637, 4600,      4.8,  22.7130,  35.5280,2,  35.5330,2,   -999.0,5,   -999.0,5,  -999.00,5,  -999.00,5,  -999.00,5,  -999.0, 22.7120,-999.000
     09FA290_2,FRAN90,   131,  1,   -999,     46,2,19900404,0409,-36.1952, 157.8637, 4600,    599.6,   9.6880,  34.7530,2,  34.7550,2,   -999.0,5,   -999.0,5,  -999.00,5,  -999.00,5,  -999.00,5,  -999.0,  9.6186,-999.000
     09FA290_2,FRAN90,   131,  1,   -999,      9,2,19900404,0409,-36.1952, 157.8637, 4600,   1197.2,   4.8100,  34.4730,2,  34.4700,2,   -999.0,5,   -999.0,5,  -999.00,5,  -999.00,5,  -999.00,5,  -999.0,  4.7103,-999.000
     09FA290_2,FRAN90,   131,  1,   -999,     12,2,19900404,0409,-36.1952, 157.8637, 4600,   1798.9,   2.7720,  34.6100,2,  34.6100,2,   -999.0,5,   -999.0,5,  -999.00,5,  -999.00,5,  -999.00,5,  -999.0,  2.6416,-999.000
     09FA290_2,FRAN90,   131,  1,   -999,     35,2,19900404,0409,-36.1952, 157.8637, 4600,   2403.9,   2.1460,  34.7020,2,  34.7010,2,   -999.0,5,   -999.0,5,  -999.00,5,  -999.00,5,  -999.00,5,  -999.0,  1.9716,-999.000
     09FA290_2,FRAN90,   132,  1,   -999,     24,2,19900404,1144,-36.2078, 156.6205, 4630,   4697.4,   1.1310,  34.7130,2,  34.7130,2,   -999.0,5,    196.4,2,   117.78,2,    34.17,2,     2.39,2,  -999.0,  0.7446,-999.000
     09FA290_2,FRAN90,   133,  1,   -999,      6,2,19900404,1829,-35.7730, 156.0133, 4668,      3.5,  22.4720,  35.4750,2,  35.4730,2,    227.8,2,    221.9,2,     0.70,2,     0.18,2,     0.13,2,  -999.0, 22.4713,  22.509
     09FA290_2,FRAN90,   133,  1,   -999,     27,2,19900404,1829,-35.7730, 156.0133, 4668,     49.3,  22.0810,  35.5120,2,  35.5040,2,    214.9,2,    220.7,2,     0.70,2,     0.18,2,     0.13,2,  -999.0, 22.0712,-999.000
     09FA290_2,FRAN90,   133,  1,   -999,     45,2,19900404,1829,-35.7730, 156.0133, 4668,     98.8,  17.4530,  35.5020,2,  35.5010,2,    198.2,2,    200.7,2,     1.40,2,     3.48,2,     0.42,2,  -999.0, 17.4364,-999.000
     09FA290_2,FRAN90,   133,  1,   -999,     28,2,19900404,1829,-35.7730, 156.0133, 4668,    149.3,  15.5470,  35.4140,2,  35.4140,2,    199.2,2,    193.6,2,     2.60,2,     8.23,2,     0.68,2,  -999.0, 15.5238,-999.000
     09FA290_2,FRAN90,   133,  1,   -999,      1,2,19900404,1829,-35.7730, 156.0133, 4668,    297.0,  12.3510,  35.1010,2,  35.1000,2,    191.0,2,    190.7,2,     4.80,2,    14.45,2,     1.03,2,  -999.0, 12.3113,-999.000
     09FA290_2,FRAN90,   133,  1,   -999,     25,2,19900404,1829,-35.7730, 156.0133, 4668,    398.0,  10.8690,  34.9140,2,  34.9120,2,    195.8,2,    191.6,2,     6.09,2,    17.55,2,     1.25,2,  -999.0, 10.8199,-999.000
     09FA290_2,FRAN90,   133,  1,   -999,     37,2,19900404,1829,-35.7730, 156.0133, 4668,    499.4,   9.2180,  34.7010,2,  34.6990,2,    199.0,2,    194.9,2,     8.99,2,    21.58,2,     1.49,2,  -999.0,  9.1622,-999.000
     09FA290_2,FRAN90,   133,  1,   -999,     18,2,19900404,1829,-35.7730, 156.0133, 4668,    598.3,   8.2260,  34.6050,2,  34.6070,2,    192.6,2,    188.8,2,    13.09,2,    24.14,2,     1.68,2,  -999.0,  8.1632,-999.000
     09FA290_2,FRAN90,   133,  1,   -999,     35,2,19900404,1829,-35.7730, 156.0133, 4668,    798.7,   6.3510,  34.4800,2,  34.4810,2,    186.5,2,    186.7,2,    26.07,2,    29.07,2,     1.99,2,  -999.0,  6.2775,-999.000
     09FA290_2,FRAN90,   133,  1,   -999,     10,2,19900404,1829,-35.7730, 156.0133, 4668,    898.0,   5.5910,  34.4650,2,  34.4700,2,    170.5,2,    188.2,2,    35.36,2,    31.07,2,     2.14,2,  -999.0,  5.5129,-999.000
     09FA290_2,FRAN90,   133,  1,   -999,     46,2,19900404,1829,-35.7730, 156.0133, 4668,    999.2,   5.0200,  34.4700,2,  34.4730,2,    177.5,2,    174.9,2,    39.46,2,    32.37,2,     2.23,2,    10.4,  4.9366,   5.036
     09FA290_2,FRAN90,   133,  1,   -999,     29,2,19900404,1829,-35.7730, 156.0133, 4668,   1197.5,   4.0090,  34.5120,2,  34.5110,2,    165.2,2,    162.0,2,    59.24,2,    34.93,2,     2.41,2,  -999.0,  3.9165,-999.000
     09FA290_2,FRAN90,   133,  1,   -999,     26,2,19900404,1829,-35.7730, 156.0133, 4668,   1497.6,   2.9920,  34.5850,2,  34.5870,2,    152.8,2,    152.8,2,    82.82,2,    36.39,2,     2.56,2,  -999.0,  2.8844,-999.000
     09FA290_2,FRAN90,   133,  1,   -999,     41,2,19900404,1829,-35.7730, 156.0133, 4668,   1747.6,   2.5710,  34.6350,2,  34.6350,2,    155.5,2,   -999.0,5,    88.31,2,    36.36,2,     2.51,2,  -999.0,  2.4476,-999.000
     09FA290_2,FRAN90,   133,  1,   -999,     42,2,19900404,1829,-35.7730, 156.0133, 4668,   2227.6,   2.1160,  34.7040,2,  34.7010,2,    178.4,2,    173.7,2,    88.31,2,    34.77,2,     2.39,2,  -999.0,  1.9579,-999.000
     09FA290_2,FRAN90,   133,  1,   -999,     40,2,19900404,1829,-35.7730, 156.0133, 4668,   2498.0,   1.9230,  34.7220,2,  34.7210,2,    183.9,2,    180.2,2,    92.01,2,    34.20,2,     2.36,2,  -999.0,  1.7440,-999.000
     09FA290_2,FRAN90,   133,  1,   -999,      9,2,19900404,1829,-35.7730, 156.0133, 4668,   2867.6,   1.6260,  34.7310,2,  34.7290,2,    190.0,2,    185.8,2,    99.40,2,    33.83,2,     2.34,2,  -999.0,  1.4187,-999.000
     09FA290_2,FRAN90,   133,  1,   -999,      2,2,19900404,1829,-35.7730, 156.0133, 4668,   3397.4,   1.2380,  34.7230,2,  34.7210,2,    189.8,2,    192.8,2,   110.39,2,    34.02,2,     2.34,2,  -999.0,  0.9884,-999.000
     09FA290_2,FRAN90,   133,  1,   -999,     43,2,19900404,1829,-35.7730, 156.0133, 4668,   3497.9,   1.1970,  34.7220,2,  34.7220,2,    194.0,2,    194.0,2,   112.29,2,    34.38,2,     2.36,2,  -999.0,  0.9384,-999.000
     09FA290_2,FRAN90,   133,  1,   -999,      8,2,19900404,1829,-35.7730, 156.0133, 4668,   3995.9,   1.1140,  34.7180,2,  34.7200,2,    199.6,2,    193.7,2,   115.98,2,    34.57,2,     2.36,2,  -999.0,  0.8062,-999.000
     09FA290_2,FRAN90,   133,  1,   -999,     12,2,19900404,1829,-35.7730, 156.0133, 4668,   4494.3,   1.1330,  34.7170,2,  34.7170,2,    202.8,2,    195.8,2,   117.78,2,    34.57,2,     2.36,2,    19.0,  0.7698,   1.152
     09FA290_2,FRAN90,   133,  1,   -999,     24,2,19900404,1829,-35.7730, 156.0133, 4668,   4740.6,   1.1400,  34.7150,2,  34.7150,2,    202.8,2,    195.2,2,   117.78,2,    34.93,2,  -999.00,5,  -999.0,  0.7483,-999.000