BOTTLE,20020730WHPSIO
EXPOCODE,SECT_ID,STNNBR,CASTNO,SAMPNO,BTLNBR,BTLNBR_FLAG_W,DATE,TIME,LATITUDE,LONGITUDE,DEPTH,CTDPRS,CTDTMP,CTDSAL,CTDSAL_FLAG_W,SALNTY,SALNTY_FLAG_W,CTDOXY,CTDOXY_FLAG_W,OXYGEN,OXYGEN_FLAG_W,SILCAT,SILCAT_FLAG_W,NO2+NO3,NO2+NO3_FLAG_W,PHSPHT,PHSPHT_FLAG_W,REVPRS,THETA,REVTMP
,,,,,,,,,,,,DBR,ITS-90,PSS-78,,PSS-78,,UMOL/KG,,UMOL/KG,,UMOL/KG,,UMOL/KG,,UMOL/KG,,DBR,ITS-90,ITS-90
     09FA290_2,  PR11,    60,  1,   -999,      6,2,19900313,0501,-28.2548, 166.2825, 3528,      3.4,  24.9330,  35.5770,2,  35.5780,2,    213.7,2,    208.7,2,     0.80,2,     0.50,2,     0.12,2,  -999.0, 24.9323,  24.933
     09FA290_2,  PR11,    60,  1,   -999,      2,2,19900313,0501,-28.2548, 166.2825, 3528,     99.7,  19.5710,  35.6200,2,  35.6200,2,    217.7,2,    219.0,2,     1.00,2,     0.17,2,     0.19,2,  -999.0, 19.5528,-999.000
     09FA290_2,  PR11,    60,  1,   -999,     37,2,19900313,0501,-28.2548, 166.2825, 3528,    136.2,  18.7870,  35.6200,2,  35.6190,2,    203.2,2,    205.5,2,     1.30,2,     2.86,2,     0.34,2,  -999.0, 18.7628,-999.000
     09FA290_2,  PR11,    60,  1,   -999,     45,2,19900313,0501,-28.2548, 166.2825, 3528,    202.1,  17.4990,  35.5580,2,  35.5610,2,    197.2,2,    195.5,2,     1.10,2,     2.86,2,     0.34,2,  -999.0, 17.4648,-999.000
     09FA290_2,  PR11,    60,  1,   -999,      1,2,19900313,0501,-28.2548, 166.2825, 3528,    374.2,  13.6240,  35.2270,2,  35.2350,2,    188.6,2,    189.5,2,     1.80,3,     5.37,2,     0.48,3,  -999.0, 13.5704,-999.000
     09FA290_2,  PR11,    60,  1,   -999,     24,2,19900313,0501,-28.2548, 166.2825, 3528,    399.7,  13.1490,  35.1840,2,  35.1830,2,    189.5,2,    190.1,2,     4.60,2,    13.10,2,     0.95,2,  -999.0, 13.0931,-999.000
     09FA290_2,  PR11,    60,  1,   -999,     27,2,19900313,0501,-28.2548, 166.2825, 3528,    500.7,  10.9160,  34.8780,2,  34.8770,2,    186.1,2,    188.4,2,     6.79,2,    18.13,2,     1.26,2,  -999.0, 10.8538,-999.000
     09FA290_2,  PR11,    60,  1,   -999,      9,2,19900313,0501,-28.2548, 166.2825, 3528,    599.9,   9.7120,  34.7750,2,  34.7760,2,    186.8,2,    191.3,2,    10.39,2,    21.15,2,     1.43,2,  -999.0,  9.6424,-999.000
     09FA290_2,  PR11,    60,  1,   -999,     29,2,19900313,0501,-28.2548, 166.2825, 3528,    800.6,   7.1070,  34.5130,2,  34.5160,2,    186.5,2,    193.1,2,    19.28,2,    27.02,2,     1.80,2,  -999.0,  7.0287,-999.000
     09FA290_2,  PR11,    60,  1,   -999,     46,2,19900313,0501,-28.2548, 166.2825, 3528,    999.4,   5.5510,  34.4590,2,  34.4630,2,    176.6,2,    184.2,2,    36.16,2,    31.06,2,     2.07,2,  -999.0,  5.4636,-999.000
     09FA290_2,  PR11,    60,  1,   -999,     28,2,19900313,0501,-28.2548, 166.2825, 3528,   1266.1,   4.1320,  34.5070,2,  34.5080,2,    167.6,2,    168.1,2,    62.94,2,    34.42,2,     2.33,2,  -999.0,  4.0324,-999.000
     09FA290_2,  PR11,    60,  1,   -999,     31,2,19900313,0501,-28.2548, 166.2825, 3528,   1477.2,   3.2670,  34.5670,2,  34.5690,2,    157.6,2,    156.6,2,    85.81,2,    36.09,2,     2.47,2,  -999.0,  3.1580,-999.000
     09FA290_2,  PR11,    60,  1,   -999,      5,2,19900313,0501,-28.2548, 166.2825, 3528,   1477.2,   3.2670,  34.5670,2,  34.5670,2,    157.6,2,    156.6,2,    84.12,2,    36.26,2,     2.47,2,  -999.0,  3.1580,-999.000
     09FA290_2,  PR11,    60,  1,   -999,     44,2,19900313,0501,-28.2548, 166.2825, 3528,   1748.7,   2.7230,  34.6090,2,  34.6080,2,    151.8,2,    152.9,2,    98.30,2,    36.93,2,     2.52,2,  -999.0,  2.5975,-999.000
     09FA290_2,  PR11,    60,  1,   -999,     26,2,19900313,0501,-28.2548, 166.2825, 3528,   2392.8,   2.0610,  34.6690,2,  34.6680,2,    150.3,2,    154.9,2,   112.69,2,    37.27,2,     2.53,2,  -999.0,  1.8892,-999.000
     09FA290_2,  PR11,    60,  1,   -999,     36,2,19900313,0501,-28.2548, 166.2825, 3528,   2501.6,   2.0230,  34.6730,2,  34.6720,2,    149.4,2,    156.9,2,   114.49,2,    37.27,2,     2.53,2,  -999.0,  1.8420,-999.000
     09FA290_2,  PR11,    60,  1,   -999,     40,2,19900313,0501,-28.2548, 166.2825, 3528,   2501.6,   2.0230,  34.6730,2,  34.6730,2,    149.4,2,    156.6,2,   116.28,2,    37.27,2,     2.61,2,  -999.0,  1.8420,-999.000
     09FA290_2,  PR11,    60,  1,   -999,     10,2,19900313,0501,-28.2548, 166.2825, 3528,   2797.5,   1.9560,  34.6810,2,-999.0000,5,    155.1,2,   -999.0,5,  -999.00,5,  -999.00,2,  -999.00,5,  -999.0,  1.7487,-999.000
     09FA290_2,  PR11,    60,  1,   -999,     41,2,19900313,0501,-28.2548, 166.2825, 3528,   3244.6,   1.9340,  34.6850,2,  34.6850,2,    155.1,2,    158.6,2,   116.28,2,    37.10,2,     2.52,2,  -999.0,  1.6832,-999.000
     09FA290_2,  PR11,    60,  1,   -999,     12,2,19900313,0501,-28.2548, 166.2825, 3528,   3244.6,   1.9340,  34.6850,2,  34.6830,2,    155.1,2,    158.9,2,   116.28,2,    37.10,2,     2.52,2,    70.9,  1.6832,   1.910
     09FA290_2,  PR11,    60,  1,   -999,     34,2,19900313,0501,-28.2548, 166.2825, 3528,   3528.6,   1.9290,  34.6870,2,  34.6840,2,    155.1,2,    159.2,2,   116.28,2,    37.10,2,     2.52,2,  -999.0,  1.6490,-999.000
     09FA290_2,  PR11,    61,  1,   -999,      6,2,19900313,1101,-28.2367, 165.5428, 3296,      4.0,  25.2640,  35.4580,2,  35.4550,2,    207.1,2,    211.3,2,     0.90,2,     0.17,2,     0.09,2,  -999.0, 25.2631,  25.274
     09FA290_2,  PR11,    61,  1,   -999,     37,2,19900313,1101,-28.2367, 165.5428, 3296,     98.7,  19.1890,  35.6410,2,  35.6380,2,    218.0,2,    209.8,2,     1.00,2,     0.84,2,     0.25,2,  -999.0, 19.1712,-999.000
     09FA290_2,  PR11,    61,  1,   -999,     45,2,19900313,1101,-28.2367, 165.5428, 3296,    198.9,  17.6920,  35.5860,2,  35.5840,2,    187.8,2,    196.7,2,     1.70,2,     4.84,2,     0.47,2,  -999.0, 17.6581,-999.000
     09FA290_2,  PR11,    61,  1,   -999,      1,2,19900313,1101,-28.2367, 165.5428, 3296,    390.9,  13.6000,  35.1980,2,  35.2000,2,    189.0,2,    185.0,2,     4.40,2,    12.68,2,     0.93,2,  -999.0, 13.5441,-999.000
     09FA290_2,  PR11,    61,  1,   -999,     24,2,19900313,1101,-28.2367, 165.5428, 3296,    500.5,  11.0380,  34.9010,2,  34.8960,2,    186.1,2,    188.7,2,     6.99,2,    17.85,2,     1.24,2,  -999.0, 10.9754,-999.000
     09FA290_2,  PR11,    61,  1,   -999,     27,2,19900313,1101,-28.2367, 165.5428, 3296,    598.9,   9.8390,  34.7700,2,  34.7700,2,    187.3,2,    191.0,2,     9.19,2,    20.36,2,     1.40,2,  -999.0,  9.7690,-999.000
     09FA290_2,  PR11,    61,  1,   -999,      9,2,19900313,1101,-28.2367, 165.5428, 3296,    799.2,   7.5120,  34.5500,2,  34.5510,2,    189.2,2,    193.9,2,    17.38,2,    25.53,2,     1.74,2,  -999.0,  7.4314,-999.000
     09FA290_2,  PR11,    61,  1,   -999,     29,2,19900313,1101,-28.2367, 165.5428, 3296,    999.1,   5.8830,  34.4700,2,  34.4710,2,    180.8,2,    188.8,2,    32.17,2,    29.87,2,     2.02,2,  -999.0,  5.7932,-999.000
     09FA290_2,  PR11,    61,  1,   -999,     46,2,19900313,1101,-28.2367, 165.5428, 3296,   1049.7,   5.5290,  34.4660,2,  34.4680,2,    178.5,2,    185.6,2,    36.96,2,    30.70,2,     2.08,2,    49.5,  5.4370,   5.563
     09FA290_2,  PR11,    61,  1,   -999,     28,2,19900313,1101,-28.2367, 165.5428, 3296,   1278.0,   4.3610,  34.4940,2,  34.4960,2,    172.4,2,    173.3,2,    57.94,2,    33.71,2,     2.29,2,  -999.0,  4.2582,-999.000
     09FA290_2,  PR11,    61,  1,   -999,      5,2,19900313,1101,-28.2367, 165.5428, 3296,   1483.7,   3.4290,  34.5560,2,  34.5560,2,    157.5,2,    158.4,2,    81.72,2,    35.87,2,     2.46,2,  -999.0,  3.3177,-999.000
     09FA290_2,  PR11,    61,  1,   -999,     31,2,19900313,1101,-28.2367, 165.5428, 3296,   1483.7,   3.4290,  34.5560,2,  34.5600,2,    157.5,2,    158.6,2,    81.72,2,    35.87,2,     2.44,2,  -999.0,  3.3177,-999.000
     09FA290_2,  PR11,    61,  1,   -999,     44,2,19900313,1101,-28.2367, 165.5428, 3296,   1749.2,   2.7330,  34.6090,2,  34.6080,2,    150.9,2,    151.8,2,    98.40,2,    37.04,2,     2.53,2,  -999.0,  2.6074,-999.000
     09FA290_2,  PR11,    61,  1,   -999,     26,2,19900313,1101,-28.2367, 165.5428, 3296,   1999.1,   2.3920,  34.6380,2,  34.6390,2,    152.7,2,    152.9,2,   105.19,2,    37.21,2,     2.53,2,  -999.0,  2.2496,-999.000
     09FA290_2,  PR11,    61,  1,   -999,     40,2,19900313,1101,-28.2367, 165.5428, 3296,   2428.7,   2.0680,  34.6690,2,  34.6690,2,    160.3,2,    155.8,2,   112.09,2,    37.21,2,     2.53,2,  -999.0,  1.8929,-999.000
     09FA290_2,  PR11,    61,  1,   -999,     36,2,19900313,1101,-28.2367, 165.5428, 3296,   2496.7,   2.0460,  34.6720,2,  34.6720,2,    151.5,2,    155.2,2,   113.79,2,    37.21,2,     2.53,2,  -999.0,  1.8650,-999.000
     09FA290_2,  PR11,    61,  1,   -999,     10,2,19900313,1101,-28.2367, 165.5428, 3296,   2496.7,   2.0460,  34.6720,2,  34.6710,2,    151.5,2,   -999.0,5,   113.79,2,    37.21,2,     2.55,2,  -999.0,  1.8651,-999.000
     09FA290_2,  PR11,    61,  1,   -999,     41,2,19900313,1101,-28.2367, 165.5428, 3296,   2748.3,   1.9750,  34.6780,2,  34.6800,2,    154.6,2,    156.3,2,   115.58,2,    37.04,2,     2.53,2,  -999.0,  1.7720,-999.000
     09FA290_2,  PR11,    61,  1,   -999,     12,2,19900313,1101,-28.2367, 165.5428, 3296,   2996.9,   1.9360,  34.6830,2,  34.6830,2,    155.3,2,    157.5,2,   115.58,2,    37.04,2,     2.53,2,    17.2,  1.7099,   1.934
     09FA290_2,  PR11,    61,  1,   -999,     34,2,19900313,1101,-28.2367, 165.5428, 3296,   3274.1,   1.9240,  34.6860,2,  34.6860,2,    155.3,2,    158.9,2,   117.28,2,    37.04,2,     2.52,2,  -999.0,  1.6705,-999.000
     09FA290_2,  PR11,    62,  1,   -999,      6,2,19900313,1619,-28.2460, 164.8443, 3378,      2.0,  25.2070,  35.4350,2,  35.4360,2,    215.1,2,    206.7,2,     0.80,2,     0.16,2,     0.11,2,  -999.0, 25.2066,-999.000
     09FA290_2,  PR11,    62,  1,   -999,     37,2,19900313,1619,-28.2460, 164.8443, 3378,    100.6,  19.4510,  35.6390,2,  35.6350,2,    201.9,2,    201.5,2,     1.10,2,     1.97,2,     0.31,2,  -999.0, 19.4327,-999.000
     09FA290_2,  PR11,    62,  1,   -999,     45,2,19900313,1619,-28.2460, 164.8443, 3378,    199.5,  18.2960,  35.6130,2,  35.6140,2,    202.7,2,    207.5,2,     1.30,2,     2.95,2,     0.36,2,  -999.0, 18.2612,-999.000
     09FA290_2,  PR11,    62,  1,   -999,     24,2,19900313,1619,-28.2460, 164.8443, 3378,    502.6,  11.6650,  35.0040,2,  35.0170,2,    188.6,2,    189.3,2,     6.19,2,    16.19,2,     1.13,2,  -999.0, 11.5998,-999.000
     09FA290_2,  PR11,    62,  1,   -999,     27,2,19900313,1619,-28.2460, 164.8443, 3378,    602.1,   9.5340,  34.7400,2,  34.7350,2,    183.0,2,    191.6,2,     9.89,2,    21.43,2,     1.47,2,  -999.0,  9.4649,-999.000
     09FA290_2,  PR11,    62,  1,   -999,      9,2,19900313,1619,-28.2460, 164.8443, 3378,    800.4,   7.3200,  34.5310,2,  34.5220,2,    183.7,2,    191.9,2,    18.38,2,    26.83,2,     1.83,2,  -999.0,  7.2405,-999.000
     09FA290_2,  PR11,    62,  1,   -999,     29,2,19900313,1619,-28.2460, 164.8443, 3378,    953.6,   5.9530,  34.4760,2,  34.4770,2,    180.2,2,    184.2,2,    31.77,2,    30.10,2,     2.05,2,  -999.0,  5.8670,-999.000
     09FA290_2,  PR11,    62,  1,   -999,     46,2,19900313,1619,-28.2460, 164.8443, 3378,   1282.6,   4.1500,  34.5090,2,  34.5070,2,    163.8,2,    165.8,2,    63.14,2,    34.36,2,     2.36,2,  -999.0,  4.0488,-999.000
     09FA290_2,  PR11,    62,  1,   -999,     28,2,19900313,1619,-28.2460, 164.8443, 3378,   1481.7,   3.3500,  34.5620,2,  34.5630,2,    157.5,2,    158.1,2,    81.92,2,    35.99,2,     2.49,2,  -999.0,  3.2397,-999.000
     09FA290_2,  PR11,    62,  1,   -999,      5,2,19900313,1619,-28.2460, 164.8443, 3378,   1481.7,   3.3500,  34.5620,2,  34.5630,2,    157.5,2,    157.5,2,    81.92,2,    35.99,2,     2.49,2,  -999.0,  3.2397,-999.000
     09FA290_2,  PR11,    62,  1,   -999,     31,2,19900313,1619,-28.2460, 164.8443, 3378,   1750.9,   2.7300,  34.6100,2,  34.6110,2,    151.3,2,    151.8,2,    97.50,2,    36.64,2,     2.55,2,  -999.0,  2.6042,-999.000
     09FA290_2,  PR11,    62,  1,   -999,     44,2,19900313,1619,-28.2460, 164.8443, 3378,   1996.4,   2.3290,  34.6440,2,  34.6460,2,    150.5,2,    153.5,2,   106.19,2,    36.64,2,     2.57,2,  -999.0,  2.1878,-999.000
     09FA290_2,  PR11,    62,  1,   -999,     26,2,19900313,1619,-28.2460, 164.8443, 3378,   2245.6,   2.1370,  34.6630,2,  34.6630,2,    150.2,2,    154.1,2,   109.69,2,    36.81,2,     2.55,2,  -999.0,  1.9771,-999.000
     09FA290_2,  PR11,    62,  1,   -999,     40,2,19900313,1619,-28.2460, 164.8443, 3378,   2407.6,   2.0630,  34.6700,2,  34.6700,2,    150.4,2,    153.5,2,   111.49,2,    36.81,2,     2.57,2,  -999.0,  1.8898,-999.000
     09FA290_2,  PR11,    62,  1,   -999,     10,2,19900313,1619,-28.2460, 164.8443, 3378,   2496.2,   2.0220,  34.6740,2,  34.6740,2,    151.3,2,    155.2,2,   111.49,2,    36.81,2,     2.57,2,  -999.0,  1.8415,-999.000
     09FA290_2,  PR11,    62,  1,   -999,     36,2,19900313,1619,-28.2460, 164.8443, 3378,   2496.2,   2.0220,  34.6740,2,  34.6750,2,    151.3,2,    155.8,2,   113.19,2,    36.97,2,     2.55,2,  -999.0,  1.8415,-999.000
     09FA290_2,  PR11,    62,  1,   -999,     41,2,19900313,1619,-28.2460, 164.8443, 3378,   2747.9,   1.9780,  34.6780,2,  34.6800,2,    153.7,2,    155.5,2,   113.19,2,    36.81,2,     2.55,2,  -999.0,  1.7750,-999.000
     09FA290_2,  PR11,    62,  1,   -999,     12,2,19900313,1619,-28.2460, 164.8443, 3378,   2999.1,   1.9380,  34.6840,2,  34.6850,2,    157.8,2,    158.1,2,   114.98,2,    36.48,2,     2.55,2,    20.6,  1.7116,   1.937
     09FA290_2,  PR11,    62,  1,   -999,     34,2,19900313,1619,-28.2460, 164.8443, 3378,   3354.1,   1.9080,  34.6880,2,  34.6850,2,    161.4,2,    160.6,2,   116.78,2,    36.64,2,     2.53,2,  -999.0,  1.6467,-999.000
     09FA290_2,  PR11,    63,  1,   -999,      6,2,19900313,2305,-28.2493, 163.9250, 2100,      3.2,  25.3170,  35.4230,2,  35.4270,2,    214.5,2,    211.6,2,     0.90,2,     0.00,2,     0.09,2,  -999.0, 25.3163,  25.344
     09FA290_2,  PR11,    63,  1,   -999,      9,2,19900313,2305,-28.2493, 163.9250, 2100,     71.3,  20.1030,  35.6410,2,  35.6430,2,    238.1,2,    229.3,2,     1.00,2,     0.00,2,     0.14,2,  -999.0, 20.0898,-999.000
     09FA290_2,  PR11,    63,  1,   -999,     29,2,19900313,2305,-28.2493, 163.9250, 2100,     99.2,  19.4110,  35.6310,2,  35.6320,2,    216.3,2,    222.7,2,     1.00,2,     0.00,2,     0.17,2,  -999.0, 19.3930,-999.000
     09FA290_2,  PR11,    63,  1,   -999,     27,2,19900313,2305,-28.2493, 163.9250, 2100,    198.8,  17.7130,  35.5770,2,  35.5780,2,    198.7,2,    198.7,2,     1.60,2,     4.68,2,     0.43,2,  -999.0, 17.6791,-999.000
     09FA290_2,  PR11,    63,  1,   -999,     28,2,19900313,2305,-28.2493, 163.9250, 2100,    364.7,  13.5550,  35.1870,2,  35.1910,2,    188.6,2,    185.0,2,     4.50,2,    12.56,2,     0.95,2,  -999.0, 13.5030,-999.000
     09FA290_2,  PR11,    63,  1,   -999,      5,2,19900313,2305,-28.2493, 163.9250, 2100,    498.6,  10.9120,  34.8780,2,  34.8790,2,    182.6,2,    188.2,2,     6.99,2,    17.87,2,     1.26,2,  -999.0, 10.8501,-999.000
     09FA290_2,  PR11,    63,  1,   -999,     46,2,19900313,2305,-28.2493, 163.9250, 2100,    606.9,   8.9790,  34.6560,2,  34.6580,2,    189.8,2,    194.8,2,     9.49,2,    21.74,2,     1.49,2,     2.8,  8.9119,   9.030
     09FA290_2,  PR11,    63,  1,   -999,     44,2,19900313,2305,-28.2493, 163.9250, 2100,    798.3,   6.9580,  34.5150,2,  34.5150,2,    185.0,2,    186.8,2,    21.48,2,    27.38,2,     1.88,2,  -999.0,  6.8808,-999.000
     09FA290_2,  PR11,    63,  1,   -999,     26,2,19900313,2305,-28.2493, 163.9250, 2100,   1035.7,   5.0260,  34.4590,2,  34.4550,2,    176.2,2,    179.9,2,    43.06,2,    31.89,2,     2.19,2,  -999.0,  4.9393,-999.000
     09FA290_2,  PR11,    63,  1,   -999,     40,2,19900313,2305,-28.2493, 163.9250, 2100,   1204.4,   4.1480,  34.5110,2,  34.5090,2,    165.0,2,    167.0,2,    62.44,2,    33.98,2,     2.33,2,  -999.0,  4.0537,-999.000
     09FA290_2,  PR11,    63,  1,   -999,     36,2,19900313,2305,-28.2493, 163.9250, 2100,   1375.9,   3.3720,  34.5610,2,  34.5570,2,    155.0,2,    156.9,2,    80.42,2,    35.43,2,     2.45,2,  -999.0,  3.2705,-999.000
     09FA290_2,  PR11,    63,  1,   -999,     41,2,19900313,2305,-28.2493, 163.9250, 2100,   1498.7,   3.0720,  34.5850,2,  34.5870,2,    151.5,2,    153.2,2,    89.31,2,    36.23,2,     2.50,2,  -999.0,  2.9634,-999.000
     09FA290_2,  PR11,    63,  1,   -999,     11,2,19900313,2305,-28.2493, 163.9250, 2100,   1498.7,   3.0720,  34.5850,2,  34.5870,2,    151.5,2,    154.3,2,    89.31,2,    36.23,2,     2.50,2,  -999.0,  2.9634,-999.000
     09FA290_2,  PR11,    63,  1,   -999,     12,2,19900313,2305,-28.2493, 163.9250, 2100,   1749.0,   2.5500,  34.6280,2,  34.6250,2,    154.2,2,    152.6,2,   101.40,2,    36.72,2,     2.53,2,    60.6,  2.4268,   2.562
     09FA290_2,  PR11,    63,  1,   -999,     34,2,19900313,2305,-28.2493, 163.9250, 2100,   2048.6,   2.2200,  34.6580,2,  34.6540,2,    150.8,2,    152.6,2,   108.89,2,    36.72,2,     2.54,2,  -999.0,  2.0760,-999.000
     09FA290_2,  PR11,    64,  1,   -999,      6,2,19900314,0459,-28.2412, 163.0213, 1102,      3.2,  24.9990,  35.3810,2,  35.3780,2,    212.7,2,    211.3,2,     0.80,2,     0.17,2,     0.09,2,  -999.0, 24.9983,  25.009
     09FA290_2,  PR11,    64,  1,   -999,     28,2,19900314,0459,-28.2412, 163.0213, 1102,     48.0,  22.5960,  35.5930,2,  35.5750,2,    214.4,2,    224.2,2,     0.80,2,     0.19,2,     0.14,2,  -999.0, 22.5863,-999.000
     09FA290_2,  PR11,    64,  1,   -999,      5,2,19900314,0459,-28.2412, 163.0213, 1102,     88.8,  19.4260,  35.6150,2,  35.6150,2,    228.0,2,    221.0,2,     0.90,2,     0.19,2,     0.18,2,  -999.0, 19.4099,-999.000
     09FA290_2,  PR11,    64,  1,   -999,     27,2,19900314,0459,-28.2412, 163.0213, 1102,    149.6,  18.0530,  35.5740,2,  35.5740,2,    208.8,2,    206.4,2,     1.40,2,     3.10,2,     0.34,2,  -999.0, 18.0272,-999.000
     09FA290_2,  PR11,    64,  1,   -999,     44,2,19900314,0459,-28.2412, 163.0213, 1102,    197.7,  17.0740,  35.5280,2,  35.5260,2,    197.8,2,    195.0,2,     1.80,2,     6.58,2,     0.51,2,  -999.0, 17.0411,-999.000
     09FA290_2,  PR11,    64,  1,   -999,     26,2,19900314,0459,-28.2412, 163.0213, 1102,    297.4,  15.0170,  35.3570,2,  35.3580,2,    187.6,2,    184.1,2,     3.20,2,    11.82,2,     0.77,2,  -999.0, 14.9717,-999.000
     09FA290_2,  PR11,    64,  1,   -999,     40,2,19900314,0459,-28.2412, 163.0213, 1102,    373.4,  13.4930,  35.2120,2,  35.2130,2,    193.5,2,    186.4,2,     4.20,2,    15.11,2,     0.94,2,  -999.0, 13.4399,-999.000
     09FA290_2,  PR11,    64,  1,   -999,     36,2,19900314,0459,-28.2412, 163.0213, 1102,    498.1,  10.5720,  34.8600,2,  34.8640,2,    184.8,2,    188.2,2,     7.49,2,    21.90,2,     1.31,2,  -999.0, 10.5114,-999.000
     09FA290_2,  PR11,    64,  1,   -999,     41,2,19900314,0459,-28.2412, 163.0213, 1102,    798.0,   6.8700,  34.5120,2,  34.5130,2,    189.1,2,    189.4,2,    21.48,2,    32.16,2,     1.86,2,  -999.0,  6.7934,-999.000
     09FA290_2,  PR11,    64,  1,   -999,     12,2,19900314,0459,-28.2412, 163.0213, 1102,    996.7,   5.3160,  34.4660,2,  34.4670,2,    180.8,2,    181.9,2,    40.76,2,    36.81,2,     2.15,2,    99.9,  5.2306,   5.355
     09FA290_2,  PR11,    64,  1,   -999,     34,2,19900314,0459,-28.2412, 163.0213, 1102,   1074.5,   4.8450,  34.4690,2,  34.4710,2,    175.6,2,    177.0,2,    51.45,2,    38.26,2,     2.23,2,  -999.0,  4.7562,-999.000