BOTTLE,20020730WHPSIO
EXPOCODE,SECT_ID,STNNBR,CASTNO,SAMPNO,BTLNBR,BTLNBR_FLAG_W,DATE,TIME,LATITUDE,LONGITUDE,DEPTH,CTDPRS,CTDTMP,CTDSAL,CTDSAL_FLAG_W,SALNTY,SALNTY_FLAG_W,CTDOXY,CTDOXY_FLAG_W,OXYGEN,OXYGEN_FLAG_W,SILCAT,SILCAT_FLAG_W,NO2+NO3,NO2+NO3_FLAG_W,PHSPHT,PHSPHT_FLAG_W,REVPRS,THETA,REVTMP
,,,,,,,,,,,,DBR,ITS-90,PSS-78,,PSS-78,,UMOL/KG,,UMOL/KG,,UMOL/KG,,UMOL/KG,,UMOL/KG,,DBR,ITS-90,ITS-90
     09FA290_1, PR13N,    13,  1,   -999,      6,2,19900228,0415,-43.2513, 153.5197, 4656,      1.9,  16.4470,  34.8820,2,  34.8880,2,    243.5,2,    250.2,2,     0.80,2,     0.20,2,     0.20,2,  -999.0, 16.4467,  16.465
     09FA290_1, PR13N,    13,  1,   -999,     26,2,19900228,0415,-43.2513, 153.5197, 4656,     73.6,  13.9050,  35.3010,2,  35.2980,2,    224.3,2,    229.7,2,     2.50,2,     6.49,2,     0.50,2,  -999.0, 13.8944,-999.000
     09FA290_1, PR13N,    13,  1,   -999,     44,2,19900228,0415,-43.2513, 153.5197, 4656,    199.6,  10.5660,  34.7490,2,  34.7410,2,    229.4,2,    246.1,2,     2.70,2,    11.89,2,     0.85,2,  -999.0, 10.5421,-999.000
     09FA290_1, PR13N,    13,  1,   -999,     43,2,19900228,0415,-43.2513, 153.5197, 4656,    397.1,   9.5500,  34.7290,2,  34.7270,2,    202.5,2,    214.9,2,     6.49,2,    18.98,2,     1.26,2,  -999.0,  9.5049,-999.000
     09FA290_1, PR13N,    13,  1,   -999,      9,2,19900228,0415,-43.2513, 153.5197, 4656,    499.0,   8.8250,  34.6370,2,  34.6360,2,    207.6,2,    209.1,2,     8.49,2,    21.48,2,     1.43,2,  -999.0,  8.7707,-999.000
     09FA290_1, PR13N,    13,  1,   -999,     18,2,19900228,0415,-43.2513, 153.5197, 4656,    598.4,   8.2500,  34.5950,2,  34.5960,2,    189.7,2,    194.8,2,    12.49,2,    24.08,2,     1.64,2,  -999.0,  8.1871,-999.000
     09FA290_1, PR13N,    13,  1,   -999,     41,2,19900228,0415,-43.2513, 153.5197, 4656,    797.9,   6.7580,  34.4950,2,  34.4970,2,    181.6,2,    186.0,2,    22.08,2,    28.37,2,     1.93,2,  -999.0,  6.6821,-999.000
     09FA290_1, PR13N,    13,  1,   -999,     24,2,19900228,0415,-43.2513, 153.5197, 4656,    963.7,   4.8980,  34.3690,2,  34.3690,2,    191.0,2,    200.9,2,    30.77,2,    31.17,2,     2.13,2,  -999.0,  4.8189,-999.000
     09FA290_1, PR13N,    13,  1,   -999,     29,2,19900228,0415,-43.2513, 153.5197, 4656,    999.3,   4.8100,  34.3850,2,  34.3830,2,    189.6,2,    195.4,2,    34.07,2,    31.77,2,     2.19,2,  -999.0,  4.7284,-999.000
     09FA290_1, PR13N,    13,  1,   -999,     25,2,19900228,0415,-43.2513, 153.5197, 4656,   1247.9,   3.4830,  34.4060,2,  34.4050,2,    182.0,2,    188.1,2,    51.65,2,    34.47,2,     2.39,2,  -999.0,  3.3914,-999.000
     09FA290_1, PR13N,    13,  1,   -999,     37,2,19900228,0415,-43.2513, 153.5197, 4656,   1487.8,   3.0220,  34.5380,2,  34.5380,2,    161.7,2,    163.8,2,    74.93,2,    35.96,2,     2.59,2,  -999.0,  2.9150,-999.000
     09FA290_1, PR13N,    13,  1,   -999,      1,2,19900228,0415,-43.2513, 153.5197, 4656,   1487.8,   3.0220,  34.5380,2,  34.5380,2,    161.7,2,    163.2,2,    74.93,2,    35.56,2,     2.64,2,  -999.0,  2.9150,-999.000
     09FA290_1, PR13N,    13,  1,   -999,     46,2,19900228,0415,-43.2513, 153.5197, 4656,   1754.6,   2.5900,  34.6170,2,  34.6190,2,    160.3,2,    163.2,2,    84.92,2,    35.56,2,     2.46,2,    64.4,  2.4658,   2.625
     09FA290_1, PR13N,    13,  1,   -999,     34,2,19900228,0415,-43.2513, 153.5197, 4656,   2238.5,   2.1710,  34.7090,2,  34.7090,2,    175.8,2,    178.4,2,    88.21,2,    33.67,2,     2.32,2,  -999.0,  2.0109,-999.000
     09FA290_1, PR13N,    13,  1,   -999,      2,2,19900228,0415,-43.2513, 153.5197, 4656,   2502.0,   1.9560,  34.7260,2,  34.7250,2,    179.7,2,    183.7,2,    94.90,2,    33.47,2,     2.32,2,  -999.0,  1.7760,-999.000
     09FA290_1, PR13N,    13,  1,   -999,     28,2,19900228,0415,-43.2513, 153.5197, 4656,   2502.0,   1.9560,  34.7260,2,  34.7270,2,    179.7,2,    183.1,2,  -999.00,5,  -999.00,5,  -999.00,5,  -999.0,  1.7760,-999.000
     09FA290_1, PR13N,    13,  1,   -999,     42,2,19900228,0415,-43.2513, 153.5197, 4656,   2612.2,   1.8870,  34.7290,2,-999.0000,5,    186.8,2,   -999.0,5,  -999.00,5,  -999.00,5,  -999.00,5,  -999.0,  1.6982,-999.000
     09FA290_1, PR13N,    13,  1,   -999,     10,2,19900228,0415,-43.2513, 153.5197, 4656,   2998.5,   1.6370,  34.7320,2,  34.7330,2,    193.2,2,    191.2,2,   103.20,2,    33.27,2,     2.29,2,  -999.0,  1.4170,-999.000
     09FA290_1, PR13N,    13,  1,   -999,     36,2,19900228,0415,-43.2513, 153.5197, 4656,   3498.9,   1.2830,  34.7240,2,  34.7340,3,    194.1,2,    190.1,3,   104.89,3,    33.07,2,     2.29,3,  -999.0,  1.0221,-999.000
     09FA290_1, PR13N,    13,  1,   -999,     40,2,19900228,0415,-43.2513, 153.5197, 4656,   3611.4,   1.2260,  34.7210,2,  34.7190,2,    194.1,2,    198.0,2,   113.19,2,    33.67,2,     2.34,2,  -999.0,  0.9552,-999.000
     09FA290_1, PR13N,    13,  1,   -999,     45,2,19900228,0415,-43.2513, 153.5197, 4656,   3611.4,   1.2260,  34.7210,2,  34.7210,2,    194.1,2,    195.9,2,   114.89,2,    33.67,2,     2.32,2,  -999.0,  0.9552,-999.000
     09FA290_1, PR13N,    13,  1,   -999,     31,2,19900228,0415,-43.2513, 153.5197, 4656,   3997.2,   1.1150,  34.7170,2,  34.7160,2,    197.5,2,    197.1,2,   118.18,2,    34.07,2,     2.34,2,  -999.0,  0.8070,-999.000
     09FA290_1, PR13N,    13,  1,   -999,     12,2,19900228,0415,-43.2513, 153.5197, 4656,   4499.8,   1.0840,  34.7120,2,  34.7130,2,    200.7,2,    198.8,2,   118.18,2,    34.07,2,     2.34,2,  -999.0,  0.7217,   1.106
     09FA290_1, PR13N,    13,  1,   -999,     35,2,19900228,0415,-43.2513, 153.5197, 4656,   4698.8,   1.0270,  34.7110,2,  34.7090,2,    200.7,2,    202.6,2,   118.18,2,    33.87,2,     2.56,3,  -999.0,  0.6439,-999.000
     09FA290_1, PR13N,    14,  1,   -999,      6,2,19900228,1056,-43.2518, 154.4312, 4610,      3.9,  15.5080,  34.6650,2,  34.6660,2,    251.8,2,    253.9,2,     0.80,2,     1.30,2,     0.19,2,  -999.0, 15.5074,  15.506
     09FA290_1, PR13N,    14,  1,   -999,     45,2,19900228,1056,-43.2518, 154.4312, 4610,     73.9,  12.3890,  34.9330,2,  34.9310,2,    242.7,2,    242.7,2,     1.70,2,     7.89,2,     0.63,2,  -999.0, 12.3792,-999.000
     09FA290_1, PR13N,    14,  1,   -999,     44,2,19900228,1056,-43.2518, 154.4312, 4610,    133.5,  10.8250,  34.8260,2,  34.8280,2,    223.9,2,    234.2,2,     3.00,2,    12.69,2,     0.94,2,  -999.0, 10.8088,-999.000
     09FA290_1, PR13N,    14,  1,   -999,     31,2,19900228,1056,-43.2518, 154.4312, 4610,    199.0,  10.7450,  34.8960,2,  34.9080,2,    215.0,2,    204.9,2,     5.49,2,    16.68,2,     1.16,2,  -999.0, 10.7208,-999.000
     09FA290_1, PR13N,    14,  1,   -999,     40,2,19900228,1056,-43.2518, 154.4312, 4610,    398.2,   9.1700,  34.6720,2,  34.6710,2,    233.1,2,    216.1,2,     6.69,2,    19.98,2,     1.36,2,  -999.0,  9.1259,-999.000
     09FA290_1, PR13N,    14,  1,   -999,     18,2,19900228,1056,-43.2518, 154.4312, 4610,    498.7,   8.3390,  34.5380,2,  34.5400,2,    230.7,2,    233.3,2,     6.69,2,    21.08,2,     1.45,2,  -999.0,  8.2866,-999.000
     09FA290_1, PR13N,    14,  1,   -999,     41,2,19900228,1056,-43.2518, 154.4312, 4610,    599.3,   7.9420,  34.5130,2,  34.5190,2,    214.5,2,    217.8,2,     9.59,2,    23.38,2,     1.60,2,  -999.0,  7.8805,-999.000
     09FA290_1, PR13N,    14,  1,   -999,     35,2,19900228,1056,-43.2518, 154.4312, 4610,    799.1,   6.3030,  34.4290,2,  34.4350,2,    197.7,2,    199.1,2,    20.98,2,    28.77,2,     1.96,2,  -999.0,  6.2298,-999.000
     09FA290_1, PR13N,    14,  1,   -999,     37,2,19900228,1056,-43.2518, 154.4312, 4610,    997.8,   5.1610,  34.4330,2,  34.4360,2,    197.8,2,    183.6,2,    38.86,2,    32.27,2,     2.22,2,  -999.0,  5.0768,-999.000
     09FA290_1, PR13N,    14,  1,   -999,      2,2,19900228,1056,-43.2518, 154.4312, 4610,   1229.6,   3.7800,  34.4400,2,  34.4420,2,    180.0,2,    178.6,2,    53.25,2,    34.87,2,     2.42,2,  -999.0,  3.6870,-999.000
     09FA290_1, PR13N,    14,  1,   -999,     46,2,19900228,1056,-43.2518, 154.4312, 4610,   1749.0,   2.6000,  34.6190,2,  34.6180,2,    162.1,2,    162.9,2,    86.81,2,    35.66,2,     2.49,2,    62.3,  2.4761,   2.635
     09FA290_1, PR13N,    14,  1,   -999,     34,2,19900228,1056,-43.2518, 154.4312, 4610,   2234.6,   2.1980,  34.7090,2,  34.7070,2,    176.2,2,    178.0,2,    90.31,2,    34.17,2,     2.39,2,  -999.0,  2.0379,-999.000
     09FA290_1, PR13N,    14,  1,   -999,     25,2,19900228,1056,-43.2518, 154.4312, 4610,   2499.9,   1.9990,  34.7290,2,  34.7280,2,    182.6,2,    182.2,2,    97.10,2,    33.77,2,     2.35,2,  -999.0,  1.8184,-999.000
     09FA290_1, PR13N,    14,  1,   -999,     28,2,19900228,1056,-43.2518, 154.4312, 4610,   2499.9,   1.9990,  34.7290,2,  34.7280,2,    182.6,2,    182.5,2,    97.10,2,    33.97,2,     2.35,2,  -999.0,  1.8184,-999.000
     09FA290_1, PR13N,    14,  1,   -999,      1,2,19900228,1056,-43.2518, 154.4312, 4610,   2598.3,   1.9270,  34.7330,2,  34.7330,2,    181.2,2,    184.3,2,    98.90,2,    33.77,2,     2.35,2,  -999.0,  1.7387,-999.000
     09FA290_1, PR13N,    14,  1,   -999,     10,2,19900228,1056,-43.2518, 154.4312, 4610,   2973.5,   1.6630,  34.7360,2,  34.7320,2,    188.1,2,    188.5,2,   107.59,2,    33.77,2,     2.35,2,  -999.0,  1.4448,-999.000
     09FA290_1, PR13N,    14,  1,   -999,     26,2,19900228,1056,-43.2518, 154.4312, 4610,   3498.9,   1.2840,  34.7270,2,  34.7240,2,    193.0,2,    188.8,3,   119.88,2,    34.17,2,     2.37,2,  -999.0,  1.0231,-999.000
     09FA290_1, PR13N,    14,  1,   -999,      9,2,19900228,1056,-43.2518, 154.4312, 4610,   3574.0,   1.2470,  34.7230,2,  34.7240,2,    194.5,2,    195.5,2,   121.68,2,    34.37,2,     2.39,2,  -999.0,  0.9795,-999.000
     09FA290_1, PR13N,    14,  1,   -999,     43,2,19900228,1056,-43.2518, 154.4312, 4610,   3997.9,   1.1300,  34.7200,2,  34.7170,2,    197.1,2,    196.8,2,   125.27,2,    34.57,2,     2.40,2,  -999.0,  0.8215,-999.000
     09FA290_1, PR13N,    14,  1,   -999,     12,2,19900228,1056,-43.2518, 154.4312, 4610,   4500.5,   1.0760,  34.7170,2,  34.7130,2,    200.7,2,    198.8,2,   127.07,2,    34.67,2,     2.40,2,    30.3,  0.7139,   1.108
     09FA290_1, PR13N,    14,  1,   -999,     24,2,19900228,1056,-43.2518, 154.4312, 4610,   4675.0,   1.0570,  34.7140,2,  34.7110,2,    200.6,2,    198.0,2,   128.87,2,    34.67,2,     2.40,2,  -999.0,  0.6756,-999.000
     09FA290_1, PR13N,    15,  1,   -999,      6,2,19900301,0102,-43.2497, 155.3735, 4522,     29.8,  16.0860,  34.8710,2,  34.8710,2,    239.8,2,    247.0,2,     0.80,2,     0.40,2,     0.24,2,  -999.0, 16.0813,  15.847
     09FA290_1, PR13N,    15,  1,   -999,     45,2,19900301,0102,-43.2497, 155.3735, 4522,     85.9,  11.0400,  34.6930,2,  34.6950,2,    243.8,2,    252.5,2,     1.70,2,     9.49,2,     0.76,2,  -999.0, 11.0295,-999.000
     09FA290_1, PR13N,    15,  1,   -999,     44,2,19900301,0102,-43.2497, 155.3735, 4522,    198.9,   9.6670,  34.6790,2,  34.6800,2,    222.2,2,    233.0,2,     4.10,2,    16.48,2,     1.14,2,  -999.0,  9.6445,-999.000
     09FA290_1, PR13N,    15,  1,   -999,     31,2,19900301,0102,-43.2497, 155.3735, 4522,    399.4,   8.6590,  34.5810,2,  34.5840,2,    220.1,2,    231.9,2,     5.89,2,    19.88,2,     1.33,2,  -999.0,  8.6163,-999.000
     09FA290_1, PR13N,    15,  1,   -999,     40,2,19900301,0102,-43.2497, 155.3735, 4522,    498.7,   8.2520,  34.5370,2,  34.5390,2,    206.8,2,    226.4,2,     7.69,2,    21.68,2,     1.45,2,  -999.0,  8.2000,-999.000
     09FA290_1, PR13N,    15,  1,   -999,     18,2,19900301,0102,-43.2497, 155.3735, 4522,    599.7,   7.7610,  34.5040,2,  34.5060,2,    197.2,2,    211.9,2,    10.59,2,    24.18,2,     1.60,2,  -999.0,  7.7002,-999.000
     09FA290_1, PR13N,    15,  1,   -999,     41,2,19900301,0102,-43.2497, 155.3735, 4522,    800.1,   6.2430,  34.4240,2,  34.4290,2,    193.8,2,    198.9,2,    20.98,2,    28.57,2,     1.88,2,  -999.0,  6.1700,-999.000
     09FA290_1, PR13N,    15,  1,   -999,     35,2,19900301,0102,-43.2497, 155.3735, 4522,    984.6,   4.7290,  34.3880,2,  34.3930,2,    191.5,2,    192.8,2,    35.86,2,    32.17,2,     2.13,2,  -999.0,  4.6493,-999.000
     09FA290_1, PR13N,    15,  1,   -999,     37,2,19900301,0102,-43.2497, 155.3735, 4522,   1227.8,   3.4970,  34.4250,2,  34.4270,2,    181.5,2,    183.0,2,    50.45,2,    34.87,2,     2.32,2,  -999.0,  3.4069,-999.000
     09FA290_1, PR13N,    15,  1,   -999,      2,2,19900301,0102,-43.2497, 155.3735, 4522,   1446.5,   2.9210,  34.5090,2,  34.5120,2,    173.3,2,    171.6,2,    65.03,2,    35.76,2,     2.40,2,  -999.0,  2.8186,-999.000
     09FA290_1, PR13N,    15,  1,   -999,     42,2,19900301,0102,-43.2497, 155.3735, 4522,   1446.5,   2.9210,  34.5090,2,  34.5130,2,    173.3,2,    171.6,2,    65.03,2,    35.76,2,     2.41,2,  -999.0,  2.8186,-999.000
     09FA290_1, PR13N,    15,  1,   -999,     29,2,19900301,0102,-43.2497, 155.3735, 4522,   1746.3,   2.5250,  34.6280,2,  34.6260,2,    166.8,2,    166.6,2,  -999.00,5,  -999.00,5,  -999.00,5,  -999.0,  2.4023,-999.000
     09FA290_1, PR13N,    15,  1,   -999,     46,2,19900301,0102,-43.2497, 155.3735, 4522,   1997.8,   2.3060,  34.6850,2,  34.6830,2,    172.3,2,    171.6,2,    83.02,2,    34.37,2,     2.29,2,     9.9,  2.1649,   2.341
     09FA290_1, PR13N,    15,  1,   -999,     34,2,19900301,0102,-43.2497, 155.3735, 4522,   2197.8,   2.1790,  34.7130,2,  34.7120,2,    175.9,2,    176.9,2,  -999.00,5,  -999.00,5,  -999.00,5,  -999.0,  2.0224,-999.000
     09FA290_1, PR13N,    15,  1,   -999,     25,2,19900301,0102,-43.2497, 155.3735, 4522,   2600.4,   1.8790,  34.7350,2,  34.7350,2,    181.7,2,    184.1,2,    92.81,2,    33.47,2,     2.24,2,  -999.0,  1.6914,-999.000
     09FA290_1, PR13N,    15,  1,   -999,     28,2,19900301,0102,-43.2497, 155.3735, 4522,   2600.4,   1.8790,  34.7350,2,  34.7350,2,    181.7,2,    185.2,2,    92.81,2,    33.47,2,     2.24,2,  -999.0,  1.6914,-999.000
     09FA290_1, PR13N,    15,  1,   -999,      1,2,19900301,0102,-43.2497, 155.3735, 4522,   2992.9,   1.6180,  34.7370,2,  34.7360,2,    182.8,2,    188.8,2,    99.50,2,    33.67,2,     2.25,2,  -999.0,  1.3989,-999.000
     09FA290_1, PR13N,    15,  1,   -999,     10,2,19900301,0102,-43.2497, 155.3735, 4522,   3199.2,   1.4970,  34.7350,2,  34.7290,2,    186.2,2,    191.6,2,   104.50,2,    33.77,2,     2.24,2,  -999.0,  1.2607,-999.000
     09FA290_1, PR13N,    15,  1,   -999,     26,2,19900301,0102,-43.2497, 155.3735, 4522,   3563.5,   1.2520,  34.7280,2,  34.7250,2,    191.4,2,    198.0,2,   109.59,2,    33.77,2,     2.25,2,  -999.0,  0.9854,-999.000
     09FA290_1, PR13N,    15,  1,   -999,     36,2,19900301,0102,-43.2497, 155.3735, 4522,   3563.5,   1.2520,  34.7280,2,  34.7250,2,    191.4,2,    198.6,2,   109.59,2,    33.77,2,     2.25,2,  -999.0,  0.9854,-999.000
     09FA290_1, PR13N,    15,  1,   -999,      9,2,19900301,0102,-43.2497, 155.3735, 4522,   3998.4,   1.0900,  34.7200,2,  34.7180,2,    194.7,2,    203.0,2,   114.79,2,    34.17,2,     2.31,2,  -999.0,  0.7826,-999.000
     09FA290_1, PR13N,    15,  1,   -999,     43,2,19900301,0102,-43.2497, 155.3735, 4522,   4503.5,   0.9900,  34.7130,2,  34.7110,2,    200.7,2,    202.4,2,   119.98,2,    34.37,2,     2.28,2,  -999.0,  0.6303,-999.000
     09FA290_1, PR13N,    15,  1,   -999,     12,2,19900301,0102,-43.2497, 155.3735, 4522,   4592.5,   0.9720,  34.7120,2,  34.7090,2,    199.4,2,    202.7,2,   121.78,2,    34.37,2,     2.27,2,    22.6,  0.6028,   0.992
     09FA290_1, PR13N,    15,  1,   -999,     24,2,19900301,0102,-43.2497, 155.3735, 4522,   4592.5,   0.9720,  34.7120,2,  34.7080,2,    199.4,2,    203.0,2,   116.48,2,    34.37,2,     2.28,2,  -999.0,  0.6028,-999.000