BOTTLE,20020730WHPSIO
EXPOCODE,SECT_ID,STNNBR,CASTNO,SAMPNO,BTLNBR,BTLNBR_FLAG_W,DATE,TIME,LATITUDE,LONGITUDE,DEPTH,CTDPRS,CTDTMP,CTDSAL,CTDSAL_FLAG_W,SALNTY,SALNTY_FLAG_W,CTDOXY,CTDOXY_FLAG_W,OXYGEN,OXYGEN_FLAG_W,SILCAT,SILCAT_FLAG_W,NO2+NO3,NO2+NO3_FLAG_W,PHSPHT,PHSPHT_FLAG_W,REVPRS,THETA,REVTMP
,,,,,,,,,,,,DBR,ITS-90,PSS-78,,PSS-78,,UMOL/KG,,UMOL/KG,,UMOL/KG,,UMOL/KG,,UMOL/KG,,DBR,ITS-90,ITS-90
     09FA290_2,FRAN90,   106,  1,   -999,     41,2,19900328,1508,-28.4083, 162.3032, 1526,   1006.8,   5.2950,  34.4770,2,  34.4770,2,    179.1,2,    179.2,2,    41.46,2,    31.34,2,     2.16,2,  -999.0,  5.2089,-999.000
     09FA290_2,FRAN90,   106,  1,   -999,      1,2,19900328,1508,-28.4083, 162.3032, 1526,   1006.8,   5.2950,  34.4770,2,  34.4770,2,    179.1,2,    178.6,2,    41.76,2,    31.53,2,     2.16,2,  -999.0,  5.2089,-999.000
     09FA290_2,FRAN90,   106,  1,   -999,     26,2,19900328,1508,-28.4083, 162.3032, 1526,   1006.8,   5.2950,  34.4770,2,  34.4790,2,    179.1,2,    178.3,2,    41.46,2,    31.34,2,     2.16,2,  -999.0,  5.2089,-999.000
     09FA290_2,FRAN90,   106,  1,   -999,     12,2,19900328,1508,-28.4083, 162.3032, 1526,   1006.8,   5.2950,  34.4770,2,  34.4770,2,    179.1,2,    178.9,2,    41.46,2,    31.34,2,     2.16,2,     8.0,  5.2089,   5.306
     09FA290_2,FRAN90,   106,  1,   -999,     46,2,19900328,1508,-28.4083, 162.3032, 1526,   1006.8,   5.2950,  34.4770,2,  34.4770,2,    179.1,2,    178.9,2,    41.26,2,    31.53,2,     2.15,2,     2.9,  5.2089,   5.334
     09FA290_2,FRAN90,   106,  1,   -999,     34,2,19900328,1508,-28.4083, 162.3032, 1526,   1006.8,   5.2950,  34.4770,2,  34.4770,2,    179.1,2,    178.6,2,    41.76,2,    31.53,2,     2.16,2,  -999.0,  5.2089,-999.000
     09FA290_2,FRAN90,   106,  1,   -999,     36,2,19900328,1508,-28.4083, 162.3032, 1526,   1012.2,   5.2650,  34.4760,2,  34.4760,2,    176.0,2,    179.5,2,    41.06,2,    31.34,2,     2.16,2,  -999.0,  5.1786,-999.000
     09FA290_2,FRAN90,   106,  1,   -999,     44,2,19900328,1508,-28.4083, 162.3032, 1526,   1012.2,   5.2650,  34.4760,2,  34.4790,2,    176.0,2,    178.6,2,    41.06,2,    31.34,2,     2.15,2,  -999.0,  5.1786,-999.000
     09FA290_2,FRAN90,   106,  1,   -999,     24,2,19900328,1508,-28.4083, 162.3032, 1526,   1012.2,   5.2650,  34.4760,2,  34.4770,2,    176.0,2,    178.3,2,    41.26,2,    31.34,2,     2.16,2,  -999.0,  5.1786,-999.000
     09FA290_2,FRAN90,   106,  1,   -999,     29,2,19900328,1508,-28.4083, 162.3032, 1526,   1015.0,   5.2310,  34.4750,2,  34.4740,2,    177.4,2,    178.6,2,    41.76,2,    31.72,2,     2.18,2,  -999.0,  5.1446,-999.000
     09FA290_2,FRAN90,   106,  1,   -999,     43,2,19900328,1508,-28.4083, 162.3032, 1526,   1015.0,   5.2310,  34.4750,2,  34.4760,2,    177.4,2,    178.6,2,    39.06,2,    30.38,2,     2.03,2,  -999.0,  5.1446,-999.000
     09FA290_2,FRAN90,   106,  1,   -999,     45,2,19900328,1508,-28.4083, 162.3032, 1526,   1015.0,   5.2310,  34.4750,2,  34.4720,2,    177.4,2,    178.3,2,    42.46,2,    31.72,2,     2.18,2,  -999.0,  5.1446,-999.000
     09FA290_2,FRAN90,   106,  1,   -999,     35,2,19900328,1508,-28.4083, 162.3032, 1526,   1016.9,   5.1970,  34.4740,2,  34.4760,2,    177.4,2,    177.7,2,    43.36,2,    31.77,2,     2.28,2,  -999.0,  5.1107,-999.000
     09FA290_2,FRAN90,   106,  1,   -999,      5,2,19900328,1508,-28.4083, 162.3032, 1526,   1016.9,   5.1970,  34.4740,2,  34.4730,2,    177.4,2,    178.9,2,    41.26,2,    31.53,2,     2.16,2,  -999.0,  5.1107,-999.000
     09FA290_2,FRAN90,   106,  1,   -999,     40,2,19900328,1508,-28.4083, 162.3032, 1526,   1016.9,   5.1970,  34.4740,2,  34.4760,2,    177.4,2,    178.9,2,    43.56,2,    31.77,2,     2.18,2,  -999.0,  5.1107,-999.000
     09FA290_2,FRAN90,   106,  1,   -999,     27,2,19900328,1508,-28.4083, 162.3032, 1526,   1016.9,   5.1970,  34.4740,2,  34.4770,2,    177.4,2,    178.6,2,    44.26,2,    31.97,2,     2.20,2,  -999.0,  5.1107,-999.000
     09FA290_2,FRAN90,   106,  1,   -999,      6,2,19900328,1508,-28.4083, 162.3032, 1526,   1021.1,   5.1170,  34.4760,2,  34.4760,2,    178.6,2,    178.6,2,    41.76,2,    31.72,2,     2.16,2,  -999.0,  5.0309,   5.287
     09FA290_2,FRAN90,   106,  1,   -999,     42,2,19900328,1508,-28.4083, 162.3032, 1526,   1021.1,   5.1170,  34.4760,2,  34.4770,2,    178.6,2,    178.6,2,    43.56,2,    31.37,2,     2.18,2,  -999.0,  5.0309,-999.000
     09FA290_2,FRAN90,   106,  1,   -999,     10,2,19900328,1508,-28.4083, 162.3032, 1526,   1021.1,   5.1170,  34.4760,2,  34.4760,2,    178.6,2,    178.3,2,    43.56,2,    31.37,2,     2.16,2,  -999.0,  5.0309,-999.000
     09FA290_2,FRAN90,   106,  1,   -999,     18,2,19900328,1508,-28.4083, 162.3032, 1526,   1021.1,   5.1170,  34.4760,2,  34.4750,2,    178.6,2,    178.9,2,    41.96,2,    31.92,2,     2.16,2,  -999.0,  5.0309,-999.000
     09FA290_2,FRAN90,   106,  1,   -999,     37,2,19900328,1508,-28.4083, 162.3032, 1526,   1021.1,   5.1170,  34.4760,2,  34.4760,2,    178.6,2,    178.9,2,    42.16,2,    31.72,2,     2.16,2,  -999.0,  5.0309,-999.000
     09FA290_2,FRAN90,   107,  1,   -999,      6,2,19900329,0059,-29.0103, 162.5142, 1278,      4.0,  23.4370,  35.5380,2,  35.5390,2,    211.7,2,    211.4,2,     0.70,2,     0.20,2,     0.10,2,  -999.0, 23.4362,-999.000
     09FA290_2,FRAN90,   107,  1,   -999,     43,2,19900329,0059,-29.0103, 162.5142, 1278,     48.7,  21.1600,  35.6060,2,  35.6040,2,    216.0,2,    214.5,2,     0.90,2,     0.20,2,     0.17,2,  -999.0, 21.1506,-999.000
     09FA290_2,FRAN90,   107,  1,   -999,     29,2,19900329,0059,-29.0103, 162.5142, 1278,     82.9,  19.5370,  35.6250,2,  35.6220,2,    197.0,2,    195.6,2,     1.30,2,     2.54,2,     0.32,2,  -999.0, 19.5219,-999.000
     09FA290_2,FRAN90,   107,  1,   -999,     24,2,19900329,0059,-29.0103, 162.5142, 1278,     98.9,  19.2240,  35.6200,2,  35.6190,2,    199.4,2,    197.9,2,     1.30,2,     2.74,2,     0.32,2,  -999.0, 19.2062,-999.000
     09FA290_2,FRAN90,   107,  1,   -999,     28,2,19900329,0059,-29.0103, 162.5142, 1278,    151.4,  18.6810,  35.6160,2,  35.6140,2,    192.8,2,    197.4,2,     1.30,2,     3.91,2,     0.39,2,  -999.0, 18.6542,-999.000
     09FA290_2,FRAN90,   107,  1,   -999,     35,2,19900329,0059,-29.0103, 162.5142, 1278,    197.6,  17.8110,  35.5640,2,  35.5630,2,    190.8,2,    188.9,2,     1.80,2,     5.66,2,     0.49,2,  -999.0, 17.7772,-999.000
     09FA290_2,FRAN90,   107,  1,   -999,     46,2,19900329,0059,-29.0103, 162.5142, 1278,    294.0,  15.2140,  35.3820,2,  35.3830,2,    188.1,2,    187.5,2,  -999.00,5,  -999.00,5,  -999.00,5,    99.2, 15.1688,  15.240
     09FA290_2,FRAN90,   107,  1,   -999,      1,2,19900329,0059,-29.0103, 162.5142, 1278,    369.3,  13.4630,  35.2350,2,  35.2340,2,    192.8,2,    191.3,2,     3.10,2,     9.57,2,     0.75,2,  -999.0, 13.4106,-999.000
     09FA290_2,FRAN90,   107,  1,   -999,     25,2,19900329,0059,-29.0103, 162.5142, 1278,    398.6,  12.7130,  35.1110,2,  35.1120,2,    187.0,2,    184.6,2,     5.29,2,    14.46,2,     1.03,2,  -999.0, 12.6585,-999.000
     09FA290_2,FRAN90,   107,  1,   -999,      8,2,19900329,0059,-29.0103, 162.5142, 1278,    498.8,  10.8770,  34.8950,2,  34.8950,2,    181.8,2,    186.7,2,     7.39,2,    18.36,2,     1.27,2,  -999.0, 10.8152,-999.000
     09FA290_2,FRAN90,   107,  1,   -999,     41,2,19900329,0059,-29.0103, 162.5142, 1278,    599.2,   9.4260,  34.7320,2,  34.7300,2,    188.1,2,    189.3,2,    10.19,2,    21.49,2,     1.80,3,  -999.0,  9.3578,-999.000
     09FA290_2,FRAN90,   107,  1,   -999,     26,2,19900329,0059,-29.0103, 162.5142, 1278,    798.9,   7.2290,  34.5390,2,  34.5410,2,    191.9,2,    187.9,2,    19.98,2,    26.36,2,     1.90,2,  -999.0,  7.1501,-999.000
     09FA290_2,FRAN90,   107,  1,   -999,     12,2,19900329,0059,-29.0103, 162.5142, 1278,   1002.3,   5.5200,  34.4680,2,  34.4700,2,    179.6,2,    181.2,2,    37.26,2,    30.47,2,     2.12,2,     9.5,  5.4326,   5.532
     09FA290_2,FRAN90,   107,  1,   -999,     34,2,19900329,0059,-29.0103, 162.5142, 1278,   1268.2,   3.7910,  34.5390,2,  34.5390,2,    166.4,2,    160.8,2,    71.83,2,    34.18,2,     2.42,2,  -999.0,  3.6944,-999.000
     09FA290_2,FRAN90,   108,  1,   -999,      6,2,19900329,0526,-29.5847, 162.8345, 1199,      2.5,  23.4850,  35.5330,2,  35.5330,2,    222.6,2,    211.4,2,     0.70,2,     0.20,2,     0.10,2,  -999.0, 23.4845,  23.495
     09FA290_2,FRAN90,   108,  1,   -999,     43,2,19900329,0526,-29.5847, 162.8345, 1199,     48.1,  23.1440,  35.5320,2,  35.5300,2,    215.9,2,    211.9,2,     0.70,2,     0.20,2,     0.08,2,  -999.0, 23.1341,-999.000
     09FA290_2,FRAN90,   108,  1,   -999,     29,2,19900329,0526,-29.5847, 162.8345, 1199,    108.5,  19.6570,  35.6400,2,  35.6380,2,    188.3,2,    194.4,2,     1.10,2,     2.93,2,     0.31,2,  -999.0, 19.6371,-999.000
     09FA290_2,FRAN90,   108,  1,   -999,     24,2,19900329,0526,-29.5847, 162.8345, 1199,    149.3,  18.9880,  35.6120,2,  35.6120,2,    185.8,2,    191.5,2,     1.30,2,     4.11,2,     0.39,2,  -999.0, 18.9613,-999.000
     09FA290_2,FRAN90,   108,  1,   -999,     28,2,19900329,0526,-29.5847, 162.8345, 1199,    200.1,  18.0090,  35.5800,2,  35.5790,2,    193.2,2,    188.9,2,     1.60,2,     5.46,2,     0.49,2,  -999.0, 17.9745,-999.000
     09FA290_2,FRAN90,   108,  1,   -999,     36,2,19900329,0526,-29.5847, 162.8345, 1199,    298.4,  15.6980,  35.4250,2,  35.4250,2,    192.8,2,    191.3,2,     2.90,2,     8.20,2,     0.66,2,  -999.0, 15.6511,-999.000
     09FA290_2,FRAN90,   108,  1,   -999,     46,2,19900329,0526,-29.5847, 162.8345, 1199,    380.0,  13.5500,  35.2310,2,  35.2340,2,    196.7,2,    189.3,2,     4.20,2,    12.11,2,     0.90,2,    79.9, 13.4958,  13.589
     09FA290_2,FRAN90,   108,  1,   -999,      1,2,19900329,0526,-29.5847, 162.8345, 1199,    498.2,  11.0680,  34.9390,2,  34.9390,2,    190.2,2,    191.3,2,     6.59,2,    16.99,2,     1.20,2,  -999.0, 11.0055,-999.000
     09FA290_2,FRAN90,   108,  1,   -999,     25,2,19900329,0526,-29.5847, 162.8345, 1199,    597.7,   9.4270,  34.7370,2,  34.7380,2,    188.7,2,    190.5,2,    10.19,2,    21.29,2,     1.47,2,  -999.0,  9.3589,-999.000
     09FA290_2,FRAN90,   108,  1,   -999,      8,2,19900329,0526,-29.5847, 162.8345, 1199,    699.5,   8.0680,  34.6010,2,  34.6000,2,    187.9,2,    187.9,2,    14.89,2,    24.61,2,     1.71,2,  -999.0,  7.9950,-999.000
     09FA290_2,FRAN90,   108,  1,   -999,     41,2,19900329,0526,-29.5847, 162.8345, 1199,    798.6,   7.0670,  34.5300,2,  34.5290,2,    188.3,2,    187.0,2,    20.98,2,    26.75,2,     1.86,2,  -999.0,  6.9891,-999.000
     09FA290_2,FRAN90,   108,  1,   -999,     26,2,19900329,0526,-29.5847, 162.8345, 1199,    998.3,   5.5550,  34.4790,2,  34.4800,2,    176.4,2,    179.5,2,    37.56,2,    30.47,2,     2.14,2,  -999.0,  5.4677,-999.000
     09FA290_2,FRAN90,   108,  1,   -999,     12,2,19900329,0526,-29.5847, 162.8345, 1199,   1036.6,   5.3030,  34.4780,2,  34.4860,2,    174.4,2,    178.9,2,    40.66,2,    30.66,2,     2.15,2,    39.5,  5.2140,   5.344
     09FA290_2,FRAN90,   108,  1,   -999,     34,2,19900329,0526,-29.5847, 162.8345, 1199,   1191.0,   3.9930,  34.5290,2,  34.5290,2,    161.7,2,    163.1,2,    59.54,2,    33.60,2,     2.41,2,  -999.0,  3.9012,-999.000
     09FA290_2,FRAN90,   109,  1,   -999,      6,2,19900329,1002,-30.1475, 163.1527, 1294,      5.3,  23.2270,  35.4660,2,  35.4680,2,    217.9,2,    212.2,2,     0.90,2,     0.20,2,     0.08,2,  -999.0, 23.2259,  23.258
     09FA290_2,FRAN90,   109,  1,   -999,     43,2,19900329,1002,-30.1475, 163.1527, 1294,     48.9,  23.0750,  35.5210,2,  35.5220,2,    211.5,2,    211.1,2,     0.70,2,     0.20,2,     0.08,2,  -999.0, 23.0650,-999.000
     09FA290_2,FRAN90,   109,  1,   -999,     29,2,19900329,1002,-30.1475, 163.1527, 1294,    119.3,  19.2000,  35.6220,2,  35.6240,2,    195.2,2,    197.4,2,     1.10,2,     3.20,2,     0.34,2,  -999.0, 19.1785,-999.000
     09FA290_2,FRAN90,   109,  1,   -999,     24,2,19900329,1002,-30.1475, 163.1527, 1294,    149.4,  18.7130,  35.6060,2,  35.6060,2,    192.1,2,    197.4,2,     1.20,2,     3.80,2,     0.37,2,  -999.0, 18.6866,-999.000
     09FA290_2,FRAN90,   109,  1,   -999,     28,2,19900329,1002,-30.1475, 163.1527, 1294,    199.2,  17.3450,  35.5380,2,  35.5370,2,    186.6,2,    183.4,2,     2.00,2,     6.99,2,     0.55,2,  -999.0, 17.3115,-999.000
     09FA290_2,FRAN90,   109,  1,   -999,     36,2,19900329,1002,-30.1475, 163.1527, 1294,    298.2,  14.7760,  35.3450,2,  35.3460,2,    185.5,2,    186.0,2,     3.20,2,    10.19,2,     0.77,2,  -999.0, 14.7310,-999.000
     09FA290_2,FRAN90,   109,  1,   -999,     46,2,19900329,1002,-30.1475, 163.1527, 1294,    346.9,  13.5540,  35.2290,2,  35.2280,2,    192.3,2,    186.4,2,     4.30,2,    12.19,2,     0.89,2,    51.9, 13.5046,  13.603
     09FA290_2,FRAN90,   109,  1,   -999,      1,2,19900329,1002,-30.1475, 163.1527, 1294,    399.0,  12.4440,  35.0950,2,  35.0960,2,    185.3,2,    185.8,2,     5.39,2,    14.80,2,     1.06,2,  -999.0, 12.3902,-999.000
     09FA290_2,FRAN90,   109,  1,   -999,     25,2,19900329,1002,-30.1475, 163.1527, 1294,    499.1,  10.7280,  34.8870,2,  34.8880,2,    188.4,2,    186.4,2,     7.59,2,    18.19,2,     1.28,2,  -999.0, 10.6667,-999.000
     09FA290_2,FRAN90,   109,  1,   -999,      8,2,19900329,1002,-30.1475, 163.1527, 1294,    598.8,   9.0890,  34.6930,2,  34.6920,2,    190.1,2,    191.1,2,    10.59,2,    21.99,2,     1.53,2,  -999.0,  9.0223,-999.000
     09FA290_2,FRAN90,   109,  1,   -999,     41,2,19900329,1002,-30.1475, 163.1527, 1294,    898.5,   6.2600,  34.4900,2,  34.4870,2,    184.9,2,    185.9,2,    27.97,2,    28.78,2,     2.02,2,  -999.0,  6.1773,-999.000
     09FA290_2,FRAN90,   109,  1,   -999,     26,2,19900329,1002,-30.1475, 163.1527, 1294,    998.9,   5.5990,  34.4860,2,  34.4870,2,    177.6,2,    180.0,2,    37.16,2,    30.58,2,     2.12,2,  -999.0,  5.5113,-999.000
     09FA290_2,FRAN90,   109,  1,   -999,     12,2,19900329,1002,-30.1475, 163.1527, 1294,   1248.8,   4.2270,  34.5150,2,  34.5140,2,    168.8,2,    167.5,2,    56.24,2,    33.58,2,     2.35,2,    61.3,  4.1280,   4.232
     09FA290_2,FRAN90,   109,  1,   -999,     34,2,19900329,1002,-30.1475, 163.1527, 1294,   1279.2,   4.0530,  34.5270,2,  34.5250,2,    163.9,2,    163.1,2,    62.04,2,    33.98,2,     2.39,2,  -999.0,  3.9530,-999.000
     09FA290_2,FRAN90,   110,  1,   -999,      6,2,19900329,1441,-30.7285, 163.4552, 1295,      3.7,  22.8580,  35.5970,2,  35.5960,2,    214.3,2,    214.8,2,     0.70,2,     0.20,2,     0.10,2,  -999.0, 22.8572,  22.869
     09FA290_2,FRAN90,   110,  1,   -999,     43,2,19900329,1441,-30.7285, 163.4552, 1295,     48.1,  22.8070,  35.5900,2,  35.5880,2,    220.7,2,    214.8,2,     0.70,2,     0.20,2,     0.10,2,  -999.0, 22.7972,-999.000
     09FA290_2,FRAN90,   110,  1,   -999,     29,2,19900329,1441,-30.7285, 163.4552, 1295,     98.5,  19.2080,  35.6200,2,  35.6180,2,    208.1,2,    206.7,2,     1.10,2,     1.20,2,     0.25,2,  -999.0, 19.1903,-999.000
     09FA290_2,FRAN90,   110,  1,   -999,     24,2,19900329,1441,-30.7285, 163.4552, 1295,    148.4,  18.4520,  35.6090,2,  35.6060,2,    199.0,2,    198.8,2,     1.20,2,     3.80,2,     0.37,2,  -999.0, 18.4260,-999.000
     09FA290_2,FRAN90,   110,  1,   -999,     28,2,19900329,1441,-30.7285, 163.4552, 1295,    197.7,  17.5670,  35.5650,2,  35.5660,2,    190.3,2,    195.6,2,     1.60,2,     4.99,2,     0.45,2,  -999.0, 17.5335,-999.000
     09FA290_2,FRAN90,   110,  1,   -999,     36,2,19900329,1441,-30.7285, 163.4552, 1295,    297.7,  15.5540,  35.4210,2,  35.4210,2,    187.0,2,    191.9,2,     2.70,2,     8.39,2,     0.67,2,  -999.0, 15.5075,-999.000
     09FA290_2,FRAN90,   110,  1,   -999,     46,2,19900329,1441,-30.7285, 163.4552, 1295,    380.9,  13.6580,  35.2460,2,  35.2480,2,    194.8,2,    191.3,2,     3.90,2,    11.59,2,     0.87,2,    91.5, 13.6034,  13.683
     09FA290_2,FRAN90,   110,  1,   -999,      1,2,19900329,1441,-30.7285, 163.4552, 1295,    499.1,  11.3300,  34.9670,2,  34.9600,2,    190.7,2,    188.1,2,     6.59,2,    16.99,2,     1.19,2,  -999.0, 11.2665,-999.000
     09FA290_2,FRAN90,   110,  1,   -999,     25,2,19900329,1441,-30.7285, 163.4552, 1295,    598.9,   9.4330,  34.7370,2,  34.7390,2,    189.3,2,    187.3,2,    10.19,2,    21.19,2,     1.48,2,  -999.0,  9.3648,-999.000
     09FA290_2,FRAN90,   110,  1,   -999,      8,2,19900329,1441,-30.7285, 163.4552, 1295,    798.1,   7.4930,  34.5880,2,  34.5900,2,    185.9,2,    185.3,2,    21.38,2,    25.98,2,     1.80,2,  -999.0,  7.4126,-999.000
     09FA290_2,FRAN90,   110,  1,   -999,     41,2,19900329,1441,-30.7285, 163.4552, 1295,    998.3,   5.6280,  34.4750,2,  34.4740,2,    178.8,2,    183.0,2,    35.16,2,    30.18,2,     2.08,2,  -999.0,  5.5401,-999.000
     09FA290_2,FRAN90,   110,  1,   -999,     26,2,19900329,1441,-30.7285, 163.4552, 1295,   1038.4,   5.3610,  34.4700,2,  34.4710,2,    176.2,2,    180.0,2,    38.76,2,    30.98,2,     2.13,2,  -999.0,  5.2714,-999.000
     09FA290_2,FRAN90,   110,  1,   -999,     12,2,19900329,1441,-30.7285, 163.4552, 1295,   1250.9,   4.2730,  34.5090,2,  34.5140,2,    165.5,2,    167.2,2,    56.24,2,    33.38,2,     2.35,2,    59.1,  4.1734,   4.287
     09FA290_2,FRAN90,   110,  1,   -999,     34,2,19900329,1441,-30.7285, 163.4552, 1295,   1289.5,   3.9880,  34.5260,2,  34.5270,2,    161.3,2,    163.4,2,    64.04,2,    33.98,2,     2.39,2,  -999.0,  3.8877,-999.000