BOTTLE,20020730WHPSIO
EXPOCODE,SECT_ID,STNNBR,CASTNO,SAMPNO,BTLNBR,BTLNBR_FLAG_W,DATE,TIME,LATITUDE,LONGITUDE,DEPTH,CTDPRS,CTDTMP,CTDSAL,CTDSAL_FLAG_W,SALNTY,SALNTY_FLAG_W,CTDOXY,CTDOXY_FLAG_W,OXYGEN,OXYGEN_FLAG_W,SILCAT,SILCAT_FLAG_W,NO2+NO3,NO2+NO3_FLAG_W,PHSPHT,PHSPHT_FLAG_W,REVPRS,THETA,REVTMP
,,,,,,,,,,,,DBR,ITS-90,PSS-78,,PSS-78,,UMOL/KG,,UMOL/KG,,UMOL/KG,,UMOL/KG,,UMOL/KG,,DBR,ITS-90,ITS-90
     09FA290_2,FRAN90,    93,  1,   -999,      6,2,19900324,0845,-25.0673, 154.1022, 3912,      3.8,  26.0600,  35.0920,2,  35.0930,2,    211.3,2,    199.6,2,     0.70,2,     0.20,2,     0.15,2,  -999.0, 26.0592,  26.078
     09FA290_2,FRAN90,    93,  1,   -999,     35,2,19900324,0845,-25.0673, 154.1022, 3912,    100.2,  23.4880,  35.5530,2,  35.5520,2,    162.3,2,    204.1,2,     0.70,2,     0.79,2,     0.18,2,  -999.0, 23.4672,-999.000
     09FA290_2,FRAN90,    93,  1,   -999,     45,2,19900324,0845,-25.0673, 154.1022, 3912,    149.2,  20.7750,  35.6330,2,  35.6300,2,    201.2,2,    163.3,2,     1.50,2,     5.94,2,     0.62,2,  -999.0, 20.7466,-999.000
     09FA290_2,FRAN90,    93,  1,   -999,     37,2,19900324,0845,-25.0673, 154.1022, 3912,    218.8,  19.0910,  35.6300,2,  35.6300,2,    177.9,2,    194.7,2,     1.00,2,     3.57,2,     0.36,2,  -999.0, 19.0517,-999.000
     09FA290_2,FRAN90,    93,  1,   -999,     18,2,19900324,0845,-25.0673, 154.1022, 3912,    297.4,  16.9360,  35.4250,2,  35.4290,2,    193.8,2,    163.1,2,     2.90,2,     9.71,2,     0.77,2,  -999.0, 16.8868,-999.000
     09FA290_2,FRAN90,    93,  1,   -999,     42,2,19900324,0845,-25.0673, 154.1022, 3912,    423.5,  13.5010,  35.1740,2,  35.1800,2,    184.0,2,    181.8,2,     4.30,2,    13.09,2,     0.97,2,  -999.0, 13.4407,-999.000
     09FA290_2,FRAN90,    93,  1,   -999,      2,2,19900324,0845,-25.0673, 154.1022, 3912,    498.9,  11.1150,  34.8960,2,  34.9010,2,    188.4,2,    182.1,2,     7.19,2,    18.24,2,     1.28,2,  -999.0, 11.0523,-999.000
     09FA290_2,FRAN90,    93,  1,   -999,     27,2,19900324,0845,-25.0673, 154.1022, 3912,    600.7,   8.8180,  34.6520,2,  34.6540,2,    188.7,2,    191.2,2,    10.79,2,    22.60,2,     1.54,2,  -999.0,  8.7523,-999.000
     09FA290_2,FRAN90,    93,  1,   -999,      5,2,19900324,0845,-25.0673, 154.1022, 3912,    796.6,   6.4220,  34.4730,2,  34.4770,2,    176.5,2,    190.1,2,    23.58,2,    28.35,2,     1.94,2,  -999.0,  6.3482,-999.000
     09FA290_2,FRAN90,    93,  1,   -999,     43,2,19900324,0845,-25.0673, 154.1022, 3912,    999.4,   5.0280,  34.4670,2,  34.4700,2,    165.0,2,    177.6,2,    44.26,2,    32.12,2,     2.22,2,  -999.0,  4.9446,-999.000
     09FA290_2,FRAN90,    93,  1,   -999,     29,2,19900324,0845,-25.0673, 154.1022, 3912,   1188.9,   4.1170,  34.5040,2,  34.5010,2,    149.6,2,    162.9,2,    62.54,2,    34.50,2,     2.36,2,  -999.0,  4.0243,-999.000
     09FA290_2,FRAN90,    93,  1,   -999,     24,2,19900324,0845,-25.0673, 154.1022, 3912,   1413.1,   3.3190,  34.5610,2,  34.5620,2,    151.9,2,    150.7,2,    84.82,2,    36.47,2,     2.53,2,  -999.0,  3.2149,-999.000
     09FA290_2,FRAN90,    93,  1,   -999,     40,2,19900324,0845,-25.0673, 154.1022, 3912,   1747.6,   2.5740,  34.6340,2,  34.6330,2,    168.5,2,    154.7,2,    98.00,2,    36.08,2,     2.51,2,  -999.0,  2.4505,-999.000
     09FA290_2,FRAN90,    93,  1,   -999,     46,2,19900324,0845,-25.0673, 154.1022, 3912,   1996.9,   2.3090,  34.6690,2,  34.6690,2,    175.3,2,    161.7,2,    98.00,2,    35.28,2,     2.48,2,     7.4,  2.1680,   2.333
     09FA290_2,FRAN90,    93,  1,   -999,      1,2,19900324,0845,-25.0673, 154.1022, 3912,   2248.9,   2.1510,  34.6930,2,  34.6930,2,    176.0,2,    169.9,2,    98.00,2,    34.70,2,     2.40,2,  -999.0,  1.9904,-999.000
     09FA290_2,FRAN90,    93,  1,   -999,     25,2,19900324,0845,-25.0673, 154.1022, 3912,   2398.6,   2.0370,  34.7100,2,  34.7090,2,    179.6,2,    174.7,2,    98.00,2,    34.30,2,     2.38,2,  -999.0,  1.8650,-999.000
     09FA290_2,FRAN90,    93,  1,   -999,      8,2,19900324,0845,-25.0673, 154.1022, 3912,   2518.5,   1.9310,  34.7190,2,  34.7160,2,    189.8,2,    179.3,2,  -999.00,5,  -999.00,5,  -999.00,5,  -999.0,  1.7500,-999.000
     09FA290_2,FRAN90,    93,  1,   -999,     41,2,19900324,0845,-25.0673, 154.1022, 3912,   2828.8,   1.6480,  34.7290,2,  34.7260,2,    185.3,2,    185.5,2,   103.60,2,    34.10,2,     2.35,2,  -999.0,  1.4439,-999.000
     09FA290_2,FRAN90,    93,  1,   -999,     26,2,19900324,0845,-25.0673, 154.1022, 3912,   3378.5,   1.2670,  34.7240,2,  34.7220,2,    192.5,2,    192.9,2,   113.09,2,    33.91,2,     2.35,2,  -999.0,  1.0186,-999.000
     09FA290_2,FRAN90,    93,  1,   -999,     12,2,19900324,0845,-25.0673, 154.1022, 3912,   3499.3,   1.2260,  34.7230,2,  34.7230,2,    192.5,2,    193.1,2,   116.88,2,    33.87,2,     2.36,2,    22.5,  0.9666,   1.199
     09FA290_2,FRAN90,    93,  1,   -999,     34,2,19900324,0845,-25.0673, 154.1022, 3912,   3948.2,   1.1180,  34.7190,2,  34.7190,2,    192.5,2,    194.3,2,   120.68,2,    34.10,2,     2.38,2,  -999.0,  0.8151,-999.000
     09FA290_2,FRAN90,    94,  1,   -999,      6,2,19900324,1611,-25.2783, 154.6182, 4318,      4.2,  25.8740,  35.1500,2,  35.1500,2,    205.9,2,    200.5,2,     1.00,2,     0.00,2,     0.12,2,  -999.0, 25.8731,-999.000
     09FA290_2,FRAN90,    94,  1,   -999,     36,2,19900324,1611,-25.2783, 154.6182, 4318,     48.8,  25.8870,  35.1500,2,  35.1500,2,    209.9,2,    203.9,2,     0.90,2,     0.00,2,     0.12,2,  -999.0, 25.8761,-999.000
     09FA290_2,FRAN90,    94,  1,   -999,     35,2,19900324,1611,-25.2783, 154.6182, 4318,     97.4,  23.6610,  35.4440,2,  35.4600,2,    203.5,2,    173.8,2,     1.40,2,     3.33,2,     0.38,2,  -999.0, 23.6407,-999.000
     09FA290_2,FRAN90,    94,  1,   -999,     45,2,19900324,1611,-25.2783, 154.6182, 4318,    150.3,  20.7010,  35.6290,2,  35.6280,2,    191.7,2,    197.6,2,     1.00,2,     1.87,2,     0.27,2,  -999.0, 20.6724,-999.000
     09FA290_2,FRAN90,    94,  1,   -999,     37,2,19900324,1611,-25.2783, 154.6182, 4318,    181.1,  19.7890,  35.6380,2,  35.6370,2,    193.1,2,    197.3,2,     1.00,2,     2.29,2,     0.30,2,  -999.0, 19.7556,-999.000
     09FA290_2,FRAN90,    94,  1,   -999,     18,2,19900324,1611,-25.2783, 154.6182, 4318,    201.3,  19.4430,  35.6300,2,  35.6300,2,    192.6,2,    191.9,2,     1.20,2,     3.33,2,     0.37,2,  -999.0, 19.4064,-999.000
     09FA290_2,FRAN90,    94,  1,   -999,     42,2,19900324,1611,-25.2783, 154.6182, 4318,    299.6,  18.0570,  35.5940,2,  35.5890,2,    186.5,2,    184.3,2,     1.80,2,     5.82,2,     0.53,2,  -999.0, 18.0051,-999.000
     09FA290_2,FRAN90,    94,  1,   -999,      2,2,19900324,1611,-25.2783, 154.6182, 4318,    400.7,  15.0080,  35.3020,2,  35.2930,2,    179.7,2,    174.7,2,     4.10,2,    11.66,2,     0.88,2,  -999.0, 14.9468,-999.000
     09FA290_2,FRAN90,    94,  1,   -999,     27,2,19900324,1611,-25.2783, 154.6182, 4318,    460.1,  13.1970,  35.1240,2,  35.1080,2,    186.0,2,    179.5,2,     5.49,2,    14.57,2,     1.06,2,  -999.0, 13.1324,-999.000
     09FA290_2,FRAN90,    94,  1,   -999,      5,2,19900324,1611,-25.2783, 154.6182, 4318,    600.3,   9.6030,  34.7320,2,  34.7230,2,    189.1,2,    188.1,2,     9.99,2,    21.44,2,     1.48,2,  -999.0,  9.5339,-999.000
     09FA290_2,FRAN90,    94,  1,   -999,     43,2,19900324,1611,-25.2783, 154.6182, 4318,    867.6,   6.0550,  34.4480,2,  34.4540,2,    183.1,2,    190.1,2,    26.47,2,    29.76,2,     2.01,2,  -999.0,  5.9767,-999.000
     09FA290_2,FRAN90,    94,  1,   -999,     29,2,19900324,1611,-25.2783, 154.6182, 4318,    997.5,   5.0920,  34.4600,2,  34.4620,2,    173.6,2,    178.2,2,    42.46,2,    32.26,2,     2.17,2,  -999.0,  5.0083,-999.000
     09FA290_2,FRAN90,    94,  1,   -999,     24,2,19900324,1611,-25.2783, 154.6182, 4318,   1191.5,   4.1390,  34.4970,2,  34.4950,2,    161.9,2,    164.0,2,    66.13,2,    34.97,2,     2.39,2,  -999.0,  4.0459,-999.000
     09FA290_2,FRAN90,    94,  1,   -999,     44,2,19900324,1611,-25.2783, 154.6182, 4318,   1467.7,   3.3560,  34.5580,2,  34.5580,2,    148.6,2,    151.5,2,    86.91,2,    36.63,2,     2.51,2,  -999.0,  3.2469,-999.000
     09FA290_2,FRAN90,    94,  1,   -999,     40,2,19900324,1611,-25.2783, 154.6182, 4318,   1747.1,   2.7660,  34.6080,2,  34.6080,2,    145.2,2,    148.7,2,   102.10,2,    37.46,2,     2.57,2,  -999.0,  2.6401,-999.000
     09FA290_2,FRAN90,    94,  1,   -999,     46,2,19900324,1611,-25.2783, 154.6182, 4318,   2000.9,   2.4080,  34.6510,2,  34.6520,2,    155.3,2,    157.8,2,   102.10,2,    35.79,2,     2.49,2,  -999.0,  2.2652,-999.000
     09FA290_2,FRAN90,    94,  1,   -999,      1,2,19900324,1611,-25.2783, 154.6182, 4318,   2249.1,   2.1660,  34.6900,2,  34.6880,2,    166.6,2,    169.7,2,   100.20,2,    34.55,2,     2.41,2,  -999.0,  2.0052,-999.000
     09FA290_2,FRAN90,    94,  1,   -999,     25,2,19900324,1611,-25.2783, 154.6182, 4318,   2575.6,   1.9010,  34.7170,2,  34.7150,2,    175.7,2,    180.1,2,   102.10,2,    33.72,2,     2.36,2,  -999.0,  1.7154,-999.000
     09FA290_2,FRAN90,    94,  1,   -999,      8,2,19900324,1611,-25.2783, 154.6182, 4318,   2848.4,   1.6640,  34.7240,2,  34.7220,2,    179.1,2,    185.8,2,   107.69,2,    33.51,2,     2.34,2,  -999.0,  1.4578,-999.000
     09FA290_2,FRAN90,    94,  1,   -999,     41,2,19900324,1611,-25.2783, 154.6182, 4318,   3347.5,   1.2550,  34.7200,2,  34.7170,2,    186.2,2,    192.6,2,   119.08,2,    33.72,2,     2.37,2,  -999.0,  1.0100,-999.000
     09FA290_2,FRAN90,    94,  1,   -999,     26,2,19900324,1611,-25.2783, 154.6182, 4318,   3498.1,   1.2210,  34.7180,2,  34.7200,2,    187.0,2,    193.4,2,   119.08,2,    33.93,2,     2.36,2,  -999.0,  0.9618,-999.000
     09FA290_2,FRAN90,    94,  1,   -999,     12,2,19900324,1611,-25.2783, 154.6182, 4318,   4001.5,   1.1560,  34.7150,2,  34.7170,2,    186.2,2,    194.9,2,   122.88,2,    34.14,2,     2.37,2,  -999.0,  0.8464,-999.000
     09FA290_2,FRAN90,    94,  1,   -999,     34,2,19900324,1611,-25.2783, 154.6182, 4318,   4367.0,   1.1520,  34.7140,2,  34.7140,2,    186.2,2,    194.9,2,   124.78,2,    34.14,2,     2.37,2,  -999.0,  0.8026,-999.000
     09FA290_2,FRAN90,    95,  1,   -999,      6,2,19900324,2357,-25.4687, 155.1345, 4643,      4.3,  24.5090,  35.5440,2,  35.5440,2,    206.6,2,    206.6,2,     1.00,2,     0.21,2,     0.12,2,  -999.0, 24.5081,-999.000
     09FA290_2,FRAN90,    95,  1,   -999,     36,2,19900324,2357,-25.4687, 155.1345, 4643,     47.5,  24.5150,  35.5430,2,  35.5400,2,    213.8,2,    206.6,2,     0.80,2,     0.21,2,     0.10,2,  -999.0, 24.5048,-999.000
     09FA290_2,FRAN90,    95,  1,   -999,     35,2,19900324,2357,-25.4687, 155.1345, 4643,     99.0,  21.3740,  35.6050,2,  35.6070,2,    236.0,2,    216.8,2,     0.80,2,     0.21,2,     0.20,2,  -999.0, 21.3548,-999.000
     09FA290_2,FRAN90,    95,  1,   -999,     45,2,19900324,2357,-25.4687, 155.1345, 4643,    148.4,  19.8950,  35.6400,2,  35.6390,2,    204.7,2,    195.9,2,     1.00,2,     2.97,2,     0.32,2,  -999.0, 19.8676,-999.000
     09FA290_2,FRAN90,    95,  1,   -999,     37,2,19900324,2357,-25.4687, 155.1345, 4643,    168.8,  19.5300,  35.6310,2,  35.6310,2,    197.8,2,    197.0,2,     1.20,2,     3.18,2,     0.34,2,  -999.0, 19.4992,-999.000
     09FA290_2,FRAN90,    95,  1,   -999,     18,2,19900324,2357,-25.4687, 155.1345, 4643,    200.5,  19.1430,  35.6180,2,  35.6190,2,    204.5,2,    201.2,2,     1.20,2,     3.18,2,     0.42,2,  -999.0, 19.1069,-999.000
     09FA290_2,FRAN90,    95,  1,   -999,     42,2,19900324,2357,-25.4687, 155.1345, 4643,    300.2,  17.5390,  35.5510,2,  35.5450,2,    191.1,2,    184.5,2,     2.00,2,     6.99,2,     0.59,2,  -999.0, 17.4881,-999.000
     09FA290_2,FRAN90,    95,  1,   -999,      2,2,19900324,2357,-25.4687, 155.1345, 4643,    399.0,  14.8810,  35.2920,2,  35.2790,2,    179.1,2,    175.0,2,     4.30,2,    12.29,2,     0.92,2,  -999.0, 14.8204,-999.000
     09FA290_2,FRAN90,    95,  1,   -999,     27,2,19900324,2357,-25.4687, 155.1345, 4643,    449.0,  13.6080,  35.1790,2,  35.1780,2,    186.6,2,    181.8,2,     4.60,2,    13.78,2,     1.01,2,  -999.0, 13.5437,-999.000
     09FA290_2,FRAN90,    95,  1,   -999,      5,2,19900324,2357,-25.4687, 155.1345, 4643,    498.7,  12.0370,  35.0050,2,  34.9940,2,    181.6,2,    184.1,2,     6.29,2,    16.95,2,     1.17,2,  -999.0, 11.9710,-999.000
     09FA290_2,FRAN90,    95,  1,   -999,     43,2,19900324,2357,-25.4687, 155.1345, 4643,    599.7,   9.5330,  34.7210,2,  34.7190,2,    188.2,2,    186.4,2,    10.59,2,    22.25,2,     1.51,2,  -999.0,  9.4642,-999.000
     09FA290_2,FRAN90,    95,  1,   -999,     29,2,19900324,2357,-25.4687, 155.1345, 4643,    839.9,   6.3080,  34.4560,2,  34.4570,2,    188.2,2,    191.5,2,    25.37,2,    29.67,2,     2.00,2,  -999.0,  6.2307,-999.000
     09FA290_2,FRAN90,    95,  1,   -999,     24,2,19900324,2357,-25.4687, 155.1345, 4643,   1000.7,   5.1030,  34.4560,2,  34.4610,2,    181.3,2,    177.9,2,    39.46,2,    33.27,2,     2.23,2,  -999.0,  5.0189,-999.000
     09FA290_2,FRAN90,    95,  1,   -999,     44,2,19900324,2357,-25.4687, 155.1345, 4643,   1216.9,   4.0550,  34.5070,2,  34.5100,2,    168.4,2,    163.2,2,    64.64,2,    36.02,2,     2.43,2,  -999.0,  3.9604,-999.000
     09FA290_2,FRAN90,    95,  1,   -999,     40,2,19900324,2357,-25.4687, 155.1345, 4643,   1458.4,   3.3510,  34.5570,2,  34.5560,2,    151.4,2,    151.8,2,    88.81,2,    37.93,2,     2.57,2,  -999.0,  3.2427,-999.000
     09FA290_2,FRAN90,    95,  1,   -999,     46,2,19900324,2357,-25.4687, 155.1345, 4643,   1774.7,   2.7530,  34.6130,2,  34.6100,2,    149.8,2,    151.3,2,   102.10,2,    38.35,2,     2.60,2,    81.7,  2.6249,   2.789
     09FA290_2,FRAN90,    95,  1,   -999,      1,2,19900324,2357,-25.4687, 155.1345, 4643,   2198.4,   2.1790,  34.6890,2,  34.6890,2,    168.9,2,    169.7,2,   102.10,2,    36.44,2,     2.45,2,  -999.0,  2.0224,-999.000
     09FA290_2,FRAN90,    95,  1,   -999,     25,2,19900324,2357,-25.4687, 155.1345, 4643,   2498.8,   1.9290,  34.7160,2,  34.7180,2,    176.4,2,    179.0,2,   102.10,2,    35.81,2,     2.40,2,  -999.0,  1.7498,-999.000
     09FA290_2,FRAN90,    95,  1,   -999,      8,2,19900324,2357,-25.4687, 155.1345, 4643,   2794.9,   1.6950,  34.7280,2,  34.7250,2,    180.8,2,    186.4,2,   107.69,2,    35.38,2,     2.37,2,  -999.0,  1.4931,-999.000
     09FA290_2,FRAN90,    95,  1,   -999,     26,2,19900324,2357,-25.4687, 155.1345, 4643,   3499.1,   1.2030,  34.7200,2,  34.7210,2,    191.3,2,    193.7,2,   122.88,2,    35.81,2,     2.40,2,  -999.0,  0.9442,-999.000
     09FA290_2,FRAN90,    95,  1,   -999,     12,2,19900324,2357,-25.4687, 155.1345, 4643,   3978.1,   1.1480,  34.7170,2,  34.7170,2,    193.1,2,    193.7,2,   124.78,2,    35.81,2,     2.42,2,    10.2,  0.8411,   1.116
     09FA290_2,FRAN90,    95,  1,   -999,     34,2,19900324,2357,-25.4687, 155.1345, 4643,   4512.6,   1.1710,  34.7160,2,  34.7150,2,    193.1,2,    194.3,2,   128.47,2,    36.02,2,     2.43,2,  -999.0,  0.8046,-999.000
     09FA290_2,FRAN90,    96,  1,   -999,      6,2,19900325,1104,-25.8555, 156.0053, 4636,      3.5,  24.8990,  35.3530,2,  35.3520,2,    216.7,2,    209.5,2,     1.10,2,     0.00,2,     0.11,2,  -999.0, 24.8982,  24.911
     09FA290_2,FRAN90,    96,  1,   -999,     36,2,19900325,1104,-25.8555, 156.0053, 4636,     47.6,  24.6850,  35.5100,2,  35.4980,2,    217.1,2,    211.2,2,     0.90,2,     0.00,2,     0.10,2,  -999.0, 24.6748,-999.000
     09FA290_2,FRAN90,    96,  1,   -999,     35,2,19900325,1104,-25.8555, 156.0053, 4636,     98.1,  19.8680,  35.6240,2,  35.6230,2,    214.4,2,    204.1,2,     1.30,2,     1.43,2,     0.26,2,  -999.0, 19.8499,-999.000
     09FA290_2,FRAN90,    96,  1,   -999,     45,2,19900325,1104,-25.8555, 156.0053, 4636,    123.1,  19.3220,  35.6230,2,  35.6210,2,    202.2,2,    202.9,2,     1.30,2,     1.84,2,     0.29,2,  -999.0, 19.2997,-999.000
     09FA290_2,FRAN90,    96,  1,   -999,     37,2,19900325,1104,-25.8555, 156.0053, 4636,    197.7,  18.3800,  35.6020,2,  35.6030,2,    187.2,2,    193.9,2,     1.60,2,     4.49,2,     0.42,2,  -999.0, 18.3454,-999.000
     09FA290_2,FRAN90,    96,  1,   -999,     18,2,19900325,1104,-25.8555, 156.0053, 4636,    297.7,  15.7830,  35.4240,2,  35.4300,2,    184.5,2,    182.0,2,     3.00,2,     8.96,2,     0.71,2,  -999.0, 15.7360,-999.000
     09FA290_2,FRAN90,    96,  1,   -999,     42,2,19900325,1104,-25.8555, 156.0053, 4636,    388.7,  13.6340,  35.2180,2,  35.2220,2,    190.4,2,    185.7,2,     4.50,2,    12.43,2,     0.96,2,  -999.0, 13.5783,-999.000
     09FA290_2,FRAN90,    96,  1,   -999,      2,2,19900325,1104,-25.8555, 156.0053, 4636,    498.0,  11.1370,  34.9270,2,-999.0000,5,    189.5,2,    189.2,2,     7.89,2,    18.58,2,     1.28,2,  -999.0, 11.0741,-999.000
     09FA290_2,FRAN90,    96,  1,   -999,     27,2,19900325,1104,-25.8555, 156.0053, 4636,    599.6,   8.9210,  34.6660,2,  34.6700,2,    185.2,2,    190.9,2,    10.59,2,    22.21,2,     1.52,2,  -999.0,  8.8550,-999.000
     09FA290_2,FRAN90,    96,  1,   -999,      5,2,19900325,1104,-25.8555, 156.0053, 4636,    797.2,   6.6490,  34.4910,2,  34.4920,2,    186.3,2,    188.9,2,    23.08,2,    27.91,2,     1.89,2,  -999.0,  6.5738,-999.000
     09FA290_2,FRAN90,    96,  1,   -999,     43,2,19900325,1104,-25.8555, 156.0053, 4636,    997.5,   4.9210,  34.4620,2,  34.4620,2,    178.5,2,    177.6,2,    44.76,2,    31.99,2,     2.20,2,  -999.0,  4.8386,-999.000
     09FA290_2,FRAN90,    96,  1,   -999,     29,2,19900325,1104,-25.8555, 156.0053, 4636,   1158.6,   4.1530,  34.5040,2,  34.5060,2,    164.5,2,    166.0,2,    63.14,2,    34.03,2,     2.34,2,  -999.0,  4.0626,-999.000
     09FA290_2,FRAN90,    96,  1,   -999,     24,2,19900325,1104,-25.8555, 156.0053, 4636,   1429.8,   3.3190,  34.5600,2,  34.5610,2,    152.4,2,    152.1,2,    85.41,2,    35.86,2,     2.47,2,  -999.0,  3.2135,-999.000
     09FA290_2,FRAN90,    96,  1,   -999,     44,2,19900325,1104,-25.8555, 156.0053, 4636,   1499.6,   3.1520,  34.5740,2,  34.5770,2,    147.6,2,    148.4,2,    90.71,2,    36.26,2,     2.52,2,  -999.0,  3.0424,-999.000
     09FA290_2,FRAN90,    96,  1,   -999,     46,2,19900325,1104,-25.8555, 156.0053, 4636,   2257.5,   2.1560,  34.6930,2,  34.6910,2,    177.0,2,    170.8,2,    95.90,2,    34.03,2,     2.37,2,    66.4,  1.9946,   2.177
     09FA290_2,FRAN90,    96,  1,   -999,      1,2,19900325,1104,-25.8555, 156.0053, 4636,   2577.8,   1.8930,  34.7200,2,  34.7190,2,    182.9,2,    180.1,2,    99.40,2,    33.62,2,     2.33,2,  -999.0,  1.7073,-999.000
     09FA290_2,FRAN90,    96,  1,   -999,     25,2,19900325,1104,-25.8555, 156.0053, 4636,   2828.5,   1.6500,  34.7280,2,  34.7270,2,    189.4,2,    185.5,2,   106.39,2,    33.62,2,     2.31,2,  -999.0,  1.4459,-999.000
     09FA290_2,FRAN90,    96,  1,   -999,      8,2,19900325,1104,-25.8555, 156.0053, 4636,   3349.4,   1.2590,  34.7220,2,  34.7200,2,    190.8,2,    192.6,2,   116.88,2,    34.03,2,     2.37,2,  -999.0,  1.0137,-999.000
     09FA290_2,FRAN90,    96,  1,   -999,     41,2,19900325,1104,-25.8555, 156.0053, 4636,   3499.8,   1.2010,  34.7210,2,  34.7180,2,    193.0,2,    193.2,2,   118.68,2,    34.03,2,     2.41,2,  -999.0,  0.9422,-999.000
     09FA290_2,FRAN90,    96,  1,   -999,     26,2,19900325,1104,-25.8555, 156.0053, 4636,   3998.3,   1.1400,  34.7180,2,  34.7180,2,    195.6,2,    195.4,2,   120.48,2,    34.23,2,     2.42,2,  -999.0,  0.8312,-999.000
     09FA290_2,FRAN90,    96,  1,   -999,     12,2,19900325,1104,-25.8555, 156.0053, 4636,   4496.9,   1.1630,  34.7170,2,  34.7180,2,    197.8,2,    200.2,3,   123.98,2,    34.44,2,     2.42,2,    31.9,  0.7986,   1.141
     09FA290_2,FRAN90,    96,  1,   -999,     34,2,19900325,1104,-25.8555, 156.0053, 4636,   4698.0,   1.1770,  34.7160,2,  34.7180,2,    197.8,2,    196.0,2,   123.98,2,    34.44,2,     2.44,2,  -999.0,  0.7890,-999.000