BOTTLE,20020730WHPSIO
EXPOCODE,SECT_ID,STNNBR,CASTNO,SAMPNO,BTLNBR,BTLNBR_FLAG_W,DATE,TIME,LATITUDE,LONGITUDE,DEPTH,CTDPRS,CTDTMP,CTDSAL,CTDSAL_FLAG_W,SALNTY,SALNTY_FLAG_W,CTDOXY,CTDOXY_FLAG_W,OXYGEN,OXYGEN_FLAG_W,SILCAT,SILCAT_FLAG_W,NO2+NO3,NO2+NO3_FLAG_W,PHSPHT,PHSPHT_FLAG_W,REVPRS,THETA,REVTMP
,,,,,,,,,,,,DBR,ITS-90,PSS-78,,PSS-78,,UMOL/KG,,UMOL/KG,,UMOL/KG,,UMOL/KG,,UMOL/KG,,DBR,ITS-90,ITS-90
     09FA290_2,  PR11,    65,  1,   -999,      6,2,19900314,0948,-28.2467, 162.1662, 1471,      4.7,  24.6370,  35.4360,2,  35.3740,2,    198.4,2,    210.7,2,     0.60,2,     0.17,2,     0.08,2,  -999.0, 24.6360,  24.698
     09FA290_2,  PR11,    65,  1,   -999,     28,2,19900314,0948,-28.2467, 162.1662, 1471,     49.2,  22.3110,  35.5500,2,  35.5490,2,    224.8,2,    223.3,2,     0.70,2,     0.17,2,     0.09,2,  -999.0, 22.3012,-999.000
     09FA290_2,  PR11,    65,  1,   -999,      5,2,19900314,0948,-28.2467, 162.1662, 1471,    124.4,  18.8310,  35.6290,2,  35.6270,2,    208.1,2,    203.5,2,     1.20,2,     2.50,2,     0.31,2,  -999.0, 18.8089,-999.000
     09FA290_2,  PR11,    65,  1,   -999,     27,2,19900314,0948,-28.2467, 162.1662, 1471,    198.6,  17.9510,  35.5840,2,  35.5850,2,    191.7,2,    198.7,2,     1.50,2,     4.50,2,     0.42,2,  -999.0, 17.9168,-999.000
     09FA290_2,  PR11,    65,  1,   -999,     44,2,19900314,0948,-28.2467, 162.1662, 1471,    384.0,  13.4990,  35.2180,2,  35.2240,2,    190.6,2,    188.7,2,     4.30,2,    12.48,2,     0.91,2,  -999.0, 13.4444,-999.000
     09FA290_2,  PR11,    65,  1,   -999,     26,2,19900314,0948,-28.2467, 162.1662, 1471,    499.7,  11.1710,  34.9430,2,  34.9420,2,    189.3,2,    190.4,2,     6.69,2,    17.63,2,     1.39,2,  -999.0, 11.1080,-999.000
     09FA290_2,  PR11,    65,  1,   -999,     40,2,19900314,0948,-28.2467, 162.1662, 1471,    598.9,   9.4410,  34.7320,2,  34.7340,2,    191.0,2,    192.2,2,  -999.00,5,  -999.00,5,  -999.00,5,  -999.0,  9.3727,-999.000
     09FA290_2,  PR11,    65,  1,   -999,     36,2,19900314,0948,-28.2467, 162.1662, 1471,    799.2,   7.0640,  34.5210,2,  34.5280,2,    186.5,2,    189.4,2,    20.48,2,    27.45,2,     1.85,2,  -999.0,  6.9861,-999.000
     09FA290_2,  PR11,    65,  1,   -999,     11,2,19900314,0948,-28.2467, 162.1662, 1471,    998.7,   5.3260,  34.4760,2,  34.4770,2,    176.7,2,    179.6,2,    61.64,3,    34.61,2,     2.34,3,  -999.0,  5.2404,-999.000
     09FA290_2,  PR11,    65,  1,   -999,     12,2,19900314,0948,-28.2467, 162.1662, 1471,   1217.9,   4.0730,  34.5200,2,  34.5190,2,    169.3,2,    165.5,2,    63.34,2,    34.61,2,     2.36,2,    27.3,  3.9781,   4.091
     09FA290_2,  PR11,    65,  1,   -999,     41,2,19900314,0948,-28.2467, 162.1662, 1471,   1217.9,   4.0730,  34.5200,2,  34.5190,2,    169.3,2,    166.1,2,    63.34,2,    34.44,2,     2.36,2,  -999.0,  3.9781,-999.000
     09FA290_2,  PR11,    65,  1,   -999,     34,2,19900314,0948,-28.2467, 162.1662, 1471,   1447.5,   3.0350,  34.5900,2,  34.5910,2,    152.9,2,    153.8,2,    88.41,2,    36.26,2,     2.51,2,  -999.0,  2.9311,-999.000
     09FA290_2,  PR11,    66,  1,   -999,      6,2,19900314,1444,-28.2393, 161.3277, 1632,      4.0,  24.8010,  35.3190,2,  35.3200,2,    218.5,2,    209.6,2,     0.90,2,     0.17,2,     0.09,2,  -999.0, 24.8001,  24.784
     09FA290_2,  PR11,    66,  1,   -999,     29,2,19900314,1444,-28.2393, 161.3277, 1632,     93.3,  19.8820,  35.6240,2,  35.6260,2,    211.0,2,    205.0,2,     1.10,2,     1.16,2,     0.25,2,  -999.0, 19.8648,-999.000
     09FA290_2,  PR11,    66,  1,   -999,     28,2,19900314,1444,-28.2393, 161.3277, 1632,    199.1,  18.4280,  35.6000,2,  35.5970,2,    200.5,2,    195.8,2,     1.60,2,     4.14,2,     0.40,2,  -999.0, 18.3931,-999.000
     09FA290_2,  PR11,    66,  1,   -999,      5,2,19900314,1444,-28.2393, 161.3277, 1632,    413.3,  13.8300,  35.2550,2,  35.2570,2,    193.1,2,    190.7,2,     3.90,2,    11.41,2,     0.86,2,  -999.0, 13.7702,-999.000
     09FA290_2,  PR11,    66,  1,   -999,     27,2,19900314,1444,-28.2393, 161.3277, 1632,    498.7,  11.8840,  35.0340,2,  35.0320,2,    195.8,2,    190.1,2,     5.69,2,    15.21,2,     1.09,2,  -999.0, 11.8185,-999.000
     09FA290_2,  PR11,    66,  1,   -999,     44,2,19900314,1444,-28.2393, 161.3277, 1632,    599.7,   9.8360,  34.7710,2,  34.7730,2,    191.8,2,    192.5,2,     8.49,2,    20.17,2,     1.43,2,  -999.0,  9.7659,-999.000
     09FA290_2,  PR11,    66,  1,   -999,     26,2,19900314,1444,-28.2393, 161.3277, 1632,    798.9,   7.1710,  34.5100,2,  34.5130,2,    194.2,2,    194.5,2,    17.48,2,    26.12,2,     1.78,2,  -999.0,  7.0925,-999.000
     09FA290_2,  PR11,    66,  1,   -999,     40,2,19900314,1444,-28.2393, 161.3277, 1632,   1063.6,   5.1230,  34.4760,2,  34.4780,2,    173.6,2,    177.0,2,    44.16,2,    31.91,2,     2.17,2,  -999.0,  5.0329,-999.000
     09FA290_2,  PR11,    66,  1,   -999,     36,2,19900314,1444,-28.2393, 161.3277, 1632,   1257.0,   4.1160,  34.5140,2,  34.5160,2,    168.6,2,    166.4,2,    63.44,2,    34.07,2,     2.34,2,  -999.0,  4.0173,-999.000
     09FA290_2,  PR11,    66,  1,   -999,     11,2,19900314,1444,-28.2393, 161.3277, 1632,   1430.3,   3.2570,  34.5710,2,  34.5680,2,    156.5,2,    153.5,2,    84.62,2,    36.04,2,     2.48,2,  -999.0,  3.1521,-999.000
     09FA290_2,  PR11,    66,  1,   -999,     12,2,19900314,1444,-28.2393, 161.3277, 1632,   1496.8,   2.9630,  34.5950,2,  34.5940,2,    152.4,2,    152.9,2,    91.11,2,    36.37,2,     2.51,2,     7.8,  2.8558,   2.960
     09FA290_2,  PR11,    66,  1,   -999,     41,2,19900314,1444,-28.2393, 161.3277, 1632,   1496.8,   2.9630,  34.5950,2,  34.5930,2,    152.4,2,    153.5,2,    91.11,2,    36.54,2,     2.51,2,  -999.0,  2.8558,-999.000
     09FA290_2,  PR11,    66,  1,   -999,     34,2,19900314,1444,-28.2393, 161.3277, 1632,   1599.1,   2.7720,  34.6120,2,  34.6120,2,    147.9,2,    150.6,2,    94.41,2,    36.70,2,     2.52,2,  -999.0,  2.6585,-999.000
     09FA290_2,  PR11,    67,  1,   -999,      6,2,19900314,1913,-28.2407, 160.6508, 1982,      3.3,  25.4440,  35.4240,2,  35.4240,2,    212.8,2,    205.9,2,     0.90,2,     0.16,2,     0.11,2,  -999.0, 25.4433,  25.455
     09FA290_2,  PR11,    67,  1,   -999,      9,2,19900314,1913,-28.2407, 160.6508, 1982,     98.8,  20.8270,  35.6340,2,  35.6330,2,    212.4,2,    210.7,2,     0.90,2,     0.16,2,     0.18,2,  -999.0, 20.8082,-999.000
     09FA290_2,  PR11,    67,  1,   -999,     31,2,19900314,1913,-28.2407, 160.6508, 1982,    141.6,  19.6820,  35.6420,2,  35.6420,2,    204.5,2,    203.5,2,     1.10,2,     1.98,2,     0.28,2,  -999.0, 19.6560,-999.000
     09FA290_2,  PR11,    67,  1,   -999,     29,2,19900314,1913,-28.2407, 160.6508, 1982,    198.0,  18.9310,  35.6260,2,  35.6260,2,    197.7,2,    200.1,2,     1.30,2,     2.96,2,     0.35,2,  -999.0, 18.8956,-999.000
     09FA290_2,  PR11,    67,  1,   -999,     28,2,19900314,1913,-28.2407, 160.6508, 1982,    398.0,  14.2490,  35.2360,2,  35.2370,2,    183.7,2,    181.2,2,     4.10,2,    11.68,2,     0.90,2,  -999.0, 14.1903,-999.000
     09FA290_2,  PR11,    67,  1,   -999,      5,2,19900314,1913,-28.2407, 160.6508, 1982,    443.5,  13.1450,  35.1130,2,  35.1200,2,    187.6,2,    183.0,2,     4.90,2,    13.82,2,     1.01,2,  -999.0, 13.0829,-999.000
     09FA290_2,  PR11,    67,  1,   -999,     27,2,19900314,1913,-28.2407, 160.6508, 1982,    498.3,  12.1380,  35.0390,2,  35.0410,2,    184.9,2,    187.0,2,     5.69,2,    15.29,2,     1.09,2,  -999.0, 12.0717,-999.000
     09FA290_2,  PR11,    67,  1,   -999,     44,2,19900314,1913,-28.2407, 160.6508, 1982,    598.7,   9.8750,  34.7580,2,  34.7660,2,    188.7,2,    191.0,2,     8.09,2,    19.90,2,     1.38,2,  -999.0,  9.8048,-999.000
     09FA290_2,  PR11,    67,  1,   -999,     26,2,19900314,1913,-28.2407, 160.6508, 1982,    797.4,   7.1270,  34.4900,2,  34.4920,2,    195.6,2,    198.8,2,    16.08,2,    26.15,2,     1.76,2,  -999.0,  7.0489,-999.000
     09FA290_2,  PR11,    67,  1,   -999,     40,2,19900314,1913,-28.2407, 160.6508, 1982,    939.5,   5.8170,  34.4430,2,  34.4480,2,    185.0,2,    189.7,2,    29.07,2,    29.77,2,     2.01,2,  -999.0,  5.7334,-999.000
     09FA290_2,  PR11,    67,  1,   -999,     36,2,19900314,1913,-28.2407, 160.6508, 1982,   1231.7,   4.1440,  34.5050,2,  34.5070,2,    166.6,2,    167.0,2,    65.13,2,    34.22,2,     2.33,2,  -999.0,  4.0473,-999.000
     09FA290_2,  PR11,    67,  1,   -999,     11,2,19900314,1913,-28.2407, 160.6508, 1982,   1456.6,   3.3710,  34.5600,2,-999.0000,5,    156.3,2,   -999.0,5,  -999.00,5,  -999.00,2,  -999.00,5,  -999.0,  3.2628,-999.000
     09FA290_2,  PR11,    67,  1,   -999,     41,2,19900314,1913,-28.2407, 160.6508, 1982,   1456.6,   3.3710,  34.5600,2,  34.5590,2,    156.3,2,    154.6,2,    86.21,2,    36.02,2,     2.47,2,  -999.0,  3.2627,-999.000
     09FA290_2,  PR11,    67,  1,   -999,     12,2,19900314,1913,-28.2407, 160.6508, 1982,   1748.2,   2.6450,  34.6250,2,  34.6220,2,    155.4,2,    152.3,2,   104.20,2,    36.85,2,     2.53,2,    62.2,  2.5206,   2.640
     09FA290_2,  PR11,    67,  1,   -999,     34,2,19900314,1913,-28.2407, 160.6508, 1982,   1968.5,   2.4120,  34.6530,2,  34.6500,2,    155.4,2,    157.8,2,   104.20,2,    36.19,2,     2.48,2,  -999.0,  2.2720,-999.000
     09FA290_2,  PR11,    68,  1,   -999,      6,2,19900314,2351,-28.2583, 159.9602, 2960,      3.8,  25.5630,  35.3320,2,  35.3320,2,    200.1,2,    206.4,2,     0.90,2,     0.17,2,     0.09,2,  -999.0, 25.5622,  25.574
     09FA290_2,  PR11,    68,  1,   -999,     18,2,19900314,2351,-28.2583, 159.9602, 2960,    126.3,  20.0860,  35.6410,2,  35.6410,2,    201.2,2,    197.5,2,     1.00,2,     1.66,2,     0.28,2,  -999.0, 20.0625,-999.000
     09FA290_2,  PR11,    68,  1,   -999,     43,2,19900314,2351,-28.2583, 159.9602, 2960,    199.4,  18.9150,  35.6290,2,  35.6290,2,    192.8,2,    194.1,2,     1.40,2,     3.64,2,     0.38,2,  -999.0, 18.8794,-999.000
     09FA290_2,  PR11,    68,  1,   -999,     25,2,19900314,2351,-28.2583, 159.9602, 2960,    410.1,  13.8700,  35.2360,2,  35.2350,2,    187.4,2,    184.7,2,     4.10,2,    12.40,2,     0.90,2,  -999.0, 13.8105,-999.000
     09FA290_2,  PR11,    68,  1,   -999,     28,2,19900314,2351,-28.2583, 159.9602, 2960,    498.1,  12.1520,  35.0390,2,  35.0390,2,    190.3,2,    187.0,2,     4.00,2,    15.54,2,     1.09,2,  -999.0, 12.0856,-999.000
     09FA290_2,  PR11,    68,  1,   -999,      9,2,19900314,2351,-28.2583, 159.9602, 2960,    598.8,  10.1670,  34.8060,2,  34.8070,2,    188.3,2,    190.5,2,     7.99,2,    19.68,2,     1.33,2,  -999.0, 10.0955,-999.000
     09FA290_2,  PR11,    68,  1,   -999,     31,2,19900314,2351,-28.2583, 159.9602, 2960,    800.4,   7.1630,  34.5180,2,  34.5200,2,    187.4,2,    195.1,2,    18.58,2,    26.78,2,     1.47,3,  -999.0,  7.0844,-999.000
     09FA290_2,  PR11,    68,  1,   -999,     29,2,19900314,2351,-28.2583, 159.9602, 2960,    966.5,   5.6900,  34.4520,2,  34.4540,2,    181.5,2,    186.5,2,    32.67,2,    30.59,2,     2.02,2,  -999.0,  5.6047,-999.000
     09FA290_2,  PR11,    68,  1,   -999,     46,2,19900314,2351,-28.2583, 159.9602, 2960,   1250.8,   4.2200,  34.5030,2,  34.5060,2,    168.1,2,    167.0,2,    60.24,2,    34.07,2,     2.30,2,    57.5,  4.1209,   4.230
     09FA290_2,  PR11,    68,  1,   -999,      5,2,19900314,2351,-28.2583, 159.9602, 2960,   1438.7,   3.3840,  34.5600,2,  34.5600,2,    157.5,2,    155.8,2,    81.42,2,    35.88,2,     2.45,2,  -999.0,  3.2770,-999.000
     09FA290_2,  PR11,    68,  1,   -999,     27,2,19900314,2351,-28.2583, 159.9602, 2960,   1501.5,   3.2050,  34.5730,2,  34.5750,2,    153.2,2,    153.5,2,    86.41,2,    36.21,2,     2.46,2,  -999.0,  3.0947,-999.000
     09FA290_2,  PR11,    68,  1,   -999,     44,2,19900314,2351,-28.2583, 159.9602, 2960,   1501.5,   3.2050,  34.5730,2,  34.5750,2,    153.2,2,    154.1,2,    84.72,2,    36.04,2,     2.51,2,  -999.0,  3.0947,-999.000
     09FA290_2,  PR11,    68,  1,   -999,     26,2,19900314,2351,-28.2583, 159.9602, 2960,   1749.3,   2.6570,  34.6230,2,  34.6210,2,    152.5,2,    151.8,2,    98.00,2,    36.37,2,     2.49,2,  -999.0,  2.5323,-999.000
     09FA290_2,  PR11,    68,  1,   -999,     40,2,19900314,2351,-28.2583, 159.9602, 2960,   1999.5,   2.3860,  34.6550,2,  34.6540,2,    159.5,2,    159.2,2,    99.60,2,    35.88,2,     2.45,2,  -999.0,  2.2436,-999.000
     09FA290_2,  PR11,    68,  1,   -999,     36,2,19900314,2351,-28.2583, 159.9602, 2960,   2277.6,   2.1640,  34.6870,2,  34.6880,2,    171.0,2,    170.1,2,    96.30,2,    35.05,2,     2.36,2,  -999.0,  2.0007,-999.000
     09FA290_2,  PR11,    68,  1,   -999,     41,2,19900314,2351,-28.2583, 159.9602, 2960,   2448.0,   2.0410,  34.7020,2,  34.7010,2,    173.0,2,    175.0,2,    98.00,2,    34.56,2,     2.34,2,  -999.0,  1.8645,-999.000
     09FA290_2,  PR11,    68,  1,   -999,     11,2,19900314,2351,-28.2583, 159.9602, 2960,   2448.0,   2.0410,  34.7020,2,  34.7010,2,    173.0,2,    175.0,2,    98.00,2,    34.56,2,     2.34,2,  -999.0,  1.8645,-999.000
     09FA290_2,  PR11,    68,  1,   -999,     12,2,19900314,2351,-28.2583, 159.9602, 2960,   2762.2,   1.6220,  34.7230,2,  34.7200,2,    183.4,2,    185.3,2,   104.70,2,    34.07,2,     2.31,2,    75.9,  1.4247,   1.621
     09FA290_2,  PR11,    68,  1,   -999,     34,2,19900314,2351,-28.2583, 159.9602, 2960,   2949.2,   1.4010,  34.7240,2,  34.7190,2,    189.6,2,    190.8,2,   111.29,2,    33.90,2,     2.31,2,  -999.0,  1.1909,-999.000
     09FA290_2,  PR11,    69,  1,   -999,      6,2,19900315,0521,-28.2610, 159.2713, 3433,      2.1,  25.4570,  35.5860,2,  35.5880,2,    199.4,2,    208.7,2,     0.60,2,     0.17,2,     0.08,2,  -999.0, 25.4565,  25.448
     09FA290_2,  PR11,    69,  1,   -999,     42,2,19900315,0521,-28.2610, 159.2713, 3433,     99.3,  19.5480,  35.6320,2,  35.6320,2,    220.1,2,    212.7,2,     0.90,2,     0.66,2,     0.22,2,  -999.0, 19.5299,-999.000
     09FA290_2,  PR11,    69,  1,   -999,      2,2,19900315,0521,-28.2610, 159.2713, 3433,    199.0,  17.9300,  35.5800,2,  35.5810,2,    180.7,2,    187.8,2,     1.70,2,     5.64,2,     0.51,2,  -999.0, 17.8958,-999.000
     09FA290_2,  PR11,    69,  1,   -999,     18,2,19900315,0521,-28.2610, 159.2713, 3433,    389.7,  13.8080,  35.2070,2,  35.2080,2,    187.0,2,    183.0,2,     4.10,2,    12.28,2,     0.93,2,  -999.0, 13.7517,-999.000
     09FA290_2,  PR11,    69,  1,   -999,     43,2,19900315,0521,-28.2610, 159.2713, 3433,    498.3,  11.1720,  34.9280,2,  34.9290,2,    191.5,2,    187.6,2,     6.79,2,    17.42,2,     1.22,2,  -999.0, 11.1091,-999.000
     09FA290_2,  PR11,    69,  1,   -999,     25,2,19900315,0521,-28.2610, 159.2713, 3433,    599.6,   9.0340,  34.6600,2,  34.6600,2,    192.0,2,    192.8,2,     9.89,2,    21.90,2,     1.50,2,  -999.0,  8.9675,-999.000
     09FA290_2,  PR11,    69,  1,   -999,     28,2,19900315,0521,-28.2610, 159.2713, 3433,    799.0,   6.6080,  34.4600,2,  34.4640,2,    192.4,2,    196.8,2,    19.88,2,    27.37,2,     1.87,2,  -999.0,  6.5329,-999.000
     09FA290_2,  PR11,    69,  1,   -999,      9,2,19900315,0521,-28.2610, 159.2713, 3433,    900.2,   5.9280,  34.4410,2,  34.4440,2,    185.8,2,    192.0,2,    27.37,2,    29.37,2,     2.01,2,  -999.0,  5.8474,-999.000
     09FA290_2,  PR11,    69,  1,   -999,     31,2,19900315,0521,-28.2610, 159.2713, 3433,    997.2,   5.2580,  34.4530,2,  34.4550,2,    177.5,2,    181.9,2,    39.06,2,    31.19,2,     2.21,2,  -999.0,  5.1731,-999.000
     09FA290_2,  PR11,    69,  1,   -999,     29,2,19900315,0521,-28.2610, 159.2713, 3433,   1208.0,   4.2070,  34.5010,2,  34.5050,2,    168.5,2,    169.3,2,    60.04,2,    33.68,2,     2.31,2,  -999.0,  4.1118,-999.000
     09FA290_2,  PR11,    69,  1,   -999,     46,2,19900315,0521,-28.2610, 159.2713, 3433,   1399.6,   3.3820,  34.5620,2,  34.5610,2,    159.1,2,    156.4,2,    79.92,2,    35.50,2,     2.47,2,     3.3,  3.2784,   3.409
     09FA290_2,  PR11,    69,  1,   -999,     27,2,19900315,0521,-28.2610, 159.2713, 3433,   1501.4,   3.0710,  34.5830,2,  34.5810,2,    154.4,2,    152.9,2,    86.61,2,    36.17,2,     2.51,2,  -999.0,  2.9622,-999.000
     09FA290_2,  PR11,    69,  1,   -999,      5,2,19900315,0521,-28.2610, 159.2713, 3433,   1501.4,   3.0710,  34.5830,2,  34.5810,2,    154.4,2,    151.5,2,    86.61,2,    36.00,2,     2.50,2,  -999.0,  2.9622,-999.000
     09FA290_2,  PR11,    69,  1,   -999,     44,2,19900315,0521,-28.2610, 159.2713, 3433,   1750.1,   2.5790,  34.6340,2,  34.6330,2,    155.9,2,    154.3,2,    95.00,2,    36.00,2,     2.51,2,  -999.0,  2.4553,-999.000
     09FA290_2,  PR11,    69,  1,   -999,     26,2,19900315,0521,-28.2610, 159.2713, 3433,   1999.9,   2.3060,  34.6680,2,  34.6660,2,    161.8,2,    161.5,2,    95.00,2,    35.50,2,     2.45,2,  -999.0,  2.1648,-999.000
     09FA290_2,  PR11,    69,  1,   -999,     40,2,19900315,0521,-28.2610, 159.2713, 3433,   2203.4,   2.1870,  34.6850,2,  34.6850,2,    168.0,2,    169.2,2,    95.00,2,    34.85,2,     2.41,2,  -999.0,  2.0299,-999.000
     09FA290_2,  PR11,    69,  1,   -999,     11,2,19900315,0521,-28.2610, 159.2713, 3433,   2498.5,   1.9120,  34.7140,2,  34.7120,2,    179.0,2,    179.3,2,    96.70,2,    34.02,2,     2.33,2,  -999.0,  1.7332,-999.000
     09FA290_2,  PR11,    69,  1,   -999,     36,2,19900315,0521,-28.2610, 159.2713, 3433,   2498.5,   1.9120,  34.7140,2,  34.7160,2,    179.0,2,    179.9,2,    96.70,2,    34.02,2,     2.34,2,  -999.0,  1.7332,-999.000
     09FA290_2,  PR11,    69,  1,   -999,     41,2,19900315,0521,-28.2610, 159.2713, 3433,   2773.0,   1.6200,  34.7230,2,  34.7210,2,    184.9,2,    186.5,2,   101.80,2,    33.68,2,     2.31,2,  -999.0,  1.4217,-999.000
     09FA290_2,  PR11,    69,  1,   -999,     12,2,19900315,0521,-28.2610, 159.2713, 3433,   3253.2,   1.2630,  34.7250,2,  34.7210,2,    193.3,2,    193.3,2,   112.09,2,    33.85,2,     2.33,2,    73.6,  1.0270,   1.272
     09FA290_2,  PR11,    69,  1,   -999,     34,2,19900315,0521,-28.2610, 159.2713, 3433,   3449.2,   1.0830,  34.7200,2,  34.7170,2,    195.0,2,    195.9,2,   115.58,2,    34.02,2,     2.34,2,  -999.0,  0.8322,-999.000