BOTTLE,20020730WHPSIO
EXPOCODE,SECT_ID,STNNBR,CASTNO,SAMPNO,BTLNBR,BTLNBR_FLAG_W,DATE,TIME,LATITUDE,LONGITUDE,DEPTH,CTDPRS,CTDTMP,CTDSAL,CTDSAL_FLAG_W,SALNTY,SALNTY_FLAG_W,CTDOXY,CTDOXY_FLAG_W,OXYGEN,OXYGEN_FLAG_W,SILCAT,SILCAT_FLAG_W,NO2+NO3,NO2+NO3_FLAG_W,PHSPHT,PHSPHT_FLAG_W,REVPRS,THETA,REVTMP
,,,,,,,,,,,,DBR,ITS-90,PSS-78,,PSS-78,,UMOL/KG,,UMOL/KG,,UMOL/KG,,UMOL/KG,,UMOL/KG,,DBR,ITS-90,ITS-90
     09FA290_1, PR13N,    32,  1,   -999,      6,2,19900305,0811,-43.8708, 168.6443,  686,      0.8,  14.8920,  35.1720,2,  35.1710,2,    258.1,2,    264.0,2,     0.80,2,     0.00,2,     0.20,2,  -999.0, 14.8919,  14.885
     09FA290_1, PR13N,    32,  1,   -999,     10,2,19900305,0811,-43.8708, 168.6443,  686,     48.5,  13.8450,  35.2990,2,  35.2950,2,    228.0,2,    224.9,2,     2.40,2,     0.10,2,     0.49,2,  -999.0, 13.8381,-999.000
     09FA290_1, PR13N,    32,  1,   -999,     40,2,19900305,0811,-43.8708, 168.6443,  686,     97.9,  13.3580,  35.2350,2,  35.2350,2,    214.1,2,    219.6,2,     3.00,2,     0.10,2,     0.56,2,  -999.0, 13.3443,-999.000
     09FA290_1, PR13N,    32,  1,   -999,     34,2,19900305,0811,-43.8708, 168.6443,  686,    148.7,  13.0960,  35.2140,2,  35.2140,2,    214.2,2,    214.6,2,     3.40,2,     0.10,2,     0.70,2,  -999.0, 13.0754,-999.000
     09FA290_1, PR13N,    32,  1,   -999,      1,2,19900305,0811,-43.8708, 168.6443,  686,    198.1,  12.9860,  35.2060,2,  35.2060,2,    216.0,2,    214.0,2,     3.50,2,     0.10,2,     0.73,2,  -999.0, 12.9587,-999.000
     09FA290_1, PR13N,    32,  1,   -999,      9,2,19900305,0811,-43.8708, 168.6443,  686,    299.3,  12.2070,  35.1150,2,  35.1140,2,    205.6,2,    208.4,2,     4.20,2,     0.10,2,     0.89,2,  -999.0, 12.1673,-999.000
     09FA290_1, PR13N,    32,  1,   -999,     46,2,19900305,0811,-43.8708, 168.6443,  686,    398.0,  10.8290,  34.9210,2,  34.9150,2,    201.5,2,    204.1,2,     5.79,2,     0.20,2,     1.14,2,    98.6, 10.7800,  10.822
     09FA290_1, PR13N,    32,  1,   -999,     42,2,19900305,0811,-43.8708, 168.6443,  686,    649.5,   7.9670,  34.6110,2,  34.6140,2,    191.9,2,    193.8,2,    16.98,2,     0.30,2,     1.70,2,  -999.0,  7.8999,-999.000
     09FA290_1, PR13N,    33,  1,   -999,      9,2,19900305,0928,-43.8872, 168.6673,  104,      2.0,  15.0660,  34.8600,2,  35.0350,2,    252.7,2,    264.9,2,     1.00,2,     0.00,2,     0.29,2,  -999.0, 15.0657,-999.000
     09FA290_1, PR13N,    33,  1,   -999,      6,2,19900305,0928,-43.8872, 168.6673,  104,     48.5,  13.3960,  35.2230,2,  35.2210,2,    217.6,2,    220.2,2,     2.90,2,     0.10,2,     0.63,2,  -999.0, 13.3892,  13.425
     09FA290_1, PR13N,    33,  1,   -999,     42,2,19900305,0928,-43.8872, 168.6673,  104,     88.7,  13.2000,  35.2320,2,  35.2340,2,    222.2,2,    218.7,2,     3.00,2,     0.10,2,     0.66,2,  -999.0, 13.1877,-999.000
     09FA290_1, PR13N,    34,  1,   -999,      6,2,19900305,1000,-43.9007, 168.6772,   63,      3.1,  14.2580,  35.0870,2,  35.0860,2,    260.8,2,    252.8,2,     1.40,2,     0.00,2,     0.34,2,  -999.0, 14.2575,  14.282
     09FA290_1, PR13N,    34,  1,   -999,     42,2,19900305,1000,-43.9007, 168.6772,   63,     49.2,  13.2460,  35.2110,2,  35.2120,2,    228.8,2,    217.5,2,     3.20,2,     0.10,2,     0.66,2,  -999.0, 13.2392,-999.000
     09FA290_2,  PR11,    35,  1,   -999,     43,2,19900307,1319,-34.3192, 172.6332,   90,      3.8,  19.7570,  35.4240,2,  35.4220,2,    229.8,2,    239.8,2,     1.90,2,     0.40,2,     0.20,2,  -999.0, 19.7563,-999.000
     09FA290_2,  PR11,    35,  1,   -999,      6,2,19900307,1319,-34.3192, 172.6332,   90,     48.6,  16.3520,  35.3330,2,  35.3340,2,    216.1,2,    207.5,2,     4.10,2,     7.49,2,     0.58,2,  -999.0, 16.3442,  16.398
     09FA290_2,  PR11,    35,  1,   -999,     42,2,19900307,1319,-34.3192, 172.6332,   90,     80.3,  15.9060,  35.3100,2,  35.3110,2,    201.6,2,    204.8,2,     4.40,2,     8.39,2,     0.64,2,  -999.0, 15.8934,-999.000
     09FA290_2,  PR11,    36,  1,   -999,     43,2,19900307,1419,-34.2268, 172.6298,   98,      3.7,  18.8590,  35.3810,2,  35.3800,2,    239.4,2,    233.7,2,     2.60,2,     2.30,2,     0.31,2,  -999.0, 18.8583,-999.000
     09FA290_2,  PR11,    36,  1,   -999,      6,2,19900307,1419,-34.2268, 172.6298,   98,     49.5,  17.5190,  35.3670,2,  35.3690,2,    235.4,2,    218.7,2,     3.00,2,     4.80,2,     0.44,2,  -999.0, 17.5107,-999.000
     09FA290_2,  PR11,    36,  1,   -999,     42,2,19900307,1419,-34.2268, 172.6298,   98,     90.1,  15.9640,  35.3110,2,  35.3100,2,    204.5,2,    205.1,2,     4.20,2,     2.30,2,     0.31,2,  -999.0, 15.9498,-999.000
     09FA290_2,  PR11,    37,  1,   -999,     43,2,19900307,1524,-34.1173, 172.6123,  104,      3.4,  18.7580,  35.3800,2,  35.3800,2,    241.0,2,    231.3,2,     2.50,2,     2.30,2,     0.31,2,  -999.0, 18.7574,-999.000
     09FA290_2,  PR11,    37,  1,   -999,      6,2,19900307,1524,-34.1173, 172.6123,  104,     48.5,  17.1710,  35.3620,2,  35.3710,2,    225.5,2,    217.2,2,     3.00,2,     4.99,2,     0.45,2,  -999.0, 17.1629,  17.389
     09FA290_2,  PR11,    37,  1,   -999,     42,2,19900307,1524,-34.1173, 172.6123,  104,     94.8,  15.5450,  35.3060,2,  35.3060,2,    195.9,2,    203.7,2,     4.10,2,     8.69,2,     0.65,2,  -999.0, 15.5303,-999.000
     09FA290_2,  PR11,    38,  1,   -999,      6,2,19900307,1638,-34.0172, 172.5880,  363,      2.8,  19.6240,  35.4180,2,  35.4160,2,    237.6,2,    231.6,2,     1.70,2,     0.90,2,     0.23,2,  -999.0, 19.6235,  19.647
     09FA290_2,  PR11,    38,  1,   -999,     25,2,19900307,1638,-34.0172, 172.5880,  363,     49.0,  17.8020,  35.3960,2,  35.3970,2,    230.9,2,    217.2,2,     2.80,2,     4.40,2,     0.40,2,  -999.0, 17.7937,-999.000
     09FA290_2,  PR11,    38,  1,   -999,     35,2,19900307,1638,-34.0172, 172.5880,  363,     98.7,  14.8870,  35.2680,2,  35.2680,2,    203.6,2,    201.0,2,     4.40,2,     9.79,2,     0.73,2,  -999.0, 14.8721,-999.000
     09FA290_2,  PR11,    38,  1,   -999,     10,2,19900307,1638,-34.0172, 172.5880,  363,    168.3,  13.3150,  35.1520,2,  35.1540,2,    197.7,2,    195.1,2,     6.09,2,    12.79,2,     1.12,3,  -999.0, 13.2915,-999.000
     09FA290_2,  PR11,    38,  1,   -999,     43,2,19900307,1638,-34.0172, 172.5880,  363,    198.8,  12.8870,  35.1140,2,  35.1130,2,    193.4,2,    194.9,2,     6.39,2,    13.89,2,     0.96,2,  -999.0, 12.8598,-999.000
     09FA290_2,  PR11,    38,  1,   -999,     46,2,19900307,1638,-34.0172, 172.5880,  363,    307.4,  10.9670,  34.9170,2,  34.9170,2,    189.3,2,    193.1,2,     9.39,2,    17.88,2,     1.21,2,    12.3, 10.9290,  10.985
     09FA290_2,  PR11,    38,  1,   -999,     42,2,19900307,1638,-34.0172, 172.5880,  363,    357.3,  10.1300,  34.8300,2,  34.8380,2,    194.9,2,    193.1,2,    11.59,2,    19.68,2,     1.34,2,  -999.0, 10.0879,-999.000
     09FA290_2,  PR11,    39,  1,   -999,      6,2,19900307,1759,-33.9855, 172.5840,  585,      2.1,  20.1820,  35.4410,2,  35.4330,2,    235.7,2,    232.2,2,     1.50,2,     0.36,2,     0.29,2,  -999.0, 20.1816,  19.654
     09FA290_2,  PR11,    39,  1,   -999,     18,2,19900307,1759,-33.9855, 172.5840,  585,     99.3,  15.1950,  35.3150,2,  35.3100,2,    204.7,2,    201.6,2,     4.30,2,     9.08,2,     0.69,2,  -999.0, 15.1798,-999.000
     09FA290_2,  PR11,    39,  1,   -999,     25,2,19900307,1759,-33.9855, 172.5840,  585,    147.4,  13.6210,  35.2220,2,  35.2230,2,    192.7,2,    194.3,2,     4.60,2,    11.63,2,     0.86,2,  -999.0, 13.6001,-999.000
     09FA290_2,  PR11,    39,  1,   -999,     35,2,19900307,1759,-33.9855, 172.5840,  585,    200.3,  12.7100,  35.1290,2,  35.1220,2,    194.6,2,    193.1,2,     5.19,2,    13.45,2,     0.98,2,  -999.0, 12.6828,-999.000
     09FA290_2,  PR11,    39,  1,   -999,     10,2,19900307,1759,-33.9855, 172.5840,  585,    298.9,  11.1950,  34.9410,2,  34.9480,2,    197.3,2,    192.8,2,     8.49,2,    16.89,2,     1.18,2,  -999.0, 11.1576,-999.000
     09FA290_2,  PR11,    39,  1,   -999,     43,2,19900307,1759,-33.9855, 172.5840,  585,    397.7,  10.3430,  34.8520,2,  34.8500,2,    197.6,2,    193.7,2,    10.99,2,    19.08,2,     1.34,2,  -999.0, 10.2955,-999.000
     09FA290_2,  PR11,    39,  1,   -999,     46,2,19900307,1759,-33.9855, 172.5840,  585,    503.6,   8.7370,  34.6920,2,  34.7090,2,    197.8,2,    192.3,2,    14.89,2,    22.17,2,     1.52,2,    15.9,  8.6825,   8.836
     09FA290_2,  PR11,    39,  1,   -999,     42,2,19900307,1759,-33.9855, 172.5840,  585,    569.4,   7.9610,  34.6160,2,  34.6180,2,    196.7,2,    193.8,2,    17.68,2,    24.17,2,     1.67,2,  -999.0,  7.9025,-999.000
     09FA290_2,  PR11,    40,  1,   -999,      6,2,19900307,1934,-33.8777, 172.5412, 1070,      1.0,  20.7120,  35.4880,2,  35.4880,2,    224.6,2,    229.8,2,     1.00,2,     0.18,2,     0.17,2,  -999.0, 20.7118,  20.740
     09FA290_2,  PR11,    40,  1,   -999,     31,2,19900307,1934,-33.8777, 172.5412, 1070,     96.9,  15.0910,  35.2830,2,  35.2710,2,    199.5,2,    201.9,2,     4.90,2,     9.63,2,     0.74,2,  -999.0, 15.0763,-999.000
     09FA290_2,  PR11,    40,  1,   -999,     36,2,19900307,1934,-33.8777, 172.5412, 1070,    207.4,  13.4320,  35.2170,2,  35.2190,2,    187.4,2,    193.7,2,     4.30,2,    11.99,2,     0.88,2,  -999.0, 13.4028,-999.000
     09FA290_2,  PR11,    40,  1,   -999,     18,2,19900307,1934,-33.8777, 172.5412, 1070,    298.2,  11.4430,  34.9690,2,  34.9680,2,    189.6,2,    190.5,2,     6.79,2,    16.35,2,     1.14,2,  -999.0, 11.4051,-999.000
     09FA290_2,  PR11,    40,  1,   -999,     25,2,19900307,1934,-33.8777, 172.5412, 1070,    400.9,  10.4920,  34.8610,2,  34.8520,2,    191.4,2,    190.8,2,     9.09,2,    18.89,2,     1.31,2,  -999.0, 10.4437,-999.000
     09FA290_2,  PR11,    40,  1,   -999,     35,2,19900307,1934,-33.8777, 172.5412, 1070,    497.1,   9.2540,  34.7510,2,  34.7540,2,    190.3,2,    193.1,2,    14.29,2,    21.44,2,     1.49,2,  -999.0,  9.1983,-999.000
     09FA290_2,  PR11,    40,  1,   -999,     10,2,19900307,1934,-33.8777, 172.5412, 1070,    597.3,   8.5750,  34.6730,2,-999.0000,5,    194.1,2,    193.7,2,    15.18,2,    22.71,2,     1.57,2,  -999.0,  8.5107,-999.000
     09FA290_2,  PR11,    40,  1,   -999,     43,2,19900307,1934,-33.8777, 172.5412, 1070,    798.7,   7.8010,  34.6110,2,  34.6090,2,    194.0,2,    192.9,2,    19.48,2,    24.89,2,     1.70,2,  -999.0,  7.7187,-999.000
     09FA290_2,  PR11,    40,  1,   -999,     46,2,19900307,1934,-33.8777, 172.5412, 1070,    997.8,   6.3150,  34.5240,2,  34.5230,2,    184.8,2,    188.2,2,    30.97,2,    28.52,2,     1.95,2,     2.1,  6.2220,   6.334
     09FA290_2,  PR11,    40,  1,   -999,     42,2,19900307,1934,-33.8777, 172.5412, 1070,   1048.6,   5.5500,  34.5090,2,  34.5080,2,    185.2,2,    181.7,2,  -999.00,5,    30.34,2,     2.07,2,  -999.0,  5.4579,-999.000
     09FA290_2,  PR11,    41,  1,   -999,      6,2,19900309,0230,-33.6012, 172.4785, 1415,      3.7,  22.3630,  35.6400,2,  35.6240,2,    218.8,2,    217.4,2,     0.90,2,     0.00,2,     0.11,2,  -999.0, 22.3623,  22.389
     09FA290_2,  PR11,    41,  1,   -999,     40,2,19900309,0230,-33.6012, 172.4785, 1415,     47.8,  21.1580,  35.6010,2,  35.5880,2,    217.0,2,    224.5,2,     0.90,2,     0.18,2,     0.14,2,  -999.0, 21.1488,-999.000
     09FA290_2,  PR11,    41,  1,   -999,     26,2,19900309,0230,-33.6012, 172.4785, 1415,    100.0,  17.9390,  35.5080,2,  35.5110,2,    211.1,2,    212.2,2,     1.60,2,     3.71,2,     0.37,2,  -999.0, 17.9218,-999.000
     09FA290_2,  PR11,    41,  1,   -999,     31,2,19900309,0230,-33.6012, 172.4785, 1415,    199.4,  15.1970,  35.3430,2,  35.3500,2,    199.4,2,    202.5,2,     3.60,2,     8.48,2,     0.64,2,  -999.0, 15.1664,-999.000
     09FA290_2,  PR11,    41,  1,   -999,     36,2,19900309,0230,-33.6012, 172.4785, 1415,    298.2,  12.3800,  35.0750,2,  35.0810,2,    200.8,2,    194.0,2,     6.09,2,    14.14,2,     1.01,2,  -999.0, 12.3401,-999.000
     09FA290_2,  PR11,    41,  1,   -999,     18,2,19900309,0230,-33.6012, 172.4785, 1415,    397.7,  10.9510,  34.9260,2,  34.9270,2,    193.8,2,    194.3,2,    10.19,2,    17.66,2,     1.22,2,  -999.0, 10.9017,-999.000
     09FA290_2,  PR11,    41,  1,   -999,     25,2,19900309,0230,-33.6012, 172.4785, 1415,    498.4,   9.7680,  34.7980,2,  34.7980,2,    191.2,2,    192.5,2,    12.09,2,    20.32,2,     1.39,2,  -999.0,  9.7103,-999.000
     09FA290_2,  PR11,    41,  1,   -999,     35,2,19900309,0230,-33.6012, 172.4785, 1415,    598.6,   9.1330,  34.7360,2,  34.7370,2,    196.6,2,    193.7,2,    14.19,2,    21.73,2,     1.48,2,  -999.0,  9.0661,-999.000
     09FA290_2,  PR11,    41,  1,   -999,     10,2,19900309,0230,-33.6012, 172.4785, 1415,    797.8,   7.9900,  34.6070,2,  34.6160,2,    197.3,2,    195.2,2,    15.88,2,    24.03,2,     1.62,2,  -999.0,  7.9067,-999.000
     09FA290_2,  PR11,    41,  1,   -999,     43,2,19900309,0230,-33.6012, 172.4785, 1415,    998.9,   6.0260,  34.5070,2,  34.5070,2,    189.2,2,    184.9,2,    34.17,2,    29.15,2,     1.97,2,  -999.0,  5.9350,-999.000
     09FA290_2,  PR11,    41,  1,   -999,     46,2,19900309,0230,-33.6012, 172.4785, 1415,   1328.7,   4.1840,  34.5370,2,  34.5350,2,    174.0,2,    171.1,2,    62.14,2,    33.22,2,     2.28,2,    31.7,  4.0783,   4.229
     09FA290_2,  PR11,    41,  1,   -999,     42,2,19900309,0230,-33.6012, 172.4785, 1415,   1398.9,   3.7880,  34.5570,2,  34.5560,2,    167.2,2,    166.4,2,    74.63,2,    34.10,2,     2.34,2,  -999.0,  3.6801,-999.000
     09FA290_2,  PR11,    42,  1,   -999,      6,2,19900309,0727,-33.0840, 172.3598, 1884,      3.7,  22.5060,  35.6100,2,  35.6080,2,    222.9,2,    214.2,2,     0.90,2,     0.20,2,     0.14,2,  -999.0, 22.5053,  22.514
     09FA290_2,  PR11,    42,  1,   -999,     34,2,19900309,0727,-33.0840, 172.3598, 1884,     98.1,  18.1820,  35.5110,2,  35.5100,2,    217.6,2,    217.8,2,     1.30,2,     2.20,2,     0.28,2,  -999.0, 18.1650,-999.000
     09FA290_2,  PR11,    42,  1,   -999,     41,2,19900309,0727,-33.0840, 172.3598, 1884,    197.0,  15.5440,  35.4100,2,  35.4070,2,    200.6,2,    200.4,2,     2.50,2,     7.19,2,     0.58,2,  -999.0, 15.5133,-999.000
     09FA290_2,  PR11,    42,  1,   -999,     18,2,19900309,0727,-33.0840, 172.3598, 1884,    249.8,  14.5480,  35.3400,2,  35.3450,2,    195.7,2,    197.6,2,     3.00,2,     8.99,2,     0.69,2,  -999.0, 14.5108,-999.000
     09FA290_2,  PR11,    42,  1,   -999,     40,2,19900309,0727,-33.0840, 172.3598, 1884,    296.8,  13.7340,  35.2640,2,  35.2630,2,    198.2,2,    195.4,2,     3.70,2,    10.79,2,     0.83,2,  -999.0, 13.6914,-999.000
     09FA290_2,  PR11,    42,  1,   -999,     26,2,19900309,0727,-33.0840, 172.3598, 1884,    399.1,  11.7990,  35.0360,2,  35.0370,2,    195.8,2,    190.9,2,     6.09,2,    15.58,2,     1.09,2,  -999.0, 11.7470,-999.000
     09FA290_2,  PR11,    42,  1,   -999,     31,2,19900309,0727,-33.0840, 172.3598, 1884,    499.9,   9.9080,  34.8080,2,  34.8080,2,    193.7,2,    189.5,2,     9.89,2,    20.08,2,     1.38,2,  -999.0,  9.8496,-999.000
     09FA290_2,  PR11,    42,  1,   -999,     36,2,19900309,0727,-33.0840, 172.3598, 1884,    597.5,   8.8370,  34.6900,2,  34.6940,2,    189.0,2,    189.2,2,    12.59,2,    22.78,2,     1.53,2,  -999.0,  8.7716,-999.000
     09FA290_2,  PR11,    42,  1,   -999,     46,2,19900309,0727,-33.0840, 172.3598, 1884,    800.2,   6.7490,  34.5160,2,  34.5180,2,    188.0,2,    189.8,2,    23.98,2,    27.47,2,     1.84,2,    99.4,  6.6729,   6.782
     09FA290_2,  PR11,    42,  1,   -999,     25,2,19900309,0727,-33.0840, 172.3598, 1884,    843.0,   6.2780,  34.4930,2,  34.4950,2,    185.8,2,    188.4,2,    28.17,2,    28.47,2,     1.92,2,  -999.0,  6.2006,-999.000
     09FA290_2,  PR11,    42,  1,   -999,     35,2,19900309,0727,-33.0840, 172.3598, 1884,    997.1,   5.5070,  34.4990,2,  34.4980,2,    176.8,2,    180.5,2,    43.36,2,    30.47,2,     2.08,2,  -999.0,  5.4201,-999.000
     09FA290_2,  PR11,    42,  1,   -999,     10,2,19900309,0727,-33.0840, 172.3598, 1884,   1308.5,   4.1230,  34.5220,2,  34.5270,2,    169.4,2,    168.7,2,    62.04,2,    33.57,2,     2.28,2,  -999.0,  4.0197,-999.000
     09FA290_2,  PR11,    42,  1,   -999,     43,2,19900309,0727,-33.0840, 172.3598, 1884,   1499.2,   3.5960,  34.5630,2,  34.5640,2,    161.0,2,    162.8,2,    76.32,2,    34.37,2,     2.38,2,  -999.0,  3.4814,-999.000
     09FA290_2,  PR11,    42,  1,   -999,     12,2,19900309,0727,-33.0840, 172.3598, 1884,   1773.6,   2.6300,  34.6220,2,  34.6210,2,    155.7,2,    155.2,2,    97.20,2,    35.86,2,     2.48,2,    85.5,  2.5036,   2.653
     09FA290_2,  PR11,    42,  1,   -999,     42,2,19900309,0727,-33.0840, 172.3598, 1884,   1821.3,   2.4960,  34.6280,2,  34.6270,2,    153.6,2,    154.6,2,   103.80,2,    36.06,2,     2.48,2,  -999.0,  2.3674,-999.000
     09FA290_2,  PR11,    43,  1,   -999,      6,2,19900309,1125,-32.7305, 172.3877, 1825,      3.5,  22.7190,  35.6350,2,  35.6340,2,    213.3,2,    216.7,2,     0.80,2,     0.20,2,     0.12,2,  -999.0, 22.7183,  22.728
     09FA290_2,  PR11,    43,  1,   -999,     34,2,19900309,1125,-32.7305, 172.3877, 1825,     98.8,  16.5040,  35.4470,2,  35.4460,2,    196.0,2,    210.0,2,     2.10,2,     4.99,2,     0.45,2,  -999.0, 16.4880,-999.000
     09FA290_2,  PR11,    43,  1,   -999,     41,2,19900309,1125,-32.7305, 172.3877, 1825,    198.0,  13.9630,  35.2820,2,  35.2790,2,    194.0,2,    199.3,2,     3.70,2,    10.59,2,     0.79,2,  -999.0, 13.9344,-999.000
     09FA290_2,  PR11,    43,  1,   -999,     18,2,19900309,1125,-32.7305, 172.3877, 1825,    248.4,  13.0310,  35.1800,2,  35.1810,2,    189.0,2,    192.0,2,     4.60,2,    12.89,2,     0.93,2,  -999.0, 12.9967,-999.000
     09FA290_2,  PR11,    43,  1,   -999,     40,2,19900309,1125,-32.7305, 172.3877, 1825,    397.5,  10.9350,  34.9330,2,  34.9310,2,    187.2,2,    186.7,2,     8.19,2,    17.88,2,     1.22,2,  -999.0, 10.8858,-999.000
     09FA290_2,  PR11,    43,  1,   -999,     26,2,19900309,1125,-32.7305, 172.3877, 1825,    498.9,   9.7630,  34.7990,2,  34.8010,2,    189.5,2,    188.7,2,    11.49,2,    20.56,2,     1.40,2,  -999.0,  9.7052,-999.000
     09FA290_2,  PR11,    43,  1,   -999,     31,2,19900309,1125,-32.7305, 172.3877, 1825,    597.3,   8.6340,  34.6730,2,  34.6730,2,    181.2,2,    189.5,2,    14.39,2,    23.25,2,     1.57,2,  -999.0,  8.5695,-999.000
     09FA290_2,  PR11,    43,  1,   -999,     36,2,19900309,1125,-32.7305, 172.3877, 1825,    795.6,   6.9810,  34.5480,2,  34.5520,2,    184.4,2,    185.9,2,    24.98,2,    27.17,2,     1.83,2,  -999.0,  6.9039,-999.000
     09FA290_2,  PR11,    43,  1,   -999,     46,2,19900309,1125,-32.7305, 172.3877, 1825,    848.8,   6.4410,  34.5090,2,  34.5080,2,    176.8,2,    187.3,2,    28.37,2,    28.25,2,     1.91,2,    53.5,  6.3619,   6.449
     09FA290_2,  PR11,    43,  1,   -999,     25,2,19900309,1125,-32.7305, 172.3877, 1825,    997.9,   5.7380,  34.5060,2,  34.5070,2,    172.3,2,    178.3,2,    36.56,2,    30.22,2,     2.04,2,  -999.0,  5.6493,-999.000
     09FA290_2,  PR11,    43,  1,   -999,     35,2,19900309,1125,-32.7305, 172.3877, 1825,   1223.5,   4.3700,  34.5070,2,  34.5100,2,    159.9,2,    170.4,2,    56.64,2,    33.26,2,     2.27,2,  -999.0,  4.2719,-999.000
     09FA290_2,  PR11,    43,  1,   -999,     10,2,19900309,1125,-32.7305, 172.3877, 1825,   1498.0,   3.3400,  34.5660,2,  34.5700,2,    154.7,2,    161.4,2,    80.22,2,    34.87,2,     2.39,2,  -999.0,  3.2284,-999.000
     09FA290_2,  PR11,    43,  1,   -999,     12,2,19900309,1125,-32.7305, 172.3877, 1825,   1747.1,   2.8250,  34.6030,2,  34.6040,2,    154.7,2,    156.6,2,    97.50,2,    35.93,2,     2.47,2,    62.5,  2.6983,   2.826
     09FA290_2,  PR11,    43,  1,   -999,     42,2,19900309,1125,-32.7305, 172.3877, 1825,   1828.4,   2.7930,  34.6070,2,  34.6050,2,    154.7,2,    157.1,2,    99.20,2,    35.93,2,     2.47,2,  -999.0,  2.6597,-999.000