BOTTLE,20020730WHPSIO
EXPOCODE,SECT_ID,STNNBR,CASTNO,SAMPNO,BTLNBR,BTLNBR_FLAG_W,DATE,TIME,LATITUDE,LONGITUDE,DEPTH,CTDPRS,CTDTMP,CTDSAL,CTDSAL_FLAG_W,SALNTY,SALNTY_FLAG_W,CTDOXY,CTDOXY_FLAG_W,OXYGEN,OXYGEN_FLAG_W,SILCAT,SILCAT_FLAG_W,NO2+NO3,NO2+NO3_FLAG_W,PHSPHT,PHSPHT_FLAG_W,REVPRS,THETA,REVTMP
,,,,,,,,,,,,DBR,ITS-90,PSS-78,,PSS-78,,UMOL/KG,,UMOL/KG,,UMOL/KG,,UMOL/KG,,UMOL/KG,,DBR,ITS-90,ITS-90
     09FA290_2,FRAN90,   111,  1,   -999,      6,2,19900329,1913,-31.3005, 163.7698, 1792,      2.1,  22.8790,  35.5900,2,  35.5910,2,    212.7,2,    213.4,2,     0.90,2,     0.19,2,     0.12,2,  -999.0, 22.8786,-999.000
     09FA290_2,FRAN90,   111,  1,   -999,     27,2,19900329,1913,-31.3005, 163.7698, 1792,     48.7,  22.8140,  35.5880,2,  35.5860,2,    211.8,2,    213.1,2,     0.90,2,     0.19,2,     0.12,2,  -999.0, 22.8041,-999.000
     09FA290_2,FRAN90,   111,  1,   -999,     43,2,19900329,1913,-31.3005, 163.7698, 1792,     98.0,  19.2680,  35.6210,2,  35.6210,2,    211.0,2,    208.1,2,     1.10,2,     0.94,2,     0.27,2,  -999.0, 19.2503,-999.000
     09FA290_2,FRAN90,   111,  1,   -999,     29,2,19900329,1913,-31.3005, 163.7698, 1792,    148.4,  18.3390,  35.6030,2,  35.6030,2,    205.8,2,    199.4,2,     1.50,2,     3.76,2,     0.37,2,  -999.0, 18.3131,-999.000
     09FA290_2,FRAN90,   111,  1,   -999,     24,2,19900329,1913,-31.3005, 163.7698, 1792,    197.7,  17.5570,  35.5610,2,  35.5610,2,    196.5,2,    195.6,2,     1.80,2,     5.26,2,     0.47,2,  -999.0, 17.5235,-999.000
     09FA290_2,FRAN90,   111,  1,   -999,     28,2,19900329,1913,-31.3005, 163.7698, 1792,    298.6,  15.4640,  35.4140,2,  35.4170,2,    184.4,2,    189.8,2,     2.80,2,     8.46,2,     0.69,2,  -999.0, 15.4175,-999.000
     09FA290_2,FRAN90,   111,  1,   -999,     36,2,19900329,1913,-31.3005, 163.7698, 1792,    398.1,  13.1100,  35.1820,2,  35.1810,2,    185.5,2,    189.0,2,     4.60,2,    12.97,2,     0.95,2,  -999.0, 13.0544,-999.000
     09FA290_2,FRAN90,   111,  1,   -999,     46,2,19900329,1913,-31.3005, 163.7698, 1792,    498.2,  11.4060,  34.9810,2,  34.9820,2,    188.5,2,    189.3,2,     6.59,2,    16.54,2,     1.17,2,     7.7, 11.3423,  11.426
     09FA290_2,FRAN90,   111,  1,   -999,      1,2,19900329,1913,-31.3005, 163.7698, 1792,    598.4,   9.5700,  34.7630,2,  34.7630,2,    186.1,2,    185.8,2,    10.69,2,    20.87,2,     1.46,2,  -999.0,  9.5012,-999.000
     09FA290_2,FRAN90,   111,  1,   -999,     25,2,19900329,1913,-31.3005, 163.7698, 1792,    798.0,   7.1880,  34.5390,2,  34.5390,2,    187.0,2,    187.6,2,    20.48,2,    26.69,2,     1.84,2,  -999.0,  7.1095,-999.000
     09FA290_2,FRAN90,   111,  1,   -999,      8,2,19900329,1913,-31.3005, 163.7698, 1792,    997.8,   5.8210,  34.4830,2,  34.4870,2,    181.8,2,    181.8,2,    33.57,2,    30.08,2,     2.16,2,  -999.0,  5.7317,-999.000
     09FA290_2,FRAN90,   111,  1,   -999,     41,2,19900329,1913,-31.3005, 163.7698, 1792,   1148.5,   4.8720,  34.4910,2,  34.4930,2,    173.4,2,    173.1,2,    46.35,2,    32.15,2,     2.26,2,  -999.0,  4.7762,-999.000
     09FA290_2,FRAN90,   111,  1,   -999,     26,2,19900329,1913,-31.3005, 163.7698, 1792,   1297.1,   4.2490,  34.5150,2,  34.5140,2,    166.3,2,    166.9,2,    58.04,2,    33.65,2,     2.34,2,  -999.0,  4.1455,-999.000
     09FA290_2,FRAN90,   111,  1,   -999,     12,2,19900329,1913,-31.3005, 163.7698, 1792,   1501.3,   3.3730,  34.5650,2,  34.5640,2,    159.4,2,    156.7,2,    78.02,2,    35.15,2,     2.49,2,     9.8,  3.2608,   3.388
     09FA290_2,FRAN90,   111,  1,   -999,     34,2,19900329,1913,-31.3005, 163.7698, 1792,   1779.9,   2.4940,  34.6350,2,  34.6320,2,    151.2,2,    151.5,2,   100.40,2,    36.28,2,     2.56,2,  -999.0,  2.3689,-999.000
     09FA290_2,FRAN90,   112,  1,   -999,      6,2,19900329,2351,-31.8720, 164.0847, 2910,      4.2,  22.6980,  35.5640,2,  35.5650,2,    217.7,2,    214.3,2,     0.70,2,     0.19,2,     0.10,2,  -999.0, 22.6971,  22.735
     09FA290_2,FRAN90,   112,  1,   -999,     42,2,19900329,2351,-31.8720, 164.0847, 2910,     48.5,  22.5730,  35.5580,2,  35.5590,2,    216.6,2,    216.3,2,     0.70,2,     0.19,2,     0.08,2,  -999.0, 22.5632,-999.000
     09FA290_2,FRAN90,   112,  1,   -999,     10,2,19900329,2351,-31.8720, 164.0847, 2910,     98.6,  18.6590,  35.5950,2,  35.5930,2,    200.2,2,    202.9,2,     1.30,2,     2.63,2,     0.33,2,  -999.0, 18.6416,-999.000
     09FA290_2,FRAN90,   112,  1,   -999,      2,2,19900329,2351,-31.8720, 164.0847, 2910,    148.8,  17.5950,  35.5550,2,  35.5540,2,    198.4,2,    196.2,2,     1.60,2,     5.07,2,     0.49,2,  -999.0, 17.5698,-999.000
     09FA290_2,FRAN90,   112,  1,   -999,     27,2,19900329,2351,-31.8720, 164.0847, 2910,    199.6,  16.0600,  35.4540,2,  35.4540,2,    199.7,2,    194.8,2,     2.20,2,     7.14,2,     0.60,2,  -999.0, 16.0282,-999.000
     09FA290_2,FRAN90,   112,  1,   -999,     43,2,19900329,2351,-31.8720, 164.0847, 2910,    300.3,  14.1500,  35.3110,2,  35.3150,2,    193.4,2,    196.2,2,     3.30,2,     9.78,2,     0.77,2,  -999.0, 14.1060,-999.000
     09FA290_2,FRAN90,   112,  1,   -999,     29,2,19900329,2351,-31.8720, 164.0847, 2910,    400.3,  12.2800,  35.1130,2,  35.1100,2,    190.6,2,    193.9,2,     4.99,2,    13.54,2,     1.04,2,  -999.0, 12.2265,-999.000
     09FA290_2,FRAN90,   112,  1,   -999,     24,2,19900329,2351,-31.8720, 164.0847, 2910,    500.2,  10.3130,  34.8410,2,  34.8360,2,    188.8,2,    177.4,3,     7.99,2,    19.17,2,     1.34,2,  -999.0, 10.2530,-999.000
     09FA290_2,FRAN90,   112,  1,   -999,     28,2,19900329,2351,-31.8720, 164.0847, 2910,    596.9,   8.9360,  34.6820,2,  34.6820,2,    184.0,2,    189.9,2,    11.49,2,    22.37,2,     1.56,2,  -999.0,  8.8702,-999.000
     09FA290_2,FRAN90,   112,  1,   -999,     36,2,19900329,2351,-31.8720, 164.0847, 2910,    797.2,   6.7360,  34.5080,2,  34.5120,2,    185.1,2,    188.5,2,    22.88,2,    27.44,2,     1.94,2,  -999.0,  6.6603,-999.000
     09FA290_2,FRAN90,   112,  1,   -999,     46,2,19900329,2351,-31.8720, 164.0847, 2910,    998.6,   5.3430,  34.4760,2,  34.4790,2,    182.1,2,    179.8,2,    39.46,2,    30.64,2,     2.16,2,     5.8,  5.2572,   5.358
     09FA290_2,FRAN90,   112,  1,   -999,      1,2,19900329,2351,-31.8720, 164.0847, 2910,   1250.5,   4.1450,  34.5140,2,  34.5170,2,    162.1,2,    165.5,2,    58.04,2,    33.65,2,     2.38,2,  -999.0,  4.0466,-999.000
     09FA290_2,FRAN90,   112,  1,   -999,     25,2,19900329,2351,-31.8720, 164.0847, 2910,   1451.1,   3.3630,  34.5610,2,  34.5640,2,    157.3,2,    157.9,2,    78.02,2,    35.15,2,     2.51,2,  -999.0,  3.2552,-999.000
     09FA290_2,FRAN90,   112,  1,   -999,      8,2,19900329,2351,-31.8720, 164.0847, 2910,   1749.3,   2.6520,  34.6190,2,  34.6190,2,    152.8,2,    152.1,2,    96.30,2,    35.71,2,  -999.00,5,  -999.0,  2.5274,-999.000
     09FA290_2,FRAN90,   112,  1,   -999,     41,2,19900329,2351,-31.8720, 164.0847, 2910,   1999.3,   2.2960,  34.6490,2,  34.6500,2,    151.6,2,    152.4,2,   104.60,2,    36.28,2,     2.58,2,  -999.0,  2.1550,-999.000
     09FA290_2,FRAN90,   112,  1,   -999,     26,2,19900329,2351,-31.8720, 164.0847, 2910,   2379.0,   2.0330,  34.6760,2,  34.6740,2,    151.7,2,    152.4,2,   112.79,2,    36.28,2,     2.61,2,  -999.0,  1.8629,-999.000
     09FA290_2,FRAN90,   112,  1,   -999,     12,2,19900329,2351,-31.8720, 164.0847, 2910,   2500.9,   2.0020,  34.6800,2,  34.6760,2,    151.1,2,    152.6,2,   112.79,2,    36.28,2,     2.58,2,    18.9,  1.8215,   2.001
     09FA290_2,FRAN90,   112,  1,   -999,     34,2,19900329,2351,-31.8720, 164.0847, 2910,   2915.2,   1.9370,  34.6880,2,  34.6840,2,    151.7,2,    155.6,2,   114.89,2,    36.28,2,     2.58,2,  -999.0,  1.7188,-999.000
     09FA290_2,FRAN90,   113,  1,   -999,      6,2,19900330,0507,-32.4350, 164.3680, 3124,      4.0,  22.6060,  35.5560,2,  35.5500,2,    221.7,2,    214.5,2,     0.70,2,     0.19,2,     0.10,2,  -999.0, 22.6052,  22.611
     09FA290_2,FRAN90,   113,  1,   -999,     40,2,19900330,0507,-32.4350, 164.3680, 3124,     48.8,  22.3260,  35.5500,2,  35.5460,2,    213.7,2,    215.4,2,     0.70,2,     0.19,2,     0.10,2,  -999.0, 22.3162,-999.000
     09FA290_2,FRAN90,   113,  1,   -999,     42,2,19900330,0507,-32.4350, 164.3680, 3124,     78.5,  19.7790,  35.6130,2,  35.6100,2,    207.8,2,    220.6,2,     0.90,2,     0.19,2,     0.17,2,  -999.0, 19.7646,-999.000
     09FA290_2,FRAN90,   113,  1,   -999,     10,2,19900330,0507,-32.4350, 164.3680, 3124,    148.1,  17.5930,  35.5560,2,  35.5560,2,    194.9,2,    195.6,2,     1.70,2,     4.98,2,     0.45,2,  -999.0, 17.5679,-999.000
     09FA290_2,FRAN90,   113,  1,   -999,      2,2,19900330,0507,-32.4350, 164.3680, 3124,    198.8,  16.3600,  35.4820,2,  35.4810,2,    192.4,2,    193.0,2,     2.00,2,     7.08,2,     0.57,2,  -999.0, 16.3279,-999.000
     09FA290_2,FRAN90,   113,  1,   -999,     27,2,19900330,0507,-32.4350, 164.3680, 3124,    320.8,  13.9010,  35.3100,2,  35.3180,2,    210.9,2,    208.8,2,     2.80,2,     8.61,2,     0.70,2,  -999.0, 13.8545,-999.000
     09FA290_2,FRAN90,   113,  1,   -999,     43,2,19900330,0507,-32.4350, 164.3680, 3124,    397.6,  12.2210,  35.0830,2,  35.0830,2,    189.1,2,    190.5,2,     5.29,2,    14.55,2,     1.04,2,  -999.0, 12.1680,-999.000
     09FA290_2,FRAN90,   113,  1,   -999,     29,2,19900330,0507,-32.4350, 164.3680, 3124,    497.2,  10.4470,  34.8650,2,  34.8680,2,    194.9,2,    189.6,2,     8.69,2,    18.76,2,     1.34,2,  -999.0, 10.3869,-999.000
     09FA290_2,FRAN90,   113,  1,   -999,     24,2,19900330,0507,-32.4350, 164.3680, 3124,    598.9,   8.8840,  34.6840,2,  34.6830,2,    189.0,2,    189.3,2,    12.29,2,    22.78,2,     1.58,2,  -999.0,  8.8182,-999.000
     09FA290_2,FRAN90,   113,  1,   -999,     28,2,19900330,0507,-32.4350, 164.3680, 3124,    794.9,   7.0670,  34.5370,2,  34.5440,2,    183.1,2,    185.0,2,    21.88,2,    27.18,2,     1.88,2,  -999.0,  6.9895,-999.000
     09FA290_2,FRAN90,   113,  1,   -999,     36,2,19900330,0507,-32.4350, 164.3680, 3124,    998.4,   5.5460,  34.4870,2,  34.4880,2,    177.5,2,    178.3,2,    38.76,2,    31.01,2,     2.11,2,  -999.0,  5.4587,-999.000
     09FA290_2,FRAN90,   113,  1,   -999,     46,2,19900330,0507,-32.4350, 164.3680, 3124,   1059.9,   5.1940,  34.4860,2,  34.4880,2,    173.1,2,    173.9,2,    44.46,2,    31.59,2,     2.20,2,    69.3,  5.1037,   5.205
     09FA290_2,FRAN90,   113,  1,   -999,      1,2,19900330,0507,-32.4350, 164.3680, 3124,   1287.8,   4.1400,  34.5140,2,  34.5160,2,    163.7,2,    165.8,2,    61.54,2,    33.69,2,     2.35,2,  -999.0,  4.0384,-999.000
     09FA290_2,FRAN90,   113,  1,   -999,     25,2,19900330,0507,-32.4350, 164.3680, 3124,   1499.2,   3.3010,  34.5640,2,  34.5630,2,    155.0,2,    156.1,2,    80.52,2,    35.41,2,     2.48,2,  -999.0,  3.1898,-999.000
     09FA290_2,FRAN90,   113,  1,   -999,      8,2,19900330,0507,-32.4350, 164.3680, 3124,   1747.8,   2.6550,  34.6200,2,  34.6190,2,    150.5,2,    152.4,2,    99.60,2,    36.18,2,     2.55,2,  -999.0,  2.5305,-999.000
     09FA290_2,FRAN90,   113,  1,   -999,     41,2,19900330,0507,-32.4350, 164.3680, 3124,   2399.0,   2.0450,  34.6750,2,  34.6740,2,    153.6,2,    152.9,2,   114.49,2,    36.37,2,     2.55,2,  -999.0,  1.8729,-999.000
     09FA290_2,FRAN90,   113,  1,   -999,     26,2,19900330,0507,-32.4350, 164.3680, 3124,   2497.4,   2.0120,  34.6790,2,  34.6770,2,    153.6,2,    155.3,2,   114.49,2,    36.37,2,     2.55,2,  -999.0,  1.8316,-999.000
     09FA290_2,FRAN90,   113,  1,   -999,     12,2,19900330,0507,-32.4350, 164.3680, 3124,   2998.0,   1.9210,  34.6900,2,  34.6890,2,    155.6,2,    156.4,2,   116.58,2,    36.37,2,     2.55,2,    17.3,  1.6950,   1.922
     09FA290_2,FRAN90,   113,  1,   -999,     34,2,19900330,0507,-32.4350, 164.3680, 3124,   3136.1,   1.9210,  34.6910,2,  34.6890,2,    155.7,2,    157.6,2,   116.58,2,    36.37,2,     2.55,2,  -999.0,  1.6814,-999.000
     09FA290_2,FRAN90,   114,  1,   -999,      6,2,19900330,1049,-32.9960, 164.6868, 3118,      3.8,  22.5320,  35.5490,2,  35.5440,2,    218.4,2,    216.3,2,     0.70,2,     0.20,2,     0.12,2,  -999.0, 22.5312,  22.530
     09FA290_2,FRAN90,   114,  1,   -999,     40,2,19900330,1049,-32.9960, 164.6868, 3118,     48.6,  22.5060,  35.5500,2,  35.5490,2,    218.9,2,    217.2,2,     0.70,2,     0.20,2,     0.08,2,  -999.0, 22.4962,-999.000
     09FA290_2,FRAN90,   114,  1,   -999,     42,2,19900330,1049,-32.9960, 164.6868, 3118,     99.0,  19.1070,  35.5800,2,  35.5760,2,    201.1,2,    210.5,2,     0.90,2,     1.30,2,     0.25,2,  -999.0, 19.0892,-999.000
     09FA290_2,FRAN90,   114,  1,   -999,     10,2,19900330,1049,-32.9960, 164.6868, 3118,    148.2,  16.8830,  35.5000,2,  35.4980,2,    194.9,2,    199.2,2,     1.70,2,     5.19,2,     0.47,2,  -999.0, 16.8586,-999.000
     09FA290_2,FRAN90,   114,  1,   -999,      2,2,19900330,1049,-32.9960, 164.6868, 3118,    199.2,  15.7750,  35.4400,2,  35.4420,2,    197.2,2,    197.3,2,     2.20,2,     7.29,2,     0.60,2,  -999.0, 15.7437,-999.000
     09FA290_2,FRAN90,   114,  1,   -999,     43,2,19900330,1049,-32.9960, 164.6868, 3118,    398.2,  11.9550,  35.0490,2,  35.0490,2,    185.8,2,    189.8,2,     5.39,2,    15.28,2,     1.09,2,  -999.0, 11.9027,-999.000
     09FA290_2,FRAN90,   114,  1,   -999,     29,2,19900330,1049,-32.9960, 164.6868, 3118,    499.1,  10.1860,  34.8240,2,  34.8240,2,    193.1,2,    191.0,2,     7.89,2,    19.38,2,     1.34,2,  -999.0, 10.1266,-999.000
     09FA290_2,FRAN90,   114,  1,   -999,     24,2,19900330,1049,-32.9960, 164.6868, 3118,    599.1,   8.8460,  34.6820,2,  34.6860,2,    187.1,2,    190.4,2,    12.29,2,    22.58,2,     1.56,2,  -999.0,  8.7803,-999.000
     09FA290_2,FRAN90,   114,  1,   -999,     28,2,19900330,1049,-32.9960, 164.6868, 3118,    801.7,   6.8230,  34.5180,2,  34.5230,2,    179.0,2,    184.6,2,    23.18,2,    27.97,2,     1.91,2,  -999.0,  6.7463,-999.000
     09FA290_2,FRAN90,   114,  1,   -999,     36,2,19900330,1049,-32.9960, 164.6868, 3118,    947.3,   5.6050,  34.4790,2,  34.4840,2,    180.2,2,    181.8,2,    36.26,2,    30.47,2,     2.08,2,  -999.0,  5.5221,-999.000
     09FA290_2,FRAN90,   114,  1,   -999,     46,2,19900330,1049,-32.9960, 164.6868, 3118,    998.4,   5.3660,  34.4850,2,  34.4870,2,    154.9,2,   -999.0,5,    40.56,2,    30.97,2,     2.13,2,    99.2,  5.2801,   5.407
     09FA290_2,FRAN90,   114,  1,   -999,      1,2,19900330,1049,-32.9960, 164.6868, 3118,   1268.5,   4.0430,  34.5180,2,  34.5220,2,    150.3,2,   -999.0,5,    63.64,2,    34.07,2,     2.36,2,  -999.0,  3.9440,-999.000
     09FA290_2,FRAN90,   114,  1,   -999,     25,2,19900330,1049,-32.9960, 164.6868, 3118,   1499.5,   3.2170,  34.5710,2,  34.5700,2,    154.2,2,    156.7,2,    82.62,2,    35.56,2,     2.48,2,  -999.0,  3.1067,-999.000
     09FA290_2,FRAN90,   114,  1,   -999,      8,2,19900330,1049,-32.9960, 164.6868, 3118,   1748.0,   2.6320,  34.6250,2,  34.6250,2,    154.3,2,    152.7,2,   101.70,2,    35.96,2,     2.53,2,  -999.0,  2.5078,-999.000
     09FA290_2,FRAN90,   114,  1,   -999,     41,2,19900330,1049,-32.9960, 164.6868, 3118,   2425.1,   2.0380,  34.6780,2,  34.6790,2,    155.5,2,    154.5,2,   114.49,2,    36.36,2,     2.53,2,  -999.0,  1.8637,-999.000
     09FA290_2,FRAN90,   114,  1,   -999,     26,2,19900330,1049,-32.9960, 164.6868, 3118,   2497.5,   2.0150,  34.6810,2,  34.6800,2,    155.3,2,    155.1,2,   114.49,2,    36.36,2,     2.55,2,  -999.0,  1.8345,-999.000
     09FA290_2,FRAN90,   114,  1,   -999,     12,2,19900330,1049,-32.9960, 164.6868, 3118,   2999.4,   1.9400,  34.6920,2,  34.6860,2,    155.3,2,    157.6,2,   116.58,2,    36.36,2,     2.53,2,    18.8,  1.7135,   1.939
     09FA290_2,FRAN90,   114,  1,   -999,     34,2,19900330,1049,-32.9960, 164.6868, 3118,   3119.4,   1.9270,  34.6930,2,  34.6870,2,    155.3,2,    157.3,2,   118.68,2,    36.16,2,     2.53,2,  -999.0,  1.6889,-999.000