BOTTLE,20020730WHPSIO
EXPOCODE,SECT_ID,STNNBR,CASTNO,SAMPNO,BTLNBR,BTLNBR_FLAG_W,DATE,TIME,LATITUDE,LONGITUDE,DEPTH,CTDPRS,CTDTMP,CTDSAL,CTDSAL_FLAG_W,SALNTY,SALNTY_FLAG_W,CTDOXY,CTDOXY_FLAG_W,OXYGEN,OXYGEN_FLAG_W,SILCAT,SILCAT_FLAG_W,NO2+NO3,NO2+NO3_FLAG_W,PHSPHT,PHSPHT_FLAG_W,REVPRS,THETA,REVTMP
,,,,,,,,,,,,DBR,ITS-90,PSS-78,,PSS-78,,UMOL/KG,,UMOL/KG,,UMOL/KG,,UMOL/KG,,UMOL/KG,,DBR,ITS-90,ITS-90
     09FA290_2,  PR11,    55,  1,   -999,      6,2,19900312,0154,-28.2413, 169.7073, 2976,      4.4,  25.2910,  35.2790,2,  35.2790,2,    197.4,2,    207.6,2,     0.60,2,     0.00,2,     0.08,2,  -999.0, 25.2900,  25.361
     09FA290_2,  PR11,    55,  1,   -999,     24,2,19900312,0154,-28.2413, 169.7073, 2976,      4.4,  25.2910,  35.2790,2,  35.2790,2,    197.4,2,    208.8,2,     0.60,2,     0.00,2,     0.06,2,  -999.0, 25.2900,-999.000
     09FA290_2,  PR11,    55,  1,   -999,     18,2,19900312,0154,-28.2413, 169.7073, 2976,     80.9,  19.6860,  35.6440,2,  35.6420,2,    210.0,2,    203.6,2,     1.10,2,     1.66,2,     0.26,2,  -999.0, 19.6712,-999.000
     09FA290_2,  PR11,    55,  1,   -999,     43,2,19900312,0154,-28.2413, 169.7073, 2976,    201.2,  17.1010,  35.5350,2,  35.5330,2,    191.8,2,    185.3,2,     2.20,2,     6.78,2,     0.57,2,  -999.0, 17.0675,-999.000
     09FA290_2,  PR11,    55,  1,   -999,     25,2,19900312,0154,-28.2413, 169.7073, 2976,    359.2,  13.9240,  35.2550,2,  35.2570,2,    191.7,2,    188.2,2,     4.30,2,    11.91,2,     0.86,2,  -999.0, 13.8719,-999.000
     09FA290_2,  PR11,    55,  1,   -999,     42,2,19900312,0154,-28.2413, 169.7073, 2976,    400.2,  12.9460,  35.1410,2,  35.1180,2,    189.8,2,    187.4,2,     5.39,2,    14.22,2,     1.01,2,  -999.0, 12.8906,-999.000
     09FA290_2,  PR11,    55,  1,   -999,      8,2,19900312,0154,-28.2413, 169.7073, 2976,    500.8,  10.8750,  34.8870,2,  34.8860,2,    191.8,2,    188.2,2,     7.29,2,    18.19,2,     1.26,2,  -999.0, 10.8129,-999.000
     09FA290_2,  PR11,    55,  1,   -999,     46,2,19900312,0154,-28.2413, 169.7073, 2976,    599.9,   8.9980,  34.6680,2,  34.6700,2,    198.9,2,    195.0,2,    10.09,2,    22.16,2,     1.49,2,    29.5,  8.9316,   9.079
     09FA290_2,  PR11,    55,  1,   -999,     27,2,19900312,0154,-28.2413, 169.7073, 2976,    818.6,   6.6350,  34.4670,2,  34.4690,2,    188.9,2,    197.0,2,    20.08,2,    27.61,2,     1.85,2,  -999.0,  6.5578,-999.000
     09FA290_2,  PR11,    55,  1,   -999,     28,2,19900312,0154,-28.2413, 169.7073, 2976,   1219.8,   4.1040,  34.5090,2,  34.5110,2,    169.0,2,    169.4,2,    61.84,2,    34.23,2,     2.31,2,  -999.0,  4.0087,-999.000
     09FA290_2,  PR11,    55,  1,   -999,      5,2,19900312,0154,-28.2413, 169.7073, 2976,   1437.8,   3.3280,  34.5560,2,  34.5580,2,    164.7,2,    162.9,2,    81.32,2,    35.55,2,     2.40,2,  -999.0,  3.2217,-999.000
     09FA290_2,  PR11,    55,  1,   -999,     31,2,19900312,0154,-28.2413, 169.7073, 2976,   1499.5,   3.1860,  34.5670,2,  34.5680,2,    162.1,2,    160.1,2,    84.62,2,    35.71,2,     2.41,2,  -999.0,  3.0761,-999.000
     09FA290_2,  PR11,    55,  1,   -999,     44,2,19900312,0154,-28.2413, 169.7073, 2976,   1499.5,   3.1860,  34.5670,2,  34.5680,2,    162.1,2,    160.9,2,    84.62,2,    35.88,2,     2.41,2,  -999.0,  3.0761,-999.000
     09FA290_2,  PR11,    55,  1,   -999,     26,2,19900312,0154,-28.2413, 169.7073, 2976,   1748.5,   2.6590,  34.6070,2,  34.6070,2,    158.7,2,    155.0,2,   101.00,2,    36.70,2,     2.52,2,  -999.0,  2.5344,-999.000
     09FA290_2,  PR11,    55,  1,   -999,     40,2,19900312,0154,-28.2413, 169.7073, 2976,   1998.3,   2.3190,  34.6360,2,  34.6360,2,    156.8,2,    154.1,2,   110.99,2,    36.87,2,     2.51,2,  -999.0,  2.1778,-999.000
     09FA290_2,  PR11,    55,  1,   -999,     36,2,19900312,0154,-28.2413, 169.7073, 2976,   2249.9,   2.1320,  34.6510,2,  34.6500,2,    153.3,2,    152.7,2,   116.08,2,    37.20,2,     2.54,2,  -999.0,  1.9718,-999.000
     09FA290_2,  PR11,    55,  1,   -999,     41,2,19900312,0154,-28.2413, 169.7073, 2976,   2496.1,   2.0310,  34.6620,2,  34.6610,2,    151.6,2,    153.3,2,   117.68,2,    37.37,2,     2.54,2,  -999.0,  1.8504,-999.000
     09FA290_2,  PR11,    55,  1,   -999,     12,2,19900312,0154,-28.2413, 169.7073, 2976,   2748.4,   1.9320,  34.6720,2,  34.6690,2,    152.8,2,    152.1,2,   121.08,2,    37.37,2,     2.54,2,  -999.0,  1.7299,   1.911
     09FA290_2,  PR11,    55,  1,   -999,     34,2,19900312,0154,-28.2413, 169.7073, 2976,   2973.5,   1.8830,  34.6780,2,  34.6750,2,    157.3,2,    154.1,2,   122.78,2,    37.37,2,     2.54,2,  -999.0,  1.6603,-999.000
     09FA290_2,  PR11,    56,  1,   -999,      6,2,19900312,0815,-28.2472, 168.9172, 3284,      3.3,  25.1410,  35.2740,2,  35.2730,2,    192.2,2,    207.6,2,     0.80,2,     0.00,2,     0.08,2,  -999.0, 25.1403,  25.149
     09FA290_2,  PR11,    56,  1,   -999,     24,2,19900312,0815,-28.2472, 168.9172, 3284,     98.4,  19.2080,  35.6380,2,  35.6340,2,    208.2,2,    200.3,2,     1.30,2,     2.31,2,     0.31,2,  -999.0, 19.1903,-999.000
     09FA290_2,  PR11,    56,  1,   -999,     18,2,19900312,0815,-28.2472, 168.9172, 3284,    197.7,  17.5470,  35.5690,2,  35.5670,2,    190.6,2,    190.4,2,     1.90,2,     5.75,2,     0.49,2,  -999.0, 17.5135,-999.000
     09FA290_2,  PR11,    56,  1,   -999,     43,2,19900312,0815,-28.2472, 168.9172, 3284,    373.2,  13.6240,  35.1850,2,  35.1920,2,    191.0,2,    183.7,2,     4.60,2,    13.00,2,     0.92,2,  -999.0, 13.5706,-999.000
     09FA290_2,  PR11,    56,  1,   -999,     25,2,19900312,0815,-28.2472, 168.9172, 3284,    499.5,  10.6150,  34.8410,2,  34.8490,2,    189.4,2,    189.1,2,     7.69,2,    18.75,2,     1.27,2,  -999.0, 10.5540,-999.000
     09FA290_2,  PR11,    56,  1,   -999,     42,2,19900312,0815,-28.2472, 168.9172, 3284,    599.9,   9.0530,  34.6730,2,  34.6740,2,    191.0,2,    195.0,2,    10.09,2,    22.21,2,     1.47,2,  -999.0,  8.9864,-999.000
     09FA290_2,  PR11,    56,  1,   -999,      8,2,19900312,0815,-28.2472, 168.9172, 3284,    797.9,   6.8340,  34.4900,2,  34.4920,2,    190.9,2,    195.9,2,    20.58,2,    27.47,2,     1.81,2,  -999.0,  6.7576,-999.000
     09FA290_2,  PR11,    56,  1,   -999,     46,2,19900312,0815,-28.2472, 168.9172, 3284,    948.8,   5.3540,  34.4510,2,  34.4540,2,    183.3,2,    186.9,2,    37.56,2,    31.42,2,     2.07,2,    55.6,  5.2728,   5.400
     09FA290_2,  PR11,    56,  1,   -999,     27,2,19900312,0815,-28.2472, 168.9172, 3284,    997.7,   4.9290,  34.4600,2,  34.4620,2,    182.9,2,    180.4,2,    45.75,2,    32.57,2,     2.14,2,  -999.0,  4.8465,-999.000
     09FA290_2,  PR11,    56,  1,   -999,     28,2,19900312,0815,-28.2472, 168.9172, 3284,   1148.8,   4.1340,  34.4900,2,  34.4910,2,    174.6,2,    172.8,2,    63.44,2,    34.55,2,     2.28,2,  -999.0,  4.0446,-999.000
     09FA290_2,  PR11,    56,  1,   -999,      5,2,19900312,0815,-28.2472, 168.9172, 3284,   1387.9,   3.3130,  34.5520,2,  34.5520,2,    161.4,2,    161.7,2,    86.21,2,    35.86,2,     2.39,2,  -999.0,  3.2111,-999.000
     09FA290_2,  PR11,    56,  1,   -999,     31,2,19900312,0815,-28.2472, 168.9172, 3284,   1498.4,   3.0260,  34.5740,2,  34.5750,2,    159.1,2,    158.6,2,    94.31,2,    36.52,2,     2.43,2,  -999.0,  2.9180,-999.000
     09FA290_2,  PR11,    56,  1,   -999,     44,2,19900312,0815,-28.2472, 168.9172, 3284,   1498.4,   3.0260,  34.5740,2,  34.5750,2,    159.1,2,    158.9,2,    94.31,2,    36.52,2,     2.43,2,  -999.0,  2.9180,-999.000
     09FA290_2,  PR11,    56,  1,   -999,     26,2,19900312,0815,-28.2472, 168.9172, 3284,   1749.2,   2.6140,  34.6090,2,  34.6070,2,    156.4,2,    153.8,2,   107.59,2,    37.50,2,     2.48,2,  -999.0,  2.4899,-999.000
     09FA290_2,  PR11,    56,  1,   -999,     40,2,19900312,0815,-28.2472, 168.9172, 3284,   1999.3,   2.3250,  34.6340,2,  34.6340,2,    154.3,2,    152.1,2,   115.88,2,    37.67,2,     2.51,2,  -999.0,  2.1837,-999.000
     09FA290_2,  PR11,    56,  1,   -999,     36,2,19900312,0815,-28.2472, 168.9172, 3284,   2468.2,   2.0160,  34.6630,2,  34.6610,2,    153.8,2,    154.1,2,   124.38,2,    37.50,2,     2.51,2,  -999.0,  1.8382,-999.000
     09FA290_2,  PR11,    56,  1,   -999,     41,2,19900312,0815,-28.2472, 168.9172, 3284,   2748.6,   1.9130,  34.6740,2,  34.6710,2,    152.7,2,    153.0,2,   129.47,2,    37.83,2,     2.53,2,  -999.0,  1.7112,-999.000
     09FA290_2,  PR11,    56,  1,   -999,     12,2,19900312,0815,-28.2472, 168.9172, 3284,   2996.8,   1.8780,  34.6790,2,  34.6760,2,    157.5,2,    155.2,2,   131.17,2,    37.67,2,     2.53,2,    14.1,  1.6532,   1.866
     09FA290_2,  PR11,    56,  1,   -999,     34,2,19900312,0815,-28.2472, 168.9172, 3284,   3272.1,   1.8730,  34.6830,2,  34.6790,2,    158.3,2,    153.0,2,   131.17,2,    37.67,2,     2.53,2,  -999.0,  1.6209,-999.000
     09FA290_2,  PR11,    57,  1,   -999,      6,2,19900312,1413,-28.2215, 168.1605, 3203,      4.1,  24.7370,  35.5670,2,  35.5670,2,    215.1,2,    210.1,2,     1.00,2,     0.17,2,     0.12,2,  -999.0, 24.7361,  24.731
     09FA290_2,  PR11,    57,  1,   -999,     24,2,19900312,1413,-28.2215, 168.1605, 3203,     61.5,  19.9970,  35.6380,2,  35.6370,2,    232.9,2,    230.8,2,     1.20,2,     0.17,2,     0.17,2,  -999.0, 19.9856,-999.000
     09FA290_2,  PR11,    57,  1,   -999,     18,2,19900312,1413,-28.2215, 168.1605, 3203,    198.6,  16.6700,  35.5100,2,  35.5120,2,    190.3,2,    196.4,2,     2.30,2,     6.28,2,     0.54,2,  -999.0, 16.6375,-999.000
     09FA290_2,  PR11,    57,  1,   -999,     43,2,19900312,1413,-28.2215, 168.1605, 3203,    349.4,  13.2170,  35.1590,2,  35.1610,2,    184.3,2,    184.7,2,     4.90,2,    13.40,2,     0.96,2,  -999.0, 13.1681,-999.000
     09FA290_2,  PR11,    57,  1,   -999,     25,2,19900312,1413,-28.2215, 168.1605, 3203,    498.3,  10.4890,  34.8250,2,  34.8310,2,    187.3,2,    189.6,2,     7.69,2,    18.85,2,     1.30,2,  -999.0, 10.4287,-999.000
     09FA290_2,  PR11,    57,  1,   -999,     42,2,19900312,1413,-28.2215, 168.1605, 3203,    598.1,   8.8730,  34.6670,2,  34.6630,2,    191.3,2,    193.9,2,    11.49,2,    22.49,2,     1.53,2,  -999.0,  8.8074,-999.000
     09FA290_2,  PR11,    57,  1,   -999,      8,2,19900312,1413,-28.2215, 168.1605, 3203,    838.3,   6.3220,  34.4840,2,  34.4880,2,    184.9,2,    191.4,2,    26.27,2,    28.60,2,     1.91,2,  -999.0,  6.2448,-999.000
     09FA290_2,  PR11,    57,  1,   -999,     46,2,19900312,1413,-28.2215, 168.1605, 3203,    998.2,   5.5430,  34.4870,2,  34.4900,2,    175.1,2,    183.3,2,    38.26,2,    30.76,2,     2.07,2,  -999.0,  5.4558,   5.574
     09FA290_2,  PR11,    57,  1,   -999,     27,2,19900312,1413,-28.2215, 168.1605, 3203,   1182.6,   4.4040,  34.5020,2,  34.5060,2,    172.1,2,    173.3,2,    56.94,2,    33.40,2,     2.23,2,  -999.0,  4.3092,-999.000
     09FA290_2,  PR11,    57,  1,   -999,     28,2,19900312,1413,-28.2215, 168.1605, 3203,   1410.8,   3.4140,  34.5540,2,  34.5570,2,    163.5,2,    162.1,2,    78.12,2,    35.38,2,     2.40,2,  -999.0,  3.3091,-999.000
     09FA290_2,  PR11,    57,  1,   -999,      5,2,19900312,1413,-28.2215, 168.1605, 3203,   1499.0,   3.1880,  34.5700,2,  34.5700,2,    160.1,2,    160.7,2,    84.72,2,    35.88,2,     2.42,2,  -999.0,  3.0781,-999.000
     09FA290_2,  PR11,    57,  1,   -999,     31,2,19900312,1413,-28.2215, 168.1605, 3203,   1499.0,   3.1880,  34.5700,2,  34.5700,2,    160.1,2,    160.7,2,    86.41,2,    35.71,2,     2.42,2,  -999.0,  3.0781,-999.000
     09FA290_2,  PR11,    57,  1,   -999,     44,2,19900312,1413,-28.2215, 168.1605, 3203,   1748.6,   2.6830,  34.6030,2,  34.6030,2,    152.2,2,    156.1,2,    99.60,2,    36.70,2,     2.48,2,  -999.0,  2.5581,-999.000
     09FA290_2,  PR11,    57,  1,   -999,     26,2,19900312,1413,-28.2215, 168.1605, 3203,   1998.6,   2.3390,  34.6320,2,  34.6300,2,    150.8,2,    153.5,2,   109.69,2,    37.03,2,     2.51,2,  -999.0,  2.1975,-999.000
     09FA290_2,  PR11,    57,  1,   -999,     40,2,19900312,1413,-28.2215, 168.1605, 3203,   2418.8,   2.0330,  34.6610,2,  34.6590,2,    151.6,2,    153.5,2,   119.68,2,    37.37,2,     2.53,2,  -999.0,  1.8594,-999.000
     09FA290_2,  PR11,    57,  1,   -999,     36,2,19900312,1413,-28.2215, 168.1605, 3203,   2497.7,   1.9770,  34.6660,2,  34.6660,2,    148.7,2,    154.1,2,   121.38,2,    37.37,2,     2.51,2,  -999.0,  1.7973,-999.000
     09FA290_2,  PR11,    57,  1,   -999,     41,2,19900312,1413,-28.2215, 168.1605, 3203,   2748.4,   1.9120,  34.6730,2,  34.6720,2,    150.5,2,    153.5,2,   123.08,2,    37.20,2,     2.53,2,  -999.0,  1.7103,-999.000
     09FA290_2,  PR11,    57,  1,   -999,     12,2,19900312,1413,-28.2215, 168.1605, 3203,   2998.5,   1.8590,  34.6790,2,  34.6760,2,    153.4,2,    154.3,2,   124.68,2,    37.37,2,     2.51,2,    11.6,  1.6344,   1.878
     09FA290_2,  PR11,    57,  1,   -999,     34,2,19900312,1413,-28.2215, 168.1605, 3203,   3199.9,   1.8740,  34.6810,2,  34.6760,2,    150.8,2,    154.9,2,   123.08,2,    37.03,2,     2.51,2,  -999.0,  1.6292,-999.000
     09FA290_2,  PR11,    58,  1,   -999,      6,2,19900312,2020,-28.2540, 167.5957, 1091,      4.4,  24.2140,  35.5900,2,  35.5890,2,    222.5,2,    210.4,2,     1.10,2,     0.17,2,     0.12,2,  -999.0, 24.2131,  24.210
     09FA290_2,  PR11,    58,  1,   -999,     27,2,19900312,2020,-28.2540, 167.5957, 1091,     23.9,  23.7080,  35.5950,2,  35.5930,2,    211.8,2,    214.4,2,     0.90,2,     0.17,2,     0.12,2,  -999.0, 23.7030,-999.000
     09FA290_2,  PR11,    58,  1,   -999,     28,2,19900312,2020,-28.2540, 167.5957, 1091,     98.7,  17.5100,  35.5470,2,  35.5430,2,    204.4,2,    209.3,2,     1.50,2,     3.32,2,     0.39,2,  -999.0, 17.4933,-999.000
     09FA290_2,  PR11,    58,  1,   -999,      5,2,19900312,2020,-28.2540, 167.5957, 1091,    148.0,  16.6650,  35.5130,2,  35.5080,2,    192.7,2,    195.5,2,     2.20,2,     6.13,2,     0.56,2,  -999.0, 16.6408,-999.000
     09FA290_2,  PR11,    58,  1,   -999,     31,2,19900312,2020,-28.2540, 167.5957, 1091,    199.5,  16.0870,  35.4650,2,  35.4610,2,    189.8,2,    194.1,2,     2.50,2,     7.13,2,     0.62,2,  -999.0, 16.0552,-999.000
     09FA290_2,  PR11,    58,  1,   -999,     44,2,19900312,2020,-28.2540, 167.5957, 1091,    307.7,  13.8510,  35.2530,2,  35.2520,2,    191.9,2,    190.4,2,     4.10,2,    11.45,2,     0.86,2,  -999.0, 13.8066,-999.000
     09FA290_2,  PR11,    58,  1,   -999,     26,2,19900312,2020,-28.2540, 167.5957, 1091,    397.8,  11.7380,  35.0140,2,  35.0110,2,    190.2,2,    189.0,2,     6.49,2,    15.92,2,     1.13,2,  -999.0, 11.6864,-999.000
     09FA290_2,  PR11,    58,  1,   -999,     40,2,19900312,2020,-28.2540, 167.5957, 1091,    498.3,   9.6040,  34.7290,2,  34.7310,2,    188.2,2,    192.5,2,     8.69,2,    20.41,2,     1.42,2,  -999.0,  9.5469,-999.000
     09FA290_2,  PR11,    58,  1,   -999,     36,2,19900312,2020,-28.2540, 167.5957, 1091,    598.5,   7.8070,  34.5500,2,  34.5530,2,    200.6,2,    198.8,2,    13.09,2,    24.23,2,     1.67,2,  -999.0,  7.7461,-999.000
     09FA290_2,  PR11,    58,  1,   -999,     10,2,19900312,2020,-28.2540, 167.5957, 1091,    798.9,   6.5580,  34.4870,2,  34.4910,2,    195.1,2,    194.2,2,    22.98,2,    27.54,2,     1.87,2,  -999.0,  6.4832,-999.000
     09FA290_2,  PR11,    58,  1,   -999,     41,2,19900312,2020,-28.2540, 167.5957, 1091,    905.2,   5.8680,  34.4660,2,  34.4730,2,    191.4,2,    190.5,2,    30.57,2,    29.20,2,     1.99,2,  -999.0,  5.7873,-999.000
     09FA290_2,  PR11,    58,  1,   -999,     12,2,19900312,2020,-28.2540, 167.5957, 1091,    999.5,   5.0680,  34.4710,2,  34.4730,2,    183.1,2,    181.9,2,    42.26,2,    31.36,2,     2.14,2,    11.5,  4.9843,   5.084
     09FA290_2,  PR11,    58,  1,   -999,     34,2,19900312,2020,-28.2540, 167.5957, 1091,   1050.1,   4.9750,  34.4740,2,  34.4800,2,    179.6,2,    179.6,2,    43.86,2,    31.36,2,     2.14,2,  -999.0,  4.8874,-999.000
     09FA290_2,  PR11,    59,  1,   -999,      6,2,19900312,2311,-28.2692, 167.1880, 2038,      2.7,  24.9120,  35.5510,2,  35.5500,2,    211.2,2,    209.0,2,     0.60,2,     0.17,2,     0.11,2,  -999.0, 24.9114,  25.058
     09FA290_2,  PR11,    59,  1,   -999,      9,2,19900312,2311,-28.2692, 167.1880, 2038,     54.2,  22.3990,  35.6260,2,  35.6260,2,    226.5,2,    223.9,2,     0.80,2,     0.17,2,     0.28,2,  -999.0, 22.3881,-999.000
     09FA290_2,  PR11,    59,  1,   -999,     29,2,19900312,2311,-28.2692, 167.1880, 2038,     97.9,  18.6610,  35.6010,2,  35.6030,2,    221.1,2,    218.7,2,     1.10,2,     1.00,2,     0.26,2,  -999.0, 18.6437,-999.000
     09FA290_2,  PR11,    59,  1,   -999,     27,2,19900312,2311,-28.2692, 167.1880, 2038,    198.2,  15.6050,  35.4310,2,  35.4310,2,    188.9,2,    196.4,2,     2.70,2,     7.82,2,     0.65,2,  -999.0, 15.5741,-999.000
     09FA290_2,  PR11,    59,  1,   -999,     28,2,19900312,2311,-28.2692, 167.1880, 2038,    312.2,  13.3170,  35.1940,2,  35.2020,2,    185.5,2,    188.1,2,     4.50,2,    12.49,2,     0.93,2,  -999.0, 13.2731,-999.000
     09FA290_2,  PR11,    59,  1,   -999,      5,2,19900312,2311,-28.2692, 167.1880, 2038,    398.0,  11.5960,  34.9940,2,  34.9950,2,    183.1,2,    189.3,2,     6.49,2,    16.31,2,     1.16,2,  -999.0, 11.5448,-999.000
     09FA290_2,  PR11,    59,  1,   -999,     31,2,19900312,2311,-28.2692, 167.1880, 2038,    498.6,   9.9530,  34.8010,2,  34.8100,2,    187.2,2,    191.0,2,     8.99,2,    19.81,2,     1.38,2,  -999.0,  9.8946,-999.000
     09FA290_2,  PR11,    59,  1,   -999,     44,2,19900312,2311,-28.2692, 167.1880, 2038,    596.6,   8.5570,  34.6390,2,  34.6480,2,    185.6,2,    193.9,2,    12.09,2,    22.81,2,     1.58,2,  -999.0,  8.4929,-999.000
     09FA290_2,  PR11,    59,  1,   -999,     26,2,19900312,2311,-28.2692, 167.1880, 2038,    850.0,   6.2380,  34.4590,2,  34.4610,2,    188.7,2,    194.5,2,    24.88,2,    28.64,2,     1.94,2,  -999.0,  6.1602,-999.000
     09FA290_2,  PR11,    59,  1,   -999,     40,2,19900312,2311,-28.2692, 167.1880, 2038,    998.4,   5.1110,  34.4670,2,  34.4700,2,    176.6,2,    182.5,2,    41.96,2,    31.64,2,     2.16,2,  -999.0,  5.0270,-999.000
     09FA290_2,  PR11,    59,  1,   -999,     36,2,19900312,2311,-28.2692, 167.1880, 2038,   1170.2,   4.1790,  34.5090,2,  34.5070,2,    171.2,2,    170.1,2,    60.04,2,    33.80,2,     2.31,2,  -999.0,  4.0874,-999.000
     09FA290_2,  PR11,    59,  1,   -999,     10,2,19900312,2311,-28.2692, 167.1880, 2038,   1433.5,   3.2790,  34.5700,2,  34.5770,2,    159.7,2,    158.1,2,    81.62,2,    35.46,2,     2.45,2,  -999.0,  3.1736,-999.000
     09FA290_2,  PR11,    59,  1,   -999,     41,2,19900312,2311,-28.2692, 167.1880, 2038,   1433.5,   3.2790,  34.5700,2,  34.5700,2,    159.7,2,    154.9,2,    83.22,2,    35.79,2,     2.47,2,  -999.0,  3.1736,-999.000
     09FA290_2,  PR11,    59,  1,   -999,     12,2,19900312,2311,-28.2692, 167.1880, 2038,   1746.5,   2.6610,  34.6220,2,  34.6150,2,    150.5,2,    151.5,2,    96.70,2,    36.63,2,     2.54,2,    63.1,  2.5365,   2.642
     09FA290_2,  PR11,    59,  1,   -999,     34,2,19900312,2311,-28.2692, 167.1880, 2038,   2016.4,   2.2850,  34.6550,2,-999.0000,5,    148.8,2,    152.9,2,   103.50,2,    36.66,2,     2.54,2,  -999.0,  2.1429,-999.000