BOTTLE,20020730WHPSIO
EXPOCODE,SECT_ID,STNNBR,CASTNO,SAMPNO,BTLNBR,BTLNBR_FLAG_W,DATE,TIME,LATITUDE,LONGITUDE,DEPTH,CTDPRS,CTDTMP,CTDSAL,CTDSAL_FLAG_W,SALNTY,SALNTY_FLAG_W,CTDOXY,CTDOXY_FLAG_W,OXYGEN,OXYGEN_FLAG_W,SILCAT,SILCAT_FLAG_W,NO2+NO3,NO2+NO3_FLAG_W,PHSPHT,PHSPHT_FLAG_W,REVPRS,THETA,REVTMP
,,,,,,,,,,,,DBR,ITS-90,PSS-78,,PSS-78,,UMOL/KG,,UMOL/KG,,UMOL/KG,,UMOL/KG,,UMOL/KG,,DBR,ITS-90,ITS-90
     09FA290_2,FRAN90,   101,  1,   -999,      6,2,19900327,1509,-27.6945, 160.4492, 2203,      4.4,  24.0330,  35.4920,2,  35.4950,2,    212.8,2,    210.8,2,     0.90,2,     0.21,2,     0.10,2,  -999.0, 24.0321,  24.049
     09FA290_2,FRAN90,   101,  1,   -999,      2,2,19900327,1509,-27.6945, 160.4492, 2203,     48.8,  24.0620,  35.5030,2,  35.5020,2,    210.2,2,    211.6,2,     0.90,2,     0.21,2,     0.08,2,  -999.0, 24.0517,-999.000
     09FA290_2,FRAN90,   101,  1,   -999,     27,2,19900327,1509,-27.6945, 160.4492, 2203,     97.7,  20.5460,  35.6210,2,  35.6200,2,    206.7,2,    215.1,2,     0.70,2,     0.21,2,     0.17,2,  -999.0, 20.5276,-999.000
     09FA290_2,FRAN90,   101,  1,   -999,      5,2,19900327,1509,-27.6945, 160.4492, 2203,    148.4,  19.2110,  35.6230,2,  35.6230,2,    196.0,2,    199.9,2,     1.10,2,     2.90,2,     0.33,2,  -999.0, 19.1842,-999.000
     09FA290_2,FRAN90,   101,  1,   -999,     43,2,19900327,1509,-27.6945, 160.4492, 2203,    201.7,  18.7560,  35.6250,2,  35.6250,2,    199.8,2,    198.5,2,     1.30,2,     3.72,2,     0.36,2,  -999.0, 18.7202,-999.000
     09FA290_2,FRAN90,   101,  1,   -999,     29,2,19900327,1509,-27.6945, 160.4492, 2203,    299.6,  16.5220,  35.4800,2,  35.4800,2,    185.5,2,    183.7,2,     2.60,2,     8.05,2,     0.65,2,  -999.0, 16.4732,-999.000
     09FA290_2,FRAN90,   101,  1,   -999,     24,2,19900327,1509,-27.6945, 160.4492, 2203,    397.3,  14.1000,  35.2500,2,  35.2510,2,    190.5,2,    183.4,2,     4.10,2,    11.97,2,     0.88,2,  -999.0, 14.0418,-999.000
     09FA290_2,FRAN90,   101,  1,   -999,     44,2,19900327,1509,-27.6945, 160.4492, 2203,    499.9,  11.6050,  34.9760,2,  34.9750,2,    184.2,2,    186.7,2,     6.19,2,    16.72,2,     1.18,2,  -999.0, 11.5404,-999.000
     09FA290_2,FRAN90,   101,  1,   -999,     35,2,19900327,1509,-27.6945, 160.4492, 2203,    600.1,   9.5680,  34.7420,2,  34.7410,2,    186.6,2,    190.2,2,     9.19,2,    20.85,2,     1.44,2,  -999.0,  9.4990,-999.000
     09FA290_2,FRAN90,   101,  1,   -999,     46,2,19900327,1509,-27.6945, 160.4492, 2203,    812.9,   6.7560,  34.4870,2,  34.4890,2,    191.1,2,    191.7,2,    20.78,2,    27.45,2,     1.87,2,    19.3,  6.6786,   6.774
     09FA290_2,FRAN90,   101,  1,   -999,      1,2,19900327,1509,-27.6945, 160.4492, 2203,    902.6,   5.9040,  34.4510,2,  34.4490,2,    186.5,2,    187.6,2,    28.87,2,    29.72,2,     2.10,2,  -999.0,  5.8233,-999.000
     09FA290_2,FRAN90,   101,  1,   -999,     25,2,19900327,1509,-27.6945, 160.4492, 2203,    998.8,   5.4160,  34.4680,2,  34.4670,2,    182.0,2,    180.3,2,    38.16,2,    30.96,2,     2.14,2,  -999.0,  5.3297,-999.000
     09FA290_2,FRAN90,   101,  1,   -999,      8,2,19900327,1509,-27.6945, 160.4492, 2203,   1228.6,   4.1520,  34.5080,2,  34.5100,2,    165.1,2,    167.2,2,    62.14,2,    34.06,2,     2.35,2,  -999.0,  4.0555,-999.000
     09FA290_2,FRAN90,   101,  1,   -999,     41,2,19900327,1509,-27.6945, 160.4492, 2203,   1459.4,   3.3310,  34.5660,2,  34.5680,2,    156.5,2,    153.8,2,    81.72,2,    35.50,2,     2.49,2,  -999.0,  3.2228,-999.000
     09FA290_2,FRAN90,   101,  1,   -999,     26,2,19900327,1509,-27.6945, 160.4492, 2203,   1748.5,   2.5960,  34.6350,2,  34.6330,2,    151.7,2,    151.2,2,    99.60,2,    36.32,2,     2.54,2,  -999.0,  2.4722,-999.000
     09FA290_2,FRAN90,   101,  1,   -999,     12,2,19900327,1509,-27.6945, 160.4492, 2203,   1989.2,   2.3860,  34.6610,2,  34.6600,2,    156.9,2,    157.0,2,    99.60,2,    35.91,2,     2.50,2,     3.0,  2.2445,   2.397
     09FA290_2,FRAN90,   102,  1,   -999,      6,2,19900327,2200,-27.8988, 160.9150, 2000,      5.1,  23.6740,  35.5040,2,  35.5070,2,    214.1,2,    209.3,2,     0.70,2,     0.21,2,     0.08,2,  -999.0, 23.6729,  23.683
     09FA290_2,FRAN90,   102,  1,   -999,     27,2,19900327,2200,-27.8988, 160.9150, 2000,     48.4,  23.6730,  35.5050,2,  35.5040,2,    209.7,2,    210.8,2,     0.70,2,     0.21,2,     0.07,2,  -999.0, 23.6629,-999.000
     09FA290_2,FRAN90,   102,  1,   -999,      5,2,19900327,2200,-27.8988, 160.9150, 2000,    100.0,  20.0160,  35.6420,2,  35.6420,2,    193.4,2,    208.7,2,     0.90,2,     0.62,2,     0.20,2,  -999.0, 19.9975,-999.000
     09FA290_2,FRAN90,   102,  1,   -999,     29,2,19900327,2200,-27.8988, 160.9150, 2000,    199.5,  18.5660,  35.6100,2,  35.6060,2,    196.5,2,    195.6,2,     1.50,2,     4.34,2,     0.40,2,  -999.0, 18.5308,-999.000
     09FA290_2,FRAN90,   102,  1,   -999,     24,2,19900327,2200,-27.8988, 160.9150, 2000,    297.5,  16.1600,  35.4530,2,  35.4540,2,    187.5,2,    185.2,2,     2.60,2,     8.25,2,     0.65,2,  -999.0, 16.1123,-999.000
     09FA290_2,FRAN90,   102,  1,   -999,     44,2,19900327,2200,-27.8988, 160.9150, 2000,    398.2,  13.9270,  35.2940,2,  35.2920,2,    194.7,2,    196.5,2,     3.50,2,    10.32,2,     0.80,2,  -999.0, 13.8691,-999.000
     09FA290_2,FRAN90,   102,  1,   -999,     36,2,19900327,2200,-27.8988, 160.9150, 2000,    498.4,  11.0830,  34.9170,2,  34.9210,2,    189.0,2,    186.7,2,     6.79,2,    17.75,2,     1.21,2,  -999.0, 11.0205,-999.000
     09FA290_2,FRAN90,   102,  1,   -999,     46,2,19900327,2200,-27.8988, 160.9150, 2000,    601.1,   9.5230,  34.7390,2,  34.7460,2,    190.7,2,    189.3,2,     9.79,2,    21.05,2,     1.44,2,     6.8,  9.4541,   9.555
     09FA290_2,FRAN90,   102,  1,   -999,      1,2,19900327,2200,-27.8988, 160.9150, 2000,    799.7,   7.0400,  34.5070,2,  34.5180,2,    190.1,2,    190.2,2,    19.98,2,    26.83,2,     1.82,2,  -999.0,  6.9622,-999.000
     09FA290_2,FRAN90,   102,  1,   -999,     25,2,19900327,2200,-27.8988, 160.9150, 2000,    999.2,   5.5880,  34.4770,2,  34.4810,2,    175.2,2,    180.0,2,    37.86,2,    30.55,2,     2.09,2,  -999.0,  5.5003,-999.000
     09FA290_2,FRAN90,   102,  1,   -999,      8,2,19900327,2200,-27.8988, 160.9150, 2000,   1199.2,   4.3210,  34.4980,2,  34.4980,2,    170.7,2,    169.0,2,    56.34,2,    33.23,2,     2.30,2,  -999.0,  4.2255,-999.000
     09FA290_2,FRAN90,   102,  1,   -999,     41,2,19900327,2200,-27.8988, 160.9150, 2000,   1398.0,   3.3640,  34.5620,2,  34.5600,2,    155.7,2,    152.7,2,    83.72,2,    35.29,2,     2.47,2,  -999.0,  3.2607,-999.000
     09FA290_2,FRAN90,   102,  1,   -999,     26,2,19900327,2200,-27.8988, 160.9150, 2000,   1498.0,   3.0740,  34.5860,2,  34.5840,2,    149.5,2,    151.5,2,    91.61,2,    35.70,2,     2.52,2,  -999.0,  2.9654,-999.000
     09FA290_2,FRAN90,   102,  1,   -999,     12,2,19900327,2200,-27.8988, 160.9150, 2000,   1749.6,   2.6670,  34.6250,2,  34.6210,2,    150.6,2,    149.4,2,    99.60,2,    35.91,2,     2.54,2,    59.5,  2.5422,   2.665
     09FA290_2,FRAN90,   102,  1,   -999,     34,2,19900327,2200,-27.8988, 160.9150, 2000,   1996.4,   2.3810,  34.6590,2,  34.6540,2,    156.1,2,    157.6,2,   101.60,2,    35.66,2,     2.47,2,  -999.0,  2.2390,-999.000
     09FA290_2,FRAN90,   103,  1,   -999,      6,2,19900328,0420,-28.1493, 161.5833, 1477,      4.2,  23.7090,  35.4290,2,  35.4290,2,    213.9,2,    209.0,2,     0.80,2,     0.21,2,     0.10,2,  -999.0, 23.7081,  23.700
     09FA290_2,FRAN90,   103,  1,   -999,      5,2,19900328,0420,-28.1493, 161.5833, 1477,     48.8,  23.1160,  35.4900,2,  35.4620,2,    212.4,2,    211.6,2,     0.60,2,     0.21,2,     0.10,2,  -999.0, 23.1060,-999.000
     09FA290_2,FRAN90,   103,  1,   -999,     43,2,19900328,0420,-28.1493, 161.5833, 1477,     99.5,  19.5590,  35.6210,2,  35.6190,2,    201.9,2,    199.1,2,     0.90,2,     2.10,2,     0.29,2,  -999.0, 19.5409,-999.000
     09FA290_2,FRAN90,   103,  1,   -999,     29,2,19900328,0420,-28.1493, 161.5833, 1477,    148.9,  18.8550,  35.6110,2,  35.6110,2,    193.7,2,    196.8,2,     1.10,2,     3.78,2,     0.36,2,  -999.0, 18.8285,-999.000
     09FA290_2,FRAN90,   103,  1,   -999,     24,2,19900328,0420,-28.1493, 161.5833, 1477,    198.5,  17.8330,  35.5660,2,  35.5730,2,    188.2,2,    187.5,2,     1.60,2,     5.87,2,     0.49,2,  -999.0, 17.7990,-999.000
     09FA290_2,FRAN90,   103,  1,   -999,     44,2,19900328,0420,-28.1493, 161.5833, 1477,    299.8,  15.0670,  35.3610,2,  35.3640,2,    187.5,2,    182.8,2,     2.90,2,    10.27,2,     0.77,2,  -999.0, 15.0212,-999.000
     09FA290_2,FRAN90,   103,  1,   -999,     36,2,19900328,0420,-28.1493, 161.5833, 1477,    358.7,  14.0000,  35.2650,2,  35.2740,2,    191.1,2,    184.9,2,     3.60,2,    11.74,2,     0.85,2,  -999.0, 13.9477,-999.000
     09FA290_2,FRAN90,   103,  1,   -999,     46,2,19900328,0420,-28.1493, 161.5833, 1477,    408.8,  12.5830,  35.1080,2,  35.1030,2,    183.3,2,    185.8,2,     4.60,2,    14.47,2,     1.03,2,    14.4, 12.5275,  12.611
     09FA290_2,FRAN90,   103,  1,   -999,      1,2,19900328,0420,-28.1493, 161.5833, 1477,    499.8,  11.2050,  34.9500,2,  34.9500,2,    191.1,2,    189.0,2,     5.99,2,    16.98,2,     1.18,2,  -999.0, 11.1418,-999.000
     09FA290_2,FRAN90,   103,  1,   -999,     25,2,19900328,0420,-28.1493, 161.5833, 1477,    600.2,   9.4170,  34.7300,2,  34.7320,2,    191.7,2,    191.1,2,     9.29,2,    21.18,2,     1.44,2,  -999.0,  9.3487,-999.000
     09FA290_2,FRAN90,   103,  1,   -999,      8,2,19900328,0420,-28.1493, 161.5833, 1477,    800.8,   7.3050,  34.5420,2,  34.5430,2,    189.5,2,    187.9,2,    19.68,2,    26.41,2,     1.79,2,  -999.0,  7.2255,-999.000
     09FA290_2,FRAN90,   103,  1,   -999,     41,2,19900328,0420,-28.1493, 161.5833, 1477,   1029.3,   5.3340,  34.4750,2,  34.4770,2,    179.4,2,    178.6,2,    41.06,2,    31.24,2,     2.11,2,  -999.0,  5.2455,-999.000
     09FA290_2,FRAN90,   103,  1,   -999,     26,2,19900328,0420,-28.1493, 161.5833, 1477,   1228.4,   4.1170,  34.5160,2,  34.5180,2,    167.2,2,    165.5,2,    57.74,2,    33.76,2,     2.33,2,  -999.0,  4.0208,-999.000
     09FA290_2,FRAN90,   103,  1,   -999,     12,2,19900328,0420,-28.1493, 161.5833, 1477,   1408.1,   3.4220,  34.5610,2,  34.5600,2,    158.5,2,    156.1,2,    78.42,2,    35.22,2,     2.44,2,  -999.0,  3.3172,-999.000
     09FA290_2,FRAN90,   103,  1,   -999,     34,2,19900328,0420,-28.1493, 161.5833, 1477,   1468.6,   2.9870,  34.5960,2,  34.5930,2,    153.1,2,    152.7,2,    89.01,2,    35.85,2,     2.49,2,  -999.0,  2.8819,-999.000
     09FA290_2,FRAN90,   104,  1,   -999,     10,2,19900328,1058,-28.4285, 162.2858, 1524,      1.6,  23.6590,  35.3950,2,-999.0000,5,    212.3,2,   -999.0,5,  -999.00,5,  -999.00,5,  -999.00,5,  -999.0, 23.6587,-999.000
     09FA290_2,FRAN90,   104,  1,   -999,      6,2,19900328,1058,-28.4285, 162.2858, 1524,      1.6,  23.6590,  35.3950,2,  35.3970,2,    212.3,2,    209.9,2,     0.60,2,     0.20,2,     0.10,2,  -999.0, 23.6587,  23.660
     09FA290_2,FRAN90,   104,  1,   -999,      5,2,19900328,1058,-28.4285, 162.2858, 1524,     47.8,  23.6730,  35.3980,2,  35.3950,2,    193.9,2,    210.5,2,     0.50,2,     0.20,2,     0.08,2,  -999.0, 23.6630,-999.000
     09FA290_2,FRAN90,   104,  1,   -999,     43,2,19900328,1058,-28.4285, 162.2858, 1524,     98.5,  19.4810,  35.6290,2,  35.6280,2,    194.2,2,    196.8,2,     0.90,2,     2.50,2,     0.29,2,  -999.0, 19.4631,-999.000
     09FA290_2,FRAN90,   104,  1,   -999,     29,2,19900328,1058,-28.4285, 162.2858, 1524,    148.8,  18.8290,  35.6180,2,  35.6170,2,    187.7,2,    198.6,2,     0.90,2,     3.80,2,     0.41,2,  -999.0, 18.8026,-999.000
     09FA290_2,FRAN90,   104,  1,   -999,     24,2,19900328,1058,-28.4285, 162.2858, 1524,    197.8,  18.0130,  35.5790,2,  35.5840,2,    186.8,2,    190.1,2,     1.30,2,     5.87,2,     0.46,2,  -999.0, 17.9789,-999.000
     09FA290_2,FRAN90,   104,  1,   -999,     44,2,19900328,1058,-28.4285, 162.2858, 1524,    299.0,  15.8770,  35.4440,2,  35.4440,2,    188.0,2,    184.9,2,     2.20,2,     9.43,2,     0.67,2,  -999.0, 15.8296,-999.000
     09FA290_2,FRAN90,   104,  1,   -999,     36,2,19900328,1058,-28.4285, 162.2858, 1524,    389.0,  13.8030,  35.2300,2,  35.2320,2,    186.2,2,    184.0,2,     3.60,2,    13.21,2,     0.90,2,  -999.0, 13.7468,-999.000
     09FA290_2,FRAN90,   104,  1,   -999,     46,2,19900328,1058,-28.4285, 162.2858, 1524,    498.2,  11.1970,  34.9180,2,  34.9250,2,    189.7,2,    186.1,2,     5.99,2,    18.03,2,     1.21,2,     5.1, 11.1341,  11.249
     09FA290_2,FRAN90,   104,  1,   -999,      1,2,19900328,1058,-28.4285, 162.2858, 1524,    599.3,   9.2090,  34.6850,2,  34.6850,2,    194.0,2,    191.1,2,     9.29,2,    21.60,2,     1.47,2,  -999.0,  9.1417,-999.000
     09FA290_2,FRAN90,   104,  1,   -999,     25,2,19900328,1058,-28.4285, 162.2858, 1524,    701.0,   8.1580,  34.5870,2,  34.5870,2,    187.1,2,    195.5,2,    12.29,2,    24.32,2,     1.61,2,  -999.0,  8.0844,-999.000
     09FA290_2,FRAN90,   104,  1,   -999,      8,2,19900328,1058,-28.4285, 162.2858, 1524,    799.7,   7.0840,  34.5360,2,  34.5370,2,    179.9,2,    185.3,2,    21.38,2,    27.67,2,     1.84,2,  -999.0,  7.0059,-999.000
     09FA290_2,FRAN90,   104,  1,   -999,     41,2,19900328,1058,-28.4285, 162.2858, 1524,   1019.0,   5.3620,  34.4720,2,  34.4720,2,    166.6,2,    180.3,2,    40.06,2,    31.45,2,     2.11,2,  -999.0,  5.2742,-999.000
     09FA290_2,FRAN90,   104,  1,   -999,     26,2,19900328,1058,-28.4285, 162.2858, 1524,   1218.7,   4.1630,  34.5140,2,  34.5130,2,    158.1,2,    166.6,2,    57.74,2,    34.18,2,     2.31,2,  -999.0,  4.0673,-999.000
     09FA290_2,FRAN90,   104,  1,   -999,     12,2,19900328,1058,-28.4285, 162.2858, 1524,   1417.3,   3.3110,  34.5730,2,  34.5700,2,    153.9,2,    156.4,2,    78.42,2,    35.64,2,     2.46,2,    33.4,  3.2066,   3.308
     09FA290_2,FRAN90,   104,  1,   -999,     34,2,19900328,1058,-28.4285, 162.2858, 1524,   1517.2,   3.0540,  34.5930,2,  34.5920,2,    153.9,2,    153.8,2,    86.91,2,    35.43,2,     2.47,2,  -999.0,  2.9440,-999.000
     09FA290_2,FRAN90,   105,  1,   -999,     24,2,19900328,1326,-28.4247, 162.2868, 1526,   1056.5,   5.0280,  34.4770,2,  34.4780,2,    177.5,2,    177.1,2,    45.95,2,    31.66,2,     2.21,2,  -999.0,  4.9394,-999.000
     09FA290_2,FRAN90,   105,  1,   -999,     46,2,19900328,1326,-28.4247, 162.2868, 1526,   1056.5,   5.0280,  34.4770,2,  34.4760,2,    177.5,2,    177.7,2,    45.95,2,    32.09,2,     2.31,2,  -999.0,  4.9394,-999.000
     09FA290_2,FRAN90,   105,  1,   -999,      5,2,19900328,1326,-28.4247, 162.2868, 1526,   1056.5,   5.0280,  34.4770,2,  34.4770,2,    177.5,2,    177.1,2,    45.75,2,    31.87,2,     2.21,2,  -999.0,  4.9394,-999.000
     09FA290_2,FRAN90,   105,  1,   -999,      6,2,19900328,1326,-28.4247, 162.2868, 1526,   1056.5,   5.0280,  34.4770,2,  34.4780,2,    177.5,2,    177.4,2,    45.75,2,    31.87,2,     2.19,2,  -999.0,  4.9394,-999.000
     09FA290_2,FRAN90,   105,  1,   -999,     10,2,19900328,1326,-28.4247, 162.2868, 1526,   1056.5,   5.0280,  34.4770,2,  34.4790,2,    177.5,2,    178.3,2,    45.15,2,    31.66,2,     2.17,2,  -999.0,  4.9394,-999.000
     09FA290_2,FRAN90,   105,  1,   -999,     18,2,19900328,1326,-28.4247, 162.2868, 1526,   1056.5,   5.0280,  34.4770,2,  34.4780,2,    177.5,2,    178.3,2,    45.65,2,    31.87,2,     2.19,2,  -999.0,  4.9394,-999.000
     09FA290_2,FRAN90,   105,  1,   -999,     27,2,19900328,1326,-28.4247, 162.2868, 1526,   1056.5,   5.0280,  34.4770,2,  34.4770,2,    177.5,2,    177.4,2,    45.15,2,    31.66,2,     2.19,2,  -999.0,  4.9394,-999.000
     09FA290_2,FRAN90,   105,  1,   -999,     35,2,19900328,1326,-28.4247, 162.2868, 1526,   1056.5,   5.0280,  34.4770,2,  34.4760,2,    177.5,2,    178.0,2,    45.15,2,    31.87,2,     2.19,2,  -999.0,  4.9394,-999.000
     09FA290_2,FRAN90,   105,  1,   -999,     37,2,19900328,1326,-28.4247, 162.2868, 1526,   1056.5,   5.0280,  34.4770,2,  34.4740,2,    177.5,2,    178.0,2,    45.45,2,    32.51,2,     2.19,2,  -999.0,  4.9394,-999.000
     09FA290_2,FRAN90,   105,  1,   -999,     40,2,19900328,1326,-28.4247, 162.2868, 1526,   1056.5,   5.0280,  34.4770,2,  34.4760,2,    177.5,2,    177.7,2,    45.15,2,    31.87,2,     2.19,2,  -999.0,  4.9394,-999.000
     09FA290_2,FRAN90,   105,  1,   -999,     42,2,19900328,1326,-28.4247, 162.2868, 1526,   1056.5,   5.0280,  34.4770,2,  34.4820,2,    177.5,2,    178.6,2,    45.15,2,    31.66,2,     2.19,2,  -999.0,  4.9394,-999.000
     09FA290_2,FRAN90,   105,  1,   -999,     43,2,19900328,1326,-28.4247, 162.2868, 1526,   1056.5,   5.0280,  34.4770,2,  34.4780,2,    177.5,2,    176.8,2,    45.75,2,    31.87,2,     2.21,2,  -999.0,  4.9394,-999.000
     09FA290_2,FRAN90,   105,  1,   -999,     45,2,19900328,1326,-28.4247, 162.2868, 1526,   1056.5,   5.0280,  34.4770,2,  34.4730,2,    177.5,2,    178.3,2,    45.25,2,    32.51,2,     2.19,2,  -999.0,  4.9394,-999.000
     09FA290_2,FRAN90,   105,  1,   -999,     34,2,19900328,1326,-28.4247, 162.2868, 1526,   1056.5,   5.0280,  34.4770,2,  34.4760,2,    177.5,2,    178.3,2,    44.96,2,    31.67,2,     2.19,2,  -999.0,  4.9394,-999.000
     09FA290_2,FRAN90,   105,  1,   -999,     29,2,19900328,1326,-28.4247, 162.2868, 1526,   1056.5,   5.0280,  34.4770,2,  34.4760,2,    177.5,2,    178.0,2,    45.95,2,    32.09,2,     2.21,2,  -999.0,  4.9394,-999.000
     09FA290_2,FRAN90,   105,  1,   -999,      1,2,19900328,1326,-28.4247, 162.2868, 1526,   1056.5,   5.0280,  34.4770,2,  34.4750,2,    177.5,2,    176.8,2,    45.95,2,    31.87,2,     2.21,2,  -999.0,  4.9394,-999.000
     09FA290_2,FRAN90,   105,  1,   -999,     25,2,19900328,1326,-28.4247, 162.2868, 1526,   1056.5,   5.0280,  34.4770,2,  34.4750,2,    177.5,2,    178.0,2,    45.75,2,    31.87,2,     2.19,2,  -999.0,  4.9394,-999.000
     09FA290_2,FRAN90,   105,  1,   -999,      8,2,19900328,1326,-28.4247, 162.2868, 1526,   1056.5,   5.0280,  34.4770,2,  34.4750,2,    177.5,2,    177.4,2,    45.45,2,    31.87,2,     2.19,2,  -999.0,  4.9394,-999.000
     09FA290_2,FRAN90,   105,  1,   -999,     26,2,19900328,1326,-28.4247, 162.2868, 1526,   1056.5,   5.0280,  34.4770,2,  34.4770,2,    177.5,2,    178.0,2,    45.15,2,    31.66,2,     2.19,2,  -999.0,  4.9394,-999.000
     09FA290_2,FRAN90,   105,  1,   -999,     41,2,19900328,1326,-28.4247, 162.2868, 1526,   1056.5,   5.0280,  34.4770,2,  34.4770,2,    177.5,2,    178.0,2,    45.45,2,    31.87,2,     2.19,2,  -999.0,  4.9394,-999.000
     09FA290_2,FRAN90,   105,  1,   -999,     12,2,19900328,1326,-28.4247, 162.2868, 1526,   1056.5,   5.0280,  34.4770,2,  34.4760,2,    177.5,2,    177.7,2,    45.15,2,    31.87,2,     2.19,2,  -999.0,  4.9394,-999.000