BOTTLE,20020730WHPSIO
EXPOCODE,SECT_ID,STNNBR,CASTNO,SAMPNO,BTLNBR,BTLNBR_FLAG_W,DATE,TIME,LATITUDE,LONGITUDE,DEPTH,CTDPRS,CTDTMP,CTDSAL,CTDSAL_FLAG_W,SALNTY,SALNTY_FLAG_W,CTDOXY,CTDOXY_FLAG_W,OXYGEN,OXYGEN_FLAG_W,SILCAT,SILCAT_FLAG_W,NO2+NO3,NO2+NO3_FLAG_W,PHSPHT,PHSPHT_FLAG_W,REVPRS,THETA,REVTMP
,,,,,,,,,,,,DBR,ITS-90,PSS-78,,PSS-78,,UMOL/KG,,UMOL/KG,,UMOL/KG,,UMOL/KG,,UMOL/KG,,DBR,ITS-90,ITS-90
     09FA290_2,  PR11,    83,  1,   -999,      6,2,19900317,2115,-29.1635, 153.8872,  882,      5.8,  25.7250,  35.1710,2,  35.1730,2,    205.2,2,    199.7,2,     0.70,2,     0.17,2,     0.11,2,  -999.0, 25.7237,  25.742
     09FA290_2,  PR11,    83,  1,   -999,     26,2,19900317,2115,-29.1635, 153.8872,  882,     47.8,  25.7390,  35.1790,2,  35.1780,2,    203.9,2,    199.4,2,     0.70,2,     0.17,2,     0.09,2,  -999.0, 25.7284,-999.000
     09FA290_2,  PR11,    83,  1,   -999,     40,2,19900317,2115,-29.1635, 153.8872,  882,    132.9,  19.4640,  35.5560,2,  35.5560,2,    169.3,2,    162.8,2,     2.10,2,     7.09,2,     0.58,2,  -999.0, 19.4398,-999.000
     09FA290_2,  PR11,    83,  1,   -999,     36,2,19900317,2115,-29.1635, 153.8872,  882,    198.2,  16.9340,  35.4120,2,  35.4220,2,    158.5,2,    157.4,2,     3.40,2,    10.72,2,     0.81,2,  -999.0, 16.9013,-999.000
     09FA290_2,  PR11,    83,  1,   -999,     31,2,19900317,2115,-29.1635, 153.8872,  882,    278.1,  13.4300,  35.1620,2,  35.1700,2,    185.4,2,    181.0,2,     4.50,2,    14.18,2,     0.96,2,  -999.0, 13.3907,-999.000
     09FA290_2,  PR11,    83,  1,   -999,     41,2,19900317,2115,-29.1635, 153.8872,  882,    397.6,  10.1410,  34.8040,2,  34.8050,2,    187.0,2,    187.9,2,     8.29,2,    20.94,2,     1.34,2,  -999.0, 10.0941,-999.000
     09FA290_2,  PR11,    83,  1,   -999,     46,2,19900317,2115,-29.1635, 153.8872,  882,    501.8,   9.0630,  34.6820,2,  34.6800,2,    191.0,2,    189.9,2,    10.49,2,    23.74,2,     1.50,2,    98.9,  9.0075,   9.067
     09FA290_2,  PR11,    83,  1,   -999,     34,2,19900317,2115,-29.1635, 153.8872,  882,    601.6,   7.7690,  34.5610,2,  34.5720,2,    189.1,2,    188.7,2,    14.98,2,    26.37,2,     1.71,2,  -999.0,  7.7079,-999.000
     09FA290_2,  PR11,    84,  1,   -999,      6,2,19900317,2231,-29.1547, 153.8380,  232,      4.0,  25.7060,  35.1990,2,  35.2000,2,    204.5,2,    200.0,2,     0.70,2,     0.17,2,     0.09,2,  -999.0, 25.7051,  25.718
     09FA290_2,  PR11,    84,  1,   -999,     31,2,19900317,2231,-29.1547, 153.8380,  232,     49.7,  25.6690,  35.2550,2,  35.2530,2,    205.5,2,    199.7,2,     0.70,2,     0.17,2,     0.22,2,  -999.0, 25.6580,-999.000
     09FA290_2,  PR11,    84,  1,   -999,     41,2,19900317,2231,-29.1547, 153.8380,  232,     97.7,  23.2910,  35.3050,2,  35.2990,2,    180.9,2,    174.4,2,     1.60,2,     3.30,2,     0.35,2,  -999.0, 23.2709,-999.000
     09FA290_2,  PR11,    84,  1,   -999,     46,2,19900317,2231,-29.1547, 153.8380,  232,    148.3,  17.9620,  35.5280,2,  35.5280,2,    171.5,2,    164.7,2,     2.70,2,     8.41,2,     0.65,2,    50.1, 17.9365,  18.007
     09FA290_2,  PR11,    84,  1,   -999,     34,2,19900317,2231,-29.1547, 153.8380,  232,    206.9,  15.0770,  35.2920,2,  35.3080,2,    172.8,2,    169.9,2,     4.00,2,    12.20,2,     0.88,2,  -999.0, 15.0455,-999.000
     09FA290_2,  PR11,    85,  1,   -999,      6,2,19900317,2321,-29.1558, 153.8095,  162,      5.1,  25.6710,  35.2290,2,  35.2310,2,    206.6,2,    200.3,2,     0.70,2,     0.17,2,     0.09,2,  -999.0, 25.6699,  25.690
     09FA290_2,  PR11,    85,  1,   -999,     41,2,19900317,2321,-29.1558, 153.8095,  162,     48.4,  25.6600,  35.2450,2,  35.2450,2,    204.7,2,    199.7,2,     0.70,2,     0.17,2,     0.11,2,  -999.0, 25.6493,-999.000
     09FA290_2,  PR11,    85,  1,   -999,     46,2,19900317,2321,-29.1558, 153.8095,  162,    120.5,  19.8720,  35.4610,2,  35.4530,2,    157.9,2,    157.9,2,     2.70,2,     7.42,2,     0.62,2,  -999.0, 19.8498,  21.670
     09FA290_2,  PR11,    85,  1,   -999,     34,2,19900317,2321,-29.1558, 153.8095,  162,    148.9,  16.2560,  35.3740,2,  35.3790,2,    162.6,2,    165.3,2,     3.70,2,    11.05,2,     0.82,2,  -999.0, 16.2321,-999.000
     09FA290_2,  PR11,    86,  1,   -999,      6,2,19900318,0036,-29.1180, 153.6387,   60,      3.8,  25.2530,  35.0940,2,  35.0940,2,    194.1,2,    201.4,2,     0.60,2,     0.17,2,     0.09,2,  -999.0, 25.2522,  25.307
     09FA290_2,  PR11,    86,  1,   -999,     34,2,19900318,0036,-29.1180, 153.6387,   60,     48.9,  23.8540,  35.2670,2,  35.1890,2,    177.8,2,    185.8,2,     1.50,2,     1.32,2,     0.24,2,  -999.0, 23.8438,-999.000
     09FA290_2,  PR11,    87,  1,   -999,      6,2,19900318,0128,-29.1132, 153.5315,   41,      3.8,  24.6810,  34.9110,2,  34.9110,2,    196.2,2,    201.2,2,     2.20,2,     0.50,2,     0.21,2,  -999.0, 24.6802,  24.699
     09FA290_2,  PR11,    87,  1,   -999,     34,2,19900318,0128,-29.1132, 153.5315,   41,     32.8,  24.3840,  35.0490,2,  35.0440,2,    174.3,2,    185.0,2,     2.20,2,     1.30,2,     0.25,2,  -999.0, 24.3770,-999.000
     09FA290_2,FRAN90,    88,  1,   -999,      6,2,19900323,2046,-25.0002, 153.5505,   53,      3.5,  26.3330,  35.0450,2,  35.0450,2,    191.0,2,   -999.0,5,     1.20,2,     0.20,2,     0.13,2,  -999.0, 26.3322,  26.339
     09FA290_2,FRAN90,    88,  1,   -999,     34,2,19900323,2046,-25.0002, 153.5505,   53,     47.9,  26.3640,  35.0450,2,  35.0450,2,    191.0,2,    197.9,2,     1.20,2,     0.19,2,     0.13,2,  -999.0, 26.3532,-999.000
     09FA290_2,FRAN90,    89,  1,   -999,      6,2,19900323,2205,-25.0013, 153.6537,  238,      4.7,  26.5570,  35.0430,2,  35.0390,2,    190.3,2,    197.6,2,     1.20,2,     0.19,2,     0.23,2,  -999.0, 26.5559,  26.560
     09FA290_2,FRAN90,    89,  1,   -999,     41,2,19900323,2205,-25.0013, 153.6537,  238,     48.2,  26.5640,  35.0430,2,  35.0460,2,    189.6,2,    185.7,2,     1.00,2,     0.19,2,     0.13,2,  -999.0, 26.5531,-999.000
     09FA290_2,FRAN90,    89,  1,   -999,     26,2,19900323,2205,-25.0013, 153.6537,  238,     98.5,  25.9470,  35.1570,2,  35.1140,2,    179.4,2,    191.1,2,     1.00,2,     0.37,2,     0.13,2,  -999.0, 25.9250,-999.000
     09FA290_2,FRAN90,    89,  1,   -999,     46,2,19900323,2205,-25.0013, 153.6537,  238,    149.7,  17.7490,  35.4860,2,  35.4870,2,    156.5,2,    161.9,2,     3.20,2,     9.11,2,     0.71,2,  -999.0, 17.7235,-999.000
     09FA290_2,FRAN90,    89,  1,   -999,     34,2,19900323,2205,-25.0013, 153.6537,  238,    232.3,  14.8390,  35.2710,2,  35.2720,2,    167.4,2,    170.7,2,     4.50,2,    12.27,2,     0.91,2,  -999.0, 14.8040,-999.000
     09FA290_2,FRAN90,    90,  1,   -999,      6,2,19900323,2323,-25.0042, 153.7612, 1330,      6.0,  26.3950,  35.0280,2,  35.0270,2,    199.8,2,    203.3,2,     1.00,2,     0.19,2,     0.13,2,  -999.0, 26.3936,  26.420
     09FA290_2,FRAN90,    90,  1,   -999,     44,2,19900323,2323,-25.0042, 153.7612, 1330,     49.5,  26.3310,  35.0380,2,  35.0380,2,    208.7,2,    202.7,2,     1.00,2,     0.19,2,     0.12,2,  -999.0, 26.3199,-999.000
     09FA290_2,FRAN90,    90,  1,   -999,     40,2,19900323,2323,-25.0042, 153.7612, 1330,     98.5,  21.9500,  35.5580,2,  35.5580,2,    153.2,2,    149.2,2,     2.00,2,     6.87,2,     0.59,2,  -999.0, 21.9305,-999.000
     09FA290_2,FRAN90,    90,  1,   -999,     25,2,19900323,2323,-25.0042, 153.7612, 1330,    347.9,  13.4610,  35.1420,2,  35.1450,2,    172.8,2,    171.6,2,     5.39,2,    13.95,2,     1.02,2,  -999.0, 13.4117,-999.000
     09FA290_2,FRAN90,    90,  1,   -999,      8,2,19900323,2323,-25.0042, 153.7612, 1330,    499.2,   9.6230,  34.7370,2,  34.7380,2,    186.7,2,    185.8,2,     9.69,2,    20.82,2,     1.74,3,  -999.0,  9.5657,-999.000
     09FA290_2,FRAN90,    90,  1,   -999,     41,2,19900323,2323,-25.0042, 153.7612, 1330,    599.6,   8.5280,  34.6200,2,  34.6190,2,    190.3,2,    192.9,2,    11.69,2,    23.24,2,     1.60,2,  -999.0,  8.4637,-999.000
     09FA290_2,FRAN90,    90,  1,   -999,     26,2,19900323,2323,-25.0042, 153.7612, 1330,    901.1,   5.5760,  34.4610,2,  34.4610,2,    183.3,2,    182.2,2,    35.16,2,    30.49,2,     2.10,2,  -999.0,  5.4977,-999.000
     09FA290_2,FRAN90,    90,  1,   -999,     46,2,19900323,2323,-25.0042, 153.7612, 1330,   1295.5,   3.6360,  34.5380,2,  34.5340,2,    158.0,2,    151.0,2,    75.32,2,    35.31,2,     2.46,2,    97.9,  3.5386,   3.686
     09FA290_2,FRAN90,    90,  1,   -999,     34,2,19900323,2323,-25.0042, 153.7612, 1330,   1498.8,   3.0930,  34.5830,2,  34.5880,2,    147.6,2,    151.3,2,    89.71,2,    36.06,2,     2.54,2,  -999.0,  2.9841,-999.000
     09FA290_2,FRAN90,    91,  1,   -999,      6,2,19900324,0133,-25.0028, 153.8387, 2325,      4.7,  26.2790,  35.0840,2,  35.0820,2,    208.2,2,    198.2,2,     1.00,2,     0.19,2,     0.13,2,  -999.0, 26.2779,-999.000
     09FA290_2,FRAN90,    91,  1,   -999,      2,2,19900324,0133,-25.0028, 153.8387, 2325,     50.6,  26.2930,  35.0850,2,  35.0810,2,    167.8,2,    200.2,2,     0.80,2,     0.19,2,     0.12,2,  -999.0, 26.2816,-999.000
     09FA290_2,FRAN90,    91,  1,   -999,     27,2,19900324,0133,-25.0028, 153.8387, 2325,     97.7,  22.4860,  35.5560,2,  35.5540,2,    179.5,2,    158.2,2,     1.50,2,     5.20,2,     0.51,2,  -999.0, 22.4663,-999.000
     09FA290_2,FRAN90,    91,  1,   -999,      5,2,19900324,0133,-25.0028, 153.8387, 2325,    176.8,  19.2820,  35.6170,2,  35.5980,2,    185.5,2,    167.3,2,     2.00,2,     6.69,2,     0.58,2,  -999.0, 19.2500,-999.000
     09FA290_2,FRAN90,    91,  1,   -999,     29,2,19900324,0133,-25.0028, 153.8387, 2325,    298.3,  15.1340,  35.2750,2,  35.2770,2,    179.7,2,    166.5,2,     4.50,2,    11.90,2,     0.91,2,  -999.0, 15.0883,-999.000
     09FA290_2,FRAN90,    91,  1,   -999,     24,2,19900324,0133,-25.0028, 153.8387, 2325,    366.8,  13.2540,  35.1310,2,  35.1450,2,    184.1,2,    177.8,2,     4.90,2,    13.76,2,     1.02,2,  -999.0, 13.2025,-999.000
     09FA290_2,FRAN90,    91,  1,   -999,     40,2,19900324,0133,-25.0028, 153.8387, 2325,    598.4,   8.2640,  34.5920,2,  34.5960,2,    185.4,2,    192.9,2,    11.89,2,    23.43,2,     1.64,2,  -999.0,  8.2011,-999.000
     09FA290_2,FRAN90,    91,  1,   -999,     46,2,19900324,0133,-25.0028, 153.8387, 2325,    801.6,   6.2320,  34.4530,2,  34.4560,2,    173.6,2,    190.1,2,    24.68,2,    28.44,2,     2.08,2,  -999.0,  6.1589,-999.000
     09FA290_2,FRAN90,    91,  1,   -999,      1,2,19900324,0133,-25.0028, 153.8387, 2325,    998.5,   4.9000,  34.4660,2,  34.4680,2,    166.4,2,    174.5,2,    45.35,2,    32.35,2,     2.23,2,  -999.0,  4.8176,-999.000
     09FA290_2,FRAN90,    91,  1,   -999,     25,2,19900324,0133,-25.0028, 153.8387, 2325,   1148.6,   4.1290,  34.5050,2,  34.5040,2,    149.5,2,    164.0,2,    62.84,2,    34.02,2,     2.40,2,  -999.0,  4.0397,-999.000
     09FA290_2,FRAN90,    91,  1,   -999,      8,2,19900324,0133,-25.0028, 153.8387, 2325,   1398.5,   3.3300,  34.5610,2,  34.5600,2,    149.3,2,    150.7,2,    84.32,2,    35.87,2,     2.53,2,  -999.0,  3.2270,-999.000
     09FA290_2,FRAN90,    91,  1,   -999,     41,2,19900324,0133,-25.0028, 153.8387, 2325,   1750.4,   2.5990,  34.6300,2,  34.6350,2,    157.7,2,    153.0,2,   100.70,2,    36.06,2,     2.53,2,  -999.0,  2.4750,-999.000
     09FA290_2,FRAN90,    91,  1,   -999,     26,2,19900324,0133,-25.0028, 153.8387, 2325,   1998.2,   2.3170,  34.6670,2,  34.6680,2,    169.5,2,    162.0,2,   100.70,2,    35.50,2,     2.48,2,  -999.0,  2.1758,-999.000
     09FA290_2,FRAN90,    91,  1,   -999,     12,2,19900324,0133,-25.0028, 153.8387, 2325,   2200.4,   2.1540,  34.6950,2,  34.6940,2,    173.8,2,    172.8,2,   100.70,2,    34.39,2,     2.40,2,  -999.0,  1.9977,   2.159
     09FA290_2,FRAN90,    91,  1,   -999,     34,2,19900324,0133,-25.0028, 153.8387, 2325,   2420.3,   2.0290,  34.7140,2,  34.7100,2,    173.8,2,    177.3,2,   100.70,2,    33.84,2,     2.35,2,  -999.0,  1.8552,-999.000
     09FA290_2,FRAN90,    92,  1,   -999,      6,2,19900324,0428,-25.0013, 153.9343, 3505,      3.3,  26.2370,  35.0720,2,  35.0710,2,    212.0,2,    200.8,2,     1.20,2,     0.20,2,     0.11,2,  -999.0, 26.2363,-999.000
     09FA290_2,FRAN90,    92,  1,   -999,     42,2,19900324,0428,-25.0013, 153.9343, 3505,    148.4,  20.4980,  35.6320,2,  35.6300,2,    170.8,2,    163.3,2,     1.90,2,     5.94,2,     0.54,2,  -999.0, 20.4700,-999.000
     09FA290_2,FRAN90,    92,  1,   -999,     18,2,19900324,0428,-25.0013, 153.9343, 3505,    148.4,  20.4980,  35.6320,2,  35.6300,2,    170.8,2,    163.6,2,     1.90,2,     6.19,2,     0.56,2,  -999.0, 20.4700,-999.000
     09FA290_2,FRAN90,    92,  1,   -999,      2,2,19900324,0428,-25.0013, 153.9343, 3505,    197.7,  18.8850,  35.5840,2,  35.5860,2,    172.1,2,    166.1,2,     2.20,2,     6.99,2,     0.61,2,  -999.0, 18.8498,-999.000
     09FA290_2,FRAN90,    92,  1,   -999,     27,2,19900324,0428,-25.0013, 153.9343, 3505,    298.6,  16.2490,  35.4360,2,  35.4340,2,    183.3,2,    176.9,2,     2.70,2,     9.12,2,     0.72,2,  -999.0, 16.2009,-999.000
     09FA290_2,FRAN90,    92,  1,   -999,      5,2,19900324,0428,-25.0013, 153.9343, 3505,    378.0,  13.9410,  35.2080,2,  35.2150,2,    182.3,2,    178.1,2,     4.30,2,    12.69,2,     0.94,2,  -999.0, 13.8861,-999.000
     09FA290_2,FRAN90,    92,  1,   -999,     43,2,19900324,0428,-25.0013, 153.9343, 3505,    497.2,  10.3770,  34.8180,2,  34.8200,2,    190.2,2,    185.2,2,     8.29,2,    19.63,2,     1.36,2,  -999.0, 10.3172,-999.000
     09FA290_2,FRAN90,    92,  1,   -999,     29,2,19900324,0428,-25.0013, 153.9343, 3505,    598.4,   8.5850,  34.6270,2,  34.6310,2,    195.1,2,    191.4,2,    11.49,2,    22.98,2,     1.59,2,  -999.0,  8.5206,-999.000
     09FA290_2,FRAN90,    92,  1,   -999,     24,2,19900324,0428,-25.0013, 153.9343, 3505,    797.3,   6.2810,  34.4550,2,  34.4570,2,    188.1,2,    190.1,2,    23.78,2,    28.75,2,     1.94,2,  -999.0,  6.2080,-999.000
     09FA290_2,FRAN90,    92,  1,   -999,     40,2,19900324,0428,-25.0013, 153.9343, 3505,   1177.3,   4.0840,  34.5040,2,  34.5050,2,    151.7,2,    162.0,2,    62.54,2,    34.70,2,     2.38,2,  -999.0,  3.9926,-999.000
     09FA290_2,FRAN90,    92,  1,   -999,     46,2,19900324,0428,-25.0013, 153.9343, 3505,   1418.2,   3.2720,  34.5650,2,  34.5670,2,    150.2,2,    150.7,2,    84.82,2,    36.47,2,     2.49,2,  -999.0,  3.1680,-999.000
     09FA290_2,FRAN90,    92,  1,   -999,      1,2,19900324,0428,-25.0013, 153.9343, 3505,   1748.5,   2.5960,  34.6280,2,  34.6280,2,    170.2,2,    150.4,2,    98.00,2,    36.87,2,     2.54,2,  -999.0,  2.4722,-999.000
     09FA290_2,FRAN90,    92,  1,   -999,     25,2,19900324,0428,-25.0013, 153.9343, 3505,   2267.2,   2.1370,  34.6970,2,  34.6950,2,    177.2,2,    171.6,2,    96.10,2,    34.90,2,     2.38,2,  -999.0,  1.9750,-999.000
     09FA290_2,FRAN90,    92,  1,   -999,      8,2,19900324,0428,-25.0013, 153.9343, 3505,   2499.6,   1.9650,  34.7160,2,  34.7080,2,    181.6,2,    177.3,2,    96.10,2,    34.10,2,     2.35,2,  -999.0,  1.7851,-999.000
     09FA290_2,FRAN90,    92,  1,   -999,     41,2,19900324,0428,-25.0013, 153.9343, 3505,   2598.9,   1.8870,  34.7230,2,  34.7200,2,    185.9,2,    181.3,2,    98.00,2,    34.10,2,     2.31,2,  -999.0,  1.6995,-999.000
     09FA290_2,FRAN90,    92,  1,   -999,     26,2,19900324,0428,-25.0013, 153.9343, 3505,   2889.0,   1.6200,  34.7290,2,  34.7270,2,    192.2,2,    186.4,2,   105.49,2,    34.10,2,     2.33,2,  -999.0,  1.4108,-999.000
     09FA290_2,FRAN90,    92,  1,   -999,     34,2,19900324,0428,-25.0013, 153.9343, 3505,   3443.2,   1.2190,  34.7250,2,  34.7220,2,    192.2,2,    193.2,2,   114.98,2,    34.10,2,     2.43,2,  -999.0,  0.9653,-999.000