BOTTLE,20020730WHPSIO
EXPOCODE,SECT_ID,STNNBR,CASTNO,SAMPNO,BTLNBR,BTLNBR_FLAG_W,DATE,TIME,LATITUDE,LONGITUDE,DEPTH,CTDPRS,CTDTMP,CTDSAL,CTDSAL_FLAG_W,SALNTY,SALNTY_FLAG_W,CTDOXY,CTDOXY_FLAG_W,OXYGEN,OXYGEN_FLAG_W,SILCAT,SILCAT_FLAG_W,NO2+NO3,NO2+NO3_FLAG_W,PHSPHT,PHSPHT_FLAG_W,REVPRS,THETA,REVTMP
,,,,,,,,,,,,DBR,ITS-90,PSS-78,,PSS-78,,UMOL/KG,,UMOL/KG,,UMOL/KG,,UMOL/KG,,UMOL/KG,,DBR,ITS-90,ITS-90
     09FA290_2,FRAN90,   115,  1,   -999,      6,2,19900330,1630,-33.5462, 164.9952, 3055,      2.7,  22.8140,  35.5640,2,  35.5680,2,    210.5,2,    217.8,2,     0.90,2,     0.20,2,     0.14,2,  -999.0, 22.8134,  22.819
     09FA290_2,FRAN90,   115,  1,   -999,     40,2,19900330,1630,-33.5462, 164.9952, 3055,     49.5,  20.7320,  35.5990,2,  35.6010,2,    218.4,2,   -999.0,5,     0.90,2,     0.20,2,     0.15,2,  -999.0, 20.7226,-999.000
     09FA290_2,FRAN90,   115,  1,   -999,     42,2,19900330,1630,-33.5462, 164.9952, 3055,     78.8,  18.9590,  35.6050,2,  35.6080,2,    200.7,2,    208.9,2,     1.10,2,     1.70,2,     0.27,2,  -999.0, 18.9449,-999.000
     09FA290_2,FRAN90,   115,  1,   -999,     10,2,19900330,1630,-33.5462, 164.9952, 3055,     97.0,  18.3810,  35.5790,2,  35.5780,2,    194.2,2,    198.6,2,     1.40,2,     3.50,2,     0.39,2,  -999.0, 18.3641,-999.000
     09FA290_2,FRAN90,   115,  1,   -999,      2,2,19900330,1630,-33.5462, 164.9952, 3055,    147.9,  16.7640,  35.4900,2,  35.4910,2,    192.9,2,    192.1,2,     2.00,2,     6.59,2,     0.58,2,  -999.0, 16.7398,-999.000
     09FA290_2,FRAN90,   115,  1,   -999,     27,2,19900330,1630,-33.5462, 164.9952, 3055,    199.4,  15.6730,  35.4300,2,  35.4290,2,    184.3,2,    194.9,2,     2.50,2,     7.99,2,     0.65,2,  -999.0, 15.6418,-999.000
     09FA290_2,FRAN90,   115,  1,   -999,     43,2,19900330,1630,-33.5462, 164.9952, 3055,    297.0,  13.8570,  35.2610,2,  35.2600,2,    187.6,2,    189.3,2,     3.80,2,    11.59,2,     0.88,2,  -999.0, 13.8141,-999.000
     09FA290_2,FRAN90,   115,  1,   -999,     29,2,19900330,1630,-33.5462, 164.9952, 3055,    401.2,  11.4910,  34.9860,2,  34.9840,2,    188.3,2,    189.4,2,     5.99,2,    16.48,2,     1.19,2,  -999.0, 11.4397,-999.000
     09FA290_2,FRAN90,   115,  1,   -999,     24,2,19900330,1630,-33.5462, 164.9952, 3055,    499.9,   9.9950,  34.7980,2,  34.7990,2,    186.2,2,    190.1,2,     8.29,2,    19.98,2,     1.39,2,  -999.0,  9.9363,-999.000
     09FA290_2,FRAN90,   115,  1,   -999,     28,2,19900330,1630,-33.5462, 164.9952, 3055,    599.7,   8.5680,  34.6410,2,  34.6390,2,    182.1,2,    190.7,2,    12.19,2,    23.48,2,     1.83,3,  -999.0,  8.5035,-999.000
     09FA290_2,FRAN90,   115,  1,   -999,     36,2,19900330,1630,-33.5462, 164.9952, 3055,    799.7,   6.5990,  34.5000,2,  34.5060,2,    183.4,2,    184.9,2,    25.47,2,    28.67,2,     1.99,2,  -999.0,  6.5238,-999.000
     09FA290_2,FRAN90,   115,  1,   -999,     46,2,19900330,1630,-33.5462, 164.9952, 3055,   1002.3,   5.2000,  34.4700,2,  34.4760,2,    164.9,2,    180.9,2,    42.56,2,    31.57,2,     2.19,2,     6.3,  5.1150,   5.225
     09FA290_2,FRAN90,   115,  1,   -999,      1,2,19900330,1630,-33.5462, 164.9952, 3055,   1248.7,   4.1340,  34.5150,2,  34.5160,2,    158.4,2,    166.8,2,    57.64,2,    34.07,2,     2.40,2,  -999.0,  4.0359,-999.000
     09FA290_2,FRAN90,   115,  1,   -999,     25,2,19900330,1630,-33.5462, 164.9952, 3055,   1497.9,   3.2100,  34.5760,2,  34.5760,2,    154.2,2,    157.0,2,    78.32,2,    35.66,2,     2.53,2,  -999.0,  3.0999,-999.000
     09FA290_2,FRAN90,   115,  1,   -999,      8,2,19900330,1630,-33.5462, 164.9952, 3055,   1747.9,   2.6450,  34.6220,2,  34.6150,2,    152.6,2,    153.3,2,    95.40,2,    36.36,2,     2.58,2,  -999.0,  2.5206,-999.000
     09FA290_2,FRAN90,   115,  1,   -999,     41,2,19900330,1630,-33.5462, 164.9952, 3055,   1996.8,   2.2700,  34.6530,2,  34.6520,2,    153.3,2,    152.7,2,   104.00,2,    36.56,2,     2.60,2,  -999.0,  2.1296,-999.000
     09FA290_2,FRAN90,   115,  1,   -999,     26,2,19900330,1630,-33.5462, 164.9952, 3055,   2397.8,   2.0310,  34.6760,2,  34.6760,2,    155.0,2,    153.3,2,   108.39,2,    36.36,2,     2.60,2,  -999.0,  1.8593,-999.000
     09FA290_2,FRAN90,   115,  1,   -999,     12,2,19900330,1630,-33.5462, 164.9952, 3055,   2843.7,   1.9490,  34.6870,2,  34.6840,2,    155.3,2,    155.4,2,   110.59,2,    36.36,2,     2.58,2,    60.1,  1.7374,   1.958
     09FA290_2,FRAN90,   115,  1,   -999,     34,2,19900330,1630,-33.5462, 164.9952, 3055,   3050.3,   1.9330,  34.6890,2,  34.6870,2,    155.3,2,    156.4,2,   112.79,2,    36.36,2,     2.58,2,  -999.0,  1.7017,-999.000
     09FA290_2,FRAN90,   116,  1,   -999,      6,2,19900330,2206,-34.1283, 165.2998, 2986,      4.3,  21.3530,  35.5310,2,  35.5270,2,    222.0,2,    221.5,2,     0.90,2,     0.19,2,     0.14,2,  -999.0, 21.3522,  21.368
     09FA290_2,FRAN90,   116,  1,   -999,     40,2,19900330,2206,-34.1283, 165.2998, 2986,     48.9,  21.3040,  35.5280,2,  35.5240,2,    223.0,2,    222.4,2,     0.90,2,     0.19,2,     0.14,2,  -999.0, 21.2945,-999.000
     09FA290_2,FRAN90,   116,  1,   -999,     42,2,19900330,2206,-34.1283, 165.2998, 2986,    101.0,  16.0320,  35.4310,2,  35.4310,2,    220.1,2,    230.1,2,     1.60,2,     2.33,2,     0.34,2,  -999.0, 16.0160,-999.000
     09FA290_2,FRAN90,   116,  1,   -999,     10,2,19900330,2206,-34.1283, 165.2998, 2986,    173.2,  14.2780,  35.3460,2,  35.3470,2,    209.9,2,    206.5,2,     2.90,2,     8.52,2,     0.70,2,  -999.0, 14.2526,-999.000
     09FA290_2,FRAN90,   116,  1,   -999,      2,2,19900330,2206,-34.1283, 165.2998, 2986,    199.3,  13.9670,  35.3160,2,  35.3190,2,    205.6,2,    207.4,2,     2.90,2,     8.91,2,     0.73,2,  -999.0, 13.9382,-999.000
     09FA290_2,FRAN90,   116,  1,   -999,     27,2,19900330,2206,-34.1283, 165.2998, 2986,    301.0,  12.4050,  35.1330,2,  35.1400,2,    197.2,2,    198.3,2,     4.20,2,    12.98,2,     0.97,2,  -999.0, 12.3646,-999.000
     09FA290_2,FRAN90,   116,  1,   -999,     43,2,19900330,2206,-34.1283, 165.2998, 2986,    399.9,  10.8550,  34.9220,2,  34.9290,2,    191.0,2,    195.3,2,     6.19,2,    17.23,2,     1.21,2,  -999.0, 10.8057,-999.000
     09FA290_2,FRAN90,   116,  1,   -999,     29,2,19900330,2206,-34.1283, 165.2998, 2986,    502.4,   9.4250,  34.7280,2,  34.7330,2,    196.9,2,    198.0,2,     8.29,2,    20.53,2,     1.72,3,  -999.0,  9.3681,-999.000
     09FA290_2,FRAN90,   116,  1,   -999,     24,2,19900330,2206,-34.1283, 165.2998, 2986,    603.3,   8.4800,  34.6470,2,  34.6400,2,    186.4,2,    188.5,2,    14.19,2,    24.02,2,     1.68,2,  -999.0,  8.4155,-999.000
     09FA290_2,FRAN90,   116,  1,   -999,     28,2,19900330,2206,-34.1283, 165.2998, 2986,    799.6,   6.6720,  34.5170,2,  34.5160,2,    180.6,2,    183.0,2,    25.47,2,    28.46,2,     1.97,2,  -999.0,  6.5964,-999.000
     09FA290_2,FRAN90,   116,  1,   -999,     36,2,19900330,2206,-34.1283, 165.2998, 2986,    998.7,   5.3860,  34.4880,2,  34.4870,2,    176.8,2,    176.9,2,    40.96,2,    31.37,2,     2.19,2,  -999.0,  5.2999,-999.000
     09FA290_2,FRAN90,   116,  1,   -999,     46,2,19900330,2206,-34.1283, 165.2998, 2986,   1217.5,   4.1850,  34.5050,2,  34.5090,2,    163.7,2,    166.8,2,    55.64,2,    34.09,2,     2.38,2,    16.9,  4.0892,   4.209
     09FA290_2,FRAN90,   116,  1,   -999,      1,2,19900330,2206,-34.1283, 165.2998, 2986,   1478.9,   3.3700,  34.5580,2,  34.5600,2,    156.7,2,    158.2,2,    76.22,2,    35.43,2,     2.51,2,  -999.0,  3.2598,-999.000
     09FA290_2,FRAN90,   116,  1,   -999,     25,2,19900330,2206,-34.1283, 165.2998, 2986,   1747.7,   2.8420,  34.6050,2,  34.6060,2,    151.3,2,    153.9,2,    91.11,2,    36.21,2,     2.57,2,  -999.0,  2.7150,-999.000
     09FA290_2,FRAN90,   116,  1,   -999,      8,2,19900330,2206,-34.1283, 165.2998, 2986,   1997.1,   2.3460,  34.6480,2,  34.6470,2,    152.3,2,    150.8,2,   101.90,2,    36.40,2,     2.60,2,  -999.0,  2.2045,-999.000
     09FA290_2,FRAN90,   116,  1,   -999,     41,2,19900330,2206,-34.1283, 165.2998, 2986,   2398.4,   2.0360,  34.6760,2,  34.6730,2,    149.2,2,    151.4,2,   108.39,2,    36.60,2,     2.60,2,  -999.0,  1.8641,-999.000
     09FA290_2,FRAN90,   116,  1,   -999,     26,2,19900330,2206,-34.1283, 165.2998, 2986,   2598.6,   1.9760,  34.6820,2,  34.6800,2,    152.5,2,    153.3,2,   110.59,2,    36.60,2,     2.60,2,  -999.0,  1.7870,-999.000
     09FA290_2,FRAN90,   116,  1,   -999,     12,2,19900330,2206,-34.1283, 165.2998, 2986,   2800.6,   1.9400,  34.6880,2,  34.6850,2,    154.9,2,    156.7,2,   112.79,2,    36.40,2,     2.58,2,    14.8,  1.7327,   1.957
     09FA290_2,FRAN90,   116,  1,   -999,     34,2,19900330,2206,-34.1283, 165.2998, 2986,   2992.8,   1.9180,  34.6890,2,  34.6850,2,    156.3,2,    157.3,2,   112.79,2,    36.40,2,     2.57,2,  -999.0,  1.6926,-999.000
     09FA290_2,FRAN90,   117,  1,   -999,      6,2,19900331,0400,-34.6882, 165.6322, 2197,      4.0,  21.4280,  35.5220,2,  35.5180,2,    217.5,2,    221.2,2,     0.80,2,     0.00,2,     0.14,2,  -999.0, 21.4272,  21.455
     09FA290_2,FRAN90,   117,  1,   -999,     42,2,19900331,0400,-34.6882, 165.6322, 2197,     28.5,  21.2930,  35.5140,2,  35.5150,2,    225.7,2,    222.4,2,     0.70,2,     0.00,2,     0.14,2,  -999.0, 21.2875,-999.000
     09FA290_2,FRAN90,   117,  1,   -999,     10,2,19900331,0400,-34.6882, 165.6322, 2197,     48.3,  21.2760,  35.5130,2,  35.5150,2,    224.6,2,    222.7,2,     0.70,2,     0.00,2,     0.14,2,  -999.0, 21.2667,-999.000
     09FA290_2,FRAN90,   117,  1,   -999,      2,2,19900331,0400,-34.6882, 165.6322, 2197,     98.4,  15.7650,  35.4490,2,  35.4500,2,    215.2,2,    208.3,2,     1.90,2,     5.52,2,     0.51,2,  -999.0, 15.7496,-999.000
     09FA290_2,FRAN90,   117,  1,   -999,     27,2,19900331,0400,-34.6882, 165.6322, 2197,    148.7,  14.7940,  35.3850,2,  35.3830,2,    204.8,2,    205.3,2,     2.30,2,     7.55,2,     0.64,2,  -999.0, 14.7717,-999.000
     09FA290_2,FRAN90,   117,  1,   -999,     43,2,19900331,0400,-34.6882, 165.6322, 2197,    198.0,  13.8640,  35.2910,2,  35.2910,2,    196.7,2,    196.1,2,     3.00,2,    10.14,2,     0.78,2,  -999.0, 13.8355,-999.000
     09FA290_2,FRAN90,   117,  1,   -999,     29,2,19900331,0400,-34.6882, 165.6322, 2197,    298.4,  12.3590,  35.1230,2,  35.1210,2,    193.8,2,    195.8,2,     4.50,2,    13.27,2,     0.98,2,  -999.0, 12.3191,-999.000
     09FA290_2,FRAN90,   117,  1,   -999,     24,2,19900331,0400,-34.6882, 165.6322, 2197,    397.7,  10.6950,  34.9030,2,  34.9030,2,    188.2,2,    192.5,2,     6.79,2,    17.69,2,     1.23,2,  -999.0, 10.6464,-999.000
     09FA290_2,FRAN90,   117,  1,   -999,     28,2,19900331,0400,-34.6882, 165.6322, 2197,    498.4,   9.3270,  34.7300,2,  34.7310,2,    192.8,2,    194.0,2,     9.59,2,    21.01,2,     1.44,2,  -999.0,  9.2709,-999.000
     09FA290_2,FRAN90,   117,  1,   -999,     36,2,19900331,0400,-34.6882, 165.6322, 2197,    598.1,   8.2300,  34.6240,2,  34.6260,2,    186.6,2,    187.0,2,    14.79,2,    23.96,2,     1.65,2,  -999.0,  8.1672,-999.000
     09FA290_2,FRAN90,   117,  1,   -999,     46,2,19900331,0400,-34.6882, 165.6322, 2197,    803.2,   6.4690,  34.5210,2,  34.5280,2,    179.8,2,    180.0,2,    28.37,2,    28.19,2,     1.94,2,     4.1,  6.3942,   6.501
     09FA290_2,FRAN90,   117,  1,   -999,      1,2,19900331,0400,-34.6882, 165.6322, 2197,    978.7,   5.0200,  34.4900,2,  34.4910,2,    175.9,2,    174.8,2,    41.96,2,    31.70,2,     2.18,2,  -999.0,  4.9385,-999.000
     09FA290_2,FRAN90,   117,  1,   -999,     25,2,19900331,0400,-34.6882, 165.6322, 2197,   1158.7,   4.2010,  34.5040,2,  34.5090,2,    164.9,2,    167.7,2,    53.65,2,    33.36,2,     2.30,2,  -999.0,  4.1102,-999.000
     09FA290_2,FRAN90,   117,  1,   -999,      8,2,19900331,0400,-34.6882, 165.6322, 2197,   1428.7,   3.2670,  34.5640,2,  34.5630,2,    158.7,2,    156.1,2,    75.92,2,    35.38,2,     2.42,2,  -999.0,  3.1622,-999.000
     09FA290_2,FRAN90,   117,  1,   -999,     41,2,19900331,0400,-34.6882, 165.6322, 2197,   1498.1,   3.1410,  34.5810,2,  34.5800,2,    158.2,2,    155.8,2,    81.82,2,    35.38,2,     2.53,2,  -999.0,  3.0317,-999.000
     09FA290_2,FRAN90,   117,  1,   -999,     26,2,19900331,0400,-34.6882, 165.6322, 2197,   1749.8,   2.6360,  34.6260,2,  34.6230,2,    154.2,2,    153.6,2,    95.90,2,    35.93,2,     2.46,2,  -999.0,  2.5116,-999.000
     09FA290_2,FRAN90,   117,  1,   -999,     12,2,19900331,0400,-34.6882, 165.6322, 2197,   1999.3,   2.2260,  34.6610,2,  34.6570,2,    153.2,2,    153.0,2,   106.09,2,    36.16,2,     2.48,2,    20.0,  2.0861,   2.209
     09FA290_2,FRAN90,   117,  1,   -999,     34,2,19900331,0400,-34.6882, 165.6322, 2197,   2190.2,   2.1530,  34.6690,2,  34.6650,2,    151.7,2,    152.1,2,   110.19,2,    36.11,2,     2.48,2,  -999.0,  1.9977,-999.000
     09FA290_2,FRAN90,   118,  1,   -999,      6,2,19900331,0848,-35.1683, 165.9183, 1670,      4.7,  21.6570,  35.5230,2,  35.5220,2,    224.1,2,    222.1,2,     0.60,2,     0.00,2,     0.13,2,  -999.0, 21.6561,  21.649
     09FA290_2,FRAN90,   118,  1,   -999,     42,2,19900331,0848,-35.1683, 165.9183, 1670,     49.3,  21.6290,  35.5170,2,  35.5130,2,    219.6,2,    220.6,2,     0.60,2,     0.00,2,     0.11,2,  -999.0, 21.6194,-999.000
     09FA290_2,FRAN90,   118,  1,   -999,     10,2,19900331,0848,-35.1683, 165.9183, 1670,     99.9,  15.8110,  35.4500,2,  35.4500,2,    216.7,2,    218.5,2,     1.60,2,     4.24,2,     0.43,2,  -999.0, 15.7953,-999.000
     09FA290_2,FRAN90,   118,  1,   -999,      2,2,19900331,0848,-35.1683, 165.9183, 1670,    147.3,  14.7370,  35.3770,2,  35.3770,2,    206.6,2,    202.8,2,     2.40,2,     8.11,2,     0.64,2,  -999.0, 14.7149,-999.000
     09FA290_2,FRAN90,   118,  1,   -999,     27,2,19900331,0848,-35.1683, 165.9183, 1670,    188.3,  13.9090,  35.3080,2,  35.3120,2,    200.8,2,    204.1,2,     2.80,2,     9.21,2,     0.72,2,  -999.0, 13.8818,-999.000
     09FA290_2,FRAN90,   118,  1,   -999,     43,2,19900331,0848,-35.1683, 165.9183, 1670,    248.9,  12.8930,  35.1890,2,  35.1930,2,    194.5,2,    196.4,2,     3.70,2,    11.98,2,     1.04,2,  -999.0, 12.8588,-999.000
     09FA290_2,FRAN90,   118,  1,   -999,     29,2,19900331,0848,-35.1683, 165.9183, 1670,    299.0,  12.1560,  35.0990,2,  35.1000,2,    198.6,2,    194.6,2,     4.70,2,    14.01,2,     0.99,2,  -999.0, 12.1165,-999.000
     09FA290_2,FRAN90,   118,  1,   -999,     24,2,19900331,0848,-35.1683, 165.9183, 1670,    398.3,  10.7210,  34.9040,2,  34.9020,2,    191.4,2,    191.9,2,     6.79,2,    17.87,2,     1.23,2,  -999.0, 10.6723,-999.000
     09FA290_2,FRAN90,   118,  1,   -999,     28,2,19900331,0848,-35.1683, 165.9183, 1670,    497.3,   9.6480,  34.7680,2,  34.7690,2,    193.8,2,    193.7,2,     8.99,2,    20.46,2,     1.38,2,  -999.0,  9.5908,-999.000
     09FA290_2,FRAN90,   118,  1,   -999,     36,2,19900331,0848,-35.1683, 165.9183, 1670,    599.0,   8.4700,  34.6400,2,  34.6430,2,    188.8,2,    189.8,2,    12.39,2,    23.59,2,     1.58,2,  -999.0,  8.4060,-999.000
     09FA290_2,FRAN90,   118,  1,   -999,     46,2,19900331,0848,-35.1683, 165.9183, 1670,    699.0,   7.5350,  34.5700,2,  34.5700,2,    186.5,2,    185.5,2,    18.68,2,    26.16,2,     1.76,2,     0.7,  7.4648,   7.567
     09FA290_2,FRAN90,   118,  1,   -999,      1,2,19900331,0848,-35.1683, 165.9183, 1670,    799.5,   6.5460,  34.5180,2,  34.5180,2,    182.1,2,    181.8,2,    27.37,2,    28.56,2,     1.94,2,  -999.0,  6.4712,-999.000
     09FA290_2,FRAN90,   118,  1,   -999,     25,2,19900331,0848,-35.1683, 165.9183, 1670,    899.8,   5.8630,  34.4910,2,  34.4900,2,    178.2,2,    179.7,2,    33.37,2,    30.22,2,     2.03,2,  -999.0,  5.7828,-999.000
     09FA290_2,FRAN90,   118,  1,   -999,      8,2,19900331,0848,-35.1683, 165.9183, 1670,    998.6,   5.2830,  34.4880,2,  34.4870,2,    176.7,2,    176.6,2,    38.96,2,    31.70,2,     2.13,2,  -999.0,  5.1977,-999.000
     09FA290_2,FRAN90,   118,  1,   -999,     41,2,19900331,0848,-35.1683, 165.9183, 1670,   1096.9,   4.5710,  34.4720,2,  34.4760,2,    170.3,2,    174.5,2,    41.86,2,    33.36,2,     2.24,2,  -999.0,  4.4825,-999.000
     09FA290_2,FRAN90,   118,  1,   -999,     26,2,19900331,0848,-35.1683, 165.9183, 1670,   1228.2,   3.9540,  34.4840,2,  34.4800,2,    168.6,2,    170.2,2,    50.25,2,    34.46,2,     2.30,2,  -999.0,  3.8594,-999.000
     09FA290_2,FRAN90,   118,  1,   -999,     12,2,19900331,0848,-35.1683, 165.9183, 1670,   1497.2,   3.2450,  34.5630,2,  34.5620,2,    159.6,2,    156.4,2,    74.03,2,    35.75,2,     2.43,2,    16.4,  3.1346,   3.232
     09FA290_2,FRAN90,   118,  1,   -999,     34,2,19900331,0848,-35.1683, 165.9183, 1670,   1656.9,   2.8810,  34.6040,2,  34.6030,2,    154.0,2,    154.2,2,    83.82,2,    35.75,2,     2.45,2,  -999.0,  2.7613,-999.000
     09FA290_2,FRAN90,   119,  1,   -999,      6,2,19900401,0000,-37.6535, 167.2640, 1042,      5.2,  19.5230,  35.4470,2,  35.4450,2,    235.7,2,    228.9,2,     1.20,2,     0.00,2,     0.21,2,  -999.0, 19.5221,  19.552
     09FA290_2,FRAN90,   119,  1,   -999,     24,2,19900401,0000,-37.6535, 167.2640, 1042,     49.6,  17.2950,  35.3840,2,  35.3890,2,    230.9,2,    235.6,2,     1.40,2,     0.76,2,     0.27,2,  -999.0, 17.2867,-999.000
     09FA290_2,FRAN90,   119,  1,   -999,     28,2,19900401,0000,-37.6535, 167.2640, 1042,     96.6,  14.1450,  35.3300,2,  35.3300,2,    224.5,2,    221.5,2,     2.30,2,     6.05,2,     0.58,2,  -999.0, 14.1309,-999.000
     09FA290_2,FRAN90,   119,  1,   -999,     36,2,19900401,0000,-37.6535, 167.2640, 1042,    146.7,  13.2980,  35.2520,2,  35.2560,2,    210.7,2,    210.2,2,     3.40,2,     9.08,2,     0.77,2,  -999.0, 13.2775,-999.000
     09FA290_2,FRAN90,   119,  1,   -999,     46,2,19900401,0000,-37.6535, 167.2640, 1042,    196.9,  12.9100,  35.2070,2,  35.2070,2,    209.3,2,    206.8,2,     3.80,2,    10.41,2,     0.86,2,     3.4, 12.8830,  12.935
     09FA290_2,FRAN90,   119,  1,   -999,      1,2,19900401,0000,-37.6535, 167.2640, 1042,    299.6,  11.7100,  35.0450,2,  35.0420,2,    200.7,2,    198.6,2,     5.39,2,    14.77,2,     1.10,2,  -999.0, 11.6713,-999.000
     09FA290_2,FRAN90,   119,  1,   -999,     25,2,19900401,0000,-37.6535, 167.2640, 1042,    398.3,  10.7020,  34.9090,2,  34.9080,2,    192.4,2,    194.0,2,     7.39,2,    17.98,2,     1.28,2,  -999.0, 10.6533,-999.000
     09FA290_2,FRAN90,   119,  1,   -999,      8,2,19900401,0000,-37.6535, 167.2640, 1042,    498.2,   9.8470,  34.8120,2,  34.8110,2,    190.0,2,    188.5,2,    11.39,2,    21.01,2,     1.49,2,  -999.0,  9.7890,-999.000
     09FA290_2,FRAN90,   119,  1,   -999,     41,2,19900401,0000,-37.6535, 167.2640, 1042,    597.1,   8.9290,  34.7150,2,  34.7150,2,    182.2,2,    186.7,2,    14.59,2,    23.28,2,     1.66,2,  -999.0,  8.8632,-999.000
     09FA290_2,FRAN90,   119,  1,   -999,     26,2,19900401,0000,-37.6535, 167.2640, 1042,    798.3,   7.4210,  34.5830,2,  34.5830,2,    180.5,2,    180.6,2,    22.48,2,    27.25,2,     2.12,3,  -999.0,  7.3410,-999.000
     09FA290_2,FRAN90,   119,  1,   -999,     12,2,19900401,0000,-37.6535, 167.2640, 1042,    948.4,   6.1320,  34.5200,2,  34.5200,2,    178.1,2,    175.7,2,    36.76,2,    30.47,2,     2.16,2,  -999.0,  6.0452,-999.000
     09FA290_2,FRAN90,   119,  1,   -999,     34,2,19900401,0000,-37.6535, 167.2640, 1042,   1028.1,   5.6550,  34.5020,2,  34.5020,2,    172.8,2,    174.2,2,    43.86,2,    31.61,2,     2.24,2,  -999.0,  5.5640,-999.000