BOTTLE,20020730WHPSIO
EXPOCODE,SECT_ID,STNNBR,CASTNO,SAMPNO,BTLNBR,BTLNBR_FLAG_W,DATE,TIME,LATITUDE,LONGITUDE,DEPTH,CTDPRS,CTDTMP,CTDSAL,CTDSAL_FLAG_W,SALNTY,SALNTY_FLAG_W,CTDOXY,CTDOXY_FLAG_W,OXYGEN,OXYGEN_FLAG_W,SILCAT,SILCAT_FLAG_W,NO2+NO3,NO2+NO3_FLAG_W,PHSPHT,PHSPHT_FLAG_W,REVPRS,THETA,REVTMP
,,,,,,,,,,,,DBR,ITS-90,PSS-78,,PSS-78,,UMOL/KG,,UMOL/KG,,UMOL/KG,,UMOL/KG,,UMOL/KG,,DBR,ITS-90,ITS-90
     09FA290_2,FRAN90,   120,  1,   -999,      6,2,19900401,0549,-37.1687, 167.0195, 1127,      3.7,  20.3780,  35.4950,2,  35.4930,2,    222.9,2,    225.2,2,     1.40,2,     0.00,2,     0.21,2,  -999.0, 20.3773,  20.375
     09FA290_2,FRAN90,   120,  1,   -999,     10,2,19900401,0549,-37.1687, 167.0195, 1127,     47.8,  19.5910,  35.4570,2,  35.4550,2,    237.9,2,    234.1,2,     1.40,2,     0.00,2,     0.21,2,  -999.0, 19.5823,-999.000
     09FA290_2,FRAN90,   120,  1,   -999,     42,2,19900401,0549,-37.1687, 167.0195, 1127,     98.9,  16.1210,  35.4100,2,  35.4090,2,    219.9,2,    225.8,2,     1.80,2,     3.03,2,     0.45,2,  -999.0, 16.1053,-999.000
     09FA290_2,FRAN90,   120,  1,   -999,     40,2,19900401,0549,-37.1687, 167.0195, 1127,    149.5,  14.3650,  35.3260,2,  35.3220,2,    207.6,2,    204.4,2,     3.40,2,     9.08,2,     0.75,2,  -999.0, 14.3430,-999.000
     09FA290_2,FRAN90,   120,  1,   -999,     24,2,19900401,0549,-37.1687, 167.0195, 1127,    178.4,  13.9960,  35.2910,2,  35.2890,2,    204.9,2,    201.9,2,     3.80,2,    10.03,2,     0.81,2,  -999.0, 13.9702,-999.000
     09FA290_2,FRAN90,   120,  1,   -999,     28,2,19900401,0549,-37.1687, 167.0195, 1127,    248.3,  12.6890,  35.1490,2,  35.1490,2,    191.3,2,    195.2,2,     5.89,2,    13.82,2,     1.04,2,  -999.0, 12.6553,-999.000
     09FA290_2,FRAN90,   120,  1,   -999,     36,2,19900401,0549,-37.1687, 167.0195, 1127,    300.9,  11.7880,  35.0480,2,  35.0430,2,    191.5,2,    190.9,2,     7.59,2,    16.08,2,     1.18,2,  -999.0, 11.7490,-999.000
     09FA290_2,FRAN90,   120,  1,   -999,     46,2,19900401,0549,-37.1687, 167.0195, 1127,    396.7,  10.2520,  34.8580,2,  34.8650,2,    183.1,2,    188.8,2,    10.59,2,    20.06,2,     1.44,2,    96.8, 10.2048,  10.317
     09FA290_2,FRAN90,   120,  1,   -999,      1,2,19900401,0549,-37.1687, 167.0195, 1127,    499.0,   9.4000,  34.7650,2,  34.7690,2,    189.5,2,    187.0,2,    13.09,2,    22.34,2,     1.58,2,  -999.0,  9.3435,-999.000
     09FA290_2,FRAN90,   120,  1,   -999,     25,2,19900401,0549,-37.1687, 167.0195, 1127,    597.8,   8.7160,  34.6920,2,  34.6920,2,    186.5,2,    186.7,2,    15.28,2,    24.23,2,     1.70,2,  -999.0,  8.6511,-999.000
     09FA290_2,FRAN90,   120,  1,   -999,      8,2,19900401,0549,-37.1687, 167.0195, 1127,    698.1,   7.8990,  34.6170,2,  34.6170,2,    186.6,2,    184.9,2,    19.28,2,    26.49,2,     1.85,2,  -999.0,  7.8270,-999.000
     09FA290_2,FRAN90,   120,  1,   -999,     41,2,19900401,0549,-37.1687, 167.0195, 1127,    798.0,   7.1010,  34.5600,2,  34.5640,2,    179.1,2,    186.4,2,    24.48,2,    28.39,2,     1.97,2,  -999.0,  7.0229,-999.000
     09FA290_2,FRAN90,   120,  1,   -999,     26,2,19900401,0549,-37.1687, 167.0195, 1127,    997.0,   5.6580,  34.4970,2,  34.5010,2,    175.2,2,    177.5,2,    43.86,2,    32.18,2,     2.24,2,  -999.0,  5.5700,-999.000
     09FA290_2,FRAN90,   120,  1,   -999,     12,2,19900401,0549,-37.1687, 167.0195, 1127,   1047.5,   5.2770,  34.4910,2,  34.4920,2,    172.8,2,    176.3,2,    43.36,2,    32.94,2,     2.30,2,    58.9,  5.1872,   5.287
     09FA290_2,FRAN90,   120,  1,   -999,     34,2,19900401,0549,-37.1687, 167.0195, 1127,   1108.2,   4.7650,  34.4960,2,  34.4980,2,    169.3,2,    170.2,2,    46.75,2,    34.07,2,     2.40,2,  -999.0,  4.6738,-999.000
     09FA290_2,FRAN90,   121,  1,   -999,      6,2,19900401,0956,-36.6892, 166.7570, 1469,      4.7,  20.8840,  35.5550,2,  35.5570,2,    227.3,2,    224.9,2,     0.90,2,     0.00,2,     0.15,2,  -999.0, 20.8831,  20.902
     09FA290_2,FRAN90,   121,  1,   -999,     10,2,19900401,0956,-36.6892, 166.7570, 1469,     49.2,  18.3930,  35.4500,2,  35.4540,2,    237.3,2,    238.7,2,     1.20,2,     0.00,2,     0.19,2,  -999.0, 18.3844,-999.000
     09FA290_2,FRAN90,   121,  1,   -999,     42,2,19900401,0956,-36.6892, 166.7570, 1469,    100.0,  15.3880,  35.3980,2,  35.4050,2,    216.2,2,    215.7,2,     2.20,2,     5.39,2,     0.50,2,  -999.0, 15.3726,-999.000
     09FA290_2,FRAN90,   121,  1,   -999,     40,2,19900401,0956,-36.6892, 166.7570, 1469,    151.3,  14.2650,  35.3200,2,  35.3120,2,    205.7,2,    205.6,2,     3.60,2,     9.11,2,     0.71,2,  -999.0, 14.2428,-999.000
     09FA290_2,FRAN90,   121,  1,   -999,     24,2,19900401,0956,-36.6892, 166.7570, 1469,    179.6,  13.6470,  35.2540,2,  35.2480,2,    202.5,2,    198.6,2,     4.40,2,    10.97,2,     0.84,2,  -999.0, 13.6214,-999.000
     09FA290_2,FRAN90,   121,  1,   -999,     28,2,19900401,0956,-36.6892, 166.7570, 1469,    303.3,  12.0670,  35.0880,2,  35.0940,2,    194.6,2,    194.6,2,     5.89,2,    14.13,2,     1.02,2,  -999.0, 12.0271,-999.000
     09FA290_2,FRAN90,   121,  1,   -999,     36,2,19900401,0956,-36.6892, 166.7570, 1469,    400.1,  10.8350,  34.9240,2,  34.9220,2,    186.3,2,    190.0,2,     8.29,2,    18.03,2,     1.24,2,  -999.0, 10.7857,-999.000
     09FA290_2,FRAN90,   121,  1,   -999,     46,2,19900401,0956,-36.6892, 166.7570, 1469,    499.2,   9.4670,  34.7570,2,  34.7630,2,    190.0,2,    190.1,2,    10.79,2,    21.19,2,     1.45,2,  -999.0,  9.4103,-999.000
     09FA290_2,FRAN90,   121,  1,   -999,      1,2,19900401,0956,-36.6892, 166.7570, 1469,    603.5,   8.4030,  34.6620,2,  34.6620,2,    184.5,2,    186.7,2,    16.48,2,    24.17,2,     1.65,2,  -999.0,  8.3388,-999.000
     09FA290_2,FRAN90,   121,  1,   -999,     25,2,19900401,0956,-36.6892, 166.7570, 1469,    799.5,   6.9320,  34.5270,2,  34.5310,2,    185.3,2,    183.0,2,    23.28,2,    27.88,2,     1.89,2,  -999.0,  6.8548,-999.000
     09FA290_2,FRAN90,   121,  1,   -999,      8,2,19900401,0956,-36.6892, 166.7570, 1469,    997.7,   5.4620,  34.4600,2,  34.4630,2,    180.3,2,    179.4,2,    35.76,2,    31.23,2,     2.12,2,  -999.0,  5.3755,-999.000
     09FA290_2,FRAN90,   121,  1,   -999,     41,2,19900401,0956,-36.6892, 166.7570, 1469,   1099.9,   4.6960,  34.4470,2,  34.4470,2,    178.9,2,    179.1,2,    42.66,2,    32.91,2,     2.23,2,  -999.0,  4.6062,-999.000
     09FA290_2,FRAN90,   121,  1,   -999,     26,2,19900401,0956,-36.6892, 166.7570, 1469,   1238.1,   3.9070,  34.4930,2,  34.4870,2,    165.8,2,    168.0,2,    57.74,2,    34.58,2,     2.36,2,  -999.0,  3.8120,-999.000
     09FA290_2,FRAN90,   121,  1,   -999,     12,2,19900401,0956,-36.6892, 166.7570, 1469,   1398.6,   3.3110,  34.5480,2,  34.5430,2,    160.1,2,    160.4,2,    73.43,2,    35.69,2,     2.46,2,    13.3,  3.2083,   3.290
     09FA290_2,FRAN90,   121,  1,   -999,     34,2,19900401,0956,-36.6892, 166.7570, 1469,   1455.5,   3.1810,  34.5650,2,  34.5630,2,    156.1,2,    155.1,2,    77.02,2,    35.69,2,     2.47,2,  -999.0,  3.0749,-999.000
     09FA290_2,FRAN90,   122,  1,   -999,      6,2,19900401,1420,-36.1998, 166.4973, 1567,      3.9,  20.7260,  35.5560,2,  35.5530,2,    225.2,2,    226.4,2,     0.80,2,     0.00,2,     0.15,2,  -999.0, 20.7253,  20.726
     09FA290_2,FRAN90,   122,  1,   -999,     10,2,19900401,1420,-36.1998, 166.4973, 1567,     49.2,  20.6810,  35.5530,2,  35.5530,2,    226.8,2,    224.6,2,     0.80,2,     0.00,2,     0.15,2,  -999.0, 20.6717,-999.000
     09FA290_2,FRAN90,   122,  1,   -999,     42,2,19900401,1420,-36.1998, 166.4973, 1567,     98.8,  16.2360,  35.4470,2,  35.4470,2,    231.7,2,    226.4,2,     1.50,2,     2.23,2,     0.34,2,  -999.0, 16.2202,-999.000
     09FA290_2,FRAN90,   122,  1,   -999,     40,2,19900401,1420,-36.1998, 166.4973, 1567,    169.1,  14.2100,  35.3480,2,  35.3430,2,    209.4,2,    209.9,2,     2.70,2,     7.99,2,     0.68,2,  -999.0, 14.1853,-999.000
     09FA290_2,FRAN90,   122,  1,   -999,     24,2,19900401,1420,-36.1998, 166.4973, 1567,    199.4,  13.7730,  35.3050,2,  35.3050,2,    207.8,2,    209.0,2,     2.80,2,     8.74,2,     0.70,2,  -999.0, 13.7444,-999.000
     09FA290_2,FRAN90,   122,  1,   -999,     28,2,19900401,1420,-36.1998, 166.4973, 1567,    297.5,  12.2320,  35.1120,2,  35.1130,2,    192.9,2,    196.5,2,     4.90,2,    13.57,2,     0.99,2,  -999.0, 12.1925,-999.000
     09FA290_2,FRAN90,   122,  1,   -999,     36,2,19900401,1420,-36.1998, 166.4973, 1567,    398.8,  10.6050,  34.8900,2,  34.8950,2,    193.7,2,    193.2,2,     6.99,2,    18.03,2,     1.24,2,  -999.0, 10.5566,-999.000
     09FA290_2,FRAN90,   122,  1,   -999,     46,2,19900401,1420,-36.1998, 166.4973, 1567,    489.1,   9.5660,  34.7530,2,  34.7580,2,    198.5,2,    196.0,2,     8.39,2,    20.45,2,     1.45,2,    91.9,  9.5101,   9.598
     09FA290_2,FRAN90,   122,  1,   -999,      1,2,19900401,1420,-36.1998, 166.4973, 1567,    598.3,   8.5930,  34.6440,2,  34.6460,2,    191.6,2,    193.5,2,    11.89,2,    23.43,2,     1.57,2,  -999.0,  8.5286,-999.000
     09FA290_2,FRAN90,   122,  1,   -999,     25,2,19900401,1420,-36.1998, 166.4973, 1567,    800.2,   6.9800,  34.5150,2,  34.5140,2,    185.7,2,    184.7,2,    20.98,2,    27.88,2,     1.86,2,  -999.0,  6.9025,-999.000
     09FA290_2,FRAN90,   122,  1,   -999,      8,2,19900401,1420,-36.1998, 166.4973, 1567,    998.0,   5.4030,  34.4540,2,  34.4540,2,    180.9,2,    180.4,2,    35.36,2,    31.42,2,     2.12,2,  -999.0,  5.3169,-999.000
     09FA290_2,FRAN90,   122,  1,   -999,     41,2,19900401,1420,-36.1998, 166.4973, 1567,   1097.9,   4.7310,  34.4490,2,  34.4470,2,    177.0,2,    178.8,2,    39.36,2,    32.72,2,     2.21,2,  -999.0,  4.6411,-999.000
     09FA290_2,FRAN90,   122,  1,   -999,     26,2,19900401,1420,-36.1998, 166.4973, 1567,   1278.4,   3.8950,  34.4820,2,  34.4800,2,    169.2,2,    170.3,2,    56.04,2,    34.58,2,     2.36,2,  -999.0,  3.7967,-999.000
     09FA290_2,FRAN90,   122,  1,   -999,     12,2,19900401,1420,-36.1998, 166.4973, 1567,   1442.5,   3.2780,  34.5630,2,  34.5620,2,    156.5,2,    155.9,2,    75.22,2,    35.88,2,     2.46,2,    57.4,  3.1719,   3.286
     09FA290_2,FRAN90,   122,  1,   -999,     34,2,19900401,1420,-36.1998, 166.4973, 1567,   1549.8,   2.9580,  34.5920,2,  34.5910,2,    152.5,2,    154.6,2,    82.32,2,    36.06,2,     2.49,2,  -999.0,  2.8464,-999.000
     09FA290_2,FRAN90,   123,  1,   -999,      6,2,19900401,1839,-35.6837, 166.2670, 1554,      2.0,  21.1830,  35.5820,2,  35.5850,2,    222.3,2,    221.8,2,     0.70,2,     0.00,2,     0.13,2,  -999.0, 21.1826,  21.193
     09FA290_2,FRAN90,   123,  1,   -999,     10,2,19900401,1839,-35.6837, 166.2670, 1554,     47.8,  21.1900,  35.5820,2,  35.5810,2,    226.2,2,    224.0,2,     0.70,2,     0.00,2,     0.13,2,  -999.0, 21.1808,-999.000
     09FA290_2,FRAN90,   123,  1,   -999,     42,2,19900401,1839,-35.6837, 166.2670, 1554,     98.8,  17.2240,  35.4890,2,  35.4950,2,    222.7,2,    224.6,2,     1.10,2,     1.72,2,     0.28,2,  -999.0, 17.2075,-999.000
     09FA290_2,FRAN90,   123,  1,   -999,     40,2,19900401,1839,-35.6837, 166.2670, 1554,    149.9,  15.4140,  35.4290,2,  35.4280,2,    212.4,2,    207.2,2,     1.80,2,     6.49,2,     0.57,2,  -999.0, 15.3908,-999.000
     09FA290_2,FRAN90,   123,  1,   -999,     28,2,19900401,1839,-35.6837, 166.2670, 1554,    299.0,  12.6780,  35.1660,2,  35.1520,2,    197.2,2,    198.6,2,     4.00,2,    12.80,2,     0.95,2,  -999.0, 12.6373,-999.000
     09FA290_2,FRAN90,   123,  1,   -999,     36,2,19900401,1839,-35.6837, 166.2670, 1554,    398.2,  11.1660,  34.9660,2,  34.9680,2,    190.7,2,    194.4,2,     5.99,2,    16.61,2,     1.18,2,  -999.0, 11.1160,-999.000
     09FA290_2,FRAN90,   123,  1,   -999,     46,2,19900401,1839,-35.6837, 166.2670, 1554,    499.2,   9.9570,  34.8040,2,  34.8040,2,    198.9,2,    195.0,2,     8.09,2,    19.86,2,     1.37,2,     1.0,  9.8985,   9.986
     09FA290_2,FRAN90,   123,  1,   -999,      1,2,19900401,1839,-35.6837, 166.2670, 1554,    600.1,   8.8270,  34.6800,2,  34.6780,2,    194.8,2,    189.8,2,    14.19,2,    23.50,2,     1.60,2,  -999.0,  8.7613,-999.000
     09FA290_2,FRAN90,   123,  1,   -999,     25,2,19900401,1839,-35.6837, 166.2670, 1554,    798.1,   7.1390,  34.5530,2,  34.5570,2,    180.7,2,    183.7,2,    24.48,2,    27.69,2,     1.89,2,  -999.0,  7.0607,-999.000
     09FA290_2,FRAN90,   123,  1,   -999,      8,2,19900401,1839,-35.6837, 166.2670, 1554,    999.5,   5.6310,  34.4980,2,  34.4980,2,    173.4,2,    176.7,2,    37.36,2,    31.52,2,     2.15,2,  -999.0,  5.5430,-999.000
     09FA290_2,FRAN90,   123,  1,   -999,     41,2,19900401,1839,-35.6837, 166.2670, 1554,   1068.6,   4.9450,  34.4520,2,  34.4550,2,    178.2,2,    178.2,2,    39.56,2,    33.05,2,     2.24,2,  -999.0,  4.8560,-999.000
     09FA290_2,FRAN90,   123,  1,   -999,     26,2,19900401,1839,-35.6837, 166.2670, 1554,   1277.6,   3.9290,  34.4950,2,  34.4940,2,    167.4,2,    166.0,2,    55.84,2,    35.14,2,     2.42,2,  -999.0,  3.8304,-999.000
     09FA290_2,FRAN90,   123,  1,   -999,     12,2,19900401,1839,-35.6837, 166.2670, 1554,   1400.9,   3.2400,  34.5600,2,  34.5530,2,    157.1,2,    156.8,2,    76.62,2,    36.48,2,     2.50,2,     9.6,  3.1378,   3.248
     09FA290_2,FRAN90,   123,  1,   -999,     34,2,19900401,1839,-35.6837, 166.2670, 1554,   1548.7,   2.8050,  34.6080,2,  34.6080,2,    152.9,2,    154.3,2,    94.21,2,    36.86,2,     2.57,2,  -999.0,  2.6953,-999.000
     09FA290_2,FRAN90,   124,  1,   -999,      6,2,19900402,0109,-36.2038, 165.2557, 1024,     48.2,  18.1450,  35.4610,2,  35.4610,2,    242.7,2,    239.0,2,     0.80,2,     0.19,2,     0.22,2,  -999.0, 18.1367,  18.139
     09FA290_2,FRAN90,   124,  1,   -999,     40,2,19900402,0109,-36.2038, 165.2557, 1024,     99.0,  15.4910,  35.4150,2,  35.4100,2,    240.2,2,    203.2,2,     1.90,2,     7.06,2,     0.60,2,  -999.0, 15.4757,-999.000
     09FA290_2,FRAN90,   124,  1,   -999,     24,2,19900402,0109,-36.2038, 165.2557, 1024,    148.7,  14.5310,  35.3700,2,  35.3690,2,    213.9,2,    212.7,2,     1.90,2,     7.06,2,     0.62,2,  -999.0, 14.5089,-999.000
     09FA290_2,FRAN90,   124,  1,   -999,     28,2,19900402,0109,-36.2038, 165.2557, 1024,    198.6,  13.6400,  35.2960,2,  35.2950,2,    216.4,2,    212.4,2,     2.30,2,     8.78,2,     0.72,2,  -999.0, 13.6117,-999.000
     09FA290_2,FRAN90,   124,  1,   -999,     46,2,19900402,0109,-36.2038, 165.2557, 1024,    398.4,  10.6650,  34.8930,2,  34.8960,2,    201.2,2,    200.5,2,     5.39,2,    17.38,2,     1.22,2,    19.1, 10.6164,  10.586
     09FA290_2,FRAN90,   124,  1,   -999,      1,2,19900402,0109,-36.2038, 165.2557, 1024,    598.4,   8.2930,  34.6060,2,  34.6070,2,    194.7,2,    194.1,2,    14.19,2,    24.64,2,     1.67,2,  -999.0,  8.2299,-999.000
     09FA290_2,FRAN90,   124,  1,   -999,     25,2,19900402,0109,-36.2038, 165.2557, 1024,    598.4,   8.2930,  34.6060,2,  34.6050,2,    194.7,2,    194.1,2,    14.19,2,    24.64,2,     1.67,2,  -999.0,  8.2299,-999.000
     09FA290_2,FRAN90,   124,  1,   -999,      8,2,19900402,0109,-36.2038, 165.2557, 1024,    598.4,   8.2930,  34.6060,2,  34.6050,2,    194.7,2,    193.2,2,    13.99,2,    24.64,2,     1.69,2,  -999.0,  8.2299,-999.000
     09FA290_2,FRAN90,   124,  1,   -999,     34,2,19900402,0109,-36.2038, 165.2557, 1024,    721.5,   7.2410,  34.5380,2,  34.5370,2,    184.8,2,    186.2,2,    21.68,2,    27.69,2,     1.89,2,  -999.0,  7.1701,-999.000
     09FA290_2,FRAN90,   124,  1,   -999,     12,2,19900402,0109,-36.2038, 165.2557, 1024,    721.5,   7.2410,  34.5380,2,  34.5390,2,    184.8,2,    185.6,2,    21.68,2,    27.69,2,     1.87,2,  -999.0,  7.1701,-999.000
     09FA290_2,FRAN90,   124,  1,   -999,     26,2,19900402,0109,-36.2038, 165.2557, 1024,    721.5,   7.2410,  34.5380,2,  34.5430,2,    184.8,2,    186.2,2,    21.68,2,    27.31,2,     1.87,2,  -999.0,  7.1701,-999.000
     09FA290_2,FRAN90,   124,  1,   -999,     41,2,19900402,0109,-36.2038, 165.2557, 1024,    721.5,   7.2410,  34.5380,2,  34.5380,2,    184.8,2,   -999.0,5,    21.68,2,    27.27,2,     1.89,2,  -999.0,  7.1701,-999.000