BOTTLE,20020730WHPSIO
EXPOCODE,SECT_ID,STNNBR,CASTNO,SAMPNO,BTLNBR,BTLNBR_FLAG_W,DATE,TIME,LATITUDE,LONGITUDE,DEPTH,CTDPRS,CTDTMP,CTDSAL,CTDSAL_FLAG_W,SALNTY,SALNTY_FLAG_W,CTDOXY,CTDOXY_FLAG_W,OXYGEN,OXYGEN_FLAG_W,SILCAT,SILCAT_FLAG_W,NO2+NO3,NO2+NO3_FLAG_W,PHSPHT,PHSPHT_FLAG_W,REVPRS,THETA,REVTMP
,,,,,,,,,,,,DBR,ITS-90,PSS-78,,PSS-78,,UMOL/KG,,UMOL/KG,,UMOL/KG,,UMOL/KG,,UMOL/KG,,DBR,ITS-90,ITS-90
     09FA290_1, PR13N,    19,  1,   -999,      6,2,19900302,0459,-43.2508, 159.0545, 4803,    198.1,  10.8850,  34.8590,2,  34.8640,3,    223.2,2,   -999.0,5,     3.90,2,    13.79,2,     1.01,2,  -999.0, 10.8608,  10.835
     09FA290_1, PR13N,    19,  1,   -999,     44,2,19900302,0459,-43.2508, 159.0545, 4803,    396.9,   9.0830,  34.6340,2,  34.6370,3,    207.3,2,    228.6,2,     5.29,2,    18.68,2,     1.30,2,  -999.0,  9.0393,-999.000
     09FA290_1, PR13N,    19,  1,   -999,     36,2,19900302,0459,-43.2508, 159.0545, 4803,    596.9,   8.1240,  34.5480,2,  34.5480,3,    207.3,2,    208.6,2,    10.09,2,    23.28,2,     1.58,2,  -999.0,  8.0619,-999.000
     09FA290_1, PR13N,    19,  1,   -999,     31,2,19900302,0459,-43.2508, 159.0545, 4803,    596.9,   8.1240,  34.5480,2,  34.5480,3,    207.3,2,    208.6,2,    10.09,2,    23.28,2,     1.58,2,  -999.0,  8.0619,-999.000
     09FA290_1, PR13N,    19,  1,   -999,     18,2,19900302,0459,-43.2508, 159.0545, 4803,    795.2,   6.6890,  34.4720,2,  34.4760,3,    186.7,2,    188.0,2,    21.78,2,    28.27,2,     1.92,2,  -999.0,  6.6138,-999.000
     09FA290_1, PR13N,    19,  1,   -999,     24,2,19900302,0459,-43.2508, 159.0545, 4803,    997.1,   5.0890,  34.4190,2,  34.4220,3,    173.9,2,    183.6,2,    36.96,2,    32.07,2,     2.18,2,  -999.0,  5.0054,-999.000
     09FA290_1, PR13N,    19,  1,   -999,     35,2,19900302,0459,-43.2508, 159.0545, 4803,   1237.0,   3.7830,  34.4490,2,  34.4510,3,    162.1,2,    173.8,2,  -999.00,5,    34.57,2,     2.38,2,  -999.0,  3.6894,-999.000
     09FA290_1, PR13N,    19,  1,   -999,      8,2,19900302,0459,-43.2508, 159.0545, 4803,   1457.6,   3.0460,  34.5250,2,  34.5270,3,    160.2,2,    164.7,2,    66.73,2,    34.37,2,     2.34,2,  -999.0,  2.9413,-999.000
     09FA290_1, PR13N,    19,  1,   -999,      2,2,19900302,0459,-43.2508, 159.0545, 4803,   1503.0,   2.9520,  34.5400,2,  34.5430,3,    163.7,2,    162.7,2,    68.33,2,    34.97,2,     2.38,2,  -999.0,  2.8445,-999.000
     09FA290_1, PR13N,    19,  1,   -999,     29,2,19900302,0459,-43.2508, 159.0545, 4803,   1748.7,   2.5580,  34.6090,2,  34.6080,3,    181.1,2,    166.6,2,    77.92,2,    35.46,2,     2.42,2,  -999.0,  2.4347,-999.000
     09FA290_1, PR13N,    19,  1,   -999,     46,2,19900302,0459,-43.2508, 159.0545, 4803,   2227.1,   2.1560,  34.7040,2,  34.7030,3,    181.1,2,    177.1,2,    82.72,2,    33.67,2,     2.30,2,    33.0,  1.9972,   2.186
     09FA290_1, PR13N,    19,  1,   -999,     26,2,19900302,0459,-43.2508, 159.0545, 4803,   2495.2,   1.9440,  34.7250,2,  34.7230,3,    182.9,2,    184.6,2,    89.11,2,    32.77,2,     2.22,2,  -999.0,  1.7649,-999.000
     09FA290_1, PR13N,    19,  1,   -999,     25,2,19900302,0459,-43.2508, 159.0545, 4803,   2495.2,   1.9440,  34.7250,2,  34.7230,3,    182.9,2,    183.3,2,    90.71,2,    33.37,2,     2.28,2,  -999.0,  1.7649,-999.000
     09FA290_1, PR13N,    19,  1,   -999,     28,2,19900302,0459,-43.2508, 159.0545, 4803,   2597.5,   1.8690,  34.7280,2,  34.7260,3,    191.4,2,    186.3,2,    94.01,2,    33.37,2,     2.27,2,  -999.0,  1.6819,-999.000
     09FA290_1, PR13N,    19,  1,   -999,     43,2,19900302,0459,-43.2508, 159.0545, 4803,   2942.7,   1.5960,  34.7250,2,  34.7230,3,    191.4,2,    188.5,2,   107.09,2,    33.87,2,     2.30,2,  -999.0,  1.3823,-999.000
     09FA290_1, PR13N,    19,  1,   -999,     10,2,19900302,0459,-43.2508, 159.0545, 4803,   3496.8,   1.2640,  34.7180,2,  34.7130,3,    194.7,2,    193.0,2,   113.79,2,    34.27,2,     2.33,2,  -999.0,  1.0039,-999.000
     09FA290_1, PR13N,    19,  1,   -999,     40,2,19900302,0459,-43.2508, 159.0545, 4803,   3601.5,   1.2280,  34.7160,2,  34.7140,3,    197.3,2,    194.4,2,   112.09,2,    34.27,2,     2.31,2,  -999.0,  0.9582,-999.000
     09FA290_1, PR13N,    19,  1,   -999,     34,2,19900302,0459,-43.2508, 159.0545, 4803,   3995.4,   1.1500,  34.7110,2,  34.7100,3,    200.4,2,    194.9,2,   113.79,2,    33.57,2,     2.28,2,  -999.0,  0.8413,-999.000
     09FA290_1, PR13N,    19,  1,   -999,      1,2,19900302,0459,-43.2508, 159.0545, 4803,   4499.4,   1.0800,  34.7080,2,  34.7060,3,    200.4,2,    198.3,2,   118.88,2,    34.27,2,     2.33,2,  -999.0,  0.7180,-999.000
     09FA290_1, PR13N,    19,  1,   -999,     42,2,19900302,0459,-43.2508, 159.0545, 4803,   4890.1,   1.0470,  34.7040,2,  34.7040,3,    200.4,2,    200.2,2,   124.08,2,    34.27,2,     2.33,2,  -999.0,  0.6410,-999.000
     09FA290_1, PR13N,    19,  1,   -999,      9,2,19900302,0459,-43.2508, 159.0545, 4803,   4890.1,   1.0470,  34.7040,2,  34.7040,3,    200.4,2,    200.8,2,   120.58,2,    34.07,2,     2.30,2,  -999.0,  0.6410,-999.000
     09FA290_1, PR13N,    19,  1,   -999,     12,2,19900302,0459,-43.2508, 159.0545, 4803,   4890.1,   1.0470,  34.7040,2,  34.7040,3,    200.4,2,    200.5,2,   122.28,2,    34.37,2,     2.33,2,    19.8,  0.6410,   1.067
     09FA290_1, PR13N,    20,  1,   -999,      6,2,19900302,1157,-43.2367, 160.0035, 5016,      0.8,  17.2460,  35.0400,2,  35.0400,3,    242.3,2,    241.3,2,     1.10,2,     0.20,2,     0.19,2,  -999.0, 17.2459,  17.238
     09FA290_1, PR13N,    20,  1,   -999,     44,2,19900302,1157,-43.2367, 160.0035, 5016,     89.5,  12.5970,  34.8810,2,  34.8740,3,    242.3,2,    242.2,2,     1.70,2,     6.39,2,     0.60,2,  -999.0, 12.5850,-999.000
     09FA290_1, PR13N,    20,  1,   -999,     31,2,19900302,1157,-43.2367, 160.0035, 5016,    199.7,  10.8480,  34.8550,2,  34.8540,3,    230.6,2,    227.4,2,     3.40,2,    13.09,2,     0.94,2,  -999.0, 10.8236,-999.000
     09FA290_1, PR13N,    20,  1,   -999,     36,2,19900302,1157,-43.2367, 160.0035, 5016,    400.7,   8.9430,  34.6150,2,  34.6140,3,    221.3,2,    230.2,2,     5.39,2,    19.18,2,     1.31,2,  -999.0,  8.8993,-999.000
     09FA290_1, PR13N,    20,  1,   -999,     18,2,19900302,1157,-43.2367, 160.0035, 5016,    498.8,   8.5830,  34.5890,2,  34.5910,3,    212.7,2,    214.4,2,  -999.00,5,  -999.00,5,  -999.00,5,  -999.0,  8.5297,-999.000
     09FA290_1, PR13N,    20,  1,   -999,     24,2,19900302,1157,-43.2367, 160.0035, 5016,    600.1,   7.8910,  34.5300,2,  34.5320,3,    205.5,2,    203.2,2,    11.99,2,    24.28,2,     1.63,2,  -999.0,  7.8296,-999.000
     09FA290_1, PR13N,    20,  1,   -999,     35,2,19900302,1157,-43.2367, 160.0035, 5016,    801.4,   6.4770,  34.4610,2,  34.4610,3,    191.0,2,    189.0,2,    24.08,2,    28.77,2,     1.96,2,  -999.0,  6.4025,-999.000
     09FA290_1, PR13N,    20,  1,   -999,      8,2,19900302,1157,-43.2367, 160.0035, 5016,   1012.5,   4.9090,  34.4030,2,  34.4060,3,    189.0,2,    189.0,2,    37.46,2,    32.17,2,     2.17,2,  -999.0,  4.8254,-999.000
     09FA290_1, PR13N,    20,  1,   -999,      2,2,19900302,1157,-43.2367, 160.0035, 5016,   1259.4,   3.6760,  34.4400,2,  34.4420,3,    178.6,2,    176.5,2,    51.85,2,    34.87,2,     2.37,2,  -999.0,  3.5815,-999.000
     09FA290_1, PR13N,    20,  1,   -999,     41,2,19900302,1157,-43.2367, 160.0035, 5016,   1477.7,   3.0250,  34.5170,2,  34.5170,3,    168.3,2,    168.4,2,    68.23,2,    35.96,2,     2.45,2,  -999.0,  2.9189,-999.000
     09FA290_1, PR13N,    20,  1,   -999,     46,2,19900302,1157,-43.2367, 160.0035, 5016,   1747.8,   2.5920,  34.6130,2,  34.6110,3,    164.6,2,    162.5,2,    81.92,2,    35.76,2,     2.47,2,    64.8,  2.4683,   2.616
     09FA290_1, PR13N,    20,  1,   -999,     26,2,19900302,1157,-43.2367, 160.0035, 5016,   2241.7,   2.1210,  34.6970,2,  34.6970,3,    174.2,2,    176.7,2,    92.31,2,    34.17,2,     2.31,2,  -999.0,  1.9616,-999.000
     09FA290_1, PR13N,    20,  1,   -999,     25,2,19900302,1157,-43.2367, 160.0035, 5016,   2497.3,   1.9070,  34.7170,2,  34.7160,3,    180.9,2,    182.6,2,    94.01,2,    33.77,2,     2.30,2,  -999.0,  1.7284,-999.000
     09FA290_1, PR13N,    20,  1,   -999,     28,2,19900302,1157,-43.2367, 160.0035, 5016,   2497.3,   1.9070,  34.7170,2,  34.7150,3,    180.9,2,    183.1,2,    95.80,2,    33.67,2,     2.30,2,  -999.0,  1.7284,-999.000
     09FA290_1, PR13N,    20,  1,   -999,     43,2,19900302,1157,-43.2367, 160.0035, 5016,   2578.1,   1.8110,  34.7180,2,  34.7170,3,    183.2,2,    184.2,2,    97.50,2,    33.77,2,     2.30,2,  -999.0,  1.6269,-999.000
     09FA290_1, PR13N,    20,  1,   -999,     10,2,19900302,1157,-43.2367, 160.0035, 5016,   2879.4,   1.5750,  34.7210,2,  34.7120,3,    184.7,2,    187.3,2,   106.19,2,    33.97,2,     2.31,2,  -999.0,  1.3678,-999.000
     09FA290_1, PR13N,    20,  1,   -999,     40,2,19900302,1157,-43.2367, 160.0035, 5016,   3496.1,   1.3010,  34.7170,2,  34.7160,3,    188.8,2,    193.2,2,   114.98,2,    34.37,2,     2.31,2,  -999.0,  1.0400,-999.000
     09FA290_1, PR13N,    20,  1,   -999,     34,2,19900302,1157,-43.2367, 160.0035, 5016,   3496.1,   1.3010,  34.7170,2,  34.7150,3,    188.8,2,    192.8,2,   114.98,2,    34.17,2,     2.33,2,  -999.0,  1.0400,-999.000
     09FA290_1, PR13N,    20,  1,   -999,      1,2,19900302,1157,-43.2367, 160.0035, 5016,   3713.1,   1.2190,  34.7140,2,  34.7140,3,    191.1,2,    194.8,2,   116.78,2,    34.17,2,     2.34,2,  -999.0,  0.9380,-999.000
     09FA290_1, PR13N,    20,  1,   -999,      9,2,19900302,1157,-43.2367, 160.0035, 5016,   3997.4,   1.1690,  34.7110,2,  34.7100,3,    192.8,2,    195.1,2,   120.28,2,    34.47,2,     2.34,2,  -999.0,  0.8595,-999.000
     09FA290_1, PR13N,    20,  1,   -999,     12,2,19900302,1157,-43.2367, 160.0035, 5016,   4499.9,   1.1210,  34.7080,2,  34.7090,3,    196.1,2,    197.3,2,   122.08,2,    34.37,2,     2.34,2,    32.1,  0.7576,   1.143
     09FA290_1, PR13N,    20,  1,   -999,     42,2,19900302,1157,-43.2367, 160.0035, 5016,   5090.5,   1.0680,  34.7040,2,  34.7020,3,    201.0,2,    200.4,2,   123.88,2,    34.47,2,     2.34,2,  -999.0,  0.6374,-999.000
     09FA290_1, PR13N,    21,  1,   -999,      6,2,19900302,1913,-43.2500, 160.9015, 4756,      0.0,  16.1920,  34.7630,2,  34.7600,3,    234.4,2,    245.0,2,     0.70,2,     0.20,2,     0.20,2,  -999.0, 16.1920,  16.221
     09FA290_1, PR13N,    21,  1,   -999,     44,2,19900302,1913,-43.2500, 160.9015, 4756,     68.9,  14.0750,  34.9650,2,  34.9630,3,    228.7,2,    234.6,2,     1.20,2,     3.40,2,     0.42,2,  -999.0, 14.0651,-999.000
     09FA290_1, PR13N,    21,  1,   -999,     31,2,19900302,1913,-43.2500, 160.9015, 4756,    106.3,  11.9310,  34.9400,2,  34.9410,3,    227.5,2,    239.9,2,     1.90,2,     7.89,2,     0.68,2,  -999.0, 11.9172,-999.000
     09FA290_1, PR13N,    21,  1,   -999,     36,2,19900302,1913,-43.2500, 160.9015, 4756,    198.7,  10.5410,  34.7970,2,  34.7980,3,    215.5,2,    231.3,2,     3.10,2,    13.49,2,     0.99,2,  -999.0, 10.5172,-999.000
     09FA290_1, PR13N,    21,  1,   -999,     18,2,19900302,1913,-43.2500, 160.9015, 4756,    398.7,   8.9160,  34.5980,2,  34.6020,3,    222.5,2,    240.6,2,  -999.00,5,  -999.00,5,  -999.00,5,  -999.0,  8.8726,-999.000
     09FA290_1, PR13N,    21,  1,   -999,     24,2,19900302,1913,-43.2500, 160.9015, 4756,    498.9,   8.5470,  34.5530,2,  34.5560,3,    221.6,2,    238.1,2,     5.39,2,    19.58,2,     1.33,2,  -999.0,  8.4938,-999.000
     09FA290_1, PR13N,    21,  1,   -999,     35,2,19900302,1913,-43.2500, 160.9015, 4756,    598.7,   8.1680,  34.5360,2,  34.5390,3,    206.2,2,    217.4,2,     8.59,2,    22.38,2,     1.51,2,  -999.0,  8.1055,-999.000
     09FA290_1, PR13N,    21,  1,   -999,      8,2,19900302,1913,-43.2500, 160.9015, 4756,    799.9,   6.6980,  34.4540,2,  34.4600,3,    187.0,2,    195.1,2,    19.18,2,    27.97,2,     1.86,2,  -999.0,  6.6223,-999.000
     09FA290_1, PR13N,    21,  1,   -999,      2,2,19900302,1913,-43.2500, 160.9015, 4756,   1110.9,   4.4380,  34.4100,2,  34.4170,3,    182.0,2,    184.3,2,    42.06,2,    33.47,2,     2.24,2,  -999.0,  4.3495,-999.000
     09FA290_1, PR13N,    21,  1,   -999,     41,2,19900302,1913,-43.2500, 160.9015, 4756,   1273.6,   3.5740,  34.4500,2,  34.4520,3,    175.7,2,    175.9,2,    57.44,2,    35.36,2,     2.39,2,  -999.0,  3.4793,-999.000
     09FA290_1, PR13N,    21,  1,   -999,     46,2,19900302,1913,-43.2500, 160.9015, 4756,   1513.7,   2.9810,  34.5370,2,  34.5390,3,    165.5,2,    164.2,2,    73.03,2,    36.26,2,     2.47,2,    25.9,  2.8723,   3.017
     09FA290_1, PR13N,    21,  1,   -999,     29,2,19900302,1913,-43.2500, 160.9015, 4756,   1513.7,   2.9810,  34.5370,2,  34.5310,3,    165.5,2,    164.8,2,    73.03,2,    36.46,2,     2.47,2,  -999.0,  2.8723,-999.000
     09FA290_1, PR13N,    21,  1,   -999,     26,2,19900302,1913,-43.2500, 160.9015, 4756,   1746.4,   2.6240,  34.6030,2,  34.6030,3,    163.4,2,    162.8,2,    80.82,2,    36.06,2,     2.44,2,  -999.0,  2.5001,-999.000
     09FA290_1, PR13N,    21,  1,   -999,     25,2,19900302,1913,-43.2500, 160.9015, 4756,   1997.7,   2.3820,  34.6570,2,  34.6530,3,    168.1,2,    168.6,2,    83.92,2,    35.36,2,     2.39,2,  -999.0,  2.2399,-999.000
     09FA290_1, PR13N,    21,  1,   -999,     28,2,19900302,1913,-43.2500, 160.9015, 4756,   2263.2,   2.1530,  34.6960,2,  34.6920,3,    172.1,2,    177.8,2,    88.61,2,    34.37,2,     2.33,2,  -999.0,  1.9911,-999.000
     09FA290_1, PR13N,    21,  1,   -999,     43,2,19900302,1913,-43.2500, 160.9015, 4756,   2605.1,   1.8710,  34.7190,2,  34.7160,3,    179.8,2,    183.4,2,    93.31,2,    33.97,2,     2.28,2,  -999.0,  1.6832,-999.000
     09FA290_1, PR13N,    21,  1,   -999,     40,2,19900302,1913,-43.2500, 160.9015, 4756,   2890.6,   1.6110,  34.7210,2,  34.7200,3,    182.3,2,    189.0,2,   101.30,2,    34.17,2,     2.28,2,  -999.0,  1.4019,-999.000
     09FA290_1, PR13N,    21,  1,   -999,     34,2,19900302,1913,-43.2500, 160.9015, 4756,   3592.9,   1.2450,  34.7150,2,  34.7130,3,    191.4,2,    194.6,2,   112.59,2,    34.37,2,     2.45,3,  -999.0,  0.9757,-999.000
     09FA290_1, PR13N,    21,  1,   -999,      9,2,19900302,1913,-43.2500, 160.9015, 4756,   3996.9,   1.1700,  34.7130,2,  34.7090,3,    194.8,2,    195.7,2,   115.88,2,    34.77,2,     2.34,2,  -999.0,  0.8605,-999.000
     09FA290_1, PR13N,    21,  1,   -999,     12,2,19900302,1913,-43.2500, 160.9015, 4756,   4501.5,   1.1310,  34.7090,2,  34.7070,3,    198.6,2,    197.1,2,   119.18,2,    34.77,2,     2.34,2,    32.0,  0.7671,   1.151
     09FA290_1, PR13N,    21,  1,   -999,     42,2,19900302,1913,-43.2500, 160.9015, 4756,   4949.8,   1.0620,  34.7020,2,  34.7020,3,    195.6,2,    200.4,2,   120.78,2,    34.77,2,     2.61,3,  -999.0,  0.6484,-999.000
     09FA290_1, PR13N,    22,  1,   -999,      6,2,19900303,0336,-43.2412, 161.8405, 4929,      1.4,  17.1260,  35.0030,2,  35.0000,3,    233.8,2,    240.8,2,     2.10,2,     0.20,2,     0.22,2,  -999.0, 17.1258,  17.150
     09FA290_1, PR13N,    22,  1,   -999,     44,2,19900303,0336,-43.2412, 161.8405, 4929,     78.5,  13.7890,  35.1540,2,  35.1530,3,    226.9,2,    236.8,2,     2.60,2,     4.40,2,     0.46,2,  -999.0, 13.7778,-999.000
     09FA290_1, PR13N,    22,  1,   -999,     31,2,19900303,0336,-43.2412, 161.8405, 4929,    198.3,  11.5450,  34.9840,2,  34.9880,3,    211.0,2,    220.9,2,     4.50,2,    12.09,2,     0.88,2,  -999.0, 11.5198,-999.000
     09FA290_1, PR13N,    22,  1,   -999,     36,2,19900303,0336,-43.2412, 161.8405, 4929,    398.9,   9.2110,  34.6630,2,  34.6650,3,    219.8,2,    220.5,2,     7.19,2,    18.98,2,     1.33,2,  -999.0,  9.1667,-999.000
     09FA290_1, PR13N,    22,  1,   -999,     18,2,19900303,0336,-43.2412, 161.8405, 4929,    599.7,   8.1530,  34.5560,2,  34.5580,3,    204.9,2,    206.5,2,  -999.00,5,  -999.00,5,  -999.00,5,  -999.0,  8.0904,-999.000
     09FA290_1, PR13N,    22,  1,   -999,     24,2,19900303,0336,-43.2412, 161.8405, 4929,    797.7,   6.6570,  34.4670,2,  34.4700,3,    188.4,2,    190.4,2,    21.38,2,    27.97,2,     1.92,2,  -999.0,  6.5817,-999.000
     09FA290_1, PR13N,    22,  1,   -999,     35,2,19900303,0336,-43.2412, 161.8405, 4929,    998.8,   5.1720,  34.4070,2,  34.4100,3,    184.8,2,   -999.0,5,    33.07,2,    30.77,2,     2.15,2,  -999.0,  5.0876,-999.000
     09FA290_1, PR13N,    22,  1,   -999,     46,2,19900303,0336,-43.2412, 161.8405, 4929,   1106.2,   4.5360,  34.4250,2,  34.4270,3,    177.7,2,    182.0,2,    48.15,2,    32.47,2,     2.27,2,     9.9,  4.4470,   4.563
     09FA290_1, PR13N,    22,  1,   -999,      2,2,19900303,0336,-43.2412, 161.8405, 4929,   1283.7,   3.5910,  34.4480,2,  34.4460,3,    165.8,2,    177.3,2,    63.24,2,    33.97,2,     2.37,2,  -999.0,  3.4953,-999.000
     09FA290_1, PR13N,    22,  1,   -999,     41,2,19900303,0336,-43.2412, 161.8405, 4929,   1489.5,   3.0130,  34.5260,2,  34.5270,3,    165.8,2,   -999.0,5,    79.82,2,    35.06,2,     2.49,2,  -999.0,  2.9060,-999.000
     09FA290_1, PR13N,    22,  1,   -999,     29,2,19900303,0336,-43.2412, 161.8405, 4929,   1489.5,   3.0130,  34.5260,2,  34.5270,3,    165.8,2,   -999.0,5,    79.82,2,    34.67,2,     2.45,2,  -999.0,  2.9060,-999.000
     09FA290_1, PR13N,    22,  1,   -999,      8,2,19900303,0336,-43.2412, 161.8405, 4929,   1748.3,   2.6230,  34.6110,2,  34.6130,3,    172.3,2,    160.8,2,    92.91,2,    34.67,2,     2.47,2,  -999.0,  2.4989,-999.000
     09FA290_1, PR13N,    22,  1,   -999,     26,2,19900303,0336,-43.2412, 161.8405, 4929,   2272.4,   2.1360,  34.6960,2,  34.6980,3,    176.2,2,    176.1,2,    97.70,2,    33.37,2,     2.35,2,  -999.0,  1.9736,-999.000
     09FA290_1, PR13N,    22,  1,   -999,     25,2,19900303,0336,-43.2412, 161.8405, 4929,   2496.4,   1.9370,  34.7160,2,  34.7150,3,    176.2,2,    183.2,2,   102.60,2,    32.87,2,     2.32,2,  -999.0,  1.7579,-999.000
     09FA290_1, PR13N,    22,  1,   -999,     28,2,19900303,0336,-43.2412, 161.8405, 4929,   2496.4,   1.9370,  34.7160,2,  34.7160,3,    176.2,2,    182.9,2,   102.60,2,    32.97,2,     2.32,2,  -999.0,  1.7579,-999.000
     09FA290_1, PR13N,    22,  1,   -999,     43,2,19900303,0336,-43.2412, 161.8405, 4929,   2612.6,   1.8190,  34.7190,2,  34.7180,3,    183.2,2,    184.2,2,   105.79,2,    32.87,2,     2.32,2,  -999.0,  1.6315,-999.000
     09FA290_1, PR13N,    22,  1,   -999,     10,2,19900303,0336,-43.2412, 161.8405, 4929,   2907.6,   1.5630,  34.7220,2,  34.7180,3,    186.6,2,    189.3,2,   110.59,2,    32.97,2,     2.32,2,  -999.0,  1.3533,-999.000
     09FA290_1, PR13N,    22,  1,   -999,     34,2,19900303,0336,-43.2412, 161.8405, 4929,   3499.6,   1.2560,  34.7170,2,  34.7160,3,    186.6,2,    194.3,2,   120.28,2,    33.47,2,     2.35,2,  -999.0,  0.9958,-999.000
     09FA290_1, PR13N,    22,  1,   -999,     40,2,19900303,0336,-43.2412, 161.8405, 4929,   3499.6,   1.2560,  34.7170,2,  34.7160,3,    186.6,2,    194.3,2,   120.28,2,    33.37,2,     2.34,2,  -999.0,  0.9958,-999.000
     09FA290_1, PR13N,    22,  1,   -999,      1,2,19900303,0336,-43.2412, 161.8405, 4929,   3594.5,   1.2310,  34.7170,2,  34.7140,3,    191.5,2,    194.6,2,   123.58,2,    33.47,2,     2.35,2,  -999.0,  0.9618,-999.000
     09FA290_1, PR13N,    22,  1,   -999,      9,2,19900303,0336,-43.2412, 161.8405, 4929,   3998.1,   1.1670,  34.7120,2,  34.7120,3,    193.0,2,    196.2,2,   125.17,2,    33.67,2,     2.37,2,  -999.0,  0.8575,-999.000
     09FA290_1, PR13N,    22,  1,   -999,     12,2,19900303,0336,-43.2412, 161.8405, 4929,   4496.0,   1.1320,  34.7090,2,  34.7080,3,    196.5,2,    197.9,2,   126.77,2,    33.47,2,     2.37,2,    29.0,  0.7687,   1.140
     09FA290_1, PR13N,    22,  1,   -999,     42,2,19900303,0336,-43.2412, 161.8405, 4929,   4998.8,   1.0840,  34.7080,2,  34.7020,3,    196.5,2,    198.7,2,   131.67,2,    33.67,2,     2.37,2,  -999.0,  0.6638,-999.000