BOTTLE,20020730WHPSIO
EXPOCODE,SECT_ID,STNNBR,CASTNO,SAMPNO,BTLNBR,BTLNBR_FLAG_W,DATE,TIME,LATITUDE,LONGITUDE,DEPTH,CTDPRS,CTDTMP,CTDSAL,CTDSAL_FLAG_W,SALNTY,SALNTY_FLAG_W,CTDOXY,CTDOXY_FLAG_W,OXYGEN,OXYGEN_FLAG_W,SILCAT,SILCAT_FLAG_W,NO2+NO3,NO2+NO3_FLAG_W,PHSPHT,PHSPHT_FLAG_W,REVPRS,THETA,REVTMP
,,,,,,,,,,,,DBR,ITS-90,PSS-78,,PSS-78,,UMOL/KG,,UMOL/KG,,UMOL/KG,,UMOL/KG,,UMOL/KG,,DBR,ITS-90,ITS-90
     09FA290_2,FRAN90,    97,  1,   -999,      6,2,19900325,2354,-26.2863, 157.0087, 4528,      5.4,  25.6280,  34.9750,2,  34.9760,2,    212.9,2,    203.0,2,     1.30,2,     0.58,2,     0.10,2,  -999.0, 25.6268,  25.648
     09FA290_2,FRAN90,    97,  1,   -999,     36,2,19900325,2354,-26.2863, 157.0087, 4528,     48.4,  24.9230,  35.3570,2,  35.3650,2,    216.6,2,    206.9,2,     1.10,2,     0.58,2,     0.12,2,  -999.0, 24.9125,-999.000
     09FA290_2,FRAN90,    97,  1,   -999,     35,2,19900325,2354,-26.2863, 157.0087, 4528,     99.5,  21.3460,  35.6160,2,  35.6120,2,    220.5,2,    202.9,2,     1.30,2,     0.97,2,     0.22,2,  -999.0, 21.3267,-999.000
     09FA290_2,FRAN90,    97,  1,   -999,     45,2,19900325,2354,-26.2863, 157.0087, 4528,    148.1,  19.8490,  35.6380,2,  35.6360,2,    181.3,2,    182.8,2,     1.40,2,     4.26,2,     0.40,2,  -999.0, 19.8217,-999.000
     09FA290_2,FRAN90,    97,  1,   -999,     37,2,19900325,2354,-26.2863, 157.0087, 4528,    198.0,  18.8330,  35.6140,2,  35.6120,2,    188.1,2,    187.4,2,     1.60,2,     4.84,2,     0.45,2,  -999.0, 18.7978,-999.000
     09FA290_2,FRAN90,    97,  1,   -999,     18,2,19900325,2354,-26.2863, 157.0087, 4528,    297.6,  16.5600,  35.4760,2,  35.4800,2,    182.0,2,    179.2,2,     2.70,2,     8.31,2,     0.69,2,  -999.0, 16.5115,-999.000
     09FA290_2,FRAN90,    97,  1,   -999,     42,2,19900325,2354,-26.2863, 157.0087, 4528,    398.0,  13.4450,  35.1860,2,  35.1880,2,    185.7,2,    183.7,2,     4.40,2,    12.76,2,     0.97,2,  -999.0, 13.3885,-999.000
     09FA290_2,FRAN90,    97,  1,   -999,      2,2,19900325,2354,-26.2863, 157.0087, 4528,    499.2,  11.2430,  34.9450,2,  34.9540,2,    189.6,2,    187.5,2,     6.69,2,    16.62,2,     1.24,2,  -999.0, 11.1798,-999.000
     09FA290_2,FRAN90,    97,  1,   -999,     27,2,19900325,2354,-26.2863, 157.0087, 4528,    597.9,   9.1900,  34.6850,2,  34.6940,2,    187.6,2,    191.5,2,     9.59,2,    20.69,2,     1.52,2,  -999.0,  9.1230,-999.000
     09FA290_2,FRAN90,    97,  1,   -999,      5,2,19900325,2354,-26.2863, 157.0087, 4528,    799.4,   6.7170,  34.4900,2,  34.4940,2,    188.8,2,    190.4,2,    21.18,2,    26.48,2,     1.93,2,  -999.0,  6.6412,-999.000
     09FA290_2,FRAN90,    97,  1,   -999,     43,2,19900325,2354,-26.2863, 157.0087, 4528,    898.9,   5.8060,  34.4500,2,  34.4540,2,    183.8,2,    184.7,2,    30.37,2,    28.61,2,     2.12,2,  -999.0,  5.7263,-999.000
     09FA290_2,FRAN90,    97,  1,   -999,     29,2,19900325,2354,-26.2863, 157.0087, 4528,    998.3,   5.1570,  34.4670,2,  34.4700,2,    178.9,2,    178.2,2,    34.77,2,    30.16,2,     2.24,2,  -999.0,  5.0727,-999.000
     09FA290_2,FRAN90,    97,  1,   -999,     24,2,19900325,2354,-26.2863, 157.0087, 4528,   1168.5,   4.1170,  34.5080,2,  34.5090,2,    167.9,2,    165.1,2,    63.54,2,    31.71,2,     2.43,2,  -999.0,  4.0261,-999.000
     09FA290_2,FRAN90,    97,  1,   -999,     40,2,19900325,2354,-26.2863, 157.0087, 4528,   1498.7,   3.1060,  34.5800,2,  34.5790,2,    151.2,2,    150.7,2,  -999.00,5,  -999.00,5,  -999.00,5,  -999.0,  2.9970,-999.000
     09FA290_2,FRAN90,    97,  1,   -999,     46,2,19900325,2354,-26.2863, 157.0087, 4528,   1750.5,   2.5910,  34.6290,2,  34.6270,2,    165.3,2,    149.3,2,    99.00,2,    33.64,2,     2.66,2,    63.7,  2.4671,   2.614
     09FA290_2,FRAN90,    97,  1,   -999,      1,2,19900325,2354,-26.2863, 157.0087, 4528,   2147.1,   2.1650,  34.6920,2,  34.6920,2,    175.5,2,    171.1,2,    92.51,2,    32.10,2,     2.47,2,  -999.0,  2.0132,-999.000
     09FA290_2,FRAN90,    97,  1,   -999,     25,2,19900325,2354,-26.2863, 157.0087, 4528,   2500.1,   1.8790,  34.7210,2,  34.7180,2,    179.9,2,    180.1,2,    95.70,2,    31.32,2,     2.41,2,  -999.0,  1.7007,-999.000
     09FA290_2,FRAN90,    97,  1,   -999,      8,2,19900325,2354,-26.2863, 157.0087, 4528,   2798.7,   1.6460,  34.7280,2,  34.7250,2,    187.7,2,    186.1,2,   100.60,2,    31.32,2,     2.41,2,  -999.0,  1.4448,-999.000
     09FA290_2,FRAN90,    97,  1,   -999,     41,2,19900325,2354,-26.2863, 157.0087, 4528,   3296.8,   1.2600,  34.7240,2,  34.7180,2,    191.1,2,    193.4,2,   110.29,2,    31.32,2,     2.41,2,  -999.0,  1.0198,-999.000
     09FA290_2,FRAN90,    97,  1,   -999,     26,2,19900325,2354,-26.2863, 157.0087, 4528,   3498.0,   1.1890,  34.7210,2,  34.7200,2,    191.1,2,    194.6,2,   110.29,2,    31.32,2,     2.43,2,  -999.0,  0.9306,-999.000
     09FA290_2,FRAN90,    97,  1,   -999,     12,2,19900325,2354,-26.2863, 157.0087, 4528,   4000.1,   1.1400,  34.7190,2,  34.7180,2,    199.9,2,    194.9,2,   113.59,2,    31.51,2,     2.43,2,    32.6,  0.8310,   1.123
     09FA290_2,FRAN90,    97,  1,   -999,     34,2,19900325,2354,-26.2863, 157.0087, 4528,   4595.6,   1.1760,  34.7180,2,  34.7170,2,    199.9,2,    194.9,2,   115.18,2,    31.32,2,     2.48,2,  -999.0,  0.7999,-999.000
     09FA290_2,FRAN90,    98,  1,   -999,      6,2,19900326,0747,-26.5318, 157.6417, 3679,      5.7,  25.5920,  35.0820,2,  35.0790,2,    206.1,2,    201.9,2,     1.00,2,     0.00,2,     0.12,2,  -999.0, 25.5907,  25.591
     09FA290_2,FRAN90,    98,  1,   -999,     45,2,19900326,0747,-26.5318, 157.6417, 3679,     47.3,  25.5410,  35.1250,2,  35.0980,2,    209.7,2,    203.0,2,     1.00,2,     0.00,2,     0.10,2,  -999.0, 25.5306,-999.000
     09FA290_2,FRAN90,    98,  1,   -999,     37,2,19900326,0747,-26.5318, 157.6417, 3679,    108.5,  20.0100,  35.6390,2,  35.6380,2,    203.4,2,    198.1,2,     1.30,2,     1.80,2,     0.28,2,  -999.0, 19.9899,-999.000
     09FA290_2,FRAN90,    98,  1,   -999,     18,2,19900326,0747,-26.5318, 157.6417, 3679,    197.9,  18.5890,  35.6250,2,  35.6230,2,    203.1,2,    198.4,2,     1.50,2,     3.61,2,     0.38,2,  -999.0, 18.5541,-999.000
     09FA290_2,FRAN90,    98,  1,   -999,     42,2,19900326,0747,-26.5318, 157.6417, 3679,    298.6,  16.1180,  35.4580,2,  35.4570,2,    187.3,2,    185.1,2,     2.80,2,     8.21,2,     0.66,2,  -999.0, 16.0702,-999.000
     09FA290_2,FRAN90,    98,  1,   -999,      2,2,19900326,0747,-26.5318, 157.6417, 3679,    397.7,  13.4590,  35.1830,2,  35.1810,2,    190.2,2,    184.6,2,     4.70,2,    13.02,2,     1.03,2,  -999.0, 13.4025,-999.000
     09FA290_2,FRAN90,    98,  1,   -999,     27,2,19900326,0747,-26.5318, 157.6417, 3679,    499.1,  11.2840,  34.9480,2,  34.9510,2,    185.2,2,    186.6,2,     7.19,2,    17.02,2,     1.21,2,  -999.0, 11.2206,-999.000
     09FA290_2,FRAN90,    98,  1,   -999,      5,2,19900326,0747,-26.5318, 157.6417, 3679,    599.1,   9.3250,  34.7130,2,  34.7160,2,    186.6,2,    190.0,2,    10.19,2,    21.24,2,     1.47,2,  -999.0,  9.2572,-999.000
     09FA290_2,FRAN90,    98,  1,   -999,     43,2,19900326,0747,-26.5318, 157.6417, 3679,    797.4,   6.8000,  34.4900,2,  34.4950,2,    191.9,2,    190.4,2,    20.78,2,    26.84,2,     1.89,2,  -999.0,  6.7239,-999.000
     09FA290_2,FRAN90,    98,  1,   -999,     29,2,19900326,0747,-26.5318, 157.6417, 3679,    922.0,   5.7440,  34.4570,2,  34.4620,2,    180.4,2,    184.7,2,    31.87,2,    29.45,2,     2.07,2,  -999.0,  5.6626,-999.000
     09FA290_2,FRAN90,    98,  1,   -999,     24,2,19900326,0747,-26.5318, 157.6417, 3679,    999.0,   5.1180,  34.4600,2,  34.4630,2,    179.7,2,    178.8,2,    42.46,2,    30.85,2,     2.20,2,  -999.0,  5.0339,-999.000
     09FA290_2,FRAN90,    98,  1,   -999,     35,2,19900326,0747,-26.5318, 157.6417, 3679,   1397.1,   3.3310,  34.5600,2,  34.5630,2,    148.9,2,    153.5,2,    85.91,2,    34.66,2,     2.50,2,  -999.0,  3.2281,-999.000
     09FA290_2,FRAN90,    98,  1,   -999,     46,2,19900326,0747,-26.5318, 157.6417, 3679,   1499.4,   3.0860,  34.5810,2,  34.5830,2,    151.8,2,    149.8,2,    93.01,2,    35.05,2,     2.55,2,     4.3,  2.9772,   3.107
     09FA290_2,FRAN90,    98,  1,   -999,      1,2,19900326,0747,-26.5318, 157.6417, 3679,   1748.7,   2.5650,  34.6330,2,  34.6310,2,    172.0,2,    152.4,2,   102.00,2,    35.05,2,     2.55,2,  -999.0,  2.4416,-999.000
     09FA290_2,FRAN90,    98,  1,   -999,     25,2,19900326,0747,-26.5318, 157.6417, 3679,   2147.0,   2.1260,  34.6930,2,  34.6920,2,    179.1,2,    169.9,2,    98.40,2,    33.46,2,     2.40,2,  -999.0,  1.9748,-999.000
     09FA290_2,FRAN90,    98,  1,   -999,      8,2,19900326,0747,-26.5318, 157.6417, 3679,   2499.4,   1.8820,  34.7190,2,  34.7170,2,    181.0,2,    181.6,2,   100.20,2,    32.66,2,     2.35,2,  -999.0,  1.7037,-999.000
     09FA290_2,FRAN90,    98,  1,   -999,     41,2,19900326,0747,-26.5318, 157.6417, 3679,   2788.5,   1.6280,  34.7260,2,  34.7240,2,    189.0,2,    186.6,2,   105.59,2,    32.66,2,     2.34,2,  -999.0,  1.4281,-999.000
     09FA290_2,FRAN90,    98,  1,   -999,     26,2,19900326,0747,-26.5318, 157.6417, 3679,   3288.6,   1.2350,  34.7230,2,  34.7210,2,    192.7,2,    193.2,2,   116.38,2,    32.86,2,     2.35,2,  -999.0,  0.9962,-999.000
     09FA290_2,FRAN90,    98,  1,   -999,     12,2,19900326,0747,-26.5318, 157.6417, 3679,   3500.7,   1.1340,  34.7210,2,  34.7190,2,    194.0,2,    194.6,2,   119.98,2,    32.86,2,     2.39,2,    30.6,  0.8768,   1.127
     09FA290_2,FRAN90,    98,  1,   -999,     34,2,19900326,0747,-26.5318, 157.6417, 3679,   3706.8,   1.1090,  34.7200,2,  34.7170,2,    194.0,2,    195.4,2,   118.18,2,    32.86,2,     2.35,2,  -999.0,  0.8316,-999.000
     09FA290_2,FRAN90,    99,  1,   -999,      6,2,19900326,1841,-26.9418, 158.6167, 3533,      1.9,  24.9600,  35.2800,2,  35.2750,2,    224.1,2,   -999.0,5,     1.10,2,     0.20,2,     0.10,2,  -999.0, 24.9596,  24.972
     09FA290_2,FRAN90,    99,  1,   -999,     45,2,19900326,1841,-26.9418, 158.6167, 3533,     47.3,  22.8240,  35.6170,2,  35.6160,2,    216.1,2,    223.9,2,     0.90,2,     0.20,2,     0.10,2,  -999.0, 22.8144,-999.000
     09FA290_2,FRAN90,    99,  1,   -999,     37,2,19900326,1841,-26.9418, 158.6167, 3533,     78.3,  20.1670,  35.6440,2,  35.6440,2,    202.6,2,    206.1,2,     1.10,2,     0.60,2,     0.23,2,  -999.0, 20.1524,-999.000
     09FA290_2,FRAN90,    99,  1,   -999,     18,2,19900326,1841,-26.9418, 158.6167, 3533,     98.2,  19.5400,  35.6460,2,  35.6420,2,    190.9,2,    195.0,2,     1.30,2,     2.82,2,     0.33,2,  -999.0, 19.5221,-999.000
     09FA290_2,FRAN90,    99,  1,   -999,     42,2,19900326,1841,-26.9418, 158.6167, 3533,    149.2,  18.6990,  35.6280,2,  35.6260,2,    181.6,2,    189.8,2,     1.60,2,     4.42,2,     0.43,2,  -999.0, 18.6726,-999.000
     09FA290_2,FRAN90,    99,  1,   -999,      2,2,19900326,1841,-26.9418, 158.6167, 3533,    200.3,  17.8190,  35.5800,2,  35.5580,2,    176.8,2,    183.7,2,     2.20,2,     6.22,2,     0.53,2,  -999.0, 17.7847,-999.000
     09FA290_2,FRAN90,    99,  1,   -999,     27,2,19900326,1841,-26.9418, 158.6167, 3533,    299.2,  15.6590,  35.4020,2,  35.3990,2,    180.3,2,    181.7,2,     3.20,2,     9.44,2,     0.75,2,  -999.0, 15.6121,-999.000
     09FA290_2,FRAN90,    99,  1,   -999,      5,2,19900326,1841,-26.9418, 158.6167, 3533,    398.9,  13.2350,  35.1310,2,  35.1360,2,    183.4,2,    180.3,2,     5.19,2,    13.67,2,     1.01,2,  -999.0, 13.1790,-999.000
     09FA290_2,FRAN90,    99,  1,   -999,     43,2,19900326,1841,-26.9418, 158.6167, 3533,    499.1,  10.9100,  34.8640,2,  34.8660,2,    189.4,2,    183.2,2,     8.09,2,    18.28,2,     1.31,2,  -999.0, 10.8480,-999.000
     09FA290_2,FRAN90,    99,  1,   -999,     29,2,19900326,1841,-26.9418, 158.6167, 3533,    598.6,   9.0340,  34.6670,2,  34.6700,2,    190.5,2,    191.7,2,    10.19,2,    21.70,2,     1.52,2,  -999.0,  8.9676,-999.000
     09FA290_2,FRAN90,    99,  1,   -999,     24,2,19900326,1841,-26.9418, 158.6167, 3533,    799.9,   6.8920,  34.4970,2,  34.5040,2,    165.6,2,    191.4,2,    19.98,2,    26.72,2,     1.86,2,  -999.0,  6.8151,-999.000
     09FA290_2,FRAN90,    99,  1,   -999,     35,2,19900326,1841,-26.9418, 158.6167, 3533,   1201.3,   4.0670,  34.5100,2,  34.5140,2,    148.3,2,    164.9,2,    66.33,2,    33.35,2,     2.35,2,  -999.0,  3.9737,-999.000
     09FA290_2,FRAN90,    99,  1,   -999,     46,2,19900326,1841,-26.9418, 158.6167, 3533,   1399.6,   3.4140,  34.5560,2,  34.5600,2,    151.4,2,    152.7,2,    84.32,2,    34.76,2,     2.50,2,    17.7,  3.3100,   3.406
     09FA290_2,FRAN90,    99,  1,   -999,      1,2,19900326,1841,-26.9418, 158.6167, 3533,   1500.1,   3.1280,  34.5800,2,  34.5800,2,    168.9,2,    150.0,2,    89.61,2,    35.35,2,     2.55,2,  -999.0,  3.0187,-999.000
     09FA290_2,FRAN90,    99,  1,   -999,     25,2,19900326,1841,-26.9418, 158.6167, 3533,   1748.2,   2.6270,  34.6270,2,  34.6300,2,    176.2,2,    149.4,2,    98.60,2,    35.35,2,     2.52,2,  -999.0,  2.5028,-999.000
     09FA290_2,FRAN90,    99,  1,   -999,      8,2,19900326,1841,-26.9418, 158.6167, 3533,   2248.0,   2.1330,  34.6960,2,  34.6970,2,    181.9,2,    171.0,2,    95.00,2,    33.55,2,     2.42,2,  -999.0,  1.9728,-999.000
     09FA290_2,FRAN90,    99,  1,   -999,     41,2,19900326,1841,-26.9418, 158.6167, 3533,   2544.5,   1.8670,  34.7170,2,  34.7170,2,    188.0,2,    180.3,2,   100.40,2,    33.15,2,     2.35,2,  -999.0,  1.6849,-999.000
     09FA290_2,FRAN90,    99,  1,   -999,     26,2,19900326,1841,-26.9418, 158.6167, 3533,   2799.4,   1.5960,  34.7250,2,  34.7220,2,    196.3,2,    185.8,2,   105.79,2,    33.15,2,     2.34,2,  -999.0,  1.3958,-999.000
     09FA290_2,FRAN90,    99,  1,   -999,     12,2,19900326,1841,-26.9418, 158.6167, 3533,   3298.5,   1.2730,  34.7240,2,  34.7240,2,    196.3,2,    192.5,2,   112.99,2,    33.15,2,     2.34,2,    14.2,  1.0323,   1.287
     09FA290_2,FRAN90,    99,  1,   -999,     34,2,19900326,1841,-26.9418, 158.6167, 3533,   3546.6,   1.0820,  34.7200,2,  34.7180,2,    224.2,2,    194.3,2,   118.38,2,    33.35,2,     2.42,2,  -999.0,  0.8215,-999.000
     09FA290_2,FRAN90,   100,  1,   -999,      6,2,19900327,0617,-27.3595, 159.6008, 3304,      2.7,  25.2770,  35.3260,2,  35.3260,2,    221.1,2,    206.1,2,     0.90,2,     0.20,2,     0.10,2,  -999.0, 25.2764,-999.000
     09FA290_2,FRAN90,   100,  1,   -999,     45,2,19900327,0617,-27.3595, 159.6008, 3304,     46.7,  25.2790,  35.3300,2,  35.3300,2,    209.9,2,    207.0,2,     0.70,2,     0.20,2,     0.08,2,  -999.0, 25.2688,-999.000
     09FA290_2,FRAN90,   100,  1,   -999,     37,2,19900327,0617,-27.3595, 159.6008, 3304,     98.0,  20.9170,  35.6350,2,  35.6340,2,    206.0,2,    209.6,2,     0.90,2,     0.40,2,     0.18,2,  -999.0, 20.8983,-999.000
     09FA290_2,FRAN90,   100,  1,   -999,     18,2,19900327,0617,-27.3595, 159.6008, 3304,    136.4,  19.7290,  35.6440,2,  35.6430,2,    188.5,2,    183.7,2,     1.30,2,     3.96,2,     0.40,2,  -999.0, 19.7040,-999.000
     09FA290_2,FRAN90,   100,  1,   -999,     42,2,19900327,0617,-27.3595, 159.6008, 3304,    197.2,  18.8500,  35.6240,2,  35.6240,2,    196.0,2,    189.8,2,     1.50,2,     4.35,2,     0.41,2,  -999.0, 18.8149,-999.000
     09FA290_2,FRAN90,   100,  1,   -999,      2,2,19900327,0617,-27.3595, 159.6008, 3304,    298.1,  17.1850,  35.5280,2,  35.5280,2,    184.6,2,    181.1,2,     2.20,2,     7.31,2,     0.60,2,  -999.0, 17.1351,-999.000
     09FA290_2,FRAN90,   100,  1,   -999,     27,2,19900327,0617,-27.3595, 159.6008, 3304,    428.6,  13.7560,  35.2150,2,  35.2160,2,    188.7,2,    182.6,2,     4.40,2,    12.66,2,     0.93,2,  -999.0, 13.6942,-999.000
     09FA290_2,FRAN90,   100,  1,   -999,      5,2,19900327,0617,-27.3595, 159.6008, 3304,    497.2,  12.0740,  35.0470,2,  35.0520,2,    194.0,2,    186.4,2,     5.69,2,    15.22,2,     1.09,2,  -999.0, 12.0080,-999.000
     09FA290_2,FRAN90,   100,  1,   -999,     43,2,19900327,0617,-27.3595, 159.6008, 3304,    598.5,   9.8290,  34.7650,2,  34.7650,2,    190.3,2,    189.9,2,     8.69,2,    20.17,2,     1.41,2,  -999.0,  9.7591,-999.000
     09FA290_2,FRAN90,   100,  1,   -999,     29,2,19900327,0617,-27.3595, 159.6008, 3304,    799.4,   6.9250,  34.4920,2,  34.4990,2,    187.6,2,    193.2,2,    18.98,2,    26.49,2,     1.84,2,  -999.0,  6.8479,-999.000
     09FA290_2,FRAN90,   100,  1,   -999,     24,2,19900327,0617,-27.3595, 159.6008, 3304,    998.2,   5.3910,  34.4640,2,  34.4660,2,    180.7,2,    180.6,2,    37.96,2,    30.65,2,     2.14,2,  -999.0,  5.3049,-999.000
     09FA290_2,FRAN90,   100,  1,   -999,     44,2,19900327,0617,-27.3595, 159.6008, 3304,   1208.3,   4.1970,  34.5060,2,  34.5090,2,    165.7,2,    166.9,2,    60.64,2,    33.22,2,     2.34,2,  -999.0,  4.1019,-999.000
     09FA290_2,FRAN90,   100,  1,   -999,     35,2,19900327,0617,-27.3595, 159.6008, 3304,   1427.3,   3.3400,  34.5660,2,  34.5640,2,    153.7,2,    154.1,2,    83.02,2,    34.80,2,     2.49,2,  -999.0,  3.2345,-999.000
     09FA290_2,FRAN90,   100,  1,   -999,     46,2,19900327,0617,-27.3595, 159.6008, 3304,   1496.9,   3.1570,  34.5800,2,  34.5820,2,    150.5,2,    151.2,2,    88.71,2,    35.19,2,     2.52,2,     0.2,  3.0476,   3.181
     09FA290_2,FRAN90,   100,  1,   -999,      1,2,19900327,0617,-27.3595, 159.6008, 3304,   1746.9,   2.6280,  34.6310,2,  34.6300,2,    152.7,2,    151.8,2,   100.00,2,    35.58,2,     2.54,2,  -999.0,  2.5039,-999.000
     09FA290_2,FRAN90,   100,  1,   -999,     25,2,19900327,0617,-27.3595, 159.6008, 3304,   2262.5,   2.1420,  34.6940,2,  34.6940,2,    166.9,2,    169.8,2,    96.20,2,    34.01,2,     2.42,2,  -999.0,  1.9804,-999.000
     09FA290_2,FRAN90,   100,  1,   -999,      8,2,19900327,0617,-27.3595, 159.6008, 3304,   2497.4,   1.9050,  34.7170,2,  34.7150,2,    176.0,2,    178.0,2,   100.00,2,    33.42,2,     2.37,2,  -999.0,  1.7264,-999.000
     09FA290_2,FRAN90,   100,  1,   -999,     41,2,19900327,0617,-27.3595, 159.6008, 3304,   2556.5,   1.8430,  34.7190,2,  34.7170,2,    176.9,2,    180.9,2,   100.00,2,    33.42,2,     2.36,2,  -999.0,  1.6602,-999.000
     09FA290_2,FRAN90,   100,  1,   -999,     26,2,19900327,0617,-27.3595, 159.6008, 3304,   2798.4,   1.6190,  34.7280,2,  34.7250,2,    184.0,2,    186.1,2,   103.80,2,    33.22,2,     2.36,2,  -999.0,  1.4184,-999.000
     09FA290_2,FRAN90,   100,  1,   -999,     12,2,19900327,0617,-27.3595, 159.6008, 3304,   3246.9,   1.2690,  34.7270,2,  34.7260,2,    190.7,2,    191.4,2,   115.08,2,    33.22,2,     2.36,2,    74.0,  1.0334,   1.238
     09FA290_2,FRAN90,   100,  1,   -999,     34,2,19900327,0617,-27.3595, 159.6008, 3304,   3319.6,   1.1870,  34.7280,2,  34.7250,2,    191.4,2,    191.7,2,   115.08,2,    33.22,2,     2.36,2,  -999.0,  0.9463,-999.000