BOTTLE,20020730WHPSIO
EXPOCODE,SECT_ID,STNNBR,CASTNO,SAMPNO,BTLNBR,BTLNBR_FLAG_W,DATE,TIME,LATITUDE,LONGITUDE,DEPTH,CTDPRS,CTDTMP,CTDSAL,CTDSAL_FLAG_W,SALNTY,SALNTY_FLAG_W,CTDOXY,CTDOXY_FLAG_W,OXYGEN,OXYGEN_FLAG_W,SILCAT,SILCAT_FLAG_W,NO2+NO3,NO2+NO3_FLAG_W,PHSPHT,PHSPHT_FLAG_W,REVPRS,THETA,REVTMP
,,,,,,,,,,,,DBR,ITS-90,PSS-78,,PSS-78,,UMOL/KG,,UMOL/KG,,UMOL/KG,,UMOL/KG,,UMOL/KG,,DBR,ITS-90,ITS-90
     09FA290_2,FRAN90,   125,  1,   -999,      6,2,19900402,0912,-36.3187, 163.9107, 2069,      5.7,  21.0540,  35.4640,2,  35.4610,2,    233.4,2,    223.7,2,     0.80,2,     0.00,2,     0.12,2,  -999.0, 21.0529,  21.066
     09FA290_2,FRAN90,   125,  1,   -999,     45,2,19900402,0912,-36.3187, 163.9107, 2069,     47.4,  19.6820,  35.4660,2,  35.4660,2,    239.5,2,    236.5,2,     0.90,2,     0.00,2,     0.56,3,  -999.0, 19.6733,-999.000
     09FA290_2,FRAN90,   125,  1,   -999,     37,2,19900402,0912,-36.3187, 163.9107, 2069,     99.5,  16.0120,  35.4300,2,  35.4280,2,    230.4,2,    227.7,2,     1.50,2,     1.91,2,     0.36,2,  -999.0, 15.9962,-999.000
     09FA290_2,FRAN90,   125,  1,   -999,     18,2,19900402,0912,-36.3187, 163.9107, 2069,    187.7,  13.8200,  35.2710,2,  35.2760,2,    209.1,2,    195.3,2,     3.40,2,    10.67,2,     0.82,2,  -999.0, 13.7930,-999.000
     09FA290_2,FRAN90,   125,  1,   -999,     10,2,19900402,0912,-36.3187, 163.9107, 2069,    298.9,  11.7540,  35.0340,2,  35.0330,2,    200.1,2,    194.1,2,     5.29,2,    15.05,2,     1.09,2,  -999.0, 11.7153,-999.000
     09FA290_2,FRAN90,   125,  1,   -999,     42,2,19900402,0912,-36.3187, 163.9107, 2069,    398.3,  10.4530,  34.8580,2,  34.8590,2,    191.6,2,    193.5,2,     6.99,2,    18.48,2,     1.28,2,  -999.0, 10.4051,-999.000
     09FA290_2,FRAN90,   125,  1,   -999,     40,2,19900402,0912,-36.3187, 163.9107, 2069,    501.9,   9.0290,  34.6820,2,  34.6820,2,    196.7,2,    195.3,2,     9.69,2,    21.92,2,     1.51,2,  -999.0,  8.9736,-999.000
     09FA290_2,FRAN90,   125,  1,   -999,     24,2,19900402,0912,-36.3187, 163.9107, 2069,    597.2,   8.1550,  34.5990,2,  34.6020,2,    190.8,2,    191.4,2,    13.29,2,    24.40,2,     1.68,2,  -999.0,  8.0927,-999.000
     09FA290_2,FRAN90,   125,  1,   -999,     28,2,19900402,0912,-36.3187, 163.9107, 2069,    799.8,   6.4980,  34.4930,2,  34.4950,2,    182.7,2,    185.6,2,    24.78,2,    28.58,2,     1.97,2,  -999.0,  6.4234,-999.000
     09FA290_2,FRAN90,   125,  1,   -999,     36,2,19900402,0912,-36.3187, 163.9107, 2069,    999.2,   5.0810,  34.4710,2,  34.4710,2,    176.7,2,    176.7,2,    41.76,2,    31.83,2,     2.21,2,  -999.0,  4.9972,-999.000
     09FA290_2,FRAN90,   125,  1,   -999,     46,2,19900402,0912,-36.3187, 163.9107, 2069,   1197.5,   4.1710,  34.5000,2,  34.5020,2,    163.5,2,    166.9,2,    57.64,2,    33.92,2,     2.37,2,    89.3,  4.0771,   4.194
     09FA290_2,FRAN90,   125,  1,   -999,      1,2,19900402,0912,-36.3187, 163.9107, 2069,   1296.9,   3.8010,  34.5280,2,  34.5290,2,    161.9,2,    160.2,2,    66.33,2,    34.69,2,     2.44,2,  -999.0,  3.7019,-999.000
     09FA290_2,FRAN90,   125,  1,   -999,     25,2,19900402,0912,-36.3187, 163.9107, 2069,   1449.4,   3.3120,  34.5580,2,  34.5630,2,    154.6,2,    156.8,2,    77.12,2,    35.63,2,     2.50,2,  -999.0,  3.2049,-999.000
     09FA290_2,FRAN90,   125,  1,   -999,      8,2,19900402,0912,-36.3187, 163.9107, 2069,   1498.0,   3.1640,  34.5740,2,  34.5690,2,    156.6,2,    154.6,2,    80.82,2,    35.82,2,     2.50,2,  -999.0,  3.0545,-999.000
     09FA290_2,FRAN90,   125,  1,   -999,     41,2,19900402,0912,-36.3187, 163.9107, 2069,   1597.7,   2.9670,  34.5940,2,  34.5930,2,    154.1,2,    154.3,2,    84.42,2,    35.82,2,     2.52,2,  -999.0,  2.8513,-999.000
     09FA290_2,FRAN90,   125,  1,   -999,     26,2,19900402,0912,-36.3187, 163.9107, 2069,   1747.5,   2.6900,  34.6260,2,  34.6240,2,    155.5,2,    157.1,2,    89.91,2,    35.82,2,     2.50,2,  -999.0,  2.5650,-999.000
     09FA290_2,FRAN90,   125,  1,   -999,     12,2,19900402,0912,-36.3187, 163.9107, 2069,   1896.0,   2.5000,  34.6510,2,  34.6460,2,    158.3,2,    159.8,2,    91.71,2,    35.63,2,     2.52,2,    16.0,  2.3649,   2.491
     09FA290_2,FRAN90,   125,  1,   -999,     34,2,19900402,0912,-36.3187, 163.9107, 2069,   2046.4,   2.3440,  34.6730,2,  34.6710,2,    162.7,2,    165.3,2,    89.91,2,    35.06,2,     2.44,2,  -999.0,  2.1982,-999.000
     09FA290_2,FRAN90,   126,  1,   -999,      6,2,19900402,1546,-36.1942, 162.8070, 3017,      2.6,  21.8750,  35.4830,2,  35.4830,2,    227.0,2,    221.0,2,     0.80,2,     0.00,2,     0.10,2,  -999.0, 21.8745,  21.890
     09FA290_2,FRAN90,   126,  1,   -999,      5,2,19900402,1546,-36.1942, 162.8070, 3017,     47.6,  21.3060,  35.5610,2,  35.5760,2,    215.4,2,    222.8,2,     0.80,2,     0.00,2,     0.12,2,  -999.0, 21.2968,-999.000
     09FA290_2,FRAN90,   126,  1,   -999,     27,2,19900402,1546,-36.1942, 162.8070, 3017,     68.2,  18.9330,  35.5760,2,  35.5810,2,    206.0,2,    204.4,2,     1.10,2,     2.10,2,     0.30,2,  -999.0, 18.9209,-999.000
     09FA290_2,FRAN90,   126,  1,   -999,     29,2,19900402,1546,-36.1942, 162.8070, 3017,     98.6,  17.6530,  35.5390,2,  35.5420,2,    195.0,2,    193.5,2,     1.50,2,     4.96,2,     0.48,2,  -999.0, 17.6363,-999.000
     09FA290_2,FRAN90,   126,  1,   -999,     45,2,19900402,1546,-36.1942, 162.8070, 3017,    147.5,  16.0570,  35.4520,2,  35.4590,2,    194.7,2,    199.0,2,     2.20,2,     6.48,2,     0.58,2,  -999.0, 16.0335,-999.000
     09FA290_2,FRAN90,   126,  1,   -999,     37,2,19900402,1546,-36.1942, 162.8070, 3017,    197.7,  14.7310,  35.3460,2,  35.3490,2,    191.3,2,    189.2,2,     3.10,2,    10.10,2,     0.77,2,  -999.0, 14.7013,-999.000
     09FA290_2,FRAN90,   126,  1,   -999,     18,2,19900402,1546,-36.1942, 162.8070, 3017,    247.8,  13.9490,  35.2850,2,  35.2850,2,    203.3,2,    191.7,2,     3.60,2,    11.05,2,     0.84,2,  -999.0, 13.9131,-999.000
     09FA290_2,FRAN90,   126,  1,   -999,     10,2,19900402,1546,-36.1942, 162.8070, 3017,    298.3,  13.2870,  35.2240,2,  35.2230,2,    196.8,2,    195.3,2,     3.80,2,    11.82,2,     0.89,2,  -999.0, 13.2451,-999.000
     09FA290_2,FRAN90,   126,  1,   -999,     42,2,19900402,1546,-36.1942, 162.8070, 3017,    397.4,  11.6880,  35.0280,2,  35.0310,2,    184.7,2,    195.3,2,     5.09,2,    14.89,2,     1.10,2,  -999.0, 11.6366,-999.000
     09FA290_2,FRAN90,   126,  1,   -999,     40,2,19900402,1546,-36.1942, 162.8070, 3017,    498.1,  10.3500,  34.8460,2,  34.8470,2,    198.7,2,    192.0,2,     7.19,2,    18.87,2,     1.32,2,  -999.0, 10.2902,-999.000
     09FA290_2,FRAN90,   126,  1,   -999,     24,2,19900402,1546,-36.1942, 162.8070, 3017,    596.4,   9.1070,  34.6950,2,  34.6950,2,    194.2,2,    195.1,2,    10.09,2,    21.92,2,     1.55,2,  -999.0,  9.0405,-999.000
     09FA290_2,FRAN90,   126,  1,   -999,     28,2,19900402,1546,-36.1942, 162.8070, 3017,    797.6,   7.2570,  34.5350,2,  34.5350,2,    185.6,2,    188.7,2,    18.68,2,    26.68,2,     1.84,2,  -999.0,  7.1781,-999.000
     09FA290_2,FRAN90,   126,  1,   -999,     36,2,19900402,1546,-36.1942, 162.8070, 3017,    997.1,   5.7000,  34.4710,2,  34.4740,2,    180.4,2,    181.4,2,    33.97,2,    30.49,2,     2.09,2,  -999.0,  5.6117,-999.000
     09FA290_2,FRAN90,   126,  1,   -999,     46,2,19900402,1546,-36.1942, 162.8070, 3017,   1297.1,   4.0670,  34.5040,2,  34.5060,2,    166.9,2,    165.8,2,    59.34,2,    34.31,2,     2.68,3,    12.4,  3.9653,   4.086
     09FA290_2,FRAN90,   126,  1,   -999,      1,2,19900402,1546,-36.1942, 162.8070, 3017,   1496.3,   3.3190,  34.5570,2,  34.5610,2,    158.6,2,    155.7,2,  -999.00,5,  -999.00,5,  -999.00,5,  -999.0,  3.2078,-999.000
     09FA290_2,FRAN90,   126,  1,   -999,     25,2,19900402,1546,-36.1942, 162.8070, 3017,   1749.4,   2.7300,  34.6190,2,  34.6180,2,    155.4,2,    155.7,2,    89.91,2,    35.82,2,     2.52,2,  -999.0,  2.6044,-999.000
     09FA290_2,FRAN90,   126,  1,   -999,      8,2,19900402,1546,-36.1942, 162.8070, 3017,   1996.7,   2.4110,  34.6600,2,  34.6570,2,    162.0,2,    161.8,2,    91.71,2,    35.25,2,     2.47,2,  -999.0,  2.2685,-999.000
     09FA290_2,FRAN90,   126,  1,   -999,     41,2,19900402,1546,-36.1942, 162.8070, 3017,   2303.0,   2.1350,  34.7020,2,  34.6980,2,    173.8,2,    174.3,2,    91.71,2,    34.31,2,     2.39,2,  -999.0,  1.9699,-999.000
     09FA290_2,FRAN90,   126,  1,   -999,     26,2,19900402,1546,-36.1942, 162.8070, 3017,   2499.8,   1.9500,  34.7190,2,  34.7140,2,    182.5,2,    180.1,2,    93.61,2,    33.92,2,     2.35,2,  -999.0,  1.7704,-999.000
     09FA290_2,FRAN90,   126,  1,   -999,     12,2,19900402,1546,-36.1942, 162.8070, 3017,   2828.6,   1.6110,  34.7290,2,  34.7260,2,    186.7,2,    186.2,2,   100.90,2,    33.73,2,     2.34,2,    43.4,  1.4077,   1.620
     09FA290_2,FRAN90,   126,  1,   -999,      2,2,19900402,1546,-36.1942, 162.8070, 3017,   3038.6,   1.3790,  34.7310,2,  34.7230,2,    187.6,2,    189.9,2,   108.29,2,    33.73,2,     2.35,2,  -999.0,  1.1609,-999.000
     09FA290_2,FRAN90,   127,  1,   -999,      6,2,19900402,2319,-36.1992, 161.5623, 3233,      6.1,  22.0560,  35.5500,2,  35.5530,2,    220.3,2,    220.7,2,     0.60,2,     0.00,2,     0.10,2,  -999.0, 22.0548,  22.076
     09FA290_2,FRAN90,   127,  1,   -999,     27,2,19900402,2319,-36.1992, 161.5623, 3233,     48.8,  21.3860,  35.5220,2,  35.5230,2,    228.1,2,    224.0,2,     0.40,2,     0.00,2,     0.08,2,  -999.0, 21.3765,-999.000
     09FA290_2,FRAN90,   127,  1,   -999,     29,2,19900402,2319,-36.1992, 161.5623, 3233,     98.1,  16.6650,  35.4600,2,  35.4550,2,    191.9,2,    194.7,2,     1.90,2,     5.19,2,     0.52,2,  -999.0, 16.6490,-999.000
     09FA290_2,FRAN90,   127,  1,   -999,     45,2,19900402,2319,-36.1992, 161.5623, 3233,    150.3,  14.8790,  35.3750,2,  35.3760,2,    195.3,2,    197.7,2,     2.70,2,     8.49,2,     0.70,2,  -999.0, 14.8563,-999.000
     09FA290_2,FRAN90,   127,  1,   -999,     37,2,19900402,2319,-36.1992, 161.5623, 3233,    247.9,  13.1100,  35.2120,2,  35.2120,2,    204.1,2,    199.9,2,     3.50,2,    11.39,2,     0.87,2,  -999.0, 13.0756,-999.000
     09FA290_2,FRAN90,   127,  1,   -999,     18,2,19900402,2319,-36.1992, 161.5623, 3233,    298.8,  12.1110,  35.0630,2,  35.0550,2,    189.1,2,    189.3,2,     4.99,2,    15.08,2,     1.08,2,  -999.0, 12.0716,-999.000
     09FA290_2,FRAN90,   127,  1,   -999,     10,2,19900402,2319,-36.1992, 161.5623, 3233,    398.9,  10.4380,  34.8590,2,  34.8570,2,    191.9,2,    195.7,2,     6.19,2,    18.08,2,     1.26,2,  -999.0, 10.3900,-999.000
     09FA290_2,FRAN90,   127,  1,   -999,     42,2,19900402,2319,-36.1992, 161.5623, 3233,    498.0,   9.1140,  34.6940,2,  34.6930,2,    197.4,2,    195.1,2,     9.09,2,    21.58,2,     1.52,2,  -999.0,  9.0588,-999.000
     09FA290_2,FRAN90,   127,  1,   -999,     40,2,19900402,2319,-36.1992, 161.5623, 3233,    599.4,   8.2760,  34.6170,2,  34.6170,2,    189.4,2,    189.0,2,    13.79,2,    23.88,2,     1.65,2,  -999.0,  8.2129,-999.000
     09FA290_2,FRAN90,   127,  1,   -999,     24,2,19900402,2319,-36.1992, 161.5623, 3233,    798.8,   6.4490,  34.4880,2,  34.4890,2,    183.0,2,    186.2,2,    25.07,2,    28.57,2,     1.95,2,  -999.0,  6.3748,-999.000
     09FA290_2,FRAN90,   127,  1,   -999,     28,2,19900402,2319,-36.1992, 161.5623, 3233,    997.0,   5.1480,  34.4710,2,  34.4740,2,    175.1,2,    176.7,2,    42.86,2,    31.77,2,     2.19,2,  -999.0,  5.0639,-999.000
     09FA290_2,FRAN90,   127,  1,   -999,     36,2,19900402,2319,-36.1992, 161.5623, 3233,   1230.6,   4.1090,  34.5110,2,  34.5130,2,    164.6,2,    164.8,2,    58.64,2,    33.97,2,     2.36,2,  -999.0,  4.0127,-999.000
     09FA290_2,FRAN90,   127,  1,   -999,      1,2,19900402,2319,-36.1992, 161.5623, 3233,   1748.6,   2.6450,  34.6290,2,  34.6290,2,    160.4,2,    155.0,2,    89.31,2,    35.86,2,     2.49,2,  -999.0,  2.5205,-999.000
     09FA290_2,FRAN90,   127,  1,   -999,     25,2,19900402,2319,-36.1992, 161.5623, 3233,   1997.9,   2.3830,  34.6650,2,  34.6650,2,    173.9,2,    163.3,2,    91.31,2,    34.87,2,     2.44,2,  -999.0,  2.2408,-999.000
     09FA290_2,FRAN90,   127,  1,   -999,      8,2,19900402,2319,-36.1992, 161.5623, 3233,   2278.9,   2.1370,  34.7030,2,  34.7030,2,    183.2,2,    173.7,2,    89.31,2,    33.97,2,     2.32,2,  -999.0,  1.9740,-999.000
     09FA290_2,FRAN90,   127,  1,   -999,     41,2,19900402,2319,-36.1992, 161.5623, 3233,   2578.1,   1.8690,  34.7270,2,  34.7250,2,    183.3,2,    182.9,2,    95.20,2,    33.37,2,     2.31,2,  -999.0,  1.6837,-999.000
     09FA290_2,FRAN90,   127,  1,   -999,     26,2,19900402,2319,-36.1992, 161.5623, 3233,   2847.7,   1.5880,  34.7300,2,  34.7260,2,    185.6,2,    186.9,2,   103.00,2,    33.57,2,     2.29,2,  -999.0,  1.3834,-999.000
     09FA290_2,FRAN90,   127,  1,   -999,     12,2,19900402,2319,-36.1992, 161.5623, 3233,   2996.4,   1.4650,  34.7300,2,  34.7270,2,    185.6,2,    188.6,2,  -999.00,5,  -999.00,5,  -999.00,5,    20.8,  1.2490,   1.468
     09FA290_2,FRAN90,   127,  1,   -999,      2,2,19900402,2319,-36.1992, 161.5623, 3233,   3274.0,   1.2800,  34.7290,2,-999.0000,5,    185.6,2,   -999.0,5,  -999.00,5,  -999.00,5,  -999.00,5,  -999.0,  1.0415,-999.000
     09FA290_2,FRAN90,   128,  1,   -999,      6,2,19900403,0640,-36.1993, 160.3343, 4709,      3.8,  21.5290,  35.4430,2,  35.4420,2,    219.5,2,    225.3,2,     0.40,2,     0.00,2,     0.08,2,  -999.0, 21.5283,  21.525
     09FA290_2,FRAN90,   128,  1,   -999,      5,2,19900403,0640,-36.1993, 160.3343, 4709,     48.0,  19.2080,  35.5230,2,  35.5310,2,    221.3,2,    214.5,2,     0.70,2,     0.19,2,     0.18,2,  -999.0, 19.1994,-999.000
     09FA290_2,FRAN90,   128,  1,   -999,     27,2,19900403,0640,-36.1993, 160.3343, 4709,     98.9,  15.7010,  35.4110,2,  35.4120,2,    186.2,2,    185.8,2,     2.50,2,     8.67,2,     0.69,2,  -999.0, 15.6855,-999.000
     09FA290_2,FRAN90,   128,  1,   -999,     29,2,19900403,0640,-36.1993, 160.3343, 4709,    196.4,  12.7530,  35.1400,2,  35.1420,2,    187.2,2,    189.2,2,     4.30,2,    13.69,2,     0.98,2,  -999.0, 12.7263,-999.000
     09FA290_2,FRAN90,   128,  1,   -999,     45,2,19900403,0640,-36.1993, 160.3343, 4709,    297.5,  10.7100,  34.8910,2,  34.8900,2,    190.4,2,    191.4,2,     6.39,2,    17.93,2,     1.26,2,  -999.0, 10.6738,-999.000
     09FA290_2,FRAN90,   128,  1,   -999,     37,2,19900403,0640,-36.1993, 160.3343, 4709,    399.4,   9.2520,  34.7050,2,  34.7050,2,    194.0,2,    197.5,2,     8.39,2,    21.01,2,     1.44,2,  -999.0,  9.2075,-999.000
     09FA290_2,FRAN90,   128,  1,   -999,     18,2,19900403,0640,-36.1993, 160.3343, 4709,    496.9,   8.2840,  34.6140,2,  34.6120,2,    191.8,2,    192.7,2,    12.59,2,    23.91,2,     1.64,2,  -999.0,  8.2320,-999.000
     09FA290_2,FRAN90,   128,  1,   -999,     10,2,19900403,0640,-36.1993, 160.3343, 4709,    598.2,   7.4250,  34.5410,2,  34.5450,2,    195.6,2,    189.0,2,    17.08,2,    26.02,2,     1.77,2,  -999.0,  7.3659,-999.000
     09FA290_2,FRAN90,   128,  1,   -999,     42,2,19900403,0640,-36.1993, 160.3343, 4709,    799.2,   5.9020,  34.4720,2,  34.4750,2,    179.5,2,    183.2,2,    30.77,2,    29.69,2,     2.04,2,  -999.0,  5.8311,-999.000
     09FA290_2,FRAN90,   128,  1,   -999,     40,2,19900403,0640,-36.1993, 160.3343, 4709,    997.4,   4.7960,  34.4760,2,  34.4790,2,    173.1,2,    174.3,2,    44.66,2,    32.58,2,     2.22,2,  -999.0,  4.7145,-999.000
     09FA290_2,FRAN90,   128,  1,   -999,     24,2,19900403,0640,-36.1993, 160.3343, 4709,   1128.1,   4.2280,  34.4970,2,  34.5010,2,    163.6,2,    168.2,2,    55.04,2,    33.74,2,     2.34,2,  -999.0,  4.1396,-999.000
     09FA290_2,FRAN90,   128,  1,   -999,     28,2,19900403,0640,-36.1993, 160.3343, 4709,   1397.9,   3.3010,  34.5620,2,  34.5650,2,    159.6,2,    156.9,2,    79.62,2,    35.66,2,     2.49,2,  -999.0,  3.1984,-999.000
     09FA290_2,FRAN90,   128,  1,   -999,     36,2,19900403,0640,-36.1993, 160.3343, 4709,   1497.4,   3.0210,  34.5860,2,  34.5880,2,    157.8,2,    154.1,2,    83.52,2,    35.66,2,     2.50,2,  -999.0,  2.9131,-999.000
     09FA290_2,FRAN90,   128,  1,   -999,     46,2,19900403,0640,-36.1993, 160.3343, 4709,   1746.8,   2.5670,  34.6380,2,  34.6380,2,    161.2,2,    158.7,2,    89.31,2,    35.66,2,     2.47,2,    65.1,  2.4437,   2.585
     09FA290_2,FRAN90,   128,  1,   -999,      1,2,19900403,0640,-36.1993, 160.3343, 4709,   2177.8,   2.1680,  34.6970,2,  34.6940,2,    171.0,2,    173.7,2,    89.31,2,    34.13,2,     2.36,2,  -999.0,  2.0134,-999.000
     09FA290_2,FRAN90,   128,  1,   -999,     25,2,19900403,0640,-36.1993, 160.3343, 4709,   2516.4,   1.8770,  34.7280,2,  34.7260,2,    181.5,2,    182.9,2,    95.20,2,    33.35,2,     2.31,2,  -999.0,  1.6972,-999.000
     09FA290_2,FRAN90,   128,  1,   -999,      8,2,19900403,0640,-36.1993, 160.3343, 4709,   2798.8,   1.6500,  34.7340,2,  34.7320,2,    187.4,2,    189.0,2,   101.00,2,    33.55,2,     2.29,2,  -999.0,  1.4486,-999.000
     09FA290_2,FRAN90,   128,  1,   -999,     41,2,19900403,0640,-36.1993, 160.3343, 4709,   3407.9,   1.2510,  34.7270,2,  34.7240,2,    191.1,2,    195.1,2,   110.69,2,    33.93,2,     2.32,2,  -999.0,  1.0001,-999.000
     09FA290_2,FRAN90,   128,  1,   -999,     26,2,19900403,0640,-36.1993, 160.3343, 4709,   3999.1,   1.1460,  34.7220,2,  34.7200,2,    194.5,2,    196.3,2,   116.58,2,    34.13,2,     2.34,2,  -999.0,  0.8369,-999.000
     09FA290_2,FRAN90,   128,  1,   -999,     12,2,19900403,0640,-36.1993, 160.3343, 4709,   4500.5,   1.1410,  34.7210,2,  34.7180,2,    196.3,2,    198.2,2,   116.58,2,    33.74,2,     2.34,2,    30.1,  0.7769,   1.130
     09FA290_2,FRAN90,   128,  1,   -999,      2,2,19900403,0640,-36.1993, 160.3343, 4709,   4747.5,   1.1480,  34.7190,2,  34.7170,2,    201.9,2,    198.5,2,   120.48,2,    33.93,2,     2.34,2,  -999.0,  0.7552,-999.000