BOTTLE,20020730WHPSIO
EXPOCODE,SECT_ID,STNNBR,CASTNO,SAMPNO,BTLNBR,BTLNBR_FLAG_W,DATE,TIME,LATITUDE,LONGITUDE,DEPTH,CTDPRS,CTDTMP,CTDSAL,CTDSAL_FLAG_W,SALNTY,SALNTY_FLAG_W,CTDOXY,CTDOXY_FLAG_W,OXYGEN,OXYGEN_FLAG_W,SILCAT,SILCAT_FLAG_W,NO2+NO3,NO2+NO3_FLAG_W,PHSPHT,PHSPHT_FLAG_W,REVPRS,THETA,REVTMP
,,,,,,,,,,,,DBR,ITS-90,PSS-78,,PSS-78,,UMOL/KG,,UMOL/KG,,UMOL/KG,,UMOL/KG,,UMOL/KG,,DBR,ITS-90,ITS-90
     09FA290_2,  PR11,    44,  1,   -999,      6,2,19900309,1527,-32.3825, 172.4153, 1469,      4.4,  23.1990,  35.6460,2,  35.6480,2,    209.2,2,    212.7,2,     0.60,2,     0.19,2,     0.11,2,  -999.0, 23.1981,  23.203
     09FA290_2,  PR11,    44,  1,   -999,     40,2,19900309,1527,-32.3825, 172.4153, 1469,     99.0,  18.7550,  35.5480,2,  35.5500,2,    194.3,2,    217.8,2,     1.00,2,     0.75,2,     0.20,2,  -999.0, 18.7375,-999.000
     09FA290_2,  PR11,    44,  1,   -999,     26,2,19900309,1527,-32.3825, 172.4153, 1469,    198.6,  15.9510,  35.4440,2,  35.4440,2,    186.7,2,    197.0,2,     2.20,2,     7.14,2,     0.56,2,  -999.0, 15.9195,-999.000
     09FA290_2,  PR11,    44,  1,   -999,     31,2,19900309,1527,-32.3825, 172.4153, 1469,    269.4,  14.4930,  35.3260,2,  35.3240,2,    192.3,2,    194.5,2,     3.10,2,     9.77,2,     0.71,2,  -999.0, 14.4529,-999.000
     09FA290_2,  PR11,    44,  1,   -999,     35,2,19900309,1527,-32.3825, 172.4153, 1469,    400.0,  11.7340,  35.0300,2,  35.0290,2,    193.0,2,    190.0,2,     6.09,2,    15.78,2,     1.09,2,  -999.0, 11.6821,-999.000
     09FA290_2,  PR11,    44,  1,   -999,     46,2,19900309,1527,-32.3825, 172.4153, 1469,    498.0,   9.9090,  34.8150,2,  34.8120,2,    190.2,2,    188.4,2,    10.59,2,    20.67,2,     1.37,2,     7.3,  9.8508,   9.928
     09FA290_2,  PR11,    44,  1,   -999,     25,2,19900309,1527,-32.3825, 172.4153, 1469,    598.6,   8.6100,  34.6800,2,  34.6780,2,    187.9,2,    189.0,2,    14.89,2,    23.68,2,     1.58,2,  -999.0,  8.5454,-999.000
     09FA290_2,  PR11,    44,  1,   -999,     18,2,19900309,1527,-32.3825, 172.4153, 1469,    799.2,   7.1670,  34.5660,2,  34.5700,2,    189.0,2,    185.3,2,    23.48,2,    27.24,2,     1.82,2,  -999.0,  7.0884,-999.000
     09FA290_2,  PR11,    44,  1,   -999,     10,2,19900309,1527,-32.3825, 172.4153, 1469,    997.9,   5.9190,  34.5150,2,  34.5190,2,    179.8,2,    179.1,2,    35.96,2,    30.25,2,     2.03,2,  -999.0,  5.8289,-999.000
     09FA290_2,  PR11,    44,  1,   -999,     41,2,19900309,1527,-32.3825, 172.4153, 1469,   1129.4,   5.0570,  34.5000,2,  34.4970,2,    175.4,2,    175.7,2,    43.56,2,    32.32,2,     2.16,2,  -999.0,  4.9614,-999.000
     09FA290_2,  PR11,    44,  1,   -999,     12,2,19900309,1527,-32.3825, 172.4153, 1469,   1272.1,   4.3050,  34.5150,2,  34.5160,2,    172.7,2,    169.8,2,    57.44,2,    34.20,2,     2.28,2,    81.1,  4.2032,   4.310
     09FA290_2,  PR11,    44,  1,   -999,     43,2,19900309,1527,-32.3825, 172.4153, 1469,   1445.3,   3.5160,  34.5580,2,  34.5560,2,    169.4,2,    163.9,2,    74.63,2,    35.13,2,     2.39,2,  -999.0,  3.4070,-999.000
     09FA290_2,  PR11,    45,  1,   -999,      6,2,19900309,1925,-32.0235, 172.4415, 1435,      1.4,  23.3860,  35.6690,2,  35.6680,2,    238.8,2,    211.3,2,     0.80,2,     0.18,2,     0.12,2,  -999.0, 23.3857,  23.370
     09FA290_2,  PR11,    45,  1,   -999,     40,2,19900309,1925,-32.0235, 172.4415, 1435,     96.5,  20.5270,  35.6030,2,  35.6040,2,    219.9,2,    222.9,2,     0.80,2,     0.18,2,     0.15,2,  -999.0, 20.5088,-999.000
     09FA290_2,  PR11,    45,  1,   -999,     26,2,19900309,1925,-32.0235, 172.4415, 1435,    199.6,  15.7520,  35.4310,2,  35.4340,2,    191.4,2,    196.2,2,     2.40,2,     7.26,2,     0.80,3,  -999.0, 15.7206,-999.000
     09FA290_2,  PR11,    45,  1,   -999,     31,2,19900309,1925,-32.0235, 172.4415, 1435,    284.3,  13.8570,  35.2590,2,  35.2760,2,    195.5,2,    192.5,2,     3.70,2,    10.90,2,     0.81,2,  -999.0, 13.8160,-999.000
     09FA290_2,  PR11,    45,  1,   -999,     35,2,19900309,1925,-32.0235, 172.4415, 1435,    397.1,  11.9820,  35.0440,2,  35.0440,2,    187.8,2,    188.6,2,     5.99,2,    15.26,2,     1.08,2,  -999.0, 11.9298,-999.000
     09FA290_2,  PR11,    45,  1,   -999,     46,2,19900309,1925,-32.0235, 172.4415, 1435,    502.0,  10.3220,  34.8530,2,  34.8560,2,    192.6,2,    188.1,2,     8.49,2,    18.89,2,     1.31,2,     6.2, 10.2618,  10.365
     09FA290_2,  PR11,    45,  1,   -999,     25,2,19900309,1925,-32.0235, 172.4415, 1435,    598.1,   9.4510,  34.7620,2,  34.7610,2,    191.2,2,    188.9,2,    11.59,2,    21.07,2,     1.57,2,  -999.0,  9.3828,-999.000
     09FA290_2,  PR11,    45,  1,   -999,     18,2,19900309,1925,-32.0235, 172.4415, 1435,    799.1,   7.3080,  34.5660,2,  34.5710,2,    183.5,2,    188.4,2,    20.58,2,    25.97,2,     1.78,2,  -999.0,  7.2286,-999.000
     09FA290_2,  PR11,    45,  1,   -999,     10,2,19900309,1925,-32.0235, 172.4415, 1435,    998.3,   5.8020,  34.5120,2,-999.0000,5,    176.1,2,    180.0,2,    35.96,2,    29.47,2,     2.01,2,  -999.0,  5.7127,-999.000
     09FA290_2,  PR11,    45,  1,   -999,     41,2,19900309,1925,-32.0235, 172.4415, 1435,   1185.8,   4.9620,  34.5090,2,  34.5070,2,    169.6,2,    174.9,2,    49.05,2,    31.61,2,     2.18,2,  -999.0,  4.8620,-999.000
     09FA290_2,  PR11,    45,  1,   -999,     12,2,19900309,1925,-32.0235, 172.4415, 1435,   1328.9,   4.2890,  34.5210,2,  34.5180,2,    164.1,2,    168.4,2,    58.64,2,    33.07,2,     2.29,2,    41.0,  4.1822,   4.317
     09FA290_2,  PR11,    45,  1,   -999,     43,2,19900309,1925,-32.0235, 172.4415, 1435,   1409.8,   3.9000,  34.5360,2,  34.5330,2,    160.8,2,    165.9,2,    68.33,2,    33.79,2,     2.37,2,  -999.0,  3.7900,-999.000
     09FA290_2,  PR11,    46,  1,   -999,      6,2,19900310,0103,-31.3700, 172.5338, 1161,      4.8,  23.8110,  35.6920,2,  35.6890,2,    212.1,2,    212.7,2,     0.70,2,     0.18,2,     0.11,2,  -999.0, 23.8100,  23.831
     09FA290_2,  PR11,    46,  1,   -999,     40,2,19900310,0103,-31.3700, 172.5338, 1161,     48.6,  22.9780,  35.6690,2,  35.6770,2,    212.7,2,    213.9,2,     0.70,2,     0.18,2,     0.11,2,  -999.0, 22.9681,-999.000
     09FA290_2,  PR11,    46,  1,   -999,     26,2,19900310,0103,-31.3700, 172.5338, 1161,     98.9,  18.8120,  35.6010,2,  35.6000,2,    207.2,2,    211.9,2,     1.20,2,     1.44,2,     0.23,2,  -999.0, 18.7945,-999.000
     09FA290_2,  PR11,    46,  1,   -999,     31,2,19900310,0103,-31.3700, 172.5338, 1161,    148.2,  17.5530,  35.5460,2,  35.5470,2,    190.6,2,    198.7,2,     1.80,2,     4.69,2,     0.42,2,  -999.0, 17.5279,-999.000
     09FA290_2,  PR11,    46,  1,   -999,     35,2,19900310,0103,-31.3700, 172.5338, 1161,    199.5,  16.1380,  35.4520,2,  35.4500,2,    197.7,2,    197.9,2,     2.70,2,     6.66,2,     0.54,2,  -999.0, 16.1061,-999.000
     09FA290_2,  PR11,    46,  1,   -999,     46,2,19900310,0103,-31.3700, 172.5338, 1161,    312.9,  13.3130,  35.1890,2,  35.1910,2,    185.4,2,    186.9,2,     4.99,2,    12.79,2,     0.91,2,    21.7, 13.2690,  13.351
     09FA290_2,  PR11,    46,  1,   -999,     25,2,19900310,0103,-31.3700, 172.5338, 1161,    398.7,  12.4640,  35.1140,2,  35.1130,2,    193.6,2,    190.9,2,     5.59,2,    13.87,2,     0.99,2,  -999.0, 12.4102,-999.000
     09FA290_2,  PR11,    46,  1,   -999,     18,2,19900310,0103,-31.3700, 172.5338, 1161,    498.2,  10.8020,  34.9130,2,  34.9130,2,    188.5,2,    189.5,2,     7.99,2,    17.65,2,     1.22,2,  -999.0, 10.7405,-999.000
     09FA290_2,  PR11,    46,  1,   -999,     10,2,19900310,0103,-31.3700, 172.5338, 1161,    599.5,   9.7760,  34.7990,2,  34.8030,2,    191.3,2,    187.8,2,    11.39,2,    20.36,2,     1.39,2,  -999.0,  9.7061,-999.000
     09FA290_2,  PR11,    46,  1,   -999,     41,2,19900310,0103,-31.3700, 172.5338, 1161,    798.7,   7.3790,  34.5700,2,  34.5690,2,    190.4,2,    187.8,2,    21.18,2,    25.94,2,     1.77,2,  -999.0,  7.2992,-999.000
     09FA290_2,  PR11,    46,  1,   -999,     12,2,19900310,0103,-31.3700, 172.5338, 1161,    999.7,   5.5840,  34.4930,2,  34.4930,2,    185.5,2,    183.1,2,    37.26,2,    30.08,2,     2.05,2,     9.7,  5.4963,   5.568
     09FA290_2,  PR11,    46,  1,   -999,     43,2,19900310,0103,-31.3700, 172.5338, 1161,   1143.5,   4.7460,  34.5080,2,  34.5090,2,    177.8,2,    175.5,2,    51.05,2,    31.89,2,     2.20,2,  -999.0,  4.6517,-999.000
     09FA290_2,  PR11,    47,  1,   -999,      6,2,19900310,0605,-30.7307, 172.5973, 1335,      2.2,  23.2380,  35.6570,2,  35.6550,2,    210.5,2,    213.0,2,     0.80,2,     0.18,2,     0.12,2,  -999.0, 23.2375,  23.243
     09FA290_2,  PR11,    47,  1,   -999,     31,2,19900310,0605,-30.7307, 172.5973, 1335,     98.1,  18.3960,  35.5820,2,  35.5800,2,    207.0,2,    219.2,2,     1.20,2,     2.00,2,     0.26,2,  -999.0, 18.3789,-999.000
     09FA290_2,  PR11,    47,  1,   -999,     36,2,19900310,0605,-30.7307, 172.5973, 1335,    197.1,  16.0660,  35.4730,2,  35.4720,2,    186.6,2,    195.8,2,     2.30,2,     6.90,2,     0.55,2,  -999.0, 16.0346,-999.000
     09FA290_2,  PR11,    47,  1,   -999,     26,2,19900310,0605,-30.7307, 172.5973, 1335,    398.2,  11.6750,  34.9780,2,  34.9790,2,    184.3,2,    189.9,2,     5.59,2,    15.62,2,     1.11,2,  -999.0, 11.6235,-999.000
     09FA290_2,  PR11,    47,  1,   -999,     40,2,19900310,0605,-30.7307, 172.5973, 1335,    499.6,   9.7940,  34.7510,2,  34.7540,2,    191.8,2,    194.2,2,     7.29,2,    19.44,2,     1.38,2,  -999.0,  9.7360,-999.000
     09FA290_2,  PR11,    47,  1,   -999,     46,2,19900310,0605,-30.7307, 172.5973, 1335,    601.4,   8.3690,  34.5900,2,  34.5900,2,    197.7,2,    201.8,2,     9.29,2,    22.35,2,     1.54,2,     3.7,  8.3053,   8.418
     09FA290_2,  PR11,    47,  1,   -999,     10,2,19900310,0605,-30.7307, 172.5973, 1335,    798.4,   6.9450,  34.4580,2,  34.4680,2,    200.9,2,    206.1,2,    13.79,2,    25.43,2,     1.75,2,  -999.0,  6.8680,-999.000
     09FA290_2,  PR11,    47,  1,   -999,     41,2,19900310,0605,-30.7307, 172.5973, 1335,    923.8,   6.0040,  34.4110,2,  34.4090,2,    197.8,2,    201.3,2,    20.98,2,    28.34,2,     1.95,2,  -999.0,  5.9207,-999.000
     09FA290_2,  PR11,    47,  1,   -999,     12,2,19900310,0605,-30.7307, 172.5973, 1335,   1001.4,   5.5000,  34.4320,2,  34.4340,2,    192.5,2,    191.7,2,    30.57,2,    29.97,2,     2.07,2,    11.7,  5.4129,   5.512
     09FA290_2,  PR11,    47,  1,   -999,     34,2,19900310,0605,-30.7307, 172.5973, 1335,   1298.1,   4.1690,  34.5090,2,  34.5090,2,    172.2,2,    171.6,2,    60.24,2,    33.25,2,     2.32,2,  -999.0,  4.0662,-999.000
     09FA290_2,  PR11,    48,  1,   -999,      6,2,19900310,1058,-30.0943, 172.6708, 1832,      2.4,  23.7680,  35.5920,2,  35.5890,2,    209.2,2,    215.2,2,     1.10,2,     0.17,2,     0.14,2,  -999.0, 23.7675,  23.762
     09FA290_2,  PR11,    48,  1,   -999,     27,2,19900310,1058,-30.0943, 172.6708, 1832,     98.9,  17.8650,  35.5800,2,  35.5780,2,    208.8,2,    216.3,2,     1.50,2,     2.31,2,     0.31,2,  -999.0, 17.8481,-999.000
     09FA290_2,  PR11,    48,  1,   -999,      5,2,19900310,1058,-30.0943, 172.6708, 1832,    197.2,  15.8780,  35.4530,2,  35.4560,2,    185.4,2,    192.7,2,     2.60,2,     7.59,2,     0.62,2,  -999.0, 15.8468,-999.000
     09FA290_2,  PR11,    48,  1,   -999,     28,2,19900310,1058,-30.0943, 172.6708, 1832,    299.2,  13.8970,  35.2460,2,  35.2490,2,    185.3,2,    188.7,2,     4.00,2,    11.55,2,     0.86,2,  -999.0, 13.8537,-999.000
     09FA290_2,  PR11,    48,  1,   -999,     44,2,19900310,1058,-30.0943, 172.6708, 1832,    397.5,  11.8610,  35.0010,2,  35.0150,2,    187.2,2,    189.1,2,     4.00,2,    11.55,2,     0.88,2,  -999.0, 11.8091,-999.000
     09FA290_2,  PR11,    48,  1,   -999,     31,2,19900310,1058,-30.0943, 172.6708, 1832,    498.0,  10.0310,  34.7810,2,  34.7830,2,    189.3,2,    191.9,2,     5.79,2,    13.86,2,     1.14,2,  -999.0,  9.9724,-999.000
     09FA290_2,  PR11,    48,  1,   -999,     36,2,19900310,1058,-30.0943, 172.6708, 1832,    598.1,   8.6810,  34.6170,2,  34.6190,2,    198.2,2,    199.8,2,     8.89,2,    22.11,2,     1.49,2,  -999.0,  8.6162,-999.000
     09FA290_2,  PR11,    48,  1,   -999,     26,2,19900310,1058,-30.0943, 172.6708, 1832,    798.3,   7.1780,  34.4900,2,  34.4940,2,    201.5,2,    202.7,2,    14.98,2,    25.74,2,     1.72,2,  -999.0,  7.0995,-999.000
     09FA290_2,  PR11,    48,  1,   -999,     40,2,19900310,1058,-30.0943, 172.6708, 1832,    946.8,   5.3710,  34.4100,2,  34.4150,2,    194.7,2,    192.0,2,    32.17,2,    30.86,2,     2.06,2,  -999.0,  5.2899,-999.000
     09FA290_2,  PR11,    48,  1,   -999,     46,2,19900310,1058,-30.0943, 172.6708, 1832,    998.8,   5.2310,  34.4500,2,  34.4590,2,    186.7,2,    185.2,2,    38.76,2,    31.19,2,     2.17,2,     2.9,  5.1461,   5.256
     09FA290_2,  PR11,    48,  1,   -999,     10,2,19900310,1058,-30.0943, 172.6708, 1832,   1273.7,   4.0050,  34.4930,2,  34.5050,2,    173.3,2,    172.8,2,    62.14,2,    33.99,2,     2.28,2,  -999.0,  3.9060,-999.000
     09FA290_2,  PR11,    48,  1,   -999,     41,2,19900310,1058,-30.0943, 172.6708, 1832,   1498.6,   3.4510,  34.5490,2,  34.5470,2,    161.5,2,    163.2,2,    79.32,2,    35.30,2,     2.38,2,  -999.0,  3.3382,-999.000
     09FA290_2,  PR11,    48,  1,   -999,     12,2,19900310,1058,-30.0943, 172.6708, 1832,   1567.8,   3.2970,  34.5630,2,  34.5570,2,    161.5,2,    162.3,2,    84.12,2,    35.63,2,     2.40,2,  -999.0,  3.1800,-999.000
     09FA290_2,  PR11,    48,  1,   -999,     34,2,19900310,1058,-30.0943, 172.6708, 1832,   1798.0,   2.6400,  34.6130,2,  34.6070,2,    153.8,2,    155.3,2,   103.10,2,    36.63,2,     2.49,2,  -999.0,  2.5115,-999.000
     09FA290_2,  PR11,    49,  1,   -999,      6,2,19900310,1627,-29.4465, 172.7398, 2080,      3.6,  24.1720,  35.5670,2,  35.5670,2,    216.7,2,    208.7,2,     0.80,2,     0.00,2,     0.09,2,  -999.0, 24.1712,  24.170
     09FA290_2,  PR11,    49,  1,   -999,     27,2,19900310,1627,-29.4465, 172.7398, 2080,     72.0,  19.7590,  35.6090,2,  35.6100,2,    245.4,2,    232.4,2,     1.10,2,     0.00,2,     0.15,2,  -999.0, 19.7458,-999.000
     09FA290_2,  PR11,    49,  1,   -999,      5,2,19900310,1627,-29.4465, 172.7398, 2080,    198.8,  15.7710,  35.4500,2,  35.4510,2,    199.6,2,    191.5,2,     2.60,2,     7.92,2,     0.62,2,  -999.0, 15.7397,-999.000
     09FA290_2,  PR11,    49,  1,   -999,     44,2,19900310,1627,-29.4465, 172.7398, 2080,    499.4,   9.7610,  34.7440,2,  34.7430,2,    197.7,2,    194.2,2,     8.09,2,    20.29,2,     1.35,2,  -999.0,  9.7032,-999.000
     09FA290_2,  PR11,    49,  1,   -999,     31,2,19900310,1627,-29.4465, 172.7398, 2080,    599.2,   8.4840,  34.6160,2,  34.6150,2,    198.9,2,    197.0,2,    11.29,2,    23.27,2,     1.54,2,  -999.0,  8.4200,-999.000
     09FA290_2,  PR11,    49,  1,   -999,     36,2,19900310,1627,-29.4465, 172.7398, 2080,    799.1,   6.3880,  34.4340,2,  34.4370,2,    184.5,2,    199.6,2,    19.88,2,    28.21,2,     1.86,2,  -999.0,  6.3143,-999.000
     09FA290_2,  PR11,    49,  1,   -999,     26,2,19900310,1627,-29.4465, 172.7398, 2080,    958.8,   5.1370,  34.4170,2,  34.4190,2,    174.2,2,    187.2,2,    36.06,2,    32.01,2,     2.11,2,  -999.0,  5.0565,-999.000
     09FA290_2,  PR11,    49,  1,   -999,     40,2,19900310,1627,-29.4465, 172.7398, 2080,   1153.0,   3.9540,  34.4680,2,  34.4700,2,    164.4,2,    173.9,2,    58.94,2,    34.97,2,     2.32,2,  -999.0,  3.8659,-999.000
     09FA290_2,  PR11,    49,  1,   -999,     46,2,19900310,1627,-29.4465, 172.7398, 2080,   1392.6,   3.2130,  34.5430,2,  34.5450,2,    162.2,2,    162.0,2,    84.12,2,    36.30,2,     2.43,2,    91.7,  3.1118,   3.235
     09FA290_2,  PR11,    49,  1,   -999,     41,2,19900310,1627,-29.4465, 172.7398, 2080,   1496.6,   2.9960,  34.5730,2,  34.5720,2,    162.2,2,    158.9,2,    92.01,2,    36.63,2,     2.46,2,  -999.0,  2.8885,-999.000
     09FA290_2,  PR11,    49,  1,   -999,     12,2,19900310,1627,-29.4465, 172.7398, 2080,   1748.6,   2.6850,  34.6030,2,  34.6020,2,    150.9,2,    155.8,2,   101.50,2,    37.29,2,     2.49,2,  -999.0,  2.5601,-999.000
     09FA290_2,  PR11,    49,  1,   -999,     34,2,19900310,1627,-29.4465, 172.7398, 2080,   2079.4,   2.2390,  34.6460,2,  34.6410,2,    150.9,2,    154.7,2,   114.29,2,    37.62,2,     2.52,2,  -999.0,  2.0920,-999.000
     09FA290_2,  PR11,    50,  1,   -999,      6,2,19900310,2202,-28.7907, 172.8382, 1757,      3.7,  24.8080,  35.3860,2,  35.3860,2,    212.7,2,    209.0,2,     0.70,2,     0.00,2,     0.06,2,  -999.0, 24.8072,  24.827
     09FA290_2,  PR11,    50,  1,   -999,     27,2,19900310,2202,-28.7907, 172.8382, 1757,     48.6,  22.5720,  35.6550,2,  35.6570,2,    226.2,2,    220.6,2,     0.90,2,     0.00,2,     0.17,2,  -999.0, 22.5622,-999.000
     09FA290_2,  PR11,    50,  1,   -999,      5,2,19900310,2202,-28.7907, 172.8382, 1757,    100.5,  18.0490,  35.5660,2,  35.5670,2,    214.2,2,    216.6,2,     1.30,2,     2.10,2,     0.29,2,  -999.0, 18.0317,-999.000
     09FA290_2,  PR11,    50,  1,   -999,     28,2,19900310,2202,-28.7907, 172.8382, 1757,    266.7,  13.8250,  35.2470,2,  35.2480,2,    194.5,2,    189.9,2,     4.20,2,    11.60,2,     0.87,2,  -999.0, 13.7866,-999.000
     09FA290_2,  PR11,    50,  1,   -999,     44,2,19900310,2202,-28.7907, 172.8382, 1757,    396.7,  11.3220,  34.9330,2,  34.9360,2,    190.8,2,    191.3,2,     6.09,2,    16.42,2,     1.16,2,  -999.0, 11.2718,-999.000
     09FA290_2,  PR11,    50,  1,   -999,     31,2,19900310,2202,-28.7907, 172.8382, 1757,    498.8,   9.2550,  34.6760,2,  34.6800,2,    198.0,2,    196.5,2,     7.89,2,    20.61,2,     1.44,2,  -999.0,  9.1992,-999.000
     09FA290_2,  PR11,    50,  1,   -999,     46,2,19900310,2202,-28.7907, 172.8382, 1757,    595.5,   8.2250,  34.5700,2,  34.5700,2,    201.9,2,    200.7,2,     9.79,2,    22.87,2,     1.57,2,     0.9,  8.1626,   8.244
     09FA290_2,  PR11,    50,  1,   -999,     26,2,19900310,2202,-28.7907, 172.8382, 1757,    798.1,   6.6730,  34.4500,2,  34.4510,2,    203.8,2,    203.0,2,    16.58,2,    26.57,2,     1.80,2,  -999.0,  6.5976,-999.000
     09FA290_2,  PR11,    50,  1,   -999,     40,2,19900310,2202,-28.7907, 172.8382, 1757,    898.5,   5.7560,  34.4110,2,  34.4070,2,    198.1,2,    199.0,2,    23.88,2,    29.15,2,     2.00,2,  -999.0,  5.6768,-999.000
     09FA290_2,  PR11,    50,  1,   -999,     36,2,19900310,2202,-28.7907, 172.8382, 1757,   1217.7,   3.8920,  34.4910,2,  34.4930,2,    172.1,2,    169.7,2,    62.44,2,    34.15,2,     2.34,2,  -999.0,  3.7989,-999.000
     09FA290_2,  PR11,    50,  1,   -999,     10,2,19900310,2202,-28.7907, 172.8382, 1757,   1398.2,   3.2250,  34.5500,2,  34.5610,2,    159.2,2,    162.0,2,    78.92,2,    34.63,2,     2.40,2,  -999.0,  3.1232,-999.000
     09FA290_2,  PR11,    50,  1,   -999,     41,2,19900310,2202,-28.7907, 172.8382, 1757,   1496.8,   3.0590,  34.5690,2,  34.5680,2,    157.6,2,    159.2,2,    86.31,2,    35.43,2,     2.47,2,  -999.0,  2.9508,-999.000
     09FA290_2,  PR11,    50,  1,   -999,     12,2,19900310,2202,-28.7907, 172.8382, 1757,   1496.8,   3.0590,  34.5690,2,  34.5680,2,    157.6,2,    158.9,2,    86.31,2,    35.43,2,     2.48,2,     9.0,  2.9508,   3.051
     09FA290_2,  PR11,    50,  1,   -999,     34,2,19900310,2202,-28.7907, 172.8382, 1757,   1739.5,   2.5830,  34.6140,2,  34.6080,2,    156.6,2,    153.8,2,    99.80,2,    36.23,2,     2.53,2,  -999.0,  2.4602,-999.000