BOTTLE,20020730WHPSIO
EXPOCODE,SECT_ID,STNNBR,CASTNO,SAMPNO,BTLNBR,BTLNBR_FLAG_W,DATE,TIME,LATITUDE,LONGITUDE,DEPTH,CTDPRS,CTDTMP,CTDSAL,CTDSAL_FLAG_W,SALNTY,SALNTY_FLAG_W,CTDOXY,CTDOXY_FLAG_W,OXYGEN,OXYGEN_FLAG_W,SILCAT,SILCAT_FLAG_W,NO2+NO3,NO2+NO3_FLAG_W,PHSPHT,PHSPHT_FLAG_W,REVPRS,THETA,REVTMP
,,,,,,,,,,,,DBR,ITS-90,PSS-78,,PSS-78,,UMOL/KG,,UMOL/KG,,UMOL/KG,,UMOL/KG,,UMOL/KG,,DBR,ITS-90,ITS-90
     09FA290_2,  PR11,    78,  1,   -999,      6,2,19900317,0513,-29.1058, 154.8317, 4618,      1.3,  25.6220,  35.1670,2,  35.1660,2,    239.7,2,    207.6,2,     1.10,2,     0.17,2,     0.13,2,  -999.0, 25.6217,  25.630
     09FA290_2,  PR11,    78,  1,   -999,     42,2,19900317,0513,-29.1058, 154.8317, 4618,      1.3,  25.6220,  35.1670,2,  35.1680,2,    239.7,2,    209.1,2,     1.10,2,     0.17,2,     0.11,2,  -999.0, 25.6217,-999.000
     09FA290_2,  PR11,    78,  1,   -999,     18,2,19900317,0513,-29.1058, 154.8317, 4618,     99.0,  23.9930,  35.5030,2,  35.5080,2,    233.6,2,    212.1,2,     0.80,2,     0.17,2,     0.09,2,  -999.0, 23.9721,-999.000
     09FA290_2,  PR11,    78,  1,   -999,     45,2,19900317,0513,-29.1058, 154.8317, 4618,    149.4,  19.8570,  35.6320,2,  35.6320,2,    207.1,2,    207.6,2,     1.10,2,     0.84,2,     0.22,2,  -999.0, 19.8294,-999.000
     09FA290_2,  PR11,    78,  1,   -999,     35,2,19900317,0513,-29.1058, 154.8317, 4618,    201.4,  19.1030,  35.6170,2,  35.6200,2,    206.8,2,    201.9,2,     1.30,2,     2.68,2,     0.33,2,  -999.0, 19.0668,-999.000
     09FA290_2,  PR11,    78,  1,   -999,     37,2,19900317,0513,-29.1058, 154.8317, 4618,    398.9,  14.9530,  35.3320,2,  35.3290,2,    185.2,2,    181.1,2,     3.60,2,    10.72,2,     0.81,2,  -999.0, 14.8922,-999.000
     09FA290_2,  PR11,    78,  1,   -999,     24,2,19900317,0513,-29.1058, 154.8317, 4618,    434.7,  13.7950,  35.2040,2,  35.2060,2,    186.3,2,    180.5,2,     4.60,2,    12.73,2,     0.95,2,  -999.0, 13.7322,-999.000
     09FA290_2,  PR11,    78,  1,   -999,      1,2,19900317,0513,-29.1058, 154.8317, 4618,    500.5,  12.2800,  35.0420,2,  35.0580,2,    191.2,2,    184.7,2,     5.69,2,    15.23,2,     1.09,2,  -999.0, 12.2129,-999.000
     09FA290_2,  PR11,    78,  1,   -999,     25,2,19900317,0513,-29.1058, 154.8317, 4618,    601.4,  10.3250,  34.8260,2,  34.8360,2,    190.5,2,    188.9,2,     7.99,2,    19.25,2,     1.34,2,  -999.0, 10.2525,-999.000
     09FA290_2,  PR11,    78,  1,   -999,      8,2,19900317,0513,-29.1058, 154.8317, 4618,    801.1,   7.3460,  34.5300,2,  34.5360,2,    186.6,2,    189.0,2,    17.68,2,    26.62,2,     1.81,2,  -999.0,  7.2662,-999.000
     09FA290_2,  PR11,    78,  1,   -999,     46,2,19900317,0513,-29.1058, 154.8317, 4618,   1011.2,   5.6630,  34.4630,2,  34.4640,2,    180.2,2,    181.8,2,    34.17,2,    31.31,2,     2.08,2,  -999.0,  5.5737,-999.000
     09FA290_2,  PR11,    78,  1,   -999,     29,2,19900317,0513,-29.1058, 154.8317, 4618,   1245.1,   4.2570,  34.4980,2,  34.5000,2,    169.0,2,    166.3,2,    60.14,2,    34.67,2,     2.33,2,  -999.0,  4.1581,-999.000
     09FA290_2,  PR11,    78,  1,   -999,      5,2,19900317,0513,-29.1058, 154.8317, 4618,   1494.3,   3.2650,  34.5650,2,  34.5670,2,    161.6,2,    152.9,2,    86.31,2,    37.00,2,     2.52,2,  -999.0,  3.1546,-999.000
     09FA290_2,  PR11,    78,  1,   -999,     43,2,19900317,0513,-29.1058, 154.8317, 4618,   1494.3,   3.2650,  34.5650,2,  34.5650,2,    161.6,2,    151.6,2,    86.31,2,    36.86,2,     2.50,2,  -999.0,  3.1546,-999.000
     09FA290_2,  PR11,    78,  1,   -999,     27,2,19900317,0513,-29.1058, 154.8317, 4618,   2271.2,   2.1250,  34.6960,2,  34.6980,2,    175.2,2,    172.2,2,    96.20,2,    35.32,2,     2.38,2,  -999.0,  1.9629,-999.000
     09FA290_2,  PR11,    78,  1,   -999,      2,2,19900317,0513,-29.1058, 154.8317, 4618,   2499.0,   1.9220,  34.7180,2,  34.7160,2,    181.1,2,    180.0,2,    96.20,2,    34.83,2,     2.33,2,  -999.0,  1.7430,-999.000
     09FA290_2,  PR11,    78,  1,   -999,     26,2,19900317,0513,-29.1058, 154.8317, 4618,   2499.0,   1.9220,  34.7180,2,  34.7170,2,    181.1,2,    179.4,2,    97.90,2,    34.83,2,     2.33,2,  -999.0,  1.7430,-999.000
     09FA290_2,  PR11,    78,  1,   -999,     40,2,19900317,0513,-29.1058, 154.8317, 4618,   3339.8,   1.2740,  34.7250,2,  34.7240,2,    189.7,2,    186.0,3,  -999.00,5,  -999.00,5,  -999.00,5,  -999.0,  1.0292,-999.000
     09FA290_2,  PR11,    78,  1,   -999,     36,2,19900317,0513,-29.1058, 154.8317, 4618,   3496.3,   1.1990,  34.7240,2,  34.7210,2,    191.1,2,    191.7,2,  -999.00,5,  -999.00,5,  -999.00,5,  -999.0,  0.9405,-999.000
     09FA290_2,  PR11,    78,  1,   -999,     41,2,19900317,0513,-29.1058, 154.8317, 4618,   3496.3,   1.1990,  34.7240,2,  34.7210,2,    191.1,2,    192.5,2,   112.89,2,    34.83,2,     2.34,2,  -999.0,  0.9405,-999.000
     09FA290_2,  PR11,    78,  1,   -999,     12,2,19900317,0513,-29.1058, 154.8317, 4618,   3997.5,   1.1420,  34.7200,2,  34.7180,2,    190.9,2,    193.7,2,   117.88,2,    34.99,2,     2.34,2,    24.8,  0.8332,   1.113
     09FA290_2,  PR11,    78,  1,   -999,     34,2,19900317,0513,-29.1058, 154.8317, 4618,   4382.6,   1.1560,  34.7200,2,  34.7160,2,    190.9,2,    195.2,2,   117.88,2,    35.16,2,     2.36,2,  -999.0,  0.8047,-999.000
     09FA290_2,  PR11,    79,  1,   -999,      6,2,19900317,1005,-29.1295, 154.4767, 4270,      4.3,  26.4440,  35.0410,2,  35.0400,2,    233.2,2,    199.6,2,     1.00,2,     0.17,2,     0.11,2,  -999.0, 26.4430,  26.447
     09FA290_2,  PR11,    79,  1,   -999,     42,2,19900317,1005,-29.1295, 154.4767, 4270,    138.6,  21.3480,  35.6210,2,  35.6220,2,    198.9,2,    194.5,2,     1.40,2,     2.49,2,     0.31,2,  -999.0, 21.3211,-999.000
     09FA290_2,  PR11,    79,  1,   -999,     18,2,19900317,1005,-29.1295, 154.4767, 4270,    197.3,  19.1970,  35.6240,2,  35.6240,2,    216.6,2,    201.6,2,     1.10,2,     2.16,2,     0.31,2,  -999.0, 19.1614,-999.000
     09FA290_2,  PR11,    79,  1,   -999,     45,2,19900317,1005,-29.1295, 154.4767, 4270,    402.0,  14.2120,  35.2190,2,  35.2260,2,    184.0,2,    175.5,2,     4.50,2,    12.93,2,     0.94,2,  -999.0, 14.1528,-999.000
     09FA290_2,  PR11,    79,  1,   -999,     35,2,19900317,1005,-29.1295, 154.4767, 4270,    449.4,  13.2290,  35.1460,2,  35.1410,2,    187.0,2,    181.1,2,     4.99,2,    14.26,2,     1.02,2,  -999.0, 13.1658,-999.000
     09FA290_2,  PR11,    79,  1,   -999,     37,2,19900317,1005,-29.1295, 154.4767, 4270,    599.4,  10.1470,  34.7980,2,  34.8040,2,    193.5,2,    188.6,2,     8.19,2,    20.22,2,     1.36,2,  -999.0, 10.0756,-999.000
     09FA290_2,  PR11,    79,  1,   -999,     24,2,19900317,1005,-29.1295, 154.4767, 4270,    799.0,   7.2660,  34.5110,2,  34.5120,2,    194.0,2,    194.0,2,    16.98,2,    26.84,2,     1.79,2,  -999.0,  7.1869,-999.000
     09FA290_2,  PR11,    79,  1,   -999,      1,2,19900317,1005,-29.1295, 154.4767, 4270,   1028.9,   5.2680,  34.4570,2,  34.4600,2,    181.1,2,    181.2,2,    39.46,2,    32.32,2,     2.15,2,  -999.0,  5.1800,-999.000
     09FA290_2,  PR11,    79,  1,   -999,     25,2,19900317,1005,-29.1295, 154.4767, 4270,   1262.0,   4.0790,  34.5080,2,  34.5090,2,    168.4,2,    162.1,2,    63.34,2,    35.29,2,     2.36,2,  -999.0,  3.9803,-999.000
     09FA290_2,  PR11,    79,  1,   -999,      8,2,19900317,1005,-29.1295, 154.4767, 4270,   1448.1,   3.2930,  34.5630,2,  34.5630,2,    152.4,2,    152.9,2,    84.82,2,    37.12,2,     2.51,2,  -999.0,  3.1862,-999.000
     09FA290_2,  PR11,    79,  1,   -999,     46,2,19900317,1005,-29.1295, 154.4767, 4270,   1496.1,   3.1880,  34.5730,2,  34.5710,2,    152.1,2,    152.3,2,    86.41,2,    37.28,2,     2.51,2,     1.6,  3.0783,   3.214
     09FA290_2,  PR11,    79,  1,   -999,     29,2,19900317,1005,-29.1295, 154.4767, 4270,   1496.1,   3.1880,  34.5730,2,  34.5720,2,    152.1,2,    150.5,2,    86.41,2,    37.45,2,     2.51,2,  -999.0,  3.0783,-999.000
     09FA290_2,  PR11,    79,  1,   -999,     43,2,19900317,1005,-29.1295, 154.4767, 4270,   1747.9,   2.6630,  34.6230,2,  34.6230,2,    151.4,2,    152.3,2,    98.10,2,    37.45,2,     2.52,2,  -999.0,  2.5384,-999.000
     09FA290_2,  PR11,    79,  1,   -999,      5,2,19900317,1005,-29.1295, 154.4767, 4270,   2263.5,   2.1470,  34.6920,2,  34.6910,2,    168.1,2,    171.7,2,    96.40,2,    35.62,2,     2.40,2,  -999.0,  1.9852,-999.000
     09FA290_2,  PR11,    79,  1,   -999,      2,2,19900317,1005,-29.1295, 154.4767, 4270,   2500.4,   1.9290,  34.7160,2,  34.7160,2,    178.4,2,    178.8,2,    96.40,2,    34.97,2,     2.33,2,  -999.0,  1.7497,-999.000
     09FA290_2,  PR11,    79,  1,   -999,     27,2,19900317,1005,-29.1295, 154.4767, 4270,   2500.4,   1.9290,  34.7160,2,  34.7160,2,    178.4,2,    178.8,2,    98.10,2,    34.97,2,     2.33,2,  -999.0,  1.7497,-999.000
     09FA290_2,  PR11,    79,  1,   -999,     26,2,19900317,1005,-29.1295, 154.4767, 4270,   2579.7,   1.8770,  34.7200,2,  34.7190,2,    178.7,2,    181.2,2,    98.10,2,    34.97,2,     2.33,2,  -999.0,  1.6914,-999.000
     09FA290_2,  PR11,    79,  1,   -999,     40,2,19900317,1005,-29.1295, 154.4767, 4270,   2858.0,   1.6490,  34.7300,2,  34.7260,2,    185.9,2,    186.8,2,   103.10,2,    34.64,2,     2.30,2,  -999.0,  1.4421,-999.000
     09FA290_2,  PR11,    79,  1,   -999,     36,2,19900317,1005,-29.1295, 154.4767, 4270,   3395.6,   1.2660,  34.7220,2,  34.7220,2,    191.3,2,    192.5,2,   113.29,2,    35.13,2,     2.33,2,  -999.0,  1.0159,-999.000
     09FA290_2,  PR11,    79,  1,   -999,     31,2,19900317,1005,-29.1295, 154.4767, 4270,   3487.2,   1.2430,  34.7230,2,  34.7230,2,    191.3,2,    192.8,2,   114.98,2,    35.13,2,     2.33,2,  -999.0,  0.9843,-999.000
     09FA290_2,  PR11,    79,  1,   -999,     12,2,19900317,1005,-29.1295, 154.4767, 4270,   3997.6,   1.1280,  34.7190,2,  34.7170,2,    192.0,2,    194.9,2,   118.48,2,    35.29,2,     2.35,2,    25.8,  0.8196,   1.108
     09FA290_2,  PR11,    79,  1,   -999,     34,2,19900317,1005,-29.1295, 154.4767, 4270,   4196.5,   1.1270,  34.7180,2,  34.7190,2,    193.2,2,    194.9,2,   118.48,2,    35.29,2,     2.35,2,  -999.0,  0.7971,-999.000
     09FA290_2,  PR11,    80,  1,   -999,      6,2,19900317,1416,-29.1998, 154.1738, 2733,      7.2,  25.9460,  35.1210,2,  35.1200,2,    211.7,2,    206.8,2,     1.00,2,     0.16,2,     0.11,2,  -999.0, 25.9444,  25.943
     09FA290_2,  PR11,    80,  1,   -999,     24,2,19900317,1416,-29.1998, 154.1738, 2733,     99.2,  24.0440,  35.5810,2,  35.5820,2,    233.8,2,    217.6,2,     0.80,2,     0.16,2,     0.09,2,  -999.0, 24.0230,-999.000
     09FA290_2,  PR11,    80,  1,   -999,      1,2,19900317,1416,-29.1998, 154.1738, 2733,    205.1,  18.8100,  35.6300,2,  35.6280,2,    210.6,2,    199.4,2,     1.30,2,     3.13,2,     0.34,2,  -999.0, 18.7735,-999.000
     09FA290_2,  PR11,    80,  1,   -999,     25,2,19900317,1416,-29.1998, 154.1738, 2733,    405.0,  12.8260,  35.0820,2,  35.0820,2,    183.6,2,    179.0,2,     5.49,2,    15.29,2,     1.06,2,  -999.0, 12.7703,-999.000
     09FA290_2,  PR11,    80,  1,   -999,      8,2,19900317,1416,-29.1998, 154.1738, 2733,    498.2,  10.8300,  34.8780,2,  34.8770,2,    184.4,2,    185.3,2,     7.19,2,    19.08,2,     1.27,2,  -999.0, 10.7684,-999.000
     09FA290_2,  PR11,    80,  1,   -999,     46,2,19900317,1416,-29.1998, 154.1738, 2733,    610.3,   8.8310,  34.6530,2,  34.6520,2,    194.0,2,    190.4,2,    10.69,2,    23.36,2,     1.55,2,    14.1,  8.7642,   8.865
     09FA290_2,  PR11,    80,  1,   -999,     29,2,19900317,1416,-29.1998, 154.1738, 2733,    799.0,   6.5970,  34.4830,2,  34.4850,2,    188.9,2,    187.3,2,    22.98,2,    29.12,2,     1.89,2,  -999.0,  6.5219,-999.000
     09FA290_2,  PR11,    80,  1,   -999,     43,2,19900317,1416,-29.1998, 154.1738, 2733,   1008.8,   5.0940,  34.4660,2,  34.4690,2,    174.4,2,    175.7,2,    41.96,2,    33.23,2,     2.17,2,  -999.0,  5.0092,-999.000
     09FA290_2,  PR11,    80,  1,   -999,      5,2,19900317,1416,-29.1998, 154.1738, 2733,   1177.0,   4.1790,  34.5010,2,  34.5050,2,    164.9,2,    165.1,2,    63.34,2,    35.53,2,     2.35,2,  -999.0,  4.0868,-999.000
     09FA290_2,  PR11,    80,  1,   -999,     27,2,19900317,1416,-29.1998, 154.1738, 2733,   1422.0,   3.2750,  34.5650,2,  34.5710,2,    152.4,2,    151.8,2,    84.82,2,    37.17,2,     2.49,2,  -999.0,  3.1706,-999.000
     09FA290_2,  PR11,    80,  1,   -999,      2,2,19900317,1416,-29.1998, 154.1738, 2733,   1499.6,   3.0670,  34.5860,2,  34.5870,2,    149.9,2,    150.9,2,    88.11,2,    37.34,2,     2.52,2,  -999.0,  2.9584,-999.000
     09FA290_2,  PR11,    80,  1,   -999,     26,2,19900317,1416,-29.1998, 154.1738, 2733,   1499.6,   3.0670,  34.5860,2,  34.5850,2,    149.9,2,    150.1,2,    88.11,2,    37.83,2,     2.52,2,  -999.0,  2.9584,-999.000
     09FA290_2,  PR11,    80,  1,   -999,     40,2,19900317,1416,-29.1998, 154.1738, 2733,   1749.5,   2.5860,  34.6330,2,  34.6320,2,    152.1,2,    152.6,2,    96.40,2,    37.67,2,     2.50,2,  -999.0,  2.4622,-999.000
     09FA290_2,  PR11,    80,  1,   -999,     36,2,19900317,1416,-29.1998, 154.1738, 2733,   1999.4,   2.3350,  34.6670,2,  34.6670,2,    163.7,2,    161.4,2,    94.71,2,    37.01,2,     2.42,2,  -999.0,  2.1934,-999.000
     09FA290_2,  PR11,    80,  1,   -999,     31,2,19900317,1416,-29.1998, 154.1738, 2733,   2213.5,   2.1680,  34.6960,2,  34.6940,2,    171.4,2,    171.1,2,    93.11,2,    36.52,2,     2.36,2,  -999.0,  2.0103,-999.000
     09FA290_2,  PR11,    80,  1,   -999,     41,2,19900317,1416,-29.1998, 154.1738, 2733,   2552.7,   1.8920,  34.7220,2,  34.7200,2,    177.9,2,    179.0,2,    96.40,2,    35.36,2,     2.31,2,  -999.0,  1.7086,-999.000
     09FA290_2,  PR11,    80,  1,   -999,     12,2,19900317,1416,-29.1998, 154.1738, 2733,   2552.7,   1.8920,  34.7220,2,  34.7200,2,    177.9,2,    180.5,2,    98.10,2,    35.53,2,     2.31,2,    75.8,  1.7086,   1.896
     09FA290_2,  PR11,    80,  1,   -999,     34,2,19900317,1416,-29.1998, 154.1738, 2733,   2719.8,   1.8270,  34.7260,2,  34.7240,2,    178.5,2,    181.6,2,    99.70,2,    35.20,2,     2.31,2,  -999.0,  1.6294,-999.000
     09FA290_2,  PR11,    81,  1,   -999,      6,2,19900317,1733,-29.2422, 153.9310, 1606,      3.6,  25.7880,  35.2010,2,  35.2000,2,    203.8,2,    199.2,2,     1.00,2,     0.16,2,     0.13,2,  -999.0, 25.7872,  25.815
     09FA290_2,  PR11,    81,  1,   -999,     29,2,19900317,1733,-29.2422, 153.9310, 1606,    117.6,  21.1250,  35.5770,2,  35.5770,2,    155.5,2,    153.7,2,     2.10,2,     7.40,2,     0.61,2,  -999.0, 21.1024,-999.000
     09FA290_2,  PR11,    81,  1,   -999,     43,2,19900317,1733,-29.2422, 153.9310, 1606,    198.6,  17.1940,  35.4550,2,  35.4560,2,    166.2,2,    161.3,2,     3.40,2,    10.36,2,     0.78,2,  -999.0, 17.1609,-999.000
     09FA290_2,  PR11,    81,  1,   -999,      5,2,19900317,1733,-29.2422, 153.9310, 1606,    322.3,  13.1920,  35.1050,2,  35.1060,2,    173.4,2,    175.6,2,     5.49,2,    15.62,2,     1.05,2,  -999.0, 13.1470,-999.000
     09FA290_2,  PR11,    81,  1,   -999,     27,2,19900317,1733,-29.2422, 153.9310, 1606,    397.6,  11.1620,  34.9130,2,  34.9110,2,    185.4,2,    183.6,2,     7.19,2,    19.08,2,     1.25,2,  -999.0, 11.1121,-999.000
     09FA290_2,  PR11,    81,  1,   -999,      2,2,19900317,1733,-29.2422, 153.9310, 1606,    497.6,   9.5120,  34.7330,2,  34.7280,2,    191.6,2,    188.7,2,     9.49,2,    22.54,2,     1.44,2,  -999.0,  9.4553,-999.000
     09FA290_2,  PR11,    81,  1,   -999,     26,2,19900317,1733,-29.2422, 153.9310, 1606,    597.9,   8.1240,  34.5950,2,  34.5950,2,    188.3,2,    188.2,2,    13.99,2,    25.99,2,     1.66,2,  -999.0,  8.0617,-999.000
     09FA290_2,  PR11,    81,  1,   -999,     40,2,19900317,1733,-29.2422, 153.9310, 1606,    799.9,   6.2750,  34.4730,2,  34.4750,2,    185.6,2,    186.5,2,    26.47,2,    30.60,2,     1.95,2,  -999.0,  6.2018,-999.000
     09FA290_2,  PR11,    81,  1,   -999,     36,2,19900317,1733,-29.2422, 153.9310, 1606,    997.2,   4.8760,  34.4670,2,  34.4700,2,    170.9,2,    174.0,2,    45.25,2,    34.22,2,     2.22,2,  -999.0,  4.7939,-999.000
     09FA290_2,  PR11,    81,  1,   -999,     31,2,19900317,1733,-29.2422, 153.9310, 1606,   1147.6,   4.1530,  34.5060,2,  34.5080,2,    161.5,2,    163.7,2,    63.34,2,    36.02,2,     2.35,2,  -999.0,  4.0635,-999.000
     09FA290_2,  PR11,    81,  1,   -999,     41,2,19900317,1733,-29.2422, 153.9310, 1606,   1382.2,   3.2660,  34.5680,2,  34.5680,2,    152.1,2,    151.2,2,    86.41,2,    38.00,2,     2.50,2,  -999.0,  3.1651,-999.000
     09FA290_2,  PR11,    81,  1,   -999,     12,2,19900317,1733,-29.2422, 153.9310, 1606,   1500.8,   2.9280,  34.5990,2,  34.6000,2,    149.3,2,    150.4,2,    94.71,2,    38.16,2,     2.58,2,    14.1,  2.8208,   2.929
     09FA290_2,  PR11,    81,  1,   -999,     34,2,19900317,1733,-29.2422, 153.9310, 1606,   1557.1,   2.8080,  34.6120,2,  34.6110,2,    149.3,2,    150.6,2,    94.71,2,    38.16,2,     2.52,2,  -999.0,  2.6976,-999.000
     09FA290_2,  PR11,    82,  1,   -999,      6,2,19900317,1952,-29.1638, 153.8950, 1100,      2.7,  25.7050,  35.1860,2,-999.0000,5,    206.9,2,    199.7,2,     0.90,2,     0.20,2,     0.11,2,  -999.0, 25.7044,  25.722
     09FA290_2,  PR11,    82,  1,   -999,     27,2,19900317,1952,-29.1638, 153.8950, 1100,     47.9,  25.7370,  35.1980,2,  35.1900,2,    158.8,2,    201.1,2,     0.70,2,     0.33,2,     0.09,2,  -999.0, 25.7264,-999.000
     09FA290_2,  PR11,    82,  1,   -999,      2,2,19900317,1952,-29.1638, 153.8950, 1100,     97.1,  24.3340,  35.4040,2,  35.4060,2,    179.0,2,    183.2,2,     1.20,2,     1.65,2,     0.30,2,  -999.0, 24.3133,-999.000
     09FA290_2,  PR11,    82,  1,   -999,     26,2,19900317,1952,-29.1638, 153.8950, 1100,    132.6,  19.6510,  35.5490,2,  35.5500,2,    189.9,2,    160.5,2,     2.20,2,     7.09,2,     0.58,2,  -999.0, 19.6267,-999.000
     09FA290_2,  PR11,    82,  1,   -999,     40,2,19900317,1952,-29.1638, 153.8950, 1100,    198.0,  16.8680,  35.4180,2,  35.4220,2,    191.6,2,    159.6,2,     3.40,2,    10.39,2,     0.81,2,  -999.0, 16.8354,-999.000
     09FA290_2,  PR11,    82,  1,   -999,     36,2,19900317,1952,-29.1638, 153.8950, 1100,    295.1,  12.9320,  35.0930,2,  35.0800,2,    187.2,2,    178.1,2,     5.39,2,    15.49,2,     1.06,2,  -999.0, 12.8914,-999.000
     09FA290_2,  PR11,    82,  1,   -999,     31,2,19900317,1952,-29.1638, 153.8950, 1100,    399.3,  10.5700,  34.8570,2,  34.8530,2,    184.3,2,    186.4,2,     7.49,2,    19.78,2,     1.30,2,  -999.0, 10.5216,-999.000
     09FA290_2,  PR11,    82,  1,   -999,     41,2,19900317,1952,-29.1638, 153.8950, 1100,    497.7,   9.0150,  34.6790,2,  34.6780,2,    184.3,2,    190.1,2,     9.99,2,    23.25,2,     1.50,2,  -999.0,  8.9602,-999.000
     09FA290_2,  PR11,    82,  1,   -999,     12,2,19900317,1952,-29.1638, 153.8950, 1100,    596.4,   8.1000,  34.5960,2,  34.6020,2,    184.3,2,    188.4,2,    13.69,2,    25.55,2,     1.64,2,    11.0,  8.0380,   8.100
     09FA290_2,  PR11,    82,  1,   -999,     34,2,19900317,1952,-29.1638, 153.8950, 1100,    807.5,   5.9520,  34.4630,2,  34.4660,2,    184.3,2,    185.6,2,    29.07,2,    30.66,2,     1.99,2,  -999.0,  5.8800,-999.000