BOTTLE,20020730WHPSIO
EXPOCODE,SECT_ID,STNNBR,CASTNO,SAMPNO,BTLNBR,BTLNBR_FLAG_W,DATE,TIME,LATITUDE,LONGITUDE,DEPTH,CTDPRS,CTDTMP,CTDSAL,CTDSAL_FLAG_W,SALNTY,SALNTY_FLAG_W,CTDOXY,CTDOXY_FLAG_W,OXYGEN,OXYGEN_FLAG_W,SILCAT,SILCAT_FLAG_W,NO2+NO3,NO2+NO3_FLAG_W,PHSPHT,PHSPHT_FLAG_W,REVPRS,THETA,REVTMP
,,,,,,,,,,,,DBR,ITS-90,PSS-78,,PSS-78,,UMOL/KG,,UMOL/KG,,UMOL/KG,,UMOL/KG,,UMOL/KG,,DBR,ITS-90,ITS-90
     09FA290_2,  PR11,    70,  1,   -999,      6,2,19900315,1040,-28.2327, 158.6048, 2960,      4.1,  25.1620,  35.5410,2,  35.5420,2,    207.5,2,    208.8,2,     0.80,2,     0.00,2,     0.09,2,  -999.0, 25.1611,  25.169
     09FA290_2,  PR11,    70,  1,   -999,     18,2,19900315,1040,-28.2327, 158.6048, 2960,    100.0,  19.5740,  35.6240,2,  35.6260,2,    209.3,2,    204.9,2,     1.00,2,     1.33,2,     0.26,2,  -999.0, 19.5557,-999.000
     09FA290_2,  PR11,    70,  1,   -999,     43,2,19900315,1040,-28.2327, 158.6048, 2960,    199.1,  18.4230,  35.6110,2,  35.6120,2,    191.4,2,    195.7,2,     1.40,2,     4.00,2,     0.42,2,  -999.0, 18.3881,-999.000
     09FA290_2,  PR11,    70,  1,   -999,     25,2,19900315,1040,-28.2327, 158.6048, 2960,    316.7,  15.9040,  35.4350,2,  35.4370,2,    189.2,2,    184.4,2,     2.70,2,     8.66,2,     0.70,2,  -999.0, 15.8537,-999.000
     09FA290_2,  PR11,    70,  1,   -999,     28,2,19900315,1040,-28.2327, 158.6048, 2960,    400.8,  13.6330,  35.2220,2,  35.2180,2,    191.3,2,    185.3,2,     4.20,2,    12.66,2,     0.93,2,  -999.0, 13.5756,-999.000
     09FA290_2,  PR11,    70,  1,   -999,      9,2,19900315,1040,-28.2327, 158.6048, 2960,    500.0,  11.2800,  34.9540,2,  34.9540,2,    188.4,2,    187.4,2,     6.49,2,    17.31,2,     1.21,2,  -999.0, 11.2165,-999.000
     09FA290_2,  PR11,    70,  1,   -999,     31,2,19900315,1040,-28.2327, 158.6048, 2960,    598.2,   9.7200,  34.7630,2,  34.7650,2,    186.5,2,    191.0,2,     8.49,2,    20.65,2,     1.43,2,  -999.0,  9.6506,-999.000
     09FA290_2,  PR11,    70,  1,   -999,     29,2,19900315,1040,-28.2327, 158.6048, 2960,    799.2,   7.2160,  34.5300,2,  34.5350,2,    183.8,2,    186.9,2,    19.08,2,    26.80,2,     1.83,2,  -999.0,  7.1372,-999.000
     09FA290_2,  PR11,    70,  1,   -999,     46,2,19900315,1040,-28.2327, 158.6048, 2960,    950.4,   5.7980,  34.4700,2,  34.4750,2,    175.8,2,    181.2,2,    33.17,2,    30.30,2,     2.06,2,    52.0,  5.7135,   5.828
     09FA290_2,  PR11,    70,  1,   -999,      5,2,19900315,1040,-28.2327, 158.6048, 2960,   1217.8,   4.2130,  34.5030,2,  34.5060,2,    162.5,2,    164.5,2,    60.04,2,    34.14,2,     2.36,2,  -999.0,  4.1169,-999.000
     09FA290_2,  PR11,    70,  1,   -999,     27,2,19900315,1040,-28.2327, 158.6048, 2960,   1437.2,   3.2760,  34.5660,2,  34.5660,2,    154.7,2,    152.0,2,    79.92,2,    36.13,2,     2.50,2,  -999.0,  3.1703,-999.000
     09FA290_2,  PR11,    70,  1,   -999,     44,2,19900315,1040,-28.2327, 158.6048, 2960,   1495.9,   3.1260,  34.5780,2,  34.5780,2,    150.5,2,    150.2,2,    86.61,2,    36.29,2,     2.53,2,  -999.0,  3.0170,-999.000
     09FA290_2,  PR11,    70,  1,   -999,     26,2,19900315,1040,-28.2327, 158.6048, 2960,   1495.9,   3.1260,  34.5780,2,  34.5770,2,    150.5,2,    149.0,2,    84.92,2,    36.46,2,     2.51,2,  -999.0,  3.0170,-999.000
     09FA290_2,  PR11,    70,  1,   -999,     40,2,19900315,1040,-28.2327, 158.6048, 2960,   1748.3,   2.6090,  34.6270,2,  34.6270,2,    151.7,2,    152.0,2,    93.31,2,    36.29,2,     2.54,2,  -999.0,  2.4850,-999.000
     09FA290_2,  PR11,    70,  1,   -999,     11,2,19900315,1040,-28.2327, 158.6048, 2960,   2289.8,   2.1440,  34.6900,2,  34.6890,2,    167.8,2,    168.7,2,    93.31,2,    34.80,2,     2.39,2,  -999.0,  1.9799,-999.000
     09FA290_2,  PR11,    70,  1,   -999,     36,2,19900315,1040,-28.2327, 158.6048, 2960,   2289.8,   2.1440,  34.6900,2,  34.6880,2,    167.8,2,    169.3,2,    93.31,2,    34.80,2,     2.39,2,  -999.0,  1.9799,-999.000
     09FA290_2,  PR11,    70,  1,   -999,     41,2,19900315,1040,-28.2327, 158.6048, 2960,   2593.5,   1.8720,  34.7160,2,  34.7120,2,    177.0,2,    178.8,2,    96.70,2,    33.97,2,     2.33,2,  -999.0,  1.6853,-999.000
     09FA290_2,  PR11,    70,  1,   -999,     12,2,19900315,1040,-28.2327, 158.6048, 2960,   2708.3,   1.5700,  34.7230,2,  34.7190,2,    181.7,2,    184.8,2,   101.80,2,    33.64,2,     2.33,2,    19.7,  1.3787,   1.619
     09FA290_2,  PR11,    70,  1,   -999,     34,2,19900315,1040,-28.2327, 158.6048, 2960,   2947.2,   1.3910,  34.7240,2,  34.7190,2,    188.0,2,    189.2,2,   106.89,2,    33.80,2,     2.33,2,  -999.0,  1.1813,-999.000
     09FA290_2,  PR11,    71,  1,   -999,      6,2,19900315,1542,-28.2347, 157.8950, 2593,      4.0,  24.7530,  35.6070,2,  35.6070,2,    210.5,2,    204.9,2,     0.60,2,     0.00,2,     0.08,2,  -999.0, 24.7521,  24.745
     09FA290_2,  PR11,    71,  1,   -999,     43,2,19900315,1542,-28.2347, 157.8950, 2593,     82.4,  20.0910,  35.6350,2,  35.6350,2,    215.2,2,    210.8,2,     0.80,2,     0.17,2,     0.17,2,  -999.0, 20.0757,-999.000
     09FA290_2,  PR11,    71,  1,   -999,     25,2,19900315,1542,-28.2347, 157.8950, 2593,    198.4,  18.7860,  35.6240,2,  35.6250,2,    199.1,2,    199.2,2,     1.00,2,     3.19,2,     0.34,2,  -999.0, 18.7508,-999.000
     09FA290_2,  PR11,    71,  1,   -999,     28,2,19900315,1542,-28.2347, 157.8950, 2593,    428.5,  13.6860,  35.2400,2,  35.2360,2,    187.6,2,    188.3,2,     3.90,2,    12.43,2,     0.90,2,  -999.0, 13.6244,-999.000
     09FA290_2,  PR11,    71,  1,   -999,      9,2,19900315,1542,-28.2347, 157.8950, 2593,    498.7,  12.0410,  35.0410,2,  35.0410,2,    187.8,2,    186.5,2,     5.39,2,    16.11,2,     1.12,2,  -999.0, 11.9750,-999.000
     09FA290_2,  PR11,    71,  1,   -999,     31,2,19900315,1542,-28.2347, 157.8950, 2593,    598.1,  10.2700,  34.8310,2,  34.8310,2,    186.4,2,    188.3,2,     8.19,2,    19.98,2,     1.35,2,  -999.0, 10.1982,-999.000
     09FA290_2,  PR11,    71,  1,   -999,     29,2,19900315,1542,-28.2347, 157.8950, 2593,    799.4,   7.2870,  34.5210,2,  34.5240,2,    187.3,2,    191.6,2,    17.08,2,    26.86,2,     1.77,2,  -999.0,  7.2077,-999.000
     09FA290_2,  PR11,    71,  1,   -999,     46,2,19900315,1542,-28.2347, 157.8950, 2593,   1012.8,   5.5950,  34.4680,2,  34.4710,2,    180.3,2,    181.2,2,    36.16,2,    31.23,2,     2.08,2,    23.3,  5.5060,   5.582
     09FA290_2,  PR11,    71,  1,   -999,      5,2,19900315,1542,-28.2347, 157.8950, 2593,   1229.8,   4.1680,  34.5070,2,  34.5090,2,    164.0,2,    164.5,2,    61.24,2,    34.92,2,     2.36,2,  -999.0,  4.0712,-999.000
     09FA290_2,  PR11,    71,  1,   -999,     27,2,19900315,1542,-28.2347, 157.8950, 2593,   1456.0,   3.2810,  34.5660,2,  34.5670,2,    148.5,2,    152.6,2,    82.32,2,    36.59,2,     2.50,2,  -999.0,  3.1737,-999.000
     09FA290_2,  PR11,    71,  1,   -999,     26,2,19900315,1542,-28.2347, 157.8950, 2593,   1503.4,   3.1300,  34.5780,2,  34.5790,2,    147.7,2,    149.9,2,    85.81,2,    36.93,2,     2.52,2,  -999.0,  3.0204,-999.000
     09FA290_2,  PR11,    71,  1,   -999,     44,2,19900315,1542,-28.2347, 157.8950, 2593,   1503.4,   3.1300,  34.5780,2,  34.5840,2,    147.7,2,    149.6,2,    85.81,2,    36.93,2,     2.52,2,  -999.0,  3.0203,-999.000
     09FA290_2,  PR11,    71,  1,   -999,     40,2,19900315,1542,-28.2347, 157.8950, 2593,   1747.3,   2.6000,  34.6310,2,  34.6310,2,    149.6,2,    151.4,2,    96.60,2,    37.10,2,     2.52,2,  -999.0,  2.4762,-999.000
     09FA290_2,  PR11,    71,  1,   -999,     36,2,19900315,1542,-28.2347, 157.8950, 2593,   2000.6,   2.3370,  34.6660,2,  34.6660,2,    158.0,2,    160.3,2,    96.60,2,    36.09,2,     2.47,2,  -999.0,  2.1953,-999.000
     09FA290_2,  PR11,    71,  1,   -999,     11,2,19900315,1542,-28.2347, 157.8950, 2593,   2252.4,   2.1540,  34.6930,2,  34.6910,2,    165.2,2,    169.3,2,    94.81,2,    35.25,2,     2.41,2,  -999.0,  1.9931,-999.000
     09FA290_2,  PR11,    71,  1,   -999,     12,2,19900315,1542,-28.2347, 157.8950, 2593,   2510.3,   1.8480,  34.7200,2,  34.7170,2,    177.2,2,    180.0,2,    98.30,2,    34.42,2,     2.33,2,    29.1,  1.6693,   1.851
     09FA290_2,  PR11,    71,  1,   -999,     41,2,19900315,1542,-28.2347, 157.8950, 2593,   2510.3,   1.8480,  34.7200,2,  34.7170,2,    177.2,2,    179.7,2,    98.30,2,    34.42,2,     2.33,2,  -999.0,  1.6693,-999.000
     09FA290_2,  PR11,    71,  1,   -999,     34,2,19900315,1542,-28.2347, 157.8950, 2593,   2576.2,   1.7890,  34.7250,2,  34.7200,2,    176.4,2,    180.3,2,    98.30,2,    34.42,2,     2.33,2,  -999.0,  1.6054,-999.000
     09FA290_2,  PR11,    72,  1,   -999,      6,2,19900315,2013,-28.4630, 157.4023, 4165,      4.8,  24.7610,  35.5060,2,  35.5030,2,    212.9,2,    208.2,2,     0.80,2,     0.16,2,     0.08,2,  -999.0, 24.7600,  24.775
     09FA290_2,  PR11,    72,  1,   -999,     24,2,19900315,2013,-28.4630, 157.4023, 4165,    137.9,  20.0170,  35.6410,2,  35.6390,2,    212.8,2,    198.9,2,     1.10,2,     1.64,2,     0.27,2,  -999.0, 19.9914,-999.000
     09FA290_2,  PR11,    72,  1,   -999,      1,2,19900315,2013,-28.4630, 157.4023, 4165,    197.0,  18.9910,  35.6330,2,  35.6300,2,    198.4,2,    202.8,2,     1.10,2,     2.30,2,     0.30,2,  -999.0, 18.9557,-999.000
     09FA290_2,  PR11,    72,  1,   -999,     45,2,19900315,2013,-28.4630, 157.4023, 4165,    424.6,  13.9870,  35.2730,2,  35.2620,2,    195.7,2,    190.6,2,     4.00,2,    11.81,2,     0.84,2,  -999.0, 13.9251,-999.000
     09FA290_2,  PR11,    72,  1,   -999,      8,2,19900315,2013,-28.4630, 157.4023, 4165,    497.0,  11.8650,  35.0180,2,  35.0450,2,    191.2,2,    190.1,2,     5.79,2,    15.73,2,     1.09,2,  -999.0, 11.7998,-999.000
     09FA290_2,  PR11,    72,  1,   -999,     43,2,19900315,2013,-28.4630, 157.4023, 4165,    598.7,  10.0560,  34.8000,2,  34.8030,2,    187.8,2,    190.1,2,     8.39,2,    20.33,2,     1.36,2,  -999.0,  9.9850,-999.000
     09FA290_2,  PR11,    72,  1,   -999,     25,2,19900315,2013,-28.4630, 157.4023, 4165,    799.1,   7.1180,  34.5130,2,  34.5180,2,    187.6,2,    189.0,2,    19.18,2,    27.54,2,     1.81,2,  -999.0,  7.0398,-999.000
     09FA290_2,  PR11,    72,  1,   -999,     28,2,19900315,2013,-28.4630, 157.4023, 4165,   1009.2,   5.4650,  34.4600,2,  34.4640,2,    177.0,2,    180.6,2,    37.16,2,    31.81,2,     2.09,2,  -999.0,  5.3774,-999.000
     09FA290_2,  PR11,    72,  1,   -999,      9,2,19900315,2013,-28.4630, 157.4023, 4165,   1269.0,   4.1550,  34.5070,2,  34.5090,2,    161.1,2,    163.9,2,    63.04,2,    35.08,2,     2.34,2,  -999.0,  4.0549,-999.000
     09FA290_2,  PR11,    72,  1,   -999,     31,2,19900315,2013,-28.4630, 157.4023, 4165,   1503.7,   3.2670,  34.5680,2,  34.5680,2,    153.5,2,    152.9,2,    87.21,2,    37.05,2,     2.49,2,  -999.0,  3.1558,-999.000
     09FA290_2,  PR11,    72,  1,   -999,     29,2,19900315,2013,-28.4630, 157.4023, 4165,   1503.7,   3.2670,  34.5680,2,  34.5680,2,    153.5,2,    152.3,2,    87.21,2,    36.88,2,     2.49,2,  -999.0,  3.1558,-999.000
     09FA290_2,  PR11,    72,  1,   -999,     46,2,19900315,2013,-28.4630, 157.4023, 4165,   1749.5,   2.6790,  34.6230,2,  34.6230,2,    149.7,2,    150.5,2,    99.40,2,    37.21,2,     2.50,2,    58.8,  2.5540,   2.704
     09FA290_2,  PR11,    72,  1,   -999,      5,2,19900315,2013,-28.4630, 157.4023, 4165,   1999.0,   2.3960,  34.6570,2,  34.6590,2,    157.1,2,    159.4,2,    99.40,2,    36.72,2,     2.47,2,  -999.0,  2.2535,-999.000
     09FA290_2,  PR11,    72,  1,   -999,     27,2,19900315,2013,-28.4630, 157.4023, 4165,   2263.2,   2.1640,  34.6920,2,  34.6950,2,    167.7,2,    168.1,2,    99.40,2,    35.73,2,     2.39,2,  -999.0,  2.0019,-999.000
     09FA290_2,  PR11,    72,  1,   -999,     26,2,19900315,2013,-28.4630, 157.4023, 4165,   2548.1,   1.8990,  34.7200,2,  34.7200,2,    177.8,2,    181.5,2,    90.71,3,    32.13,2,     2.13,3,  -999.0,  1.7159,-999.000
     09FA290_2,  PR11,    72,  1,   -999,     40,2,19900315,2013,-28.4630, 157.4023, 4165,   2826.9,   1.6350,  34.7290,2,  34.7270,2,    185.0,2,    186.3,2,   106.39,2,    34.76,2,     2.30,2,  -999.0,  1.4314,-999.000
     09FA290_2,  PR11,    72,  1,   -999,     36,2,19900315,2013,-28.4630, 157.4023, 4165,   2999.5,   1.4810,  34.7290,2,  34.7270,2,    186.4,2,    187.1,2,   109.89,2,    34.76,2,     2.31,2,  -999.0,  1.2644,-999.000
     09FA290_2,  PR11,    72,  1,   -999,     11,2,19900315,2013,-28.4630, 157.4023, 4165,   3317.6,   1.2610,  34.7260,2,  34.7240,2,    190.6,2,    190.4,2,   115.18,2,    34.92,2,     2.31,2,  -999.0,  1.0187,-999.000
     09FA290_2,  PR11,    72,  1,   -999,     41,2,19900315,2013,-28.4630, 157.4023, 4165,   3499.1,   1.1590,  34.7230,2,  34.7230,2,    192.1,2,    192.8,2,   118.68,2,    35.08,2,     2.31,2,  -999.0,  0.9013,-999.000
     09FA290_2,  PR11,    72,  1,   -999,     12,2,19900315,2013,-28.4630, 157.4023, 4165,   3997.4,   1.1200,  34.7210,2,  34.7190,2,    191.5,2,    193.1,2,   120.48,2,    35.24,2,     2.33,2,    17.8,  0.8118,   1.138
     09FA290_2,  PR11,    72,  1,   -999,     34,2,19900315,2013,-28.4630, 157.4023, 4165,   4197.6,   1.1360,  34.7210,2,  34.7170,2,    193.8,2,    194.0,2,   122.18,2,    35.24,2,     2.31,2,  -999.0,  0.8058,-999.000
     09FA290_2,  PR11,    73,  1,   -999,      6,2,19900316,0205,-28.6458, 156.8807, 4600,      4.2,  24.2710,  35.5030,2,  35.5030,2,    219.5,2,    215.0,2,     0.80,2,     0.17,2,     0.09,2,  -999.0, 24.2701,  24.272
     09FA290_2,  PR11,    73,  1,   -999,     35,2,19900316,0205,-28.6458, 156.8807, 4600,     97.8,  20.3690,  35.6370,2,  35.6370,2,    209.4,2,    199.2,2,     1.00,2,     1.35,2,     0.27,2,  -999.0, 20.3506,-999.000
     09FA290_2,  PR11,    73,  1,   -999,     24,2,19900316,0205,-28.6458, 156.8807, 4600,    198.5,  18.9130,  35.6100,2,  35.6130,2,    208.7,2,    203.1,2,     1.20,2,     2.87,2,     0.34,2,  -999.0, 18.8776,-999.000
     09FA290_2,  PR11,    73,  1,   -999,      1,2,19900316,0205,-28.6458, 156.8807, 4600,    427.9,  13.6250,  35.2100,2,  35.2130,2,    186.2,2,    184.4,2,     4.40,2,    13.17,2,     0.94,2,  -999.0, 13.5637,-999.000
     09FA290_2,  PR11,    73,  1,   -999,     45,2,19900316,0205,-28.6458, 156.8807, 4600,    497.9,  11.8850,  35.0270,2,  35.0290,2,    193.0,2,    187.4,2,     5.89,2,    16.37,2,     1.14,2,  -999.0, 11.8196,-999.000
     09FA290_2,  PR11,    73,  1,   -999,      8,2,19900316,0205,-28.6458, 156.8807, 4600,    598.8,  10.0620,  34.8000,2,  34.8060,2,    185.7,2,    189.8,2,     8.19,2,    20.60,2,     1.38,2,  -999.0,  9.9910,-999.000
     09FA290_2,  PR11,    73,  1,   -999,     43,2,19900316,0205,-28.6458, 156.8807, 4600,    798.9,   7.2910,  34.5280,2,  34.5320,2,    189.8,2,    187.5,2,    18.28,2,    27.35,2,     1.82,2,  -999.0,  7.2118,-999.000
     09FA290_2,  PR11,    73,  1,   -999,     25,2,19900316,0205,-28.6458, 156.8807, 4600,   1023.7,   5.3370,  34.4660,2,  34.4680,2,    175.8,2,    180.0,2,    39.36,2,    32.42,2,     2.15,2,  -999.0,  5.2490,-999.000
     09FA290_2,  PR11,    73,  1,   -999,     28,2,19900316,0205,-28.6458, 156.8807, 4600,   1203.1,   4.1420,  34.5040,2,  34.5050,2,    166.4,2,    164.5,2,    62.94,2,    35.28,2,     2.37,2,  -999.0,  4.0478,-999.000
     09FA290_2,  PR11,    73,  1,   -999,     31,2,19900316,0205,-28.6458, 156.8807, 4600,   1483.2,   3.2620,  34.5670,2,  34.5670,2,    152.5,2,    149.9,2,    89.31,2,    37.48,2,     2.52,2,  -999.0,  3.1526,-999.000
     09FA290_2,  PR11,    73,  1,   -999,      9,2,19900316,0205,-28.6458, 156.8807, 4600,   1483.2,   3.2620,  34.5670,2,  34.5670,2,    152.5,2,    149.0,2,    87.51,2,    37.48,2,     2.54,2,  -999.0,  3.1526,-999.000
     09FA290_2,  PR11,    73,  1,   -999,     46,2,19900316,0205,-28.6458, 156.8807, 4600,   1999.3,   2.3780,  34.6600,2,  34.6590,2,    166.3,2,    157.7,2,   100.00,2,    36.97,2,     2.49,2,     6.9,  2.2358,   2.403
     09FA290_2,  PR11,    73,  1,   -999,      5,2,19900316,0205,-28.6458, 156.8807, 4600,   2282.9,   2.1620,  34.6910,2,  34.6900,2,    174.1,2,    169.0,2,   107.19,3,    35.96,2,     2.40,2,  -999.0,  1.9982,-999.000
     09FA290_2,  PR11,    73,  1,   -999,      2,2,19900316,0205,-28.6458, 156.8807, 4600,   2496.8,   1.9940,  34.7120,2,  34.7100,2,    174.1,2,    177.0,2,    96.40,2,    35.45,2,     2.37,2,  -999.0,  1.8138,-999.000
     09FA290_2,  PR11,    73,  1,   -999,     27,2,19900316,0205,-28.6458, 156.8807, 4600,   2496.8,   1.9940,  34.7120,2,  34.7100,2,    174.1,2,    175.5,2,    96.40,2,    35.62,2,     2.37,2,  -999.0,  1.8138,-999.000
     09FA290_2,  PR11,    73,  1,   -999,     26,2,19900316,0205,-28.6458, 156.8807, 4600,   2647.4,   1.8680,  34.7180,2,  34.7170,2,    183.5,2,    179.7,2,   100.00,2,    35.62,2,     2.35,2,  -999.0,  1.6764,-999.000
     09FA290_2,  PR11,    73,  1,   -999,     40,2,19900316,0205,-28.6458, 156.8807, 4600,   2884.5,   1.6460,  34.7260,2,  34.7220,2,    186.9,2,    184.5,2,   103.60,2,    35.45,2,     2.34,2,  -999.0,  1.4367,-999.000
     09FA290_2,  PR11,    73,  1,   -999,     36,2,19900316,0205,-28.6458, 156.8807, 4600,   3381.0,   1.2770,  34.7250,2,  34.7210,2,    188.0,2,    191.6,2,   114.39,2,    35.62,2,     2.35,2,  -999.0,  1.0281,-999.000
     09FA290_2,  PR11,    73,  1,   -999,     41,2,19900316,0205,-28.6458, 156.8807, 4600,   3499.3,   1.2370,  34.7230,2,  34.7210,2,    188.0,2,    191.9,2,   116.18,2,    35.62,2,     2.35,2,  -999.0,  0.9773,-999.000
     09FA290_2,  PR11,    73,  1,   -999,     11,2,19900316,0205,-28.6458, 156.8807, 4600,   3499.3,   1.2370,  34.7230,2,  34.7210,2,    188.0,2,    191.0,2,   116.18,2,    35.62,2,     2.35,2,  -999.0,  0.9773,-999.000
     09FA290_2,  PR11,    73,  1,   -999,     12,2,19900316,0205,-28.6458, 156.8807, 4600,   3993.3,   1.1560,  34.7200,2,  34.7200,2,    194.4,2,    194.3,2,   119.78,2,    35.79,2,     2.35,2,    21.0,  0.8472,   1.139
     09FA290_2,  PR11,    73,  1,   -999,     34,2,19900316,0205,-28.6458, 156.8807, 4600,   4601.8,   1.1790,  34.7190,2,  34.7170,2,    194.4,2,    194.0,2,   121.58,2,    35.79,2,     2.37,2,  -999.0,  0.8021,-999.000