BOTTLE,20020730WHPSIO
EXPOCODE,SECT_ID,STNNBR,CASTNO,SAMPNO,BTLNBR,BTLNBR_FLAG_W,DATE,TIME,LATITUDE,LONGITUDE,DEPTH,CTDPRS,CTDTMP,CTDSAL,CTDSAL_FLAG_W,SALNTY,SALNTY_FLAG_W,CTDOXY,CTDOXY_FLAG_W,OXYGEN,OXYGEN_FLAG_W,SILCAT,SILCAT_FLAG_W,NO2+NO3,NO2+NO3_FLAG_W,PHSPHT,PHSPHT_FLAG_W,REVPRS,THETA,REVTMP
,,,,,,,,,,,,DBR,ITS-90,PSS-78,,PSS-78,,UMOL/KG,,UMOL/KG,,UMOL/KG,,UMOL/KG,,UMOL/KG,,DBR,ITS-90,ITS-90
     09FA290_1, PR13N,    26,  1,   -999,      6,2,19900304,0652,-43.2530, 165.5275, 4298,      3.3,  17.1720,  34.8760,2,  34.8760,2,    248.7,2,    241.4,2,     0.80,2,     0.20,2,     0.18,2,  -999.0, 17.1715,  17.198
     09FA290_1, PR13N,    26,  1,   -999,     31,2,19900304,0652,-43.2530, 165.5275, 4298,     97.6,  13.4090,  35.0380,2,  35.0350,2,    219.0,2,    230.2,2,     1.50,2,     3.20,2,     0.42,2,  -999.0, 13.3953,-999.000
     09FA290_1, PR13N,    26,  1,   -999,     36,2,19900304,0652,-43.2530, 165.5275, 4298,    139.9,  12.4050,  35.0990,2,  35.0970,2,    219.8,2,    232.8,2,     2.50,2,     7.09,2,     0.60,2,  -999.0, 12.3864,-999.000
     09FA290_1, PR13N,    26,  1,   -999,     18,2,19900304,0652,-43.2530, 165.5275, 4298,    198.6,  11.8600,  35.0370,2,  35.0360,2,    222.4,2,    234.6,2,     2.80,2,     8.39,2,     0.67,2,  -999.0, 11.8343,-999.000
     09FA290_1, PR13N,    26,  1,   -999,     24,2,19900304,0652,-43.2530, 165.5275, 4298,    397.4,   9.4050,  34.7130,2,  34.7140,2,    204.6,2,    209.4,2,     7.19,2,    19.78,2,     1.36,2,  -999.0,  9.3603,-999.000
     09FA290_1, PR13N,    26,  1,   -999,     35,2,19900304,0652,-43.2530, 165.5275, 4298,    499.0,   8.3120,  34.5860,2,  34.5870,2,    196.8,2,    204.4,2,    10.89,2,    22.98,2,     1.60,2,  -999.0,  8.2597,-999.000
     09FA290_1, PR13N,    26,  1,   -999,     41,2,19900304,0652,-43.2530, 165.5275, 4298,    599.6,   7.5430,  34.5310,2,  34.5320,2,    187.2,2,    193.3,2,    15.88,2,    26.37,2,     1.78,2,  -999.0,  7.4832,-999.000
     09FA290_1, PR13N,    26,  1,   -999,      2,2,19900304,0652,-43.2530, 165.5275, 4298,    798.6,   5.9900,  34.4500,2,  34.4510,2,    181.3,2,    185.6,2,    27.57,2,    30.07,2,     2.05,2,  -999.0,  5.9187,-999.000
     09FA290_1, PR13N,    26,  1,   -999,     46,2,19900304,0652,-43.2530, 165.5275, 4298,    990.0,   4.7220,  34.4250,2,  34.4260,2,    180.0,2,    181.5,2,    40.96,2,    33.07,2,     2.27,2,    93.2,  4.6418,   4.747
     09FA290_1, PR13N,    26,  1,   -999,     29,2,19900304,0652,-43.2530, 165.5275, 4298,   1193.7,   3.7250,  34.4590,2,  34.4610,2,    172.7,2,    175.6,2,  -999.00,5,  -999.00,5,  -999.00,5,  -999.0,  3.6355,-999.000
     09FA290_1, PR13N,    26,  1,   -999,      8,2,19900304,0652,-43.2530, 165.5275, 4298,   1413.8,   3.0900,  34.5340,2,  34.5380,2,    164.3,2,    163.5,2,  -999.00,5,  -999.00,5,  -999.00,5,  -999.0,  2.9884,-999.000
     09FA290_1, PR13N,    26,  1,   -999,     26,2,19900304,0652,-43.2530, 165.5275, 4298,   1498.2,   2.9340,  34.5600,2,  34.5630,2,    160.0,2,    160.3,2,    82.22,2,    36.06,2,     2.54,2,  -999.0,  2.8271,-999.000
     09FA290_1, PR13N,    26,  1,   -999,     25,2,19900304,0652,-43.2530, 165.5275, 4298,   1498.2,   2.9340,  34.5600,2,  34.5630,2,    160.0,2,    160.0,2,    83.92,2,    36.06,2,     2.50,2,  -999.0,  2.8271,-999.000
     09FA290_1, PR13N,    26,  1,   -999,     28,2,19900304,0652,-43.2530, 165.5275, 4298,   1749.5,   2.5740,  34.6230,2,  34.6250,2,    162.1,2,    161.5,2,    90.91,2,    35.86,2,     2.50,2,  -999.0,  2.4504,-999.000
     09FA290_1, PR13N,    26,  1,   -999,     43,2,19900304,0652,-43.2530, 165.5275, 4298,   2188.4,   2.1490,  34.6980,2,  34.6940,2,    174.1,2,    175.3,2,    94.41,2,    34.57,2,     2.39,2,  -999.0,  1.9938,-999.000
     09FA290_1, PR13N,    26,  1,   -999,     10,2,19900304,0652,-43.2530, 165.5275, 4298,   2493.9,   1.8440,  34.7200,2,  34.7190,2,    177.7,2,    184.4,2,   101.40,2,    34.07,2,     2.35,2,  -999.0,  1.6669,-999.000
     09FA290_1, PR13N,    26,  1,   -999,     40,2,19900304,0652,-43.2530, 165.5275, 4298,   2493.9,   1.8440,  34.7200,2,  34.7200,2,    177.7,2,    183.8,2,   103.20,2,    34.07,2,     2.35,2,  -999.0,  1.6669,-999.000
     09FA290_1, PR13N,    26,  1,   -999,     34,2,19900304,0652,-43.2530, 165.5275, 4298,   2821.7,   1.5890,  34.7240,2,  34.7220,2,    183.1,2,    189.1,2,   111.89,2,    34.27,2,     2.35,2,  -999.0,  1.3868,-999.000
     09FA290_1, PR13N,    26,  1,   -999,      9,2,19900304,0652,-43.2530, 165.5275, 4298,   3517.2,   1.2600,  34.7180,2,  34.7170,2,    188.9,2,    192.3,2,   122.38,2,    34.57,2,     2.37,2,  -999.0,  0.9979,-999.000
     09FA290_1, PR13N,    26,  1,   -999,      1,2,19900304,0652,-43.2530, 165.5275, 4298,   3517.2,   1.2600,  34.7180,2,  34.7170,2,    188.9,2,    192.6,2,   122.38,2,    34.57,2,     2.37,2,  -999.0,  0.9979,-999.000
     09FA290_1, PR13N,    26,  1,   -999,     12,2,19900304,0652,-43.2530, 165.5275, 4298,   4002.9,   1.1680,  34.7150,2,  34.7130,2,    191.6,2,    194.1,2,   125.87,2,    34.97,2,     2.39,2,    35.7,  0.8579,   1.175
     09FA290_1, PR13N,    26,  1,   -999,     42,2,19900304,0652,-43.2530, 165.5275, 4298,   4330.0,   1.1180,  34.7140,2,  34.7120,2,    190.3,2,    192.6,2,   129.37,2,    34.37,2,     2.44,2,  -999.0,  0.7737,-999.000
     09FA290_1, PR13N,    27,  1,   -999,      6,2,19900304,1319,-43.2473, 166.4573, 4062,      4.3,  17.4180,  34.9700,2,  34.9690,2,    236.2,2,    238.7,2,     1.10,2,     0.20,2,     0.16,2,  -999.0, 17.4173,  17.450
     09FA290_1, PR13N,    27,  1,   -999,     31,2,19900304,1319,-43.2473, 166.4573, 4062,     28.0,  17.4140,  34.9690,2,  34.9690,2,    235.5,2,    238.4,2,     0.90,2,     0.20,2,     0.15,2,  -999.0, 17.4093,-999.000
     09FA290_1, PR13N,    27,  1,   -999,     36,2,19900304,1319,-43.2473, 166.4573, 4062,     99.1,  13.0270,  35.1940,2,  35.1920,2,    221.3,2,    230.2,2,     2.30,2,     6.19,2,     0.47,2,  -999.0, 13.0134,-999.000
     09FA290_1, PR13N,    27,  1,   -999,     18,2,19900304,1319,-43.2473, 166.4573, 4062,    199.7,  11.9980,  35.0610,2,  35.0620,2,    210.0,2,    219.9,2,     3.50,2,    10.79,2,     0.74,2,  -999.0, 11.9719,-999.000
     09FA290_1, PR13N,    27,  1,   -999,     24,2,19900304,1319,-43.2473, 166.4573, 4062,    399.5,   9.6280,  34.7190,2,  34.7210,2,    220.9,2,    221.7,2,     5.29,2,    17.78,2,     1.14,2,  -999.0,  9.5824,-999.000
     09FA290_1, PR13N,    27,  1,   -999,     35,2,19900304,1319,-43.2473, 166.4573, 4062,    498.7,   8.8900,  34.6140,2,  34.6130,2,    226.5,2,    227.6,2,     6.09,2,    19.38,2,     1.28,2,  -999.0,  8.8355,-999.000
     09FA290_1, PR13N,    27,  1,   -999,     41,2,19900304,1319,-43.2473, 166.4573, 4062,    598.3,   8.4790,  34.5890,2,  34.5900,2,    208.0,2,    209.7,2,     9.29,2,    22.38,2,     1.46,2,  -999.0,  8.4151,-999.000
     09FA290_1, PR13N,    27,  1,   -999,      2,2,19900304,1319,-43.2473, 166.4573, 4062,    799.0,   6.9110,  34.4840,2,  34.4840,2,    189.3,2,    189.1,2,    19.28,2,    27.47,2,     1.82,2,  -999.0,  6.8341,-999.000
     09FA290_1, PR13N,    27,  1,   -999,     46,2,19900304,1319,-43.2473, 166.4573, 4062,   1012.2,   5.0680,  34.4280,2,  34.4300,2,    179.3,2,    181.2,2,    36.26,2,    31.77,2,     2.14,2,    20.4,  4.9832,   5.098
     09FA290_1, PR13N,    27,  1,   -999,     29,2,19900304,1319,-43.2473, 166.4573, 4062,   1246.0,   3.9150,  34.4580,2,  34.4600,2,    169.4,2,    173.0,2,    56.14,2,    34.47,2,     2.32,2,  -999.0,  3.8193,-999.000
     09FA290_1, PR13N,    27,  1,   -999,     26,2,19900304,1319,-43.2473, 166.4573, 4062,   1480.3,   3.0620,  34.5400,2,  34.5360,2,    162.6,2,    162.4,2,    74.53,2,  -999.00,5,     2.40,2,  -999.0,  2.9552,-999.000
     09FA290_1, PR13N,    27,  1,   -999,      8,2,19900304,1319,-43.2473, 166.4573, 4062,   1480.3,   3.0620,  34.5400,2,  34.5420,2,    162.6,2,    162.4,2,    74.53,2,    35.46,2,     2.40,2,  -999.0,  2.9552,-999.000
     09FA290_1, PR13N,    27,  1,   -999,     25,2,19900304,1319,-43.2473, 166.4573, 4062,   1749.7,   2.6530,  34.6130,2,  34.6110,2,    155.3,2,    158.8,2,    88.41,2,    37.26,2,     2.45,2,  -999.0,  2.5284,-999.000
     09FA290_1, PR13N,    27,  1,   -999,     28,2,19900304,1319,-43.2473, 166.4573, 4062,   1999.3,   2.3890,  34.6560,2,  34.6560,2,    159.9,2,    165.0,2,    88.41,2,    34.97,2,     2.39,2,  -999.0,  2.2466,-999.000
     09FA290_1, PR13N,    27,  1,   -999,     43,2,19900304,1319,-43.2473, 166.4573, 4062,   2299.8,   2.1360,  34.6960,2,  34.6960,2,    170.2,2,    176.7,2,    93.01,2,    34.07,2,     2.31,2,  -999.0,  1.9711,-999.000
     09FA290_1, PR13N,    27,  1,   -999,     40,2,19900304,1319,-43.2473, 166.4573, 4062,   2597.0,   1.8190,  34.7140,2,  34.7180,2,    178.2,2,    182.0,2,    97.70,2,    33.77,2,     2.29,2,  -999.0,  1.6330,-999.000
     09FA290_1, PR13N,    27,  1,   -999,     10,2,19900304,1319,-43.2473, 166.4573, 4062,   2597.0,   1.8190,  34.7140,2,  34.7160,2,    178.2,2,    182.3,2,    97.70,2,    33.77,2,     2.29,2,  -999.0,  1.6330,-999.000
     09FA290_1, PR13N,    27,  1,   -999,     34,2,19900304,1319,-43.2473, 166.4573, 4062,   2833.5,   1.5880,  34.7220,2,  34.7200,2,    181.7,2,    186.4,2,   105.39,2,    33.87,2,     2.29,2,  -999.0,  1.3848,-999.000
     09FA290_1, PR13N,    27,  1,   -999,      1,2,19900304,1319,-43.2473, 166.4573, 4062,   3196.9,   1.3500,  34.7200,2,  34.7190,2,    186.2,2,    190.3,2,   111.69,2,    34.07,2,     2.31,2,  -999.0,  1.1174,-999.000
     09FA290_1, PR13N,    27,  1,   -999,      9,2,19900304,1319,-43.2473, 166.4573, 4062,   3551.6,   1.2260,  34.7160,2,  34.7150,2,    187.8,2,    193.5,2,   114.79,2,    34.27,2,     2.31,2,  -999.0,  0.9613,-999.000
     09FA290_1, PR13N,    27,  1,   -999,     12,2,19900304,1319,-43.2473, 166.4573, 4062,   3551.6,   1.2260,  34.7160,2,  34.7140,2,    187.8,2,    192.3,2,   116.38,2,    34.07,2,     2.31,2,    79.5,  0.9613,   1.235
     09FA290_1, PR13N,    27,  1,   -999,     42,2,19900304,1319,-43.2473, 166.4573, 4062,   4097.4,   1.1430,  34.7130,2,  34.7130,2,    187.9,2,    193.2,2,   120.98,2,    34.47,2,     2.32,2,  -999.0,  0.8235,-999.000
     09FA290_1, PR13N,    28,  1,   -999,      6,2,19900304,2002,-43.2537, 167.3808, 2200,      4.1,  17.4370,  34.9450,2,  34.9460,2,    247.3,2,    241.1,2,     0.90,2,     0.20,2,     0.17,2,  -999.0, 17.4363,  17.452
     09FA290_1, PR13N,    28,  1,   -999,     28,2,19900304,2002,-43.2537, 167.3808, 2200,     99.1,  12.6850,  35.1160,2,  35.1130,2,    237.9,2,    232.0,2,     2.20,2,     6.79,2,     0.61,2,  -999.0, 12.6716,-999.000
     09FA290_1, PR13N,    28,  1,   -999,     29,2,19900304,2002,-43.2537, 167.3808, 2200,    134.9,  12.0060,  35.0520,2,  35.0530,2,    223.8,2,    229.6,2,     2.80,2,     9.09,2,     0.72,2,  -999.0, 11.9884,-999.000
     09FA290_1, PR13N,    28,  1,   -999,      8,2,19900304,2002,-43.2537, 167.3808, 2200,    198.2,  11.2740,  34.9670,2,  34.9700,2,    213.6,2,    214.9,2,     3.80,2,    13.09,2,     0.95,2,  -999.0, 11.2492,-999.000
     09FA290_1, PR13N,    28,  1,   -999,     26,2,19900304,2002,-43.2537, 167.3808, 2200,    398.9,   9.0830,  34.6460,2,  34.6550,2,    220.8,2,    226.7,2,     5.29,2,    18.78,2,     1.28,2,  -999.0,  9.0391,-999.000
     09FA290_1, PR13N,    28,  1,   -999,     25,2,19900304,2002,-43.2537, 167.3808, 2200,    502.9,   8.5700,  34.5840,2,  34.5810,2,    226.7,2,    229.1,2,     6.39,2,    20.38,2,     1.38,2,  -999.0,  8.5163,-999.000
     09FA290_1, PR13N,    28,  1,   -999,     46,2,19900304,2002,-43.2537, 167.3808, 2200,    598.9,   8.2710,  34.5660,2,  34.5680,2,    214.6,2,    212.9,2,     9.09,2,    22.58,2,     1.70,3,     1.9,  8.2080,   8.295
     09FA290_1, PR13N,    28,  1,   -999,     43,2,19900304,2002,-43.2537, 167.3808, 2200,    798.6,   7.0290,  34.5040,2,  34.5050,2,    190.3,2,    189.4,2,    18.98,2,    27.67,2,     1.87,2,  -999.0,  6.9514,-999.000
     09FA290_1, PR13N,    28,  1,   -999,     10,2,19900304,2002,-43.2537, 167.3808, 2200,   1080.8,   4.8310,  34.4310,2,  34.4350,2,    181.4,2,    182.7,2,    37.86,2,    32.47,2,     2.19,2,  -999.0,  4.7418,-999.000
     09FA290_1, PR13N,    28,  1,   -999,     40,2,19900304,2002,-43.2537, 167.3808, 2200,   1269.3,   3.7990,  34.4650,2,  34.4690,2,    172.7,2,    173.8,2,    54.45,2,    34.97,2,     2.36,2,  -999.0,  3.7024,-999.000
     09FA290_1, PR13N,    28,  1,   -999,     34,2,19900304,2002,-43.2537, 167.3808, 2200,   1513.0,   3.1140,  34.5530,2,  34.5510,2,    161.1,2,    160.9,2,    74.63,2,    35.86,2,     2.47,2,  -999.0,  3.0038,-999.000
     09FA290_1, PR13N,    28,  1,   -999,      1,2,19900304,2002,-43.2537, 167.3808, 2200,   1513.0,   3.1140,  34.5530,2,  34.5520,2,    161.1,2,    160.6,2,    74.63,2,    36.16,2,     2.47,2,  -999.0,  3.0038,-999.000
     09FA290_1, PR13N,    28,  1,   -999,      9,2,19900304,2002,-43.2537, 167.3808, 2200,   1747.7,   2.6600,  34.6200,2,  34.6180,2,    159.1,2,    159.7,2,    85.61,2,    36.36,2,     2.49,2,  -999.0,  2.5354,-999.000
     09FA290_1, PR13N,    28,  1,   -999,     12,2,19900304,2002,-43.2537, 167.3808, 2200,   1999.3,   2.3870,  34.6600,2,  34.6590,2,    165.2,2,    165.6,2,    88.81,2,    35.66,2,     2.43,2,    16.8,  2.2446,   2.392
     09FA290_1, PR13N,    28,  1,   -999,     42,2,19900304,2002,-43.2537, 167.3808, 2200,   2168.2,   2.2570,  34.6810,2,  34.6780,2,    169.1,2,    169.1,2,    90.41,2,    35.26,2,     2.40,2,  -999.0,  2.1019,-999.000
     09FA290_1, PR13N,    29,  1,   -999,      6,2,19900305,0028,-43.2445, 168.0893, 1176,      4.1,  17.7740,  35.0240,2,  35.0240,2,    245.0,2,    238.1,2,     1.00,2,     0.20,2,     0.15,2,  -999.0, 17.7733,  17.785
     09FA290_1, PR13N,    29,  1,   -999,     25,2,19900305,0028,-43.2445, 168.0893, 1176,     99.8,  13.4400,  35.2710,2,  35.2690,2,    237.6,2,    227.8,2,     2.20,2,     6.09,2,     0.56,2,  -999.0, 13.4260,-999.000
     09FA290_1, PR13N,    29,  1,   -999,     43,2,19900305,0028,-43.2445, 168.0893, 1176,    199.4,  12.2970,  35.1290,2,  35.1270,2,    217.5,2,    213.1,2,     3.50,2,    11.09,2,     1.04,3,  -999.0, 12.2705,-999.000
     09FA290_1, PR13N,    29,  1,   -999,     10,2,19900305,0028,-43.2445, 168.0893, 1176,    299.6,  11.1750,  34.9680,2,  34.9670,2,    212.7,2,    206.4,2,     4.60,2,    14.89,2,     1.04,2,  -999.0, 11.1375,-999.000
     09FA290_1, PR13N,    29,  1,   -999,     40,2,19900305,0028,-43.2445, 168.0893, 1176,    398.9,  10.0390,  34.8010,2,  34.8030,2,    208.3,2,    207.3,2,     5.49,2,    17.98,2,     1.24,2,  -999.0,  9.9922,-999.000
     09FA290_1, PR13N,    29,  1,   -999,     34,2,19900305,0028,-43.2445, 168.0893, 1176,    499.0,   9.1220,  34.6660,2,  34.6680,2,    214.6,2,    214.7,2,     6.29,2,    20.08,2,     1.36,2,  -999.0,  9.0666,-999.000
     09FA290_1, PR13N,    29,  1,   -999,      1,2,19900305,0028,-43.2445, 168.0893, 1176,    600.4,   8.4620,  34.6030,2,  34.6020,2,    207.3,2,    204.4,2,     9.59,2,    22.78,2,     1.54,2,  -999.0,  8.3980,-999.000
     09FA290_1, PR13N,    29,  1,   -999,      9,2,19900305,0028,-43.2445, 168.0893, 1176,    798.9,   6.8790,  34.5110,2,  34.5130,2,    182.6,2,    182.4,2,    22.38,2,    28.37,2,     1.91,2,  -999.0,  6.8022,-999.000
     09FA290_1, PR13N,    29,  1,   -999,     46,2,19900305,0028,-43.2445, 168.0893, 1176,    999.4,   5.2860,  34.4540,2,  34.4540,2,    175.0,2,    175.0,2,    37.56,2,    32.07,2,     2.18,2,     1.9,  5.2006,   5.315
     09FA290_1, PR13N,    29,  1,   -999,     42,2,19900305,0028,-43.2445, 168.0893, 1176,   1148.8,   4.5190,  34.4570,2,  34.4570,2,    172.5,2,    172.7,2,    45.45,2,    33.67,2,     2.29,2,  -999.0,  4.4263,-999.000
     09FA290_1, PR13N,    30,  1,   -999,      6,2,19900305,0425,-43.6887, 168.4578, 1679,      2.0,  17.6690,  34.8540,2,  34.8970,2,    244.9,2,    239.4,2,     1.00,2,     0.20,2,     0.10,2,  -999.0, 17.6687,  17.871
     09FA290_1, PR13N,    30,  1,   -999,     18,2,19900305,0425,-43.6887, 168.4578, 1679,     72.8,  13.8130,  35.2500,2,  35.2510,2,    226.9,2,    226.6,2,     1.90,2,     4.00,2,     0.38,2,  -999.0, 13.8026,-999.000
     09FA290_1, PR13N,    30,  1,   -999,     35,2,19900305,0425,-43.6887, 168.4578, 1679,    199.2,  12.7770,  35.1920,2,  35.1910,2,    213.3,2,    217.2,2,     3.40,2,     9.09,2,     0.67,2,  -999.0, 12.7499,-999.000
     09FA290_1, PR13N,    30,  1,   -999,     25,2,19900305,0425,-43.6887, 168.4578, 1679,    398.5,  11.1440,  34.9630,2,  34.9650,2,    200.8,2,    206.4,2,     5.49,2,    14.79,2,     1.04,2,  -999.0, 11.0940,-999.000
     09FA290_1, PR13N,    30,  1,   -999,     43,2,19900305,0425,-43.6887, 168.4578, 1679,    497.8,   8.9620,  34.6740,2,  34.6760,2,    204.3,2,    205.6,2,     9.29,2,    20.78,2,     1.42,2,  -999.0,  8.9073,-999.000
     09FA290_1, PR13N,    30,  1,   -999,     10,2,19900305,0425,-43.6887, 168.4578, 1679,    598.5,   7.8400,  34.5680,2,  34.5800,2,    194.8,2,    195.0,2,    14.29,2,    24.58,2,     1.69,2,  -999.0,  7.7789,-999.000
     09FA290_1, PR13N,    30,  1,   -999,     40,2,19900305,0425,-43.6887, 168.4578, 1679,    798.3,   6.7390,  34.4980,2,  34.4980,2,    184.5,2,    185.0,2,    22.08,2,    28.17,2,     1.92,2,  -999.0,  6.6632,-999.000
     09FA290_1, PR13N,    30,  1,   -999,     34,2,19900305,0425,-43.6887, 168.4578, 1679,    997.7,   5.5750,  34.4570,2,  34.4560,2,    176.2,2,    180.0,2,    33.07,2,    30.97,2,     2.16,2,  -999.0,  5.4876,-999.000
     09FA290_1, PR13N,    30,  1,   -999,      1,2,19900305,0425,-43.6887, 168.4578, 1679,   1048.7,   5.1290,  34.4430,2,  34.4440,2,    177.1,2,    178.5,2,    37.16,2,    32.17,2,     2.22,2,  -999.0,  5.0403,-999.000
     09FA290_1, PR13N,    30,  1,   -999,      9,2,19900305,0425,-43.6887, 168.4578, 1679,   1238.3,   3.8750,  34.4840,2,  34.4840,2,    168.5,2,    168.5,2,    61.64,2,    34.17,2,     2.44,2,  -999.0,  3.7803,-999.000
     09FA290_1, PR13N,    30,  1,   -999,     46,2,19900305,0425,-43.6887, 168.4578, 1679,   1422.0,   3.1500,  34.5560,2,  34.5540,2,    162.5,2,    162.1,2,    79.82,2,    35.16,2,     2.51,2,    21.6,  3.0470,   3.172
     09FA290_1, PR13N,    30,  1,   -999,     42,2,19900305,0425,-43.6887, 168.4578, 1679,   1647.8,   2.8010,  34.6010,2,  34.6010,2,    158.7,2,    160.6,2,    91.21,2,    35.56,2,     2.54,2,  -999.0,  2.6831,-999.000
     09FA290_1, PR13N,    31,  1,   -999,      6,2,19900305,0633,-43.7930, 168.5240, 1100,      0.4,  17.3300,  34.8840,2,  34.8830,2,    243.4,2,    242.3,2,     1.20,2,     0.20,2,     0.02,2,  -999.0, 17.3299,  17.356
     09FA290_1, PR13N,    31,  1,   -999,     10,2,19900305,0633,-43.7930, 168.5240, 1100,     98.1,  13.6630,  35.2950,2,  35.2930,2,    229.8,2,    225.8,2,     2.30,2,     5.89,2,     0.51,2,  -999.0, 13.6491,-999.000
     09FA290_1, PR13N,    31,  1,   -999,     40,2,19900305,0633,-43.7930, 168.5240, 1100,    198.4,  12.6430,  35.1730,2,  35.1720,2,    216.2,2,    217.8,2,     3.30,2,     9.59,2,     0.83,2,  -999.0, 12.6162,-999.000
     09FA290_1, PR13N,    31,  1,   -999,     34,2,19900305,0633,-43.7930, 168.5240, 1100,    398.1,  10.5510,  34.8740,2,  34.8850,2,    201.3,2,    206.4,2,     5.49,2,    16.48,2,     1.43,2,  -999.0, 10.5028,-999.000
     09FA290_1, PR13N,    31,  1,   -999,      1,2,19900305,0633,-43.7930, 168.5240, 1100,    498.3,   9.1980,  34.6680,2,  34.6680,2,    215.4,2,    221.4,2,     5.99,2,    19.28,2,     1.68,2,  -999.0,  9.1424,-999.000
     09FA290_1, PR13N,    31,  1,   -999,     46,2,19900305,0633,-43.7930, 168.5240, 1100,    799.0,   6.5520,  34.4930,2,  34.4950,2,    170.8,2,    183.8,2,    24.18,2,    28.67,2,     2.49,2,     4.5,  6.4772,   6.567
     09FA290_1, PR13N,    31,  1,   -999,     42,2,19900305,0633,-43.7930, 168.5240, 1100,   1028.0,   5.5420,  34.4680,2,  34.4700,2,    170.8,2,    178.2,2,    34.57,2,    31.17,2,     2.69,2,  -999.0,  5.4520,-999.000