BOTTLE,20020730WHPSIO
EXPOCODE,SECT_ID,STNNBR,CASTNO,SAMPNO,BTLNBR,BTLNBR_FLAG_W,DATE,TIME,LATITUDE,LONGITUDE,DEPTH,CTDPRS,CTDTMP,CTDSAL,CTDSAL_FLAG_W,SALNTY,SALNTY_FLAG_W,CTDOXY,CTDOXY_FLAG_W,OXYGEN,OXYGEN_FLAG_W,SILCAT,SILCAT_FLAG_W,NO2+NO3,NO2+NO3_FLAG_W,PHSPHT,PHSPHT_FLAG_W,REVPRS,THETA,REVTMP
,,,,,,,,,,,,DBR,ITS-90,PSS-78,,PSS-78,,UMOL/KG,,UMOL/KG,,UMOL/KG,,UMOL/KG,,UMOL/KG,,DBR,ITS-90,ITS-90
     09FA290_2,  PR11,    51,  1,   -999,      6,2,19900311,0244,-28.2522, 172.9102, 2229,      3.2,  25.4520,  35.3000,2,  35.2970,2,    222.5,2,    210.8,2,     0.90,2,     0.17,2,     0.08,2,  -999.0, 25.4513,  25.475
     09FA290_2,  PR11,    51,  1,   -999,      8,2,19900311,0244,-28.2522, 172.9102, 2229,     98.9,  19.2400,  35.6200,2,  35.6180,2,    224.3,2,    220.3,2,     0.90,2,     0.50,2,     0.21,2,  -999.0, 19.2222,-999.000
     09FA290_2,  PR11,    51,  1,   -999,     27,2,19900311,0244,-28.2522, 172.9102, 2229,    199.8,  16.5060,  35.4930,2,  35.4980,2,    192.6,2,    191.3,2,     2.30,2,     6.80,2,     0.58,2,  -999.0, 16.4736,-999.000
     09FA290_2,  PR11,    51,  1,   -999,      5,2,19900311,0244,-28.2522, 172.9102, 2229,    348.0,  13.7710,  35.2420,2,  35.2430,2,    192.2,2,    190.4,2,     4.00,2,    11.29,2,     0.86,2,  -999.0, 13.7209,-999.000
     09FA290_2,  PR11,    51,  1,   -999,     44,2,19900311,0244,-28.2522, 172.9102, 2229,    499.4,  10.7700,  34.8800,2,  34.8780,2,    193.7,2,    191.1,2,     7.19,2,    17.76,2,     1.27,2,  -999.0, 10.7085,-999.000
     09FA290_2,  PR11,    51,  1,   -999,     31,2,19900311,0244,-28.2522, 172.9102, 2229,    598.8,   8.8180,  34.6530,2,  34.6540,2,    197.4,2,    194.8,2,     9.99,2,    21.91,2,     1.50,2,  -999.0,  8.7525,-999.000
     09FA290_2,  PR11,    51,  1,   -999,     46,2,19900311,0244,-28.2522, 172.9102, 2229,    799.5,   6.4020,  34.4420,2,  34.4450,2,    185.6,2,    198.7,2,    20.08,2,    27.89,2,     1.88,2,     0.8,  6.3281,   6.439
     09FA290_2,  PR11,    51,  1,   -999,     26,2,19900311,0244,-28.2522, 172.9102, 2229,    948.1,   5.2610,  34.4160,2,  34.4170,2,    183.4,2,    188.9,2,    33.07,2,    31.04,2,     2.10,2,  -999.0,  5.1806,-999.000
     09FA290_2,  PR11,    51,  1,   -999,     40,2,19900311,0244,-28.2522, 172.9102, 2229,    998.9,   4.9370,  34.4260,2,  34.4290,2,    171.0,2,    184.6,2,    38.56,2,    31.87,2,     2.16,2,  -999.0,  4.8544,-999.000
     09FA290_2,  PR11,    51,  1,   -999,     36,2,19900311,0244,-28.2522, 172.9102, 2229,   1194.3,   3.9660,  34.4830,2,  34.4850,2,    162.1,2,    170.5,2,    60.44,2,    34.37,2,     2.33,2,  -999.0,  3.8742,-999.000
     09FA290_2,  PR11,    51,  1,   -999,     10,2,19900311,0244,-28.2522, 172.9102, 2229,   1378.1,   3.2950,  34.5460,2,  34.5520,2,    159.9,2,    162.9,2,    77.82,2,    35.02,2,     2.41,2,  -999.0,  3.1941,-999.000
     09FA290_2,  PR11,    51,  1,   -999,     41,2,19900311,0244,-28.2522, 172.9102, 2229,   1498.9,   3.0100,  34.5740,2,  34.5720,2,    154.4,2,    158.6,2,    87.21,2,    35.85,2,     2.45,2,  -999.0,  2.9021,-999.000
     09FA290_2,  PR11,    51,  1,   -999,     12,2,19900311,0244,-28.2522, 172.9102, 2229,   1746.2,   2.5840,  34.6140,2,  34.6120,2,    153.0,2,    155.3,2,    99.70,2,    36.52,2,     2.51,2,    59.0,  2.4606,   2.591
     09FA290_2,  PR11,    51,  1,   -999,     34,2,19900311,0244,-28.2522, 172.9102, 2229,   2220.0,   2.0720,  34.6610,2,  34.6550,2,    153.0,2,    153.3,2,   114.19,2,    36.85,2,     2.54,2,  -999.0,  1.9154,-999.000
     09FA290_2,  PR11,    52,  1,   -999,      6,2,19900311,0804,-28.2470, 172.1218, 2467,      3.6,  25.0300,  35.3500,2,  35.3480,2,    212.5,2,    207.1,2,     0.60,2,     0.00,2,     0.08,2,  -999.0, 25.0292,  25.053
     09FA290_2,  PR11,    52,  1,   -999,     25,2,19900311,0804,-28.2470, 172.1218, 2467,     98.6,  18.9540,  35.6210,2,  35.6180,2,    218.1,2,    217.7,2,     0.80,2,     0.83,2,     0.26,2,  -999.0, 18.9364,-999.000
     09FA290_2,  PR11,    52,  1,   -999,     42,2,19900311,0804,-28.2470, 172.1218, 2467,    198.2,  17.0130,  35.5290,2,  35.5250,2,    193.3,2,    196.0,2,     1.80,2,     5.81,2,     0.51,2,  -999.0, 16.9801,-999.000
     09FA290_2,  PR11,    52,  1,   -999,      8,2,19900311,0804,-28.2470, 172.1218, 2467,    328.1,  13.6500,  35.2290,2,-999.0000,5,    186.1,2,    193.0,2,     3.60,2,    10.29,2,     0.78,2,  -999.0, 13.6029,-999.000
     09FA290_2,  PR11,    52,  1,   -999,     27,2,19900311,0804,-28.2470, 172.1218, 2467,    400.4,  11.9090,  35.0270,2,  35.0310,2,    182.0,2,    189.1,2,     6.09,2,    15.60,2,     1.10,2,  -999.0, 11.8566,-999.000
     09FA290_2,  PR11,    52,  1,   -999,      5,2,19900311,0804,-28.2470, 172.1218, 2467,    497.7,   9.7530,  34.7680,2,  34.7710,2,    190.2,2,    190.8,2,     8.69,2,    20.25,2,     1.38,2,  -999.0,  9.6954,-999.000
     09FA290_2,  PR11,    52,  1,   -999,     28,2,19900311,0804,-28.2470, 172.1218, 2467,    598.6,   8.6110,  34.6560,2,  34.6570,2,    187.2,2,    191.1,2,    12.39,2,    23.08,2,     1.56,2,  -999.0,  8.5465,-999.000
     09FA290_2,  PR11,    52,  1,   -999,     44,2,19900311,0804,-28.2470, 172.1218, 2467,    799.1,   6.5880,  34.4770,2,  34.4770,2,    190.2,2,    196.2,2,    21.38,2,    27.55,2,     1.85,2,  -999.0,  6.5130,-999.000
     09FA290_2,  PR11,    52,  1,   -999,     31,2,19900311,0804,-28.2470, 172.1218, 2467,    998.2,   5.2030,  34.4510,2,  34.4520,2,    183.4,2,    184.6,2,    36.96,2,    31.54,2,     2.11,2,  -999.0,  5.1184,-999.000
     09FA290_2,  PR11,    52,  1,   -999,     46,2,19900311,0804,-28.2470, 172.1218, 2467,   1199.2,   4.0600,  34.4780,2,  34.4780,2,    169.5,2,    172.8,2,    57.34,2,    34.20,2,     2.31,2,    99.3,  3.9670,   4.096
     09FA290_2,  PR11,    52,  1,   -999,     26,2,19900311,0804,-28.2470, 172.1218, 2467,   1430.7,   3.2330,  34.5560,2,  34.5570,2,    159.2,2,    161.2,2,    80.92,2,    35.68,2,     2.44,2,  -999.0,  3.1284,-999.000
     09FA290_2,  PR11,    52,  1,   -999,     40,2,19900311,0804,-28.2470, 172.1218, 2467,   1498.7,   3.0950,  34.5680,2,  34.5690,2,    159.9,2,    160.1,2,    85.61,2,    35.85,2,     2.45,2,  -999.0,  2.9862,-999.000
     09FA290_2,  PR11,    52,  1,   -999,     36,2,19900311,0804,-28.2470, 172.1218, 2467,   1498.7,   3.0950,  34.5680,2,  34.5690,2,    159.9,2,    159.8,2,    85.61,2,    35.85,2,     2.45,2,  -999.0,  2.9862,-999.000
     09FA290_2,  PR11,    52,  1,   -999,     10,2,19900311,0804,-28.2470, 172.1218, 2467,   1748.9,   2.5910,  34.6150,2,-999.0000,5,    152.4,2,   -999.0,5,  -999.00,5,  -999.00,2,  -999.00,5,  -999.0,  2.4674,-999.000
     09FA290_2,  PR11,    52,  1,   -999,     41,2,19900311,0804,-28.2470, 172.1218, 2467,   1997.3,   2.1910,  34.6480,2,-999.0000,5,    151.5,2,   -999.0,5,  -999.00,5,  -999.00,2,  -999.00,5,  -999.0,  2.0521,-999.000
     09FA290_2,  PR11,    52,  1,   -999,     12,2,19900311,0804,-28.2470, 172.1218, 2467,   2302.2,   2.0140,  34.6630,2,  34.6610,2,    151.5,2,    153.0,2,   117.48,2,    36.85,2,     2.53,2,    18.1,  1.8512,   2.019
     09FA290_2,  PR11,    52,  1,   -999,     34,2,19900311,0804,-28.2470, 172.1218, 2467,   2448.8,   1.9660,  34.6710,2,  34.6730,2,    151.5,2,    153.8,2,   119.18,2,    37.01,2,     2.54,2,  -999.0,  1.7909,-999.000
     09FA290_2,  PR11,    53,  1,   -999,      6,2,19900311,1332,-28.2610, 171.3112, 3521,      4.7,  25.0140,  35.3690,2,  35.3660,2,    212.1,2,    207.1,2,     0.90,2,     0.17,2,     0.08,2,  -999.0, 25.0130,  25.008
     09FA290_2,  PR11,    53,  1,   -999,     29,2,19900311,1332,-28.2610, 171.3112, 3521,     71.6,  20.6240,  35.6190,2,  35.6190,2,    238.4,2,    229.6,2,     0.90,2,     0.17,2,     0.15,2,  -999.0, 20.6105,-999.000
     09FA290_2,  PR11,    53,  1,   -999,     24,2,19900311,1332,-28.2610, 171.3112, 3521,    199.2,  16.0180,  35.4560,2,  35.4560,2,    191.5,2,    192.9,2,     2.50,2,     7.65,2,     0.62,2,  -999.0, 15.9863,-999.000
     09FA290_2,  PR11,    53,  1,   -999,     18,2,19900311,1332,-28.2610, 171.3112, 3521,    308.4,  13.5820,  35.2180,2,  35.2170,2,    187.2,2,    187.1,2,     4.40,2,    12.48,2,     0.92,2,  -999.0, 13.5381,-999.000
     09FA290_2,  PR11,    53,  1,   -999,     43,2,19900311,1332,-28.2610, 171.3112, 3521,    397.9,  12.0820,  35.0500,2,  35.0550,2,    184.4,2,    189.1,2,     5.39,2,    12.48,2,     0.92,2,  -999.0, 12.0294,-999.000
     09FA290_2,  PR11,    53,  1,   -999,     25,2,19900311,1332,-28.2610, 171.3112, 3521,    497.8,  10.5310,  34.8620,2,  34.8670,2,    188.5,2,    188.0,2,     8.19,2,    18.80,2,     1.29,2,  -999.0, 10.4705,-999.000
     09FA290_2,  PR11,    53,  1,   -999,     42,2,19900311,1332,-28.2610, 171.3112, 3521,    598.3,   9.0180,  34.6850,2,  34.6870,2,    192.0,2,    193.3,2,    10.19,2,    21.96,2,     1.51,2,  -999.0,  8.9517,-999.000
     09FA290_2,  PR11,    53,  1,   -999,      8,2,19900311,1332,-28.2610, 171.3112, 3521,    797.8,   6.8340,  34.4910,2,  34.4930,2,    195.4,2,    197.6,2,    19.38,2,    26.95,2,     1.82,2,  -999.0,  6.7576,-999.000
     09FA290_2,  PR11,    53,  1,   -999,     27,2,19900311,1332,-28.2610, 171.3112, 3521,    983.1,   5.1070,  34.4340,2,  34.4370,2,    182.9,2,    185.8,2,    37.96,2,    31.61,2,     2.14,2,  -999.0,  5.0245,-999.000
     09FA290_2,  PR11,    53,  1,   -999,      5,2,19900311,1332,-28.2610, 171.3112, 3521,   1128.4,   4.3620,  34.4630,2,  34.4640,2,    174.9,2,    176.2,2,    50.35,2,    33.61,2,     2.30,2,  -999.0,  4.2725,-999.000
     09FA290_2,  PR11,    53,  1,   -999,     28,2,19900311,1332,-28.2610, 171.3112, 3521,   1400.9,   3.2690,  34.5530,2,  34.5520,2,    163.8,2,    162.0,2,    78.32,2,    35.59,2,     2.45,2,  -999.0,  3.1665,-999.000
     09FA290_2,  PR11,    53,  1,   -999,     31,2,19900311,1332,-28.2610, 171.3112, 3521,   1501.6,   2.9910,  34.5790,2,  34.5790,2,    157.6,2,    159.8,2,    88.41,2,    35.93,2,     2.45,2,  -999.0,  2.8831,-999.000
     09FA290_2,  PR11,    53,  1,   -999,     46,2,19900311,1332,-28.2610, 171.3112, 3521,   1501.6,   2.9910,  34.5790,2,  34.5790,2,    157.6,2,    157.8,2,    88.41,2,    36.09,2,     2.48,2,     6.9,  2.8831,   3.016
     09FA290_2,  PR11,    53,  1,   -999,     44,2,19900311,1332,-28.2610, 171.3112, 3521,   1748.7,   2.5480,  34.6170,2,  34.6160,2,    155.4,2,    153.8,2,   100.30,2,    36.43,2,     2.53,2,  -999.0,  2.4248,-999.000
     09FA290_2,  PR11,    53,  1,   -999,     26,2,19900311,1332,-28.2610, 171.3112, 3521,   1997.4,   2.2560,  34.6410,2,  34.6380,2,    154.0,2,    153.5,2,   110.59,2,    36.93,2,     2.56,2,  -999.0,  2.1159,-999.000
     09FA290_2,  PR11,    53,  1,   -999,     40,2,19900311,1332,-28.2610, 171.3112, 3521,   2378.7,   2.0010,  34.6630,2,  34.6600,2,    152.3,2,    152.4,2,   119.18,2,    37.09,2,     2.54,2,  -999.0,  1.8316,-999.000
     09FA290_2,  PR11,    53,  1,   -999,     36,2,19900311,1332,-28.2610, 171.3112, 3521,   2498.4,   1.9620,  34.6680,2,  34.6670,2,    154.1,2,    153.3,2,   117.48,2,    36.93,2,     2.53,2,  -999.0,  1.7825,-999.000
     09FA290_2,  PR11,    53,  1,   -999,     41,2,19900311,1332,-28.2610, 171.3112, 3521,   2748.2,   1.8970,  34.6730,2,  34.6720,2,    153.3,2,    153.3,2,   120.88,2,    37.09,2,     2.54,2,  -999.0,  1.6956,-999.000
     09FA290_2,  PR11,    53,  1,   -999,     12,2,19900311,1332,-28.2610, 171.3112, 3521,   2994.0,   1.8560,  34.6780,2,  34.6770,2,    156.3,2,    153.0,2,   122.58,2,    37.26,2,     2.56,2,    10.9,  1.6319,   1.871
     09FA290_2,  PR11,    53,  1,   -999,     34,2,19900311,1332,-28.2610, 171.3112, 3521,   3520.5,   1.8470,  34.6840,2,  34.6810,2,    150.4,2,    155.2,2,   124.28,2,    37.26,2,     2.54,2,  -999.0,  1.5700,-999.000
     09FA290_2,  PR11,    54,  1,   -999,      6,2,19900311,2008,-28.2420, 170.5193, 2816,      5.8,  24.7950,  35.4210,2,  35.4020,2,    209.9,2,    205.7,2,     0.70,2,     0.00,2,     0.08,2,  -999.0, 24.7937,  24.771
     09FA290_2,  PR11,    54,  1,   -999,     18,2,19900311,2008,-28.2420, 170.5193, 2816,     68.0,  21.2450,  35.6640,2,  35.6630,2,    230.1,2,    228.5,2,     0.90,2,     0.00,2,     0.14,2,  -999.0, 21.2319,-999.000
     09FA290_2,  PR11,    54,  1,   -999,     43,2,19900311,2008,-28.2420, 170.5193, 2816,    203.1,  16.9550,  35.5350,2,  35.5320,2,    191.6,2,    197.5,2,     1.80,2,     5.94,2,     0.49,2,  -999.0, 16.9214,-999.000
     09FA290_2,  PR11,    54,  1,   -999,     25,2,19900311,2008,-28.2420, 170.5193, 2816,    310.6,  14.3830,  35.3010,2,  35.3090,2,    186.4,2,    187.9,2,     3.30,2,    10.84,2,     0.88,2,  -999.0, 14.3370,-999.000
     09FA290_2,  PR11,    54,  1,   -999,     42,2,19900311,2008,-28.2420, 170.5193, 2816,    401.8,  12.3300,  35.0720,2,  35.0820,2,    188.7,2,    188.2,2,     5.39,2,    15.04,2,     1.05,2,  -999.0, 12.2762,-999.000
     09FA290_2,  PR11,    54,  1,   -999,      8,2,19900311,2008,-28.2420, 170.5193, 2816,    499.7,  10.2530,  34.8240,2,  34.8300,2,    191.1,2,    191.3,2,     7.79,2,    19.41,2,     1.33,2,  -999.0, 10.1933,-999.000
     09FA290_2,  PR11,    54,  1,   -999,     27,2,19900311,2008,-28.2420, 170.5193, 2816,    599.1,   8.5900,  34.6290,2,  34.6340,2,    192.7,2,    197.0,2,    10.29,2,    23.09,2,     1.54,2,  -999.0,  8.5255,-999.000
     09FA290_2,  PR11,    54,  1,   -999,      5,2,19900311,2008,-28.2420, 170.5193, 2816,    804.6,   6.7280,  34.4740,2,  34.4730,2,    196.4,2,    201.0,2,    18.38,2,    27.81,2,     1.82,2,  -999.0,  6.6516,-999.000
     09FA290_2,  PR11,    54,  1,   -999,     28,2,19900311,2008,-28.2420, 170.5193, 2816,   1041.2,   4.9370,  34.4560,2,  34.4550,2,    181.5,2,    182.1,2,    37.96,2,    32.71,2,     2.17,2,  -999.0,  4.8505,-999.000
     09FA290_2,  PR11,    54,  1,   -999,     46,2,19900311,2008,-28.2420, 170.5193, 2816,   1203.9,   4.0960,  34.4940,2,  34.4950,2,    169.8,2,    169.9,2,    56.94,2,    34.97,2,     2.31,2,     8.5,  4.0022,   4.118
     09FA290_2,  PR11,    54,  1,   -999,     31,2,19900311,2008,-28.2420, 170.5193, 2816,   1420.4,   3.2240,  34.5620,2,  34.5640,2,    164.2,2,    160.9,2,    83.12,2,    36.72,2,     2.45,2,  -999.0,  3.1203,-999.000
     09FA290_2,  PR11,    54,  1,   -999,     26,2,19900311,2008,-28.2420, 170.5193, 2816,   1500.2,   3.0460,  34.5770,2,  34.5770,2,    158.3,2,    159.5,2,    86.41,2,    37.07,2,     2.47,2,  -999.0,  2.9376,-999.000
     09FA290_2,  PR11,    54,  1,   -999,     44,2,19900311,2008,-28.2420, 170.5193, 2816,   1500.2,   3.0460,  34.5770,2,  34.5760,2,    158.3,2,    158.6,2,    88.01,2,    37.07,2,     2.47,2,  -999.0,  2.9376,-999.000
     09FA290_2,  PR11,    54,  1,   -999,     40,2,19900311,2008,-28.2420, 170.5193, 2816,   1752.6,   2.5670,  34.6160,2,  34.6150,2,    154.0,2,    156.9,2,   101.50,2,    37.60,2,     2.53,2,  -999.0,  2.4433,-999.000
     09FA290_2,  PR11,    54,  1,   -999,     36,2,19900311,2008,-28.2420, 170.5193, 2816,   2000.8,   2.2620,  34.6420,2,  34.6390,2,    154.5,2,    153.8,2,   109.99,2,    37.95,2,     2.54,2,  -999.0,  2.1215,-999.000
     09FA290_2,  PR11,    54,  1,   -999,     10,2,19900311,2008,-28.2420, 170.5193, 2816,   2373.1,   2.0210,  34.6620,2,  34.6620,2,    152.5,2,    153.8,2,   118.58,2,    38.13,2,     2.56,2,  -999.0,  1.8517,-999.000
     09FA290_2,  PR11,    54,  1,   -999,     12,2,19900311,2008,-28.2420, 170.5193, 2816,   2497.2,   1.9670,  34.6680,2,  34.6660,2,    152.5,2,    152.7,2,   120.38,2,    38.48,2,     2.57,2,     9.0,  1.7875,   2.010
     09FA290_2,  PR11,    54,  1,   -999,     41,2,19900311,2008,-28.2420, 170.5193, 2816,   2497.2,   1.9670,  34.6680,2,  34.6660,2,    152.5,2,    152.4,2,   120.38,2,    38.48,2,     2.57,2,  -999.0,  1.7875,-999.000
     09FA290_2,  PR11,    54,  1,   -999,     34,2,19900311,2008,-28.2420, 170.5193, 2816,   2811.2,   1.8750,  34.6770,2,  34.6740,2,    153.7,2,    153.3,2,   122.08,2,    38.48,2,     2.57,2,  -999.0,  1.6681,-999.000