BOTTLE,20020730WHPSIO
#code : jjward hyd_to_exchange.pl 
#original files copied from HTML directory: 
#original HYD file: pr11_bhy.txt   Tue Jul 30 09:22:15 2002
#original SUM file: pr11_bsu.txt   Tue Jul 30 11:16:28 2002
EXPOCODE,SECT_ID,STNNBR,CASTNO,SAMPNO,BTLNBR,BTLNBR_FLAG_W,DATE,TIME,LATITUDE,LONGITUDE,DEPTH,CTDPRS,CTDTMP,CTDSAL,CTDSAL_FLAG_W,SALNTY,SALNTY_FLAG_W,CTDOXY,CTDOXY_FLAG_W,OXYGEN,OXYGEN_FLAG_W,SILCAT,SILCAT_FLAG_W,NO2+NO3,NO2+NO3_FLAG_W,PHSPHT,PHSPHT_FLAG_W,REVPRS,THETA,REVTMP
,,,,,,,,,,,,DBR,ITS-90,PSS-78,,PSS-78,,UMOL/KG,,UMOL/KG,,UMOL/KG,,UMOL/KG,,UMOL/KG,,DBR,ITS-90,ITS-90
     09FA290_1, PR13N,     1,  1,   -999,      6,2,19900226,0636,-43.2097, 148.0643,   95,      3.4,  17.7040,  35.4390,2,  35.4370,2,    234.3,2,    234.9,2,     1.10,2,     0.20,2,     0.13,2,  -999.0, 17.7034,  17.698
     09FA290_1, PR13N,     1,  1,   -999,     25,2,19900226,0636,-43.2097, 148.0643,   95,     48.1,  17.0890,  35.3850,2,  35.3870,2,    231.5,2,    232.6,2,     2.80,2,     0.40,2,     0.18,2,  -999.0, 17.0810,-999.000
     09FA290_1, PR13N,     1,  1,   -999,      9,2,19900226,0636,-43.2097, 148.0643,   95,     89.2,  14.3710,  35.2030,2,  35.2080,2,    206.1,2,    211.3,2,     3.10,2,     6.89,2,     0.56,2,  -999.0, 14.3579,-999.000
     09FA290_1, PR13N,     2,  1,   -999,      6,2,19900226,0730,-43.2145, 148.0778,  125,      3.3,  17.8350,  35.4850,2,  35.4850,2,    241.3,2,    238.1,2,     0.90,2,     0.20,2,     0.13,2,  -999.0, 17.8344,-999.000
     09FA290_1, PR13N,     2,  1,   -999,     31,2,19900226,0730,-43.2145, 148.0778,  125,     48.9,  17.3260,  35.4210,2,  35.4230,2,    230.3,2,    235.2,2,     1.10,2,     0.20,2,     0.13,2,  -999.0, 17.3178,-999.000
     09FA290_1, PR13N,     2,  1,   -999,     25,2,19900226,0730,-43.2145, 148.0778,  125,     98.0,  14.3490,  35.2180,2,  35.2270,2,    214.1,2,    213.4,2,     2.90,2,     7.19,2,     0.58,2,  -999.0, 14.3346,-999.000
     09FA290_1, PR13N,     2,  1,   -999,      9,2,19900226,0730,-43.2145, 148.0778,  125,    109.1,  14.0500,  35.1970,2,  35.1970,2,    210.0,2,    210.4,2,     3.30,2,     8.19,2,     0.66,2,  -999.0, 14.0342,-999.000
     09FA290_1, PR13N,     3,  1,   -999,      6,2,19900226,0819,-43.2152, 148.1188,  186,      4.2,  17.5230,  35.4150,2,  35.4120,2,    234.7,2,    237.6,2,     1.10,2,     0.20,2,     0.15,2,  -999.0, 17.5223,-999.000
     09FA290_1, PR13N,     3,  1,   -999,     40,2,19900226,0819,-43.2152, 148.1188,  186,     49.1,  16.8330,  35.3690,2,  35.3730,2,    228.8,2,    232.6,2,     1.20,2,     0.50,2,     0.18,2,  -999.0, 16.8250,-999.000
     09FA290_1, PR13N,     3,  1,   -999,     31,2,19900226,0819,-43.2152, 148.1188,  186,    123.2,  13.6740,  35.1930,2,  35.1950,2,    212.2,2,    210.2,2,     3.60,2,     8.99,2,     0.68,2,  -999.0, 13.6565,-999.000
     09FA290_1, PR13N,     3,  1,   -999,     25,2,19900226,0819,-43.2152, 148.1188,  186,    148.6,  13.2780,  35.1710,2,  35.1700,2,    207.4,2,    206.1,2,     3.90,2,    10.19,2,     0.78,2,  -999.0, 13.2573,-999.000
     09FA290_1, PR13N,     3,  1,   -999,      9,2,19900226,0819,-43.2152, 148.1188,  186,    172.6,  13.1910,  35.1660,2,  35.1640,2,    208.9,2,    206.9,2,     4.00,2,    10.39,2,     0.79,2,  -999.0, 13.1670,-999.000
     09FA290_1, PR13N,     4,  1,   -999,     10,2,19900226,0917,-43.2480, 148.2240,  661,     47.9,  17.2180,  35.4370,2,  35.4360,2,    241.9,2,    236.1,2,     0.90,2,     0.20,2,     0.18,2,  -999.0, 17.2100,-999.000
     09FA290_1, PR13N,     4,  1,   -999,     26,2,19900226,0917,-43.2480, 148.2240,  661,     97.1,  15.6640,  35.3870,2,  35.3770,2,    222.3,2,    217.1,2,     2.20,2,     4.99,2,     0.45,2,  -999.0, 15.6489,-999.000
     09FA290_1, PR13N,     4,  1,   -999,     25,2,19900226,0917,-43.2480, 148.2240,  661,    148.3,  13.8760,  35.2460,2,  35.2460,2,    219.2,2,    220.6,2,     2.60,2,     5.39,2,     0.63,2,  -999.0, 13.8547,-999.000
     09FA290_1, PR13N,     4,  1,   -999,     40,2,19900226,0917,-43.2480, 148.2240,  661,    198.6,  13.1830,  35.2320,2,  35.2300,2,    218.0,2,    215.4,2,     3.40,2,     9.19,2,     0.71,2,  -999.0, 13.1554,-999.000
     09FA290_1, PR13N,     4,  1,   -999,     31,2,19900226,0917,-43.2480, 148.2240,  661,    296.3,  11.3320,  34.9590,2,  34.9540,2,    217.0,2,    220.7,2,     4.30,2,    12.99,2,     0.96,2,  -999.0, 11.2946,-999.000
     09FA290_1, PR13N,     4,  1,   -999,     46,2,19900226,0917,-43.2480, 148.2240,  661,    399.1,   9.5860,  34.6930,2,  34.6950,2,    235.6,2,    235.3,2,     4.99,2,    16.28,2,     1.16,2,    86.3,  9.5406,   9.629
     09FA290_1, PR13N,     4,  1,   -999,      9,2,19900226,0917,-43.2480, 148.2240,  661,    650.3,   7.2790,  34.5290,2,  34.5290,2,    185.8,2,    190.7,2,    19.28,2,    26.07,2,     1.78,2,  -999.0,  7.2152,-999.000
     09FA290_1, PR13N,     5,  1,   -999,      2,2,19900226,1048,-43.2592, 148.2525, 1029,     48.0,  17.6540,  35.5620,2,  35.5540,2,    235.8,2,    234.3,2,     0.90,2,     0.20,2,     0.17,2,  -999.0, 17.6459,-999.000
     09FA290_1, PR13N,     5,  1,   -999,      6,2,19900226,1048,-43.2592, 148.2525, 1029,    147.6,  14.1170,  35.3490,2,  35.3510,2,    211.2,2,    213.9,2,     3.10,2,     8.09,2,     0.64,2,  -999.0, 14.0955,  14.159
     09FA290_1, PR13N,     5,  1,   -999,     10,2,19900226,1048,-43.2592, 148.2525, 1029,    198.9,  13.2760,  35.2420,2,  35.2420,2,    214.9,2,    216.3,2,     3.30,2,     8.79,2,     0.71,2,  -999.0, 13.2482,-999.000
     09FA290_1, PR13N,     5,  1,   -999,     25,2,19900226,1048,-43.2592, 148.2525, 1029,    441.5,   9.4590,  34.6840,2,  34.6820,2,    232.4,2,    236.2,2,     4.99,2,    16.38,2,     1.17,2,  -999.0,  9.4091,-999.000
     09FA290_1, PR13N,     5,  1,   -999,     40,2,19900226,1048,-43.2592, 148.2525, 1029,    498.5,   9.0240,  34.6180,2,  34.6170,2,    231.6,2,    242.9,2,     4.99,2,    17.28,2,     1.22,2,  -999.0,  8.9691,-999.000
     09FA290_1, PR13N,     5,  1,   -999,     31,2,19900226,1048,-43.2592, 148.2525, 1029,    596.9,   8.5350,  34.6210,2,  34.6200,2,    202.8,2,    199.7,2,    10.99,2,    22.08,2,     1.55,2,  -999.0,  8.4710,-999.000
     09FA290_1, PR13N,     5,  1,   -999,     46,2,19900226,1048,-43.2592, 148.2525, 1029,    797.6,   6.3880,  34.4800,2,  34.4810,2,    189.7,2,    186.9,2,    25.37,2,    27.87,2,     1.93,2,     0.9,  6.3143,   6.426
     09FA290_1, PR13N,     5,  1,   -999,      9,2,19900226,1048,-43.2592, 148.2525, 1029,   1001.0,   4.4450,  34.4760,2,  34.4770,2,    175.5,2,    172.0,2,    54.35,2,    32.17,2,     2.30,2,  -999.0,  4.3659,-999.000
     09FA290_1, PR13N,     6,  1,   -999,      6,2,19900226,1235,-43.2522, 148.3358, 2100,      5.4,  17.4400,  35.4620,2,  35.4540,2,    258.0,2,    238.7,2,  -999.00,5,  -999.00,5,  -999.00,5,  -999.0, 17.4391,  17.434
     09FA290_1, PR13N,     6,  1,   -999,      1,2,19900226,1235,-43.2522, 148.3358, 2100,    118.0,  14.7870,  35.4040,2,  35.4050,2,    213.3,2,    216.0,2,     2.60,2,     6.59,2,     0.55,2,  -999.0, 14.7693,-999.000
     09FA290_1, PR13N,     6,  1,   -999,     37,2,19900226,1235,-43.2522, 148.3358, 2100,    198.8,  13.3540,  35.2620,2,  35.2630,2,    212.9,2,    216.0,2,     3.30,2,     8.79,2,     0.83,2,  -999.0, 13.3261,-999.000
     09FA290_1, PR13N,     6,  1,   -999,     42,2,19900226,1235,-43.2522, 148.3358, 2100,    399.6,   9.7320,  34.7150,2,  34.7180,2,    200.7,2,    235.0,2,     4.70,2,    15.68,2,     1.14,2,  -999.0,  9.6861,-999.000
     09FA290_1, PR13N,     6,  1,   -999,     34,2,19900226,1235,-43.2522, 148.3358, 2100,    498.8,   8.7870,  34.5940,2,  34.5960,2,    227.3,2,    243.0,2,     5.39,2,    17.98,2,     1.27,2,  -999.0,  8.7329,-999.000
     09FA290_1, PR13N,     6,  1,   -999,      2,2,19900226,1235,-43.2522, 148.3358, 2100,    597.9,   8.3870,  34.5590,2,  34.5580,2,    221.4,2,    227.5,2,     7.89,2,    20.38,2,     1.42,2,  -999.0,  8.3236,-999.000
     09FA290_1, PR13N,     6,  1,   -999,     46,2,19900226,1235,-43.2522, 148.3358, 2100,    798.8,   6.8080,  34.5010,2,  34.5030,2,    190.1,2,    187.5,2,    24.28,2,    26.97,2,     1.88,2,     3.1,  6.7317,   6.818
     09FA290_1, PR13N,     6,  1,   -999,     10,2,19900226,1235,-43.2522, 148.3358, 2100,    998.6,   4.9920,  34.4480,2,  34.4570,2,    184.8,2,    181.6,2,    41.86,2,    30.77,2,     2.18,2,  -999.0,  4.9089,-999.000
     09FA290_1, PR13N,     6,  1,   -999,     26,2,19900226,1235,-43.2522, 148.3358, 2100,    998.6,   4.9920,  34.4480,2,  34.4530,2,    184.8,2,    179.6,2,    41.86,2,    30.97,2,     2.18,2,  -999.0,  4.9089,-999.000
     09FA290_1, PR13N,     6,  1,   -999,     25,2,19900226,1235,-43.2522, 148.3358, 2100,   1342.8,   3.2390,  34.5380,2,  34.5350,2,    167.6,2,    162.7,2,    77.82,2,    34.37,2,     2.44,2,  -999.0,  3.1417,-999.000
     09FA290_1, PR13N,     6,  1,   -999,     40,2,19900226,1235,-43.2522, 148.3358, 2100,   1498.0,   2.7930,  34.5950,2,  34.5920,2,    165.5,2,    162.4,2,    85.61,2,    34.37,2,     2.44,2,  -999.0,  2.6877,-999.000
     09FA290_1, PR13N,     6,  1,   -999,     31,2,19900226,1235,-43.2522, 148.3358, 2100,   1498.0,   2.7930,  34.5950,2,  34.5950,2,    165.5,2,    161.2,2,    85.61,2,    34.77,2,     2.46,2,  -999.0,  2.6876,-999.000
     09FA290_1, PR13N,     6,  1,   -999,     12,2,19900226,1235,-43.2522, 148.3358, 2100,   1749.5,   2.4370,  34.6570,2,  34.6520,2,    170.0,2,    167.3,2,    90.41,2,    34.07,2,     2.40,2,    54.6,  2.3152,   2.444
     09FA290_1, PR13N,     6,  1,   -999,      9,2,19900226,1235,-43.2522, 148.3358, 2100,   1997.7,   2.2170,  34.6980,2,  34.6940,2,    174.2,2,    174.6,2,    92.01,2,    33.27,2,     2.33,2,  -999.0,  2.0772,-999.000
     09FA290_1, PR13N,     7,  1,   -999,      6,2,19900226,1545,-43.2590, 148.5347, 2982,      3.8,  17.7120,  35.6180,2,  35.6100,2,    241.9,2,    233.7,2,     1.10,2,     0.20,2,     0.14,2,  -999.0, 17.7114,  17.692
     09FA290_1, PR13N,     7,  1,   -999,     18,2,19900226,1545,-43.2590, 148.5347, 2982,     99.6,  15.9280,  35.5290,2,  35.5260,2,    225.1,2,    225.0,2,     2.30,2,     4.60,2,     0.37,2,  -999.0, 15.9123,-999.000
     09FA290_1, PR13N,     7,  1,   -999,     41,2,19900226,1545,-43.2590, 148.5347, 2982,    233.0,  14.2960,  35.3710,2,  35.3730,2,    210.8,2,    214.2,2,     3.00,2,     7.79,2,     0.59,2,  -999.0, 14.2617,-999.000
     09FA290_1, PR13N,     7,  1,   -999,     28,2,19900226,1545,-43.2590, 148.5347, 2982,    397.7,  11.1940,  34.9470,2,  34.9530,2,    222.9,2,    219.0,2,     4.60,2,    13.59,2,     0.95,2,  -999.0, 11.1440,-999.000
     09FA290_1, PR13N,     7,  1,   -999,     29,2,19900226,1545,-43.2590, 148.5347, 2982,    498.5,   9.7330,  34.7610,2,  34.7670,2,    208.4,2,    208.8,2,     6.99,2,    18.58,2,     1.25,2,  -999.0,  9.6754,-999.000
     09FA290_1, PR13N,     7,  1,   -999,     45,2,19900226,1545,-43.2590, 148.5347, 2982,    598.6,   8.9130,  34.6530,2,  34.6560,2,    202.2,2,    208.8,2,     8.69,2,    20.78,2,     1.42,2,  -999.0,  8.8471,-999.000
     09FA290_1, PR13N,     7,  1,   -999,      1,2,19900226,1545,-43.2590, 148.5347, 2982,    797.9,   7.1930,  34.5160,2,  34.5290,2,    196.1,2,    189.8,2,    18.18,2,    26.57,2,     1.79,2,  -999.0,  7.1145,-999.000
     09FA290_1, PR13N,     7,  1,   -999,     37,2,19900226,1545,-43.2590, 148.5347, 2982,   1142.5,   4.5680,  34.4610,2,  34.4700,2,    177.0,2,    176.1,2,    45.65,2,    32.27,2,     2.24,2,  -999.0,  4.4754,-999.000
     09FA290_1, PR13N,     7,  1,   -999,     42,2,19900226,1545,-43.2590, 148.5347, 2982,   1258.6,   4.0180,  34.4980,2,  34.4980,2,    168.7,2,    167.6,2,    57.74,2,    33.77,2,     2.35,2,  -999.0,  3.9202,-999.000
     09FA290_1, PR13N,     7,  1,   -999,     34,2,19900226,1545,-43.2590, 148.5347, 2982,   1453.4,   3.2840,  34.5530,2,  34.5520,2,    158.0,2,    158.3,2,    74.53,2,    35.26,2,     2.46,2,  -999.0,  3.1769,-999.000
     09FA290_1, PR13N,     7,  1,   -999,      2,2,19900226,1545,-43.2590, 148.5347, 2982,   1498.1,   3.1820,  34.5630,2,  34.5640,2,    155.4,2,    155.6,2,    76.02,2,    35.26,2,     2.48,2,  -999.0,  3.0722,-999.000
     09FA290_1, PR13N,     7,  1,   -999,     24,2,19900226,1545,-43.2590, 148.5347, 2982,   1498.1,   3.1820,  34.5630,2,  34.5650,2,    155.4,2,    156.8,2,    76.02,2,    35.26,2,     2.48,2,  -999.0,  3.0722,-999.000
     09FA290_1, PR13N,     7,  1,   -999,     46,2,19900226,1545,-43.2590, 148.5347, 2982,   1750.0,   2.5810,  34.6280,2,  34.6280,2,    159.9,2,    162.1,2,    80.62,2,    34.67,2,     2.43,2,    67.1,  2.4573,   2.604
     09FA290_1, PR13N,     7,  1,   -999,     10,2,19900226,1545,-43.2590, 148.5347, 2982,   2178.2,   2.2080,  34.7040,2,  34.7150,2,    175.9,2,    178.4,2,    82.12,2,    33.07,2,     2.30,2,  -999.0,  2.0526,-999.000
     09FA290_1, PR13N,     7,  1,   -999,     26,2,19900226,1545,-43.2590, 148.5347, 2982,   2447.6,   2.0060,  34.7320,2,  34.7300,2,    181.8,2,    183.1,2,    89.71,2,    32.67,2,     2.28,2,  -999.0,  1.8300,-999.000
     09FA290_1, PR13N,     7,  1,   -999,     25,2,19900226,1545,-43.2590, 148.5347, 2982,   2497.5,   1.9750,  34.7330,2,  34.7290,2,    183.9,2,    182.8,2,    91.21,2,    32.47,2,     2.28,2,  -999.0,  1.7951,-999.000
     09FA290_1, PR13N,     7,  1,   -999,     40,2,19900226,1545,-43.2590, 148.5347, 2982,   2497.5,   1.9750,  34.7330,2,  34.7310,2,    183.9,2,    183.1,2,    91.21,2,    32.67,2,     2.28,2,  -999.0,  1.7951,-999.000
     09FA290_1, PR13N,     7,  1,   -999,     31,2,19900226,1545,-43.2590, 148.5347, 2982,   2749.0,   1.7920,  34.7390,2,  34.7400,2,    190.0,2,    188.0,2,    95.80,2,    32.47,2,     2.28,2,  -999.0,  1.5924,-999.000
     09FA290_1, PR13N,     7,  1,   -999,      9,2,19900226,1545,-43.2590, 148.5347, 2982,   2998.8,   1.7210,  34.7410,2,  34.7360,2,    192.2,2,    187.5,2,    97.30,2,    32.47,2,     2.30,2,  -999.0,  1.4991,-999.000
     09FA290_1, PR13N,     7,  1,   -999,     12,2,19900226,1545,-43.2590, 148.5347, 2982,   2998.8,   1.7210,  34.7410,2,  34.7400,2,    192.2,2,    188.0,2,    97.30,2,    32.47,2,     2.28,2,     1.8,  1.4991,   1.731
     09FA290_1, PR13N,     8,  1,   -999,      6,2,19900226,2128,-43.2460, 149.3335, 3148,      4.6,  17.5020,  35.4750,2,  35.4740,2,    246.1,2,    239.6,2,     0.80,2,     0.20,2,     0.15,2,  -999.0, 17.5012,-999.000
     09FA290_1, PR13N,     8,  1,   -999,     18,2,19900226,2128,-43.2460, 149.3335, 3148,    124.1,  13.8790,  35.3030,2,  35.3030,2,    218.6,2,    215.4,2,     2.90,2,     7.99,2,     0.61,2,  -999.0, 13.8612,-999.000
     09FA290_1, PR13N,     8,  1,   -999,     41,2,19900226,2128,-43.2460, 149.3335, 3148,    198.7,  12.8750,  35.1930,2,  35.1920,2,    228.6,2,    218.4,2,     3.00,2,     9.29,2,     0.69,2,  -999.0, 12.8478,-999.000
     09FA290_1, PR13N,     8,  1,   -999,     28,2,19900226,2128,-43.2460, 149.3335, 3148,    399.4,  10.1400,  34.7810,2,  34.7820,2,    232.0,2,    223.9,2,     4.90,2,    15.78,2,     1.10,2,  -999.0, 10.0929,-999.000
     09FA290_1, PR13N,     8,  1,   -999,     29,2,19900226,2128,-43.2460, 149.3335, 3148,    497.1,   9.2160,  34.6490,2,  34.6390,2,    237.3,2,    239.8,2,     4.90,2,    16.88,2,     1.18,2,  -999.0,  9.1605,-999.000
     09FA290_1, PR13N,     8,  1,   -999,     45,2,19900226,2128,-43.2460, 149.3335, 3148,    599.3,   8.8340,  34.6320,2,  34.6320,2,    207.4,2,    210.0,2,     8.39,2,    20.78,2,     1.43,2,  -999.0,  8.7684,-999.000
     09FA290_1, PR13N,     8,  1,   -999,      1,2,19900226,2128,-43.2460, 149.3335, 3148,    799.8,   7.3820,  34.5270,2,  34.5290,2,     35.3,2,    188.4,2,    16.98,2,    25.57,2,     1.79,2,  -999.0,  7.3021,-999.000
     09FA290_1, PR13N,     8,  1,   -999,     37,2,19900226,2128,-43.2460, 149.3335, 3148,    998.0,   6.0280,  34.4670,2,  34.4700,2,    193.1,2,    179.6,2,    28.77,2,    28.77,2,     2.01,2,  -999.0,  5.9372,-999.000
     09FA290_1, PR13N,     8,  1,   -999,     42,2,19900226,2128,-43.2460, 149.3335, 3148,   1281.5,   3.9920,  34.4600,2,  34.4650,2,    177.9,2,    174.1,2,    51.65,2,    33.17,2,     2.35,2,  -999.0,  3.8925,-999.000
     09FA290_1, PR13N,     8,  1,   -999,     34,2,19900226,2128,-43.2460, 149.3335, 3148,   1297.7,   3.9030,  34.4710,2,  34.4730,2,    177.4,2,    172.6,2,    54.75,2,    33.17,2,     2.36,2,  -999.0,  3.8029,-999.000
     09FA290_1, PR13N,     8,  1,   -999,     24,2,19900226,2128,-43.2460, 149.3335, 3148,   1516.1,   3.1550,  34.5420,2,  34.5460,2,    162.3,2,    160.9,2,  -999.00,5,  -999.00,5,     2.50,2,  -999.0,  3.0441,-999.000
     09FA290_1, PR13N,     8,  1,   -999,      2,2,19900226,2128,-43.2460, 149.3335, 3148,   1516.1,   3.1550,  34.5420,2,  34.5470,2,    162.3,2,    160.3,2,    71.43,2,    34.47,2,     2.48,2,  -999.0,  3.0441,-999.000
     09FA290_1, PR13N,     8,  1,   -999,     46,2,19900226,2128,-43.2460, 149.3335, 3148,   1748.2,   2.6870,  34.6060,2,  34.6050,2,    159.2,2,    161.2,2,    79.02,2,    34.47,2,     2.48,2,    60.5,  2.5621,   2.712
     09FA290_1, PR13N,     8,  1,   -999,     10,2,19900226,2128,-43.2460, 149.3335, 3148,   1999.0,   2.3640,  34.6690,2,  34.6680,2,    170.2,2,    171.4,2,    80.62,2,    33.37,2,     2.36,2,  -999.0,  2.2220,-999.000
     09FA290_1, PR13N,     8,  1,   -999,     36,2,19900226,2128,-43.2460, 149.3335, 3148,   2213.9,   2.2010,  34.7040,2,  34.7020,2,    175.2,2,    177.8,2,    82.12,2,    32.67,2,     2.35,2,  -999.0,  2.0427,-999.000
     09FA290_1, PR13N,     8,  1,   -999,     40,2,19900226,2128,-43.2460, 149.3335, 3148,   2499.3,   2.0020,  34.7320,2,  34.7300,2,    181.5,2,    182.5,2,    89.71,2,    32.07,2,     2.30,2,  -999.0,  1.8214,-999.000
     09FA290_1, PR13N,     8,  1,   -999,     25,2,19900226,2128,-43.2460, 149.3335, 3148,   2499.3,   2.0020,  34.7320,2,  34.7290,2,    181.5,2,    182.8,2,    88.21,2,    32.07,2,     2.28,2,  -999.0,  1.8214,-999.000
     09FA290_1, PR13N,     8,  1,   -999,     31,2,19900226,2128,-43.2460, 149.3335, 3148,   2868.2,   1.7280,  34.7370,2,  34.7350,2,    190.4,2,    188.3,2,    97.30,2,    32.07,2,     2.28,2,  -999.0,  1.5185,-999.000
     09FA290_1, PR13N,     8,  1,   -999,     12,2,19900226,2128,-43.2460, 149.3335, 3148,   3128.4,   1.4960,  34.7330,2,  34.7280,2,    196.2,2,    191.0,2,   101.90,2,    32.27,2,     2.28,2,    36.4,  1.2667,   1.520
     09FA290_1, PR13N,     8,  1,   -999,      9,2,19900226,2128,-43.2460, 149.3335, 3148,   3128.4,   1.4960,  34.7330,2,  34.7290,2,    196.2,2,    191.5,2,   101.90,2,    32.27,2,     2.28,2,  -999.0,  1.2666,-999.000