BOTTLE,20020730WHPSIO
EXPOCODE,SECT_ID,STNNBR,CASTNO,SAMPNO,BTLNBR,BTLNBR_FLAG_W,DATE,TIME,LATITUDE,LONGITUDE,DEPTH,CTDPRS,CTDTMP,CTDSAL,CTDSAL_FLAG_W,SALNTY,SALNTY_FLAG_W,CTDOXY,CTDOXY_FLAG_W,OXYGEN,OXYGEN_FLAG_W,SILCAT,SILCAT_FLAG_W,NO2+NO3,NO2+NO3_FLAG_W,PHSPHT,PHSPHT_FLAG_W,REVPRS,THETA,REVTMP
,,,,,,,,,,,,DBR,ITS-90,PSS-78,,PSS-78,,UMOL/KG,,UMOL/KG,,UMOL/KG,,UMOL/KG,,UMOL/KG,,DBR,ITS-90,ITS-90
     09FA290_2,  PR11,    74,  1,   -999,      6,2,19900316,0918,-28.8212, 156.3737, 4806,      2.0,  24.6770,  35.5440,2,  35.5440,2,    212.1,2,    207.6,2,     0.90,2,     0.17,2,     0.11,2,  -999.0, 24.6766,  24.672
     09FA290_2,  PR11,    74,  1,   -999,     35,2,19900316,0918,-28.8212, 156.3737, 4806,     99.1,  19.7580,  35.5980,2,  35.6010,2,    208.0,2,    223.4,2,     0.90,2,     0.17,2,     0.17,2,  -999.0, 19.7398,-999.000
     09FA290_2,  PR11,    74,  1,   -999,     24,2,19900316,0918,-28.8212, 156.3737, 4806,    198.1,  16.8250,  35.5020,2,  35.5030,2,    187.7,2,    184.4,2,     2.30,2,     7.18,2,     0.60,2,  -999.0, 16.7924,-999.000
     09FA290_2,  PR11,    74,  1,   -999,      1,2,19900316,0918,-28.8212, 156.3737, 4806,    335.5,  13.7920,  35.2490,2,  35.2500,2,    189.1,2,    186.5,2,     4.00,2,    11.98,2,     0.91,2,  -999.0, 13.7437,-999.000
     09FA290_2,  PR11,    74,  1,   -999,     45,2,19900316,0918,-28.8212, 156.3737, 4806,    398.0,  12.5600,  35.1050,2,  35.1060,2,    187.6,2,    186.2,2,     4.00,2,    11.98,2,     0.91,2,  -999.0, 12.5060,-999.000
     09FA290_2,  PR11,    74,  1,   -999,      8,2,19900316,0918,-28.8212, 156.3737, 4806,    598.2,   8.6190,  34.6400,2,  34.6390,2,    191.1,2,    190.1,2,     4.99,2,    14.55,2,     1.05,2,  -999.0,  8.5545,-999.000
     09FA290_2,  PR11,    74,  1,   -999,     43,2,19900316,0918,-28.8212, 156.3737, 4806,    798.0,   6.5450,  34.4910,2,  34.4930,2,    187.0,2,    188.4,2,    11.69,2,    23.44,2,     1.60,2,  -999.0,  6.4703,-999.000
     09FA290_2,  PR11,    74,  1,   -999,     25,2,19900316,0918,-28.8212, 156.3737, 4806,    928.9,   5.4960,  34.4580,2,  34.4610,2,    182.8,2,    182.1,2,    35.76,2,    31.31,2,     2.11,2,  -999.0,  5.4156,-999.000
     09FA290_2,  PR11,    74,  1,   -999,     28,2,19900316,0918,-28.8212, 156.3737, 4806,    998.0,   5.1040,  34.4680,2,  34.4740,2,    176.5,2,    177.0,2,    41.76,2,    32.51,2,     2.19,2,  -999.0,  5.0201,-999.000
     09FA290_2,  PR11,    74,  1,   -999,      9,2,19900316,0918,-28.8212, 156.3737, 4806,   1212.3,   4.0330,  34.5120,2,  34.5140,2,    165.1,2,    161.8,2,    64.84,2,    35.24,2,     2.40,2,  -999.0,  3.9390,-999.000
     09FA290_2,  PR11,    74,  1,   -999,     31,2,19900316,0918,-28.8212, 156.3737, 4806,   1459.7,   3.3110,  34.5620,2,  34.5630,2,    154.9,2,    151.7,2,    85.41,2,    37.12,2,     2.52,2,  -999.0,  3.2031,-999.000
     09FA290_2,  PR11,    74,  1,   -999,     46,2,19900316,0918,-28.8212, 156.3737, 4806,   1749.1,   2.6760,  34.6210,2,  34.6190,2,    166.0,2,    149.6,2,   101.00,2,    37.47,2,     2.54,2,    61.9,  2.5511,   2.701
     09FA290_2,  PR11,    74,  1,   -999,      5,2,19900316,0918,-28.8212, 156.3737, 4806,   2271.2,   2.1570,  34.6930,2,  34.6930,2,    174.8,2,    169.3,2,    95.80,2,    35.58,2,     2.40,2,  -999.0,  1.9943,-999.000
     09FA290_2,  PR11,    74,  1,   -999,     27,2,19900316,0918,-28.8212, 156.3737, 4806,   2497.3,   1.9730,  34.7140,2,  34.7140,2,    177.8,2,    178.5,2,    97.50,2,    35.07,2,     2.33,2,  -999.0,  1.7932,-999.000
     09FA290_2,  PR11,    74,  1,   -999,     26,2,19900316,0918,-28.8212, 156.3737, 4806,   2589.1,   1.8770,  34.7210,2,  34.7200,2,    177.8,2,    180.9,2,   101.00,2,    34.74,2,     2.33,2,  -999.0,  1.6906,-999.000
     09FA290_2,  PR11,    74,  1,   -999,      2,2,19900316,0918,-28.8212, 156.3737, 4806,   2589.1,   1.8770,  34.7210,2,  34.7210,2,    177.8,2,    181.5,2,    99.30,2,    34.91,2,     2.33,2,  -999.0,  1.6906,-999.000
     09FA290_2,  PR11,    74,  1,   -999,     40,2,19900316,0918,-28.8212, 156.3737, 4806,   2867.5,   1.6280,  34.7270,2,  34.7240,2,    191.3,2,    185.7,2,   106.19,2,    34.74,2,     2.32,2,  -999.0,  1.4207,-999.000
     09FA290_2,  PR11,    74,  1,   -999,     36,2,19900316,0918,-28.8212, 156.3737, 4806,   3429.1,   1.2840,  34.7250,2,  34.7230,2,    192.1,2,    191.9,2,   116.78,2,    35.07,2,     2.35,2,  -999.0,  1.0301,-999.000
     09FA290_2,  PR11,    74,  1,   -999,     41,2,19900316,0918,-28.8212, 156.3737, 4806,   3501.2,   1.2550,  34.7240,2,  34.7230,2,    192.1,2,    193.7,2,   116.78,2,    35.07,2,     2.35,2,  -999.0,  0.9946,-999.000
     09FA290_2,  PR11,    74,  1,   -999,     11,2,19900316,0918,-28.8212, 156.3737, 4806,   3501.2,   1.2550,  34.7240,2,  34.7230,2,    192.1,2,    192.5,2,   116.78,2,    35.07,2,     2.33,2,  -999.0,  0.9946,-999.000
     09FA290_2,  PR11,    74,  1,   -999,     12,2,19900316,0918,-28.8212, 156.3737, 4806,   3999.3,   1.1760,  34.7230,2,  34.7190,2,    193.6,2,    194.0,2,   118.58,2,    35.07,2,     2.35,2,    23.9,  0.8660,   1.189
     09FA290_2,  PR11,    74,  1,   -999,     34,2,19900316,0918,-28.8212, 156.3737, 4806,   4635.5,   1.1860,  34.7200,2,  34.7190,2,    193.6,2,    195.2,2,   120.28,2,    35.41,2,     2.36,2,  -999.0,  0.8050,-999.000
     09FA290_2,  PR11,    75,  1,   -999,      6,2,19900316,1544,-28.9772, 155.8042, 3392,      2.9,  24.5160,  35.5510,2,  35.5510,2,    220.5,2,    210.0,2,     0.80,2,     0.16,2,     0.08,2,  -999.0, 24.5154,  24.521
     09FA290_2,  PR11,    75,  1,   -999,     35,2,19900316,1544,-28.9772, 155.8042, 3392,     99.2,  18.7510,  35.5290,2,  35.5330,2,    221.4,2,    227.2,2,     0.90,2,     0.16,2,     0.17,2,  -999.0, 18.7334,-999.000
     09FA290_2,  PR11,    75,  1,   -999,     24,2,19900316,1544,-28.9772, 155.8042, 3392,    198.3,  15.6520,  35.4200,2,  35.4240,2,    196.0,2,    189.4,2,     2.80,2,     8.56,2,     0.66,2,  -999.0, 15.6210,-999.000
     09FA290_2,  PR11,    75,  1,   -999,      1,2,19900316,1544,-28.9772, 155.8042, 3392,    303.6,  13.8420,  35.2570,2,  35.2600,2,    187.8,2,    186.8,2,  -999.00,5,  -999.00,5,  -999.00,5,  -999.0, 13.7982,-999.000
     09FA290_2,  PR11,    75,  1,   -999,     45,2,19900316,1544,-28.9772, 155.8042, 3392,    399.9,  11.6390,  34.9980,2,  34.9990,2,    192.6,2,    186.8,2,     6.19,2,    16.95,2,     1.14,2,  -999.0, 11.5874,-999.000
     09FA290_2,  PR11,    75,  1,   -999,      8,2,19900316,1544,-28.9772, 155.8042, 3392,    498.3,   9.9250,  34.7880,2,  34.7870,2,    195.4,2,    189.8,2,     8.59,2,    21.07,2,     1.39,2,  -999.0,  9.8667,-999.000
     09FA290_2,  PR11,    75,  1,   -999,     43,2,19900316,1544,-28.9772, 155.8042, 3392,    597.5,   8.4950,  34.6320,2,  34.6270,2,    192.6,2,    189.2,2,    12.69,2,    24.85,2,     1.61,2,  -999.0,  8.4311,-999.000
     09FA290_2,  PR11,    75,  1,   -999,     25,2,19900316,1544,-28.9772, 155.8042, 3392,    799.3,   6.3260,  34.4810,2,-999.0000,5,    183.8,2,    185.1,2,    27.47,2,    30.47,2,     1.98,2,  -999.0,  6.2524,-999.000
     09FA290_2,  PR11,    75,  1,   -999,     28,2,19900316,1544,-28.9772, 155.8042, 3392,    999.8,   5.0710,  34.4720,2,  34.4770,2,    174.3,2,    175.3,2,    43.16,2,    33.74,2,     2.18,2,  -999.0,  4.9872,-999.000
     09FA290_2,  PR11,    75,  1,   -999,      9,2,19900316,1544,-28.9772, 155.8042, 3392,   1185.3,   4.1380,  34.5090,2,  34.5100,2,    160.2,2,    163.6,2,    62.04,2,    36.04,2,     2.35,2,  -999.0,  4.0454,-999.000
     09FA290_2,  PR11,    75,  1,   -999,     31,2,19900316,1544,-28.9772, 155.8042, 3392,   1440.6,   3.2870,  34.5670,2,  34.5650,2,    150.9,2,    151.1,2,    85.91,2,    38.01,2,     2.50,2,  -999.0,  3.1809,-999.000
     09FA290_2,  PR11,    75,  1,   -999,     29,2,19900316,1544,-28.9772, 155.8042, 3392,   1498.0,   3.1340,  34.5800,2,  34.5800,2,    150.6,2,    149.6,2,    90.71,2,    37.85,2,     2.51,2,  -999.0,  3.0248,-999.000
     09FA290_2,  PR11,    75,  1,   -999,     46,2,19900316,1544,-28.9772, 155.8042, 3392,   1498.0,   3.1340,  34.5800,2,  34.5830,2,    150.6,2,    149.0,2,    90.71,2,    38.18,2,     2.54,2,     7.1,  3.0248,   3.152
     09FA290_2,  PR11,    75,  1,   -999,      5,2,19900316,1544,-28.9772, 155.8042, 3392,   1750.3,   2.6680,  34.6240,2,  34.6260,2,    148.4,2,    150.2,2,    98.80,2,    38.51,2,     2.54,2,  -999.0,  2.5431,-999.000
     09FA290_2,  PR11,    75,  1,   -999,     27,2,19900316,1544,-28.9772, 155.8042, 3392,   1998.0,   2.3950,  34.6600,2,  34.6600,2,    157.3,2,    158.8,2,    98.80,2,    37.35,2,     2.48,2,  -999.0,  2.2526,-999.000
     09FA290_2,  PR11,    75,  1,   -999,      2,2,19900316,1544,-28.9772, 155.8042, 3392,   2309.0,   2.1320,  34.6980,2,  34.7010,2,    167.5,2,    171.1,2,    95.60,2,    36.20,2,     2.40,2,  -999.0,  1.9664,-999.000
     09FA290_2,  PR11,    75,  1,   -999,     40,2,19900316,1544,-28.9772, 155.8042, 3392,   2502.1,   1.9560,  34.7190,2,  34.7170,2,    176.7,2,    179.4,2,    97.20,2,    35.54,2,     2.34,2,  -999.0,  1.7760,-999.000
     09FA290_2,  PR11,    75,  1,   -999,     26,2,19900316,1544,-28.9772, 155.8042, 3392,   2502.1,   1.9560,  34.7190,2,  34.7170,2,    176.7,2,    178.8,2,    98.80,2,    35.54,2,     2.32,2,  -999.0,  1.7760,-999.000
     09FA290_2,  PR11,    75,  1,   -999,     36,2,19900316,1544,-28.9772, 155.8042, 3392,   2619.0,   1.8630,  34.7230,2,  34.7210,2,    176.9,2,    180.3,2,   100.40,2,    35.38,2,     2.32,2,  -999.0,  1.6741,-999.000
     09FA290_2,  PR11,    75,  1,   -999,     11,2,19900316,1544,-28.9772, 155.8042, 3392,   2846.9,   1.6260,  34.7280,2,  34.7270,2,    184.9,2,    185.7,2,   105.29,2,    35.38,2,     2.32,2,  -999.0,  1.4207,-999.000
     09FA290_2,  PR11,    75,  1,   -999,     41,2,19900316,1544,-28.9772, 155.8042, 3392,   2997.6,   1.5260,  34.7300,2,  34.7280,2,    185.1,2,    188.3,2,   108.59,2,    35.21,2,     2.31,2,  -999.0,  1.3086,-999.000
     09FA290_2,  PR11,    75,  1,   -999,     12,2,19900316,1544,-28.9772, 155.8042, 3392,   3447.3,   1.2630,  34.7260,2,  34.7220,2,    191.3,2,    191.3,2,   115.08,2,    35.54,2,     2.34,2,    69.3,  1.0078,   1.240
     09FA290_2,  PR11,    75,  1,   -999,     34,2,19900316,1544,-28.9772, 155.8042, 3392,   3565.8,   1.2510,  34.7250,2,  34.7200,2,    192.0,2,    192.8,2,   116.78,2,    35.54,2,     2.34,2,  -999.0,  0.9842,-999.000
     09FA290_2,  PR11,    76,  1,   -999,      6,2,19900316,1942,-29.0698, 155.7460, 1862,      1.1,  24.5140,  35.5510,2,  35.5510,2,    208.5,2,    211.5,2,     4.10,2,     1.18,2,     0.18,2,  -999.0, 24.5138,  24.518
     09FA290_2,  PR11,    76,  1,   -999,     29,2,19900316,1942,-29.0698, 155.7460, 1862,    113.3,  18.6670,  35.5880,2,  35.5870,2,    208.6,2,    203.1,2,     1.40,2,     1.69,2,     0.33,2,  -999.0, 18.6470,-999.000
     09FA290_2,  PR11,    76,  1,   -999,     43,2,19900316,1942,-29.0698, 155.7460, 1862,    328.0,  13.6440,  35.2350,2,  35.2410,2,    192.4,2,    186.8,2,     4.10,2,    12.33,2,     0.91,2,  -999.0, 13.5971,-999.000
     09FA290_2,  PR11,    76,  1,   -999,      5,2,19900316,1942,-29.0698, 155.7460, 1862,    598.3,   8.6230,  34.6410,2,  34.6430,2,    192.1,2,    189.5,2,    12.09,2,    23.81,2,     1.59,2,  -999.0,  8.5585,-999.000
     09FA290_2,  PR11,    76,  1,   -999,     27,2,19900316,1942,-29.0698, 155.7460, 1862,    799.2,   6.5760,  34.4890,2,  34.4910,2,    187.4,2,    186.3,2,    24.18,2,    29.38,2,     1.91,2,  -999.0,  6.5010,-999.000
     09FA290_2,  PR11,    76,  1,   -999,      2,2,19900316,1942,-29.0698, 155.7460, 1862,    930.4,   5.3730,  34.4660,2,  34.4660,2,    178.7,2,    179.1,2,    39.16,2,    32.42,2,     2.14,2,  -999.0,  5.2934,-999.000
     09FA290_2,  PR11,    76,  1,   -999,     26,2,19900316,1942,-29.0698, 155.7460, 1862,   1000.9,   4.9430,  34.4700,2,  34.4690,2,    176.8,2,    175.6,2,    46.35,2,    33.77,2,     2.23,2,  -999.0,  4.8601,-999.000
     09FA290_2,  PR11,    76,  1,   -999,     40,2,19900316,1942,-29.0698, 155.7460, 1862,   1172.2,   4.2600,  34.4980,2,  34.4980,2,    166.2,2,    166.0,2,    58.94,2,    35.28,2,     2.34,2,  -999.0,  4.1675,-999.000
     09FA290_2,  PR11,    76,  1,   -999,     36,2,19900316,1942,-29.0698, 155.7460, 1862,   1418.1,   3.3170,  34.5630,2,  34.5600,2,    154.4,2,    152.6,2,    86.71,2,    37.65,2,     2.50,2,  -999.0,  3.2125,-999.000
     09FA290_2,  PR11,    76,  1,   -999,     11,2,19900316,1942,-29.0698, 155.7460, 1862,   1496.4,   3.1390,  34.5780,2,  34.5770,2,    153.0,2,    150.8,2,    90.41,2,    37.99,2,     2.52,2,  -999.0,  3.0299,-999.000
     09FA290_2,  PR11,    76,  1,   -999,     12,2,19900316,1942,-29.0698, 155.7460, 1862,   1745.7,   2.6960,  34.6240,2,  34.6220,2,    152.8,2,    152.0,2,    97.90,2,    38.32,2,     2.52,2,    63.3,  2.5711,   2.682
     09FA290_2,  PR11,    76,  1,   -999,     34,2,19900316,1942,-29.0698, 155.7460, 1862,   1819.7,   2.6350,  34.6300,2,  34.6290,2,    152.8,2,    152.9,2,    99.80,2,    37.82,2,     2.50,2,  -999.0,  2.5046,-999.000
     09FA290_2,  PR11,    77,  1,   -999,      6,2,19900316,2215,-29.1193, 155.5638, 4790,      3.2,  24.5720,  35.5150,2,  35.5140,2,    219.4,2,    212.9,2,     0.70,2,     0.17,2,     0.08,2,  -999.0, 24.5713,  24.581
     09FA290_2,  PR11,    77,  1,   -999,     42,2,19900316,2215,-29.1193, 155.5638, 4790,    111.7,  19.3090,  35.6260,2,  35.6270,2,    185.4,2,   -999.0,5,     1.00,2,     2.03,2,     0.32,2,  -999.0, 19.2888,-999.000
     09FA290_2,  PR11,    77,  1,   -999,     18,2,19900316,2215,-29.1193, 155.5638, 4790,    199.7,  18.0610,  35.5860,2,  35.5850,2,    191.2,2,    187.6,2,     1.70,2,     5.06,2,     0.48,2,  -999.0, 18.0265,-999.000
     09FA290_2,  PR11,    77,  1,   -999,     45,2,19900316,2215,-29.1193, 155.5638, 4790,    374.2,  13.4850,  35.2090,2,  35.2110,2,    192.1,2,    185.6,2,     4.30,2,    13.00,2,     0.93,2,  -999.0, 13.4318,-999.000
     09FA290_2,  PR11,    77,  1,   -999,     35,2,19900316,2215,-29.1193, 155.5638, 4790,    498.8,  10.5130,  34.8590,2,  34.8580,2,    189.3,2,    188.0,2,     7.59,2,    19.58,2,     1.29,2,  -999.0, 10.4525,-999.000
     09FA290_2,  PR11,    77,  1,   -999,     37,2,19900316,2215,-29.1193, 155.5638, 4790,    601.5,   9.0310,  34.6830,2,  34.6890,2,    184.5,2,    191.0,2,    10.39,2,    22.96,2,     1.50,2,  -999.0,  8.9643,-999.000
     09FA290_2,  PR11,    77,  1,   -999,     24,2,19900316,2215,-29.1193, 155.5638, 4790,    797.7,   6.8810,  34.5050,2,  34.5080,2,    180.8,2,    188.7,2,    21.38,2,    28.36,2,     1.85,2,  -999.0,  6.8044,-999.000
     09FA290_2,  PR11,    77,  1,   -999,      1,2,19900316,2215,-29.1193, 155.5638, 4790,    949.8,   5.3990,  34.4550,2,  34.4590,2,    163.5,2,    181.2,2,    37.56,2,    32.25,2,     2.11,2,  -999.0,  5.3174,-999.000
     09FA290_2,  PR11,    77,  1,   -999,     25,2,19900316,2215,-29.1193, 155.5638, 4790,   1206.8,   4.1330,  34.5080,2,  34.5100,2,    154.1,2,    163.3,2,    62.54,2,    35.28,2,     2.36,2,  -999.0,  4.0386,-999.000
     09FA290_2,  PR11,    77,  1,   -999,     46,2,19900316,2215,-29.1193, 155.5638, 4790,   1469.6,   3.2930,  34.5660,2,  34.5670,2,    154.1,2,    152.3,2,    86.71,2,    36.97,2,     2.49,2,    79.2,  3.1844,   3.331
     09FA290_2,  PR11,    77,  1,   -999,      8,2,19900316,2215,-29.1193, 155.5638, 4790,   1469.6,   3.2930,  34.5660,2,  34.5670,2,    154.1,2,    151.4,2,    86.71,2,    36.97,2,     2.49,2,  -999.0,  3.1844,-999.000
     09FA290_2,  PR11,    77,  1,   -999,     29,2,19900316,2215,-29.1193, 155.5638, 4790,   1747.9,   2.7350,  34.6190,2,  34.6160,2,    155.9,2,    151.1,2,    99.80,2,    36.80,2,     2.54,2,  -999.0,  2.6094,-999.000
     09FA290_2,  PR11,    77,  1,   -999,     43,2,19900316,2215,-29.1193, 155.5638, 4790,   1997.7,   2.4280,  34.6550,2,  34.6520,2,    168.0,2,    156.8,2,    96.10,2,    36.30,2,     2.47,2,  -999.0,  2.2852,-999.000
     09FA290_2,  PR11,    77,  1,   -999,      5,2,19900316,2215,-29.1193, 155.5638, 4790,   2299.4,   2.1300,  34.6980,2,-999.0000,5,    173.6,2,    171.7,2,    97.90,2,    34.95,2,     2.38,2,  -999.0,  1.9654,-999.000
     09FA290_2,  PR11,    77,  1,   -999,     27,2,19900316,2215,-29.1193, 155.5638, 4790,   2499.6,   1.9940,  34.7140,2,  34.7120,2,    173.6,2,    177.0,2,    99.80,2,    34.28,2,     2.33,2,  -999.0,  1.8136,-999.000
     09FA290_2,  PR11,    77,  1,   -999,      2,2,19900316,2215,-29.1193, 155.5638, 4790,   2499.6,   1.9940,  34.7140,2,  34.7130,2,    173.6,2,    177.6,2,    97.90,2,    34.28,2,     2.33,2,  -999.0,  1.8136,-999.000
     09FA290_2,  PR11,    77,  1,   -999,     26,2,19900316,2215,-29.1193, 155.5638, 4790,   2626.9,   1.8870,  34.7220,2,  34.7210,2,    180.7,2,    180.3,2,   101.70,2,    34.11,2,     2.31,2,  -999.0,  1.6969,-999.000
     09FA290_2,  PR11,    77,  1,   -999,     40,2,19900316,2215,-29.1193, 155.5638, 4790,   2873.1,   1.6730,  34.7290,2,  34.7290,2,    189.0,2,    184.1,2,   105.49,2,    33.97,2,     2.31,2,  -999.0,  1.4642,-999.000
     09FA290_2,  PR11,    77,  1,   -999,     11,2,19900316,2215,-29.1193, 155.5638, 4790,   3397.2,   1.2730,  34.7260,2,  34.7250,2,    189.0,2,    192.2,2,   114.98,2,    34.11,2,     2.36,2,  -999.0,  1.0226,-999.000
     09FA290_2,  PR11,    77,  1,   -999,     36,2,19900316,2215,-29.1193, 155.5638, 4790,   3397.2,   1.2730,  34.7260,2,  34.7250,2,    189.0,2,    191.6,2,   116.88,2,    34.11,2,     2.33,2,  -999.0,  1.0226,-999.000
     09FA290_2,  PR11,    77,  1,   -999,     41,2,19900316,2215,-29.1193, 155.5638, 4790,   3998.6,   1.1610,  34.7230,2,  34.7210,2,    191.5,2,    194.0,2,   120.68,2,    34.11,2,     2.36,2,  -999.0,  0.8515,-999.000
     09FA290_2,  PR11,    77,  1,   -999,     12,2,19900316,2215,-29.1193, 155.5638, 4790,   4499.3,   1.1560,  34.7210,2,  34.7190,2,    190.3,2,    194.6,2,   124.48,2,    34.11,2,     2.34,2,    32.2,  0.7915,   1.147
     09FA290_2,  PR11,    77,  1,   -999,     34,2,19900316,2215,-29.1193, 155.5638, 4790,   4647.9,   1.1640,  34.7200,2,  34.7180,2,    190.3,2,    193.7,2,   124.48,2,    34.11,2,     2.33,2,  -999.0,  0.7823,-999.000