BOTTLE,20020730WHPSIO
EXPOCODE,SECT_ID,STNNBR,CASTNO,SAMPNO,BTLNBR,BTLNBR_FLAG_W,DATE,TIME,LATITUDE,LONGITUDE,DEPTH,CTDPRS,CTDTMP,CTDSAL,CTDSAL_FLAG_W,SALNTY,SALNTY_FLAG_W,CTDOXY,CTDOXY_FLAG_W,OXYGEN,OXYGEN_FLAG_W,SILCAT,SILCAT_FLAG_W,NO2+NO3,NO2+NO3_FLAG_W,PHSPHT,PHSPHT_FLAG_W,REVPRS,THETA,REVTMP
,,,,,,,,,,,,DBR,ITS-90,PSS-78,,PSS-78,,UMOL/KG,,UMOL/KG,,UMOL/KG,,UMOL/KG,,UMOL/KG,,DBR,ITS-90,ITS-90
     09FA290_2,FRAN90,   137,  1,   -999,     27,2,19900406,0533,-33.5635, 152.8165, 4826,      5.6,  24.6370,  35.1190,2,  35.1110,2,    205.7,2,    210.8,2,     1.10,2,     0.00,2,     0.12,2,  -999.0, 24.6358,-999.000
     09FA290_2,FRAN90,   137,  1,   -999,     45,2,19900406,0533,-33.5635, 152.8165, 4826,     47.0,  23.6670,  35.5200,2,  35.5220,2,    216.8,2,    212.5,2,     0.90,2,     0.00,2,     0.10,2,  -999.0, 23.6572,-999.000
     09FA290_2,FRAN90,   137,  1,   -999,     28,2,19900406,0533,-33.5635, 152.8165, 4826,     99.2,  20.2920,  35.6250,2,  35.6220,2,    206.4,2,    201.8,2,     1.30,2,     1.55,2,     0.27,2,  -999.0, 20.2734,-999.000
     09FA290_2,FRAN90,   137,  1,   -999,     36,2,19900406,0533,-33.5635, 152.8165, 4826,    128.5,  19.6560,  35.6290,2,  35.6310,2,    199.3,2,    197.7,2,     1.30,2,     2.71,2,     0.32,2,  -999.0, 19.6325,-999.000
     09FA290_2,FRAN90,   137,  1,   -999,      1,2,19900406,0533,-33.5635, 152.8165, 4826,    200.6,  18.8780,  35.6090,2,  35.6110,2,    200.2,2,    201.0,2,     1.40,2,     3.29,2,     0.35,2,  -999.0, 18.8422,-999.000
     09FA290_2,FRAN90,   137,  1,   -999,     25,2,19900406,0533,-33.5635, 152.8165, 4826,    298.7,  17.2090,  35.5230,2,  35.5230,2,    188.0,2,    182.7,2,     2.40,2,     7.34,2,     0.60,2,  -999.0, 17.1590,-999.000
     09FA290_2,FRAN90,   137,  1,   -999,     37,2,19900406,0533,-33.5635, 152.8165, 4826,    399.5,  14.6180,  35.3250,2,  35.3300,2,    184.8,2,    187.2,2,     3.70,2,    10.82,2,     0.81,2,  -999.0, 14.5580,-999.000
     09FA290_2,FRAN90,   137,  1,   -999,     18,2,19900406,0533,-33.5635, 152.8165, 4826,    499.1,  12.2480,  35.0640,2,  35.0620,2,    184.4,2,    186.6,2,     5.69,2,    15.46,2,     1.10,2,  -999.0, 12.1812,-999.000
     09FA290_2,FRAN90,   137,  1,   -999,     35,2,19900406,0533,-33.5635, 152.8165, 4826,    597.7,  10.3850,  34.8380,2,  34.8410,2,    187.1,2,    189.9,2,     7.79,2,    19.33,2,     1.34,2,  -999.0, 10.3127,-999.000
     09FA290_2,FRAN90,   137,  1,   -999,     10,2,19900406,0533,-33.5635, 152.8165, 4826,    799.0,   7.5750,  34.5470,2,  34.5510,2,    187.4,2,    190.5,2,    16.78,2,    26.28,2,     1.78,2,  -999.0,  7.4941,-999.000
     09FA290_2,FRAN90,   137,  1,   -999,     46,2,19900406,0533,-33.5635, 152.8165, 4826,   1056.7,   5.4340,  34.4640,2,  34.4670,2,    180.8,2,    179.0,2,    38.26,2,    31.89,2,     2.16,2,    63.9,  5.3421,   5.474
     09FA290_2,FRAN90,   137,  1,   -999,     29,2,19900406,0533,-33.5635, 152.8165, 4826,   1299.3,   4.0930,  34.5060,2,  34.5050,2,    167.0,2,    164.3,2,    63.44,2,    34.98,2,     2.41,2,  -999.0,  3.9909,-999.000
     09FA290_2,FRAN90,   137,  1,   -999,     26,2,19900406,0533,-33.5635, 152.8165, 4826,   1523.6,   3.3010,  34.5600,2,  34.5620,2,    156.9,2,    154.9,2,    81.92,2,    36.72,2,     2.52,2,  -999.0,  3.1877,-999.000
     09FA290_2,FRAN90,   137,  1,   -999,     41,2,19900406,0533,-33.5635, 152.8165, 4826,   1748.3,   2.7310,  34.6160,2,  34.6150,2,    155.7,2,    153.7,2,    90.31,2,    37.10,2,     2.54,2,  -999.0,  2.6054,-999.000
     09FA290_2,FRAN90,   137,  1,   -999,     42,2,19900406,0533,-33.5635, 152.8165, 4826,   2307.0,   2.1390,  34.6980,2,  34.6980,2,    174.4,2,    173.7,2,    92.01,2,    35.17,2,     2.39,2,  -999.0,  1.9734,-999.000
     09FA290_2,FRAN90,   137,  1,   -999,     40,2,19900406,0533,-33.5635, 152.8165, 4826,   2498.2,   1.9690,  34.7180,2,  34.7150,2,    179.5,2,    180.5,2,    93.71,2,    34.79,2,     2.34,2,  -999.0,  1.7892,-999.000
     09FA290_2,FRAN90,   137,  1,   -999,      9,2,19900406,0533,-33.5635, 152.8165, 4826,   2667.3,   1.8620,  34.7270,2,  34.7250,2,    183.9,2,    182.8,2,    95.40,2,    34.41,2,     2.32,2,  -999.0,  1.6686,-999.000
     09FA290_2,FRAN90,   137,  1,   -999,      2,2,19900406,0533,-33.5635, 152.8165, 4826,   2969.2,   1.6200,  34.7300,2,  34.7270,2,    186.5,2,    188.7,2,   102.30,2,    34.60,2,     2.32,2,  -999.0,  1.4032,-999.000
     09FA290_2,FRAN90,   137,  1,   -999,     43,2,19900406,0533,-33.5635, 152.8165, 4826,   3529.7,   1.2470,  34.7230,2,  34.7210,2,    191.6,2,    194.3,2,   110.99,2,    34.79,2,     2.34,2,  -999.0,  0.9840,-999.000
     09FA290_2,FRAN90,   137,  1,   -999,      8,2,19900406,0533,-33.5635, 152.8165, 4826,   3999.1,   1.1610,  34.7210,2,  34.7150,2,    196.0,2,    195.5,2,   114.49,2,    35.17,2,     2.34,2,  -999.0,  0.8515,-999.000
     09FA290_2,FRAN90,   137,  1,   -999,     12,2,19900406,0533,-33.5635, 152.8165, 4826,   4206.9,   1.1570,  34.7190,2,  34.7150,2,    198.5,2,    196.1,2,   116.28,2,    35.17,2,     2.34,2,    34.0,  0.8251,   1.174
     09FA290_2,FRAN90,   137,  1,   -999,     24,2,19900406,0533,-33.5635, 152.8165, 4826,   4458.9,   1.1610,  34.7180,2,  34.7150,2,    201.3,2,    196.7,2,   116.28,2,    35.17,2,     2.34,2,  -999.0,  0.8010,-999.000
     09FA290_2,FRAN90,   138,  1,   -999,      6,2,19900406,1050,-33.3813, 152.5028, 2945,      4.2,  25.5720,  35.0340,2,  35.0340,2,    203.4,2,    204.6,2,     1.10,2,     0.00,2,     0.13,2,  -999.0, 25.5711,  25.583
     09FA290_2,FRAN90,   138,  1,   -999,     36,2,19900406,1050,-33.3813, 152.5028, 2945,     47.3,  25.3740,  35.2210,2,  35.1660,2,    200.8,2,    201.3,2,     0.90,2,     0.00,2,     0.12,2,  -999.0, 25.3636,-999.000
     09FA290_2,FRAN90,   138,  1,   -999,      1,2,19900406,1050,-33.3813, 152.5028, 2945,     99.2,  21.1480,  35.6210,2,  35.6200,2,    225.4,2,    160.1,2,     1.80,2,     5.83,2,     0.55,2,  -999.0, 21.1289,-999.000
     09FA290_2,FRAN90,   138,  1,   -999,     25,2,19900406,1050,-33.3813, 152.5028, 2945,    127.4,  19.9430,  35.6360,2,  35.6350,2,    204.2,2,    195.7,2,     1.10,2,     2.45,2,     0.31,2,  -999.0, 19.9194,-999.000
     09FA290_2,FRAN90,   138,  1,   -999,     37,2,19900406,1050,-33.3813, 152.5028, 2945,    198.3,  18.5100,  35.6050,2,  35.6020,2,    194.2,2,    191.3,2,     1.50,2,     4.71,2,     0.45,2,  -999.0, 18.4751,-999.000
     09FA290_2,FRAN90,   138,  1,   -999,     18,2,19900406,1050,-33.3813, 152.5028, 2945,    298.1,  15.0900,  35.3300,2,  35.3310,2,    175.4,2,    178.6,2,     3.60,2,    10.91,2,     0.83,2,  -999.0, 15.0444,-999.000
     09FA290_2,FRAN90,   138,  1,   -999,     35,2,19900406,1050,-33.3813, 152.5028, 2945,    348.7,  13.3640,  35.1310,2,  35.1320,2,    176.6,2,    176.0,2,     5.49,2,    14.49,2,     1.04,2,  -999.0, 13.3148,-999.000
     09FA290_2,FRAN90,   138,  1,   -999,     10,2,19900406,1050,-33.3813, 152.5028, 2945,    401.2,  12.1210,  35.0080,2,  35.0140,2,    185.1,2,    184.3,2,     5.79,2,    15.79,2,     1.14,2,  -999.0, 12.0679,-999.000
     09FA290_2,FRAN90,   138,  1,   -999,     26,2,19900406,1050,-33.3813, 152.5028, 2945,    601.7,   8.4270,  34.6110,2,  34.6120,2,    188.4,2,    192.6,2,    11.99,2,    23.70,2,     1.62,2,  -999.0,  8.3630,-999.000
     09FA290_2,FRAN90,   138,  1,   -999,     29,2,19900406,1050,-33.3813, 152.5028, 2945,    800.3,   6.5430,  34.4580,2,  34.4630,2,    194.1,2,    194.9,2,    20.98,2,    27.83,2,     1.90,2,  -999.0,  6.4682,-999.000
     09FA290_2,FRAN90,   138,  1,   -999,     46,2,19900406,1050,-33.3813, 152.5028, 2945,   1003.2,   5.3300,  34.4600,2,  34.4590,2,    182.4,2,    180.8,2,    38.26,2,    31.41,2,     2.15,2,    12.0,  5.2440,   5.363
     09FA290_2,FRAN90,   138,  1,   -999,     41,2,19900406,1050,-33.3813, 152.5028, 2945,   1191.2,   4.0200,  34.5150,2,  34.5160,2,    163.6,2,    161.7,2,    64.93,2,    34.80,2,     2.40,2,  -999.0,  3.9280,-999.000
     09FA290_2,FRAN90,   138,  1,   -999,     42,2,19900406,1050,-33.3813, 152.5028, 2945,   1339.3,   3.2000,  34.5710,2,  34.5710,2,    153.8,2,    151.9,2,    81.72,2,    36.11,2,     2.52,2,  -999.0,  3.1033,-999.000
     09FA290_2,FRAN90,   138,  1,   -999,      9,2,19900406,1050,-33.3813, 152.5028, 2945,   1750.6,   2.4570,  34.6510,2,  34.6540,2,    161.2,2,    158.7,2,    91.91,2,    35.92,2,     2.48,2,  -999.0,  2.3348,-999.000
     09FA290_2,FRAN90,   138,  1,   -999,      2,2,19900406,1050,-33.3813, 152.5028, 2945,   2109.7,   2.1230,  34.7010,2,  34.7020,2,    174.7,2,    174.3,2,    91.91,2,    34.61,2,     2.37,2,  -999.0,  1.9750,-999.000
     09FA290_2,FRAN90,   138,  1,   -999,     43,2,19900406,1050,-33.3813, 152.5028, 2945,   2498.7,   1.9210,  34.7230,2,  34.7220,2,    182.8,2,    181.7,2,    91.91,2,    34.04,2,     2.32,2,  -999.0,  1.7420,-999.000
     09FA290_2,FRAN90,   138,  1,   -999,      8,2,19900406,1050,-33.3813, 152.5028, 2945,   2638.2,   1.8790,  34.7260,2,  34.7230,2,    183.8,2,    182.0,2,    95.30,2,    34.04,2,     2.32,2,  -999.0,  1.6880,-999.000
     09FA290_2,FRAN90,   138,  1,   -999,     12,2,19900406,1050,-33.3813, 152.5028, 2945,   2988.7,   1.6350,  34.7300,2,  34.7260,2,    190.8,2,    187.0,2,   100.50,2,    34.04,2,     2.32,2,  -999.0,  1.4160,   1.643
     09FA290_2,FRAN90,   138,  1,   -999,     24,2,19900406,1050,-33.3813, 152.5028, 2945,   3096.8,   1.5050,  34.7300,2,  34.7250,2,    190.7,2,    190.2,2,   100.50,2,    34.04,2,     2.33,2,  -999.0,  1.2785,-999.000
     09FA290_2,FRAN90,   139,  1,   -999,      6,2,19900406,1431,-33.3125, 152.3973, 1516,      3.5,  25.4640,  34.9410,2,  34.9380,2,    203.0,2,    205.2,2,     0.90,2,     0.00,2,     0.12,2,  -999.0, 25.4632,-999.000
     09FA290_2,FRAN90,   139,  1,   -999,     10,2,19900406,1431,-33.3125, 152.3973, 1516,     48.4,  25.3320,  35.2830,2,  35.2790,2,    207.2,2,    202.8,2,     0.90,2,     0.00,2,     0.13,2,  -999.0, 25.3214,-999.000
     09FA290_2,FRAN90,   139,  1,   -999,     26,2,19900406,1431,-33.3125, 152.3973, 1516,     98.1,  21.1530,  35.6170,2,  35.6150,2,    173.5,2,    164.2,2,     1.60,2,     5.24,2,     0.49,2,  -999.0, 21.1341,-999.000
     09FA290_2,FRAN90,   139,  1,   -999,     29,2,19900406,1431,-33.3125, 152.3973, 1516,    147.3,  18.6320,  35.5920,2,  35.5920,2,    168.3,2,    176.5,2,     1.90,2,     6.37,2,     0.55,2,  -999.0, 18.6060,-999.000
     09FA290_2,FRAN90,   139,  1,   -999,     35,2,19900406,1431,-33.3125, 152.3973, 1516,    198.5,  16.7120,  35.4890,2,  35.4950,2,    187.3,2,    177.7,2,     2.50,2,     8.43,2,     0.67,2,  -999.0, 16.6795,-999.000
     09FA290_2,FRAN90,   139,  1,   -999,     41,2,19900406,1431,-33.3125, 152.3973, 1516,    299.2,  13.0570,  35.1200,2,  35.1280,2,    180.3,2,    180.4,2,     5.09,2,    14.43,2,     1.05,2,  -999.0, 13.0155,-999.000
     09FA290_2,FRAN90,   139,  1,   -999,     42,2,19900406,1431,-33.3125, 152.3973, 1516,    403.9,  10.0410,  34.7900,2,  34.7750,2,    185.2,2,    187.8,2,     8.89,2,    20.61,2,     1.42,2,  -999.0,  9.9936,-999.000
     09FA290_2,FRAN90,   139,  1,   -999,     36,2,19900406,1431,-33.3125, 152.3973, 1516,    505.0,   8.5710,  34.6320,2,  34.6080,2,    192.9,2,    192.9,2,    12.39,2,    24.17,2,     1.64,2,  -999.0,  8.5170,-999.000
     09FA290_2,FRAN90,   139,  1,   -999,      9,2,19900406,1431,-33.3125, 152.3973, 1516,    754.8,   6.3610,  34.4770,2,  34.4760,2,    178.4,2,    187.9,2,    26.67,2,    29.41,2,     2.01,2,  -999.0,  6.2917,-999.000
     09FA290_2,FRAN90,   139,  1,   -999,      2,2,19900406,1431,-33.3125, 152.3973, 1516,    909.6,   5.3420,  34.4630,2,  34.4670,2,    176.9,2,    180.2,2,    39.26,2,    32.03,2,     2.19,2,  -999.0,  5.2645,-999.000
     09FA290_2,FRAN90,   139,  1,   -999,     43,2,19900406,1431,-33.3125, 152.3973, 1516,   1006.1,   4.8420,  34.4730,2,  34.4760,2,    169.5,2,    173.7,2,    49.55,2,    32.97,2,     2.28,2,  -999.0,  4.7594,-999.000
     09FA290_2,FRAN90,   139,  1,   -999,      8,2,19900406,1431,-33.3125, 152.3973, 1516,   1152.6,   4.2050,  34.5080,2,  34.5110,2,    159.9,2,    164.3,2,    64.74,2,    34.85,2,     2.41,2,  -999.0,  4.1146,-999.000
     09FA290_2,FRAN90,   139,  1,   -999,     12,2,19900406,1431,-33.3125, 152.3973, 1516,   1350.7,   3.1260,  34.5820,2,  34.5780,2,    147.2,2,    153.1,2,    87.61,2,    36.71,2,     2.53,2,  -999.0,  3.0291,-999.000
     09FA290_2,FRAN90,   139,  1,   -999,     24,2,19900406,1431,-33.3125, 152.3973, 1516,   1548.0,   2.6810,  34.6250,2,  34.6270,2,    144.4,2,    155.2,2,    94.81,2,    36.71,2,     2.56,2,  -999.0,  2.5728,-999.000
     09FA290_2,FRAN90,   140,  1,   -999,      6,2,19900406,1728,-33.2657, 152.3242,  900,      1.8,  25.4820,  34.8990,2,  34.8970,2,    202.8,2,    203.7,2,     0.90,2,     0.00,2,     0.13,2,  -999.0, 25.4816,  25.456
     09FA290_2,FRAN90,   140,  1,   -999,     41,2,19900406,1728,-33.2657, 152.3242,  900,      1.8,  25.4820,  34.8990,2,  34.8960,2,    202.8,2,    204.3,2,     0.80,2,     0.00,2,     0.12,2,  -999.0, 25.4816,-999.000
     09FA290_2,FRAN90,   140,  1,   -999,     42,2,19900406,1728,-33.2657, 152.3242,  900,     47.3,  24.9470,  35.3330,2,  35.3350,2,    197.1,2,    193.7,2,     0.90,2,     0.56,2,     0.18,2,  -999.0, 24.9368,-999.000
     09FA290_2,FRAN90,   140,  1,   -999,     36,2,19900406,1728,-33.2657, 152.3242,  900,     99.1,  19.4530,  35.4430,2,  35.4400,2,    166.3,2,    163.0,2,     2.70,2,     8.05,2,     0.67,2,  -999.0, 19.4350,-999.000
     09FA290_2,FRAN90,   140,  1,   -999,      9,2,19900406,1728,-33.2657, 152.3242,  900,    149.6,  15.1990,  35.2830,2,  35.2840,2,    174.3,2,    171.6,2,     4.30,2,    11.99,2,     0.92,2,  -999.0, 15.1761,-999.000
     09FA290_2,FRAN90,   140,  1,   -999,      2,2,19900406,1728,-33.2657, 152.3242,  900,    203.4,  13.2550,  35.1220,2,  35.1260,2,    176.3,2,    177.5,2,     5.49,2,    14.62,2,     1.07,2,  -999.0, 13.2266,-999.000
     09FA290_2,FRAN90,   140,  1,   -999,     43,2,19900406,1728,-33.2657, 152.3242,  900,    203.4,  13.2550,  35.1220,2,  35.1250,2,    176.3,2,    177.8,2,     5.49,2,    14.62,2,     1.07,2,  -999.0, 13.2266,-999.000
     09FA290_2,FRAN90,   140,  1,   -999,      8,2,19900406,1728,-33.2657, 152.3242,  900,    496.3,   7.7590,  34.5580,2,  34.5590,2,    194.1,2,    192.9,2,    14.49,2,    25.28,2,     1.81,2,  -999.0,  7.7090,-999.000
     09FA290_2,FRAN90,   140,  1,   -999,     46,2,19900406,1728,-33.2657, 152.3242,  900,    599.0,   6.8750,  34.4970,2,  34.4960,2,    190.8,2,    191.7,2,    19.18,2,    27.35,2,     1.87,2,  -999.0,  6.8183,-999.000
     09FA290_2,FRAN90,   140,  1,   -999,     24,2,19900406,1728,-33.2657, 152.3242,  900,    793.9,   5.5010,  34.4690,2,  34.4660,2,    180.9,2,    181.1,2,    36.16,2,    30.91,2,     2.11,2,  -999.0,  5.4330,-999.000
     09FA290_2,FRAN90,   141,  1,   -999,     29,2,19900406,1908,-33.1955, 152.2767,  170,      2.5,  22.0600,  34.1790,2,  34.1740,2,    229.0,2,    215.0,2,     3.60,2,     0.56,2,     0.17,2,  -999.0, 22.0595,-999.000
     09FA290_2,FRAN90,   141,  1,   -999,     43,2,19900406,1908,-33.1955, 152.2767,  170,     47.2,  19.0290,  35.3670,2,  35.3580,2,    168.2,2,    167.7,2,     3.00,2,     8.62,2,     0.67,2,  -999.0, 19.0206,-999.000
     09FA290_2,FRAN90,   141,  1,   -999,      8,2,19900406,1908,-33.1955, 152.2767,  170,     97.9,  15.9350,  35.3620,2,  35.3590,2,    164.9,2,    165.4,2,     4.30,2,    11.24,2,     0.89,2,  -999.0, 15.9195,-999.000
     09FA290_2,FRAN90,   141,  1,   -999,     46,2,19900406,1908,-33.1955, 152.2767,  170,    130.6,  14.1460,  35.2260,2,  35.2210,2,    179.6,2,    178.4,2,     4.30,2,    12.93,2,     0.95,2,    20.4, 14.1270,  14.138
     09FA290_2,FRAN90,   141,  1,   -999,     24,2,19900406,1908,-33.1955, 152.2767,  170,    163.1,  13.2170,  35.1420,2,  35.1500,2,    180.0,2,    177.8,2,     5.29,2,    14.05,2,     1.04,2,  -999.0, 13.1943,-999.000
     09FA290_2,FRAN90,   142,  1,   -999,     43,2,19900406,2026,-33.1023, 152.1193,  135,      2.5,  23.4400,  34.7490,2,  34.7440,2,    216.9,2,    214.3,2,     0.60,2,     0.00,2,     0.12,2,  -999.0, 23.4395,-999.000
     09FA290_2,FRAN90,   142,  1,   -999,      8,2,19900406,2026,-33.1023, 152.1193,  135,     18.5,  22.2450,  34.5770,2,  34.5610,2,    210.9,2,    215.8,2,     1.10,2,     0.38,2,     0.12,2,  -999.0, 22.2413,-999.000
     09FA290_2,FRAN90,   142,  1,   -999,     46,2,19900406,2026,-33.1023, 152.1193,  135,     73.4,  14.8400,  35.2780,2,  35.2880,2,    173.2,2,    171.6,2,     4.10,2,    12.37,2,     0.90,2,    89.3, 14.8290,  15.009
     09FA290_2,FRAN90,   142,  1,   -999,     24,2,19900406,2026,-33.1023, 152.1193,  135,    128.1,  13.6920,  35.2050,2,  35.2050,2,    173.6,2,    175.4,2,     5.79,2,    13.87,2,     1.02,2,  -999.0, 13.6738,-999.000
     09FA290_2,FRAN90,   143,  1,   -999,     43,2,19900406,2142,-33.0020, 151.9618,  117,      2.2,  23.1030,  34.9200,2,  34.9110,2,    217.5,2,    213.7,2,     0.50,2,     0.00,2,     0.12,2,  -999.0, 23.1026,-999.000
     09FA290_2,FRAN90,   143,  1,   -999,      8,2,19900406,2142,-33.0020, 151.9618,  117,     24.4,  22.8420,  34.9560,2,  34.9260,2,    199.3,2,    214.3,2,     0.50,2,     0.20,2,     0.13,2,  -999.0, 22.8370,-999.000
     09FA290_2,FRAN90,   143,  1,   -999,     46,2,19900406,2142,-33.0020, 151.9618,  117,     58.2,  15.9710,  35.3700,2,  35.3800,2,    167.2,2,    167.7,2,     3.60,2,    11.29,2,     0.82,2,  -999.0, 15.9618,  16.329
     09FA290_2,FRAN90,   143,  1,   -999,     24,2,19900406,2142,-33.0020, 151.9618,  117,    108.3,  14.1200,  35.2380,2,  35.2470,2,    172.7,2,    173.9,2,     5.49,2,    13.49,2,     1.00,2,  -999.0, 14.1043,-999.000