BOTTLE,20090923WHPSIOMYS
EXPOCODE,SECT_ID,STNNBR,CASTNO,SAMPNO,BTLNBR,BTLNBR_FLAG_W,DATE,TIME,LATITUDE,LONGITUDE,DEPTH,CTDRAW,CTDPRS,CTDTMP,CTDSAL,CTDSAL_FLAG_W,SALNTY,SALNTY_FLAG_W,CTDOXY,CTDOXY_FLAG_W,THETA,OXYGEN,OXYGEN_FLAG_W,SILCAT,SILCAT_FLAG_W,NO2+NO3,NO2+NO3_FLAG_W,PHSPHT,PHSPHT_FLAG_W,REVPRS,REVTMP
,,,,,,,,,,,,,DBAR,ITS-90,PSS-78,,PSS-78,,UMOL/KG,,ITS-90,UMOL/KG,,UMOL/KG,,UMOL/KG,,UMOL/KG,,DBAR,DEG C
     33KB177_1,  PRS2,     2,  8,     24,     24,2,20060126,0239, 22.7182,-158.0578, 4769,      9,      9.1,  23.4885,  35.2772,2,  35.2865,2,    209.9,1, 23.4867,   -999.0,9,  -999.00,9,  -999.00,9,  -999.00,9,  -999.0,-999.000
     33KB177_1,  PRS2,     2,  8,     23,     23,2,20060126,0239, 22.7182,-158.0578, 4769,      8,      9.1,  23.4884,  35.2772,2,  35.2810,2,    209.9,1, 23.4865,   -999.0,9,  -999.00,9,  -999.00,9,  -999.00,9,  -999.0,-999.000
     33KB177_1,  PRS2,     2,  8,     21,     21,2,20060126,0239, 22.7182,-158.0578, 4769,     27,     27.3,  23.4602,  35.2723,2,  35.2812,2,    210.4,1, 23.4545,   -999.0,9,  -999.00,9,  -999.00,9,  -999.00,9,  -999.0,-999.000
     33KB177_1,  PRS2,     2,  8,     22,     22,2,20060126,0239, 22.7182,-158.0578, 4769,     29,     27.4,  23.4573,  35.2720,2,  35.2721,2,    210.4,1, 23.4517,   -999.0,9,  -999.00,9,  -999.00,9,  -999.00,9,  -999.0,-999.000
     33KB177_1,  PRS2,     2,  8,     19,     19,2,20060126,0239, 22.7182,-158.0578, 4769,     45,     45.8,  23.4274,  35.2686,2,  35.2686,2,    210.2,1, 23.4179,   -999.0,9,  -999.00,9,  -999.00,9,  -999.00,9,  -999.0,-999.000
     33KB177_1,  PRS2,     2,  8,     20,     20,2,20060126,0239, 22.7182,-158.0578, 4769,     46,     46.2,  23.4257,  35.2686,2,  35.2674,2,    210.2,1, 23.4161,   -999.0,9,  -999.00,9,  -999.00,9,  -999.00,9,  -999.0,-999.000
     33KB177_1,  PRS2,     2,  8,     18,     18,2,20060126,0239, 22.7182,-158.0578, 4769,     73,     73.9,  23.4041,  35.2655,2,  35.2721,2,    210.6,1, 23.3888,   -999.0,9,  -999.00,9,  -999.00,9,  -999.00,9,  -999.0,-999.000
     33KB177_1,  PRS2,     2,  8,     17,     17,2,20060126,0239, 22.7182,-158.0578, 4769,     74,     74.2,  23.4045,  35.2653,2,  35.2761,3,    210.6,1, 23.3892,   -999.0,9,  -999.00,9,  -999.00,9,  -999.00,9,  -999.0,-999.000
     33KB177_1,  PRS2,     2,  8,     16,     16,2,20060126,0239, 22.7182,-158.0578, 4769,    100,     99.3,  23.3680,  35.2865,2,  35.2832,2,    210.4,1, 23.3475,   -999.0,9,  -999.00,9,  -999.00,9,  -999.00,9,  -999.0,-999.000
     33KB177_1,  PRS2,     2,  8,     15,     15,2,20060126,0239, 22.7182,-158.0578, 4769,    100,     99.6,  23.3686,  35.2867,2,  35.2875,2,    210.5,1, 23.3480,   -999.0,9,  -999.00,9,  -999.00,9,  -999.00,9,  -999.0,-999.000
     33KB177_1,  PRS2,     2,  8,     14,     14,2,20060126,0239, 22.7182,-158.0578, 4769,    125,    126.8,  22.9434,  35.3514,2,  35.3516,2,    209.2,1, 22.9175,   -999.0,9,  -999.00,9,  -999.00,9,  -999.00,9,  -999.0,-999.000
     33KB177_1,  PRS2,     2,  8,     13,     13,3,20060126,0239, 22.7182,-158.0578, 4769,    127,    127.0,  22.9418,  35.3507,2,-999.0000,5,    209.2,1, 22.9159,   -999.0,9,  -999.00,9,  -999.00,9,  -999.00,9,  -999.0,-999.000
     33KB177_1,  PRS2,     2,  8,     12,     12,2,20060126,0239, 22.7182,-158.0578, 4769,    149,    150.0,  21.7436,  35.1846,2,  35.2119,4,    201.3,1, 21.7141,   -999.0,9,  -999.00,9,  -999.00,9,  -999.00,9,  -999.0,-999.000
     33KB177_1,  PRS2,     2,  8,     11,     11,2,20060126,0239, 22.7182,-158.0578, 4769,    149,    150.2,  21.7157,  35.1841,2,  35.2207,4,    197.3,1, 21.6863,   -999.0,9,  -999.00,9,  -999.00,9,  -999.00,9,  -999.0,-999.000
     33KB177_1,  PRS2,     2,  8,     10,     10,2,20060126,0239, 22.7182,-158.0578, 4769,    171,    173.3,  20.2459,  35.0736,2,  35.0754,2,    196.5,1, 20.2135,   -999.0,9,  -999.00,9,  -999.00,9,  -999.00,9,  -999.0,-999.000
     33KB177_1,  PRS2,     2,  8,      9,      9,2,20060126,0239, 22.7182,-158.0578, 4769,    173,    173.5,  20.2368,  35.0747,2,  35.0720,2,    196.0,1, 20.2045,   -999.0,9,  -999.00,9,  -999.00,9,  -999.00,9,  -999.0,-999.000
     33KB177_1,  PRS2,     2,  8,      8,      8,2,20060126,0239, 22.7182,-158.0578, 4769,    198,    199.4,  18.7864,  34.9441,2,  34.9484,2,    200.9,1, 18.7511,   -999.0,9,  -999.00,9,  -999.00,9,  -999.00,9,  -999.0,-999.000
     33KB177_1,  PRS2,     2,  8,      7,      7,2,20060126,0239, 22.7182,-158.0578, 4769,    249,    248.2,  15.7957,  34.5997,2,  34.6007,2,    202.3,1, 15.7569,   -999.0,9,  -999.00,9,  -999.00,9,  -999.00,9,  -999.0,-999.000
     33KB177_1,  PRS2,     2,  8,      6,      6,2,20060126,0239, 22.7182,-158.0578, 4769,    248,    248.8,  15.7842,  34.5979,2,  34.5967,2,    202.3,1, 15.7452,   -999.0,9,  -999.00,9,  -999.00,9,  -999.00,9,  -999.0,-999.000
     33KB177_1,  PRS2,     2,  8,      5,      5,2,20060126,0239, 22.7182,-158.0578, 4769,    350,    351.2,  11.5788,  34.2314,2,  34.2340,2,    204.4,1, 11.5341,   -999.0,9,  -999.00,9,  -999.00,9,  -999.00,9,  -999.0,-999.000
     33KB177_1,  PRS2,     2,  8,      4,      4,2,20060126,0239, 22.7182,-158.0578, 4769,    352,    351.2,  11.5739,  34.2325,2,  34.2321,2,    204.4,1, 11.5293,   -999.0,9,  -999.00,9,  -999.00,9,  -999.00,9,  -999.0,-999.000
     33KB177_1,  PRS2,     2,  8,      3,      3,3,20060126,0239, 22.7182,-158.0578, 4769,    351,    351.4,  11.5715,  34.2323,2,  34.2954,4,    204.3,1, 11.5268,   -999.0,9,  -999.00,9,  -999.00,9,  -999.00,9,  -999.0,-999.000
     33KB177_1,  PRS2,     2,  8,      2,      2,2,20060126,0239, 22.7182,-158.0578, 4769,    549,    548.9,   6.6995,  34.0365,2,  34.0354,2,    114.6,1,  6.6488,   -999.0,9,  -999.00,9,  -999.00,9,  -999.00,9,  -999.0,-999.000
     33KB177_1,  PRS2,     2,  8,      1,   8001,3,20060126,0239, 22.7182,-158.0578, 4769,   1019,   1020.8,   4.0713,  34.4779,2,  34.4787,2,     41.1,1,  3.9934,   -999.0,9,  -999.00,9,  -999.00,9,  -999.00,9,  -999.0,-999.000
     33KB177_1,  PRS2,     2,  9,     16,     16,2,20060126,0558, 22.7498,-158.0005, 4743,      6,      6.4,  23.6266,  35.2670,2,-999.0000,5,    208.6,1, 23.6253,   -999.0,9,  -999.00,9,  -999.00,9,  -999.00,9,  -999.0,-999.000
     33KB177_1,  PRS2,     2,  9,     15,     15,2,20060126,0558, 22.7498,-158.0005, 4743,      4,      6.4,  23.6266,  35.2679,2,  35.2647,2,    208.7,1, 23.6253,   -999.0,9,  -999.00,9,  -999.00,9,  -999.00,9,  -999.0,-999.000
     33KB177_1,  PRS2,     2,  9,      9,      9,2,20060126,0558, 22.7498,-158.0005, 4743,     23,     24.8,  23.6258,  35.2693,2,  35.2670,2,    208.6,1, 23.6207,   -999.0,9,  -999.00,9,  -999.00,9,  -999.00,9,  -999.0,-999.000
     33KB177_1,  PRS2,     2,  9,     11,     11,2,20060126,0558, 22.7498,-158.0005, 4743,     25,     24.9,  23.6315,  35.2678,2,-999.0000,5,    208.7,1, 23.6264,   -999.0,9,  -999.00,9,  -999.00,9,  -999.00,9,  -999.0,-999.000
     33KB177_1,  PRS2,     2,  9,     10,     10,2,20060126,0558, 22.7498,-158.0005, 4743,     25,     24.9,  23.6303,  35.2681,2,-999.0000,5,    208.7,1, 23.6251,   -999.0,9,  -999.00,9,  -999.00,9,  -999.00,9,  -999.0,-999.000
     33KB177_1,  PRS2,     2,  9,     14,     14,2,20060126,0558, 22.7498,-158.0005, 4743,     26,     25.1,  23.6314,  35.2680,2,-999.0000,5,    208.7,1, 23.6262,   -999.0,9,  -999.00,9,  -999.00,9,  -999.00,9,  -999.0,-999.000
     33KB177_1,  PRS2,     2,  9,     13,     13,2,20060126,0558, 22.7498,-158.0005, 4743,     25,     25.1,  23.6316,  35.2680,2,-999.0000,5,    208.7,1, 23.6263,   -999.0,9,  -999.00,9,  -999.00,9,  -999.00,9,  -999.0,-999.000
     33KB177_1,  PRS2,     2,  9,     12,     12,2,20060126,0558, 22.7498,-158.0005, 4743,     25,     25.1,  23.6317,  35.2679,2,-999.0000,5,    208.7,1, 23.6264,   -999.0,9,  -999.00,9,  -999.00,9,  -999.00,9,  -999.0,-999.000
     33KB177_1,  PRS2,     2,  9,      8,      8,2,20060126,0558, 22.7498,-158.0005, 4743,     75,     75.8,  23.5856,  35.2738,2,  35.2757,2,    209.1,1, 23.5698,   -999.0,9,  -999.00,9,  -999.00,9,  -999.00,9,  -999.0,-999.000
     33KB177_1,  PRS2,     2,  9,      7,      7,2,20060126,0558, 22.7498,-158.0005, 4743,    126,    125.5,  23.4218,  35.2892,2,  35.2940,2,    210.1,1, 23.3958,   -999.0,9,  -999.00,9,  -999.00,9,  -999.00,9,  -999.0,-999.000
     33KB177_1,  PRS2,     2,  9,      5,      5,2,20060126,0558, 22.7498,-158.0005, 4743,    248,    248.7,  15.6274,  34.5725,2,  34.5724,2,    201.8,1, 15.5887,   -999.0,9,  -999.00,9,  -999.00,9,  -999.00,9,  -999.0,-999.000
     33KB177_1,  PRS2,     2,  9,      6,      6,2,20060126,0558, 22.7498,-158.0005, 4743,    250,    249.4,  15.6089,  34.5708,2,  34.5700,2,    201.9,1, 15.5702,   -999.0,9,  -999.00,9,  -999.00,9,  -999.00,9,  -999.0,-999.000
     33KB177_1,  PRS2,     2,  9,      4,      4,2,20060126,0558, 22.7498,-158.0005, 4743,    499,    500.4,   7.6028,  34.0524,2,  34.0511,2,    136.4,1,  7.5533,   -999.0,9,  -999.00,9,  -999.00,9,  -999.00,9,  -999.0,-999.000
     33KB177_1,  PRS2,     2,  9,      3,      3,2,20060126,0558, 22.7498,-158.0005, 4743,    559,    558.7,   6.5038,  34.0360,2,  34.0347,2,    109.2,1,  6.4531,   -999.0,9,  -999.00,9,  -999.00,9,  -999.00,9,  -999.0,-999.000
     33KB177_1,  PRS2,     2,  9,      2,      2,2,20060126,0558, 22.7498,-158.0005, 4743,   1022,   1019.2,   3.9931,  34.4675,2,  34.4762,4,     40.3,1,  3.9160,   -999.0,9,  -999.00,9,  -999.00,9,  -999.00,9,  -999.0,-999.000
     33KB177_1,  PRS2,     2,  9,      1,   8001,2,20060126,0558, 22.7498,-158.0005, 4743,   1023,   1020.4,   3.9844,  34.4667,2,  34.4718,2,     39.6,1,  3.9073,   -999.0,9,  -999.00,9,  -999.00,9,  -999.00,9,  -999.0,-999.000
     33KB177_1,  PRS2,     2, 10,     22,     22,2,20060126,0855, 22.7502,-157.9987, 4750,      9,      8.3,  23.6728,  35.2470,2,  35.2491,2,    208.3,1, 23.6711,   -999.0,9,  -999.00,9,  -999.00,9,  -999.00,9,  -999.0,-999.000
     33KB177_1,  PRS2,     2, 10,     21,     21,2,20060126,0855, 22.7502,-157.9987, 4750,      8,      8.3,  23.6730,  35.2470,2,  35.2432,2,    208.4,1, 23.6713,   -999.0,9,  -999.00,9,  -999.00,9,  -999.00,9,  -999.0,-999.000
     33KB177_1,  PRS2,     2, 10,     19,     19,2,20060126,0855, 22.7502,-157.9987, 4750,     26,     25.6,  23.6797,  35.2459,2,  35.2483,2,    208.5,1, 23.6743,   -999.0,9,  -999.00,9,  -999.00,9,  -999.00,9,  -999.0,-999.000
     33KB177_1,  PRS2,     2, 10,     20,     20,2,20060126,0855, 22.7502,-157.9987, 4750,     26,     25.7,  23.6792,  35.2461,2,  35.2469,2,    208.5,1, 23.6739,   -999.0,9,  -999.00,9,  -999.00,9,  -999.00,9,  -999.0,-999.000
     33KB177_1,  PRS2,     2, 10,     17,     17,2,20060126,0855, 22.7502,-157.9987, 4750,     44,     45.0,  23.6827,  35.2454,2,  35.2450,2,    208.5,1, 23.6733,   -999.0,9,  -999.00,9,  -999.00,9,  -999.00,9,  -999.0,-999.000
     33KB177_1,  PRS2,     2, 10,     18,     18,4,20060126,0855, 22.7502,-157.9987, 4750,     45,     45.1,  23.6825,  35.2452,2,-999.0000,5,    208.5,1, 23.6731,   -999.0,9,  -999.00,9,  -999.00,9,  -999.00,9,  -999.0,-999.000
     33KB177_1,  PRS2,     2, 10,     16,     16,2,20060126,0855, 22.7502,-157.9987, 4750,     60,     59.9,  23.6835,  35.2455,2,  35.2473,2,    208.4,1, 23.6710,   -999.0,9,  -999.00,9,  -999.00,9,  -999.00,9,  -999.0,-999.000
     33KB177_1,  PRS2,     2, 10,     15,     15,2,20060126,0855, 22.7502,-157.9987, 4750,     74,     75.9,  23.6915,  35.2472,2,  35.2481,2,    208.4,1, 23.6756,   -999.0,9,  -999.00,9,  -999.00,9,  -999.00,9,  -999.0,-999.000
     33KB177_1,  PRS2,     2, 10,     14,     14,2,20060126,0855, 22.7502,-157.9987, 4750,     75,     76.0,  23.6907,  35.2471,2,  35.2519,2,    208.4,1, 23.6749,   -999.0,9,  -999.00,9,  -999.00,9,  -999.00,9,  -999.0,-999.000
     33KB177_1,  PRS2,     2, 10,     13,     13,2,20060126,0855, 22.7502,-157.9987, 4750,     84,     85.6,  23.6890,  35.2461,2,  35.2509,2,    208.4,1, 23.6711,   -999.0,9,  -999.00,9,  -999.00,9,  -999.00,9,  -999.0,-999.000
     33KB177_1,  PRS2,     2, 10,     12,     12,2,20060126,0855, 22.7502,-157.9987, 4750,     99,     99.6,  23.6689,  35.2469,2,  35.2457,2,    208.9,1, 23.6481,   -999.0,9,  -999.00,9,  -999.00,9,  -999.00,9,  -999.0,-999.000
     33KB177_1,  PRS2,     2, 10,     11,     11,2,20060126,0855, 22.7502,-157.9987, 4750,    101,     99.7,  23.6667,  35.2474,2,  35.2440,2,    208.7,1, 23.6459,   -999.0,9,  -999.00,9,  -999.00,9,  -999.00,9,  -999.0,-999.000
     33KB177_1,  PRS2,     2, 10,     10,     10,2,20060126,0855, 22.7502,-157.9987, 4750,    114,    114.4,  23.5714,  35.2587,2,  35.2578,2,    206.1,1, 23.5476,   -999.0,9,  -999.00,9,  -999.00,9,  -999.00,9,  -999.0,-999.000
     33KB177_1,  PRS2,     2, 10,      9,      9,2,20060126,0855, 22.7502,-157.9987, 4750,    126,    126.6,  23.4692,  35.2554,2,  35.2621,2,    205.9,1, 23.4429,   -999.0,9,  -999.00,9,  -999.00,9,  -999.00,9,  -999.0,-999.000
     33KB177_1,  PRS2,     2, 10,      8,      8,4,20060126,0855, 22.7502,-157.9987, 4750,    129,    127.0,  23.4687,  35.2554,2,-999.0000,5,    205.8,1, 23.4423,   -999.0,9,  -999.00,9,  -999.00,9,  -999.00,9,  -999.0,-999.000
     33KB177_1,  PRS2,     2, 10,      7,      7,2,20060126,0855, 22.7502,-157.9987, 4750,    135,    135.4,  23.3650,  35.2469,2,  35.2501,2,    205.2,1, 23.3370,   -999.0,9,  -999.00,9,  -999.00,9,  -999.00,9,  -999.0,-999.000
     33KB177_1,  PRS2,     2, 10,      5,      5,2,20060126,0855, 22.7502,-157.9987, 4750,    152,    151.5,  22.8040,  35.2093,2,  35.2125,2,    202.8,1, 22.7733,   -999.0,9,  -999.00,9,  -999.00,9,  -999.00,9,  -999.0,-999.000
     33KB177_1,  PRS2,     2, 10,      6,      6,2,20060126,0855, 22.7502,-157.9987, 4750,    152,    151.9,  22.7977,  35.2083,2,  35.2126,2,    203.0,1, 22.7669,   -999.0,9,  -999.00,9,  -999.00,9,  -999.00,9,  -999.0,-999.000
     33KB177_1,  PRS2,     2, 10,      3,      3,2,20060126,0855, 22.7502,-157.9987, 4750,    175,    175.9,  21.2421,  35.1459,2,  35.1510,2,    195.6,1, 21.2081,   -999.0,9,  -999.00,9,  -999.00,9,  -999.00,9,  -999.0,-999.000
     33KB177_1,  PRS2,     2, 10,      4,      4,2,20060126,0855, 22.7502,-157.9987, 4750,    176,    176.1,  21.2421,  35.1458,2,  35.1486,2,    195.4,1, 21.2081,   -999.0,9,  -999.00,9,  -999.00,9,  -999.00,9,  -999.0,-999.000
     33KB177_1,  PRS2,     2, 10,      2,      2,2,20060126,0855, 22.7502,-157.9987, 4750,    560,    560.6,   6.5487,  34.0346,2,  34.0362,2,    114.2,1,  6.4976,   -999.0,9,  -999.00,9,  -999.00,9,  -999.00,9,  -999.0,-999.000
     33KB177_1,  PRS2,     2, 10,      1,   8001,2,20060126,0855, 22.7502,-157.9987, 4750,   1020,   1019.9,   4.0108,  34.4746,2,  34.4730,2,     40.6,1,  3.9335,   -999.0,9,  -999.00,9,  -999.00,9,  -999.00,9,  -999.0,-999.000
     33KB177_1,  PRS2,     2, 11,     21,     21,2,20060126,1507, 22.7337,-158.0942, 4767,     11,     13.1,  23.6702,  35.2485,2,  35.2467,2,    207.8,2, 23.6675,    208.2,2,     0.90,2,     0.01,2,     0.07,2,  -999.0,-999.000
     33KB177_1,  PRS2,     2, 11,     20,     20,2,20060126,1507, 22.7337,-158.0942, 4767,     45,     45.6,  23.6746,  35.2488,2,  35.2499,2,    208.0,2, 23.6651,    208.1,2,     0.91,2,     0.04,2,     0.06,2,  -999.0,-999.000
     33KB177_1,  PRS2,     2, 11,     19,     19,2,20060126,1507, 22.7337,-158.0942, 4767,     80,     81.0,  23.6715,  35.2487,2,  35.2481,2,    208.4,2, 23.6546,    207.7,2,     0.91,2,     0.05,2,     0.06,2,  -999.0,-999.000
     33KB177_1,  PRS2,     2, 11,     18,     18,2,20060126,1507, 22.7337,-158.0942, 4767,    115,    115.3,  23.4190,  35.2679,2,  35.2672,2,    204.2,2, 23.3951,    205.9,2,     0.99,2,     0.14,3,     0.08,2,  -999.0,-999.000
     33KB177_1,  PRS2,     2, 11,     17,     17,2,20060126,1507, 22.7337,-158.0942, 4767,    151,    151.5,  21.4852,  35.1539,2,  35.1534,2,    196.8,2, 21.4557,    198.0,2,     2.64,3,     2.19,4,     0.24,4,  -999.0,-999.000
     33KB177_1,  PRS2,     2, 11,     16,     16,2,20060126,1507, 22.7337,-158.0942, 4767,    199,    200.6,  18.6545,  34.9385,2,  34.9364,2,    199.7,2, 18.6192,    200.7,2,     2.66,2,     2.17,2,     0.22,2,  -999.0,-999.000
     33KB177_1,  PRS2,     2, 11,     15,     15,2,20060126,1507, 22.7337,-158.0942, 4767,    259,    257.9,  15.5945,  34.5733,2,  34.5688,2,    201.4,2, 15.5545,    202.8,2,     4.35,3,     5.25,2,     0.45,2,  -999.0,-999.000
     33KB177_1,  PRS2,     2, 11,     14,     14,2,20060126,1507, 22.7337,-158.0942, 4767,    303,    303.0,  13.3621,  34.3326,2,  34.3388,2,    204.5,2, 13.3197,    205.3,2,     7.27,3,     8.49,2,     0.67,2,  -999.0,-999.000
     33KB177_1,  PRS2,     2, 11,     13,     13,2,20060126,1507, 22.7337,-158.0942, 4767,    348,    348.5,  11.8097,  34.2300,2,  34.2258,2,    206.6,2, 11.7648,    208.0,2,    11.02,2,    11.39,2,     0.82,2,  -999.0,-999.000
     33KB177_1,  PRS2,     2, 11,     12,     12,2,20060126,1507, 22.7337,-158.0942, 4767,    394,    393.6,  10.3856,  34.1605,2,  34.1595,2,    202.4,2, 10.3388,    200.4,2,    16.71,2,    15.19,2,     1.11,2,  -999.0,-999.000
     33KB177_1,  PRS2,     2, 11,     11,     11,2,20060126,1507, 22.7337,-158.0942, 4767,    447,    445.4,   8.9644,  34.1031,2,  34.0983,2,    174.3,2,  8.9161,    172.7,2,    26.92,2,    20.72,2,     1.50,2,  -999.0,-999.000
     33KB177_1,  PRS2,     2, 11,     10,     10,2,20060126,1507, 22.7337,-158.0942, 4767,    480,    479.6,   8.1706,  34.0746,2,  34.0725,2,    156.4,2,  8.1212,    154.3,2,    34.42,2,    23.86,2,     1.75,2,  -999.0,-999.000
     33KB177_1,  PRS2,     2, 11,      9,      9,2,20060126,1507, 22.7337,-158.0942, 4767,    512,    513.3,   7.1986,  34.0473,2,  34.3384,4,    123.7,3,  7.1494,    127.6,2,    36.53,4,    23.66,4,     1.68,4,  -999.0,-999.000
     33KB177_1,  PRS2,     2, 11,      8,      8,2,20060126,1507, 22.7337,-158.0942, 4767,    561,    562.1,   6.4027,  34.0403,2,  34.0370,2,    101.6,2,  6.3520,    104.3,2,    54.80,2,    32.32,2,     2.26,2,  -999.0,-999.000
     33KB177_1,  PRS2,     2, 11,      7,      7,2,20060126,1507, 22.7337,-158.0942, 4767,    610,    610.5,   5.6746,  34.0764,2,  34.0742,2,     68.4,2,  5.6227,     69.2,2,    69.49,2,    35.81,2,     2.58,2,  -999.0,-999.000
     33KB177_1,  PRS2,     2, 11,      6,      6,2,20060126,1507, 22.7337,-158.0942, 4767,    659,    660.0,   5.2553,  34.1190,2,  34.1215,2,     50.8,2,  5.2011,     49.4,2,    80.04,2,    38.11,2,     2.83,2,  -999.0,-999.000
     33KB177_1,  PRS2,     2, 11,      5,      5,2,20060126,1507, 22.7337,-158.0942, 4767,    719,    719.7,   4.9345,  34.1962,2,  34.1991,2,     34.0,2,  4.8767,     33.4,2,    87.39,2,    39.92,2,     2.72,4,  -999.0,-999.000
     33KB177_1,  PRS2,     2, 11,      4,      4,2,20060126,1507, 22.7337,-158.0942, 4767,    753,    753.7,   4.8460,  34.2527,2,  34.2521,2,     31.0,2,  4.7858,     30.7,2,    91.72,2,    41.48,2,     3.01,2,  -999.0,-999.000
     33KB177_1,  PRS2,     2, 11,      3,      3,2,20060126,1507, 22.7337,-158.0942, 4767,    922,    921.1,   4.3276,  34.4607,2,  34.4630,2,     38.0,2,  4.2562,     38.3,2,   102.84,2,    42.07,2,     3.11,3,  -999.0,-999.000
     33KB177_1,  PRS2,     2, 11,      2,      2,2,20060126,1507, 22.7337,-158.0942, 4767,    957,    953.8,   4.1966,  34.4665,2,  34.4654,2,     38.6,2,  4.1234,     39.8,2,   103.70,2,    41.82,2,     3.08,2,  -999.0,-999.000
     33KB177_1,  PRS2,     2, 11,      1,   8001,2,20060126,1507, 22.7337,-158.0942, 4767,    985,    989.1,   4.0822,  34.4751,2,  34.4738,2,     40.0,2,  4.0068,     40.7,2,   108.22,2,    41.65,2,     3.10,3,  -999.0,-999.000