BOTTLE,20090923WHPSIOMYS
EXPOCODE,SECT_ID,STNNBR,CASTNO,SAMPNO,BTLNBR,BTLNBR_FLAG_W,DATE,TIME,LATITUDE,LONGITUDE,DEPTH,CTDRAW,CTDPRS,CTDTMP,CTDSAL,CTDSAL_FLAG_W,SALNTY,SALNTY_FLAG_W,CTDOXY,CTDOXY_FLAG_W,THETA,OXYGEN,OXYGEN_FLAG_W,SILCAT,SILCAT_FLAG_W,NO2+NO3,NO2+NO3_FLAG_W,PHSPHT,PHSPHT_FLAG_W,REVPRS,REVTMP
,,,,,,,,,,,,,DBAR,ITS-90,PSS-78,,PSS-78,,UMOL/KG,,ITS-90,UMOL/KG,,UMOL/KG,,UMOL/KG,,UMOL/KG,,DBAR,DEG C
     33KB177_1,  PRS2,     2,  5,     17,     17,2,20060125,1757, 22.7523,-157.9930, 4744,      3,      4.5,  23.5954,  35.2748,2,  35.2720,2,    208.2,2, 23.5945,   -999.0,5,  -999.00,9,  -999.00,9,  -999.00,9,  -999.0,-999.000
     33KB177_1,  PRS2,     2,  5,     19,     19,2,20060125,1757, 22.7523,-157.9930, 4744,      6,      4.7,  23.5956,  35.2748,2,  35.2720,2,    208.2,2, 23.5946,    208.9,2,  -999.00,9,  -999.00,9,  -999.00,9,  -999.0,-999.000
     33KB177_1,  PRS2,     2,  5,     18,     18,2,20060125,1757, 22.7523,-157.9930, 4744,      4,      4.7,  23.5957,  35.2748,2,-999.0000,5,    208.2,2, 23.5947,   -999.0,5,  -999.00,9,  -999.00,9,  -999.00,9,  -999.0,-999.000
     33KB177_1,  PRS2,     2,  5,     16,     16,2,20060125,1757, 22.7523,-157.9930, 4744,     23,     23.8,  23.6004,  35.2743,2,-999.0000,5,    208.2,2, 23.5954,   -999.0,5,  -999.00,9,  -999.00,9,  -999.00,9,  -999.0,-999.000
     33KB177_1,  PRS2,     2,  5,     15,     15,2,20060125,1757, 22.7523,-157.9930, 4744,     23,     24.0,  23.6005,  35.2744,2,-999.0000,5,    208.1,2, 23.5955,   -999.0,5,  -999.00,9,  -999.00,9,  -999.00,9,  -999.0,-999.000
     33KB177_1,  PRS2,     2,  5,     13,     13,3,20060125,1757, 22.7523,-157.9930, 4744,     45,     46.1,  23.5849,  35.2774,2,-999.0000,5,    208.6,2, 23.5753,   -999.0,5,  -999.00,9,  -999.00,9,  -999.00,9,  -999.0,-999.000
     33KB177_1,  PRS2,     2,  5,     14,     14,2,20060125,1757, 22.7523,-157.9930, 4744,     46,     46.3,  23.5867,  35.2771,2,  35.2745,2,    208.9,2, 23.5771,   -999.0,5,  -999.00,9,  -999.00,9,  -999.00,9,  -999.0,-999.000
     33KB177_1,  PRS2,     2,  5,     12,     12,2,20060125,1757, 22.7523,-157.9930, 4744,     73,     73.4,  23.4132,  35.2769,2,-999.0000,5,    209.8,2, 23.3980,   -999.0,5,  -999.00,9,  -999.00,9,  -999.00,9,  -999.0,-999.000
     33KB177_1,  PRS2,     2,  5,     11,     11,2,20060125,1757, 22.7523,-157.9930, 4744,     74,     74.0,  23.4120,  35.2767,2,  35.2812,2,    209.9,2, 23.3967,   -999.0,5,  -999.00,9,  -999.00,9,  -999.00,9,  -999.0,-999.000
     33KB177_1,  PRS2,     2,  5,      9,      9,2,20060125,1757, 22.7523,-157.9930, 4744,    102,    101.0,  23.3898,  35.2810,2,  35.2785,2,    210.4,2, 23.3689,   -999.0,5,  -999.00,9,  -999.00,9,  -999.00,9,  -999.0,-999.000
     33KB177_1,  PRS2,     2,  5,     10,     10,2,20060125,1757, 22.7523,-157.9930, 4744,    101,    101.1,  23.3901,  35.2809,2,-999.0000,5,    210.4,2, 23.3692,   -999.0,5,  -999.00,9,  -999.00,9,  -999.00,9,  -999.0,-999.000
     33KB177_1,  PRS2,     2,  5,      7,      7,2,20060125,1757, 22.7523,-157.9930, 4744,    124,    123.9,  23.3569,  35.3032,2,  35.3122,2,    210.2,2, 23.3313,   -999.0,5,  -999.00,9,  -999.00,9,  -999.00,9,  -999.0,-999.000
     33KB177_1,  PRS2,     2,  5,      8,      8,2,20060125,1757, 22.7523,-157.9930, 4744,    124,    124.0,  23.3572,  35.3032,2,-999.0000,5,    210.1,2, 23.3316,   -999.0,5,  -999.00,9,  -999.00,9,  -999.00,9,  -999.0,-999.000
     33KB177_1,  PRS2,     2,  5,      5,      5,2,20060125,1757, 22.7523,-157.9930, 4744,    150,    151.0,  22.9012,  35.3511,2,  35.3490,2,    207.8,2, 22.8704,   -999.0,5,  -999.00,9,  -999.00,9,  -999.00,9,  -999.0,-999.000
     33KB177_1,  PRS2,     2,  5,      6,      6,2,20060125,1757, 22.7523,-157.9930, 4744,    151,    151.1,  22.9023,  35.3510,2,-999.0000,5,    207.9,2, 22.8715,   -999.0,5,  -999.00,9,  -999.00,9,  -999.00,9,  -999.0,-999.000
     33KB177_1,  PRS2,     2,  5,      4,      4,2,20060125,1757, 22.7523,-157.9930, 4744,    175,    176.1,  20.8596,  35.1213,2,-999.0000,5,    194.3,2, 20.8260,   -999.0,5,  -999.00,9,  -999.00,9,  -999.00,9,  -999.0,-999.000
     33KB177_1,  PRS2,     2,  5,      3,      3,2,20060125,1757, 22.7523,-157.9930, 4744,    176,    176.8,  20.8233,  35.1210,2,  35.1453,3,    194.4,3, 20.7896,   -999.0,5,  -999.00,9,  -999.00,9,  -999.00,9,  -999.0,-999.000
     33KB177_1,  PRS2,     2,  5,      2,      2,2,20060125,1757, 22.7523,-157.9930, 4744,    551,    550.3,   6.6449,  34.0383,2,  34.0403,2,    108.1,2,  6.5943,   -999.0,5,  -999.00,9,  -999.00,9,  -999.00,9,  -999.0,-999.000
     33KB177_1,  PRS2,     2,  5,      1,      1,2,20060125,1757, 22.7523,-157.9930, 4744,   1022,   1022.2,   3.9316,  34.4896,2,  34.4913,2,     43.0,2,  3.8546,   -999.0,5,  -999.00,9,  -999.00,9,  -999.00,9,  -999.0,-999.000
     33KB177_1,  PRS2,     2,  6,     20,     20,2,20060125,2056, 22.7518,-157.9897, 4740,     23,     24.9,  23.6104,  35.2728,2,  35.2716,2,    208.9,1, 23.6052,   -999.0,9,  -999.00,9,  -999.00,9,  -999.00,9,  -999.0,-999.000
     33KB177_1,  PRS2,     2,  6,     18,     18,2,20060125,2056, 22.7518,-157.9897, 4740,     24,     24.9,  23.6145,  35.2730,2,  35.2877,4,    208.9,1, 23.6094,   -999.0,9,  -999.00,9,  -999.00,9,  -999.00,9,  -999.0,-999.000
     33KB177_1,  PRS2,     2,  6,     19,     19,2,20060125,2056, 22.7518,-157.9897, 4740,     25,     25.3,  23.6106,  35.2727,2,  35.2706,2,    208.9,1, 23.6053,   -999.0,9,  -999.00,9,  -999.00,9,  -999.00,9,  -999.0,-999.000
     33KB177_1,  PRS2,     2,  6,     17,     17,2,20060125,2056, 22.7518,-157.9897, 4740,     45,     43.9,  23.5898,  35.2739,2,  35.2720,2,    209.1,1, 23.5807,   -999.0,9,  -999.00,9,  -999.00,9,  -999.00,9,  -999.0,-999.000
     33KB177_1,  PRS2,     2,  6,     16,     16,2,20060125,2056, 22.7518,-157.9897, 4740,     60,     59.8,  23.5310,  35.2816,2,  35.2777,2,    209.6,1, 23.5186,   -999.0,9,  -999.00,9,  -999.00,9,  -999.00,9,  -999.0,-999.000
     33KB177_1,  PRS2,     2,  6,     15,     15,2,20060125,2056, 22.7518,-157.9897, 4740,     78,     76.7,  23.4392,  35.2816,2,  35.2970,4,    210.1,1, 23.4234,   -999.0,9,  -999.00,9,  -999.00,9,  -999.00,9,  -999.0,-999.000
     33KB177_1,  PRS2,     2,  6,     14,     14,2,20060125,2056, 22.7518,-157.9897, 4740,     76,     76.9,  23.4388,  35.2816,2,  35.2930,3,    210.1,1, 23.4229,   -999.0,9,  -999.00,9,  -999.00,9,  -999.00,9,  -999.0,-999.000
     33KB177_1,  PRS2,     2,  6,     13,     13,2,20060125,2056, 22.7518,-157.9897, 4740,     83,     83.9,  23.4172,  35.2798,2,  35.2773,2,    210.1,1, 23.3999,   -999.0,9,  -999.00,9,  -999.00,9,  -999.00,9,  -999.0,-999.000
     33KB177_1,  PRS2,     2,  6,     12,     12,2,20060125,2056, 22.7518,-157.9897, 4740,    101,    100.3,  23.4003,  35.2795,2,  35.2854,2,    210.8,1, 23.3796,   -999.0,9,  -999.00,9,  -999.00,9,  -999.00,9,  -999.0,-999.000
     33KB177_1,  PRS2,     2,  6,     11,     11,2,20060125,2056, 22.7518,-157.9897, 4740,    116,    115.3,  23.4058,  35.2882,2,  35.2852,2,    210.7,1, 23.3820,   -999.0,9,  -999.00,9,  -999.00,9,  -999.00,9,  -999.0,-999.000
     33KB177_1,  PRS2,     2,  6,     10,     10,2,20060125,2056, 22.7518,-157.9897, 4740,    125,    125.2,  23.4038,  35.2893,2,  35.2968,2,    210.6,1, 23.3778,   -999.0,9,  -999.00,9,  -999.00,9,  -999.00,9,  -999.0,-999.000
     33KB177_1,  PRS2,     2,  6,      9,      9,2,20060125,2056, 22.7518,-157.9897, 4740,    124,    125.3,  23.4029,  35.2894,2,  35.2889,2,    210.5,1, 23.3769,   -999.0,9,  -999.00,9,  -999.00,9,  -999.00,9,  -999.0,-999.000
     33KB177_1,  PRS2,     2,  6,      8,      8,2,20060125,2056, 22.7518,-157.9897, 4740,    150,    150.5,  23.0614,  35.3598,2,  35.3626,2,    209.8,1, 23.0306,   -999.0,9,  -999.00,9,  -999.00,9,  -999.00,9,  -999.0,-999.000
     33KB177_1,  PRS2,     2,  6,      7,      7,2,20060125,2056, 22.7518,-157.9897, 4740,    175,    175.4,  21.3933,  35.1708,2,  35.1736,2,    199.3,1, 21.3592,   -999.0,9,  -999.00,9,  -999.00,9,  -999.00,9,  -999.0,-999.000
     33KB177_1,  PRS2,     2,  6,      6,      6,2,20060125,2056, 22.7518,-157.9897, 4740,    203,    202.9,  19.3706,  34.9995,2,  35.0006,2,    195.5,1, 19.3339,   -999.0,9,  -999.00,9,  -999.00,9,  -999.00,9,  -999.0,-999.000
     33KB177_1,  PRS2,     2,  6,      5,      5,2,20060125,2056, 22.7518,-157.9897, 4740,    252,    251.9,  16.4856,  34.6584,2,  34.6563,2,    199.9,1, 16.4450,   -999.0,9,  -999.00,9,  -999.00,9,  -999.00,9,  -999.0,-999.000
     33KB177_1,  PRS2,     2,  6,      4,      4,2,20060125,2056, 22.7518,-157.9897, 4740,    500,    499.8,   7.9170,  34.0630,2,  34.0621,2,    148.8,1,  7.8665,   -999.0,9,  -999.00,9,  -999.00,9,  -999.00,9,  -999.0,-999.000
     33KB177_1,  PRS2,     2,  6,      3,      3,2,20060125,2056, 22.7518,-157.9897, 4740,    552,    550.6,   6.6272,  34.0379,2,  34.0364,2,    109.5,1,  6.5767,   -999.0,9,  -999.00,9,  -999.00,9,  -999.00,9,  -999.0,-999.000
     33KB177_1,  PRS2,     2,  6,      2,      2,2,20060125,2056, 22.7518,-157.9897, 4740,   1018,   1019.4,   3.9914,  34.4738,2,  34.4756,2,     40.8,1,  3.9142,   -999.0,9,  -999.00,9,  -999.00,9,  -999.00,9,  -999.0,-999.000
     33KB177_1,  PRS2,     2,  6,      1,   8001,2,20060125,2056, 22.7518,-157.9897, 4740,   1019,   1020.1,   3.9915,  34.4742,2,  34.4742,2,     40.7,1,  3.9143,   -999.0,9,  -999.00,9,  -999.00,9,  -999.00,9,  -999.0,-999.000
     33KB177_1,  PRS2,     2,  7,     22,     22,2,20060125,2336, 22.7503,-157.9827, 4736,      6,      6.6,  23.6271,  35.2782,2,  35.2767,2,    208.7,2, 23.6258,    208.9,2,  -999.00,9,  -999.00,9,  -999.00,9,  -999.0,-999.000
     33KB177_1,  PRS2,     2,  7,     23,     23,2,20060125,2336, 22.7503,-157.9827, 4736,      7,      6.9,  23.6281,  35.2784,2,  35.2802,2,    208.7,2, 23.6267,   -999.0,5,  -999.00,9,  -999.00,9,  -999.00,9,  -999.0,-999.000
     33KB177_1,  PRS2,     2,  7,     21,     21,2,20060125,2336, 22.7503,-157.9827, 4736,     16,     16.5,  23.6101,  35.2782,2,  35.2749,2,    208.6,2, 23.6067,   -999.0,5,  -999.00,9,  -999.00,9,  -999.00,9,  -999.0,-999.000
     33KB177_1,  PRS2,     2,  7,     20,     20,2,20060125,2336, 22.7503,-157.9827, 4736,     24,     24.3,  23.6165,  35.2777,2,  35.2822,2,    208.7,2, 23.6114,   -999.0,5,  -999.00,9,  -999.00,9,  -999.00,9,  -999.0,-999.000
     33KB177_1,  PRS2,     2,  7,     19,     19,2,20060125,2336, 22.7503,-157.9827, 4736,     23,     24.8,  23.6174,  35.2780,2,  35.2775,2,    208.8,2, 23.6123,    209.0,2,  -999.00,9,  -999.00,9,  -999.00,9,  -999.0,-999.000
     33KB177_1,  PRS2,     2,  7,     18,     18,2,20060125,2336, 22.7503,-157.9827, 4736,     36,     36.4,  23.5871,  35.2793,2,  35.2798,2,    208.4,2, 23.5796,   -999.0,5,  -999.00,9,  -999.00,9,  -999.00,9,  -999.0,-999.000
     33KB177_1,  PRS2,     2,  7,     17,     17,2,20060125,2336, 22.7503,-157.9827, 4736,     47,     46.3,  23.4267,  35.2852,2,  35.2873,2,    209.7,2, 23.4171,    209.8,2,  -999.00,9,  -999.00,9,  -999.00,9,  -999.0,-999.000
     33KB177_1,  PRS2,     2,  7,     16,     16,2,20060125,2336, 22.7503,-157.9827, 4736,     60,     59.8,  23.4021,  35.2815,2,  35.2875,2,    209.8,2, 23.3897,   -999.0,5,  -999.00,9,  -999.00,9,  -999.00,9,  -999.0,-999.000
     33KB177_1,  PRS2,     2,  7,     15,     15,2,20060125,2336, 22.7503,-157.9827, 4736,     78,     75.6,  23.3978,  35.2828,2,  35.2818,2,    210.4,2, 23.3822,    209.5,2,  -999.00,9,  -999.00,9,  -999.00,9,  -999.0,-999.000
     33KB177_1,  PRS2,     2,  7,     14,     14,2,20060125,2336, 22.7503,-157.9827, 4736,     86,     85.3,  23.3928,  35.2826,2,  35.2800,2,    210.4,2, 23.3752,   -999.0,5,  -999.00,9,  -999.00,9,  -999.00,9,  -999.0,-999.000
     33KB177_1,  PRS2,     2,  7,     13,     13,3,20060125,2336, 22.7503,-157.9827, 4736,     89,     88.6,  23.3918,  35.2831,2,-999.0000,5,    210.2,2, 23.3735,   -999.0,5,  -999.00,9,  -999.00,9,  -999.00,9,  -999.0,-999.000
     33KB177_1,  PRS2,     2,  7,     12,     12,2,20060125,2336, 22.7503,-157.9827, 4736,     99,     98.1,  23.3943,  35.2847,2,  35.2820,2,    210.3,2, 23.3740,    209.4,2,  -999.00,9,  -999.00,9,  -999.00,9,  -999.0,-999.000
     33KB177_1,  PRS2,     2,  7,     11,     11,2,20060125,2336, 22.7503,-157.9827, 4736,    112,    110.2,  23.3949,  35.2910,2,  35.2883,2,    210.5,2, 23.3721,   -999.0,5,  -999.00,9,  -999.00,9,  -999.00,9,  -999.0,-999.000
     33KB177_1,  PRS2,     2,  7,     10,     10,2,20060125,2336, 22.7503,-157.9827, 4736,    113,    115.8,  23.3887,  35.2973,2,  35.2928,2,    210.6,2, 23.3647,    210.7,2,  -999.00,9,  -999.00,9,  -999.00,9,  -999.0,-999.000
     33KB177_1,  PRS2,     2,  7,      9,      9,2,20060125,2336, 22.7503,-157.9827, 4736,    126,    125.0,  23.2990,  35.3310,2,  35.3301,2,    210.2,2, 23.2732,    209.1,2,  -999.00,9,  -999.00,9,  -999.00,9,  -999.0,-999.000
     33KB177_1,  PRS2,     2,  7,      8,      8,2,20060125,2336, 22.7503,-157.9827, 4736,    128,    130.1,  23.1298,  35.3541,2,  35.3508,2,    210.4,2, 23.1031,   -999.0,5,  -999.00,9,  -999.00,9,  -999.00,9,  -999.0,-999.000
     33KB177_1,  PRS2,     2,  7,      7,      7,2,20060125,2336, 22.7503,-157.9827, 4736,    152,    150.0,  22.4211,  35.2728,2,  35.2723,2,    203.7,2, 22.3910,    204.1,2,  -999.00,9,  -999.00,9,  -999.00,9,  -999.0,-999.000
     33KB177_1,  PRS2,     2,  7,      6,      6,2,20060125,2336, 22.7503,-157.9827, 4736,    166,    165.1,  21.5359,  35.1904,2,  35.1898,2,    198.9,2, 21.5037,    199.2,2,  -999.00,9,  -999.00,9,  -999.00,9,  -999.0,-999.000
     33KB177_1,  PRS2,     2,  7,      5,      5,2,20060125,2336, 22.7503,-157.9827, 4736,    173,    172.8,  21.2499,  35.1635,2,  35.1628,2,    199.4,2, 21.2165,    198.2,2,  -999.00,9,  -999.00,9,  -999.00,9,  -999.0,-999.000
     33KB177_1,  PRS2,     2,  7,      4,      4,2,20060125,2336, 22.7503,-157.9827, 4736,    199,    198.6,  19.4610,  35.0026,2,  35.0114,2,    194.4,2, 19.4250,    194.3,2,  -999.00,9,  -999.00,9,  -999.00,9,  -999.0,-999.000
     33KB177_1,  PRS2,     2,  7,      3,      3,2,20060125,2336, 22.7503,-157.9827, 4736,    550,    549.8,   6.6700,  34.0374,2,  34.0368,2,    117.8,2,  6.6193,    113.6,2,  -999.00,9,  -999.00,9,  -999.00,9,  -999.0,-999.000
     33KB177_1,  PRS2,     2,  7,      2,      2,2,20060125,2336, 22.7503,-157.9827, 4736,    823,    824.1,   4.3254,  34.3095,2,  34.3107,2,     21.9,2,  4.2623,     21.7,2,  -999.00,9,  -999.00,9,  -999.00,9,  -999.0,-999.000
     33KB177_1,  PRS2,     2,  7,      1,   8001,2,20060125,2336, 22.7503,-157.9827, 4736,   1017,   1018.9,   3.8815,  34.4690,2,  34.4699,2,     40.0,2,  3.8053,     40.0,2,  -999.00,9,  -999.00,9,  -999.00,9,  -999.0,-999.000