BOTTLE,20090923WHPSIOMYS
#code : jjward hyd_to_exchange.pl 
#original files copied from HTML directory: 20090923
#original HYD file: 33KB177_1_hy.txt   Wed Sep 23 17:58:46 2009
#original SUM file: ../33KB177_1su.txt   Wed Sep 23 17:58:45 2009
EXPOCODE,SECT_ID,STNNBR,CASTNO,SAMPNO,BTLNBR,BTLNBR_FLAG_W,DATE,TIME,LATITUDE,LONGITUDE,DEPTH,CTDRAW,CTDPRS,CTDTMP,CTDSAL,CTDSAL_FLAG_W,SALNTY,SALNTY_FLAG_W,CTDOXY,CTDOXY_FLAG_W,THETA,OXYGEN,OXYGEN_FLAG_W,SILCAT,SILCAT_FLAG_W,NO2+NO3,NO2+NO3_FLAG_W,PHSPHT,PHSPHT_FLAG_W,REVPRS,REVTMP
,,,,,,,,,,,,,DBAR,ITS-90,PSS-78,,PSS-78,,UMOL/KG,,ITS-90,UMOL/KG,,UMOL/KG,,UMOL/KG,,UMOL/KG,,DBAR,DEG C
     33KB177_1,  PRS2,     2,  1,      2,      2,2,20060125,0215, 22.7478,-158.0012, 4741,    562,    562.1,   6.3086,  34.0466,2,  34.0445,2,     95.0,1,  6.2584,   -999.0,9,  -999.00,9,  -999.00,9,  -999.00,9,  -999.0,-999.000
     33KB177_1,  PRS2,     2,  1,      1,      1,2,20060125,0215, 22.7478,-158.0012, 4741,   1020,   1020.9,   3.9719,  34.4844,2,  34.4854,2,     41.5,1,  3.8948,   -999.0,9,  -999.00,9,  -999.00,9,  -999.00,9,  -999.0,-999.000
     33KB177_1,  PRS2,     2,  2,     21,     21,2,20060125,0711, 22.7505,-157.9983, 4742,      6,      6.1,  23.3702,  35.2656,2,  35.2698,2,    209.9,1, 23.3689,   -999.0,9,  -999.00,9,  -999.00,9,  -999.00,9,  -999.0,-999.000
     33KB177_1,  PRS2,     2,  2,     22,     22,2,20060125,0711, 22.7505,-157.9983, 4742,      7,      6.5,  23.3693,  35.2645,2,-999.0000,5,    210.3,1, 23.3680,   -999.0,9,  -999.00,9,  -999.00,9,  -999.00,9,  -999.0,-999.000
     33KB177_1,  PRS2,     2,  2,     23,     23,2,20060125,0711, 22.7505,-157.9983, 4742,      7,      6.7,  23.3690,  35.2638,2,-999.0000,5,    210.5,1, 23.3676,   -999.0,9,  -999.00,9,  -999.00,9,  -999.00,9,  -999.0,-999.000
     33KB177_1,  PRS2,     2,  2,     24,     24,2,20060125,0711, 22.7505,-157.9983, 4742,      7,      7.0,  23.3694,  35.2657,2,-999.0000,5,    210.5,1, 23.3680,   -999.0,9,  -999.00,9,  -999.00,9,  -999.00,9,  -999.0,-999.000
     33KB177_1,  PRS2,     2,  2,     19,     19,2,20060125,0711, 22.7505,-157.9983, 4742,     26,     24.2,  23.3748,  35.2658,2,-999.0000,5,    210.0,1, 23.3698,   -999.0,9,  -999.00,9,  -999.00,9,  -999.00,9,  -999.0,-999.000
     33KB177_1,  PRS2,     2,  2,     17,     17,3,20060125,0711, 22.7505,-157.9983, 4742,     23,     24.2,  23.3746,  35.2653,2,-999.0000,5,    210.3,1, 23.3696,   -999.0,9,  -999.00,9,  -999.00,9,  -999.00,9,  -999.0,-999.000
     33KB177_1,  PRS2,     2,  2,     18,     18,2,20060125,0711, 22.7505,-157.9983, 4742,     25,     24.5,  23.3744,  35.2653,2,-999.0000,5,    210.1,1, 23.3693,   -999.0,9,  -999.00,9,  -999.00,9,  -999.00,9,  -999.0,-999.000
     33KB177_1,  PRS2,     2,  2,     20,     20,2,20060125,0711, 22.7505,-157.9983, 4742,     26,     24.6,  23.3743,  35.2656,2,-999.0000,5,    209.9,1, 23.3692,   -999.0,9,  -999.00,9,  -999.00,9,  -999.00,9,  -999.0,-999.000
     33KB177_1,  PRS2,     2,  2,     15,     15,2,20060125,0711, 22.7505,-157.9983, 4742,     45,     44.6,  23.3805,  35.2693,2,-999.0000,5,    209.9,1, 23.3713,   -999.0,9,  -999.00,9,  -999.00,9,  -999.00,9,  -999.0,-999.000
     33KB177_1,  PRS2,     2,  2,     14,     14,2,20060125,0711, 22.7505,-157.9983, 4742,     44,     44.6,  23.3805,  35.2694,2,-999.0000,5,    209.7,1, 23.3713,   -999.0,9,  -999.00,9,  -999.00,9,  -999.00,9,  -999.0,-999.000
     33KB177_1,  PRS2,     2,  2,     13,     13,2,20060125,0711, 22.7505,-157.9983, 4742,     45,     44.9,  23.3807,  35.2694,2,  35.2660,2,    209.7,1, 23.3714,   -999.0,9,  -999.00,9,  -999.00,9,  -999.00,9,  -999.0,-999.000
     33KB177_1,  PRS2,     2,  2,     16,     16,2,20060125,0711, 22.7505,-157.9983, 4742,     44,     45.0,  23.3806,  35.2671,2,-999.0000,5,    210.4,1, 23.3713,   -999.0,9,  -999.00,9,  -999.00,9,  -999.00,9,  -999.0,-999.000
     33KB177_1,  PRS2,     2,  2,     10,     10,2,20060125,0711, 22.7505,-157.9983, 4742,     78,     77.7,  23.3864,  35.2733,2,  35.2745,2,    210.4,1, 23.3703,   -999.0,9,  -999.00,9,  -999.00,9,  -999.00,9,  -999.0,-999.000
     33KB177_1,  PRS2,     2,  2,     11,     11,2,20060125,0711, 22.7505,-157.9983, 4742,     77,     79.1,  23.3864,  35.2726,2,-999.0000,5,    210.3,1, 23.3701,   -999.0,9,  -999.00,9,  -999.00,9,  -999.00,9,  -999.0,-999.000
     33KB177_1,  PRS2,     2,  2,     12,     12,2,20060125,0711, 22.7505,-157.9983, 4742,     79,     80.3,  23.3868,  35.2725,2,-999.0000,5,    210.3,1, 23.3702,   -999.0,9,  -999.00,9,  -999.00,9,  -999.00,9,  -999.0,-999.000
     33KB177_1,  PRS2,     2,  2,      7,      7,2,20060125,0711, 22.7505,-157.9983, 4742,    101,    101.6,  23.2808,  35.3454,2,  35.3453,2,    209.4,1, 23.2599,   -999.0,9,  -999.00,9,  -999.00,9,  -999.00,9,  -999.0,-999.000
     33KB177_1,  PRS2,     2,  2,      9,      9,2,20060125,0711, 22.7505,-157.9983, 4742,    102,    102.1,  23.2804,  35.3454,2,  35.3437,2,    209.2,1, 23.2593,   -999.0,9,  -999.00,9,  -999.00,9,  -999.00,9,  -999.0,-999.000
     33KB177_1,  PRS2,     2,  2,      8,      8,2,20060125,0711, 22.7505,-157.9983, 4742,    101,    102.1,  23.2809,  35.3453,2,-999.0000,5,    209.3,1, 23.2599,   -999.0,9,  -999.00,9,  -999.00,9,  -999.00,9,  -999.0,-999.000
     33KB177_1,  PRS2,     2,  2,      5,      5,2,20060125,0711, 22.7505,-157.9983, 4742,    122,    121.7,  23.1000,  35.3533,2,-999.0000,5,    208.3,1, 23.0750,   -999.0,9,  -999.00,9,  -999.00,9,  -999.00,9,  -999.0,-999.000
     33KB177_1,  PRS2,     2,  2,      6,      6,2,20060125,0711, 22.7505,-157.9983, 4742,    122,    121.8,  23.0996,  35.3533,2,-999.0000,5,    208.2,1, 23.0746,   -999.0,9,  -999.00,9,  -999.00,9,  -999.00,9,  -999.0,-999.000
     33KB177_1,  PRS2,     2,  2,      4,      4,2,20060125,0711, 22.7505,-157.9983, 4742,    123,    122.2,  23.1000,  35.3532,2,  35.3516,2,    208.3,1, 23.0749,   -999.0,9,  -999.00,9,  -999.00,9,  -999.00,9,  -999.0,-999.000
     33KB177_1,  PRS2,     2,  2,      3,      3,2,20060125,0711, 22.7505,-157.9983, 4742,    149,    150.0,  22.9985,  35.3547,2,  35.3541,2,    209.3,1, 22.9679,   -999.0,9,  -999.00,9,  -999.00,9,  -999.00,9,  -999.0,-999.000
     33KB177_1,  PRS2,     2,  2,      2,      2,2,20060125,0711, 22.7505,-157.9983, 4742,    250,    250.8,  17.0537,  34.7483,2,  34.7488,2,    203.0,1, 17.0123,   -999.0,9,  -999.00,9,  -999.00,9,  -999.00,9,  -999.0,-999.000
     33KB177_1,  PRS2,     2,  2,      1,      1,2,20060125,0711, 22.7505,-157.9983, 4742,    352,    350.5,  11.5696,  34.2294,2,-999.0000,5,    205.5,1, 11.5250,   -999.0,9,  -999.00,9,  -999.00,9,  -999.00,9,  -999.0,-999.000
     33KB177_1,  PRS2,     2,  3,     21,     21,2,20060125,1201, 22.7532,-157.9895, 4742,     10,      7.6,  23.3546,  35.2732,2,  35.2755,2,    210.2,1, 23.3530,   -999.0,9,  -999.00,9,  -999.00,9,  -999.00,9,  -999.0,-999.000
     33KB177_1,  PRS2,     2,  3,     20,     20,2,20060125,1201, 22.7532,-157.9895, 4742,      6,      7.7,  23.3546,  35.2731,2,  35.2783,2,    210.1,1, 23.3531,   -999.0,9,  -999.00,9,  -999.00,9,  -999.00,9,  -999.0,-999.000
     33KB177_1,  PRS2,     2,  3,     22,     22,2,20060125,1201, 22.7532,-157.9895, 4742,      8,      7.9,  23.3548,  35.2731,2,  35.2712,2,    210.3,1, 23.3532,   -999.0,9,  -999.00,9,  -999.00,9,  -999.00,9,  -999.0,-999.000
     33KB177_1,  PRS2,     2,  3,     24,     24,2,20060125,1201, 22.7532,-157.9895, 4742,      9,      8.1,  23.3549,  35.2731,2,  35.2698,2,    209.6,1, 23.3532,   -999.0,9,  -999.00,9,  -999.00,9,  -999.00,9,  -999.0,-999.000
     33KB177_1,  PRS2,     2,  3,     23,     23,2,20060125,1201, 22.7532,-157.9895, 4742,      7,      8.2,  23.3547,  35.2731,2,  35.2720,2,    210.3,1, 23.3530,   -999.0,9,  -999.00,9,  -999.00,9,  -999.00,9,  -999.0,-999.000
     33KB177_1,  PRS2,     2,  3,     17,     17,2,20060125,1201, 22.7532,-157.9895, 4742,     24,     24.7,  23.3549,  35.2735,2,  35.2694,2,    210.6,1, 23.3498,   -999.0,9,  -999.00,9,  -999.00,9,  -999.00,9,  -999.0,-999.000
     33KB177_1,  PRS2,     2,  3,     19,     19,2,20060125,1201, 22.7532,-157.9895, 4742,     25,     25.1,  23.3543,  35.2732,2,  35.2702,2,    210.7,1, 23.3491,   -999.0,9,  -999.00,9,  -999.00,9,  -999.00,9,  -999.0,-999.000
     33KB177_1,  PRS2,     2,  3,     18,     18,2,20060125,1201, 22.7532,-157.9895, 4742,     27,     25.3,  23.3545,  35.2734,2,  35.2765,2,    210.7,1, 23.3492,   -999.0,9,  -999.00,9,  -999.00,9,  -999.00,9,  -999.0,-999.000
     33KB177_1,  PRS2,     2,  3,     16,     16,2,20060125,1201, 22.7532,-157.9895, 4742,     47,     46.9,  23.3619,  35.2739,2,  35.2922,4,    210.6,1, 23.3522,   -999.0,9,  -999.00,9,  -999.00,9,  -999.00,9,  -999.0,-999.000
     33KB177_1,  PRS2,     2,  3,     15,     15,2,20060125,1201, 22.7532,-157.9895, 4742,     47,     46.9,  23.3622,  35.2737,2,  35.2753,2,    210.6,1, 23.3525,   -999.0,9,  -999.00,9,  -999.00,9,  -999.00,9,  -999.0,-999.000
     33KB177_1,  PRS2,     2,  3,     14,     14,2,20060125,1201, 22.7532,-157.9895, 4742,     46,     46.9,  23.3625,  35.2734,2,  35.2721,2,    210.4,1, 23.3528,   -999.0,9,  -999.00,9,  -999.00,9,  -999.00,9,  -999.0,-999.000
     33KB177_1,  PRS2,     2,  3,     13,     13,2,20060125,1201, 22.7532,-157.9895, 4742,     73,     74.1,  23.3744,  35.2754,2,  35.2761,2,    210.2,1, 23.3591,   -999.0,9,  -999.00,9,  -999.00,9,  -999.00,9,  -999.0,-999.000
     33KB177_1,  PRS2,     2,  3,     12,     12,2,20060125,1201, 22.7532,-157.9895, 4742,     75,     74.6,  23.3740,  35.2754,2,  35.2737,2,    210.0,1, 23.3586,   -999.0,9,  -999.00,9,  -999.00,9,  -999.00,9,  -999.0,-999.000
     33KB177_1,  PRS2,     2,  3,     11,     11,2,20060125,1201, 22.7532,-157.9895, 4742,     75,     74.8,  23.3741,  35.2756,2,  35.2745,2,    209.9,1, 23.3586,   -999.0,9,  -999.00,9,  -999.00,9,  -999.00,9,  -999.0,-999.000
     33KB177_1,  PRS2,     2,  3,     10,     10,2,20060125,1201, 22.7532,-157.9895, 4742,     99,    100.0,  23.3830,  35.2782,2,  35.2749,2,    209.9,1, 23.3624,   -999.0,9,  -999.00,9,  -999.00,9,  -999.00,9,  -999.0,-999.000
     33KB177_1,  PRS2,     2,  3,      9,      9,2,20060125,1201, 22.7532,-157.9895, 4742,     99,    100.0,  23.3830,  35.2782,2,  35.2806,2,    209.8,1, 23.3624,   -999.0,9,  -999.00,9,  -999.00,9,  -999.00,9,  -999.0,-999.000
     33KB177_1,  PRS2,     2,  3,      8,      8,2,20060125,1201, 22.7532,-157.9895, 4742,    101,    100.4,  23.3819,  35.2781,2,  35.2757,2,    209.9,1, 23.3611,   -999.0,9,  -999.00,9,  -999.00,9,  -999.00,9,  -999.0,-999.000
     33KB177_1,  PRS2,     2,  3,      5,      5,2,20060125,1201, 22.7532,-157.9895, 4742,    124,    125.2,  23.2688,  35.3461,2,  35.3504,2,    209.9,1, 23.2430,   -999.0,9,  -999.00,9,  -999.00,9,  -999.00,9,  -999.0,-999.000
     33KB177_1,  PRS2,     2,  3,      6,      6,2,20060125,1201, 22.7532,-157.9895, 4742,    127,    125.4,  23.2696,  35.3458,2,  35.3405,2,    210.0,1, 23.2438,   -999.0,9,  -999.00,9,  -999.00,9,  -999.00,9,  -999.0,-999.000
     33KB177_1,  PRS2,     2,  3,      7,      7,2,20060125,1201, 22.7532,-157.9895, 4742,    125,    125.5,  23.2711,  35.3459,2,  35.3437,2,    210.1,1, 23.2452,   -999.0,9,  -999.00,9,  -999.00,9,  -999.00,9,  -999.0,-999.000
     33KB177_1,  PRS2,     2,  3,      4,      4,2,20060125,1201, 22.7532,-157.9895, 4742,    149,    149.8,  23.0101,  35.3559,2,  35.3581,2,    209.1,1, 22.9795,   -999.0,9,  -999.00,9,  -999.00,9,  -999.00,9,  -999.0,-999.000
     33KB177_1,  PRS2,     2,  3,      3,      3,2,20060125,1201, 22.7532,-157.9895, 4742,    175,    175.7,  21.4264,  35.1660,2,  35.1656,2,    204.3,1, 21.3923,   -999.0,9,  -999.00,9,  -999.00,9,  -999.00,9,  -999.0,-999.000
     33KB177_1,  PRS2,     2,  3,      2,      2,2,20060125,1201, 22.7532,-157.9895, 4742,    598,    598.0,   6.1845,  34.0383,2,  34.0376,2,    100.1,1,  6.1314,   -999.0,9,  -999.00,9,  -999.00,9,  -999.00,9,  -999.0,-999.000
     33KB177_1,  PRS2,     2,  3,      1,      1,2,20060125,1201, 22.7532,-157.9895, 4742,   1020,   1019.5,   4.0171,  34.4827,2,  34.4830,2,     41.0,1,  3.9397,   -999.0,9,  -999.00,9,  -999.00,9,  -999.00,9,  -999.0,-999.000
     33KB177_1,  PRS2,     2,  4,     20,     20,2,20060125,1424, 22.7507,-157.9813, 4737,      8,      8.9,  23.3505,  35.2709,2,  35.2708,2,    210.5,1, 23.3487,   -999.0,9,  -999.00,9,  -999.00,9,  -999.00,9,  -999.0,-999.000
     33KB177_1,  PRS2,     2,  4,     19,     19,2,20060125,1424, 22.7507,-157.9813, 4737,     24,     25.3,  23.3531,  35.2707,2,  35.2767,2,    210.5,1, 23.3478,   -999.0,9,  -999.00,9,  -999.00,9,  -999.00,9,  -999.0,-999.000
     33KB177_1,  PRS2,     2,  4,     18,     18,2,20060125,1424, 22.7507,-157.9813, 4737,     45,     45.2,  23.3547,  35.2706,2,  35.2676,2,    210.4,1, 23.3454,   -999.0,9,  -999.00,9,  -999.00,9,  -999.00,9,  -999.0,-999.000
     33KB177_1,  PRS2,     2,  4,     17,     17,2,20060125,1424, 22.7507,-157.9813, 4737,     72,     74.0,  23.3656,  35.2721,2,  35.2712,2,    210.4,1, 23.3503,   -999.0,9,  -999.00,9,  -999.00,9,  -999.00,9,  -999.0,-999.000
     33KB177_1,  PRS2,     2,  4,     16,     16,2,20060125,1424, 22.7507,-157.9813, 4737,    101,    101.4,  23.3734,  35.2737,2,  35.2779,2,    210.4,1, 23.3524,   -999.0,9,  -999.00,9,  -999.00,9,  -999.00,9,  -999.0,-999.000
     33KB177_1,  PRS2,     2,  4,     15,     15,2,20060125,1424, 22.7507,-157.9813, 4737,    126,    125.0,  23.2635,  35.3463,2,  35.3482,2,    209.6,1, 23.2377,   -999.0,9,  -999.00,9,  -999.00,9,  -999.00,9,  -999.0,-999.000
     33KB177_1,  PRS2,     2,  4,     14,     14,2,20060125,1424, 22.7507,-157.9813, 4737,    151,    151.6,  22.9333,  35.3542,2,  35.3575,2,    209.6,1, 22.9023,   -999.0,9,  -999.00,9,  -999.00,9,  -999.00,9,  -999.0,-999.000
     33KB177_1,  PRS2,     2,  4,     13,     13,2,20060125,1424, 22.7507,-157.9813, 4737,    175,    175.6,  20.5380,  35.0958,2,  35.0984,2,    197.3,1, 20.5049,   -999.0,9,  -999.00,9,  -999.00,9,  -999.00,9,  -999.0,-999.000
     33KB177_1,  PRS2,     2,  4,     12,     12,2,20060125,1424, 22.7507,-157.9813, 4737,    196,    197.8,  19.2682,  34.9904,2,-999.0000,5,    198.3,1, 19.2326,   -999.0,9,  -999.00,9,  -999.00,9,  -999.00,9,  -999.0,-999.000
     33KB177_1,  PRS2,     2,  4,     11,     11,2,20060125,1424, 22.7507,-157.9813, 4737,    250,    249.9,  17.0750,  34.7233,2,-999.0000,5,    198.3,1, 17.0336,   -999.0,9,  -999.00,9,  -999.00,9,  -999.00,9,  -999.0,-999.000
     33KB177_1,  PRS2,     2,  4,      9,      9,2,20060125,1424, 22.7507,-157.9813, 4737,    348,    349.1,  11.4516,  34.2164,2,-999.0000,5,    203.1,1, 11.4075,   -999.0,9,  -999.00,9,  -999.00,9,  -999.00,9,  -999.0,-999.000
     33KB177_1,  PRS2,     2,  4,     10,     10,2,20060125,1424, 22.7507,-157.9813, 4737,    349,    349.4,  11.4530,  34.2162,2,-999.0000,5,    203.0,1, 11.4089,   -999.0,9,  -999.00,9,  -999.00,9,  -999.00,9,  -999.0,-999.000
     33KB177_1,  PRS2,     2,  4,      8,      8,2,20060125,1424, 22.7507,-157.9813, 4737,    550,    549.7,   6.6287,  34.0393,2,  34.0380,2,    112.0,1,  6.5783,   -999.0,9,  -999.00,9,  -999.00,9,  -999.00,9,  -999.0,-999.000
     33KB177_1,  PRS2,     2,  4,      7,      7,2,20060125,1424, 22.7507,-157.9813, 4737,   1019,   1020.1,   3.9905,  34.4689,2,  34.4685,2,     39.9,1,  3.9133,   -999.0,9,  -999.00,9,  -999.00,9,  -999.00,9,  -999.0,-999.000
     33KB177_1,  PRS2,     2,  4,      3,      3,2,20060125,1424, 22.7507,-157.9813, 4737,   1020,   1020.1,   3.9920,  34.4682,2,  34.4701,2,     39.8,1,  3.9148,   -999.0,9,  -999.00,9,  -999.00,9,  -999.00,9,  -999.0,-999.000
     33KB177_1,  PRS2,     2,  4,      1,      1,2,20060125,1424, 22.7507,-157.9813, 4737,   1020,   1020.2,   3.9954,  34.4688,2,  34.4718,2,     39.8,1,  3.9181,   -999.0,9,  -999.00,9,  -999.00,9,  -999.00,9,  -999.0,-999.000
     33KB177_1,  PRS2,     2,  4,      6,      6,2,20060125,1424, 22.7507,-157.9813, 4737,   1020,   1020.3,   3.9896,  34.4688,2,  34.4701,2,     39.9,1,  3.9124,   -999.0,9,  -999.00,9,  -999.00,9,  -999.00,9,  -999.0,-999.000
     33KB177_1,  PRS2,     2,  4,      2,      2,2,20060125,1424, 22.7507,-157.9813, 4737,   1020,   1020.3,   3.9947,  34.4683,2,  34.4687,2,     39.8,1,  3.9175,   -999.0,9,  -999.00,9,  -999.00,9,  -999.00,9,  -999.0,-999.000
     33KB177_1,  PRS2,     2,  4,      5,      5,2,20060125,1424, 22.7507,-157.9813, 4737,   1022,   1020.4,   3.9890,  34.4686,2,  34.4691,2,     39.9,1,  3.9118,   -999.0,9,  -999.00,9,  -999.00,9,  -999.00,9,  -999.0,-999.000
     33KB177_1,  PRS2,     2,  4,      4,      4,2,20060125,1424, 22.7507,-157.9813, 4737,   1021,   1020.5,   3.9885,  34.4682,2,  34.4687,2,     39.8,1,  3.9113,   -999.0,9,  -999.00,9,  -999.00,9,  -999.00,9,  -999.0,-999.000