BOTTLE,20090923WHPSIOMYS
EXPOCODE,SECT_ID,STNNBR,CASTNO,SAMPNO,BTLNBR,BTLNBR_FLAG_W,DATE,TIME,LATITUDE,LONGITUDE,DEPTH,CTDRAW,CTDPRS,CTDTMP,CTDSAL,CTDSAL_FLAG_W,SALNTY,SALNTY_FLAG_W,CTDOXY,CTDOXY_FLAG_W,THETA,OXYGEN,OXYGEN_FLAG_W,SILCAT,SILCAT_FLAG_W,NO2+NO3,NO2+NO3_FLAG_W,PHSPHT,PHSPHT_FLAG_W,REVPRS,REVTMP
,,,,,,,,,,,,,DBAR,ITS-90,PSS-78,,PSS-78,,UMOL/KG,,ITS-90,UMOL/KG,,UMOL/KG,,UMOL/KG,,UMOL/KG,,DBAR,DEG C
     33KB177_1,  PRS2,     2, 12,     23,     23,2,20060126,1905, 22.7542,-158.1072, 4774,      5,      5.1,  23.6791,  35.2523,2,  35.2489,2,    208.2,1, 23.6780,   -999.0,9,  -999.00,9,  -999.00,9,  -999.00,9,  -999.0,-999.000
     33KB177_1,  PRS2,     2, 12,     24,     24,2,20060126,1905, 22.7542,-158.1072, 4774,      6,      5.4,  23.6792,  35.2524,2,-999.0000,5,    208.3,1, 23.6781,   -999.0,9,  -999.00,9,  -999.00,9,  -999.00,9,  -999.0,-999.000
     33KB177_1,  PRS2,     2, 12,     22,     22,2,20060126,1905, 22.7542,-158.1072, 4774,     11,     13.2,  23.6807,  35.2523,2,-999.0000,5,    208.1,1, 23.6780,   -999.0,9,  -999.00,9,  -999.00,9,  -999.00,9,  -999.0,-999.000
     33KB177_1,  PRS2,     2, 12,     21,     21,2,20060126,1905, 22.7542,-158.1072, 4774,     25,     25.1,  23.6807,  35.2523,2,-999.0000,5,    207.5,1, 23.6755,   -999.0,9,  -999.00,9,  -999.00,9,  -999.00,9,  -999.0,-999.000
     33KB177_1,  PRS2,     2, 12,     18,     18,2,20060126,1905, 22.7542,-158.1072, 4774,     33,     34.1,  23.6827,  35.2526,2,-999.0000,5,    207.7,1, 23.6756,   -999.0,9,  -999.00,9,  -999.00,9,  -999.00,9,  -999.0,-999.000
     33KB177_1,  PRS2,     2, 12,     19,     19,2,20060126,1905, 22.7542,-158.1072, 4774,     34,     34.4,  23.6827,  35.2525,2,-999.0000,5,    207.5,1, 23.6755,   -999.0,9,  -999.00,9,  -999.00,9,  -999.00,9,  -999.0,-999.000
     33KB177_1,  PRS2,     2, 12,     20,     20,2,20060126,1905, 22.7542,-158.1072, 4774,     37,     35.4,  23.6826,  35.2523,2,  35.2505,2,    207.4,1, 23.6752,   -999.0,9,  -999.00,9,  -999.00,9,  -999.00,9,  -999.0,-999.000
     33KB177_1,  PRS2,     2, 12,     17,     17,2,20060126,1905, 22.7542,-158.1072, 4774,     41,     41.2,  23.6823,  35.2524,2,  35.2499,2,    208.4,1, 23.6738,   -999.0,9,  -999.00,9,  -999.00,9,  -999.00,9,  -999.0,-999.000
     33KB177_1,  PRS2,     2, 12,     16,     16,2,20060126,1905, 22.7542,-158.1072, 4774,     42,     42.2,  23.6825,  35.2523,2,  35.2572,2,    208.4,1, 23.6737,   -999.0,9,  -999.00,9,  -999.00,9,  -999.00,9,  -999.0,-999.000
     33KB177_1,  PRS2,     2, 12,     15,     15,2,20060126,1905, 22.7542,-158.1072, 4774,     59,     60.0,  23.6856,  35.2523,2,-999.0000,5,    208.4,1, 23.6731,   -999.0,9,  -999.00,9,  -999.00,9,  -999.00,9,  -999.0,-999.000
     33KB177_1,  PRS2,     2, 12,     13,     13,2,20060126,1905, 22.7542,-158.1072, 4774,     76,     75.7,  23.6884,  35.2518,2,-999.0000,5,    208.5,1, 23.6726,   -999.0,9,  -999.00,9,  -999.00,9,  -999.00,9,  -999.0,-999.000
     33KB177_1,  PRS2,     2, 12,     14,     14,2,20060126,1905, 22.7542,-158.1072, 4774,     76,     76.1,  23.6888,  35.2520,2,  35.2566,2,    208.4,1, 23.6729,   -999.0,9,  -999.00,9,  -999.00,9,  -999.00,9,  -999.0,-999.000
     33KB177_1,  PRS2,     2, 12,     12,     12,2,20060126,1905, 22.7542,-158.1072, 4774,    100,     98.9,  23.6835,  35.2519,2,  35.2495,2,    208.5,1, 23.6629,   -999.0,9,  -999.00,9,  -999.00,9,  -999.00,9,  -999.0,-999.000
     33KB177_1,  PRS2,     2, 12,     11,     11,2,20060126,1905, 22.7542,-158.1072, 4774,     99,     99.5,  23.6836,  35.2519,2,  35.2595,2,    208.4,1, 23.6628,   -999.0,9,  -999.00,9,  -999.00,9,  -999.00,9,  -999.0,-999.000
     33KB177_1,  PRS2,     2, 12,     10,     10,2,20060126,1905, 22.7542,-158.1072, 4774,    126,    125.1,  22.9232,  35.2242,2,  35.2225,2,    202.6,1, 22.8977,   -999.0,9,  -999.00,9,  -999.00,9,  -999.00,9,  -999.0,-999.000
     33KB177_1,  PRS2,     2, 12,      9,      9,3,20060126,1905, 22.7542,-158.1072, 4774,    124,    125.1,  22.9172,  35.2248,2,-999.0000,5,    201.8,1, 22.8917,   -999.0,9,  -999.00,9,  -999.00,9,  -999.00,9,  -999.0,-999.000
     33KB177_1,  PRS2,     2, 12,      8,      8,2,20060126,1905, 22.7542,-158.1072, 4774,    148,    149.2,  21.3950,  35.1461,2,  35.1447,2,    196.7,1, 21.3661,   -999.0,9,  -999.00,9,  -999.00,9,  -999.00,9,  -999.0,-999.000
     33KB177_1,  PRS2,     2, 12,      7,      7,2,20060126,1905, 22.7542,-158.1072, 4774,    149,    149.8,  21.3642,  35.1527,2,  35.1435,2,    196.7,1, 21.3351,   -999.0,9,  -999.00,9,  -999.00,9,  -999.00,9,  -999.0,-999.000
     33KB177_1,  PRS2,     2, 12,      6,      6,3,20060126,1905, 22.7542,-158.1072, 4774,    173,    174.3,  20.1428,  35.0478,2,  35.0744,4,    191.2,1, 20.1104,   -999.0,9,  -999.00,9,  -999.00,9,  -999.00,9,  -999.0,-999.000
     33KB177_1,  PRS2,     2, 12,      5,      5,2,20060126,1905, 22.7542,-158.1072, 4774,    177,    174.9,  20.1025,  35.0420,2,  35.0443,2,    190.7,1, 20.0701,   -999.0,9,  -999.00,9,  -999.00,9,  -999.00,9,  -999.0,-999.000
     33KB177_1,  PRS2,     2, 12,      4,      4,2,20060126,1905, 22.7542,-158.1072, 4774,    248,    248.9,  15.9657,  34.6188,2,  34.6099,2,    202.4,1, 15.9264,   -999.0,9,  -999.00,9,  -999.00,9,  -999.00,9,  -999.0,-999.000
     33KB177_1,  PRS2,     2, 12,      3,      3,2,20060126,1905, 22.7542,-158.1072, 4774,    501,    499.6,   7.7588,  34.0597,2,  34.0582,2,    136.2,1,  7.7088,   -999.0,9,  -999.00,9,  -999.00,9,  -999.00,9,  -999.0,-999.000
     33KB177_1,  PRS2,     2, 12,      2,      2,2,20060126,1905, 22.7542,-158.1072, 4774,    550,    550.1,   6.5544,  34.0431,2,  34.0456,2,    101.7,1,  6.5042,   -999.0,9,  -999.00,9,  -999.00,9,  -999.00,9,  -999.0,-999.000
     33KB177_1,  PRS2,     2, 12,      1,   8001,2,20060126,1905, 22.7542,-158.1072, 4774,   1023,   1020.6,   4.0133,  34.4857,2,  34.4846,2,     42.6,1,  3.9359,   -999.0,9,  -999.00,9,  -999.00,9,  -999.00,9,  -999.0,-999.000
     33KB177_1,  PRS2,     2, 13,     24,     24,2,20060126,2112, 22.7517,-158.0848, 4766,      9,      8.2,  23.6967,  35.2514,2,  35.2528,2,    157.4,4, 23.6950,   -999.0,9,  -999.00,9,  -999.00,9,  -999.00,9,  -999.0,-999.000
     33KB177_1,  PRS2,     2, 13,     23,     23,2,20060126,2112, 22.7517,-158.0848, 4766,      8,      8.2,  23.6968,  35.2514,2,-999.0000,5,    157.1,4, 23.6951,   -999.0,9,  -999.00,9,  -999.00,9,  -999.00,9,  -999.0,-999.000
     33KB177_1,  PRS2,     2, 13,     21,     21,2,20060126,2112, 22.7517,-158.0848, 4766,     25,     26.3,  23.6894,  35.2515,2,-999.0000,5,    208.7,1, 23.6839,   -999.0,9,  -999.00,9,  -999.00,9,  -999.00,9,  -999.0,-999.000
     33KB177_1,  PRS2,     2, 13,     22,     22,2,20060126,2112, 22.7517,-158.0848, 4766,     25,     26.5,  23.6898,  35.2514,2,  35.2505,2,    195.5,4, 23.6842,   -999.0,9,  -999.00,9,  -999.00,9,  -999.00,9,  -999.0,-999.000
     33KB177_1,  PRS2,     2, 13,     20,     20,2,20060126,2112, 22.7517,-158.0848, 4766,     46,     45.7,  23.6870,  35.2513,2,  35.2499,2,    206.9,1, 23.6774,   -999.0,9,  -999.00,9,  -999.00,9,  -999.00,9,  -999.0,-999.000
     33KB177_1,  PRS2,     2, 13,     19,     19,2,20060126,2112, 22.7517,-158.0848, 4766,     45,     45.8,  23.6870,  35.2513,2,-999.0000,5,    206.9,1, 23.6774,   -999.0,9,  -999.00,9,  -999.00,9,  -999.00,9,  -999.0,-999.000
     33KB177_1,  PRS2,     2, 13,     18,     18,2,20060126,2112, 22.7517,-158.0848, 4766,     59,     59.5,  23.6863,  35.2518,2,  35.2505,2,    208.7,1, 23.6739,   -999.0,9,  -999.00,9,  -999.00,9,  -999.00,9,  -999.0,-999.000
     33KB177_1,  PRS2,     2, 13,     17,     17,2,20060126,2112, 22.7517,-158.0848, 4766,     73,     74.0,  23.6889,  35.2519,2,  35.2517,2,    208.5,1, 23.6735,   -999.0,9,  -999.00,9,  -999.00,9,  -999.00,9,  -999.0,-999.000
     33KB177_1,  PRS2,     2, 13,     16,     16,2,20060126,2112, 22.7517,-158.0848, 4766,     74,     74.2,  23.6889,  35.2518,2,-999.0000,5,    208.6,1, 23.6734,   -999.0,9,  -999.00,9,  -999.00,9,  -999.00,9,  -999.0,-999.000
     33KB177_1,  PRS2,     2, 13,     15,     15,2,20060126,2112, 22.7517,-158.0848, 4766,     84,     82.9,  23.6895,  35.2517,2,  35.2509,2,    208.6,1, 23.6722,   -999.0,9,  -999.00,9,  -999.00,9,  -999.00,9,  -999.0,-999.000
     33KB177_1,  PRS2,     2, 13,     13,     13,2,20060126,2112, 22.7517,-158.0848, 4766,    100,     99.3,  23.6827,  35.2519,2,-999.0000,5,    208.5,1, 23.6620,   -999.0,9,  -999.00,9,  -999.00,9,  -999.00,9,  -999.0,-999.000
     33KB177_1,  PRS2,     2, 13,     14,     14,2,20060126,2112, 22.7517,-158.0848, 4766,     99,     99.7,  23.6828,  35.2517,2,  35.2546,2,    208.4,1, 23.6620,   -999.0,9,  -999.00,9,  -999.00,9,  -999.00,9,  -999.0,-999.000
     33KB177_1,  PRS2,     2, 13,     12,     12,2,20060126,2112, 22.7517,-158.0848, 4766,    117,    115.2,  23.0830,  35.2263,2,  35.2314,2,    203.7,1, 23.0594,   -999.0,9,  -999.00,9,  -999.00,9,  -999.00,9,  -999.0,-999.000
     33KB177_1,  PRS2,     2, 13,     11,     11,2,20060126,2112, 22.7517,-158.0848, 4766,    124,    124.7,  22.1213,  35.1887,2,  35.1892,2,    200.2,1, 22.0965,   -999.0,9,  -999.00,9,  -999.00,9,  -999.00,9,  -999.0,-999.000
     33KB177_1,  PRS2,     2, 13,      9,      9,2,20060126,2112, 22.7517,-158.0848, 4766,    151,    150.4,  21.3724,  35.1483,2,-999.0000,5,    196.2,1, 21.3432,   -999.0,9,  -999.00,9,  -999.00,9,  -999.00,9,  -999.0,-999.000
     33KB177_1,  PRS2,     2, 13,     10,     10,2,20060126,2112, 22.7517,-158.0848, 4766,    150,    150.5,  21.3829,  35.1481,2,  35.1447,2,    196.3,1, 21.3537,   -999.0,9,  -999.00,9,  -999.00,9,  -999.00,9,  -999.0,-999.000
     33KB177_1,  PRS2,     2, 13,      8,      8,2,20060126,2112, 22.7517,-158.0848, 4766,    176,    176.7,  20.1247,  35.0482,2,  35.0476,2,    190.3,1, 20.0919,   -999.0,9,  -999.00,9,  -999.00,9,  -999.00,9,  -999.0,-999.000
     33KB177_1,  PRS2,     2, 13,      6,      6,2,20060126,2112, 22.7517,-158.0848, 4766,    203,    201.9,  18.9239,  34.9592,2,  34.9778,2,    199.7,1, 18.8880,   -999.0,9,  -999.00,9,  -999.00,9,  -999.00,9,  -999.0,-999.000
     33KB177_1,  PRS2,     2, 13,      7,      7,2,20060126,2112, 22.7517,-158.0848, 4766,    202,    202.4,  18.9107,  34.9562,2,-999.0000,5,    199.5,1, 18.8747,   -999.0,9,  -999.00,9,  -999.00,9,  -999.00,9,  -999.0,-999.000
     33KB177_1,  PRS2,     2, 13,      5,      5,2,20060126,2112, 22.7517,-158.0848, 4766,    303,    302.4,  13.2190,  34.3093,2,-999.0000,5,    203.6,1, 13.1771,   -999.0,9,  -999.00,9,  -999.00,9,  -999.00,9,  -999.0,-999.000
     33KB177_1,  PRS2,     2, 13,      4,      4,2,20060126,2112, 22.7517,-158.0848, 4766,    602,    601.3,   6.3081,  34.0450,2,  34.0466,2,     96.1,1,  6.2542,   -999.0,9,  -999.00,9,  -999.00,9,  -999.00,9,  -999.0,-999.000
     33KB177_1,  PRS2,     2, 13,      3,      3,2,20060126,2112, 22.7517,-158.0848, 4766,    799,    799.8,   4.7328,  34.3313,2,  34.3293,2,     27.2,1,  4.6692,   -999.0,9,  -999.00,9,  -999.00,9,  -999.00,9,  -999.0,-999.000
     33KB177_1,  PRS2,     2, 13,      1,   8001,2,20060126,2112, 22.7517,-158.0848, 4766,   1020,   1019.4,   4.0222,  34.4862,2,  34.4852,2,     42.2,1,  3.9448,   -999.0,9,  -999.00,9,  -999.00,9,  -999.00,9,  -999.0,-999.000
     33KB177_1,  PRS2,     2, 13,      2,      2,2,20060126,2112, 22.7517,-158.0848, 4766,   1019,   1019.7,   4.0211,  34.4863,2,-999.0000,5,     42.2,1,  3.9436,   -999.0,9,  -999.00,9,  -999.00,9,  -999.00,9,  -999.0,-999.000
     33KB177_1,  PRS2,     2, 14,     24,     24,2,20060127,0323, 22.7445,-157.9308, 4721,      7,      8.3,  23.6837,  35.2517,2,  35.2499,2,    206.6,1, 23.6819,   -999.0,9,  -999.00,9,  -999.00,9,  -999.00,9,  -999.0,-999.000
     33KB177_1,  PRS2,     2, 14,     23,     23,2,20060127,0323, 22.7445,-157.9308, 4721,      7,      8.3,  23.6836,  35.2517,2,-999.0000,5,    206.6,1, 23.6819,   -999.0,9,  -999.00,9,  -999.00,9,  -999.00,9,  -999.0,-999.000
     33KB177_1,  PRS2,     2, 14,     21,     21,2,20060127,0323, 22.7445,-157.9308, 4721,     23,     24.7,  23.6881,  35.2510,2,-999.0000,5,    206.7,1, 23.6829,   -999.0,9,  -999.00,9,  -999.00,9,  -999.00,9,  -999.0,-999.000
     33KB177_1,  PRS2,     2, 14,     22,     22,2,20060127,0323, 22.7445,-157.9308, 4721,     23,     24.8,  23.6879,  35.2509,2,  35.2483,2,    206.6,1, 23.6827,   -999.0,9,  -999.00,9,  -999.00,9,  -999.00,9,  -999.0,-999.000
     33KB177_1,  PRS2,     2, 14,     20,     20,2,20060127,0323, 22.7445,-157.9308, 4721,     42,     44.1,  23.6739,  35.2476,2,  35.2450,2,    207.1,1, 23.6647,   -999.0,9,  -999.00,9,  -999.00,9,  -999.00,9,  -999.0,-999.000
     33KB177_1,  PRS2,     2, 14,     19,     19,2,20060127,0323, 22.7445,-157.9308, 4721,     62,     62.4,  23.6509,  35.2455,2,  35.2452,2,    208.5,1, 23.6379,   -999.0,9,  -999.00,9,  -999.00,9,  -999.00,9,  -999.0,-999.000
     33KB177_1,  PRS2,     2, 14,     18,     18,2,20060127,0323, 22.7445,-157.9308, 4721,     76,     76.3,  23.6540,  35.2468,2,  35.2442,2,    207.8,1, 23.6381,   -999.0,9,  -999.00,9,  -999.00,9,  -999.00,9,  -999.0,-999.000
     33KB177_1,  PRS2,     2, 14,     17,     17,2,20060127,0323, 22.7445,-157.9308, 4721,     86,     84.8,  23.6556,  35.2470,2,  35.2459,2,    208.1,1, 23.6379,   -999.0,9,  -999.00,9,  -999.00,9,  -999.00,9,  -999.0,-999.000
     33KB177_1,  PRS2,     2, 14,     16,     16,2,20060127,0323, 22.7445,-157.9308, 4721,    101,    100.7,  23.6473,  35.2533,2,  35.2509,2,    207.7,1, 23.6263,   -999.0,9,  -999.00,9,  -999.00,9,  -999.00,9,  -999.0,-999.000
     33KB177_1,  PRS2,     2, 14,     15,     15,2,20060127,0323, 22.7445,-157.9308, 4721,    115,    115.5,  23.6094,  35.2723,2,  35.2733,2,    207.1,1, 23.5853,   -999.0,9,  -999.00,9,  -999.00,9,  -999.00,9,  -999.0,-999.000
     33KB177_1,  PRS2,     2, 14,     14,     14,2,20060127,0323, 22.7445,-157.9308, 4721,    125,    125.5,  23.2262,  35.2528,2,  35.2601,2,    203.5,1, 23.2004,   -999.0,9,  -999.00,9,  -999.00,9,  -999.00,9,  -999.0,-999.000
     33KB177_1,  PRS2,     2, 14,     13,     13,3,20060127,0323, 22.7445,-157.9308, 4721,    134,    135.4,  22.5819,  35.2155,2,  35.2280,3,    202.6,1, 22.5546,   -999.0,9,  -999.00,9,  -999.00,9,  -999.00,9,  -999.0,-999.000
     33KB177_1,  PRS2,     2, 14,     12,     12,2,20060127,0323, 22.7445,-157.9308, 4721,    147,    147.8,  21.7592,  35.1810,2,  35.1843,2,    198.5,1, 21.7302,   -999.0,9,  -999.00,9,  -999.00,9,  -999.00,9,  -999.0,-999.000
     33KB177_1,  PRS2,     2, 14,     11,     11,2,20060127,0323, 22.7445,-157.9308, 4721,    148,    148.3,  21.6678,  35.1808,2,-999.0000,5,    198.0,1, 21.6387,   -999.0,9,  -999.00,9,  -999.00,9,  -999.00,9,  -999.0,-999.000
     33KB177_1,  PRS2,     2, 14,      9,      9,2,20060127,0323, 22.7445,-157.9308, 4721,    173,    173.3,  20.6643,  35.1054,2,-999.0000,5,    191.2,1, 20.6315,   -999.0,9,  -999.00,9,  -999.00,9,  -999.00,9,  -999.0,-999.000
     33KB177_1,  PRS2,     2, 14,     10,     10,2,20060127,0323, 22.7445,-157.9308, 4721,    174,    173.4,  20.6621,  35.1034,2,  35.1083,2,    191.1,1, 20.6292,   -999.0,9,  -999.00,9,  -999.00,9,  -999.00,9,  -999.0,-999.000
     33KB177_1,  PRS2,     2, 14,      7,      7,2,20060127,0323, 22.7445,-157.9308, 4721,    204,    203.6,  18.3505,  34.9005,2,  34.9111,2,    196.2,1, 18.3150,   -999.0,9,  -999.00,9,  -999.00,9,  -999.00,9,  -999.0,-999.000
     33KB177_1,  PRS2,     2, 14,      8,      8,2,20060127,0323, 22.7445,-157.9308, 4721,    204,    204.0,  18.2775,  34.8948,2,-999.0000,5,    195.9,1, 18.2421,   -999.0,9,  -999.00,9,  -999.00,9,  -999.00,9,  -999.0,-999.000
     33KB177_1,  PRS2,     2, 14,      6,      6,2,20060127,0323, 22.7445,-157.9308, 4721,    300,    301.5,  13.6092,  34.3943,2,-999.0000,5,    205.8,1, 13.5665,   -999.0,9,  -999.00,9,  -999.00,9,  -999.00,9,  -999.0,-999.000
     33KB177_1,  PRS2,     2, 14,      5,      5,2,20060127,0323, 22.7445,-157.9308, 4721,    301,    301.5,  13.6106,  34.3942,2,  34.3941,2,    205.9,1, 13.5679,   -999.0,9,  -999.00,9,  -999.00,9,  -999.00,9,  -999.0,-999.000
     33KB177_1,  PRS2,     2, 14,      2,   8002,2,20060127,0323, 22.7445,-157.9308, 4721,    500,    500.1,   7.9804,  34.0665,2,  34.0713,2,    142.8,1,  7.9296,   -999.0,9,  -999.00,9,  -999.00,9,  -999.00,9,  -999.0,-999.000
     33KB177_1,  PRS2,     2, 14,      4,      4,2,20060127,0323, 22.7445,-157.9308, 4721,    501,    500.7,   7.9772,  34.0668,2,-999.0000,5,    143.4,1,  7.9263,   -999.0,9,  -999.00,9,  -999.00,9,  -999.00,9,  -999.0,-999.000
     33KB177_1,  PRS2,     2, 14,      3,   8003,2,20060127,0323, 22.7445,-157.9308, 4721,    501,    500.7,   7.9743,  34.0667,2,-999.0000,5,    143.1,1,  7.9234,   -999.0,9,  -999.00,9,  -999.00,9,  -999.00,9,  -999.0,-999.000
     33KB177_1,  PRS2,     2, 14,      1,   8001,2,20060127,0323, 22.7445,-157.9308, 4721,    774,    771.2,   4.5641,  34.2785,2,  34.2803,2,     22.7,1,  4.5040,   -999.0,9,  -999.00,9,  -999.00,9,  -999.00,9,  -999.0,-999.000