BOTTLE,20090923WHPSIOMYS
EXPOCODE,SECT_ID,STNNBR,CASTNO,SAMPNO,BTLNBR,BTLNBR_FLAG_W,DATE,TIME,LATITUDE,LONGITUDE,DEPTH,CTDRAW,CTDPRS,CTDTMP,CTDSAL,CTDSAL_FLAG_W,SALNTY,SALNTY_FLAG_W,CTDOXY,CTDOXY_FLAG_W,THETA,OXYGEN,OXYGEN_FLAG_W,SILCAT,SILCAT_FLAG_W,NO2+NO3,NO2+NO3_FLAG_W,PHSPHT,PHSPHT_FLAG_W,REVPRS,REVTMP
,,,,,,,,,,,,,DBAR,ITS-90,PSS-78,,PSS-78,,UMOL/KG,,ITS-90,UMOL/KG,,UMOL/KG,,UMOL/KG,,UMOL/KG,,DBAR,DEG C
     33KB188_1,  PRS2,     2,  6,     23,   8023,2,20061210,0256, 22.7498,-158.0007, 1020,      7,      7.6,  24.9056,  35.2568,2,  35.2562,2,    208.3,1, 24.9039,   -999.0,9,  -999.00,9,  -999.00,9,  -999.00,9,  -999.0,-999.000
     33KB188_1,  PRS2,     2,  6,     24,   8024,2,20061210,0256, 22.7498,-158.0007, 1020,      8,      7.9,  24.9056,  35.2568,2,  35.2591,2,    208.3,1, 24.9038,   -999.0,9,  -999.00,9,  -999.00,9,  -999.00,9,  -999.0,-999.000
     33KB188_1,  PRS2,     2,  6,     22,   8022,2,20061210,0256, 22.7498,-158.0007, 1020,     17,     17.0,  24.9075,  35.2571,2,  35.2582,2,    208.3,1, 24.9039,   -999.0,9,  -999.00,9,  -999.00,9,  -999.00,9,  -999.0,-999.000
     33KB188_1,  PRS2,     2,  6,     20,   8020,2,20061210,0256, 22.7498,-158.0007, 1020,     24,     25.2,  24.9160,  35.2562,2,  35.2550,2,    208.1,1, 24.9106,   -999.0,9,  -999.00,9,  -999.00,9,  -999.00,9,  -999.0,-999.000
     33KB188_1,  PRS2,     2,  6,     21,   8021,2,20061210,0256, 22.7498,-158.0007, 1020,     26,     25.6,  24.9161,  35.2561,2,  35.2546,2,    208.2,1, 24.9106,   -999.0,9,  -999.00,9,  -999.00,9,  -999.00,9,  -999.0,-999.000
     33KB188_1,  PRS2,     2,  6,     19,   8019,2,20061210,0256, 22.7498,-158.0007, 1020,     36,     34.9,  24.9181,  35.2557,2,  35.2656,2,    208.0,1, 24.9106,   -999.0,9,  -999.00,9,  -999.00,9,  -999.00,9,  -999.0,-999.000
     33KB188_1,  PRS2,     2,  6,     18,   8018,2,20061210,0256, 22.7498,-158.0007, 1020,     34,     35.1,  24.9183,  35.2556,2,  35.2885,4,    207.9,1, 24.9107,   -999.0,9,  -999.00,9,  -999.00,9,  -999.00,9,  -999.0,-999.000
     33KB188_1,  PRS2,     2,  6,     17,   8017,2,20061210,0256, 22.7498,-158.0007, 1020,     45,     45.6,  24.9203,  35.2559,2,  35.2607,2,    207.8,1, 24.9104,   -999.0,9,  -999.00,9,  -999.00,9,  -999.00,9,  -999.0,-999.000
     33KB188_1,  PRS2,     2,  6,     15,   8015,2,20061210,0256, 22.7498,-158.0007, 1020,     45,     45.7,  24.9200,  35.2559,2,  35.2653,2,    207.7,1, 24.9101,   -999.0,9,  -999.00,9,  -999.00,9,  -999.00,9,  -999.0,-999.000
     33KB188_1,  PRS2,     2,  6,     16,   8016,2,20061210,0256, 22.7498,-158.0007, 1020,     46,     45.8,  24.9202,  35.2560,2,-999.0000,5,    207.7,1, 24.9103,   -999.0,9,  -999.00,9,  -999.00,9,  -999.00,9,  -999.0,-999.000
     33KB188_1,  PRS2,     2,  6,     14,   8014,2,20061210,0256, 22.7498,-158.0007, 1020,     59,     59.8,  24.9204,  35.2557,2,  35.2572,2,    207.6,1, 24.9074,   -999.0,9,  -999.00,9,  -999.00,9,  -999.00,9,  -999.0,-999.000
     33KB188_1,  PRS2,     2,  6,     12,   8012,2,20061210,0256, 22.7498,-158.0007, 1020,     74,     74.9,  24.9145,  35.2546,2,-999.0000,5,    207.6,1, 24.8983,   -999.0,9,  -999.00,9,  -999.00,9,  -999.00,9,  -999.0,-999.000
     33KB188_1,  PRS2,     2,  6,     13,   8025,2,20061210,0256, 22.7498,-158.0007, 1020,     75,     75.0,  24.9148,  35.2545,2,  35.2562,2,    207.6,1, 24.8986,   -999.0,9,  -999.00,9,  -999.00,9,  -999.00,9,  -999.0,-999.000
     33KB188_1,  PRS2,     2,  6,     11,   8011,2,20061210,0256, 22.7498,-158.0007, 1020,     75,     75.0,  24.9144,  35.2545,2,  35.2548,2,    207.6,1, 24.8982,   -999.0,9,  -999.00,9,  -999.00,9,  -999.00,9,  -999.0,-999.000
     33KB188_1,  PRS2,     2,  6,      9,   8009,2,20061210,0256, 22.7498,-158.0007, 1020,     98,     98.6,  23.7797,  35.2215,2,  35.2416,4,    214.7,1, 23.7590,   -999.0,9,  -999.00,9,  -999.00,9,  -999.00,9,  -999.0,-999.000
     33KB188_1,  PRS2,     2,  6,     10,   8010,2,20061210,0256, 22.7498,-158.0007, 1020,     99,     98.9,  23.6555,  35.2214,2,-999.0000,5,    213.8,1, 23.6349,   -999.0,9,  -999.00,9,  -999.00,9,  -999.00,9,  -999.0,-999.000
     33KB188_1,  PRS2,     2,  6,      8,   8008,2,20061210,0256, 22.7498,-158.0007, 1020,    124,    124.2,  21.8803,  35.1550,2,-999.0000,5,    202.1,1, 21.8558,   -999.0,9,  -999.00,9,  -999.00,9,  -999.00,9,  -999.0,-999.000
     33KB188_1,  PRS2,     2,  6,      7,   8026,2,20061210,0256, 22.7498,-158.0007, 1020,    124,    124.5,  21.8778,  35.1552,2,  35.1549,2,    201.8,1, 21.8533,   -999.0,9,  -999.00,9,  -999.00,9,  -999.00,9,  -999.0,-999.000
     33KB188_1,  PRS2,     2,  6,      6,   8006,2,20061210,0256, 22.7498,-158.0007, 1020,    152,    148.8,  20.0920,  35.0697,2,-999.0000,5,    199.5,1, 20.0644,   -999.0,9,  -999.00,9,  -999.00,9,  -999.00,9,  -999.0,-999.000
     33KB188_1,  PRS2,     2,  6,      5,   8005,2,20061210,0256, 22.7498,-158.0007, 1020,    148,    149.3,  20.0854,  35.0682,2,  35.0659,2,    199.5,1, 20.0577,   -999.0,9,  -999.00,9,  -999.00,9,  -999.00,9,  -999.0,-999.000
     33KB188_1,  PRS2,     2,  6,      3,   8003,2,20061210,0256, 22.7498,-158.0007, 1020,    176,    176.0,  18.3879,  34.8800,2,  34.8780,2,    198.3,1, 18.3573,   -999.0,9,  -999.00,9,  -999.00,9,  -999.00,9,  -999.0,-999.000
     33KB188_1,  PRS2,     2,  6,      4,   8004,2,20061210,0256, 22.7498,-158.0007, 1020,    175,    176.2,  18.3927,  34.8801,2,-999.0000,5,    198.4,1, 18.3621,   -999.0,9,  -999.00,9,  -999.00,9,  -999.00,9,  -999.0,-999.000
     33KB188_1,  PRS2,     2,  6,      2,   8002,2,20061210,0256, 22.7498,-158.0007, 1020,    541,    540.7,   7.1369,  34.0633,2,  34.0631,2,    120.2,1,  7.0852,   -999.0,9,  -999.00,9,  -999.00,9,  -999.00,9,  -999.0,-999.000
     33KB188_1,  PRS2,     2,  6,      1,   8001,2,20061210,0256, 22.7498,-158.0007, 1020,   1022,   1019.9,   3.8748,  34.4883,2,  34.4885,2,     42.3,1,  3.7985,   -999.0,9,  -999.00,9,  -999.00,9,  -999.00,9,  -999.0,-999.000
     33KB188_1,  PRS2,     2,  7,     21,   8021,2,20061210,0557, 22.7508,-157.9970, 1020,      6,      6.3,  24.8962,  35.2558,2,  35.2554,2,    207.8,1, 24.8949,   -999.0,9,  -999.00,9,  -999.00,9,  -999.00,9,  -999.0,-999.000
     33KB188_1,  PRS2,     2,  7,     22,   8022,2,20061210,0557, 22.7508,-157.9970, 1020,      4,      6.5,  24.8968,  35.2557,2,-999.0000,5,    207.7,1, 24.8954,   -999.0,9,  -999.00,9,  -999.00,9,  -999.00,9,  -999.0,-999.000
     33KB188_1,  PRS2,     2,  7,     20,   8020,2,20061210,0557, 22.7508,-157.9970, 1020,     23,     23.4,  24.9023,  35.2558,2,-999.0000,5,    207.8,1, 24.8972,   -999.0,9,  -999.00,9,  -999.00,9,  -999.00,9,  -999.0,-999.000
     33KB188_1,  PRS2,     2,  7,     19,   8019,2,20061210,0557, 22.7508,-157.9970, 1020,     24,     23.4,  24.9022,  35.2558,2,  35.2548,2,    207.9,1, 24.8972,   -999.0,9,  -999.00,9,  -999.00,9,  -999.00,9,  -999.0,-999.000
     33KB188_1,  PRS2,     2,  7,     18,   8018,2,20061210,0557, 22.7508,-157.9970, 1020,     44,     42.8,  24.9094,  35.2554,2,-999.0000,5,    208.0,1, 24.9002,   -999.0,9,  -999.00,9,  -999.00,9,  -999.00,9,  -999.0,-999.000
     33KB188_1,  PRS2,     2,  7,     17,   8017,2,20061210,0557, 22.7508,-157.9970, 1020,     42,     42.9,  24.9097,  35.2555,2,  35.2582,2,    208.1,1, 24.9005,   -999.0,9,  -999.00,9,  -999.00,9,  -999.00,9,  -999.0,-999.000
     33KB188_1,  PRS2,     2,  7,     16,   8016,2,20061210,0557, 22.7508,-157.9970, 1020,     60,     61.0,  24.9159,  35.2547,2,  35.2532,2,    208.2,1, 24.9027,   -999.0,9,  -999.00,9,  -999.00,9,  -999.00,9,  -999.0,-999.000
     33KB188_1,  PRS2,     2,  7,     14,   8014,2,20061210,0557, 22.7508,-157.9970, 1020,     73,     73.2,  24.9173,  35.2548,2,  35.2544,2,    208.2,1, 24.9015,   -999.0,9,  -999.00,9,  -999.00,9,  -999.00,9,  -999.0,-999.000
     33KB188_1,  PRS2,     2,  7,     15,   8015,2,20061210,0557, 22.7508,-157.9970, 1020,     72,     73.3,  24.9171,  35.2548,2,-999.0000,5,    208.2,1, 24.9013,   -999.0,9,  -999.00,9,  -999.00,9,  -999.00,9,  -999.0,-999.000
     33KB188_1,  PRS2,     2,  7,     13,   8025,2,20061210,0557, 22.7508,-157.9970, 1020,     85,     86.7,  24.8977,  35.2543,2,  35.2576,2,    208.3,1, 24.8790,   -999.0,9,  -999.00,9,  -999.00,9,  -999.00,9,  -999.0,-999.000
     33KB188_1,  PRS2,     2,  7,     12,   8012,2,20061210,0557, 22.7508,-157.9970, 1020,    100,     99.2,  23.0709,  35.1988,2,-999.0000,5,    217.7,1, 23.0506,   -999.0,9,  -999.00,9,  -999.00,9,  -999.00,9,  -999.0,-999.000
     33KB188_1,  PRS2,     2,  7,     11,   8011,2,20061210,0557, 22.7508,-157.9970, 1020,     98,     99.9,  23.0701,  35.1987,2,  35.1969,2,    217.5,1, 23.0497,   -999.0,9,  -999.00,9,  -999.00,9,  -999.00,9,  -999.0,-999.000
     33KB188_1,  PRS2,     2,  7,     10,   8010,2,20061210,0557, 22.7508,-157.9970, 1020,    116,    114.5,  21.9636,  35.1564,2,  35.1577,2,    206.3,1, 21.9410,   -999.0,9,  -999.00,9,  -999.00,9,  -999.00,9,  -999.0,-999.000
     33KB188_1,  PRS2,     2,  7,      9,   8009,2,20061210,0557, 22.7508,-157.9970, 1020,    126,    125.1,  21.8644,  35.1561,2,-999.0000,5,    204.0,1, 21.8397,   -999.0,9,  -999.00,9,  -999.00,9,  -999.00,9,  -999.0,-999.000
     33KB188_1,  PRS2,     2,  7,      8,   8008,2,20061210,0557, 22.7508,-157.9970, 1020,    124,    125.3,  21.8615,  35.1562,2,  35.1530,2,    203.6,1, 21.8368,   -999.0,9,  -999.00,9,  -999.00,9,  -999.00,9,  -999.0,-999.000
     33KB188_1,  PRS2,     2,  7,      7,   8026,2,20061210,0557, 22.7508,-157.9970, 1020,    133,    133.7,  21.3939,  35.1739,2,  35.1740,2,    205.4,1, 21.3680,   -999.0,9,  -999.00,9,  -999.00,9,  -999.00,9,  -999.0,-999.000
     33KB188_1,  PRS2,     2,  7,      6,   8006,2,20061210,0557, 22.7508,-157.9970, 1020,    152,    150.2,  20.7081,  35.1251,2,-999.0000,5,    202.1,1, 20.6797,   -999.0,9,  -999.00,9,  -999.00,9,  -999.00,9,  -999.0,-999.000
     33KB188_1,  PRS2,     2,  7,      5,   8005,2,20061210,0557, 22.7508,-157.9970, 1020,    150,    150.8,  20.7066,  35.1244,2,  35.1222,2,    201.9,1, 20.6780,   -999.0,9,  -999.00,9,  -999.00,9,  -999.00,9,  -999.0,-999.000
     33KB188_1,  PRS2,     2,  7,      4,   8004,2,20061210,0557, 22.7508,-157.9970, 1020,    176,    175.0,  19.4818,  35.0083,2,-999.0000,5,    198.1,1, 19.4500,   -999.0,9,  -999.00,9,  -999.00,9,  -999.00,9,  -999.0,-999.000
     33KB188_1,  PRS2,     2,  7,      3,   8003,2,20061210,0557, 22.7508,-157.9970, 1020,    172,    175.7,  19.4437,  35.0063,2,  35.0201,2,    197.9,1, 19.4119,   -999.0,9,  -999.00,9,  -999.00,9,  -999.00,9,  -999.0,-999.000
     33KB188_1,  PRS2,     2,  7,      2,   8002,2,20061210,0557, 22.7508,-157.9970, 1020,    521,    520.8,   7.0934,  34.0628,2,  34.0682,2,    122.8,1,  7.0439,   -999.0,9,  -999.00,9,  -999.00,9,  -999.00,9,  -999.0,-999.000
     33KB188_1,  PRS2,     2,  7,      1,   8001,2,20061210,0557, 22.7508,-157.9970, 1020,   1017,   1020.3,   3.8998,  34.4858,2,  34.4974,4,     41.9,1,  3.8232,   -999.0,9,  -999.00,9,  -999.00,9,  -999.00,9,  -999.0,-999.000
     33KB188_1,  PRS2,     2,  8,     23,   8023,2,20061210,0856, 22.7483,-157.9835, 1020,      7,      7.7,  24.8834,  35.2424,2,  35.2444,2,    206.8,2, 24.8818,   -999.0,5,  -999.00,9,  -999.00,9,  -999.00,9,  -999.0,-999.000
     33KB188_1,  PRS2,     2,  8,     22,   8022,2,20061210,0856, 22.7483,-157.9835, 1020,      7,      7.7,  24.8840,  35.2426,2,  35.2426,2,    206.8,2, 24.8824,    206.8,2,  -999.00,9,  -999.00,9,  -999.00,9,  -999.0,-999.000
     33KB188_1,  PRS2,     2,  8,     21,   8021,2,20061210,0856, 22.7483,-157.9835, 1020,     15,     17.3,  24.8857,  35.2428,2,  35.2448,2,    206.8,2, 24.8820,   -999.0,5,  -999.00,9,  -999.00,9,  -999.00,9,  -999.0,-999.000
     33KB188_1,  PRS2,     2,  8,     20,   8020,2,20061210,0856, 22.7483,-157.9835, 1020,     25,     24.7,  24.8962,  35.2439,2,  35.2507,2,    206.9,2, 24.8909,   -999.0,5,  -999.00,9,  -999.00,9,  -999.00,9,  -999.0,-999.000
     33KB188_1,  PRS2,     2,  8,     19,   8019,2,20061210,0856, 22.7483,-157.9835, 1020,     26,     24.7,  24.8971,  35.2440,2,  35.2457,2,    207.0,2, 24.8918,    207.1,2,  -999.00,9,  -999.00,9,  -999.00,9,  -999.0,-999.000
     33KB188_1,  PRS2,     2,  8,     18,   8018,2,20061210,0856, 22.7483,-157.9835, 1020,     37,     36.2,  24.9032,  35.2443,2,  35.2465,2,    207.1,2, 24.8954,   -999.0,5,  -999.00,9,  -999.00,9,  -999.00,9,  -999.0,-999.000
     33KB188_1,  PRS2,     2,  8,     17,   8017,2,20061210,0856, 22.7483,-157.9835, 1020,     46,     46.7,  24.9048,  35.2438,2,  35.2450,2,    207.1,2, 24.8947,    206.7,2,  -999.00,9,  -999.00,9,  -999.00,9,  -999.0,-999.000
     33KB188_1,  PRS2,     2,  8,     16,   8016,2,20061210,0856, 22.7483,-157.9835, 1020,     61,     61.3,  24.9039,  35.2450,2,  35.2455,2,    207.2,2, 24.8906,   -999.0,5,  -999.00,9,  -999.00,9,  -999.00,9,  -999.0,-999.000
     33KB188_1,  PRS2,     2,  8,     15,   8015,2,20061210,0856, 22.7483,-157.9835, 1020,     76,     75.7,  24.8465,  35.2507,2,  35.2457,2,    207.9,2, 24.8302,    208.9,2,  -999.00,9,  -999.00,9,  -999.00,9,  -999.0,-999.000
     33KB188_1,  PRS2,     2,  8,     14,   8014,2,20061210,0856, 22.7483,-157.9835, 1020,     85,     86.3,  22.6678,  35.1803,2,  35.1798,2,    212.4,2, 22.6504,    211.3,2,  -999.00,9,  -999.00,9,  -999.00,9,  -999.0,-999.000
     33KB188_1,  PRS2,     2,  8,     13,   8025,2,20061210,0856, 22.7483,-157.9835, 1020,     91,     91.0,  22.3562,  35.1728,2,  35.1685,2,    207.8,2, 22.3380,   -999.0,5,  -999.00,9,  -999.00,9,  -999.00,9,  -999.0,-999.000
     33KB188_1,  PRS2,     2,  8,     12,   8012,2,20061210,0856, 22.7483,-157.9835, 1020,    102,    101.2,  21.9944,  35.1607,2,  35.1636,2,    204.8,2, 21.9744,    205.4,2,  -999.00,9,  -999.00,9,  -999.00,9,  -999.0,-999.000
     33KB188_1,  PRS2,     2,  8,     11,   8011,2,20061210,0856, 22.7483,-157.9835, 1020,    110,    109.9,  21.8287,  35.1722,2,  35.1746,2,    205.4,2, 21.8071,   -999.0,5,  -999.00,9,  -999.00,9,  -999.00,9,  -999.0,-999.000
     33KB188_1,  PRS2,     2,  8,     10,   8010,2,20061210,0856, 22.7483,-157.9835, 1020,    116,    115.9,  21.6896,  35.1798,2,  35.1772,2,    206.0,2, 21.6669,    205.7,2,  -999.00,9,  -999.00,9,  -999.00,9,  -999.0,-999.000
     33KB188_1,  PRS2,     2,  8,      9,   8009,2,20061210,0856, 22.7483,-157.9835, 1020,    125,    126.6,  21.0096,  35.1623,2,  35.1648,2,    202.6,2, 20.9853,    203.5,2,  -999.00,9,  -999.00,9,  -999.00,9,  -999.0,-999.000
     33KB188_1,  PRS2,     2,  8,      8,   8008,2,20061210,0856, 22.7483,-157.9835, 1020,    132,    131.2,  20.9189,  35.1494,2,  35.1480,2,    201.9,2, 20.8939,   -999.0,5,  -999.00,9,  -999.00,9,  -999.00,9,  -999.0,-999.000
     33KB188_1,  PRS2,     2,  8,      7,   8026,2,20061210,0856, 22.7483,-157.9835, 1020,    150,    152.0,  19.7569,  35.0371,2,  35.0413,2,    197.3,2, 19.7290,    198.1,2,  -999.00,9,  -999.00,9,  -999.00,9,  -999.0,-999.000
     33KB188_1,  PRS2,     2,  8,      6,   8006,2,20061210,0856, 22.7483,-157.9835, 1020,    166,    165.6,  18.7077,  34.9180,2,  34.9252,2,    198.0,2, 18.6785,    198.5,2,  -999.00,9,  -999.00,9,  -999.00,9,  -999.0,-999.000
     33KB188_1,  PRS2,     2,  8,      5,   8005,2,20061210,0856, 22.7483,-157.9835, 1020,    176,    176.9,  17.6806,  34.7991,2,  34.8027,2,    198.0,2, 17.6507,    197.2,2,  -999.00,9,  -999.00,9,  -999.00,9,  -999.0,-999.000
     33KB188_1,  PRS2,     2,  8,      4,   8004,2,20061210,0856, 22.7483,-157.9835, 1020,    201,    200.9,  15.4017,  34.5382,2,  34.5459,2,    198.6,2, 15.3709,    198.0,2,  -999.00,9,  -999.00,9,  -999.00,9,  -999.0,-999.000
     33KB188_1,  PRS2,     2,  8,      3,   8003,2,20061210,0856, 22.7483,-157.9835, 1020,    551,    551.0,   6.6971,  34.0562,2,  34.0560,2,    113.9,2,  6.6462,    112.7,2,  -999.00,9,  -999.00,9,  -999.00,9,  -999.0,-999.000
     33KB188_1,  PRS2,     2,  8,      2,   8002,2,20061210,0856, 22.7483,-157.9835, 1020,    786,    786.1,   4.7245,  34.3038,2,  34.3027,2,     26.7,2,  4.6621,     26.4,2,  -999.00,9,  -999.00,9,  -999.00,9,  -999.0,-999.000
     33KB188_1,  PRS2,     2,  8,      1,   8001,2,20061210,0856, 22.7483,-157.9835, 1020,   1021,   1021.5,   3.9364,  34.4807,2,  34.4809,2,     40.8,2,  3.8595,     41.4,2,  -999.00,9,  -999.00,9,  -999.00,9,  -999.0,-999.000