BOTTLE,20090923WHPSIOMYS
EXPOCODE,SECT_ID,STNNBR,CASTNO,SAMPNO,BTLNBR,BTLNBR_FLAG_W,DATE,TIME,LATITUDE,LONGITUDE,DEPTH,CTDRAW,CTDPRS,CTDTMP,CTDSAL,CTDSAL_FLAG_W,SALNTY,SALNTY_FLAG_W,CTDOXY,CTDOXY_FLAG_W,THETA,OXYGEN,OXYGEN_FLAG_W,SILCAT,SILCAT_FLAG_W,NO2+NO3,NO2+NO3_FLAG_W,PHSPHT,PHSPHT_FLAG_W,REVPRS,REVTMP
,,,,,,,,,,,,,DBAR,ITS-90,PSS-78,,PSS-78,,UMOL/KG,,ITS-90,UMOL/KG,,UMOL/KG,,UMOL/KG,,UMOL/KG,,DBAR,DEG C
     33KB188_1,  PRS2,     2, 16,     24,   8024,2,20061211,0946, 22.7515,-158.0005, 4800,      7,      7.0,  24.7727,  35.2380,2,  35.2369,2,    207.9,2, 24.7712,    207.1,2,  -999.00,9,  -999.00,9,  -999.00,9,  -999.0,-999.000
     33KB188_1,  PRS2,     2, 16,     23,   8023,2,20061211,0946, 22.7515,-158.0005, 4800,     11,     11.5,  24.7722,  35.2376,2,  35.2375,2,    207.9,2, 24.7697,   -999.0,5,  -999.00,9,  -999.00,9,  -999.00,9,  -999.0,-999.000
     33KB188_1,  PRS2,     2, 16,     22,   8022,2,20061211,0946, 22.7515,-158.0005, 4800,     77,     76.4,  24.7977,  35.2455,2,  35.2448,2,    207.6,2, 24.7812,   -999.0,5,  -999.00,9,  -999.00,9,  -999.00,9,  -999.0,-999.000
     33KB188_1,  PRS2,     2, 16,     21,   8021,2,20061211,0946, 22.7515,-158.0005, 4800,     95,     95.8,  23.8013,  35.2278,2,  35.2266,2,    212.1,2, 23.7813,    214.3,2,  -999.00,9,  -999.00,9,  -999.00,9,  -999.0,-999.000
     33KB188_1,  PRS2,     2, 16,     20,   8020,2,20061211,0946, 22.7515,-158.0005, 4800,     99,    100.8,  22.9330,  35.1951,2,  35.1945,2,    213.9,2, 22.9125,   -999.0,5,  -999.00,9,  -999.00,9,  -999.00,9,  -999.0,-999.000
     33KB188_1,  PRS2,     2, 16,     19,   8019,2,20061211,0946, 22.7515,-158.0005, 4800,    127,    126.3,  21.0517,  35.1249,2,  35.1240,2,    202.4,2, 21.0275,   -999.0,5,  -999.00,9,  -999.00,9,  -999.00,9,  -999.0,-999.000
     33KB188_1,  PRS2,     2, 16,     18,   8018,2,20061211,0946, 22.7515,-158.0005, 4800,    176,    176.7,  18.3453,  34.8750,2,  34.8729,2,    196.6,2, 18.3146,   -999.0,5,  -999.00,9,  -999.00,9,  -999.00,9,  -999.0,-999.000
     33KB188_1,  PRS2,     2, 16,     17,   8017,2,20061211,0946, 22.7515,-158.0005, 4800,    402,    401.9,   9.6873,  34.1529,2,  34.1505,2,    182.3,2,  9.6416,   -999.0,5,  -999.00,9,  -999.00,9,  -999.00,9,  -999.0,-999.000
     33KB188_1,  PRS2,     2, 16,     16,   8016,2,20061211,0946, 22.7515,-158.0005, 4800,    556,    557.6,   6.4801,  34.0709,2,  34.0635,3,     98.9,3,  6.4296,    100.4,2,  -999.00,9,  -999.00,9,  -999.00,9,  -999.0,-999.000
     33KB188_1,  PRS2,     2, 16,     15,   8015,2,20061211,0946, 22.7515,-158.0005, 4800,    600,    599.9,   5.6553,  34.0817,2,  34.0815,2,     78.6,2,  5.6045,   -999.0,5,  -999.00,9,  -999.00,9,  -999.00,9,  -999.0,-999.000
     33KB188_1,  PRS2,     2, 16,     14,   8014,2,20061211,0946, 22.7515,-158.0005, 4800,    804,    800.7,   4.6413,  34.3244,2,  34.3235,2,     26.7,2,  4.5782,   -999.0,5,  -999.00,9,  -999.00,9,  -999.00,9,  -999.0,-999.000
     33KB188_1,  PRS2,     2, 16,     13,   8025,2,20061211,0946, 22.7515,-158.0005, 4800,    833,    831.3,   4.5311,  34.3577,2,  34.3580,2,     26.9,2,  4.4660,     27.1,2,  -999.00,9,  -999.00,9,  -999.00,9,  -999.0,-999.000
     33KB188_1,  PRS2,     2, 16,     12,   8012,2,20061211,0946, 22.7515,-158.0005, 4800,   1001,   1000.3,   3.9793,  34.4745,2,  34.4748,2,     40.0,2,  3.9038,   -999.0,5,  -999.00,9,  -999.00,9,  -999.00,9,  -999.0,-999.000
     33KB188_1,  PRS2,     2, 16,     11,   8011,2,20061211,0946, 22.7515,-158.0005, 4800,    997,   1001.4,   3.9787,  34.4742,2,  34.4730,2,     40.0,2,  3.9031,   -999.0,5,  -999.00,9,  -999.00,9,  -999.00,9,  -999.0,-999.000
     33KB188_1,  PRS2,     2, 16,      9,   8009,2,20061211,0946, 22.7515,-158.0005, 4800,   2000,   2000.9,   2.0679,  34.6236,2,-999.0000,5,     87.9,2,  1.9304,   -999.0,5,  -999.00,9,  -999.00,9,  -999.00,9,  -999.0,-999.000
     33KB188_1,  PRS2,     2, 16,     10,   8010,2,20061211,0946, 22.7515,-158.0005, 4800,   2001,   2001.1,   2.0679,  34.6233,2,  34.6244,2,     87.9,2,  1.9304,   -999.0,5,  -999.00,9,  -999.00,9,  -999.00,9,  -999.0,-999.000
     33KB188_1,  PRS2,     2, 16,      8,   8008,2,20061211,0946, 22.7515,-158.0005, 4800,   1999,   2001.3,   2.0675,  34.6237,2,  34.6248,2,     87.9,2,  1.9299,     88.9,2,  -999.00,9,  -999.00,9,  -999.00,9,  -999.0,-999.000
     33KB188_1,  PRS2,     2, 16,      5,   8005,2,20061211,0946, 22.7515,-158.0005, 4800,   3001,   3001.2,   1.5080,  34.6752,2,  34.6749,2,    127.8,2,  1.2909,    128.5,2,  -999.00,9,  -999.00,9,  -999.00,9,  -999.0,-999.000
     33KB188_1,  PRS2,     2, 16,      6,   8006,2,20061211,0946, 22.7515,-158.0005, 4800,   3002,   3001.3,   1.5081,  34.6751,2,  34.6777,2,    127.8,2,  1.2910,   -999.0,5,  -999.00,9,  -999.00,9,  -999.00,9,  -999.0,-999.000
     33KB188_1,  PRS2,     2, 16,      7,   8026,2,20061211,0946, 22.7515,-158.0005, 4800,   3002,   3001.5,   1.5077,  34.6753,2,  34.6759,2,    127.8,2,  1.2906,   -999.0,5,  -999.00,9,  -999.00,9,  -999.00,9,  -999.0,-999.000
     33KB188_1,  PRS2,     2, 16,      3,   8003,2,20061211,0946, 22.7515,-158.0005, 4800,   4000,   4000.4,   1.4531,  34.6900,2,  34.6918,2,    148.2,2,  1.1355,   -999.0,5,  -999.00,9,  -999.00,9,  -999.00,9,  -999.0,-999.000
     33KB188_1,  PRS2,     2, 16,      2,   8002,2,20061211,0946, 22.7515,-158.0005, 4800,   4000,   4000.4,   1.4530,  34.6901,2,  34.6903,2,    148.2,2,  1.1354,    147.8,2,  -999.00,9,  -999.00,9,  -999.00,9,  -999.0,-999.000
     33KB188_1,  PRS2,     2, 16,      4,   8004,2,20061211,0946, 22.7515,-158.0005, 4800,   3999,   4001.0,   1.4532,  34.6901,2,  34.6905,2,    148.1,2,  1.1355,   -999.0,5,  -999.00,9,  -999.00,9,  -999.00,9,  -999.0,-999.000
     33KB188_1,  PRS2,     2, 16,      1,   8001,2,20061211,0946, 22.7515,-158.0005, 4800,   4807,   4802.1,   1.4972,  34.6949,2,  34.6944,2,    155.1,2,  1.0868,    155.6,2,  -999.00,9,  -999.00,9,  -999.00,9,  -999.0,-999.000
     33KB188_1,  PRS2,     6,  1,     13,   8025,2,20061212,0746, 21.8463,-158.3647, 2500,      8,      9.7,  25.1909,  35.1125,2,  35.1112,2,    206.3,1, 25.1888,   -999.0,9,  -999.00,9,  -999.00,9,  -999.00,9,  -999.0,-999.000
     33KB188_1,  PRS2,     6,  1,     12,   8012,2,20061212,0746, 21.8463,-158.3647, 2500,     26,     24.6,  25.1925,  35.1128,2,  35.1156,2,    206.3,1, 25.1871,   -999.0,9,  -999.00,9,  -999.00,9,  -999.00,9,  -999.0,-999.000
     33KB188_1,  PRS2,     6,  1,     11,   8011,2,20061212,0746, 21.8463,-158.3647, 2500,     45,     45.2,  25.1240,  35.1166,2,  35.1173,2,    206.4,1, 25.1142,   -999.0,9,  -999.00,9,  -999.00,9,  -999.00,9,  -999.0,-999.000
     33KB188_1,  PRS2,     6,  1,     10,   8010,2,20061212,0746, 21.8463,-158.3647, 2500,     76,     75.2,  24.7534,  35.1091,2,  35.1140,2,    207.9,1, 24.7372,   -999.0,9,  -999.00,9,  -999.00,9,  -999.00,9,  -999.0,-999.000
     33KB188_1,  PRS2,     6,  1,      9,   8009,2,20061212,0746, 21.8463,-158.3647, 2500,    100,    100.9,  23.5618,  35.0989,2,  35.0982,2,    214.6,1, 23.5409,   -999.0,9,  -999.00,9,  -999.00,9,  -999.00,9,  -999.0,-999.000
     33KB188_1,  PRS2,     6,  1,      8,   8008,2,20061212,0746, 21.8463,-158.3647, 2500,    124,    125.5,  22.2062,  35.1325,2,  35.1291,2,    206.8,1, 22.1813,   -999.0,9,  -999.00,9,  -999.00,9,  -999.00,9,  -999.0,-999.000
     33KB188_1,  PRS2,     6,  1,      7,   8026,2,20061212,0746, 21.8463,-158.3647, 2500,    150,    149.9,  21.1818,  35.1355,2,  35.1390,2,    199.3,1, 21.1529,   -999.0,9,  -999.00,9,  -999.00,9,  -999.00,9,  -999.0,-999.000
     33KB188_1,  PRS2,     6,  1,      6,   8006,2,20061212,0746, 21.8463,-158.3647, 2500,    175,    175.5,  19.7546,  35.0452,2,  35.0490,2,    191.4,1, 19.7225,   -999.0,9,  -999.00,9,  -999.00,9,  -999.00,9,  -999.0,-999.000
     33KB188_1,  PRS2,     6,  1,      5,   8005,2,20061212,0746, 21.8463,-158.3647, 2500,    501,    501.2,   7.1565,  34.0841,2,  34.0842,2,    111.1,1,  7.1086,   -999.0,9,  -999.00,9,  -999.00,9,  -999.00,9,  -999.0,-999.000
     33KB188_1,  PRS2,     6,  1,      4,   8004,2,20061212,0746, 21.8463,-158.3647, 2500,   1001,    999.6,   3.8843,  34.4906,2,  34.4905,2,     46.0,1,  3.8096,   -999.0,9,  -999.00,9,  -999.00,9,  -999.00,9,  -999.0,-999.000
     33KB188_1,  PRS2,     6,  1,      3,   8003,2,20061212,0746, 21.8463,-158.3647, 2500,   1499,   1499.2,   2.7847,  34.5786,2,  34.5783,2,     68.8,1,  2.6794,   -999.0,9,  -999.00,9,  -999.00,9,  -999.00,9,  -999.0,-999.000
     33KB188_1,  PRS2,     6,  1,      2,   8002,2,20061212,0746, 21.8463,-158.3647, 2500,   1999,   2000.2,   2.0920,  34.6261,2,  34.6274,2,     91.9,1,  1.9542,   -999.0,9,  -999.00,9,  -999.00,9,  -999.00,9,  -999.0,-999.000
     33KB188_1,  PRS2,     6,  1,      1,   8001,2,20061212,0746, 21.8463,-158.3647, 2500,   2459,   2458.3,   1.8134,  34.6480,2,  34.6494,2,    105.8,1,  1.6404,   -999.0,9,  -999.00,9,  -999.00,9,  -999.00,9,  -999.0,-999.000
     33KB188_1,  PRS2,    50,  1,      6,   8006,2,20061211,2110, 22.7903,-157.9162,  300,      5,      6.7,  24.7436,  35.2487,2,  35.2497,2,    212.9,1, 24.7421,   -999.0,9,  -999.00,9,  -999.00,9,  -999.00,9,  -999.0,-999.000
     33KB188_1,  PRS2,    50,  1,      5,   8005,2,20061211,2110, 22.7903,-157.9162,  300,     46,     47.3,  24.7508,  35.2476,2,-999.0000,5,    211.3,1, 24.7406,   -999.0,9,  -999.00,9,  -999.00,9,  -999.00,9,  -999.0,-999.000
     33KB188_1,  PRS2,    50,  1,      4,   8004,2,20061211,2110, 22.7903,-157.9162,  300,     76,     77.4,  24.7487,  35.2471,2,-999.0000,5,    207.5,1, 24.7320,   -999.0,9,  -999.00,9,  -999.00,9,  -999.00,9,  -999.0,-999.000
     33KB188_1,  PRS2,    50,  1,      3,   8003,2,20061211,2110, 22.7903,-157.9162,  300,    102,    103.3,  22.6539,  35.1870,2,-999.0000,5,    210.7,1, 22.6330,   -999.0,9,  -999.00,9,  -999.00,9,  -999.00,9,  -999.0,-999.000
     33KB188_1,  PRS2,    50,  1,      2,   8002,2,20061211,2110, 22.7903,-157.9162,  300,    125,    129.1,  21.4073,  35.1558,2,-999.0000,5,    206.2,1, 21.3823,   -999.0,9,  -999.00,9,  -999.00,9,  -999.00,9,  -999.0,-999.000
     33KB188_1,  PRS2,    50,  1,      1,   8001,2,20061211,2110, 22.7903,-157.9162,  300,    151,    152.7,  19.8037,  35.0337,2,  35.0354,2,    195.6,1, 19.7757,   -999.0,9,  -999.00,9,  -999.00,9,  -999.00,9,  -999.0,-999.000
     33KB188_1,  PRS2,    50,  3,      2,   8002,2,20061212,0131, 22.7877,-157.9023,  300,      9,      6.8,  24.7734,  35.2488,2,  35.2495,2,    207.9,1, 24.7720,   -999.0,9,  -999.00,9,  -999.00,9,  -999.00,9,  -999.0,-999.000
     33KB188_1,  PRS2,    50,  3,      1,   8001,2,20061212,0131, 22.7877,-157.9023,  300,    304,    304.1,  12.6153,  34.2933,2,  34.3009,2,    205.8,1, 12.5745,   -999.0,9,  -999.00,9,  -999.00,9,  -999.00,9,  -999.0,-999.000