BOTTLE,20090923WHPSIOMYS
EXPOCODE,SECT_ID,STNNBR,CASTNO,SAMPNO,BTLNBR,BTLNBR_FLAG_W,DATE,TIME,LATITUDE,LONGITUDE,DEPTH,CTDRAW,CTDPRS,CTDTMP,CTDSAL,CTDSAL_FLAG_W,SALNTY,SALNTY_FLAG_W,CTDOXY,CTDOXY_FLAG_W,THETA,OXYGEN,OXYGEN_FLAG_W,SILCAT,SILCAT_FLAG_W,NO2+NO3,NO2+NO3_FLAG_W,PHSPHT,PHSPHT_FLAG_W,REVPRS,REVTMP
,,,,,,,,,,,,,DBAR,ITS-90,PSS-78,,PSS-78,,UMOL/KG,,ITS-90,UMOL/KG,,UMOL/KG,,UMOL/KG,,UMOL/KG,,DBAR,DEG C
     33KB188_1,  PRS2,     2,  9,     21,   8021,2,20061210,1154, 22.7417,-157.9608, 1020,      9,      8.2,  24.8793,  35.2202,2,-999.0000,5,    207.8,1, 24.8775,   -999.0,9,  -999.00,9,  -999.00,9,  -999.00,9,  -999.0,-999.000
     33KB188_1,  PRS2,     2,  9,     22,   8022,2,20061210,1154, 22.7417,-157.9608, 1020,      8,      8.4,  24.8791,  35.2203,2,-999.0000,5,    207.8,1, 24.8773,   -999.0,9,  -999.00,9,  -999.00,9,  -999.00,9,  -999.0,-999.000
     33KB188_1,  PRS2,     2,  9,     20,   8020,2,20061210,1154, 22.7417,-157.9608, 1020,      7,      9.0,  24.8801,  35.2199,2,-999.0000,5,    207.8,1, 24.8781,   -999.0,9,  -999.00,9,  -999.00,9,  -999.00,9,  -999.0,-999.000
     33KB188_1,  PRS2,     2,  9,     19,   8019,2,20061210,1154, 22.7417,-157.9608, 1020,     24,     23.7,  24.8821,  35.2203,2,-999.0000,5,    207.8,1, 24.8770,   -999.0,9,  -999.00,9,  -999.00,9,  -999.00,9,  -999.0,-999.000
     33KB188_1,  PRS2,     2,  9,     17,   8017,2,20061210,1154, 22.7417,-157.9608, 1020,     25,     23.7,  24.8830,  35.2203,2,  35.2192,2,    207.8,1, 24.8779,   -999.0,9,  -999.00,9,  -999.00,9,  -999.00,9,  -999.0,-999.000
     33KB188_1,  PRS2,     2,  9,     18,   8018,2,20061210,1154, 22.7417,-157.9608, 1020,     23,     24.1,  24.8828,  35.2203,2,-999.0000,5,    207.8,1, 24.8776,   -999.0,9,  -999.00,9,  -999.00,9,  -999.00,9,  -999.0,-999.000
     33KB188_1,  PRS2,     2,  9,     16,   8016,2,20061210,1154, 22.7417,-157.9608, 1020,     46,     44.3,  24.8906,  35.2215,2,  35.2197,2,    207.9,1, 24.8810,   -999.0,9,  -999.00,9,  -999.00,9,  -999.00,9,  -999.0,-999.000
     33KB188_1,  PRS2,     2,  9,     14,   8014,2,20061210,1154, 22.7417,-157.9608, 1020,     45,     44.6,  24.8903,  35.2216,2,  35.2197,2,    207.8,1, 24.8806,   -999.0,9,  -999.00,9,  -999.00,9,  -999.00,9,  -999.0,-999.000
     33KB188_1,  PRS2,     2,  9,     15,   8015,2,20061210,1154, 22.7417,-157.9608, 1020,     44,     45.4,  24.8907,  35.2214,2,  35.2195,2,    207.9,1, 24.8809,   -999.0,9,  -999.00,9,  -999.00,9,  -999.00,9,  -999.0,-999.000
     33KB188_1,  PRS2,     2,  9,     12,   8012,2,20061210,1154, 22.7417,-157.9608, 1020,     75,     74.9,  24.8783,  35.2422,2,  35.2392,2,    208.0,1, 24.8621,   -999.0,9,  -999.00,9,  -999.00,9,  -999.00,9,  -999.0,-999.000
     33KB188_1,  PRS2,     2,  9,     11,   8011,2,20061210,1154, 22.7417,-157.9608, 1020,     74,     75.0,  24.8854,  35.2429,2,  35.2400,2,    208.0,1, 24.8692,   -999.0,9,  -999.00,9,  -999.00,9,  -999.00,9,  -999.0,-999.000
     33KB188_1,  PRS2,     2,  9,     13,   8025,2,20061210,1154, 22.7417,-157.9608, 1020,     74,     75.1,  24.8762,  35.2409,2,  35.2396,2,    208.0,1, 24.8599,   -999.0,9,  -999.00,9,  -999.00,9,  -999.00,9,  -999.0,-999.000
     33KB188_1,  PRS2,     2,  9,      9,   8009,2,20061210,1154, 22.7417,-157.9608, 1020,    101,    100.9,  21.9652,  35.1828,2,  35.1798,2,    207.1,1, 21.9453,   -999.0,9,  -999.00,9,  -999.00,9,  -999.00,9,  -999.0,-999.000
     33KB188_1,  PRS2,     2,  9,     10,   8010,2,20061210,1154, 22.7417,-157.9608, 1020,    100,    101.0,  21.9652,  35.1827,2,  35.1811,2,    206.9,1, 21.9453,   -999.0,9,  -999.00,9,  -999.00,9,  -999.00,9,  -999.0,-999.000
     33KB188_1,  PRS2,     2,  9,      8,   8008,2,20061210,1154, 22.7417,-157.9608, 1020,    101,    101.0,  21.9652,  35.1827,2,  35.1841,2,    207.3,1, 21.9453,   -999.0,9,  -999.00,9,  -999.00,9,  -999.00,9,  -999.0,-999.000
     33KB188_1,  PRS2,     2,  9,      5,   8005,2,20061210,1154, 22.7417,-157.9608, 1020,    128,    125.7,  20.8396,  35.1137,2,  35.1165,2,    201.0,1, 20.8157,   -999.0,9,  -999.00,9,  -999.00,9,  -999.00,9,  -999.0,-999.000
     33KB188_1,  PRS2,     2,  9,      7,   8026,2,20061210,1154, 22.7417,-157.9608, 1020,    129,    126.0,  20.7843,  35.1091,2,  35.1171,2,    201.9,1, 20.7604,   -999.0,9,  -999.00,9,  -999.00,9,  -999.00,9,  -999.0,-999.000
     33KB188_1,  PRS2,     2,  9,      6,   8006,2,20061210,1154, 22.7417,-157.9608, 1020,    125,    127.2,  20.7463,  35.1035,2,  35.1185,3,    201.5,1, 20.7222,   -999.0,9,  -999.00,9,  -999.00,9,  -999.00,9,  -999.0,-999.000
     33KB188_1,  PRS2,     2,  9,      4,   8004,3,20061210,1154, 22.7417,-157.9608, 1020,    151,    150.6,  19.9617,  35.0487,2,  35.2221,4,    197.3,1, 19.9339,   -999.0,9,  -999.00,9,  -999.00,9,  -999.00,9,  -999.0,-999.000
     33KB188_1,  PRS2,     2,  9,      3,   8003,2,20061210,1154, 22.7417,-157.9608, 1020,    173,    175.6,  18.8279,  34.9289,2,  34.9410,2,    198.0,1, 18.7968,   -999.0,9,  -999.00,9,  -999.00,9,  -999.00,9,  -999.0,-999.000
     33KB188_1,  PRS2,     2,  9,      2,   8002,2,20061210,1154, 22.7417,-157.9608, 1020,    540,    538.4,   6.4261,  34.0499,2,  34.0497,2,    107.1,1,  6.3776,   -999.0,9,  -999.00,9,  -999.00,9,  -999.00,9,  -999.0,-999.000
     33KB188_1,  PRS2,     2,  9,      1,   8001,2,20061210,1154, 22.7417,-157.9608, 1020,   1022,   1022.7,   3.8717,  34.4882,2,  34.4897,2,     42.1,1,  3.7952,   -999.0,9,  -999.00,9,  -999.00,9,  -999.00,9,  -999.0,-999.000
     33KB188_1,  PRS2,     2, 10,     15,   8015,2,20061210,1425, 22.7500,-157.9502, 1020,      5,      7.5,  24.8737,  35.2267,2,  35.2251,2,    207.2,1, 24.8721,   -999.0,9,  -999.00,9,  -999.00,9,  -999.00,9,  -999.0,-999.000
     33KB188_1,  PRS2,     2, 10,     14,   8014,2,20061210,1425, 22.7500,-157.9502, 1020,     11,     11.5,  24.8749,  35.2266,2,  35.2251,2,    207.2,1, 24.8724,   -999.0,9,  -999.00,9,  -999.00,9,  -999.00,9,  -999.0,-999.000
     33KB188_1,  PRS2,     2, 10,     13,   8025,2,20061210,1425, 22.7500,-157.9502, 1020,     48,     46.4,  24.8810,  35.2264,2,  35.2258,2,    207.2,1, 24.8710,   -999.0,9,  -999.00,9,  -999.00,9,  -999.00,9,  -999.0,-999.000
     33KB188_1,  PRS2,     2, 10,     12,   8012,2,20061210,1425, 22.7500,-157.9502, 1020,     75,     74.6,  24.8976,  35.2439,2,  35.2426,2,    207.6,1, 24.8815,   -999.0,9,  -999.00,9,  -999.00,9,  -999.00,9,  -999.0,-999.000
     33KB188_1,  PRS2,     2, 10,     11,   8011,2,20061210,1425, 22.7500,-157.9502, 1020,     98,     98.6,  22.0959,  35.1677,2,  35.1679,2,    203.9,1, 22.0764,   -999.0,9,  -999.00,9,  -999.00,9,  -999.00,9,  -999.0,-999.000
     33KB188_1,  PRS2,     2, 10,     10,   8010,2,20061210,1425, 22.7500,-157.9502, 1020,    126,    125.1,  21.1923,  35.1408,2,  35.1473,2,    202.6,1, 21.1682,   -999.0,9,  -999.00,9,  -999.00,9,  -999.00,9,  -999.0,-999.000
     33KB188_1,  PRS2,     2, 10,      9,   8009,2,20061210,1425, 22.7500,-157.9502, 1020,    150,    150.7,  20.0824,  35.0601,2,  35.0648,2,    196.6,1, 20.0544,   -999.0,9,  -999.00,9,  -999.00,9,  -999.00,9,  -999.0,-999.000
     33KB188_1,  PRS2,     2, 10,      8,   8008,2,20061210,1425, 22.7500,-157.9502, 1020,    176,    174.5,  19.1283,  34.9635,2,  34.9616,2,    198.1,1, 19.0970,   -999.0,9,  -999.00,9,  -999.00,9,  -999.00,9,  -999.0,-999.000
     33KB188_1,  PRS2,     2, 10,      7,   8026,2,20061210,1425, 22.7500,-157.9502, 1020,    200,    199.3,  17.5293,  34.7813,2,  34.7795,2,    199.3,1, 17.4957,   -999.0,9,  -999.00,9,  -999.00,9,  -999.00,9,  -999.0,-999.000
     33KB188_1,  PRS2,     2, 10,      6,   8006,2,20061210,1425, 22.7500,-157.9502, 1020,    402,    400.5,  10.2240,  34.1809,2,  34.1815,2,    189.8,1, 10.1769,   -999.0,9,  -999.00,9,  -999.00,9,  -999.00,9,  -999.0,-999.000
     33KB188_1,  PRS2,     2, 10,      5,   8005,2,20061210,1425, 22.7500,-157.9502, 1020,    559,    558.1,   6.5429,  34.0508,2,  34.0490,2,    109.9,1,  6.4921,   -999.0,9,  -999.00,9,  -999.00,9,  -999.00,9,  -999.0,-999.000
     33KB188_1,  PRS2,     2, 10,      4,   8004,2,20061210,1425, 22.7500,-157.9502, 1020,    603,    601.1,   5.9641,  34.1059,2,  34.1081,2,     63.0,1,  5.9117,   -999.0,9,  -999.00,9,  -999.00,9,  -999.00,9,  -999.0,-999.000
     33KB188_1,  PRS2,     2, 10,      3,   8003,2,20061210,1425, 22.7500,-157.9502, 1020,    801,    801.1,   4.6194,  34.3293,2,  34.3262,2,     26.9,1,  4.5564,   -999.0,9,  -999.00,9,  -999.00,9,  -999.00,9,  -999.0,-999.000
     33KB188_1,  PRS2,     2, 10,      1,   8001,2,20061210,1425, 22.7500,-157.9502, 1020,   1020,   1021.1,   3.9331,  34.4798,2,  34.4801,2,     41.2,1,  3.8563,   -999.0,9,  -999.00,9,  -999.00,9,  -999.00,9,  -999.0,-999.000
     33KB188_1,  PRS2,     2, 10,      2,   8002,2,20061210,1425, 22.7500,-157.9502, 1020,   1018,   1021.5,   3.9331,  34.4795,2,  34.4815,2,     41.2,1,  3.8562,   -999.0,9,  -999.00,9,  -999.00,9,  -999.00,9,  -999.0,-999.000
     33KB188_1,  PRS2,     2, 11,     18,   8018,2,20061210,1755, 22.7828,-157.9207, 1020,      7,      7.6,  24.8629,  35.2300,2,-999.0000,5,    207.4,1, 24.8612,   -999.0,9,  -999.00,9,  -999.00,9,  -999.00,9,  -999.0,-999.000
     33KB188_1,  PRS2,     2, 11,     17,   8017,2,20061210,1755, 22.7828,-157.9207, 1020,      8,      7.6,  24.8629,  35.2299,2,  35.2296,2,    207.5,1, 24.8613,   -999.0,9,  -999.00,9,  -999.00,9,  -999.00,9,  -999.0,-999.000
     33KB188_1,  PRS2,     2, 11,     16,   8016,2,20061210,1755, 22.7828,-157.9207, 1020,     27,     26.9,  24.8642,  35.2297,2,-999.0000,5,    207.4,1, 24.8583,   -999.0,9,  -999.00,9,  -999.00,9,  -999.00,9,  -999.0,-999.000
     33KB188_1,  PRS2,     2, 11,     15,   8015,2,20061210,1755, 22.7828,-157.9207, 1020,     27,     26.9,  24.8635,  35.2296,2,  35.2327,2,    207.5,1, 24.8577,   -999.0,9,  -999.00,9,  -999.00,9,  -999.00,9,  -999.0,-999.000
     33KB188_1,  PRS2,     2, 11,     14,   8014,2,20061210,1755, 22.7828,-157.9207, 1020,     47,     46.1,  24.8766,  35.2335,2,-999.0000,5,    207.4,1, 24.8667,   -999.0,9,  -999.00,9,  -999.00,9,  -999.00,9,  -999.0,-999.000
     33KB188_1,  PRS2,     2, 11,     13,   8025,2,20061210,1755, 22.7828,-157.9207, 1020,     46,     46.2,  24.8752,  35.2326,2,  35.2306,2,    207.4,1, 24.8652,   -999.0,9,  -999.00,9,  -999.00,9,  -999.00,9,  -999.0,-999.000
     33KB188_1,  PRS2,     2, 11,     12,   8012,2,20061210,1755, 22.7828,-157.9207, 1020,     78,     77.0,  24.8865,  35.2421,2,-999.0000,5,    207.4,1, 24.8699,   -999.0,9,  -999.00,9,  -999.00,9,  -999.00,9,  -999.0,-999.000
     33KB188_1,  PRS2,     2, 11,     11,   8011,2,20061210,1755, 22.7828,-157.9207, 1020,     77,     77.1,  24.8865,  35.2410,2,  35.2387,2,    207.5,1, 24.8698,   -999.0,9,  -999.00,9,  -999.00,9,  -999.00,9,  -999.0,-999.000
     33KB188_1,  PRS2,     2, 11,      9,   8009,2,20061210,1755, 22.7828,-157.9207, 1020,    104,    101.8,  24.7008,  35.2471,2,  35.2465,2,    209.1,1, 24.6789,   -999.0,9,  -999.00,9,  -999.00,9,  -999.00,9,  -999.0,-999.000
     33KB188_1,  PRS2,     2, 11,     10,   8010,2,20061210,1755, 22.7828,-157.9207, 1020,    102,    102.9,  24.7008,  35.2468,2,-999.0000,5,    209.0,1, 24.6786,   -999.0,9,  -999.00,9,  -999.00,9,  -999.00,9,  -999.0,-999.000
     33KB188_1,  PRS2,     2, 11,      8,   8008,2,20061210,1755, 22.7828,-157.9207, 1020,    126,    126.5,  21.4637,  35.1407,2,-999.0000,5,    201.6,1, 21.4391,   -999.0,9,  -999.00,9,  -999.00,9,  -999.00,9,  -999.0,-999.000
     33KB188_1,  PRS2,     2, 11,      7,   8026,2,20061210,1755, 22.7828,-157.9207, 1020,    127,    126.8,  21.4585,  35.1422,2,  35.1398,2,    201.7,1, 21.4339,   -999.0,9,  -999.00,9,  -999.00,9,  -999.00,9,  -999.0,-999.000
     33KB188_1,  PRS2,     2, 11,      5,   8005,2,20061210,1755, 22.7828,-157.9207, 1020,    152,    151.4,  20.1013,  35.0668,2,  35.0687,2,    198.0,1, 20.0732,   -999.0,9,  -999.00,9,  -999.00,9,  -999.00,9,  -999.0,-999.000
     33KB188_1,  PRS2,     2, 11,      6,   8006,2,20061210,1755, 22.7828,-157.9207, 1020,    152,    152.0,  20.1465,  35.0682,2,-999.0000,5,    197.6,1, 20.1182,   -999.0,9,  -999.00,9,  -999.00,9,  -999.00,9,  -999.0,-999.000
     33KB188_1,  PRS2,     2, 11,      4,   8004,3,20061210,1755, 22.7828,-157.9207, 1020,    176,    176.2,  18.7581,  34.9249,2,-999.0000,5,    198.4,1, 18.7270,   -999.0,9,  -999.00,9,  -999.00,9,  -999.00,9,  -999.0,-999.000
     33KB188_1,  PRS2,     2, 11,      3,   8003,2,20061210,1755, 22.7828,-157.9207, 1020,    176,    176.4,  18.7557,  34.9252,2,  34.9231,2,    198.6,1, 18.7245,   -999.0,9,  -999.00,9,  -999.00,9,  -999.00,9,  -999.0,-999.000
     33KB188_1,  PRS2,     2, 11,      2,   8002,2,20061210,1755, 22.7828,-157.9207, 1020,    550,    550.3,   6.2917,  34.0511,2,  34.0523,2,    106.3,1,  6.2426,   -999.0,9,  -999.00,9,  -999.00,9,  -999.00,9,  -999.0,-999.000
     33KB188_1,  PRS2,     2, 11,      1,   8001,2,20061210,1755, 22.7828,-157.9207, 1020,   1018,   1019.1,   3.9422,  34.4783,2,  34.4789,2,     40.8,1,  3.8654,   -999.0,9,  -999.00,9,  -999.00,9,  -999.00,9,  -999.0,-999.000
     33KB188_1,  PRS2,     2, 12,     23,   8023,2,20061210,2147, 22.7843,-157.9077, 1020,     10,      8.8,  24.9157,  35.2296,2,  35.2302,2,    208.4,1, 24.9138,   -999.0,9,  -999.00,9,  -999.00,9,  -999.00,9,  -999.0,-999.000
     33KB188_1,  PRS2,     2, 12,     24,   8024,2,20061210,2147, 22.7843,-157.9077, 1020,      9,      9.1,  24.9161,  35.2297,2,  35.2288,2,    208.4,1, 24.9142,   -999.0,9,  -999.00,9,  -999.00,9,  -999.00,9,  -999.0,-999.000
     33KB188_1,  PRS2,     2, 12,     22,   8022,2,20061210,2147, 22.7843,-157.9077, 1020,     26,     25.7,  24.8655,  35.2280,2,  35.2335,2,    208.1,1, 24.8600,   -999.0,9,  -999.00,9,  -999.00,9,  -999.00,9,  -999.0,-999.000
     33KB188_1,  PRS2,     2, 12,     21,   8021,2,20061210,2147, 22.7843,-157.9077, 1020,     45,     45.5,  24.8634,  35.2298,2,  35.2294,2,    208.1,1, 24.8536,   -999.0,9,  -999.00,9,  -999.00,9,  -999.00,9,  -999.0,-999.000
     33KB188_1,  PRS2,     2, 12,     20,   8020,2,20061210,2147, 22.7843,-157.9077, 1020,     58,     60.6,  24.8668,  35.2364,2,  35.2396,2,    208.0,1, 24.8537,   -999.0,9,  -999.00,9,  -999.00,9,  -999.00,9,  -999.0,-999.000
     33KB188_1,  PRS2,     2, 12,     19,   8019,2,20061210,2147, 22.7843,-157.9077, 1020,     76,     74.8,  24.7203,  35.2421,2,  35.2426,2,    209.2,1, 24.7042,   -999.0,9,  -999.00,9,  -999.00,9,  -999.00,9,  -999.0,-999.000
     33KB188_1,  PRS2,     2, 12,     18,   8018,2,20061210,2147, 22.7843,-157.9077, 1020,     86,     85.7,  22.9337,  35.1952,2,  35.1941,2,    213.7,1, 22.9162,   -999.0,9,  -999.00,9,  -999.00,9,  -999.00,9,  -999.0,-999.000
     33KB188_1,  PRS2,     2, 12,     17,   8017,2,20061210,2147, 22.7843,-157.9077, 1020,    101,    100.4,  22.3567,  35.1705,2,  35.1729,2,    210.4,1, 22.3366,   -999.0,9,  -999.00,9,  -999.00,9,  -999.00,9,  -999.0,-999.000
     33KB188_1,  PRS2,     2, 12,     16,   8016,2,20061210,2147, 22.7843,-157.9077, 1020,    113,    115.1,  21.6959,  35.1470,2,  35.1490,2,    202.9,1, 21.6733,   -999.0,9,  -999.00,9,  -999.00,9,  -999.00,9,  -999.0,-999.000
     33KB188_1,  PRS2,     2, 12,     15,   8015,2,20061210,2147, 22.7843,-157.9077, 1020,    124,    127.3,  20.8358,  35.1381,2,  35.1496,3,    201.8,1, 20.8116,   -999.0,9,  -999.00,9,  -999.00,9,  -999.00,9,  -999.0,-999.000
     33KB188_1,  PRS2,     2, 12,     14,   8014,2,20061210,2147, 22.7843,-157.9077, 1020,    152,    151.7,  19.5147,  35.0065,2,  35.0154,2,    199.4,1, 19.4871,   -999.0,9,  -999.00,9,  -999.00,9,  -999.00,9,  -999.0,-999.000
     33KB188_1,  PRS2,     2, 12,     13,   8025,2,20061210,2147, 22.7843,-157.9077, 1020,    174,    175.4,  17.8755,  34.8220,2,  34.8204,2,    199.6,1, 17.8455,   -999.0,9,  -999.00,9,  -999.00,9,  -999.00,9,  -999.0,-999.000
     33KB188_1,  PRS2,     2, 12,     12,   8012,2,20061210,2147, 22.7843,-157.9077, 1020,    200,    198.6,  17.0117,  34.7179,2,  34.7221,2,    199.3,1, 16.9789,   -999.0,9,  -999.00,9,  -999.00,9,  -999.00,9,  -999.0,-999.000
     33KB188_1,  PRS2,     2, 12,     11,   8011,2,20061210,2147, 22.7843,-157.9077, 1020,    225,    226.7,  15.7860,  34.5796,2,  34.5777,2,    199.0,1, 15.7506,   -999.0,9,  -999.00,9,  -999.00,9,  -999.00,9,  -999.0,-999.000
     33KB188_1,  PRS2,     2, 12,     10,   8010,2,20061210,2147, 22.7843,-157.9077, 1020,    249,    248.9,  14.4242,  34.4677,2,  34.4805,2,    201.8,1, 14.3876,   -999.0,9,  -999.00,9,  -999.00,9,  -999.00,9,  -999.0,-999.000
     33KB188_1,  PRS2,     2, 12,      9,   8009,2,20061210,2147, 22.7843,-157.9077, 1020,    400,    399.5,   9.9882,  34.1671,2,  34.1638,2,    189.3,1,  9.9419,   -999.0,9,  -999.00,9,  -999.00,9,  -999.00,9,  -999.0,-999.000
     33KB188_1,  PRS2,     2, 12,      8,   8008,2,20061210,2147, 22.7843,-157.9077, 1020,    503,    501.6,   7.4939,  34.0660,2,  34.0756,4,    135.6,1,  7.4447,   -999.0,9,  -999.00,9,  -999.00,9,  -999.00,9,  -999.0,-999.000
     33KB188_1,  PRS2,     2, 12,      7,   8026,2,20061210,2147, 22.7843,-157.9077, 1020,    552,    551.5,   6.5813,  34.0507,2,  34.0490,2,    113.8,1,  6.5309,   -999.0,9,  -999.00,9,  -999.00,9,  -999.00,9,  -999.0,-999.000
     33KB188_1,  PRS2,     2, 12,      6,   8006,2,20061210,2147, 22.7843,-157.9077, 1020,    602,    602.1,   6.0172,  34.0948,2,  34.0966,2,     86.5,1,  5.9645,   -999.0,9,  -999.00,9,  -999.00,9,  -999.00,9,  -999.0,-999.000
     33KB188_1,  PRS2,     2, 12,      5,   8005,2,20061210,2147, 22.7843,-157.9077, 1020,    699,    698.8,   5.0381,  34.2224,2,  34.2252,2,     33.0,1,  4.9815,   -999.0,9,  -999.00,9,  -999.00,9,  -999.00,9,  -999.0,-999.000
     33KB188_1,  PRS2,     2, 12,      4,   8004,2,20061210,2147, 22.7843,-157.9077, 1020,    802,    802.3,   4.5845,  34.3384,2,  34.3374,2,     26.8,1,  4.5216,   -999.0,9,  -999.00,9,  -999.00,9,  -999.00,9,  -999.0,-999.000
     33KB188_1,  PRS2,     2, 12,      3,   8003,2,20061210,2147, 22.7843,-157.9077, 1020,    900,    901.0,   4.2303,  34.4249,2,  34.4257,2,     33.0,1,  4.1613,   -999.0,9,  -999.00,9,  -999.00,9,  -999.00,9,  -999.0,-999.000
     33KB188_1,  PRS2,     2, 12,      1,   8001,2,20061210,2147, 22.7843,-157.9077, 1020,   1018,   1019.1,   3.9195,  34.4820,2,  34.4858,2,     41.1,1,  3.8429,   -999.0,9,  -999.00,9,  -999.00,9,  -999.00,9,  -999.0,-999.000
     33KB188_1,  PRS2,     2, 12,      2,   8002,2,20061210,2147, 22.7843,-157.9077, 1020,   1019,   1019.4,   3.9183,  34.4826,2,  34.4828,2,     41.1,1,  3.8417,   -999.0,9,  -999.00,9,  -999.00,9,  -999.00,9,  -999.0,-999.000