BOTTLE,20090923WHPSIOMYS
#code : jjward hyd_to_exchange.pl 
#original files copied from HTML directory: 20090923
#original HYD file: 33KB188_1_hy.txt   Wed Sep 23 18:00:30 2009
#original SUM file: ../33KB188_1su.txt   Wed Sep 23 18:00:29 2009
EXPOCODE,SECT_ID,STNNBR,CASTNO,SAMPNO,BTLNBR,BTLNBR_FLAG_W,DATE,TIME,LATITUDE,LONGITUDE,DEPTH,CTDRAW,CTDPRS,CTDTMP,CTDSAL,CTDSAL_FLAG_W,SALNTY,SALNTY_FLAG_W,CTDOXY,CTDOXY_FLAG_W,THETA,OXYGEN,OXYGEN_FLAG_W,SILCAT,SILCAT_FLAG_W,NO2+NO3,NO2+NO3_FLAG_W,PHSPHT,PHSPHT_FLAG_W,REVPRS,REVTMP
,,,,,,,,,,,,,DBAR,ITS-90,PSS-78,,PSS-78,,UMOL/KG,,ITS-90,UMOL/KG,,UMOL/KG,,UMOL/KG,,UMOL/KG,,DBAR,DEG C
     33KB188_1,  PRS2,     1,  1,     24,   8024,2,20061208,2257, 21.3437,-158.2737, 1550,      4,      5.4,  25.6864,  34.9971,2,  34.9953,2,    204.1,2, 25.6852,    204.4,2,  -999.00,9,  -999.00,9,  -999.00,9,  -999.0,-999.000
     33KB188_1,  PRS2,     1,  1,     23,   8023,2,20061208,2257, 21.3437,-158.2737, 1550,      6,      5.4,  25.6863,  34.9970,2,  34.9949,2,    204.1,2, 25.6851,    204.8,2,  -999.00,9,  -999.00,9,  -999.00,9,  -999.0,-999.000
     33KB188_1,  PRS2,     1,  1,     22,   8022,2,20061208,2257, 21.3437,-158.2737, 1550,     27,     24.8,  25.6395,  34.9940,2,  34.9925,2,    204.7,2, 25.6340,    204.6,2,  -999.00,9,  -999.00,9,  -999.00,9,  -999.0,-999.000
     33KB188_1,  PRS2,     1,  1,     21,   8021,2,20061208,2257, 21.3437,-158.2737, 1550,     46,     44.5,  25.6328,  34.9971,2,  34.9965,2,    205.3,2, 25.6230,    204.4,2,  -999.00,9,  -999.00,9,  -999.00,9,  -999.0,-999.000
     33KB188_1,  PRS2,     1,  1,     20,   8020,2,20061208,2257, 21.3437,-158.2737, 1550,     61,     60.6,  25.6083,  35.0063,2,  35.0067,2,    205.4,2, 25.5949,    205.1,2,  -999.00,9,  -999.00,9,  -999.00,9,  -999.0,-999.000
     33KB188_1,  PRS2,     1,  1,     19,   8019,2,20061208,2257, 21.3437,-158.2737, 1550,     73,     75.9,  25.3429,  35.0950,2,  35.0892,2,    207.2,2, 25.3262,    207.1,2,  -999.00,9,  -999.00,9,  -999.00,9,  -999.0,-999.000
     33KB188_1,  PRS2,     1,  1,     18,   8018,2,20061208,2257, 21.3437,-158.2737, 1550,     99,    100.6,  22.8606,  35.0996,2,  35.0984,2,    203.4,2, 22.8402,    204.4,2,  -999.00,9,  -999.00,9,  -999.00,9,  -999.0,-999.000
     33KB188_1,  PRS2,     1,  1,     17,   8017,2,20061208,2257, 21.3437,-158.2737, 1550,    117,    115.7,  21.9302,  35.1208,2,  35.1240,2,    200.1,2, 21.9073,    200.0,2,  -999.00,9,  -999.00,9,  -999.00,9,  -999.0,-999.000
     33KB188_1,  PRS2,     1,  1,     16,   8016,2,20061208,2257, 21.3437,-158.2737, 1550,    127,    126.7,  21.6912,  35.1279,2,  35.1270,2,    200.1,2, 21.6664,    199.5,2,  -999.00,9,  -999.00,9,  -999.00,9,  -999.0,-999.000
     33KB188_1,  PRS2,     1,  1,     15,   8015,2,20061208,2257, 21.3437,-158.2737, 1550,    150,    150.1,  20.8896,  35.1481,2,  35.1500,2,    198.2,2, 20.8609,    197.6,2,  -999.00,9,  -999.00,9,  -999.00,9,  -999.0,-999.000
     33KB188_1,  PRS2,     1,  1,     14,   8014,2,20061208,2257, 21.3437,-158.2737, 1550,    175,    174.8,  19.4701,  35.0036,2,  35.0163,2,    194.4,2, 19.4384,    194.0,2,  -999.00,9,  -999.00,9,  -999.00,9,  -999.0,-999.000
     33KB188_1,  PRS2,     1,  1,     13,   8025,2,20061208,2257, 21.3437,-158.2737, 1550,    198,    200.6,  18.4295,  34.8196,2,  34.8277,2,    189.7,2, 18.3945,    190.0,2,  -999.00,9,  -999.00,9,  -999.00,9,  -999.0,-999.000
     33KB188_1,  PRS2,     1,  1,     12,   8012,2,20061208,2257, 21.3437,-158.2737, 1550,    226,    225.4,  14.6211,  34.4407,2,  34.4416,2,    193.5,2, 14.5877,    194.8,2,  -999.00,9,  -999.00,9,  -999.00,9,  -999.0,-999.000
     33KB188_1,  PRS2,     1,  1,     11,   8011,2,20061208,2257, 21.3437,-158.2737, 1550,    252,    251.7,  13.2200,  34.3343,2,  34.3405,2,    196.2,2, 13.1851,    195.9,2,  -999.00,9,  -999.00,9,  -999.00,9,  -999.0,-999.000
     33KB188_1,  PRS2,     1,  1,     10,   8010,2,20061208,2257, 21.3437,-158.2737, 1550,    300,    299.9,  11.4346,  34.2085,2,  34.2107,2,    192.2,2, 11.3968,    192.3,2,  -999.00,9,  -999.00,9,  -999.00,9,  -999.0,-999.000
     33KB188_1,  PRS2,     1,  1,      9,   8009,2,20061208,2257, 21.3437,-158.2737, 1550,    351,    351.0,   9.7207,  34.1334,2,  34.1307,2,    179.1,2,  9.6808,    178.3,2,  -999.00,9,  -999.00,9,  -999.00,9,  -999.0,-999.000
     33KB188_1,  PRS2,     1,  1,      8,   8008,2,20061208,2257, 21.3437,-158.2737, 1550,    399,    399.2,   8.6142,  34.1017,2,  34.0993,2,    152.0,2,  8.5720,    152.2,2,  -999.00,9,  -999.00,9,  -999.00,9,  -999.0,-999.000
     33KB188_1,  PRS2,     1,  1,      7,   8026,2,20061208,2257, 21.3437,-158.2737, 1550,    501,    502.0,   6.7755,  34.1162,2,  34.1138,2,     86.2,2,  6.7290,     86.0,2,  -999.00,9,  -999.00,9,  -999.00,9,  -999.0,-999.000
     33KB188_1,  PRS2,     1,  1,      6,   8006,2,20061208,2257, 21.3437,-158.2737, 1550,    600,    601.2,   5.7637,  34.2636,2,  34.2601,2,     40.0,2,  5.7121,     39.8,2,  -999.00,9,  -999.00,9,  -999.00,9,  -999.0,-999.000
     33KB188_1,  PRS2,     1,  1,      5,   8005,2,20061208,2257, 21.3437,-158.2737, 1550,    700,    700.2,   5.2061,  34.3769,2,  34.3757,2,     32.9,2,  5.1483,     33.0,2,  -999.00,9,  -999.00,9,  -999.00,9,  -999.0,-999.000
     33KB188_1,  PRS2,     1,  1,      4,   8004,2,20061208,2257, 21.3437,-158.2737, 1550,    749,    750.1,   5.0261,  34.4058,2,  34.4043,2,     33.2,2,  4.9649,     33.3,2,  -999.00,9,  -999.00,9,  -999.00,9,  -999.0,-999.000
     33KB188_1,  PRS2,     1,  1,      3,   8003,2,20061208,2257, 21.3437,-158.2737, 1550,    800,    800.8,   4.8594,  34.4336,2,  34.4326,2,     34.8,2,  4.7948,     34.6,2,  -999.00,9,  -999.00,9,  -999.00,9,  -999.0,-999.000
     33KB188_1,  PRS2,     1,  1,      2,   8002,2,20061208,2257, 21.3437,-158.2737, 1550,    900,    899.4,   4.4406,  34.4752,2,  34.4758,2,     39.8,2,  4.3702,     40.1,2,  -999.00,9,  -999.00,9,  -999.00,9,  -999.0,-999.000
     33KB188_1,  PRS2,     1,  1,      1,   8001,2,20061208,2257, 21.3437,-158.2737, 1550,   1018,   1020.6,   4.1697,  34.5026,2,  34.5046,2,     43.9,2,  4.0910,     45.1,2,  -999.00,9,  -999.00,9,  -999.00,9,  -999.0,-999.000
     33KB188_1,  PRS2,     2,  1,     23,   8023,2,20061209,1016, 22.7688,-157.9882,  200,      4,      5.2,  24.9554,  35.2378,2,-999.0000,9,    207.2,1, 24.9542,   -999.0,9,  -999.00,9,  -999.00,9,  -999.00,9,  -999.0,-999.000
     33KB188_1,  PRS2,     2,  1,     24,   8024,2,20061209,1016, 22.7688,-157.9882,  200,      5,      5.3,  24.9555,  35.2378,2,-999.0000,9,    207.2,1, 24.9543,   -999.0,9,  -999.00,9,  -999.00,9,  -999.00,9,  -999.0,-999.000
     33KB188_1,  PRS2,     2,  1,     21,   8021,2,20061209,1016, 22.7688,-157.9882,  200,      5,      5.3,  24.9555,  35.2381,2,-999.0000,9,    207.3,1, 24.9543,   -999.0,9,  -999.00,9,  -999.00,9,  -999.00,9,  -999.0,-999.000
     33KB188_1,  PRS2,     2,  1,     22,   8022,2,20061209,1016, 22.7688,-157.9882,  200,      4,      5.4,  24.9554,  35.2379,2,-999.0000,9,    207.2,1, 24.9542,   -999.0,9,  -999.00,9,  -999.00,9,  -999.00,9,  -999.0,-999.000
     33KB188_1,  PRS2,     2,  1,     20,   8020,2,20061209,1016, 22.7688,-157.9882,  200,      5,      5.5,  24.9569,  35.2379,2,-999.0000,9,    207.3,1, 24.9557,   -999.0,9,  -999.00,9,  -999.00,9,  -999.00,9,  -999.0,-999.000
     33KB188_1,  PRS2,     2,  1,     18,   8018,2,20061209,1016, 22.7688,-157.9882,  200,      6,      5.5,  24.9577,  35.2378,2,-999.0000,9,    207.4,1, 24.9565,   -999.0,9,  -999.00,9,  -999.00,9,  -999.00,9,  -999.0,-999.000
     33KB188_1,  PRS2,     2,  1,     17,   8017,2,20061209,1016, 22.7688,-157.9882,  200,      5,      5.8,  24.9573,  35.2378,2,-999.0000,9,    207.5,1, 24.9560,   -999.0,9,  -999.00,9,  -999.00,9,  -999.00,9,  -999.0,-999.000
     33KB188_1,  PRS2,     2,  1,     19,   8019,2,20061209,1016, 22.7688,-157.9882,  200,      6,      5.9,  24.9575,  35.2377,2,-999.0000,9,    207.3,1, 24.9562,   -999.0,9,  -999.00,9,  -999.00,9,  -999.00,9,  -999.0,-999.000
     33KB188_1,  PRS2,     2,  1,     15,   8015,2,20061209,1016, 22.7688,-157.9882,  200,      6,      6.0,  24.9566,  35.2378,2,-999.0000,9,    207.7,1, 24.9553,   -999.0,9,  -999.00,9,  -999.00,9,  -999.00,9,  -999.0,-999.000
     33KB188_1,  PRS2,     2,  1,     16,   8016,2,20061209,1016, 22.7688,-157.9882,  200,      6,      6.2,  24.9566,  35.2377,2,-999.0000,9,    207.6,1, 24.9553,   -999.0,9,  -999.00,9,  -999.00,9,  -999.00,9,  -999.0,-999.000
     33KB188_1,  PRS2,     2,  1,      8,   8008,2,20061209,1016, 22.7688,-157.9882,  200,     26,     24.9,  24.9640,  35.2374,2,-999.0000,9,    207.4,1, 24.9586,   -999.0,9,  -999.00,9,  -999.00,9,  -999.00,9,  -999.0,-999.000
     33KB188_1,  PRS2,     2,  1,     13,   8025,2,20061209,1016, 22.7688,-157.9882,  200,     25,     25.1,  24.9637,  35.2374,2,-999.0000,9,    207.8,1, 24.9583,   -999.0,9,  -999.00,9,  -999.00,9,  -999.00,9,  -999.0,-999.000
     33KB188_1,  PRS2,     2,  1,     10,   8010,2,20061209,1016, 22.7688,-157.9882,  200,     26,     25.1,  24.9640,  35.2374,2,-999.0000,9,    207.7,1, 24.9586,   -999.0,9,  -999.00,9,  -999.00,9,  -999.00,9,  -999.0,-999.000
     33KB188_1,  PRS2,     2,  1,     12,   8012,2,20061209,1016, 22.7688,-157.9882,  200,     24,     25.2,  24.9641,  35.2373,2,-999.0000,9,    207.7,1, 24.9586,   -999.0,9,  -999.00,9,  -999.00,9,  -999.00,9,  -999.0,-999.000
     33KB188_1,  PRS2,     2,  1,     11,   8011,2,20061209,1016, 22.7688,-157.9882,  200,     24,     25.3,  24.9642,  35.2374,2,-999.0000,9,    207.7,1, 24.9587,   -999.0,9,  -999.00,9,  -999.00,9,  -999.00,9,  -999.0,-999.000
     33KB188_1,  PRS2,     2,  1,      9,   8009,2,20061209,1016, 22.7688,-157.9882,  200,     25,     25.4,  24.9640,  35.2375,2,-999.0000,9,    207.6,1, 24.9585,   -999.0,9,  -999.00,9,  -999.00,9,  -999.00,9,  -999.0,-999.000
     33KB188_1,  PRS2,     2,  1,     14,   8014,2,20061209,1016, 22.7688,-157.9882,  200,     24,     25.7,  24.9634,  35.2374,2,-999.0000,9,    207.7,1, 24.9579,   -999.0,9,  -999.00,9,  -999.00,9,  -999.00,9,  -999.0,-999.000
     33KB188_1,  PRS2,     2,  1,      7,   8026,2,20061209,1016, 22.7688,-157.9882,  200,     48,     47.9,  24.9710,  35.2375,2,-999.0000,9,    207.3,1, 24.9607,   -999.0,9,  -999.00,9,  -999.00,9,  -999.00,9,  -999.0,-999.000
     33KB188_1,  PRS2,     2,  1,      6,   8006,2,20061209,1016, 22.7688,-157.9882,  200,     47,     48.1,  24.9713,  35.2374,2,-999.0000,9,    207.3,1, 24.9608,   -999.0,9,  -999.00,9,  -999.00,9,  -999.00,9,  -999.0,-999.000
     33KB188_1,  PRS2,     2,  1,      5,   8005,2,20061209,1016, 22.7688,-157.9882,  200,     47,     48.1,  24.9715,  35.2374,2,-999.0000,9,    207.2,1, 24.9611,   -999.0,9,  -999.00,9,  -999.00,9,  -999.00,9,  -999.0,-999.000
     33KB188_1,  PRS2,     2,  1,      4,   8004,2,20061209,1016, 22.7688,-157.9882,  200,     49,     48.1,  24.9719,  35.2373,2,-999.0000,9,    207.2,1, 24.9615,   -999.0,9,  -999.00,9,  -999.00,9,  -999.00,9,  -999.0,-999.000
     33KB188_1,  PRS2,     2,  1,      3,   8003,2,20061209,1016, 22.7688,-157.9882,  200,     48,     48.3,  24.9720,  35.2372,2,-999.0000,9,    207.3,1, 24.9616,   -999.0,9,  -999.00,9,  -999.00,9,  -999.00,9,  -999.0,-999.000
     33KB188_1,  PRS2,     2,  1,      2,   8002,2,20061209,1016, 22.7688,-157.9882,  200,     47,     48.4,  24.9714,  35.2372,2,-999.0000,9,    207.3,1, 24.9609,   -999.0,9,  -999.00,9,  -999.00,9,  -999.00,9,  -999.0,-999.000
     33KB188_1,  PRS2,     2,  1,      1,   8001,2,20061209,1016, 22.7688,-157.9882,  200,     48,     48.4,  24.9713,  35.2373,2,-999.0000,9,    207.4,1, 24.9608,   -999.0,9,  -999.00,9,  -999.00,9,  -999.00,9,  -999.0,-999.000
     33KB188_1,  PRS2,     2,  2,     22,   8022,2,20061209,1133, 22.7710,-157.9622,  200,     46,     45.5,  24.9624,  35.2368,2,-999.0000,9,    208.0,1, 24.9526,   -999.0,9,  -999.00,9,  -999.00,9,  -999.00,9,  -999.0,-999.000
     33KB188_1,  PRS2,     2,  2,     23,   8023,2,20061209,1133, 22.7710,-157.9622,  200,     45,     45.7,  24.9628,  35.2370,2,-999.0000,9,    208.1,1, 24.9529,   -999.0,9,  -999.00,9,  -999.00,9,  -999.00,9,  -999.0,-999.000
     33KB188_1,  PRS2,     2,  2,     19,   8019,2,20061209,1133, 22.7710,-157.9622,  200,     77,     77.7,  24.9442,  35.2378,2,-999.0000,9,    208.3,1, 24.9274,   -999.0,9,  -999.00,9,  -999.00,9,  -999.00,9,  -999.0,-999.000
     33KB188_1,  PRS2,     2,  2,     16,   8016,2,20061209,1133, 22.7710,-157.9622,  200,     77,     77.7,  24.9479,  35.2373,2,-999.0000,9,    208.3,1, 24.9311,   -999.0,9,  -999.00,9,  -999.00,9,  -999.00,9,  -999.0,-999.000
     33KB188_1,  PRS2,     2,  2,     20,   8020,2,20061209,1133, 22.7710,-157.9622,  200,     77,     77.8,  24.9431,  35.2377,2,-999.0000,9,    208.3,1, 24.9262,   -999.0,9,  -999.00,9,  -999.00,9,  -999.00,9,  -999.0,-999.000
     33KB188_1,  PRS2,     2,  2,     17,   8017,2,20061209,1133, 22.7710,-157.9622,  200,     77,     77.8,  24.9470,  35.2374,2,-999.0000,9,    208.3,1, 24.9302,   -999.0,9,  -999.00,9,  -999.00,9,  -999.00,9,  -999.0,-999.000
     33KB188_1,  PRS2,     2,  2,     21,   8021,2,20061209,1133, 22.7710,-157.9622,  200,     79,     77.9,  24.9411,  35.2377,2,-999.0000,9,    208.3,1, 24.9243,   -999.0,9,  -999.00,9,  -999.00,9,  -999.00,9,  -999.0,-999.000
     33KB188_1,  PRS2,     2,  2,     18,   8018,2,20061209,1133, 22.7710,-157.9622,  200,     79,     78.0,  24.9452,  35.2376,2,-999.0000,9,    208.3,1, 24.9283,   -999.0,9,  -999.00,9,  -999.00,9,  -999.00,9,  -999.0,-999.000
     33KB188_1,  PRS2,     2,  2,     15,   8015,2,20061209,1133, 22.7710,-157.9622,  200,     78,     78.0,  24.9470,  35.2372,2,-999.0000,9,    208.3,1, 24.9302,   -999.0,9,  -999.00,9,  -999.00,9,  -999.00,9,  -999.0,-999.000
     33KB188_1,  PRS2,     2,  2,      8,   8008,2,20061209,1133, 22.7710,-157.9622,  200,    101,     99.7,  22.8592,  35.1923,2,-999.0000,9,    211.0,1, 22.8389,   -999.0,9,  -999.00,9,  -999.00,9,  -999.00,9,  -999.0,-999.000
     33KB188_1,  PRS2,     2,  2,      9,   8009,2,20061209,1133, 22.7710,-157.9622,  200,     98,    100.0,  22.8562,  35.1908,2,-999.0000,9,    211.2,1, 22.8359,   -999.0,9,  -999.00,9,  -999.00,9,  -999.00,9,  -999.0,-999.000
     33KB188_1,  PRS2,     2,  2,     11,   8011,2,20061209,1133, 22.7710,-157.9622,  200,    100,    100.2,  22.8077,  35.1912,2,-999.0000,9,    211.8,1, 22.7874,   -999.0,9,  -999.00,9,  -999.00,9,  -999.00,9,  -999.0,-999.000
     33KB188_1,  PRS2,     2,  2,     10,   8010,2,20061209,1133, 22.7710,-157.9622,  200,    100,    100.4,  22.8207,  35.1889,2,-999.0000,9,    211.4,1, 22.8003,   -999.0,9,  -999.00,9,  -999.00,9,  -999.00,9,  -999.0,-999.000
     33KB188_1,  PRS2,     2,  2,     13,   8025,2,20061209,1133, 22.7710,-157.9622,  200,    101,    100.7,  22.6848,  35.1834,2,-999.0000,9,    212.6,1, 22.6644,   -999.0,9,  -999.00,9,  -999.00,9,  -999.00,9,  -999.0,-999.000
     33KB188_1,  PRS2,     2,  2,     12,   8012,2,20061209,1133, 22.7710,-157.9622,  200,    101,    100.7,  22.7475,  35.1875,2,-999.0000,9,    212.2,1, 22.7271,   -999.0,9,  -999.00,9,  -999.00,9,  -999.00,9,  -999.0,-999.000
     33KB188_1,  PRS2,     2,  2,     14,   8014,2,20061209,1133, 22.7710,-157.9622,  200,    101,    101.0,  22.6433,  35.1846,2,-999.0000,9,    213.0,1, 22.6229,   -999.0,9,  -999.00,9,  -999.00,9,  -999.00,9,  -999.0,-999.000
     33KB188_1,  PRS2,     2,  2,      7,   8026,2,20061209,1133, 22.7710,-157.9622,  200,    126,    124.1,  21.5440,  35.1749,2,-999.0000,9,    203.8,1, 21.5198,   -999.0,9,  -999.00,9,  -999.00,9,  -999.00,9,  -999.0,-999.000
     33KB188_1,  PRS2,     2,  2,      5,   8005,2,20061209,1133, 22.7710,-157.9622,  200,    126,    124.2,  21.5344,  35.1720,2,-999.0000,9,    202.7,1, 21.5102,   -999.0,9,  -999.00,9,  -999.00,9,  -999.00,9,  -999.0,-999.000
     33KB188_1,  PRS2,     2,  2,      3,   8003,2,20061209,1133, 22.7710,-157.9622,  200,    126,    124.5,  21.5263,  35.1712,2,-999.0000,9,    201.4,1, 21.5020,   -999.0,9,  -999.00,9,  -999.00,9,  -999.00,9,  -999.0,-999.000
     33KB188_1,  PRS2,     2,  2,      1,   8001,2,20061209,1133, 22.7710,-157.9622,  200,    124,    124.5,  21.5705,  35.1771,2,-999.0000,9,    200.3,1, 21.5462,   -999.0,9,  -999.00,9,  -999.00,9,  -999.00,9,  -999.0,-999.000
     33KB188_1,  PRS2,     2,  2,      2,   8002,2,20061209,1133, 22.7710,-157.9622,  200,    124,    124.9,  21.5263,  35.1711,2,-999.0000,9,    200.8,1, 21.5019,   -999.0,9,  -999.00,9,  -999.00,9,  -999.00,9,  -999.0,-999.000
     33KB188_1,  PRS2,     2,  2,      6,   8006,2,20061209,1133, 22.7710,-157.9622,  200,    123,    125.0,  21.5205,  35.1701,2,-999.0000,9,    203.2,1, 21.4962,   -999.0,9,  -999.00,9,  -999.00,9,  -999.00,9,  -999.0,-999.000
     33KB188_1,  PRS2,     2,  2,      4,   8004,2,20061209,1133, 22.7710,-157.9622,  200,    123,    125.0,  21.5178,  35.1701,2,-999.0000,9,    202.1,1, 21.4935,   -999.0,9,  -999.00,9,  -999.00,9,  -999.00,9,  -999.0,-999.000