BOTTLE,20090923WHPSIOMYS
EXPOCODE,SECT_ID,STNNBR,CASTNO,SAMPNO,BTLNBR,BTLNBR_FLAG_W,DATE,TIME,LATITUDE,LONGITUDE,DEPTH,CTDRAW,CTDPRS,CTDTMP,CTDSAL,CTDSAL_FLAG_W,SALNTY,SALNTY_FLAG_W,CTDOXY,CTDOXY_FLAG_W,THETA,OXYGEN,OXYGEN_FLAG_W,SILCAT,SILCAT_FLAG_W,NO2+NO3,NO2+NO3_FLAG_W,PHSPHT,PHSPHT_FLAG_W,REVPRS,REVTMP
,,,,,,,,,,,,,DBAR,ITS-90,PSS-78,,PSS-78,,UMOL/KG,,ITS-90,UMOL/KG,,UMOL/KG,,UMOL/KG,,UMOL/KG,,DBAR,DEG C
     33KB188_1,  PRS2,     2,  3,     24,   8024,2,20061209,1442, 22.7500,-157.9992, 4800,      8,      8.8,  24.9099,  35.2411,2,  35.2402,2,    207.8,2, 24.9080,    206.8,2,     0.53,2,     0.05,2,     0.01,2,  -999.0,-999.000
     33KB188_1,  PRS2,     2,  3,     23,   8023,2,20061209,1442, 22.7500,-157.9992, 4800,    499,    500.2,   7.4328,  34.0643,2,  34.0633,2,    136.3,2,  7.3840,    135.5,2,    43.27,2,    26.82,2,     1.92,2,  -999.0,-999.000
     33KB188_1,  PRS2,     2,  3,     22,   8022,2,20061209,1442, 22.7500,-157.9992, 4800,    754,    752.0,   4.7698,  34.2975,2,  34.2960,2,     26.6,2,  4.7101,     27.2,2,    93.71,2,    40.80,2,     3.02,2,  -999.0,-999.000
     33KB188_1,  PRS2,     2,  3,     21,   8021,2,20061209,1442, 22.7500,-157.9992, 4800,   1001,   1000.1,   3.9353,  34.4826,2,  34.4822,2,     41.1,2,  3.8601,     41.9,2,   110.86,2,    41.25,2,     3.02,2,  -999.0,-999.000
     33KB188_1,  PRS2,     2,  3,     20,   8020,2,20061209,1442, 22.7500,-157.9992, 4800,   1199,   1201.9,   3.4167,  34.5275,2,  34.5272,2,     51.9,2,  3.3293,     51.8,2,   124.14,2,    41.05,2,     2.99,2,  -999.0,-999.000
     33KB188_1,  PRS2,     2,  3,     19,   8019,2,20061209,1442, 22.7500,-157.9992, 4800,   1401,   1401.4,   2.9828,  34.5585,2,  34.5590,2,     61.7,2,  2.8833,     61.3,2,   133.23,2,    40.66,2,     2.94,2,  -999.0,-999.000
     33KB188_1,  PRS2,     2,  3,     18,   8018,2,20061209,1442, 22.7500,-157.9992, 4800,   1599,   1600.2,   2.6686,  34.5834,2,  34.5842,2,     70.7,2,  2.5563,     71.1,2,   140.79,2,    40.26,2,     2.91,2,  -999.0,-999.000
     33KB188_1,  PRS2,     2,  3,     17,   8017,2,20061209,1442, 22.7500,-157.9992, 4800,   1803,   1802.3,   2.3639,  34.6022,2,  34.6034,2,     78.0,2,  2.2389,     78.5,2,   148.23,2,    39.81,2,     2.86,2,  -999.0,-999.000
     33KB188_1,  PRS2,     2,  3,     16,   8016,2,20061209,1442, 22.7500,-157.9992, 4800,   2002,   2001.5,   2.1142,  34.6195,2,  34.6205,2,     85.8,2,  1.9760,     86.7,2,   152.96,2,    39.35,2,     2.82,2,  -999.0,-999.000
     33KB188_1,  PRS2,     2,  3,     15,   8015,2,20061209,1442, 22.7500,-157.9992, 4800,   2199,   2200.0,   1.9104,  34.6356,2,  34.6350,2,     93.7,2,  1.7583,     93.9,2,   157.79,2,    38.90,2,     2.78,2,  -999.0,-999.000
     33KB188_1,  PRS2,     2,  3,     14,   8014,2,20061209,1442, 22.7500,-157.9992, 4800,   2398,   2400.9,   1.7767,  34.6473,2,  34.6480,2,    101.0,2,  1.6094,    101.6,2,   161.56,2,    38.39,2,     2.74,2,  -999.0,-999.000
     33KB188_1,  PRS2,     2,  3,     13,   8025,2,20061209,1442, 22.7500,-157.9992, 4800,   2599,   2600.6,   1.6557,  34.6590,2,  34.6620,2,    110.3,2,  1.4728,    110.9,2,   162.91,2,    37.91,2,     2.69,2,  -999.0,-999.000
     33KB188_1,  PRS2,     2,  3,     12,   8012,2,20061209,1442, 22.7500,-157.9992, 4800,   2799,   2799.8,   1.5849,  34.6670,2,  34.6675,2,    118.2,2,  1.3852,    118.2,2,   163.30,2,    37.36,2,     2.65,2,  -999.0,-999.000
     33KB188_1,  PRS2,     2,  3,     11,   8011,2,20061209,1442, 22.7500,-157.9992, 4800,   3001,   3001.5,   1.5232,  34.6738,2,  34.6747,2,    126.3,2,  1.3058,    126.8,2,   159.70,2,    36.64,2,     2.60,2,  -999.0,-999.000
     33KB188_1,  PRS2,     2,  3,     10,   8010,2,20061209,1442, 22.7500,-157.9992, 4800,   3198,   3201.1,   1.4860,  34.6797,2,  34.6793,2,    133.6,2,  1.2501,    133.2,2,   158.43,2,    36.36,2,     2.57,2,  -999.0,-999.000
     33KB188_1,  PRS2,     2,  3,      9,   8009,2,20061209,1442, 22.7500,-157.9992, 4800,   3401,   3399.1,   1.4704,  34.6830,2,  34.6822,2,    137.7,2,  1.2152,    137.5,2,   158.15,2,    36.19,2,     2.55,2,  -999.0,-999.000
     33KB188_1,  PRS2,     2,  3,      8,   8008,2,20061209,1442, 22.7500,-157.9992, 4800,   3600,   3600.7,   1.4542,  34.6862,2,  34.6863,2,    142.3,2,  1.1789,    142.3,2,   154.05,2,    35.86,2,     2.53,2,  -999.0,-999.000
     33KB188_1,  PRS2,     2,  3,      7,   8026,2,20061209,1442, 22.7500,-157.9992, 4800,   3799,   3800.5,   1.4533,  34.6881,2,  34.6875,2,    145.3,2,  1.1571,    145.0,2,   151.49,2,    35.77,2,     2.52,2,  -999.0,-999.000
     33KB188_1,  PRS2,     2,  3,      6,   8006,2,20061209,1442, 22.7500,-157.9992, 4800,   3998,   4000.8,   1.4583,  34.6898,2,  34.6893,2,    147.6,2,  1.1404,    147.5,2,   147.47,4,    35.55,2,     2.50,2,  -999.0,-999.000
     33KB188_1,  PRS2,     2,  3,      5,   8005,2,20061209,1442, 22.7500,-157.9992, 4800,   4201,   4200.3,   1.4675,  34.6909,2,  34.6952,4,    149.4,3,  1.1274,    149.1,2,   152.25,2,    35.47,2,     2.49,2,  -999.0,-999.000
     33KB188_1,  PRS2,     2,  3,      4,   8004,2,20061209,1442, 22.7500,-157.9992, 4800,   4402,   4400.1,   1.4805,  34.6919,2,  34.6922,2,    151.1,2,  1.1176,    150.7,2,   151.36,2,    35.50,2,     2.49,2,  -999.0,-999.000
     33KB188_1,  PRS2,     2,  3,      3,   8003,2,20061209,1442, 22.7500,-157.9992, 4800,   4500,   4500.3,   1.4885,  34.6921,2,  34.6918,2,    151.0,2,  1.1138,    150.9,2,   153.99,4,    35.44,2,     2.49,2,  -999.0,-999.000
     33KB188_1,  PRS2,     2,  3,      2,   8002,2,20061209,1442, 22.7500,-157.9992, 4800,   4603,   4601.2,   1.4911,  34.6930,2,  34.6918,2,    152.5,2,  1.1047,    154.2,2,   151.37,2,    35.32,2,     2.48,2,  -999.0,-999.000
     33KB188_1,  PRS2,     2,  3,      1,   8001,2,20061209,1442, 22.7500,-157.9992, 4800,   4806,   4806.1,   1.4979,  34.6944,2,  34.6940,2,    154.6,2,  1.0870,    156.8,2,   149.73,2,    35.15,2,     2.47,2,  -999.0,-999.000
     33KB188_1,  PRS2,     2,  4,     24,   8024,2,20061209,2107, 22.7505,-158.0022, 1020,     10,     10.6,  24.9209,  35.2413,2,  35.2398,2,    207.1,2, 24.9186,    207.0,2,     0.10,3,     0.04,2,     0.00,2,  -999.0,-999.000
     33KB188_1,  PRS2,     2,  4,     23,   8023,2,20061209,2107, 22.7505,-158.0022, 1020,     52,     51.8,  24.9237,  35.2426,2,  35.2416,2,    207.1,2, 24.9125,    206.7,2,     0.06,3,     0.04,2,     0.00,2,  -999.0,-999.000
     33KB188_1,  PRS2,     2,  4,     22,   8022,2,20061209,2107, 22.7505,-158.0022, 1020,     94,     93.4,  23.1825,  35.2004,2,  35.1977,2,    215.8,2, 23.1633,    215.0,2,     0.54,2,     0.04,2,     0.02,2,  -999.0,-999.000
     33KB188_1,  PRS2,     2,  4,     21,   8021,2,20061209,2107, 22.7505,-158.0022, 1020,    115,    117.5,  21.6889,  35.1839,2,  35.1829,2,    203.6,2, 21.6659,    205.1,2,     0.78,2,     0.38,2,     0.06,2,  -999.0,-999.000
     33KB188_1,  PRS2,     2,  4,     20,   8020,2,20061209,2107, 22.7505,-158.0022, 1020,    153,    153.5,  19.1094,  34.9633,2,  34.9675,2,    196.9,2, 19.0819,    197.7,2,     5.05,4,     2.27,2,     0.20,2,  -999.0,-999.000
     33KB188_1,  PRS2,     2,  4,     19,   8019,2,20061209,2107, 22.7505,-158.0022, 1020,    219,    217.6,  15.8189,  34.5847,2,  34.5757,2,    198.2,2, 15.7848,    198.1,2,     3.65,3,     5.61,2,     0.43,2,  -999.0,-999.000
     33KB188_1,  PRS2,     2,  4,     18,   8018,2,20061209,2107, 22.7505,-158.0022, 1020,    266,    266.1,  13.8750,  34.3860,2,  34.3917,2,    200.8,2, 13.8369,    201.0,2,     5.58,3,     8.13,2,     0.60,2,  -999.0,-999.000
     33KB188_1,  PRS2,     2,  4,     17,   8017,2,20061209,2107, 22.7505,-158.0022, 1020,    313,    313.0,  12.2513,  34.3081,2,  34.3068,2,    206.9,2, 12.2100,    205.3,2,    10.02,2,    11.24,2,     0.81,2,  -999.0,-999.000
     33KB188_1,  PRS2,     2,  4,     16,   8016,2,20061209,2107, 22.7505,-158.0022, 1020,    387,    387.0,  10.5885,  34.2035,2,  34.1999,2,    194.7,2, 10.5419,    194.1,2,    16.63,2,    15.43,2,     1.10,2,  -999.0,-999.000
     33KB188_1,  PRS2,     2,  4,     15,   8015,2,20061209,2107, 22.7505,-158.0022, 1020,    436,    437.4,   9.2216,  34.1311,2,  34.1307,2,    172.4,2,  9.1733,    173.1,2,    25.11,2,    19.99,2,     1.42,2,  -999.0,-999.000
     33KB188_1,  PRS2,     2,  4,     14,   8014,2,20061209,2107, 22.7505,-158.0022, 1020,    478,    478.6,   8.3982,  34.0945,2,  34.0917,2,    157.3,2,  8.3481,    157.5,2,    31.85,2,    23.09,2,     1.65,2,  -999.0,-999.000
     33KB188_1,  PRS2,     2,  4,     13,   8025,2,20061209,2107, 22.7505,-158.0022, 1020,    518,    518.2,   7.4165,  34.0655,2,  34.0642,2,    135.2,2,  7.3660,    131.7,2,    42.92,2,    27.32,2,     1.96,2,  -999.0,-999.000
     33KB188_1,  PRS2,     2,  4,     12,   8012,2,20061209,2107, 22.7505,-158.0022, 1020,    554,    553.3,   6.6568,  34.0630,2,  34.0619,2,    107.1,2,  6.6058,    106.6,2,    54.09,2,    30.92,2,     2.23,2,  -999.0,-999.000
     33KB188_1,  PRS2,     2,  4,     11,   8011,2,20061209,2107, 22.7505,-158.0022, 1020,    600,    601.2,   5.7218,  34.0778,2,  34.0766,2,     81.2,2,  5.6705,     78.1,2,    69.56,2,    34.90,2,     2.53,2,  -999.0,-999.000
     33KB188_1,  PRS2,     2,  4,     10,   8010,2,20061209,2107, 22.7505,-158.0022, 1020,    641,    642.4,   5.2871,  34.1272,2,  34.1254,2,     59.2,2,  5.2343,     57.0,2,    80.13,2,    37.50,2,     2.73,2,  -999.0,-999.000
     33KB188_1,  PRS2,     2,  4,      9,   8009,2,20061209,2107, 22.7505,-158.0022, 1020,    695,    695.5,   4.9245,  34.2273,2,  34.2266,2,     32.7,2,  4.8688,     31.7,2,    96.31,2,    40.16,2,     2.95,2,  -999.0,-999.000
     33KB188_1,  PRS2,     2,  4,      8,   8008,2,20061209,2107, 22.7505,-158.0022, 1020,    764,    764.3,   4.6779,  34.3181,2,  34.3199,2,     26.4,2,  4.6177,     25.6,2,    97.42,2,    41.22,2,     3.03,2,  -999.0,-999.000
     33KB188_1,  PRS2,     2,  4,      7,   8026,2,20061209,2107, 22.7505,-158.0022, 1020,    803,    803.5,   4.5181,  34.3595,2,  34.3631,2,     27.2,2,  4.4555,     26.5,2,   101.63,2,    41.66,2,     3.06,2,  -999.0,-999.000
     33KB188_1,  PRS2,     2,  4,      6,   8006,2,20061209,2107, 22.7505,-158.0022, 1020,    840,    841.5,   4.3921,  34.3998,2,  34.3974,2,     30.4,2,  4.3271,     29.7,2,   105.54,2,    41.50,2,     3.04,2,  -999.0,-999.000
     33KB188_1,  PRS2,     2,  4,      5,   8005,2,20061209,2107, 22.7505,-158.0022, 1020,    882,    882.0,   4.2783,  34.4267,2,  34.4277,2,     33.3,2,  4.2105,     32.8,2,   106.58,2,    41.51,2,     3.05,2,  -999.0,-999.000
     33KB188_1,  PRS2,     2,  4,      4,   8004,2,20061209,2107, 22.7505,-158.0022, 1020,    922,    920.9,   4.1820,  34.4434,2,  34.4420,2,     35.1,2,  4.1117,     34.4,2,   107.75,2,    41.65,2,     3.04,2,  -999.0,-999.000
     33KB188_1,  PRS2,     2,  4,      3,   8003,2,20061209,2107, 22.7505,-158.0022, 1020,    960,    959.2,   4.0741,  34.4631,2,  34.4628,2,     38.2,2,  4.0013,     38.1,2,   109.48,2,    41.59,2,     3.04,2,  -999.0,-999.000
     33KB188_1,  PRS2,     2,  4,      2,   8002,2,20061209,2107, 22.7505,-158.0022, 1020,    998,    998.1,   3.9756,  34.4753,2,  34.4756,2,     39.7,2,  3.9003,     40.9,2,   112.23,2,    41.63,2,     3.03,2,  -999.0,-999.000
     33KB188_1,  PRS2,     2,  4,      1,   8001,2,20061209,2107, 22.7505,-158.0022, 1020,   1020,   1020.7,   3.9046,  34.4858,2,  34.4850,2,     41.9,2,  3.8280,     41.9,2,   119.06,4,    41.52,2,     3.02,2,  -999.0,-999.000
     33KB188_1,  PRS2,     2,  5,     24,   8024,2,20061210,0004, 22.7662,-158.0738, 1020,      7,      7.5,  24.9056,  35.2361,2,  35.2499,3,    207.7,1, 24.9040,   -999.0,9,  -999.00,9,  -999.00,9,  -999.00,9,  -999.0,-999.000
     33KB188_1,  PRS2,     2,  5,     23,   8023,2,20061210,0004, 22.7662,-158.0738, 1020,     26,     27.5,  24.9069,  35.2359,2,  35.2345,2,    207.3,1, 24.9010,   -999.0,9,  -999.00,9,  -999.00,9,  -999.00,9,  -999.0,-999.000
     33KB188_1,  PRS2,     2,  5,     22,   8022,2,20061210,0004, 22.7662,-158.0738, 1020,     47,     46.9,  24.9124,  35.2360,2,  35.2436,2,    207.4,1, 24.9023,   -999.0,9,  -999.00,9,  -999.00,9,  -999.00,9,  -999.0,-999.000
     33KB188_1,  PRS2,     2,  5,     21,   8021,2,20061210,0004, 22.7662,-158.0738, 1020,     75,     75.0,  24.9096,  35.2373,2,  35.2369,2,    207.5,1, 24.8934,   -999.0,9,  -999.00,9,  -999.00,9,  -999.00,9,  -999.0,-999.000
     33KB188_1,  PRS2,     2,  5,     19,   8019,2,20061210,0004, 22.7662,-158.0738, 1020,    101,    100.5,  22.5991,  35.1809,2,  35.1859,2,    210.9,1, 22.5789,   -999.0,9,  -999.00,9,  -999.00,9,  -999.00,9,  -999.0,-999.000
     33KB188_1,  PRS2,     2,  5,     20,   8020,2,20061210,0004, 22.7662,-158.0738, 1020,    103,    100.8,  22.5774,  35.1799,2,  35.1851,2,    211.4,1, 22.5571,   -999.0,9,  -999.00,9,  -999.00,9,  -999.00,9,  -999.0,-999.000
     33KB188_1,  PRS2,     2,  5,     17,   8017,2,20061210,0004, 22.7662,-158.0738, 1020,    124,    123.2,  20.9121,  35.1141,2,  35.1104,2,    199.7,1, 20.8886,   -999.0,9,  -999.00,9,  -999.00,9,  -999.00,9,  -999.0,-999.000
     33KB188_1,  PRS2,     2,  5,     18,   8018,2,20061210,0004, 22.7662,-158.0738, 1020,    123,    123.4,  20.9368,  35.1141,2,  35.1130,2,    199.5,1, 20.9132,   -999.0,9,  -999.00,9,  -999.00,9,  -999.00,9,  -999.0,-999.000
     33KB188_1,  PRS2,     2,  5,     16,   8016,2,20061210,0004, 22.7662,-158.0738, 1020,    150,    150.7,  18.8519,  34.9293,2,  34.9315,2,    193.9,1, 18.8252,   -999.0,9,  -999.00,9,  -999.00,9,  -999.00,9,  -999.0,-999.000
     33KB188_1,  PRS2,     2,  5,     15,   8015,2,20061210,0004, 22.7662,-158.0738, 1020,    151,    150.7,  18.8559,  34.9293,2,  34.9404,2,    194.1,1, 18.8292,   -999.0,9,  -999.00,9,  -999.00,9,  -999.00,9,  -999.0,-999.000
     33KB188_1,  PRS2,     2,  5,     14,   8014,2,20061210,0004, 22.7662,-158.0738, 1020,    202,    201.7,  16.7760,  34.7008,2,-999.0000,5,    198.5,1, 16.7430,   -999.0,9,  -999.00,9,  -999.00,9,  -999.00,9,  -999.0,-999.000
     33KB188_1,  PRS2,     2,  5,     13,   8025,2,20061210,0004, 22.7662,-158.0738, 1020,    202,    201.7,  16.7764,  34.7007,2,  34.6991,2,    198.5,1, 16.7434,   -999.0,9,  -999.00,9,  -999.00,9,  -999.00,9,  -999.0,-999.000
     33KB188_1,  PRS2,     2,  5,     12,   8012,2,20061210,0004, 22.7662,-158.0738, 1020,    250,    250.2,  14.7928,  34.4660,2,  34.4640,2,    198.3,1, 14.7553,   -999.0,9,  -999.00,9,  -999.00,9,  -999.00,9,  -999.0,-999.000
     33KB188_1,  PRS2,     2,  5,     10,   8010,2,20061210,0004, 22.7662,-158.0738, 1020,    304,    303.0,  12.5104,  34.2772,2,  34.2762,2,    204.6,1, 12.4699,   -999.0,9,  -999.00,9,  -999.00,9,  -999.00,9,  -999.0,-999.000
     33KB188_1,  PRS2,     2,  5,     11,   8011,2,20061210,0004, 22.7662,-158.0738, 1020,    303,    303.5,  12.4986,  34.2753,2,-999.0000,5,    204.5,1, 12.4581,   -999.0,9,  -999.00,9,  -999.00,9,  -999.00,9,  -999.0,-999.000
     33KB188_1,  PRS2,     2,  5,      9,   8009,2,20061210,0004, 22.7662,-158.0738, 1020,    351,    350.2,  11.0469,  34.2054,2,  34.2126,2,    201.0,1, 11.0036,   -999.0,9,  -999.00,9,  -999.00,9,  -999.00,9,  -999.0,-999.000
     33KB188_1,  PRS2,     2,  5,      6,   8006,2,20061210,0004, 22.7662,-158.0738, 1020,    505,    502.7,   7.5372,  34.0764,2,-999.0000,5,    131.5,1,  7.4877,   -999.0,9,  -999.00,9,  -999.00,9,  -999.00,9,  -999.0,-999.000
     33KB188_1,  PRS2,     2,  5,      7,   8026,2,20061210,0004, 22.7662,-158.0738, 1020,    503,    502.8,   7.5368,  34.0763,2,-999.0000,5,    131.7,1,  7.4873,   -999.0,9,  -999.00,9,  -999.00,9,  -999.00,9,  -999.0,-999.000
     33KB188_1,  PRS2,     2,  5,      8,   8008,2,20061210,0004, 22.7662,-158.0738, 1020,    501,    502.9,   7.5374,  34.0769,2,-999.0000,5,    131.9,1,  7.4880,   -999.0,9,  -999.00,9,  -999.00,9,  -999.00,9,  -999.0,-999.000
     33KB188_1,  PRS2,     2,  5,      5,   8005,2,20061210,0004, 22.7662,-158.0738, 1020,    547,    546.9,   6.7391,  34.0611,2,-999.0000,5,    110.8,1,  6.6885,   -999.0,9,  -999.00,9,  -999.00,9,  -999.00,9,  -999.0,-999.000
     33KB188_1,  PRS2,     2,  5,      4,   8004,2,20061210,0004, 22.7662,-158.0738, 1020,    770,    769.6,   4.5942,  34.2984,2,-999.0000,5,     28.6,1,  4.5340,   -999.0,9,  -999.00,9,  -999.00,9,  -999.00,9,  -999.0,-999.000
     33KB188_1,  PRS2,     2,  5,      1,   8001,2,20061210,0004, 22.7662,-158.0738, 1020,   1020,   1020.0,   3.8995,  34.4850,2,  34.4858,2,     41.7,1,  3.8230,   -999.0,9,  -999.00,9,  -999.00,9,  -999.00,9,  -999.0,-999.000
     33KB188_1,  PRS2,     2,  5,      2,   8002,2,20061210,0004, 22.7662,-158.0738, 1020,   1021,   1020.2,   3.8996,  34.4847,2,-999.0000,5,     41.7,1,  3.8231,   -999.0,9,  -999.00,9,  -999.00,9,  -999.00,9,  -999.0,-999.000
     33KB188_1,  PRS2,     2,  5,      3,   8003,2,20061210,0004, 22.7662,-158.0738, 1020,   1020,   1020.7,   3.8991,  34.4847,2,-999.0000,5,     41.7,1,  3.8225,   -999.0,9,  -999.00,9,  -999.00,9,  -999.00,9,  -999.0,-999.000