BOTTLE,20090923WHPSIOMYS
EXPOCODE,SECT_ID,STNNBR,CASTNO,SAMPNO,BTLNBR,BTLNBR_FLAG_W,DATE,TIME,LATITUDE,LONGITUDE,DEPTH,CTDRAW,CTDPRS,CTDTMP,CTDSAL,CTDSAL_FLAG_W,SALNTY,SALNTY_FLAG_W,CTDOXY,CTDOXY_FLAG_W,THETA,OXYGEN,OXYGEN_FLAG_W,SILCAT,SILCAT_FLAG_W,NO2+NO3,NO2+NO3_FLAG_W,PHSPHT,PHSPHT_FLAG_W,REVPRS,REVTMP
,,,,,,,,,,,,,DBAR,ITS-90,PSS-78,,PSS-78,,UMOL/KG,,ITS-90,UMOL/KG,,UMOL/KG,,UMOL/KG,,UMOL/KG,,DBAR,DEG C
     33KB188_1,  PRS2,     2, 13,     24,   8024,2,20061211,0038, 22.7777,-157.8903, 1020,      7,      6.3,  24.9120,  35.2289,2,  35.2276,2,    208.7,1, 24.9106,   -999.0,9,  -999.00,9,  -999.00,9,  -999.00,9,  -999.0,-999.000
     33KB188_1,  PRS2,     2, 13,     23,   8023,2,20061211,0038, 22.7777,-157.8903, 1020,      5,      6.7,  24.9120,  35.2289,2,  35.2276,2,    208.6,1, 24.9105,   -999.0,9,  -999.00,9,  -999.00,9,  -999.00,9,  -999.0,-999.000
     33KB188_1,  PRS2,     2, 13,     22,   8022,2,20061211,0038, 22.7777,-157.8903, 1020,     24,     25.6,  24.8767,  35.2273,2,  35.2249,2,    208.6,1, 24.8712,   -999.0,9,  -999.00,9,  -999.00,9,  -999.00,9,  -999.0,-999.000
     33KB188_1,  PRS2,     2, 13,     21,   8021,2,20061211,0038, 22.7777,-157.8903, 1020,     44,     45.6,  24.8668,  35.2300,2,  35.2280,2,    208.4,1, 24.8569,   -999.0,9,  -999.00,9,  -999.00,9,  -999.00,9,  -999.0,-999.000
     33KB188_1,  PRS2,     2, 13,     20,   8020,2,20061211,0038, 22.7777,-157.8903, 1020,     75,     74.7,  24.8701,  35.2437,2,  35.2416,2,    208.2,1, 24.8539,   -999.0,9,  -999.00,9,  -999.00,9,  -999.00,9,  -999.0,-999.000
     33KB188_1,  PRS2,     2, 13,     19,   8019,2,20061211,0038, 22.7777,-157.8903, 1020,    102,    100.6,  22.9134,  35.1942,2,  35.1931,2,    213.9,1, 22.8929,   -999.0,9,  -999.00,9,  -999.00,9,  -999.00,9,  -999.0,-999.000
     33KB188_1,  PRS2,     2, 13,     18,   8018,2,20061211,0038, 22.7777,-157.8903, 1020,    102,    100.6,  22.8957,  35.1961,2,  35.1920,2,    213.7,1, 22.8752,   -999.0,9,  -999.00,9,  -999.00,9,  -999.00,9,  -999.0,-999.000
     33KB188_1,  PRS2,     2, 13,     17,   8017,2,20061211,0038, 22.7777,-157.8903, 1020,    124,    125.6,  21.4244,  35.1396,2,  35.1419,2,    203.5,1, 21.4000,   -999.0,9,  -999.00,9,  -999.00,9,  -999.00,9,  -999.0,-999.000
     33KB188_1,  PRS2,     2, 13,     16,   8016,2,20061211,0038, 22.7777,-157.8903, 1020,    152,    151.0,  19.1970,  34.9696,2,  34.9719,2,    197.5,1, 19.1699,   -999.0,9,  -999.00,9,  -999.00,9,  -999.00,9,  -999.0,-999.000
     33KB188_1,  PRS2,     2, 13,     15,   8015,2,20061211,0038, 22.7777,-157.8903, 1020,    175,    175.6,  18.1655,  34.8518,2,  34.8524,2,    198.5,1, 18.1352,   -999.0,9,  -999.00,9,  -999.00,9,  -999.00,9,  -999.0,-999.000
     33KB188_1,  PRS2,     2, 13,     14,   8014,2,20061211,0038, 22.7777,-157.8903, 1020,    200,    198.8,  17.0116,  34.7210,2,  34.7321,2,    198.8,1, 16.9789,   -999.0,9,  -999.00,9,  -999.00,9,  -999.00,9,  -999.0,-999.000
     33KB188_1,  PRS2,     2, 13,     13,   8025,3,20061211,0038, 22.7777,-157.8903, 1020,    196,    199.7,  16.9927,  34.7208,2,  34.7333,2,    198.7,1, 16.9598,   -999.0,9,  -999.00,9,  -999.00,9,  -999.00,9,  -999.0,-999.000
     33KB188_1,  PRS2,     2, 13,     12,   8012,2,20061211,0038, 22.7777,-157.8903, 1020,    249,    249.4,  14.5468,  34.4755,2,  34.4746,2,    204.0,1, 14.5099,   -999.0,9,  -999.00,9,  -999.00,9,  -999.00,9,  -999.0,-999.000
     33KB188_1,  PRS2,     2, 13,     11,   8011,2,20061211,0038, 22.7777,-157.8903, 1020,    298,    301.3,  12.8787,  34.3595,2,  34.3556,2,    208.6,1, 12.8376,   -999.0,9,  -999.00,9,  -999.00,9,  -999.00,9,  -999.0,-999.000
     33KB188_1,  PRS2,     2, 13,     10,   8010,2,20061211,0038, 22.7777,-157.8903, 1020,    350,    352.5,  11.2123,  34.2379,2,  34.2421,2,    202.5,1, 11.1684,   -999.0,9,  -999.00,9,  -999.00,9,  -999.00,9,  -999.0,-999.000
     33KB188_1,  PRS2,     2, 13,      9,   8009,2,20061211,0038, 22.7777,-157.8903, 1020,    350,    352.5,  11.2115,  34.2383,2,  34.2360,2,    202.5,1, 11.1676,   -999.0,9,  -999.00,9,  -999.00,9,  -999.00,9,  -999.0,-999.000
     33KB188_1,  PRS2,     2, 13,      8,   8008,2,20061211,0038, 22.7777,-157.8903, 1020,    398,    399.7,   9.7177,  34.1507,2,  34.1593,2,    182.6,1,  9.6722,   -999.0,9,  -999.00,9,  -999.00,9,  -999.00,9,  -999.0,-999.000
     33KB188_1,  PRS2,     2, 13,      7,   8026,2,20061211,0038, 22.7777,-157.8903, 1020,    501,    500.5,   7.2746,  34.0601,2,  34.0588,2,    129.9,1,  7.2264,   -999.0,9,  -999.00,9,  -999.00,9,  -999.00,9,  -999.0,-999.000
     33KB188_1,  PRS2,     2, 13,      6,   8006,2,20061211,0038, 22.7777,-157.8903, 1020,    553,    551.5,   6.5369,  34.0863,2,  34.0885,2,    101.7,1,  6.4867,   -999.0,9,  -999.00,9,  -999.00,9,  -999.00,9,  -999.0,-999.000
     33KB188_1,  PRS2,     2, 13,      5,   8005,2,20061211,0038, 22.7777,-157.8903, 1020,    702,    701.9,   5.0960,  34.2110,2,  34.2144,2,     36.2,1,  5.0389,   -999.0,9,  -999.00,9,  -999.00,9,  -999.00,9,  -999.0,-999.000
     33KB188_1,  PRS2,     2, 13,      4,   8004,2,20061211,0038, 22.7777,-157.8903, 1020,    800,    800.4,   4.5379,  34.3521,2,  34.3549,2,     27.0,1,  4.4754,   -999.0,9,  -999.00,9,  -999.00,9,  -999.00,9,  -999.0,-999.000
     33KB188_1,  PRS2,     2, 13,      3,   8003,2,20061211,0038, 22.7777,-157.8903, 1020,    899,    900.0,   4.2162,  34.4321,2,  35.2280,4,     33.8,1,  4.1474,   -999.0,9,  -999.00,9,  -999.00,9,  -999.00,9,  -999.0,-999.000
     33KB188_1,  PRS2,     2, 13,      2,   8002,2,20061211,0038, 22.7777,-157.8903, 1020,   1017,   1020.2,   3.8953,  34.4849,2,  34.4836,2,     41.9,1,  3.8188,   -999.0,9,  -999.00,9,  -999.00,9,  -999.00,9,  -999.0,-999.000
     33KB188_1,  PRS2,     2, 13,      1,   8001,2,20061211,0038, 22.7777,-157.8903, 1020,   1017,   1020.4,   3.8948,  34.4848,2,  34.4883,2,     41.9,1,  3.8183,   -999.0,9,  -999.00,9,  -999.00,9,  -999.00,9,  -999.0,-999.000
     33KB188_1,  PRS2,     2, 14,     14,   8014,2,20061211,0303, 22.7678,-157.9212, 1020,      7,      8.3,  24.8333,  35.2341,2,  35.2322,2,    208.0,1, 24.8315,   -999.0,9,  -999.00,9,  -999.00,9,  -999.00,9,  -999.0,-999.000
     33KB188_1,  PRS2,     2, 14,     13,   8025,2,20061211,0303, 22.7678,-157.9212, 1020,     23,     23.3,  24.8207,  35.2300,2,  35.2341,2,    207.8,1, 24.8157,   -999.0,9,  -999.00,9,  -999.00,9,  -999.00,9,  -999.0,-999.000
     33KB188_1,  PRS2,     2, 14,     12,   8012,2,20061211,0303, 22.7678,-157.9212, 1020,     46,     45.6,  24.8223,  35.2304,2,  35.2284,2,    208.2,1, 24.8124,   -999.0,9,  -999.00,9,  -999.00,9,  -999.00,9,  -999.0,-999.000
     33KB188_1,  PRS2,     2, 14,     11,   8011,2,20061211,0303, 22.7678,-157.9212, 1020,     72,     73.5,  24.8198,  35.2300,2,  35.2278,2,    208.2,1, 24.8040,   -999.0,9,  -999.00,9,  -999.00,9,  -999.00,9,  -999.0,-999.000
     33KB188_1,  PRS2,     2, 14,     10,   8010,2,20061211,0303, 22.7678,-157.9212, 1020,    101,    101.3,  22.3173,  35.1776,2,  35.1760,2,    209.8,1, 22.2971,   -999.0,9,  -999.00,9,  -999.00,9,  -999.00,9,  -999.0,-999.000
     33KB188_1,  PRS2,     2, 14,      9,   8009,2,20061211,0303, 22.7678,-157.9212, 1020,    125,    126.2,  20.7344,  35.1274,2,  35.1264,2,    200.6,1, 20.7105,   -999.0,9,  -999.00,9,  -999.00,9,  -999.00,9,  -999.0,-999.000
     33KB188_1,  PRS2,     2, 14,      8,   8008,2,20061211,0303, 22.7678,-157.9212, 1020,    152,    149.9,  19.2373,  34.9797,2,  34.9785,2,    197.0,1, 19.2103,   -999.0,9,  -999.00,9,  -999.00,9,  -999.00,9,  -999.0,-999.000
     33KB188_1,  PRS2,     2, 14,      7,   8026,2,20061211,0303, 22.7678,-157.9212, 1020,    174,    174.7,  18.1650,  34.8535,2,  34.8550,2,    198.9,1, 18.1349,   -999.0,9,  -999.00,9,  -999.00,9,  -999.00,9,  -999.0,-999.000
     33KB188_1,  PRS2,     2, 14,      6,   8006,2,20061211,0303, 22.7678,-157.9212, 1020,    199,    199.4,  17.2017,  34.7385,2,  34.7353,2,    198.7,1, 17.1686,   -999.0,9,  -999.00,9,  -999.00,9,  -999.00,9,  -999.0,-999.000
     33KB188_1,  PRS2,     2, 14,      5,   8005,2,20061211,0303, 22.7678,-157.9212, 1020,    248,    249.2,  14.5473,  34.4679,2,  34.4569,2,    201.0,1, 14.5105,   -999.0,9,  -999.00,9,  -999.00,9,  -999.00,9,  -999.0,-999.000
     33KB188_1,  PRS2,     2, 14,      3,   8003,2,20061211,0303, 22.7678,-157.9212, 1020,    348,    347.4,  11.3843,  34.2446,2,  34.2409,2,    203.1,1, 11.3406,   -999.0,9,  -999.00,9,  -999.00,9,  -999.00,9,  -999.0,-999.000
     33KB188_1,  PRS2,     2, 14,      4,   8004,3,20061211,0303, 22.7678,-157.9212, 1020,    347,    347.6,  11.3992,  34.2449,2,  34.2460,2,    203.1,1, 11.3554,   -999.0,9,  -999.00,9,  -999.00,9,  -999.00,9,  -999.0,-999.000
     33KB188_1,  PRS2,     2, 14,      2,   8002,2,20061211,0303, 22.7678,-157.9212, 1020,    553,    551.1,   6.3782,  34.0506,2,  34.0497,2,    108.0,1,  6.3287,   -999.0,9,  -999.00,9,  -999.00,9,  -999.00,9,  -999.0,-999.000
     33KB188_1,  PRS2,     2, 14,      1,   8001,2,20061211,0303, 22.7678,-157.9212, 1020,   1019,   1019.6,   3.8730,  34.4887,2,  34.4901,2,     42.3,1,  3.7967,   -999.0,9,  -999.00,9,  -999.00,9,  -999.00,9,  -999.0,-999.000
     33KB188_1,  PRS2,     2, 15,     23,   8023,2,20061211,0557, 22.7913,-157.9257, 1020,      8,      7.3,  24.8406,  35.2515,2,  35.2540,2,    207.3,1, 24.8390,   -999.0,9,  -999.00,9,  -999.00,9,  -999.00,9,  -999.0,-999.000
     33KB188_1,  PRS2,     2, 15,     24,   8024,2,20061211,0557, 22.7913,-157.9257, 1020,      5,      7.9,  24.8406,  35.2514,2,  35.2528,2,    207.4,1, 24.8389,   -999.0,9,  -999.00,9,  -999.00,9,  -999.00,9,  -999.0,-999.000
     33KB188_1,  PRS2,     2, 15,     22,   8022,2,20061211,0557, 22.7913,-157.9257, 1020,     24,     24.1,  24.8465,  35.2512,2,  35.2519,2,    207.3,1, 24.8413,   -999.0,9,  -999.00,9,  -999.00,9,  -999.00,9,  -999.0,-999.000
     33KB188_1,  PRS2,     2, 15,     21,   8021,2,20061211,0557, 22.7913,-157.9257, 1020,     45,     46.0,  24.8503,  35.2516,2,  35.2509,2,    207.2,1, 24.8403,   -999.0,9,  -999.00,9,  -999.00,9,  -999.00,9,  -999.0,-999.000
     33KB188_1,  PRS2,     2, 15,     20,   8020,2,20061211,0557, 22.7913,-157.9257, 1020,     59,     59.9,  24.8283,  35.2571,2,  35.2566,2,    207.3,1, 24.8154,   -999.0,9,  -999.00,9,  -999.00,9,  -999.00,9,  -999.0,-999.000
     33KB188_1,  PRS2,     2, 15,     19,   8019,2,20061211,0557, 22.7913,-157.9257, 1020,     75,     74.2,  24.8103,  35.2581,2,  35.2570,2,    207.7,1, 24.7943,   -999.0,9,  -999.00,9,  -999.00,9,  -999.00,9,  -999.0,-999.000
     33KB188_1,  PRS2,     2, 15,     18,   8018,2,20061211,0557, 22.7913,-157.9257, 1020,     84,     85.3,  24.4597,  35.2462,2,  35.2475,2,    209.2,1, 24.4414,   -999.0,9,  -999.00,9,  -999.00,9,  -999.00,9,  -999.0,-999.000
     33KB188_1,  PRS2,     2, 15,     16,   8016,2,20061211,0557, 22.7913,-157.9257, 1020,    101,    100.9,  22.7956,  35.1980,2,  35.1973,2,    214.7,1, 22.7751,   -999.0,9,  -999.00,9,  -999.00,9,  -999.00,9,  -999.0,-999.000
     33KB188_1,  PRS2,     2, 15,     17,   8017,2,20061211,0557, 22.7913,-157.9257, 1020,    101,    101.1,  22.7960,  35.1984,2,  35.1979,2,    214.5,1, 22.7755,   -999.0,9,  -999.00,9,  -999.00,9,  -999.00,9,  -999.0,-999.000
     33KB188_1,  PRS2,     2, 15,     15,   8015,2,20061211,0557, 22.7913,-157.9257, 1020,    110,    113.3,  22.1827,  35.1763,2,  35.1847,2,    210.5,1, 22.1602,   -999.0,9,  -999.00,9,  -999.00,9,  -999.00,9,  -999.0,-999.000
     33KB188_1,  PRS2,     2, 15,     14,   8014,2,20061211,0557, 22.7913,-157.9257, 1020,    127,    124.6,  21.5978,  35.1778,2,  35.1833,2,    204.1,1, 21.5735,   -999.0,9,  -999.00,9,  -999.00,9,  -999.00,9,  -999.0,-999.000
     33KB188_1,  PRS2,     2, 15,     13,   8025,2,20061211,0557, 22.7913,-157.9257, 1020,    136,    137.0,  20.7175,  35.1098,2,  35.1134,2,    199.2,1, 20.6915,   -999.0,9,  -999.00,9,  -999.00,9,  -999.00,9,  -999.0,-999.000
     33KB188_1,  PRS2,     2, 15,     12,   8012,2,20061211,0557, 22.7913,-157.9257, 1020,    147,    149.6,  20.2122,  35.0726,2,  35.0821,2,    195.8,1, 20.1843,   -999.0,9,  -999.00,9,  -999.00,9,  -999.00,9,  -999.0,-999.000
     33KB188_1,  PRS2,     2, 15,     11,   8011,2,20061211,0557, 22.7913,-157.9257, 1020,    176,    174.7,  18.9850,  34.9515,2,  34.9557,2,    197.0,1, 18.9538,   -999.0,9,  -999.00,9,  -999.00,9,  -999.00,9,  -999.0,-999.000
     33KB188_1,  PRS2,     2, 15,     10,   8010,2,20061211,0557, 22.7913,-157.9257, 1020,    198,    200.8,  17.3476,  34.7614,2,  34.7579,2,    199.8,1, 17.3140,   -999.0,9,  -999.00,9,  -999.00,9,  -999.00,9,  -999.0,-999.000
     33KB188_1,  PRS2,     2, 15,      9,   8009,2,20061211,0557, 22.7913,-157.9257, 1020,    298,    299.4,  12.7810,  34.2966,2,  34.2936,2,    204.1,1, 12.7404,   -999.0,9,  -999.00,9,  -999.00,9,  -999.00,9,  -999.0,-999.000
     33KB188_1,  PRS2,     2, 15,      8,   8008,2,20061211,0557, 22.7913,-157.9257, 1020,    401,    400.2,  10.0976,  34.1744,2,  34.1724,2,    191.7,1, 10.0509,   -999.0,9,  -999.00,9,  -999.00,9,  -999.00,9,  -999.0,-999.000
     33KB188_1,  PRS2,     2, 15,      7,   8026,2,20061211,0557, 22.7913,-157.9257, 1020,    501,    500.2,   7.7667,  34.0719,2,  34.0717,2,    141.8,1,  7.7167,   -999.0,9,  -999.00,9,  -999.00,9,  -999.00,9,  -999.0,-999.000
     33KB188_1,  PRS2,     2, 15,      6,   8006,2,20061211,0557, 22.7913,-157.9257, 1020,    549,    551.5,   6.6490,  34.0552,2,  34.0556,2,    110.9,1,  6.5983,   -999.0,9,  -999.00,9,  -999.00,9,  -999.00,9,  -999.0,-999.000
     33KB188_1,  PRS2,     2, 15,      5,   8005,2,20061211,0557, 22.7913,-157.9257, 1020,    699,    699.9,   5.0861,  34.2163,2,  34.2138,2,     35.4,1,  5.0292,   -999.0,9,  -999.00,9,  -999.00,9,  -999.00,9,  -999.0,-999.000
     33KB188_1,  PRS2,     2, 15,      4,   8004,2,20061211,0557, 22.7913,-157.9257, 1020,    799,    799.6,   4.4914,  34.3657,2,  34.3641,2,     27.2,1,  4.4292,   -999.0,9,  -999.00,9,  -999.00,9,  -999.00,9,  -999.0,-999.000
     33KB188_1,  PRS2,     2, 15,      3,   8003,2,20061211,0557, 22.7913,-157.9257, 1020,    900,    900.1,   4.2061,  34.4311,2,  34.4310,2,     32.8,1,  4.1373,   -999.0,9,  -999.00,9,  -999.00,9,  -999.00,9,  -999.0,-999.000
     33KB188_1,  PRS2,     2, 15,      1,   8001,2,20061211,0557, 22.7913,-157.9257, 1020,   1020,   1017.7,   3.8438,  34.4923,2,  34.4952,2,     42.2,1,  3.7679,   -999.0,9,  -999.00,9,  -999.00,9,  -999.00,9,  -999.0,-999.000
     33KB188_1,  PRS2,     2, 15,      2,   8002,2,20061211,0557, 22.7913,-157.9257, 1020,   1016,   1019.4,   3.8408,  34.4911,2,  34.4930,2,     42.1,1,  3.7648,   -999.0,9,  -999.00,9,  -999.00,9,  -999.00,9,  -999.0,-999.000