BOTTLE,20090923WHPSIOMYS
EXPOCODE,SECT_ID,STNNBR,CASTNO,SAMPNO,BTLNBR,BTLNBR_FLAG_W,DATE,TIME,LATITUDE,LONGITUDE,DEPTH,CTDRAW,CTDPRS,CTDTMP,CTDSAL,CTDSAL_FLAG_W,SALNTY,SALNTY_FLAG_W,CTDOXY,CTDOXY_FLAG_W,THETA,OXYGEN,OXYGEN_FLAG_W,SILCAT,SILCAT_FLAG_W,NO2+NO3,NO2+NO3_FLAG_W,PHSPHT,PHSPHT_FLAG_W,REVPRS,REVTMP
,,,,,,,,,,,,,DBAR,ITS-90,PSS-78,,PSS-78,,UMOL/KG,,ITS-90,UMOL/KG,,UMOL/KG,,UMOL/KG,,UMOL/KG,,DBAR,DEG C
     33KB146_1,  PRS2,     2,  8,     22,     22,2,20030329,1153, 22.7665,-157.9895, 4735,     11,      9.5,  23.5010,  35.3196,2,  35.3189,2,    269.6,1, 23.4990,   -999.0,9,  -999.00,9,  -999.00,9,  -999.00,9,  -999.0,-999.000
     33KB146_1,  PRS2,     2,  8,     21,     21,2,20030329,1153, 22.7665,-157.9895, 4735,     11,      9.6,  23.4969,  35.3195,2,  35.3200,2,    269.6,1, 23.4949,   -999.0,9,  -999.00,9,  -999.00,9,  -999.00,9,  -999.0,-999.000
     33KB146_1,  PRS2,     2,  8,     20,     20,2,20030329,1153, 22.7665,-157.9895, 4735,     11,      9.6,  23.4964,  35.3192,2,  35.3191,2,    269.6,1, 23.4944,   -999.0,9,  -999.00,9,  -999.00,9,  -999.00,9,  -999.0,-999.000
     33KB146_1,  PRS2,     2,  8,     19,     19,2,20030329,1153, 22.7665,-157.9895, 4735,     26,     24.5,  23.5027,  35.3194,2,  35.3198,2,    269.6,1, 23.4976,   -999.0,9,  -999.00,9,  -999.00,9,  -999.00,9,  -999.0,-999.000
     33KB146_1,  PRS2,     2,  8,     18,     18,2,20030329,1153, 22.7665,-157.9895, 4735,     25,     24.6,  23.5029,  35.3197,2,  35.3194,2,    269.6,1, 23.4978,   -999.0,9,  -999.00,9,  -999.00,9,  -999.00,9,  -999.0,-999.000
     33KB146_1,  PRS2,     2,  8,     17,     17,4,20030329,1153, 22.7665,-157.9895, 4735,     25,     24.6,  23.4994,  35.3208,2,-999.0000,5,    269.6,1, 23.4943,   -999.0,9,  -999.00,9,  -999.00,9,  -999.00,9,  -999.0,-999.000
     33KB146_1,  PRS2,     2,  8,     14,     40,2,20030329,1153, 22.7665,-157.9895, 4735,     48,     45.2,  23.1792,  35.3730,2,  35.3723,2,    270.9,1, 23.1699,   -999.0,9,  -999.00,9,  -999.00,9,  -999.00,9,  -999.0,-999.000
     33KB146_1,  PRS2,     2,  8,     15,     23,2,20030329,1153, 22.7665,-157.9895, 4735,     47,     45.6,  23.1799,  35.3726,2,  35.3742,2,    270.9,1, 23.1706,   -999.0,9,  -999.00,9,  -999.00,9,  -999.00,9,  -999.0,-999.000
     33KB146_1,  PRS2,     2,  8,     16,     16,2,20030329,1153, 22.7665,-157.9895, 4735,     46,     45.7,  23.1776,  35.3726,2,  35.3723,2,    270.8,1, 23.1682,   -999.0,9,  -999.00,9,  -999.00,9,  -999.00,9,  -999.0,-999.000
     33KB146_1,  PRS2,     2,  8,     11,     39,2,20030329,1153, 22.7665,-157.9895, 4735,     76,     74.1,  22.9918,  35.3897,2,  35.3916,2,    269.5,1, 22.9766,   -999.0,9,  -999.00,9,  -999.00,9,  -999.00,9,  -999.0,-999.000
     33KB146_1,  PRS2,     2,  8,     12,     12,2,20030329,1153, 22.7665,-157.9895, 4735,     75,     74.5,  22.9917,  35.3898,2,  35.3892,2,    269.4,1, 22.9765,   -999.0,9,  -999.00,9,  -999.00,9,  -999.00,9,  -999.0,-999.000
     33KB146_1,  PRS2,     2,  8,     13,     13,4,20030329,1153, 22.7665,-157.9895, 4735,     74,     74.6,  22.9913,  35.3898,2,-999.0000,5,    269.3,1, 22.9761,   -999.0,9,  -999.00,9,  -999.00,9,  -999.00,9,  -999.0,-999.000
     33KB146_1,  PRS2,     2,  8,      8,     29,2,20030329,1153, 22.7665,-157.9895, 4735,    101,    101.5,  22.5193,  35.3763,2,  35.3807,2,    265.5,1, 22.4989,   -999.0,9,  -999.00,9,  -999.00,9,  -999.00,9,  -999.0,-999.000
     33KB146_1,  PRS2,     2,  8,     10,     32,2,20030329,1153, 22.7665,-157.9895, 4735,    103,    101.7,  22.5125,  35.3770,2,  35.3768,2,    266.3,1, 22.4920,   -999.0,9,  -999.00,9,  -999.00,9,  -999.00,9,  -999.0,-999.000
     33KB146_1,  PRS2,     2,  8,      9,      3,2,20030329,1153, 22.7665,-157.9895, 4735,    102,    101.7,  22.5164,  35.3767,2,  35.3766,2,    266.0,1, 22.4959,   -999.0,9,  -999.00,9,  -999.00,9,  -999.00,9,  -999.0,-999.000
     33KB146_1,  PRS2,     2,  8,      7,     28,3,20030329,1153, 22.7665,-157.9895, 4735,    127,    125.2,  21.6676,  35.3262,2,  35.3248,2,    254.5,1, 21.6431,   -999.0,9,  -999.00,9,  -999.00,9,  -999.00,9,  -999.0,-999.000
     33KB146_1,  PRS2,     2,  8,      6,      7,2,20030329,1153, 22.7665,-157.9895, 4735,    126,    125.5,  21.6663,  35.3258,2,  35.3248,2,    254.6,1, 21.6417,   -999.0,9,  -999.00,9,  -999.00,9,  -999.00,9,  -999.0,-999.000
     33KB146_1,  PRS2,     2,  8,      5,     38,2,20030329,1153, 22.7665,-157.9895, 4735,    126,    125.5,  21.6684,  35.3258,2,  35.3281,2,    254.6,1, 21.6439,   -999.0,9,  -999.00,9,  -999.00,9,  -999.00,9,  -999.0,-999.000
     33KB146_1,  PRS2,     2,  8,      4,     36,2,20030329,1153, 22.7665,-157.9895, 4735,    153,    151.7,  20.9168,  35.2640,2,  35.2654,2,    248.8,1, 20.8878,   -999.0,9,  -999.00,9,  -999.00,9,  -999.00,9,  -999.0,-999.000
     33KB146_1,  PRS2,     2,  8,      3,     35,2,20030329,1153, 22.7665,-157.9895, 4735,    176,    174.9,  19.7855,  35.1441,2,  35.1453,2,    251.3,1, 19.7534,   -999.0,9,  -999.00,9,  -999.00,9,  -999.00,9,  -999.0,-999.000
     33KB146_1,  PRS2,     2,  8,      2,     34,2,20030329,1153, 22.7665,-157.9895, 4735,    501,    500.4,   7.7629,  34.0453,2,  34.0458,2,    160.0,1,  7.7128,   -999.0,9,  -999.00,9,  -999.00,9,  -999.00,9,  -999.0,-999.000
     33KB146_1,  PRS2,     2,  8,      1,     33,2,20030329,1153, 22.7665,-157.9895, 4735,   1021,   1018.4,   4.0635,  34.4948,2,  34.4954,2,     41.0,1,  3.9858,   -999.0,9,  -999.00,9,  -999.00,9,  -999.00,9,  -999.0,-999.000
     33KB146_1,  PRS2,     2,  9,      4,     36,2,20030329,1455, 22.7513,-157.9975, 4741,     12,     10.5,  23.4860,  35.3204,2,  35.3192,2,    269.6,1, 23.4838,   -999.0,9,  -999.00,9,  -999.00,9,  -999.00,9,  -999.0,-999.000
     33KB146_1,  PRS2,     2,  9,      3,     35,3,20030329,1455, 22.7513,-157.9975, 4741,     71,     69.9,  23.0098,  35.3699,2,  35.3677,2,    269.6,1, 22.9955,   -999.0,9,  -999.00,9,  -999.00,9,  -999.00,9,  -999.0,-999.000
     33KB146_1,  PRS2,     2,  9,      2,     34,2,20030329,1455, 22.7513,-157.9975, 4741,    556,    555.6,   6.4563,  34.0342,2,  34.0333,2,    113.9,1,  6.4060,   -999.0,9,  -999.00,9,  -999.00,9,  -999.00,9,  -999.0,-999.000
     33KB146_1,  PRS2,     2,  9,      1,     33,2,20030329,1455, 22.7513,-157.9975, 4741,   1017,   1018.1,   4.0411,  34.4979,2,  34.4972,2,     41.6,1,  3.9636,   -999.0,9,  -999.00,9,  -999.00,9,  -999.00,9,  -999.0,-999.000
     33KB146_1,  PRS2,     2, 10,     10,     32,2,20030329,1756, 22.7298,-157.9827, 4744,     11,     10.3,  23.5040,  35.3281,2,  35.3275,2,    270.2,1, 23.5019,   -999.0,9,  -999.00,9,  -999.00,9,  -999.00,9,  -999.0,-999.000
     33KB146_1,  PRS2,     2, 10,      9,      3,2,20030329,1756, 22.7298,-157.9827, 4744,     25,     23.1,  23.4981,  35.3279,2,  35.3265,2,    270.4,1, 23.4933,   -999.0,9,  -999.00,9,  -999.00,9,  -999.00,9,  -999.0,-999.000
     33KB146_1,  PRS2,     2, 10,      8,     29,2,20030329,1756, 22.7298,-157.9827, 4744,     46,     45.5,  23.1713,  35.3621,2,  35.3606,2,    271.0,1, 23.1619,   -999.0,9,  -999.00,9,  -999.00,9,  -999.00,9,  -999.0,-999.000
     33KB146_1,  PRS2,     2, 10,      7,     28,2,20030329,1756, 22.7298,-157.9827, 4744,     76,     75.2,  22.8107,  35.3858,2,  35.3869,2,    270.6,1, 22.7955,   -999.0,9,  -999.00,9,  -999.00,9,  -999.00,9,  -999.0,-999.000
     33KB146_1,  PRS2,     2, 10,      6,      7,2,20030329,1756, 22.7298,-157.9827, 4744,    103,    101.1,  22.0997,  35.3522,2,  35.3488,2,    264.2,1, 22.0796,   -999.0,9,  -999.00,9,  -999.00,9,  -999.00,9,  -999.0,-999.000
     33KB146_1,  PRS2,     2, 10,      5,     38,2,20030329,1756, 22.7298,-157.9827, 4744,    125,    123.7,  21.5235,  35.3262,2,  35.3232,2,    255.8,1, 21.4993,   -999.0,9,  -999.00,9,  -999.00,9,  -999.00,9,  -999.0,-999.000
     33KB146_1,  PRS2,     2, 10,      4,     36,2,20030329,1756, 22.7298,-157.9827, 4744,    149,    148.1,  20.7438,  35.2637,2,  35.2637,2,    251.3,1, 20.7157,   -999.0,9,  -999.00,9,  -999.00,9,  -999.00,9,  -999.0,-999.000
     33KB146_1,  PRS2,     2, 10,      3,     35,2,20030329,1756, 22.7298,-157.9827, 4744,    174,    172.0,  20.0812,  35.1882,2,  35.1847,2,    251.0,1, 20.0493,   -999.0,9,  -999.00,9,  -999.00,9,  -999.00,9,  -999.0,-999.000
     33KB146_1,  PRS2,     2, 10,      2,     34,2,20030329,1756, 22.7298,-157.9827, 4744,    527,    526.1,   6.8684,  34.0299,2,  34.0282,2,    127.6,1,  6.8193,   -999.0,9,  -999.00,9,  -999.00,9,  -999.00,9,  -999.0,-999.000
     33KB146_1,  PRS2,     2, 10,      1,     33,2,20030329,1756, 22.7298,-157.9827, 4744,   1020,   1019.6,   4.0346,  34.4984,2,  34.4968,2,     42.1,1,  3.9571,   -999.0,9,  -999.00,9,  -999.00,9,  -999.00,9,  -999.0,-999.000
     33KB146_1,  PRS2,     2, 11,      4,     36,2,20030329,2055, 22.7265,-157.9713, 4745,     11,     10.4,  23.5331,  35.3207,2,  35.3185,2,    270.0,1, 23.5309,   -999.0,9,  -999.00,9,  -999.00,9,  -999.00,9,  -999.0,-999.000
     33KB146_1,  PRS2,     2, 11,      3,     35,2,20030329,2055, 22.7265,-157.9713, 4745,     62,     58.5,  23.0057,  35.3797,2,  35.3794,2,    269.6,1, 22.9938,   -999.0,9,  -999.00,9,  -999.00,9,  -999.00,9,  -999.0,-999.000
     33KB146_1,  PRS2,     2, 11,      2,     34,2,20030329,2055, 22.7265,-157.9713, 4745,    522,    520.9,   6.8322,  34.0302,2,  34.0280,2,    126.3,1,  6.7837,   -999.0,9,  -999.00,9,  -999.00,9,  -999.00,9,  -999.0,-999.000
     33KB146_1,  PRS2,     2, 11,      1,     33,2,20030329,2055, 22.7265,-157.9713, 4745,   1022,   1020.3,   4.0940,  34.4884,2,  34.4879,2,     39.4,1,  4.0159,   -999.0,9,  -999.00,9,  -999.00,9,  -999.00,9,  -999.0,-999.000
     33KB146_1,  PRS2,     2, 12,     11,     39,2,20030329,2354, 22.7243,-158.0050, 4735,      9,      8.8,  23.5573,  35.3253,2,  35.3291,2,    270.2,1, 23.5555,   -999.0,9,  -999.00,9,  -999.00,9,  -999.00,9,  -999.0,-999.000
     33KB146_1,  PRS2,     2, 12,     10,     32,2,20030329,2354, 22.7243,-158.0050, 4735,     25,     24.0,  23.4845,  35.3321,2,  35.3443,3,    270.6,1, 23.4796,   -999.0,9,  -999.00,9,  -999.00,9,  -999.00,9,  -999.0,-999.000
     33KB146_1,  PRS2,     2, 12,      9,      3,2,20030329,2354, 22.7243,-158.0050, 4735,     46,     45.0,  23.1521,  35.3721,2,  35.3709,2,    272.1,1, 23.1429,   -999.0,9,  -999.00,9,  -999.00,9,  -999.00,9,  -999.0,-999.000
     33KB146_1,  PRS2,     2, 12,      8,     29,2,20030329,2354, 22.7243,-158.0050, 4735,     75,     74.6,  22.9732,  35.3959,2,  35.3961,2,    271.6,1, 22.9579,   -999.0,9,  -999.00,9,  -999.00,9,  -999.00,9,  -999.0,-999.000
     33KB146_1,  PRS2,     2, 12,      7,     28,3,20030329,2354, 22.7243,-158.0050, 4735,    102,    100.9,  22.6249,  35.3829,2,  35.3823,2,    268.3,1, 22.6045,   -999.0,9,  -999.00,9,  -999.00,9,  -999.00,9,  -999.0,-999.000
     33KB146_1,  PRS2,     2, 12,      6,      7,2,20030329,2354, 22.7243,-158.0050, 4735,    126,    125.8,  21.6906,  35.3277,2,  35.3311,2,    259.6,1, 21.6660,   -999.0,9,  -999.00,9,  -999.00,9,  -999.00,9,  -999.0,-999.000
     33KB146_1,  PRS2,     2, 12,      5,     38,2,20030329,2354, 22.7243,-158.0050, 4735,    152,    151.3,  20.7451,  35.2416,2,  35.2426,2,    250.8,1, 20.7164,   -999.0,9,  -999.00,9,  -999.00,9,  -999.00,9,  -999.0,-999.000
     33KB146_1,  PRS2,     2, 12,      4,     36,2,20030329,2354, 22.7243,-158.0050, 4735,    249,    249.3,  15.7007,  34.5860,2,  34.5963,2,    241.3,1, 15.6618,   -999.0,9,  -999.00,9,  -999.00,9,  -999.00,9,  -999.0,-999.000
     33KB146_1,  PRS2,     2, 12,      3,     35,2,20030329,2354, 22.7243,-158.0050, 4735,    351,    350.1,  11.6727,  34.2470,2,  34.2660,2,    237.3,1, 11.6279,   -999.0,9,  -999.00,9,  -999.00,9,  -999.00,9,  -999.0,-999.000
     33KB146_1,  PRS2,     2, 12,      2,     34,2,20030329,2354, 22.7243,-158.0050, 4735,    749,    749.5,   4.8090,  34.2883,2,  34.2850,2,     26.7,1,  4.7493,   -999.0,9,  -999.00,9,  -999.00,9,  -999.00,9,  -999.0,-999.000
     33KB146_1,  PRS2,     2, 12,      1,     33,2,20030329,2354, 22.7243,-158.0050, 4735,   1021,   1019.1,   4.1185,  34.4912,2,  34.4907,2,     40.4,1,  4.0403,   -999.0,9,  -999.00,9,  -999.00,9,  -999.00,9,  -999.0,-999.000
     33KB146_1,  PRS2,     2, 13,     23,     30,2,20030330,0556, 22.7583,-157.9998, 4743,      5,      4.5,  23.5692,  35.3355,2,  35.3348,2,    270.3,1, 23.5682,   -999.0,9,  -999.00,9,  -999.00,9,  -999.00,9,  -999.0,-999.000
     33KB146_1,  PRS2,     2, 13,     22,     22,3,20030330,0556, 22.7583,-157.9998, 4743,      6,      4.7,  23.5682,  35.3358,2,  35.3380,2,    270.3,1, 23.5672,   -999.0,9,  -999.00,9,  -999.00,9,  -999.00,9,  -999.0,-999.000
     33KB146_1,  PRS2,     2, 13,     21,     21,3,20030330,0556, 22.7583,-157.9998, 4743,     24,     23.6,  23.4670,  35.3330,2,-999.0000,5,    270.3,1, 23.4622,   -999.0,9,  -999.00,9,  -999.00,9,  -999.00,9,  -999.0,-999.000
     33KB146_1,  PRS2,     2, 13,     20,     20,2,20030330,0556, 22.7583,-157.9998, 4743,     24,     23.7,  23.4677,  35.3332,2,  35.3350,2,    270.4,1, 23.4628,   -999.0,9,  -999.00,9,  -999.00,9,  -999.00,9,  -999.0,-999.000
     33KB146_1,  PRS2,     2, 13,     19,     19,3,20030330,0556, 22.7583,-157.9998, 4743,     45,     45.0,  23.1909,  35.3802,2,  35.3770,2,    272.5,1, 23.1816,   -999.0,9,  -999.00,9,  -999.00,9,  -999.00,9,  -999.0,-999.000
     33KB146_1,  PRS2,     2, 13,     18,     18,3,20030330,0556, 22.7583,-157.9998, 4743,     45,     45.2,  23.1839,  35.3812,2,  35.3778,2,    272.4,1, 23.1746,   -999.0,9,  -999.00,9,  -999.00,9,  -999.00,9,  -999.0,-999.000
     33KB146_1,  PRS2,     2, 13,     17,     17,2,20030330,0556, 22.7583,-157.9998, 4743,     61,     60.3,  23.0838,  35.3798,2,  35.3790,2,    271.8,1, 23.0714,   -999.0,9,  -999.00,9,  -999.00,9,  -999.00,9,  -999.0,-999.000
     33KB146_1,  PRS2,     2, 13,     16,     16,3,20030330,0556, 22.7583,-157.9998, 4743,     75,     75.0,  22.9144,  35.3775,2,  35.3760,2,    269.6,1, 22.8991,   -999.0,9,  -999.00,9,  -999.00,9,  -999.00,9,  -999.0,-999.000
     33KB146_1,  PRS2,     2, 13,     15,     23,2,20030330,0556, 22.7583,-157.9998, 4743,     75,     75.0,  22.9104,  35.3776,2,  35.3758,2,    269.7,1, 22.8951,   -999.0,9,  -999.00,9,  -999.00,9,  -999.00,9,  -999.0,-999.000
     33KB146_1,  PRS2,     2, 13,     14,     40,3,20030330,0556, 22.7583,-157.9998, 4743,     86,     85.2,  22.6837,  35.3663,2,-999.0000,5,    268.1,1, 22.6665,   -999.0,9,  -999.00,9,  -999.00,9,  -999.00,9,  -999.0,-999.000
     33KB146_1,  PRS2,     2, 13,     13,     13,2,20030330,0556, 22.7583,-157.9998, 4743,     99,     97.6,  22.3605,  35.3568,2,  35.3555,2,    264.9,1, 22.3409,   -999.0,9,  -999.00,9,  -999.00,9,  -999.00,9,  -999.0,-999.000
     33KB146_1,  PRS2,     2, 13,     12,     12,3,20030330,0556, 22.7583,-157.9998, 4743,     99,     97.6,  22.3610,  35.3564,2,  35.3559,2,    264.7,1, 22.3414,   -999.0,9,  -999.00,9,  -999.00,9,  -999.00,9,  -999.0,-999.000
     33KB146_1,  PRS2,     2, 13,     11,     39,3,20030330,0556, 22.7583,-157.9998, 4743,    115,    114.3,  21.9577,  35.3449,2,  35.3419,2,    260.8,1, 21.9351,   -999.0,9,  -999.00,9,  -999.00,9,  -999.00,9,  -999.0,-999.000
     33KB146_1,  PRS2,     2, 13,     10,     32,2,20030330,0556, 22.7583,-157.9998, 4743,    126,    124.1,  21.7080,  35.3382,2,  35.3413,2,    258.4,1, 21.6837,   -999.0,9,  -999.00,9,  -999.00,9,  -999.00,9,  -999.0,-999.000
     33KB146_1,  PRS2,     2, 13,      9,      3,2,20030330,0556, 22.7583,-157.9998, 4743,    124,    124.2,  21.7131,  35.3391,2,  35.3384,2,    258.1,1, 21.6887,   -999.0,9,  -999.00,9,  -999.00,9,  -999.00,9,  -999.0,-999.000
     33KB146_1,  PRS2,     2, 13,      8,     29,2,20030330,0556, 22.7583,-157.9998, 4743,    136,    136.0,  21.2087,  35.2945,2,  35.2948,2,    254.4,1, 21.1825,   -999.0,9,  -999.00,9,  -999.00,9,  -999.00,9,  -999.0,-999.000
     33KB146_1,  PRS2,     2, 13,      6,      7,2,20030330,0556, 22.7583,-157.9998, 4743,    151,    148.7,  21.0952,  35.3025,2,  35.3009,2,    258.4,1, 21.0667,   -999.0,9,  -999.00,9,  -999.00,9,  -999.00,9,  -999.0,-999.000
     33KB146_1,  PRS2,     2, 13,      7,     28,2,20030330,0556, 22.7583,-157.9998, 4743,    150,    148.8,  21.1080,  35.3036,2,  35.3060,2,    258.3,1, 21.0794,   -999.0,9,  -999.00,9,  -999.00,9,  -999.00,9,  -999.0,-999.000
     33KB146_1,  PRS2,     2, 13,      4,     36,2,20030330,0556, 22.7583,-157.9998, 4743,    180,    177.9,  19.5563,  35.0993,2,  35.0992,2,    240.4,1, 19.5239,   -999.0,9,  -999.00,9,  -999.00,9,  -999.00,9,  -999.0,-999.000
     33KB146_1,  PRS2,     2, 13,      3,     35,2,20030330,0556, 22.7583,-157.9998, 4743,    180,    177.9,  19.5705,  35.1007,2,  35.1045,2,    240.4,1, 19.5381,   -999.0,9,  -999.00,9,  -999.00,9,  -999.00,9,  -999.0,-999.000
     33KB146_1,  PRS2,     2, 13,      5,     38,2,20030330,0556, 22.7583,-157.9998, 4743,    180,    178.3,  19.5555,  35.0986,2,  35.0992,2,    240.4,1, 19.5230,   -999.0,9,  -999.00,9,  -999.00,9,  -999.00,9,  -999.0,-999.000
     33KB146_1,  PRS2,     2, 13,      2,     34,2,20030330,0556, 22.7583,-157.9998, 4743,    501,    500.5,   7.3684,  34.0333,2,  34.0329,2,    145.9,1,  7.3199,   -999.0,9,  -999.00,9,  -999.00,9,  -999.00,9,  -999.0,-999.000
     33KB146_1,  PRS2,     2, 13,      1,     33,2,20030330,0556, 22.7583,-157.9998, 4743,   1027,   1025.7,   4.0321,  34.4978,2,  34.4976,2,     41.5,1,  3.9540,   -999.0,9,  -999.00,9,  -999.00,9,  -999.00,9,  -999.0,-999.000