BOTTLE,20090923WHPSIOMYS
EXPOCODE,SECT_ID,STNNBR,CASTNO,SAMPNO,BTLNBR,BTLNBR_FLAG_W,DATE,TIME,LATITUDE,LONGITUDE,DEPTH,CTDRAW,CTDPRS,CTDTMP,CTDSAL,CTDSAL_FLAG_W,SALNTY,SALNTY_FLAG_W,CTDOXY,CTDOXY_FLAG_W,THETA,OXYGEN,OXYGEN_FLAG_W,SILCAT,SILCAT_FLAG_W,NO2+NO3,NO2+NO3_FLAG_W,PHSPHT,PHSPHT_FLAG_W,REVPRS,REVTMP
,,,,,,,,,,,,,DBAR,ITS-90,PSS-78,,PSS-78,,UMOL/KG,,ITS-90,UMOL/KG,,UMOL/KG,,UMOL/KG,,UMOL/KG,,DBAR,DEG C
     33KB146_1,  PRS2,     2,  3,     14,     40,2,20030328,2156, 22.7480,-157.9980, 4744,      9,      8.3,  23.7519,  35.2854,2,  35.2897,2,    270.0,1, 23.7502,   -999.0,9,  -999.00,9,  -999.00,9,  -999.00,9,  -999.0,-999.000
     33KB146_1,  PRS2,     2,  3,     13,     13,2,20030328,2156, 22.7480,-157.9980, 4744,     26,     24.8,  23.6890,  35.2936,2,  35.2942,2,    270.6,1, 23.6838,   -999.0,9,  -999.00,9,  -999.00,9,  -999.00,9,  -999.0,-999.000
     33KB146_1,  PRS2,     2,  3,     12,     12,2,20030328,2156, 22.7480,-157.9980, 4744,     44,     43.6,  23.1222,  35.3607,2,  35.3616,2,    270.5,1, 23.1133,   -999.0,9,  -999.00,9,  -999.00,9,  -999.00,9,  -999.0,-999.000
     33KB146_1,  PRS2,     2,  3,     11,     39,2,20030328,2156, 22.7480,-157.9980, 4744,     60,     59.3,  22.9860,  35.3817,2,  35.3871,2,    268.2,1, 22.9739,   -999.0,9,  -999.00,9,  -999.00,9,  -999.00,9,  -999.0,-999.000
     33KB146_1,  PRS2,     2,  3,     10,     32,2,20030328,2156, 22.7480,-157.9980, 4744,     74,     73.4,  22.8035,  35.3771,2,  35.3792,2,    268.2,1, 22.7886,   -999.0,9,  -999.00,9,  -999.00,9,  -999.00,9,  -999.0,-999.000
     33KB146_1,  PRS2,     2,  3,      9,      3,2,20030328,2156, 22.7480,-157.9980, 4744,     86,     84.0,  22.6433,  35.3693,2,  35.3679,2,    267.5,1, 22.6263,   -999.0,9,  -999.00,9,  -999.00,9,  -999.00,9,  -999.0,-999.000
     33KB146_1,  PRS2,     2,  3,      8,     29,2,20030328,2156, 22.7480,-157.9980, 4744,    101,     98.3,  22.2275,  35.3600,2,  35.3610,2,    264.8,1, 22.2079,   -999.0,9,  -999.00,9,  -999.00,9,  -999.00,9,  -999.0,-999.000
     33KB146_1,  PRS2,     2,  3,      7,     28,2,20030328,2156, 22.7480,-157.9980, 4744,    114,    112.5,  21.8089,  35.3292,2,  35.3376,2,    257.4,1, 21.7867,   -999.0,9,  -999.00,9,  -999.00,9,  -999.00,9,  -999.0,-999.000
     33KB146_1,  PRS2,     2,  3,      6,      7,3,20030328,2156, 22.7480,-157.9980, 4744,    125,    124.7,  21.5050,  35.3113,2,  35.3145,2,    254.2,1, 21.4807,   -999.0,9,  -999.00,9,  -999.00,9,  -999.00,9,  -999.0,-999.000
     33KB146_1,  PRS2,     2,  3,      5,     38,2,20030328,2156, 22.7480,-157.9980, 4744,    151,    150.0,  20.9356,  35.2728,2,  35.2741,2,    249.4,1, 20.9069,   -999.0,9,  -999.00,9,  -999.00,9,  -999.00,9,  -999.0,-999.000
     33KB146_1,  PRS2,     2,  3,      4,     36,3,20030328,2156, 22.7480,-157.9980, 4744,    173,    172.6,  19.6069,  35.1154,2,  35.1183,2,    244.3,1, 19.5754,   -999.0,9,  -999.00,9,  -999.00,9,  -999.00,9,  -999.0,-999.000
     33KB146_1,  PRS2,     2,  3,      3,     35,2,20030328,2156, 22.7480,-157.9980, 4744,    199,    199.0,  18.0642,  34.8943,2,  34.8943,2,    242.1,1, 18.0299,   -999.0,9,  -999.00,9,  -999.00,9,  -999.00,9,  -999.0,-999.000
     33KB146_1,  PRS2,     2,  3,      2,     34,2,20030328,2156, 22.7480,-157.9980, 4744,    529,    526.6,   6.6687,  34.0295,2,  34.0300,2,    121.1,1,  6.6203,   -999.0,9,  -999.00,9,  -999.00,9,  -999.00,9,  -999.0,-999.000
     33KB146_1,  PRS2,     2,  3,      1,     33,2,20030328,2156, 22.7480,-157.9980, 4744,   1018,   1016.8,   4.1304,  34.4894,2,  34.4905,2,     39.8,1,  4.0523,   -999.0,9,  -999.00,9,  -999.00,9,  -999.00,9,  -999.0,-999.000
     33KB146_1,  PRS2,     2,  4,     14,     40,2,20030329,0011, 22.7530,-157.9983, 4744,     12,     10.9,  23.7607,  35.2936,2,  35.2924,2,    270.5,1, 23.7584,   -999.0,9,  -999.00,9,  -999.00,9,  -999.00,9,  -999.0,-999.000
     33KB146_1,  PRS2,     2,  4,     13,     13,3,20030329,0011, 22.7530,-157.9983, 4744,     27,     25.8,  23.6897,  35.2895,2,-999.0000,5,    270.4,1, 23.6843,   -999.0,9,  -999.00,9,  -999.00,9,  -999.00,9,  -999.0,-999.000
     33KB146_1,  PRS2,     2,  4,     12,     12,2,20030329,0011, 22.7530,-157.9983, 4744,     45,     45.0,  23.2006,  35.3485,2,  35.3470,2,    271.3,1, 23.1914,   -999.0,9,  -999.00,9,  -999.00,9,  -999.00,9,  -999.0,-999.000
     33KB146_1,  PRS2,     2,  4,     11,     39,3,20030329,0011, 22.7530,-157.9983, 4744,     76,     75.8,  22.8542,  35.3669,2,  35.3658,2,    269.8,1, 22.8388,   -999.0,9,  -999.00,9,  -999.00,9,  -999.00,9,  -999.0,-999.000
     33KB146_1,  PRS2,     2,  4,     10,     32,2,20030329,0011, 22.7530,-157.9983, 4744,    101,    100.2,  22.4135,  35.3601,2,  35.3587,2,    266.5,1, 22.3934,   -999.0,9,  -999.00,9,  -999.00,9,  -999.00,9,  -999.0,-999.000
     33KB146_1,  PRS2,     2,  4,      9,      3,2,20030329,0011, 22.7530,-157.9983, 4744,    128,    125.7,  21.8533,  35.3660,2,  35.3656,2,    260.8,1, 21.8286,   -999.0,9,  -999.00,9,  -999.00,9,  -999.00,9,  -999.0,-999.000
     33KB146_1,  PRS2,     2,  4,      8,     29,2,20030329,0011, 22.7530,-157.9983, 4744,    152,    150.8,  21.1549,  35.3003,2,  35.3009,2,    253.6,1, 21.1259,   -999.0,9,  -999.00,9,  -999.00,9,  -999.00,9,  -999.0,-999.000
     33KB146_1,  PRS2,     2,  4,      7,     28,2,20030329,0011, 22.7530,-157.9983, 4744,    177,    174.8,  20.3416,  35.1856,2,  35.1861,2,    245.0,1, 20.3089,   -999.0,9,  -999.00,9,  -999.00,9,  -999.00,9,  -999.0,-999.000
     33KB146_1,  PRS2,     2,  4,      6,      7,2,20030329,0011, 22.7530,-157.9983, 4744,    197,    198.9,  18.9672,  35.0230,2,  35.0474,3,    246.9,1, 18.9318,   -999.0,9,  -999.00,9,  -999.00,9,  -999.00,9,  -999.0,-999.000
     33KB146_1,  PRS2,     2,  4,      5,     38,2,20030329,0011, 22.7530,-157.9983, 4744,    250,    250.1,  15.8754,  34.6076,2,  34.6085,2,    239.9,1, 15.8361,   -999.0,9,  -999.00,9,  -999.00,9,  -999.00,9,  -999.0,-999.000
     33KB146_1,  PRS2,     2,  4,      3,     35,2,20030329,0011, 22.7530,-157.9983, 4744,    350,    349.1,  12.1633,  34.2940,2,  34.3380,4,    238.0,1, 12.1174,   -999.0,9,  -999.00,9,  -999.00,9,  -999.00,9,  -999.0,-999.000
     33KB146_1,  PRS2,     2,  4,      4,     36,2,20030329,0011, 22.7530,-157.9983, 4744,    351,    349.3,  12.1665,  34.2942,2,  34.2938,2,    238.0,1, 12.1206,   -999.0,9,  -999.00,9,  -999.00,9,  -999.00,9,  -999.0,-999.000
     33KB146_1,  PRS2,     2,  4,      2,     34,2,20030329,0011, 22.7530,-157.9983, 4744,    503,    501.3,   7.9346,  34.0498,2,  34.0488,2,    165.4,1,  7.8838,   -999.0,9,  -999.00,9,  -999.00,9,  -999.00,9,  -999.0,-999.000
     33KB146_1,  PRS2,     2,  4,      1,     33,2,20030329,0011, 22.7530,-157.9983, 4744,   1018,   1018.8,   4.1478,  34.4844,2,  34.4844,2,     38.7,1,  4.0694,   -999.0,9,  -999.00,9,  -999.00,9,  -999.00,9,  -999.0,-999.000
     33KB146_1,  PRS2,     2,  5,     14,     40,2,20030329,0257, 22.7475,-158.0200, 4745,     11,      8.9,  23.8821,  35.2597,2,  35.2588,2,    270.1,1, 23.8802,   -999.0,9,  -999.00,9,  -999.00,9,  -999.00,9,  -999.0,-999.000
     33KB146_1,  PRS2,     2,  5,     13,     13,3,20030329,0257, 22.7475,-158.0200, 4745,     25,     25.4,  23.8282,  35.2666,2,  35.2666,2,    270.0,1, 23.8229,   -999.0,9,  -999.00,9,  -999.00,9,  -999.00,9,  -999.0,-999.000
     33KB146_1,  PRS2,     2,  5,     12,     12,3,20030329,0257, 22.7475,-158.0200, 4745,     45,     44.2,  23.3676,  35.3368,2,-999.0000,5,    273.2,1, 23.3585,   -999.0,9,  -999.00,9,  -999.00,9,  -999.00,9,  -999.0,-999.000
     33KB146_1,  PRS2,     2,  5,     11,     39,2,20030329,0257, 22.7475,-158.0200, 4745,     76,     74.9,  23.0714,  35.3779,2,  35.3764,2,    270.3,1, 23.0561,   -999.0,9,  -999.00,9,  -999.00,9,  -999.00,9,  -999.0,-999.000
     33KB146_1,  PRS2,     2,  5,     10,     32,2,20030329,0257, 22.7475,-158.0200, 4745,     99,     99.9,  22.6996,  35.3718,2,  35.3709,2,    268.9,1, 22.6794,   -999.0,9,  -999.00,9,  -999.00,9,  -999.00,9,  -999.0,-999.000
     33KB146_1,  PRS2,     2,  5,      9,      3,2,20030329,0257, 22.7475,-158.0200, 4745,    125,    123.6,  22.2020,  35.3765,2,  35.3806,2,    264.6,1, 22.1773,   -999.0,9,  -999.00,9,  -999.00,9,  -999.00,9,  -999.0,-999.000
     33KB146_1,  PRS2,     2,  5,      8,     29,2,20030329,0257, 22.7475,-158.0200, 4745,    152,    148.8,  21.4560,  35.3372,2,  35.3360,2,    257.3,1, 21.4270,   -999.0,9,  -999.00,9,  -999.00,9,  -999.00,9,  -999.0,-999.000
     33KB146_1,  PRS2,     2,  5,      7,     28,2,20030329,0257, 22.7475,-158.0200, 4745,    176,    175.4,  20.6760,  35.2440,2,  35.2438,2,    252.0,1, 20.6428,   -999.0,9,  -999.00,9,  -999.00,9,  -999.00,9,  -999.0,-999.000
     33KB146_1,  PRS2,     2,  5,      6,      7,2,20030329,0257, 22.7475,-158.0200, 4745,    200,    200.8,  19.4329,  35.0820,2,  35.0860,2,    242.4,1, 19.3965,   -999.0,9,  -999.00,9,  -999.00,9,  -999.00,9,  -999.0,-999.000
     33KB146_1,  PRS2,     2,  5,      5,     38,2,20030329,0257, 22.7475,-158.0200, 4745,    249,    248.5,  16.9721,  34.7409,2,  34.7410,2,    239.5,1, 16.9312,   -999.0,9,  -999.00,9,  -999.00,9,  -999.00,9,  -999.0,-999.000
     33KB146_1,  PRS2,     2,  5,      3,     35,2,20030329,0257, 22.7475,-158.0200, 4745,    345,    343.6,  12.6410,  34.3375,2,  34.3372,2,    238.3,1, 12.5946,   -999.0,9,  -999.00,9,  -999.00,9,  -999.00,9,  -999.0,-999.000
     33KB146_1,  PRS2,     2,  5,      4,     36,2,20030329,0257, 22.7475,-158.0200, 4745,    345,    343.8,  12.6406,  34.3373,2,  34.3376,2,    238.2,1, 12.5942,   -999.0,9,  -999.00,9,  -999.00,9,  -999.00,9,  -999.0,-999.000
     33KB146_1,  PRS2,     2,  5,      2,     34,2,20030329,0257, 22.7475,-158.0200, 4745,    494,    493.3,   7.8926,  34.0478,2,  34.0490,2,    164.5,1,  7.8429,   -999.0,9,  -999.00,9,  -999.00,9,  -999.00,9,  -999.0,-999.000
     33KB146_1,  PRS2,     2,  5,      1,     33,2,20030329,0257, 22.7475,-158.0200, 4745,   1019,   1018.9,   4.1412,  34.4880,2,  34.4887,2,     39.8,1,  4.0629,   -999.0,9,  -999.00,9,  -999.00,9,  -999.00,9,  -999.0,-999.000
     33KB146_1,  PRS2,     2,  6,     14,     40,2,20030329,0551, 22.7505,-157.9980, 4745,      9,      8.6,  23.7723,  35.2819,2,  35.2838,2,    269.7,1, 23.7705,   -999.0,9,  -999.00,9,  -999.00,9,  -999.00,9,  -999.0,-999.000
     33KB146_1,  PRS2,     2,  6,     13,     13,2,20030329,0551, 22.7505,-157.9980, 4745,     17,     15.3,  23.7677,  35.2835,2,  35.2834,2,    269.7,1, 23.7645,   -999.0,9,  -999.00,9,  -999.00,9,  -999.00,9,  -999.0,-999.000
     33KB146_1,  PRS2,     2,  6,     12,     12,2,20030329,0551, 22.7505,-157.9980, 4745,     23,     24.1,  23.7384,  35.2828,2,  35.2826,2,    270.3,1, 23.7334,   -999.0,9,  -999.00,9,  -999.00,9,  -999.00,9,  -999.0,-999.000
     33KB146_1,  PRS2,     2,  6,     10,     32,2,20030329,0551, 22.7505,-157.9980, 4745,     33,     33.5,  23.6797,  35.2923,2,  35.2901,2,    271.2,1, 23.6727,   -999.0,9,  -999.00,9,  -999.00,9,  -999.00,9,  -999.0,-999.000
     33KB146_1,  PRS2,     2,  6,     11,     39,2,20030329,0551, 22.7505,-157.9980, 4745,     33,     33.7,  23.6797,  35.2922,2,  35.2865,2,    271.1,1, 23.6727,   -999.0,9,  -999.00,9,  -999.00,9,  -999.00,9,  -999.0,-999.000
     33KB146_1,  PRS2,     2,  6,      9,      3,2,20030329,0551, 22.7505,-157.9980, 4745,     48,     46.2,  23.5821,  35.3150,2,  35.3135,2,    271.2,1, 23.5725,   -999.0,9,  -999.00,9,  -999.00,9,  -999.00,9,  -999.0,-999.000
     33KB146_1,  PRS2,     2,  6,      8,     29,2,20030329,0551, 22.7505,-157.9980, 4745,     61,     59.6,  23.2362,  35.3411,2,  35.3388,2,    271.6,1, 23.2240,   -999.0,9,  -999.00,9,  -999.00,9,  -999.00,9,  -999.0,-999.000
     33KB146_1,  PRS2,     2,  6,      7,     28,2,20030329,0551, 22.7505,-157.9980, 4745,     73,     73.6,  23.1180,  35.3754,2,  35.3723,2,    271.5,1, 23.1029,   -999.0,9,  -999.00,9,  -999.00,9,  -999.00,9,  -999.0,-999.000
     33KB146_1,  PRS2,     2,  6,      6,      7,2,20030329,0551, 22.7505,-157.9980, 4745,    100,    101.2,  22.7402,  35.3689,2,  35.3703,2,    269.2,1, 22.7197,   -999.0,9,  -999.00,9,  -999.00,9,  -999.00,9,  -999.0,-999.000
     33KB146_1,  PRS2,     2,  6,      5,     38,2,20030329,0551, 22.7505,-157.9980, 4745,    125,    123.6,  22.2810,  35.3763,2,  35.3713,2,    263.1,1, 22.2563,   -999.0,9,  -999.00,9,  -999.00,9,  -999.00,9,  -999.0,-999.000
     33KB146_1,  PRS2,     2,  6,      4,     36,2,20030329,0551, 22.7505,-157.9980, 4745,    148,    148.1,  21.6969,  35.3503,2,  35.3508,2,    258.4,1, 21.6678,   -999.0,9,  -999.00,9,  -999.00,9,  -999.00,9,  -999.0,-999.000
     33KB146_1,  PRS2,     2,  6,      3,     35,2,20030329,0551, 22.7505,-157.9980, 4745,    175,    175.5,  20.6898,  35.2379,2,  35.2467,2,    248.0,1, 20.6566,   -999.0,9,  -999.00,9,  -999.00,9,  -999.00,9,  -999.0,-999.000
     33KB146_1,  PRS2,     2,  6,      2,     34,2,20030329,0551, 22.7505,-157.9980, 4745,    501,    500.7,   7.4238,  34.0368,2,  34.0419,2,    146.2,1,  7.3750,   -999.0,9,  -999.00,9,  -999.00,9,  -999.00,9,  -999.0,-999.000
     33KB146_1,  PRS2,     2,  6,      1,     33,2,20030329,0551, 22.7505,-157.9980, 4745,   1018,   1016.6,   4.0966,  34.4895,2,  34.4903,2,     39.4,1,  4.0189,   -999.0,9,  -999.00,9,  -999.00,9,  -999.00,9,  -999.0,-999.000
     33KB146_1,  PRS2,     2,  7,     19,     19,2,20030329,0854, 22.7453,-157.9942, 4744,     11,      9.7,  23.5626,  35.3438,2,  35.3449,2,    271.0,2, 23.5606,   -999.0,5,  -999.00,9,  -999.00,9,  -999.00,9,  -999.0,-999.000
     33KB146_1,  PRS2,     2,  7,     18,     18,2,20030329,0854, 22.7453,-157.9942, 4744,     11,      9.8,  23.5644,  35.3438,2,  35.3435,2,    270.9,2, 23.5624,    202.6,3,  -999.00,9,  -999.00,9,  -999.00,9,  -999.0,-999.000
     33KB146_1,  PRS2,     2,  7,     17,     17,2,20030329,0854, 22.7453,-157.9942, 4744,     17,     15.5,  23.5656,  35.3434,2,  35.3419,2,    270.9,2, 23.5624,   -999.0,5,  -999.00,9,  -999.00,9,  -999.00,9,  -999.0,-999.000
     33KB146_1,  PRS2,     2,  7,     16,     16,2,20030329,0854, 22.7453,-157.9942, 4744,     26,     25.6,  23.5700,  35.3432,2,  35.3425,2,    270.8,2, 23.5646,   -999.0,5,  -999.00,9,  -999.00,9,  -999.00,9,  -999.0,-999.000
     33KB146_1,  PRS2,     2,  7,     15,     23,2,20030329,0854, 22.7453,-157.9942, 4744,     26,     25.7,  23.5729,  35.3430,2,  35.3423,2,    270.8,2, 23.5676,    203.4,3,  -999.00,9,  -999.00,9,  -999.00,9,  -999.0,-999.000
     33KB146_1,  PRS2,     2,  7,     14,     40,2,20030329,0854, 22.7453,-157.9942, 4744,     34,     33.2,  23.5147,  35.3442,2,  35.3433,2,    270.3,2, 23.5078,   -999.0,5,  -999.00,9,  -999.00,9,  -999.00,9,  -999.0,-999.000
     33KB146_1,  PRS2,     2,  7,     13,     13,2,20030329,0854, 22.7453,-157.9942, 4744,     46,     44.8,  23.0993,  35.3527,2,  35.3526,2,    271.8,2, 23.0901,    204.5,3,  -999.00,9,  -999.00,9,  -999.00,9,  -999.0,-999.000
     33KB146_1,  PRS2,     2,  7,     12,     12,2,20030329,0854, 22.7453,-157.9942, 4744,     61,     59.3,  22.9320,  35.3543,2,  35.3516,2,    271.6,2, 22.9199,   -999.0,5,  -999.00,9,  -999.00,9,  -999.00,9,  -999.0,-999.000
     33KB146_1,  PRS2,     2,  7,     11,     39,2,20030329,0854, 22.7453,-157.9942, 4744,     74,     74.0,  22.7858,  35.3487,2,  35.3486,2,    270.9,2, 22.7708,    204.0,3,  -999.00,9,  -999.00,9,  -999.00,9,  -999.0,-999.000
     33KB146_1,  PRS2,     2,  7,     10,     32,2,20030329,0854, 22.7453,-157.9942, 4744,     85,     85.5,  22.7094,  35.3527,2,  35.3524,2,    269.6,2, 22.6921,    202.8,3,  -999.00,9,  -999.00,9,  -999.00,9,  -999.0,-999.000
     33KB146_1,  PRS2,     2,  7,      9,      3,2,20030329,0854, 22.7453,-157.9942, 4744,     99,     99.6,  22.4158,  35.3645,2,  35.3646,2,    263.5,2, 22.3958,    202.8,3,  -999.00,9,  -999.00,9,  -999.00,9,  -999.0,-999.000
     33KB146_1,  PRS2,     2,  7,      8,     29,2,20030329,0854, 22.7453,-157.9942, 4744,    113,    112.7,  21.8260,  35.3389,2,  35.3376,2,    259.4,2, 21.8038,    198.1,3,  -999.00,9,  -999.00,9,  -999.00,9,  -999.0,-999.000
     33KB146_1,  PRS2,     2,  7,      7,     28,2,20030329,0854, 22.7453,-157.9942, 4744,    125,    123.9,  21.4591,  35.3245,2,  35.3236,2,    256.2,2, 21.4350,    196.5,3,  -999.00,9,  -999.00,9,  -999.00,9,  -999.0,-999.000
     33KB146_1,  PRS2,     2,  7,      6,      7,2,20030329,0854, 22.7453,-157.9942, 4744,    151,    149.3,  20.6659,  35.2494,2,  35.2530,2,    249.8,2, 20.6376,    193.6,3,  -999.00,9,  -999.00,9,  -999.00,9,  -999.0,-999.000
     33KB146_1,  PRS2,     2,  7,      5,     38,2,20030329,0854, 22.7453,-157.9942, 4744,    162,    163.8,  19.6285,  35.1057,2,  35.1096,2,    238.8,2, 19.5987,    186.9,3,  -999.00,9,  -999.00,9,  -999.00,9,  -999.0,-999.000
     33KB146_1,  PRS2,     2,  7,      4,     36,2,20030329,0854, 22.7453,-157.9942, 4744,    176,    175.1,  19.2253,  35.0505,2,  35.0592,2,    239.1,2, 19.1938,    188.4,3,  -999.00,9,  -999.00,9,  -999.00,9,  -999.0,-999.000
     33KB146_1,  PRS2,     2,  7,      3,     35,2,20030329,0854, 22.7453,-157.9942, 4744,    201,    201.0,  17.9000,  34.8688,2,  34.8906,3,    240.0,3, 17.8657,    190.7,3,  -999.00,9,  -999.00,9,  -999.00,9,  -999.0,-999.000
     33KB146_1,  PRS2,     2,  7,      2,     34,2,20030329,0854, 22.7453,-157.9942, 4744,    503,    502.7,   7.3823,  34.0356,2,  34.0354,2,    146.5,2,  7.3335,   -999.0,5,  -999.00,9,  -999.00,9,  -999.00,9,  -999.0,-999.000
     33KB146_1,  PRS2,     2,  7,      1,     33,2,20030329,0854, 22.7453,-157.9942, 4744,   1021,   1020.3,   4.0737,  34.4959,2,  34.4960,2,     41.1,2,  3.9958,   -999.0,5,  -999.00,9,  -999.00,9,  -999.00,9,  -999.0,-999.000