BOTTLE,20090923WHPSIOMYS
#code : jjward hyd_to_exchange.pl 
#original files copied from HTML directory: 20090923
#original HYD file: 33KB146_1_hy.txt   Wed Sep 23 17:54:05 2009
#original SUM file: ../33KB146_1su.txt   Wed Sep 23 17:54:04 2009
EXPOCODE,SECT_ID,STNNBR,CASTNO,SAMPNO,BTLNBR,BTLNBR_FLAG_W,DATE,TIME,LATITUDE,LONGITUDE,DEPTH,CTDRAW,CTDPRS,CTDTMP,CTDSAL,CTDSAL_FLAG_W,SALNTY,SALNTY_FLAG_W,CTDOXY,CTDOXY_FLAG_W,THETA,OXYGEN,OXYGEN_FLAG_W,SILCAT,SILCAT_FLAG_W,NO2+NO3,NO2+NO3_FLAG_W,PHSPHT,PHSPHT_FLAG_W,REVPRS,REVTMP
,,,,,,,,,,,,,DBAR,ITS-90,PSS-78,,PSS-78,,UMOL/KG,,ITS-90,UMOL/KG,,UMOL/KG,,UMOL/KG,,UMOL/KG,,DBAR,DEG C
     33KB146_1,  PRS2,     1,  1,     23,     30,2,20030328,0106, 21.3432,-158.2767, 1735,      7,      6.1,  25.2545,  34.7320,2,  34.7292,2,    299.6,2, 25.2532,    198.8,3,  -999.00,9,  -999.00,9,  -999.00,9,  -999.0,-999.000
     33KB146_1,  PRS2,     1,  1,     24,     31,2,20030328,0106, 21.3432,-158.2767, 1735,      6,      6.2,  25.2548,  34.7135,2,  34.7294,3,    299.6,3, 25.2535,    197.7,3,  -999.00,9,  -999.00,9,  -999.00,9,  -999.0,-999.000
     33KB146_1,  PRS2,     1,  1,     22,     22,2,20030328,0106, 21.3432,-158.2767, 1735,     27,     26.2,  25.1371,  34.9721,2,  34.9723,2,    301.0,2, 25.1314,    197.7,3,  -999.00,9,  -999.00,9,  -999.00,9,  -999.0,-999.000
     33KB146_1,  PRS2,     1,  1,     21,     21,4,20030328,0106, 21.3432,-158.2767, 1735,     47,     46.3,  24.6061,  35.1980,2,-999.0000,5,    303.1,2, 24.5961,   -999.0,5,  -999.00,9,  -999.00,9,  -999.00,9,  -999.0,-999.000
     33KB146_1,  PRS2,     1,  1,     20,     20,2,20030328,0106, 21.3432,-158.2767, 1735,     62,     60.1,  24.1264,  35.2561,2,  35.2540,2,    303.0,2, 24.1136,    201.6,3,  -999.00,9,  -999.00,9,  -999.00,9,  -999.0,-999.000
     33KB146_1,  PRS2,     1,  1,     19,     19,2,20030328,0106, 21.3432,-158.2767, 1735,     77,     75.6,  23.3476,  35.3704,2,  35.3660,2,    302.3,2, 23.3320,    204.5,3,  -999.00,9,  -999.00,9,  -999.00,9,  -999.0,-999.000
     33KB146_1,  PRS2,     1,  1,     18,     18,2,20030328,0106, 21.3432,-158.2767, 1735,    100,    101.5,  21.6227,  35.3204,2,  35.3047,4,    284.4,3, 21.6028,    194.5,3,  -999.00,9,  -999.00,9,  -999.00,9,  -999.0,-999.000
     33KB146_1,  PRS2,     1,  1,     17,     17,2,20030328,0106, 21.3432,-158.2767, 1735,    116,    115.2,  21.3952,  35.3103,2,  35.3068,2,    285.5,2, 21.3729,    196.1,3,  -999.00,9,  -999.00,9,  -999.00,9,  -999.0,-999.000
     33KB146_1,  PRS2,     1,  1,     16,     16,2,20030328,0106, 21.3432,-158.2767, 1735,    128,    125.6,  21.0780,  35.2976,2,  35.2930,2,    280.2,2, 21.0539,    195.0,3,  -999.00,9,  -999.00,9,  -999.00,9,  -999.0,-999.000
     33KB146_1,  PRS2,     1,  1,     15,     23,2,20030328,0106, 21.3432,-158.2767, 1735,    152,    151.4,  19.8164,  35.1299,2,  35.1287,2,    260.2,2, 19.7886,    184.0,3,  -999.00,9,  -999.00,9,  -999.00,9,  -999.0,-999.000
     33KB146_1,  PRS2,     1,  1,     14,     40,2,20030328,0106, 21.3432,-158.2767, 1735,    174,    176.5,  18.2450,  34.8870,2,  34.8861,2,    237.6,2, 18.2145,    170.1,3,  -999.00,9,  -999.00,9,  -999.00,9,  -999.0,-999.000
     33KB146_1,  PRS2,     1,  1,     13,     13,2,20030328,0106, 21.3432,-158.2767, 1735,    201,    200.8,  17.1799,  34.7453,2,  34.7661,4,    229.9,3, 17.1466,    169.3,3,  -999.00,9,  -999.00,9,  -999.00,9,  -999.0,-999.000
     33KB146_1,  PRS2,     1,  1,     12,     12,2,20030328,0106, 21.3432,-158.2767, 1735,    220,    221.8,  15.9798,  34.5986,2,  34.6240,3,    215.9,3, 15.9448,    163.4,3,  -999.00,9,  -999.00,9,  -999.00,9,  -999.0,-999.000
     33KB146_1,  PRS2,     1,  1,     11,     39,2,20030328,0106, 21.3432,-158.2767, 1735,    248,    245.0,  15.0683,  34.4959,2,  34.4946,2,    216.0,2, 15.0312,    159.5,3,  -999.00,9,  -999.00,9,  -999.00,9,  -999.0,-999.000
     33KB146_1,  PRS2,     1,  1,     10,     32,2,20030328,0106, 21.3432,-158.2767, 1735,    295,    297.1,  12.3294,  34.2767,2,  34.2856,2,    211.4,2, 12.2901,    165.2,3,  -999.00,9,  -999.00,9,  -999.00,9,  -999.0,-999.000
     33KB146_1,  PRS2,     1,  1,      9,      3,2,20030328,0106, 21.3432,-158.2767, 1735,    348,    346.7,  10.7454,  34.1831,2,  34.1813,2,    203.6,2, 10.7034,    161.5,3,  -999.00,9,  -999.00,9,  -999.00,9,  -999.0,-999.000
     33KB146_1,  PRS2,     1,  1,      8,     29,2,20030328,0106, 21.3432,-158.2767, 1735,    399,    396.6,   9.2164,  34.1187,2,  34.1189,2,    182.1,2,  9.1727,    145.7,3,  -999.00,9,  -999.00,9,  -999.00,9,  -999.0,-999.000
     33KB146_1,  PRS2,     1,  1,      7,     28,2,20030328,0106, 21.3432,-158.2767, 1735,    494,    495.5,   7.2330,  34.1254,2,  34.1236,2,    115.4,2,  7.1854,     95.8,3,  -999.00,9,  -999.00,9,  -999.00,9,  -999.0,-999.000
     33KB146_1,  PRS2,     1,  1,      6,      7,2,20030328,0106, 21.3432,-158.2767, 1735,    597,    596.5,   6.0181,  34.2298,2,  34.2285,2,     55.3,2,  5.9658,     44.1,3,  -999.00,9,  -999.00,9,  -999.00,9,  -999.0,-999.000
     33KB146_1,  PRS2,     1,  1,      5,     38,2,20030328,0106, 21.3432,-158.2767, 1735,    699,    697.8,   5.4410,  34.3402,2,  34.3388,2,     35.8,2,  5.3822,     28.9,3,  -999.00,9,  -999.00,9,  -999.00,9,  -999.0,-999.000
     33KB146_1,  PRS2,     1,  1,      4,     36,2,20030328,0106, 21.3432,-158.2767, 1735,    743,    745.0,   5.2813,  34.3707,2,  34.3660,2,     34.8,2,  5.2191,     28.5,3,  -999.00,9,  -999.00,9,  -999.00,9,  -999.0,-999.000
     33KB146_1,  PRS2,     1,  1,      3,     35,2,20030328,0106, 21.3432,-158.2767, 1735,    797,    795.7,   5.0669,  34.4158,2,  34.4149,2,     36.0,2,  5.0015,     29.7,3,  -999.00,9,  -999.00,9,  -999.00,9,  -999.0,-999.000
     33KB146_1,  PRS2,     1,  1,      2,     34,2,20030328,0106, 21.3432,-158.2767, 1735,    893,    892.5,   4.6624,  34.4663,2,  34.4654,2,     41.2,2,  4.5911,     34.6,3,  -999.00,9,  -999.00,9,  -999.00,9,  -999.0,-999.000
     33KB146_1,  PRS2,     1,  1,      1,     33,2,20030328,0106, 21.3432,-158.2767, 1735,   1017,   1014.6,   4.3003,  34.5002,2,  34.4997,2,     46.3,2,  4.2211,     39.7,3,  -999.00,9,  -999.00,9,  -999.00,9,  -999.0,-999.000
     33KB146_1,  PRS2,     2,  1,     24,     31,2,20030328,1214, 22.7485,-157.9733, 4745,      6,      7.5,  23.7144,  35.2783,2,  35.2792,2,    272.7,2, 23.7128,    200.7,3,     1.08,2,     0.00,2,     0.04,2,  -999.0,-999.000
     33KB146_1,  PRS2,     2,  1,     23,     30,2,20030328,1214, 22.7485,-157.9733, 4745,    494,    493.9,   7.7822,  34.0445,2,  34.0484,2,    162.4,2,  7.7328,    136.3,3,    36.79,2,    25.83,2,     1.78,2,  -999.0,-999.000
     33KB146_1,  PRS2,     2,  1,     22,     22,2,20030328,1214, 22.7485,-157.9733, 4745,    753,    751.3,   4.8403,  34.2680,2,  34.2689,2,     28.6,2,  4.7803,     22.5,3,    60.14,4,    41.15,2,     3.02,2,  -999.0,-999.000
     33KB146_1,  PRS2,     2,  1,     21,     21,2,20030328,1214, 22.7485,-157.9733, 4745,   1002,   1000.3,   4.0909,  34.4948,2,  34.4962,2,     41.0,2,  4.0145,     34.3,3,   105.88,2,    42.04,2,     3.07,2,  -999.0,-999.000
     33KB146_1,  PRS2,     2,  1,     20,     20,2,20030328,1214, 22.7485,-157.9733, 4745,   1202,   1202.5,   3.5708,  34.5295,2,  34.5290,2,     51.1,2,  3.4819,     43.4,3,   119.22,2,    41.88,2,     2.99,2,  -999.0,-999.000
     33KB146_1,  PRS2,     2,  1,     19,     19,2,20030328,1214, 22.7485,-157.9733, 4745,   1401,   1399.2,   3.1854,  34.5585,2,  34.5612,2,     58.2,2,  3.0839,     50.1,3,   127.84,2,    41.66,2,     3.00,2,  -999.0,-999.000
     33KB146_1,  PRS2,     2,  1,     18,     18,2,20030328,1214, 22.7485,-157.9733, 4745,   1603,   1601.5,   2.8087,  34.5792,2,  34.5787,2,     68.2,2,  2.6947,     59.2,3,   136.23,2,    41.21,2,     2.96,2,  -999.0,-999.000
     33KB146_1,  PRS2,     2,  1,     17,     17,2,20030328,1214, 22.7485,-157.9733, 4745,   1804,   1801.6,   2.4438,  34.5984,2,  34.5979,2,     80.5,2,  2.3177,     70.9,3,   142.57,2,    40.39,2,     2.86,2,  -999.0,-999.000
     33KB146_1,  PRS2,     2,  1,     16,     16,2,20030328,1214, 22.7485,-157.9733, 4745,   2000,   1999.9,   2.1952,  34.6154,2,  34.6156,2,     89.0,2,  2.0559,     79.2,3,   148.40,2,    39.90,2,     2.82,2,  -999.0,-999.000
     33KB146_1,  PRS2,     2,  1,     15,     23,2,20030328,1214, 22.7485,-157.9733, 4745,   2198,   2198.4,   2.0043,  34.6300,2,  34.6291,2,     98.2,2,  1.8509,     88.9,3,   153.33,2,    39.27,2,     2.75,2,  -999.0,-999.000
     33KB146_1,  PRS2,     2,  1,     14,     40,2,20030328,1214, 22.7485,-157.9733, 4745,   2403,   2400.9,   1.8476,  34.6407,2,  34.6405,2,    104.1,2,  1.6791,     93.4,3,   157.74,2,    38.89,2,     2.72,2,  -999.0,-999.000
     33KB146_1,  PRS2,     2,  1,     13,     13,3,20030328,1214, 22.7485,-157.9733, 4745,   2597,   2598.6,   1.7227,  34.6532,2,  34.6669,4,    114.0,3,  1.5387,    159.4,4,  -999.00,5,    31.89,4,     2.30,4,  -999.0,-999.000
     33KB146_1,  PRS2,     2,  1,     12,     12,2,20030328,1214, 22.7485,-157.9733, 4745,   2799,   2799.8,   1.6322,  34.6610,2,  34.6612,2,    119.4,2,  1.4315,    107.4,3,   158.84,2,    38.08,2,     2.68,2,  -999.0,-999.000
     33KB146_1,  PRS2,     2,  1,     11,     39,2,20030328,1214, 22.7485,-157.9733, 4745,   3000,   3000.0,   1.5719,  34.6681,2,  34.6679,2,    126.5,2,  1.3535,    112.1,3,   160.28,2,    37.37,2,     2.61,2,  -999.0,-999.000
     33KB146_1,  PRS2,     2,  1,     10,     32,2,20030328,1214, 22.7485,-157.9733, 4745,   3201,   3200.2,   1.5277,  34.6733,2,  34.6716,2,    133.0,2,  1.2910,    119.4,3,   158.32,2,    36.95,2,     2.61,2,  -999.0,-999.000
     33KB146_1,  PRS2,     2,  1,      9,      3,2,20030328,1214, 22.7485,-157.9733, 4745,   3402,   3400.8,   1.4895,  34.6780,2,  34.6779,2,    140.0,2,  1.2337,    125.3,3,   155.58,2,    36.58,2,     2.55,2,  -999.0,-999.000
     33KB146_1,  PRS2,     2,  1,      8,     29,2,20030328,1214, 22.7485,-157.9733, 4745,   3599,   3599.8,   1.4665,  34.6821,2,  34.6818,2,    145.9,2,  1.1910,    129.8,3,   154.90,2,    36.29,2,     2.56,2,  -999.0,-999.000
     33KB146_1,  PRS2,     2,  1,      7,     28,2,20030328,1214, 22.7485,-157.9733, 4745,   3801,   3798.7,   1.4627,  34.6847,2,  34.6850,2,    149.8,2,  1.1665,    134.3,3,   153.49,2,    36.07,2,     2.39,4,  -999.0,-999.000
     33KB146_1,  PRS2,     2,  1,      6,      7,2,20030328,1214, 22.7485,-157.9733, 4745,   4002,   3999.5,   1.4648,  34.6863,2,  34.6857,2,    152.5,2,  1.1470,    137.5,3,   151.50,2,    35.70,2,     2.50,2,  -999.0,-999.000
     33KB146_1,  PRS2,     2,  1,      5,     38,2,20030328,1214, 22.7485,-157.9733, 4745,   4199,   4200.1,   1.4713,  34.6876,2,  34.6881,2,    154.8,2,  1.1312,    140.4,3,   149.74,2,    35.70,2,     2.49,2,  -999.0,-999.000
     33KB146_1,  PRS2,     2,  1,      4,     36,2,20030328,1214, 22.7485,-157.9733, 4745,   4403,   4401.0,   1.4833,  34.6887,2,  34.6918,2,    156.8,2,  1.1202,    141.5,3,   148.07,2,    35.48,2,     2.47,2,  -999.0,-999.000
     33KB146_1,  PRS2,     2,  1,      3,     35,2,20030328,1214, 22.7485,-157.9733, 4745,   4502,   4501.3,   1.4902,  34.6888,2,  34.6893,2,    157.3,2,  1.1154,    141.8,3,   147.35,2,    35.52,2,     2.48,2,  -999.0,-999.000
     33KB146_1,  PRS2,     2,  1,      2,     34,2,20030328,1214, 22.7485,-157.9733, 4745,   4603,   4600.9,   1.4981,  34.6896,2,  34.6901,2,    158.0,2,  1.1114,    145.5,3,   147.57,2,    35.63,2,     2.47,2,  -999.0,-999.000
     33KB146_1,  PRS2,     2,  1,      1,     33,2,20030328,1214, 22.7485,-157.9733, 4745,   4789,   4790.2,   1.5202,  34.6895,2,  34.6906,2,    158.1,2,  1.1106,    143.2,3,   147.46,2,    35.48,2,     2.46,2,  -999.0,-999.000
     33KB146_1,  PRS2,     2,  2,     24,     31,2,20030328,1858, 22.7440,-157.9965, 4744,      6,      3.6,  23.7243,  35.2817,2,  35.2814,2,    269.5,2, 23.7236,    203.6,3,     1.06,2,     0.14,2,     0.04,2,  -999.0,-999.000
     33KB146_1,  PRS2,     2,  2,     23,     30,2,20030328,1858, 22.7440,-157.9965, 4744,     62,     59.4,  22.9270,  35.3587,2,  35.3557,2,    268.1,2, 22.9149,    202.3,3,     1.12,2,     0.06,2,     0.04,2,  -999.0,-999.000
     33KB146_1,  PRS2,     2,  2,     22,     22,2,20030328,1858, 22.7440,-157.9965, 4744,    116,    114.6,  21.7427,  35.3505,2,  35.3567,2,    258.8,2, 21.7202,    199.7,3,     1.37,2,     0.41,2,     0.04,2,  -999.0,-999.000
     33KB146_1,  PRS2,     2,  2,     21,     21,2,20030328,1858, 22.7440,-157.9965, 4744,    148,    148.7,  20.6308,  35.2363,2,  35.2442,2,    248.4,2, 20.6027,    193.9,3,     1.82,2,     1.21,2,     0.08,2,  -999.0,-999.000
     33KB146_1,  PRS2,     2,  2,     20,     20,2,20030328,1858, 22.7440,-157.9965, 4744,    188,    185.7,  19.2836,  35.0608,2,  35.0638,2,    240.7,2, 19.2501,    187.6,3,     2.43,2,     2.29,2,     0.11,2,  -999.0,-999.000
     33KB146_1,  PRS2,     2,  2,     19,     19,2,20030328,1858, 22.7440,-157.9965, 4744,    222,    218.5,  17.6882,  34.8354,2,  34.8387,2,    242.0,2, 17.6511,    192.6,3,     3.79,2,     2.96,2,     0.26,2,  -999.0,-999.000
     33KB146_1,  PRS2,     2,  2,     18,     18,2,20030328,1858, 22.7440,-157.9965, 4744,    254,    251.2,  15.8043,  34.5966,2,  34.6007,2,    238.3,2, 15.7649,    196.3,3,     5.47,2,     4.84,2,     0.30,3,  -999.0,-999.000
     33KB146_1,  PRS2,     2,  2,     17,     17,3,20030328,1858, 22.7440,-157.9965, 4744,    298,    298.2,  13.8112,  34.4252,2,  34.4830,4,    239.4,3, 13.7685,    199.6,3,     8.09,2,     7.56,2,     0.54,2,  -999.0,-999.000
     33KB146_1,  PRS2,     2,  2,     16,     16,2,20030328,1858, 22.7440,-157.9965, 4744,    348,    344.4,  11.7296,  34.2437,2,  34.2434,2,    238.4,2, 11.6855,    200.4,3,    12.34,2,    11.23,2,     0.76,2,  -999.0,-999.000
     33KB146_1,  PRS2,     2,  2,     15,     23,2,20030328,1858, 22.7440,-157.9965, 4744,    373,    373.4,  10.1688,  34.1512,2,  34.1503,2,    216.4,2, 10.1251,    185.7,3,    18.93,2,    16.28,2,     1.11,2,  -999.0,-999.000
     33KB146_1,  PRS2,     2,  2,     14,     40,3,20030328,1858, 22.7440,-157.9965, 4744,    411,    412.3,   8.8561,  34.0841,2,  34.1134,4,    189.5,3,  8.8117,    169.9,3,    25.06,2,    19.70,2,     1.41,2,  -999.0,-999.000
     33KB146_1,  PRS2,     2,  2,     13,     13,2,20030328,1858, 22.7440,-157.9965, 4744,    455,    456.0,   7.9541,  34.0508,2,  34.1254,4,    167.5,3,  7.9080,    147.5,3,    33.51,2,    23.20,2,     1.67,2,  -999.0,-999.000
     33KB146_1,  PRS2,     2,  2,     12,     12,2,20030328,1858, 22.7440,-157.9965, 4744,    496,    494.9,   7.1109,  34.0325,2,  34.0317,2,    139.2,2,  7.0639,    118.4,3,    45.48,2,    29.02,2,     2.08,2,  -999.0,-999.000
     33KB146_1,  PRS2,     2,  2,     11,     39,2,20030328,1858, 22.7440,-157.9965, 4744,    539,    539.7,   6.4004,  34.0346,2,  34.0401,2,    111.2,2,  6.3518,     96.4,3,    87.85,4,    32.29,2,     2.31,2,  -999.0,-999.000
     33KB146_1,  PRS2,     2,  2,     10,     32,2,20030328,1858, 22.7440,-157.9965, 4744,    599,    597.5,   5.6662,  34.0712,2,  34.0711,2,     75.4,2,  5.6155,     64.0,3,    66.65,2,    36.29,2,     2.64,2,  -999.0,-999.000
     33KB146_1,  PRS2,     2,  2,      9,      3,2,20030328,1858, 22.7440,-157.9965, 4744,    633,    634.0,   5.2513,  34.1116,2,  34.1121,2,     56.6,2,  5.1993,     49.3,3,    75.10,4,    38.32,2,     2.79,2,  -999.0,-999.000
     33KB146_1,  PRS2,     2,  2,      8,     29,2,20030328,1858, 22.7440,-157.9965, 4744,    689,    688.2,   4.8646,  34.1862,2,  34.1909,2,     40.3,2,  4.8099,     34.6,3,    79.34,4,    40.27,2,     2.93,2,  -999.0,-999.000
     33KB146_1,  PRS2,     2,  2,      7,     28,2,20030328,1858, 22.7440,-157.9965, 4744,    748,    746.9,   4.7805,  34.3265,2,  34.3272,2,     25.6,2,  4.7211,     21.3,3,    69.28,4,    41.46,2,     3.05,2,  -999.0,-999.000
     33KB146_1,  PRS2,     2,  2,      6,      7,2,20030328,1858, 22.7440,-157.9965, 4744,    799,    797.1,   4.6044,  34.3704,2,  34.3666,2,     26.9,2,  4.5418,     22.6,3,    95.74,2,    41.99,2,     3.07,2,  -999.0,-999.000
     33KB146_1,  PRS2,     2,  2,      5,     38,2,20030328,1858, 22.7440,-157.9965, 4744,    845,    843.9,   4.5571,  34.4147,2,  34.4161,2,     30.2,2,  4.4907,     26.1,3,    98.33,2,    41.98,2,     3.09,2,  -999.0,-999.000
     33KB146_1,  PRS2,     2,  2,      4,     36,3,20030328,1858, 22.7440,-157.9965, 4744,    886,    886.8,   4.4895,  34.4342,2,  34.4351,2,     32.4,2,  4.4199,     31.1,3,    85.24,4,    41.46,2,     3.03,4,  -999.0,-999.000
     33KB146_1,  PRS2,     2,  2,      3,     35,2,20030328,1858, 22.7440,-157.9965, 4744,    923,    921.0,   4.3825,  34.4556,2,  34.4712,4,     35.0,3,  4.3107,     55.6,4,    84.32,4,    36.80,4,     2.69,4,  -999.0,-999.000
     33KB146_1,  PRS2,     2,  2,      2,     34,2,20030328,1858, 22.7440,-157.9965, 4744,    963,    961.9,   4.2458,  34.4727,2,  34.4732,2,     37.3,2,  4.1715,     31.7,3,   104.43,2,    42.28,4,     3.06,2,  -999.0,-999.000
     33KB146_1,  PRS2,     2,  2,      1,     33,2,20030328,1858, 22.7440,-157.9965, 4744,   1000,    999.5,   4.1344,  34.4898,2,  34.4887,2,     39.6,2,  4.0577,     34.3,3,    95.10,4,    42.05,2,     3.05,2,  -999.0,-999.000