BOTTLE,20090923WHPSIOMYS
EXPOCODE,SECT_ID,STNNBR,CASTNO,SAMPNO,BTLNBR,BTLNBR_FLAG_W,DATE,TIME,LATITUDE,LONGITUDE,DEPTH,CTDRAW,CTDPRS,CTDTMP,CTDSAL,CTDSAL_FLAG_W,SALNTY,SALNTY_FLAG_W,CTDOXY,CTDOXY_FLAG_W,THETA,OXYGEN,OXYGEN_FLAG_W,SILCAT,SILCAT_FLAG_W,NO2+NO3,NO2+NO3_FLAG_W,PHSPHT,PHSPHT_FLAG_W,REVPRS,REVTMP
,,,,,,,,,,,,,DBAR,ITS-90,PSS-78,,PSS-78,,UMOL/KG,,ITS-90,UMOL/KG,,UMOL/KG,,UMOL/KG,,UMOL/KG,,DBAR,DEG C
     33KB146_1,  PRS2,     2, 14,      8,     29,2,20030330,0947, 22.7460,-157.9715, 4732,     24,     23.2,  23.4902,  35.3254,2,-999.0000,5,    270.6,1, 23.4854,   -999.0,9,  -999.00,9,  -999.00,9,  -999.00,9,  -999.0,-999.000
     33KB146_1,  PRS2,     2, 14,      7,     28,2,20030330,0947, 22.7460,-157.9715, 4732,     23,     23.2,  23.4932,  35.3263,2,-999.0000,5,    270.6,1, 23.4884,   -999.0,9,  -999.00,9,  -999.00,9,  -999.00,9,  -999.0,-999.000
     33KB146_1,  PRS2,     2, 14,      9,      3,2,20030330,0947, 22.7460,-157.9715, 4732,     23,     23.4,  23.4783,  35.3248,2,  35.3340,2,    270.6,1, 23.4735,   -999.0,9,  -999.00,9,  -999.00,9,  -999.00,9,  -999.0,-999.000
     33KB146_1,  PRS2,     2, 14,      6,      7,2,20030330,0947, 22.7460,-157.9715, 4732,     23,     23.4,  23.4981,  35.3261,2,  35.3279,2,    270.5,1, 23.4932,   -999.0,9,  -999.00,9,  -999.00,9,  -999.00,9,  -999.0,-999.000
     33KB146_1,  PRS2,     2, 14,      5,     38,2,20030330,0947, 22.7460,-157.9715, 4732,     22,     23.5,  23.5002,  35.3270,2,  35.3303,2,    270.5,1, 23.4953,   -999.0,9,  -999.00,9,  -999.00,9,  -999.00,9,  -999.0,-999.000
     33KB146_1,  PRS2,     2, 14,      4,     36,2,20030330,0947, 22.7460,-157.9715, 4732,     23,     23.6,  23.5026,  35.3267,2,  35.3285,2,    270.6,1, 23.4977,   -999.0,9,  -999.00,9,  -999.00,9,  -999.00,9,  -999.0,-999.000
     33KB146_1,  PRS2,     2, 14,     12,     12,2,20030330,0947, 22.7460,-157.9715, 4732,     25,     23.7,  23.4974,  35.3262,2,  35.3267,2,    270.5,1, 23.4925,   -999.0,9,  -999.00,9,  -999.00,9,  -999.00,9,  -999.0,-999.000
     33KB146_1,  PRS2,     2, 14,     11,     39,2,20030330,0947, 22.7460,-157.9715, 4732,     25,     23.7,  23.4925,  35.3264,2,  35.3246,2,    270.6,1, 23.4875,   -999.0,9,  -999.00,9,  -999.00,9,  -999.00,9,  -999.0,-999.000
     33KB146_1,  PRS2,     2, 14,     10,     32,2,20030330,0947, 22.7460,-157.9715, 4732,     23,     23.7,  23.4828,  35.3253,2,  35.3261,2,    270.6,1, 23.4779,   -999.0,9,  -999.00,9,  -999.00,9,  -999.00,9,  -999.0,-999.000
     33KB146_1,  PRS2,     2, 14,      3,     35,2,20030330,0947, 22.7460,-157.9715, 4732,     23,     23.7,  23.5096,  35.3283,2,  35.3295,2,    270.6,1, 23.5047,   -999.0,9,  -999.00,9,  -999.00,9,  -999.00,9,  -999.0,-999.000
     33KB146_1,  PRS2,     2, 14,     14,     40,2,20030330,0947, 22.7460,-157.9715, 4732,     25,     23.8,  23.5148,  35.3291,2,  35.3366,2,    270.0,1, 23.5099,   -999.0,9,  -999.00,9,  -999.00,9,  -999.00,9,  -999.0,-999.000
     33KB146_1,  PRS2,     2, 14,     13,     13,2,20030330,0947, 22.7460,-157.9715, 4732,     25,     23.8,  23.5098,  35.3283,2,  35.3325,2,    270.4,1, 23.5049,   -999.0,9,  -999.00,9,  -999.00,9,  -999.00,9,  -999.0,-999.000
     33KB146_1,  PRS2,     2, 14,      2,     34,2,20030330,0947, 22.7460,-157.9715, 4732,    510,    508.8,   6.8822,  34.0291,2,  34.0304,2,    130.1,1,  6.8347,   -999.0,9,  -999.00,9,  -999.00,9,  -999.00,9,  -999.0,-999.000
     33KB146_1,  PRS2,     2, 14,      1,     33,2,20030330,0947, 22.7460,-157.9715, 4732,   1021,   1019.4,   4.1146,  34.4876,2,  34.4887,2,     39.8,1,  4.0365,   -999.0,9,  -999.00,9,  -999.00,9,  -999.00,9,  -999.0,-999.000