BOTTLE,20141031SIOCCHAMB
EXPOCODE,SECT_ID,STNNBR,CASTNO,SAMPNO,BTLNBR,BTLNBR_FLAG_W,DATE,TIME,LATITUDE,LONGITUDE,DEPTH,CTDPRS,CTDTMP,CTDSAL,CTDSAL_FLAG_W,SALNTY,SALNTY_FLAG_W,CTDOXY,CTDOXY_FLAG_W,OXYGEN,OXYGEN_FLAG_W,SILCAT,SILCAT_FLAG_W,PHSPHT,PHSPHT_FLAG_W,REVPRS,CTDRAW,THETA,NO2+NO3,NO2+NO3_FLAG_W,REVTMP
,,,,,,,,,,,METERS,DBAR,ITS-90,PSS-78,,PSS-78,,UMOL/KG,,UMOL/KG,,UMOL/KG,,UMOL/KG,,DBAR,DBAR,ITS-90,UMOL/KG,,DEG C
33KB20110127,       PRS2,       2,          3,         24,       8024,2,20110128,       1426,  22.749833,-158.0000000,       4746,     7.6,  23.5979,  35.3980,2,  35.3973,2,    211.2,2,   210.4,2,    1.49,2,    0.03,2,  -999.0,       7,    23.5963,    0.05,2,     -999.0
33KB20110127,       PRS2,       2,          3,         23,       8023,2,20110128,       1426,  22.749833,-158.0000000,       4746,   499.3,   7.4778,  34.0900,2,  34.0880,2,    109.0,2,   107.5,2,   45.05,2,    2.11,2,  -999.0,     498,     7.4289,   29.45,2,     -999.0
33KB20110127,       PRS2,       2,          3,         22,       8022,2,20110128,       1426,  22.749833,-158.0000000,       4746,   750.2,   4.9145,  34.2598,2,  34.2591,2,     32.0,2,    31.2,2,   90.22,2,    2.95,2,  -999.0,     749,     4.8542,   40.70,2,     -999.0
33KB20110127,       PRS2,       2,          3,         21,       8021,2,20110128,       1426,  22.749833,-158.0000000,       4746,   999.7,   4.0121,  34.4598,2,  34.4587,2,     41.3,2,    41.0,2,  109.51,2,    2.13,4,  -999.0,    1000,     3.9365,   29.39,4,     -999.0
33KB20110127,       PRS2,       2,          3,         20,       8020,2,20110128,       1426,  22.749833,-158.0000000,       4746,  1199.8,   3.4798,  34.5245,2,  34.5252,2,     53.3,2,    53.9,2,  120.59,2,    2.95,2,  -999.0,    1200,     3.3920,   41.35,2,     -999.0
33KB20110127,       PRS2,       2,          3,         19,       8019,2,20110128,       1426,  22.749833,-158.0000000,       4746,  1400.0,   3.0392,  34.5528,2,  34.5525,2,     61.4,2,    61.7,2,  130.40,2,    2.94,2,  -999.0,    1399,     2.9393,   41.16,2,     -999.0
33KB20110127,       PRS2,       2,          3,         18,       8018,2,20110128,       1426,  22.749833,-158.0000000,       4746,  1599.4,   2.6328,  34.5831,2,  34.5828,2,     72.0,2,    72.1,2,  139.14,2,    2.89,2,  -999.0,    1600,     2.5210,   40.57,2,     -999.0
33KB20110127,       PRS2,       2,          3,         17,       8017,2,20110128,       1426,  22.749833,-158.0000000,       4746,  1799.3,   2.2978,  34.6012,2,  34.6014,2,     79.9,2,    80.2,2,  147.43,2,    2.85,2,  -999.0,    1799,     2.1739,   40.21,2,     -999.0
33KB20110127,       PRS2,       2,          3,         16,       8016,2,20110128,       1426,  22.749833,-158.0000000,       4746,  1998.7,   2.0740,  34.6199,2,  34.6201,2,     89.3,2,    90.2,2,  151.55,2,    2.80,2,  -999.0,    1999,     1.9365,   39.54,2,     -999.0
33KB20110127,       PRS2,       2,          3,         15,       8015,2,20110128,       1426,  22.749833,-158.0000000,       4746,  2199.3,   1.9017,  34.6350,2,  34.6348,2,     97.5,2,    97.9,2,  155.30,2,    2.76,2,  -999.0,    2199,     1.7499,   39.24,2,     -999.0
33KB20110127,       PRS2,       2,          3,         14,       8014,2,20110128,       1426,  22.749833,-158.0000000,       4746,  2399.5,   1.7943,  34.6445,2,  34.6449,2,    103.8,2,   104.5,2,  156.75,2,    2.72,2,  -999.0,    2400,     1.6268,   39.16,2,     -999.0
33KB20110127,       PRS2,       2,          3,         13,       8025,2,20110128,       1426,  22.749833,-158.0000000,       4746,  2599.0,   1.6865,  34.6523,2,  34.6525,2,    109.4,2,   109.7,2,  159.70,2,    2.70,2,  -999.0,    2600,     1.5032,   38.53,2,     -999.0
33KB20110127,       PRS2,       2,          3,         12,       8012,2,20110128,       1426,  22.749833,-158.0000000,       4746,  2798.7,   1.6155,  34.6601,2,  34.6598,2,    116.0,2,   116.9,2,  159.62,2,    2.68,2,  -999.0,    2800,     1.4153,   38.02,2,     -999.0
33KB20110127,       PRS2,       2,          3,         11,       8011,2,20110128,       1426,  22.749833,-158.0000000,       4746,  2999.4,   1.5485,  34.6674,2,  34.6675,2,    123.9,2,   124.1,2,  158.80,2,    2.62,2,  -999.0,    3000,     1.3308,   37.56,2,     -999.0
33KB20110127,       PRS2,       2,          3,         10,       8010,2,20110128,       1426,  22.749833,-158.0000000,       4746,  3199.7,   1.5006,  34.6732,2,  34.6739,2,    130.1,2,   130.6,2,  158.03,2,    2.59,2,  -999.0,    3200,     1.2645,   37.23,2,     -999.0
33KB20110127,       PRS2,       2,          3,          9,       8009,2,20110128,       1426,  22.749833,-158.0000000,       4746,  3399.1,   1.4772,  34.6780,2,  34.6783,2,    135.9,2,   136.0,2,  156.97,2,    2.56,2,  -999.0,    3399,     1.2219,   36.95,2,     -999.0
33KB20110127,       PRS2,       2,          3,          8,       8008,2,20110128,       1426,  22.749833,-158.0000000,       4746,  3598.6,   1.4586,  34.6810,2,  34.6800,2,    141.1,2,   141.1,2,  154.15,2,    2.54,2,  -999.0,    3599,     1.1834,   36.55,2,     -999.0
33KB20110127,       PRS2,       2,          3,          7,       8026,2,20110128,       1426,  22.749833,-158.0000000,       4746,  3799.6,   1.4521,  34.6834,2,  34.6830,2,    144.8,2,   144.7,2,  152.87,2,    2.52,2,  -999.0,    3801,     1.1561,   36.26,2,     -999.0
33KB20110127,       PRS2,       2,          3,          6,       8006,2,20110128,       1426,  22.749833,-158.0000000,       4746,  3999.6,   1.4556,  34.6849,2,  34.6836,2,    147.4,2,   147.3,2,  151.34,2,    2.51,2,  -999.0,    4000,     1.1380,   36.03,2,     -999.0
33KB20110127,       PRS2,       2,          3,          5,       8005,2,20110128,       1426,  22.749833,-158.0000000,       4746,  4198.7,   1.4606,  34.6868,2,  34.6867,2,    150.3,2,   149.8,2,  149.56,2,    2.50,2,  -999.0,    4198,     1.1210,   36.03,2,     -999.0
33KB20110127,       PRS2,       2,          3,          4,       8004,2,20110128,       1426,  22.749833,-158.0000000,       4746,  4399.3,   1.4754,  34.6875,2,  34.6869,2,    151.6,2,   151.3,2,  149.37,2,    2.48,2,  -999.0,    4400,     1.1128,   35.73,2,     -999.0
33KB20110127,       PRS2,       2,          3,          3,       8003,2,20110128,       1426,  22.749833,-158.0000000,       4746,  4498.0,   1.4843,  34.6876,2,  34.6877,2,    152.0,2,   152.0,2,  148.72,2,    2.49,2,  -999.0,    4497,     1.1100,   35.87,2,     -999.0
33KB20110127,       PRS2,       2,          3,          2,       8002,2,20110128,       1426,  22.749833,-158.0000000,       4746,  4599.8,   1.4931,  34.6879,2,  34.6881,2,    152.7,2,   152.1,2,  148.70,2,    2.48,2,  -999.0,    4600,     1.1068,   35.69,2,     -999.0
33KB20110127,       PRS2,       2,          3,          1,       8001,2,20110128,       1426,  22.749833,-158.0000000,       4746,  4807.5,   1.5073,  34.6887,2,  34.6899,2,    153.8,2,   153.9,2,  147.02,2,    2.47,2,  -999.0,    4807,     1.0960,   35.51,2,     -999.0
33KB20110127,       PRS2,       2,          4,         24,       8024,2,20110128,       2058,  22.749000,-157.9996667,       4748,    97.0,  22.4021,  35.3738,2,  35.3738,2,    209.3,2,   209.1,2,    1.50,2,    0.05,2,  -999.0,      97,    22.3826,    0.06,2,     -999.0
33KB20110127,       PRS2,       2,          4,         23,       8023,2,20110128,       2058,  22.749000,-157.9996667,       4748,   109.4,  21.7549,  35.3351,2,  35.3295,2,    209.2,2,   209.2,2,    1.59,2,    0.07,2,  -999.0,     109,    21.7334,    0.29,2,     -999.0
33KB20110127,       PRS2,       2,          4,         22,       8022,2,20110128,       2058,  22.749000,-157.9996667,       4748,   131.1,  19.8049,  35.1480,2,  35.1565,2,    204.9,2,   206.3,2,    2.47,2,    0.13,2,  -999.0,     131,    19.7808,    1.18,2,     -999.0
33KB20110127,       PRS2,       2,          4,         21,       8021,2,20110128,       2058,  22.749000,-157.9996667,       4748,   189.8,  17.0621,  34.7595,2,  34.7685,2,    202.0,2,   201.2,2,    3.73,2,    0.29,2,  -999.0,     190,    17.0307,    3.58,2,     -999.0
33KB20110127,       PRS2,       2,          4,         20,       8020,2,20110128,       2058,  22.749000,-157.9996667,       4748,   210.4,  16.0088,  34.6114,2,  34.6052,2,    207.8,2,   207.2,2,    4.49,2,    0.33,2,  -999.0,     210,    15.9755,    4.28,2,     -999.0
33KB20110127,       PRS2,       2,          4,         19,       8019,2,20110128,       2058,  22.749000,-157.9996667,       4748,   250.1,  14.3986,  34.4127,2,  34.4114,2,    209.0,2,   208.1,2,    6.41,2,    0.47,2,  -999.0,     250,    14.3619,    6.42,2,     -999.0
33KB20110127,       PRS2,       2,          4,         18,       8018,2,20110128,       2058,  22.749000,-157.9996667,       4748,   314.6,  12.3445,  34.2753,2,  34.2728,2,    203.0,2,   203.2,2,   11.08,2,    0.79,2,  -999.0,     314,    12.3028,   11.28,2,     -999.0
33KB20110127,       PRS2,       2,          4,         17,       8017,2,20110128,       2058,  22.749000,-157.9996667,       4748,   362.3,  10.6178,  34.1653,2,  34.1593,2,    190.7,2,   190.7,2,   17.47,2,    1.12,2,  -999.0,     362,    10.5742,   15.90,2,     -999.0
33KB20110127,       PRS2,       2,          4,         16,       8016,2,20110128,       2058,  22.749000,-157.9996667,       4748,   401.4,   9.6108,  34.1187,2,  34.1160,2,    181.8,2,   182.1,2,   22.79,2,    1.31,2,  -999.0,     402,     9.5654,   18.71,2,     -999.0
33KB20110127,       PRS2,       2,          4,         15,       8015,2,20110128,       2058,  22.749000,-157.9996667,       4748,   440.2,   8.7919,  34.0767,2,  34.0750,2,    178.0,2,   177.2,2,   28.01,2,    1.45,2,  -999.0,     441,     8.7447,   20.81,2,     -999.0
33KB20110127,       PRS2,       2,          4,         14,       8014,2,20110128,       2058,  22.749000,-157.9996667,       4748,   464.7,   8.1300,  34.0751,2,  34.0727,2,    144.9,2,   137.0,2,   38.22,2,    1.85,2,  -999.0,     466,     8.0823,   25.79,2,     -999.0
33KB20110127,       PRS2,       2,          4,         13,       8025,2,20110128,       2058,  22.749000,-157.9996667,       4748,   494.5,   7.5308,  34.0857,2,  34.0864,2,    108.6,2,   108.9,2,   44.69,2,    2.12,2,  -999.0,     494,     7.4822,   29.41,2,     -999.0
33KB20110127,       PRS2,       2,          4,         12,       8012,2,20110128,       2058,  22.749000,-157.9996667,       4748,   523.5,   7.0009,  34.1149,2,  34.1132,2,     83.4,2,    83.4,2,   52.51,2,    2.37,2,  -999.0,     524,     6.9515,   32.30,2,     -999.0
33KB20110127,       PRS2,       2,          4,         11,       8011,2,20110128,       2058,  22.749000,-157.9996667,       4748,   569.7,   6.1337,  34.1329,2,  34.1321,2,     62.6,2,    59.9,2,   65.14,2,    2.62,2,  -999.0,     571,     6.0834,   35.90,2,     -999.0
33KB20110127,       PRS2,       2,          4,         10,       8010,2,20110128,       2058,  22.749000,-157.9996667,       4748,   600.0,   5.7448,  34.1177,2,  34.1178,2,     57.8,2,    56.6,2,   70.49,2,    2.69,2,  -999.0,     600,     5.6935,   37.11,2,     -999.0
33KB20110127,       PRS2,       2,          4,          9,       8009,2,20110128,       2058,  22.749000,-157.9996667,       4748,   638.5,   5.4017,  34.1456,2,  34.1444,2,     47.0,2,    46.5,2,   77.48,2,    2.81,2,  -999.0,     637,     5.3486,   38.58,2,     -999.0
33KB20110127,       PRS2,       2,          4,          8,       8008,2,20110128,       2058,  22.749000,-157.9996667,       4748,   660.8,   5.2301,  34.1826,2,  34.1781,2,     39.7,2,    39.9,2,   81.61,2,    2.87,2,  -999.0,     660,     5.1759,   39.34,2,     -999.0
33KB20110127,       PRS2,       2,          4,          7,       8026,2,20110128,       2058,  22.749000,-157.9996667,       4748,   695.1,   5.0468,  34.2247,2,  34.2244,2,     33.7,2,    34.6,2,   86.72,2,    2.93,2,  -999.0,     696,     4.9905,   40.04,2,     -999.0
33KB20110127,       PRS2,       2,          4,          6,       8006,2,20110128,       2058,  22.749000,-157.9996667,       4748,   755.7,   4.7163,  34.2992,2,  34.2987,2,     29.0,2,    29.0,2,   95.08,2,    3.00,2,  -999.0,     755,     4.6566,   41.25,2,     -999.0
33KB20110127,       PRS2,       2,          4,          5,       8005,2,20110128,       2058,  22.749000,-157.9996667,       4748,   790.1,   4.5229,  34.3464,2,  34.3358,4,     26.1,3,    25.8,2,   99.93,2,    3.05,2,  -999.0,     789,     4.4613,   41.71,2,     -999.0
33KB20110127,       PRS2,       2,          4,          4,       8004,2,20110128,       2058,  22.749000,-157.9996667,       4748,   821.8,   4.4404,  34.3953,2,  34.3957,2,     33.5,2,    32.7,2,  100.88,2,    3.02,2,  -999.0,     822,     4.3766,   41.53,2,     -999.0
33KB20110127,       PRS2,       2,          4,          3,       8003,2,20110128,       2058,  22.749000,-157.9996667,       4748,   887.7,   4.1948,  34.4351,2,  34.4375,2,     39.2,2,    39.3,2,  106.01,2,    2.99,2,  -999.0,     888,     4.1272,   41.35,2,     -999.0
33KB20110127,       PRS2,       2,          4,          2,       8002,2,20110128,       2058,  22.749000,-157.9996667,       4748,   952.2,   3.9716,  34.4654,2,  34.4677,2,     42.3,2,    43.0,2,  110.54,2,    3.01,2,  -999.0,     953,     3.9002,   41.70,2,     -999.0
33KB20110127,       PRS2,       2,          4,          1,       8001,2,20110128,       2058,  22.749000,-157.9996667,       4748,  1020.2,   3.8075,  34.4909,2,  34.4926,2,     46.6,2,    46.3,2,  113.26,2,    2.98,2,  -999.0,    1020,     3.7317,   41.35,2,     -999.0
33KB20110127,       PRS2,       2,          5,         14,       8014,2,20110128,       2354,  22.749000,-157.9960000,       4743,     5.5,  23.6904,  35.3943,2,  35.3940,2,    211.5,1,  -999.0,9, -999.00,9, -999.00,9,  -999.0,       6,    23.6893, -999.00,9,     -999.0
33KB20110127,       PRS2,       2,          5,         13,       8025,2,20110128,       2354,  22.749000,-157.9960000,       4743,    25.9,  23.6204,  35.3960,2,  35.3969,2,    210.8,1,  -999.0,9, -999.00,9, -999.00,9,  -999.0,      26,    23.6150, -999.00,9,     -999.0
33KB20110127,       PRS2,       2,          5,         12,       8012,2,20110128,       2354,  22.749000,-157.9960000,       4743,    45.2,  23.3187,  35.4157,2,  35.4135,2,    210.8,1,  -999.0,9, -999.00,9, -999.00,9,  -999.0,      45,    23.3094, -999.00,9,     -999.0
33KB20110127,       PRS2,       2,          5,         11,       8011,2,20110128,       2354,  22.749000,-157.9960000,       4743,    76.4,  22.4322,  35.3652,2,  35.3636,2,    208.6,1,  -999.0,9, -999.00,9, -999.00,9,  -999.0,      75,    22.4169, -999.00,9,     -999.0
33KB20110127,       PRS2,       2,          5,         10,       8010,2,20110128,       2354,  22.749000,-157.9960000,       4743,    99.7,  20.8397,  35.2454,2,  35.2229,3,    207.1,1,  -999.0,9, -999.00,9, -999.00,9,  -999.0,     100,    20.8208, -999.00,9,     -999.0
33KB20110127,       PRS2,       2,          5,          9,       8009,2,20110128,       2354,  22.749000,-157.9960000,       4743,   125.1,  19.5841,  35.1294,2,  35.1309,2,    207.0,1,  -999.0,9, -999.00,9, -999.00,9,  -999.0,     126,    19.5613, -999.00,9,     -999.0
33KB20110127,       PRS2,       2,          5,          8,       8008,2,20110128,       2354,  22.749000,-157.9960000,       4743,   150.2,  18.5944,  35.0026,2,  35.0039,2,    202.3,1,  -999.0,9, -999.00,9, -999.00,9,  -999.0,     151,    18.5681, -999.00,9,     -999.0
33KB20110127,       PRS2,       2,          5,          7,       8026,2,20110128,       2354,  22.749000,-157.9960000,       4743,   174.9,  17.4059,  34.8154,2,  34.8054,2,    200.7,1,  -999.0,9, -999.00,9, -999.00,9,  -999.0,     175,    17.3766, -999.00,9,     -999.0
33KB20110127,       PRS2,       2,          5,          6,       8006,2,20110128,       2354,  22.749000,-157.9960000,       4743,   200.5,  16.4609,  34.6730,2,  34.6816,2,    205.6,1,  -999.0,9, -999.00,9, -999.00,9,  -999.0,     199,    16.4286, -999.00,9,     -999.0
33KB20110127,       PRS2,       2,          5,          5,       8005,2,20110128,       2354,  22.749000,-157.9960000,       4743,   250.3,  14.0231,  34.3784,2,  34.3841,2,    206.4,1,  -999.0,9, -999.00,9, -999.00,9,  -999.0,     250,    13.9870, -999.00,9,     -999.0
33KB20110127,       PRS2,       2,          5,          4,       8004,2,20110128,       2354,  22.749000,-157.9960000,       4743,   349.6,  11.1269,  34.1977,2,  34.1989,2,    199.0,1,  -999.0,9, -999.00,9, -999.00,9,  -999.0,     351,    11.0836, -999.00,9,     -999.0
33KB20110127,       PRS2,       2,          5,          3,       8003,2,20110128,       2354,  22.749000,-157.9960000,       4743,   349.6,  11.1272,  34.1983,2,  34.1979,2,    199.2,1,  -999.0,9, -999.00,9, -999.00,9,  -999.0,     351,    11.0839, -999.00,9,     -999.0
33KB20110127,       PRS2,       2,          5,          2,       8002,2,20110128,       2354,  22.749000,-157.9960000,       4743,   471.1,   8.1829,  34.0649,2,  34.0656,2,    152.3,1,  -999.0,9, -999.00,9, -999.00,9,  -999.0,     471,     8.1344, -999.00,9,     -999.0
33KB20110127,       PRS2,       2,          5,          1,       8001,2,20110128,       2354,  22.749000,-157.9960000,       4743,  1020.2,   3.8576,  34.4838,2,  34.4848,2,     45.4,1,  -999.0,9, -999.00,9, -999.00,9,  -999.0,    1020,     3.7814, -999.00,9,     -999.0