BOTTLE,20141031SIOCCHAMB
EXPOCODE,SECT_ID,STNNBR,CASTNO,SAMPNO,BTLNBR,BTLNBR_FLAG_W,DATE,TIME,LATITUDE,LONGITUDE,DEPTH,CTDPRS,CTDTMP,CTDSAL,CTDSAL_FLAG_W,SALNTY,SALNTY_FLAG_W,CTDOXY,CTDOXY_FLAG_W,OXYGEN,OXYGEN_FLAG_W,SILCAT,SILCAT_FLAG_W,PHSPHT,PHSPHT_FLAG_W,REVPRS,CTDRAW,THETA,NO2+NO3,NO2+NO3_FLAG_W,REVTMP
,,,,,,,,,,,METERS,DBAR,ITS-90,PSS-78,,PSS-78,,UMOL/KG,,UMOL/KG,,UMOL/KG,,UMOL/KG,,DBAR,DBAR,ITS-90,UMOL/KG,,DEG C
33KB20110127,       PRS2,       2,          6,         16,       8016,2,20110129,       0254,  22.750000,-157.9998333,       4747,     5.6,  23.6359,  35.3973,2,-999.0000,5,    210.4,1,  -999.0,9, -999.00,9, -999.00,9,  -999.0,       5,    23.6347, -999.00,9,     -999.0
33KB20110127,       PRS2,       2,          6,         15,       8015,2,20110129,       0254,  22.750000,-157.9998333,       4747,     5.6,  23.6357,  35.3971,2,  35.3971,2,    210.3,1,  -999.0,9, -999.00,9, -999.00,9,  -999.0,       5,    23.6345, -999.00,9,     -999.0
33KB20110127,       PRS2,       2,          6,         14,       8014,2,20110129,       0254,  22.750000,-157.9998333,       4747,    25.4,  23.5692,  35.4026,2,  35.4052,2,    210.7,1,  -999.0,9, -999.00,9, -999.00,9,  -999.0,      25,    23.5640, -999.00,9,     -999.0
33KB20110127,       PRS2,       2,          6,         13,       8025,2,20110129,       0254,  22.750000,-157.9998333,       4747,    45.1,  23.4117,  35.4238,2,  35.4243,2,    211.6,1,  -999.0,9, -999.00,9, -999.00,9,  -999.0,      45,    23.4024, -999.00,9,     -999.0
33KB20110127,       PRS2,       2,          6,         12,       8012,2,20110129,       0254,  22.750000,-157.9998333,       4747,    75.2,  22.5964,  35.3564,2,  35.3555,2,    209.9,1,  -999.0,9, -999.00,9, -999.00,9,  -999.0,      75,    22.5812, -999.00,9,     -999.0
33KB20110127,       PRS2,       2,          6,         11,       8011,2,20110129,       0254,  22.750000,-157.9998333,       4747,    89.8,  21.9118,  35.3469,2,-999.0000,5,    208.6,1,  -999.0,9, -999.00,9, -999.00,9,  -999.0,      90,    21.8940, -999.00,9,     -999.0
33KB20110127,       PRS2,       2,          6,         10,       8010,2,20110129,       0254,  22.750000,-157.9998333,       4747,    99.5,  20.9705,  35.2586,2,  35.2509,2,    208.0,1,  -999.0,9, -999.00,9, -999.00,9,  -999.0,      99,    20.9515, -999.00,9,     -999.0
33KB20110127,       PRS2,       2,          6,          9,       8009,2,20110129,       0254,  22.750000,-157.9998333,       4747,   125.1,  19.2575,  35.0802,2,  35.0844,2,    205.3,1,  -999.0,9, -999.00,9, -999.00,9,  -999.0,     124,    19.2350, -999.00,9,     -999.0
33KB20110127,       PRS2,       2,          6,          8,       8008,2,20110129,       0254,  22.750000,-157.9998333,       4747,   150.3,  17.7946,  34.8827,2,  34.8991,2,    201.0,1,  -999.0,9, -999.00,9, -999.00,9,  -999.0,     150,    17.7690, -999.00,9,     -999.0
33KB20110127,       PRS2,       2,          6,          7,       8026,2,20110129,       0254,  22.750000,-157.9998333,       4747,   175.4,  16.9355,  34.7461,2,  34.7488,2,    203.8,1,  -999.0,9, -999.00,9, -999.00,9,  -999.0,     175,    16.9067, -999.00,9,     -999.0
33KB20110127,       PRS2,       2,          6,          6,       8006,2,20110129,       0254,  22.750000,-157.9998333,       4747,   199.5,  15.4519,  34.5329,2,  34.5062,3,    209.0,1,  -999.0,9, -999.00,9, -999.00,9,  -999.0,     199,    15.4212, -999.00,9,     -999.0
33KB20110127,       PRS2,       2,          6,          5,       8005,2,20110129,       0254,  22.750000,-157.9998333,       4747,   250.5,  13.3259,  34.3313,2,  34.3290,2,    204.5,1,  -999.0,9, -999.00,9, -999.00,9,  -999.0,     250,    13.2910, -999.00,9,     -999.0
33KB20110127,       PRS2,       2,          6,          4,       8004,2,20110129,       0254,  22.750000,-157.9998333,       4747,   349.6,  10.4808,  34.1577,2,  34.1538,2,    190.3,1,  -999.0,9, -999.00,9, -999.00,9,  -999.0,     349,    10.4391, -999.00,9,     -999.0
33KB20110127,       PRS2,       2,          6,          3,       8003,2,20110129,       0254,  22.750000,-157.9998333,       4747,   349.6,  10.4798,  34.1580,2,  34.1524,2,    190.0,1,  -999.0,9, -999.00,9, -999.00,9,  -999.0,     349,    10.4381, -999.00,9,     -999.0
33KB20110127,       PRS2,       2,          6,          2,       8002,2,20110129,       0254,  22.750000,-157.9998333,       4747,   524.0,   7.0429,  34.0743,2,  34.0854,3,    107.2,1,  -999.0,9, -999.00,9, -999.00,9,  -999.0,     525,     6.9933, -999.00,9,     -999.0
33KB20110127,       PRS2,       2,          6,          1,       8001,2,20110129,       0254,  22.750000,-157.9998333,       4747,  1020.6,   3.8803,  34.4799,2,  34.4813,2,     45.1,1,  -999.0,9, -999.00,9, -999.00,9,  -999.0,    1020,     3.8039, -999.00,9,     -999.0
33KB20110127,       PRS2,       2,          7,         23,       8023,2,20110129,       0553,  22.749833,-157.9998333,       4746,     2.4,  23.6283,  35.3981,2,  35.3975,2,    211.3,2,  -999.0,5, -999.00,5, -999.00,5,  -999.0,       2,    23.6278, -999.00,5,     -999.0
33KB20110127,       PRS2,       2,          7,         22,       8022,2,20110129,       0553,  22.749833,-157.9998333,       4746,     2.4,  23.6300,  35.3982,2,  35.3979,2,    211.5,2,   210.6,2,    0.88,2,    0.05,2,  -999.0,       2,    23.6296,    0.04,2,     -999.0
33KB20110127,       PRS2,       2,          7,         21,       8021,2,20110129,       0553,  22.749833,-157.9998333,       4746,    15.2,  23.6281,  35.3983,2,  35.3981,2,    211.6,2,  -999.0,5,    0.88,2,    0.05,2,  -999.0,      15,    23.6249,    0.06,2,     -999.0
33KB20110127,       PRS2,       2,          7,         20,       8020,2,20110129,       0553,  22.749833,-157.9998333,       4746,    24.8,  23.6325,  35.3981,2,  35.3977,2,    211.8,2,  -999.0,5, -999.00,5, -999.00,5,  -999.0,      24,    23.6273, -999.00,5,     -999.0
33KB20110127,       PRS2,       2,          7,         19,       8019,2,20110129,       0553,  22.749833,-157.9998333,       4746,    24.8,  23.6302,  35.3983,2,  35.3979,2,    211.7,2,   210.8,2,    0.89,2,    0.04,2,  -999.0,      24,    23.6250,    0.06,2,     -999.0
33KB20110127,       PRS2,       2,          7,         18,       8018,2,20110129,       0553,  22.749833,-157.9998333,       4746,    34.4,  23.5806,  35.4031,2,  35.4024,2,    210.1,2,  -999.0,5,    0.90,2,    0.04,2,  -999.0,      36,    23.5734,    0.05,2,     -999.0
33KB20110127,       PRS2,       2,          7,         17,       8017,2,20110129,       0553,  22.749833,-157.9998333,       4746,    44.9,  23.4384,  35.4227,2,  35.4261,2,    211.9,2,   211.3,2,    0.90,2,    0.04,2,  -999.0,      44,    23.4291,    0.05,2,     -999.0
33KB20110127,       PRS2,       2,          7,         16,       8016,2,20110129,       0553,  22.749833,-157.9998333,       4746,    60.5,  23.3153,  35.4392,2,  35.4373,2,    211.6,2,  -999.0,5,    0.92,2,    0.03,2,  -999.0,      60,    23.3028,    0.04,2,     -999.0
33KB20110127,       PRS2,       2,          7,         15,       8015,2,20110129,       0553,  22.749833,-157.9998333,       4746,    74.6,  23.0969,  35.4451,2,  35.4470,2,    211.0,2,   210.7,2,    1.06,2,    0.04,2,  -999.0,      75,    23.0816,    0.02,2,     -999.0
33KB20110127,       PRS2,       2,          7,         14,       8014,2,20110129,       0553,  22.749833,-157.9998333,       4746,    85.6,  22.8616,  35.4270,2,  35.4300,2,    210.4,2,   209.9,2, -999.00,5, -999.00,5,  -999.0,      84,    22.8442, -999.00,5,     -999.0
33KB20110127,       PRS2,       2,          7,         13,       8025,2,20110129,       0553,  22.749833,-157.9998333,       4746,    90.4,  22.6728,  35.4125,2,  35.4145,2,    209.7,2,  -999.0,5, -999.00,5, -999.00,5,  -999.0,      90,    22.6545, -999.00,5,     -999.0
33KB20110127,       PRS2,       2,          7,         12,       8012,2,20110129,       0553,  22.749833,-157.9998333,       4746,   101.4,  21.6834,  35.3271,2,  35.3104,3,    208.4,3,   208.8,2,    1.45,2,    0.08,2,  -999.0,     101,    21.6635,    0.38,2,     -999.0
33KB20110127,       PRS2,       2,          7,         11,       8011,2,20110129,       0553,  22.749833,-157.9998333,       4746,   110.5,  20.7420,  35.2371,2,  35.2353,2,    206.8,2,  -999.0,5, -999.00,5, -999.00,5,  -999.0,     110,    20.7210, -999.00,5,     -999.0
33KB20110127,       PRS2,       2,          7,         10,       8010,2,20110129,       0553,  22.749833,-157.9998333,       4746,   116.0,  20.4357,  35.2069,2,  35.1985,2,    205.7,2,   207.4,2, -999.00,5, -999.00,5,  -999.0,     116,    20.4139, -999.00,5,     -999.0
33KB20110127,       PRS2,       2,          7,          9,       8009,2,20110129,       0553,  22.749833,-157.9998333,       4746,   125.4,  20.1970,  35.1798,2,  35.1782,2,    207.4,2,   207.8,2,    1.88,2,    0.12,2,  -999.0,     125,    20.1737,    0.98,2,     -999.0
33KB20110127,       PRS2,       2,          7,          8,       8008,2,20110129,       0553,  22.749833,-157.9998333,       4746,   130.2,  19.8717,  35.1510,2,  35.1484,2,    205.8,2,  -999.0,5, -999.00,5, -999.00,5,  -999.0,     131,    19.8477, -999.00,5,     -999.0
33KB20110127,       PRS2,       2,          7,          7,       8026,2,20110129,       0553,  22.749833,-157.9998333,       4746,   150.3,  18.6227,  34.9965,2,  35.0004,2,    202.6,2,   203.6,2,    2.54,2,    0.20,2,  -999.0,     151,    18.5963,    2.10,2,     -999.0
33KB20110127,       PRS2,       2,          7,          6,       8006,2,20110129,       0553,  22.749833,-157.9998333,       4746,   166.0,  17.9642,  34.9121,2,  34.9185,2,    200.5,2,   202.7,2, -999.00,5, -999.00,5,  -999.0,     165,    17.9358, -999.00,5,     -999.0
33KB20110127,       PRS2,       2,          7,          5,       8005,2,20110129,       0553,  22.749833,-157.9998333,       4746,   176.1,  17.8205,  34.8896,2,  34.8908,2,    200.8,2,   202.9,2,    3.05,2,    0.24,2,  -999.0,     177,    17.7905,    2.83,2,     -999.0
33KB20110127,       PRS2,       2,          7,          4,       8004,2,20110129,       0553,  22.749833,-157.9998333,       4746,   200.5,  16.7168,  34.7094,2,  34.7146,2,    202.5,2,   201.8,2,    3.84,2,    0.32,2,  -999.0,     201,    16.6842,    3.93,2,     -999.0
33KB20110127,       PRS2,       2,          7,          3,       8003,2,20110129,       0553,  22.749833,-157.9998333,       4746,   521.1,   6.9081,  34.0459,2,  34.0594,3,    108.1,3,   105.5,2, -999.00,5, -999.00,5,  -999.0,     521,     6.8593, -999.00,5,     -999.0
33KB20110127,       PRS2,       2,          7,          2,       8002,2,20110129,       0553,  22.749833,-157.9998333,       4746,   800.4,   4.5316,  34.3356,2,  34.3366,2,     26.1,2,    25.8,2, -999.00,5, -999.00,5,  -999.0,     801,     4.4692, -999.00,5,     -999.0
33KB20110127,       PRS2,       2,          7,          1,       8001,2,20110129,       0553,  22.749833,-157.9998333,       4746,  1020.0,   3.8971,  34.4788,2,  34.4811,2,     44.7,2,    44.6,2, -999.00,5, -999.00,5,  -999.0,    1020,     3.8206, -999.00,5,     -999.0
33KB20110127,       PRS2,       2,          8,         24,       8024,2,20110129,       0857,  22.749833,-158.0008333,       4748,     5.6,  23.6115,  35.4032,2,  35.4054,2,    210.8,1,  -999.0,9, -999.00,9, -999.00,9,  -999.0,       4,    23.6104, -999.00,9,     -999.0
33KB20110127,       PRS2,       2,          8,         23,       8023,3,20110129,       0857,  22.749833,-158.0008333,       4748,    24.6,  23.6187,  35.4036,2,  35.4046,2,    210.9,1,  -999.0,9, -999.00,9, -999.00,9,  -999.0,      24,    23.6136, -999.00,9,     -999.0
33KB20110127,       PRS2,       2,          8,         22,       8022,2,20110129,       0857,  22.749833,-158.0008333,       4748,    45.1,  23.5815,  35.4066,2,  35.4080,2,    210.7,1,  -999.0,9, -999.00,9, -999.00,9,  -999.0,      44,    23.5721, -999.00,9,     -999.0
33KB20110127,       PRS2,       2,          8,         21,       8021,2,20110129,       0857,  22.749833,-158.0008333,       4748,    75.4,  23.2288,  35.4437,2,  35.4429,2,    211.4,1,  -999.0,9, -999.00,9, -999.00,9,  -999.0,      75,    23.2133, -999.00,9,     -999.0
33KB20110127,       PRS2,       2,          8,         20,       8020,2,20110129,       0857,  22.749833,-158.0008333,       4748,   100.6,  21.9415,  35.3486,2,  35.3573,2,    208.7,1,  -999.0,9, -999.00,9, -999.00,9,  -999.0,     101,    21.9216, -999.00,9,     -999.0
33KB20110127,       PRS2,       2,          8,         19,       8019,2,20110129,       0857,  22.749833,-158.0008333,       4748,   125.3,  20.1159,  35.1765,2,  35.1406,4,    208.5,1,  -999.0,9, -999.00,9, -999.00,9,  -999.0,     124,    20.0926, -999.00,9,     -999.0
33KB20110127,       PRS2,       2,          8,         18,       8018,2,20110129,       0857,  22.749833,-158.0008333,       4748,   150.4,  18.6002,  35.0013,2,  34.9965,2,    199.3,1,  -999.0,9, -999.00,9, -999.00,9,  -999.0,     150,    18.5738, -999.00,9,     -999.0
33KB20110127,       PRS2,       2,          8,         17,       8017,2,20110129,       0857,  22.749833,-158.0008333,       4748,   174.0,  17.9621,  34.9085,2,  34.9081,2,    202.0,1,  -999.0,9, -999.00,9, -999.00,9,  -999.0,     174,    17.9323, -999.00,9,     -999.0
33KB20110127,       PRS2,       2,          8,         16,       8016,2,20110129,       0857,  22.749833,-158.0008333,       4748,   500.3,   7.6191,  34.0835,2,  34.0819,2,    113.5,1,  -999.0,9, -999.00,9, -999.00,9,  -999.0,     500,     7.5696, -999.00,9,     -999.0
33KB20110127,       PRS2,       2,          8,         15,       8015,2,20110129,       0857,  22.749833,-158.0008333,       4748,   500.5,   7.6199,  34.0826,2,-999.0000,5,    113.2,1,  -999.0,9, -999.00,9, -999.00,9,  -999.0,     499,     7.5704, -999.00,9,     -999.0
33KB20110127,       PRS2,       2,          8,         14,       8014,2,20110129,       0857,  22.749833,-158.0008333,       4748,   500.1,   7.6199,  34.0827,2,-999.0000,5,    113.0,1,  -999.0,9, -999.00,9, -999.00,9,  -999.0,     501,     7.5704, -999.00,9,     -999.0
33KB20110127,       PRS2,       2,          8,         13,       8025,2,20110129,       0857,  22.749833,-158.0008333,       4748,   500.1,   7.6186,  34.0833,2,-999.0000,5,    112.8,1,  -999.0,9, -999.00,9, -999.00,9,  -999.0,     500,     7.5691, -999.00,9,     -999.0
33KB20110127,       PRS2,       2,          8,         12,       8012,2,20110129,       0857,  22.749833,-158.0008333,       4748,   500.2,   7.6164,  34.0834,2,-999.0000,5,    112.6,1,  -999.0,9, -999.00,9, -999.00,9,  -999.0,     500,     7.5669, -999.00,9,     -999.0
33KB20110127,       PRS2,       2,          8,         11,       8011,2,20110129,       0857,  22.749833,-158.0008333,       4748,   520.8,   7.3472,  34.0872,2,-999.0000,5,    101.3,1,  -999.0,9, -999.00,9, -999.00,9,  -999.0,     521,     7.2966, -999.00,9,     -999.0
33KB20110127,       PRS2,       2,          8,         10,       8010,2,20110129,       0857,  22.749833,-158.0008333,       4748,   771.0,   4.6071,  34.3490,2,  34.3492,2,     29.6,1,  -999.0,9, -999.00,9, -999.00,9,  -999.0,     770,     4.5466, -999.00,9,     -999.0
33KB20110127,       PRS2,       2,          8,          9,       8009,2,20110129,       0857,  22.749833,-158.0008333,       4748,   770.9,   4.6071,  34.3490,2,-999.0000,5,     29.7,1,  -999.0,9, -999.00,9, -999.00,9,  -999.0,     771,     4.5466, -999.00,9,     -999.0
33KB20110127,       PRS2,       2,          8,          8,       8008,2,20110129,       0857,  22.749833,-158.0008333,       4748,   770.5,   4.6071,  34.3491,2,-999.0000,5,     29.8,1,  -999.0,9, -999.00,9, -999.00,9,  -999.0,     771,     4.5467, -999.00,9,     -999.0
33KB20110127,       PRS2,       2,          8,          7,       8026,2,20110129,       0857,  22.749833,-158.0008333,       4748,   770.6,   4.6071,  34.3490,2,-999.0000,5,     29.9,1,  -999.0,9, -999.00,9, -999.00,9,  -999.0,     770,     4.5467, -999.00,9,     -999.0
33KB20110127,       PRS2,       2,          8,          6,       8006,2,20110129,       0857,  22.749833,-158.0008333,       4748,   770.7,   4.6071,  34.3490,2,-999.0000,5,     30.0,1,  -999.0,9, -999.00,9, -999.00,9,  -999.0,     770,     4.5467, -999.00,9,     -999.0
33KB20110127,       PRS2,       2,          8,          5,       8005,2,20110129,       0857,  22.749833,-158.0008333,       4748,  1020.3,   3.9585,  34.4703,2,-999.0000,5,     43.4,1,  -999.0,9, -999.00,9, -999.00,9,  -999.0,    1020,     3.8815, -999.00,9,     -999.0
33KB20110127,       PRS2,       2,          8,          4,       8004,2,20110129,       0857,  22.749833,-158.0008333,       4748,  1020.2,   3.9584,  34.4703,2,-999.0000,5,     43.4,1,  -999.0,9, -999.00,9, -999.00,9,  -999.0,    1021,     3.8814, -999.00,9,     -999.0
33KB20110127,       PRS2,       2,          8,          3,       8003,2,20110129,       0857,  22.749833,-158.0008333,       4748,  1020.1,   3.9592,  34.4700,2,-999.0000,5,     43.5,1,  -999.0,9, -999.00,9, -999.00,9,  -999.0,    1020,     3.8822, -999.00,9,     -999.0
33KB20110127,       PRS2,       2,          8,          2,       8002,2,20110129,       0857,  22.749833,-158.0008333,       4748,  1020.0,   3.9599,  34.4703,2,-999.0000,5,     43.4,1,  -999.0,9, -999.00,9, -999.00,9,  -999.0,    1019,     3.8829, -999.00,9,     -999.0
33KB20110127,       PRS2,       2,          8,          1,       8001,2,20110129,       0857,  22.749833,-158.0008333,       4748,  1020.0,   3.9599,  34.4701,2,  34.4697,2,     43.4,1,  -999.0,9, -999.00,9, -999.00,9,  -999.0,    1019,     3.8830, -999.00,9,     -999.0