BOTTLE,20141031SIOCCHAMB
EXPOCODE,SECT_ID,STNNBR,CASTNO,SAMPNO,BTLNBR,BTLNBR_FLAG_W,DATE,TIME,LATITUDE,LONGITUDE,DEPTH,CTDPRS,CTDTMP,CTDSAL,CTDSAL_FLAG_W,SALNTY,SALNTY_FLAG_W,CTDOXY,CTDOXY_FLAG_W,OXYGEN,OXYGEN_FLAG_W,SILCAT,SILCAT_FLAG_W,PHSPHT,PHSPHT_FLAG_W,REVPRS,CTDRAW,THETA,NO2+NO3,NO2+NO3_FLAG_W,REVTMP
,,,,,,,,,,,METERS,DBAR,ITS-90,PSS-78,,PSS-78,,UMOL/KG,,UMOL/KG,,UMOL/KG,,UMOL/KG,,DBAR,DBAR,ITS-90,UMOL/KG,,DEG C
33KB20110127,       PRS2,       2,         15,         22,       8022,2,20110130,       0554,  22.668833,-157.9701667,       4753,     5.9,  23.8123,  35.3686,2,-999.0000,5,    210.3,1,  -999.0,9, -999.00,9, -999.00,9,  -999.0,       5,    23.8111, -999.00,9,     -999.0
33KB20110127,       PRS2,       2,         15,         21,       8021,2,20110130,       0554,  22.668833,-157.9701667,       4753,     6.0,  23.8123,  35.3686,2,  35.3683,2,    210.3,1,  -999.0,9, -999.00,9, -999.00,9,  -999.0,       7,    23.8110, -999.00,9,     -999.0
33KB20110127,       PRS2,       2,         15,         20,       8020,2,20110130,       0554,  22.668833,-157.9701667,       4753,    25.1,  23.7602,  35.3694,2,-999.0000,5,    210.2,1,  -999.0,9, -999.00,9, -999.00,9,  -999.0,      25,    23.7550, -999.00,9,     -999.0
33KB20110127,       PRS2,       2,         15,         19,       8019,2,20110130,       0554,  22.668833,-157.9701667,       4753,    25.1,  23.7606,  35.3694,2,  35.3685,2,    210.2,1,  -999.0,9, -999.00,9, -999.00,9,  -999.0,      25,    23.7553, -999.00,9,     -999.0
33KB20110127,       PRS2,       2,         15,         18,       8018,2,20110130,       0554,  22.668833,-157.9701667,       4753,    44.8,  23.4291,  35.4268,2,-999.0000,5,    212.0,1,  -999.0,9, -999.00,9, -999.00,9,  -999.0,      45,    23.4198, -999.00,9,     -999.0
33KB20110127,       PRS2,       2,         15,         17,       8017,2,20110130,       0554,  22.668833,-157.9701667,       4753,    44.8,  23.4286,  35.4269,2,  35.4273,2,    211.9,1,  -999.0,9, -999.00,9, -999.00,9,  -999.0,      46,    23.4193, -999.00,9,     -999.0
33KB20110127,       PRS2,       2,         15,         16,       8016,2,20110130,       0554,  22.668833,-157.9701667,       4753,    60.8,  23.3733,  35.4396,2,  35.4281,3,    211.5,1,  -999.0,9, -999.00,9, -999.00,9,  -999.0,      61,    23.3607, -999.00,9,     -999.0
33KB20110127,       PRS2,       2,         15,         15,       8015,2,20110130,       0554,  22.668833,-157.9701667,       4753,    75.0,  23.2985,  35.4448,2,-999.0000,5,    211.5,1,  -999.0,9, -999.00,9, -999.00,9,  -999.0,      75,    23.2830, -999.00,9,     -999.0
33KB20110127,       PRS2,       2,         15,         14,       8014,2,20110130,       0554,  22.668833,-157.9701667,       4753,    74.5,  23.2940,  35.4450,2,  35.4448,2,    211.3,1,  -999.0,9, -999.00,9, -999.00,9,  -999.0,      76,    23.2787, -999.00,9,     -999.0
33KB20110127,       PRS2,       2,         15,         13,       8025,2,20110130,       0554,  22.668833,-157.9701667,       4753,    86.8,  22.9258,  35.3985,2,  35.4044,2,    208.8,1,  -999.0,9, -999.00,9, -999.00,9,  -999.0,      87,    22.9081, -999.00,9,     -999.0
33KB20110127,       PRS2,       2,         15,         12,       8012,2,20110130,       0554,  22.668833,-157.9701667,       4753,   100.8,  22.2854,  35.3449,2,-999.0000,5,    208.2,1,  -999.0,9, -999.00,9, -999.00,9,  -999.0,     101,    22.2653, -999.00,9,     -999.0
33KB20110127,       PRS2,       2,         15,         11,       8011,2,20110130,       0554,  22.668833,-157.9701667,       4753,   100.8,  22.2723,  35.3440,2,  35.3407,2,    208.1,1,  -999.0,9, -999.00,9, -999.00,9,  -999.0,     100,    22.2521, -999.00,9,     -999.0
33KB20110127,       PRS2,       2,         15,         10,       8010,2,20110130,       0554,  22.668833,-157.9701667,       4753,   116.2,  21.3715,  35.2948,2,  35.2997,2,    207.2,1,  -999.0,9, -999.00,9, -999.00,9,  -999.0,     114,    21.3490, -999.00,9,     -999.0
33KB20110127,       PRS2,       2,         15,          9,       8009,2,20110130,       0554,  22.668833,-157.9701667,       4753,   126.1,  20.1683,  35.1867,2,-999.0000,5,    203.2,1,  -999.0,9, -999.00,9, -999.00,9,  -999.0,     125,    20.1449, -999.00,9,     -999.0
33KB20110127,       PRS2,       2,         15,          8,       8008,2,20110130,       0554,  22.668833,-157.9701667,       4753,   126.0,  20.1671,  35.1864,2,  35.1851,2,    203.6,1,  -999.0,9, -999.00,9, -999.00,9,  -999.0,     126,    20.1436, -999.00,9,     -999.0
33KB20110127,       PRS2,       2,         15,          7,       8026,2,20110130,       0554,  22.668833,-157.9701667,       4753,   135.0,  19.4295,  35.1085,2,  35.1195,2,    204.9,1,  -999.0,9, -999.00,9, -999.00,9,  -999.0,     136,    19.4051, -999.00,9,     -999.0
33KB20110127,       PRS2,       2,         15,          6,       8006,2,20110130,       0554,  22.668833,-157.9701667,       4753,   151.0,  18.4158,  34.9798,2,-999.0000,5,    201.0,1,  -999.0,9, -999.00,9, -999.00,9,  -999.0,     152,    18.3894, -999.00,9,     -999.0
33KB20110127,       PRS2,       2,         15,          5,       8005,2,20110130,       0554,  22.668833,-157.9701667,       4753,   151.1,  18.3980,  34.9761,2,  34.9789,2,    201.0,1,  -999.0,9, -999.00,9, -999.00,9,  -999.0,     152,    18.3717, -999.00,9,     -999.0
33KB20110127,       PRS2,       2,         15,          4,       8004,2,20110130,       0554,  22.668833,-157.9701667,       4753,   173.8,  17.5823,  34.8470,2,-999.0000,5,    199.7,1,  -999.0,9, -999.00,9, -999.00,9,  -999.0,     174,    17.5530, -999.00,9,     -999.0
33KB20110127,       PRS2,       2,         15,          3,       8003,2,20110130,       0554,  22.668833,-157.9701667,       4753,   173.8,  17.5676,  34.8451,2,  34.8416,2,    199.8,1,  -999.0,9, -999.00,9, -999.00,9,  -999.0,     172,    17.5383, -999.00,9,     -999.0
33KB20110127,       PRS2,       2,         15,          2,       8002,2,20110130,       0554,  22.668833,-157.9701667,       4753,   509.3,   7.2207,  34.0751,2,  34.0762,2,    104.0,1,  -999.0,9, -999.00,9, -999.00,9,  -999.0,     509,     7.1718, -999.00,9,     -999.0
33KB20110127,       PRS2,       2,         15,          1,       8001,2,20110130,       0554,  22.668833,-157.9701667,       4753,  1020.0,   3.8806,  34.4757,2,  34.4767,2,     43.8,1,  -999.0,9, -999.00,9, -999.00,9,  -999.0,    1020,     3.8043, -999.00,9,     -999.0
33KB20110127,       PRS2,       2,         16,          5,       8005,2,20110130,       0858,  22.753500,-157.9113333,       4710,     6.3,  23.5719,  35.4055,2,  35.4050,2,    211.0,2,   214.3,2, -999.00,9, -999.00,9,  -999.0,       6,    23.5706, -999.00,9,     -999.0
33KB20110127,       PRS2,       2,         16,          4,       8004,2,20110130,       0858,  22.753500,-157.9113333,       4710,   240.8,  14.2261,  34.3950,2,  34.3800,3,    211.8,3,   210.2,2, -999.00,9, -999.00,9,  -999.0,     239,    14.1911, -999.00,9,     -999.0
33KB20110127,       PRS2,       2,         16,          3,       8003,2,20110130,       0858,  22.753500,-157.9113333,       4710,   485.5,   7.5405,  34.0475,2,  34.0462,2,    137.7,2,   133.5,2, -999.00,9, -999.00,9,  -999.0,     487,     7.4928, -999.00,9,     -999.0
33KB20110127,       PRS2,       2,         16,          2,       8002,2,20110130,       0858,  22.753500,-157.9113333,       4710,   790.7,   4.5188,  34.3232,2,  34.3244,2,     24.8,2,    24.7,2, -999.00,9, -999.00,9,  -999.0,     789,     4.4572, -999.00,9,     -999.0
33KB20110127,       PRS2,       2,         16,          1,       8001,2,20110130,       0858,  22.753500,-157.9113333,       4710,  1020.3,   3.8653,  34.4841,2,  34.4826,2,     45.6,2,  -999.0,5, -999.00,9, -999.00,9,  -999.0,    1020,     3.7890, -999.00,9,     -999.0
33KB20110127,       PRS2,      50,          1,          7,       8026,2,20110130,       1021,  22.754167,-157.9106667,       4711,     6.3,  23.7074,  35.3925,2,-999.0000,9,    210.8,1,  -999.0,9, -999.00,9, -999.00,9,  -999.0,       6,    23.7061, -999.00,9,     -999.0
33KB20110127,       PRS2,      50,          1,          6,       8006,2,20110130,       1021,  22.754167,-157.9106667,       4711,     6.5,  23.7074,  35.3924,2,-999.0000,9,    210.9,1,  -999.0,9, -999.00,9, -999.00,9,  -999.0,       7,    23.7061, -999.00,9,     -999.0
33KB20110127,       PRS2,      50,          1,          5,       8005,2,20110130,       1021,  22.754167,-157.9106667,       4711,    15.4,  23.6649,  35.4000,2,-999.0000,9,    210.9,1,  -999.0,9, -999.00,9, -999.00,9,  -999.0,      17,    23.6617, -999.00,9,     -999.0
33KB20110127,       PRS2,      50,          1,          4,       8004,2,20110130,       1021,  22.754167,-157.9106667,       4711,    25.4,  23.5611,  35.4103,2,-999.0000,9,    211.0,1,  -999.0,9, -999.00,9, -999.00,9,  -999.0,      25,    23.5558, -999.00,9,     -999.0
33KB20110127,       PRS2,      50,          1,          3,       8003,2,20110130,       1021,  22.754167,-157.9106667,       4711,    25.6,  23.5700,  35.4093,2,-999.0000,9,    211.0,1,  -999.0,9, -999.00,9, -999.00,9,  -999.0,      27,    23.5646, -999.00,9,     -999.0
33KB20110127,       PRS2,      50,          1,          2,       8002,2,20110130,       1021,  22.754167,-157.9106667,       4711,    74.5,  23.3022,  35.4355,2,-999.0000,9,    211.1,1,  -999.0,9, -999.00,9, -999.00,9,  -999.0,      74,    23.2868, -999.00,9,     -999.0
33KB20110127,       PRS2,      50,          1,          1,       8001,2,20110130,       1021,  22.754167,-157.9106667,       4711,   124.9,  21.8466,  35.3367,2,-999.0000,9,    208.9,1,  -999.0,9, -999.00,9, -999.00,9,  -999.0,     125,    21.8220, -999.00,9,     -999.0