BOTTLE,20141031SIOCCHAMB
EXPOCODE,SECT_ID,STNNBR,CASTNO,SAMPNO,BTLNBR,BTLNBR_FLAG_W,DATE,TIME,LATITUDE,LONGITUDE,DEPTH,CTDPRS,CTDTMP,CTDSAL,CTDSAL_FLAG_W,SALNTY,SALNTY_FLAG_W,CTDOXY,CTDOXY_FLAG_W,OXYGEN,OXYGEN_FLAG_W,SILCAT,SILCAT_FLAG_W,PHSPHT,PHSPHT_FLAG_W,REVPRS,CTDRAW,THETA,NO2+NO3,NO2+NO3_FLAG_W,REVTMP
,,,,,,,,,,,METERS,DBAR,ITS-90,PSS-78,,PSS-78,,UMOL/KG,,UMOL/KG,,UMOL/KG,,UMOL/KG,,DBAR,DBAR,ITS-90,UMOL/KG,,DEG C
33KB20110127,       PRS2,       1,          1,         24,       8024,2,20110128,       0035,  21.343167,-158.2730000,       1560,     5.6,  25.2320,  35.2249,2,  35.2264,2,    205.3,2,   205.6,2, -999.00,9, -999.00,9,  -999.0,       6,    25.2308, -999.00,9,     -999.0
33KB20110127,       PRS2,       1,          1,         23,       8023,2,20110128,       0035,  21.343167,-158.2730000,       1560,     5.9,  25.2325,  35.2246,2,  35.2243,2,    205.2,2,   205.6,2, -999.00,9, -999.00,9,  -999.0,       5,    25.2313, -999.00,9,     -999.0
33KB20110127,       PRS2,       1,          1,         22,       8022,2,20110128,       0035,  21.343167,-158.2730000,       1560,    25.1,  25.1223,  35.2196,2,  35.2190,2,    206.1,2,   206.0,2, -999.00,9, -999.00,9,  -999.0,      24,    25.1169, -999.00,9,     -999.0
33KB20110127,       PRS2,       1,          1,         21,       8021,2,20110128,       0035,  21.343167,-158.2730000,       1560,    44.3,  25.1121,  35.2206,2,  35.2209,2,    206.2,2,   205.4,2, -999.00,9, -999.00,9,  -999.0,      45,    25.1025, -999.00,9,     -999.0
33KB20110127,       PRS2,       1,          1,         20,       8020,2,20110128,       0035,  21.343167,-158.2730000,       1560,    60.6,  25.1044,  35.2209,2,  35.2211,2,    206.0,2,   206.2,2, -999.00,9, -999.00,9,  -999.0,      60,    25.0912, -999.00,9,     -999.0
33KB20110127,       PRS2,       1,          1,         19,       8019,2,20110128,       0035,  21.343167,-158.2730000,       1560,    74.2,  25.0935,  35.2230,2,  35.2266,2,    205.6,2,   205.6,2, -999.00,9, -999.00,9,  -999.0,      74,    25.0773, -999.00,9,     -999.0
33KB20110127,       PRS2,       1,          1,         18,       8018,2,20110128,       0035,  21.343167,-158.2730000,       1560,   100.1,  24.7486,  35.2925,2,  35.3015,2,    206.1,2,   205.5,2, -999.00,9, -999.00,9,  -999.0,     101,    24.7270, -999.00,9,     -999.0
33KB20110127,       PRS2,       1,          1,         17,       8017,2,20110128,       0035,  21.343167,-158.2730000,       1560,   115.6,  23.3404,  35.3384,2,  35.3332,2,    205.7,2,   205.3,2, -999.00,9, -999.00,9,  -999.0,     115,    23.3165, -999.00,9,     -999.0
33KB20110127,       PRS2,       1,          1,         16,       8016,2,20110128,       0035,  21.343167,-158.2730000,       1560,   124.8,  22.3848,  35.3128,2,  35.3068,2,    198.4,2,   198.2,2, -999.00,9, -999.00,9,  -999.0,     124,    22.3598, -999.00,9,     -999.0
33KB20110127,       PRS2,       1,          1,         15,       8015,2,20110128,       0035,  21.343167,-158.2730000,       1560,   149.7,  21.0863,  35.2498,2,  35.2396,2,    192.9,2,   194.0,2, -999.00,9, -999.00,9,  -999.0,     150,    21.0575, -999.00,9,     -999.0
33KB20110127,       PRS2,       1,          1,         14,       8014,2,20110128,       0035,  21.343167,-158.2730000,       1560,   175.3,  19.6354,  35.1184,2,  35.1252,2,    197.5,2,   197.6,2, -999.00,9, -999.00,9,  -999.0,     176,    19.6034, -999.00,9,     -999.0
33KB20110127,       PRS2,       1,          1,         13,       8025,2,20110128,       0035,  21.343167,-158.2730000,       1560,   200.3,  18.6488,  34.9793,2,  34.9799,2,    195.4,2,   195.4,2, -999.00,9, -999.00,9,  -999.0,     200,    18.6135, -999.00,9,     -999.0
33KB20110127,       PRS2,       1,          1,         12,       8012,2,20110128,       0035,  21.343167,-158.2730000,       1560,   225.2,  17.4177,  34.8175,2,  34.8204,2,    195.4,2,   195.0,2, -999.00,9, -999.00,9,  -999.0,     224,    17.3799, -999.00,9,     -999.0
33KB20110127,       PRS2,       1,          1,         11,       8011,2,20110128,       0035,  21.343167,-158.2730000,       1560,   250.6,  15.6015,  34.5831,2,  34.5822,2,    190.7,2,   191.8,2, -999.00,9, -999.00,9,  -999.0,     249,    15.5626, -999.00,9,     -999.0
33KB20110127,       PRS2,       1,          1,         10,       8010,2,20110128,       0035,  21.343167,-158.2730000,       1560,   301.4,  12.8163,  34.3020,2,  34.3031,2,    183.9,2,   184.7,2, -999.00,9, -999.00,9,  -999.0,     300,    12.7754, -999.00,9,     -999.0
33KB20110127,       PRS2,       1,          1,          9,       8009,2,20110128,       0035,  21.343167,-158.2730000,       1560,   350.0,  10.3142,  34.1651,2,  34.1640,2,    167.8,2,   167.3,2, -999.00,9, -999.00,9,  -999.0,     349,    10.2729, -999.00,9,     -999.0
33KB20110127,       PRS2,       1,          1,          8,       8008,2,20110128,       0035,  21.343167,-158.2730000,       1560,   400.6,   9.0434,  34.1148,2,  34.1132,2,    151.4,2,   150.4,2, -999.00,9, -999.00,9,  -999.0,     401,     8.9997, -999.00,9,     -999.0
33KB20110127,       PRS2,       1,          1,          7,       8026,2,20110128,       0035,  21.343167,-158.2730000,       1560,   500.8,   7.0122,  34.1565,2,  34.1538,2,     79.8,2,    77.2,2, -999.00,9, -999.00,9,  -999.0,     501,     6.9648, -999.00,9,     -999.0
33KB20110127,       PRS2,       1,          1,          6,       8006,2,20110128,       0035,  21.343167,-158.2730000,       1560,   600.4,   5.8273,  34.2141,2,  34.2128,2,     51.5,2,    50.9,2, -999.00,9, -999.00,9,  -999.0,     601,     5.7755, -999.00,9,     -999.0
33KB20110127,       PRS2,       1,          1,          5,       8005,2,20110128,       0035,  21.343167,-158.2730000,       1560,   700.5,   5.2038,  34.3178,2,  34.3166,2,     38.7,2,    38.2,2, -999.00,9, -999.00,9,  -999.0,     699,     5.1460, -999.00,9,     -999.0
33KB20110127,       PRS2,       1,          1,          4,       8004,2,20110128,       0035,  21.343167,-158.2730000,       1560,   750.4,   4.9582,  34.3635,2,  34.3635,2,     36.7,2,    36.9,2, -999.00,9, -999.00,9,  -999.0,     750,     4.8975, -999.00,9,     -999.0
33KB20110127,       PRS2,       1,          1,          3,       8003,2,20110128,       0035,  21.343167,-158.2730000,       1560,   900.6,   4.4657,  34.4500,2,  34.4493,2,     41.1,2,    41.1,2, -999.00,9, -999.00,9,  -999.0,     901,     4.3951, -999.00,9,     -999.0
33KB20110127,       PRS2,       1,          1,          2,       8002,2,20110128,       0035,  21.343167,-158.2730000,       1560,   900.9,   4.4650,  34.4500,2,  34.4491,2,     41.1,2,    41.5,2, -999.00,9, -999.00,9,  -999.0,     901,     4.3944, -999.00,9,     -999.0
33KB20110127,       PRS2,       1,          1,          1,       8001,2,20110128,       0035,  21.343167,-158.2730000,       1560,  1019.8,   4.0963,  34.4906,2,  34.4911,2,     46.8,2,    47.2,2, -999.00,9, -999.00,9,  -999.0,    1020,     4.0182, -999.00,9,     -999.0
33KB20110127,       PRS2,       2,          1,         15,       8015,2,20110128,       0958,  22.674000,-158.0088333,       4755,    25.9,  23.5726,  35.3811,2,-999.0000,9,    210.6,1,  -999.0,9, -999.00,9, -999.00,9,  -999.0,      26,    23.5672, -999.00,9,     -999.0
33KB20110127,       PRS2,       2,          1,         14,       8014,2,20110128,       0958,  22.674000,-158.0088333,       4755,    25.7,  23.5730,  35.3811,2,-999.0000,9,    210.7,1,  -999.0,9, -999.00,9, -999.00,9,  -999.0,      26,    23.5677, -999.00,9,     -999.0
33KB20110127,       PRS2,       2,          1,         13,       8025,2,20110128,       0958,  22.674000,-158.0088333,       4755,    25.7,  23.5733,  35.3810,2,-999.0000,9,    210.7,1,  -999.0,9, -999.00,9, -999.00,9,  -999.0,      26,    23.5679, -999.00,9,     -999.0
33KB20110127,       PRS2,       2,          1,         12,       8012,2,20110128,       0958,  22.674000,-158.0088333,       4755,    25.8,  23.5732,  35.3811,2,-999.0000,9,    210.7,1,  -999.0,9, -999.00,9, -999.00,9,  -999.0,      26,    23.5678, -999.00,9,     -999.0
33KB20110127,       PRS2,       2,          1,         11,       8011,2,20110128,       0958,  22.674000,-158.0088333,       4755,    25.7,  23.5728,  35.3811,2,-999.0000,9,    210.7,1,  -999.0,9, -999.00,9, -999.00,9,  -999.0,      25,    23.5675, -999.00,9,     -999.0
33KB20110127,       PRS2,       2,          1,         10,       8010,2,20110128,       0958,  22.674000,-158.0088333,       4755,    45.4,  23.4558,  35.3970,2,-999.0000,9,    211.2,1,  -999.0,9, -999.00,9, -999.00,9,  -999.0,      45,    23.4464, -999.00,9,     -999.0
33KB20110127,       PRS2,       2,          1,          9,       8009,2,20110128,       0958,  22.674000,-158.0088333,       4755,    45.4,  23.4560,  35.3972,2,-999.0000,9,    211.2,1,  -999.0,9, -999.00,9, -999.00,9,  -999.0,      45,    23.4466, -999.00,9,     -999.0
33KB20110127,       PRS2,       2,          1,          8,       8008,2,20110128,       0958,  22.674000,-158.0088333,       4755,    45.2,  23.4564,  35.3971,2,-999.0000,9,    211.2,1,  -999.0,9, -999.00,9, -999.00,9,  -999.0,      45,    23.4470, -999.00,9,     -999.0
33KB20110127,       PRS2,       2,          1,          7,       8026,2,20110128,       0958,  22.674000,-158.0088333,       4755,    45.1,  23.4565,  35.3971,2,-999.0000,9,    211.3,1,  -999.0,9, -999.00,9, -999.00,9,  -999.0,      46,    23.4472, -999.00,9,     -999.0
33KB20110127,       PRS2,       2,          1,          6,       8006,2,20110128,       0958,  22.674000,-158.0088333,       4755,    45.1,  23.4550,  35.3975,2,-999.0000,9,    211.3,1,  -999.0,9, -999.00,9, -999.00,9,  -999.0,      46,    23.4456, -999.00,9,     -999.0
33KB20110127,       PRS2,       2,          1,          5,       8005,2,20110128,       0958,  22.674000,-158.0088333,       4755,    75.9,  23.3228,  35.4218,2,-999.0000,9,    212.0,1,  -999.0,9, -999.00,9, -999.00,9,  -999.0,      75,    23.3072, -999.00,9,     -999.0
33KB20110127,       PRS2,       2,          1,          4,       8004,2,20110128,       0958,  22.674000,-158.0088333,       4755,    75.7,  23.3247,  35.4213,2,-999.0000,9,    212.0,1,  -999.0,9, -999.00,9, -999.00,9,  -999.0,      75,    23.3090, -999.00,9,     -999.0
33KB20110127,       PRS2,       2,          1,          3,       8003,2,20110128,       0958,  22.674000,-158.0088333,       4755,    75.6,  23.3249,  35.4213,2,-999.0000,9,    212.1,1,  -999.0,9, -999.00,9, -999.00,9,  -999.0,      75,    23.3093, -999.00,9,     -999.0
33KB20110127,       PRS2,       2,          1,          2,       8002,2,20110128,       0958,  22.674000,-158.0088333,       4755,    75.7,  23.3251,  35.4212,2,-999.0000,9,    212.2,1,  -999.0,9, -999.00,9, -999.00,9,  -999.0,      75,    23.3095, -999.00,9,     -999.0
33KB20110127,       PRS2,       2,          1,          1,       8001,2,20110128,       0958,  22.674000,-158.0088333,       4755,    75.8,  23.3248,  35.4207,2,-999.0000,9,    212.2,1,  -999.0,9, -999.00,9, -999.00,9,  -999.0,      75,    23.3091, -999.00,9,     -999.0
33KB20110127,       PRS2,       2,          2,         12,       8012,2,20110128,       1112,  22.673500,-158.0090000,       4755,     7.4,  23.7278,  35.3781,2,  35.3784,2,    210.5,1,  -999.0,9, -999.00,9, -999.00,9,  -999.0,       7,    23.7263, -999.00,9,     -999.0
33KB20110127,       PRS2,       2,          2,         11,       8011,2,20110128,       1112,  22.673500,-158.0090000,       4755,     7.2,  23.7273,  35.3781,2,  35.3774,2,    210.5,1,  -999.0,9, -999.00,9, -999.00,9,  -999.0,       7,    23.7258, -999.00,9,     -999.0
33KB20110127,       PRS2,       2,          2,         10,       8010,2,20110128,       1112,  22.673500,-158.0090000,       4755,    25.3,  23.6514,  35.3757,2,  35.3764,2,    210.8,1,  -999.0,9, -999.00,9, -999.00,9,  -999.0,      25,    23.6461, -999.00,9,     -999.0
33KB20110127,       PRS2,       2,          2,          9,       8009,2,20110128,       1112,  22.673500,-158.0090000,       4755,    25.4,  23.6528,  35.3757,2,  35.3756,2,    210.9,1,  -999.0,9, -999.00,9, -999.00,9,  -999.0,      25,    23.6475, -999.00,9,     -999.0
33KB20110127,       PRS2,       2,          2,          8,       8008,2,20110128,       1112,  22.673500,-158.0090000,       4755,    46.0,  23.4456,  35.3984,2,  35.3967,2,    211.8,1,  -999.0,9, -999.00,9, -999.00,9,  -999.0,      46,    23.4361, -999.00,9,     -999.0
33KB20110127,       PRS2,       2,          2,          7,       8026,2,20110128,       1112,  22.673500,-158.0090000,       4755,    45.9,  23.4477,  35.3974,2,  35.3963,2,    211.8,1,  -999.0,9, -999.00,9, -999.00,9,  -999.0,      45,    23.4382, -999.00,9,     -999.0
33KB20110127,       PRS2,       2,          2,          6,       8006,2,20110128,       1112,  22.673500,-158.0090000,       4755,    76.0,  23.2485,  35.4481,2,  35.4480,2,    211.6,1,  -999.0,9, -999.00,9, -999.00,9,  -999.0,      76,    23.2328, -999.00,9,     -999.0
33KB20110127,       PRS2,       2,          2,          5,       8005,2,20110128,       1112,  22.673500,-158.0090000,       4755,    76.0,  23.2487,  35.4479,2,  35.4474,2,    211.6,1,  -999.0,9, -999.00,9, -999.00,9,  -999.0,      75,    23.2330, -999.00,9,     -999.0
33KB20110127,       PRS2,       2,          2,          4,       8004,2,20110128,       1112,  22.673500,-158.0090000,       4755,   100.8,  22.9902,  35.4473,2,  35.4464,2,    211.4,1,  -999.0,9, -999.00,9, -999.00,9,  -999.0,     101,    22.9696, -999.00,9,     -999.0
33KB20110127,       PRS2,       2,          2,          3,       8003,2,20110128,       1112,  22.673500,-158.0090000,       4755,   100.7,  22.9907,  35.4469,2,  35.4470,2,    211.5,1,  -999.0,9, -999.00,9, -999.00,9,  -999.0,     102,    22.9702, -999.00,9,     -999.0
33KB20110127,       PRS2,       2,          2,          2,       8002,2,20110128,       1112,  22.673500,-158.0090000,       4755,   125.8,  20.9808,  35.2600,2,  35.2603,2,    206.3,1,  -999.0,9, -999.00,9, -999.00,9,  -999.0,     126,    20.9567, -999.00,9,     -999.0
33KB20110127,       PRS2,       2,          2,          1,       8001,2,20110128,       1112,  22.673500,-158.0090000,       4755,   125.9,  20.9562,  35.2591,2,  35.2558,2,    205.6,1,  -999.0,9, -999.00,9, -999.00,9,  -999.0,     127,    20.9321, -999.00,9,     -999.0