BOTTLE,20141031SIOCCHAMB
EXPOCODE,SECT_ID,STNNBR,CASTNO,SAMPNO,BTLNBR,BTLNBR_FLAG_W,DATE,TIME,LATITUDE,LONGITUDE,DEPTH,CTDPRS,CTDTMP,CTDSAL,CTDSAL_FLAG_W,SALNTY,SALNTY_FLAG_W,CTDOXY,CTDOXY_FLAG_W,OXYGEN,OXYGEN_FLAG_W,SILCAT,SILCAT_FLAG_W,PHSPHT,PHSPHT_FLAG_W,REVPRS,CTDRAW,THETA,NO2+NO3,NO2+NO3_FLAG_W,REVTMP
,,,,,,,,,,,METERS,DBAR,ITS-90,PSS-78,,PSS-78,,UMOL/KG,,UMOL/KG,,UMOL/KG,,UMOL/KG,,DBAR,DBAR,ITS-90,UMOL/KG,,DEG C
33KB20110127,       PRS2,       2,         12,         16,       8016,2,20110129,       2056,  22.664833,-157.9885000,       4752,     5.7,  23.8141,  35.3660,2,  35.3648,2,    210.5,1,  -999.0,9, -999.00,9, -999.00,9,  -999.0,       6,    23.8129, -999.00,9,     -999.0
33KB20110127,       PRS2,       2,         12,         15,       8015,2,20110129,       2056,  22.664833,-157.9885000,       4752,    45.3,  23.7847,  35.3668,2,-999.0000,5,    210.1,1,  -999.0,9, -999.00,9, -999.00,9,  -999.0,      46,    23.7752, -999.00,9,     -999.0
33KB20110127,       PRS2,       2,         12,         14,       8014,2,20110129,       2056,  22.664833,-157.9885000,       4752,    45.5,  23.7841,  35.3669,2,-999.0000,5,    210.1,1,  -999.0,9, -999.00,9, -999.00,9,  -999.0,      44,    23.7746, -999.00,9,     -999.0
33KB20110127,       PRS2,       2,         12,         13,       8025,2,20110129,       2056,  22.664833,-157.9885000,       4752,    45.5,  23.7834,  35.3672,2,-999.0000,5,    210.2,1,  -999.0,9, -999.00,9, -999.00,9,  -999.0,      44,    23.7739, -999.00,9,     -999.0
33KB20110127,       PRS2,       2,         12,         12,       8012,2,20110129,       2056,  22.664833,-157.9885000,       4752,    45.1,  23.7829,  35.3673,2,-999.0000,5,    210.2,1,  -999.0,9, -999.00,9, -999.00,9,  -999.0,      44,    23.7735, -999.00,9,     -999.0
33KB20110127,       PRS2,       2,         12,         11,       8011,2,20110129,       2056,  22.664833,-157.9885000,       4752,    45.5,  23.7824,  35.3672,2,-999.0000,5,    210.3,1,  -999.0,9, -999.00,9, -999.00,9,  -999.0,      44,    23.7729, -999.00,9,     -999.0
33KB20110127,       PRS2,       2,         12,         10,       8010,2,20110129,       2056,  22.664833,-157.9885000,       4752,    45.1,  23.7827,  35.3672,2,-999.0000,5,    210.3,1,  -999.0,9, -999.00,9, -999.00,9,  -999.0,      46,    23.7733, -999.00,9,     -999.0
33KB20110127,       PRS2,       2,         12,          9,       8009,2,20110129,       2056,  22.664833,-157.9885000,       4752,    44.9,  23.7825,  35.3671,2,  35.3666,2,    210.4,1,  -999.0,9, -999.00,9, -999.00,9,  -999.0,      47,    23.7731, -999.00,9,     -999.0
33KB20110127,       PRS2,       2,         12,          8,       8008,2,20110129,       2056,  22.664833,-157.9885000,       4752,    61.7,  23.4867,  35.4259,2,  35.4227,2,    210.6,1,  -999.0,9, -999.00,9, -999.00,9,  -999.0,      59,    23.4739, -999.00,9,     -999.0
33KB20110127,       PRS2,       2,         12,          7,       8026,2,20110129,       2056,  22.664833,-157.9885000,       4752,    86.7,  23.2375,  35.4440,2,  35.4433,2,    211.0,1,  -999.0,9, -999.00,9, -999.00,9,  -999.0,      86,    23.2197, -999.00,9,     -999.0
33KB20110127,       PRS2,       2,         12,          6,       8006,2,20110129,       2056,  22.664833,-157.9885000,       4752,   100.3,  22.7272,  35.4199,2,  35.4218,2,    210.7,1,  -999.0,9, -999.00,9, -999.00,9,  -999.0,     102,    22.7069, -999.00,9,     -999.0
33KB20110127,       PRS2,       2,         12,          5,       8005,2,20110129,       2056,  22.664833,-157.9885000,       4752,   125.5,  20.4860,  35.2064,2,  35.2146,2,    205.6,1,  -999.0,9, -999.00,9, -999.00,9,  -999.0,     125,    20.4624, -999.00,9,     -999.0
33KB20110127,       PRS2,       2,         12,          4,       8004,2,20110129,       2056,  22.664833,-157.9885000,       4752,   149.5,  19.2017,  35.0778,2,  35.0799,2,    205.8,1,  -999.0,9, -999.00,9, -999.00,9,  -999.0,     150,    19.1749, -999.00,9,     -999.0
33KB20110127,       PRS2,       2,         12,          3,       8003,2,20110129,       2056,  22.664833,-157.9885000,       4752,   176.0,  17.5285,  34.8336,2,  34.8338,2,    199.0,1,  -999.0,9, -999.00,9, -999.00,9,  -999.0,     174,    17.4989, -999.00,9,     -999.0
33KB20110127,       PRS2,       2,         12,          2,       8002,2,20110129,       2056,  22.664833,-157.9885000,       4752,   499.5,   7.2711,  34.0825,2,  34.0829,2,     97.4,1,  -999.0,9, -999.00,9, -999.00,9,  -999.0,     501,     7.2230, -999.00,9,     -999.0
33KB20110127,       PRS2,       2,         12,          1,       8001,2,20110129,       2056,  22.664833,-157.9885000,       4752,  1019.8,   3.9009,  34.4726,2,  34.4728,2,     42.8,1,  -999.0,9, -999.00,9, -999.00,9,  -999.0,    1019,     3.8244, -999.00,9,     -999.0
33KB20110127,       PRS2,       2,         13,         24,       8024,2,20110130,       0053,  22.663500,-157.9596667,       4748,     6.3,  23.9115,  35.3683,2,  35.3673,2,    210.6,1,  -999.0,9, -999.00,9, -999.00,9,  -999.0,       5,    23.9102, -999.00,9,     -999.0
33KB20110127,       PRS2,       2,         13,         23,       8023,2,20110130,       0053,  22.663500,-157.9596667,       4748,    24.7,  23.8034,  35.3666,2,  35.3668,2,    210.0,1,  -999.0,9, -999.00,9, -999.00,9,  -999.0,      25,    23.7982, -999.00,9,     -999.0
33KB20110127,       PRS2,       2,         13,         22,       8022,2,20110130,       0053,  22.663500,-157.9596667,       4748,    45.1,  23.4369,  35.4173,2,  35.4170,2,    211.2,1,  -999.0,9, -999.00,9, -999.00,9,  -999.0,      46,    23.4276, -999.00,9,     -999.0
33KB20110127,       PRS2,       2,         13,         21,       8021,2,20110130,       0053,  22.663500,-157.9596667,       4748,    73.4,  22.9896,  35.4024,2,  35.4056,2,    209.2,1,  -999.0,9, -999.00,9, -999.00,9,  -999.0,      75,    22.9746, -999.00,9,     -999.0
33KB20110127,       PRS2,       2,         13,         20,       8020,2,20110130,       0053,  22.663500,-157.9596667,       4748,   100.5,  21.6614,  35.3200,2,  35.3204,2,    206.4,1,  -999.0,9, -999.00,9, -999.00,9,  -999.0,     101,    21.6417, -999.00,9,     -999.0
33KB20110127,       PRS2,       2,         13,         19,       8019,2,20110130,       0053,  22.663500,-157.9596667,       4748,   124.1,  19.8843,  35.1569,2,  35.1603,2,    205.9,1,  -999.0,9, -999.00,9, -999.00,9,  -999.0,     125,    19.8614, -999.00,9,     -999.0
33KB20110127,       PRS2,       2,         13,         18,       8018,2,20110130,       0053,  22.663500,-157.9596667,       4748,   150.4,  18.4267,  34.9741,2,  34.9683,2,    201.9,1,  -999.0,9, -999.00,9, -999.00,9,  -999.0,     150,    18.4004, -999.00,9,     -999.0
33KB20110127,       PRS2,       2,         13,         17,       8017,2,20110130,       0053,  22.663500,-157.9596667,       4748,   201.1,  15.7238,  34.5729,2,-999.0000,5,    207.9,1,  -999.0,9, -999.00,9, -999.00,9,  -999.0,     200,    15.6924, -999.00,9,     -999.0
33KB20110127,       PRS2,       2,         13,         16,       8016,2,20110130,       0053,  22.663500,-157.9596667,       4748,   201.0,  15.7065,  34.5713,2,-999.0000,5,    208.2,1,  -999.0,9, -999.00,9, -999.00,9,  -999.0,     199,    15.6752, -999.00,9,     -999.0
33KB20110127,       PRS2,       2,         13,         15,       8015,2,20110130,       0053,  22.663500,-157.9596667,       4748,   249.5,  13.9261,  34.3708,2,  34.3702,2,    205.3,1,  -999.0,9, -999.00,9, -999.00,9,  -999.0,     248,    13.8903, -999.00,9,     -999.0
33KB20110127,       PRS2,       2,         13,         14,       8014,2,20110130,       0053,  22.663500,-157.9596667,       4748,   298.9,  11.9792,  34.2409,2,-999.0000,5,    197.8,1,  -999.0,9, -999.00,9, -999.00,9,  -999.0,     299,    11.9404, -999.00,9,     -999.0
33KB20110127,       PRS2,       2,         13,         13,       8025,2,20110130,       0053,  22.663500,-157.9596667,       4748,   299.7,  11.9704,  34.2421,2,  34.2485,2,    197.7,1,  -999.0,9, -999.00,9, -999.00,9,  -999.0,     297,    11.9315, -999.00,9,     -999.0
33KB20110127,       PRS2,       2,         13,         12,       8012,2,20110130,       0053,  22.663500,-157.9596667,       4748,   349.5,  10.6663,  34.1797,2,  34.1752,2,    196.8,1,  -999.0,9, -999.00,9, -999.00,9,  -999.0,     349,    10.6242, -999.00,9,     -999.0
33KB20110127,       PRS2,       2,         13,         11,       8011,2,20110130,       0053,  22.663500,-157.9596667,       4748,   399.8,   9.5905,  34.1221,2,  34.1213,2,    186.1,1,  -999.0,9, -999.00,9, -999.00,9,  -999.0,     399,     9.5453, -999.00,9,     -999.0
33KB20110127,       PRS2,       2,         13,         10,       8010,2,20110130,       0053,  22.663500,-157.9596667,       4748,   482.3,   8.1427,  34.0787,2,  34.0772,2,    136.7,1,  -999.0,9, -999.00,9, -999.00,9,  -999.0,     484,     8.0931, -999.00,9,     -999.0
33KB20110127,       PRS2,       2,         13,          9,       8009,2,20110130,       0053,  22.663500,-157.9596667,       4748,   502.3,   7.6891,  34.0900,2,-999.0000,5,    114.3,1,  -999.0,9, -999.00,9, -999.00,9,  -999.0,     500,     7.6391, -999.00,9,     -999.0
33KB20110127,       PRS2,       2,         13,          8,       8008,2,20110130,       0053,  22.663500,-157.9596667,       4748,   502.0,   7.6876,  34.0901,2,  34.0887,2,    113.2,1,  -999.0,9, -999.00,9, -999.00,9,  -999.0,     502,     7.6376, -999.00,9,     -999.0
33KB20110127,       PRS2,       2,         13,          7,       8026,2,20110130,       0053,  22.663500,-157.9596667,       4748,   601.1,   6.0698,  34.1293,2,  34.1279,2,     60.4,1,  -999.0,9, -999.00,9, -999.00,9,  -999.0,     601,     6.0169, -999.00,9,     -999.0
33KB20110127,       PRS2,       2,         13,          6,       8006,2,20110130,       0053,  22.663500,-157.9596667,       4748,   699.4,   5.1745,  34.2189,2,  34.2187,2,     36.8,1,  -999.0,9, -999.00,9, -999.00,9,  -999.0,     701,     5.1171, -999.00,9,     -999.0
33KB20110127,       PRS2,       2,         13,          5,       8005,2,20110130,       0053,  22.663500,-157.9596667,       4748,   769.9,   4.7984,  34.2898,2,  34.2903,2,     30.6,1,  -999.0,9, -999.00,9, -999.00,9,  -999.0,     770,     4.7370, -999.00,9,     -999.0
33KB20110127,       PRS2,       2,         13,          4,       8004,2,20110130,       0053,  22.663500,-157.9596667,       4748,   801.8,   4.6359,  34.3178,2,  34.3176,2,     28.4,1,  -999.0,9, -999.00,9, -999.00,9,  -999.0,     802,     4.5727, -999.00,9,     -999.0
33KB20110127,       PRS2,       2,         13,          3,       8003,2,20110130,       0053,  22.663500,-157.9596667,       4748,   901.6,   4.4165,  34.4116,2,  34.4102,2,     34.1,1,  -999.0,9, -999.00,9, -999.00,9,  -999.0,     900,     4.3462, -999.00,9,     -999.0
33KB20110127,       PRS2,       2,         13,          2,       8002,2,20110130,       0053,  22.663500,-157.9596667,       4748,  1020.9,   3.9616,  34.4696,2,-999.0000,5,     42.7,1,  -999.0,9, -999.00,9, -999.00,9,  -999.0,    1020,     3.8845, -999.00,9,     -999.0
33KB20110127,       PRS2,       2,         13,          1,       8001,2,20110130,       0053,  22.663500,-157.9596667,       4748,  1021.4,   3.9621,  34.4689,2,  34.4687,2,     42.7,1,  -999.0,9, -999.00,9, -999.00,9,  -999.0,    1018,     3.8850, -999.00,9,     -999.0
33KB20110127,       PRS2,       2,         14,         23,       8023,2,20110130,       0308,  22.658667,-157.9811667,       4757,     7.1,  23.8645,  35.3682,2,-999.0000,5,    210.9,1,  -999.0,9, -999.00,9, -999.00,9,  -999.0,       7,    23.8630, -999.00,9,     -999.0
33KB20110127,       PRS2,       2,         14,         22,       8022,2,20110130,       0308,  22.658667,-157.9811667,       4757,     7.1,  23.8646,  35.3682,2,  35.3673,2,    211.0,1,  -999.0,9, -999.00,9, -999.00,9,  -999.0,       7,    23.8631, -999.00,9,     -999.0
33KB20110127,       PRS2,       2,         14,         21,       8021,2,20110130,       0308,  22.658667,-157.9811667,       4757,    15.2,  23.8715,  35.3679,2,  35.3671,2,    211.0,1,  -999.0,9, -999.00,9, -999.00,9,  -999.0,      15,    23.8683, -999.00,9,     -999.0
33KB20110127,       PRS2,       2,         14,         20,       8020,2,20110130,       0308,  22.658667,-157.9811667,       4757,    26.4,  23.7802,  35.3694,2,-999.0000,5,    210.2,1,  -999.0,9, -999.00,9, -999.00,9,  -999.0,      26,    23.7747, -999.00,9,     -999.0
33KB20110127,       PRS2,       2,         14,         19,       8019,2,20110130,       0308,  22.658667,-157.9811667,       4757,    26.3,  23.7731,  35.3685,2,  35.3687,2,    210.4,1,  -999.0,9, -999.00,9, -999.00,9,  -999.0,      26,    23.7675, -999.00,9,     -999.0
33KB20110127,       PRS2,       2,         14,         18,       8018,2,20110130,       0308,  22.658667,-157.9811667,       4757,    35.2,  23.6683,  35.3877,2,  35.3843,2,    210.0,1,  -999.0,9, -999.00,9, -999.00,9,  -999.0,      37,    23.6610, -999.00,9,     -999.0
33KB20110127,       PRS2,       2,         14,         17,       8017,2,20110130,       0308,  22.658667,-157.9811667,       4757,    36.0,  23.6610,  35.3890,2,  35.3851,2,    210.0,1,  -999.0,9, -999.00,9, -999.00,9,  -999.0,      36,    23.6535, -999.00,9,     -999.0
33KB20110127,       PRS2,       2,         14,         16,       8016,2,20110130,       0308,  22.658667,-157.9811667,       4757,    45.8,  23.5132,  35.4251,2,-999.0000,5,    210.8,1,  -999.0,9, -999.00,9, -999.00,9,  -999.0,      45,    23.5037, -999.00,9,     -999.0
33KB20110127,       PRS2,       2,         14,         15,       8015,2,20110130,       0308,  22.658667,-157.9811667,       4757,    45.9,  23.5138,  35.4257,2,-999.0000,5,    211.0,1,  -999.0,9, -999.00,9, -999.00,9,  -999.0,      46,    23.5043, -999.00,9,     -999.0
33KB20110127,       PRS2,       2,         14,         14,       8014,2,20110130,       0308,  22.658667,-157.9811667,       4757,    45.9,  23.5136,  35.4257,2,-999.0000,5,    211.1,1,  -999.0,9, -999.00,9, -999.00,9,  -999.0,      45,    23.5040, -999.00,9,     -999.0
33KB20110127,       PRS2,       2,         14,         13,       8025,2,20110130,       0308,  22.658667,-157.9811667,       4757,    60.0,  23.2681,  35.4383,2,  35.4375,2,    211.2,1,  -999.0,9, -999.00,9, -999.00,9,  -999.0,      57,    23.2558, -999.00,9,     -999.0
33KB20110127,       PRS2,       2,         14,         12,       8012,2,20110130,       0308,  22.658667,-157.9811667,       4757,    75.7,  23.1342,  35.4441,2,-999.0000,5,    210.9,1,  -999.0,9, -999.00,9, -999.00,9,  -999.0,      78,    23.1187, -999.00,9,     -999.0
33KB20110127,       PRS2,       2,         14,         11,       8011,2,20110130,       0308,  22.658667,-157.9811667,       4757,    76.1,  23.1260,  35.4475,2,  35.4464,2,    211.4,1,  -999.0,9, -999.00,9, -999.00,9,  -999.0,      78,    23.1104, -999.00,9,     -999.0
33KB20110127,       PRS2,       2,         14,         10,       8010,2,20110130,       0308,  22.658667,-157.9811667,       4757,   100.6,  21.6184,  35.3173,2,-999.0000,5,    206.4,1,  -999.0,9, -999.00,9, -999.00,9,  -999.0,     102,    21.5987, -999.00,9,     -999.0
33KB20110127,       PRS2,       2,         14,          9,       8009,2,20110130,       0308,  22.658667,-157.9811667,       4757,   101.1,  21.5695,  35.3081,2,  35.3031,2,    206.7,1,  -999.0,9, -999.00,9, -999.00,9,  -999.0,     100,    21.5498, -999.00,9,     -999.0
33KB20110127,       PRS2,       2,         14,          8,       8008,2,20110130,       0308,  22.658667,-157.9811667,       4757,   126.2,  19.8391,  35.1452,2,-999.0000,5,    207.2,1,  -999.0,9, -999.00,9, -999.00,9,  -999.0,     124,    19.8159, -999.00,9,     -999.0
33KB20110127,       PRS2,       2,         14,          7,       8026,2,20110130,       0308,  22.658667,-157.9811667,       4757,   125.4,  19.8595,  35.1466,2,  35.1478,2,    207.3,1,  -999.0,9, -999.00,9, -999.00,9,  -999.0,     126,    19.8364, -999.00,9,     -999.0
33KB20110127,       PRS2,       2,         14,          6,       8006,2,20110130,       0308,  22.658667,-157.9811667,       4757,   150.9,  18.6108,  35.0039,2,-999.0000,5,    200.3,1,  -999.0,9, -999.00,9, -999.00,9,  -999.0,     149,    18.5843, -999.00,9,     -999.0
33KB20110127,       PRS2,       2,         14,          5,       8005,2,20110130,       0308,  22.658667,-157.9811667,       4757,   150.7,  18.6017,  35.0019,2,  35.0114,2,    200.3,1,  -999.0,9, -999.00,9, -999.00,9,  -999.0,     150,    18.5753, -999.00,9,     -999.0
33KB20110127,       PRS2,       2,         14,          4,       8004,2,20110130,       0308,  22.658667,-157.9811667,       4757,   173.4,  17.3703,  34.8102,2,-999.0000,5,    200.1,1,  -999.0,9, -999.00,9, -999.00,9,  -999.0,     173,    17.3413, -999.00,9,     -999.0
33KB20110127,       PRS2,       2,         14,          3,       8003,2,20110130,       0308,  22.658667,-157.9811667,       4757,   173.4,  17.3690,  34.8098,2,  34.8129,2,    200.2,1,  -999.0,9, -999.00,9, -999.00,9,  -999.0,     173,    17.3400, -999.00,9,     -999.0
33KB20110127,       PRS2,       2,         14,          2,       8002,2,20110130,       0308,  22.658667,-157.9811667,       4757,   450.7,   8.2192,  34.0787,2,  34.0772,2,    140.9,1,  -999.0,9, -999.00,9, -999.00,9,  -999.0,     450,     8.1728, -999.00,9,     -999.0
33KB20110127,       PRS2,       2,         14,          1,       8001,2,20110130,       0308,  22.658667,-157.9811667,       4757,  1021.0,   3.9363,  34.4669,2,  34.4675,2,     41.9,1,  -999.0,9, -999.00,9, -999.00,9,  -999.0,    1023,     3.8595, -999.00,9,     -999.0