BOTTLE,20141031SIOCCHAMB
EXPOCODE,SECT_ID,STNNBR,CASTNO,SAMPNO,BTLNBR,BTLNBR_FLAG_W,DATE,TIME,LATITUDE,LONGITUDE,DEPTH,CTDPRS,CTDTMP,CTDSAL,CTDSAL_FLAG_W,SALNTY,SALNTY_FLAG_W,CTDOXY,CTDOXY_FLAG_W,OXYGEN,OXYGEN_FLAG_W,SILCAT,SILCAT_FLAG_W,PHSPHT,PHSPHT_FLAG_W,REVPRS,CTDRAW,THETA,NO2+NO3,NO2+NO3_FLAG_W,REVTMP
,,,,,,,,,,,METERS,DBAR,ITS-90,PSS-78,,PSS-78,,UMOL/KG,,UMOL/KG,,UMOL/KG,,UMOL/KG,,DBAR,DBAR,ITS-90,UMOL/KG,,DEG C
33KB20110127,       PRS2,       2,          9,         22,       8022,2,20110129,       1157,  22.709333,-157.9286667,       4743,     6.8,  23.7527,  35.3796,2,  35.3792,2,    210.0,1,  -999.0,9, -999.00,9, -999.00,9,  -999.0,       7,    23.7513, -999.00,9,     -999.0
33KB20110127,       PRS2,       2,          9,         21,       8021,2,20110129,       1157,  22.709333,-157.9286667,       4743,     6.7,  23.7522,  35.3799,2,  35.3796,2,    209.7,1,  -999.0,9, -999.00,9, -999.00,9,  -999.0,       7,    23.7508, -999.00,9,     -999.0
33KB20110127,       PRS2,       2,          9,         20,       8020,2,20110129,       1157,  22.709333,-157.9286667,       4743,     6.7,  23.7502,  35.3808,2,  35.3813,2,    209.6,1,  -999.0,9, -999.00,9, -999.00,9,  -999.0,       7,    23.7488, -999.00,9,     -999.0
33KB20110127,       PRS2,       2,          9,         19,       8019,2,20110129,       1157,  22.709333,-157.9286667,       4743,    25.1,  23.6621,  35.4013,2,  35.4018,2,    210.2,1,  -999.0,9, -999.00,9, -999.00,9,  -999.0,      25,    23.6569, -999.00,9,     -999.0
33KB20110127,       PRS2,       2,          9,         18,       8018,2,20110129,       1157,  22.709333,-157.9286667,       4743,    24.9,  23.6619,  35.4015,2,  35.4014,2,    210.3,1,  -999.0,9, -999.00,9, -999.00,9,  -999.0,      25,    23.6567, -999.00,9,     -999.0
33KB20110127,       PRS2,       2,          9,         17,       8017,2,20110129,       1157,  22.709333,-157.9286667,       4743,    24.9,  23.6648,  35.4011,2,  35.4014,2,    210.3,1,  -999.0,9, -999.00,9, -999.00,9,  -999.0,      26,    23.6596, -999.00,9,     -999.0
33KB20110127,       PRS2,       2,          9,         16,       8016,2,20110129,       1157,  22.709333,-157.9286667,       4743,    45.9,  23.6271,  35.4017,2,  35.4024,2,    210.4,1,  -999.0,9, -999.00,9, -999.00,9,  -999.0,      46,    23.6175, -999.00,9,     -999.0
33KB20110127,       PRS2,       2,          9,         15,       8015,2,20110129,       1157,  22.709333,-157.9286667,       4743,    45.9,  23.6262,  35.4018,2,  35.4022,2,    210.4,1,  -999.0,9, -999.00,9, -999.00,9,  -999.0,      47,    23.6167, -999.00,9,     -999.0
33KB20110127,       PRS2,       2,          9,         14,       8014,2,20110129,       1157,  22.709333,-157.9286667,       4743,    45.8,  23.6254,  35.4017,2,  35.4026,2,    210.5,1,  -999.0,9, -999.00,9, -999.00,9,  -999.0,      46,    23.6158, -999.00,9,     -999.0
33KB20110127,       PRS2,       2,          9,         13,       8025,2,20110129,       1157,  22.709333,-157.9286667,       4743,    75.4,  23.3371,  35.4363,2,  35.4365,2,    210.4,1,  -999.0,9, -999.00,9, -999.00,9,  -999.0,      74,    23.3215, -999.00,9,     -999.0
33KB20110127,       PRS2,       2,          9,         12,       8012,2,20110129,       1157,  22.709333,-157.9286667,       4743,    75.1,  23.3379,  35.4357,2,  35.4369,2,    210.5,1,  -999.0,9, -999.00,9, -999.00,9,  -999.0,      75,    23.3224, -999.00,9,     -999.0
33KB20110127,       PRS2,       2,          9,         11,       8011,2,20110129,       1157,  22.709333,-157.9286667,       4743,    74.9,  23.3392,  35.4357,2,  35.4373,2,    210.6,1,  -999.0,9, -999.00,9, -999.00,9,  -999.0,      76,    23.3237, -999.00,9,     -999.0
33KB20110127,       PRS2,       2,          9,         10,       8010,2,20110129,       1157,  22.709333,-157.9286667,       4743,    99.8,  22.7515,  35.4138,2,  35.4115,2,    209.4,1,  -999.0,9, -999.00,9, -999.00,9,  -999.0,     101,    22.7312, -999.00,9,     -999.0
33KB20110127,       PRS2,       2,          9,          9,       8009,2,20110129,       1157,  22.709333,-157.9286667,       4743,   100.4,  22.7442,  35.4130,2,  35.4121,2,    209.4,1,  -999.0,9, -999.00,9, -999.00,9,  -999.0,      99,    22.7239, -999.00,9,     -999.0
33KB20110127,       PRS2,       2,          9,          8,       8008,2,20110129,       1157,  22.709333,-157.9286667,       4743,   100.0,  22.7328,  35.4116,2,  35.4115,2,    209.5,1,  -999.0,9, -999.00,9, -999.00,9,  -999.0,     100,    22.7125, -999.00,9,     -999.0
33KB20110127,       PRS2,       2,          9,          7,       8026,2,20110129,       1157,  22.709333,-157.9286667,       4743,   124.6,  20.4214,  35.2045,2,  35.2085,2,    205.9,1,  -999.0,9, -999.00,9, -999.00,9,  -999.0,     124,    20.3980, -999.00,9,     -999.0
33KB20110127,       PRS2,       2,          9,          6,       8006,2,20110129,       1157,  22.709333,-157.9286667,       4743,   124.9,  20.4501,  35.2053,2,  35.2079,2,    205.8,1,  -999.0,9, -999.00,9, -999.00,9,  -999.0,     124,    20.4267, -999.00,9,     -999.0
33KB20110127,       PRS2,       2,          9,          5,       8005,2,20110129,       1157,  22.709333,-157.9286667,       4743,   124.5,  20.4651,  35.2076,2,  35.2052,2,    205.8,1,  -999.0,9, -999.00,9, -999.00,9,  -999.0,     125,    20.4417, -999.00,9,     -999.0
33KB20110127,       PRS2,       2,          9,          4,       8004,2,20110129,       1157,  22.709333,-157.9286667,       4743,   150.4,  19.2057,  35.0817,2,  35.0781,2,    204.8,1,  -999.0,9, -999.00,9, -999.00,9,  -999.0,     151,    19.1787, -999.00,9,     -999.0
33KB20110127,       PRS2,       2,          9,          3,       8003,2,20110129,       1157,  22.709333,-157.9286667,       4743,   176.1,  17.8923,  34.8923,2,  34.8939,2,    199.9,1,  -999.0,9, -999.00,9, -999.00,9,  -999.0,     175,    17.8623, -999.00,9,     -999.0
33KB20110127,       PRS2,       2,          9,          2,       8002,2,20110129,       1157,  22.709333,-157.9286667,       4743,   480.0,   7.9915,  34.0590,2,  34.0621,2,    148.5,1,  -999.0,9, -999.00,9, -999.00,9,  -999.0,     481,     7.9427, -999.00,9,     -999.0
33KB20110127,       PRS2,       2,          9,          1,       8001,2,20110129,       1157,  22.709333,-157.9286667,       4743,  1019.5,   3.9464,  34.4694,2,  34.4687,2,     43.0,1,  -999.0,9, -999.00,9, -999.00,9,  -999.0,    1020,     3.8696, -999.00,9,     -999.0
33KB20110127,       PRS2,       2,         10,         17,       8017,2,20110129,       1509,  22.665500,-157.9935000,       4752,   124.3,  21.1861,  35.2694,2,-999.0000,5,    207.6,1,  -999.0,9, -999.00,9, -999.00,9,  -999.0,     123,    21.1622, -999.00,9,     -999.0
33KB20110127,       PRS2,       2,         10,         16,       8016,2,20110129,       1509,  22.665500,-157.9935000,       4752,   124.1,  21.1737,  35.2707,2,-999.0000,5,    207.5,1,  -999.0,9, -999.00,9, -999.00,9,  -999.0,     123,    21.1498, -999.00,9,     -999.0
33KB20110127,       PRS2,       2,         10,         15,       8015,2,20110129,       1509,  22.665500,-157.9935000,       4752,   124.0,  21.2364,  35.2805,2,-999.0000,5,    207.3,1,  -999.0,9, -999.00,9, -999.00,9,  -999.0,     124,    21.2124, -999.00,9,     -999.0
33KB20110127,       PRS2,       2,         10,         14,       8014,2,20110129,       1509,  22.665500,-157.9935000,       4752,   124.0,  21.2429,  35.2823,2,-999.0000,5,    207.2,1,  -999.0,9, -999.00,9, -999.00,9,  -999.0,     123,    21.2189, -999.00,9,     -999.0
33KB20110127,       PRS2,       2,         10,         13,       8025,2,20110129,       1509,  22.665500,-157.9935000,       4752,   123.9,  21.2577,  35.2847,2,-999.0000,5,    207.1,1,  -999.0,9, -999.00,9, -999.00,9,  -999.0,     123,    21.2338, -999.00,9,     -999.0
33KB20110127,       PRS2,       2,         10,         12,       8012,2,20110129,       1509,  22.665500,-157.9935000,       4752,   199.7,  16.4841,  34.6854,2,-999.0000,5,    206.1,1,  -999.0,9, -999.00,9, -999.00,9,  -999.0,     199,    16.4519, -999.00,9,     -999.0
33KB20110127,       PRS2,       2,         10,         11,       8011,2,20110129,       1509,  22.665500,-157.9935000,       4752,   199.8,  16.4826,  34.6850,2,-999.0000,5,    206.4,1,  -999.0,9, -999.00,9, -999.00,9,  -999.0,     199,    16.4504, -999.00,9,     -999.0
33KB20110127,       PRS2,       2,         10,         10,       8010,2,20110129,       1509,  22.665500,-157.9935000,       4752,   199.8,  16.4803,  34.6849,2,-999.0000,5,    206.6,1,  -999.0,9, -999.00,9, -999.00,9,  -999.0,     200,    16.4481, -999.00,9,     -999.0
33KB20110127,       PRS2,       2,         10,          9,       8009,2,20110129,       1509,  22.665500,-157.9935000,       4752,   199.7,  16.4770,  34.6852,2,-999.0000,5,    206.8,1,  -999.0,9, -999.00,9, -999.00,9,  -999.0,     200,    16.4448, -999.00,9,     -999.0
33KB20110127,       PRS2,       2,         10,          8,       8008,2,20110129,       1509,  22.665500,-157.9935000,       4752,   199.8,  16.4808,  34.6855,2,-999.0000,5,    206.9,1,  -999.0,9, -999.00,9, -999.00,9,  -999.0,     199,    16.4486, -999.00,9,     -999.0
33KB20110127,       PRS2,       2,         10,          7,       8026,2,20110129,       1509,  22.665500,-157.9935000,       4752,   449.0,   8.1369,  34.0764,2,  34.0762,2,    141.9,1,  -999.0,9, -999.00,9, -999.00,9,  -999.0,     448,     8.0909, -999.00,9,     -999.0
33KB20110127,       PRS2,       2,         10,          6,       8006,2,20110129,       1509,  22.665500,-157.9935000,       4752,  1022.2,   3.9095,  34.4781,2,-999.0000,5,     45.4,1,  -999.0,9, -999.00,9, -999.00,9,  -999.0,    1021,     3.8327, -999.00,9,     -999.0
33KB20110127,       PRS2,       2,         10,          5,       8005,2,20110129,       1509,  22.665500,-157.9935000,       4752,  1021.8,   3.9074,  34.4781,2,-999.0000,5,     45.4,1,  -999.0,9, -999.00,9, -999.00,9,  -999.0,    1022,     3.8307, -999.00,9,     -999.0
33KB20110127,       PRS2,       2,         10,          4,       8004,2,20110129,       1509,  22.665500,-157.9935000,       4752,  1021.9,   3.9063,  34.4779,2,-999.0000,5,     45.4,1,  -999.0,9, -999.00,9, -999.00,9,  -999.0,    1022,     3.8296, -999.00,9,     -999.0
33KB20110127,       PRS2,       2,         10,          3,       8003,2,20110129,       1509,  22.665500,-157.9935000,       4752,  1022.0,   3.9102,  34.4772,2,-999.0000,5,     45.4,1,  -999.0,9, -999.00,9, -999.00,9,  -999.0,    1022,     3.8334, -999.00,9,     -999.0
33KB20110127,       PRS2,       2,         10,          2,       8002,2,20110129,       1509,  22.665500,-157.9935000,       4752,  1022.0,   3.9119,  34.4780,2,-999.0000,5,     45.4,1,  -999.0,9, -999.00,9, -999.00,9,  -999.0,    1022,     3.8352, -999.00,9,     -999.0
33KB20110127,       PRS2,       2,         10,          1,       8001,2,20110129,       1509,  22.665500,-157.9935000,       4752,  1022.0,   3.9161,  34.4776,2,  34.4783,2,     45.4,1,  -999.0,9, -999.00,9, -999.00,9,  -999.0,    1021,     3.8393, -999.00,9,     -999.0
33KB20110127,       PRS2,       2,         11,         18,       8018,2,20110129,       1754,  22.684500,-158.0026667,       4755,     4.1,  23.7730,  35.3652,2,-999.0000,5,    209.8,1,  -999.0,9, -999.00,9, -999.00,9,  -999.0,       4,    23.7721, -999.00,9,     -999.0
33KB20110127,       PRS2,       2,         11,         17,       8017,2,20110129,       1754,  22.684500,-158.0026667,       4755,     3.9,  23.7717,  35.3647,2,  35.3646,2,    209.7,1,  -999.0,9, -999.00,9, -999.00,9,  -999.0,       5,    23.7709, -999.00,9,     -999.0
33KB20110127,       PRS2,       2,         11,         16,       8016,2,20110129,       1754,  22.684500,-158.0026667,       4755,    26.1,  23.7805,  35.3648,2,-999.0000,5,    209.7,1,  -999.0,9, -999.00,9, -999.00,9,  -999.0,      25,    23.7751, -999.00,9,     -999.0
33KB20110127,       PRS2,       2,         11,         15,       8015,2,20110129,       1754,  22.684500,-158.0026667,       4755,    26.1,  23.7817,  35.3644,2,  35.3646,2,    209.7,1,  -999.0,9, -999.00,9, -999.00,9,  -999.0,      25,    23.7763, -999.00,9,     -999.0
33KB20110127,       PRS2,       2,         11,         14,       8014,2,20110129,       1754,  22.684500,-158.0026667,       4755,    46.0,  23.6274,  35.3923,2,-999.0000,5,    210.5,1,  -999.0,9, -999.00,9, -999.00,9,  -999.0,      45,    23.6178, -999.00,9,     -999.0
33KB20110127,       PRS2,       2,         11,         13,       8025,2,20110129,       1754,  22.684500,-158.0026667,       4755,    46.0,  23.6195,  35.3944,2,  35.3898,2,    210.5,1,  -999.0,9, -999.00,9, -999.00,9,  -999.0,      45,    23.6099, -999.00,9,     -999.0
33KB20110127,       PRS2,       2,         11,         12,       8012,2,20110129,       1754,  22.684500,-158.0026667,       4755,    75.8,  23.2889,  35.4331,2,-999.0000,5,    211.2,1,  -999.0,9, -999.00,9, -999.00,9,  -999.0,      77,    23.2733, -999.00,9,     -999.0
33KB20110127,       PRS2,       2,         11,         11,       8011,2,20110129,       1754,  22.684500,-158.0026667,       4755,    76.0,  23.2864,  35.4323,2,  35.4348,2,    211.0,1,  -999.0,9, -999.00,9, -999.00,9,  -999.0,      76,    23.2707, -999.00,9,     -999.0
33KB20110127,       PRS2,       2,         11,         10,       8010,2,20110129,       1754,  22.684500,-158.0026667,       4755,   100.3,  22.4305,  35.3811,2,-999.0000,5,    209.5,1,  -999.0,9, -999.00,9, -999.00,9,  -999.0,     101,    22.4104, -999.00,9,     -999.0
33KB20110127,       PRS2,       2,         11,          9,       8009,2,20110129,       1754,  22.684500,-158.0026667,       4755,   101.1,  22.4042,  35.3836,2,  35.3855,2,    209.6,1,  -999.0,9, -999.00,9, -999.00,9,  -999.0,      99,    22.3839, -999.00,9,     -999.0
33KB20110127,       PRS2,       2,         11,          8,       8008,2,20110129,       1754,  22.684500,-158.0026667,       4755,   124.8,  20.2014,  35.1836,2,-999.0000,5,    206.5,1,  -999.0,9, -999.00,9, -999.00,9,  -999.0,     126,    20.1781, -999.00,9,     -999.0
33KB20110127,       PRS2,       2,         11,          7,       8026,2,20110129,       1754,  22.684500,-158.0026667,       4755,   124.7,  20.1960,  35.1813,2,  35.1866,2,    206.5,1,  -999.0,9, -999.00,9, -999.00,9,  -999.0,     126,    20.1728, -999.00,9,     -999.0
33KB20110127,       PRS2,       2,         11,          6,       8006,2,20110129,       1754,  22.684500,-158.0026667,       4755,   151.1,  18.7465,  35.0217,2,-999.0000,5,    203.2,1,  -999.0,9, -999.00,9, -999.00,9,  -999.0,     152,    18.7198, -999.00,9,     -999.0
33KB20110127,       PRS2,       2,         11,          5,       8005,2,20110129,       1754,  22.684500,-158.0026667,       4755,   150.6,  18.7478,  35.0218,2,  35.0240,2,    203.0,1,  -999.0,9, -999.00,9, -999.00,9,  -999.0,     154,    18.7213, -999.00,9,     -999.0
33KB20110127,       PRS2,       2,         11,          4,       8004,2,20110129,       1754,  22.684500,-158.0026667,       4755,   176.9,  17.6561,  34.8545,2,-999.0000,5,    199.3,1,  -999.0,9, -999.00,9, -999.00,9,  -999.0,     176,    17.6261, -999.00,9,     -999.0
33KB20110127,       PRS2,       2,         11,          3,       8003,2,20110129,       1754,  22.684500,-158.0026667,       4755,   176.1,  17.6910,  34.8610,2,  34.8648,2,    199.4,1,  -999.0,9, -999.00,9, -999.00,9,  -999.0,     177,    17.6611, -999.00,9,     -999.0
33KB20110127,       PRS2,       2,         11,          2,       8002,2,20110129,       1754,  22.684500,-158.0026667,       4755,   470.5,   7.7687,  34.0719,2,  34.0711,2,    125.1,1,  -999.0,9, -999.00,9, -999.00,9,  -999.0,     472,     7.7217, -999.00,9,     -999.0
33KB20110127,       PRS2,       2,         11,          1,       8001,2,20110129,       1754,  22.684500,-158.0026667,       4755,  1020.2,   3.8853,  34.4762,2,  34.4760,2,     43.9,1,  -999.0,9, -999.00,9, -999.00,9,  -999.0,    1020,     3.8089, -999.00,9,     -999.0