BOTTLE,20090923WHPSIOMYS
EXPOCODE,SECT_ID,STNNBR,CASTNO,SAMPNO,BTLNBR,BTLNBR_FLAG_W,DATE,TIME,LATITUDE,LONGITUDE,DEPTH,CTDRAW,CTDPRS,CTDTMP,CTDSAL,CTDSAL_FLAG_W,SALNTY,SALNTY_FLAG_W,CTDOXY,CTDOXY_FLAG_W,THETA,OXYGEN,OXYGEN_FLAG_W,SILCAT,SILCAT_FLAG_W,NO2+NO3,NO2+NO3_FLAG_W,PHSPHT,PHSPHT_FLAG_W,REVPRS,REVTMP
,,,,,,,,,,,,,DBAR,ITS-90,PSS-78,,PSS-78,,UMOL/KG,,ITS-90,UMOL/KG,,UMOL/KG,,UMOL/KG,,UMOL/KG,,DBAR,DEG C
     33KB193_1,  PRS2,     2, 13,     24,   8024,2,20070709,0554, 22.6988,-158.0177, 4756,      6,      6.5,  25.8251,  35.0723,2,  35.0713,2,    207.8,1, 25.8237,   -999.0,9,  -999.00,9,  -999.00,9,  -999.00,9,  -999.0,-999.000
     33KB193_1,  PRS2,     2, 13,     23,   8023,2,20070709,0554, 22.6988,-158.0177, 4756,     25,     25.1,  25.8321,  35.0723,2,  35.0718,2,    207.7,1, 25.8266,   -999.0,9,  -999.00,9,  -999.00,9,  -999.00,9,  -999.0,-999.000
     33KB193_1,  PRS2,     2, 13,     22,   8022,2,20070709,0554, 22.6988,-158.0177, 4756,     44,     45.0,  25.7184,  35.1597,2,  35.1484,2,    209.7,1, 25.7085,   -999.0,9,  -999.00,9,  -999.00,9,  -999.00,9,  -999.0,-999.000
     33KB193_1,  PRS2,     2, 13,     21,   8021,2,20070709,0554, 22.6988,-158.0177, 4756,     60,     60.1,  24.9396,  35.2436,2,  35.2432,2,    218.7,1, 24.9266,   -999.0,9,  -999.00,9,  -999.00,9,  -999.00,9,  -999.0,-999.000
     33KB193_1,  PRS2,     2, 13,     20,   8020,2,20070709,0554, 22.6988,-158.0177, 4756,     74,     74.5,  23.9152,  35.2306,2,  35.2383,2,    219.3,1, 23.8995,   -999.0,9,  -999.00,9,  -999.00,9,  -999.00,9,  -999.0,-999.000
     33KB193_1,  PRS2,     2, 13,     19,   8019,2,20070709,0554, 22.6988,-158.0177, 4756,     85,     84.8,  23.3334,  35.2161,2,  35.2136,2,    216.8,1, 23.3159,   -999.0,9,  -999.00,9,  -999.00,9,  -999.00,9,  -999.0,-999.000
     33KB193_1,  PRS2,     2, 13,     18,   8018,2,20070709,0554, 22.6988,-158.0177, 4756,    101,    100.6,  22.8950,  35.2002,2,  35.2018,2,    213.6,1, 22.8746,   -999.0,9,  -999.00,9,  -999.00,9,  -999.00,9,  -999.0,-999.000
     33KB193_1,  PRS2,     2, 13,     17,   8017,2,20070709,0554, 22.6988,-158.0177, 4756,    115,    114.7,  22.4431,  35.2077,2,  35.2069,2,    213.2,1, 22.4201,   -999.0,9,  -999.00,9,  -999.00,9,  -999.00,9,  -999.0,-999.000
     33KB193_1,  PRS2,     2, 13,     16,   8016,2,20070709,0554, 22.6988,-158.0177, 4756,    126,    125.4,  22.0190,  35.1919,2,  35.1912,2,    206.0,1, 21.9942,   -999.0,9,  -999.00,9,  -999.00,9,  -999.00,9,  -999.0,-999.000
     33KB193_1,  PRS2,     2, 13,     15,   8015,2,20070709,0554, 22.6988,-158.0177, 4756,    135,    135.4,  21.7446,  35.1883,2,  35.1851,2,    203.6,1, 21.7181,   -999.0,9,  -999.00,9,  -999.00,9,  -999.00,9,  -999.0,-999.000
     33KB193_1,  PRS2,     2, 13,     14,   8014,2,20070709,0554, 22.6988,-158.0177, 4756,    150,    150.2,  21.1031,  35.1530,2,  35.1457,2,    195.5,1, 21.0743,   -999.0,9,  -999.00,9,  -999.00,9,  -999.00,9,  -999.0,-999.000
     33KB193_1,  PRS2,     2, 13,     13,   8025,2,20070709,0554, 22.6988,-158.0177, 4756,    175,    174.8,  19.8957,  35.0529,2,  35.0516,2,    201.4,1, 19.8635,   -999.0,9,  -999.00,9,  -999.00,9,  -999.00,9,  -999.0,-999.000
     33KB193_1,  PRS2,     2, 13,      8,   8008,2,20070709,0554, 22.6988,-158.0177, 4756,    199,    199.9,  18.3129,  34.8767,2,-999.0000,5,    209.8,1, 18.2782,   -999.0,9,  -999.00,9,  -999.00,9,  -999.00,9,  -999.0,-999.000
     33KB193_1,  PRS2,     2, 13,     12,   8012,2,20070709,0554, 22.6988,-158.0177, 4756,    201,    200.0,  18.3100,  34.8762,2,-999.0000,5,    209.6,1, 18.2753,   -999.0,9,  -999.00,9,  -999.00,9,  -999.00,9,  -999.0,-999.000
     33KB193_1,  PRS2,     2, 13,     11,   8011,2,20070709,0554, 22.6988,-158.0177, 4756,    200,    200.0,  18.3148,  34.8771,2,-999.0000,5,    209.7,1, 18.2801,   -999.0,9,  -999.00,9,  -999.00,9,  -999.00,9,  -999.0,-999.000
     33KB193_1,  PRS2,     2, 13,      9,   8009,2,20070709,0554, 22.6988,-158.0177, 4756,    199,    200.0,  18.3099,  34.8763,2,-999.0000,5,    209.7,1, 18.2751,   -999.0,9,  -999.00,9,  -999.00,9,  -999.00,9,  -999.0,-999.000
     33KB193_1,  PRS2,     2, 13,     10,   8010,2,20070709,0554, 22.6988,-158.0177, 4756,    200,    200.1,  18.3132,  34.8763,2,-999.0000,5,    209.7,1, 18.2785,   -999.0,9,  -999.00,9,  -999.00,9,  -999.00,9,  -999.0,-999.000
     33KB193_1,  PRS2,     2, 13,      7,   8026,2,20070709,0554, 22.6988,-158.0177, 4756,    490,    490.7,   7.5313,  34.0747,2,  34.0764,2,    121.0,1,  7.4831,   -999.0,9,  -999.00,9,  -999.00,9,  -999.00,9,  -999.0,-999.000
     33KB193_1,  PRS2,     2, 13,      2,   8002,2,20070709,0554, 22.6988,-158.0177, 4756,   1020,   1020.2,   4.0182,  34.4610,2,-999.0000,5,     37.4,1,  3.9408,   -999.0,9,  -999.00,9,  -999.00,9,  -999.00,9,  -999.0,-999.000
     33KB193_1,  PRS2,     2, 13,      1,   8001,2,20070709,0554, 22.6988,-158.0177, 4756,   1020,   1020.2,   4.0188,  34.4607,2,  34.4604,2,     37.4,1,  3.9413,   -999.0,9,  -999.00,9,  -999.00,9,  -999.00,9,  -999.0,-999.000
     33KB193_1,  PRS2,     2, 13,      4,   8004,2,20070709,0554, 22.6988,-158.0177, 4756,   1020,   1020.3,   4.0196,  34.4609,2,-999.0000,5,     37.4,1,  3.9421,   -999.0,9,  -999.00,9,  -999.00,9,  -999.00,9,  -999.0,-999.000
     33KB193_1,  PRS2,     2, 13,      3,   8003,2,20070709,0554, 22.6988,-158.0177, 4756,   1019,   1020.3,   4.0181,  34.4612,2,-999.0000,5,     37.4,1,  3.9407,   -999.0,9,  -999.00,9,  -999.00,9,  -999.00,9,  -999.0,-999.000
     33KB193_1,  PRS2,     2, 13,      6,   8006,2,20070709,0554, 22.6988,-158.0177, 4756,   1022,   1020.4,   4.0188,  34.4610,2,-999.0000,5,     37.5,1,  3.9413,   -999.0,9,  -999.00,9,  -999.00,9,  -999.00,9,  -999.0,-999.000
     33KB193_1,  PRS2,     2, 13,      5,   8005,2,20070709,0554, 22.6988,-158.0177, 4756,   1021,   1020.4,   4.0193,  34.4609,2,-999.0000,5,     37.5,1,  3.9419,   -999.0,9,  -999.00,9,  -999.00,9,  -999.00,9,  -999.0,-999.000
     33KB193_1,  PRS2,     2, 14,     24,   8024,2,20070709,0856, 22.7498,-158.0000, 4746,      6,      6.6,  25.8217,  35.0726,2,  35.0722,2,    209.4,2, 25.8202,    207.2,2,  -999.00,9,  -999.00,9,  -999.00,9,  -999.0,-999.000
     33KB193_1,  PRS2,     2, 14,     23,   8023,2,20070709,0856, 22.7498,-158.0000, 4746,     10,     10.1,  25.8128,  35.0727,2,-999.0000,5,    209.4,2, 25.8106,   -999.0,5,  -999.00,9,  -999.00,9,  -999.00,9,  -999.0,-999.000
     33KB193_1,  PRS2,     2, 14,     22,   8022,2,20070709,0856, 22.7498,-158.0000, 4746,     76,     75.1,  24.1833,  35.2436,2,-999.0000,5,    222.0,2, 24.1674,   -999.0,5,  -999.00,9,  -999.00,9,  -999.00,9,  -999.0,-999.000
     33KB193_1,  PRS2,     2, 14,     21,   8021,2,20070709,0856, 22.7498,-158.0000, 4746,     81,     80.9,  23.9093,  35.2424,2,  35.2422,2,    221.7,2, 23.8923,    220.9,2,  -999.00,9,  -999.00,9,  -999.00,9,  -999.0,-999.000
     33KB193_1,  PRS2,     2, 14,     20,   8020,2,20070709,0856, 22.7498,-158.0000, 4746,    100,    100.8,  22.9697,  35.2335,2,-999.0000,5,    215.5,2, 22.9491,   -999.0,5,  -999.00,9,  -999.00,9,  -999.00,9,  -999.0,-999.000
     33KB193_1,  PRS2,     2, 14,     19,   8019,2,20070709,0856, 22.7498,-158.0000, 4746,    126,    125.7,  21.7139,  35.1930,2,-999.0000,5,    206.8,2, 21.6892,   -999.0,5,  -999.00,9,  -999.00,9,  -999.00,9,  -999.0,-999.000
     33KB193_1,  PRS2,     2, 14,     18,   8018,2,20070709,0856, 22.7498,-158.0000, 4746,    175,    174.8,  19.7727,  35.0407,2,-999.0000,5,    197.2,2, 19.7407,   -999.0,5,  -999.00,9,  -999.00,9,  -999.00,9,  -999.0,-999.000
     33KB193_1,  PRS2,     2, 14,     17,   8017,2,20070709,0856, 22.7498,-158.0000, 4746,    400,    400.2,  10.1849,  34.1576,2,-999.0000,5,    177.6,2, 10.1379,   -999.0,5,  -999.00,9,  -999.00,9,  -999.00,9,  -999.0,-999.000
     33KB193_1,  PRS2,     2, 14,     16,   8016,2,20070709,0856, 22.7498,-158.0000, 4746,    500,    500.0,   7.5917,  34.0837,2,  34.0835,2,    120.7,2,  7.5424,    120.0,2,  -999.00,9,  -999.00,9,  -999.00,9,  -999.0,-999.000
     33KB193_1,  PRS2,     2, 14,     15,   8015,2,20070709,0856, 22.7498,-158.0000, 4746,    601,    601.1,   6.2414,  34.1405,2,-999.0000,5,     65.6,2,  6.1877,   -999.0,5,  -999.00,9,  -999.00,9,  -999.00,9,  -999.0,-999.000
     33KB193_1,  PRS2,     2, 14,     14,   8014,2,20070709,0856, 22.7498,-158.0000, 4746,    800,    800.2,   4.5006,  34.3058,2,-999.0000,5,     24.9,2,  4.4384,   -999.0,5,  -999.00,9,  -999.00,9,  -999.00,9,  -999.0,-999.000
     33KB193_1,  PRS2,     2, 14,     13,   8025,2,20070709,0856, 22.7498,-158.0000, 4746,    850,    850.5,   4.4110,  34.3748,2,  34.3737,2,     27.7,2,  4.3451,     27.0,2,  -999.00,9,  -999.00,9,  -999.00,9,  -999.0,-999.000
     33KB193_1,  PRS2,     2, 14,     11,   8011,2,20070709,0856, 22.7498,-158.0000, 4746,   1000,    999.5,   4.0371,  34.4584,2,-999.0000,5,     37.1,2,  3.9613,   -999.0,5,  -999.00,9,  -999.00,9,  -999.00,9,  -999.0,-999.000
     33KB193_1,  PRS2,     2, 14,     12,   8012,2,20070709,0856, 22.7498,-158.0000, 4746,    999,    999.6,   4.0375,  34.4584,2,-999.0000,5,     37.1,2,  3.9617,   -999.0,5,  -999.00,9,  -999.00,9,  -999.00,9,  -999.0,-999.000
     33KB193_1,  PRS2,     2, 14,     10,   8010,2,20070709,0856, 22.7498,-158.0000, 4746,   2000,   2000.2,   2.1904,  34.6162,2,-999.0000,5,     85.4,2,  2.0511,   -999.0,5,  -999.00,9,  -999.00,9,  -999.00,9,  -999.0,-999.000
     33KB193_1,  PRS2,     2, 14,      9,   8009,2,20070709,0856, 22.7498,-158.0000, 4746,   2000,   2000.2,   2.1902,  34.6163,2,-999.0000,5,     85.5,2,  2.0509,   -999.0,5,  -999.00,9,  -999.00,9,  -999.00,9,  -999.0,-999.000
     33KB193_1,  PRS2,     2, 14,      8,   8008,2,20070709,0856, 22.7498,-158.0000, 4746,   2000,   2000.2,   2.1901,  34.6163,2,  34.6156,2,     85.6,2,  2.0508,     86.1,2,  -999.00,9,  -999.00,9,  -999.00,9,  -999.0,-999.000
     33KB193_1,  PRS2,     2, 14,      5,   8005,2,20070709,0856, 22.7498,-158.0000, 4746,   3000,   3000.0,   1.5532,  34.6720,2,  34.6716,2,    125.6,2,  1.3352,    125.4,2,  -999.00,9,  -999.00,9,  -999.00,9,  -999.0,-999.000
     33KB193_1,  PRS2,     2, 14,      7,   8026,2,20070709,0856, 22.7498,-158.0000, 4746,   3000,   3000.1,   1.5536,  34.6720,2,-999.0000,5,    125.6,2,  1.3357,   -999.0,5,  -999.00,9,  -999.00,9,  -999.00,9,  -999.0,-999.000
     33KB193_1,  PRS2,     2, 14,      6,   8006,2,20070709,0856, 22.7498,-158.0000, 4746,   2999,   3000.2,   1.5536,  34.6720,2,-999.0000,5,    125.6,2,  1.3356,   -999.0,5,  -999.00,9,  -999.00,9,  -999.00,9,  -999.0,-999.000
     33KB193_1,  PRS2,     2, 14,      2,   8002,2,20070709,0856, 22.7498,-158.0000, 4746,   4000,   3999.5,   1.4595,  34.6887,2,  34.6889,2,    147.0,2,  1.1417,    146.9,2,  -999.00,9,  -999.00,9,  -999.00,9,  -999.0,-999.000
     33KB193_1,  PRS2,     2, 14,      4,   8004,2,20070709,0856, 22.7498,-158.0000, 4746,   3999,   3999.6,   1.4596,  34.6886,2,-999.0000,5,    147.0,2,  1.1419,   -999.0,5,  -999.00,9,  -999.00,9,  -999.00,9,  -999.0,-999.000
     33KB193_1,  PRS2,     2, 14,      3,   8003,2,20070709,0856, 22.7498,-158.0000, 4746,   3999,   3999.7,   1.4596,  34.6887,2,-999.0000,5,    147.0,2,  1.1418,   -999.0,5,  -999.00,9,  -999.00,9,  -999.00,9,  -999.0,-999.000
     33KB193_1,  PRS2,     2, 14,      1,   8001,2,20070709,0856, 22.7498,-158.0000, 4746,   4809,   4809.2,   1.5089,  34.6923,2,  34.6944,2,    153.5,2,  1.0973,    153.5,2,  -999.00,9,  -999.00,9,  -999.00,9,  -999.0,-999.000
     33KB193_1,  PRS2,    52,  1,     19,   8019,2,20070709,1755, 22.6465,-157.9708, 4764,      6,      6.4,  25.7596,  35.0813,2,-999.0000,9,    206.4,1, 25.7582,   -999.0,9,  -999.00,9,  -999.00,9,  -999.00,9,  -999.0,-999.000
     33KB193_1,  PRS2,    52,  1,     15,   8015,2,20070709,1755, 22.6465,-157.9708, 4764,      6,      6.5,  25.7598,  35.0813,2,-999.0000,9,    206.5,1, 25.7584,   -999.0,9,  -999.00,9,  -999.00,9,  -999.00,9,  -999.0,-999.000
     33KB193_1,  PRS2,    52,  1,     14,   8014,2,20070709,1755, 22.6465,-157.9708, 4764,      7,      6.5,  25.7602,  35.0813,2,-999.0000,9,    206.6,1, 25.7588,   -999.0,9,  -999.00,9,  -999.00,9,  -999.00,9,  -999.0,-999.000
     33KB193_1,  PRS2,    52,  1,     18,   8018,2,20070709,1755, 22.6465,-157.9708, 4764,      7,      6.6,  25.7601,  35.0813,2,-999.0000,9,    206.5,1, 25.7587,   -999.0,9,  -999.00,9,  -999.00,9,  -999.00,9,  -999.0,-999.000
     33KB193_1,  PRS2,    52,  1,     16,   8016,2,20070709,1755, 22.6465,-157.9708, 4764,      7,      6.6,  25.7598,  35.0813,2,-999.0000,9,    206.5,1, 25.7584,   -999.0,9,  -999.00,9,  -999.00,9,  -999.00,9,  -999.0,-999.000
     33KB193_1,  PRS2,    52,  1,     17,   8017,2,20070709,1755, 22.6465,-157.9708, 4764,      7,      6.7,  25.7601,  35.0813,2,-999.0000,9,    206.5,1, 25.7586,   -999.0,9,  -999.00,9,  -999.00,9,  -999.00,9,  -999.0,-999.000
     33KB193_1,  PRS2,    52,  1,     13,   8025,2,20070709,1755, 22.6465,-157.9708, 4764,     26,     25.6,  25.7592,  35.0805,2,-999.0000,9,    206.4,1, 25.7536,   -999.0,9,  -999.00,9,  -999.00,9,  -999.00,9,  -999.0,-999.000
     33KB193_1,  PRS2,    52,  1,     12,   8012,2,20070709,1755, 22.6465,-157.9708, 4764,     46,     45.9,  25.6793,  35.1690,2,-999.0000,9,    209.1,1, 25.6692,   -999.0,9,  -999.00,9,  -999.00,9,  -999.00,9,  -999.0,-999.000
     33KB193_1,  PRS2,    52,  1,      6,   8006,2,20070709,1755, 22.6465,-157.9708, 4764,     74,     73.8,  23.9007,  35.1855,2,-999.0000,9,    218.9,1, 23.8853,   -999.0,9,  -999.00,9,  -999.00,9,  -999.00,9,  -999.0,-999.000
     33KB193_1,  PRS2,    52,  1,      8,   8008,2,20070709,1755, 22.6465,-157.9708, 4764,     74,     73.9,  23.9058,  35.1850,2,-999.0000,9,    219.1,1, 23.8902,   -999.0,9,  -999.00,9,  -999.00,9,  -999.00,9,  -999.0,-999.000
     33KB193_1,  PRS2,    52,  1,      7,   8026,2,20070709,1755, 22.6465,-157.9708, 4764,     74,     73.9,  23.9064,  35.1859,2,-999.0000,9,    219.0,1, 23.8909,   -999.0,9,  -999.00,9,  -999.00,9,  -999.00,9,  -999.0,-999.000
     33KB193_1,  PRS2,    52,  1,     11,   8011,2,20070709,1755, 22.6465,-157.9708, 4764,     74,     74.0,  23.9185,  35.1875,2,-999.0000,9,    219.2,1, 23.9029,   -999.0,9,  -999.00,9,  -999.00,9,  -999.00,9,  -999.0,-999.000
     33KB193_1,  PRS2,    52,  1,     10,   8010,2,20070709,1755, 22.6465,-157.9708, 4764,     74,     74.0,  23.9154,  35.1874,2,-999.0000,9,    219.2,1, 23.8999,   -999.0,9,  -999.00,9,  -999.00,9,  -999.00,9,  -999.0,-999.000
     33KB193_1,  PRS2,    52,  1,      9,   8009,2,20070709,1755, 22.6465,-157.9708, 4764,     74,     74.0,  23.9146,  35.1862,2,-999.0000,9,    219.2,1, 23.8991,   -999.0,9,  -999.00,9,  -999.00,9,  -999.00,9,  -999.0,-999.000
     33KB193_1,  PRS2,    52,  1,      1,   8001,2,20070709,1755, 22.6465,-157.9708, 4764,    126,    126.6,  21.9470,  35.2151,2,-999.0000,9,    210.0,1, 21.9220,   -999.0,9,  -999.00,9,  -999.00,9,  -999.00,9,  -999.0,-999.000
     33KB193_1,  PRS2,    52,  1,      5,   8005,2,20070709,1755, 22.6465,-157.9708, 4764,    126,    126.7,  21.9513,  35.2154,2,-999.0000,9,    211.1,1, 21.9263,   -999.0,9,  -999.00,9,  -999.00,9,  -999.00,9,  -999.0,-999.000
     33KB193_1,  PRS2,    52,  1,      2,   8002,2,20070709,1755, 22.6465,-157.9708, 4764,    127,    126.7,  21.9480,  35.2150,2,-999.0000,9,    210.3,1, 21.9230,   -999.0,9,  -999.00,9,  -999.00,9,  -999.00,9,  -999.0,-999.000
     33KB193_1,  PRS2,    52,  1,      4,   8004,2,20070709,1755, 22.6465,-157.9708, 4764,    127,    126.8,  21.9506,  35.2154,2,-999.0000,9,    210.9,1, 21.9255,   -999.0,9,  -999.00,9,  -999.00,9,  -999.00,9,  -999.0,-999.000
     33KB193_1,  PRS2,    52,  1,      3,   8003,2,20070709,1755, 22.6465,-157.9708, 4764,    127,    126.8,  21.9498,  35.2151,2,-999.0000,9,    210.6,1, 21.9247,   -999.0,9,  -999.00,9,  -999.00,9,  -999.00,9,  -999.0,-999.000