BOTTLE,20090923WHPSIOMYS
#code : jjward hyd_to_exchange.pl 
#original files copied from HTML directory: 20090923
#original HYD file: 33KB193_1_hy.txt   Wed Sep 23 18:01:14 2009
#original SUM file: ../33KB193_1su.txt   Wed Sep 23 18:01:13 2009
EXPOCODE,SECT_ID,STNNBR,CASTNO,SAMPNO,BTLNBR,BTLNBR_FLAG_W,DATE,TIME,LATITUDE,LONGITUDE,DEPTH,CTDRAW,CTDPRS,CTDTMP,CTDSAL,CTDSAL_FLAG_W,SALNTY,SALNTY_FLAG_W,CTDOXY,CTDOXY_FLAG_W,THETA,OXYGEN,OXYGEN_FLAG_W,SILCAT,SILCAT_FLAG_W,NO2+NO3,NO2+NO3_FLAG_W,PHSPHT,PHSPHT_FLAG_W,REVPRS,REVTMP
,,,,,,,,,,,,,DBAR,ITS-90,PSS-78,,PSS-78,,UMOL/KG,,ITS-90,UMOL/KG,,UMOL/KG,,UMOL/KG,,UMOL/KG,,DBAR,DEG C
     33KB193_1,  PRS2,     1,  1,     24,   8024,2,20070706,2314, 21.3435,-158.2735, 1550,      7,      6.5,  26.1604,  34.9445,2,  34.9451,2,    207.8,2, 26.1589,    208.1,2,  -999.00,9,  -999.00,9,  -999.00,9,  -999.0,-999.000
     33KB193_1,  PRS2,     1,  1,     23,   8023,2,20070706,2314, 21.3435,-158.2735, 1550,      6,      6.5,  26.1809,  34.9465,2,  34.9451,2,    207.8,2, 26.1795,   -999.0,5,  -999.00,9,  -999.00,9,  -999.00,9,  -999.0,-999.000
     33KB193_1,  PRS2,     1,  1,     22,   8022,2,20070706,2314, 21.3435,-158.2735, 1550,     24,     24.6,  26.0445,  34.9368,2,  34.9360,2,    208.0,2, 26.0390,    207.4,2,  -999.00,9,  -999.00,9,  -999.00,9,  -999.0,-999.000
     33KB193_1,  PRS2,     1,  1,     21,   8021,2,20070706,2314, 21.3435,-158.2735, 1550,     46,     45.7,  24.4743,  34.9802,2,  34.9813,2,    217.7,2, 24.4645,    216.2,2,  -999.00,9,  -999.00,9,  -999.00,9,  -999.0,-999.000
     33KB193_1,  PRS2,     1,  1,     20,   8020,2,20070706,2314, 21.3435,-158.2735, 1550,     60,     60.1,  23.9731,  35.0338,2,  35.0358,2,    215.1,2, 23.9604,    215.1,2,  -999.00,9,  -999.00,9,  -999.00,9,  -999.0,-999.000
     33KB193_1,  PRS2,     1,  1,     19,   8019,2,20070706,2314, 21.3435,-158.2735, 1550,     75,     75.0,  22.8177,  35.0707,2,  35.0657,2,    208.1,2, 22.8025,    208.5,2,  -999.00,9,  -999.00,9,  -999.00,9,  -999.0,-999.000
     33KB193_1,  PRS2,     1,  1,     18,   8018,2,20070706,2314, 21.3435,-158.2735, 1550,    100,    100.5,  21.9851,  35.0957,2,  35.0933,2,    198.2,2, 21.9652,    197.8,2,  -999.00,9,  -999.00,9,  -999.00,9,  -999.0,-999.000
     33KB193_1,  PRS2,     1,  1,     17,   8017,2,20070706,2314, 21.3435,-158.2735, 1550,    114,    115.2,  21.1946,  35.0698,2,  35.0563,2,    191.7,2, 21.1724,    190.5,2,  -999.00,9,  -999.00,9,  -999.00,9,  -999.0,-999.000
     33KB193_1,  PRS2,     1,  1,     16,   8016,2,20070706,2314, 21.3435,-158.2735, 1550,    125,    125.1,  20.6894,  35.0403,2,  35.0441,2,    188.6,2, 20.6657,    191.4,2,  -999.00,9,  -999.00,9,  -999.00,9,  -999.0,-999.000
     33KB193_1,  PRS2,     1,  1,     15,   8015,2,20070706,2314, 21.3435,-158.2735, 1550,    149,    149.1,  18.9329,  34.8796,2,  34.8898,2,    184.8,2, 18.9064,    185.1,2,  -999.00,9,  -999.00,9,  -999.00,9,  -999.0,-999.000
     33KB193_1,  PRS2,     1,  1,     14,   8014,2,20070706,2314, 21.3435,-158.2735, 1550,    175,    175.3,  17.3301,  34.7037,2,  34.6981,2,    184.8,2, 17.3009,    184.7,2,  -999.00,9,  -999.00,9,  -999.00,9,  -999.0,-999.000
     33KB193_1,  PRS2,     1,  1,     13,   8025,2,20070706,2314, 21.3435,-158.2735, 1550,    200,    199.7,  15.5898,  34.5063,2,  34.5101,2,    185.8,2, 15.5589,    185.8,2,  -999.00,9,  -999.00,9,  -999.00,9,  -999.0,-999.000
     33KB193_1,  PRS2,     1,  1,     12,   8012,2,20070706,2314, 21.3435,-158.2735, 1550,    226,    225.1,  14.4652,  34.4042,2,  34.4004,2,    188.2,2, 14.4321,    189.5,2,  -999.00,9,  -999.00,9,  -999.00,9,  -999.0,-999.000
     33KB193_1,  PRS2,     1,  1,     11,   8011,2,20070706,2314, 21.3435,-158.2735, 1550,    250,    250.9,  13.4114,  34.3084,2,  34.3070,2,    186.3,2, 13.3763,    187.4,2,  -999.00,9,  -999.00,9,  -999.00,9,  -999.0,-999.000
     33KB193_1,  PRS2,     1,  1,     10,   8010,2,20070706,2314, 21.3435,-158.2735, 1550,    300,    300.6,  11.3988,  34.1891,2,  34.1889,2,    190.2,2, 11.3611,    190.5,2,  -999.00,9,  -999.00,9,  -999.00,9,  -999.0,-999.000
     33KB193_1,  PRS2,     1,  1,      9,   8009,2,20070706,2314, 21.3435,-158.2735, 1550,    350,    350.4,  10.2347,  34.1459,2,  34.1460,2,    187.6,2, 10.1935,    185.3,2,  -999.00,9,  -999.00,9,  -999.00,9,  -999.0,-999.000
     33KB193_1,  PRS2,     1,  1,      8,   8008,2,20070706,2314, 21.3435,-158.2735, 1550,    399,    400.2,   9.2604,  34.1358,2,  34.1350,2,    157.9,2,  9.2162,    158.3,2,  -999.00,9,  -999.00,9,  -999.00,9,  -999.0,-999.000
     33KB193_1,  PRS2,     1,  1,      7,   8026,2,20070706,2314, 21.3435,-158.2735, 1550,    500,    500.5,   7.2723,  34.1442,2,  34.1452,2,     94.7,2,  7.2240,     93.3,2,  -999.00,9,  -999.00,9,  -999.00,9,  -999.0,-999.000
     33KB193_1,  PRS2,     1,  1,      6,   8006,2,20070706,2314, 21.3435,-158.2735, 1550,    600,    600.2,   5.7914,  34.2411,2,  34.2393,2,     45.5,2,  5.7397,     43.5,2,  -999.00,9,  -999.00,9,  -999.00,9,  -999.0,-999.000
     33KB193_1,  PRS2,     1,  1,      5,   8005,2,20070706,2314, 21.3435,-158.2735, 1550,    699,    699.9,   5.1938,  34.3392,2,  34.3399,2,     34.6,2,  5.1362,     34.6,2,  -999.00,9,  -999.00,9,  -999.00,9,  -999.0,-999.000
     33KB193_1,  PRS2,     1,  1,      4,   8004,2,20070706,2314, 21.3435,-158.2735, 1550,    750,    750.4,   4.8964,  34.3762,2,  34.3711,2,     36.0,2,  4.8360,     36.7,2,  -999.00,9,  -999.00,9,  -999.00,9,  -999.0,-999.000
     33KB193_1,  PRS2,     1,  1,      3,   8003,2,20070706,2314, 21.3435,-158.2735, 1550,    800,    800.6,   4.7822,  34.4147,2,  34.4228,4,     37.6,3,  4.7181,     38.1,2,  -999.00,9,  -999.00,9,  -999.00,9,  -999.0,-999.000
     33KB193_1,  PRS2,     1,  1,      2,   8002,2,20070706,2314, 21.3435,-158.2735, 1550,    900,    900.1,   4.5190,  34.4524,2,  34.4518,2,     40.2,2,  4.4480,     42.9,2,  -999.00,9,  -999.00,9,  -999.00,9,  -999.0,-999.000
     33KB193_1,  PRS2,     1,  1,      1,   8001,2,20070706,2314, 21.3435,-158.2735, 1550,   1020,   1020.0,   4.1284,  34.4976,2,  34.4970,2,     46.0,2,  4.0501,     47.3,2,  -999.00,9,  -999.00,9,  -999.00,9,  -999.0,-999.000
     33KB193_1,  PRS2,     2,  1,     24,   8024,2,20070707,1422, 22.7492,-157.9980, 4747,      8,      8.2,  25.4711,  35.0598,2,  35.0594,2,    208.3,2, 25.4693,    208.5,2,     1.72,2,     0.08,2,     0.02,2,  -999.0,-999.000
     33KB193_1,  PRS2,     2,  1,     23,   8023,2,20070707,1422, 22.7492,-157.9980, 4747,     41,     40.3,  25.4526,  35.0566,2,  35.0563,2,    208.5,2, 25.4438,    207.9,2,     1.35,2,     0.10,2,     0.01,2,  -999.0,-999.000
     33KB193_1,  PRS2,     2,  1,     22,   8022,2,20070707,1422, 22.7492,-157.9980, 4747,     70,     70.2,  24.1754,  35.1023,2,  35.1114,2,    221.6,2, 24.1606,    220.4,2,     1.36,2,     0.11,2,     0.01,2,  -999.0,-999.000
     33KB193_1,  PRS2,     2,  1,     21,   8021,2,20070707,1422, 22.7492,-157.9980, 4747,     90,     90.0,  23.2178,  35.1865,2,  35.1888,2,    216.6,2, 23.1993,    217.4,2,     1.42,2,     0.09,2,     0.01,2,  -999.0,-999.000
     33KB193_1,  PRS2,     2,  1,     20,   8020,2,20070707,1422, 22.7492,-157.9980, 4747,    136,    136.2,  21.3599,  35.1547,2,  35.1543,2,    202.3,2, 21.3335,    201.4,2,     2.57,3,     0.81,2,     0.06,2,  -999.0,-999.000
     33KB193_1,  PRS2,     2,  1,     19,   8019,2,20070707,1422, 22.7492,-157.9980, 4747,    179,    179.9,  19.2429,  34.9892,2,  34.9821,2,    204.6,2, 19.2105,    205.8,2,     2.18,2,     1.60,2,     0.11,3,  -999.0,-999.000
     33KB193_1,  PRS2,     2,  1,     18,   8018,2,20070707,1422, 22.7492,-157.9980, 4747,    244,    244.8,  15.8059,  34.5851,2,  34.5745,2,    194.8,2, 15.7675,    198.2,2,     4.55,2,     5.78,2,     0.41,2,  -999.0,-999.000
     33KB193_1,  PRS2,     2,  1,     17,   8017,2,20070707,1422, 22.7492,-157.9980, 4747,    289,    289.7,  13.5423,  34.3526,2,  34.3533,2,    199.8,2, 13.5015,    200.6,2,     9.46,2,     8.95,2,     0.60,2,  -999.0,-999.000
     33KB193_1,  PRS2,     2,  1,     16,   8016,2,20070707,1422, 22.7492,-157.9980, 4747,    329,    329.5,  11.9938,  34.2381,2,  34.2397,2,    203.2,2, 11.9510,    202.9,2,    10.78,2,    11.67,2,     0.79,2,  -999.0,-999.000
     33KB193_1,  PRS2,     2,  1,     15,   8015,2,20070707,1422, 22.7492,-157.9980, 4747,    375,    374.6,  10.8131,  34.1775,2,  34.1785,2,    193.9,2, 10.7674,    191.7,2,    15.77,2,    15.26,2,     1.05,2,  -999.0,-999.000
     33KB193_1,  PRS2,     2,  1,     14,   8014,2,20070707,1422, 22.7492,-157.9980, 4747,    430,    430.3,   9.3599,  34.1306,2,  34.1311,2,    162.7,2,  9.3119,    162.2,2,    27.02,2,    20.83,2,     1.47,2,  -999.0,-999.000
     33KB193_1,  PRS2,     2,  1,     13,   8025,2,20070707,1422, 22.7492,-157.9980, 4747,    464,    464.5,   8.4070,  34.0983,2,  34.0980,2,    142.2,2,  8.3584,    143.1,2,    33.85,2,    24.72,2,     1.70,2,  -999.0,-999.000
     33KB193_1,  PRS2,     2,  1,     12,   8012,2,20070707,1422, 22.7492,-157.9980, 4747,    496,    496.6,   7.7616,  34.0863,2,  34.0884,2,    123.9,2,  7.7119,    124.4,2,    40.51,2,    27.50,2,     1.97,2,  -999.0,-999.000
     33KB193_1,  PRS2,     2,  1,     11,   8011,2,20070707,1422, 22.7492,-157.9980, 4747,    530,    529.7,   7.0935,  34.0862,2,  34.0885,2,    102.9,2,  7.0431,    102.5,2,    49.14,2,    30.71,2,     2.24,2,  -999.0,-999.000
     33KB193_1,  PRS2,     2,  1,     10,   8010,2,20070707,1422, 22.7492,-157.9980, 4747,    572,    572.2,   6.5807,  34.1423,2,  34.1432,2,     75.4,2,  6.5282,     75.2,2,    60.53,2,    33.95,2,     2.44,2,  -999.0,-999.000
     33KB193_1,  PRS2,     2,  1,      9,   8009,2,20070707,1422, 22.7492,-157.9980, 4747,    604,    604.8,   6.2042,  34.1629,2,  34.1613,2,     63.5,2,  6.1503,     62.9,2,    68.21,2,    35.53,2,     2.57,2,  -999.0,-999.000
     33KB193_1,  PRS2,     2,  1,      8,   8008,2,20070707,1422, 22.7492,-157.9980, 4747,    639,    639.5,   5.8987,  34.1825,2,  34.1819,2,     55.5,2,  5.8430,     54.3,2,    71.15,2,    37.06,2,     2.66,2,  -999.0,-999.000
     33KB193_1,  PRS2,     2,  1,      7,   8026,2,20070707,1422, 22.7492,-157.9980, 4747,    705,    705.1,   5.4102,  34.2684,2,  34.2681,2,     38.4,2,  5.3510,     36.8,2,    81.31,2,    39.53,2,     2.80,2,  -999.0,-999.000
     33KB193_1,  PRS2,     2,  1,      6,   8006,2,20070707,1422, 22.7492,-157.9980, 4747,    750,    750.4,   5.1519,  34.3179,2,  34.3174,2,     33.4,2,  5.0901,     34.0,2,    86.69,2,    40.37,2,     2.92,2,  -999.0,-999.000
     33KB193_1,  PRS2,     2,  1,      5,   8005,2,20070707,1422, 22.7492,-157.9980, 4747,    790,    789.5,   4.9429,  34.3509,2,  34.3513,2,     32.0,2,  4.8789,     33.2,2,    91.58,2,    40.87,2,     2.94,2,  -999.0,-999.000
     33KB193_1,  PRS2,     2,  1,      4,   8004,2,20070707,1422, 22.7492,-157.9980, 4747,    839,    839.5,   4.6877,  34.3749,2,  34.3733,2,     31.3,2,  4.6209,     32.4,2,    96.87,2,    41.52,2,     2.99,2,  -999.0,-999.000
     33KB193_1,  PRS2,     2,  1,      3,   8003,2,20070707,1422, 22.7492,-157.9980, 4747,    889,    888.4,   4.4838,  34.4055,2,  34.4045,2,     33.2,2,  4.4142,     33.0,2,   101.02,2,    41.81,2,     3.00,2,  -999.0,-999.000
     33KB193_1,  PRS2,     2,  1,      2,   8002,2,20070707,1422, 22.7492,-157.9980, 4747,    955,    954.1,   4.2164,  34.4372,2,  34.4392,2,     35.5,2,  4.1430,     37.4,2,   107.35,2,    41.96,2,     3.01,2,  -999.0,-999.000
     33KB193_1,  PRS2,     2,  1,      1,   8001,2,20070707,1422, 22.7492,-157.9980, 4747,   1020,   1020.5,   4.0666,  34.4709,2,  34.4722,2,     41.7,2,  3.9887,     41.7,2,   110.00,2,    41.78,2,     2.99,2,  -999.0,-999.000
     33KB193_1,  PRS2,     2,  2,     24,   8024,2,20070707,1708, 22.7497,-158.0002, 4745,      6,      6.4,  25.4746,  35.0593,2,  35.0604,2,    208.3,2, 25.4732,    208.2,2,     1.17,2,     0.06,2,     0.05,2,  -999.0,-999.000
     33KB193_1,  PRS2,     2,  2,     23,   8023,2,20070707,1708, 22.7497,-158.0002, 4745,    500,    500.0,   7.8951,  34.0932,2,  34.0921,2,    125.0,2,  7.8446,    124.8,2,    84.18,4,    40.37,4,     2.93,4,  -999.0,-999.000
     33KB193_1,  PRS2,     2,  2,     22,   8022,2,20070707,1708, 22.7497,-158.0002, 4745,    749,    749.8,   4.9669,  34.2512,2,  34.2526,2,     32.5,2,  4.9063,     32.6,2,    85.77,2,    40.31,2,     2.94,2,  -999.0,-999.000
     33KB193_1,  PRS2,     2,  2,     21,   8021,2,20070707,1708, 22.7497,-158.0002, 4745,   1001,   1000.2,   4.1111,  34.4604,2,  34.4608,2,     39.2,2,  4.0347,     39.1,2,    92.19,4,    41.40,2,     2.99,2,  -999.0,-999.000
     33KB193_1,  PRS2,     2,  2,     20,   8020,2,20070707,1708, 22.7497,-158.0002, 4745,   1201,   1200.3,   3.6135,  34.5241,2,  34.5231,2,     51.8,2,  3.5244,     52.3,2,   121.76,4,    41.22,2,     2.97,2,  -999.0,-999.000
     33KB193_1,  PRS2,     2,  2,     19,   8019,2,20070707,1708, 22.7497,-158.0002, 4745,   1399,   1398.7,   3.1192,  34.5534,2,  34.5529,2,     59.7,2,  3.0185,     59.3,2,   128.65,2,    41.21,2,     2.94,2,  -999.0,-999.000
     33KB193_1,  PRS2,     2,  2,     18,   8018,2,20070707,1708, 22.7497,-158.0002, 4745,   1600,   1600.1,   2.7212,  34.5798,2,  34.5808,2,     69.2,2,  2.6084,     69.8,2,   137.06,2,    40.66,2,     2.89,2,  -999.0,-999.000
     33KB193_1,  PRS2,     2,  2,     17,   8017,2,20070707,1708, 22.7497,-158.0002, 4745,   1800,   1799.8,   2.3931,  34.6015,2,  34.6014,2,     78.7,2,  2.2679,     78.5,2,   145.17,2,    40.25,2,     2.85,2,  -999.0,-999.000
     33KB193_1,  PRS2,     2,  2,     16,   8016,2,20070707,1708, 22.7497,-158.0002, 4745,   2000,   1999.9,   2.1146,  34.6216,2,  34.6569,4,     87.9,3,  1.9765,     88.6,2,   152.13,2,    39.59,2,     2.79,2,  -999.0,-999.000
     33KB193_1,  PRS2,     2,  2,     15,   8015,2,20070707,1708, 22.7497,-158.0002, 4745,   2198,   2198.9,   1.9551,  34.6351,2,  34.6360,2,     93.3,2,  1.8024,     96.1,2,   155.10,2,    40.50,4,     2.94,4,  -999.0,-999.000
     33KB193_1,  PRS2,     2,  2,     14,   8014,2,20070707,1708, 22.7497,-158.0002, 4745,   2399,   2400.0,   1.8160,  34.6467,2,  34.6472,2,    103.0,2,  1.6481,    103.7,2,   157.02,2,    38.74,2,     2.71,2,  -999.0,-999.000
     33KB193_1,  PRS2,     2,  2,     13,   8025,2,20070707,1708, 22.7497,-158.0002, 4745,   2600,   2600.1,   1.6781,  34.6578,2,  34.6576,2,    110.3,2,  1.4948,    110.6,2,   161.38,3,    38.33,2,     2.67,2,  -999.0,-999.000
     33KB193_1,  PRS2,     2,  2,     12,   8012,2,20070707,1708, 22.7497,-158.0002, 4745,   2800,   2800.0,   1.6021,  34.6668,2,  34.6684,2,    120.2,2,  1.4020,    120.3,2,   158.40,2,    37.53,2,     2.62,2,  -999.0,-999.000
     33KB193_1,  PRS2,     2,  2,     11,   8011,2,20070707,1708, 22.7497,-158.0002, 4745,   3001,   3000.8,   1.5514,  34.6725,2,  34.6716,2,    125.9,2,  1.3334,    125.8,2,   157.84,2,    37.12,2,     2.58,2,  -999.0,-999.000
     33KB193_1,  PRS2,     2,  2,     10,   8010,2,20070707,1708, 22.7497,-158.0002, 4745,   3199,   3198.6,   1.5038,  34.6779,2,  34.6785,2,    131.6,2,  1.2677,    132.2,2,   157.38,2,    36.78,2,     2.55,2,  -999.0,-999.000
     33KB193_1,  PRS2,     2,  2,      9,   8009,2,20070707,1708, 22.7497,-158.0002, 4745,   3398,   3399.4,   1.4818,  34.6815,2,  34.6812,2,    136.0,2,  1.2263,    136.4,2,   156.53,2,    36.61,2,     2.54,2,  -999.0,-999.000
     33KB193_1,  PRS2,     2,  2,      8,   8008,2,20070707,1708, 22.7497,-158.0002, 4745,   3599,   3600.1,   1.4561,  34.6852,2,  34.6850,2,    141.8,2,  1.1808,    141.6,2,   154.48,2,    36.15,2,     2.52,2,  -999.0,-999.000
     33KB193_1,  PRS2,     2,  2,      7,   8026,2,20070707,1708, 22.7497,-158.0002, 4745,   3800,   3799.9,   1.4510,  34.6879,2,  34.6869,2,    145.7,2,  1.1549,    145.0,2,   152.65,2,    35.86,2,     2.49,2,  -999.0,-999.000
     33KB193_1,  PRS2,     2,  2,      6,   8006,2,20070707,1708, 22.7497,-158.0002, 4745,   4001,   4000.3,   1.4534,  34.6894,2,  34.6887,2,    148.2,2,  1.1358,    148.3,2,   151.20,2,    35.77,2,     2.48,2,  -999.0,-999.000
     33KB193_1,  PRS2,     2,  2,      5,   8005,2,20070707,1708, 22.7497,-158.0002, 4745,   4202,   4200.9,   1.4635,  34.6906,2,  34.6904,2,    150.1,2,  1.1235,    149.8,2,   152.80,3,    35.68,2,     2.47,2,  -999.0,-999.000
     33KB193_1,  PRS2,     2,  2,      4,   8004,2,20070707,1708, 22.7497,-158.0002, 4745,   4400,   4400.1,   1.4781,  34.6912,2,  34.6903,2,    151.4,2,  1.1152,    150.5,2,   150.53,2,    35.62,2,     2.47,2,  -999.0,-999.000
     33KB193_1,  PRS2,     2,  2,      3,   8003,2,20070707,1708, 22.7497,-158.0002, 4745,   4500,   4499.9,   1.4859,  34.6915,2,  34.6916,2,    151.9,2,  1.1113,    152.0,2,   152.20,3,    35.64,2,     2.47,2,  -999.0,-999.000
     33KB193_1,  PRS2,     2,  2,      2,   8002,2,20070707,1708, 22.7497,-158.0002, 4745,   4599,   4599.1,   1.4901,  34.6920,2,  34.6922,2,    152.8,2,  1.1040,    153.3,2,   148.97,2,    34.49,4,     2.40,4,  -999.0,-999.000
     33KB193_1,  PRS2,     2,  2,      1,   8001,2,20070707,1708, 22.7497,-158.0002, 4745,   4806,   4805.0,   1.5056,  34.6927,2,  34.6946,2,    154.2,2,  1.0946,    154.3,2,   148.30,2,    35.63,2,     2.52,4,  -999.0,-999.000