BOTTLE,20090923WHPSIOMYS
EXPOCODE,SECT_ID,STNNBR,CASTNO,SAMPNO,BTLNBR,BTLNBR_FLAG_W,DATE,TIME,LATITUDE,LONGITUDE,DEPTH,CTDRAW,CTDPRS,CTDTMP,CTDSAL,CTDSAL_FLAG_W,SALNTY,SALNTY_FLAG_W,CTDOXY,CTDOXY_FLAG_W,THETA,OXYGEN,OXYGEN_FLAG_W,SILCAT,SILCAT_FLAG_W,NO2+NO3,NO2+NO3_FLAG_W,PHSPHT,PHSPHT_FLAG_W,REVPRS,REVTMP
,,,,,,,,,,,,,DBAR,ITS-90,PSS-78,,PSS-78,,UMOL/KG,,ITS-90,UMOL/KG,,UMOL/KG,,UMOL/KG,,UMOL/KG,,DBAR,DEG C
     33KB193_1,  PRS2,     2,  3,     24,   8024,2,20070707,2352, 22.7508,-157.9778, 4743,      6,      6.5,  25.6271,  35.0647,2,-999.0000,5,    208.8,1, 25.6256,   -999.0,9,  -999.00,9,  -999.00,9,  -999.00,9,  -999.0,-999.000
     33KB193_1,  PRS2,     2,  3,     23,   8023,2,20070707,2352, 22.7508,-157.9778, 4743,      7,      6.7,  25.7333,  35.0682,2,-999.0000,5,    208.7,1, 25.7318,   -999.0,9,  -999.00,9,  -999.00,9,  -999.00,9,  -999.0,-999.000
     33KB193_1,  PRS2,     2,  3,     21,   8021,2,20070707,2352, 22.7508,-157.9778, 4743,      6,      6.7,  25.7134,  35.0670,2,-999.0000,5,    208.7,1, 25.7119,   -999.0,9,  -999.00,9,  -999.00,9,  -999.00,9,  -999.0,-999.000
     33KB193_1,  PRS2,     2,  3,     20,   8020,2,20070707,2352, 22.7508,-157.9778, 4743,      7,      6.7,  25.6934,  35.0674,2,  35.0642,2,    208.7,1, 25.6919,   -999.0,9,  -999.00,9,  -999.00,9,  -999.00,9,  -999.0,-999.000
     33KB193_1,  PRS2,     2,  3,     22,   8022,2,20070707,2352, 22.7508,-157.9778, 4743,      7,      6.8,  25.7410,  35.0685,2,-999.0000,5,    208.7,1, 25.7396,   -999.0,9,  -999.00,9,  -999.00,9,  -999.00,9,  -999.0,-999.000
     33KB193_1,  PRS2,     2,  3,     19,   8019,2,20070707,2352, 22.7508,-157.9778, 4743,     25,     25.3,  25.5044,  35.0609,2,  35.0608,2,    208.7,1, 25.4989,   -999.0,9,  -999.00,9,  -999.00,9,  -999.00,9,  -999.0,-999.000
     33KB193_1,  PRS2,     2,  3,     18,   8018,2,20070707,2352, 22.7508,-157.9778, 4743,     45,     46.3,  25.4838,  35.0601,2,  35.0608,2,    209.1,1, 25.4736,   -999.0,9,  -999.00,9,  -999.00,9,  -999.00,9,  -999.0,-999.000
     33KB193_1,  PRS2,     2,  3,     17,   8017,2,20070707,2352, 22.7508,-157.9778, 4743,     76,     76.0,  23.4582,  35.1822,2,  35.1823,2,    218.0,1, 23.4424,   -999.0,9,  -999.00,9,  -999.00,9,  -999.00,9,  -999.0,-999.000
     33KB193_1,  PRS2,     2,  3,     15,   8015,2,20070707,2352, 22.7508,-157.9778, 4743,    101,    100.3,  22.6240,  35.2026,2,  35.2022,2,    211.7,1, 22.6037,   -999.0,9,  -999.00,9,  -999.00,9,  -999.00,9,  -999.0,-999.000
     33KB193_1,  PRS2,     2,  3,     16,   8016,2,20070707,2352, 22.7508,-157.9778, 4743,    100,    100.4,  22.6240,  35.2025,2,-999.0000,5,    211.7,1, 22.6037,   -999.0,9,  -999.00,9,  -999.00,9,  -999.00,9,  -999.0,-999.000
     33KB193_1,  PRS2,     2,  3,     14,   8014,2,20070707,2352, 22.7508,-157.9778, 4743,    124,    124.4,  21.8931,  35.1931,2,-999.0000,5,    204.7,1, 21.8685,   -999.0,9,  -999.00,9,  -999.00,9,  -999.00,9,  -999.0,-999.000
     33KB193_1,  PRS2,     2,  3,     13,   8025,2,20070707,2352, 22.7508,-157.9778, 4743,    125,    124.4,  21.8922,  35.1929,2,  35.1916,2,    204.7,1, 21.8677,   -999.0,9,  -999.00,9,  -999.00,9,  -999.00,9,  -999.0,-999.000
     33KB193_1,  PRS2,     2,  3,     12,   8012,2,20070707,2352, 22.7508,-157.9778, 4743,    150,    150.2,  21.0662,  35.1280,2,-999.0000,5,    198.5,1, 21.0374,   -999.0,9,  -999.00,9,  -999.00,9,  -999.00,9,  -999.0,-999.000
     33KB193_1,  PRS2,     2,  3,     11,   8011,2,20070707,2352, 22.7508,-157.9778, 4743,    150,    150.2,  21.0651,  35.1277,2,  35.1282,2,    197.9,1, 21.0363,   -999.0,9,  -999.00,9,  -999.00,9,  -999.00,9,  -999.0,-999.000
     33KB193_1,  PRS2,     2,  3,     10,   8010,2,20070707,2352, 22.7508,-157.9778, 4743,    201,    200.1,  18.5804,  34.9126,2,-999.0000,5,    210.7,1, 18.5453,   -999.0,9,  -999.00,9,  -999.00,9,  -999.00,9,  -999.0,-999.000
     33KB193_1,  PRS2,     2,  3,      9,   8009,2,20070707,2352, 22.7508,-157.9778, 4743,    200,    200.5,  18.5436,  34.9058,2,-999.0000,5,    210.9,1, 18.5084,   -999.0,9,  -999.00,9,  -999.00,9,  -999.00,9,  -999.0,-999.000
     33KB193_1,  PRS2,     2,  3,      8,   8008,2,20070707,2352, 22.7508,-157.9778, 4743,    251,    250.4,  15.9409,  34.6128,2,  34.6111,2,    208.2,1, 15.9014,   -999.0,9,  -999.00,9,  -999.00,9,  -999.00,9,  -999.0,-999.000
     33KB193_1,  PRS2,     2,  3,      6,   8006,2,20070707,2352, 22.7508,-157.9778, 4743,    300,    299.9,  13.6442,  34.3714,2,-999.0000,5,    199.9,1, 13.6017,   -999.0,9,  -999.00,9,  -999.00,9,  -999.00,9,  -999.0,-999.000
     33KB193_1,  PRS2,     2,  3,      7,   8026,2,20070707,2352, 22.7508,-157.9778, 4743,    299,    300.0,  13.6438,  34.3712,2,-999.0000,5,    200.0,1, 13.6013,   -999.0,9,  -999.00,9,  -999.00,9,  -999.00,9,  -999.0,-999.000
     33KB193_1,  PRS2,     2,  3,      5,   8005,4,20070707,2352, 22.7508,-157.9778, 4743,    349,    350.0,  11.9627,  34.2361,2,-999.0000,5,    202.9,1, 11.9172,   -999.0,9,  -999.00,9,  -999.00,9,  -999.00,9,  -999.0,-999.000
     33KB193_1,  PRS2,     2,  3,      4,   8004,2,20070707,2352, 22.7508,-157.9778, 4743,    500,    500.5,   7.9194,  34.0940,2,-999.0000,5,    125.8,1,  7.8687,   -999.0,9,  -999.00,9,  -999.00,9,  -999.00,9,  -999.0,-999.000
     33KB193_1,  PRS2,     2,  3,      3,   8003,2,20070707,2352, 22.7508,-157.9778, 4743,    525,    524.6,   7.4926,  34.0861,2,  34.0858,2,    116.1,1,  7.4411,   -999.0,9,  -999.00,9,  -999.00,9,  -999.00,9,  -999.0,-999.000
     33KB193_1,  PRS2,     2,  3,      2,   8002,2,20070707,2352, 22.7508,-157.9778, 4743,    771,    770.5,   4.8780,  34.3478,2,-999.0000,5,     31.4,1,  4.8160,   -999.0,9,  -999.00,9,  -999.00,9,  -999.00,9,  -999.0,-999.000
     33KB193_1,  PRS2,     2,  3,      1,   8001,2,20070707,2352, 22.7508,-157.9778, 4743,   1022,   1021.2,   4.0519,  34.4773,2,  34.4769,2,     42.9,1,  3.9741,   -999.0,9,  -999.00,9,  -999.00,9,  -999.00,9,  -999.0,-999.000
     33KB193_1,  PRS2,     2,  4,     24,   8024,2,20070708,0303, 22.7358,-158.0977, 4766,      6,      6.3,  25.6303,  35.0620,2,-999.0000,5,    209.1,1, 25.6289,   -999.0,9,  -999.00,9,  -999.00,9,  -999.00,9,  -999.0,-999.000
     33KB193_1,  PRS2,     2,  4,     23,   8023,2,20070708,0303, 22.7358,-158.0977, 4766,      6,      6.3,  25.6334,  35.0622,2,  35.0618,2,    209.2,1, 25.6320,   -999.0,9,  -999.00,9,  -999.00,9,  -999.00,9,  -999.0,-999.000
     33KB193_1,  PRS2,     2,  4,     22,   8022,2,20070708,0303, 22.7358,-158.0977, 4766,     14,     14.9,  25.6278,  35.0605,2,  35.0592,2,    209.2,1, 25.6245,   -999.0,9,  -999.00,9,  -999.00,9,  -999.00,9,  -999.0,-999.000
     33KB193_1,  PRS2,     2,  4,     21,   8021,2,20070708,0303, 22.7358,-158.0977, 4766,     24,     24.9,  25.4488,  35.0553,2,-999.0000,5,    209.1,1, 25.4433,   -999.0,9,  -999.00,9,  -999.00,9,  -999.00,9,  -999.0,-999.000
     33KB193_1,  PRS2,     2,  4,     20,   8020,2,20070708,0303, 22.7358,-158.0977, 4766,     25,     24.9,  25.4488,  35.0553,2,  35.0539,2,    209.2,1, 25.4433,   -999.0,9,  -999.00,9,  -999.00,9,  -999.00,9,  -999.0,-999.000
     33KB193_1,  PRS2,     2,  4,     19,   8019,2,20070708,0303, 22.7358,-158.0977, 4766,     36,     35.5,  25.4314,  35.0547,2,  35.0581,2,    209.3,1, 25.4236,   -999.0,9,  -999.00,9,  -999.00,9,  -999.00,9,  -999.0,-999.000
     33KB193_1,  PRS2,     2,  4,     18,   8018,2,20070708,0303, 22.7358,-158.0977, 4766,     35,     35.5,  25.4315,  35.0547,2,  35.0537,2,    209.3,1, 25.4237,   -999.0,9,  -999.00,9,  -999.00,9,  -999.00,9,  -999.0,-999.000
     33KB193_1,  PRS2,     2,  4,     17,   8017,2,20070708,0303, 22.7358,-158.0977, 4766,     46,     45.7,  25.3867,  35.0549,2,-999.0000,5,    209.8,1, 25.3767,   -999.0,9,  -999.00,9,  -999.00,9,  -999.00,9,  -999.0,-999.000
     33KB193_1,  PRS2,     2,  4,     16,   8016,2,20070708,0303, 22.7358,-158.0977, 4766,     45,     45.8,  25.3867,  35.0548,2,-999.0000,5,    209.9,1, 25.3767,   -999.0,9,  -999.00,9,  -999.00,9,  -999.00,9,  -999.0,-999.000
     33KB193_1,  PRS2,     2,  4,     15,   8015,2,20070708,0303, 22.7358,-158.0977, 4766,     46,     45.8,  25.3864,  35.0549,2,  35.0573,2,    210.0,1, 25.3764,   -999.0,9,  -999.00,9,  -999.00,9,  -999.00,9,  -999.0,-999.000
     33KB193_1,  PRS2,     2,  4,     14,   8014,2,20070708,0303, 22.7358,-158.0977, 4766,     59,     59.8,  24.2376,  35.1184,2,  35.1163,2,    222.0,1, 24.2249,   -999.0,9,  -999.00,9,  -999.00,9,  -999.00,9,  -999.0,-999.000
     33KB193_1,  PRS2,     2,  4,     12,   8012,2,20070708,0303, 22.7358,-158.0977, 4766,     76,     75.5,  23.6301,  35.1364,2,  35.1364,2,    215.9,1, 23.6144,   -999.0,9,  -999.00,9,  -999.00,9,  -999.00,9,  -999.0,-999.000
     33KB193_1,  PRS2,     2,  4,     13,   8025,2,20070708,0303, 22.7358,-158.0977, 4766,     75,     75.9,  23.6228,  35.1361,2,-999.0000,5,    216.0,1, 23.6071,   -999.0,9,  -999.00,9,  -999.00,9,  -999.00,9,  -999.0,-999.000
     33KB193_1,  PRS2,     2,  4,     11,   8011,2,20070708,0303, 22.7358,-158.0977, 4766,    100,    100.1,  23.0282,  35.1888,2,-999.0000,5,    208.3,1, 23.0077,   -999.0,9,  -999.00,9,  -999.00,9,  -999.00,9,  -999.0,-999.000
     33KB193_1,  PRS2,     2,  4,      9,   8009,2,20070708,0303, 22.7358,-158.0977, 4766,    100,    100.1,  23.0287,  35.1887,2,  35.1880,2,    208.2,1, 23.0083,   -999.0,9,  -999.00,9,  -999.00,9,  -999.00,9,  -999.0,-999.000
     33KB193_1,  PRS2,     2,  4,     10,   8010,2,20070708,0303, 22.7358,-158.0977, 4766,    101,    100.2,  23.0273,  35.1887,2,-999.0000,5,    208.2,1, 23.0068,   -999.0,9,  -999.00,9,  -999.00,9,  -999.00,9,  -999.0,-999.000
     33KB193_1,  PRS2,     2,  4,      8,   8008,2,20070708,0303, 22.7358,-158.0977, 4766,    125,    125.0,  22.4191,  35.2087,2,-999.0000,5,    212.1,1, 22.3940,   -999.0,9,  -999.00,9,  -999.00,9,  -999.00,9,  -999.0,-999.000
     33KB193_1,  PRS2,     2,  4,      7,   8026,2,20070708,0303, 22.7358,-158.0977, 4766,    125,    125.1,  22.4192,  35.2089,2,  35.2101,2,    211.9,1, 22.3941,   -999.0,9,  -999.00,9,  -999.00,9,  -999.00,9,  -999.0,-999.000
     33KB193_1,  PRS2,     2,  4,      5,   8005,2,20070708,0303, 22.7358,-158.0977, 4766,    150,    150.0,  21.5711,  35.1777,2,  35.1778,2,    196.6,1, 21.5418,   -999.0,9,  -999.00,9,  -999.00,9,  -999.00,9,  -999.0,-999.000
     33KB193_1,  PRS2,     2,  4,      6,   8006,2,20070708,0303, 22.7358,-158.0977, 4766,    150,    150.1,  21.5714,  35.1775,2,-999.0000,5,    197.4,1, 21.5421,   -999.0,9,  -999.00,9,  -999.00,9,  -999.00,9,  -999.0,-999.000
     33KB193_1,  PRS2,     2,  4,      4,   8004,2,20070708,0303, 22.7358,-158.0977, 4766,    174,    174.9,  20.4771,  35.1012,2,-999.0000,5,    190.9,1, 20.4442,   -999.0,9,  -999.00,9,  -999.00,9,  -999.00,9,  -999.0,-999.000
     33KB193_1,  PRS2,     2,  4,      3,   8003,2,20070708,0303, 22.7358,-158.0977, 4766,    175,    174.9,  20.4765,  35.1009,2,  35.1089,2,    190.6,1, 20.4436,   -999.0,9,  -999.00,9,  -999.00,9,  -999.00,9,  -999.0,-999.000
     33KB193_1,  PRS2,     2,  4,      2,   8002,2,20070708,0303, 22.7358,-158.0977, 4766,    517,    517.0,   7.2392,  34.0785,2,  34.0827,2,    108.9,1,  7.1894,   -999.0,9,  -999.00,9,  -999.00,9,  -999.00,9,  -999.0,-999.000
     33KB193_1,  PRS2,     2,  4,      1,   8001,2,20070708,0303, 22.7358,-158.0977, 4766,   1021,   1020.9,   3.9827,  34.4697,2,  34.4701,2,     39.9,1,  3.9055,   -999.0,9,  -999.00,9,  -999.00,9,  -999.00,9,  -999.0,-999.000
     33KB193_1,  PRS2,     2,  5,     22,   8022,2,20070708,0600, 22.7427,-158.0703, 4765,      6,      6.4,  25.5717,  35.0632,2,-999.0000,5,    208.7,1, 25.5703,   -999.0,9,  -999.00,9,  -999.00,9,  -999.00,9,  -999.0,-999.000
     33KB193_1,  PRS2,     2,  5,     23,   8023,2,20070708,0600, 22.7427,-158.0703, 4765,      6,      6.5,  25.5709,  35.0634,2,-999.0000,5,    208.7,1, 25.5695,   -999.0,9,  -999.00,9,  -999.00,9,  -999.00,9,  -999.0,-999.000
     33KB193_1,  PRS2,     2,  5,     21,   8021,2,20070708,0600, 22.7427,-158.0703, 4765,      7,      6.5,  25.5722,  35.0633,2,  35.0624,2,    208.7,1, 25.5707,   -999.0,9,  -999.00,9,  -999.00,9,  -999.00,9,  -999.0,-999.000
     33KB193_1,  PRS2,     2,  5,     20,   8020,2,20070708,0600, 22.7427,-158.0703, 4765,     26,     25.6,  25.5584,  35.0610,2,-999.0000,5,    208.7,1, 25.5528,   -999.0,9,  -999.00,9,  -999.00,9,  -999.00,9,  -999.0,-999.000
     33KB193_1,  PRS2,     2,  5,     19,   8019,2,20070708,0600, 22.7427,-158.0703, 4765,     25,     25.8,  25.5552,  35.0605,2,  35.0606,2,    208.7,1, 25.5495,   -999.0,9,  -999.00,9,  -999.00,9,  -999.00,9,  -999.0,-999.000
     33KB193_1,  PRS2,     2,  5,     18,   8018,2,20070708,0600, 22.7427,-158.0703, 4765,     45,     45.1,  25.4716,  35.0571,2,-999.0000,5,    208.7,1, 25.4617,   -999.0,9,  -999.00,9,  -999.00,9,  -999.00,9,  -999.0,-999.000
     33KB193_1,  PRS2,     2,  5,     17,   8017,2,20070708,0600, 22.7427,-158.0703, 4765,     45,     45.1,  25.4717,  35.0571,2,  35.0577,2,    208.7,1, 25.4618,   -999.0,9,  -999.00,9,  -999.00,9,  -999.00,9,  -999.0,-999.000
     33KB193_1,  PRS2,     2,  5,     16,   8016,2,20070708,0600, 22.7427,-158.0703, 4765,     60,     60.2,  25.2698,  35.0778,2,  35.0825,2,    210.1,1, 25.2566,   -999.0,9,  -999.00,9,  -999.00,9,  -999.00,9,  -999.0,-999.000
     33KB193_1,  PRS2,     2,  5,     15,   8015,2,20070708,0600, 22.7427,-158.0703, 4765,     75,     75.2,  23.9270,  35.1486,2,-999.0000,5,    220.9,1, 23.9112,   -999.0,9,  -999.00,9,  -999.00,9,  -999.00,9,  -999.0,-999.000
     33KB193_1,  PRS2,     2,  5,     14,   8014,2,20070708,0600, 22.7427,-158.0703, 4765,     75,     75.2,  23.9270,  35.1486,2,  35.1498,2,    220.8,1, 23.9112,   -999.0,9,  -999.00,9,  -999.00,9,  -999.00,9,  -999.0,-999.000
     33KB193_1,  PRS2,     2,  5,     13,   8025,2,20070708,0600, 22.7427,-158.0703, 4765,     85,     85.6,  23.4362,  35.1757,2,  35.1746,2,    218.6,1, 23.4185,   -999.0,9,  -999.00,9,  -999.00,9,  -999.00,9,  -999.0,-999.000
     33KB193_1,  PRS2,     2,  5,     11,   8011,2,20070708,0600, 22.7427,-158.0703, 4765,    101,    100.3,  22.8868,  35.1875,2,  35.1878,2,    208.5,1, 22.8664,   -999.0,9,  -999.00,9,  -999.00,9,  -999.00,9,  -999.0,-999.000
     33KB193_1,  PRS2,     2,  5,     12,   8012,2,20070708,0600, 22.7427,-158.0703, 4765,    101,    100.5,  22.8600,  35.1873,2,-999.0000,5,    208.6,1, 22.8396,   -999.0,9,  -999.00,9,  -999.00,9,  -999.00,9,  -999.0,-999.000
     33KB193_1,  PRS2,     2,  5,     10,   8010,2,20070708,0600, 22.7427,-158.0703, 4765,    117,    115.9,  22.4536,  35.1956,2,  35.1961,2,    203.3,1, 22.4303,   -999.0,9,  -999.00,9,  -999.00,9,  -999.00,9,  -999.0,-999.000
     33KB193_1,  PRS2,     2,  5,      9,   8009,2,20070708,0600, 22.7427,-158.0703, 4765,    124,    124.9,  22.1295,  35.1830,2,-999.0000,5,    198.1,1, 22.1047,   -999.0,9,  -999.00,9,  -999.00,9,  -999.00,9,  -999.0,-999.000
     33KB193_1,  PRS2,     2,  5,      8,   8008,2,20070708,0600, 22.7427,-158.0703, 4765,    125,    125.2,  22.1186,  35.1843,2,  35.1819,2,    197.6,1, 22.0938,   -999.0,9,  -999.00,9,  -999.00,9,  -999.00,9,  -999.0,-999.000
     33KB193_1,  PRS2,     2,  5,      7,   8026,2,20070708,0600, 22.7427,-158.0703, 4765,    136,    135.6,  21.6675,  35.1700,2,  35.1695,2,    193.5,1, 21.6410,   -999.0,9,  -999.00,9,  -999.00,9,  -999.00,9,  -999.0,-999.000
     33KB193_1,  PRS2,     2,  5,      6,   8006,2,20070708,0600, 22.7427,-158.0703, 4765,    150,    150.4,  21.0854,  35.1423,2,-999.0000,5,    192.2,1, 21.0566,   -999.0,9,  -999.00,9,  -999.00,9,  -999.00,9,  -999.0,-999.000
     33KB193_1,  PRS2,     2,  5,      5,   8005,2,20070708,0600, 22.7427,-158.0703, 4765,    151,    150.5,  21.0826,  35.1421,2,  35.1417,2,    192.3,1, 21.0537,   -999.0,9,  -999.00,9,  -999.00,9,  -999.00,9,  -999.0,-999.000
     33KB193_1,  PRS2,     2,  5,      4,   8004,2,20070708,0600, 22.7427,-158.0703, 4765,    175,    175.3,  20.4286,  35.1121,2,-999.0000,5,    191.9,1, 20.3957,   -999.0,9,  -999.00,9,  -999.00,9,  -999.00,9,  -999.0,-999.000
     33KB193_1,  PRS2,     2,  5,      3,   8003,2,20070708,0600, 22.7427,-158.0703, 4765,    175,    175.3,  20.4296,  35.1116,2,  35.1110,2,    192.0,1, 20.3967,   -999.0,9,  -999.00,9,  -999.00,9,  -999.00,9,  -999.0,-999.000
     33KB193_1,  PRS2,     2,  5,      2,   8002,2,20070708,0600, 22.7427,-158.0703, 4765,    523,    523.0,   7.3975,  34.0818,2,  34.0807,2,    111.6,1,  7.3466,   -999.0,9,  -999.00,9,  -999.00,9,  -999.00,9,  -999.0,-999.000
     33KB193_1,  PRS2,     2,  5,      1,   8001,2,20070708,0600, 22.7427,-158.0703, 4765,   1020,   1020.2,   3.9515,  34.4711,2,  34.4697,2,     39.1,1,  3.8746,   -999.0,9,  -999.00,9,  -999.00,9,  -999.00,9,  -999.0,-999.000