BOTTLE,20090923WHPSIOMYS
EXPOCODE,SECT_ID,STNNBR,CASTNO,SAMPNO,BTLNBR,BTLNBR_FLAG_W,DATE,TIME,LATITUDE,LONGITUDE,DEPTH,CTDRAW,CTDPRS,CTDTMP,CTDSAL,CTDSAL_FLAG_W,SALNTY,SALNTY_FLAG_W,CTDOXY,CTDOXY_FLAG_W,THETA,OXYGEN,OXYGEN_FLAG_W,SILCAT,SILCAT_FLAG_W,NO2+NO3,NO2+NO3_FLAG_W,PHSPHT,PHSPHT_FLAG_W,REVPRS,REVTMP
,,,,,,,,,,,,,DBAR,ITS-90,PSS-78,,PSS-78,,UMOL/KG,,ITS-90,UMOL/KG,,UMOL/KG,,UMOL/KG,,UMOL/KG,,DBAR,DEG C
     33KB193_1,  PRS2,     2,  6,     24,   8024,2,20070708,0903, 22.7480,-158.0133, 4748,      7,      6.2,  25.6136,  35.0650,2,  35.0648,2,    208.6,2, 25.6123,   -999.0,5,  -999.00,9,  -999.00,9,  -999.00,9,  -999.0,-999.000
     33KB193_1,  PRS2,     2,  6,     23,   8023,2,20070708,0903, 22.7480,-158.0133, 4748,      6,      6.3,  25.6137,  35.0650,2,  35.0655,2,    208.6,2, 25.6123,    210.4,3,  -999.00,9,  -999.00,9,  -999.00,9,  -999.0,-999.000
     33KB193_1,  PRS2,     2,  6,     22,   8022,2,20070708,0903, 22.7480,-158.0133, 4748,     14,     14.6,  25.6113,  35.0653,2,  35.0650,2,    208.5,2, 25.6081,   -999.0,5,  -999.00,9,  -999.00,9,  -999.00,9,  -999.0,-999.000
     33KB193_1,  PRS2,     2,  6,     21,   8021,2,20070708,0903, 22.7480,-158.0133, 4748,     25,     24.8,  25.6109,  35.0645,2,  35.0667,2,    208.5,2, 25.6055,   -999.0,5,  -999.00,9,  -999.00,9,  -999.00,9,  -999.0,-999.000
     33KB193_1,  PRS2,     2,  6,     20,   8020,2,20070708,0903, 22.7480,-158.0133, 4748,     25,     24.9,  25.6129,  35.0645,2,  35.0636,2,    208.5,2, 25.6074,   -999.0,5,  -999.00,9,  -999.00,9,  -999.00,9,  -999.0,-999.000
     33KB193_1,  PRS2,     2,  6,     19,   8019,2,20070708,0903, 22.7480,-158.0133, 4748,     25,     24.9,  25.6137,  35.0646,2,  35.0648,2,    208.6,2, 25.6082,    208.7,2,  -999.00,9,  -999.00,9,  -999.00,9,  -999.0,-999.000
     33KB193_1,  PRS2,     2,  6,     18,   8018,2,20070708,0903, 22.7480,-158.0133, 4748,     34,     35.0,  25.5541,  35.0620,2,  35.0657,2,    208.8,2, 25.5464,   -999.0,5,  -999.00,9,  -999.00,9,  -999.00,9,  -999.0,-999.000
     33KB193_1,  PRS2,     2,  6,     17,   8017,2,20070708,0903, 22.7480,-158.0133, 4748,     44,     45.0,  25.5316,  35.0601,2,  35.0612,2,    208.8,2, 25.5217,    211.5,3,  -999.00,9,  -999.00,9,  -999.00,9,  -999.0,-999.000
     33KB193_1,  PRS2,     2,  6,     16,   8016,2,20070708,0903, 22.7480,-158.0133, 4748,     60,     59.9,  25.2363,  35.1266,2,  35.1209,2,    213.3,2, 25.2232,   -999.0,5,  -999.00,9,  -999.00,9,  -999.00,9,  -999.0,-999.000
     33KB193_1,  PRS2,     2,  6,     15,   8015,2,20070708,0903, 22.7480,-158.0133, 4748,     75,     74.8,  23.9619,  35.1676,2,  35.1681,2,    219.5,2, 23.9462,    220.7,2,  -999.00,9,  -999.00,9,  -999.00,9,  -999.0,-999.000
     33KB193_1,  PRS2,     2,  6,     14,   8014,2,20070708,0903, 22.7480,-158.0133, 4748,     85,     85.2,  23.7287,  35.2004,2,  35.1975,2,    218.9,2, 23.7109,    218.6,2,  -999.00,9,  -999.00,9,  -999.00,9,  -999.0,-999.000
     33KB193_1,  PRS2,     2,  6,     13,   8025,2,20070708,0903, 22.7480,-158.0133, 4748,     90,     89.9,  23.4986,  35.2121,2,  35.2117,2,    217.7,2, 23.4800,   -999.0,5,  -999.00,9,  -999.00,9,  -999.00,9,  -999.0,-999.000
     33KB193_1,  PRS2,     2,  6,     12,   8012,2,20070708,0903, 22.7480,-158.0133, 4748,    100,    100.5,  23.0597,  35.1970,2,  35.1957,2,    215.6,2, 23.0392,    215.5,2,  -999.00,9,  -999.00,9,  -999.00,9,  -999.0,-999.000
     33KB193_1,  PRS2,     2,  6,     11,   8011,2,20070708,0903, 22.7480,-158.0133, 4748,    110,    110.3,  22.8308,  35.2050,2,  35.2036,2,    214.4,2, 22.8084,   -999.0,5,  -999.00,9,  -999.00,9,  -999.00,9,  -999.0,-999.000
     33KB193_1,  PRS2,     2,  6,     10,   8010,2,20070708,0903, 22.7480,-158.0133, 4748,    116,    115.5,  22.7882,  35.2058,2,  35.2207,4,    215.0,3, 22.7648,    215.9,2,  -999.00,9,  -999.00,9,  -999.00,9,  -999.0,-999.000
     33KB193_1,  PRS2,     2,  6,      9,   8009,2,20070708,0903, 22.7480,-158.0133, 4748,    126,    125.2,  22.4909,  35.2077,2,  35.2071,2,    213.3,2, 22.4657,    212.6,2,  -999.00,9,  -999.00,9,  -999.00,9,  -999.0,-999.000
     33KB193_1,  PRS2,     2,  6,      8,   8008,2,20070708,0903, 22.7480,-158.0133, 4748,    129,    129.5,  22.3103,  35.2035,2,  35.2010,2,    210.3,2, 22.2844,   -999.0,5,  -999.00,9,  -999.00,9,  -999.00,9,  -999.0,-999.000
     33KB193_1,  PRS2,     2,  6,      7,   8026,2,20070708,0903, 22.7480,-158.0133, 4748,    149,    149.7,  21.5691,  35.1972,2,  35.1851,3,    201.4,3, 21.5399,    201.7,2,  -999.00,9,  -999.00,9,  -999.00,9,  -999.0,-999.000
     33KB193_1,  PRS2,     2,  6,      6,   8006,2,20070708,0903, 22.7480,-158.0133, 4748,    164,    164.9,  20.8711,  35.1482,2,  35.1439,2,    196.7,2, 20.8397,    199.4,2,  -999.00,9,  -999.00,9,  -999.00,9,  -999.0,-999.000
     33KB193_1,  PRS2,     2,  6,      5,   8005,2,20070708,0903, 22.7480,-158.0133, 4748,    176,    175.6,  20.4256,  35.1116,2,  35.1122,2,    200.4,2, 20.3926,    201.4,2,  -999.00,9,  -999.00,9,  -999.00,9,  -999.0,-999.000
     33KB193_1,  PRS2,     2,  6,      4,   8004,2,20070708,0903, 22.7480,-158.0133, 4748,    199,    199.7,  19.2300,  34.9843,2,  34.9728,2,    201.8,2, 19.1941,    204.5,2,  -999.00,9,  -999.00,9,  -999.00,9,  -999.0,-999.000
     33KB193_1,  PRS2,     2,  6,      3,   8003,2,20070708,0903, 22.7480,-158.0133, 4748,    501,    500.8,   7.3256,  34.0821,2,  34.0831,2,    110.6,2,  7.2771,    111.3,2,  -999.00,9,  -999.00,9,  -999.00,9,  -999.0,-999.000
     33KB193_1,  PRS2,     2,  6,      2,   8002,2,20070708,0903, 22.7480,-158.0133, 4748,    820,    819.8,   4.6060,  34.3137,2,  34.3170,2,     27.3,2,  4.5415,     27.3,2,  -999.00,9,  -999.00,9,  -999.00,9,  -999.0,-999.000
     33KB193_1,  PRS2,     2,  6,      1,   8001,2,20070708,0903, 22.7480,-158.0133, 4748,   1020,   1020.1,   4.0373,  34.4722,2,  34.4703,2,     41.1,2,  3.9597,     40.6,2,  -999.00,9,  -999.00,9,  -999.00,9,  -999.0,-999.000
     33KB193_1,  PRS2,     2,  7,     22,   8022,2,20070708,1202, 22.7507,-158.0038, 4748,      7,      6.8,  25.5933,  35.0650,2,  35.0679,2,    208.7,1, 25.5917,   -999.0,9,  -999.00,9,  -999.00,9,  -999.00,9,  -999.0,-999.000
     33KB193_1,  PRS2,     2,  7,     23,   8023,2,20070708,1202, 22.7507,-158.0038, 4748,      7,      6.9,  25.5926,  35.0651,2,  35.0642,2,    208.6,1, 25.5910,   -999.0,9,  -999.00,9,  -999.00,9,  -999.00,9,  -999.0,-999.000
     33KB193_1,  PRS2,     2,  7,     24,   8024,2,20070708,1202, 22.7507,-158.0038, 4748,      7,      7.0,  25.5918,  35.0653,2,  35.0653,2,    208.6,1, 25.5903,   -999.0,9,  -999.00,9,  -999.00,9,  -999.00,9,  -999.0,-999.000
     33KB193_1,  PRS2,     2,  7,     20,   8020,2,20070708,1202, 22.7507,-158.0038, 4748,     24,     24.5,  25.6016,  35.0646,2,  35.0653,2,    208.6,1, 25.5962,   -999.0,9,  -999.00,9,  -999.00,9,  -999.00,9,  -999.0,-999.000
     33KB193_1,  PRS2,     2,  7,     19,   8019,2,20070708,1202, 22.7507,-158.0038, 4748,     24,     24.5,  25.5999,  35.0643,2,  35.0754,3,    208.5,1, 25.5945,   -999.0,9,  -999.00,9,  -999.00,9,  -999.00,9,  -999.0,-999.000
     33KB193_1,  PRS2,     2,  7,     21,   8021,2,20070708,1202, 22.7507,-158.0038, 4748,     24,     24.6,  25.6020,  35.0646,2,  35.0652,2,    208.6,1, 25.5966,   -999.0,9,  -999.00,9,  -999.00,9,  -999.00,9,  -999.0,-999.000
     33KB193_1,  PRS2,     2,  7,     18,   8018,2,20070708,1202, 22.7507,-158.0038, 4748,     24,     24.6,  25.5991,  35.0646,2,  35.0675,2,    208.4,1, 25.5936,   -999.0,9,  -999.00,9,  -999.00,9,  -999.00,9,  -999.0,-999.000
     33KB193_1,  PRS2,     2,  7,     17,   8017,2,20070708,1202, 22.7507,-158.0038, 4748,     24,     24.8,  25.6005,  35.0643,2,  35.0653,2,    208.3,1, 25.5950,   -999.0,9,  -999.00,9,  -999.00,9,  -999.00,9,  -999.0,-999.000
     33KB193_1,  PRS2,     2,  7,     16,   8016,2,20070708,1202, 22.7507,-158.0038, 4748,     45,     45.2,  25.5289,  35.0610,2,  35.0608,2,    208.5,1, 25.5190,   -999.0,9,  -999.00,9,  -999.00,9,  -999.00,9,  -999.0,-999.000
     33KB193_1,  PRS2,     2,  7,     15,   8015,2,20070708,1202, 22.7507,-158.0038, 4748,     45,     45.2,  25.5289,  35.0610,2,  35.0620,2,    208.5,1, 25.5190,   -999.0,9,  -999.00,9,  -999.00,9,  -999.00,9,  -999.0,-999.000
     33KB193_1,  PRS2,     2,  7,     14,   8014,2,20070708,1202, 22.7507,-158.0038, 4748,     45,     45.3,  25.5291,  35.0608,2,  35.0612,2,    208.4,1, 25.5191,   -999.0,9,  -999.00,9,  -999.00,9,  -999.00,9,  -999.0,-999.000
     33KB193_1,  PRS2,     2,  7,     12,   8012,2,20070708,1202, 22.7507,-158.0038, 4748,     76,     75.8,  23.6282,  35.2107,2,  35.2117,2,    218.1,1, 23.6124,   -999.0,9,  -999.00,9,  -999.00,9,  -999.00,9,  -999.0,-999.000
     33KB193_1,  PRS2,     2,  7,     13,   8025,2,20070708,1202, 22.7507,-158.0038, 4748,     76,     75.9,  23.6273,  35.2112,2,  35.2160,2,    218.2,1, 23.6115,   -999.0,9,  -999.00,9,  -999.00,9,  -999.00,9,  -999.0,-999.000
     33KB193_1,  PRS2,     2,  7,     11,   8011,2,20070708,1202, 22.7507,-158.0038, 4748,     76,     75.9,  23.6274,  35.2105,2,  35.2111,2,    218.0,1, 23.6116,   -999.0,9,  -999.00,9,  -999.00,9,  -999.00,9,  -999.0,-999.000
     33KB193_1,  PRS2,     2,  7,      9,   8009,2,20070708,1202, 22.7507,-158.0038, 4748,    101,     99.8,  22.7438,  35.2009,2,  35.2002,2,    213.9,1, 22.7236,   -999.0,9,  -999.00,9,  -999.00,9,  -999.00,9,  -999.0,-999.000
     33KB193_1,  PRS2,     2,  7,      8,   8008,2,20070708,1202, 22.7507,-158.0038, 4748,     99,     99.8,  22.7416,  35.2010,2,  35.2002,2,    214.0,1, 22.7214,   -999.0,9,  -999.00,9,  -999.00,9,  -999.00,9,  -999.0,-999.000
     33KB193_1,  PRS2,     2,  7,     10,   8010,2,20070708,1202, 22.7507,-158.0038, 4748,    100,    100.0,  22.7436,  35.2010,2,  35.2046,2,    213.9,1, 22.7233,   -999.0,9,  -999.00,9,  -999.00,9,  -999.00,9,  -999.0,-999.000
     33KB193_1,  PRS2,     2,  7,      6,   8006,2,20070708,1202, 22.7507,-158.0038, 4748,    124,    124.8,  21.8317,  35.1923,2,  35.1868,2,    204.6,1, 21.8071,   -999.0,9,  -999.00,9,  -999.00,9,  -999.00,9,  -999.0,-999.000
     33KB193_1,  PRS2,     2,  7,      5,   8005,2,20070708,1202, 22.7507,-158.0038, 4748,    125,    124.8,  21.8375,  35.1920,2,  35.1831,2,    204.7,1, 21.8130,   -999.0,9,  -999.00,9,  -999.00,9,  -999.00,9,  -999.0,-999.000
     33KB193_1,  PRS2,     2,  7,      7,   8026,2,20070708,1202, 22.7507,-158.0038, 4748,    125,    124.9,  21.8318,  35.1924,2,  35.1953,2,    204.5,1, 21.8072,   -999.0,9,  -999.00,9,  -999.00,9,  -999.00,9,  -999.0,-999.000
     33KB193_1,  PRS2,     2,  7,      4,   8004,2,20070708,1202, 22.7507,-158.0038, 4748,    149,    149.7,  20.7683,  35.1375,2,  35.1333,2,    197.4,1, 20.7399,   -999.0,9,  -999.00,9,  -999.00,9,  -999.00,9,  -999.0,-999.000
     33KB193_1,  PRS2,     2,  7,      3,   8003,2,20070708,1202, 22.7507,-158.0038, 4748,    175,    175.0,  19.5397,  35.0166,2,  35.0155,2,    200.3,1, 19.5079,   -999.0,9,  -999.00,9,  -999.00,9,  -999.00,9,  -999.0,-999.000
     33KB193_1,  PRS2,     2,  7,      2,   8002,2,20070708,1202, 22.7507,-158.0038, 4748,    500,    500.3,   7.3939,  34.0768,2,  34.0815,2,    116.8,1,  7.3452,   -999.0,9,  -999.00,9,  -999.00,9,  -999.00,9,  -999.0,-999.000
     33KB193_1,  PRS2,     2,  7,      1,   8001,2,20070708,1202, 22.7507,-158.0038, 4748,   1021,   1021.3,   4.0658,  34.4566,2,  34.4559,2,     37.3,1,  3.9879,   -999.0,9,  -999.00,9,  -999.00,9,  -999.00,9,  -999.0,-999.000
     33KB193_1,  PRS2,     2,  8,     14,   8014,2,20070708,1401, 22.7497,-158.0005, 4746,     13,     12.3,  25.6157,  35.0664,2,  35.0659,2,    208.2,1, 25.6130,   -999.0,9,  -999.00,9,  -999.00,9,  -999.00,9,  -999.0,-999.000
     33KB193_1,  PRS2,     2,  8,     13,   8025,2,20070708,1401, 22.7497,-158.0005, 4746,     46,     45.4,  25.5457,  35.0623,2,-999.0000,5,    208.7,1, 25.5357,   -999.0,9,  -999.00,9,  -999.00,9,  -999.00,9,  -999.0,-999.000
     33KB193_1,  PRS2,     2,  8,     12,   8012,2,20070708,1401, 22.7497,-158.0005, 4746,     75,     75.0,  23.8003,  35.1957,2,-999.0000,5,    219.3,1, 23.7846,   -999.0,9,  -999.00,9,  -999.00,9,  -999.00,9,  -999.0,-999.000
     33KB193_1,  PRS2,     2,  8,     11,   8011,2,20070708,1401, 22.7497,-158.0005, 4746,     99,     99.7,  22.7725,  35.1939,2,-999.0000,5,    214.4,1, 22.7522,   -999.0,9,  -999.00,9,  -999.00,9,  -999.00,9,  -999.0,-999.000
     33KB193_1,  PRS2,     2,  8,     10,   8010,2,20070708,1401, 22.7497,-158.0005, 4746,    125,    124.8,  21.9325,  35.1917,2,  35.1914,2,    205.6,1, 21.9079,   -999.0,9,  -999.00,9,  -999.00,9,  -999.00,9,  -999.0,-999.000
     33KB193_1,  PRS2,     2,  8,      9,   8009,2,20070708,1401, 22.7497,-158.0005, 4746,    150,    150.3,  20.8800,  35.1371,2,-999.0000,5,    198.4,1, 20.8513,   -999.0,9,  -999.00,9,  -999.00,9,  -999.00,9,  -999.0,-999.000
     33KB193_1,  PRS2,     2,  8,      8,   8008,2,20070708,1401, 22.7497,-158.0005, 4746,    175,    174.5,  19.7935,  35.0474,2,-999.0000,5,    200.9,1, 19.7614,   -999.0,9,  -999.00,9,  -999.00,9,  -999.00,9,  -999.0,-999.000
     33KB193_1,  PRS2,     2,  8,      7,   8026,2,20070708,1401, 22.7497,-158.0005, 4746,    201,    200.5,  18.1221,  34.8501,2,-999.0000,5,    210.8,1, 18.0876,   -999.0,9,  -999.00,9,  -999.00,9,  -999.00,9,  -999.0,-999.000
     33KB193_1,  PRS2,     2,  8,      6,   8006,2,20070708,1401, 22.7497,-158.0005, 4746,    400,    400.0,   9.6717,  34.1400,2,-999.0000,5,    169.1,1,  9.6262,   -999.0,9,  -999.00,9,  -999.00,9,  -999.00,9,  -999.0,-999.000
     33KB193_1,  PRS2,     2,  8,      5,   8005,2,20070708,1401, 22.7497,-158.0005, 4746,    500,    499.7,   7.4005,  34.0739,2,  34.0740,2,    118.6,1,  7.3519,   -999.0,9,  -999.00,9,  -999.00,9,  -999.00,9,  -999.0,-999.000
     33KB193_1,  PRS2,     2,  8,      4,   8004,2,20070708,1401, 22.7497,-158.0005, 4746,    600,    599.6,   6.3706,  34.1591,2,-999.0000,5,     67.9,1,  6.3165,   -999.0,9,  -999.00,9,  -999.00,9,  -999.00,9,  -999.0,-999.000
     33KB193_1,  PRS2,     2,  8,      3,   8003,2,20070708,1401, 22.7497,-158.0005, 4746,    800,    800.4,   4.5582,  34.3243,2,  34.3201,2,     25.1,1,  4.4957,   -999.0,9,  -999.00,9,  -999.00,9,  -999.00,9,  -999.0,-999.000
     33KB193_1,  PRS2,     2,  8,      2,   8002,2,20070708,1401, 22.7497,-158.0005, 4746,   1022,   1020.9,   4.0379,  34.4702,2,-999.0000,5,     40.9,1,  3.9603,   -999.0,9,  -999.00,9,  -999.00,9,  -999.00,9,  -999.0,-999.000
     33KB193_1,  PRS2,     2,  8,      1,   8001,2,20070708,1401, 22.7497,-158.0005, 4746,   1020,   1021.1,   4.0373,  34.4705,2,  34.4695,2,     41.0,1,  3.9596,   -999.0,9,  -999.00,9,  -999.00,9,  -999.00,9,  -999.0,-999.000