BOTTLE,20090923WHPSIOMYS
EXPOCODE,SECT_ID,STNNBR,CASTNO,SAMPNO,BTLNBR,BTLNBR_FLAG_W,DATE,TIME,LATITUDE,LONGITUDE,DEPTH,CTDRAW,CTDPRS,CTDTMP,CTDSAL,CTDSAL_FLAG_W,SALNTY,SALNTY_FLAG_W,CTDOXY,CTDOXY_FLAG_W,THETA,OXYGEN,OXYGEN_FLAG_W,SILCAT,SILCAT_FLAG_W,NO2+NO3,NO2+NO3_FLAG_W,PHSPHT,PHSPHT_FLAG_W,REVPRS,REVTMP
,,,,,,,,,,,,,DBAR,ITS-90,PSS-78,,PSS-78,,UMOL/KG,,ITS-90,UMOL/KG,,UMOL/KG,,UMOL/KG,,UMOL/KG,,DBAR,DEG C
     33KB193_1,  PRS2,     2,  9,     23,   8023,2,20070708,1757, 22.7325,-158.0943, 4771,      7,      6.7,  25.7476,  35.0556,2,  35.0553,2,    206.7,1, 25.7462,   -999.0,9,  -999.00,9,  -999.00,9,  -999.00,9,  -999.0,-999.000
     33KB193_1,  PRS2,     2,  9,     24,   8024,2,20070708,1757, 22.7325,-158.0943, 4771,      7,      6.9,  25.7474,  35.0557,2,-999.0000,5,    206.6,1, 25.7458,   -999.0,9,  -999.00,9,  -999.00,9,  -999.00,9,  -999.0,-999.000
     33KB193_1,  PRS2,     2,  9,     16,   8016,2,20070708,1757, 22.7325,-158.0943, 4771,     25,     25.0,  25.7483,  35.0550,2,-999.0000,5,    206.8,1, 25.7428,   -999.0,9,  -999.00,9,  -999.00,9,  -999.00,9,  -999.0,-999.000
     33KB193_1,  PRS2,     2,  9,     15,   8015,2,20070708,1757, 22.7325,-158.0943, 4771,     25,     25.0,  25.7485,  35.0550,2,  35.0567,2,    206.8,1, 25.7429,   -999.0,9,  -999.00,9,  -999.00,9,  -999.00,9,  -999.0,-999.000
     33KB193_1,  PRS2,     2,  9,     22,   8022,2,20070708,1757, 22.7325,-158.0943, 4771,     24,     25.1,  25.7486,  35.0552,2,-999.0000,5,    206.8,1, 25.7431,   -999.0,9,  -999.00,9,  -999.00,9,  -999.00,9,  -999.0,-999.000
     33KB193_1,  PRS2,     2,  9,     21,   8021,2,20070708,1757, 22.7325,-158.0943, 4771,     25,     25.1,  25.7482,  35.0552,2,-999.0000,5,    206.8,1, 25.7427,   -999.0,9,  -999.00,9,  -999.00,9,  -999.00,9,  -999.0,-999.000
     33KB193_1,  PRS2,     2,  9,     20,   8020,2,20070708,1757, 22.7325,-158.0943, 4771,     25,     25.1,  25.7482,  35.0552,2,-999.0000,5,    206.8,1, 25.7427,   -999.0,9,  -999.00,9,  -999.00,9,  -999.00,9,  -999.0,-999.000
     33KB193_1,  PRS2,     2,  9,     19,   8019,2,20070708,1757, 22.7325,-158.0943, 4771,     24,     25.1,  25.7480,  35.0551,2,-999.0000,5,    206.8,1, 25.7424,   -999.0,9,  -999.00,9,  -999.00,9,  -999.00,9,  -999.0,-999.000
     33KB193_1,  PRS2,     2,  9,     18,   8018,2,20070708,1757, 22.7325,-158.0943, 4771,     25,     25.1,  25.7484,  35.0551,2,-999.0000,5,    206.8,1, 25.7428,   -999.0,9,  -999.00,9,  -999.00,9,  -999.00,9,  -999.0,-999.000
     33KB193_1,  PRS2,     2,  9,     17,   8017,2,20070708,1757, 22.7325,-158.0943, 4771,     25,     25.1,  25.7484,  35.0551,2,-999.0000,5,    206.8,1, 25.7428,   -999.0,9,  -999.00,9,  -999.00,9,  -999.00,9,  -999.0,-999.000
     33KB193_1,  PRS2,     2,  9,     14,   8014,2,20070708,1757, 22.7325,-158.0943, 4771,     45,     45.1,  25.6728,  35.1164,2,-999.0000,5,    208.5,1, 25.6629,   -999.0,9,  -999.00,9,  -999.00,9,  -999.00,9,  -999.0,-999.000
     33KB193_1,  PRS2,     2,  9,     13,   8025,2,20070708,1757, 22.7325,-158.0943, 4771,     45,     45.1,  25.6731,  35.1162,2,  35.1248,2,    208.6,1, 25.6631,   -999.0,9,  -999.00,9,  -999.00,9,  -999.00,9,  -999.0,-999.000
     33KB193_1,  PRS2,     2,  9,     12,   8012,2,20070708,1757, 22.7325,-158.0943, 4771,     75,     75.3,  23.8051,  35.1687,2,-999.0000,5,    220.1,1, 23.7893,   -999.0,9,  -999.00,9,  -999.00,9,  -999.00,9,  -999.0,-999.000
     33KB193_1,  PRS2,     2,  9,     11,   8011,2,20070708,1757, 22.7325,-158.0943, 4771,     75,     75.4,  23.8055,  35.1687,2,  35.1699,2,    220.0,1, 23.7897,   -999.0,9,  -999.00,9,  -999.00,9,  -999.00,9,  -999.0,-999.000
     33KB193_1,  PRS2,     2,  9,     10,   8010,2,20070708,1757, 22.7325,-158.0943, 4771,    101,    100.8,  23.1205,  35.2001,2,-999.0000,5,    213.9,1, 23.0998,   -999.0,9,  -999.00,9,  -999.00,9,  -999.00,9,  -999.0,-999.000
     33KB193_1,  PRS2,     2,  9,      9,   8009,2,20070708,1757, 22.7325,-158.0943, 4771,    101,    100.8,  23.1207,  35.2000,2,  35.1996,2,    213.8,1, 23.1001,   -999.0,9,  -999.00,9,  -999.00,9,  -999.00,9,  -999.0,-999.000
     33KB193_1,  PRS2,     2,  9,      8,   8008,2,20070708,1757, 22.7325,-158.0943, 4771,    126,    125.5,  22.2376,  35.2027,2,-999.0000,5,    208.9,1, 22.2125,   -999.0,9,  -999.00,9,  -999.00,9,  -999.00,9,  -999.0,-999.000
     33KB193_1,  PRS2,     2,  9,      7,   8026,2,20070708,1757, 22.7325,-158.0943, 4771,    126,    125.6,  22.2342,  35.2029,2,  35.2056,2,    209.0,1, 22.2092,   -999.0,9,  -999.00,9,  -999.00,9,  -999.00,9,  -999.0,-999.000
     33KB193_1,  PRS2,     2,  9,      5,   8005,2,20070708,1757, 22.7325,-158.0943, 4771,    149,    149.5,  21.4228,  35.1592,2,  35.1571,2,    189.8,1, 21.3937,   -999.0,9,  -999.00,9,  -999.00,9,  -999.00,9,  -999.0,-999.000
     33KB193_1,  PRS2,     2,  9,      6,   8006,2,20070708,1757, 22.7325,-158.0943, 4771,    149,    149.6,  21.4237,  35.1591,2,-999.0000,5,    189.9,1, 21.3947,   -999.0,9,  -999.00,9,  -999.00,9,  -999.00,9,  -999.0,-999.000
     33KB193_1,  PRS2,     2,  9,      4,   8004,2,20070708,1757, 22.7325,-158.0943, 4771,    175,    175.2,  20.5872,  35.1247,2,-999.0000,5,    191.8,1, 20.5541,   -999.0,9,  -999.00,9,  -999.00,9,  -999.00,9,  -999.0,-999.000
     33KB193_1,  PRS2,     2,  9,      3,   8003,2,20070708,1757, 22.7325,-158.0943, 4771,    175,    175.2,  20.5517,  35.1222,2,  35.1195,2,    191.9,1, 20.5186,   -999.0,9,  -999.00,9,  -999.00,9,  -999.00,9,  -999.0,-999.000
     33KB193_1,  PRS2,     2,  9,      2,   8002,2,20070708,1757, 22.7325,-158.0943, 4771,    500,    500.0,   7.7365,  34.0786,2,  34.0819,2,    132.4,1,  7.6866,   -999.0,9,  -999.00,9,  -999.00,9,  -999.00,9,  -999.0,-999.000
     33KB193_1,  PRS2,     2,  9,      1,   8001,2,20070708,1757, 22.7325,-158.0943, 4771,   1020,   1020.7,   4.0621,  34.4659,2,  34.4661,2,     40.2,1,  3.9843,   -999.0,9,  -999.00,9,  -999.00,9,  -999.00,9,  -999.0,-999.000
     33KB193_1,  PRS2,     2, 10,     21,   8021,2,20070708,2053, 22.7273,-158.0278, 4456,      7,      7.3,  25.7023,  35.0692,2,  35.0770,2,    207.5,1, 25.7006,   -999.0,9,  -999.00,9,  -999.00,9,  -999.00,9,  -999.0,-999.000
     33KB193_1,  PRS2,     2, 10,     20,   8020,2,20070708,2053, 22.7273,-158.0278, 4456,     25,     25.0,  25.6747,  35.0678,2,  35.0679,2,    207.6,1, 25.6692,   -999.0,9,  -999.00,9,  -999.00,9,  -999.00,9,  -999.0,-999.000
     33KB193_1,  PRS2,     2, 10,     19,   8019,2,20070708,2053, 22.7273,-158.0278, 4456,     45,     44.9,  25.6381,  35.0816,2,  35.0793,2,    207.5,1, 25.6282,   -999.0,9,  -999.00,9,  -999.00,9,  -999.00,9,  -999.0,-999.000
     33KB193_1,  PRS2,     2, 10,     18,   8018,2,20070708,2053, 22.7273,-158.0278, 4456,     60,     60.4,  24.9921,  35.2564,2,  35.2599,2,    217.2,1, 24.9790,   -999.0,9,  -999.00,9,  -999.00,9,  -999.00,9,  -999.0,-999.000
     33KB193_1,  PRS2,     2, 10,     17,   8017,2,20070708,2053, 22.7273,-158.0278, 4456,     75,     75.3,  23.9213,  35.2094,2,  35.1971,2,    218.9,1, 23.9055,   -999.0,9,  -999.00,9,  -999.00,9,  -999.00,9,  -999.0,-999.000
     33KB193_1,  PRS2,     2, 10,     16,   8016,2,20070708,2053, 22.7273,-158.0278, 4456,     85,     84.9,  23.4726,  35.1875,2,  35.1983,3,    217.3,1, 23.4550,   -999.0,9,  -999.00,9,  -999.00,9,  -999.00,9,  -999.0,-999.000
     33KB193_1,  PRS2,     2, 10,     15,   8015,2,20070708,2053, 22.7273,-158.0278, 4456,    100,    100.0,  22.9112,  35.1910,2,  35.1941,2,    214.1,1, 22.8908,   -999.0,9,  -999.00,9,  -999.00,9,  -999.00,9,  -999.0,-999.000
     33KB193_1,  PRS2,     2, 10,     14,   8014,2,20070708,2053, 22.7273,-158.0278, 4456,    116,    115.2,  22.5152,  35.2074,2,  35.2083,2,    212.9,1, 22.4921,   -999.0,9,  -999.00,9,  -999.00,9,  -999.00,9,  -999.0,-999.000
     33KB193_1,  PRS2,     2, 10,     13,   8025,2,20070708,2053, 22.7273,-158.0278, 4456,    126,    125.2,  22.2010,  35.2097,2,  35.2085,2,    208.5,1, 22.1761,   -999.0,9,  -999.00,9,  -999.00,9,  -999.00,9,  -999.0,-999.000
     33KB193_1,  PRS2,     2, 10,     12,   8012,2,20070708,2053, 22.7273,-158.0278, 4456,    150,    150.2,  21.5046,  35.1845,2,  35.1815,2,    198.4,1, 21.4753,   -999.0,9,  -999.00,9,  -999.00,9,  -999.00,9,  -999.0,-999.000
     33KB193_1,  PRS2,     2, 10,     11,   8011,2,20070708,2053, 22.7273,-158.0278, 4456,    175,    175.5,  20.2321,  35.0890,2,  35.0839,2,    197.5,1, 20.1994,   -999.0,9,  -999.00,9,  -999.00,9,  -999.00,9,  -999.0,-999.000
     33KB193_1,  PRS2,     2, 10,     10,   8010,2,20070708,2053, 22.7273,-158.0278, 4456,    200,    200.0,  19.0186,  34.9652,2,  34.9597,2,    206.3,1, 18.9829,   -999.0,9,  -999.00,9,  -999.00,9,  -999.00,9,  -999.0,-999.000
     33KB193_1,  PRS2,     2, 10,      9,   8009,2,20070708,2053, 22.7273,-158.0278, 4456,    225,    225.3,  17.7855,  34.8077,2,  34.7982,2,    212.1,1, 17.7472,   -999.0,9,  -999.00,9,  -999.00,9,  -999.00,9,  -999.0,-999.000
     33KB193_1,  PRS2,     2, 10,      8,   8008,2,20070708,2053, 22.7273,-158.0278, 4456,    250,    250.5,  16.5825,  34.6735,2,  34.6645,2,    207.7,1, 16.5419,   -999.0,9,  -999.00,9,  -999.00,9,  -999.00,9,  -999.0,-999.000
     33KB193_1,  PRS2,     2, 10,      7,   8026,2,20070708,2053, 22.7273,-158.0278, 4456,    500,    499.6,   8.1073,  34.0837,2,  34.0831,2,    141.8,1,  8.0560,   -999.0,9,  -999.00,9,  -999.00,9,  -999.00,9,  -999.0,-999.000
     33KB193_1,  PRS2,     2, 10,      5,   8005,2,20070708,2053, 22.7273,-158.0278, 4456,    500,    499.7,   8.1059,  34.0837,2,-999.0000,5,    141.0,1,  8.0546,   -999.0,9,  -999.00,9,  -999.00,9,  -999.00,9,  -999.0,-999.000
     33KB193_1,  PRS2,     2, 10,      3,   8003,2,20070708,2053, 22.7273,-158.0278, 4456,    500,    499.7,   8.1061,  34.0835,2,-999.0000,5,    140.1,1,  8.0548,   -999.0,9,  -999.00,9,  -999.00,9,  -999.00,9,  -999.0,-999.000
     33KB193_1,  PRS2,     2, 10,      2,   8002,2,20070708,2053, 22.7273,-158.0278, 4456,    500,    499.7,   8.1034,  34.0836,2,-999.0000,5,    139.6,1,  8.0522,   -999.0,9,  -999.00,9,  -999.00,9,  -999.00,9,  -999.0,-999.000
     33KB193_1,  PRS2,     2, 10,      6,   8006,2,20070708,2053, 22.7273,-158.0278, 4456,    500,    499.8,   8.1071,  34.0837,2,-999.0000,5,    141.4,1,  8.0558,   -999.0,9,  -999.00,9,  -999.00,9,  -999.00,9,  -999.0,-999.000
     33KB193_1,  PRS2,     2, 10,      4,   8004,2,20070708,2053, 22.7273,-158.0278, 4456,    500,    499.8,   8.1055,  34.0837,2,-999.0000,5,    140.5,1,  8.0543,   -999.0,9,  -999.00,9,  -999.00,9,  -999.00,9,  -999.0,-999.000
     33KB193_1,  PRS2,     2, 10,      1,   8001,2,20070708,2053, 22.7273,-158.0278, 4456,   1019,   1019.3,   3.9931,  34.4654,2,  34.4654,2,     37.7,1,  3.9160,   -999.0,9,  -999.00,9,  -999.00,9,  -999.00,9,  -999.0,-999.000
     33KB193_1,  PRS2,     2, 11,     18,   8018,2,20070708,2355, 22.7265,-158.0277, 4753,      8,      7.3,  25.7188,  35.0687,2,  35.0677,2,    208.1,1, 25.7172,   -999.0,9,  -999.00,9,  -999.00,9,  -999.00,9,  -999.0,-999.000
     33KB193_1,  PRS2,     2, 11,     17,   8017,2,20070708,2355, 22.7265,-158.0277, 4753,     24,     24.9,  25.6944,  35.0689,2,  35.0677,2,    207.9,1, 25.6889,   -999.0,9,  -999.00,9,  -999.00,9,  -999.00,9,  -999.0,-999.000
     33KB193_1,  PRS2,     2, 11,     16,   8016,2,20070708,2355, 22.7265,-158.0277, 4753,     44,     44.8,  25.4156,  35.1782,2,  35.1839,2,    212.6,1, 25.4057,   -999.0,9,  -999.00,9,  -999.00,9,  -999.00,9,  -999.0,-999.000
     33KB193_1,  PRS2,     2, 11,     15,   8015,2,20070708,2355, 22.7265,-158.0277, 4753,     75,     75.3,  23.4569,  35.2282,2,  35.2071,4,    217.0,1, 23.4413,   -999.0,9,  -999.00,9,  -999.00,9,  -999.00,9,  -999.0,-999.000
     33KB193_1,  PRS2,     2, 11,     14,   8014,2,20070708,2355, 22.7265,-158.0277, 4753,    100,     99.9,  22.6256,  35.2015,2,  35.2006,2,    214.5,1, 22.6054,   -999.0,9,  -999.00,9,  -999.00,9,  -999.00,9,  -999.0,-999.000
     33KB193_1,  PRS2,     2, 11,     13,   8025,2,20070708,2355, 22.7265,-158.0277, 4753,    125,    125.3,  21.9388,  35.2036,2,  35.2024,2,    204.2,1, 21.9140,   -999.0,9,  -999.00,9,  -999.00,9,  -999.00,9,  -999.0,-999.000
     33KB193_1,  PRS2,     2, 11,     12,   8012,2,20070708,2355, 22.7265,-158.0277, 4753,    150,    150.1,  21.1742,  35.1694,2,  35.1689,2,    197.8,1, 21.1453,   -999.0,9,  -999.00,9,  -999.00,9,  -999.00,9,  -999.0,-999.000
     33KB193_1,  PRS2,     2, 11,     11,   8011,2,20070708,2355, 22.7265,-158.0277, 4753,    175,    175.2,  19.9774,  35.0628,2,  35.0565,2,    196.6,1, 19.9450,   -999.0,9,  -999.00,9,  -999.00,9,  -999.00,9,  -999.0,-999.000
     33KB193_1,  PRS2,     2, 11,     10,   8010,2,20070708,2355, 22.7265,-158.0277, 4753,    200,    200.1,  18.4772,  34.8992,2,  34.8981,2,    209.6,1, 18.4422,   -999.0,9,  -999.00,9,  -999.00,9,  -999.00,9,  -999.0,-999.000
     33KB193_1,  PRS2,     2, 11,      9,   8009,2,20070708,2355, 22.7265,-158.0277, 4753,    251,    251.3,  15.4400,  34.5481,2,  34.5478,2,    196.0,1, 15.4012,   -999.0,9,  -999.00,9,  -999.00,9,  -999.00,9,  -999.0,-999.000
     33KB193_1,  PRS2,     2, 11,      8,   8008,2,20070708,2355, 22.7265,-158.0277, 4753,    350,    350.6,  11.3941,  34.2021,2,  34.2036,2,    199.8,1, 11.3499,   -999.0,9,  -999.00,9,  -999.00,9,  -999.00,9,  -999.0,-999.000
     33KB193_1,  PRS2,     2, 11,      7,   8026,2,20070708,2355, 22.7265,-158.0277, 4753,    350,    350.6,  11.3958,  34.2025,2,  34.2036,2,    199.9,1, 11.3516,   -999.0,9,  -999.00,9,  -999.00,9,  -999.00,9,  -999.0,-999.000
     33KB193_1,  PRS2,     2, 11,      4,   8004,2,20070708,2355, 22.7265,-158.0277, 4753,    771,    770.6,   4.6017,  34.2705,2,-999.0000,5,     26.1,1,  4.5414,   -999.0,9,  -999.00,9,  -999.00,9,  -999.00,9,  -999.0,-999.000
     33KB193_1,  PRS2,     2, 11,      3,   8003,2,20070708,2355, 22.7265,-158.0277, 4753,    770,    770.6,   4.6009,  34.2710,2,-999.0000,5,     26.1,1,  4.5406,   -999.0,9,  -999.00,9,  -999.00,9,  -999.00,9,  -999.0,-999.000
     33KB193_1,  PRS2,     2, 11,      2,   8002,2,20070708,2355, 22.7265,-158.0277, 4753,    771,    770.6,   4.5999,  34.2710,2,-999.0000,5,     26.1,1,  4.5396,   -999.0,9,  -999.00,9,  -999.00,9,  -999.00,9,  -999.0,-999.000
     33KB193_1,  PRS2,     2, 11,      6,   8006,2,20070708,2355, 22.7265,-158.0277, 4753,    771,    770.7,   4.6024,  34.2701,2,  34.2689,2,     26.2,1,  4.5421,   -999.0,9,  -999.00,9,  -999.00,9,  -999.00,9,  -999.0,-999.000
     33KB193_1,  PRS2,     2, 11,      5,   8005,2,20070708,2355, 22.7265,-158.0277, 4753,    771,    770.9,   4.6020,  34.2702,2,-999.0000,5,     26.2,1,  4.5417,   -999.0,9,  -999.00,9,  -999.00,9,  -999.00,9,  -999.0,-999.000
     33KB193_1,  PRS2,     2, 11,      1,   8001,2,20070708,2355, 22.7265,-158.0277, 4753,   1021,   1020.4,   4.0323,  34.4599,2,  34.4599,2,     37.6,1,  3.9548,   -999.0,9,  -999.00,9,  -999.00,9,  -999.00,9,  -999.0,-999.000
     33KB193_1,  PRS2,     2, 12,     14,   8014,2,20070709,0258, 22.6917,-158.0315, 4763,      8,      7.0,  25.8085,  35.0713,2,  35.0701,2,    207.7,1, 25.8069,   -999.0,9,  -999.00,9,  -999.00,9,  -999.00,9,  -999.0,-999.000
     33KB193_1,  PRS2,     2, 12,     13,   8025,2,20070709,0258, 22.6917,-158.0315, 4763,     25,     25.4,  25.6707,  35.0686,2,  35.0683,2,    208.4,1, 25.6651,   -999.0,9,  -999.00,9,  -999.00,9,  -999.00,9,  -999.0,-999.000
     33KB193_1,  PRS2,     2, 12,     12,   8012,2,20070709,0258, 22.6917,-158.0315, 4763,     46,     45.5,  25.6417,  35.0872,2,  35.0900,2,    209.1,1, 25.6317,   -999.0,9,  -999.00,9,  -999.00,9,  -999.00,9,  -999.0,-999.000
     33KB193_1,  PRS2,     2, 12,     11,   8011,2,20070709,0258, 22.6917,-158.0315, 4763,     75,     74.9,  23.4897,  35.1846,2,  35.1845,2,    217.4,1, 23.4741,   -999.0,9,  -999.00,9,  -999.00,9,  -999.00,9,  -999.0,-999.000
     33KB193_1,  PRS2,     2, 12,     10,   8010,2,20070709,0258, 22.6917,-158.0315, 4763,    100,    100.0,  22.6532,  35.2010,2,  35.1993,2,    213.9,1, 22.6330,   -999.0,9,  -999.00,9,  -999.00,9,  -999.00,9,  -999.0,-999.000
     33KB193_1,  PRS2,     2, 12,      9,   8009,2,20070709,0258, 22.6917,-158.0315, 4763,    125,    125.0,  21.6617,  35.1830,2,  35.1845,2,    202.1,1, 21.6372,   -999.0,9,  -999.00,9,  -999.00,9,  -999.00,9,  -999.0,-999.000
     33KB193_1,  PRS2,     2, 12,      8,   8008,2,20070709,0258, 22.6917,-158.0315, 4763,    151,    150.0,  20.5887,  35.1316,2,  35.1291,2,    194.6,1, 20.5604,   -999.0,9,  -999.00,9,  -999.00,9,  -999.00,9,  -999.0,-999.000
     33KB193_1,  PRS2,     2, 12,      7,   8026,2,20070709,0258, 22.6917,-158.0315, 4763,    175,    175.4,  19.1511,  34.9764,2,  34.9736,2,    201.4,1, 19.1197,   -999.0,9,  -999.00,9,  -999.00,9,  -999.00,9,  -999.0,-999.000
     33KB193_1,  PRS2,     2, 12,      6,   8006,2,20070709,0258, 22.6917,-158.0315, 4763,    200,    199.8,  18.2416,  34.8653,2,  34.8603,2,    210.0,1, 18.2070,   -999.0,9,  -999.00,9,  -999.00,9,  -999.00,9,  -999.0,-999.000
     33KB193_1,  PRS2,     2, 12,      5,   8005,2,20070709,0258, 22.6917,-158.0315, 4763,    251,    250.3,  15.0777,  34.5190,2,  34.4999,2,    199.4,1, 15.0397,   -999.0,9,  -999.00,9,  -999.00,9,  -999.00,9,  -999.0,-999.000
     33KB193_1,  PRS2,     2, 12,      4,   8004,2,20070709,0258, 22.6917,-158.0315, 4763,    350,    349.8,  11.0627,  34.1870,2,  34.1856,2,    199.3,1, 11.0195,   -999.0,9,  -999.00,9,  -999.00,9,  -999.00,9,  -999.0,-999.000
     33KB193_1,  PRS2,     2, 12,      3,   8003,2,20070709,0258, 22.6917,-158.0315, 4763,    351,    349.9,  11.0624,  34.1868,2,  34.1854,2,    199.2,1, 11.0192,   -999.0,9,  -999.00,9,  -999.00,9,  -999.00,9,  -999.0,-999.000
     33KB193_1,  PRS2,     2, 12,      2,   8002,2,20070709,0258, 22.6917,-158.0315, 4763,    499,    498.9,   7.2210,  34.0875,2,  34.0889,2,    104.6,1,  7.1731,   -999.0,9,  -999.00,9,  -999.00,9,  -999.00,9,  -999.0,-999.000
     33KB193_1,  PRS2,     2, 12,      1,   8001,2,20070709,0258, 22.6917,-158.0315, 4763,   1021,   1020.7,   4.0373,  34.4592,2,  34.4622,2,     37.7,1,  3.9597,   -999.0,9,  -999.00,9,  -999.00,9,  -999.00,9,  -999.0,-999.000