BOTTLE,20141031SIOCCHAMB
EXPOCODE,SECT_ID,STNNBR,CASTNO,SAMPNO,BTLNBR,BTLNBR_FLAG_W,DATE,TIME,LATITUDE,LONGITUDE,DEPTH,CTDPRS,CTDTMP,CTDSAL,CTDSAL_FLAG_W,SALNTY,SALNTY_FLAG_W,CTDOXY,CTDOXY_FLAG_W,OXYGEN,OXYGEN_FLAG_W,SILCAT,SILCAT_FLAG_W,PHSPHT,PHSPHT_FLAG_W,REVPRS,CTDRAW,THETA,NO2+NO3,NO2+NO3_FLAG_W,REVTMP
,,,,,,,,,,,METERS,DBAR,ITS-90,PSS-78,,PSS-78,,UMOL/KG,,UMOL/KG,,UMOL/KG,,UMOL/KG,,DBAR,DBAR,ITS-90,UMOL/KG,,DEG C
33KB20100806,       PRS2,       2,         12,         20,       8020,2,20100808,       1750,  22.750167,-158.0005000,       4744,     7.4,  25.4227,  35.0995,2,-999.0000,5,    208.3,1,  -999.0,9, -999.00,9, -999.00,9,  -999.0,       7,    25.4210, -999.00,9,     -999.0
33KB20100806,       PRS2,       2,         12,         19,       8019,2,20100808,       1750,  22.750167,-158.0005000,       4744,     7.4,  25.4225,  35.0995,2,-999.0000,5,    208.3,1,  -999.0,9, -999.00,9, -999.00,9,  -999.0,       7,    25.4209, -999.00,9,     -999.0
33KB20100806,       PRS2,       2,         12,         18,       8018,2,20100808,       1750,  22.750167,-158.0005000,       4744,     7.2,  25.4225,  35.0996,2,  35.0982,2,    208.2,1,  -999.0,9, -999.00,9, -999.00,9,  -999.0,       7,    25.4209, -999.00,9,     -999.0
33KB20100806,       PRS2,       2,         12,         17,       8017,2,20100808,       1750,  22.750167,-158.0005000,       4744,    26.0,  25.4243,  35.0997,2,-999.0000,5,    208.2,1,  -999.0,9, -999.00,9, -999.00,9,  -999.0,      26,    25.4186, -999.00,9,     -999.0
33KB20100806,       PRS2,       2,         12,         16,       8016,2,20100808,       1750,  22.750167,-158.0005000,       4744,    26.1,  25.4247,  35.1000,2,  35.0998,2,    208.2,1,  -999.0,9, -999.00,9, -999.00,9,  -999.0,      27,    25.4189, -999.00,9,     -999.0
33KB20100806,       PRS2,       2,         12,         15,       8015,2,20100808,       1750,  22.750167,-158.0005000,       4744,    45.8,  25.4109,  35.1768,2,-999.0000,5,    208.7,1,  -999.0,9, -999.00,9, -999.00,9,  -999.0,      46,    25.4008, -999.00,9,     -999.0
33KB20100806,       PRS2,       2,         12,         14,       8014,2,20100808,       1750,  22.750167,-158.0005000,       4744,    45.9,  25.4115,  35.1768,2,  35.1752,2,    208.7,1,  -999.0,9, -999.00,9, -999.00,9,  -999.0,      47,    25.4014, -999.00,9,     -999.0
33KB20100806,       PRS2,       2,         12,         13,       8025,2,20100808,       1750,  22.750167,-158.0005000,       4744,    75.8,  24.8338,  35.1400,2,-999.0000,5,    213.2,1,  -999.0,9, -999.00,9, -999.00,9,  -999.0,      75,    24.8174, -999.00,9,     -999.0
33KB20100806,       PRS2,       2,         12,         12,       8012,2,20100808,       1750,  22.750167,-158.0005000,       4744,    75.8,  24.8184,  35.1381,2,  35.1457,2,    213.8,1,  -999.0,9, -999.00,9, -999.00,9,  -999.0,      75,    24.8021, -999.00,9,     -999.0
33KB20100806,       PRS2,       2,         12,         11,       8011,2,20100808,       1750,  22.750167,-158.0005000,       4744,   100.8,  23.4216,  35.2756,2,-999.0000,5,    217.2,1,  -999.0,9, -999.00,9, -999.00,9,  -999.0,     101,    23.4007, -999.00,9,     -999.0
33KB20100806,       PRS2,       2,         12,         10,       8010,2,20100808,       1750,  22.750167,-158.0005000,       4744,   100.5,  23.4210,  35.2751,2,  35.2767,2,    217.4,1,  -999.0,9, -999.00,9, -999.00,9,  -999.0,     100,    23.4002, -999.00,9,     -999.0
33KB20100806,       PRS2,       2,         12,          9,       8009,2,20100808,       1750,  22.750167,-158.0005000,       4744,   120.1,  22.5738,  35.3411,2,-999.0000,5,    213.8,1,  -999.0,9, -999.00,9, -999.00,9,  -999.0,     120,    22.5496, -999.00,9,     -999.0
33KB20100806,       PRS2,       2,         12,          8,       8008,2,20100808,       1750,  22.750167,-158.0005000,       4744,   125.3,  22.5264,  35.3966,2,-999.0000,5,    219.9,1,  -999.0,9, -999.00,9, -999.00,9,  -999.0,     125,    22.5011, -999.00,9,     -999.0
33KB20100806,       PRS2,       2,         12,          7,       8026,2,20100808,       1750,  22.750167,-158.0005000,       4744,   125.3,  22.5271,  35.3965,2,  35.3934,2,    220.1,1,  -999.0,9, -999.00,9, -999.00,9,  -999.0,     125,    22.5019, -999.00,9,     -999.0
33KB20100806,       PRS2,       2,         12,          6,       8006,2,20100808,       1750,  22.750167,-158.0005000,       4744,   151.4,  21.0266,  35.2793,2,-999.0000,5,    201.4,1,  -999.0,9, -999.00,9, -999.00,9,  -999.0,     152,    20.9975, -999.00,9,     -999.0
33KB20100806,       PRS2,       2,         12,          5,       8005,2,20100808,       1750,  22.750167,-158.0005000,       4744,   151.3,  21.0272,  35.2795,2,  35.2842,2,    202.1,1,  -999.0,9, -999.00,9, -999.00,9,  -999.0,     151,    20.9982, -999.00,9,     -999.0
33KB20100806,       PRS2,       2,         12,          4,       8004,2,20100808,       1750,  22.750167,-158.0005000,       4744,   176.0,  20.4281,  35.3062,2,-999.0000,5,    209.9,1,  -999.0,9, -999.00,9, -999.00,9,  -999.0,     176,    20.3950, -999.00,9,     -999.0
33KB20100806,       PRS2,       2,         12,          3,       8003,2,20100808,       1750,  22.750167,-158.0005000,       4744,   175.9,  20.4398,  35.3089,2,  35.3167,2,    209.9,1,  -999.0,9, -999.00,9, -999.00,9,  -999.0,     177,    20.4067, -999.00,9,     -999.0
33KB20100806,       PRS2,       2,         12,          2,       8002,2,20100808,       1750,  22.750167,-158.0005000,       4744,   549.9,   6.5955,  34.0714,2,  34.0723,2,     89.4,1,  -999.0,9, -999.00,9, -999.00,9,  -999.0,     550,     6.5451, -999.00,9,     -999.0
33KB20100806,       PRS2,       2,         12,          1,       8001,2,20100808,       1750,  22.750167,-158.0005000,       4744,  1020.5,   3.9494,  34.4693,2,  34.4689,2,     44.7,1,  -999.0,9, -999.00,9, -999.00,9,  -999.0,    1020,     3.8725, -999.00,9,     -999.0
33KB20100806,       PRS2,       2,         13,         12,       8012,2,20100808,       2049,  22.750333,-158.0006667,       4745,     5.8,  25.5576,  35.1048,2,-999.0000,5,    208.0,1,  -999.0,9, -999.00,9, -999.00,9,  -999.0,       6,    25.5563, -999.00,9,     -999.0
33KB20100806,       PRS2,       2,         13,         11,       8011,2,20100808,       2049,  22.750333,-158.0006667,       4745,    25.3,  25.4187,  35.0951,2,-999.0000,5,    208.4,1,  -999.0,9, -999.00,9, -999.00,9,  -999.0,      25,    25.4131, -999.00,9,     -999.0
33KB20100806,       PRS2,       2,         13,         10,       8010,2,20100808,       2049,  22.750333,-158.0006667,       4745,    45.7,  25.3437,  35.1179,2,  35.1181,2,    208.8,1,  -999.0,9, -999.00,9, -999.00,9,  -999.0,      46,    25.3336, -999.00,9,     -999.0
33KB20100806,       PRS2,       2,         13,          9,       8009,2,20100808,       2049,  22.750333,-158.0006667,       4745,    60.9,  25.2548,  35.1165,2,  35.1185,2,    209.5,1,  -999.0,9, -999.00,9, -999.00,9,  -999.0,      61,    25.2415, -999.00,9,     -999.0
33KB20100806,       PRS2,       2,         13,          8,       8008,2,20100808,       2049,  22.750333,-158.0006667,       4745,    74.6,  24.0524,  35.0451,2,-999.0000,5,    219.4,1,  -999.0,9, -999.00,9, -999.00,9,  -999.0,      75,    24.0367, -999.00,9,     -999.0
33KB20100806,       PRS2,       2,         13,          7,       8026,2,20100808,       2049,  22.750333,-158.0006667,       4745,    85.6,  23.7496,  35.0868,2,  35.0880,2,    217.9,1,  -999.0,9, -999.00,9, -999.00,9,  -999.0,      86,    23.7317, -999.00,9,     -999.0
33KB20100806,       PRS2,       2,         13,          6,       8006,2,20100808,       2049,  22.750333,-158.0006667,       4745,   100.4,  23.4125,  35.3248,2,  35.3183,2,    219.0,1,  -999.0,9, -999.00,9, -999.00,9,  -999.0,     100,    23.3918, -999.00,9,     -999.0
33KB20100806,       PRS2,       2,         13,          5,       8005,2,20100808,       2049,  22.750333,-158.0006667,       4745,   124.9,  22.5196,  35.3888,2,  35.3926,2,    218.4,1,  -999.0,9, -999.00,9, -999.00,9,  -999.0,     125,    22.4945, -999.00,9,     -999.0
33KB20100806,       PRS2,       2,         13,          4,       8004,2,20100808,       2049,  22.750333,-158.0006667,       4745,   150.0,  21.2628,  35.3108,2,  35.3049,2,    208.1,1,  -999.0,9, -999.00,9, -999.00,9,  -999.0,     150,    21.2338, -999.00,9,     -999.0
33KB20100806,       PRS2,       2,         13,          3,       8003,2,20100808,       2049,  22.750333,-158.0006667,       4745,   175.6,  20.4431,  35.3181,2,  35.3277,2,    212.2,1,  -999.0,9, -999.00,9, -999.00,9,  -999.0,     175,    20.4101, -999.00,9,     -999.0
33KB20100806,       PRS2,       2,         13,          2,       8002,2,20100808,       2049,  22.750333,-158.0006667,       4745,   499.8,   7.3934,  34.0884,2,  34.0885,2,    106.2,1,  -999.0,9, -999.00,9, -999.00,9,  -999.0,     500,     7.3448, -999.00,9,     -999.0
33KB20100806,       PRS2,       2,         13,          1,       8001,2,20100808,       2049,  22.750333,-158.0006667,       4745,  1019.4,   3.9902,  34.4638,2,  34.4642,2,     43.3,1,  -999.0,9, -999.00,9, -999.00,9,  -999.0,    1020,     3.9131, -999.00,9,     -999.0
33KB20100806,       PRS2,       2,         14,         24,       8024,2,20100809,       0011,  22.829833,-157.9715000,       4691,     6.2,  25.6507,  35.1067,2,  35.1053,2,    208.0,1,  -999.0,9, -999.00,9, -999.00,9,  -999.0,       7,    25.6493, -999.00,9,     -999.0
33KB20100806,       PRS2,       2,         14,         23,       8023,2,20100809,       0011,  22.829833,-157.9715000,       4691,    25.2,  25.4917,  35.1042,2,-999.0000,5,    208.1,1,  -999.0,9, -999.00,9, -999.00,9,  -999.0,      25,    25.4861, -999.00,9,     -999.0
33KB20100806,       PRS2,       2,         14,         22,       8022,2,20100809,       0011,  22.829833,-157.9715000,       4691,    25.3,  25.4921,  35.1041,2,  35.1039,2,    208.1,1,  -999.0,9, -999.00,9, -999.00,9,  -999.0,      25,    25.4865, -999.00,9,     -999.0
33KB20100806,       PRS2,       2,         14,         21,       8021,2,20100809,       0011,  22.829833,-157.9715000,       4691,    44.8,  25.3545,  35.1276,2,  35.1291,2,    209.3,1,  -999.0,9, -999.00,9, -999.00,9,  -999.0,      45,    25.3447, -999.00,9,     -999.0
33KB20100806,       PRS2,       2,         14,         20,       8020,2,20100809,       0011,  22.829833,-157.9715000,       4691,    75.5,  24.5670,  35.1112,2,  35.1012,2,    216.0,1,  -999.0,9, -999.00,9, -999.00,9,  -999.0,      76,    24.5508, -999.00,9,     -999.0
33KB20100806,       PRS2,       2,         14,         19,       8019,2,20100809,       0011,  22.829833,-157.9715000,       4691,   101.1,  23.3763,  35.2418,2,  35.2440,2,    214.2,1,  -999.0,9, -999.00,9, -999.00,9,  -999.0,     101,    23.3554, -999.00,9,     -999.0
33KB20100806,       PRS2,       2,         14,         18,       8018,2,20100809,       0011,  22.829833,-157.9715000,       4691,   125.4,  22.5580,  35.4052,2,  35.4121,2,    220.6,1,  -999.0,9, -999.00,9, -999.00,9,  -999.0,     126,    22.5328, -999.00,9,     -999.0
33KB20100806,       PRS2,       2,         14,         17,       8017,2,20100809,       0011,  22.829833,-157.9715000,       4691,   150.7,  21.4302,  35.2774,2,  35.2779,2,    202.0,1,  -999.0,9, -999.00,9, -999.00,9,  -999.0,     151,    21.4009, -999.00,9,     -999.0
33KB20100806,       PRS2,       2,         14,         16,       8016,2,20100809,       0011,  22.829833,-157.9715000,       4691,   199.5,  20.4468,  35.3104,2,-999.0000,5,    208.4,1,  -999.0,9, -999.00,9, -999.00,9,  -999.0,     199,    20.4092, -999.00,9,     -999.0
33KB20100806,       PRS2,       2,         14,         15,       8015,2,20100809,       0011,  22.829833,-157.9715000,       4691,   199.5,  20.4446,  35.3100,2,  35.3102,2,    208.4,1,  -999.0,9, -999.00,9, -999.00,9,  -999.0,     199,    20.4071, -999.00,9,     -999.0
33KB20100806,       PRS2,       2,         14,         14,       8014,2,20100809,       0011,  22.829833,-157.9715000,       4691,   250.2,  18.4854,  34.9821,2,  34.9669,2,    195.7,1,  -999.0,9, -999.00,9, -999.00,9,  -999.0,     250,    18.4416, -999.00,9,     -999.0
33KB20100806,       PRS2,       2,         14,         13,       8025,2,20100809,       0011,  22.829833,-157.9715000,       4691,   300.0,  16.3096,  34.6460,2,-999.0000,5,    203.6,1,  -999.0,9, -999.00,9, -999.00,9,  -999.0,     300,    16.2615, -999.00,9,     -999.0
33KB20100806,       PRS2,       2,         14,         12,       8012,2,20100809,       0011,  22.829833,-157.9715000,       4691,   299.9,  16.3081,  34.6452,2,  34.6335,2,    203.7,1,  -999.0,9, -999.00,9, -999.00,9,  -999.0,     300,    16.2601, -999.00,9,     -999.0
33KB20100806,       PRS2,       2,         14,         11,       8011,2,20100809,       0011,  22.829833,-157.9715000,       4691,   349.3,  12.3797,  34.1898,2,  34.1905,2,    186.2,1,  -999.0,9, -999.00,9, -999.00,9,  -999.0,     349,    12.3333, -999.00,9,     -999.0
33KB20100806,       PRS2,       2,         14,         10,       8010,2,20100809,       0011,  22.829833,-157.9715000,       4691,   399.7,  10.2710,  34.1160,2,  34.1156,2,    167.9,1,  -999.0,9, -999.00,9, -999.00,9,  -999.0,     400,    10.2238, -999.00,9,     -999.0
33KB20100806,       PRS2,       2,         14,          9,       8009,2,20100809,       0011,  22.829833,-157.9715000,       4691,   480.5,   8.6486,  34.1474,2,  34.1462,2,    113.3,1,  -999.0,9, -999.00,9, -999.00,9,  -999.0,     481,     8.5974, -999.00,9,     -999.0
33KB20100806,       PRS2,       2,         14,          8,       8008,2,20100809,       0011,  22.829833,-157.9715000,       4691,   500.2,   8.1684,  34.1209,2,  34.1213,2,    112.5,1,  -999.0,9, -999.00,9, -999.00,9,  -999.0,     500,     8.1168, -999.00,9,     -999.0
33KB20100806,       PRS2,       2,         14,          7,       8026,2,20100809,       0011,  22.829833,-157.9715000,       4691,   500.1,   8.1657,  34.1215,2,-999.0000,5,    112.4,1,  -999.0,9, -999.00,9, -999.00,9,  -999.0,     501,     8.1141, -999.00,9,     -999.0
33KB20100806,       PRS2,       2,         14,          6,       8006,2,20100809,       0011,  22.829833,-157.9715000,       4691,   600.3,   6.2871,  34.1405,2,  34.1413,2,     66.2,1,  -999.0,9, -999.00,9, -999.00,9,  -999.0,     600,     6.2333, -999.00,9,     -999.0
33KB20100806,       PRS2,       2,         14,          5,       8005,2,20100809,       0011,  22.829833,-157.9715000,       4691,   699.6,   5.4257,  34.2555,2,  34.2558,2,     39.3,1,  -999.0,9, -999.00,9, -999.00,9,  -999.0,     699,     5.3670, -999.00,9,     -999.0
33KB20100806,       PRS2,       2,         14,          4,       8004,2,20100809,       0011,  22.829833,-157.9715000,       4691,   768.9,   5.0005,  34.3270,2,  34.3274,2,     34.2,1,  -999.0,9, -999.00,9, -999.00,9,  -999.0,     768,     4.9379, -999.00,9,     -999.0
33KB20100806,       PRS2,       2,         14,          3,       8003,2,20100809,       0011,  22.829833,-157.9715000,       4691,   800.0,   4.9064,  34.3422,2,  34.3415,2,     34.2,1,  -999.0,9, -999.00,9, -999.00,9,  -999.0,     800,     4.8417, -999.00,9,     -999.0
33KB20100806,       PRS2,       2,         14,          2,       8002,2,20100809,       0011,  22.829833,-157.9715000,       4691,   900.1,   4.4197,  34.4169,2,  34.4169,2,     38.4,1,  -999.0,9, -999.00,9, -999.00,9,  -999.0,     900,     4.3495, -999.00,9,     -999.0
33KB20100806,       PRS2,       2,         14,          1,       8001,2,20100809,       0011,  22.829833,-157.9715000,       4691,  1020.0,   4.0672,  34.4676,2,  34.4661,2,     45.3,1,  -999.0,9, -999.00,9, -999.00,9,  -999.0,    1020,     3.9894, -999.00,9,     -999.0