BOTTLE,20141031SIOCCHAMB
EXPOCODE,SECT_ID,STNNBR,CASTNO,SAMPNO,BTLNBR,BTLNBR_FLAG_W,DATE,TIME,LATITUDE,LONGITUDE,DEPTH,CTDPRS,CTDTMP,CTDSAL,CTDSAL_FLAG_W,SALNTY,SALNTY_FLAG_W,CTDOXY,CTDOXY_FLAG_W,OXYGEN,OXYGEN_FLAG_W,SILCAT,SILCAT_FLAG_W,PHSPHT,PHSPHT_FLAG_W,REVPRS,CTDRAW,THETA,NO2+NO3,NO2+NO3_FLAG_W,REVTMP
,,,,,,,,,,,METERS,DBAR,ITS-90,PSS-78,,PSS-78,,UMOL/KG,,UMOL/KG,,UMOL/KG,,UMOL/KG,,DBAR,DBAR,ITS-90,UMOL/KG,,DEG C
33KB20100806,       PRS2,       2,          9,         24,       8024,2,20100808,       0857,  22.745000,-157.9793333,       4739,     5.9,  25.4637,  35.1031,2,  35.1026,2,    208.4,1,  -999.0,9, -999.00,9, -999.00,9,  -999.0,       6,    25.4624, -999.00,9,     -999.0
33KB20100806,       PRS2,       2,          9,         23,       8023,2,20100808,       0857,  22.745000,-157.9793333,       4739,    25.5,  25.4299,  35.1781,2,  35.1778,2,    209.0,1,  -999.0,9, -999.00,9, -999.00,9,  -999.0,      26,    25.4243, -999.00,9,     -999.0
33KB20100806,       PRS2,       2,          9,         22,       8022,2,20100808,       0857,  22.745000,-157.9793333,       4739,    45.0,  25.3383,  35.2261,2,  35.2255,2,    209.4,1,  -999.0,9, -999.00,9, -999.00,9,  -999.0,      45,    25.3284, -999.00,9,     -999.0
33KB20100806,       PRS2,       2,          9,         21,       8021,2,20100808,       0857,  22.745000,-157.9793333,       4739,    75.7,  23.7912,  35.0805,2,  35.0811,2,    219.3,1,  -999.0,9, -999.00,9, -999.00,9,  -999.0,      76,    23.7754, -999.00,9,     -999.0
33KB20100806,       PRS2,       2,          9,         20,       8020,2,20100808,       0857,  22.745000,-157.9793333,       4739,   100.8,  23.0721,  35.2860,2,  35.2842,2,    213.6,1,  -999.0,9, -999.00,9, -999.00,9,  -999.0,     101,    23.0514, -999.00,9,     -999.0
33KB20100806,       PRS2,       2,          9,         19,       8019,2,20100808,       0857,  22.745000,-157.9793333,       4739,   125.1,  22.3943,  35.4005,2,  35.3961,2,    220.9,1,  -999.0,9, -999.00,9, -999.00,9,  -999.0,     125,    22.3692, -999.00,9,     -999.0
33KB20100806,       PRS2,       2,          9,         18,       8018,2,20100808,       0857,  22.745000,-157.9793333,       4739,   150.7,  21.2284,  35.3134,2,  35.3445,3,    206.1,1,  -999.0,9, -999.00,9, -999.00,9,  -999.0,     151,    21.1993, -999.00,9,     -999.0
33KB20100806,       PRS2,       2,          9,         17,       8017,2,20100808,       0857,  22.745000,-157.9793333,       4739,   176.8,  20.7657,  35.3425,2,  35.3488,2,    212.3,1,  -999.0,9, -999.00,9, -999.00,9,  -999.0,     177,    20.7321, -999.00,9,     -999.0
33KB20100806,       PRS2,       2,          9,         16,       8016,2,20100808,       0857,  22.745000,-157.9793333,       4739,   499.5,   7.6192,  34.1081,2,-999.0000,5,    101.1,1,  -999.0,9, -999.00,9, -999.00,9,  -999.0,     500,     7.5697, -999.00,9,     -999.0
33KB20100806,       PRS2,       2,          9,         15,       8015,2,20100808,       0857,  22.745000,-157.9793333,       4739,   499.8,   7.6180,  34.1080,2,-999.0000,5,    101.2,1,  -999.0,9, -999.00,9, -999.00,9,  -999.0,     500,     7.5685, -999.00,9,     -999.0
33KB20100806,       PRS2,       2,          9,         14,       8014,2,20100808,       0857,  22.745000,-157.9793333,       4739,   499.7,   7.6155,  34.1079,2,-999.0000,5,    101.2,1,  -999.0,9, -999.00,9, -999.00,9,  -999.0,     500,     7.5660, -999.00,9,     -999.0
33KB20100806,       PRS2,       2,          9,         13,       8025,2,20100808,       0857,  22.745000,-157.9793333,       4739,   499.8,   7.6141,  34.1098,2,-999.0000,5,    101.1,1,  -999.0,9, -999.00,9, -999.00,9,  -999.0,     500,     7.5646, -999.00,9,     -999.0
33KB20100806,       PRS2,       2,          9,         12,       8012,2,20100808,       0857,  22.745000,-157.9793333,       4739,   499.7,   7.6033,  34.1106,2,-999.0000,5,    100.9,1,  -999.0,9, -999.00,9, -999.00,9,  -999.0,     499,     7.5539, -999.00,9,     -999.0
33KB20100806,       PRS2,       2,          9,         11,       8011,2,20100808,       0857,  22.745000,-157.9793333,       4739,   524.8,   7.0156,  34.0916,2,  34.0929,2,     94.0,1,  -999.0,9, -999.00,9, -999.00,9,  -999.0,     525,     6.9660, -999.00,9,     -999.0
33KB20100806,       PRS2,       2,          9,         10,       8010,2,20100808,       0857,  22.745000,-157.9793333,       4739,   769.2,   4.8860,  34.3255,2,-999.0000,5,     37.2,1,  -999.0,9, -999.00,9, -999.00,9,  -999.0,     770,     4.8241, -999.00,9,     -999.0
33KB20100806,       PRS2,       2,          9,          9,       8009,2,20100808,       0857,  22.745000,-157.9793333,       4739,   769.3,   4.8861,  34.3256,2,-999.0000,5,     37.2,1,  -999.0,9, -999.00,9, -999.00,9,  -999.0,     770,     4.8242, -999.00,9,     -999.0
33KB20100806,       PRS2,       2,          9,          8,       8008,2,20100808,       0857,  22.745000,-157.9793333,       4739,   769.5,   4.8859,  34.3255,2,-999.0000,5,     37.2,1,  -999.0,9, -999.00,9, -999.00,9,  -999.0,     769,     4.8240, -999.00,9,     -999.0
33KB20100806,       PRS2,       2,          9,          7,       8026,2,20100808,       0857,  22.745000,-157.9793333,       4739,   769.4,   4.8859,  34.3255,2,-999.0000,5,     37.2,1,  -999.0,9, -999.00,9, -999.00,9,  -999.0,     770,     4.8240, -999.00,9,     -999.0
33KB20100806,       PRS2,       2,          9,          6,       8006,2,20100808,       0857,  22.745000,-157.9793333,       4739,   769.4,   4.8857,  34.3255,2,-999.0000,5,     37.3,1,  -999.0,9, -999.00,9, -999.00,9,  -999.0,     769,     4.8238, -999.00,9,     -999.0
33KB20100806,       PRS2,       2,          9,          5,       8005,2,20100808,       0857,  22.745000,-157.9793333,       4739,  1020.7,   3.9904,  34.4668,2,-999.0000,5,     44.8,1,  -999.0,9, -999.00,9, -999.00,9,  -999.0,    1021,     3.9132, -999.00,9,     -999.0
33KB20100806,       PRS2,       2,          9,          4,       8004,2,20100808,       0857,  22.745000,-157.9793333,       4739,  1020.7,   3.9918,  34.4667,2,-999.0000,5,     44.8,1,  -999.0,9, -999.00,9, -999.00,9,  -999.0,    1021,     3.9145, -999.00,9,     -999.0
33KB20100806,       PRS2,       2,          9,          3,       8003,2,20100808,       0857,  22.745000,-157.9793333,       4739,  1020.5,   3.9952,  34.4663,2,-999.0000,5,     44.8,1,  -999.0,9, -999.00,9, -999.00,9,  -999.0,    1021,     3.9180, -999.00,9,     -999.0
33KB20100806,       PRS2,       2,          9,          2,       8002,2,20100808,       0857,  22.745000,-157.9793333,       4739,  1020.5,   3.9954,  34.4667,2,-999.0000,5,     44.8,1,  -999.0,9, -999.00,9, -999.00,9,  -999.0,    1021,     3.9181, -999.00,9,     -999.0
33KB20100806,       PRS2,       2,          9,          1,       8001,2,20100808,       0857,  22.745000,-157.9793333,       4739,  1020.2,   3.9951,  34.4665,2,  34.4659,2,     44.8,1,  -999.0,9, -999.00,9, -999.00,9,  -999.0,    1021,     3.9178, -999.00,9,     -999.0
33KB20100806,       PRS2,       2,         10,         14,       8014,2,20100808,       1157,  22.747667,-157.9500000,       4727,     7.4,  25.4708,  35.0973,2,-999.0000,5,    208.3,1,  -999.0,9, -999.00,9, -999.00,9,  -999.0,       8,    25.4692, -999.00,9,     -999.0
33KB20100806,       PRS2,       2,         10,         13,       8025,2,20100808,       1157,  22.747667,-157.9500000,       4727,     7.5,  25.4722,  35.0973,2,  35.0965,2,    208.3,1,  -999.0,9, -999.00,9, -999.00,9,  -999.0,       7,    25.4706, -999.00,9,     -999.0
33KB20100806,       PRS2,       2,         10,         12,       8012,2,20100808,       1157,  22.747667,-157.9500000,       4727,    24.8,  25.4764,  35.0986,2,-999.0000,5,    208.4,1,  -999.0,9, -999.00,9, -999.00,9,  -999.0,      24,    25.4710, -999.00,9,     -999.0
33KB20100806,       PRS2,       2,         10,         11,       8011,2,20100808,       1157,  22.747667,-157.9500000,       4727,    24.9,  25.4767,  35.0978,2,  35.0990,2,    208.4,1,  -999.0,9, -999.00,9, -999.00,9,  -999.0,      25,    25.4712, -999.00,9,     -999.0
33KB20100806,       PRS2,       2,         10,         10,       8010,2,20100808,       1157,  22.747667,-157.9500000,       4727,    45.7,  25.3664,  35.1549,2,-999.0000,5,    209.1,1,  -999.0,9, -999.00,9, -999.00,9,  -999.0,      46,    25.3564, -999.00,9,     -999.0
33KB20100806,       PRS2,       2,         10,          9,       8009,2,20100808,       1157,  22.747667,-157.9500000,       4727,    45.8,  25.3667,  35.1549,2,  35.1547,2,    209.2,1,  -999.0,9, -999.00,9, -999.00,9,  -999.0,      46,    25.3567, -999.00,9,     -999.0
33KB20100806,       PRS2,       2,         10,          8,       8008,2,20100808,       1157,  22.747667,-157.9500000,       4727,    76.4,  25.2890,  35.2234,2,-999.0000,5,    209.0,1,  -999.0,9, -999.00,9, -999.00,9,  -999.0,      76,    25.2723, -999.00,9,     -999.0
33KB20100806,       PRS2,       2,         10,          7,       8026,2,20100808,       1157,  22.747667,-157.9500000,       4727,    76.0,  25.2986,  35.2249,2,  35.2243,2,    209.0,1,  -999.0,9, -999.00,9, -999.00,9,  -999.0,      76,    25.2820, -999.00,9,     -999.0
33KB20100806,       PRS2,       2,         10,          6,       8006,2,20100808,       1157,  22.747667,-157.9500000,       4727,   100.5,  23.5739,  35.2112,2,-999.0000,5,    215.8,1,  -999.0,9, -999.00,9, -999.00,9,  -999.0,     100,    23.5530, -999.00,9,     -999.0
33KB20100806,       PRS2,       2,         10,          5,       8005,2,20100808,       1157,  22.747667,-157.9500000,       4727,   100.7,  23.5711,  35.2115,2,  35.2142,2,    215.7,1,  -999.0,9, -999.00,9, -999.00,9,  -999.0,     101,    23.5502, -999.00,9,     -999.0
33KB20100806,       PRS2,       2,         10,          4,       8004,2,20100808,       1157,  22.747667,-157.9500000,       4727,   126.2,  22.8614,  35.3288,2,-999.0000,5,    215.0,1,  -999.0,9, -999.00,9, -999.00,9,  -999.0,     126,    22.8357, -999.00,9,     -999.0
33KB20100806,       PRS2,       2,         10,          3,       8003,2,20100808,       1157,  22.747667,-157.9500000,       4727,   126.1,  22.8626,  35.3275,2,  35.3248,2,    215.2,1,  -999.0,9, -999.00,9, -999.00,9,  -999.0,     125,    22.8370, -999.00,9,     -999.0
33KB20100806,       PRS2,       2,         10,          2,       8002,2,20100808,       1157,  22.747667,-157.9500000,       4727,   510.0,   7.7475,  34.1194,2,  34.1197,2,    100.9,1,  -999.0,9, -999.00,9, -999.00,9,  -999.0,     510,     7.6965, -999.00,9,     -999.0
33KB20100806,       PRS2,       2,         10,          1,       8001,2,20100808,       1157,  22.747667,-157.9500000,       4727,  1020.7,   4.0618,  34.4676,2,  34.4671,2,     45.5,1,  -999.0,9, -999.00,9, -999.00,9,  -999.0,    1022,     3.9840, -999.00,9,     -999.0
33KB20100806,       PRS2,       2,         11,         24,       8024,2,20100808,       1516,  22.833667,-157.9490000,       4682,    25.2,  25.4875,  35.1364,2,  35.1412,2,    207.9,1,  -999.0,9, -999.00,9, -999.00,9,  -999.0,      25,    25.4819, -999.00,9,     -999.0
33KB20100806,       PRS2,       2,         11,         23,       8023,2,20100808,       1516,  22.833667,-157.9490000,       4682,   125.9,  23.0924,  35.3196,2,-999.0000,5,    216.9,1,  -999.0,9, -999.00,9, -999.00,9,  -999.0,     125,    23.0666, -999.00,9,     -999.0
33KB20100806,       PRS2,       2,         11,         22,       8022,2,20100808,       1516,  22.833667,-157.9490000,       4682,   126.1,  23.0922,  35.3200,2,-999.0000,5,    216.9,1,  -999.0,9, -999.00,9, -999.00,9,  -999.0,     126,    23.0664, -999.00,9,     -999.0
33KB20100806,       PRS2,       2,         11,         21,       8021,2,20100808,       1516,  22.833667,-157.9490000,       4682,   126.1,  23.0929,  35.3194,2,-999.0000,5,    217.0,1,  -999.0,9, -999.00,9, -999.00,9,  -999.0,     126,    23.0671, -999.00,9,     -999.0
33KB20100806,       PRS2,       2,         11,         20,       8020,2,20100808,       1516,  22.833667,-157.9490000,       4682,   126.0,  23.0938,  35.3165,2,-999.0000,5,    217.1,1,  -999.0,9, -999.00,9, -999.00,9,  -999.0,     126,    23.0680, -999.00,9,     -999.0
33KB20100806,       PRS2,       2,         11,         19,       8019,2,20100808,       1516,  22.833667,-157.9490000,       4682,   126.0,  23.0947,  35.3144,2,-999.0000,5,    217.3,1,  -999.0,9, -999.00,9, -999.00,9,  -999.0,     126,    23.0689, -999.00,9,     -999.0
33KB20100806,       PRS2,       2,         11,         18,       8018,2,20100808,       1516,  22.833667,-157.9490000,       4682,   200.2,  20.0840,  35.2279,2,-999.0000,5,    202.4,1,  -999.0,9, -999.00,9, -999.00,9,  -999.0,     201,    20.0468, -999.00,9,     -999.0
33KB20100806,       PRS2,       2,         11,         17,       8017,2,20100808,       1516,  22.833667,-157.9490000,       4682,   200.2,  20.0842,  35.2284,2,-999.0000,5,    202.6,1,  -999.0,9, -999.00,9, -999.00,9,  -999.0,     200,    20.0470, -999.00,9,     -999.0
33KB20100806,       PRS2,       2,         11,         16,       8016,2,20100808,       1516,  22.833667,-157.9490000,       4682,   200.1,  20.0864,  35.2284,2,-999.0000,5,    202.9,1,  -999.0,9, -999.00,9, -999.00,9,  -999.0,     199,    20.0493, -999.00,9,     -999.0
33KB20100806,       PRS2,       2,         11,         15,       8015,2,20100808,       1516,  22.833667,-157.9490000,       4682,   199.8,  20.0903,  35.2289,2,-999.0000,5,    203.2,1,  -999.0,9, -999.00,9, -999.00,9,  -999.0,     199,    20.0532, -999.00,9,     -999.0
33KB20100806,       PRS2,       2,         11,         14,       8014,2,20100808,       1516,  22.833667,-157.9490000,       4682,   199.7,  20.0918,  35.2291,2,  35.2322,2,    203.4,1,  -999.0,9, -999.00,9, -999.00,9,  -999.0,     200,    20.0547, -999.00,9,     -999.0
33KB20100806,       PRS2,       2,         11,         13,       8025,2,20100808,       1516,  22.833667,-157.9490000,       4682,   525.1,   7.3707,  34.1179,2,  34.1181,2,     91.4,1,  -999.0,9, -999.00,9, -999.00,9,  -999.0,     525,     7.3196, -999.00,9,     -999.0
33KB20100806,       PRS2,       2,         11,         12,       8012,2,20100808,       1516,  22.833667,-157.9490000,       4682,  1021.0,   4.0142,  34.4757,2,-999.0000,5,     46.0,1,  -999.0,9, -999.00,9, -999.00,9,  -999.0,    1021,     3.9367, -999.00,9,     -999.0
33KB20100806,       PRS2,       2,         11,         11,       8011,2,20100808,       1516,  22.833667,-157.9490000,       4682,  1021.1,   4.0142,  34.4757,2,-999.0000,5,     46.0,1,  -999.0,9, -999.00,9, -999.00,9,  -999.0,    1021,     3.9367, -999.00,9,     -999.0
33KB20100806,       PRS2,       2,         11,         10,       8010,2,20100808,       1516,  22.833667,-157.9490000,       4682,  1021.1,   4.0148,  34.4757,2,-999.0000,5,     46.0,1,  -999.0,9, -999.00,9, -999.00,9,  -999.0,    1021,     3.9373, -999.00,9,     -999.0
33KB20100806,       PRS2,       2,         11,          9,       8009,2,20100808,       1516,  22.833667,-157.9490000,       4682,  1020.9,   4.0148,  34.4757,2,-999.0000,5,     46.0,1,  -999.0,9, -999.00,9, -999.00,9,  -999.0,    1021,     3.9373, -999.00,9,     -999.0
33KB20100806,       PRS2,       2,         11,          8,       8008,2,20100808,       1516,  22.833667,-157.9490000,       4682,  1020.9,   4.0147,  34.4757,2,-999.0000,5,     46.0,1,  -999.0,9, -999.00,9, -999.00,9,  -999.0,    1021,     3.9372, -999.00,9,     -999.0
33KB20100806,       PRS2,       2,         11,          7,       8026,2,20100808,       1516,  22.833667,-157.9490000,       4682,  1021.0,   4.0147,  34.4757,2,-999.0000,5,     46.1,1,  -999.0,9, -999.00,9, -999.00,9,  -999.0,    1021,     3.9372, -999.00,9,     -999.0
33KB20100806,       PRS2,       2,         11,          6,       8006,2,20100808,       1516,  22.833667,-157.9490000,       4682,  1021.0,   4.0150,  34.4758,2,-999.0000,5,     46.1,1,  -999.0,9, -999.00,9, -999.00,9,  -999.0,    1021,     3.9375, -999.00,9,     -999.0
33KB20100806,       PRS2,       2,         11,          5,       8005,2,20100808,       1516,  22.833667,-157.9490000,       4682,  1020.9,   4.0156,  34.4759,2,-999.0000,5,     46.1,1,  -999.0,9, -999.00,9, -999.00,9,  -999.0,    1021,     3.9381, -999.00,9,     -999.0
33KB20100806,       PRS2,       2,         11,          4,       8004,2,20100808,       1516,  22.833667,-157.9490000,       4682,  1020.8,   4.0156,  34.4758,2,-999.0000,5,     46.1,1,  -999.0,9, -999.00,9, -999.00,9,  -999.0,    1021,     3.9381, -999.00,9,     -999.0
33KB20100806,       PRS2,       2,         11,          3,       8003,2,20100808,       1516,  22.833667,-157.9490000,       4682,  1020.9,   4.0151,  34.4761,2,-999.0000,5,     46.1,1,  -999.0,9, -999.00,9, -999.00,9,  -999.0,    1021,     3.9376, -999.00,9,     -999.0
33KB20100806,       PRS2,       2,         11,          2,       8002,2,20100808,       1516,  22.833667,-157.9490000,       4682,  1020.7,   4.0155,  34.4759,2,-999.0000,5,     46.2,1,  -999.0,9, -999.00,9, -999.00,9,  -999.0,    1021,     3.9380, -999.00,9,     -999.0
33KB20100806,       PRS2,       2,         11,          1,       8001,2,20100808,       1516,  22.833667,-157.9490000,       4682,  1020.7,   4.0155,  34.4759,2,  34.4756,2,     46.2,1,  -999.0,9, -999.00,9, -999.00,9,  -999.0,    1020,     3.9381, -999.00,9,     -999.0