BOTTLE,20141031SIOCCHAMB
EXPOCODE,SECT_ID,STNNBR,CASTNO,SAMPNO,BTLNBR,BTLNBR_FLAG_W,DATE,TIME,LATITUDE,LONGITUDE,DEPTH,CTDPRS,CTDTMP,CTDSAL,CTDSAL_FLAG_W,SALNTY,SALNTY_FLAG_W,CTDOXY,CTDOXY_FLAG_W,OXYGEN,OXYGEN_FLAG_W,SILCAT,SILCAT_FLAG_W,PHSPHT,PHSPHT_FLAG_W,REVPRS,CTDRAW,THETA,NO2+NO3,NO2+NO3_FLAG_W,REVTMP
,,,,,,,,,,,METERS,DBAR,ITS-90,PSS-78,,PSS-78,,UMOL/KG,,UMOL/KG,,UMOL/KG,,UMOL/KG,,DBAR,DBAR,ITS-90,UMOL/KG,,DEG C
33KB20100806,       PRS2,       2,          3,         19,       8019,2,20100807,       1340,  22.755500,-157.9878333,       4735,    25.2,  25.4417,  35.2129,2,-999.0000,9,    208.8,1,  -999.0,9, -999.00,9, -999.00,9,  -999.0,      25,    25.4362, -999.00,9,     -999.0
33KB20100806,       PRS2,       2,          3,         18,       8018,2,20100807,       1340,  22.755500,-157.9878333,       4735,    25.3,  25.4417,  35.2129,2,-999.0000,9,    208.9,1,  -999.0,9, -999.00,9, -999.00,9,  -999.0,      24,    25.4361, -999.00,9,     -999.0
33KB20100806,       PRS2,       2,          3,         17,       8017,2,20100807,       1340,  22.755500,-157.9878333,       4735,    25.2,  25.4419,  35.2128,2,-999.0000,9,    208.9,1,  -999.0,9, -999.00,9, -999.00,9,  -999.0,      25,    25.4364, -999.00,9,     -999.0
33KB20100806,       PRS2,       2,          3,         16,       8016,2,20100807,       1340,  22.755500,-157.9878333,       4735,    25.3,  25.4423,  35.2128,2,-999.0000,9,    209.0,1,  -999.0,9, -999.00,9, -999.00,9,  -999.0,      25,    25.4368, -999.00,9,     -999.0
33KB20100806,       PRS2,       2,          3,         15,       8015,2,20100807,       1340,  22.755500,-157.9878333,       4735,    25.3,  25.4384,  35.2130,2,-999.0000,9,    209.0,1,  -999.0,9, -999.00,9, -999.00,9,  -999.0,      25,    25.4329, -999.00,9,     -999.0
33KB20100806,       PRS2,       2,          3,         14,       8014,2,20100807,       1340,  22.755500,-157.9878333,       4735,    25.4,  25.4285,  35.2128,2,-999.0000,9,    209.0,1,  -999.0,9, -999.00,9, -999.00,9,  -999.0,      25,    25.4230, -999.00,9,     -999.0
33KB20100806,       PRS2,       2,          3,         13,       8025,2,20100807,       1340,  22.755500,-157.9878333,       4735,    25.4,  25.4285,  35.2128,2,-999.0000,9,    209.1,1,  -999.0,9, -999.00,9, -999.00,9,  -999.0,      25,    25.4230, -999.00,9,     -999.0
33KB20100806,       PRS2,       2,          3,         12,       8012,2,20100807,       1340,  22.755500,-157.9878333,       4735,    25.3,  25.4406,  35.2129,2,-999.0000,9,    209.1,1,  -999.0,9, -999.00,9, -999.00,9,  -999.0,      25,    25.4350, -999.00,9,     -999.0
33KB20100806,       PRS2,       2,          3,         11,       8011,2,20100807,       1340,  22.755500,-157.9878333,       4735,    45.5,  25.3472,  35.2126,2,-999.0000,9,    209.3,1,  -999.0,9, -999.00,9, -999.00,9,  -999.0,      46,    25.3372, -999.00,9,     -999.0
33KB20100806,       PRS2,       2,          3,         10,       8010,2,20100807,       1340,  22.755500,-157.9878333,       4735,    45.5,  25.3472,  35.2126,2,-999.0000,9,    209.3,1,  -999.0,9, -999.00,9, -999.00,9,  -999.0,      45,    25.3372, -999.00,9,     -999.0
33KB20100806,       PRS2,       2,          3,          9,       8009,2,20100807,       1340,  22.755500,-157.9878333,       4735,    45.5,  25.3473,  35.2126,2,-999.0000,9,    209.3,1,  -999.0,9, -999.00,9, -999.00,9,  -999.0,      45,    25.3373, -999.00,9,     -999.0
33KB20100806,       PRS2,       2,          3,          8,       8008,2,20100807,       1340,  22.755500,-157.9878333,       4735,    45.5,  25.3472,  35.2126,2,-999.0000,9,    209.4,1,  -999.0,9, -999.00,9, -999.00,9,  -999.0,      45,    25.3373, -999.00,9,     -999.0
33KB20100806,       PRS2,       2,          3,          7,       8026,2,20100807,       1340,  22.755500,-157.9878333,       4735,    45.5,  25.3472,  35.2126,2,-999.0000,9,    209.4,1,  -999.0,9, -999.00,9, -999.00,9,  -999.0,      45,    25.3373, -999.00,9,     -999.0
33KB20100806,       PRS2,       2,          3,          6,       8006,2,20100807,       1340,  22.755500,-157.9878333,       4735,    74.0,  25.1553,  35.2062,2,-999.0000,9,    211.4,1,  -999.0,9, -999.00,9, -999.00,9,  -999.0,      74,    25.1392, -999.00,9,     -999.0
33KB20100806,       PRS2,       2,          3,          5,       8005,2,20100807,       1340,  22.755500,-157.9878333,       4735,    74.1,  25.1547,  35.2057,2,-999.0000,9,    211.6,1,  -999.0,9, -999.00,9, -999.00,9,  -999.0,      74,    25.1386, -999.00,9,     -999.0
33KB20100806,       PRS2,       2,          3,          4,       8004,2,20100807,       1340,  22.755500,-157.9878333,       4735,    73.9,  25.1588,  35.2054,2,-999.0000,9,    211.7,1,  -999.0,9, -999.00,9, -999.00,9,  -999.0,      73,    25.1427, -999.00,9,     -999.0
33KB20100806,       PRS2,       2,          3,          3,       8003,2,20100807,       1340,  22.755500,-157.9878333,       4735,    73.7,  25.1665,  35.2061,2,-999.0000,9,    211.9,1,  -999.0,9, -999.00,9, -999.00,9,  -999.0,      73,    25.1505, -999.00,9,     -999.0
33KB20100806,       PRS2,       2,          3,          2,       8002,2,20100807,       1340,  22.755500,-157.9878333,       4735,    73.4,  25.1722,  35.2047,2,-999.0000,9,    212.0,1,  -999.0,9, -999.00,9, -999.00,9,  -999.0,      73,    25.1562, -999.00,9,     -999.0
33KB20100806,       PRS2,       2,          3,          1,       8001,2,20100807,       1340,  22.755500,-157.9878333,       4735,   151.0,  21.7479,  35.4374,2,-999.0000,9,    223.0,1,  -999.0,9, -999.00,9, -999.00,9,  -999.0,     151,    21.7183, -999.00,9,     -999.0
33KB20100806,       PRS2,       2,          4,         24,       8024,2,20100807,       1525,  22.748500,-157.9981667,       4743,     7.2,  25.4090,  35.2132,2,  35.2121,2,    209.0,2,   208.4,2,    1.01,2,    0.08,2,  -999.0,       8,    25.4074,    0.04,2,     -999.0
33KB20100806,       PRS2,       2,          4,         23,       8023,2,20100807,       1525,  22.748500,-157.9981667,       4743,   500.3,   7.9109,  34.1206,2,  34.1197,2,    105.4,2,   104.0,2,   41.84,2,    2.05,3,  -999.0,     500,     7.8603,   28.56,2,     -999.0
33KB20100806,       PRS2,       2,          4,         22,       8022,2,20100807,       1525,  22.748500,-157.9981667,       4743,   751.2,   5.0651,  34.2990,2,  34.2985,2,     36.5,2,    36.5,2,   87.90,2,    2.92,2,  -999.0,     750,     5.0037,   40.14,2,     -999.0
33KB20100806,       PRS2,       2,          4,         21,       8021,2,20100807,       1525,  22.748500,-157.9981667,       4743,   999.7,   4.0375,  34.4682,2,  34.4673,2,     46.0,2,    46.1,2,  108.82,2,    2.98,2,  -999.0,     999,     3.9616,   41.21,2,     -999.0
33KB20100806,       PRS2,       2,          4,         20,       8020,2,20100807,       1525,  22.748500,-157.9981667,       4743,  1199.4,   3.4996,  34.5240,2,  34.5229,2,     55.3,2,    55.8,2,  119.91,2,    2.92,3,  -999.0,    1199,     3.4116,   41.26,2,     -999.0
33KB20100806,       PRS2,       2,          4,         19,       8019,2,20100807,       1525,  22.748500,-157.9981667,       4743,  1399.3,   3.0272,  34.5556,2,  34.5543,2,     63.8,2,    64.4,2,  129.82,2,    2.92,2,  -999.0,    1399,     2.9274,   40.97,2,     -999.0
33KB20100806,       PRS2,       2,          4,         18,       8018,2,20100807,       1525,  22.748500,-157.9981667,       4743,  1599.8,   2.6650,  34.5797,2,  34.5791,2,     72.8,2,    73.1,2,  138.08,2,    2.82,3,  -999.0,    1600,     2.5529,   40.70,2,     -999.0
33KB20100806,       PRS2,       2,          4,         17,       8017,2,20100807,       1525,  22.748500,-157.9981667,       4743,  1799.3,   2.3593,  34.6027,2,  34.6018,2,     81.5,2,    82.1,2,  144.84,2,    2.83,2,  -999.0,    1799,     2.2346,   40.21,2,     -999.0
33KB20100806,       PRS2,       2,          4,         16,       8016,2,20100807,       1525,  22.748500,-157.9981667,       4743,  2000.2,   2.1078,  34.6198,2,  34.6199,2,     89.8,2,    90.0,2,  150.42,2,    2.80,2,  -999.0,    2001,     1.9697,   39.66,2,     -999.0
33KB20100806,       PRS2,       2,          4,         15,       8015,2,20100807,       1525,  22.748500,-157.9981667,       4743,  2200.0,   1.9338,  34.6336,2,  34.6323,2,     97.4,2,    97.7,2,  153.96,2,    2.71,3,  -999.0,    2200,     1.7814,   39.31,2,     -999.0
33KB20100806,       PRS2,       2,          4,         14,       8014,2,20100807,       1525,  22.748500,-157.9981667,       4743,  2399.5,   1.7796,  34.6463,2,  34.6453,2,    103.9,2,   104.5,2,  157.39,2,    2.67,3,  -999.0,    2400,     1.6124,   38.95,2,     -999.0
33KB20100806,       PRS2,       2,          4,         13,       8025,2,20100807,       1525,  22.748500,-157.9981667,       4743,  2599.7,   1.6819,  34.6554,2,  34.6545,2,    111.5,2,   111.6,2,  158.60,2,    2.69,2,  -999.0,    2600,     1.4986,   38.31,2,     -999.0
33KB20100806,       PRS2,       2,          4,         12,       8012,2,20100807,       1525,  22.748500,-157.9981667,       4743,  2800.8,   1.5989,  34.6632,2,  34.6639,2,    118.6,2,   118.7,2,  159.26,2,    2.66,2,  -999.0,    2801,     1.3988,   37.85,2,     -999.0
33KB20100806,       PRS2,       2,          4,         11,       8011,2,20100807,       1525,  22.748500,-157.9981667,       4743,  3000.2,   1.5488,  34.6697,2,  34.6692,2,    125.0,2,   125.1,2,  158.52,2,    2.61,2,  -999.0,    3001,     1.3309,   37.57,2,     -999.0
33KB20100806,       PRS2,       2,          4,         10,       8010,2,20100807,       1525,  22.748500,-157.9981667,       4743,  3200.9,   1.5026,  34.6753,2,  34.6753,2,    131.2,2,   131.9,2,  158.17,2,    2.59,2,  -999.0,    3201,     1.2664,   37.08,2,     -999.0
33KB20100806,       PRS2,       2,          4,          9,       8009,2,20100807,       1525,  22.748500,-157.9981667,       4743,  3399.8,   1.4821,  34.6792,2,  34.6794,2,    136.2,2,   135.7,2,  156.88,2,    2.56,2,  -999.0,    3400,     1.2266,   36.83,2,     -999.0
33KB20100806,       PRS2,       2,          4,          8,       8008,2,20100807,       1525,  22.748500,-157.9981667,       4743,  3600.5,   1.4634,  34.6826,2,  34.6822,2,    141.3,2,   140.9,2,  155.18,2,    2.55,2,  -999.0,    3600,     1.1879,   36.38,2,     -999.0
33KB20100806,       PRS2,       2,          4,          7,       8026,2,20100807,       1525,  22.748500,-157.9981667,       4743,  3800.1,   1.4566,  34.6851,2,  34.6850,2,    145.0,2,   144.5,2,  153.47,2,    2.51,2,  -999.0,    3800,     1.1603,   36.21,2,     -999.0
33KB20100806,       PRS2,       2,          4,          6,       8006,2,20100807,       1525,  22.748500,-157.9981667,       4743,  3999.1,   1.4574,  34.6869,2,  34.6865,2,    147.9,2,   147.8,2,  151.99,2,    2.49,2,  -999.0,    3999,     1.1398,   35.90,2,     -999.0
33KB20100806,       PRS2,       2,          4,          5,       8005,2,20100807,       1525,  22.748500,-157.9981667,       4743,  4200.3,   1.4654,  34.6881,2,  34.6885,2,    150.2,2,   149.6,2,  150.83,2,    2.44,3,  -999.0,    4201,     1.1255,   35.77,2,     -999.0
33KB20100806,       PRS2,       2,          4,          4,       8004,2,20100807,       1525,  22.748500,-157.9981667,       4743,  4399.7,   1.4774,  34.6890,2,  34.6897,2,    151.7,2,   151.5,2,  149.47,2,    2.47,2,  -999.0,    4400,     1.1146,   35.56,2,     -999.0
33KB20100806,       PRS2,       2,          4,          3,       8003,2,20100807,       1525,  22.748500,-157.9981667,       4743,  4500.1,   1.4855,  34.6893,2,  34.6893,2,    152.4,2,   152.6,2,  149.43,2,    2.47,2,  -999.0,    4500,     1.1110,   35.60,2,     -999.0
33KB20100806,       PRS2,       2,          4,          2,       8002,2,20100807,       1525,  22.748500,-157.9981667,       4743,  4599.6,   1.4932,  34.6896,2,  34.6899,2,    152.9,2,   152.8,2,  148.46,2,    2.49,2,  -999.0,    4600,     1.1069,   35.63,2,     -999.0
33KB20100806,       PRS2,       2,          4,          1,       8001,2,20100807,       1525,  22.748500,-157.9981667,       4743,  4807.7,   1.5104,  34.6904,2,  34.6914,2,    153.8,2,   154.3,2,  147.33,2,    2.43,3,  -999.0,    4808,     1.0989,   35.45,2,     -999.0
33KB20100806,       PRS2,       2,          5,         24,       8024,2,20100807,       2125,  22.749500,-158.0003333,       4745,    25.5,  25.4372,  35.2013,2,  35.2004,2,    208.4,2,   208.5,2,    1.05,2,    0.06,2,  -999.0,      26,    25.4316,    0.08,2,     -999.0
33KB20100806,       PRS2,       2,          5,         23,       8023,2,20100807,       2125,  22.749500,-158.0003333,       4745,    66.4,  25.3231,  35.2247,2,  35.2276,2,    209.7,2,   209.8,2,    1.04,2,    0.06,2,  -999.0,      66,    25.3086,    0.09,2,     -999.0
33KB20100806,       PRS2,       2,          5,         22,       8022,2,20100807,       2125,  22.749500,-158.0003333,       4745,   107.6,  23.5648,  35.1815,2,  35.1825,2,    216.3,2,   216.6,2,    1.15,2,    0.08,2,  -999.0,     107,    23.5424,    0.07,2,     -999.0
33KB20100806,       PRS2,       2,          5,         21,       8021,2,20100807,       2125,  22.749500,-158.0003333,       4745,   140.6,  22.0740,  35.1872,2,  35.1857,2,    207.7,2,   210.2,2,    1.39,2,    0.12,2,  -999.0,     141,    22.0461,    0.10,2,     -999.0
33KB20100806,       PRS2,       2,          5,         20,       8020,2,20100807,       2125,  22.749500,-158.0003333,       4745,   160.3,  21.4033,  35.2911,2,  35.2885,2,    204.8,2,   208.5,2,    1.44,2,    0.11,2,  -999.0,     161,    21.3721,    0.51,2,     -999.0
33KB20100806,       PRS2,       2,          5,         19,       8019,2,20100807,       2125,  22.749500,-158.0003333,       4745,   190.5,  20.5429,  35.2882,2,  35.2881,2,    204.1,2,   206.2,2,    1.64,2,    0.11,2,  -999.0,     191,    20.5069,    0.94,2,     -999.0
33KB20100806,       PRS2,       2,          5,         18,       8018,2,20100807,       2125,  22.749500,-158.0003333,       4745,   239.0,  18.5435,  35.0170,2,  35.0081,2,    206.8,2,   205.6,2,    2.64,2,    0.18,2,  -999.0,     239,    18.5015,    2.23,2,     -999.0
33KB20100806,       PRS2,       2,          5,         17,       8017,2,20100807,       2125,  22.749500,-158.0003333,       4745,   288.0,  16.7447,  34.7094,2,  34.6962,2,    207.3,2,   208.2,2,    3.81,2,    0.26,2,  -999.0,     288,    16.6976,    3.35,2,     -999.0
33KB20100806,       PRS2,       2,          5,         16,       8016,2,20100807,       2125,  22.749500,-158.0003333,       4745,   349.6,  11.9648,  34.1771,2,  34.1785,2,    190.5,2,   191.2,2,   11.83,2,    0.92,2,  -999.0,     349,    11.9194,   12.35,2,     -999.0
33KB20100806,       PRS2,       2,          5,         15,       8015,2,20100807,       2125,  22.749500,-158.0003333,       4745,   379.5,  10.6188,  34.1221,2,  34.1219,2,    173.1,2,   172.7,2,   18.35,2,    1.27,2,  -999.0,     379,    10.5732,   16.91,2,     -999.0
33KB20100806,       PRS2,       2,          5,         14,       8014,2,20100807,       2125,  22.749500,-158.0003333,       4745,   412.8,   9.8424,  34.1213,2,  34.1205,2,    154.9,2,   151.6,2,   24.38,2,    1.53,2,  -999.0,     413,     9.7950,   20.43,2,     -999.0
33KB20100806,       PRS2,       2,          5,         13,       8025,2,20100807,       2125,  22.749500,-158.0003333,       4745,   446.3,   9.2397,  34.1368,2,  34.1393,2,    137.2,2,   132.7,2,   29.92,2,    1.76,2,  -999.0,     446,     9.1903,   23.44,2,     -999.0
33KB20100806,       PRS2,       2,          5,         12,       8012,2,20100807,       2125,  22.749500,-158.0003333,       4745,   508.3,   7.6462,  34.1154,2,  34.1136,2,    100.2,2,    98.3,2,   44.94,2,    2.21,2,  -999.0,     508,     7.5958,   29.64,2,     -999.0
33KB20100806,       PRS2,       2,          5,         11,       8011,2,20100807,       2125,  22.749500,-158.0003333,       4745,   547.4,   6.8025,  34.0979,2,  34.0974,2,     86.9,2,    85.3,2,   54.69,2,    2.37,2,  -999.0,     548,     6.7515,   32.59,2,     -999.0
33KB20100806,       PRS2,       2,          5,         10,       8010,2,20100807,       2125,  22.749500,-158.0003333,       4745,   580.7,   6.2385,  34.1335,2,  34.1342,2,     71.6,2,    68.5,2,   63.63,2,    2.57,2,  -999.0,     580,     6.1868,   35.02,2,     -999.0
33KB20100806,       PRS2,       2,          5,          9,       8009,2,20100807,       2125,  22.749500,-158.0003333,       4745,   643.8,   5.8187,  34.1893,2,  34.1895,2,     49.0,2,    48.2,2,   72.45,2,    2.78,2,  -999.0,     644,     5.7630,   37.62,2,     -999.0
33KB20100806,       PRS2,       2,          5,          8,       8008,2,20100807,       2125,  22.749500,-158.0003333,       4745,   694.2,   5.3865,  34.2484,2,  34.2505,2,     41.2,2,    40.5,2,   81.77,2,    2.88,2,  -999.0,     695,     5.3285,   39.08,2,     -999.0
33KB20100806,       PRS2,       2,          5,          7,       8026,2,20100807,       2125,  22.749500,-158.0003333,       4745,   737.1,   5.1456,  34.2853,2,  34.2854,2,     39.8,2,    39.3,2,   86.15,2,    2.91,2,  -999.0,     738,     5.0850,   39.76,2,     -999.0
33KB20100806,       PRS2,       2,          5,          6,       8006,2,20100807,       2125,  22.749500,-158.0003333,       4745,   777.7,   4.8705,  34.3260,2,  34.3266,2,     35.7,2,    37.0,2,   91.71,2,    2.96,2,  -999.0,     777,     4.8080,   40.39,2,     -999.0
33KB20100806,       PRS2,       2,          5,          5,       8005,2,20100807,       2125,  22.749500,-158.0003333,       4745,   826.3,   4.6557,  34.3625,2,  34.3645,2,     37.2,2,    36.7,2,   96.44,2,    2.97,2,  -999.0,     826,     4.5903,   40.74,2,     -999.0
33KB20100806,       PRS2,       2,          5,          4,       8004,2,20100807,       2125,  22.749500,-158.0003333,       4745,   874.5,   4.4646,  34.4024,2,  34.4023,2,     38.4,2,    38.3,2,  100.44,2,    2.97,2,  -999.0,     875,     4.3963,   41.07,2,     -999.0
33KB20100806,       PRS2,       2,          5,          3,       8003,2,20100807,       2125,  22.749500,-158.0003333,       4745,   908.3,   4.3169,  34.4172,2,  34.4163,2,     38.5,2,    39.1,2,  104.19,2,    3.01,2,  -999.0,     909,     4.2467,   41.24,2,     -999.0
33KB20100806,       PRS2,       2,          5,          2,       8002,2,20100807,       2125,  22.749500,-158.0003333,       4745,   942.2,   4.2433,  34.4343,2,  34.4343,2,     41.2,2,    41.2,2,  104.43,2,    2.98,2,  -999.0,     942,     4.1708,   41.20,2,     -999.0
33KB20100806,       PRS2,       2,          5,          1,       8001,2,20100807,       2125,  22.749500,-158.0003333,       4745,  1009.9,   4.0282,  34.4686,2,  34.4699,2,     46.4,2,    46.3,2,  108.86,2,    2.94,3,  -999.0,    1010,     3.9516,   41.06,2,     -999.0