BOTTLE,20141031SIOCCHAMB
EXPOCODE,SECT_ID,STNNBR,CASTNO,SAMPNO,BTLNBR,BTLNBR_FLAG_W,DATE,TIME,LATITUDE,LONGITUDE,DEPTH,CTDPRS,CTDTMP,CTDSAL,CTDSAL_FLAG_W,SALNTY,SALNTY_FLAG_W,CTDOXY,CTDOXY_FLAG_W,OXYGEN,OXYGEN_FLAG_W,SILCAT,SILCAT_FLAG_W,PHSPHT,PHSPHT_FLAG_W,REVPRS,CTDRAW,THETA,NO2+NO3,NO2+NO3_FLAG_W,REVTMP
,,,,,,,,,,,METERS,DBAR,ITS-90,PSS-78,,PSS-78,,UMOL/KG,,UMOL/KG,,UMOL/KG,,UMOL/KG,,DBAR,DBAR,ITS-90,UMOL/KG,,DEG C
33KB20100806,       PRS2,       2,         15,         22,       8022,2,20100809,       0259,  22.750000,-157.9993333,       4743,     7.6,  25.6051,  35.1348,2,-999.0000,5,    208.1,1,  -999.0,9, -999.00,9, -999.00,9,  -999.0,       7,    25.6034, -999.00,9,     -999.0
33KB20100806,       PRS2,       2,         15,         21,       8021,2,20100809,       0259,  22.750000,-157.9993333,       4743,     7.6,  25.6116,  35.1351,2,  35.1335,2,    208.1,1,  -999.0,9, -999.00,9, -999.00,9,  -999.0,       7,    25.6099, -999.00,9,     -999.0
33KB20100806,       PRS2,       2,         15,         20,       8020,2,20100809,       0259,  22.750000,-157.9993333,       4743,    15.4,  25.5721,  35.1323,2,  35.1317,2,    208.2,1,  -999.0,9, -999.00,9, -999.00,9,  -999.0,      15,    25.5687, -999.00,9,     -999.0
33KB20100806,       PRS2,       2,         15,         19,       8019,2,20100809,       0259,  22.750000,-157.9993333,       4743,    25.4,  25.4871,  35.1259,2,-999.0000,5,    208.4,1,  -999.0,9, -999.00,9, -999.00,9,  -999.0,      25,    25.4815, -999.00,9,     -999.0
33KB20100806,       PRS2,       2,         15,         18,       8018,2,20100809,       0259,  22.750000,-157.9993333,       4743,    25.4,  25.4894,  35.1262,2,  35.1274,2,    208.4,1,  -999.0,9, -999.00,9, -999.00,9,  -999.0,      26,    25.4838, -999.00,9,     -999.0
33KB20100806,       PRS2,       2,         15,         17,       8017,2,20100809,       0259,  22.750000,-157.9993333,       4743,    35.6,  25.4724,  35.1236,2,  35.1232,2,    208.9,1,  -999.0,9, -999.00,9, -999.00,9,  -999.0,      35,    25.4645, -999.00,9,     -999.0
33KB20100806,       PRS2,       2,         15,         16,       8016,2,20100809,       0259,  22.750000,-157.9993333,       4743,    35.6,  25.4725,  35.1236,2,  35.1228,2,    208.9,1,  -999.0,9, -999.00,9, -999.00,9,  -999.0,      35,    25.4647, -999.00,9,     -999.0
33KB20100806,       PRS2,       2,         15,         15,       8015,2,20100809,       0259,  22.750000,-157.9993333,       4743,    45.1,  25.4318,  35.1174,2,-999.0000,5,    209.3,1,  -999.0,9, -999.00,9, -999.00,9,  -999.0,      46,    25.4219, -999.00,9,     -999.0
33KB20100806,       PRS2,       2,         15,         14,       8014,2,20100809,       0259,  22.750000,-157.9993333,       4743,    45.0,  25.4328,  35.1177,2,  35.1207,2,    209.3,1,  -999.0,9, -999.00,9, -999.00,9,  -999.0,      45,    25.4229, -999.00,9,     -999.0
33KB20100806,       PRS2,       2,         15,         13,       8025,2,20100809,       0259,  22.750000,-157.9993333,       4743,    60.8,  25.1291,  35.3024,2,  35.3007,2,    215.8,1,  -999.0,9, -999.00,9, -999.00,9,  -999.0,      60,    25.1159, -999.00,9,     -999.0
33KB20100806,       PRS2,       2,         15,         12,       8012,2,20100809,       0259,  22.750000,-157.9993333,       4743,    75.2,  24.7357,  35.3588,2,-999.0000,5,    216.9,1,  -999.0,9, -999.00,9, -999.00,9,  -999.0,      75,    24.7195, -999.00,9,     -999.0
33KB20100806,       PRS2,       2,         15,         11,       8011,2,20100809,       0259,  22.750000,-157.9993333,       4743,    75.3,  24.7360,  35.3593,2,  35.3539,2,    216.9,1,  -999.0,9, -999.00,9, -999.00,9,  -999.0,      75,    24.7198, -999.00,9,     -999.0
33KB20100806,       PRS2,       2,         15,         10,       8010,2,20100809,       0259,  22.750000,-157.9993333,       4743,    99.9,  23.1071,  35.3003,2,-999.0000,5,    217.1,1,  -999.0,9, -999.00,9, -999.00,9,  -999.0,     100,    23.0866, -999.00,9,     -999.0
33KB20100806,       PRS2,       2,         15,          9,       8009,2,20100809,       0259,  22.750000,-157.9993333,       4743,    99.9,  23.1055,  35.3002,2,  35.3015,2,    216.8,1,  -999.0,9, -999.00,9, -999.00,9,  -999.0,     100,    23.0850, -999.00,9,     -999.0
33KB20100806,       PRS2,       2,         15,          8,       8008,2,20100809,       0259,  22.750000,-157.9993333,       4743,   125.2,  22.5101,  35.4185,2,-999.0000,5,    223.8,1,  -999.0,9, -999.00,9, -999.00,9,  -999.0,     125,    22.4848, -999.00,9,     -999.0
33KB20100806,       PRS2,       2,         15,          7,       8026,2,20100809,       0259,  22.750000,-157.9993333,       4743,   125.2,  22.5089,  35.4178,2,  35.4186,2,    223.8,1,  -999.0,9, -999.00,9, -999.00,9,  -999.0,     125,    22.4837, -999.00,9,     -999.0
33KB20100806,       PRS2,       2,         15,          6,       8006,2,20100809,       0259,  22.750000,-157.9993333,       4743,   150.8,  21.9500,  35.4314,2,-999.0000,5,    218.8,1,  -999.0,9, -999.00,9, -999.00,9,  -999.0,     150,    21.9202, -999.00,9,     -999.0
33KB20100806,       PRS2,       2,         15,          5,       8005,2,20100809,       0259,  22.750000,-157.9993333,       4743,   150.6,  21.9540,  35.4317,2,  35.4308,2,    218.8,1,  -999.0,9, -999.00,9, -999.00,9,  -999.0,     150,    21.9242, -999.00,9,     -999.0
33KB20100806,       PRS2,       2,         15,          4,       8004,2,20100809,       0259,  22.750000,-157.9993333,       4743,   176.9,  21.2494,  35.3654,2,-999.0000,5,    211.4,1,  -999.0,9, -999.00,9, -999.00,9,  -999.0,     176,    21.2151, -999.00,9,     -999.0
33KB20100806,       PRS2,       2,         15,          3,       8003,2,20100809,       0259,  22.750000,-157.9993333,       4743,   176.8,  21.2520,  35.3662,2,  35.3675,2,    211.4,1,  -999.0,9, -999.00,9, -999.00,9,  -999.0,     176,    21.2178, -999.00,9,     -999.0
33KB20100806,       PRS2,       2,         15,          2,       8002,2,20100809,       0259,  22.750000,-157.9993333,       4743,   540.7,   7.3403,  34.0900,2,  34.0909,2,    102.8,1,  -999.0,9, -999.00,9, -999.00,9,  -999.0,     541,     7.2878, -999.00,9,     -999.0
33KB20100806,       PRS2,       2,         15,          1,       8001,2,20100809,       0259,  22.750000,-157.9993333,       4743,  1020.7,   3.9881,  34.4641,2,  34.4632,2,     43.7,1,  -999.0,9, -999.00,9, -999.00,9,  -999.0,    1021,     3.9109, -999.00,9,     -999.0
33KB20100806,       PRS2,       2,         16,         22,       8022,2,20100809,       0552,  22.843333,-158.0216667,       4710,     4.6,  25.5470,  35.1050,2,-999.0000,5,    209.6,1,  -999.0,9, -999.00,9, -999.00,9,  -999.0,       5,    25.5460, -999.00,9,     -999.0
33KB20100806,       PRS2,       2,         16,         21,       8021,2,20100809,       0552,  22.843333,-158.0216667,       4710,     4.6,  25.5477,  35.1053,2,  35.1045,2,    209.6,1,  -999.0,9, -999.00,9, -999.00,9,  -999.0,       5,    25.5467, -999.00,9,     -999.0
33KB20100806,       PRS2,       2,         16,         20,       8020,2,20100809,       0552,  22.843333,-158.0216667,       4710,    25.0,  25.5298,  35.1026,2,-999.0000,5,    209.6,1,  -999.0,9, -999.00,9, -999.00,9,  -999.0,      25,    25.5243, -999.00,9,     -999.0
33KB20100806,       PRS2,       2,         16,         19,       8019,2,20100809,       0552,  22.843333,-158.0216667,       4710,    25.1,  25.5345,  35.1026,2,  35.1073,2,    209.5,1,  -999.0,9, -999.00,9, -999.00,9,  -999.0,      25,    25.5290, -999.00,9,     -999.0
33KB20100806,       PRS2,       2,         16,         18,       8018,2,20100809,       0552,  22.843333,-158.0216667,       4710,    45.5,  25.3558,  35.1623,2,-999.0000,5,    209.5,1,  -999.0,9, -999.00,9, -999.00,9,  -999.0,      45,    25.3458, -999.00,9,     -999.0
33KB20100806,       PRS2,       2,         16,         17,       8017,2,20100809,       0552,  22.843333,-158.0216667,       4710,    45.6,  25.3564,  35.1623,2,  35.1668,2,    209.5,1,  -999.0,9, -999.00,9, -999.00,9,  -999.0,      46,    25.3464, -999.00,9,     -999.0
33KB20100806,       PRS2,       2,         16,         16,       8016,2,20100809,       0552,  22.843333,-158.0216667,       4710,    59.9,  25.3054,  35.2351,2,  35.2221,2,    209.5,1,  -999.0,9, -999.00,9, -999.00,9,  -999.0,      60,    25.2923, -999.00,9,     -999.0
33KB20100806,       PRS2,       2,         16,         15,       8015,2,20100809,       0552,  22.843333,-158.0216667,       4710,    75.2,  24.1178,  35.1017,2,-999.0000,5,    218.8,1,  -999.0,9, -999.00,9, -999.00,9,  -999.0,      75,    24.1019, -999.00,9,     -999.0
33KB20100806,       PRS2,       2,         16,         14,       8014,2,20100809,       0552,  22.843333,-158.0216667,       4710,    75.2,  24.0495,  35.1054,2,  35.1061,2,    218.8,1,  -999.0,9, -999.00,9, -999.00,9,  -999.0,      75,    24.0336, -999.00,9,     -999.0
33KB20100806,       PRS2,       2,         16,         13,       8025,2,20100809,       0552,  22.843333,-158.0216667,       4710,    85.3,  23.5872,  35.1956,2,  35.2036,2,    217.3,1,  -999.0,9, -999.00,9, -999.00,9,  -999.0,      85,    23.5695, -999.00,9,     -999.0
33KB20100806,       PRS2,       2,         16,         12,       8012,2,20100809,       0552,  22.843333,-158.0216667,       4710,   100.1,  23.0892,  35.2964,2,-999.0000,5,    212.9,1,  -999.0,9, -999.00,9, -999.00,9,  -999.0,     100,    23.0687, -999.00,9,     -999.0
33KB20100806,       PRS2,       2,         16,         11,       8011,2,20100809,       0552,  22.843333,-158.0216667,       4710,   100.1,  23.0892,  35.2964,2,  35.2976,2,    212.9,1,  -999.0,9, -999.00,9, -999.00,9,  -999.0,     100,    23.0687, -999.00,9,     -999.0
33KB20100806,       PRS2,       2,         16,         10,       8010,2,20100809,       0552,  22.843333,-158.0216667,       4710,   115.6,  22.5859,  35.3669,2,  35.3762,2,    220.5,1,  -999.0,9, -999.00,9, -999.00,9,  -999.0,     116,    22.5626, -999.00,9,     -999.0
33KB20100806,       PRS2,       2,         16,          9,       8009,2,20100809,       0552,  22.843333,-158.0216667,       4710,   125.2,  22.5718,  35.4132,2,-999.0000,5,    222.3,1,  -999.0,9, -999.00,9, -999.00,9,  -999.0,     126,    22.5465, -999.00,9,     -999.0
33KB20100806,       PRS2,       2,         16,          8,       8008,2,20100809,       0552,  22.843333,-158.0216667,       4710,   125.1,  22.5767,  35.4131,2,  35.4117,2,    222.3,1,  -999.0,9, -999.00,9, -999.00,9,  -999.0,     125,    22.5514, -999.00,9,     -999.0
33KB20100806,       PRS2,       2,         16,          7,       8026,2,20100809,       0552,  22.843333,-158.0216667,       4710,   134.8,  22.2494,  35.3923,2,  35.3800,3,    217.2,1,  -999.0,9, -999.00,9, -999.00,9,  -999.0,     135,    22.2224, -999.00,9,     -999.0
33KB20100806,       PRS2,       2,         16,          6,       8006,2,20100809,       0552,  22.843333,-158.0216667,       4710,   150.0,  21.4309,  35.2544,2,-999.0000,5,    200.7,1,  -999.0,9, -999.00,9, -999.00,9,  -999.0,     150,    21.4018, -999.00,9,     -999.0
33KB20100806,       PRS2,       2,         16,          5,       8005,2,20100809,       0552,  22.843333,-158.0216667,       4710,   150.0,  21.4253,  35.2538,2,  35.2568,2,    200.7,1,  -999.0,9, -999.00,9, -999.00,9,  -999.0,     150,    21.3961, -999.00,9,     -999.0
33KB20100806,       PRS2,       2,         16,          4,       8004,2,20100809,       0552,  22.843333,-158.0216667,       4710,   175.9,  21.3515,  35.4233,2,-999.0000,5,    218.8,1,  -999.0,9, -999.00,9, -999.00,9,  -999.0,     176,    21.3174, -999.00,9,     -999.0
33KB20100806,       PRS2,       2,         16,          3,       8003,2,20100809,       0552,  22.843333,-158.0216667,       4710,   175.8,  21.3562,  35.4234,2,  35.4255,2,    218.8,1,  -999.0,9, -999.00,9, -999.00,9,  -999.0,     176,    21.3220, -999.00,9,     -999.0
33KB20100806,       PRS2,       2,         16,          2,       8002,2,20100809,       0552,  22.843333,-158.0216667,       4710,   500.3,   7.8170,  34.1221,2,  34.1219,2,    101.7,1,  -999.0,9, -999.00,9, -999.00,9,  -999.0,     500,     7.7668, -999.00,9,     -999.0
33KB20100806,       PRS2,       2,         16,          1,       8001,2,20100809,       0552,  22.843333,-158.0216667,       4710,  1019.9,   4.0578,  34.4666,2,  34.4667,2,     45.5,1,  -999.0,9, -999.00,9, -999.00,9,  -999.0,    1020,     3.9801, -999.00,9,     -999.0
33KB20100806,       PRS2,       2,         17,         14,       8014,2,20100809,       0902,  22.750500,-158.0010000,       4746,     5.8,  25.5040,  35.1414,2,  35.1410,2,    207.9,2,   208.0,2, -999.00,9, -999.00,9,  -999.0,       6,    25.5027, -999.00,9,     -999.0
33KB20100806,       PRS2,       2,         17,         13,       8025,2,20100809,       0902,  22.750500,-158.0010000,       4746,   110.8,  22.8094,  35.3158,2,  35.3169,2,    211.0,2,   215.8,2, -999.00,9, -999.00,9,  -999.0,     111,    22.7869, -999.00,9,     -999.0
33KB20100806,       PRS2,       2,         17,         12,       8012,2,20100809,       0902,  22.750500,-158.0010000,       4746,   510.1,   7.4273,  34.0927,2,  34.0938,2,    101.3,2,   102.9,2, -999.00,9, -999.00,9,  -999.0,     510,     7.3775, -999.00,9,     -999.0
33KB20100806,       PRS2,       2,         17,         11,       8011,2,20100809,       0902,  22.750500,-158.0010000,       4746,   821.8,   4.6915,  34.3599,2,  34.3584,2,     37.5,2,    37.0,2, -999.00,9, -999.00,9,  -999.0,     822,     4.6263, -999.00,9,     -999.0
33KB20100806,       PRS2,       2,         17,         10,       8010,2,20100809,       0902,  22.750500,-158.0010000,       4746,  1000.0,   4.0377,  34.4580,2,-999.0000,5,     43.2,2,  -999.0,5, -999.00,9, -999.00,9,  -999.0,    1000,     3.9619, -999.00,9,     -999.0
33KB20100806,       PRS2,       2,         17,          9,       8009,2,20100809,       0902,  22.750500,-158.0010000,       4746,  2000.0,   2.1762,  34.6158,2,-999.0000,5,     87.6,2,  -999.0,5, -999.00,9, -999.00,9,  -999.0,    2000,     2.0372, -999.00,9,     -999.0
33KB20100806,       PRS2,       2,         17,          8,       8008,2,20100809,       0902,  22.750500,-158.0010000,       4746,  2000.0,   2.1764,  34.6157,2,  34.6154,2,     87.6,2,    87.7,2, -999.00,9, -999.00,9,  -999.0,    2000,     2.0373, -999.00,9,     -999.0
33KB20100806,       PRS2,       2,         17,          7,       8026,2,20100809,       0902,  22.750500,-158.0010000,       4746,  3000.8,   1.5516,  34.6697,2,-999.0000,5,    124.2,2,  -999.0,5, -999.00,9, -999.00,9,  -999.0,    3001,     1.3336, -999.00,9,     -999.0
33KB20100806,       PRS2,       2,         17,          6,       8006,2,20100809,       0902,  22.750500,-158.0010000,       4746,  3001.0,   1.5516,  34.6697,2,  34.6692,2,    124.2,2,   124.7,2, -999.00,9, -999.00,9,  -999.0,    3002,     1.3336, -999.00,9,     -999.0
33KB20100806,       PRS2,       2,         17,          5,       8005,2,20100809,       0902,  22.750500,-158.0010000,       4746,  4000.1,   1.4616,  34.6867,2,-999.0000,5,    147.2,2,  -999.0,5, -999.00,9, -999.00,9,  -999.0,    4000,     1.1438, -999.00,9,     -999.0
33KB20100806,       PRS2,       2,         17,          4,       8004,2,20100809,       0902,  22.750500,-158.0010000,       4746,  4000.2,   1.4616,  34.6867,2,  34.6940,4,    147.3,3,   146.9,2, -999.00,9, -999.00,9,  -999.0,    4001,     1.1438, -999.00,9,     -999.0
33KB20100806,       PRS2,       2,         17,          3,       8003,2,20100809,       0902,  22.750500,-158.0010000,       4746,  4750.1,   1.5039,  34.6907,2,-999.0000,5,    153.6,2,  -999.0,5, -999.00,9, -999.00,9,  -999.0,    4751,     1.0996, -999.00,9,     -999.0
33KB20100806,       PRS2,       2,         17,          2,       8002,2,20100809,       0902,  22.750500,-158.0010000,       4746,  4809.7,   1.5110,  34.6907,2,-999.0000,5,    153.6,2,  -999.0,5, -999.00,9, -999.00,9,  -999.0,    4810,     1.0993, -999.00,9,     -999.0
33KB20100806,       PRS2,       2,         17,          1,       8001,2,20100809,       0902,  22.750500,-158.0010000,       4746,  4809.8,   1.5110,  34.6906,2,  34.6908,2,    153.6,2,   154.0,2, -999.00,9, -999.00,9,  -999.0,    4810,     1.0993, -999.00,9,     -999.0
33KB20100806,       PRS2,       6,          1,         13,       8025,2,20100810,       0557,  21.845500,-158.3630000,       2432,     6.7,  25.8938,  35.1458,2,  35.1447,2,    206.2,1,  -999.0,9, -999.00,9, -999.00,9,  -999.0,       7,    25.8923, -999.00,9,     -999.0
33KB20100806,       PRS2,       6,          1,         12,       8012,2,20100810,       0557,  21.845500,-158.3630000,       2432,    25.3,  25.8982,  35.1454,2,  35.1441,2,    206.2,1,  -999.0,9, -999.00,9, -999.00,9,  -999.0,      25,    25.8926, -999.00,9,     -999.0
33KB20100806,       PRS2,       6,          1,         11,       8011,2,20100810,       0557,  21.845500,-158.3630000,       2432,    45.0,  25.5747,  35.1614,2,  35.1681,2,    207.7,1,  -999.0,9, -999.00,9, -999.00,9,  -999.0,      45,    25.5648, -999.00,9,     -999.0
33KB20100806,       PRS2,       6,          1,         10,       8010,2,20100810,       0557,  21.845500,-158.3630000,       2432,    75.5,  24.5935,  35.2251,2,  35.2101,3,    213.0,1,  -999.0,9, -999.00,9, -999.00,9,  -999.0,      75,    24.5774, -999.00,9,     -999.0
33KB20100806,       PRS2,       6,          1,          9,       8009,2,20100810,       0557,  21.845500,-158.3630000,       2432,   100.9,  23.3737,  35.2189,2,  35.2231,2,    211.2,1,  -999.0,9, -999.00,9, -999.00,9,  -999.0,     100,    23.3529, -999.00,9,     -999.0
33KB20100806,       PRS2,       6,          1,          8,       8008,2,20100810,       0557,  21.845500,-158.3630000,       2432,   125.4,  22.1887,  35.2653,2,  35.2666,2,    204.7,1,  -999.0,9, -999.00,9, -999.00,9,  -999.0,     125,    22.1637, -999.00,9,     -999.0
33KB20100806,       PRS2,       6,          1,          7,       8026,2,20100810,       0557,  21.845500,-158.3630000,       2432,   150.0,  20.2910,  35.1841,2,  35.1851,2,    200.5,1,  -999.0,9, -999.00,9, -999.00,9,  -999.0,     149,    20.2630, -999.00,9,     -999.0
33KB20100806,       PRS2,       6,          1,          6,       8006,2,20100810,       0557,  21.845500,-158.3630000,       2432,   175.1,  19.2135,  35.0449,2,  35.0506,2,    195.9,1,  -999.0,9, -999.00,9, -999.00,9,  -999.0,     175,    19.1820, -999.00,9,     -999.0
33KB20100806,       PRS2,       6,          1,          5,       8005,2,20100810,       0557,  21.845500,-158.3630000,       2432,   500.2,   7.2083,  34.1221,2,  34.1221,2,     95.6,1,  -999.0,9, -999.00,9, -999.00,9,  -999.0,     500,     7.1603, -999.00,9,     -999.0
33KB20100806,       PRS2,       6,          1,          4,       8004,2,20100810,       0557,  21.845500,-158.3630000,       2432,   999.5,   4.1663,  34.4766,2,  34.4756,2,     44.9,1,  -999.0,9, -999.00,9, -999.00,9,  -999.0,     999,     4.0894, -999.00,9,     -999.0
33KB20100806,       PRS2,       6,          1,          3,       8003,2,20100810,       0557,  21.845500,-158.3630000,       2432,  1500.1,   2.9937,  34.5626,2,  34.5616,2,     65.1,1,  -999.0,9, -999.00,9, -999.00,9,  -999.0,    1500,     2.8859, -999.00,9,     -999.0
33KB20100806,       PRS2,       6,          1,          2,       8002,2,20100810,       0557,  21.845500,-158.3630000,       2432,  1999.8,   2.2151,  34.6162,2,  34.6160,2,     88.5,1,  -999.0,9, -999.00,9, -999.00,9,  -999.0,    1999,     2.0755, -999.00,9,     -999.0
33KB20100806,       PRS2,       6,          1,          1,       8001,2,20100810,       0557,  21.845500,-158.3630000,       2432,  2489.3,   1.8162,  34.6468,2,  34.6462,2,    107.1,1,  -999.0,9, -999.00,9, -999.00,9,  -999.0,    2489,     1.6404, -999.00,9,     -999.0