BOTTLE,20141031SIOCCHAMB
EXPOCODE,SECT_ID,STNNBR,CASTNO,SAMPNO,BTLNBR,BTLNBR_FLAG_W,DATE,TIME,LATITUDE,LONGITUDE,DEPTH,CTDPRS,CTDTMP,CTDSAL,CTDSAL_FLAG_W,SALNTY,SALNTY_FLAG_W,CTDOXY,CTDOXY_FLAG_W,OXYGEN,OXYGEN_FLAG_W,SILCAT,SILCAT_FLAG_W,PHSPHT,PHSPHT_FLAG_W,REVPRS,CTDRAW,THETA,NO2+NO3,NO2+NO3_FLAG_W,REVTMP
,,,,,,,,,,,METERS,DBAR,ITS-90,PSS-78,,PSS-78,,UMOL/KG,,UMOL/KG,,UMOL/KG,,UMOL/KG,,DBAR,DBAR,ITS-90,UMOL/KG,,DEG C
33KB20100806,       PRS2,       2,          6,         21,       8021,2,20100808,       0003,  22.781833,-157.9968333,       4731,     6.7,  25.7021,  35.2078,2,  35.2075,2,    208.4,1,  -999.0,9, -999.00,9, -999.00,9,  -999.0,       6,    25.7006, -999.00,9,     -999.0
33KB20100806,       PRS2,       2,          6,         20,       8020,2,20100808,       0003,  22.781833,-157.9968333,       4731,    24.5,  25.4267,  35.2128,2,-999.0000,5,    208.9,1,  -999.0,9, -999.00,9, -999.00,9,  -999.0,      24,    25.4213, -999.00,9,     -999.0
33KB20100806,       PRS2,       2,          6,         19,       8019,2,20100808,       0003,  22.781833,-157.9968333,       4731,    24.5,  25.4251,  35.2127,2,-999.0000,5,    208.8,1,  -999.0,9, -999.00,9, -999.00,9,  -999.0,      25,    25.4197, -999.00,9,     -999.0
33KB20100806,       PRS2,       2,          6,         18,       8018,2,20100808,       0003,  22.781833,-157.9968333,       4731,    24.6,  25.4249,  35.2126,2,-999.0000,5,    208.8,1,  -999.0,9, -999.00,9, -999.00,9,  -999.0,      25,    25.4195, -999.00,9,     -999.0
33KB20100806,       PRS2,       2,          6,         17,       8017,2,20100808,       0003,  22.781833,-157.9968333,       4731,    24.7,  25.4251,  35.2125,2,  35.2115,2,    208.8,1,  -999.0,9, -999.00,9, -999.00,9,  -999.0,      25,    25.4197, -999.00,9,     -999.0
33KB20100806,       PRS2,       2,          6,         16,       8016,2,20100808,       0003,  22.781833,-157.9968333,       4731,    44.5,  25.4027,  35.2105,2,  35.2093,2,    209.2,1,  -999.0,9, -999.00,9, -999.00,9,  -999.0,      44,    25.3929, -999.00,9,     -999.0
33KB20100806,       PRS2,       2,          6,         15,       8015,2,20100808,       0003,  22.781833,-157.9968333,       4731,    74.5,  25.3278,  35.2412,2,  35.2416,2,    209.9,1,  -999.0,9, -999.00,9, -999.00,9,  -999.0,      74,    25.3115, -999.00,9,     -999.0
33KB20100806,       PRS2,       2,          6,         14,       8014,2,20100808,       0003,  22.781833,-157.9968333,       4731,    99.6,  23.9148,  35.1092,2,  35.1181,2,    219.1,1,  -999.0,9, -999.00,9, -999.00,9,  -999.0,     100,    23.8939, -999.00,9,     -999.0
33KB20100806,       PRS2,       2,          6,         13,       8025,2,20100808,       0003,  22.781833,-157.9968333,       4731,   125.2,  23.2498,  35.3974,2,  35.3622,3,    224.4,1,  -999.0,9, -999.00,9, -999.00,9,  -999.0,     125,    23.2240, -999.00,9,     -999.0
33KB20100806,       PRS2,       2,          6,         12,       8012,2,20100808,       0003,  22.781833,-157.9968333,       4731,   150.6,  21.3705,  35.2672,2,-999.0000,5,    204.2,1,  -999.0,9, -999.00,9, -999.00,9,  -999.0,     151,    21.3413, -999.00,9,     -999.0
33KB20100806,       PRS2,       2,          6,         11,       8011,2,20100808,       0003,  22.781833,-157.9968333,       4731,   150.6,  21.3692,  35.2659,2,  35.2654,2,    204.5,1,  -999.0,9, -999.00,9, -999.00,9,  -999.0,     151,    21.3400, -999.00,9,     -999.0
33KB20100806,       PRS2,       2,          6,         10,       8010,2,20100808,       0003,  22.781833,-157.9968333,       4731,   175.4,  21.2224,  35.3772,2,  35.3758,2,    215.4,1,  -999.0,9, -999.00,9, -999.00,9,  -999.0,     175,    21.1885, -999.00,9,     -999.0
33KB20100806,       PRS2,       2,          6,          9,       8009,2,20100808,       0003,  22.781833,-157.9968333,       4731,   200.4,  20.2525,  35.2397,2,  35.2396,2,    200.4,1,  -999.0,9, -999.00,9, -999.00,9,  -999.0,     200,    20.2150, -999.00,9,     -999.0
33KB20100806,       PRS2,       2,          6,          8,       8008,2,20100808,       0003,  22.781833,-157.9968333,       4731,   251.5,  18.2684,  34.9732,2,  34.9772,2,    208.0,1,  -999.0,9, -999.00,9, -999.00,9,  -999.0,     252,    18.2247, -999.00,9,     -999.0
33KB20100806,       PRS2,       2,          6,          7,       8026,2,20100808,       0003,  22.781833,-157.9968333,       4731,   352.5,  12.5520,  34.2083,2,  34.2079,2,    186.9,1,  -999.0,9, -999.00,9, -999.00,9,  -999.0,     353,    12.5047, -999.00,9,     -999.0
33KB20100806,       PRS2,       2,          6,          6,       8006,2,20100808,       0003,  22.781833,-157.9968333,       4731,   351.9,  12.5596,  34.2071,2,  34.2085,2,    187.1,1,  -999.0,9, -999.00,9, -999.00,9,  -999.0,     352,    12.5124, -999.00,9,     -999.0
33KB20100806,       PRS2,       2,          6,          5,       8005,2,20100808,       0003,  22.781833,-157.9968333,       4731,   499.6,   7.8863,  34.1192,2,-999.0000,5,    104.3,1,  -999.0,9, -999.00,9, -999.00,9,  -999.0,     500,     7.8358, -999.00,9,     -999.0
33KB20100806,       PRS2,       2,          6,          4,       8004,2,20100808,       0003,  22.781833,-157.9968333,       4731,   499.9,   7.8851,  34.1188,2,-999.0000,5,    104.0,1,  -999.0,9, -999.00,9, -999.00,9,  -999.0,     501,     7.8346, -999.00,9,     -999.0
33KB20100806,       PRS2,       2,          6,          3,       8003,2,20100808,       0003,  22.781833,-157.9968333,       4731,   536.3,   7.2625,  34.1061,2,  34.1054,2,     96.1,1,  -999.0,9, -999.00,9, -999.00,9,  -999.0,     536,     7.2107, -999.00,9,     -999.0
33KB20100806,       PRS2,       2,          6,          2,       8002,2,20100808,       0003,  22.781833,-157.9968333,       4731,  1020.3,   3.9896,  34.4770,2,  34.4758,2,     46.7,1,  -999.0,9, -999.00,9, -999.00,9,  -999.0,    1021,     3.9124, -999.00,9,     -999.0
33KB20100806,       PRS2,       2,          6,          1,       8001,2,20100808,       0003,  22.781833,-157.9968333,       4731,  1020.4,   3.9891,  34.4771,2,-999.0000,5,     46.7,1,  -999.0,9, -999.00,9, -999.00,9,  -999.0,    1021,     3.9119, -999.00,9,     -999.0
33KB20100806,       PRS2,       2,          7,         14,       8014,2,20100808,       0254,  22.817833,-158.0301667,       4726,     7.2,  25.6895,  35.1917,2,  35.1900,2,    208.2,1,  -999.0,9, -999.00,9, -999.00,9,  -999.0,       7,    25.6879, -999.00,9,     -999.0
33KB20100806,       PRS2,       2,          7,         13,       8025,2,20100808,       0254,  22.817833,-158.0301667,       4726,    25.6,  25.4089,  35.2031,2,  35.2024,2,    209.0,1,  -999.0,9, -999.00,9, -999.00,9,  -999.0,      26,    25.4033, -999.00,9,     -999.0
33KB20100806,       PRS2,       2,          7,         12,       8012,2,20100808,       0254,  22.817833,-158.0301667,       4726,    45.7,  25.3443,  35.2100,2,  35.2109,2,    209.2,1,  -999.0,9, -999.00,9, -999.00,9,  -999.0,      45,    25.3343, -999.00,9,     -999.0
33KB20100806,       PRS2,       2,          7,         11,       8011,2,20100808,       0254,  22.817833,-158.0301667,       4726,    74.5,  24.4708,  35.1190,2,  35.1285,2,    217.1,1,  -999.0,9, -999.00,9, -999.00,9,  -999.0,      74,    24.4549, -999.00,9,     -999.0
33KB20100806,       PRS2,       2,          7,         10,       8010,2,20100808,       0254,  22.817833,-158.0301667,       4726,   100.5,  23.2837,  35.2014,2,  35.2322,3,    215.5,1,  -999.0,9, -999.00,9, -999.00,9,  -999.0,     101,    23.2630, -999.00,9,     -999.0
33KB20100806,       PRS2,       2,          7,          9,       8009,2,20100808,       0254,  22.817833,-158.0301667,       4726,   125.7,  21.7650,  35.2375,2,  35.2377,2,    205.4,1,  -999.0,9, -999.00,9, -999.00,9,  -999.0,     125,    21.7403, -999.00,9,     -999.0
33KB20100806,       PRS2,       2,          7,          8,       8008,2,20100808,       0254,  22.817833,-158.0301667,       4726,   150.6,  21.5073,  35.4242,2,  35.4340,2,    218.0,1,  -999.0,9, -999.00,9, -999.00,9,  -999.0,     150,    21.4779, -999.00,9,     -999.0
33KB20100806,       PRS2,       2,          7,          7,       8026,2,20100808,       0254,  22.817833,-158.0301667,       4726,   175.3,  20.4961,  35.2634,2,  35.2653,2,    199.8,1,  -999.0,9, -999.00,9, -999.00,9,  -999.0,     175,    20.4631, -999.00,9,     -999.0
33KB20100806,       PRS2,       2,          7,          6,       8006,2,20100808,       0254,  22.817833,-158.0301667,       4726,   200.1,  19.5511,  35.1393,2,  35.1388,2,    199.1,1,  -999.0,9, -999.00,9, -999.00,9,  -999.0,     200,    19.5146, -999.00,9,     -999.0
33KB20100806,       PRS2,       2,          7,          5,       8005,2,20100808,       0254,  22.817833,-158.0301667,       4726,   250.3,  18.0565,  34.9351,2,  34.9309,2,    209.0,1,  -999.0,9, -999.00,9, -999.00,9,  -999.0,     250,    18.0133, -999.00,9,     -999.0
33KB20100806,       PRS2,       2,          7,          4,       8004,2,20100808,       0254,  22.817833,-158.0301667,       4726,   350.5,  12.6740,  34.2320,2,  34.2264,2,    192.7,1,  -999.0,9, -999.00,9, -999.00,9,  -999.0,     351,    12.6267, -999.00,9,     -999.0
33KB20100806,       PRS2,       2,          7,          3,       8003,2,20100808,       0254,  22.817833,-158.0301667,       4726,   350.4,  12.6752,  34.2317,2,  34.2246,2,    193.1,1,  -999.0,9, -999.00,9, -999.00,9,  -999.0,     350,    12.6279, -999.00,9,     -999.0
33KB20100806,       PRS2,       2,          7,          2,       8002,2,20100808,       0254,  22.817833,-158.0301667,       4726,   500.3,   7.9064,  34.1261,2,  34.1268,2,    101.2,1,  -999.0,9, -999.00,9, -999.00,9,  -999.0,     501,     7.8558, -999.00,9,     -999.0
33KB20100806,       PRS2,       2,          7,          1,       8001,2,20100808,       0254,  22.817833,-158.0301667,       4726,  1020.5,   4.0293,  34.4691,2,  34.4681,2,     46.0,1,  -999.0,9, -999.00,9, -999.00,9,  -999.0,    1021,     3.9518, -999.00,9,     -999.0
33KB20100806,       PRS2,       2,          8,         23,       8023,2,20100808,       0601,  22.750833,-158.0006667,       4744,     5.7,  25.5253,  35.1159,2,  35.1146,2,    208.5,2,  -999.0,5, -999.00,5, -999.00,5,  -999.0,       6,    25.5241, -999.00,5,     -999.0
33KB20100806,       PRS2,       2,          8,         22,       8022,2,20100808,       0601,  22.750833,-158.0006667,       4744,     5.7,  25.5254,  35.1159,2,  35.1154,2,    208.5,2,   208.4,2,    1.05,2,    0.11,2,  -999.0,       5,    25.5241,    0.01,2,     -999.0
33KB20100806,       PRS2,       2,          8,         21,       8021,2,20100808,       0601,  22.750833,-158.0006667,       4744,    15.2,  25.5167,  35.1247,2,  35.1453,4,    208.6,3,  -999.0,5,    1.06,2,    0.11,2,  -999.0,      15,    25.5134,    0.01,2,     -999.0
33KB20100806,       PRS2,       2,          8,         20,       8020,2,20100808,       0601,  22.750833,-158.0006667,       4744,    25.3,  25.4276,  35.1795,2,  35.1861,2,    208.8,2,  -999.0,5, -999.00,5, -999.00,5,  -999.0,      26,    25.4221, -999.00,5,     -999.0
33KB20100806,       PRS2,       2,          8,         19,       8019,2,20100808,       0601,  22.750833,-158.0006667,       4744,    25.3,  25.4279,  35.1776,2,  35.1884,2,    208.9,2,   209.5,2,    1.06,2,    0.09,2,  -999.0,      25,    25.4224,    0.02,2,     -999.0
33KB20100806,       PRS2,       2,          8,         18,       8018,2,20100808,       0601,  22.750833,-158.0006667,       4744,    35.6,  25.3830,  35.2148,2,  35.2132,2,    209.5,2,  -999.0,5,    1.08,2,    0.10,2,  -999.0,      35,    25.3752,    0.03,2,     -999.0
33KB20100806,       PRS2,       2,          8,         17,       8017,2,20100808,       0601,  22.750833,-158.0006667,       4744,    45.2,  25.3415,  35.2318,2,  35.2316,2,    209.7,2,   209.5,2,    1.09,2,    0.08,2,  -999.0,      45,    25.3316,    0.02,2,     -999.0
33KB20100806,       PRS2,       2,          8,         16,       8016,2,20100808,       0601,  22.750833,-158.0006667,       4744,    60.6,  25.2045,  35.2276,2,  35.2069,4,    210.5,3,  -999.0,5,    1.08,2,    0.09,2,  -999.0,      61,    25.1912,    0.03,2,     -999.0
33KB20100806,       PRS2,       2,          8,         15,       8015,2,20100808,       0601,  22.750833,-158.0006667,       4744,    75.5,  23.9386,  35.0924,2,  35.1134,3,    219.2,3,   218.8,2,    1.14,2,    0.11,2,  -999.0,      75,    23.9227,    0.03,2,     -999.0
33KB20100806,       PRS2,       2,          8,         14,       8014,2,20100808,       0601,  22.750833,-158.0006667,       4744,    85.4,  23.5758,  35.1911,2,  35.1955,2,    217.1,2,   216.6,2, -999.00,5, -999.00,5,  -999.0,      85,    23.5580, -999.00,5,     -999.0
33KB20100806,       PRS2,       2,          8,         13,       8025,2,20100808,       0601,  22.750833,-158.0006667,       4744,    90.0,  23.4711,  35.2262,2,  35.2365,2,    215.7,2,  -999.0,5, -999.00,5, -999.00,5,  -999.0,      90,    23.4524, -999.00,5,     -999.0
33KB20100806,       PRS2,       2,          8,         12,       8012,2,20100808,       0601,  22.750833,-158.0006667,       4744,   100.2,  23.1719,  35.2836,2,  35.3049,3,    212.5,3,   215.4,2,    1.16,2,    0.10,2,  -999.0,     100,    23.1513,    0.03,2,     -999.0
33KB20100806,       PRS2,       2,          8,         11,       8011,2,20100808,       0601,  22.750833,-158.0006667,       4744,   110.8,  22.8066,  35.3382,2,  35.3502,2,    216.2,2,  -999.0,5, -999.00,5, -999.00,5,  -999.0,     111,    22.7841, -999.00,5,     -999.0
33KB20100806,       PRS2,       2,          8,         10,       8010,2,20100808,       0601,  22.750833,-158.0006667,       4744,   115.4,  22.6341,  35.3783,2,  35.3754,2,    217.5,2,   220.3,3, -999.00,5, -999.00,5,  -999.0,     116,    22.6108, -999.00,5,     -999.0
33KB20100806,       PRS2,       2,          8,          9,       8009,2,20100808,       0601,  22.750833,-158.0006667,       4744,   125.2,  21.7297,  35.2054,2,  35.2213,3,    206.5,3,   207.3,2,    1.45,2,    0.14,2,  -999.0,     125,    21.7051,    0.31,2,     -999.0
33KB20100806,       PRS2,       2,          8,          8,       8008,2,20100808,       0601,  22.750833,-158.0006667,       4744,   129.3,  21.5565,  35.2583,2,  35.3001,4,    202.2,3,  -999.0,5, -999.00,5, -999.00,5,  -999.0,     129,    21.5313, -999.00,5,     -999.0
33KB20100806,       PRS2,       2,          8,          7,       8026,2,20100808,       0601,  22.750833,-158.0006667,       4744,   150.3,  21.1294,  35.3922,2,  35.3942,2,    215.5,2,   215.5,2,    1.46,2,    0.05,2,  -999.0,     150,    21.1004,    0.06,2,     -999.0
33KB20100806,       PRS2,       2,          8,          6,       8006,2,20100808,       0601,  22.750833,-158.0006667,       4744,   165.3,  20.7773,  35.3493,2,  35.3488,2,    212.2,2,   212.2,2, -999.00,5, -999.00,5,  -999.0,     165,    20.7458, -999.00,5,     -999.0
33KB20100806,       PRS2,       2,          8,          5,       8005,2,20100808,       0601,  22.750833,-158.0006667,       4744,   175.1,  20.5406,  35.3144,2,  35.3137,2,    209.0,2,   209.6,2,    1.66,2,    0.08,2,  -999.0,     175,    20.5076,    0.44,2,     -999.0
33KB20100806,       PRS2,       2,          8,          4,       8004,2,20100808,       0601,  22.750833,-158.0006667,       4744,   200.5,  19.9664,  35.2323,2,  35.2327,2,    204.8,2,   204.9,2,    1.93,2,    0.15,2,  -999.0,     200,    19.9293,    1.25,2,     -999.0
33KB20100806,       PRS2,       2,          8,          3,       8003,2,20100808,       0601,  22.750833,-158.0006667,       4744,   520.6,   7.1569,  34.0923,2,  34.0903,2,     98.0,2,    97.4,2, -999.00,5, -999.00,5,  -999.0,     521,     7.1071, -999.00,5,     -999.0
33KB20100806,       PRS2,       2,          8,          2,       8002,2,20100808,       0601,  22.750833,-158.0006667,       4744,   800.2,   4.7503,  34.3469,2,  34.3484,2,     36.7,2,    36.2,2, -999.00,5, -999.00,5,  -999.0,     801,     4.6865, -999.00,5,     -999.0
33KB20100806,       PRS2,       2,          8,          1,       8001,2,20100808,       0601,  22.750833,-158.0006667,       4744,  1020.0,   3.9926,  34.4623,2,  34.4626,2,     43.3,2,    46.8,3, -999.00,5, -999.00,5,  -999.0,    1020,     3.9154, -999.00,5,     -999.0