BOTTLE,20141031SIOCCHAMB
EXPOCODE,SECT_ID,STNNBR,CASTNO,SAMPNO,BTLNBR,BTLNBR_FLAG_W,DATE,TIME,LATITUDE,LONGITUDE,DEPTH,CTDPRS,CTDTMP,CTDSAL,CTDSAL_FLAG_W,SALNTY,SALNTY_FLAG_W,CTDOXY,CTDOXY_FLAG_W,OXYGEN,OXYGEN_FLAG_W,SILCAT,SILCAT_FLAG_W,PHSPHT,PHSPHT_FLAG_W,REVPRS,CTDRAW,THETA,NO2+NO3,NO2+NO3_FLAG_W,REVTMP
,,,,,,,,,,,METERS,DBAR,ITS-90,PSS-78,,PSS-78,,UMOL/KG,,UMOL/KG,,UMOL/KG,,UMOL/KG,,DBAR,DBAR,ITS-90,UMOL/KG,,DEG C
33KB20100806,       PRS2,       1,          1,         24,       8024,2,20100806,       2339,  21.343167,-158.2735000,       1480,     7.4,  26.1582,  35.1070,2,  35.1043,2,    206.3,2,   206.3,2, -999.00,9, -999.00,9,  -999.0,       7,    26.1565, -999.00,9,     -999.0
33KB20100806,       PRS2,       1,          1,         23,       8023,2,20100806,       2339,  21.343167,-158.2735000,       1480,     7.5,  26.1369,  35.1058,2,  35.1031,2,    206.3,2,   206.4,2, -999.00,9, -999.00,9,  -999.0,       7,    26.1352, -999.00,9,     -999.0
33KB20100806,       PRS2,       1,          1,         22,       8022,2,20100806,       2339,  21.343167,-158.2735000,       1480,    25.4,  26.0502,  35.1073,2,  35.1063,2,    206.7,2,   206.3,2, -999.00,9, -999.00,9,  -999.0,      25,    26.0445, -999.00,9,     -999.0
33KB20100806,       PRS2,       1,          1,         21,       8021,2,20100806,       2339,  21.343167,-158.2735000,       1480,    45.1,  25.7863,  35.1021,2,  35.1037,2,    208.5,2,   208.9,2, -999.00,9, -999.00,9,  -999.0,      45,    25.7763, -999.00,9,     -999.0
33KB20100806,       PRS2,       1,          1,         20,       8020,2,20100806,       2339,  21.343167,-158.2735000,       1480,    60.2,  24.7084,  35.1932,2,  35.1947,2,    217.2,2,   216.5,2, -999.00,9, -999.00,9,  -999.0,      60,    24.6954, -999.00,9,     -999.0
33KB20100806,       PRS2,       1,          1,         19,       8019,2,20100806,       2339,  21.343167,-158.2735000,       1480,    75.5,  23.8645,  35.3061,2,  35.3056,2,    214.9,2,   214.2,2, -999.00,9, -999.00,9,  -999.0,      75,    23.8486, -999.00,9,     -999.0
33KB20100806,       PRS2,       1,          1,         18,       8018,2,20100806,       2339,  21.343167,-158.2735000,       1480,   101.1,  22.8214,  35.3404,2,  35.3392,2,    208.4,2,   208.9,2, -999.00,9, -999.00,9,  -999.0,     102,    22.8009, -999.00,9,     -999.0
33KB20100806,       PRS2,       1,          1,         17,       8017,2,20100806,       2339,  21.343167,-158.2735000,       1480,   115.1,  22.4779,  35.3262,2,  35.3198,2,    206.0,2,   207.3,2, -999.00,9, -999.00,9,  -999.0,     115,    22.4548, -999.00,9,     -999.0
33KB20100806,       PRS2,       1,          1,         16,       8016,2,20100806,       2339,  21.343167,-158.2735000,       1480,   125.8,  21.9516,  35.2777,2,  35.2895,2,    205.0,2,   204.3,2, -999.00,9, -999.00,9,  -999.0,     126,    21.9267, -999.00,9,     -999.0
33KB20100806,       PRS2,       1,          1,         15,       8015,2,20100806,       2339,  21.343167,-158.2735000,       1480,   150.0,  20.8253,  35.2430,2,  35.2408,2,    199.8,2,   206.2,4, -999.00,9, -999.00,9,  -999.0,     150,    20.7967, -999.00,9,     -999.0
33KB20100806,       PRS2,       1,          1,         14,       8014,2,20100806,       2339,  21.343167,-158.2735000,       1480,   174.9,  20.0067,  35.1595,2,  35.1595,2,    198.8,2,   198.9,2, -999.00,9, -999.00,9,  -999.0,     175,    19.9743, -999.00,9,     -999.0
33KB20100806,       PRS2,       1,          1,         13,       8025,2,20100806,       2339,  21.343167,-158.2735000,       1480,   200.1,  19.4076,  35.1234,2,  35.1094,2,    201.6,2,   201.1,2, -999.00,9, -999.00,9,  -999.0,     200,    19.3714, -999.00,9,     -999.0
33KB20100806,       PRS2,       1,          1,         12,       8012,2,20100806,       2339,  21.343167,-158.2735000,       1480,   225.7,  17.5121,  34.8027,2,  34.7954,2,    190.1,2,   190.3,2, -999.00,9, -999.00,9,  -999.0,     226,    17.4741, -999.00,9,     -999.0
33KB20100806,       PRS2,       1,          1,         11,       8011,2,20100806,       2339,  21.343167,-158.2735000,       1480,   250.2,  15.8527,  34.5918,2,  34.5936,2,    185.7,2,   186.5,2, -999.00,9, -999.00,9,  -999.0,     250,    15.8134, -999.00,9,     -999.0
33KB20100806,       PRS2,       1,          1,         10,       8010,2,20100806,       2339,  21.343167,-158.2735000,       1480,   300.9,  13.3155,  34.3124,2,  34.3140,2,    180.0,2,   179.4,2, -999.00,9, -999.00,9,  -999.0,     300,    13.2736, -999.00,9,     -999.0
33KB20100806,       PRS2,       1,          1,          9,       8009,2,20100806,       2339,  21.343167,-158.2735000,       1480,   349.9,  10.6600,  34.1562,2,  34.1550,2,    159.5,2,   161.7,2, -999.00,9, -999.00,9,  -999.0,     350,    10.6178, -999.00,9,     -999.0
33KB20100806,       PRS2,       1,          1,          8,       8008,2,20100806,       2339,  21.343167,-158.2735000,       1480,   399.7,   8.9632,  34.1167,2,  34.1166,2,    139.4,2,   137.6,2, -999.00,9, -999.00,9,  -999.0,     400,     8.9199, -999.00,9,     -999.0
33KB20100806,       PRS2,       1,          1,          7,       8026,2,20100806,       2339,  21.343167,-158.2735000,       1480,   499.9,   7.0498,  34.1265,2,  34.1323,2,     84.7,2,    83.7,2, -999.00,9, -999.00,9,  -999.0,     500,     7.0024, -999.00,9,     -999.0
33KB20100806,       PRS2,       1,          1,          6,       8006,2,20100806,       2339,  21.343167,-158.2735000,       1480,   600.3,   5.7518,  34.2219,2,  34.2170,2,     41.8,2,    41.4,2, -999.00,9, -999.00,9,  -999.0,     600,     5.7003, -999.00,9,     -999.0
33KB20100806,       PRS2,       1,          1,          5,       8005,2,20100806,       2339,  21.343167,-158.2735000,       1480,   700.1,   5.2287,  34.3334,2,  34.3335,2,     33.7,2,    33.9,2, -999.00,9, -999.00,9,  -999.0,     700,     5.1708, -999.00,9,     -999.0
33KB20100806,       PRS2,       1,          1,          4,       8004,2,20100806,       2339,  21.343167,-158.2735000,       1480,   749.8,   5.0599,  34.3689,2,  34.3686,2,     34.3,2,    34.7,2, -999.00,9, -999.00,9,  -999.0,     750,     4.9986, -999.00,9,     -999.0
33KB20100806,       PRS2,       1,          1,          3,       8003,2,20100806,       2339,  21.343167,-158.2735000,       1480,   900.7,   4.4621,  34.4539,2,  34.4536,2,     40.5,2,    41.0,2, -999.00,9, -999.00,9,  -999.0,     901,     4.3914, -999.00,9,     -999.0
33KB20100806,       PRS2,       1,          1,          2,       8002,2,20100806,       2339,  21.343167,-158.2735000,       1480,   900.7,   4.4623,  34.4538,2,  34.4542,2,     40.5,2,    40.6,2, -999.00,9, -999.00,9,  -999.0,     901,     4.3917, -999.00,9,     -999.0
33KB20100806,       PRS2,       1,          1,          1,       8001,2,20100806,       2339,  21.343167,-158.2735000,       1480,  1021.5,   4.1304,  34.4914,2,  34.4901,2,     45.3,2,    45.3,2, -999.00,9, -999.00,9,  -999.0,    1021,     4.0519, -999.00,9,     -999.0
33KB20100806,       PRS2,       2,          1,         24,       8024,2,20100807,       1009,  22.759167,-157.9906667,       4735,    12.9,  25.4148,  35.2179,2,-999.0000,9,    208.7,1,  -999.0,9, -999.00,9, -999.00,9,  -999.0,      13,    25.4120, -999.00,9,     -999.0
33KB20100806,       PRS2,       2,          1,         23,       8023,2,20100807,       1009,  22.759167,-157.9906667,       4735,    12.8,  25.4098,  35.2176,2,-999.0000,9,    208.7,1,  -999.0,9, -999.00,9, -999.00,9,  -999.0,      13,    25.4070, -999.00,9,     -999.0
33KB20100806,       PRS2,       2,          1,         22,       8022,2,20100807,       1009,  22.759167,-157.9906667,       4735,    12.9,  25.4056,  35.2172,2,-999.0000,9,    208.7,1,  -999.0,9, -999.00,9, -999.00,9,  -999.0,      13,    25.4028, -999.00,9,     -999.0
33KB20100806,       PRS2,       2,          1,         21,       8021,2,20100807,       1009,  22.759167,-157.9906667,       4735,    12.8,  25.3937,  35.2172,2,-999.0000,9,    209.0,1,  -999.0,9, -999.00,9, -999.00,9,  -999.0,      13,    25.3909, -999.00,9,     -999.0
33KB20100806,       PRS2,       2,          1,         20,       8020,2,20100807,       1009,  22.759167,-157.9906667,       4735,    12.8,  25.3924,  35.2172,2,-999.0000,9,    209.0,1,  -999.0,9, -999.00,9, -999.00,9,  -999.0,      12,    25.3896, -999.00,9,     -999.0
33KB20100806,       PRS2,       2,          1,         19,       8019,2,20100807,       1009,  22.759167,-157.9906667,       4735,    12.8,  25.3923,  35.2171,2,-999.0000,9,    209.0,1,  -999.0,9, -999.00,9, -999.00,9,  -999.0,      13,    25.3895, -999.00,9,     -999.0
33KB20100806,       PRS2,       2,          1,         18,       8018,2,20100807,       1009,  22.759167,-157.9906667,       4735,    12.8,  25.3911,  35.2173,2,-999.0000,9,    209.0,1,  -999.0,9, -999.00,9, -999.00,9,  -999.0,      13,    25.3883, -999.00,9,     -999.0
33KB20100806,       PRS2,       2,          1,         17,       8017,2,20100807,       1009,  22.759167,-157.9906667,       4735,    12.6,  25.3866,  35.2169,2,-999.0000,9,    209.0,1,  -999.0,9, -999.00,9, -999.00,9,  -999.0,      12,    25.3839, -999.00,9,     -999.0
33KB20100806,       PRS2,       2,          1,         16,       8016,2,20100807,       1009,  22.759167,-157.9906667,       4735,    12.8,  25.3848,  35.2169,2,-999.0000,9,    209.0,1,  -999.0,9, -999.00,9, -999.00,9,  -999.0,      13,    25.3820, -999.00,9,     -999.0
33KB20100806,       PRS2,       2,          1,         15,       8015,2,20100807,       1009,  22.759167,-157.9906667,       4735,    12.8,  25.3862,  35.2172,2,-999.0000,9,    209.0,1,  -999.0,9, -999.00,9, -999.00,9,  -999.0,      13,    25.3834, -999.00,9,     -999.0
33KB20100806,       PRS2,       2,          1,         14,       8014,2,20100807,       1009,  22.759167,-157.9906667,       4735,    12.8,  25.3994,  35.2175,2,-999.0000,9,    209.0,1,  -999.0,9, -999.00,9, -999.00,9,  -999.0,      13,    25.3966, -999.00,9,     -999.0
33KB20100806,       PRS2,       2,          1,         13,       8025,2,20100807,       1009,  22.759167,-157.9906667,       4735,    12.7,  25.4053,  35.2174,2,-999.0000,9,    208.9,1,  -999.0,9, -999.00,9, -999.00,9,  -999.0,      13,    25.4025, -999.00,9,     -999.0
33KB20100806,       PRS2,       2,          1,         12,       8012,2,20100807,       1009,  22.759167,-157.9906667,       4735,    12.8,  25.4048,  35.2169,2,-999.0000,9,    208.9,1,  -999.0,9, -999.00,9, -999.00,9,  -999.0,      13,    25.4020, -999.00,9,     -999.0
33KB20100806,       PRS2,       2,          1,         11,       8011,2,20100807,       1009,  22.759167,-157.9906667,       4735,    12.9,  25.4033,  35.2174,2,-999.0000,9,    208.8,1,  -999.0,9, -999.00,9, -999.00,9,  -999.0,      13,    25.4004, -999.00,9,     -999.0
33KB20100806,       PRS2,       2,          1,         10,       8010,2,20100807,       1009,  22.759167,-157.9906667,       4735,    12.7,  25.4040,  35.2178,2,-999.0000,9,    208.8,1,  -999.0,9, -999.00,9, -999.00,9,  -999.0,      13,    25.4012, -999.00,9,     -999.0
33KB20100806,       PRS2,       2,          1,          9,       8009,2,20100807,       1009,  22.759167,-157.9906667,       4735,    12.5,  25.4074,  35.2172,2,-999.0000,9,    208.8,1,  -999.0,9, -999.00,9, -999.00,9,  -999.0,      12,    25.4047, -999.00,9,     -999.0
33KB20100806,       PRS2,       2,          1,          8,       8008,2,20100807,       1009,  22.759167,-157.9906667,       4735,    12.6,  25.4084,  35.2177,2,-999.0000,9,    208.8,1,  -999.0,9, -999.00,9, -999.00,9,  -999.0,      12,    25.4056, -999.00,9,     -999.0
33KB20100806,       PRS2,       2,          1,          7,       8026,2,20100807,       1009,  22.759167,-157.9906667,       4735,    12.8,  25.4030,  35.2170,2,-999.0000,9,    208.8,1,  -999.0,9, -999.00,9, -999.00,9,  -999.0,      13,    25.4002, -999.00,9,     -999.0
33KB20100806,       PRS2,       2,          1,          6,       8006,2,20100807,       1009,  22.759167,-157.9906667,       4735,    12.7,  25.4033,  35.2171,2,-999.0000,9,    208.7,1,  -999.0,9, -999.00,9, -999.00,9,  -999.0,      13,    25.4006, -999.00,9,     -999.0
33KB20100806,       PRS2,       2,          1,          5,       8005,2,20100807,       1009,  22.759167,-157.9906667,       4735,    12.8,  25.4037,  35.2174,2,-999.0000,9,    208.7,1,  -999.0,9, -999.00,9, -999.00,9,  -999.0,      12,    25.4009, -999.00,9,     -999.0
33KB20100806,       PRS2,       2,          1,          4,       8004,2,20100807,       1009,  22.759167,-157.9906667,       4735,    12.6,  25.4060,  35.2170,2,-999.0000,9,    208.6,1,  -999.0,9, -999.00,9, -999.00,9,  -999.0,      13,    25.4032, -999.00,9,     -999.0
33KB20100806,       PRS2,       2,          1,          3,       8003,2,20100807,       1009,  22.759167,-157.9906667,       4735,    12.6,  25.4191,  35.2171,2,-999.0000,9,    208.6,1,  -999.0,9, -999.00,9, -999.00,9,  -999.0,      13,    25.4164, -999.00,9,     -999.0
33KB20100806,       PRS2,       2,          1,          2,       8002,2,20100807,       1009,  22.759167,-157.9906667,       4735,    12.7,  25.4392,  35.2176,2,-999.0000,9,    208.7,1,  -999.0,9, -999.00,9, -999.00,9,  -999.0,      13,    25.4364, -999.00,9,     -999.0
33KB20100806,       PRS2,       2,          1,          1,       8001,2,20100807,       1009,  22.759167,-157.9906667,       4735,    12.8,  25.4427,  35.2171,2,-999.0000,9,    208.7,1,  -999.0,9, -999.00,9, -999.00,9,  -999.0,      13,    25.4399, -999.00,9,     -999.0
33KB20100806,       PRS2,       2,          2,         22,       8022,2,20100807,       1116,  22.759500,-157.9831667,       4733,     6.2,  25.4364,  35.2171,2,  35.2152,2,    209.0,1,  -999.0,9, -999.00,9, -999.00,9,  -999.0,       6,    25.4351, -999.00,9,     -999.0
33KB20100806,       PRS2,       2,          2,         21,       8021,2,20100807,       1116,  22.759500,-157.9831667,       4733,     6.2,  25.4361,  35.2170,2,  35.2150,2,    209.0,1,  -999.0,9, -999.00,9, -999.00,9,  -999.0,       6,    25.4348, -999.00,9,     -999.0
33KB20100806,       PRS2,       2,          2,         20,       8020,2,20100807,       1116,  22.759500,-157.9831667,       4733,     6.0,  25.4360,  35.2172,2,  35.2152,2,    209.1,1,  -999.0,9, -999.00,9, -999.00,9,  -999.0,       6,    25.4346, -999.00,9,     -999.0
33KB20100806,       PRS2,       2,          2,         19,       8019,2,20100807,       1116,  22.759500,-157.9831667,       4733,    24.8,  25.4066,  35.2169,2,  35.2152,2,    208.9,1,  -999.0,9, -999.00,9, -999.00,9,  -999.0,      25,    25.4011, -999.00,9,     -999.0
33KB20100806,       PRS2,       2,          2,         18,       8018,2,20100807,       1116,  22.759500,-157.9831667,       4733,    24.8,  25.4157,  35.2166,2,  35.2148,2,    208.9,1,  -999.0,9, -999.00,9, -999.00,9,  -999.0,      24,    25.4102, -999.00,9,     -999.0
33KB20100806,       PRS2,       2,          2,         17,       8017,2,20100807,       1116,  22.759500,-157.9831667,       4733,    24.9,  25.4239,  35.2167,2,  35.2160,2,    208.9,1,  -999.0,9, -999.00,9, -999.00,9,  -999.0,      25,    25.4184, -999.00,9,     -999.0
33KB20100806,       PRS2,       2,          2,         16,       8016,2,20100807,       1116,  22.759500,-157.9831667,       4733,    45.1,  25.3428,  35.2132,2,  35.2113,2,    209.4,1,  -999.0,9, -999.00,9, -999.00,9,  -999.0,      45,    25.3329, -999.00,9,     -999.0
33KB20100806,       PRS2,       2,          2,         15,       8015,2,20100807,       1116,  22.759500,-157.9831667,       4733,    45.2,  25.3425,  35.2131,2,  35.2117,2,    209.4,1,  -999.0,9, -999.00,9, -999.00,9,  -999.0,      45,    25.3326, -999.00,9,     -999.0
33KB20100806,       PRS2,       2,          2,         14,       8014,2,20100807,       1116,  22.759500,-157.9831667,       4733,    45.1,  25.3422,  35.2131,2,  35.2117,2,    209.4,1,  -999.0,9, -999.00,9, -999.00,9,  -999.0,      45,    25.3324, -999.00,9,     -999.0
33KB20100806,       PRS2,       2,          2,         13,       8025,2,20100807,       1116,  22.759500,-157.9831667,       4733,    75.4,  25.2712,  35.2094,2,  35.2085,2,    210.2,1,  -999.0,9, -999.00,9, -999.00,9,  -999.0,      75,    25.2548, -999.00,9,     -999.0
33KB20100806,       PRS2,       2,          2,         12,       8012,2,20100807,       1116,  22.759500,-157.9831667,       4733,    75.3,  25.2691,  35.2093,2,  35.2081,2,    210.2,1,  -999.0,9, -999.00,9, -999.00,9,  -999.0,      75,    25.2526, -999.00,9,     -999.0
33KB20100806,       PRS2,       2,          2,         11,       8011,2,20100807,       1116,  22.759500,-157.9831667,       4733,    75.4,  25.2673,  35.2092,2,  35.2083,2,    210.2,1,  -999.0,9, -999.00,9, -999.00,9,  -999.0,      75,    25.2509, -999.00,9,     -999.0
33KB20100806,       PRS2,       2,          2,         10,       8010,2,20100807,       1116,  22.759500,-157.9831667,       4733,   100.2,  23.7124,  35.1554,2,  35.1522,2,    218.6,1,  -999.0,9, -999.00,9, -999.00,9,  -999.0,     100,    23.6915, -999.00,9,     -999.0
33KB20100806,       PRS2,       2,          2,          9,       8009,2,20100807,       1116,  22.759500,-157.9831667,       4733,   100.4,  23.7065,  35.1573,2,  35.1518,2,    218.4,1,  -999.0,9, -999.00,9, -999.00,9,  -999.0,     100,    23.6855, -999.00,9,     -999.0
33KB20100806,       PRS2,       2,          2,          8,       8008,2,20100807,       1116,  22.759500,-157.9831667,       4733,   100.2,  23.7105,  35.1556,2,  35.1500,2,    218.3,1,  -999.0,9, -999.00,9, -999.00,9,  -999.0,     100,    23.6896, -999.00,9,     -999.0
33KB20100806,       PRS2,       2,          2,          7,       8026,2,20100807,       1116,  22.759500,-157.9831667,       4733,   125.3,  22.9676,  35.3456,2,  35.3512,2,    220.6,1,  -999.0,9, -999.00,9, -999.00,9,  -999.0,     126,    22.9420, -999.00,9,     -999.0
33KB20100806,       PRS2,       2,          2,          6,       8006,2,20100807,       1116,  22.759500,-157.9831667,       4733,   125.3,  22.9657,  35.3402,2,  35.3518,3,    220.0,1,  -999.0,9, -999.00,9, -999.00,9,  -999.0,     126,    22.9402, -999.00,9,     -999.0
33KB20100806,       PRS2,       2,          2,          5,       8005,2,20100807,       1116,  22.759500,-157.9831667,       4733,   125.1,  22.9746,  35.3441,2,  35.3526,2,    219.3,1,  -999.0,9, -999.00,9, -999.00,9,  -999.0,     125,    22.9490, -999.00,9,     -999.0
33KB20100806,       PRS2,       2,          2,          4,       8004,2,20100807,       1116,  22.759500,-157.9831667,       4733,   151.2,  21.6641,  35.2776,2,  35.2660,2,    206.7,1,  -999.0,9, -999.00,9, -999.00,9,  -999.0,     152,    21.6345, -999.00,9,     -999.0
33KB20100806,       PRS2,       2,          2,          3,       8003,2,20100807,       1116,  22.759500,-157.9831667,       4733,   176.2,  20.9271,  35.2997,2,  35.3122,2,    208.1,1,  -999.0,9, -999.00,9, -999.00,9,  -999.0,     175,    20.8934, -999.00,9,     -999.0
33KB20100806,       PRS2,       2,          2,          2,       8002,2,20100807,       1116,  22.759500,-157.9831667,       4733,   500.6,   8.0589,  34.1210,2,  34.1213,2,    110.3,1,  -999.0,9, -999.00,9, -999.00,9,  -999.0,     501,     8.0077, -999.00,9,     -999.0
33KB20100806,       PRS2,       2,          2,          1,       8001,2,20100807,       1116,  22.759500,-157.9831667,       4733,  1019.9,   4.0366,  34.4671,2,  34.4663,2,     45.8,1,  -999.0,9, -999.00,9, -999.00,9,  -999.0,    1021,     3.9591, -999.00,9,     -999.0