BOTTLE,20010509WHPSIOKJU
EXPOCODE,SECT_ID,STNNBR,CASTNO,SAMPNO,BTLNBR,BTLNBR_FLAG_W,DATE,TIME,LATITUDE,LONGITUDE,DEPTH,CTDPRS,CTDTMP,CTDSAL,CTDSAL_FLAG_W,SALNTY,SALNTY_FLAG_W,OXYGEN,OXYGEN_FLAG_W
,,,,,,,,,,,,DBAR,ITS-90,PSS-78,,PSS-78,,UMOL/KG,
     06AZ129_1,  AR7E,    43,  1,     23,     23,5,19920925,1040, 53.0000, -22.7500, 4011,     19.7,  11.8425,  35.1011,2,  35.0969,2,    263.3,2
     06AZ129_1,  AR7E,    43,  1,     22,     22,5,19920925,1040, 53.0000, -22.7500, 4011,    191.9,  10.0021,  35.2835,2,  35.2730,2,    232.8,2
     06AZ129_1,  AR7E,    43,  1,     21,     21,5,19920925,1040, 53.0000, -22.7500, 4011,    568.8,   6.2012,  35.0027,2,  34.9996,2,    218.5,2
     06AZ129_1,  AR7E,    43,  1,     20,     20,5,19920925,1040, 53.0000, -22.7500, 4011,    801.7,   4.5900,  34.9477,2,  34.9410,2,    250.0,2
     06AZ129_1,  AR7E,    43,  1,     19,     19,5,19920925,1040, 53.0000, -22.7500, 4011,   1002.1,   4.1257,  34.9290,2,  34.9237,2,    261.6,2
     06AZ129_1,  AR7E,    43,  1,     18,     18,5,19920925,1040, 53.0000, -22.7500, 4011,   1204.3,   3.7194,  34.9035,2,  34.8984,2,    272.7,2
     06AZ129_1,  AR7E,    43,  1,     17,     17,5,19920925,1040, 53.0000, -22.7500, 4011,   1405.2,   3.4911,  34.8898,2,  34.8835,2,    279.5,2
     06AZ129_1,  AR7E,    43,  1,     16,     16,5,19920925,1040, 53.0000, -22.7500, 4011,   1595.7,   3.4126,  34.8877,2,  34.8813,2,    280.6,2
     06AZ129_1,  AR7E,    43,  1,     15,     15,5,19920925,1040, 53.0000, -22.7500, 4011,   1813.2,   3.3601,  34.8939,2,  34.8870,2,    281.2,2
     06AZ129_1,  AR7E,    43,  1,     14,     14,5,19920925,1040, 53.0000, -22.7500, 4011,   2017.7,   3.3796,  34.9163,2,  34.9102,2,    277.4,2
     06AZ129_1,  AR7E,    43,  1,     13,     13,5,19920925,1040, 53.0000, -22.7500, 4011,   2216.0,   3.3611,  34.9403,2,  34.9351,2,    272.2,2
     06AZ129_1,  AR7E,    43,  1,     12,     12,5,19920925,1040, 53.0000, -22.7500, 4011,   2422.0,   3.2692,  34.9469,2,  34.9416,2,    271.3,2
     06AZ129_1,  AR7E,    43,  1,     11,     11,5,19920925,1040, 53.0000, -22.7500, 4011,   2628.7,   3.1642,  34.9540,2,  34.9495,2,    269.4,2
     06AZ129_1,  AR7E,    43,  1,     10,     10,5,19920925,1040, 53.0000, -22.7500, 4011,   2830.9,   2.9993,  34.9562,2,  34.9520,2,    261.6,2
     06AZ129_1,  AR7E,    43,  1,      9,      9,5,19920925,1040, 53.0000, -22.7500, 4011,   2995.9,   2.8899,  34.9569,2,  34.9515,2,    261.0,2
     06AZ129_1,  AR7E,    43,  1,      8,      8,5,19920925,1040, 53.0000, -22.7500, 4011,   3241.5,   2.7654,  34.9507,2,  34.9446,2,    255.6,2
     06AZ129_1,  AR7E,    43,  1,      7,      7,5,19920925,1040, 53.0000, -22.7500, 4011,   3442.6,   2.6700,  34.9397,2,  34.9334,2,    249.0,2
     06AZ129_1,  AR7E,    43,  1,      6,      6,5,19920925,1040, 53.0000, -22.7500, 4011,   3544.8,   2.6300,  34.9354,2,  34.9283,2,    246.2,2
     06AZ129_1,  AR7E,    43,  1,      5,      5,5,19920925,1040, 53.0000, -22.7500, 4011,   3646.9,   2.5840,  34.9282,2,  34.9218,2,    243.4,2
     06AZ129_1,  AR7E,    43,  1,      4,      4,5,19920925,1040, 53.0000, -22.7500, 4011,   3751.4,   2.5441,  34.9223,2,  34.9171,2,    240.3,2
     06AZ129_1,  AR7E,    43,  1,      3,      3,5,19920925,1040, 53.0000, -22.7500, 4011,   3849.9,   2.5321,  34.9198,2,  34.9129,2,    240.2,2
     06AZ129_1,  AR7E,    43,  1,      2,      2,5,19920925,1040, 53.0000, -22.7500, 4011,   3956.8,   2.5206,  34.9148,2,  34.9120,3,    239.1,2
     06AZ129_1,  AR7E,    43,  1,      1,      1,5,19920925,1040, 53.0000, -22.7500, 4011,   4073.6,   2.5156,  34.9136,2,  34.9086,2,    239.4,2
     06AZ129_1,  AR7E,    44,  1,     23,     23,5,19920925,1650, 52.7850, -22.0833, 4021,     19.9,  11.5821,  34.9221,2,  34.9141,2,    269.0,2
     06AZ129_1,  AR7E,    44,  1,     22,     22,5,19920925,1650, 52.7850, -22.0833, 4021,    191.8,   9.4773,  35.1906,2,  35.1904,2,    226.5,2
     06AZ129_1,  AR7E,    44,  1,     21,     21,5,19920925,1650, 52.7850, -22.0833, 4021,    396.5,   6.7185,  34.8896,2,  34.8837,2,    228.3,2
     06AZ129_1,  AR7E,    44,  1,     20,     20,5,19920925,1650, 52.7850, -22.0833, 4021,    588.3,   5.6300,  34.9312,2,  34.9412,2,    228.0,2
     06AZ129_1,  AR7E,    44,  1,     19,     19,5,19920925,1650, 52.7850, -22.0833, 4021,    803.1,   4.8024,  34.9765,2,  34.9764,2,    246.4,2
     06AZ129_1,  AR7E,    44,  1,     18,     18,5,19920925,1650, 52.7850, -22.0833, 4021,   1003.6,   4.2057,  34.9462,2,  34.9412,2,    259.9,2
     06AZ129_1,  AR7E,    44,  1,     17,     17,5,19920925,1650, 52.7850, -22.0833, 4021,   1205.4,   3.7454,  34.9039,2,  34.8992,2,    272.7,2
     06AZ129_1,  AR7E,    44,  1,     16,     16,5,19920925,1650, 52.7850, -22.0833, 4021,   1408.8,   3.5695,  34.9001,2,  34.8927,2,    277.5,2
     06AZ129_1,  AR7E,    44,  1,     15,     15,5,19920925,1650, 52.7850, -22.0833, 4021,   1612.3,   3.4906,  34.9030,2,  34.8969,2,    277.8,2
     06AZ129_1,  AR7E,    44,  1,     14,     14,5,19920925,1650, 52.7850, -22.0833, 4021,   1814.4,   3.4496,  34.9106,2,  34.9065,2,    276.8,2
     06AZ129_1,  AR7E,    44,  1,     13,     13,5,19920925,1650, 52.7850, -22.0833, 4021,   2016.1,   3.4276,  34.9270,2,  34.9234,2,    273.7,2
     06AZ129_1,  AR7E,    44,  1,     12,     12,5,19920925,1650, 52.7850, -22.0833, 4021,   2220.6,   3.3321,  34.9390,2,  34.9338,2,    273.0,2
     06AZ129_1,  AR7E,    44,  1,     11,     11,5,19920925,1650, 52.7850, -22.0833, 4021,   2425.5,   3.2357,  34.9521,2,  34.9483,2,    269.0,2
     06AZ129_1,  AR7E,    44,  1,     10,     10,5,19920925,1650, 52.7850, -22.0833, 4021,   2630.3,   3.0948,  34.9575,2,  34.9524,2,    267.8,2
     06AZ129_1,  AR7E,    44,  1,      9,      9,5,19920925,1650, 52.7850, -22.0833, 4021,   3039.7,   2.8409,  34.9568,2,  34.9503,2,    260.4,2
     06AZ129_1,  AR7E,    44,  1,      8,      8,5,19920925,1650, 52.7850, -22.0833, 4021,   3137.6,   2.7969,  34.9549,2,  34.9493,2,    259.4,2
     06AZ129_1,  AR7E,    44,  1,      7,      7,5,19920925,1650, 52.7850, -22.0833, 4021,   3242.5,   2.7445,  34.9496,2,  34.9426,2,    254.7,2
     06AZ129_1,  AR7E,    44,  1,      6,      6,5,19920925,1650, 52.7850, -22.0833, 4021,   3349.3,   2.6950,  34.9431,2,  34.9365,2,    251.6,2
     06AZ129_1,  AR7E,    44,  1,      5,      5,5,19920925,1650, 52.7850, -22.0833, 4021,   3444.1,   2.6540,  34.9380,2,  34.9306,2,    248.5,2
     06AZ129_1,  AR7E,    44,  1,      4,      4,5,19920925,1650, 52.7850, -22.0833, 4021,   3546.7,   2.6130,  34.9322,2,  34.9255,2,    246.1,2
     06AZ129_1,  AR7E,    44,  1,      3,      3,5,19920925,1650, 52.7850, -22.0833, 4021,   3649.1,   2.5701,  34.9277,2,  34.9180,2,    244.2,2
     06AZ129_1,  AR7E,    44,  1,      2,      2,5,19920925,1650, 52.7850, -22.0833, 4021,   3858.5,   2.5131,  34.9183,2,  34.9110,2,    241.7,2
     06AZ129_1,  AR7E,    44,  1,      1,      1,5,19920925,1650, 52.7850, -22.0833, 4021,   4014.4,   2.5026,  34.9134,2,  34.9084,2,    240.4,2
     06AZ129_1,  AR7E,    45,  1,     23,     23,5,19920925,2301, 52.5683, -21.4167, 3830,     21.1,  13.0586,  35.2541,2,  35.2476,2,    256.2,2
     06AZ129_1,  AR7E,    45,  1,     22,     22,5,19920925,2301, 52.5683, -21.4167, 3830,     51.6,  13.0511,  35.2957,2,  35.2821,2,    253.1,2
     06AZ129_1,  AR7E,    45,  1,     21,     21,5,19920925,2301, 52.5683, -21.4167, 3830,    295.9,  10.2471,  35.3034,2,  35.3025,2,    239.7,2
     06AZ129_1,  AR7E,    45,  1,     20,     20,5,19920925,2301, 52.5683, -21.4167, 3830,    473.6,   8.6687,  35.1126,2,  35.1087,2,    224.3,2
     06AZ129_1,  AR7E,    45,  1,     19,     19,5,19920925,2301, 52.5683, -21.4167, 3830,    694.4,   7.3082,  35.1613,2,  35.1581,2,    208.6,2
     06AZ129_1,  AR7E,    45,  1,     18,     18,5,19920925,2301, 52.5683, -21.4167, 3830,    898.9,   6.0893,  35.1513,2,  35.1429,2,    225.2,2
     06AZ129_1,  AR7E,    45,  1,     17,     17,5,19920925,2301, 52.5683, -21.4167, 3830,   1305.2,   3.9973,  34.9331,2,  34.9281,2,    265.4,2
     06AZ129_1,  AR7E,    45,  1,     16,     16,5,19920925,2301, 52.5683, -21.4167, 3830,   1507.0,   3.7009,  34.9070,2,  34.9017,2,    274.0,2
     06AZ129_1,  AR7E,    45,  1,     15,     15,5,19920925,2301, 52.5683, -21.4167, 3830,   1712.0,   3.6465,  34.9185,2,  34.9141,2,    273.5,2
     06AZ129_1,  AR7E,    45,  1,     14,     14,5,19920925,2301, 52.5683, -21.4167, 3830,   1912.3,   3.5610,  34.9225,2,  34.9169,2,    274.2,2
     06AZ129_1,  AR7E,    45,  1,     13,     13,5,19920925,2301, 52.5683, -21.4167, 3830,   2112.4,   3.4376,  34.9252,2,  34.9194,2,    274.5,2
     06AZ129_1,  AR7E,    45,  1,     12,     12,5,19920925,2301, 52.5683, -21.4167, 3830,   2321.1,   3.3871,  34.9467,2,  34.9419,2,    269.8,2
     06AZ129_1,  AR7E,    45,  1,     11,     11,5,19920925,2301, 52.5683, -21.4167, 3830,   2525.1,   3.2377,  34.9550,2,  34.9495,2,    266.8,2
     06AZ129_1,  AR7E,    45,  1,     10,     10,5,19920925,2301, 52.5683, -21.4167, 3830,   2728.0,   3.0718,  34.9585,2,-999.0000,3,    262.1,2
     06AZ129_1,  AR7E,    45,  1,      9,      9,5,19920925,2301, 52.5683, -21.4167, 3830,   2932.5,   2.8764,  34.9566,2,  34.9485,2,    257.1,2
     06AZ129_1,  AR7E,    45,  1,      8,      8,5,19920925,2301, 52.5683, -21.4167, 3830,   3136.1,   2.7335,  34.9472,2,  34.9397,2,    251.4,2
     06AZ129_1,  AR7E,    45,  1,      7,      7,5,19920925,2301, 52.5683, -21.4167, 3830,   3285.9,   2.6550,  34.9389,2,  34.9324,2,    247.7,2
     06AZ129_1,  AR7E,    45,  1,      6,      6,5,19920925,2301, 52.5683, -21.4167, 3830,   3391.7,   2.5920,  34.9327,2,  34.9243,2,    244.7,2
     06AZ129_1,  AR7E,    45,  1,      5,      5,5,19920925,2301, 52.5683, -21.4167, 3830,   3494.4,   2.5491,  34.9263,2,  34.9188,2,    242.7,2
     06AZ129_1,  AR7E,    45,  1,      4,      4,5,19920925,2301, 52.5683, -21.4167, 3830,   3596.8,   2.5141,  34.9216,2,  34.9151,2,    242.0,2
     06AZ129_1,  AR7E,    45,  1,      3,      3,5,19920925,2301, 52.5683, -21.4167, 3830,   3699.9,   2.4931,  34.9188,2,  34.9116,2,    241.2,2
     06AZ129_1,  AR7E,    45,  1,      2,      2,5,19920925,2301, 52.5683, -21.4167, 3830,   3800.5,   2.4791,  34.9162,2,  34.9084,2,    240.9,2
     06AZ129_1,  AR7E,    45,  1,      1,      1,5,19920925,2301, 52.5683, -21.4167, 3830,   3889.1,   2.4816,  34.9146,2,  34.9078,2,    239.8,2
     06AZ129_1,  AR7E,    46,  1,     23,     23,5,19920926,0503, 52.3333, -20.7517, 3782,     19.9,  13.2096,  35.4502,2,  35.4429,2,    255.7,2
     06AZ129_1,  AR7E,    46,  1,     22,     22,5,19920926,0503, 52.3333, -20.7517, 3782,    196.8,  10.9878,  35.3938,2,  35.3880,2,    238.6,2
     06AZ129_1,  AR7E,    46,  1,     21,     21,5,19920926,0503, 52.3333, -20.7517, 3782,    398.3,  10.4000,  35.4107,2,  35.3992,2,    232.3,2
     06AZ129_1,  AR7E,    46,  1,     20,     20,5,19920926,0503, 52.3333, -20.7517, 3782,    599.7,   8.9495,  35.2207,2,  35.2136,2,    217.7,2
     06AZ129_1,  AR7E,    46,  1,     19,     19,5,19920926,0503, 52.3333, -20.7517, 3782,    801.1,   7.2308,  35.1147,2,  35.1138,2,    211.5,2
     06AZ129_1,  AR7E,    46,  1,     18,     18,5,19920926,0503, 52.3333, -20.7517, 3782,   1001.7,   6.6955,  35.2412,2,-999.0000,9,   -999.0,9
     06AZ129_1,  AR7E,    46,  1,     17,     17,5,19920926,0503, 52.3333, -20.7517, 3782,   1205.1,   4.7969,  35.0037,2,  34.9990,2,    247.4,2
     06AZ129_1,  AR7E,    46,  1,     16,     16,5,19920926,0503, 52.3333, -20.7517, 3782,   1407.9,   4.1292,  34.9408,2,  34.9357,2,    262.8,2
     06AZ129_1,  AR7E,    46,  1,     15,     15,5,19920926,0503, 52.3333, -20.7517, 3782,   1611.6,   3.7899,  34.9144,2,  34.9100,2,    271.3,2
     06AZ129_1,  AR7E,    46,  1,     14,     14,5,19920926,0503, 52.3333, -20.7517, 3782,   1782.0,   3.6395,  34.9073,2,  34.9023,2,    275.4,2
     06AZ129_1,  AR7E,    46,  1,     13,     13,5,19920926,0503, 52.3333, -20.7517, 3782,   2015.8,   3.5340,  34.9122,2,  34.9084,2,    276.4,2
     06AZ129_1,  AR7E,    46,  1,     12,     12,5,19920926,0503, 52.3333, -20.7517, 3782,   2219.5,   3.4886,  34.9301,2,  34.9249,2,    272.7,2
     06AZ129_1,  AR7E,    46,  1,     11,     11,5,19920926,0503, 52.3333, -20.7517, 3782,   2422.9,   3.4171,  34.9449,2,  34.9406,2,    269.4,2
     06AZ129_1,  AR7E,    46,  1,     10,     10,5,19920926,0503, 52.3333, -20.7517, 3782,   2612.0,   3.2772,  34.9530,2,  34.9487,2,    266.8,2
     06AZ129_1,  AR7E,    46,  1,      9,      9,5,19920926,0503, 52.3333, -20.7517, 3782,   2835.4,   3.1188,  34.9591,2,  34.9544,2,    262.3,2
     06AZ129_1,  AR7E,    46,  1,      8,      8,5,19920926,0503, 52.3333, -20.7517, 3782,   2934.4,   3.0193,  34.9576,2,  34.9544,2,    260.2,2
     06AZ129_1,  AR7E,    46,  1,      7,      7,5,19920926,0503, 52.3333, -20.7517, 3782,   3035.3,   2.9448,  34.9565,2,  34.9509,2,    257.9,2
     06AZ129_1,  AR7E,    46,  1,      6,      6,5,19920926,0503, 52.3333, -20.7517, 3782,   3134.8,   2.8714,  34.9528,2,  34.9485,2,    256.0,2
     06AZ129_1,  AR7E,    46,  1,      5,      5,5,19920926,0503, 52.3333, -20.7517, 3782,   3236.6,   2.7949,  34.9492,2,  34.9444,2,    254.3,2
     06AZ129_1,  AR7E,    46,  1,      4,      4,5,19920926,0503, 52.3333, -20.7517, 3782,   3343.5,   2.7175,  34.9447,2,  34.9379,2,    251.0,2
     06AZ129_1,  AR7E,    46,  1,      3,      3,5,19920926,0503, 52.3333, -20.7517, 3782,   3446.7,   2.6605,  34.9372,2,  34.9320,2,    248.3,2
     06AZ129_1,  AR7E,    46,  1,      2,      2,5,19920926,0503, 52.3333, -20.7517, 3782,   3650.1,   2.5376,  34.9232,2,  34.9163,2,    243.1,2
     06AZ129_1,  AR7E,    46,  1,      1,      1,5,19920926,0503, 52.3333, -20.7517, 3782,   3789.3,   2.4836,  34.9162,2,  34.9088,2,   -999.0,5
     06AZ129_1,  AR7E,    47,  1,     24,     24,5,19920926,1055, 52.3333, -20.0000, 3793,     20.1,  13.4960,  35.4572,2,  35.4532,2,    255.1,2
     06AZ129_1,  AR7E,    47,  1,     23,     23,5,19920926,1055, 52.3333, -20.0000, 3793,     95.4,  12.1014,  35.5401,2,  35.5355,2,    241.0,2
     06AZ129_1,  AR7E,    47,  1,     22,     22,5,19920926,1055, 52.3333, -20.0000, 3793,    183.0,  10.9508,  35.3807,2,  35.3787,2,    240.8,2
     06AZ129_1,  AR7E,    47,  1,     21,     21,5,19920926,1055, 52.3333, -20.0000, 3793,    396.9,  10.2715,  35.3942,2,  35.3905,2,    236.0,2
     06AZ129_1,  AR7E,    47,  1,     20,     20,5,19920926,1055, 52.3333, -20.0000, 3793,    597.5,   8.9425,  35.2485,2,  35.2439,2,    219.2,2
     06AZ129_1,  AR7E,    47,  1,     19,     19,5,19920926,1055, 52.3333, -20.0000, 3793,    800.2,   7.2862,  35.1745,2,  35.1713,2,    211.6,2
     06AZ129_1,  AR7E,    47,  1,     18,     18,5,19920926,1055, 52.3333, -20.0000, 3793,   1001.9,   5.8864,  35.1102,2,  35.1127,2,    228.8,2
     06AZ129_1,  AR7E,    47,  1,     17,     17,5,19920926,1055, 52.3333, -20.0000, 3793,   1204.9,   4.6874,  34.9874,2,  34.9851,2,    250.4,2
     06AZ129_1,  AR7E,    47,  1,     16,     16,5,19920926,1055, 52.3333, -20.0000, 3793,   1405.3,   4.0698,  34.9389,2,  34.9365,2,    264.9,2
     06AZ129_1,  AR7E,    47,  1,     15,     15,5,19920926,1055, 52.3333, -20.0000, 3793,   1612.0,   3.7539,  34.9120,2,  34.9098,2,    273.7,2
     06AZ129_1,  AR7E,    47,  1,     14,     14,5,19920926,1055, 52.3333, -20.0000, 3793,   1812.1,   3.5860,  34.9030,2,  34.9010,2,    277.6,2
     06AZ129_1,  AR7E,    47,  1,     13,     13,5,19920926,1055, 52.3333, -20.0000, 3793,   1993.9,   3.5370,  34.9076,2,  34.9070,2,    277.7,2
     06AZ129_1,  AR7E,    47,  1,     12,     12,5,19920926,1055, 52.3333, -20.0000, 3793,   2218.1,   3.5060,  34.9253,2,  34.9243,2,    274.7,2
     06AZ129_1,  AR7E,    47,  1,     11,     11,5,19920926,1055, 52.3333, -20.0000, 3793,   2424.3,   3.4151,  34.9380,2,  34.9377,2,    272.8,2
     06AZ129_1,  AR7E,    47,  1,     10,     10,5,19920926,1055, 52.3333, -20.0000, 3793,   2636.4,   3.2922,  34.9463,2,  34.9434,2,    271.7,2
     06AZ129_1,  AR7E,    47,  1,      9,      9,5,19920926,1055, 52.3333, -20.0000, 3793,   2832.5,   3.1292,  34.9530,2,  34.9516,2,    266.1,2
     06AZ129_1,  AR7E,    47,  1,      8,      8,5,19920926,1055, 52.3333, -20.0000, 3793,   3034.0,   2.9299,  34.9467,2,  34.9452,2,    255.3,2
     06AZ129_1,  AR7E,    47,  1,      7,      7,5,19920926,1055, 52.3333, -20.0000, 3793,   3153.6,   2.7914,  34.9429,2,  34.9399,2,    251.1,2
     06AZ129_1,  AR7E,    47,  1,      6,      6,5,19920926,1055, 52.3333, -20.0000, 3793,   3239.1,   2.7190,  34.9386,2,-999.0000,5,    249.3,2
     06AZ129_1,  AR7E,    47,  1,      5,      5,5,19920926,1055, 52.3333, -20.0000, 3793,   3338.8,   2.5885,  34.9272,2,  34.9237,2,    246.0,2
     06AZ129_1,  AR7E,    47,  1,      4,      4,5,19920926,1055, 52.3333, -20.0000, 3793,   3389.9,   2.5725,  34.9253,2,  34.9228,2,    245.6,2
     06AZ129_1,  AR7E,    47,  1,      3,      3,5,19920926,1055, 52.3333, -20.0000, 3793,   3548.9,   2.5361,  34.9214,2,  34.9194,2,    244.8,2
     06AZ129_1,  AR7E,    47,  1,      2,      2,5,19920926,1055, 52.3333, -20.0000, 3793,   3697.2,   2.5391,  34.9207,2,  34.9153,3,    244.3,2
     06AZ129_1,  AR7E,    47,  1,      1,      1,5,19920926,1055, 52.3333, -20.0000, 3793,   3813.2,   2.4926,  34.9134,2,  34.9106,2,    243.3,2