BOTTLE,20010509WHPSIOKJU
EXPOCODE,SECT_ID,STNNBR,CASTNO,SAMPNO,BTLNBR,BTLNBR_FLAG_W,DATE,TIME,LATITUDE,LONGITUDE,DEPTH,CTDPRS,CTDTMP,CTDSAL,CTDSAL_FLAG_W,SALNTY,SALNTY_FLAG_W,OXYGEN,OXYGEN_FLAG_W
,,,,,,,,,,,,DBAR,ITS-90,PSS-78,,PSS-78,,UMOL/KG,
     06AZ129_1,  AR7E,    26,  1,     23,     23,5,19920921,1940, 57.5650, -28.3433, 2343,    421.2,   6.1208,  34.9941,2,  34.9896,2,    257.1,2
     06AZ129_1,  AR7E,    26,  1,     22,     22,5,19920921,1940, 57.5650, -28.3433, 2343,    592.8,   5.5935,  35.0144,2,  35.0065,2,    241.8,2
     06AZ129_1,  AR7E,    26,  1,     20,     20,5,19920921,1940, 57.5650, -28.3433, 2343,   2336.5,   2.8609,  34.9784,2,  34.9741,2,    271.2,2
     06AZ129_1,  AR7E,    26,  1,     21,     21,5,19920921,1940, 57.5650, -28.3433, 2343,   2337.3,   2.8609,  34.9780,2,  34.9735,2,    271.1,2
     06AZ129_1,  AR7E,    26,  1,     19,     19,5,19920921,1940, 57.5650, -28.3433, 2343,   2337.7,   2.8604,  34.9795,2,  34.9743,2,    270.9,2
     06AZ129_1,  AR7E,    26,  1,     17,     17,5,19920921,1940, 57.5650, -28.3433, 2343,   2338.1,   2.8609,  34.9776,2,  34.9735,2,    271.6,2
     06AZ129_1,  AR7E,    26,  1,     18,     18,5,19920921,1940, 57.5650, -28.3433, 2343,   2338.5,   2.8604,  34.9791,2,  34.9739,2,    271.6,2
     06AZ129_1,  AR7E,    26,  1,     14,     14,5,19920921,1940, 57.5650, -28.3433, 2343,   2340.4,   2.8604,  34.9782,2,  34.9739,2,    271.9,2
     06AZ129_1,  AR7E,    26,  1,     13,     13,5,19920921,1940, 57.5650, -28.3433, 2343,   2340.6,   2.8604,  34.9781,2,  34.9737,2,    271.5,2
     06AZ129_1,  AR7E,    26,  1,     16,     16,5,19920921,1940, 57.5650, -28.3433, 2343,   2341.0,   2.8604,  34.9780,2,  34.9735,2,    271.3,2
     06AZ129_1,  AR7E,    26,  1,     15,     15,5,19920921,1940, 57.5650, -28.3433, 2343,   2342.2,   2.8609,  34.9769,2,  34.9756,2,    272.0,2
     06AZ129_1,  AR7E,    26,  1,     12,     12,5,19920921,1940, 57.5650, -28.3433, 2343,   2342.3,   2.8599,  34.9791,2,  34.9735,2,    271.3,2
     06AZ129_1,  AR7E,    26,  1,     10,     10,5,19920921,1940, 57.5650, -28.3433, 2343,   2342.4,   2.8604,  34.9773,2,  34.9735,2,    271.5,2
     06AZ129_1,  AR7E,    26,  1,     11,     11,5,19920921,1940, 57.5650, -28.3433, 2343,   2343.8,   2.8609,  34.9761,2,  34.9739,2,    271.6,2
     06AZ129_1,  AR7E,    26,  1,      9,      9,5,19920921,1940, 57.5650, -28.3433, 2343,   2344.2,   2.8594,  34.9775,2,  34.9725,2,    271.3,2
     06AZ129_1,  AR7E,    26,  1,      8,      8,5,19920921,1940, 57.5650, -28.3433, 2343,   2344.7,   2.8604,  34.9774,2,  34.9731,2,    271.5,2
     06AZ129_1,  AR7E,    26,  1,      7,      7,5,19920921,1940, 57.5650, -28.3433, 2343,   2345.2,   2.8594,  34.9770,2,  34.9735,2,    271.9,2
     06AZ129_1,  AR7E,    26,  1,      4,      4,5,19920921,1940, 57.5650, -28.3433, 2343,   2345.4,   2.8584,  34.9780,2,  34.9731,2,    272.1,2
     06AZ129_1,  AR7E,    26,  1,      6,      6,5,19920921,1940, 57.5650, -28.3433, 2343,   2345.5,   2.8584,  34.9780,2,  34.9731,2,    271.7,2
     06AZ129_1,  AR7E,    26,  1,      5,      5,5,19920921,1940, 57.5650, -28.3433, 2343,   2345.8,   2.8574,  34.9777,2,  34.9731,2,    271.8,2
     06AZ129_1,  AR7E,    26,  1,      2,      2,5,19920921,1940, 57.5650, -28.3433, 2343,   2346.3,   2.8569,  34.9780,2,  34.9762,2,    272.2,2
     06AZ129_1,  AR7E,    26,  1,      1,      1,5,19920921,1940, 57.5650, -28.3433, 2343,   2346.5,   2.8574,  34.9773,2,  34.9735,2,    272.4,2
     06AZ129_1,  AR7E,    26,  1,      3,      3,5,19920921,1940, 57.5650, -28.3433, 2343,   2347.1,   2.8569,  34.9788,2,  34.9735,2,    271.8,2
     06AZ129_1,  AR7E,    27,  1,     23,     23,5,19920921,2351, 57.2500, -28.0833, 2699,     21.3,   9.6633,  34.8758,2,  34.8701,2,    275.0,2
     06AZ129_1,  AR7E,    27,  1,     22,     22,5,19920921,2351, 57.2500, -28.0833, 2699,     96.1,   7.5781,  34.8844,2,  34.8729,2,    265.9,2
     06AZ129_1,  AR7E,    27,  1,     21,     21,5,19920921,2351, 57.2500, -28.0833, 2699,    195.9,   6.7525,  34.8641,2,  34.8624,2,    257.7,2
     06AZ129_1,  AR7E,    27,  1,     20,     20,5,19920921,2351, 57.2500, -28.0833, 2699,    296.9,   6.2412,  34.9207,2,  34.9175,2,    245.5,2
     06AZ129_1,  AR7E,    27,  1,     19,     19,5,19920921,2351, 57.2500, -28.0833, 2699,    397.1,   6.1657,  35.0049,2,  35.0073,2,    241.2,2
     06AZ129_1,  AR7E,    27,  1,     18,     18,5,19920921,2351, 57.2500, -28.0833, 2699,    496.9,   5.5420,  34.9649,2,  34.9585,2,    250.3,2
     06AZ129_1,  AR7E,    27,  1,     17,     17,5,19920921,2351, 57.2500, -28.0833, 2699,    597.5,   5.0942,  34.9518,2,  34.9495,2,    249.8,2
     06AZ129_1,  AR7E,    27,  1,     16,     16,5,19920921,2351, 57.2500, -28.0833, 2699,    699.2,   4.7024,  34.9508,2,  34.9463,2,    247.7,2
     06AZ129_1,  AR7E,    27,  1,     15,     15,5,19920921,2351, 57.2500, -28.0833, 2699,    797.1,   4.3116,  34.9270,2,  34.9234,2,    255.7,2
     06AZ129_1,  AR7E,    27,  1,     14,     14,5,19920921,2351, 57.2500, -28.0833, 2699,    900.8,   4.0932,  34.9219,2,  34.9175,2,    261.0,2
     06AZ129_1,  AR7E,    27,  1,     13,     13,5,19920921,2351, 57.2500, -28.0833, 2699,    996.6,   3.9788,  34.9206,2,  34.9169,2,    263.9,2
     06AZ129_1,  AR7E,    27,  1,     12,     12,5,19920921,2351, 57.2500, -28.0833, 2699,   1103.6,   3.7939,  34.9042,2,  34.9039,2,    269.4,2
     06AZ129_1,  AR7E,    27,  1,     11,     11,5,19920921,2351, 57.2500, -28.0833, 2699,   1204.2,   3.6595,  34.8958,2,  34.8939,2,    273.6,2
     06AZ129_1,  AR7E,    27,  1,     10,     10,5,19920921,2351, 57.2500, -28.0833, 2699,   1406.3,   3.4841,  34.8883,2,  34.8856,2,    278.7,2
     06AZ129_1,  AR7E,    27,  1,      9,      9,5,19920921,2351, 57.2500, -28.0833, 2699,   1509.5,   3.4471,  34.8903,2,  34.8890,2,    279.0,2
     06AZ129_1,  AR7E,    27,  1,      8,      8,5,19920921,2351, 57.2500, -28.0833, 2699,   1711.2,   3.4221,  34.9030,2,  34.8988,2,    278.2,2
     06AZ129_1,  AR7E,    27,  1,      7,      7,5,19920921,2351, 57.2500, -28.0833, 2699,   1809.8,   3.4421,  34.9160,2,  34.9127,2,    276.0,2
     06AZ129_1,  AR7E,    27,  1,      6,      6,5,19920921,2351, 57.2500, -28.0833, 2699,   2015.9,   3.4681,  34.9496,2,  34.9467,2,    272.2,2
     06AZ129_1,  AR7E,    27,  1,      5,      5,5,19920921,2351, 57.2500, -28.0833, 2699,   2117.0,   3.4331,  34.9633,2,  34.9619,2,    271.8,2
     06AZ129_1,  AR7E,    27,  1,      4,      4,5,19920921,2351, 57.2500, -28.0833, 2699,   2274.1,   3.2062,  34.9671,2,  34.9642,2,    270.1,2
     06AZ129_1,  AR7E,    27,  1,      3,      3,5,19920921,2351, 57.2500, -28.0833, 2699,   2476.3,   3.0078,  34.9762,2,  34.9729,2,    271.2,2
     06AZ129_1,  AR7E,    27,  1,      2,      2,5,19920921,2351, 57.2500, -28.0833, 2699,   2566.7,   2.9284,  34.9776,2,  34.9723,2,    271.5,2
     06AZ129_1,  AR7E,    27,  1,      1,      1,5,19920921,2351, 57.2500, -28.0833, 2699,   2690.7,   2.8404,  34.9753,2,  34.9723,2,    271.1,2
     06AZ129_1,  AR7E,    28,  1,     24,     24,5,19920922,0500, 56.8667, -27.7433, 2860,     20.2,  11.2327,  35.1447,2,  35.1396,2,    264.1,2
     06AZ129_1,  AR7E,    28,  1,     23,     23,5,19920922,0500, 56.8667, -27.7433, 2860,    196.3,   8.5007,  35.0486,2,  35.0434,2,    245.9,2
     06AZ129_1,  AR7E,    28,  1,     22,     22,5,19920922,0500, 56.8667, -27.7433, 2860,    396.1,   7.0014,  34.9965,2,  35.0006,2,    229.7,2
     06AZ129_1,  AR7E,    28,  1,     21,     21,5,19920922,0500, 56.8667, -27.7433, 2860,    597.7,   5.6130,  34.9849,2,  34.9839,2,    234.0,2
     06AZ129_1,  AR7E,    28,  1,     20,     20,5,19920922,0500, 56.8667, -27.7433, 2860,    802.1,   4.6675,  34.9582,2,  34.9573,2,    248.9,2
     06AZ129_1,  AR7E,    28,  1,     19,     19,5,19920922,0500, 56.8667, -27.7433, 2860,   1004.0,   4.0718,  34.9260,2,  34.9249,2,    263.6,2
     06AZ129_1,  AR7E,    28,  1,     18,     18,5,19920922,0500, 56.8667, -27.7433, 2860,   1104.0,   3.8963,  34.9153,2,  34.9139,2,    268.1,2
     06AZ129_1,  AR7E,    28,  1,     17,     17,5,19920922,0500, 56.8667, -27.7433, 2860,   1207.2,   3.7699,  34.9068,2,  34.9049,2,    271.7,2
     06AZ129_1,  AR7E,    28,  1,     16,     16,5,19920922,0500, 56.8667, -27.7433, 2860,   1307.5,   3.6380,  34.9010,2,  34.9000,2,    274.8,2
     06AZ129_1,  AR7E,    28,  1,     15,     15,5,19920922,0500, 56.8667, -27.7433, 2860,   1409.4,   3.5805,  34.9000,2,  34.8947,2,    277.0,2
     06AZ129_1,  AR7E,    28,  1,     14,     14,5,19920922,0500, 56.8667, -27.7433, 2860,   1508.1,   3.5190,  34.8982,2,  34.8962,2,    278.7,2
     06AZ129_1,  AR7E,    28,  1,     13,     13,5,19920922,0500, 56.8667, -27.7433, 2860,   1609.6,   3.4791,  34.9022,2,  34.8994,2,    279.0,2
     06AZ129_1,  AR7E,    28,  1,     12,     12,5,19920922,0500, 56.8667, -27.7433, 2860,   1713.5,   3.4601,  34.9105,2,  34.9063,2,    277.7,2
     06AZ129_1,  AR7E,    28,  1,     11,     11,5,19920922,0500, 56.8667, -27.7433, 2860,   1812.3,   3.4666,  34.9222,2,  34.9186,2,    275.6,2
     06AZ129_1,  AR7E,    28,  1,     10,     10,5,19920922,0500, 56.8667, -27.7433, 2860,   1908.5,   3.4526,  34.9332,2,  34.9310,2,    274.4,2
     06AZ129_1,  AR7E,    28,  1,      9,      9,5,19920922,0500, 56.8667, -27.7433, 2860,   2019.5,   3.4101,  34.9438,2,  34.9442,2,    273.3,2
     06AZ129_1,  AR7E,    28,  1,      8,      8,5,19920922,0500, 56.8667, -27.7433, 2860,   2120.0,   3.3501,  34.9533,2,  34.9522,2,    272.8,2
     06AZ129_1,  AR7E,    28,  1,      7,      7,5,19920922,0500, 56.8667, -27.7433, 2860,   2220.4,   3.2637,  34.9626,2,  34.9611,2,    272.2,2
     06AZ129_1,  AR7E,    28,  1,      6,      6,5,19920922,0500, 56.8667, -27.7433, 2860,   2324.7,   3.1567,  34.9671,2,  34.9646,2,    271.3,2
     06AZ129_1,  AR7E,    28,  1,      5,      5,5,19920922,0500, 56.8667, -27.7433, 2860,   2425.3,   3.0503,  34.9705,2,  34.9672,2,    270.5,2
     06AZ129_1,  AR7E,    28,  1,      4,      4,5,19920922,0500, 56.8667, -27.7433, 2860,   2525.7,   2.9568,  34.9737,2,  34.9705,2,    272.9,2
     06AZ129_1,  AR7E,    28,  1,      3,      3,5,19920922,0500, 56.8667, -27.7433, 2860,   2628.3,   2.8844,  34.9731,2,  34.9701,2,    270.2,2
     06AZ129_1,  AR7E,    28,  1,      2,      2,5,19920922,0500, 56.8667, -27.7433, 2860,   2731.7,   2.8424,  34.9736,2,  34.9709,2,    271.0,2
     06AZ129_1,  AR7E,    28,  1,      1,      1,5,19920922,0500, 56.8667, -27.7433, 2860,   2864.6,   2.8084,  34.9742,2,  34.9691,2,    269.9,2
     06AZ129_1,  AR7E,    29,  1,     23,     23,5,19920922,1008, 56.4583, -27.5000, 2758,     15.1,  11.2992,  35.1353,2,  35.1298,2,    264.0,2
     06AZ129_1,  AR7E,    29,  1,     22,     22,5,19920922,1008, 56.4583, -27.5000, 2758,     94.6,   8.8916,  35.0208,2,  35.0067,2,    259.7,2
     06AZ129_1,  AR7E,    29,  1,     21,     21,5,19920922,1008, 56.4583, -27.5000, 2758,    174.6,   8.8181,  35.0858,2,  35.0822,2,    247.5,2
     06AZ129_1,  AR7E,    29,  1,     20,     20,5,19920922,1008, 56.4583, -27.5000, 2758,    242.5,   8.3683,  35.0827,2,  35.0413,2,    239.2,2
     06AZ129_1,  AR7E,    29,  1,     19,     19,5,19920922,1008, 56.4583, -27.5000, 2758,    298.5,   7.9125,  35.0467,2,  35.0423,2,    226.0,2
     06AZ129_1,  AR7E,    29,  1,     18,     18,5,19920922,1008, 56.4583, -27.5000, 2758,    376.2,   6.5631,  34.9092,2,  34.9072,2,    224.7,2
     06AZ129_1,  AR7E,    29,  1,     17,     17,5,19920922,1008, 56.4583, -27.5000, 2758,    497.1,   5.9928,  34.9807,2,  34.9782,2,    251.0,2
     06AZ129_1,  AR7E,    29,  1,     16,     16,5,19920922,1008, 56.4583, -27.5000, 2758,    597.1,   5.6210,  35.0133,2,  35.0102,2,    233.5,2
     06AZ129_1,  AR7E,    29,  1,     15,     15,5,19920922,1008, 56.4583, -27.5000, 2758,    698.0,   4.9578,  34.9715,2,  34.9715,2,    244.2,2
     06AZ129_1,  AR7E,    29,  1,     14,     14,5,19920922,1008, 56.4583, -27.5000, 2758,    800.2,   4.4381,  34.9353,2,  34.9324,2,    254.5,2
     06AZ129_1,  AR7E,    29,  1,     13,     13,5,19920922,1008, 56.4583, -27.5000, 2758,    902.5,   4.1807,  34.9288,2,  34.9263,2,    260.1,2
     06AZ129_1,  AR7E,    29,  1,     12,     12,5,19920922,1008, 56.4583, -27.5000, 2758,   1000.8,   3.9383,  34.9116,2,  34.9102,2,    266.4,2
     06AZ129_1,  AR7E,    29,  1,     11,     11,5,19920922,1008, 56.4583, -27.5000, 2758,   1102.3,   3.7969,  34.9053,2,  34.9027,2,    270.5,2
     06AZ129_1,  AR7E,    29,  1,     10,     10,5,19920922,1008, 56.4583, -27.5000, 2758,   1205.2,   3.6745,  34.9008,2,  34.8966,2,    274.5,2
     06AZ129_1,  AR7E,    29,  1,      9,      9,5,19920922,1008, 56.4583, -27.5000, 2758,   1410.1,   3.5350,  34.8979,2,  34.8966,2,    277.9,3
     06AZ129_1,  AR7E,    29,  1,      8,      8,5,19920922,1008, 56.4583, -27.5000, 2758,   1606.9,   3.4541,  34.9050,2,  34.9004,2,    276.6,2
     06AZ129_1,  AR7E,    29,  1,      7,      7,5,19920922,1008, 56.4583, -27.5000, 2758,   1914.7,   3.4296,  34.9378,2,  34.9355,2,    273.3,2
     06AZ129_1,  AR7E,    29,  1,      6,      6,5,19920922,1008, 56.4583, -27.5000, 2758,   2121.4,   3.3012,  34.9592,2,  34.9566,2,    271.8,2
     06AZ129_1,  AR7E,    29,  1,      5,      5,5,19920922,1008, 56.4583, -27.5000, 2758,   2322.0,   3.0953,  34.9701,2,  34.9652,2,    270.5,2
     06AZ129_1,  AR7E,    29,  1,      4,      4,5,19920922,1008, 56.4583, -27.5000, 2758,   2390.9,   3.0308,  34.9726,2,  34.9699,2,    270.8,2
     06AZ129_1,  AR7E,    29,  1,      3,      3,5,19920922,1008, 56.4583, -27.5000, 2758,   2525.6,   2.9054,  34.9744,2,  34.9707,2,    270.9,2
     06AZ129_1,  AR7E,    29,  1,      2,      2,5,19920922,1008, 56.4583, -27.5000, 2758,   2729.4,   2.7944,  34.9751,2,  34.9707,2,    270.4,2
     06AZ129_1,  AR7E,    29,  1,      1,      1,5,19920922,1008, 56.4583, -27.5000, 2758,   2755.2,   2.7844,  34.9739,2,  34.9699,2,    270.7,2
     06AZ129_1,  AR7E,    30,  1,     23,     23,5,19920922,1535, 56.0000, -27.1500, 2798,     21.0,  11.0308,  34.9951,2,  34.9900,2,    265.9,2
     06AZ129_1,  AR7E,    30,  1,     22,     22,5,19920922,1535, 56.0000, -27.1500, 2798,    195.9,   7.4841,  34.9286,2,  34.9214,2,    240.1,2
     06AZ129_1,  AR7E,    30,  1,     21,     21,5,19920922,1535, 56.0000, -27.1500, 2798,    398.8,   5.6940,  34.8600,2,  34.8554,2,    237.1,2
     06AZ129_1,  AR7E,    30,  1,     20,     20,5,19920922,1535, 56.0000, -27.1500, 2798,    597.3,   4.8244,  34.9369,2,  34.9351,2,    245.1,2
     06AZ129_1,  AR7E,    30,  1,     19,     19,5,19920922,1535, 56.0000, -27.1500, 2798,    801.7,   4.3576,  34.9524,2,  34.9532,3,    255.7,2
     06AZ129_1,  AR7E,    30,  1,     18,     18,5,19920922,1535, 56.0000, -27.1500, 2798,    901.3,   4.0098,  34.9154,2,  34.9182,3,    264.2,2
     06AZ129_1,  AR7E,    30,  1,     17,     17,5,19920922,1535, 56.0000, -27.1500, 2798,   1006.2,   3.8204,  34.9105,2,  34.9063,2,    269.7,2
     06AZ129_1,  AR7E,    30,  1,     16,     16,5,19920922,1535, 56.0000, -27.1500, 2798,   1209.5,   3.5865,  34.8943,2,  34.8917,2,    276.8,2
     06AZ129_1,  AR7E,    30,  1,     15,     15,5,19920922,1535, 56.0000, -27.1500, 2798,   1305.7,   3.5030,  34.8913,2,  34.8876,2,    278.8,2
     06AZ129_1,  AR7E,    30,  1,     14,     14,5,19920922,1535, 56.0000, -27.1500, 2798,   1408.6,   3.4441,  34.8866,2,  34.8844,2,    280.9,2
     06AZ129_1,  AR7E,    30,  1,     13,     13,5,19920922,1535, 56.0000, -27.1500, 2798,   1510.4,   3.3946,  34.8882,2,  34.8848,2,    282.1,2
     06AZ129_1,  AR7E,    30,  1,     12,     12,5,19920922,1535, 56.0000, -27.1500, 2798,   1611.6,   3.3706,  34.8909,2,  34.8878,2,    281.2,2
     06AZ129_1,  AR7E,    30,  1,     11,     11,5,19920922,1535, 56.0000, -27.1500, 2798,   1713.3,   3.3646,  34.8997,2,  34.8955,2,    281.0,2
     06AZ129_1,  AR7E,    30,  1,     10,     10,5,19920922,1535, 56.0000, -27.1500, 2798,   1815.4,   3.4321,  34.9202,2,  34.9173,2,    276.2,2
     06AZ129_1,  AR7E,    30,  1,      9,      9,5,19920922,1535, 56.0000, -27.1500, 2798,   1915.6,   3.4071,  34.9303,2,  34.9265,2,    274.9,2
     06AZ129_1,  AR7E,    30,  1,      8,      8,5,19920922,1535, 56.0000, -27.1500, 2798,   2016.5,   3.3771,  34.9373,2,  34.9349,2,    273.0,2
     06AZ129_1,  AR7E,    30,  1,      7,      7,5,19920922,1535, 56.0000, -27.1500, 2798,   2119.7,   3.3621,  34.9515,2,  34.9491,2,    272.4,2
     06AZ129_1,  AR7E,    30,  1,      6,      6,5,19920922,1535, 56.0000, -27.1500, 2798,   2220.3,   3.2822,  34.9586,2,  34.9577,2,    271.7,2
     06AZ129_1,  AR7E,    30,  1,      5,      5,5,19920922,1535, 56.0000, -27.1500, 2798,   2323.1,   3.1677,  34.9669,2,  34.9640,2,    271.0,2
     06AZ129_1,  AR7E,    30,  1,      4,      4,5,19920922,1535, 56.0000, -27.1500, 2798,   2427.2,   3.0463,  34.9715,2,  34.9668,2,    270.4,2
     06AZ129_1,  AR7E,    30,  1,      3,      3,5,19920922,1535, 56.0000, -27.1500, 2798,   2526.7,   2.9408,  34.9710,2,  34.9668,2,    270.2,2
     06AZ129_1,  AR7E,    30,  1,      2,      2,5,19920922,1535, 56.0000, -27.1500, 2798,   2630.7,   2.8224,  34.9645,2,  34.9607,2,    267.0,2
     06AZ129_1,  AR7E,    30,  1,      1,      1,5,19920922,1535, 56.0000, -27.1500, 2798,   2787.5,   2.7824,  34.9732,2,  34.9695,2,    273.5,2