BOTTLE,20010509WHPSIOKJU
EXPOCODE,SECT_ID,STNNBR,CASTNO,SAMPNO,BTLNBR,BTLNBR_FLAG_W,DATE,TIME,LATITUDE,LONGITUDE,DEPTH,CTDPRS,CTDTMP,CTDSAL,CTDSAL_FLAG_W,SALNTY,SALNTY_FLAG_W,OXYGEN,OXYGEN_FLAG_W
,,,,,,,,,,,,DBAR,ITS-90,PSS-78,,PSS-78,,UMOL/KG,
     06AZ129_1,  AR7E,    38,  1,     24,     24,5,19920924,0710, 54.1333, -25.7467, 3117,    127.1,   6.6855,  34.8149,2,  34.8169,2,    268.4,2
     06AZ129_1,  AR7E,    38,  1,     23,     23,5,19920924,0710, 54.1333, -25.7467, 3117,    384.0,   5.2861,  34.9144,2,  34.9108,2,    242.5,2
     06AZ129_1,  AR7E,    38,  1,     22,     22,5,19920924,0710, 54.1333, -25.7467, 3117,    495.1,   4.7039,  34.9184,2,  34.9192,2,    247.1,2
     06AZ129_1,  AR7E,    38,  1,     21,     21,5,19920924,0710, 54.1333, -25.7467, 3117,    767.4,   3.9353,  34.9119,2,  34.9131,2,    266.3,2
     06AZ129_1,  AR7E,    38,  1,     20,     20,5,19920924,0710, 54.1333, -25.7467, 3117,    899.9,   3.7274,  34.9010,2,  34.8990,2,    272.6,2
     06AZ129_1,  AR7E,    38,  1,     19,     19,5,19920924,0710, 54.1333, -25.7467, 3117,    994.2,   3.6595,  34.9007,2,  34.8980,2,    274.8,2
     06AZ129_1,  AR7E,    38,  1,     18,     18,5,19920924,0710, 54.1333, -25.7467, 3117,   1100.3,   3.5565,  34.8935,2,  34.8896,2,    277.4,2
     06AZ129_1,  AR7E,    38,  1,     17,     17,5,19920924,0710, 54.1333, -25.7467, 3117,   1186.0,   3.4926,  34.8891,2,  34.8846,2,    279.9,2
     06AZ129_1,  AR7E,    38,  1,     16,     16,5,19920924,0710, 54.1333, -25.7467, 3117,   1305.7,   3.4246,  34.8850,2,  34.8815,2,    282.0,2
     06AZ129_1,  AR7E,    38,  1,     15,     15,5,19920924,0710, 54.1333, -25.7467, 3117,   1406.5,   3.3686,  34.8841,2,  34.8793,2,    283.4,2
     06AZ129_1,  AR7E,    38,  1,     14,     14,5,19920924,0710, 54.1333, -25.7467, 3117,   1506.3,   3.3421,  34.8862,2,  34.8813,2,    283.1,2
     06AZ129_1,  AR7E,    38,  1,     13,     13,5,19920924,0710, 54.1333, -25.7467, 3117,   1602.6,   3.3296,  34.8899,2,  34.8860,2,    283.4,2
     06AZ129_1,  AR7E,    38,  1,     12,     12,5,19920924,0710, 54.1333, -25.7467, 3117,   1715.8,   3.3256,  34.8980,2,  34.8927,2,    280.7,2
     06AZ129_1,  AR7E,    38,  1,     11,     11,5,19920924,0710, 54.1333, -25.7467, 3117,   1801.9,   3.3446,  34.9110,2,  34.9055,2,    279.3,2
     06AZ129_1,  AR7E,    38,  1,     10,     10,5,19920924,0710, 54.1333, -25.7467, 3117,   1905.1,   3.3496,  34.9247,2,  34.9204,2,    275.7,2
     06AZ129_1,  AR7E,    38,  1,      9,      9,5,19920924,0710, 54.1333, -25.7467, 3117,   2014.5,   3.3316,  34.9316,2,  34.9267,2,    274.3,2
     06AZ129_1,  AR7E,    38,  1,      8,      8,5,19920924,0710, 54.1333, -25.7467, 3117,   2102.2,   3.3072,  34.9370,2,  34.9344,2,    273.3,2
     06AZ129_1,  AR7E,    38,  1,      7,      7,5,19920924,0710, 54.1333, -25.7467, 3117,   2222.1,   3.2567,  34.9431,2,  34.9401,2,    271.9,2
     06AZ129_1,  AR7E,    38,  1,      6,      6,5,19920924,0710, 54.1333, -25.7467, 3117,   2321.0,   3.2087,  34.9472,2,  34.9432,2,    272.4,2
     06AZ129_1,  AR7E,    38,  1,      5,      5,5,19920924,0710, 54.1333, -25.7467, 3117,   2524.7,   3.1073,  34.9536,2,  34.9507,2,    268.5,2
     06AZ129_1,  AR7E,    38,  1,      4,      4,5,19920924,0710, 54.1333, -25.7467, 3117,   2626.1,   3.0383,  34.9547,2,  34.9518,2,    266.5,2
     06AZ129_1,  AR7E,    38,  1,      3,      3,5,19920924,0710, 54.1333, -25.7467, 3117,   2728.4,   2.9563,  34.9562,2,  34.9518,2,    264.3,2
     06AZ129_1,  AR7E,    38,  1,      2,      2,5,19920924,0710, 54.1333, -25.7467, 3117,   2899.6,   2.8494,  34.9545,2,  34.9489,2,    261.4,2
     06AZ129_1,  AR7E,    38,  1,      1,      1,5,19920924,0710, 54.1333, -25.7467, 3117,   3020.2,   2.7704,  34.9503,2,  34.9452,2,    258.6,2
     06AZ129_1,  AR7E,    39,  1,     24,     24,5,19920924,1200, 53.8350, -25.4983, 3623,     20.2,  10.7789,  34.8008,2,  34.7955,2,    270.6,2
     06AZ129_1,  AR7E,    39,  1,     23,     23,5,19920924,1200, 53.8350, -25.4983, 3623,     96.5,   7.3182,  34.8352,2,  34.8306,2,    261.3,2
     06AZ129_1,  AR7E,    39,  1,     22,     22,5,19920924,1200, 53.8350, -25.4983, 3623,    191.5,   6.3367,  34.8326,2,  34.8120,2,    256.0,2
     06AZ129_1,  AR7E,    39,  1,     21,     21,5,19920924,1200, 53.8350, -25.4983, 3623,    295.6,   5.6555,  34.8421,2,  34.8332,2,    243.3,2
     06AZ129_1,  AR7E,    39,  1,     20,     20,5,19920924,1200, 53.8350, -25.4983, 3623,    391.3,   5.2707,  34.9072,2,  34.8968,2,    242.0,2
     06AZ129_1,  AR7E,    39,  1,     19,     19,5,19920924,1200, 53.8350, -25.4983, 3623,    480.9,   4.8039,  34.9221,2,  34.9188,2,    245.4,2
     06AZ129_1,  AR7E,    39,  1,     18,     18,5,19920924,1200, 53.8350, -25.4983, 3623,    698.9,   4.1452,  34.9158,2,  34.9133,2,    260.3,2
     06AZ129_1,  AR7E,    39,  1,     17,     17,5,19920924,1200, 53.8350, -25.4983, 3623,    901.1,   3.8219,  34.9071,2,  34.9023,2,    269.9,2
     06AZ129_1,  AR7E,    39,  1,     16,     16,5,19920924,1200, 53.8350, -25.4983, 3623,   1099.3,   3.5855,  34.8919,2,  34.8888,2,    277.4,2
     06AZ129_1,  AR7E,    39,  1,     15,     15,5,19920924,1200, 53.8350, -25.4983, 3623,   1306.9,   3.4556,  34.8862,2,  34.8823,2,    280.5,2
     06AZ129_1,  AR7E,    39,  1,     14,     14,5,19920924,1200, 53.8350, -25.4983, 3623,   1507.2,   3.3566,  34.8835,2,  34.8821,2,    282.4,2
     06AZ129_1,  AR7E,    39,  1,     13,     13,5,19920924,1200, 53.8350, -25.4983, 3623,   1708.6,   3.3361,  34.8916,2,  34.8880,2,    282.1,2
     06AZ129_1,  AR7E,    39,  1,     12,     12,5,19920924,1200, 53.8350, -25.4983, 3623,   1811.0,   3.3411,  34.8996,2,  34.8953,2,    280.2,2
     06AZ129_1,  AR7E,    39,  1,     11,     11,5,19920924,1200, 53.8350, -25.4983, 3623,   1911.8,   3.3481,  34.9100,2,  34.9084,2,    278.4,2
     06AZ129_1,  AR7E,    39,  1,     10,     10,5,19920924,1200, 53.8350, -25.4983, 3623,   2016.8,   3.3396,  34.9185,2,  34.9145,2,    276.4,2
     06AZ129_1,  AR7E,    39,  1,      9,      9,5,19920924,1200, 53.8350, -25.4983, 3623,   2218.5,   3.3171,  34.9357,2,  34.9342,2,    272.7,2
     06AZ129_1,  AR7E,    39,  1,      8,      8,5,19920924,1200, 53.8350, -25.4983, 3623,   2423.1,   3.2117,  34.9464,2,  34.9438,2,    272.0,2
     06AZ129_1,  AR7E,    39,  1,      7,      7,5,19920924,1200, 53.8350, -25.4983, 3623,   2627.3,   3.0838,  34.9538,2,  34.9534,3,    270.7,2
     06AZ129_1,  AR7E,    39,  1,      6,      6,5,19920924,1200, 53.8350, -25.4983, 3623,   2832.0,   2.9943,  34.9574,2,  34.9550,2,    268.3,2
     06AZ129_1,  AR7E,    39,  1,      5,      5,5,19920924,1200, 53.8350, -25.4983, 3623,   3029.3,   2.8889,  34.9538,2,  34.9538,3,    265.1,2
     06AZ129_1,  AR7E,    39,  1,      4,      4,5,19920924,1200, 53.8350, -25.4983, 3623,   3240.2,   2.8209,  34.9548,2,  34.9518,2,    264.3,2
     06AZ129_1,  AR7E,    39,  1,      3,      3,5,19920924,1200, 53.8350, -25.4983, 3623,   3443.6,   2.7804,  34.9507,2,  34.9473,2,    261.3,2
     06AZ129_1,  AR7E,    39,  1,      2,      2,5,19920924,1200, 53.8350, -25.4983, 3623,   3636.3,   2.7115,  34.9395,2,  34.9371,2,    253.4,2
     06AZ129_1,  AR7E,    40,  1,     22,     22,5,19920924,1803, 53.6183, -24.7667, 3330,     14.8,  11.0018,  34.9066,2,  34.9106,2,    270.4,2
     06AZ129_1,  AR7E,    40,  1,     21,     21,5,19920924,1803, 53.6183, -24.7667, 3330,    195.9,   8.7721,  35.0663,2,  35.0596,2,    251.4,2
     06AZ129_1,  AR7E,    40,  1,     20,     20,5,19920924,1803, 53.6183, -24.7667, 3330,    398.4,   6.8644,  34.9052,2,  34.9013,2,    227.6,2
     06AZ129_1,  AR7E,    40,  1,     19,     19,5,19920924,1803, 53.6183, -24.7667, 3330,    600.0,   5.3641,  34.9327,2,  34.9285,2,    232.7,2
     06AZ129_1,  AR7E,    40,  1,     18,     18,5,19920924,1803, 53.6183, -24.7667, 3330,    801.5,   4.3046,  34.9275,2,  34.9257,2,    256.9,2
     06AZ129_1,  AR7E,    40,  1,     17,     17,5,19920924,1803, 53.6183, -24.7667, 3330,   1000.4,   3.8694,  34.9102,2,  34.9070,2,    268.8,2
     06AZ129_1,  AR7E,    40,  1,     16,     16,5,19920924,1803, 53.6183, -24.7667, 3330,   1205.0,   3.6200,  34.8968,2,  34.8945,2,    275.9,2
     06AZ129_1,  AR7E,    40,  1,     15,     15,5,19920924,1803, 53.6183, -24.7667, 3330,   1408.3,   3.4661,  34.8873,2,  34.8833,2,    280.4,2
     06AZ129_1,  AR7E,    40,  1,     14,     14,5,19920924,1803, 53.6183, -24.7667, 3330,   1611.3,   3.3821,  34.8849,2,  34.8803,2,    282.4,2
     06AZ129_1,  AR7E,    40,  1,     13,     13,5,19920924,1803, 53.6183, -24.7667, 3330,   1812.3,   3.3341,  34.8896,2,  34.8837,2,    282.4,2
     06AZ129_1,  AR7E,    40,  1,     12,     12,5,19920924,1803, 53.6183, -24.7667, 3330,   2116.4,   3.3631,  34.9188,2,  34.9122,2,    276.8,2
     06AZ129_1,  AR7E,    40,  1,     11,     11,5,19920924,1803, 53.6183, -24.7667, 3330,   2222.5,   3.3606,  34.9295,2,  34.9267,2,    273.7,2
     06AZ129_1,  AR7E,    40,  1,     10,     10,5,19920924,1803, 53.6183, -24.7667, 3330,   2321.7,   3.3561,  34.9363,2,  34.9330,2,    272.8,2
     06AZ129_1,  AR7E,    40,  1,      9,      9,5,19920924,1803, 53.6183, -24.7667, 3330,   2524.8,   3.2602,  34.9457,2,  34.9422,2,    271.9,2
     06AZ129_1,  AR7E,    40,  1,      8,      8,5,19920924,1803, 53.6183, -24.7667, 3330,   2626.5,   3.2062,  34.9500,2,  34.9452,2,    271.7,2
     06AZ129_1,  AR7E,    40,  1,      7,      7,5,19920924,1803, 53.6183, -24.7667, 3330,   2733.7,   3.1512,  34.9543,2,  34.9487,2,    270.9,2
     06AZ129_1,  AR7E,    40,  1,      6,      6,5,19920924,1803, 53.6183, -24.7667, 3330,   2832.2,   3.1078,  34.9567,2,  34.9524,2,    270.4,2
     06AZ129_1,  AR7E,    40,  1,      5,      5,5,19920924,1803, 53.6183, -24.7667, 3330,   2932.2,   3.0213,  34.9577,2,  34.9530,2,    268.5,2
     06AZ129_1,  AR7E,    40,  1,      4,      4,5,19920924,1803, 53.6183, -24.7667, 3330,   3034.5,   2.9114,  34.9588,2,  34.9528,2,    265.5,2
     06AZ129_1,  AR7E,    40,  1,      3,      3,5,19920924,1803, 53.6183, -24.7667, 3330,   3138.6,   2.8224,  34.9550,2,  34.9501,2,    262.3,2
     06AZ129_1,  AR7E,    40,  1,      2,      2,5,19920924,1803, 53.6183, -24.7667, 3330,   3240.0,   2.8174,  34.9550,2,  34.9497,2,    261.9,2
     06AZ129_1,  AR7E,    40,  1,      1,      1,5,19920924,1803, 53.6183, -24.7667, 3330,   3272.2,   2.8139,  34.9542,2,  34.9499,2,    261.9,2
     06AZ129_1,  AR7E,    41,  1,     23,     23,5,19920924,2341, 53.4100, -24.0817, 3503,     19.4,  11.9235,  35.1835,2,  35.1786,2,    260.6,2
     06AZ129_1,  AR7E,    41,  1,     22,     22,5,19920924,2341, 53.4100, -24.0817, 3503,     89.6,  11.5446,  35.2621,2,  35.2557,2,    245.6,2
     06AZ129_1,  AR7E,    41,  1,     21,     21,5,19920924,2341, 53.4100, -24.0817, 3503,    195.3,   9.0830,  35.0999,2,  35.0893,2,    251.9,2
     06AZ129_1,  AR7E,    41,  1,     20,     20,5,19920924,2341, 53.4100, -24.0817, 3503,    299.1,   8.2818,  35.0246,2,  35.0185,2,    239.5,2
     06AZ129_1,  AR7E,    41,  1,     19,     19,5,19920924,2341, 53.4100, -24.0817, 3503,    395.9,   7.1778,  34.9584,2,  34.9550,2,    230.7,2
     06AZ129_1,  AR7E,    41,  1,     18,     18,5,19920924,2341, 53.4100, -24.0817, 3503,    485.3,   6.2342,  34.9175,2,  34.9145,2,    220.1,2
     06AZ129_1,  AR7E,    41,  1,     17,     17,5,19920924,2341, 53.4100, -24.0817, 3503,    598.4,   5.7439,  34.9877,2,  34.9827,2,    226.6,2
     06AZ129_1,  AR7E,    41,  1,     16,     16,5,19920924,2341, 53.4100, -24.0817, 3503,    699.8,   5.0123,  34.9668,2,  34.9640,2,    241.9,2
     06AZ129_1,  AR7E,    41,  1,     15,     15,5,19920924,2341, 53.4100, -24.0817, 3503,    799.5,   4.8674,  34.9937,2,  34.9904,2,    244.7,2
     06AZ129_1,  AR7E,    41,  1,     14,     14,5,19920924,2341, 53.4100, -24.0817, 3503,    900.4,   4.3986,  34.9549,2,  34.9513,2,    254.7,2
     06AZ129_1,  AR7E,    41,  1,     13,     13,5,19920924,2341, 53.4100, -24.0817, 3503,   1000.5,   4.1017,  34.9256,2,  34.9239,2,    262.3,2
     06AZ129_1,  AR7E,    41,  1,     12,     12,5,19920924,2341, 53.4100, -24.0817, 3503,   1101.3,   3.8963,  34.9131,2,  34.9102,2,    267.5,2
     06AZ129_1,  AR7E,    41,  1,     11,     11,5,19920924,2341, 53.4100, -24.0817, 3503,   1304.9,   3.6490,  34.8990,2,  34.8958,2,    274.4,2
     06AZ129_1,  AR7E,    41,  1,     10,     10,5,19920924,2341, 53.4100, -24.0817, 3503,   1496.3,   3.5180,  34.8932,2,  34.8896,2,    278.0,2
     06AZ129_1,  AR7E,    41,  1,      9,      9,5,19920924,2341, 53.4100, -24.0817, 3503,   1714.9,   3.4046,  34.8912,2,  34.8870,2,    280.4,2
     06AZ129_1,  AR7E,    41,  1,      8,      8,5,19920924,2341, 53.4100, -24.0817, 3503,   1871.9,   3.3666,  34.8967,2,  34.8915,2,    280.5,2
     06AZ129_1,  AR7E,    41,  1,      7,      7,5,19920924,2341, 53.4100, -24.0817, 3503,   2307.3,   3.3411,  34.9399,2,  34.9379,2,    271.0,2
     06AZ129_1,  AR7E,    41,  1,      6,      6,5,19920924,2341, 53.4100, -24.0817, 3503,   2524.0,   3.2032,  34.9479,2,  34.9454,2,    271.3,2
     06AZ129_1,  AR7E,    41,  1,      5,      5,5,19920924,2341, 53.4100, -24.0817, 3503,   2730.3,   3.0863,  34.9541,2,  34.9516,2,    268.8,2
     06AZ129_1,  AR7E,    41,  1,      4,      4,5,19920924,2341, 53.4100, -24.0817, 3503,   2940.9,   2.9823,  34.9579,2,  34.9550,2,    267.5,2
     06AZ129_1,  AR7E,    41,  1,      3,      3,5,19920924,2341, 53.4100, -24.0817, 3503,   3136.3,   2.8894,  34.9570,2,  34.9544,2,    264.9,2
     06AZ129_1,  AR7E,    41,  1,      2,      2,5,19920924,2341, 53.4100, -24.0817, 3503,   3310.7,   2.8099,  34.9535,2,  34.9516,2,    261.9,2
     06AZ129_1,  AR7E,    41,  1,      1,      1,5,19920924,2341, 53.4100, -24.0817, 3503,   3550.2,   2.7115,  34.9417,2,  34.9403,2,    254.1,2
     06AZ129_1,  AR7E,    42,  1,     23,     23,5,19920925,0510, 53.2083, -23.3333, 3777,     16.7,  12.1104,  35.3361,2,  35.3311,2,    260.1,2
     06AZ129_1,  AR7E,    42,  1,     22,     22,5,19920925,0510, 53.2083, -23.3333, 3777,    186.1,  10.9348,  35.4238,2,  35.4167,2,    228.8,2
     06AZ129_1,  AR7E,    42,  1,     21,     21,5,19920925,0510, 53.2083, -23.3333, 3777,    397.6,   8.8396,  35.1454,2,  35.1441,2,    222.5,2
     06AZ129_1,  AR7E,    42,  1,     20,     20,5,19920925,0510, 53.2083, -23.3333, 3777,    550.0,   7.1108,  35.0189,2,  35.0116,2,    210.4,2
     06AZ129_1,  AR7E,    42,  1,     19,     19,5,19920925,0510, 53.2083, -23.3333, 3777,    748.2,   5.7369,  35.0435,2,  35.0409,2,    228.9,2
     06AZ129_1,  AR7E,    42,  1,     18,     18,5,19920925,0510, 53.2083, -23.3333, 3777,   1002.9,   4.2841,  34.9332,2,  34.9328,2,    257.3,2
     06AZ129_1,  AR7E,    42,  1,     17,     17,5,19920925,0510, 53.2083, -23.3333, 3777,   1104.5,   4.0323,  34.9191,2,  34.9200,2,    264.5,2
     06AZ129_1,  AR7E,    42,  1,     16,     16,5,19920925,0510, 53.2083, -23.3333, 3777,   1204.2,   3.8619,  34.9094,2,  34.9092,2,    269.4,2
     06AZ129_1,  AR7E,    42,  1,     15,     15,5,19920925,0510, 53.2083, -23.3333, 3777,   1507.8,   3.5495,  34.8922,2,  34.8905,2,    278.2,2
     06AZ129_1,  AR7E,    42,  1,     14,     14,5,19920925,0510, 53.2083, -23.3333, 3777,   1712.8,   3.4601,  34.8931,2,  34.8915,2,    279.7,2
     06AZ129_1,  AR7E,    42,  1,     13,     13,5,19920925,0510, 53.2083, -23.3333, 3777,   1916.2,   3.4121,  34.9033,2,  34.9017,2,    278.6,2
     06AZ129_1,  AR7E,    42,  1,     12,     12,5,19920925,0510, 53.2083, -23.3333, 3777,   2118.5,   3.4091,  34.9204,2,  34.9196,2,    283.4,2
     06AZ129_1,  AR7E,    42,  1,     11,     11,5,19920925,0510, 53.2083, -23.3333, 3777,   2322.3,   3.3391,  34.9350,2,  34.9336,2,    273.5,2
     06AZ129_1,  AR7E,    42,  1,     10,     10,5,19920925,0510, 53.2083, -23.3333, 3777,   2525.8,   3.2422,  34.9452,2,  34.9454,3,    271.9,2
     06AZ129_1,  AR7E,    42,  1,      9,      9,5,19920925,0510, 53.2083, -23.3333, 3777,   2729.7,   3.1352,  34.9527,2,  34.9495,2,    270.8,2
     06AZ129_1,  AR7E,    42,  1,      8,      8,5,19920925,0510, 53.2083, -23.3333, 3777,   2832.3,   3.0833,  34.9551,2,  34.9526,2,    270.0,2
     06AZ129_1,  AR7E,    42,  1,      7,      7,5,19920925,0510, 53.2083, -23.3333, 3777,   2940.0,   3.0118,  34.9570,2,  34.9556,2,    266.4,2
     06AZ129_1,  AR7E,    42,  1,      6,      6,5,19920925,0510, 53.2083, -23.3333, 3777,   3035.9,   2.9418,  34.9570,2,  34.9532,2,    264.1,2
     06AZ129_1,  AR7E,    42,  1,      5,      5,5,19920925,0510, 53.2083, -23.3333, 3777,   3138.5,   2.8749,  34.9558,2,  34.9536,2,    263.9,2
     06AZ129_1,  AR7E,    42,  1,      4,      4,5,19920925,0510, 53.2083, -23.3333, 3777,   3237.9,   2.8389,  34.9548,2,  34.9522,2,    262.6,2
     06AZ129_1,  AR7E,    42,  1,      3,      3,5,19920925,0510, 53.2083, -23.3333, 3777,   3444.7,   2.7749,  34.9512,2,  34.9475,2,    259.5,2
     06AZ129_1,  AR7E,    42,  1,      2,      2,5,19920925,0510, 53.2083, -23.3333, 3777,   3649.4,   2.6455,  34.9318,2,  34.9281,2,    248.5,2
     06AZ129_1,  AR7E,    42,  1,      1,      1,5,19920925,0510, 53.2083, -23.3333, 3777,   3785.7,   2.5431,  34.9197,2,  34.9163,2,    243.1,2