BOTTLE,20010509WHPSIOKJU
EXPOCODE,SECT_ID,STNNBR,CASTNO,SAMPNO,BTLNBR,BTLNBR_FLAG_W,DATE,TIME,LATITUDE,LONGITUDE,DEPTH,CTDPRS,CTDTMP,CTDSAL,CTDSAL_FLAG_W,SALNTY,SALNTY_FLAG_W,OXYGEN,OXYGEN_FLAG_W
,,,,,,,,,,,,DBAR,ITS-90,PSS-78,,PSS-78,,UMOL/KG,
     06AZ129_1,  AR7E,    48,  1,     24,     24,5,19920926,1650, 52.3300, -19.1817, 3962,     21.0,  12.5453,  35.1354,2,  35.1296,2,    262.8,2
     06AZ129_1,  AR7E,    48,  1,     23,     23,5,19920926,1650, 52.3300, -19.1817, 3962,    196.6,  10.7399,  35.3473,2,  35.3446,2,    243.3,2
     06AZ129_1,  AR7E,    48,  1,     22,     22,5,19920926,1650, 52.3300, -19.1817, 3962,    398.5,   9.4449,  35.2041,2,  35.2026,2,    230.3,2
     06AZ129_1,  AR7E,    48,  1,     21,     21,5,19920926,1650, 52.3300, -19.1817, 3962,    601.7,   7.2802,  34.9977,2,  34.9935,2,    215.1,2
     06AZ129_1,  AR7E,    48,  1,     20,     20,5,19920926,1650, 52.3300, -19.1817, 3962,    802.2,   6.3387,  35.1112,2,  35.1070,2,    222.2,2
     06AZ129_1,  AR7E,    48,  1,     19,     19,5,19920926,1650, 52.3300, -19.1817, 3962,   1003.7,   4.6859,  34.9556,2,  34.9526,2,    249.7,2
     06AZ129_1,  AR7E,    48,  1,     18,     18,5,19920926,1650, 52.3300, -19.1817, 3962,   1209.1,   4.1067,  34.9269,2,  34.9239,2,    263.9,2
     06AZ129_1,  AR7E,    48,  1,     17,     17,5,19920926,1650, 52.3300, -19.1817, 3962,   1407.0,   3.8284,  34.9096,2,  34.9063,2,    272.2,2
     06AZ129_1,  AR7E,    48,  1,     16,     16,5,19920926,1650, 52.3300, -19.1817, 3962,   1609.5,   3.6195,  34.8999,2,  34.8949,2,    277.5,2
     06AZ129_1,  AR7E,    48,  1,     15,     15,5,19920926,1650, 52.3300, -19.1817, 3962,   1812.2,   3.5080,  34.8974,2,  34.8964,2,    280.3,2
     06AZ129_1,  AR7E,    48,  1,     14,     14,5,19920926,1650, 52.3300, -19.1817, 3962,   2018.7,   3.4961,  34.9152,2,  34.9127,2,    277.2,2
     06AZ129_1,  AR7E,    48,  1,     13,     13,5,19920926,1650, 52.3300, -19.1817, 3962,   2220.8,   3.4441,  34.9289,2,  34.9291,3,    274.5,2
     06AZ129_1,  AR7E,    48,  1,     12,     12,5,19920926,1650, 52.3300, -19.1817, 3962,   2424.5,   3.3621,  34.9380,2,  34.9363,2,    273.7,2
     06AZ129_1,  AR7E,    48,  1,     11,     11,5,19920926,1650, 52.3300, -19.1817, 3962,   2629.6,   3.2422,  34.9498,2,  34.9475,2,    267.4,2
     06AZ129_1,  AR7E,    48,  1,     10,     10,5,19920926,1650, 52.3300, -19.1817, 3962,   2833.7,   2.9673,  34.9481,2,  34.9495,3,    260.0,2
     06AZ129_1,  AR7E,    48,  1,      9,      9,5,19920926,1650, 52.3300, -19.1817, 3962,   3038.5,   2.7679,  34.9447,2,  34.9406,2,    253.0,2
     06AZ129_1,  AR7E,    48,  1,      8,      8,5,19920926,1650, 52.3300, -19.1817, 3962,   3242.3,   2.6395,  34.9349,2,  34.9306,2,    248.6,2
     06AZ129_1,  AR7E,    48,  1,      7,      7,5,19920926,1650, 52.3300, -19.1817, 3962,   3341.5,   2.6170,  34.9307,2,  34.9273,2,    246.8,2
     06AZ129_1,  AR7E,    48,  1,      6,      6,5,19920926,1650, 52.3300, -19.1817, 3962,   3445.9,   2.5706,  34.9271,2,  34.9218,2,    245.6,2
     06AZ129_1,  AR7E,    48,  1,      5,      5,5,19920926,1650, 52.3300, -19.1817, 3962,   3550.0,   2.5391,  34.9213,2,-999.0000,9,   -999.0,9
     06AZ129_1,  AR7E,    48,  1,      4,      4,5,19920926,1650, 52.3300, -19.1817, 3962,   3643.2,   2.5126,  34.9165,2,  34.9125,2,    243.7,2
     06AZ129_1,  AR7E,    48,  1,      3,      3,5,19920926,1650, 52.3300, -19.1817, 3962,   3752.7,   2.4906,  34.9147,2,  34.9102,2,    243.0,2
     06AZ129_1,  AR7E,    48,  1,      2,      2,5,19920926,1650, 52.3300, -19.1817, 3962,   3856.3,   2.4811,  34.9122,2,  34.9084,2,    242.6,2
     06AZ129_1,  AR7E,    48,  1,      1,      1,5,19920926,1650, 52.3300, -19.1817, 3962,   3979.6,   2.4781,  34.9105,2,  34.9063,2,    242.5,2
     06AZ129_1,  AR7E,    49,  1,     22,     22,5,19920926,2230, 52.3350, -18.3850, 4311,     20.8,  12.9792,  35.3121,2,  35.3071,2,    259.3,2
     06AZ129_1,  AR7E,    49,  1,     21,     21,5,19920926,2230, 52.3350, -18.3850, 4311,    195.2,  11.0068,  35.3873,2,  35.3823,2,    242.9,2
     06AZ129_1,  AR7E,    49,  1,     20,     20,5,19920926,2230, 52.3350, -18.3850, 4311,    394.1,  10.3870,  35.3868,2,  35.3823,2,    230.5,2
     06AZ129_1,  AR7E,    49,  1,     19,     19,5,19920926,2230, 52.3350, -18.3850, 4311,    601.0,   9.2374,  35.2629,2,  35.2559,2,    221.1,2
     06AZ129_1,  AR7E,    49,  1,     18,     18,5,19920926,2230, 52.3350, -18.3850, 4311,    796.2,   7.6591,  35.1842,2,  35.1675,2,    207.6,2
     06AZ129_1,  AR7E,    49,  1,     17,     17,5,19920926,2230, 52.3350, -18.3850, 4311,    999.0,   5.2207,  34.9622,2,  34.9573,2,    238.4,2
     06AZ129_1,  AR7E,    49,  1,     16,     16,5,19920926,2230, 52.3350, -18.3850, 4311,   1203.7,   4.5000,  34.9623,2,  34.9558,2,    254.6,2
     06AZ129_1,  AR7E,    49,  1,     15,     15,5,19920926,2230, 52.3350, -18.3850, 4311,   1405.9,   3.9443,  34.9154,2,  34.9118,2,    268.3,2
     06AZ129_1,  AR7E,    49,  1,     14,     14,5,19920926,2230, 52.3350, -18.3850, 4311,   1605.7,   3.7354,  34.9109,2,  34.9082,2,    273.8,2
     06AZ129_1,  AR7E,    49,  1,     13,     13,5,19920926,2230, 52.3350, -18.3850, 4311,   1810.4,   3.5545,  34.9015,2,  34.8974,2,    278.4,2
     06AZ129_1,  AR7E,    49,  1,     12,     12,5,19920926,2230, 52.3350, -18.3850, 4311,   2012.8,   3.5150,  34.9217,2,  34.9184,2,    275.3,2
     06AZ129_1,  AR7E,    49,  1,     11,     11,5,19920926,2230, 52.3350, -18.3850, 4311,   2397.6,   3.2987,  34.9509,2,  34.9467,2,    269.0,2
     06AZ129_1,  AR7E,    49,  1,     10,     10,5,19920926,2230, 52.3350, -18.3850, 4311,   2595.7,   3.1063,  34.9576,2,  34.9538,2,    262.5,2
     06AZ129_1,  AR7E,    49,  1,      9,      9,5,19920926,2230, 52.3350, -18.3850, 4311,   2830.1,   2.9174,  34.9559,2,  34.9499,2,    256.3,2
     06AZ129_1,  AR7E,    49,  1,      8,      8,5,19920926,2230, 52.3350, -18.3850, 4311,   3018.9,   2.7729,  34.9470,2,  34.9430,2,    252.3,2
     06AZ129_1,  AR7E,    49,  1,      7,      7,5,19920926,2230, 52.3350, -18.3850, 4311,   3213.6,   2.6670,  34.9389,2,  34.9338,2,    248.0,2
     06AZ129_1,  AR7E,    49,  1,      6,      6,5,19920926,2230, 52.3350, -18.3850, 4311,   3437.3,   2.5730,  34.9270,2,  34.9222,2,    245.0,2
     06AZ129_1,  AR7E,    49,  1,      5,      5,5,19920926,2230, 52.3350, -18.3850, 4311,   3647.7,   2.5236,  34.9210,2,  34.9161,2,    243.4,2
     06AZ129_1,  AR7E,    49,  1,      4,      4,5,19920926,2230, 52.3350, -18.3850, 4311,   3859.4,   2.5051,  34.9155,2,  34.9118,2,    243.0,2
     06AZ129_1,  AR7E,    49,  1,      3,      3,5,19920926,2230, 52.3350, -18.3850, 4311,   4062.3,   2.5056,  34.9120,2,  34.9114,3,    242.2,2
     06AZ129_1,  AR7E,    49,  1,      2,      2,5,19920926,2230, 52.3350, -18.3850, 4311,   4258.0,   2.5116,  34.9093,2,  34.9067,2,    242.7,2
     06AZ129_1,  AR7E,    49,  1,      1,      1,5,19920926,2230, 52.3350, -18.3850, 4311,   4366.0,   2.5151,  34.9075,2,  34.9057,2,    239.9,2
     06AZ129_1,  AR7E,    50,  1,     24,     24,5,19920927,0455, 52.3333, -17.5700, 4130,     18.4,  13.2341,  35.3880,2,  35.3825,2,    257.1,2
     06AZ129_1,  AR7E,    50,  1,     23,     23,5,19920927,0455, 52.3333, -17.5700, 4130,    194.2,  10.8408,  35.4196,2,  35.4175,2,    246.8,2
     06AZ129_1,  AR7E,    50,  1,     22,     22,5,19920927,0455, 52.3333, -17.5700, 4130,    396.2,  10.5699,  35.4761,2,  35.4719,2,    246.5,2
     06AZ129_1,  AR7E,    50,  1,     21,     21,5,19920927,0455, 52.3333, -17.5700, 4130,    597.1,  10.1321,  35.4377,2,  35.4344,2,    250.4,2
     06AZ129_1,  AR7E,    50,  1,     20,     20,5,19920927,0455, 52.3333, -17.5700, 4130,    801.6,   9.1255,  35.3286,2,  35.3263,2,    226.1,2
     06AZ129_1,  AR7E,    50,  1,     19,     19,5,19920927,0455, 52.3333, -17.5700, 4130,   1103.1,   6.9514,  35.1915,2,  35.1864,2,    216.1,2
     06AZ129_1,  AR7E,    50,  1,     18,     18,5,19920927,0455, 52.3333, -17.5700, 4130,   1406.7,   4.6725,  34.9669,2,  34.9668,2,   -999.0,5
     06AZ129_1,  AR7E,    50,  1,     17,     17,5,19920927,0455, 52.3333, -17.5700, 4130,   1713.9,   3.8189,  34.9061,2,  34.9047,2,    272.9,2
     06AZ129_1,  AR7E,    50,  1,     16,     16,5,19920927,0455, 52.3333, -17.5700, 4130,   2017.6,   3.5790,  34.8995,2,  34.8996,3,    277.1,2
     06AZ129_1,  AR7E,    50,  1,     15,     15,5,19920927,0455, 52.3333, -17.5700, 4130,   2318.9,   3.5040,  34.9265,2,  34.9175,3,    275.1,2
     06AZ129_1,  AR7E,    50,  1,     14,     14,5,19920927,0455, 52.3333, -17.5700, 4130,   2525.7,   3.4276,  34.9433,2,  34.9404,2,    271.2,2
     06AZ129_1,  AR7E,    50,  1,     13,     13,5,19920927,0455, 52.3333, -17.5700, 4130,   2732.0,   3.2682,  34.9530,2,  34.9507,2,    268.7,2
     06AZ129_1,  AR7E,    50,  1,     12,     12,5,19920927,0455, 52.3333, -17.5700, 4130,   2934.4,   3.1078,  34.9548,2,  34.9530,2,    264.0,2
     06AZ129_1,  AR7E,    50,  1,     11,     11,5,19920927,0455, 52.3333, -17.5700, 4130,   3137.4,   2.9129,  34.9509,2,  34.9495,2,   -999.0,5
     06AZ129_1,  AR7E,    50,  1,     10,     10,5,19920927,0455, 52.3333, -17.5700, 4130,   3241.0,   2.8799,  34.9496,2,  34.9475,2,    254.3,2
     06AZ129_1,  AR7E,    50,  1,      9,      9,5,19920927,0455, 52.3333, -17.5700, 4130,   3342.1,   2.7809,  34.9429,2,  34.9410,2,    251.0,2
     06AZ129_1,  AR7E,    50,  1,      8,      8,5,19920927,0455, 52.3333, -17.5700, 4130,   3444.9,   2.7330,  34.9381,2,  34.9373,2,    249.7,2
     06AZ129_1,  AR7E,    50,  1,      7,      7,5,19920927,0455, 52.3333, -17.5700, 4130,   3537.2,   2.6980,  34.9352,2,  34.9326,2,    248.7,2
     06AZ129_1,  AR7E,    50,  1,      6,      6,5,19920927,0455, 52.3333, -17.5700, 4130,   3649.7,   2.6460,  34.9311,2,  34.9263,3,    247.0,2
     06AZ129_1,  AR7E,    50,  1,      5,      5,5,19920927,0455, 52.3333, -17.5700, 4130,   3751.5,   2.5955,  34.9231,2,  34.9214,2,    245.1,2
     06AZ129_1,  AR7E,    50,  1,      4,      4,5,19920927,0455, 52.3333, -17.5700, 4130,   3855.6,   2.5666,  34.9194,2,  34.9180,2,    243.4,2
     06AZ129_1,  AR7E,    50,  1,      3,      3,5,19920927,0455, 52.3333, -17.5700, 4130,   3958.2,   2.5401,  34.9152,2,  34.9135,2,    242.7,2
     06AZ129_1,  AR7E,    50,  1,      2,      2,5,19920927,0455, 52.3333, -17.5700, 4130,   4059.9,   2.5166,  34.9110,2,  34.9112,3,    243.5,2
     06AZ129_1,  AR7E,    50,  1,      1,      1,5,19920927,0455, 52.3333, -17.5700, 4130,   4162.6,   2.5046,  34.9089,2,  34.9074,2,    241.4,2
     06AZ129_1,  AR7E,    51,  1,     24,     24,5,19920927,1131, 52.3333, -16.7517, 3789,     20.7,  12.6138,  35.1766,2,  35.1736,2,    260.7,2
     06AZ129_1,  AR7E,    51,  1,     23,     23,5,19920927,1131, 52.3333, -16.7517, 3789,     97.1,  11.4256,  35.3982,2,  35.3964,2,    233.2,2
     06AZ129_1,  AR7E,    51,  1,     22,     22,5,19920927,1131, 52.3333, -16.7517, 3789,    198.6,  10.7034,  35.3354,2,  35.3303,2,    243.4,2
     06AZ129_1,  AR7E,    51,  1,     21,     21,5,19920927,1131, 52.3333, -16.7517, 3789,    398.8,   9.7682,  35.2403,2,  35.2366,2,    233.1,2
     06AZ129_1,  AR7E,    51,  1,     20,     20,5,19920927,1131, 52.3333, -16.7517, 3789,    598.3,   8.3488,  35.1292,2,  35.1154,2,    216.8,2
     06AZ129_1,  AR7E,    51,  1,     19,     19,5,19920927,1131, 52.3333, -16.7517, 3789,    802.0,   6.2097,  34.9622,2,  34.9623,2,    221.9,2
     06AZ129_1,  AR7E,    51,  1,     18,     18,5,19920927,1131, 52.3333, -16.7517, 3789,   1002.4,   5.6745,  35.0723,2,  35.0714,2,    232.1,2
     06AZ129_1,  AR7E,    51,  1,     17,     17,5,19920927,1131, 52.3333, -16.7517, 3789,   1201.1,   4.5280,  34.9680,2,  34.9640,2,    253.6,2
     06AZ129_1,  AR7E,    51,  1,     16,     16,5,19920927,1131, 52.3333, -16.7517, 3789,   1406.2,   4.0633,  34.9371,2,  34.9344,2,    260.9,2
     06AZ129_1,  AR7E,    51,  1,     15,     15,5,19920927,1131, 52.3333, -16.7517, 3789,   1610.2,   3.7589,  34.9147,2,  34.9116,2,    272.9,2
     06AZ129_1,  AR7E,    51,  1,     14,     14,5,19920927,1131, 52.3333, -16.7517, 3789,   1807.7,   3.5535,  34.9015,2,  34.8974,2,    278.1,2
     06AZ129_1,  AR7E,    51,  1,     13,     13,5,19920927,1131, 52.3333, -16.7517, 3789,   2006.4,   3.5100,  34.9170,2,  34.9137,2,    276.1,2
     06AZ129_1,  AR7E,    51,  1,     12,     12,5,19920927,1131, 52.3333, -16.7517, 3789,   2221.5,   3.4631,  34.9370,2,  34.9353,3,    272.1,2
     06AZ129_1,  AR7E,    51,  1,     11,     11,5,19920927,1131, 52.3333, -16.7517, 3789,   2430.9,   3.3326,  34.9507,2,  34.9465,2,    269.0,2
     06AZ129_1,  AR7E,    51,  1,     10,     10,5,19920927,1131, 52.3333, -16.7517, 3789,   2620.8,   3.1537,  34.9568,2,  34.9520,2,    264.3,2
     06AZ129_1,  AR7E,    51,  1,      9,      9,5,19920927,1131, 52.3333, -16.7517, 3789,   2832.6,   2.9693,  34.9548,2,  34.9511,2,    258.3,2
     06AZ129_1,  AR7E,    51,  1,      8,      8,5,19920927,1131, 52.3333, -16.7517, 3789,   3035.4,   2.8254,  34.9500,2,  34.9456,2,    254.2,2
     06AZ129_1,  AR7E,    51,  1,      7,      7,5,19920927,1131, 52.3333, -16.7517, 3789,   3189.2,   2.7085,  34.9417,2,  34.9361,2,    249.9,2
     06AZ129_1,  AR7E,    51,  1,      6,      6,5,19920927,1131, 52.3333, -16.7517, 3789,   3306.5,   2.6460,  34.9358,2,  34.9312,2,    247.9,2
     06AZ129_1,  AR7E,    51,  1,      5,      5,5,19920927,1131, 52.3333, -16.7517, 3789,   3402.5,   2.6005,  34.9286,2,  34.9243,2,    245.4,2
     06AZ129_1,  AR7E,    51,  1,      4,      4,5,19920927,1131, 52.3333, -16.7517, 3789,   3546.6,   2.5256,  34.9214,2,  34.9177,2,    243.1,2
     06AZ129_1,  AR7E,    51,  1,      3,      3,5,19920927,1131, 52.3333, -16.7517, 3789,   3649.3,   2.4856,  34.9172,2,  34.9110,2,    242.2,2
     06AZ129_1,  AR7E,    51,  1,      2,      2,5,19920927,1131, 52.3333, -16.7517, 3789,   3747.3,   2.4801,  34.9148,2,  34.9098,2,    242.0,2
     06AZ129_1,  AR7E,    51,  1,      1,      1,5,19920927,1131, 52.3333, -16.7517, 3789,   3832.0,   2.4671,  34.9131,2,  34.9070,2,    238.7,2
     06AZ129_1,  AR7E,    52,  1,     24,     24,5,19920927,1748, 52.3333, -15.9517, 3350,     18.3,  13.1861,  35.3700,2,  35.3641,2,    258.6,2
     06AZ129_1,  AR7E,    52,  1,     23,     23,5,19920927,1748, 52.3333, -15.9517, 3350,    194.5,  10.9028,  35.4278,2,  35.4140,2,    242.7,2
     06AZ129_1,  AR7E,    52,  1,     22,     22,5,19920927,1748, 52.3333, -15.9517, 3350,    398.0,  10.5694,  35.4708,2,  35.4638,2,    242.7,2
     06AZ129_1,  AR7E,    52,  1,     21,     21,5,19920927,1748, 52.3333, -15.9517, 3350,    597.7,   9.8722,  35.3940,2,  35.3901,2,    238.2,2
     06AZ129_1,  AR7E,    52,  1,     20,     20,5,19920927,1748, 52.3333, -15.9517, 3350,    798.4,   7.8430,  35.1484,2,  35.1408,2,    208.0,2
     06AZ129_1,  AR7E,    52,  1,     19,     19,5,19920927,1748, 52.3333, -15.9517, 3350,   1002.0,   6.6730,  35.1714,2,  35.1748,2,    218.3,2
     06AZ129_1,  AR7E,    52,  1,     18,     18,5,19920927,1748, 52.3333, -15.9517, 3350,   1205.6,   5.0718,  35.0268,2,  35.0197,2,    242.5,2
     06AZ129_1,  AR7E,    52,  1,     17,     17,5,19920927,1748, 52.3333, -15.9517, 3350,   1407.4,   4.2082,  34.9449,2,  34.9422,2,    261.1,2
     06AZ129_1,  AR7E,    52,  1,     16,     16,5,19920927,1748, 52.3333, -15.9517, 3350,   1608.5,   3.8079,  34.9135,2,  34.9035,2,    272.0,2
     06AZ129_1,  AR7E,    52,  1,     15,     15,5,19920927,1748, 52.3333, -15.9517, 3350,   1813.5,   3.6105,  34.9049,2,  34.9000,2,    277.0,2
     06AZ129_1,  AR7E,    52,  1,     14,     14,5,19920927,1748, 52.3333, -15.9517, 3350,   2017.4,   3.5265,  34.9110,2,  34.9078,2,    276.7,2
     06AZ129_1,  AR7E,    52,  1,     13,     13,5,19920927,1748, 52.3333, -15.9517, 3350,   2118.4,   3.5160,  34.9227,2,  34.9167,2,    273.5,2
     06AZ129_1,  AR7E,    52,  1,     12,     12,5,19920927,1748, 52.3333, -15.9517, 3350,   2221.7,   3.4936,  34.9332,2,  34.9294,2,    272.3,2
     06AZ129_1,  AR7E,    52,  1,     11,     11,5,19920927,1748, 52.3333, -15.9517, 3350,   2322.2,   3.4376,  34.9404,2,  34.9365,2,    271.5,2
     06AZ129_1,  AR7E,    52,  1,     10,     10,5,19920927,1748, 52.3333, -15.9517, 3350,   2422.9,   3.3766,  34.9460,2,  34.9425,2,    270.2,2
     06AZ129_1,  AR7E,    52,  1,      9,      9,5,19920927,1748, 52.3333, -15.9517, 3350,   2525.2,   3.2827,  34.9515,2,-999.0000,5,    268.0,2
     06AZ129_1,  AR7E,    52,  1,      8,      8,5,19920927,1748, 52.3333, -15.9517, 3350,   2629.3,   3.1897,  34.9542,2,  34.9495,2,    265.6,2
     06AZ129_1,  AR7E,    52,  1,      7,      7,5,19920927,1748, 52.3333, -15.9517, 3350,   2726.3,   3.0863,  34.9548,2,  34.9532,3,    262.6,2
     06AZ129_1,  AR7E,    52,  1,      6,      6,5,19920927,1748, 52.3333, -15.9517, 3350,   2834.4,   2.9603,  34.9540,2,  34.9511,2,    258.0,2
     06AZ129_1,  AR7E,    52,  1,      5,      5,5,19920927,1748, 52.3333, -15.9517, 3350,   2935.3,   2.8609,  34.9514,2,  34.9483,2,    255.5,2
     06AZ129_1,  AR7E,    52,  1,      4,      4,5,19920927,1748, 52.3333, -15.9517, 3350,   3035.4,   2.7824,  34.9475,2,  34.9430,2,    253.0,2
     06AZ129_1,  AR7E,    52,  1,      3,      3,5,19920927,1748, 52.3333, -15.9517, 3350,   3137.4,   2.6945,  34.9412,2,  34.9359,2,    250.3,2
     06AZ129_1,  AR7E,    52,  1,      2,      2,5,19920927,1748, 52.3333, -15.9517, 3350,   3239.8,   2.6025,  34.9319,2,  34.9273,2,    246.9,2
     06AZ129_1,  AR7E,    52,  1,      1,      1,5,19920927,1748, 52.3333, -15.9517, 3350,   3368.9,   2.4406,  34.9154,2,  34.9100,2,    242.3,2