BOTTLE,20010509WHPSIOKJU
EXPOCODE,SECT_ID,STNNBR,CASTNO,SAMPNO,BTLNBR,BTLNBR_FLAG_W,DATE,TIME,LATITUDE,LONGITUDE,DEPTH,CTDPRS,CTDTMP,CTDSAL,CTDSAL_FLAG_W,SALNTY,SALNTY_FLAG_W,OXYGEN,OXYGEN_FLAG_W
,,,,,,,,,,,,DBAR,ITS-90,PSS-78,,PSS-78,,UMOL/KG,
     06AZ129_1,  AR7E,    20,  1,     16,     16,5,19920920,1923, 58.8833, -31.5000, 1529,     46.5,   8.9745,  34.7983,2,  34.7864,2,    279.6,2
     06AZ129_1,  AR7E,    20,  1,     15,     15,5,19920920,1923, 58.8833, -31.5000, 1529,     96.6,   5.9163,  34.7867,2,  34.7782,2,    278.2,2
     06AZ129_1,  AR7E,    20,  1,     14,     14,5,19920920,1923, 58.8833, -31.5000, 1529,    198.4,   5.5985,  34.9101,2,  34.8945,2,    280.4,2
     06AZ129_1,  AR7E,    20,  1,     13,     13,5,19920920,1923, 58.8833, -31.5000, 1529,    297.2,   5.8174,  34.9828,2,  34.9739,2,    279.3,2
     06AZ129_1,  AR7E,    20,  1,     12,     12,5,19920920,1923, 58.8833, -31.5000, 1529,    398.2,   5.5625,  34.9712,2,  34.9597,2,    272.0,2
     06AZ129_1,  AR7E,    20,  1,     11,     11,5,19920920,1923, 58.8833, -31.5000, 1529,    496.1,   5.1037,  34.9513,2,  34.9477,2,    261.0,2
     06AZ129_1,  AR7E,    20,  1,     10,     10,5,19920920,1923, 58.8833, -31.5000, 1529,    600.5,   4.6625,  34.9283,2,  34.9220,2,    263.1,2
     06AZ129_1,  AR7E,    20,  1,      9,      9,5,19920920,1923, 58.8833, -31.5000, 1529,    697.8,   4.6914,  34.9781,2,  34.9662,2,    256.0,2
     06AZ129_1,  AR7E,    20,  1,      8,      8,5,19920920,1923, 58.8833, -31.5000, 1529,    801.5,   4.3331,  34.9631,2,  34.9579,2,    260.5,2
     06AZ129_1,  AR7E,    20,  1,      7,      7,5,19920920,1923, 58.8833, -31.5000, 1529,    901.5,   4.0563,  34.9523,2,  34.9436,2,    265.1,2
     06AZ129_1,  AR7E,    20,  1,      6,      6,5,19920920,1923, 58.8833, -31.5000, 1529,   1002.8,   3.9003,  34.9626,2,  34.9534,2,    268.6,2
     06AZ129_1,  AR7E,    20,  1,      5,      5,5,19920920,1923, 58.8833, -31.5000, 1529,   1103.5,   3.8209,  34.9669,2,  34.9577,2,    270.0,2
     06AZ129_1,  AR7E,    20,  1,      4,      4,5,19920920,1923, 58.8833, -31.5000, 1529,   1204.5,   3.8119,  34.9703,2,  34.9613,2,    270.2,2
     06AZ129_1,  AR7E,    20,  1,      3,      3,5,19920920,1923, 58.8833, -31.5000, 1529,   1306.2,   3.8034,  34.9708,2,  34.9636,2,    270.3,2
     06AZ129_1,  AR7E,    20,  1,      2,      2,5,19920920,1923, 58.8833, -31.5000, 1529,   1408.8,   3.7974,  34.9709,2,  34.9630,2,    270.8,2
     06AZ129_1,  AR7E,    20,  1,      1,      1,5,19920920,1923, 58.8833, -31.5000, 1529,   1515.2,   3.7919,  34.9689,2,  34.9619,2,    271.0,2
     06AZ129_1,  AR7E,    21,  1,     13,     13,5,19920920,2250, 58.8017, -30.8333, 1399,     26.4,   9.1600,  34.8899,2,  34.8825,2,    276.5,2
     06AZ129_1,  AR7E,    21,  1,     12,     12,5,19920920,2250, 58.8017, -30.8333, 1399,     97.2,   7.6496,  34.9238,2,  34.9147,2,    270.2,2
     06AZ129_1,  AR7E,    21,  1,     11,     11,5,19920920,2250, 58.8017, -30.8333, 1399,    196.0,   6.4491,  35.0315,2,  35.0234,2,    266.1,2
     06AZ129_1,  AR7E,    21,  1,     10,     10,5,19920920,2250, 58.8017, -30.8333, 1399,    299.0,   6.2807,  35.0517,2,  35.0395,2,    261.2,2
     06AZ129_1,  AR7E,    21,  1,      9,      9,5,19920920,2250, 58.8017, -30.8333, 1399,    399.0,   6.0338,  35.0442,2,  35.0350,2,    258.2,2
     06AZ129_1,  AR7E,    21,  1,      8,      8,5,19920920,2250, 58.8017, -30.8333, 1399,    498.8,   5.7599,  35.0303,2,  35.0234,2,    255.2,2
     06AZ129_1,  AR7E,    21,  1,      7,      7,5,19920920,2250, 58.8017, -30.8333, 1399,    602.7,   5.4141,  35.0166,2,  35.0086,2,    249.2,2
     06AZ129_1,  AR7E,    21,  1,      6,      6,5,19920920,2250, 58.8017, -30.8333, 1399,    699.2,   4.9873,  35.0116,2,  35.0028,2,    248.8,2
     06AZ129_1,  AR7E,    21,  1,      5,      5,5,19920920,2250, 58.8017, -30.8333, 1399,    802.2,   4.5930,  34.9920,2,  34.9860,2,    256.0,2
     06AZ129_1,  AR7E,    21,  1,      4,      4,5,19920920,2250, 58.8017, -30.8333, 1399,    905.2,   4.2082,-999.0000,5,  34.9613,2,    263.7,2
     06AZ129_1,  AR7E,    21,  1,      3,      3,5,19920920,2250, 58.8017, -30.8333, 1399,   1002.6,   4.0533,  34.9686,2,  34.9623,2,    266.8,2
     06AZ129_1,  AR7E,    21,  1,      2,      2,5,19920920,2250, 58.8017, -30.8333, 1399,   1103.4,   3.8873,  34.9735,2,  34.9656,2,    270.1,2
     06AZ129_1,  AR7E,    21,  1,      1,      1,5,19920920,2250, 58.8017, -30.8333, 1399,   1199.0,   3.8379,  34.9763,2,  34.9672,2,    270.4,2
     06AZ129_1,  AR7E,    22,  1,     19,     19,5,19920921,0205, 58.5550, -30.3833, 1737,     21.4,   9.4958,  34.9436,2,  34.9342,2,    274.9,2
     06AZ129_1,  AR7E,    22,  1,     18,     18,5,19920921,0205, 58.5550, -30.3833, 1737,    146.3,   7.1573,  34.9489,2,  34.9446,2,    261.2,2
     06AZ129_1,  AR7E,    22,  1,     17,     17,5,19920921,0205, 58.5550, -30.3833, 1737,    247.3,   6.7770,  34.9994,2,  34.9902,2,    259.0,2
     06AZ129_1,  AR7E,    22,  1,     16,     16,5,19920921,0205, 58.5550, -30.3833, 1737,    340.8,   6.7820,  35.0816,2,-999.0000,5,    266.5,2
     06AZ129_1,  AR7E,    22,  1,     15,     15,5,19920921,0205, 58.5550, -30.3833, 1737,    443.2,   6.6060,  35.0930,2,  35.0847,2,    268.7,2
     06AZ129_1,  AR7E,    22,  1,     14,     14,5,19920921,0205, 58.5550, -30.3833, 1737,    548.3,   6.3077,  35.0781,2,  35.0690,2,    262.0,2
     06AZ129_1,  AR7E,    22,  1,     13,     13,5,19920921,0205, 58.5550, -30.3833, 1737,    640.0,   5.7699,  35.0328,2,  35.0242,2,    247.3,2
     06AZ129_1,  AR7E,    22,  1,     12,     12,5,19920921,0205, 58.5550, -30.3833, 1737,    750.1,   5.1917,  35.0120,2,  35.0008,2,    244.1,2
     06AZ129_1,  AR7E,    22,  1,     11,     11,5,19920921,0205, 58.5550, -30.3833, 1737,    850.9,   4.7949,  34.9834,2,  34.9743,2,    247.7,2
     06AZ129_1,  AR7E,    22,  1,     10,     10,5,19920921,0205, 58.5550, -30.3833, 1737,    953.8,   4.4041,  34.9653,2,  34.9579,2,    257.5,2
     06AZ129_1,  AR7E,    22,  1,      9,      9,5,19920921,0205, 58.5550, -30.3833, 1737,   1046.9,   4.1117,  34.9527,2,-999.0000,2,    264.7,2
     06AZ129_1,  AR7E,    22,  1,      8,      8,5,19920921,0205, 58.5550, -30.3833, 1737,   1155.5,   3.7929,  34.9216,2,  34.9159,2,    269.6,2
     06AZ129_1,  AR7E,    22,  1,      7,      7,5,19920921,0205, 58.5550, -30.3833, 1737,   1248.2,   3.6470,  34.9189,2,  34.9082,2,    273.6,2
     06AZ129_1,  AR7E,    22,  1,      6,      6,5,19920921,0205, 58.5550, -30.3833, 1737,   1356.1,   3.6880,  34.9447,2,  34.9371,2,    272.5,2
     06AZ129_1,  AR7E,    22,  1,      5,      5,5,19920921,0205, 58.5550, -30.3833, 1737,   1457.8,   3.6350,  34.9537,2,  34.9442,2,    273.8,2
     06AZ129_1,  AR7E,    22,  1,      4,      4,5,19920921,0205, 58.5550, -30.3833, 1737,   1559.9,   3.6600,  34.9704,2,  34.9627,2,    272.7,2
     06AZ129_1,  AR7E,    22,  1,      3,      3,5,19920921,0205, 58.5550, -30.3833, 1737,   1662.7,   3.6375,  34.9768,2,  34.9703,2,    273.1,2
     06AZ129_1,  AR7E,    22,  1,      2,      2,5,19920921,0205, 58.5550, -30.3833, 1737,   1662.9,   3.6370,  34.9785,2,  34.9707,2,    273.4,2
     06AZ129_1,  AR7E,    22,  1,      1,      1,5,19920921,0205, 58.5550, -30.3833, 1737,   1763.0,   3.6200,  34.9784,2,  34.9705,2,    273.2,2
     06AZ129_1,  AR7E,    23,  1,     24,     24,5,19920921,0600, 58.3250, -29.8833, 2373,     20.3,   9.4853,  34.9357,2,  34.9224,2,    274.2,2
     06AZ129_1,  AR7E,    23,  1,     23,     23,5,19920921,0600, 58.3250, -29.8833, 2373,    197.4,   7.6941,  35.0768,2,  35.0676,2,    257.0,2
     06AZ129_1,  AR7E,    23,  1,     22,     22,5,19920921,0600, 58.3250, -29.8833, 2373,    298.3,   6.9654,  35.0439,2,  35.0338,2,    259.9,2
     06AZ129_1,  AR7E,    23,  1,     21,     21,5,19920921,0600, 58.3250, -29.8833, 2373,    399.9,   6.7865,  35.0741,2,  35.0635,2,    273.9,2
     06AZ129_1,  AR7E,    23,  1,     20,     20,5,19920921,0600, 58.3250, -29.8833, 2373,    499.0,   6.7555,  35.1044,2,  35.0942,2,    272.8,2
     06AZ129_1,  AR7E,    23,  1,     19,     19,5,19920921,0600, 58.3250, -29.8833, 2373,    597.3,   6.6910,  35.1152,2,  35.1058,2,    273.7,2
     06AZ129_1,  AR7E,    23,  1,     18,     18,5,19920921,0600, 58.3250, -29.8833, 2373,    698.5,   6.4026,  35.0941,2,  35.0853,2,    264.9,2
     06AZ129_1,  AR7E,    23,  1,     17,     17,5,19920921,0600, 58.3250, -29.8833, 2373,    802.1,   5.6680,  35.0258,2,  35.0157,2,    247.4,2
     06AZ129_1,  AR7E,    23,  1,     16,     16,5,19920921,0600, 58.3250, -29.8833, 2373,    901.2,   5.1002,  34.9959,2,  34.9874,2,    243.3,2
     06AZ129_1,  AR7E,    23,  1,     15,     15,5,19920921,0600, 58.3250, -29.8833, 2373,   1002.3,   4.5925,  34.9670,2,  34.9591,2,    251.9,2
     06AZ129_1,  AR7E,    23,  1,     14,     14,5,19920921,0600, 58.3250, -29.8833, 2373,   1105.0,   4.2732,  34.9460,2,  34.9383,2,    258.2,2
     06AZ129_1,  AR7E,    23,  1,     13,     13,5,19920921,0600, 58.3250, -29.8833, 2373,   1204.8,   3.9998,  34.9347,2,  34.9261,2,    264.9,2
     06AZ129_1,  AR7E,    23,  1,     12,     12,5,19920921,0600, 58.3250, -29.8833, 2373,   1306.7,   3.8634,  34.9238,2,  34.9165,2,    268.2,2
     06AZ129_1,  AR7E,    23,  1,     11,     11,5,19920921,0600, 58.3250, -29.8833, 2373,   1407.7,   3.8549,  34.9391,2,  34.9328,2,    270.0,2
     06AZ129_1,  AR7E,    23,  1,     10,     10,5,19920921,0600, 58.3250, -29.8833, 2373,   1508.5,   3.6964,  34.9394,2,  34.9312,2,    273.3,2
     06AZ129_1,  AR7E,    23,  1,      9,      9,5,19920921,0600, 58.3250, -29.8833, 2373,   1609.5,   3.6635,  34.9612,2,  34.9540,2,    272.7,2
     06AZ129_1,  AR7E,    23,  1,      8,      8,5,19920921,0600, 58.3250, -29.8833, 2373,   1708.7,   3.5775,  34.9751,2,  34.9686,2,    273.4,2
     06AZ129_1,  AR7E,    23,  1,      7,      7,5,19920921,0600, 58.3250, -29.8833, 2373,   1812.8,   3.4331,  34.9763,2,  34.9684,2,    272.3,2
     06AZ129_1,  AR7E,    23,  1,      6,      6,5,19920921,0600, 58.3250, -29.8833, 2373,   1914.1,   3.2807,  34.9826,2,  34.9727,2,    272.0,2
     06AZ129_1,  AR7E,    23,  1,      5,      5,5,19920921,0600, 58.3250, -29.8833, 2373,   2016.6,   3.1687,  34.9862,2,  34.9752,2,    274.1,2
     06AZ129_1,  AR7E,    23,  1,      4,      4,5,19920921,0600, 58.3250, -29.8833, 2373,   2121.0,   3.0948,  34.9871,2,  34.9762,2,    274.2,2
     06AZ129_1,  AR7E,    23,  1,      3,      3,5,19920921,0600, 58.3250, -29.8833, 2373,   2223.5,   3.0553,  34.9897,2,  34.9788,2,    272.4,2
     06AZ129_1,  AR7E,    23,  1,      2,      2,5,19920921,0600, 58.3250, -29.8833, 2373,   2320.9,   3.0218,  34.9887,2,  34.9788,2,    272.9,2
     06AZ129_1,  AR7E,    23,  1,      1,      1,5,19920921,0600, 58.3250, -29.8833, 2373,   2449.0,   3.0223,  34.9867,2,  34.9776,2,    272.8,2
     06AZ129_1,  AR7E,    24,  1,     22,     22,5,19920921,1041, 58.0667, -29.3750, 2130,     19.5,   9.6653,  34.9170,2,  34.9120,2,    274.1,2
     06AZ129_1,  AR7E,    24,  1,     21,     21,5,19920921,1041, 58.0667, -29.3750, 2130,     94.9,   7.4682,  34.8694,2,  34.8585,2,    268.6,2
     06AZ129_1,  AR7E,    24,  1,     20,     20,5,19920921,1041, 58.0667, -29.3750, 2130,    196.9,   6.9064,  34.9128,2,  34.9157,2,    258.0,2
     06AZ129_1,  AR7E,    24,  1,     19,     19,5,19920921,1041, 58.0667, -29.3750, 2130,    296.7,   6.5496,  34.9637,2,  34.9725,2,    257.7,2
     06AZ129_1,  AR7E,    24,  1,     18,     18,5,19920921,1041, 58.0667, -29.3750, 2130,    398.7,   6.5326,  35.0614,2,  35.0566,2,    263.0,2
     06AZ129_1,  AR7E,    24,  1,     17,     17,5,19920921,1041, 58.0667, -29.3750, 2130,    487.1,   6.5581,  35.1092,2,  35.1028,2,    272.4,2
     06AZ129_1,  AR7E,    24,  1,     16,     16,5,19920921,1041, 58.0667, -29.3750, 2130,    599.5,   5.5300,  34.9983,2,  34.9965,2,    245.2,2
     06AZ129_1,  AR7E,    24,  1,     15,     15,5,19920921,1041, 58.0667, -29.3750, 2130,    699.4,   5.0413,  34.9806,2,  34.9786,2,    246.1,2
     06AZ129_1,  AR7E,    24,  1,     14,     14,5,19920921,1041, 58.0667, -29.3750, 2130,    798.4,   4.5470,  34.9502,2,  34.9467,2,    251.4,2
     06AZ129_1,  AR7E,    24,  1,     13,     13,5,19920921,1041, 58.0667, -29.3750, 2130,    903.8,   4.1722,  34.9300,2,  34.9271,2,    259.3,2
     06AZ129_1,  AR7E,    24,  1,     12,     12,5,19920921,1041, 58.0667, -29.3750, 2130,   1005.1,   4.0028,  34.9252,2,  34.9220,2,    263.8,2
     06AZ129_1,  AR7E,    24,  1,     11,     11,5,19920921,1041, 58.0667, -29.3750, 2130,   1103.8,   3.8154,  34.9122,2,  34.9108,2,    268.9,2
     06AZ129_1,  AR7E,    24,  1,     10,     10,5,19920921,1041, 58.0667, -29.3750, 2130,   1201.4,   3.6325,  34.8973,2,  34.8940,2,    274.4,2
     06AZ129_1,  AR7E,    24,  1,      9,      9,5,19920921,1041, 58.0667, -29.3750, 2130,   1304.2,   3.6190,  34.9085,2,  34.9067,2,    273.8,2
     06AZ129_1,  AR7E,    24,  1,      8,      8,5,19920921,1041, 58.0667, -29.3750, 2130,   1407.5,   3.5440,  34.9146,2,  34.9122,2,    275.4,2
     06AZ129_1,  AR7E,    24,  1,      7,      7,5,19920921,1041, 58.0667, -29.3750, 2130,   1499.4,   3.5590,  34.9315,2,  34.9275,2,    274.4,2
     06AZ129_1,  AR7E,    24,  1,      6,      6,5,19920921,1041, 58.0667, -29.3750, 2130,   1613.6,   3.5020,  34.9460,2,  34.9414,2,    272.4,2
     06AZ129_1,  AR7E,    24,  1,      5,      5,5,19920921,1041, 58.0667, -29.3750, 2130,   1684.6,   3.4861,  34.9590,2,  34.9589,2,    272.2,2
     06AZ129_1,  AR7E,    24,  1,      4,      4,5,19920921,1041, 58.0667, -29.3750, 2130,   1815.3,   3.3236,  34.9731,2,  34.9680,2,    271.5,2
     06AZ129_1,  AR7E,    24,  1,      3,      3,5,19920921,1041, 58.0667, -29.3750, 2130,   1919.1,   3.1732,  34.9783,2,  34.9760,2,    272.4,2
     06AZ129_1,  AR7E,    24,  1,      2,      2,5,19920921,1041, 58.0667, -29.3750, 2130,   2016.5,   2.9953,  34.9825,2,  34.9780,2,    272.5,2
     06AZ129_1,  AR7E,    24,  1,      1,      1,5,19920921,1041, 58.0667, -29.3750, 2130,   2095.5,   2.9044,  34.9822,2,  34.9786,2,    272.0,2
     06AZ129_1,  AR7E,    25,  1,     24,     24,5,19920921,1515, 57.8283, -28.8833, 2552,     20.4,   9.8417,  34.9110,2,  34.9057,2,    273.9,2
     06AZ129_1,  AR7E,    25,  1,     23,     23,5,19920921,1515, 57.8283, -28.8833, 2552,    199.3,   7.0613,  34.9186,2,  34.9149,2,    254.0,2
     06AZ129_1,  AR7E,    25,  1,     22,     22,5,19920921,1515, 57.8283, -28.8833, 2552,    300.6,   6.7994,  34.9898,2,  34.9903,2,    252.8,2
     06AZ129_1,  AR7E,    25,  1,     21,     21,5,19920921,1515, 57.8283, -28.8833, 2552,    500.6,   6.5541,  35.0777,2,  35.0773,2,    266.9,2
     06AZ129_1,  AR7E,    25,  1,     20,     20,5,19920921,1515, 57.8283, -28.8833, 2552,    700.3,   5.3826,  34.9966,2,  34.9937,2,    240.3,2
     06AZ129_1,  AR7E,    25,  1,     19,     19,5,19920921,1515, 57.8283, -28.8833, 2552,    801.3,   4.8294,  34.9724,2,  34.9701,2,    246.5,2
     06AZ129_1,  AR7E,    25,  1,     18,     18,5,19920921,1515, 57.8283, -28.8833, 2552,    902.2,   4.4306,  34.9473,2,  34.9473,2,    253.8,2
     06AZ129_1,  AR7E,    25,  1,     17,     17,5,19920921,1515, 57.8283, -28.8833, 2552,   1003.6,   4.1697,  34.9324,2,  34.9310,2,    260.4,2
     06AZ129_1,  AR7E,    25,  1,     16,     16,5,19920921,1515, 57.8283, -28.8833, 2552,   1103.4,   3.9593,  34.9223,2,  34.9208,2,    265.9,2
     06AZ129_1,  AR7E,    25,  1,     15,     15,5,19920921,1515, 57.8283, -28.8833, 2552,   1206.7,   3.7649,  34.9088,2,  34.9051,2,    271.9,2
     06AZ129_1,  AR7E,    25,  1,     14,     14,5,19920921,1515, 57.8283, -28.8833, 2552,   1307.8,   3.6710,  34.9075,2,  34.9021,2,    273.8,2
     06AZ129_1,  AR7E,    25,  1,     13,     13,5,19920921,1515, 57.8283, -28.8833, 2552,   1407.2,   3.5870,  34.9014,2,  34.9000,2,    276.2,2
     06AZ129_1,  AR7E,    25,  1,     12,     12,5,19920921,1515, 57.8283, -28.8833, 2552,   1509.3,   3.5270,  34.9022,2,  34.8984,2,    277.3,2
     06AZ129_1,  AR7E,    25,  1,     11,     11,5,19920921,1515, 57.8283, -28.8833, 2552,   1610.5,   3.4871,  34.9064,2,  34.9043,2,    278.0,2
     06AZ129_1,  AR7E,    25,  1,     10,     10,5,19920921,1515, 57.8283, -28.8833, 2552,   1712.8,   3.4541,  34.9184,2,  34.9173,2,    276.1,2
     06AZ129_1,  AR7E,    25,  1,      9,      9,5,19920921,1515, 57.8283, -28.8833, 2552,   1813.5,   3.4541,  34.9324,2,  34.9310,2,    273.7,2
     06AZ129_1,  AR7E,    25,  1,      8,      8,5,19920921,1515, 57.8283, -28.8833, 2552,   1915.2,   3.4271,  34.9438,2,  34.9412,2,    272.7,2
     06AZ129_1,  AR7E,    25,  1,      7,      7,5,19920921,1515, 57.8283, -28.8833, 2552,   2018.2,   3.3706,  34.9576,2,  34.9566,2,    271.9,2
     06AZ129_1,  AR7E,    25,  1,      6,      6,5,19920921,1515, 57.8283, -28.8833, 2552,   2118.5,   3.2582,  34.9739,2,  34.9701,2,    271.9,2
     06AZ129_1,  AR7E,    25,  1,      5,      5,5,19920921,1515, 57.8283, -28.8833, 2552,   2219.6,   3.0838,  34.9745,2,  34.9717,2,    271.3,2
     06AZ129_1,  AR7E,    25,  1,      4,      4,5,19920921,1515, 57.8283, -28.8833, 2552,   2331.7,   2.9563,  34.9788,2,  34.9748,2,    275.8,2
     06AZ129_1,  AR7E,    25,  1,      3,      3,5,19920921,1515, 57.8283, -28.8833, 2552,   2425.3,   2.8799,  34.9788,2,  34.9754,2,    275.1,2
     06AZ129_1,  AR7E,    25,  1,      2,      2,5,19920921,1515, 57.8283, -28.8833, 2552,   2527.1,   2.8359,  34.9779,2,  34.9741,2,    273.8,2
     06AZ129_1,  AR7E,    25,  1,      1,      1,5,19920921,1515, 57.8283, -28.8833, 2552,   2571.3,   2.8394,  34.9788,2,  34.9762,2,    273.8,2