BOTTLE,20010509WHPSIOKJU
EXPOCODE,SECT_ID,STNNBR,CASTNO,SAMPNO,BTLNBR,BTLNBR_FLAG_W,DATE,TIME,LATITUDE,LONGITUDE,DEPTH,CTDPRS,CTDTMP,CTDSAL,CTDSAL_FLAG_W,SALNTY,SALNTY_FLAG_W,OXYGEN,OXYGEN_FLAG_W
,,,,,,,,,,,,DBAR,ITS-90,PSS-78,,PSS-78,,UMOL/KG,
     06AZ129_1,  AR7E,    53,  1,     24,     24,5,19920927,2130, 52.3333, -15.7017, 3166,     20.3,  13.0386,  35.3485,2,  35.3446,2,    259.5,2
     06AZ129_1,  AR7E,    53,  1,     23,     23,5,19920927,2130, 52.3333, -15.7017, 3166,     97.4,  11.3867,  35.4285,2,  35.4240,2,    241.3,2
     06AZ129_1,  AR7E,    53,  1,     22,     22,5,19920927,2130, 52.3333, -15.7017, 3166,    192.4,  10.8868,  35.4111,2,  35.4073,2,    243.8,2
     06AZ129_1,  AR7E,    53,  1,     21,     21,5,19920927,2130, 52.3333, -15.7017, 3166,    294.6,  10.7449,  35.4611,2,  35.4567,2,    242.1,2
     06AZ129_1,  AR7E,    53,  1,     20,     20,5,19920927,2130, 52.3333, -15.7017, 3166,    395.1,  10.5989,  35.4808,2,  35.4748,2,    241.8,2
     06AZ129_1,  AR7E,    53,  1,     19,     19,5,19920927,2130, 52.3333, -15.7017, 3166,    497.5,  10.4895,  35.4845,2,  35.4815,2,    244.9,2
     06AZ129_1,  AR7E,    53,  1,     18,     18,5,19920927,2130, 52.3333, -15.7017, 3166,    603.3,   9.6633,  35.3506,2,  35.3454,2,    231.3,2
     06AZ129_1,  AR7E,    53,  1,     17,     17,5,19920927,2130, 52.3333, -15.7017, 3166,    698.2,   9.2124,  35.3242,2,  35.3214,2,    219.7,2
     06AZ129_1,  AR7E,    53,  1,     16,     16,5,19920927,2130, 52.3333, -15.7017, 3166,    801.6,   8.3338,  35.2862,2,-999.0000,5,    210.5,2
     06AZ129_1,  AR7E,    53,  1,     15,     15,5,19920927,2130, 52.3333, -15.7017, 3166,    901.0,   7.5191,  35.2261,2,  35.2230,2,    210.7,2
     06AZ129_1,  AR7E,    53,  1,     14,     14,5,19920927,2130, 52.3333, -15.7017, 3166,   1006.5,   6.8189,  35.1904,2,  35.1862,2,    217.8,2
     06AZ129_1,  AR7E,    53,  1,     13,     13,5,19920927,2130, 52.3333, -15.7017, 3166,   1107.8,   5.9728,  35.1128,2,  35.1095,2,    228.9,2
     06AZ129_1,  AR7E,    53,  1,     12,     12,5,19920927,2130, 52.3333, -15.7017, 3166,   1205.2,   5.2926,  35.0471,2,  35.0491,2,    238.5,2
     06AZ129_1,  AR7E,    53,  1,     11,     11,5,19920927,2130, 52.3333, -15.7017, 3166,   1306.6,   4.7014,  34.9912,2,  34.9886,2,    250.5,2
     06AZ129_1,  AR7E,    53,  1,     10,     10,5,19920927,2130, 52.3333, -15.7017, 3166,   1406.9,   4.3356,  34.9564,2,  34.9566,2,    258.9,2
     06AZ129_1,  AR7E,    53,  1,      9,      9,5,19920927,2130, 52.3333, -15.7017, 3166,   1612.3,   3.8614,  34.9167,2,  34.9165,2,    273.4,2
     06AZ129_1,  AR7E,    53,  1,      8,      8,5,19920927,2130, 52.3333, -15.7017, 3166,   1813.3,   3.6320,  34.9025,2,  34.9011,2,    277.5,2
     06AZ129_1,  AR7E,    53,  1,      7,      7,5,19920927,2130, 52.3333, -15.7017, 3166,   2016.4,   3.5100,  34.9040,2,  34.9029,2,    279.0,2
     06AZ129_1,  AR7E,    53,  1,      6,      6,5,19920927,2130, 52.3333, -15.7017, 3166,   2220.8,   3.4981,  34.9325,2,  34.9300,2,    273.5,2
     06AZ129_1,  AR7E,    53,  1,      5,      5,5,19920927,2130, 52.3333, -15.7017, 3166,   2425.2,   3.3726,  34.9444,2,  34.9434,2,    270.4,2
     06AZ129_1,  AR7E,    53,  1,      4,      4,5,19920927,2130, 52.3333, -15.7017, 3166,   2627.0,   3.1852,  34.9528,2,  34.9507,2,    266.4,2
     06AZ129_1,  AR7E,    53,  1,      3,      3,5,19920927,2130, 52.3333, -15.7017, 3166,   2833.3,   2.9703,  34.9511,2,  34.9505,2,    259.5,2
     06AZ129_1,  AR7E,    53,  1,      2,      2,5,19920927,2130, 52.3333, -15.7017, 3166,   3037.2,   2.7495,  34.9433,2,  34.9391,2,    252.2,2
     06AZ129_1,  AR7E,    53,  1,      1,      1,5,19920927,2130, 52.3333, -15.7017, 3166,   3173.4,   2.5945,  34.9301,2,  34.9259,2,    247.2,2
     06AZ129_1,  AR7E,    54,  1,     23,     23,5,19920928,0105, 52.3300, -15.4533, 2462,     20.1,  12.9817,  35.3311,2,  35.3279,2,    261.1,2
     06AZ129_1,  AR7E,    54,  1,     22,     22,5,19920928,0105, 52.3300, -15.4533, 2462,     94.6,  11.4116,  35.4098,2,  35.4016,2,    241.6,2
     06AZ129_1,  AR7E,    54,  1,     21,     21,5,19920928,0105, 52.3300, -15.4533, 2462,    194.1,  10.9378,  35.4152,2,  35.4098,2,    246.2,2
     06AZ129_1,  AR7E,    54,  1,     20,     20,5,19920928,0105, 52.3300, -15.4533, 2462,    297.7,  10.7724,  35.4532,2,  35.4484,2,    238.5,2
     06AZ129_1,  AR7E,    54,  1,     19,     19,5,19920928,0105, 52.3300, -15.4533, 2462,    393.4,  10.6919,  35.4840,2,  35.4819,2,    241.4,2
     06AZ129_1,  AR7E,    54,  1,     18,     18,5,19920928,0105, 52.3300, -15.4533, 2462,    493.8,  10.3235,  35.4380,2,  35.4319,2,    241.0,2
     06AZ129_1,  AR7E,    54,  1,     17,     17,5,19920928,0105, 52.3300, -15.4533, 2462,    598.7,   9.7702,  35.3621,2,  35.3632,2,    235.3,2
     06AZ129_1,  AR7E,    54,  1,     16,     16,5,19920928,0105, 52.3300, -15.4533, 2462,    698.5,   9.3669,  35.3453,2,-999.0000,5,    225.3,2
     06AZ129_1,  AR7E,    54,  1,     15,     15,5,19920928,0105, 52.3300, -15.4533, 2462,    797.0,   8.6447,  35.2678,2,  35.2632,2,    216.1,2
     06AZ129_1,  AR7E,    54,  1,     14,     14,5,19920928,0105, 52.3300, -15.4533, 2462,    891.6,   7.9155,  35.2125,2,  35.2075,2,    211.6,2
     06AZ129_1,  AR7E,    54,  1,     13,     13,5,19920928,0105, 52.3300, -15.4533, 2462,   1001.0,   7.1648,  35.1992,2,  35.1974,2,    213.8,2
     06AZ129_1,  AR7E,    54,  1,     12,     12,5,19920928,0105, 52.3300, -15.4533, 2462,   1101.3,   6.5241,  35.1645,2,  35.1561,2,    221.9,2
     06AZ129_1,  AR7E,    54,  1,     11,     11,5,19920928,0105, 52.3300, -15.4533, 2462,   1204.9,   5.5695,  35.0712,2,  35.0694,2,    234.9,2
     06AZ129_1,  AR7E,    54,  1,     10,     10,5,19920928,0105, 52.3300, -15.4533, 2462,   1303.9,   4.8953,  35.0097,2,  35.0047,2,    246.7,2
     06AZ129_1,  AR7E,    54,  1,      9,      9,5,19920928,0105, 52.3300, -15.4533, 2462,   1404.8,   4.4785,  34.9650,2,  34.9684,2,    255.6,2
     06AZ129_1,  AR7E,    54,  1,      8,      8,5,19920928,0105, 52.3300, -15.4533, 2462,   1506.7,   4.1917,  34.9452,2,  34.9414,2,    262.7,2
     06AZ129_1,  AR7E,    54,  1,      7,      7,5,19920928,0105, 52.3300, -15.4533, 2462,   1712.4,   3.7789,  34.9147,2,  34.9088,2,    273.8,2
     06AZ129_1,  AR7E,    54,  1,      6,      6,5,19920928,0105, 52.3300, -15.4533, 2462,   1812.4,   3.6475,  34.9055,2,  34.9017,2,    276.8,2
     06AZ129_1,  AR7E,    54,  1,      5,      5,5,19920928,0105, 52.3300, -15.4533, 2462,   2015.0,   3.5555,  34.9148,2,  34.9106,2,    276.8,2
     06AZ129_1,  AR7E,    54,  1,      4,      4,5,19920928,0105, 52.3300, -15.4533, 2462,   2109.7,   3.5200,  34.9250,2,  34.9218,2,    275.1,2
     06AZ129_1,  AR7E,    54,  1,      3,      3,5,19920928,0105, 52.3300, -15.4533, 2462,   2219.9,   3.3566,  34.9456,2,  34.9416,2,    270.2,2
     06AZ129_1,  AR7E,    54,  1,      2,      2,5,19920928,0105, 52.3300, -15.4533, 2462,   2322.3,   3.2357,  34.9515,2,  34.9475,2,    267.5,2
     06AZ129_1,  AR7E,    54,  1,      1,      1,5,19920928,0105, 52.3300, -15.4533, 2462,   2422.9,   3.1153,  34.9554,2,  34.9495,2,    264.1,2
     06AZ129_1,  AR7E,    55,  1,     17,     17,5,19920928,0416, 52.3350, -15.3333, 1784,     20.2,  12.9722,  35.3581,2,  35.3533,2,    259.4,2
     06AZ129_1,  AR7E,    55,  1,     16,     16,5,19920928,0416, 52.3350, -15.3333, 1784,     99.1,  11.6166,  35.4606,2,  35.4551,2,    240.0,2
     06AZ129_1,  AR7E,    55,  1,     15,     15,5,19920928,0416, 52.3350, -15.3333, 1784,    195.1,  11.0083,  35.4299,2,  35.4218,2,    244.1,2
     06AZ129_1,  AR7E,    55,  1,     14,     14,5,19920928,0416, 52.3350, -15.3333, 1784,    298.1,  10.8483,  35.4558,2,  35.4528,2,    239.7,2
     06AZ129_1,  AR7E,    55,  1,     13,     13,5,19920928,0416, 52.3350, -15.3333, 1784,    398.3,  10.6629,  35.4707,2,  35.4665,2,    238.6,2
     06AZ129_1,  AR7E,    55,  1,     12,     12,5,19920928,0416, 52.3350, -15.3333, 1784,    499.8,  10.3055,  35.4335,2,  35.4305,2,    239.7,2
     06AZ129_1,  AR7E,    55,  1,     11,     11,5,19920928,0416, 52.3350, -15.3333, 1784,    601.8,  10.0011,  35.4125,2,  35.4073,2,    237.6,2
     06AZ129_1,  AR7E,    55,  1,     10,     10,5,19920928,0416, 52.3350, -15.3333, 1784,    703.3,   9.3804,  35.3475,2,  35.3498,2,    220.3,2
     06AZ129_1,  AR7E,    55,  1,      9,      9,5,19920928,0416, 52.3350, -15.3333, 1784,    803.7,   8.8681,  35.3186,2,  35.3147,2,    212.5,2
     06AZ129_1,  AR7E,    55,  1,      8,      8,5,19920928,0416, 52.3350, -15.3333, 1784,    904.1,   8.4163,  35.3200,2,  35.3098,2,    208.5,2
     06AZ129_1,  AR7E,    55,  1,      7,      7,5,19920928,0416, 52.3350, -15.3333, 1784,   1003.2,   7.6781,  35.2904,2,  35.2836,2,    208.7,2
     06AZ129_1,  AR7E,    55,  1,      6,      6,5,19920928,0416, 52.3350, -15.3333, 1784,   1105.0,   6.6120,  35.2089,2,-999.0000,9,    221.7,2
     06AZ129_1,  AR7E,    55,  1,      5,      5,5,19920928,0416, 52.3350, -15.3333, 1784,   1208.9,   6.0653,  35.1376,2,  35.1313,2,    228.6,2
     06AZ129_1,  AR7E,    55,  1,      4,      4,5,19920928,0416, 52.3350, -15.3333, 1784,   1308.3,   5.2322,  35.0428,2,  35.0366,2,    241.1,2
     06AZ129_1,  AR7E,    55,  1,      3,      3,5,19920928,0416, 52.3350, -15.3333, 1784,   1410.5,   4.7639,  35.0014,2,  34.9961,2,    250.4,2
     06AZ129_1,  AR7E,    55,  1,      2,      2,5,19920928,0416, 52.3350, -15.3333, 1784,   1616.3,   3.9228,  34.9325,2,  34.9279,2,    269.5,2
     06AZ129_1,  AR7E,    55,  1,      1,      1,5,19920928,0416, 52.3350, -15.3333, 1784,   1715.3,   3.7109,  34.9164,2,  34.9123,2,    274.6,2
     06AZ129_1,  AR7E,    56,  1,     12,     12,5,19920928,0653, 52.3333, -15.2167, 1256,     19.6,  12.9582,  35.3820,2,  35.3734,2,    259.3,2
     06AZ129_1,  AR7E,    56,  1,     11,     11,5,19920928,0653, 52.3333, -15.2167, 1256,     97.8,  11.6796,  35.4345,2,  35.4331,2,    240.7,2
     06AZ129_1,  AR7E,    56,  1,     10,     10,5,19920928,0653, 52.3333, -15.2167, 1256,    197.2,  10.8243,  35.3900,2,  35.3823,2,    244.4,2
     06AZ129_1,  AR7E,    56,  1,      9,      9,5,19920928,0653, 52.3333, -15.2167, 1256,    298.6,  10.6899,  35.4441,2,  35.4374,2,    237.7,2
     06AZ129_1,  AR7E,    56,  1,      8,      8,5,19920928,0653, 52.3333, -15.2167, 1256,    397.7,  10.4600,  35.4489,2,  35.4403,2,    239.4,2
     06AZ129_1,  AR7E,    56,  1,      7,      7,5,19920928,0653, 52.3333, -15.2167, 1256,    497.6,  10.2071,  35.4410,2,  35.4335,2,    243.7,2
     06AZ129_1,  AR7E,    56,  1,      6,      6,5,19920928,0653, 52.3333, -15.2167, 1256,    600.6,  10.0366,  35.4447,2,  35.4390,2,    238.5,2
     06AZ129_1,  AR7E,    56,  1,      5,      5,5,19920928,0653, 52.3333, -15.2167, 1256,    700.5,   9.3649,  35.3557,2,  35.3492,2,    223.0,2
     06AZ129_1,  AR7E,    56,  1,      4,      4,5,19920928,0653, 52.3333, -15.2167, 1256,    801.2,   8.7386,  35.3095,2,  35.3035,2,    212.3,2
     06AZ129_1,  AR7E,    56,  1,      3,      3,5,19920928,0653, 52.3333, -15.2167, 1256,    898.2,   8.2593,  35.3137,2,  35.3065,2,    207.6,2
     06AZ129_1,  AR7E,    56,  1,      2,      2,5,19920928,0653, 52.3333, -15.2167, 1256,   1003.5,   7.7275,  35.3029,2,  35.2954,2,    208.9,2
     06AZ129_1,  AR7E,    56,  1,      1,      1,5,19920928,0653, 52.3333, -15.2167, 1256,   1218.6,   6.1607,  35.1402,2,  35.1339,2,    226.9,2
     06AZ129_1,  AR7E,    57,  1,     23,     23,5,19920928,0829, 52.3333, -15.0667,  972,     20.3,  12.9722,  35.3954,2,  35.3884,2,    259.7,2
     06AZ129_1,  AR7E,    57,  1,     22,     22,5,19920928,0829, 52.3333, -15.0667,  972,     98.2,  11.8305,  35.4947,2,  35.4862,2,    241.6,2
     06AZ129_1,  AR7E,    57,  1,     21,     21,5,19920928,0829, 52.3333, -15.0667,  972,    200.5,  11.0008,  35.4267,2,  35.4187,2,    240.6,2
     06AZ129_1,  AR7E,    57,  1,     20,     20,5,19920928,0829, 52.3333, -15.0667,  972,    301.6,  10.7439,  35.4398,2,  35.4354,2,    232.6,2
     06AZ129_1,  AR7E,    57,  1,     19,     19,5,19920928,0829, 52.3333, -15.0667,  972,    399.8,  10.4555,  35.4472,2,  35.4398,2,    240.4,2
     06AZ129_1,  AR7E,    57,  1,     18,     18,5,19920928,0829, 52.3333, -15.0667,  972,    499.0,  10.0841,  35.4360,2,  35.4301,2,    239.8,2
     06AZ129_1,  AR7E,    57,  1,     17,     17,5,19920928,0829, 52.3333, -15.0667,  972,    599.7,   9.8232,  35.4175,2,  35.4098,2,    231.7,2
     06AZ129_1,  AR7E,    57,  1,     16,     16,5,19920928,0829, 52.3333, -15.0667,  972,    699.7,   9.2444,  35.3408,2,  35.3334,2,    219.1,2
     06AZ129_1,  AR7E,    57,  1,     15,     15,5,19920928,0829, 52.3333, -15.0667,  972,    801.6,   8.8936,  35.3268,2,  35.3208,2,    213.0,2
     06AZ129_1,  AR7E,    57,  1,     14,     14,5,19920928,0829, 52.3333, -15.0667,  972,    900.1,   8.4178,  35.3066,2,  35.3025,2,    209.6,2
     06AZ129_1,  AR7E,    57,  1,     13,     13,5,19920928,0829, 52.3333, -15.0667,  972,    955.4,   7.8440,  35.3027,2,  35.2972,2,    209.2,2
     06AZ129_1,  AR7E,    58,  1,     10,     10,5,19920928,1032, 52.3333, -14.7500,  458,     22.5,  12.9512,  35.3806,2,  35.3748,2,    258.5,2
     06AZ129_1,  AR7E,    58,  1,      9,      9,5,19920928,1032, 52.3333, -14.7500,  458,     46.6,  12.8982,  35.3700,2,  35.3629,2,    258.1,2
     06AZ129_1,  AR7E,    58,  1,      8,      8,5,19920928,1032, 52.3333, -14.7500,  458,     95.4,  11.7565,  35.3759,2,  35.3651,2,    245.5,2
     06AZ129_1,  AR7E,    58,  1,      7,      7,5,19920928,1032, 52.3333, -14.7500,  458,    145.5,  10.5344,  35.4022,2,  35.3876,2,    241.7,2
     06AZ129_1,  AR7E,    58,  1,      6,      6,5,19920928,1032, 52.3333, -14.7500,  458,    196.4,  10.3820,  35.4157,2,  35.4098,2,    238.1,2
     06AZ129_1,  AR7E,    58,  1,      5,      5,5,19920928,1032, 52.3333, -14.7500,  458,    245.3,  10.2800,  35.4062,2,  35.4019,2,    238.0,2
     06AZ129_1,  AR7E,    58,  1,      4,      4,5,19920928,1032, 52.3333, -14.7500,  458,    301.9,  10.1516,  35.4334,2,  35.4250,2,    241.5,2
     06AZ129_1,  AR7E,    58,  1,      3,      3,5,19920928,1032, 52.3333, -14.7500,  458,    344.7,  10.1201,  35.4302,2,  35.4262,2,    241.1,2
     06AZ129_1,  AR7E,    58,  1,      2,      2,5,19920928,1032, 52.3333, -14.7500,  458,    396.9,   9.9357,  35.4160,2,  35.4081,2,    237.1,2
     06AZ129_1,  AR7E,    58,  1,      1,      1,5,19920928,1032, 52.3333, -14.7500,  458,    436.0,   9.9062,  35.4239,2,  35.4155,2,    236.2,2
     06AZ129_1,  AR7E,    59,  1,     19,     19,5,19920928,1405, 52.3333, -14.0000,  322,     21.1,  13.1396,  35.2617,2,  35.2514,2,    264.6,2
     06AZ129_1,  AR7E,    59,  1,     18,     18,5,19920928,1405, 52.3333, -14.0000,  322,     94.7,  10.2840,  35.3801,2,  35.3744,2,    244.9,2
     06AZ129_1,  AR7E,    59,  1,     17,     17,5,19920928,1405, 52.3333, -14.0000,  322,    196.0,  10.2575,  35.4671,2,  35.4612,2,    249.9,2
     06AZ129_1,  AR7E,    59,  1,     16,     16,5,19920928,1405, 52.3333, -14.0000,  322,    256.5,  10.2191,  35.4779,2,  35.4713,2,    244.1,2
     06AZ129_1,  AR7E,    59,  1,     15,     15,5,19920928,1405, 52.3333, -14.0000,  322,    277.4,  10.1761,  35.4737,2,  35.4671,2,    238.6,2
     06AZ129_1,  AR7E,    59,  1,     14,     14,5,19920928,1405, 52.3333, -14.0000,  322,    298.0,  10.1796,  35.4741,2,  35.4679,2,    239.0,2
     06AZ129_1,  AR7E,    59,  1,     13,     13,5,19920928,1405, 52.3333, -14.0000,  322,    318.5,  10.1801,  35.4733,2,  35.4679,2,    238.5,2