BOTTLE,20010509WHPSIOKJU
#code : jjward hyd_to_exchange.pl 
#original files copied from HTML directory: 20010509
#original HYD file: ar07edhy.txt   Fri Mar 23 15:03:54 2001
#original SUM file: ar07edsu.txt.tmp   Wed May  9 14:14:49 2001
EXPOCODE,SECT_ID,STNNBR,CASTNO,SAMPNO,BTLNBR,BTLNBR_FLAG_W,DATE,TIME,LATITUDE,LONGITUDE,DEPTH,CTDPRS,CTDTMP,CTDSAL,CTDSAL_FLAG_W,SALNTY,SALNTY_FLAG_W,OXYGEN,OXYGEN_FLAG_W
,,,,,,,,,,,,DBAR,ITS-90,PSS-78,,PSS-78,,UMOL/KG,
     06AZ129_1,  AR7E,     2,  1,     10,     10,5,19920915,1955, 60.0017, -42.6667,  200,     10.8,   1.5031,  32.4957,2,  32.4806,2,   -999.0,9
     06AZ129_1,  AR7E,     2,  1,      9,      9,5,19920915,1955, 60.0017, -42.6667,  200,     11.3,   1.4612,  32.5023,2,  32.5100,2,   -999.0,9
     06AZ129_1,  AR7E,     2,  1,      8,      8,5,19920915,1955, 60.0017, -42.6667,  200,     46.0,  -1.1038,  33.0965,2,  33.0891,2,   -999.0,9
     06AZ129_1,  AR7E,     2,  1,      7,      7,5,19920915,1955, 60.0017, -42.6667,  200,     46.5,  -1.1627,  33.0917,2,  33.0953,2,   -999.0,9
     06AZ129_1,  AR7E,     2,  1,      5,      5,5,19920915,1955, 60.0017, -42.6667,  200,     97.1,  -0.5441,  33.4846,2,  33.4834,2,   -999.0,9
     06AZ129_1,  AR7E,     2,  1,      6,      6,5,19920915,1955, 60.0017, -42.6667,  200,     97.3,  -0.5461,  33.4880,2,  33.4819,2,   -999.0,9
     06AZ129_1,  AR7E,     2,  1,      4,      4,5,19920915,1955, 60.0017, -42.6667,  200,    147.1,   2.7689,  34.2547,2,  34.2479,2,   -999.0,9
     06AZ129_1,  AR7E,     2,  1,      3,      3,5,19920915,1955, 60.0017, -42.6667,  200,    178.8,   2.8089,  34.2876,2,  34.2763,2,   -999.0,9
     06AZ129_1,  AR7E,     2,  1,      1,      1,5,19920915,1955, 60.0017, -42.6667,  200,    182.7,   2.8204,  34.2879,2,  34.2823,2,   -999.0,9
     06AZ129_1,  AR7E,     2,  1,      2,      2,5,19920915,1955, 60.0017, -42.6667,  200,    182.8,   2.8194,  34.2889,2,  34.2829,2,   -999.0,9
     06AZ129_1,  AR7E,     3,  1,     22,     22,5,19920915,2218, 59.9833, -42.3900,  198,      8.4,   1.7040,  32.0176,2,  32.0041,2,    364.2,2
     06AZ129_1,  AR7E,     3,  1,     21,     21,5,19920915,2218, 59.9833, -42.3900,  198,      8.5,   1.7125,  32.0139,2,  32.0012,2,    364.4,2
     06AZ129_1,  AR7E,     3,  1,     20,     20,5,19920915,2218, 59.9833, -42.3900,  198,     17.3,   1.5211,  32.1656,2,  32.1645,2,    360.9,2
     06AZ129_1,  AR7E,     3,  1,     19,     19,5,19920915,2218, 59.9833, -42.3900,  198,     17.4,   1.5251,  32.1652,2,  32.1597,2,    360.9,2
     06AZ129_1,  AR7E,     3,  1,     18,     18,5,19920915,2218, 59.9833, -42.3900,  198,     37.3,  -0.8339,  32.5653,2,  32.5611,2,    370.6,2
     06AZ129_1,  AR7E,     3,  1,     17,     17,5,19920915,2218, 59.9833, -42.3900,  198,     37.4,  -0.8369,  32.5658,2,  32.5588,2,    337.5,2
     06AZ129_1,  AR7E,     3,  1,     15,     15,5,19920915,2218, 59.9833, -42.3900,  198,     97.1,   1.1983,  33.4771,2,  33.4711,2,    334.6,2
     06AZ129_1,  AR7E,     3,  1,     16,     16,5,19920915,2218, 59.9833, -42.3900,  198,     97.7,   1.2028,  33.4758,2,  33.4704,2,    334.6,2
     06AZ129_1,  AR7E,     3,  1,     14,     14,5,19920915,2218, 59.9833, -42.3900,  198,    168.2,   2.9049,  34.2768,2,  34.2737,2,    306.6,2
     06AZ129_1,  AR7E,     3,  1,     13,     13,5,19920915,2218, 59.9833, -42.3900,  198,    168.3,   2.9024,  34.2758,2,  34.2759,2,    306.4,2
     06AZ129_1,  AR7E,     3,  1,     11,     11,5,19920915,2218, 59.9833, -42.3900,  198,    184.8,   2.9359,  34.2860,2,  34.2823,2,    306.6,2
     06AZ129_1,  AR7E,     3,  1,     12,     12,5,19920915,2218, 59.9833, -42.3900,  198,    185.3,   2.9339,  34.2842,2,  34.2829,2,    306.2,2
     06AZ129_1,  AR7E,     4,  1,     20,     20,5,19920915,2345, 59.9650, -42.1633,  490,     11.3,   2.0064,  32.4968,2,  32.4439,2,    355.3,2
     06AZ129_1,  AR7E,     4,  1,     19,     19,5,19920915,2345, 59.9650, -42.1633,  490,     11.8,   2.0059,  32.5007,2,  32.4595,2,    355.2,2
     06AZ129_1,  AR7E,     4,  1,     17,     17,5,19920915,2345, 59.9650, -42.1633,  490,     47.3,  -0.4252,  33.2122,2,  33.1996,2,    340.0,2
     06AZ129_1,  AR7E,     4,  1,     18,     18,5,19920915,2345, 59.9650, -42.1633,  490,     47.6,  -0.4357,  33.1928,2,  33.1898,2,    340.8,2
     06AZ129_1,  AR7E,     4,  1,     15,     15,5,19920915,2345, 59.9650, -42.1633,  490,     97.1,   2.5745,  34.0964,2,  34.0990,2,    312.6,2
     06AZ129_1,  AR7E,     4,  1,     16,     16,5,19920915,2345, 59.9650, -42.1633,  490,     97.3,   2.5406,  34.1017,2,  34.0839,2,    313.6,2
     06AZ129_1,  AR7E,     4,  1,     14,     14,5,19920915,2345, 59.9650, -42.1633,  490,    146.1,   6.9329,  34.9202,2,  34.9180,2,    288.2,2
     06AZ129_1,  AR7E,     4,  1,     13,     13,5,19920915,2345, 59.9650, -42.1633,  490,    146.8,   6.7765,  34.8832,2,  34.9153,2,    288.1,2
     06AZ129_1,  AR7E,     4,  1,     11,     11,5,19920915,2345, 59.9650, -42.1633,  490,    197.6,   3.8379,  34.6042,2,  34.5947,2,    295.7,2
     06AZ129_1,  AR7E,     4,  1,     12,     12,5,19920915,2345, 59.9650, -42.1633,  490,    197.9,   3.8084,  34.6018,2,  34.6051,2,    295.0,2
     06AZ129_1,  AR7E,     4,  1,     10,     10,5,19920915,2345, 59.9650, -42.1633,  490,    247.8,   4.6370,  34.8222,2,  34.7949,2,    286.7,2
     06AZ129_1,  AR7E,     4,  1,      9,      9,5,19920915,2345, 59.9650, -42.1633,  490,    248.0,   4.6460,  34.8126,2,  34.7862,2,    287.3,2
     06AZ129_1,  AR7E,     4,  1,      8,      8,5,19920915,2345, 59.9650, -42.1633,  490,    297.7,   4.9113,  34.8680,2,  34.8599,2,    284.6,2
     06AZ129_1,  AR7E,     4,  1,      7,      7,5,19920915,2345, 59.9650, -42.1633,  490,    298.2,   4.9333,  34.8621,2,  34.8624,2,    284.4,2
     06AZ129_1,  AR7E,     4,  1,      5,      5,5,19920915,2345, 59.9650, -42.1633,  490,    351.0,   4.9653,  34.9250,2,  34.9281,2,    283.1,2
     06AZ129_1,  AR7E,     4,  1,      6,      6,5,19920915,2345, 59.9650, -42.1633,  490,    351.2,   4.9573,  34.9206,2,  34.9269,2,    282.7,2
     06AZ129_1,  AR7E,     4,  1,      4,      4,5,19920915,2345, 59.9650, -42.1633,  490,    400.5,   4.9623,  34.9336,2,  34.9320,2,    283.4,2
     06AZ129_1,  AR7E,     4,  1,      3,      3,5,19920915,2345, 59.9650, -42.1633,  490,    400.8,   4.9633,  34.9359,2,  34.9314,2,    283.2,2
     06AZ129_1,  AR7E,     4,  1,      1,      1,5,19920915,2345, 59.9650, -42.1633,  490,    462.0,   4.7219,  34.9249,2,  34.9234,2,    284.1,2
     06AZ129_1,  AR7E,     4,  1,      2,      2,5,19920915,2345, 59.9650, -42.1633,  490,    462.5,   4.7199,  34.9232,2,  34.9249,2,    283.7,2
     06AZ129_1,  AR7E,     5,  1,     19,     19,5,19920916,0315, 59.9267, -41.8650, 1797,     11.7,   7.5101,  34.9218,2,  34.9216,2,    293.7,2
     06AZ129_1,  AR7E,     5,  1,     18,     18,5,19920916,0315, 59.9267, -41.8650, 1797,     98.1,   6.5461,  34.9885,2,  34.9914,2,    280.6,2
     06AZ129_1,  AR7E,     5,  1,     17,     17,5,19920916,0315, 59.9267, -41.8650, 1797,    199.4,   5.1747,  34.9517,2,  34.9520,2,    282.1,2
     06AZ129_1,  AR7E,     5,  1,     16,     16,5,19920916,0315, 59.9267, -41.8650, 1797,    299.0,   4.9168,  34.9532,2,  34.9528,2,    283.4,2
     06AZ129_1,  AR7E,     5,  1,     15,     15,5,19920916,0315, 59.9267, -41.8650, 1797,    399.5,   4.6105,  34.9266,2,  34.9261,2,    285.0,2
     06AZ129_1,  AR7E,     5,  1,     14,     14,5,19920916,0315, 59.9267, -41.8650, 1797,    500.0,   4.4895,  34.9206,2,  34.9214,2,    285.1,2
     06AZ129_1,  AR7E,     5,  1,     13,     13,5,19920916,0315, 59.9267, -41.8650, 1797,    600.4,   4.4346,  34.9296,2,  34.9318,2,    283.5,2
     06AZ129_1,  AR7E,     5,  1,     12,     12,5,19920916,0315, 59.9267, -41.8650, 1797,    700.2,   4.3256,  34.9247,2,  34.9267,2,    284.8,2
     06AZ129_1,  AR7E,     5,  1,     11,     11,5,19920916,0315, 59.9267, -41.8650, 1797,    801.8,   4.2362,  34.9267,2,  34.9279,2,    284.0,2
     06AZ129_1,  AR7E,     5,  1,     10,     10,5,19920916,0315, 59.9267, -41.8650, 1797,    902.6,   4.1297,  34.9225,2,  34.9237,2,    284.2,2
     06AZ129_1,  AR7E,     5,  1,      9,      9,5,19920916,0315, 59.9267, -41.8650, 1797,   1003.2,   3.9828,  34.9177,2,  34.9177,2,    283.4,2
     06AZ129_1,  AR7E,     5,  1,      8,      8,5,19920916,0315, 59.9267, -41.8650, 1797,   1106.7,   3.6440,  34.9059,2,  34.9059,2,    286.2,2
     06AZ129_1,  AR7E,     5,  1,      7,      7,5,19920916,0315, 59.9267, -41.8650, 1797,   1207.7,   3.5220,  34.9028,2,  34.9002,2,    286.0,2
     06AZ129_1,  AR7E,     5,  1,      6,      6,5,19920916,0315, 59.9267, -41.8650, 1797,   1305.7,   3.4061,  34.8927,2,  34.8933,2,    286.7,2
     06AZ129_1,  AR7E,     5,  1,      5,      5,5,19920916,0315, 59.9267, -41.8650, 1797,   1406.7,   3.2692,  34.8915,2,  34.8925,2,    286.3,2
     06AZ129_1,  AR7E,     5,  1,      4,      4,5,19920916,0315, 59.9267, -41.8650, 1797,   1509.3,   3.1957,  34.8965,2,  34.8968,2,    286.9,2
     06AZ129_1,  AR7E,     5,  1,      3,      3,5,19920916,0315, 59.9267, -41.8650, 1797,   1609.4,   3.0878,  34.9002,2,  34.9004,2,    285.3,2
     06AZ129_1,  AR7E,     5,  1,      2,      2,5,19920916,0315, 59.9267, -41.8650, 1797,   1711.3,   3.0448,  34.9014,2,  34.9011,2,    285.9,2
     06AZ129_1,  AR7E,     5,  1,      1,      1,5,19920916,0315, 59.9267, -41.8650, 1797,   1775.3,   2.9888,  34.9029,2,  34.9021,2,    285.0,2
     06AZ129_1,  AR7E,     6,  1,     20,     20,5,19920916,0625, 59.9000, -41.4833, 1882,     11.2,   7.6841,  34.8688,2,  34.8670,2,    292.1,2
     06AZ129_1,  AR7E,     6,  1,     19,     19,5,19920916,0625, 59.9000, -41.4833, 1882,     97.1,   5.2362,  34.9309,2,  34.9320,2,    284.5,2
     06AZ129_1,  AR7E,     6,  1,     18,     18,5,19920916,0625, 59.9000, -41.4833, 1882,    197.6,   4.5740,  34.9444,2,  34.9434,2,    284.8,2
     06AZ129_1,  AR7E,     6,  1,     17,     17,5,19920916,0625, 59.9000, -41.4833, 1882,    297.9,   4.3086,  34.9341,2,  34.9348,2,    284.9,2
     06AZ129_1,  AR7E,     6,  1,     16,     16,5,19920916,0625, 59.9000, -41.4833, 1882,    397.6,   4.1182,  34.9257,2,  34.9259,2,    286.0,2
     06AZ129_1,  AR7E,     6,  1,     15,     15,5,19920916,0625, 59.9000, -41.4833, 1882,    500.7,   3.8943,  34.9105,2,  34.9125,2,    289.1,2
     06AZ129_1,  AR7E,     6,  1,     14,     14,5,19920916,0625, 59.9000, -41.4833, 1882,    599.2,   3.8279,  34.9135,2,  34.9145,2,    286.1,2
     06AZ129_1,  AR7E,     6,  1,     13,     13,5,19920916,0625, 59.9000, -41.4833, 1882,    699.7,   3.6330,  34.9009,2,  34.9021,2,    288.3,2
     06AZ129_1,  AR7E,     6,  1,     12,     12,5,19920916,0625, 59.9000, -41.4833, 1882,    799.0,   3.5460,  34.9043,2,  34.9031,2,    285.1,2
     06AZ129_1,  AR7E,     6,  1,     11,     11,5,19920916,0625, 59.9000, -41.4833, 1882,    901.6,   3.4831,  34.9010,2,  34.9002,2,    285.3,2
     06AZ129_1,  AR7E,     6,  1,     10,     10,5,19920916,0625, 59.9000, -41.4833, 1882,   1003.5,   3.4251,  34.8955,2,  34.8956,2,    286.0,2
     06AZ129_1,  AR7E,     6,  1,      9,      9,5,19920916,0625, 59.9000, -41.4833, 1882,   1104.2,   3.3261,  34.8842,2,  34.8850,2,    287.9,2
     06AZ129_1,  AR7E,     6,  1,      8,      8,5,19920916,0625, 59.9000, -41.4833, 1882,   1205.6,   3.2352,  34.8750,2,  34.8766,2,    289.8,2
     06AZ129_1,  AR7E,     6,  1,      7,      7,5,19920916,0625, 59.9000, -41.4833, 1882,   1298.8,   3.2187,  34.8823,2,  34.8813,2,    287.8,2
     06AZ129_1,  AR7E,     6,  1,      6,      6,5,19920916,0625, 59.9000, -41.4833, 1882,   1408.2,   3.2097,  34.8916,2,  34.8923,2,    285.5,2
     06AZ129_1,  AR7E,     6,  1,      5,      5,5,19920916,0625, 59.9000, -41.4833, 1882,   1508.7,   3.1742,  34.9041,2,  34.9047,2,    282.5,2
     06AZ129_1,  AR7E,     6,  1,      4,      4,5,19920916,0625, 59.9000, -41.4833, 1882,   1609.6,   3.0413,  34.9075,2,  34.9076,2,    282.9,2
     06AZ129_1,  AR7E,     6,  1,      3,      3,5,19920916,0625, 59.9000, -41.4833, 1882,   1711.9,   2.9763,  34.9186,2,  34.9192,2,    280.1,2
     06AZ129_1,  AR7E,     6,  1,      2,      2,5,19920916,0625, 59.9000, -41.4833, 1882,   1812.8,   2.7170,  34.9197,2,  34.9145,3,    282.5,2
     06AZ129_1,  AR7E,     6,  1,      1,      1,5,19920916,0625, 59.9000, -41.4833, 1882,   1877.6,   2.4661,  34.9023,2,  34.9023,2,    286.5,2
     06AZ129_1,  AR7E,     7,  1,     21,     21,5,19920916,0950, 59.8633, -41.2050, 2011,     47.0,   6.8329,  34.8805,2,-999.0000,5,    296.0,2
     06AZ129_1,  AR7E,     7,  1,     20,     20,5,19920916,0950, 59.8633, -41.2050, 2011,     97.8,   5.0223,  34.9337,2,  34.9326,2,    284.5,2
     06AZ129_1,  AR7E,     7,  1,     19,     19,5,19920916,0950, 59.8633, -41.2050, 2011,    196.8,   4.4526,  34.9312,2,  34.9308,2,    286.0,2
     06AZ129_1,  AR7E,     7,  1,     18,     18,5,19920916,0950, 59.8633, -41.2050, 2011,    299.4,   4.1337,  34.9262,2,  34.9257,2,    287.4,2
     06AZ129_1,  AR7E,     7,  1,     17,     17,5,19920916,0950, 59.8633, -41.2050, 2011,    400.8,   3.9293,  34.9147,2,  34.9155,2,    290.3,2
     06AZ129_1,  AR7E,     7,  1,     16,     16,5,19920916,0950, 59.8633, -41.2050, 2011,    492.1,   3.8319,  34.9125,2,  34.9122,2,    287.0,2
     06AZ129_1,  AR7E,     7,  1,     15,     15,5,19920916,0950, 59.8633, -41.2050, 2011,    598.6,   3.6205,  34.8984,2,  34.8966,2,    293.9,2
     06AZ129_1,  AR7E,     7,  1,     14,     14,5,19920916,0950, 59.8633, -41.2050, 2011,    703.9,   3.5260,  34.8931,2,  34.8907,2,    293.5,2
     06AZ129_1,  AR7E,     7,  1,     13,     13,5,19920916,0950, 59.8633, -41.2050, 2011,    801.6,   3.4701,  34.8929,2,-999.0000,5,    288.0,2
     06AZ129_1,  AR7E,     7,  1,     12,     12,5,19920916,0950, 59.8633, -41.2050, 2011,    903.1,   3.3666,  34.8865,2,  34.8856,2,    289.8,2
     06AZ129_1,  AR7E,     7,  1,     11,     11,5,19920916,0950, 59.8633, -41.2050, 2011,   1005.5,   3.3027,  34.8798,2,-999.0000,5,    290.4,2
     06AZ129_1,  AR7E,     7,  1,     10,     10,5,19920916,0950, 59.8633, -41.2050, 2011,   1097.3,   3.2217,  34.8729,2,-999.0000,5,    290.5,2
     06AZ129_1,  AR7E,     7,  1,      9,      9,5,19920916,0950, 59.8633, -41.2050, 2011,   1205.3,   3.1907,  34.8732,2,  34.8731,2,    291.0,2
     06AZ129_1,  AR7E,     7,  1,      8,      8,5,19920916,0950, 59.8633, -41.2050, 2011,   1306.5,   3.1787,  34.8765,2,  34.8760,2,    288.8,2
     06AZ129_1,  AR7E,     7,  1,      7,      7,5,19920916,0950, 59.8633, -41.2050, 2011,   1401.9,   3.1912,  34.8845,2,  34.8880,2,    286.2,2
     06AZ129_1,  AR7E,     7,  1,      6,      6,5,19920916,0950, 59.8633, -41.2050, 2011,   1509.1,   3.2472,  34.9150,2,  34.9151,2,    280.1,2
     06AZ129_1,  AR7E,     7,  1,      5,      5,5,19920916,0950, 59.8633, -41.2050, 2011,   1612.8,   3.0748,  34.9075,2,  34.9084,2,    283.0,2
     06AZ129_1,  AR7E,     7,  1,      4,      4,5,19920916,0950, 59.8633, -41.2050, 2011,   1717.8,   2.9613,  34.9160,2,  34.9171,2,    280.9,2
     06AZ129_1,  AR7E,     7,  1,      3,      3,5,19920916,0950, 59.8633, -41.2050, 2011,   1814.1,   2.7804,  34.9154,2,  34.9139,2,    282.9,2
     06AZ129_1,  AR7E,     7,  1,      2,      2,5,19920916,0950, 59.8633, -41.2050, 2011,   1916.0,   2.5206,  34.9040,2,  34.9021,2,    286.7,2
     06AZ129_1,  AR7E,     7,  1,      1,      1,5,19920916,0950, 59.8633, -41.2050, 2011,   1984.2,   2.4876,  34.9034,2,  34.9017,2,    286.6,2
     06AZ129_1,  AR7E,     8,  1,     23,     23,5,19920916,1430, 59.8383, -40.7350, 2531,     16.2,   7.5071,  34.8692,2,  34.8668,2,    294.9,2
     06AZ129_1,  AR7E,     8,  1,     22,     22,5,19920916,1430, 59.8383, -40.7350, 2531,    197.7,   5.0917,  34.9690,2,  34.9682,2,    283.2,2
     06AZ129_1,  AR7E,     8,  1,     21,     21,5,19920916,1430, 59.8383, -40.7350, 2531,    297.7,   4.6819,  34.9505,2,  34.9503,2,    284.1,2
     06AZ129_1,  AR7E,     8,  1,     20,     20,5,19920916,1430, 59.8383, -40.7350, 2531,    398.3,   4.3306,  34.9364,2,  34.9355,2,    282.4,2
     06AZ129_1,  AR7E,     8,  1,     19,     19,5,19920916,1430, 59.8383, -40.7350, 2531,    498.2,   4.1252,  34.9276,2,  34.9275,2,    283.1,2
     06AZ129_1,  AR7E,     8,  1,     18,     18,5,19920916,1430, 59.8383, -40.7350, 2531,    600.9,   3.9063,  34.9196,2,  34.9196,2,    283.2,2
     06AZ129_1,  AR7E,     8,  1,     17,     17,5,19920916,1430, 59.8383, -40.7350, 2531,    800.4,   3.6345,  34.9026,2,  34.9031,2,    288.1,2
     06AZ129_1,  AR7E,     8,  1,     16,     16,5,19920916,1430, 59.8383, -40.7350, 2531,    902.4,   3.5790,  34.9048,2,  34.9053,2,    284.6,2
     06AZ129_1,  AR7E,     8,  1,     15,     15,5,19920916,1430, 59.8383, -40.7350, 2531,   1001.7,   3.4986,  34.9031,2,  34.9025,2,    284.1,2
     06AZ129_1,  AR7E,     8,  1,     14,     14,5,19920916,1430, 59.8383, -40.7350, 2531,   1103.4,   3.4916,  34.9025,2,  34.9021,2,    284.8,2
     06AZ129_1,  AR7E,     8,  1,     13,     13,5,19920916,1430, 59.8383, -40.7350, 2531,   1309.3,   3.3047,  34.8802,2,  34.8799,2,    289.0,2
     06AZ129_1,  AR7E,     8,  1,     12,     12,5,19920916,1430, 59.8383, -40.7350, 2531,   1410.4,   3.2927,  34.8922,2,  34.8892,2,    286.2,2
     06AZ129_1,  AR7E,     8,  1,     11,     11,5,19920916,1430, 59.8383, -40.7350, 2531,   1510.5,   3.2237,  34.8950,2,  34.8960,2,    285.4,2
     06AZ129_1,  AR7E,     8,  1,     10,     10,5,19920916,1430, 59.8383, -40.7350, 2531,   1712.7,   3.1677,  34.9164,2,  34.9155,2,    280.2,2
     06AZ129_1,  AR7E,     8,  1,      9,      9,5,19920916,1430, 59.8383, -40.7350, 2531,   1815.4,   3.1617,  34.9334,2,  34.9328,2,    276.7,2
     06AZ129_1,  AR7E,     8,  1,      8,      8,5,19920916,1430, 59.8383, -40.7350, 2531,   1915.3,   3.0408,  34.9352,2,  34.9347,2,    276.7,2
     06AZ129_1,  AR7E,     8,  1,      7,      7,5,19920916,1430, 59.8383, -40.7350, 2531,   2019.4,   2.7505,  34.9120,2,  34.9122,2,    283.1,2
     06AZ129_1,  AR7E,     8,  1,      6,      6,5,19920916,1430, 59.8383, -40.7350, 2531,   2118.9,   2.7135,  34.9286,2,  34.9283,2,    279.2,2
     06AZ129_1,  AR7E,     8,  1,      5,      5,5,19920916,1430, 59.8383, -40.7350, 2531,   2219.3,   2.3252,  34.8969,2,  34.8962,2,    289.5,2
     06AZ129_1,  AR7E,     8,  1,      4,      4,5,19920916,1430, 59.8383, -40.7350, 2531,   2324.7,   1.9139,  34.8832,2,  34.8833,2,    294.1,2
     06AZ129_1,  AR7E,     8,  1,      3,      3,5,19920916,1430, 59.8383, -40.7350, 2531,   2423.8,   1.7255,  34.8803,2,  34.8797,2,    295.7,2
     06AZ129_1,  AR7E,     8,  1,      2,      2,5,19920916,1430, 59.8383, -40.7350, 2531,   2524.5,   1.7300,  34.8801,2,  34.8803,2,    296.7,2
     06AZ129_1,  AR7E,     8,  1,      1,      1,5,19920916,1430, 59.8383, -40.7350, 2531,   2554.5,   1.7260,  34.8811,2,  34.8803,2,    296.3,2