BOTTLE,20010509WHPSIOKJU
EXPOCODE,SECT_ID,STNNBR,CASTNO,SAMPNO,BTLNBR,BTLNBR_FLAG_W,DATE,TIME,LATITUDE,LONGITUDE,DEPTH,CTDPRS,CTDTMP,CTDSAL,CTDSAL_FLAG_W,SALNTY,SALNTY_FLAG_W,OXYGEN,OXYGEN_FLAG_W
,,,,,,,,,,,,DBAR,ITS-90,PSS-78,,PSS-78,,UMOL/KG,
     06AZ129_1,  AR7E,    31,  1,     24,     24,5,19920922,2104, 55.5333, -26.7950, 3191,     18.4,  10.9308,  34.9706,2,  34.9662,2,    266.5,2
     06AZ129_1,  AR7E,    31,  1,     23,     23,5,19920922,2104, 55.5333, -26.7950, 3191,     93.3,   8.6941,  34.9804,2,  34.9845,2,    252.0,2
     06AZ129_1,  AR7E,    31,  1,     22,     22,5,19920922,2104, 55.5333, -26.7950, 3191,    195.3,   7.3642,  34.9037,2,  34.9143,3,    248.0,3
     06AZ129_1,  AR7E,    31,  1,     21,     21,5,19920922,2104, 55.5333, -26.7950, 3191,    296.6,   6.2542,  34.8672,2,  34.8648,2,    230.4,2
     06AZ129_1,  AR7E,    31,  1,     20,     20,5,19920922,2104, 55.5333, -26.7950, 3191,    397.1,   5.6180,  34.9154,2,  34.9139,2,    229.2,2
     06AZ129_1,  AR7E,    31,  1,     19,     19,5,19920922,2104, 55.5333, -26.7950, 3191,    514.3,   5.0178,  34.9358,2,  34.9322,2,    237.9,2
     06AZ129_1,  AR7E,    31,  1,     18,     18,5,19920922,2104, 55.5333, -26.7950, 3191,    705.6,   4.3076,  34.9279,2,  34.9253,2,    255.7,2
     06AZ129_1,  AR7E,    31,  1,     17,     17,5,19920922,2104, 55.5333, -26.7950, 3191,    800.4,   4.0648,  34.9175,2,  34.9141,2,    262.7,2
     06AZ129_1,  AR7E,    31,  1,     16,     16,5,19920922,2104, 55.5333, -26.7950, 3191,    902.4,   3.9283,  34.9146,2,  34.9122,2,    266.3,2
     06AZ129_1,  AR7E,    31,  1,     15,     15,5,19920922,2104, 55.5333, -26.7950, 3191,   1001.4,   3.7549,  34.9040,2,  34.9015,2,    271.5,2
     06AZ129_1,  AR7E,    31,  1,     14,     14,5,19920922,2104, 55.5333, -26.7950, 3191,   1105.2,   3.6345,  34.8965,2,  34.8935,2,    274.5,2
     06AZ129_1,  AR7E,    31,  1,     13,     13,5,19920922,2104, 55.5333, -26.7950, 3191,   1205.1,   3.6005,  34.8995,2,  34.8958,2,    275.3,2
     06AZ129_1,  AR7E,    31,  1,     12,     12,5,19920922,2104, 55.5333, -26.7950, 3191,   1306.1,   3.5140,  34.8925,2,  34.8909,2,    277.3,2
     06AZ129_1,  AR7E,    31,  1,     11,     11,5,19920922,2104, 55.5333, -26.7950, 3191,   1399.9,   3.4741,  34.8925,2,  34.8886,2,    275.9,2
     06AZ129_1,  AR7E,    31,  1,     10,     10,5,19920922,2104, 55.5333, -26.7950, 3191,   1610.1,   3.3726,  34.8895,2,  34.8860,2,    281.1,3
     06AZ129_1,  AR7E,    31,  1,      9,      9,5,19920922,2104, 55.5333, -26.7950, 3191,   1709.7,   3.3706,  34.8975,2,  34.8945,2,    280.3,2
     06AZ129_1,  AR7E,    31,  1,      8,      8,5,19920922,2104, 55.5333, -26.7950, 3191,   1811.7,   3.3616,  34.9037,2,  34.9002,2,    279.1,2
     06AZ129_1,  AR7E,    31,  1,      7,      7,5,19920922,2104, 55.5333, -26.7950, 3191,   2117.6,   3.3546,  34.9379,2,  34.9365,2,    272.7,2
     06AZ129_1,  AR7E,    31,  1,      6,      6,5,19920922,2104, 55.5333, -26.7950, 3191,   2321.4,   3.2622,  34.9500,2,  34.9473,2,    271.0,2
     06AZ129_1,  AR7E,    31,  1,      5,      5,5,19920922,2104, 55.5333, -26.7950, 3191,   2526.3,   3.1247,  34.9582,2,  34.9564,2,    270.6,2
     06AZ129_1,  AR7E,    31,  1,      4,      4,5,19920922,2104, 55.5333, -26.7950, 3191,   2729.8,   2.9563,  34.9616,2,  34.9570,2,    266.5,2
     06AZ129_1,  AR7E,    31,  1,      3,      3,5,19920922,2104, 55.5333, -26.7950, 3191,   2932.9,   2.8384,  34.9607,2,  34.9573,2,    264.6,2
     06AZ129_1,  AR7E,    31,  1,      2,      2,5,19920922,2104, 55.5333, -26.7950, 3191,   3034.7,   2.8064,  34.9620,2,  34.9587,2,    264.6,2
     06AZ129_1,  AR7E,    31,  1,      1,      1,5,19920922,2104, 55.5333, -26.7950, 3191,   3193.7,   2.7744,  34.9622,2,  34.9611,2,    264.4,2
     06AZ129_1,  AR7E,    32,  1,     24,     24,5,19920923,0210, 55.0750, -26.4633, 3374,     21.1,  10.6989,  34.8364,2,  34.8338,2,    271.0,2
     06AZ129_1,  AR7E,    32,  1,     23,     23,5,19920923,0210, 55.0750, -26.4633, 3374,    197.1,   7.0054,  34.9225,2,  34.9147,2,    232.6,2
     06AZ129_1,  AR7E,    32,  1,     22,     22,5,19920923,0210, 55.0750, -26.4633, 3374,    398.1,   5.9753,  35.0114,2,  35.0057,2,    232.7,2
     06AZ129_1,  AR7E,    32,  1,     21,     21,5,19920923,0210, 55.0750, -26.4633, 3374,    592.6,   4.5815,  34.9404,2,  34.9363,2,    249.6,2
     06AZ129_1,  AR7E,    32,  1,     20,     20,5,19920923,0210, 55.0750, -26.4633, 3374,    802.8,   3.9343,  34.9100,2,  34.9090,2,    266.2,2
     06AZ129_1,  AR7E,    32,  1,     19,     19,5,19920923,0210, 55.0750, -26.4633, 3374,   1002.3,   3.6470,  34.8955,2,  34.8951,2,    274.9,2
     06AZ129_1,  AR7E,    32,  1,     18,     18,5,19920923,0210, 55.0750, -26.4633, 3374,   1100.2,   3.5620,  34.8890,2,  34.8907,2,    277.0,2
     06AZ129_1,  AR7E,    32,  1,     17,     17,5,19920923,0210, 55.0750, -26.4633, 3374,   1204.1,   3.4701,  34.8858,2,  34.8831,2,    280.1,2
     06AZ129_1,  AR7E,    32,  1,     16,     16,5,19920923,0210, 55.0750, -26.4633, 3374,   1305.3,   3.4036,  34.8824,2,-999.0000,9,   -999.0,9
     06AZ129_1,  AR7E,    32,  1,     15,     15,5,19920923,0210, 55.0750, -26.4633, 3374,   1405.1,   3.3641,  34.8824,2,  34.8791,2,    282.7,2
     06AZ129_1,  AR7E,    32,  1,     14,     14,5,19920923,0210, 55.0750, -26.4633, 3374,   1508.5,   3.3261,  34.8829,2,  34.8821,2,    283.7,2
     06AZ129_1,  AR7E,    32,  1,     13,     13,5,19920923,0210, 55.0750, -26.4633, 3374,   1610.7,   3.3401,  34.8938,2,  34.8919,2,    280.9,2
     06AZ129_1,  AR7E,    32,  1,     12,     12,5,19920923,0210, 55.0750, -26.4633, 3374,   1714.7,   3.3521,  34.9039,2,  34.9017,2,    279.0,2
     06AZ129_1,  AR7E,    32,  1,     11,     11,5,19920923,0210, 55.0750, -26.4633, 3374,   1812.6,   3.3616,  34.9140,2,-999.0000,9,   -999.0,9
     06AZ129_1,  AR7E,    32,  1,     10,     10,5,19920923,0210, 55.0750, -26.4633, 3374,   2015.4,   3.3241,  34.9320,2,  34.9289,2,    274.2,2
     06AZ129_1,  AR7E,    32,  1,      9,      9,5,19920923,0210, 55.0750, -26.4633, 3374,   2117.8,   3.2982,  34.9403,2,  34.9397,2,    272.4,2
     06AZ129_1,  AR7E,    32,  1,      8,      8,5,19920923,0210, 55.0750, -26.4633, 3374,   2321.4,   3.1977,  34.9479,2,  34.9471,2,    270.7,2
     06AZ129_1,  AR7E,    32,  1,      7,      7,5,19920923,0210, 55.0750, -26.4633, 3374,   2525.6,   3.0843,  34.9536,2,  34.9516,2,    270.5,2
     06AZ129_1,  AR7E,    32,  1,      6,      6,5,19920923,0210, 55.0750, -26.4633, 3374,   2625.8,   3.0303,  34.9561,2,  34.9546,2,    270.3,2
     06AZ129_1,  AR7E,    32,  1,      5,      5,5,19920923,0210, 55.0750, -26.4633, 3374,   2830.9,   2.9224,  34.9587,2,  34.9573,2,    266.7,2
     06AZ129_1,  AR7E,    32,  1,      4,      4,5,19920923,0210, 55.0750, -26.4633, 3374,   3030.5,   2.8334,  34.9580,2,  34.9554,2,    264.2,2
     06AZ129_1,  AR7E,    32,  1,      3,      3,5,19920923,0210, 55.0750, -26.4633, 3374,   3135.0,   2.8009,  34.9566,2,  34.9550,2,    263.0,2
     06AZ129_1,  AR7E,    32,  1,      2,      2,5,19920923,0210, 55.0750, -26.4633, 3374,   3266.3,   2.7994,  34.9613,2,  34.9583,2,    264.3,2
     06AZ129_1,  AR7E,    32,  1,      1,      1,5,19920923,0210, 55.0750, -26.4633, 3374,   3396.3,   2.7535,  34.9542,2,  34.9526,2,    259.8,2
     06AZ129_1,  AR7E,    33,  1,     24,     24,5,19920923,0710, 54.7250, -26.2117, 3553,     25.8,  10.7549,  34.8292,2,-999.0000,2,    271.2,2
     06AZ129_1,  AR7E,    33,  1,     23,     23,5,19920923,0710, 54.7250, -26.2117, 3553,     96.8,   8.2263,  34.9660,2,  34.9672,2,    250.3,2
     06AZ129_1,  AR7E,    33,  1,     22,     22,5,19920923,0710, 54.7250, -26.2117, 3553,    196.8,   6.9964,  34.8812,2,  34.8817,2,    237.2,2
     06AZ129_1,  AR7E,    33,  1,     21,     21,5,19920923,0710, 54.7250, -26.2117, 3553,    295.7,   5.8094,  34.8207,2,  34.8188,2,    247.3,2
     06AZ129_1,  AR7E,    33,  1,     20,     20,5,19920923,0710, 54.7250, -26.2117, 3553,    396.9,   5.3451,  34.8866,2,  34.8846,2,    240.7,2
     06AZ129_1,  AR7E,    33,  1,     19,     19,5,19920923,0710, 54.7250, -26.2117, 3553,    498.8,   4.9198,  34.9272,2,  34.9249,2,    241.9,2
     06AZ129_1,  AR7E,    33,  1,     18,     18,5,19920923,0710, 54.7250, -26.2117, 3553,    599.4,   4.5690,  34.9337,2,  34.9322,2,    249.3,2
     06AZ129_1,  AR7E,    33,  1,     17,     17,5,19920923,0710, 54.7250, -26.2117, 3553,    701.0,   4.2237,  34.9260,2,  34.9241,2,    258.8,2
     06AZ129_1,  AR7E,    33,  1,     16,     16,5,19920923,0710, 54.7250, -26.2117, 3553,    798.5,   4.0333,  34.9187,2,  34.9161,2,    264.7,2
     06AZ129_1,  AR7E,    33,  1,     15,     15,5,19920923,0710, 54.7250, -26.2117, 3553,   1000.0,   3.7194,  34.9019,2,  34.8962,2,    273.4,2
     06AZ129_1,  AR7E,    33,  1,     14,     14,5,19920923,0710, 54.7250, -26.2117, 3553,   1203.2,   3.5095,  34.8874,2,  34.8846,2,    279.5,2
     06AZ129_1,  AR7E,    33,  1,     13,     13,5,19920923,0710, 54.7250, -26.2117, 3553,   1407.2,   3.4026,  34.8859,2,  34.8821,2,    281.5,2
     06AZ129_1,  AR7E,    33,  1,     12,     12,5,19920923,0710, 54.7250, -26.2117, 3553,   1508.6,   3.3646,  34.8863,2,  34.8821,2,    282.1,2
     06AZ129_1,  AR7E,    33,  1,     11,     11,5,19920923,0710, 54.7250, -26.2117, 3553,   1711.1,   3.3341,  34.8925,2,-999.0000,9,   -999.0,9
     06AZ129_1,  AR7E,    33,  1,     10,     10,5,19920923,0710, 54.7250, -26.2117, 3553,   1915.6,   3.3621,  34.9124,2,  34.9104,2,    279.3,2
     06AZ129_1,  AR7E,    33,  1,      9,      9,5,19920923,0710, 54.7250, -26.2117, 3553,   2115.4,   3.3471,  34.9290,2,  34.9261,2,    271.9,2
     06AZ129_1,  AR7E,    33,  1,      8,      8,5,19920923,0710, 54.7250, -26.2117, 3553,   2319.2,   3.2812,  34.9417,2,  34.9397,2,    273.0,2
     06AZ129_1,  AR7E,    33,  1,      7,      7,5,19920923,0710, 54.7250, -26.2117, 3553,   2525.5,   3.1782,  34.9498,2,  34.9491,2,    271.2,2
     06AZ129_1,  AR7E,    33,  1,      6,      6,5,19920923,0710, 54.7250, -26.2117, 3553,   2729.0,   3.0738,  34.9536,2,  34.9538,2,    270.3,2
     06AZ129_1,  AR7E,    33,  1,      5,      5,5,19920923,0710, 54.7250, -26.2117, 3553,   2930.5,   2.9723,  34.9600,2,  34.9587,2,    267.5,2
     06AZ129_1,  AR7E,    33,  1,      4,      4,5,19920923,0710, 54.7250, -26.2117, 3553,   3133.6,   2.8844,  34.9599,2,  34.9593,2,    264.9,2
     06AZ129_1,  AR7E,    33,  1,      3,      3,5,19920923,0710, 54.7250, -26.2117, 3553,   3341.6,   2.8409,  34.9586,2,  34.9552,2,    265.7,2
     06AZ129_1,  AR7E,    33,  1,      2,      2,5,19920923,0710, 54.7250, -26.2117, 3553,   3545.9,   2.8264,  34.9585,2,  34.9573,2,    262.9,2
     06AZ129_1,  AR7E,    33,  1,      1,      1,5,19920923,0710, 54.7250, -26.2117, 3553,   3614.4,   2.8024,  34.9568,2,  34.9554,2,    263.7,2
     06AZ129_1,  AR7E,    34,  1,     24,     24,5,19920923,1150, 54.4250, -25.9983, 3273,     14.6,  10.8558,  34.7782,2,  34.7752,2,    268.4,2
     06AZ129_1,  AR7E,    34,  1,     23,     23,5,19920923,1150, 54.4250, -25.9983, 3273,     92.4,   8.0424,  34.8965,2,  34.8892,2,    242.6,2
     06AZ129_1,  AR7E,    34,  1,     22,     22,5,19920923,1150, 54.4250, -25.9983, 3273,    199.5,   6.9204,  34.8830,2,  34.8797,2,    237.1,2
     06AZ129_1,  AR7E,    34,  1,     21,     21,5,19920923,1150, 54.4250, -25.9983, 3273,    300.3,   5.9758,  34.8642,2,  34.8611,2,    230.8,2
     06AZ129_1,  AR7E,    34,  1,     20,     20,5,19920923,1150, 54.4250, -25.9983, 3273,    407.5,   5.1992,  34.8790,2,  34.8756,2,    248.7,2
     06AZ129_1,  AR7E,    34,  1,     19,     19,5,19920923,1150, 54.4250, -25.9983, 3273,    520.6,   4.6605,  34.8983,2,  34.8953,2,    248.5,2
     06AZ129_1,  AR7E,    34,  1,     18,     18,5,19920923,1150, 54.4250, -25.9983, 3273,    633.2,   4.5785,  34.9529,2,  34.9526,2,    248.6,2
     06AZ129_1,  AR7E,    34,  1,     17,     17,5,19920923,1150, 54.4250, -25.9983, 3273,    751.7,   4.1467,  34.9233,2,  34.9224,2,    259.8,2
     06AZ129_1,  AR7E,    34,  1,     16,     16,5,19920923,1150, 54.4250, -25.9983, 3273,    853.1,   3.8998,  34.9087,2,  34.9063,2,    267.0,2
     06AZ129_1,  AR7E,    34,  1,     15,     15,5,19920923,1150, 54.4250, -25.9983, 3273,    950.0,   3.7434,  34.9022,2,  34.8986,2,    271.7,2
     06AZ129_1,  AR7E,    34,  1,     14,     14,5,19920923,1150, 54.4250, -25.9983, 3273,   1072.7,   3.6045,  34.8949,2,  34.8917,2,    275.6,2
     06AZ129_1,  AR7E,    34,  1,     13,     13,5,19920923,1150, 54.4250, -25.9983, 3273,   1253.3,   3.4441,  34.8860,2,  34.8827,2,    279.1,2
     06AZ129_1,  AR7E,    34,  1,     12,     12,5,19920923,1150, 54.4250, -25.9983, 3273,   1389.4,   3.3871,  34.8862,2,  34.8829,2,    280.2,2
     06AZ129_1,  AR7E,    34,  1,     11,     11,5,19920923,1150, 54.4250, -25.9983, 3273,   1506.5,   3.3531,  34.8876,2,  34.8841,2,    284.8,2
     06AZ129_1,  AR7E,    34,  1,     10,     10,5,19920923,1150, 54.4250, -25.9983, 3273,   1707.2,   3.3311,  34.8952,2,  34.8927,2,    280.0,2
     06AZ129_1,  AR7E,    34,  1,      9,      9,5,19920923,1150, 54.4250, -25.9983, 3273,   1911.6,   3.3826,  34.9224,2,  34.9190,2,    274.5,2
     06AZ129_1,  AR7E,    34,  1,      8,      8,5,19920923,1150, 54.4250, -25.9983, 3273,   2116.8,   3.3161,  34.9396,2,  34.9377,2,    271.2,2
     06AZ129_1,  AR7E,    34,  1,      7,      7,5,19920923,1150, 54.4250, -25.9983, 3273,   2322.0,   3.2222,  34.9480,2,  34.9471,3,    270.4,2
     06AZ129_1,  AR7E,    34,  1,      6,      6,5,19920923,1150, 54.4250, -25.9983, 3273,   2522.5,   3.1133,  34.9531,2,  34.9513,2,    268.4,2
     06AZ129_1,  AR7E,    34,  1,      5,      5,5,19920923,1150, 54.4250, -25.9983, 3273,   2728.1,   3.0023,  34.9532,2,  34.9515,2,    264.6,2
     06AZ129_1,  AR7E,    34,  1,      4,      4,5,19920923,1150, 54.4250, -25.9983, 3273,   2935.9,   2.8634,  34.9521,2,  34.9493,2,    260.2,2
     06AZ129_1,  AR7E,    34,  1,      3,      3,5,19920923,1150, 54.4250, -25.9983, 3273,   3086.8,   2.7969,  34.9512,2,  34.9471,2,    258.3,2
     06AZ129_1,  AR7E,    34,  1,      2,      2,5,19920923,1150, 54.4250, -25.9983, 3273,   3190.3,   2.7684,  34.9485,2,  34.9444,2,    256.8,2
     06AZ129_1,  AR7E,    34,  1,      1,      1,5,19920923,1150, 54.4250, -25.9983, 3273,   3309.0,   2.7295,  34.9447,2,  34.9412,2,    255.8,2
     06AZ129_1,  AR7E,    35,  1,      1,      1,5,19920923,1804, 53.9850, -26.4933, 3563,   3397.1,   2.7894,  34.9518,2,  34.9495,2,    261.7,2
     06AZ129_1,  AR7E,    35,  1,      2,      2,5,19920923,1804, 53.9850, -26.4933, 3563,   3397.1,   2.7889,  34.9511,2,  34.9497,2,    261.5,2
     06AZ129_1,  AR7E,    35,  1,      3,      3,5,19920923,1804, 53.9850, -26.4933, 3563,   3397.7,   2.7894,  34.9515,2,  34.9495,2,    261.1,2
     06AZ129_1,  AR7E,    35,  1,      4,      4,5,19920923,1804, 53.9850, -26.4933, 3563,   3398.6,   2.7889,  34.9517,2,  34.9495,2,    261.2,2
     06AZ129_1,  AR7E,    35,  1,      6,      6,5,19920923,1804, 53.9850, -26.4933, 3563,   3399.2,   2.7899,  34.9515,2,  34.9497,2,    261.2,2
     06AZ129_1,  AR7E,    35,  1,      5,      5,5,19920923,1804, 53.9850, -26.4933, 3563,   3399.7,   2.7889,  34.9512,2,  34.9497,2,    261.2,2
     06AZ129_1,  AR7E,    35,  1,      8,      8,5,19920923,1804, 53.9850, -26.4933, 3563,   3400.2,   2.7894,  34.9516,2,  34.9495,2,    261.1,2
     06AZ129_1,  AR7E,    35,  1,      7,      7,5,19920923,1804, 53.9850, -26.4933, 3563,   3400.3,   2.7894,  34.9516,2,  34.9497,2,    260.6,2
     06AZ129_1,  AR7E,    35,  1,      9,      9,5,19920923,1804, 53.9850, -26.4933, 3563,   3401.1,   2.7884,  34.9523,2,  34.9497,2,    260.5,2
     06AZ129_1,  AR7E,    35,  1,     23,     23,5,19920923,1804, 53.9850, -26.4933, 3563,   3401.4,   2.7889,  34.9516,2,  34.9493,2,    260.9,2
     06AZ129_1,  AR7E,    35,  1,     21,     21,5,19920923,1804, 53.9850, -26.4933, 3563,   3401.6,   2.7889,  34.9516,2,  34.9493,2,    260.8,2
     06AZ129_1,  AR7E,    35,  1,     24,     24,5,19920923,1804, 53.9850, -26.4933, 3563,   3401.9,   2.7889,  34.9514,2,  34.9485,2,    260.9,2
     06AZ129_1,  AR7E,    35,  1,     22,     22,5,19920923,1804, 53.9850, -26.4933, 3563,   3402.1,   2.7889,  34.9525,2,  34.9491,2,    260.3,2
     06AZ129_1,  AR7E,    35,  1,     11,     11,5,19920923,1804, 53.9850, -26.4933, 3563,   3402.2,   2.7884,  34.9518,2,  34.9499,2,    261.9,2
     06AZ129_1,  AR7E,    35,  1,     20,     20,5,19920923,1804, 53.9850, -26.4933, 3563,   3402.4,   2.7884,  34.9517,2,  34.9487,2,    260.3,2
     06AZ129_1,  AR7E,    35,  1,     10,     10,5,19920923,1804, 53.9850, -26.4933, 3563,   3402.5,   2.7879,  34.9522,2,  34.9495,2,    261.4,2
     06AZ129_1,  AR7E,    35,  1,     12,     12,5,19920923,1804, 53.9850, -26.4933, 3563,   3402.5,   2.7894,  34.9518,2,  34.9497,2,    260.4,2
     06AZ129_1,  AR7E,    35,  1,     13,     13,5,19920923,1804, 53.9850, -26.4933, 3563,   3402.8,   2.7884,  34.9528,2,  34.9495,2,    260.0,2
     06AZ129_1,  AR7E,    35,  1,     16,     16,5,19920923,1804, 53.9850, -26.4933, 3563,   3403.1,   2.7879,  34.9520,2,  34.9493,2,    260.8,2
     06AZ129_1,  AR7E,    35,  1,     19,     19,5,19920923,1804, 53.9850, -26.4933, 3563,   3403.4,   2.7884,  34.9513,2,  34.9495,2,    260.6,2
     06AZ129_1,  AR7E,    35,  1,     15,     15,5,19920923,1804, 53.9850, -26.4933, 3563,   3403.5,   2.7884,  34.9513,2,  34.9487,2,    260.3,2
     06AZ129_1,  AR7E,    35,  1,     18,     18,5,19920923,1804, 53.9850, -26.4933, 3563,   3403.6,   2.7879,  34.9517,2,  34.9491,2,    260.6,2
     06AZ129_1,  AR7E,    35,  1,     17,     17,5,19920923,1804, 53.9850, -26.4933, 3563,   3403.7,   2.7874,  34.9522,2,  34.9491,2,    260.9,2
     06AZ129_1,  AR7E,    35,  1,     14,     14,5,19920923,1804, 53.9850, -26.4933, 3563,   3404.0,   2.7894,  34.9512,2,  34.9493,2,    261.1,2