BOTTLE,20010509WHPSIOKJU
EXPOCODE,SECT_ID,STNNBR,CASTNO,SAMPNO,BTLNBR,BTLNBR_FLAG_W,DATE,TIME,LATITUDE,LONGITUDE,DEPTH,CTDPRS,CTDTMP,CTDSAL,CTDSAL_FLAG_W,SALNTY,SALNTY_FLAG_W,OXYGEN,OXYGEN_FLAG_W
,,,,,,,,,,,,DBAR,ITS-90,PSS-78,,PSS-78,,UMOL/KG,
     06AZ129_1,  AR7E,    14,  1,     23,     23,5,19920919,1538, 59.3033, -35.8283, 3097,     23.1,   7.5301,  34.7829,2,  34.7719,2,    289.4,2
     06AZ129_1,  AR7E,    14,  1,     22,     22,5,19920919,1538, 59.3033, -35.8283, 3097,    397.0,   4.0778,  34.8742,2,  34.8689,2,    296.5,2
     06AZ129_1,  AR7E,    14,  1,     21,     21,5,19920919,1538, 59.3033, -35.8283, 3097,    602.4,   3.8903,  34.8752,2,  34.8707,2,    290.2,2
     06AZ129_1,  AR7E,    14,  1,     20,     20,5,19920919,1538, 59.3033, -35.8283, 3097,    801.3,   3.5995,  34.8880,2,  34.8841,2,    290.3,2
     06AZ129_1,  AR7E,    14,  1,     19,     19,5,19920919,1538, 59.3033, -35.8283, 3097,   1005.8,   3.3721,  34.8800,2,  34.8750,2,    293.6,2
     06AZ129_1,  AR7E,    14,  1,     18,     18,5,19920919,1538, 59.3033, -35.8283, 3097,   1107.7,   3.3281,  34.8790,2,  34.8748,2,    293.5,2
     06AZ129_1,  AR7E,    14,  1,     17,     17,5,19920919,1538, 59.3033, -35.8283, 3097,   1207.3,   3.2632,  34.8731,2,-999.0000,5,    294.9,2
     06AZ129_1,  AR7E,    14,  1,     16,     16,5,19920919,1538, 59.3033, -35.8283, 3097,   1306.0,   3.2102,  34.8684,2,  34.8648,2,    295.3,2
     06AZ129_1,  AR7E,    14,  1,     15,     15,5,19920919,1538, 59.3033, -35.8283, 3097,   1406.8,   3.1962,  34.8683,2,  34.8656,2,    295.0,2
     06AZ129_1,  AR7E,    14,  1,     14,     14,5,19920919,1538, 59.3033, -35.8283, 3097,   1608.6,   3.0758,  34.8533,2,  34.8516,2,    297.7,2
     06AZ129_1,  AR7E,    14,  1,     13,     13,5,19920919,1538, 59.3033, -35.8283, 3097,   1717.6,   3.1223,  34.8628,2,  34.8593,2,    293.7,2
     06AZ129_1,  AR7E,    14,  1,     12,     12,5,19920919,1538, 59.3033, -35.8283, 3097,   1815.0,   3.1068,  34.8638,2,  34.8601,2,    293.0,2
     06AZ129_1,  AR7E,    14,  1,     11,     11,5,19920919,1538, 59.3033, -35.8283, 3097,   1919.1,   3.1108,  34.8676,2,  34.8623,2,    291.6,2
     06AZ129_1,  AR7E,    14,  1,     10,     10,5,19920919,1538, 59.3033, -35.8283, 3097,   2021.3,   3.1023,  34.8668,2,  34.8642,2,    291.8,2
     06AZ129_1,  AR7E,    14,  1,      9,      9,5,19920919,1538, 59.3033, -35.8283, 3097,   2220.8,   3.3311,  34.9258,2,  34.9232,2,    277.9,2
     06AZ129_1,  AR7E,    14,  1,      8,      8,5,19920919,1538, 59.3033, -35.8283, 3097,   2322.9,   3.3251,  34.9388,2,  34.9371,2,    275.4,2
     06AZ129_1,  AR7E,    14,  1,      7,      7,5,19920919,1538, 59.3033, -35.8283, 3097,   2423.1,   3.2532,  34.9383,2,  34.9357,2,    275.6,2
     06AZ129_1,  AR7E,    14,  1,      6,      6,5,19920919,1538, 59.3033, -35.8283, 3097,   2526.2,   3.1762,  34.9409,2,  34.9391,2,    274.6,2
     06AZ129_1,  AR7E,    14,  1,      5,      5,5,19920919,1538, 59.3033, -35.8283, 3097,   2622.9,   3.1028,  34.9441,2,  34.9432,2,    274.2,2
     06AZ129_1,  AR7E,    14,  1,      4,      4,5,19920919,1538, 59.3033, -35.8283, 3097,   2717.8,   3.0203,  34.9437,2,  34.9406,2,    274.9,2
     06AZ129_1,  AR7E,    14,  1,      3,      3,5,19920919,1538, 59.3033, -35.8283, 3097,   2834.1,   2.8959,  34.9410,2,  34.9385,2,    275.9,2
     06AZ129_1,  AR7E,    14,  1,      2,      2,5,19920919,1538, 59.3033, -35.8283, 3097,   2934.8,   2.7460,  34.9343,2,  34.9306,2,    278.8,2
     06AZ129_1,  AR7E,    14,  1,      1,      1,5,19920919,1538, 59.3033, -35.8283, 3097,   3092.2,   2.3397,  34.9136,2,  34.9084,2,    286.4,2
     06AZ129_1,  AR7E,    15,  1,     22,     22,5,19920919,2130, 59.2333, -35.0000, 2964,     29.8,   7.9949,  34.8036,2,  34.8000,2,    287.0,2
     06AZ129_1,  AR7E,    15,  1,     21,     21,5,19920919,2130, 59.2333, -35.0000, 2964,     96.4,   5.4781,  34.9341,2,  34.9220,2,    282.3,2
     06AZ129_1,  AR7E,    15,  1,     20,     20,5,19920919,2130, 59.2333, -35.0000, 2964,    198.0,   4.6764,  34.8912,2,  34.8892,2,    277.1,2
     06AZ129_1,  AR7E,    15,  1,     19,     19,5,19920919,2130, 59.2333, -35.0000, 2964,    301.6,   4.2776,  34.8848,2,  34.8819,2,    275.1,2
     06AZ129_1,  AR7E,    15,  1,     18,     18,5,19920919,2130, 59.2333, -35.0000, 2964,    395.3,   4.1382,  34.9069,2,  34.9037,2,    273.2,2
     06AZ129_1,  AR7E,    15,  1,     17,     17,5,19920919,2130, 59.2333, -35.0000, 2964,    498.8,   4.0827,  34.9380,2,  34.9302,2,    264.8,2
     06AZ129_1,  AR7E,    15,  1,     16,     16,5,19920919,2130, 59.2333, -35.0000, 2964,    604.8,   3.6785,  34.8979,2,  34.8937,2,    287.5,2
     06AZ129_1,  AR7E,    15,  1,     15,     15,5,19920919,2130, 59.2333, -35.0000, 2964,    704.3,   3.5755,  34.8952,2,  34.8937,2,    288.5,2
     06AZ129_1,  AR7E,    15,  1,     14,     14,5,19920919,2130, 59.2333, -35.0000, 2964,    793.6,   3.5110,  34.8953,2,  34.8913,2,    286.8,2
     06AZ129_1,  AR7E,    15,  1,     13,     13,5,19920919,2130, 59.2333, -35.0000, 2964,    895.3,   3.4461,  34.8946,2,  34.8907,2,    287.1,2
     06AZ129_1,  AR7E,    15,  1,     12,     12,5,19920919,2130, 59.2333, -35.0000, 2964,    999.9,   3.3936,  34.8913,2,  34.8866,2,    287.9,2
     06AZ129_1,  AR7E,    15,  1,     11,     11,5,19920919,2130, 59.2333, -35.0000, 2964,   1102.6,   3.3881,  34.8957,2,  34.8925,2,    285.8,2
     06AZ129_1,  AR7E,    15,  1,     10,     10,5,19920919,2130, 59.2333, -35.0000, 2964,   1512.3,   3.1642,  34.8734,2,  34.8705,2,    290.4,2
     06AZ129_1,  AR7E,    15,  1,      9,      9,5,19920919,2130, 59.2333, -35.0000, 2964,   1661.8,   3.1672,  34.8810,2,  34.8784,2,    288.2,2
     06AZ129_1,  AR7E,    15,  1,      8,      8,5,19920919,2130, 59.2333, -35.0000, 2964,   1811.3,   3.2872,  34.9124,2,  34.9094,2,    280.0,2
     06AZ129_1,  AR7E,    15,  1,      7,      7,5,19920919,2130, 59.2333, -35.0000, 2964,   2012.9,   3.3421,  34.9403,2,  34.9375,2,    275.3,2
     06AZ129_1,  AR7E,    15,  1,      6,      6,5,19920919,2130, 59.2333, -35.0000, 2964,   2116.5,   3.2907,  34.9453,2,  34.9432,2,    273.3,2
     06AZ129_1,  AR7E,    15,  1,      5,      5,5,19920919,2130, 59.2333, -35.0000, 2964,   2218.7,   3.2492,  34.9467,2,  34.9428,2,    273.5,2
     06AZ129_1,  AR7E,    15,  1,      4,      4,5,19920919,2130, 59.2333, -35.0000, 2964,   2433.9,   3.0893,  34.9480,2,  34.9422,2,    274.1,2
     06AZ129_1,  AR7E,    15,  1,      3,      3,5,19920919,2130, 59.2333, -35.0000, 2964,   2525.7,   3.0223,  34.9463,2,  34.9420,2,    274.3,2
     06AZ129_1,  AR7E,    15,  1,      2,      2,5,19920919,2130, 59.2333, -35.0000, 2964,   2729.7,   2.8834,  34.9396,2,  34.9373,2,    276.7,2
     06AZ129_1,  AR7E,    15,  1,      1,      1,5,19920919,2130, 59.2333, -35.0000, 2964,   2828.4,   2.7959,  34.9380,2,  34.9324,2,    277.6,2
     06AZ129_1,  AR7E,    16,  1,     24,     24,5,19920920,0215, 59.1667, -34.3483, 2541,     21.4,   8.1124,  34.7704,2,  34.7633,2,    287.8,2
     06AZ129_1,  AR7E,    16,  1,     23,     23,5,19920920,0215, 59.1667, -34.3483, 2541,     95.7,   4.7324,  34.8518,2,  34.8381,2,    292.1,2
     06AZ129_1,  AR7E,    16,  1,     22,     22,5,19920920,0215, 59.1667, -34.3483, 2541,    193.3,   3.9648,  34.8650,2,  34.8569,2,    287.1,2
     06AZ129_1,  AR7E,    16,  1,     21,     21,5,19920920,0215, 59.1667, -34.3483, 2541,    298.4,   3.7664,  34.8859,2,  34.8801,2,    283.9,2
     06AZ129_1,  AR7E,    16,  1,     20,     20,5,19920920,0215, 59.1667, -34.3483, 2541,    399.1,   3.6390,  34.8909,2,  34.8843,2,    285.1,2
     06AZ129_1,  AR7E,    16,  1,     19,     19,5,19920920,0215, 59.1667, -34.3483, 2541,    499.7,   3.5315,  34.8916,2,  34.8850,2,    284.9,2
     06AZ129_1,  AR7E,    16,  1,     18,     18,5,19920920,0215, 59.1667, -34.3483, 2541,    601.0,   3.4796,  34.8953,2,  34.8901,2,    284.5,2
     06AZ129_1,  AR7E,    16,  1,     17,     17,5,19920920,0215, 59.1667, -34.3483, 2541,    701.7,   3.3901,  34.8917,2,  34.8848,2,    286.6,2
     06AZ129_1,  AR7E,    16,  1,     16,     16,5,19920920,0215, 59.1667, -34.3483, 2541,    800.2,   3.3002,  34.8864,2,  34.8756,3,    291.4,2
     06AZ129_1,  AR7E,    16,  1,     15,     15,5,19920920,0215, 59.1667, -34.3483, 2541,    900.6,   3.2292,  34.8782,2,  34.8711,2,    294.1,2
     06AZ129_1,  AR7E,    16,  1,     14,     14,5,19920920,0215, 59.1667, -34.3483, 2541,    998.8,   3.1867,  34.8746,2,  34.8699,2,    293.7,2
     06AZ129_1,  AR7E,    16,  1,     13,     13,5,19920920,0215, 59.1667, -34.3483, 2541,   1096.9,   3.1452,  34.8704,2,  34.8650,2,    293.7,2
     06AZ129_1,  AR7E,    16,  1,     12,     12,5,19920920,0215, 59.1667, -34.3483, 2541,   1202.9,   3.0953,  34.8655,2,  34.8595,2,    294.7,2
     06AZ129_1,  AR7E,    16,  1,     11,     11,5,19920920,0215, 59.1667, -34.3483, 2541,   1356.1,   3.0473,  34.8601,2,  34.8542,2,    295.4,2
     06AZ129_1,  AR7E,    16,  1,     10,     10,5,19920920,0215, 59.1667, -34.3483, 2541,   1464.9,   3.0603,  34.8647,2,  34.8569,2,    294.2,2
     06AZ129_1,  AR7E,    16,  1,      9,      9,5,19920920,0215, 59.1667, -34.3483, 2541,   1610.1,   3.1682,  34.8887,2,  34.8839,2,    287.2,2
     06AZ129_1,  AR7E,    16,  1,      8,      8,5,19920920,0215, 59.1667, -34.3483, 2541,   1706.0,   3.2547,  34.9135,2,  34.9082,2,    281.4,2
     06AZ129_1,  AR7E,    16,  1,      7,      7,5,19920920,0215, 59.1667, -34.3483, 2541,   1812.2,   3.3072,  34.9373,2,  34.9306,2,    276.4,2
     06AZ129_1,  AR7E,    16,  1,      6,      6,5,19920920,0215, 59.1667, -34.3483, 2541,   2020.3,   3.2512,  34.9460,2,  34.9391,2,    274.8,2
     06AZ129_1,  AR7E,    16,  1,      5,      5,5,19920920,0215, 59.1667, -34.3483, 2541,   2119.3,   3.2162,  34.9512,2,  34.9438,2,    273.8,2
     06AZ129_1,  AR7E,    16,  1,      4,      4,5,19920920,0215, 59.1667, -34.3483, 2541,   2225.3,   3.1637,  34.9505,2,  34.9446,2,    274.0,2
     06AZ129_1,  AR7E,    16,  1,      3,      3,5,19920920,0215, 59.1667, -34.3483, 2541,   2317.7,   3.1083,  34.9512,2,  34.9444,2,    273.8,2
     06AZ129_1,  AR7E,    16,  1,      2,      2,5,19920920,0215, 59.1667, -34.3483, 2541,   2425.3,   3.0598,  34.9521,2,  34.9452,2,    274.0,2
     06AZ129_1,  AR7E,    16,  1,      1,      1,5,19920920,0215, 59.1667, -34.3483, 2541,   2550.1,   3.0023,  34.9501,2,  34.9432,2,    274.7,2
     06AZ129_1,  AR7E,    17,  1,     22,     22,5,19920920,0643, 59.1033, -33.7500, 2231,    194.9,   3.9678,  34.8646,2,  34.8581,2,    286.9,2
     06AZ129_1,  AR7E,    17,  1,     21,     21,5,19920920,0643, 59.1033, -33.7500, 2231,    297.9,   3.7729,  34.8804,2,  34.8733,2,    284.2,2
     06AZ129_1,  AR7E,    17,  1,     20,     20,5,19920920,0643, 59.1033, -33.7500, 2231,    394.6,   3.7114,  34.8950,2,  34.8884,2,    281.6,2
     06AZ129_1,  AR7E,    17,  1,     19,     19,5,19920920,0643, 59.1033, -33.7500, 2231,    494.4,   3.6455,  34.8998,2,  34.8937,2,    280.3,2
     06AZ129_1,  AR7E,    17,  1,     18,     18,5,19920920,0643, 59.1033, -33.7500, 2231,    600.9,   3.5750,  34.9026,2,  34.8958,2,    280.1,2
     06AZ129_1,  AR7E,    17,  1,     17,     17,5,19920920,0643, 59.1033, -33.7500, 2231,    698.3,   3.5270,  34.9057,2,  34.8992,2,    280.5,2
     06AZ129_1,  AR7E,    17,  1,     16,     16,5,19920920,0643, 59.1033, -33.7500, 2231,    799.2,   3.4741,  34.9055,2,  34.8994,2,    281.0,2
     06AZ129_1,  AR7E,    17,  1,     15,     15,5,19920920,0643, 59.1033, -33.7500, 2231,    900.4,   3.4081,  34.9036,2,  34.8974,2,    282.9,2
     06AZ129_1,  AR7E,    17,  1,     14,     14,5,19920920,0643, 59.1033, -33.7500, 2231,    978.3,   3.3786,  34.9029,2,  34.8960,2,    284.1,2
     06AZ129_1,  AR7E,    17,  1,     13,     13,5,19920920,0643, 59.1033, -33.7500, 2231,   1100.4,   3.3166,  34.8986,2,  34.8933,2,    285.4,2
     06AZ129_1,  AR7E,    17,  1,     12,     12,5,19920920,0643, 59.1033, -33.7500, 2231,   1206.4,   3.2807,  34.9005,2,  34.8945,2,    285.1,2
     06AZ129_1,  AR7E,    17,  1,     11,     11,5,19920920,0643, 59.1033, -33.7500, 2231,   1305.9,   3.2637,  34.9040,2,  34.8956,2,    284.2,2
     06AZ129_1,  AR7E,    17,  1,     10,     10,5,19920920,0643, 59.1033, -33.7500, 2231,   1406.7,   3.2792,  34.9108,2,  34.9041,2,    282.4,2
     06AZ129_1,  AR7E,    17,  1,      9,      9,5,19920920,0643, 59.1033, -33.7500, 2231,   1507.7,   3.2847,  34.9166,2,  34.9057,3,    281.2,2
     06AZ129_1,  AR7E,    17,  1,      8,      8,5,19920920,0643, 59.1033, -33.7500, 2231,   1608.5,   3.3012,  34.9303,2,  34.9239,2,    278.0,2
     06AZ129_1,  AR7E,    17,  1,      7,      7,5,19920920,0643, 59.1033, -33.7500, 2231,   1712.4,   3.3171,  34.9456,2,  34.9393,2,    275.2,2
     06AZ129_1,  AR7E,    17,  1,      6,      6,5,19920920,0643, 59.1033, -33.7500, 2231,   1813.2,   3.2592,  34.9494,2,  34.9430,2,    274.4,2
     06AZ129_1,  AR7E,    17,  1,      5,      5,5,19920920,0643, 59.1033, -33.7500, 2231,   1911.1,   3.2027,  34.9510,2,  34.9450,2,    274.4,2
     06AZ129_1,  AR7E,    17,  1,      4,      4,5,19920920,0643, 59.1033, -33.7500, 2231,   2018.7,   3.1592,  34.9523,2,  34.9458,2,    274.2,2
     06AZ129_1,  AR7E,    17,  1,      3,      3,5,19920920,0643, 59.1033, -33.7500, 2231,   2118.4,   3.0898,  34.9530,2,  34.9450,2,    274.0,2
     06AZ129_1,  AR7E,    17,  1,      2,      2,5,19920920,0643, 59.1033, -33.7500, 2231,   2220.5,   3.0553,  34.9529,2,  34.9460,2,    274.1,2
     06AZ129_1,  AR7E,    17,  1,      1,      1,5,19920920,0643, 59.1033, -33.7500, 2231,   2287.8,   3.0558,  34.9528,2,  34.9444,2,    274.5,2
     06AZ129_1,  AR7E,    18,  1,     23,     23,5,19920920,1100, 59.0183, -33.0167, 2320,     16.1,   8.0139,  34.7431,2,  34.7360,2,    287.2,2
     06AZ129_1,  AR7E,    18,  1,     22,     22,5,19920920,1100, 59.0183, -33.0167, 2320,     98.5,   5.1422,  34.8784,2,  34.8744,2,    284.1,2
     06AZ129_1,  AR7E,    18,  1,     21,     21,5,19920920,1100, 59.0183, -33.0167, 2320,    198.7,   4.6979,  34.8927,2,  34.8864,2,    276.8,2
     06AZ129_1,  AR7E,    18,  1,     20,     20,5,19920920,1100, 59.0183, -33.0167, 2320,    297.7,   4.1742,  34.8830,2,  34.8776,2,    278.3,2
     06AZ129_1,  AR7E,    18,  1,     19,     19,5,19920920,1100, 59.0183, -33.0167, 2320,    498.0,   3.7769,  34.9000,2,  34.8927,2,    281.1,2
     06AZ129_1,  AR7E,    18,  1,     18,     18,5,19920920,1100, 59.0183, -33.0167, 2320,    499.2,   3.7799,  34.8985,2,  34.8945,2,    281.1,2
     06AZ129_1,  AR7E,    18,  1,     17,     17,5,19920920,1100, 59.0183, -33.0167, 2320,    600.6,   3.5875,  34.8918,2,  34.8882,2,    287.5,2
     06AZ129_1,  AR7E,    18,  1,     16,     16,5,19920920,1100, 59.0183, -33.0167, 2320,    699.7,   3.4691,  34.8865,2,  34.8815,2,    288.8,2
     06AZ129_1,  AR7E,    18,  1,     15,     15,5,19920920,1100, 59.0183, -33.0167, 2320,    801.3,   3.4341,  34.8907,2,  34.8852,2,    288.0,2
     06AZ129_1,  AR7E,    18,  1,     14,     14,5,19920920,1100, 59.0183, -33.0167, 2320,    901.2,   3.3931,  34.8916,2,  34.8874,2,    289.2,2
     06AZ129_1,  AR7E,    18,  1,     13,     13,5,19920920,1100, 59.0183, -33.0167, 2320,   1002.4,   3.2837,  34.8812,2,  34.8742,2,    291.9,2
     06AZ129_1,  AR7E,    18,  1,     12,     12,5,19920920,1100, 59.0183, -33.0167, 2320,   1104.0,   3.2217,  34.8755,2,  34.8689,2,    293.7,2
     06AZ129_1,  AR7E,    18,  1,     11,     11,5,19920920,1100, 59.0183, -33.0167, 2320,   1202.0,   3.1932,  34.8735,2,  34.8689,2,   -999.0,5
     06AZ129_1,  AR7E,    18,  1,     10,     10,5,19920920,1100, 59.0183, -33.0167, 2320,   1304.0,   3.1452,  34.8701,2,  34.8626,2,    293.7,2
     06AZ129_1,  AR7E,    18,  1,      9,      9,5,19920920,1100, 59.0183, -33.0167, 2320,   1505.7,   3.0768,  34.8616,2,  34.8571,2,    294.5,2
     06AZ129_1,  AR7E,    18,  1,      8,      8,5,19920920,1100, 59.0183, -33.0167, 2320,   1607.9,   3.1392,  34.8703,2,  34.8717,3,    290.6,2
     06AZ129_1,  AR7E,    18,  1,      7,      7,5,19920920,1100, 59.0183, -33.0167, 2320,   1702.4,   3.3181,  34.9125,2,  34.9072,2,    281.9,2
     06AZ129_1,  AR7E,    18,  1,      6,      6,5,19920920,1100, 59.0183, -33.0167, 2320,   1790.5,   3.3341,  34.9228,2,  34.9163,2,    279.5,2
     06AZ129_1,  AR7E,    18,  1,      5,      5,5,19920920,1100, 59.0183, -33.0167, 2320,   1881.3,   3.3366,  34.9309,2,  34.9247,2,    277.7,2
     06AZ129_1,  AR7E,    18,  1,      4,      4,5,19920920,1100, 59.0183, -33.0167, 2320,   2014.9,   3.3012,  34.9410,2,  34.9357,2,    274.9,2
     06AZ129_1,  AR7E,    18,  1,      3,      3,5,19920920,1100, 59.0183, -33.0167, 2320,   2108.0,   3.2992,  34.9439,2,  34.9399,2,    275.0,2
     06AZ129_1,  AR7E,    18,  1,      2,      2,5,19920920,1100, 59.0183, -33.0167, 2320,   2221.0,   3.2807,  34.9468,2,  34.9444,2,    274.6,2
     06AZ129_1,  AR7E,    18,  1,      1,      1,5,19920920,1100, 59.0183, -33.0167, 2320,   2323.4,   3.2742,  34.9472,2,  34.9448,2,    274.3,2
     06AZ129_1,  AR7E,    19,  1,     17,     17,5,19920920,1545, 58.9400, -32.1300, 1623,     22.8,   8.9375,  34.8732,2,  34.8632,2,    279.7,2
     06AZ129_1,  AR7E,    19,  1,     16,     16,5,19920920,1545, 58.9400, -32.1300, 1623,     98.2,   6.9704,  34.9569,2,  34.9477,2,    267.9,2
     06AZ129_1,  AR7E,    19,  1,     15,     15,5,19920920,1545, 58.9400, -32.1300, 1623,    198.4,   6.4906,  35.0268,2,  35.0173,2,    260.4,2
     06AZ129_1,  AR7E,    19,  1,     14,     14,5,19920920,1545, 58.9400, -32.1300, 1623,    299.6,   5.9208,  34.9810,2,  34.9729,2,    281.9,2
     06AZ129_1,  AR7E,    19,  1,     13,     13,5,19920920,1545, 58.9400, -32.1300, 1623,    399.3,   5.9243,  35.0058,2,  34.9986,2,    277.5,2
     06AZ129_1,  AR7E,    19,  1,     12,     12,5,19920920,1545, 58.9400, -32.1300, 1623,    501.1,   5.6315,  34.9941,2,  34.9843,2,    264.7,2
     06AZ129_1,  AR7E,    19,  1,     11,     11,5,19920920,1545, 58.9400, -32.1300, 1623,    601.7,   5.4236,  35.0232,2,  35.0142,2,    250.8,2
     06AZ129_1,  AR7E,    19,  1,     10,     10,5,19920920,1545, 58.9400, -32.1300, 1623,    699.7,   5.1087,  35.0044,2,  34.9965,2,    249.6,2
     06AZ129_1,  AR7E,    19,  1,      9,      9,5,19920920,1545, 58.9400, -32.1300, 1623,    801.8,   4.4970,  34.9636,2,  34.9597,2,    259.0,2
     06AZ129_1,  AR7E,    19,  1,      8,      8,5,19920920,1545, 58.9400, -32.1300, 1623,    902.8,   4.0608,  34.9469,2,  34.9371,2,    265.1,2
     06AZ129_1,  AR7E,    19,  1,      7,      7,5,19920920,1545, 58.9400, -32.1300, 1623,   1004.7,   3.9273,  34.9413,2,  34.9342,2,    267.8,2
     06AZ129_1,  AR7E,    19,  1,      6,      6,5,19920920,1545, 58.9400, -32.1300, 1623,   1104.3,   3.8829,  34.9589,2,  34.9489,2,    269.4,2
     06AZ129_1,  AR7E,    19,  1,      5,      5,5,19920920,1545, 58.9400, -32.1300, 1623,   1206.0,   3.7919,  34.9564,2,  34.9477,2,    270.8,2
     06AZ129_1,  AR7E,    19,  1,      4,      4,5,19920920,1545, 58.9400, -32.1300, 1623,   1308.9,   3.7624,  34.9560,2,  34.9479,2,    271.6,2
     06AZ129_1,  AR7E,    19,  1,      3,      3,5,19920920,1545, 58.9400, -32.1300, 1623,   1407.1,   3.7509,  34.9546,2,  34.9475,2,    271.6,2
     06AZ129_1,  AR7E,    19,  1,      2,      2,5,19920920,1545, 58.9400, -32.1300, 1623,   1510.1,   3.6969,  34.9523,2,  34.9473,2,    273.0,2
     06AZ129_1,  AR7E,    19,  1,      1,      1,5,19920920,1545, 58.9400, -32.1300, 1623,   1606.0,   3.5590,  34.9441,2,  34.9346,2,    274.9,2