BOTTLE,20010509WHPSIOKJU
EXPOCODE,SECT_ID,STNNBR,CASTNO,SAMPNO,BTLNBR,BTLNBR_FLAG_W,DATE,TIME,LATITUDE,LONGITUDE,DEPTH,CTDPRS,CTDTMP,CTDSAL,CTDSAL_FLAG_W,SALNTY,SALNTY_FLAG_W,OXYGEN,OXYGEN_FLAG_W
,,,,,,,,,,,,DBAR,ITS-90,PSS-78,,PSS-78,,UMOL/KG,
     06AZ129_1,  AR7E,     9,  1,     23,     23,5,19920916,1930, 59.7833, -40.2217, 2606,      7.0,   7.7016,  34.7721,2,  34.7713,2,    294.5,2
     06AZ129_1,  AR7E,     9,  1,     22,     22,5,19920916,1930, 59.7833, -40.2217, 2606,     96.4,   4.3541,  34.8905,2,  34.8884,2,    288.3,2
     06AZ129_1,  AR7E,     9,  1,     21,     21,5,19920916,1930, 59.7833, -40.2217, 2606,    201.9,   3.8434,  34.9052,2,  34.9037,2,    291.1,2
     06AZ129_1,  AR7E,     9,  1,     20,     20,5,19920916,1930, 59.7833, -40.2217, 2606,    295.8,   3.6964,  34.9010,2,  34.9000,2,    292.5,2
     06AZ129_1,  AR7E,     9,  1,     19,     19,5,19920916,1930, 59.7833, -40.2217, 2606,    398.0,   3.5785,  34.8950,2,  34.8921,2,    295.9,2
     06AZ129_1,  AR7E,     9,  1,     18,     18,5,19920916,1930, 59.7833, -40.2217, 2606,    501.6,   3.5015,  34.8915,2,  34.8909,2,    292.7,2
     06AZ129_1,  AR7E,     9,  1,     17,     17,5,19920916,1930, 59.7833, -40.2217, 2606,    598.8,   3.4106,  34.8861,2,  34.8850,2,    291.2,2
     06AZ129_1,  AR7E,     9,  1,     16,     16,5,19920916,1930, 59.7833, -40.2217, 2606,    800.7,   3.3131,  34.8795,2,  34.8801,2,    290.3,2
     06AZ129_1,  AR7E,     9,  1,     15,     15,5,19920916,1930, 59.7833, -40.2217, 2606,   1008.3,   3.2062,  34.8682,2,  34.8687,2,    294.3,2
     06AZ129_1,  AR7E,     9,  1,     14,     14,5,19920916,1930, 59.7833, -40.2217, 2606,   1205.8,   3.1252,  34.8610,2,  34.8607,2,    293.9,2
     06AZ129_1,  AR7E,     9,  1,     13,     13,5,19920916,1930, 59.7833, -40.2217, 2606,   1307.9,   3.0908,  34.8600,2,  34.8597,2,    293.9,2
     06AZ129_1,  AR7E,     9,  1,     12,     12,5,19920916,1930, 59.7833, -40.2217, 2606,   1409.2,   3.0908,  34.8616,2,  34.8626,2,    292.3,2
     06AZ129_1,  AR7E,     9,  1,     11,     11,5,19920916,1930, 59.7833, -40.2217, 2606,   1507.9,   3.1452,  34.8765,2,  34.8762,2,    290.3,2
     06AZ129_1,  AR7E,     9,  1,     10,     10,5,19920916,1930, 59.7833, -40.2217, 2606,   1605.9,   3.2242,  34.8972,2,  34.8976,2,    283.2,2
     06AZ129_1,  AR7E,     9,  1,      9,      9,5,19920916,1930, 59.7833, -40.2217, 2606,   1711.4,   3.2537,  34.9155,2,-999.0000,5,    279.6,2
     06AZ129_1,  AR7E,     9,  1,      8,      8,5,19920916,1930, 59.7833, -40.2217, 2606,   1814.9,   3.2402,  34.9294,2,  34.9283,2,    276.6,2
     06AZ129_1,  AR7E,     9,  1,      7,      7,5,19920916,1930, 59.7833, -40.2217, 2606,   1915.9,   3.1362,  34.9295,2,  34.9291,2,    277.1,2
     06AZ129_1,  AR7E,     9,  1,      6,      6,5,19920916,1930, 59.7833, -40.2217, 2606,   2019.3,   3.0183,  34.9303,2,  34.9291,2,    277.6,2
     06AZ129_1,  AR7E,     9,  1,      5,      5,5,19920916,1930, 59.7833, -40.2217, 2606,   2119.5,   2.9244,  34.9327,2,  34.9318,2,    277.3,2
     06AZ129_1,  AR7E,     9,  1,      4,      4,5,19920916,1930, 59.7833, -40.2217, 2606,   2222.6,   2.7889,  34.9335,2,  34.9332,2,    277.3,2
     06AZ129_1,  AR7E,     9,  1,      3,      3,5,19920916,1930, 59.7833, -40.2217, 2606,   2324.7,   2.4596,  34.9044,2,  34.9008,2,    287.2,2
     06AZ129_1,  AR7E,     9,  1,      2,      2,5,19920916,1930, 59.7833, -40.2217, 2606,   2425.0,   2.0124,  34.8862,2,  34.8857,2,    293.3,2
     06AZ129_1,  AR7E,     9,  1,      1,      1,5,19920916,1930, 59.7833, -40.2217, 2606,   2527.4,   1.6141,  34.8812,2,  34.8803,2,    297.6,2
     06AZ129_1,  AR7E,     9,  1,     24,     24,5,19920916,1930, 59.7833, -40.2217, 2606,   2615.7,   1.6081,  34.8813,2,  34.8801,2,    296.0,2
     06AZ129_1,  AR7E,    10,  1,     23,     23,5,19920917,0110, 59.7033, -39.5850, 2786,     17.1,   7.4257,  34.7164,2,  34.7142,2,    295.0,2
     06AZ129_1,  AR7E,    10,  1,     22,     22,5,19920917,0110, 59.7033, -39.5850, 2786,     97.1,   3.9548,  34.8543,2,  34.8440,2,    292.3,2
     06AZ129_1,  AR7E,    10,  1,     21,     21,5,19920917,0110, 59.7033, -39.5850, 2786,    197.1,   3.6500,  34.8774,2,  34.8756,2,    289.9,2
     06AZ129_1,  AR7E,    10,  1,     20,     20,5,19920917,0110, 59.7033, -39.5850, 2786,    299.3,   3.3771,  34.8671,2,  34.8632,2,    293.6,2
     06AZ129_1,  AR7E,    10,  1,     19,     19,5,19920917,0110, 59.7033, -39.5850, 2786,    398.7,   3.3541,  34.8714,2,  34.8658,2,    294.9,2
     06AZ129_1,  AR7E,    10,  1,     18,     18,5,19920917,0110, 59.7033, -39.5850, 2786,    500.1,   3.3141,  34.8714,2,  34.8701,2,    292.8,2
     06AZ129_1,  AR7E,    10,  1,     17,     17,5,19920917,0110, 59.7033, -39.5850, 2786,    600.3,   3.2272,  34.8659,2,  34.8658,2,    293.7,2
     06AZ129_1,  AR7E,    10,  1,     16,     16,5,19920917,0110, 59.7033, -39.5850, 2786,    802.6,   3.1223,  34.8560,2,  34.8567,2,    295.9,2
     06AZ129_1,  AR7E,    10,  1,     15,     15,5,19920917,0110, 59.7033, -39.5850, 2786,    897.7,   3.0988,  34.8575,2,  34.8567,2,    296.7,2
     06AZ129_1,  AR7E,    10,  1,     14,     14,5,19920917,0110, 59.7033, -39.5850, 2786,   1003.2,   3.0678,  34.8547,2,  34.8554,2,    296.8,2
     06AZ129_1,  AR7E,    10,  1,     13,     13,5,19920917,0110, 59.7033, -39.5850, 2786,   1104.6,   3.0523,  34.8535,2,  34.8530,2,    296.2,2
     06AZ129_1,  AR7E,    10,  1,     12,     12,5,19920917,0110, 59.7033, -39.5850, 2786,   1206.8,   3.0358,  34.8546,2,  34.8538,2,    296.1,2
     06AZ129_1,  AR7E,    10,  1,     11,     11,5,19920917,0110, 59.7033, -39.5850, 2786,   1306.2,   2.9733,  34.8450,2,  34.8452,2,    298.2,2
     06AZ129_1,  AR7E,    10,  1,     10,     10,5,19920917,0110, 59.7033, -39.5850, 2786,   1408.1,   2.9833,  34.8465,2,  34.8481,2,    296.6,2
     06AZ129_1,  AR7E,    10,  1,      9,      9,5,19920917,0110, 59.7033, -39.5850, 2786,   1511.2,   2.9903,  34.8509,2,  34.8512,2,    295.1,2
     06AZ129_1,  AR7E,    10,  1,      8,      8,5,19920917,0110, 59.7033, -39.5850, 2786,   1714.0,   3.1932,  34.8983,2,  34.8978,2,    282.4,2
     06AZ129_1,  AR7E,    10,  1,      7,      7,5,19920917,0110, 59.7033, -39.5850, 2786,   1916.8,   3.2087,  34.9335,2,  34.9320,2,    276.2,2
     06AZ129_1,  AR7E,    10,  1,      6,      6,5,19920917,0110, 59.7033, -39.5850, 2786,   2122.6,   3.0183,  34.9346,2,  34.9340,2,    275.6,2
     06AZ129_1,  AR7E,    10,  1,      5,      5,5,19920917,0110, 59.7033, -39.5850, 2786,   2324.9,   2.8684,  34.9387,2,  34.9379,2,    275.8,2
     06AZ129_1,  AR7E,    10,  1,      4,      4,5,19920917,0110, 59.7033, -39.5850, 2786,   2424.9,   2.7664,  34.9373,2,  34.9359,2,    276.3,2
     06AZ129_1,  AR7E,    10,  1,      3,      3,5,19920917,0110, 59.7033, -39.5850, 2786,   2528.1,   2.6375,  34.9320,2,-999.0000,9,    277.8,2
     06AZ129_1,  AR7E,    10,  1,      2,      2,5,19920917,0110, 59.7033, -39.5850, 2786,   2629.0,   2.3647,  34.9165,2,  34.9137,2,    283.2,2
     06AZ129_1,  AR7E,    10,  1,      1,      1,5,19920917,0110, 59.7033, -39.5850, 2786,   2731.0,   1.8330,  34.8918,2,  34.8900,2,    296.1,2
     06AZ129_1,  AR7E,    10,  1,     24,     24,5,19920917,0110, 59.7033, -39.5850, 2786,   2804.5,   1.3592,  34.8878,2,  34.8884,2,    295.9,2
     06AZ129_1,  AR7E,    11,  1,     24,     24,5,19920917,0745, 59.6000, -38.5867, 2989,    617.6,   3.3201,  34.8754,2,  34.8734,2,    292.5,2
     06AZ129_1,  AR7E,    11,  1,     23,     23,5,19920917,0745, 59.6000, -38.5867, 2989,   1002.5,   3.1013,  34.8579,2,  34.8509,2,    296.1,2
     06AZ129_1,  AR7E,    11,  1,     11,     11,5,19920917,0745, 59.6000, -38.5867, 2989,   1487.1,   3.0038,  34.8499,2,  34.8489,2,    297.2,2
     06AZ129_1,  AR7E,    11,  1,     17,     17,5,19920917,0745, 59.6000, -38.5867, 2989,   1487.6,   3.0043,  34.8503,2,  34.8487,2,    296.8,2
     06AZ129_1,  AR7E,    11,  1,     10,     10,5,19920917,0745, 59.6000, -38.5867, 2989,   1487.7,   3.0043,  34.8491,2,  34.8491,2,    297.8,2
     06AZ129_1,  AR7E,    11,  1,     18,     18,5,19920917,0745, 59.6000, -38.5867, 2989,   1487.8,   3.0043,  34.8502,2,  34.8479,2,    296.6,2
     06AZ129_1,  AR7E,    11,  1,     19,     19,5,19920917,0745, 59.6000, -38.5867, 2989,   1488.4,   3.0048,  34.8494,2,  34.8487,2,    297.7,2
     06AZ129_1,  AR7E,    11,  1,     16,     16,5,19920917,0745, 59.6000, -38.5867, 2989,   1488.4,   3.0038,  34.8504,2,  34.8489,2,    296.2,2
     06AZ129_1,  AR7E,    11,  1,      9,      9,5,19920917,0745, 59.6000, -38.5867, 2989,   1488.4,   3.0038,  34.8492,2,  34.8489,2,    297.4,2
     06AZ129_1,  AR7E,    11,  1,      4,      4,5,19920917,0745, 59.6000, -38.5867, 2989,   1488.9,   3.0038,  34.8502,2,  34.8491,2,    297.7,2
     06AZ129_1,  AR7E,    11,  1,     20,     20,5,19920917,0745, 59.6000, -38.5867, 2989,   1489.0,   3.0033,  34.8495,2,  34.8487,2,    296.8,2
     06AZ129_1,  AR7E,    11,  1,      7,      7,5,19920917,0745, 59.6000, -38.5867, 2989,   1489.0,   3.0033,  34.8495,2,  34.8491,2,    297.7,2
     06AZ129_1,  AR7E,    11,  1,      3,      3,5,19920917,0745, 59.6000, -38.5867, 2989,   1489.1,   3.0038,  34.8501,2,  34.8487,2,    298.0,2
     06AZ129_1,  AR7E,    11,  1,     21,     21,5,19920917,0745, 59.6000, -38.5867, 2989,   1489.2,   3.0033,  34.8506,2,  34.8475,2,    296.3,2
     06AZ129_1,  AR7E,    11,  1,     13,     13,5,19920917,0745, 59.6000, -38.5867, 2989,   1489.2,   3.0028,  34.8499,2,  34.8487,2,    297.0,2
     06AZ129_1,  AR7E,    11,  1,     14,     14,5,19920917,0745, 59.6000, -38.5867, 2989,   1489.3,   3.0033,  34.8505,2,  34.8487,2,    297.5,2
     06AZ129_1,  AR7E,    11,  1,     12,     12,5,19920917,0745, 59.6000, -38.5867, 2989,   1489.3,   3.0038,  34.8500,2,  34.8487,2,    297.0,2
     06AZ129_1,  AR7E,    11,  1,      6,      6,5,19920917,0745, 59.6000, -38.5867, 2989,   1489.4,   3.0038,  34.8499,2,  34.8485,2,    297.6,2
     06AZ129_1,  AR7E,    11,  1,     15,     15,5,19920917,0745, 59.6000, -38.5867, 2989,   1489.6,   3.0038,  34.8498,2,  34.8487,2,    297.6,2
     06AZ129_1,  AR7E,    11,  1,      5,      5,5,19920917,0745, 59.6000, -38.5867, 2989,   1489.6,   3.0043,  34.8493,2,  34.8483,2,    297.7,2
     06AZ129_1,  AR7E,    11,  1,     22,     22,5,19920917,0745, 59.6000, -38.5867, 2989,   1489.8,   3.0013,  34.8500,2,  34.8487,2,    296.8,2
     06AZ129_1,  AR7E,    11,  1,      8,      8,5,19920917,0745, 59.6000, -38.5867, 2989,   1489.9,   3.0028,  34.8495,2,  34.8491,2,    297.2,2
     06AZ129_1,  AR7E,    11,  1,      2,      2,5,19920917,0745, 59.6000, -38.5867, 2989,   1490.2,   3.0043,  34.8502,2,  34.8491,2,    297.6,2
     06AZ129_1,  AR7E,    11,  1,      1,      1,5,19920917,0745, 59.6000, -38.5867, 2989,   1490.5,   3.0048,  34.8495,2,  34.8487,2,    298.5,2
     06AZ129_1,  AR7E,    12,  1,     24,     24,5,19920917,1420, 59.5083, -37.6400, 3105,    598.5,   3.4531,  34.8854,2,  34.8782,2,    291.5,2
     06AZ129_1,  AR7E,    12,  1,     23,     23,5,19920917,1420, 59.5083, -37.6400, 3105,    701.4,   3.3766,  34.8823,2,  34.8807,2,    295.4,2
     06AZ129_1,  AR7E,    12,  1,     22,     22,5,19920917,1420, 59.5083, -37.6400, 3105,    701.5,   3.3761,  34.8828,2,  34.8789,2,    293.7,2
     06AZ129_1,  AR7E,    12,  1,     21,     21,5,19920917,1420, 59.5083, -37.6400, 3105,    801.2,   3.3261,  34.8798,2,  34.8778,2,    295.4,2
     06AZ129_1,  AR7E,    12,  1,     20,     20,5,19920917,1420, 59.5083, -37.6400, 3105,    900.4,   3.2637,  34.8763,2,  34.8733,2,    296.2,2
     06AZ129_1,  AR7E,    12,  1,     19,     19,5,19920917,1420, 59.5083, -37.6400, 3105,   1002.6,   3.2242,  34.8724,2,  34.8699,2,    296.4,2
     06AZ129_1,  AR7E,    12,  1,     18,     18,5,19920917,1420, 59.5083, -37.6400, 3105,   1103.0,   3.1752,  34.8678,2,  34.8648,2,    296.5,2
     06AZ129_1,  AR7E,    12,  1,     17,     17,5,19920917,1420, 59.5083, -37.6400, 3105,   1205.1,   3.1277,  34.8623,2,  34.8591,2,   -999.0,5
     06AZ129_1,  AR7E,    12,  1,     16,     16,5,19920917,1420, 59.5083, -37.6400, 3105,   1311.2,   3.0828,  34.8560,2,  34.8548,2,   -999.0,5
     06AZ129_1,  AR7E,    12,  1,     15,     15,5,19920917,1420, 59.5083, -37.6400, 3105,   1408.9,   3.0783,  34.8594,2,  34.8548,2,    297.2,2
     06AZ129_1,  AR7E,    12,  1,     14,     14,5,19920917,1420, 59.5083, -37.6400, 3105,   1511.2,   3.0688,  34.8577,2,  34.8548,2,    296.7,2
     06AZ129_1,  AR7E,    12,  1,     13,     13,5,19920917,1420, 59.5083, -37.6400, 3105,   1611.7,   3.0643,  34.8592,2,  34.8552,2,    295.4,2
     06AZ129_1,  AR7E,    12,  1,     11,     11,5,19920917,1420, 59.5083, -37.6400, 3105,   1711.0,   3.0358,  34.8546,2,  34.8514,2,    296.6,2
     06AZ129_1,  AR7E,    12,  1,     10,     10,5,19920917,1420, 59.5083, -37.6400, 3105,   1915.4,   3.1597,  34.8821,2,  34.8778,2,    296.6,2
     06AZ129_1,  AR7E,    12,  1,      9,      9,5,19920917,1420, 59.5083, -37.6400, 3105,   2016.4,   3.2572,  34.9082,2,  34.9037,2,    288.5,2
     06AZ129_1,  AR7E,    12,  1,      8,      8,5,19920917,1420, 59.5083, -37.6400, 3105,   2214.7,   3.2832,  34.9340,2,  34.9318,2,    282.7,2
     06AZ129_1,  AR7E,    12,  1,      7,      7,5,19920917,1420, 59.5083, -37.6400, 3105,   2422.4,   3.1223,  34.9364,2,  34.9346,2,    277.4,2
     06AZ129_1,  AR7E,    12,  1,      5,      5,5,19920917,1420, 59.5083, -37.6400, 3105,   2630.7,   2.9843,  34.9416,2,  34.9401,2,    276.4,2
     06AZ129_1,  AR7E,    12,  1,      4,      4,5,19920917,1420, 59.5083, -37.6400, 3105,   2831.2,   2.7884,  34.9351,2,  34.9340,2,    278.2,2
     06AZ129_1,  AR7E,    12,  1,      3,      3,5,19920917,1420, 59.5083, -37.6400, 3105,   2931.4,   2.6025,  34.9232,2,  34.9235,2,    283.5,2
     06AZ129_1,  AR7E,    12,  1,      2,      2,5,19920917,1420, 59.5083, -37.6400, 3105,   3033.4,   2.1423,  34.9028,2,  34.9006,2,    291.0,2
     06AZ129_1,  AR7E,    12,  1,      1,      1,5,19920917,1420, 59.5083, -37.6400, 3105,   3137.0,   1.3507,  34.8883,2,  34.8864,2,    301.8,2
     06AZ129_1,  AR7E,    13,  2,      3,      3,5,19920919,1012, 59.4100, -36.6500, 3114,     21.0,   7.5746,  34.7654,2,  34.7601,2,    289.0,2
     06AZ129_1,  AR7E,    13,  2,      2,      2,5,19920919,1012, 59.4100, -36.6500, 3114,     95.3,   5.1527,  34.8021,2,  34.7957,2,    288.3,2
     06AZ129_1,  AR7E,    13,  2,      1,      1,5,19920919,1012, 59.4100, -36.6500, 3114,    196.6,   4.5740,  34.8536,2,  34.8577,2,    284.6,2
     06AZ129_1,  AR7E,    13,  2,     24,     24,5,19920919,1012, 59.4100, -36.6500, 3114,    296.7,   4.1887,  34.8717,2,  34.8697,2,    283.3,2
     06AZ129_1,  AR7E,    13,  2,     23,     23,5,19920919,1012, 59.4100, -36.6500, 3114,    392.1,   3.8968,  34.8766,2,  34.8691,2,    283.1,2
     06AZ129_1,  AR7E,    13,  2,     22,     22,5,19920919,1012, 59.4100, -36.6500, 3114,    497.5,   3.8339,  34.9016,2,  34.8951,2,    283.9,2
     06AZ129_1,  AR7E,    13,  2,     21,     21,5,19920919,1012, 59.4100, -36.6500, 3114,    589.7,   3.6470,  34.8904,2,  34.8870,2,    287.0,2
     06AZ129_1,  AR7E,    13,  2,     20,     20,5,19920919,1012, 59.4100, -36.6500, 3114,    698.6,   3.5275,  34.8871,2,  34.8837,2,    290.2,2
     06AZ129_1,  AR7E,    13,  2,     19,     19,5,19920919,1012, 59.4100, -36.6500, 3114,    799.5,   3.4696,  34.8897,2,  34.8854,2,    289.7,2
     06AZ129_1,  AR7E,    13,  2,     18,     18,5,19920919,1012, 59.4100, -36.6500, 3114,    896.7,   3.4046,  34.8877,2,  34.8846,2,    289.6,2
     06AZ129_1,  AR7E,    13,  2,     17,     17,5,19920919,1012, 59.4100, -36.6500, 3114,   1107.7,   3.2167,  34.8705,2,  34.8670,2,    295.0,2
     06AZ129_1,  AR7E,    13,  2,     16,     16,5,19920919,1012, 59.4100, -36.6500, 3114,   1303.3,   3.1502,  34.8652,2,  34.8615,2,    294.0,2
     06AZ129_1,  AR7E,    13,  2,     15,     15,5,19920919,1012, 59.4100, -36.6500, 3114,   1509.8,   3.0548,  34.8528,2,  34.8495,2,    298.1,2
     06AZ129_1,  AR7E,    13,  2,     14,     14,5,19920919,1012, 59.4100, -36.6500, 3114,   1678.6,   3.1562,  34.8760,2,  34.8689,2,    291.8,2
     06AZ129_1,  AR7E,    13,  2,     13,     13,5,19920919,1012, 59.4100, -36.6500, 3114,   1731.1,   3.2042,  34.8830,2,  34.8811,2,    287.9,2
     06AZ129_1,  AR7E,    13,  2,     12,     12,5,19920919,1012, 59.4100, -36.6500, 3114,   1952.3,   3.3082,  34.9173,2,  34.9149,2,    278.7,2
     06AZ129_1,  AR7E,    13,  2,     11,     11,5,19920919,1012, 59.4100, -36.6500, 3114,   2218.7,   3.3306,  34.9463,2,  34.9450,2,    274.1,2
     06AZ129_1,  AR7E,    13,  2,     10,     10,5,19920919,1012, 59.4100, -36.6500, 3114,   2421.5,   3.1927,  34.9469,2,  34.9424,2,    274.1,2
     06AZ129_1,  AR7E,    13,  2,      9,      9,5,19920919,1012, 59.4100, -36.6500, 3114,   2627.8,   3.0413,  34.9460,2,  34.9430,2,    274.4,2
     06AZ129_1,  AR7E,    13,  2,      8,      8,5,19920919,1012, 59.4100, -36.6500, 3114,   2731.3,   2.9413,  34.9445,2,  34.9393,2,    275.5,2
     06AZ129_1,  AR7E,    13,  2,      7,      7,5,19920919,1012, 59.4100, -36.6500, 3114,   2830.4,   2.8314,  34.9403,2,  34.9361,2,    277.4,2
     06AZ129_1,  AR7E,    13,  2,      6,      6,5,19920919,1012, 59.4100, -36.6500, 3114,   2932.4,   2.6520,  34.9316,2,  34.9285,2,    279.2,2
     06AZ129_1,  AR7E,    13,  2,      5,      5,5,19920919,1012, 59.4100, -36.6500, 3114,   3031.9,   2.4396,  34.9216,2,  34.9165,2,    283.2,2
     06AZ129_1,  AR7E,    13,  2,      4,      4,5,19920919,1012, 59.4100, -36.6500, 3114,   3108.8,   2.2048,  34.9042,2,  34.8978,2,    289.5,2