BOTTLE,20081201PRINUNIVRMK
EXPOCODE,SECT_ID,STNNBR,CASTNO,BTLNBR,BTLNBR_FLAG_W,DATE,TIME,LATITUDE,LONGITUDE,DEPTH,CTDPRS,CTDTMP,CTDSAL,CTDSAL_FLAG_W,SALNTY,SALNTY_FLAG_W,CTDOXY,CTDOXY_FLAG_W,OXYGEN,OXYGEN_FLAG_W,SILCAT,SILCAT_FLAG_W,NITRAT,NITRAT_FLAG_W,PHSPHT,PHSPHT_FLAG_W,CFC-11,CFC-11_FLAG_W,CFC-12,CFC-12_FLAG_W,CFC113,CFC113_FLAG_W,CCL4,CCL4_FLAG_W,TCARBN,TCARBN_FLAG_W,THETA
,,,,,,,,,,METERS,DBARS,ITS-90,PSS-78,,PSS-78,,UMOL/KG,,UMOL/KG,,UMOL/KG,,UMOL/KG,,UMOL/KG,,PMOL/KG,,PMOL/KG,,PMOL/KG,,PMOL/KG,,UMOL/KG,,DEGC
  18HU19931105, AR13a,    36,  1,     88,2,19931128,1401, 42.6032, -46.8160, 4268,     55.3,  16.1154,  34.8579,2,  34.8593,2,    225.3,2,    244.9,2,     1.61,2,     1.24,6,     0.21,2,    2.266,2,    1.153,2,    0.196,3,    2.942,2,   2038.6,2,  16.1066465
  18HU19931105, AR13a,    36,  1,     87,2,19931128,1401, 42.6032, -46.8160, 4268,    129.1,  15.4164,  35.8209,2,  35.8238,2,    179.9,2,    187.2,2,     3.62,2,     8.97,6,     0.68,2,    1.946,2,    0.985,2,    0.083,2,    0.639,2,   2114.9,2,  15.3963864
  18HU19931105, AR13a,    36,  1,     86,2,19931128,1401, 42.6032, -46.8160, 4268,    223.8,  13.4577,  35.6626,2,  35.6663,2,    184.4,2,    194.2,2,     5.45,2,    12.48,6,     0.93,2,    1.782,2,    0.854,2,    0.121,2,    0.776,2,   2131.2,2,  13.4259712
  18HU19931105, AR13a,    36,  1,     85,2,19931128,1401, 42.6032, -46.8160, 4268,    493.9,   7.9986,  35.1151,2,  35.1194,2,    167.7,2,    162.4,2,    14.88,2,    24.18,6,     1.88,2,    0.592,2,    0.323,2,    0.017,2,    0.531,2,   2190.2,2,  7.94755716
  18HU19931105, AR13a,    36,  1,     84,2,19931128,1401, 42.6032, -46.8160, 4268,    604.8,   6.3825,  35.0678,2,  35.0923,2,    201.8,2,    204.4,2,    13.15,2,    21.03,6,     1.68,2,    0.945,2,    0.535,2,    0.037,2,    1.145,2,   2177.9,2,  6.32688421
  18HU19931105, AR13a,    36,  1,     83,2,19931128,1401, 42.6032, -46.8160, 4268,    699.9,   4.9651,  34.9212,2,  34.9237,2,    229.9,2,    238.1,2,    12.95,2,    19.40,6,     1.59,2,    1.882,2,    0.777,2,    0.081,2,    2.544,2,   2169.0,2,  4.90800902
  18HU19931105, AR13a,    36,  1,     82,2,19931128,1401, 42.6032, -46.8160, 4268,    803.0,   5.4081,  35.0583,2,  35.0609,2,    228.4,2,    235.5,2,    12.37,2,    19.44,6,     1.58,2,    1.263,2,    0.575,2,    0.054,2,    1.759,2,   2171.8,2,  5.33910896
  18HU19931105, AR13a,    36,  1,     81,2,19931128,1401, 42.6032, -46.8160, 4268,   1003.1,   4.6123,  35.0043,2,  35.0076,2,    247.2,2,    257.2,2,    11.76,2,    18.36,6,     1.50,2,    1.525,2,    0.725,2,    0.064,2,    2.498,2,   2164.8,2,  4.53082998
  18HU19931105, AR13a,    36,  1,     80,2,19931128,1401, 42.6032, -46.8160, 4268,   1196.6,   4.1986,  34.9766,2,  34.9782,2,    254.8,2,    268.3,2,    12.68,2,    18.19,6,     1.50,2,    1.331,2,    0.575,2,    0.040,2,    2.384,2,   2159.6,2,  4.10354387
  18HU19931105, AR13a,    36,  1,     79,2,19931128,1401, 42.6032, -46.8160, 4268,   1497.1,   3.8007,  34.9409,2,  34.9420,2,    264.1,2,    280.0,2,    11.98,2,    17.94,6,     1.46,2,    1.383,2,    0.589,2,    0.062,2,    2.647,2,   2159.0,2,  3.68305965
  18HU19931105, AR13a,    36,  1,     78,2,19931128,1401, 42.6032, -46.8160, 4268,   1797.9,   3.4328,  34.9002,2,  34.9016,2,    272.3,2,    289.7,2,    11.56,2,    17.44,6,     1.42,2,    1.856,2,    0.858,2,    0.174,3,    3.255,2,   2154.6,2,  3.29262148
  18HU19931105, AR13a,    36,  1,     77,2,19931128,1401, 42.6032, -46.8160, 4268,   2099.7,   3.3876,  34.9213,2,  34.9251,2,    268.8,2,    285.3,2,    12.82,2,    17.65,6,     1.41,2,    1.276,2,    0.723,2,    0.042,2,    2.488,2,   2152.0,2,  3.21985009
  18HU19931105, AR13a,    36,  1,     76,2,19931128,1401, 42.6032, -46.8160, 4268,   2407.4,   3.3112,  34.9436,2,  34.9450,2,    264.6,2,    278.6,2,    14.93,2,    17.86,6,     1.52,2,    0.670,2,    0.258,2,    0.021,2,    1.554,2,   2156.1,2,  3.11474805
  18HU19931105, AR13a,    36,  1,     75,2,19931128,1401, 42.6032, -46.8160, 4268,   2692.2,   3.0904,  34.9398,2,  34.9409,2,    267.0,2,    277.0,2,    16.13,2,    17.57,6,     1.49,2,    0.605,2,    0.258,2,    0.011,2,    1.419,2,   2159.2,2,  2.86951468
  18HU19931105, AR13a,    36,  1,     74,2,19931128,1401, 42.6032, -46.8160, 4268,   2992.8,   2.8560,  34.9323,2,  34.9327,2,    266.8,2,    283.9,2,    17.84,2,    17.55,6,     1.50,2,    0.583,2,    0.239,2,    0.016,2,    1.260,2,   2160.7,2,  2.60907785
  18HU19931105, AR13a,    36,  1,     73,2,19931128,1401, 42.6032, -46.8160, 4268,   3306.0,   2.6105,  34.9203,2,  34.9373,2,    269.1,2,    279.8,2,    15.43,2,    17.42,6,     1.52,2,    0.983,2,    0.392,2,    0.032,2,    1.907,2,   2159.7,2,  2.33609102
  18HU19931105, AR13a,    36,  1,     72,2,19931128,1401, 42.6032, -46.8160, 4268,   3598.4,   2.4287,  34.9095,2,  34.9694,2,    276.2,2,    271.6,2,    13.87,2,    17.23,6,     1.45,2,    1.140,2,    0.549,2,    0.042,2,    2.035,2,   2159.2,2,  2.12695975
  18HU19931105, AR13a,    36,  1,     71,2,19931128,1401, 42.6032, -46.8160, 4268,   3909.9,   2.2854,  34.9026,2,  34.9194,2,    277.9,2,    284.1,2,    17.86,2,    16.85,6,     1.44,2,    1.132,2,    0.569,2,    0.038,2,    2.088,2,   2162.2,2,  1.95313867
  18HU19931105, AR13a,    36,  1,     70,2,19931128,1401, 42.6032, -46.8160, 4268,   4127.2,   2.2216,  34.8989,2,  34.8990,2,    280.3,2,    288.7,2,    18.55,2,    16.79,6,     1.46,2,    1.278,2,    0.527,2,    0.078,2,    2.288,2,   2162.5,2,  1.86651858
  18HU19931105, AR13a,    36,  1,     69,2,19931128,1401, 42.6032, -46.8160, 4268,   4262.2,   2.2179,  34.8978,2,  35.0356,2,    281.9,2,   -999.0,9,    12.64,2,    18.55,6,     1.53,2,    1.351,2,    0.589,2,    0.057,2,    2.232,2,   2171.0,2,  1.84637972
  18HU19931105, AR13a,    37,  1,      8,2,19931128,1943, 42.6827, -47.2490, 4153,     55.4,  17.6676,  35.4142,2,  35.4169,2,    211.4,2,    235.7,2,  -999.00,9,  -999.00,5,  -999.00,9,    2.020,2,    1.035,2,    0.111,2,    2.343,2,   2046.9,2,  17.6582127
  18HU19931105, AR13a,    37,  1,      7,2,19931128,1943, 42.6827, -47.2490, 4153,    153.4,  14.2676,  35.7727,2,  35.8026,2,    177.8,2,    188.5,2,     4.41,2,    11.20,6,     0.78,2, -999.000,9, -999.000,9, -999.000,9, -999.000,9,   2126.9,2,  14.2450161
  18HU19931105, AR13a,    37,  1,      6,2,19931128,1943, 42.6827, -47.2490, 4153,    354.3,   9.6689,  35.2514,2,  35.2542,2,    152.4,2,    148.5,2,    13.58,2,    23.60,6,     1.73,2,    0.637,2,    0.476,2,    0.015,2,    0.357,2,   2183.3,2,  9.62817284
  18HU19931105, AR13a,    37,  1,      5,2,19931128,1943, 42.6827, -47.2490, 4153,    448.3,   7.6480,  35.0858,2,  35.0926,2,    178.7,2,    173.9,2,    14.54,2,    23.15,6,     1.76,2,    0.599,2,    0.455,2,    0.019,2,    0.238,2,   2184.4,2,  7.60298891
  18HU19931105, AR13a,    37,  1,      4,2,19931128,1943, 42.6827, -47.2490, 4153,    598.2,   5.9016,  35.0322,2,  35.0501,2,    216.1,2,    216.6,2,    12.90,2,    20.32,6,     1.54,2,    0.659,2,    0.353,2,    0.022,2,    0.772,2,   2172.4,2,  5.84883727
  18HU19931105, AR13a,    37,  1,      3,2,19931128,1943, 42.6827, -47.2490, 4153,    798.2,   4.4454,  34.9312,2,  34.9293,2,    252.3,2,    262.5,2,    11.89,2,    18.09,6,     1.41,2,    1.181,2,    0.475,2,    0.044,2,    1.346,2,   2162.3,2,  4.38289698
  18HU19931105, AR13a,    37,  1,      2,2,19931128,1943, 42.6827, -47.2490, 4153,    998.0,   4.4476,  34.9939,2,  35.0028,2,    250.2,2,    255.8,2,    11.93,2,    18.57,6,     1.41,2,    2.379,2,    1.040,2,    0.100,2,    3.191,2,   2163.8,2,  4.36784293
  18HU19931105, AR13a,    37,  1,      1,2,19931128,1943, 42.6827, -47.2490, 4153,   1299.5,   3.9861,  34.9567,2,  34.9599,2,    260.5,2,    273.1,2,    11.95,2,    18.29,6,     1.37,2,    1.426,2,    0.758,2,    0.045,2,    2.260,2,   2155.9,2,  3.88402116
  18HU19931105, AR13a,    37,  1,      0,2,19931128,1943, 42.6827, -47.2490, 4153,   1597.4,   3.5144,  34.9053,2,  34.9067,2,    271.6,2,    287.7,2,    11.47,2,    17.45,6,     1.30,2,    1.816,2,    0.972,2,    0.063,2,    2.988,2,   2156.6,2,  3.39123804
  18HU19931105, AR13a,    37,  1,     99,2,19931128,1943, 42.6827, -47.2490, 4153,   1891.6,   3.5730,  34.9444,2,  34.9457,2,    266.1,2,    277.5,2,    13.37,2,    17.92,6,     1.34,2,    1.370,2,    0.613,2,    0.029,2,    1.785,2,   2156.7,2,   3.4220891
  18HU19931105, AR13a,    37,  1,     98,2,19931128,1943, 42.6827, -47.2490, 4153,   2187.3,   3.4196,  34.9430,2,  34.9438,2,    266.6,2,    277.1,2,    14.20,2,    17.87,6,     1.35,2,    0.929,2,    0.403,2,    0.016,2,    1.573,2,   2157.1,2,  3.24286749
  18HU19931105, AR13a,    37,  1,     97,2,19931128,1943, 42.6827, -47.2490, 4153,   2493.0,   3.1951,  34.9409,2,  34.9437,2,    266.1,2,    278.3,2,    15.28,2,    17.26,6,     1.33,2, -999.000,9,    0.216,2,    0.015,2,    1.265,2,   2158.6,2,  2.99223953
  18HU19931105, AR13a,    37,  1,     96,2,19931128,1943, 42.6827, -47.2490, 4153,   2794.9,   2.9820,  34.9351,2,  34.9358,2,    267.2,2,    279.5,2,    16.50,2,    17.62,6,     1.37,2,    1.052,2,    0.410,2,    0.021,2,    1.377,2,   2160.1,2,  2.75283632
  18HU19931105, AR13a,    37,  1,     95,2,19931128,1943, 42.6827, -47.2490, 4153,   3103.4,   2.7046,  34.9223,2,  34.9231,2,    271.2,2,    282.8,2,    16.33,2,    17.01,6,     1.34,2, -999.000,9,    0.588,2,    0.030,2,    1.738,2,   2159.4,2,  2.44950736
  18HU19931105, AR13a,    37,  1,     94,2,19931128,1943, 42.6827, -47.2490, 4153,   3398.0,   2.4536,  34.9112,2,  34.9167,2,    275.6,2,    286.4,2,    16.87,2,    16.75,6,     1.30,2,    1.531,2,    0.614,2,    0.037,2,    2.043,2,   2156.3,2,  2.17322211
  18HU19931105, AR13a,    37,  1,     93,2,19931128,1943, 42.6827, -47.2490, 4153,   3695.7,   2.3021,  34.9043,2,  34.9114,2,    276.4,2,    281.5,2,    19.13,2,    17.07,6,     1.32,2,    1.638,2,    0.597,2,    0.039,2,    1.932,2,   2163.1,2,  1.99327782
  18HU19931105, AR13a,    37,  1,     92,2,19931128,1943, 42.6827, -47.2490, 4153,   4002.2,   2.2269,  34.8994,2,  34.9872,2,    279.0,2,    264.9,0,    11.94,2,    18.05,6,     1.43,2,    1.476,2,    0.609,2,    0.062,2,    2.329,2,   2158.4,2,  1.88539374
  18HU19931105, AR13a,    37,  1,     91,2,19931128,1943, 42.6827, -47.2490, 4153,   4108.3,   2.2077,  34.8962,2,  34.9154,2,    277.6,2,    280.8,2,    21.13,2,    17.49,6,     1.38,2,    1.003,2,    0.545,2,    0.035,2,    1.667,2,   2165.1,2,  1.85508108
  18HU19931105, AR13a,    37,  1,     90,2,19931128,1943, 42.6827, -47.2490, 4153,   4146.6,   2.2040,  34.8976,2,  34.8989,2,    281.2,2,    285.8,2,    19.58,2,    16.82,6,     1.34,2,    1.537,2,    0.657,2,    0.044,2,    2.079,2,   2162.8,2,   1.8471914
  18HU19931105, AR13a,    37,  1,     89,2,19931128,1943, 42.6827, -47.2490, 4153,   4147.1,   2.2037,  34.8974,2,  34.9757,2,    281.2,2,    263.3,0,    13.25,2,    17.85,6,     1.39,2,    1.535,2,    0.808,2,    0.056,2,    2.412,2,   2160.1,2,  1.84634503
  18HU19931105, AR13a,    38,  1,     28,2,19931129, 135, 42.8023, -47.9500, 3593,     51.9,  15.1815,  34.8292,2,  34.8373,2,    226.6,2,    250.2,2,     1.48,2,     1.59,6,     0.23,2,    2.372,2,    1.237,2,    0.183,3,    3.104,2,   2041.0,2,  15.1736197
  18HU19931105, AR13a,    38,  1,     27,2,19931129, 135, 42.8023, -47.9500, 3593,     99.5,  14.8947,  35.8828,2,  35.8916,2,    173.8,2,    177.9,2,     4.56,2,    11.50,6,     0.77,2,    1.596,2,    0.845,2,    0.056,2,    0.708,2,   2129.5,2,  14.8796356
  18HU19931105, AR13a,    38,  1,     26,2,19931129, 135, 42.8023, -47.9500, 3593,    182.3,  12.6195,  35.5636,2,  35.5684,2,    180.2,2,    190.5,2,     6.53,2,    14.30,6,     0.97,2,    1.656,2,    0.848,2,    0.077,2,    0.849,2,   2138.7,2,  12.5947871
  18HU19931105, AR13a,    38,  1,     25,2,19931129, 135, 42.8023, -47.9500, 3593,    306.7,   8.7422,  35.0417,2,  35.0331,2,    177.6,2,    178.3,2,    11.72,2,    20.07,6,     1.50,2,    1.445,2,    0.715,2,    0.068,2,    1.435,2,   2167.1,2,  8.70921937
  18HU19931105, AR13a,    38,  1,     24,2,19931129, 135, 42.8023, -47.9500, 3593,    422.0,   5.4407,  34.7269,2,  34.8868,2,    214.1,2,    195.5,0,    12.51,2,    20.02,6,     1.48,2,    1.666,2,    0.791,2,    0.096,2,    1.998,2,   2167.0,2,  5.40560837
  18HU19931105, AR13a,    38,  1,     23,2,19931129, 135, 42.8023, -47.9500, 3593,    553.0,   5.7788,  35.0016,2,  35.0212,2,    215.4,2,    213.4,2,    13.44,2,    21.02,6,     1.54,2,    1.095,2,    0.603,2,    0.039,2,    1.507,2,   2178.4,2,  5.73074277
  18HU19931105, AR13a,    38,  1,     22,2,19931129, 135, 42.8023, -47.9500, 3593,    748.8,   4.7380,  34.9882,2,  34.9903,2,    247.1,2,    252.0,2,    12.00,2,    18.56,6,     1.36,2,    1.703,2,    0.804,2,    0.080,2,    2.473,2,   2164.8,2,  4.67787663
  18HU19931105, AR13a,    38,  1,     21,2,19931129, 135, 42.8023, -47.9500, 3593,    900.0,   4.3232,  34.9633,2,  34.9651,2,    259.1,2,    268.1,2,    11.36,2,    17.77,6,     1.31,2,    2.003,2,    0.963,2,    0.108,2,    3.007,2,   2160.9,2,  4.25283915
  18HU19931105, AR13a,    38,  1,     20,2,19931129, 135, 42.8023, -47.9500, 3593,    998.5,   3.8124,  34.9027,2,  34.9045,2,    272.0,2,    282.6,2,    10.82,2,    17.49,6,     1.27,2,    2.844,2,    1.278,2,    0.149,2,    3.881,2,   2158.1,2,  3.73762957
  18HU19931105, AR13a,    38,  1,     19,2,19931129, 135, 42.8023, -47.9500, 3593,   1208.3,   3.7517,  34.9262,2,  34.9280,2,    269.9,2,    281.2,2,    13.28,2,    17.82,6,     1.29,2,    2.070,2,    0.848,2,    0.080,2,    3.045,2,   2156.1,2,  3.65982837
  18HU19931105, AR13a,    38,  1,     18,2,19931129, 135, 42.8023, -47.9500, 3593,   1405.4,   3.4668,  34.8969,2,  34.8989,2,    276.7,2,    289.4,2,    11.19,2,    17.18,6,     1.26,2,    2.257,2,    1.132,2,    0.095,2,    3.447,2,   2155.1,2,  3.36098722
  18HU19931105, AR13a,    38,  1,     17,2,19931129, 135, 42.8023, -47.9500, 3593,   1598.6,   3.3492,  34.8909,2,  34.8924,2,    278.5,2,    289.5,2,    11.36,2,    17.29,6,     1.29,2,    2.017,2,    0.948,2,    0.090,2,    3.415,2,   2153.8,2,  3.22796681
  18HU19931105, AR13a,    38,  1,     16,2,19931129, 135, 42.8023, -47.9500, 3593,   1794.2,   3.2630,  34.8915,2,  34.8938,2,    280.5,2,    292.0,2,    11.75,2,    17.00,6,     1.29,2,    1.927,2,    0.925,2,    0.085,2,    3.328,2,   2152.5,2,  3.12547105
  18HU19931105, AR13a,    38,  1,     15,2,19931129, 135, 42.8023, -47.9500, 3593,   2006.4,   3.2718,  34.9066,2,  34.9092,2,    276.0,2,    288.1,2,    12.23,2,    17.12,6,     1.29,2,    1.571,2,    0.769,2,    0.063,2,    2.792,2,   2151.9,2,  3.11466074
  18HU19931105, AR13a,    38,  1,     14,2,19931129, 135, 42.8023, -47.9500, 3593,   2302.1,   3.2912,  34.9414,2,  34.9434,2,    269.3,2,    279.3,2,    14.62,2,    17.51,6,     1.33,2,    0.711,2,    0.340,2,    0.020,2,    1.693,2,   2156.5,2,  3.10544681
  18HU19931105, AR13a,    38,  1,     13,2,19931129, 135, 42.8023, -47.9500, 3593,   2607.2,   3.0516,  34.9362,2,  34.9373,2,    270.5,2,    279.3,2,    15.55,2,    17.51,6,     1.39,2,    0.696,2,    0.305,2,    0.017,2,    1.622,2,   2158.0,2,  2.84004539
  18HU19931105, AR13a,    38,  1,     12,2,19931129, 135, 42.8023, -47.9500, 3593,   2901.6,   2.7648,  34.9218,2,  34.9379,2,    275.7,2,    272.1,2,    12.08,2,    17.11,6,     1.32,2,    1.586,2,    0.755,2,    0.069,2,    2.635,2,   2158.6,2,  2.52920037
  18HU19931105, AR13a,    38,  1,     11,2,19931129, 135, 42.8023, -47.9500, 3593,   3193.3,   2.4546,  34.9120,2,  34.9207,2,    278.8,2,    284.2,2,    15.53,2,    16.36,6,     1.27,2,    1.360,2,    0.623,2,    0.051,2,    2.394,2,   2156.9,2,  2.19578839
  18HU19931105, AR13a,    38,  1,     10,2,19931129, 135, 42.8023, -47.9500, 3593,   3467.7,   2.1993,  34.9010,2,  34.9016,2,    281.3,2,    288.5,2,    18.20,2,    16.60,6,     1.30,2,    1.347,2,    0.579,2,    0.047,2,    2.304,2,   2159.9,2,  1.91779368
  18HU19931105, AR13a,    38,  1,      9,2,19931129, 135, 42.8023, -47.9500, 3593,   3586.1,   2.1626,  34.8992,2,  34.9309,2,    283.8,2,    260.7,0,    11.59,2,    17.88,6,     1.40,2,    1.797,2,    0.852,2,    0.081,2,    2.787,2,   2157.6,2,  1.86918247