BOTTLE,20081201PRINUNIVRMK
EXPOCODE,SECT_ID,STNNBR,CASTNO,BTLNBR,BTLNBR_FLAG_W,DATE,TIME,LATITUDE,LONGITUDE,DEPTH,CTDPRS,CTDTMP,CTDSAL,CTDSAL_FLAG_W,SALNTY,SALNTY_FLAG_W,CTDOXY,CTDOXY_FLAG_W,OXYGEN,OXYGEN_FLAG_W,SILCAT,SILCAT_FLAG_W,NITRAT,NITRAT_FLAG_W,PHSPHT,PHSPHT_FLAG_W,CFC-11,CFC-11_FLAG_W,CFC-12,CFC-12_FLAG_W,CFC113,CFC113_FLAG_W,CCL4,CCL4_FLAG_W,TCARBN,TCARBN_FLAG_W,THETA
,,,,,,,,,,METERS,DBARS,ITS-90,PSS-78,,PSS-78,,UMOL/KG,,UMOL/KG,,UMOL/KG,,UMOL/KG,,UMOL/KG,,PMOL/KG,,PMOL/KG,,PMOL/KG,,PMOL/KG,,UMOL/KG,,DEGC
  18HU19931105, AR13a,    93,  1,     60,2,19931209, 720, 47.0440, -41.7830, 4296,     15.1,   7.6677,  33.6462,2,  33.6467,2,    285.4,2,    300.0,2,     1.97,2,     2.41,6,     0.36,2, -999.000,9, -999.000,9, -999.000,9, -999.000,9,   2056.3,2,  7.66625893
  18HU19931105, AR13a,    93,  1,     59,2,19931209, 720, 47.0440, -41.7830, 4296,    156.9,   3.9101,  34.5447,2,  34.5375,2,    254.8,2,    256.9,2,     9.69,2,    15.89,6,     1.14,2, -999.000,9, -999.000,9, -999.000,9, -999.000,9,   2158.2,2,  3.89934217
  18HU19931105, AR13a,    93,  1,     58,2,19931209, 720, 47.0440, -41.7830, 4296,    310.1,   4.4067,  34.8896,2,  34.8868,2,    253.7,2,    256.8,2,    11.05,2,    17.33,6,     1.19,2,    2.440,2,    2.782,2, -999.000,9,    2.913,2,   2170.1,2,  4.38366726
  18HU19931105, AR13a,    93,  1,     57,2,19931209, 720, 47.0440, -41.7830, 4296,    505.6,   4.3228,  34.9568,2,  34.8678,2,    260.5,2,    263.1,2,    10.55,2,    16.48,6,     1.14,2,    2.062,2,    1.685,2,    0.079,2,    2.609,2,   2163.1,2,   4.2848478
  18HU19931105, AR13a,    93,  1,     56,2,19931209, 720, 47.0440, -41.7830, 4296,    700.4,   3.9936,  34.9498,2,  34.9471,2,    268.8,2,    264.9,2,    11.33,2,    17.23,6,     1.18,2,    2.456,2,    1.517,2,    0.074,2,    2.864,2,   2170.2,2,   3.9416981
  18HU19931105, AR13a,    93,  1,     55,2,19931209, 720, 47.0440, -41.7830, 4296,    903.4,   3.4945,  34.8965,2,  34.8964,2,    281.7,2,    286.2,2,    10.49,2,    16.70,6,     1.11,2,    2.195,2,    1.501,2,    0.077,2,    3.247,2,   2161.5,2,  3.42974149
  18HU19931105, AR13a,    93,  1,     54,2,19931209, 720, 47.0440, -41.7830, 4296,   1104.7,   3.3544,  34.8896,2,  34.8913,2,    284.0,2,    287.7,2,    10.64,2,    16.54,6,     1.11,2,    2.234,2,    1.859,2,    0.374,4,    3.154,2,   -999.0,9,  3.27471578
  18HU19931105, AR13a,    93,  1,     53,2,19931209, 720, 47.0440, -41.7830, 4296,   1310.0,   3.2567,  34.8854,2,  34.8843,2,    286.0,2,    293.1,2,    10.77,2,    16.25,6,     1.09,2,    2.566,2,    1.700,2,    0.079,2,    3.356,2,   2160.3,2,  3.16115339
  18HU19931105, AR13a,    93,  1,     52,2,19931209, 720, 47.0440, -41.7830, 4296,   1502.0,   3.1367,  34.8739,2,  34.8773,2,    289.2,2,    294.7,2,    10.64,2,    15.97,6,     1.10,2,    2.415,2,    1.654,2,    0.186,3,    3.609,2,   2149.3,2,  3.02635167
  18HU19931105, AR13a,    93,  1,     51,2,19931209, 720, 47.0440, -41.7830, 4296,   1698.2,   3.1935,  34.8920,2,  34.8952,2,    286.2,2,    290.4,2,    11.40,2,    16.15,6,     1.10,2,    1.961,2,    1.353,2,    0.078,2,    2.866,2,   2160.3,2,  3.06543651
  18HU19931105, AR13a,    93,  1,     50,2,19931209, 720, 47.0440, -41.7830, 4296,   1899.4,   3.1248,  34.8926,2,  34.8925,2,    285.4,2,    293.7,2,    11.42,2,    15.89,6,     1.10,2,    1.917,2,    1.028,2,    0.058,2,    2.952,2,   2151.1,2,  2.97969164
  18HU19931105, AR13a,    93,  1,     49,2,19931209, 720, 47.0440, -41.7830, 4296,   2095.4,   3.2338,  34.9258,2,  34.9258,2,    277.5,2,    281.3,2,    12.91,2,    16.25,6,     1.12,2,    1.162,2,    0.542,2,    0.026,2,    1.998,2,   2161.9,2,  3.06884952
  18HU19931105, AR13a,    93,  1,     48,2,19931209, 720, 47.0440, -41.7830, 4296,   2412.2,   3.0549,  34.9269,2,  34.9263,2,    277.5,2,    282.2,2,    13.07,2,    16.18,6,     1.11,2,    1.086,2,    0.547,2,    0.121,3,    2.067,2,   2161.5,2,   2.8625836
  18HU19931105, AR13a,    93,  1,     47,2,19931209, 720, 47.0440, -41.7830, 4296,   2686.6,   2.9105,  34.9241,2,  34.9241,2,    278.8,2,    284.0,2,    13.08,2,    15.93,6,     1.08,2,    1.346,2,    0.685,2,    0.038,2,    2.182,2,   2161.9,2,  2.69377261
  18HU19931105, AR13a,    93,  1,     46,2,19931209, 720, 47.0440, -41.7830, 4296,   2982.0,   2.7402,  34.9241,2,  34.9228,2,    279.2,2,    283.9,2,    14.64,2,    16.15,6,     1.08,2,    1.211,2,    0.677,2,    0.026,2,    1.970,2,   2164.6,2,  2.49693771
  18HU19931105, AR13a,    93,  1,     45,2,19931209, 720, 47.0440, -41.7830, 4296,   3295.2,   2.4700,  34.9139,2,  34.9128,2,    280.5,2,    284.7,2,    16.37,2,    16.18,6,     1.08,2,    1.079,2,    0.482,2,    0.083,3,    1.887,2,   2164.2,2,  2.20017865
  18HU19931105, AR13a,    93,  1,     44,2,19931209, 720, 47.0440, -41.7830, 4296,   3594.8,   2.3095,  34.9054,2,  34.9034,2,    280.8,2,    282.8,2,    20.50,2,    16.23,6,     1.12,2,    1.612,2,    0.587,2,    0.028,2,    1.771,2,   2167.8,2,   2.0115607
  18HU19931105, AR13a,    93,  1,     43,2,19931209, 720, 47.0440, -41.7830, 4296,   3890.6,   2.2306,  34.9010,2,  34.9055,2,    285.6,2,    283.8,2,    18.83,2,    16.26,6,     1.17,2,    1.248,2,    0.562,2,    0.026,2,    1.900,2,   2166.6,2,  1.90208726
  18HU19931105, AR13a,    93,  1,     42,2,19931209, 720, 47.0440, -41.7830, 4296,   4177.0,   2.1558,  34.8973,2,  34.8976,2,    292.4,2,    292.6,2,    14.76,2,    15.14,6,     1.03,2,    2.134,2,    0.845,2,    0.055,2,    2.888,2,   2166.0,2,  1.79688748
  18HU19931105, AR13a,    93,  1,     41,2,19931209, 720, 47.0440, -41.7830, 4296,   4292.2,   2.1125,  34.8957,2,  34.8950,2,    295.1,2,    292.3,2,    13.66,2,    14.85,6,     1.02,2,    2.075,2,    1.411,3,    0.068,2,    2.839,2,   2162.5,2,    1.741524
  18HU19931105, AR13a,    94,  1,     80,2,19931209,1221, 47.0520, -41.0850, 4570,     32.1,   7.1347,  33.2503,2,  33.2500,2,    293.8,2,    303.6,2,     2.03,2,     1.95,6,     0.34,2, -999.000,9, -999.000,9, -999.000,9, -999.000,9,   2055.7,2,  7.13178435
  18HU19931105, AR13a,    94,  1,     79,2,19931209,1221, 47.0520, -41.0850, 4570,    103.5,   3.7029,  33.4764,2,  33.4786,2,    288.0,2,    303.0,2,     2.28,2,     2.97,6,     0.35,2, -999.000,9, -999.000,9, -999.000,9, -999.000,9,   2055.4,2,  3.69620836
  18HU19931105, AR13a,    94,  1,     78,2,19931209,1221, 47.0520, -41.0850, 4570,    201.2,   5.2999,  34.4393,2,  34.4344,2,    237.5,2,    240.6,2,     9.81,2,    15.99,6,     1.07,2, -999.000,9, -999.000,9, -999.000,9, -999.000,9,   2151.0,2,  5.28386261
  18HU19931105, AR13a,    94,  1,     77,2,19931209,1221, 47.0520, -41.0850, 4570,    299.1,   5.2462,  34.6908,2,  34.7200,2,    222.6,2,    219.3,2,    11.95,2,    20.35,4,     1.26,2, -999.000,9, -999.000,9, -999.000,9, -999.000,9,   2174.3,2,  5.22212811
  18HU19931105, AR13a,    94,  1,     76,2,19931209,1221, 47.0520, -41.0850, 4570,    399.5,   5.3428,  34.9018,2,  34.4540,0,    226.0,2,    237.8,2,    10.16,2,    16.42,6,     1.10,2, -999.000,9, -999.000,9, -999.000,9, -999.000,9,   2160.5,2,  5.30993649
  18HU19931105, AR13a,    94,  1,     75,2,19931209,1221, 47.0520, -41.0850, 4570,    599.9,   5.0920,  35.0185,2,  35.0192,2,    241.3,2,    242.4,2,    11.95,2,    19.66,6,     1.22,2, -999.000,9, -999.000,9, -999.000,9, -999.000,9,   2170.8,2,  5.04282299
  18HU19931105, AR13a,    94,  1,     74,2,19931209,1221, 47.0520, -41.0850, 4570,    802.5,   4.2088,  34.9597,2,  34.9605,2,    263.2,2,    266.8,2,    11.31,2,    19.01,6,     1.16,2, -999.000,9, -999.000,9, -999.000,9, -999.000,9,   2164.1,2,  4.14735769
  18HU19931105, AR13a,    94,  1,     73,2,19931209,1221, 47.0520, -41.0850, 4570,    997.7,   3.7791,  34.9209,2,  34.9204,2,    274.4,2,    279.9,2,    10.93,2,    18.35,6,     1.13,2, -999.000,9, -999.000,9, -999.000,9, -999.000,9,   2159.5,2,  3.70462517
  18HU19931105, AR13a,    94,  1,     72,2,19931209,1221, 47.0520, -41.0850, 4570,   1297.5,   3.3649,  34.8847,2,  34.8852,2,    284.8,2,    289.0,2,    10.69,2,    17.71,6,     1.12,2, -999.000,9, -999.000,9, -999.000,9, -999.000,9,   2161.2,2,  3.26930957
  18HU19931105, AR13a,    94,  1,     71,2,19931209,1221, 47.0520, -41.0850, 4570,   1599.1,   3.1681,  34.8703,2,  34.8661,2,    289.8,2,    295.8,2,    10.70,2,    17.43,6,     1.09,2, -999.000,9, -999.000,9, -999.000,9, -999.000,9,   2176.4,3,  3.04908917
  18HU19931105, AR13a,    94,  1,     70,2,19931209,1221, 47.0520, -41.0850, 4570,   1900.9,   3.1351,  34.8781,2,  34.8758,2,    288.4,2,    295.1,2,    10.94,2,    17.28,6,     1.08,2, -999.000,9, -999.000,9, -999.000,9, -999.000,9,   2152.5,2,  2.98976127
  18HU19931105, AR13a,    94,  1,     69,2,19931209,1221, 47.0520, -41.0850, 4570,   2201.9,   3.1860,  34.9036,2,  34.9039,2,    282.5,2,    286.7,2,    11.87,2,    17.38,6,     1.11,2, -999.000,9, -999.000,9, -999.000,9, -999.000,9,   2160.1,2,  3.01179881
  18HU19931105, AR13a,    94,  1,     68,2,19931209,1221, 47.0520, -41.0850, 4570,   2492.2,   3.1434,  34.9202,2,  34.9207,2,    279.1,2,    282.8,2,    12.58,2,    16.87,6,     1.11,2, -999.000,9, -999.000,9, -999.000,9, -999.000,9,   2164.8,2,  2.94165467
  18HU19931105, AR13a,    94,  1,     67,2,19931209,1221, 47.0520, -41.0850, 4570,   2796.0,   3.0070,  34.9277,2,  34.9286,2,    278.0,2,    282.8,2,    13.57,2,    16.91,6,     1.10,2, -999.000,9, -999.000,9, -999.000,9, -999.000,9,   2161.2,2,  2.77724986
  18HU19931105, AR13a,    94,  1,     66,2,19931209,1221, 47.0520, -41.0850, 4570,   3099.4,   2.8258,  34.9276,2,  34.9276,2,    277.6,2,    282.1,2,    16.28,2,    17.06,6,     1.13,2, -999.000,9, -999.000,9, -999.000,9, -999.000,9,   2166.8,2,  2.56840669
  18HU19931105, AR13a,    94,  1,     65,2,19931209,1221, 47.0520, -41.0850, 4570,   3397.4,   2.6156,  34.9202,2,  34.9196,2,    278.5,2,    282.5,2,    17.01,2,    17.22,6,     1.14,2, -999.000,9, -999.000,9, -999.000,9, -999.000,9,   2160.0,2,  2.33135514
  18HU19931105, AR13a,    94,  1,     64,2,19931209,1221, 47.0520, -41.0850, 4570,   3703.5,   2.3964,  34.9092,2,-999.0000,9,    281.8,2,    260.9,0,  -999.00,9,    17.32,6,     1.18,2, -999.000,9, -999.000,9, -999.000,9, -999.000,9,   2158.0,2,  2.08427288
  18HU19931105, AR13a,    94,  1,     63,2,19931209,1221, 47.0520, -41.0850, 4570,   4000.9,   2.2764,  34.9025,2,  34.9097,2,    284.1,2,    283.2,2,    17.60,2,    16.58,6,     1.13,2, -999.000,9, -999.000,9, -999.000,9, -999.000,9,   2169.0,2,  1.93414789
  18HU19931105, AR13a,    94,  1,     62,2,19931209,1221, 47.0520, -41.0850, 4570,   4302.5,   2.1850,  34.8983,2,  34.8969,2,    291.1,2,    290.6,2,    15.40,2,    15.72,6,     1.07,2, -999.000,9, -999.000,9, -999.000,9, -999.000,9,   2167.6,2,  1.81066078
  18HU19931105, AR13a,    94,  1,     61,2,19931209,1221, 47.0520, -41.0850, 4570,   4565.9,   2.1453,  34.8956,2,  34.8930,2,    296.1,2,    296.3,2,  -999.00,9,    15.22,6,     1.05,2, -999.000,9, -999.000,9, -999.000,9, -999.000,9,   2164.2,2,  1.74096745
  18HU19931105, AR13a,    95,  1,      0,2,19931209,1809, 46.6372, -40.5980, 4590,     42.5,  15.6684,  35.7503,2,  35.7497,2,    232.4,2,    241.7,2,     1.81,2,     3.46,6,     0.21,2,    2.340,2,    0.774,2,    0.108,2,    3.030,2,   2081.5,2,  15.6617587
  18HU19931105, AR13a,    95,  1,     99,2,19931209,1809, 46.6372, -40.5980, 4590,    208.5,  15.3830,  36.0327,2,  36.0375,2,    188.0,2,    191.4,2,     3.85,2,    10.06,6,     0.53,2,    1.737,2,    1.753,2,    0.265,3,    0.738,2,   2122.8,2,  15.3505956
  18HU19931105, AR13a,    95,  1,     98,2,19931209,1809, 46.6372, -40.5980, 4590,    405.8,  11.5556,  35.4646,2,  35.4669,2,    175.2,2,    172.8,2,     8.68,2,    18.65,6,     1.08,2,    1.410,2,    0.658,2,    0.018,2,    0.901,2,   2159.3,2,  11.5032135
  18HU19931105, AR13a,    95,  1,     97,2,19931209,1809, 46.6372, -40.5980, 4590,    601.8,   7.8936,  35.0689,2,  35.0707,2,    183.1,2,    176.9,2,    13.17,2,    22.98,4,     1.32,2,    1.131,2,    0.687,2,    0.028,2,    1.163,2,   2180.4,2,  7.83150213
  18HU19931105, AR13a,    95,  1,     96,2,19931209,1809, 46.6372, -40.5980, 4590,    800.8,   5.6550,  34.9910,2,  35.0681,2,    224.7,2,    220.4,2,    11.21,2,    18.99,6,     1.12,2,    1.454,2,    1.479,2, -999.000,9,    2.001,2,   2165.5,2,  5.58470302
  18HU19931105, AR13a,    95,  1,     95,2,19931209,1809, 46.6372, -40.5980, 4590,    907.9,   5.6230,  35.0661,2,  35.0664,2,    230.7,2,    231.0,2,    12.15,2,    20.21,6,     1.20,2,    1.506,2,    1.639,2,    0.045,2,    1.983,2,   2182.1,3,  5.54284126
  18HU19931105, AR13a,    95,  1,     94,2,19931209,1809, 46.6372, -40.5980, 4590,   1096.7,   4.6408,  34.9913,2,  34.9941,2,    253.2,2,    253.3,2,    11.57,2,    19.38,6,     1.15,2,    1.730,2,    0.560,2, -999.000,9,    2.721,2,   2165.9,2,  4.55076847
  18HU19931105, AR13a,    95,  1,     93,2,19931209,1809, 46.6372, -40.5980, 4590,   1402.5,   4.0049,  34.9511,2,  34.9574,2,    268.5,2,    273.5,2,    11.41,2,    18.82,6,     1.10,2,    1.639,2,    0.989,2,    0.034,2,    2.793,2,   -999.0,9,  3.89347115
  18HU19931105, AR13a,    95,  1,     92,2,19931209,1809, 46.6372, -40.5980, 4590,   1713.7,   3.6120,  34.9159,2,  34.9196,2,    277.1,2,    280.5,2,    11.44,2,    18.67,6,     1.10,2,    1.652,2,    0.912,2,    0.042,2,    2.909,2,   2166.5,2,  3.47709754
  18HU19931105, AR13a,    95,  1,     91,2,19931209,1809, 46.6372, -40.5980, 4590,   2020.6,   3.4084,  34.9044,2,  34.9157,2,    281.2,2,    285.0,2,    11.59,2,    17.97,6,     1.07,2,    1.680,2,    1.016,2,    0.040,2,    3.008,2,   2155.7,2,  3.24786064
  18HU19931105, AR13a,    95,  1,     90,2,19931209,1809, 46.6372, -40.5980, 4590,   2314.0,   3.1790,  34.8802,2,  34.8820,2,    287.9,2,    294.0,2,    11.13,2,    17.75,6,     1.09,2,    2.327,2,    1.324,2,    0.092,2,    3.736,2,   2153.7,2,  2.99422912
  18HU19931105, AR13a,    95,  1,     89,2,19931209,1809, 46.6372, -40.5980, 4590,   2416.0,   3.3225,  34.9157,2,  34.9161,2,    278.5,2,    284.2,2,    12.42,2,    18.30,6,     1.08,2,    1.286,2,    0.764,2,    0.027,2,    2.489,2,   2155.5,2,  3.12510856
  18HU19931105, AR13a,    95,  1,     88,2,19931209,1809, 46.6372, -40.5980, 4590,   2730.4,   3.2217,  34.9357,2,  34.9352,2,    274.1,2,    278.7,2,    14.33,2,    18.18,6,     1.08,2,    0.800,2,    0.525,2,    0.000,2,    1.948,2,   2156.4,2,  2.99435434
  18HU19931105, AR13a,    95,  1,     87,2,19931209,1809, 46.6372, -40.5980, 4590,   3005.9,   3.0779,  34.9351,2,  34.9347,2,    274.2,2,    278.3,2,    15.37,2,    18.16,6,     1.10,2,    0.767,2,    0.326,2,    0.000,2,    1.848,2,   2159.1,2,  2.82481124
  18HU19931105, AR13a,    95,  1,     86,2,19931209,1809, 46.6372, -40.5980, 4590,   3300.3,   2.8224,  34.9280,2,  34.9352,2,    275.6,2,    277.5,2,    16.77,2,    18.27,6,     1.12,2,    0.760,2,    0.469,2,    0.000,2,    1.683,2,   2159.4,2,  2.54362797
  18HU19931105, AR13a,    95,  1,     85,2,19931209,1809, 46.6372, -40.5980, 4590,   3607.0,   2.5582,  34.9173,2,  34.9163,2,    276.7,2,    281.6,2,    18.85,2,    18.38,6,     1.11,2,    0.802,2,    0.469,2,    0.012,2,    1.816,2,   2162.2,2,  2.25252426
  18HU19931105, AR13a,    95,  1,     84,2,19931209,1809, 46.6372, -40.5980, 4590,   3899.0,   2.3976,  34.9083,2,  34.9116,2,    278.9,2,    281.5,2,    20.29,2,    18.15,6,     1.12,2,    0.878,2,    0.520,2,    0.019,2,    1.803,2,   2163.4,2,  2.06355612
  18HU19931105, AR13a,    95,  1,     83,2,19931209,1809, 46.6372, -40.5980, 4590,   4254.1,   2.3060,  34.9020,2,  34.9256,2,    281.6,2,    281.1,2,    12.96,2,    18.22,6,     1.11,2,    1.162,2,    0.773,2,    0.025,2,    2.372,2,   2156.0,2,  1.93356966
  18HU19931105, AR13a,    95,  1,     82,2,19931209,1809, 46.6372, -40.5980, 4590,   4546.6,   2.2543,  34.8991,2,  34.8989,2,    288.0,2,    287.4,2,    17.40,2,    17.46,6,     1.05,2,    1.377,2,    0.794,2,    0.033,2,    2.542,2,   2160.2,2,  1.84886117
  18HU19931105, AR13a,    95,  1,     81,2,19931209,1809, 46.6372, -40.5980, 4590,   4577.8,   2.2434,  34.8983,2,  34.8999,2,    289.7,2,    288.3,2,    17.51,2,    17.13,6,     1.06,2,    1.423,2,    0.789,2,    0.045,2,    2.530,2,   2162.3,2,   1.8345297