BOTTLE,20081201PRINUNIVRMK
EXPOCODE,SECT_ID,STNNBR,CASTNO,BTLNBR,BTLNBR_FLAG_W,DATE,TIME,LATITUDE,LONGITUDE,DEPTH,CTDPRS,CTDTMP,CTDSAL,CTDSAL_FLAG_W,SALNTY,SALNTY_FLAG_W,CTDOXY,CTDOXY_FLAG_W,OXYGEN,OXYGEN_FLAG_W,SILCAT,SILCAT_FLAG_W,NITRAT,NITRAT_FLAG_W,PHSPHT,PHSPHT_FLAG_W,CFC-11,CFC-11_FLAG_W,CFC-12,CFC-12_FLAG_W,CFC113,CFC113_FLAG_W,CCL4,CCL4_FLAG_W,TCARBN,TCARBN_FLAG_W,THETA
,,,,,,,,,,METERS,DBARS,ITS-90,PSS-78,,PSS-78,,UMOL/KG,,UMOL/KG,,UMOL/KG,,UMOL/KG,,UMOL/KG,,PMOL/KG,,PMOL/KG,,PMOL/KG,,PMOL/KG,,UMOL/KG,,DEGC
  18HU19931105, AR13a,    57,  1,      1,2,19931202,2303, 43.8978, -43.2060, 4907,     39.7,  12.9463,  34.6110,2,  34.6119,2,    248.0,2,    265.8,2,     1.26,2,     1.47,6,     0.24,2,    2.986,2,    1.574,2,    0.170,2,    3.894,2,   2051.4,2,   12.940907
  18HU19931105, AR13a,    57,  1,      0,2,19931202,2303, 43.8978, -43.2060, 4907,    153.0,   8.8160,  34.9331,2,  34.6117,0,    206.0,2,    267.1,0,     1.28,2,     1.49,6,     0.25,2,    2.924,2,    1.513,2,    0.170,2,    3.827,2,   2054.8,2,  8.79963391
  18HU19931105, AR13a,    57,  1,     99,2,19931202,2303, 43.8978, -43.2060, 4907,    301.1,   6.5730,  34.8661,2,  34.8670,2,    203.2,2,    205.4,2,    11.80,2,    19.38,6,     1.32,2,    1.879,2,    1.005,2,    0.090,2,    1.918,2,   2170.4,2,  6.54561387
  18HU19931105, AR13a,    57,  1,     98,2,19931202,2303, 43.8978, -43.2060, 4907,    501.9,   5.0979,  34.9853,2,  34.9853,2,    236.9,2,    241.5,2,    12.07,2,    18.76,6,     1.27,2,    1.732,2,    1.077,2,    0.065,2,    2.138,2,   2171.3,2,   5.0571197
  18HU19931105, AR13a,    57,  1,     97,2,19931202,2303, 43.8978, -43.2060, 4907,    702.3,   4.4039,  34.9579,2,  34.9589,2,    255.6,2,    259.6,2,    11.26,2,    17.91,6,     1.19,2,    2.085,2,    0.976,2,    0.089,2,    2.891,2,   2166.2,2,  4.34959718
  18HU19931105, AR13a,    57,  1,     96,2,19931202,2303, 43.8978, -43.2060, 4907,    903.6,   4.0948,  34.9486,2,  34.9489,2,    264.0,2,    273.3,2,    11.76,2,    17.72,6,     1.17,2,    2.059,2,    1.026,2,    0.094,2,    2.983,2,   2165.2,2,  4.02574602
  18HU19931105, AR13a,    57,  1,     95,2,19931202,2303, 43.8978, -43.2060, 4907,   1213.8,   3.7319,  34.9270,2,  34.9279,2,    271.5,2,    284.1,2,    11.10,2,    17.30,6,     1.15,2,    1.821,2,    0.855,2,    0.070,2,    2.938,2,   2159.8,2,   3.6397442
  18HU19931105, AR13a,    57,  1,     94,2,19931202,2303, 43.8978, -43.2060, 4907,   1502.4,   3.4349,  34.9016,2,  34.9023,2,    278.6,2,    285.8,2,    11.13,2,    16.95,6,     1.11,2,    2.010,2,    0.920,2,    0.080,2,    3.184,2,   2158.2,2,  3.32104523
  18HU19931105, AR13a,    57,  1,     93,2,19931202,2303, 43.8978, -43.2060, 4907,   1794.8,   3.2904,  34.8995,2,  34.8996,2,    279.9,2,    288.8,2,    11.61,2,    16.96,6,     1.14,2,    1.905,2,    0.958,2,    0.065,2,    3.211,2,   2156.8,2,     3.15243
  18HU19931105, AR13a,    57,  1,     92,2,19931202,2303, 43.8978, -43.2060, 4907,   2092.5,   3.1875,  34.9061,2,  34.9073,2,    279.5,2,    287.3,2,    11.98,2,    16.62,6,     1.11,2,    1.706,2,    0.753,2,    0.062,2,    2.841,2,   2161.9,2,  3.02360629
  18HU19931105, AR13a,    57,  1,     91,2,19931202,2303, 43.8978, -43.2060, 4907,   2351.1,   3.1715,  34.9326,2,  34.9323,2,    274.0,2,    280.8,2,    13.98,2,    16.78,6,     1.15,2,    0.933,2,    0.615,2,    0.024,2,    1.761,2,   2164.7,2,  2.98306623
  18HU19931105, AR13a,    57,  1,     90,2,19931202,2303, 43.8978, -43.2060, 4907,   2685.6,   3.0119,  34.9324,2,  34.9323,2,    272.1,2,    281.9,2,    15.25,2,    17.02,6,     1.14,2,    0.803,2,    0.424,2,    0.023,2,    1.453,2,   2160.3,2,  2.79325448
  18HU19931105, AR13a,    57,  1,     89,2,19931202,2303, 43.8978, -43.2060, 4907,   2988.0,   2.8516,  34.9302,2,  34.9297,2,    271.5,2,    282.4,2,    17.03,2,    17.14,6,     1.15,2,    0.621,2,    0.333,2,    0.018,2,    1.188,2,   2163.2,2,  2.60528617
  18HU19931105, AR13a,    57,  1,     88,2,19931202,2303, 43.8978, -43.2060, 4907,   3292.8,   2.5939,  34.9195,2,  34.9189,2,    272.8,2,    281.6,2,    18.89,2,    17.08,6,     1.16,2,    0.661,2,    0.382,2,    0.017,2,    1.297,2,   2164.9,2,  2.32138514
  18HU19931105, AR13a,    57,  1,     87,2,19931202,2303, 43.8978, -43.2060, 4907,   3588.6,   2.3987,  34.9094,2,  34.9093,2,    274.0,2,    282.1,2,    20.99,2,    17.18,6,     1.16,2,    0.676,2,    0.321,2,    0.018,2,    1.342,2,   2167.0,2,   2.0991352
  18HU19931105, AR13a,    57,  1,     86,2,19931202,2303, 43.8978, -43.2060, 4907,   3884.8,   2.3222,  34.9037,2,  34.9107,2,    274.5,2,    274.8,2,    17.08,2,    17.74,6,     1.18,2,    0.966,2,    0.399,2,    0.024,2,    1.529,2,   2167.7,2,  1.99181456
  18HU19931105, AR13a,    57,  1,     85,2,19931202,2303, 43.8978, -43.2060, 4907,   4192.7,   2.2938,  34.9004,2,  34.9191,2,    276.3,2,    269.0,2,    11.26,2,    17.28,6,     1.15,2,    1.924,2,    2.405,3,    0.093,2,    2.729,2,   2160.3,2,  1.92893397
  18HU19931105, AR13a,    57,  1,     84,2,19931202,2303, 43.8978, -43.2060, 4907,   4495.0,   2.2934,  34.8984,2,  34.8954,2,    278.3,2,    282.1,2,    21.66,2,    16.87,6,     1.17,2,    0.913,2,    0.453,2,    0.030,2,    1.598,2,   2168.3,2,  1.89298424
  18HU19931105, AR13a,    57,  1,     83,2,19931202,2303, 43.8978, -43.2060, 4907,   4803.4,   2.3025,  34.8970,2,  34.8960,2,    281.4,2,    283.2,2,    22.73,2,    17.13,6,     1.16,2,    0.954,2,    0.453,2,    0.037,2,    1.642,2,   2170.1,2,  1.86418487
  18HU19931105, AR13a,    57,  1,     82,2,19931202,2303, 43.8978, -43.2060, 4907,   4902.1,   2.3087,  34.8965,2,  34.9162,2,    282.5,2,    275.2,2,    17.07,2,    17.34,6,     1.15,2,    1.097,2,    0.471,2,    0.039,2,    1.903,2,   2164.7,2,  1.85774814
  18HU19931105, AR13a,    58,  1,     21,2,19931203, 443, 43.7657, -42.4970, 4898,     15.8,  12.3658,  34.4163,2,  34.4162,2,    251.8,2,    269.7,2,     1.38,2,     1.11,6,     0.25,2, -999.000,9, -999.000,9, -999.000,9, -999.000,9,   -999.0,9,  12.3637252
  18HU19931105, AR13a,    58,  1,     20,2,19931203, 443, 43.7657, -42.4970, 4898,    101.2,   6.5064,  34.0895,2,  34.1019,2,    270.3,2,    286.1,2,     3.69,2,     7.13,6,     0.68,2,    3.782,2,    2.097,2, -999.000,9,    4.048,2,   -999.0,9,  6.49751232
  18HU19931105, AR13a,    58,  1,     19,2,19931203, 443, 43.7657, -42.4970, 4898,    300.7,   5.8909,  34.9214,2,  34.9156,2,    212.4,2,    212.4,2,    12.59,2,    19.41,6,     1.31,2,    1.663,2,    0.656,2,    0.071,2,    1.897,2,   -999.0,9,  5.86509908
  18HU19931105, AR13a,    58,  1,     18,2,19931203, 443, 43.7657, -42.4970, 4898,    494.5,   4.6569,  34.9201,2,  34.9192,2,    245.3,2,    248.9,2,    11.44,2,    18.02,6,     1.19,2,    2.211,2,    0.909,2,    0.117,2,    2.861,2,   -999.0,9,  4.61849185
  18HU19931105, AR13a,    58,  1,     17,2,19931203, 443, 43.7657, -42.4970, 4898,    697.2,   4.3190,  34.9605,2,  34.7203,0,    259.0,2,    251.1,2,     8.69,3,    13.61,4,     0.97,3,    2.317,2,    1.100,2,    0.122,2,    2.932,2,   -999.0,9,  4.26557448
  18HU19931105, AR13a,    58,  1,     16,2,19931203, 443, 43.7657, -42.4970, 4898,    889.9,   4.0307,  34.9496,2,  34.9483,2,    265.3,2,    272.8,2,    11.21,2,    17.50,6,     1.17,2,    1.856,2,    0.925,2,    0.073,2,    2.551,2,   -999.0,9,  3.96322529
  18HU19931105, AR13a,    58,  1,     15,2,19931203, 443, 43.7657, -42.4970, 4898,   1196.4,   3.6942,  34.9242,2,  34.9252,2,    272.6,2,    281.8,2,    11.39,2,    17.11,6,     1.14,2,    1.506,2,    0.521,2,    0.048,2,    2.466,2,   -999.0,9,   3.6038723
  18HU19931105, AR13a,    58,  1,     14,2,19931203, 443, 43.7657, -42.4970, 4898,   1490.1,   3.4231,  34.9070,2,  34.9077,2,    276.9,2,    287.5,2,    11.42,2,    16.87,6,     1.13,2, -999.000,9,    0.808,2,    0.079,2,    2.959,2,   -999.0,9,  3.31043512
  18HU19931105, AR13a,    58,  1,     13,2,19931203, 443, 43.7657, -42.4970, 4898,   1792.7,   3.1279,  34.8755,2,  34.8726,2,    285.4,2,    295.8,2,    10.67,2,    16.55,6,     1.12,2,    2.299,2,    1.032,2,    0.113,2,    3.619,2,   -999.0,9,   2.9923928
  18HU19931105, AR13a,    58,  1,     12,2,19931203, 443, 43.7657, -42.4970, 4898,   2097.3,   3.1049,  34.8918,2,  34.8923,2,    282.8,2,    292.1,2,    11.62,2,    16.61,6,     1.12,2,    2.009,2,    1.203,2,    0.081,2,    3.100,2,   -999.0,9,  2.94189661
  18HU19931105, AR13a,    58,  1,     11,2,19931203, 443, 43.7657, -42.4970, 4898,   2390.0,   3.1245,  34.9144,2,  34.9141,2,    277.2,2,    285.8,2,    12.34,2,    16.60,6,     1.11,2,    1.478,2,    1.673,3,    0.052,2,    2.477,2,   -999.0,9,  2.93316597
  18HU19931105, AR13a,    58,  1,     10,2,19931203, 443, 43.7657, -42.4970, 4898,   2694.9,   2.9967,  34.9311,2,  34.9297,2,    272.3,2,    281.3,2,    14.78,2,    16.75,6,     1.10,2,    0.867,2,    0.411,2,    0.024,2,    1.735,2,   -999.0,9,  2.77742493
  18HU19931105, AR13a,    58,  1,      9,2,19931203, 443, 43.7657, -42.4970, 4898,   2998.7,   2.7921,  34.9257,2,  34.9258,2,    273.5,2,    283.3,2,    15.68,2,    16.86,6,     1.13,2,    0.969,2,    0.502,2,    0.029,2,    1.782,2,   -999.0,9,  2.54597693
  18HU19931105, AR13a,    58,  1,      8,2,19931203, 443, 43.7657, -42.4970, 4898,   3292.2,   2.5967,  34.9192,2,  34.9191,2,    273.6,2,    283.3,2,    18.59,2,    17.23,6,     1.17,2,    0.866,2,    0.591,2,    0.024,2,    1.467,2,   -999.0,9,  2.32418212
  18HU19931105, AR13a,    58,  1,      7,2,19931203, 443, 43.7657, -42.4970, 4898,   3595.8,   2.4252,  34.9103,2,  34.9119,2,    275.3,2,    281.9,2,    20.70,2,    17.45,6,     1.17,2,    0.789,2,    0.264,2,    0.025,2,    1.526,2,   -999.0,9,   2.1241609
  18HU19931105, AR13a,    58,  1,      6,2,19931203, 443, 43.7657, -42.4970, 4898,   3900.1,   2.3281,  34.9042,2,  34.9214,2,    274.9,2,    277.3,2,    16.79,2,    17.56,6,     1.20,2,    1.705,2,    0.725,2,    0.034,2,    1.732,2,   -999.0,9,  1.99576527
  18HU19931105, AR13a,    58,  1,      5,2,19931203, 443, 43.7657, -42.4970, 4898,   4191.7,   2.2991,  34.9007,2,  34.9206,2,    276.2,2,    276.9,2,    11.60,2,    17.53,6,     1.17,2,    1.690,2,    0.675,2,    0.057,2,    2.541,2,   -999.0,9,  1.93418696
  18HU19931105, AR13a,    58,  1,      4,2,19931203, 443, 43.7657, -42.4970, 4898,   4495.6,   2.2956,  34.8980,2,  34.9022,2,    278.3,2,    281.8,2,    23.94,2,    17.71,6,     1.18,2,    1.029,2,    0.732,2,    0.042,2,    1.885,2,   -999.0,9,  1.89499765
  18HU19931105, AR13a,    58,  1,      3,2,19931203, 443, 43.7657, -42.4970, 4898,   4793.4,   2.2930,  34.8960,2,  34.8958,2,    281.1,2,    283.2,2,    23.55,2,    17.35,6,     1.17,2,    0.960,2,    0.504,2,    0.030,2,    1.739,2,   -999.0,9,  1.85623132
  18HU19931105, AR13a,    58,  1,      2,2,19931203, 443, 43.7657, -42.4970, 4898,   4893.0,   2.3038,  34.8960,2,  34.8962,2,    282.2,2,    281.8,2,    22.69,2,    17.19,6,     1.14,2,    0.939,2,    0.364,2,    0.025,2,    1.746,2,   -999.0,9,  1.85429551
  18HU19931105, AR13a,    59,  1,     41,2,19931203,1023, 43.6527, -41.7840, 4804,     47.7,  13.4587,  34.7927,2,  34.7951,2,    243.6,2,    259.6,2,     1.61,2,     2.14,6,     0.27,2,    2.647,2,    1.499,2,    0.185,2,    3.502,2,   2058.5,2,  13.4520339
  18HU19931105, AR13a,    59,  1,     40,2,19931203,1023, 43.6527, -41.7840, 4804,    102.5,  13.2772,  34.9983,2,  35.0006,2,    222.9,2,    240.4,2,     2.39,2,     4.53,6,     0.42,2,    2.588,2,    1.449,2,    0.173,2,    2.645,2,   2079.0,2,  13.2629502
  18HU19931105, AR13a,    59,  1,     39,2,19931203,1023, 43.6527, -41.7840, 4804,    255.2,   8.3160,  34.9694,2,  34.9721,2,    193.1,2,    194.8,2,    10.48,2,    17.85,6,     1.24,2,    1.670,2,    0.960,2,    0.083,2,    1.850,2,   2163.6,2,  8.28947132
  18HU19931105, AR13a,    59,  1,     38,2,19931203,1023, 43.6527, -41.7840, 4804,    409.1,   6.2020,  34.8529,2,  34.8561,2,    207.2,2,    205.6,2,    12.76,2,    19.41,6,     1.34,2,    1.616,2,    0.892,2,    0.097,2,    2.096,2,   2170.4,2,  6.16564935
  18HU19931105, AR13a,    59,  1,     37,2,19931203,1023, 43.6527, -41.7840, 4804,    409.2,   6.1787,  34.8529,2,  34.8605,2,    207.7,2,    207.8,2,    12.26,2,    19.10,6,     1.32,2,    1.665,2,    0.933,2,    0.096,2,    2.258,2,   2170.1,2,  6.14241007
  18HU19931105, AR13a,    59,  1,     36,2,19931203,1023, 43.6527, -41.7840, 4804,    803.7,   4.7841,  34.9925,2,  34.9941,2,    248.2,2,    251.1,2,    11.92,2,    17.69,6,     1.22,2,    1.563,2,    0.875,2,    0.087,2,    2.550,2,   2167.4,2,  4.71895662
  18HU19931105, AR13a,    59,  1,     35,2,19931203,1023, 43.6527, -41.7840, 4804,   1101.0,   4.0689,  34.9495,2,  34.9515,2,    266.3,2,    269.5,2,    11.20,2,    17.05,6,     1.16,2,    1.507,2,    0.694,2,    0.059,2,    2.740,2,   2161.4,2,  3.98335397
  18HU19931105, AR13a,    59,  1,     34,2,19931203,1023, 43.6527, -41.7840, 4804,   1394.9,   3.7189,  34.9211,2,  34.9235,2,    273.3,2,    279.3,2,    11.52,2,    16.71,6,     1.12,2,    1.580,2,    0.882,2,    0.071,2,    2.997,2,   2158.3,2,  3.61125483
  18HU19931105, AR13a,    59,  1,     33,2,19931203,1023, 43.6527, -41.7840, 4804,   1709.2,   3.4704,  34.9099,2,  34.9121,2,    277.5,2,    285.0,2,    11.48,2,    16.73,6,     1.14,2,    1.506,2,    0.850,2,    0.076,2,    2.938,2,   2156.0,2,  3.33774909
  18HU19931105, AR13a,    59,  1,     32,2,19931203,1023, 43.6527, -41.7840, 4804,   2004.3,   3.3818,  34.9150,2,  34.9169,2,    277.1,2,    285.6,2,    12.23,2,    16.70,6,     1.14,2,    1.216,2,    0.609,2,    0.056,2,    2.640,2,   2156.1,2,  3.22318855
  18HU19931105, AR13a,    59,  1,     31,2,19931203,1023, 43.6527, -41.7840, 4804,   2317.6,   3.2024,  34.9104,2,  34.9108,2,    279.3,2,    290.3,2,    12.37,2,    16.29,6,     1.11,2,    1.310,2,    0.868,2,    0.147,2,    2.690,2,   2156.6,2,  3.01677236
  18HU19931105, AR13a,    59,  1,     30,2,19931203,1023, 43.6527, -41.7840, 4804,   2617.5,   3.1768,  34.9357,2,  34.9354,2,    272.3,2,    279.3,2,    14.93,2,    16.65,6,     1.16,2,    1.314,2,    0.832,2,    0.115,2,    2.669,2,   2158.3,2,  2.96183431
  18HU19931105, AR13a,    59,  1,     29,2,19931203,1023, 43.6527, -41.7840, 4804,   2909.5,   2.9749,  34.9323,2,  34.9315,2,    272.9,2,    280.8,2,    15.46,2,    16.51,6,     1.14,2,    0.347,2,    0.243,2,    0.027,2,    1.468,2,   2159.2,2,  2.73410647
  18HU19931105, AR13a,    59,  1,     28,2,19931203,1023, 43.6527, -41.7840, 4804,   3198.3,   2.7962,  34.9271,2,  34.9272,2,    273.8,2,    279.4,2,    18.16,2,    16.77,6,     1.15,2, -999.000,9, -999.000,9, -999.000,9, -999.000,9,   2161.2,2,  2.52900792
  18HU19931105, AR13a,    59,  1,     27,2,19931203,1023, 43.6527, -41.7840, 4804,   3519.9,   2.5341,  34.9154,2,  34.9235,2,    273.9,2,    278.1,2,    17.24,2,    16.73,6,     1.16,2,    1.094,2,    0.835,2, -999.000,9,    2.288,2,   2161.6,2,  2.23854369
  18HU19931105, AR13a,    59,  1,     26,2,19931203,1023, 43.6527, -41.7840, 4804,   3814.8,   2.3896,  34.9075,2,  34.9104,2,    275.5,2,   -999.0,9,    18.12,2,    17.46,6,     1.17,2,    0.944,2,    0.678,2,    0.123,2,    2.160,2,   2163.8,2,  2.06525761
  18HU19931105, AR13a,    59,  1,     25,2,19931203,1023, 43.6527, -41.7840, 4804,   4100.4,   2.3193,  34.9018,2,  34.9381,2,    277.0,2,    270.3,2,    11.41,2,    16.99,6,     1.17,2,    1.594,2,    1.013,2,    0.097,2,    2.746,2,   2159.6,2,  1.96426656
  18HU19931105, AR13a,    59,  1,     24,2,19931203,1023, 43.6527, -41.7840, 4804,   4391.7,   2.2857,  34.8982,2,  34.9073,2,    279.2,2,    282.8,2,    18.15,2,    17.48,6,     1.18,2,    1.836,2,    0.720,2,    0.120,2,    2.720,2,   2166.9,2,  1.89776821
  18HU19931105, AR13a,    59,  1,     23,2,19931203,1023, 43.6527, -41.7840, 4804,   4643.0,   2.2748,  34.8956,2,  34.9154,2,    280.6,2,    283.1,2,    24.15,2,    17.42,6,     1.18,2,    0.688,2,    0.381,2,    0.056,2,    1.883,2,   2169.9,2,  1.85692889
  18HU19931105, AR13a,    59,  1,     22,2,19931203,1023, 43.6527, -41.7840, 4804,   4799.2,   2.2915,  34.8958,2,  34.8963,2,    282.5,2,    283.5,2,    22.54,2,    17.03,6,     1.15,2,    0.640,2,    0.482,2,    0.028,2,    1.812,2,   2168.9,2,  1.85405869