BOTTLE,20081201PRINUNIVRMK
# 5/20/05 Initialized README file  
# Data from Kozyr via CARINA web site 5/11/04 
# New version from CCHDO with NO3+NO2,CTDSAL, CTDOXY and time 11/25/08 then QC 
# Ship: Hudson 
# Cruise: 18HU93039, WOCE AR13a 
# Cruise dates: 11/05 - 12/17/1993 
# EXPOCODE: 18HU19931105 
# 104 stations with 24 place Rosette 
# Region: Labrador Current, Gulf Stream, N. Atlantic Current 
# Chief Scientist: A. Clarke 
# Hydro: Who - R.A.Clark; Status - final 
# 	Notes: Original bottle numbers alphanumeric, so used mod(sample#,100) 
# 	Significant problems with Rosette bottles throughout cruise 
# 	QC by Key 
# Nuts/O2: Who - P.Jones; Status - final 
# 	Notes: Nitrate is really NO3+NO2 
# 	QC by Key 
# TCO2: Who - P. Jones; Status - final 
# 	Notes: CRM??, method??, precision?? 
# 	Deep Hudson data agree very well with the GLODAP values for the area 
# 	QC by Key 
# TA: Who - P.Jones/B.Gershey; Status - measureda 
# 	Notes: No data in file 
# CFC: Who - P.Jones/B.Gershey; Status - final  
# 	Notes: Includes CFC-113 and CCl4 
# 	QC by Key 
EXPOCODE,SECT_ID,STNNBR,CASTNO,BTLNBR,BTLNBR_FLAG_W,DATE,TIME,LATITUDE,LONGITUDE,DEPTH,CTDPRS,CTDTMP,CTDSAL,CTDSAL_FLAG_W,SALNTY,SALNTY_FLAG_W,CTDOXY,CTDOXY_FLAG_W,OXYGEN,OXYGEN_FLAG_W,SILCAT,SILCAT_FLAG_W,NITRAT,NITRAT_FLAG_W,PHSPHT,PHSPHT_FLAG_W,CFC-11,CFC-11_FLAG_W,CFC-12,CFC-12_FLAG_W,CFC113,CFC113_FLAG_W,CCL4,CCL4_FLAG_W,TCARBN,TCARBN_FLAG_W,THETA
,,,,,,,,,,METERS,DBARS,ITS-90,PSS-78,,PSS-78,,UMOL/KG,,UMOL/KG,,UMOL/KG,,UMOL/KG,,UMOL/KG,,PMOL/KG,,PMOL/KG,,PMOL/KG,,PMOL/KG,,UMOL/KG,,DEGC
  18HU19931105, AR13a,     1,  1,     19,2,19931116,1729, 44.0993, -58.3000,  621,    406.5,   6.5383,  34.9611,2,  34.9599,2,    169.8,2,    180.0,2,  -999.00,9,  -999.00,5,  -999.00,9,    1.443,2,    0.952,2,    0.104,2,    1.532,2,   2216.1,4,  6.50107929
  18HU19931105, AR13a,     1,  1,     18,2,19931116,1729, 44.0993, -58.3000,  621,    406.8,   6.5351,  34.9601,2,  34.9591,2,    169.8,2,    181.4,2,  -999.00,9,  -999.00,5,  -999.00,9,    1.241,2,    0.571,2,    0.066,2,    1.618,2,   2216.1,4,  6.49786138
  18HU19931105, AR13a,     1,  1,     20,2,19931116,1729, 44.0993, -58.3000,  621,    406.9,   6.5418,  34.9624,2,  34.9618,2,    169.8,2,    179.5,2,  -999.00,9,  -999.00,5,  -999.00,9,    1.208,2,    0.793,2,    0.068,2,    1.624,2,   2218.2,4,   6.5045295
  18HU19931105, AR13a,     1,  1,     16,2,19931116,1729, 44.0993, -58.3000,  621,    407.0,   6.5276,  34.9589,2,  34.9584,2,    170.7,2,    179.0,2,  -999.00,9,  -999.00,5,  -999.00,9,    1.215,2,    0.670,2,    0.043,2,    1.629,2,   2218.2,4,  6.49036615
  18HU19931105, AR13a,     1,  1,     17,2,19931116,1729, 44.0993, -58.3000,  621,    408.1,   6.5328,  34.9598,2,  34.9542,2,    169.9,2,    179.3,2,  -999.00,9,  -999.00,5,  -999.00,9,    1.245,2,    0.566,2,    0.058,2,    1.616,2,   2216.3,4,  6.49544905
  18HU19931105, AR13a,     1,  1,      9,2,19931116,1729, 44.0993, -58.3000,  621,    409.3,   6.5147,  34.9576,2,  34.9577,2,    170.7,2,    180.6,2,  -999.00,9,  -999.00,5,  -999.00,9,    1.237,2,    0.831,2,    0.055,2,    1.419,2,   2217.5,4,  6.47728982
  18HU19931105, AR13a,     1,  1,     10,2,19931116,1729, 44.0993, -58.3000,  621,    409.6,   6.5164,  34.9577,2,  34.9557,2,    170.7,2,    180.1,2,  -999.00,9,  -999.00,5,  -999.00,9,    1.256,2,    0.732,2,    0.047,2,    1.292,2,   2216.6,4,  6.47895757
  18HU19931105, AR13a,     1,  1,     15,2,19931116,1729, 44.0993, -58.3000,  621,    410.7,   6.5245,  34.9591,2,  34.9584,2,    170.5,2,    179.0,2,  -999.00,9,  -999.00,5,  -999.00,9, -999.000,9, -999.000,9, -999.000,9, -999.000,9,   2211.7,4,  6.48692688
  18HU19931105, AR13a,     1,  1,      2,2,19931116,1729, 44.0993, -58.3000,  621,    410.9,   6.4962,  34.9554,2,  34.9567,2,    172.1,2,    180.6,2,  -999.00,9,  -999.00,5,  -999.00,9,    1.597,2,    0.701,2,    0.043,2,    1.362,2,   2217.7,4,  6.45869745
  18HU19931105, AR13a,     1,  1,      8,2,19931116,1729, 44.0993, -58.3000,  621,    410.9,   6.5142,  34.9576,2,  34.9592,2,    170.5,2,    179.0,2,  -999.00,9,  -999.00,5,  -999.00,9,    1.354,2,    1.077,2,    0.061,2,    1.253,2,   2215.7,4,  6.47663963
  18HU19931105, AR13a,     1,  1,      3,2,19931116,1729, 44.0993, -58.3000,  621,    411.0,   6.4984,  34.9556,2,  34.9563,2,    171.6,2,    180.8,2,  -999.00,9,  -999.00,5,  -999.00,9,    1.411,2,    1.220,2,    0.058,2,    1.260,2,   2217.1,4,  6.46088144
  18HU19931105, AR13a,     1,  1,     14,2,19931116,1729, 44.0993, -58.3000,  621,    411.0,   6.5227,  34.9589,2,  34.9580,2,    170.4,2,    179.4,2,  -999.00,9,  -999.00,5,  -999.00,9, -999.000,9, -999.000,9, -999.000,9, -999.000,9,   2217.3,4,  6.48510447
  18HU19931105, AR13a,     1,  1,      1,2,19931116,1729, 44.0993, -58.3000,  621,    411.3,   6.4923,  34.9546,2,  34.9557,2,    172.1,2,    180.7,2,  -999.00,9,  -999.00,5,  -999.00,9,    1.312,2,    0.755,2,    0.058,2,    1.814,2,   2217.5,4,  6.45477266
  18HU19931105, AR13a,     1,  1,      5,2,19931116,1729, 44.0993, -58.3000,  621,    411.6,   6.5060,  34.9569,2,  34.9574,2,    171.8,2,    177.0,2,  -999.00,9,  -999.00,5,  -999.00,9,    1.209,2,    0.800,2,    0.064,2,    1.317,2,   2216.9,4,  6.46840048
  18HU19931105, AR13a,     1,  1,     11,2,19931116,1729, 44.0993, -58.3000,  621,    411.6,   6.5018,  34.9562,2,  34.9583,2,    171.9,2,    179.5,2,  -999.00,9,  -999.00,5,  -999.00,9,    1.253,2,    0.608,2,    0.063,2,    1.691,2,   -999.0,9,  6.46421302
  18HU19931105, AR13a,     1,  1,      4,2,19931116,1729, 44.0993, -58.3000,  621,    411.6,   6.5018,  34.9562,2,  34.9568,2,    171.9,2,    173.5,2,  -999.00,9,  -999.00,5,  -999.00,9,    1.278,2,    0.702,2,    0.051,2,    1.224,2,   2216.2,4,  6.46421401
  18HU19931105, AR13a,     1,  1,      6,2,19931116,1729, 44.0993, -58.3000,  621,    411.8,   6.5137,  34.9572,2,  34.9528,2,    171.4,2,    181.0,2,  -999.00,9,  -999.00,5,  -999.00,9,    1.246,2,    0.679,2,    0.059,2,    1.446,2,   2217.7,4,  6.47606058
  18HU19931105, AR13a,     1,  1,     13,2,19931116,1729, 44.0993, -58.3000,  621,    412.0,   6.5200,  34.9589,2,  34.9580,2,    170.4,2,    179.6,2,  -999.00,9,  -999.00,5,  -999.00,9,    1.291,2,    0.626,2,    0.101,2,    2.210,2,   2217.4,4,  6.48231861
  18HU19931105, AR13a,     1,  1,     12,2,19931116,1729, 44.0993, -58.3000,  621,    412.2,   6.5195,  34.9588,2,  34.9588,2,    170.4,2,   -999.0,9,  -999.00,9,  -999.00,5,  -999.00,9, -999.000,9, -999.000,9, -999.000,9, -999.000,9,   -999.0,9,  6.48180078
  18HU19931105, AR13a,     1,  1,      7,2,19931116,1729, 44.0993, -58.3000,  621,    412.2,   6.5116,  34.9575,2,  34.9576,2,    171.1,2,    180.2,2,  -999.00,9,  -999.00,5,  -999.00,9, -999.000,9, -999.000,9, -999.000,9, -999.000,9,   2218.1,4,   6.4739263
  18HU19931105, AR13a,     2,  1,     24,2,19931117,2212, 42.9993, -50.2500,   81,      6.0,   3.8542,  32.6421,2,  32.6467,2,    272.9,2,    334.9,2,     2.63,2,     1.35,6,     0.52,2,    4.233,2,    2.443,2,    0.326,2,    6.185,2,   2059.4,2,  3.85381802
  18HU19931105, AR13a,     2,  1,     23,2,19931117,2212, 42.9993, -50.2500,   81,     42.1,   1.5720,  32.8978,2,  32.8990,2,    272.6,2,    322.6,2,     6.12,2,     4.94,6,     0.81,2,    4.960,2,    2.235,2,    0.263,2,    6.884,2,   2101.5,2,  1.57008148
  18HU19931105, AR13a,     2,  1,     22,2,19931117,2212, 42.9993, -50.2500,   81,     56.9,   0.3385,  33.0561,2,  33.0573,2,    278.2,2,    317.9,2,     8.60,2,     6.93,6,     0.94,2,    4.637,2,    2.655,2,    0.323,2,    6.157,2,   2123.3,2, 0.336476929
  18HU19931105, AR13a,     2,  1,     21,2,19931117,2212, 42.9993, -50.2500,   81,     75.3,   0.1988,  33.0861,2,  33.0893,2,    284.4,2,    318.2,2,     8.59,2,     7.17,6,     0.95,2,    4.915,2,    2.645,2,    0.351,2,    6.986,2,   2125.5,2,  0.19619533
  18HU19931105, AR13a,     3,  1,     34,2,19931118,  36, 42.7203, -50.2530, 1189,     15.7,   2.4973,  32.7499,2,  32.7473,2,    265.4,2,    331.5,2,     4.54,2,     3.14,6,     0.63,2,    4.751,2,    3.584,2,    0.378,2,    6.901,2,   2077.0,2,  2.49647128
  18HU19931105, AR13a,     3,  1,     33,2,19931118,  36, 42.7203, -50.2530, 1189,     55.9,  -0.7113,  33.2925,2,  33.2778,2,    269.2,2,    318.8,2,     8.95,2,     8.33,6,     0.97,2,    5.091,2,    2.995,2,    0.428,2,    6.996,2,   2128.1,2,-0.712805234
  18HU19931105, AR13a,     3,  1,     32,2,19931118,  36, 42.7203, -50.2530, 1189,    205.6,  -0.3782,  33.7270,2,  33.7291,2,    268.5,2,    311.3,2,    10.35,2,    11.64,6,     1.03,2,    4.595,2,    2.931,2,    0.316,2,    5.924,2,   2137.7,2,-0.384794581
  18HU19931105, AR13a,     3,  1,     31,2,19931118,  36, 42.7203, -50.2530, 1189,    205.6,  -0.3782,  33.7270,2,  33.7297,2,    268.5,2,    311.3,2,    10.11,2,    11.76,6,     1.03,2,    4.850,2,    3.368,2,    0.838,4,    6.400,2,   2137.4,2,-0.384794815
  18HU19931105, AR13a,     3,  1,     30,2,19931118,  36, 42.7203, -50.2530, 1189,    394.3,   3.0409,  34.6242,2,  34.6196,2,    245.9,2,    282.6,2,    11.43,2,    16.13,6,     1.11,2,    3.796,2,    2.360,2,    0.264,2,    4.813,2,   -999.0,9,   3.0158098
  18HU19931105, AR13a,     3,  1,     29,2,19931118,  36, 42.7203, -50.2530, 1189,    576.1,   3.5898,  34.7695,2,  34.7696,2,    248.6,2,    286.2,2,    10.62,2,    16.43,6,     1.08,2,    3.530,2,    2.509,2,    0.221,2,    4.592,2,   2157.6,2,  3.54965388
  18HU19931105, AR13a,     3,  1,     28,2,19931118,  36, 42.7203, -50.2530, 1189,    762.6,   3.8848,  34.8500,2,  34.8500,2,    250.2,2,    286.6,2,    10.29,2,    16.77,6,     1.11,2,    3.605,2,    2.242,2,    0.156,2,    5.018,2,   2158.0,2,  3.82869923
  18HU19931105, AR13a,     3,  1,     27,2,19931118,  36, 42.7203, -50.2530, 1189,    952.5,   3.8112,  34.8628,2,  34.8636,2,    253.8,2,    289.1,2,     9.85,2,    16.86,6,     1.09,2,    3.520,2,    2.135,2,    0.274,2,    4.806,2,   2157.6,2,  3.74027935
  18HU19931105, AR13a,     3,  1,     26,2,19931118,  36, 42.7203, -50.2530, 1189,   1119.0,   3.6547,  34.8632,2,  34.8655,2,    257.4,2,    291.6,2,     9.93,2,    16.98,6,     1.12,2,    3.095,2,    2.062,2, -999.000,9,    4.265,2,   2157.4,2,  3.57131995
  18HU19931105, AR13a,     3,  1,     25,2,19931118,  36, 42.7203, -50.2530, 1189,   1164.1,   3.6179,  34.8665,2,  34.8657,2,    258.6,2,    291.8,2,     9.98,2,    16.83,6,     1.12,2,    3.376,2,    1.805,2,    0.202,2,    4.703,2,   2158.0,2,  3.53109152
  18HU19931105, AR13a,     4,  1,     47,2,19931118, 327, 42.4993, -50.2500, 2326,      8.5,   5.4962,  32.8784,2,  32.8794,2,    264.7,2,    320.3,2,     1.59,2,     0.00,6,     0.31,2,    4.135,2,    2.914,2,    0.336,2,    5.993,2,   2041.9,2,  5.49554338
  18HU19931105, AR13a,     4,  1,     46,2,19931118, 327, 42.4993, -50.2500, 2326,     57.6,   4.3360,  33.1533,2,  33.1533,2,    264.5,2,    321.7,2,     1.84,2,     1.10,6,     0.38,2,    4.567,2,    2.860,2,    0.368,2,    6.337,2,   2059.6,2,   4.3320353
  18HU19931105, AR13a,     4,  1,     45,2,19931118, 327, 42.4993, -50.2500, 2326,    105.1,   1.3373,  33.9048,2,  33.9051,2,    266.6,2,    313.1,2,     6.73,2,    10.40,6,     0.86,2,    4.492,2,    2.364,2,    0.273,2,    5.642,2,   2141.9,2,  1.33246588
  18HU19931105, AR13a,     4,  1,     44,2,19931118, 327, 42.4993, -50.2500, 2326,    156.4,   1.2951,  34.0988,2,  34.1002,2,    259.8,2,    300.1,2,     9.65,2,    13.02,6,     1.08,2,    4.395,2,    2.259,2,    0.256,2,    5.711,2,   2141.0,2,  1.28783538
  18HU19931105, AR13a,     4,  1,     43,2,19931118, 327, 42.4993, -50.2500, 2326,    252.5,   3.2176,  34.5873,2,  34.5969,2,    236.2,2,    267.8,2,    11.04,2,    16.56,6,     1.19,2,    3.352,2,    1.884,2,    0.196,2,    4.157,2,   2158.5,2,  3.20147168
  18HU19931105, AR13a,     4,  1,     42,2,19931118, 327, 42.4993, -50.2500, 2326,    318.5,   5.0615,  34.9245,2,  34.9268,2,    211.2,2,    231.6,2,    12.77,2,    19.42,6,     1.30,2,    1.815,2,    0.906,2,    0.137,2,    2.254,2,   2170.9,2,  5.03617003
  18HU19931105, AR13a,     4,  1,     41,2,19931118, 327, 42.4993, -50.2500, 2326,    601.3,   4.7004,  35.0047,2,  35.0072,2,    227.5,2,    250.6,2,    11.95,2,    18.66,6,     1.22,2,    1.662,2,    0.869,2,    0.105,2,    2.219,2,   2168.6,2,  4.65292976
  18HU19931105, AR13a,     4,  1,     40,2,19931118, 327, 42.4993, -50.2500, 2326,    811.1,   4.2090,  34.9692,2,  34.9699,2,    237.6,2,    264.8,2,    11.61,2,    18.15,6,     1.19,2,    1.779,2,    0.806,2,    0.087,2,    2.462,2,   2165.2,2,   4.1468331
  18HU19931105, AR13a,     4,  1,     39,2,19931118, 327, 42.4993, -50.2500, 2326,   1014.2,   3.4009,  34.8644,2,  34.8645,2,    257.9,2,    291.8,2,     9.93,2,    16.76,6,     1.11,2,    3.315,2,    1.694,2,    0.142,2,    4.249,2,   2159.0,2,  3.32812825
  18HU19931105, AR13a,     4,  1,     38,2,19931118, 327, 42.4993, -50.2500, 2326,   1322.9,   3.3405,  34.8736,2,  34.8755,2,    259.0,2,    292.0,2,    10.28,2,    16.67,6,     1.11,2,    3.090,2,    1.452,2,    0.140,2,    3.835,2,   2158.5,2,  3.24305208
  18HU19931105, AR13a,     4,  1,     37,2,19931118, 327, 42.4993, -50.2500, 2326,   1615.4,   3.1489,  34.8598,2,  34.8606,2,    264.2,2,    297.3,2,    10.46,2,    16.52,6,     1.11,2,    2.921,2,    1.438,2,    0.092,2,    5.034,2,   2156.7,2,  3.02872739
  18HU19931105, AR13a,     4,  1,     36,2,19931118, 327, 42.4993, -50.2500, 2326,   1913.8,   3.1730,  34.8751,2,  34.8772,2,    264.8,2,    292.7,2,    10.91,2,    16.99,6,     1.12,2,    2.379,2,    1.266,2,    0.137,2,    3.567,2,   2157.6,2,  3.02594241
  18HU19931105, AR13a,     4,  1,     35,2,19931118, 327, 42.4993, -50.2500, 2326,   2254.6,   3.1261,  34.9086,2,  34.9099,2,    262.3,2,    284.2,2,    12.81,2,    16.89,6,     1.12,2,    1.824,2,    0.803,2,    0.087,2,    2.359,2,   2159.8,2,  2.94783294
  18HU19931105, AR13a,     5,  1,     67,2,19931118, 704, 42.2637, -50.2450, 3099,      6.3,   9.0386,  32.7436,2,  32.7461,2,    249.5,2,    294.4,2,     1.40,2,     0.00,6,     0.29,2,    3.854,2,    1.902,2,    0.224,2,    5.739,2,   2018.6,2,  9.03794225
  18HU19931105, AR13a,     5,  1,     66,2,19931118, 704, 42.2637, -50.2450, 3099,    122.6,   5.7560,  34.4725,2,  34.4601,2,    211.4,2,    231.7,2,     9.83,2,    15.09,6,     1.09,2,    3.250,2,    1.610,2,    0.137,2,    3.624,2,   2148.3,2,  5.74585645
  18HU19931105, AR13a,     5,  1,     65,2,19931118, 704, 42.2637, -50.2450, 3099,    181.2,   4.7516,  34.5081,2,  34.5032,2,    212.8,2,    230.8,2,    11.44,2,    17.08,6,     1.22,2,    3.129,2,    1.603,2,    0.182,2,    3.908,2,   2158.8,2,  4.73794281
  18HU19931105, AR13a,     5,  1,     64,2,19931118, 704, 42.2637, -50.2450, 3099,    253.5,   6.8706,  35.0084,2,  35.0048,2,    185.5,2,    184.8,2,    13.79,2,    21.98,6,     1.42,2,    1.152,2,    0.494,2,    0.114,2,    1.149,2,   2182.1,2,   6.8469959
  18HU19931105, AR13a,     5,  1,     62,2,19931118, 704, 42.2637, -50.2450, 3099,    349.2,   4.5453,  34.8004,2,  34.7941,2,    221.4,2,    240.0,2,    12.03,2,    18.51,6,     1.21,2,    2.543,2,    1.197,2,    0.156,2,    3.326,2,   2166.0,2,  4.51893446
  18HU19931105, AR13a,     5,  1,     63,2,19931118, 704, 42.2637, -50.2450, 3099,    350.7,   4.6310,  34.8132,2,  34.8074,2,    221.2,2,    236.4,2,    12.08,2,    18.51,6,     1.24,2,    2.434,2,    1.105,2,    0.128,2,    3.110,2,   2168.3,2,  4.60427394
  18HU19931105, AR13a,     5,  1,     61,2,19931118, 704, 42.2637, -50.2450, 3099,    398.2,   5.6447,  35.0342,2,  35.0327,2,    207.9,2,    220.2,2,    13.24,2,    20.48,6,     1.32,2,    1.058,2,    0.591,2,    0.128,2,    1.398,2,   2176.8,2,  5.61093487
  18HU19931105, AR13a,     5,  1,     60,2,19931118, 704, 42.2637, -50.2450, 3099,    478.6,   5.1786,  35.0264,2,  35.0256,2,    219.3,2,    233.8,2,    12.66,2,    19.62,6,     1.29,2,    1.128,2,    0.526,2,    0.075,2,    1.979,2,   -999.0,9,  5.13946412
  18HU19931105, AR13a,     5,  1,     59,2,19931118, 704, 42.2637, -50.2450, 3099,    577.0,   4.8618,  35.0179,2,  35.0171,2,    226.8,2,    243.7,2,    12.23,2,    18.83,6,     1.24,2,    1.129,2,    0.607,2,    0.094,2,    1.802,2,   2168.7,2,  4.81562224
  18HU19931105, AR13a,     5,  1,     57,2,19931118, 704, 42.2637, -50.2450, 3099,    770.7,   4.4006,  34.9920,2,  34.9923,2,    236.6,2,    258.5,2,    11.84,2,    18.27,6,     1.19,2,    1.374,2,    1.146,2,    0.109,2,    2.132,2,   2163.1,2,  4.34059302
  18HU19931105, AR13a,     5,  1,     58,2,19931118, 704, 42.2637, -50.2450, 3099,    771.4,   4.3976,  34.9918,2,  34.9898,2,    237.4,2,    257.0,2,    11.84,2,    18.26,6,     1.19,2,    1.240,2,    0.609,2,    0.097,2,    2.126,2,   2164.3,2,  4.33755557
  18HU19931105, AR13a,     5,  1,     56,2,19931118, 704, 42.2637, -50.2450, 3099,    971.6,   4.1269,  34.9756,2,  34.9742,2,    243.8,2,    265.6,2,    11.80,2,    18.04,6,     1.17,2,    1.332,2,    0.697,2,    0.092,2,    2.347,2,   2161.2,2,  4.05187504
  18HU19931105, AR13a,     5,  1,     55,2,19931118, 704, 42.2637, -50.2450, 3099,   1177.4,   3.8595,  34.9553,2,  34.9557,2,    247.8,2,    271.6,2,    12.08,2,    17.70,6,     1.16,2,    1.137,2,    0.641,2,    0.135,2,    2.265,2,   2159.2,2,  3.76922495
  18HU19931105, AR13a,     5,  1,     54,2,19931118, 704, 42.2637, -50.2450, 3099,   1495.0,   3.7315,  34.9603,2,  34.9555,2,    250.0,2,    272.7,2,    12.78,2,    17.66,6,     1.15,2,    0.814,2,    0.528,2,    0.077,2,    1.841,2,   2158.8,2,  3.61479653
  18HU19931105, AR13a,     5,  1,     53,2,19931118, 704, 42.2637, -50.2450, 3099,   2027.4,   3.4252,  34.9668,2,  34.9675,2,    251.3,2,    270.4,2,    16.01,2,    17.94,6,     1.19,2,    0.236,2,    0.143,2,    0.000,2,    0.950,2,   2160.0,2,  3.26359442
  18HU19931105, AR13a,     5,  1,     52,2,19931118, 704, 42.2637, -50.2450, 3099,   2028.9,   3.4252,  34.9668,2,  34.9660,2,    250.8,2,    269.7,2,    16.10,2,    18.20,6,     1.23,2,    0.265,2,    0.366,2,    0.068,2,    0.856,2,   2161.2,2,  3.26345751
  18HU19931105, AR13a,     5,  1,     51,2,19931118, 704, 42.2637, -50.2450, 3099,   2284.3,   3.2219,  34.9561,2,  34.9510,2,    254.0,2,    271.0,2,    16.94,2,    18.05,6,     1.22,2,    0.239,2,    0.130,2,    0.071,2,    0.845,2,   2161.0,2,  3.03901806
  18HU19931105, AR13a,     5,  1,     50,2,19931118, 704, 42.2637, -50.2450, 3099,   2539.8,   2.9635,  34.9356,2,  34.9368,2,    260.9,2,    275.7,2,    16.38,2,    17.33,6,     1.20,2,    0.641,2,    0.371,2,    0.170,2,    1.389,2,   2159.3,2,  2.76029934
  18HU19931105, AR13a,     5,  1,     49,2,19931118, 704, 42.2637, -50.2450, 3099,   2793.4,   2.6599,  34.9217,2,  34.9196,2,    263.3,2,    281.2,2,    16.00,2,    16.56,6,     1.10,2,    0.939,2,    0.482,2,    0.077,2,    1.728,2,   2160.2,2,  2.43749769