BOTTLE,20081201PRINUNIVRMK
EXPOCODE,SECT_ID,STNNBR,CASTNO,BTLNBR,BTLNBR_FLAG_W,DATE,TIME,LATITUDE,LONGITUDE,DEPTH,CTDPRS,CTDTMP,CTDSAL,CTDSAL_FLAG_W,SALNTY,SALNTY_FLAG_W,CTDOXY,CTDOXY_FLAG_W,OXYGEN,OXYGEN_FLAG_W,SILCAT,SILCAT_FLAG_W,NITRAT,NITRAT_FLAG_W,PHSPHT,PHSPHT_FLAG_W,CFC-11,CFC-11_FLAG_W,CFC-12,CFC-12_FLAG_W,CFC113,CFC113_FLAG_W,CCL4,CCL4_FLAG_W,TCARBN,TCARBN_FLAG_W,THETA
,,,,,,,,,,METERS,DBARS,ITS-90,PSS-78,,PSS-78,,UMOL/KG,,UMOL/KG,,UMOL/KG,,UMOL/KG,,UMOL/KG,,PMOL/KG,,PMOL/KG,,PMOL/KG,,PMOL/KG,,UMOL/KG,,DEGC
  18HU19931105, AR13a,    15,  1,     67,2,19931121,1248, 38.0717, -50.2510, 5423,     46.3,  21.6590,  36.4506,2,  36.4535,2,    206.8,2,    222.2,2,     0.77,2,     0.00,6,     0.00,2, -999.000,9, -999.000,9, -999.000,9, -999.000,9,   2039.5,2,  21.6498934
  18HU19931105, AR13a,    15,  1,     68,2,19931121,1248, 38.0717, -50.2510, 5423,     46.3,  21.6590,  36.4506,2,  36.4546,2,    206.8,2,    221.8,2,     0.78,2,     0.00,6,     0.00,2, -999.000,9, -999.000,9, -999.000,9, -999.000,9,   2046.1,2,  21.6498934
  18HU19931105, AR13a,    15,  1,     66,2,19931121,1248, 38.0717, -50.2510, 5423,    348.0,  18.0399,  36.5307,2,  36.5325,2,    207.6,2,    217.1,2,     1.42,2,     3.42,6,     0.13,2, -999.000,9, -999.000,9, -999.000,9, -999.000,9,   2084.1,2,  17.9792351
  18HU19931105, AR13a,    15,  1,     65,2,19931121,1248, 38.0717, -50.2510, 5423,    608.1,  16.5150,  36.2598,2,  36.2620,2,    197.5,2,    208.6,2,     2.44,2,     6.65,6,     0.34,2, -999.000,9, -999.000,9, -999.000,9, -999.000,9,   2102.2,3,  16.4146604
  18HU19931105, AR13a,    15,  1,     63,2,19931121,1248, 38.0717, -50.2510, 5423,   1197.1,   7.2654,  35.1817,2,  35.2046,2,    197.1,2,    201.2,2,    12.31,2,    20.01,6,     1.34,2, -999.000,9, -999.000,9, -999.000,9, -999.000,9,   2174.3,2,  7.14256798
  18HU19931105, AR13a,    15,  1,     64,2,19931121,1248, 38.0717, -50.2510, 5423,   1197.1,   7.2970,  35.1834,2,  35.1809,2,    197.1,2,    198.8,2,    12.54,2,    20.52,6,     1.38,2, -999.000,9, -999.000,9, -999.000,9, -999.000,9,   2177.6,2,  7.17393603
  18HU19931105, AR13a,    15,  1,     62,2,19931121,1248, 38.0717, -50.2510, 5423,   1498.8,   5.0449,  35.0524,2,  35.0744,2,    238.3,2,    245.9,2,    11.58,2,    18.44,6,     1.24,2, -999.000,9, -999.000,9, -999.000,9, -999.000,9,   2164.9,2,   4.9128273
  18HU19931105, AR13a,    15,  1,     61,2,19931121,1248, 38.0717, -50.2510, 5423,   1803.8,   4.2451,  34.9966,2,  35.0047,2,    254.6,2,    264.3,2,    11.82,2,    17.85,6,     1.21,2, -999.000,9, -999.000,9, -999.000,9, -999.000,9,   2158.0,2,  4.09315543
  18HU19931105, AR13a,    15,  1,     60,2,19931121,1248, 38.0717, -50.2510, 5423,   2103.2,   3.7787,  34.9562,2,  34.9571,2,    262.0,2,    272.2,2,    12.52,2,    17.92,6,     1.21,2, -999.000,9, -999.000,9, -999.000,9, -999.000,9,   2156.3,2,  3.60442709
  18HU19931105, AR13a,    15,  1,     59,2,19931121,1248, 38.0717, -50.2510, 5423,   2397.3,   3.6296,  34.9686,2,  35.0313,2,    259.1,2,    256.5,2,    13.31,2,    17.93,6,     1.20,2, -999.000,9, -999.000,9, -999.000,9, -999.000,9,   2161.4,2,  3.42823221
  18HU19931105, AR13a,    15,  1,     58,2,19931121,1248, 38.0717, -50.2510, 5423,   2699.7,   3.4118,  34.9687,2,  34.9687,2,    257.0,2,   -999.0,9,    11.05,2,    18.71,6,     1.28,2, -999.000,9, -999.000,9, -999.000,9, -999.000,9,   2164.4,2,  3.18374489
  18HU19931105, AR13a,    15,  1,     57,2,19931121,1248, 38.0717, -50.2510, 5423,   2998.1,   3.1434,  34.9548,2,  34.9566,2,    257.6,2,    269.7,2,    19.78,2,    18.34,6,     1.27,2, -999.000,9, -999.000,9, -999.000,9, -999.000,9,   2164.3,2,  2.88962151
  18HU19931105, AR13a,    15,  1,     56,2,19931121,1248, 38.0717, -50.2510, 5423,   3299.5,   2.9119,  34.9409,2,  34.9423,2,    259.3,2,    271.9,2,    21.70,2,    18.25,6,     1.28,2, -999.000,9, -999.000,9, -999.000,9, -999.000,9,   2168.9,2,   2.6310777
  18HU19931105, AR13a,    15,  1,     55,2,19931121,1248, 38.0717, -50.2510, 5423,   3598.8,   2.6537,  34.9250,2,  34.9303,2,    261.8,2,    272.6,2,    23.08,2,    18.14,6,     1.28,2, -999.000,9, -999.000,9, -999.000,9, -999.000,9,   2169.4,2,  2.34642635
  18HU19931105, AR13a,    15,  1,     54,2,19931121,1248, 38.0717, -50.2510, 5423,   3899.7,   2.4646,  34.9119,2,  34.9119,2,    262.6,2,   -999.0,9,  -999.00,9,     8.81,4,  -999.00,9, -999.000,9, -999.000,9, -999.000,9, -999.000,9,   -999.0,9,  2.12865137
  18HU19931105, AR13a,    15,  1,     53,2,19931121,1248, 38.0717, -50.2510, 5423,   4195.0,   2.3550,  34.9020,2,  34.9423,2,    263.4,2,    272.2,2,    27.05,2,    18.29,6,     1.28,2, -999.000,9, -999.000,9, -999.000,9, -999.000,9,   -999.0,9,  1.98794219
  18HU19931105, AR13a,    15,  1,     52,2,19931121,1248, 38.0717, -50.2510, 5423,   4501.2,   2.3013,  34.8952,2,  34.9059,2,    264.4,2,    271.5,2,    29.46,2,    18.65,6,     1.31,2, -999.000,9, -999.000,9, -999.000,9, -999.000,9,   2172.4,2,  1.89982442
  18HU19931105, AR13a,    15,  1,     51,2,19931121,1248, 38.0717, -50.2510, 5423,   4808.4,   2.2816,  34.8891,2,  34.9732,2,    263.5,2,    264.0,2,    29.72,2,    18.41,6,     1.28,2, -999.000,9, -999.000,9, -999.000,9, -999.000,9,   2177.3,2,  1.84277763
  18HU19931105, AR13a,    15,  1,     50,2,19931121,1248, 38.0717, -50.2510, 5423,   5112.1,   2.2591,  34.8820,2,  34.8815,2,    263.2,2,    266.8,2,  -999.00,9,  -999.00,9,  -999.00,9, -999.000,9, -999.000,9, -999.000,9, -999.000,9,   2180.6,2,  1.78357133
  18HU19931105, AR13a,    15,  1,     49,2,19931121,1248, 38.0717, -50.2510, 5423,   5398.5,   2.2344,  34.8735,2,  34.8879,2,    262.1,2,    263.7,2,  -999.00,9,  -999.00,9,  -999.00,9, -999.000,9, -999.000,9, -999.000,9, -999.000,9,   2186.7,2,  1.72276217
  18HU19931105, AR13a,    16,  1,     87,2,19931121,1905, 38.0652, -49.5460, 5410,     54.8,  21.9362,  36.4778,2,  36.4778,2,    204.1,2,   -999.0,9,  -999.00,9,  -999.00,9,  -999.00,9, -999.000,9, -999.000,9, -999.000,9, -999.000,9,   -999.0,9,  21.9253214
  18HU19931105, AR13a,    16,  1,     86,2,19931121,1905, 38.0652, -49.5460, 5410,     54.8,  21.9362,  36.4778,2,  36.5466,2,    204.1,2,    208.8,2,     1.87,2,     3.56,6,     0.15,2,    1.930,2,    0.960,2,    0.048,2,    0.837,2,   2084.7,2,  21.9253178
  18HU19931105, AR13a,    16,  1,     88,2,19931121,1905, 38.0652, -49.5460, 5410,     54.8,  21.9362,  36.4778,2,  36.4813,2,    204.1,2,    219.1,2,     0.85,2,     0.00,6,     0.00,2,    1.834,2,    0.948,2,    0.113,2,    2.264,2,   2043.7,2,  21.9253212
  18HU19931105, AR13a,    16,  1,     85,2,19931121,1905, 38.0652, -49.5460, 5410,    699.0,  14.9049,  35.9831,2,  35.9804,2,    191.2,2,    196.5,2,     4.09,2,    10.31,6,     0.59,2,    1.666,2,    0.837,2,    0.060,2,    0.771,2,   2120.6,3,  14.7970276
  18HU19931105, AR13a,    16,  1,     84,2,19931121,1905, 38.0652, -49.5460, 5410,    883.4,  10.9593,  35.4082,2,  35.4133,2,    167.7,2,    164.2,2,     9.89,2,    19.33,6,     1.25,2,    1.020,2,    0.133,3,    0.021,2,    0.673,2,   2168.3,2,  10.8467331
  18HU19931105, AR13a,    16,  1,     82,2,19931121,1905, 38.0652, -49.5460, 5410,   1463.2,   4.9431,  35.0423,2,  35.0687,2,    239.5,2,    244.7,2,    11.68,2,    18.58,6,     1.24,2,    1.142,2,    0.516,2,    0.038,2,    1.814,2,   2162.5,2,  4.81564981
  18HU19931105, AR13a,    16,  1,     83,2,19931121,1905, 38.0652, -49.5460, 5410,   1467.8,   4.9447,  35.0428,2,  35.0869,2,    239.8,2,    244.2,2,    11.66,2,    18.15,6,     1.19,2,    1.159,2,    0.532,2,    0.038,2,    1.856,2,   2163.3,2,  4.81674127
  18HU19931105, AR13a,    16,  1,     81,2,19931121,1905, 38.0652, -49.5460, 5410,   1704.9,   4.4461,  35.0138,2,  35.0138,2,    250.1,2,    259.9,2,    11.81,2,    18.04,6,     1.20,2,    1.002,2,    0.463,2,    0.033,2,    1.914,2,   2160.4,2,   4.3011237
  18HU19931105, AR13a,    16,  1,     79,2,19931121,1905, 38.0652, -49.5460, 5410,   2331.0,   3.6998,  34.9650,2,  34.9650,2,    260.1,2,   -999.0,9,    10.48,2,    15.53,4,     1.00,3,    1.058,2,    0.480,2,    0.036,2,    1.499,2,   2149.0,3,  3.50415988
  18HU19931105, AR13a,    16,  1,     80,2,19931121,1905, 38.0652, -49.5460, 5410,   2331.0,   3.6998,  34.9650,2,  34.9631,2,    260.1,2,    272.1,2,    12.23,2,    17.90,6,     1.20,2,    0.983,2,    0.435,2,    0.030,2,    1.942,2,   2156.1,2,  3.50416699
  18HU19931105, AR13a,    16,  1,     78,2,19931121,1905, 38.0652, -49.5460, 5410,   2923.1,   3.2613,  34.9599,2,  34.9627,2,    257.6,2,    267.4,2,    18.55,2,    18.44,6,     1.23,2,    0.354,2,    0.180,2,    0.110,2,    0.870,2,   2159.9,2,  3.01292663
  18HU19931105, AR13a,    16,  1,     77,2,19931121,1905, 38.0652, -49.5460, 5410,   2926.9,   3.2533,  34.9589,2,  34.9704,2,    257.3,2,    269.0,2,    18.38,2,    18.44,6,     1.23,2,    0.327,2,    0.109,2,    0.012,2,    0.828,2,   2163.1,2,  3.00465704
  18HU19931105, AR13a,    16,  1,     76,2,19931121,1905, 38.0652, -49.5460, 5410,   3223.6,   2.9558,  34.9437,2,  34.9471,2,    257.6,2,    270.1,2,    21.57,2,    18.38,6,     1.26,2,    0.228,2,    0.092,2,    0.000,2,    0.665,2,   2166.3,2,  2.68214089
  18HU19931105, AR13a,    16,  1,     75,2,19931121,1905, 38.0652, -49.5460, 5410,   3518.6,   2.7146,  34.9274,2,  34.9295,2,    263.3,2,    273.8,2,    21.91,2,    18.05,6,     1.22,2,    0.344,2,    0.095,2,    0.011,2,    0.871,2,   2162.7,2,  2.41466179
  18HU19931105, AR13a,    16,  1,     74,2,19931121,1905, 38.0652, -49.5460, 5410,   3893.5,   2.4626,  34.9111,2,  34.9111,2,    263.1,2,   -999.0,9,  -999.00,9,     3.64,4,  -999.00,9,    1.791,2,    0.952,3,    0.078,2,    1.106,2,   -999.0,9,  2.12741429
  18HU19931105, AR13a,    16,  1,     72,2,19931121,1905, 38.0652, -49.5460, 5410,   4492.3,   2.3110,  34.8959,2,  34.9831,2,    264.0,2,    265.1,2,    22.66,2,    18.32,6,     1.25,2,    0.483,2,    0.229,2,    0.021,2,    1.069,2,   2165.3,2,  1.90976221
  18HU19931105, AR13a,    16,  1,     73,2,19931121,1905, 38.0652, -49.5460, 5410,   4496.1,   2.3115,  34.8958,2,  34.9465,2,    264.1,2,    267.7,2,    28.17,2,    18.74,6,     1.27,2, -999.000,9, -999.000,9, -999.000,9, -999.000,9,   2168.3,2,  1.91004322
  18HU19931105, AR13a,    16,  1,     71,2,19931121,1905, 38.0652, -49.5460, 5410,   4795.4,   2.2947,  34.8908,2,  34.9091,2,    264.1,2,    268.6,2,    31.42,2,    19.05,6,     1.31,2,    0.366,2,    0.144,2,    0.000,2,    1.357,2,   2174.0,2,  1.85753183
  18HU19931105, AR13a,    16,  1,     70,2,19931121,1905, 38.0652, -49.5460, 5410,   5106.3,   2.2905,  34.8869,2,  34.8873,2,    266.2,2,    270.3,2,    33.15,2,    19.55,6,     1.33,2, -999.000,9, -999.000,9, -999.000,9, -999.000,9,   2175.6,2,  1.81459651
  18HU19931105, AR13a,    16,  1,     69,2,19931121,1905, 38.0652, -49.5460, 5410,   5405.8,   2.2672,  34.8776,2,  34.8863,2,    261.5,2,    263.4,2,    39.01,2,    20.53,6,     1.39,2,    0.288,2,    0.106,2,    0.012,2,    0.611,2,   2184.9,2,  1.75345439
  18HU19931105, AR13a,    17,  1,      7,2,19931121, 120, 38.0685, -48.8680, 5375,    319.0,  18.3122,  36.5455,2,  36.5483,2,    199.4,2,    209.6,2,     1.35,2,     3.58,6,     0.18,2, -999.000,9, -999.000,9, -999.000,9, -999.000,9,   2087.0,2,  18.2560505
  18HU19931105, AR13a,    17,  1,      6,2,19931121, 120, 38.0685, -48.8680, 5375,    660.2,  14.9585,  35.9795,2,  35.9822,2,    181.0,2,    188.9,2,     4.14,2,    11.03,6,     0.65,2,    1.695,2,    0.913,2,    0.044,2,    0.521,2,   2124.4,3,  14.8564916
  18HU19931105, AR13a,    17,  1,      5,2,19931121, 120, 38.0685, -48.8680, 5375,    966.8,   8.3674,  35.1225,2,  35.1311,2,    170.3,2,    164.6,2,    13.70,2,    23.13,6,     1.53,2,    0.960,2,    0.407,2,    0.030,2,    0.641,2,   2184.7,2,  8.26197844
  18HU19931105, AR13a,    17,  1,      4,2,19931121, 120, 38.0685, -48.8680, 5375,   1022.3,   6.1965,  34.8380,2,  34.8444,0,    202.0,2,    200.3,2,    12.92,2,    20.52,6,     1.40,2,    1.900,2,    0.852,2,    0.083,2,    2.031,3,   2172.8,2,  6.10141259
  18HU19931105, AR13a,    17,  1,      3,2,19931121, 120, 38.0685, -48.8680, 5375,   1105.3,   6.5923,  35.0796,2,  35.0950,2,    202.6,2,    203.7,2,    12.65,2,    20.53,6,     1.37,2,    1.069,2,    0.513,2,    0.035,2,    1.228,2,   2178.5,2,  6.48518736
  18HU19931105, AR13a,    17,  1,      2,2,19931121, 120, 38.0685, -48.8680, 5375,   1297.9,   5.1847,  35.0350,2,  35.0468,2,    232.9,2,    237.2,2,    12.19,2,    19.21,6,     1.29,2,    1.198,2,    0.656,2,    0.034,2,    1.659,2,   2168.4,2,  5.07086579
  18HU19931105, AR13a,    17,  1,      1,2,19931121, 120, 38.0685, -48.8680, 5375,   1606.2,   4.2741,  34.9789,2,  34.9863,2,    255.2,2,    264.9,2,    11.57,2,    18.13,6,     1.22,2,    1.452,2,    0.634,2,    0.041,2,    2.261,2,   2158.8,2,   4.1407803
  18HU19931105, AR13a,    17,  1,      0,2,19931121, 120, 38.0685, -48.8680, 5375,   1854.1,   3.9588,  34.9534,2,  34.9547,2,    261.0,2,    271.5,2,    11.59,2,    17.76,6,     1.16,2,    1.295,2,    0.723,2,    0.118,2,    2.313,2,   2156.9,2,  3.80603623
  18HU19931105, AR13a,    17,  1,     99,2,19931121, 120, 38.0685, -48.8680, 5375,   2197.7,   3.6747,  34.9409,2,  34.9409,2,    265.2,2,    258.6,2,    11.65,2,    17.58,6,     1.16,2, -999.000,9,    0.651,2,    0.103,2,    1.833,2,   2156.0,2,  3.49284086
  18HU19931105, AR13a,    17,  1,     98,2,19931121, 120, 38.0685, -48.8680, 5375,   2504.4,   3.5316,  34.9477,2,  34.9477,2,    262.5,2,   -999.0,9,    11.46,2,    18.78,6,     1.25,2,    1.212,2,    0.840,2,    0.044,2,    1.490,2,   2162.7,2,  3.32144199
  18HU19931105, AR13a,    17,  1,     97,2,19931121, 120, 38.0685, -48.8680, 5375,   2803.8,   3.3454,  34.9569,2,  34.9593,2,    259.8,2,    271.3,2,    16.32,2,    17.97,6,     1.20,2, -999.000,9,    0.154,2,    0.022,2,    0.973,2,   2161.5,2,  3.10785932
  18HU19931105, AR13a,    17,  1,     96,2,19931121, 120, 38.0685, -48.8680, 5375,   3094.7,   3.0866,  34.9454,2,  34.9464,2,    260.9,2,    274.5,2,    18.20,2,    17.92,6,     1.20,2, -999.000,9,    0.118,2,    0.014,2,    0.893,2,   2162.0,2,  2.82382945
  18HU19931105, AR13a,    17,  1,     95,2,19931121, 120, 38.0685, -48.8680, 5375,   3400.7,   2.8216,  34.9325,2,  34.9335,2,    263.4,2,    279.2,2,    20.08,2,    17.79,6,     1.21,2, -999.000,9,    0.136,2,    0.023,2,    0.860,2,   2164.1,2,  2.53195362
  18HU19931105, AR13a,    17,  1,     94,2,19931121, 120, 38.0685, -48.8680, 5375,   3698.2,   2.5799,  34.9190,2,  34.9190,2,    264.5,2,   -999.0,9,  -999.00,9,    14.73,4,  -999.00,9, -999.000,9,    0.676,2,    0.047,2,    0.778,2,   -999.0,9,  2.26352972
  18HU19931105, AR13a,    17,  1,     93,2,19931121, 120, 38.0685, -48.8680, 5375,   3996.8,   2.4170,  34.9073,2,  34.9335,2,    264.4,2,    273.3,2,    24.36,2,    18.15,6,     1.22,2, -999.000,9,    0.308,2, -999.000,9,    0.857,2,   2168.1,2,  2.07115408
  18HU19931105, AR13a,    17,  1,     92,2,19931121, 120, 38.0685, -48.8680, 5375,   4293.5,   2.3366,  34.8996,2,  34.9068,2,    264.8,2,    273.8,2,    27.80,2,    18.64,6,     1.23,2, -999.000,9,    0.225,2,    0.018,2,    0.922,2,   2171.8,2,    1.958766
  18HU19931105, AR13a,    17,  1,     91,2,19931121, 120, 38.0685, -48.8680, 5375,   4600.1,   2.2867,  34.8930,2,  34.9206,2,    264.5,2,    270.8,2,    28.39,2,    18.54,6,     1.28,2, -999.000,9,    0.254,2,    0.014,2,    0.905,2,   2173.9,2,  1.87363279
  18HU19931105, AR13a,    17,  1,     90,2,19931121, 120, 38.0685, -48.8680, 5375,   4902.8,   2.2778,  34.8877,2,  34.8879,2,    264.4,2,    269.9,2,    33.87,2,    19.33,6,     1.34,2,    0.466,2,    0.105,2,    0.058,2,    0.754,2,   2179.2,2,  1.82798838
  18HU19931105, AR13a,    17,  1,     89,2,19931121, 120, 38.0685, -48.8680, 5375,   5204.2,   2.2728,  34.8821,2,  34.8846,2,    263.8,2,    267.0,2,    36.70,2,    19.91,6,     1.33,2,    0.402,2,    0.165,2,    0.024,2,    0.700,2,   2184.5,2,  1.78500085