BOTTLE,20081201PRINUNIVRMK
EXPOCODE,SECT_ID,STNNBR,CASTNO,BTLNBR,BTLNBR_FLAG_W,DATE,TIME,LATITUDE,LONGITUDE,DEPTH,CTDPRS,CTDTMP,CTDSAL,CTDSAL_FLAG_W,SALNTY,SALNTY_FLAG_W,CTDOXY,CTDOXY_FLAG_W,OXYGEN,OXYGEN_FLAG_W,SILCAT,SILCAT_FLAG_W,NITRAT,NITRAT_FLAG_W,PHSPHT,PHSPHT_FLAG_W,CFC-11,CFC-11_FLAG_W,CFC-12,CFC-12_FLAG_W,CFC113,CFC113_FLAG_W,CCL4,CCL4_FLAG_W,TCARBN,TCARBN_FLAG_W,THETA
,,,,,,,,,,METERS,DBARS,ITS-90,PSS-78,,PSS-78,,UMOL/KG,,UMOL/KG,,UMOL/KG,,UMOL/KG,,UMOL/KG,,PMOL/KG,,PMOL/KG,,PMOL/KG,,PMOL/KG,,UMOL/KG,,DEGC
  18HU19931105, AR13a,     9,  1,     48,2,19931120, 132, 40.6652, -50.2500, 3631,     14.9,  21.2544,  36.1052,2,  36.1052,2,    201.6,2,   -999.0,9,  -999.00,9,  -999.00,9,  -999.00,9, -999.000,9, -999.000,9, -999.000,9, -999.000,9,   -999.0,9,  21.2515148
  18HU19931105, AR13a,     9,  1,     47,2,19931120, 132, 40.6652, -50.2500, 3631,    110.3,  21.2551,  36.1047,2,  36.1075,2,    197.2,2,    219.1,2,     1.13,2,     0.34,6,     0.00,2,    1.824,2,    1.207,2,    0.112,2,    2.155,2,   2041.9,2,  21.2337074
  18HU19931105, AR13a,     9,  1,     46,2,19931120, 132, 40.6652, -50.2500, 3631,    110.3,  21.2551,  36.1047,2,  36.1071,2,    197.2,2,    219.0,2,     1.22,2,     0.35,6,     0.05,2,    1.753,2,    1.143,2,    0.126,2,    2.084,2,   2040.6,2,  21.2337075
  18HU19931105, AR13a,     9,  1,     45,2,19931120, 132, 40.6652, -50.2500, 3631,    154.0,  17.5393,  36.0343,2,  36.0236,2,    169.7,2,    173.4,2,     3.34,2,     7.42,6,     0.46,2,    1.787,2,    0.936,2,    0.084,2,    0.571,2,   2119.7,2,  17.5131696
  18HU19931105, AR13a,     9,  1,     43,2,19931120, 132, 40.6652, -50.2500, 3631,    301.8,  15.4350,  36.0521,2,  36.0660,2,    163.2,2,    170.9,2,     4.43,2,    11.58,6,     0.69,2,    1.372,2,    0.783,2,    0.040,2,    0.335,2,   2135.9,2,  15.3878521
  18HU19931105, AR13a,     9,  1,     44,2,19931120, 132, 40.6652, -50.2500, 3631,    302.8,  15.4570,  36.0597,2,  36.0734,2,    165.0,2,    170.7,2,     4.27,2,    11.13,6,     0.68,2,    1.397,2,    0.962,2,    0.047,2,    0.391,2,   2134.7,2,  15.4096467
  18HU19931105, AR13a,     9,  1,     42,2,19931120, 132, 40.6652, -50.2500, 3631,    405.6,  12.7484,  35.6368,2,  35.6495,2,    157.9,2,    159.8,2,     7.70,2,    17.27,6,     1.07,2,    1.130,2,    0.840,2,    0.066,2,    0.349,2,   2158.1,2,  12.6925386
  18HU19931105, AR13a,     9,  1,     41,2,19931120, 132, 40.6652, -50.2500, 3631,    604.1,   8.4292,  35.1313,2,  35.1396,2,    158.9,2,    153.8,2,    14.58,2,    24.16,6,     1.61,2,    0.583,2,    0.447,2,    0.037,2,    0.506,2,   2190.7,2,   8.3644108
  18HU19931105, AR13a,     9,  1,     40,2,19931120, 132, 40.6652, -50.2500, 3631,    797.2,   5.6661,  35.0424,2,  35.0449,2,    215.7,2,    219.6,2,    12.96,2,    20.35,6,     1.37,2, -999.000,9, -999.000,9, -999.000,9, -999.000,9,   2176.8,2,  5.59610205
  18HU19931105, AR13a,     9,  1,     39,2,19931120, 132, 40.6652, -50.2500, 3631,    841.6,   5.7843,  35.0946,2,  35.1016,2,    219.4,2,    223.9,2,    12.49,2,    19.51,6,     1.32,2,    0.994,2,    0.726,2,    0.046,2,    1.389,2,   2175.4,2,  5.70931428
  18HU19931105, AR13a,     9,  1,     38,2,19931120, 132, 40.6652, -50.2500, 3631,    883.8,   5.3456,  35.0415,2,  35.0415,2,    225.5,2,    230.8,2,  -999.00,9,  -999.00,9,  -999.00,9,    1.140,2,    0.686,2,    0.055,2,    1.631,2,   2172.4,2,   5.2696066
  18HU19931105, AR13a,     9,  1,     37,2,19931120, 132, 40.6652, -50.2500, 3631,   1166.9,   4.3621,  34.9872,2,  34.9872,2,    249.9,2,    259.1,2,  -999.00,9,  -999.00,9,  -999.00,9,    1.227,2,    1.111,2,    0.054,2,    2.090,2,   2162.4,2,  4.26819044
  18HU19931105, AR13a,     9,  1,     36,2,19931120, 132, 40.6652, -50.2500, 3631,   1440.2,   3.9558,  34.9580,2,  34.9597,2,    257.8,2,    270.6,2,    11.81,2,    17.85,6,     1.17,2,    1.143,2,    0.592,2,    0.048,2,    2.230,2,   2160.2,2,   3.8415055
  18HU19931105, AR13a,     9,  1,     35,2,19931120, 132, 40.6652, -50.2500, 3631,   1746.9,   3.7059,  34.9435,2,  34.9492,2,    262.4,2,    274.9,2,    11.83,2,    17.44,6,     1.16,2,    1.225,2,    0.679,2,    0.055,2,    2.252,2,   2158.1,2,  3.56664255
  18HU19931105, AR13a,     9,  1,     34,2,19931120, 132, 40.6652, -50.2500, 3631,   2031.6,   3.5553,  34.9453,2,  35.0157,2,    262.6,2,    267.4,2,    12.60,2,    16.90,6,     1.13,2,    0.977,2,    0.508,2,    0.043,2,    1.732,2,   -999.0,9,  3.39117586
  18HU19931105, AR13a,     9,  1,     33,2,19931120, 132, 40.6652, -50.2500, 3631,   2323.8,   3.4375,  34.9608,2,  34.9666,2,    259.3,2,    271.7,2,    15.72,2,    17.93,6,     1.22,2,    0.463,2,    0.526,2,    0.038,2,    1.064,2,   2156.8,2,  3.24704335
  18HU19931105, AR13a,     9,  1,     32,2,19931120, 132, 40.6652, -50.2500, 3631,   2635.2,   3.1644,  34.9513,2,  34.9569,2,    261.6,2,    271.9,2,    17.44,2,    18.06,6,     1.19,2,    0.374,2,    0.242,2,    0.028,2,    0.924,2,   2162.4,2,  2.94779044
  18HU19931105, AR13a,     9,  1,     31,2,19931120, 132, 40.6652, -50.2500, 3631,   2942.7,   2.8697,  34.9307,2,  34.9433,2,    267.9,2,    276.1,2,    16.69,2,    16.94,6,     1.15,2,    0.761,2,    0.402,2,    0.043,2,    1.411,2,   2161.9,2,  2.62763283
  18HU19931105, AR13a,     9,  1,     30,2,19931120, 132, 40.6652, -50.2500, 3631,   3268.1,   2.4714,  34.9123,2,  34.9128,2,    273.6,2,    284.0,2,    16.90,2,    16.33,6,     1.11,2,    1.077,2,    0.540,2,    0.037,2,    2.017,2,   2159.3,2,  2.20440435
  18HU19931105, AR13a,     9,  1,     29,2,19931120, 132, 40.6652, -50.2500, 3631,   3587.3,   2.2231,  34.9000,2,  34.9052,2,    275.3,2,    283.4,2,    20.29,2,    16.82,6,     1.13,2,    1.091,2,    0.525,2,    0.053,2,    1.984,2,   2165.0,2,  1.92816094
  18HU19931105, AR13a,    10,  1,     67,2,19931120, 551, 40.3288, -50.2430, 4332,     12.5,  21.4709,  36.1487,2,  36.1505,2,    200.5,2,    215.8,2,     1.12,2,     0.63,6,     0.09,2,    2.141,2,    1.249,2,    0.093,2,    2.127,2,   2037.4,2,  21.4684616
  18HU19931105, AR13a,    10,  1,     68,2,19931120, 551, 40.3288, -50.2430, 4332,     12.5,  21.4709,  36.1487,2,  36.1507,2,    200.5,2,    216.5,2,     1.20,2,     0.64,6,     0.09,2,    1.841,2,    1.078,2,    0.087,2,    2.156,2,   2040.8,2,  21.4684616
  18HU19931105, AR13a,    10,  1,     66,2,19931120, 551, 40.3288, -50.2430, 4332,    215.2,  18.5603,  36.5785,2,  36.5808,2,    192.9,2,    204.3,2,     1.48,2,     3.25,6,     0.20,2,    1.908,2,    0.972,2,    0.049,2,    0.382,2,   2091.6,2,  18.5221475
  18HU19931105, AR13a,    10,  1,     65,2,19931120, 551, 40.3288, -50.2430, 4332,    215.2,  18.5603,  36.5785,2,  36.5808,2,    192.9,2,    204.2,2,     1.37,2,     3.34,6,     0.20,2,    2.226,2,    1.234,2,    0.051,2,    0.550,2,   2089.7,2,  18.5221475
  18HU19931105, AR13a,    10,  1,     64,2,19931120, 551, 40.3288, -50.2430, 4332,    613.4,  12.5800,  35.6232,2,  35.6258,2,    155.7,2,    156.1,2,     8.12,2,    17.94,6,     1.14,2,    0.982,2,    0.435,2,    0.020,2,    0.252,2,   2158.6,3,   12.495605
  18HU19931105, AR13a,    10,  1,     62,2,19931120, 551, 40.3288, -50.2430, 4332,    714.7,   9.9585,  35.2770,2,  35.2820,2,    152.1,2,    148.5,2,    12.55,2,    23.08,6,     1.46,2,    1.407,2,    0.301,2, -999.000,9,    0.322,2,   2184.8,2,   9.8733077
  18HU19931105, AR13a,    10,  1,     63,2,19931120, 551, 40.3288, -50.2430, 4332,    715.4,   9.9490,  35.2762,2,  35.2815,2,    152.0,2,    147.2,2,    12.74,2,    22.95,6,     1.48,2,    1.183,2,    0.778,2,    0.021,2,    0.111,2,   2184.3,2,  9.86377048
  18HU19931105, AR13a,    10,  1,     61,2,19931120, 551, 40.3288, -50.2430, 4332,    823.8,   7.7687,  35.1062,2,  35.1124,2,    172.1,2,    164.8,2,    14.95,2,    24.34,6,     1.57,2,    0.513,2,    0.031,3,    0.000,2,    0.417,2,   2185.8,2,  7.68322909
  18HU19931105, AR13a,    10,  1,     60,2,19931120, 551, 40.3288, -50.2430, 4332,   1038.2,   5.1471,  35.0080,2,  35.0078,2,    229.1,2,    233.4,2,    12.35,2,    19.28,6,     1.31,2,    1.523,2,    0.680,2,    0.043,2,    1.863,2,   2167.6,2,  5.05830655
  18HU19931105, AR13a,    10,  1,     59,2,19931120, 551, 40.3288, -50.2430, 4332,   1189.7,   4.7699,  35.0119,2,  35.0163,2,    240.4,2,    248.5,2,    11.88,2,    18.66,6,     1.25,2,    1.112,2,    0.349,2,    0.042,2,    1.828,2,   2164.6,2,  4.67023069
  18HU19931105, AR13a,    10,  1,     57,2,19931120, 551, 40.3288, -50.2430, 4332,   1663.6,   3.9210,  34.9537,2,  34.9603,2,    259.0,2,    270.1,2,    11.82,2,    17.93,6,     1.19,2,    1.389,2,    0.372,2,    0.040,2,    2.267,2,   2153.7,2,  3.78668717
  18HU19931105, AR13a,    10,  1,     58,2,19931120, 551, 40.3288, -50.2430, 4332,   1667.3,   3.9193,  34.9542,2,  34.9946,2,    259.6,2,    267.7,2,    11.65,2,    17.68,6,     1.18,2,    1.217,2,    0.640,2,    0.040,2,    2.081,2,   2159.1,2,  3.78457121
  18HU19931105, AR13a,    10,  1,     56,2,19931120, 551, 40.3288, -50.2430, 4332,   2063.5,   3.7898,  34.9706,2,  34.9723,2,    258.5,2,    269.8,2,    13.40,2,    18.02,6,     1.20,2,    0.992,2,    0.283,2,    0.029,2,    1.571,2,   2156.4,2,   3.6191874
  18HU19931105, AR13a,    10,  1,     55,2,19931120, 551, 40.3288, -50.2430, 4332,   2361.4,   3.5750,  34.9634,2,  34.9668,2,    259.4,2,    271.6,2,    14.51,2,    17.60,6,     1.19,2,    0.676,2,    0.033,2,    0.033,2,    0.954,2,   2156.6,2,  3.37844193
  18HU19931105, AR13a,    10,  1,     54,2,19931120, 551, 40.3288, -50.2430, 4332,   2650.1,   3.3995,  34.9656,2,  34.9656,2,    259.3,2,   -999.0,9,  -999.00,9,    13.26,4,  -999.00,9,    1.489,2,    0.476,2,    0.035,2,    1.445,2,   -999.0,9,  3.17682166
  18HU19931105, AR13a,    10,  1,     52,2,19931120, 551, 40.3288, -50.2430, 4332,   3348.9,   2.6412,  34.9178,2,  34.9293,2,    271.4,2,    281.9,2,    15.82,2,    16.46,6,     1.13,2,    1.418,2,    0.297,2,    0.044,2,    2.114,2,   2154.5,2,  2.36151185
  18HU19931105, AR13a,    10,  1,     53,2,19931120, 551, 40.3288, -50.2430, 4332,   3353.0,   2.6401,  34.9181,2,  34.9400,2,    272.7,2,    280.9,2,    15.30,2,    16.19,6,     1.13,2,    1.348,2,    0.406,2, -999.000,9,    1.938,2,   2153.8,2,  2.35994039
  18HU19931105, AR13a,    10,  1,     51,2,19931120, 551, 40.3288, -50.2430, 4332,   3630.0,   2.4179,  34.9098,2,  34.9098,2,    269.3,2,    276.6,2,    21.40,2,    17.18,6,     1.18,2,    0.633,2,    0.244,2,    0.022,2,    1.336,2,   2161.6,2,  2.11331205
  18HU19931105, AR13a,    10,  1,     50,2,19931120, 551, 40.3288, -50.2430, 4332,   4042.2,   2.2783,  34.8997,2,  34.9003,2,    273.0,2,    279.6,2,    23.31,2,    17.25,6,     1.19,2,    0.889,2,    0.208,2,    0.026,2,    1.508,2,   2167.9,2,   1.9313459
  18HU19931105, AR13a,    10,  1,     49,2,19931120, 551, 40.3288, -50.2430, 4332,   4319.3,   2.2278,  34.8970,2,  34.8970,2,    278.4,2,    280.9,2,    19.83,2,    16.52,6,     1.13,2,    1.185,2,    0.660,2,    0.047,2,    2.165,2,   2165.8,2,  1.85021997
  18HU19931105, AR13a,    11,  1,     88,2,19931120,1049, 40.0035, -50.2520, 5403,     12.8,  21.9686,  36.3862,2,  36.3873,2,    203.0,2,    218.2,2,     1.13,2,     0.27,6,     0.00,2,    1.724,2,    1.116,2,    0.164,2,    2.248,2,   -999.0,9,  21.9660591
  18HU19931105, AR13a,    11,  1,     87,2,19931120,1049, 40.0035, -50.2520, 5403,     12.8,  21.9686,  36.3862,2,  36.3877,2,    203.0,2,    219.7,2,     1.10,2,     0.31,6,     0.00,2,    1.757,2,    1.114,2,    0.124,2,    2.144,2,   -999.0,9,  21.9660591
  18HU19931105, AR13a,    11,  1,     86,2,19931120,1049, 40.0035, -50.2520, 5403,    124.3,  21.0039,  36.6988,2,  36.6945,2,    179.7,2,    187.4,0,     1.54,2,     3.09,6,     0.09,2,    1.762,2,    1.096,2,    0.135,2,    0.602,2,   2093.0,2,  20.9799151
  18HU19931105, AR13a,    11,  1,     85,2,19931120,1049, 40.0035, -50.2520, 5403,    201.0,  19.0168,  36.6141,2,  36.6160,2,    192.9,2,    202.0,2,     1.40,2,     2.84,6,     0.00,2,    1.886,2,    1.045,2,    0.082,2,    0.622,2,   2087.1,2,  18.9805673
  18HU19931105, AR13a,    11,  1,     83,2,19931120,1049, 40.0035, -50.2520, 5403,    450.0,  17.3239,  36.3814,2,  36.3869,2,    175.8,2,    181.4,2,     2.75,2,     8.15,6,     0.40,2,    1.565,2,    0.899,2,    0.070,2,    0.398,2,   -999.0,9,   17.247468
  18HU19931105, AR13a,    11,  1,     84,2,19931120,1049, 40.0035, -50.2520, 5403,    451.7,  17.3251,  36.3817,2,  36.3859,2,    176.1,2,    181.1,2,     2.74,2,     8.06,6,     0.37,2,    1.591,2,    0.876,2,    0.031,2,    0.371,2,   2113.1,2,  17.2483732
  18HU19931105, AR13a,    11,  1,     82,2,19931120,1049, 40.0035, -50.2520, 5403,    607.7,  14.8077,  35.9704,2,  35.9759,2,    169.6,2,    174.4,2,     4.83,2,    12.91,6,     0.72,2,    1.285,2,    0.855,2,    0.028,2,    0.357,2,   2144.6,3,  14.7145704
  18HU19931105, AR13a,    11,  1,     81,2,19931120,1049, 40.0035, -50.2520, 5403,    763.2,  11.2985,  35.4341,2,  35.4569,2,    146.5,2,    143.6,2,    10.77,2,    22.11,6,     1.37,2,    0.776,2,    0.422,2,    0.015,2,    0.299,2,   -999.0,9,  11.1998884
  18HU19931105, AR13a,    11,  1,     80,2,19931120,1049, 40.0035, -50.2520, 5403,    893.9,   8.4507,  35.1405,2,  35.1421,2,    159.4,2,    156.3,2,    14.65,2,    24.82,4,     1.61,2,    1.564,2,    0.898,2,    0.070,2,    0.398,2,   2186.8,2,   8.3530762
  18HU19931105, AR13a,    11,  1,     79,2,19931120,1049, 40.0035, -50.2520, 5403,   1045.1,   6.0561,  35.0609,2,  35.0911,2,    209.0,2,    210.9,2,    13.02,2,    20.92,6,     1.35,2,    0.906,2,    0.537,2,    0.041,2,    1.204,2,   2172.0,2,  5.95940446
  18HU19931105, AR13a,    11,  1,     77,2,19931120,1049, 40.0035, -50.2520, 5403,   1206.0,   4.9644,  35.0073,2,  35.0073,2,    234.3,2,   -999.0,9,  -999.00,9,  -999.00,9,  -999.00,9, -999.000,9, -999.000,9, -999.000,9, -999.000,9,   -999.0,9,  4.86147612
  18HU19931105, AR13a,    11,  1,     78,2,19931120,1049, 40.0035, -50.2520, 5403,   1207.2,   4.9617,  35.0069,2,  35.0069,2,    233.9,2,   -999.0,9,    10.86,2,    19.17,6,     1.21,2,    1.122,2,    0.727,2,    0.069,2,    1.394,2,   2161.6,2,  4.85868868
  18HU19931105, AR13a,    11,  1,     76,2,19931120,1049, 40.0035, -50.2520, 5403,   1500.2,   4.2672,  34.9744,2,  34.9434,2,    251.1,2,    274.9,0,    11.95,2,    18.30,6,     1.19,2,    1.216,2,    0.745,2,    0.062,2,    2.284,2,   2154.2,2,  4.14400964
  18HU19931105, AR13a,    11,  1,     75,2,19931120,1049, 40.0035, -50.2520, 5403,   2498.2,   3.5566,  34.9614,2,  34.9614,2,    259.5,2,   -999.0,9,  -999.00,9,  -999.00,9,  -999.00,9, -999.000,9, -999.000,9, -999.000,9, -999.000,9,   -999.0,9,   3.3465637
  18HU19931105, AR13a,    11,  1,     74,2,19931120,1049, 40.0035, -50.2520, 5403,   2990.0,   3.0961,  34.9309,2,  34.9309,2,    265.2,2,   -999.0,9,  -999.00,9,     4.45,4,  -999.00,9,    1.570,2,    0.921,2, -999.000,9,    0.733,2,   -999.0,9,  2.84431646
  18HU19931105, AR13a,    11,  1,     73,2,19931120,1049, 40.0035, -50.2520, 5403,   3494.4,   2.7143,  34.9255,2,  34.9612,2,    262.6,2,    273.5,2,    18.51,2,    17.71,6,     1.20,2,    0.590,2,    0.312,2,    0.059,2,    1.414,2,   -999.0,9,  2.41685552
  18HU19931105, AR13a,    11,  1,     72,2,19931120,1049, 40.0035, -50.2520, 5403,   3980.9,   2.4626,  34.9107,2,  34.9107,2,    264.3,2,   -999.0,9,    15.93,2,    17.95,6,     1.22,2,    0.648,2,    0.328,2,    0.043,2,    1.336,2,   2158.6,2,  2.11745267
  18HU19931105, AR13a,    11,  1,     71,2,19931120,1049, 40.0035, -50.2520, 5403,   4497.2,   2.3361,  34.8978,2,  34.8978,2,    264.9,2,   -999.0,9,    16.86,2,    17.58,6,     1.20,2,    0.823,2,    0.480,2,    0.068,2,    1.290,2,   2157.2,2,  1.93409314
  18HU19931105, AR13a,    11,  1,     70,2,19931120,1049, 40.0035, -50.2520, 5403,   4982.0,   2.2824,  34.8869,2,  34.8916,2,    264.5,2,    269.7,2,    34.07,2,    19.97,6,     1.44,2,    0.325,2,    0.219,2, -999.000,9,    0.760,2,   2177.3,2,  1.82247736
  18HU19931105, AR13a,    11,  1,     69,2,19931120,1049, 40.0035, -50.2520, 5403,   5406.7,   2.3026,  34.8827,2,  34.8951,2,    264.6,2,    268.5,2,    35.83,2,    20.00,6,     1.42,2,    0.300,2,    0.219,2,    0.086,2,    0.688,2,   2179.0,2,  1.78740603