BOTTLE,20081201PRINUNIVRMK
EXPOCODE,SECT_ID,STNNBR,CASTNO,BTLNBR,BTLNBR_FLAG_W,DATE,TIME,LATITUDE,LONGITUDE,DEPTH,CTDPRS,CTDTMP,CTDSAL,CTDSAL_FLAG_W,SALNTY,SALNTY_FLAG_W,CTDOXY,CTDOXY_FLAG_W,OXYGEN,OXYGEN_FLAG_W,SILCAT,SILCAT_FLAG_W,NITRAT,NITRAT_FLAG_W,PHSPHT,PHSPHT_FLAG_W,CFC-11,CFC-11_FLAG_W,CFC-12,CFC-12_FLAG_W,CFC113,CFC113_FLAG_W,CCL4,CCL4_FLAG_W,TCARBN,TCARBN_FLAG_W,THETA
,,,,,,,,,,METERS,DBARS,ITS-90,PSS-78,,PSS-78,,UMOL/KG,,UMOL/KG,,UMOL/KG,,UMOL/KG,,UMOL/KG,,PMOL/KG,,PMOL/KG,,PMOL/KG,,PMOL/KG,,UMOL/KG,,DEGC
  18HU19931105, AR13a,    63,  1,     21,2,19931204,1135, 43.6803, -40.1300, 4885,     49.2,  18.1943,  36.2118,2,  36.2131,2,    223.9,2,    235.4,2,     1.19,2,     1.23,6,     0.00,2,    3.334,2,    1.374,2,    0.092,2,    2.398,2,   2056.1,2,  18.1857473
  18HU19931105, AR13a,    63,  1,     20,2,19931204,1135, 43.6803, -40.1300, 4885,    149.0,  18.4476,  36.3210,2,  36.3161,2,    215.3,2,    229.4,2,     1.25,2,     1.64,6,     0.04,2,    2.114,2,    1.542,2,    0.102,2,    2.029,2,   2066.4,2,  18.4213751
  18HU19931105, AR13a,    63,  1,     19,2,19931204,1135, 43.6803, -40.1300, 4885,    299.0,  16.7909,  36.2953,2,  36.3021,2,    195.7,2,    199.6,2,     2.70,2,     6.95,6,     0.37,2,    1.810,2,    1.125,2,    0.038,2,    0.696,2,   2106.8,2,  16.7413846
  18HU19931105, AR13a,    63,  1,     18,2,19931204,1135, 43.6803, -40.1300, 4885,    503.4,  13.5108,  35.7672,2,  35.7672,2,    201.7,2,    206.2,2,     5.05,2,    12.05,6,     0.71,2,    2.156,2,    1.291,2,    0.050,2,    0.880,2,   2126.5,2,  13.4384855
  18HU19931105, AR13a,    63,  1,     17,2,19931204,1135, 43.6803, -40.1300, 4885,    707.9,   9.7649,  35.2308,2,  35.7660,0,    182.5,2,    204.7,0,     5.26,2,    11.98,4,     0.74,2,    1.847,2,    1.113,2,    0.045,2,    1.056,2,   2129.0,2,  9.68158024
  18HU19931105, AR13a,    63,  1,     16,2,19931204,1135, 43.6803, -40.1300, 4885,    885.9,   5.3775,  34.7692,2,  34.7715,0,    219.7,2,    219.5,2,    12.84,2,    19.98,6,     1.32,2,    1.976,2,    1.385,2,    0.095,2,    2.391,2,   2167.7,2,  5.30148914
  18HU19931105, AR13a,    63,  1,     15,2,19931204,1135, 43.6803, -40.1300, 4885,   1102.2,   5.2931,  35.0275,2,  35.0403,2,    237.5,2,    239.4,2,    11.87,2,    19.10,6,     1.23,2,    1.545,2,    0.897,2, -999.000,9,    2.060,2,   2167.0,2,  5.19706394
  18HU19931105, AR13a,    63,  1,     14,2,19931204,1135, 43.6803, -40.1300, 4885,   1414.2,   4.1747,  34.9520,2,  34.9648,2,    264.2,2,    271.6,2,    11.39,2,    18.32,6,     1.14,2,    1.857,2,    1.176,2,    0.068,2,    3.051,2,   2158.0,2,  4.06039023
  18HU19931105, AR13a,    63,  1,     13,2,19931204,1135, 43.6803, -40.1300, 4885,   1700.6,   3.6792,  34.9084,2,  34.9158,2,    276.2,2,    284.1,2,    10.95,2,    17.63,6,     1.17,2,    2.531,2,    1.011,2,    0.073,2,    3.389,2,   2154.0,2,  3.54464568
  18HU19931105, AR13a,    63,  1,     12,2,19931204,1135, 43.6803, -40.1300, 4885,   2005.2,   3.5361,  34.9118,2,  34.9123,2,    277.1,2,    287.0,2,    11.71,2,    17.75,6,     1.17,2,    1.982,2,    1.008,2,    0.050,2,    2.847,2,   2153.1,2,  3.37511854
  18HU19931105, AR13a,    63,  1,     11,2,19931204,1135, 43.6803, -40.1300, 4885,   2297.6,   3.3870,  34.9099,2,  34.9121,2,    278.3,2,    288.2,2,    12.13,2,    17.49,6,     1.15,2,    1.798,2,    1.168,2,    0.047,2,    2.404,2,   2155.6,2,  3.20018214
  18HU19931105, AR13a,    63,  1,     10,2,19931204,1135, 43.6803, -40.1300, 4885,   2598.8,   3.2897,  34.9249,2,  34.9263,2,    275.8,2,    284.3,2,    13.10,2,    17.30,6,     1.16,2,    1.371,2,    0.626,2,    0.029,2,    2.123,2,   2153.7,2,  3.07452345
  18HU19931105, AR13a,    63,  1,      9,2,19931204,1135, 43.6803, -40.1300, 4885,   2905.3,   3.1407,  34.9362,2,  34.9381,2,    272.9,2,    280.7,2,    15.04,2,    17.39,6,     1.17,2,    1.463,2,    0.563,2,    0.018,2,    1.420,2,   2155.4,2,  2.89683997
  18HU19931105, AR13a,    63,  1,      8,2,19931204,1135, 43.6803, -40.1300, 4885,   3191.5,   2.9428,  34.9305,2,  34.9314,2,    273.6,2,    280.8,2,    15.95,2,    17.33,6,     1.17,2,    0.878,2,    0.873,2,    0.031,2,    1.744,2,   2155.6,2,  2.67296877
  18HU19931105, AR13a,    63,  1,      7,2,19931204,1135, 43.6803, -40.1300, 4885,   3486.6,   2.7486,  34.9248,2,  34.9525,2,    273.7,2,    279.0,2,    17.07,2,    17.46,6,     1.18,2,    1.098,2,    0.680,2,    0.019,2,    1.502,2,   2157.6,2,  2.45121464
  18HU19931105, AR13a,    63,  1,      6,2,19931204,1135, 43.6803, -40.1300, 4885,   3789.6,   2.5380,  34.9148,2,  34.9621,2,    276.1,2,    273.9,2,    13.90,2,    17.65,6,     1.17,2,    1.252,2,    0.787,2,    0.032,2,    1.864,2,   2157.3,2,  2.21222718
  18HU19931105, AR13a,    63,  1,      5,2,19931204,1135, 43.6803, -40.1300, 4885,   4087.7,   2.3972,  34.9065,2,  34.9099,2,    276.7,2,    283.7,2,    21.51,2,    16.38,6,     1.13,2,    0.903,2,    0.635,2,    0.024,2,    1.465,2,   2163.5,2,  2.04160175
  18HU19931105, AR13a,    63,  1,      4,2,19931204,1135, 43.6803, -40.1300, 4885,   4390.3,   2.3115,  34.9001,2,  34.9133,2,    278.8,2,    281.9,2,    20.06,2,    16.44,6,     1.11,2,    0.895,2,    0.684,2,    0.025,2,    1.711,2,   2162.3,2,   1.9229173
  18HU19931105, AR13a,    63,  1,      3,2,19931204,1135, 43.6803, -40.1300, 4885,   4696.5,   2.2942,  34.8971,2,  34.8968,2,    280.6,2,    283.1,2,    22.65,2,    16.47,6,     1.11,2,    1.070,2,    0.593,2,    0.026,2,    1.617,2,   2164.9,2,  1.86931321
  18HU19931105, AR13a,    63,  1,      2,2,19931204,1135, 43.6803, -40.1300, 4885,   4880.0,   2.3002,  34.8959,2,  34.8991,2,    282.3,2,    284.6,2,    22.60,2,    16.22,6,     1.11,2,    1.017,2,    0.842,2,    0.030,2,    1.886,2,   2165.2,2,  1.85241522
  18HU19931105, AR13a,    64,  1,     41,2,19931204,1902, 44.1183, -40.5980, 4879,     55.3,  17.7808,  35.8548,2,  35.8739,2,    223.4,2,    237.5,2,     1.25,2,     1.05,6,     0.09,2,    2.330,2,    1.598,2,    0.132,2,    2.703,2,   2051.1,2,  17.7713589
  18HU19931105, AR13a,    64,  1,     40,2,19931204,1902, 44.1183, -40.5980, 4879,    201.3,  15.3757,  36.0169,2,  36.0282,2,    168.2,2,    166.3,2,     4.84,2,    12.61,6,     0.71,2,    1.447,2,    0.911,2,    0.032,2,    0.463,2,   2137.2,2,  15.3444334
  18HU19931105, AR13a,    64,  1,     39,2,19931204,1902, 44.1183, -40.5980, 4879,    295.8,  14.0647,  35.8444,2,  35.8468,2,    193.6,2,    200.5,2,     4.62,2,    11.32,6,     0.67,2,    2.026,2,    1.137,2,    0.053,2,    0.936,2,   2126.5,2,   14.021347
  18HU19931105, AR13a,    64,  1,     38,2,19931204,1902, 44.1183, -40.5980, 4879,    509.3,   9.3773,  35.1451,2,  35.1551,2,    178.2,2,    178.5,2,    10.96,2,    20.01,6,     1.23,2,    1.472,2,    0.628,2,    0.049,2,    1.298,2,   2165.6,2,  9.31943714
  18HU19931105, AR13a,    64,  1,     37,2,19931204,1902, 44.1183, -40.5980, 4879,    704.5,   6.7627,  35.0468,2,  35.5348,0,    203.3,2,    169.8,0,     8.37,2,    17.75,6,     1.08,2,    1.264,2,    0.757,2,    0.027,2,    0.626,2,   2153.9,2,  6.69547815
  18HU19931105, AR13a,    64,  1,     36,2,19931204,1902, 44.1183, -40.5980, 4879,    904.8,   5.2506,  34.9999,2,  35.0501,2,    233.1,2,    204.4,0,    12.70,2,    20.80,6,     1.32,2,    1.355,2,    0.629,2,    0.050,2,    1.594,2,   2175.2,2,  5.17330434
  18HU19931105, AR13a,    64,  1,     35,2,19931204,1902, 44.1183, -40.5980, 4879,   1114.8,   4.3689,  34.9692,2,  34.9776,2,    257.9,2,    263.6,2,    11.55,2,    18.57,6,     1.19,2,    1.901,2,    1.025,2,    0.063,2,    2.830,2,   2162.3,2,  4.27956862
  18HU19931105, AR13a,    64,  1,     34,2,19931204,1902, 44.1183, -40.5980, 4879,   1364.9,   3.7563,  34.9102,2,  34.9167,2,    273.1,2,    281.2,2,    10.82,2,    17.99,6,     1.13,2,    2.419,2,    1.190,2,    0.095,2,    3.501,2,   2156.7,2,  3.65090234
  18HU19931105, AR13a,    64,  1,     33,2,19931204,1902, 44.1183, -40.5980, 4879,   1664.4,   3.5158,  34.8994,2,  34.9038,2,    278.2,2,    286.8,2,    11.14,2,    17.72,6,     1.13,2,    2.148,2,    1.069,2,    0.079,2,    3.359,2,   2153.6,2,  3.38663342
  18HU19931105, AR13a,    64,  1,     32,2,19931204,1902, 44.1183, -40.5980, 4879,   1994.3,   3.3526,  34.8927,2,  34.8958,2,    281.0,2,    290.4,2,    11.51,2,    17.31,6,     1.14,2,    2.120,2,    1.528,3,    0.062,2,    3.359,2,   2152.5,2,  3.19542933
  18HU19931105, AR13a,    64,  1,     31,2,19931204,1902, 44.1183, -40.5980, 4879,   2393.5,   3.2480,  34.9037,2,  34.9069,2,    280.0,2,    290.6,2,    12.07,2,    17.42,6,     1.12,2,    1.719,2,    1.035,2,    0.079,2,    2.914,2,   2153.4,2,  3.05418093
  18HU19931105, AR13a,    64,  1,     30,2,19931204,1902, 44.1183, -40.5980, 4879,   2595.8,   3.2134,  34.9182,2,  34.9237,2,    276.0,2,    284.0,2,    12.76,2,    17.29,6,     1.08,2,    1.345,2,    0.904,2, -999.000,9,    2.520,2,   2153.9,2,  2.99998034
  18HU19931105, AR13a,    64,  1,     29,2,19931204,1902, 44.1183, -40.5980, 4879,   2892.7,   3.1354,  34.9367,2,  34.9391,2,    271.1,2,    280.3,2,    15.24,2,    17.59,6,     1.14,2,    0.704,2,    0.353,2,    0.022,2,    1.650,2,   2156.7,2,  2.89296373
  18HU19931105, AR13a,    64,  1,     28,2,19931204,1902, 44.1183, -40.5980, 4879,   3189.8,   2.9231,  34.9325,2,  34.9348,2,    271.8,2,    281.0,2,    17.20,2,    17.85,6,     1.16,2,    0.564,2,    0.279,2,    0.012,2,    1.487,2,   2159.4,2,   2.6538822
  18HU19931105, AR13a,    64,  1,     27,2,19931204,1902, 44.1183, -40.5980, 4879,   3449.2,   2.7279,  34.9242,2,  34.9306,2,    273.5,2,    282.4,2,    18.14,2,    17.66,6,     1.14,2,    0.645,2,    0.378,2,    0.013,2,    1.630,2,   2159.2,2,  2.43524242
  18HU19931105, AR13a,    64,  1,     26,2,19931204,1902, 44.1183, -40.5980, 4879,   3793.9,   2.4681,  34.9117,2,  34.9458,2,    274.6,2,    276.1,2,    18.28,2,    17.60,6,     1.14,2,    1.361,2,    0.591,2,    0.046,2,    2.315,2,   2160.6,2,  2.14379671
  18HU19931105, AR13a,    64,  1,     25,2,19931204,1902, 44.1183, -40.5980, 4879,   4096.6,   2.3480,  34.9037,2,  34.9052,2,    275.4,2,    280.2,2,    23.31,2,    17.88,6,     1.19,2,    0.637,2,    0.251,2,    0.022,2,    1.674,2,   2164.5,2,  1.99279969
  18HU19931105, AR13a,    64,  1,     24,2,19931204,1902, 44.1183, -40.5980, 4879,   4404.4,   2.3104,  34.8998,2,-999.0000,9,    276.5,2,   -999.0,9,  -999.00,9,    13.80,4,  -999.00,9,    1.745,2,    1.007,3,    0.054,2,    1.743,2,   -999.0,9,  1.92026518
  18HU19931105, AR13a,    64,  1,     23,2,19931204,1902, 44.1183, -40.5980, 4879,   4690.9,   2.2921,  34.8969,2,  34.8969,2,    279.8,2,    292.4,2,    23.45,2,    17.89,6,     1.16,2,    0.917,2,    0.461,2,    0.028,2,    1.827,2,   2165.2,2,  1.86796506
  18HU19931105, AR13a,    64,  1,     22,2,19931204,1902, 44.1183, -40.5980, 4879,   4874.5,   2.2956,  34.8957,2,  34.8982,2,    281.6,2,    282.9,2,    23.41,2,    17.47,6,     1.13,2, -999.000,9, -999.000,9, -999.000,9, -999.000,9,   2166.6,2,  1.84865862
  18HU19931105, AR13a,    65,  1,     61,2,19931205, 208, 44.5342, -41.0780, 3896,     49.7,  15.1084,  35.3060,2,  35.3076,2,    238.3,2,    247.5,2,     1.58,2,     2.32,6,     0.24,2,    2.418,2,    1.450,2,    0.114,2,    2.872,2,   2062.3,2,  15.1008501
  18HU19931105, AR13a,    65,  1,     60,2,19931205, 208, 44.5342, -41.0780, 3896,    200.3,  14.3889,  35.7943,2,  35.7991,2,    188.1,2,    190.3,2,     4.49,2,    11.22,6,     0.70,2,    1.822,2,    0.845,2,    0.058,2,    0.845,2,   2127.8,2,  14.3591999
  18HU19931105, AR13a,    65,  1,     59,2,19931205, 208, 44.5342, -41.0780, 3896,    301.2,  12.5800,  35.5670,2,  35.5702,2,    184.5,2,    185.7,2,     6.84,2,    14.93,6,     0.95,2,    1.635,2,    0.844,2,    0.062,2,    0.790,2,   2143.7,2,  12.5390659
  18HU19931105, AR13a,    65,  1,     58,2,19931205, 208, 44.5342, -41.0780, 3896,    400.9,  10.6882,  35.3315,2,  35.3352,2,    167.6,2,    163.6,2,    10.44,2,    20.13,6,     1.27,2,    1.060,2,    0.684,2,    0.028,2,    0.672,2,   2169.4,2,  10.6390089
  18HU19931105, AR13a,    65,  1,     57,2,19931205, 208, 44.5342, -41.0780, 3896,    502.8,   8.9072,  35.1316,2,  35.1351,2,    172.1,2,    166.6,2,    12.72,2,    22.31,6,     1.37,2,    1.042,2,    0.638,2,    0.031,2,    0.693,2,   2178.5,2,  8.85183395
  18HU19931105, AR13a,    65,  1,     56,2,19931205, 208, 44.5342, -41.0780, 3896,    607.7,   6.6224,  34.8876,2,  34.9007,2,    203.1,2,    200.3,2,    12.60,2,    20.61,6,     1.37,2,    1.667,2,    0.721,2,    0.121,2,    1.961,2,   2173.3,2,   6.5655916
  18HU19931105, AR13a,    65,  1,     55,2,19931205, 208, 44.5342, -41.0780, 3896,    805.3,   5.6790,  35.0409,2,  35.0441,2,    228.1,2,    229.1,2,    12.34,2,    19.49,6,     1.27,2,    1.553,2,    0.868,2,    0.046,2,    1.870,2,   2171.6,2,  5.60816751
  18HU19931105, AR13a,    65,  1,     54,2,19931205, 208, 44.5342, -41.0780, 3896,   1000.8,   4.6722,  34.9920,2,  34.9954,2,    253.8,2,    255.1,2,    11.59,2,    18.64,6,     1.21,2,    1.849,2,    0.824,2,    0.068,2,    2.534,2,   2165.5,2,  4.59049712
  18HU19931105, AR13a,    65,  1,     53,2,19931205, 208, 44.5342, -41.0780, 3896,   1199.0,   3.8470,  34.9041,2,  34.9058,2,    274.7,2,    278.3,2,    10.67,2,    17.53,6,     1.16,2,    2.637,2,    1.369,2,    0.117,2,    3.612,2,   2158.6,2,  3.75508942
  18HU19931105, AR13a,    65,  1,     52,2,19931205, 208, 44.5342, -41.0780, 3896,   1402.0,   3.7109,  34.9129,2,  34.9147,2,    277.3,2,    286.3,2,    11.01,2,    17.47,6,     1.15,2,    2.074,2,    0.884,2,    0.066,2,    2.814,2,   2157.4,2,  3.60273842
  18HU19931105, AR13a,    65,  1,     51,2,19931205, 208, 44.5342, -41.0780, 3896,   1603.3,   3.4995,  34.8955,2,  34.8968,2,    281.4,2,    289.4,2,    10.85,2,    17.33,6,     1.13,2,    2.204,2,    1.172,2,    0.084,2,    3.531,2,   2156.0,2,  3.37601944
  18HU19931105, AR13a,    65,  1,     50,2,19931205, 208, 44.5342, -41.0780, 3896,   1849.5,   3.4636,  34.9096,2,  34.9126,2,    280.1,2,    285.0,2,    11.66,2,    17.57,6,     1.14,2,    1.550,2,    0.858,2,    0.072,2,    2.634,2,   2155.5,2,  3.31823239
  18HU19931105, AR13a,    65,  1,     49,2,19931205, 208, 44.5342, -41.0780, 3896,   1999.2,   3.2565,  34.8837,2,  34.8849,2,    285.7,2,    293.6,2,    11.11,2,    17.08,6,     1.09,2,    2.528,2,    1.159,2,    0.069,2,    3.417,2,   2154.2,2,  3.10033891
  18HU19931105, AR13a,    65,  1,     48,2,19931205, 208, 44.5342, -41.0780, 3896,   2290.1,   3.3519,  34.9218,2,  34.9224,2,    277.3,2,    284.9,2,    12.74,2,    17.62,6,     1.14,2,    1.744,2,    0.837,2,    0.034,2,    2.218,2,   2155.3,2,  3.16636996
  18HU19931105, AR13a,    65,  1,     47,2,19931205, 208, 44.5342, -41.0780, 3896,   2600.4,   3.2564,  34.9363,2,  34.9370,2,    274.9,2,    279.7,2,    14.27,2,    17.76,6,     1.14,2,    0.826,2,    0.504,2,    0.080,2,    1.689,2,   2163.7,3,  3.04164626
  18HU19931105, AR13a,    65,  1,     46,2,19931205, 208, 44.5342, -41.0780, 3896,   2903.3,   3.0825,  34.9363,2,  34.9442,2,    274.2,2,    279.9,2,    15.41,2,    17.52,6,     1.15,2,    1.126,2,    0.650,2,    0.070,2,    1.493,2,   2158.5,2,  2.84003781
  18HU19931105, AR13a,    65,  1,     45,2,19931205, 208, 44.5342, -41.0780, 3896,   3199.7,   2.7884,  34.9285,2,  34.9327,2,    275.3,2,    279.3,2,    17.50,2,    17.66,6,     1.16,2,    1.129,3,    0.158,2,    0.011,2,    1.483,2,   2160.0,2,  2.52120925
  18HU19931105, AR13a,    65,  1,     44,2,19931205, 208, 44.5342, -41.0780, 3896,   3498.9,   2.5684,  34.9184,2,  35.0229,0,    277.1,2,   -999.0,9,    11.73,2,    19.85,4,     1.26,2, -999.000,9, -999.000,9, -999.000,9, -999.000,9,   2168.8,3,  2.27430896
  18HU19931105, AR13a,    65,  1,     43,2,19931205, 208, 44.5342, -41.0780, 3896,   3799.4,   2.4113,  34.9086,2,  34.9063,2,    278.9,2,    281.9,2,    22.55,2,    18.15,6,     1.17,2,    0.617,2,    0.301,2,    0.108,2,    1.375,2,   2165.6,2,  2.08812735
  18HU19931105, AR13a,    65,  1,     42,2,19931205, 208, 44.5342, -41.0780, 3896,   3890.6,   2.3981,  34.9074,2,  34.9055,2,    281.4,2,    281.2,2,    22.62,2,    17.96,6,     1.14,2,    1.515,3,    0.229,2,    0.108,2,    1.352,2,   2166.6,2,  2.06502966