BOTTLE,20081201PRINUNIVRMK
EXPOCODE,SECT_ID,STNNBR,CASTNO,BTLNBR,BTLNBR_FLAG_W,DATE,TIME,LATITUDE,LONGITUDE,DEPTH,CTDPRS,CTDTMP,CTDSAL,CTDSAL_FLAG_W,SALNTY,SALNTY_FLAG_W,CTDOXY,CTDOXY_FLAG_W,OXYGEN,OXYGEN_FLAG_W,SILCAT,SILCAT_FLAG_W,NITRAT,NITRAT_FLAG_W,PHSPHT,PHSPHT_FLAG_W,CFC-11,CFC-11_FLAG_W,CFC-12,CFC-12_FLAG_W,CFC113,CFC113_FLAG_W,CCL4,CCL4_FLAG_W,TCARBN,TCARBN_FLAG_W,THETA
,,,,,,,,,,METERS,DBARS,ITS-90,PSS-78,,PSS-78,,UMOL/KG,,UMOL/KG,,UMOL/KG,,UMOL/KG,,UMOL/KG,,PMOL/KG,,PMOL/KG,,PMOL/KG,,PMOL/KG,,UMOL/KG,,DEGC
  18HU19931105, AR13a,    99,  1,     79,2,19931211, 123, 44.9675, -38.7120, 4364,     31.9,  14.9386,  35.8865,2,  35.8897,2,    236.9,2,    247.0,2,     1.99,2,     4.72,6,     0.35,2,    2.253,2,    1.537,2,    0.214,3,    2.725,2,   2088.2,2,  14.9337707
  18HU19931105, AR13a,    99,  1,     78,2,19931211, 123, 44.9675, -38.7120, 4364,    151.9,  14.2779,  35.8310,2,  35.8328,2,    225.5,2,    235.1,2,     2.63,2,     6.57,6,     0.47,2,    2.195,2,    1.347,2,    0.127,2,    2.035,2,   2097.9,2,  14.2555213
  18HU19931105, AR13a,    99,  1,     77,2,19931211, 123, 44.9675, -38.7120, 4364,    297.1,  12.7904,  35.6022,2,  35.6060,2,    193.9,2,    197.9,2,     5.68,2,    12.93,6,     0.85,2,    1.743,2,    1.024,2,    0.064,2,    0.510,2,   2135.3,2,   12.749577
  18HU19931105, AR13a,    99,  1,     76,2,19931211, 123, 44.9675, -38.7120, 4364,    502.5,   9.0774,  35.1054,2,  35.1102,2,    203.2,2,    204.7,2,     8.76,2,    16.64,6,     1.13,2,    1.897,2,    1.228,2,    0.080,2,    1.273,2,   2151.5,2,  9.02146148
  18HU19931105, AR13a,    99,  1,     75,2,19931211, 123, 44.9675, -38.7120, 4364,    702.5,   6.6829,  34.9627,2,  34.9640,2,    207.7,2,    204.7,2,    11.87,2,    20.51,6,     1.38,2,    1.573,2,    0.742,2,    0.069,2,    1.579,2,   2170.6,2,  6.61638938
  18HU19931105, AR13a,    99,  1,     74,2,19931211, 123, 44.9675, -38.7120, 4364,    894.2,   5.1955,  34.9787,2,  34.9813,2,    236.1,2,    236.2,2,    11.61,2,    19.35,6,     1.31,2,    1.679,2,    0.902,2,    0.071,2,    2.200,2,   2168.9,2,  5.11965091
  18HU19931105, AR13a,    99,  1,     73,2,19931211, 123, 44.9675, -38.7120, 4364,   1098.0,   4.5498,  34.9759,2,  34.9786,2,    254.4,2,    257.5,2,    11.21,2,    18.42,6,     1.27,2,    1.736,2,    1.122,2,    0.070,2,    2.476,2,   2164.1,2,  4.46043768
  18HU19931105, AR13a,    99,  1,     72,2,19931211, 123, 44.9675, -38.7120, 4364,   1296.8,   4.1751,  34.9621,2,  34.9631,2,    263.3,2,    270.5,2,    11.12,2,    18.32,6,     1.23,2,    1.589,2, -999.000,9,    0.059,2,    2.557,2,   2160.8,2,  4.07139314
  18HU19931105, AR13a,    99,  1,     71,2,19931211, 123, 44.9675, -38.7120, 4364,   1495.4,   3.7922,  34.9250,2,  34.9255,2,    272.2,2,    278.8,2,    11.16,2,    18.20,6,     1.26,2,    1.715,2, -999.000,9,    0.063,2,    2.966,2,   2165.5,2,  3.67484873
  18HU19931105, AR13a,    99,  1,     70,2,19931211, 123, 44.9675, -38.7120, 4364,   2000.8,   3.2896,  34.8808,2,  34.8812,2,    285.0,2,    291.5,2,    10.63,2,    17.72,6,     1.17,2,    2.089,2,    1.274,2,    0.089,2,    3.698,2,   2154.8,2,   3.1328085
  18HU19931105, AR13a,    99,  1,     69,2,19931211, 123, 44.9675, -38.7120, 4364,   2196.5,   3.3278,  34.9002,2,  34.9015,2,    280.5,2,    286.7,2,    11.43,2,    17.74,6,     1.17,2,    1.684,2,    0.929,2,    0.072,2,    2.945,2,   2154.4,2,  3.15181735
  18HU19931105, AR13a,    99,  1,     68,2,19931211, 123, 44.9675, -38.7120, 4364,   2400.9,   3.2165,  34.8937,2,  34.8946,2,    282.3,2,    292.1,2,    11.29,2,    17.23,6,     1.14,2,    1.828,2,    0.920,2,    0.075,2,    3.289,2,   2154.5,2,  3.02255544
  18HU19931105, AR13a,    99,  1,     67,2,19931211, 123, 44.9675, -38.7120, 4364,   2601.1,   3.2474,  34.9217,2,  34.8166,0,    276.6,2,    283.3,2,    12.67,2,    17.14,6,     1.17,2,    1.195,2,    0.628,2,    0.036,2,    2.084,2,   2156.2,2,   3.0328097
  18HU19931105, AR13a,    99,  1,     66,2,19931211, 123, 44.9675, -38.7120, 4364,   2897.6,   3.1030,  34.9313,2,  34.9332,2,    275.3,2,    281.9,2,    13.87,2,    17.09,6,     1.16,2,    0.934,2,    0.453,2,    0.019,2,    1.635,2,   2156.1,2,  2.86075506
  18HU19931105, AR13a,    99,  1,     65,2,19931211, 123, 44.9675, -38.7120, 4364,   3204.8,   2.8802,  34.9292,2,  34.9295,2,    275.3,2,    281.6,2,    14.90,2,    16.88,6,     1.15,2,    0.912,2,    0.393,2,    0.029,2,    1.548,2,   2153.4,2,  2.61038206
  18HU19931105, AR13a,    99,  1,     64,2,19931211, 123, 44.9675, -38.7120, 4364,   3496.5,   2.6215,  34.9207,2,  34.9207,2,    275.6,2,   -999.0,9,  -999.00,9,  -999.00,9,  -999.00,9, -999.000,9, -999.000,9, -999.000,9, -999.000,9,   -999.0,9,  2.32634329
  18HU19931105, AR13a,    99,  1,     63,2,19931211, 123, 44.9675, -38.7120, 4364,   3805.7,   2.3968,  34.9094,2,  34.9811,2,    278.3,2,   -999.0,9,    11.71,2,    19.09,6,     1.30,2,    1.687,2,    0.916,2,    0.066,2,    2.226,2,   2148.4,2,  2.07286077
  18HU19931105, AR13a,    99,  1,     62,2,19931211, 123, 44.9675, -38.7120, 4364,   4090.2,   2.2621,  34.9020,2,  34.9010,2,    283.1,2,    283.8,2,    19.23,2,    17.11,6,     1.17,2,    1.074,2,    0.642,2,    0.036,2,    1.767,2,   2160.5,2,  1.91010224
  18HU19931105, AR13a,    99,  1,     61,2,19931211, 123, 44.9675, -38.7120, 4364,   4359.6,   2.2598,  34.9003,2,  34.9023,2,    286.5,2,    285.2,2,    18.36,2,    16.93,6,     1.15,2,    1.209,2,    0.705,2,    0.033,2,    2.107,2,   2151.8,2,  1.87648164
  18HU19931105, AR13a,   100,  1,      0,2,19931211,2134, 44.3787, -38.4220, 4017,     11.4,  14.8363,  35.7758,2,  35.7803,2,    238.5,2,    249.1,2,     2.70,2,     3.44,6,     0.28,2,    1.235,2,    0.690,2,    0.082,2,    1.364,2,   2081.9,2,  14.8345849
  18HU19931105, AR13a,   100,  1,     99,2,19931211,2134, 44.3787, -38.4220, 4017,     92.7,  15.1623,  35.9622,2,  35.9707,2,    223.4,2,    236.5,2,     2.49,2,     5.11,6,     0.36,2,    2.185,2,    1.145,2,    0.133,2,    2.171,2,   2093.8,2,  15.1480887
  18HU19931105, AR13a,   100,  1,     98,2,19931211,2134, 44.3787, -38.4220, 4017,    198.7,  12.8073,  35.6100,2,  35.6110,2,    195.4,2,    197.1,2,     7.23,2,    12.58,6,     0.82,2,    0.766,2,    0.509,2,    0.013,2,    0.392,2,   2134.7,2,  12.7800732
  18HU19931105, AR13a,   100,  1,     97,2,19931211,2134, 44.3787, -38.4220, 4017,    302.5,  11.3757,  35.4517,2,  35.4631,2,    202.0,2,    205.0,2,     6.61,2,    13.88,6,     0.92,2,    1.000,2,    0.279,2,    0.041,2,    0.930,2,   2141.6,2,   11.337208
  18HU19931105, AR13a,   100,  1,     96,2,19931211,2134, 44.3787, -38.4220, 4017,    406.6,   9.3336,  35.1572,2,  35.1611,2,    201.0,2,    201.4,2,     9.14,2,    16.40,6,     1.16,2,    0.935,2,    0.447,2,    0.039,2,    0.943,2,   2155.7,2,  9.28778279
  18HU19931105, AR13a,   100,  1,     95,2,19931211,2134, 44.3787, -38.4220, 4017,    507.1,   7.7653,  35.0161,2,  35.0178,2,    200.4,2,    199.2,2,    11.32,2,    18.61,6,     1.31,2,    1.436,2,    0.642,2,    0.063,2,    1.585,2,   2169.1,2,  7.71380687
  18HU19931105, AR13a,   100,  1,     94,2,19931211,2134, 44.3787, -38.4220, 4017,    611.1,   7.0737,  35.1022,2,  35.1010,2,    204.3,2,    199.8,2,    12.12,2,    18.99,6,     1.33,2,    1.076,2,    0.375,2,    0.033,2,    1.303,2,   2178.6,2,   7.0142995
  18HU19931105, AR13a,   100,  1,     93,2,19931211,2134, 44.3787, -38.4220, 4017,    803.0,   5.4137,  35.0337,2,  35.0374,2,    234.2,2,    234.7,2,    12.02,2,    17.74,6,     1.24,2,    0.914,2,    0.369,2,    0.031,2,    1.429,2,   2169.5,2,  5.34470541
  18HU19931105, AR13a,   100,  1,     92,2,19931211,2134, 44.3787, -38.4220, 4017,   1005.1,   4.5930,  34.9925,2,  34.9939,2,    252.8,2,    257.7,2,    11.75,2,    17.29,6,     1.20,2,    1.751,2,    0.947,2,    0.056,2,    2.660,2,   2166.2,2,  4.51152329
  18HU19931105, AR13a,   100,  1,     91,2,19931211,2134, 44.3787, -38.4220, 4017,   1182.1,   4.1222,  34.9575,2,  34.9611,2,    264.6,2,    269.4,2,    11.13,2,    17.03,6,     1.18,2,    0.800,2,    0.360,2,    0.023,2,    1.316,2,   2162.1,2,  4.02914272
  18HU19931105, AR13a,   100,  1,     90,2,19931211,2134, 44.3787, -38.4220, 4017,   1480.3,   3.6308,  34.9118,2,  34.9140,2,    274.6,2,    280.8,2,    11.17,2,    17.00,6,     1.15,2,    0.888,2,    0.571,2,    0.023,2,    1.570,2,   2157.4,2,  3.51663578
  18HU19931105, AR13a,   100,  1,     89,2,19931211,2134, 44.3787, -38.4220, 4017,   1821.8,   3.4201,  34.9037,2,  34.9064,2,    278.5,2,    285.7,2,    11.69,2,    16.59,6,     1.16,2,    1.210,2,    0.595,2,    0.038,2,    2.198,2,   2154.8,2,  3.27789471
  18HU19931105, AR13a,   100,  1,     88,2,19931211,2134, 44.3787, -38.4220, 4017,   2136.9,   3.3628,  34.9157,2,  34.9166,2,    276.1,2,    283.4,2,    12.35,2,    16.51,6,     1.20,2,    0.853,2,    0.439,2,    0.024,2,    1.623,2,   2157.1,2,  3.19191835
  18HU19931105, AR13a,   100,  1,     87,2,19931211,2134, 44.3787, -38.4220, 4017,   2418.9,   3.2756,  34.9344,2,  34.9349,2,    272.3,2,    278.2,2,    13.76,2,    16.02,6,     1.20,2,    0.455,2,    0.334,2,    0.010,2,    0.944,2,   2157.2,2,  3.07867847
  18HU19931105, AR13a,   100,  1,     86,2,19931211,2134, 44.3787, -38.4220, 4017,   2719.8,   3.0387,  34.9345,2,  34.9365,2,    272.9,2,    279.6,2,    14.86,2,    15.84,6,     1.19,2,    0.800,2,    0.588,2,    0.035,2,    1.532,2,   2159.1,2,   2.8160484
  18HU19931105, AR13a,   100,  1,     85,2,19931211,2134, 44.3787, -38.4220, 4017,   3033.3,   2.8180,  34.9307,2,  34.9322,2,    272.5,2,    278.5,2,    17.53,2,    16.01,6,     1.23,2,    0.371,2,    0.000,2,    0.000,2,    0.623,2,   2160.9,2,  2.56768417
  18HU19931105, AR13a,   100,  1,     84,2,19931211,2134, 44.3787, -38.4220, 4017,   3342.1,   2.5211,  34.9180,2,  34.9536,2,    275.5,2,    273.9,2,    16.89,2,    16.48,6,     1.10,2,    0.484,2,    0.113,2,    0.000,2,    0.973,2,   2161.0,2,  2.24487268
  18HU19931105, AR13a,   100,  1,     83,2,19931211,2134, 44.3787, -38.4220, 4017,   3618.0,   2.3429,  34.9080,2,  34.9090,2,    277.7,2,    282.3,2,    20.92,2,    15.93,6,     1.23,2,    0.818,2,    0.426,2,    0.027,2,    1.483,2,   2165.4,2,  2.04155008
  18HU19931105, AR13a,   100,  1,     82,2,19931211,2134, 44.3787, -38.4220, 4017,   3874.8,   2.2543,  34.9024,2,  34.9033,2,    281.4,2,    284.0,2,    19.94,2,    16.27,6,     1.12,2,    1.138,2,    0.521,2,    0.039,2,    2.145,2,   2165.3,2,  1.92692597
  18HU19931105, AR13a,   100,  1,     81,2,19931211,2134, 44.3787, -38.4220, 4017,   4011.7,   2.2301,  34.9012,2,  34.9055,2,    284.6,2,    284.9,2,    18.66,2,    15.72,6,     1.16,2,    0.841,2,    0.481,2,    0.026,2,    1.508,2,   2163.5,2,  1.88793892
  18HU19931105, AR13a,   101,  1,     20,2,19931212, 425, 43.8258, -39.0300, 3551,     52.8,  16.6733,  35.8738,2,  35.8317,2,    215.0,2,    220.8,2,     3.21,2,     3.56,6,     0.28,2,    2.002,2,    1.154,2,    0.092,2,    2.027,2,   2082.2,2,  16.6646814
  18HU19931105, AR13a,   101,  1,     19,2,19931212, 425, 43.8258, -39.0300, 3551,    118.8,  15.1015,  35.9770,2,  35.9787,2,    238.7,2,    243.4,2,     2.97,2,     4.66,6,     0.33,2,    2.129,2,    1.197,2,    0.122,2,    2.474,2,   2093.0,2,  15.0833215
  18HU19931105, AR13a,   101,  1,     18,2,19931212, 425, 43.8258, -39.0300, 3551,    229.9,  15.0925,  35.9963,2,  35.9979,2,    234.9,2,    241.7,2,     2.10,2,     4.66,6,     0.34,2,    2.130,2,    1.154,2,    0.122,2,    2.390,2,   2093.0,2,  15.0572134
  18HU19931105, AR13a,   101,  1,     17,2,19931212, 425, 43.8258, -39.0300, 3551,    296.8,  14.1590,  35.8457,2,  35.8484,2,    214.5,2,    217.9,2,     3.56,2,     8.53,6,     0.56,2,    1.948,2,    0.980,2,    0.083,2,    1.420,2,   2116.3,2,  14.1153058
  18HU19931105, AR13a,   101,  1,     16,2,19931212, 425, 43.8258, -39.0300, 3551,    436.4,  11.9406,  35.5336,2,  35.5404,2,    208.6,2,    209.1,2,     6.12,2,    12.71,6,     0.85,2,    1.854,2,    0.882,2,    0.081,2,    1.240,2,   2133.5,2,  11.8829608
  18HU19931105, AR13a,   101,  1,     15,2,19931212, 425, 43.8258, -39.0300, 3551,    498.4,  10.9964,  35.3883,2,  35.4073,2,    201.5,2,    203.0,2,     8.14,2,    14.66,6,     0.99,2,    1.769,2,    0.900,2,    0.078,2,    1.337,2,   2147.8,2,  10.9338251
  18HU19931105, AR13a,   101,  1,     14,2,19931212, 425, 43.8258, -39.0300, 3551,    605.2,   8.8914,  35.1135,2,  35.1129,2,    185.0,2,    181.6,2,    11.22,2,    19.23,6,     1.28,2,    1.349,2,    0.653,2,    0.061,2,    1.230,2,   2171.4,2,  8.82446768
  18HU19931105, AR13a,   101,  1,     13,2,19931212, 425, 43.8258, -39.0300, 3551,    685.9,   7.6154,  35.0224,2,  35.0224,2,    194.8,2,    189.8,2,    12.29,2,    19.79,6,     1.37,2,    1.324,2,    0.692,2,    0.050,2,    1.416,2,   2177.4,2,  7.54571389
  18HU19931105, AR13a,   101,  1,     12,2,19931212, 425, 43.8258, -39.0300, 3551,    816.8,   5.7610,  34.9354,2,  34.9336,2,    221.4,2,    218.6,2,    12.36,2,    19.08,6,     1.33,2,    1.562,2,    0.688,2,    0.077,2,    2.035,2,   2174.6,2,  5.68872915
  18HU19931105, AR13a,   101,  1,     11,2,19931212, 425, 43.8258, -39.0300, 3551,    878.4,   5.5429,  34.9627,2,  34.9609,2,    229.5,2,    229.1,2,  -999.00,9,  -999.00,5,  -999.00,9,    1.645,2,    0.778,2,    0.055,2,    2.256,2,   2171.0,2,  5.46620779
  18HU19931105, AR13a,   101,  1,     10,2,19931212, 425, 43.8258, -39.0300, 3551,   1036.8,   4.9176,  34.9891,2,  34.9920,2,    246.5,2,    248.9,2,    11.52,2,    17.68,6,     1.25,2,    1.624,2,    0.727,2,    0.062,2,    2.393,2,   2167.9,2,  4.83076237
  18HU19931105, AR13a,   101,  1,      9,2,19931212, 425, 43.8258, -39.0300, 3551,   1225.7,   4.1851,  34.9481,2,  34.9509,2,    266.7,2,    267.7,2,    11.72,2,    16.62,6,     1.20,2,    1.789,2,    0.806,2,    0.063,2,    2.826,2,   2163.5,2,  4.08765075
  18HU19931105, AR13a,   101,  1,      8,2,19931212, 425, 43.8258, -39.0300, 3551,   1392.6,   3.8238,  34.9208,2,  34.9208,2,    275.6,2,    278.3,2,    11.37,2,    16.52,6,     1.18,2,    1.823,2,    0.841,2,    0.063,2,    3.109,2,   2159.4,2,   3.7152535
  18HU19931105, AR13a,   101,  1,      7,2,19931212, 425, 43.8258, -39.0300, 3551,   1584.4,   3.5991,  34.8995,2,  34.9013,2,    281.5,2,    283.9,2,    11.15,2,    16.53,6,     1.18,2,    1.923,2,    0.941,2,    0.080,2,    3.278,2,   2156.4,2,  3.47609404
  18HU19931105, AR13a,   101,  1,      6,2,19931212, 425, 43.8258, -39.0300, 3551,   1825.4,   3.3732,  34.8837,2,  34.8883,2,    286.8,2,    289.4,2,    10.93,2,    16.49,6,     1.13,2,    1.987,2,    0.868,2,    0.087,2,    3.392,2,   2154.9,2,  3.23136135
  18HU19931105, AR13a,   101,  1,      5,2,19931212, 425, 43.8258, -39.0300, 3551,   2001.7,   3.3054,  34.8816,2,  34.8908,2,    288.8,2,    290.5,2,    10.72,2,    15.96,6,     1.11,2,    1.990,2,    0.866,2,    0.077,2,    3.323,2,   -999.0,9,  3.14825738
  18HU19931105, AR13a,   101,  1,      4,2,19931212, 425, 43.8258, -39.0300, 3551,   2188.2,   3.2728,  34.8915,2,  34.8975,2,    287.4,2,    291.0,2,    11.20,2,    16.19,6,     1.11,2,    1.757,2,    0.804,2,    0.087,2,    3.076,2,   2154.6,2,  3.09851968
  18HU19931105, AR13a,   101,  1,      3,2,19931212, 425, 43.8258, -39.0300, 3551,   2343.5,   3.3018,  34.9106,2,  34.9111,2,    283.5,2,    285.2,2,    12.31,2,    16.30,6,     1.14,2,    1.355,2,    0.654,2,    0.044,2,    2.522,2,   2155.7,2,  3.11194004
  18HU19931105, AR13a,   101,  1,      2,2,19931212, 425, 43.8258, -39.0300, 3551,   2574.8,   3.2809,  34.9289,2,  34.9309,2,    280.8,2,    280.7,2,    12.96,2,    15.78,6,     1.14,2,    0.942,2,    0.474,2,    0.025,2,    1.986,2,   2156.8,2,  3.06830138
  18HU19931105, AR13a,   101,  1,      1,2,19931212, 425, 43.8258, -39.0300, 3551,   2699.0,   3.2464,  34.9327,2,  34.9342,2,    280.4,2,    279.4,2,    13.47,2,    16.57,6,     1.21,2,    0.816,2,    0.465,2,    0.059,2,    1.764,2,   2156.8,2,  3.02179821