BOTTLE,20081201PRINUNIVRMK
EXPOCODE,SECT_ID,STNNBR,CASTNO,BTLNBR,BTLNBR_FLAG_W,DATE,TIME,LATITUDE,LONGITUDE,DEPTH,CTDPRS,CTDTMP,CTDSAL,CTDSAL_FLAG_W,SALNTY,SALNTY_FLAG_W,CTDOXY,CTDOXY_FLAG_W,OXYGEN,OXYGEN_FLAG_W,SILCAT,SILCAT_FLAG_W,NITRAT,NITRAT_FLAG_W,PHSPHT,PHSPHT_FLAG_W,CFC-11,CFC-11_FLAG_W,CFC-12,CFC-12_FLAG_W,CFC113,CFC113_FLAG_W,CCL4,CCL4_FLAG_W,TCARBN,TCARBN_FLAG_W,THETA
,,,,,,,,,,METERS,DBARS,ITS-90,PSS-78,,PSS-78,,UMOL/KG,,UMOL/KG,,UMOL/KG,,UMOL/KG,,UMOL/KG,,PMOL/KG,,PMOL/KG,,PMOL/KG,,PMOL/KG,,UMOL/KG,,DEGC
  18HU19931105, AR13a,    73,  1,      4,2,19931206,1550, 46.9023, -43.7510,  740,     37.7,   4.8500,  33.7529,2,  33.7537,2,    307.0,2,    319.3,2,     2.64,2,     4.41,6,     0.48,2, -999.000,9, -999.000,9, -999.000,9, -999.000,9,   2068.3,2,  4.84721761
  18HU19931105, AR13a,    73,  1,      3,2,19931206,1550, 46.9023, -43.7510,  740,    116.8,   3.0208,  34.3919,2,  34.3932,2,    289.2,2,    295.9,2,     7.50,2,    14.42,6,     1.01,2, -999.000,9, -999.000,9, -999.000,9, -999.000,9,   2130.4,2,  3.01369466
  18HU19931105, AR13a,    73,  1,      2,2,19931206,1550, 46.9023, -43.7510,  740,    198.8,   3.7297,  34.7583,2,  34.7564,2,    274.8,2,    281.2,2,     9.80,2,    17.10,6,     1.11,2, -999.000,9, -999.000,9, -999.000,9, -999.000,9,   2150.3,2,  3.71621568
  18HU19931105, AR13a,    73,  1,      1,2,19931206,1550, 46.9023, -43.7510,  740,    344.9,   3.4497,  34.8491,2,  34.8495,2,    287.0,2,    293.2,2,     9.93,2,    17.27,6,     1.14,2, -999.000,9, -999.000,9, -999.000,9, -999.000,9,   2150.7,2,  3.42662469
  18HU19931105, AR13a,    73,  1,      0,2,19931206,1550, 46.9023, -43.7510,  740,    505.4,   3.2425,  34.8588,2,  34.8597,2,    289.1,2,    294.8,2,    10.44,2,    17.20,6,     1.16,2, -999.000,9, -999.000,9, -999.000,9, -999.000,9,   2153.2,2,  3.20887051
  18HU19931105, AR13a,    73,  1,     99,2,19931206,1550, 46.9023, -43.7510,  740,    601.4,   3.1130,  34.8543,2,  34.8436,2,    293.1,2,    298.0,2,    10.69,2,    17.06,6,     1.14,2, -999.000,9, -999.000,9, -999.000,9, -999.000,9,   2152.2,2,  3.07316079
  18HU19931105, AR13a,    73,  1,     98,2,19931206,1550, 46.9023, -43.7510,  740,    677.2,   2.8837,  34.8509,2,  34.8525,2,    297.5,2,    300.6,2,    10.65,2,    16.84,6,     1.12,2, -999.000,9, -999.000,9, -999.000,9, -999.000,9,   2148.7,2,  2.83965234
  18HU19931105, AR13a,    73,  1,     97,2,19931206,1550, 46.9023, -43.7510,  740,    735.9,   2.8838,  34.8568,2,  34.8578,2,    297.4,2,    300.6,2,    11.17,2,    16.98,6,     1.12,2, -999.000,9, -999.000,9, -999.000,9, -999.000,9,   2152.1,2,   2.8355836
  18HU19931105, AR13a,    74,  1,      9,2,19931206,1739, 47.0498, -43.9100,  473,     34.7,   4.4165,  33.5823,2,  33.5765,2,    310.9,2,    323.5,2,     2.57,2,     4.52,6,     0.49,2,    4.408,2,    3.029,2,    0.316,2,    6.577,2,   2070.4,2,  4.41407027
  18HU19931105, AR13a,    74,  1,      8,2,19931206,1739, 47.0498, -43.9100,  473,    124.2,   1.7373,  34.1782,2,  34.1722,2,    291.0,2,    298.0,2,     7.76,2,    14.39,6,     1.07,2,    4.631,2,    2.982,2,    0.319,2,    6.014,2,   2136.3,2,  1.73109304
  18HU19931105, AR13a,    74,  1,      7,2,19931206,1739, 47.0498, -43.9100,  473,    249.6,   3.6308,  34.7759,2,  34.7770,2,    251.7,2,    251.0,2,    12.70,2,    19.44,6,     1.31,2,    3.067,2,    1.857,2,    0.165,2,    3.993,2,   2175.5,2,  3.61395866
  18HU19931105, AR13a,    74,  1,      6,2,19931206,1739, 47.0498, -43.9100,  473,    364.1,   3.5747,  34.8670,2,  34.8697,2,    271.9,2,    272.5,2,    13.23,2,    18.54,6,     1.23,2,    2.812,2,    1.331,2,    0.141,2,    3.869,2,   2167.3,2,  3.54991035
  18HU19931105, AR13a,    74,  1,      5,2,19931206,1739, 47.0498, -43.9100,  473,    468.1,   3.4831,  34.8706,2,  34.8721,2,    277.9,2,    279.6,2,    12.95,2,    18.09,6,     1.19,2,    2.884,2,    1.881,2,    0.153,2,    4.101,2,   2164.6,2,  3.45118654
  18HU19931105, AR13a,    75,  1,     13,2,19931206,1901, 47.0508, -44.1440,  305,     22.2,   5.0907,  33.3628,2,  33.3635,2,    307.5,2,    319.7,2,     2.01,2,     3.09,6,     0.47,2,    4.379,2,    2.348,2,    2.313,4,    0.096,4,   2051.3,2,  5.08903626
  18HU19931105, AR13a,    75,  1,     12,2,19931206,1901, 47.0508, -44.1440,  305,    123.0,   2.1125,  34.2819,2,  34.2819,2,    285.5,2,    286.9,2,     8.70,2,    15.50,6,     1.16,2,    4.293,2,    2.707,2,    0.293,2,    5.527,2,   2140.9,2,  2.10594877
  18HU19931105, AR13a,    75,  1,     11,4,19931206,1901, 47.0508, -44.1440,  305,    250.3,   3.6044,  34.7917,2,  33.7005,0,    244.9,2,    279.2,0,     5.01,4,     8.12,4,     0.75,4,    3.647,4,    2.204,4,    0.220,4,    4.515,4,   2121.6,4,  3.58755645
  18HU19931105, AR13a,    75,  1,     10,2,19931206,1901, 47.0508, -44.1440,  305,    299.1,   3.6129,  34.7978,2,  34.7975,2,    246.2,2,    242.9,2,    15.98,3,    20.03,6,     1.38,2,    2.949,2,    1.870,2,    0.161,2,    3.651,2,   2181.6,2,  3.59263458
  18HU19931105, AR13a,    76,  1,     17,2,19931206,2025, 47.0528, -44.3810,  187,     19.3,   4.9090,  33.4093,2,  33.4107,2,    312.4,2,    324.7,2,     2.12,2,     3.37,6,     0.49,2,    4.650,2,    2.198,2,    0.265,2,    7.115,2,   2057.7,2,  4.90758038
  18HU19931105, AR13a,    76,  1,     16,2,19931206,2025, 47.0528, -44.3810,  187,     79.1,   3.3094,  33.6848,2,  33.6846,2,    306.8,2,    312.8,2,     3.85,2,     7.89,6,     0.77,2,    4.961,2,    2.419,2,    0.279,2,    7.283,2,   2091.7,2,  3.30452517
  18HU19931105, AR13a,    76,  1,     15,2,19931206,2025, 47.0528, -44.3810,  187,    118.8,   1.8494,  34.1889,2,  34.1872,2,    289.3,2,    288.8,2,     8.31,2,    15.18,6,     1.18,2,    4.893,2,    2.273,2,    0.272,2,    6.507,2,   2143.3,2,  1.84335493
  18HU19931105, AR13a,    76,  1,     14,2,19931206,2025, 47.0528, -44.3810,  187,    174.3,   2.7602,  34.4911,2,  34.4927,2,    261.7,2,    252.6,2,    12.86,2,    18.50,6,     1.36,2,    4.144,2,    2.039,2,    0.200,2,    5.078,2,   2173.2,2,  2.74985323
  18HU19931105, AR13a,    77,  1,     21,2,19931206,2142, 47.0533, -44.6150,  149,     22.2,   5.2425,  33.3447,2,  33.3458,2,    309.2,2,    321.5,2,     1.89,2,     2.80,6,     0.43,2,    4.542,2,    2.228,2,    0.253,2,    6.892,2,   2052.5,2,  5.24081017
  18HU19931105, AR13a,    77,  1,     20,2,19931206,2142, 47.0533, -44.6150,  149,     65.4,   4.9140,  33.4316,2,  33.4322,2,    309.3,2,    319.2,2,     2.15,2,     3.67,6,     0.51,2,    4.619,2,    2.249,2,    0.247,2,    7.181,2,   2057.7,2,  4.90916164
  18HU19931105, AR13a,    77,  1,     19,2,19931206,2142, 47.0533, -44.6150,  149,     97.6,   1.8310,  34.0620,2,  34.0295,2,    299.6,2,    299.5,2,     7.02,2,    13.62,6,     1.07,2,    5.057,2,    2.345,2,    0.268,2,    6.968,2,   2130.1,2,  1.82609411
  18HU19931105, AR13a,    77,  1,     18,2,19931206,2142, 47.0533, -44.6150,  149,    136.7,   2.2320,  34.2554,2,  34.2563,2,    281.6,2,    285.5,2,    10.16,2,    16.50,6,     1.21,2,    4.679,2,    2.269,2,    0.231,2,    5.857,2,   2156.7,2,  2.22457524
  18HU19931105, AR13a,    78,  1,     25,2,19931206,2327, 47.0552, -44.9810,  158,     50.5,   5.4477,  33.3628,2,  33.3638,2,    305.1,2,    315.4,2,     1.92,2,     2.98,6,     0.45,2,    4.524,2,    2.537,2,    0.264,2,    6.874,2,   2048.4,2,  5.44376191
  18HU19931105, AR13a,    78,  1,     24,2,19931206,2327, 47.0552, -44.9810,  158,     72.4,   3.5867,  33.7134,2,  33.7179,2,    299.7,2,    323.5,0,     4.84,2,     8.97,6,     0.81,2,    4.683,2,    2.538,2,    0.311,2,    6.519,2,   2092.5,2,  3.58207502
  18HU19931105, AR13a,    78,  1,     23,2,19931206,2327, 47.0552, -44.9810,  158,    108.9,   2.2772,  34.1621,2,  34.1638,2,    284.2,2,    296.4,2,     8.71,2,    14.60,6,     1.15,2,    4.728,2,    2.581,2,    0.281,2,    6.249,2,   2138.9,2,  2.27128821
  18HU19931105, AR13a,    78,  1,     22,2,19931206,2327, 47.0552, -44.9810,  158,    143.1,   2.2698,  34.2678,2,  34.2691,2,    281.4,2,    289.0,2,    10.25,2,    16.02,6,     1.22,2,    4.600,2,    2.252,2,    0.257,2,    5.931,2,   2154.6,2,  2.26197225
  18HU19931105, AR13a,    79,  1,     29,2,19931207, 117, 47.0763, -45.3100,  190,     26.7,   5.4056,  33.3577,2,  33.3583,2,    306.3,2,    318.5,2,     1.95,2,     3.13,6,     0.43,2,    4.367,2,    2.730,2,    0.000,3,    6.886,2,   2048.3,2,  5.40353172
  18HU19931105, AR13a,    79,  1,     28,2,19931207, 117, 47.0763, -45.3100,  190,     59.9,   5.2101,  33.3950,2,  33.3945,2,    306.2,2,    318.9,2,     2.14,2,     3.56,6,     0.47,2,    4.498,2,    2.857,2,    0.248,2,    6.775,2,   2057.4,2,  5.20553413
  18HU19931105, AR13a,    79,  1,     27,2,19931207, 117, 47.0763, -45.3100,  190,    112.0,   1.8313,  34.1146,2,  34.1087,2,    295.7,2,    298.4,2,     7.52,2,    13.65,6,     1.07,2,    4.747,2,    2.348,2,    0.375,2,    6.434,2,   2131.6,2,  1.82564014
  18HU19931105, AR13a,    79,  1,     26,2,19931207, 117, 47.0763, -45.3100,  190,    172.7,   2.7394,  34.4874,2,  34.4870,2,    270.7,2,   -999.0,9,    11.52,2,    17.29,6,     1.28,2,    4.074,2,    1.971,2,    0.210,2,    5.201,2,   2159.9,2,  2.72918141
  18HU19931105, AR13a,    80,  1,     33,2,19931207, 309, 47.0542, -45.6810,  272,     26.6,   5.6238,  33.3316,2,  33.3331,2,    305.3,2,    314.1,2,     1.69,2,     2.58,6,     0.42,2,    4.379,2,    2.374,2,    0.253,2,    6.829,2,   2049.6,2,  5.62169478
  18HU19931105, AR13a,    80,  1,     32,2,19931207, 309, 47.0542, -45.6810,  272,    118.8,   1.7316,  34.1948,2,  34.1686,2,    296.2,2,    296.6,2,     7.55,2,    14.10,6,     1.15,2,    4.860,2,    2.708,2,    0.280,2,    6.610,2,   2133.7,2,  1.72567481
  18HU19931105, AR13a,    80,  1,     31,2,19931207, 309, 47.0542, -45.6810,  272,    189.0,   3.1325,  34.6751,2,  34.6730,2,    272.6,2,    269.8,2,    11.16,2,    17.55,6,     1.24,2,    3.789,2,    1.808,2,    0.204,2,    4.936,2,   2163.7,2,  3.12062849
  18HU19931105, AR13a,    80,  1,     30,2,19931207, 309, 47.0542, -45.6810,  272,    255.7,   3.4045,  34.7597,2,  34.7540,2,    266.6,2,    258.0,2,    12.88,2,    18.33,6,     1.30,2,    3.396,2,    2.160,2,    0.160,2,    4.554,2,   2168.5,2,  3.38770753
  18HU19931105, AR13a,    81,  1,     37,2,19931207, 525, 47.0493, -46.0330,  311,     32.5,   5.8090,  33.3054,2,  33.3055,2,    303.7,2,    313.0,2,     1.59,2,     2.23,6,     0.38,2,    4.408,2,    2.589,2,    0.288,2,    6.711,2,   2046.5,2,  5.80638053
  18HU19931105, AR13a,    81,  1,     36,2,19931207, 525, 47.0493, -46.0330,  311,    126.0,   2.0760,  34.2990,2,  34.2928,2,    300.1,2,    298.8,2,     7.40,2,    13.98,6,     1.07,2,    4.530,2,    2.327,2,    0.318,2,    5.688,2,   2134.2,2,  2.06932119
  18HU19931105, AR13a,    81,  1,     35,2,19931207, 525, 47.0493, -46.0330,  311,    246.3,   3.4898,  34.8121,2,  34.8133,2,    275.3,2,    272.5,2,    11.37,2,    17.59,6,     1.25,2,    3.269,2,    2.301,2,    0.162,2,    4.475,2,   2161.8,2,  3.47344975
  18HU19931105, AR13a,    81,  1,     34,2,19931207, 525, 47.0493, -46.0330,  311,    301.1,   3.4188,  34.8370,2,  34.8381,2,    282.1,2,    277.9,2,    11.58,2,    17.47,6,     1.19,2,    3.130,2,    1.577,2,    0.196,2,    4.461,2,   2161.5,2,   3.3988394
  18HU19931105, AR13a,    82,  1,     41,2,19931207, 730, 47.0492, -46.2630,  316,     46.2,   5.6641,  33.3043,2,  33.3047,2,    306.0,2,    312.8,2,     1.62,2,     2.29,6,     0.41,2,    4.278,2,    2.481,2, -999.000,9,    6.772,2,   2048.2,2,  5.66042441
  18HU19931105, AR13a,    82,  1,     40,2,19931207, 730, 47.0492, -46.2630,  316,    122.4,   1.7643,  34.2190,2,  34.2072,2,    295.8,2,    292.4,2,     7.92,2,    14.34,6,     1.15,2,    4.838,2,    3.252,2,    0.263,2,    6.468,2,   2139.7,2,  1.75814976
  18HU19931105, AR13a,    82,  1,     39,2,19931207, 730, 47.0492, -46.2630,  316,    201.2,   3.5899,  34.7429,2,  34.7451,2,    278.5,2,    276.1,2,     9.70,2,    16.80,6,     1.18,2,    3.582,2,    2.456,2,    0.181,2,    5.019,2,   2153.4,2,  3.57647792
  18HU19931105, AR13a,    82,  1,     38,2,19931207, 730, 47.0492, -46.2630,  316,    311.5,   3.4909,  34.8367,2,  34.8370,2,    281.4,2,    276.1,2,    11.20,2,    17.50,6,     1.20,2,    3.135,2,    2.544,2,    0.262,2,    4.410,2,   2161.9,2,  3.47004573
  18HU19931105, AR13a,    83,  1,     45,2,19931207,1842, 47.0428, -47.4360,  238,     25.8,   1.3586,  32.6812,2,  32.6816,2,    329.7,2,    349.6,2,     3.37,2,     3.22,6,     0.61,2,    5.435,2,    2.797,2,    0.383,2,    8.988,2,   2077.2,2,  1.35748455
  18HU19931105, AR13a,    83,  1,     44,2,19931207,1842, 47.0428, -47.4360,  238,     85.8,  -1.2631,  33.2708,2,  33.2738,2,    307.2,2,    315.1,2,    12.08,2,    10.09,6,     1.12,2,    5.105,2,    2.803,2,    0.314,2,    6.895,2,   2146.2,2, -1.26502222
  18HU19931105, AR13a,    83,  1,     43,2,19931207,1842, 47.0428, -47.4360,  238,    183.4,   0.1604,  33.9199,2,  33.9198,2,    296.1,2,    302.7,2,    11.03,2,    12.62,6,     1.03,2,    4.866,2,    2.534,2,    0.305,2,    6.693,2,   2136.1,2, 0.153647842
  18HU19931105, AR13a,    83,  1,     42,2,19931207,1842, 47.0428, -47.4360,  238,    225.0,   0.3063,  33.9609,2,  33.9608,2,    295.7,2,    299.1,2,    11.03,2,    12.48,6,     1.03,2,    4.674,2,    2.301,2,    0.297,2,    6.505,2,   2138.0,2, 0.297635857
  18HU19931105, AR13a,    84,  1,     49,2,19931207,2019, 47.0447, -47.2190,  747,    244.3,   2.3940,  34.4563,2,  34.4575,2,    282.3,2,    282.0,2,    12.17,2,    15.32,6,     1.11,2,    4.128,2,    2.100,2,    0.252,2,    5.397,2,   2153.0,2,  2.38010001
  18HU19931105, AR13a,    84,  1,     48,2,19931207,2019, 47.0447, -47.2190,  747,    451.9,   3.7626,  34.7524,2,  34.7518,2,    281.4,2,    282.1,2,    10.97,2,    15.92,6,     1.09,2,    3.735,2,    2.356,2,    0.220,2,    4.882,2,   2154.0,2,  3.73094193
  18HU19931105, AR13a,    84,  1,     47,2,19931207,2019, 47.0447, -47.2190,  747,    646.5,   4.0687,  34.8655,2,  34.8659,2,    285.7,2,    287.4,2,    10.10,2,    16.38,6,     1.08,2,    3.535,2,    1.568,2,    0.205,2,    4.875,2,   2153.6,2,  4.02076664
  18HU19931105, AR13a,    84,  1,     46,2,19931207,2019, 47.0447, -47.2190,  747,    738.6,   3.9539,  34.8725,2,  34.8728,2,    287.6,2,    289.5,2,    10.23,2,    16.32,6,     1.09,2,    3.598,2,    2.381,2,    0.204,2,    4.942,2,   2154.2,2,  3.89927397
  18HU19931105, AR13a,    85,  1,     58,2,19931207,2301, 47.0492, -46.9870, 1146,     17.1,   1.8906,  33.4777,2,  33.4821,2,    336.6,2,    344.5,2,     2.00,2,     4.62,6,     0.52,2,    5.402,2,    2.723,2,    0.410,2,    8.677,2,   2082.0,2,  1.88976078
  18HU19931105, AR13a,    85,  1,     57,2,19931207,2301, 47.0492, -46.9870, 1146,     84.6,   3.1417,  33.6983,2,  33.7043,2,    320.8,2,    329.2,2,     2.58,2,     5.32,6,     0.52,2,    4.919,2,    2.882,2,    0.355,2,    7.719,2,   2081.1,2,   3.1365949
  18HU19931105, AR13a,    85,  1,     56,2,19931207,2301, 47.0492, -46.9870, 1146,    118.9,   1.5189,  34.1223,2,  34.1041,2,    309.8,2,    312.2,2,     6.16,2,    12.53,6,     0.96,2,    5.082,2,    3.029,2,    0.397,2,    6.664,2,   2124.6,2,  1.51319364
  18HU19931105, AR13a,    85,  1,     55,2,19931207,2301, 47.0492, -46.9870, 1146,    199.9,   3.4763,  34.6984,2,  34.6921,2,    290.0,2,    294.0,2,     8.54,2,    15.79,6,     1.07,2,    4.074,2,    2.498,2,    0.271,2,    5.281,2,   2145.9,2,  3.46316699
  18HU19931105, AR13a,    85,  1,     54,2,19931207,2301, 47.0492, -46.9870, 1146,    395.8,   3.9520,  34.8687,2,  34.8703,2,    286.5,2,    289.5,2,     9.66,2,    16.59,6,     1.10,2,    3.602,2,    1.845,2,    0.216,2,    5.122,2,   2153.3,2,  3.92377168
  18HU19931105, AR13a,    85,  1,     53,2,19931207,2301, 47.0492, -46.9870, 1146,    698.2,   3.6768,  34.8841,2,  34.8850,2,    290.4,2,    294.8,2,     9.69,2,    16.60,6,     1.08,2,    3.497,2,    1.663,2,    0.203,2,    5.111,2,   2153.5,2,  3.62687239
  18HU19931105, AR13a,    85,  1,     52,2,19931207,2301, 47.0492, -46.9870, 1146,    996.0,   3.2780,  34.8666,2,  34.8684,2,    295.2,2,    298.0,2,    10.09,2,    16.53,6,     1.15,2,    3.341,2,    1.505,2,    0.178,2,    5.030,2,   2154.4,2,  3.20761753
  18HU19931105, AR13a,    85,  1,     51,2,19931207,2301, 47.0492, -46.9870, 1146,   1137.6,   2.9621,  34.8512,2,  34.8534,2,    299.9,2,    300.5,2,    11.25,2,    16.19,6,     1.09,2,    3.061,2,    1.682,2,    0.160,2,    4.813,2,   2153.8,2,  2.88328434
  18HU19931105, AR13a,    86,  1,     66,2,19931208,  53, 47.0523, -46.7510, 1162,     52.6,   3.0251,  33.5921,2,  33.5921,2,    326.6,2,   -999.0,9,  -999.00,9,  -999.00,9,  -999.00,9, -999.000,9, -999.000,9, -999.000,9, -999.000,9,   -999.0,9,  3.02200007
  18HU19931105, AR13a,    86,  1,     65,2,19931208,  53, 47.0523, -46.7510, 1162,    151.3,   2.7954,  34.5623,2,  34.5623,2,    295.8,2,    296.2,2,     8.25,2,    15.25,6,     1.06,2,    4.372,2,    2.795,2,    0.309,2,    5.850,2,   2142.8,2,  2.78638519
  18HU19931105, AR13a,    86,  1,     64,2,19931208,  53, 47.0523, -46.7510, 1162,    300.1,   3.8626,  34.8594,2,  34.8587,2,    289.7,2,    292.8,2,     9.29,2,    16.49,6,     1.09,2,    3.786,2,    1.714,2,    0.245,2,    5.260,2,   2151.7,2,  3.84163721
  18HU19931105, AR13a,    86,  1,     63,2,19931208,  53, 47.0523, -46.7510, 1162,    490.1,   3.4869,  34.8665,2,  34.8674,2,    290.9,2,    297.7,2,     9.62,2,    16.56,6,     1.10,2,    3.419,2,    1.585,2,    0.195,2,    4.959,2,   2154.6,2,  3.45339149
  18HU19931105, AR13a,    86,  1,     62,2,19931208,  53, 47.0523, -46.7510, 1162,    708.8,   3.2958,  34.8654,2,  34.8664,2,    290.9,2,    292.8,2,    10.15,2,    16.80,6,     1.12,2,    3.094,2,    1.410,2,    0.170,2,    4.658,2,   2154.6,2,  3.24719717
  18HU19931105, AR13a,    86,  1,     61,2,19931208,  53, 47.0523, -46.7510, 1162,    898.9,   3.2125,  34.8643,2,  34.8650,2,    291.7,2,    293.8,2,    10.38,2,    16.59,6,     1.10,2,    2.879,2,    1.338,2,    0.138,2,    4.523,2,   2154.7,2,  3.15011943
  18HU19931105, AR13a,    86,  1,     60,2,19931208,  53, 47.0523, -46.7510, 1162,   1103.4,   2.9929,  34.8513,2,  34.8519,2,    299.5,2,    299.0,2,    10.64,2,    16.40,6,     1.18,2,    4.314,2,    2.578,2,    0.290,4,    6.686,3,   2152.9,2,  2.91648607
  18HU19931105, AR13a,    86,  1,     59,2,19931208,  53, 47.0523, -46.7510, 1162,   1157.3,   2.9168,  34.8518,2,  34.8083,2,    299.6,2,    293.7,2,     8.97,2,    16.12,6,     1.07,2,    3.964,2,    2.081,2,    0.254,4,    5.306,2,   2151.9,2,  2.83693802
  18HU19931105, AR13a,    87,  1,     70,2,19931208, 249, 47.0530, -46.5170,  382,     40.6,   5.6082,  33.3518,2,  33.3526,2,    305.9,2,    314.0,2,     1.82,2,     2.71,6,     0.38,2,    4.320,2,    2.582,2,    0.290,2,    6.696,2,   2050.8,2,  5.60498627
  18HU19931105, AR13a,    87,  1,     69,2,19931208, 249, 47.0530, -46.5170,  382,    119.6,   2.9795,  34.4457,2,  33.3700,0,    285.8,2,    318.1,0,     1.89,2,     2.82,6,     0.40,2,    4.376,2,    2.712,2,    0.306,2,    6.741,2,   2048.2,2,  2.97225066
  18HU19931105, AR13a,    87,  1,     68,2,19931208, 249, 47.0530, -46.5170,  382,    251.3,   3.6059,  34.8123,2,  34.8135,2,    280.9,2,    282.5,2,    10.06,2,    16.85,6,     1.15,2,    3.408,2,    2.304,2,    0.216,2,    4.752,2,   2156.7,2,  3.58897472
  18HU19931105, AR13a,    87,  1,     67,2,19931208, 249, 47.0530, -46.5170,  382,    372.5,   3.4082,  34.8613,2,  34.8613,2,    288.0,2,   -999.0,9,  -999.00,9,  -999.00,9,  -999.00,9, -999.000,9, -999.000,9, -999.000,9, -999.000,9,   -999.0,9,  3.38331262