BOTTLE,20081201PRINUNIVRMK
EXPOCODE,SECT_ID,STNNBR,CASTNO,BTLNBR,BTLNBR_FLAG_W,DATE,TIME,LATITUDE,LONGITUDE,DEPTH,CTDPRS,CTDTMP,CTDSAL,CTDSAL_FLAG_W,SALNTY,SALNTY_FLAG_W,CTDOXY,CTDOXY_FLAG_W,OXYGEN,OXYGEN_FLAG_W,SILCAT,SILCAT_FLAG_W,NITRAT,NITRAT_FLAG_W,PHSPHT,PHSPHT_FLAG_W,CFC-11,CFC-11_FLAG_W,CFC-12,CFC-12_FLAG_W,CFC113,CFC113_FLAG_W,CCL4,CCL4_FLAG_W,TCARBN,TCARBN_FLAG_W,THETA
,,,,,,,,,,METERS,DBARS,ITS-90,PSS-78,,PSS-78,,UMOL/KG,,UMOL/KG,,UMOL/KG,,UMOL/KG,,UMOL/KG,,PMOL/KG,,PMOL/KG,,PMOL/KG,,PMOL/KG,,UMOL/KG,,DEGC
  18HU19931105, AR13a,    96,  1,     20,2,19931209,  10, 46.2177, -40.1340, 4679,     23.6,  14.7722,  35.8859,2,  35.8878,2,    240.8,2,    248.3,2,     2.15,2,     4.74,6,     0.28,2,    2.745,2,    2.193,3, -999.000,9,    2.551,2,   2090.6,2,  14.7686553
  18HU19931105, AR13a,    96,  1,     19,2,19931209,  10, 46.2177, -40.1340, 4679,    200.9,  14.0037,  35.8092,2,  35.8107,2,    221.0,2,    222.9,2,     3.87,2,     8.32,6,     0.48,2,    2.163,2,    1.469,2,    0.100,2,    1.492,2,   2111.8,2,  13.9744415
  18HU19931105, AR13a,    96,  1,     18,2,19931209,  10, 46.2177, -40.1340, 4679,    252.6,  13.2630,  35.6744,2,  35.6766,2,    232.1,2,    237.2,2,     3.13,2,     7.71,6,     0.46,2,    2.574,2,    2.134,3,    0.116,2,    1.955,2,   2105.9,2,   13.227491
  18HU19931105, AR13a,    96,  1,     17,2,19931209,  10, 46.2177, -40.1340, 4679,    400.0,  12.6244,  35.6611,2,  35.6638,2,    214.1,2,    217.7,2,     4.92,2,    11.54,6,     0.69,2,    3.197,3,    1.698,2,    0.085,2,    1.037,2,   2128.2,2,  12.5696599
  18HU19931105, AR13a,    96,  1,     16,2,19931209,  10, 46.2177, -40.1340, 4679,    599.2,  10.8194,  35.3856,2,  35.3880,2,    214.0,2,    217.7,2,     6.76,2,    14.36,6,     0.84,2,    2.317,2,    1.411,2,    0.094,2,    1.333,2,   2142.6,3,  10.7446028
  18HU19931105, AR13a,    96,  1,     15,2,19931209,  10, 46.2177, -40.1340, 4679,    799.6,   7.6723,  35.0035,2,  35.0058,2,    202.2,2,    200.3,2,    11.34,2,    19.28,6,     1.22,2,    2.060,2,    0.859,2,    0.142,2,    1.700,2,   2165.5,2,  7.59016032
  18HU19931105, AR13a,    96,  1,     14,2,19931209,  10, 46.2177, -40.1340, 4679,   1000.4,   5.5879,  34.9614,2,  34.9688,2,    227.8,2,    226.6,2,    11.90,2,    19.25,6,     1.21,2,    1.653,2,    0.775,2,    0.067,2,    2.005,2,   2171.3,2,  5.49934787
  18HU19931105, AR13a,    96,  1,     13,2,19931209,  10, 46.2177, -40.1340, 4679,   1202.0,   4.8821,  34.9989,2,  35.0115,2,    247.4,2,    247.8,2,    11.32,2,    18.64,6,     1.15,2,    1.578,2,    0.711,2,    0.050,2,    2.211,2,   2169.6,2,  4.78028764
  18HU19931105, AR13a,    96,  1,     12,2,19931209,  10, 46.2177, -40.1340, 4679,   1499.5,   4.1151,  34.9467,2,  34.9482,2,    267.2,2,    269.3,2,    11.16,2,    17.86,6,     1.11,2,    1.778,2,    1.494,2,    0.068,2,    2.892,2,   2161.7,2,  3.99367616
  18HU19931105, AR13a,    96,  1,     11,2,19931209,  10, 46.2177, -40.1340, 4679,   1801.4,   3.5515,  34.8963,2,  34.9027,2,    280.7,2,    288.3,2,    10.76,2,    17.37,6,     1.06,2,    1.981,2,    0.923,2,    0.076,2,    3.366,2,   2156.3,2,  3.40939601
  18HU19931105, AR13a,    96,  1,     10,2,19931209,  10, 46.2177, -40.1340, 4679,   2102.4,   3.4104,  34.8940,2,  34.8964,2,    282.8,2,    288.8,2,    11.09,2,    17.52,6,     1.07,2,    2.110,2,    3.160,4,    0.064,2,    3.195,2,   2153.8,2,  3.24213588
  18HU19931105, AR13a,    96,  1,      9,2,19931209,  10, 46.2177, -40.1340, 4679,   2403.0,   3.3095,  34.8940,2,  34.8966,2,    283.6,2,    288.7,2,    11.40,2,    17.16,6,     1.07,2,    1.825,2,    0.838,2,    0.071,2,    3.327,2,   2153.7,2,  3.11370179
  18HU19931105, AR13a,    96,  1,      8,2,19931209,  10, 46.2177, -40.1340, 4679,   2704.9,   3.3058,  34.9204,2,  34.9208,2,    277.9,2,    284.3,2,    12.63,2,    17.51,6,     1.07,2,    1.218,3,    0.000,2,    0.016,2,    2.222,2,   2153.1,2,  3.07948694
  18HU19931105, AR13a,    96,  1,      7,2,19931209,  10, 46.2177, -40.1340, 4679,   3001.6,   3.1763,  34.9314,2,  34.9332,2,    276.6,2,    280.7,2,    13.92,2,    17.77,6,     1.07,2,    1.025,2,    0.485,2,    0.098,3,    1.852,2,   2156.2,2,  2.92155444
  18HU19931105, AR13a,    96,  1,      6,2,19931209,  10, 46.2177, -40.1340, 4679,   3300.8,   2.9563,  34.9313,2,  34.9367,2,    275.9,2,    279.6,2,    15.47,2,    17.54,6,     1.09,2,    1.182,2,    0.700,2,    0.015,2,    1.525,2,   2157.6,2,  2.67432496
  18HU19931105, AR13a,    96,  1,      5,2,19931209,  10, 46.2177, -40.1340, 4679,   3599.5,   2.7056,  34.9231,2,  34.9225,2,    277.6,2,    280.9,2,    17.58,2,    17.58,6,     1.08,2,    0.999,2,    0.446,2,    0.024,2,    1.356,2,   2159.1,2,  2.39697753
  18HU19931105, AR13a,    96,  1,      4,2,19931209,  10, 46.2177, -40.1340, 4679,   3902.9,   2.4799,  34.9130,2,  34.9849,2,    279.7,2,    273.3,2,    16.68,2,    16.75,6,     1.11,2,    1.728,2,    0.637,2,    0.032,2,    1.984,2,   2158.7,2,  2.14272546
  18HU19931105, AR13a,    96,  1,      3,2,19931209,  10, 46.2177, -40.1340, 4679,   4195.5,   2.3346,  34.9045,2,  34.9117,2,    281.6,2,    281.6,2,    19.55,2,    17.69,6,     1.09,2,    1.304,2,    0.778,2,    0.025,2,    1.736,2,   2159.5,2,  1.96827426
  18HU19931105, AR13a,    96,  1,      2,2,19931209,  10, 46.2177, -40.1340, 4679,   4492.0,   2.2785,  34.8999,2,  34.8997,2,    285.5,2,    285.5,2,    20.11,2,    17.79,6,     1.09,2,    1.303,2,    0.639,2,    0.039,2,    2.019,2,   2162.5,2,  1.87887153
  18HU19931105, AR13a,    96,  1,      1,2,19931209,  10, 46.2177, -40.1340, 4679,   4675.3,   2.2684,  34.8993,2,  34.9081,2,    290.2,2,    286.0,2,    17.62,2,    17.06,6,     1.04,2,    1.457,2,    0.679,2,    0.052,2,    2.361,2,   2160.2,2,  1.84684435
  18HU19931105, AR13a,    97,  1,     40,2,19931210, 632, 45.8020, -39.6740, 4703,     49.8,  16.2339,  36.0963,2,  36.0994,2,    228.1,2,    231.7,2,     2.05,2,     4.41,6,     0.31,2,    2.040,2,    0.988,2,    0.095,2,    2.250,2,   -999.0,9,  16.2259037
  18HU19931105, AR13a,    97,  1,     39,2,19931210, 632, 45.8020, -39.6740, 4703,    161.3,  16.1456,  36.2075,2,  36.2093,2,    207.5,2,    208.5,2,     2.76,2,     7.19,6,     0.45,2,    1.854,2,    0.912,2,    0.059,2,    0.801,2,   -999.0,9,  16.1196979
  18HU19931105, AR13a,    97,  1,     38,2,19931210, 632, 45.8020, -39.6740, 4703,    246.8,  15.0223,  35.9980,2,  35.9980,2,    232.3,2,    235.9,2,     2.23,2,     5.69,6,     0.39,2,    2.134,2,    1.027,2,    0.108,2,    2.197,2,   -999.0,9,  14.9845185
  18HU19931105, AR13a,    97,  1,     37,2,19931210, 632, 45.8020, -39.6740, 4703,    357.9,  13.9339,  35.8391,2,  35.8391,2,    214.8,2,    213.9,2,     3.89,2,    10.43,6,     0.67,2,    1.983,2,    1.025,2,    0.108,2,    1.156,2,   -999.0,9,  13.8816645
  18HU19931105, AR13a,    97,  1,     36,2,19931210, 632, 45.8020, -39.6740, 4703,    533.9,  12.9999,  35.7866,2,  35.7866,2,    234.2,2,    239.7,2,     4.18,2,     9.71,4,     0.65,2,    2.289,2,    1.112,2,    0.126,2,    1.469,2,   -999.0,9,  12.9249916
  18HU19931105, AR13a,    97,  1,     35,2,19931210, 632, 45.8020, -39.6740, 4703,    764.3,  11.4632,  35.5202,2,  35.7225,0,    234.3,2,    237.5,2,     4.42,2,    10.35,4,     0.70,2,    2.285,2,    1.049,2, -999.000,9,    1.476,2,   -999.0,9,  11.3634934
  18HU19931105, AR13a,    97,  1,     34,2,19931210, 632, 45.8020, -39.6740, 4703,   1033.0,   6.6140,  34.9848,2,  35.0017,2,    218.7,2,    218.2,2,    11.21,2,    19.30,6,     1.36,2,    1.711,2,    0.958,2,    0.133,2,    2.106,2,   -999.0,9,  6.51437621
  18HU19931105, AR13a,    97,  1,     33,2,19931210, 632, 45.8020, -39.6740, 4703,   1207.3,   5.5285,  35.0055,2,  35.0092,2,    228.9,2,    229.2,2,    11.98,2,    18.54,6,     1.22,2,    1.490,2,    0.752,2,    0.056,2,    2.011,2,   -999.0,9,  5.42035194
  18HU19931105, AR13a,    97,  1,     32,2,19931210, 632, 45.8020, -39.6740, 4703,   1500.7,   4.0579,  34.9326,2,  34.9351,2,    268.0,2,    273.1,2,    10.83,2,    17.09,6,     1.12,2,    1.949,2,    0.832,2,    0.071,2,    3.218,2,   -999.0,9,  3.93704377
  18HU19931105, AR13a,    97,  1,     31,2,19931210, 632, 45.8020, -39.6740, 4703,   1800.1,   3.7209,  34.9180,2,  34.9200,2,    275.4,2,    279.7,2,    11.09,2,    16.87,6,     1.09,2,    1.667,2,    0.904,2, -999.000,9,    3.090,2,   -999.0,9,  3.57658396
  18HU19931105, AR13a,    97,  1,     30,2,19931210, 632, 45.8020, -39.6740, 4703,   2100.8,   3.4753,  34.8968,2,  34.9006,2,    281.1,2,    287.4,2,    10.95,2,    16.82,6,     1.08,2,    1.881,2,    0.831,2,    0.059,2,    3.270,2,   -999.0,9,  3.30616404
  18HU19931105, AR13a,    97,  1,     29,2,19931210, 632, 45.8020, -39.6740, 4703,   2414.9,   3.2821,  34.8820,2,  34.8855,2,    285.9,2,    292.3,2,    10.80,2,    16.40,6,     1.07,2,    2.046,2,    1.068,2,    0.100,2,    3.759,2,   -999.0,9,  3.08565213
  18HU19931105, AR13a,    97,  1,     28,2,19931210, 632, 45.8020, -39.6740, 4703,   2696.9,   3.3103,  34.9120,2,  34.9145,2,    279.0,2,    283.6,2,    12.03,2,    16.46,6,     1.06,2,    1.377,2,    0.611,2,    0.039,2,    2.681,2,   -999.0,9,  3.08475002
  18HU19931105, AR13a,    97,  1,     27,2,19931210, 632, 45.8020, -39.6740, 4703,   3005.0,   3.2345,  34.9237,2,  34.9256,2,    278.1,2,    283.3,2,    12.51,2,    16.60,6,     1.07,2,    1.180,2,    0.556,2,    0.029,2,    2.412,2,   -999.0,9,  2.97817693
  18HU19931105, AR13a,    97,  1,     26,2,19931210, 632, 45.8020, -39.6740, 4703,   3311.6,   3.0435,  34.9321,2,  34.9382,2,    276.4,2,    280.6,2,    14.24,2,    16.56,6,     1.08,2,    0.916,2,    0.454,2,    0.014,2,    1.726,2,   -999.0,9,  2.75829333
  18HU19931105, AR13a,    97,  1,     25,2,19931210, 632, 45.8020, -39.6740, 4703,   3605.8,   2.8289,  34.9266,2,  34.9360,2,    278.1,2,    279.4,2,    15.65,2,    16.43,6,     1.06,2,    0.917,2,    0.429,2,    0.020,2,    1.809,2,   -999.0,9,  2.51637464
  18HU19931105, AR13a,    97,  1,     24,2,19931210, 632, 45.8020, -39.6740, 4703,   3903.0,   2.5421,  34.9156,2,  34.9317,2,    279.7,2,    282.2,2,    17.50,2,    16.40,6,     1.08,2,    0.918,2,    0.413,2,    0.023,2,    1.925,2,   -999.0,9,  2.20354684
  18HU19931105, AR13a,    97,  1,     23,2,19931210, 632, 45.8020, -39.6740, 4703,   4216.7,   2.3792,  34.9062,2,  34.9062,2,    282.5,2,   -999.0,9,  -999.00,9,  -999.00,9,  -999.00,9, -999.000,9, -999.000,9, -999.000,9, -999.000,9,   -999.0,9,  2.00913949
  18HU19931105, AR13a,    97,  1,     22,2,19931210, 632, 45.8020, -39.6740, 4703,   4555.3,   2.2976,  34.9012,2,  34.9006,2,    285.5,2,    286.3,2,    18.44,2,    16.41,6,     1.06,2,    1.174,2,    0.760,2,    0.040,2,    2.286,2,   -999.0,9,  1.88975738
  18HU19931105, AR13a,    97,  1,     21,2,19931210, 632, 45.8020, -39.6740, 4703,   4699.1,   2.2309,  34.8984,2,  34.9002,2,    291.8,2,    292.6,2,    15.42,2,    15.85,6,     1.02,2,    1.553,2,    1.066,2,    0.048,2,    2.884,2,   -999.0,9,   1.8076849
  18HU19931105, AR13a,    98,  1,     60,2,19931210,1254, 45.3860, -39.1900, 4425,     45.9,  17.1539,  36.3400,2,  36.3434,2,    221.8,2,    231.3,2,     1.43,2,     3.61,6,     0.25,2,    2.228,2,    1.386,2,    0.099,2,    2.013,2,   2086.4,2,  17.1462331
  18HU19931105, AR13a,    98,  1,     59,2,19931210,1254, 45.3860, -39.1900, 4425,    199.1,  16.1263,  36.0791,2,  36.0817,2,    223.2,2,    231.8,2,     2.26,2,     4.42,6,     0.31,2,    2.136,2,    1.394,2,    0.112,2,    2.079,2,   2087.8,2,  16.0943518
  18HU19931105, AR13a,    98,  1,     58,2,19931210,1254, 45.3860, -39.1900, 4425,    299.1,  15.3488,  36.0310,2,  36.0350,2,    198.1,2,    202.2,2,     3.33,2,     9.11,6,     0.57,2,    2.187,2,    0.911,2,    0.059,2,    0.973,2,   2115.2,2,  15.3022636
  18HU19931105, AR13a,    98,  1,     57,2,19931210,1254, 45.3860, -39.1900, 4425,    401.8,  13.4921,  35.7185,2,  35.7290,2,    192.5,2,    195.9,2,     5.33,2,    12.87,6,     0.82,2,    1.861,2,    0.797,2,    0.060,2,    1.029,2,   2130.6,2,  13.4346529
  18HU19931105, AR13a,    98,  1,     56,2,19931210,1254, 45.3860, -39.1900, 4425,    609.3,  10.2961,  35.2745,2,  35.2821,2,    173.2,2,    168.9,2,    10.38,2,    20.47,6,     1.34,2,    2.008,2,    0.682,2,    0.063,2,    1.162,2,   2166.4,2,  10.2223705
  18HU19931105, AR13a,    98,  1,     55,2,19931210,1254, 45.3860, -39.1900, 4425,    797.5,   7.6548,  35.0188,2,  35.0228,2,    198.3,2,    195.9,2,    11.86,2,    20.79,6,     1.40,2,    1.487,2,    0.677,2,    0.066,2,    1.778,2,   2169.6,2,   7.5729688
  18HU19931105, AR13a,    98,  1,     54,2,19931210,1254, 45.3860, -39.1900, 4425,    906.7,   5.4880,  34.8232,2,  34.8348,2,    231.6,2,    233.1,2,    11.30,2,    20.13,6,     1.34,2,    2.678,2,    1.011,2,    0.106,2,    2.645,2,   2165.0,2,  5.40921657
  18HU19931105, AR13a,    98,  1,     53,2,19931210,1254, 45.3860, -39.1900, 4425,   1003.9,   5.7614,  35.0002,2,  35.0072,2,    222.8,2,    223.3,2,    12.34,2,    20.50,6,     1.39,2,    2.366,2,    0.654,2,    0.061,2,    1.979,2,   2173.3,2,  5.67114494
  18HU19931105, AR13a,    98,  1,     52,2,19931210,1254, 45.3860, -39.1900, 4425,   1303.4,   4.5279,  34.9816,2,  34.9834,2,    255.8,2,    258.8,2,    11.58,2,    19.11,6,     1.27,2,    1.634,2,    0.766,2,    0.057,2,    2.505,2,   2164.2,2,   4.4200855
  18HU19931105, AR13a,    98,  1,     51,2,19931210,1254, 45.3860, -39.1900, 4425,   1601.4,   3.8188,  34.9189,2,  34.9227,2,    273.6,2,    278.4,2,    11.03,2,    18.64,6,     1.22,2,    1.872,2,    0.806,2,    0.073,2,    3.009,2,   2157.1,2,   3.6915654
  18HU19931105, AR13a,    98,  1,     50,2,19931210,1254, 45.3860, -39.1900, 4425,   1903.5,   3.4758,  34.8887,2,  34.8911,2,    282.5,2,    291.0,2,    10.95,2,    18.03,6,     1.24,2,    2.278,2,    0.913,2,    0.081,2,    3.275,2,   2154.6,2,  3.32532394
  18HU19931105, AR13a,    98,  1,     49,2,19931210,1254, 45.3860, -39.1900, 4425,   2206.0,   3.3464,  34.8868,2,  34.8917,2,    284.4,2,    296.7,2,    11.16,2,    18.80,6,     1.25,2,    2.837,3,    0.860,2,    0.069,2,    2.922,2,   2154.4,2,  3.16923504
  18HU19931105, AR13a,    98,  1,     48,2,19931210,1254, 45.3860, -39.1900, 4425,   2505.5,   3.2969,  34.8990,2,  34.9003,2,    282.9,2,    287.0,2,    11.80,2,    18.10,6,     1.23,2,    1.937,2,    0.756,2,    0.043,2,    2.787,2,   2154.9,2,  3.09110719
  18HU19931105, AR13a,    98,  1,     47,2,19931210,1254, 45.3860, -39.1900, 4425,   2802.4,   3.2858,  34.9253,2,  34.9267,2,    276.8,2,    281.9,2,    13.16,2,    18.06,6,     1.24,2,    1.526,2,    0.572,2,    0.027,2,    2.079,2,   2157.3,2,  3.04975588
  18HU19931105, AR13a,    98,  1,     46,2,19931210,1254, 45.3860, -39.1900, 4425,   3104.4,   3.1368,  34.9326,2,  34.9411,2,    277.1,2,    281.0,2,    14.06,2,    17.87,6,     1.21,2,    1.386,2,    0.465,2,    0.022,2,    1.846,2,   2158.1,2,  2.87190519
  18HU19931105, AR13a,    98,  1,     45,2,19931210,1254, 45.3860, -39.1900, 4425,   3407.1,   2.9053,  34.9289,2,  34.9364,2,    277.4,2,    280.3,2,    14.85,2,    18.15,6,     1.21,2,    1.660,2,    0.337,2,    0.020,2,    1.858,2,   2156.8,2,  2.61291984
  18HU19931105, AR13a,    98,  1,     44,2,19931210,1254, 45.3860, -39.1900, 4425,   3694.0,   2.7690,  34.9248,2,  34.9254,2,    277.4,2,    281.9,2,    16.61,2,    17.65,6,     1.23,2,    2.021,2,    0.443,2,    0.023,2,    1.752,2,   2160.6,2,  2.44816099
  18HU19931105, AR13a,    98,  1,     43,2,19931210,1254, 45.3860, -39.1900, 4425,   3999.1,   2.5416,  34.9148,2,  34.9148,2,    279.3,2,   -999.0,9,  -999.00,9,  -999.00,9,  -999.00,9, -999.000,9, -999.000,9, -999.000,9, -999.000,9,   -999.0,9,  2.19214575
  18HU19931105, AR13a,    98,  1,     42,2,19931210,1254, 45.3860, -39.1900, 4425,   4298.2,   2.3086,  34.9027,2,  34.9034,2,    285.9,2,    285.8,2,    18.22,2,    17.13,6,     1.21,2,    1.319,2,    0.607,2,    0.033,2,    2.035,2,   2161.7,2,   1.9310627
  18HU19931105, AR13a,    98,  1,     41,2,19931210,1254, 45.3860, -39.1900, 4425,   4401.3,   2.2420,  34.8996,2,  34.9023,2,    289.4,2,    288.8,2,    17.25,2,    17.04,6,     1.20,2,    2.937,3,    0.529,2,    0.043,2,    2.243,2,   2153.3,2,  1.85428036