BOTTLE,20081201PRINUNIVRMK
EXPOCODE,SECT_ID,STNNBR,CASTNO,BTLNBR,BTLNBR_FLAG_W,DATE,TIME,LATITUDE,LONGITUDE,DEPTH,CTDPRS,CTDTMP,CTDSAL,CTDSAL_FLAG_W,SALNTY,SALNTY_FLAG_W,CTDOXY,CTDOXY_FLAG_W,OXYGEN,OXYGEN_FLAG_W,SILCAT,SILCAT_FLAG_W,NITRAT,NITRAT_FLAG_W,PHSPHT,PHSPHT_FLAG_W,CFC-11,CFC-11_FLAG_W,CFC-12,CFC-12_FLAG_W,CFC113,CFC113_FLAG_W,CCL4,CCL4_FLAG_W,TCARBN,TCARBN_FLAG_W,THETA
,,,,,,,,,,METERS,DBARS,ITS-90,PSS-78,,PSS-78,,UMOL/KG,,UMOL/KG,,UMOL/KG,,UMOL/KG,,UMOL/KG,,PMOL/KG,,PMOL/KG,,PMOL/KG,,PMOL/KG,,UMOL/KG,,DEGC
  18HU19931105, AR13a,    27,  1,      8,2,19931124,2001, 40.2502, -42.9680, 4811,     15.2,  19.0669,  36.2618,2,  36.2650,2,    215.7,2,    226.9,2,     0.75,2,     1.12,6,     0.00,2,    2.019,2,    0.963,2,    0.116,2,    2.249,2,   -999.0,9,  19.0641711
  18HU19931105, AR13a,    27,  1,      7,2,19931124,2001, 40.2502, -42.9680, 4811,     15.2,  19.0669,  36.2618,2,  36.2644,2,    215.7,2,    227.4,2,     0.76,2,     1.12,6,     0.00,2,    2.145,2,    0.979,2,    0.111,2,    2.354,2,   -999.0,9,  19.0641711
  18HU19931105, AR13a,    27,  1,      5,2,19931124,2001, 40.2502, -42.9680, 4811,    199.3,  17.7900,  36.4462,2,  36.4534,2,    190.6,2,    197.4,2,     1.82,2,     5.26,6,     0.25,2,    1.963,2,    0.897,2,    0.052,2,    0.343,2,   -999.0,9,  17.7557182
  18HU19931105, AR13a,    27,  1,      6,2,19931124,2001, 40.2502, -42.9680, 4811,    199.3,  17.7900,  36.4462,2,  36.4522,2,    190.6,2,    182.4,0,     1.82,2,     5.34,6,     0.25,2,    1.866,2,    0.879,2,    0.050,2,    0.464,2,   -999.0,9,  17.7557185
  18HU19931105, AR13a,    27,  1,      4,2,19931124,2001, 40.2502, -42.9680, 4811,    400.6,  15.6879,  36.1510,2,  36.1622,2,    202.5,2,    214.1,2,     3.01,2,     7.47,6,     0.42,2,    2.333,2,    0.949,2,    0.075,2,    0.838,2,   -999.0,9,  15.6244116
  18HU19931105, AR13a,    27,  1,      3,2,19931124,2001, 40.2502, -42.9680, 4811,    693.1,  10.9873,  35.0668,2,  35.4191,0,    209.7,2,    192.1,0,     7.85,2,    16.62,6,     1.04,2,    1.751,2,    0.812,2,    0.047,2,    0.911,2,   -999.0,9,  10.8999069
  18HU19931105, AR13a,    27,  1,      2,2,19931124,2001, 40.2502, -42.9680, 4811,    998.3,   6.3686,  35.0668,2,  35.0767,2,    209.6,2,    210.4,2,    12.27,2,    19.88,6,     1.31,2,    1.226,2,    0.741,2,    0.045,2,    1.322,2,   -999.0,9,  6.27425408
  18HU19931105, AR13a,    27,  1,      1,2,19931124,2001, 40.2502, -42.9680, 4811,   1302.3,   5.1924,  35.0921,2,  35.0998,2,    239.5,2,    246.0,2,    11.53,2,    18.27,6,     1.20,2,    1.328,2,    0.477,2,    0.029,2,    1.614,2,   -999.0,9,  5.07795418
  18HU19931105, AR13a,    27,  1,      0,2,19931124,2001, 40.2502, -42.9680, 4811,   1586.2,   4.3028,  34.9990,2,  35.0004,2,    255.9,2,    264.2,2,    11.51,2,    17.83,6,     1.19,2,    1.222,2,    0.437,2,    0.039,2,    2.095,2,   -999.0,9,  4.17099255
  18HU19931105, AR13a,    27,  1,     99,2,19931124,2001, 40.2502, -42.9680, 4811,   1897.1,   3.7498,  34.9437,2,  34.9437,2,    265.5,2,    262.0,2,    10.22,2,    15.54,6,     1.01,2,    1.340,2,    0.657,2,    0.056,2,    2.074,2,   -999.0,9,  3.59588254
  18HU19931105, AR13a,    27,  1,     97,2,19931124,2001, 40.2502, -42.9680, 4811,   2397.3,   3.3946,  34.9314,2,  34.9338,2,    267.1,2,    278.2,2,    13.13,2,    17.47,6,     1.13,2,    1.061,2,    0.604,2,    0.028,2,    2.025,2,   -999.0,9,  3.19772623
  18HU19931105, AR13a,    27,  1,     98,2,19931124,2001, 40.2502, -42.9680, 4811,   2398.2,   3.3946,  34.9314,2,  34.9314,2,    267.8,2,   -999.0,9,  -999.00,9,    12.08,4,  -999.00,9,    1.787,2,    1.079,3,    0.071,2,    1.037,2,   -999.0,9,  3.19764602
  18HU19931105, AR13a,    27,  1,     96,2,19931124,2001, 40.2502, -42.9680, 4811,   2696.1,   3.2259,  34.9390,2,  34.9397,2,    265.1,2,    276.7,2,    14.48,2,    17.36,6,     1.17,2,    0.720,2,    0.531,2,    0.025,2,    1.502,2,   -999.0,9,  3.00197257
  18HU19931105, AR13a,    27,  1,     95,2,19931124,2001, 40.2502, -42.9680, 4811,   2998.9,   3.0497,  34.9460,2,  34.9479,2,    261.6,2,    270.5,2,    19.23,2,    18.16,6,     1.25,2,    0.357,2,    0.285,2,    0.014,2,    0.862,2,   -999.0,9,  2.79789421
  18HU19931105, AR13a,    27,  1,     94,2,19931124,2001, 40.2502, -42.9680, 4811,   3291.9,   2.7677,  34.9314,2,  34.9770,2,    262.6,2,    269.2,2,    20.01,2,    17.99,6,     1.21,2,    0.482,2,    0.260,2,    0.014,2,    0.806,2,   -999.0,9,  2.49089742
  18HU19931105, AR13a,    27,  1,     92,2,19931124,2001, 40.2502, -42.9680, 4811,   3898.6,   2.3496,  34.9038,2,  34.9575,2,    265.0,2,    272.5,2,    24.92,2,    18.22,6,     1.24,2,    0.568,2,    0.476,2,    0.024,2,    0.931,2,   -999.0,9,  2.01662761
  18HU19931105, AR13a,    27,  1,     93,2,19931124,2001, 40.2502, -42.9680, 4811,   3902.3,   2.3499,  34.9037,2,  34.9291,2,    268.2,2,    271.7,2,    26.46,2,    18.66,6,     1.27,2,    1.005,2,    0.278,2,    0.000,2,    0.857,2,   -999.0,9,  2.01667558
  18HU19931105, AR13a,    27,  1,     91,2,19931124,2001, 40.2502, -42.9680, 4811,   4202.5,   2.2728,  34.8954,2,  34.9007,2,    265.7,2,    272.1,2,    29.89,2,    19.01,6,     1.32,2,    1.060,2,    0.243,2,    0.000,2,    0.904,2,   -999.0,9,  1.90752375
  18HU19931105, AR13a,    27,  1,     90,2,19931124,2001, 40.2502, -42.9680, 4811,   4516.1,   2.2573,  34.8905,2,  34.8915,2,    266.5,2,    269.7,2,    32.63,2,    19.17,6,     1.34,2,    0.722,2,    0.230,2,    0.000,2,    0.799,2,   -999.0,9,  1.85548824
  18HU19931105, AR13a,    27,  1,     89,2,19931124,2001, 40.2502, -42.9680, 4811,   4800.7,   2.2649,  34.8877,2,  34.9384,2,    267.0,2,    269.0,2,    30.81,3,    18.78,6,     1.32,2,    0.873,2,    0.264,2,    0.013,2,    0.819,2,   -999.0,9,  1.82782633
  18HU19931105, AR13a,    28,  1,     28,2,19931125, 256, 40.6815, -42.5030, 4945,    120.8,  18.9911,  36.3547,2,  36.3572,2,    212.0,2,    227.9,2,     0.77,2,     1.19,6,     0.00,2,    1.941,2,    1.034,2,    0.115,2,    2.172,2,   2061.7,2,   18.969414
  18HU19931105, AR13a,    28,  1,     27,2,19931125, 256, 40.6815, -42.5030, 4945,    120.8,  18.9911,  36.3547,2,  36.3572,2,    212.0,2,    228.0,2,     0.77,2,     1.23,6,     0.09,2,    1.401,2,    0.666,3,    0.045,2,    1.663,2,   2062.1,2,   18.969414
  18HU19931105, AR13a,    28,  1,     26,2,19931125, 256, 40.6815, -42.5030, 4945,    297.8,  17.2009,  36.3607,2,  36.3628,2,    187.6,2,    194.2,2,     2.36,2,     6.88,6,     0.38,2,    1.753,2,    0.937,2,    0.047,2,    0.474,2,   2106.9,2,  17.1507516
  18HU19931105, AR13a,    28,  1,     25,2,19931125, 256, 40.6815, -42.5030, 4945,    500.8,  14.6569,  35.9507,2,  35.9554,2,    195.1,2,    202.6,2,     3.77,2,    10.08,6,     0.60,2,    1.894,2,    1.035,2,    0.086,2,    0.759,2,   2117.4,2,  14.5809222
  18HU19931105, AR13a,    28,  1,     24,2,19931125, 256, 40.6815, -42.5030, 4945,    692.5,  12.1502,  35.5775,2,  35.5814,2,    190.0,2,    197.8,2,     6.31,2,    14.49,6,     0.89,2,    1.792,2,    0.915,2,    0.063,2,    0.930,2,   2140.7,3,  12.0567474
  18HU19931105, AR13a,    28,  1,     22,2,19931125, 256, 40.6815, -42.5030, 4945,   1094.8,   5.9845,  35.0372,2,  35.0542,2,    216.4,2,    217.8,2,    12.06,2,    19.51,6,     1.28,2,    1.362,2,    0.642,2,    0.103,2,    1.683,2,   2172.2,2,  5.88348158
  18HU19931105, AR13a,    28,  1,     23,2,19931125, 256, 40.6815, -42.5030, 4945,   1096.5,   5.9690,  35.0383,2,  35.0812,2,    215.7,2,    218.2,2,    11.87,2,    19.32,6,     1.28,2,    1.399,2,    0.665,2,    0.045,2,    1.661,2,   2168.0,2,  5.86789158
  18HU19931105, AR13a,    28,  1,     21,2,19931125, 256, 40.6815, -42.5030, 4945,   1296.7,   5.0192,  35.0185,2,  35.0253,2,    238.2,2,    243.9,2,    11.53,2,    18.27,6,     1.21,2,    1.506,2,    0.689,2,    0.061,2,    2.247,2,   2165.3,2,  4.90713054
  18HU19931105, AR13a,    28,  1,     20,2,19931125, 256, 40.6815, -42.5030, 4945,   1606.3,   4.0690,  34.9443,2,  34.9491,2,    260.6,2,    272.3,2,    10.87,2,    17.95,6,     1.18,2,    1.859,2,    0.862,2,    0.073,2,    2.883,2,   2158.0,2,   3.9382324
  18HU19931105, AR13a,    28,  1,     19,2,19931125, 256, 40.6815, -42.5030, 4945,   1900.5,   3.6600,  34.9105,2,  34.9105,2,    269.7,2,    256.1,2,     9.01,2,    15.45,6,     1.00,2,    1.779,2,    0.868,2,    0.071,2,    2.517,2,   2147.7,3,  3.50713243
  18HU19931105, AR13a,    28,  1,     18,2,19931125, 256, 40.6815, -42.5030, 4945,   2203.5,   3.4186,  34.8935,2,  34.8935,2,    275.5,2,   -999.0,9,     8.11,2,    15.86,6,     1.01,2,    1.545,2,    0.767,2,    0.049,2,    0.954,2,   2146.7,2,  3.24049484
  18HU19931105, AR13a,    28,  1,     17,2,19931125, 256, 40.6815, -42.5030, 4945,   2499.7,   3.3505,  34.9067,2,  34.9096,2,    272.8,2,    286.5,2,    11.73,2,    16.86,6,     1.13,2,    1.574,2,    0.747,2,    0.049,2,    2.693,3,   -999.0,9,  3.14427268
  18HU19931105, AR13a,    28,  1,     16,2,19931125, 256, 40.6815, -42.5030, 4945,   2803.7,   3.2966,  34.9312,2,  34.9354,2,    268.1,2,    280.7,2,    13.35,2,    17.11,6,     1.14,2,    0.991,2,    0.496,2,    0.025,2,    1.923,2,   2155.2,2,  3.06016305
  18HU19931105, AR13a,    28,  1,     15,2,19931125, 256, 40.6815, -42.5030, 4945,   3100.8,   3.1042,  34.9349,2,  34.9367,2,    267.2,2,    278.9,2,    14.81,2,    17.05,6,     1.15,2,    0.757,2,    0.301,2,    0.021,2,    1.589,2,   2155.4,2,  2.84043507
  18HU19931105, AR13a,    28,  1,     14,2,19931125, 256, 40.6815, -42.5030, 4945,   3406.2,   2.8891,  34.9293,2,  34.9388,2,    268.2,2,    279.8,2,    14.69,2,    17.30,6,     1.15,2,    0.956,2,    0.455,2,    0.021,2,    1.781,2,   2155.5,2,  2.59719625
  18HU19931105, AR13a,    28,  1,     13,2,19931125, 256, 40.6815, -42.5030, 4945,   3693.8,   2.6339,  34.9202,2,  34.9518,2,    268.9,2,    278.2,2,    18.00,2,    17.02,6,     1.15,2,    0.715,2,    0.345,2,    0.000,2,    1.419,2,   2162.4,2,  2.31642982
  18HU19931105, AR13a,    28,  1,     12,2,19931125, 256, 40.6815, -42.5030, 4945,   4004.2,   2.4462,  34.9096,2,  34.9949,2,    270.7,2,    272.3,2,    18.39,2,    17.15,6,     1.15,2,    0.892,2,    0.511,2, -999.000,9,    1.432,2,   2157.6,2,  2.09830985
  18HU19931105, AR13a,    28,  1,     11,2,19931125, 256, 40.6815, -42.5030, 4945,   4292.2,   2.3720,  34.9039,2,  34.9101,2,    272.3,2,    278.0,2,    22.52,2,    17.44,6,     1.18,2,    0.761,2,    0.429,2,    0.015,2,    1.460,2,   2161.2,2,  1.99325229
  18HU19931105, AR13a,    28,  1,     10,2,19931125, 256, 40.6815, -42.5030, 4945,   4595.9,   2.3215,  34.8995,2,  34.9015,2,    274.8,2,    280.1,2,    23.18,2,    17.71,6,     1.18,2,    0.820,2,    0.389,2,    0.017,2,    1.544,2,   2165.6,2,  1.90798971
  18HU19931105, AR13a,    28,  1,      9,2,19931125, 256, 40.6815, -42.5030, 4945,   4918.8,   2.3134,  34.8957,2,  34.9186,2,    275.6,2,    277.8,2,    23.29,2,    17.66,6,     1.17,2,    0.913,2,    0.463,2,    0.142,4,    1.616,2,   2168.5,2,  1.86018441
  18HU19931105, AR13a,    29,  1,     47,2,19931125, 956, 41.1188, -42.0170, 4945,     14.0,  18.8031,  36.2007,2,  36.2034,2,    215.4,2,    228.1,2,     0.76,2,     1.19,6,     0.10,2,    2.228,2,    1.009,2,    0.109,2,    2.466,2,   2057.8,2,  18.8006119
  18HU19931105, AR13a,    29,  1,     48,2,19931125, 956, 41.1188, -42.0170, 4945,     14.0,  18.8031,  36.2007,2,  36.2030,2,    215.4,2,    228.6,2,     0.75,2,     1.17,6,     0.10,2,    2.102,2,    0.889,2,    0.097,2,    2.120,2,   2058.5,2,  18.8006119
  18HU19931105, AR13a,    29,  1,     45,2,19931125, 956, 41.1188, -42.0170, 4945,    295.8,  17.5170,  36.4216,2,  36.4241,2,    189.9,2,    198.8,2,     1.95,2,     5.91,6,     0.32,2,    2.020,2,    0.971,2,    0.045,2,    0.430,2,   2101.0,2,  17.4665505
  18HU19931105, AR13a,    29,  1,     46,2,19931125, 956, 41.1188, -42.0170, 4945,    295.8,  17.5170,  36.4216,2,  36.4241,2,    189.9,2,    196.4,2,     1.95,2,     5.91,6,     0.33,2,    1.806,2,    1.119,2,    0.051,2,    0.610,2,   2102.4,2,  17.4665505
  18HU19931105, AR13a,    29,  1,     44,2,19931125, 956, 41.1188, -42.0170, 4945,    702.0,  10.8566,  35.3892,2,  35.3932,2,    180.9,2,    184.7,2,     8.52,2,    17.58,6,     1.14,2, -999.000,9,    0.546,2,    0.041,2,    0.863,2,   2157.9,2,  10.7683782
  18HU19931105, AR13a,    29,  1,     42,2,19931125, 956, 41.1188, -42.0170, 4945,   1004.0,   6.4652,  35.0551,2,  35.0655,2,    200.9,2,    200.5,2,    12.96,2,    21.19,6,     1.40,2,    1.633,2,    0.504,2,    0.032,2,    1.237,2,   2178.8,2,   6.3695745
  18HU19931105, AR13a,    29,  1,     43,2,19931125, 956, 41.1188, -42.0170, 4945,   1006.8,   6.4649,  35.0555,2,  35.0770,2,    200.9,2,    201.6,2,    12.95,2,    20.79,6,     1.38,2,    1.234,2,    0.308,2,    0.027,2,    1.287,2,   2176.2,2,  6.36897296
  18HU19931105, AR13a,    29,  1,     41,2,19931125, 956, 41.1188, -42.0170, 4945,   1302.5,   4.6764,  34.9873,2,  35.0022,2,    246.3,2,    254.8,2,    11.12,2,    18.43,6,     1.21,2,    1.860,2,    0.661,2,    0.065,2,    2.563,2,   2164.7,2,  4.56717286
  18HU19931105, AR13a,    29,  1,     40,2,19931125, 956, 41.1188, -42.0170, 4945,   1605.1,   4.0106,  34.9439,2,  34.9459,2,    262.3,2,    272.5,2,    10.96,2,    17.88,6,     1.19,2,    1.568,2,    0.597,2,    0.054,2,    2.559,2,   2157.3,2,  3.88065507
  18HU19931105, AR13a,    29,  1,     39,2,19931125, 956, 41.1188, -42.0170, 4945,   1907.6,   3.5918,  34.9073,2,  34.9073,2,    271.9,2,    261.5,2,     9.93,2,    16.44,6,     1.07,2,    1.692,2,    0.665,2,    0.053,2,    2.781,2,   2150.4,3,  3.43924136
  18HU19931105, AR13a,    29,  1,     38,2,19931125, 956, 41.1188, -42.0170, 4945,   2487.7,   3.4309,  34.9294,2,  34.9294,2,    268.8,2,   -999.0,9,    10.13,2,    18.08,6,     1.17,2,    1.306,2,    0.469,2,    0.025,2,    2.106,2,   2168.8,2,  3.22433921
  18HU19931105, AR13a,    29,  1,     37,2,19931125, 956, 41.1188, -42.0170, 4945,   2492.1,   3.4219,  34.9283,2,  34.9317,2,    268.3,2,    279.6,2,    12.70,2,    17.26,6,     1.14,2,    1.500,2,    0.556,2,    0.033,2,    2.178,2,   1880.5,4,  3.21504938
  18HU19931105, AR13a,    29,  1,     36,2,19931125, 956, 41.1188, -42.0170, 4945,   2786.5,   3.2718,  34.9344,2,  34.9364,2,    266.8,2,    278.3,2,    13.77,2,    17.36,6,     1.15,2,    0.867,2,    0.373,2,    0.020,2,    1.714,2,   1854.9,4,  3.03764967
  18HU19931105, AR13a,    29,  1,     35,2,19931125, 956, 41.1188, -42.0170, 4945,   3085.9,   3.0773,  34.9370,2,  34.9384,2,    266.2,2,    277.4,2,    15.63,2,    17.53,6,     1.17,2,    1.217,2,    0.266,2,    0.014,2,    1.376,2,   2159.1,2,  2.81571385
  18HU19931105, AR13a,    29,  1,     34,2,19931125, 956, 41.1188, -42.0170, 4945,   3398.4,   2.8432,  34.9307,2,  34.9390,2,    266.3,2,    276.7,2,    17.29,2,    17.31,6,     1.19,2, -999.000,9,    0.100,2,    0.017,2,    1.262,2,   2158.8,2,  2.55325527
  18HU19931105, AR13a,    29,  1,     33,2,19931125, 956, 41.1188, -42.0170, 4945,   3993.0,   2.4365,  34.9092,2,  34.9092,2,    270.4,2,    278.2,2,    20.92,2,    17.31,6,     1.18,2,    1.315,2,    0.248,2,    0.016,2,    1.499,2,   -999.0,9,  2.09069937
  18HU19931105, AR13a,    29,  1,     32,2,19931125, 956, 41.1188, -42.0170, 4945,   3996.4,   2.4362,  34.9092,2,  34.9092,2,    269.4,2,    271.3,2,    17.93,2,    16.92,6,     1.15,2,    1.599,2,    0.447,2,    0.030,2,    1.830,2,   2164.3,2,  2.09001812
  18HU19931105, AR13a,    29,  1,     31,2,19931125, 956, 41.1188, -42.0170, 4945,   4316.5,   2.3428,  34.9016,2,  34.9049,2,    270.0,2,    277.1,2,    24.66,2,    17.90,6,     1.22,2, -999.000,9,    0.105,2,    0.017,2,    1.253,2,   2161.5,2,  1.96208252
  18HU19931105, AR13a,    29,  1,     30,2,19931125, 956, 41.1188, -42.0170, 4945,   4574.8,   2.3098,  34.8983,2,  34.8997,2,    273.8,2,    279.4,2,    23.92,2,    17.72,6,     1.20,2,    0.915,2,    0.321,2,    0.018,2,    1.506,2,   2167.2,2,  1.89922599
  18HU19931105, AR13a,    29,  1,     29,2,19931125, 956, 41.1188, -42.0170, 4945,   4893.3,   2.3056,  34.8950,2,  34.8950,2,    274.8,2,    272.6,2,    19.38,2,    17.21,6,     1.14,2, -999.000,9,    0.232,2,    0.028,2,    1.592,2,   2160.7,2,  1.85600778