BOTTLE,20081201PRINUNIVRMK
EXPOCODE,SECT_ID,STNNBR,CASTNO,BTLNBR,BTLNBR_FLAG_W,DATE,TIME,LATITUDE,LONGITUDE,DEPTH,CTDPRS,CTDTMP,CTDSAL,CTDSAL_FLAG_W,SALNTY,SALNTY_FLAG_W,CTDOXY,CTDOXY_FLAG_W,OXYGEN,OXYGEN_FLAG_W,SILCAT,SILCAT_FLAG_W,NITRAT,NITRAT_FLAG_W,PHSPHT,PHSPHT_FLAG_W,CFC-11,CFC-11_FLAG_W,CFC-12,CFC-12_FLAG_W,CFC113,CFC113_FLAG_W,CCL4,CCL4_FLAG_W,TCARBN,TCARBN_FLAG_W,THETA
,,,,,,,,,,METERS,DBARS,ITS-90,PSS-78,,PSS-78,,UMOL/KG,,UMOL/KG,,UMOL/KG,,UMOL/KG,,UMOL/KG,,PMOL/KG,,PMOL/KG,,PMOL/KG,,PMOL/KG,,UMOL/KG,,DEGC
  18HU19931105, AR13a,    30,  1,     68,2,19931125,1650, 41.3312, -42.7320, 5012,     17.8,  19.1511,  36.2775,2,  36.2857,2,    213.9,2,    226.3,2,     0.86,2,     1.21,6,     0.12,2,    1.925,2,    1.423,2,    0.130,2,    2.201,2,   2373.7,4,  19.1478939
  18HU19931105, AR13a,    30,  1,     67,2,19931125,1650, 41.3312, -42.7320, 5012,    143.5,  19.2833,  36.4690,2,  36.4596,2,    196.2,2,    205.5,2,     1.16,2,     2.63,6,     0.18,2,    1.892,2,    1.122,2,    0.077,2,    1.246,2,   2390.4,4,  19.2572366
  18HU19931105, AR13a,    30,  1,     66,2,19931125,1650, 41.3312, -42.7320, 5012,    311.2,  17.3995,  36.4098,2,  36.4227,2,    197.2,2,    202.2,2,     1.98,2,     5.66,6,     0.34,2,    1.830,2,    1.152,2,    0.055,2,    0.706,2,   2416.9,4,  17.3466473
  18HU19931105, AR13a,    30,  1,     65,2,19931125,1650, 41.3312, -42.7320, 5012,    504.4,  15.6525,  36.1344,2,  36.1501,2,    199.9,2,    209.0,2,     2.88,2,     7.68,6,     0.49,2,    1.885,2,    1.150,2,    0.069,2,    0.958,2,   1884.3,4,  15.5724593
  18HU19931105, AR13a,    30,  1,     64,2,19931125,1650, 41.3312, -42.7320, 5012,    712.0,  12.4381,  35.5938,2,  35.6117,2,    180.4,2,    182.9,2,     6.98,2,    15.64,6,     1.06,2,    1.481,2,    0.793,2,    0.047,2,    0.852,2,   1875.3,4,  12.3404928
  18HU19931105, AR13a,    30,  1,     63,2,19931125,1650, 41.3312, -42.7320, 5012,    907.3,   8.8276,  35.1565,2,  35.1736,2,    173.9,2,    171.5,2,    12.47,2,    21.55,6,     1.50,2,    1.013,2,    0.491,2,    0.036,2,    0.844,2,   1908.0,4,  8.72592389
  18HU19931105, AR13a,    30,  1,     62,2,19931125,1650, 41.3312, -42.7320, 5012,   1188.1,   5.8058,  35.0568,2,  35.0791,2,    220.9,2,    223.9,2,    12.25,2,    19.58,6,     1.37,2,    1.319,2,    0.716,2,    0.052,2,    1.735,2,   1872.2,4,  5.69694498
  18HU19931105, AR13a,    30,  1,     61,2,19931125,1650, 41.3312, -42.7320, 5012,   1495.7,   4.5392,  34.9962,2,  35.0098,2,    249.9,2,    259.9,2,    11.31,2,    18.35,6,     1.29,2,    1.477,2,    0.743,2,    0.047,2,    2.357,2,   1890.2,4,  4.41321989
  18HU19931105, AR13a,    30,  1,     60,2,19931125,1650, 41.3312, -42.7320, 5012,   1797.5,   3.9536,  34.9459,2,  34.9523,2,    262.5,2,    273.1,2,    11.41,2,    17.88,6,     1.26,2,    1.470,2,    0.768,2,    0.050,2,    2.640,2,   1888.3,4,  3.80631233
  18HU19931105, AR13a,    30,  1,     59,2,19931125,1650, 41.3312, -42.7320, 5012,   2103.4,   3.5279,  34.9011,2,  34.9011,2,    273.4,2,   -999.0,9,     8.37,2,    14.40,4,     1.00,2,    1.714,2,    1.215,3,    0.066,2,    2.247,2,   1868.8,4,  3.35769416
  18HU19931105, AR13a,    30,  1,     58,2,19931125,1650, 41.3312, -42.7320, 5012,   2395.7,   3.4314,  34.9102,2,  34.9102,2,    271.2,2,   -999.0,9,     8.96,2,    17.63,6,     1.20,2,    1.385,2,    0.842,2, -999.000,9,    1.043,2,   1896.5,4,  3.23413105
  18HU19931105, AR13a,    30,  1,     57,2,19931125,1650, 41.3312, -42.7320, 5012,   2704.9,   3.3714,  34.9307,2,  34.9357,2,    267.7,2,    279.7,2,    13.21,2,    17.47,6,     1.24,2,    0.988,2,    0.546,2,    0.031,2,    2.029,2,   1846.8,4,  3.14373825
  18HU19931105, AR13a,    30,  1,     56,2,19931125,1650, 41.3312, -42.7320, 5012,   3004.8,   3.2085,  34.9376,2,  34.9438,2,    266.1,2,    277.7,2,    14.75,2,    17.38,6,     1.29,2,    0.722,2,    0.391,2,    0.015,2,    1.616,2,   1872.9,4,  2.95267087
  18HU19931105, AR13a,    30,  1,     55,2,19931125,1650, 41.3312, -42.7320, 5012,   3300.2,   2.9897,  34.9327,2,  34.9361,2,    266.7,2,    278.1,2,    16.03,2,    17.17,6,     1.27,2,    0.786,2,    0.441,2,    0.023,2,    1.614,2,   1832.1,4,  2.70701082
  18HU19931105, AR13a,    30,  1,     54,2,19931125,1650, 41.3312, -42.7320, 5012,   3585.1,   2.7640,  34.9256,2,  34.9414,2,    267.4,2,    276.8,2,    18.04,2,    17.22,6,     1.30,2,    0.671,2,    0.326,2,    0.018,2,    1.426,2,   1846.6,4,   2.4553956
  18HU19931105, AR13a,    30,  1,     53,2,19931125,1650, 41.3312, -42.7320, 5012,   3899.9,   2.5240,  34.9136,2,  34.9528,2,    270.8,2,    275.2,2,    19.56,2,    17.20,6,     1.27,2,    0.729,2,    0.321,2,    0.024,2,    1.465,2,   1886.0,4,  2.18616365
  18HU19931105, AR13a,    30,  1,     52,2,19931125,1650, 41.3312, -42.7320, 5012,   4187.7,   2.3838,  34.9053,2,  34.9053,2,    270.5,2,    271.7,2,    19.18,2,    17.18,6,     1.33,2,    0.840,2,    0.395,2,    0.026,2,    1.526,2,   -999.0,9,   2.0170018
  18HU19931105, AR13a,    30,  1,     51,2,19931125,1650, 41.3312, -42.7320, 5012,   4486.9,   2.3226,  34.8999,2,  34.9052,2,    273.9,2,    279.6,2,    23.00,2,    17.59,6,     1.27,2,    0.671,2,    0.326,2,    0.018,2,    1.426,2,   -999.0,9,  1.92219389
  18HU19931105, AR13a,    30,  1,     50,2,19931125,1650, 41.3312, -42.7320, 5012,   4889.7,   2.3059,  34.8961,2,  34.8971,2,    277.2,2,    281.5,2,    22.95,2,    17.43,6,     1.25,2,    0.982,2,    0.454,2,    0.028,2,    1.856,2,   1909.4,4,  1.85673207
  18HU19931105, AR13a,    30,  1,     49,2,19931125,1650, 41.3312, -42.7320, 5012,   5006.4,   2.3077,  34.8952,2,  34.9357,2,    277.6,2,    278.5,2,    21.92,2,    17.07,6,     1.22,2,    0.992,2,    0.430,2,    0.035,2,    1.805,2,   2182.7,4,  1.84352175
  18HU19931105, AR13a,    31,  1,     88,2,19931126, 228, 41.5487, -43.4530, 4971,    129.2,  19.0472,  36.4133,2,  36.4155,2,    213.6,2,    225.5,2,     0.82,2,     1.26,6,     0.11,2,    1.959,2,    1.499,2,    0.169,2,    2.223,2,   1840.0,4,  19.0239463
  18HU19931105, AR13a,    31,  1,     87,2,19931126, 228, 41.5487, -43.4530, 4971,    258.8,  18.0736,  36.5084,2,  36.5113,2,    197.2,2,    203.5,2,     1.60,2,     4.39,6,     0.25,2,    1.865,2,    1.395,2,    0.047,2,    0.561,2,   2094.4,2,  18.0285225
  18HU19931105, AR13a,    31,  1,     86,2,19931126, 228, 41.5487, -43.4530, 4971,    335.3,  17.5121,  36.4202,2,  36.4229,2,    196.9,2,    204.3,2,     1.85,2,     5.30,6,     0.32,2,    1.870,2,    1.889,3,    0.151,2,    0.636,2,   2101.1,2,  17.4548725
  18HU19931105, AR13a,    31,  1,     85,2,19931126, 228, 41.5487, -43.4530, 4971,    469.8,  16.2664,  36.2665,2,  36.2704,2,    208.9,2,    222.8,2,     2.16,2,     5.82,6,     0.38,2,    2.072,2,    1.488,2,    0.089,2,    0.970,2,   2101.1,2,  16.1899239
  18HU19931105, AR13a,    31,  1,     84,2,19931126, 228, 41.5487, -43.4530, 4971,    829.0,  10.7068,  35.3666,2,  35.3752,2,    180.9,2,    185.1,2,     8.79,2,    17.60,6,     1.18,2,    1.388,2,    0.604,2,    0.036,2,    0.745,2,   2157.2,2,  10.6029302
  18HU19931105, AR13a,    31,  1,     83,2,19931126, 228, 41.5487, -43.4530, 4971,   1036.9,   7.5552,  35.0819,2,  35.1117,2,    188.4,2,    187.3,2,    12.36,2,    20.73,6,     1.41,2,    1.184,2,    1.139,2,    0.047,2,    0.975,2,   2174.4,2,  7.44782809
  18HU19931105, AR13a,    31,  1,     82,2,19931126, 228, 41.5487, -43.4530, 4971,   1221.3,   5.9797,  35.0834,2,  35.1071,2,    218.4,2,    220.7,2,    11.91,2,    19.28,6,     1.31,2,    1.265,2,    0.888,2,    0.045,2,    1.571,2,   2170.9,2,  5.86589697
  18HU19931105, AR13a,    31,  1,     81,2,19931126, 228, 41.5487, -43.4530, 4971,   1515.3,   4.7322,  35.0079,2,  35.0177,2,    245.0,2,    254.3,2,    11.49,2,    18.24,6,     1.24,2, -999.000,9, -999.000,9, -999.000,9, -999.000,9,   2164.2,2,  4.60215639
  18HU19931105, AR13a,    31,  1,     80,2,19931126, 228, 41.5487, -43.4530, 4971,   1826.9,   4.0153,  34.9496,2,  34.9524,2,    262.0,2,    271.5,2,    11.37,2,    17.91,6,     1.24,2,    1.490,2,    0.830,2,    0.064,2,    2.625,2,   2152.8,2,  3.86437619
  18HU19931105, AR13a,    31,  1,     79,2,19931126, 228, 41.5487, -43.4530, 4971,   2111.5,   3.6201,  34.9134,2,  34.9838,2,    270.3,2,    259.4,0,    11.55,2,    18.30,6,     1.27,2,    1.479,2,    0.918,2,    0.056,2,    2.414,2,   2162.0,2,  3.44739204
  18HU19931105, AR13a,    31,  1,     78,2,19931126, 228, 41.5487, -43.4530, 4971,   2402.3,   3.5156,  34.9194,2,  34.9194,2,    269.9,2,   -999.0,9,    12.51,2,    19.49,4,     1.35,2,    1.253,2,    0.948,2,    0.043,2,    1.676,2,   2171.3,3,  3.31615809
  18HU19931105, AR13a,    31,  1,     77,2,19931126, 228, 41.5487, -43.4530, 4971,   2705.4,   3.3416,  34.9156,2,  34.9217,2,    271.1,2,    283.5,2,    12.30,2,    17.12,6,     1.22,2,    1.372,2,    0.795,2,    0.050,2,    2.616,2,   2153.9,2,   3.1145304
  18HU19931105, AR13a,    31,  1,     76,2,19931126, 228, 41.5487, -43.4530, 4971,   3002.6,   3.2646,  34.9362,2,  34.9374,2,    266.9,2,    277.3,2,    14.15,2,    17.27,6,     1.24,2,    0.722,2,    0.540,2,    0.023,2,    1.568,2,   2159.7,2,  3.00782948
  18HU19931105, AR13a,    31,  1,     75,2,19931126, 228, 41.5487, -43.4530, 4971,   3300.3,   3.0977,  34.9362,2,  34.9366,2,    266.9,2,    277.9,2,    15.61,2,    17.26,6,     1.22,2,    0.630,2,    0.421,2,    0.015,2,    1.399,2,   2154.9,2,  2.81246935
  18HU19931105, AR13a,    31,  1,     74,2,19931126, 228, 41.5487, -43.4530, 4971,   3589.5,   2.8688,  34.9281,2,  34.9465,2,    268.7,2,    273.9,2,    14.49,2,    17.53,6,     1.23,2,    0.975,2,    0.648,2,    0.027,2,    1.867,2,   1903.9,4,  2.55703212
  18HU19931105, AR13a,    31,  1,     73,2,19931126, 228, 41.5487, -43.4530, 4971,   3892.3,   2.6289,  34.9178,2,  34.9581,2,    270.6,2,    274.4,2,    15.75,2,    17.26,6,     1.20,2,    0.920,2,    0.558,2,    0.024,2,    1.704,2,   2159.7,2,  2.28905243
  18HU19931105, AR13a,    31,  1,     72,2,19931126, 228, 41.5487, -43.4530, 4971,   4189.9,   2.4521,  34.9086,2,  34.9675,2,    271.6,2,    273.9,2,    13.17,2,    17.59,6,     1.24,2,    1.263,2,    0.536,2,    0.049,2,    2.115,2,   2156.2,2,   2.0826664
  18HU19931105, AR13a,    31,  1,     71,2,19931126, 228, 41.5487, -43.4530, 4971,   4481.1,   2.3478,  34.9020,2,  34.9223,2,    274.6,2,    279.3,2,    20.69,2,    17.60,6,     1.24,2,    0.878,2,    0.789,2,    0.022,2,    1.685,2,   2162.4,2,  1.94720157
  18HU19931105, AR13a,    31,  1,     70,2,19931126, 228, 41.5487, -43.4530, 4971,   4804.5,   2.2830,  34.8950,2,  34.9001,2,    275.5,2,    279.2,2,    23.74,2,    17.84,6,     1.26,2,    0.874,2,    0.611,2,    0.026,2,    1.665,2,   2167.4,2,  1.84515026
  18HU19931105, AR13a,    31,  1,     69,2,19931126, 228, 41.5487, -43.4530, 4971,   4966.0,   2.2938,  34.8960,2,  34.9361,2,    280.1,2,    278.5,2,    19.08,2,    17.18,6,     1.20,2,    1.114,2,    0.499,2,    0.044,2,    2.023,2,   1888.2,4,  1.83517612
  18HU19931105, AR13a,    32,  1,      8,2,19931126,1119, 41.7615, -44.1550, 4991,     31.1,  18.1158,  36.4180,2,  36.4208,2,    219.9,2,    229.9,2,     0.89,2,     1.59,6,     0.12,2,    1.967,2,    1.073,2,    0.140,2,    2.256,2,   2073.3,2,  18.1104049
  18HU19931105, AR13a,    32,  1,      7,2,19931126,1119, 41.7615, -44.1550, 4991,    150.3,  17.5676,  36.3935,2,  36.3965,2,    217.1,2,    229.2,2,     1.28,2,     3.13,6,     0.20,2,    2.044,2,    1.308,2,    0.123,2,    1.743,2,   2083.7,2,  17.5420072
  18HU19931105, AR13a,    32,  1,      6,2,19931126,1119, 41.7615, -44.1550, 4991,    296.2,  16.4525,  36.3263,2,  36.3285,2,    217.1,2,    226.1,2,     1.95,2,     5.19,6,     0.31,2,    2.086,2,    1.127,2,    0.141,2,    1.161,2,   2097.9,2,  16.4041119
  18HU19931105, AR13a,    32,  1,      5,2,19931126,1119, 41.7615, -44.1550, 4991,    497.5,  16.4400,  36.3312,2,  36.3335,2,    217.3,2,    231.6,2,     2.15,2,     4.87,6,     0.31,2,    2.121,2,    1.287,2,    0.134,2,    1.222,2,   2097.7,2,   16.358345
  18HU19931105, AR13a,    32,  1,      4,2,19931126,1119, 41.7615, -44.1550, 4991,    795.9,  13.4236,  35.7615,2,  35.7632,2,    197.8,2,    207.7,2,     4.76,2,    11.76,6,     0.75,2,    1.870,2,    1.223,2,    0.079,2,    0.977,2,   2131.2,3,    13.30861
  18HU19931105, AR13a,    32,  1,      3,2,19931126,1119, 41.7615, -44.1550, 4991,   1052.3,   9.4575,  35.1942,2,  35.1964,2,    187.0,2,    190.9,2,     9.88,2,    18.82,6,     1.28,2,    1.498,2,    1.017,2,    0.077,2,    1.243,2,   2162.4,2,  9.33388478
  18HU19931105, AR13a,    32,  1,      2,2,19931126,1119, 41.7615, -44.1550, 4991,   1301.4,   6.5373,  35.0754,2,  35.1016,2,    207.5,2,    209.0,2,    12.17,2,    19.91,6,     1.34,2,    1.233,2,    0.692,2, -999.000,9,    1.461,2,   2173.4,2,  6.41000277
  18HU19931105, AR13a,    32,  1,      1,2,19931126,1119, 41.7615, -44.1550, 4991,   1594.5,   4.7264,  34.9979,2,  35.0052,2,    247.7,2,    253.1,2,    11.53,2,    18.43,6,     1.25,2,    1.605,2,    0.767,2,    0.086,2,    2.439,2,   2165.7,2,  4.58876584
  18HU19931105, AR13a,    32,  1,      0,2,19931126,1119, 41.7615, -44.1550, 4991,   1897.4,   4.0923,  34.9565,2,  34.9596,2,    263.0,2,    270.1,2,    11.35,2,    17.75,6,     1.21,2,    1.448,2,    0.884,2, -999.000,9,    2.458,2,   2160.3,2,  3.93348415
  18HU19931105, AR13a,    32,  1,     99,2,19931126,1119, 41.7615, -44.1550, 4991,   2191.3,   3.6491,  34.9154,2,  34.9154,2,    270.3,2,   -999.0,9,     8.99,2,    15.47,4,     1.05,3,    1.576,2,    1.080,2,    0.087,2,    1.893,2,   2158.8,2,  3.46837453
  18HU19931105, AR13a,    32,  1,     98,2,19931126,1119, 41.7615, -44.1550, 4991,   2493.2,   3.4919,  34.9134,2,  34.9134,2,    272.1,2,   -999.0,9,     9.98,2,    17.55,6,     1.17,2,    1.455,2,    0.999,2,    0.086,2,    1.417,2,   2162.9,2,  3.28373965
  18HU19931105, AR13a,    32,  1,     97,2,19931126,1119, 41.7615, -44.1550, 4991,   2797.4,   3.3820,  34.9194,2,  34.9208,2,    272.6,2,    281.0,2,    12.43,2,    17.08,6,     1.17,2,    1.284,2,    1.133,3,    0.074,2,    2.389,2,   2154.9,2,   3.1445626
  18HU19931105, AR13a,    32,  1,     96,2,19931126,1119, 41.7615, -44.1550, 4991,   3095.4,   3.3033,  34.9412,2,  34.9446,2,    267.4,2,    278.1,2,    14.55,2,    17.48,6,     1.20,2,    0.696,2,    0.571,2,    0.067,2,    1.561,2,   2158.0,2,  3.03567634
  18HU19931105, AR13a,    32,  1,     95,2,19931126,1119, 41.7615, -44.1550, 4991,   3394.7,   3.0372,  34.9273,2,  34.9295,2,    271.1,2,    283.5,2,    13.95,2,    17.10,6,     1.19,2,    1.045,2,    0.861,2,    0.060,2,    1.982,2,   2152.7,2,  2.74305108
  18HU19931105, AR13a,    32,  1,     94,2,19931126,1119, 41.7615, -44.1550, 4991,   3700.5,   2.8253,  34.9269,2,  34.9589,2,    269.5,2,    276.3,2,    16.44,2,    17.18,6,     1.19,2,    0.744,2,    0.529,2, -999.000,9,    1.521,2,   2164.5,2,  2.50207542
  18HU19931105, AR13a,    32,  1,     93,2,19931126,1119, 41.7615, -44.1550, 4991,   4006.1,   2.5697,  34.9156,2,  34.9532,2,    270.2,2,    275.9,2,    19.89,2,    17.39,6,     1.21,2,    0.632,2,    0.625,2,    0.056,2,    1.336,2,   2165.3,2,  2.21841813
  18HU19931105, AR13a,    32,  1,     92,2,19931126,1119, 41.7615, -44.1550, 4991,   4307.7,   2.4184,  34.9061,2,  34.9061,2,    271.1,2,    271.5,2,    19.51,2,    17.06,6,     1.17,2,    0.849,2,    0.942,2,    0.063,2,    1.511,2,   2160.1,2,  2.03647598
  18HU19931105, AR13a,    32,  1,     91,2,19931126,1119, 41.7615, -44.1550, 4991,   4614.1,   2.3314,  34.8991,2,  34.9091,2,    273.9,2,    277.6,2,    23.98,2,    18.05,6,     1.24,2,    0.723,2,    0.645,2,    0.065,2,    1.542,2,   2169.3,2,  1.91531366
  18HU19931105, AR13a,    32,  1,     90,2,19931126,1119, 41.7615, -44.1550, 4991,   4875.4,   2.3061,  34.8941,2,  34.8964,2,    274.1,2,    276.3,2,    27.13,2,    18.43,6,     1.28,2,    0.683,2,    0.584,2,    0.054,2,    1.399,2,   2170.8,2,  1.85871563
  18HU19931105, AR13a,    32,  1,     89,2,19931126,1119, 41.7615, -44.1550, 4991,   4985.3,   2.2997,  34.8934,2,  34.9110,2,    276.9,2,    276.1,2,    24.23,2,    17.81,6,     1.23,2,    0.908,2,    0.795,2,    0.072,2,    1.707,2,   2172.0,2,  1.83863835