BOTTLE,20081201PRINUNIVRMK
EXPOCODE,SECT_ID,STNNBR,CASTNO,BTLNBR,BTLNBR_FLAG_W,DATE,TIME,LATITUDE,LONGITUDE,DEPTH,CTDPRS,CTDTMP,CTDSAL,CTDSAL_FLAG_W,SALNTY,SALNTY_FLAG_W,CTDOXY,CTDOXY_FLAG_W,OXYGEN,OXYGEN_FLAG_W,SILCAT,SILCAT_FLAG_W,NITRAT,NITRAT_FLAG_W,PHSPHT,PHSPHT_FLAG_W,CFC-11,CFC-11_FLAG_W,CFC-12,CFC-12_FLAG_W,CFC113,CFC113_FLAG_W,CCL4,CCL4_FLAG_W,TCARBN,TCARBN_FLAG_W,THETA
,,,,,,,,,,METERS,DBARS,ITS-90,PSS-78,,PSS-78,,UMOL/KG,,UMOL/KG,,UMOL/KG,,UMOL/KG,,UMOL/KG,,PMOL/KG,,PMOL/KG,,PMOL/KG,,PMOL/KG,,UMOL/KG,,DEGC
  18HU19931105, AR13a,    66,  1,     81,2,19931205, 736, 44.9698, -41.5500, 4723,     16.8,  14.3873,  35.1151,2,  35.1175,2,    244.2,2,    255.2,2,     1.44,2,     2.27,6,     0.25,2,    2.405,2,    1.349,2,    0.157,2,    3.469,2,   -999.0,9,  14.3848385
  18HU19931105, AR13a,    66,  1,     80,2,19931205, 736, 44.9698, -41.5500, 4723,     98.8,  16.0574,  35.9294,2,  35.9233,2,    193.6,2,    201.1,2,     2.67,2,     6.97,6,     0.47,2,    1.905,2,    1.013,2,    0.067,2,    1.130,2,   -999.0,9,  16.0416541
  18HU19931105, AR13a,    66,  1,     79,2,19931205, 736, 44.9698, -41.5500, 4723,    312.2,  12.1242,  35.4927,2,  35.4947,2,    184.6,2,    186.3,2,     7.08,2,    15.26,6,     0.99,2,    1.596,2,    0.768,2,    0.050,2,    0.848,2,   -999.0,9,  12.0827865
  18HU19931105, AR13a,    66,  1,     78,2,19931205, 736, 44.9698, -41.5500, 4723,    501.0,   7.8330,  34.9611,2,  34.9576,2,    186.9,2,    184.9,2,    12.19,2,    20.51,6,     1.36,2,    1.833,2,    1.383,3, -999.000,9,    1.529,2,   -999.0,9,  7.78194037
  18HU19931105, AR13a,    66,  1,     77,2,19931205, 736, 44.9698, -41.5500, 4723,    700.6,   6.4216,  35.0444,2,  35.0488,2,    207.7,2,    206.1,2,    12.76,2,    20.68,6,     1.35,2,    1.176,2,    0.616,2,    0.033,2,    1.451,2,   -999.0,9,  6.35655771
  18HU19931105, AR13a,    66,  1,     76,2,19931205, 736, 44.9698, -41.5500, 4723,    886.3,   5.1917,  35.0147,2,  35.0238,2,    237.7,2,    226.2,0,    12.37,2,    19.52,6,     1.29,2,    1.322,2,    0.575,2,    0.039,2,    1.867,2,   -999.0,9,  5.11653538
  18HU19931105, AR13a,    66,  1,     75,2,19931205, 736, 44.9698, -41.5500, 4723,   1107.7,   4.5464,  34.9979,2,  35.0020,2,    254.7,2,    258.3,2,    11.48,2,    18.00,6,     1.19,2,    1.477,2,    0.679,2,    0.042,2,    2.340,2,   -999.0,9,  4.45615613
  18HU19931105, AR13a,    66,  1,     74,2,19931205, 736, 44.9698, -41.5500, 4723,   1303.1,   4.1215,  34.9590,2,  34.9629,2,    264.3,2,    270.2,2,    11.27,2,    17.79,6,     1.17,2,    1.439,2,    0.674,2,    0.029,2,    2.593,2,   -999.0,9,  4.01775871
  18HU19931105, AR13a,    66,  1,     73,2,19931205, 736, 44.9698, -41.5500, 4723,   1605.8,   3.6867,  34.9216,2,  34.9240,2,    273.6,2,    281.3,2,    11.30,2,    17.52,6,     1.11,2,    1.448,2,    0.648,2,    0.034,2,    2.697,2,   -999.0,9,  3.56065704
  18HU19931105, AR13a,    66,  1,     72,2,19931205, 736, 44.9698, -41.5500, 4723,   1903.8,   3.4990,  34.9114,2,  34.9129,2,    276.8,2,    284.7,2,    11.70,2,    17.17,6,     1.17,2,    1.408,2,    0.776,2, -999.000,9,    2.738,2,   -999.0,9,  3.34809836
  18HU19931105, AR13a,    66,  1,     71,2,19931205, 736, 44.9698, -41.5500, 4723,   2207.1,   3.4368,  34.9256,2,  34.9335,2,    273.1,2,    281.0,2,    12.85,2,    17.53,6,     1.15,2,    1.017,2,    0.454,2,    0.022,2,    2.084,2,   -999.0,9,  3.25790631
  18HU19931105, AR13a,    66,  1,     70,2,19931205, 736, 44.9698, -41.5500, 4723,   2492.9,   3.3015,  34.9320,2,  34.9331,2,    272.7,2,    280.2,2,    13.59,2,    16.95,6,     1.16,2,    0.889,2,    0.385,2,    0.011,2,    1.877,2,   -999.0,9,  3.09675343
  18HU19931105, AR13a,    66,  1,     69,2,19931205, 736, 44.9698, -41.5500, 4723,   2797.2,   3.1390,  34.9344,2,  34.9359,2,    272.6,2,    279.3,2,    14.70,2,    17.10,6,     1.16,2,    0.799,2,    0.331,2,    0.021,2,    1.834,2,   -999.0,9,  2.90642232
  18HU19931105, AR13a,    66,  1,     68,2,19931205, 736, 44.9698, -41.5500, 4723,   3100.7,   2.9583,  34.9327,2,  34.9337,2,    272.8,2,    278.5,2,    16.30,2,    17.47,6,     1.15,2,    0.629,2,    0.254,2,    0.000,2,    1.538,2,   -999.0,9,  2.69779584
  18HU19931105, AR13a,    66,  1,     67,2,19931205, 736, 44.9698, -41.5500, 4723,   3430.6,   2.7087,  34.9239,2,  34.9274,2,    274.2,2,    280.3,2,    18.03,2,    17.40,6,     1.16,2,    0.654,2,    0.293,2,    0.000,2,    1.513,2,   -999.0,9,  2.41855735
  18HU19931105, AR13a,    66,  1,     66,2,19931205, 736, 44.9698, -41.5500, 4723,   3692.1,   2.5242,  34.9153,2,  34.9518,2,    275.2,2,    269.4,2,    15.69,2,    17.53,6,     1.17,2,    1.349,2,    0.566,2,    0.039,2,    2.293,2,   -999.0,9,  2.20976487
  18HU19931105, AR13a,    66,  1,     65,2,19931205, 736, 44.9698, -41.5500, 4723,   4005.8,   2.3797,  34.9064,2,  34.9106,2,    277.2,2,    280.5,2,    21.38,2,    17.09,6,     1.14,2,    0.785,2,    0.339,2,    0.016,2,    1.628,2,   -999.0,9,  2.03400496
  18HU19931105, AR13a,    66,  1,     64,2,19931205, 736, 44.9698, -41.5500, 4723,   4295.6,   2.3084,  34.9007,2,  34.9098,2,    278.3,2,    281.0,2,    21.96,2,    17.74,6,     1.18,2,    0.832,2,    0.437,2,    0.013,2,    1.702,2,   -999.0,9,  1.93113192
  18HU19931105, AR13a,    66,  1,     63,2,19931205, 736, 44.9698, -41.5500, 4723,   4597.4,   2.2850,  34.8977,2,  34.9008,2,    281.2,2,    281.3,2,    23.22,2,    17.44,6,     1.20,2,    0.785,2,    0.311,2,    0.019,2,    1.834,2,   -999.0,9,  1.87245309
  18HU19931105, AR13a,    66,  1,     62,2,19931205, 736, 44.9698, -41.5500, 4723,   4718.6,   2.2698,  34.8973,2,  34.8984,2,    285.9,2,    286.2,2,    19.93,2,    16.71,6,     1.12,2,    1.200,2,    0.530,2,    0.029,2,    2.163,2,   -999.0,9,   1.8429703
  18HU19931105, AR13a,    67,  1,      1,2,19931205,1259, 45.3843, -42.0180, 4733,     26.2,  16.1303,  35.6114,2,  35.6125,2,    230.8,2,    243.0,2,     1.55,2,     2.68,6,     0.21,2,    2.243,2,    1.484,2,    0.113,2,    2.810,2,   2063.8,2,  16.1261296
  18HU19931105, AR13a,    67,  1,      0,2,19931205,1259, 45.3843, -42.0180, 4733,    204.1,  14.7394,  35.9645,2,  35.9625,2,    200.5,2,    209.3,2,     3.81,2,    10.45,6,     0.57,2,    2.006,2,    1.262,2,    0.055,2,    0.808,2,   2119.6,2,  14.7085991
  18HU19931105, AR13a,    67,  1,     99,2,19931205,1259, 45.3843, -42.0180, 4733,    410.7,  11.1588,  35.4340,2,  35.4382,2,    179.6,2,    179.8,2,     8.84,2,    19.33,6,     1.10,2,    1.561,2,    1.092,2,    0.039,2,    0.727,2,   2157.8,2,  11.1069435
  18HU19931105, AR13a,    67,  1,     98,2,19931205,1259, 45.3843, -42.0180, 4733,    494.4,   8.6591,  35.0626,2,  35.0666,2,    178.0,2,    177.0,2,    11.97,2,    22.25,6,     1.33,2,    1.718,2,    0.939,2,    0.097,2,    1.067,2,   2172.1,2,  8.60563449
  18HU19931105, AR13a,    67,  1,     97,2,19931205,1259, 45.3843, -42.0180, 4733,    701.4,   6.7028,  35.0689,2,  35.0711,2,    202.7,2,    201.5,2,    13.22,2,    22.33,6,     1.38,2,    1.144,2,    0.845,2,    0.032,2,    1.125,2,   2178.1,2,  6.63617604
  18HU19931105, AR13a,    67,  1,     96,2,19931205,1259, 45.3843, -42.0180, 4733,    849.7,   5.2372,  35.0054,2,  34.9693,2,    235.9,2,    238.7,2,    12.16,2,    20.42,6,     1.26,2,    2.123,2,    0.984,2,    0.064,2,    2.379,2,   2169.6,2,  5.16514315
  18HU19931105, AR13a,    67,  1,     95,2,19931205,1259, 45.3843, -42.0180, 4733,   1003.1,   4.7307,  34.9982,2,  35.0039,2,    249.2,2,    252.6,2,    11.85,2,    19.92,6,     1.29,2,    1.659,2,    0.945,2,    0.055,2,    2.352,2,   2165.2,2,  4.64833219
  18HU19931105, AR13a,    67,  1,     94,2,19931205,1259, 45.3843, -42.0180, 4733,   1294.6,   4.0969,  34.9570,2,  34.9622,2,    265.1,2,    269.9,2,    11.50,2,    19.24,6,     1.19,2,    2.178,2,    1.172,2,    0.054,2,    2.695,2,   2159.6,2,  3.99415927
  18HU19931105, AR13a,    67,  1,     93,2,19931205,1259, 45.3843, -42.0180, 4733,   1601.5,   3.6382,  34.9166,2,  34.9190,2,    275.6,2,    283.2,2,    11.35,2,    18.64,6,     1.15,2,    1.856,2,    1.190,2, -999.000,9,    2.883,2,   2155.2,2,  3.51314412
  18HU19931105, AR13a,    67,  1,     92,2,19931205,1259, 45.3843, -42.0180, 4733,   1901.9,   3.4567,  34.9102,2,  34.9116,2,    278.1,2,    286.3,2,    11.87,2,    18.45,6,     1.15,2,    1.628,2,    0.903,2,    0.048,2,    2.781,2,   2155.8,2,  3.30658017
  18HU19931105, AR13a,    67,  1,     91,2,19931205,1259, 45.3843, -42.0180, 4733,   2207.1,   3.3579,  34.9162,2,  34.9182,2,    277.0,2,    284.9,2,    12.50,2,    18.20,6,     1.15,2,    1.737,2,    0.934,2,    0.095,2,    2.490,2,   2155.6,2,  3.18034637
  18HU19931105, AR13a,    67,  1,     90,2,19931205,1259, 45.3843, -42.0180, 4733,   2511.1,   3.2832,  34.9315,2,  34.9353,2,    273.4,2,    282.4,2,    13.69,2,    18.29,6,     1.11,2,    0.893,2,    0.740,2,    0.024,2,    1.868,2,   2158.4,2,  3.07695512
  18HU19931105, AR13a,    67,  1,     89,2,19931205,1259, 45.3843, -42.0180, 4733,   2802.3,   3.0921,  34.9339,2,  34.9361,2,    272.5,2,    279.8,2,    15.07,2,    18.24,6,     1.16,2,    1.107,2,    0.391,2,    0.019,2,    1.421,2,   2157.6,2,  2.85994513
  18HU19931105, AR13a,    67,  1,     88,2,19931205,1259, 45.3843, -42.0180, 4733,   3099.5,   2.8836,  34.9307,2,  34.9312,2,    272.2,2,    279.1,2,    16.87,2,    18.13,6,     1.17,2,    0.832,2,    0.509,2,    0.013,2,    1.412,2,   2158.6,2,  2.62489395
  18HU19931105, AR13a,    67,  1,     87,2,19931205,1259, 45.3843, -42.0180, 4733,   3419.6,   2.6162,  34.9200,2,  34.9243,2,    273.9,2,    279.6,2,    19.24,2,    18.03,6,     1.19,2,    0.915,2,    0.663,2, -999.000,9,    1.508,2,   2160.3,2,  2.32951594
  18HU19931105, AR13a,    67,  1,     86,2,19931205,1259, 45.3843, -42.0180, 4733,   3695.4,   2.4283,  34.9103,2,  34.9508,2,    275.5,2,    269.2,2,    15.93,3,    18.27,6,     1.37,2,    1.770,2,    0.866,2,    0.043,2,    2.101,2,   2160.0,2,  2.11599568
  18HU19931105, AR13a,    67,  1,     85,2,19931205,1259, 45.3843, -42.0180, 4733,   3993.6,   2.3372,  34.9039,2,  34.9049,2,    276.2,2,    281.6,2,    22.63,3,    18.28,6,     1.32,2,    1.400,2,    0.455,2,    0.019,2,    1.359,2,   2166.1,2,  1.99411663
  18HU19931105, AR13a,    67,  1,     84,2,19931205,1259, 45.3843, -42.0180, 4733,   4287.9,   2.2957,  34.9000,2,  34.9328,2,    277.4,2,    270.6,0,    17.82,3,    18.08,6,     1.23,2,    1.402,2,    0.700,2, -999.000,9,    2.319,2,   2163.3,2,  1.91955933
  18HU19931105, AR13a,    67,  1,     83,2,19931205,1259, 45.3843, -42.0180, 4733,   4580.7,   2.2804,  34.8971,2,  34.8986,2,    280.6,2,    282.5,2,    23.17,2,    17.87,6,     1.19,2,    0.890,2,    0.643,2,    0.027,2,    1.811,2,   2166.0,2,  1.87003509
  18HU19931105, AR13a,    67,  1,     82,2,19931205,1259, 45.3843, -42.0180, 4733,   4728.9,   2.2798,  34.8965,2,  34.9002,2,    282.4,2,    283.7,2,    22.09,2,    17.50,6,     1.16,2,    1.107,2,    0.391,2,    0.019,2,    1.420,2,   2166.0,2,  1.85137356
  18HU19931105, AR13a,    68,  1,     21,2,19931205,1857, 45.8170, -42.5230, 4760,     52.0,  15.6535,  35.5706,2,  35.5682,2,    227.1,2,    239.8,2,     1.61,2,     3.05,6,     0.24,2,    2.919,2,    1.441,2,    0.127,2,    2.632,2,   2068.0,2,  15.6453889
  18HU19931105, AR13a,    68,  1,     20,2,19931205,1857, 45.8170, -42.5230, 4760,    199.2,  14.2667,  35.7654,2,  35.7761,2,    182.0,2,    184.9,2,     4.80,2,    12.65,6,     0.72,2,    1.805,2,    1.029,2,    0.066,2,    0.806,2,   -999.0,9,  14.2373377
  18HU19931105, AR13a,    68,  1,     19,2,19931205,1857, 45.8170, -42.5230, 4760,    399.2,   9.9617,  35.2422,2,  35.2452,2,    174.8,2,    172.3,2,    10.75,2,    21.31,6,     1.28,2,    1.275,2,    0.794,2,    0.045,2,    1.013,2,   2166.9,2,  9.91486221
  18HU19931105, AR13a,    68,  1,     18,2,19931205,1857, 45.8170, -42.5230, 4760,    496.7,   8.4787,  35.1340,2,  35.1358,2,    177.4,2,    174.8,2,    12.87,2,    23.19,6,     1.40,2,    0.985,2,    0.557,2,    0.037,2,    0.971,2,   2178.5,2,  8.42558568
  18HU19931105, AR13a,    68,  1,     17,2,19931205,1857, 45.8170, -42.5230, 4760,    599.1,   6.8475,  35.0226,2,  35.0250,2,    199.9,2,    197.5,2,    13.00,2,    22.38,6,     1.39,2,    1.326,2,    0.613,2,    0.045,2,    1.496,2,   2176.9,2,  6.79039973
  18HU19931105, AR13a,    68,  1,     16,2,19931205,1857, 45.8170, -42.5230, 4760,    807.0,   5.0875,  34.9718,2,  34.9729,2,    236.4,2,    238.8,2,    12.16,2,    20.50,6,     1.26,2,    1.836,2,    1.013,2,    0.072,2,    2.329,2,   2168.2,2,  5.02022631
  18HU19931105, AR13a,    68,  1,     15,2,19931205,1857, 45.8170, -42.5230, 4760,   1001.4,   4.8143,  35.0207,2,  35.0250,2,    248.7,2,    253.6,2,    11.79,2,    19.96,6,     1.18,2,    1.561,2,    0.778,2,    0.056,2,    2.358,2,   2165.6,2,  4.73141333
  18HU19931105, AR13a,    68,  1,     14,2,19931205,1857, 45.8170, -42.5230, 4760,   1201.6,   4.2835,  34.9791,2,  34.9801,2,    260.6,2,    266.5,2,    11.52,2,    19.11,6,     1.14,2,    1.599,2,    0.746,2,    0.053,2,    2.489,2,   2161.4,2,  4.18722372
  18HU19931105, AR13a,    68,  1,     13,2,19931205,1857, 45.8170, -42.5230, 4760,   1506.0,   3.6643,  34.9135,2,  34.9160,2,    275.8,2,    282.0,2,    11.34,2,    18.64,6,     1.15,2,    1.976,2,    0.903,2,    0.079,2,    3.175,2,   2155.9,2,  3.54747878
  18HU19931105, AR13a,    68,  1,     12,2,19931205,1857, 45.8170, -42.5230, 4760,   1796.2,   3.4731,  34.9067,2,  34.9084,2,    277.8,2,    286.6,2,    11.95,2,    18.59,6,     1.16,2,    1.802,2,    1.572,3,    0.059,2,    2.927,2,   1930.3,4,   3.3325136
  18HU19931105, AR13a,    68,  1,     11,2,19931205,1857, 45.8170, -42.5230, 4760,   2092.6,   3.3377,  34.9006,2,  34.8984,2,    279.3,2,    288.0,2,    11.91,2,    18.53,6,     1.14,2,    1.890,2,    0.881,2,    0.069,2,    3.126,2,   2154.1,2,  3.17149208
  18HU19931105, AR13a,    68,  1,     10,2,19931205,1857, 45.8170, -42.5230, 4760,   2400.0,   3.3261,  34.9279,2,  34.9286,2,    273.7,2,    282.6,2,    13.35,2,    18.54,6,     1.17,2,    1.135,2,    0.643,2,    0.030,2,    2.129,2,   2156.0,2,  3.13018219
  18HU19931105, AR13a,    68,  1,      9,2,19931205,1857, 45.8170, -42.5230, 4760,   2701.1,   3.1975,  34.9359,2,  34.9377,2,    271.7,2,    279.8,2,    14.69,2,    18.54,6,     1.14,2,    0.716,2,    0.417,2,    0.019,2,    1.662,2,   2158.3,2,  2.97362519
  18HU19931105, AR13a,    68,  1,      8,2,19931205,1857, 45.8170, -42.5230, 4760,   2999.1,   2.9829,  34.9321,2,  34.9336,2,    273.2,2,    280.6,2,    15.83,2,    18.38,6,     1.18,2,    0.705,2,    0.399,2,    0.017,2,    1.697,2,   2157.4,2,   2.7325805
  18HU19931105, AR13a,    68,  1,      7,2,19931205,1857, 45.8170, -42.5230, 4760,   3293.5,   2.7617,  34.9261,2,  34.9269,2,    273.3,2,    279.2,2,    17.72,2,    18.58,6,     1.15,2,    0.640,2,    0.435,2,    0.018,2,    1.594,2,   2158.8,2,  2.48512818
  18HU19931105, AR13a,    68,  1,      6,2,19931205,1857, 45.8170, -42.5230, 4760,   3595.4,   2.5122,  34.9145,2,  34.9245,2,    276.1,2,    279.3,2,    19.02,2,    18.48,6,     1.11,2,    0.796,2,    0.424,2,    0.025,2,    1.738,2,   2161.5,2,  2.20892359
  18HU19931105, AR13a,    68,  1,      5,2,19931205,1857, 45.8170, -42.5230, 4760,   3891.8,   2.3665,  34.9061,2,  34.9133,2,    275.2,2,    280.2,2,    22.01,2,    18.88,6,     1.22,2,    0.669,2,    0.401,2,    0.026,2,    1.614,2,   2164.5,2,  2.03410562
  18HU19931105, AR13a,    68,  1,      4,2,19931205,1857, 45.8170, -42.5230, 4760,   4202.5,   2.2986,  34.9006,2,  34.9055,2,    277.6,2,    279.8,2,    22.84,2,    18.80,6,     1.19,2,    0.978,2,    0.433,2,    0.032,2,    1.876,2,   2166.6,2,  1.93254334
  18HU19931105, AR13a,    68,  1,      3,2,19931205,1857, 45.8170, -42.5230, 4760,   4500.5,   2.2769,  34.8976,2,  34.8974,2,    279.1,2,    280.7,2,    23.38,2,    18.80,6,     1.17,2,    0.880,2,    0.528,2,    0.033,2,    1.751,2,   -999.0,9,   1.8763169
  18HU19931105, AR13a,    68,  1,      2,2,19931205,1857, 45.8170, -42.5230, 4760,   4756.0,   2.2782,  34.8964,2,  34.8964,2,    283.3,2,    284.0,2,    22.40,2,    19.11,6,     1.15,2,    1.115,2,    0.585,2,    0.036,2,    1.982,2,   2166.4,2,  1.84651948