BOTTLE,20081201PRINUNIVRMK
EXPOCODE,SECT_ID,STNNBR,CASTNO,BTLNBR,BTLNBR_FLAG_W,DATE,TIME,LATITUDE,LONGITUDE,DEPTH,CTDPRS,CTDTMP,CTDSAL,CTDSAL_FLAG_W,SALNTY,SALNTY_FLAG_W,CTDOXY,CTDOXY_FLAG_W,OXYGEN,OXYGEN_FLAG_W,SILCAT,SILCAT_FLAG_W,NITRAT,NITRAT_FLAG_W,PHSPHT,PHSPHT_FLAG_W,CFC-11,CFC-11_FLAG_W,CFC-12,CFC-12_FLAG_W,CFC113,CFC113_FLAG_W,CCL4,CCL4_FLAG_W,TCARBN,TCARBN_FLAG_W,THETA
,,,,,,,,,,METERS,DBARS,ITS-90,PSS-78,,PSS-78,,UMOL/KG,,UMOL/KG,,UMOL/KG,,UMOL/KG,,UMOL/KG,,PMOL/KG,,PMOL/KG,,PMOL/KG,,PMOL/KG,,UMOL/KG,,DEGC
  18HU19931105, AR13a,    18,  1,     28,2,19931122, 835, 38.0678, -48.1640, 5344,      9.1,  22.5156,  36.4220,2,  36.4267,2,    199.1,2,    212.9,2,     1.07,2,     0.65,6,     0.00,2,    1.686,2,    1.154,2,    0.280,4,    2.029,2,   2041.5,2,  22.5137615
  18HU19931105, AR13a,    18,  1,     27,2,19931122, 835, 38.0678, -48.1640, 5344,      9.1,  22.5156,  36.4220,2,  36.4264,2,    199.1,2,    213.3,2,     1.08,2,     0.63,6,     0.00,2,    1.667,2,    1.042,2,    0.102,2,    2.066,2,   2040.6,2,  22.5137615
  18HU19931105, AR13a,    18,  1,     26,2,19931122, 835, 38.0678, -48.1640, 5344,    199.9,  19.7164,  36.6237,2,  36.6297,2,    196.5,2,    206.0,2,     0.98,2,     1.79,6,     0.09,2,    1.789,2,    1.063,2,    0.165,2,    0.648,2,   2082.0,2,  19.6794528
  18HU19931105, AR13a,    18,  1,     25,2,19931122, 835, 38.0678, -48.1640, 5344,    498.6,  17.7147,  36.4607,2,  36.4631,2,    189.0,2,    199.7,2,     1.97,2,     5.50,6,     0.28,2,    1.786,2,    1.086,2,    0.047,2,    0.632,2,   2100.0,2,  17.6285937
  18HU19931105, AR13a,    18,  1,     24,2,19931122, 835, 38.0678, -48.1640, 5344,    798.5,  11.8530,  35.5198,2,  35.5217,2,    164.5,2,    165.1,2,     8.55,2,    18.09,6,     1.15,2,    1.112,2,    0.652,2,    0.035,2,    0.631,2,   2162.2,2,  11.7465139
  18HU19931105, AR13a,    18,  1,     23,2,19931122, 835, 38.0678, -48.1640, 5344,   1401.4,   4.9912,  35.0476,2,  35.0549,2,    239.8,2,    206.6,0,    12.97,2,    20.55,4,     1.37,2,    1.101,2,    0.659,2,    0.107,2,    1.427,2,   2177.0,2,  4.86927214
  18HU19931105, AR13a,    18,  1,     22,2,19931122, 835, 38.0678, -48.1640, 5344,   1401.4,   4.9912,  35.0476,2,  35.0750,2,    239.8,2,    245.6,2,    11.51,2,    18.45,6,     1.21,2,    1.279,2,    0.697,2,    0.044,2,    2.120,2,   2166.8,2,   4.8692269
  18HU19931105, AR13a,    18,  1,     21,2,19931122, 835, 38.0678, -48.1640, 5344,   1708.5,   4.0945,  34.9649,2,  34.9612,2,    258.2,2,    270.2,2,    11.36,2,    17.89,6,     1.19,2,    1.322,2,    0.726,2,    0.038,2,    2.410,2,   2160.8,2,  3.95378713
  18HU19931105, AR13a,    18,  1,     20,2,19931122, 835, 38.0678, -48.1640, 5344,   2000.1,   3.7607,  34.9436,2,  34.9477,2,    263.1,2,    276.5,2,    11.92,2,    17.81,6,     1.18,2,    1.112,2,    0.660,2,    0.100,2,    2.380,2,   2158.7,2,  3.59675565
  18HU19931105, AR13a,    18,  1,     19,2,19931122, 835, 38.0678, -48.1640, 5344,   2299.4,   3.6506,  34.9553,2,  35.0315,2,    261.4,2,    262.7,2,    12.39,2,    17.61,6,     1.17,2,    0.882,2,    0.594,2, -999.000,9,    1.736,2,   2159.0,2,   3.4587145
  18HU19931105, AR13a,    18,  1,     17,2,19931122, 835, 38.0678, -48.1640, 5344,   2892.2,   3.2359,  34.9511,2,  34.9588,2,    259.7,2,    272.3,2,    16.73,2,    17.75,6,     1.19,2,    0.426,2,    0.229,2,    0.000,2,    1.221,2,   2161.1,2,  2.99133323
  18HU19931105, AR13a,    18,  1,     18,2,19931122, 835, 38.0678, -48.1640, 5344,   2892.7,   3.2400,  34.9517,2,  34.9517,2,    260.4,2,   -999.0,9,    11.46,2,    18.32,6,     1.21,2,    1.208,2,    0.673,2,    0.074,2,    1.776,2,   2165.1,2,  2.99532809
  18HU19931105, AR13a,    18,  1,     16,2,19931122, 835, 38.0678, -48.1640, 5344,   3192.9,   2.9990,  34.9418,2,  34.9495,2,    261.5,2,    273.5,2,    19.09,2,    18.14,6,     1.22,2,    0.377,2,    0.219,2,    0.000,2,    1.041,2,   2163.3,2,  2.72764745
  18HU19931105, AR13a,    18,  1,     15,2,19931122, 835, 38.0678, -48.1640, 5344,   3504.1,   2.6953,  34.9260,2,  34.9425,2,    262.2,2,    272.2,2,    21.34,2,    17.93,6,     1.22,2,    0.364,2,    0.246,2,    0.059,2,    1.033,2,   -999.0,9,  2.39736322
  18HU19931105, AR13a,    18,  1,     14,2,19931122, 835, 38.0678, -48.1640, 5344,   3799.4,   2.5366,  34.9158,2,  34.9158,2,    264.3,2,   -999.0,9,  -999.00,9,    12.04,4,  -999.00,9,    1.242,2,    0.700,2,    0.030,2,    1.013,2,   -999.0,9,  2.21003606
  18HU19931105, AR13a,    18,  1,     13,2,19931122, 835, 38.0678, -48.1640, 5344,   4108.7,   2.3720,  34.9039,2,  34.9498,2,    264.4,2,    272.3,2,    25.05,2,    18.03,6,     1.24,2,    0.412,2,    0.259,2,    0.084,2,    1.059,2,   2168.7,2,  2.01443426
  18HU19931105, AR13a,    18,  1,     12,2,19931122, 835, 38.0678, -48.1640, 5344,   4407.5,   2.3077,  34.8975,2,  34.9533,2,    265.7,2,    270.4,2,    24.72,2,    18.15,6,     1.24,2,    0.628,2,    0.319,2,    0.073,2,    1.248,2,   2169.1,2,  1.91691368
  18HU19931105, AR13a,    18,  1,     11,2,19931122, 835, 38.0678, -48.1640, 5344,   4709.4,   2.2905,  34.8921,2,  34.8921,2,    264.7,2,    272.7,2,    30.38,2,    19.06,6,     1.29,2,    0.416,2,    0.246,2,    0.000,2,    1.118,2,   2175.3,2,   1.8641836
  18HU19931105, AR13a,    18,  1,     10,2,19931122, 835, 38.0678, -48.1640, 5344,   5019.4,   2.3006,  34.8910,2,  34.8926,2,    269.4,2,    274.5,2,    28.86,2,    18.74,6,     1.26,2,    0.596,2,    0.313,2,    0.028,2,    1.390,2,   2174.3,2,  1.83534302
  18HU19931105, AR13a,    18,  1,      9,2,19931122, 835, 38.0678, -48.1640, 5344,   5266.5,   2.2800,  34.8821,2,  34.8871,2,    264.3,2,    267.2,2,    36.32,2,    19.95,6,     1.35,2,    0.332,2,    0.251,2,    0.069,2,    0.925,2,   2183.3,2,  1.78390516
  18HU19931105, AR13a,    19,  1,     47,2,19931122,1511, 38.0150, -47.4640, 5321,     55.8,  22.1526,  36.4294,2,  36.4351,2,    202.2,2,    216.8,2,     1.02,2,     0.56,6,     0.00,2,    2.711,2,    1.234,2,    0.103,2,    2.035,2,   2040.2,2,  22.1414477
  18HU19931105, AR13a,    19,  1,     48,2,19931122,1511, 38.0150, -47.4640, 5321,     55.8,  22.1526,  36.4294,2,  36.4350,2,    202.2,2,    216.3,2,     1.04,2,     0.55,6,     0.00,2,    1.951,2,    0.998,2,    0.104,2,    1.998,2,   2039.4,2,  22.1414477
  18HU19931105, AR13a,    19,  1,     46,2,19931122,1511, 38.0150, -47.4640, 5321,    309.2,  18.5834,  36.5829,2,  36.5881,2,    199.3,2,    211.1,2,     1.25,2,     2.98,6,     0.17,2,    2.143,2,    0.976,2,    0.059,2,    0.698,2,   2085.5,2,  18.5284245
  18HU19931105, AR13a,    19,  1,     45,2,19931122,1511, 38.0150, -47.4640, 5321,    598.2,  15.6848,  36.1094,2,  36.1119,2,    171.0,2,    176.5,2,     4.01,2,    11.02,6,     0.66,2,    1.426,2,    0.889,2,    0.018,2,    0.246,2,   2129.3,3,  15.5895283
  18HU19931105, AR13a,    19,  1,     43,2,19931122,1511, 38.0150, -47.4640, 5321,   1004.1,   6.8670,  35.0532,2,  35.0749,2,    193.1,2,    192.1,2,    13.16,2,    21.35,6,     1.41,2,    1.076,2,    0.518,2,    0.038,2,    1.201,2,   2178.7,2,  6.76836519
  18HU19931105, AR13a,    19,  1,     44,2,19931122,1511, 38.0150, -47.4640, 5321,   1012.1,   6.7802,  35.0559,2,  35.0775,2,    195.3,2,    168.1,0,    13.53,2,    22.64,6,     1.51,2,    2.359,3,    0.516,2,    0.034,2,    0.924,2,   2182.7,2,     6.68137
  18HU19931105, AR13a,    19,  1,     42,2,19931122,1511, 38.0150, -47.4640, 5321,   1203.8,   5.8516,  35.1162,2,  35.1354,2,    224.4,2,    227.3,2,    11.58,2,    18.87,6,     1.24,2,    1.197,2,    0.650,2,    0.034,2,    1.538,2,   2172.7,2,  5.74066033
  18HU19931105, AR13a,    19,  1,     41,2,19931122,1511, 38.0150, -47.4640, 5321,   1537.6,   4.4196,  35.0013,2,  35.0120,2,    252.6,2,    260.5,2,    11.50,2,    17.97,6,     1.21,2,    1.272,2,    0.705,2,    0.032,2,    2.214,2,   2162.1,2,  4.29099762
  18HU19931105, AR13a,    19,  1,     40,2,19931122,1511, 38.0150, -47.4640, 5321,   1829.5,   3.8734,  34.9538,2,  34.9572,2,    262.9,2,    270.7,2,    11.87,2,    17.52,6,     1.18,2,    1.113,2,    0.740,2,    0.035,2,    2.169,2,   2158.1,2,  3.72414338
  18HU19931105, AR13a,    19,  1,     39,2,19931122,1511, 38.0150, -47.4640, 5321,   2122.0,   3.6493,  34.9384,2,  34.9384,2,    266.0,2,    263.7,2,    11.64,2,    17.17,6,     1.16,2,    1.355,2,    0.853,2,    0.037,2,    2.039,2,   2157.2,2,   3.4752706
  18HU19931105, AR13a,    19,  1,     38,2,19931122,1511, 38.0150, -47.4640, 5321,   2686.2,   3.3712,  34.9570,2,  34.9570,2,    261.6,2,    264.3,2,    11.96,2,    17.37,6,     1.17,2,    1.314,2,    0.578,2,    0.037,2,    2.032,2,   2158.2,2,  3.14538318
  18HU19931105, AR13a,    19,  1,     37,2,19931122,1511, 38.0150, -47.4640, 5321,   2689.9,   3.3644,  34.9565,2,  34.9599,2,    262.0,2,    272.0,2,    16.07,2,    17.76,6,     1.20,2,    0.435,2,    0.176,2,    0.014,2,    1.179,2,   2161.3,2,  3.13832098
  18HU19931105, AR13a,    19,  1,     36,2,19931122,1511, 38.0150, -47.4640, 5321,   2935.8,   3.1689,  34.9480,2,  34.9530,2,    261.9,2,    273.3,2,    17.16,2,    17.78,6,     1.20,2,    0.459,2,    0.264,2, -999.000,9,    1.072,2,   2162.0,2,  2.92117613
  18HU19931105, AR13a,    19,  1,     35,2,19931122,1511, 38.0150, -47.4640, 5321,   3301.2,   2.8586,  34.9323,2,  34.9394,2,    264.4,2,    275.4,2,    18.30,2,    17.62,6,     1.19,2,    0.501,2,    0.299,2,    0.075,2,    1.200,2,   2161.7,2,  2.57885897
  18HU19931105, AR13a,    19,  1,     34,2,19931122,1511, 38.0150, -47.4640, 5321,   3599.6,   2.6018,  34.9202,2,  34.9202,2,    264.6,2,   -999.0,9,  -999.00,9,    13.49,4,  -999.00,9,    0.997,2,    0.446,2,    0.031,2,    1.205,2,   -999.0,9,  2.29581145
  18HU19931105, AR13a,    19,  1,     33,2,19931122,1511, 38.0150, -47.4640, 5321,   3898.0,   2.4258,  34.9088,2,  34.9666,2,    266.1,2,    272.1,2,    22.17,2,    17.35,6,     1.21,2,    0.509,2,    0.343,2,    0.015,2,    1.079,2,   2164.7,2,  2.09076566
  18HU19931105, AR13a,    19,  1,     32,2,19931122,1511, 38.0150, -47.4640, 5321,   4206.2,   2.3247,  34.9006,2,  34.9006,2,    267.4,2,    270.3,2,  -999.00,9,  -999.00,9,  -999.00,9,    0.999,2,    0.345,2, -999.000,9,    1.218,2,   2168.3,2,  1.95748652
  18HU19931105, AR13a,    19,  1,     31,2,19931122,1511, 38.0150, -47.4640, 5321,   4483.3,   2.2912,  34.8955,2,  34.8955,2,    267.8,2,   -999.0,9,    15.98,3,    17.33,6,     1.14,2,    0.927,2,    0.464,2,    0.026,2,    1.449,2,   2160.2,2,  1.89225441
  18HU19931105, AR13a,    19,  1,     30,2,19931122,1511, 38.0150, -47.4640, 5321,   4763.9,   2.2752,  34.8901,2,  34.8922,2,    266.0,2,    271.5,2,    31.58,2,    18.91,6,     1.30,2,    0.398,2,    0.220,2,    0.016,2,    0.947,2,   2177.2,2,  1.84267333
  18HU19931105, AR13a,    19,  1,     29,2,19931122,1511, 38.0150, -47.4640, 5321,   5195.7,   2.2593,  34.8805,2,  34.8843,2,    263.4,2,    266.7,2,    37.70,2,    19.93,6,     1.39,2,    0.262,2,    0.167,2, -999.000,9,    0.703,2,   2185.8,2,  1.77306027
  18HU19931105, AR13a,    20,  1,     68,2,19931122,2150, 38.0587, -46.7460, 5282,     29.3,  22.0422,  36.4135,2,  36.4177,2,    203.4,2,    217.8,2,     1.45,2,     0.46,6,     0.00,2,    1.781,2,    0.937,2,    0.116,2,    2.087,2,   2039.9,2,  22.0363676
  18HU19931105, AR13a,    20,  1,     66,2,19931122,2150, 38.0587, -46.7460, 5282,    242.4,  18.6070,  36.5570,2,  36.5614,2,    174.9,2,    182.5,2,     2.15,2,     5.83,6,     0.29,2,    1.689,2,    0.859,2,    0.045,2,    0.344,2,   2110.4,2,  18.5639316
  18HU19931105, AR13a,    20,  1,     67,2,19931122,2150, 38.0587, -46.7460, 5282,    242.4,  18.6070,  36.5570,2,  36.5614,2,    174.9,2,    179.5,2,     2.18,2,     5.86,6,     0.30,2,    1.730,2,    0.970,2,    0.047,2,    0.315,2,   2110.0,2,  18.5639316
  18HU19931105, AR13a,    20,  1,     65,2,19931122,2150, 38.0587, -46.7460, 5282,    497.8,  16.5626,  36.2403,2,  36.2430,2,    172.9,2,    179.5,2,     3.39,2,     9.32,6,     0.53,2,    1.545,2,    0.819,2, -999.000,9,    0.432,2,   2120.3,2,  16.4805427
  18HU19931105, AR13a,    20,  1,     64,2,19931122,2150, 38.0587, -46.7460, 5282,    800.4,   9.1634,  35.2037,2,  35.2037,2,    162.2,2,    210.7,0,  -999.00,9,  -999.00,9,  -999.00,9,    1.037,2,    0.470,2,    0.044,2,    1.243,2,   2177.2,2,  9.07224719
  18HU19931105, AR13a,    20,  1,     62,2,19931122,2150, 38.0587, -46.7460, 5282,   1303.9,   4.7508,  35.0114,2,  35.0297,2,    242.4,2,    249.6,2,    12.06,2,    18.65,6,     1.25,2,    1.181,2,    0.607,2,    0.022,2,    1.979,2,   2166.0,2,  4.64065536
  18HU19931105, AR13a,    20,  1,     63,2,19931122,2150, 38.0587, -46.7460, 5282,   1305.1,   4.7503,  35.0114,2,  35.0351,2,    242.1,2,    250.6,2,    11.95,2,    18.82,6,     1.23,2,    1.168,2,    0.554,2,    0.039,2,    1.878,2,   2165.5,2,  4.64003627
  18HU19931105, AR13a,    20,  1,     61,2,19931122,2150, 38.0587, -46.7460, 5282,   1606.3,   4.0798,  34.9648,2,  34.9736,2,    257.6,2,    268.1,2,    11.72,2,    18.01,6,     1.20,2,    1.220,2,    0.562,2,    0.118,2,    2.300,2,   -999.0,9,  3.94883826
  18HU19931105, AR13a,    20,  1,     60,2,19931122,2150, 38.0587, -46.7460, 5282,   1895.9,   3.8165,  34.9575,2,  34.9615,2,    261.0,2,    272.4,2,    12.43,2,    17.81,6,     1.20,2,    0.964,2,    0.479,2,    0.030,2,    1.984,2,   2157.5,2,  3.66170155
  18HU19931105, AR13a,    20,  1,     59,2,19931122,2150, 38.0587, -46.7460, 5282,   2199.9,   3.6600,  34.9646,2,  35.0338,2,    259.6,2,    264.4,2,    13.22,2,    17.58,6,     1.20,2,    0.906,2,    0.326,2,    0.013,2,    1.456,2,   2157.7,2,   3.4778317
  18HU19931105, AR13a,    20,  1,     58,2,19931122,2150, 38.0587, -46.7460, 5282,   2505.7,   3.4552,  34.9667,2,  34.9667,2,    257.2,2,   -999.0,9,    12.42,2,    19.17,6,     1.27,2,    1.013,2,    0.487,2,    0.030,2,    1.511,2,   -999.0,9,  3.24622682
  18HU19931105, AR13a,    20,  1,     57,2,19931122,2150, 38.0587, -46.7460, 5282,   2804.6,   3.1764,  34.9530,2,  34.9579,2,    258.5,2,    272.0,2,    18.05,2,    18.05,6,     1.21,2,    0.347,2,    0.167,2,    0.010,2,    0.907,2,   -999.0,9,  2.94220145
  18HU19931105, AR13a,    20,  1,     56,2,19931122,2150, 38.0587, -46.7460, 5282,   3101.8,   2.9232,  34.9401,2,  34.9448,2,    260.4,2,    271.6,2,    19.80,2,    18.32,6,     1.25,2,    0.328,2,    0.153,2,    0.014,2,    0.811,2,   -999.0,9,  2.66330377
  18HU19931105, AR13a,    20,  1,     55,2,19931122,2150, 38.0587, -46.7460, 5282,   3392.4,   2.6882,  34.9269,2,  34.9291,2,    261.3,2,    274.2,2,    22.26,2,    18.16,6,     1.26,2,    0.272,2,    0.107,2,    0.017,2,    0.754,2,   -999.0,9,   2.4026938
  18HU19931105, AR13a,    20,  1,     54,2,19931122,2150, 38.0587, -46.7460, 5282,   3678.9,   2.4800,  34.9138,2,  34.9138,2,    262.8,2,   -999.0,9,    15.35,2,    14.65,6,     0.99,3,    0.670,2,    0.335,2,    0.031,2,    1.059,2,   -999.0,9,  2.16839698
  18HU19931105, AR13a,    20,  1,     52,2,19931122,2150, 38.0587, -46.7460, 5282,   4295.7,   2.2950,  34.8965,2,  34.9080,2,    264.1,2,    271.9,2,    29.29,2,    18.86,6,     1.31,2,    0.368,2,    0.165,2,    0.014,2,    0.934,2,   2174.3,2,   1.9181282
  18HU19931105, AR13a,    20,  1,     53,2,19931122,2150, 38.0587, -46.7460, 5282,   4299.9,   2.2946,  34.8963,2,  34.9333,2,    264.3,2,    271.8,2,    28.48,2,    18.87,6,     1.29,2,    0.408,2,    0.177,2,    0.016,2,    0.995,2,   -999.0,9,  1.91707748
  18HU19931105, AR13a,    20,  1,     51,2,19931122,2150, 38.0587, -46.7460, 5282,   4589.6,   2.2788,  34.8920,2,  34.8996,2,    264.3,2,    270.0,2,    30.69,2,    19.14,6,     1.33,2,    0.392,2,    0.206,2,    0.021,2,    0.849,2,   -999.0,9,  1.86740045
  18HU19931105, AR13a,    20,  1,     50,2,19931122,2150, 38.0587, -46.7460, 5282,   4914.1,   2.2625,  34.8854,2,  34.8899,2,    263.6,2,    268.8,2,    35.06,2,    19.88,6,     1.36,2,    0.306,2,    0.159,2,    0.016,2,    0.808,2,   -999.0,9,  1.81176615
  18HU19931105, AR13a,    20,  1,     49,2,19931122,2150, 38.0587, -46.7460, 5282,   5267.3,   2.2456,  34.8769,2,  34.8937,2,    262.1,2,    264.3,2,    38.26,2,    20.07,6,     1.40,2,    0.222,2,    0.115,2,    0.015,2,    0.639,2,   -999.0,9,   1.7505493