BOTTLE,20081201PRINUNIVRMK
EXPOCODE,SECT_ID,STNNBR,CASTNO,BTLNBR,BTLNBR_FLAG_W,DATE,TIME,LATITUDE,LONGITUDE,DEPTH,CTDPRS,CTDTMP,CTDSAL,CTDSAL_FLAG_W,SALNTY,SALNTY_FLAG_W,CTDOXY,CTDOXY_FLAG_W,OXYGEN,OXYGEN_FLAG_W,SILCAT,SILCAT_FLAG_W,NITRAT,NITRAT_FLAG_W,PHSPHT,PHSPHT_FLAG_W,CFC-11,CFC-11_FLAG_W,CFC-12,CFC-12_FLAG_W,CFC113,CFC113_FLAG_W,CCL4,CCL4_FLAG_W,TCARBN,TCARBN_FLAG_W,THETA
,,,,,,,,,,METERS,DBARS,ITS-90,PSS-78,,PSS-78,,UMOL/KG,,UMOL/KG,,UMOL/KG,,UMOL/KG,,UMOL/KG,,PMOL/KG,,PMOL/KG,,PMOL/KG,,PMOL/KG,,UMOL/KG,,DEGC
  18HU19931105, AR13a,    39,  1,     48,2,19931129, 711, 43.0317, -48.4930, 2786,     95.8,   2.1240,  33.7815,2,  33.7738,2,    296.1,2,    312.9,2,     5.47,2,     9.31,6,     0.80,2,    4.699,2,    2.383,2,    0.325,2,    5.799,2,   2106.1,2,  2.11899795
  18HU19931105, AR13a,    39,  1,     47,2,19931129, 711, 43.0317, -48.4930, 2786,    139.0,   6.1626,  34.7606,2,  34.7555,2,    204.3,2,    202.2,2,    12.69,2,    20.19,6,     1.46,2,    1.901,2,    1.158,2,    0.095,2,    2.082,2,   2171.6,2,  6.15057777
  18HU19931105, AR13a,    39,  1,     46,2,19931129, 711, 43.0317, -48.4930, 2786,    173.7,   4.1934,  34.5379,2,  34.7543,0,    243.4,2,    237.8,0,    11.87,2,    18.18,6,     1.34,2,    2.682,2,    1.334,2,    0.164,2,    3.178,2,   2161.5,2,  4.18107536
  18HU19931105, AR13a,    39,  1,     45,2,19931129, 711, 43.0317, -48.4930, 2786,    260.1,   4.4978,  34.8214,2,  34.8228,2,    243.5,2,    246.0,2,    12.14,2,    18.70,6,     1.33,2,    2.337,2,    1.248,2,    0.111,2,    2.910,2,   2167.4,2,  4.47842115
  18HU19931105, AR13a,    39,  1,     44,2,19931129, 711, 43.0317, -48.4930, 2786,    367.5,   3.8228,  34.8281,2,  34.8269,2,    265.6,2,    272.1,2,    10.92,2,    17.45,6,     1.22,2,    3.012,2,    1.665,2,    0.144,2,    3.446,2,   2159.8,2,  3.79707291
  18HU19931105, AR13a,    39,  1,     42,2,19931129, 711, 43.0317, -48.4930, 2786,    626.4,   4.4460,  35.0012,2,  34.9990,2,    254.7,2,    259.9,2,    11.84,2,    18.29,6,     1.33,2,    1.398,2,    0.740,2,    0.048,2,    2.098,2,   2163.3,2,  4.39767411
  18HU19931105, AR13a,    39,  1,     43,2,19931129, 711, 43.0317, -48.4930, 2786,    627.0,   4.4722,  35.0051,2,  35.0057,2,    253.6,2,    259.5,2,    12.02,2,    18.31,6,     1.27,2,    1.385,2,    0.486,2,    0.056,2,    2.008,2,   2169.5,2,  4.42369065
  18HU19931105, AR13a,    39,  1,     41,2,19931129, 711, 43.0317, -48.4930, 2786,    700.4,   4.1345,  34.9660,2,  34.9671,2,    262.6,2,    268.1,2,    11.42,2,    18.03,6,     1.27,2,    1.776,2,    0.687,2,    0.098,2,    2.403,2,   2162.8,2,  4.08180717
  18HU19931105, AR13a,    39,  1,     40,2,19931129, 711, 43.0317, -48.4930, 2786,    797.7,   3.8134,  34.9284,2,  34.9286,2,    270.1,2,    278.0,2,    11.20,2,    17.78,6,     1.24,2, -999.000,9, -999.000,9, -999.000,9, -999.000,9,   2155.5,2,  3.75484139
  18HU19931105, AR13a,    39,  1,     39,2,19931129, 711, 43.0317, -48.4930, 2786,    899.9,   3.7122,  34.9220,2,  34.9229,2,    272.1,2,    281.4,2,    11.14,2,    17.57,6,     1.26,2,    2.345,2,    1.066,2,    0.106,2,    3.004,2,   2160.5,2,   3.6461548
  18HU19931105, AR13a,    39,  1,     38,2,19931129, 711, 43.0317, -48.4930, 2786,   1099.8,   3.4109,  34.8900,2,  34.8920,2,    280.3,2,    290.2,2,    10.77,2,    17.22,6,     1.21,2,    2.300,2,    1.054,2,    0.109,2,    3.190,2,   2157.2,2,    3.331129
  18HU19931105, AR13a,    39,  1,     37,2,19931129, 711, 43.0317, -48.4930, 2786,   1192.2,   3.3816,  34.8915,2,  34.8800,2,    280.0,2,    288.7,2,    12.15,2,    17.06,6,     1.20,2,    2.292,2,    1.247,2,    0.108,2,    3.122,2,   2155.9,2,  3.29457975
  18HU19931105, AR13a,    39,  1,     36,2,19931129, 711, 43.0317, -48.4930, 2786,   1398.3,   3.1452,  34.8660,2,  34.8671,2,    286.6,2,    296.7,2,    10.56,2,    17.07,6,     1.20,2,    2.785,2,    1.400,2,    0.161,2,    3.802,2,   2155.1,2,  3.04350738
  18HU19931105, AR13a,    39,  1,     35,2,19931129, 711, 43.0317, -48.4930, 2786,   1593.7,   3.0440,  34.8556,2,  34.8563,2,    290.5,2,    301.5,2,    10.54,2,    16.91,6,     1.19,2,    3.000,2,    1.600,2,    0.135,2,    4.222,2,   2151.9,2,  2.92698591
  18HU19931105, AR13a,    39,  1,     34,2,19931129, 711, 43.0317, -48.4930, 2786,   1794.5,   3.1092,  34.8740,2,  34.8722,2,    287.0,2,    296.3,2,    10.86,2,    16.81,6,     1.19,2,    2.492,2,    1.106,2,    0.107,2,    3.450,2,   2153.8,2,  2.97378666
  18HU19931105, AR13a,    39,  1,     33,2,19931129, 711, 43.0317, -48.4930, 2786,   1995.6,   3.1617,  34.8953,2,  34.8911,2,    282.0,2,    289.8,2,    11.71,2,    17.08,6,     1.21,2,    1.705,2,    0.798,2,    0.088,2,    2.592,2,   2154.9,2,  3.00726536
  18HU19931105, AR13a,    39,  1,     32,2,19931129, 711, 43.0317, -48.4930, 2786,   2196.3,   3.1233,  34.9050,2,  34.8646,2,    280.1,2,    287.3,2,    12.07,2,    16.80,6,     1.23,2,    1.751,2,    0.785,2,    0.068,2,    2.777,2,   2151.2,2,  2.95079386
  18HU19931105, AR13a,    39,  1,     31,2,19931129, 711, 43.0317, -48.4930, 2786,   2452.9,   3.0162,  34.9248,2,  34.8662,2,    278.5,2,    284.3,2,    13.24,2,    16.59,6,     1.21,2,    1.145,2,    0.597,2,    0.031,2,    1.993,2,   2157.5,2,  2.82084489
  18HU19931105, AR13a,    39,  1,     30,2,19931129, 711, 43.0317, -48.4930, 2786,   2660.3,   2.7959,  34.9218,2,  34.9218,2,    279.8,2,    285.9,2,    14.46,2,    16.66,6,     1.20,2,    1.099,2,    0.376,2,    0.028,2,    1.972,2,   2158.3,2,  2.58403929
  18HU19931105, AR13a,    39,  1,     29,2,19931129, 711, 43.0317, -48.4930, 2786,   2778.7,   2.6974,  34.9193,2,  34.9161,2,    281.6,2,    284.2,2,    14.36,2,    16.77,6,     1.21,2,    1.232,2,    0.570,2,    0.164,3,    2.153,2,   2157.6,2,  2.47572413
  18HU19931105, AR13a,    40,  1,     63,2,19931129,1102, 43.0838, -48.9140, 1973,      4.5,   6.5747,  33.1406,2,  33.1493,2,    239.9,2,    311.7,0,     1.44,2,     1.31,6,     0.33,2,    4.163,2,    2.048,2,    0.256,2,    6.128,2,   2043.2,2,  6.57431239
  18HU19931105, AR13a,    40,  1,     62,2,19931129,1102, 43.0838, -48.9140, 1973,     51.4,   6.3718,  33.1525,2,  33.1540,2,    293.9,2,    311.6,2,     1.57,2,     1.49,6,     0.31,2,    4.238,2,    2.111,2,    0.244,2,    6.037,2,   2043.2,2,  6.36743645
  18HU19931105, AR13a,    40,  1,     61,2,19931129,1102, 43.0838, -48.9140, 1973,    101.6,   1.5769,  34.0134,2,  34.0008,2,    294.8,2,    305.9,2,     6.88,2,    12.53,6,     0.98,2,    4.890,2,    2.345,2,    0.287,2,    6.253,2,   2124.4,2,  1.57200924
  18HU19931105, AR13a,    40,  1,     60,2,19931129,1102, 43.0838, -48.9140, 1973,    204.9,   3.4445,  34.6586,2,  34.6571,2,    272.4,2,    281.5,2,     9.66,2,    16.79,6,     1.17,2,    3.710,2,    1.832,2,    0.197,2,    4.574,2,   2152.6,2,  3.43109508
  18HU19931105, AR13a,    40,  1,     59,2,19931129,1102, 43.0838, -48.9140, 1973,    300.7,   3.7996,  34.8196,2,  34.8206,2,    277.8,2,    288.3,2,     9.45,2,    17.08,6,     1.15,2,    3.683,2,    1.846,2,    0.199,2,    4.765,2,   2154.3,2,  3.77876391
  18HU19931105, AR13a,    40,  1,     58,2,19931129,1102, 43.0838, -48.9140, 1973,    451.2,   3.7548,  34.8749,2,  34.8761,2,    277.6,2,    287.2,2,     9.91,2,    17.56,6,     1.22,2,    3.348,2,    1.742,2,    0.245,2,    4.496,2,   2156.0,2,  3.72312541
  18HU19931105, AR13a,    40,  1,     57,2,19931129,1102, 43.0838, -48.9140, 1973,    598.6,   3.6303,  34.8823,2,  34.8837,2,    281.7,2,    292.5,2,    10.05,2,    17.19,6,     1.17,2,    3.248,2,    1.619,2,    0.164,2,    4.649,2,   2155.6,2,  3.58817418
  18HU19931105, AR13a,    40,  1,     56,2,19931129,1102, 43.0838, -48.9140, 1973,    751.7,   3.3327,  34.8663,2,  34.8680,2,    287.6,2,    299.1,2,    10.19,2,    17.18,6,     1.17,2,    2.828,2,    2.443,3, -999.000,9,    4.525,2,   2155.0,2,  3.28068405
  18HU19931105, AR13a,    40,  1,     55,2,19931129,1102, 43.0838, -48.9140, 1973,    894.9,   3.2001,  34.8604,2,  34.8623,2,    288.1,2,    296.8,2,    10.21,2,    16.98,6,     1.16,2,    3.109,2,    1.593,2,    0.138,2,    4.605,2,   2154.5,2,  3.13811569
  18HU19931105, AR13a,    40,  1,     54,2,19931129,1102, 43.0838, -48.9140, 1973,   1093.3,   3.1391,  34.8580,2,  34.8597,2,    289.1,2,    299.9,2,    10.46,2,    16.79,6,     1.15,2,    3.070,2,    1.503,2,    0.136,2,    4.585,2,   2154.0,2,  3.06221538
  18HU19931105, AR13a,    40,  1,     53,2,19931129,1102, 43.0838, -48.9140, 1973,   1293.7,   3.1697,  34.8744,2,  34.8763,2,    286.6,2,    295.6,2,    11.01,2,    17.05,6,     1.17,2,    2.419,2,    1.260,2,    0.101,2,    3.779,2,   2158.1,2,  3.07638549
  18HU19931105, AR13a,    40,  1,     52,2,19931129,1102, 43.0838, -48.9140, 1973,   1492.7,   3.0628,  34.8627,2,  34.8648,2,    290.0,2,    300.7,2,    10.85,2,    16.86,6,     1.16,2,    2.660,2,    2.054,3, -999.000,9,    4.019,2,   2152.9,2,  2.95411394
  18HU19931105, AR13a,    40,  1,     51,2,19931129,1102, 43.0838, -48.9140, 1973,   1703.0,   3.0448,  34.8614,2,  34.8621,2,    291.7,2,    300.1,2,    10.89,2,    16.70,6,     1.15,2,    2.769,2,    1.374,2,    0.130,2,    4.184,2,   2149.9,2,  2.91832304
  18HU19931105, AR13a,    40,  1,     50,2,19931129,1102, 43.0838, -48.9140, 1973,   1908.4,   3.0951,  34.8760,2,  34.8764,2,    290.1,2,    296.9,2,    11.25,2,    16.72,6,     1.21,2,    2.297,2,    1.202,2,    0.097,2,    3.640,2,   2154.1,2,  2.94965184
  18HU19931105, AR13a,    40,  1,     49,2,19931129,1102, 43.0838, -48.9140, 1973,   1964.5,   3.0983,  34.8788,2,  34.8762,2,    289.7,2,    295.9,2,    11.25,2,    17.01,6,     1.20,2,    2.283,2,    1.266,2,    0.096,2,    3.601,2,   2155.1,2,  2.94770664
  18HU19931105, AR13a,    41,  1,     73,2,19931129,1326, 43.1663, -49.0980, 1187,     51.0,   3.7053,  33.1203,2,  33.1228,2,    314.9,2,    332.6,2,     1.80,2,     2.22,6,     0.40,2,    5.116,2,    2.437,2,    0.290,2,    7.753,2,   2058.3,2,  3.70205446
  18HU19931105, AR13a,    41,  1,     72,2,19931129,1326, 43.1663, -49.0980, 1187,    101.3,   2.1983,  33.6784,2,  33.6665,2,    307.6,2,    320.7,2,     4.70,2,     8.18,6,     0.73,2,    5.120,2,    2.462,2,    0.300,2,    6.816,2,   2099.7,2,   2.1929634
  18HU19931105, AR13a,    41,  1,     71,2,19931129,1326, 43.1663, -49.0980, 1187,    202.0,   2.9177,  34.5501,2,  34.5488,2,    285.3,2,    293.2,2,     9.07,2,    15.27,6,     1.09,2,    4.237,2,    2.046,2,    0.231,2,    5.196,2,   2144.1,2,  2.90538527
  18HU19931105, AR13a,    41,  1,     70,2,19931129,1326, 43.1663, -49.0980, 1187,    302.8,   3.7622,  34.7766,2,  34.7741,2,    281.9,2,    291.2,2,     9.15,2,    16.25,6,     1.10,2,    3.979,2,    1.977,2,    0.205,2,    4.987,2,   2149.6,2,  3.74132758
  18HU19931105, AR13a,    41,  1,     69,2,19931129,1326, 43.1663, -49.0980, 1187,    400.2,   3.8964,  34.8511,2,  34.8528,2,    283.6,2,    292.7,2,     9.30,2,    16.57,6,     1.11,2,    3.792,2,    1.814,2,    0.192,2,    5.025,2,   2151.2,2,  3.86803189
  18HU19931105, AR13a,    41,  1,     68,2,19931129,1326, 43.1663, -49.0980, 1187,    503.4,   3.6662,  34.8748,2,  34.8749,2,    285.4,2,    295.6,2,     9.72,2,    16.82,6,     1.14,2,    3.744,2,    0.992,2,    0.076,2,    6.002,2,   2152.3,2,  3.63101029
  18HU19931105, AR13a,    41,  1,     67,2,19931129,1326, 43.1663, -49.0980, 1187,    702.5,   3.4199,  34.8702,2,  34.8711,2,    288.2,2,    298.0,2,    10.07,2,    16.75,6,     1.13,2,    3.410,2,    1.653,2,    0.162,2,    4.788,2,   2154.5,2,  3.37107281
  18HU19931105, AR13a,    41,  1,     66,2,19931129,1326, 43.1663, -49.0980, 1187,    899.2,   3.3277,  34.8665,2,  34.8674,2,    289.4,2,    297.8,2,     9.87,2,    16.67,6,     1.19,2,    3.272,2,    1.583,2,    0.150,2,    4.686,2,   2152.5,2,  3.26448417
  18HU19931105, AR13a,    41,  1,     65,2,19931129,1326, 43.1663, -49.0980, 1187,   1099.8,   3.2628,  34.8625,2,  34.8654,2,    290.9,2,    299.7,2,     9.99,2,    17.00,6,     1.13,2,    3.194,2,    1.546,2,    0.147,2,    4.739,2,   2155.2,2,  3.18433807
  18HU19931105, AR13a,    41,  1,     64,2,19931129,1326, 43.1663, -49.0980, 1187,   1185.1,   3.1849,  34.8585,2,  34.8538,2,    293.3,2,    298.3,2,    10.15,2,    17.00,6,     1.19,2,    3.214,2,    1.562,2,    0.132,2,    4.651,2,   2154.7,2,  3.10031242
  18HU19931105, AR13a,    42,  1,     83,2,19931129,1540, 43.1968, -49.2840,  875,     32.7,   1.8923,  32.9866,2,  32.9820,2,    320.7,2,    345.3,2,     2.22,2,     2.76,6,     0.46,2, -999.000,9, -999.000,9, -999.000,9, -999.000,9,   2071.9,2,  1.89071993
  18HU19931105, AR13a,    42,  1,     82,2,19931129,1540, 43.1968, -49.2840,  875,     82.3,  -0.5144,  33.6230,2,  33.6009,2,    302.8,2,    314.7,2,    10.57,2,    10.97,6,     1.09,2, -999.000,9, -999.000,9, -999.000,9, -999.000,9,   2136.0,2,-0.516827889
  18HU19931105, AR13a,    42,  1,     81,2,19931129,1540, 43.1968, -49.2840,  875,    131.7,  -0.3319,  33.7310,2,  33.7287,2,    308.1,2,    312.1,2,    10.98,2,    11.74,6,     1.05,2, -999.000,9, -999.000,9, -999.000,9, -999.000,9,   2135.0,2,-0.336085247
  18HU19931105, AR13a,    42,  1,     80,2,19931129,1540, 43.1968, -49.2840,  875,    203.9,   0.1517,  33.8682,2,  33.8648,2,    304.2,2,    307.7,2,    10.92,2,    12.41,6,     1.06,2,    4.623,2,    2.740,2,    0.286,2,    5.750,2,   2137.3,2, 0.144190906
  18HU19931105, AR13a,    42,  1,     79,2,19931129,1540, 43.1968, -49.2840,  875,    287.0,   0.9664,  34.1058,2,  34.1055,2,    297.4,2,    298.8,2,    11.35,2,    13.63,6,     1.08,2,    4.386,2,    2.616,2,    0.255,2,    5.435,2,   2140.7,2, 0.953523508
  18HU19931105, AR13a,    42,  1,     78,2,19931129,1540, 43.1968, -49.2840,  875,    403.6,   3.3747,  34.6845,2,  34.6801,2,    282.7,2,    286.5,2,    10.71,2,    15.85,6,     1.11,2,    3.569,2,    1.827,2,    0.194,2,    4.213,2,   2152.1,2,  3.34786969
  18HU19931105, AR13a,    42,  1,     77,2,19931129,1540, 43.1968, -49.2840,  875,    502.6,   3.7897,  34.8087,2,  34.8059,2,    282.7,2,    287.7,2,    10.57,2,    16.74,6,     1.12,2,    3.374,2,    1.754,2,    0.174,2,    4.114,2,   2154.9,2,  3.75413917
  18HU19931105, AR13a,    42,  1,     76,2,19931129,1540, 43.1968, -49.2840,  875,    636.0,   3.8470,  34.8460,2,  34.8442,2,    285.5,2,    290.2,2,    10.19,2,    16.71,6,     1.11,2,    3.373,2,    2.079,2,    0.172,2,    4.239,2,   2154.8,2,  3.80102074
  18HU19931105, AR13a,    42,  1,     75,2,19931129,1540, 43.1968, -49.2840,  875,    800.3,   3.7198,  34.8622,2,  34.8634,2,    289.1,2,    294.2,2,    10.07,2,    16.65,6,     1.13,2,    3.454,2,    2.093,2,    0.183,2,    4.612,2,   2153.5,2,  3.66170559
  18HU19931105, AR13a,    42,  1,     74,2,19931129,1540, 43.1968, -49.2840,  875,    866.4,   3.6407,  34.8654,2,  34.4956,0,    290.4,2,    295.4,2,    10.01,2,    14.86,4,     1.13,2,    3.537,2,    1.780,2,    0.209,2,    4.839,2,   2153.6,2,  3.57789984
  18HU19931105, AR13a,    43,  1,     89,2,19931129,1715, 43.2433, -49.4000,  467,     44.5,   1.8265,  32.8479,2,  32.8427,2,    325.9,2,    349.0,2,     2.40,2,     2.60,6,     0.50,2,    4.627,2,    2.743,2,    0.287,2,    5.755,2,   2069.7,2,   1.8243809
  18HU19931105, AR13a,    43,  1,     88,2,19931129,1715, 43.2433, -49.4000,  467,    146.6,  -0.5298,  33.5828,2,  33.5795,2,    304.1,2,    315.5,2,    10.12,2,    10.80,6,     1.05,2, -999.000,9, -999.000,9, -999.000,9, -999.000,9,   2125.9,2,-0.534188491
  18HU19931105, AR13a,    43,  1,     87,2,19931129,1715, 43.2433, -49.4000,  467,    299.1,  -0.1706,  33.7878,2,  33.7836,2,    300.7,2,    310.8,2,    10.66,2,    12.06,6,     1.07,2,    4.788,2,    2.404,2,    0.286,2,    6.016,2,   2134.8,2,-0.181013492
  18HU19931105, AR13a,    43,  1,     86,2,19931129,1715, 43.2433, -49.4000,  467,    377.7,   0.4685,  33.9610,2,  33.9685,2,    296.3,2,    302.8,2,    10.83,2,    12.86,6,     1.07,2,    4.372,2,    2.352,2,    0.270,2,    5.418,2,   2138.6,2, 0.452915164
  18HU19931105, AR13a,    43,  1,     85,2,19931129,1715, 43.2433, -49.4000,  467,    426.5,   1.5857,  34.2632,2,  34.2630,2,    285.9,2,    293.9,2,    11.19,2,    14.21,6,     1.09,2,    4.687,2,    2.802,2,    0.276,2,    5.926,2,   2144.3,2,  1.56374492
  18HU19931105, AR13a,    43,  1,     84,2,19931129,1715, 43.2433, -49.4000,  467,    458.2,   1.7812,  34.3108,2,  33.9117,0,    284.2,2,    293.1,2,    10.45,2,    12.73,6,     1.08,2,    3.838,2,    2.277,2,    0.215,2,    4.635,2,   2141.5,2,  1.75671821
  18HU19931105, AR13a,    44,  1,     93,2,19931129,1848, 43.2812, -49.5830,  220,     43.8,   1.6687,  32.7850,2,  32.7847,2,    321.9,2,    337.8,2,     4.27,2,     3.87,6,     0.65,2,    4.851,2,    2.452,2,    0.309,2,    6.832,2,   2081.2,2,  1.66667696
  18HU19931105, AR13a,    44,  1,     92,2,19931129,1848, 43.2812, -49.5830,  220,     96.6,   0.8939,  32.9496,2,  32.9483,2,    313.5,2,    325.9,2,     6.50,2,     5.91,6,     0.83,2,    5.108,2,    2.553,2,    0.363,2,    6.633,2,   2101.8,2, 0.889994197
  18HU19931105, AR13a,    44,  1,     91,2,19931129,1848, 43.2812, -49.5830,  220,    147.4,   0.1322,  33.1187,2,  33.1167,2,    315.3,2,    324.7,2,     7.62,2,     7.26,6,     0.92,2,    4.589,2,    2.588,2,    0.273,2,    6.026,2,   2114.8,2,   0.1270795
  18HU19931105, AR13a,    44,  1,     90,2,19931129,1848, 43.2812, -49.5830,  220,    197.1,  -0.1172,  33.2212,2,  33.2231,2,    317.8,2,    320.6,2,     8.36,2,     7.97,6,     1.00,2,    4.790,2,    2.325,2,    0.302,2,    6.119,2,   2118.9,2,-0.123757523
  18HU19931105, AR13a,    45,  1,     97,2,19931130, 951, 45.7980, -48.1670,  162,      9.4,   1.2321,  32.8403,2,  32.8403,2,    313.3,2,    352.4,2,     2.78,2,     3.36,6,     0.58,2,    5.069,2,    3.175,2,    0.439,2,    8.430,2,   2075.6,2,  1.23170226
  18HU19931105, AR13a,    45,  1,     96,2,19931130, 951, 45.7980, -48.1670,  162,     60.0,  -1.1588,  33.4271,2,  33.4167,2,    296.6,2,    318.8,2,    10.50,2,    10.02,6,     1.09,2,    4.608,2,    2.685,2,    0.354,2,    6.580,2,   2137.8,2, -1.16020041
  18HU19931105, AR13a,    45,  1,     95,2,19931130, 951, 45.7980, -48.1670,  162,    100.6,  -1.1542,  33.4383,2,  33.4392,2,    300.0,2,    317.3,2,    10.93,2,    10.26,6,     1.10,2,    4.948,2,    2.396,2,    0.375,2,    7.099,2,   2136.2,2, -1.15659616
  18HU19931105, AR13a,    45,  1,     94,2,19931130, 951, 45.7980, -48.1670,  162,    143.8,  -1.1547,  33.4375,2,  33.4392,2,    305.2,2,    314.7,2,    10.85,2,    10.26,6,     1.11,2,    4.938,2,    2.635,2,    0.346,2,    7.031,2,   2135.6,2,  -1.1581848
  18HU19931105, AR13a,    46,  1,      2,2,19931130,1129, 45.7148, -48.0860,  446,      7.8,   1.5545,  32.6945,2,  32.6961,2,    319.1,2,    352.7,2,     2.90,2,     2.95,6,     0.59,2,    5.187,2,    2.624,2,    0.438,2,    8.746,2,   2072.0,2,  1.55415093
  18HU19931105, AR13a,    46,  1,      1,2,19931130,1129, 45.7148, -48.0860,  446,     99.3,  -0.5813,  33.6467,2,  33.6426,2,    301.5,2,    317.4,2,    10.00,2,    10.75,6,     1.04,2,    4.535,2,    2.561,2,    0.328,2,    6.604,2,   2129.3,2,-0.584196005
  18HU19931105, AR13a,    46,  1,      0,2,19931130,1129, 45.7148, -48.0860,  446,    215.4,   1.0483,  34.1416,2,  34.1382,2,    284.8,2,    298.3,2,    11.14,2,    13.45,6,     1.08,2,    4.412,2,    2.169,2,    0.292,2,    6.016,2,   2143.4,2,  1.03861171
  18HU19931105, AR13a,    46,  1,     99,2,19931130,1129, 45.7148, -48.0860,  446,    342.0,   2.3897,  34.4571,2,  34.4535,2,    274.9,2,    286.8,2,    11.87,2,    14.80,6,     1.12,2,    3.931,2,    1.906,2,    0.267,2,    5.589,2,   2152.3,2,  2.36997879
  18HU19931105, AR13a,    46,  1,     98,2,19931130,1129, 45.7148, -48.0860,  446,    436.8,   2.8386,  34.5564,2,  34.5548,2,    271.8,2,    283.2,2,    11.80,2,    15.45,6,     1.17,2,    3.967,2,    1.875,2,    0.265,2,    5.166,2,   2151.7,2,  2.81141388