BOTTLE,20081201PRINUNIVRMK
EXPOCODE,SECT_ID,STNNBR,CASTNO,BTLNBR,BTLNBR_FLAG_W,DATE,TIME,LATITUDE,LONGITUDE,DEPTH,CTDPRS,CTDTMP,CTDSAL,CTDSAL_FLAG_W,SALNTY,SALNTY_FLAG_W,CTDOXY,CTDOXY_FLAG_W,OXYGEN,OXYGEN_FLAG_W,SILCAT,SILCAT_FLAG_W,NITRAT,NITRAT_FLAG_W,PHSPHT,PHSPHT_FLAG_W,CFC-11,CFC-11_FLAG_W,CFC-12,CFC-12_FLAG_W,CFC113,CFC113_FLAG_W,CCL4,CCL4_FLAG_W,TCARBN,TCARBN_FLAG_W,THETA
,,,,,,,,,,METERS,DBARS,ITS-90,PSS-78,,PSS-78,,UMOL/KG,,UMOL/KG,,UMOL/KG,,UMOL/KG,,UMOL/KG,,PMOL/KG,,PMOL/KG,,PMOL/KG,,PMOL/KG,,UMOL/KG,,DEGC
  18HU19931105, AR13a,    12,  1,      8,2,19931120,1722, 39.5045, -50.2570, 5401,     14.8,  21.8638,  36.4533,2,  36.4568,2,    205.5,2,    219.6,2,     1.06,2,     0.00,6,     0.00,2,    1.849,2,    1.036,2,    0.126,2,    2.381,2,   2037.7,2,   21.860871
  18HU19931105, AR13a,    12,  1,      7,2,19931120,1722, 39.5045, -50.2570, 5401,     85.4,  21.8761,  36.4520,2,  36.4577,2,    202.8,2,    220.7,2,     1.05,2,     0.00,6,     0.00,2,    2.400,2,    1.141,2,    0.155,2,    2.308,2,   2040.9,2,  21.8591734
  18HU19931105, AR13a,    12,  1,      6,2,19931120,1722, 39.5045, -50.2570, 5401,    210.3,  18.7181,  36.5754,2,  36.5804,2,    195.9,2,    205.0,2,     1.48,2,     3.05,6,     0.14,2,    3.429,3,    1.111,2,    0.082,2,    0.651,2,   2085.2,2,  18.6806027
  18HU19931105, AR13a,    12,  1,      5,2,19931120,1722, 39.5045, -50.2570, 5401,    392.7,  17.8941,  36.5050,2,  36.5090,2,    199.9,2,    214.0,2,     1.79,2,     4.04,6,     0.19,2,    3.419,3,    1.330,2,    0.108,2,    0.837,2,   2090.2,2,  17.8259613
  18HU19931105, AR13a,    12,  1,      4,2,19931120,1722, 39.5045, -50.2570, 5401,    617.9,  15.2270,  36.0253,2,  36.0303,2,    173.2,2,    178.3,2,     4.57,2,    11.92,6,     0.66,2, -999.000,9, -999.000,9, -999.000,9, -999.000,9,   2127.9,3,  15.1304933
  18HU19931105, AR13a,    12,  1,      2,2,19931120,1722, 39.5045, -50.2570, 5401,    804.1,  11.1739,  35.4213,2,  35.4374,2,    152.4,2,    152.0,2,    10.73,2,    21.46,6,     1.36,2,    1.320,2,    0.709,2,    0.051,2,    0.357,2,   2170.2,2,  11.0705494
  18HU19931105, AR13a,    12,  1,      3,2,19931120,1722, 39.5045, -50.2570, 5401,    807.7,  11.1177,  35.4147,2,  35.4252,2,    151.6,2,    150.3,2,    11.09,2,    21.97,6,     1.35,2,    1.081,2,    0.529,2,    0.056,2,    0.349,2,   2175.2,2,   11.014203
  18HU19931105, AR13a,    12,  1,      1,2,19931120,1722, 39.5045, -50.2570, 5401,   1000.8,   7.3990,  35.0936,2,  35.1012,2,    181.6,2,    178.3,2,    13.93,2,    23.32,6,     1.51,2,    0.757,2,    0.465,2,    0.041,2,    0.887,2,   2181.3,2,  7.29675709
  18HU19931105, AR13a,    12,  1,      0,2,19931120,1722, 39.5045, -50.2570, 5401,   1241.5,   5.4382,  35.0643,2,  35.0694,2,    227.2,2,    231.9,2,    12.10,2,    19.80,6,     1.31,2,    1.206,2,    0.651,2,    0.059,2,    1.741,2,   2168.7,2,  5.32740964
  18HU19931105, AR13a,    12,  1,     99,2,19931120,1722, 39.5045, -50.2570, 5401,   1396.6,   4.7899,  35.0233,2,  35.1104,2,    243.1,2,    246.7,2,    11.20,2,    18.17,6,     1.17,2,    3.205,3,    0.629,2,    0.080,2,    2.036,2,   2159.5,2,  4.67041041
  18HU19931105, AR13a,    12,  1,     97,2,19931120,1722, 39.5045, -50.2570, 5401,   1985.6,   3.7298,  34.9421,2,  34.9449,2,    262.6,2,    277.1,2,    12.40,2,    18.13,6,     1.19,2,    2.499,3,    0.670,2,    0.055,2,    2.344,2,   2154.8,2,  3.56771642
  18HU19931105, AR13a,    12,  1,     98,2,19931120,1722, 39.5045, -50.2570, 5401,   1992.0,   3.7219,  34.9416,2,  34.9416,2,    262.7,2,   -999.0,9,    12.40,2,    20.05,4,     1.30,3,    1.168,2,    0.918,2,    0.060,2,    1.594,2,   2168.1,3,   3.5593288
  18HU19931105, AR13a,    12,  1,     96,2,19931120,1722, 39.5045, -50.2570, 5401,   2261.7,   3.5497,  34.9403,2,  34.9443,2,    262.4,2,    275.4,2,    13.03,2,    17.94,6,     1.16,2,    1.279,2,    0.623,2,    0.037,2,    2.026,2,   2154.9,2,  3.36356637
  18HU19931105, AR13a,    12,  1,     95,2,19931120,1722, 39.5045, -50.2570, 5401,   2556.5,   3.4651,  34.9589,2,  34.9593,2,    258.8,2,    272.6,2,    15.07,2,    18.01,6,     1.17,2,    0.953,2,    0.529,2,    0.048,2,    1.188,2,   2161.1,2,  3.25080603
  18HU19931105, AR13a,    12,  1,     94,2,19931120,1722, 39.5045, -50.2570, 5401,   2851.0,   3.2335,  34.9538,2,  34.9538,2,    258.6,2,   -999.0,9,  -999.00,9,     1.69,4,  -999.00,9,    2.189,3,    1.201,3,    0.103,2,    1.571,2,   -999.0,9,  2.99332585
  18HU19931105, AR13a,    12,  1,     92,2,19931120,1722, 39.5045, -50.2570, 5401,   3719.3,   2.5452,  34.9170,2,  34.9170,2,    263.5,2,   -999.0,9,    18.26,2,    18.39,6,     1.21,2,    1.557,3,    0.412,2,    0.037,2,    1.194,2,   2158.3,2,  2.22738884
  18HU19931105, AR13a,    12,  1,     93,2,19931120,1722, 39.5045, -50.2570, 5401,   3719.7,   2.5432,  34.9170,2,  34.9666,2,    263.4,2,    271.3,2,    20.18,2,    18.45,6,     1.21,2,    0.871,2,    0.387,2,    0.036,2,    1.155,2,   2160.2,2,  2.22510613
  18HU19931105, AR13a,    12,  1,     91,2,19931120,1722, 39.5045, -50.2570, 5401,   4244.1,   2.3329,  34.8999,2,  34.8999,2,    263.9,2,   -999.0,9,    16.73,2,    18.15,6,     1.18,2,    2.387,3,    0.570,2,    0.049,2,    1.378,2,   2157.5,2,  1.96102276
  18HU19931105, AR13a,    12,  1,     90,2,19931120,1722, 39.5045, -50.2570, 5401,   4788.1,   2.2719,  34.8884,2,  34.8883,2,    264.0,2,    270.5,2,    33.94,2,    20.46,6,     1.34,2,    0.660,2,    0.316,2,    0.039,2,    0.624,2,   2176.6,2,  1.83652303
  18HU19931105, AR13a,    12,  1,     89,2,19931120,1722, 39.5045, -50.2570, 5401,   5255.5,   2.2862,  34.8830,2,  34.9046,2,    263.8,2,    265.8,2,    33.93,2,    20.62,6,     1.32,2,    1.178,2,    0.331,2,    0.035,2,    0.845,2,   2181.8,2,  1.79117225
  18HU19931105, AR13a,    13,  1,     28,2,19931120,2359, 39.0035, -50.2500, 5415,     46.8,  21.8786,  36.4318,2,  36.4350,2,    202.6,2,    222.3,2,     0.91,2,     0.00,6,     0.00,2,    1.792,2,    1.177,2,    0.079,2,    2.265,2,   2041.5,2,  21.8693299
  18HU19931105, AR13a,    13,  1,     27,2,19931120,2359, 39.0035, -50.2500, 5415,     46.8,  21.8786,  36.4318,2,  36.4388,2,    202.6,2,    220.7,2,     0.86,2,     0.00,6,     0.00,2,    1.828,2,    1.826,2,    0.097,2,    2.282,2,   2041.6,2,  21.8693297
  18HU19931105, AR13a,    13,  1,     26,2,19931120,2359, 39.0035, -50.2500, 5415,    293.0,  18.1239,  36.5318,2,  36.5349,2,    200.4,2,    214.2,2,     1.48,2,     3.52,6,     0.17,2,    2.059,2,    1.220,2,    0.078,2,    0.773,2,   2089.7,2,  18.0727224
  18HU19931105, AR13a,    13,  1,     25,2,19931120,2359, 39.0035, -50.2500, 5415,    593.1,  15.4634,  36.0810,2,  36.0851,2,    186.6,2,    198.4,2,     3.48,2,     9.40,6,     0.55,2,    1.756,2,    1.024,2,    0.054,2,    0.763,2,   2121.6,3,  15.3698517
  18HU19931105, AR13a,    13,  1,     24,2,19931120,2359, 39.0035, -50.2500, 5415,    884.6,  10.0623,  35.2983,2,  35.3012,2,    161.4,2,    159.2,2,    11.61,2,    21.76,6,     1.40,2,    0.884,2,    0.528,2,    0.021,2,    0.572,2,   2176.9,2,  9.95531106
  18HU19931105, AR13a,    13,  1,     23,2,19931120,2359, 39.0035, -50.2500, 5415,   1182.2,   5.6073,  35.0317,2,  35.0515,2,    219.3,2,    224.2,2,    12.69,2,    20.65,6,     1.32,2,    1.195,2,    0.691,2,    0.031,2,    1.600,2,   2174.3,2,  5.50083197
  18HU19931105, AR13a,    13,  1,     22,2,19931120,2359, 39.0035, -50.2500, 5415,   1486.7,   4.3592,  34.9776,2,  34.9993,2,    250.5,2,    258.8,2,    11.62,2,    18.69,6,     1.21,2,    1.432,2,    0.762,2,    0.046,2,    2.180,2,   2162.9,2,  4.23610228
  18HU19931105, AR13a,    13,  1,     21,2,19931120,2359, 39.0035, -50.2500, 5415,   1787.5,   3.9445,  34.9532,2,  34.9602,2,    259.3,2,    272.5,2,    12.08,2,    18.19,6,     1.17,2,    1.241,2,    0.632,2,    0.035,2,    2.278,2,   2159.1,2,  3.79825947
  18HU19931105, AR13a,    13,  1,     19,2,19931120,2359, 39.0035, -50.2500, 5415,   2086.9,   3.7410,  34.9480,2,  35.0171,2,    261.4,2,    264.3,2,    11.98,2,    18.06,6,     1.13,2,    1.079,2,    0.577,2,    0.032,2,    1.949,2,   2159.0,2,  3.56870067
  18HU19931105, AR13a,    13,  1,     20,2,19931120,2359, 39.0035, -50.2500, 5415,   2088.9,   3.7409,  34.9481,2,  34.9488,2,    262.1,2,    274.4,2,    12.65,2,    18.26,6,     1.17,2,    0.975,2,    0.604,2,    0.033,2,    2.057,2,   2161.2,2,  3.56863778
  18HU19931105, AR13a,    13,  1,     18,2,19931120,2359, 39.0035, -50.2500, 5415,   2686.6,   3.3841,  34.9556,2,  34.9556,2,    259.5,2,   -999.0,9,    10.60,2,    17.61,6,     1.12,2,    1.235,2,    0.919,2,    0.034,2,    1.542,2,   2158.1,2,  3.15799705
  18HU19931105, AR13a,    13,  1,     17,2,19931120,2359, 39.0035, -50.2500, 5415,   2997.6,   3.1281,  34.9488,2,  34.9535,2,    259.7,2,    273.1,2,    18.31,2,    18.30,6,     1.21,2,    0.335,2,    0.205,2,    0.000,2,    0.993,2,   2162.7,2,  2.87471815
  18HU19931105, AR13a,    13,  1,     16,2,19931120,2359, 39.0035, -50.2500, 5415,   3296.5,   2.8542,  34.9357,2,  34.9394,2,    260.0,2,    273.3,2,    20.78,2,    18.28,6,     1.23,2,    0.292,2,    0.154,2,    0.011,2,    1.425,2,   2165.2,2,  2.57507039
  18HU19931105, AR13a,    13,  1,     15,2,19931120,2359, 39.0035, -50.2500, 5415,   3594.2,   2.6183,  34.9217,2,  34.9217,2,    263.1,2,    277.4,2,    22.30,2,    18.27,6,     1.22,2,    0.392,2,    0.270,2,    0.021,2,    0.928,2,   2163.9,2,  2.31248131
  18HU19931105, AR13a,    13,  1,     14,2,19931120,2359, 39.0035, -50.2500, 5415,   3892.2,   2.4581,  34.9109,2,  34.9109,2,    263.4,2,   -999.0,9,  -999.00,9,     5.74,4,  -999.00,9,    1.697,2,    0.968,3,    0.046,2,    0.867,2,   -999.0,9,  2.12318523
  18HU19931105, AR13a,    13,  1,     13,2,19931120,2359, 39.0035, -50.2500, 5415,   4200.2,   2.3510,  34.9018,2,  34.9503,2,    263.6,2,    270.3,2,    22.58,2,    18.41,6,     1.26,2, -999.000,9, -999.000,9, -999.000,9, -999.000,9,   2168.7,2,  1.98339895
  18HU19931105, AR13a,    13,  1,     12,2,19931120,2359, 39.0035, -50.2500, 5415,   4505.6,   2.3135,  34.8965,2,  34.9125,2,    264.5,2,    272.1,2,    27.52,2,    18.79,6,     1.30,2,    0.466,2,    0.254,2,    0.020,2,    1.031,2,   2173.0,2,  1.91107485
  18HU19931105, AR13a,    13,  1,     11,2,19931120,2359, 39.0035, -50.2500, 5415,   4813.0,   2.2943,  34.8911,2,  34.8911,2,    264.7,2,   -999.0,9,  -999.00,9,    15.86,4,  -999.00,9,    2.786,3,    1.447,4,    0.470,4,    3.677,4,   -999.0,9,  1.85509723
  18HU19931105, AR13a,    13,  1,     10,2,19931120,2359, 39.0035, -50.2500, 5415,   5106.1,   2.2868,  34.8860,2,  34.8861,2,    263.8,2,    270.0,2,    34.92,2,    20.02,6,     1.36,2,    0.355,2,    0.191,2,    0.017,2,    0.886,2,   2176.4,2,  1.81105706
  18HU19931105, AR13a,    13,  1,      9,2,19931120,2359, 39.0035, -50.2500, 5415,   5408.7,   2.2687,  34.8780,2,  34.8886,2,    262.8,2,    265.3,2,    39.41,2,    20.77,6,     1.39,2,    0.253,2,    0.170,2,    0.015,2,    0.570,2,   2186.2,2,  1.75450317
  18HU19931105, AR13a,    14,  1,     48,2,19931121, 612, 38.5055, -50.2480, 5417,     10.1,  21.9928,  36.4407,2,  36.4436,2,    204.3,2,    219.8,2,  -999.00,9,  -999.00,9,  -999.00,9,    2.128,2,    0.899,2,    0.140,2,    2.271,2,   2038.4,2,  21.9907931
  18HU19931105, AR13a,    14,  1,     47,2,19931121, 612, 38.5055, -50.2480, 5417,     10.1,  21.9928,  36.4407,2,  36.4442,2,    204.3,2,    220.1,2,  -999.00,9,  -999.00,9,  -999.00,9,    1.738,2,    1.039,2,    0.143,2,    2.265,2,   2038.1,2,   21.990793
  18HU19931105, AR13a,    14,  1,     46,2,19931121, 612, 38.5055, -50.2480, 5417,    312.7,  18.1495,  36.5327,2,  36.5362,2,    202.1,2,    211.1,2,  -999.00,9,  -999.00,9,  -999.00,9,    1.878,2,    0.944,2,    0.074,2,    0.640,2,   2093.0,2,  18.0948048
  18HU19931105, AR13a,    14,  1,     45,2,19931121, 612, 38.5055, -50.2480, 5417,    596.4,  16.0756,  36.1924,2,  36.1976,2,    195.2,2,    203.7,2,  -999.00,9,  -999.00,9,  -999.00,9,    1.924,2,    0.956,2,    0.082,2,    0.741,2,   2111.2,3,  15.9790043
  18HU19931105, AR13a,    14,  1,     44,2,19931121, 612, 38.5055, -50.2480, 5417,    944.7,   8.9560,  35.1835,2,  35.1851,2,    166.0,2,    162.4,2,  -999.00,9,  -999.00,9,  -999.00,9,    1.337,2,    0.454,2,    0.034,2,    0.598,2,   2183.1,2,  8.84903015
  18HU19931105, AR13a,    14,  1,     42,2,19931121, 612, 38.5055, -50.2480, 5417,   1495.0,   4.8020,  35.0410,2,  35.0672,2,    241.9,2,    249.6,2,    11.63,2,    18.12,6,     1.22,2,    1.572,2,    0.743,2,    0.052,2,    1.755,2,   2165.7,2,  4.67301755
  18HU19931105, AR13a,    14,  1,     43,2,19931121, 612, 38.5055, -50.2480, 5417,   1502.3,   4.7920,  35.0404,2,  35.0404,2,    242.6,2,    230.2,0,  -999.00,9,  -999.00,9,  -999.00,9,    1.469,2,    0.516,2,    0.047,2,    1.552,2,   2158.1,2,  4.66248671
  18HU19931105, AR13a,    14,  1,     41,2,19931121, 612, 38.5055, -50.2480, 5417,   1779.4,   4.1433,  34.9809,2,  34.9938,2,    254.7,2,    265.1,2,    11.80,2,    17.78,6,     1.21,2,    1.260,2,    0.457,2,    0.047,2,    2.075,2,   2160.3,2,  3.99509764
  18HU19931105, AR13a,    14,  1,     40,2,19931121, 612, 38.5055, -50.2480, 5417,   2069.3,   3.8643,  34.9681,2,  34.9696,2,    257.8,2,    270.2,2,    12.65,2,    17.92,6,     1.20,2, -999.000,9,    0.330,2,    0.034,2,    1.770,2,   2159.9,2,   3.6919933
  18HU19931105, AR13a,    14,  1,     39,2,19931121, 612, 38.5055, -50.2480, 5417,   2344.4,   3.6892,  34.9695,2,  35.0027,2,    257.4,2,    263.1,2,    12.92,2,    18.10,6,     1.22,2, -999.000,9,    0.615,2, -999.000,9,    1.600,2,   2158.4,2,  3.49225016
  18HU19931105, AR13a,    14,  1,     37,2,19931121, 612, 38.5055, -50.2480, 5417,   2925.2,   3.2393,  34.9540,2,  34.9619,2,    258.4,2,    271.3,2,    17.44,2,    18.25,6,     1.22,2,    1.090,2,    0.000,2,    0.061,2,    0.698,2,   2162.0,2,  2.99117038
  18HU19931105, AR13a,    14,  1,     38,2,19931121, 612, 38.5055, -50.2480, 5417,   2930.8,   3.2324,  34.9541,2,  34.9541,2,    258.7,2,   -999.0,9,    12.16,2,    18.72,6,     1.23,2, -999.000,9,    0.477,2,    0.046,2,    1.859,2,   2165.2,2,  2.98386034
  18HU19931105, AR13a,    14,  1,     36,2,19931121, 612, 38.5055, -50.2480, 5417,   3220.5,   2.9870,  34.9418,2,  34.9428,2,    260.2,2,    270.9,2,    19.21,2,    18.18,6,     1.21,2,    0.707,2,    0.258,2,    0.048,2,    0.754,2,   2162.7,2,  2.71298121
  18HU19931105, AR13a,    14,  1,     35,2,19931121, 612, 38.5055, -50.2480, 5417,   3512.6,   2.7367,  34.9277,2,  34.9289,2,    262.0,2,    274.9,2,    20.55,2,    17.96,6,     1.20,2,    0.875,2,    0.198,2,    0.022,2,    0.995,2,   2164.4,2,  2.43687743
  18HU19931105, AR13a,    14,  1,     34,2,19931121, 612, 38.5055, -50.2480, 5417,   3804.4,   2.5153,  34.9147,2,  34.9147,2,    263.8,2,   -999.0,9,     9.81,3,    15.58,4,     1.03,3, -999.000,9,    0.477,2,    0.051,2,    1.468,2,   2148.2,3,  2.18874614
  18HU19931105, AR13a,    14,  1,     32,2,19931121, 612, 38.5055, -50.2480, 5417,   4416.5,   2.3084,  34.8970,2,  34.9137,2,    264.8,2,    272.8,2,    27.94,2,    18.58,6,     1.28,2,    0.487,2,    0.222,2,    0.030,2,    0.988,2,   2171.9,2,  1.91679002
  18HU19931105, AR13a,    14,  1,     33,2,19931121, 612, 38.5055, -50.2480, 5417,   4418.2,   2.3084,  34.8969,2,  34.9469,2,    264.9,2,    269.1,2,    26.28,2,    18.12,6,     1.25,2,    0.462,2,    0.278,2,    0.080,2,    0.792,2,   2169.4,2,  1.91636106
  18HU19931105, AR13a,    14,  1,     31,2,19931121, 612, 38.5055, -50.2480, 5417,   4741.3,   2.2934,  34.8921,2,  34.8921,2,    264.6,2,   -999.0,9,    19.12,3,    16.68,4,     1.14,3, -999.000,9, -999.000,9, -999.000,9, -999.000,9,   2160.9,2,  1.86307232
  18HU19931105, AR13a,    14,  1,     30,2,19931121, 612, 38.5055, -50.2480, 5417,   5055.2,   2.2837,  34.8866,2,  34.8870,2,    264.5,2,    269.5,2,    33.83,2,    19.65,6,     1.39,2, -999.000,9,    0.179,2,    0.026,2,    0.840,2,   2183.5,2,  1.81452247
  18HU19931105, AR13a,    14,  1,     29,2,19931121, 612, 38.5055, -50.2480, 5417,   5372.0,   2.2650,  34.8782,2,  34.8949,2,    261.6,2,    264.4,2,    38.73,2,    20.28,6,     1.36,2, -999.000,9,    0.163,2,    0.025,2,    0.618,2,   2186.3,2,  1.75567667