BOTTLE,20081201PRINUNIVRMK
EXPOCODE,SECT_ID,STNNBR,CASTNO,BTLNBR,BTLNBR_FLAG_W,DATE,TIME,LATITUDE,LONGITUDE,DEPTH,CTDPRS,CTDTMP,CTDSAL,CTDSAL_FLAG_W,SALNTY,SALNTY_FLAG_W,CTDOXY,CTDOXY_FLAG_W,OXYGEN,OXYGEN_FLAG_W,SILCAT,SILCAT_FLAG_W,NITRAT,NITRAT_FLAG_W,PHSPHT,PHSPHT_FLAG_W,CFC-11,CFC-11_FLAG_W,CFC-12,CFC-12_FLAG_W,CFC113,CFC113_FLAG_W,CCL4,CCL4_FLAG_W,TCARBN,TCARBN_FLAG_W,THETA
,,,,,,,,,,METERS,DBARS,ITS-90,PSS-78,,PSS-78,,UMOL/KG,,UMOL/KG,,UMOL/KG,,UMOL/KG,,UMOL/KG,,PMOL/KG,,PMOL/KG,,PMOL/KG,,PMOL/KG,,UMOL/KG,,DEGC
  18HU19931105, AR13a,   102,  1,     40,2,19931212,1528, 42.6340, -40.3690, 4945,     38.9,  18.1346,  36.2370,2,  36.2398,2,    224.4,2,    234.1,2,     1.55,2,     1.85,6,     0.13,2,    1.974,2,    1.449,2,    0.104,2,    2.362,2,   2067.6,2,  18.1278536
  18HU19931105, AR13a,   102,  1,     39,2,19931212,1528, 42.6340, -40.3690, 4945,    130.2,  17.2819,  36.2240,2,  36.2297,2,    221.8,2,    230.8,2,     1.16,2,     2.67,6,     0.18,2,    2.001,2,    1.171,2,    0.098,2,    2.162,2,   2077.9,2,   17.260013
  18HU19931105, AR13a,   102,  1,     38,2,19931212,1528, 42.6340, -40.3690, 4945,    298.9,  16.1941,  36.2195,2,  36.2195,2,    207.4,2,    212.8,2,  -999.00,9,  -999.00,9,  -999.00,9,    1.955,2,    0.781,2,    0.073,2,    0.882,2,   2106.2,2,  16.1458237
  18HU19931105, AR13a,   102,  1,     37,2,19931212,1528, 42.6340, -40.3690, 4945,    493.0,  13.9851,  35.8760,2,  35.8793,2,    217.0,2,    225.6,2,     3.26,2,     8.33,6,     0.53,2,    2.115,2,    1.312,2,    0.081,2,    1.234,2,   2117.8,2,  13.9126282
  18HU19931105, AR13a,   102,  1,     36,2,19931212,1528, 42.6340, -40.3690, 4945,    698.7,  11.6880,  35.5294,2,  35.5552,2,    204.7,2,    211.6,2,     5.95,2,    13.44,6,     0.91,2,    1.953,2,    0.756,2,    0.059,2,    1.085,2,   2139.1,3,  11.5959645
  18HU19931105, AR13a,   102,  1,     35,2,19931212,1528, 42.6340, -40.3690, 4945,    896.1,   8.3788,  35.1102,2,  35.1125,2,    181.0,2,    178.4,2,    12.25,2,    20.44,6,     1.45,2,    1.087,2,    0.444,2,    0.033,2,    0.983,2,   2177.1,2,  8.28143067
  18HU19931105, AR13a,   102,  1,     34,2,19931212,1528, 42.6340, -40.3690, 4945,   1096.3,   5.9755,  35.0448,2,  35.0550,2,    219.3,2,    220.0,2,    13.04,2,    18.66,6,     1.36,2,    1.342,2,    0.609,2,    0.051,2,    1.535,2,   2174.0,2,  5.87440395
  18HU19931105, AR13a,   102,  1,     33,2,19931212,1528, 42.6340, -40.3690, 4945,   1395.9,   4.6887,  35.0090,2,  35.0137,2,    251.5,2,    256.4,2,    11.46,2,    17.86,6,     1.27,2,    1.463,2,    0.596,2,    0.047,2,    2.317,2,   2165.2,2,  4.57055212
  18HU19931105, AR13a,   102,  1,     32,2,19931212,1528, 42.6340, -40.3690, 4945,   1696.4,   4.0287,  34.9503,2,  34.9514,2,    267.2,2,    278.8,2,    11.40,2,    17.44,6,     1.23,2,    1.532,2,    0.563,2,    0.155,3,    2.768,2,   2160.0,2,  3.88999241
  18HU19931105, AR13a,   102,  1,     31,2,19931212,1528, 42.6340, -40.3690, 4945,   1995.4,   3.5867,  34.9068,2,  34.9912,2,    277.0,2,    263.2,0,    11.56,2,    17.50,6,     1.25,2,    1.489,2,    0.607,2,    0.047,2,    2.459,2,   2163.7,2,  3.42564182
  18HU19931105, AR13a,   102,  1,     30,2,19931212,1528, 42.6340, -40.3690, 4945,   2294.6,   3.4286,  34.9039,2,  34.9092,2,    278.8,2,    286.8,2,    11.39,2,    16.52,6,     1.20,2,    1.634,2,    0.667,2,    0.052,2,    3.076,2,   2155.6,2,  3.24138492
  18HU19931105, AR13a,   102,  1,     29,2,19931212,1528, 42.6340, -40.3690, 4945,   2595.9,   3.3302,  34.9063,2,  34.9062,2,    279.2,2,    290.1,2,    11.73,2,    16.39,6,     1.16,2,    1.541,2,    0.577,2,    0.052,2,    2.742,2,   2154.9,2,  3.11463692
  18HU19931105, AR13a,   102,  1,     28,2,19931212,1528, 42.6340, -40.3690, 4945,   2896.4,   3.2875,  34.9390,2,  34.9397,2,    270.8,2,    277.1,2,    14.22,2,    16.64,6,     1.22,2,    0.656,2,    0.000,2,    0.000,2,    1.595,2,   2155.5,2,   3.0415053
  18HU19931105, AR13a,   102,  1,     27,2,19931212,1528, 42.6340, -40.3690, 4945,   3195.3,   3.0639,  34.9353,2,  34.9370,2,    273.5,2,    279.4,2,    14.99,2,    16.41,6,     1.22,2,    0.733,2,    0.350,2,    0.017,2,    1.515,2,   2158.7,2,  2.79087511
  18HU19931105, AR13a,   102,  1,     26,2,19931212,1528, 42.6340, -40.3690, 4945,   3497.9,   2.8516,  34.9316,2,  34.9386,2,    272.0,2,    276.3,2,    17.18,2,    16.74,6,     1.24,2,    0.654,2,    0.348,2,    0.049,2,    1.398,2,   2160.2,2,  2.55050493
  18HU19931105, AR13a,   102,  1,     25,2,19931212,1528, 42.6340, -40.3690, 4945,   3790.2,   2.6087,  34.9198,2,  34.9256,2,    275.3,2,    277.2,2,    18.94,2,    16.76,6,     1.23,2,    0.649,2,    0.196,2,    0.015,2,    1.267,2,   2162.1,2,  2.28120171
  18HU19931105, AR13a,   102,  1,     24,2,19931212,1528, 42.6340, -40.3690, 4945,   4090.7,   2.4501,  34.9110,2,-999.0000,9,    273.8,2,   -999.0,9,    12.78,2,    15.75,3,     1.14,2,    1.324,2,    0.564,2,    0.044,2,    1.952,2,   2148.1,2,  2.09264914
  18HU19931105, AR13a,   102,  1,     23,2,19931212,1528, 42.6340, -40.3690, 4945,   4399.8,   2.3645,  34.9038,2,  34.9045,2,    275.0,2,    277.8,2,    24.33,2,    17.17,6,     1.28,2,    0.625,2,    0.184,2,    0.011,2,    1.282,2,   2168.0,2,   1.9732504
  18HU19931105, AR13a,   102,  1,     22,2,19931212,1528, 42.6340, -40.3690, 4945,   4693.8,   2.3287,  34.8992,2,  34.8978,2,    277.0,2,    278.2,2,    25.84,2,    17.32,6,     1.29,2,    0.660,2,    0.255,2,    0.000,2,    1.365,2,   2169.2,2,  1.90304041
  18HU19931105, AR13a,   102,  1,     21,2,19931212,1528, 42.6340, -40.3690, 4945,   4939.7,   2.3191,  34.8965,2,  34.8979,2,    279.8,2,    276.2,2,    24.80,2,    17.03,6,     1.24,2,    0.795,2,    0.343,2,    0.023,2,    1.542,2,   2168.0,2,  1.86322868
  18HU19931105, AR13a,   103,  1,     60,2,19931212,2226, 41.9830, -41.0830, 4992,     20.1,  17.0694,  36.1807,2,  36.1824,2,    231.5,2,    238.4,2,     1.42,2,     1.95,6,     0.15,2,    2.411,2,    1.286,2,    0.121,2,    2.822,2,   2073.5,2,  17.0660599
  18HU19931105, AR13a,   103,  1,     59,2,19931212,2226, 41.9830, -41.0830, 4992,    147.4,  16.9536,  36.1769,2,  36.1787,2,    227.9,2,    237.8,2,     1.51,2,     2.09,6,     0.17,2,    3.210,2,    1.292,2,    0.102,2,    2.548,2,   2075.0,2,  16.9291435
  18HU19931105, AR13a,   103,  1,     58,2,19931212,2226, 41.9830, -41.0830, 4992,    313.5,  14.9067,  36.0196,2,  36.0252,2,    213.9,2,    219.4,2,     2.69,2,     7.44,6,     0.47,2,    2.799,2,    1.432,2,    0.072,2,    1.300,2,   2110.2,2,  14.8588483
  18HU19931105, AR13a,   103,  1,     57,2,19931212,2226, 41.9830, -41.0830, 4992,    508.3,  12.5455,  35.6525,2,  35.6550,2,    207.2,2,    213.1,2,     5.10,2,    11.83,6,     0.79,2,    2.081,2,    1.182,2,    0.152,2,    1.224,2,   2131.7,3,  12.4759414
  18HU19931105, AR13a,   103,  1,     56,2,19931212,2226, 41.9830, -41.0830, 4992,    783.1,   8.0768,  35.1253,2,  35.1473,2,    188.8,2,    182.6,2,    11.76,2,    19.85,6,     1.36,2,    1.506,2,    0.699,2,    0.026,2,    1.075,2,   2173.5,2,  7.99394488
  18HU19931105, AR13a,   103,  1,     55,2,19931212,2226, 41.9830, -41.0830, 4992,    992.6,   6.3827,  35.1199,2,  35.1230,2,    215.6,2,    216.4,2,    12.30,2,    18.91,6,     1.29,2,    1.447,2,    0.597,2,    0.031,2,    1.611,2,   2174.6,2,  6.28875477
  18HU19931105, AR13a,   103,  1,     54,2,19931212,2226, 41.9830, -41.0830, 4992,   1289.9,   4.9120,  35.0431,2,  35.0547,2,    247.7,2,    250.2,2,    11.41,2,    17.93,6,     1.18,2,    1.305,2,    0.637,2,    0.036,2,    2.182,2,   2163.8,2,  4.80155474
  18HU19931105, AR13a,   103,  1,     53,2,19931212,2226, 41.9830, -41.0830, 4992,   1595.7,   4.0300,  34.9538,2,  34.9597,2,    266.6,2,    271.8,2,    11.14,2,    17.52,6,     1.20,2,    1.658,2,    0.807,2,    0.030,2,    2.637,2,   2159.4,2,  3.90065727
  18HU19931105, AR13a,   103,  1,     52,2,19931212,2226, 41.9830, -41.0830, 4992,   1899.8,   3.6310,  34.9174,2,  34.9174,2,    274.3,2,    280.4,2,    11.54,2,    17.26,6,     1.19,2,    1.447,2,    0.716,2,    0.037,2,    2.795,2,   2155.1,2,  3.47858741
  18HU19931105, AR13a,   103,  1,     51,2,19931212,2226, 41.9830, -41.0830, 4992,   2179.3,   3.4824,  34.9174,2,  34.9274,2,    276.1,2,    279.7,2,    10.90,2,    17.02,6,     1.18,2,    1.499,2,    0.819,2,    0.032,2,    2.799,2,   2156.6,2,  3.30548857
  18HU19931105, AR13a,   103,  1,     50,2,19931212,2226, 41.9830, -41.0830, 4992,   2498.8,   3.3946,  34.9339,2,  34.9331,2,    271.1,2,    279.4,2,    13.01,2,    16.92,6,     1.18,2,    0.862,2,    0.499,2,    0.020,2,    2.025,2,   2156.2,2,   3.1875647
  18HU19931105, AR13a,   103,  1,     49,2,19931212,2226, 41.9830, -41.0830, 4992,   2802.8,   3.2217,  34.9400,2,  34.9410,2,    270.2,2,    278.7,2,    15.10,2,    17.34,6,     1.20,2,    0.633,2,    0.361,2,    0.011,2,    1.594,2,   2156.5,2,  2.98684674
  18HU19931105, AR13a,   103,  1,     48,2,19931212,2226, 41.9830, -41.0830, 4992,   3107.5,   2.9786,  34.9358,2,  34.9358,2,    271.1,2,    278.5,2,    16.53,2,    17.44,6,     1.19,2,    0.592,2,    0.409,2,    0.016,2,    1.500,2,   2158.7,2,  2.71691205
  18HU19931105, AR13a,   103,  1,     47,2,19931212,2226, 41.9830, -41.0830, 4992,   3407.7,   2.7492,  34.9279,2,  34.9277,2,    270.8,2,    279.2,2,    18.64,2,    17.24,6,     1.19,2,    0.517,2,    0.361,2,    0.011,2,    1.494,2,   2159.8,2,   2.4605682
  18HU19931105, AR13a,   103,  1,     46,2,19931212,2226, 41.9830, -41.0830, 4992,   3703.2,   2.5464,  34.9171,2,  34.9285,2,    272.4,2,    277.6,2,    17.99,2,    17.04,6,     1.16,2,    0.643,2,    0.447,2,    0.012,2,    1.528,2,   2160.8,2,  2.23028729
  18HU19931105, AR13a,   103,  1,     45,2,19931212,2226, 41.9830, -41.0830, 4992,   4010.0,   2.4056,  34.9085,2,  34.9099,2,    274.5,2,    280.0,2,    22.03,2,    17.58,6,     1.25,2,    0.643,2,    0.453,2,    0.010,2,    1.505,2,   2165.6,2,  2.05870671
  18HU19931105, AR13a,   103,  1,     44,2,19931212,2226, 41.9830, -41.0830, 4992,   4302.6,   2.3337,  34.9030,2,  34.9217,2,    275.4,2,    278.4,2,    22.22,2,    17.24,6,     1.23,2,    0.744,2,    0.557,2,    0.014,2,    1.679,2,   2166.1,2,  1.95478018
  18HU19931105, AR13a,   103,  1,     43,2,19931212,2226, 41.9830, -41.0830, 4992,   4632.0,   2.3130,  34.8999,2,  34.9001,2,    278.3,2,    281.3,2,    23.38,2,    17.31,6,     1.23,2,    0.785,2,    0.527,2,    0.023,2,    1.816,2,   2167.6,2,  1.89537505
  18HU19931105, AR13a,   103,  1,     42,2,19931212,2226, 41.9830, -41.0830, 4992,   4925.7,   2.3125,  34.8978,2,  34.8964,2,    282.7,2,    280.4,2,    22.84,2,    17.25,6,     1.22,2,    0.919,2,    0.531,2,    0.018,2,    1.880,2,   2167.0,2,  1.85861483
  18HU19931105, AR13a,   103,  1,     41,2,19931212,2226, 41.9830, -41.0830, 4992,   4986.5,   2.3148,  34.8977,2,  34.8984,2,    282.0,2,    283.5,2,    22.82,2,    17.32,6,     1.19,2,    0.942,2,    0.562,2,    0.021,2,    1.993,2,   2167.4,2,  1.85317829
  18HU19931105, AR13a,   104,  1,     80,2,19931213, 412, 41.5477, -41.5510, 4888,     14.0,  17.8908,  36.2369,2,  36.2386,2,    224.5,2,    233.2,2,     1.12,2,     1.92,6,     0.16,2,    2.016,2,    0.802,2,    0.170,2,    2.265,2,   -999.0,9,  17.8883961
  18HU19931105, AR13a,   104,  1,     79,2,19931213, 412, 41.5477, -41.5510, 4888,    101.9,  18.2538,  36.5236,2,  36.5248,2,    196.6,2,    203.0,2,     1.59,2,     3.94,6,     0.25,2,    1.888,2,    0.994,2,    0.057,2,    0.561,2,   2095.6,2,  18.2359899
  18HU19931105, AR13a,   104,  1,     78,2,19931213, 412, 41.5477, -41.5510, 4888,    198.4,  17.1021,  36.3470,2,  36.3505,2,    195.2,2,    201.5,2,     2.43,2,     5.91,6,     0.39,2,    1.765,2,    0.763,2,    0.083,2,    0.596,2,   2105.7,2,  17.0689035
  18HU19931105, AR13a,   104,  1,     77,2,19931213, 412, 41.5477, -41.5510, 4888,    397.5,  13.8614,  35.8144,2,  35.8234,2,    201.5,2,    205.5,2,     4.33,2,    10.46,6,     0.70,2,    1.838,2,    1.374,2,    0.057,2,    0.868,2,   2125.9,2,  13.8035152
  18HU19931105, AR13a,   104,  1,     76,2,19931213, 412, 41.5477, -41.5510, 4888,    609.6,  11.1398,  35.4364,2,  35.4379,2,    184.1,2,    183.8,2,     8.16,2,    16.56,6,     1.10,2,    1.420,2,    0.701,2,    0.031,2,    0.563,2,   2157.2,2,  11.0622431
  18HU19931105, AR13a,   104,  1,     75,2,19931213, 412, 41.5477, -41.5510, 4888,    803.1,   8.0810,  35.1580,2,  35.1589,2,    187.6,2,    184.3,2,    12.18,2,    19.70,6,     1.32,2,    1.008,2,    0.444,2,    0.029,2,    1.021,2,   2178.0,2,  7.99588874
  18HU19931105, AR13a,   104,  1,     74,2,19931213, 412, 41.5477, -41.5510, 4888,   1098.4,   5.8287,  35.1125,2,  35.1270,2,    228.3,2,    228.8,2,    11.65,2,    18.11,6,     1.24,2,    1.203,2,    0.587,2,    0.036,2,    1.557,2,   2173.4,2,  5.72846994
  18HU19931105, AR13a,   104,  1,     73,2,19931213, 412, 41.5477, -41.5510, 4888,   1401.3,   4.5809,  35.0137,2,  35.0187,2,    255.2,2,    259.4,2,    11.37,2,    17.41,6,     1.20,2,    1.329,2,    0.704,2,    0.037,2,    2.215,2,   2164.6,2,  4.46336135
  18HU19931105, AR13a,   104,  1,     72,2,19931213, 412, 41.5477, -41.5510, 4888,   1707.7,   3.8977,  34.9461,2,  34.9481,2,    271.2,2,    276.6,2,    11.35,2,    16.78,6,     1.17,2,    1.442,2,    0.611,2,    0.040,2,    2.541,2,   2159.0,2,   3.7596092
  18HU19931105, AR13a,   104,  1,     71,2,19931213, 412, 41.5477, -41.5510, 4888,   2000.8,   3.7092,  34.9426,2,  34.9547,2,    271.4,2,    276.4,2,    11.88,2,    16.52,6,     1.16,2,    1.133,2,    0.530,2,    0.027,2,    2.140,2,   2157.1,2,  3.54592859
  18HU19931105, AR13a,   104,  1,     70,2,19931213, 412, 41.5477, -41.5510, 4888,   2285.6,   3.5369,  34.9372,2,  34.9591,2,    271.5,2,    275.8,2,    12.63,2,    16.74,6,     1.16,2,    0.982,2,    0.523,2,    0.022,2,    2.003,2,   2156.4,2,  3.34856525
  18HU19931105, AR13a,   104,  1,     69,2,19931213, 412, 41.5477, -41.5510, 4888,   2602.9,   3.3989,  34.9450,2,  34.9648,2,    269.8,2,    276.2,2,    13.85,2,    16.94,6,     1.17,2,    0.700,2,    0.404,2,    0.013,2,    1.499,2,   2157.8,2,  3.18108099
  18HU19931105, AR13a,   104,  1,     68,2,19931213, 412, 41.5477, -41.5510, 4888,   2914.0,   3.1696,  34.9397,2,  34.9404,2,    271.3,2,    276.4,2,    14.90,2,    16.73,6,     1.19,2,    0.622,2,    0.291,2,    0.013,2,    1.532,2,   2158.8,2,   2.9242122
  18HU19931105, AR13a,   104,  1,     67,2,19931213, 412, 41.5477, -41.5510, 4888,   3191.9,   2.9416,  34.9343,2,  34.9380,2,    271.8,2,    279.6,2,    16.57,2,    16.51,6,     1.13,2,    0.579,2,    0.288,2,    0.010,2,    1.296,2,   2160.6,2,  2.67171975
  18HU19931105, AR13a,   104,  1,     66,2,19931213, 412, 41.5477, -41.5510, 4888,   3483.9,   2.6974,  34.9247,2,  34.9610,2,    273.2,2,    276.4,2,    16.86,2,    16.66,6,     1.16,2,    0.653,2,    0.321,2,    0.018,2,    1.429,2,   2160.6,2,   2.4015257
  18HU19931105, AR13a,   104,  1,     65,2,19931213, 412, 41.5477, -41.5510, 4888,   3800.3,   2.4846,  34.9140,2,  34.9142,2,    274.5,2,    280.3,2,    20.46,2,    17.02,6,     1.19,2,    0.629,2,    0.249,2,    0.054,2,    1.362,2,   2164.3,2,  2.15932762
  18HU19931105, AR13a,   104,  1,     64,2,19931213, 412, 41.5477, -41.5510, 4888,   4112.8,   2.3599,  34.9058,2,  34.9166,2,    275.8,2,    280.2,2,    22.29,2,    16.71,6,     1.19,2,    0.669,2,    0.375,2,    0.019,2,    1.342,2,   2166.1,2,  2.00241708
  18HU19931105, AR13a,   104,  1,     63,2,19931213, 412, 41.5477, -41.5510, 4888,   4388.2,   2.3106,  34.9013,2,  34.9026,2,    277.5,2,    280.8,2,    22.90,2,    16.82,6,     1.20,2,    0.708,2,    0.247,2,    0.045,2,    1.350,2,   2166.7,2,  1.92236647
  18HU19931105, AR13a,   104,  1,     62,2,19931213, 412, 41.5477, -41.5510, 4888,   4744.5,   2.2902,  34.8953,2,  34.8947,2,    277.0,2,    276.9,2,    27.39,2,    17.76,6,     1.24,2,    0.587,2,    0.298,2,    0.017,2,    1.189,2,   2172.3,2,  1.85956231
  18HU19931105, AR13a,   104,  1,     61,2,19931213, 412, 41.5477, -41.5510, 4888,   4842.4,   2.2930,  34.8950,2,  34.8953,2,    278.2,2,    277.7,2,    26.19,2,    17.67,6,     1.20,2,    0.703,2,    0.352,2,    0.080,3,    1.396,2,   2171.1,2,  1.85016043