BOTTLE,20081201PRINUNIVRMK
EXPOCODE,SECT_ID,STNNBR,CASTNO,BTLNBR,BTLNBR_FLAG_W,DATE,TIME,LATITUDE,LONGITUDE,DEPTH,CTDPRS,CTDTMP,CTDSAL,CTDSAL_FLAG_W,SALNTY,SALNTY_FLAG_W,CTDOXY,CTDOXY_FLAG_W,OXYGEN,OXYGEN_FLAG_W,SILCAT,SILCAT_FLAG_W,NITRAT,NITRAT_FLAG_W,PHSPHT,PHSPHT_FLAG_W,CFC-11,CFC-11_FLAG_W,CFC-12,CFC-12_FLAG_W,CFC113,CFC113_FLAG_W,CCL4,CCL4_FLAG_W,TCARBN,TCARBN_FLAG_W,THETA
,,,,,,,,,,METERS,DBARS,ITS-90,PSS-78,,PSS-78,,UMOL/KG,,UMOL/KG,,UMOL/KG,,UMOL/KG,,UMOL/KG,,PMOL/KG,,PMOL/KG,,PMOL/KG,,PMOL/KG,,UMOL/KG,,DEGC
  18HU19931105, AR13a,    60,  1,     61,2,19931203,1626, 43.5192, -41.0810, 4867,    114.0,  17.7172,  35.8829,2,  35.8763,2,    221.2,2,    235.1,2,     1.73,2,     1.19,6,     0.12,2,    2.089,2,    1.447,2,    0.116,2,    2.475,2,   -999.0,9,  17.6977589
  18HU19931105, AR13a,    60,  1,     60,2,19931203,1626, 43.5192, -41.0810, 4867,    190.1,  16.7944,  36.2124,2,  36.2130,2,    185.6,2,    189.7,2,     3.71,2,     7.36,6,     0.43,2,    1.781,2,    1.168,2,    0.051,2,    0.536,2,   -999.0,9,  16.7630201
  18HU19931105, AR13a,    60,  1,     59,2,19931203,1626, 43.5192, -41.0810, 4867,    402.4,  12.7226,  35.6344,2,  35.6382,2,    187.4,2,    190.3,2,     6.39,2,    14.28,6,     0.88,2,    1.922,2,    1.079,2,    0.050,2,    0.720,2,   -999.0,9,  12.6672644
  18HU19931105, AR13a,    60,  1,     58,2,19931203,1626, 43.5192, -41.0810, 4867,    505.4,  11.1342,  35.4389,2,  36.6258,0,    172.8,2,    173.8,2,     9.06,2,    18.47,6,     1.14,2,    1.745,2,    0.558,2,    0.032,2,    0.475,2,   -999.0,9,  11.0702096
  18HU19931105, AR13a,    60,  1,     57,2,19931203,1626, 43.5192, -41.0810, 4867,    717.5,   7.4362,  35.0663,2,  35.1172,2,    190.2,2,    189.0,2,    12.26,2,    19.59,6,     1.36,2,    1.714,2,    0.458,2,    0.051,2,    1.276,2,   -999.0,9,  7.36400272
  18HU19931105, AR13a,    60,  1,     56,2,19931203,1626, 43.5192, -41.0810, 4867,    806.6,   6.2675,  35.0381,2,  35.0366,2,    213.0,2,    213.8,2,    13.39,2,    18.93,6,     1.32,2,    1.478,2,    0.836,2,    0.352,4,    1.731,2,   -999.0,9,  6.19298143
  18HU19931105, AR13a,    60,  1,     55,2,19931203,1626, 43.5192, -41.0810, 4867,   1002.4,   5.1584,  35.0226,2,  35.0248,2,    238.2,2,    240.1,2,    12.24,2,    18.20,6,     1.25,2,    1.681,2,    0.806,2,    0.043,2,    1.961,2,   -999.0,9,  5.07281057
  18HU19931105, AR13a,    60,  1,     54,2,19931203,1626, 43.5192, -41.0810, 4867,   1302.7,   4.2987,  34.9831,2,  34.9826,2,    259.4,2,    266.0,2,    11.67,2,    17.35,6,     1.19,2,    1.719,2,    0.750,2, -999.000,9,    2.204,2,   -999.0,9,  4.19320499
  18HU19931105, AR13a,    60,  1,     53,2,19931203,1626, 43.5192, -41.0810, 4867,   1604.4,   3.6265,  34.9046,2,  34.9062,2,    276.7,2,    283.9,2,    11.17,2,    16.78,6,     1.14,2,    2.440,2,    1.342,2,    0.072,2,    3.440,2,   -999.0,9,  3.50135862
  18HU19931105, AR13a,    60,  1,     52,2,19931203,1626, 43.5192, -41.0810, 4867,   1893.8,   3.3733,  34.8826,2,  34.8804,2,    282.7,2,    290.8,2,    10.58,2,    16.50,6,     1.12,2,    4.142,3,    1.162,2,    0.094,2,    3.993,2,   -999.0,9,  3.22521014
  18HU19931105, AR13a,    60,  1,     51,2,19931203,1626, 43.5192, -41.0810, 4867,   2196.3,   3.4036,  34.9109,2,-999.0000,9,    276.7,2,    287.7,2,    12.34,2,    16.61,6,     1.13,2,    2.139,2,    0.991,2,    0.056,2,    2.904,2,   -999.0,9,  3.22637313
  18HU19931105, AR13a,    60,  1,     50,2,19931203,1626, 43.5192, -41.0810, 4867,   2505.4,   3.3668,  34.9341,2,  34.9333,2,    272.2,2,    281.0,2,    13.42,2,    16.46,6,     1.13,2,    1.506,2,    0.594,2,    0.023,2,    1.814,2,   -999.0,9,    3.159606
  18HU19931105, AR13a,    60,  1,     49,2,19931203,1626, 43.5192, -41.0810, 4867,   2800.9,   3.2162,  34.9356,2,  34.9347,2,    271.8,2,    280.6,2,    14.49,2,    16.68,6,     1.16,2,    0.875,2,    0.513,2,    0.021,2,    1.496,2,   -999.0,9,  2.98168345
  18HU19931105, AR13a,    60,  1,     48,2,19931203,1626, 43.5192, -41.0810, 4867,   3115.4,   2.9768,  34.9328,2,  34.9322,2,    271.9,2,    280.0,2,    15.89,2,    16.61,6,     1.15,2,    0.860,2,    0.422,2,    0.101,2,    1.475,2,   -999.0,9,  2.71432939
  18HU19931105, AR13a,    60,  1,     47,2,19931203,1626, 43.5192, -41.0810, 4867,   3402.9,   2.7467,  34.9252,2,  34.9609,2,    272.7,2,    265.6,0,    12.18,2,    17.24,6,     1.18,2,    2.191,2,    1.058,2,    0.051,2,    2.418,2,   -999.0,9,  2.45847216
  18HU19931105, AR13a,    60,  1,     46,2,19931203,1626, 43.5192, -41.0810, 4867,   3710.8,   2.5119,  34.9143,2,  34.9501,2,    274.9,2,    275.6,2,    11.89,2,    16.62,6,     1.16,2,    2.612,2,    1.026,2,    0.084,2,    2.583,2,   -999.0,9,  2.19571239
  18HU19931105, AR13a,    60,  1,     45,2,19931203,1626, 43.5192, -41.0810, 4867,   4004.4,   2.3884,  34.9066,2,-999.0000,9,    275.7,2,   -999.0,9,    11.44,2,    17.90,6,     1.19,2,    1.580,2,    0.938,2,    0.053,2,    1.818,2,   -999.0,9,  2.04264786
  18HU19931105, AR13a,    60,  1,     44,2,19931203,1626, 43.5192, -41.0810, 4867,   4390.3,   2.3193,  34.9005,2,  34.9664,2,    278.3,2,    272.0,2,    19.28,2,    16.77,6,     1.13,2,    1.171,2,    0.507,2,    0.040,2,    2.015,2,   -999.0,9,  1.93012261
  18HU19931105, AR13a,    60,  1,     43,2,19931203,1626, 43.5192, -41.0810, 4867,   4729.5,   2.3010,  34.8971,2,  34.8995,2,    279.9,2,    284.6,2,    23.43,2,    16.98,6,     1.17,2,    2.136,2,    0.571,2,    0.029,2,    1.798,2,   -999.0,9,  1.87182689
  18HU19931105, AR13a,    60,  1,     42,2,19931203,1626, 43.5192, -41.0810, 4867,   4861.9,   2.2968,  34.8964,2,  34.9662,2,    282.3,2,    271.0,2,    19.49,2,    16.73,6,     1.12,2,    1.163,2,    0.711,2,    0.039,2,    1.960,2,   -999.0,9,  1.85088696
  18HU19931105, AR13a,    61,  1,     81,2,19931203,2217, 43.3973, -40.3660, 4888,      5.3,  18.4730,  36.3161,2,  36.3187,2,    220.5,2,    230.2,2,     1.00,2,     1.27,6,     0.10,2,    2.049,2,    1.203,2,    0.132,2,    2.407,2,   2066.5,2,  18.4720692
  18HU19931105, AR13a,    61,  1,     80,2,19931203,2217, 43.3973, -40.3660, 4888,    203.7,  18.2779,  36.5231,2,  36.5343,2,    195.1,2,    203.7,2,     1.71,2,     3.92,6,     0.22,2,    1.873,2,    1.036,2,    0.050,2,    0.632,2,   2096.8,2,  18.2421836
  18HU19931105, AR13a,    61,  1,     79,2,19931203,2217, 43.3973, -40.3660, 4888,    404.5,  15.9839,  36.1916,2,  36.1944,2,    202.6,2,    214.3,2,     2.80,2,     7.07,6,     0.41,2,    1.921,2,    1.003,2,    0.066,2,    1.012,2,   2109.8,2,   15.918967
  18HU19931105, AR13a,    61,  1,     78,2,19931203,2217, 43.3973, -40.3660, 4888,    609.4,  12.6576,  35.6363,2,  35.6396,2,    192.1,2,    196.2,2,     6.17,2,    13.62,6,     0.83,2,    1.704,2,    0.918,2,    0.064,2,    1.006,2,   2141.6,3,  12.5734287
  18HU19931105, AR13a,    61,  1,     77,2,19931203,2217, 43.3973, -40.3660, 4888,    810.1,   8.6427,  35.1022,2,  35.1149,2,    181.6,2,    181.0,2,    12.97,2,    20.79,6,     1.33,2,    1.272,2,    0.809,2,    0.049,2,    1.168,2,   2174.2,2,  8.55355106
  18HU19931105, AR13a,    61,  1,     76,2,19931203,2217, 43.3973, -40.3660, 4888,    997.4,   5.6730,  34.9198,2,  34.9176,2,    217.4,2,    220.0,2,    12.71,2,    19.86,6,     1.32,2,    1.639,2,    0.784,2,    0.075,2,    2.285,2,   2174.6,2,  5.58417853
  18HU19931105, AR13a,    61,  1,     75,2,19931203,2217, 43.3973, -40.3660, 4888,   1195.0,   4.4703,  34.9310,2,  34.9450,2,    253.8,2,    260.3,2,    11.15,2,    17.60,6,     1.15,2,    2.206,2,    1.012,2,    0.114,2,    3.192,2,   2164.0,2,  4.37298608
  18HU19931105, AR13a,    61,  1,     74,2,19931203,2217, 43.3973, -40.3660, 4888,   1506.7,   4.1236,  34.9613,2,  34.9707,2,    264.6,2,    271.4,2,    11.42,2,    17.36,6,     1.10,2,    1.528,2,    0.736,2,    0.048,2,    2.711,2,   2161.0,2,  4.00136237
  18HU19931105, AR13a,    61,  1,     73,2,19931203,2217, 43.3973, -40.3660, 4888,   1809.3,   3.6460,  34.9136,2,  34.9149,2,    275.3,2,    284.5,2,    11.29,2,    17.33,6,     1.12,2,    1.773,2,    0.942,2,    0.178,3,    3.141,2,   2156.4,2,  3.50185222
  18HU19931105, AR13a,    61,  1,     72,2,19931203,2217, 43.3973, -40.3660, 4888,   2101.0,   3.4545,  34.9039,2,  34.9028,2,    278.6,2,    288.1,2,    11.75,2,    17.08,6,     1.12,2,    1.744,2,    1.043,2,    0.273,3,    3.204,2,   2155.7,2,    3.285661
  18HU19931105, AR13a,    61,  1,     71,2,19931203,2217, 43.3973, -40.3660, 4888,   2408.7,   3.3584,  34.9119,2,  34.9115,2,    276.5,2,    286.1,2,    12.38,2,    17.03,6,     1.10,2,    1.401,2,    0.659,2,    0.043,2,    2.685,2,   2156.7,2,  3.16111678
  18HU19931105, AR13a,    61,  1,     70,2,19931203,2217, 43.3973, -40.3660, 4888,   2690.5,   3.3037,  34.9379,2,  34.9362,2,    270.8,2,    282.0,2,    14.20,2,    17.42,6,     1.13,2,    0.821,2,    0.382,2,    0.027,2,    1.838,2,   2158.2,2,   3.0788437
  18HU19931105, AR13a,    61,  1,     69,2,19931203,2217, 43.3973, -40.3660, 4888,   2996.1,   3.1151,  34.9384,2,  34.9394,2,    270.6,2,    280.6,2,    15.87,2,    17.45,6,     1.14,2,    0.623,2,    0.297,2,    0.017,2,    1.456,2,   2160.3,2,  2.86222354
  18HU19931105, AR13a,    61,  1,     68,2,19931203,2217, 43.3973, -40.3660, 4888,   3305.2,   2.9094,  34.9298,2,  34.9264,2,    272.7,2,    282.2,2,    16.62,2,    16.96,6,     1.12,2,    0.792,2,    0.336,2,    0.022,2,    1.649,2,   2160.7,2,    2.628101
  18HU19931105, AR13a,    61,  1,     67,2,19931203,2217, 43.3973, -40.3660, 4888,   3633.0,   2.6464,  34.9201,2,  34.9217,2,    274.4,2,    280.9,2,    18.79,2,    17.13,6,     1.13,2,    0.731,2,    0.327,2,    0.020,2,    1.570,2,   2162.4,2,  2.33556497
  18HU19931105, AR13a,    61,  1,     66,2,19931203,2217, 43.3973, -40.3660, 4888,   3907.8,   2.4880,  34.9118,2,  34.9576,2,    275.3,2,    275.3,2,    15.61,2,    17.15,6,     1.10,2,    1.378,2,    0.768,2, -999.000,9,    2.381,2,   2161.2,2,  2.15021416
  18HU19931105, AR13a,    61,  1,     65,2,19931203,2217, 43.3973, -40.3660, 4888,   4127.8,   2.3878,  34.9059,2,  34.9030,2,    275.6,2,    284.2,2,    22.20,2,    17.43,6,     1.15,2,    0.685,2,    0.341,2,    0.014,2,    1.699,2,   2166.9,2,  2.02787123
  18HU19931105, AR13a,    61,  1,     64,2,19931203,2217, 43.3973, -40.3660, 4888,   4470.6,   2.3171,  34.8999,2,  34.8999,2,    278.2,2,   -999.0,9,  -999.00,9,     3.07,4,  -999.00,9,    2.006,2,    1.215,3,    0.101,2,    1.853,2,   -999.0,9,   1.9188544
  18HU19931105, AR13a,    61,  1,     63,2,19931203,2217, 43.3973, -40.3660, 4888,   4751.2,   2.3082,  34.8974,2,  34.8941,2,    280.6,2,    281.5,2,    24.89,2,    17.57,6,     1.16,2,    0.905,2,    0.560,2,    0.020,2,    1.850,2,   2168.7,2,  1.87616407
  18HU19931105, AR13a,    61,  1,     62,2,19931203,2217, 43.3973, -40.3660, 4888,   4883.6,   2.3038,  34.8961,2,-999.0000,9,    281.8,2,   -999.0,9,  -999.00,9,    16.81,6,     1.05,2,    1.609,2,    0.798,2,    0.068,2,    1.929,2,   2157.5,2,   1.8554701
  18HU19931105, AR13a,    62,  1,      1,2,19931204, 414, 43.2633, -39.6640, 4636,     77.0,  16.6984,  35.6394,2,  35.6423,2,    235.0,2,    241.0,2,     1.19,2,     1.53,6,     0.15,2, -999.000,9, -999.000,9, -999.000,9, -999.000,9,   -999.0,9,  16.6858275
  18HU19931105, AR13a,    62,  1,      0,2,19931204, 414, 43.2633, -39.6640, 4636,    169.6,  18.1637,  36.4786,2,  36.4811,2,    198.6,2,    204.7,2,     2.57,2,     3.55,6,     0.19,2, -999.000,9, -999.000,9, -999.000,9, -999.000,9,   -999.0,9,  18.1341224
  18HU19931105, AR13a,    62,  1,     99,2,19931204, 414, 43.2633, -39.6640, 4636,    325.2,  16.4000,  36.2406,2,  36.2425,2,    202.1,2,    207.2,2,     2.69,2,     6.38,6,     0.36,2, -999.000,9, -999.000,9, -999.000,9, -999.000,9,   -999.0,9,   16.346982
  18HU19931105, AR13a,    62,  1,     98,2,19931204, 414, 43.2633, -39.6640, 4636,    452.7,  14.5420,  35.9280,2,  35.9299,2,    201.7,2,    207.5,2,     4.08,2,     9.16,6,     0.56,2, -999.000,9, -999.000,9, -999.000,9, -999.000,9,   -999.0,9,  14.4737885
  18HU19931105, AR13a,    62,  1,     97,2,19931204, 414, 43.2633, -39.6640, 4636,    610.3,  12.2295,  35.5868,2,  35.5893,2,    196.1,2,    199.1,2,     6.34,2,    13.73,6,     0.86,2, -999.000,9, -999.000,9, -999.000,9, -999.000,9,   -999.0,9,  12.1470583
  18HU19931105, AR13a,    62,  1,     96,2,19931204, 414, 43.2633, -39.6640, 4636,    783.6,   8.3834,  35.0192,2,  35.0310,2,    192.7,2,    191.7,2,    10.71,2,    18.45,6,     1.23,2, -999.000,9, -999.000,9, -999.000,9, -999.000,9,   -999.0,9,  8.29887191
  18HU19931105, AR13a,    62,  1,     95,2,19931204, 414, 43.2633, -39.6640, 4636,    918.0,   6.9973,  35.0599,2,  35.0694,2,    199.9,2,    197.9,2,    13.40,2,    19.91,6,     1.30,2, -999.000,9, -999.000,9, -999.000,9, -999.000,9,   -999.0,9,  6.90676913
  18HU19931105, AR13a,    62,  1,     94,2,19931204, 414, 43.2633, -39.6640, 4636,   1061.6,   5.6127,  35.0118,2,  35.0217,2,    226.0,2,    225.9,2,    12.28,2,    19.20,6,     1.25,2, -999.000,9, -999.000,9, -999.000,9, -999.000,9,   -999.0,9,  5.51798992
  18HU19931105, AR13a,    62,  1,     93,2,19931204, 414, 43.2633, -39.6640, 4636,   1317.4,   4.5867,  34.9921,2,  34.9936,2,    254.5,2,    258.6,2,    11.13,2,    17.58,6,     1.15,2, -999.000,9, -999.000,9, -999.000,9, -999.000,9,   -999.0,9,  4.47698939
  18HU19931105, AR13a,    62,  1,     92,2,19931204, 414, 43.2633, -39.6640, 4636,   1619.1,   4.0127,  34.9519,2,  34.9536,2,    268.1,2,    275.9,2,    11.14,2,    17.16,6,     1.12,2, -999.000,9, -999.000,9, -999.000,9, -999.000,9,   -999.0,9,  3.88141065
  18HU19931105, AR13a,    62,  1,     91,2,19931204, 414, 43.2633, -39.6640, 4636,   1866.1,   3.6759,  34.9206,2,  34.9214,2,    274.7,2,    283.4,2,    11.22,2,    16.98,6,     1.10,2, -999.000,9, -999.000,9, -999.000,9, -999.000,9,   -999.0,9,  3.52601426
  18HU19931105, AR13a,    62,  1,     90,2,19931204, 414, 43.2633, -39.6640, 4636,   2269.7,   3.4581,  34.9168,2,  34.9158,2,    275.8,2,    282.9,2,    11.95,2,    16.72,6,     1.08,2, -999.000,9, -999.000,9, -999.000,9, -999.000,9,   -999.0,9,  3.27280962
  18HU19931105, AR13a,    62,  1,     89,2,19931204, 414, 43.2633, -39.6640, 4636,   2580.1,   3.3637,  34.9326,2,  34.9332,2,    272.6,2,    283.1,2,    13.40,2,    16.83,6,     1.11,2, -999.000,9, -999.000,9, -999.000,9, -999.000,9,   -999.0,9,  3.14900136
  18HU19931105, AR13a,    62,  1,     88,2,19931204, 414, 43.2633, -39.6640, 4636,   3000.4,   3.0886,  34.9331,2,  34.9321,2,    273.7,2,    281.0,2,    14.53,2,    16.48,6,     1.10,2, -999.000,9, -999.000,9, -999.000,9, -999.000,9,   -999.0,9,  2.83587403
  18HU19931105, AR13a,    62,  1,     87,2,19931204, 414, 43.2633, -39.6640, 4636,   3168.2,   2.9871,  34.9348,2,  34.9485,2,    272.2,2,    278.3,2,    15.61,2,    16.55,6,     1.11,2, -999.000,9, -999.000,9, -999.000,9, -999.000,9,   -999.0,9,  2.71867591
  18HU19931105, AR13a,    62,  1,     86,2,19931204, 414, 43.2633, -39.6640, 4636,   3642.6,   2.5813,  34.9193,2,  34.9482,2,    271.6,2,    259.4,0,  -999.00,9,    17.26,6,     1.16,2, -999.000,9, -999.000,9, -999.000,9, -999.000,9,   -999.0,9,  2.27091316
  18HU19931105, AR13a,    62,  1,     85,2,19931204, 414, 43.2633, -39.6640, 4636,   3937.8,   2.4372,  34.9094,2,  34.9086,2,    272.6,2,    279.1,2,    23.75,2,    17.36,6,     1.17,2, -999.000,9, -999.000,9, -999.000,9, -999.000,9,   -999.0,9,  2.09768832
  18HU19931105, AR13a,    62,  1,     84,2,19931204, 414, 43.2633, -39.6640, 4636,   4280.9,   2.3677,  34.9038,2,-999.0000,9,    277.2,2,   -999.0,9,  -999.00,9,    13.42,4,  -999.00,9, -999.000,9, -999.000,9, -999.000,9, -999.000,9,   -999.0,9,  1.99045293
  18HU19931105, AR13a,    62,  1,     83,2,19931204, 414, 43.2633, -39.6640, 4636,   4547.3,   2.3090,  34.8986,2,  34.8969,2,    278.8,2,    280.2,2,    23.96,2,    17.19,6,     1.15,2, -999.000,9, -999.000,9, -999.000,9, -999.000,9,   -999.0,9,  1.90179617
  18HU19931105, AR13a,    62,  1,     82,2,19931204, 414, 43.2633, -39.6640, 4636,   4630.6,   2.3115,  34.8983,2,-999.0000,9,    280.6,2,   -999.0,9,  -999.00,9,    17.07,6,     1.09,2, -999.000,9, -999.000,9, -999.000,9, -999.000,9,   -999.0,9,  1.89410551