BOTTLE,20081201PRINUNIVRMK
EXPOCODE,SECT_ID,STNNBR,CASTNO,BTLNBR,BTLNBR_FLAG_W,DATE,TIME,LATITUDE,LONGITUDE,DEPTH,CTDPRS,CTDTMP,CTDSAL,CTDSAL_FLAG_W,SALNTY,SALNTY_FLAG_W,CTDOXY,CTDOXY_FLAG_W,OXYGEN,OXYGEN_FLAG_W,SILCAT,SILCAT_FLAG_W,NITRAT,NITRAT_FLAG_W,PHSPHT,PHSPHT_FLAG_W,CFC-11,CFC-11_FLAG_W,CFC-12,CFC-12_FLAG_W,CFC113,CFC113_FLAG_W,CCL4,CCL4_FLAG_W,TCARBN,TCARBN_FLAG_W,THETA
,,,,,,,,,,METERS,DBARS,ITS-90,PSS-78,,PSS-78,,UMOL/KG,,UMOL/KG,,UMOL/KG,,UMOL/KG,,UMOL/KG,,PMOL/KG,,PMOL/KG,,PMOL/KG,,PMOL/KG,,UMOL/KG,,DEGC
  18HU19931105, AR13a,    33,  1,     28,2,19931126,2338, 42.0272, -44.9680, 4840,     44.3,  17.9878,  36.4381,2,  36.4408,2,    217.2,2,    227.9,2,     0.93,2,     2.18,6,     0.15,2,    2.016,2,    1.015,2,    0.099,2,    1.935,2,   2078.1,2,  17.9801493
  18HU19931105, AR13a,    33,  1,     27,2,19931126,2338, 42.0272, -44.9680, 4840,     93.1,  18.0008,  36.4373,2,  36.4413,2,    216.4,2,    228.0,2,     0.95,2,     2.24,6,     0.16,2,    1.999,2,    1.126,2,    0.109,2,    1.803,2,   2078.6,2,  17.9846957
  18HU19931105, AR13a,    33,  1,     26,2,19931126,2338, 42.0272, -44.9680, 4840,    193.4,  17.1731,  36.3898,2,  36.3998,2,    208.1,2,    214.3,2,     1.76,2,     4.77,6,     0.29,2,    1.944,2,    0.954,2,    0.074,2,    0.789,2,   2096.4,2,  17.1406415
  18HU19931105, AR13a,    33,  1,     25,2,19931126,2338, 42.0272, -44.9680, 4840,    303.7,  16.4360,  36.3259,2,  36.3286,2,    217.7,2,    227.6,2,     1.91,2,     5.01,6,     0.32,2,    2.103,2,    1.053,2,    0.099,2,    1.097,2,   2098.1,2,  16.3864106
  18HU19931105, AR13a,    33,  1,     24,2,19931126,2338, 42.0272, -44.9680, 4840,    511.3,  16.3405,  36.3060,2,  36.3085,2,    217.4,2,    228.4,2,     1.93,2,     5.00,6,     0.35,2,    2.072,2,    1.085,2,    0.111,2,    1.076,2,   2099.4,2,  16.2569036
  18HU19931105, AR13a,    33,  1,     23,2,19931126,2338, 42.0272, -44.9680, 4840,    704.7,  14.0638,  35.8589,2,  35.8637,2,    201.9,2,    208.9,2,     4.15,2,    10.24,6,     0.72,2,    1.862,2,    0.894,2,    0.062,2,    0.904,2,   2127.0,3,  13.9591351
  18HU19931105, AR13a,    33,  1,     22,2,19931126,2338, 42.0272, -44.9680, 4840,    909.6,  10.9495,  35.3986,2,  35.4124,2,    189.1,2,    192.2,2,     7.90,2,    16.25,6,     1.15,2,    1.609,2,    0.820,2,    0.055,2,    0.934,2,   2156.8,2,  10.8335275
  18HU19931105, AR13a,    33,  1,     21,2,19931126,2338, 42.0272, -44.9680, 4840,   1118.1,   7.7341,  35.1168,2,  35.1260,2,    188.2,2,    188.6,2,    12.75,2,    20.43,6,     1.47,2,    1.129,2,    0.783,2,    0.046,2,    1.077,2,   2177.3,2,  7.61626279
  18HU19931105, AR13a,    33,  1,     20,2,19931126,2338, 42.0272, -44.9680, 4840,   1296.9,   5.7795,  35.0429,2,  35.0481,2,    220.7,2,    224.3,2,    12.18,2,    19.30,6,     1.39,2,    1.297,2,    0.519,2,    0.054,2,    1.690,2,   2176.0,2,  5.66002609
  18HU19931105, AR13a,    33,  1,     19,2,19931126,2338, 42.0272, -44.9680, 4840,   1508.2,   4.6793,  34.9855,2,  34.9903,2,    246.1,2,    253.6,2,    11.30,2,    18.03,6,     1.32,2,    1.677,2,    0.711,2,    0.070,2,    2.487,2,   2167.0,2,  4.55060284
  18HU19931105, AR13a,    33,  1,     18,2,19931126,2338, 42.0272, -44.9680, 4840,   1804.2,   4.0132,  34.9465,2,  34.9485,2,    261.7,2,    272.5,2,    11.87,2,    17.98,6,     1.28,2,    1.626,2,    1.101,2,    0.065,2,    2.794,2,   2157.3,2,  3.86448683
  18HU19931105, AR13a,    33,  1,     17,2,19931126,2338, 42.0272, -44.9680, 4840,   2104.8,   3.7002,  34.9271,2,  34.9322,2,    266.8,2,    278.8,2,    11.52,2,    17.17,6,     1.24,2,    1.441,2,    0.882,2,    0.053,2,    2.573,2,   2158.0,2,  3.52707356
  18HU19931105, AR13a,    33,  1,     16,2,19931126,2338, 42.0272, -44.9680, 4840,   2399.3,   3.6428,  34.9482,2,  34.9486,2,    264.4,2,    275.4,2,    13.11,2,    17.33,6,     1.29,2,    0.806,2,    0.493,2,    0.026,2,    1.789,2,   2159.2,2,  3.44131731
  18HU19931105, AR13a,    33,  1,     15,2,19931126,2338, 42.0272, -44.9680, 4840,   2697.9,   3.4195,  34.9484,2,  34.9477,2,    264.2,2,    275.0,2,    14.75,2,    17.41,6,     1.32,2,    0.567,2,    0.350,2,    0.023,2,    1.473,2,   2160.8,2,  3.19157182
  18HU19931105, AR13a,    33,  1,     14,2,19931126,2338, 42.0272, -44.9680, 4840,   3005.4,   3.2072,  34.9457,2,  34.9509,2,    264.1,2,    273.8,2,    16.02,2,    17.42,6,     1.32,2,    0.471,2,    0.370,2,    0.016,2,    1.164,2,   2160.1,2,  2.95130109
  18HU19931105, AR13a,    33,  1,     13,2,19931126,2338, 42.0272, -44.9680, 4840,   3320.1,   2.9501,  34.9391,2,  34.9391,2,    264.7,2,    267.9,2,    16.32,2,    17.04,6,     1.22,2,    0.634,2,    0.374,2,    0.020,2,    1.238,2,   2161.8,2,   2.6661568
  18HU19931105, AR13a,    33,  1,     12,2,19931126,2338, 42.0272, -44.9680, 4840,   3554.2,   2.7413,  34.9269,2,  34.9154,2,    267.3,2,    267.3,2,    13.62,2,    17.22,6,     1.21,2,    1.064,2,    0.702,2,    0.033,2,    1.862,2,   2159.3,2,   2.4368429
  18HU19931105, AR13a,    33,  1,     11,2,19931126,2338, 42.0272, -44.9680, 4840,   3903.8,   2.4540,  34.9100,2,  34.9070,2,    272.5,2,    277.3,2,    21.01,2,    17.47,6,     1.26,2,    0.624,2,    0.397,2,    0.016,2,    1.425,2,   2166.7,2,  2.11790439
  18HU19931105, AR13a,    33,  1,     10,2,19931126,2338, 42.0272, -44.9680, 4840,   4173.4,   2.3661,  34.9042,2,  34.9077,2,    273.3,2,    279.0,2,    22.61,2,    17.47,6,     1.27,2,    0.659,2,    0.433,2,    0.016,2,    1.442,2,   2169.0,2,  2.00146434
  18HU19931105, AR13a,    33,  1,      9,2,19931126,2338, 42.0272, -44.9680, 4840,   4290.8,   2.3403,  34.9014,2,  34.9014,2,    274.4,2,    272.5,2,    16.37,2,    17.27,6,     1.24,2,    0.499,2,    0.264,2,    0.012,2,    1.160,2,   2160.8,2,  1.96271065
  18HU19931105, AR13a,    34,  1,     48,2,19931127,1739, 42.2423, -45.6630, 4767,     49.8,  18.5564,  36.2540,2,  36.2565,2,    212.9,2,    229.2,2,     0.78,2,     1.56,6,     0.11,2,    1.763,2,    0.895,2, -999.000,9,    2.084,2,   2069.2,2,  18.5476211
  18HU19931105, AR13a,    34,  1,     47,2,19931127,1739, 42.2423, -45.6630, 4767,    149.8,  18.0640,  36.4382,2,  36.4615,2,    192.2,2,    202.4,2,     1.54,2,     4.36,6,     0.24,2,    1.757,2,    0.901,2,    0.060,2,    0.833,2,   2097.8,2,  18.0379888
  18HU19931105, AR13a,    34,  1,     46,2,19931127,1739, 42.2423, -45.6630, 4767,    292.4,  16.5074,  36.2558,2,  36.2574,2,    194.8,2,    207.4,2,     2.44,2,     6.92,6,     0.40,2,    1.734,2,    0.775,2,    0.053,2,    0.819,2,   2108.1,2,  16.4595546
  18HU19931105, AR13a,    34,  1,     45,2,19931127,1739, 42.2423, -45.6630, 4767,    502.9,  13.5691,  35.7535,2,  35.7535,2,    185.8,2,    195.8,2,     5.12,2,    12.54,6,     0.77,2,    1.589,2,    0.811,2,    0.058,2,    0.829,2,   2131.9,2,  13.4966658
  18HU19931105, AR13a,    34,  1,     44,2,19931127,1739, 42.2423, -45.6630, 4767,    712.2,  10.0126,  35.2954,2,  35.2954,2,    168.3,2,    173.3,2,    10.11,2,    19.09,6,     1.29,2,    1.084,2,    0.527,2,    0.033,2,    0.823,2,   2168.4,2,  9.92742682
  18HU19931105, AR13a,    34,  1,     43,2,19931127,1739, 42.2423, -45.6630, 4767,    905.9,   7.3112,  35.1055,2,  35.1143,2,    192.2,2,    196.0,2,    12.49,2,    20.15,6,     1.40,2,    1.065,2,    0.534,2,    0.031,2,    1.233,2,   2180.2,2,  7.21977449
  18HU19931105, AR13a,    34,  1,     42,2,19931127,1739, 42.2423, -45.6630, 4767,   1110.5,   5.5763,  35.0593,2,  35.0726,2,    224.2,2,    229.5,2,    12.22,2,    18.92,6,     1.32,2,    1.265,2,    0.665,2,    0.047,2,    1.793,2,   2174.4,2,   5.4770616
  18HU19931105, AR13a,    34,  1,     41,2,19931127,1739, 42.2423, -45.6630, 4767,   1294.8,   5.0884,  35.0766,2,  35.0859,2,    238.3,2,    249.2,2,    11.83,2,    18.52,6,     1.24,2,    1.097,2,    0.525,2,    0.033,2,    1.828,2,   2169.6,2,  4.97571586
  18HU19931105, AR13a,    34,  1,     40,2,19931127,1739, 42.2423, -45.6630, 4767,   1606.2,   4.0951,  34.9624,2,  34.9643,2,    257.1,2,    271.9,2,    11.43,2,    18.12,6,     1.22,2,    1.347,2,    0.645,2,    0.043,2,    2.391,2,   -999.0,9,   3.9639879
  18HU19931105, AR13a,    34,  1,     39,2,19931127,1739, 42.2423, -45.6630, 4767,   1903.2,   3.6902,  34.9239,2,  34.9292,2,    265.4,2,    282.3,2,    11.39,2,    17.61,6,     1.21,2,    1.400,2,    0.637,2,    0.046,2,    2.570,2,   2159.3,2,  3.53659185
  18HU19931105, AR13a,    34,  1,     38,2,19931127,1739, 42.2423, -45.6630, 4767,   2173.1,   3.4691,  34.9108,2,  34.9188,2,    269.5,2,    285.5,2,    11.65,2,    17.75,6,     1.18,2,    1.492,2,    0.786,2,    0.053,2,    2.738,2,   2157.4,2,  3.29303355
  18HU19931105, AR13a,    34,  1,     37,2,19931127,1739, 42.2423, -45.6630, 4767,   2503.9,   3.3388,  34.9191,2,  34.9307,2,    268.7,2,    283.2,2,    12.42,2,    17.70,6,     1.14,2,    1.200,2,    0.541,2,    0.037,2,    2.293,2,   2155.9,2,  3.13227906
  18HU19931105, AR13a,    34,  1,     36,2,19931127,1739, 42.2423, -45.6630, 4767,   2788.9,   3.2387,  34.9350,2,  34.9380,2,    265.6,2,    279.3,2,    14.04,2,    17.96,6,     1.21,2,    0.815,2,    0.426,2,    0.019,2,    1.707,2,   2158.4,2,  3.00495964
  18HU19931105, AR13a,    34,  1,     35,2,19931127,1739, 42.2423, -45.6630, 4767,   3080.1,   3.0505,  34.9309,2,  34.9330,2,    266.9,2,    281.5,2,    14.57,2,    17.82,6,     1.18,2,    0.821,2,    0.458,2,    0.019,2,    1.738,2,   2159.6,2,  2.79014942
  18HU19931105, AR13a,    34,  1,     34,2,19931127,1739, 42.2423, -45.6630, 4767,   3404.7,   2.8318,  34.9282,2,  34.9342,2,    266.5,2,    280.1,2,    15.99,2,    17.95,6,     1.21,2,    0.743,2,    0.388,2,    0.028,2,    1.580,2,   -999.0,9,  2.54146678
  18HU19931105, AR13a,    34,  1,     33,2,19931127,1739, 42.2423, -45.6630, 4767,   3718.1,   2.5768,  34.9176,2,  34.9549,2,    268.2,2,    274.9,2,    13.19,2,    18.07,6,     1.21,2,    1.110,2,    0.490,2,    0.038,2,    2.039,2,   2160.6,2,  2.25807664
  18HU19931105, AR13a,    34,  1,     32,2,19931127,1739, 42.2423, -45.6630, 4767,   3995.9,   2.3992,  34.9074,2,  34.9758,2,    270.0,2,    272.2,2,    12.45,2,    17.67,6,     1.17,2,    1.209,2,    0.932,2,    0.115,3,    2.144,2,   2159.9,2,  2.05368756
  18HU19931105, AR13a,    34,  1,     31,2,19931127,1739, 42.2423, -45.6630, 4767,   4295.0,   2.3030,  34.9006,2,-999.0000,9,    273.0,2,   -999.0,9,  -999.00,9,     5.72,4,  -999.00,9,    1.750,2,    1.054,2,    0.043,2,    0.836,2,   -999.0,9,  1.92602334
  18HU19931105, AR13a,    34,  1,     30,2,19931127,1739, 42.2423, -45.6630, 4767,   4644.5,   2.2628,  34.8957,2,  34.8976,2,    274.8,2,    283.4,2,    23.05,2,    17.68,6,     1.24,2,    0.940,2,    0.538,2,    0.041,2,    1.794,2,   2169.7,2,  1.84525116
  18HU19931105, AR13a,    34,  1,     29,2,19931127,1739, 42.2423, -45.6630, 4767,   4761.8,   2.2761,  34.8965,2,  34.9254,2,    277.6,2,    278.7,2,    17.97,2,    17.19,6,     1.19,2,    1.015,2,    0.476,2,    0.034,2,    1.952,2,   2162.8,2,  1.84356194
  18HU19931105, AR13a,    35,  1,     68,2,19931128, 419, 42.4363, -46.3820, 4715,     66.3,  20.4155,  36.2554,2,  36.2603,2,    201.1,2,    221.3,2,     1.03,2,     1.28,6,     0.13,2,    1.900,2,    0.998,2,    0.085,2,    2.155,2,   2049.8,2,  20.4030008
  18HU19931105, AR13a,    35,  1,     67,2,19931128, 419, 42.4363, -46.3820, 4715,    113.0,  20.4317,  36.2565,2,  36.2633,2,    196.6,2,    220.2,2,     1.09,2,     1.31,6,     0.15,2,    1.861,2,    2.222,3,    0.090,2,    2.128,2,   2051.0,2,  20.4103667
  18HU19931105, AR13a,    35,  1,     66,2,19931128, 419, 42.4363, -46.3820, 4715,    276.5,  14.0601,  35.7636,2,  35.7841,2,    166.4,2,    173.2,2,     5.46,2,    13.62,6,     0.87,2,    1.532,2,    1.015,2,    0.044,2,    0.672,2,   2140.0,2,  14.0196324
  18HU19931105, AR13a,    35,  1,     65,2,19931128, 419, 42.4363, -46.3820, 4715,    501.4,   9.6958,  35.2437,2,  35.2513,2,    149.1,2,    144.9,2,    13.35,2,    24.00,6,     1.57,2, -999.000,9, -999.000,9, -999.000,9, -999.000,9,   2186.2,2,  9.63762951
  18HU19931105, AR13a,    35,  1,     64,2,19931128, 419, 42.4363, -46.3820, 4715,    716.3,   4.7942,  34.7837,2,  34.7837,0,    227.9,2,    227.7,2,    11.42,2,    17.75,6,     1.22,2,    2.078,2,    1.125,2,    0.091,2,    2.509,2,   2158.3,2,  4.73679157
  18HU19931105, AR13a,    35,  1,     63,2,19931128, 419, 42.4363, -46.3820, 4715,    845.3,   5.8831,  35.1102,2,  35.1148,2,    221.1,2,    224.5,2,    12.40,2,    19.83,6,     1.34,2,    0.936,2,    0.473,2,    0.028,2,    1.427,2,   2173.9,2,   5.8071161
  18HU19931105, AR13a,    35,  1,     62,2,19931128, 419, 42.4363, -46.3820, 4715,    928.1,   4.5558,  34.9344,2,  34.9509,2,    245.0,2,    258.0,2,    11.36,2,    18.78,6,     1.24,2,    2.094,2,    0.930,2,    0.092,2,    2.859,2,   2162.3,2,    4.481417
  18HU19931105, AR13a,    35,  1,     61,2,19931128, 419, 42.4363, -46.3820, 4715,   1044.5,   4.8564,  35.0270,2,  35.0328,2,    241.5,2,    252.0,2,    11.63,2,    18.83,6,     1.21,2,    1.345,2,    0.964,2,    0.047,2,    1.908,2,   2165.7,2,  4.76927442
  18HU19931105, AR13a,    35,  1,     60,2,19931128, 419, 42.4363, -46.3820, 4715,   1288.3,   4.1463,  34.9612,2,  34.9685,2,    256.6,2,    268.7,2,    11.19,2,    18.42,6,     1.22,2,    1.617,2,    0.827,2,    0.063,2,    2.643,2,   2160.4,2,  4.04362299
  18HU19931105, AR13a,    35,  1,     59,2,19931128, 419, 42.4363, -46.3820, 4715,   1566.9,   3.7922,  34.9321,2,  34.9345,2,    264.4,2,    279.0,2,    11.17,2,    17.94,6,     1.20,2,    1.584,2,    0.713,2,    0.049,2,    2.789,2,   2158.7,2,   3.6683877
  18HU19931105, AR13a,    35,  1,     58,2,19931128, 419, 42.4363, -46.3820, 4715,   1987.5,   3.5204,  34.9206,2,  34.9230,2,    268.2,2,    283.4,2,    11.80,2,    17.69,6,     1.21,2, -999.000,9, -999.000,9, -999.000,9, -999.000,9,   2155.6,2,  3.36129402
  18HU19931105, AR13a,    35,  1,     57,2,19931128, 419, 42.4363, -46.3820, 4715,   2393.3,   3.4535,  34.9406,2,  34.9437,2,    264.7,2,    279.3,2,    13.95,2,    17.87,6,     1.21,2,    0.813,2,    0.693,2,    0.020,2,    1.787,2,   2155.6,2,  3.25595368
  18HU19931105, AR13a,    35,  1,     56,2,19931128, 419, 42.4363, -46.3820, 4715,   2709.4,   3.2451,  34.9394,2,  34.9406,2,    264.6,2,    278.2,2,    14.48,2,    17.85,6,     1.21,2,    0.672,2,    0.688,2,    0.018,2,    1.586,2,   2157.7,2,  3.01942833
  18HU19931105, AR13a,    35,  1,     55,2,19931128, 419, 42.4363, -46.3820, 4715,   3103.5,   2.9546,  34.9341,2,  34.9357,2,    266.7,2,    278.6,2,    16.76,2,    17.57,6,     1.19,2,    0.600,2,    0.479,2,    0.016,2,    1.414,2,   2158.3,2,  2.69387093
  18HU19931105, AR13a,    35,  1,     54,2,19931128, 419, 42.4363, -46.3820, 4715,   3405.6,   2.7130,  34.9231,2,  34.9330,2,    269.3,2,    281.2,2,    16.86,2,    17.34,6,     1.18,2,    0.793,2,    0.595,2,    0.025,2,    1.647,2,   2159.1,2,  2.42544261
  18HU19931105, AR13a,    35,  1,     53,2,19931128, 419, 42.4363, -46.3820, 4715,   3696.3,   2.4734,  34.9120,2,  34.9399,2,    271.9,2,    277.9,2,    17.56,2,    17.64,6,     1.16,2,    0.990,2,    0.500,2,    0.034,2,    1.969,2,   2160.7,2,  2.15988685
  18HU19931105, AR13a,    35,  1,     52,2,19931128, 419, 42.4363, -46.3820, 4715,   3988.7,   2.3406,  34.9043,2,  34.9565,2,    271.6,2,    272.8,2,    16.76,2,    18.10,6,     1.23,2,    0.988,2,    0.702,2,    0.033,2,    1.864,2,   2160.9,2,  1.99765834
  18HU19931105, AR13a,    35,  1,     51,2,19931128, 419, 42.4363, -46.3820, 4715,   4349.4,   2.2544,  34.8982,2,  34.9288,2,    276.8,2,    279.4,2,    19.60,2,    17.67,6,     1.21,2,    0.995,2,    0.493,2,    0.034,2,    1.891,2,   2163.4,2,  1.87226912
  18HU19931105, AR13a,    35,  1,     50,2,19931128, 419, 42.4363, -46.3820, 4715,   4607.8,   2.2447,  34.8942,2,  34.8954,2,    274.6,2,    282.9,2,    24.10,2,    18.00,6,     1.23,2,    0.915,2,    0.683,2,    0.025,2,    1.865,2,   2170.2,2,  1.83219193
  18HU19931105, AR13a,    35,  1,     49,2,19931128, 419, 42.4363, -46.3820, 4715,   4710.0,   2.2578,  34.8943,2,  34.9079,2,    275.9,2,    279.4,2,    22.64,2,    17.98,6,     1.21,2,    0.857,2,    0.695,2,    0.028,2,    1.688,2,   2168.7,2,  1.83233882