BOTTLE,20081201PRINUNIVRMK
EXPOCODE,SECT_ID,STNNBR,CASTNO,BTLNBR,BTLNBR_FLAG_W,DATE,TIME,LATITUDE,LONGITUDE,DEPTH,CTDPRS,CTDTMP,CTDSAL,CTDSAL_FLAG_W,SALNTY,SALNTY_FLAG_W,CTDOXY,CTDOXY_FLAG_W,OXYGEN,OXYGEN_FLAG_W,SILCAT,SILCAT_FLAG_W,NITRAT,NITRAT_FLAG_W,PHSPHT,PHSPHT_FLAG_W,CFC-11,CFC-11_FLAG_W,CFC-12,CFC-12_FLAG_W,CFC113,CFC113_FLAG_W,CCL4,CCL4_FLAG_W,TCARBN,TCARBN_FLAG_W,THETA
,,,,,,,,,,METERS,DBARS,ITS-90,PSS-78,,PSS-78,,UMOL/KG,,UMOL/KG,,UMOL/KG,,UMOL/KG,,UMOL/KG,,PMOL/KG,,PMOL/KG,,PMOL/KG,,PMOL/KG,,UMOL/KG,,DEGC
  18HU19931105, AR13a,    21,  1,     88,2,19931123, 501, 38.0590, -46.0330, 5251,     47.4,  22.3539,  36.4584,2,  36.4624,2,    199.8,2,    215.1,2,     1.09,2,     0.51,6,     0.00,2,    1.675,2,    0.916,2,    0.087,2,    1.927,2,   -999.0,9,  22.3443655
  18HU19931105, AR13a,    21,  1,     87,2,19931123, 501, 38.0590, -46.0330, 5251,    149.0,  19.3627,  36.6076,2,  36.6162,2,    189.9,2,    195.2,2,     1.31,2,     3.16,6,     0.16,2,    1.747,2,    0.955,2, -999.000,9,    0.381,2,   -999.0,9,  19.3355325
  18HU19931105, AR13a,    21,  1,     85,2,19931123, 501, 38.0590, -46.0330, 5251,    250.9,  18.2340,  36.5380,2,  36.5442,2,    193.8,2,    202.5,2,     1.70,2,     4.41,6,     0.24,2, -999.000,9,    1.080,2,    0.037,2,    0.444,2,   -999.0,9,  18.1900321
  18HU19931105, AR13a,    21,  1,     86,2,19931123, 501, 38.0590, -46.0330, 5251,    250.9,  18.2340,  36.5380,2,  36.5402,2,    193.8,2,    203.5,2,     1.66,2,     4.38,6,     0.23,2,    1.821,2,    0.961,2,    0.290,4,    0.602,2,   -999.0,9,  18.1900333
  18HU19931105, AR13a,    21,  1,     84,2,19931123, 501, 38.0590, -46.0330, 5251,    501.7,  14.8113,  35.9648,2,  35.9746,2,    198.1,2,    208.0,2,     3.51,2,     9.31,6,     0.56,2,    2.055,2,    1.197,2,    0.085,2,    0.980,2,   -999.0,9,  14.7346463
  18HU19931105, AR13a,    21,  1,     82,2,19931123, 501, 38.0590, -46.0330, 5251,    702.0,  10.6979,  35.3730,2,  35.3794,2,    172.7,2,    174.5,2,     9.61,2,    19.15,6,     1.19,2,    1.714,2,    0.733,2,    0.032,2,    0.697,2,   -999.0,9,  10.6104803
  18HU19931105, AR13a,    21,  1,     83,2,19931123, 501, 38.0590, -46.0330, 5251,    703.5,  10.6798,  35.3709,2,  35.3810,2,    172.9,2,    176.4,2,     9.49,2,    19.26,6,     1.19,2, -999.000,9,    0.792,2,    0.032,2,    0.661,2,   -999.0,9,  10.5922762
  18HU19931105, AR13a,    21,  1,     81,2,19931123, 501, 38.0590, -46.0330, 5251,    961.9,   6.6227,  35.1098,2,  35.1256,2,    203.4,2,    206.2,2,    12.53,2,    20.55,6,     1.34,2,    1.336,2,    0.405,2, -999.000,9,    1.155,2,   -999.0,9,  6.53014194
  18HU19931105, AR13a,    21,  1,     80,2,19931123, 501, 38.0590, -46.0330, 5251,   1203.1,   5.0776,  35.0539,2,  35.0573,2,    237.9,2,    245.7,2,    11.84,2,    18.78,6,     1.23,2,    1.895,2,    0.786,2,    0.041,2,    1.987,2,   -999.0,9,  4.97382844
  18HU19931105, AR13a,    21,  1,     79,2,19931123, 501, 38.0590, -46.0330, 5251,   1513.1,   4.3367,  35.0062,2,  35.0062,2,    252.4,2,    256.1,2,    10.94,2,    17.02,6,     1.11,2,    1.154,2,    0.603,2,    0.036,2,    1.868,2,   -999.0,9,  4.21136626
  18HU19931105, AR13a,    21,  1,     77,2,19931123, 501, 38.0590, -46.0330, 5251,   2106.7,   3.5510,  34.9390,2,  34.9430,2,    264.6,2,    279.1,2,    12.79,2,    17.59,6,     1.18,2,    2.308,3,    0.783,2,    0.028,2,    2.034,2,   -999.0,9,  3.37997317
  18HU19931105, AR13a,    21,  1,     78,2,19931123, 501, 38.0590, -46.0330, 5251,   2112.5,   3.5881,  34.9460,2,  34.9460,2,    264.2,2,   -999.0,9,    11.09,2,    18.18,6,     1.20,2, -999.000,9,    0.875,2,    0.042,2,    1.474,2,   -999.0,9,  3.41592374
  18HU19931105, AR13a,    21,  1,     76,2,19931123, 501, 38.0590, -46.0330, 5251,   2405.8,   3.4172,  34.9538,2,  34.9567,2,    260.6,2,    272.6,2,    14.95,2,    17.78,6,     1.20,2, -999.000,9,    0.276,2,    0.016,2,    1.123,2,   -999.0,9,  3.21899361
  18HU19931105, AR13a,    21,  1,     75,2,19931123, 501, 38.0590, -46.0330, 5251,   2817.4,   3.1147,  34.9473,2,  34.9477,2,    260.6,2,    271.3,2,    17.39,2,    17.88,6,     1.21,2,    1.967,3,    0.982,3,    0.000,2,    1.013,2,   -999.0,9,  2.88047592
  18HU19931105, AR13a,    21,  1,     74,2,19931123, 501, 38.0590, -46.0330, 5251,   3201.4,   2.8171,  34.9332,2,  34.9843,2,    262.4,2,    267.9,2,    16.02,2,    17.66,6,     1.17,2, -999.000,9,    0.269,2,    0.017,2,    1.313,2,   -999.0,9,  2.54880897
  18HU19931105, AR13a,    21,  1,     73,2,19931123, 501, 38.0590, -46.0330, 5251,   3997.5,   2.3331,  34.9012,2,  34.9323,2,    263.1,2,    271.2,2,    27.53,2,    18.88,6,     1.27,2, -999.000,9,    0.314,2,    0.013,2,    0.711,2,   -999.0,9,  1.98951462
  18HU19931105, AR13a,    21,  1,     72,2,19931123, 501, 38.0590, -46.0330, 5251,   3998.0,   2.3335,  34.9013,2,  34.9313,2,    263.0,2,    269.4,2,    27.26,2,    18.77,6,     1.28,2, -999.000,9,    0.137,2, -999.000,9,    0.776,2,   -999.0,9,  1.98985272
  18HU19931105, AR13a,    21,  1,     71,2,19931123, 501, 38.0590, -46.0330, 5251,   4378.0,   2.2734,  34.8930,2,  34.8995,2,    262.8,2,    270.9,2,    32.43,2,    19.47,6,     1.32,2,    0.354,2,    0.198,2,    0.013,2,    0.707,2,   -999.0,9,  1.88751571
  18HU19931105, AR13a,    21,  1,     70,2,19931123, 501, 38.0590, -46.0330, 5251,   4792.9,   2.2572,  34.8866,2,  34.8882,2,    263.1,2,    270.8,2,    34.96,2,    19.98,6,     1.33,2,    0.739,2,    0.281,2,    0.011,2,    0.696,2,   -999.0,9,   1.8217063
  18HU19931105, AR13a,    21,  1,     69,2,19931123, 501, 38.0590, -46.0330, 5251,   5170.4,   2.2616,  34.8812,2,  34.8863,2,    262.5,2,    268.3,2,    37.74,2,    20.39,6,     1.35,2,    0.354,2,    0.140,2,    0.011,2,    0.589,2,   -999.0,9,  1.77850728
  18HU19931105, AR13a,    22,  1,      8,2,19931123,1218, 38.0655, -45.3350, 5214,    297.5,  15.1983,  36.0294,2,  36.0335,2,    189.4,2,    200.4,2,     3.58,2,     9.41,6,     0.55,2,    1.953,2,    1.032,2, -999.000,9,    0.858,2,   2119.9,2,  15.1523191
  18HU19931105, AR13a,    22,  1,      7,2,19931123,1218, 38.0655, -45.3350, 5214,    597.2,   9.5051,  35.2268,2,  35.2268,2,    178.6,2,    227.6,0,     0.60,3,     0.39,4,  -999.00,9,    2.101,2,    1.034,2,    0.140,3,    2.398,4,   -999.0,9,  9.43632057
  18HU19931105, AR13a,    22,  1,      6,2,19931123,1218, 38.0655, -45.3350, 5214,    597.2,   9.5051,  35.2268,2,  35.2284,2,    178.6,2,   -999.0,9,    10.67,2,    20.17,6,     1.30,2,    1.406,2,    0.631,2,    0.047,2,    1.000,2,   2169.4,2,  9.43631917
  18HU19931105, AR13a,    22,  1,      5,2,19931123,1218, 38.0655, -45.3350, 5214,    802.5,   6.6699,  35.0742,2,  35.0766,2,    199.3,2,    200.7,2,    12.98,2,    21.51,6,     1.40,2,    1.042,2,    0.511,2,    0.104,2,    1.299,2,   2179.5,2,  6.59331731
  18HU19931105, AR13a,    22,  1,      3,2,19931123,1218, 38.0655, -45.3350, 5214,   1002.2,   5.9771,  35.1551,2,  35.1715,2,    223.4,2,    226.1,2,    11.93,2,    19.49,6,     1.25,2,    1.033,2,    0.490,2,    0.024,2,    1.470,2,   2171.5,2,  5.88513069
  18HU19931105, AR13a,    22,  1,      4,2,19931123,1218, 38.0655, -45.3350, 5214,   1003.7,   5.9866,  35.1583,2,  35.1674,2,    222.4,2,    226.2,2,    11.90,2,    19.63,6,     1.25,2,    1.006,2,    0.518,2,    0.030,2,    1.499,2,   2172.7,2,  5.89441807
  18HU19931105, AR13a,    22,  1,      2,2,19931123,1218, 38.0655, -45.3350, 5214,   1304.8,   4.5027,  35.0128,2,  35.0250,2,    248.4,2,    256.7,2,    11.69,2,    18.77,6,     1.22,2,    1.227,2,    0.582,2,    0.058,2,    2.087,2,   2163.2,2,  4.39491576
  18HU19931105, AR13a,    22,  1,      1,2,19931123,1218, 38.0655, -45.3350, 5214,   1598.7,   3.9378,  34.9624,2,  34.9687,2,    259.3,2,    271.3,2,    11.98,2,    18.39,6,     1.17,2,    1.083,2,    0.508,2,    0.034,2,    2.084,2,   2157.9,2,  3.80926149
  18HU19931105, AR13a,    22,  1,      0,2,19931123,1218, 38.0655, -45.3350, 5214,   1896.7,   3.6851,  34.9483,2,  34.9512,2,    263.5,2,    274.0,2,    12.54,2,    18.20,6,     1.18,2,    1.021,2,    0.469,2,    0.034,2,    1.988,2,   2156.1,2,  3.53211036
  18HU19931105, AR13a,    22,  1,     99,2,19931123,1218, 38.0655, -45.3350, 5214,   2196.8,   3.5241,  34.9504,2,  34.9504,2,    262.0,2,    252.5,0,    11.25,2,    16.28,6,     1.04,2,    1.054,2,    0.466,2,    0.037,2,    1.538,2,   2149.3,2,  3.34473136
  18HU19931105, AR13a,    22,  1,     98,2,19931123,1218, 38.0655, -45.3350, 5214,   2505.5,   3.3132,  34.9521,2,  34.9521,2,    260.6,2,   -999.0,9,    10.12,2,    17.73,6,     1.08,2,    1.409,2,    0.654,2,    0.074,2,    1.386,2,   2158.8,2,  3.10689987
  18HU19931105, AR13a,    22,  1,     97,2,19931123,1218, 38.0655, -45.3350, 5214,   2799.1,   3.0928,  34.9470,2,  34.9528,2,    260.2,2,    273.3,2,    18.20,2,    18.14,6,     1.23,2,    0.368,2,    0.000,3,    0.032,2,    1.141,2,   2162.4,2,  2.86088549
  18HU19931105, AR13a,    22,  1,     96,2,19931123,1218, 38.0655, -45.3350, 5214,   3099.4,   2.8372,  34.9344,2,  34.9370,2,    262.3,2,    274.4,2,    19.90,2,    18.34,6,     1.22,2,    0.311,2,    0.197,2,    0.013,2,    0.963,2,   2161.4,2,  2.57950677
  18HU19931105, AR13a,    22,  1,     95,2,19931123,1218, 38.0655, -45.3350, 5214,   3397.3,   2.5907,  34.9213,2,  34.9215,2,    263.4,2,    275.2,2,    22.36,2,    18.34,6,     1.23,2,    0.622,2,    0.122,2,    0.000,2,    1.134,2,   2163.9,2,  2.30705691
  18HU19931105, AR13a,    22,  1,     94,2,19931123,1218, 38.0655, -45.3350, 5214,   3697.9,   2.4157,  34.9092,2,  34.9402,2,    262.3,2,    271.2,2,    22.44,2,    18.48,6,     1.24,2,    0.515,2,    0.278,2,    0.021,2,    1.113,2,   2167.4,2,  2.10350856
  18HU19931105, AR13a,    22,  1,     93,2,19931123,1218, 38.0655, -45.3350, 5214,   4007.8,   2.3146,  34.9000,2,  34.9199,2,    262.6,2,    271.9,2,    28.31,2,    18.89,6,     1.27,2,    0.484,2,    0.180,2,    0.000,2,    0.907,2,   2166.9,2,  1.97043297
  18HU19931105, AR13a,    22,  1,     92,2,19931123,1218, 38.0655, -45.3350, 5214,   4298.9,   2.2662,  34.8937,2,  34.9002,2,    262.4,2,    270.9,2,    31.26,2,    19.33,6,     1.30,2,    0.200,2,    0.000,2,    0.000,2,    0.812,2,   2173.1,2,  1.88985592
  18HU19931105, AR13a,    22,  1,     91,2,19931123,1218, 38.0655, -45.3350, 5214,   4604.1,   2.2488,  34.8880,2,  34.8999,2,    262.7,2,    269.7,2,    32.60,2,    19.62,6,     1.32,2,    0.590,2,    0.660,3,    0.000,2,    0.850,2,   2179.5,2,  1.83657992
  18HU19931105, AR13a,    22,  1,     90,2,19931123,1218, 38.0655, -45.3350, 5214,   4889.4,   2.2405,  34.8828,2,  34.8997,2,    261.9,2,    267.7,2,    37.17,2,    20.19,6,     1.35,2,    0.168,2,    0.131,2,    0.013,2,    0.688,2,   2184.0,2,  1.79349922
  18HU19931105, AR13a,    22,  1,     89,2,19931123,1218, 38.0655, -45.3350, 5214,   5206.8,   2.2429,  34.8777,2,  34.8816,2,    262.6,2,    264.9,2,    39.95,2,    20.96,6,     1.37,2,    0.120,2,    0.159,2,    0.029,2,    0.589,2,   2184.3,2,  1.75582362
  18HU19931105, AR13a,    23,  1,     27,2,19931123,1926, 38.5007, -44.8490, 5173,     15.3,  19.5697,  36.2493,2,  36.2517,2,    211.1,2,    228.4,2,     0.58,2,     0.58,6,     0.00,2,    2.001,2,    1.101,2,    0.102,2,    2.479,2,   2056.8,2,  19.5669029
  18HU19931105, AR13a,    23,  1,     28,2,19931123,1926, 38.5007, -44.8490, 5173,     15.3,  19.5697,  36.2493,2,  36.2493,2,    211.1,2,   -999.0,9,  -999.00,9,  -999.00,9,  -999.00,9, -999.000,9, -999.000,9, -999.000,9, -999.000,9,   -999.0,9,  19.5669029
  18HU19931105, AR13a,    23,  1,     26,2,19931123,1926, 38.5007, -44.8490, 5173,     96.8,  18.7606,  36.5520,2,  36.5520,2,    175.0,2,    183.9,2,     2.70,2,     7.93,6,     0.44,2,    1.652,2,    0.839,2,    0.027,2,    0.369,2,   2115.9,2,   18.743357
  18HU19931105, AR13a,    23,  1,     25,2,19931123,1926, 38.5007, -44.8490, 5173,    345.3,  14.1990,  35.8672,2,  35.8665,2,    188.5,2,    197.2,2,     4.44,2,    11.40,6,     0.69,2,    2.211,2,    0.962,2,    0.051,2,    0.806,2,   2125.4,2,   14.147983
  18HU19931105, AR13a,    23,  1,     24,2,19931123,1926, 38.5007, -44.8490, 5173,    696.0,   8.3275,  35.1638,2,  35.1647,2,    183.4,2,    183.3,2,    11.73,2,    20.84,6,     1.38,2,    1.791,2,    0.465,2,    0.035,2,    1.034,2,   2171.8,2,  8.25294648
  18HU19931105, AR13a,    23,  1,     23,2,19931123,1926, 38.5007, -44.8490, 5173,    696.5,   8.3276,  35.1634,2,  35.1684,2,    182.8,2,    183.6,2,    11.76,2,    20.82,6,     1.38,2,    1.112,2,    0.609,2,    0.028,2,    1.008,2,   2176.3,2,  8.25298635
  18HU19931105, AR13a,    23,  1,     22,2,19931123,1926, 38.5007, -44.8490, 5173,    895.3,   6.7035,  35.2024,2,  35.2073,2,    209.3,2,    211.9,2,    11.76,2,    19.65,6,     1.28,2,    0.996,2,    0.619,2,    0.336,4,    1.286,2,   2177.4,2,  6.61709799
  18HU19931105, AR13a,    23,  1,     21,2,19931123,1926, 38.5007, -44.8490, 5173,   1198.9,   4.7986,  35.0471,2,  35.0535,2,    243.2,2,    252.1,2,    11.48,2,    18.57,6,     1.22,2, -999.000,9,    0.450,2,    0.035,2,    2.003,2,   2165.6,2,  4.69774895
  18HU19931105, AR13a,    23,  1,     20,2,19931123,1926, 38.5007, -44.8490, 5173,   1501.9,   4.0173,  34.9624,2,  34.9644,2,    258.3,2,    270.4,2,    11.52,2,    18.06,6,     1.21,2,    1.245,2,    0.489,2,    0.039,2,    2.374,2,   2159.2,2,  3.89672083
  18HU19931105, AR13a,    23,  1,     19,2,19931123,1926, 38.5007, -44.8490, 5173,   1804.7,   3.6537,  34.9340,2,  34.9340,2,    264.4,2,    269.8,2,    11.35,2,    17.12,6,     1.14,2,    1.410,2,    0.563,2,    0.043,2,    2.436,2,   -999.0,9,  3.50981931
  18HU19931105, AR13a,    23,  1,     17,2,19931123,1926, 38.5007, -44.8490, 5173,   2403.6,   3.3914,  34.9521,2,  34.9607,2,    259.8,2,    274.0,2,    14.94,2,    17.55,6,     1.21,2,    0.847,2,    0.318,2,    0.028,2,    1.365,2,   2158.3,2,  3.19385139
  18HU19931105, AR13a,    23,  1,     18,2,19931123,1926, 38.5007, -44.8490, 5173,   2403.9,   3.3916,  34.9521,2,  34.9521,2,    260.0,2,    262.3,2,    12.78,2,    17.62,6,     1.20,2,    0.966,2,    0.631,2,    0.023,2,    1.662,2,   2158.0,2,  3.19405137
  18HU19931105, AR13a,    23,  1,     16,2,19931123,1926, 38.5007, -44.8490, 5173,   2691.7,   3.1919,  34.9518,2,  34.9527,2,    258.7,2,    273.6,2,    17.10,2,    17.84,6,     1.24,2,    0.423,2,    0.226,2,    0.015,2,    1.001,2,   2160.9,2,  2.96903075
  18HU19931105, AR13a,    23,  1,     15,2,19931123,1926, 38.5007, -44.8490, 5173,   2995.5,   2.9284,  34.9393,2,  34.9399,2,    259.9,2,    273.1,2,    19.10,2,    18.24,6,     1.27,2,    0.513,2,    0.212,2,    0.016,2,    0.891,2,   2162.0,2,  2.67960175
  18HU19931105, AR13a,    23,  1,     14,2,19931123,1926, 38.5007, -44.8490, 5173,   3297.8,   2.6838,  34.9264,2,  34.9337,2,    262.1,2,    274.6,2,    21.00,2,    18.06,6,     1.26,2,    0.741,2,    0.224,2,    0.000,2,    0.869,2,   2162.5,2,  2.40856057
  18HU19931105, AR13a,    23,  1,     12,2,19931123,1926, 38.5007, -44.8490, 5173,   3898.0,   2.3466,  34.9039,2,  34.9564,2,    263.8,2,    272.5,2,    17.14,2,    18.00,6,     1.24,2,    0.000,2,    0.252,2, -999.000,9,    0.945,2,   2157.9,2,  2.01378379
  18HU19931105, AR13a,    23,  1,     13,2,19931123,1926, 38.5007, -44.8490, 5173,   3898.2,   2.3470,  34.9040,2,  34.9193,2,    263.8,2,    271.6,2,    25.88,2,    18.36,6,     1.28,2,    0.386,2,    0.294,2,    0.012,2,    0.928,2,   2168.9,2,  2.01437744
  18HU19931105, AR13a,    23,  1,     11,2,19931123,1926, 38.5007, -44.8490, 5173,   4304.0,   2.2643,  34.8943,2,  34.8933,2,    263.7,2,    272.2,2,    29.45,2,    19.02,6,     1.32,2,    0.936,2,    0.236,2,    0.000,2,    0.971,2,   2174.5,2,  1.88745915
  18HU19931105, AR13a,    23,  1,     10,2,19931123,1926, 38.5007, -44.8490, 5173,   4723.1,   2.2375,  34.8856,2,  34.8870,2,    262.1,2,    268.2,2,    35.40,2,    19.94,6,     1.39,2,    0.449,2,    0.031,2,    0.015,2,    0.798,2,   2180.4,2,    1.811233
  18HU19931105, AR13a,    23,  1,      9,2,19931123,1926, 38.5007, -44.8490, 5173,   5123.1,   2.2647,  34.8827,2,  34.8983,2,    263.3,2,    268.2,2,    35.71,2,    19.78,6,     1.39,2,    1.014,2,    0.051,2,    0.014,2,    0.824,2,   2195.0,3,  1.78744979