BOTTLE,20081201PRINUNIVRMK
EXPOCODE,SECT_ID,STNNBR,CASTNO,BTLNBR,BTLNBR_FLAG_W,DATE,TIME,LATITUDE,LONGITUDE,DEPTH,CTDPRS,CTDTMP,CTDSAL,CTDSAL_FLAG_W,SALNTY,SALNTY_FLAG_W,CTDOXY,CTDOXY_FLAG_W,OXYGEN,OXYGEN_FLAG_W,SILCAT,SILCAT_FLAG_W,NITRAT,NITRAT_FLAG_W,PHSPHT,PHSPHT_FLAG_W,CFC-11,CFC-11_FLAG_W,CFC-12,CFC-12_FLAG_W,CFC113,CFC113_FLAG_W,CCL4,CCL4_FLAG_W,TCARBN,TCARBN_FLAG_W,THETA
,,,,,,,,,,METERS,DBARS,ITS-90,PSS-78,,PSS-78,,UMOL/KG,,UMOL/KG,,UMOL/KG,,UMOL/KG,,UMOL/KG,,PMOL/KG,,PMOL/KG,,PMOL/KG,,PMOL/KG,,UMOL/KG,,DEGC
  18HU19931105, AR13a,    47,  1,     12,2,19931130,1301, 45.6503, -47.9840, 1050,     50.0,   1.3183,  33.2706,2,  33.2742,2,    329.5,2,    348.4,2,     2.38,2,     4.22,6,     0.52,2,    5.488,2,    2.656,2, -999.000,9,    8.380,2,   2087.0,2,   1.3160902
  18HU19931105, AR13a,    47,  1,     11,2,19931130,1301, 45.6503, -47.9840, 1050,    111.0,   0.4853,  33.8140,2,  33.7979,2,    305.9,2,    316.2,2,     8.42,2,    11.21,6,     0.97,2,    5.496,3,    2.298,2,    0.339,2,    6.747,2,   2126.1,2, 0.481006222
  18HU19931105, AR13a,    47,  1,     10,2,19931130,1301, 45.6503, -47.9840, 1050,    209.9,   2.7313,  34.4914,2,  34.4821,2,    283.7,2,    293.1,2,     9.61,2,    15.00,6,     1.09,2,    3.825,2,    2.569,2,    0.256,2,    5.131,2,   2146.2,2,   2.7188319
  18HU19931105, AR13a,    47,  1,      9,2,19931130,1301, 45.6503, -47.9840, 1050,    300.2,   3.6769,  34.7437,2,  34.7454,2,    276.4,2,    286.9,2,    10.78,2,    16.11,6,     1.11,2,    3.676,2,    1.874,2,    0.254,2,    5.033,2,   2153.4,2,  3.65643139
  18HU19931105, AR13a,    47,  1,      8,2,19931130,1301, 45.6503, -47.9840, 1050,    396.5,   3.8660,  34.7958,2,  34.7972,2,    276.7,2,    286.4,2,    10.62,2,    16.27,6,     1.12,2,    3.841,2,    2.402,2,    0.217,2,    4.981,2,   2155.0,2,  3.83803834
  18HU19931105, AR13a,    47,  1,      7,2,19931130,1301, 45.6503, -47.9840, 1050,    499.4,   3.9957,  34.8523,2,  34.8540,2,    278.2,2,    288.6,2,    10.38,2,    16.56,6,     1.13,2,    3.814,2,    1.675,2,    0.224,2,    4.874,2,   2154.6,2,  3.95952786
  18HU19931105, AR13a,    47,  1,      6,2,19931130,1301, 45.6503, -47.9840, 1050,    601.2,   3.9761,  34.8772,2,  34.8768,2,    281.0,2,    291.0,2,    10.02,2,    16.35,6,     1.18,2,    4.068,2,    1.660,2,    0.228,2,    5.181,2,   2155.5,2,  3.93215602
  18HU19931105, AR13a,    47,  1,      5,2,19931130,1301, 45.6503, -47.9840, 1050,    805.2,   3.8068,  34.8833,2,  34.8843,2,    284.8,2,    295.1,2,     9.83,2,    16.58,6,     1.14,2,    3.336,2,    1.542,2,    0.204,2,    4.967,2,   2149.3,2,  3.74774633
  18HU19931105, AR13a,    47,  1,      4,2,19931130,1301, 45.6503, -47.9840, 1050,    942.6,   3.6769,  34.8822,2,  34.8842,2,    287.2,2,    297.0,2,     9.92,2,    16.77,6,     1.14,2,    3.651,2,    1.741,2, -999.000,9,    5.274,2,   2154.5,2,  3.60773401
  18HU19931105, AR13a,    47,  1,      3,2,19931130,1301, 45.6503, -47.9840, 1050,   1041.1,   3.3890,  34.8705,2,  34.8716,2,    291.6,2,    299.8,2,     9.85,2,    16.53,6,     1.15,2,    3.101,2,    1.424,2,    0.191,2,    4.933,2,   2153.9,2,  3.31416675
  18HU19931105, AR13a,    48,  1,     24,2,19931130,1726, 45.4858, -47.8110, 1600,     41.8,   2.9104,  33.3521,2,  34.9212,0,    317.0,2,   -999.0,9,     1.63,2,     3.31,6,     0.47,2,    5.046,2,    2.532,2,    0.332,2,    8.225,2,   2068.8,2,  2.90799722
  18HU19931105, AR13a,    48,  1,     23,2,19931130,1726, 45.4858, -47.8110, 1600,    103.3,   1.9107,  34.1475,2,  34.1332,2,    295.7,2,    304.4,2,     6.48,2,    13.10,6,     1.01,2,    4.885,2,    2.452,2,    0.350,2,    6.413,2,   2125.2,2,  1.90541502
  18HU19931105, AR13a,    48,  1,     22,2,19931130,1726, 45.4858, -47.8110, 1600,    199.7,   2.9583,  34.5994,2,  34.5996,2,    287.2,2,    295.7,2,     8.36,2,    16.17,6,     1.14,2,    4.293,2,    2.182,2,    0.309,2,    5.556,2,   2145.6,2,   2.9460458
  18HU19931105, AR13a,    48,  1,     21,2,19931130,1726, 45.4858, -47.8110, 1600,    297.4,   3.7702,  34.8061,2,  34.8018,2,    278.6,2,    288.2,2,     9.08,2,    17.05,6,     1.18,2,    3.817,2,    1.330,2,    0.169,2,    5.804,2,   2152.3,2,  3.74967928
  18HU19931105, AR13a,    48,  1,     20,2,19931130,1726, 45.4858, -47.8110, 1600,    405.2,   3.7488,  34.8620,2,  34.8571,2,    281.0,2,    291.7,2,     9.43,2,    17.37,6,     1.19,2,    3.608,2,    2.035,2,    0.205,2,    5.171,2,   2155.2,2,  3.72053157
  18HU19931105, AR13a,    48,  1,     19,2,19931130,1726, 45.4858, -47.8110, 1600,    598.9,   3.5359,  34.8764,2,  34.8755,2,    282.8,2,    292.3,2,     9.68,2,    17.65,6,     1.20,2,    3.334,2,    1.715,2,    0.188,2,    4.946,2,   2155.0,2,  3.49420486
  18HU19931105, AR13a,    48,  1,     18,2,19931130,1726, 45.4858, -47.8110, 1600,    802.2,   3.3458,  34.8694,2,  34.8682,2,    285.4,2,    294.0,2,    10.05,2,    17.36,6,     1.19,2,    3.063,2,    1.015,2,    0.104,2,    4.890,2,   2155.8,2,  3.28989199
  18HU19931105, AR13a,    48,  1,     17,2,19931130,1726, 45.4858, -47.8110, 1600,   1004.0,   3.2239,  34.8649,2,  34.8644,2,    287.0,2,    297.5,2,    10.21,2,    17.30,6,     1.18,2,    2.926,2,    1.455,2,    0.141,2,    4.613,2,   2153.7,2,  3.15331932
  18HU19931105, AR13a,    48,  1,     16,2,19931130,1726, 45.4858, -47.8110, 1600,   1192.7,   3.1160,  34.8553,2,  34.7561,0,    291.2,2,    297.3,2,     9.59,2,    16.80,6,     1.17,2,    3.113,2,    1.563,2,    0.161,2,    4.766,2,   2153.6,2,  3.03143214
  18HU19931105, AR13a,    48,  1,     15,2,19931130,1726, 45.4858, -47.8110, 1600,   1402.9,   2.9871,  34.8478,2,  34.8401,2,    294.6,2,    304.2,2,    10.19,2,    17.20,6,     1.17,2,    3.185,2,    1.590,2,    0.164,2,    4.881,2,   2152.9,2,  2.88678814
  18HU19931105, AR13a,    48,  1,     14,2,19931130,1726, 45.4858, -47.8110, 1600,   1553.1,   2.9795,  34.8521,2,  34.8515,2,    293.3,2,    298.9,2,    11.22,2,    17.24,6,     1.19,2,    3.025,2,    1.519,2,    0.136,2,    4.680,2,   2155.1,2,   2.8667229
  18HU19931105, AR13a,    48,  1,     13,2,19931130,1726, 45.4858, -47.8110, 1600,   1562.2,   2.9800,  34.8520,2,  34.8538,2,    293.6,2,    300.7,2,    11.21,2,    17.08,6,     1.17,2,    3.079,2,    1.547,2,    0.157,2,    4.661,2,   2154.2,2,  2.86644165
  18HU19931105, AR13a,    49,  1,     44,2,19931130,2018, 45.3392, -47.6320, 2486,     14.4,   6.1906,  33.1615,2,  33.1616,2,    291.8,2,    312.3,2,     1.70,2,     2.09,6,     0.36,2,    4.187,2,    2.126,2,    0.287,2,    6.305,2,   2043.7,2,  6.18940155
  18HU19931105, AR13a,    49,  1,     43,2,19931130,2018, 45.3392, -47.6320, 2486,     52.4,   6.1688,  33.1932,2,  33.1937,2,    286.8,2,    309.5,2,     2.05,2,     2.53,6,     0.41,2,    4.228,2,    2.134,2,    0.297,2,    6.354,2,   2100.3,2,  6.16443085
  18HU19931105, AR13a,    49,  1,     42,2,19931130,2018, 45.3392, -47.6320, 2486,    109.6,   2.5191,  34.1490,2,  34.1309,2,    275.6,2,    287.9,2,     8.09,2,    13.76,6,     1.05,2,    4.257,2,    2.139,2,    0.332,2,    5.724,2,   2132.0,2,   2.5129384
  18HU19931105, AR13a,    49,  1,     41,2,19931130,2018, 45.3392, -47.6320, 2486,    203.1,   4.2423,  34.7043,2,  34.7033,2,    239.7,2,    244.9,2,    11.72,2,    18.97,6,     1.28,2,    2.764,2,    1.420,2,    0.167,2,    3.534,2,   2162.2,2,   4.2277073
  18HU19931105, AR13a,    49,  1,     40,2,19931130,2018, 45.3392, -47.6320, 2486,    312.3,   4.3914,  34.8743,2,  34.8624,2,    247.2,2,    254.5,2,    11.41,2,    18.65,6,     1.26,2,    2.722,2,    1.089,2,    0.131,2,    3.538,2,   2164.3,2,   4.3682491
  18HU19931105, AR13a,    49,  1,     39,2,19931130,2018, 45.3392, -47.6320, 2486,    496.9,   4.2352,  34.9468,2,  34.9458,2,    255.9,2,    266.1,2,    11.41,2,    18.68,6,     1.22,2,    2.152,2,    1.026,2,    0.102,2,    3.082,2,   2164.7,2,  4.19820854
  18HU19931105, AR13a,    49,  1,     38,2,19931130,2018, 45.3392, -47.6320, 2486,    700.8,   3.8575,  34.9237,2,  34.9257,2,    266.6,2,    277.5,2,    11.15,2,    18.41,6,     1.19,2, -999.000,9, -999.000,9, -999.000,9, -999.000,9,   2160.3,2,  3.80633488
  18HU19931105, AR13a,    49,  1,     37,2,19931130,2018, 45.3392, -47.6320, 2486,    891.6,   3.5783,  34.9029,2,  34.8913,2,    273.7,2,    285.6,2,    10.92,2,    17.98,6,     1.17,2,    2.155,2,    0.759,2,    0.074,2,    3.625,2,   2156.0,2,  3.51389478
  18HU19931105, AR13a,    49,  1,     36,2,19931130,2018, 45.3392, -47.6320, 2486,    999.6,   3.5249,  34.9045,2,  34.9054,2,    275.4,2,    285.0,2,    11.09,2,    17.71,6,     1.20,2,    2.000,2,    0.937,2,    0.096,2,    3.346,2,   2158.1,2,  3.45225805
  18HU19931105, AR13a,    49,  1,     35,2,19931130,2018, 45.3392, -47.6320, 2486,   1146.0,   3.2853,  34.8772,2,  34.8788,2,    282.3,2,    291.8,2,    10.73,2,    18.04,6,     1.17,2,    2.443,2,    1.200,2,    0.119,2,    3.981,2,   2154.5,2,   3.2029101
  18HU19931105, AR13a,    49,  1,     34,2,19931130,2018, 45.3392, -47.6320, 2486,   1297.4,   3.2149,  34.8770,2,  34.8772,2,    283.5,2,    294.7,2,    10.76,2,    17.57,6,     1.18,2,    2.445,2,    0.497,2,    0.027,2,    4.741,2,   2153.9,2,  3.12082912
  18HU19931105, AR13a,    49,  1,     33,2,19931130,2018, 45.3392, -47.6320, 2486,   1453.1,   3.0904,  34.8645,2,  34.8644,2,    287.4,2,    299.0,2,    10.37,2,    17.31,6,     1.17,2,    2.660,2,    1.330,2,    0.138,2,    4.281,2,   2152.9,2,  2.98473058
  18HU19931105, AR13a,    49,  1,     32,2,19931130,2018, 45.3392, -47.6320, 2486,   1596.7,   3.0334,  34.8613,2,  34.8626,2,    287.2,2,    298.9,2,    10.30,2,    17.00,6,     1.14,2,    2.764,2,    1.309,2,    0.134,2,    4.467,2,   2151.5,2,  2.91624121
  18HU19931105, AR13a,    49,  1,     31,2,19931130,2018, 45.3392, -47.6320, 2486,   1741.4,   3.0257,  34.8654,2,  34.8668,2,    284.4,2,    299.6,2,    10.55,2,    17.03,6,     1.16,2,    2.698,2,    1.363,2,    0.161,2,    4.299,2,   2153.0,2,  2.89610393
  18HU19931105, AR13a,    49,  1,     30,2,19931130,2018, 45.3392, -47.6320, 2486,   1893.9,   3.0726,  34.8824,2,  34.8828,2,    280.0,2,    294.4,2,    11.09,2,    17.23,6,     1.15,2,    2.265,2,    1.255,2,    0.103,2,    3.789,2,   2155.1,2,  2.92876239
  18HU19931105, AR13a,    49,  1,     29,2,19931130,2018, 45.3392, -47.6320, 2486,   2049.6,   3.0866,  34.9066,2,  34.9062,2,    273.4,2,    284.4,2,    11.96,2,    17.19,6,     1.15,2,    1.592,2,    0.514,2,    0.044,2,    2.929,2,   2154.6,2,  2.92826232
  18HU19931105, AR13a,    49,  1,     28,2,19931130,2018, 45.3392, -47.6320, 2486,   2207.6,   3.0673,  34.8208,2,  34.9143,2,    105.9,4,    285.8,2,    12.54,2,    17.25,6,     1.17,2,    1.338,2,    0.704,2,    0.058,2,    2.458,2,   2154.8,2,  2.89445924
  18HU19931105, AR13a,    49,  1,     27,2,19931130,2018, 45.3392, -47.6320, 2486,   2312.6,   2.9918,  34.8584,2,  34.9193,2,    110.8,4,    284.3,2,    12.82,2,    17.31,6,     1.18,2,    1.213,2,    0.795,2,    0.064,2,    2.335,2,   2157.5,2,  2.81021958
  18HU19931105, AR13a,    49,  1,     25,2,19931130,2018, 45.3392, -47.6320, 2486,   2481.2,   2.9086,  34.8488,2,  34.8702,2,    184.2,4,    284.0,2,    13.35,2,    16.85,6,     1.17,2,    1.100,2,    0.545,2,    0.032,2,    2.152,2,   2163.5,2,  2.71242157
  18HU19931105, AR13a,    49,  1,     26,2,19931130,2018, 45.3392, -47.6320, 2486,   2481.2,   2.9089,  34.8506,2,  34.9240,2,    177.4,4,    285.1,2,    13.48,2,    17.10,6,     1.18,2,    1.101,2,    0.576,2,    0.035,2,    2.162,2,   2163.0,2,  2.71249875
  18HU19931105, AR13a,    50,  1,     61,2,19931130,  18, 45.1722, -47.4600, 3046,     17.4,   6.2795,  33.1417,2,  33.1332,2,    299.7,2,    312.1,2,     1.75,2,     1.92,6,     0.34,2,    4.061,2,    2.065,2,    0.296,2,    5.765,2,   -999.0,9,   6.2780402
  18HU19931105, AR13a,    50,  1,     60,2,19931130,  18, 45.1722, -47.4600, 3046,     54.2,   5.9055,  33.2375,2,  33.2379,2,    295.2,2,    307.3,2,     2.13,2,     3.02,6,     0.42,2, -999.000,9, -999.000,9, -999.000,9, -999.000,9,   -999.0,9,  5.90108791
  18HU19931105, AR13a,    50,  1,     59,2,19931130,  18, 45.1722, -47.4600, 3046,     98.3,   6.3443,  34.5790,2,  34.5523,2,    238.1,2,    236.0,2,     8.82,2,    15.57,6,     1.09,2,    2.772,2,    1.264,2,    0.163,2,    2.701,2,   -999.0,9,   6.3357206
  18HU19931105, AR13a,    50,  1,     58,2,19931130,  18, 45.1722, -47.4600, 3046,    205.7,   4.4453,  34.6159,2,  34.6092,2,    236.6,2,    236.1,2,    11.83,2,    18.98,6,     1.27,2,    2.733,2,    1.201,2,    0.184,2,    3.336,2,   -999.0,9,  4.43021868
  18HU19931105, AR13a,    50,  1,     57,2,19931130,  18, 45.1722, -47.4600, 3046,    298.3,   4.3046,  34.8082,2,  34.8067,2,    248.5,2,    250.9,2,    11.79,2,    19.03,6,     1.24,2,    2.494,2,    1.066,2,    0.132,2,    3.227,2,   -999.0,9,  4.28275071
  18HU19931105, AR13a,    50,  1,     56,2,19931130,  18, 45.1722, -47.4600, 3046,    400.5,   4.2334,  34.8835,2,  34.8827,2,    255.8,2,    259.7,2,    11.58,2,    18.91,6,     1.21,2, -999.000,9, -999.000,9, -999.000,9, -999.000,9,   -999.0,9,  4.20392627
  18HU19931105, AR13a,    50,  1,     55,2,19931130,  18, 45.1722, -47.4600, 3046,    498.1,   4.0677,  34.9047,2,  34.9044,2,    265.0,2,    270.4,2,    11.11,2,    18.60,6,     1.18,2,    2.450,2,    1.076,2,    0.191,2,    3.716,2,   -999.0,9,  4.03130298
  18HU19931105, AR13a,    50,  1,     54,2,19931130,  18, 45.1722, -47.4600, 3046,    705.9,   3.8970,  34.9372,2,  34.9365,2,    269.9,2,    275.9,2,    11.43,2,    18.63,6,     1.18,2,    1.794,2,    0.717,2, -999.000,9,    2.777,2,   -999.0,9,   3.8452048
  18HU19931105, AR13a,    50,  1,     53,2,19931130,  18, 45.1722, -47.4600, 3046,    903.5,   3.4099,  34.8836,2,  34.8832,2,    283.1,2,    292.7,2,    10.86,2,    18.00,6,     1.13,2,    2.450,2,    1.076,2,    0.191,2,    3.716,2,   -999.0,9,  3.34574877
  18HU19931105, AR13a,    50,  1,     52,2,19931130,  18, 45.1722, -47.4600, 3046,   1104.1,   3.1954,  34.8663,2,  34.8663,2,    287.8,2,    294.8,2,    10.58,2,    17.72,6,     1.26,3,    2.630,2,    1.126,2,    0.132,2,    3.980,2,   -999.0,9,  3.11716946
  18HU19931105, AR13a,    50,  1,     51,2,19931130,  18, 45.1722, -47.4600, 3046,   1394.5,   3.0813,  34.8614,2,  34.8620,2,    291.0,2,    298.6,2,    10.52,2,    17.53,6,     1.13,2,    2.651,2,    1.779,2,    0.287,4,    3.740,2,   -999.0,9,  2.98061916
  18HU19931105, AR13a,    50,  1,     50,2,19931130,  18, 45.1722, -47.4600, 3046,   1701.3,   3.0445,  34.8641,2,  34.8632,2,    291.8,2,    300.7,2,    10.67,2,    17.57,6,     1.12,2,    2.802,2,    1.767,2,    0.125,2,    3.777,2,   -999.0,9,  2.91817192
  18HU19931105, AR13a,    50,  1,     49,2,19931130,  18, 45.1722, -47.4600, 3046,   1991.6,   3.0664,  34.8818,2,  34.8790,2,    288.6,2,    294.4,2,    11.20,2,    17.31,6,     1.12,2,    2.255,2,    1.351,2,    0.332,4,    3.104,2,   -999.0,9,  2.91379299
  18HU19931105, AR13a,    50,  1,     48,2,19931130,  18, 45.1722, -47.4600, 3046,   2292.7,   3.0579,  34.9180,2,  34.8865,2,    280.1,2,    292.5,2,    11.58,2,    17.50,6,     1.14,2,    2.250,2,    1.328,2,    0.110,2,    3.269,2,   -999.0,9,  2.87722114
  18HU19931105, AR13a,    50,  1,     47,2,19931130,  18, 45.1722, -47.4600, 3046,   2591.9,   2.8273,  34.9231,2,  34.9185,2,    280.8,2,    286.0,2,    13.88,2,    17.17,6,     1.11,2,    1.260,2,    0.300,2,    0.057,2,    2.227,2,   -999.0,9,  2.62160451
  18HU19931105, AR13a,    50,  1,     46,2,19931130,  18, 45.1722, -47.4600, 3046,   2898.2,   2.6261,  34.9185,2,  34.9172,2,    283.2,2,    286.1,2,    14.88,2,    17.16,6,     1.11,2,    2.230,2,    1.534,3,    0.121,2,    3.170,2,   -999.0,9,  2.39385689
  18HU19931105, AR13a,    50,  1,     45,2,19931130,  18, 45.1722, -47.4600, 3046,   3039.3,   2.5204,  34.9150,2,  34.9172,2,    286.5,2,    287.7,2,    15.50,2,    17.13,6,     1.12,2,    1.139,2,    0.323,2, -999.000,9,    2.006,2,   -999.0,9,  2.27604845