BOTTLE,20081201PRINUNIVRMK
EXPOCODE,SECT_ID,STNNBR,CASTNO,BTLNBR,BTLNBR_FLAG_W,DATE,TIME,LATITUDE,LONGITUDE,DEPTH,CTDPRS,CTDTMP,CTDSAL,CTDSAL_FLAG_W,SALNTY,SALNTY_FLAG_W,CTDOXY,CTDOXY_FLAG_W,OXYGEN,OXYGEN_FLAG_W,SILCAT,SILCAT_FLAG_W,NITRAT,NITRAT_FLAG_W,PHSPHT,PHSPHT_FLAG_W,CFC-11,CFC-11_FLAG_W,CFC-12,CFC-12_FLAG_W,CFC113,CFC113_FLAG_W,CCL4,CCL4_FLAG_W,TCARBN,TCARBN_FLAG_W,THETA
,,,,,,,,,,METERS,DBARS,ITS-90,PSS-78,,PSS-78,,UMOL/KG,,UMOL/KG,,UMOL/KG,,UMOL/KG,,UMOL/KG,,PMOL/KG,,PMOL/KG,,PMOL/KG,,PMOL/KG,,UMOL/KG,,DEGC
  18HU19931105, AR13a,    24,  1,     47,2,19931124, 203, 38.9567, -44.3790, 5010,     33.8,  19.1228,  36.1723,2,  36.1718,2,    212.8,2,    231.6,2,     0.73,2,     0.47,6,     0.00,2,    2.013,2,    1.061,2,    0.163,2,    2.467,2,   -999.0,9,  19.1167205
  18HU19931105, AR13a,    24,  1,     48,2,19931124, 203, 38.9567, -44.3790, 5010,     33.8,  19.1228,  36.1723,2,  36.1725,2,    212.8,2,    227.5,2,     0.63,2,     0.40,6,     0.00,2,    1.966,2,    1.061,2,    0.149,2,    2.475,2,   -999.0,9,  19.1167205
  18HU19931105, AR13a,    24,  1,     45,2,19931124, 203, 38.9567, -44.3790, 5010,    404.9,  12.6425,  35.6168,2,  35.6214,2,    181.3,2,    186.0,2,     6.35,2,    14.85,6,     0.90,2,    1.560,2,    0.772,2,    0.053,2,    0.781,2,   -999.0,9,  12.5870509
  18HU19931105, AR13a,    24,  1,     46,2,19931124, 203, 38.9567, -44.3790, 5010,    404.9,  12.6425,  35.6168,2,  35.6225,2,    181.3,2,    187.1,2,     6.34,2,    14.88,6,     0.92,2,    1.570,2,    0.796,2,    0.077,2,    0.830,2,   -999.0,9,  12.5870503
  18HU19931105, AR13a,    24,  1,     44,2,19931124, 203, 38.9567, -44.3790, 5010,    581.5,   9.3308,  35.2237,2,  35.1690,2,    165.7,2,    209.9,0,    11.88,2,    19.63,6,     1.27,2,    1.085,2,    0.557,2,    0.067,2,    1.426,2,   -999.0,9,  9.26466644
  18HU19931105, AR13a,    24,  1,     43,2,19931124, 203, 38.9567, -44.3790, 5010,    808.7,   6.3456,  35.0929,2,  35.1086,2,    209.0,2,    209.3,2,    12.37,2,    20.49,6,     1.32,2,    1.066,2,    0.510,2,    0.056,2,    1.426,2,   -999.0,9,  6.27031039
  18HU19931105, AR13a,    24,  1,     42,2,19931124, 203, 38.9567, -44.3790, 5010,   1004.1,   5.2394,  35.0690,2,  35.0757,2,    232.6,2,    237.8,2,    11.76,2,    19.27,6,     1.25,2,    1.118,2,    0.533,2,    0.034,2,    1.861,2,   -999.0,9,  5.15295637
  18HU19931105, AR13a,    24,  1,     41,2,19931124, 203, 38.9567, -44.3790, 5010,   1308.1,   4.2577,  34.9849,2,  34.9897,2,    252.8,2,    265.1,2,    11.66,2,    18.25,6,     1.21,2,    1.157,2,    0.577,2,    0.092,2,    2.109,2,   -999.0,9,  4.15210639
  18HU19931105, AR13a,    24,  1,     40,2,19931124, 203, 38.9567, -44.3790, 5010,   1599.9,   3.8179,  34.9463,2,  34.9501,2,    261.8,2,    273.4,2,    11.68,2,    17.84,6,     1.18,2,    1.219,2,    0.596,2,    0.069,2,    2.307,2,   -999.0,9,  3.69074108
  18HU19931105, AR13a,    24,  1,     39,2,19931124, 203, 38.9567, -44.3790, 5010,   1893.7,   3.5642,  34.9280,2,  34.9280,2,    266.0,2,    269.6,2,    11.15,2,    16.55,6,     1.14,2,    1.207,2,    0.566,2,    0.106,2,    2.113,2,   -999.0,9,  3.41327149
  18HU19931105, AR13a,    24,  1,     38,2,19931124, 203, 38.9567, -44.3790, 5010,   2201.6,   3.4810,  34.9434,2,  35.0164,2,    263.7,2,    267.6,2,    12.74,2,    17.24,6,     1.15,2,    0.978,2,    0.595,2,    0.034,2,    1.838,2,   -999.0,9,  3.30162651
  18HU19931105, AR13a,    24,  1,     37,2,19931124, 203, 38.9567, -44.3790, 5010,   2494.1,   3.3572,  34.9580,2,  34.9598,2,    259.0,2,    273.5,2,    15.99,2,    17.91,6,     1.21,2,    0.437,2,    0.243,2,    0.020,2,    1.204,2,   -999.0,9,  3.15121178
  18HU19931105, AR13a,    24,  1,     36,2,19931124, 203, 38.9567, -44.3790, 5010,   2794.2,   3.0926,  34.9478,2,  34.9486,2,    260.2,2,    273.0,2,    18.02,2,    17.95,6,     1.22,2,    0.428,2,    0.287,2,    0.017,2,    1.008,2,   -999.0,9,  2.86121277
  18HU19931105, AR13a,    24,  1,     35,2,19931124, 203, 38.9567, -44.3790, 5010,   3101.3,   2.8057,  34.9332,2,  34.9337,2,    262.1,2,    273.8,2,    20.10,2,    17.93,6,     1.23,2,    0.385,2,    0.200,2,    0.019,2,    0.981,2,   -999.0,9,  2.54852353
  18HU19931105, AR13a,    24,  1,     34,2,19931124, 203, 38.9567, -44.3790, 5010,   3399.5,   2.5148,  34.9175,2,  34.9225,2,    263.7,2,    275.3,2,    22.96,2,    18.10,6,     1.25,2,    0.354,2,    0.158,2,    0.000,2,    0.963,2,   -999.0,9,  2.23274932
  18HU19931105, AR13a,    24,  1,     33,2,19931124, 203, 38.9567, -44.3790, 5010,   3697.0,   2.3538,  34.9058,2,  34.9321,2,    263.2,2,    273.3,2,    25.04,2,    18.48,6,     1.26,2,    0.422,2,    0.278,2,    0.033,2,    1.051,2,   -999.0,9,  2.04336685
  18HU19931105, AR13a,    24,  1,     32,2,19931124, 203, 38.9567, -44.3790, 5010,   3997.9,   2.2776,  34.8980,2,  34.9151,2,    263.0,2,    273.1,2,    25.79,2,    18.73,6,     1.25,2, -999.000,9, -999.000,9, -999.000,9, -999.000,9,   -999.0,9,  1.93562176
  18HU19931105, AR13a,    24,  1,     31,2,19931124, 203, 38.9567, -44.3790, 5010,   4294.9,   2.2455,  34.8921,2,  34.8954,2,    263.7,2,    273.0,2,    31.17,2,    19.32,6,     1.31,2,    0.387,2,    0.197,2,    0.031,2,    0.942,2,   -999.0,9,   1.8702697
  18HU19931105, AR13a,    24,  1,     30,2,19931124, 203, 38.9567, -44.3790, 5010,   4590.8,   2.2342,  34.8875,2,  34.8870,2,    263.7,2,    270.2,2,    33.74,2,    19.72,6,     1.33,2,    0.352,2,    0.269,2, -999.000,9,    0.848,2,   -999.0,9,  1.82413693
  18HU19931105, AR13a,    24,  1,     29,2,19931124, 203, 38.9567, -44.3790, 5010,   4900.1,   2.2510,  34.8844,2,  34.8860,2,    264.7,2,    267.3,2,    35.55,2,    19.65,6,     1.37,2,    0.329,2,    0.184,2,    0.012,2,    0.771,2,   -999.0,9,  1.80242203
  18HU19931105, AR13a,    25,  1,     68,2,19931124, 753, 39.3850, -43.9180, 4600,     15.2,  19.0299,  36.2069,2,  36.2100,2,    213.2,2,    231.3,2,     0.64,2,     0.60,6,     0.00,2,    2.028,2,    1.035,2,    0.113,2,    2.558,2,   -999.0,9,  19.0271757
  18HU19931105, AR13a,    25,  1,     66,2,19931124, 753, 39.3850, -43.9180, 4600,    204.9,  16.0336,  36.1226,2,  36.1213,2,    188.6,2,    197.2,2,     2.73,2,     7.81,6,     0.45,2,    2.046,2,    0.903,2,    0.069,2,    0.625,2,   -999.0,9,  16.0008344
  18HU19931105, AR13a,    25,  1,     67,2,19931124, 753, 39.3850, -43.9180, 4600,    204.9,  16.0336,  36.1226,2,  36.1221,2,    188.6,2,    196.7,2,     2.73,2,     7.87,6,     0.44,2,    1.971,2,    1.319,2,    0.070,2,    0.704,2,   -999.0,9,  16.0008342
  18HU19931105, AR13a,    25,  1,     65,2,19931124, 753, 39.3850, -43.9180, 4600,    399.8,  12.6512,  35.6215,2,  35.6248,2,    188.5,2,    196.9,2,     5.89,2,    13.75,6,     0.82,2,    1.783,2,    1.158,2,    0.060,2,    0.837,2,   -999.0,9,  12.5964337
  18HU19931105, AR13a,    25,  1,     64,2,19931124, 753, 39.3850, -43.9180, 4600,    793.5,   6.7343,  35.0545,2,  35.0569,2,    198.6,2,    198.9,2,    12.70,2,    21.09,6,     1.38,2,    1.273,2,    0.716,2,    0.035,2,    1.267,2,   -999.0,9,  6.65826768
  18HU19931105, AR13a,    25,  1,     63,2,19931124, 753, 39.3850, -43.9180, 4600,    995.5,   5.4689,  35.0530,2,  35.0586,2,    229.0,2,    234.2,2,    11.58,2,    19.14,6,     1.23,2,    1.414,2,    0.788,2,    0.053,2,    1.855,2,   -999.0,9,  5.38156304
  18HU19931105, AR13a,    25,  1,     62,2,19931124, 753, 39.3850, -43.9180, 4600,    996.1,   5.4691,  35.0527,2,  35.0584,2,    228.4,2,    232.9,2,    11.61,2,    18.98,6,     1.23,2,    1.456,2,    0.749,2,    0.047,2,    1.940,2,   -999.0,9,  5.38170502
  18HU19931105, AR13a,    25,  1,     61,2,19931124, 753, 39.3850, -43.9180, 4600,   1199.8,   4.6715,  35.0072,2,  35.0108,2,    245.7,2,    255.2,2,    11.39,2,    18.33,6,     1.19,2,    1.674,2,    0.654,2,    0.067,2,    2.334,2,   -999.0,9,  4.57179895
  18HU19931105, AR13a,    25,  1,     60,2,19931124, 753, 39.3850, -43.9180, 4600,   1503.5,   4.0004,  34.9539,2,  34.9548,2,    260.4,2,    271.2,2,    11.29,2,    17.73,6,     1.16,2, -999.000,9,    0.583,2,    0.044,2,    2.541,2,   -999.0,9,  3.87988975
  18HU19931105, AR13a,    25,  1,     59,2,19931124, 753, 39.3850, -43.9180, 4600,   1794.7,   3.7527,  34.9457,2,  34.9863,2,    263.1,2,    271.5,2,    11.59,2,    17.27,6,     1.13,2,    1.239,2,    0.464,2,    0.201,4,    2.296,2,   -999.0,9,  3.60826708
  18HU19931105, AR13a,    25,  1,     58,2,19931124, 753, 39.3850, -43.9180, 4600,   2304.4,   3.3942,  34.9310,2,  34.9532,2,    267.4,2,    276.5,2,    12.71,2,    17.13,6,     1.14,2,    1.138,2,    0.622,2,    0.032,2,    2.159,2,   -999.0,9,  3.20644009
  18HU19931105, AR13a,    25,  1,     57,2,19931124, 753, 39.3850, -43.9180, 4600,   2306.0,   3.3944,  34.9310,2,  34.9341,2,    267.5,2,    277.5,2,    12.96,2,    17.50,6,     1.14,2, -999.000,9,    0.540,2,    0.036,2,    2.156,2,   -999.0,9,  3.20655089
  18HU19931105, AR13a,    25,  1,     56,2,19931124, 753, 39.3850, -43.9180, 4600,   2593.8,   3.2584,  34.9391,2,  34.9400,2,    264.4,2,    276.7,2,    14.37,2,    17.65,6,     1.17,2,    0.874,2,    0.434,2,    0.048,2,    1.668,2,   -999.0,9,  3.04426438
  18HU19931105, AR13a,    25,  1,     55,2,19931124, 753, 39.3850, -43.9180, 4600,   2900.7,   3.0434,  34.9376,2,  34.9387,2,    264.5,2,    275.3,2,    15.98,2,    17.63,6,     1.17,2,    1.241,2,    0.400,2,    0.015,2,    1.376,2,   -999.0,9,  2.80205182
  18HU19931105, AR13a,    25,  1,     54,2,19931124, 753, 39.3850, -43.9180, 4600,   3078.3,   2.9037,  34.9327,2,  34.9478,2,    265.6,2,    275.3,2,    16.44,2,    17.47,6,     1.14,2, -999.000,9,    0.321,2,    0.012,2,    1.371,2,   -999.0,9,   2.6467054
  18HU19931105, AR13a,    25,  1,     53,2,19931124, 753, 39.3850, -43.9180, 4600,   3675.4,   2.4556,  34.9109,2,  34.9318,2,    271.2,2,    277.4,2,    18.94,2,    17.41,6,     1.14,2,    1.065,2,    0.242,2,    0.097,3,    1.542,2,   -999.0,9,  2.14491157
  18HU19931105, AR13a,    25,  1,     52,2,19931124, 753, 39.3850, -43.9180, 4600,   3675.6,   2.4555,  34.9110,2,  34.9267,2,    270.3,2,    278.8,2,    18.82,2,    17.60,6,     1.15,2,    1.466,2,    0.289,2,    0.019,2,    1.339,2,   -999.0,9,  2.14482163
  18HU19931105, AR13a,    25,  1,     51,2,19931124, 753, 39.3850, -43.9180, 4600,   3991.0,   2.3183,  34.9030,2,  34.9104,2,    270.9,2,    278.4,2,    21.28,2,    17.66,6,     1.16,2, -999.000,9,    0.439,2,    0.022,2,    1.675,2,   -999.0,9,  1.97600386
  18HU19931105, AR13a,    25,  1,     50,2,19931124, 753, 39.3850, -43.9180, 4600,   4339.6,   2.2380,  34.8968,2,  34.8996,2,    275.2,2,    282.1,2,    21.42,2,    16.96,6,     1.15,2,    1.493,2,    0.511,2,    0.090,3,    2.064,2,   -999.0,9,  1.85771087
  18HU19931105, AR13a,    25,  1,     49,2,19931124, 753, 39.3850, -43.9180, 4600,   4597.3,   2.1936,  34.8827,2,  34.8850,2,    264.3,2,    268.7,2,    35.56,2,    19.58,6,     1.33,2,    1.907,3,    0.155,2,    0.012,2,    0.668,2,   -999.0,9,  1.78403544
  18HU19931105, AR13a,    26,  1,     87,2,19931124,1351, 39.8200, -43.4380, 4686,     97.7,  18.4602,  36.1747,2,  36.2096,2,    216.9,2,    231.2,2,     0.66,2,     0.55,6,     0.05,2,    1.977,2,    1.088,2,    0.145,2,    2.527,2,   2050.8,2,  18.4430266
  18HU19931105, AR13a,    26,  1,     88,2,19931124,1351, 39.8200, -43.4380, 4686,     97.7,  18.4602,  36.1747,2,  36.1747,2,    216.9,2,    230.6,2,     0.63,2,     1.20,6,     0.11,2,    2.100,2,    1.094,2,    0.113,2,    2.480,2,   2065.0,2,  18.4430304
  18HU19931105, AR13a,    26,  1,     86,2,19931124,1351, 39.8200, -43.4380, 4686,    299.9,  15.3681,  36.0673,2,  36.0716,2,    196.4,2,    203.7,2,     3.22,2,     8.67,2,     0.53,2,    1.969,2,    0.936,2,    0.058,2,    0.876,2,   2113.5,2,  15.3213853
  18HU19931105, AR13a,    26,  1,     85,2,19931124,1351, 39.8200, -43.4380, 4686,    299.9,  15.3681,  36.0673,2,  36.0756,2,    196.4,2,    203.7,2,     3.24,2,     8.75,6,     0.51,2,    1.878,2,    0.950,2,    0.046,2,    0.995,2,   2111.6,2,  15.3213839
  18HU19931105, AR13a,    26,  1,     83,2,19931124,1351, 39.8200, -43.4380, 4686,    603.7,  10.5305,  35.3528,2,  35.3591,2,    169.2,2,    168.4,2,    10.04,2,    19.79,6,     1.25,2,    1.155,2,    0.542,2,    0.029,2,    0.698,2,   2166.0,2,  10.4563911
  18HU19931105, AR13a,    26,  1,     84,2,19931124,1351, 39.8200, -43.4380, 4686,    604.4,  10.5261,  35.3525,2,  35.3525,2,    170.0,2,    169.5,2,  -999.00,9,  -999.00,9,  -999.00,9,    1.155,2,    0.566,2,    0.041,2,    0.725,2,   2166.8,2,  10.4519274
  18HU19931105, AR13a,    26,  1,     82,2,19931124,1351, 39.8200, -43.4380, 4686,    800.2,   7.0736,  35.0634,2,  35.0723,2,    190.6,2,    188.6,2,    13.02,2,    21.27,6,     1.39,2,    1.045,2,    0.496,2,    0.028,2,    1.273,2,   2176.0,2,  6.99485238
  18HU19931105, AR13a,    26,  1,     81,2,19931124,1351, 39.8200, -43.4380, 4686,    998.4,   5.5986,  35.0458,2,  35.0543,2,    225.7,2,    228.4,2,    11.99,2,    19.40,6,     1.23,2, -999.000,9, -999.000,9, -999.000,9, -999.000,9,   2170.7,2,  5.51002177
  18HU19931105, AR13a,    26,  1,     80,2,19931124,1351, 39.8200, -43.4380, 4686,   1298.4,   4.7187,  35.0311,2,  35.0352,2,    247.7,2,    255.9,2,    11.40,2,    18.08,6,     1.17,2,    1.305,2,    0.618,2,    0.032,2,    2.196,2,   -999.0,9,  4.60937253
  18HU19931105, AR13a,    26,  1,     79,2,19931124,1351, 39.8200, -43.4380, 4686,   1595.9,   4.1049,  34.9771,2,  34.9771,2,    260.1,2,    260.7,2,    10.42,2,    16.44,6,     1.04,2, -999.000,9, -999.000,9, -999.000,9, -999.000,9,   2150.9,2,   3.9745976
  18HU19931105, AR13a,    26,  1,     78,2,19931124,1351, 39.8200, -43.4380, 4686,   1900.0,   3.7309,  34.9432,2,  34.9432,2,    266.2,2,   -999.0,9,     9.49,2,    15.83,6,     1.00,2,    1.492,2,    0.724,2,    0.046,2,    1.790,2,   2147.9,2,  3.57697576
  18HU19931105, AR13a,    26,  1,     77,2,19931124,1351, 39.8200, -43.4380, 4686,   2195.4,   3.5996,  34.9468,2,  34.9533,2,    264.8,2,    276.4,2,    12.88,2,    17.58,6,     1.13,2,    0.864,2,    0.398,2,    0.020,2,    1.950,2,   2156.3,2,  3.41913675
  18HU19931105, AR13a,    26,  1,     76,2,19931124,1351, 39.8200, -43.4380, 4686,   2506.8,   3.4383,  34.9521,2,  34.9565,2,    264.7,2,    273.3,2,    14.84,2,    17.71,6,     1.16,2,    0.651,2,    0.298,2,    0.000,2,    1.382,2,   2157.6,2,  3.22956496
  18HU19931105, AR13a,    26,  1,     75,2,19931124,1351, 39.8200, -43.4380, 4686,   2808.7,   3.1990,  34.9467,2,  34.9495,2,    264.8,2,    274.5,2,    16.67,2,    18.06,6,     1.16,2,    0.529,2,    0.273,2,    0.069,2,    1.176,2,   2159.1,2,    2.963956
  18HU19931105, AR13a,    26,  1,     74,2,19931124,1351, 39.8200, -43.4380, 4686,   3104.0,   2.9388,  34.9335,2,  34.9411,2,    268.3,2,    278.7,2,    16.43,2,    17.38,6,     1.14,2,    0.618,2,    0.411,2, -999.000,9,    1.328,2,   2158.1,2,  2.67834225
  18HU19931105, AR13a,    26,  1,     73,2,19931124,1351, 39.8200, -43.4380, 4686,   3398.6,   2.7807,  34.9274,2,  34.9370,2,    268.8,2,    277.3,2,    17.73,2,    17.37,6,     1.15,2,    0.681,2,    0.336,2,    0.014,2,    1.403,2,   2160.2,2,  2.49224936
  18HU19931105, AR13a,    26,  1,     72,2,19931124,1351, 39.8200, -43.4380, 4686,   3695.4,   2.5544,  34.9161,2,  35.0017,2,    269.9,2,    265.3,2,    14.76,2,    17.57,6,     1.15,2,    0.933,2,    0.461,2,    0.039,2,    1.629,2,   2156.7,2,  2.23852317
  18HU19931105, AR13a,    26,  1,     71,2,19931124,1351, 39.8200, -43.4380, 4686,   3998.7,   2.3732,  34.9054,2,  34.9077,2,    271.7,2,    277.7,2,    22.01,2,    17.58,6,     1.18,2,    0.727,2,    0.396,2,    0.072,3,    1.494,2,   2163.7,2,  2.02851582
  18HU19931105, AR13a,    26,  1,     70,2,19931124,1351, 39.8200, -43.4380, 4686,   4295.3,   2.2256,  34.8955,2,  34.8960,2,    274.3,2,    280.5,2,    23.65,2,    17.42,6,     1.16,2,    0.681,2,    0.336,2,    0.014,2,    1.403,2,   2167.8,2,  1.85090748
  18HU19931105, AR13a,    26,  1,     69,2,19931124,1351, 39.8200, -43.4380, 4686,   4605.9,   2.2533,  34.8952,2,  34.8992,2,    277.0,2,    280.5,2,    22.83,2,    17.33,6,     1.15,2,    1.053,2,    0.475,2,    0.041,2,    2.007,2,   2168.0,2,  1.84072588