BOTTLE,20081201PRINUNIVRMK
EXPOCODE,SECT_ID,STNNBR,CASTNO,BTLNBR,BTLNBR_FLAG_W,DATE,TIME,LATITUDE,LONGITUDE,DEPTH,CTDPRS,CTDTMP,CTDSAL,CTDSAL_FLAG_W,SALNTY,SALNTY_FLAG_W,CTDOXY,CTDOXY_FLAG_W,OXYGEN,OXYGEN_FLAG_W,SILCAT,SILCAT_FLAG_W,NITRAT,NITRAT_FLAG_W,PHSPHT,PHSPHT_FLAG_W,CFC-11,CFC-11_FLAG_W,CFC-12,CFC-12_FLAG_W,CFC113,CFC113_FLAG_W,CCL4,CCL4_FLAG_W,TCARBN,TCARBN_FLAG_W,THETA
,,,,,,,,,,METERS,DBARS,ITS-90,PSS-78,,PSS-78,,UMOL/KG,,UMOL/KG,,UMOL/KG,,UMOL/KG,,UMOL/KG,,PMOL/KG,,PMOL/KG,,PMOL/KG,,PMOL/KG,,UMOL/KG,,DEGC
  18HU19931105, AR13a,    54,  1,     41,2,19931201,2020, 44.2827, -45.3280, 4468,    104.2,  12.3320,  35.3868,2,  35.3850,2,    191.0,2,    194.2,2,     4.80,2,    11.79,6,     0.82,2,    2.110,2,    1.141,2,    0.100,2,    1.221,2,   -999.0,9,   12.318155
  18HU19931105, AR13a,    54,  1,     40,2,19931201,2020, 44.2827, -45.3280, 4468,    213.6,   8.7781,  35.0508,2,  35.0507,2,    174.5,2,    171.4,2,    10.74,2,    19.55,6,     1.36,2,    1.340,2,    0.781,2,    0.092,2,    1.243,2,   -999.0,9,  8.75519269
  18HU19931105, AR13a,    54,  1,     39,2,19931201,2020, 44.2827, -45.3280, 4468,    311.4,   6.7007,  34.8881,2,  34.8853,2,    192.8,2,    190.1,2,    11.86,2,    19.85,6,     1.40,2,    1.700,2,    0.771,2,    0.087,2,    1.717,2,   -999.0,9,  6.67204299
  18HU19931105, AR13a,    54,  1,     38,2,19931201,2020, 44.2827, -45.3280, 4468,    409.0,   5.2243,  34.8464,2,  34.8438,2,    225.5,2,    224.7,2,    11.39,2,    18.47,6,     1.31,2,    1.908,2,    0.936,2,    0.092,2,    2.457,2,   -999.0,9,  5.19104075
  18HU19931105, AR13a,    54,  1,     37,2,19931201,2020, 44.2827, -45.3280, 4468,    597.7,   4.6369,  34.9385,2,  34.9448,2,    249.2,2,    248.9,2,    10.11,2,    17.13,6,     1.20,2,    2.176,2,    1.066,2,    0.103,2,    2.871,2,   -999.0,9,   4.5900856
  18HU19931105, AR13a,    54,  1,     36,2,19931201,2020, 44.2827, -45.3280, 4468,    801.5,   4.5146,  34.9958,2,  34.9949,2,    255.4,2,    258.1,2,    10.39,2,    17.42,6,     1.21,2,    1.541,2,    0.783,2,    0.060,2,    2.505,2,   -999.0,9,  4.45130487
  18HU19931105, AR13a,    54,  1,     35,2,19931201,2020, 44.2827, -45.3280, 4468,    996.9,   3.9051,  34.9349,2,  34.9350,2,    270.0,2,    274.1,2,     9.89,2,    16.95,6,     1.14,2,    1.915,2,    0.971,2,    0.074,2,    3.018,2,   -999.0,9,  3.82969841
  18HU19931105, AR13a,    54,  1,     34,2,19931201,2020, 44.2827, -45.3280, 4468,   1210.0,   3.6718,  34.9186,2,  34.9146,2,    275.1,2,    281.9,2,     9.78,2,    16.57,6,     1.11,2,    1.883,2,    0.974,2,    0.068,2,    3.131,2,   -999.0,9,  3.58055078
  18HU19931105, AR13a,    54,  1,     33,2,19931201,2020, 44.2827, -45.3280, 4468,   1406.2,   3.5258,  34.9087,2,  34.9087,2,    278.3,2,    284.0,2,    10.08,2,    16.47,6,     1.14,2,    1.853,2,    0.935,2,    0.074,2,    3.112,2,   -999.0,9,  3.41926359
  18HU19931105, AR13a,    54,  1,     32,2,19931201,2020, 44.2827, -45.3280, 4468,   1698.3,   3.3255,  34.8940,2,  34.8918,2,    282.7,2,    288.9,2,     9.99,2,    16.35,6,     1.12,2,    1.971,2,    1.024,2,    0.083,2,    3.308,2,   -999.0,9,  3.19574422
  18HU19931105, AR13a,    54,  1,     31,2,19931201,2020, 44.2827, -45.3280, 4468,   2017.8,   3.2419,  34.8973,2,  34.8972,2,    281.9,2,    287.3,2,    10.33,2,    16.37,6,     1.11,2,    1.813,2,    1.003,2,    0.073,2,    3.069,2,   -999.0,9,  3.08418737
  18HU19931105, AR13a,    54,  1,     30,2,19931201,2020, 44.2827, -45.3280, 4468,   2331.3,   3.1866,  34.9124,2,  34.9133,2,    279.4,2,    286.7,2,    10.83,2,    16.16,6,     1.10,2,    1.500,2,    0.787,2,    0.058,2,    2.634,2,   -999.0,9,  2.99990341
  18HU19931105, AR13a,    54,  1,     29,2,19931201,2020, 44.2827, -45.3280, 4468,   2644.6,   3.0938,  34.9272,2,  34.9266,2,    276.9,2,    283.6,2,    11.98,2,    15.84,6,     1.11,2,    1.091,2,    0.646,2,    0.034,2,    2.087,2,   -999.0,9,   2.8777259
  18HU19931105, AR13a,    54,  1,     28,2,19931201,2020, 44.2827, -45.3280, 4468,   2942.9,   2.9123,  34.9220,2,  34.9219,2,    278.0,2,    284.1,2,    11.75,2,    15.57,6,     1.08,2,    1.555,2,    1.717,3,    0.114,2,    2.370,2,   -999.0,9,    2.669409
  18HU19931105, AR13a,    54,  1,     27,2,19931201,2020, 44.2827, -45.3280, 4468,   3213.8,   2.7429,  34.9234,2,  34.9219,2,    277.0,2,    283.7,2,    14.04,2,    15.93,6,     1.11,2,    1.006,2,    0.542,2,    0.023,2,    1.950,2,   -999.0,9,   2.4753079
  18HU19931105, AR13a,    54,  1,     26,2,19931201,2020, 44.2827, -45.3280, 4468,   3540.6,   2.5470,  34.9162,2,  34.9188,2,    278.3,2,    282.0,2,    13.23,2,    16.38,6,     1.11,2,    1.219,2,    0.640,2,    0.039,2,    2.203,2,   -999.0,9,  2.24888702
  18HU19931105, AR13a,    54,  1,     25,2,19931201,2020, 44.2827, -45.3280, 4468,   3832.2,   2.3670,  34.9076,2,  34.9457,2,    278.3,2,    279.7,2,    10.80,2,    16.74,6,     1.16,2,    1.746,2,    0.980,2,    0.068,2,    2.897,2,   -999.0,9,  2.04110059
  18HU19931105, AR13a,    54,  1,     24,2,19931201,2020, 44.2827, -45.3280, 4468,   4102.0,   2.2873,  34.9025,2,  34.9117,2,    281.7,2,    282.5,2,    16.98,2,    16.44,6,     1.14,2,    1.107,2,    0.568,2,    0.039,2,    2.117,2,   -999.0,9,   1.9331613
  18HU19931105, AR13a,    54,  1,     23,2,19931201,2020, 44.2827, -45.3280, 4468,   4392.6,   2.2409,  34.8992,2,  34.8979,2,    284.6,2,    288.2,2,    17.41,2,    16.01,6,     1.11,2,    1.276,2,    0.653,2,    0.044,2,    2.351,2,   -999.0,9,  1.85427463
  18HU19931105, AR13a,    54,  1,     22,2,19931201,2020, 44.2827, -45.3280, 4468,   4445.3,   2.2212,  34.8985,2,  34.9065,2,    286.8,2,    286.3,2,    15.34,2,    16.23,6,     1.11,2,    1.423,2,    0.702,2,    0.051,2,    2.451,2,   -999.0,9,  1.82885461
  18HU19931105, AR13a,    55,  1,     61,2,19931202, 158, 44.1480, -44.6090, 4683,     95.4,  15.3983,  35.9169,2,  35.9181,2,    176.5,2,    178.8,2,     3.89,2,    10.28,6,     0.63,2,    1.836,2,    0.724,2,    0.050,2,    0.714,2,   2127.5,3,  15.3835259
  18HU19931105, AR13a,    55,  1,     60,2,19931202, 158, 44.1480, -44.6090, 4683,    204.4,  12.7439,  35.5814,2,  35.5833,2,    182.0,2,    183.5,2,     6.47,2,    14.18,6,     0.90,2,    1.507,2,    0.768,2,    0.058,2,    0.819,2,   2145.2,3,  12.7159848
  18HU19931105, AR13a,    55,  1,     59,2,19931202, 158, 44.1480, -44.6090, 4683,    400.0,   7.5253,  34.9366,2,  34.9402,2,    183.5,2,    178.3,2,    13.09,2,    20.08,6,     1.40,2,    1.503,2,    0.655,2,    0.052,2,    1.171,2,   2179.9,2,  7.48572647
  18HU19931105, AR13a,    55,  1,     58,2,19931202, 158, 44.1480, -44.6090, 4683,    593.7,   6.0282,  35.0483,2,  35.0465,2,    219.7,2,    218.0,2,    12.02,2,    18.95,6,     1.25,2,    1.378,2,    0.674,2,    0.047,2,    1.613,2,   2174.8,2,  5.97528552
  18HU19931105, AR13a,    55,  1,     57,2,19931202, 158, 44.1480, -44.6090, 4683,    810.8,   4.5396,  34.9710,2,  34.9519,2,    254.1,2,    252.2,2,    10.51,2,    16.86,6,     1.14,2,    1.844,2,    1.031,2,    0.073,2,    2.343,2,   2163.1,2,  4.47541671
  18HU19931105, AR13a,    55,  1,     56,2,19931202, 158, 44.1480, -44.6090, 4683,    999.6,   4.0443,  34.9325,2,  34.9338,2,    268.2,2,    272.3,2,    10.71,2,    17.01,6,     1.13,2,    2.712,2,    1.138,2,    0.080,2,    2.899,2,   2160.8,2,  3.96760568
  18HU19931105, AR13a,    55,  1,     55,2,19931202, 158, 44.1480, -44.6090, 4683,   1205.8,   3.9527,  34.9466,2,  34.9496,2,    269.1,2,    273.1,2,    10.95,2,    17.01,6,     1.14,2,    1.598,2,    0.831,2,    0.063,2,    2.406,2,   2159.9,2,  3.85914612
  18HU19931105, AR13a,    55,  1,     54,2,19931202, 158, 44.1480, -44.6090, 4683,   1400.3,   3.7179,  34.9289,2,  34.9290,2,    274.4,2,    281.2,2,    10.85,2,    16.54,6,     1.14,2,    1.982,2,    0.842,2,    0.051,2,    2.364,2,   2157.6,2,  3.60977967
  18HU19931105, AR13a,    55,  1,     53,2,19931202, 158, 44.1480, -44.6090, 4683,   1694.5,   3.3261,  34.8878,2,  34.8881,2,    283.4,2,    291.7,2,    10.30,2,    16.14,6,     1.09,2,    2.104,2,    1.121,2,    0.050,2,    3.015,2,   2154.4,2,   3.1966854
  18HU19931105, AR13a,    55,  1,     52,2,19931202, 158, 44.1480, -44.6090, 4683,   1989.9,   3.1309,  34.8734,2,  34.8746,2,    287.3,2,    296.7,2,    10.41,2,    15.95,6,     1.08,2,    2.469,2,    1.341,2,    0.093,2,    3.314,2,   2155.7,2,  2.97750289
  18HU19931105, AR13a,    55,  1,     51,2,19931202, 158, 44.1480, -44.6090, 4683,   2304.8,   3.2143,  34.9105,2,  34.9096,2,    279.8,2,    289.3,2,    11.43,2,    16.12,6,     1.08,2,    1.523,2,    0.780,2,    0.054,2,    2.449,2,   2153.4,2,  3.02971566
  18HU19931105, AR13a,    55,  1,     50,2,19931202, 158, 44.1480, -44.6090, 4683,   2605.4,   3.2006,  34.9374,2,  34.9370,2,    272.6,2,    281.9,2,    13.50,2,    16.32,6,     1.10,2,    0.693,2,    0.348,2,    0.013,2,    1.579,2,   2157.7,2,  2.98639753
  18HU19931105, AR13a,    55,  1,     49,2,19931202, 158, 44.1480, -44.6090, 4683,   2896.9,   2.9887,  34.9360,2,  34.9361,2,    272.4,2,    280.4,2,    14.56,2,    15.95,6,     1.15,2,    0.522,2,    0.098,2,    0.000,2,    1.343,2,   2159.1,2,  2.74890192
  18HU19931105, AR13a,    55,  1,     48,2,19931202, 158, 44.1480, -44.6090, 4683,   3201.7,   2.7232,  34.9270,2,  34.9263,2,    274.7,2,    282.8,2,    16.59,2,    16.09,6,     1.15,2,    0.542,2,    0.197,2,    0.012,2,    1.328,2,   2160.3,2,   2.4573215
  18HU19931105, AR13a,    55,  1,     47,2,19931202, 158, 44.1480, -44.6090, 4683,   3507.7,   2.5486,  34.9181,2,  34.9192,2,    275.1,2,    278.4,2,    17.32,2,    16.23,6,     1.16,2,    0.813,2,    0.437,2,    0.027,2,    1.635,2,   -999.0,9,  2.25403679
  18HU19931105, AR13a,    55,  1,     46,2,19931202, 158, 44.1480, -44.6090, 4683,   3796.0,   2.3787,  34.9088,2,  34.9311,2,    275.9,2,    266.0,2,    15.47,2,    16.70,6,     1.17,2,    1.465,2,    0.804,2,    0.054,2,    2.152,2,   2164.4,2,  2.05662742
  18HU19931105, AR13a,    55,  1,     45,2,19931202, 158, 44.1480, -44.6090, 4683,   4096.7,   2.2962,  34.9024,2,  34.9542,2,    276.1,2,   -999.0,9,    10.76,2,    16.70,6,     1.16,2,    1.674,2,    0.901,2,    0.078,2,    2.385,2,   2162.4,2,  1.94214633
  18HU19931105, AR13a,    55,  1,     44,2,19931202, 158, 44.1480, -44.6090, 4683,   4401.0,   2.2732,  34.8994,2,  34.9153,2,    279.9,2,    274.6,2,    17.82,2,    15.99,6,     1.13,2,    1.146,2,    0.598,2,    0.037,2,    1.890,2,   2165.6,2,  1.88448619
  18HU19931105, AR13a,    55,  1,     43,2,19931202, 158, 44.1480, -44.6090, 4683,   4627.7,   2.2633,  34.8982,2,  34.8992,2,    283.8,2,    284.7,2,    19.34,2,    15.85,6,     1.13,2,    0.999,2,    0.498,2,    0.032,2,    1.768,2,   2167.7,2,  1.84776694
  18HU19931105, AR13a,    55,  1,     42,2,19931202, 158, 44.1480, -44.6090, 4683,   4678.2,   2.2459,  34.8986,2,  34.8984,2,    288.2,2,    286.8,2,    17.49,2,    15.54,6,     1.10,2,    1.249,2,    0.661,2,    0.043,2,    2.055,2,   2164.5,2,  1.82477318
  18HU19931105, AR13a,    56,  1,     81,2,19931202,1732, 44.0312, -43.9090, 4901,     50.3,  13.3362,  34.6959,2,  34.6915,2,    242.4,2,    261.5,2,     1.45,2,     1.98,6,     0.27,2,    2.826,2,    1.702,2,    0.146,2,    3.530,2,   2052.3,2,  13.3292202
  18HU19931105, AR13a,    56,  1,     80,2,19931202,1732, 44.0312, -43.9090, 4901,    200.8,  12.2287,  35.4539,2,  35.4650,2,    185.5,2,    186.3,2,     6.52,2,    14.49,6,     0.94,2,    1.651,2,    1.107,2,    0.062,2,    0.713,2,   2142.9,3,  12.2020421
  18HU19931105, AR13a,    56,  1,     79,2,19931202,1732, 44.0312, -43.9090, 4901,    401.3,   6.6258,  34.7798,2,  34.7790,2,    205.9,2,    207.7,2,    10.98,2,    18.51,6,     1.29,2,    2.200,2,    1.290,2,    0.095,2,    2.300,2,   2163.8,2,  6.58891878
  18HU19931105, AR13a,    56,  1,     78,2,19931202,1732, 44.0312, -43.9090, 4901,    594.8,   5.6801,  34.9579,2,  34.9576,2,    220.2,2,    220.7,2,    12.28,2,    19.31,6,     1.27,2,    1.490,2,    0.852,2,    0.050,2,    1.776,2,   2174.0,2,  5.62874351
  18HU19931105, AR13a,    56,  1,     77,2,19931202,1732, 44.0312, -43.9090, 4901,    786.8,   5.0290,  35.0210,2,  34.9995,2,    240.6,2,    242.1,2,    11.44,2,    18.19,6,     1.21,2,    1.645,2,    0.824,2,    0.067,2,    2.200,2,   2166.7,2,  4.96384199
  18HU19931105, AR13a,    56,  1,     76,2,19931202,1732, 44.0312, -43.9090, 4901,    994.5,   4.3996,  34.9797,2,  34.9799,2,    256.9,2,    262.5,2,    11.38,2,    17.56,6,     1.19,2,    1.706,2,    0.877,2,    0.062,2,    2.529,2,   2164.6,2,  4.32055054
  18HU19931105, AR13a,    56,  1,     75,2,19931202,1732, 44.0312, -43.9090, 4901,   1210.2,   3.9388,  34.9414,2,  34.9431,2,    267.9,2,    276.8,2,    11.22,2,    17.39,6,     1.17,2,    1.773,2,    1.022,2,    0.057,2,    2.936,2,   2153.2,2,  3.84500652
  18HU19931105, AR13a,    56,  1,     74,2,19931202,1732, 44.0312, -43.9090, 4901,   1500.1,   3.6648,  34.9254,2,  34.9262,2,    273.8,2,    282.3,2,    11.37,2,    17.14,6,     1.15,2,    1.433,2,    0.753,2,    0.048,2,    2.509,2,   2158.1,2,  3.54847123
  18HU19931105, AR13a,    56,  1,     73,2,19931202,1732, 44.0312, -43.9090, 4901,   1793.9,   3.4502,  34.9117,2,  34.9114,2,    277.2,2,    285.0,2,    11.66,2,    17.07,6,     1.15,2,    1.677,2,    1.003,2,    0.050,2,    2.851,2,   2156.2,2,   3.3101234
  18HU19931105, AR13a,    56,  1,     72,2,19931202,1732, 44.0312, -43.9090, 4901,   2099.1,   3.3734,  34.9153,2,  34.9152,2,    276.1,2,    287.6,2,    12.15,2,    16.89,6,     1.15,2,    1.338,2,    0.772,2,    0.046,2,    2.493,2,   2157.5,2,  3.20596217
  18HU19931105, AR13a,    56,  1,     71,2,19931202,1732, 44.0312, -43.9090, 4901,   2387.7,   3.3012,  34.9322,2,  34.9339,2,    272.8,2,    282.5,2,    13.49,2,    17.07,6,     1.14,2,    0.897,2,    0.646,2,    0.024,2,    1.873,2,   2156.4,2,  3.10691473
  18HU19931105, AR13a,    56,  1,     70,2,19931202,1732, 44.0312, -43.9090, 4901,   2699.0,   3.1535,  34.9384,2,  34.9383,2,    270.8,2,    279.9,2,    14.77,2,    16.85,6,     1.12,2,    0.958,2,    0.427,2,    0.015,2,    1.361,2,   2159.6,2,  2.93069898
  18HU19931105, AR13a,    56,  1,     69,2,19931202,1732, 44.0312, -43.9090, 4901,   2996.5,   2.9403,  34.9326,2,  34.9330,2,    271.4,2,    280.9,2,    16.06,2,    16.80,6,     1.15,2,    0.693,2,    0.367,2,    0.017,2,    1.362,2,   2159.9,2,  2.69117382
  18HU19931105, AR13a,    56,  1,     68,2,19931202,1732, 44.0312, -43.9090, 4901,   3293.3,   2.7150,  34.9246,2,  34.9248,2,    273.1,2,    283.1,2,    18.03,2,    16.75,6,     1.15,2,    0.660,2,    0.602,2,    0.014,2,    1.291,2,   2162.7,2,  2.43955636
  18HU19931105, AR13a,    56,  1,     67,2,19931202,1732, 44.0312, -43.9090, 4901,   3598.6,   2.4985,  34.9141,2,  34.9302,2,    274.1,2,    279.6,2,    17.32,2,    16.52,6,     1.15,2,    1.401,2,    0.667,2,    0.030,2,    1.852,2,   2162.0,2,  2.19518739
  18HU19931105, AR13a,    56,  1,     66,2,19931202,1732, 44.0312, -43.9090, 4901,   3907.1,   2.3652,  34.9063,2,  34.9355,2,    275.8,2,   -999.0,9,    14.71,2,    17.97,6,     1.24,2,    1.067,2,    0.599,2,    0.026,2,    1.493,2,   2166.2,2,  2.03097667
  18HU19931105, AR13a,    56,  1,     65,2,19931202,1732, 44.0312, -43.9090, 4901,   4197.7,   2.3092,  34.9015,2,  34.9576,2,    276.3,2,   -999.0,9,    11.75,2,    17.14,6,     1.15,2,    1.863,2,    0.924,2,    0.059,2,    2.734,2,   2161.5,2,   1.9430545
  18HU19931105, AR13a,    56,  1,     64,2,19931202,1732, 44.0312, -43.9090, 4901,   4482.6,   2.2847,  34.8981,2,  34.9288,2,    277.9,2,    280.2,2,    18.49,2,    16.86,6,     1.15,2,    1.278,2,    0.730,2,    0.020,2,    1.678,2,   2165.1,2,  1.88580739
  18HU19931105, AR13a,    56,  1,     63,2,19931202,1732, 44.0312, -43.9090, 4901,   4789.4,   2.2875,  34.8965,2,  34.8979,2,    282.3,2,    284.5,2,    22.46,2,    16.82,6,     1.16,2,    1.078,2,    0.724,2,    0.031,2,    1.775,2,   2168.0,2,  1.85138831
  18HU19931105, AR13a,    56,  1,     62,2,19931202,1732, 44.0312, -43.9090, 4901,   4896.3,   2.2936,  34.8966,2,  34.9078,2,    283.7,2,    280.9,2,    19.72,2,    16.39,6,     1.13,2,    1.072,2,    0.585,2,    0.025,2,    1.944,2,   2165.1,2,  1.84393241