BOTTLE,20081201PRINUNIVRMK
EXPOCODE,SECT_ID,STNNBR,CASTNO,BTLNBR,BTLNBR_FLAG_W,DATE,TIME,LATITUDE,LONGITUDE,DEPTH,CTDPRS,CTDTMP,CTDSAL,CTDSAL_FLAG_W,SALNTY,SALNTY_FLAG_W,CTDOXY,CTDOXY_FLAG_W,OXYGEN,OXYGEN_FLAG_W,SILCAT,SILCAT_FLAG_W,NITRAT,NITRAT_FLAG_W,PHSPHT,PHSPHT_FLAG_W,CFC-11,CFC-11_FLAG_W,CFC-12,CFC-12_FLAG_W,CFC113,CFC113_FLAG_W,CCL4,CCL4_FLAG_W,TCARBN,TCARBN_FLAG_W,THETA
,,,,,,,,,,METERS,DBARS,ITS-90,PSS-78,,PSS-78,,UMOL/KG,,UMOL/KG,,UMOL/KG,,UMOL/KG,,UMOL/KG,,PMOL/KG,,PMOL/KG,,PMOL/KG,,PMOL/KG,,UMOL/KG,,DEGC
  18HU19931105, AR13a,    88,  1,     76,2,19931208,1445, 47.0508, -43.6800,  717,     23.9,   4.2995,  33.6222,2,  33.6238,2,    310.8,2,    322.0,2,     2.66,2,     4.98,6,     0.50,2,    4.665,2,    2.291,2,    0.345,2,    6.897,2,   2073.8,2,  4.29784899
  18HU19931105, AR13a,    88,  1,     75,2,19931208,1445, 47.0508, -43.6800,  717,     81.9,   1.6032,  34.0219,2,  34.0204,2,    299.7,2,    306.6,2,     6.52,2,    12.67,6,     0.96,2,    4.811,2,    2.609,2,    0.355,2,    6.264,2,   2128.9,2,  1.59925068
  18HU19931105, AR13a,    88,  1,     74,2,19931208,1445, 47.0508, -43.6800,  717,    201.0,   3.3773,  34.7330,2,  34.7298,2,    281.7,2,    287.5,2,     9.49,2,    16.53,6,     1.10,2,    3.689,2,    2.050,2,    0.242,2,    4.800,2,   2154.2,2,   3.3642395
  18HU19931105, AR13a,    88,  1,     73,2,19931208,1445, 47.0508, -43.6800,  717,    401.8,   3.4030,  34.8528,2,  34.8541,2,    289.1,2,    294.1,2,     9.63,2,    16.45,6,     1.09,2,    3.288,2,    1.906,2,    0.199,2,    4.680,2,   2154.5,2,  3.37608385
  18HU19931105, AR13a,    88,  1,     72,2,19931208,1445, 47.0508, -43.6800,  717,    604.9,   3.1306,  34.8538,2,  34.8570,2,    294.3,2,    298.9,2,    10.13,2,    16.49,6,     1.08,2,    3.140,2,    1.423,2,    0.152,2,    4.666,2,   2153.4,2,  3.09041387
  18HU19931105, AR13a,    88,  1,     71,2,19931208,1445, 47.0508, -43.6800,  717,    712.2,   2.8785,  34.8548,2,  34.8573,2,    298.4,2,    301.8,2,    10.62,2,    16.19,6,     1.07,2,    2.878,2,    1.581,2,    0.138,2,    4.207,2,   2152.9,2,  2.83200097
  18HU19931105, AR13a,    89,  1,     84,2,19931208,1625, 47.0508, -43.4340, 1180,     41.8,   6.0267,  33.7518,2,  33.7506,2,    298.3,2,    308.2,2,     2.50,2,     4.20,6,     0.45,2,    3.870,2,    2.212,2,    0.278,2,    5.585,2,   2064.0,2,  6.02322631
  18HU19931105, AR13a,    89,  1,     83,2,19931208,1625, 47.0508, -43.4340, 1180,    115.9,   2.8321,  34.5250,2,  34.5180,2,    292.8,2,    296.2,2,     8.09,2,    14.85,6,     1.04,2,    4.272,2,    2.365,2,    0.304,2,    5.413,2,   2141.2,2,  2.82520249
  18HU19931105, AR13a,    89,  1,     82,2,19931208,1625, 47.0508, -43.4340, 1180,    205.7,   3.6154,  34.8221,2,  34.8200,2,    287.2,2,    292.3,2,     9.30,2,    16.29,6,     1.09,2,    3.488,2,    1.648,2,    0.222,2,    4.541,2,   2151.1,2,  3.60160182
  18HU19931105, AR13a,    89,  1,     81,2,19931208,1625, 47.0508, -43.4340, 1180,    408.0,   3.3366,  34.8648,2,  34.8546,2,    291.2,2,    296.5,2,     9.71,2,    16.53,6,     1.09,2,    3.255,2,    1.764,2,    0.188,2,    4.734,2,   2152.7,2,  3.30946379
  18HU19931105, AR13a,    89,  1,     80,2,19931208,1625, 47.0508, -43.4340, 1180,    594.7,   3.1214,  34.8574,2,  34.8591,2,    294.6,2,    299.5,2,     9.79,2,    16.51,6,     1.08,2,    3.051,2,    1.501,2,    0.159,2,    4.551,2,   2150.6,2,  3.08198064
  18HU19931105, AR13a,    89,  1,     79,2,19931208,1625, 47.0508, -43.4340, 1180,    800.6,   3.0380,  34.8551,2,  34.8551,2,    295.9,2,    296.9,2,    10.16,2,    16.72,6,     1.09,2,    2.729,2,    1.455,2,    0.144,2,    4.138,2,   2152.4,2,  2.98416533
  18HU19931105, AR13a,    89,  1,     78,2,19931208,1625, 47.0508, -43.4340, 1180,   1006.6,   2.8998,  34.8449,2,  34.8469,2,    300.7,2,    302.7,2,     9.80,2,    16.32,6,     1.06,2,    3.095,2,    1.708,2,    0.164,2,    4.483,2,   2149.4,2,  2.83158973
  18HU19931105, AR13a,    89,  1,     77,2,19931208,1625, 47.0508, -43.4340, 1180,   1171.8,   2.8924,  34.8473,2,  34.8489,2,    301.1,2,    303.0,2,     9.88,2,    16.15,6,     1.07,2,    3.066,2,    1.630,2,    0.151,2,    4.391,2,   2151.2,2,  2.81154609
  18HU19931105, AR13a,    90,  1,      0,2,19931208,1855, 47.0517, -43.2040, 3123,     49.4,   7.2485,  33.7331,2,  33.7331,2,    286.7,2,   -999.0,9,  -999.00,9,  -999.00,9,  -999.00,9, -999.000,9, -999.000,9, -999.000,9, -999.000,9,   -999.0,9,    7.243926
  18HU19931105, AR13a,    90,  1,     99,2,19931208,1855, 47.0517, -43.2040, 3123,    163.7,   4.2827,  34.6371,2,  33.7349,0,    241.0,2,    301.5,0,     2.14,2,     3.33,6,     0.39,2,    3.935,2,    1.645,2,    0.253,2,    5.840,2,   2054.8,2,  4.27095369
  18HU19931105, AR13a,    90,  1,     98,2,19931208,1855, 47.0517, -43.2040, 3123,    302.1,   4.1584,  34.8642,2,  34.8631,2,    263.5,2,    263.6,2,    10.61,2,    17.94,6,     1.17,2,    2.801,2,    1.277,2,    0.162,2,    3.719,2,   2159.2,2,  4.13658322
  18HU19931105, AR13a,    90,  1,     97,2,19931208,1855, 47.0517, -43.2040, 3123,    413.8,   3.6422,  34.8564,2,  34.8550,2,    288.0,2,    294.6,2,     9.47,2,    16.77,6,     1.11,2,    3.571,2,    1.705,2,    0.208,2,    5.006,2,   2153.3,2,  3.61365465
  18HU19931105, AR13a,    90,  1,     96,2,19931208,1855, 47.0517, -43.2040, 3123,    506.7,   3.5549,  34.8673,2,  34.8680,2,    289.0,2,    295.5,2,     9.60,2,    17.04,6,     1.10,2,    3.519,2,    1.477,2,    0.197,2,    5.215,2,   2153.2,2,  3.51991786
  18HU19931105, AR13a,    90,  1,     95,2,19931208,1855, 47.0517, -43.2040, 3123,    592.1,   3.3995,  34.8659,2,  34.8666,2,    290.2,2,    296.3,2,     9.62,2,    17.06,6,     1.10,2,    3.319,2,    1.353,2,    0.180,2,    4.919,2,   2152.8,2,  3.35895528
  18HU19931105, AR13a,    90,  1,     94,2,19931208,1855, 47.0517, -43.2040, 3123,    801.5,   3.2947,  34.8717,2,  34.8715,2,    287.7,2,    292.3,2,    10.10,2,    17.09,6,     1.13,2,    2.745,2,    1.226,2,    0.138,2,    4.322,2,   2152.1,2,  3.23916141
  18HU19931105, AR13a,    90,  1,     93,2,19931208,1855, 47.0517, -43.2040, 3123,   1010.6,   3.1745,  34.8657,2,  34.8629,2,    290.7,2,    297.0,2,    10.08,2,    16.79,6,     1.10,2,    2.692,2,    1.142,2,    0.128,2,    4.358,2,   2151.3,2,  3.10379467
  18HU19931105, AR13a,    90,  1,     92,2,19931208,1855, 47.0517, -43.2040, 3123,   1313.5,   2.9612,  34.8474,2,  34.8371,2,    297.9,2,    295.3,2,     9.69,2,    16.59,6,     1.09,2,    3.189,2,    1.300,2,    0.172,2,    4.855,2,   2149.9,2,  2.86845303
  18HU19931105, AR13a,    90,  1,     91,2,19931208,1855, 47.0517, -43.2040, 3123,   1615.8,   2.9618,  34.8549,2,  34.8546,2,    297.3,2,    302.5,2,     9.89,2,    16.66,6,     1.10,2,    2.952,2,    1.247,2, -999.000,9,    4.630,2,   2148.6,2,  2.84390711
  18HU19931105, AR13a,    90,  1,     90,2,19931208,1855, 47.0517, -43.2040, 3123,   1901.9,   2.9363,  34.8550,2,  34.8546,2,    297.7,2,    303.3,2,    10.38,2,    16.40,6,     1.06,2,    3.003,2,    1.126,2,    0.138,2,    4.774,2,   2149.0,2,  2.79377848
  18HU19931105, AR13a,    90,  1,     89,2,19931208,1855, 47.0517, -43.2040, 3123,   2200.1,   3.0794,  34.8870,2,  34.8851,2,    289.3,2,    292.5,2,    10.67,2,    16.74,6,     1.08,2,    2.219,2,    1.190,2,    0.102,2,    3.812,2,   2234.2,4,  2.90717611
  18HU19931105, AR13a,    90,  1,     88,2,19931208,1855, 47.0517, -43.2040, 3123,   2489.3,   3.0015,  34.9137,2,  34.9136,2,    284.1,2,    286.2,2,    11.63,2,    16.29,6,     1.07,2,    1.427,2,    0.799,2,    0.054,2,    2.728,2,   2154.0,2,  2.80265942
  18HU19931105, AR13a,    90,  1,     87,2,19931208,1855, 47.0517, -43.2040, 3123,   2795.2,   2.7198,  34.9170,2,  34.9174,2,    285.6,2,    286.1,2,    12.53,2,    15.97,6,     1.06,2,    1.314,2,    0.821,2,    0.044,2,    2.432,2,   2153.4,2,  2.49600923
  18HU19931105, AR13a,    90,  1,     86,2,19931208,1855, 47.0517, -43.2040, 3123,   3005.2,   2.4242,  34.9089,2,-999.0000,9,    289.5,2,    270.3,0,  -999.00,9,     7.45,4,  -999.00,9,    3.254,3,    1.345,2,    0.205,4,    4.393,3,   -999.0,9,  2.18546904
  18HU19931105, AR13a,    90,  1,     85,2,19931208,1855, 47.0517, -43.2040, 3123,   3116.6,   2.2978,  34.9027,2,  34.9032,2,    293.8,2,    291.9,2,    12.78,2,    15.42,6,     1.01,2,    1.657,2,    0.824,2,    0.056,2,    2.892,2,   2154.6,2,  2.05055388
  18HU19931105, AR13a,    91,  1,     20,2,19931208,2239, 47.0482, -42.7350, 3629,     11.7,   6.9418,  33.4571,2,  33.4582,2,    291.9,2,    307.2,2,     1.91,2,     2.37,6,     0.35,2,    3.928,2,    2.418,2,    0.255,2,    5.160,2,   2045.7,2,  6.94075249
  18HU19931105, AR13a,    91,  1,     19,2,19931208,2239, 47.0482, -42.7350, 3629,    105.3,   3.5232,  34.2508,2,  34.0268,0,    263.6,2,    272.7,2,     7.88,2,    13.03,6,     0.97,2,    3.764,2,    2.020,2,    0.234,2,    4.298,2,   2126.8,2,  3.51640219
  18HU19931105, AR13a,    91,  1,     18,2,19931208,2239, 47.0482, -42.7350, 3629,    203.6,   4.3391,  34.6694,2,  34.6694,2,    241.7,2,   -999.0,9,  -999.00,9,  -999.00,9,  -999.00,9, -999.000,9, -999.000,9, -999.000,9, -999.000,9,   -999.0,9,   4.3243262
  18HU19931105, AR13a,    91,  1,     17,2,19931208,2239, 47.0482, -42.7350, 3629,    295.1,   3.6774,  34.7583,2,  34.7583,2,    270.2,2,   -999.0,9,  -999.00,9,  -999.00,9,  -999.00,9, -999.000,9, -999.000,9, -999.000,9, -999.000,9,   -999.0,9,  3.65728318
  18HU19931105, AR13a,    91,  1,     16,2,19931208,2239, 47.0482, -42.7350, 3629,    399.9,   4.9444,  35.0202,2,  34.6458,0,    244.7,2,    243.3,2,    10.91,2,    17.91,6,     1.18,2,    2.732,2,    1.230,2,    0.118,2,    3.128,2,   2155.2,2,  4.91265872
  18HU19931105, AR13a,    91,  1,     15,2,19931208,2239, 47.0482, -42.7350, 3629,    558.7,   4.4155,  34.9840,2,  34.9845,2,    257.6,2,    259.5,2,    11.30,2,    18.24,6,     1.17,2,    1.693,2,    1.422,2,    0.060,2,    2.262,2,   2160.5,2,  4.37282569
  18HU19931105, AR13a,    91,  1,     14,2,19931208,2239, 47.0482, -42.7350, 3629,    685.1,   4.1845,  34.9645,2,  34.9638,2,    264.1,2,    266.2,2,    11.21,2,    17.94,6,     1.14,2,    1.735,2,    1.255,2,    0.056,2,    2.439,2,   2160.3,2,   4.1327749
  18HU19931105, AR13a,    91,  1,     13,2,19931208,2239, 47.0482, -42.7350, 3629,    899.0,   3.4595,  34.8811,2,  34.8808,2,    284.3,2,    290.7,2,    10.41,2,    16.95,6,     1.09,2,    2.550,2,    1.562,2,    0.113,2,    3.409,2,   2153.3,2,   3.3953559
  18HU19931105, AR13a,    91,  1,     12,2,19931208,2239, 47.0482, -42.7350, 3629,   1090.2,   3.2761,  34.8711,2,  34.8718,2,    287.9,2,    293.3,2,    10.08,2,    16.77,6,     1.06,2,    2.770,2,    1.540,2,    0.126,2,    3.555,2,   2151.9,2,  3.19827936
  18HU19931105, AR13a,    91,  1,     11,2,19931208,2239, 47.0482, -42.7350, 3629,   1291.8,   3.1950,  34.8709,2,  34.8718,2,    289.6,2,    295.1,2,    10.28,2,    16.73,6,     1.06,2,    2.445,2,    1.396,2,    0.102,2,    3.234,2,   2150.1,2,   3.1015998
  18HU19931105, AR13a,    91,  1,     10,2,19931208,2239, 47.0482, -42.7350, 3629,   1497.7,   3.1566,  34.8750,2,  34.8754,2,    289.0,2,    296.3,2,    10.55,2,    16.93,6,     1.08,2,    2.353,2,    1.475,2,    0.084,2,    3.385,2,   2150.8,2,  3.04639393
  18HU19931105, AR13a,    91,  1,      9,2,19931208,2239, 47.0482, -42.7350, 3629,   1700.2,   3.1154,  34.8802,2,  34.8811,2,    288.7,2,    292.5,2,    10.85,2,    17.13,6,     1.07,2,    2.336,2,    1.475,2,    0.092,2,    3.168,2,   2150.4,2,  2.98820429
  18HU19931105, AR13a,    91,  1,      8,2,19931208,2239, 47.0482, -42.7350, 3629,   1903.5,   3.1428,  34.8973,2,  34.8973,2,    284.3,2,   -999.0,9,  -999.00,9,  -999.00,9,  -999.00,9, -999.000,9, -999.000,9, -999.000,9, -999.000,9,   -999.0,9,  2.99704797
  18HU19931105, AR13a,    91,  1,      7,2,19931208,2239, 47.0482, -42.7350, 3629,   2097.6,   3.1046,  34.9129,2,  34.9108,2,    281.6,2,    286.8,2,    12.12,2,    16.83,6,     1.06,2,    1.518,2,    0.840,2,    0.048,2,    2.355,2,   2151.4,2,  2.94150959
  18HU19931105, AR13a,    91,  1,      6,2,19931208,2239, 47.0482, -42.7350, 3629,   2295.0,   3.0511,  34.9257,2,  34.9248,2,    278.1,2,    282.7,2,    13.11,2,    16.92,6,     1.07,2,    1.108,2,    0.626,2,    0.021,2,    1.836,2,   2152.1,2,   2.8701728
  18HU19931105, AR13a,    91,  1,      5,2,19931208,2239, 47.0482, -42.7350, 3629,   2596.6,   2.8576,  34.9257,2,  34.9254,2,    279.2,2,    284.0,2,    13.69,2,    16.75,6,     1.07,2,    1.102,2,    0.621,2,    0.032,2,    1.934,2,   2153.6,2,  2.65083697
  18HU19931105, AR13a,    91,  1,      4,2,19931208,2239, 47.0482, -42.7350, 3629,   2900.4,   2.5790,  34.9202,2,  34.9209,2,    280.3,2,    284.0,2,    16.44,2,    16.76,6,     1.07,2,    0.932,2,    0.613,2,    0.025,2,    1.701,2,   2155.9,2,  2.34750759
  18HU19931105, AR13a,    91,  1,      3,2,19931208,2239, 47.0482, -42.7350, 3629,   3207.2,   2.3114,  34.9076,2,  34.9172,2,    282.7,2,    287.0,2,    15.77,2,    16.55,6,     1.07,2,    1.054,2,    0.559,2,    0.025,2,    1.801,2,   2156.0,2,  2.05445634
  18HU19931105, AR13a,    91,  1,      2,2,19931208,2239, 47.0482, -42.7350, 3629,   3492.7,   2.1459,  34.8991,2,  34.8993,2,    288.4,2,    287.2,2,    17.44,2,    16.47,6,     1.05,2,    1.345,2,    0.541,2,    0.039,2,    2.147,2,   2157.6,2,  1.86307362
  18HU19931105, AR13a,    91,  1,      1,2,19931208,2239, 47.0482, -42.7350, 3629,   3623.6,   2.0646,  34.8962,2,  34.8957,2,    294.3,2,    293.8,2,    13.82,2,    15.46,6,     1.02,2,    1.829,2,    1.413,3,    0.061,2,    2.466,2,   2154.7,2,  1.76985608
  18HU19931105, AR13a,    92,  1,     40,2,19931209, 250, 47.0487, -42.2490, 4083,     27.4,   7.4731,  33.5894,2,  33.5928,2,    285.8,2,    300.1,2,     1.85,2,     2.40,6,     0.36,2,    3.940,2,    1.465,2,    0.256,2,    5.917,2,   2047.2,2,  7.47052596
  18HU19931105, AR13a,    92,  1,     39,2,19931209, 250, 47.0487, -42.2490, 4083,    154.8,   3.9744,  34.6089,2,  34.5458,2,    253.5,2,    252.9,2,    10.19,2,    16.96,6,     1.14,2,    3.169,2,    1.264,2,    0.183,2,    4.137,2,   2159.7,2,  3.96370701
  18HU19931105, AR13a,    92,  1,     38,2,19931209, 250, 47.0487, -42.2490, 4083,    296.6,   4.0187,  34.8345,2,  34.8332,2,    261.6,2,    264.9,2,    10.55,2,    17.51,6,     1.14,2,    2.977,2,    1.262,2,    0.184,2,    4.041,2,   2154.7,2,  3.99763571
  18HU19931105, AR13a,    92,  1,     37,2,19931209, 250, 47.0487, -42.2490, 4083,    399.2,   4.1821,  34.9229,2,  34.9178,2,    261.7,2,    265.6,2,    10.91,2,    17.61,6,     1.14,2,    2.428,2,    1.030,2,    0.105,2,    3.350,2,   2168.4,2,  4.15286312
  18HU19931105, AR13a,    92,  1,     36,2,19931209, 250, 47.0487, -42.2490, 4083,    596.8,   3.9897,  34.9417,2,  34.3536,0,    268.4,2,    274.9,2,     7.51,2,    12.35,4,     0.89,2,    2.430,2,    1.079,2,    0.149,2,    2.872,2,   2127.7,3,   3.9459687
  18HU19931105, AR13a,    92,  1,     35,2,19931209, 250, 47.0487, -42.2490, 4083,    802.7,   3.7253,  34.9235,2,  34.9231,2,    274.8,2,    278.2,2,    11.05,2,    17.16,6,     1.12,2,    1.839,2,    0.651,2,    0.067,2,    3.010,2,   2162.6,2,   3.6669013
  18HU19931105, AR13a,    92,  1,     34,2,19931209, 250, 47.0487, -42.2490, 4083,   1004.9,   3.3216,  34.8767,2,  34.8779,2,    286.6,2,    291.5,2,    10.33,2,    16.49,6,     1.10,2,    2.627,2,    1.107,2,    0.099,2,    4.068,2,   2149.2,2,  3.25016301
  18HU19931105, AR13a,    92,  1,     33,2,19931209, 250, 47.0487, -42.2490, 4083,   1199.7,   3.2016,  34.8709,2,  34.8700,2,    288.7,2,    296.2,2,    10.38,2,    16.49,6,     1.09,2,    2.518,2,    1.221,2,    0.100,2,    3.853,2,   2159.4,2,  3.11564823
  18HU19931105, AR13a,    92,  1,     32,2,19931209, 250, 47.0487, -42.2490, 4083,   1397.9,   3.3260,  34.9036,2,  34.9039,2,    280.8,2,    286.1,2,    11.69,2,    16.69,6,     1.10,2,    1.572,2,    0.869,2,    0.077,2,    2.839,2,   2152.6,2,  3.22232113
  18HU19931105, AR13a,    92,  1,     31,2,19931209, 250, 47.0487, -42.2490, 4083,   1596.6,   3.1645,  34.8895,2,  34.8903,2,    286.2,2,    290.0,2,    11.09,2,    16.63,6,     1.09,2,    2.038,2,    0.933,2,    0.091,2,    3.330,2,   2159.8,2,  3.04568461
  18HU19931105, AR13a,    92,  1,     30,2,19931209, 250, 47.0487, -42.2490, 4083,   1798.8,   3.1491,  34.8993,2,  34.8998,2,    284.4,2,    289.1,2,    11.46,2,    16.64,6,     1.08,2,    1.827,2,    0.977,2,    0.069,2,    3.057,2,   2151.3,2,  3.01268095
  18HU19931105, AR13a,    92,  1,     29,2,19931209, 250, 47.0487, -42.2490, 4083,   1998.2,   3.1885,  34.9231,2,  34.9171,2,    278.3,2,    281.4,2,    12.41,2,    16.72,6,     1.09,2,    1.343,2,    0.651,2,    0.037,2,    2.399,2,   2162.0,2,  3.03334017
  18HU19931105, AR13a,    92,  1,     28,2,19931209, 250, 47.0487, -42.2490, 4083,   2201.2,   3.0600,  34.9208,2,  34.9215,2,    279.8,2,    285.3,2,    12.49,2,    16.68,6,     1.10,2,    1.249,2,    0.647,2,    0.043,2,    2.413,2,   2151.2,2,  2.88785763
  18HU19931105, AR13a,    92,  1,     27,2,19931209, 250, 47.0487, -42.2490, 4083,   2505.0,   2.9238,  34.9308,2,  34.9321,2,    277.0,2,    279.0,2,    15.02,2,    16.87,6,     1.10,2,    0.784,2,    0.508,2,    0.030,2,    1.505,2,   2154.0,2,  2.72477011
  18HU19931105, AR13a,    92,  1,     26,2,19931209, 250, 47.0487, -42.2490, 4083,   2801.3,   2.7358,  34.9251,2,  34.9242,2,    278.7,2,    282.0,2,    15.32,2,    16.59,6,     1.09,2,    0.936,2,    0.476,2,    0.026,2,    1.739,2,   2153.7,2,  2.51103941
  18HU19931105, AR13a,    92,  1,     25,2,19931209, 250, 47.0487, -42.2490, 4083,   3100.8,   2.4723,  34.9149,2,  34.9140,2,    280.9,2,    285.5,2,    16.23,2,    16.32,6,     1.09,2,    1.046,2,    0.504,2,    0.023,2,    1.974,2,   2153.6,2,  2.22270764
  18HU19931105, AR13a,    92,  1,     24,2,19931209, 250, 47.0487, -42.2490, 4083,   3394.1,   2.3073,  34.9066,2,  34.9066,2,    282.4,2,    284.1,2,    18.32,2,    16.42,6,     1.11,2,    0.986,2,    0.576,2,    0.039,2,    1.851,2,   2158.2,2,   2.0309344
  18HU19931105, AR13a,    92,  1,     23,2,19931209, 250, 47.0487, -42.2490, 4083,   3705.3,   2.2212,  34.9016,2,  34.9009,2,    285.4,2,    287.8,2,    17.61,2,    16.29,6,     1.08,2,    1.229,2,    0.615,2,    0.040,2,    2.163,2,   2156.1,2,   1.9134973
  18HU19931105, AR13a,    92,  1,     22,2,19931209, 250, 47.0487, -42.2490, 4083,   3985.0,   2.0954,  34.8962,2,  34.8956,2,    293.3,2,    292.5,2,    13.91,2,    15.27,6,     1.02,2,    1.834,2,    0.766,2,    0.053,2,    3.218,2,   2163.7,2,  1.76007669
  18HU19931105, AR13a,    92,  1,     21,2,19931209, 250, 47.0487, -42.2490, 4083,   4078.3,   2.1041,  34.8963,2,  34.8946,2,    295.9,2,    293.6,2,    13.97,2,    15.32,6,     1.00,2,    1.855,2,    0.892,2,    0.061,2,    3.031,2,   2152.8,2,  1.75798833