BOTTLE,20081201PRINUNIVRMK
EXPOCODE,SECT_ID,STNNBR,CASTNO,BTLNBR,BTLNBR_FLAG_W,DATE,TIME,LATITUDE,LONGITUDE,DEPTH,CTDPRS,CTDTMP,CTDSAL,CTDSAL_FLAG_W,SALNTY,SALNTY_FLAG_W,CTDOXY,CTDOXY_FLAG_W,OXYGEN,OXYGEN_FLAG_W,SILCAT,SILCAT_FLAG_W,NITRAT,NITRAT_FLAG_W,PHSPHT,PHSPHT_FLAG_W,CFC-11,CFC-11_FLAG_W,CFC-12,CFC-12_FLAG_W,CFC113,CFC113_FLAG_W,CCL4,CCL4_FLAG_W,TCARBN,TCARBN_FLAG_W,THETA
,,,,,,,,,,METERS,DBARS,ITS-90,PSS-78,,PSS-78,,UMOL/KG,,UMOL/KG,,UMOL/KG,,UMOL/KG,,UMOL/KG,,PMOL/KG,,PMOL/KG,,PMOL/KG,,PMOL/KG,,UMOL/KG,,DEGC
  18HU19931105, AR13a,    51,  1,     81,2,19931201, 459, 44.8493, -47.0980, 3693,     70.3,   4.8417,  33.4426,2,  33.3897,2,    298.2,2,    310.7,2,     2.43,2,     3.91,6,     0.46,2,    4.489,2,    2.221,2,    0.299,2,    6.552,2,   -999.0,9,  4.83654197
  18HU19931105, AR13a,    51,  1,     80,2,19931201, 459, 44.8493, -47.0980, 3693,    122.7,   3.6667,  34.4075,2,  34.3918,2,    258.3,2,    262.0,2,     9.44,2,    16.13,6,     1.14,2,    3.708,2,    1.863,2,    0.265,2,    4.643,2,   -999.0,9,   3.6585902
  18HU19931105, AR13a,    51,  1,     79,2,19931201, 459, 44.8493, -47.0980, 3693,    301.8,   4.5636,  34.8916,2,  34.8833,2,    248.5,2,    252.2,2,    11.54,2,    18.81,6,     1.23,2,    2.405,2,    1.143,2,    0.124,2,    3.224,2,   -999.0,9,  4.54083237
  18HU19931105, AR13a,    51,  1,     78,2,19931201, 459, 44.8493, -47.0980, 3693,    495.9,   4.3266,  34.9534,2,  34.9504,2,    259.8,2,    265.3,2,    11.24,2,    18.52,6,     1.18,2,    2.234,2,    1.147,2,    0.083,2,    3.287,2,   -999.0,9,  4.28932858
  18HU19931105, AR13a,    51,  1,     77,2,19931201, 459, 44.8493, -47.0980, 3693,    705.1,   3.9853,  34.9501,2,  34.9225,2,    267.4,2,    273.5,2,    11.14,2,    18.13,6,     1.14,2,    1.938,2,    1.025,2,    0.102,2,    3.012,2,   -999.0,9,  3.93309946
  18HU19931105, AR13a,    51,  1,     76,2,19931201, 459, 44.8493, -47.0980, 3693,    880.9,   3.7196,  34.9255,2,  34.9252,2,    274.3,2,    280.6,2,    11.27,2,    18.12,6,     1.17,2,    1.847,2,    0.897,2,    0.071,2,    3.162,2,   -999.0,9,  3.65502266
  18HU19931105, AR13a,    51,  1,     75,2,19931201, 459, 44.8493, -47.0980, 3693,   1094.4,   3.4180,  34.8938,2,  34.8936,2,    282.0,2,    288.1,2,    11.02,2,    17.90,6,     1.14,2,    2.187,2,    1.114,2,    0.078,2,    3.623,2,   -999.0,9,  3.33860286
  18HU19931105, AR13a,    51,  1,     74,2,19931201, 459, 44.8493, -47.0980, 3693,   1314.7,   3.1572,  34.8681,2,  34.8627,2,    287.7,2,    298.3,2,    10.70,2,    17.65,6,     1.11,2,    2.706,2,    1.371,2,    0.182,2,    4.297,2,   -999.0,9,  3.06231587
  18HU19931105, AR13a,    51,  1,     73,2,19931201, 459, 44.8493, -47.0980, 3693,   1473.0,   3.2072,  34.8857,2,  34.8838,2,    285.0,2,    292.1,2,    11.22,2,    17.44,6,     1.11,2,    2.164,2,    0.996,2,    0.094,2,    3.655,2,   -999.0,9,  3.09849829
  18HU19931105, AR13a,    51,  1,     72,2,19931201, 459, 44.8493, -47.0980, 3693,   1686.0,   3.0981,  34.8774,2,  34.8776,2,    287.9,2,    297.0,2,    11.10,2,    17.41,6,     1.10,2,    2.430,2,    1.211,2,    0.103,2,    4.002,2,   -999.0,9,   2.9723779
  18HU19931105, AR13a,    51,  1,     71,2,19931201, 459, 44.8493, -47.0980, 3693,   1898.9,   3.2042,  34.9098,2,  34.9075,2,    280.2,2,    287.5,2,    12.53,2,    17.63,6,     1.12,2,    1.564,2,    0.835,2,    0.153,2,    2.795,2,   -999.0,9,  3.05795911
  18HU19931105, AR13a,    51,  1,     70,2,19931201, 459, 44.8493, -47.0980, 3693,   2092.8,   3.1254,  34.9088,2,  34.9086,2,    281.0,2,    288.6,2,    12.46,2,    17.65,6,     1.11,2,    1.621,2,    0.853,2,    0.067,2,    2.875,2,   -999.0,9,  2.96244073
  18HU19931105, AR13a,    51,  1,     69,2,19931201, 459, 44.8493, -47.0980, 3693,   2296.4,   3.0655,  34.9201,2,  34.9206,2,    278.5,2,    284.1,2,    13.14,2,    17.33,6,     1.09,2,    1.265,2,    0.586,2,    0.036,2,    2.378,2,   -999.0,9,  2.88421018
  18HU19931105, AR13a,    51,  1,     68,2,19931201, 459, 44.8493, -47.0980, 3693,   2478.8,   2.9722,  34.9243,2,  34.9248,2,    278.5,2,    284.6,2,    13.93,2,    17.44,6,     1.15,2,    1.116,2,    0.484,2,    0.038,2,    2.318,2,   -999.0,9,  2.77487665
  18HU19931105, AR13a,    51,  1,     67,2,19931201, 459, 44.8493, -47.0980, 3693,   2686.7,   2.8353,  34.9233,2,  34.9237,2,    278.9,2,    285.1,2,    14.45,2,    17.52,6,     1.13,2,    1.147,2,    0.722,2, -999.000,9,    2.191,2,   -999.0,9,  2.62003718
  18HU19931105, AR13a,    51,  1,     66,2,19931201, 459, 44.8493, -47.0980, 3693,   2892.3,   2.6746,  34.9211,2,  34.9210,2,    280.1,2,    285.5,2,    15.06,2,    17.24,6,     1.12,2,    1.124,2,    0.516,2,    0.030,2,    2.223,2,   -999.0,9,  2.44191929
  18HU19931105, AR13a,    51,  1,     65,2,19931201, 459, 44.8493, -47.0980, 3693,   3097.7,   2.5565,  34.9162,2,  34.9066,2,    283.1,2,    281.8,2,    11.64,2,    18.27,4,     1.16,2,    2.045,2,    1.021,2,    0.083,2,    3.371,2,   -999.0,9,  2.30538488
  18HU19931105, AR13a,    51,  1,     64,2,19931201, 459, 44.8493, -47.0980, 3693,   3308.3,   2.3864,  34.9098,2,  34.9089,2,    284.3,2,    288.8,2,    16.26,2,    17.11,6,     1.12,2,    1.272,2,    0.790,2, -999.000,9,    2.346,2,   -999.0,9,  2.11719172
  18HU19931105, AR13a,    51,  1,     63,2,19931201, 459, 44.8493, -47.0980, 3693,   3577.8,   2.2017,  34.9007,2,  34.9002,2,    283.5,2,    285.5,2,    20.53,2,    17.80,6,     1.12,2,    1.172,2,    0.559,2,    0.039,2,    2.100,2,   -999.0,9,  1.90835817
  18HU19931105, AR13a,    51,  1,     62,2,19931201, 459, 44.8493, -47.0980, 3693,   3686.9,   2.1622,  34.8988,2,  34.9048,2,    286.9,2,    288.1,2,    15.34,2,    17.80,6,     1.10,2,    1.334,2,    0.651,2,    0.042,2,    2.353,2,   -999.0,9,  1.85802473
  18HU19931105, AR13a,    52,  1,      1,2,19931201, 932, 44.5347, -46.7510, 3917,     14.9,   6.6777,  33.1107,2,  33.1131,2,    294.6,2,    308.9,2,     1.52,2,     1.54,6,     0.30,2,    3.991,2,    2.478,2,    0.278,2,    5.725,2,   2039.0,2,  6.67640442
  18HU19931105, AR13a,    52,  1,      0,2,19931201, 932, 44.5347, -46.7510, 3917,    100.0,   3.3090,  34.3555,2,  34.3466,2,    260.6,2,    262.3,2,     9.65,2,    16.18,6,     1.13,2,    3.626,2,    1.917,2,    0.289,2,    4.292,2,   2144.5,2,   3.3027049
  18HU19931105, AR13a,    52,  1,     99,2,19931201, 932, 44.5347, -46.7510, 3917,    203.5,   4.0933,  34.7467,2,  34.6594,2,    250.6,2,    251.9,2,    11.31,2,    18.41,6,     1.21,2,    2.738,2,    1.473,2,    0.167,2,    3.304,2,   2163.8,2,  4.07893382
  18HU19931105, AR13a,    52,  1,     98,2,19931201, 932, 44.5347, -46.7510, 3917,    299.8,   4.2822,  34.8834,2,  34.8824,2,    260.4,2,    264.8,2,    10.79,2,    18.12,6,     1.18,2,    2.903,2,    1.841,2,    0.142,2,    3.547,2,   2159.0,2,   4.2602519
  18HU19931105, AR13a,    52,  1,     97,2,19931201, 932, 44.5347, -46.7510, 3917,    447.5,   4.6327,  35.0067,2,  34.9527,2,    252.2,2,    257.4,2,    11.51,2,    18.38,6,     1.18,2,    1.754,2,    0.852,2,    0.071,2,    2.401,2,   2161.8,2,  4.59815827
  18HU19931105, AR13a,    52,  1,     96,2,19931201, 932, 44.5347, -46.7510, 3917,    595.8,   4.0012,  34.9412,2,  34.9385,2,    267.6,2,    272.2,2,    11.21,2,    18.14,6,     1.16,2,    1.963,2,    1.449,2,    0.088,2,    2.840,2,   2164.3,2,  3.95749617
  18HU19931105, AR13a,    52,  1,     95,2,19931201, 932, 44.5347, -46.7510, 3917,    802.7,   3.6328,  34.9120,2,  34.9103,2,    276.0,2,    280.0,2,    10.99,2,    17.95,6,     1.14,2,    2.050,2,    1.069,2,    0.096,2,    3.105,2,   2157.7,2,  3.57499699
  18HU19931105, AR13a,    52,  1,     94,2,19931201, 932, 44.5347, -46.7510, 3917,   1001.7,   3.3516,  34.8884,2,  34.8898,2,    282.4,2,    290.1,2,    10.98,2,    17.73,6,     1.13,2,    2.081,2,    1.216,2,    0.083,2,    3.286,2,   2153.3,2,  3.28016165
  18HU19931105, AR13a,    52,  1,     93,2,19931201, 932, 44.5347, -46.7510, 3917,   1204.3,   3.1518,  34.8711,2,  34.8689,2,    288.2,2,    294.4,2,    10.63,2,    17.20,6,     1.10,2, -999.000,9, -999.000,9, -999.000,9, -999.000,9,   2152.8,2,   3.0659413
  18HU19931105, AR13a,    52,  1,     92,2,19931201, 932, 44.5347, -46.7510, 3917,   1398.0,   3.0607,  34.8669,2,  34.8672,2,    290.1,2,    297.8,2,    10.57,2,    17.02,6,     1.10,2,    2.501,2,    1.130,2,    0.138,2,    3.902,2,   2155.8,2,  2.95993765
  18HU19931105, AR13a,    52,  1,     91,2,19931201, 932, 44.5347, -46.7510, 3917,   1595.0,   3.0189,  34.8691,2,  34.8678,2,    290.2,2,    299.6,2,    10.58,2,    17.02,6,     1.10,2,    2.450,2,    1.139,2,    0.126,2,    3.820,2,   2155.6,2,  2.90204871
  18HU19931105, AR13a,    52,  1,     90,2,19931201, 932, 44.5347, -46.7510, 3917,   1793.1,   3.0589,  34.8871,2,  34.9151,2,    285.6,2,    294.1,2,    11.21,2,    17.14,6,     1.10,2,    2.032,2,    1.272,2,    0.132,2,    3.312,2,   2156.8,2,  2.92416368
  18HU19931105, AR13a,    52,  1,     89,2,19931201, 932, 44.5347, -46.7510, 3917,   2104.4,   3.0542,  34.9153,2,  34.9157,2,    279.5,2,    286.9,2,    12.55,2,    17.23,6,     1.11,2,    1.540,2,    0.837,2, -999.000,9,    2.551,2,   2156.9,2,  2.89124756
  18HU19931105, AR13a,    52,  1,     88,2,19931201, 932, 44.5347, -46.7510, 3917,   2288.5,   2.9375,  34.9199,2,  34.9197,2,    279.2,2,    287.0,2,    12.77,2,    17.17,6,     1.10,2,    1.717,2,    0.879,2,    0.081,2,    2.760,2,   2156.7,2,  2.75913705
  18HU19931105, AR13a,    52,  1,     87,2,19931201, 932, 44.5347, -46.7510, 3917,   2598.1,   2.8229,  34.9183,2,  34.9181,2,    280.7,2,    287.0,2,    12.73,2,    16.79,6,     1.09,2,    1.416,2,    0.869,2,    0.566,4,    2.501,2,   2156.6,2,  2.61667971
  18HU19931105, AR13a,    52,  1,     86,2,19931201, 932, 44.5347, -46.7510, 3917,   2905.7,   2.7354,  34.9170,2,  34.9166,2,    282.2,2,    287.5,2,    12.89,2,    16.71,6,     1.09,2,    1.439,2,    0.615,2,    0.052,2,    2.481,2,   2158.1,2,  2.50009897
  18HU19931105, AR13a,    52,  1,     85,2,19931201, 932, 44.5347, -46.7510, 3917,   3189.4,   2.6836,  34.9168,2,-999.0000,9,    283.2,2,    281.6,2,    11.33,2,    17.25,6,     1.12,2,    2.061,2,    1.321,2,    0.089,2,    3.145,2,   2158.4,2,  2.41997676
  18HU19931105, AR13a,    52,  1,     84,2,19931201, 932, 44.5347, -46.7510, 3917,   3480.3,   2.5007,  34.9113,2,  34.8553,2,    285.5,2,    288.8,2,    14.19,2,    16.66,6,     1.09,2,    1.459,2,    0.849,2,    0.085,2,    2.526,2,   2159.0,2,  2.21065277
  18HU19931105, AR13a,    52,  1,     83,2,19931201, 932, 44.5347, -46.7510, 3917,   3807.9,   2.2268,  34.9004,2,  34.9003,2,    283.6,2,    285.3,2,    20.99,2,    17.66,6,     1.16,2,    1.105,2,    0.561,2,    0.040,2,    1.816,2,   2166.1,2,  1.90764131
  18HU19931105, AR13a,    52,  1,     82,2,19931201, 932, 44.5347, -46.7510, 3917,   3911.3,   2.1637,  34.8977,2,  34.9038,2,    288.1,2,    287.3,2,    16.30,2,    17.10,6,     1.11,2,    1.434,2,    1.006,2,    0.051,2,    2.532,2,   2160.0,2,  1.83470714
  18HU19931105, AR13a,    53,  1,     21,2,19931201,1430, 44.4002, -46.0290, 3913,     36.4,   7.5147,  33.1131,2,  33.1042,2,    290.8,2,    304.4,2,     0.94,2,     0.76,6,     0.32,2, -999.000,9, -999.000,9, -999.000,9, -999.000,9,   2034.6,2,  7.51129463
  18HU19931105, AR13a,    53,  1,     20,2,19931201,1430, 44.4002, -46.0290, 3913,    200.9,   2.6605,  34.4307,2,  33.1026,0,    276.6,2,    303.3,0,     0.96,2,     0.83,6,     0.34,2, -999.000,9, -999.000,9, -999.000,9, -999.000,9,   2030.8,2,  2.64871514
  18HU19931105, AR13a,    53,  1,     19,2,19931201,1430, 44.4002, -46.0290, 3913,    407.0,   4.5516,  34.9136,2,  34.8386,2,    250.1,2,    253.8,2,    10.24,2,    17.45,6,     1.19,2, -999.000,9, -999.000,9, -999.000,9, -999.000,9,   2164.1,2,  4.52064313
  18HU19931105, AR13a,    53,  1,     18,2,19931201,1430, 44.4002, -46.0290, 3913,    601.3,   4.3172,  34.9575,2,  34.9515,2,    259.2,2,    264.6,2,    10.32,2,    17.42,6,     1.17,2, -999.000,9, -999.000,9, -999.000,9, -999.000,9,   2163.0,2,   4.2715728
  18HU19931105, AR13a,    53,  1,     17,2,19931201,1430, 44.4002, -46.0290, 3913,    802.9,   3.8856,  34.9288,2,  34.9288,2,    270.2,2,    266.2,2,  -999.00,9,  -999.00,9,  -999.00,9, -999.000,9, -999.000,9, -999.000,9, -999.000,9,   2152.8,2,  3.82617728
  18HU19931105, AR13a,    53,  1,     16,2,19931201,1430, 44.4002, -46.0290, 3913,   1008.8,   3.5781,  34.9052,2,  34.9051,2,    277.7,2,    284.1,2,    10.06,2,    17.00,6,     1.14,2, -999.000,9, -999.000,9, -999.000,9, -999.000,9,   2156.0,2,  3.50430386
  18HU19931105, AR13a,    53,  1,     15,2,19931201,1430, 44.4002, -46.0290, 3913,   1200.1,   3.3400,  34.8837,2,  34.8855,2,    284.3,2,    290.3,2,    10.13,2,    16.82,6,     1.16,2, -999.000,9, -999.000,9, -999.000,9, -999.000,9,   2154.6,2,  3.25270411
  18HU19931105, AR13a,    53,  1,     14,2,19931201,1430, 44.4002, -46.0290, 3913,   1402.3,   3.1364,  34.8632,2,  34.8635,2,    290.5,2,    298.7,2,     9.78,2,    16.27,6,     1.10,2, -999.000,9, -999.000,9, -999.000,9, -999.000,9,   2152.1,2,  3.03447668
  18HU19931105, AR13a,    53,  1,     13,2,19931201,1430, 44.4002, -46.0290, 3913,   1599.0,   3.0724,  34.8611,2,  34.8580,2,    292.4,2,    300.5,2,     9.63,2,    16.15,6,     1.10,2, -999.000,9, -999.000,9, -999.000,9, -999.000,9,   2152.4,2,   2.9545824
  18HU19931105, AR13a,    53,  1,     12,2,19931201,1430, 44.4002, -46.0290, 3913,   1702.7,   3.0531,  34.8622,2,  34.8611,2,    292.8,2,    300.4,2,     9.65,2,    16.07,6,     1.13,2, -999.000,9, -999.000,9, -999.000,9, -999.000,9,   2151.4,2,  2.92654497
  18HU19931105, AR13a,    53,  1,     11,2,19931201,1430, 44.4002, -46.0290, 3913,   1797.3,   3.1870,  34.8909,2,  34.8905,2,    286.2,2,    292.4,2,    10.93,2,    16.49,6,     1.09,2, -999.000,9, -999.000,9, -999.000,9, -999.000,9,   2153.5,2,  3.05022959
  18HU19931105, AR13a,    53,  1,     10,2,19931201,1430, 44.4002, -46.0290, 3913,   1898.6,   3.1711,  34.8972,2,  34.8967,2,    284.2,2,    290.3,2,    10.97,2,    16.48,6,     1.09,2, -999.000,9, -999.000,9, -999.000,9, -999.000,9,   2154.5,2,  3.02539146
  18HU19931105, AR13a,    53,  1,      9,2,19931201,1430, 44.4002, -46.0290, 3913,   2004.5,   3.1495,  34.8996,2,  34.8981,2,    282.5,2,    288.5,2,    11.16,2,    16.32,6,     1.08,2, -999.000,9, -999.000,9, -999.000,9, -999.000,9,   2153.7,2,  2.99440367
  18HU19931105, AR13a,    53,  1,      8,2,19931201,1430, 44.4002, -46.0290, 3913,   2302.0,   3.1187,  34.9209,2,  34.9196,2,    278.3,2,    283.4,2,    12.74,2,    17.39,6,     1.14,2, -999.000,9, -999.000,9, -999.000,9, -999.000,9,   2154.1,2,  2.93597277
  18HU19931105, AR13a,    53,  1,      7,2,19931201,1430, 44.4002, -46.0290, 3913,   2599.3,   2.9665,  34.9242,2,  34.9229,2,    278.2,2,    285.1,2,    13.41,2,    17.20,6,     1.14,2, -999.000,9, -999.000,9, -999.000,9, -999.000,9,   2155.6,2,  2.75741133
  18HU19931105, AR13a,    53,  1,      6,2,19931201,1430, 44.4002, -46.0290, 3913,   2898.4,   2.7871,  34.9230,2,-999.0000,9,    280.4,2,    281.0,2,    10.86,2,    17.19,6,     1.16,2, -999.000,9, -999.000,9, -999.000,9, -999.000,9,   2157.3,2,   2.5514293
  18HU19931105, AR13a,    53,  1,      5,2,19931201,1430, 44.4002, -46.0290, 3913,   3193.0,   2.5938,  34.9167,2,  34.8547,2,    281.8,2,    278.5,2,    11.72,2,    17.72,6,     1.13,2, -999.000,9, -999.000,9, -999.000,9, -999.000,9,   2154.5,2,  2.33216799
  18HU19931105, AR13a,    53,  1,      4,2,19931201,1430, 44.4002, -46.0290, 3913,   3513.0,   2.3545,  34.9071,2,  34.9055,2,    284.3,2,    288.5,2,    16.06,2,    16.76,6,     1.09,2, -999.000,9, -999.000,9, -999.000,9, -999.000,9,   2157.9,2,  2.06426918
  18HU19931105, AR13a,    53,  1,      3,2,19931201,1430, 44.4002, -46.0290, 3913,   3795.8,   2.1810,  34.8991,2,  34.8979,2,    288.0,2,    289.3,2,    17.10,2,    16.57,6,     1.08,2, -999.000,9, -999.000,9, -999.000,9, -999.000,9,   2160.3,2,  1.86441946
  18HU19931105, AR13a,    53,  1,      2,2,19931201,1430, 44.4002, -46.0290, 3913,   3907.0,   2.1534,  34.8976,2,  34.8979,2,    290.2,2,    288.9,2,    15.22,2,    16.75,6,     1.07,2, -999.000,9, -999.000,9, -999.000,9, -999.000,9,   2156.4,2,  1.82520642