BOTTLE,20081201PRINUNIVRMK
EXPOCODE,SECT_ID,STNNBR,CASTNO,BTLNBR,BTLNBR_FLAG_W,DATE,TIME,LATITUDE,LONGITUDE,DEPTH,CTDPRS,CTDTMP,CTDSAL,CTDSAL_FLAG_W,SALNTY,SALNTY_FLAG_W,CTDOXY,CTDOXY_FLAG_W,OXYGEN,OXYGEN_FLAG_W,SILCAT,SILCAT_FLAG_W,NITRAT,NITRAT_FLAG_W,PHSPHT,PHSPHT_FLAG_W,CFC-11,CFC-11_FLAG_W,CFC-12,CFC-12_FLAG_W,CFC113,CFC113_FLAG_W,CCL4,CCL4_FLAG_W,TCARBN,TCARBN_FLAG_W,THETA
,,,,,,,,,,METERS,DBARS,ITS-90,PSS-78,,PSS-78,,UMOL/KG,,UMOL/KG,,UMOL/KG,,UMOL/KG,,UMOL/KG,,PMOL/KG,,PMOL/KG,,PMOL/KG,,PMOL/KG,,UMOL/KG,,DEGC
  18HU19931105, AR13a,     6,  1,     88,2,19931118,1114, 42.0050, -50.2450, 3623,     10.1,   9.8354,  32.6317,2,  32.6361,2,    253.4,2,    291.6,2,     1.23,2,     0.00,6,     0.30,2,    3.541,2,    2.300,2,    0.214,2,    5.021,2,   -999.0,9,   9.8342865
  18HU19931105, AR13a,     6,  1,     87,2,19931118,1114, 42.0050, -50.2450, 3623,     10.1,   9.8354,  32.6317,2,  32.6347,2,    253.4,2,    292.0,2,     1.19,2,     0.00,6,     0.32,2,    3.498,2,    2.566,2,    0.315,2,    4.699,2,   -999.0,9,  9.83428653
  18HU19931105, AR13a,     6,  1,     86,2,19931118,1114, 42.0050, -50.2450, 3623,     58.7,   7.2669,  34.0508,2,  34.0057,2,    218.7,2,    247.4,2,     6.61,2,     9.43,6,     0.90,2,    4.192,2,    3.208,2,    0.214,2,    3.532,2,   -999.0,9,  7.26142758
  18HU19931105, AR13a,     6,  1,     85,2,19931118,1114, 42.0050, -50.2450, 3623,    109.4,  12.0816,  35.4405,2,  35.4479,2,    168.2,2,    181.7,2,     7.19,2,    15.53,6,     0.98,2,    1.960,3,    3.398,2,    0.048,2,    1.051,2,   -999.0,9,  12.0672463
  18HU19931105, AR13a,     6,  1,     84,2,19931118,1114, 42.0050, -50.2450, 3623,    409.4,   6.2797,  35.0002,2,  35.0032,2,    197.6,2,    200.8,2,    13.35,2,    21.15,6,     1.39,2,    1.475,2,    0.890,2,    0.062,2,    1.436,2,   -999.0,9,  6.24298245
  18HU19931105, AR13a,     6,  1,     83,2,19931118,1114, 42.0050, -50.2450, 3623,    410.4,   6.2071,  34.9937,2,  34.9826,2,    201.3,2,    204.4,2,    13.13,2,    21.18,6,     1.37,2,    1.278,2,    0.788,2,    0.084,2,    1.584,2,   -999.0,9,  6.17053063
  18HU19931105, AR13a,     6,  1,     82,2,19931118,1114, 42.0050, -50.2450, 3623,    564.9,   3.9001,  34.7844,2,  34.7857,2,    245.8,2,    267.2,2,    10.60,2,    17.23,6,     1.16,2,    3.463,2,    3.503,2,    0.203,2,    3.883,2,   -999.0,9,  3.85938955
  18HU19931105, AR13a,     6,  1,     81,2,19931118,1114, 42.0050, -50.2450, 3623,    615.0,   5.0685,  35.0190,2,  35.0232,2,    227.4,2,    238.1,2,    12.44,2,    19.40,6,     1.24,2, -999.000,9, -999.000,9, -999.000,9, -999.000,9,   -999.0,9,  5.01812479
  18HU19931105, AR13a,     6,  1,     80,2,19931118,1114, 42.0050, -50.2450, 3623,    712.0,   4.3643,  34.9482,2,  34.9495,2,    244.9,2,    263.9,2,    10.90,2,    17.58,6,     1.15,2,    2.483,2,    1.826,2,    0.094,2,    3.041,2,   -999.0,9,    4.309425
  18HU19931105, AR13a,     6,  1,     79,2,19931118,1114, 42.0050, -50.2450, 3623,    805.0,   4.0423,  34.9197,2,  34.9204,2,    253.1,2,    273.2,2,    10.53,2,    17.31,6,     1.13,2,    2.799,2,    1.501,2,    0.446,4,    3.432,2,   -999.0,9,  3.98174214
  18HU19931105, AR13a,     6,  1,     78,2,19931118,1114, 42.0050, -50.2450, 3623,    953.4,   4.0939,  34.9549,2,  34.9570,2,    249.6,2,    270.5,2,    11.03,2,    17.91,6,     1.15,2, -999.000,9,    1.420,2,    0.074,2,    2.950,2,   -999.0,9,    4.020679
  18HU19931105, AR13a,     6,  1,     77,2,19931118,1114, 42.0050, -50.2450, 3623,   1093.5,   3.9286,  34.9484,2,  34.9532,2,    253.2,2,    272.2,2,    11.19,2,    17.95,6,     1.14,2,    2.947,2,    1.122,2,    0.063,2,    3.211,2,   -999.0,9,  3.84486951
  18HU19931105, AR13a,     6,  1,     76,2,19931118,1114, 42.0050, -50.2450, 3623,   1370.3,   3.4880,  34.9028,2,  34.9063,2,    263.1,2,    284.7,2,    10.97,2,    17.17,6,     1.13,2,    2.421,2,    1.315,2,    0.075,2,    3.153,2,   -999.0,9,  3.38495348
  18HU19931105, AR13a,     6,  1,     75,2,19931118,1114, 42.0050, -50.2450, 3623,   1648.1,   3.3602,  34.9014,2,  34.9048,2,    263.6,2,    285.1,2,    11.45,2,    17.09,6,     1.12,2,    2.428,2,    1.551,2,    0.084,2,    3.166,2,   -999.0,9,  3.23443089
  18HU19931105, AR13a,     6,  1,     74,2,19931118,1114, 42.0050, -50.2450, 3623,   1962.6,   3.5431,  34.9657,2,  34.9659,2,    253.8,2,    269.8,2,    14.38,2,    17.72,6,     1.18,2,    0.995,2,    0.657,2,    0.040,2,    1.495,2,   -999.0,9,  3.38587628
  18HU19931105, AR13a,     6,  1,     73,2,19931118,1114, 42.0050, -50.2450, 3623,   2534.2,   3.0804,  34.9476,2,  34.9495,2,    257.3,2,    272.4,2,    17.81,2,    17.99,6,     1.18,2,    1.228,2,    0.660,2,    0.027,2,    1.151,2,   -999.0,9,  2.87553052
  18HU19931105, AR13a,     6,  1,     72,2,19931118,1114, 42.0050, -50.2450, 3623,   2577.2,   3.0474,  34.9462,2,  34.9468,2,    257.7,2,    273.7,2,    18.05,2,    18.02,6,     1.15,2,    2.301,2,    0.771,2,    0.130,2,    1.216,2,   -999.0,9,    2.838881
  18HU19931105, AR13a,     6,  1,     71,2,19931118,1114, 42.0050, -50.2450, 3623,   2877.7,   2.7307,  34.9248,2,  34.9257,2,    265.1,2,    279.7,2,    16.61,2,    17.13,6,     1.09,2,    2.296,2,    0.561,2,    0.035,2,    1.733,2,   -999.0,9,  2.49830769
  18HU19931105, AR13a,     6,  1,     70,2,19931118,1114, 42.0050, -50.2450, 3623,   3203.6,   2.4432,  34.9119,2,  34.9121,2,    270.1,2,    283.2,2,    17.24,2,    16.49,6,     1.13,2,    1.528,2,    0.593,2,    0.131,2,    1.901,2,   -999.0,9,  2.18362076
  18HU19931105, AR13a,     6,  1,     69,2,19931118,1114, 42.0050, -50.2450, 3623,   3516.0,   2.1630,  34.8960,2,  34.8951,2,    269.3,2,    280.2,2,    23.35,2,    17.31,6,     1.18,2,    1.592,2,    0.652,2,    0.051,2,    1.660,2,   -999.0,9,  1.87728917
  18HU19931105, AR13a,     7,  1,      6,2,19931119,1448, 41.5120, -50.2440, 3867,      7.0,  15.4189,  34.3072,2,  34.3069,2,    219.4,2,    252.7,2,     1.04,2,     0.31,6,     0.15,2,    2.560,3,    1.356,2,    0.161,3,    3.326,2,   2026.4,2,  15.4178317
  18HU19931105, AR13a,     7,  1,      5,2,19931119,1448, 41.5120, -50.2440, 3867,    131.7,  15.0990,  35.9171,2,  35.9497,2,    160.6,2,    170.6,2,     4.48,2,    11.74,6,     0.71,2,    1.627,2,    1.051,2,    0.052,2,    0.552,2,   2130.7,2,  15.0788469
  18HU19931105, AR13a,     7,  1,      4,2,19931119,1448, 41.5120, -50.2440, 3867,    309.4,  10.9187,  35.3936,2,  35.3973,2,    147.0,2,    144.9,2,    11.29,2,    22.07,6,     1.43,2,    0.698,2,    0.369,2,    0.029,2,    0.312,2,   2178.6,2,  10.8803575
  18HU19931105, AR13a,     7,  1,      2,2,19931119,1448, 41.5120, -50.2440, 3867,    508.0,   7.1234,  35.0762,2,  35.0791,2,    181.5,2,   -999.0,9,    14.21,2,    23.05,6,     1.54,2, -999.000,9, -999.000,9, -999.000,9, -999.000,9,   -999.0,9,  7.07419825
  18HU19931105, AR13a,     7,  1,      3,2,19931119,1448, 41.5120, -50.2440, 3867,    508.1,   7.1396,  35.0783,2,  35.0689,2,    180.1,2,    179.8,2,    14.17,2,    22.88,6,     1.54,2,    0.758,2,    0.283,2,    0.040,2,    0.922,2,   2184.4,2,  7.09033464
  18HU19931105, AR13a,     7,  1,      1,2,19931119,1448, 41.5120, -50.2440, 3867,    640.3,   5.2093,  34.9510,2,  34.9510,2,    219.5,2,   -999.0,9,  -999.00,9,  -999.00,9,  -999.00,9, -999.000,9, -999.000,9, -999.000,9, -999.000,9,   -999.0,9,  5.15611893
  18HU19931105, AR13a,     7,  1,      0,2,19931119,1448, 41.5120, -50.2440, 3867,    763.6,   4.1471,  34.8690,2,  34.8706,2,    246.2,2,   -999.0,9,    10.76,2,    17.72,6,     1.20,2,    3.033,2,    1.521,2,    0.183,2,    3.897,2,   -999.0,9,  4.08933815
  18HU19931105, AR13a,     7,  1,     99,2,19931119,1448, 41.5120, -50.2440, 3867,    965.6,   4.1990,  34.9431,2,  34.9451,2,    248.3,2,    268.2,2,    10.80,2,    17.94,6,     1.19,2,    2.270,2,    1.097,2,    0.122,2,    3.149,2,   2160.9,2,  4.12399355
  18HU19931105, AR13a,     7,  1,     98,2,19931119,1448, 41.5120, -50.2440, 3867,   1110.2,   3.7919,  34.9014,2,-999.0000,9,    257.1,2,   -999.0,9,  -999.00,9,     2.64,4,  -999.00,9,    2.609,2,    1.519,2,    0.156,2,    3.182,2,   -999.0,9,  3.70801205
  18HU19931105, AR13a,     7,  1,     97,2,19931119,1448, 41.5120, -50.2440, 3867,   1205.3,   3.7847,  34.9134,2,  34.9134,2,    255.1,2,   -999.0,9,  -999.00,9,  -999.00,9,  -999.00,9, -999.000,9, -999.000,9, -999.000,9, -999.000,9,   -999.0,9,  3.69280861
  18HU19931105, AR13a,     7,  1,     96,2,19931119,1448, 41.5120, -50.2440, 3867,   1493.9,   3.7355,  34.9401,2,  34.9418,2,    253.6,2,    275.9,2,    12.10,2,    19.45,6,     1.23,2,    1.271,2,    0.709,2,    0.050,2,    2.392,2,   2147.8,2,  3.61888317
  18HU19931105, AR13a,     7,  1,     95,2,19931119,1448, 41.5120, -50.2440, 3867,   2043.7,   3.5346,  34.9607,2,  34.9635,2,    253.4,2,    272.0,2,    13.53,2,    19.57,6,     1.25,2,    0.728,2,    0.463,2,    0.022,2,    1.726,2,   2157.8,2,  3.36980538
  18HU19931105, AR13a,     7,  1,     94,2,19931119,1448, 41.5120, -50.2440, 3867,   2307.4,   3.3776,  34.9607,2,  34.9630,2,    253.6,2,    270.6,2,    13.94,2,    19.54,6,     1.25,2,    0.882,2,    0.411,2,    0.046,2,    1.754,2,   2159.9,2,  3.18979034
  18HU19931105, AR13a,     7,  1,     92,2,19931119,1448, 41.5120, -50.2440, 3867,   2589.8,   3.1716,  34.9538,2,  34.9538,2,    254.4,2,   -999.0,9,  -999.00,9,  -999.00,9,  -999.00,9, -999.000,9, -999.000,9, -999.000,9, -999.000,9,   -999.0,9,  2.95944893
  18HU19931105, AR13a,     7,  1,     93,2,19931119,1448, 41.5120, -50.2440, 3867,   2593.8,   3.1696,  34.9536,2,  34.9557,2,    254.5,2,    270.2,2,    18.43,2,    20.08,4,     1.30,2, -999.000,9, -999.000,9, -999.000,9, -999.000,9,   2162.3,2,  2.95707609
  18HU19931105, AR13a,     7,  1,     91,2,19931119,1448, 41.5120, -50.2440, 3867,   3109.2,   2.7349,  34.9246,2,  34.9276,2,    264.9,2,    277.7,2,    17.04,2,    18.94,6,     1.23,2,    0.745,2,    0.528,2,    0.041,2,    1.633,2,   2160.4,2,  2.47850185
  18HU19931105, AR13a,     7,  1,     90,2,19931119,1448, 41.5120, -50.2440, 3867,   3348.9,   2.5386,  34.9157,2,  34.9173,2,    266.4,2,    278.9,2,    19.22,2,    19.05,6,     1.23,2,    0.765,2,    0.333,2,    0.027,2,    1.581,2,   2161.9,2,  2.26142315
  18HU19931105, AR13a,     7,  1,     89,2,19931119,1448, 41.5120, -50.2440, 3867,   3860.1,   2.3017,  34.9019,2,  34.9029,2,    270.4,2,    276.8,2,    21.63,2,    18.54,6,     1.25,2,    0.887,2,    0.406,2,    0.047,2,    1.755,2,   2165.0,2,   1.9746911
  18HU19931105, AR13a,     8,  1,     27,2,19931119,2047, 40.9983, -50.2440, 3854,      8.7,  18.9340,  35.3522,2,  35.3559,2,    209.8,2,    229.8,2,     1.18,2,     0.28,6,     0.00,2,    2.306,2,    1.534,2,    0.194,2,    2.593,2,   2035.8,2,  18.9324545
  18HU19931105, AR13a,     8,  1,     28,2,19931119,2047, 40.9983, -50.2440, 3854,      8.7,  18.9340,  35.3522,2,  35.3551,2,    209.8,2,    230.0,2,     1.21,2,     0.26,6,     0.09,2,    2.423,2,    1.391,2,    0.128,2,    2.542,2,   2034.0,2,  18.9324545
  18HU19931105, AR13a,     8,  1,     26,2,19931119,2047, 40.9983, -50.2440, 3854,    151.9,  17.4407,  36.4011,2,  36.4035,2,    178.4,2,    188.9,2,     2.57,2,     6.63,6,     0.37,2,    1.719,2,    1.447,2,    0.057,2,    0.221,2,   2113.6,2,  17.4149607
  18HU19931105, AR13a,     8,  1,     25,2,19931119,2047, 40.9983, -50.2440, 3854,    251.2,  13.4218,  35.6859,2,  35.7207,2,    160.0,2,    161.7,2,     6.63,2,    15.42,6,     0.97,2,    1.792,2,    0.792,2,    0.053,2,    0.436,2,   2152.4,2,  13.3861972
  18HU19931105, AR13a,     8,  1,     24,2,19931119,2047, 40.9983, -50.2440, 3854,    542.7,   7.6095,  35.0926,2,  35.0965,2,    172.1,2,    168.1,2,    14.70,2,    23.76,6,     1.58,2,    0.855,2,    0.395,2,    0.034,2,    0.667,2,   2188.6,2,  7.55482916
  18HU19931105, AR13a,     8,  1,     23,2,19931119,2047, 40.9983, -50.2440, 3854,    546.4,   7.5440,  35.0874,2,  35.0939,2,    171.4,2,    169.4,2,    14.56,2,    23.64,6,     1.55,2,    0.629,2,    0.316,2,    0.032,2,    0.631,2,   2188.0,2,  7.48921165
  18HU19931105, AR13a,     8,  1,     22,2,19931119,2047, 40.9983, -50.2440, 3854,    652.3,   6.3270,  35.0754,2,  35.0720,2,    199.5,2,    203.0,2,    13.29,2,    21.26,6,     1.42,2,    1.284,2,    0.629,2,    0.042,2,    1.186,2,   2180.9,2,  6.26709771
  18HU19931105, AR13a,     8,  1,     21,2,19931119,2047, 40.9983, -50.2440, 3854,    805.0,   5.1940,  35.0190,2,  35.0280,2,    224.4,2,    232.3,2,    12.51,2,    19.48,6,     1.32,2, -999.000,9,    0.898,2,    0.053,2,    1.684,2,   2173.8,2,  5.12617889
  18HU19931105, AR13a,     8,  1,     20,2,19931119,2047, 40.9983, -50.2440, 3854,    899.4,   4.8413,  35.0117,2,  35.0165,2,    233.4,2,    243.4,2,    12.31,2,    19.22,6,     1.27,2,    1.177,2,    0.664,2,    0.042,2,    1.859,2,   2168.8,2,  4.76734753
  18HU19931105, AR13a,     8,  1,     19,2,19931119,2047, 40.9983, -50.2440, 3854,    999.5,   4.5827,  34.9995,2,  35.0063,2,    240.4,2,    253.3,2,    12.08,2,    18.82,6,     1.23,2,    1.161,2,    0.778,2,    0.044,2,    2.004,2,   2166.2,2,  4.50177615
  18HU19931105, AR13a,     8,  1,     17,2,19931119,2047, 40.9983, -50.2440, 3854,   1315.8,   4.0405,  34.9635,2,  34.9707,2,    252.2,2,    266.3,2,    11.95,2,    18.30,6,     1.24,2,    1.198,2,    0.688,2,    0.054,2,    2.181,2,   2162.2,2,  3.93641577
  18HU19931105, AR13a,     8,  1,     18,2,19931119,2047, 40.9983, -50.2440, 3854,   1318.1,   4.0413,  34.9636,2,  34.9744,2,    252.8,2,    265.8,2,    11.67,2,    17.70,6,     1.21,2,    1.362,2,    0.750,2,    0.043,2,    2.175,2,   2160.5,2,  3.93699546
  18HU19931105, AR13a,     8,  1,     16,2,19931119,2047, 40.9983, -50.2440, 3854,   1613.4,   3.7346,  34.9478,2,  34.9508,2,    257.7,2,    274.7,2,    12.30,2,    17.96,6,     1.21,2,    1.676,2,    0.570,2, -999.000,9,    2.217,2,   2158.4,2,  3.60721697
  18HU19931105, AR13a,     8,  1,     15,2,19931119,2047, 40.9983, -50.2440, 3854,   1912.4,   3.5853,  34.9508,2,  34.9530,2,    259.6,2,    273.1,2,    13.36,2,    17.60,6,     1.23,2,    1.381,2,    0.331,2,    0.031,2,    1.709,2,   2159.9,2,   3.4322401
  18HU19931105, AR13a,     8,  1,     14,2,19931119,2047, 40.9983, -50.2440, 3854,   2221.5,   3.4491,  34.9605,2,  34.9998,2,    257.4,2,    267.4,2,    14.53,2,    17.33,6,     1.20,2,    0.589,2,    0.302,2,    0.041,2,    1.143,2,   2157.9,2,  3.26836621
  18HU19931105, AR13a,     8,  1,     12,2,19931119,2047, 40.9983, -50.2440, 3854,   2815.8,   3.0195,  34.9468,2,  34.9569,2,    258.1,2,    270.6,2,    19.78,2,    18.29,6,     1.27,2,    0.859,2,    0.295,2,    0.024,2,    0.795,2,   2163.7,2,  2.78733807
  18HU19931105, AR13a,     8,  1,     13,2,19931119,2047, 40.9983, -50.2440, 3854,   2816.5,   3.0190,  34.9465,2,  34.9490,2,    258.8,2,    270.2,2,    19.76,2,    18.47,6,     1.27,2, -999.000,9,    0.144,2,    0.020,2,    0.683,2,   2166.9,2,  2.78681206
  18HU19931105, AR13a,     8,  1,     11,2,19931119,2047, 40.9983, -50.2440, 3854,   3089.4,   2.7572,  34.9299,2,  34.9518,2,    263.1,2,    272.3,2,    19.09,2,    18.05,6,     1.23,2, -999.000,9, -999.000,9, -999.000,9, -999.000,9,   2160.9,2,  2.50226054
  18HU19931105, AR13a,     8,  1,     10,2,19931119,2047, 40.9983, -50.2440, 3854,   3434.0,   2.4424,  34.9103,2,  34.9124,2,    272.5,2,    282.5,2,    16.95,2,    16.86,6,     1.15,2,    1.431,2,    0.496,2,    0.267,3,    2.118,2,   2160.8,2,  2.15846095
  18HU19931105, AR13a,     8,  1,      9,2,19931119,2047, 40.9983, -50.2440, 3854,   3692.9,   2.2582,  34.9011,2,  34.9089,2,    273.4,2,    281.9,2,    19.73,2,    17.27,6,     1.18,2,    1.102,2,    0.502,2,    0.051,2,    2.032,2,   2165.1,2,  1.95084369