BOTTLE,20081201PRINUNIVRMK
EXPOCODE,SECT_ID,STNNBR,CASTNO,BTLNBR,BTLNBR_FLAG_W,DATE,TIME,LATITUDE,LONGITUDE,DEPTH,CTDPRS,CTDTMP,CTDSAL,CTDSAL_FLAG_W,SALNTY,SALNTY_FLAG_W,CTDOXY,CTDOXY_FLAG_W,OXYGEN,OXYGEN_FLAG_W,SILCAT,SILCAT_FLAG_W,NITRAT,NITRAT_FLAG_W,PHSPHT,PHSPHT_FLAG_W,CFC-11,CFC-11_FLAG_W,CFC-12,CFC-12_FLAG_W,CFC113,CFC113_FLAG_W,CCL4,CCL4_FLAG_W,TCARBN,TCARBN_FLAG_W,THETA
,,,,,,,,,,METERS,DBARS,ITS-90,PSS-78,,PSS-78,,UMOL/KG,,UMOL/KG,,UMOL/KG,,UMOL/KG,,UMOL/KG,,PMOL/KG,,PMOL/KG,,PMOL/KG,,PMOL/KG,,UMOL/KG,,DEGC
  18HU19931105, AR13a,    69,  1,     41,2,19931205, 109, 46.2178, -42.9600, 4431,     23.0,  14.6533,  35.5089,2,  35.4484,2,    227.9,2,    244.9,2,     1.80,2,     3.94,6,     0.30,2, -999.000,9, -999.000,9, -999.000,9, -999.000,9,   -999.0,9,  14.6498772
  18HU19931105, AR13a,    69,  1,     40,2,19931205, 109, 46.2178, -42.9600, 4431,    202.0,  12.1021,  35.5111,2,  35.5150,2,    186.1,2,    190.5,2,     6.94,2,    15.97,6,     0.93,2, -999.000,9, -999.000,9, -999.000,9, -999.000,9,   -999.0,9,  12.0754488
  18HU19931105, AR13a,    69,  1,     39,2,19931205, 109, 46.2178, -42.9600, 4431,    397.9,   6.9126,  34.9213,2,  34.9226,2,    197.7,2,    195.3,2,    12.56,2,    21.74,6,     1.34,2, -999.000,9, -999.000,9, -999.000,9, -999.000,9,   -999.0,9,  6.87508535
  18HU19931105, AR13a,    69,  1,     38,2,19931205, 109, 46.2178, -42.9600, 4431,    600.5,   5.5239,  35.0259,2,  35.0393,2,    230.7,2,    231.6,2,    11.83,2,    20.05,6,     1.19,2, -999.000,9, -999.000,9, -999.000,9, -999.000,9,   -999.0,9,   5.4726635
  18HU19931105, AR13a,    69,  1,     37,2,19931205, 109, 46.2178, -42.9600, 4431,    708.1,   4.9273,  34.9921,2,  35.0189,2,    244.1,2,    227.3,0,    11.94,2,    20.29,6,     1.24,2, -999.000,9, -999.000,9, -999.000,9, -999.000,9,   -999.0,9,  4.86959241
  18HU19931105, AR13a,    69,  1,     36,2,19931205, 109, 46.2178, -42.9600, 4431,    808.1,   4.7160,  34.9885,2,  34.9918,2,    248.8,2,    254.3,2,    11.77,2,    19.56,6,     1.29,2, -999.000,9, -999.000,9, -999.000,9, -999.000,9,   -999.0,9,  4.65089882
  18HU19931105, AR13a,    69,  1,     35,2,19931205, 109, 46.2178, -42.9600, 4431,   1003.6,   4.2426,  34.9636,2,  34.9633,2,    261.6,2,    266.3,2,    11.40,2,    19.31,6,     1.18,2, -999.000,9, -999.000,9, -999.000,9, -999.000,9,   -999.0,9,  4.16399299
  18HU19931105, AR13a,    69,  1,     34,2,19931205, 109, 46.2178, -42.9600, 4431,   1257.9,   3.8347,  34.9321,2,  34.9335,2,    271.8,2,    278.0,2,    11.25,2,    18.53,6,     1.15,2, -999.000,9, -999.000,9, -999.000,9, -999.000,9,   -999.0,9,  3.73778172
  18HU19931105, AR13a,    69,  1,     33,2,19931205, 109, 46.2178, -42.9600, 4431,   1485.8,   3.5648,  34.9118,2,  34.9131,2,    276.7,2,    283.6,2,    11.48,2,    18.41,6,     1.15,2, -999.000,9, -999.000,9, -999.000,9, -999.000,9,   -999.0,9,  3.45089639
  18HU19931105, AR13a,    69,  1,     32,2,19931205, 109, 46.2178, -42.9600, 4431,   1697.8,   3.3569,  34.8945,2,  34.8990,2,    281.8,2,    287.2,2,    11.38,2,    18.27,6,     1.13,2, -999.000,9, -999.000,9, -999.000,9, -999.000,9,   -999.0,9,  3.22676639
  18HU19931105, AR13a,    69,  1,     31,2,19931205, 109, 46.2178, -42.9600, 4431,   1897.5,   3.0470,  34.8549,2,  34.8558,2,    292.3,2,    303.3,2,    10.09,2,    17.62,6,     1.08,2, -999.000,9, -999.000,9, -999.000,9, -999.000,9,   -999.0,9,  2.90328755
  18HU19931105, AR13a,    69,  1,     30,2,19931205, 109, 46.2178, -42.9600, 4431,   2208.0,   3.0216,  34.8620,2,  34.8639,2,    292.1,2,    303.3,2,    10.41,2,    17.50,6,     1.05,2, -999.000,9, -999.000,9, -999.000,9, -999.000,9,   -999.0,9,  2.84965224
  18HU19931105, AR13a,    69,  1,     29,2,19931205, 109, 46.2178, -42.9600, 4431,   2502.6,   3.1379,  34.9000,2,  34.9004,2,    282.8,2,    290.2,2,    11.54,2,    17.57,6,     1.10,2, -999.000,9, -999.000,9, -999.000,9, -999.000,9,   -999.0,9,  2.93530649
  18HU19931105, AR13a,    69,  1,     28,2,19931205, 109, 46.2178, -42.9600, 4431,   2806.0,   3.0248,  34.9192,2,  34.9193,2,    278.7,2,    290.1,2,    12.61,2,    17.31,6,     1.09,2, -999.000,9, -999.000,9, -999.000,9, -999.000,9,   -999.0,9,  2.79370602
  18HU19931105, AR13a,    69,  1,     27,2,19931205, 109, 46.2178, -42.9600, 4431,   3099.2,   2.8911,  34.9307,2,  34.9313,2,    273.8,2,    280.1,2,    16.89,2,    18.15,6,     1.16,2, -999.000,9, -999.000,9, -999.000,9, -999.000,9,   -999.0,9,  2.63225858
  18HU19931105, AR13a,    69,  1,     26,2,19931205, 109, 46.2178, -42.9600, 4431,   3409.7,   2.6566,  34.9200,2,  34.9217,2,    278.2,2,    282.2,2,    14.52,2,    17.85,6,     1.12,2, -999.000,9, -999.000,9, -999.000,9, -999.000,9,   -999.0,9,  2.37002268
  18HU19931105, AR13a,    69,  1,     25,2,19931205, 109, 46.2178, -42.9600, 4431,   3696.0,   2.4348,  34.9108,2,  34.9107,2,    281.5,2,    286.1,2,    17.28,2,    17.93,6,     1.12,2, -999.000,9, -999.000,9, -999.000,9, -999.000,9,   -999.0,9,  2.12249413
  18HU19931105, AR13a,    69,  1,     24,2,19931205, 109, 46.2178, -42.9600, 4431,   4011.9,   2.2754,  34.9023,2,  34.9076,2,    282.1,2,    283.5,2,    18.06,2,    17.80,6,     1.11,2, -999.000,9, -999.000,9, -999.000,9, -999.000,9,   -999.0,9,  1.93193719
  18HU19931105, AR13a,    69,  1,     23,2,19931205, 109, 46.2178, -42.9600, 4431,   4302.2,   2.2100,  34.8984,2,  34.8980,2,    288.5,2,    290.7,2,    16.74,2,    17.26,6,     1.06,2, -999.000,9, -999.000,9, -999.000,9, -999.000,9,   -999.0,9,  1.83494763
  18HU19931105, AR13a,    69,  1,     22,2,19931205, 109, 46.2178, -42.9600, 4431,   4426.8,   2.1798,  34.8969,2,  34.8974,2,    292.3,2,    292.0,2,    15.12,2,    16.75,6,     1.03,2, -999.000,9, -999.000,9, -999.000,9, -999.000,9,   -999.0,9,  1.79097273
  18HU19931105, AR13a,    70,  1,     61,2,19931206, 543, 46.4208, -43.2240, 4073,    100.4,   3.7144,  34.0848,2,  34.0541,2,    257.5,2,    272.5,2,     9.09,2,    12.74,6,     1.03,2,    3.435,2,    1.671,2,    0.214,2,    3.878,2,   2134.5,2,  3.70780198
  18HU19931105, AR13a,    70,  1,     60,2,19931206, 543, 46.4208, -43.2240, 4073,    200.7,   6.4403,  34.7944,2,  34.8075,2,    201.3,2,    197.0,2,    12.76,2,    21.39,6,     1.38,2,    1.598,2,    0.867,2,    0.073,2,    1.631,2,   2171.0,2,  6.42240827
  18HU19931105, AR13a,    70,  1,     59,2,19931206, 543, 46.4208, -43.2240, 4073,    300.7,   4.6115,  34.7132,2,  34.7157,2,    240.9,2,    235.1,0,    11.73,2,    19.44,6,     1.25,2,    2.120,2,    1.245,2,    0.113,2,    2.598,3,   2162.2,2,  4.58878953
  18HU19931105, AR13a,    70,  1,     58,2,19931206, 543, 46.4208, -43.2240, 4073,    400.3,   4.0801,  34.8211,2,  34.8212,2,    258.8,2,    263.7,2,    10.87,2,    18.52,6,     1.17,2,    2.480,2,    1.206,2,    0.125,2,    3.238,3,   2161.1,2,  4.05116605
  18HU19931105, AR13a,    70,  1,     57,2,19931206, 543, 46.4208, -43.2240, 4073,    507.1,   4.5833,  34.9754,2,  34.7617,0,    251.7,2,    258.1,2,    10.85,2,    18.50,6,     1.17,2,    2.395,2,    1.441,2,    0.136,2,    0.251,3,   2157.7,2,  4.54410829
  18HU19931105, AR13a,    70,  1,     56,2,19931206, 543, 46.4208, -43.2240, 4073,    703.4,   3.9023,  34.9252,2,  34.9226,2,    270.1,2,    278.5,2,    10.91,2,    18.53,6,     1.14,2,    2.074,2,    1.160,2,    0.089,2,    3.058,3,   2157.8,2,  3.85068907
  18HU19931105, AR13a,    70,  1,     55,2,19931206, 543, 46.4208, -43.2240, 4073,    901.4,   3.7958,  34.9334,2,  34.9328,2,    271.4,2,    275.9,2,    11.24,2,    18.07,6,     1.13,2,    1.406,2,    0.395,3,    0.037,2,    2.317,2,   2157.0,2,  3.72903554
  18HU19931105, AR13a,    70,  1,     54,2,19931206, 543, 46.4208, -43.2240, 4073,   1114.3,   3.5164,  34.9119,2,  34.9109,2,    277.5,2,    284.7,2,    11.23,2,    18.21,6,     1.10,2,    1.601,2,    0.837,2,    0.062,2,    2.656,2,   2154.5,2,  3.43451158
  18HU19931105, AR13a,    70,  1,     53,2,19931206, 543, 46.4208, -43.2240, 4073,   1308.2,   3.3813,  34.9053,2,  34.9064,2,    279.3,2,    286.7,2,    11.61,2,    18.05,6,     1.13,2,    1.476,2,    0.744,2,    0.053,2,    2.475,2,   2153.3,2,  3.28460415
  18HU19931105, AR13a,    70,  1,     52,2,19931206, 543, 46.4208, -43.2240, 4073,   1489.5,   3.3098,  34.9058,2,  34.9076,2,    279.5,2,    287.1,2,    11.86,2,    18.05,6,     1.12,2,    1.429,2,    0.415,3,    0.049,2,    2.280,2,   2152.2,2,  3.19847094
  18HU19931105, AR13a,    70,  1,     51,2,19931206, 543, 46.4208, -43.2240, 4073,   1714.7,   2.9717,  34.8632,2,  34.8628,2,    291.9,2,    302.2,2,    10.43,2,    17.19,6,     1.07,2,    2.330,2,    1.107,2,    0.113,2,    3.397,2,   2151.0,2,  2.84515003
  18HU19931105, AR13a,    70,  1,     50,2,19931206, 543, 46.4208, -43.2240, 4073,   1912.4,   3.0020,  34.8718,2,  34.8676,2,    290.2,2,    296.8,2,    10.56,2,    17.48,6,     1.08,2,    2.157,2,    1.264,2,    0.092,2,    3.266,2,   2152.2,2,  2.85755462
  18HU19931105, AR13a,    70,  1,     49,2,19931206, 543, 46.4208, -43.2240, 4073,   2211.1,   3.0608,  34.8928,2,  34.8934,2,    284.7,2,    292.0,2,    11.29,2,    17.30,6,     1.07,2,    1.792,2,    0.999,2,    0.082,2,    2.831,2,   2153.3,2,  2.88781028
  18HU19931105, AR13a,    70,  1,     48,2,19931206, 543, 46.4208, -43.2240, 4073,   2510.0,   3.0029,  34.9168,2,  34.9152,2,    279.1,2,    285.3,2,    12.27,2,    17.08,6,     1.08,2,    1.441,2,    0.588,2,    0.049,2,    2.146,2,   2153.2,2,  2.80199369
  18HU19931105, AR13a,    70,  1,     47,2,19931206, 543, 46.4208, -43.2240, 4073,   2790.7,   2.8715,  34.9220,2,  34.9219,2,    278.7,2,    284.5,2,    13.18,2,    17.17,6,     1.07,2,    1.179,2,    0.620,2,    0.029,2,    2.058,2,   2153.7,2,  2.64506454
  18HU19931105, AR13a,    70,  1,     46,2,19931206, 543, 46.4208, -43.2240, 4073,   3099.7,   2.6673,  34.9216,2,  34.9179,2,    279.0,2,    285.2,2,    14.40,2,    17.32,6,     1.08,2,    1.153,2,    0.308,2,    0.031,2,    1.908,2,   2154.7,2,  2.41345085
  18HU19931105, AR13a,    70,  1,     45,2,19931206, 543, 46.4208, -43.2240, 4073,   3397.9,   2.4258,  34.9093,2,  34.9089,2,    283.0,2,    288.8,2,    14.97,2,    16.86,6,     1.09,2,    1.268,2,    0.735,2,    0.048,2,    2.075,2,   2157.0,2,  2.14614796
  18HU19931105, AR13a,    70,  1,     44,2,19931206, 543, 46.4208, -43.2240, 4073,   3683.1,   2.2537,  34.9027,2,  34.8949,2,    283.6,2,    287.8,2,    17.80,2,    17.43,6,     1.10,2,    1.203,2,    0.574,2,    0.036,2,    2.058,2,   2160.3,2,  1.94761619
  18HU19931105, AR13a,    70,  1,     43,2,19931206, 543, 46.4208, -43.2240, 4073,   3935.4,   2.1999,  34.8997,2,  34.8991,2,    286.9,2,    289.1,2,    17.32,2,    17.19,6,     1.08,2,    1.272,2,    0.659,2,    0.048,2,    1.122,2,   2159.8,2,  1.86723919
  18HU19931105, AR13a,    70,  1,     42,2,19931206, 543, 46.4208, -43.2240, 4073,   4068.5,   2.1128,  34.8957,2,  34.8899,2,    291.8,2,    293.9,2,    14.52,2,    16.52,6,     1.02,2,    1.621,2,    0.868,2,    0.059,2,    2.535,2,   2157.8,2,  1.76758555
  18HU19931105, AR13a,    71,  1,     81,2,19931206, 945, 46.6328, -43.4330, 3523,     10.9,   6.9184,  33.6357,2,  33.6378,2,    291.7,2,    306.1,2,     2.33,2,     3.16,6,     0.39,2,    4.023,2,    2.043,2,    0.220,2,    6.088,2,   2052.8,2,  6.91742302
  18HU19931105, AR13a,    71,  1,     80,2,19931206, 945, 46.6328, -43.4330, 3523,     94.8,   5.8483,  34.0154,2,  33.9861,2,    269.5,2,    283.6,2,     4.83,2,     8.02,6,     0.69,2,    3.888,2,    1.683,2,    0.209,2,    5.152,2,   2086.2,2,  5.84048112
  18HU19931105, AR13a,    71,  1,     79,2,19931206, 945, 46.6328, -43.4330, 3523,    199.8,   4.0945,  34.7481,2,  34.7485,2,    255.0,2,    256.2,2,    10.82,2,    17.75,6,     1.21,2, -999.000,9, -999.000,9, -999.000,9, -999.000,9,   2155.9,2,  4.08036842
  18HU19931105, AR13a,    71,  1,     78,2,19931206, 945, 46.6328, -43.4330, 3523,    300.3,   4.1906,  34.8596,2,  34.8698,2,    257.2,2,    260.3,2,    11.02,2,    18.03,6,     1.19,2,    2.671,2,    1.152,2,    0.121,2,    3.647,2,   2159.7,2,  4.16883757
  18HU19931105, AR13a,    71,  1,     77,2,19931206, 945, 46.6328, -43.4330, 3523,    405.2,   4.2495,  34.9150,2,  34.9148,2,    260.0,2,    263.9,2,    10.97,2,    18.06,6,     1.17,2,    2.541,2,    1.147,2,    0.097,2,    3.403,2,   2158.2,2,  4.21959268
  18HU19931105, AR13a,    71,  1,     76,2,19931206, 945, 46.6328, -43.4330, 3523,    509.8,   4.0503,  34.9175,2,  34.9184,2,    265.3,2,    270.7,2,    10.69,2,    18.09,6,     1.15,2,    2.469,2,    1.109,2,    0.095,2,    3.397,2,   2157.9,2,  4.01306003
  18HU19931105, AR13a,    71,  1,     75,2,19931206, 945, 46.6328, -43.4330, 3523,    569.9,   3.9332,  34.9155,2,  34.9168,2,    268.8,2,    274.5,2,    10.58,2,    18.06,6,     1.14,2,    2.470,2,    1.130,2, -999.000,9,    3.434,2,   2155.8,2,  3.89183285
  18HU19931105, AR13a,    71,  1,     74,2,19931206, 945, 46.6328, -43.4330, 3523,    795.9,   3.7007,  34.9234,2,  34.9223,2,    274.5,2,    279.2,2,    11.00,2,    17.80,6,     1.14,2,    1.919,2,    0.937,2,    0.056,2,    3.066,2,   2152.7,2,  3.64299089
  18HU19931105, AR13a,    71,  1,     73,2,19931206, 945, 46.6328, -43.4330, 3523,   1001.7,   3.3877,  34.8909,2,  34.8921,2,    281.9,2,    289.4,2,    10.69,2,    17.77,6,     1.13,2,    2.223,2,    1.090,2,    0.110,2,    3.640,2,   2151.9,2,   3.3159771
  18HU19931105, AR13a,    71,  1,     72,2,19931206, 945, 46.6328, -43.4330, 3523,   1205.9,   3.2217,  34.8771,2,  34.8778,2,    286.6,2,    292.7,2,    10.49,2,    17.41,6,     1.11,2,    2.438,2,    1.046,2,    1.395,4,    3.811,2,   2149.6,2,  3.13504379
  18HU19931105, AR13a,    71,  1,     71,2,19931206, 945, 46.6328, -43.4330, 3523,   1415.0,   3.0734,  34.8631,2,  34.8633,2,    291.0,2,    297.9,2,    10.14,2,    17.14,6,     1.09,2,    2.774,2,    1.215,2,    0.107,2,    4.331,2,   2149.4,2,   2.9710998
  18HU19931105, AR13a,    71,  1,     70,2,19931206, 945, 46.6328, -43.4330, 3523,   1657.1,   3.0935,  34.8790,2,  34.8771,2,    287.9,2,   -999.0,9,    10.74,2,    17.10,6,     1.06,2,    2.398,2,    1.184,2,    0.068,2,    3.761,2,   2150.9,2,  2.97035389
  18HU19931105, AR13a,    71,  1,     69,2,19931206, 945, 46.6328, -43.4330, 3523,   1900.5,   3.1130,  34.8963,2,  34.8957,2,    283.6,2,    291.1,2,    11.42,2,    17.30,6,     1.11,2,    1.962,2,    1.039,2,    0.135,2,    3.182,2,   2150.7,2,  2.96795023
  18HU19931105, AR13a,    71,  1,     68,2,19931206, 945, 46.6328, -43.4330, 3523,   2137.5,   3.1418,  34.9196,2,  34.9201,2,    278.1,2,    284.8,2,    12.72,2,    17.48,6,     1.12,2,    1.292,2,    0.675,2,    0.035,2,    2.188,2,   2153.8,2,  2.97435235
  18HU19931105, AR13a,    71,  1,     67,2,19931206, 945, 46.6328, -43.4330, 3523,   2403.9,   3.0038,  34.9302,2,  34.9280,2,    275.6,2,    285.0,2,    14.41,2,    17.55,6,     1.12,2,    0.883,2,    0.536,2,    0.025,2,    1.679,2,   2156.0,2,  2.81318879
  18HU19931105, AR13a,    71,  1,     66,2,19931206, 945, 46.6328, -43.4330, 3523,   2623.9,   2.8312,  34.9285,2,  34.9249,2,    276.1,2,    281.0,2,    15.28,2,    17.47,6,     1.12,2,    0.838,2,    0.540,2, -999.000,9,    1.471,2,   2154.2,2,  2.62224735
  18HU19931105, AR13a,    71,  1,     65,2,19931206, 945, 46.6328, -43.4330, 3523,   2894.2,   2.6366,  34.9219,2,  34.9221,2,    278.4,2,    284.5,2,    16.08,2,    17.39,6,     1.12,2,    0.940,2,    0.493,2,    0.018,2,    1.690,2,   2158.5,2,  2.40451859
  18HU19931105, AR13a,    71,  1,     64,2,19931206, 945, 46.6328, -43.4330, 3523,   3157.5,   2.2866,  34.9061,2,  34.8999,2,    279.2,2,    283.1,2,    20.94,2,    17.80,6,     1.15,2,    0.821,2,    0.520,2,    0.021,2,    1.493,2,   2159.5,2,  2.03543591
  18HU19931105, AR13a,    71,  1,     63,2,19931206, 945, 46.6328, -43.4330, 3523,   3378.6,   2.2385,  34.9022,2,  34.9027,2,    279.3,2,    280.9,2,    22.82,2,    18.12,6,     1.15,2,    0.712,2,    0.429,2,    0.015,2,    1.300,2,   2160.9,2,  1.96545741
  18HU19931105, AR13a,    71,  1,     62,2,19931206, 945, 46.6328, -43.4330, 3523,   3484.7,   2.2170,  34.9011,2,  34.8992,2,    281.4,2,    283.4,2,    21.58,2,    17.87,6,     1.12,2,    0.894,2,    0.544,2,    0.018,2,    1.509,2,   2163.3,2,  1.93325908
  18HU19931105, AR13a,    72,  1,     96,2,19931206,1316, 46.7790, -43.6050, 2541,     26.7,   7.1068,  33.6816,2,  33.6820,2,    287.6,2,    306.3,2,     2.31,2,     3.13,6,     0.40,2,    3.795,2,    2.536,2,    0.226,2,    5.419,2,   2050.6,2,  7.10436323
  18HU19931105, AR13a,    72,  1,     95,2,19931206,1316, 46.7790, -43.6050, 2541,    197.4,   4.3813,  34.7922,2,  34.7930,2,    247.8,2,    251.2,2,    11.26,2,    18.45,6,     1.23,2,    2.775,2,    1.667,2,    0.182,2,    3.350,2,   2160.0,2,  4.36687811
  18HU19931105, AR13a,    72,  1,     94,2,19931206,1316, 46.7790, -43.6050, 2541,    296.2,   4.4728,  34.9193,2,  34.9181,2,    253.3,2,    256.2,2,    11.33,2,    18.30,6,     1.22,2,    2.449,2,    1.984,2,    0.190,2,    3.129,2,   2160.8,2,  4.45066125
  18HU19931105, AR13a,    72,  1,     93,2,19931206,1316, 46.7790, -43.6050, 2541,    401.1,   3.9079,  34.8896,2,  34.8907,2,    270.6,2,    277.5,2,    10.72,2,    17.86,6,     1.19,2,    2.818,2,    1.471,2,    0.127,2,    3.650,2,   2156.5,2,  3.87940297
  18HU19931105, AR13a,    72,  1,     92,2,19931206,1316, 46.7790, -43.6050, 2541,    609.4,   3.4623,  34.8809,2,  34.8812,2,    283.7,2,    291.3,2,    10.27,2,    17.46,6,     1.15,2,    2.832,2,    2.211,2,    0.260,2,    4.163,2,   2156.8,2,  3.42017138
  18HU19931105, AR13a,    72,  1,     91,2,19931206,1316, 46.7790, -43.6050, 2541,    791.5,   3.1793,  34.8612,2,  34.8630,2,    291.2,2,    301.4,2,    10.50,2,    17.06,6,     1.13,2,    2.986,2,    1.450,2,    0.144,2,    4.281,2,   2148.6,2,  3.12524404
  18HU19931105, AR13a,    72,  1,     90,2,19931206,1316, 46.7790, -43.6050, 2541,    998.4,   3.0264,  34.8513,2,  34.8491,2,    294.4,2,    303.2,2,     9.97,2,    16.70,6,     1.13,2,    2.997,2,    1.946,2,    0.149,2,    4.563,2,   2150.0,2,  2.95781862
  18HU19931105, AR13a,    72,  1,     89,2,19931206,1316, 46.7790, -43.6050, 2541,   1203.1,   2.9412,  34.8479,2,  34.8481,2,    296.1,2,    305.9,2,     9.98,2,    16.72,6,     1.11,2,    3.071,2,    1.588,2,    0.154,2,    4.597,2,   2148.8,2,  2.85743999
  18HU19931105, AR13a,    72,  1,     88,2,19931206,1316, 46.7790, -43.6050, 2541,   1406.0,   2.8872,  34.8468,2,  34.8483,2,    298.5,2,    305.8,2,     9.89,2,    16.70,6,     1.11,2,    3.069,2,    2.176,2,    0.149,2,    4.529,2,   2149.2,2,  2.78769256
  18HU19931105, AR13a,    72,  1,     87,2,19931206,1316, 46.7790, -43.6050, 2541,   1604.4,   2.8960,  34.8504,2,  34.8520,2,    298.2,2,    306.6,2,    10.02,2,    16.88,6,     1.12,2,    3.462,2,    1.955,2,    0.216,2,    4.715,2,   2149.8,2,  2.77988961
  18HU19931105, AR13a,    72,  1,     86,2,19931206,1316, 46.7790, -43.6050, 2541,   1799.6,   2.9869,  34.8719,2,  34.8721,2,    292.0,2,    299.7,2,    10.60,2,    16.59,6,     1.06,2,    2.515,2,    1.548,2,    0.105,2,    3.802,2,   2149.8,2,  2.85269365
  18HU19931105, AR13a,    72,  1,     85,2,19931206,1316, 46.7790, -43.6050, 2541,   1998.0,   3.0241,  34.8849,2,  34.8859,2,    289.3,2,    294.7,2,    11.16,2,    16.70,6,     1.11,2,    2.256,2,    1.577,2,    0.097,2,    3.402,2,   2150.6,2,  2.87151688
  18HU19931105, AR13a,    72,  1,     84,2,19931206,1316, 46.7790, -43.6050, 2541,   2202.7,   3.0547,  34.8969,2,  34.8951,2,    287.4,2,    292.0,2,    11.26,2,    16.65,6,     1.10,2,    2.009,2,    1.240,2,    0.081,2,    3.289,2,   2148.0,2,  2.88259776
  18HU19931105, AR13a,    72,  1,     83,2,19931206,1316, 46.7790, -43.6050, 2541,   2408.0,   3.0520,  34.9054,2,  34.9065,2,    286.5,2,    289.1,2,    11.74,2,    16.76,6,     1.09,2,    1.762,2,    0.740,2,    0.058,2,    2.921,2,   2150.2,2,  2.86022146
  18HU19931105, AR13a,    72,  1,     82,2,19931206,1316, 46.7790, -43.6050, 2541,   2534.6,   2.9880,  34.9128,2,  34.9134,2,    286.9,2,    287.9,2,    12.21,2,    16.48,6,     1.08,2,    1.591,2,    1.059,2,    0.056,2,    2.814,2,   2151.9,2,  2.78495311