BOTTLE,20090202PRINUNIVRMK
EXPOCODE,STNNBR,CASTNO,BTLNBR,BTLNBR_FLAG_W,DATE,LATITUDE,LONGITUDE,DEPTH,CTDPRS,CTDTMP,CTDSAL,CTDSAL_FLAG_W,SALNTY,SALNTY_FLAG_W,CTDOXY,CTDOXY_FLAG_W,OXYGEN,OXYGEN_FLAG_W,SILCAT,SILCAT_FLAG_W,NITRAT,NITRAT_FLAG_W,NITRIT,NITRIT_FLAG_W,PHSPHT,PHSPHT_FLAG_W,AMMONI,AMMONI_FLAG_W,TCARBN,TCARBN_FLAG_W,ALKALI,ALKALI_FLAG_W,DELO18,DELO18_FLAG_W,RA-224,RA-224E,RA-224_FLAG_W,RA-226,RA-226E,RA-226_FLAG_W,RA-228,RA-228E,RA-228_FLAG_W,RA-8/6,RA-8/6E,RA-8/6_FLAG_W,TH-228,TH-228E,TH-228_FLAG_W,POC,POC_FLAG_W,PON,PON_FLAG_W,DOC,DOC_FLAG_W,DON,DON_FLAG_W,TDN,TDN_FLAG_W,UREA,UREA_FLAG_W,LIGNIN,LIGNIN_FLAG_W,CHLORA,CHLORA_FLAG_W,PHAEO,PHAEO_FLAG_W,THETA
,,,,,,,,METERS,DBARS,ITS-90,PSS-78,,PSS-78,,UMOL/KG,,UMOL/KG,,UMOL/KG,,UMOL/KG,,UMOL/KG,,UMOL/KG,,UMOL/KG,,UMOL/KG,,UMOL/KG,,O/OO,,DPM/100KG,DPM/100KG,,DPM/100KG,DPM/100KG,,DPM/100KG,DPM/100KG,,,,,DPM/100KG,DPM/100KG,,ug/kg,,ug/kg,,UMOL/KG,,UMOL/KG,,UMOL/KG,,UMOL/KG,,NG/KG,,UG/L,,UG/L,,DEGC
  32H120020718,    30,  4,     11,2,20020810, 73.0759,-157.9070, 2025,     23.1,  -1.1255,  30.1604,2,-999.0000,9,    395.0,2,   -999.0,9,  -999.00,9,  -999.00,9,  -999.00,9,  -999.00,9,     -999,9,   -999.0,9,   -999.0,9,  -999.00,9,  -999.00,  -999.00,9,  -999.00,  -999.00,9,  -999.00,  -999.00,9,        -999,         -999,9,  -999.00,  -999.00,9,       -999,9,        -999,9,   -999.0,9,   -999.0,9,   -999.0,9,     -999,9,      -999,9,  -999.00,9,  -999.00,9,  -1.1259
  32H120020718,    30,  4,      4,2,20020810, 73.0759,-157.9070, 2025,     23.2,  -1.1231,  30.1944,2,-999.0000,9,    394.2,2,   -999.0,9,  -999.00,9,  -999.00,9,  -999.00,9,  -999.00,9,     -999,9,   -999.0,9,   -999.0,9,  -999.00,9,  -999.00,  -999.00,9,  -999.00,  -999.00,9,  -999.00,  -999.00,9,        -999,         -999,9,  -999.00,  -999.00,9,       -999,9,        -999,9,   -999.0,9,   -999.0,9,   -999.0,9,     -999,9,      -999,9,  -999.00,9,  -999.00,9,  -1.1235
  32H120020718,    30,  4,     10,2,20020810, 73.0759,-157.9070, 2025,     23.2,  -1.1241,  30.1923,2,-999.0000,9,    395.1,2,   -999.0,9,  -999.00,9,  -999.00,9,  -999.00,9,  -999.00,9,     -999,9,   -999.0,9,   -999.0,9,  -999.00,9,  -999.00,  -999.00,9,  -999.00,  -999.00,9,  -999.00,  -999.00,9,        -999,         -999,9,  -999.00,  -999.00,9,       -999,9,        -999,9,   -999.0,9,   -999.0,9,   -999.0,9,     -999,9,      -999,9,  -999.00,9,  -999.00,9,  -1.1245
  32H120020718,    30,  4,      5,2,20020810, 73.0759,-157.9070, 2025,     23.2,  -1.1253,  30.1986,2,-999.0000,9,    394.4,2,   -999.0,9,  -999.00,9,  -999.00,9,  -999.00,9,  -999.00,9,     -999,9,   -999.0,9,   -999.0,9,  -999.00,9,  -999.00,  -999.00,9,  -999.00,  -999.00,9,  -999.00,  -999.00,9,        -999,         -999,9,  -999.00,  -999.00,9,       -999,9,        -999,9,   -999.0,9,   -999.0,9,   -999.0,9,     -999,9,      -999,9,  -999.00,9,  -999.00,9,  -1.1257
  32H120020718,    30,  4,     12,2,20020810, 73.0759,-157.9070, 2025,     23.2,  -1.1266,  30.1537,2,-999.0000,9,    395.4,2,   -999.0,9,     5.33,2,     0.06,2,     0.01,2,     0.74,2,     0.02,2,   -999.0,9,   -999.0,9,  -999.00,9,  -999.00,  -999.00,9,  -999.00,  -999.00,9,  -999.00,  -999.00,9,        -999,         -999,9,  -999.00,  -999.00,9,       -999,9,        -999,9,   -999.0,9,   -999.0,9,   -999.0,9,        0,2,      -999,9,  -999.00,9,  -999.00,9,  -1.1270
  32H120020718,    30,  4,      9,2,20020810, 73.0759,-157.9070, 2025,     23.2,  -1.1269,  30.2012,2,-999.0000,9,    395.1,2,   -999.0,9,  -999.00,9,  -999.00,9,  -999.00,9,  -999.00,9,     -999,9,   -999.0,9,   -999.0,9,  -999.00,9,  -999.00,  -999.00,9,  -999.00,  -999.00,9,  -999.00,  -999.00,9,        -999,         -999,9,  -999.00,  -999.00,9,       -999,9,        -999,9,   -999.0,9,   -999.0,9,   -999.0,9,     -999,9,      -999,9,  -999.00,9,  -999.00,9,  -1.1273
  32H120020718,    30,  4,      6,2,20020810, 73.0759,-157.9070, 2025,     23.2,  -1.1279,  30.2042,2,-999.0000,9,    394.8,2,   -999.0,9,     5.32,2,     0.06,2,     0.01,2,     0.75,2,     0.03,2,   -999.0,9,   -999.0,9,  -999.00,9,  -999.00,  -999.00,9,  -999.00,  -999.00,9,  -999.00,  -999.00,9,        -999,         -999,9,  -999.00,  -999.00,9,       -999,9,        -999,9,   -999.0,9,   -999.0,9,   -999.0,9,        0,2,      -999,9,  -999.00,9,  -999.00,9,  -1.1283
  32H120020718,    30,  4,      8,2,20020810, 73.0759,-157.9070, 2025,     23.2,  -1.1289,  30.2064,2,-999.0000,9,    394.8,2,   -999.0,9,  -999.00,9,  -999.00,9,  -999.00,9,  -999.00,9,     -999,9,   -999.0,9,   -999.0,9,  -999.00,9,  -999.00,  -999.00,9,  -999.00,  -999.00,9,  -999.00,  -999.00,9,        -999,         -999,9,  -999.00,  -999.00,9,       -999,9,        -999,9,   -999.0,9,   -999.0,9,   -999.0,9,     -999,9,      -999,9,  -999.00,9,  -999.00,9,  -1.1293
  32H120020718,    30,  4,      7,2,20020810, 73.0759,-157.9070, 2025,     23.2,  -1.1292,  30.2069,2,-999.0000,9,    394.9,2,   -999.0,9,  -999.00,9,  -999.00,9,  -999.00,9,  -999.00,9,     -999,9,   -999.0,9,   -999.0,9,  -999.00,9,  -999.00,  -999.00,9,  -999.00,  -999.00,9,  -999.00,  -999.00,9,        -999,         -999,9,  -999.00,  -999.00,9,       -999,9,        -999,9,   -999.0,9,   -999.0,9,   -999.0,9,     -999,9,      -999,9,  -999.00,9,  -999.00,9,  -1.1296
  32H120020718,    30,  4,      3,2,20020810, 73.0759,-157.9070, 2025,     23.2,  -1.1326,  30.2229,2,-999.0000,9,    394.1,2,   -999.0,9,  -999.00,9,  -999.00,9,  -999.00,9,  -999.00,9,     -999,9,   -999.0,9,   -999.0,9,  -999.00,9,  -999.00,  -999.00,9,  -999.00,  -999.00,9,  -999.00,  -999.00,9,        -999,         -999,9,  -999.00,  -999.00,9,       -999,9,        -999,9,   -999.0,9,   -999.0,9,   -999.0,9,     -999,9,      -999,9,  -999.00,9,  -999.00,9,  -1.1330
  32H120020718,    30,  4,      2,2,20020810, 73.0759,-157.9070, 2025,     23.2,  -1.1500,  30.2382,2,-999.0000,9,    394.0,2,   -999.0,9,  -999.00,9,  -999.00,9,  -999.00,9,  -999.00,9,     -999,9,   -999.0,9,   -999.0,9,  -999.00,9,  -999.00,  -999.00,9,  -999.00,  -999.00,9,  -999.00,  -999.00,9,        -999,         -999,9,  -999.00,  -999.00,9,       -999,9,        -999,9,   -999.0,9,   -999.0,9,   -999.0,9,     -999,9,      -999,9,  -999.00,9,  -999.00,9,  -1.1504
  32H120020718,    30,  4,      1,2,20020810, 73.0759,-157.9070, 2025,     23.2,  -1.1573,  30.2429,2,-999.0000,9,    394.1,2,   -999.0,9,     5.60,2,     0.06,2,     0.01,2,     0.76,2,     0.02,2,   -999.0,9,   -999.0,9,  -999.00,9,  -999.00,  -999.00,9,  -999.00,  -999.00,9,  -999.00,  -999.00,9,        -999,         -999,9,  -999.00,  -999.00,9,       -999,9,        -999,9,   -999.0,9,   -999.0,9,   -999.0,9,        0,2,      -999,9,  -999.00,9,  -999.00,9,  -1.1577
  32H120020718,    30,  6,     10,2,20020810, 73.0759,-157.9070, 2025,     26.6,  -0.9041,  30.3699,2,  30.2777,2,    389.2,2,    405.9,2,     6.23,2,     0.05,2,     0.01,2,     0.76,2,     0.02,2,   2008.3,2,   2208.7,2,  -999.00,9,  -999.00,  -999.00,9,  -999.00,  -999.00,9,  -999.00,  -999.00,9,        -999,         -999,9,  -999.00,  -999.00,9, 70.2530918,2,  13.8567219,2,     72.4,2,      5.5,2,      5.6,2,     0.01,2,      -999,9,     0.45,2,     0.49,2,  -0.9046
  32H120020718,    30,  3,      6,2,20020810, 73.0759,-157.9070, 2025,     36.2,  -1.4436,  31.0063,2,-999.0000,9,    374.9,2,    384.2,2,    12.17,2,     2.43,2,     0.14,2,     1.01,2,     0.39,2,   -999.0,9,   -999.0,9,  -999.00,9,  -999.00,  -999.00,9,  -999.00,  -999.00,9,  -999.00,  -999.00,9,        -999,         -999,9,  -999.00,  -999.00,9,       -999,9,        -999,9,   -999.0,9,   -999.0,9,   -999.0,9,        0,2,      -999,9,     0.71,2,     0.69,2,  -1.4442
  32H120020718,    30,  6,      9,2,20020810, 73.0759,-157.9070, 2025,     36.5,  -1.4298,  30.9208,2,  30.8671,2,    380.2,2,    394.6,2,    10.21,2,     1.36,2,     0.12,2,     0.92,2,     0.17,2,   -999.0,9,   -999.0,9,  -999.00,9,  -999.00,  -999.00,9,  -999.00,  -999.00,9,  -999.00,  -999.00,9,        -999,         -999,9,  -999.00,  -999.00,9,       -999,9,        -999,9,     82.0,2,      6.0,2,      7.7,2,        0,2,      -999,9,     1.73,2,     0.88,2,  -1.4304
  32H120020718,    30,  7,     12,2,20020810, 73.0759,-157.9070, 2025,     38.5,  -0.3096,  31.2960,2,-999.0000,9,    380.6,2,   -999.0,9,  -999.00,9,  -999.00,9,  -999.00,9,  -999.00,9,     -999,9,   -999.0,9,   -999.0,9,  -999.00,9,  -999.00,  -999.00,9,  -999.00,  -999.00,9,  -999.00,  -999.00,9,        -999,         -999,9,  -999.00,  -999.00,9,       -999,9,        -999,9,   -999.0,9,   -999.0,9,   -999.0,9,     -999,9,      -999,9,  -999.00,9,  -999.00,9,  -0.3106
  32H120020718,    30,  6,      8,2,20020810, 73.0759,-157.9070, 2025,     51.5,  -1.4073,  31.6574,2,  31.6529,2,    355.1,2,    369.6,2,    12.25,2,     3.60,2,     0.20,2,     1.11,2,     0.29,2,   2081.9,2,   2270.2,2,  -999.00,9,  -999.00,  -999.00,9,  -999.00,  -999.00,9,  -999.00,  -999.00,9,        -999,         -999,9,  -999.00,  -999.00,9, 35.8927723,2,  7.25875752,2,     66.6,2,      5.2,2,      9.3,2,        0,2,      -999,9,     0.43,2,     0.44,2,  -1.4082
  32H120020718,    30,  3,      5,2,20020810, 73.0759,-157.9070, 2025,     55.2,  -1.5050,  31.9124,2,-999.0000,9,    346.2,2,    354.9,2,    21.44,2,     5.85,2,     0.13,2,     1.31,2,     1.42,2,   -999.0,9,   -999.0,9,  -999.00,9,  -999.00,  -999.00,9,  -999.00,  -999.00,9,  -999.00,  -999.00,9,        -999,         -999,9,  -999.00,  -999.00,9,       -999,9,        -999,9,   -999.0,9,   -999.0,9,   -999.0,9,     0.01,2,      -999,9,     0.20,2,     0.20,2,  -1.5060
  32H120020718,    30,  3,      4,2,20020810, 73.0759,-157.9070, 2025,     55.2,  -1.5098,  31.9149,2,-999.0000,9,    346.6,2,   -999.0,9,  -999.00,9,  -999.00,9,  -999.00,9,  -999.00,9,     -999,9,   -999.0,9,   -999.0,9,  -999.00,9,  -999.00,  -999.00,9,  -999.00,  -999.00,9,  -999.00,  -999.00,9,        -999,         -999,9,  -999.00,  -999.00,9,       -999,9,        -999,9,   -999.0,9,   -999.0,9,   -999.0,9,     -999,9,      -999,9,  -999.00,9,  -999.00,9,  -1.5108
  32H120020718,    30,  2,      8,2,20020810, 73.0759,-157.9070, 2025,     71.5,  -1.3919,  32.2226,2,-999.0000,9,    324.7,2,   -999.0,9,  -999.00,9,  -999.00,9,  -999.00,9,  -999.00,9,     -999,9,   -999.0,9,   -999.0,9,  -999.00,9,     1.09,     0.11,2,     6.24,     0.28,2,     5.67,     0.36,2, 0.868448454, 0.0668037272,2,     0.68,     0.24,2,       -999,9,        -999,9,   -999.0,9,   -999.0,9,   -999.0,9,     -999,9,      -999,9,  -999.00,9,  -999.00,9,  -1.3933
  32H120020718,    30,  2,      7,2,20020810, 73.0759,-157.9070, 2025,     71.5,  -1.3943,  32.2228,2,-999.0000,9,    324.7,2,   -999.0,9,    20.56,2,     7.61,2,     0.11,2,     1.36,2,      0.5,2,   -999.0,9,   -999.0,9,  -999.00,9,     1.09,     0.11,2,     6.24,     0.28,2,     5.67,     0.36,2, 0.868440114, 0.0668030857,2,     0.68,     0.24,2,       -999,9,        -999,9,   -999.0,9,   -999.0,9,   -999.0,9,        0,2,      -999,9,  -999.00,9,  -999.00,9,  -1.3957
  32H120020718,    30,  2,      9,2,20020810, 73.0759,-157.9070, 2025,     71.5,  -1.4038,  32.2243,2,-999.0000,9,    325.3,2,   -999.0,9,  -999.00,9,  -999.00,9,  -999.00,9,  -999.00,9,     -999,9,   -999.0,9,   -999.0,9,  -999.00,9,     1.09,     0.11,2,     6.24,     0.28,2,     5.67,     0.36,2, 0.868430675, 0.0668023596,2,     0.68,     0.24,2,       -999,9,        -999,9,   -999.0,9,   -999.0,9,   -999.0,9,     -999,9,      -999,9,  -999.00,9,  -999.00,9,  -1.4052
  32H120020718,    30,  2,     10,2,20020810, 73.0759,-157.9070, 2025,     71.5,  -1.4111,  32.2251,2,-999.0000,9,    325.2,2,   -999.0,9,  -999.00,9,  -999.00,9,  -999.00,9,  -999.00,9,     -999,9,   -999.0,9,   -999.0,9,  -999.00,9,     1.09,     0.11,2,     6.24,     0.28,2,     5.67,     0.36,2, 0.868421107, 0.0668016236,2,     0.68,     0.24,2,       -999,9,        -999,9,   -999.0,9,   -999.0,9,   -999.0,9,     -999,9,      -999,9,  -999.00,9,  -999.00,9,  -1.4125
  32H120020718,    30,  2,     11,2,20020810, 73.0759,-157.9070, 2025,     71.5,  -1.4189,  32.2260,2,-999.0000,9,    326.8,2,   -999.0,9,  -999.00,9,  -999.00,9,  -999.00,9,  -999.00,9,     -999,9,   -999.0,9,   -999.0,9,  -999.00,9,     1.09,     0.11,2,     6.24,     0.28,2,     5.67,     0.36,2, 0.868408566, 0.0668006589,2,     0.68,     0.24,2,       -999,9,        -999,9,   -999.0,9,   -999.0,9,   -999.0,9,     -999,9,      -999,9,  -999.00,9,  -999.00,9,  -1.4202
  32H120020718,    30,  2,     12,2,20020810, 73.0759,-157.9070, 2025,     71.5,  -1.4241,  32.2262,2,-999.0000,9,    331.2,2,   -999.0,9,  -999.00,9,  -999.00,9,  -999.00,9,  -999.00,9,     -999,9,   -999.0,9,   -999.0,9,  -999.00,9,     1.09,     0.11,2,     6.24,     0.28,2,     5.67,     0.36,2, 0.868397641, 0.0667998185,2,     0.68,     0.24,2,       -999,9,        -999,9,   -999.0,9,   -999.0,9,   -999.0,9,     -999,9,      -999,9,  -999.00,9,  -999.00,9,  -1.4254
  32H120020718,    30,  6,      7,2,20020810, 73.0759,-157.9070, 2025,     76.4,  -1.3292,  32.3122,2,  32.3071,2,    309.3,2,    321.0,2,    19.81,2,     9.25,2,     0.01,2,     1.46,2,        0,2,   2141.1,2,   2269.0,2,  -999.00,9,  -999.00,  -999.00,9,  -999.00,  -999.00,9,  -999.00,  -999.00,9,        -999,         -999,9,  -999.00,  -999.00,9, 12.8775446,2,  2.14136916,2,     64.8,2,      6.0,2,     15.2,2,        0,2,      -999,9,     0.10,2,     0.09,2,  -1.3307
  32H120020718,    30,  3,      3,2,20020810, 73.0759,-157.9070, 2025,    101.1,  -1.4749,  32.6863,2,-999.0000,9,    286.3,2,   -999.0,9,  -999.00,9,  -999.00,9,  -999.00,9,  -999.00,9,     -999,9,   -999.0,9,   -999.0,9,  -999.00,9,  -999.00,  -999.00,9,  -999.00,  -999.00,9,  -999.00,  -999.00,9,        -999,         -999,9,  -999.00,  -999.00,9,       -999,9,        -999,9,   -999.0,9,   -999.0,9,   -999.0,9,     -999,9,      -999,9,  -999.00,9,  -999.00,9,  -1.4769
  32H120020718,    30,  6,      6,2,20020810, 73.0759,-157.9070, 2025,    101.6,  -1.4881,  32.6860,2,  32.6786,2,    286.8,2,    296.4,2,    28.16,2,    12.94,2,     0.00,2,     1.70,2,        0,2,   2180.7,2,   2270.4,2,  -999.00,9,  -999.00,  -999.00,9,  -999.00,  -999.00,9,  -999.00,  -999.00,9,        -999,         -999,9,  -999.00,  -999.00,9, 8.59243793,2,  1.23167882,2,     62.9,2,      3.4,2,     16.3,2,        0,2,      -999,9,     0.05,2,     0.03,2,  -1.4901
  32H120020718,    30,  2,      1,2,20020810, 73.0759,-157.9070, 2025,    111.4,  -1.5313,  32.7954,2,-999.0000,9,    284.9,2,   -999.0,9,    31.20,2,    13.74,2,     0.01,2,     1.74,2,     0.03,2,   -999.0,9,   -999.0,9,  -999.00,9,     2.11,     0.13,2,     8.70,     0.45,2,     5.65,     0.95,2, 0.622822242,  0.105400687,2,     1.32,     0.42,2,       -999,9,        -999,9,   -999.0,9,   -999.0,9,   -999.0,9,        0,2,      -999,9,  -999.00,9,  -999.00,9,  -1.5335
  32H120020718,    30,  2,      2,2,20020810, 73.0759,-157.9070, 2025,    111.5,  -1.5318,  32.7964,2,-999.0000,9,    284.9,2,   -999.0,9,  -999.00,9,  -999.00,9,  -999.00,9,  -999.00,9,     -999,9,   -999.0,9,   -999.0,9,  -999.00,9,     2.11,     0.13,2,     8.69,     0.45,2,     5.65,     0.95,2,  0.62212355,  0.105282447,2,     1.32,     0.42,2,       -999,9,        -999,9,   -999.0,9,   -999.0,9,   -999.0,9,     -999,9,      -999,9,  -999.00,9,  -999.00,9,  -1.5340
  32H120020718,    30,  2,      3,2,20020810, 73.0759,-157.9070, 2025,    111.5,  -1.5324,  32.7979,2,-999.0000,9,    284.5,2,   -999.0,9,  -999.00,9,  -999.00,9,  -999.00,9,  -999.00,9,     -999,9,   -999.0,9,   -999.0,9,  -999.00,9,     2.10,     0.13,2,     8.69,     0.45,2,     5.64,     0.95,2, 0.621867534,  0.105239121,2,     1.32,     0.42,2,       -999,9,        -999,9,   -999.0,9,   -999.0,9,   -999.0,9,     -999,9,      -999,9,  -999.00,9,  -999.00,9,  -1.5346
  32H120020718,    30,  2,      4,2,20020810, 73.0759,-157.9070, 2025,    111.5,  -1.5336,  32.7990,2,-999.0000,9,    284.5,2,   -999.0,9,  -999.00,9,  -999.00,9,  -999.00,9,  -999.00,9,     -999,9,   -999.0,9,   -999.0,9,  -999.00,9,     2.10,     0.13,2,     8.68,     0.45,2,     5.64,     0.95,2, 0.621525857,  0.105181299,2,     1.32,     0.42,2,       -999,9,        -999,9,   -999.0,9,   -999.0,9,   -999.0,9,     -999,9,      -999,9,  -999.00,9,  -999.00,9,  -1.5358
  32H120020718,    30,  2,      5,2,20020810, 73.0759,-157.9070, 2025,    111.5,  -1.5346,  32.8000,2,-999.0000,9,    284.5,2,   -999.0,9,  -999.00,9,  -999.00,9,  -999.00,9,  -999.00,9,     -999,9,   -999.0,9,   -999.0,9,  -999.00,9,     2.10,     0.13,2,     8.68,     0.45,2,     5.64,     0.95,2,  0.62122232,  0.105129931,2,     1.32,     0.42,2,       -999,9,        -999,9,   -999.0,9,   -999.0,9,   -999.0,9,     -999,9,      -999,9,  -999.00,9,  -999.00,9,  -1.5368
  32H120020718,    30,  2,      6,2,20020810, 73.0759,-157.9070, 2025,    111.5,  -1.5354,  32.8006,2,-999.0000,9,    284.7,2,   -999.0,9,  -999.00,9,  -999.00,9,  -999.00,9,  -999.00,9,     -999,9,   -999.0,9,   -999.0,9,  -999.00,9,     2.10,     0.13,2,     8.68,     0.45,2,     5.64,     0.95,2, 0.621049116,   0.10510062,2,     1.32,     0.42,2,       -999,9,        -999,9,   -999.0,9,   -999.0,9,   -999.0,9,     -999,9,      -999,9,  -999.00,9,  -999.00,9,  -1.5376
  32H120020718,    30,  6,      5,2,20020810, 73.0759,-157.9070, 2025,    126.2,  -1.5602,  32.9398,2,  32.9300,2,    282.1,2,    294.4,2,    32.11,2,    13.89,2,     0.00,2,     1.75,2,        0,2,   -999.0,9,   -999.0,9,  -999.00,9,  -999.00,  -999.00,9,  -999.00,  -999.00,9,  -999.00,  -999.00,9,        -999,         -999,9,  -999.00,  -999.00,9,       -999,9,        -999,9,     60.8,2,      3.7,2,     17.5,2,        0,2,      -999,9,     0.01,2,     0.03,2,  -1.5627