BOTTLE,20090202PRINUNIVRMK
# DATE this file initialized 11/03/06 
# Ship: USCGC Healy 
# Cruise: HLY-02-03; SBI summer; 32H1HLY0203 
# Dates:7/16-8/26/2002 
# EXPOCODE: 32H120020718 
# Region: Chukchi and Beaufort Sea 
# Chief Scientist:J.M. Grebmeier & L.W. Cooper 
# 45 stations;  with 12 place 30L Rosette + 24 place 
# Hydro: Who - J.Swift,L. Codispoti; Status - final 
# 	Notes: conductivity calibrations were performed at  
# 		Sea-Bird Electronics, Inc 
# 	Pressure and temperature sensors were performed by SIO and 
# 		temperature calibration referenced to ITS-90 
# 	See Grebmeier et al., 2005; Codispoti et al., 2005. 
# Nuts/O2: Who - L. Codispoti; Status - final  
# 	Notes: nitrite, ammonium, urea, chloroA, phaeophytin included 
# 	See Dunton et al., 2005, 2006. 
# TCO2: Who - N. Bates; Status - final 
# 	Notes: Samples poisoned with HgCl2 for measurement at BBSR 
# 	Somma system used with CRM 
# 	Estimated precision and accuracy of ~0.025%; ~0.5umol/kg 
# 	For metnods see Bates et al., 1996, 1998; Bates 2001 
# 	See Bates et al., 2005a. 
# 	Final data from Bates 1/30/09 
# Alk: Who - N. Bates; Status - final 
# 	Notes: Final data from Bates 1/30/09 
# Other: A file available from CCHDO also includes uncalibrated  
# 	fluorometer, PAR, SPAR and Haardt data which were not included here. 
# O-18: Who - L. Cooper,J. Grebmeier; Status - final 
# 	Notes: Precision of 0.04 per mille, based upon multiple  
# 		analyses of an internal water sample 
# 	See Cooper et al., 2005. 
# Ra/Th Isotopes: Who - D. Kadko; Status - final 
# 	Notes: units converted to dpm/100kg 
# 	Includes Ra-224, Ra-226, Ra-228, Ra-228/Ra-226 and Th-228 each with 
# 		uncertainty 
# POC/PON: Who - N. Bates, D. Hansell; Status - final 
# 	Notes: units converted to ug/kg 
# 	See Bates et al., 2005b; Moran et al., 2005; Lepore et al. 2007. 
# Lignin: Who - R. Benner; Status - final 
# 	Notes: units converted to ng/kg 
# 	See Benner et al., 2004 
# DOC: Who - D. Hansel; Status - final 
# 	Notes: converted units to umol/kg 
# 	See Hansell et al., 2004, Mathis et al., 2005. 
# References: 
# Bates, N.R., Interannual changes of oceanic CO2 and biogeochemical properties in the western North Atlantic subtropical gyre, Deep-Sea Res. II, 48(8-9), 1507-1528, 2001.  
# Bates, N.R., Michaels, A.F., and Knap, A.H., Seasonal and interannual variability of the oceanic carbon dioxide system at the U.S. JGOFS Bermuda Atlantic Time-series Site, Deep-Sea Res. II, 43(2-3), 347-383, 1996.  
# Bates, N.R., Hansell, D.A., Carlson, C.A., and Gordon, L.I., Distribution of CO2 species, estimates of net community production and air-sea CO2 exchange in the Ross Sea polynya, J. Geophys. Res., 103(C2), 2883-2896, 1998.  
# Bates, N. R., M. H. P. Best, and D. A. Hansell, Spatio-temporal distribution of dissolved inorganic carbon and net community production in the Chukchi and Beaufort Seas, Deep-Sea Res. II, 52, 3303-3323,  2005a. 
# Bates, N. R., D. A. Hansell, S. Bradley Moran, and L. A. Codispoti, Seasonal and spatial distribution of particulate organic matter (POM) in the Chukchi and Beaufort Seas, Deep-Sea Res. II, 52, 3324-3343,  2005b. 
# Benner, R., B. Benitez-Nelson, K. Kaiser, R.M.W. Amon, Export of young terrigenous dissolved carbon from rivers to the Arctic Ocean, Geophys. Res. Lett., 31, L05305, doi:10.1029/2003GL019251, 2004. 
# Codispoti, L.A., Flagg, C., Kelly, V, Swift, J.H., Hydrographic conditions during the 2002 SBI process experiments,  Deep-Sea Res. II 52, 3199-3226, 2005. 
# Grebmeier, J. M., and H. Rodger Harvey, The Western Arctic Shelf-Basin Interactions (SBI) project: An overview, Deep-Sea Res. II, 52, 3109-3115, 2005. 
# Hansell, D.A., D. Kadko and N.R. Bates, Degradation of terrigenous dissolved organic carbon in the western Arctic Ocean, Science, 304, 858-861, 2004. 
# Lepore, K., S.B. Moran, J.M.Grebmeier, L.W. Cooper, C. Lalande, W. Maslowsk, V. Hill, N.R. Bates, D.A. Hansell, J.T. Mathis and R.P. Kelley, Seasonal and interannual changes in particulate organic carbon export and deposition in te Chukchi Sea, J. Geophys. Res., 112(C10), C10024, doi:10.1029/2006JC003555, 2007. 
# Mathis, J. T., D. A. Hansell and N. R. Bates, Strong hydrographic controls on spatial and seasonal variability of dissolved organic carbon in the Chukchi Sea, Deep-Sea Res. II, 52, 3245-3258, 2005. 
# Moran, S. B., R. P. Kelly, K. Hagstrom, J. N. Smith, J. M. Grebmeier, L. W. Cooper, G. F. Cota, J. J. Walsh, N. R. Bates, and D. A. Hansell, Seasonal changes in POC export flux in the Chukchi Sea and implications for water column-benthic coupling in Arctic shelves, Deep-Sea Res. II, 52, 3427-3451, 2005. 
EXPOCODE,STNNBR,CASTNO,BTLNBR,BTLNBR_FLAG_W,DATE,LATITUDE,LONGITUDE,DEPTH,CTDPRS,CTDTMP,CTDSAL,CTDSAL_FLAG_W,SALNTY,SALNTY_FLAG_W,CTDOXY,CTDOXY_FLAG_W,OXYGEN,OXYGEN_FLAG_W,SILCAT,SILCAT_FLAG_W,NITRAT,NITRAT_FLAG_W,NITRIT,NITRIT_FLAG_W,PHSPHT,PHSPHT_FLAG_W,AMMONI,AMMONI_FLAG_W,TCARBN,TCARBN_FLAG_W,ALKALI,ALKALI_FLAG_W,DELO18,DELO18_FLAG_W,RA-224,RA-224E,RA-224_FLAG_W,RA-226,RA-226E,RA-226_FLAG_W,RA-228,RA-228E,RA-228_FLAG_W,RA-8/6,RA-8/6E,RA-8/6_FLAG_W,TH-228,TH-228E,TH-228_FLAG_W,POC,POC_FLAG_W,PON,PON_FLAG_W,DOC,DOC_FLAG_W,DON,DON_FLAG_W,TDN,TDN_FLAG_W,UREA,UREA_FLAG_W,LIGNIN,LIGNIN_FLAG_W,CHLORA,CHLORA_FLAG_W,PHAEO,PHAEO_FLAG_W,THETA
,,,,,,,,METERS,DBARS,ITS-90,PSS-78,,PSS-78,,UMOL/KG,,UMOL/KG,,UMOL/KG,,UMOL/KG,,UMOL/KG,,UMOL/KG,,UMOL/KG,,UMOL/KG,,UMOL/KG,,O/OO,,DPM/100KG,DPM/100KG,,DPM/100KG,DPM/100KG,,DPM/100KG,DPM/100KG,,,,,DPM/100KG,DPM/100KG,,ug/kg,,ug/kg,,UMOL/KG,,UMOL/KG,,UMOL/KG,,UMOL/KG,,NG/KG,,UG/L,,UG/L,,DEGC
  32H120020718,     1,  1,     11,2,20020718, 65.6676,-168.2070,   42,      2.0,   9.8709,  29.9771,2,  29.9766,2,    297.7,2,    293.9,2,     4.07,2,     0.06,2,     0.01,2,     0.44,2,     0.02,2,   -999.0,9,   -999.0,9,    -2.82,2,  -999.00,  -999.00,9,  -999.00,  -999.00,9,  -999.00,  -999.00,9,        -999,         -999,9,  -999.00,  -999.00,9,       -999,9,        -999,9,   -999.0,9,   -999.0,9,   -999.0,9,     0.07,2,      -999,9,     0.95,2,     0.84,2,   9.8707
  32H120020718,     1,  1,     12,2,20020718, 65.6676,-168.2070,   42,      2.1,   9.8694,  29.9780,2,-999.0000,9,    297.4,2,    293.9,2,     4.07,2,     0.05,2,     0.01,2,     0.44,2,     0.02,2,   2002.7,2,   2216.2,2,  -999.00,9,  -999.00,  -999.00,9,  -999.00,  -999.00,9,  -999.00,  -999.00,9,        -999,         -999,9,  -999.00,  -999.00,9,       -999,9,        -999,9,    111.1,2,      7.1,2,      7.2,2,     0.08,2,      -999,9,     0.82,2,     0.67,2,   9.8692
  32H120020718,     1,  1,     10,2,20020718, 65.6676,-168.2070,   42,      7.7,   9.9136,  29.9621,2,  29.9605,2,    297.7,2,    294.0,2,     4.07,2,     0.05,2,     0.01,2,     0.45,2,     0.02,2,   -999.0,9,   -999.0,9,  -999.00,9,  -999.00,  -999.00,9,  -999.00,  -999.00,9,  -999.00,  -999.00,9,        -999,         -999,9,  -999.00,  -999.00,9,       -999,9,        -999,9,   -999.0,9,   -999.0,9,   -999.0,9,     0.07,2,      -999,9,     0.86,2,     0.64,2,   9.9128
  32H120020718,     1,  1,      9,2,20020718, 65.6676,-168.2070,   42,      7.7,   9.9205,  29.9601,2,  29.9599,2,    297.5,2,    294.0,2,     4.07,2,     0.06,2,     0.01,2,     0.45,2,     0.02,2,   -999.0,9,   -999.0,9,  -999.00,9,  -999.00,  -999.00,9,  -999.00,  -999.00,9,  -999.00,  -999.00,9,        -999,         -999,9,  -999.00,  -999.00,9,       -999,9,        -999,9,   -999.0,9,   -999.0,9,   -999.0,9,     0.07,2,      -999,9,     0.90,2,     0.74,2,   9.9197
  32H120020718,     1, 99,      1,9,20020718, 65.6676,-168.2070,   42,      8.1,-999.0000,-999.0000,9,-999.0000,9,   -999.0,9,   -999.0,9,  -999.00,9,  -999.00,9,  -999.00,9,  -999.00,9,     -999,9,   -999.0,9,   -999.0,9,  -999.00,9,     1.79,     0.07,2,     4.46,     0.52,2,     7.82,     0.84,2,  1.67603685,  0.268165895,2,     0.04,     0.05,2,       -999,9,        -999,9,   -999.0,9,   -999.0,9,   -999.0,9,     -999,9,      -999,9,  -999.00,9,  -999.00,9,-999.0000
  32H120020718,     1,  1,      7,2,20020718, 65.6676,-168.2070,   42,     12.2,   9.7164,  30.0555,2,  30.0707,2,    296.5,2,    294.2,2,     4.48,2,     0.05,2,     0.01,2,     0.49,2,     0.09,2,   -999.0,9,   -999.0,9,  -999.00,9,  -999.00,  -999.00,9,  -999.00,  -999.00,9,  -999.00,  -999.00,9,        -999,         -999,9,  -999.00,  -999.00,9,       -999,9,        -999,9,   -999.0,9,   -999.0,9,   -999.0,9,     0.18,2,      -999,9,     0.80,2,     0.77,2,   9.7151
  32H120020718,     1,  1,      8,2,20020718, 65.6676,-168.2070,   42,     12.4,   9.8444,  30.0282,2,  30.0205,2,    297.2,2,    293.5,2,     4.28,2,     0.05,2,     0.01,2,     0.47,2,     0.02,2,   2012.0,2,   2189.0,2,  -999.00,9,  -999.00,  -999.00,9,  -999.00,  -999.00,9,  -999.00,  -999.00,9,        -999,         -999,9,  -999.00,  -999.00,9,       -999,9,        -999,9,    107.0,2,      7.2,2,      7.2,2,     0.07,2,      -999,9,     0.83,2,     0.65,2,   9.8431
  32H120020718,     1,  1,      6,2,20020718, 65.6676,-168.2070,   42,     17.0,   9.5630,  30.2461,2,  30.2254,2,    295.7,2,    292.4,2,     4.38,2,     0.05,2,     0.01,2,     0.49,2,     0.07,2,   2040.8,2,   2203.9,2,  -999.00,9,  -999.00,  -999.00,9,  -999.00,  -999.00,9,  -999.00,  -999.00,9,        -999,         -999,9,  -999.00,  -999.00,9,       -999,9,        -999,9,    108.0,2,      7.7,2,      7.8,2,     0.08,2,583.911645,2,     0.86,2,     0.78,2,   9.5612
  32H120020718,     1,  1,      5,2,20020718, 65.6676,-168.2070,   42,     21.4,   9.4315,  30.3518,2,  30.3471,2,    294.4,2,    291.0,2,     4.28,2,     0.05,2,     0.02,2,     0.51,2,     0.15,2,   -999.0,9,   -999.0,9,  -999.00,9,  -999.00,  -999.00,9,  -999.00,  -999.00,9,  -999.00,  -999.00,9,        -999,         -999,9,  -999.00,  -999.00,9,       -999,9,        -999,9,   -999.0,9,   -999.0,9,   -999.0,9,     0.09,2,      -999,9,     0.83,2,     0.83,2,   9.4293
  32H120020718,     1,  1,      3,2,20020718, 65.6676,-168.2070,   42,     24.8,   9.1782,  30.4705,2,  30.4600,2,    294.0,2,    290.7,2,     4.38,2,     0.05,2,     0.02,2,     0.53,2,     0.18,2,   -999.0,9,   -999.0,9,  -999.00,9,  -999.00,  -999.00,9,  -999.00,  -999.00,9,  -999.00,  -999.00,9,        -999,         -999,9,  -999.00,  -999.00,9,       -999,9,        -999,9,   -999.0,9,   -999.0,9,   -999.0,9,      0.1,2,      -999,9,     0.93,2,     0.86,2,   9.1757
  32H120020718,     1,  1,      4,2,20020718, 65.6676,-168.2070,   42,     25.0,   9.2879,  30.4419,2,  30.4582,2,    294.0,2,    290.6,2,     4.38,2,     0.05,2,     0.02,2,     0.53,2,     0.17,2,   2064.5,2,   2231.2,2,  -999.00,9,  -999.00,  -999.00,9,  -999.00,  -999.00,9,  -999.00,  -999.00,9,        -999,         -999,9,  -999.00,  -999.00,9,       -999,9,        -999,9,    107.1,2,   -999.0,9,   -999.0,9,     0.09,2,      -999,9,     0.89,2,     0.87,2,   9.2853
  32H120020718,     1,  1,      1,2,20020718, 65.6676,-168.2070,   42,     31.6,   8.7363,  30.5493,2,  30.5400,2,    295.7,2,    290.8,2,     4.48,2,     0.05,2,     0.02,2,     0.57,2,     0.34,2,   -999.0,9,   -999.0,9,    -2.95,2,  -999.00,  -999.00,9,  -999.00,  -999.00,9,  -999.00,  -999.00,9,        -999,         -999,9,  -999.00,  -999.00,9,       -999,9,        -999,9,   -999.0,9,   -999.0,9,   -999.0,9,     0.39,2,      -999,9,     0.89,2,     0.91,2,   8.7332
  32H120020718,     1,  1,      2,2,20020718, 65.6676,-168.2070,   42,     31.7,   8.7729,  30.5433,2,  30.5376,2,    295.9,2,   -999.0,5,     4.48,2,     0.05,2,     0.02,2,     0.57,2,     0.21,2,   2065.4,2,   2196.8,2,  -999.00,9,  -999.00,  -999.00,9,  -999.00,  -999.00,9,  -999.00,  -999.00,9,        -999,         -999,9,  -999.00,  -999.00,9,       -999,9,        -999,9,    102.4,2,      9.1,2,      9.4,2,     0.09,2,      -999,9,     0.94,2,     0.95,2,   8.7698
  32H120020718,     2,  1,     11,2,20020718, 65.7104,-168.8550,   50,      2.3,   7.1106,  32.2088,2,  32.2082,2,    352.2,2,    350.7,2,     2.03,2,     0.02,2,     0.01,2,     0.20,2,     0.01,2,   -999.0,9,   -999.0,9,    -0.74,2,  -999.00,  -999.00,9,  -999.00,  -999.00,9,  -999.00,  -999.00,9,        -999,         -999,9,  -999.00,  -999.00,9,       -999,9,        -999,9,   -999.0,9,   -999.0,9,   -999.0,9,     0.05,2,      -999,9,     0.55,2,     0.66,2,   7.1104
  32H120020718,     2,  1,     12,2,20020718, 65.7104,-168.8550,   50,      2.4,   7.1103,  32.2089,2,-999.0000,9,    352.2,2,   -999.0,9,     2.03,2,     0.01,2,     0.02,2,     0.20,2,        0,2,   1926.2,2,   2234.6,2,  -999.00,9,  -999.00,  -999.00,9,  -999.00,  -999.00,9,  -999.00,  -999.00,9,        -999,         -999,9,  -999.00,  -999.00,9,    174.705,2,     23.2269,2,     70.5,2,      6.4,2,      6.5,2,     0.05,2,      -999,9,     0.59,2,     0.61,2,   7.1101
  32H120020718,     2, 99,      1,9,20020718, 65.7104,-168.8550,   50,      8.1,-999.0000,-999.0000,9,-999.0000,9,   -999.0,9,   -999.0,9,  -999.00,9,  -999.00,9,  -999.00,9,  -999.00,9,     -999,9,   -999.0,9,   -999.0,9,  -999.00,9,     0.51,     0.04,2,     3.34,     0.29,2,     0.68,     0.04,2,  0.19124066,  0.019124066,2,     0.02,     0.03,2,       -999,9,        -999,9,   -999.0,9,   -999.0,9,   -999.0,9,     -999,9,      -999,9,  -999.00,9,  -999.00,9,-999.0000
  32H120020718,     2,  1,     10,2,20020718, 65.7104,-168.8550,   50,     10.8,   6.9758,  32.2028,2,-999.0000,9,    354.0,2,   -999.0,9,     2.03,2,     0.02,2,     0.01,2,     0.20,2,        0,2,   -999.0,9,   -999.0,9,  -999.00,9,  -999.00,  -999.00,9,  -999.00,  -999.00,9,  -999.00,  -999.00,9,        -999,         -999,9,  -999.00,  -999.00,9,       -999,9,        -999,9,   -999.0,9,   -999.0,9,   -999.0,9,     0.04,2,      -999,9,     0.47,2,     0.82,2,   6.9749
  32H120020718,     2,  1,      9,2,20020718, 65.7104,-168.8550,   50,     10.8,   7.0584,  32.2043,2,  32.2102,2,    353.3,2,    350.8,2,     1.92,2,     0.02,2,     0.01,2,     0.20,2,        0,2,   -999.0,9,   -999.0,9,  -999.00,9,  -999.00,  -999.00,9,  -999.00,  -999.00,9,  -999.00,  -999.00,9,        -999,         -999,9,  -999.00,  -999.00,9,       -999,9,        -999,9,   -999.0,9,   -999.0,9,   -999.0,9,     0.04,2,      -999,9,     0.54,2,     0.65,2,   7.0574
  32H120020718,     2,  1,      8,2,20020718, 65.7104,-168.8550,   50,     16.1,   5.2588,  32.2935,2,-999.0000,9,    354.0,2,   -999.0,9,     4.38,2,     0.54,2,     0.03,2,     0.31,2,     0.21,2,   1941.9,2,   2222.7,2,  -999.00,9,  -999.00,  -999.00,9,  -999.00,  -999.00,9,  -999.00,  -999.00,9,        -999,         -999,9,  -999.00,  -999.00,9,    190.196,2,     29.1436,2,     68.4,2,      6.3,2,      7.1,2,     0.05,2,      -999,9,     1.48,2,     1.20,2,   5.2576
  32H120020718,     2,  1,      7,2,20020718, 65.7104,-168.8550,   50,     16.1,   5.4789,  32.2803,2,  32.2405,2,    355.1,2,    355.7,2,     3.97,2,     0.40,2,     0.02,2,     0.29,2,     0.15,2,   -999.0,9,   -999.0,9,  -999.00,9,  -999.00,  -999.00,9,  -999.00,  -999.00,9,  -999.00,  -999.00,9,        -999,         -999,9,  -999.00,  -999.00,9,       -999,9,        -999,9,   -999.0,9,   -999.0,9,   -999.0,9,     0.05,2,      -999,9,     1.20,2,     1.05,2,   5.4777
  32H120020718,     2,  1,      6,2,20020718, 65.7104,-168.8550,   50,     26.6,   3.0853,  32.4356,2,-999.0000,9,    321.3,2,   -999.0,9,    14.68,2,     4.64,2,     0.11,2,     0.95,2,     2.37,2,   2028.8,2,   2236.4,2,  -999.00,9,  -999.00,  -999.00,9,  -999.00,  -999.00,9,  -999.00,  -999.00,9,        -999,         -999,9,  -999.00,  -999.00,9,    200.397,2,       39.96,2,   -999.0,9,      7.0,2,     14.1,2,     0.23,2,      -999,9,     6.84,2,     3.27,2,   3.0838
  32H120020718,     2,  1,      5,2,20020718, 65.7104,-168.8550,   50,     26.6,   3.1042,  32.4354,2,  32.4341,2,    320.9,2,    322.6,2,    14.77,2,     4.64,2,     0.11,2,     0.94,2,     2.38,2,   -999.0,9,   -999.0,9,  -999.00,9,  -999.00,  -999.00,9,  -999.00,  -999.00,9,  -999.00,  -999.00,9,        -999,         -999,9,  -999.00,  -999.00,9,       -999,9,        -999,9,     68.6,2,   -999.0,9,   -999.0,9,     0.22,2,162.451956,2,     5.85,2,     3.06,2,   3.1027
  32H120020718,     2,  1,      4,2,20020718, 65.7104,-168.8550,   50,     36.5,   2.7101,  32.4522,2,-999.0000,9,    321.0,2,   -999.0,9,    15.38,2,     5.27,2,     0.13,2,     0.97,2,     2.23,2,   2034.3,2,   -999.0,9,  -999.00,9,  -999.00,  -999.00,9,  -999.00,  -999.00,9,  -999.00,  -999.00,9,        -999,         -999,9,  -999.00,  -999.00,9,    236.435,2,     46.7765,2,     70.7,2,      8.5,2,     16.1,2,     0.21,2,      -999,9,     7.28,2,     3.58,2,   2.7081
  32H120020718,     2,  1,      3,2,20020718, 65.7104,-168.8550,   50,     36.6,   2.7339,  32.4499,2,  32.4478,2,    320.9,2,    321.6,2,    15.39,2,     5.27,2,     0.13,2,     0.97,2,     2.23,2,   -999.0,9,   -999.0,9,  -999.00,9,  -999.00,  -999.00,9,  -999.00,  -999.00,9,  -999.00,  -999.00,9,        -999,         -999,9,  -999.00,  -999.00,9,       -999,9,        -999,9,   -999.0,9,   -999.0,9,   -999.0,9,     0.21,2,      -999,9,     7.48,2,     3.57,2,   2.7319
  32H120020718,     2,  1,      2,2,20020718, 65.7104,-168.8550,   50,     45.7,   2.6451,  32.4546,2,-999.0000,9,    321.8,2,   -999.0,9,    15.69,2,     5.51,2,     0.13,2,     0.98,2,     2.26,2,   2029.7,2,   -999.0,9,  -999.00,9,  -999.00,  -999.00,9,  -999.00,  -999.00,9,  -999.00,  -999.00,9,        -999,         -999,9,  -999.00,  -999.00,9,    256.063,2,     49.0845,2,     65.5,2,      8.2,2,     16.1,2,     0.23,2,      -999,9,     7.88,2,     4.01,2,   2.6426
  32H120020718,     2,  1,      1,2,20020718, 65.7104,-168.8550,   50,     45.9,   2.6312,  32.4550,2,  32.4536,2,    321.7,2,    323.1,2,    15.69,2,     5.55,2,     0.14,2,     0.99,2,     2.26,2,   -999.0,9,   -999.0,9,    -0.73,2,  -999.00,  -999.00,9,  -999.00,  -999.00,9,  -999.00,  -999.00,9,        -999,         -999,9,  -999.00,  -999.00,9,       -999,9,        -999,9,   -999.0,9,   -999.0,9,   -999.0,9,     0.23,2,      -999,9,     8.24,2,     4.21,2,   2.6287