BOTTLE,20090202PRINUNIVRMK
EXPOCODE,STNNBR,CASTNO,BTLNBR,BTLNBR_FLAG_W,DATE,LATITUDE,LONGITUDE,DEPTH,CTDPRS,CTDTMP,CTDSAL,CTDSAL_FLAG_W,SALNTY,SALNTY_FLAG_W,CTDOXY,CTDOXY_FLAG_W,OXYGEN,OXYGEN_FLAG_W,SILCAT,SILCAT_FLAG_W,NITRAT,NITRAT_FLAG_W,NITRIT,NITRIT_FLAG_W,PHSPHT,PHSPHT_FLAG_W,AMMONI,AMMONI_FLAG_W,TCARBN,TCARBN_FLAG_W,ALKALI,ALKALI_FLAG_W,DELO18,DELO18_FLAG_W,RA-224,RA-224E,RA-224_FLAG_W,RA-226,RA-226E,RA-226_FLAG_W,RA-228,RA-228E,RA-228_FLAG_W,RA-8/6,RA-8/6E,RA-8/6_FLAG_W,TH-228,TH-228E,TH-228_FLAG_W,POC,POC_FLAG_W,PON,PON_FLAG_W,DOC,DOC_FLAG_W,DON,DON_FLAG_W,TDN,TDN_FLAG_W,UREA,UREA_FLAG_W,LIGNIN,LIGNIN_FLAG_W,CHLORA,CHLORA_FLAG_W,PHAEO,PHAEO_FLAG_W,THETA
,,,,,,,,METERS,DBARS,ITS-90,PSS-78,,PSS-78,,UMOL/KG,,UMOL/KG,,UMOL/KG,,UMOL/KG,,UMOL/KG,,UMOL/KG,,UMOL/KG,,UMOL/KG,,UMOL/KG,,O/OO,,DPM/100KG,DPM/100KG,,DPM/100KG,DPM/100KG,,DPM/100KG,DPM/100KG,,,,,DPM/100KG,DPM/100KG,,ug/kg,,ug/kg,,UMOL/KG,,UMOL/KG,,UMOL/KG,,UMOL/KG,,NG/KG,,UG/L,,UG/L,,DEGC
  32H120020718,     6,  2,     10,2,20020719, 67.5057,-168.8930,   50,     11.6,   4.3652,  32.2533,2,  32.2068,2,    395.6,2,    411.3,2,     5.20,2,     0.21,2,     0.01,2,     0.28,2,     0.04,2,   1905.3,2,   -999.0,9,  -999.00,9,  -999.00,  -999.00,9,  -999.00,  -999.00,9,  -999.00,  -999.00,9,        -999,         -999,9,  -999.00,  -999.00,9, 648.815044,2,  64.0307155,2,   -999.0,9,      9.8,2,     10.0,2,     0.12,2,      -999,9,     4.29,2,     2.68,2,   4.3644
  32H120020718,     6,  2,      9,2,20020719, 67.5057,-168.8930,   50,     11.6,   4.9836,  32.2183,2,  32.1937,2,    412.6,2,    410.6,2,     5.51,2,     0.21,2,     0.01,2,     0.28,2,     0.04,2,   -999.0,9,   -999.0,9,  -999.00,9,  -999.00,  -999.00,9,  -999.00,  -999.00,9,  -999.00,  -999.00,9,        -999,         -999,9,  -999.00,  -999.00,9,       -999,9,        -999,9,     80.8,2,   -999.0,9,   -999.0,9,     0.13,2,      -999,9,     3.51,2,     1.99,2,   4.9828
  32H120020718,     6,  2,      8,2,20020719, 67.5057,-168.8930,   50,     16.6,   3.0841,  32.3422,2,  32.3179,2,    379.2,2,    394.0,2,     7.79,2,     0.21,2,     0.02,2,     0.55,2,     0.04,2,   1963.9,2,   2276.3,2,  -999.00,9,  -999.00,  -999.00,9,  -999.00,  -999.00,9,  -999.00,  -999.00,9,        -999,         -999,9,  -999.00,  -999.00,9,       -999,9,        -999,9,   -999.0,9,   -999.0,9,   -999.0,9,     0.12,2,      -999,9,    11.82,2,     5.42,2,   3.0832
  32H120020718,     6,  2,      7,2,20020719, 67.5057,-168.8930,   50,     21.6,   3.0422,  32.3580,2,  32.3558,2,    349.8,2,    352.5,2,    10.80,2,     1.89,2,     0.08,2,     0.76,2,     0.87,2,   2000.9,2,   2257.1,2,  -999.00,9,  -999.00,  -999.00,9,  -999.00,  -999.00,9,  -999.00,  -999.00,9,        -999,         -999,9,  -999.00,  -999.00,9, 624.094311,3,  115.473239,3,   -999.0,9,      9.7,2,     12.5,2,     0.18,2,      -999,9,    15.83,2,     7.13,2,   3.0410
  32H120020718,     6,  2,      6,2,20020719, 67.5057,-168.8930,   50,     21.6,   3.0438,  32.3578,2,  32.3565,2,    349.9,2,    352.3,2,    10.81,2,     1.90,2,     0.08,2,     0.77,2,     0.88,2,   -999.0,9,   -999.0,9,  -999.00,9,  -999.00,  -999.00,9,  -999.00,  -999.00,9,  -999.00,  -999.00,9,        -999,         -999,9,  -999.00,  -999.00,9,       -999,9,        -999,9,     77.2,2,   -999.0,9,   -999.0,9,     0.22,2,      -999,9,    15.83,2,     6.94,2,   3.0426
  32H120020718,     6,  1,     12,2,20020719, 67.5057,-168.8930,   50,     22.3,   2.9775,  32.3471,2,-999.0000,9,    354.0,2,   -999.0,9,    11.88,2,     2.00,2,     0.08,2,     0.80,2,     0.95,2,   -999.0,9,   -999.0,9,  -999.00,9,  -999.00,  -999.00,9,  -999.00,  -999.00,9,  -999.00,  -999.00,9,        -999,         -999,9,  -999.00,  -999.00,9,       -999,9,        -999,9,   -999.0,9,   -999.0,9,   -999.0,9,     0.15,2,      -999,9,  -999.00,9,  -999.00,9,   2.9762
  32H120020718,     6,  2,      5,2,20020719, 67.5057,-168.8930,   50,     26.7,   3.0185,  32.3698,2,  32.3701,2,    348.0,2,    350.1,2,    11.95,2,     2.31,2,     0.09,2,     0.84,2,     1.51,2,   -999.0,9,   -999.0,9,  -999.00,9,  -999.00,  -999.00,9,  -999.00,  -999.00,9,  -999.00,  -999.00,9,        -999,         -999,9,  -999.00,  -999.00,9,       -999,9,        -999,9,   -999.0,9,   -999.0,9,   -999.0,9,     0.22,2,      -999,9,     8.51,2,     4.41,2,   3.0170
  32H120020718,     6,  2,      4,2,20020719, 67.5057,-168.8930,   50,     31.5,   2.9955,  32.3993,2,  32.3979,2,    345.2,2,    347.4,2,    11.75,2,     2.36,2,     0.10,2,     0.91,2,     1.99,2,   2002.0,2,   2281.8,2,  -999.00,9,  -999.00,  -999.00,9,  -999.00,  -999.00,9,  -999.00,  -999.00,9,        -999,         -999,9,  -999.00,  -999.00,9,  520.54308,2,  96.5701847,2,     71.0,2,      8.3,2,     12.7,2,     0.23,2,      -999,9,     9.23,2,     4.86,2,   2.9937
  32H120020718,     6,  2,      3,2,20020719, 67.5057,-168.8930,   50,     35.8,   2.9952,  32.3988,2,  32.3961,2,    345.0,2,    347.7,2,    11.65,2,     2.41,2,     0.11,2,     0.92,2,     2.02,2,   -999.0,9,   -999.0,9,  -999.00,9,  -999.00,  -999.00,9,  -999.00,  -999.00,9,  -999.00,  -999.00,9,        -999,         -999,9,  -999.00,  -999.00,9,       -999,9,        -999,9,   -999.0,9,   -999.0,9,   -999.0,9,     0.23,2,      -999,9,     9.99,2,     4.64,2,   2.9932
  32H120020718,     6,  1,      9,2,20020719, 67.5057,-168.8930,   50,     37.2,   2.9874,  32.3817,2,-999.0000,9,    342.2,2,   -999.0,9,  -999.00,9,  -999.00,9,  -999.00,9,  -999.00,9,     -999,9,   -999.0,9,   -999.0,9,  -999.00,9,     1.82,     0.07,2,     5.79,     0.16,2,     2.23,     1.58,2, 0.363314696,  0.258144653,2,     0.31,     0.05,2,       -999,9,        -999,9,   -999.0,9,   -999.0,9,   -999.0,9,     -999,9,      -999,9,  -999.00,9,  -999.00,9,   2.9853
  32H120020718,     6,  1,      7,2,20020719, 67.5057,-168.8930,   50,     37.2,   2.9880,  32.3816,2,-999.0000,9,    342.5,2,   -999.0,9,  -999.00,9,  -999.00,9,  -999.00,9,  -999.00,9,     -999,9,   -999.0,9,   -999.0,9,  -999.00,9,     1.82,     0.07,2,     5.79,     0.16,2,     2.23,     1.58,2, 0.363281197,   0.25812085,2,     0.31,     0.05,2,       -999,9,        -999,9,   -999.0,9,   -999.0,9,   -999.0,9,     -999,9,      -999,9,  -999.00,9,  -999.00,9,   2.9859
  32H120020718,     6,  1,      2,2,20020719, 67.5057,-168.8930,   50,     37.3,   2.9862,  32.3796,2,-999.0000,9,    342.5,2,   -999.0,9,  -999.00,9,  -999.00,9,  -999.00,9,  -999.00,9,     -999,9,   -999.0,9,   -999.0,9,  -999.00,9,     1.82,     0.07,2,     5.79,     0.16,2,     2.23,     1.58,2, 0.363277463,  0.258118197,2,     0.31,     0.05,2,       -999,9,        -999,9,   -999.0,9,   -999.0,9,   -999.0,9,     -999,9,      -999,9,  -999.00,9,  -999.00,9,   2.9841
  32H120020718,     6,  1,      1,2,20020719, 67.5057,-168.8930,   50,     37.3,   2.9865,  32.3809,2,-999.0000,9,    342.4,2,   -999.0,9,    12.40,2,     2.38,2,     0.11,2,     0.92,2,     2.05,2,   -999.0,9,   -999.0,9,  -999.00,9,     1.82,     0.07,2,     5.79,     0.16,2,     2.23,     1.58,2, 0.363277165,  0.258117986,2,     0.31,     0.05,2,       -999,9,        -999,9,   -999.0,9,   -999.0,9,   -999.0,9,     0.25,2,      -999,9,  -999.00,9,  -999.00,9,   2.9844
  32H120020718,     6,  1,      3,2,20020719, 67.5057,-168.8930,   50,     37.3,   2.9873,  32.3807,2,-999.0000,9,    342.6,2,   -999.0,9,  -999.00,9,  -999.00,9,  -999.00,9,  -999.00,9,     -999,9,   -999.0,9,   -999.0,9,  -999.00,9,     1.82,     0.07,2,     5.79,     0.16,2,     2.23,     1.58,2, 0.363273972,  0.258115717,2,     0.31,     0.05,2,       -999,9,        -999,9,   -999.0,9,   -999.0,9,   -999.0,9,     -999,9,      -999,9,  -999.00,9,  -999.00,9,   2.9852
  32H120020718,     6,  1,     10,2,20020719, 67.5057,-168.8930,   50,     37.3,   2.9874,  32.3811,2,-999.0000,9,    342.4,2,   -999.0,9,  -999.00,9,  -999.00,9,  -999.00,9,  -999.00,9,     -999,9,   -999.0,9,   -999.0,9,  -999.00,9,     1.82,     0.07,2,     5.79,     0.16,2,     2.23,     1.58,2, 0.363265882,  0.258109969,2,     0.31,     0.05,2,       -999,9,        -999,9,   -999.0,9,   -999.0,9,   -999.0,9,     -999,9,      -999,9,  -999.00,9,  -999.00,9,   2.9853
  32H120020718,     6,  1,      8,2,20020719, 67.5057,-168.8930,   50,     37.3,   2.9877,  32.3813,2,-999.0000,9,    342.5,2,   -999.0,9,  -999.00,9,  -999.00,9,  -999.00,9,  -999.00,9,     -999,9,   -999.0,9,   -999.0,9,  -999.00,9,     1.82,     0.07,2,     5.79,     0.16,2,     2.23,     1.58,2, 0.363265964,  0.258110027,2,     0.31,     0.05,2,       -999,9,        -999,9,   -999.0,9,   -999.0,9,   -999.0,9,     -999,9,      -999,9,  -999.00,9,  -999.00,9,   2.9856
  32H120020718,     6,  1,      4,2,20020719, 67.5057,-168.8930,   50,     37.3,   2.9877,  32.3816,2,-999.0000,9,    342.5,2,   -999.0,9,  -999.00,9,  -999.00,9,  -999.00,9,  -999.00,9,     -999,9,   -999.0,9,   -999.0,9,  -999.00,9,     1.82,     0.07,2,     5.79,     0.16,2,     2.23,     1.58,2, 0.363264827,  0.258109219,2,     0.31,     0.05,2,       -999,9,        -999,9,   -999.0,9,   -999.0,9,   -999.0,9,     -999,9,      -999,9,  -999.00,9,  -999.00,9,   2.9856
  32H120020718,     6,  1,     11,2,20020719, 67.5057,-168.8930,   50,     37.3,   2.9877,  32.3820,2,-999.0000,9,    342.4,2,   -999.0,9,  -999.00,9,  -999.00,9,  -999.00,9,  -999.00,9,     -999,9,   -999.0,9,   -999.0,9,  -999.00,9,     1.82,     0.07,2,     5.79,     0.16,2,     2.23,     1.58,2, 0.363264124,  0.258108719,2,     0.31,     0.05,2,       -999,9,        -999,9,   -999.0,9,   -999.0,9,   -999.0,9,     -999,9,      -999,9,  -999.00,9,  -999.00,9,   2.9856
  32H120020718,     6,  1,      5,2,20020719, 67.5057,-168.8930,   50,     37.3,   2.9878,  32.3813,2,-999.0000,9,    342.6,2,   -999.0,9,  -999.00,9,  -999.00,9,  -999.00,9,  -999.00,9,     -999,9,   -999.0,9,   -999.0,9,  -999.00,9,     1.82,     0.07,2,     5.80,     0.16,2,     2.23,     1.58,2, 0.363527343,  0.258295744,2,     0.31,     0.05,2,       -999,9,        -999,9,   -999.0,9,   -999.0,9,   -999.0,9,     -999,9,      -999,9,  -999.00,9,  -999.00,9,   2.9857
  32H120020718,     6,  1,      6,2,20020719, 67.5057,-168.8930,   50,     37.3,   2.9879,  32.3810,2,-999.0000,9,    342.5,2,   -999.0,9,  -999.00,9,  -999.00,9,  -999.00,9,  -999.00,9,     -999,9,   -999.0,9,   -999.0,9,  -999.00,9,     1.82,     0.07,2,     5.80,     0.16,2,     2.23,     1.58,2, 0.363524094,  0.258293435,2,     0.31,     0.05,2,       -999,9,        -999,9,   -999.0,9,   -999.0,9,   -999.0,9,     -999,9,      -999,9,  -999.00,9,  -999.00,9,   2.9858
  32H120020718,     6,  2,      2,2,20020719, 67.5057,-168.8930,   50,     43.8,   2.9949,  32.4027,2,  32.4008,2,    344.2,2,    346.7,2,    11.87,2,     2.41,2,     0.12,2,     0.96,2,     2.13,2,   2006.5,2,   2271.1,2,  -999.00,9,  -999.00,  -999.00,9,  -999.00,  -999.00,9,  -999.00,  -999.00,9,        -999,         -999,9,  -999.00,  -999.00,9, 557.097612,2,  103.971255,2,     71.1,2,      7.7,2,     12.4,2,     0.25,2,      -999,9,    10.74,2,     5.42,2,   2.9924
  32H120020718,     6,  2,      1,2,20020719, 67.5057,-168.8930,   50,     43.8,   2.9957,  32.4049,2,-999.0000,9,    343.8,2,   -999.0,9,    11.88,2,     2.37,2,     0.12,2,     0.95,2,     2.19,2,   -999.0,9,   -999.0,9,    -0.63,2,  -999.00,  -999.00,9,  -999.00,  -999.00,9,  -999.00,  -999.00,9,        -999,         -999,9,  -999.00,  -999.00,9,       -999,9,        -999,9,   -999.0,9,   -999.0,9,   -999.0,9,     0.26,2,      -999,9,    10.94,2,     5.55,2,   2.9932
  32H120020718,     7,  1,     12,2,20020719, 68.5104,-167.3910,   45,      2.2,   7.7506,  31.4332,4,  31.4412,2,    319.3,2,    316.5,2,     2.30,2,     0.05,2,     0.00,2,     0.48,2,     0.01,2,   1864.1,2,   2214.0,2,    -1.26,2,  -999.00,  -999.00,9,  -999.00,  -999.00,9,  -999.00,  -999.00,9,        -999,         -999,9,  -999.00,  -999.00,9, 62.6779403,2,  12.8075849,2,     93.9,2,     11.5,2,     11.6,2,     0.04,2,      -999,9,     0.08,2,     0.07,2,   7.7504
  32H120020718,     7,  2,     11,2,20020719, 68.5104,-167.3910,   45,      1.9,   7.7811,  31.4142,2,-999.0000,9,    318.2,2,   -999.0,9,  -999.00,9,  -999.00,9,  -999.00,9,  -999.00,9,     -999,9,   -999.0,9,   -999.0,9,  -999.00,9,  -999.00,  -999.00,9,  -999.00,  -999.00,9,  -999.00,  -999.00,9,        -999,         -999,9,  -999.00,  -999.00,9,       -999,9,        -999,9,   -999.0,9,   -999.0,9,   -999.0,9,     -999,9,      -999,9,  -999.00,9,  -999.00,9,   7.7809
  32H120020718,     7,  2,     12,2,20020719, 68.5104,-167.3910,   45,      1.9,   7.8727,  31.4116,2,-999.0000,9,    318.1,2,    315.5,2,     2.37,2,     0.00,2,     0.00,2,     0.48,2,     0.02,2,   -999.0,9,   -999.0,9,  -999.00,9,  -999.00,  -999.00,9,  -999.00,  -999.00,9,  -999.00,  -999.00,9,        -999,         -999,9,  -999.00,  -999.00,9,       -999,9,        -999,9,   -999.0,9,   -999.0,9,   -999.0,9,        0,2,      -999,9,     0.09,2,     0.07,2,   7.8725
  32H120020718,     7,  1,     11,2,20020719, 68.5104,-167.3910,   45,      6.6,   7.7260,  31.4455,2,  31.4437,2,    319.8,2,    317.3,2,     2.31,2,     0.00,2,     0.00,2,     0.50,2,     0.06,2,   -999.0,9,   -999.0,9,  -999.00,9,  -999.00,  -999.00,9,  -999.00,  -999.00,9,  -999.00,  -999.00,9,        -999,         -999,9,  -999.00,  -999.00,9,       -999,9,        -999,9,   -999.0,9,   -999.0,9,   -999.0,9,     0.11,2,      -999,9,     0.10,2,     0.08,2,   7.7254
  32H120020718,     7, 99,      1,9,20020719, 68.5104,-167.3910,   45,      8.1,-999.0000,-999.0000,9,-999.0000,9,   -999.0,9,   -999.0,9,  -999.00,9,  -999.00,9,  -999.00,9,  -999.00,9,     -999,9,   -999.0,9,   -999.0,9,  -999.00,9,     0.12,     0.03,2,     2.21,     0.32,2,     3.19,     0.43,2,  1.37745789,  0.267839034,2,     0.10,     0.03,2,       -999,9,        -999,9,   -999.0,9,   -999.0,9,   -999.0,9,     -999,9,      -999,9,  -999.00,9,  -999.00,9,-999.0000
  32H120020718,     7,  3,      9,2,20020719, 68.5104,-167.3910,   45,     10.5,   5.8809,  31.2833,2,-999.0000,9,    333.3,2,   -999.0,9,  -999.00,9,  -999.00,9,  -999.00,9,  -999.00,9,     -999,9,   -999.0,9,   -999.0,9,  -999.00,9,  -999.00,  -999.00,9,  -999.00,  -999.00,9,  -999.00,  -999.00,9,        -999,         -999,9,  -999.00,  -999.00,9,       -999,9,        -999,9,   -999.0,9,   -999.0,9,   -999.0,9,     -999,9,      -999,9,  -999.00,9,  -999.00,9,   5.8801
  32H120020718,     7,  3,     11,2,20020719, 68.5104,-167.3910,   45,     10.5,   5.8924,  31.2883,2,-999.0000,9,    333.1,2,   -999.0,9,  -999.00,9,  -999.00,9,  -999.00,9,  -999.00,9,     -999,9,   -999.0,9,   -999.0,9,  -999.00,9,  -999.00,  -999.00,9,  -999.00,  -999.00,9,  -999.00,  -999.00,9,        -999,         -999,9,  -999.00,  -999.00,9,       -999,9,        -999,9,   -999.0,9,   -999.0,9,   -999.0,9,     -999,9,      -999,9,  -999.00,9,  -999.00,9,   5.8916
  32H120020718,     7,  3,     10,2,20020719, 68.5104,-167.3910,   45,     10.5,   5.8951,  31.2874,2,-999.0000,9,    333.4,2,   -999.0,9,  -999.00,9,  -999.00,9,  -999.00,9,  -999.00,9,     -999,9,   -999.0,9,   -999.0,9,  -999.00,9,  -999.00,  -999.00,9,  -999.00,  -999.00,9,  -999.00,  -999.00,9,        -999,         -999,9,  -999.00,  -999.00,9,       -999,9,        -999,9,   -999.0,9,   -999.0,9,   -999.0,9,     -999,9,      -999,9,  -999.00,9,  -999.00,9,   5.8943
  32H120020718,     7,  3,     12,2,20020719, 68.5104,-167.3910,   45,     10.5,   5.9003,  31.2912,2,-999.0000,9,    333.1,2,   -999.0,9,  -999.00,9,  -999.00,9,  -999.00,9,  -999.00,9,     -999,9,   -999.0,9,   -999.0,9,  -999.00,9,  -999.00,  -999.00,9,  -999.00,  -999.00,9,  -999.00,  -999.00,9,        -999,         -999,9,  -999.00,  -999.00,9,       -999,9,        -999,9,   -999.0,9,   -999.0,9,   -999.0,9,     -999,9,      -999,9,  -999.00,9,  -999.00,9,   5.8995
  32H120020718,     7,  3,      8,2,20020719, 68.5104,-167.3910,   45,     10.5,   5.9036,  31.2717,2,-999.0000,9,    333.2,2,   -999.0,9,     3.97,2,     0.05,2,     0.01,2,     0.59,2,     0.11,2,   -999.0,9,   -999.0,9,  -999.00,9,  -999.00,  -999.00,9,  -999.00,  -999.00,9,  -999.00,  -999.00,9,        -999,         -999,9,  -999.00,  -999.00,9,       -999,9,        -999,9,   -999.0,9,   -999.0,9,   -999.0,9,     0.29,2,      -999,9,  -999.00,9,  -999.00,9,   5.9028
  32H120020718,     7,  1,     10,2,20020719, 68.5104,-167.3910,   45,     11.4,   7.2471,  31.4499,2,-999.0000,9,    322.1,2,   -999.0,9,  -999.00,9,  -999.00,9,  -999.00,9,  -999.00,9,     -999,9,   -999.0,9,   -999.0,9,  -999.00,9,  -999.00,  -999.00,9,  -999.00,  -999.00,9,  -999.00,  -999.00,9,        -999,         -999,9,  -999.00,  -999.00,9,       -999,9,        -999,9,   -999.0,9,   -999.0,9,   -999.0,9,     -999,9,      -999,9,  -999.00,9,  -999.00,9,   7.2461
  32H120020718,     7,  1,      9,2,20020719, 68.5104,-167.3910,   45,     11.5,   7.3771,  31.4441,2,  31.4433,2,    320.7,2,    317.4,2,     2.32,2,     0.00,2,     0.00,2,     0.49,2,     0.02,2,   1968.7,2,   2215.3,2,  -999.00,9,  -999.00,  -999.00,9,  -999.00,  -999.00,9,  -999.00,  -999.00,9,        -999,         -999,9,  -999.00,  -999.00,9, 57.1497162,2,  12.4064137,2,     72.4,2,      7.5,2,      7.5,2,     0.04,2,158.759952,2,     0.09,2,     0.08,2,   7.3761
  32H120020718,     7,  2,     10,2,20020719, 68.5104,-167.3910,   45,     11.1,   7.7263,  31.4125,2,-999.0000,9,    318.2,2,    316.9,2,     2.38,2,     0.00,2,     0.00,2,     0.48,2,     0.02,2,   -999.0,9,   -999.0,9,  -999.00,9,  -999.00,  -999.00,9,  -999.00,  -999.00,9,  -999.00,  -999.00,9,        -999,         -999,9,  -999.00,  -999.00,9,       -999,9,        -999,9,   -999.0,9,   -999.0,9,   -999.0,9,        0,2,      -999,9,     0.11,2,     0.08,2,   7.7253
  32H120020718,     7,  2,      9,2,20020719, 68.5104,-167.3910,   45,     11.1,   7.7305,  31.4124,2,-999.0000,9,    318.2,2,   -999.0,9,  -999.00,9,  -999.00,9,  -999.00,9,  -999.00,9,     -999,9,   -999.0,9,   -999.0,9,  -999.00,9,  -999.00,  -999.00,9,  -999.00,  -999.00,9,  -999.00,  -999.00,9,        -999,         -999,9,  -999.00,  -999.00,9,       -999,9,        -999,9,   -999.0,9,   -999.0,9,   -999.0,9,     -999,9,      -999,9,  -999.00,9,  -999.00,9,   7.7295
  32H120020718,     7,  1,      8,2,20020719, 68.5104,-167.3910,   45,     16.6,   6.5270,  31.5576,2,  31.6148,2,    335.3,2,    337.2,2,     2.84,2,     0.00,2,     0.00,2,     0.55,2,     0.08,2,   1961.9,2,   2228.9,2,  -999.00,9,  -999.00,  -999.00,9,  -999.00,  -999.00,9,  -999.00,  -999.00,9,        -999,         -999,9,  -999.00,  -999.00,9,       -999,9,        -999,9,   -999.0,9,   -999.0,9,   -999.0,9,     0.09,2,      -999,9,     0.18,2,     0.16,2,   6.5256
  32H120020718,     7,  2,      7,2,20020719, 68.5104,-167.3910,   45,     18.1,   5.2962,  31.6857,2,-999.0000,9,    349.6,2,   -999.0,9,  -999.00,9,  -999.00,9,  -999.00,9,  -999.00,9,     -999,9,   -999.0,9,   -999.0,9,  -999.00,9,  -999.00,  -999.00,9,  -999.00,  -999.00,9,  -999.00,  -999.00,9,        -999,         -999,9,  -999.00,  -999.00,9,       -999,9,        -999,9,   -999.0,9,   -999.0,9,   -999.0,9,     -999,9,      -999,9,  -999.00,9,  -999.00,9,   5.2949
  32H120020718,     7,  2,      8,2,20020719, 68.5104,-167.3910,   45,     18.1,   5.3240,  31.6822,2,-999.0000,9,    349.2,2,    346.6,2,     3.31,2,    -0.01,2,     0.01,2,     0.58,2,     0.09,2,   -999.0,9,   -999.0,9,  -999.00,9,  -999.00,  -999.00,9,  -999.00,  -999.00,9,  -999.00,  -999.00,9,        -999,         -999,9,  -999.00,  -999.00,9,       -999,9,        -999,9,   -999.0,9,   -999.0,9,   -999.0,9,        0,2,      -999,9,     0.17,2,     0.14,2,   5.3227