BOTTLE,20090202PRINUNIVRMK
EXPOCODE,STNNBR,CASTNO,BTLNBR,BTLNBR_FLAG_W,DATE,LATITUDE,LONGITUDE,DEPTH,CTDPRS,CTDTMP,CTDSAL,CTDSAL_FLAG_W,SALNTY,SALNTY_FLAG_W,CTDOXY,CTDOXY_FLAG_W,OXYGEN,OXYGEN_FLAG_W,SILCAT,SILCAT_FLAG_W,NITRAT,NITRAT_FLAG_W,NITRIT,NITRIT_FLAG_W,PHSPHT,PHSPHT_FLAG_W,AMMONI,AMMONI_FLAG_W,TCARBN,TCARBN_FLAG_W,ALKALI,ALKALI_FLAG_W,DELO18,DELO18_FLAG_W,RA-224,RA-224E,RA-224_FLAG_W,RA-226,RA-226E,RA-226_FLAG_W,RA-228,RA-228E,RA-228_FLAG_W,RA-8/6,RA-8/6E,RA-8/6_FLAG_W,TH-228,TH-228E,TH-228_FLAG_W,POC,POC_FLAG_W,PON,PON_FLAG_W,DOC,DOC_FLAG_W,DON,DON_FLAG_W,TDN,TDN_FLAG_W,UREA,UREA_FLAG_W,LIGNIN,LIGNIN_FLAG_W,CHLORA,CHLORA_FLAG_W,PHAEO,PHAEO_FLAG_W,THETA
,,,,,,,,METERS,DBARS,ITS-90,PSS-78,,PSS-78,,UMOL/KG,,UMOL/KG,,UMOL/KG,,UMOL/KG,,UMOL/KG,,UMOL/KG,,UMOL/KG,,UMOL/KG,,UMOL/KG,,O/OO,,DPM/100KG,DPM/100KG,,DPM/100KG,DPM/100KG,,DPM/100KG,DPM/100KG,,,,,DPM/100KG,DPM/100KG,,ug/kg,,ug/kg,,UMOL/KG,,UMOL/KG,,UMOL/KG,,UMOL/KG,,NG/KG,,UG/L,,UG/L,,DEGC
  32H120020718,    27,  2,     12,2,20020807, 72.7334,-158.4380,  245,      2.0,  -0.9220,  27.6653,2,-999.0000,9,    375.9,2,   -999.0,9,  -999.00,9,  -999.00,9,  -999.00,9,  -999.00,9,     -999,9,   -999.0,9,   -999.0,9,  -999.00,9,  -999.00,  -999.00,9,  -999.00,  -999.00,9,  -999.00,  -999.00,9,        -999,         -999,9,  -999.00,  -999.00,9,       -999,9,        -999,9,   -999.0,9,   -999.0,9,   -999.0,9,     -999,9,      -999,9,  -999.00,9,  -999.00,9,  -0.9220
  32H120020718,    27,  2,     11,2,20020807, 72.7334,-158.4380,  245,      2.0,  -0.9210,  27.6826,2,  27.6478,2,    375.8,2,    384.6,2,     3.52,2,     0.02,2,     0.02,2,     0.67,2,     0.02,2,   -999.0,9,   -999.0,9,  -999.00,9,  -999.00,  -999.00,9,  -999.00,  -999.00,9,  -999.00,  -999.00,9,        -999,         -999,9,  -999.00,  -999.00,9,       -999,9,        -999,9,   -999.0,9,   -999.0,9,   -999.0,9,     0.03,2,      -999,9,     0.14,2,     0.13,2,  -0.9210
  32H120020718,    27,  2,     10,2,20020807, 72.7334,-158.4380,  245,      7.5,  -0.8859,  27.8508,2,-999.0000,9,    377.1,2,    387.7,2,     3.61,2,     0.02,2,     0.02,2,     0.68,2,     0.02,2,   -999.0,9,   -999.0,9,  -999.00,9,  -999.00,  -999.00,9,  -999.00,  -999.00,9,  -999.00,  -999.00,9,        -999,         -999,9,  -999.00,  -999.00,9,       -999,9,        -999,9,   -999.0,9,   -999.0,9,   -999.0,9,     0.03,2,      -999,9,     0.16,2,     0.13,2,  -0.8860
  32H120020718,    27, 99,      1,9,20020807, 72.7334,-158.4380,  245,      8.1,-999.0000,-999.0000,9,-999.0000,9,   -999.0,9,   -999.0,9,  -999.00,9,  -999.00,9,  -999.00,9,  -999.00,9,     -999,9,   -999.0,9,   -999.0,9,  -999.00,9,     1.29,     0.07,2,     6.76,     0.33,2,     2.86,     1.17,2, 0.401861941,  0.162658405,2,     0.81,     0.53,2,       -999,9,        -999,9,   -999.0,9,   -999.0,9,   -999.0,9,     -999,9,      -999,9,  -999.00,9,  -999.00,9,-999.0000
  32H120020718,    27,  1,     11,2,20020807, 72.7334,-158.4380,  245,     11.2,  -0.9608,  27.4341,2,  27.7970,2,    382.3,2,    386.3,2,     3.61,2,    -0.02,2,     0.02,2,     0.68,2,     0.06,2,   1871.5,2,   2008.1,2,    -3.32,2,  -999.00,  -999.00,9,  -999.00,  -999.00,9,  -999.00,  -999.00,9,        -999,         -999,9,  -999.00,  -999.00,9, 63.2800438,2,  11.8318899,2,     64.0,2,      2.8,2,      2.9,2,     0.03,2,      -999,9,     0.23,2,     0.14,2,  -0.9610
  32H120020718,    27,  2,      9,2,20020807, 72.7334,-158.4380,  245,     12.3,  -0.8645,  28.9043,2,-999.0000,9,    382.9,2,    392.8,2,     3.70,2,     0.02,2,     0.02,2,     0.69,2,     0.02,2,   -999.0,9,   -999.0,9,  -999.00,9,  -999.00,  -999.00,9,  -999.00,  -999.00,9,  -999.00,  -999.00,9,        -999,         -999,9,  -999.00,  -999.00,9,       -999,9,        -999,9,   -999.0,9,   -999.0,9,   -999.0,9,     0.04,2,      -999,9,     0.16,2,     0.11,2,  -0.8647
  32H120020718,    27,  2,      8,2,20020807, 72.7334,-158.4380,  245,     18.8,  -1.0750,  30.0726,2,-999.0000,9,    397.4,2,    407.0,2,     4.74,2,     0.02,2,     0.02,2,     0.74,2,     0.03,2,   -999.0,9,   -999.0,9,  -999.00,9,  -999.00,  -999.00,9,  -999.00,  -999.00,9,  -999.00,  -999.00,9,        -999,         -999,9,  -999.00,  -999.00,9,       -999,9,        -999,9,   -999.0,9,   -999.0,9,   -999.0,9,     0.03,2,      -999,9,     0.35,2,     0.22,2,  -1.0753
  32H120020718,    27,  2,      7,2,20020807, 72.7334,-158.4380,  245,     18.8,  -1.1093,  30.0816,2,-999.0000,9,    396.7,2,   -999.0,9,  -999.00,9,  -999.00,9,  -999.00,9,  -999.00,9,     -999,9,   -999.0,9,   -999.0,9,  -999.00,9,  -999.00,  -999.00,9,  -999.00,  -999.00,9,  -999.00,  -999.00,9,        -999,         -999,9,  -999.00,  -999.00,9,       -999,9,        -999,9,   -999.0,9,   -999.0,9,   -999.0,9,     -999,9,      -999,9,  -999.00,9,  -999.00,9,  -1.1096
  32H120020718,    27,  1,     10,2,20020807, 72.7334,-158.4380,  245,     26.0,  -1.2798,  30.9997,2,  30.9617,2,    398.1,2,    410.0,2,     5.87,2,     0.08,2,     0.03,2,     0.83,2,     0.06,2,   2057.1,2,   2218.1,2,    -2.91,2,  -999.00,  -999.00,9,  -999.00,  -999.00,9,  -999.00,  -999.00,9,        -999,         -999,9,  -999.00,  -999.00,9, 125.831192,2,  24.9685869,2,     77.5,2,      4.5,2,      4.6,2,     0.02,2,      -999,9,     2.40,2,     0.66,2,  -1.2802
  32H120020718,    27,  2,      6,2,20020807, 72.7334,-158.4380,  245,     29.3,  -1.5397,  31.0348,2,-999.0000,9,    368.4,2,    387.4,2,    11.95,2,     2.16,2,     0.14,2,     1.00,2,     0.37,2,   -999.0,9,   -999.0,9,  -999.00,9,  -999.00,  -999.00,9,  -999.00,  -999.00,9,  -999.00,  -999.00,9,        -999,         -999,9,  -999.00,  -999.00,9,       -999,9,        -999,9,   -999.0,9,   -999.0,9,   -999.0,9,     0.04,2,      -999,9,     1.38,2,     0.88,2,  -1.5401
  32H120020718,    27,  3,     11,2,20020807, 72.7334,-158.4380,  245,     30.9,  -1.2618,  31.3469,2,-999.0000,9,    370.0,2,   -999.0,9,  -999.00,9,  -999.00,9,  -999.00,9,  -999.00,9,     -999,9,   -999.0,9,   -999.0,9,  -999.00,9,     1.15,     0.09,2,     8.49,     0.52,2,     5.52,     0.39,2, 0.621515953, 0.0573707034,2,     0.81,     0.26,2,       -999,9,        -999,9,   -999.0,9,   -999.0,9,   -999.0,9,     -999,9,      -999,9,  -999.00,9,  -999.00,9,  -1.2624
  32H120020718,    27,  3,     12,2,20020807, 72.7334,-158.4380,  245,     30.9,  -1.2624,  31.3470,2,-999.0000,9,    369.7,2,   -999.0,9,  -999.00,9,  -999.00,9,  -999.00,9,  -999.00,9,     -999,9,   -999.0,9,   -999.0,9,  -999.00,9,     1.15,     0.09,2,     8.49,     0.52,2,     5.52,     0.39,2,    0.621516, 0.0573707077,2,     0.81,     0.26,2,       -999,9,        -999,9,   -999.0,9,   -999.0,9,   -999.0,9,     -999,9,      -999,9,  -999.00,9,  -999.00,9,  -1.2630
  32H120020718,    27,  3,     10,2,20020807, 72.7334,-158.4380,  245,     30.9,  -1.2714,  31.3401,2,-999.0000,9,    370.0,2,   -999.0,9,  -999.00,9,  -999.00,9,  -999.00,9,  -999.00,9,     -999,9,   -999.0,9,   -999.0,9,  -999.00,9,     1.15,     0.09,2,     8.49,     0.52,2,     5.52,     0.39,2, 0.621518963, 0.0573709812,2,     0.81,     0.26,2,       -999,9,        -999,9,   -999.0,9,   -999.0,9,   -999.0,9,     -999,9,      -999,9,  -999.00,9,  -999.00,9,  -1.2720
  32H120020718,    27,  3,      7,2,20020807, 72.7334,-158.4380,  245,     30.9,  -1.2844,  31.3328,2,-999.0000,9,    369.8,2,   -999.0,9,    10.61,2,     2.66,2,     0.17,2,     1.04,2,     0.18,2,   -999.0,9,   -999.0,9,  -999.00,9,     1.15,     0.09,2,     8.49,     0.52,2,     5.52,     0.39,2, 0.621522436, 0.0573713018,2,     0.81,     0.26,2,       -999,9,        -999,9,   -999.0,9,   -999.0,9,   -999.0,9,     0.05,2,      -999,9,  -999.00,9,  -999.00,9,  -1.2850
  32H120020718,    27,  3,      8,2,20020807, 72.7334,-158.4380,  245,     30.9,  -1.2969,  31.3293,2,-999.0000,9,    369.7,2,   -999.0,9,  -999.00,9,  -999.00,9,  -999.00,9,  -999.00,9,     -999,9,   -999.0,9,   -999.0,9,  -999.00,9,     1.15,     0.09,2,     8.49,     0.52,2,     5.52,     0.39,2, 0.621408082, 0.0573607461,2,     0.80,     0.26,2,       -999,9,        -999,9,   -999.0,9,   -999.0,9,   -999.0,9,     -999,9,      -999,9,  -999.00,9,  -999.00,9,  -1.2974
  32H120020718,    27,  3,      9,2,20020807, 72.7334,-158.4380,  245,     31.0,  -1.2731,  31.3393,2,-999.0000,9,    369.7,2,   -999.0,9,  -999.00,9,  -999.00,9,  -999.00,9,  -999.00,9,     -999,9,   -999.0,9,   -999.0,9,  -999.00,9,     1.15,     0.09,2,     8.49,     0.52,2,     5.51,     0.39,2, 0.621168907, 0.0573386684,2,     0.80,     0.26,2,       -999,9,        -999,9,   -999.0,9,   -999.0,9,   -999.0,9,     -999,9,      -999,9,  -999.00,9,  -999.00,9,  -1.2737
  32H120020718,    27,  1,      9,2,20020807, 72.7334,-158.4380,  245,     40.2,  -1.5575,  31.8111,2,  31.7891,2,    351.7,2,    358.7,2,    19.07,2,     5.73,2,     0.21,2,     1.26,2,     0.61,2,   2110.5,2,   2240.5,2,    -2.20,2,  -999.00,  -999.00,9,  -999.00,  -999.00,9,  -999.00,  -999.00,9,        -999,         -999,9,  -999.00,  -999.00,9,  32.886108,2,  6.39724472,2,     70.3,2,      4.2,2,     10.7,2,     0.05,2,      -999,9,     0.23,2,     0.26,2,  -1.5582
  32H120020718,    27,  2,      4,2,20020807, 72.7334,-158.4380,  245,     44.3,  -1.5511,  31.8637,2,-999.0000,9,    348.7,2,   -999.0,9,  -999.00,9,  -999.00,9,  -999.00,9,  -999.00,9,     -999,9,   -999.0,9,   -999.0,9,  -999.00,9,  -999.00,  -999.00,9,  -999.00,  -999.00,9,  -999.00,  -999.00,9,        -999,         -999,9,  -999.00,  -999.00,9,       -999,9,        -999,9,   -999.0,9,   -999.0,9,   -999.0,9,     -999,9,      -999,9,  -999.00,9,  -999.00,9,  -1.5518
  32H120020718,    27,  2,      5,2,20020807, 72.7334,-158.4380,  245,     44.3,  -1.5530,  31.8585,2,-999.0000,9,    348.1,2,    359.9,2,    17.17,2,     5.69,2,     0.19,2,     1.21,2,     0.41,2,   -999.0,9,   -999.0,9,  -999.00,9,  -999.00,  -999.00,9,  -999.00,  -999.00,9,  -999.00,  -999.00,9,        -999,         -999,9,  -999.00,  -999.00,9,       -999,9,        -999,9,   -999.0,9,   -999.0,9,   -999.0,9,     0.03,2,      -999,9,     0.20,2,     0.25,2,  -1.5537
  32H120020718,    27,  1,      8,2,20020807, 72.7334,-158.4380,  245,     52.2,  -1.4984,  32.1618,2,  32.1110,2,    326.7,2,    341.3,2,    21.07,2,     7.12,2,     0.15,2,     1.35,2,     0.46,2,   2126.7,2,   2254.2,2,    -2.02,2,  -999.00,  -999.00,9,  -999.00,  -999.00,9,  -999.00,  -999.00,9,        -999,         -999,9,  -999.00,  -999.00,9, 29.1815718,2,  4.74299826,2,     69.5,2,      4.0,2,     11.7,2,     0.05,2,      -999,9,     0.28,2,     0.14,2,  -1.4993
  32H120020718,    27,  1,      7,2,20020807, 72.7334,-158.4380,  245,     77.2,  -1.4907,  32.6615,2,  32.6484,2,    290.0,2,    303.4,2,    28.34,2,    12.18,2,     0.06,2,     1.66,2,     0.23,2,   2178.7,2,   2262.0,2,    -1.74,2,  -999.00,  -999.00,9,  -999.00,  -999.00,9,  -999.00,  -999.00,9,        -999,         -999,9,  -999.00,  -999.00,9, 17.6740323,2,   2.9424124,2,     65.3,2,      5.9,2,     18.3,2,     0.03,2,      -999,9,     0.03,2,     0.05,2,  -1.4922
  32H120020718,    27,  1,      6,2,20020807, 72.7334,-158.4380,  245,    101.2,  -1.6113,  32.9763,2,  32.9657,2,    293.2,2,    301.2,2,    34.19,2,    13.79,2,     0.12,2,     1.75,2,     0.25,2,   2194.5,2,   2282.2,2,    -1.56,2,  -999.00,  -999.00,9,  -999.00,  -999.00,9,  -999.00,  -999.00,9,        -999,         -999,9,  -999.00,  -999.00,9, 16.6925224,2,  2.78534243,2,     63.2,2,      6.0,2,     20.2,2,     0.03,2,      -999,9,     0.02,2,     0.07,2,  -1.6132
  32H120020718,    27,  2,      3,2,20020807, 72.7334,-158.4380,  245,    101.2,  -1.7296,  33.0854,2,-999.0000,9,    279.5,2,    288.7,2,    49.01,2,    15.51,2,     0.21,2,     2.12,2,      2.1,2,   -999.0,9,   -999.0,9,  -999.00,9,  -999.00,  -999.00,9,  -999.00,  -999.00,9,  -999.00,  -999.00,9,        -999,         -999,9,  -999.00,  -999.00,9,       -999,9,        -999,9,   -999.0,9,   -999.0,9,   -999.0,9,     0.04,2,      -999,9,  -999.00,9,  -999.00,9,  -1.7314
  32H120020718,    27,  3,      6,2,20020807, 72.7334,-158.4380,  245,    110.8,  -1.7012,  33.1313,2,-999.0000,9,    285.4,2,   -999.0,9,    50.38,2,    15.45,2,     0.20,2,     2.17,2,     2.44,2,   -999.0,9,   -999.0,9,  -999.00,9,     0.88,     0.08,2,     9.19,     0.60,2,     6.51,     2.05,2, 0.677122757,  0.219349626,2,     0.43,     1.27,2,       -999,9,        -999,9,   -999.0,9,   -999.0,9,   -999.0,9,     0.05,2,      -999,9,  -999.00,9,  -999.00,9,  -1.7033
  32H120020718,    27,  3,      1,2,20020807, 72.7334,-158.4380,  245,    110.8,  -1.7062,  33.1322,2,-999.0000,9,    285.3,2,   -999.0,9,  -999.00,9,  -999.00,9,  -999.00,9,  -999.00,9,     -999,9,   -999.0,9,   -999.0,9,  -999.00,9,     0.88,     0.08,2,     9.19,     0.60,2,     6.51,     2.05,2, 0.677122203,  0.219349446,2,     0.43,     1.27,2,       -999,9,        -999,9,   -999.0,9,   -999.0,9,   -999.0,9,     -999,9,      -999,9,  -999.00,9,  -999.00,9,  -1.7082
  32H120020718,    27,  3,      5,2,20020807, 72.7334,-158.4380,  245,    110.8,  -1.7098,  33.1310,2,-999.0000,9,    283.3,2,   -999.0,9,  -999.00,9,  -999.00,9,  -999.00,9,  -999.00,9,     -999,9,   -999.0,9,   -999.0,9,  -999.00,9,     0.88,     0.08,2,     9.19,     0.60,2,     6.51,     2.05,2, 0.677122808,  0.219349642,2,     0.43,     1.27,2,       -999,9,        -999,9,   -999.0,9,   -999.0,9,   -999.0,9,     -999,9,      -999,9,  -999.00,9,  -999.00,9,  -1.7118
  32H120020718,    27,  3,      4,2,20020807, 72.7334,-158.4380,  245,    110.8,  -1.7157,  33.1308,2,-999.0000,9,    283.1,2,   -999.0,9,  -999.00,9,  -999.00,9,  -999.00,9,  -999.00,9,     -999,9,   -999.0,9,   -999.0,9,  -999.00,9,     0.89,     0.08,2,     9.25,     0.60,2,     6.55,     2.06,2, 0.680999353,  0.220605424,2,     0.44,     1.27,2,       -999,9,        -999,9,   -999.0,9,   -999.0,9,   -999.0,9,     -999,9,      -999,9,  -999.00,9,  -999.00,9,  -1.7177
  32H120020718,    27,  3,      2,2,20020807, 72.7334,-158.4380,  245,    110.8,  -1.7179,  33.1313,2,-999.0000,9,    285.0,2,   -999.0,9,  -999.00,9,  -999.00,9,  -999.00,9,  -999.00,9,     -999,9,   -999.0,9,   -999.0,9,  -999.00,9,     0.88,     0.08,2,     9.24,     0.60,2,     6.55,     2.06,2, 0.680437426,  0.220423391,2,     0.44,     1.27,2,       -999,9,        -999,9,   -999.0,9,   -999.0,9,   -999.0,9,     -999,9,      -999,9,  -999.00,9,  -999.00,9,  -1.7199
  32H120020718,    27,  3,      3,2,20020807, 72.7334,-158.4380,  245,    110.8,  -1.7184,  33.1311,2,-999.0000,9,    283.5,2,   -999.0,9,  -999.00,9,  -999.00,9,  -999.00,9,  -999.00,9,     -999,9,   -999.0,9,   -999.0,9,  -999.00,9,     0.88,     0.08,2,     9.23,     0.60,2,     6.54,     2.06,2,  0.67946953,  0.220109848,2,     0.43,     1.27,2,       -999,9,        -999,9,   -999.0,9,   -999.0,9,   -999.0,9,     -999,9,      -999,9,  -999.00,9,  -999.00,9,  -1.7204
  32H120020718,    27,  2,      2,2,20020807, 72.7334,-158.4380,  245,    151.7,  -1.4690,  33.7194,2,-999.0000,9,    288.0,2,   -999.0,9,  -999.00,9,  -999.00,9,  -999.00,9,  -999.00,9,     -999,9,   -999.0,9,   -999.0,9,  -999.00,9,  -999.00,  -999.00,9,  -999.00,  -999.00,9,  -999.00,  -999.00,9,        -999,         -999,9,  -999.00,  -999.00,9,       -999,9,        -999,9,   -999.0,9,   -999.0,9,   -999.0,9,     -999,9,      -999,9,  -999.00,9,  -999.00,9,  -1.4724
  32H120020718,    27,  1,      5,2,20020807, 72.7334,-158.4380,  245,    152.9,  -1.4556,  33.6757,2,  33.6623,2,    286.7,2,    291.9,2,    33.22,2,    14.38,2,     0.11,2,     1.70,2,     0.06,2,   2212.3,2,   2307.7,2,    -1.23,2,  -999.00,  -999.00,9,  -999.00,  -999.00,9,  -999.00,  -999.00,9,        -999,         -999,9,  -999.00,  -999.00,9, 27.1356655,2,  4.51284697,2,     61.5,2,      5.1,2,     19.6,2,     0.03,2,      -999,9,     0.06,2,     0.07,2,  -1.4590
  32H120020718,    27,  1,      4,2,20020807, 72.7334,-158.4380,  245,    177.5,  -0.8661,  34.2372,2,  34.2191,2,    273.9,2,    281.9,2,    23.24,2,    13.70,2,     0.03,2,     1.38,2,     0.01,2,   2202.7,2,   2322.7,2,    -0.75,2,  -999.00,  -999.00,9,  -999.00,  -999.00,9,  -999.00,  -999.00,9,        -999,         -999,9,  -999.00,  -999.00,9, 17.6045385,2,  2.36290098,2,     57.6,2,      5.4,2,     19.1,2,     0.03,2,      -999,9,     0.03,2,     0.06,2,  -0.8712
  32H120020718,    27,  1,      3,2,20020807, 72.7334,-158.4380,  245,    202.6,  -0.0712,  34.5511,2,  34.5451,2,    270.2,2,    275.0,2,    14.95,2,    13.10,2,     0.03,2,     1.10,2,     0.01,2,   2170.9,2,   2309.4,2,    -0.11,2,  -999.00,  -999.00,9,  -999.00,  -999.00,9,  -999.00,  -999.00,9,        -999,         -999,9,  -999.00,  -999.00,9, 16.2141249,2,  2.36232176,2,     50.6,2,      5.0,2,     18.1,2,     0.03,2,      -999,9,     0.02,2,     0.05,2,  -0.0785
  32H120020718,    27,  2,      1,2,20020807, 72.7334,-158.4380,  245,    201.9,   0.2881,  34.6578,2,-999.0000,9,    272.3,2,   -999.0,9,  -999.00,9,  -999.00,9,  -999.00,9,  -999.00,9,     -999,9,   -999.0,9,   -999.0,9,  -999.00,9,  -999.00,  -999.00,9,  -999.00,  -999.00,9,  -999.00,  -999.00,9,        -999,         -999,9,  -999.00,  -999.00,9,       -999,9,        -999,9,   -999.0,9,   -999.0,9,   -999.0,9,     -999,9,      -999,9,  -999.00,9,  -999.00,9,   0.2801
  32H120020718,    27,  1,      2,2,20020807, 72.7334,-158.4380,  245,    226.5,   0.4695,  34.7256,2,  34.7248,2,    275.4,2,    279.8,2,    12.29,2,    12.65,2,     0.08,2,     1.04,2,     0.16,2,   2155.5,2,   2300.9,2,  -999.00,9,  -999.00,  -999.00,9,  -999.00,  -999.00,9,  -999.00,  -999.00,9,        -999,         -999,9,  -999.00,  -999.00,9, 44.1752976,2,  5.33892388,2,     52.4,2,      3.5,2,     16.4,2,     0.05,2,      -999,9,     0.03,2,     0.12,2,   0.4601
  32H120020718,    27,  1,      1,2,20020807, 72.7334,-158.4380,  245,    241.9,   0.4823,  34.7307,2,  34.7290,2,    275.5,2,    279.5,2,    12.29,2,    12.69,2,     0.08,2,     1.04,2,     0.17,2,   2157.6,2,   2308.8,2,  -999.00,9,  -999.00,  -999.00,9,  -999.00,  -999.00,9,  -999.00,  -999.00,9,        -999,         -999,9,  -999.00,  -999.00,9, 50.3828139,2,   6.3734999,2,     51.4,2,   -999.0,9,   -999.0,9,     0.05,2,      -999,9,     0.06,2,     0.15,2,   0.4722
  32H120020718,    28,  2,     12,2,20020808, 72.8364,-158.2590,  545,      2.1,  -0.9568,  27.1786,2,  27.2009,2,    372.4,2,    382.1,2,     3.59,2,     0.00,2,     0.00,2,     0.64,2,     0.01,2,   1840.1,2,   1961.9,2,  -999.00,9,  -999.00,  -999.00,9,  -999.00,  -999.00,9,  -999.00,  -999.00,9,        -999,         -999,9,  -999.00,  -999.00,9, 51.2451966,2,  10.1783805,2,     64.3,2,      3.5,2,      3.5,2,        0,2,      -999,9,     0.21,2,     0.14,2,  -0.9568
  32H120020718,    28,  6,     11,2,20020808, 72.8364,-158.2590,  545,      2.1,  -0.9175,  27.1965,2,  27.2419,2,    372.4,2,   -999.0,5,     3.74,2,     0.06,2,     0.00,2,     0.66,2,        0,2,   -999.0,9,   -999.0,9,  -999.00,9,  -999.00,  -999.00,9,  -999.00,  -999.00,9,  -999.00,  -999.00,9,        -999,         -999,9,  -999.00,  -999.00,9,       -999,9,        -999,9,   -999.0,9,   -999.0,9,   -999.0,9,        0,2,      -999,9,     0.14,2,     0.15,2,  -0.9175
  32H120020718,    28,  6,     12,2,20020808, 72.8364,-158.2590,  545,      2.2,  -0.9161,  27.1934,2,-999.0000,9,    372.1,2,   -999.0,9,  -999.00,9,  -999.00,9,  -999.00,9,  -999.00,9,     -999,9,   -999.0,9,   -999.0,9,  -999.00,9,  -999.00,  -999.00,9,  -999.00,  -999.00,9,  -999.00,  -999.00,9,        -999,         -999,9,  -999.00,  -999.00,9,       -999,9,        -999,9,   -999.0,9,   -999.0,9,   -999.0,9,     -999,9,      -999,9,  -999.00,9,  -999.00,9,  -0.9161
  32H120020718,    28, 99,      1,9,20020808, 72.8364,-158.2590,  545,      8.1,-999.0000,-999.0000,9,-999.0000,9,   -999.0,9,   -999.0,9,  -999.00,9,  -999.00,9,  -999.00,9,  -999.00,9,     -999,9,   -999.0,9,   -999.0,9,  -999.00,9,     1.23,     0.09,2,     7.54,     0.16,2,     2.49,     0.46,2, 0.315357891, 0.0573377985,2,     1.09,     0.22,2,       -999,9,        -999,9,   -999.0,9,   -999.0,9,   -999.0,9,     -999,9,      -999,9,  -999.00,9,  -999.00,9,-999.0000