BOTTLE,20090202PRINUNIVRMK
EXPOCODE,STNNBR,CASTNO,BTLNBR,BTLNBR_FLAG_W,DATE,LATITUDE,LONGITUDE,DEPTH,CTDPRS,CTDTMP,CTDSAL,CTDSAL_FLAG_W,SALNTY,SALNTY_FLAG_W,CTDOXY,CTDOXY_FLAG_W,OXYGEN,OXYGEN_FLAG_W,SILCAT,SILCAT_FLAG_W,NITRAT,NITRAT_FLAG_W,NITRIT,NITRIT_FLAG_W,PHSPHT,PHSPHT_FLAG_W,AMMONI,AMMONI_FLAG_W,TCARBN,TCARBN_FLAG_W,ALKALI,ALKALI_FLAG_W,DELO18,DELO18_FLAG_W,RA-224,RA-224E,RA-224_FLAG_W,RA-226,RA-226E,RA-226_FLAG_W,RA-228,RA-228E,RA-228_FLAG_W,RA-8/6,RA-8/6E,RA-8/6_FLAG_W,TH-228,TH-228E,TH-228_FLAG_W,POC,POC_FLAG_W,PON,PON_FLAG_W,DOC,DOC_FLAG_W,DON,DON_FLAG_W,TDN,TDN_FLAG_W,UREA,UREA_FLAG_W,LIGNIN,LIGNIN_FLAG_W,CHLORA,CHLORA_FLAG_W,PHAEO,PHAEO_FLAG_W,THETA
,,,,,,,,METERS,DBARS,ITS-90,PSS-78,,PSS-78,,UMOL/KG,,UMOL/KG,,UMOL/KG,,UMOL/KG,,UMOL/KG,,UMOL/KG,,UMOL/KG,,UMOL/KG,,UMOL/KG,,O/OO,,DPM/100KG,DPM/100KG,,DPM/100KG,DPM/100KG,,DPM/100KG,DPM/100KG,,,,,DPM/100KG,DPM/100KG,,ug/kg,,ug/kg,,UMOL/KG,,UMOL/KG,,UMOL/KG,,UMOL/KG,,NG/KG,,UG/L,,UG/L,,DEGC
  32H120020718,    33, 99,      1,9,20020814, 73.4972,-159.5480, 2251,      8.1,-999.0000,-999.0000,9,-999.0000,9,   -999.0,9,   -999.0,9,  -999.00,9,  -999.00,9,  -999.00,9,  -999.00,9,     -999,9,   -999.0,9,   -999.0,9,  -999.00,9,     2.25,     0.12,2,     5.95,     0.37,2,     3.41,     0.23,2, 0.544075854, 0.0477259521,2,     2.14,     0.18,2,       -999,9,        -999,9,   -999.0,9,   -999.0,9,   -999.0,9,     -999,9,      -999,9,  -999.00,9,  -999.00,9,-999.0000
  32H120020718,    33,  5,     10,2,20020814, 73.4972,-159.5480, 2251,      9.2,  -0.7269,  26.8895,2,-999.0000,9,    365.8,2,    376.3,2,     2.55,2,     0.00,2,     0.00,2,     0.63,2,     0.03,2,   -999.0,9,   -999.0,9,  -999.00,9,  -999.00,  -999.00,9,  -999.00,  -999.00,9,  -999.00,  -999.00,9,        -999,         -999,9,  -999.00,  -999.00,9,       -999,9,        -999,9,   -999.0,9,   -999.0,9,   -999.0,9,        0,2,      -999,9,     0.05,2,     0.03,2,  -0.7270
  32H120020718,    33,  5,      9,2,20020814, 73.4972,-159.5480, 2251,     15.3,  -0.6621,  26.9672,2,-999.0000,9,    365.9,2,    376.3,2,     2.54,2,     0.00,2,     0.00,2,     0.64,2,     0.03,2,   -999.0,9,   -999.0,9,  -999.00,9,  -999.00,  -999.00,9,  -999.00,  -999.00,9,  -999.00,  -999.00,9,        -999,         -999,9,  -999.00,  -999.00,9,       -999,9,        -999,9,   -999.0,9,   -999.0,9,   -999.0,9,        0,2,      -999,9,     0.04,2,     0.03,2,  -0.6623
  32H120020718,    33,  2,     11,2,20020814, 73.4972,-159.5480, 2251,     16.5,  -0.9209,  28.8363,2,  28.7540,2,    380.4,2,    395.3,2,     2.90,2,     0.00,2,     0.00,2,     0.70,2,     0.12,2,   1929.1,2,   2076.1,2,  -999.00,9,  -999.00,  -999.00,9,  -999.00,  -999.00,9,  -999.00,  -999.00,9,        -999,         -999,9,  -999.00,  -999.00,9, 19.4018499,2,  3.16665746,2,     76.5,2,      3.2,2,      3.3,2,     0.14,2,      -999,9,     0.05,2,     0.03,2,  -0.9212
  32H120020718,    33,  5,      7,2,20020814, 73.4972,-159.5480, 2251,     23.3,  -0.8557,  29.0482,2,-999.0000,9,    384.1,2,   -999.0,9,  -999.00,9,  -999.00,9,  -999.00,9,  -999.00,9,     -999,9,   -999.0,9,   -999.0,9,  -999.00,9,  -999.00,  -999.00,9,  -999.00,  -999.00,9,  -999.00,  -999.00,9,        -999,         -999,9,  -999.00,  -999.00,9,       -999,9,        -999,9,   -999.0,9,   -999.0,9,   -999.0,9,     -999,9,      -999,9,  -999.00,9,  -999.00,9,  -0.8561
  32H120020718,    33,  5,      8,2,20020814, 73.4972,-159.5480, 2251,     23.3,  -0.8752,  29.0050,2,-999.0000,9,    383.3,2,    394.9,2,     2.82,2,     0.00,2,     0.00,2,     0.69,2,        0,2,   -999.0,9,   -999.0,9,  -999.00,9,  -999.00,  -999.00,9,  -999.00,  -999.00,9,  -999.00,  -999.00,9,        -999,         -999,9,  -999.00,  -999.00,9,       -999,9,        -999,9,   -999.0,9,   -999.0,9,   -999.0,9,        0,2,      -999,9,     0.06,2,     0.03,2,  -0.8756
  32H120020718,    33,  2,     10,2,20020814, 73.4972,-159.5480, 2251,     31.6,  -0.8599,  30.7715,2,  30.6531,2,    387.1,2,    401.3,2,     5.24,2,     0.00,2,     0.00,2,     0.79,2,     0.02,2,   2040.7,2,   2242.2,2,  -999.00,9,  -999.00,  -999.00,9,  -999.00,  -999.00,9,  -999.00,  -999.00,9,        -999,         -999,9,  -999.00,  -999.00,9, 20.4317244,2,  3.86705457,2,     71.1,2,      3.9,2,      3.9,2,     0.01,2,      -999,9,     0.09,2,     0.07,2,  -0.8605
  32H120020718,    33,  5,      6,2,20020814, 73.4972,-159.5480, 2251,     35.7,  -0.7282,  31.2057,2,-999.0000,9,    381.7,2,    396.4,2,     6.06,2,     0.04,2,     0.03,2,     0.85,2,     0.02,2,   -999.0,9,   -999.0,9,  -999.00,9,  -999.00,  -999.00,9,  -999.00,  -999.00,9,  -999.00,  -999.00,9,        -999,         -999,9,  -999.00,  -999.00,9,       -999,9,        -999,9,   -999.0,9,   -999.0,9,   -999.0,9,        0,2,      -999,9,     0.37,2,     0.23,2,  -0.7290
  32H120020718,    33,  6,     12,2,20020814, 73.4972,-159.5480, 2251,     37.8,  -0.6732,  31.2606,2,-999.0000,9,    381.1,2,   -999.0,9,  -999.00,9,  -999.00,9,  -999.00,9,  -999.00,9,     -999,9,   -999.0,9,   -999.0,9,  -999.00,9,  -999.00,  -999.00,9,  -999.00,  -999.00,9,  -999.00,  -999.00,9,        -999,         -999,9,  -999.00,  -999.00,9,       -999,9,        -999,9,   -999.0,9,   -999.0,9,   -999.0,9,     -999,9,      -999,9,  -999.00,9,  -999.00,9,  -0.6741
  32H120020718,    33,  2,      9,2,20020814, 73.4972,-159.5480, 2251,     50.7,  -1.1085,  31.8795,2,  31.8686,2,    335.8,2,    350.1,2,    13.99,2,     4.94,2,     0.19,2,     1.20,2,     0.02,2,   2106.1,2,   2281.6,2,  -999.00,9,  -999.00,  -999.00,9,  -999.00,  -999.00,9,  -999.00,  -999.00,9,        -999,         -999,9,  -999.00,  -999.00,9, 28.7663471,2,  6.03497099,2,     67.7,2,      4.3,2,      9.5,2,     0.01,2,      -999,9,     0.32,2,     0.54,2,  -1.1095
  32H120020718,    33,  3,      7,2,20020814, 73.4972,-159.5480, 2251,     53.1,  -0.9914,  31.9945,2,-999.0000,9,    331.3,2,   -999.0,9,  -999.00,9,  -999.00,9,  -999.00,9,  -999.00,9,     -999,9,   -999.0,9,   -999.0,9,  -999.00,9,     2.46,     0.11,2,     7.60,     0.17,2,     5.57,     0.60,2, 0.697651595, 0.0764549693,2,     1.51,     0.39,2,       -999,9,        -999,9,   -999.0,9,   -999.0,9,   -999.0,9,     -999,9,      -999,9,  -999.00,9,  -999.00,9,  -0.9926
  32H120020718,    33,  3,      9,2,20020814, 73.4972,-159.5480, 2251,     53.1,  -0.9929,  31.9943,2,-999.0000,9,    331.3,2,   -999.0,9,  -999.00,9,  -999.00,9,  -999.00,9,  -999.00,9,     -999,9,   -999.0,9,   -999.0,9,  -999.00,9,     2.46,     0.11,2,     7.60,     0.17,2,     5.57,     0.60,2, 0.697652582, 0.0764550775,2,     1.51,     0.39,2,       -999,9,        -999,9,   -999.0,9,   -999.0,9,   -999.0,9,     -999,9,      -999,9,  -999.00,9,  -999.00,9,  -0.9941
  32H120020718,    33,  3,      8,2,20020814, 73.4972,-159.5480, 2251,     53.1,  -0.9930,  31.9946,2,-999.0000,9,    331.0,2,   -999.0,9,  -999.00,9,  -999.00,9,  -999.00,9,  -999.00,9,     -999,9,   -999.0,9,   -999.0,9,  -999.00,9,     2.45,     0.11,2,     7.59,     0.17,2,     5.57,     0.60,2, 0.697307517, 0.0764172621,2,     1.51,     0.39,2,       -999,9,        -999,9,   -999.0,9,   -999.0,9,   -999.0,9,     -999,9,      -999,9,  -999.00,9,  -999.00,9,  -0.9942
  32H120020718,    33,  3,     12,2,20020814, 73.4972,-159.5480, 2251,     53.2,  -0.9814,  31.9928,2,-999.0000,9,    332.6,2,   -999.0,9,  -999.00,9,  -999.00,9,  -999.00,9,  -999.00,9,     -999,9,   -999.0,9,   -999.0,9,  -999.00,9,     2.45,     0.11,2,     7.59,     0.17,2,     5.57,     0.60,2,  0.69730705,  0.076417211,2,     1.51,     0.39,2,       -999,9,        -999,9,   -999.0,9,   -999.0,9,   -999.0,9,     -999,9,      -999,9,  -999.00,9,  -999.00,9,  -0.9826
  32H120020718,    33,  3,     11,2,20020814, 73.4972,-159.5480, 2251,     53.2,  -0.9815,  31.9930,2,-999.0000,9,    331.3,2,   -999.0,9,  -999.00,9,  -999.00,9,  -999.00,9,  -999.00,9,     -999,9,   -999.0,9,   -999.0,9,  -999.00,9,     2.45,     0.11,2,     7.59,     0.17,2,     5.57,     0.60,2, 0.697304869,  0.076416972,2,     1.51,     0.39,2,       -999,9,        -999,9,   -999.0,9,   -999.0,9,   -999.0,9,     -999,9,      -999,9,  -999.00,9,  -999.00,9,  -0.9827
  32H120020718,    33,  3,     10,2,20020814, 73.4972,-159.5480, 2251,     53.2,  -0.9849,  31.9934,2,-999.0000,9,    331.5,2,   -999.0,9,    14.05,2,     6.11,2,     0.08,2,     1.27,2,        0,2,   -999.0,9,   -999.0,9,  -999.00,9,     2.45,     0.11,2,     7.59,     0.17,2,     5.57,     0.60,2, 0.697302844, 0.0764167501,2,     1.51,     0.39,2,       -999,9,        -999,9,   -999.0,9,   -999.0,9,   -999.0,9,     0.01,2,      -999,9,  -999.00,9,  -999.00,9,  -0.9861
  32H120020718,    33,  5,      4,2,20020814, 73.4972,-159.5480, 2251,     55.5,  -1.1174,  31.9804,2,-999.0000,9,    334.3,2,   -999.0,9,  -999.00,9,  -999.00,9,  -999.00,9,  -999.00,9,     -999,9,   -999.0,9,   -999.0,9,  -999.00,9,  -999.00,  -999.00,9,  -999.00,  -999.00,9,  -999.00,  -999.00,9,        -999,         -999,9,  -999.00,  -999.00,9,       -999,9,        -999,9,   -999.0,9,   -999.0,9,   -999.0,9,     -999,9,      -999,9,  -999.00,9,  -999.00,9,  -1.1186
  32H120020718,    33,  5,      5,2,20020814, 73.4972,-159.5480, 2251,     55.6,  -1.1374,  31.9840,2,-999.0000,9,    333.4,2,    346.5,2,    13.95,2,     5.19,2,     0.10,2,     1.25,2,     0.01,2,   -999.0,9,   -999.0,9,  -999.00,9,  -999.00,  -999.00,9,  -999.00,  -999.00,9,  -999.00,  -999.00,9,        -999,         -999,9,  -999.00,  -999.00,9,       -999,9,        -999,9,   -999.0,9,   -999.0,9,   -999.0,9,     0.01,2,      -999,9,     0.37,2,     0.49,2,  -1.1386
  32H120020718,    33,  2,      8,2,20020814, 73.4972,-159.5480, 2251,     70.9,  -1.2544,  32.2893,2,  32.2724,2,    307.6,2,    320.2,2,    19.22,2,     8.98,2,     0.02,2,     1.46,2,        0,2,   2143.5,2,   2291.7,2,  -999.00,9,  -999.00,  -999.00,9,  -999.00,  -999.00,9,  -999.00,  -999.00,9,        -999,         -999,9,  -999.00,  -999.00,9, 16.1046847,2,  3.10946569,2,     63.8,2,      3.1,2,     12.0,2,     0.01,2,      -999,9,     0.12,2,     0.12,2,  -1.2558
  32H120020718,    33,  6,     11,2,20020814, 73.4972,-159.5480, 2251,     82.2,  -1.3337,  32.4179,2,-999.0000,9,    298.1,2,   -999.0,9,  -999.00,9,  -999.00,9,  -999.00,9,  -999.00,9,     -999,9,   -999.0,9,   -999.0,9,  -999.00,9,  -999.00,  -999.00,9,  -999.00,  -999.00,9,  -999.00,  -999.00,9,        -999,         -999,9,  -999.00,  -999.00,9,       -999,9,        -999,9,   -999.0,9,   -999.0,9,   -999.0,9,     -999,9,      -999,9,  -999.00,9,  -999.00,9,  -1.3354
  32H120020718,    33,  2,      7,2,20020814, 73.4972,-159.5480, 2251,     91.1,  -1.4211,  32.5419,2,  32.5406,2,    290.1,2,    301.1,2,    25.95,2,    11.82,2,     0.00,2,     1.64,2,        0,2,   2163.1,2,   2284.2,2,  -999.00,9,  -999.00,  -999.00,9,  -999.00,  -999.00,9,  -999.00,  -999.00,9,        -999,         -999,9,  -999.00,  -999.00,9, 15.4562383,2,  2.44406238,2,     64.1,2,      4.0,2,     15.8,2,     0.02,2,      -999,9,     0.04,2,     0.04,2,  -1.4229
  32H120020718,    33,  5,      3,2,20020814, 73.4972,-159.5480, 2251,    102.3,  -1.4818,  32.7026,2,-999.0000,9,    285.1,2,   -999.0,9,  -999.00,9,  -999.00,9,  -999.00,9,  -999.00,9,     -999,9,   -999.0,9,   -999.0,9,  -999.00,9,  -999.00,  -999.00,9,  -999.00,  -999.00,9,  -999.00,  -999.00,9,        -999,         -999,9,  -999.00,  -999.00,9,       -999,9,        -999,9,   -999.0,9,   -999.0,9,   -999.0,9,     -999,9,      -999,9,  -999.00,9,  -999.00,9,  -1.4838
  32H120020718,    33,  2,      6,2,20020814, 73.4972,-159.5480, 2251,    111.1,  -1.5398,  32.7884,2,  32.7954,2,    283.4,2,    295.2,2,    30.63,2,    13.44,2,     0.00,2,     1.74,2,        0,2,   -999.0,9,   -999.0,9,  -999.00,9,  -999.00,  -999.00,9,  -999.00,  -999.00,9,  -999.00,  -999.00,9,        -999,         -999,9,  -999.00,  -999.00,9,       -999,9,        -999,9,     61.5,2,      2.6,2,     16.1,2,     0.01,2,      -999,9,     0.01,2,     0.03,2,  -1.5419
  32H120020718,    33,  2,      5,2,20020814, 73.4972,-159.5480, 2251,    136.7,  -1.5452,  33.0572,2,  33.0600,2,    274.1,2,    285.5,2,    33.51,2,    14.97,2,     0.00,2,     1.82,2,        0,2,   2206.0,2,   2304.4,2,  -999.00,9,  -999.00,  -999.00,9,  -999.00,  -999.00,9,  -999.00,  -999.00,9,        -999,         -999,9,  -999.00,  -999.00,9, 10.1438153,2,   2.2672099,2,     59.5,2,      3.4,2,     18.4,2,     0.01,2,      -999,9,     0.01,2,     0.02,2,  -1.5479
  32H120020718,    33,  4,      8,2,20020814, 73.4972,-159.5480, 2251,    145.4,  -1.5357,  33.1735,2,-999.0000,9,    277.8,2,   -999.0,9,  -999.00,9,  -999.00,9,  -999.00,9,  -999.00,9,     -999,9,   -999.0,9,   -999.0,9,  -999.00,9,     1.95,     0.11,2,     8.04,     0.46,2,     6.03,     1.20,2, 0.717186536,  0.152999794,2,     0.92,     0.75,2,       -999,9,        -999,9,   -999.0,9,   -999.0,9,   -999.0,9,     -999,9,      -999,9,  -999.00,9,  -999.00,9,  -1.5387
  32H120020718,    33,  4,      7,2,20020814, 73.4972,-159.5480, 2251,    145.4,  -1.5360,  33.1724,2,-999.0000,9,    277.5,2,   -999.0,9,  -999.00,9,  -999.00,9,  -999.00,9,  -999.00,9,     -999,9,   -999.0,9,   -999.0,9,  -999.00,9,     1.95,     0.11,2,     8.04,     0.46,2,     6.03,     1.20,2, 0.716773346,  0.152911647,2,     0.92,     0.75,2,       -999,9,        -999,9,   -999.0,9,   -999.0,9,   -999.0,9,     -999,9,      -999,9,  -999.00,9,  -999.00,9,  -1.5390
  32H120020718,    33,  4,      9,2,20020814, 73.4972,-159.5480, 2251,    145.5,  -1.5354,  33.1743,2,-999.0000,9,    277.4,2,   -999.0,9,  -999.00,9,  -999.00,9,  -999.00,9,  -999.00,9,     -999,9,   -999.0,9,   -999.0,9,  -999.00,9,     1.95,     0.11,2,     8.04,     0.46,2,     6.03,     1.20,2, 0.716770409,  0.152911021,2,     0.92,     0.75,2,       -999,9,        -999,9,   -999.0,9,   -999.0,9,   -999.0,9,     -999,9,      -999,9,  -999.00,9,  -999.00,9,  -1.5384
  32H120020718,    33,  4,     10,2,20020814, 73.4972,-159.5480, 2251,    145.5,  -1.5355,  33.1740,2,-999.0000,9,    277.5,2,   -999.0,9,  -999.00,9,  -999.00,9,  -999.00,9,  -999.00,9,     -999,9,   -999.0,9,   -999.0,9,  -999.00,9,     1.95,     0.11,2,     8.03,     0.46,2,     6.03,     1.20,2, 0.716387037,  0.152829235,2,     0.92,     0.75,2,       -999,9,        -999,9,   -999.0,9,   -999.0,9,   -999.0,9,     -999,9,      -999,9,  -999.00,9,  -999.00,9,  -1.5385
  32H120020718,    33,  4,     11,2,20020814, 73.4972,-159.5480, 2251,    145.5,  -1.5357,  33.1733,2,-999.0000,9,    277.5,2,   -999.0,9,  -999.00,9,  -999.00,9,  -999.00,9,  -999.00,9,     -999,9,   -999.0,9,   -999.0,9,  -999.00,9,     1.95,     0.11,2,     8.03,     0.46,2,     6.03,     1.20,2, 0.716133932,  0.152775239,2,     0.92,     0.75,2,       -999,9,        -999,9,   -999.0,9,   -999.0,9,   -999.0,9,     -999,9,      -999,9,  -999.00,9,  -999.00,9,  -1.5387
  32H120020718,    33,  4,     12,2,20020814, 73.4972,-159.5480, 2251,    145.5,  -1.5360,  33.1716,2,-999.0000,9,    278.1,2,   -999.0,9,    32.00,2,    14.37,2,  -999.00,5,     1.76,2,        0,2,   -999.0,9,   -999.0,9,  -999.00,9,     1.95,     0.11,2,     8.02,     0.46,2,     6.02,     1.20,2,  0.71564155,  0.152670197,2,     0.92,     0.75,2,       -999,9,        -999,9,   -999.0,9,   -999.0,9,   -999.0,9,     0.01,2,      -999,9,  -999.00,9,  -999.00,9,  -1.5390
  32H120020718,    33,  5,      2,2,20020814, 73.4972,-159.5480, 2251,    149.9,  -1.5356,  33.1778,2,-999.0000,9,    274.1,2,   -999.0,9,  -999.00,9,  -999.00,9,  -999.00,9,  -999.00,9,     -999,9,   -999.0,9,   -999.0,9,  -999.00,9,  -999.00,  -999.00,9,  -999.00,  -999.00,9,  -999.00,  -999.00,9,        -999,         -999,9,  -999.00,  -999.00,9,       -999,9,        -999,9,   -999.0,9,   -999.0,9,   -999.0,9,     -999,9,      -999,9,  -999.00,9,  -999.00,9,  -1.5387
  32H120020718,    33,  6,      5,2,20020814, 73.4972,-159.5480, 2251,    160.7,  -1.5062,  33.3110,2,-999.0000,9,    275.1,2,   -999.0,9,  -999.00,9,  -999.00,9,  -999.00,9,  -999.00,9,     -999,9,   -999.0,9,   -999.0,9,  -999.00,9,  -999.00,  -999.00,9,  -999.00,  -999.00,9,  -999.00,  -999.00,9,        -999,         -999,9,  -999.00,  -999.00,9,       -999,9,        -999,9,   -999.0,9,   -999.0,9,   -999.0,9,     -999,9,      -999,9,  -999.00,9,  -999.00,9,  -1.5096
  32H120020718,    33,  6,      6,2,20020814, 73.4972,-159.5480, 2251,    161.0,  -1.5051,  33.3138,2,-999.0000,9,    275.7,2,   -999.0,9,  -999.00,9,  -999.00,9,  -999.00,9,  -999.00,9,     -999,9,   -999.0,9,   -999.0,9,  -999.00,9,  -999.00,  -999.00,9,  -999.00,  -999.00,9,  -999.00,  -999.00,9,        -999,         -999,9,  -999.00,  -999.00,9,       -999,9,        -999,9,   -999.0,9,   -999.0,9,   -999.0,9,     -999,9,      -999,9,  -999.00,9,  -999.00,9,  -1.5085
  32H120020718,    33,  6,      7,2,20020814, 73.4972,-159.5480, 2251,    161.2,  -1.5054,  33.3144,2,-999.0000,9,    275.8,2,   -999.0,9,  -999.00,9,  -999.00,9,  -999.00,9,  -999.00,9,     -999,9,   -999.0,9,   -999.0,9,  -999.00,9,  -999.00,  -999.00,9,  -999.00,  -999.00,9,  -999.00,  -999.00,9,        -999,         -999,9,  -999.00,  -999.00,9,       -999,9,        -999,9,   -999.0,9,   -999.0,9,   -999.0,9,     -999,9,      -999,9,  -999.00,9,  -999.00,9,  -1.5088
  32H120020718,    33,  2,      4,2,20020814, 73.4972,-159.5480, 2251,    161.6,  -1.4597,  33.4156,2,  33.4273,2,    270.0,2,    280.6,2,    33.28,2,    15.18,2,     0.01,2,     1.76,2,        0,2,   -999.0,9,   -999.0,9,  -999.00,9,  -999.00,  -999.00,9,  -999.00,  -999.00,9,  -999.00,  -999.00,9,        -999,         -999,9,  -999.00,  -999.00,9,       -999,9,        -999,9,     59.8,2,      4.0,2,     19.2,2,     0.02,2,      -999,9,     0.00,2,     0.04,2,  -1.4632
  32H120020718,    33,  6,      8,2,20020814, 73.4972,-159.5480, 2251,    161.3,  -1.5054,  33.3138,2,-999.0000,9,    275.9,2,   -999.0,9,  -999.00,9,  -999.00,9,  -999.00,9,  -999.00,9,     -999,9,   -999.0,9,   -999.0,9,  -999.00,9,  -999.00,  -999.00,9,  -999.00,  -999.00,9,  -999.00,  -999.00,9,        -999,         -999,9,  -999.00,  -999.00,9,       -999,9,        -999,9,   -999.0,9,   -999.0,9,   -999.0,9,     -999,9,      -999,9,  -999.00,9,  -999.00,9,  -1.5088
  32H120020718,    33,  6,      9,2,20020814, 73.4972,-159.5480, 2251,    161.4,  -1.5050,  33.3149,2,-999.0000,9,    275.8,2,   -999.0,9,  -999.00,9,  -999.00,9,  -999.00,9,  -999.00,9,     -999,9,   -999.0,9,   -999.0,9,  -999.00,9,  -999.00,  -999.00,9,  -999.00,  -999.00,9,  -999.00,  -999.00,9,        -999,         -999,9,  -999.00,  -999.00,9,       -999,9,        -999,9,   -999.0,9,   -999.0,9,   -999.0,9,     -999,9,      -999,9,  -999.00,9,  -999.00,9,  -1.5084
  32H120020718,    33,  6,     10,2,20020814, 73.4972,-159.5480, 2251,    161.5,  -1.5041,  33.3176,2,-999.0000,9,    275.9,2,   -999.0,9,  -999.00,9,  -999.00,9,  -999.00,9,  -999.00,9,     -999,9,   -999.0,9,   -999.0,9,  -999.00,9,  -999.00,  -999.00,9,  -999.00,  -999.00,9,  -999.00,  -999.00,9,        -999,         -999,9,  -999.00,  -999.00,9,       -999,9,        -999,9,   -999.0,9,   -999.0,9,   -999.0,9,     -999,9,      -999,9,  -999.00,9,  -999.00,9,  -1.5075