BOTTLE,20090202PRINUNIVRMK
EXPOCODE,STNNBR,CASTNO,BTLNBR,BTLNBR_FLAG_W,DATE,LATITUDE,LONGITUDE,DEPTH,CTDPRS,CTDTMP,CTDSAL,CTDSAL_FLAG_W,SALNTY,SALNTY_FLAG_W,CTDOXY,CTDOXY_FLAG_W,OXYGEN,OXYGEN_FLAG_W,SILCAT,SILCAT_FLAG_W,NITRAT,NITRAT_FLAG_W,NITRIT,NITRIT_FLAG_W,PHSPHT,PHSPHT_FLAG_W,AMMONI,AMMONI_FLAG_W,TCARBN,TCARBN_FLAG_W,ALKALI,ALKALI_FLAG_W,DELO18,DELO18_FLAG_W,RA-224,RA-224E,RA-224_FLAG_W,RA-226,RA-226E,RA-226_FLAG_W,RA-228,RA-228E,RA-228_FLAG_W,RA-8/6,RA-8/6E,RA-8/6_FLAG_W,TH-228,TH-228E,TH-228_FLAG_W,POC,POC_FLAG_W,PON,PON_FLAG_W,DOC,DOC_FLAG_W,DON,DON_FLAG_W,TDN,TDN_FLAG_W,UREA,UREA_FLAG_W,LIGNIN,LIGNIN_FLAG_W,CHLORA,CHLORA_FLAG_W,PHAEO,PHAEO_FLAG_W,THETA
,,,,,,,,METERS,DBARS,ITS-90,PSS-78,,PSS-78,,UMOL/KG,,UMOL/KG,,UMOL/KG,,UMOL/KG,,UMOL/KG,,UMOL/KG,,UMOL/KG,,UMOL/KG,,UMOL/KG,,O/OO,,DPM/100KG,DPM/100KG,,DPM/100KG,DPM/100KG,,DPM/100KG,DPM/100KG,,,,,DPM/100KG,DPM/100KG,,ug/kg,,ug/kg,,UMOL/KG,,UMOL/KG,,UMOL/KG,,UMOL/KG,,NG/KG,,UG/L,,UG/L,,DEGC
  32H120020718,    21,  2,      5,2,20020802, 71.6472,-152.3960,  451,    302.1,   0.3740,  34.7167,2,  34.7167,2,    274.9,2,    280.2,2,    12.57,2,    12.92,2,     0.07,2,     1.07,2,     0.24,2,   2162.6,2,   2316.8,2,  -999.00,9,  -999.00,  -999.00,9,  -999.00,  -999.00,9,  -999.00,  -999.00,9,        -999,         -999,9,  -999.00,  -999.00,9, 22.5465458,2,  4.12865179,2,     50.8,2,      2.7,2,     15.9,2,     0.04,2,      -999,9,  -999.00,9,  -999.00,9,   0.3616
  32H120020718,    21,  2,      4,2,20020802, 71.6472,-152.3960,  451,    350.5,   0.5455,  34.8087,2,  34.8078,2,    283.4,2,   -999.0,5,     9.22,2,    12.69,2,     0.05,2,     0.97,2,     0.16,2,   2151.0,2,   2307.5,2,  -999.00,9,  -999.00,  -999.00,9,  -999.00,  -999.00,9,  -999.00,  -999.00,9,        -999,         -999,9,  -999.00,  -999.00,9, 18.1433825,2,  3.17192305,2,     50.3,2,      2.3,2,     15.2,2,     0.01,2,      -999,9,  -999.00,9,  -999.00,9,   0.5304
  32H120020718,    21,  2,      3,2,20020802, 71.6472,-152.3960,  451,    376.1,   0.5803,  34.8268,2,  34.8239,2,    286.3,2,   -999.0,5,     8.27,2,    12.65,2,     0.04,2,     0.93,2,     0.06,2,   2150.2,2,   2320.5,2,  -999.00,9,  -999.00,  -999.00,9,  -999.00,  -999.00,9,  -999.00,  -999.00,9,        -999,         -999,9,  -999.00,  -999.00,9, 13.5854142,2,  2.46919251,2,     51.0,2,      2.7,2,     15.4,2,        0,2,      -999,9,  -999.00,9,  -999.00,9,   0.5638
  32H120020718,    21,  2,      2,2,20020802, 71.6472,-152.3960,  451,    400.1,   0.5816,  34.8302,2,  34.8322,2,    287.3,2,    293.1,2,     7.51,2,    12.61,2,     0.03,2,     0.91,2,     0.01,2,   2147.1,2,   2321.4,2,  -999.00,9,  -999.00,  -999.00,9,  -999.00,  -999.00,9,  -999.00,  -999.00,9,        -999,         -999,9,  -999.00,  -999.00,9,  8.9202561,2,  1.60056924,2,     49.0,2,      3.3,2,     16.0,2,        0,2,      -999,9,  -999.00,9,  -999.00,9,   0.5640
  32H120020718,    21,  2,      1,2,20020802, 71.6472,-152.3960,  451,    416.3,   0.5733,  34.8320,2,  34.8316,2,    287.5,2,    293.8,2,     7.52,2,    12.65,2,     0.03,2,     0.91,2,        0,2,   2146.6,2,   2324.5,2,  -999.00,9,  -999.00,  -999.00,9,  -999.00,  -999.00,9,  -999.00,  -999.00,9,        -999,         -999,9,  -999.00,  -999.00,9,  10.559874,2,  2.46916613,2,     48.4,2,      3.6,2,     16.2,2,        0,2,      -999,9,  -999.00,9,  -999.00,9,   0.5550
  32H120020718,    22,  1,     12,2,20020803, 71.5625,-152.4000,  163,      1.7,  -0.2093,  25.0192,2,  21.9669,2,    365.4,2,    378.3,2,     7.05,2,     0.04,2,     0.01,2,     0.41,2,     0.04,2,   1430.2,2,   1565.5,2,  -999.00,9,  -999.00,  -999.00,9,  -999.00,  -999.00,9,  -999.00,  -999.00,9,        -999,         -999,9,  -999.00,  -999.00,9, 151.155383,2,  26.3191554,2,     63.4,2,      4.9,2,      5.0,2,     0.02,2,      -999,9,     0.74,2,     0.38,2,  -0.2093
  32H120020718,    22,  3,     11,2,20020803, 71.5625,-152.4000,  163,      2.0,  -0.3599,  26.4799,2,  18.6257,2,    363.4,2,    377.5,2,     7.26,2,     0.04,2,     0.02,2,     0.43,2,     0.15,2,   -999.0,9,   -999.0,9,  -999.00,9,  -999.00,  -999.00,9,  -999.00,  -999.00,9,  -999.00,  -999.00,9,        -999,         -999,9,  -999.00,  -999.00,9,       -999,9,        -999,9,   -999.0,9,   -999.0,9,   -999.0,9,     0.04,2,      -999,9,     0.81,2,     0.52,2,  -0.3599
  32H120020718,    22,  3,     12,2,20020803, 71.5625,-152.4000,  163,      2.0,  -0.3614,  26.3190,2,-999.0000,9,    362.3,2,   -999.0,9,  -999.00,9,  -999.00,9,  -999.00,9,  -999.00,9,     -999,9,   -999.0,9,   -999.0,9,  -999.00,9,  -999.00,  -999.00,9,  -999.00,  -999.00,9,  -999.00,  -999.00,9,        -999,         -999,9,  -999.00,  -999.00,9,       -999,9,        -999,9,   -999.0,9,   -999.0,9,   -999.0,9,     -999,9,      -999,9,  -999.00,9,  -999.00,9,  -0.3614
  32H120020718,    22,  3,     10,2,20020803, 71.5625,-152.4000,  163,      3.9,  -0.1585,  27.0605,2,-999.0000,9,    362.7,2,    368.7,2,     7.79,2,     0.05,2,     0.01,2,     0.49,2,     0.13,2,   -999.0,9,   -999.0,9,  -999.00,9,  -999.00,  -999.00,9,  -999.00,  -999.00,9,  -999.00,  -999.00,9,        -999,         -999,9,  -999.00,  -999.00,9,       -999,9,        -999,9,   -999.0,9,   -999.0,9,   -999.0,9,     0.01,2,      -999,9,     0.43,2,     0.32,2,  -0.1586
  32H120020718,    22,  3,      9,2,20020803, 71.5625,-152.4000,  163,      6.1,  -0.2312,  27.4667,2,-999.0000,9,    370.8,2,    373.4,2,     8.09,2,     0.05,2,     0.01,2,     0.52,2,     0.13,2,   -999.0,9,   -999.0,9,  -999.00,9,  -999.00,  -999.00,9,  -999.00,  -999.00,9,  -999.00,  -999.00,9,        -999,         -999,9,  -999.00,  -999.00,9,       -999,9,        -999,9,   -999.0,9,   -999.0,9,   -999.0,9,     0.01,2,      -999,9,     0.46,2,     0.34,2,  -0.2313
  32H120020718,    22, 99,      1,9,20020803, 71.5625,-152.4000,  163,      8.1,-999.0000,-999.0000,9,-999.0000,9,   -999.0,9,   -999.0,9,  -999.00,9,  -999.00,9,  -999.00,9,  -999.00,9,     -999,9,   -999.0,9,   -999.0,9,  -999.00,9,     0.68,     0.06,2,     4.55,     0.16,2,     5.23,     0.86,2,  1.09904371,  0.181581135,2,     0.13,     0.39,2,       -999,9,        -999,9,   -999.0,9,   -999.0,9,   -999.0,9,     -999,9,      -999,9,  -999.00,9,  -999.00,9,-999.0000
  32H120020718,    22,  3,      8,2,20020803, 71.5625,-152.4000,  163,      8.8,  -0.2437,  27.9470,2,-999.0000,9,    376.4,2,    382.4,2,     8.28,2,     0.05,2,     0.01,2,     0.55,2,     0.17,2,   -999.0,9,   -999.0,9,  -999.00,9,  -999.00,  -999.00,9,  -999.00,  -999.00,9,  -999.00,  -999.00,9,        -999,         -999,9,  -999.00,  -999.00,9,       -999,9,        -999,9,   -999.0,9,   -999.0,9,   -999.0,9,     0.02,2,      -999,9,     0.54,2,     0.36,2,  -0.2439
  32H120020718,    22,  3,      7,2,20020803, 71.5625,-152.4000,  163,      8.8,  -0.2565,  27.9474,2,-999.0000,9,    376.4,2,   -999.0,9,  -999.00,9,  -999.00,9,  -999.00,9,  -999.00,9,     -999,9,   -999.0,9,   -999.0,9,  -999.00,9,  -999.00,  -999.00,9,  -999.00,  -999.00,9,  -999.00,  -999.00,9,        -999,         -999,9,  -999.00,  -999.00,9,       -999,9,        -999,9,   -999.0,9,   -999.0,9,   -999.0,9,     -999,9,      -999,9,  -999.00,9,  -999.00,9,  -0.2567
  32H120020718,    22,  4,     12,2,20020803, 71.5625,-152.4000,  163,      9.1,   0.2488,  27.8267,2,-999.0000,9,    366.8,2,   -999.0,9,     8.35,2,     0.06,2,     0.00,2,     0.51,2,     0.18,2,   -999.0,9,   -999.0,9,  -999.00,9,  -999.00,  -999.00,9,  -999.00,  -999.00,9,  -999.00,  -999.00,9,        -999,         -999,9,  -999.00,  -999.00,9,       -999,9,        -999,9,   -999.0,9,   -999.0,9,   -999.0,9,     0.03,2,      -999,9,  -999.00,9,  -999.00,9,   0.2486
  32H120020718,    22,  4,     11,2,20020803, 71.5625,-152.4000,  163,      9.1,   0.3541,  27.9897,2,-999.0000,9,    367.0,2,   -999.0,9,  -999.00,9,  -999.00,9,  -999.00,9,  -999.00,9,     -999,9,   -999.0,9,   -999.0,9,  -999.00,9,  -999.00,  -999.00,9,  -999.00,  -999.00,9,  -999.00,  -999.00,9,        -999,         -999,9,  -999.00,  -999.00,9,       -999,9,        -999,9,   -999.0,9,   -999.0,9,   -999.0,9,     -999,9,      -999,9,  -999.00,9,  -999.00,9,   0.3539
  32H120020718,    22,  1,     11,2,20020803, 71.5625,-152.4000,  163,     10.3,  -0.2473,  27.4282,2,  27.7728,2,    368.3,2,    379.0,2,     8.18,2,     0.04,2,     0.01,2,     0.54,2,     0.09,2,   1784.3,2,   1965.6,2,  -999.00,9,  -999.00,  -999.00,9,  -999.00,  -999.00,9,  -999.00,  -999.00,9,        -999,         -999,9,  -999.00,  -999.00,9, 76.8499203,2,  15.6289761,2,     77.2,2,      5.6,2,      5.8,2,     0.02,2,      -999,9,     0.52,2,     0.35,2,  -0.2475
  32H120020718,    22,  3,      6,2,20020803, 71.5625,-152.4000,  163,     13.3,  -0.5032,  28.6443,2,-999.0000,9,    389.1,2,    391.0,2,     7.89,2,     0.05,2,     0.02,2,     0.60,2,     0.18,2,   -999.0,9,   -999.0,9,  -999.00,9,  -999.00,  -999.00,9,  -999.00,  -999.00,9,  -999.00,  -999.00,9,        -999,         -999,9,  -999.00,  -999.00,9,       -999,9,        -999,9,   -999.0,9,   -999.0,9,   -999.0,9,     0.02,2,      -999,9,     1.57,2,     0.86,2,  -0.5035
  32H120020718,    22,  1,     10,2,20020803, 71.5625,-152.4000,  163,     20.6,  -1.1090,  29.7783,2,  29.8665,2,    445.4,2,    441.4,2,    10.19,2,     0.18,2,     0.01,2,     0.70,2,     0.15,2,   1892.9,2,   2106.2,2,  -999.00,9,  -999.00,  -999.00,9,  -999.00,  -999.00,9,  -999.00,  -999.00,9,        -999,         -999,9,  -999.00,  -999.00,9, 73.6542115,2,  15.4772626,2,     67.3,2,      5.4,2,      5.8,2,     0.01,2,      -999,9,     0.63,2,     0.40,2,  -1.1093
  32H120020718,    22,  3,      4,2,20020803, 71.5625,-152.4000,  163,     20.1,  -0.1219,  29.0590,2,-999.0000,9,    376.9,2,   -999.0,9,  -999.00,9,  -999.00,9,  -999.00,9,  -999.00,9,     -999,9,   -999.0,9,   -999.0,9,  -999.00,9,  -999.00,  -999.00,9,  -999.00,  -999.00,9,  -999.00,  -999.00,9,        -999,         -999,9,  -999.00,  -999.00,9,       -999,9,        -999,9,   -999.0,9,   -999.0,9,   -999.0,9,     -999,9,      -999,9,  -999.00,9,  -999.00,9,  -0.1224
  32H120020718,    22,  3,      5,2,20020803, 71.5625,-152.4000,  163,     20.1,  -0.2900,  29.0174,2,-999.0000,9,    379.2,2,    393.6,2,     9.14,2,     0.10,2,     0.02,2,     0.62,2,      0.4,2,   -999.0,9,   -999.0,9,  -999.00,9,  -999.00,  -999.00,9,  -999.00,  -999.00,9,  -999.00,  -999.00,9,        -999,         -999,9,  -999.00,  -999.00,9,       -999,9,        -999,9,   -999.0,9,   -999.0,9,   -999.0,9,     0.01,2,      -999,9,     0.76,2,     0.50,2,  -0.2904
  32H120020718,    22,  4,      5,2,20020803, 71.5625,-152.4000,  163,     20.9,  -0.7139,  29.8937,2,-999.0000,9,    410.6,2,   -999.0,9,  -999.00,9,  -999.00,9,  -999.00,9,  -999.00,9,     -999,9,   -999.0,9,   -999.0,9,  -999.00,9,  -999.00,  -999.00,9,  -999.00,  -999.00,9,  -999.00,  -999.00,9,        -999,         -999,9,  -999.00,  -999.00,9,       -999,9,        -999,9,   -999.0,9,   -999.0,9,   -999.0,9,     -999,9,      -999,9,  -999.00,9,  -999.00,9,  -0.7143
  32H120020718,    22,  4,      4,2,20020803, 71.5625,-152.4000,  163,     20.9,  -0.7637,  29.8934,2,-999.0000,9,    414.7,2,   -999.0,9,    10.22,2,     0.11,2,     0.00,2,     0.70,2,     0.19,2,   -999.0,9,   -999.0,9,  -999.00,9,  -999.00,  -999.00,9,  -999.00,  -999.00,9,  -999.00,  -999.00,9,        -999,         -999,9,  -999.00,  -999.00,9,       -999,9,        -999,9,   -999.0,9,   -999.0,9,   -999.0,9,        0,2,      -999,9,  -999.00,9,  -999.00,9,  -0.7641
  32H120020718,    22,  4,      6,2,20020803, 71.5625,-152.4000,  163,     20.9,  -0.8262,  29.9047,2,-999.0000,9,    405.8,2,   -999.0,9,  -999.00,9,  -999.00,9,  -999.00,9,  -999.00,9,     -999,9,   -999.0,9,   -999.0,9,  -999.00,9,  -999.00,  -999.00,9,  -999.00,  -999.00,9,  -999.00,  -999.00,9,        -999,         -999,9,  -999.00,  -999.00,9,       -999,9,        -999,9,   -999.0,9,   -999.0,9,   -999.0,9,     -999,9,      -999,9,  -999.00,9,  -999.00,9,  -0.8266
  32H120020718,    22,  4,      7,2,20020803, 71.5625,-152.4000,  163,     20.9,  -1.0371,  29.9251,2,-999.0000,9,    438.7,2,   -999.0,9,  -999.00,9,  -999.00,9,  -999.00,9,  -999.00,9,     -999,9,   -999.0,9,   -999.0,9,  -999.00,9,  -999.00,  -999.00,9,  -999.00,  -999.00,9,  -999.00,  -999.00,9,        -999,         -999,9,  -999.00,  -999.00,9,       -999,9,        -999,9,   -999.0,9,   -999.0,9,   -999.0,9,     -999,9,      -999,9,  -999.00,9,  -999.00,9,  -1.0375
  32H120020718,    22,  4,     10,2,20020803, 71.5625,-152.4000,  163,     20.9,  -1.2453,  29.9903,2,-999.0000,9,    454.0,2,   -999.0,9,    10.13,2,     0.11,2,     0.00,2,     0.69,2,     0.26,2,   -999.0,9,   -999.0,9,  -999.00,9,  -999.00,  -999.00,9,  -999.00,  -999.00,9,  -999.00,  -999.00,9,        -999,         -999,9,  -999.00,  -999.00,9,       -999,9,        -999,9,   -999.0,9,   -999.0,9,   -999.0,9,     0.01,2,      -999,9,  -999.00,9,  -999.00,9,  -1.2456
  32H120020718,    22,  4,      8,2,20020803, 71.5625,-152.4000,  163,     20.9,  -1.2472,  29.9910,2,-999.0000,9,    448.2,2,   -999.0,9,  -999.00,9,  -999.00,9,  -999.00,9,  -999.00,9,     -999,9,   -999.0,9,   -999.0,9,  -999.00,9,  -999.00,  -999.00,9,  -999.00,  -999.00,9,  -999.00,  -999.00,9,        -999,         -999,9,  -999.00,  -999.00,9,       -999,9,        -999,9,   -999.0,9,   -999.0,9,   -999.0,9,     -999,9,      -999,9,  -999.00,9,  -999.00,9,  -1.2475
  32H120020718,    22,  4,      9,2,20020803, 71.5625,-152.4000,  163,     20.9,  -1.2885,  30.0270,2,-999.0000,9,    457.8,2,   -999.0,9,  -999.00,9,  -999.00,9,  -999.00,9,  -999.00,9,     -999,9,   -999.0,9,   -999.0,9,  -999.00,9,  -999.00,  -999.00,9,  -999.00,  -999.00,9,  -999.00,  -999.00,9,        -999,         -999,9,  -999.00,  -999.00,9,       -999,9,        -999,9,   -999.0,9,   -999.0,9,   -999.0,9,     -999,9,      -999,9,  -999.00,9,  -999.00,9,  -1.2888
  32H120020718,    22,  1,      9,2,20020803, 71.5625,-152.4000,  163,     35.9,  -1.3852,  31.6308,2,  31.6637,2,    376.8,2,    389.5,2,    17.60,2,     1.97,2,     0.07,2,     1.06,2,     0.96,2,   2059.5,2,   2223.3,2,  -999.00,9,  -999.00,  -999.00,9,  -999.00,  -999.00,9,  -999.00,  -999.00,9,        -999,         -999,9,  -999.00,  -999.00,9, 105.163194,2,  22.1478456,2,     69.6,2,      4.7,2,      7.7,2,     0.08,2,      -999,9,     1.33,2,     0.86,2,  -1.3858
  32H120020718,    22,  3,      3,2,20020803, 71.5625,-152.4000,  163,     41.1,  -1.5497,  31.6634,2,-999.0000,9,    412.6,2,    366.7,2,    23.06,2,     4.47,2,     0.09,2,     1.29,2,     0.85,2,   -999.0,9,   -999.0,9,  -999.00,9,  -999.00,  -999.00,9,  -999.00,  -999.00,9,  -999.00,  -999.00,9,        -999,         -999,9,  -999.00,  -999.00,9,       -999,9,        -999,9,   -999.0,9,   -999.0,9,   -999.0,9,     0.06,2,      -999,9,     4.40,2,     2.00,2,  -1.5504
  32H120020718,    22,  4,      3,2,20020803, 71.5625,-152.4000,  163,     41.4,  -1.5321,  31.7353,2,-999.0000,9,    376.9,2,   -999.0,9,    20.19,2,     1.89,2,     0.06,2,     1.13,2,     0.78,2,   -999.0,9,   -999.0,9,  -999.00,9,  -999.00,  -999.00,9,  -999.00,  -999.00,9,  -999.00,  -999.00,9,        -999,         -999,9,  -999.00,  -999.00,9,       -999,9,        -999,9,   -999.0,9,   -999.0,9,   -999.0,9,     0.08,2,      -999,9,  -999.00,9,  -999.00,9,  -1.5328
  32H120020718,    22,  4,      2,2,20020803, 71.5625,-152.4000,  163,     41.4,  -1.5322,  31.7352,2,-999.0000,9,    377.3,2,   -999.0,9,  -999.00,9,  -999.00,9,  -999.00,9,  -999.00,9,     -999,9,   -999.0,9,   -999.0,9,  -999.00,9,  -999.00,  -999.00,9,  -999.00,  -999.00,9,  -999.00,  -999.00,9,        -999,         -999,9,  -999.00,  -999.00,9,       -999,9,        -999,9,   -999.0,9,   -999.0,9,   -999.0,9,     -999,9,      -999,9,  -999.00,9,  -999.00,9,  -1.5329
  32H120020718,    22,  4,      1,2,20020803, 71.5625,-152.4000,  163,     41.5,  -1.5281,  31.7387,2,-999.0000,9,    376.5,2,   -999.0,9,    20.28,2,     1.99,2,     0.06,2,     1.13,2,     0.79,2,   -999.0,9,   -999.0,9,  -999.00,9,  -999.00,  -999.00,9,  -999.00,  -999.00,9,  -999.00,  -999.00,9,        -999,         -999,9,  -999.00,  -999.00,9,       -999,9,        -999,9,   -999.0,9,   -999.0,9,   -999.0,9,     0.08,2,      -999,9,  -999.00,9,  -999.00,9,  -1.5288
  32H120020718,    22,  1,      8,2,20020803, 71.5625,-152.4000,  163,     51.2,  -1.5454,  32.1887,2,  32.1927,2,    339.0,2,    347.8,2,    25.83,2,     6.50,2,     0.11,2,     1.43,2,     2.14,2,   2116.0,2,   2245.7,2,  -999.00,9,  -999.00,  -999.00,9,  -999.00,  -999.00,9,  -999.00,  -999.00,9,        -999,         -999,9,  -999.00,  -999.00,9, 103.430177,2,  22.0120219,2,     64.6,2,      5.7,2,     14.4,2,     0.13,2,      -999,9,     1.12,2,     0.97,2,  -1.5463
  32H120020718,    22,  2,      8,2,20020803, 71.5625,-152.4000,  163,     62.0,  -1.5603,  32.2466,2,-999.0000,9,    334.6,2,   -999.0,9,  -999.00,9,  -999.00,9,  -999.00,9,  -999.00,9,     -999,9,   -999.0,9,   -999.0,9,  -999.00,9,     1.30,     0.10,2,    11.99,     0.35,2,    11.13,     1.06,2,  0.89070737, 0.0861974875,2,     0.50,     0.56,2,       -999,9,        -999,9,   -999.0,9,   -999.0,9,   -999.0,9,     -999,9,      -999,9,  -999.00,9,  -999.00,9,  -1.5614
  32H120020718,    22,  2,     12,2,20020803, 71.5625,-152.4000,  163,     62.0,  -1.5607,  32.2468,2,-999.0000,9,    334.6,2,   -999.0,9,  -999.00,9,  -999.00,9,  -999.00,9,  -999.00,9,     -999,9,   -999.0,9,   -999.0,9,  -999.00,9,     1.30,     0.10,2,    11.98,     0.35,2,    11.11,     1.06,2, 0.889574252, 0.0860878308,2,     0.50,     0.56,2,       -999,9,        -999,9,   -999.0,9,   -999.0,9,   -999.0,9,     -999,9,      -999,9,  -999.00,9,  -999.00,9,  -1.5618
  32H120020718,    22,  2,     10,2,20020803, 71.5625,-152.4000,  163,     62.1,  -1.5599,  32.2466,2,-999.0000,9,    334.7,2,   -999.0,9,  -999.00,9,  -999.00,9,  -999.00,9,  -999.00,9,     -999,9,   -999.0,9,   -999.0,9,  -999.00,9,     1.30,     0.10,2,    11.98,     0.35,2,    11.11,     1.06,2,  0.88957445,   0.08608785,2,     0.50,     0.56,2,       -999,9,        -999,9,   -999.0,9,   -999.0,9,   -999.0,9,     -999,9,      -999,9,  -999.00,9,  -999.00,9,  -1.5610
  32H120020718,    22,  2,      7,2,20020803, 71.5625,-152.4000,  163,     62.1,  -1.5609,  32.2462,2,-999.0000,9,    334.3,2,   -999.0,9,    27.96,2,     6.93,2,     0.12,2,     1.51,2,     2.47,2,   -999.0,9,   -999.0,9,  -999.00,9,     1.30,     0.10,2,    11.98,     0.35,2,    11.11,     1.06,2, 0.889572396, 0.0860876512,2,     0.50,     0.56,2,       -999,9,        -999,9,   -999.0,9,   -999.0,9,   -999.0,9,     0.16,2,      -999,9,  -999.00,9,  -999.00,9,  -1.5620
  32H120020718,    22,  2,      9,2,20020803, 71.5625,-152.4000,  163,     62.1,  -1.5609,  32.2465,2,-999.0000,9,    334.6,2,   -999.0,9,  -999.00,9,  -999.00,9,  -999.00,9,  -999.00,9,     -999,9,   -999.0,9,   -999.0,9,  -999.00,9,     1.31,     0.10,2,    12.06,     0.36,2,    11.19,     1.07,2, 0.895581775,  0.086669204,2,     0.50,     0.56,2,       -999,9,        -999,9,   -999.0,9,   -999.0,9,   -999.0,9,     -999,9,      -999,9,  -999.00,9,  -999.00,9,  -1.5620
  32H120020718,    22,  2,     11,2,20020803, 71.5625,-152.4000,  163,     62.1,  -1.5612,  32.2468,2,-999.0000,9,    334.8,2,   -999.0,9,  -999.00,9,  -999.00,9,  -999.00,9,  -999.00,9,     -999,9,   -999.0,9,   -999.0,9,  -999.00,9,     1.30,     0.10,2,    12.02,     0.36,2,    11.15,     1.07,2, 0.892606563, 0.0863812803,2,     0.50,     0.56,2,       -999,9,        -999,9,   -999.0,9,   -999.0,9,   -999.0,9,     -999,9,      -999,9,  -999.00,9,  -999.00,9,  -1.5623