BOTTLE,20090202PRINUNIVRMK
EXPOCODE,STNNBR,CASTNO,BTLNBR,BTLNBR_FLAG_W,DATE,LATITUDE,LONGITUDE,DEPTH,CTDPRS,CTDTMP,CTDSAL,CTDSAL_FLAG_W,SALNTY,SALNTY_FLAG_W,CTDOXY,CTDOXY_FLAG_W,OXYGEN,OXYGEN_FLAG_W,SILCAT,SILCAT_FLAG_W,NITRAT,NITRAT_FLAG_W,NITRIT,NITRIT_FLAG_W,PHSPHT,PHSPHT_FLAG_W,AMMONI,AMMONI_FLAG_W,TCARBN,TCARBN_FLAG_W,ALKALI,ALKALI_FLAG_W,DELO18,DELO18_FLAG_W,RA-224,RA-224E,RA-224_FLAG_W,RA-226,RA-226E,RA-226_FLAG_W,RA-228,RA-228E,RA-228_FLAG_W,RA-8/6,RA-8/6E,RA-8/6_FLAG_W,TH-228,TH-228E,TH-228_FLAG_W,POC,POC_FLAG_W,PON,PON_FLAG_W,DOC,DOC_FLAG_W,DON,DON_FLAG_W,TDN,TDN_FLAG_W,UREA,UREA_FLAG_W,LIGNIN,LIGNIN_FLAG_W,CHLORA,CHLORA_FLAG_W,PHAEO,PHAEO_FLAG_W,THETA
,,,,,,,,METERS,DBARS,ITS-90,PSS-78,,PSS-78,,UMOL/KG,,UMOL/KG,,UMOL/KG,,UMOL/KG,,UMOL/KG,,UMOL/KG,,UMOL/KG,,UMOL/KG,,UMOL/KG,,O/OO,,DPM/100KG,DPM/100KG,,DPM/100KG,DPM/100KG,,DPM/100KG,DPM/100KG,,,,,DPM/100KG,DPM/100KG,,ug/kg,,ug/kg,,UMOL/KG,,UMOL/KG,,UMOL/KG,,UMOL/KG,,NG/KG,,UG/L,,UG/L,,DEGC
  32H120020718,    14,  4,     10,2,20020723, 71.8291,-155.0160,  281,     52.0,  -1.4709,  32.3283,2,-999.0000,9,    315.8,2,   -999.0,9,  -999.00,9,  -999.00,9,  -999.00,9,  -999.00,9,     -999,9,   -999.0,9,   -999.0,9,  -999.00,9,     1.13,     0.07,2,    12.57,     1.44,2,     6.97,     0.93,2, 0.525242216, 0.0954985847,2,     1.37,     0.09,2,       -999,9,        -999,9,   -999.0,9,   -999.0,9,   -999.0,9,     -999,9,      -999,9,  -999.00,9,  -999.00,9,  -1.4719
  32H120020718,    14,  4,      9,2,20020723, 71.8291,-155.0160,  281,     52.0,  -1.4712,  32.3284,2,-999.0000,9,    316.2,2,   -999.0,9,  -999.00,9,  -999.00,9,  -999.00,9,  -999.00,9,     -999,9,   -999.0,9,   -999.0,9,  -999.00,9,     1.13,     0.07,2,    12.57,     1.44,2,     6.97,     0.93,2, 0.525244445,   0.09549899,2,     1.37,     0.09,2,       -999,9,        -999,9,   -999.0,9,   -999.0,9,   -999.0,9,     -999,9,      -999,9,  -999.00,9,  -999.00,9,  -1.4722
  32H120020718,    14,  4,      8,2,20020723, 71.8291,-155.0160,  281,     52.0,  -1.4721,  32.3279,2,-999.0000,9,    316.5,2,   -999.0,9,  -999.00,9,  -999.00,9,  -999.00,9,  -999.00,9,     -999,9,   -999.0,9,   -999.0,9,  -999.00,9,     1.13,     0.07,2,    12.57,     1.44,2,     6.97,     0.93,2, 0.525244602, 0.0954990185,2,     1.37,     0.09,2,       -999,9,        -999,9,   -999.0,9,   -999.0,9,   -999.0,9,     -999,9,      -999,9,  -999.00,9,  -999.00,9,  -1.4731
  32H120020718,    14,  4,     11,2,20020723, 71.8291,-155.0160,  281,     52.0,  -1.4724,  32.3279,2,-999.0000,9,    316.7,2,   -999.0,9,  -999.00,9,  -999.00,9,  -999.00,9,  -999.00,9,     -999,9,   -999.0,9,   -999.0,9,  -999.00,9,     1.13,     0.07,2,    12.57,     1.44,2,     6.97,     0.93,2, 0.525245775, 0.0954992318,2,     1.37,     0.09,2,       -999,9,        -999,9,   -999.0,9,   -999.0,9,   -999.0,9,     -999,9,      -999,9,  -999.00,9,  -999.00,9,  -1.4734
  32H120020718,    14,  4,      7,2,20020723, 71.8291,-155.0160,  281,     52.0,  -1.4726,  32.3282,2,-999.0000,9,    316.5,2,   -999.0,9,  -999.00,9,  -999.00,9,  -999.00,9,  -999.00,9,     -999,9,   -999.0,9,   -999.0,9,  -999.00,9,     1.13,     0.07,2,    12.56,     1.44,2,     6.97,     0.93,2, 0.524871597, 0.0954311995,2,     1.36,     0.09,2,       -999,9,        -999,9,   -999.0,9,   -999.0,9,   -999.0,9,     -999,9,      -999,9,  -999.00,9,  -999.00,9,  -1.4736
  32H120020718,    14,  4,     12,2,20020723, 71.8291,-155.0160,  281,     52.0,  -1.4746,  32.3276,2,-999.0000,9,    316.5,2,   -999.0,9,  -999.00,9,  -999.00,9,  -999.00,9,  -999.00,9,     -999,9,   -999.0,9,   -999.0,9,  -999.00,9,     1.13,     0.07,2,    12.56,     1.44,2,     6.97,     0.93,2, 0.524871871, 0.0954312492,2,     1.36,     0.09,2,       -999,9,        -999,9,   -999.0,9,   -999.0,9,   -999.0,9,     -999,9,      -999,9,  -999.00,9,  -999.00,9,  -1.4756
  32H120020718,    14,  2,      7,2,20020723, 71.8291,-155.0160,  281,     91.0,  -1.6455,  33.0296,2,  33.0034,2,    294.9,2,    305.1,2,    38.67,2,    12.84,2,     0.13,2,     1.77,2,     0.03,2,   2199.4,2,   2281.5,2,    -1.43,2,  -999.00,  -999.00,9,  -999.00,  -999.00,9,  -999.00,  -999.00,9,        -999,         -999,9,  -999.00,  -999.00,9, 49.2944664,2,  9.93900164,2,     68.2,2,      3.9,2,     16.8,2,     0.07,2,      -999,9,     0.69,2,     1.53,2,  -1.6472
  32H120020718,    14,  1,      2,2,20020723, 71.8291,-155.0160,  281,    101.1,  -1.7253,  33.2355,2,-999.0000,9,    286.8,2,   -999.0,9,  -999.00,9,  -999.00,9,  -999.00,9,  -999.00,9,     -999,9,   -999.0,9,   -999.0,9,  -999.00,9,  -999.00,  -999.00,9,  -999.00,  -999.00,9,  -999.00,  -999.00,9,        -999,         -999,9,  -999.00,  -999.00,9,       -999,9,        -999,9,   -999.0,9,   -999.0,9,   -999.0,9,     -999,9,      -999,9,  -999.00,9,  -999.00,9,  -1.7272
  32H120020718,    14,  1,      3,2,20020723, 71.8291,-155.0160,  281,    101.1,  -1.7255,  33.2353,2,-999.0000,9,    286.7,2,    293.4,2,    48.30,2,    14.01,2,     0.19,2,     1.98,2,     2.56,2,   -999.0,9,   -999.0,9,  -999.00,9,  -999.00,  -999.00,9,  -999.00,  -999.00,9,  -999.00,  -999.00,9,        -999,         -999,9,  -999.00,  -999.00,9,       -999,9,        -999,9,   -999.0,9,   -999.0,9,   -999.0,9,     0.04,2,      -999,9,  -999.00,9,  -999.00,9,  -1.7274
  32H120020718,    14,  4,      5,2,20020723, 71.8291,-155.0160,  281,    121.5,  -1.6324,  33.4214,2,-999.0000,9,    292.1,2,   -999.0,9,  -999.00,9,  -999.00,9,  -999.00,9,  -999.00,9,     -999,9,   -999.0,9,   -999.0,9,  -999.00,9,     1.02,     0.08,2,    10.58,     0.22,2,     9.98,     1.28,2, 0.896323846,  0.114424321,2,     0.70,     0.06,2,       -999,9,        -999,9,   -999.0,9,   -999.0,9,   -999.0,9,     -999,9,      -999,9,  -999.00,9,  -999.00,9,  -1.6348
  32H120020718,    14,  4,      6,2,20020723, 71.8291,-155.0160,  281,    121.5,  -1.6386,  33.4191,2,-999.0000,9,    293.4,2,   -999.0,9,  -999.00,9,  -999.00,9,  -999.00,9,  -999.00,9,     -999,9,   -999.0,9,   -999.0,9,  -999.00,9,     1.02,     0.08,2,    10.58,     0.22,2,     9.98,     1.28,2, 0.896325181,  0.114424491,2,     0.70,     0.06,2,       -999,9,        -999,9,   -999.0,9,   -999.0,9,   -999.0,9,     -999,9,      -999,9,  -999.00,9,  -999.00,9,  -1.6410
  32H120020718,    14,  4,      4,2,20020723, 71.8291,-155.0160,  281,    121.5,  -1.6461,  33.4217,2,-999.0000,9,    292.6,2,   -999.0,9,  -999.00,9,  -999.00,9,  -999.00,9,  -999.00,9,     -999,9,   -999.0,9,   -999.0,9,  -999.00,9,     1.02,     0.08,2,    10.58,     0.22,2,     9.98,     1.28,2, 0.896323179,  0.114424236,2,     0.70,     0.06,2,       -999,9,        -999,9,   -999.0,9,   -999.0,9,   -999.0,9,     -999,9,      -999,9,  -999.00,9,  -999.00,9,  -1.6485
  32H120020718,    14,  4,      3,2,20020723, 71.8291,-155.0160,  281,    121.5,  -1.6552,  33.4221,2,-999.0000,9,    292.7,2,   -999.0,9,  -999.00,9,  -999.00,9,  -999.00,9,  -999.00,9,     -999,9,   -999.0,9,   -999.0,9,  -999.00,9,     1.02,     0.08,2,    10.60,     0.22,2,    10.00,     1.28,2, 0.897956179,  0.114632704,2,     0.70,     0.06,2,       -999,9,        -999,9,   -999.0,9,   -999.0,9,   -999.0,9,     -999,9,      -999,9,  -999.00,9,  -999.00,9,  -1.6576
  32H120020718,    14,  4,      2,2,20020723, 71.8291,-155.0160,  281,    121.5,  -1.6598,  33.4221,2,-999.0000,9,    292.9,2,   -999.0,9,  -999.00,9,  -999.00,9,  -999.00,9,  -999.00,9,     -999,9,   -999.0,9,   -999.0,9,  -999.00,9,     1.02,     0.08,2,    10.60,     0.22,2,    10.00,     1.28,2, 0.897956112,  0.114632695,2,     0.70,     0.06,2,       -999,9,        -999,9,   -999.0,9,   -999.0,9,   -999.0,9,     -999,9,      -999,9,  -999.00,9,  -999.00,9,  -1.6622
  32H120020718,    14,  4,      1,2,20020723, 71.8291,-155.0160,  281,    121.5,  -1.6693,  33.4223,2,-999.0000,9,    291.9,2,   -999.0,9,  -999.00,9,  -999.00,9,  -999.00,9,  -999.00,9,     -999,9,   -999.0,9,   -999.0,9,  -999.00,9,     1.02,     0.08,2,    10.60,     0.22,2,    10.00,     1.28,2, 0.897956313,  0.114632721,2,     0.70,     0.06,2,       -999,9,        -999,9,   -999.0,9,   -999.0,9,   -999.0,9,     -999,9,      -999,9,  -999.00,9,  -999.00,9,  -1.6717
  32H120020718,    14,  2,      6,2,20020723, 71.8291,-155.0160,  281,    123.0,  -1.7486,  33.4177,2,  33.4082,2,    283.1,2,    292.0,2,    49.18,2,    14.60,2,     0.21,2,     2.03,2,     1.18,2,   2231.4,2,   2296.4,2,    -1.20,2,  -999.00,  -999.00,9,  -999.00,  -999.00,9,  -999.00,  -999.00,9,        -999,         -999,9,  -999.00,  -999.00,9, 49.0939738,2,  9.47683512,2,     68.0,2,      2.3,2,     18.3,2,     0.09,2,      -999,9,     0.70,2,     1.19,2,  -1.7509
  32H120020718,    14,  3,      9,2,20020723, 71.8291,-155.0160,  281,    150.4,  -1.4316,  33.8252,2,-999.0000,9,    295.6,2,   -999.0,9,  -999.00,9,  -999.00,9,  -999.00,9,  -999.00,9,     -999,9,   -999.0,9,   -999.0,9,  -999.00,9,  -999.00,  -999.00,9,  -999.00,  -999.00,9,  -999.00,  -999.00,9,        -999,         -999,9,  -999.00,  -999.00,9,       -999,9,        -999,9,   -999.0,9,   -999.0,9,   -999.0,9,     -999,9,      -999,9,  -999.00,9,  -999.00,9,  -1.4350
  32H120020718,    14,  3,     10,2,20020723, 71.8291,-155.0160,  281,    150.4,  -1.4334,  33.8194,2,-999.0000,9,    295.5,2,   -999.0,9,  -999.00,9,  -999.00,9,  -999.00,9,  -999.00,9,     -999,9,   -999.0,9,   -999.0,9,  -999.00,9,  -999.00,  -999.00,9,  -999.00,  -999.00,9,  -999.00,  -999.00,9,        -999,         -999,9,  -999.00,  -999.00,9,       -999,9,        -999,9,   -999.0,9,   -999.0,9,   -999.0,9,     -999,9,      -999,9,  -999.00,9,  -999.00,9,  -1.4368
  32H120020718,    14,  3,     11,2,20020723, 71.8291,-155.0160,  281,    150.4,  -1.4334,  33.8195,2,-999.0000,9,    295.5,2,   -999.0,9,    32.36,2,    14.13,2,     0.13,2,     1.58,2,     0.41,2,   -999.0,9,   -999.0,9,  -999.00,9,  -999.00,  -999.00,9,  -999.00,  -999.00,9,  -999.00,  -999.00,9,        -999,         -999,9,  -999.00,  -999.00,9,       -999,9,        -999,9,   -999.0,9,   -999.0,9,   -999.0,9,     0.11,2,      -999,9,  -999.00,9,  -999.00,9,  -1.4368
  32H120020718,    14,  3,     12,2,20020723, 71.8291,-155.0160,  281,    150.4,  -1.4341,  33.8165,2,-999.0000,9,    295.7,2,   -999.0,9,  -999.00,9,  -999.00,9,  -999.00,9,  -999.00,9,     -999,9,   -999.0,9,   -999.0,9,  -999.00,9,  -999.00,  -999.00,9,  -999.00,  -999.00,9,  -999.00,  -999.00,9,        -999,         -999,9,  -999.00,  -999.00,9,       -999,9,        -999,9,   -999.0,9,   -999.0,9,   -999.0,9,     -999,9,      -999,9,  -999.00,9,  -999.00,9,  -1.4375
  32H120020718,    14,  2,      5,2,20020723, 71.8291,-155.0160,  281,    191.6,  -0.3586,  34.5011,2,  34.5052,2,    275.7,2,    282.4,2,    17.06,2,    12.85,2,     0.05,2,     1.11,2,     1.57,2,   -999.0,5,   2309.3,2,  -999.00,9,  -999.00,  -999.00,9,  -999.00,  -999.00,9,  -999.00,  -999.00,9,        -999,         -999,9,  -999.00,  -999.00,9, 17.1712649,2,  2.91881533,2,     63.0,2,      2.1,2,     16.6,2,     0.06,2,      -999,9,     0.19,2,     0.36,2,  -0.3650
  32H120020718,    14,  1,      1,2,20020723, 71.8291,-155.0160,  281,    201.3,   0.6248,  34.7775,2,-999.0000,9,    284.1,2,   -999.0,5,     8.84,2,    12.48,2,     0.01,2,     0.90,2,     0.01,2,   -999.0,9,   -999.0,9,  -999.00,9,  -999.00,  -999.00,9,  -999.00,  -999.00,9,  -999.00,  -999.00,9,        -999,         -999,9,  -999.00,  -999.00,9,       -999,9,        -999,9,   -999.0,9,   -999.0,9,   -999.0,9,     0.03,2,      -999,9,  -999.00,9,  -999.00,9,   0.6162
  32H120020718,    14,  2,      4,2,20020723, 71.8291,-155.0160,  281,    256.2,   0.3393,  34.6990,2,  34.7082,2,    277.8,2,    283.0,2,    11.06,2,    12.55,2,     0.02,2,     0.94,2,      3.2,2,   2159.6,2,   2310.0,2,  -999.00,9,  -999.00,  -999.00,9,  -999.00,  -999.00,9,  -999.00,  -999.00,9,        -999,         -999,9,  -999.00,  -999.00,9, 9.28221548,2,  1.61047842,2,     56.7,2,   -999.0,9,   -999.0,9,     0.05,2,      -999,9,     0.12,2,     0.22,2,   0.3289
  32H120020718,    14,  3,      1,2,20020723, 71.8291,-155.0160,  281,    301.5,   0.6179,  34.7734,2,-999.0000,9,    282.6,2,   -999.0,9,  -999.00,9,  -999.00,9,  -999.00,9,  -999.00,9,     -999,9,   -999.0,9,   -999.0,9,  -999.00,9,     0.60,     0.04,2,     8.09,     0.50,2,     1.37,     0.21,2, 0.162100904, 0.0286060419,2,     0.53,     0.05,2,       -999,9,        -999,9,   -999.0,9,   -999.0,9,   -999.0,9,     -999,9,      -999,9,  -999.00,9,  -999.00,9,   0.6048
  32H120020718,    14,  3,      3,2,20020723, 71.8291,-155.0160,  281,    301.6,   0.6136,  34.7733,2,-999.0000,9,    282.7,2,   -999.0,9,  -999.00,9,  -999.00,9,  -999.00,9,  -999.00,9,     -999,9,   -999.0,9,   -999.0,9,  -999.00,9,     0.60,     0.04,2,     8.12,     0.50,2,     1.38,     0.21,2, 0.162770327, 0.0287241754,2,     0.53,     0.05,2,       -999,9,        -999,9,   -999.0,9,   -999.0,9,   -999.0,9,     -999,9,      -999,9,  -999.00,9,  -999.00,9,   0.6005
  32H120020718,    14,  3,      2,2,20020723, 71.8291,-155.0160,  281,    301.6,   0.6147,  34.7730,2,-999.0000,9,    282.7,2,   -999.0,9,  -999.00,9,  -999.00,9,  -999.00,9,  -999.00,9,     -999,9,   -999.0,9,   -999.0,9,  -999.00,9,     0.60,     0.04,2,     8.12,     0.50,2,     1.38,     0.21,2, 0.162751067, 0.0287207765,2,     0.53,     0.05,2,       -999,9,        -999,9,   -999.0,9,   -999.0,9,   -999.0,9,     -999,9,      -999,9,  -999.00,9,  -999.00,9,   0.6016
  32H120020718,    14,  3,      7,2,20020723, 71.8291,-155.0160,  281,    301.7,   0.6096,  34.7721,2,-999.0000,9,    282.6,2,   -999.0,9,  -999.00,9,  -999.00,9,  -999.00,9,  -999.00,9,     -999,9,   -999.0,9,   -999.0,9,  -999.00,9,     0.60,     0.04,2,     8.11,     0.50,2,     1.38,     0.21,2, 0.162648374, 0.0287026542,2,     0.53,     0.05,2,       -999,9,        -999,9,   -999.0,9,   -999.0,9,   -999.0,9,     -999,9,      -999,9,  -999.00,9,  -999.00,9,   0.5966
  32H120020718,    14,  3,      8,2,20020723, 71.8291,-155.0160,  281,    301.7,   0.6101,  34.7721,2,-999.0000,9,    282.6,2,   -999.0,9,  -999.00,9,  -999.00,9,  -999.00,9,  -999.00,9,     -999,9,   -999.0,9,   -999.0,9,  -999.00,9,     0.60,     0.04,2,     8.11,     0.50,2,     1.38,     0.21,2, 0.162588117, 0.0286920207,2,     0.53,     0.05,2,       -999,9,        -999,9,   -999.0,9,   -999.0,9,   -999.0,9,     -999,9,      -999,9,  -999.00,9,  -999.00,9,   0.5971
  32H120020718,    14,  3,      6,2,20020723, 71.8291,-155.0160,  281,    301.7,   0.6111,  34.7725,2,-999.0000,9,    282.6,2,   -999.0,9,  -999.00,9,  -999.00,9,  -999.00,9,  -999.00,9,     -999,9,   -999.0,9,   -999.0,9,  -999.00,9,     0.60,     0.04,2,     8.11,     0.50,2,     1.38,     0.21,2, 0.162589947, 0.0286923436,2,     0.53,     0.05,2,       -999,9,        -999,9,   -999.0,9,   -999.0,9,   -999.0,9,     -999,9,      -999,9,  -999.00,9,  -999.00,9,   0.5980
  32H120020718,    14,  3,      5,2,20020723, 71.8291,-155.0160,  281,    301.7,   0.6120,  34.7728,2,-999.0000,9,    282.6,2,   -999.0,9,  -999.00,9,  -999.00,9,  -999.00,9,  -999.00,9,     -999,9,   -999.0,9,   -999.0,9,  -999.00,9,     0.60,     0.04,2,     8.10,     0.50,2,     1.38,     0.21,2, 0.162477258, 0.0286724573,2,     0.53,     0.05,2,       -999,9,        -999,9,   -999.0,9,   -999.0,9,   -999.0,9,     -999,9,      -999,9,  -999.00,9,  -999.00,9,   0.5989
  32H120020718,    14,  3,      4,2,20020723, 71.8291,-155.0160,  281,    301.7,   0.6127,  34.7732,2,-999.0000,9,    282.6,2,   -999.0,9,     8.70,2,    12.77,2,     0.01,2,     0.89,2,     0.02,2,   -999.0,9,   -999.0,9,  -999.00,9,     0.60,     0.04,2,     8.10,     0.50,2,     1.38,     0.21,2, 0.162375634, 0.0286545236,2,     0.53,     0.05,2,       -999,9,        -999,9,   -999.0,9,   -999.0,9,   -999.0,9,     0.06,2,      -999,9,  -999.00,9,  -999.00,9,   0.5996
  32H120020718,    14,  2,      3,2,20020723, 71.8291,-155.0160,  281,    353.7,   0.5660,  34.7576,2,  34.7602,2,    281.1,2,    286.5,2,     9.23,2,    12.57,2,     0.00,2,     0.90,2,        0,2,   2155.1,2,   2305.6,2,  -999.00,9,  -999.00,  -999.00,9,  -999.00,  -999.00,9,  -999.00,  -999.00,9,        -999,         -999,9,  -999.00,  -999.00,9, 12.2977209,2,   2.3912243,2,     52.5,2,      3.8,2,     16.3,2,     0.06,2,      -999,9,  -999.00,9,  -999.00,9,   0.5507
  32H120020718,    14,  2,      2,2,20020723, 71.8291,-155.0160,  281,    452.2,   0.6438,  34.8187,2,  34.8190,2,    286.2,2,    292.3,2,     8.22,2,    12.38,2,     0.00,2,     0.87,2,        0,2,   2149.6,2,   2301.6,2,  -999.00,9,  -999.00,  -999.00,9,  -999.00,  -999.00,9,  -999.00,  -999.00,9,        -999,         -999,9,  -999.00,  -999.00,9, 10.2964397,2,  1.73722003,2,     50.8,2,   -999.0,9,   -999.0,9,     0.07,2,      -999,9,  -999.00,9,  -999.00,9,   0.6235
  32H120020718,    14,  2,      1,2,20020723, 71.8291,-155.0160,  281,    600.7,   0.6242,  34.8260,2,  34.8269,2,    285.7,2,    292.4,2,     8.42,2,    12.36,2,     0.03,2,     0.88,2,     0.05,2,   2149.9,2,   2311.6,2,  -999.00,9,  -999.00,  -999.00,9,  -999.00,  -999.00,9,  -999.00,  -999.00,9,        -999,         -999,9,  -999.00,  -999.00,9, 15.3225887,2,  2.26423028,2,     50.4,2,      3.8,2,     16.3,2,     0.05,2,      -999,9,  -999.00,9,  -999.00,9,   0.5965