BOTTLE,20090202PRINUNIVRMK
EXPOCODE,STNNBR,CASTNO,BTLNBR,BTLNBR_FLAG_W,DATE,LATITUDE,LONGITUDE,DEPTH,CTDPRS,CTDTMP,CTDSAL,CTDSAL_FLAG_W,SALNTY,SALNTY_FLAG_W,CTDOXY,CTDOXY_FLAG_W,OXYGEN,OXYGEN_FLAG_W,SILCAT,SILCAT_FLAG_W,NITRAT,NITRAT_FLAG_W,NITRIT,NITRIT_FLAG_W,PHSPHT,PHSPHT_FLAG_W,AMMONI,AMMONI_FLAG_W,TCARBN,TCARBN_FLAG_W,ALKALI,ALKALI_FLAG_W,DELO18,DELO18_FLAG_W,RA-224,RA-224E,RA-224_FLAG_W,RA-226,RA-226E,RA-226_FLAG_W,RA-228,RA-228E,RA-228_FLAG_W,RA-8/6,RA-8/6E,RA-8/6_FLAG_W,TH-228,TH-228E,TH-228_FLAG_W,POC,POC_FLAG_W,PON,PON_FLAG_W,DOC,DOC_FLAG_W,DON,DON_FLAG_W,TDN,TDN_FLAG_W,UREA,UREA_FLAG_W,LIGNIN,LIGNIN_FLAG_W,CHLORA,CHLORA_FLAG_W,PHAEO,PHAEO_FLAG_W,THETA
,,,,,,,,METERS,DBARS,ITS-90,PSS-78,,PSS-78,,UMOL/KG,,UMOL/KG,,UMOL/KG,,UMOL/KG,,UMOL/KG,,UMOL/KG,,UMOL/KG,,UMOL/KG,,UMOL/KG,,O/OO,,DPM/100KG,DPM/100KG,,DPM/100KG,DPM/100KG,,DPM/100KG,DPM/100KG,,,,,DPM/100KG,DPM/100KG,,ug/kg,,ug/kg,,UMOL/KG,,UMOL/KG,,UMOL/KG,,UMOL/KG,,NG/KG,,UG/L,,UG/L,,DEGC
  32H120020718,    13,  1,      6,2,20020722, 71.6142,-156.0970,  167,     81.1,  -1.7036,  32.8436,2,  32.8611,2,    260.3,2,    268.2,2,    53.75,3,    13.42,3,     0.20,3,     2.13,3,     2.24,3,   2217.1,2,   2266.4,2,  -999.00,9,  -999.00,  -999.00,9,  -999.00,  -999.00,9,  -999.00,  -999.00,9,        -999,         -999,9,  -999.00,  -999.00,9, 45.2141134,2,  7.44771271,2,     69.3,2,      5.8,2,     21.6,2,     0.02,3,      -999,9,     0.33,2,     0.32,2,  -1.7050
  32H120020718,    13,  4,      9,2,20020722, 71.6142,-156.0970,  167,     81.9,  -1.7042,  32.8294,2,-999.0000,9,    255.4,2,   -999.0,9,  -999.00,9,  -999.00,9,  -999.00,9,  -999.00,9,     -999,9,   -999.0,9,   -999.0,9,  -999.00,9,     1.75,     0.08,2,     9.41,     0.48,2,    12.60,     0.21,2,  1.27865621, 0.0667954736,2,     0.51,     0.06,2,       -999,9,        -999,9,   -999.0,9,   -999.0,9,   -999.0,9,     -999,9,      -999,9,  -999.00,9,  -999.00,9,  -1.7056
  32H120020718,    13,  4,     10,2,20020722, 71.6142,-156.0970,  167,     81.9,  -1.7042,  32.8297,2,-999.0000,9,    255.4,2,   -999.0,9,  -999.00,9,  -999.00,9,  -999.00,9,  -999.00,9,     -999,9,   -999.0,9,   -999.0,9,  -999.00,9,     1.76,     0.08,2,     9.42,     0.48,2,    12.61,     0.21,2,  1.28015217, 0.0668736207,2,     0.51,     0.06,2,       -999,9,        -999,9,   -999.0,9,   -999.0,9,   -999.0,9,     -999,9,      -999,9,  -999.00,9,  -999.00,9,  -1.7056
  32H120020718,    13,  4,      8,2,20020722, 71.6142,-156.0970,  167,     81.9,  -1.7046,  32.8294,2,-999.0000,9,    255.5,2,   -999.0,9,  -999.00,9,  -999.00,9,  -999.00,9,  -999.00,9,     -999,9,   -999.0,9,   -999.0,9,  -999.00,9,     1.76,     0.08,2,     9.42,     0.48,2,    12.61,     0.21,2,  1.28015217, 0.0668736207,2,     0.51,     0.06,2,       -999,9,        -999,9,   -999.0,9,   -999.0,9,   -999.0,9,     -999,9,      -999,9,  -999.00,9,  -999.00,9,  -1.7060
  32H120020718,    13,  4,     12,2,20020722, 71.6142,-156.0970,  167,     81.9,  -1.7046,  32.8304,2,-999.0000,9,    255.2,2,   -999.0,9,    55.31,2,    14.34,2,     0.25,2,     2.16,2,     2.51,2,   -999.0,9,   -999.0,9,  -999.00,9,     1.76,     0.08,2,     9.42,     0.48,2,    12.61,     0.21,2,   1.2801515, 0.0668735859,2,     0.51,     0.06,2,       -999,9,        -999,9,   -999.0,9,   -999.0,9,   -999.0,9,     0.06,2,      -999,9,  -999.00,9,  -999.00,9,  -1.7060
  32H120020718,    13,  4,      7,2,20020722, 71.6142,-156.0970,  167,     81.9,  -1.7047,  32.8295,2,-999.0000,9,    255.4,2,   -999.0,9,  -999.00,9,  -999.00,9,  -999.00,9,  -999.00,9,     -999,9,   -999.0,9,   -999.0,9,  -999.00,9,     1.76,     0.08,2,     9.42,     0.48,2,    12.61,     0.21,2,  1.28015141, 0.0668735809,2,     0.51,     0.06,2,       -999,9,        -999,9,   -999.0,9,   -999.0,9,   -999.0,9,     -999,9,      -999,9,  -999.00,9,  -999.00,9,  -1.7061
  32H120020718,    13,  4,     11,2,20020722, 71.6142,-156.0970,  167,     81.9,  -1.7047,  32.8308,2,-999.0000,9,    255.2,2,   -999.0,9,  -999.00,9,  -999.00,9,  -999.00,9,  -999.00,9,     -999,9,   -999.0,9,   -999.0,9,  -999.00,9,     1.76,     0.08,2,     9.42,     0.48,2,    12.61,     0.21,2,  1.28015102,  0.066873561,2,     0.51,     0.06,2,       -999,9,        -999,9,   -999.0,9,   -999.0,9,   -999.0,9,     -999,9,      -999,9,  -999.00,9,  -999.00,9,  -1.7061
  32H120020718,    13,  1,      5,2,20020722, 71.6142,-156.0970,  167,    101.2,  -1.7551,  33.2134,2,  33.2116,2,    283.4,2,    291.5,2,    50.92,3,    13.82,3,     0.23,3,     2.02,3,     2.54,3,   2219.8,2,   2279.5,2,  -999.00,9,  -999.00,  -999.00,9,  -999.00,  -999.00,9,  -999.00,  -999.00,9,        -999,         -999,9,  -999.00,  -999.00,9, 68.9565201,2,  12.8786486,2,     66.0,2,      5.4,2,     21.9,2,     0.03,3,      -999,9,     0.87,2,     0.75,2,  -1.7569
  32H120020718,    13,  1,      4,2,20020722, 71.6142,-156.0970,  167,    121.4,  -1.7052,  33.3029,2,  33.2937,2,    289.1,2,    295.9,2,    47.00,3,    13.39,3,     0.17,3,     1.94,3,     2.49,3,   2226.2,2,   2296.1,2,  -999.00,9,  -999.00,  -999.00,9,  -999.00,  -999.00,9,  -999.00,  -999.00,9,        -999,         -999,9,  -999.00,  -999.00,9, 48.5900054,2,  8.61780287,2,     68.2,2,      3.7,2,     19.7,2,     0.02,3,      -999,9,     0.37,2,     0.44,2,  -1.7075
  32H120020718,    13,  4,      2,2,20020722, 71.6142,-156.0970,  167,    131.7,  -1.7610,  33.3120,2,-999.0000,9,    280.1,2,   -999.0,9,  -999.00,9,  -999.00,9,  -999.00,9,  -999.00,9,     -999,9,   -999.0,9,   -999.0,9,  -999.00,9,     0.77,     0.06,2,  -999.00,  -999.00,9,  -999.00,  -999.00,9,        -999,         -999,9,     0.46,     0.06,2,       -999,9,        -999,9,   -999.0,9,   -999.0,9,   -999.0,9,     -999,9,      -999,9,  -999.00,9,  -999.00,9,  -1.7634
  32H120020718,    13,  4,      3,2,20020722, 71.6142,-156.0970,  167,    131.7,  -1.7611,  33.3119,2,-999.0000,9,    280.0,2,   -999.0,9,  -999.00,9,  -999.00,9,  -999.00,9,  -999.00,9,     -999,9,   -999.0,9,   -999.0,9,  -999.00,9,     0.77,     0.06,2,  -999.00,  -999.00,9,  -999.00,  -999.00,9,        -999,         -999,9,     0.46,     0.06,2,       -999,9,        -999,9,   -999.0,9,   -999.0,9,   -999.0,9,     -999,9,      -999,9,  -999.00,9,  -999.00,9,  -1.7635
  32H120020718,    13,  4,      4,2,20020722, 71.6142,-156.0970,  167,    131.7,  -1.7611,  33.3122,2,-999.0000,9,    280.1,2,   -999.0,9,  -999.00,9,  -999.00,9,  -999.00,9,  -999.00,9,     -999,9,   -999.0,9,   -999.0,9,  -999.00,9,     0.77,     0.06,2,  -999.00,  -999.00,9,  -999.00,  -999.00,9,        -999,         -999,9,     0.46,     0.06,2,       -999,9,        -999,9,   -999.0,9,   -999.0,9,   -999.0,9,     -999,9,      -999,9,  -999.00,9,  -999.00,9,  -1.7635
  32H120020718,    13,  4,      1,2,20020722, 71.6142,-156.0970,  167,    131.7,  -1.7612,  33.3120,2,-999.0000,9,    280.0,2,   -999.0,9,    51.66,2,    14.48,2,     0.24,2,     2.06,2,     2.62,2,   -999.0,9,   -999.0,9,  -999.00,9,     0.77,     0.06,2,  -999.00,  -999.00,9,  -999.00,  -999.00,9,        -999,         -999,9,     0.46,     0.06,2,       -999,9,        -999,9,   -999.0,9,   -999.0,9,   -999.0,9,     0.08,2,      -999,9,  -999.00,9,  -999.00,9,  -1.7636
  32H120020718,    13,  4,      5,2,20020722, 71.6142,-156.0970,  167,    131.7,  -1.7614,  33.3122,2,-999.0000,9,    280.0,2,   -999.0,9,  -999.00,9,  -999.00,9,  -999.00,9,  -999.00,9,     -999,9,   -999.0,9,   -999.0,9,  -999.00,9,     0.77,     0.06,2,  -999.00,  -999.00,9,  -999.00,  -999.00,9,        -999,         -999,9,     0.46,     0.06,2,       -999,9,        -999,9,   -999.0,9,   -999.0,9,   -999.0,9,     -999,9,      -999,9,  -999.00,9,  -999.00,9,  -1.7638
  32H120020718,    13,  4,      6,2,20020722, 71.6142,-156.0970,  167,    131.7,  -1.7616,  33.3125,2,-999.0000,9,    279.9,2,   -999.0,9,  -999.00,9,  -999.00,9,  -999.00,9,  -999.00,9,     -999,9,   -999.0,9,   -999.0,9,  -999.00,9,     0.78,     0.06,2,  -999.00,  -999.00,9,  -999.00,  -999.00,9,        -999,         -999,9,     0.46,     0.06,2,       -999,9,        -999,9,   -999.0,9,   -999.0,9,   -999.0,9,     -999,9,      -999,9,  -999.00,9,  -999.00,9,  -1.7640
  32H120020718,    13,  1,      3,2,20020722, 71.6142,-156.0970,  167,    140.6,  -1.7609,  33.3303,2,  33.3295,2,    277.5,2,    285.4,2,    52.35,3,    14.35,3,     0.23,3,     2.08,3,     2.87,3,   2229.4,2,   2295.3,2,  -999.00,9,  -999.00,  -999.00,9,  -999.00,  -999.00,9,  -999.00,  -999.00,9,        -999,         -999,9,  -999.00,  -999.00,9, 77.4116676,2,  12.9459019,2,     65.5,2,      4.5,2,     21.9,2,     0.04,3,      -999,9,     1.70,2,     1.95,2,  -1.7635
  32H120020718,    13,  2,      1,2,20020722, 71.6142,-156.0970,  167,    151.1,  -1.7597,  33.3058,2,-999.0000,9,    279.9,2,    288.7,2,    51.37,2,    14.37,2,     0.25,2,     2.04,2,     2.63,2,   -999.0,9,   -999.0,9,  -999.00,9,  -999.00,  -999.00,9,  -999.00,  -999.00,9,  -999.00,  -999.00,9,        -999,         -999,9,  -999.00,  -999.00,9,       -999,9,        -999,9,   -999.0,9,   -999.0,9,   -999.0,9,     0.08,2,      -999,9,  -999.00,9,  -999.00,9,  -1.7625
  32H120020718,    13,  1,      2,2,20020722, 71.6142,-156.0970,  167,    160.7,  -1.7583,  33.3308,2,  33.3273,2,    277.4,2,    285.3,2,    52.46,3,    14.46,3,     0.23,3,     2.09,3,     2.88,3,   2231.2,2,   2298.7,2,  -999.00,9,  -999.00,  -999.00,9,  -999.00,  -999.00,9,  -999.00,  -999.00,9,        -999,         -999,9,  -999.00,  -999.00,9, 86.8695769,2,  14.6948516,2,     69.8,2,      2.9,2,     20.5,2,     0.05,3,      -999,9,     1.92,2,     2.46,2,  -1.7613
  32H120020718,    13,  1,      1,2,20020722, 71.6142,-156.0970,  167,    164.0,  -1.7594,  33.3312,2,  33.3303,2,    277.5,2,    285.4,2,    52.58,3,    14.57,3,     0.23,3,     2.10,3,     2.96,3,   2231.9,2,   2293.8,2,  -999.00,9,  -999.00,  -999.00,9,  -999.00,  -999.00,9,  -999.00,  -999.00,9,        -999,         -999,9,  -999.00,  -999.00,9, 84.7296473,2,  13.4735011,2,     67.8,2,      2.8,2,     20.5,2,     0.26,3,      -999,9,     2.68,2,     3.74,2,  -1.7625
  32H120020718,    13,  3,      1,2,20020722, 71.6142,-156.0970,  167,    176.7,  -0.0788,  34.4073,2,-999.0000,9,    272.0,2,   -999.0,9,    23.23,2,    12.76,2,     0.14,2,     1.35,2,     1.24,2,   -999.0,9,   -999.0,9,  -999.00,9,  -999.00,  -999.00,9,  -999.00,  -999.00,9,  -999.00,  -999.00,9,        -999,         -999,9,  -999.00,  -999.00,9,       -999,9,        -999,9,   -999.0,9,   -999.0,9,   -999.0,9,      0.1,2,      -999,9,  -999.00,9,  -999.00,9,  -0.0851
  32H120020718,    13,  3,      3,2,20020722, 71.6142,-156.0970,  167,    176.7,  -0.0831,  34.4046,2,-999.0000,9,    272.0,2,   -999.0,9,  -999.00,9,  -999.00,9,  -999.00,9,  -999.00,9,     -999,9,   -999.0,9,   -999.0,9,  -999.00,9,  -999.00,  -999.00,9,  -999.00,  -999.00,9,  -999.00,  -999.00,9,        -999,         -999,9,  -999.00,  -999.00,9,       -999,9,        -999,9,   -999.0,9,   -999.0,9,   -999.0,9,     -999,9,      -999,9,  -999.00,9,  -999.00,9,  -0.0894
  32H120020718,    13,  3,      2,2,20020722, 71.6142,-156.0970,  167,    176.7,  -0.0869,  34.4016,2,-999.0000,9,    272.1,2,   -999.0,9,  -999.00,9,  -999.00,9,  -999.00,9,  -999.00,9,     -999,9,   -999.0,9,   -999.0,9,  -999.00,9,  -999.00,  -999.00,9,  -999.00,  -999.00,9,  -999.00,  -999.00,9,        -999,         -999,9,  -999.00,  -999.00,9,       -999,9,        -999,9,   -999.0,9,   -999.0,9,   -999.0,9,     -999,9,      -999,9,  -999.00,9,  -999.00,9,  -0.0932
  32H120020718,    13,  3,      4,2,20020722, 71.6142,-156.0970,  167,    176.7,  -0.0899,  34.4000,2,-999.0000,9,    271.9,2,   -999.0,9,  -999.00,9,  -999.00,9,  -999.00,9,  -999.00,9,     -999,9,   -999.0,9,   -999.0,9,  -999.00,9,  -999.00,  -999.00,9,  -999.00,  -999.00,9,  -999.00,  -999.00,9,        -999,         -999,9,  -999.00,  -999.00,9,       -999,9,        -999,9,   -999.0,9,   -999.0,9,   -999.0,9,     -999,9,      -999,9,  -999.00,9,  -999.00,9,  -0.0962
  32H120020718,    14,  1,     12,2,20020723, 71.8291,-155.0160,  281,      1.9,  -1.2560,  28.8668,2,-999.0000,9,    404.6,2,    404.6,2,     6.35,2,     0.00,2,     0.01,2,     0.33,2,     0.18,2,    949.0,2,   1014.1,2,  -999.00,9,  -999.00,  -999.00,9,  -999.00,  -999.00,9,  -999.00,  -999.00,9,        -999,         -999,9,  -999.00,  -999.00,9,       -999,9,        -999,9,   -999.0,9,   -999.0,9,   -999.0,9,        0,2,      -999,9,     0.56,2,     0.39,2,  -1.2560
  32H120020718,    14,  2,     12,2,20020723, 71.8291,-155.0160,  281,      2.1,  -1.0194,  28.1605,2,  23.1634,2,    393.6,2,    390.1,2,     7.73,2,     0.13,2,     0.01,2,     0.48,2,      0.1,2,   1526.8,2,   1666.3,2,    -1.78,2,  -999.00,  -999.00,9,  -999.00,  -999.00,9,  -999.00,  -999.00,9,        -999,         -999,9,  -999.00,  -999.00,9, 184.856493,2,  33.4428563,2,     67.5,2,      5.6,2,      5.8,2,     0.06,2,      -999,9,     0.38,2,     1.10,2,  -1.0194
  32H120020718,    14,  1,     11,2,20020723, 71.8291,-155.0160,  281,      4.3,  -1.2816,  29.1892,2,-999.0000,9,    406.6,2,    418.6,2,     7.47,2,     0.01,2,     0.01,2,     0.67,2,     0.07,2,   1896.9,2,   2068.5,2,  -999.00,9,  -999.00,  -999.00,9,  -999.00,  -999.00,9,  -999.00,  -999.00,9,        -999,         -999,9,  -999.00,  -999.00,9,       -999,9,        -999,9,   -999.0,9,   -999.0,9,   -999.0,9,     0.07,2,      -999,9,     0.89,2,     0.56,2,  -1.2817
  32H120020718,    14,  1,     10,2,20020723, 71.8291,-155.0160,  281,      6.8,  -1.3197,  29.4896,2,-999.0000,9,    409.5,2,   -999.0,5,     7.36,2,     0.02,2,     0.00,2,     0.66,2,     0.04,2,   1908.3,2,   2083.6,2,  -999.00,9,  -999.00,  -999.00,9,  -999.00,  -999.00,9,  -999.00,  -999.00,9,        -999,         -999,9,  -999.00,  -999.00,9,       -999,9,        -999,9,   -999.0,9,   -999.0,9,   -999.0,9,     0.04,2,      -999,9,     0.73,2,     0.49,2,  -1.3198
  32H120020718,    14, 99,      1,9,20020723, 71.8291,-155.0160,  281,      8.1,-999.0000,-999.0000,9,-999.0000,9,   -999.0,9,   -999.0,9,  -999.00,9,  -999.00,9,  -999.00,9,  -999.00,9,     -999,9,   -999.0,9,   -999.0,9,  -999.00,9,     0.90,     0.06,2,     6.76,     0.58,2,     6.51,     1.27,2, 0.919838807,  0.201214739,2,     0.30,     0.05,2,       -999,9,        -999,9,   -999.0,9,   -999.0,9,   -999.0,9,     -999,9,      -999,9,  -999.00,9,  -999.00,9,-999.0000
  32H120020718,    14,  2,     11,2,20020723, 71.8291,-155.0160,  281,      8.8,  -1.2443,  29.4531,2,  29.3944,2,    396.7,2,    407.9,2,     9.16,2,     0.07,2,     0.02,2,     0.66,2,      0.1,2,   1913.1,2,   2073.1,2,    -2.10,2,  -999.00,  -999.00,9,  -999.00,  -999.00,9,  -999.00,  -999.00,9,        -999,         -999,9,  -999.00,  -999.00,9, 119.099336,2,  23.1653667,2,     78.1,2,      4.6,2,      4.8,2,     0.05,2,      -999,9,     0.39,2,     1.05,2,  -1.2444
  32H120020718,    14,  1,      9,2,20020723, 71.8291,-155.0160,  281,      9.9,  -1.3343,  29.8430,2,-999.0000,9,    413.3,2,    424.4,2,     7.45,2,     0.03,2,     0.00,2,     0.67,2,     0.01,2,   1931.2,2,   2111.2,2,  -999.00,9,  -999.00,  -999.00,9,  -999.00,  -999.00,9,  -999.00,  -999.00,9,        -999,         -999,9,  -999.00,  -999.00,9,       -999,9,        -999,9,   -999.0,9,   -999.0,9,   -999.0,9,        0,2,      -999,9,     0.99,2,     0.64,2,  -1.3344
  32H120020718,    14,  1,      8,2,20020723, 71.8291,-155.0160,  281,     15.1,  -1.2758,  30.3622,2,-999.0000,9,    415.3,2,    429.7,2,    10.31,2,     0.04,2,     0.00,2,     0.74,2,     0.03,2,   2003.4,2,   2148.6,2,  -999.00,9,  -999.00,  -999.00,9,  -999.00,  -999.00,9,  -999.00,  -999.00,9,        -999,         -999,9,  -999.00,  -999.00,9,       -999,9,        -999,9,   -999.0,9,   -999.0,9,   -999.0,9,     0.01,2,      -999,9,     1.18,2,     1.60,2,  -1.2760
  32H120020718,    14,  2,     10,2,20020723, 71.8291,-155.0160,  281,     17.8,  -0.7975,  30.8861,2,  31.0093,2,    389.1,2,    416.0,2,    13.33,2,     0.02,2,     0.02,2,     0.78,2,     0.26,2,   1949.7,2,   2165.2,2,    -1.66,2,  -999.00,  -999.00,9,  -999.00,  -999.00,9,  -999.00,  -999.00,9,        -999,         -999,9,  -999.00,  -999.00,9, 144.863292,2,   27.933333,2,     76.8,2,      4.7,2,      5.0,2,     0.11,2,      -999,9,     0.82,2,     2.63,2,  -0.7979
  32H120020718,    14,  1,      6,2,20020723, 71.8291,-155.0160,  281,     22.9,  -1.5752,  31.1231,2,-999.0000,9,    414.4,2,   -999.0,9,  -999.00,9,  -999.00,9,  -999.00,9,  -999.00,9,     -999,9,   1966.8,2,   2175.9,2,  -999.00,9,  -999.00,  -999.00,9,  -999.00,  -999.00,9,  -999.00,  -999.00,9,        -999,         -999,9,  -999.00,  -999.00,9,       -999,9,        -999,9,   -999.0,9,   -999.0,9,   -999.0,9,     -999,9,      -999,9,  -999.00,9,  -999.00,9,  -1.5755
  32H120020718,    14,  1,      7,2,20020723, 71.8291,-155.0160,  281,     22.9,  -1.5761,  31.1225,2,-999.0000,9,    415.0,2,    425.4,2,    16.51,2,     0.13,2,     0.01,2,     0.90,2,     0.09,2,   -999.0,9,   -999.0,9,  -999.00,9,  -999.00,  -999.00,9,  -999.00,  -999.00,9,  -999.00,  -999.00,9,        -999,         -999,9,  -999.00,  -999.00,9,       -999,9,        -999,9,   -999.0,9,   -999.0,9,   -999.0,9,     0.03,2,      -999,9,     3.15,2,     1.50,2,  -1.5764
  32H120020718,    14,  2,      9,2,20020723, 71.8291,-155.0160,  281,     26.1,  -1.3176,  31.3645,2,  31.3398,2,    415.0,2,    436.2,2,    15.36,2,     0.16,2,     0.02,2,     0.84,2,     0.18,2,   -999.0,9,   2190.5,2,    -1.63,2,  -999.00,  -999.00,9,  -999.00,  -999.00,9,  -999.00,  -999.00,9,        -999,         -999,9,  -999.00,  -999.00,9, 189.946119,2,  36.1946086,2,     75.7,2,      6.1,2,      6.5,2,     0.09,2,      -999,9,     1.23,2,     4.10,2,  -1.3181
  32H120020718,    14,  2,      8,2,20020723, 71.8291,-155.0160,  281,     46.0,  -1.4501,  32.1283,2,  32.1177,2,    330.7,2,    345.2,2,    22.88,2,     6.60,2,     0.12,2,     1.33,2,     0.02,2,   2018.1,2,   2249.9,2,    -1.98,2,  -999.00,  -999.00,9,  -999.00,  -999.00,9,  -999.00,  -999.00,9,        -999,         -999,9,  -999.00,  -999.00,9, 27.6364254,2,  5.74046202,2,     70.5,2,      3.8,2,     10.5,2,     0.07,2,      -999,9,     0.28,2,     0.43,2,  -1.4509
  32H120020718,    14,  1,      5,2,20020723, 71.8291,-155.0160,  281,     51.0,  -1.5203,  32.2983,2,-999.0000,9,    312.2,2,    347.6,2,    26.64,2,     8.77,2,     0.11,2,     1.48,2,     0.34,2,   -999.0,9,   -999.0,9,  -999.00,9,  -999.00,  -999.00,9,  -999.00,  -999.00,9,  -999.00,  -999.00,9,        -999,         -999,9,  -999.00,  -999.00,9,       -999,9,        -999,9,   -999.0,9,   -999.0,9,   -999.0,9,     0.04,2,      -999,9,  -999.00,9,  -999.00,9,  -1.5212
  32H120020718,    14,  1,      4,2,20020723, 71.8291,-155.0160,  281,     51.0,  -1.5204,  32.2993,2,-999.0000,9,    312.9,2,   -999.0,9,  -999.00,9,  -999.00,9,  -999.00,9,  -999.00,9,     -999,9,   -999.0,9,   -999.0,9,  -999.00,9,  -999.00,  -999.00,9,  -999.00,  -999.00,9,  -999.00,  -999.00,9,        -999,         -999,9,  -999.00,  -999.00,9,       -999,9,        -999,9,   -999.0,9,   -999.0,9,   -999.0,9,     -999,9,      -999,9,  -999.00,9,  -999.00,9,  -1.5213