BOTTLE,20090202PRINUNIVRMK
EXPOCODE,STNNBR,CASTNO,BTLNBR,BTLNBR_FLAG_W,DATE,LATITUDE,LONGITUDE,DEPTH,CTDPRS,CTDTMP,CTDSAL,CTDSAL_FLAG_W,SALNTY,SALNTY_FLAG_W,CTDOXY,CTDOXY_FLAG_W,OXYGEN,OXYGEN_FLAG_W,SILCAT,SILCAT_FLAG_W,NITRAT,NITRAT_FLAG_W,NITRIT,NITRIT_FLAG_W,PHSPHT,PHSPHT_FLAG_W,AMMONI,AMMONI_FLAG_W,TCARBN,TCARBN_FLAG_W,ALKALI,ALKALI_FLAG_W,DELO18,DELO18_FLAG_W,RA-224,RA-224E,RA-224_FLAG_W,RA-226,RA-226E,RA-226_FLAG_W,RA-228,RA-228E,RA-228_FLAG_W,RA-8/6,RA-8/6E,RA-8/6_FLAG_W,TH-228,TH-228E,TH-228_FLAG_W,POC,POC_FLAG_W,PON,PON_FLAG_W,DOC,DOC_FLAG_W,DON,DON_FLAG_W,TDN,TDN_FLAG_W,UREA,UREA_FLAG_W,LIGNIN,LIGNIN_FLAG_W,CHLORA,CHLORA_FLAG_W,PHAEO,PHAEO_FLAG_W,THETA
,,,,,,,,METERS,DBARS,ITS-90,PSS-78,,PSS-78,,UMOL/KG,,UMOL/KG,,UMOL/KG,,UMOL/KG,,UMOL/KG,,UMOL/KG,,UMOL/KG,,UMOL/KG,,UMOL/KG,,O/OO,,DPM/100KG,DPM/100KG,,DPM/100KG,DPM/100KG,,DPM/100KG,DPM/100KG,,,,,DPM/100KG,DPM/100KG,,ug/kg,,ug/kg,,UMOL/KG,,UMOL/KG,,UMOL/KG,,UMOL/KG,,NG/KG,,UG/L,,UG/L,,DEGC
  32H120020718,    21,  5,      9,2,20020802, 71.6472,-152.3960,  451,     92.5,  -1.7059,  32.9107,2,-999.0000,9,    293.5,2,   -999.0,9,  -999.00,9,  -999.00,9,  -999.00,9,  -999.00,9,     -999,9,   -999.0,9,   -999.0,9,  -999.00,9,     0.76,     0.75,2,     7.57,     0.22,2,     6.69,     0.71,2,  0.83952561, 0.0954006375,2,     0.71,     0.33,2,       -999,9,        -999,9,   -999.0,9,   -999.0,9,   -999.0,9,     -999,9,      -999,9,  -999.00,9,  -999.00,9,  -1.7076
  32H120020718,    21,  5,      1,2,20020802, 71.6472,-152.3960,  451,     92.5,  -1.7063,  32.9068,2,-999.0000,9,    293.5,2,   -999.0,9,  -999.00,9,  -999.00,9,  -999.00,9,  -999.00,9,     -999,9,   -999.0,9,   -999.0,9,  -999.00,9,     0.76,     0.75,2,     7.57,     0.22,2,     6.69,     0.71,2, 0.839528111, 0.0954009217,2,     0.71,     0.33,2,       -999,9,        -999,9,   -999.0,9,   -999.0,9,   -999.0,9,     -999,9,      -999,9,  -999.00,9,  -999.00,9,  -1.7080
  32H120020718,    21,  5,     12,2,20020802, 71.6472,-152.3960,  451,     92.5,  -1.7063,  32.9082,2,-999.0000,9,    293.5,2,   -999.0,9,  -999.00,9,  -999.00,9,  -999.00,9,  -999.00,9,     -999,9,   -999.0,9,   -999.0,9,  -999.00,9,     0.76,     0.75,2,     7.58,     0.22,2,     6.70,     0.71,2, 0.840597466, 0.0955224393,2,     0.71,     0.33,2,       -999,9,        -999,9,   -999.0,9,   -999.0,9,   -999.0,9,     -999,9,      -999,9,  -999.00,9,  -999.00,9,  -1.7080
  32H120020718,    21,  5,     10,2,20020802, 71.6472,-152.3960,  451,     92.5,  -1.7063,  32.9083,2,-999.0000,9,    293.5,2,   -999.0,9,  -999.00,9,  -999.00,9,  -999.00,9,  -999.00,9,     -999,9,   -999.0,9,   -999.0,9,  -999.00,9,     0.76,     0.75,2,     7.58,     0.22,2,     6.70,     0.71,2, 0.840596965, 0.0955223824,2,     0.71,     0.33,2,       -999,9,        -999,9,   -999.0,9,   -999.0,9,   -999.0,9,     -999,9,      -999,9,  -999.00,9,  -999.00,9,  -1.7080
  32H120020718,    21,  5,      4,2,20020802, 71.6472,-152.3960,  451,     92.5,  -1.7059,  32.9098,2,-999.0000,9,    293.6,2,   -999.0,9,  -999.00,9,  -999.00,9,  -999.00,9,  -999.00,9,     -999,9,   -999.0,9,   -999.0,9,  -999.00,9,     0.76,     0.75,2,     7.58,     0.22,2,     6.70,     0.71,2, 0.840595963, 0.0955222686,2,     0.71,     0.33,2,       -999,9,        -999,9,   -999.0,9,   -999.0,9,   -999.0,9,     -999,9,      -999,9,  -999.00,9,  -999.00,9,  -1.7076
  32H120020718,    21,  5,      7,2,20020802, 71.6472,-152.3960,  451,     92.5,  -1.7059,  32.9105,2,-999.0000,9,    293.5,2,   -999.0,9,  -999.00,9,  -999.00,9,  -999.00,9,  -999.00,9,     -999,9,   -999.0,9,   -999.0,9,  -999.00,9,     0.76,     0.75,2,     7.58,     0.22,2,     6.70,     0.71,2, 0.840595525, 0.0955222188,2,     0.71,     0.33,2,       -999,9,        -999,9,   -999.0,9,   -999.0,9,   -999.0,9,     -999,9,      -999,9,  -999.00,9,  -999.00,9,  -1.7076
  32H120020718,    21,  5,      5,2,20020802, 71.6472,-152.3960,  451,     92.5,  -1.7059,  32.9106,2,-999.0000,9,    293.5,2,   -999.0,9,  -999.00,9,  -999.00,9,  -999.00,9,  -999.00,9,     -999,9,   -999.0,9,   -999.0,9,  -999.00,9,     0.76,     0.75,2,     7.58,     0.22,2,     6.70,     0.71,2,   0.8405954, 0.0955222046,2,     0.71,     0.33,2,       -999,9,        -999,9,   -999.0,9,   -999.0,9,   -999.0,9,     -999,9,      -999,9,  -999.00,9,  -999.00,9,  -1.7076
  32H120020718,    21,  5,      6,2,20020802, 71.6472,-152.3960,  451,     92.5,  -1.7059,  32.9106,2,-999.0000,9,    293.5,2,   -999.0,9,  -999.00,9,  -999.00,9,  -999.00,9,  -999.00,9,     -999,9,   -999.0,9,   -999.0,9,  -999.00,9,     0.76,     0.75,2,     7.58,     0.22,2,     6.70,     0.71,2, 0.840595713, 0.0955222401,2,     0.71,     0.33,2,       -999,9,        -999,9,   -999.0,9,   -999.0,9,   -999.0,9,     -999,9,      -999,9,  -999.00,9,  -999.00,9,  -1.7076
  32H120020718,    21,  5,     11,2,20020802, 71.6472,-152.3960,  451,     92.5,  -1.7060,  32.9102,2,-999.0000,9,    293.6,2,   -999.0,9,  -999.00,9,  -999.00,9,  -999.00,9,  -999.00,9,     -999,9,   -999.0,9,   -999.0,9,  -999.00,9,     0.76,     0.75,2,     7.58,     0.22,2,     6.70,     0.71,2, 0.840595838, 0.0955222543,2,     0.71,     0.33,2,       -999,9,        -999,9,   -999.0,9,   -999.0,9,   -999.0,9,     -999,9,      -999,9,  -999.00,9,  -999.00,9,  -1.7077
  32H120020718,    21,  5,      8,2,20020802, 71.6472,-152.3960,  451,     92.5,  -1.7060,  32.9104,2,-999.0000,9,    293.5,2,   -999.0,9,    44.29,2,    13.21,2,     0.20,2,     1.89,2,     2.61,2,   -999.0,9,   -999.0,9,  -999.00,9,     0.76,     0.75,2,     7.58,     0.22,2,     6.70,     0.71,2, 0.840597967, 0.0955224962,2,     0.71,     0.33,2,       -999,9,        -999,9,   -999.0,9,   -999.0,9,   -999.0,9,     0.09,2,      -999,9,  -999.00,9,  -999.00,9,  -1.7077
  32H120020718,    21,  5,      3,2,20020802, 71.6472,-152.3960,  451,     92.5,  -1.7065,  32.9078,2,-999.0000,9,    293.7,2,   -999.0,9,  -999.00,9,  -999.00,9,  -999.00,9,  -999.00,9,     -999,9,   -999.0,9,   -999.0,9,  -999.00,9,     0.76,     0.75,2,     7.58,     0.22,2,     6.70,     0.71,2, 0.840598718, 0.0955225816,2,     0.71,     0.33,2,       -999,9,        -999,9,   -999.0,9,   -999.0,9,   -999.0,9,     -999,9,      -999,9,  -999.00,9,  -999.00,9,  -1.7082
  32H120020718,    21,  5,      2,2,20020802, 71.6472,-152.3960,  451,     92.5,  -1.7067,  32.9070,2,-999.0000,9,    293.5,2,   -999.0,9,  -999.00,9,  -999.00,9,  -999.00,9,  -999.00,9,     -999,9,   -999.0,9,   -999.0,9,  -999.00,9,     0.76,     0.75,2,     7.58,     0.22,2,     6.70,     0.71,2, 0.840599156, 0.0955226314,2,     0.71,     0.33,2,       -999,9,        -999,9,   -999.0,9,   -999.0,9,   -999.0,9,     -999,9,      -999,9,  -999.00,9,  -999.00,9,  -1.7084
  32H120020718,    21,  3,      6,2,20020802, 71.6472,-152.3960,  451,    100.7,  -1.6862,  32.9541,2,  32.9717,2,    294.0,2,    302.8,2,    43.12,2,    13.40,2,     0.18,2,     1.86,2,     2.23,2,   2183.4,2,   2272.6,2,  -999.00,9,  -999.00,  -999.00,9,  -999.00,  -999.00,9,  -999.00,  -999.00,9,        -999,         -999,9,  -999.00,  -999.00,9, 49.5888252,2,  10.5256253,2,     67.3,2,      4.0,2,     19.8,2,     0.06,2,      -999,9,     0.59,2,     0.88,2,  -1.6880
  32H120020718,    21,  6,      2,2,20020802, 71.6472,-152.3960,  451,    101.0,  -1.6948,  32.9835,2,-999.0000,9,    287.9,2,   -999.0,9,  -999.00,9,  -999.00,9,  -999.00,9,  -999.00,9,     -999,9,   -999.0,9,   -999.0,9,  -999.00,9,  -999.00,  -999.00,9,  -999.00,  -999.00,9,  -999.00,  -999.00,9,        -999,         -999,9,  -999.00,  -999.00,9,       -999,9,        -999,9,   -999.0,9,   -999.0,9,   -999.0,9,     -999,9,      -999,9,  -999.00,9,  -999.00,9,  -1.6966
  32H120020718,    21,  2,      7,2,20020802, 71.6472,-152.3960,  451,    122.1,  -1.6465,  33.1797,2,-999.0000,9,    296.5,2,   -999.0,9,    38.12,2,    13.38,2,     0.12,2,     1.78,2,     1.61,2,   -999.0,9,   -999.0,9,  -999.00,9,  -999.00,  -999.00,9,  -999.00,  -999.00,9,  -999.00,  -999.00,9,        -999,         -999,9,  -999.00,  -999.00,9,       -999,9,        -999,9,   -999.0,9,   -999.0,9,   -999.0,9,     0.02,2,      -999,9,  -999.00,9,  -999.00,9,  -1.6488
  32H120020718,    21,  2,      8,2,20020802, 71.6472,-152.3960,  451,    122.1,  -1.6470,  33.1802,2,-999.0000,9,    296.3,2,   -999.0,9,  -999.00,9,  -999.00,9,  -999.00,9,  -999.00,9,     -999,9,   -999.0,9,   -999.0,9,  -999.00,9,  -999.00,  -999.00,9,  -999.00,  -999.00,9,  -999.00,  -999.00,9,        -999,         -999,9,  -999.00,  -999.00,9,       -999,9,        -999,9,   -999.0,9,   -999.0,9,   -999.0,9,     -999,9,      -999,9,  -999.00,9,  -999.00,9,  -1.6493
  32H120020718,    21,  2,      9,2,20020802, 71.6472,-152.3960,  451,    122.1,  -1.6473,  33.1805,2,-999.0000,9,    296.1,2,   -999.0,9,    37.72,2,    13.29,2,     0.12,2,     1.77,2,     1.59,2,   -999.0,9,   -999.0,9,  -999.00,9,  -999.00,  -999.00,9,  -999.00,  -999.00,9,  -999.00,  -999.00,9,        -999,         -999,9,  -999.00,  -999.00,9,       -999,9,        -999,9,   -999.0,9,   -999.0,9,   -999.0,9,     0.02,2,      -999,9,  -999.00,9,  -999.00,9,  -1.6496
  32H120020718,    21,  2,     10,2,20020802, 71.6472,-152.3960,  451,    122.1,  -1.6474,  33.1811,2,-999.0000,9,    296.0,2,   -999.0,9,    37.90,2,    13.25,2,     0.12,2,     1.77,2,     1.59,2,   -999.0,9,   -999.0,9,  -999.00,9,  -999.00,  -999.00,9,  -999.00,  -999.00,9,  -999.00,  -999.00,9,        -999,         -999,9,  -999.00,  -999.00,9,       -999,9,        -999,9,   -999.0,9,   -999.0,9,   -999.0,9,     0.02,2,      -999,9,  -999.00,9,  -999.00,9,  -1.6497
  32H120020718,    21,  3,      5,2,20020802, 71.6472,-152.3960,  451,    127.1,  -1.7287,  33.2614,2,  33.2620,2,    285.6,2,    296.3,2,    44.77,2,    14.17,2,     0.16,2,     1.93,2,     2.56,2,   -999.0,9,   -999.0,9,  -999.00,9,  -999.00,  -999.00,9,  -999.00,  -999.00,9,  -999.00,  -999.00,9,        -999,         -999,9,  -999.00,  -999.00,9,       -999,9,        -999,9,   -999.0,9,   -999.0,9,   -999.0,9,     0.04,2,      -999,9,     0.22,2,     0.45,2,  -1.7311
  32H120020718,    21,  4,     12,2,20020802, 71.6472,-152.3960,  451,    146.8,  -1.6194,  33.4354,2,-999.0000,9,    283.3,2,   -999.0,9,  -999.00,9,  -999.00,9,  -999.00,9,  -999.00,9,     -999,9,   -999.0,9,   -999.0,9,  -999.00,9,     1.64,     0.09,2,    10.53,     0.16,2,    10.48,     0.10,2, 0.957899299,  0.019157986,2,     0.79,     0.13,2,       -999,9,        -999,9,   -999.0,9,   -999.0,9,   -999.0,9,     -999,9,      -999,9,  -999.00,9,  -999.00,9,  -1.6224
  32H120020718,    21,  4,     11,2,20020802, 71.6472,-152.3960,  451,    146.8,  -1.6195,  33.4345,2,-999.0000,9,    283.3,2,   -999.0,9,  -999.00,9,  -999.00,9,  -999.00,9,  -999.00,9,     -999,9,   -999.0,9,   -999.0,9,  -999.00,9,     1.64,     0.09,2,    10.52,     0.16,2,    10.47,     0.10,2,  0.95729769, 0.0191459538,2,     0.78,     0.13,2,       -999,9,        -999,9,   -999.0,9,   -999.0,9,   -999.0,9,     -999,9,      -999,9,  -999.00,9,  -999.00,9,  -1.6225
  32H120020718,    21,  4,      7,2,20020802, 71.6472,-152.3960,  451,    146.8,  -1.6212,  33.4366,2,-999.0000,9,    284.4,2,   -999.0,9,    45.16,2,    14.42,2,     0.18,2,     1.94,2,     2.36,2,   -999.0,9,   -999.0,9,  -999.00,9,     1.64,     0.09,2,    10.51,     0.16,2,    10.46,     0.10,2, 0.956426024, 0.0191285205,2,     0.78,     0.13,2,       -999,9,        -999,9,   -999.0,9,   -999.0,9,   -999.0,9,     0.04,2,      -999,9,  -999.00,9,  -999.00,9,  -1.6242
  32H120020718,    21,  4,     10,2,20020802, 71.6472,-152.3960,  451,    146.8,  -1.6214,  33.4371,2,-999.0000,9,    284.4,2,   -999.0,9,  -999.00,9,  -999.00,9,  -999.00,9,  -999.00,9,     -999,9,   -999.0,9,   -999.0,9,  -999.00,9,     1.64,     0.09,2,    10.51,     0.16,2,    10.46,     0.10,2, 0.956422817, 0.0191284563,2,     0.78,     0.13,2,       -999,9,        -999,9,   -999.0,9,   -999.0,9,   -999.0,9,     -999,9,      -999,9,  -999.00,9,  -999.00,9,  -1.6244
  32H120020718,    21,  4,      9,2,20020802, 71.6472,-152.3960,  451,    146.8,  -1.6219,  33.4371,2,-999.0000,9,    284.6,2,   -999.0,9,  -999.00,9,  -999.00,9,  -999.00,9,  -999.00,9,     -999,9,   -999.0,9,   -999.0,9,  -999.00,9,     1.64,     0.09,2,    10.50,     0.16,2,    10.45,     0.10,2, 0.955375923, 0.0191075185,2,     0.78,     0.13,2,       -999,9,        -999,9,   -999.0,9,   -999.0,9,   -999.0,9,     -999,9,      -999,9,  -999.00,9,  -999.00,9,  -1.6249
  32H120020718,    21,  4,      8,2,20020802, 71.6472,-152.3960,  451,    146.8,  -1.6224,  33.4370,2,-999.0000,9,    284.7,2,   -999.0,9,  -999.00,9,  -999.00,9,  -999.00,9,  -999.00,9,     -999,9,   -999.0,9,   -999.0,9,  -999.00,9,     1.64,     0.09,2,    10.49,     0.16,2,    10.45,     0.10,2, 0.954795905, 0.0190959181,2,     0.78,     0.13,2,       -999,9,        -999,9,   -999.0,9,   -999.0,9,   -999.0,9,     -999,9,      -999,9,  -999.00,9,  -999.00,9,  -1.6254
  32H120020718,    21,  3,      4,2,20020802, 71.6472,-152.3960,  451,    152.1,  -1.6518,  33.4349,2,  33.4503,2,    297.2,2,    302.8,2,    41.05,2,    13.95,2,     0.13,2,     1.83,2,     1.87,2,   2214.2,2,   2327.0,2,  -999.00,9,  -999.00,  -999.00,9,  -999.00,  -999.00,9,  -999.00,  -999.00,9,        -999,         -999,9,  -999.00,  -999.00,9, 28.6934572,2,  5.48075718,2,     60.8,2,      3.4,2,     19.3,2,     0.02,2,      -999,9,     0.15,2,     0.30,2,  -1.6548
  32H120020718,    21,  3,      3,2,20020802, 71.6472,-152.3960,  451,    177.2,  -1.4782,  33.6651,2,  33.6728,2,    290.3,2,    298.3,2,    36.84,2,    14.33,2,     0.13,2,     1.73,2,     0.89,2,   2214.6,2,   2307.3,2,  -999.00,9,  -999.00,  -999.00,9,  -999.00,  -999.00,9,  -999.00,  -999.00,9,        -999,         -999,9,  -999.00,  -999.00,9, 24.2538911,2,  4.56166084,2,     60.4,2,      3.5,2,     18.8,2,     0.01,2,      -999,9,     0.13,2,     0.24,2,  -1.4821
  32H120020718,    21,  3,      2,2,20020802, 71.6472,-152.3960,  451,    201.4,  -0.7366,  34.2388,2,  34.1467,2,    279.0,2,    286.6,2,    28.25,2,    14.03,2,     0.13,2,     1.50,2,     0.45,2,   2201.7,2,   2321.7,2,  -999.00,9,  -999.00,  -999.00,9,  -999.00,  -999.00,9,  -999.00,  -999.00,9,        -999,         -999,9,  -999.00,  -999.00,9, 29.1570637,2,  5.60484381,2,     58.1,2,      2.7,2,     17.3,2,     0.02,2,      -999,9,     0.19,2,     0.45,2,  -0.7426
  32H120020718,    21,  6,      1,2,20020802, 71.6472,-152.3960,  451,    201.1,  -0.7859,  34.2374,2,-999.0000,9,    277.3,2,   -999.0,9,  -999.00,9,  -999.00,9,  -999.00,9,  -999.00,9,     -999,9,   -999.0,9,   -999.0,9,  -999.00,9,  -999.00,  -999.00,9,  -999.00,  -999.00,9,  -999.00,  -999.00,9,        -999,         -999,9,  -999.00,  -999.00,9,       -999,9,        -999,9,   -999.0,9,   -999.0,9,   -999.0,9,     -999,9,      -999,9,  -999.00,9,  -999.00,9,  -0.7918
  32H120020718,    21,  3,      1,2,20020802, 71.6472,-152.3960,  451,    225.3,   0.0695,  34.6000,2,  34.5957,2,    270.6,2,    275.2,2,    17.89,2,    13.29,2,     0.11,2,     1.21,2,     0.32,2,   -999.0,9,   -999.0,9,  -999.00,9,  -999.00,  -999.00,9,  -999.00,  -999.00,9,  -999.00,  -999.00,9,        -999,         -999,9,  -999.00,  -999.00,9,       -999,9,        -999,9,   -999.0,9,   -999.0,9,   -999.0,9,     0.05,2,      -999,9,     0.25,2,     0.53,2,   0.0610
  32H120020718,    21,  2,      6,2,20020802, 71.6472,-152.3960,  451,    251.2,   0.1936,  34.6502,2,  34.6499,2,    272.1,2,    277.5,2,    14.96,2,    13.06,2,     0.09,2,     1.12,2,     0.24,2,   2170.5,2,   2314.4,2,  -999.00,9,  -999.00,  -999.00,9,  -999.00,  -999.00,9,  -999.00,  -999.00,9,        -999,         -999,9,  -999.00,  -999.00,9, 24.4998854,2,  4.74379527,2,     56.0,2,      2.8,2,     16.1,2,     0.02,2,      -999,9,  -999.00,9,  -999.00,9,   0.1838
  32H120020718,    21,  4,      1,2,20020802, 71.6472,-152.3960,  451,    254.4,   0.0862,  34.6202,2,-999.0000,9,    274.3,2,   -999.0,9,  -999.00,9,  -999.00,9,  -999.00,9,  -999.00,9,     -999,9,   -999.0,9,   -999.0,9,  -999.00,9,     0.65,     0.07,2,     5.97,     0.86,2,     2.23,     0.68,2, 0.353150414,  0.124079875,2,     1.01,     0.43,2,       -999,9,        -999,9,   -999.0,9,   -999.0,9,   -999.0,9,     -999,9,      -999,9,  -999.00,9,  -999.00,9,   0.0765
  32H120020718,    21,  4,      2,2,20020802, 71.6472,-152.3960,  451,    254.4,   0.0911,  34.6220,2,-999.0000,9,    274.3,2,   -999.0,9,  -999.00,9,  -999.00,9,  -999.00,9,  -999.00,9,     -999,9,   -999.0,9,   -999.0,9,  -999.00,9,     0.65,     0.07,2,     5.97,     0.86,2,     2.23,     0.68,2,  0.35313145,  0.124073212,2,     1.01,     0.43,2,       -999,9,        -999,9,   -999.0,9,   -999.0,9,   -999.0,9,     -999,9,      -999,9,  -999.00,9,  -999.00,9,   0.0814
  32H120020718,    21,  4,      6,2,20020802, 71.6472,-152.3960,  451,    254.5,   0.0828,  34.6193,2,-999.0000,9,    274.1,2,   -999.0,9,    14.80,2,    13.10,2,     0.06,2,     1.10,2,     0.07,2,   -999.0,9,   -999.0,9,  -999.00,9,     0.65,     0.07,2,     5.96,     0.86,2,     2.23,     0.68,2, 0.353098784,  0.124061735,2,     1.01,     0.43,2,       -999,9,        -999,9,   -999.0,9,   -999.0,9,   -999.0,9,     0.05,2,      -999,9,  -999.00,9,  -999.00,9,   0.0731
  32H120020718,    21,  4,      3,2,20020802, 71.6472,-152.3960,  451,    254.5,   0.0866,  34.6204,2,-999.0000,9,    274.2,2,   -999.0,9,  -999.00,9,  -999.00,9,  -999.00,9,  -999.00,9,     -999,9,   -999.0,9,   -999.0,9,  -999.00,9,     0.65,     0.07,2,     5.96,     0.86,2,     2.23,     0.68,2, 0.352960883,  0.124013283,2,     1.01,     0.43,2,       -999,9,        -999,9,   -999.0,9,   -999.0,9,   -999.0,9,     -999,9,      -999,9,  -999.00,9,  -999.00,9,   0.0769
  32H120020718,    21,  4,      4,2,20020802, 71.6472,-152.3960,  451,    254.5,   0.0876,  34.6209,2,-999.0000,9,    274.0,2,   -999.0,9,  -999.00,9,  -999.00,9,  -999.00,9,  -999.00,9,     -999,9,   -999.0,9,   -999.0,9,  -999.00,9,     0.65,     0.07,2,     5.96,     0.86,2,     2.23,     0.68,2, 0.352912653,  0.123996338,2,     1.01,     0.43,2,       -999,9,        -999,9,   -999.0,9,   -999.0,9,   -999.0,9,     -999,9,      -999,9,  -999.00,9,  -999.00,9,   0.0779
  32H120020718,    21,  4,      5,2,20020802, 71.6472,-152.3960,  451,    254.5,   0.0881,  34.6208,2,-999.0000,9,    274.1,2,   -999.0,9,  -999.00,9,  -999.00,9,  -999.00,9,  -999.00,9,     -999,9,   -999.0,9,   -999.0,9,  -999.00,9,     0.65,     0.07,2,     5.96,     0.86,2,     2.23,     0.68,2, 0.352795099,  0.123955035,2,     1.01,     0.43,2,       -999,9,        -999,9,   -999.0,9,   -999.0,9,   -999.0,9,     -999,9,      -999,9,  -999.00,9,  -999.00,9,   0.0784