BOTTLE,20090202PRINUNIVRMK
EXPOCODE,STNNBR,CASTNO,BTLNBR,BTLNBR_FLAG_W,DATE,LATITUDE,LONGITUDE,DEPTH,CTDPRS,CTDTMP,CTDSAL,CTDSAL_FLAG_W,SALNTY,SALNTY_FLAG_W,CTDOXY,CTDOXY_FLAG_W,OXYGEN,OXYGEN_FLAG_W,SILCAT,SILCAT_FLAG_W,NITRAT,NITRAT_FLAG_W,NITRIT,NITRIT_FLAG_W,PHSPHT,PHSPHT_FLAG_W,AMMONI,AMMONI_FLAG_W,TCARBN,TCARBN_FLAG_W,ALKALI,ALKALI_FLAG_W,DELO18,DELO18_FLAG_W,RA-224,RA-224E,RA-224_FLAG_W,RA-226,RA-226E,RA-226_FLAG_W,RA-228,RA-228E,RA-228_FLAG_W,RA-8/6,RA-8/6E,RA-8/6_FLAG_W,TH-228,TH-228E,TH-228_FLAG_W,POC,POC_FLAG_W,PON,PON_FLAG_W,DOC,DOC_FLAG_W,DON,DON_FLAG_W,TDN,TDN_FLAG_W,UREA,UREA_FLAG_W,LIGNIN,LIGNIN_FLAG_W,CHLORA,CHLORA_FLAG_W,PHAEO,PHAEO_FLAG_W,THETA
,,,,,,,,METERS,DBARS,ITS-90,PSS-78,,PSS-78,,UMOL/KG,,UMOL/KG,,UMOL/KG,,UMOL/KG,,UMOL/KG,,UMOL/KG,,UMOL/KG,,UMOL/KG,,UMOL/KG,,O/OO,,DPM/100KG,DPM/100KG,,DPM/100KG,DPM/100KG,,DPM/100KG,DPM/100KG,,,,,DPM/100KG,DPM/100KG,,ug/kg,,ug/kg,,UMOL/KG,,UMOL/KG,,UMOL/KG,,UMOL/KG,,NG/KG,,UG/L,,UG/L,,DEGC
  32H120020718,    28,  4,      9,2,20020808, 72.8364,-158.2590,  545,    121.2,  -1.5672,  33.0359,2,-999.0000,9,    284.5,2,   -999.0,9,  -999.00,9,  -999.00,9,  -999.00,9,  -999.00,9,     -999,9,   -999.0,9,   -999.0,9,  -999.00,9,     2.14,     0.15,2,     8.94,     0.53,2,     5.46,     0.07,2, 0.584759932, 0.0383449136,2,     1.23,     0.12,2,       -999,9,        -999,9,   -999.0,9,   -999.0,9,   -999.0,9,     -999,9,      -999,9,  -999.00,9,  -999.00,9,  -1.5696
  32H120020718,    28,  4,      7,2,20020808, 72.8364,-158.2590,  545,    121.2,  -1.5737,  33.0300,2,-999.0000,9,    284.3,2,   -999.0,9,  -999.00,9,  -999.00,9,  -999.00,9,  -999.00,9,     -999,9,   -999.0,9,   -999.0,9,  -999.00,9,     2.14,     0.15,2,     8.94,     0.53,2,     5.46,     0.07,2, 0.584181679, 0.0383069954,2,     1.23,     0.12,2,       -999,9,        -999,9,   -999.0,9,   -999.0,9,   -999.0,9,     -999,9,      -999,9,  -999.00,9,  -999.00,9,  -1.5761
  32H120020718,    28,  4,      8,2,20020808, 72.8364,-158.2590,  545,    121.2,  -1.5765,  33.0327,2,-999.0000,9,    284.4,2,   -999.0,9,    33.44,2,    14.43,2,     0.07,2,     1.79,2,     0.07,2,   -999.0,9,   -999.0,9,  -999.00,9,     2.13,     0.15,2,     8.93,     0.53,2,     5.45,     0.07,2, 0.583739378,  0.038277992,2,     1.23,     0.12,2,       -999,9,        -999,9,   -999.0,9,   -999.0,9,   -999.0,9,     0.01,2,      -999,9,  -999.00,9,  -999.00,9,  -1.5789
  32H120020718,    28,  4,     10,2,20020808, 72.8364,-158.2590,  545,    121.2,  -1.5901,  33.0455,2,-999.0000,9,    285.5,2,   -999.0,9,  -999.00,9,  -999.00,9,  -999.00,9,  -999.00,9,     -999,9,   -999.0,9,   -999.0,9,  -999.00,9,     2.13,     0.15,2,     8.93,     0.53,2,     5.45,     0.07,2, 0.583733727, 0.0382776214,2,     1.23,     0.12,2,       -999,9,        -999,9,   -999.0,9,   -999.0,9,   -999.0,9,     -999,9,      -999,9,  -999.00,9,  -999.00,9,  -1.5925
  32H120020718,    28,  4,     12,2,20020808, 72.8364,-158.2590,  545,    121.2,  -1.5922,  33.0496,2,-999.0000,9,    287.3,2,   -999.0,9,  -999.00,9,  -999.00,9,  -999.00,9,  -999.00,9,     -999,9,   -999.0,9,   -999.0,9,  -999.00,9,     2.13,     0.15,2,     8.92,     0.53,2,     5.45,     0.07,2, 0.583340028, 0.0382518051,2,     1.23,     0.12,2,       -999,9,        -999,9,   -999.0,9,   -999.0,9,   -999.0,9,     -999,9,      -999,9,  -999.00,9,  -999.00,9,  -1.5946
  32H120020718,    28,  4,     11,2,20020808, 72.8364,-158.2590,  545,    121.2,  -1.5922,  33.0510,2,-999.0000,9,    287.3,2,   -999.0,9,  -999.00,9,  -999.00,9,  -999.00,9,  -999.00,9,     -999,9,   -999.0,9,   -999.0,9,  -999.00,9,     2.13,     0.15,2,     8.92,     0.53,2,     5.45,     0.07,2, 0.582973731, 0.0382277857,2,     1.23,     0.12,2,       -999,9,        -999,9,   -999.0,9,   -999.0,9,   -999.0,9,     -999,9,      -999,9,  -999.00,9,  -999.00,9,  -1.5946
  32H120020718,    28,  2,      2,2,20020808, 72.8364,-158.2590,  545,    135.9,  -1.6146,  33.2252,2,  33.2302,2,    299.0,2,    309.3,2,    38.01,2,    13.33,2,     0.14,2,     1.77,2,     1.08,2,   -999.0,9,   -999.0,9,  -999.00,9,  -999.00,  -999.00,9,  -999.00,  -999.00,9,  -999.00,  -999.00,9,        -999,         -999,9,  -999.00,  -999.00,9,  16.415651,2,  2.93137278,2,     61.6,2,      6.6,2,     21.1,2,     0.03,2,      -999,9,     0.02,2,     0.07,2,  -1.6173
  32H120020718,    28,  6,      2,2,20020808, 72.8364,-158.2590,  545,    151.1,  -1.4622,  33.4258,2,-999.0000,9,    277.8,2,   -999.0,9,  -999.00,9,  -999.00,9,  -999.00,9,  -999.00,9,     -999,9,   -999.0,9,   -999.0,9,  -999.00,9,  -999.00,  -999.00,9,  -999.00,  -999.00,9,  -999.00,  -999.00,9,        -999,         -999,9,  -999.00,  -999.00,9,       -999,9,        -999,9,   -999.0,9,   -999.0,9,   -999.0,9,     -999,9,      -999,9,  -999.00,9,  -999.00,9,  -1.4655
  32H120020718,    28,  1,     12,2,20020808, 72.8364,-158.2590,  545,    151.8,  -1.5419,  33.3817,2,  33.3716,2,    285.8,2,    292.9,2,    33.41,2,    13.99,2,     0.06,2,     1.74,2,     0.51,2,   2210.0,2,   2302.7,2,  -999.00,9,  -999.00,  -999.00,9,  -999.00,  -999.00,9,  -999.00,  -999.00,9,        -999,         -999,9,  -999.00,  -999.00,9, 13.5121685,2,  2.26668525,2,     58.9,2,      4.9,2,     19.5,2,     0.25,2,      -999,9,     0.02,2,     0.10,2,  -1.5451
  32H120020718,    28,  2,      1,2,20020808, 72.8364,-158.2590,  545,    152.7,  -1.6495,  33.4221,2,  33.4048,2,    297.8,2,    307.7,2,    39.96,2,    13.87,2,     0.14,2,     1.81,2,     1.31,2,   -999.0,9,   -999.0,9,  -999.00,9,  -999.00,  -999.00,9,  -999.00,  -999.00,9,  -999.00,  -999.00,9,        -999,         -999,9,  -999.00,  -999.00,9,       -999,9,        -999,9,   -999.0,9,   -999.0,9,   -999.0,9,     0.01,2,      -999,9,     0.02,2,     0.07,2,  -1.6525
  32H120020718,    28,  3,      5,2,20020808, 72.8364,-158.2590,  545,    153.4,  -1.6300,  33.4108,2,-999.0000,9,    296.4,2,   -999.0,9,  -999.00,9,  -999.00,9,  -999.00,9,  -999.00,9,     -999,9,   -999.0,9,   -999.0,9,  -999.00,9,  -999.00,  -999.00,9,  -999.00,  -999.00,9,  -999.00,  -999.00,9,        -999,         -999,9,  -999.00,  -999.00,9,       -999,9,        -999,9,   -999.0,9,   -999.0,9,   -999.0,9,     -999,9,      -999,9,  -999.00,9,  -999.00,9,  -1.6331
  32H120020718,    28,  3,      4,2,20020808, 72.8364,-158.2590,  545,    175.3,  -1.2645,  33.7962,2,-999.0000,9,    271.8,2,   -999.0,9,  -999.00,9,  -999.00,9,  -999.00,9,  -999.00,9,     -999,9,   -999.0,9,   -999.0,9,  -999.00,9,  -999.00,  -999.00,9,  -999.00,  -999.00,9,  -999.00,  -999.00,9,        -999,         -999,9,  -999.00,  -999.00,9,       -999,9,        -999,9,   -999.0,9,   -999.0,9,   -999.0,9,     -999,9,      -999,9,  -999.00,9,  -999.00,9,  -1.2688
  32H120020718,    28,  3,      3,2,20020808, 72.8364,-158.2590,  545,    175.3,  -1.2654,  33.7964,2,-999.0000,9,    271.9,2,   -999.0,9,  -999.00,9,  -999.00,9,  -999.00,9,  -999.00,9,     -999,9,   -999.0,9,   -999.0,9,  -999.00,9,  -999.00,  -999.00,9,  -999.00,  -999.00,9,  -999.00,  -999.00,9,        -999,         -999,9,  -999.00,  -999.00,9,       -999,9,        -999,9,   -999.0,9,   -999.0,9,   -999.0,9,     -999,9,      -999,9,  -999.00,9,  -999.00,9,  -1.2697
  32H120020718,    28,  1,     11,4,20020808, 72.8364,-158.2590,  545,    175.7,  -1.2482,  33.8887,2,-999.0000,9,    274.9,2,   -999.0,9,  -999.00,9,  -999.00,9,  -999.00,9,  -999.00,9,     -999,9,   -999.0,9,   -999.0,9,  -999.00,9,  -999.00,  -999.00,9,  -999.00,  -999.00,9,  -999.00,  -999.00,9,        -999,         -999,9,  -999.00,  -999.00,9,       -999,9,        -999,9,   -999.0,9,   -999.0,9,   -999.0,9,     -999,9,      -999,9,  -999.00,9,  -999.00,9,  -1.2525
  32H120020718,    28,  1,     10,2,20020808, 72.8364,-158.2590,  545,    201.4,  -0.4568,  34.4093,2,  34.3846,2,    270.9,2,    277.5,2,    17.78,2,    13.04,2,     0.02,2,     1.19,2,     0.06,2,   2181.1,2,   2301.2,2,  -999.00,9,  -999.00,  -999.00,9,  -999.00,  -999.00,9,  -999.00,  -999.00,9,        -999,         -999,9,  -999.00,  -999.00,9, 10.5243356,2,  2.01114285,2,     54.6,2,      4.8,2,     17.9,2,     0.02,2,      -999,9,     0.02,2,     0.08,2,  -0.4634
  32H120020718,    28,  6,      1,2,20020808, 72.8364,-158.2590,  545,    201.0,  -0.5227,  34.3737,2,-999.0000,9,    271.6,2,   -999.0,9,  -999.00,9,  -999.00,9,  -999.00,9,  -999.00,9,     -999,9,   -999.0,9,   -999.0,9,  -999.00,9,  -999.00,  -999.00,9,  -999.00,  -999.00,9,  -999.00,  -999.00,9,        -999,         -999,9,  -999.00,  -999.00,9,       -999,9,        -999,9,   -999.0,9,   -999.0,9,   -999.0,9,     -999,9,      -999,9,  -999.00,9,  -999.00,9,  -0.5291
  32H120020718,    28,  4,      3,2,20020808, 72.8364,-158.2590,  545,    226.4,  -0.0355,  34.5628,2,-999.0000,9,    274.4,2,   -999.0,9,  -999.00,9,  -999.00,9,  -999.00,9,  -999.00,9,     -999,9,   -999.0,9,   -999.0,9,  -999.00,9,     1.44,     0.14,2,     6.39,     0.51,2,     1.98,     0.47,2,  0.29532688, 0.0762133884,2,     0.56,     0.35,2,       -999,9,        -999,9,   -999.0,9,   -999.0,9,   -999.0,9,     -999,9,      -999,9,  -999.00,9,  -999.00,9,  -0.0438
  32H120020718,    28,  4,      4,2,20020808, 72.8364,-158.2590,  545,    226.4,  -0.0363,  34.5628,2,-999.0000,9,    274.4,2,   -999.0,9,  -999.00,9,  -999.00,9,  -999.00,9,  -999.00,9,     -999,9,   -999.0,9,   -999.0,9,  -999.00,9,     1.44,     0.14,2,     6.39,     0.51,2,     1.98,     0.47,2, 0.295325341, 0.0762129912,2,     0.56,     0.35,2,       -999,9,        -999,9,   -999.0,9,   -999.0,9,   -999.0,9,     -999,9,      -999,9,  -999.00,9,  -999.00,9,  -0.0446
  32H120020718,    28,  4,      2,2,20020808, 72.8364,-158.2590,  545,    226.4,  -0.0366,  34.5625,2,-999.0000,9,    274.5,2,   -999.0,9,  -999.00,9,  -999.00,9,  -999.00,9,  -999.00,9,     -999,9,   -999.0,9,   -999.0,9,  -999.00,9,     1.44,     0.14,2,     6.39,     0.51,2,     1.98,     0.47,2,  0.29532411, 0.0762126735,2,     0.56,     0.35,2,       -999,9,        -999,9,   -999.0,9,   -999.0,9,   -999.0,9,     -999,9,      -999,9,  -999.00,9,  -999.00,9,  -0.0449
  32H120020718,    28,  4,      1,2,20020808, 72.8364,-158.2590,  545,    226.4,  -0.0387,  34.5621,2,-999.0000,9,    274.5,2,   -999.0,9,  -999.00,9,  -999.00,9,  -999.00,9,  -999.00,9,     -999,9,   -999.0,9,   -999.0,9,  -999.00,9,     1.44,     0.14,2,     6.39,     0.51,2,     1.98,     0.47,2, 0.295322989, 0.0762123842,2,     0.56,     0.35,2,       -999,9,        -999,9,   -999.0,9,   -999.0,9,   -999.0,9,     -999,9,      -999,9,  -999.00,9,  -999.00,9,  -0.0470
  32H120020718,    28,  4,      5,4,20020808, 72.8364,-158.2590,  545,    226.4,  -0.0412,  34.5615,2,-999.0000,9,    274.4,2,   -999.0,9,  -999.00,9,  -999.00,9,  -999.00,9,  -999.00,9,     -999,9,   -999.0,9,   -999.0,9,  -999.00,9,     1.44,     0.14,2,     6.39,     0.51,2,     1.98,     0.47,2, 0.295322615, 0.0762122877,2,     0.56,     0.35,2,       -999,9,        -999,9,   -999.0,9,   -999.0,9,   -999.0,9,     -999,9,      -999,9,  -999.00,9,  -999.00,9,  -0.0495
  32H120020718,    28,  4,      6,2,20020808, 72.8364,-158.2590,  545,    226.4,  -0.0458,  34.5600,2,-999.0000,9,    274.4,2,   -999.0,9,    10.84,2,    12.22,2,     0.02,2,     0.96,2,        0,2,   -999.0,9,   -999.0,9,  -999.00,9,     1.44,     0.14,2,     6.39,     0.51,2,     1.98,     0.47,2, 0.295321845, 0.0762120892,2,     0.56,     0.35,2,       -999,9,        -999,9,   -999.0,9,   -999.0,9,   -999.0,9,     0.01,2,      -999,9,  -999.00,9,  -999.00,9,  -0.0541
  32H120020718,    28,  1,      9,2,20020808, 72.8364,-158.2590,  545,    227.7,   0.0123,  34.5765,2,  34.5701,2,    274.5,2,    280.2,2,    10.71,2,    12.16,2,     0.01,2,     0.96,2,     0.05,2,   -999.0,9,   -999.0,9,  -999.00,9,  -999.00,  -999.00,9,  -999.00,  -999.00,9,  -999.00,  -999.00,9,        -999,         -999,9,  -999.00,  -999.00,9,       -999,9,        -999,9,   -999.0,9,   -999.0,9,   -999.0,9,     0.02,2,      -999,9,  -999.00,9,  -999.00,9,   0.0038
  32H120020718,    28,  1,      8,2,20020808, 72.8364,-158.2590,  545,    251.3,   0.4505,  34.7086,2,  34.6986,2,    278.3,2,   -999.0,5,    10.33,2,    12.54,2,     0.03,2,     0.96,2,     0.05,2,   -999.0,9,   -999.0,9,  -999.00,9,  -999.00,  -999.00,9,  -999.00,  -999.00,9,  -999.00,  -999.00,9,        -999,         -999,9,  -999.00,  -999.00,9,       -999,9,        -999,9,   -999.0,9,   -999.0,9,   -999.0,9,     0.01,2,      -999,9,  -999.00,9,  -999.00,9,   0.4401
  32H120020718,    28,  1,      7,2,20020808, 72.8364,-158.2590,  545,    281.7,   0.6119,  34.7596,2,  34.7596,2,    283.3,2,    288.5,2,     8.34,2,    12.40,2,     0.02,2,     0.91,2,     0.04,2,   2149.6,2,   2306.0,2,  -999.00,9,  -999.00,  -999.00,9,  -999.00,  -999.00,9,  -999.00,  -999.00,9,        -999,         -999,9,  -999.00,  -999.00,9, 17.3729829,2,  1.81537844,2,     50.4,2,      4.5,2,     17.0,2,     0.02,2,      -999,9,  -999.00,9,  -999.00,9,   0.5998
  32H120020718,    28,  3,      2,2,20020808, 72.8364,-158.2590,  545,    300.5,   0.6037,  34.7579,2,-999.0000,9,    282.4,2,   -999.0,9,  -999.00,9,  -999.00,9,  -999.00,9,  -999.00,9,     -999,9,   -999.0,9,   -999.0,9,  -999.00,9,  -999.00,  -999.00,9,  -999.00,  -999.00,9,  -999.00,  -999.00,9,        -999,         -999,9,  -999.00,  -999.00,9,       -999,9,        -999,9,   -999.0,9,   -999.0,9,   -999.0,9,     -999,9,      -999,9,  -999.00,9,  -999.00,9,   0.5907
  32H120020718,    28,  1,      6,2,20020808, 72.8364,-158.2590,  545,    311.8,   0.6545,  34.7949,2,  34.7942,2,    284.3,2,    289.6,2,     8.52,2,    12.50,2,     0.02,2,     0.91,2,     0.01,2,   -999.0,9,   -999.0,9,  -999.00,9,  -999.00,  -999.00,9,  -999.00,  -999.00,9,  -999.00,  -999.00,9,        -999,         -999,9,  -999.00,  -999.00,9,       -999,9,        -999,9,   -999.0,9,   -999.0,9,   -999.0,9,        0,2,      -999,9,  -999.00,9,  -999.00,9,   0.6409
  32H120020718,    28,  1,      5,2,20020808, 72.8364,-158.2590,  545,    351.9,   0.6317,  34.8158,2,  34.8150,2,    284.9,2,    290.3,2,     8.91,2,    12.50,2,     0.02,2,     0.91,2,        0,2,   -999.0,9,   -999.0,9,  -999.00,9,  -999.00,  -999.00,9,  -999.00,  -999.00,9,  -999.00,  -999.00,9,        -999,         -999,9,  -999.00,  -999.00,9,       -999,9,        -999,9,   -999.0,9,   -999.0,9,   -999.0,9,     0.01,2,      -999,9,  -999.00,9,  -999.00,9,   0.6162
  32H120020718,    28,  1,      4,2,20020808, 72.8364,-158.2590,  545,    400.5,   0.5792,  34.8316,2,  34.8311,2,    286.8,2,    292.6,2,     8.43,2,    12.50,2,     0.02,2,     0.91,2,        0,2,   2149.3,2,   2311.5,2,  -999.00,9,  -999.00,  -999.00,9,  -999.00,  -999.00,9,  -999.00,  -999.00,9,        -999,         -999,9,  -999.00,  -999.00,9, 13.4487113,2,  1.94215647,2,     48.3,2,      2.8,2,     15.3,2,     0.01,2,      -999,9,  -999.00,9,  -999.00,9,   0.5616
  32H120020718,    28,  1,      3,2,20020808, 72.8364,-158.2590,  545,    450.7,   0.5346,  34.8401,2,  34.8400,2,    287.9,2,    293.8,2,     8.25,2,    12.55,2,     0.02,2,     0.90,2,     0.01,2,   -999.0,9,   -999.0,9,  -999.00,9,  -999.00,  -999.00,9,  -999.00,  -999.00,9,  -999.00,  -999.00,9,        -999,         -999,9,  -999.00,  -999.00,9,       -999,9,        -999,9,   -999.0,9,   -999.0,9,   -999.0,9,     0.01,2,      -999,9,  -999.00,9,  -999.00,9,   0.5147
  32H120020718,    28,  1,      2,2,20020808, 72.8364,-158.2590,  545,    510.1,   0.5357,  34.8403,2,  34.8402,2,    287.8,2,    293.9,2,     8.25,2,    12.55,2,     0.02,2,     0.91,2,     0.01,2,   -999.0,9,   -999.0,9,  -999.00,9,  -999.00,  -999.00,9,  -999.00,  -999.00,9,  -999.00,  -999.00,9,        -999,         -999,9,  -999.00,  -999.00,9,       -999,9,        -999,9,   -999.0,9,   -999.0,9,   -999.0,9,     0.01,2,      -999,9,  -999.00,9,  -999.00,9,   0.5129
  32H120020718,    28,  1,      1,2,20020808, 72.8364,-158.2590,  545,    531.1,   0.5362,  34.8403,2,  34.8400,2,    287.9,2,    294.1,2,     8.26,2,    12.55,2,     0.03,2,     0.90,2,     0.02,2,   2147.5,2,   2317.8,2,  -999.00,9,  -999.00,  -999.00,9,  -999.00,  -999.00,9,  -999.00,  -999.00,9,        -999,         -999,9,  -999.00,  -999.00,9, 19.1676909,2,  2.66434431,2,     48.8,2,      4.3,2,     16.9,2,     0.01,2,      -999,9,  -999.00,9,  -999.00,9,   0.5124
  32H120020718,    28,  3,      1,2,20020808, 72.8364,-158.2590,  545,    551.5,   0.5330,  34.8412,2,-999.0000,9,    287.4,2,   -999.0,9,  -999.00,9,  -999.00,9,  -999.00,9,  -999.00,9,     -999,9,   -999.0,9,   -999.0,9,  -999.00,9,  -999.00,  -999.00,9,  -999.00,  -999.00,9,  -999.00,  -999.00,9,        -999,         -999,9,  -999.00,  -999.00,9,       -999,9,        -999,9,   -999.0,9,   -999.0,9,   -999.0,9,     -999,9,      -999,9,  -999.00,9,  -999.00,9,   0.5082
  32H120020718,    29,  2,     12,2,20020809, 72.8814,-158.2250, 1057,      2.0,  -0.8959,  27.2113,2,  27.2929,2,    373.5,2,    384.0,2,     3.55,2,     0.00,2,     0.00,2,     0.65,2,     0.01,2,   1846.3,2,   1968.1,2,    -3.41,2,  -999.00,  -999.00,9,  -999.00,  -999.00,9,  -999.00,  -999.00,9,        -999,         -999,9,  -999.00,  -999.00,9, 48.8078381,2,  9.78510132,2,     69.2,2,      5.1,2,      5.1,2,     0.01,2,      -999,9,     0.16,2,     0.11,2,  -0.8959
  32H120020718,    29,  3,     12,2,20020809, 72.8814,-158.2250, 1057,      2.1,  -0.9017,  27.0735,2,-999.0000,9,    372.7,2,   -999.0,9,  -999.00,9,  -999.00,9,  -999.00,9,  -999.00,9,     -999,9,   -999.0,9,   -999.0,9,    -3.41,2,  -999.00,  -999.00,9,  -999.00,  -999.00,9,  -999.00,  -999.00,9,        -999,         -999,9,  -999.00,  -999.00,9,       -999,9,        -999,9,   -999.0,9,   -999.0,9,   -999.0,9,     -999,9,      -999,9,  -999.00,9,  -999.00,9,  -0.9017
  32H120020718,    29,  3,     11,2,20020809, 72.8814,-158.2250, 1057,      2.1,  -0.9022,  27.0750,2,  27.0873,2,    372.8,2,    383.7,2,     3.42,2,     0.00,2,     0.00,2,     0.65,2,     0.01,2,   -999.0,9,   -999.0,9,  -999.00,9,  -999.00,  -999.00,9,  -999.00,  -999.00,9,  -999.00,  -999.00,9,        -999,         -999,9,  -999.00,  -999.00,9,       -999,9,        -999,9,   -999.0,9,   -999.0,9,   -999.0,9,        0,2,      -999,9,     0.12,2,     0.13,2,  -0.9022
  32H120020718,    29,  3,     10,2,20020809, 72.8814,-158.2250, 1057,      8.3,  -0.9146,  27.4892,2,  27.2605,2,    374.7,2,    384.1,2,     3.61,2,     0.00,2,     0.00,2,     0.65,2,     0.01,2,   -999.0,9,   -999.0,9,    -3.36,2,  -999.00,  -999.00,9,  -999.00,  -999.00,9,  -999.00,  -999.00,9,        -999,         -999,9,  -999.00,  -999.00,9,       -999,9,        -999,9,   -999.0,9,   -999.0,9,   -999.0,9,     0.01,2,      -999,9,     0.12,2,     0.14,2,  -0.9147
  32H120020718,    29, 99,      1,9,20020809, 72.8814,-158.2250, 1057,      8.1,-999.0000,-999.0000,9,-999.0000,9,   -999.0,9,   -999.0,9,  -999.00,9,  -999.00,9,  -999.00,9,  -999.00,9,     -999,9,   -999.0,9,   -999.0,9,  -999.00,9,     1.77,     0.09,2,     7.45,     0.25,2,     2.60,     0.57,2, 0.335526728, 0.0766918235,2,     1.11,     0.27,2,       -999,9,        -999,9,   -999.0,9,   -999.0,9,   -999.0,9,     -999,9,      -999,9,  -999.00,9,  -999.00,9,-999.0000
  32H120020718,    29,  2,     11,2,20020809, 72.8814,-158.2250, 1057,     11.8,  -0.9799,  28.6613,2,  28.6130,2,    384.8,2,    396.1,2,     4.29,2,     0.00,2,     0.00,2,     0.70,2,     0.02,2,   1922.5,2,   2069.9,2,    -3.32,2,  -999.00,  -999.00,9,  -999.00,  -999.00,9,  -999.00,  -999.00,9,        -999,         -999,9,  -999.00,  -999.00,9, 55.3289648,2,  11.9423687,2,     72.1,2,      9.8,2,      9.8,2,     0.01,2,      -999,9,     0.21,2,     0.15,2,  -0.9801