BOTTLE,20090202PRINUNIVRMK
EXPOCODE,STNNBR,CASTNO,BTLNBR,BTLNBR_FLAG_W,DATE,LATITUDE,LONGITUDE,DEPTH,CTDPRS,CTDTMP,CTDSAL,CTDSAL_FLAG_W,SALNTY,SALNTY_FLAG_W,CTDOXY,CTDOXY_FLAG_W,OXYGEN,OXYGEN_FLAG_W,SILCAT,SILCAT_FLAG_W,NITRAT,NITRAT_FLAG_W,NITRIT,NITRIT_FLAG_W,PHSPHT,PHSPHT_FLAG_W,AMMONI,AMMONI_FLAG_W,TCARBN,TCARBN_FLAG_W,ALKALI,ALKALI_FLAG_W,DELO18,DELO18_FLAG_W,RA-224,RA-224E,RA-224_FLAG_W,RA-226,RA-226E,RA-226_FLAG_W,RA-228,RA-228E,RA-228_FLAG_W,RA-8/6,RA-8/6E,RA-8/6_FLAG_W,TH-228,TH-228E,TH-228_FLAG_W,POC,POC_FLAG_W,PON,PON_FLAG_W,DOC,DOC_FLAG_W,DON,DON_FLAG_W,TDN,TDN_FLAG_W,UREA,UREA_FLAG_W,LIGNIN,LIGNIN_FLAG_W,CHLORA,CHLORA_FLAG_W,PHAEO,PHAEO_FLAG_W,THETA
,,,,,,,,METERS,DBARS,ITS-90,PSS-78,,PSS-78,,UMOL/KG,,UMOL/KG,,UMOL/KG,,UMOL/KG,,UMOL/KG,,UMOL/KG,,UMOL/KG,,UMOL/KG,,UMOL/KG,,O/OO,,DPM/100KG,DPM/100KG,,DPM/100KG,DPM/100KG,,DPM/100KG,DPM/100KG,,,,,DPM/100KG,DPM/100KG,,ug/kg,,ug/kg,,UMOL/KG,,UMOL/KG,,UMOL/KG,,UMOL/KG,,NG/KG,,UG/L,,UG/L,,DEGC
  32H120020718,    29,  2,      3,2,20020809, 72.8814,-158.2250, 1057,    161.1,  -1.3403,  33.6394,2,  33.6279,2,    272.9,2,    280.7,2,    30.47,2,    14.73,2,     0.00,2,     1.66,2,        0,2,   -999.0,5,   2308.5,2,    -1.26,2,  -999.00,  -999.00,9,  -999.00,  -999.00,9,  -999.00,  -999.00,9,        -999,         -999,9,  -999.00,  -999.00,9, 7.71696835,2,  1.61177416,2,     58.0,2,      3.7,2,     18.5,2,     0.01,2,      -999,9,     0.01,2,     0.02,2,  -1.3440
  32H120020718,    29,  2,      2,2,20020809, 72.8814,-158.2250, 1057,    181.5,  -1.2579,  34.0142,2,  34.0168,2,    280.6,2,    290.4,2,    27.89,2,    13.98,2,     0.00,2,     1.53,2,     0.01,2,   -999.0,5,   2295.2,2,    -1.00,2,  -999.00,  -999.00,9,  -999.00,  -999.00,9,  -999.00,  -999.00,9,        -999,         -999,9,  -999.00,  -999.00,9,       -999,9,        -999,9,   -999.0,9,   -999.0,9,   -999.0,9,     0.03,2,      -999,9,     0.01,2,     0.03,2,  -1.2624
  32H120020718,    29,  2,      1,2,20020809, 72.8814,-158.2250, 1057,    201.6,  -0.5784,  34.3765,2,  34.3804,2,    271.1,2,    277.0,2,    13.52,2,    12.29,2,     0.00,2,     1.03,2,        0,2,   -999.0,9,   -999.0,9,    -0.14,2,  -999.00,  -999.00,9,  -999.00,  -999.00,9,  -999.00,  -999.00,9,        -999,         -999,9,  -999.00,  -999.00,9, 8.33748546,2,  1.67921201,2,     54.7,2,   -999.0,9,   -999.0,9,     0.01,2,      -999,9,     0.01,2,     0.03,2,  -0.5848
  32H120020718,    29,  3,      1,2,20020809, 72.8814,-158.2250, 1057,    201.3,  -0.5403,  34.3916,2,  34.3935,2,    271.7,2,   -999.0,9,  -999.00,9,  -999.00,9,  -999.00,9,  -999.00,9,     -999,9,   -999.0,9,   -999.0,9,  -999.00,9,  -999.00,  -999.00,9,  -999.00,  -999.00,9,  -999.00,  -999.00,9,        -999,         -999,9,  -999.00,  -999.00,9,       -999,9,        -999,9,   -999.0,9,   -999.0,9,   -999.0,9,     -999,9,      -999,9,     0.04,2,     0.05,2,  -0.5467
  32H120020718,    29,  1,     12,2,20020809, 72.8814,-158.2250, 1057,    226.1,  -0.0021,  34.5715,2,  34.5720,2,    274.5,2,    281.2,2,    10.45,2,    12.28,2,     0.00,2,     0.93,2,        0,2,   -999.0,9,   -999.0,9,  -999.00,9,  -999.00,  -999.00,9,  -999.00,  -999.00,9,  -999.00,  -999.00,9,        -999,         -999,9,  -999.00,  -999.00,9,       -999,9,        -999,9,   -999.0,9,   -999.0,9,   -999.0,9,        0,2,      -999,9,  -999.00,9,  -999.00,9,  -0.0105
  32H120020718,    29,  4,      1,2,20020809, 72.8814,-158.2250, 1057,    240.8,   0.1751,  34.6261,2,-999.0000,9,    276.6,2,   -999.0,9,     9.76,2,    12.28,2,     0.00,2,     0.92,2,     0.04,2,   -999.0,9,   -999.0,9,  -999.00,9,     0.93,     0.08,2,     4.93,     0.29,2,     0.70,     0.05,2, 0.133524425,0.00953745892,2,     1.01,     0.08,2,       -999,9,        -999,9,   -999.0,9,   -999.0,9,   -999.0,9,        0,2,      -999,9,  -999.00,9,  -999.00,9,   0.1658
  32H120020718,    29,  4,      2,2,20020809, 72.8814,-158.2250, 1057,    240.9,   0.1728,  34.6256,2,-999.0000,9,    276.4,2,   -999.0,9,  -999.00,9,  -999.00,9,  -999.00,9,  -999.00,9,     -999,9,   -999.0,9,   -999.0,9,  -999.00,9,     0.93,     0.08,2,     4.93,     0.29,2,     0.70,     0.05,2, 0.133523808,0.00953741489,2,     1.01,     0.08,2,       -999,9,        -999,9,   -999.0,9,   -999.0,9,   -999.0,9,     -999,9,      -999,9,  -999.00,9,  -999.00,9,   0.1635
  32H120020718,    29,  4,      3,2,20020809, 72.8814,-158.2250, 1057,    240.9,   0.1742,  34.6259,2,-999.0000,9,    276.3,2,   -999.0,9,  -999.00,9,  -999.00,9,  -999.00,9,  -999.00,9,     -999,9,   -999.0,9,   -999.0,9,  -999.00,9,     0.93,     0.08,2,     4.93,     0.29,2,     0.70,     0.05,2, 0.133523172,0.00953736943,2,     1.01,     0.08,2,       -999,9,        -999,9,   -999.0,9,   -999.0,9,   -999.0,9,     -999,9,      -999,9,  -999.00,9,  -999.00,9,   0.1649
  32H120020718,    29,  4,      4,2,20020809, 72.8814,-158.2250, 1057,    240.9,   0.1764,  34.6268,2,-999.0000,9,    276.4,2,   -999.0,9,  -999.00,9,  -999.00,9,  -999.00,9,  -999.00,9,     -999,9,   -999.0,9,   -999.0,9,  -999.00,9,     0.93,     0.08,2,     4.93,     0.29,2,     0.70,     0.05,2, 0.133523212,0.00953737228,2,     1.01,     0.08,2,       -999,9,        -999,9,   -999.0,9,   -999.0,9,   -999.0,9,     -999,9,      -999,9,  -999.00,9,  -999.00,9,   0.1671
  32H120020718,    29,  4,      6,2,20020809, 72.8814,-158.2250, 1057,    240.9,   0.1777,  34.6273,2,-999.0000,9,    276.4,2,   -999.0,9,  -999.00,9,  -999.00,9,  -999.00,9,  -999.00,9,     -999,9,   -999.0,9,   -999.0,9,  -999.00,9,     0.93,     0.08,2,     4.93,     0.29,2,     0.70,     0.05,2, 0.133523013,0.00953735807,2,     1.01,     0.08,2,       -999,9,        -999,9,   -999.0,9,   -999.0,9,   -999.0,9,     -999,9,      -999,9,  -999.00,9,  -999.00,9,   0.1684
  32H120020718,    29,  4,      5,2,20020809, 72.8814,-158.2250, 1057,    240.9,   0.1779,  34.6272,2,-999.0000,9,    276.3,2,   -999.0,9,  -999.00,9,  -999.00,9,  -999.00,9,  -999.00,9,     -999,9,   -999.0,9,   -999.0,9,  -999.00,9,     0.93,     0.08,2,     4.93,     0.29,2,     0.70,     0.05,2, 0.133399783,0.00952855596,2,     1.01,     0.08,2,       -999,9,        -999,9,   -999.0,9,   -999.0,9,   -999.0,9,     -999,9,      -999,9,  -999.00,9,  -999.00,9,   0.1685
  32H120020718,    29,  1,     11,2,20020809, 72.8814,-158.2250, 1057,    251.3,   0.3181,  34.6701,2,  34.6726,2,    278.1,2,    284.0,2,     9.04,2,    12.42,2,     0.00,2,     0.90,2,        0,2,   2152.2,2,   2296.9,2,  -999.00,9,  -999.00,  -999.00,9,  -999.00,  -999.00,9,  -999.00,  -999.00,9,        -999,         -999,9,  -999.00,  -999.00,9, 5.23175207,2,  1.03463827,2,     52.9,2,      3.9,2,     16.3,2,        0,2,      -999,9,  -999.00,9,  -999.00,9,   0.3080
  32H120020718,    29,  1,     10,2,20020809, 72.8814,-158.2250, 1057,    300.6,   0.7075,  34.7838,2,  34.7828,2,    286.2,2,    292.1,2,     7.08,2,    12.37,2,     0.00,2,     0.87,2,        0,2,   2145.1,2,   2311.3,2,  -999.00,9,  -999.00,  -999.00,9,  -999.00,  -999.00,9,  -999.00,  -999.00,9,        -999,         -999,9,  -999.00,  -999.00,9,  5.2118095,2, 0.985753808,2,     51.2,2,      4.4,2,     16.8,2,        0,2,      -999,9,  -999.00,9,  -999.00,9,   0.6943
  32H120020718,    29,  6,      6,2,20020809, 72.8814,-158.2250, 1057,    300.9,   0.6951,  34.7813,2,-999.0000,9,    285.4,2,   -999.0,9,  -999.00,9,  -999.00,9,  -999.00,9,  -999.00,9,     -999,9,   -999.0,9,   -999.0,9,  -999.00,9,  -999.00,  -999.00,9,  -999.00,  -999.00,9,  -999.00,  -999.00,9,        -999,         -999,9,  -999.00,  -999.00,9,       -999,9,        -999,9,   -999.0,9,   -999.0,9,   -999.0,9,     -999,9,      -999,9,  -999.00,9,  -999.00,9,   0.6819
  32H120020718,    29,  6,      5,2,20020809, 72.8814,-158.2250, 1057,    300.9,   0.6972,  34.7817,2,-999.0000,9,    285.4,2,   -999.0,9,  -999.00,9,  -999.00,9,  -999.00,9,  -999.00,9,     -999,9,   -999.0,9,   -999.0,9,  -999.00,9,  -999.00,  -999.00,9,  -999.00,  -999.00,9,  -999.00,  -999.00,9,        -999,         -999,9,  -999.00,  -999.00,9,       -999,9,        -999,9,   -999.0,9,   -999.0,9,   -999.0,9,     -999,9,      -999,9,  -999.00,9,  -999.00,9,   0.6840
  32H120020718,    29,  1,      9,2,20020809, 72.8814,-158.2250, 1057,    354.7,   0.7182,  34.8163,2,  34.8145,2,    287.9,2,    294.1,2,     6.88,2,    12.42,2,     0.00,2,     0.86,2,        0,2,   2145.4,2,   2317.1,2,  -999.00,9,  -999.00,  -999.00,9,  -999.00,  -999.00,9,  -999.00,  -999.00,9,        -999,         -999,9,  -999.00,  -999.00,9, 6.47068745,2,  1.42491758,2,     50.3,2,      3.9,2,     16.3,2,        0,2,      -999,9,  -999.00,9,  -999.00,9,   0.7023
  32H120020718,    29,  1,      8,2,20020809, 72.8814,-158.2250, 1057,    404.0,   0.6526,  34.8279,2,  34.8279,2,    288.5,2,    295.1,2,     6.88,2,    12.47,2,     0.00,2,     0.86,2,        0,2,   -999.0,9,   -999.0,9,  -999.00,9,  -999.00,  -999.00,9,  -999.00,  -999.00,9,  -999.00,  -999.00,9,        -999,         -999,9,  -999.00,  -999.00,9,       -999,9,        -999,9,   -999.0,9,   -999.0,9,   -999.0,9,        0,2,      -999,9,  -999.00,9,  -999.00,9,   0.6346
  32H120020718,    29,  1,      7,2,20020809, 72.8814,-158.2250, 1057,    502.6,   0.5332,  34.8436,2,  34.8432,2,    288.6,2,    295.9,2,     7.44,2,    12.57,2,     0.00,2,     0.88,2,        0,2,   2147.1,2,   2312.1,2,  -999.00,9,  -999.00,  -999.00,9,  -999.00,  -999.00,9,  -999.00,  -999.00,9,        -999,         -999,9,  -999.00,  -999.00,9, 6.34366259,2,  1.12234067,2,     48.7,2,      3.0,2,     15.6,2,        0,2,      -999,9,  -999.00,9,  -999.00,9,   0.5108
  32H120020718,    29,  6,      4,2,20020809, 72.8814,-158.2250, 1057,    601.2,   0.4059,  34.8548,2,-999.0000,9,    289.0,2,   -999.0,9,  -999.00,9,  -999.00,9,  -999.00,9,  -999.00,9,     -999,9,   -999.0,9,   -999.0,9,  -999.00,9,  -999.00,  -999.00,9,  -999.00,  -999.00,9,  -999.00,  -999.00,9,        -999,         -999,9,  -999.00,  -999.00,9,       -999,9,        -999,9,   -999.0,9,   -999.0,9,   -999.0,9,     -999,9,      -999,9,  -999.00,9,  -999.00,9,   0.3792
  32H120020718,    29,  6,      3,2,20020809, 72.8814,-158.2250, 1057,    601.2,   0.4060,  34.8548,2,-999.0000,9,    288.9,2,   -999.0,9,  -999.00,9,  -999.00,9,  -999.00,9,  -999.00,9,     -999,9,   -999.0,9,   -999.0,9,  -999.00,9,  -999.00,  -999.00,9,  -999.00,  -999.00,9,  -999.00,  -999.00,9,        -999,         -999,9,  -999.00,  -999.00,9,       -999,9,        -999,9,   -999.0,9,   -999.0,9,   -999.0,9,     -999,9,      -999,9,  -999.00,9,  -999.00,9,   0.3793
  32H120020718,    29,  1,      6,2,20020809, 72.8814,-158.2250, 1057,    603.9,   0.4083,  34.8552,2,  34.8544,2,    289.8,2,    297.7,2,     6.97,2,    12.57,2,     0.00,2,     0.87,2,        0,2,   -999.0,9,   -999.0,9,  -999.00,9,  -999.00,  -999.00,9,  -999.00,  -999.00,9,  -999.00,  -999.00,9,        -999,         -999,9,  -999.00,  -999.00,9,       -999,9,        -999,9,   -999.0,9,   -999.0,9,   -999.0,9,        0,2,      -999,9,  -999.00,9,  -999.00,9,   0.3815
  32H120020718,    29,  1,      5,2,20020809, 72.8814,-158.2250, 1057,    703.2,   0.2762,  34.8622,2,  34.8615,2,    290.4,2,    298.9,2,     6.97,2,    12.53,2,     0.00,2,     0.87,2,        0,2,   2145.3,2,   2325.0,2,  -999.00,9,  -999.00,  -999.00,9,  -999.00,  -999.00,9,  -999.00,  -999.00,9,        -999,         -999,9,  -999.00,  -999.00,9, 4.36244263,2, 0.897861611,2,     46.3,2,      4.3,2,     16.8,2,        0,2,      -999,9,  -999.00,9,  -999.00,9,   0.2451
  32H120020718,    29,  1,      4,2,20020809, 72.8814,-158.2250, 1057,    803.4,   0.1657,  34.8681,2,  34.8678,2,    290.5,2,    299.5,2,     7.07,2,    12.53,2,     0.00,2,     0.88,2,        0,2,   -999.0,9,   -999.0,9,  -999.00,9,  -999.00,  -999.00,9,  -999.00,  -999.00,9,  -999.00,  -999.00,9,        -999,         -999,9,  -999.00,  -999.00,9,       -999,9,        -999,9,   -999.0,9,   -999.0,9,   -999.0,9,        0,2,      -999,9,  -999.00,9,  -999.00,9,   0.1302
  32H120020718,    29,  1,      3,2,20020809, 72.8814,-158.2250, 1057,    901.0,   0.0822,  34.8736,2,  34.8733,2,    290.0,2,    299.5,2,     7.34,2,    12.67,2,     0.00,2,     0.88,2,        0,2,   -999.0,9,   -999.0,9,  -999.00,9,  -999.00,  -999.00,9,  -999.00,  -999.00,9,  -999.00,  -999.00,9,        -999,         -999,9,  -999.00,  -999.00,9,       -999,9,        -999,9,   -999.0,9,   -999.0,9,   -999.0,9,        0,2,      -999,9,  -999.00,9,  -999.00,9,   0.0422
  32H120020718,    29,  6,      1,2,20020809, 72.8814,-158.2250, 1057,    903.1,   0.1126,  34.8717,2,-999.0000,9,    289.9,2,   -999.0,9,  -999.00,9,  -999.00,9,  -999.00,9,  -999.00,9,     -999,9,   -999.0,9,   -999.0,9,  -999.00,9,  -999.00,  -999.00,9,  -999.00,  -999.00,9,  -999.00,  -999.00,9,        -999,         -999,9,  -999.00,  -999.00,9,       -999,9,        -999,9,   -999.0,9,   -999.0,9,   -999.0,9,     -999,9,      -999,9,  -999.00,9,  -999.00,9,   0.0723
  32H120020718,    29,  6,      2,2,20020809, 72.8814,-158.2250, 1057,    903.5,   0.1067,  34.8723,2,-999.0000,9,    290.0,2,   -999.0,9,  -999.00,9,  -999.00,9,  -999.00,9,  -999.00,9,     -999,9,   -999.0,9,   -999.0,9,  -999.00,9,  -999.00,  -999.00,9,  -999.00,  -999.00,9,  -999.00,  -999.00,9,        -999,         -999,9,  -999.00,  -999.00,9,       -999,9,        -999,9,   -999.0,9,   -999.0,9,   -999.0,9,     -999,9,      -999,9,  -999.00,9,  -999.00,9,   0.0664
  32H120020718,    29,  1,      2,2,20020809, 72.8814,-158.2250, 1057,    951.1,   0.0512,  34.8759,2,  34.8749,2,    289.9,2,    299.5,2,     7.34,2,    12.67,2,     0.00,2,     0.89,2,     0.01,2,   -999.0,9,   -999.0,9,  -999.00,9,  -999.00,  -999.00,9,  -999.00,  -999.00,9,  -999.00,  -999.00,9,        -999,         -999,9,  -999.00,  -999.00,9,       -999,9,        -999,9,   -999.0,9,   -999.0,9,   -999.0,9,        0,2,      -999,9,  -999.00,9,  -999.00,9,   0.0088
  32H120020718,    29,  1,      1,2,20020809, 72.8814,-158.2250, 1057,   1048.7,  -0.0254,  34.8809,2,  34.8822,2,    290.0,2,    299.8,2,     7.53,2,    12.76,2,     0.00,2,     0.90,2,        0,2,   2144.2,2,   2338.0,2,  -999.00,9,  -999.00,  -999.00,9,  -999.00,  -999.00,9,  -999.00,  -999.00,9,        -999,         -999,9,  -999.00,  -999.00,9, 5.33829924,2, 0.897847229,2,     45.9,2,      4.1,2,     16.8,2,        0,2,      -999,9,  -999.00,9,  -999.00,9,  -0.0724
  32H120020718,    30,  3,     12,2,20020810, 73.0759,-157.9070, 2025,      2.1,  -0.3672,  27.2693,2,-999.0000,9,    369.1,2,   -999.0,9,  -999.00,9,  -999.00,9,  -999.00,9,  -999.00,9,     -999,9,   -999.0,9,   -999.0,9,  -999.00,9,  -999.00,  -999.00,9,  -999.00,  -999.00,9,  -999.00,  -999.00,9,        -999,         -999,9,  -999.00,  -999.00,9,       -999,9,        -999,9,   -999.0,9,   -999.0,9,   -999.0,9,     -999,9,      -999,9,  -999.00,9,  -999.00,9,  -0.3672
  32H120020718,    30,  3,     11,2,20020810, 73.0759,-157.9070, 2025,      2.1,  -0.3764,  27.2026,2,  27.2559,2,    369.4,2,    378.3,2,     2.68,2,     0.00,2,     0.00,2,     0.66,2,        0,2,   -999.0,9,   -999.0,9,  -999.00,9,  -999.00,  -999.00,9,  -999.00,  -999.00,9,  -999.00,  -999.00,9,        -999,         -999,9,  -999.00,  -999.00,9,       -999,9,        -999,9,   -999.0,9,   -999.0,9,   -999.0,9,        0,2,      -999,9,     0.04,2,     0.04,2,  -0.3764
  32H120020718,    30,  6,     12,2,20020810, 73.0759,-157.9070, 2025,      2.0,  -0.6189,  28.0166,2,  27.2893,2,    367.9,2,    379.0,2,     2.81,2,     0.00,2,     0.00,2,     0.66,2,        0,2,   1848.5,2,   1973.0,2,  -999.00,9,  -999.00,  -999.00,9,  -999.00,  -999.00,9,  -999.00,  -999.00,9,        -999,         -999,9,  -999.00,  -999.00,9, 24.4481983,2,   4.0337951,2,     69.7,2,      5.6,2,      5.6,2,        0,2,      -999,9,     0.05,2,     0.03,2,  -0.6189
  32H120020718,    30, 99,      1,9,20020810, 73.0759,-157.9070, 2025,      8.1,-999.0000,-999.0000,9,-999.0000,9,   -999.0,9,   -999.0,9,  -999.00,9,  -999.00,9,  -999.00,9,  -999.00,9,     -999,9,   -999.0,9,   -999.0,9,  -999.00,9,     2.29,     0.12,2,     6.44,     0.21,2,     3.54,     0.29,2, 0.527518036, 0.0479561851,2,     1.31,     0.21,2,       -999,9,        -999,9,   -999.0,9,   -999.0,9,   -999.0,9,     -999,9,      -999,9,  -999.00,9,  -999.00,9,-999.0000
  32H120020718,    30,  3,     10,2,20020810, 73.0759,-157.9070, 2025,      9.2,  -0.4762,  27.5634,2,-999.0000,9,    376.7,2,    385.7,2,     2.97,2,     0.00,2,     0.00,2,     0.66,2,     0.02,2,   -999.0,9,   -999.0,9,  -999.00,9,  -999.00,  -999.00,9,  -999.00,  -999.00,9,  -999.00,  -999.00,9,        -999,         -999,9,  -999.00,  -999.00,9,       -999,9,        -999,9,   -999.0,9,   -999.0,9,   -999.0,9,        0,2,      -999,9,     0.07,2,     0.07,2,  -0.4764
  32H120020718,    30,  6,     11,2,20020810, 73.0759,-157.9070, 2025,     11.3,  -0.8796,  28.8649,2,  28.8532,2,    386.6,2,    398.1,2,     2.42,2,     0.00,2,     0.00,2,     0.69,2,        0,2,   1936.9,2,   2117.9,2,  -999.00,9,  -999.00,  -999.00,9,  -999.00,  -999.00,9,  -999.00,  -999.00,9,        -999,         -999,9,  -999.00,  -999.00,9, 21.5079995,2,  3.44089801,2,     68.7,2,      4.7,2,      4.7,2,     0.01,2,      -999,9,     0.05,2,     0.03,2,  -0.8798
  32H120020718,    30,  3,      9,2,20020810, 73.0759,-157.9070, 2025,     15.3,  -0.6260,  28.1122,2,-999.0000,9,    389.9,2,    398.2,2,     3.91,2,     0.00,2,     0.00,2,     0.69,2,     0.02,2,   -999.0,9,   -999.0,9,  -999.00,9,  -999.00,  -999.00,9,  -999.00,  -999.00,9,  -999.00,  -999.00,9,        -999,         -999,9,  -999.00,  -999.00,9,       -999,9,        -999,9,   -999.0,9,   -999.0,9,   -999.0,9,        0,2,      -999,9,     0.11,2,     0.13,2,  -0.6263
  32H120020718,    30,  3,      7,2,20020810, 73.0759,-157.9070, 2025,     23.3,  -1.0806,  30.1576,2,-999.0000,9,    394.0,2,   -999.0,9,  -999.00,9,  -999.00,9,  -999.00,9,  -999.00,9,     -999,9,   -999.0,9,   -999.0,9,  -999.00,9,  -999.00,  -999.00,9,  -999.00,  -999.00,9,  -999.00,  -999.00,9,        -999,         -999,9,  -999.00,  -999.00,9,       -999,9,        -999,9,   -999.0,9,   -999.0,9,   -999.0,9,     -999,9,      -999,9,  -999.00,9,  -999.00,9,  -1.0810
  32H120020718,    30,  3,      8,2,20020810, 73.0759,-157.9070, 2025,     23.3,  -1.0809,  30.1591,2,-999.0000,9,    393.7,2,    404.5,2,     4.84,2,     0.00,2,     0.00,2,     0.74,2,     0.01,2,   -999.0,9,   -999.0,9,  -999.00,9,  -999.00,  -999.00,9,  -999.00,  -999.00,9,  -999.00,  -999.00,9,        -999,         -999,9,  -999.00,  -999.00,9,       -999,9,        -999,9,   -999.0,9,   -999.0,9,   -999.0,9,        0,2,      -999,9,     0.28,2,     0.24,2,  -1.0813