BOTTLE,20090202PRINUNIVRMK
EXPOCODE,STNNBR,CASTNO,BTLNBR,BTLNBR_FLAG_W,DATE,LATITUDE,LONGITUDE,DEPTH,CTDPRS,CTDTMP,CTDSAL,CTDSAL_FLAG_W,SALNTY,SALNTY_FLAG_W,CTDOXY,CTDOXY_FLAG_W,OXYGEN,OXYGEN_FLAG_W,SILCAT,SILCAT_FLAG_W,NITRAT,NITRAT_FLAG_W,NITRIT,NITRIT_FLAG_W,PHSPHT,PHSPHT_FLAG_W,AMMONI,AMMONI_FLAG_W,TCARBN,TCARBN_FLAG_W,ALKALI,ALKALI_FLAG_W,DELO18,DELO18_FLAG_W,RA-224,RA-224E,RA-224_FLAG_W,RA-226,RA-226E,RA-226_FLAG_W,RA-228,RA-228E,RA-228_FLAG_W,RA-8/6,RA-8/6E,RA-8/6_FLAG_W,TH-228,TH-228E,TH-228_FLAG_W,POC,POC_FLAG_W,PON,PON_FLAG_W,DOC,DOC_FLAG_W,DON,DON_FLAG_W,TDN,TDN_FLAG_W,UREA,UREA_FLAG_W,LIGNIN,LIGNIN_FLAG_W,CHLORA,CHLORA_FLAG_W,PHAEO,PHAEO_FLAG_W,THETA
,,,,,,,,METERS,DBARS,ITS-90,PSS-78,,PSS-78,,UMOL/KG,,UMOL/KG,,UMOL/KG,,UMOL/KG,,UMOL/KG,,UMOL/KG,,UMOL/KG,,UMOL/KG,,UMOL/KG,,O/OO,,DPM/100KG,DPM/100KG,,DPM/100KG,DPM/100KG,,DPM/100KG,DPM/100KG,,,,,DPM/100KG,DPM/100KG,,ug/kg,,ug/kg,,UMOL/KG,,UMOL/KG,,UMOL/KG,,UMOL/KG,,NG/KG,,UG/L,,UG/L,,DEGC
  32H120020718,    32,  7,      1,2,20020813, 73.7074,-159.0930, 1401,    201.3,  -1.1405,  33.9964,2,-999.0000,9,    262.9,2,   -999.0,9,  -999.00,9,  -999.00,9,  -999.00,9,  -999.00,9,     -999,9,   -999.0,9,   -999.0,9,  -999.00,9,  -999.00,  -999.00,9,  -999.00,  -999.00,9,  -999.00,  -999.00,9,        -999,         -999,9,  -999.00,  -999.00,9,       -999,9,        -999,9,   -999.0,9,   -999.0,9,   -999.0,9,     -999,9,      -999,9,  -999.00,9,  -999.00,9,  -1.1457
  32H120020718,    32,  2,      1,2,20020813, 73.7074,-159.0930, 1401,    226.1,  -0.6711,  34.3457,2,  34.3420,2,    276.2,2,    283.6,2,    10.96,2,    11.42,2,     0.00,2,     0.95,2,     0.05,2,   2161.5,2,   2290.2,2,  -999.00,9,  -999.00,  -999.00,9,  -999.00,  -999.00,9,  -999.00,  -999.00,9,        -999,         -999,9,  -999.00,  -999.00,9, 6.45343163,2, 0.820104456,2,     54.6,2,   -999.0,9,   -999.0,9,     0.16,2,      -999,9,     0.01,2,     0.07,2,  -0.6781
  32H120020718,    32,  1,     12,2,20020813, 73.7074,-159.0930, 1401,    251.1,  -0.2058,  34.4917,2,  34.4940,2,    277.8,2,    286.4,2,     9.35,2,    11.51,2,     0.01,2,     0.89,2,     0.01,2,   2151.4,2,   2309.2,2,  -999.00,9,  -999.00,  -999.00,9,  -999.00,  -999.00,9,  -999.00,  -999.00,9,        -999,         -999,9,  -999.00,  -999.00,9, 6.48198399,2,  0.93715543,2,     53.5,2,      2.1,2,     13.6,2,        0,2,      -999,9,  -999.00,9,  -999.00,9,  -0.2147
  32H120020718,    32,  3,      6,2,20020813, 73.7074,-159.0930, 1401,    251.7,  -0.1533,  34.5050,2,-999.0000,9,    279.7,2,   -999.0,9,  -999.00,9,  -999.00,9,  -999.00,9,  -999.00,9,     -999,9,   -999.0,9,   -999.0,9,  -999.00,9,     1.09,     0.09,2,     5.56,     0.22,2,     1.10,     0.71,2, 0.191088803,  0.124207722,2,     0.67,     0.45,2,       -999,9,        -999,9,   -999.0,9,   -999.0,9,   -999.0,9,     -999,9,      -999,9,  -999.00,9,  -999.00,9,  -0.1623
  32H120020718,    32,  3,      5,2,20020813, 73.7074,-159.0930, 1401,    251.7,  -0.1546,  34.5050,2,-999.0000,9,    279.0,2,   -999.0,9,  -999.00,9,  -999.00,9,  -999.00,9,  -999.00,9,     -999,9,   -999.0,9,   -999.0,9,  -999.00,9,     1.09,     0.09,2,     5.56,     0.22,2,     1.10,     0.71,2, 0.191087137,  0.124206639,2,     0.67,     0.45,2,       -999,9,        -999,9,   -999.0,9,   -999.0,9,   -999.0,9,     -999,9,      -999,9,  -999.00,9,  -999.00,9,  -0.1636
  32H120020718,    32,  3,      4,2,20020813, 73.7074,-159.0930, 1401,    251.7,  -0.1570,  34.5048,2,-999.0000,9,    279.3,2,   -999.0,9,  -999.00,9,  -999.00,9,  -999.00,9,  -999.00,9,     -999,9,   -999.0,9,   -999.0,9,  -999.00,9,     1.09,     0.09,2,     5.56,     0.22,2,     1.10,     0.71,2, 0.191087877,   0.12420712,2,     0.67,     0.45,2,       -999,9,        -999,9,   -999.0,9,   -999.0,9,   -999.0,9,     -999,9,      -999,9,  -999.00,9,  -999.00,9,  -0.1660
  32H120020718,    32,  3,      3,2,20020813, 73.7074,-159.0930, 1401,    251.7,  -0.1586,  34.5044,2,-999.0000,9,    279.7,2,   -999.0,9,  -999.00,9,  -999.00,9,  -999.00,9,  -999.00,9,     -999,9,   -999.0,9,   -999.0,9,  -999.00,9,     1.09,     0.09,2,     5.56,     0.22,2,     1.10,     0.71,2,  0.19108755,  0.124206907,2,     0.67,     0.45,2,       -999,9,        -999,9,   -999.0,9,   -999.0,9,   -999.0,9,     -999,9,      -999,9,  -999.00,9,  -999.00,9,  -0.1676
  32H120020718,    32,  3,      2,2,20020813, 73.7074,-159.0930, 1401,    251.7,  -0.1596,  34.5041,2,-999.0000,9,    279.5,2,   -999.0,9,  -999.00,9,  -999.00,9,  -999.00,9,  -999.00,9,     -999,9,   -999.0,9,   -999.0,9,  -999.00,9,     1.09,     0.09,2,     5.56,     0.22,2,     1.10,     0.71,2, 0.191088375,  0.124207444,2,     0.67,     0.45,2,       -999,9,        -999,9,   -999.0,9,   -999.0,9,   -999.0,9,     -999,9,      -999,9,  -999.00,9,  -999.00,9,  -0.1686
  32H120020718,    32,  3,      1,2,20020813, 73.7074,-159.0930, 1401,    251.7,  -0.1603,  34.5034,2,-999.0000,9,    279.7,2,   -999.0,9,     9.08,2,    11.52,2,     0.00,2,     0.90,2,        0,2,   -999.0,9,   -999.0,9,  -999.00,9,     1.09,     0.09,2,     5.55,     0.22,2,     1.10,     0.71,2, 0.190852644,  0.124054219,2,     0.67,     0.45,2,       -999,9,        -999,9,   -999.0,9,   -999.0,9,   -999.0,9,        0,2,      -999,9,  -999.00,9,  -999.00,9,  -0.1693
  32H120020718,    32,  1,     11,2,20020813, 73.7074,-159.0930, 1401,    276.2,   0.1536,  34.5968,2,  34.6002,2,    280.6,2,    287.3,2,     8.26,2,    11.79,2,     0.01,2,     0.88,2,     0.01,2,   -999.0,9,   -999.0,9,  -999.00,9,  -999.00,  -999.00,9,  -999.00,  -999.00,9,  -999.00,  -999.00,9,        -999,         -999,9,  -999.00,  -999.00,9,       -999,9,        -999,9,   -999.0,9,   -999.0,9,   -999.0,9,        0,2,      -999,9,  -999.00,9,  -999.00,9,   0.1429
  32H120020718,    32,  1,     10,2,20020813, 73.7074,-159.0930, 1401,    300.8,   0.4759,  34.7054,2,  34.7087,2,    280.8,2,    287.4,2,     8.25,2,    12.32,2,     0.01,2,     0.90,2,     0.01,2,   2147.9,2,   2338.4,2,  -999.00,9,  -999.00,  -999.00,9,  -999.00,  -999.00,9,  -999.00,  -999.00,9,        -999,         -999,9,  -999.00,  -999.00,9, 5.14375965,2, 0.644191558,2,     51.1,2,      2.9,2,     15.2,2,        0,2,      -999,9,  -999.00,9,  -999.00,9,   0.4633
  32H120020718,    32,  1,      9,2,20020813, 73.7074,-159.0930, 1401,    326.0,   0.7312,  34.7799,2,  34.7825,2,    287.2,2,    293.3,2,     6.77,2,    12.22,2,     0.01,2,     0.87,2,     0.01,2,   -999.0,9,   -999.0,9,  -999.00,9,  -999.00,  -999.00,9,  -999.00,  -999.00,9,  -999.00,  -999.00,9,        -999,         -999,9,  -999.00,  -999.00,9,       -999,9,        -999,9,   -999.0,9,   -999.0,9,   -999.0,9,        0,2,      -999,9,  -999.00,9,  -999.00,9,   0.7167
  32H120020718,    32,  1,      8,2,20020813, 73.7074,-159.0930, 1401,    351.2,   0.6513,  34.7760,2,  34.7809,2,    284.9,2,    291.6,2,     7.16,2,    12.30,2,     0.00,2,     0.88,2,        0,2,   2138.0,2,   2366.7,2,  -999.00,9,  -999.00,  -999.00,9,  -999.00,  -999.00,9,  -999.00,  -999.00,9,        -999,         -999,9,  -999.00,  -999.00,9, 5.28014137,2, 0.614875434,2,     50.8,2,      3.5,2,     15.8,2,        0,2,      -999,9,  -999.00,9,  -999.00,9,   0.6358
  32H120020718,    32,  5,      5,2,20020813, 73.7074,-159.0930, 1401,    356.1,   0.6887,  34.7776,2,-999.0000,9,    283.4,2,   -999.0,9,     6.94,2,    12.32,2,     0.00,2,     0.88,2,     0.01,2,   -999.0,9,   -999.0,9,  -999.00,9,  -999.00,  -999.00,9,  -999.00,  -999.00,9,  -999.00,  -999.00,9,        -999,         -999,9,  -999.00,  -999.00,9,       -999,9,        -999,9,   -999.0,9,   -999.0,9,   -999.0,9,     0.02,2,      -999,9,  -999.00,9,  -999.00,9,   0.6729
  32H120020718,    32,  1,      7,2,20020813, 73.7074,-159.0930, 1401,    402.0,   0.7853,  34.8275,2,  34.8279,2,    289.9,2,    296.2,2,     6.37,2,    12.35,2,     0.00,2,     0.87,2,     0.01,2,   2141.0,2,   2312.2,2,  -999.00,9,  -999.00,  -999.00,9,  -999.00,  -999.00,9,  -999.00,  -999.00,9,        -999,         -999,9,  -999.00,  -999.00,9, 4.75291566,2, 0.712451749,2,     49.8,2,      3.5,2,     15.9,2,        0,2,      -999,9,  -999.00,9,  -999.00,9,   0.7669
  32H120020718,    32,  1,      6,2,20020813, 73.7074,-159.0930, 1401,    452.5,   0.6557,  34.8301,2,  34.8307,2,    289.0,2,    295.4,2,     6.76,2,    12.35,2,     0.00,2,     0.87,2,     0.01,2,   -999.0,9,   -999.0,9,  -999.00,9,  -999.00,  -999.00,9,  -999.00,  -999.00,9,  -999.00,  -999.00,9,        -999,         -999,9,  -999.00,  -999.00,9,       -999,9,        -999,9,   -999.0,9,   -999.0,9,   -999.0,9,        0,2,      -999,9,  -999.00,9,  -999.00,9,   0.6353
  32H120020718,    32,  1,      5,2,20020813, 73.7074,-159.0930, 1401,    501.1,   0.5860,  34.8397,2,  34.8411,2,    289.8,2,    297.0,2,     6.56,2,    12.45,2,     0.00,2,     0.87,2,        0,2,   -999.0,9,   -999.0,9,  -999.00,9,  -999.00,  -999.00,9,  -999.00,  -999.00,9,  -999.00,  -999.00,9,        -999,         -999,9,  -999.00,  -999.00,9,       -999,9,        -999,9,   -999.0,9,   -999.0,9,   -999.0,9,        0,2,      -999,9,  -999.00,9,  -999.00,9,   0.5635
  32H120020718,    32,  1,      4,2,20020813, 73.7074,-159.0930, 1401,    600.1,   0.4345,  34.8529,2,  34.8543,2,    289.4,2,    297.1,2,     6.85,2,    12.59,2,     0.00,2,     0.88,2,        0,2,   2137.1,2,   2333.8,2,  -999.00,9,  -999.00,  -999.00,9,  -999.00,  -999.00,9,  -999.00,  -999.00,9,        -999,         -999,9,  -999.00,  -999.00,9, 3.79640194,2, 0.585564029,2,     49.0,2,      5.7,2,     18.3,2,        0,2,      -999,9,  -999.00,9,  -999.00,9,   0.4077
  32H120020718,    32,  1,      3,2,20020813, 73.7074,-159.0930, 1401,    799.0,   0.1870,  34.8679,2,  34.8695,2,    290.6,2,    299.6,2,     6.84,2,    12.59,2,     0.00,2,     0.89,2,        0,2,   -999.0,9,   -999.0,9,  -999.00,9,  -999.00,  -999.00,9,  -999.00,  -999.00,9,  -999.00,  -999.00,9,        -999,         -999,9,  -999.00,  -999.00,9,       -999,9,        -999,9,   -999.0,9,   -999.0,9,   -999.0,9,        0,2,      -999,9,  -999.00,9,  -999.00,9,   0.1516
  32H120020718,    32,  5,      4,2,20020813, 73.7074,-159.0930, 1401,    803.9,   0.1766,  34.8680,2,-999.0000,9,    288.4,2,   -999.0,9,     6.64,2,    12.57,2,     0.00,2,     0.89,2,        0,2,   -999.0,9,   -999.0,9,  -999.00,9,  -999.00,  -999.00,9,  -999.00,  -999.00,9,  -999.00,  -999.00,9,        -999,         -999,9,  -999.00,  -999.00,9,       -999,9,        -999,9,   -999.0,9,   -999.0,9,   -999.0,9,        0,2,      -999,9,  -999.00,9,  -999.00,9,   0.1410
  32H120020718,    32,  1,      2,2,20020813, 73.7074,-159.0930, 1401,    999.7,  -0.0425,  34.8802,2,  34.8821,2,    290.9,2,    301.6,2,     6.94,2,    12.69,2,     0.00,2,     0.90,2,        0,2,   -999.0,9,   -999.0,9,  -999.00,9,  -999.00,  -999.00,9,  -999.00,  -999.00,9,  -999.00,  -999.00,9,        -999,         -999,9,  -999.00,  -999.00,9,       -999,9,        -999,9,   -999.0,9,   -999.0,9,   -999.0,9,        0,2,      -999,9,  -999.00,9,  -999.00,9,  -0.0867
  32H120020718,    32,  1,      1,2,20020813, 73.7074,-159.0930, 1401,   1201.2,  -0.1915,  34.8939,2,  34.8947,2,    290.1,2,    301.0,2,     7.52,2,    12.92,2,     0.00,2,     0.92,2,        0,2,   2142.7,2,   2312.2,2,  -999.00,9,  -999.00,  -999.00,9,  -999.00,  -999.00,9,  -999.00,  -999.00,9,        -999,         -999,9,  -999.00,  -999.00,9, 3.50352096,2, 0.487955491,2,     47.2,2,      3.2,2,     16.1,2,     0.01,2,      -999,9,  -999.00,9,  -999.00,9,  -0.2454
  32H120020718,    32,  5,      3,2,20020813, 73.7074,-159.0930, 1401,   1503.2,  -0.3328,  34.9160,2,  34.9144,2,    282.9,2,   -999.0,9,     8.58,2,    13.38,2,     0.00,2,     0.96,2,        0,2,   -999.0,9,   -999.0,9,  -999.00,9,  -999.00,  -999.00,9,  -999.00,  -999.00,9,  -999.00,  -999.00,9,        -999,         -999,9,  -999.00,  -999.00,9,       -999,9,        -999,9,   -999.0,9,   -999.0,9,   -999.0,9,     0.01,2,      -999,9,  -999.00,9,  -999.00,9,  -0.4025
  32H120020718,    32,  6,      1,2,20020813, 73.7074,-159.0930, 1401,   1524.4,  -0.3381,  34.9172,2,-999.0000,9,    284.0,2,   -999.0,9,  -999.00,9,  -999.00,9,  -999.00,9,  -999.00,9,     -999,9,   -999.0,9,   -999.0,9,  -999.00,9,  -999.00,  -999.00,9,  -999.00,  -999.00,9,  -999.00,  -999.00,9,        -999,         -999,9,  -999.00,  -999.00,9,       -999,9,        -999,9,   -999.0,9,   -999.0,9,   -999.0,9,     -999,9,      -999,9,  -999.00,9,  -999.00,9,  -0.4090
  32H120020718,    32,  6,      5,2,20020813, 73.7074,-159.0930, 1401,   1524.5,  -0.3375,  34.9171,2,-999.0000,9,    283.6,2,   -999.0,9,  -999.00,9,  -999.00,9,  -999.00,9,  -999.00,9,     -999,9,   -999.0,9,   -999.0,9,  -999.00,9,  -999.00,  -999.00,9,  -999.00,  -999.00,9,  -999.00,  -999.00,9,        -999,         -999,9,  -999.00,  -999.00,9,       -999,9,        -999,9,   -999.0,9,   -999.0,9,   -999.0,9,     -999,9,      -999,9,  -999.00,9,  -999.00,9,  -0.4085
  32H120020718,    32,  6,      3,2,20020813, 73.7074,-159.0930, 1401,   1524.5,  -0.3378,  34.9171,2,-999.0000,9,    283.8,2,   -999.0,9,  -999.00,9,  -999.00,9,  -999.00,9,  -999.00,9,     -999,9,   -999.0,9,   -999.0,9,  -999.00,9,  -999.00,  -999.00,9,  -999.00,  -999.00,9,  -999.00,  -999.00,9,        -999,         -999,9,  -999.00,  -999.00,9,       -999,9,        -999,9,   -999.0,9,   -999.0,9,   -999.0,9,     -999,9,      -999,9,  -999.00,9,  -999.00,9,  -0.4088
  32H120020718,    32,  6,      4,2,20020813, 73.7074,-159.0930, 1401,   1524.5,  -0.3378,  34.9173,2,-999.0000,9,    283.8,2,   -999.0,9,  -999.00,9,  -999.00,9,  -999.00,9,  -999.00,9,     -999,9,   -999.0,9,   -999.0,9,  -999.00,9,  -999.00,  -999.00,9,  -999.00,  -999.00,9,  -999.00,  -999.00,9,        -999,         -999,9,  -999.00,  -999.00,9,       -999,9,        -999,9,   -999.0,9,   -999.0,9,   -999.0,9,     -999,9,      -999,9,  -999.00,9,  -999.00,9,  -0.4088
  32H120020718,    32,  6,      2,2,20020813, 73.7074,-159.0930, 1401,   1524.5,  -0.3382,  34.9171,2,-999.0000,9,    283.8,2,   -999.0,9,  -999.00,9,  -999.00,9,  -999.00,9,  -999.00,9,     -999,9,   -999.0,9,   -999.0,9,  -999.00,9,  -999.00,  -999.00,9,  -999.00,  -999.00,9,  -999.00,  -999.00,9,        -999,         -999,9,  -999.00,  -999.00,9,       -999,9,        -999,9,   -999.0,9,   -999.0,9,   -999.0,9,     -999,9,      -999,9,  -999.00,9,  -999.00,9,  -0.4091
  32H120020718,    32,  6,      9,2,20020813, 73.7074,-159.0930, 1401,   1524.6,  -0.3372,  34.9173,2,-999.0000,9,    283.5,2,   -999.0,9,  -999.00,9,  -999.00,9,  -999.00,9,  -999.00,9,     -999,9,   -999.0,9,   -999.0,9,  -999.00,9,  -999.00,  -999.00,9,  -999.00,  -999.00,9,  -999.00,  -999.00,9,        -999,         -999,9,  -999.00,  -999.00,9,       -999,9,        -999,9,   -999.0,9,   -999.0,9,   -999.0,9,     -999,9,      -999,9,  -999.00,9,  -999.00,9,  -0.4082
  32H120020718,    32,  6,     11,2,20020813, 73.7074,-159.0930, 1401,   1524.6,  -0.3372,  34.9175,2,-999.0000,9,    283.4,2,   -999.0,9,  -999.00,9,  -999.00,9,  -999.00,9,  -999.00,9,     -999,9,   -999.0,9,   -999.0,9,  -999.00,9,  -999.00,  -999.00,9,  -999.00,  -999.00,9,  -999.00,  -999.00,9,        -999,         -999,9,  -999.00,  -999.00,9,       -999,9,        -999,9,   -999.0,9,   -999.0,9,   -999.0,9,     -999,9,      -999,9,  -999.00,9,  -999.00,9,  -0.4082
  32H120020718,    32,  6,      7,2,20020813, 73.7074,-159.0930, 1401,   1524.6,  -0.3373,  34.9174,2,-999.0000,9,    283.8,2,   -999.0,9,  -999.00,9,  -999.00,9,  -999.00,9,  -999.00,9,     -999,9,   -999.0,9,   -999.0,9,  -999.00,9,  -999.00,  -999.00,9,  -999.00,  -999.00,9,  -999.00,  -999.00,9,        -999,         -999,9,  -999.00,  -999.00,9,       -999,9,        -999,9,   -999.0,9,   -999.0,9,   -999.0,9,     -999,9,      -999,9,  -999.00,9,  -999.00,9,  -0.4083
  32H120020718,    32,  6,     10,2,20020813, 73.7074,-159.0930, 1401,   1524.6,  -0.3374,  34.9172,2,-999.0000,9,    283.7,2,   -999.0,9,  -999.00,9,  -999.00,9,  -999.00,9,  -999.00,9,     -999,9,   -999.0,9,   -999.0,9,  -999.00,9,  -999.00,  -999.00,9,  -999.00,  -999.00,9,  -999.00,  -999.00,9,        -999,         -999,9,  -999.00,  -999.00,9,       -999,9,        -999,9,   -999.0,9,   -999.0,9,   -999.0,9,     -999,9,      -999,9,  -999.00,9,  -999.00,9,  -0.4084
  32H120020718,    32,  6,     12,2,20020813, 73.7074,-159.0930, 1401,   1524.6,  -0.3374,  34.9174,2,-999.0000,9,    283.7,2,   -999.0,9,  -999.00,9,  -999.00,9,  -999.00,9,  -999.00,9,     -999,9,   -999.0,9,   -999.0,9,  -999.00,9,  -999.00,  -999.00,9,  -999.00,  -999.00,9,  -999.00,  -999.00,9,        -999,         -999,9,  -999.00,  -999.00,9,       -999,9,        -999,9,   -999.0,9,   -999.0,9,   -999.0,9,     -999,9,      -999,9,  -999.00,9,  -999.00,9,  -0.4084
  32H120020718,    32,  6,      8,2,20020813, 73.7074,-159.0930, 1401,   1524.6,  -0.3375,  34.9175,2,-999.0000,9,    283.6,2,   -999.0,9,  -999.00,9,  -999.00,9,  -999.00,9,  -999.00,9,     -999,9,   -999.0,9,   -999.0,9,  -999.00,9,  -999.00,  -999.00,9,  -999.00,  -999.00,9,  -999.00,  -999.00,9,        -999,         -999,9,  -999.00,  -999.00,9,       -999,9,        -999,9,   -999.0,9,   -999.0,9,   -999.0,9,     -999,9,      -999,9,  -999.00,9,  -999.00,9,  -0.4085
  32H120020718,    32,  6,      6,2,20020813, 73.7074,-159.0930, 1401,   1524.6,  -0.3376,  34.9174,2,-999.0000,9,    283.6,2,   -999.0,9,  -999.00,9,  -999.00,9,  -999.00,9,  -999.00,9,     -999,9,   -999.0,9,   -999.0,9,  -999.00,9,  -999.00,  -999.00,9,  -999.00,  -999.00,9,  -999.00,  -999.00,9,        -999,         -999,9,  -999.00,  -999.00,9,       -999,9,        -999,9,   -999.0,9,   -999.0,9,   -999.0,9,     -999,9,      -999,9,  -999.00,9,  -999.00,9,  -0.4086
  32H120020718,    32,  5,      2,2,20020813, 73.7074,-159.0930, 1401,   2203.8,  -0.3976,  34.9473,2,  34.9469,2,    271.3,2,   -999.0,9,    11.79,2,    14.42,2,     0.00,2,     1.04,2,        0,2,   -999.0,9,   -999.0,9,  -999.00,9,  -999.00,  -999.00,9,  -999.00,  -999.00,9,  -999.00,  -999.00,9,        -999,         -999,9,  -999.00,  -999.00,9,       -999,9,        -999,9,   -999.0,9,   -999.0,9,   -999.0,9,        0,2,      -999,9,  -999.00,9,  -999.00,9,  -0.5121
  32H120020718,    32,  5,      1,2,20020813, 73.7074,-159.0930, 1401,   2815.0,  -0.3512,  34.9546,2,  34.9534,2,    268.6,2,   -999.0,9,    12.75,2,    14.57,2,     0.00,2,     1.05,2,        0,2,   -999.0,9,   -999.0,9,  -999.00,9,  -999.00,  -999.00,9,  -999.00,  -999.00,9,  -999.00,  -999.00,9,        -999,         -999,9,  -999.00,  -999.00,9,       -999,9,        -999,9,   -999.0,9,   -999.0,9,   -999.0,9,     0.01,2,      -999,9,  -999.00,9,  -999.00,9,  -0.5129
  32H120020718,    33,  2,     12,2,20020814, 73.4972,-159.5480, 2251,      2.2,  -0.5452,  27.0274,2,  27.0521,2,    364.1,2,    376.0,2,     2.91,2,     0.00,2,     0.00,2,     0.65,2,     0.04,2,   1834.2,2,   1961.0,2,  -999.00,9,  -999.00,  -999.00,9,  -999.00,  -999.00,9,  -999.00,  -999.00,9,        -999,         -999,9,  -999.00,  -999.00,9, 23.7357816,2,  4.72164207,2,     64.7,2,   -999.0,9,   -999.0,9,     0.03,2,      -999,9,     0.05,2,     0.04,2,  -0.5452
  32H120020718,    33,  5,     12,2,20020814, 73.4972,-159.5480, 2251,      2.1,  -0.7437,  26.8726,2,-999.0000,9,    365.6,2,   -999.0,9,  -999.00,9,  -999.00,9,  -999.00,9,  -999.00,9,     -999,9,   -999.0,9,   -999.0,9,  -999.00,9,  -999.00,  -999.00,9,  -999.00,  -999.00,9,  -999.00,  -999.00,9,        -999,         -999,9,  -999.00,  -999.00,9,       -999,9,        -999,9,   -999.0,9,   -999.0,9,   -999.0,9,     -999,9,      -999,9,  -999.00,9,  -999.00,9,  -0.7437
  32H120020718,    33,  5,     11,2,20020814, 73.4972,-159.5480, 2251,      2.2,  -0.7440,  26.8712,2,  26.8751,2,    365.7,2,    377.0,2,     2.57,2,     0.00,2,     0.00,2,     0.63,2,     0.02,2,   -999.0,9,   -999.0,9,  -999.00,9,  -999.00,  -999.00,9,  -999.00,  -999.00,9,  -999.00,  -999.00,9,        -999,         -999,9,  -999.00,  -999.00,9,       -999,9,        -999,9,   -999.0,9,   -999.0,9,   -999.0,9,        0,2,      -999,9,     0.05,2,     0.03,2,  -0.7440