BOTTLE,20090202PRINUNIVRMK
EXPOCODE,STNNBR,CASTNO,BTLNBR,BTLNBR_FLAG_W,DATE,LATITUDE,LONGITUDE,DEPTH,CTDPRS,CTDTMP,CTDSAL,CTDSAL_FLAG_W,SALNTY,SALNTY_FLAG_W,CTDOXY,CTDOXY_FLAG_W,OXYGEN,OXYGEN_FLAG_W,SILCAT,SILCAT_FLAG_W,NITRAT,NITRAT_FLAG_W,NITRIT,NITRIT_FLAG_W,PHSPHT,PHSPHT_FLAG_W,AMMONI,AMMONI_FLAG_W,TCARBN,TCARBN_FLAG_W,ALKALI,ALKALI_FLAG_W,DELO18,DELO18_FLAG_W,RA-224,RA-224E,RA-224_FLAG_W,RA-226,RA-226E,RA-226_FLAG_W,RA-228,RA-228E,RA-228_FLAG_W,RA-8/6,RA-8/6E,RA-8/6_FLAG_W,TH-228,TH-228E,TH-228_FLAG_W,POC,POC_FLAG_W,PON,PON_FLAG_W,DOC,DOC_FLAG_W,DON,DON_FLAG_W,TDN,TDN_FLAG_W,UREA,UREA_FLAG_W,LIGNIN,LIGNIN_FLAG_W,CHLORA,CHLORA_FLAG_W,PHAEO,PHAEO_FLAG_W,THETA
,,,,,,,,METERS,DBARS,ITS-90,PSS-78,,PSS-78,,UMOL/KG,,UMOL/KG,,UMOL/KG,,UMOL/KG,,UMOL/KG,,UMOL/KG,,UMOL/KG,,UMOL/KG,,UMOL/KG,,O/OO,,DPM/100KG,DPM/100KG,,DPM/100KG,DPM/100KG,,DPM/100KG,DPM/100KG,,,,,DPM/100KG,DPM/100KG,,ug/kg,,ug/kg,,UMOL/KG,,UMOL/KG,,UMOL/KG,,UMOL/KG,,NG/KG,,UG/L,,UG/L,,DEGC
  32H120020718,    20,  1,      8,2,20020801, 71.6959,-152.2930, 1112,    352.7,   0.6654,  34.8134,2,  34.8144,2,    286.5,2,    292.9,2,     7.45,2,    12.57,2,     0.01,2,     0.88,2,     0.02,2,   2141.6,2,   2321.4,2,  -999.00,9,  -999.00,  -999.00,9,  -999.00,  -999.00,9,  -999.00,  -999.00,9,        -999,         -999,9,  -999.00,  -999.00,9, 6.48044801,2,  1.01500842,2,     51.0,2,      2.9,2,     15.5,2,     0.03,2,      -999,9,  -999.00,9,  -999.00,9,   0.6498
  32H120020718,    20,  1,      7,2,20020801, 71.6959,-152.2930, 1112,    403.1,   0.6157,  34.8272,2,  34.8280,2,    287.5,2,    294.3,2,     7.34,2,    12.57,2,     0.01,2,     0.88,2,     0.02,2,   2145.5,2,   2306.7,2,  -999.00,9,  -999.00,  -999.00,9,  -999.00,  -999.00,9,  -999.00,  -999.00,9,        -999,         -999,9,  -999.00,  -999.00,9, 6.57797323,2,  1.01499788,2,     48.4,2,      2.5,2,     15.1,2,     0.02,2,      -999,9,  -999.00,9,  -999.00,9,   0.5978
  32H120020718,    20,  1,      6,2,20020801, 71.6959,-152.2930, 1112,    503.5,   0.5302,  34.8426,2,  34.8443,2,    288.7,2,    295.7,2,     7.43,2,    12.57,2,     0.01,2,     0.88,2,        0,2,   2142.9,2,   2316.0,2,  -999.00,9,  -999.00,  -999.00,9,  -999.00,  -999.00,9,  -999.00,  -999.00,9,        -999,         -999,9,  -999.00,  -999.00,9, 6.84140283,2,  1.15161979,2,     49.6,2,      3.0,2,     15.6,2,     0.01,2,      -999,9,  -999.00,9,  -999.00,9,   0.5078
  32H120020718,    20,  1,      5,2,20020801, 71.6959,-152.2930, 1112,    603.6,   0.4557,  34.8496,2,  34.8504,2,    288.8,2,    296.2,2,     7.42,2,    12.62,2,     0.01,2,     0.89,2,        0,2,   2143.7,2,   2323.5,2,  -999.00,9,  -999.00,  -999.00,9,  -999.00,  -999.00,9,  -999.00,  -999.00,9,        -999,         -999,9,  -999.00,  -999.00,9, 8.05154648,2,  1.21992954,2,     49.3,2,      3.0,2,     15.6,2,     0.02,2,      -999,9,  -999.00,9,  -999.00,9,   0.4287
  32H120020718,    20,  1,      4,2,20020801, 71.6959,-152.2930, 1112,    702.1,   0.3979,  34.8546,2,  34.8558,2,    288.8,2,    296.7,2,     7.31,2,    12.62,2,     0.01,2,     0.90,2,     0.01,2,   -999.0,9,   -999.0,9,  -999.00,9,  -999.00,  -999.00,9,  -999.00,  -999.00,9,  -999.00,  -999.00,9,        -999,         -999,9,  -999.00,  -999.00,9,       -999,9,        -999,9,   -999.0,9,   -999.0,9,   -999.0,9,     0.01,2,      -999,9,  -999.00,9,  -999.00,9,   0.3662
  32H120020718,    20,  1,      3,2,20020801, 71.6959,-152.2930, 1112,    801.1,   0.3546,  34.8575,2,  34.8587,2,    288.7,2,    296.9,2,     7.30,2,    12.62,2,     0.01,2,     0.90,2,     0.03,2,   2143.3,2,   -999.0,9,  -999.00,9,  -999.00,  -999.00,9,  -999.00,  -999.00,9,  -999.00,  -999.00,9,        -999,         -999,9,  -999.00,  -999.00,9, 7.57328786,2,  1.19064392,2,     49.6,2,      2.0,2,     14.7,2,     0.03,2,      -999,9,  -999.00,9,  -999.00,9,   0.3180
  32H120020718,    20,  5,      2,2,20020801, 71.6959,-152.2930, 1112,    800.9,   0.2719,  34.8623,2,-999.0000,9,    289.5,2,   -999.0,9,  -999.00,9,  -999.00,9,  -999.00,9,  -999.00,9,     -999,9,   -999.0,9,   -999.0,9,  -999.00,9,  -999.00,  -999.00,9,  -999.00,  -999.00,9,  -999.00,  -999.00,9,        -999,         -999,9,  -999.00,  -999.00,9,       -999,9,        -999,9,   -999.0,9,   -999.0,9,   -999.0,9,     -999,9,      -999,9,  -999.00,9,  -999.00,9,   0.2358
  32H120020718,    20,  5,      1,2,20020801, 71.6959,-152.2930, 1112,    800.9,   0.2794,  34.8619,2,-999.0000,9,    289.7,2,   -999.0,9,  -999.00,9,  -999.00,9,  -999.00,9,  -999.00,9,     -999,9,   -999.0,9,   -999.0,9,  -999.00,9,  -999.00,  -999.00,9,  -999.00,  -999.00,9,  -999.00,  -999.00,9,        -999,         -999,9,  -999.00,  -999.00,9,       -999,9,        -999,9,   -999.0,9,   -999.0,9,   -999.0,9,     -999,9,      -999,9,  -999.00,9,  -999.00,9,   0.2433
  32H120020718,    20,  1,      2,2,20020801, 71.6959,-152.2930, 1112,   1001.4,   0.2056,  34.8666,2,  34.8680,2,    288.8,2,    297.7,2,     7.48,2,    12.67,2,     0.01,2,     0.91,2,     0.03,2,   -999.0,9,   -999.0,9,  -999.00,9,  -999.00,  -999.00,9,  -999.00,  -999.00,9,  -999.00,  -999.00,9,        -999,         -999,9,  -999.00,  -999.00,9,       -999,9,        -999,9,   -999.0,9,   -999.0,9,   -999.0,9,     0.01,2,      -999,9,  -999.00,9,  -999.00,9,   0.1593
  32H120020718,    20,  1,      1,2,20020801, 71.6959,-152.2930, 1112,   1096.7,  -0.2054,  34.8984,2,  34.8991,2,    288.3,2,    298.2,2,     8.71,2,    13.05,2,     0.02,2,     0.95,2,     0.06,2,   2146.2,2,   2335.3,2,  -999.00,9,  -999.00,  -999.00,9,  -999.00,  -999.00,9,  -999.00,  -999.00,9,        -999,         -999,9,  -999.00,  -999.00,9, 8.21713911,2,  1.05398072,2,     48.6,2,      8.3,2,     21.4,2,     0.06,2,      -999,9,  -999.00,9,  -999.00,9,  -0.2535
  32H120020718,    21,  3,     12,2,20020802, 71.6472,-152.3960,  451,      2.1,  -0.8774,  26.0055,2,  15.2676,2,    368.9,2,    389.8,2,     6.86,2,     0.08,2,     0.02,2,     0.43,2,      0.1,2,   1290.8,2,   1312.8,2,  -999.00,9,  -999.00,  -999.00,9,  -999.00,  -999.00,9,  -999.00,  -999.00,9,        -999,         -999,9,  -999.00,  -999.00,9, 124.522562,2,  22.3712592,2,     51.2,2,      3.4,2,      3.6,2,     0.04,2,      -999,9,     0.82,2,     0.57,2,  -0.8774
  32H120020718,    21,  6,     12,2,20020802, 71.6472,-152.3960,  451,      2.1,  -1.0549,  25.8322,2,  12.6042,2,    366.3,2,   -999.0,9,  -999.00,9,  -999.00,9,  -999.00,9,  -999.00,9,     -999,9,   -999.0,9,   -999.0,9,  -999.00,9,  -999.00,  -999.00,9,  -999.00,  -999.00,9,  -999.00,  -999.00,9,        -999,         -999,9,  -999.00,  -999.00,9,       -999,9,        -999,9,   -999.0,9,   -999.0,9,   -999.0,9,     -999,9,      -999,9,  -999.00,9,  -999.00,9,  -1.0549
  32H120020718,    21,  6,     11,2,20020802, 71.6472,-152.3960,  451,      2.1,  -1.0740,  25.9050,2,-999.0000,9,    362.6,2,    400.7,2,     6.65,2,     0.08,2,     0.02,2,     0.35,2,     0.15,2,   -999.0,9,   -999.0,9,  -999.00,9,  -999.00,  -999.00,9,  -999.00,  -999.00,9,  -999.00,  -999.00,9,        -999,         -999,9,  -999.00,  -999.00,9,       -999,9,        -999,9,   -999.0,9,   -999.0,9,   -999.0,9,     0.07,2,      -999,9,     0.86,2,     0.57,2,  -1.0740
  32H120020718,    21,  6,     10,2,20020802, 71.6472,-152.3960,  451,      5.1,  -1.2244,  27.6693,2,-999.0000,9,    387.9,2,    395.2,2,     6.93,2,     0.09,2,     0.00,2,     0.59,2,     0.09,2,   -999.0,9,   -999.0,9,  -999.00,9,  -999.00,  -999.00,9,  -999.00,  -999.00,9,  -999.00,  -999.00,9,        -999,         -999,9,  -999.00,  -999.00,9,       -999,9,        -999,9,   -999.0,9,   -999.0,9,   -999.0,9,     0.03,2,      -999,9,     0.58,2,     0.47,2,  -1.2245
  32H120020718,    21,  6,      9,2,20020802, 71.6472,-152.3960,  451,      8.1,  -1.0814,  27.9052,2,-999.0000,9,    388.6,2,    403.6,2,     7.41,2,     0.04,2,     0.00,2,     0.61,2,      0.1,2,   -999.0,9,   -999.0,9,  -999.00,9,  -999.00,  -999.00,9,  -999.00,  -999.00,9,  -999.00,  -999.00,9,        -999,         -999,9,  -999.00,  -999.00,9,       -999,9,        -999,9,   -999.0,9,   -999.0,9,   -999.0,9,     0.03,2,      -999,9,     0.53,2,     0.40,2,  -1.0815
  32H120020718,    21, 99,      1,9,20020802, 71.6472,-152.3960,  451,      8.1,-999.0000,-999.0000,9,-999.0000,9,   -999.0,9,   -999.0,9,  -999.00,9,  -999.00,9,  -999.00,9,  -999.00,9,     -999,9,   -999.0,9,   -999.0,9,  -999.00,9,     0.89,     0.06,2,     5.18,     0.54,2,     5.03,     0.33,2, 0.926667544,  0.114639284,2,     0.65,     0.17,2,       -999,9,        -999,9,   -999.0,9,   -999.0,9,   -999.0,9,     -999,9,      -999,9,  -999.00,9,  -999.00,9,-999.0000
  32H120020718,    21,  3,     11,2,20020802, 71.6472,-152.3960,  451,     11.3,  -0.5382,  28.5100,2,  28.4562,2,    386.8,2,    397.1,2,     8.04,2,     0.05,2,     0.00,2,     0.61,2,      0.1,2,   1832.2,2,   2000.7,2,  -999.00,9,  -999.00,  -999.00,9,  -999.00,  -999.00,9,  -999.00,  -999.00,9,        -999,         -999,9,  -999.00,  -999.00,9, 87.7836226,2,  18.9158447,2,     66.8,2,      3.3,2,      3.5,2,        0,2,      -999,9,     0.43,2,     0.38,2,  -0.5384
  32H120020718,    21,  6,      8,2,20020802, 71.6472,-152.3960,  451,     12.3,  -1.1539,  28.6392,2,-999.0000,9,    398.5,2,    404.6,2,     7.59,2,     0.04,2,     0.00,2,     0.63,2,      0.1,2,   -999.0,9,   -999.0,9,  -999.00,9,  -999.00,  -999.00,9,  -999.00,  -999.00,9,  -999.00,  -999.00,9,        -999,         -999,9,  -999.00,  -999.00,9,       -999,9,        -999,9,   -999.0,9,   -999.0,9,   -999.0,9,     0.03,2,      -999,9,     0.65,2,     0.48,2,  -1.1541
  32H120020718,    21,  6,      7,2,20020802, 71.6472,-152.3960,  451,     12.3,  -1.1670,  28.6299,2,-999.0000,9,    399.0,2,   -999.0,9,  -999.00,9,  -999.00,9,  -999.00,9,  -999.00,9,     -999,9,   -999.0,9,   -999.0,9,  -999.00,9,  -999.00,  -999.00,9,  -999.00,  -999.00,9,  -999.00,  -999.00,9,        -999,         -999,9,  -999.00,  -999.00,9,       -999,9,        -999,9,   -999.0,9,   -999.0,9,   -999.0,9,     -999,9,      -999,9,  -999.00,9,  -999.00,9,  -1.1672
  32H120020718,    21,  6,      6,2,20020802, 71.6472,-152.3960,  451,     18.7,   0.1184,  29.4736,2,-999.0000,9,    380.2,2,    394.6,2,     9.03,2,     0.08,2,     0.01,2,     0.62,2,      0.3,2,   -999.0,9,   -999.0,9,  -999.00,9,  -999.00,  -999.00,9,  -999.00,  -999.00,9,  -999.00,  -999.00,9,        -999,         -999,9,  -999.00,  -999.00,9,       -999,9,        -999,9,   -999.0,9,   -999.0,9,   -999.0,9,     0.03,2,      -999,9,     0.70,2,     0.41,2,   0.1179
  32H120020718,    21,  2,     11,2,20020802, 71.6472,-152.3960,  451,     21.0,   0.4963,  29.8319,2,-999.0000,9,    378.6,2,   -999.0,9,     8.55,2,     0.00,2,     0.00,2,     0.61,2,     0.25,2,   -999.0,9,   -999.0,9,  -999.00,9,  -999.00,  -999.00,9,  -999.00,  -999.00,9,  -999.00,  -999.00,9,        -999,         -999,9,  -999.00,  -999.00,9,       -999,9,        -999,9,   -999.0,9,   -999.0,9,   -999.0,9,        0,2,      -999,9,  -999.00,9,  -999.00,9,   0.4957
  32H120020718,    21,  2,     12,2,20020802, 71.6472,-152.3960,  451,     21.0,   0.4965,  29.8226,2,-999.0000,9,    378.6,2,   -999.0,9,     8.54,2,    -0.01,2,     0.00,2,     0.61,2,     0.26,2,   -999.0,9,   -999.0,9,  -999.00,9,  -999.00,  -999.00,9,  -999.00,  -999.00,9,  -999.00,  -999.00,9,        -999,         -999,9,  -999.00,  -999.00,9,       -999,9,        -999,9,   -999.0,9,   -999.0,9,   -999.0,9,        0,2,      -999,9,  -999.00,9,  -999.00,9,   0.4959
  32H120020718,    21,  3,     10,2,20020802, 71.6472,-152.3960,  451,     26.5,  -1.2401,  30.6117,2,  30.6979,2,    402.4,2,    414.9,2,    10.81,2,     0.54,2,     0.03,2,     0.84,2,     0.27,2,   1988.0,2,   2164.3,2,  -999.00,9,  -999.00,  -999.00,9,  -999.00,  -999.00,9,  -999.00,  -999.00,9,        -999,         -999,9,  -999.00,  -999.00,9, 105.238984,2,  22.4281975,2,     76.6,2,      4.0,2,      4.9,2,     0.01,2,      -999,9,     1.82,2,     1.10,2,  -1.2406
  32H120020718,    21,  6,      4,2,20020802, 71.6472,-152.3960,  451,     28.2,  -0.5581,  30.6939,2,-999.0000,9,    389.7,2,   -999.0,9,  -999.00,9,  -999.00,9,  -999.00,9,  -999.00,9,     -999,9,   -999.0,9,   -999.0,9,  -999.00,9,  -999.00,  -999.00,9,  -999.00,  -999.00,9,  -999.00,  -999.00,9,        -999,         -999,9,  -999.00,  -999.00,9,       -999,9,        -999,9,   -999.0,9,   -999.0,9,   -999.0,9,     -999,9,      -999,9,  -999.00,9,  -999.00,9,  -0.5587
  32H120020718,    21,  6,      5,2,20020802, 71.6472,-152.3960,  451,     28.2,  -0.5688,  30.6979,2,-999.0000,9,    390.4,2,    399.3,2,    12.46,2,     0.72,2,     0.04,2,     0.80,2,     0.78,2,   -999.0,9,   -999.0,9,  -999.00,9,  -999.00,  -999.00,9,  -999.00,  -999.00,9,  -999.00,  -999.00,9,        -999,         -999,9,  -999.00,  -999.00,9,       -999,9,        -999,9,   -999.0,9,   -999.0,9,   -999.0,9,     0.06,2,      -999,9,     0.62,2,     0.45,2,  -0.5694
  32H120020718,    21,  3,      9,2,20020802, 71.6472,-152.3960,  451,     41.6,  -1.4490,  31.8574,2,  31.8245,2,    357.1,2,    369.6,2,    21.62,2,     4.06,2,     0.11,2,     1.23,2,     1.46,2,   2082.3,2,   2228.6,2,  -999.00,9,  -999.00,  -999.00,9,  -999.00,  -999.00,9,  -999.00,  -999.00,9,        -999,         -999,9,  -999.00,  -999.00,9, 94.6844158,2,  20.1791529,2,     66.6,2,      4.3,2,      9.9,2,      0.1,2,      -999,9,     1.72,2,     1.08,2,  -1.4497
  32H120020718,    21,  6,      3,2,20020802, 71.6472,-152.3960,  451,     51.1,  -1.5541,  32.1680,2,-999.0000,9,    315.7,2,    324.5,2,    30.96,2,     9.03,2,     0.14,2,     1.56,2,     1.29,2,   -999.0,9,   -999.0,9,  -999.00,9,  -999.00,  -999.00,9,  -999.00,  -999.00,9,  -999.00,  -999.00,9,        -999,         -999,9,  -999.00,  -999.00,9,       -999,9,        -999,9,   -999.0,9,   -999.0,9,   -999.0,9,     0.08,2,      -999,9,  -999.00,9,  -999.00,9,  -1.5550
  32H120020718,    21,  3,      8,2,20020802, 71.6472,-152.3960,  451,     61.9,  -1.5705,  32.3753,2,  32.3660,2,    321.3,2,    337.3,2,    30.06,2,     8.16,2,     0.13,2,     1.52,2,     1.92,2,   2132.5,2,   2245.6,2,  -999.00,9,  -999.00,  -999.00,9,  -999.00,  -999.00,9,  -999.00,  -999.00,9,        -999,         -999,9,  -999.00,  -999.00,9, 67.8754581,2,  14.4022816,2,     72.4,2,      5.9,2,     16.1,2,     0.11,2,      -999,9,     0.71,2,     0.87,2,  -1.5716
  32H120020718,    21,  3,      7,2,20020802, 71.6472,-152.3960,  451,     82.1,  -1.6629,  32.7346,2,  32.7392,2,    302.4,2,    311.9,2,    39.21,2,    11.72,2,     0.16,2,     1.76,2,     2.12,2,   -999.0,9,   -999.0,9,  -999.00,9,  -999.00,  -999.00,9,  -999.00,  -999.00,9,  -999.00,  -999.00,9,        -999,         -999,9,  -999.00,  -999.00,9,       -999,9,        -999,9,   -999.0,9,   -999.0,9,   -999.0,9,     0.09,2,      -999,9,     0.78,2,     0.89,2,  -1.6644