BOTTLE,20090202PRINUNIVRMK
EXPOCODE,STNNBR,CASTNO,BTLNBR,BTLNBR_FLAG_W,DATE,LATITUDE,LONGITUDE,DEPTH,CTDPRS,CTDTMP,CTDSAL,CTDSAL_FLAG_W,SALNTY,SALNTY_FLAG_W,CTDOXY,CTDOXY_FLAG_W,OXYGEN,OXYGEN_FLAG_W,SILCAT,SILCAT_FLAG_W,NITRAT,NITRAT_FLAG_W,NITRIT,NITRIT_FLAG_W,PHSPHT,PHSPHT_FLAG_W,AMMONI,AMMONI_FLAG_W,TCARBN,TCARBN_FLAG_W,ALKALI,ALKALI_FLAG_W,DELO18,DELO18_FLAG_W,RA-224,RA-224E,RA-224_FLAG_W,RA-226,RA-226E,RA-226_FLAG_W,RA-228,RA-228E,RA-228_FLAG_W,RA-8/6,RA-8/6E,RA-8/6_FLAG_W,TH-228,TH-228E,TH-228_FLAG_W,POC,POC_FLAG_W,PON,PON_FLAG_W,DOC,DOC_FLAG_W,DON,DON_FLAG_W,TDN,TDN_FLAG_W,UREA,UREA_FLAG_W,LIGNIN,LIGNIN_FLAG_W,CHLORA,CHLORA_FLAG_W,PHAEO,PHAEO_FLAG_W,THETA
,,,,,,,,METERS,DBARS,ITS-90,PSS-78,,PSS-78,,UMOL/KG,,UMOL/KG,,UMOL/KG,,UMOL/KG,,UMOL/KG,,UMOL/KG,,UMOL/KG,,UMOL/KG,,UMOL/KG,,O/OO,,DPM/100KG,DPM/100KG,,DPM/100KG,DPM/100KG,,DPM/100KG,DPM/100KG,,,,,DPM/100KG,DPM/100KG,,ug/kg,,ug/kg,,UMOL/KG,,UMOL/KG,,UMOL/KG,,UMOL/KG,,NG/KG,,UG/L,,UG/L,,DEGC
  32H120020718,    39,  2,      7,2,20020818, 72.8013,-161.0850,   51,     18.8,  -1.5499,  32.1349,2,-999.0000,9,    364.0,2,   -999.0,9,  -999.00,9,  -999.00,9,  -999.00,9,  -999.00,9,     -999,9,   -999.0,9,   -999.0,9,  -999.00,9,  -999.00,  -999.00,9,  -999.00,  -999.00,9,  -999.00,  -999.00,9,        -999,         -999,9,  -999.00,  -999.00,9,       -999,9,        -999,9,   -999.0,9,   -999.0,9,   -999.0,9,     -999,9,      -999,9,  -999.00,9,  -999.00,9,  -1.5502
  32H120020718,    39,  2,      3,2,20020818, 72.8013,-161.0850,   51,     18.9,  -1.5093,  32.1542,2,-999.0000,9,    400.4,2,   -999.0,9,  -999.00,9,  -999.00,9,  -999.00,9,  -999.00,9,     -999,9,   -999.0,9,   -999.0,9,  -999.00,9,  -999.00,  -999.00,9,  -999.00,  -999.00,9,  -999.00,  -999.00,9,        -999,         -999,9,  -999.00,  -999.00,9,       -999,9,        -999,9,   -999.0,9,   -999.0,9,   -999.0,9,     -999,9,      -999,9,  -999.00,9,  -999.00,9,  -1.5096
  32H120020718,    39,  2,      4,2,20020818, 72.8013,-161.0850,   51,     18.9,  -1.5256,  32.1491,2,-999.0000,9,    398.0,2,   -999.0,9,  -999.00,9,  -999.00,9,  -999.00,9,  -999.00,9,     -999,9,   -999.0,9,   -999.0,9,  -999.00,9,  -999.00,  -999.00,9,  -999.00,  -999.00,9,  -999.00,  -999.00,9,        -999,         -999,9,  -999.00,  -999.00,9,       -999,9,        -999,9,   -999.0,9,   -999.0,9,   -999.0,9,     -999,9,      -999,9,  -999.00,9,  -999.00,9,  -1.5259
  32H120020718,    39,  2,      8,2,20020818, 72.8013,-161.0850,   51,     18.9,  -1.5344,  32.1549,2,-999.0000,9,    364.3,2,   -999.0,9,  -999.00,9,  -999.00,9,  -999.00,9,  -999.00,9,     -999,9,   -999.0,9,   -999.0,9,  -999.00,9,  -999.00,  -999.00,9,  -999.00,  -999.00,9,  -999.00,  -999.00,9,        -999,         -999,9,  -999.00,  -999.00,9,       -999,9,        -999,9,   -999.0,9,   -999.0,9,   -999.0,9,     -999,9,      -999,9,  -999.00,9,  -999.00,9,  -1.5347
  32H120020718,    39,  2,      5,2,20020818, 72.8013,-161.0850,   51,     18.9,  -1.5350,  32.1457,2,-999.0000,9,    394.0,2,   -999.0,9,  -999.00,9,  -999.00,9,  -999.00,9,  -999.00,9,     -999,9,   -999.0,9,   -999.0,9,  -999.00,9,  -999.00,  -999.00,9,  -999.00,  -999.00,9,  -999.00,  -999.00,9,        -999,         -999,9,  -999.00,  -999.00,9,       -999,9,        -999,9,   -999.0,9,   -999.0,9,   -999.0,9,     -999,9,      -999,9,  -999.00,9,  -999.00,9,  -1.5353
  32H120020718,    39,  2,      6,2,20020818, 72.8013,-161.0850,   51,     18.9,  -1.5356,  32.1474,2,-999.0000,9,    388.6,2,   -999.0,9,  -999.00,9,  -999.00,9,  -999.00,9,  -999.00,9,     -999,9,   -999.0,9,   -999.0,9,  -999.00,9,  -999.00,  -999.00,9,  -999.00,  -999.00,9,  -999.00,  -999.00,9,        -999,         -999,9,  -999.00,  -999.00,9,       -999,9,        -999,9,   -999.0,9,   -999.0,9,   -999.0,9,     -999,9,      -999,9,  -999.00,9,  -999.00,9,  -1.5359
  32H120020718,    39,  2,      9,2,20020818, 72.8013,-161.0850,   51,     18.9,  -1.5394,  32.1571,2,-999.0000,9,    376.6,2,   -999.0,9,  -999.00,9,  -999.00,9,  -999.00,9,  -999.00,9,     -999,9,   -999.0,9,   -999.0,9,  -999.00,9,  -999.00,  -999.00,9,  -999.00,  -999.00,9,  -999.00,  -999.00,9,        -999,         -999,9,  -999.00,  -999.00,9,       -999,9,        -999,9,   -999.0,9,   -999.0,9,   -999.0,9,     -999,9,      -999,9,  -999.00,9,  -999.00,9,  -1.5397
  32H120020718,    39,  2,      1,2,20020818, 72.8013,-161.0850,   51,     19.0,  -1.4766,  32.1550,2,-999.0000,9,    424.3,2,   -999.0,9,    25.39,2,     1.29,2,     0.12,2,     1.37,2,     0.51,2,   -999.0,9,   -999.0,9,  -999.00,9,  -999.00,  -999.00,9,  -999.00,  -999.00,9,  -999.00,  -999.00,9,        -999,         -999,9,  -999.00,  -999.00,9,       -999,9,        -999,9,   -999.0,9,   -999.0,9,   -999.0,9,     0.11,2,      -999,9,  -999.00,9,  -999.00,9,  -1.4769
  32H120020718,    39,  2,      2,2,20020818, 72.8013,-161.0850,   51,     19.0,  -1.5072,  32.1602,2,-999.0000,9,    400.7,2,   -999.0,9,  -999.00,9,  -999.00,9,  -999.00,9,  -999.00,9,     -999,9,   -999.0,9,   -999.0,9,  -999.00,9,  -999.00,  -999.00,9,  -999.00,  -999.00,9,  -999.00,  -999.00,9,        -999,         -999,9,  -999.00,  -999.00,9,       -999,9,        -999,9,   -999.0,9,   -999.0,9,   -999.0,9,     -999,9,      -999,9,  -999.00,9,  -999.00,9,  -1.5075
  32H120020718,    39,  2,     10,2,20020818, 72.8013,-161.0850,   51,     19.0,  -1.5390,  32.1596,2,-999.0000,9,    378.5,2,   -999.0,9,    36.84,2,     6.31,2,     0.24,2,     1.63,2,     1.11,2,   -999.0,9,   -999.0,9,  -999.00,9,  -999.00,  -999.00,9,  -999.00,  -999.00,9,  -999.00,  -999.00,9,        -999,         -999,9,  -999.00,  -999.00,9,       -999,9,        -999,9,   -999.0,9,   -999.0,9,   -999.0,9,     0.17,2,      -999,9,  -999.00,9,  -999.00,9,  -1.5393
  32H120020718,    39,  3,      8,2,20020818, 72.8013,-161.0850,   51,     21.5,  -1.6399,  32.2372,2,  32.2064,2,    270.6,2,    279.4,2,    44.10,2,    16.13,2,     0.22,2,     2.21,2,     1.58,2,   2157.5,2,   2218.3,2,    -1.22,2,  -999.00,  -999.00,9,  -999.00,  -999.00,9,  -999.00,  -999.00,9,        -999,         -999,9,  -999.00,  -999.00,9,  329.48158,2,  61.1557315,2,     65.8,2,      5.1,2,     23.0,2,     0.14,2,      -999,9,     8.16,2,     3.72,2,  -1.6403
  32H120020718,    39,  4,     10,2,20020818, 72.8013,-161.0850,   51,     21.7,  -0.4716,  32.3152,2,-999.0000,9,    441.6,2,   -999.0,9,  -999.00,9,  -999.00,9,  -999.00,9,  -999.00,9,     -999,9,   -999.0,9,   -999.0,9,  -999.00,9,     0.26,     0.05,2,     1.62,     0.28,2,     1.63,     0.41,2, 0.965220796,  0.296255888,2,     0.16,     0.05,2,       -999,9,        -999,9,   -999.0,9,   -999.0,9,   -999.0,9,     -999,9,      -999,9,  -999.00,9,  -999.00,9,  -0.4722
  32H120020718,    39,  4,     12,2,20020818, 72.8013,-161.0850,   51,     21.7,  -0.5493,  32.3561,2,-999.0000,9,    451.4,2,   -999.0,9,     4.40,2,     0.07,2,     0.01,2,     0.53,2,     0.07,2,   -999.0,9,   -999.0,9,  -999.00,9,     0.26,     0.05,2,     1.62,     0.28,2,     1.63,     0.41,2, 0.965191249,  0.296246819,2,     0.16,     0.05,2,       -999,9,        -999,9,   -999.0,9,   -999.0,9,   -999.0,9,     0.04,2,      -999,9,  -999.00,9,  -999.00,9,  -0.5499
  32H120020718,    39,  4,      6,2,20020818, 72.8013,-161.0850,   51,     21.7,  -0.6748,  32.3060,2,-999.0000,9,    425.5,2,   -999.0,9,  -999.00,9,  -999.00,9,  -999.00,9,  -999.00,9,     -999,9,   -999.0,9,   -999.0,9,  -999.00,9,     0.26,     0.05,2,     1.62,     0.28,2,     1.63,     0.41,2, 0.965228129,  0.296258139,2,     0.16,     0.05,2,       -999,9,        -999,9,   -999.0,9,   -999.0,9,   -999.0,9,     -999,9,      -999,9,  -999.00,9,  -999.00,9,  -0.6753
  32H120020718,    39,  4,      5,2,20020818, 72.8013,-161.0850,   51,     21.7,  -0.6985,  32.3062,2,-999.0000,9,    426.3,2,   -999.0,9,  -999.00,9,  -999.00,9,  -999.00,9,  -999.00,9,     -999,9,   -999.0,9,   -999.0,9,  -999.00,9,     0.26,     0.05,2,     1.62,     0.28,2,     1.63,     0.41,2, 0.965227698,  0.296258006,2,     0.16,     0.05,2,       -999,9,        -999,9,   -999.0,9,   -999.0,9,   -999.0,9,     -999,9,      -999,9,  -999.00,9,  -999.00,9,  -0.6990
  32H120020718,    39,  4,     11,2,20020818, 72.8013,-161.0850,   51,     21.7,  -0.7778,  32.3269,2,-999.0000,9,    440.3,2,   -999.0,9,  -999.00,9,  -999.00,9,  -999.00,9,  -999.00,9,     -999,9,   -999.0,9,   -999.0,9,  -999.00,9,     0.26,     0.05,2,     1.62,     0.28,2,     1.63,     0.41,2, 0.965212673,  0.296253395,2,     0.16,     0.05,2,       -999,9,        -999,9,   -999.0,9,   -999.0,9,   -999.0,9,     -999,9,      -999,9,  -999.00,9,  -999.00,9,  -0.7783
  32H120020718,    39,  4,      8,2,20020818, 72.8013,-161.0850,   51,     21.7,  -0.0141,  32.3102,2,-999.0000,9,    448.3,2,   -999.0,9,  -999.00,9,  -999.00,9,  -999.00,9,  -999.00,9,     -999,9,   -999.0,9,   -999.0,9,  -999.00,9,     0.26,     0.05,2,     1.62,     0.28,2,     1.64,     0.41,2, 0.968757785,  0.297341498,2,     0.16,     0.05,2,       -999,9,        -999,9,   -999.0,9,   -999.0,9,   -999.0,9,     -999,9,      -999,9,  -999.00,9,  -999.00,9,  -0.0148
  32H120020718,    39,  4,      1,2,20020818, 72.8013,-161.0850,   51,     21.7,  -0.5079,  32.3015,2,-999.0000,9,    431.8,2,   -999.0,9,     3.28,2,     0.07,2,     0.01,2,     0.47,2,     0.06,2,   -999.0,9,   -999.0,9,  -999.00,9,     0.26,     0.05,2,     1.62,     0.28,2,     1.64,     0.41,2,  0.96876464,  0.297343602,2,     0.16,     0.05,2,       -999,9,        -999,9,   -999.0,9,   -999.0,9,   -999.0,9,     0.05,2,      -999,9,  -999.00,9,  -999.00,9,  -0.5085
  32H120020718,    39,  4,      4,2,20020818, 72.8013,-161.0850,   51,     21.7,  -0.6050,  32.3078,2,-999.0000,9,    430.8,2,   -999.0,9,  -999.00,9,  -999.00,9,  -999.00,9,  -999.00,9,     -999,9,   -999.0,9,   -999.0,9,  -999.00,9,     0.26,     0.05,2,     1.62,     0.28,2,     1.64,     0.41,2, 0.968735246,   0.29733458,2,     0.16,     0.05,2,       -999,9,        -999,9,   -999.0,9,   -999.0,9,   -999.0,9,     -999,9,      -999,9,  -999.00,9,  -999.00,9,  -0.6056
  32H120020718,    39,  4,      2,2,20020818, 72.8013,-161.0850,   51,     21.7,  -0.6362,  32.3137,2,-999.0000,9,    422.9,2,   -999.0,9,  -999.00,9,  -999.00,9,  -999.00,9,  -999.00,9,     -999,9,   -999.0,9,   -999.0,9,  -999.00,9,     0.26,     0.05,2,     1.62,     0.28,2,     1.64,     0.41,2, 0.966451519,  0.296633634,2,     0.16,     0.05,2,       -999,9,        -999,9,   -999.0,9,   -999.0,9,   -999.0,9,     -999,9,      -999,9,  -999.00,9,  -999.00,9,  -0.6368
  32H120020718,    39,  4,      3,2,20020818, 72.8013,-161.0850,   51,     21.7,  -0.6688,  32.3061,2,-999.0000,9,    424.0,2,   -999.0,9,  -999.00,9,  -999.00,9,  -999.00,9,  -999.00,9,     -999,9,   -999.0,9,   -999.0,9,  -999.00,9,     0.26,     0.05,2,     1.62,     0.28,2,     1.64,     0.41,2,  0.96609224,  0.296523361,2,     0.16,     0.05,2,       -999,9,        -999,9,   -999.0,9,   -999.0,9,   -999.0,9,     -999,9,      -999,9,  -999.00,9,  -999.00,9,  -0.6693
  32H120020718,    39,  4,      7,2,20020818, 72.8013,-161.0850,   51,     21.7,   0.0214,  32.2854,2,-999.0000,9,    448.6,2,   -999.0,9,  -999.00,9,  -999.00,9,  -999.00,9,  -999.00,9,     -999,9,   -999.0,9,   -999.0,9,  -999.00,9,     0.26,     0.05,2,     1.62,     0.28,2,     1.64,     0.41,2, 0.965854425,  0.296450368,2,     0.16,     0.05,2,       -999,9,        -999,9,   -999.0,9,   -999.0,9,   -999.0,9,     -999,9,      -999,9,  -999.00,9,  -999.00,9,   0.0207
  32H120020718,    39,  4,      9,2,20020818, 72.8013,-161.0850,   51,     21.8,  -0.4764,  32.3101,2,-999.0000,9,    440.9,2,   -999.0,9,  -999.00,9,  -999.00,9,  -999.00,9,  -999.00,9,     -999,9,   -999.0,9,   -999.0,9,  -999.00,9,     0.26,     0.05,2,     1.62,     0.28,2,     1.63,     0.41,2, 0.965636611,  0.296383514,2,     0.16,     0.05,2,       -999,9,        -999,9,   -999.0,9,   -999.0,9,   -999.0,9,     -999,9,      -999,9,  -999.00,9,  -999.00,9,  -0.4770
  32H120020718,    39,  1,      6,2,20020818, 72.8013,-161.0850,   51,     25.1,  -1.6475,  32.3203,2,-999.0000,9,    269.7,2,   -999.0,9,  -999.00,9,  -999.00,9,  -999.00,9,  -999.00,9,     -999,9,   -999.0,9,   -999.0,9,  -999.00,9,  -999.00,  -999.00,9,  -999.00,  -999.00,9,  -999.00,  -999.00,9,        -999,         -999,9,  -999.00,  -999.00,9,       -999,9,        -999,9,   -999.0,9,   -999.0,9,   -999.0,9,     -999,9,      -999,9,  -999.00,9,  -999.00,9,  -1.6479
  32H120020718,    39,  3,      7,2,20020818, 72.8013,-161.0850,   51,     26.7,  -0.5749,  32.7778,2,  32.7115,2,    297.5,2,    296.4,2,    23.49,2,     9.66,2,     0.12,2,     1.76,2,     2.53,2,   -999.0,9,   -999.0,9,    -0.93,2,  -999.00,  -999.00,9,  -999.00,  -999.00,9,  -999.00,  -999.00,9,        -999,         -999,9,  -999.00,  -999.00,9,       -999,9,        -999,9,   -999.0,9,   -999.0,9,   -999.0,9,     0.25,2,      -999,9,     0.91,2,     0.74,2,  -0.5756
  32H120020718,    39,  1,      5,2,20020818, 72.8013,-161.0850,   51,     29.2,  -1.6038,  32.4609,2,-999.0000,9,    268.8,2,    274.2,2,    49.39,2,    16.23,2,     0.19,2,     2.19,2,     1.29,2,   2165.4,2,   -999.0,9,  -999.00,9,  -999.00,  -999.00,9,  -999.00,  -999.00,9,  -999.00,  -999.00,9,        -999,         -999,9,  -999.00,  -999.00,9,       -999,9,        -999,9,   -999.0,9,   -999.0,9,   -999.0,9,     0.07,2,      -999,9,     1.40,2,     1.84,2,  -1.6043
  32H120020718,    39,  3,      6,2,20020818, 72.8013,-161.0850,   51,     31.6,  -0.5275,  32.7871,2,  32.7863,2,    298.4,2,    304.5,2,    10.31,2,     6.31,2,     0.11,2,     1.63,2,     3.61,2,   2120.6,2,   2285.9,2,    -0.84,2,  -999.00,  -999.00,9,  -999.00,  -999.00,9,  -999.00,  -999.00,9,        -999,         -999,9,  -999.00,  -999.00,9, 139.432622,2,  23.2044493,2,     65.7,2,      9.4,2,     19.4,2,     0.39,2,      -999,9,     0.41,2,     0.61,2,  -0.5284
  32H120020718,    39,  3,      5,2,20020818, 72.8013,-161.0850,   51,     36.7,  -0.5258,  32.7887,2,  32.7880,2,    298.4,2,    304.5,2,     9.96,2,     6.21,2,     0.11,2,     1.64,2,     3.65,2,   -999.0,9,   -999.0,9,    -0.87,2,  -999.00,  -999.00,9,  -999.00,  -999.00,9,  -999.00,  -999.00,9,        -999,         -999,9,  -999.00,  -999.00,9,       -999,9,        -999,9,   -999.0,9,   -999.0,9,   -999.0,9,      0.4,2,      -999,9,     0.37,2,     0.73,2,  -0.5268
  32H120020718,    39,  3,      4,2,20020818, 72.8013,-161.0850,   51,     41.8,  -0.5315,  32.7897,2,-999.0000,9,    298.3,2,    304.3,2,     9.92,2,     6.15,2,     0.11,2,     1.64,2,     3.62,2,   2122.8,2,   2259.5,2,    -0.84,2,  -999.00,  -999.00,9,  -999.00,  -999.00,9,  -999.00,  -999.00,9,        -999,         -999,9,  -999.00,  -999.00,9,    153.415,2,     26.4346,2,     64.1,2,      6.1,2,     16.0,2,     0.41,2,      -999,9,     0.43,2,     0.71,2,  -0.5326
  32H120020718,    39,  3,      3,2,20020818, 72.8013,-161.0850,   51,     41.8,  -0.5343,  32.7899,2,  32.7898,2,    298.3,2,    304.4,2,     9.87,2,     6.21,2,     0.11,2,     1.66,2,     3.65,2,   -999.0,9,   -999.0,9,  -999.00,9,  -999.00,  -999.00,9,  -999.00,  -999.00,9,  -999.00,  -999.00,9,        -999,         -999,9,  -999.00,  -999.00,9,       -999,9,        -999,9,   -999.0,9,   -999.0,9,   -999.0,9,     0.42,2,      -999,9,  -999.00,9,  -999.00,9,  -0.5354
  32H120020718,    39,  1,      3,2,20020818, 72.8013,-161.0850,   51,     44.1,  -0.6028,  32.8013,2,-999.0000,9,    292.6,2,   -999.0,9,  -999.00,9,  -999.00,9,  -999.00,9,  -999.00,9,     -999,9,   -999.0,9,   -999.0,9,  -999.00,9,  -999.00,  -999.00,9,  -999.00,  -999.00,9,  -999.00,  -999.00,9,        -999,         -999,9,  -999.00,  -999.00,9,       -999,9,        -999,9,   -999.0,9,   -999.0,9,   -999.0,9,     -999,9,      -999,9,  -999.00,9,  -999.00,9,  -0.6040
  32H120020718,    39,  1,      4,2,20020818, 72.8013,-161.0850,   51,     44.1,  -0.6051,  32.8018,2,-999.0000,9,    292.6,2,   -999.0,5,    11.93,2,     6.89,2,     0.11,2,     1.69,2,     3.78,2,   2134.9,2,   -999.0,9,  -999.00,9,  -999.00,  -999.00,9,  -999.00,  -999.00,9,  -999.00,  -999.00,9,        -999,         -999,9,  -999.00,  -999.00,9,       -999,9,        -999,9,   -999.0,9,   -999.0,9,   -999.0,9,     0.38,2,      -999,9,     0.56,2,     0.72,2,  -0.6063
  32H120020718,    39,  1,      2,2,20020818, 72.8013,-161.0850,   51,     46.8,  -0.6106,  32.8023,2,-999.0000,9,    292.2,2,   -999.0,9,  -999.00,9,  -999.00,9,  -999.00,9,  -999.00,9,     -999,9,   -999.0,9,   -999.0,9,  -999.00,9,  -999.00,  -999.00,9,  -999.00,  -999.00,9,  -999.00,  -999.00,9,        -999,         -999,9,  -999.00,  -999.00,9,       -999,9,        -999,9,   -999.0,9,   -999.0,9,   -999.0,9,     -999,9,      -999,9,  -999.00,9,  -999.00,9,  -0.6119
  32H120020718,    39,  1,      1,2,20020818, 72.8013,-161.0850,   51,     46.8,  -0.6114,  32.8025,2,-999.0000,9,    292.7,2,   -999.0,9,  -999.00,9,  -999.00,9,  -999.00,9,  -999.00,9,     -999,9,   -999.0,9,   -999.0,9,  -999.00,9,  -999.00,  -999.00,9,  -999.00,  -999.00,9,  -999.00,  -999.00,9,        -999,         -999,9,  -999.00,  -999.00,9,       -999,9,        -999,9,   -999.0,9,   -999.0,9,   -999.0,9,     -999,9,      -999,9,  -999.00,9,  -999.00,9,  -0.6127
  32H120020718,    39,  3,      2,2,20020818, 72.8013,-161.0850,   51,     47.4,  -0.5346,  32.7911,2,-999.0000,9,    298.4,2,    304.5,2,     9.82,2,     6.25,2,     0.11,2,     1.67,2,     3.64,2,   2133.1,2,   2264.7,2,  -999.00,9,  -999.00,  -999.00,9,  -999.00,  -999.00,9,  -999.00,  -999.00,9,        -999,         -999,9,  -999.00,  -999.00,9,    171.136,2,     31.0507,2,     62.3,2,      5.9,2,     15.9,2,     0.46,2,      -999,9,     0.56,2,     0.68,2,  -0.5359
  32H120020718,    39,  3,      1,2,20020818, 72.8013,-161.0850,   51,     47.4,  -0.5360,  32.7916,2,  32.7912,2,    298.4,2,    304.1,2,     9.88,2,     6.25,2,     0.11,2,     1.65,2,     3.65,2,   -999.0,9,   -999.0,9,    -0.83,2,  -999.00,  -999.00,9,  -999.00,  -999.00,9,  -999.00,  -999.00,9,        -999,         -999,9,  -999.00,  -999.00,9,       -999,9,        -999,9,   -999.0,9,   -999.0,9,   -999.0,9,     0.46,2,      -999,9,  -999.00,9,  -999.00,9,  -0.5373