BOTTLE,20090202PRINUNIVRMK
EXPOCODE,STNNBR,CASTNO,BTLNBR,BTLNBR_FLAG_W,DATE,LATITUDE,LONGITUDE,DEPTH,CTDPRS,CTDTMP,CTDSAL,CTDSAL_FLAG_W,SALNTY,SALNTY_FLAG_W,CTDOXY,CTDOXY_FLAG_W,OXYGEN,OXYGEN_FLAG_W,SILCAT,SILCAT_FLAG_W,NITRAT,NITRAT_FLAG_W,NITRIT,NITRIT_FLAG_W,PHSPHT,PHSPHT_FLAG_W,AMMONI,AMMONI_FLAG_W,TCARBN,TCARBN_FLAG_W,ALKALI,ALKALI_FLAG_W,DELO18,DELO18_FLAG_W,RA-224,RA-224E,RA-224_FLAG_W,RA-226,RA-226E,RA-226_FLAG_W,RA-228,RA-228E,RA-228_FLAG_W,RA-8/6,RA-8/6E,RA-8/6_FLAG_W,TH-228,TH-228E,TH-228_FLAG_W,POC,POC_FLAG_W,PON,PON_FLAG_W,DOC,DOC_FLAG_W,DON,DON_FLAG_W,TDN,TDN_FLAG_W,UREA,UREA_FLAG_W,LIGNIN,LIGNIN_FLAG_W,CHLORA,CHLORA_FLAG_W,PHAEO,PHAEO_FLAG_W,THETA
,,,,,,,,METERS,DBARS,ITS-90,PSS-78,,PSS-78,,UMOL/KG,,UMOL/KG,,UMOL/KG,,UMOL/KG,,UMOL/KG,,UMOL/KG,,UMOL/KG,,UMOL/KG,,UMOL/KG,,O/OO,,DPM/100KG,DPM/100KG,,DPM/100KG,DPM/100KG,,DPM/100KG,DPM/100KG,,,,,DPM/100KG,DPM/100KG,,ug/kg,,ug/kg,,UMOL/KG,,UMOL/KG,,UMOL/KG,,UMOL/KG,,NG/KG,,UG/L,,UG/L,,DEGC
  32H120020718,    44,  3,      6,2,20020820, 73.3405,-165.5120,   72,     36.2,  -1.4303,  32.1063,2,-999.0000,9,    335.5,2,    331.3,2,    26.20,2,     8.85,2,     0.12,2,     1.84,2,     1.49,2,   -999.0,9,   -999.0,9,  -999.00,9,  -999.00,  -999.00,9,  -999.00,  -999.00,9,  -999.00,  -999.00,9,        -999,         -999,9,  -999.00,  -999.00,9,       -999,9,        -999,9,   -999.0,9,   -999.0,9,   -999.0,9,     0.12,2,      -999,9,     7.96,2,     3.31,2,  -1.4310
  32H120020718,    44,  3,      5,2,20020820, 73.3405,-165.5120,   72,     36.3,  -1.4197,  32.1094,2,-999.0000,9,    357.2,2,   -999.0,9,  -999.00,9,  -999.00,9,  -999.00,9,  -999.00,9,     -999,9,   -999.0,9,   -999.0,9,  -999.00,9,  -999.00,  -999.00,9,  -999.00,  -999.00,9,  -999.00,  -999.00,9,        -999,         -999,9,  -999.00,  -999.00,9,       -999,9,        -999,9,   -999.0,9,   -999.0,9,   -999.0,9,     -999,9,      -999,9,  -999.00,9,  -999.00,9,  -1.4204
  32H120020718,    44,  1,      5,2,20020820, 73.3405,-165.5120,   72,     41.4,  -1.6288,  32.2487,2,  32.2536,2,    267.3,2,    275.2,2,    40.79,2,    14.19,2,     0.10,2,     1.96,2,     0.11,2,   2145.9,2,   -999.0,2,  -999.00,9,  -999.00,  -999.00,9,  -999.00,  -999.00,9,  -999.00,  -999.00,9,        -999,         -999,9,  -999.00,  -999.00,9, 54.0546517,2,  8.16490092,2,     64.0,2,     11.5,2,     25.9,2,     0.03,2,      -999,9,     0.42,2,     0.48,2,  -1.6295
  32H120020718,    44,  2,     11,2,20020820, 73.3405,-165.5120,   72,     41.6,  -1.6107,  32.2816,2,-999.0000,9,    273.5,2,   -999.0,9,  -999.00,9,  -999.00,9,  -999.00,9,  -999.00,9,     -999,9,   -999.0,9,   -999.0,9,  -999.00,9,     0.63,     0.08,2,     8.54,     0.35,2,     9.72,     0.71,2,  1.09040996, 0.0956499962,2,     0.83,     0.33,2,       -999,9,        -999,9,   -999.0,9,   -999.0,9,   -999.0,9,     -999,9,      -999,9,  -999.00,9,  -999.00,9,  -1.6114
  32H120020718,    44,  2,     10,2,20020820, 73.3405,-165.5120,   72,     41.6,  -1.6141,  32.2812,2,-999.0000,9,    269.3,2,   -999.0,9,  -999.00,9,  -999.00,9,  -999.00,9,  -999.00,9,     -999,9,   -999.0,9,   -999.0,9,  -999.00,9,     0.63,     0.08,2,     8.54,     0.35,2,     9.72,     0.71,2,  1.09041093, 0.0956500817,2,     0.83,     0.33,2,       -999,9,        -999,9,   -999.0,9,   -999.0,9,   -999.0,9,     -999,9,      -999,9,  -999.00,9,  -999.00,9,  -1.6148
  32H120020718,    44,  2,      5,2,20020820, 73.3405,-165.5120,   72,     41.6,  -1.6303,  32.2802,2,-999.0000,9,    266.3,2,   -999.0,9,  -999.00,9,  -999.00,9,  -999.00,9,  -999.00,9,     -999,9,   -999.0,9,   -999.0,9,  -999.00,9,     0.63,     0.08,2,     8.54,     0.35,2,     9.72,     0.71,2,  1.09041109,  0.095650096,2,     0.83,     0.33,2,       -999,9,        -999,9,   -999.0,9,   -999.0,9,   -999.0,9,     -999,9,      -999,9,  -999.00,9,  -999.00,9,  -1.6310
  32H120020718,    44,  2,      6,2,20020820, 73.3405,-165.5120,   72,     41.6,  -1.6304,  32.2806,2,-999.0000,9,    266.2,2,   -999.0,9,  -999.00,9,  -999.00,9,  -999.00,9,  -999.00,9,     -999,9,   -999.0,9,   -999.0,9,  -999.00,9,     0.63,     0.08,2,     8.54,     0.35,2,     9.72,     0.71,2,  1.09041101, 0.0956500889,2,     0.83,     0.33,2,       -999,9,        -999,9,   -999.0,9,   -999.0,9,   -999.0,9,     -999,9,      -999,9,  -999.00,9,  -999.00,9,  -1.6311
  32H120020718,    44,  2,      9,2,20020820, 73.3405,-165.5120,   72,     41.6,  -1.6322,  32.2781,2,-999.0000,9,    266.8,2,   -999.0,9,  -999.00,9,  -999.00,9,  -999.00,9,  -999.00,9,     -999,9,   -999.0,9,   -999.0,9,  -999.00,9,     0.63,     0.08,2,     8.54,     0.35,2,     9.72,     0.71,2,   1.0904128, 0.0956502456,2,     0.83,     0.33,2,       -999,9,        -999,9,   -999.0,9,   -999.0,9,   -999.0,9,     -999,9,      -999,9,  -999.00,9,  -999.00,9,  -1.6329
  32H120020718,    44,  2,      7,2,20020820, 73.3405,-165.5120,   72,     41.6,  -1.6381,  32.2779,2,-999.0000,9,    264.3,2,   -999.0,9,  -999.00,9,  -999.00,9,  -999.00,9,  -999.00,9,     -999,9,   -999.0,9,   -999.0,9,  -999.00,9,     0.63,     0.08,2,     8.54,     0.35,2,     9.72,     0.71,2,  1.09041296, 0.0956502598,2,     0.83,     0.33,2,       -999,9,        -999,9,   -999.0,9,   -999.0,9,   -999.0,9,     -999,9,      -999,9,  -999.00,9,  -999.00,9,  -1.6388
  32H120020718,    44,  2,     12,2,20020820, 73.3405,-165.5120,   72,     41.6,  -1.6385,  32.2804,2,-999.0000,9,    266.7,2,   -999.0,9,  -999.00,9,  -999.00,9,  -999.00,9,  -999.00,9,     -999,9,   -999.0,9,   -999.0,9,  -999.00,9,     0.63,     0.08,2,     8.54,     0.35,2,     9.72,     0.71,2,  1.09041101, 0.0956500889,2,     0.83,     0.33,2,       -999,9,        -999,9,   -999.0,9,   -999.0,9,   -999.0,9,     -999,9,      -999,9,  -999.00,9,  -999.00,9,  -1.6392
  32H120020718,    44,  2,      4,2,20020820, 73.3405,-165.5120,   72,     41.6,  -1.6431,  32.2813,2,-999.0000,9,    264.1,2,   -999.0,9,  -999.00,9,  -999.00,9,  -999.00,9,  -999.00,9,     -999,9,   -999.0,9,   -999.0,9,  -999.00,9,     0.63,     0.08,2,     8.54,     0.35,2,     9.72,     0.71,2,   1.0904102, 0.0956500176,2,     0.83,     0.33,2,       -999,9,        -999,9,   -999.0,9,   -999.0,9,   -999.0,9,     -999,9,      -999,9,  -999.00,9,  -999.00,9,  -1.6438
  32H120020718,    44,  2,      8,2,20020820, 73.3405,-165.5120,   72,     41.6,  -1.6432,  32.2779,2,-999.0000,9,    264.6,2,   -999.0,9,  -999.00,9,  -999.00,9,  -999.00,9,  -999.00,9,     -999,9,   -999.0,9,   -999.0,9,  -999.00,9,     0.63,     0.08,2,     8.54,     0.35,2,     9.72,     0.71,2,  1.09041304,  0.095650267,2,     0.83,     0.33,2,       -999,9,        -999,9,   -999.0,9,   -999.0,9,   -999.0,9,     -999,9,      -999,9,  -999.00,9,  -999.00,9,  -1.6439
  32H120020718,    44,  2,      2,2,20020820, 73.3405,-165.5120,   72,     41.6,  -1.6550,  32.2860,2,-999.0000,9,    263.3,2,   -999.0,9,  -999.00,9,  -999.00,9,  -999.00,9,  -999.00,9,     -999,9,   -999.0,9,   -999.0,9,  -999.00,9,     0.63,     0.08,2,     8.55,     0.35,2,     9.72,     0.71,2,    1.090939, 0.0956964033,2,     0.83,     0.33,2,       -999,9,        -999,9,   -999.0,9,   -999.0,9,   -999.0,9,     -999,9,      -999,9,  -999.00,9,  -999.00,9,  -1.6557
  32H120020718,    44,  2,      1,2,20020820, 73.3405,-165.5120,   72,     41.6,  -1.6565,  32.2878,2,-999.0000,9,    263.5,2,   -999.0,9,    44.94,2,    15.32,2,     0.10,2,     2.08,2,     0.15,2,   -999.0,9,   -999.0,9,  -999.00,9,     0.63,     0.08,2,     8.55,     0.35,2,     9.72,     0.71,2,  1.09093705, 0.0956962322,2,     0.83,     0.33,2,       -999,9,        -999,9,   -999.0,9,   -999.0,9,   -999.0,9,     0.02,2,      -999,9,  -999.00,9,  -999.00,9,  -1.6572
  32H120020718,    44,  2,      3,2,20020820, 73.3405,-165.5120,   72,     41.6,  -1.6578,  32.2831,2,-999.0000,9,    263.2,2,   -999.0,9,  -999.00,9,  -999.00,9,  -999.00,9,  -999.00,9,     -999,9,   -999.0,9,   -999.0,9,  -999.00,9,     0.63,     0.08,2,     8.55,     0.35,2,     9.72,     0.71,2,  1.09094135,   0.09569661,2,     0.83,     0.33,2,       -999,9,        -999,9,   -999.0,9,   -999.0,9,   -999.0,9,     -999,9,      -999,9,  -999.00,9,  -999.00,9,  -1.6585
  32H120020718,    44,  1,      4,2,20020820, 73.3405,-165.5120,   72,     52.5,  -1.2812,  32.7723,2,-999.0000,9,    253.9,2,   -999.0,9,  -999.00,9,  -999.00,9,  -999.00,9,  -999.00,9,     -999,9,   -999.0,9,   -999.0,9,  -999.00,9,  -999.00,  -999.00,9,  -999.00,  -999.00,9,  -999.00,  -999.00,9,        -999,         -999,9,  -999.00,  -999.00,9,       -999,9,        -999,9,   -999.0,9,   -999.0,9,   -999.0,9,     -999,9,      -999,9,  -999.00,9,  -999.00,9,  -1.2823
  32H120020718,    44,  1,      3,2,20020820, 73.3405,-165.5120,   72,     52.5,  -1.2944,  32.7751,2,  32.6766,2,    245.6,2,    255.0,2,    52.14,2,    17.40,2,     0.14,2,     2.29,2,     0.95,2,   2189.7,2,   -999.0,2,  -999.00,9,  -999.00,  -999.00,9,  -999.00,  -999.00,9,  -999.00,  -999.00,9,        -999,         -999,9,  -999.00,  -999.00,9, 31.3297131,2,  4.85828785,2,     61.2,2,      7.4,2,     25.9,2,     0.02,2,      -999,9,     0.20,2,     0.30,2,  -1.2955
  32H120020718,    44,  3,      3,2,20020820, 73.3405,-165.5120,   72,     55.3,  -1.4435,  33.1725,2,-999.0000,9,    251.4,2,   -999.0,9,  -999.00,9,  -999.00,9,  -999.00,9,  -999.00,9,     -999,9,   -999.0,9,   -999.0,9,  -999.00,9,  -999.00,  -999.00,9,  -999.00,  -999.00,9,  -999.00,  -999.00,9,        -999,         -999,9,  -999.00,  -999.00,9,       -999,9,        -999,9,   -999.0,9,   -999.0,9,   -999.0,9,     -999,9,      -999,9,  -999.00,9,  -999.00,9,  -1.4446
  32H120020718,    44,  3,      4,2,20020820, 73.3405,-165.5120,   72,     55.3,  -1.4437,  33.1724,2,-999.0000,9,    251.3,2,    258.1,2,    35.80,2,    13.76,2,     0.17,2,     2.35,2,     5.69,2,   -999.0,9,   -999.0,9,  -999.00,9,  -999.00,  -999.00,9,  -999.00,  -999.00,9,  -999.00,  -999.00,9,        -999,         -999,9,  -999.00,  -999.00,9,       -999,9,        -999,9,   -999.0,9,   -999.0,9,   -999.0,9,     0.32,2,      -999,9,     0.24,2,     0.53,2,  -1.4448
  32H120020718,    44,  3,      2,2,20020820, 73.3405,-165.5120,   72,     61.1,  -1.4279,  33.1773,2,-999.0000,9,    249.9,2,   -999.0,9,  -999.00,9,  -999.00,9,  -999.00,9,  -999.00,9,     -999,9,   -999.0,9,   -999.0,9,  -999.00,9,  -999.00,  -999.00,9,  -999.00,  -999.00,9,  -999.00,  -999.00,9,        -999,         -999,9,  -999.00,  -999.00,9,       -999,9,        -999,9,   -999.0,9,   -999.0,9,   -999.0,9,     -999,9,      -999,9,  -999.00,9,  -999.00,9,  -1.4292
  32H120020718,    44,  1,      2,2,20020820, 73.3405,-165.5120,   72,     67.1,  -1.5962,  33.1906,2,  33.1901,2,    254.4,2,    260.7,2,    49.51,2,    15.91,2,     0.21,2,     2.46,2,     3.59,2,   2224.8,2,   -999.0,2,  -999.00,9,  -999.00,  -999.00,9,  -999.00,  -999.00,9,  -999.00,  -999.00,9,        -999,         -999,9,  -999.00,  -999.00,9, 116.965072,2,  18.8883362,2,     60.6,2,      9.6,2,     29.3,2,     0.11,2,      -999,9,     0.18,2,     0.37,2,  -1.5975
  32H120020718,    44,  1,      1,2,20020820, 73.3405,-165.5120,   72,     67.2,  -1.5962,  33.1906,2,  33.1893,2,    254.4,2,    260.6,2,  -999.00,5,  -999.00,5,  -999.00,5,  -999.00,5,     -999,5,   -999.0,9,   -999.0,9,  -999.00,9,  -999.00,  -999.00,9,  -999.00,  -999.00,9,  -999.00,  -999.00,9,        -999,         -999,9,  -999.00,  -999.00,9,       -999,9,        -999,9,   -999.0,9,   -999.0,9,   -999.0,9,     -999,5,      -999,9,  -999.00,9,  -999.00,9,  -1.5975
  32H120020718,    44,  3,      1,4,20020820, 73.3405,-165.5120,   72,     66.3,  -1.4303,  33.1783,2,-999.0000,9,    250.1,2,   -999.0,9,  -999.00,9,  -999.00,9,  -999.00,9,  -999.00,9,     -999,9,   -999.0,9,   -999.0,9,  -999.00,9,  -999.00,  -999.00,9,  -999.00,  -999.00,9,  -999.00,  -999.00,9,        -999,         -999,9,  -999.00,  -999.00,9,       -999,9,        -999,9,   -999.0,9,   -999.0,9,   -999.0,9,     -999,9,      -999,9,  -999.00,9,  -999.00,9,  -1.4317
  32H120020718,    45,  1,     12,2,20020821, 70.6811,-166.4990,   39,      2.2,   6.6289,  31.1129,2,  31.1134,2,    312.8,2,    310.8,2,     1.80,2,     0.10,2,     0.01,2,     0.52,2,     0.01,2,   1999.5,2,   2181.5,2,  -999.00,9,  -999.00,  -999.00,9,  -999.00,  -999.00,9,  -999.00,  -999.00,9,        -999,         -999,9,  -999.00,  -999.00,9, 83.6170022,2,  14.1906355,2,     78.5,2,      6.2,2,      6.3,2,     0.03,2,      -999,9,     0.55,2,     0.21,2,   6.6287
  32H120020718,    45,  3,      9,2,20020821, 70.6811,-166.4990,   39,      2.1,   6.5541,  31.0892,2,  31.0888,2,    313.2,2,    311.4,2,     1.83,2,     0.06,2,     0.00,2,     0.50,2,     0.03,2,   -999.0,9,   -999.0,9,  -999.00,9,  -999.00,  -999.00,9,  -999.00,  -999.00,9,  -999.00,  -999.00,9,        -999,         -999,9,  -999.00,  -999.00,9,       -999,9,        -999,9,   -999.0,9,   -999.0,9,   -999.0,9,        0,2,      -999,9,     0.48,2,     0.27,2,   6.5539
  32H120020718,    45,  3,     12,2,20020821, 70.6811,-166.4990,   39,      2.2,   6.5569,  31.0898,2,-999.0000,9,    313.0,2,   -999.0,9,  -999.00,9,  -999.00,9,  -999.00,9,  -999.00,9,     -999,9,   -999.0,9,   -999.0,9,  -999.00,9,  -999.00,  -999.00,9,  -999.00,  -999.00,9,  -999.00,  -999.00,9,        -999,         -999,9,  -999.00,  -999.00,9,       -999,9,        -999,9,   -999.0,9,   -999.0,9,   -999.0,9,     -999,9,      -999,9,  -999.00,9,  -999.00,9,   6.5567
  32H120020718,    45,  3,     10,2,20020821, 70.6811,-166.4990,   39,      2.2,   6.5605,  31.0892,2,-999.0000,9,    313.1,2,   -999.0,9,  -999.00,9,  -999.00,9,  -999.00,9,  -999.00,9,     -999,9,   -999.0,9,   -999.0,9,  -999.00,9,  -999.00,  -999.00,9,  -999.00,  -999.00,9,  -999.00,  -999.00,9,        -999,         -999,9,  -999.00,  -999.00,9,       -999,9,        -999,9,   -999.0,9,   -999.0,9,   -999.0,9,     -999,9,      -999,9,  -999.00,9,  -999.00,9,   6.5603
  32H120020718,    45,  3,     11,2,20020821, 70.6811,-166.4990,   39,      2.2,   6.5621,  31.0895,2,-999.0000,9,    312.9,2,   -999.0,9,  -999.00,9,  -999.00,9,  -999.00,9,  -999.00,9,     -999,9,   -999.0,9,   -999.0,9,  -999.00,9,  -999.00,  -999.00,9,  -999.00,  -999.00,9,  -999.00,  -999.00,9,        -999,         -999,9,  -999.00,  -999.00,9,       -999,9,        -999,9,   -999.0,9,   -999.0,9,   -999.0,9,     -999,9,      -999,9,  -999.00,9,  -999.00,9,   6.5619
  32H120020718,    45,  1,     11,2,20020821, 70.6811,-166.4990,   39,      6.3,   6.6486,  31.1124,2,  31.1143,2,    312.9,2,    310.9,2,     1.90,2,     0.05,2,     0.01,2,     0.51,2,        0,2,   -999.0,9,   2203.9,2,  -999.00,9,  -999.00,  -999.00,9,  -999.00,  -999.00,9,  -999.00,  -999.00,9,        -999,         -999,9,  -999.00,  -999.00,9,       -999,9,        -999,9,   -999.0,9,   -999.0,9,   -999.0,9,     0.01,2,      -999,9,     0.55,2,     0.24,2,   6.6481
  32H120020718,    45,  3,      8,2,20020821, 70.6811,-166.4990,   39,      6.0,   6.5433,  31.0885,2,-999.0000,9,    312.9,2,    311.6,2,     1.83,2,     0.07,2,     0.00,2,     0.50,2,     0.03,2,   -999.0,9,   -999.0,9,  -999.00,9,  -999.00,  -999.00,9,  -999.00,  -999.00,9,  -999.00,  -999.00,9,        -999,         -999,9,  -999.00,  -999.00,9,       -999,9,        -999,9,   -999.0,9,   -999.0,9,   -999.0,9,        0,2,      -999,9,     0.46,2,     0.26,2,   6.5428
  32H120020718,    45, 99,      1,9,20020821, 70.6811,-166.4990,   39,      8.1,-999.0000,-999.0000,9,-999.0000,9,   -999.0,9,   -999.0,9,  -999.00,9,  -999.00,9,  -999.00,9,  -999.00,9,     -999,9,   -999.0,9,   -999.0,9,  -999.00,9,     1.07,     0.09,2,     7.50,     0.20,2,     8.16,     0.42,2,  1.04378325,  0.057455959,2,     0.31,     0.20,2,       -999,9,        -999,9,   -999.0,9,   -999.0,9,   -999.0,9,     -999,9,      -999,9,  -999.00,9,  -999.00,9,-999.0000
  32H120020718,    45,  3,      7,2,20020821, 70.6811,-166.4990,   39,      9.5,   6.5468,  31.0885,2,-999.0000,9,    313.2,2,    311.7,2,     1.82,2,     0.06,2,     0.00,2,     0.49,2,     0.02,2,   -999.0,9,   -999.0,9,  -999.00,9,  -999.00,  -999.00,9,  -999.00,  -999.00,9,  -999.00,  -999.00,9,        -999,         -999,9,  -999.00,  -999.00,9,       -999,9,        -999,9,   -999.0,9,   -999.0,9,   -999.0,9,        0,2,      -999,9,     0.48,2,     0.26,2,   6.5460
  32H120020718,    45,  1,     10,2,20020821, 70.6811,-166.4990,   39,     11.1,   6.6280,  31.1120,2,  31.1132,2,    313.0,2,    310.8,2,     1.79,2,     0.05,2,     0.01,2,     0.51,2,     0.01,2,   -999.0,9,   2185.7,2,  -999.00,9,  -999.00,  -999.00,9,  -999.00,  -999.00,9,  -999.00,  -999.00,9,        -999,         -999,9,  -999.00,  -999.00,9, 81.5325487,2,  13.5838509,2,   -999.0,9,      6.0,2,      6.0,2,     0.01,2,      -999,9,     0.60,2,     0.19,2,   6.6271
  32H120020718,    45,  1,      9,2,20020821, 70.6811,-166.4990,   39,     11.1,   6.6373,  31.1119,2,-999.0000,9,    313.1,2,   -999.0,9,  -999.00,9,  -999.00,9,  -999.00,9,  -999.00,9,     -999,9,   -999.0,9,   -999.0,9,  -999.00,9,  -999.00,  -999.00,9,  -999.00,  -999.00,9,  -999.00,  -999.00,9,        -999,         -999,9,  -999.00,  -999.00,9,       -999,9,        -999,9,     76.3,2,   -999.0,9,   -999.0,9,     -999,9,      -999,9,  -999.00,9,  -999.00,9,   6.6364
  32H120020718,    45,  3,      5,2,20020821, 70.6811,-166.4990,   39,     14.4,   6.5499,  31.0886,2,-999.0000,9,    313.2,2,   -999.0,9,  -999.00,9,  -999.00,9,  -999.00,9,  -999.00,9,     -999,9,   -999.0,9,   -999.0,9,  -999.00,9,  -999.00,  -999.00,9,  -999.00,  -999.00,9,  -999.00,  -999.00,9,        -999,         -999,9,  -999.00,  -999.00,9,       -999,9,        -999,9,   -999.0,9,   -999.0,9,   -999.0,9,     -999,9,      -999,9,  -999.00,9,  -999.00,9,   6.5487
  32H120020718,    45,  3,      6,2,20020821, 70.6811,-166.4990,   39,     14.4,   6.5508,  31.0887,2,-999.0000,9,    313.2,2,    311.7,2,     1.81,2,     0.07,2,     0.00,2,     0.49,2,     0.02,2,   -999.0,9,   -999.0,9,  -999.00,9,  -999.00,  -999.00,9,  -999.00,  -999.00,9,  -999.00,  -999.00,9,        -999,         -999,9,  -999.00,  -999.00,9,       -999,9,        -999,9,   -999.0,9,   -999.0,9,   -999.0,9,     0.01,2,      -999,9,     0.50,2,     0.27,2,   6.5496
  32H120020718,    45,  1,      7,2,20020821, 70.6811,-166.4990,   39,     21.4,   6.6410,  31.1117,2,-999.0000,9,    313.2,2,   -999.0,9,  -999.00,9,  -999.00,9,  -999.00,9,  -999.00,9,     -999,9,   -999.0,9,   -999.0,9,  -999.00,9,  -999.00,  -999.00,9,  -999.00,  -999.00,9,  -999.00,  -999.00,9,        -999,         -999,9,  -999.00,  -999.00,9,       -999,9,        -999,9,     78.0,2,   -999.0,9,   -999.0,9,     -999,9,      -999,9,  -999.00,9,  -999.00,9,   6.6392
  32H120020718,    45,  1,      8,2,20020821, 70.6811,-166.4990,   39,     21.4,   6.6433,  31.1136,2,  31.1151,2,    313.2,2,    310.9,2,     1.79,2,     0.05,2,     0.01,2,     0.51,2,     0.01,2,   -999.0,9,   2208.7,2,  -999.00,9,  -999.00,  -999.00,9,  -999.00,  -999.00,9,  -999.00,  -999.00,9,        -999,         -999,9,  -999.00,  -999.00,9, 83.3331659,2,  14.0535994,2,   -999.0,9,      6.4,2,      6.4,2,        0,2,182.223168,2,     0.56,2,     0.25,2,   6.6415
  32H120020718,    45,  1,      6,2,20020821, 70.6811,-166.4990,   39,     21.5,   6.6444,  31.1167,2,-999.0000,9,    313.3,2,   -999.0,9,  -999.00,9,  -999.00,9,  -999.00,9,  -999.00,9,     -999,9,   -999.0,9,   -999.0,9,  -999.00,9,  -999.00,  -999.00,9,  -999.00,  -999.00,9,  -999.00,  -999.00,9,        -999,         -999,9,  -999.00,  -999.00,9,       -999,9,        -999,9,   -999.0,9,   -999.0,9,   -999.0,9,     -999,9,      -999,9,  -999.00,9,  -999.00,9,   6.6426
  32H120020718,    45,  3,      4,2,20020821, 70.6811,-166.4990,   39,     22.1,   6.5294,  31.0850,2,-999.0000,9,    313.3,2,    313.2,2,     1.91,2,     0.06,2,     0.00,2,     0.52,2,     0.04,2,   -999.0,9,   -999.0,9,  -999.00,9,  -999.00,  -999.00,9,  -999.00,  -999.00,9,  -999.00,  -999.00,9,        -999,         -999,9,  -999.00,  -999.00,9,       -999,9,        -999,9,   -999.0,9,   -999.0,9,   -999.0,9,        0,2,      -999,9,     0.99,2,     0.54,2,   6.5276