BOTTLE,20090202PRINUNIVRMK
EXPOCODE,STNNBR,CASTNO,BTLNBR,BTLNBR_FLAG_W,DATE,LATITUDE,LONGITUDE,DEPTH,CTDPRS,CTDTMP,CTDSAL,CTDSAL_FLAG_W,SALNTY,SALNTY_FLAG_W,CTDOXY,CTDOXY_FLAG_W,OXYGEN,OXYGEN_FLAG_W,SILCAT,SILCAT_FLAG_W,NITRAT,NITRAT_FLAG_W,NITRIT,NITRIT_FLAG_W,PHSPHT,PHSPHT_FLAG_W,AMMONI,AMMONI_FLAG_W,TCARBN,TCARBN_FLAG_W,ALKALI,ALKALI_FLAG_W,DELO18,DELO18_FLAG_W,RA-224,RA-224E,RA-224_FLAG_W,RA-226,RA-226E,RA-226_FLAG_W,RA-228,RA-228E,RA-228_FLAG_W,RA-8/6,RA-8/6E,RA-8/6_FLAG_W,TH-228,TH-228E,TH-228_FLAG_W,POC,POC_FLAG_W,PON,PON_FLAG_W,DOC,DOC_FLAG_W,DON,DON_FLAG_W,TDN,TDN_FLAG_W,UREA,UREA_FLAG_W,LIGNIN,LIGNIN_FLAG_W,CHLORA,CHLORA_FLAG_W,PHAEO,PHAEO_FLAG_W,THETA
,,,,,,,,METERS,DBARS,ITS-90,PSS-78,,PSS-78,,UMOL/KG,,UMOL/KG,,UMOL/KG,,UMOL/KG,,UMOL/KG,,UMOL/KG,,UMOL/KG,,UMOL/KG,,UMOL/KG,,O/OO,,DPM/100KG,DPM/100KG,,DPM/100KG,DPM/100KG,,DPM/100KG,DPM/100KG,,,,,DPM/100KG,DPM/100KG,,ug/kg,,ug/kg,,UMOL/KG,,UMOL/KG,,UMOL/KG,,UMOL/KG,,NG/KG,,UG/L,,UG/L,,DEGC
  32H120020718,    38,  2,      8,2,20020817, 72.9860,-160.6490,   95,     36.3,  -1.6133,  32.2880,2,-999.0000,9,    293.9,2,   -999.0,9,  -999.00,9,  -999.00,9,  -999.00,9,  -999.00,9,     -999,9,   -999.0,9,   -999.0,9,  -999.00,9,     1.27,     0.09,2,    10.56,     0.28,2,    12.61,     0.33,2,   1.1415407,  0.038371116,2,     0.41,     0.10,2,       -999,9,        -999,9,   -999.0,9,   -999.0,9,   -999.0,9,     -999,9,      -999,9,  -999.00,9,  -999.00,9,  -1.6139
  32H120020718,    38,  2,     11,2,20020817, 72.9860,-160.6490,   95,     36.3,  -1.6165,  32.2930,2,-999.0000,9,    293.7,2,   -999.0,9,  -999.00,9,  -999.00,9,  -999.00,9,  -999.00,9,     -999,9,   -999.0,9,   -999.0,9,  -999.00,9,     1.27,     0.09,2,    10.56,     0.28,2,    12.61,     0.33,2,  1.14153628, 0.0383709674,2,     0.41,     0.10,2,       -999,9,        -999,9,   -999.0,9,   -999.0,9,   -999.0,9,     -999,9,      -999,9,  -999.00,9,  -999.00,9,  -1.6171
  32H120020718,    38,  2,      7,2,20020817, 72.9860,-160.6490,   95,     36.4,  -1.6128,  32.2873,2,-999.0000,9,    294.2,2,   -999.0,9,  -999.00,9,  -999.00,9,  -999.00,9,  -999.00,9,     -999,9,   -999.0,9,   -999.0,9,  -999.00,9,     1.27,     0.09,2,    10.53,     0.28,2,    12.57,     0.33,2,  1.13789934, 0.0382487172,2,     0.41,     0.10,2,       -999,9,        -999,9,   -999.0,9,   -999.0,9,   -999.0,9,     -999,9,      -999,9,  -999.00,9,  -999.00,9,  -1.6134
  32H120020718,    38,  2,      9,2,20020817, 72.9860,-160.6490,   95,     36.4,  -1.6129,  32.2869,2,-999.0000,9,    294.0,2,   -999.0,9,  -999.00,9,  -999.00,9,  -999.00,9,  -999.00,9,     -999,9,   -999.0,9,   -999.0,9,  -999.00,9,     1.27,     0.09,2,    10.53,     0.28,2,    12.57,     0.33,2,  1.13788332, 0.0382481788,2,     0.41,     0.10,2,       -999,9,        -999,9,   -999.0,9,   -999.0,9,   -999.0,9,     -999,9,      -999,9,  -999.00,9,  -999.00,9,  -1.6135
  32H120020718,    38,  2,     10,2,20020817, 72.9860,-160.6490,   95,     36.4,  -1.6159,  32.2924,2,-999.0000,9,    294.0,2,   -999.0,9,  -999.00,9,  -999.00,9,  -999.00,9,  -999.00,9,     -999,9,   -999.0,9,   -999.0,9,  -999.00,9,     1.27,     0.09,2,    10.53,     0.28,2,    12.57,     0.33,2,  1.13788298, 0.0382481674,2,     0.41,     0.10,2,       -999,9,        -999,9,   -999.0,9,   -999.0,9,   -999.0,9,     -999,9,      -999,9,  -999.00,9,  -999.00,9,  -1.6165
  32H120020718,    38,  2,     12,2,20020817, 72.9860,-160.6490,   95,     36.4,  -1.6170,  32.2973,2,-999.0000,9,    293.6,2,   -999.0,9,    34.82,2,    11.23,2,     0.14,2,     1.78,2,     1.03,2,   -999.0,9,   -999.0,9,  -999.00,9,     1.27,     0.09,2,    10.53,     0.28,2,    12.57,     0.33,2,  1.13787391, 0.0382478626,2,     0.41,     0.10,2,       -999,9,        -999,9,   -999.0,9,   -999.0,9,   -999.0,9,     0.09,2,      -999,9,  -999.00,9,  -999.00,9,  -1.6176
  32H120020718,    38,  1,      6,2,20020817, 72.9860,-160.6490,   95,     41.4,  -1.5767,  32.4708,2,-999.0000,9,    281.0,2,   -999.0,9,  -999.00,9,  -999.00,9,  -999.00,9,  -999.00,9,     -999,9,   -999.0,9,   -999.0,9,  -999.00,9,  -999.00,  -999.00,9,  -999.00,  -999.00,9,  -999.00,  -999.00,9,        -999,         -999,9,  -999.00,  -999.00,9,       -999,9,        -999,9,     62.9,2,   -999.0,9,   -999.0,9,     -999,9,      -999,9,  -999.00,9,  -999.00,9,  -1.5774
  32H120020718,    38,  1,      7,2,20020817, 72.9860,-160.6490,   95,     41.4,  -1.5798,  32.4675,2,  32.4560,2,    281.2,2,    290.4,2,    40.61,2,    13.65,2,     0.16,2,     1.90,2,     0.75,2,   2165.8,2,   -999.0,9,  -999.00,9,  -999.00,  -999.00,9,  -999.00,  -999.00,9,  -999.00,  -999.00,9,        -999,         -999,9,  -999.00,  -999.00,9, 58.2896485,2,  10.7349842,2,   -999.0,9,      4.0,2,     18.5,2,     0.06,2,      -999,9,     0.49,2,     0.38,2,  -1.5805
  32H120020718,    38,  1,      5,2,20020817, 72.9860,-160.6490,   95,     51.5,  -1.3418,  32.9588,2,  32.9379,2,    274.6,2,    281.0,2,    32.24,2,    13.26,2,     0.17,2,     2.05,2,     3.46,2,   -999.0,5,   -999.0,5,  -999.00,9,  -999.00,  -999.00,9,  -999.00,  -999.00,9,  -999.00,  -999.00,9,        -999,         -999,9,  -999.00,  -999.00,9, 99.9227861,2,  18.8918897,2,     61.1,2,   -999.0,9,   -999.0,9,     0.24,2,      -999,9,     0.89,2,     0.67,2,  -1.3429
  32H120020718,    38,  1,      4,2,20020817, 72.9860,-160.6490,   95,     61.1,  -1.4739,  33.0292,2,  33.0225,2,    273.0,2,    280.5,2,    37.14,2,    13.99,2,     0.20,2,     2.11,2,     3.59,2,   2196.3,2,   2272.9,2,  -999.00,9,  -999.00,  -999.00,9,  -999.00,  -999.00,9,  -999.00,  -999.00,9,        -999,         -999,9,  -999.00,  -999.00,9, 75.8754361,2,   13.691596,2,     60.6,2,      3.8,2,     21.5,2,     0.22,2,      -999,9,     0.32,2,     0.48,2,  -1.4751
  32H120020718,    38,  1,      3,2,20020817, 72.9860,-160.6490,   95,     71.2,  -1.5159,  33.0783,2,  33.0658,2,    275.1,2,    282.1,2,    41.27,2,    14.67,2,     0.23,2,     2.14,2,     3.22,2,   2185.4,2,   2281.9,2,  -999.00,9,  -999.00,  -999.00,9,  -999.00,  -999.00,9,  -999.00,  -999.00,9,        -999,         -999,9,  -999.00,  -999.00,9, 63.6574768,2,   11.668273,2,     61.9,2,      3.6,2,     21.7,2,     0.16,2,      -999,9,     0.29,2,     0.42,2,  -1.5173
  32H120020718,    38,  1,      2,2,20020817, 72.9860,-160.6490,   95,     81.0,  -1.5313,  33.0985,2,  34.8847,4,    274.9,2,    281.9,2,    42.20,2,    14.83,2,     0.24,2,     2.15,2,     3.01,2,   -999.0,9,   -999.0,9,  -999.00,9,  -999.00,  -999.00,9,  -999.00,  -999.00,9,  -999.00,  -999.00,9,        -999,         -999,9,  -999.00,  -999.00,9,       -999,9,        -999,9,   -999.0,9,   -999.0,9,   -999.0,9,     0.14,2,      -999,9,     0.38,2,     0.70,2,  -1.5329
  32H120020718,    38,  2,      5,2,20020817, 72.9860,-160.6490,   95,     81.2,  -1.5684,  33.1176,2,-999.0000,9,    278.4,2,   -999.0,9,  -999.00,9,  -999.00,9,  -999.00,9,  -999.00,9,     -999,9,   -999.0,9,   -999.0,9,  -999.00,9,     1.29,     0.11,2,    10.64,     0.34,2,    10.30,     0.55,2, 0.929538149, 0.0574972051,2,     0.08,     0.08,2,       -999,9,        -999,9,   -999.0,9,   -999.0,9,   -999.0,9,     -999,9,      -999,9,  -999.00,9,  -999.00,9,  -1.5700
  32H120020718,    38,  2,      4,2,20020817, 72.9860,-160.6490,   95,     81.3,  -1.5699,  33.1180,2,-999.0000,9,    278.3,2,   -999.0,9,  -999.00,9,  -999.00,9,  -999.00,9,  -999.00,9,     -999,9,   -999.0,9,   -999.0,9,  -999.00,9,     1.29,     0.11,2,    10.63,     0.34,2,    10.30,     0.55,2, 0.929226359, 0.0574779191,2,     0.08,     0.08,2,       -999,9,        -999,9,   -999.0,9,   -999.0,9,   -999.0,9,     -999,9,      -999,9,  -999.00,9,  -999.00,9,  -1.5715
  32H120020718,    38,  2,      6,2,20020817, 72.9860,-160.6490,   95,     81.3,  -1.5704,  33.1177,2,-999.0000,9,    278.4,2,   -999.0,9,  -999.00,9,  -999.00,9,  -999.00,9,  -999.00,9,     -999,9,   -999.0,9,   -999.0,9,  -999.00,9,     1.29,     0.11,2,    10.62,     0.33,2,    10.29,     0.55,2, 0.928060623, 0.0574058117,2,     0.08,     0.08,2,       -999,9,        -999,9,   -999.0,9,   -999.0,9,   -999.0,9,     -999,9,      -999,9,  -999.00,9,  -999.00,9,  -1.5720
  32H120020718,    38,  2,      3,2,20020817, 72.9860,-160.6490,   95,     81.3,  -1.5707,  33.1183,2,-999.0000,9,    278.3,2,   -999.0,9,    43.86,2,    14.69,2,     0.26,2,     2.15,2,     3.16,2,   -999.0,9,   -999.0,9,  -999.00,9,     1.28,     0.11,2,    10.61,     0.33,2,    10.27,     0.54,2, 0.927026782, 0.0573418628,2,     0.08,     0.08,2,       -999,9,        -999,9,   -999.0,9,   -999.0,9,   -999.0,9,      0.1,2,      -999,9,  -999.00,9,  -999.00,9,  -1.5723
  32H120020718,    38,  2,      2,2,20020817, 72.9860,-160.6490,   95,     81.3,  -1.5707,  33.1185,2,-999.0000,9,    278.3,2,   -999.0,9,  -999.00,9,  -999.00,9,  -999.00,9,  -999.00,9,     -999,9,   -999.0,9,   -999.0,9,  -999.00,9,     1.28,     0.11,2,    10.61,     0.33,2,    10.27,     0.54,2, 0.926886759, 0.0573332016,2,     0.08,     0.08,2,       -999,9,        -999,9,   -999.0,9,   -999.0,9,   -999.0,9,     -999,9,      -999,9,  -999.00,9,  -999.00,9,  -1.5723
  32H120020718,    38,  2,      1,2,20020817, 72.9860,-160.6490,   95,     81.3,  -1.5713,  33.1186,2,-999.0000,9,    278.2,2,   -999.0,9,  -999.00,9,  -999.00,9,  -999.00,9,  -999.00,9,     -999,9,   -999.0,9,   -999.0,9,  -999.00,9,     1.28,     0.11,2,    10.60,     0.33,2,    10.27,     0.54,2, 0.926513569, 0.0573101176,2,     0.08,     0.08,2,       -999,9,        -999,9,   -999.0,9,   -999.0,9,   -999.0,9,     -999,9,      -999,9,  -999.00,9,  -999.00,9,  -1.5729
  32H120020718,    38,  1,      1,2,20020817, 72.9860,-160.6490,   95,     87.5,  -1.5378,  33.1056,2,  33.1060,2,    275.3,2,    282.5,2,    42.84,2,    14.90,2,     0.24,2,     2.16,2,     2.96,2,   2193.8,2,   2262.9,2,  -999.00,9,  -999.00,  -999.00,9,  -999.00,  -999.00,9,  -999.00,  -999.00,9,        -999,         -999,9,  -999.00,  -999.00,9, 76.4472437,2,  13.3584994,2,     60.2,2,      3.9,2,     22.0,2,     0.15,2,      -999,9,     0.31,2,     0.59,2,  -1.5395
  32H120020718,    39,  1,     12,2,20020818, 72.8013,-161.0850,   51,      2.5,  -0.2922,  27.8367,2,-999.0000,9,    376.0,2,   -999.0,9,  -999.00,9,  -999.00,9,  -999.00,9,  -999.00,9,     -999,9,   -999.0,9,   -999.0,9,  -999.00,9,  -999.00,  -999.00,9,  -999.00,  -999.00,9,  -999.00,  -999.00,9,        -999,         -999,9,  -999.00,  -999.00,9,       -999,9,        -999,9,   -999.0,9,   -999.0,9,   -999.0,9,     -999,9,      -999,9,  -999.00,9,  -999.00,9,  -0.2922
  32H120020718,    39,  1,     11,2,20020818, 72.8013,-161.0850,   51,      2.5,  -0.2929,  27.8397,2,  27.8387,2,    376.0,2,    383.4,2,     3.89,2,     0.09,2,     0.02,2,     0.68,2,     0.05,2,   1863.4,2,   -999.0,9,  -999.00,9,  -999.00,  -999.00,9,  -999.00,  -999.00,9,  -999.00,  -999.00,9,        -999,         -999,9,  -999.00,  -999.00,9,       -999,9,        -999,9,   -999.0,9,   -999.0,9,   -999.0,9,     0.03,2,      -999,9,     0.21,2,     0.15,2,  -0.2929
  32H120020718,    39,  3,     12,2,20020818, 72.8013,-161.0850,   51,      2.5,  -0.2879,  28.4049,2,  28.2947,2,    376.9,2,    389.7,2,     5.97,2,     0.06,2,     0.02,2,     0.71,2,     0.09,2,   1880.4,2,   2043.6,2,    -2.91,2,  -999.00,  -999.00,9,  -999.00,  -999.00,9,  -999.00,  -999.00,9,        -999,         -999,9,  -999.00,  -999.00,9, 62.7760158,2,  11.4450233,2,     69.8,2,      3.7,2,      3.9,2,        0,2,      -999,9,     0.25,2,     0.14,2,  -0.2880
  32H120020718,    39,  2,     11,2,20020818, 72.8013,-161.0850,   51,      6.3,  -0.1147,  27.8471,2,-999.0000,9,    373.8,2,   -999.0,9,     3.89,2,     0.09,2,     0.00,2,     0.67,2,     0.02,2,   -999.0,9,   -999.0,9,  -999.00,9,  -999.00,  -999.00,9,  -999.00,  -999.00,9,  -999.00,  -999.00,9,        -999,         -999,9,  -999.00,  -999.00,9,       -999,9,        -999,9,   -999.0,9,   -999.0,9,   -999.0,9,     0.02,2,      -999,9,  -999.00,9,  -999.00,9,  -0.1148
  32H120020718,    39,  2,     12,2,20020818, 72.8013,-161.0850,   51,      6.3,  -0.1178,  27.8473,2,-999.0000,9,    373.8,2,   -999.0,9,  -999.00,9,  -999.00,9,  -999.00,9,  -999.00,9,     -999,9,   -999.0,9,   -999.0,9,  -999.00,9,  -999.00,  -999.00,9,  -999.00,  -999.00,9,  -999.00,  -999.00,9,        -999,         -999,9,  -999.00,  -999.00,9,       -999,9,        -999,9,   -999.0,9,   -999.0,9,   -999.0,9,     -999,9,      -999,9,  -999.00,9,  -999.00,9,  -0.1179
  32H120020718,    39,  1,     10,2,20020818, 72.8013,-161.0850,   51,      7.6,  -0.3011,  27.8629,2,-999.0000,9,    376.4,2,    384.1,2,     4.03,2,     0.09,2,     0.01,2,     0.68,2,     0.04,2,   1859.6,2,   -999.0,9,  -999.00,9,  -999.00,  -999.00,9,  -999.00,  -999.00,9,  -999.00,  -999.00,9,        -999,         -999,9,  -999.00,  -999.00,9,       -999,9,        -999,9,   -999.0,9,   -999.0,9,   -999.0,9,     0.03,2,      -999,9,     0.21,2,     0.15,2,  -0.3012
  32H120020718,    39,  3,     11,2,20020818, 72.8013,-161.0850,   51,      6.6,  -0.4126,  28.8545,2,  28.8114,2,    386.5,2,    399.9,2,     7.85,2,     0.05,2,     0.02,2,     0.75,2,     0.09,2,   -999.0,9,   -999.0,9,    -2.68,2,  -999.00,  -999.00,9,  -999.00,  -999.00,9,  -999.00,  -999.00,9,        -999,         -999,9,  -999.00,  -999.00,9,       -999,9,        -999,9,   -999.0,9,   -999.0,9,   -999.0,9,     0.01,2,      -999,9,     0.26,2,     0.17,2,  -0.4127
  32H120020718,    39, 99,      1,9,20020818, 72.8013,-161.0850,   51,      8.1,-999.0000,-999.0000,9,-999.0000,9,   -999.0,9,   -999.0,9,  -999.00,9,  -999.00,9,  -999.00,9,  -999.00,9,     -999,9,   -999.0,9,   -999.0,9,  -999.00,9,     1.34,     0.09,2,     7.52,     0.44,2,     4.17,     0.39,2, 0.525873742, 0.0573680446,2,     1.18,     0.09,2,       -999,9,        -999,9,   -999.0,9,   -999.0,9,   -999.0,9,     -999,9,      -999,9,  -999.00,9,  -999.00,9,-999.0000
  32H120020718,    39,  1,      9,2,20020818, 72.8013,-161.0850,   51,     12.3,  -0.4053,  29.1618,2,-999.0000,9,    409.6,2,    390.6,2,     5.54,2,     0.03,2,     0.01,2,     0.70,2,     0.04,2,   1867.7,2,   -999.0,9,  -999.00,9,  -999.00,  -999.00,9,  -999.00,  -999.00,9,  -999.00,  -999.00,9,        -999,         -999,9,  -999.00,  -999.00,9,       -999,9,        -999,9,   -999.0,9,   -999.0,9,   -999.0,9,     0.01,2,      -999,9,     0.22,2,     0.17,2,  -0.4056
  32H120020718,    39,  3,     10,2,20020818, 72.8013,-161.0850,   51,     11.7,  -0.9089,  30.5391,2,  30.4298,2,    428.9,2,    431.3,2,    12.93,2,     0.05,2,     0.02,2,     0.84,2,     0.09,2,   1956.8,2,   2176.5,2,  -999.00,9,  -999.00,  -999.00,9,  -999.00,  -999.00,9,  -999.00,  -999.00,9,        -999,         -999,9,  -999.00,  -999.00,9, 97.3973226,2,  16.6261877,2,     68.2,2,      3.8,2,      4.0,2,     0.02,2,      -999,9,     0.32,2,     0.19,2,  -0.9091
  32H120020718,    39,  3,      9,2,20020818, 72.8013,-161.0850,   51,     16.6,  -1.4305,  32.0346,2,  32.0217,2,    426.2,2,    449.7,2,    21.25,2,     0.32,2,     0.02,2,     1.04,2,      0.1,2,   -999.0,9,   -999.0,9,    -1.22,2,  -999.00,  -999.00,9,  -999.00,  -999.00,9,  -999.00,  -999.00,9,        -999,         -999,9,  -999.00,  -999.00,9,       -999,9,        -999,9,   -999.0,9,   -999.0,9,   -999.0,9,     0.03,2,      -999,9,     1.43,2,     0.58,2,  -1.4308
  32H120020718,    39,  1,      7,2,20020818, 72.8013,-161.0850,   51,     18.9,  -1.5229,  32.1523,2,-999.0000,9,    380.3,2,   -999.0,9,  -999.00,9,  -999.00,9,  -999.00,9,  -999.00,9,     -999,9,   -999.0,9,   -999.0,9,  -999.00,9,  -999.00,  -999.00,9,  -999.00,  -999.00,9,  -999.00,  -999.00,9,        -999,         -999,9,  -999.00,  -999.00,9,       -999,9,        -999,9,   -999.0,9,   -999.0,9,   -999.0,9,     -999,9,      -999,9,  -999.00,9,  -999.00,9,  -1.5232
  32H120020718,    39,  1,      8,2,20020818, 72.8013,-161.0850,   51,     18.9,  -1.5420,  32.1621,2,-999.0000,9,    378.0,2,    413.5,2,    20.47,2,     0.12,2,     0.03,2,     1.27,2,     0.16,2,   2059.7,2,   -999.0,9,  -999.00,9,  -999.00,  -999.00,9,  -999.00,  -999.00,9,  -999.00,  -999.00,9,        -999,         -999,9,  -999.00,  -999.00,9,       -999,9,        -999,9,   -999.0,9,   -999.0,9,   -999.0,9,     0.07,2,      -999,9,     6.78,2,     3.41,2,  -1.5423