BOTTLE,20090202PRINUNIVRMK
EXPOCODE,STNNBR,CASTNO,BTLNBR,BTLNBR_FLAG_W,DATE,LATITUDE,LONGITUDE,DEPTH,CTDPRS,CTDTMP,CTDSAL,CTDSAL_FLAG_W,SALNTY,SALNTY_FLAG_W,CTDOXY,CTDOXY_FLAG_W,OXYGEN,OXYGEN_FLAG_W,SILCAT,SILCAT_FLAG_W,NITRAT,NITRAT_FLAG_W,NITRIT,NITRIT_FLAG_W,PHSPHT,PHSPHT_FLAG_W,AMMONI,AMMONI_FLAG_W,TCARBN,TCARBN_FLAG_W,ALKALI,ALKALI_FLAG_W,DELO18,DELO18_FLAG_W,RA-224,RA-224E,RA-224_FLAG_W,RA-226,RA-226E,RA-226_FLAG_W,RA-228,RA-228E,RA-228_FLAG_W,RA-8/6,RA-8/6E,RA-8/6_FLAG_W,TH-228,TH-228E,TH-228_FLAG_W,POC,POC_FLAG_W,PON,PON_FLAG_W,DOC,DOC_FLAG_W,DON,DON_FLAG_W,TDN,TDN_FLAG_W,UREA,UREA_FLAG_W,LIGNIN,LIGNIN_FLAG_W,CHLORA,CHLORA_FLAG_W,PHAEO,PHAEO_FLAG_W,THETA
,,,,,,,,METERS,DBARS,ITS-90,PSS-78,,PSS-78,,UMOL/KG,,UMOL/KG,,UMOL/KG,,UMOL/KG,,UMOL/KG,,UMOL/KG,,UMOL/KG,,UMOL/KG,,UMOL/KG,,O/OO,,DPM/100KG,DPM/100KG,,DPM/100KG,DPM/100KG,,DPM/100KG,DPM/100KG,,,,,DPM/100KG,DPM/100KG,,ug/kg,,ug/kg,,UMOL/KG,,UMOL/KG,,UMOL/KG,,UMOL/KG,,NG/KG,,UG/L,,UG/L,,DEGC
  32H120020718,    37, 99,      1,9,20020817, 73.0712,-160.4940,  183,      8.1,-999.0000,-999.0000,9,-999.0000,9,   -999.0,9,   -999.0,9,  -999.00,9,  -999.00,9,  -999.00,9,  -999.00,9,     -999,9,   -999.0,9,   -999.0,9,  -999.00,9,     0.89,     0.07,2,     6.13,     0.38,2,     2.55,     0.65,2, 0.401278488,  0.105096747,2,     0.64,     0.30,2,       -999,9,        -999,9,   -999.0,9,   -999.0,9,   -999.0,9,     -999,9,      -999,9,  -999.00,9,  -999.00,9,-999.0000
  32H120020718,    37,  1,     11,2,20020817, 73.0712,-160.4940,  183,     10.9,  -0.3495,  27.9396,2,  27.9277,2,    373.2,2,    382.2,2,     3.11,2,     0.05,2,     0.00,2,     0.66,2,     0.02,2,   1867.3,2,   2039.1,2,  -999.00,9,  -999.00,  -999.00,9,  -999.00,  -999.00,9,  -999.00,  -999.00,9,        -999,         -999,9,  -999.00,  -999.00,9, 58.4572711,2,  10.7026145,2,     68.3,2,      7.2,2,      7.3,2,     0.01,2,      -999,9,     0.27,2,     0.13,2,  -0.3497
  32H120020718,    37,  3,      9,2,20020817, 73.0712,-160.4940,  183,     12.1,  -0.3245,  27.9427,2,-999.0000,9,    372.7,2,    381.9,2,     3.19,2,     0.00,2,     0.00,2,     0.66,2,     0.02,2,   -999.0,9,   -999.0,9,  -999.00,9,  -999.00,  -999.00,9,  -999.00,  -999.00,9,  -999.00,  -999.00,9,        -999,         -999,9,  -999.00,  -999.00,9,       -999,9,        -999,9,   -999.0,9,   -999.0,9,   -999.0,9,        0,2,      -999,9,     0.23,2,     0.14,2,  -0.3247
  32H120020718,    37,  3,      7,2,20020817, 73.0712,-160.4940,  183,     17.6,  -1.2391,  31.2129,2,-999.0000,9,    422.1,2,   -999.0,9,  -999.00,9,  -999.00,9,  -999.00,9,  -999.00,9,     -999,9,   -999.0,9,   -999.0,9,  -999.00,9,  -999.00,  -999.00,9,  -999.00,  -999.00,9,  -999.00,  -999.00,9,        -999,         -999,9,  -999.00,  -999.00,9,       -999,9,        -999,9,   -999.0,9,   -999.0,9,   -999.0,9,     -999,9,      -999,9,  -999.00,9,  -999.00,9,  -1.2394
  32H120020718,    37,  3,      8,2,20020817, 73.0712,-160.4940,  183,     17.7,  -1.2262,  31.2023,2,-999.0000,9,    422.2,2,    441.9,2,     7.57,2,     0.00,2,     0.00,2,     0.80,2,     0.03,2,   -999.0,9,   -999.0,9,  -999.00,9,  -999.00,  -999.00,9,  -999.00,  -999.00,9,  -999.00,  -999.00,9,        -999,         -999,9,  -999.00,  -999.00,9,       -999,9,        -999,9,   -999.0,9,   -999.0,9,   -999.0,9,        0,2,      -999,9,     0.32,2,     0.22,2,  -1.2265
  32H120020718,    37,  1,     10,2,20020817, 73.0712,-160.4940,  183,     20.9,  -1.3831,  31.6333,2,  31.4764,2,    425.2,2,    460.5,2,    11.39,2,     0.14,2,     0.01,2,     0.87,2,     0.02,2,   2001.9,2,   2252.9,2,  -999.00,9,  -999.00,  -999.00,9,  -999.00,  -999.00,9,  -999.00,  -999.00,9,        -999,         -999,9,  -999.00,  -999.00,9, 100.569726,2,  16.2218622,2,     66.4,2,      7.9,2,      8.1,2,     0.01,2,      -999,9,     0.62,2,     0.39,2,  -1.3835
  32H120020718,    37,  3,      6,2,20020817, 73.0712,-160.4940,  183,     21.1,  -1.3590,  31.6583,2,-999.0000,9,    428.2,2,    436.1,2,    12.18,2,     0.11,2,     0.01,2,     0.93,2,     0.03,2,   -999.0,9,   -999.0,9,  -999.00,9,  -999.00,  -999.00,9,  -999.00,  -999.00,9,  -999.00,  -999.00,9,        -999,         -999,9,  -999.00,  -999.00,9,       -999,9,        -999,9,   -999.0,9,   -999.0,9,   -999.0,9,     0.02,2,      -999,9,  -999.00,9,  -999.00,9,  -1.3594
  32H120020718,    37,  3,      5,2,20020817, 73.0712,-160.4940,  183,     27.4,  -1.4635,  31.8767,2,-999.0000,9,    342.8,2,    356.2,2,     9.73,2,     2.43,2,     0.09,2,     1.34,2,     0.41,2,   -999.0,9,   -999.0,9,  -999.00,9,  -999.00,  -999.00,9,  -999.00,  -999.00,9,  -999.00,  -999.00,9,        -999,         -999,9,  -999.00,  -999.00,9,       -999,9,        -999,9,   -999.0,9,   -999.0,9,   -999.0,9,      0.2,2,      -999,9,    40.85,2,    13.66,2,  -1.4640
  32H120020718,    37,  1,      9,2,20020817, 73.0712,-160.4940,  183,     36.1,  -1.5605,  32.0880,2,  32.0681,2,    327.6,2,    339.0,2,    22.19,2,     6.44,2,     0.10,2,     1.48,2,     0.64,2,   2110.4,2,   2285.7,2,  -999.00,9,  -999.00,  -999.00,9,  -999.00,  -999.00,9,  -999.00,  -999.00,9,        -999,         -999,9,  -999.00,  -999.00,9,  122.09933,2,  23.7157713,2,     65.8,2,      5.7,2,     12.8,2,     0.08,2,      -999,9,     2.39,2,     1.09,2,  -1.5611
  32H120020718,    37,  3,      3,2,20020817, 73.0712,-160.4940,  183,     41.6,  -1.6325,  32.3813,2,-999.0000,9,    287.1,2,   -999.0,9,  -999.00,9,  -999.00,9,  -999.00,9,  -999.00,9,     -999,9,   -999.0,9,   -999.0,9,  -999.00,9,  -999.00,  -999.00,9,  -999.00,  -999.00,9,  -999.00,  -999.00,9,        -999,         -999,9,  -999.00,  -999.00,9,       -999,9,        -999,9,   -999.0,9,   -999.0,9,   -999.0,9,     -999,9,      -999,9,  -999.00,9,  -999.00,9,  -1.6332
  32H120020718,    37,  3,      4,2,20020817, 73.0712,-160.4940,  183,     41.6,  -1.6331,  32.3817,2,-999.0000,9,    287.1,2,    296.9,2,    38.86,2,    12.57,2,     0.14,2,     1.83,2,     0.84,2,   -999.0,9,   -999.0,9,  -999.00,9,  -999.00,  -999.00,9,  -999.00,  -999.00,9,  -999.00,  -999.00,9,        -999,         -999,9,  -999.00,  -999.00,9,       -999,9,        -999,9,   -999.0,9,   -999.0,9,   -999.0,9,     0.06,2,      -999,9,     0.40,2,     0.79,2,  -1.6338
  32H120020718,    37,  1,      8,2,20020817, 73.0712,-160.4940,  183,     50.9,  -1.5399,  32.6108,2,  32.6268,2,    283.1,2,    292.4,2,    37.81,2,    13.67,2,     0.15,2,     1.90,2,     1.07,2,   2164.7,2,   2295.9,2,  -999.00,9,  -999.00,  -999.00,9,  -999.00,  -999.00,9,  -999.00,  -999.00,9,        -999,         -999,9,  -999.00,  -999.00,9, 41.8200006,2,   8.7785112,2,     62.6,2,      5.6,2,     20.4,2,     0.08,2,      -999,9,     0.25,2,     0.40,2,  -1.5408
  32H120020718,    37,  1,      7,2,20020817, 73.0712,-160.4940,  183,     61.4,  -1.3144,  32.9628,2,  32.9560,2,    278.5,2,    286.3,2,    28.77,2,    12.63,2,     0.17,2,     2.00,2,     3.81,2,   2187.5,2,   2286.1,2,  -999.00,9,  -999.00,  -999.00,9,  -999.00,  -999.00,9,  -999.00,  -999.00,9,        -999,         -999,9,  -999.00,  -999.00,9,  69.399507,2,  13.4186229,2,     60.8,2,      5.6,2,     22.2,2,     0.27,2,      -999,9,     0.29,2,     0.55,2,  -1.3157
  32H120020718,    37,  1,      6,2,20020817, 73.0712,-160.4940,  183,     81.0,  -1.4936,  33.0939,2,  33.0912,2,    275.9,2,    283.4,2,    40.56,2,    14.51,2,     0.24,2,     2.16,2,     3.74,2,   2193.9,2,   2317.7,2,  -999.00,9,  -999.00,  -999.00,9,  -999.00,  -999.00,9,  -999.00,  -999.00,9,        -999,         -999,9,  -999.00,  -999.00,9, 72.6955341,2,  13.4856804,2,     59.4,2,      7.0,2,     25.5,2,     0.16,2,      -999,9,     0.22,2,     0.50,2,  -1.4952
  32H120020718,    37,  2,     11,2,20020817, 73.0712,-160.4940,  183,     81.4,  -1.5080,  33.1147,2,-999.0000,9,    276.5,2,   -999.0,9,    41.13,2,    14.53,2,     0.26,2,     2.17,2,     3.83,2,   -999.0,9,   -999.0,9,  -999.00,9,     2.02,     0.14,2,    10.71,     0.11,2,     9.40,     0.95,2,  0.84085752, 0.0859967918,2,     0.06,     0.59,2,       -999,9,        -999,9,   -999.0,9,   -999.0,9,   -999.0,9,     0.14,2,      -999,9,  -999.00,9,  -999.00,9,  -1.5096
  32H120020718,    37,  2,     10,2,20020817, 73.0712,-160.4940,  183,     81.4,  -1.5147,  33.1194,2,-999.0000,9,    276.0,2,   -999.0,9,  -999.00,9,  -999.00,9,  -999.00,9,  -999.00,9,     -999,9,   -999.0,9,   -999.0,9,  -999.00,9,     2.02,     0.14,2,    10.71,     0.11,2,     9.40,     0.95,2, 0.840851445, 0.0859961705,2,     0.06,     0.59,2,       -999,9,        -999,9,   -999.0,9,   -999.0,9,   -999.0,9,     -999,9,      -999,9,  -999.00,9,  -999.00,9,  -1.5163
  32H120020718,    37,  2,      7,2,20020817, 73.0712,-160.4940,  183,     81.5,  -1.5217,  33.1263,2,-999.0000,9,    276.1,2,   -999.0,9,  -999.00,9,  -999.00,9,  -999.00,9,  -999.00,9,     -999,9,   -999.0,9,   -999.0,9,  -999.00,9,     2.02,     0.14,2,    10.71,     0.11,2,     9.40,     0.95,2, 0.840850694, 0.0859960937,2,     0.06,     0.59,2,       -999,9,        -999,9,   -999.0,9,   -999.0,9,   -999.0,9,     -999,9,      -999,9,  -999.00,9,  -999.00,9,  -1.5233
  32H120020718,    37,  2,      8,2,20020817, 73.0712,-160.4940,  183,     81.7,  -1.5153,  33.1200,2,-999.0000,9,    276.0,2,   -999.0,9,  -999.00,9,  -999.00,9,  -999.00,9,  -999.00,9,     -999,9,   -999.0,9,   -999.0,9,  -999.00,9,     2.02,     0.14,2,    10.71,     0.11,2,     9.40,     0.95,2,  0.84085489, 0.0859965228,2,     0.06,     0.59,2,       -999,9,        -999,9,   -999.0,9,   -999.0,9,   -999.0,9,     -999,9,      -999,9,  -999.00,9,  -999.00,9,  -1.5169
  32H120020718,    37,  2,     12,2,20020817, 73.0712,-160.4940,  183,     81.8,  -1.5113,  33.1172,2,-999.0000,9,    276.7,2,   -999.0,9,  -999.00,9,  -999.00,9,  -999.00,9,  -999.00,9,     -999,9,   -999.0,9,   -999.0,9,  -999.00,9,     2.02,     0.14,2,    10.71,     0.11,2,     9.40,     0.95,2, 0.840853198, 0.0859963498,2,     0.06,     0.59,2,       -999,9,        -999,9,   -999.0,9,   -999.0,9,   -999.0,9,     -999,9,      -999,9,  -999.00,9,  -999.00,9,  -1.5129
  32H120020718,    37,  2,      9,2,20020817, 73.0712,-160.4940,  183,     81.8,  -1.5219,  33.1259,2,-999.0000,9,    276.2,2,   -999.0,9,  -999.00,9,  -999.00,9,  -999.00,9,  -999.00,9,     -999,9,   -999.0,9,   -999.0,9,  -999.00,9,     2.02,     0.14,2,    10.71,     0.11,2,     9.40,     0.95,2, 0.840844682, 0.0859954788,2,     0.06,     0.59,2,       -999,9,        -999,9,   -999.0,9,   -999.0,9,   -999.0,9,     -999,9,      -999,9,  -999.00,9,  -999.00,9,  -1.5235
  32H120020718,    37,  1,      5,2,20020817, 73.0712,-160.4940,  183,    100.5,  -1.6814,  33.2581,2,  33.2375,2,    279.2,2,    287.6,2,    47.33,2,    15.80,2,     0.20,2,     2.08,2,     1.49,2,   2207.7,2,   2321.3,2,  -999.00,9,  -999.00,  -999.00,9,  -999.00,  -999.00,9,  -999.00,  -999.00,9,        -999,         -999,9,  -999.00,  -999.00,9, 36.1143411,2,  6.51737771,2,     61.4,2,      2.5,2,     19.9,2,     0.01,2,      -999,9,     0.09,2,     0.19,2,  -1.6833
  32H120020718,    37,  3,      2,2,20020817, 73.0712,-160.4940,  183,    101.1,  -1.7075,  33.2977,2,-999.0000,9,    279.0,2,   -999.0,9,  -999.00,9,  -999.00,9,  -999.00,9,  -999.00,9,     -999,9,   -999.0,9,   -999.0,9,  -999.00,9,  -999.00,  -999.00,9,  -999.00,  -999.00,9,  -999.00,  -999.00,9,        -999,         -999,9,  -999.00,  -999.00,9,       -999,9,        -999,9,   -999.0,9,   -999.0,9,   -999.0,9,     -999,9,      -999,9,  -999.00,9,  -999.00,9,  -1.7094
  32H120020718,    37,  1,      4,2,20020817, 73.0712,-160.4940,  183,    131.7,  -0.9672,  34.1253,2,  34.1191,2,    273.6,2,    280.7,2,    24.78,2,    13.78,2,     0.01,2,     1.45,2,        0,2,   2206.5,2,   2322.2,2,  -999.00,9,  -999.00,  -999.00,9,  -999.00,  -999.00,9,  -999.00,  -999.00,9,        -999,         -999,9,  -999.00,  -999.00,9, 49.3023184,2,  13.0750099,2,     58.7,2,      2.1,2,     15.8,2,        0,2,      -999,9,     0.05,2,     0.13,2,  -0.9708
  32H120020718,    37,  1,      3,2,20020817, 73.0712,-160.4940,  183,    151.0,  -0.5641,  34.3513,2,  34.3450,2,    270.4,2,    277.1,2,    17.69,2,    13.05,2,     0.01,2,     1.20,2,        0,2,   2176.6,2,   2328.1,2,  -999.00,9,  -999.00,  -999.00,9,  -999.00,  -999.00,9,  -999.00,  -999.00,9,        -999,         -999,9,  -999.00,  -999.00,9,  14.986377,2,  3.00703987,2,     56.6,2,      2.6,2,     15.7,2,        0,2,      -999,9,     0.05,2,     0.09,2,  -0.5688
  32H120020718,    37,  3,      1,2,20020817, 73.0712,-160.4940,  183,    151.0,  -0.4283,  34.4094,2,-999.0000,9,    269.9,2,   -999.0,9,  -999.00,9,  -999.00,9,  -999.00,9,  -999.00,9,     -999,9,   -999.0,9,   -999.0,9,  -999.00,9,  -999.00,  -999.00,9,  -999.00,  -999.00,9,  -999.00,  -999.00,9,        -999,         -999,9,  -999.00,  -999.00,9,       -999,9,        -999,9,   -999.0,9,   -999.0,9,   -999.0,9,     -999,9,      -999,9,  -999.00,9,  -999.00,9,  -0.4332
  32H120020718,    37,  1,      2,2,20020817, 73.0712,-160.4940,  183,    159.3,  -0.2889,  34.4769,2,  34.4728,2,    272.3,2,    277.8,2,    12.68,2,    12.43,2,     0.01,2,     1.03,2,        0,2,   2166.2,2,   2289.9,2,  -999.00,9,  -999.00,  -999.00,9,  -999.00,  -999.00,9,  -999.00,  -999.00,9,        -999,         -999,9,  -999.00,  -999.00,9, 11.6755796,2,  2.46983369,2,     54.5,2,      2.7,2,     15.2,2,        0,2,      -999,9,     0.04,2,     0.09,2,  -0.2943
  32H120020718,    37,  1,      1,2,20020817, 73.0712,-160.4940,  183,    175.8,  -0.0352,  34.5591,2,  34.5590,2,    270.8,2,    275.6,2,    13.35,2,    12.49,2,     0.05,2,     1.09,2,     0.12,2,   2164.3,2,   2321.2,2,  -999.00,9,  -999.00,  -999.00,9,  -999.00,  -999.00,9,  -999.00,  -999.00,9,        -999,         -999,9,  -999.00,  -999.00,9,  73.904869,2,  9.09777953,2,     54.9,2,      2.3,2,     15.0,2,     0.02,2,      -999,9,     0.07,2,     0.30,2,  -0.0416
  32H120020718,    37,  2,      1,2,20020817, 73.0712,-160.4940,  183,    175.5,   0.0036,  34.5732,2,-999.0000,9,    270.4,2,   -999.0,9,  -999.00,9,  -999.00,9,  -999.00,9,  -999.00,9,     -999,9,   -999.0,9,   -999.0,9,  -999.00,9,     3.48,     0.15,2,     8.25,     0.42,2,     0.88,     2.11,2, 0.105341743,  0.248989575,2,     1.69,     1.31,2,       -999,9,        -999,9,   -999.0,9,   -999.0,9,   -999.0,9,     -999,9,      -999,9,  -999.00,9,  -999.00,9,  -0.0028
  32H120020718,    37,  2,      2,2,20020817, 73.0712,-160.4940,  183,    175.8,   0.0058,  34.5740,2,-999.0000,9,    270.5,2,   -999.0,9,  -999.00,9,  -999.00,9,  -999.00,9,  -999.00,9,     -999,9,   -999.0,9,   -999.0,9,  -999.00,9,     3.48,     0.15,2,     8.25,     0.42,2,     0.88,     2.11,2, 0.105339858,   0.24898512,2,     1.69,     1.31,2,       -999,9,        -999,9,   -999.0,9,   -999.0,9,   -999.0,9,     -999,9,      -999,9,  -999.00,9,  -999.00,9,  -0.0006
  32H120020718,    37,  2,      3,2,20020817, 73.0712,-160.4940,  183,    176.0,   0.0065,  34.5741,2,-999.0000,9,    270.4,2,   -999.0,9,  -999.00,9,  -999.00,9,  -999.00,9,  -999.00,9,     -999,9,   -999.0,9,   -999.0,9,  -999.00,9,     3.47,     0.15,2,     8.25,     0.42,2,     0.88,     2.10,2, 0.105237891,  0.248744106,2,     1.69,     1.30,2,       -999,9,        -999,9,   -999.0,9,   -999.0,9,   -999.0,9,     -999,9,      -999,9,  -999.00,9,  -999.00,9,   0.0000
  32H120020718,    37,  2,      4,2,20020817, 73.0712,-160.4940,  183,    176.0,   0.0068,  34.5745,2,-999.0000,9,    270.7,2,   -999.0,9,  -999.00,9,  -999.00,9,  -999.00,9,  -999.00,9,     -999,9,   -999.0,9,   -999.0,9,  -999.00,9,     3.47,     0.15,2,     8.23,     0.42,2,     0.88,     2.10,2, 0.105003621,  0.248190376,2,     1.69,     1.30,2,       -999,9,        -999,9,   -999.0,9,   -999.0,9,   -999.0,9,     -999,9,      -999,9,  -999.00,9,  -999.00,9,   0.0003
  32H120020718,    37,  2,      5,2,20020817, 73.0712,-160.4940,  183,    176.1,   0.0105,  34.5758,2,-999.0000,9,    270.6,2,   -999.0,9,  -999.00,9,  -999.00,9,  -999.00,9,  -999.00,9,     -999,9,   -999.0,9,   -999.0,9,  -999.00,9,     3.47,     0.15,2,     8.23,     0.42,2,     0.88,     2.10,2, 0.105002752,  0.248188324,2,     1.69,     1.30,2,       -999,9,        -999,9,   -999.0,9,   -999.0,9,   -999.0,9,     -999,9,      -999,9,  -999.00,9,  -999.00,9,   0.0040
  32H120020718,    37,  2,      6,2,20020817, 73.0712,-160.4940,  183,    176.3,   0.0092,  34.5755,2,-999.0000,9,    270.6,2,   -999.0,9,    13.34,2,    12.48,2,     0.05,2,     1.11,2,     0.11,2,   -999.0,9,   -999.0,9,  -999.00,9,     3.47,     0.15,2,     8.23,     0.42,2,     0.88,     2.10,2, 0.104990404,  0.248159136,2,     1.69,     1.30,2,       -999,9,        -999,9,   -999.0,9,   -999.0,9,   -999.0,9,     0.02,2,      -999,9,  -999.00,9,  -999.00,9,   0.0027
  32H120020718,    38,  1,     12,2,20020817, 72.9860,-160.6490,   95,      2.1,  -0.4615,  27.7448,2,  27.7427,2,    373.5,2,    381.2,2,     3.23,2,     0.07,2,     0.00,2,     0.66,2,        0,2,   1872.0,2,   2008.8,2,  -999.00,9,  -999.00,  -999.00,9,  -999.00,  -999.00,9,  -999.00,  -999.00,9,        -999,         -999,9,  -999.00,  -999.00,9, 51.9996354,3,  9.35012355,3,     65.3,2,   -999.0,9,   -999.0,9,        0,2,      -999,9,     0.16,2,     0.12,2,  -0.4615
  32H120020718,    38,  1,     11,2,20020817, 72.9860,-160.6490,   95,     10.9,  -0.8524,  30.0758,2,  29.8279,2,    427.4,2,    433.4,2,     4.28,2,     0.07,2,     0.00,2,     0.73,2,        0,2,   1943.0,2,   2162.3,2,  -999.00,9,  -999.00,  -999.00,9,  -999.00,  -999.00,9,  -999.00,  -999.00,9,        -999,         -999,9,  -999.00,  -999.00,9, 97.5096565,2,  14.7430139,2,     69.1,2,      3.3,2,      3.4,2,     0.02,2,      -999,9,     0.42,2,     0.22,2,  -0.8526
  32H120020718,    38,  1,     10,2,20020817, 72.9860,-160.6490,   95,     16.1,  -0.9899,  30.4191,2,  30.3485,2,    429.7,2,    440.3,2,     6.23,2,     0.12,2,     0.00,2,     0.77,2,        0,2,   1972.0,2,   2223.4,2,  -999.00,9,  -999.00,  -999.00,9,  -999.00,  -999.00,9,  -999.00,  -999.00,9,        -999,         -999,9,  -999.00,  -999.00,9, 91.0873132,2,    13.11179,2,     70.9,2,      3.2,2,      3.3,2,     0.04,2,      -999,9,     0.41,2,     0.24,2,  -0.9902
  32H120020718,    38,  1,      9,2,20020817, 72.9860,-160.6490,   95,     22.0,  -1.4254,  31.7699,2,  31.6881,2,    401.2,2,    431.6,2,    10.37,2,     0.12,2,     0.01,2,     0.94,2,        0,2,   2044.8,2,   2242.1,2,  -999.00,9,  -999.00,  -999.00,9,  -999.00,  -999.00,9,  -999.00,  -999.00,9,        -999,         -999,9,  -999.00,  -999.00,9, 100.837519,2,  14.4486772,2,     69.8,2,   -999.0,9,   -999.0,9,     0.04,2,      -999,9,     0.58,2,     0.40,2,  -1.4258
  32H120020718,    38,  1,      8,2,20020817, 72.9860,-160.6490,   95,     30.8,  -1.5765,  32.2117,2,  32.2124,2,    304.6,2,    312.5,2,    27.51,2,     9.65,2,     0.14,2,     1.66,2,     0.72,2,   2134.0,2,   2270.0,2,  -999.00,9,  -999.00,  -999.00,9,  -999.00,  -999.00,9,  -999.00,  -999.00,9,        -999,         -999,9,  -999.00,  -999.00,9, 89.7579427,2,  16.4085522,2,     64.2,2,      4.0,2,     14.5,2,      0.1,2,      -999,9,     0.80,2,     0.68,2,  -1.5770