BOTTLE,20090202PRINUNIVRMK
EXPOCODE,STNNBR,CASTNO,BTLNBR,BTLNBR_FLAG_W,DATE,LATITUDE,LONGITUDE,DEPTH,CTDPRS,CTDTMP,CTDSAL,CTDSAL_FLAG_W,SALNTY,SALNTY_FLAG_W,CTDOXY,CTDOXY_FLAG_W,OXYGEN,OXYGEN_FLAG_W,SILCAT,SILCAT_FLAG_W,NITRAT,NITRAT_FLAG_W,NITRIT,NITRIT_FLAG_W,PHSPHT,PHSPHT_FLAG_W,AMMONI,AMMONI_FLAG_W,TCARBN,TCARBN_FLAG_W,ALKALI,ALKALI_FLAG_W,DELO18,DELO18_FLAG_W,RA-224,RA-224E,RA-224_FLAG_W,RA-226,RA-226E,RA-226_FLAG_W,RA-228,RA-228E,RA-228_FLAG_W,RA-8/6,RA-8/6E,RA-8/6_FLAG_W,TH-228,TH-228E,TH-228_FLAG_W,POC,POC_FLAG_W,PON,PON_FLAG_W,DOC,DOC_FLAG_W,DON,DON_FLAG_W,TDN,TDN_FLAG_W,UREA,UREA_FLAG_W,LIGNIN,LIGNIN_FLAG_W,CHLORA,CHLORA_FLAG_W,PHAEO,PHAEO_FLAG_W,THETA
,,,,,,,,METERS,DBARS,ITS-90,PSS-78,,PSS-78,,UMOL/KG,,UMOL/KG,,UMOL/KG,,UMOL/KG,,UMOL/KG,,UMOL/KG,,UMOL/KG,,UMOL/KG,,UMOL/KG,,O/OO,,DPM/100KG,DPM/100KG,,DPM/100KG,DPM/100KG,,DPM/100KG,DPM/100KG,,,,,DPM/100KG,DPM/100KG,,ug/kg,,ug/kg,,UMOL/KG,,UMOL/KG,,UMOL/KG,,UMOL/KG,,NG/KG,,UG/L,,UG/L,,DEGC
  32H120020718,     7,  1,      6,2,20020719, 68.5104,-167.3910,   45,     21.4,   4.1812,  31.6836,2,  31.6890,2,    355.0,2,    353.5,2,     3.76,2,     0.05,2,     0.01,2,     0.60,2,     0.09,2,   1955.4,2,   2220.1,2,  -999.00,9,  -999.00,  -999.00,9,  -999.00,  -999.00,9,  -999.00,  -999.00,9,        -999,         -999,9,  -999.00,  -999.00,9, 80.0791269,2,  16.2095161,2,   -999.0,9,      8.7,2,      8.9,2,     0.08,2,      -999,9,     0.35,2,     0.35,2,   4.1798
  32H120020718,     7,  1,      7,2,20020719, 68.5104,-167.3910,   45,     21.4,   4.2641,  31.6960,2,-999.0000,9,    355.1,2,   -999.0,9,  -999.00,9,  -999.00,9,  -999.00,9,  -999.00,9,     -999,9,   -999.0,9,   -999.0,9,  -999.00,9,  -999.00,  -999.00,9,  -999.00,  -999.00,9,  -999.00,  -999.00,9,        -999,         -999,9,  -999.00,  -999.00,9,       -999,9,        -999,9,     85.2,2,   -999.0,9,   -999.0,9,     -999,9,      -999,9,  -999.00,9,  -999.00,9,   4.2627
  32H120020718,     7,  1,      5,2,20020719, 68.5104,-167.3910,   45,     26.7,   4.0706,  31.6863,2,  31.6838,2,    354.8,2,    354.1,2,     3.98,2,     0.04,2,     0.01,2,     0.61,2,     0.12,2,   -999.0,9,   -999.0,9,  -999.00,9,  -999.00,  -999.00,9,  -999.00,  -999.00,9,  -999.00,  -999.00,9,        -999,         -999,9,  -999.00,  -999.00,9,       -999,9,        -999,9,   -999.0,9,   -999.0,9,   -999.0,9,     0.07,2,      -999,9,     0.32,2,     0.33,2,   4.0689
  32H120020718,     7,  2,      5,2,20020719, 68.5104,-167.3910,   45,     28.0,   4.0861,  31.6764,2,-999.0000,9,    353.8,2,   -999.0,9,  -999.00,9,  -999.00,9,  -999.00,9,  -999.00,9,     -999,9,   -999.0,9,   -999.0,9,  -999.00,9,  -999.00,  -999.00,9,  -999.00,  -999.00,9,  -999.00,  -999.00,9,        -999,         -999,9,  -999.00,  -999.00,9,       -999,9,        -999,9,   -999.0,9,   -999.0,9,   -999.0,9,     -999,9,      -999,9,  -999.00,9,  -999.00,9,   4.0843
  32H120020718,     7,  2,      6,2,20020719, 68.5104,-167.3910,   45,     28.1,   4.0776,  31.6784,2,-999.0000,9,    353.8,2,    354.4,2,     4.03,2,     0.04,2,     0.01,2,     0.61,2,     0.12,2,   -999.0,9,   -999.0,9,  -999.00,9,  -999.00,  -999.00,9,  -999.00,  -999.00,9,  -999.00,  -999.00,9,        -999,         -999,9,  -999.00,  -999.00,9,       -999,9,        -999,9,   -999.0,9,   -999.0,9,   -999.0,9,     0.07,2,      -999,9,     0.24,2,     0.25,2,   4.0758
  32H120020718,     7,  2,      4,2,20020719, 68.5104,-167.3910,   45,     28.1,   4.0891,  31.6772,2,-999.0000,9,    353.8,2,   -999.0,9,  -999.00,9,  -999.00,9,  -999.00,9,  -999.00,9,     -999,9,   -999.0,9,   -999.0,9,  -999.00,9,  -999.00,  -999.00,9,  -999.00,  -999.00,9,  -999.00,  -999.00,9,        -999,         -999,9,  -999.00,  -999.00,9,       -999,9,        -999,9,   -999.0,9,   -999.0,9,   -999.0,9,     -999,9,      -999,9,  -999.00,9,  -999.00,9,   4.0873
  32H120020718,     7,  1,      3,2,20020719, 68.5104,-167.3910,   45,     31.6,   4.0473,  31.6924,2,-999.0000,9,    354.9,2,   -999.0,9,  -999.00,9,  -999.00,9,  -999.00,9,  -999.00,9,     -999,9,   -999.0,9,   -999.0,9,  -999.00,9,  -999.00,  -999.00,9,  -999.00,  -999.00,9,  -999.00,  -999.00,9,        -999,         -999,9,  -999.00,  -999.00,9,       -999,9,        -999,9,     77.0,2,   -999.0,9,   -999.0,9,     -999,9,      -999,9,  -999.00,9,  -999.00,9,   4.0453
  32H120020718,     7,  1,      4,2,20020719, 68.5104,-167.3910,   45,     31.6,   4.0521,  31.6920,2,  31.6892,2,    354.8,2,    354.4,2,     4.08,2,     0.04,2,     0.01,2,     0.61,2,     0.12,2,   1954.2,2,   2228.3,2,  -999.00,9,  -999.00,  -999.00,9,  -999.00,  -999.00,9,  -999.00,  -999.00,9,        -999,         -999,9,  -999.00,  -999.00,9, 70.1400855,2,  14.0084586,2,   -999.0,9,      9.3,2,      9.5,2,     0.08,2,      -999,9,     0.26,2,     0.30,2,   4.0501
  32H120020718,     7,  3,      5,2,20020719, 68.5104,-167.3910,   45,     33.8,   4.1156,  31.6561,2,-999.0000,9,    354.0,2,   -999.0,9,  -999.00,9,  -999.00,9,  -999.00,9,  -999.00,9,     -999,9,   -999.0,9,   -999.0,9,  -999.00,9,     0.72,     0.05,2,     5.81,     0.65,2,     5.45,     0.28,2, 0.899588352,  0.114841066,2,     0.22,     0.04,2,       -999,9,        -999,9,   -999.0,9,   -999.0,9,   -999.0,9,     -999,9,      -999,9,  -999.00,9,  -999.00,9,   4.1134
  32H120020718,     7,  3,      6,2,20020719, 68.5104,-167.3910,   45,     33.8,   4.1157,  31.6560,2,-999.0000,9,    353.8,2,   -999.0,9,  -999.00,9,  -999.00,9,  -999.00,9,  -999.00,9,     -999,9,   -999.0,9,   -999.0,9,  -999.00,9,     0.72,     0.05,2,     5.81,     0.65,2,     5.45,     0.28,2, 0.899588486,  0.114841083,2,     0.22,     0.04,2,       -999,9,        -999,9,   -999.0,9,   -999.0,9,   -999.0,9,     -999,9,      -999,9,  -999.00,9,  -999.00,9,   4.1135
  32H120020718,     7,  3,      2,2,20020719, 68.5104,-167.3910,   45,     33.8,   4.1158,  31.6551,2,-999.0000,9,    354.0,2,   -999.0,9,  -999.00,9,  -999.00,9,  -999.00,9,  -999.00,9,     -999,9,   -999.0,9,   -999.0,9,  -999.00,9,     0.72,     0.05,2,     5.81,     0.65,2,     5.45,     0.28,2, 0.899589692,  0.114841237,2,     0.22,     0.04,2,       -999,9,        -999,9,   -999.0,9,   -999.0,9,   -999.0,9,     -999,9,      -999,9,  -999.00,9,  -999.00,9,   4.1136
  32H120020718,     7,  3,      1,2,20020719, 68.5104,-167.3910,   45,     33.8,   4.1159,  31.6548,2,-999.0000,9,    353.9,2,   -999.0,9,     3.98,2,     0.04,2,     0.01,2,     0.61,2,     0.21,2,   -999.0,9,   -999.0,9,  -999.00,9,     0.72,     0.05,2,     5.81,     0.65,2,     5.45,     0.28,2, 0.899590094,  0.114841289,2,     0.22,     0.04,2,       -999,9,        -999,9,   -999.0,9,   -999.0,9,   -999.0,9,      0.5,2,      -999,9,  -999.00,9,  -999.00,9,   4.1137
  32H120020718,     7,  3,      7,2,20020719, 68.5104,-167.3910,   45,     33.8,   4.1160,  31.6560,2,-999.0000,9,    353.7,2,   -999.0,9,  -999.00,9,  -999.00,9,  -999.00,9,  -999.00,9,     -999,9,   -999.0,9,   -999.0,9,  -999.00,9,     0.72,     0.05,2,     5.81,     0.65,2,     5.45,     0.28,2, 0.899588486,  0.114841083,2,     0.22,     0.04,2,       -999,9,        -999,9,   -999.0,9,   -999.0,9,   -999.0,9,     -999,9,      -999,9,  -999.00,9,  -999.00,9,   4.1138
  32H120020718,     7,  3,      4,2,20020719, 68.5104,-167.3910,   45,     33.8,   4.1165,  31.6550,2,-999.0000,9,    353.6,2,   -999.0,9,  -999.00,9,  -999.00,9,  -999.00,9,  -999.00,9,     -999,9,   -999.0,9,   -999.0,9,  -999.00,9,     0.72,     0.05,2,     5.81,     0.65,2,     5.45,     0.28,2, 0.899589826,  0.114841254,2,     0.22,     0.04,2,       -999,9,        -999,9,   -999.0,9,   -999.0,9,   -999.0,9,     -999,9,      -999,9,  -999.00,9,  -999.00,9,   4.1143
  32H120020718,     7,  3,      3,2,20020719, 68.5104,-167.3910,   45,     33.8,   4.1177,  31.6539,2,-999.0000,9,    353.9,2,   -999.0,9,  -999.00,9,  -999.00,9,  -999.00,9,  -999.00,9,     -999,9,   -999.0,9,   -999.0,9,  -999.00,9,     0.72,     0.05,2,     5.81,     0.65,2,     5.45,     0.28,2,   0.8995913,  0.114841443,2,     0.22,     0.04,2,       -999,9,        -999,9,   -999.0,9,   -999.0,9,   -999.0,9,     -999,9,      -999,9,  -999.00,9,  -999.00,9,   4.1155
  32H120020718,     7,  2,      1,2,20020719, 68.5104,-167.3910,   45,     39.7,   4.0432,  31.6950,2,-999.0000,9,    353.8,2,   -999.0,9,  -999.00,9,  -999.00,9,  -999.00,9,  -999.00,9,     -999,9,   -999.0,9,   -999.0,9,  -999.00,9,  -999.00,  -999.00,9,  -999.00,  -999.00,9,  -999.00,  -999.00,9,        -999,         -999,9,  -999.00,  -999.00,9,       -999,9,        -999,9,   -999.0,9,   -999.0,9,   -999.0,9,     -999,9,      -999,9,  -999.00,9,  -999.00,9,   4.0407
  32H120020718,     7,  2,      2,2,20020719, 68.5104,-167.3910,   45,     39.7,   4.0448,  31.6946,2,-999.0000,9,    353.7,2,   -999.0,9,  -999.00,9,  -999.00,9,  -999.00,9,  -999.00,9,     -999,9,   -999.0,9,   -999.0,9,  -999.00,9,  -999.00,  -999.00,9,  -999.00,  -999.00,9,  -999.00,  -999.00,9,        -999,         -999,9,  -999.00,  -999.00,9,       -999,9,        -999,9,   -999.0,9,   -999.0,9,   -999.0,9,     -999,9,      -999,9,  -999.00,9,  -999.00,9,   4.0423
  32H120020718,     7,  2,      3,2,20020719, 68.5104,-167.3910,   45,     39.7,   4.0451,  31.6943,2,-999.0000,9,    353.9,2,    354.0,2,     4.24,2,     0.04,2,     0.01,2,     0.62,2,     0.14,2,   -999.0,9,   -999.0,9,  -999.00,9,  -999.00,  -999.00,9,  -999.00,  -999.00,9,  -999.00,  -999.00,9,        -999,         -999,9,  -999.00,  -999.00,9,       -999,9,        -999,9,   -999.0,9,   -999.0,9,   -999.0,9,     0.03,2,      -999,9,     0.22,2,     0.26,2,   4.0426
  32H120020718,     7,  1,      2,2,20020719, 68.5104,-167.3910,   45,     39.9,   4.0136,  31.7018,2,-999.0000,9,    355.1,2,   -999.0,9,  -999.00,9,  -999.00,9,  -999.00,9,  -999.00,9,     -999,9,   -999.0,9,   -999.0,9,  -999.00,9,  -999.00,  -999.00,9,  -999.00,  -999.00,9,  -999.00,  -999.00,9,        -999,         -999,9,  -999.00,  -999.00,9,       -999,9,        -999,9,   -999.0,9,   -999.0,9,   -999.0,9,     -999,9,      -999,9,  -999.00,9,  -999.00,9,   4.0111
  32H120020718,     7,  1,      1,2,20020719, 68.5104,-167.3910,   45,     40.0,   4.0163,  31.7002,2,  31.6975,2,    355.2,2,    354.4,2,     4.09,2,     0.04,2,     0.01,2,     0.61,2,     0.12,2,   -999.0,9,   -999.0,9,    -1.09,2,  -999.00,  -999.00,9,  -999.00,  -999.00,9,  -999.00,  -999.00,9,        -999,         -999,9,  -999.00,  -999.00,9,       -999,9,        -999,9,   -999.0,9,   -999.0,9,   -999.0,9,     0.09,2,111.421378,2,     0.26,2,     0.28,2,   4.0138
  32H120020718,     8,  1,     12,2,20020720, 69.9553,-164.3980,   32,      1.9,   3.9405,  27.7603,2,  27.5821,2,    354.9,2,    354.5,2,     5.70,2,     0.06,2,     0.00,2,     0.52,2,     0.06,2,   -999.0,9,   -999.0,9,  -999.00,9,  -999.00,  -999.00,9,  -999.00,  -999.00,9,  -999.00,  -999.00,9,        -999,         -999,9,  -999.00,  -999.00,9,       -999,9,        -999,9,     84.6,2,   -999.0,9,   -999.0,9,     0.01,2,      -999,9,  -999.00,9,  -999.00,9,   3.9404
  32H120020718,     8,  1,     11,2,20020720, 69.9553,-164.3980,   32,      1.9,   3.9998,  27.7111,2,  27.7297,2,    354.6,2,    355.6,2,     5.59,2,     0.05,2,     0.00,2,     0.53,2,     0.06,2,   1725.2,2,   2040.0,2,  -999.00,9,  -999.00,  -999.00,9,  -999.00,  -999.00,9,  -999.00,  -999.00,9,        -999,         -999,9,  -999.00,  -999.00,9, 52.5103214,2,  9.48757631,2,   -999.0,9,      6.8,2,      6.9,2,     0.01,2,      -999,9,     0.19,2,     0.08,2,   3.9997
  32H120020718,     8, 99,      1,9,20020720, 69.9553,-164.3980,   32,      8.1,-999.0000,-999.0000,9,-999.0000,9,   -999.0,9,   -999.0,9,  -999.00,9,  -999.00,9,  -999.00,9,  -999.00,9,     -999,9,   -999.0,9,   -999.0,9,  -999.00,9,     0.19,     0.03,2,     4.48,     0.11,2,     6.59,     0.19,2,  1.40627173, 0.0573988462,2,     0.25,     0.04,2,       -999,9,        -999,9,   -999.0,9,   -999.0,9,   -999.0,9,     -999,9,      -999,9,  -999.00,9,  -999.00,9,-999.0000
  32H120020718,     8,  1,     10,2,20020720, 69.9553,-164.3980,   32,     11.4,   1.1789,  30.2811,2,  30.2024,2,    365.5,2,    375.5,2,     6.09,2,     0.04,2,     0.00,2,     0.62,2,     0.58,2,   -999.0,9,   -999.0,9,  -999.00,9,  -999.00,  -999.00,9,  -999.00,  -999.00,9,  -999.00,  -999.00,9,        -999,         -999,9,  -999.00,  -999.00,9,       -999,9,        -999,9,   -999.0,9,   -999.0,9,   -999.0,9,     0.07,2,      -999,9,  -999.00,9,  -999.00,9,   1.1785
  32H120020718,     8,  1,      9,2,20020720, 69.9553,-164.3980,   32,     11.4,   1.5700,  30.4212,2,  30.1470,2,    368.4,2,    375.6,2,     6.20,2,     0.04,2,     0.00,2,     0.62,2,     0.59,2,   1961.3,2,   2183.7,2,  -999.00,9,  -999.00,  -999.00,9,  -999.00,  -999.00,9,  -999.00,  -999.00,9,        -999,         -999,9,  -999.00,  -999.00,9, 20.6352419,2,  4.52469251,2,     86.4,2,      7.9,2,      8.5,2,     0.02,2,218.190554,2,     0.05,2,     0.02,2,   1.5695
  32H120020718,     8,  2,     11,2,20020720, 69.9553,-164.3980,   32,     11.4,   1.0923,  30.9629,2,-999.0000,9,    384.2,2,   -999.0,9,  -999.00,9,  -999.00,9,  -999.00,9,  -999.00,9,     -999,9,   -999.0,9,   -999.0,9,  -999.00,9,  -999.00,  -999.00,9,  -999.00,  -999.00,9,  -999.00,  -999.00,9,        -999,         -999,9,  -999.00,  -999.00,9,       -999,9,        -999,9,   -999.0,9,   -999.0,9,   -999.0,9,     -999,9,      -999,9,  -999.00,9,  -999.00,9,   1.0919
  32H120020718,     8,  2,     12,2,20020720, 69.9553,-164.3980,   32,     11.4,   1.0981,  30.9365,2,-999.0000,9,    380.3,2,   -999.0,9,  -999.00,9,  -999.00,9,  -999.00,9,  -999.00,9,     -999,9,   -999.0,9,   -999.0,9,  -999.00,9,  -999.00,  -999.00,9,  -999.00,  -999.00,9,  -999.00,  -999.00,9,        -999,         -999,9,  -999.00,  -999.00,9,       -999,9,        -999,9,   -999.0,9,   -999.0,9,   -999.0,9,     -999,9,      -999,9,  -999.00,9,  -999.00,9,   1.0977
  32H120020718,     8,  1,      8,2,20020720, 69.9553,-164.3980,   32,     16.5,   0.4783,  31.1801,2,  31.0714,2,    396.5,2,    384.8,2,     4.16,2,     0.03,2,     0.00,2,     0.57,2,     0.33,2,   2004.1,2,   2245.7,2,  -999.00,9,  -999.00,  -999.00,9,  -999.00,  -999.00,9,  -999.00,  -999.00,9,        -999,         -999,9,  -999.00,  -999.00,9,       -999,9,        -999,9,   -999.0,9,   -999.0,9,   -999.0,9,     0.02,2,      -999,9,  -999.00,9,  -999.00,9,   0.4778
  32H120020718,     8,  1,      7,2,20020720, 69.9553,-164.3980,   32,     16.5,   0.5035,  31.1974,2,  31.0852,2,    393.1,2,    396.9,2,     5.38,2,     0.02,2,     0.00,2,     0.62,2,      0.4,2,   -999.0,9,   -999.0,9,  -999.00,9,  -999.00,  -999.00,9,  -999.00,  -999.00,9,  -999.00,  -999.00,9,        -999,         -999,9,  -999.00,  -999.00,9,       -999,9,        -999,9,   -999.0,9,   -999.0,9,   -999.0,9,     0.07,2,      -999,9,     0.18,2,     0.08,2,   0.5030
  32H120020718,     8,  2,      3,2,20020720, 69.9553,-164.3980,   32,     21.5,   0.7431,  31.8371,2,-999.0000,9,    384.7,2,   -999.0,9,  -999.00,9,  -999.00,9,  -999.00,9,  -999.00,9,     -999,9,   -999.0,9,   -999.0,9,  -999.00,9,  -999.00,  -999.00,9,     1.74,     0.42,2,     2.17,     0.52,2,  1.19593856,  0.401835357,2,  -999.00,  -999.00,9,       -999,9,        -999,9,   -999.0,9,   -999.0,9,   -999.0,9,     -999,9,      -999,9,  -999.00,9,  -999.00,9,   0.7423
  32H120020718,     8,  2,      5,2,20020720, 69.9553,-164.3980,   32,     21.5,   0.7739,  31.8348,2,-999.0000,9,    390.9,2,   -999.0,9,  -999.00,9,  -999.00,9,  -999.00,9,  -999.00,9,     -999,9,   -999.0,9,   -999.0,9,  -999.00,9,  -999.00,  -999.00,9,     1.74,     0.42,2,     2.17,     0.52,2,  1.19594266,  0.401836734,2,  -999.00,  -999.00,9,       -999,9,        -999,9,   -999.0,9,   -999.0,9,   -999.0,9,     -999,9,      -999,9,  -999.00,9,  -999.00,9,   0.7731
  32H120020718,     8,  2,      4,2,20020720, 69.9553,-164.3980,   32,     21.5,   0.7807,  31.8337,2,-999.0000,9,    390.1,2,   -999.0,9,  -999.00,9,  -999.00,9,  -999.00,9,  -999.00,9,     -999,9,   -999.0,9,   -999.0,9,  -999.00,9,  -999.00,  -999.00,9,     1.74,     0.42,2,     2.17,     0.52,2,  1.19594462,  0.401837393,2,  -999.00,  -999.00,9,       -999,9,        -999,9,   -999.0,9,   -999.0,9,   -999.0,9,     -999,9,      -999,9,  -999.00,9,  -999.00,9,   0.7799
  32H120020718,     8,  2,      6,2,20020720, 69.9553,-164.3980,   32,     21.5,   0.8457,  31.8271,2,-999.0000,9,    392.9,2,   -999.0,9,  -999.00,9,  -999.00,9,  -999.00,9,  -999.00,9,     -999,9,   -999.0,9,   -999.0,9,  -999.00,9,  -999.00,  -999.00,9,     1.74,     0.42,2,     2.17,     0.52,2,  1.19595638,  0.401841344,2,  -999.00,  -999.00,9,       -999,9,        -999,9,   -999.0,9,   -999.0,9,   -999.0,9,     -999,9,      -999,9,  -999.00,9,  -999.00,9,   0.8449
  32H120020718,     8,  2,      7,2,20020720, 69.9553,-164.3980,   32,     21.5,   0.8673,  31.8251,2,-999.0000,9,    393.9,2,   -999.0,9,  -999.00,9,  -999.00,9,  -999.00,9,  -999.00,9,     -999,9,   -999.0,9,   -999.0,9,  -999.00,9,  -999.00,  -999.00,9,     1.74,     0.42,2,     2.17,     0.52,2,  1.19595994,  0.401842541,2,  -999.00,  -999.00,9,       -999,9,        -999,9,   -999.0,9,   -999.0,9,   -999.0,9,     -999,9,      -999,9,  -999.00,9,  -999.00,9,   0.8665
  32H120020718,     8,  2,      8,2,20020720, 69.9553,-164.3980,   32,     21.5,   0.9531,  31.8166,2,-999.0000,9,    396.4,2,   -999.0,9,  -999.00,9,  -999.00,9,  -999.00,9,  -999.00,9,     -999,9,   -999.0,9,   -999.0,9,  -999.00,9,  -999.00,  -999.00,9,     1.74,     0.42,2,     2.17,     0.52,2,  1.19597509,   0.40184763,2,  -999.00,  -999.00,9,       -999,9,        -999,9,   -999.0,9,   -999.0,9,   -999.0,9,     -999,9,      -999,9,  -999.00,9,  -999.00,9,   0.9523
  32H120020718,     8,  2,      9,2,20020720, 69.9553,-164.3980,   32,     21.5,   1.0503,  31.8065,2,-999.0000,9,    399.6,2,   -999.0,9,  -999.00,9,  -999.00,9,  -999.00,9,  -999.00,9,     -999,9,   -999.0,9,   -999.0,9,  -999.00,9,  -999.00,  -999.00,9,     1.74,     0.42,2,     2.17,     0.52,2,  1.19599309,  0.401853677,2,  -999.00,  -999.00,9,       -999,9,        -999,9,   -999.0,9,   -999.0,9,   -999.0,9,     -999,9,      -999,9,  -999.00,9,  -999.00,9,   1.0495
  32H120020718,     8,  2,     10,2,20020720, 69.9553,-164.3980,   32,     21.5,   1.0953,  31.7992,2,-999.0000,9,    401.0,2,   -999.0,9,  -999.00,9,  -999.00,9,  -999.00,9,  -999.00,9,     -999,9,   -999.0,9,   -999.0,9,  -999.00,9,  -999.00,  -999.00,9,     1.74,     0.42,2,     2.17,     0.52,2,  1.19600609,  0.401858047,2,  -999.00,  -999.00,9,       -999,9,        -999,9,   -999.0,9,   -999.0,9,   -999.0,9,     -999,9,      -999,9,  -999.00,9,  -999.00,9,   1.0945