BOTTLE,20090202PRINUNIVRMK
EXPOCODE,STNNBR,CASTNO,BTLNBR,BTLNBR_FLAG_W,DATE,LATITUDE,LONGITUDE,DEPTH,CTDPRS,CTDTMP,CTDSAL,CTDSAL_FLAG_W,SALNTY,SALNTY_FLAG_W,CTDOXY,CTDOXY_FLAG_W,OXYGEN,OXYGEN_FLAG_W,SILCAT,SILCAT_FLAG_W,NITRAT,NITRAT_FLAG_W,NITRIT,NITRIT_FLAG_W,PHSPHT,PHSPHT_FLAG_W,AMMONI,AMMONI_FLAG_W,TCARBN,TCARBN_FLAG_W,ALKALI,ALKALI_FLAG_W,DELO18,DELO18_FLAG_W,RA-224,RA-224E,RA-224_FLAG_W,RA-226,RA-226E,RA-226_FLAG_W,RA-228,RA-228E,RA-228_FLAG_W,RA-8/6,RA-8/6E,RA-8/6_FLAG_W,TH-228,TH-228E,TH-228_FLAG_W,POC,POC_FLAG_W,PON,PON_FLAG_W,DOC,DOC_FLAG_W,DON,DON_FLAG_W,TDN,TDN_FLAG_W,UREA,UREA_FLAG_W,LIGNIN,LIGNIN_FLAG_W,CHLORA,CHLORA_FLAG_W,PHAEO,PHAEO_FLAG_W,THETA
,,,,,,,,METERS,DBARS,ITS-90,PSS-78,,PSS-78,,UMOL/KG,,UMOL/KG,,UMOL/KG,,UMOL/KG,,UMOL/KG,,UMOL/KG,,UMOL/KG,,UMOL/KG,,UMOL/KG,,O/OO,,DPM/100KG,DPM/100KG,,DPM/100KG,DPM/100KG,,DPM/100KG,DPM/100KG,,,,,DPM/100KG,DPM/100KG,,ug/kg,,ug/kg,,UMOL/KG,,UMOL/KG,,UMOL/KG,,UMOL/KG,,NG/KG,,UG/L,,UG/L,,DEGC
  32H120020718,    17,  5,      2,2,20020727, 72.5068,-153.2960, 3121,    302.2,   0.4842,  34.7183,2,-999.0000,9,    276.3,2,   -999.0,9,  -999.00,9,  -999.00,9,  -999.00,9,  -999.00,9,     -999,9,   -999.0,9,   -999.0,9,     5.88,9,     0.95,     0.06,2,     5.62,     0.71,2,     0.41,     0.43,2,0.0668815183, 0.0764360209,2,     0.67,     0.06,2,       -999,9,        -999,9,   -999.0,9,   -999.0,9,   -999.0,9,     -999,9,      -999,9,  -999.00,9,  -999.00,9,   0.4715
  32H120020718,    17,  5,      3,2,20020727, 72.5068,-153.2960, 3121,    302.2,   0.4845,  34.7186,2,-999.0000,9,    276.5,2,   -999.0,9,  -999.00,9,  -999.00,9,  -999.00,9,  -999.00,9,     -999,9,   -999.0,9,   -999.0,9,     5.88,9,     0.95,     0.06,2,     5.62,     0.71,2,     0.41,     0.43,2,0.0668813639, 0.0764358444,2,     0.67,     0.06,2,       -999,9,        -999,9,   -999.0,9,   -999.0,9,   -999.0,9,     -999,9,      -999,9,  -999.00,9,  -999.00,9,   0.4718
  32H120020718,    17,  5,      5,2,20020727, 72.5068,-153.2960, 3121,    302.2,   0.4849,  34.7186,2,-999.0000,9,    276.5,2,   -999.0,9,  -999.00,9,  -999.00,9,  -999.00,9,  -999.00,9,     -999,9,   -999.0,9,   -999.0,9,     5.88,9,     0.95,     0.06,2,     5.62,     0.71,2,     0.41,     0.43,2,0.0668812343, 0.0764356963,2,     0.67,     0.06,2,       -999,9,        -999,9,   -999.0,9,   -999.0,9,   -999.0,9,     -999,9,      -999,9,  -999.00,9,  -999.00,9,   0.4722
  32H120020718,    17,  5,      4,2,20020727, 72.5068,-153.2960, 3121,    302.2,   0.4851,  34.7189,2,-999.0000,9,    276.4,2,   -999.0,9,  -999.00,9,  -999.00,9,  -999.00,9,  -999.00,9,     -999,9,   -999.0,9,   -999.0,9,     5.88,9,     0.95,     0.06,2,     5.60,     0.71,2,     0.41,     0.43,2,0.0666977368, 0.0762259849,2,     0.67,     0.06,2,       -999,9,        -999,9,   -999.0,9,   -999.0,9,   -999.0,9,     -999,9,      -999,9,  -999.00,9,  -999.00,9,   0.4724
  32H120020718,    17,  5,      6,2,20020727, 72.5068,-153.2960, 3121,    302.2,   0.4851,  34.7189,2,-999.0000,9,    276.5,2,   -999.0,9,  -999.00,9,  -999.00,9,  -999.00,9,  -999.00,9,     -999,9,   -999.0,9,   -999.0,9,     5.88,9,     0.95,     0.06,2,     5.60,     0.70,2,     0.41,     0.43,2,0.0666858657, 0.0762124179,2,     0.67,     0.06,2,       -999,9,        -999,9,   -999.0,9,   -999.0,9,   -999.0,9,     -999,9,      -999,9,  -999.00,9,  -999.00,9,   0.4724
  32H120020718,    17,  5,      1,2,20020727, 72.5068,-153.2960, 3121,    302.2,   0.4863,  34.7189,2,-999.0000,9,    276.5,2,   -999.0,9,  -999.00,9,  -999.00,9,  -999.00,9,  -999.00,9,     -999,9,   -999.0,9,   -999.0,9,     5.88,9,     0.95,     0.06,2,     5.60,     0.70,2,     0.41,     0.43,2, 0.066681949, 0.0762079417,2,     0.67,     0.06,2,       -999,9,        -999,9,   -999.0,9,   -999.0,9,   -999.0,9,     -999,9,      -999,9,  -999.00,9,  -999.00,9,   0.4736
  32H120020718,    17,  7,     10,2,20020727, 72.5068,-153.2960, 3121,    350.9,   0.7145,  34.7951,2,  34.7960,2,    282.2,2,    290.2,2,     7.67,2,    12.40,2,     0.02,2,     0.87,2,        0,2,   2145.2,2,   2297.4,2,  -999.00,9,  -999.00,  -999.00,9,  -999.00,  -999.00,9,  -999.00,  -999.00,9,        -999,         -999,9,  -999.00,  -999.00,9, 4.54808451,2, 0.927184909,2,     50.8,2,      2.8,2,     15.2,2,        0,2,      -999,9,  -999.00,9,  -999.00,9,   0.6988
  32H120020718,    17,  7,      9,2,20020727, 72.5068,-153.2960, 3121,    401.5,   0.6837,  34.8223,2,  34.8233,2,    286.3,2,    294.9,2,     6.71,2,    12.35,2,     0.02,2,     0.86,2,        0,2,   2145.7,2,   2306.7,2,  -999.00,9,  -999.00,  -999.00,9,  -999.00,  -999.00,9,  -999.00,  -999.00,9,        -999,         -999,9,  -999.00,  -999.00,9, 4.21617443,2, 0.761252048,2,     51.2,2,      2.3,2,     14.7,2,        0,2,      -999,9,  -999.00,9,  -999.00,9,   0.6657
  32H120020718,    17,  7,      8,2,20020727, 72.5068,-153.2960, 3121,    501.7,   0.5607,  34.8422,2,  34.8430,2,    286.7,2,    297.3,2,     6.90,2,    12.40,2,     0.01,2,     0.86,2,        0,2,   2147.0,2,   2308.5,2,  -999.00,9,  -999.00,  -999.00,9,  -999.00,  -999.00,9,  -999.00,  -999.00,9,        -999,         -999,9,  -999.00,  -999.00,9, 3.64029302,2, 0.761241164,2,     50.7,2,      3.6,2,     16.0,2,        0,2,      -999,9,  -999.00,9,  -999.00,9,   0.5383
  32H120020718,    17,  7,      7,2,20020727, 72.5068,-153.2960, 3121,    751.7,   0.2353,  34.8642,2,  34.8648,2,    287.9,2,    299.6,2,     6.89,2,    12.57,2,     0.00,2,     0.87,2,        0,2,   2147.8,2,   2308.0,2,  -999.00,9,  -999.00,  -999.00,9,  -999.00,  -999.00,9,  -999.00,  -999.00,9,        -999,         -999,9,  -999.00,  -999.00,9, 3.52312837,2, 0.731950665,2,     48.9,2,      2.5,2,     15.0,2,        0,2,      -999,9,  -999.00,9,  -999.00,9,   0.2020
  32H120020718,    17,  4,      9,2,20020727, 72.5068,-153.2960, 3121,   1001.1,  -0.0226,  34.8809,2,-999.0000,9,    287.7,2,   -999.0,9,  -999.00,9,  -999.00,9,  -999.00,9,  -999.00,9,     -999,9,   -999.0,9,   -999.0,9,  -999.00,9,  -999.00,  -999.00,9,  -999.00,  -999.00,9,  -999.00,  -999.00,9,        -999,         -999,9,  -999.00,  -999.00,9,       -999,9,        -999,9,   -999.0,9,   -999.0,9,   -999.0,9,     -999,9,      -999,9,  -999.00,9,  -999.00,9,  -0.0671
  32H120020718,    17,  4,     10,2,20020727, 72.5068,-153.2960, 3121,   1001.2,  -0.0222,  34.8809,2,-999.0000,9,    287.6,2,   -999.0,9,  -999.00,9,  -999.00,9,  -999.00,9,  -999.00,9,     -999,9,   -999.0,9,   -999.0,9,  -999.00,9,  -999.00,  -999.00,9,  -999.00,  -999.00,9,  -999.00,  -999.00,9,        -999,         -999,9,  -999.00,  -999.00,9,       -999,9,        -999,9,   -999.0,9,   -999.0,9,   -999.0,9,     -999,9,      -999,9,  -999.00,9,  -999.00,9,  -0.0667
  32H120020718,    17,  4,     11,2,20020727, 72.5068,-153.2960, 3121,   1001.3,  -0.0229,  34.8808,2,-999.0000,9,    287.7,2,   -999.0,9,  -999.00,9,  -999.00,9,  -999.00,9,  -999.00,9,     -999,9,   -999.0,9,   -999.0,9,  -999.00,9,  -999.00,  -999.00,9,  -999.00,  -999.00,9,  -999.00,  -999.00,9,        -999,         -999,9,  -999.00,  -999.00,9,       -999,9,        -999,9,   -999.0,9,   -999.0,9,   -999.0,9,     -999,9,      -999,9,  -999.00,9,  -999.00,9,  -0.0674
  32H120020718,    17,  7,      6,2,20020727, 72.5068,-153.2960, 3121,   1002.3,  -0.0181,  34.8806,2,  34.8810,2,    287.1,2,    300.4,2,     6.99,2,    12.67,2,     0.00,2,     0.89,2,        0,2,   2147.2,2,   2309.4,2,  -999.00,9,  -999.00,  -999.00,9,  -999.00,  -999.00,9,  -999.00,  -999.00,9,        -999,         -999,9,  -999.00,  -999.00,9, 2.55690891,2, 0.663625636,2,     46.1,2,      2.3,2,     14.9,2,        0,2,      -999,9,  -999.00,9,  -999.00,9,  -0.0627
  32H120020718,    17,  7,      5,2,20020727, 72.5068,-153.2960, 3121,   1502.8,  -0.3286,  34.9161,2,  34.9164,2,    281.9,2,    298.1,2,     8.80,2,    13.42,2,     0.00,2,     0.94,2,        0,2,   2147.1,2,   2313.5,2,  -999.00,9,  -999.00,  -999.00,9,  -999.00,  -999.00,9,  -999.00,  -999.00,9,        -999,         -999,9,  -999.00,  -999.00,9, 2.65444047,2, 0.566019509,2,     45.1,2,      2.0,2,     15.4,2,        0,2,      -999,9,  -999.00,9,  -999.00,9,  -0.3984
  32H120020718,    17,  1,     12,2,20020727, 72.5068,-153.2960, 3121,   1710.4,  -0.3908,  34.9298,2,-999.0000,9,    282.5,2,   -999.0,9,  -999.00,9,  -999.00,9,  -999.00,9,  -999.00,9,     -999,9,   -999.0,9,   -999.0,9,  -999.00,9,  -999.00,  -999.00,9,  -999.00,  -999.00,9,  -999.00,  -999.00,9,        -999,         -999,9,  -999.00,  -999.00,9,       -999,9,        -999,9,   -999.0,9,   -999.0,9,   -999.0,9,     -999,9,      -999,9,  -999.00,9,  -999.00,9,  -0.4725
  32H120020718,    17,  1,      1,2,20020727, 72.5068,-153.2960, 3121,   1711.5,  -0.3905,  34.9298,2,-999.0000,9,    283.1,2,   -999.0,9,    10.03,2,    13.91,2,     0.00,2,     1.02,2,     0.26,4,   -999.0,9,   -999.0,9,  -999.00,9,  -999.00,  -999.00,9,  -999.00,  -999.00,9,  -999.00,  -999.00,9,        -999,         -999,9,  -999.00,  -999.00,9,       -999,9,        -999,9,   -999.0,9,   -999.0,9,   -999.0,9,      1.6,4,      -999,9,  -999.00,9,  -999.00,9,  -0.4723
  32H120020718,    17,  1,      2,2,20020727, 72.5068,-153.2960, 3121,   1711.7,  -0.3906,  34.9298,2,-999.0000,9,    283.0,2,   -999.0,9,  -999.00,9,  -999.00,9,  -999.00,9,  -999.00,9,     -999,9,   -999.0,9,   -999.0,9,  -999.00,9,  -999.00,  -999.00,9,  -999.00,  -999.00,9,  -999.00,  -999.00,9,        -999,         -999,9,  -999.00,  -999.00,9,       -999,9,        -999,9,   -999.0,9,   -999.0,9,   -999.0,9,     -999,9,   32.7025,2,  -999.00,9,  -999.00,9,  -0.4724
  32H120020718,    17,  1,     11,2,20020727, 72.5068,-153.2960, 3121,   1711.7,  -0.3911,  34.9299,2,-999.0000,9,    282.7,2,   -999.0,9,  -999.00,9,  -999.00,9,  -999.00,9,  -999.00,9,     -999,9,   -999.0,9,   -999.0,9,  -999.00,9,  -999.00,  -999.00,9,  -999.00,  -999.00,9,  -999.00,  -999.00,9,        -999,         -999,9,  -999.00,  -999.00,9,       -999,9,        -999,9,   -999.0,9,   -999.0,9,   -999.0,9,     -999,9,      -999,9,  -999.00,9,  -999.00,9,  -0.4729
  32H120020718,    17,  1,      9,2,20020727, 72.5068,-153.2960, 3121,   1711.8,  -0.3911,  34.9299,2,-999.0000,9,    282.7,2,   -999.0,9,  -999.00,9,  -999.00,9,  -999.00,9,  -999.00,9,     -999,9,   -999.0,9,   -999.0,9,  -999.00,9,  -999.00,  -999.00,9,  -999.00,  -999.00,9,  -999.00,  -999.00,9,        -999,         -999,9,  -999.00,  -999.00,9,       -999,9,        -999,9,   -999.0,9,   -999.0,9,   -999.0,9,     -999,9,      -999,9,  -999.00,9,  -999.00,9,  -0.4729
  32H120020718,    17,  1,     10,2,20020727, 72.5068,-153.2960, 3121,   1711.8,  -0.3912,  34.9300,2,-999.0000,9,    282.6,2,   -999.0,9,  -999.00,9,  -999.00,9,  -999.00,9,  -999.00,9,     -999,9,   -999.0,9,   -999.0,9,  -999.00,9,  -999.00,  -999.00,9,  -999.00,  -999.00,9,  -999.00,  -999.00,9,        -999,         -999,9,  -999.00,  -999.00,9,       -999,9,        -999,9,   -999.0,9,   -999.0,9,   -999.0,9,     -999,9,      -999,9,  -999.00,9,  -999.00,9,  -0.4730
  32H120020718,    17,  1,      3,2,20020727, 72.5068,-153.2960, 3121,   1711.9,  -0.3908,  34.9299,2,-999.0000,9,    282.9,2,   -999.0,9,  -999.00,9,  -999.00,9,  -999.00,9,  -999.00,9,     -999,9,   -999.0,9,   -999.0,9,  -999.00,9,  -999.00,  -999.00,9,  -999.00,  -999.00,9,  -999.00,  -999.00,9,        -999,         -999,9,  -999.00,  -999.00,9,       -999,9,        -999,9,   -999.0,9,   -999.0,9,   -999.0,9,     -999,9,      -999,9,  -999.00,9,  -999.00,9,  -0.4726
  32H120020718,    17,  1,      8,2,20020727, 72.5068,-153.2960, 3121,   1711.9,  -0.3909,  34.9299,2,-999.0000,9,    282.7,2,   -999.0,9,  -999.00,9,  -999.00,9,  -999.00,9,  -999.00,9,     -999,9,   -999.0,9,   -999.0,9,  -999.00,9,  -999.00,  -999.00,9,  -999.00,  -999.00,9,  -999.00,  -999.00,9,        -999,         -999,9,  -999.00,  -999.00,9,       -999,9,        -999,9,   -999.0,9,   -999.0,9,   -999.0,9,     -999,9,      -999,9,  -999.00,9,  -999.00,9,  -0.4727
  32H120020718,    17,  1,      4,2,20020727, 72.5068,-153.2960, 3121,   1712.0,  -0.3905,  34.9298,2,-999.0000,9,    282.8,2,   -999.0,9,  -999.00,9,  -999.00,9,  -999.00,9,  -999.00,9,     -999,9,   -999.0,9,   -999.0,9,  -999.00,9,  -999.00,  -999.00,9,  -999.00,  -999.00,9,  -999.00,  -999.00,9,        -999,         -999,9,  -999.00,  -999.00,9,       -999,9,        -999,9,   -999.0,9,   -999.0,9,   -999.0,9,     -999,9,   37.1219,2,  -999.00,9,  -999.00,9,  -0.4723
  32H120020718,    17,  1,      7,2,20020727, 72.5068,-153.2960, 3121,   1712.0,  -0.3907,  34.9299,2,-999.0000,9,    282.6,2,   -999.0,9,  -999.00,9,  -999.00,9,  -999.00,9,  -999.00,9,     -999,9,   -999.0,9,   -999.0,9,  -999.00,9,  -999.00,  -999.00,9,  -999.00,  -999.00,9,  -999.00,  -999.00,9,        -999,         -999,9,  -999.00,  -999.00,9,       -999,9,        -999,9,   -999.0,9,   -999.0,9,   -999.0,9,     -999,9,      -999,9,  -999.00,9,  -999.00,9,  -0.4725
  32H120020718,    17,  1,      5,2,20020727, 72.5068,-153.2960, 3121,   1712.0,  -0.3909,  34.9300,2,-999.0000,9,    282.8,2,   -999.0,9,  -999.00,9,  -999.00,9,  -999.00,9,  -999.00,9,     -999,9,   -999.0,9,   -999.0,9,  -999.00,9,  -999.00,  -999.00,9,  -999.00,  -999.00,9,  -999.00,  -999.00,9,        -999,         -999,9,  -999.00,  -999.00,9,       -999,9,        -999,9,   -999.0,9,   -999.0,9,   -999.0,9,     -999,9,      -999,9,  -999.00,9,  -999.00,9,  -0.4727
  32H120020718,    17,  1,      6,2,20020727, 72.5068,-153.2960, 3121,   1712.0,  -0.3909,  34.9300,2,-999.0000,9,    282.7,2,   -999.0,9,  -999.00,9,  -999.00,9,  -999.00,9,  -999.00,9,     -999,9,   -999.0,9,   -999.0,9,  -999.00,9,  -999.00,  -999.00,9,  -999.00,  -999.00,9,  -999.00,  -999.00,9,        -999,         -999,9,  -999.00,  -999.00,9,       -999,9,        -999,9,   -999.0,9,   -999.0,9,   -999.0,9,     -999,9,      -999,9,  -999.00,9,  -999.00,9,  -0.4727
  32H120020718,    17,  7,      4,2,20020727, 72.5068,-153.2960, 3121,   1899.8,  -0.4061,  34.9383,2,  34.9382,2,    275.0,2,    292.7,2,    10.71,2,    14.12,2,     0.00,2,     0.99,2,        0,2,   2144.3,2,   2311.0,2,  -999.00,9,  -999.00,  -999.00,9,  -999.00,  -999.00,9,  -999.00,  -999.00,9,        -999,         -999,9,  -999.00,  -999.00,9, 4.72326889,2, 0.868534343,2,     45.2,2,      2.8,2,     16.9,2,        0,2,      -999,9,  -999.00,9,  -999.00,9,  -0.4997
  32H120020718,    17,  4,      6,2,20020727, 72.5068,-153.2960, 3121,   2001.2,  -0.4065,  34.9420,2,-999.0000,9,    273.8,2,   -999.0,9,  -999.00,9,  -999.00,9,  -999.00,9,  -999.00,9,     -999,9,   -999.0,9,   -999.0,9,  -999.00,9,  -999.00,  -999.00,9,  -999.00,  -999.00,9,  -999.00,  -999.00,9,        -999,         -999,9,  -999.00,  -999.00,9,       -999,9,        -999,9,   -999.0,9,   -999.0,9,   -999.0,9,     -999,9,      -999,9,  -999.00,9,  -999.00,9,  -0.5069
  32H120020718,    17,  4,      7,2,20020727, 72.5068,-153.2960, 3121,   2001.4,  -0.4065,  34.9421,2,-999.0000,9,    273.8,2,   -999.0,9,  -999.00,9,  -999.00,9,  -999.00,9,  -999.00,9,     -999,9,   -999.0,9,   -999.0,9,  -999.00,9,  -999.00,  -999.00,9,  -999.00,  -999.00,9,  -999.00,  -999.00,9,        -999,         -999,9,  -999.00,  -999.00,9,       -999,9,        -999,9,   -999.0,9,   -999.0,9,   -999.0,9,     -999,9,      -999,9,  -999.00,9,  -999.00,9,  -0.5069
  32H120020718,    17,  4,      8,2,20020727, 72.5068,-153.2960, 3121,   2001.6,  -0.4064,  34.9421,2,-999.0000,9,    273.8,2,   -999.0,9,  -999.00,9,  -999.00,9,  -999.00,9,  -999.00,9,     -999,9,   -999.0,9,   -999.0,9,  -999.00,9,  -999.00,  -999.00,9,  -999.00,  -999.00,9,  -999.00,  -999.00,9,        -999,         -999,9,  -999.00,  -999.00,9,       -999,9,        -999,9,   -999.0,9,   -999.0,9,   -999.0,9,     -999,9,      -999,9,  -999.00,9,  -999.00,9,  -0.5068
  32H120020718,    17,  7,      3,2,20020727, 72.5068,-153.2960, 3121,   2299.6,  -0.3937,  34.9491,2,  34.9488,2,    270.2,2,    288.2,2,    11.95,2,    14.37,2,     0.00,2,     1.01,2,        0,2,   2145.5,2,   2315.3,2,  -999.00,9,  -999.00,  -999.00,9,  -999.00,  -999.00,9,  -999.00,  -999.00,9,        -999,         -999,9,  -999.00,  -999.00,9, 1.32718683,2, 0.429383691,2,     45.3,2,      2.5,2,     16.8,2,        0,2,      -999,9,  -999.00,9,  -999.00,9,  -0.5152
  32H120020718,    17,  7,      2,2,20020727, 72.5068,-153.2960, 3121,   2748.6,  -0.3598,  34.9545,2,  34.9540,2,    267.5,2,    286.2,2,    12.52,2,    14.52,2,     0.00,2,     1.02,2,        0,2,   2149.6,2,   2338.8,2,  -999.00,9,  -999.00,  -999.00,9,  -999.00,  -999.00,9,  -999.00,  -999.00,9,        -999,         -999,9,  -999.00,  -999.00,9, 1.08321341,2, 0.400107377,2,     46.1,2,      2.9,2,     17.4,2,     0.01,2,      -999,9,  -999.00,9,  -999.00,9,  -0.5160
  32H120020718,    17,  4,      1,2,20020727, 72.5068,-153.2960, 3121,   3136.3,  -0.3222,  34.9566,2,-999.0000,9,    266.0,2,   -999.0,9,  -999.00,9,  -999.00,9,  -999.00,9,  -999.00,9,     -999,9,   -999.0,9,   -999.0,9,  -999.00,9,  -999.00,  -999.00,9,  -999.00,  -999.00,9,  -999.00,  -999.00,9,        -999,         -999,9,  -999.00,  -999.00,9,       -999,9,        -999,9,   -999.0,9,   -999.0,9,   -999.0,9,     -999,9,      -999,9,  -999.00,9,  -999.00,9,  -0.5114
  32H120020718,    17,  4,      4,2,20020727, 72.5068,-153.2960, 3121,   3136.5,  -0.3221,  34.9565,2,-999.0000,9,    265.5,2,   -999.0,9,  -999.00,9,  -999.00,9,  -999.00,9,  -999.00,9,     -999,9,   -999.0,9,   -999.0,9,  -999.00,9,  -999.00,  -999.00,9,  -999.00,  -999.00,9,  -999.00,  -999.00,9,        -999,         -999,9,  -999.00,  -999.00,9,       -999,9,        -999,9,   -999.0,9,   -999.0,9,   -999.0,9,     -999,9,      -999,9,  -999.00,9,  -999.00,9,  -0.5113
  32H120020718,    17,  4,      2,2,20020727, 72.5068,-153.2960, 3121,   3136.5,  -0.3222,  34.9567,2,-999.0000,9,    265.8,2,   -999.0,9,  -999.00,9,  -999.00,9,  -999.00,9,  -999.00,9,     -999,9,   -999.0,9,   -999.0,9,  -999.00,9,  -999.00,  -999.00,9,  -999.00,  -999.00,9,  -999.00,  -999.00,9,        -999,         -999,9,  -999.00,  -999.00,9,       -999,9,        -999,9,   -999.0,9,   -999.0,9,   -999.0,9,     -999,9,      -999,9,  -999.00,9,  -999.00,9,  -0.5114
  32H120020718,    17,  4,      5,2,20020727, 72.5068,-153.2960, 3121,   3136.7,  -0.3222,  34.9565,2,-999.0000,9,    265.5,2,   -999.0,9,  -999.00,9,  -999.00,9,  -999.00,9,  -999.00,9,     -999,9,   -999.0,9,   -999.0,9,  -999.00,9,  -999.00,  -999.00,9,  -999.00,  -999.00,9,  -999.00,  -999.00,9,        -999,         -999,9,  -999.00,  -999.00,9,       -999,9,        -999,9,   -999.0,9,   -999.0,9,   -999.0,9,     -999,9,      -999,9,  -999.00,9,  -999.00,9,  -0.5114
  32H120020718,    17,  4,      3,2,20020727, 72.5068,-153.2960, 3121,   3136.7,  -0.3222,  34.9567,2,-999.0000,9,    265.8,2,   -999.0,9,  -999.00,9,  -999.00,9,  -999.00,9,  -999.00,9,     -999,9,   -999.0,9,   -999.0,9,  -999.00,9,  -999.00,  -999.00,9,  -999.00,  -999.00,9,  -999.00,  -999.00,9,        -999,         -999,9,  -999.00,  -999.00,9,       -999,9,        -999,9,   -999.0,9,   -999.0,9,   -999.0,9,     -999,9,      -999,9,  -999.00,9,  -999.00,9,  -0.5114
  32H120020718,    17,  7,      1,2,20020727, 72.5068,-153.2960, 3121,   3146.4,  -0.3214,  34.9565,2,  34.9567,2,    265.6,2,    284.0,2,    13.38,2,    14.63,2,     0.00,2,     1.03,2,        0,2,   2149.6,2,   2313.4,2,  -999.00,9,  -999.00,  -999.00,9,  -999.00,  -999.00,9,  -999.00,  -999.00,9,        -999,         -999,9,  -999.00,  -999.00,9, 2.16642433,2, 0.468415027,2,     45.1,2,      2.6,2,     17.2,2,        0,2,      -999,9,  -999.00,9,  -999.00,9,  -0.5114
  32H120020718,    18,  2,     12,2,20020729, 72.3189,-151.9760, 3253,      2.2,  -1.0769,  27.5116,2,  27.5062,2,    379.0,2,    390.0,2,     4.58,2,     0.14,2,     0.01,2,     0.68,2,     0.24,2,   1846.4,2,   1974.0,2,  -999.00,9,  -999.00,  -999.00,9,  -999.00,  -999.00,9,  -999.00,  -999.00,9,        -999,         -999,9,  -999.00,  -999.00,9, 43.3046379,2,  7.18310429,2,     65.7,2,   -999.0,9,   -999.0,9,     0.01,2,      -999,9,     0.30,2,     0.18,2,  -1.0769