BOTTLE,20090202PRINUNIVRMK
EXPOCODE,STNNBR,CASTNO,BTLNBR,BTLNBR_FLAG_W,DATE,LATITUDE,LONGITUDE,DEPTH,CTDPRS,CTDTMP,CTDSAL,CTDSAL_FLAG_W,SALNTY,SALNTY_FLAG_W,CTDOXY,CTDOXY_FLAG_W,OXYGEN,OXYGEN_FLAG_W,SILCAT,SILCAT_FLAG_W,NITRAT,NITRAT_FLAG_W,NITRIT,NITRIT_FLAG_W,PHSPHT,PHSPHT_FLAG_W,AMMONI,AMMONI_FLAG_W,TCARBN,TCARBN_FLAG_W,ALKALI,ALKALI_FLAG_W,DELO18,DELO18_FLAG_W,RA-224,RA-224E,RA-224_FLAG_W,RA-226,RA-226E,RA-226_FLAG_W,RA-228,RA-228E,RA-228_FLAG_W,RA-8/6,RA-8/6E,RA-8/6_FLAG_W,TH-228,TH-228E,TH-228_FLAG_W,POC,POC_FLAG_W,PON,PON_FLAG_W,DOC,DOC_FLAG_W,DON,DON_FLAG_W,TDN,TDN_FLAG_W,UREA,UREA_FLAG_W,LIGNIN,LIGNIN_FLAG_W,CHLORA,CHLORA_FLAG_W,PHAEO,PHAEO_FLAG_W,THETA
,,,,,,,,METERS,DBARS,ITS-90,PSS-78,,PSS-78,,UMOL/KG,,UMOL/KG,,UMOL/KG,,UMOL/KG,,UMOL/KG,,UMOL/KG,,UMOL/KG,,UMOL/KG,,UMOL/KG,,O/OO,,DPM/100KG,DPM/100KG,,DPM/100KG,DPM/100KG,,DPM/100KG,DPM/100KG,,,,,DPM/100KG,DPM/100KG,,ug/kg,,ug/kg,,UMOL/KG,,UMOL/KG,,UMOL/KG,,UMOL/KG,,NG/KG,,UG/L,,UG/L,,DEGC
  32H120020718,    30,  1,      7,2,20020810, 73.0759,-157.9070, 2025,    151.6,  -1.5070,  33.2648,2,-999.0000,9,    278.0,2,   -999.0,9,    32.64,2,    14.65,2,     0.01,2,     1.76,2,     0.03,2,   -999.0,9,   -999.0,9,  -999.00,9,     1.57,     0.14,2,     8.10,     0.28,2,     3.80,     1.07,2,  0.44871825,  0.124113558,2,     1.50,     0.67,2,       -999,9,        -999,9,   -999.0,9,   -999.0,9,   -999.0,9,        0,2,      -999,9,  -999.00,9,  -999.00,9,  -1.5102
  32H120020718,    30,  1,      8,2,20020810, 73.0759,-157.9070, 2025,    151.7,  -1.5008,  33.2722,2,-999.0000,9,    278.3,2,   -999.0,9,  -999.00,9,  -999.00,9,  -999.00,9,  -999.00,9,     -999,9,   -999.0,9,   -999.0,9,  -999.00,9,     1.57,     0.14,2,     8.09,     0.28,2,     3.80,     1.07,2, 0.448575398,  0.124074046,2,     1.50,     0.67,2,       -999,9,        -999,9,   -999.0,9,   -999.0,9,   -999.0,9,     -999,9,      -999,9,  -999.00,9,  -999.00,9,  -1.5040
  32H120020718,    30,  1,      9,2,20020810, 73.0759,-157.9070, 2025,    151.8,  -1.4937,  33.2789,2,-999.0000,9,    277.0,2,   -999.0,9,  -999.00,9,  -999.00,9,  -999.00,9,  -999.00,9,     -999,9,   -999.0,9,   -999.0,9,  -999.00,9,     1.57,     0.14,2,     8.09,     0.28,2,     3.80,     1.07,2, 0.448407198,  0.124027523,2,     1.50,     0.67,2,       -999,9,        -999,9,   -999.0,9,   -999.0,9,   -999.0,9,     -999,9,      -999,9,  -999.00,9,  -999.00,9,  -1.4969
  32H120020718,    30,  1,     11,2,20020810, 73.0759,-157.9070, 2025,    151.9,  -1.4922,  33.2850,2,-999.0000,9,    276.7,2,   -999.0,9,  -999.00,9,  -999.00,9,  -999.00,9,  -999.00,9,     -999,9,   -999.0,9,   -999.0,9,  -999.00,9,     1.57,     0.14,2,     8.09,     0.28,2,     3.80,     1.07,2, 0.448275719,  0.123991156,2,     1.50,     0.67,2,       -999,9,        -999,9,   -999.0,9,   -999.0,9,   -999.0,9,     -999,9,      -999,9,  -999.00,9,  -999.00,9,  -1.4954
  32H120020718,    30,  1,     10,2,20020810, 73.0759,-157.9070, 2025,    151.9,  -1.4925,  33.2837,2,-999.0000,9,    276.7,2,   -999.0,9,  -999.00,9,  -999.00,9,  -999.00,9,  -999.00,9,     -999,9,   -999.0,9,   -999.0,9,  -999.00,9,     1.57,     0.14,2,     8.11,     0.28,2,     3.81,     1.07,2, 0.449369783,   0.12429377,2,     1.51,     0.67,2,       -999,9,        -999,9,   -999.0,9,   -999.0,9,   -999.0,9,     -999,9,      -999,9,  -999.00,9,  -999.00,9,  -1.4957
  32H120020718,    30,  1,     12,2,20020810, 73.0759,-157.9070, 2025,    152.0,  -1.4917,  33.2852,2,-999.0000,9,    276.9,2,   -999.0,9,  -999.00,9,  -999.00,9,  -999.00,9,  -999.00,9,     -999,9,   -999.0,9,   -999.0,9,  -999.00,9,     1.57,     0.14,2,     8.10,     0.28,2,     3.80,     1.07,2, 0.448673276,  0.124101119,2,     1.50,     0.67,2,       -999,9,        -999,9,   -999.0,9,   -999.0,9,   -999.0,9,     -999,9,      -999,9,  -999.00,9,  -999.00,9,  -1.4949
  32H120020718,    30,  3,      2,2,20020810, 73.0759,-157.9070, 2025,    151.5,  -1.5072,  33.2678,2,-999.0000,9,    278.6,2,   -999.0,9,  -999.00,9,  -999.00,9,  -999.00,9,  -999.00,9,     -999,9,   -999.0,9,   -999.0,9,  -999.00,9,  -999.00,  -999.00,9,  -999.00,  -999.00,9,  -999.00,  -999.00,9,        -999,         -999,9,  -999.00,  -999.00,9,       -999,9,        -999,9,   -999.0,9,   -999.0,9,   -999.0,9,     -999,9,      -999,9,  -999.00,9,  -999.00,9,  -1.5104
  32H120020718,    30,  6,      4,2,20020810, 73.0759,-157.9070, 2025,    152.2,  -1.4985,  33.2629,2,  33.2493,2,    275.6,2,    287.1,2,    32.20,2,    14.60,2,     0.00,2,     1.75,2,        0,2,   2208.0,2,   2288.2,2,  -999.00,9,  -999.00,  -999.00,9,  -999.00,  -999.00,9,  -999.00,  -999.00,9,        -999,         -999,9,  -999.00,  -999.00,9, 8.03182868,2,  1.16275863,2,     58.9,2,      3.4,2,     18.0,2,        0,2,      -999,9,     0.00,2,     0.02,2,  -1.5017
  32H120020718,    30,  7,      7,2,20020810, 73.0759,-157.9070, 2025,    157.9,  -1.4648,  33.3771,2,-999.0000,9,    274.3,2,   -999.0,9,  -999.00,9,  -999.00,9,  -999.00,9,  -999.00,9,     -999,9,   -999.0,9,   -999.0,9,  -999.00,9,  -999.00,  -999.00,9,  -999.00,  -999.00,9,  -999.00,  -999.00,9,        -999,         -999,9,  -999.00,  -999.00,9,       -999,9,        -999,9,   -999.0,9,   -999.0,9,   -999.0,9,     -999,9,      -999,9,  -999.00,9,  -999.00,9,  -1.4682
  32H120020718,    30,  7,      8,2,20020810, 73.0759,-157.9070, 2025,    157.9,  -1.4657,  33.3760,2,-999.0000,9,    274.5,2,   -999.0,9,  -999.00,9,  -999.00,9,  -999.00,9,  -999.00,9,     -999,9,   -999.0,9,   -999.0,9,  -999.00,9,  -999.00,  -999.00,9,  -999.00,  -999.00,9,  -999.00,  -999.00,9,        -999,         -999,9,  -999.00,  -999.00,9,       -999,9,        -999,9,   -999.0,9,   -999.0,9,   -999.0,9,     -999,9,      -999,9,  -999.00,9,  -999.00,9,  -1.4691
  32H120020718,    30,  7,     11,2,20020810, 73.0759,-157.9070, 2025,    158.0,  -1.4614,  33.3807,2,-999.0000,9,    274.0,2,   -999.0,9,  -999.00,9,  -999.00,9,  -999.00,9,  -999.00,9,     -999,9,   -999.0,9,   -999.0,9,  -999.00,9,  -999.00,  -999.00,9,  -999.00,  -999.00,9,  -999.00,  -999.00,9,        -999,         -999,9,  -999.00,  -999.00,9,       -999,9,        -999,9,   -999.0,9,   -999.0,9,   -999.0,9,     -999,9,      -999,9,  -999.00,9,  -999.00,9,  -1.4648
  32H120020718,    30,  7,     10,2,20020810, 73.0759,-157.9070, 2025,    158.0,  -1.4626,  33.3798,2,-999.0000,9,    274.4,2,   -999.0,9,  -999.00,9,  -999.00,9,  -999.00,9,  -999.00,9,     -999,9,   -999.0,9,   -999.0,9,  -999.00,9,  -999.00,  -999.00,9,  -999.00,  -999.00,9,  -999.00,  -999.00,9,        -999,         -999,9,  -999.00,  -999.00,9,       -999,9,        -999,9,   -999.0,9,   -999.0,9,   -999.0,9,     -999,9,      -999,9,  -999.00,9,  -999.00,9,  -1.4660
  32H120020718,    30,  7,      9,2,20020810, 73.0759,-157.9070, 2025,    158.0,  -1.4648,  33.3768,2,-999.0000,9,    274.4,2,   -999.0,9,  -999.00,9,  -999.00,9,  -999.00,9,  -999.00,9,     -999,9,   -999.0,9,   -999.0,9,  -999.00,9,  -999.00,  -999.00,9,  -999.00,  -999.00,9,  -999.00,  -999.00,9,        -999,         -999,9,  -999.00,  -999.00,9,       -999,9,        -999,9,   -999.0,9,   -999.0,9,   -999.0,9,     -999,9,      -999,9,  -999.00,9,  -999.00,9,  -1.4682
  32H120020718,    30,  6,      3,2,20020810, 73.0759,-157.9070, 2025,    176.8,  -1.3180,  33.6831,2,  33.6671,2,    272.0,2,    280.9,2,    30.02,2,    14.59,2,     0.00,2,     1.65,2,        0,2,   -999.0,9,   -999.0,9,  -999.00,9,  -999.00,  -999.00,9,  -999.00,  -999.00,9,  -999.00,  -999.00,9,        -999,         -999,9,  -999.00,  -999.00,9,       -999,9,        -999,9,     57.9,2,      3.4,2,     18.0,2,        0,2,      -999,9,     0.01,2,     0.02,2,  -1.3222
  32H120020718,    30,  3,      1,2,20020810, 73.0759,-157.9070, 2025,    202.0,  -0.9154,  34.1703,2,-999.0000,9,    264.0,2,   -999.0,9,  -999.00,9,  -999.00,9,  -999.00,9,  -999.00,9,     -999,9,   -999.0,9,   -999.0,9,  -999.00,9,  -999.00,  -999.00,9,  -999.00,  -999.00,9,  -999.00,  -999.00,9,        -999,         -999,9,  -999.00,  -999.00,9,       -999,9,        -999,9,   -999.0,9,   -999.0,9,   -999.0,9,     -999,9,      -999,9,  -999.00,9,  -999.00,9,  -0.9211
  32H120020718,    30,  6,      2,2,20020810, 73.0759,-157.9070, 2025,    202.4,  -0.9766,  34.1801,2,  34.1661,2,    267.1,2,    272.8,2,    20.98,2,    13.37,2,     0.00,2,     1.31,2,        0,2,   2185.5,2,   2298.6,2,  -999.00,9,  -999.00,  -999.00,9,  -999.00,  -999.00,9,  -999.00,  -999.00,9,        -999,         -999,9,  -999.00,  -999.00,9, 6.52262923,2,   1.3572524,2,     56.7,2,      3.2,2,     16.5,2,        0,2,      -999,9,     0.01,2,     0.02,2,  -0.9822
  32H120020718,    30,  1,      1,2,20020810, 73.0759,-157.9070, 2025,    240.9,  -0.1371,  34.5254,2,-999.0000,9,    274.6,2,   -999.0,9,    11.00,2,    12.13,2,     0.00,2,     0.95,2,     0.12,2,   -999.0,9,   -999.0,9,  -999.00,9,     0.97,     0.08,2,     4.71,     0.49,2,     2.02,     0.03,2, 0.409668188, 0.0381086687,2,     0.32,     0.07,2,       -999,9,        -999,9,   -999.0,9,   -999.0,9,   -999.0,9,     0.33,2,      -999,9,  -999.00,9,  -999.00,9,  -0.1458
  32H120020718,    30,  1,      2,2,20020810, 73.0759,-157.9070, 2025,    241.1,  -0.1346,  34.5265,2,-999.0000,9,    274.5,2,   -999.0,9,  -999.00,9,  -999.00,9,  -999.00,9,  -999.00,9,     -999,9,   -999.0,9,   -999.0,9,  -999.00,9,     0.97,     0.08,2,     4.71,     0.49,2,     2.02,     0.03,2, 0.409662668, 0.0381081552,2,     0.32,     0.07,2,       -999,9,        -999,9,   -999.0,9,   -999.0,9,   -999.0,9,     -999,9,      -999,9,  -999.00,9,  -999.00,9,  -0.1433
  32H120020718,    30,  1,      3,2,20020810, 73.0759,-157.9070, 2025,    241.2,  -0.1342,  34.5269,2,-999.0000,9,    274.0,2,   -999.0,9,  -999.00,9,  -999.00,9,  -999.00,9,  -999.00,9,     -999,9,   -999.0,9,   -999.0,9,  -999.00,9,     0.97,     0.08,2,     4.71,     0.49,2,     2.02,     0.03,2, 0.409660961, 0.0381079963,2,     0.32,     0.07,2,       -999,9,        -999,9,   -999.0,9,   -999.0,9,   -999.0,9,     -999,9,      -999,9,  -999.00,9,  -999.00,9,  -0.1429
  32H120020718,    30,  1,      4,2,20020810, 73.0759,-157.9070, 2025,    241.3,  -0.1340,  34.5270,2,-999.0000,9,    274.2,2,   -999.0,9,  -999.00,9,  -999.00,9,  -999.00,9,  -999.00,9,     -999,9,   -999.0,9,   -999.0,9,  -999.00,9,     0.97,     0.08,2,     4.71,     0.49,2,     2.02,     0.03,2, 0.409659588, 0.0381078687,2,     0.32,     0.07,2,       -999,9,        -999,9,   -999.0,9,   -999.0,9,   -999.0,9,     -999,9,      -999,9,  -999.00,9,  -999.00,9,  -0.1427
  32H120020718,    30,  1,      5,2,20020810, 73.0759,-157.9070, 2025,    241.4,  -0.1342,  34.5265,2,-999.0000,9,    274.7,2,   -999.0,9,  -999.00,9,  -999.00,9,  -999.00,9,  -999.00,9,     -999,9,   -999.0,9,   -999.0,9,  -999.00,9,     0.97,     0.08,2,     4.71,     0.49,2,     2.02,     0.03,2, 0.409657728, 0.0381076956,2,     0.32,     0.07,2,       -999,9,        -999,9,   -999.0,9,   -999.0,9,   -999.0,9,     -999,9,      -999,9,  -999.00,9,  -999.00,9,  -0.1429
  32H120020718,    30,  1,      6,2,20020810, 73.0759,-157.9070, 2025,    241.5,  -0.1370,  34.5265,2,-999.0000,9,    274.1,2,   -999.0,9,  -999.00,9,  -999.00,9,  -999.00,9,  -999.00,9,     -999,9,   -999.0,9,   -999.0,9,  -999.00,9,     0.97,     0.08,2,     4.71,     0.49,2,     2.02,     0.03,2, 0.409654617, 0.0381074063,2,     0.32,     0.07,2,       -999,9,        -999,9,   -999.0,9,   -999.0,9,   -999.0,9,     -999,9,      -999,9,  -999.00,9,  -999.00,9,  -0.1457
  32H120020718,    30,  6,      1,2,20020810, 73.0759,-157.9070, 2025,    252.0,  -0.0234,  34.5679,2,  34.5687,2,    273.3,2,    281.3,2,    10.62,2,    12.23,2,     0.00,2,     0.95,2,        0,2,   2156.7,2,   2301.1,2,  -999.00,9,  -999.00,  -999.00,9,  -999.00,  -999.00,9,  -999.00,  -999.00,9,        -999,         -999,9,  -999.00,  -999.00,9, 8.35583302,2,  1.61064644,2,     55.7,2,      5.3,2,     17.5,2,        0,2,      -999,9,     0.00,2,     0.02,2,  -0.0328
  32H120020718,    30,  5,     12,2,20020810, 73.0759,-157.9070, 2025,    302.3,   0.6110,  34.7528,2,  34.7531,2,    282.3,2,    289.9,2,     7.52,2,    12.34,2,     0.01,2,     0.86,2,        0,2,   2129.1,2,   2312.9,2,  -999.00,9,  -999.00,  -999.00,9,  -999.00,  -999.00,9,  -999.00,  -999.00,9,        -999,         -999,9,  -999.00,  -999.00,9, 3.37700257,2, 0.595368948,2,     49.5,2,      4.1,2,     16.4,2,        0,2,      -999,9,  -999.00,9,  -999.00,9,   0.5979
  32H120020718,    30,  5,     11,2,20020810, 73.0759,-157.9070, 2025,    350.7,   0.8047,  34.8138,2,  34.8148,2,    287.7,2,    295.1,2,     6.50,2,    12.29,2,     0.01,2,     0.85,2,        0,2,   -999.0,9,   -999.0,9,  -999.00,9,  -999.00,  -999.00,9,  -999.00,  -999.00,9,  -999.00,  -999.00,9,        -999,         -999,9,  -999.00,  -999.00,9,       -999,9,        -999,9,     49.0,2,      4.6,2,     16.9,2,        0,2,      -999,9,  -999.00,9,  -999.00,9,   0.7888
  32H120020718,    30,  5,     10,2,20020810, 73.0759,-157.9070, 2025,    401.3,   0.7328,  34.8249,2,  34.8256,2,    287.8,2,    296.0,2,     6.50,2,    12.35,2,     0.00,2,     0.85,2,        0,2,   2128.8,2,   2312.2,2,  -999.00,9,  -999.00,  -999.00,9,  -999.00,  -999.00,9,  -999.00,  -999.00,9,        -999,         -999,9,  -999.00,  -999.00,9, 3.69890709,2, 0.683174519,2,     49.3,2,      4.9,2,     17.2,2,        0,2,      -999,9,  -999.00,9,  -999.00,9,   0.7146
  32H120020718,    30,  5,      9,2,20020810, 73.0759,-157.9070, 2025,    451.3,   0.6568,  34.8349,2,  34.8351,2,    288.1,2,    296.1,2,     6.68,2,    12.45,2,     0.00,2,     0.86,2,        0,2,   -999.0,9,   -999.0,9,  -999.00,9,  -999.00,  -999.00,9,  -999.00,  -999.00,9,  -999.00,  -999.00,9,        -999,         -999,9,  -999.00,  -999.00,9,       -999,9,        -999,9,     50.1,2,      4.7,2,     17.1,2,        0,2,      -999,9,  -999.00,9,  -999.00,9,   0.6365
  32H120020718,    30,  7,      5,2,20020810, 73.0759,-157.9070, 2025,    497.8,   0.5797,  34.8411,2,-999.0000,9,    288.2,2,   -999.0,9,  -999.00,9,  -999.00,9,  -999.00,9,  -999.00,9,     -999,9,   -999.0,9,   -999.0,9,  -999.00,9,  -999.00,  -999.00,9,  -999.00,  -999.00,9,  -999.00,  -999.00,9,        -999,         -999,9,  -999.00,  -999.00,9,       -999,9,        -999,9,   -999.0,9,   -999.0,9,   -999.0,9,     -999,9,      -999,9,  -999.00,9,  -999.00,9,   0.5574
  32H120020718,    30,  7,      6,2,20020810, 73.0759,-157.9070, 2025,    498.4,   0.5789,  34.8413,2,-999.0000,9,    288.1,2,   -999.0,9,  -999.00,9,  -999.00,9,  -999.00,9,  -999.00,9,     -999,9,   -999.0,9,   -999.0,9,  -999.00,9,  -999.00,  -999.00,9,  -999.00,  -999.00,9,  -999.00,  -999.00,9,        -999,         -999,9,  -999.00,  -999.00,9,       -999,9,        -999,9,   -999.0,9,   -999.0,9,   -999.0,9,     -999,9,      -999,9,  -999.00,9,  -999.00,9,   0.5565
  32H120020718,    30,  5,      8,2,20020810, 73.0759,-157.9070, 2025,    502.7,   0.5776,  34.8411,2,  34.8418,2,    288.3,2,    297.0,2,     6.58,2,    12.49,2,     0.00,2,     0.86,2,        0,2,   2126.8,2,   2311.5,2,  -999.00,9,  -999.00,  -999.00,9,  -999.00,  -999.00,9,  -999.00,  -999.00,9,        -999,         -999,9,  -999.00,  -999.00,9, 3.83549264,2, 0.683165111,2,     47.6,2,      3.9,2,     16.4,2,        0,2,      -999,9,  -999.00,9,  -999.00,9,   0.5550
  32H120020718,    30,  5,      7,2,20020810, 73.0759,-157.9070, 2025,    602.8,   0.4343,  34.8538,2,  34.8542,2,    288.8,2,    298.1,2,     6.76,2,    12.50,2,     0.00,2,     0.87,2,        0,2,   -999.0,9,   -999.0,9,  -999.00,9,  -999.00,  -999.00,9,  -999.00,  -999.00,9,  -999.00,  -999.00,9,        -999,         -999,9,  -999.00,  -999.00,9,       -999,9,        -999,9,     47.6,2,      3.3,2,     15.8,2,        0,2,      -999,9,  -999.00,9,  -999.00,9,   0.4074
  32H120020718,    30,  5,      6,2,20020810, 73.0759,-157.9070, 2025,    752.5,   0.2158,  34.8669,2,  34.8677,2,    288.9,2,    300.0,2,     6.75,2,    12.59,2,     0.00,2,     0.88,2,        0,2,   2131.9,2,   2312.0,2,  -999.00,9,  -999.00,  -999.00,9,  -999.00,  -999.00,9,  -999.00,  -999.00,9,        -999,         -999,9,  -999.00,  -999.00,9, 3.40600656,2,  0.64411415,2,     46.6,2,      4.5,2,     17.1,2,        0,2,      -999,9,  -999.00,9,  -999.00,9,   0.1826
  32H120020718,    30,  5,      5,2,20020810, 73.0759,-157.9070, 2025,   1002.0,  -0.0340,  34.8809,2,  34.8819,2,    288.6,2,    300.9,2,     7.03,2,    12.69,2,     0.00,2,     0.89,2,        0,2,   -999.0,9,   -999.0,9,  -999.00,9,  -999.00,  -999.00,9,  -999.00,  -999.00,9,  -999.00,  -999.00,9,        -999,         -999,9,  -999.00,  -999.00,9,       -999,9,        -999,9,     47.1,2,      3.9,2,     16.6,2,        0,2,      -999,9,  -999.00,9,  -999.00,9,  -0.0784
  32H120020718,    30,  7,      3,2,20020810, 73.0759,-157.9070, 2025,   1002.6,  -0.0417,  34.8820,2,-999.0000,9,    288.3,2,   -999.0,9,  -999.00,9,  -999.00,9,  -999.00,9,  -999.00,9,     -999,9,   -999.0,9,   -999.0,9,  -999.00,9,  -999.00,  -999.00,9,  -999.00,  -999.00,9,  -999.00,  -999.00,9,        -999,         -999,9,  -999.00,  -999.00,9,       -999,9,        -999,9,   -999.0,9,   -999.0,9,   -999.0,9,     -999,9,      -999,9,  -999.00,9,  -999.00,9,  -0.0861
  32H120020718,    30,  7,      4,2,20020810, 73.0759,-157.9070, 2025,   1002.8,  -0.0423,  34.8821,2,-999.0000,9,    288.3,2,   -999.0,9,  -999.00,9,  -999.00,9,  -999.00,9,  -999.00,9,     -999,9,   -999.0,9,   -999.0,9,  -999.00,9,  -999.00,  -999.00,9,  -999.00,  -999.00,9,  -999.00,  -999.00,9,        -999,         -999,9,  -999.00,  -999.00,9,       -999,9,        -999,9,   -999.0,9,   -999.0,9,   -999.0,9,     -999,9,      -999,9,  -999.00,9,  -999.00,9,  -0.0867
  32H120020718,    30,  5,      4,2,20020810, 73.0759,-157.9070, 2025,   1254.2,  -0.2159,  34.8994,2,  34.9002,2,    287.1,2,    300.2,2,     7.76,2,    13.02,2,     0.00,2,     0.92,2,        0,2,   2143.4,2,   2314.0,2,  -999.00,9,  -999.00,  -999.00,9,  -999.00,  -999.00,9,  -999.00,  -999.00,9,        -999,         -999,9,  -999.00,  -999.00,9, 3.46447057,2, 0.731930572,2,     46.9,2,      4.4,2,     17.4,2,        0,2,      -999,9,  -999.00,9,  -999.00,9,  -0.2725
  32H120020718,    30,  5,      3,2,20020810, 73.0759,-157.9070, 2025,   1500.9,  -0.3291,  34.9161,2,  34.9166,2,    284.0,2,    297.6,2,     8.96,2,    13.50,2,     0.00,2,     0.95,2,        0,2,   -999.0,9,   -999.0,9,  -999.00,9,  -999.00,  -999.00,9,  -999.00,  -999.00,9,  -999.00,  -999.00,9,        -999,         -999,9,  -999.00,  -999.00,9,       -999,9,        -999,9,     46.6,2,      5.0,2,     18.5,2,        0,2,      -999,9,  -999.00,9,  -999.00,9,  -0.3987
  32H120020718,    30,  5,      2,2,20020810, 73.0759,-157.9070, 2025,   1751.2,  -0.3977,  34.9332,2,  34.9333,2,    279.6,2,    294.0,2,    10.34,2,    14.01,2,     0.00,2,     0.99,2,        0,2,   -999.0,9,   -999.0,9,  -999.00,9,  -999.00,  -999.00,9,  -999.00,  -999.00,9,  -999.00,  -999.00,9,        -999,         -999,9,  -999.00,  -999.00,9,       -999,9,        -999,9,     46.7,2,      7.9,2,     21.9,2,        0,2,      -999,9,  -999.00,9,  -999.00,9,  -0.4819
  32H120020718,    30,  5,      1,2,20020810, 73.0759,-157.9070, 2025,   1891.3,  -0.4077,  34.9402,2,  34.9402,2,    277.2,2,    291.0,2,    11.26,2,    14.25,2,     0.00,2,     1.01,2,        0,2,   2143.4,2,   2313.8,2,  -999.00,9,  -999.00,  -999.00,9,  -999.00,  -999.00,9,  -999.00,  -999.00,9,        -999,         -999,9,  -999.00,  -999.00,9, 2.84955512,2, 0.556251202,2,     45.9,2,      3.0,2,     17.2,2,        0,2,      -999,9,  -999.00,9,  -999.00,9,  -0.5008