BOTTLE,20090202PRINUNIVRMK
EXPOCODE,STNNBR,CASTNO,BTLNBR,BTLNBR_FLAG_W,DATE,LATITUDE,LONGITUDE,DEPTH,CTDPRS,CTDTMP,CTDSAL,CTDSAL_FLAG_W,SALNTY,SALNTY_FLAG_W,CTDOXY,CTDOXY_FLAG_W,OXYGEN,OXYGEN_FLAG_W,SILCAT,SILCAT_FLAG_W,NITRAT,NITRAT_FLAG_W,NITRIT,NITRIT_FLAG_W,PHSPHT,PHSPHT_FLAG_W,AMMONI,AMMONI_FLAG_W,TCARBN,TCARBN_FLAG_W,ALKALI,ALKALI_FLAG_W,DELO18,DELO18_FLAG_W,RA-224,RA-224E,RA-224_FLAG_W,RA-226,RA-226E,RA-226_FLAG_W,RA-228,RA-228E,RA-228_FLAG_W,RA-8/6,RA-8/6E,RA-8/6_FLAG_W,TH-228,TH-228E,TH-228_FLAG_W,POC,POC_FLAG_W,PON,PON_FLAG_W,DOC,DOC_FLAG_W,DON,DON_FLAG_W,TDN,TDN_FLAG_W,UREA,UREA_FLAG_W,LIGNIN,LIGNIN_FLAG_W,CHLORA,CHLORA_FLAG_W,PHAEO,PHAEO_FLAG_W,THETA
,,,,,,,,METERS,DBARS,ITS-90,PSS-78,,PSS-78,,UMOL/KG,,UMOL/KG,,UMOL/KG,,UMOL/KG,,UMOL/KG,,UMOL/KG,,UMOL/KG,,UMOL/KG,,UMOL/KG,,O/OO,,DPM/100KG,DPM/100KG,,DPM/100KG,DPM/100KG,,DPM/100KG,DPM/100KG,,,,,DPM/100KG,DPM/100KG,,ug/kg,,ug/kg,,UMOL/KG,,UMOL/KG,,UMOL/KG,,UMOL/KG,,NG/KG,,UG/L,,UG/L,,DEGC
  32H120020718,    18,  5,      3,2,20020729, 72.3189,-151.9760, 3253,   2001.0,  -0.4109,  34.9436,2,-999.0000,9,    273.7,2,   -999.0,9,  -999.00,9,  -999.00,9,  -999.00,9,  -999.00,9,     -999,9,   -999.0,9,   -999.0,9,  -999.00,9,  -999.00,  -999.00,9,  -999.00,  -999.00,9,  -999.00,  -999.00,9,        -999,         -999,9,  -999.00,  -999.00,9,       -999,9,        -999,9,   -999.0,9,   -999.0,9,   -999.0,9,     -999,9,      -999,9,  -999.00,9,  -999.00,9,  -0.5112
  32H120020718,    18,  5,      4,2,20020729, 72.3189,-151.9760, 3253,   2001.1,  -0.4111,  34.9436,2,-999.0000,9,    273.7,2,   -999.0,9,    11.13,2,    14.22,2,     0.01,2,     1.01,2,     0.06,2,   -999.0,9,   -999.0,9,  -999.00,9,  -999.00,  -999.00,9,  -999.00,  -999.00,9,  -999.00,  -999.00,9,        -999,         -999,9,  -999.00,  -999.00,9,       -999,9,        -999,9,   -999.0,9,   -999.0,9,   -999.0,9,     0.28,3,      -999,9,  -999.00,9,  -999.00,9,  -0.5114
  32H120020718,    18,  1,      4,2,20020729, 72.3189,-151.9760, 3253,   2001.7,  -0.4091,  34.9423,2,-999.0000,9,    272.8,2,   -999.0,9,  -999.00,9,  -999.00,9,  -999.00,9,  -999.00,9,     -999,9,   -999.0,9,   -999.0,9,  -999.00,9,  -999.00,  -999.00,9,  -999.00,  -999.00,9,  -999.00,  -999.00,9,        -999,         -999,9,  -999.00,  -999.00,9,       -999,9,        -999,9,   -999.0,9,   -999.0,9,   -999.0,9,     -999,9,   28.1305,2,  -999.00,9,  -999.00,9,  -0.5095
  32H120020718,    18,  1,      3,2,20020729, 72.3189,-151.9760, 3253,   2500.7,  -0.3797,  34.9526,2,  34.9526,2,    267.3,2,    286.6,2,    12.49,2,    14.42,2,     0.00,2,     1.01,2,     0.01,2,   2147.3,2,   2311.5,2,  -999.00,9,  -999.00,  -999.00,9,  -999.00,  -999.00,9,  -999.00,  -999.00,9,        -999,         -999,9,  -999.00,  -999.00,9, 1.12225142,2, 0.361072007,2,     44.2,2,      2.6,2,     17.0,2,     0.01,2,      -999,9,  -999.00,9,  -999.00,9,  -0.5163
  32H120020718,    18,  1,      2,2,20020729, 72.3189,-151.9760, 3253,   3001.3,  -0.3343,  34.9566,2,  34.9563,2,    264.4,2,   -999.0,5,    13.47,2,    14.46,2,     0.00,2,     1.03,2,     0.01,2,   -999.0,9,   -999.0,9,  -999.00,9,  -999.00,  -999.00,9,  -999.00,  -999.00,9,  -999.00,  -999.00,9,        -999,         -999,9,  -999.00,  -999.00,9,       -999,9,        -999,9,   -999.0,9,   -999.0,9,   -999.0,9,     0.03,2,21.8438206,2,  -999.00,9,  -999.00,9,  -0.5117
  32H120020718,    18,  5,      1,2,20020729, 72.3189,-151.9760, 3253,   3000.7,  -0.3331,  34.9566,2,-999.0000,9,    265.4,2,   -999.0,9,  -999.00,9,  -999.00,9,  -999.00,9,  -999.00,9,     -999,9,   -999.0,9,   -999.0,9,  -999.00,9,  -999.00,  -999.00,9,  -999.00,  -999.00,9,  -999.00,  -999.00,9,        -999,         -999,9,  -999.00,  -999.00,9,       -999,9,        -999,9,   -999.0,9,   -999.0,9,   -999.0,9,     -999,9,      -999,9,  -999.00,9,  -999.00,9,  -0.5105
  32H120020718,    18,  5,      2,2,20020729, 72.3189,-151.9760, 3253,   3000.8,  -0.3327,  34.9564,2,-999.0000,9,    265.4,2,   -999.0,9,    13.78,2,    14.60,2,     0.01,2,     1.04,2,        0,2,   -999.0,9,   -999.0,9,  -999.00,9,  -999.00,  -999.00,9,  -999.00,  -999.00,9,  -999.00,  -999.00,9,        -999,         -999,9,  -999.00,  -999.00,9,       -999,9,        -999,9,   -999.0,9,   -999.0,9,   -999.0,9,        0,2,      -999,9,  -999.00,9,  -999.00,9,  -0.5101
  32H120020718,    18,  1,      1,2,20020729, 72.3189,-151.9760, 3253,   3303.6,  -0.3075,  34.9567,2,  34.9557,2,    264.7,2,    283.8,2,    13.66,2,    14.51,2,     0.00,2,     1.03,2,     0.01,2,   2148.1,2,   2323.3,2,  -999.00,9,  -999.00,  -999.00,9,  -999.00,  -999.00,9,  -999.00,  -999.00,9,        -999,         -999,9,  -999.00,  -999.00,9, 1.76632055,2, 0.468415406,2,     45.7,2,      7.0,2,     21.5,2,     0.01,2,      -999,9,  -999.00,9,  -999.00,9,  -0.5116
  32H120020718,    19,  2,     12,2,20020730, 71.9120,-151.9710, 2170,      2.0,  -1.1392,  27.6753,2,   9.1619,2,    404.8,2,    420.1,2,     2.54,2,     0.06,2,     0.01,2,     0.22,2,     0.15,2,    679.0,2,    723.5,2,  -999.00,9,  -999.00,  -999.00,9,  -999.00,  -999.00,9,  -999.00,  -999.00,9,        -999,         -999,9,  -999.00,  -999.00,9, 150.772109,2,  30.4926779,2,     49.6,2,      3.1,2,      3.4,2,     0.06,2,      -999,9,     0.52,2,     0.20,2,  -1.1392
  32H120020718,    19,  6,     11,2,20020730, 71.9120,-151.9710, 2170,      2.1,  -1.2470,  27.9851,2,  15.3953,2,    404.9,2,   -999.0,5,     4.41,2,    -0.01,2,     0.01,2,     0.41,2,      0.1,2,   1785.2,2,   1959.0,2,  -999.00,9,  -999.00,  -999.00,9,  -999.00,  -999.00,9,  -999.00,  -999.00,9,        -999,         -999,9,  -999.00,  -999.00,9,       -999,9,        -999,9,   -999.0,9,   -999.0,9,   -999.0,9,     0.04,2,      -999,9,     1.21,2,     0.65,2,  -1.2470
  32H120020718,    19,  6,     12,2,20020730, 71.9120,-151.9710, 2170,      2.1,  -1.3006,  27.9918,2,-999.0000,9,    400.9,2,   -999.0,9,  -999.00,9,  -999.00,9,  -999.00,9,  -999.00,9,     -999,9,   1834.5,2,   2012.5,2,  -999.00,9,  -999.00,  -999.00,9,  -999.00,  -999.00,9,  -999.00,  -999.00,9,        -999,         -999,9,  -999.00,  -999.00,9,       -999,9,        -999,9,   -999.0,9,   -999.0,9,   -999.0,9,     -999,9,      -999,9,  -999.00,9,  -999.00,9,  -1.3006
  32H120020718,    19,  6,     10,2,20020730, 71.9120,-151.9710, 2170,      5.8,  -1.1027,  28.4868,2,-999.0000,9,    405.3,2,    414.2,2,     7.74,2,     0.04,2,     0.01,2,     0.65,2,     0.06,2,   1899.9,2,   2089.8,2,  -999.00,9,  -999.00,  -999.00,9,  -999.00,  -999.00,9,  -999.00,  -999.00,9,        -999,         -999,9,  -999.00,  -999.00,9,       -999,9,        -999,9,   -999.0,9,   -999.0,9,   -999.0,9,     0.02,2,      -999,9,     0.83,2,     0.52,2,  -1.1028
  32H120020718,    19, 99,      1,9,20020730, 71.9120,-151.9710, 2170,      8.1,-999.0000,-999.0000,9,-999.0000,9,   -999.0,9,   -999.0,9,  -999.00,9,  -999.00,9,  -999.00,9,  -999.00,9,     -999,9,   -999.0,9,   -999.0,9,  -999.00,9,     0.79,     0.06,2,     4.88,     0.06,2,     1.18,     0.39,2, 0.229364824, 0.0764549414,2,     0.46,     0.06,2,       -999,9,        -999,9,   -999.0,9,   -999.0,9,   -999.0,9,     -999,9,      -999,9,  -999.00,9,  -999.00,9,-999.0000
  32H120020718,    19,  6,      9,2,20020730, 71.9120,-151.9710, 2170,      9.6,  -1.4931,  29.1852,2,-999.0000,9,    406.8,2,    417.9,2,     7.16,2,     0.04,2,     0.01,2,     0.70,2,     0.09,2,   1910.3,2,   2092.1,2,  -999.00,9,  -999.00,  -999.00,9,  -999.00,  -999.00,9,  -999.00,  -999.00,9,        -999,         -999,9,  -999.00,  -999.00,9,       -999,9,        -999,9,   -999.0,9,   -999.0,9,   -999.0,9,        0,2,      -999,9,     0.92,2,     0.58,2,  -1.4932
  32H120020718,    19,  2,     11,2,20020730, 71.9120,-151.9710, 2170,     11.5,  -1.4482,  29.0824,2,  29.1606,2,    407.6,2,    421.5,2,     7.63,2,     0.06,2,     0.01,2,     0.68,2,      0.1,2,   1888.0,2,   2075.0,2,  -999.00,9,  -999.00,  -999.00,9,  -999.00,  -999.00,9,  -999.00,  -999.00,9,        -999,         -999,9,  -999.00,  -999.00,9, 57.2960469,2,  11.7218733,2,     69.4,2,      5.0,2,      5.2,2,     0.03,2,      -999,9,     1.12,2,     0.54,2,  -1.4483
  32H120020718,    19,  6,      7,2,20020730, 71.9120,-151.9710, 2170,     14.4,  -1.4870,  29.2469,2,-999.0000,9,    404.5,2,   -999.0,9,  -999.00,9,  -999.00,9,  -999.00,9,  -999.00,9,     -999,9,   -999.0,9,   -999.0,9,  -999.00,9,  -999.00,  -999.00,9,  -999.00,  -999.00,9,  -999.00,  -999.00,9,        -999,         -999,9,  -999.00,  -999.00,9,       -999,9,        -999,9,   -999.0,9,   -999.0,9,   -999.0,9,     -999,9,      -999,9,  -999.00,9,  -999.00,9,  -1.4872
  32H120020718,    19,  6,      8,2,20020730, 71.9120,-151.9710, 2170,     14.4,  -1.4871,  29.2463,2,-999.0000,9,    404.4,2,    418.1,2,     7.45,2,     0.03,2,     0.01,2,     0.71,2,     0.12,2,   1939.8,2,   2135.3,2,  -999.00,9,  -999.00,  -999.00,9,  -999.00,  -999.00,9,  -999.00,  -999.00,9,        -999,         -999,9,  -999.00,  -999.00,9,       -999,9,        -999,9,   -999.0,9,   -999.0,9,   -999.0,9,        0,2,      -999,9,     0.93,2,     0.56,2,  -1.4873
  32H120020718,    19,  5,     12,2,20020730, 71.9120,-151.9710, 2170,     17.2,  -1.4129,  29.4161,2,-999.0000,9,    413.9,2,   -999.0,9,  -999.00,9,  -999.00,9,  -999.00,9,  -999.00,9,     -999,9,   -999.0,9,   -999.0,9,  -999.00,9,  -999.00,  -999.00,9,  -999.00,  -999.00,9,  -999.00,  -999.00,9,        -999,         -999,9,  -999.00,  -999.00,9,       -999,9,        -999,9,   -999.0,9,   -999.0,9,   -999.0,9,     -999,9,      -999,9,  -999.00,9,  -999.00,9,  -1.4131
  32H120020718,    19,  6,      6,2,20020730, 71.9120,-151.9710, 2170,     22.1,  -1.2947,  30.4617,2,-999.0000,9,    428.7,2,    438.8,2,    12.03,2,     0.13,2,     0.01,2,     0.77,2,     0.18,2,   -999.0,5,   2224.1,2,  -999.00,9,  -999.00,  -999.00,9,  -999.00,  -999.00,9,  -999.00,  -999.00,9,        -999,         -999,9,  -999.00,  -999.00,9,       -999,9,        -999,9,   -999.0,9,   -999.0,9,   -999.0,9,     0.01,2,      -999,9,     2.10,2,     1.14,2,  -1.2951
  32H120020718,    19,  7,     10,2,20020730, 71.9120,-151.9710, 2170,     22.3,  -1.3755,  30.1357,2,-999.0000,9,    440.6,2,   -999.0,9,  -999.00,9,  -999.00,9,  -999.00,9,  -999.00,9,     -999,9,   -999.0,9,   -999.0,9,  -999.00,9,  -999.00,  -999.00,9,  -999.00,  -999.00,9,  -999.00,  -999.00,9,        -999,         -999,9,  -999.00,  -999.00,9,       -999,9,        -999,9,   -999.0,9,   -999.0,9,   -999.0,9,     -999,9,      -999,9,  -999.00,9,  -999.00,9,  -1.3758
  32H120020718,    19,  7,     11,2,20020730, 71.9120,-151.9710, 2170,     22.3,  -1.3758,  30.1347,2,-999.0000,9,    440.8,2,   -999.0,9,  -999.00,9,  -999.00,9,  -999.00,9,  -999.00,9,     -999,9,   -999.0,9,   -999.0,9,  -999.00,9,  -999.00,  -999.00,9,  -999.00,  -999.00,9,  -999.00,  -999.00,9,        -999,         -999,9,  -999.00,  -999.00,9,       -999,9,        -999,9,   -999.0,9,   -999.0,9,   -999.0,9,     -999,9,      -999,9,  -999.00,9,  -999.00,9,  -1.3761
  32H120020718,    19,  7,      9,2,20020730, 71.9120,-151.9710, 2170,     22.3,  -1.3766,  30.1439,2,-999.0000,9,    439.7,2,   -999.0,9,  -999.00,9,  -999.00,9,  -999.00,9,  -999.00,9,     -999,9,   -999.0,9,   -999.0,9,  -999.00,9,  -999.00,  -999.00,9,  -999.00,  -999.00,9,  -999.00,  -999.00,9,        -999,         -999,9,  -999.00,  -999.00,9,       -999,9,        -999,9,   -999.0,9,   -999.0,9,   -999.0,9,     -999,9,      -999,9,  -999.00,9,  -999.00,9,  -1.3769
  32H120020718,    19,  7,      7,2,20020730, 71.9120,-151.9710, 2170,     22.3,  -1.3769,  30.1603,2,-999.0000,9,    436.5,2,   -999.0,9,  -999.00,9,  -999.00,9,  -999.00,9,  -999.00,9,     -999,9,   -999.0,9,   -999.0,9,  -999.00,9,  -999.00,  -999.00,9,  -999.00,  -999.00,9,  -999.00,  -999.00,9,        -999,         -999,9,  -999.00,  -999.00,9,       -999,9,        -999,9,   -999.0,9,   -999.0,9,   -999.0,9,     -999,9,      -999,9,  -999.00,9,  -999.00,9,  -1.3772
  32H120020718,    19,  7,      8,2,20020730, 71.9120,-151.9710, 2170,     22.3,  -1.3772,  30.1540,2,-999.0000,9,    438.2,2,   -999.0,9,  -999.00,9,  -999.00,9,  -999.00,9,  -999.00,9,     -999,9,   -999.0,9,   -999.0,9,  -999.00,9,  -999.00,  -999.00,9,  -999.00,  -999.00,9,  -999.00,  -999.00,9,        -999,         -999,9,  -999.00,  -999.00,9,       -999,9,        -999,9,   -999.0,9,   -999.0,9,   -999.0,9,     -999,9,      -999,9,  -999.00,9,  -999.00,9,  -1.3775
  32H120020718,    19,  7,     12,2,20020730, 71.9120,-151.9710, 2170,     22.3,  -1.3773,  30.1379,2,-999.0000,9,    441.5,2,   -999.0,9,  -999.00,9,  -999.00,9,  -999.00,9,  -999.00,9,     -999,9,   -999.0,9,   -999.0,9,  -999.00,9,  -999.00,  -999.00,9,  -999.00,  -999.00,9,  -999.00,  -999.00,9,        -999,         -999,9,  -999.00,  -999.00,9,       -999,9,        -999,9,   -999.0,9,   -999.0,9,   -999.0,9,     -999,9,      -999,9,  -999.00,9,  -999.00,9,  -1.3776
  32H120020718,    19,  7,      6,2,20020730, 71.9120,-151.9710, 2170,     22.3,  -1.3778,  30.1746,2,-999.0000,9,    432.9,2,   -999.0,9,  -999.00,9,  -999.00,9,  -999.00,9,  -999.00,9,     -999,9,   -999.0,9,   -999.0,9,  -999.00,9,  -999.00,  -999.00,9,  -999.00,  -999.00,9,  -999.00,  -999.00,9,        -999,         -999,9,  -999.00,  -999.00,9,       -999,9,        -999,9,   -999.0,9,   -999.0,9,   -999.0,9,     -999,9,      -999,9,  -999.00,9,  -999.00,9,  -1.3781
  32H120020718,    19,  7,      5,2,20020730, 71.9120,-151.9710, 2170,     22.3,  -1.3783,  30.2030,2,-999.0000,9,    432.3,2,   -999.0,9,    14.19,2,     0.45,2,     0.02,2,     0.85,2,     0.32,2,   -999.0,9,   -999.0,9,  -999.00,9,  -999.00,  -999.00,9,  -999.00,  -999.00,9,  -999.00,  -999.00,9,        -999,         -999,9,  -999.00,  -999.00,9,       -999,9,        -999,9,   -999.0,9,   -999.0,9,   -999.0,9,     0.03,2,      -999,9,  -999.00,9,  -999.00,9,  -1.3786
  32H120020718,    19,  2,     10,2,20020730, 71.9120,-151.9710, 2170,     26.2,  -1.4126,  31.3797,2,  31.4309,2,    403.3,2,    405.1,2,    15.91,2,     0.94,2,     0.03,2,     0.98,2,     0.25,2,   2037.0,2,   2206.0,2,  -999.00,9,  -999.00,  -999.00,9,  -999.00,  -999.00,9,  -999.00,  -999.00,9,        -999,         -999,9,  -999.00,  -999.00,9, 67.7661311,2,  14.2068311,2,     67.9,2,      5.8,2,      7.0,2,     0.05,2,      -999,9,     3.27,2,     1.26,2,  -1.4130
  32H120020718,    19,  5,     11,2,20020730, 71.9120,-151.9710, 2170,     33.1,  -1.4527,  31.8392,2,-999.0000,9,    353.0,2,   -999.0,9,  -999.00,9,  -999.00,9,  -999.00,9,  -999.00,9,     -999,9,   -999.0,9,   -999.0,9,  -999.00,9,  -999.00,  -999.00,9,  -999.00,  -999.00,9,  -999.00,  -999.00,9,        -999,         -999,9,  -999.00,  -999.00,9,       -999,9,        -999,9,   -999.0,9,   -999.0,9,   -999.0,9,     -999,9,      -999,9,  -999.00,9,  -999.00,9,  -1.4533
  32H120020718,    19,  6,      5,2,20020730, 71.9120,-151.9710, 2170,     33.4,  -1.5262,  31.8109,2,-999.0000,9,    373.2,2,    361.2,3,    24.94,2,     4.43,2,     0.11,2,     1.26,2,     0.98,2,   -999.0,5,   2261.3,2,  -999.00,9,  -999.00,  -999.00,9,  -999.00,  -999.00,9,  -999.00,  -999.00,9,        -999,         -999,9,  -999.00,  -999.00,9,       -999,9,        -999,9,   -999.0,9,   -999.0,9,   -999.0,9,     0.07,2,      -999,9,     4.64,2,     2.44,2,  -1.5268
  32H120020718,    19,  6,      4,2,20020730, 71.9120,-151.9710, 2170,     33.4,  -1.5305,  31.8475,2,-999.0000,9,    343.6,2,   -999.0,9,  -999.00,9,  -999.00,9,  -999.00,9,  -999.00,9,     -999,9,   -999.0,9,   -999.0,9,  -999.00,9,  -999.00,  -999.00,9,  -999.00,  -999.00,9,  -999.00,  -999.00,9,        -999,         -999,9,  -999.00,  -999.00,9,       -999,9,        -999,9,   -999.0,9,   -999.0,9,   -999.0,9,     -999,9,      -999,9,  -999.00,9,  -999.00,9,  -1.5311
  32H120020718,    19,  2,      9,2,20020730, 71.9120,-151.9710, 2170,     41.6,  -1.4965,  32.1905,2,  32.2022,2,    331.5,2,    340.8,2,    23.55,2,     7.26,2,     0.11,2,     1.40,2,     1.16,2,   2134.1,2,   -999.0,5,  -999.00,9,  -999.00,  -999.00,9,  -999.00,  -999.00,9,  -999.00,  -999.00,9,        -999,         -999,9,  -999.00,  -999.00,9, 64.4122732,2,  12.8981224,2,     65.4,2,      8.3,2,     16.8,2,     0.08,2,      -999,9,     0.97,2,     0.71,2,  -1.4972
  32H120020718,    19,  7,      1,2,20020730, 71.9120,-151.9710, 2170,     41.2,  -1.5679,  32.0742,2,-999.0000,9,    314.7,2,   -999.0,9,  -999.00,9,  -999.00,9,  -999.00,9,  -999.00,9,     -999,9,   -999.0,9,   -999.0,9,  -999.00,9,  -999.00,  -999.00,9,  -999.00,  -999.00,9,  -999.00,  -999.00,9,        -999,         -999,9,  -999.00,  -999.00,9,       -999,9,        -999,9,   -999.0,9,   -999.0,9,   -999.0,9,     -999,9,      -999,9,  -999.00,9,  -999.00,9,  -1.5686
  32H120020718,    19,  7,      4,2,20020730, 71.9120,-151.9710, 2170,     41.2,  -1.5680,  32.0757,2,-999.0000,9,    314.7,2,   -999.0,9,    33.19,2,     9.70,2,     0.16,2,     1.65,2,     1.27,2,   -999.0,9,   -999.0,9,  -999.00,9,  -999.00,  -999.00,9,  -999.00,  -999.00,9,  -999.00,  -999.00,9,        -999,         -999,9,  -999.00,  -999.00,9,       -999,9,        -999,9,   -999.0,9,   -999.0,9,   -999.0,9,     0.24,2,      -999,9,  -999.00,9,  -999.00,9,  -1.5687
  32H120020718,    19,  7,      3,2,20020730, 71.9120,-151.9710, 2170,     41.2,  -1.5682,  32.0749,2,-999.0000,9,    314.6,2,   -999.0,9,  -999.00,9,  -999.00,9,  -999.00,9,  -999.00,9,     -999,9,   -999.0,9,   -999.0,9,  -999.00,9,  -999.00,  -999.00,9,  -999.00,  -999.00,9,  -999.00,  -999.00,9,        -999,         -999,9,  -999.00,  -999.00,9,       -999,9,        -999,9,   -999.0,9,   -999.0,9,   -999.0,9,     -999,9,      -999,9,  -999.00,9,  -999.00,9,  -1.5689
  32H120020718,    19,  7,      2,2,20020730, 71.9120,-151.9710, 2170,     41.2,  -1.5683,  32.0744,2,-999.0000,9,    314.7,2,   -999.0,9,  -999.00,9,  -999.00,9,  -999.00,9,  -999.00,9,     -999,9,   -999.0,9,   -999.0,9,  -999.00,9,  -999.00,  -999.00,9,  -999.00,  -999.00,9,  -999.00,  -999.00,9,        -999,         -999,9,  -999.00,  -999.00,9,       -999,9,        -999,9,   -999.0,9,   -999.0,9,   -999.0,9,     -999,9,      -999,9,  -999.00,9,  -999.00,9,  -1.5690
  32H120020718,    19,  5,      9,2,20020730, 71.9120,-151.9710, 2170,     48.0,  -1.5572,  32.3113,2,-999.0000,9,    319.6,2,   -999.0,9,  -999.00,9,  -999.00,9,  -999.00,9,  -999.00,9,     -999,9,   -999.0,9,   -999.0,9,  -999.00,9,  -999.00,  -999.00,9,  -999.00,  -999.00,9,  -999.00,  -999.00,9,        -999,         -999,9,  -999.00,  -999.00,9,       -999,9,        -999,9,   -999.0,9,   -999.0,9,   -999.0,9,     -999,9,      -999,9,  -999.00,9,  -999.00,9,  -1.5580
  32H120020718,    19,  5,     10,2,20020730, 71.9120,-151.9710, 2170,     48.0,  -1.5626,  32.3088,2,-999.0000,9,    320.6,2,   -999.0,9,  -999.00,9,  -999.00,9,  -999.00,9,  -999.00,9,     -999,9,   -999.0,9,   -999.0,9,  -999.00,9,  -999.00,  -999.00,9,  -999.00,  -999.00,9,  -999.00,  -999.00,9,        -999,         -999,9,  -999.00,  -999.00,9,       -999,9,        -999,9,   -999.0,9,   -999.0,9,   -999.0,9,     -999,9,      -999,9,  -999.00,9,  -999.00,9,  -1.5634
  32H120020718,    19,  6,      3,2,20020730, 71.9120,-151.9710, 2170,     50.9,  -1.5343,  32.3734,2,-999.0000,9,    299.0,2,    314.0,2,    34.89,2,    10.58,2,     0.15,2,     1.68,2,     1.23,2,   -999.0,9,   -999.0,9,  -999.00,9,  -999.00,  -999.00,9,  -999.00,  -999.00,9,  -999.00,  -999.00,9,        -999,         -999,9,  -999.00,  -999.00,9,       -999,9,        -999,9,   -999.0,9,   -999.0,9,   -999.0,9,     0.06,2,      -999,9,  -999.00,9,  -999.00,9,  -1.5352
  32H120020718,    19,  2,      8,2,20020730, 71.9120,-151.9710, 2170,     61.5,  -1.6196,  32.6043,2,  32.5975,2,    305.6,2,    315.9,2,    36.45,2,    10.78,2,     0.15,2,     1.69,2,     1.63,2,   2158.6,2,   2252.1,2,  -999.00,9,  -999.00,  -999.00,9,  -999.00,  -999.00,9,  -999.00,  -999.00,9,        -999,         -999,9,  -999.00,  -999.00,9, 1.30018571,2,-0.136861488,2,     65.2,2,      3.8,2,     16.3,2,     0.11,2,      -999,9,     0.65,2,     0.59,2,  -1.6207