BOTTLE,20090202PRINUNIVRMK
EXPOCODE,STNNBR,CASTNO,BTLNBR,BTLNBR_FLAG_W,DATE,LATITUDE,LONGITUDE,DEPTH,CTDPRS,CTDTMP,CTDSAL,CTDSAL_FLAG_W,SALNTY,SALNTY_FLAG_W,CTDOXY,CTDOXY_FLAG_W,OXYGEN,OXYGEN_FLAG_W,SILCAT,SILCAT_FLAG_W,NITRAT,NITRAT_FLAG_W,NITRIT,NITRIT_FLAG_W,PHSPHT,PHSPHT_FLAG_W,AMMONI,AMMONI_FLAG_W,TCARBN,TCARBN_FLAG_W,ALKALI,ALKALI_FLAG_W,DELO18,DELO18_FLAG_W,RA-224,RA-224E,RA-224_FLAG_W,RA-226,RA-226E,RA-226_FLAG_W,RA-228,RA-228E,RA-228_FLAG_W,RA-8/6,RA-8/6E,RA-8/6_FLAG_W,TH-228,TH-228E,TH-228_FLAG_W,POC,POC_FLAG_W,PON,PON_FLAG_W,DOC,DOC_FLAG_W,DON,DON_FLAG_W,TDN,TDN_FLAG_W,UREA,UREA_FLAG_W,LIGNIN,LIGNIN_FLAG_W,CHLORA,CHLORA_FLAG_W,PHAEO,PHAEO_FLAG_W,THETA
,,,,,,,,METERS,DBARS,ITS-90,PSS-78,,PSS-78,,UMOL/KG,,UMOL/KG,,UMOL/KG,,UMOL/KG,,UMOL/KG,,UMOL/KG,,UMOL/KG,,UMOL/KG,,UMOL/KG,,O/OO,,DPM/100KG,DPM/100KG,,DPM/100KG,DPM/100KG,,DPM/100KG,DPM/100KG,,,,,DPM/100KG,DPM/100KG,,ug/kg,,ug/kg,,UMOL/KG,,UMOL/KG,,UMOL/KG,,UMOL/KG,,NG/KG,,UG/L,,UG/L,,DEGC
  32H120020718,    22,  1,      7,2,20020803, 71.5625,-152.4000,  163,     66.2,  -1.5596,  32.2723,2,  32.2711,2,    330.7,2,    340.1,2,    27.49,2,     7.49,2,     0.12,2,     1.50,2,     2.07,2,   2122.0,2,   2246.9,2,  -999.00,9,  -999.00,  -999.00,9,  -999.00,  -999.00,9,  -999.00,  -999.00,9,        -999,         -999,9,  -999.00,  -999.00,9,  116.42898,2,  23.9760738,2,     65.8,2,      4.7,2,     14.4,2,     0.14,2,      -999,9,     1.19,2,     1.01,2,  -1.5608
  32H120020718,    22,  1,      6,2,20020803, 71.5625,-152.4000,  163,     81.5,  -1.5927,  32.3426,2,  32.3436,2,    327.3,2,    336.5,2,    29.72,2,     8.01,2,     0.13,2,     1.59,2,     2.51,2,   2128.8,2,   2244.1,2,  -999.00,9,  -999.00,  -999.00,9,  -999.00,  -999.00,9,  -999.00,  -999.00,9,        -999,         -999,9,  -999.00,  -999.00,9, 130.531897,2,  27.4458454,2,     73.2,2,      4.1,2,     14.7,2,     0.16,2,      -999,9,     1.14,2,     1.28,2,  -1.5941
  32H120020718,    22,  1,      5,2,20020803, 71.5625,-152.4000,  163,    101.5,  -1.5213,  32.4695,2,  32.4725,2,    309.5,2,    320.7,2,    28.65,2,    10.20,2,     0.11,2,     1.59,2,     1.19,2,   2155.1,2,   2265.5,2,  -999.00,9,  -999.00,  -999.00,9,  -999.00,  -999.00,9,  -999.00,  -999.00,9,        -999,         -999,9,  -999.00,  -999.00,9, 63.2064976,2,  12.4946597,2,     63.1,2,      4.8,2,     16.3,2,     0.04,2,      -999,9,     0.72,2,     0.68,2,  -1.5232
  32H120020718,    22,  3,      2,2,20020803, 71.5625,-152.4000,  163,    101.1,  -1.6276,  32.7149,2,-999.0000,9,    299.4,2,   -999.0,9,  -999.00,9,  -999.00,9,  -999.00,9,  -999.00,9,     -999,9,   -999.0,9,   -999.0,9,  -999.00,9,  -999.00,  -999.00,9,  -999.00,  -999.00,9,  -999.00,  -999.00,9,        -999,         -999,9,  -999.00,  -999.00,9,       -999,9,        -999,9,   -999.0,9,   -999.0,9,   -999.0,9,     -999,9,      -999,9,  -999.00,9,  -999.00,9,  -1.6294
  32H120020718,    22,  2,      6,2,20020803, 71.5625,-152.4000,  163,    110.3,  -1.6472,  32.9198,2,-999.0000,9,    290.6,2,   -999.0,9,  -999.00,9,  -999.00,9,  -999.00,9,  -999.00,9,     -999,9,   -999.0,9,   -999.0,9,  -999.00,9,     1.32,     0.10,2,     9.49,     0.22,2,     6.93,     1.66,2,  0.69793656,  0.172093946,2,     1.11,     0.08,2,       -999,9,        -999,9,   -999.0,9,   -999.0,9,   -999.0,9,     -999,9,      -999,9,  -999.00,9,  -999.00,9,  -1.6493
  32H120020718,    22,  2,      5,2,20020803, 71.5625,-152.4000,  163,    110.4,  -1.6479,  32.9220,2,-999.0000,9,    290.5,2,   -999.0,9,  -999.00,9,  -999.00,9,  -999.00,9,  -999.00,9,     -999,9,   -999.0,9,   -999.0,9,  -999.00,9,     1.32,     0.10,2,     9.49,     0.22,2,     6.93,     1.66,2, 0.697808781,  0.172062439,2,     1.11,     0.08,2,       -999,9,        -999,9,   -999.0,9,   -999.0,9,   -999.0,9,     -999,9,      -999,9,  -999.00,9,  -999.00,9,  -1.6500
  32H120020718,    22,  2,      3,2,20020803, 71.5625,-152.4000,  163,    110.4,  -1.6503,  32.9256,2,-999.0000,9,    290.5,2,   -999.0,9,  -999.00,9,  -999.00,9,  -999.00,9,  -999.00,9,     -999,9,   -999.0,9,   -999.0,9,  -999.00,9,     1.32,     0.10,2,     9.49,     0.22,2,     6.93,     1.66,2, 0.697736016,  0.172044497,2,     1.11,     0.08,2,       -999,9,        -999,9,   -999.0,9,   -999.0,9,   -999.0,9,     -999,9,      -999,9,  -999.00,9,  -999.00,9,  -1.6524
  32H120020718,    22,  2,      4,2,20020803, 71.5625,-152.4000,  163,    110.4,  -1.6504,  32.9250,2,-999.0000,9,    290.4,2,   -999.0,9,  -999.00,9,  -999.00,9,  -999.00,9,  -999.00,9,     -999,9,   -999.0,9,   -999.0,9,  -999.00,9,     1.32,     0.10,2,     9.49,     0.22,2,     6.93,     1.66,2, 0.697727024,   0.17204228,2,     1.11,     0.08,2,       -999,9,        -999,9,   -999.0,9,   -999.0,9,   -999.0,9,     -999,9,      -999,9,  -999.00,9,  -999.00,9,  -1.6525
  32H120020718,    22,  2,      2,2,20020803, 71.5625,-152.4000,  163,    110.4,  -1.6523,  32.9295,2,-999.0000,9,    290.5,2,   -999.0,9,  -999.00,9,  -999.00,9,  -999.00,9,  -999.00,9,     -999,9,   -999.0,9,   -999.0,9,  -999.00,9,     1.32,     0.10,2,     9.49,     0.22,2,     6.93,     1.66,2, 0.697704938,  0.172036834,2,     1.11,     0.08,2,       -999,9,        -999,9,   -999.0,9,   -999.0,9,   -999.0,9,     -999,9,      -999,9,  -999.00,9,  -999.00,9,  -1.6543
  32H120020718,    22,  2,      1,2,20020803, 71.5625,-152.4000,  163,    110.4,  -1.6523,  32.9304,2,-999.0000,9,    290.5,2,   -999.0,9,    39.65,2,    13.59,2,     0.15,2,     1.84,2,     1.55,2,   -999.0,9,   -999.0,9,  -999.00,9,     1.32,     0.10,2,     9.49,     0.22,2,     6.93,     1.66,2,  0.69770369,  0.172036526,2,     1.11,     0.08,2,       -999,9,        -999,9,   -999.0,9,   -999.0,9,   -999.0,9,     0.04,2,      -999,9,  -999.00,9,  -999.00,9,  -1.6543
  32H120020718,    22,  1,      4,2,20020803, 71.5625,-152.4000,  163,    121.6,  -1.6803,  32.9929,2,  32.9977,2,    288.7,2,    296.2,2,    42.20,2,    13.93,2,     0.18,2,     1.89,2,     1.92,2,   2196.7,2,   2290.6,2,  -999.00,9,  -999.00,  -999.00,9,  -999.00,  -999.00,9,  -999.00,  -999.00,9,        -999,         -999,9,  -999.00,  -999.00,9, 48.6007944,2,   9.9976824,2,     65.6,2,   -999.0,9,   -999.0,9,     0.04,2,      -999,9,     0.58,2,     0.71,2,  -1.6826
  32H120020718,    22,  1,      3,2,20020803, 71.5625,-152.4000,  163,    140.7,  -1.7109,  33.1759,2,  33.2030,2,    283.2,2,    291.3,2,    47.09,2,    14.50,2,     0.22,2,     2.01,2,      2.6,2,   2211.4,2,   2296.8,2,  -999.00,9,  -999.00,  -999.00,9,  -999.00,  -999.00,9,  -999.00,  -999.00,9,        -999,         -999,9,  -999.00,  -999.00,9, 58.3255254,2,  11.3153069,2,     65.0,2,      7.9,2,     25.2,2,     0.07,2,      -999,9,     0.71,2,     0.98,2,  -1.7136
  32H120020718,    22,  3,      1,2,20020803, 71.5625,-152.4000,  163,    151.2,  -1.6832,  33.3526,2,-999.0000,9,    281.1,2,   -999.0,9,  -999.00,9,  -999.00,9,  -999.00,9,  -999.00,9,     -999,9,   -999.0,9,   -999.0,9,  -999.00,9,  -999.00,  -999.00,9,  -999.00,  -999.00,9,  -999.00,  -999.00,9,        -999,         -999,9,  -999.00,  -999.00,9,       -999,9,        -999,9,   -999.0,9,   -999.0,9,   -999.0,9,     -999,9,      -999,9,  -999.00,9,  -999.00,9,  -1.6862
  32H120020718,    22,  1,      2,2,20020803, 71.5625,-152.4000,  163,    159.6,  -1.4646,  33.6234,2,-999.0000,9,    280.2,2,   -999.0,9,  -999.00,9,  -999.00,9,  -999.00,9,  -999.00,9,     -999,9,   -999.0,9,   -999.0,9,  -999.00,9,  -999.00,  -999.00,9,  -999.00,  -999.00,9,  -999.00,  -999.00,9,        -999,         -999,9,  -999.00,  -999.00,9,       -999,9,        -999,9,   -999.0,9,   -999.0,9,   -999.0,9,     -999,9,      -999,9,  -999.00,9,  -999.00,9,  -1.4681
  32H120020718,    22,  1,      1,2,20020803, 71.5625,-152.4000,  163,    159.6,  -1.4660,  33.6226,2,  33.5952,2,    280.3,2,    287.1,2,    42.27,2,    14.55,2,     0.17,2,     1.91,2,     2.15,2,   2221.7,2,   2329.3,2,  -999.00,9,  -999.00,  -999.00,9,  -999.00,  -999.00,9,  -999.00,  -999.00,9,        -999,         -999,9,  -999.00,  -999.00,9, 74.8760884,2,  13.4024796,2,     62.9,2,      6.2,2,     23.1,2,     0.16,2,      -999,9,     1.31,2,     2.03,2,  -1.4695
  32H120020718,    23,  1,     12,2,20020804, 71.4553,-152.5550,   87,      1.5,   0.0190,  22.7116,2,  12.3860,2,    366.3,2,    392.7,2,     6.16,2,     0.05,2,     0.01,2,     0.31,2,     0.07,2,    841.7,2,    900.6,2,    -1.22,2,  -999.00,  -999.00,9,  -999.00,  -999.00,9,  -999.00,  -999.00,9,        -999,         -999,9,  -999.00,  -999.00,9, 301.558413,2,    50.87349,2,     67.5,2,      3.0,2,      3.1,2,     0.05,2,      -999,9,     0.97,2,     0.46,2,   0.0190
  32H120020718,    23, 99,      1,9,20020804, 71.4553,-152.5550,   87,      8.1,-999.0000,-999.0000,9,-999.0000,9,   -999.0,9,   -999.0,9,  -999.00,9,  -999.00,9,  -999.00,9,  -999.00,9,     -999,9,   -999.0,9,   -999.0,9,  -999.00,9,     0.65,     0.07,2,     5.62,     0.22,2,     6.86,     0.59,2,   1.1666783,  0.114755243,2,     0.14,     0.28,2,       -999,9,        -999,9,   -999.0,9,   -999.0,9,   -999.0,9,     -999,9,      -999,9,  -999.00,9,  -999.00,9,-999.0000
  32H120020718,    23,  1,     11,2,20020804, 71.4553,-152.5550,   87,      9.2,  -0.4918,  27.1698,2,  27.1735,2,    364.3,2,    371.3,2,     7.86,2,    -0.01,2,     0.01,2,     0.53,2,     0.06,2,   -999.0,9,   -999.0,9,    -1.63,2,  -999.00,  -999.00,9,  -999.00,  -999.00,9,  -999.00,  -999.00,9,        -999,         -999,9,  -999.00,  -999.00,9,       -999,9,        -999,9,     67.6,2,   -999.0,9,   -999.0,9,     0.03,2,      -999,9,     0.63,2,     0.35,2,  -0.4920
  32H120020718,    23,  1,     10,2,20020804, 71.4553,-152.5550,   87,     16.1,  -0.0156,  28.9527,2,  28.9133,2,    376.2,2,    385.1,2,     8.27,2,     0.06,2,     0.00,2,     0.59,2,     0.26,2,   1860.2,2,   2045.9,2,    -1.63,2,  -999.00,  -999.00,9,  -999.00,  -999.00,9,  -999.00,  -999.00,9,        -999,         -999,9,  -999.00,  -999.00,9, 87.9595939,2,  19.4583519,2,     70.8,2,      5.3,2,      5.6,2,     0.05,2,      -999,9,     0.69,2,     0.39,2,  -0.0160
  32H120020718,    23,  1,      9,2,20020804, 71.4553,-152.5550,   87,     26.4,  -1.2887,  30.7545,2,-999.0000,9,    420.1,2,   -999.0,9,  -999.00,9,  -999.00,9,  -999.00,9,  -999.00,9,     -999,9,   -999.0,9,   -999.0,9,  -999.00,9,  -999.00,  -999.00,9,  -999.00,  -999.00,9,  -999.00,  -999.00,9,        -999,         -999,9,  -999.00,  -999.00,9,       -999,9,        -999,9,     81.4,2,   -999.0,9,   -999.0,9,     -999,9,      -999,9,  -999.00,9,  -999.00,9,  -1.2891
  32H120020718,    23,  1,      8,2,20020804, 71.4553,-152.5550,   87,     26.4,  -1.3030,  30.8032,2,  30.8591,2,    416.2,2,    419.0,2,    11.64,2,     0.69,2,     0.05,2,     0.87,2,     0.43,2,   2003.2,2,   2188.4,2,    -1.92,2,  -999.00,  -999.00,9,  -999.00,  -999.00,9,  -999.00,  -999.00,9,        -999,         -999,9,  -999.00,  -999.00,9, 87.2056096,2,  19.2833224,2,   -999.0,9,      4.7,2,      5.9,2,     0.03,2,      -999,9,     0.82,2,     0.41,2,  -1.3034
  32H120020718,    23,  1,      7,2,20020804, 71.4553,-152.5550,   87,     41.6,  -1.1169,  31.5463,2,  31.5116,2,    381.4,2,    394.2,2,    15.42,2,     1.49,2,     0.06,2,     1.00,2,     1.17,2,   2050.0,2,   2223.0,2,    -1.69,2,  -999.00,  -999.00,9,  -999.00,  -999.00,9,  -999.00,  -999.00,9,        -999,         -999,9,  -999.00,  -999.00,9, 77.1056108,2,   16.925864,2,     73.9,2,      4.8,2,      7.5,2,      0.1,2,      -999,9,     0.55,2,     0.36,2,  -1.1177
  32H120020718,    23,  2,     12,2,20020804, 71.4553,-152.5550,   87,     42.1,  -0.9088,  31.4144,2,-999.0000,9,    383.4,2,   -999.0,9,  -999.00,9,  -999.00,9,  -999.00,9,  -999.00,9,     -999,9,   -999.0,9,   -999.0,9,  -999.00,9,     0.64,     0.09,2,     8.63,     0.37,2,    10.83,     1.07,2,  1.20330696,  0.125143924,2,     0.16,     0.45,2,       -999,9,        -999,9,   -999.0,9,   -999.0,9,   -999.0,9,     -999,9,      -999,9,  -999.00,9,  -999.00,9,  -0.9097
  32H120020718,    23,  2,     11,2,20020804, 71.4553,-152.5550,   87,     42.1,  -0.9171,  31.4144,2,-999.0000,9,    383.2,2,   -999.0,9,    14.14,2,     1.03,2,     0.05,2,     0.92,2,     1.28,2,   -999.0,9,   -999.0,9,  -999.00,9,     0.64,     0.09,2,     8.64,     0.37,2,    10.83,     1.07,2,  1.20350157,  0.125164163,2,     0.16,     0.45,2,       -999,9,        -999,9,   -999.0,9,   -999.0,9,   -999.0,9,     0.13,2,      -999,9,  -999.00,9,  -999.00,9,  -0.9180
  32H120020718,    23,  2,      9,2,20020804, 71.4553,-152.5550,   87,     42.1,  -0.9272,  31.4165,2,-999.0000,9,    383.5,2,   -999.0,9,  -999.00,9,  -999.00,9,  -999.00,9,  -999.00,9,     -999,9,   -999.0,9,   -999.0,9,  -999.00,9,     0.64,     0.09,2,     8.63,     0.37,2,    10.82,     1.07,2,  1.20203317,   0.12501145,2,     0.16,     0.45,2,       -999,9,        -999,9,   -999.0,9,   -999.0,9,   -999.0,9,     -999,9,      -999,9,  -999.00,9,  -999.00,9,  -0.9281
  32H120020718,    23,  2,      7,2,20020804, 71.4553,-152.5550,   87,     42.1,  -0.9284,  31.4191,2,-999.0000,9,    383.2,2,   -999.0,9,  -999.00,9,  -999.00,9,  -999.00,9,  -999.00,9,     -999,9,   -999.0,9,   -999.0,9,  -999.00,9,     0.64,     0.09,2,     8.62,     0.37,2,    10.81,     1.07,2,  1.20069772,  0.124872563,2,     0.16,     0.45,2,       -999,9,        -999,9,   -999.0,9,   -999.0,9,   -999.0,9,     -999,9,      -999,9,  -999.00,9,  -999.00,9,  -0.9293
  32H120020718,    23,  2,      8,2,20020804, 71.4553,-152.5550,   87,     42.1,  -0.9289,  31.4184,2,-999.0000,9,    383.4,2,   -999.0,9,  -999.00,9,  -999.00,9,  -999.00,9,  -999.00,9,     -999,9,   -999.0,9,   -999.0,9,  -999.00,9,     0.64,     0.09,2,     8.60,     0.36,2,    10.79,     1.06,2,  1.19907834,  0.124704147,2,     0.16,     0.45,2,       -999,9,        -999,9,   -999.0,9,   -999.0,9,   -999.0,9,     -999,9,      -999,9,  -999.00,9,  -999.00,9,  -0.9298
  32H120020718,    23,  2,     10,2,20020804, 71.4553,-152.5550,   87,     42.1,  -0.9298,  31.4177,2,-999.0000,9,    383.3,2,   -999.0,9,  -999.00,9,  -999.00,9,  -999.00,9,  -999.00,9,     -999,9,   -999.0,9,   -999.0,9,  -999.00,9,     0.64,     0.09,2,     8.60,     0.36,2,    10.79,     1.06,2,  1.19910096,  0.124706499,2,     0.16,     0.45,2,       -999,9,        -999,9,   -999.0,9,   -999.0,9,   -999.0,9,     -999,9,      -999,9,  -999.00,9,  -999.00,9,  -0.9307
  32H120020718,    23,  1,      6,2,20020804, 71.4553,-152.5550,   87,     51.8,  -1.2463,  31.6997,2,  31.6956,2,    376.2,2,    386.9,2,    16.61,2,     1.76,2,     0.07,2,     1.05,2,     1.48,2,   2068.8,2,   2237.6,2,    -1.53,2,  -999.00,  -999.00,9,  -999.00,  -999.00,9,  -999.00,  -999.00,9,        -999,         -999,9,  -999.00,  -999.00,9, 106.970583,2,  24.2603194,2,     80.3,2,      6.3,2,      9.6,2,     0.16,2,      -999,9,     0.55,2,     0.43,2,  -1.2473
  32H120020718,    23,  1,      5,2,20020804, 71.4553,-152.5550,   87,     61.8,  -1.4342,  31.9433,2,  31.9421,2,    360.3,2,    371.0,2,    20.40,2,     3.66,2,     0.09,2,     1.22,2,     1.83,2,   2090.0,2,   2239.6,2,    -1.50,2,  -999.00,  -999.00,9,  -999.00,  -999.00,9,  -999.00,  -999.00,9,        -999,         -999,9,  -999.00,  -999.00,9, 103.302691,2,  21.8987708,2,     70.3,2,      7.8,2,     13.4,2,     0.15,2,      -999,9,     0.83,2,     0.44,2,  -1.4353
  32H120020718,    23,  1,      4,2,20020804, 71.4553,-152.5550,   87,     70.1,  -1.5028,  32.0797,2,  32.0795,2,    352.7,2,    363.2,2,    23.14,2,     4.67,2,     0.10,2,     1.33,2,     2.23,2,   2098.1,2,   2236.5,2,    -0.60,2,  -999.00,  -999.00,9,  -999.00,  -999.00,9,  -999.00,  -999.00,9,        -999,         -999,9,  -999.00,  -999.00,9, 166.712799,2,  32.9670391,2,     71.6,2,      6.4,2,     13.4,2,     0.17,2,      -999,9,     1.04,2,     0.77,2,  -1.5040
  32H120020718,    23,  2,      1,2,20020804, 71.4553,-152.5550,   87,     70.5,  -1.4982,  32.0774,2,-999.0000,9,    352.6,2,   -999.0,9,  -999.00,9,  -999.00,9,  -999.00,9,  -999.00,9,     -999,9,   -999.0,9,   -999.0,9,  -999.00,9,     1.07,     0.09,2,    11.19,     0.30,2,    10.98,     1.13,2, 0.938459125, 0.0957611353,2,     0.26,     0.70,2,       -999,9,        -999,9,   -999.0,9,   -999.0,9,   -999.0,9,     -999,9,      -999,9,  -999.00,9,  -999.00,9,  -1.4995
  32H120020718,    23,  2,      2,2,20020804, 71.4553,-152.5550,   87,     70.5,  -1.4984,  32.0774,2,-999.0000,9,    352.6,2,   -999.0,9,    23.80,2,     4.64,2,     0.10,2,     1.33,2,      2.3,2,   -999.0,9,   -999.0,9,  -999.00,9,     1.07,     0.09,2,    11.19,     0.30,2,    10.98,     1.13,2, 0.937930506, 0.0957071945,2,     0.26,     0.70,2,       -999,9,        -999,9,   -999.0,9,   -999.0,9,   -999.0,9,     0.18,2,      -999,9,  -999.00,9,  -999.00,9,  -1.4997
  32H120020718,    23,  2,      4,2,20020804, 71.4553,-152.5550,   87,     70.5,  -1.4985,  32.0770,2,-999.0000,9,    352.7,2,   -999.0,9,  -999.00,9,  -999.00,9,  -999.00,9,  -999.00,9,     -999,9,   -999.0,9,   -999.0,9,  -999.00,9,     1.07,     0.09,2,    11.19,     0.30,2,    10.98,     1.13,2, 0.937792789, 0.0956931417,2,     0.26,     0.70,2,       -999,9,        -999,9,   -999.0,9,   -999.0,9,   -999.0,9,     -999,9,      -999,9,  -999.00,9,  -999.00,9,  -1.4998
  32H120020718,    23,  2,      3,2,20020804, 71.4553,-152.5550,   87,     70.5,  -1.4985,  32.0775,2,-999.0000,9,    352.5,2,   -999.0,9,  -999.00,9,  -999.00,9,  -999.00,9,  -999.00,9,     -999,9,   -999.0,9,   -999.0,9,  -999.00,9,     1.07,     0.09,2,    11.20,     0.30,2,    10.99,     1.13,2, 0.939257914, 0.0958426443,2,     0.26,     0.70,2,       -999,9,        -999,9,   -999.0,9,   -999.0,9,   -999.0,9,     -999,9,      -999,9,  -999.00,9,  -999.00,9,  -1.4998
  32H120020718,    23,  2,      6,2,20020804, 71.4553,-152.5550,   87,     70.5,  -1.4986,  32.0771,2,-999.0000,9,    352.7,2,   -999.0,9,  -999.00,9,  -999.00,9,  -999.00,9,  -999.00,9,     -999,9,   -999.0,9,   -999.0,9,  -999.00,9,     1.07,     0.09,2,    11.20,     0.30,2,    10.99,     1.13,2, 0.939260224,   0.09584288,2,     0.26,     0.70,2,       -999,9,        -999,9,   -999.0,9,   -999.0,9,   -999.0,9,     -999,9,      -999,9,  -999.00,9,  -999.00,9,  -1.4999
  32H120020718,    23,  2,      5,2,20020804, 71.4553,-152.5550,   87,     70.5,  -1.4986,  32.0773,2,-999.0000,9,    352.6,2,   -999.0,9,  -999.00,9,  -999.00,9,  -999.00,9,  -999.00,9,     -999,9,   -999.0,9,   -999.0,9,  -999.00,9,     1.07,     0.09,2,    11.20,     0.30,2,    10.99,     1.13,2, 0.939243842, 0.0958412083,2,     0.26,     0.70,2,       -999,9,        -999,9,   -999.0,9,   -999.0,9,   -999.0,9,     -999,9,      -999,9,  -999.00,9,  -999.00,9,  -1.4999
  32H120020718,    23,  1,      3,2,20020804, 71.4553,-152.5550,   87,     79.8,  -1.5096,  32.0976,2,  32.0995,2,    351.9,2,    361.7,2,    23.66,2,     4.91,2,     0.10,2,     1.35,2,     2.37,2,   -999.0,9,   -999.0,9,    -1.30,2,  -999.00,  -999.00,9,  -999.00,  -999.00,9,  -999.00,  -999.00,9,        -999,         -999,9,  -999.00,  -999.00,9,       -999,9,        -999,9,   -999.0,9,   -999.0,9,   -999.0,9,     0.18,2,      -999,9,  -999.00,9,  -999.00,9,  -1.5110
  32H120020718,    23,  1,      1,2,20020804, 71.4553,-152.5550,   87,     82.2,  -1.5235,  32.1356,2,  32.1308,2,    345.6,2,    356.3,2,    24.57,2,     5.53,2,     0.11,2,     1.39,2,     2.32,2,   2109.1,2,   2238.5,2,    -1.34,2,  -999.00,  -999.00,9,  -999.00,  -999.00,9,  -999.00,  -999.00,9,        -999,         -999,9,  -999.00,  -999.00,9, 133.056082,2,  28.8193686,2,   -999.0,9,      7.0,2,     14.9,2,     0.17,2,      -999,9,     1.11,2,     0.76,2,  -1.5250
  32H120020718,    23,  1,      2,2,20020804, 71.4553,-152.5550,   87,     82.2,  -1.5235,  32.1371,2,-999.0000,9,    345.2,2,   -999.0,9,  -999.00,9,  -999.00,9,  -999.00,9,  -999.00,9,     -999,9,   -999.0,9,   -999.0,9,  -999.00,9,  -999.00,  -999.00,9,  -999.00,  -999.00,9,  -999.00,  -999.00,9,        -999,         -999,9,  -999.00,  -999.00,9,       -999,9,        -999,9,     69.1,2,   -999.0,9,   -999.0,9,     -999,9,      -999,9,  -999.00,9,  -999.00,9,  -1.5250