BOTTLE,20090202PRINUNIVRMK
EXPOCODE,STNNBR,CASTNO,BTLNBR,BTLNBR_FLAG_W,DATE,LATITUDE,LONGITUDE,DEPTH,CTDPRS,CTDTMP,CTDSAL,CTDSAL_FLAG_W,SALNTY,SALNTY_FLAG_W,CTDOXY,CTDOXY_FLAG_W,OXYGEN,OXYGEN_FLAG_W,SILCAT,SILCAT_FLAG_W,NITRAT,NITRAT_FLAG_W,NITRIT,NITRIT_FLAG_W,PHSPHT,PHSPHT_FLAG_W,AMMONI,AMMONI_FLAG_W,TCARBN,TCARBN_FLAG_W,ALKALI,ALKALI_FLAG_W,DELO18,DELO18_FLAG_W,RA-224,RA-224E,RA-224_FLAG_W,RA-226,RA-226E,RA-226_FLAG_W,RA-228,RA-228E,RA-228_FLAG_W,RA-8/6,RA-8/6E,RA-8/6_FLAG_W,TH-228,TH-228E,TH-228_FLAG_W,POC,POC_FLAG_W,PON,PON_FLAG_W,DOC,DOC_FLAG_W,DON,DON_FLAG_W,TDN,TDN_FLAG_W,UREA,UREA_FLAG_W,LIGNIN,LIGNIN_FLAG_W,CHLORA,CHLORA_FLAG_W,PHAEO,PHAEO_FLAG_W,THETA
,,,,,,,,METERS,DBARS,ITS-90,PSS-78,,PSS-78,,UMOL/KG,,UMOL/KG,,UMOL/KG,,UMOL/KG,,UMOL/KG,,UMOL/KG,,UMOL/KG,,UMOL/KG,,UMOL/KG,,O/OO,,DPM/100KG,DPM/100KG,,DPM/100KG,DPM/100KG,,DPM/100KG,DPM/100KG,,,,,DPM/100KG,DPM/100KG,,ug/kg,,ug/kg,,UMOL/KG,,UMOL/KG,,UMOL/KG,,UMOL/KG,,NG/KG,,UG/L,,UG/L,,DEGC
  32H120020718,    20,  2,      6,2,20020801, 71.6959,-152.2930, 1112,     75.9,  -1.6111,  32.7277,2,  32.7513,2,    302.7,2,    311.0,2,    35.98,2,    11.97,2,     0.13,2,     1.73,2,     1.74,2,   2173.5,2,   2268.1,2,    -1.46,2,  -999.00,  -999.00,9,  -999.00,  -999.00,9,  -999.00,  -999.00,9,        -999,         -999,9,  -999.00,  -999.00,9, 45.9998337,2,  9.46191596,2,     64.3,2,      4.2,2,     18.0,2,     0.08,2,      -999,9,     0.38,2,     0.41,2,  -1.6125
  32H120020718,    20,  2,      5,2,20020801, 71.6959,-152.2930, 1112,    101.3,  -1.5385,  33.0216,2,  33.0565,2,    301.6,2,    306.5,2,    37.71,2,    13.12,2,     0.12,2,     1.77,2,      1.5,2,   2191.6,2,   2279.6,2,    -1.41,2,  -999.00,  -999.00,9,  -999.00,  -999.00,9,  -999.00,  -999.00,9,        -999,         -999,9,  -999.00,  -999.00,9, 40.2333592,2,  8.24797742,2,     62.5,2,      3.8,2,     18.5,2,     0.05,2,      -999,9,     0.58,2,     0.64,2,  -1.5405
  32H120020718,    20,  6,      2,2,20020801, 71.6959,-152.2930, 1112,    100.9,  -1.6637,  32.9809,2,-999.0000,9,    295.7,2,   -999.0,9,  -999.00,9,  -999.00,9,  -999.00,9,  -999.00,9,     -999,9,   -999.0,9,   -999.0,9,  -999.00,9,  -999.00,  -999.00,9,  -999.00,  -999.00,9,  -999.00,  -999.00,9,        -999,         -999,9,  -999.00,  -999.00,9,       -999,9,        -999,9,   -999.0,9,   -999.0,9,   -999.0,9,     -999,9,      -999,9,  -999.00,9,  -999.00,9,  -1.6656
  32H120020718,    20,  5,      8,2,20020801, 71.6959,-152.2930, 1112,    116.2,  -1.6442,  33.1785,2,-999.0000,9,    296.0,2,   -999.0,9,  -999.00,9,  -999.00,9,  -999.00,9,  -999.00,9,     -999,9,   -999.0,9,   -999.0,9,  -999.00,9,  -999.00,  -999.00,9,  -999.00,  -999.00,9,  -999.00,  -999.00,9,        -999,         -999,9,  -999.00,  -999.00,9,       -999,9,        -999,9,   -999.0,9,   -999.0,9,   -999.0,9,     -999,9,      -999,9,  -999.00,9,  -999.00,9,  -1.6464
  32H120020718,    20,  5,     10,2,20020801, 71.6959,-152.2930, 1112,    116.2,  -1.6445,  33.1795,2,-999.0000,9,    296.4,2,   -999.0,9,  -999.00,9,  -999.00,9,  -999.00,9,  -999.00,9,     -999,9,   -999.0,9,   -999.0,9,  -999.00,9,  -999.00,  -999.00,9,  -999.00,  -999.00,9,  -999.00,  -999.00,9,        -999,         -999,9,  -999.00,  -999.00,9,       -999,9,        -999,9,   -999.0,9,   -999.0,9,   -999.0,9,     -999,9,      -999,9,  -999.00,9,  -999.00,9,  -1.6467
  32H120020718,    20,  5,      7,2,20020801, 71.6959,-152.2930, 1112,    116.2,  -1.6447,  33.1782,2,-999.0000,9,    295.9,2,   -999.0,9,  -999.00,9,  -999.00,9,  -999.00,9,  -999.00,9,     -999,9,   -999.0,9,   -999.0,9,  -999.00,9,  -999.00,  -999.00,9,  -999.00,  -999.00,9,  -999.00,  -999.00,9,        -999,         -999,9,  -999.00,  -999.00,9,       -999,9,        -999,9,   -999.0,9,   -999.0,9,   -999.0,9,     -999,9,      -999,9,  -999.00,9,  -999.00,9,  -1.6469
  32H120020718,    20,  5,      9,2,20020801, 71.6959,-152.2930, 1112,    116.2,  -1.6447,  33.1793,2,-999.0000,9,    296.3,2,   -999.0,9,  -999.00,9,  -999.00,9,  -999.00,9,  -999.00,9,     -999,9,   -999.0,9,   -999.0,9,  -999.00,9,  -999.00,  -999.00,9,  -999.00,  -999.00,9,  -999.00,  -999.00,9,        -999,         -999,9,  -999.00,  -999.00,9,       -999,9,        -999,9,   -999.0,9,   -999.0,9,   -999.0,9,     -999,9,      -999,9,  -999.00,9,  -999.00,9,  -1.6469
  32H120020718,    20,  2,      4,2,20020801, 71.6959,-152.2930, 1112,    126.8,  -1.6393,  33.3263,2,  33.3352,2,    295.3,2,    302.5,2,    38.48,2,    13.90,2,     0.11,2,     1.79,2,     1.43,2,   2205.7,2,   2300.6,2,    -1.33,2,  -999.00,  -999.00,9,  -999.00,  -999.00,9,  -999.00,  -999.00,9,        -999,         -999,9,  -999.00,  -999.00,9, 28.2464552,2,  5.34443454,2,     62.1,2,      4.2,2,     19.6,2,     0.03,2,      -999,9,     0.20,2,     0.34,2,  -1.6418
  32H120020718,    20,  4,      7,2,20020801, 71.6959,-152.2930, 1112,    126.6,  -1.6539,  33.3226,2,-999.0000,9,    295.9,2,   -999.0,9,  -999.00,9,  -999.00,9,  -999.00,9,  -999.00,9,     -999,9,   -999.0,9,   -999.0,9,  -999.00,9,     1.02,     0.08,2,    10.32,     0.80,2,     9.75,     0.90,2, 0.906650866,  0.104980627,2,     1.15,     0.07,2,       -999,9,        -999,9,   -999.0,9,   -999.0,9,   -999.0,9,     -999,9,      -999,9,  -999.00,9,  -999.00,9,  -1.6564
  32H120020718,    20,  4,      9,2,20020801, 71.6959,-152.2930, 1112,    126.6,  -1.6548,  33.3212,2,-999.0000,9,    295.8,2,   -999.0,9,  -999.00,9,  -999.00,9,  -999.00,9,  -999.00,9,     -999,9,   -999.0,9,   -999.0,9,  -999.00,9,     1.02,     0.08,2,    10.33,     0.80,2,     9.77,     0.90,2, 0.908067016,  0.105144602,2,     1.15,     0.07,2,       -999,9,        -999,9,   -999.0,9,   -999.0,9,   -999.0,9,     -999,9,      -999,9,  -999.00,9,  -999.00,9,  -1.6573
  32H120020718,    20,  4,     12,2,20020801, 71.6959,-152.2930, 1112,    126.6,  -1.6561,  33.3178,2,-999.0000,9,    297.0,2,   -999.0,9,  -999.00,9,  -999.00,9,  -999.00,9,  -999.00,9,     -999,9,   -999.0,9,   -999.0,9,  -999.00,9,     1.02,     0.08,2,    10.33,     0.80,2,     9.77,     0.90,2, 0.908039348,  0.105141398,2,     1.15,     0.07,2,       -999,9,        -999,9,   -999.0,9,   -999.0,9,   -999.0,9,     -999,9,      -999,9,  -999.00,9,  -999.00,9,  -1.6586
  32H120020718,    20,  4,     10,2,20020801, 71.6959,-152.2930, 1112,    126.6,  -1.6565,  33.3193,2,-999.0000,9,    296.1,2,   -999.0,9,  -999.00,9,  -999.00,9,  -999.00,9,  -999.00,9,     -999,9,   -999.0,9,   -999.0,9,  -999.00,9,     1.02,     0.08,2,    10.32,     0.80,2,     9.76,     0.90,2, 0.907003892,  0.105021503,2,     1.15,     0.07,2,       -999,9,        -999,9,   -999.0,9,   -999.0,9,   -999.0,9,     -999,9,      -999,9,  -999.00,9,  -999.00,9,  -1.6590
  32H120020718,    20,  4,     11,2,20020801, 71.6959,-152.2930, 1112,    126.7,  -1.6548,  33.3199,2,-999.0000,9,    296.4,2,   -999.0,9,    41.08,2,    13.83,2,     0.13,2,     1.85,2,     1.97,2,   -999.0,9,   -999.0,9,  -999.00,9,     1.02,     0.08,2,    10.32,     0.80,2,     9.76,     0.90,2, 0.907002811,  0.105021378,2,     1.15,     0.07,2,       -999,9,        -999,9,   -999.0,9,   -999.0,9,   -999.0,9,     0.04,2,      -999,9,  -999.00,9,  -999.00,9,  -1.6573
  32H120020718,    20,  4,      8,2,20020801, 71.6959,-152.2930, 1112,    126.7,  -1.6552,  33.3215,2,-999.0000,9,    295.5,2,   -999.0,9,  -999.00,9,  -999.00,9,  -999.00,9,  -999.00,9,     -999,9,   -999.0,9,   -999.0,9,  -999.00,9,     1.02,     0.08,2,    10.32,     0.80,2,     9.76,     0.90,2, 0.907002608,  0.105021355,2,     1.15,     0.07,2,       -999,9,        -999,9,   -999.0,9,   -999.0,9,   -999.0,9,     -999,9,      -999,9,  -999.00,9,  -999.00,9,  -1.6577
  32H120020718,    20,  2,      3,2,20020801, 71.6959,-152.2930, 1112,    151.8,  -1.5057,  33.5320,2,  33.5425,2,    285.5,2,    296.0,2,    36.33,2,    14.34,2,     0.10,2,     1.75,2,     0.96,2,   2213.1,2,   2306.7,2,    -1.19,2,  -999.00,  -999.00,9,  -999.00,  -999.00,9,  -999.00,  -999.00,9,        -999,         -999,9,  -999.00,  -999.00,9, 21.1497772,2,  4.26902161,2,     63.2,2,      6.0,2,     21.3,2,     0.03,2,      -999,9,     0.14,2,     0.28,2,  -1.5090
  32H120020718,    20,  4,      2,2,20020801, 71.6959,-152.2930, 1112,    161.0,  -1.4609,  33.7045,2,-999.0000,9,    290.9,2,   -999.0,9,  -999.00,9,  -999.00,9,  -999.00,9,  -999.00,9,     -999,9,   -999.0,9,   -999.0,9,  -999.00,9,     0.56,     0.10,2,     9.93,     0.40,2,     7.78,     1.47,2, 0.744051534,  0.143086834,2,     1.40,     0.08,2,       -999,9,        -999,9,   -999.0,9,   -999.0,9,   -999.0,9,     -999,9,      -999,9,  -999.00,9,  -999.00,9,  -1.4645
  32H120020718,    20,  4,      1,2,20020801, 71.6959,-152.2930, 1112,    161.0,  -1.4611,  33.6984,2,-999.0000,9,    290.7,2,   -999.0,9,  -999.00,9,  -999.00,9,  -999.00,9,  -999.00,9,     -999,9,   -999.0,9,   -999.0,9,  -999.00,9,     0.56,     0.10,2,     9.93,     0.40,2,     7.78,     1.47,2, 0.744054415,  0.143087388,2,     1.40,     0.08,2,       -999,9,        -999,9,   -999.0,9,   -999.0,9,   -999.0,9,     -999,9,      -999,9,  -999.00,9,  -999.00,9,  -1.4647
  32H120020718,    20,  4,      5,2,20020801, 71.6959,-152.2930, 1112,    161.1,  -1.4606,  33.7026,2,-999.0000,9,    290.8,2,   -999.0,9,    37.66,2,    14.30,2,     0.14,2,     1.79,2,     1.56,2,   -999.0,9,   -999.0,9,  -999.00,9,     0.56,     0.10,2,     9.92,     0.40,2,     7.78,     1.47,2, 0.743607793,  0.143001499,2,     1.40,     0.08,2,       -999,9,        -999,9,   -999.0,9,   -999.0,9,   -999.0,9,     0.73,2,      -999,9,  -999.00,9,  -999.00,9,  -1.4642
  32H120020718,    20,  4,      3,2,20020801, 71.6959,-152.2930, 1112,    161.1,  -1.4613,  33.7102,2,-999.0000,9,    291.1,2,   -999.0,9,  -999.00,9,  -999.00,9,  -999.00,9,  -999.00,9,     -999,9,   -999.0,9,   -999.0,9,  -999.00,9,     0.56,     0.10,2,     9.92,     0.40,2,     7.78,     1.47,2, 0.743602533,  0.143000487,2,     1.40,     0.08,2,       -999,9,        -999,9,   -999.0,9,   -999.0,9,   -999.0,9,     -999,9,      -999,9,  -999.00,9,  -999.00,9,  -1.4649
  32H120020718,    20,  4,      4,2,20020801, 71.6959,-152.2930, 1112,    161.1,  -1.4617,  33.7074,2,-999.0000,9,    291.1,2,   -999.0,9,  -999.00,9,  -999.00,9,  -999.00,9,  -999.00,9,     -999,9,   -999.0,9,   -999.0,9,  -999.00,9,     0.56,     0.10,2,     9.92,     0.40,2,     7.78,     1.47,2, 0.743550003,  0.142990385,2,     1.40,     0.08,2,       -999,9,        -999,9,   -999.0,9,   -999.0,9,   -999.0,9,     -999,9,      -999,9,  -999.00,9,  -999.00,9,  -1.4653
  32H120020718,    20,  4,      6,2,20020801, 71.6959,-152.2930, 1112,    161.1,  -1.4623,  33.6980,2,-999.0000,9,    290.8,2,   -999.0,9,  -999.00,9,  -999.00,9,  -999.00,9,  -999.00,9,     -999,9,   -999.0,9,   -999.0,9,  -999.00,9,     0.56,     0.10,2,     9.92,     0.40,2,     7.78,     1.47,2, 0.743555429,  0.142991429,2,     1.40,     0.08,2,       -999,9,        -999,9,   -999.0,9,   -999.0,9,   -999.0,9,     -999,9,      -999,9,  -999.00,9,  -999.00,9,  -1.4659
  32H120020718,    20,  5,      5,2,20020801, 71.6959,-152.2930, 1112,    173.6,  -1.3367,  33.9595,2,-999.0000,9,    291.1,2,   -999.0,9,  -999.00,9,  -999.00,9,  -999.00,9,  -999.00,9,     -999,9,   -999.0,9,   -999.0,9,  -999.00,9,  -999.00,  -999.00,9,  -999.00,  -999.00,9,  -999.00,  -999.00,9,        -999,         -999,9,  -999.00,  -999.00,9,       -999,9,        -999,9,   -999.0,9,   -999.0,9,   -999.0,9,     -999,9,      -999,9,  -999.00,9,  -999.00,9,  -1.3409
  32H120020718,    20,  5,      6,2,20020801, 71.6959,-152.2930, 1112,    173.7,  -1.3354,  33.9604,2,-999.0000,9,    291.2,2,   -999.0,9,  -999.00,9,  -999.00,9,  -999.00,9,  -999.00,9,     -999,9,   -999.0,9,   -999.0,9,  -999.00,9,  -999.00,  -999.00,9,  -999.00,  -999.00,9,  -999.00,  -999.00,9,        -999,         -999,9,  -999.00,  -999.00,9,       -999,9,        -999,9,   -999.0,9,   -999.0,9,   -999.0,9,     -999,9,      -999,9,  -999.00,9,  -999.00,9,  -1.3396
  32H120020718,    20,  2,      2,2,20020801, 71.6959,-152.2930, 1112,    176.1,  -1.2028,  34.0415,2,  34.0379,2,    287.0,2,    293.7,2,    29.61,2,    14.15,2,     0.14,2,     1.55,2,     0.06,2,   2210.8,2,   2321.9,2,    -0.89,2,  -999.00,  -999.00,9,  -999.00,  -999.00,9,  -999.00,  -999.00,9,        -999,         -999,9,  -999.00,  -999.00,9, 16.3276612,2,  3.11515175,2,     62.8,2,      5.5,2,     19.9,2,     0.04,2,      -999,9,     0.12,2,     0.18,2,  -1.2073
  32H120020718,    20,  2,      1,2,20020801, 71.6959,-152.2930, 1112,    201.3,  -0.7964,  34.3441,2,  34.3404,2,    281.7,2,    287.5,2,    22.44,2,    13.55,2,     0.07,2,     1.31,2,        0,2,   2197.4,2,   2325.4,2,    -0.37,2,  -999.00,  -999.00,9,  -999.00,  -999.00,9,  -999.00,  -999.00,9,        -999,         -999,9,  -999.00,  -999.00,9, 13.3559902,2,  2.64581685,2,     62.3,2,      6.2,2,     19.8,2,     0.02,2,      -999,9,     0.12,2,     0.13,2,  -0.8024
  32H120020718,    20,  6,      1,2,20020801, 71.6959,-152.2930, 1112,    201.1,  -0.8048,  34.2947,2,-999.0000,9,    283.0,2,   -999.0,9,  -999.00,9,  -999.00,9,  -999.00,9,  -999.00,9,     -999,9,   -999.0,9,   -999.0,9,  -999.00,9,  -999.00,  -999.00,9,  -999.00,  -999.00,9,  -999.00,  -999.00,9,        -999,         -999,9,  -999.00,  -999.00,9,       -999,9,        -999,9,   -999.0,9,   -999.0,9,   -999.0,9,     -999,9,      -999,9,  -999.00,9,  -999.00,9,  -0.8107
  32H120020718,    20,  1,     12,2,20020801, 71.6959,-152.2930, 1112,    203.2,  -0.6318,  34.4050,2,  34.3938,2,    281.0,2,    288.3,2,    21.51,2,    13.49,2,     0.05,2,     1.29,2,        0,2,   2196.1,2,   2312.7,2,  -999.00,9,  -999.00,  -999.00,9,  -999.00,  -999.00,9,  -999.00,  -999.00,9,        -999,         -999,9,  -999.00,  -999.00,9, 20.2967853,2,  3.60246332,2,     55.4,2,      2.4,2,     15.9,2,     0.02,2,      -999,9,  -999.00,9,  -999.00,9,  -0.6381
  32H120020718,    20,  1,     11,2,20020801, 71.6959,-152.2930, 1112,    225.2,  -0.0661,  34.5846,2,  34.5684,2,    273.5,2,    279.2,2,    14.61,2,    13.05,2,     0.01,2,     1.08,2,        0,2,   2170.5,2,   2310.8,2,  -999.00,9,  -999.00,  -999.00,9,  -999.00,  -999.00,9,  -999.00,  -999.00,9,        -999,         -999,9,  -999.00,  -999.00,9, 13.5196725,2,  2.73320926,2,     53.4,2,      3.1,2,     16.1,2,     0.02,2,      -999,9,  -999.00,9,  -999.00,9,  -0.0743
  32H120020718,    20,  3,      1,2,20020801, 71.6959,-152.2930, 1112,    240.2,   0.1143,  34.6300,2,-999.0000,9,    274.0,2,   -999.0,9,    14.53,2,    13.22,2,     0.02,2,     1.08,2,        0,2,   -999.0,9,   -999.0,9,  -999.00,9,     0.80,     0.07,2,     6.67,     0.47,2,     3.04,     0.66,2, 0.439589529, 0.0955629412,2,     0.42,     0.06,2,       -999,9,        -999,9,   -999.0,9,   -999.0,9,   -999.0,9,     0.03,2,      -999,9,  -999.00,9,  -999.00,9,   0.1051
  32H120020718,    20,  3,      2,2,20020801, 71.6959,-152.2930, 1112,    240.3,   0.1102,  34.6291,2,-999.0000,9,    274.0,2,   -999.0,9,  -999.00,9,  -999.00,9,  -999.00,9,  -999.00,9,     -999,9,   -999.0,9,   -999.0,9,  -999.00,9,     0.80,     0.07,2,     6.67,     0.47,2,     3.04,     0.66,2, 0.439588612, 0.0955627417,2,     0.42,     0.06,2,       -999,9,        -999,9,   -999.0,9,   -999.0,9,   -999.0,9,     -999,9,      -999,9,  -999.00,9,  -999.00,9,   0.1010
  32H120020718,    20,  3,      3,2,20020801, 71.6959,-152.2930, 1112,    240.3,   0.1142,  34.6301,2,-999.0000,9,    273.8,2,   -999.0,9,  -999.00,9,  -999.00,9,  -999.00,9,  -999.00,9,     -999,9,   -999.0,9,   -999.0,9,  -999.00,9,     0.80,     0.07,2,     6.66,     0.47,2,     3.04,     0.66,2, 0.439120516, 0.0954609818,2,     0.42,     0.06,2,       -999,9,        -999,9,   -999.0,9,   -999.0,9,   -999.0,9,     -999,9,      -999,9,  -999.00,9,  -999.00,9,   0.1050
  32H120020718,    20,  3,      5,2,20020801, 71.6959,-152.2930, 1112,    240.4,   0.0920,  34.6243,2,-999.0000,9,    274.0,2,   -999.0,9,  -999.00,9,  -999.00,9,  -999.00,9,  -999.00,9,     -999,9,   -999.0,9,   -999.0,9,  -999.00,9,     0.80,     0.07,2,     6.66,     0.47,2,     3.03,     0.66,2,  0.43881888, 0.0953954087,2,     0.42,     0.06,2,       -999,9,        -999,9,   -999.0,9,   -999.0,9,   -999.0,9,     -999,9,      -999,9,  -999.00,9,  -999.00,9,   0.0828
  32H120020718,    20,  3,      6,2,20020801, 71.6959,-152.2930, 1112,    240.4,   0.1126,  34.6297,2,-999.0000,9,    273.8,2,   -999.0,9,  -999.00,9,  -999.00,9,  -999.00,9,  -999.00,9,     -999,9,   -999.0,9,   -999.0,9,  -999.00,9,     0.80,     0.07,2,     6.65,     0.47,2,     3.03,     0.66,2, 0.438388046, 0.0953017492,2,     0.42,     0.06,2,       -999,9,        -999,9,   -999.0,9,   -999.0,9,   -999.0,9,     -999,9,      -999,9,  -999.00,9,  -999.00,9,   0.1034
  32H120020718,    20,  3,      4,2,20020801, 71.6959,-152.2930, 1112,    240.4,   0.1134,  34.6297,2,-999.0000,9,    273.8,2,   -999.0,9,  -999.00,9,  -999.00,9,  -999.00,9,  -999.00,9,     -999,9,   -999.0,9,   -999.0,9,  -999.00,9,     0.80,     0.07,2,     6.67,     0.47,2,     3.04,     0.66,2, 0.439847772, 0.0956190809,2,     0.42,     0.06,2,       -999,9,        -999,9,   -999.0,9,   -999.0,9,   -999.0,9,     -999,9,      -999,9,  -999.00,9,  -999.00,9,   0.1042
  32H120020718,    20,  1,     10,2,20020801, 71.6959,-152.2930, 1112,    252.0,   0.2747,  34.6850,2,  34.6768,2,    276.5,2,    281.5,2,    11.93,2,    12.90,2,     0.01,2,     1.00,2,        0,2,   2158.1,2,   2317.9,2,  -999.00,9,  -999.00,  -999.00,9,  -999.00,  -999.00,9,  -999.00,  -999.00,9,        -999,         -999,9,  -999.00,  -999.00,9, 10.5513211,2,   2.0009433,2,     51.5,2,      2.3,2,     15.2,2,     0.01,2,      -999,9,  -999.00,9,  -999.00,9,   0.2647
  32H120020718,    20,  1,      9,2,20020801, 71.6959,-152.2930, 1112,    302.1,   0.5928,  34.7731,2,  34.7722,2,    282.5,2,    288.2,2,     8.41,2,    12.61,2,     0.01,2,     0.91,2,        0,2,   2144.6,2,   2311.9,2,  -999.00,9,  -999.00,  -999.00,9,  -999.00,  -999.00,9,  -999.00,  -999.00,9,        -999,         -999,9,  -999.00,  -999.00,9, 7.48592631,2,  1.15168189,2,     50.5,2,      2.6,2,     15.2,2,     0.01,2,      -999,9,  -999.00,9,  -999.00,9,   0.5798
  32H120020718,    20,  5,      3,2,20020801, 71.6959,-152.2930, 1112,    302.0,   0.5650,  34.7627,2,-999.0000,9,    281.4,2,   -999.0,9,  -999.00,9,  -999.00,9,  -999.00,9,  -999.00,9,     -999,9,   -999.0,9,   -999.0,9,  -999.00,9,  -999.00,  -999.00,9,  -999.00,  -999.00,9,  -999.00,  -999.00,9,        -999,         -999,9,  -999.00,  -999.00,9,       -999,9,        -999,9,   -999.0,9,   -999.0,9,   -999.0,9,     -999,9,      -999,9,  -999.00,9,  -999.00,9,   0.5521
  32H120020718,    20,  5,      4,2,20020801, 71.6959,-152.2930, 1112,    302.7,   0.5694,  34.7646,2,-999.0000,9,    281.7,2,   -999.0,9,  -999.00,9,  -999.00,9,  -999.00,9,  -999.00,9,     -999,9,   -999.0,9,   -999.0,9,  -999.00,9,  -999.00,  -999.00,9,  -999.00,  -999.00,9,  -999.00,  -999.00,9,        -999,         -999,9,  -999.00,  -999.00,9,       -999,9,        -999,9,   -999.0,9,   -999.0,9,   -999.0,9,     -999,9,      -999,9,  -999.00,9,  -999.00,9,   0.5564