BOTTLE,20090202PRINUNIVRMK
EXPOCODE,STNNBR,CASTNO,BTLNBR,BTLNBR_FLAG_W,DATE,LATITUDE,LONGITUDE,DEPTH,CTDPRS,CTDTMP,CTDSAL,CTDSAL_FLAG_W,SALNTY,SALNTY_FLAG_W,CTDOXY,CTDOXY_FLAG_W,OXYGEN,OXYGEN_FLAG_W,SILCAT,SILCAT_FLAG_W,NITRAT,NITRAT_FLAG_W,NITRIT,NITRIT_FLAG_W,PHSPHT,PHSPHT_FLAG_W,AMMONI,AMMONI_FLAG_W,TCARBN,TCARBN_FLAG_W,ALKALI,ALKALI_FLAG_W,DELO18,DELO18_FLAG_W,RA-224,RA-224E,RA-224_FLAG_W,RA-226,RA-226E,RA-226_FLAG_W,RA-228,RA-228E,RA-228_FLAG_W,RA-8/6,RA-8/6E,RA-8/6_FLAG_W,TH-228,TH-228E,TH-228_FLAG_W,POC,POC_FLAG_W,PON,PON_FLAG_W,DOC,DOC_FLAG_W,DON,DON_FLAG_W,TDN,TDN_FLAG_W,UREA,UREA_FLAG_W,LIGNIN,LIGNIN_FLAG_W,CHLORA,CHLORA_FLAG_W,PHAEO,PHAEO_FLAG_W,THETA
,,,,,,,,METERS,DBARS,ITS-90,PSS-78,,PSS-78,,UMOL/KG,,UMOL/KG,,UMOL/KG,,UMOL/KG,,UMOL/KG,,UMOL/KG,,UMOL/KG,,UMOL/KG,,UMOL/KG,,O/OO,,DPM/100KG,DPM/100KG,,DPM/100KG,DPM/100KG,,DPM/100KG,DPM/100KG,,,,,DPM/100KG,DPM/100KG,,ug/kg,,ug/kg,,UMOL/KG,,UMOL/KG,,UMOL/KG,,UMOL/KG,,NG/KG,,UG/L,,UG/L,,DEGC
  32H120020718,    19,  1,     11,2,20020730, 71.9120,-151.9710, 2170,    301.2,   0.5672,  34.7900,2,  34.7917,2,    280.9,2,    287.2,2,     9.74,2,    12.86,2,     0.03,2,     0.95,2,        0,2,   2156.2,2,   2321.5,2,  -999.00,9,  -999.00,  -999.00,9,  -999.00,  -999.00,9,  -999.00,  -999.00,9,        -999,         -999,9,  -999.00,  -999.00,9, 15.6255442,2,  2.65469328,2,     50.7,2,      3.6,2,     16.4,2,     0.02,2,      -999,9,  -999.00,9,  -999.00,9,   0.5543
  32H120020718,    19,  1,     10,2,20020730, 71.9120,-151.9710, 2170,    351.2,   0.6311,  34.8173,2,  34.8181,2,    285.2,2,    292.0,2,     7.87,2,    12.69,2,     0.01,2,     0.89,2,        0,2,   2150.7,2,   2305.2,2,  -999.00,9,  -999.00,  -999.00,9,  -999.00,  -999.00,9,  -999.00,  -999.00,9,        -999,         -999,9,  -999.00,  -999.00,9, 11.7213812,2,  1.88361703,2,     50.3,2,      4.6,2,     17.3,2,     0.02,2,      -999,9,  -999.00,9,  -999.00,9,   0.6157
  32H120020718,    19,  1,      9,2,20020730, 71.9120,-151.9710, 2170,    402.1,   0.6040,  34.8312,2,  34.8326,2,    286.7,2,    294.1,2,     7.48,2,    12.65,2,     0.01,2,     0.89,2,        0,2,   2149.0,2,   2312.0,2,  -999.00,9,  -999.00,  -999.00,9,  -999.00,  -999.00,9,  -999.00,  -999.00,9,        -999,         -999,9,  -999.00,  -999.00,9, 6.94881339,2,   1.1809083,2,     50.4,2,      5.0,2,     17.7,2,     0.02,2,      -999,9,  -999.00,9,  -999.00,9,   0.5862
  32H120020718,    19,  1,      8,2,20020730, 71.9120,-151.9710, 2170,    451.0,   0.5611,  34.8398,2,  34.8408,2,    287.7,2,    295.3,2,     7.17,2,    12.66,2,     0.00,2,     0.88,2,        0,2,   2145.6,2,   2320.7,2,  -999.00,9,  -999.00,  -999.00,9,  -999.00,  -999.00,9,  -999.00,  -999.00,9,        -999,         -999,9,  -999.00,  -999.00,9, 6.87069264,2,  1.04426852,2,     50.4,2,      5.7,2,     18.3,2,     0.01,2,      -999,9,  -999.00,9,  -999.00,9,   0.5411
  32H120020718,    19,  1,      7,2,20020730, 71.9120,-151.9710, 2170,    501.2,   0.4910,  34.8456,2,  34.8463,2,    288.0,2,    296.4,2,     7.07,2,    12.67,2,     0.00,2,     0.92,2,        0,2,   2144.1,2,   2308.1,2,  -999.00,9,  -999.00,  -999.00,9,  -999.00,  -999.00,9,  -999.00,  -999.00,9,        -999,         -999,9,  -999.00,  -999.00,9,  8.3345909,2,  1.18089687,2,     49.6,2,      4.1,2,     16.7,2,     0.02,2,      -999,9,  -999.00,9,  -999.00,9,   0.4689
  32H120020718,    19,  5,      3,2,20020730, 71.9120,-151.9710, 2170,    502.3,   0.4832,  34.8461,2,-999.0000,9,    287.9,2,   -999.0,9,  -999.00,9,  -999.00,9,  -999.00,9,  -999.00,9,     -999,9,   -999.0,9,   -999.0,9,  -999.00,9,  -999.00,  -999.00,9,  -999.00,  -999.00,9,  -999.00,  -999.00,9,        -999,         -999,9,  -999.00,  -999.00,9,       -999,9,        -999,9,   -999.0,9,   -999.0,9,   -999.0,9,     -999,9,      -999,9,  -999.00,9,  -999.00,9,   0.4610
  32H120020718,    19,  5,      4,2,20020730, 71.9120,-151.9710, 2170,    502.6,   0.4839,  34.8459,2,-999.0000,9,    287.9,2,   -999.0,9,  -999.00,9,  -999.00,9,  -999.00,9,  -999.00,9,     -999,9,   -999.0,9,   -999.0,9,  -999.00,9,  -999.00,  -999.00,9,  -999.00,  -999.00,9,  -999.00,  -999.00,9,        -999,         -999,9,  -999.00,  -999.00,9,       -999,9,        -999,9,   -999.0,9,   -999.0,9,   -999.0,9,     -999,9,      -999,9,  -999.00,9,  -999.00,9,   0.4617
  32H120020718,    19,  1,      6,2,20020730, 71.9120,-151.9710, 2170,    601.1,   0.3772,  34.8567,2,  34.8585,2,    288.3,2,    297.3,2,     6.97,2,    12.68,2,     0.00,2,     0.88,2,        0,2,   2146.2,2,   2325.6,2,  -999.00,9,  -999.00,  -999.00,9,  -999.00,  -999.00,9,  -999.00,  -999.00,9,        -999,         -999,9,  -999.00,  -999.00,9, 5.14319053,2, 0.810029229,2,     48.9,2,      4.4,2,     17.0,2,     0.02,2,      -999,9,  -999.00,9,  -999.00,9,   0.3507
  32H120020718,    19,  1,      5,2,20020730, 71.9120,-151.9710, 2170,    801.5,   0.1175,  34.8707,2,  34.8720,2,    289.1,2,    299.8,2,     7.06,2,    12.73,2,     0.00,2,     0.89,2,        0,2,   2147.0,2,   2311.5,2,  -999.00,9,  -999.00,  -999.00,9,  -999.00,  -999.00,9,  -999.00,  -999.00,9,        -999,         -999,9,  -999.00,  -999.00,9, 4.90892759,2, 0.810019993,2,     47.5,2,      4.7,2,     17.4,2,     0.01,2,      -999,9,  -999.00,9,  -999.00,9,   0.0824
  32H120020718,    19,  1,      4,2,20020730, 71.9120,-151.9710, 2170,   1001.6,  -0.0570,  34.8836,2,  34.8852,2,    288.4,2,    300.0,2,     7.45,2,    12.79,2,     0.00,2,     0.91,2,        0,2,   2147.4,2,   2323.7,2,  -999.00,9,  -999.00,  -999.00,9,  -999.00,  -999.00,9,  -999.00,  -999.00,9,        -999,         -999,9,  -999.00,  -999.00,9, 5.23092264,2, 0.878326383,2,     47.4,2,      4.3,2,     17.1,2,     0.01,2,      -999,9,  -999.00,9,  -999.00,9,  -0.1012
  32H120020718,    19,  5,      2,2,20020730, 71.9120,-151.9710, 2170,   1202.5,  -0.2071,  34.8980,2,-999.0000,9,    287.5,2,   -999.0,9,  -999.00,9,  -999.00,9,  -999.00,9,  -999.00,9,     -999,9,   -999.0,9,   -999.0,9,  -999.00,9,  -999.00,  -999.00,9,  -999.00,  -999.00,9,  -999.00,  -999.00,9,        -999,         -999,9,  -999.00,  -999.00,9,       -999,9,        -999,9,   -999.0,9,   -999.0,9,   -999.0,9,     -999,9,      -999,9,  -999.00,9,  -999.00,9,  -0.2609
  32H120020718,    19,  1,      3,2,20020730, 71.9120,-151.9710, 2170,   1501.6,  -0.3334,  34.9163,2,  34.9176,2,    284.0,2,    298.3,2,     8.91,2,    13.50,2,     0.00,2,     0.96,2,        0,2,   2143.3,2,   2319.4,2,  -999.00,9,  -999.00,  -999.00,9,  -999.00,  -999.00,9,  -999.00,  -999.00,9,        -999,         -999,9,  -999.00,  -999.00,9, 4.61598884,2, 0.741679299,2,     46.9,2,      5.8,2,     19.2,2,     0.01,2,      -999,9,  -999.00,9,  -999.00,9,  -0.4030
  32H120020718,    19,  1,      2,2,20020730, 71.9120,-151.9710, 2170,   2003.0,  -0.4024,  34.9423,2,  34.9432,2,    274.4,2,    290.2,2,    12.24,2,    14.38,2,     0.01,2,     1.03,2,        0,2,   2143.8,2,   2320.0,2,  -999.00,9,  -999.00,  -999.00,9,  -999.00,  -999.00,9,  -999.00,  -999.00,9,        -999,         -999,9,  -999.00,  -999.00,9, 3.15207822,2, 0.400109971,2,     45.0,2,      3.5,2,     17.8,2,     0.02,2,      -999,9,  -999.00,9,  -999.00,9,  -0.5030
  32H120020718,    19,  5,      1,2,20020730, 71.9120,-151.9710, 2170,   2099.3,  -0.4017,  34.9473,2,-999.0000,9,    272.8,2,   -999.0,9,  -999.00,9,  -999.00,9,  -999.00,9,  -999.00,9,     -999,9,   -999.0,9,   -999.0,9,  -999.00,9,  -999.00,  -999.00,9,  -999.00,  -999.00,9,  -999.00,  -999.00,9,        -999,         -999,9,  -999.00,  -999.00,9,       -999,9,        -999,9,   -999.0,9,   -999.0,9,   -999.0,9,     -999,9,      -999,9,  -999.00,9,  -999.00,9,  -0.5089
  32H120020718,    19,  1,      1,2,20020730, 71.9120,-151.9710, 2170,   2193.6,  -0.3952,  34.9488,2,  34.9489,2,    270.6,2,    284.8,2,    13.92,2,    14.59,2,     0.01,2,     1.06,2,     0.04,2,   2146.6,2,   2328.5,2,  -999.00,9,  -999.00,  -999.00,9,  -999.00,  -999.00,9,  -999.00,  -999.00,9,        -999,         -999,9,  -999.00,  -999.00,9, 5.59174023,2, 0.770938643,2,     45.0,2,      6.1,2,     20.7,2,     0.02,2,      -999,9,  -999.00,9,  -999.00,9,  -0.5091
  32H120020718,    20,  2,     12,2,20020801, 71.6959,-152.2930, 1112,      2.2,  -1.1926,  25.7509,2,  15.8828,2,    375.0,2,   -999.0,5,     7.55,2,     0.02,2,     0.01,2,     0.40,2,      0.1,2,   1083.0,2,   1171.4,2,    -1.44,2,  -999.00,  -999.00,9,  -999.00,  -999.00,9,  -999.00,  -999.00,9,        -999,         -999,9,  -999.00,  -999.00,9, 181.213448,2,  29.7255195,2,     55.2,2,      3.7,2,      3.8,2,      0.1,2,      -999,9,     0.78,2,     0.47,2,  -1.1926
  32H120020718,    20,  6,     12,2,20020801, 71.6959,-152.2930, 1112,      2.0,  -1.1633,  24.7184,2,-999.0000,9,    371.2,2,   -999.0,9,  -999.00,9,  -999.00,9,  -999.00,9,  -999.00,9,     -999,9,   -999.0,9,   -999.0,9,  -999.00,9,  -999.00,  -999.00,9,  -999.00,  -999.00,9,  -999.00,  -999.00,9,        -999,         -999,9,  -999.00,  -999.00,9,       -999,9,        -999,9,   -999.0,9,   -999.0,9,   -999.0,9,     -999,9,      -999,9,  -999.00,9,  -999.00,9,  -1.1633
  32H120020718,    20,  6,     11,2,20020801, 71.6959,-152.2930, 1112,      2.0,  -1.1747,  24.7795,2,  12.0239,2,    375.1,2,    409.7,2,     6.70,2,     0.07,2,     0.02,2,     0.44,2,     5.96,2,    870.0,2,    947.9,2,  -999.00,9,  -999.00,  -999.00,9,  -999.00,  -999.00,9,  -999.00,  -999.00,9,        -999,         -999,9,  -999.00,  -999.00,9,       -999,9,        -999,9,   -999.0,9,   -999.0,9,   -999.0,9,     0.26,2,      -999,9,     0.33,2,     0.33,2,  -1.1747
  32H120020718,    20,  6,     10,2,20020801, 71.6959,-152.2930, 1112,      4.4,  -1.1915,  27.5836,2,-999.0000,9,    382.9,2,    392.2,2,     5.38,2,     0.04,2,     0.01,2,     0.62,2,     0.08,2,   1820.2,2,   1974.0,2,  -999.00,9,  -999.00,  -999.00,9,  -999.00,  -999.00,9,  -999.00,  -999.00,9,        -999,         -999,9,  -999.00,  -999.00,9,       -999,9,        -999,9,   -999.0,9,   -999.0,9,   -999.0,9,     0.02,2,      -999,9,     0.34,2,     0.48,2,  -1.1915
  32H120020718,    20,  6,      9,2,20020801, 71.6959,-152.2930, 1112,      6.7,  -1.2962,  27.6921,2,-999.0000,9,    383.5,2,    394.8,2,     4.99,2,     0.04,2,     0.01,2,     0.65,2,     0.08,2,   1839.9,2,   2008.1,2,  -999.00,9,  -999.00,  -999.00,9,  -999.00,  -999.00,9,  -999.00,  -999.00,9,        -999,         -999,9,  -999.00,  -999.00,9,       -999,9,        -999,9,   -999.0,9,   -999.0,9,   -999.0,9,     0.05,2,      -999,9,     0.32,2,     0.36,2,  -1.2963
  32H120020718,    20, 99,      1,9,20020801, 71.6959,-152.2930, 1112,      8.1,-999.0000,-999.0000,9,-999.0000,9,   -999.0,9,   -999.0,9,  -999.00,9,  -999.00,9,  -999.00,9,  -999.00,9,     -999,9,   -999.0,9,   -999.0,9,  -999.00,9,     2.53,     0.11,2,     6.78,     0.54,2,     5.91,     0.33,2, 0.831390648, 0.0860059291,2,     0.54,     0.07,2,       -999,9,        -999,9,   -999.0,9,   -999.0,9,   -999.0,9,     -999,9,      -999,9,  -999.00,9,  -999.00,9,-999.0000
  32H120020718,    20,  6,      8,2,20020801, 71.6959,-152.2930, 1112,     10.0,  -1.2514,  28.2934,2,-999.0000,9,    387.8,2,    398.9,2,     5.08,2,     0.08,2,     0.01,2,     0.67,2,     0.05,2,   1880.9,2,   2043.1,2,  -999.00,9,  -999.00,  -999.00,9,  -999.00,  -999.00,9,  -999.00,  -999.00,9,        -999,         -999,9,  -999.00,  -999.00,9,       -999,9,        -999,9,   -999.0,9,   -999.0,9,   -999.0,9,     0.02,2,      -999,9,     0.30,2,     0.32,2,  -1.2515
  32H120020718,    20,  6,      7,2,20020801, 71.6959,-152.2930, 1112,     10.0,  -1.2519,  28.2854,2,-999.0000,9,    388.0,2,   -999.0,9,  -999.00,9,  -999.00,9,  -999.00,9,  -999.00,9,     -999,9,   -999.0,9,   -999.0,9,  -999.00,9,  -999.00,  -999.00,9,  -999.00,  -999.00,9,  -999.00,  -999.00,9,        -999,         -999,9,  -999.00,  -999.00,9,       -999,9,        -999,9,   -999.0,9,   -999.0,9,   -999.0,9,     -999,9,      -999,9,  -999.00,9,  -999.00,9,  -1.2520
  32H120020718,    20,  2,     11,2,20020801, 71.6959,-152.2930, 1112,     11.9,  -1.2222,  28.5424,2,  28.4749,2,    390.0,2,   -999.0,5,     5.47,2,     0.07,2,     0.01,2,     0.69,2,     0.03,2,   1886.3,2,   2042.9,2,    -2.91,2,  -999.00,  -999.00,9,  -999.00,  -999.00,9,  -999.00,  -999.00,9,        -999,         -999,9,  -999.00,  -999.00,9, 66.0819559,2,  14.2283559,2,     67.7,2,      3.8,2,      3.9,2,     0.03,2,      -999,9,     0.32,2,     0.30,2,  -1.2224
  32H120020718,    20,  6,      6,2,20020801, 71.6959,-152.2930, 1112,     15.0,  -1.2316,  28.9387,2,-999.0000,9,    390.7,2,    414.0,2,     6.29,2,     0.08,2,     0.00,2,     0.70,2,     0.05,2,   1926.2,2,   2102.3,2,  -999.00,9,  -999.00,  -999.00,9,  -999.00,  -999.00,9,  -999.00,  -999.00,9,        -999,         -999,9,  -999.00,  -999.00,9,       -999,9,        -999,9,   -999.0,9,   -999.0,9,   -999.0,9,     0.02,2,      -999,9,     0.42,2,     0.38,2,  -1.2318
  32H120020718,    20,  2,     10,2,20020801, 71.6959,-152.2930, 1112,     16.4,  -1.2595,  28.9025,2,  29.2148,2,    401.0,2,    425.9,2,     7.27,2,     0.07,2,     0.01,2,     0.69,2,     0.02,2,   1906.7,2,   2087.2,2,    -2.50,2,  -999.00,  -999.00,9,  -999.00,  -999.00,9,  -999.00,  -999.00,9,        -999,         -999,9,  -999.00,  -999.00,9, 92.9381327,2,  19.0325613,2,     69.7,2,      6.2,2,      6.3,2,     0.02,2,      -999,9,     0.63,2,     0.41,2,  -1.2597
  32H120020718,    20,  6,      5,2,20020801, 71.6959,-152.2930, 1112,     22.7,  -1.3134,  30.6197,2,-999.0000,9,    415.1,2,    423.2,2,     8.55,2,     0.04,2,     0.00,2,     0.73,2,     0.02,2,   1963.9,2,   2152.7,2,  -999.00,9,  -999.00,  -999.00,9,  -999.00,  -999.00,9,  -999.00,  -999.00,9,        -999,         -999,9,  -999.00,  -999.00,9,       -999,9,        -999,9,   -999.0,9,   -999.0,9,   -999.0,9,     0.03,2,      -999,9,     2.37,2,     1.65,2,  -1.3138
  32H120020718,    20,  6,      4,2,20020801, 71.6959,-152.2930, 1112,     22.7,  -1.3142,  30.6234,2,-999.0000,9,    415.0,2,   -999.0,9,  -999.00,9,  -999.00,9,  -999.00,9,  -999.00,9,     -999,9,   -999.0,9,   -999.0,9,  -999.00,9,  -999.00,  -999.00,9,  -999.00,  -999.00,9,  -999.00,  -999.00,9,        -999,         -999,9,  -999.00,  -999.00,9,       -999,9,        -999,9,   -999.0,9,   -999.0,9,   -999.0,9,     -999,9,      -999,9,  -999.00,9,  -999.00,9,  -1.3146
  32H120020718,    20,  2,      9,2,20020801, 71.6959,-152.2930, 1112,     31.6,  -1.4825,  31.4643,2,  31.5336,2,    369.1,2,    380.0,2,    19.16,2,     2.66,2,     0.09,2,     1.12,2,     0.59,2,   2065.9,2,   2203.1,2,    -1.81,2,  -999.00,  -999.00,9,  -999.00,  -999.00,9,  -999.00,  -999.00,9,        -999,         -999,9,  -999.00,  -999.00,9, 118.038806,2,  24.1947036,2,     77.4,2,      4.3,2,      7.6,2,     0.05,2,      -999,9,     2.45,2,     1.18,2,  -1.4830
  32H120020718,    20,  5,     12,2,20020801, 71.6959,-152.2930, 1112,     31.5,  -1.4789,  31.6038,2,-999.0000,9,    368.4,2,   -999.0,9,  -999.00,9,  -999.00,9,  -999.00,9,  -999.00,9,     -999,9,   -999.0,9,   -999.0,9,  -999.00,9,  -999.00,  -999.00,9,  -999.00,  -999.00,9,  -999.00,  -999.00,9,        -999,         -999,9,  -999.00,  -999.00,9,       -999,9,        -999,9,   -999.0,9,   -999.0,9,   -999.0,9,     -999,9,      -999,9,  -999.00,9,  -999.00,9,  -1.4794
  32H120020718,    20,  5,     11,2,20020801, 71.6959,-152.2930, 1112,     31.5,  -1.4846,  31.6481,2,-999.0000,9,    365.6,2,   -999.0,9,  -999.00,9,  -999.00,9,  -999.00,9,  -999.00,9,     -999,9,   -999.0,9,   -999.0,9,  -999.00,9,  -999.00,  -999.00,9,  -999.00,  -999.00,9,  -999.00,  -999.00,9,        -999,         -999,9,  -999.00,  -999.00,9,       -999,9,        -999,9,   -999.0,9,   -999.0,9,   -999.0,9,     -999,9,      -999,9,  -999.00,9,  -999.00,9,  -1.4851
  32H120020718,    20,  6,      3,2,20020801, 71.6959,-152.2930, 1112,     41.0,  -1.5245,  32.0525,2,-999.0000,9,    337.3,2,   -999.0,9,  -999.00,9,  -999.00,9,  -999.00,9,  -999.00,9,     -999,9,   -999.0,9,   -999.0,9,  -999.00,9,  -999.00,  -999.00,9,  -999.00,  -999.00,9,  -999.00,  -999.00,9,        -999,         -999,9,  -999.00,  -999.00,9,       -999,9,        -999,9,   -999.0,9,   -999.0,9,   -999.0,9,     -999,9,      -999,9,  -999.00,9,  -999.00,9,  -1.5252
  32H120020718,    20,  2,      8,2,20020801, 71.6959,-152.2930, 1112,     47.0,  -1.5682,  32.3639,2,  32.4117,2,    314.3,2,    325.0,2,    32.59,2,     9.62,2,     0.15,2,     1.61,2,     1.61,2,   2144.8,2,   2257.9,2,    -1.46,2,  -999.00,  -999.00,9,  -999.00,  -999.00,9,  -999.00,  -999.00,9,        -999,         -999,9,  -999.00,  -999.00,9,  62.339385,2,  13.1796351,2,     64.7,2,      4.1,2,     15.5,2,     0.18,2,      -999,9,     0.53,2,     0.41,2,  -1.5690
  32H120020718,    20,  2,      7,2,20020801, 71.6959,-152.2930, 1112,     62.0,  -1.6541,  32.5859,2,  32.6185,2,    311.3,2,    318.7,2,    37.35,2,    11.03,2,     0.17,2,     1.72,2,     2.38,2,   2157.3,2,   2264.1,2,    -1.23,2,  -999.00,  -999.00,9,  -999.00,  -999.00,9,  -999.00,  -999.00,9,        -999,         -999,9,  -999.00,  -999.00,9, 91.9792689,2,  19.7859639,2,     64.6,2,      3.5,2,     17.0,2,     0.12,2,      -999,9,     1.24,2,     1.35,2,  -1.6552
  32H120020718,    20,  3,     10,2,20020801, 71.6959,-152.2930, 1112,     62.6,  -1.6392,  32.6007,2,-999.0000,9,    309.4,2,   -999.0,9,  -999.00,9,  -999.00,9,  -999.00,9,  -999.00,9,     -999,9,   -999.0,9,   -999.0,9,  -999.00,9,     0.83,     0.06,2,    10.40,     0.72,2,    10.46,     0.88,2, 0.954224239,  0.104964666,2,     0.63,     0.07,2,       -999,9,        -999,9,   -999.0,9,   -999.0,9,   -999.0,9,     -999,9,      -999,9,  -999.00,9,  -999.00,9,  -1.6403
  32H120020718,    20,  3,      7,2,20020801, 71.6959,-152.2930, 1112,     62.6,  -1.6393,  32.6008,2,-999.0000,9,    309.2,2,   -999.0,9,  -999.00,9,  -999.00,9,  -999.00,9,  -999.00,9,     -999,9,   -999.0,9,   -999.0,9,  -999.00,9,     0.83,     0.06,2,    10.40,     0.72,2,    10.46,     0.88,2, 0.954220332,  0.104964237,2,     0.63,     0.07,2,       -999,9,        -999,9,   -999.0,9,   -999.0,9,   -999.0,9,     -999,9,      -999,9,  -999.00,9,  -999.00,9,  -1.6404
  32H120020718,    20,  3,      8,2,20020801, 71.6959,-152.2930, 1112,     62.6,  -1.6393,  32.6010,2,-999.0000,9,    309.3,2,   -999.0,9,  -999.00,9,  -999.00,9,  -999.00,9,  -999.00,9,     -999,9,   -999.0,9,   -999.0,9,  -999.00,9,     0.83,     0.06,2,    10.40,     0.72,2,    10.46,     0.88,2,  0.95422019,  0.104964221,2,     0.63,     0.07,2,       -999,9,        -999,9,   -999.0,9,   -999.0,9,   -999.0,9,     -999,9,      -999,9,  -999.00,9,  -999.00,9,  -1.6404
  32H120020718,    20,  3,      9,2,20020801, 71.6959,-152.2930, 1112,     62.6,  -1.6401,  32.6005,2,-999.0000,9,    309.3,2,   -999.0,9,    37.60,2,    10.98,2,     0.17,2,     1.74,2,      2.4,2,   -999.0,9,   -999.0,9,  -999.00,9,     0.83,     0.06,2,    10.41,     0.72,2,    10.47,     0.88,2, 0.955149651,  0.105066462,2,     0.63,     0.07,2,       -999,9,        -999,9,   -999.0,9,   -999.0,9,   -999.0,9,     0.13,2,      -999,9,  -999.00,9,  -999.00,9,  -1.6412
  32H120020718,    20,  3,     11,2,20020801, 71.6959,-152.2930, 1112,     62.6,  -1.6409,  32.6001,2,-999.0000,9,    309.8,2,   -999.0,9,  -999.00,9,  -999.00,9,  -999.00,9,  -999.00,9,     -999,9,   -999.0,9,   -999.0,9,  -999.00,9,     0.83,     0.06,2,    10.41,     0.72,2,    10.47,     0.88,2, 0.955150931,  0.105066602,2,     0.63,     0.07,2,       -999,9,        -999,9,   -999.0,9,   -999.0,9,   -999.0,9,     -999,9,      -999,9,  -999.00,9,  -999.00,9,  -1.6420
  32H120020718,    20,  3,     12,2,20020801, 71.6959,-152.2930, 1112,     62.6,  -1.6445,  32.5986,2,-999.0000,9,    310.1,2,   -999.0,9,  -999.00,9,  -999.00,9,  -999.00,9,  -999.00,9,     -999,9,   -999.0,9,   -999.0,9,  -999.00,9,     0.83,     0.06,2,    10.41,     0.72,2,    10.47,     0.88,2, 0.955154417,  0.105066986,2,     0.63,     0.07,2,       -999,9,        -999,9,   -999.0,9,   -999.0,9,   -999.0,9,     -999,9,      -999,9,  -999.00,9,  -999.00,9,  -1.6456