BOTTLE,20090202PRINUNIVRMK
EXPOCODE,STNNBR,CASTNO,BTLNBR,BTLNBR_FLAG_W,DATE,LATITUDE,LONGITUDE,DEPTH,CTDPRS,CTDTMP,CTDSAL,CTDSAL_FLAG_W,SALNTY,SALNTY_FLAG_W,CTDOXY,CTDOXY_FLAG_W,OXYGEN,OXYGEN_FLAG_W,SILCAT,SILCAT_FLAG_W,NITRAT,NITRAT_FLAG_W,NITRIT,NITRIT_FLAG_W,PHSPHT,PHSPHT_FLAG_W,AMMONI,AMMONI_FLAG_W,TCARBN,TCARBN_FLAG_W,ALKALI,ALKALI_FLAG_W,DELO18,DELO18_FLAG_W,RA-224,RA-224E,RA-224_FLAG_W,RA-226,RA-226E,RA-226_FLAG_W,RA-228,RA-228E,RA-228_FLAG_W,RA-8/6,RA-8/6E,RA-8/6_FLAG_W,TH-228,TH-228E,TH-228_FLAG_W,POC,POC_FLAG_W,PON,PON_FLAG_W,DOC,DOC_FLAG_W,DON,DON_FLAG_W,TDN,TDN_FLAG_W,UREA,UREA_FLAG_W,LIGNIN,LIGNIN_FLAG_W,CHLORA,CHLORA_FLAG_W,PHAEO,PHAEO_FLAG_W,THETA
,,,,,,,,METERS,DBARS,ITS-90,PSS-78,,PSS-78,,UMOL/KG,,UMOL/KG,,UMOL/KG,,UMOL/KG,,UMOL/KG,,UMOL/KG,,UMOL/KG,,UMOL/KG,,UMOL/KG,,O/OO,,DPM/100KG,DPM/100KG,,DPM/100KG,DPM/100KG,,DPM/100KG,DPM/100KG,,,,,DPM/100KG,DPM/100KG,,ug/kg,,ug/kg,,UMOL/KG,,UMOL/KG,,UMOL/KG,,UMOL/KG,,NG/KG,,UG/L,,UG/L,,DEGC
  32H120020718,    40,  1,     12,2,20020819, 72.9112,-161.9460,   72,      2.2,  -0.0659,  27.8132,2,  27.8123,2,    371.3,2,   -999.0,9,     3.04,2,     0.04,2,     0.00,2,     0.66,2,        0,2,   1875.7,2,   2024.2,2,  -999.00,9,  -999.00,  -999.00,9,  -999.00,  -999.00,9,  -999.00,  -999.00,9,        -999,         -999,9,  -999.00,  -999.00,9, 51.4181158,2,  8.80023213,2,     68.2,2,      4.1,2,      4.1,2,     0.01,2,      -999,9,     1.79,2,     0.19,2,  -0.0659
  32H120020718,    40,  1,     11,2,20020819, 72.9112,-161.9460,   72,     11.0,  -0.7452,  30.2304,2,  28.8475,2,    430.0,2,    415.6,2,     6.62,2,     0.00,2,     0.00,2,     0.73,2,        0,2,   1891.7,2,   2060.6,2,  -999.00,9,  -999.00,  -999.00,9,  -999.00,  -999.00,9,  -999.00,  -999.00,9,        -999,         -999,9,  -999.00,  -999.00,9, 61.9560065,2,  10.8913292,2,     70.3,2,      4.6,2,      4.6,2,     0.01,2,      -999,9,     1.82,2,     0.23,2,  -0.7454
  32H120020718,    40,  1,     10,2,20020819, 72.9112,-161.9460,   72,     21.1,  -1.4608,  32.0825,2,  32.0638,2,    419.0,2,    463.9,2,     9.80,2,    -0.01,2,     0.00,2,     0.91,2,        0,2,   -999.0,9,   2252.6,2,  -999.00,9,  -999.00,  -999.00,9,  -999.00,  -999.00,9,  -999.00,  -999.00,9,        -999,         -999,9,  -999.00,  -999.00,9, 519.517056,2,  82.4919139,2,     76.4,2,      6.6,2,      6.6,2,     0.03,2,      -999,9,     1.80,2,     2.54,2,  -1.4612
  32H120020718,    40,  1,      9,2,20020819, 72.9112,-161.9460,   72,     31.0,  -0.2314,  32.6349,2,  32.6079,2,    379.5,2,    384.5,2,     9.98,2,     3.00,2,     0.04,2,     0.94,2,     0.59,2,   -999.0,9,   -999.0,9,  -999.00,9,  -999.00,  -999.00,9,  -999.00,  -999.00,9,  -999.00,  -999.00,9,        -999,         -999,9,  -999.00,  -999.00,9,       -999,9,        -999,9,     69.9,2,      5.3,2,      8.9,2,     0.04,2,      -999,9,     1.66,2,     0.93,2,  -0.2323
  32H120020718,    40,  1,      8,2,20020819, 72.9112,-161.9460,   72,     41.5,  -0.4738,  32.8827,2,  32.8804,2,    293.2,2,    301.2,2,     4.83,2,     6.25,2,     0.08,2,     1.61,2,     4.27,2,   2138.6,2,   2291.8,2,  -999.00,9,  -999.00,  -999.00,9,  -999.00,  -999.00,9,  -999.00,  -999.00,9,        -999,         -999,9,  -999.00,  -999.00,9, 130.391805,2,  23.4081704,2,     64.0,2,      5.5,2,     16.1,2,     0.42,2,      -999,9,     1.66,2,     0.86,2,  -0.4750
  32H120020718,    40,  1,      7,2,20020819, 72.9112,-161.9460,   72,     50.4,  -0.4799,  32.8858,2,  32.8858,2,    291.7,2,    298.5,2,     5.02,2,     6.58,2,     0.09,2,     1.66,2,     4.54,2,   -999.0,9,   -999.0,9,  -999.00,9,  -999.00,  -999.00,9,  -999.00,  -999.00,9,  -999.00,  -999.00,9,        -999,         -999,9,  -999.00,  -999.00,9,       -999,9,        -999,9,   -999.0,9,   -999.0,9,   -999.0,9,     0.43,2,      -999,9,     1.61,2,     0.74,2,  -0.4813
  32H120020718,    40,  1,      6,2,20020819, 72.9112,-161.9460,   72,     60.6,  -0.4753,  32.8854,2,  32.8911,0,    291.3,2,    297.0,2,     4.91,2,     6.57,2,     0.09,2,     1.66,2,     4.61,2,   -999.0,9,   -999.0,9,  -999.00,9,  -999.00,  -999.00,9,  -999.00,  -999.00,9,  -999.00,  -999.00,9,        -999,         -999,9,  -999.00,  -999.00,9,       -999,9,        -999,9,   -999.0,9,   -999.0,9,   -999.0,9,     0.45,2,      -999,9,     1.57,2,     0.73,2,  -0.4770
  32H120020718,    40,  1,      2,2,20020819, 72.9112,-161.9460,   72,     66.9,  -0.4734,  32.8848,2,-999.0000,9,    291.6,2,   -999.0,9,  -999.00,9,  -999.00,9,  -999.00,9,  -999.00,9,     -999,9,   -999.0,9,   -999.0,9,  -999.00,9,  -999.00,  -999.00,9,  -999.00,  -999.00,9,  -999.00,  -999.00,9,        -999,         -999,9,  -999.00,  -999.00,9,       -999,9,        -999,9,   -999.0,9,   -999.0,9,   -999.0,9,     -999,9,      -999,9,  -999.00,9,  -999.00,9,  -0.4753
  32H120020718,    40,  1,      1,2,20020819, 72.9112,-161.9460,   72,     66.9,  -0.4743,  32.8850,2,  32.8857,2,    291.4,2,    297.9,2,     4.98,2,     6.77,2,     0.08,2,     1.66,2,     4.55,2,   -999.0,9,   -999.0,9,  -999.00,9,  -999.00,  -999.00,9,  -999.00,  -999.00,9,  -999.00,  -999.00,9,        -999,         -999,9,  -999.00,  -999.00,9,       -999,9,        -999,9,   -999.0,9,   -999.0,9,   -999.0,9,     0.55,2,      -999,9,  -999.00,9,  -999.00,9,  -0.4762
  32H120020718,    40,  1,      4,2,20020819, 72.9112,-161.9460,   72,     67.0,  -0.4646,  32.8838,2,-999.0000,9,    291.3,2,   -999.0,9,  -999.00,9,  -999.00,9,  -999.00,9,  -999.00,9,     -999,9,   -999.0,9,   -999.0,9,  -999.00,9,  -999.00,  -999.00,9,  -999.00,  -999.00,9,  -999.00,  -999.00,9,        -999,         -999,9,  -999.00,  -999.00,9,       -999,9,        -999,9,     64.2,2,   -999.0,9,   -999.0,9,     -999,9,      -999,9,  -999.00,9,  -999.00,9,  -0.4665
  32H120020718,    40,  1,      5,2,20020819, 72.9112,-161.9460,   72,     67.0,  -0.4660,  32.8842,2,  32.8839,2,    291.5,2,    297.2,2,     4.80,2,     6.61,2,     0.09,2,     1.65,2,     4.56,2,   2138.7,2,   2281.6,2,  -999.00,9,  -999.00,  -999.00,9,  -999.00,  -999.00,9,  -999.00,  -999.00,9,        -999,         -999,9,  -999.00,  -999.00,9, 122.054359,2,  20.1045948,2,   -999.0,9,      6.7,2,     17.9,2,     0.49,2,      -999,9,     1.58,2,     0.83,2,  -0.4679
  32H120020718,    40,  1,      3,2,20020819, 72.9112,-161.9460,   72,     67.0,  -0.4706,  32.8844,2,-999.0000,9,    291.7,2,   -999.0,9,  -999.00,9,  -999.00,9,  -999.00,9,  -999.00,9,     -999,9,   -999.0,9,   -999.0,9,  -999.00,9,  -999.00,  -999.00,9,  -999.00,  -999.00,9,  -999.00,  -999.00,9,        -999,         -999,9,  -999.00,  -999.00,9,       -999,9,        -999,9,   -999.0,9,   -999.0,9,   -999.0,9,     -999,9,      -999,9,  -999.00,9,  -999.00,9,  -0.4725
  32H120020718,    41,  1,     12,2,20020819, 73.0918,-162.8850,  130,      3.5,  -0.1099,  27.9812,2,  27.9801,2,    367.4,2,    375.3,2,     3.12,2,     0.10,2,     0.05,2,     0.72,2,     0.02,2,   -999.0,9,   -999.0,9,  -999.00,9,  -999.00,  -999.00,9,  -999.00,  -999.00,9,  -999.00,  -999.00,9,        -999,         -999,9,  -999.00,  -999.00,9,       -999,9,        -999,9,     69.9,2,      4.5,2,      4.7,2,     0.06,2,      -999,9,     0.18,2,     0.11,2,  -0.1100
  32H120020718,    41, 99,      1,9,20020819, 73.0918,-162.8850,  130,      8.1,-999.0000,-999.0000,9,-999.0000,9,   -999.0,9,   -999.0,9,  -999.00,9,  -999.00,9,  -999.00,9,  -999.00,9,     -999,9,   -999.0,9,   -999.0,9,  -999.00,9,     1.70,     0.09,2,     6.96,     0.06,2,     3.45,     0.62,2, 0.477960196, 0.0860328352,2,     1.48,     0.08,2,       -999,9,        -999,9,   -999.0,9,   -999.0,9,   -999.0,9,     -999,9,      -999,9,  -999.00,9,  -999.00,9,-999.0000
  32H120020718,    41,  1,     11,2,20020819, 73.0918,-162.8850,  130,     11.5,  -0.1122,  27.9804,2,  27.9795,2,    367.4,2,    375.6,2,     3.12,2,     0.14,2,     0.01,2,     0.72,2,        0,2,   -999.0,9,   -999.0,9,  -999.00,9,  -999.00,  -999.00,9,  -999.00,  -999.00,9,  -999.00,  -999.00,9,        -999,         -999,9,  -999.00,  -999.00,9,       -999,9,        -999,9,     68.6,2,      5.2,2,      5.3,2,     0.05,2,      -999,9,     0.15,2,     0.09,2,  -0.1124
  32H120020718,    41,  1,     10,2,20020819, 73.0918,-162.8850,  130,     21.6,  -0.1266,  28.0148,2,  27.9970,2,    369.2,2,    376.4,2,     3.11,2,     0.13,2,     0.01,2,     0.71,2,      0.4,2,   -999.0,9,   -999.0,9,  -999.00,9,  -999.00,  -999.00,9,  -999.00,  -999.00,9,  -999.00,  -999.00,9,        -999,         -999,9,  -999.00,  -999.00,9,       -999,9,        -999,9,     69.2,2,      5.8,2,      6.3,2,     0.04,2,      -999,9,     0.14,2,     0.09,2,  -0.1271
  32H120020718,    41,  1,      9,2,20020819, 73.0918,-162.8850,  130,     32.0,  -1.1198,  31.1756,2,  31.1300,2,    395.0,2,    412.1,2,     6.77,2,     0.18,2,     0.01,2,     0.84,2,     0.02,2,   -999.0,9,   -999.0,9,  -999.00,9,  -999.00,  -999.00,9,  -999.00,  -999.00,9,  -999.00,  -999.00,9,        -999,         -999,9,  -999.00,  -999.00,9,       -999,9,        -999,9,     72.0,2,      8.2,2,      8.4,2,     0.07,2,      -999,9,     2.67,2,     1.24,2,  -1.1204
  32H120020718,    41,  1,      8,2,20020819, 73.0918,-162.8850,  130,     41.9,  -1.0842,  31.6823,2,  31.6473,2,    358.4,2,    373.5,2,    10.74,2,     2.64,2,     0.18,2,     1.11,2,     0.14,2,   -999.0,9,   -999.0,9,  -999.00,9,  -999.00,  -999.00,9,  -999.00,  -999.00,9,  -999.00,  -999.00,9,        -999,         -999,9,  -999.00,  -999.00,9,       -999,9,        -999,9,     69.7,2,      7.5,2,     10.4,2,     0.07,2,      -999,9,     2.23,2,     1.21,2,  -1.0851
  32H120020718,    41,  1,      7,2,20020819, 73.0918,-162.8850,  130,     52.2,  -1.4718,  32.0335,2,  32.0291,2,    330.3,2,    341.0,2,    21.36,2,     6.70,2,     0.17,2,     1.41,2,      0.6,2,   -999.0,9,   -999.0,9,  -999.00,9,  -999.00,  -999.00,9,  -999.00,  -999.00,9,  -999.00,  -999.00,9,        -999,         -999,9,  -999.00,  -999.00,9,       -999,9,        -999,9,     67.4,2,      4.0,2,     11.4,2,     0.06,2,      -999,9,     0.28,2,     0.38,2,  -1.4727
  32H120020718,    41,  1,      6,2,20020819, 73.0918,-162.8850,  130,     62.4,  -1.5277,  32.3116,2,  32.2864,2,    310.8,2,    321.7,2,    27.22,2,     9.25,2,     0.14,2,     1.58,2,     0.47,2,   -999.0,9,   -999.0,9,  -999.00,9,  -999.00,  -999.00,9,  -999.00,  -999.00,9,  -999.00,  -999.00,9,        -999,         -999,9,  -999.00,  -999.00,9,       -999,9,        -999,9,     68.2,2,      6.6,2,     16.4,2,     0.05,2,      -999,9,     0.11,2,     0.17,2,  -1.5288
  32H120020718,    41,  1,      5,2,20020819, 73.0918,-162.8850,  130,     72.3,  -1.5839,  32.4994,2,  32.5108,2,    289.7,2,    296.3,2,    36.47,2,    12.46,2,     0.14,2,     1.82,2,     0.45,2,   -999.0,9,   -999.0,9,  -999.00,9,  -999.00,  -999.00,9,  -999.00,  -999.00,9,  -999.00,  -999.00,9,        -999,         -999,9,  -999.00,  -999.00,9,       -999,9,        -999,9,     66.5,2,      5.4,2,     18.4,2,     0.05,2,      -999,9,     0.14,2,     0.22,2,  -1.5852
  32H120020718,    41,  1,      4,2,20020819, 73.0918,-162.8850,  130,     82.2,  -1.6200,  32.8300,2,  32.8278,2,    271.9,2,    281.1,2,    45.35,2,    15.04,2,     0.18,2,     2.07,2,     0.72,2,   -999.0,9,   -999.0,9,  -999.00,9,  -999.00,  -999.00,9,  -999.00,  -999.00,9,  -999.00,  -999.00,9,        -999,         -999,9,  -999.00,  -999.00,9,       -999,9,        -999,9,     64.0,2,      5.6,2,     21.5,2,     0.05,2,      -999,9,     0.09,2,     0.20,2,  -1.6215
  32H120020718,    41,  1,      3,2,20020819, 73.0918,-162.8850,  130,     92.0,  -1.6289,  33.0029,2,  32.9919,2,    269.7,2,    277.0,2,    49.01,2,    15.93,2,     0.21,2,     2.17,2,     1.17,2,   -999.0,9,   -999.0,9,  -999.00,9,  -999.00,  -999.00,9,  -999.00,  -999.00,9,  -999.00,  -999.00,9,        -999,         -999,9,  -999.00,  -999.00,9,       -999,9,        -999,9,   -999.0,9,   -999.0,9,   -999.0,9,     0.02,2,      -999,9,     0.09,2,     0.17,2,  -1.6306
  32H120020718,    41,  2,     12,2,20020819, 73.0918,-162.8850,  130,    101.8,  -1.6381,  33.0317,2,-999.0000,9,    269.5,2,   -999.0,9,    48.60,2,    15.77,2,     0.21,2,     2.16,2,     1.18,2,   -999.0,9,   -999.0,9,  -999.00,9,     0.87,     0.12,2,     9.65,     0.39,2,     8.93,     0.82,2, 0.888830639, 0.0860158682,2,     0.71,     0.11,2,       -999,9,        -999,9,   -999.0,9,   -999.0,9,   -999.0,9,     0.02,2,      -999,9,  -999.00,9,  -999.00,9,  -1.6400
  32H120020718,    41,  2,     11,2,20020819, 73.0918,-162.8850,  130,    101.9,  -1.6368,  33.0220,2,-999.0000,9,    269.7,2,   -999.0,9,  -999.00,9,  -999.00,9,  -999.00,9,  -999.00,9,     -999,9,   -999.0,9,   -999.0,9,  -999.00,9,     0.87,     0.12,2,     9.65,     0.39,2,     8.93,     0.82,2, 0.888836794,  0.086016464,2,     0.71,     0.11,2,       -999,9,        -999,9,   -999.0,9,   -999.0,9,   -999.0,9,     -999,9,      -999,9,  -999.00,9,  -999.00,9,  -1.6387
  32H120020718,    41,  2,      7,2,20020819, 73.0918,-162.8850,  130,    102.0,  -1.6340,  33.0141,2,-999.0000,9,    270.1,2,   -999.0,9,  -999.00,9,  -999.00,9,  -999.00,9,  -999.00,9,     -999,9,   -999.0,9,   -999.0,9,  -999.00,9,     0.87,     0.12,2,     9.65,     0.39,2,     8.93,     0.82,2,  0.88884156, 0.0860169252,2,     0.71,     0.11,2,       -999,9,        -999,9,   -999.0,9,   -999.0,9,   -999.0,9,     -999,9,      -999,9,  -999.00,9,  -999.00,9,  -1.6359
  32H120020718,    41,  2,     10,2,20020819, 73.0918,-162.8850,  130,    102.0,  -1.6363,  33.0255,2,-999.0000,9,    269.6,2,   -999.0,9,  -999.00,9,  -999.00,9,  -999.00,9,  -999.00,9,     -999,9,   -999.0,9,   -999.0,9,  -999.00,9,     0.87,     0.12,2,     9.65,     0.39,2,     8.93,     0.82,2, 0.888835007,  0.086016291,2,     0.71,     0.11,2,       -999,9,        -999,9,   -999.0,9,   -999.0,9,   -999.0,9,     -999,9,      -999,9,  -999.00,9,  -999.00,9,  -1.6382
  32H120020718,    41,  2,      8,2,20020819, 73.0918,-162.8850,  130,    102.1,  -1.6347,  33.0174,2,-999.0000,9,    269.7,2,   -999.0,9,  -999.00,9,  -999.00,9,  -999.00,9,  -999.00,9,     -999,9,   -999.0,9,   -999.0,9,  -999.00,9,     0.87,     0.12,2,     9.65,     0.39,2,     8.93,     0.82,2, 0.888837919, 0.0860165728,2,     0.71,     0.11,2,       -999,9,        -999,9,   -999.0,9,   -999.0,9,   -999.0,9,     -999,9,      -999,9,  -999.00,9,  -999.00,9,  -1.6366
  32H120020718,    41,  2,      9,2,20020819, 73.0918,-162.8850,  130,    102.2,  -1.6356,  33.0235,2,-999.0000,9,    269.6,2,   -999.0,9,  -999.00,9,  -999.00,9,  -999.00,9,  -999.00,9,     -999,9,   -999.0,9,   -999.0,9,  -999.00,9,     0.87,     0.12,2,     9.69,     0.39,2,     8.96,     0.82,2, 0.891874106, 0.0863103974,2,     0.72,     0.11,2,       -999,9,        -999,9,   -999.0,9,   -999.0,9,   -999.0,9,     -999,9,      -999,9,  -999.00,9,  -999.00,9,  -1.6375
  32H120020718,    41,  1,      2,2,20020819, 73.0918,-162.8850,  130,    103.3,  -1.6192,  33.1499,2,  33.1187,2,    267.9,2,    276.1,2,    49.99,2,    16.01,2,     0.22,2,     2.20,2,     1.43,2,   -999.0,9,   -999.0,9,  -999.00,9,  -999.00,  -999.00,9,  -999.00,  -999.00,9,  -999.00,  -999.00,9,        -999,         -999,9,  -999.00,  -999.00,9,       -999,9,        -999,9,     61.1,2,      6.2,2,     23.8,2,     0.01,2,      -999,9,     0.10,2,     0.27,2,  -1.6212
  32H120020718,    41,  1,      1,2,20020819, 73.0918,-162.8850,  130,    122.1,  -1.1975,  33.6335,2,  33.6091,2,    263.6,2,    270.3,2,    41.85,2,    15.24,2,     0.20,2,     2.00,2,     1.07,2,   -999.0,9,   -999.0,9,  -999.00,9,  -999.00,  -999.00,9,  -999.00,  -999.00,9,  -999.00,  -999.00,9,        -999,         -999,9,  -999.00,  -999.00,9,       -999,9,        -999,9,   -999.0,9,   -999.0,9,   -999.0,9,     0.04,2,      -999,9,     0.08,2,     0.28,2,  -1.2004
  32H120020718,    41,  2,      6,2,20020819, 73.0918,-162.8850,  130,    141.9,  -0.7439,  34.0064,2,-999.0000,9,    263.5,2,   -999.0,9,  -999.00,9,  -999.00,9,  -999.00,9,  -999.00,9,     -999,9,   -999.0,9,   -999.0,9,  -999.00,9,     4.04,     0.19,2,     8.64,     0.33,2,     6.58,     0.69,2, 0.726305205, 0.0860098269,2,     2.81,     0.46,2,       -999,9,        -999,9,   -999.0,9,   -999.0,9,   -999.0,9,     -999,9,      -999,9,  -999.00,9,  -999.00,9,  -0.7480
  32H120020718,    41,  2,      3,2,20020819, 73.0918,-162.8850,  130,    142.2,  -0.7574,  33.9963,2,-999.0000,9,    263.5,2,   -999.0,9,  -999.00,9,  -999.00,9,  -999.00,9,  -999.00,9,     -999,9,   -999.0,9,   -999.0,9,  -999.00,9,     4.04,     0.19,2,     8.64,     0.33,2,     6.58,     0.69,2, 0.726047206, 0.0859792744,2,     2.81,     0.46,2,       -999,9,        -999,9,   -999.0,9,   -999.0,9,   -999.0,9,     -999,9,      -999,9,  -999.00,9,  -999.00,9,  -0.7615
  32H120020718,    41,  2,      5,2,20020819, 73.0918,-162.8850,  130,    142.2,  -0.7940,  33.9656,2,-999.0000,9,    263.6,2,   -999.0,9,  -999.00,9,  -999.00,9,  -999.00,9,  -999.00,9,     -999,9,   -999.0,9,   -999.0,9,  -999.00,9,     4.04,     0.19,2,     8.64,     0.33,2,     6.58,     0.69,2, 0.725953638,  0.085968194,2,     2.81,     0.46,2,       -999,9,        -999,9,   -999.0,9,   -999.0,9,   -999.0,9,     -999,9,      -999,9,  -999.00,9,  -999.00,9,  -0.7980
  32H120020718,    41,  2,      1,2,20020819, 73.0918,-162.8850,  130,    142.3,  -0.7385,  34.0114,2,-999.0000,9,    263.7,2,   -999.0,9,    32.15,2,    14.14,2,     0.16,2,     1.74,2,      0.6,2,   -999.0,9,   -999.0,9,  -999.00,9,     4.04,     0.19,2,     8.63,     0.33,2,     6.58,     0.69,2,  0.72584648, 0.0859555042,2,     2.81,     0.46,2,       -999,9,        -999,9,   -999.0,9,   -999.0,9,   -999.0,9,     0.06,2,      -999,9,  -999.00,9,  -999.00,9,  -0.7426
  32H120020718,    41,  2,      2,2,20020819, 73.0918,-162.8850,  130,    142.3,  -0.7392,  34.0107,2,-999.0000,9,    263.6,2,   -999.0,9,  -999.00,9,  -999.00,9,  -999.00,9,  -999.00,9,     -999,9,   -999.0,9,   -999.0,9,  -999.00,9,     4.04,     0.19,2,     8.63,     0.33,2,     6.58,     0.69,2, 0.725766684, 0.0859460547,2,     2.81,     0.46,2,       -999,9,        -999,9,   -999.0,9,   -999.0,9,   -999.0,9,     -999,9,      -999,9,  -999.00,9,  -999.00,9,  -0.7433
  32H120020718,    41,  2,      4,2,20020819, 73.0918,-162.8850,  130,    142.4,  -0.7760,  33.9806,2,-999.0000,9,    263.6,2,   -999.0,9,  -999.00,9,  -999.00,9,  -999.00,9,  -999.00,9,     -999,9,   -999.0,9,   -999.0,9,  -999.00,9,     4.04,     0.19,2,     8.63,     0.33,2,     6.58,     0.69,2, 0.725629603, 0.0859298214,2,     2.81,     0.46,2,       -999,9,        -999,9,   -999.0,9,   -999.0,9,   -999.0,9,     -999,9,      -999,9,  -999.00,9,  -999.00,9,  -0.7801
  32H120020718,    42,  1,     12,2,20020819, 73.3109,-164.4890,   74,      2.2,   0.1996,  27.7177,2,-999.0000,9,    364.4,2,   -999.0,9,  -999.00,9,  -999.00,9,  -999.00,9,  -999.00,9,     -999,9,   -999.0,9,   -999.0,9,  -999.00,9,  -999.00,  -999.00,9,  -999.00,  -999.00,9,  -999.00,  -999.00,9,        -999,         -999,9,  -999.00,  -999.00,9,       -999,9,        -999,9,   -999.0,9,   -999.0,9,   -999.0,9,     -999,9,      -999,9,  -999.00,9,  -999.00,9,   0.1995
  32H120020718,    42,  1,     11,2,20020819, 73.3109,-164.4890,   74,      2.2,   0.2116,  27.7176,2,  27.7166,2,    364.7,2,    371.5,2,     2.87,2,     0.07,2,     0.00,2,     0.65,2,     0.03,2,   1879.5,2,   -999.0,9,  -999.00,9,  -999.00,  -999.00,9,  -999.00,  -999.00,9,  -999.00,  -999.00,9,        -999,         -999,9,  -999.00,  -999.00,9,       -999,9,        -999,9,   -999.0,9,   -999.0,9,   -999.0,9,        0,2,      -999,9,     0.09,2,     0.06,2,   0.2115