BOTTLE,20090202PRINUNIVRMK
EXPOCODE,STNNBR,CASTNO,BTLNBR,BTLNBR_FLAG_W,DATE,LATITUDE,LONGITUDE,DEPTH,CTDPRS,CTDTMP,CTDSAL,CTDSAL_FLAG_W,SALNTY,SALNTY_FLAG_W,CTDOXY,CTDOXY_FLAG_W,OXYGEN,OXYGEN_FLAG_W,SILCAT,SILCAT_FLAG_W,NITRAT,NITRAT_FLAG_W,NITRIT,NITRIT_FLAG_W,PHSPHT,PHSPHT_FLAG_W,AMMONI,AMMONI_FLAG_W,TCARBN,TCARBN_FLAG_W,ALKALI,ALKALI_FLAG_W,DELO18,DELO18_FLAG_W,RA-224,RA-224E,RA-224_FLAG_W,RA-226,RA-226E,RA-226_FLAG_W,RA-228,RA-228E,RA-228_FLAG_W,RA-8/6,RA-8/6E,RA-8/6_FLAG_W,TH-228,TH-228E,TH-228_FLAG_W,POC,POC_FLAG_W,PON,PON_FLAG_W,DOC,DOC_FLAG_W,DON,DON_FLAG_W,TDN,TDN_FLAG_W,UREA,UREA_FLAG_W,LIGNIN,LIGNIN_FLAG_W,CHLORA,CHLORA_FLAG_W,PHAEO,PHAEO_FLAG_W,THETA
,,,,,,,,METERS,DBARS,ITS-90,PSS-78,,PSS-78,,UMOL/KG,,UMOL/KG,,UMOL/KG,,UMOL/KG,,UMOL/KG,,UMOL/KG,,UMOL/KG,,UMOL/KG,,UMOL/KG,,O/OO,,DPM/100KG,DPM/100KG,,DPM/100KG,DPM/100KG,,DPM/100KG,DPM/100KG,,,,,DPM/100KG,DPM/100KG,,ug/kg,,ug/kg,,UMOL/KG,,UMOL/KG,,UMOL/KG,,UMOL/KG,,NG/KG,,UG/L,,UG/L,,DEGC
  32H120020718,    33,  4,      1,2,20020814, 73.4972,-159.5480, 2251,    184.1,  -1.2155,  33.8357,2,-999.0000,9,    261.8,2,   -999.0,9,    28.10,2,    14.55,2,  -999.00,5,     1.55,2,        0,2,   -999.0,9,   -999.0,9,  -999.00,9,     1.78,     0.13,2,     5.13,     0.15,2,     2.78,     0.59,2, 0.514736407,  0.114385868,2,     1.32,     0.38,2,       -999,9,        -999,9,   -999.0,9,   -999.0,9,   -999.0,9,     0.04,2,      -999,9,  -999.00,9,  -999.00,9,  -1.2201
  32H120020718,    33,  4,      2,2,20020814, 73.4972,-159.5480, 2251,    184.2,  -1.2160,  33.8384,2,-999.0000,9,    261.6,2,   -999.0,9,  -999.00,9,  -999.00,9,  -999.00,9,  -999.00,9,     -999,9,   -999.0,9,   -999.0,9,  -999.00,9,     1.78,     0.13,2,     5.13,     0.15,2,     2.78,     0.59,2, 0.514714221,  0.114380938,2,     1.32,     0.38,2,       -999,9,        -999,9,   -999.0,9,   -999.0,9,   -999.0,9,     -999,9,      -999,9,  -999.00,9,  -999.00,9,  -1.2206
  32H120020718,    33,  4,      3,2,20020814, 73.4972,-159.5480, 2251,    184.2,  -1.2165,  33.8424,2,-999.0000,9,    262.6,2,   -999.0,9,  -999.00,9,  -999.00,9,  -999.00,9,  -999.00,9,     -999,9,   -999.0,9,   -999.0,9,  -999.00,9,     1.78,     0.13,2,     5.13,     0.15,2,     2.78,     0.59,2, 0.514706251,  0.114379167,2,     1.32,     0.38,2,       -999,9,        -999,9,   -999.0,9,   -999.0,9,   -999.0,9,     -999,9,      -999,9,  -999.00,9,  -999.00,9,  -1.2211
  32H120020718,    33,  4,      4,2,20020814, 73.4972,-159.5480, 2251,    184.3,  -1.2168,  33.8459,2,-999.0000,9,    262.8,2,   -999.0,9,  -999.00,9,  -999.00,9,  -999.00,9,  -999.00,9,     -999,9,   -999.0,9,   -999.0,9,  -999.00,9,     1.78,     0.13,2,     5.13,     0.15,2,     2.78,     0.59,2, 0.514684258,   0.11437428,2,     1.32,     0.38,2,       -999,9,        -999,9,   -999.0,9,   -999.0,9,   -999.0,9,     -999,9,      -999,9,  -999.00,9,  -999.00,9,  -1.2214
  32H120020718,    33,  4,      6,2,20020814, 73.4972,-159.5480, 2251,    184.3,  -1.2170,  33.8472,2,-999.0000,9,    262.7,2,   -999.0,9,  -999.00,9,  -999.00,9,  -999.00,9,  -999.00,9,     -999,9,   -999.0,9,   -999.0,9,  -999.00,9,     1.79,     0.13,2,     5.16,     0.15,2,     2.80,     0.59,2, 0.517579391,  0.115017642,2,     1.32,     0.38,2,       -999,9,        -999,9,   -999.0,9,   -999.0,9,   -999.0,9,     -999,9,      -999,9,  -999.00,9,  -999.00,9,  -1.2216
  32H120020718,    33,  4,      5,2,20020814, 73.4972,-159.5480, 2251,    184.3,  -1.2170,  33.8475,2,-999.0000,9,    262.5,2,   -999.0,9,  -999.00,9,  -999.00,9,  -999.00,9,  -999.00,9,     -999,9,   -999.0,9,   -999.0,9,  -999.00,9,     1.79,     0.13,2,     5.16,     0.15,2,     2.80,     0.59,2, 0.517553299,  0.115011844,2,     1.32,     0.38,2,       -999,9,        -999,9,   -999.0,9,   -999.0,9,   -999.0,9,     -999,9,      -999,9,  -999.00,9,  -999.00,9,  -1.2216
  32H120020718,    33,  2,      3,2,20020814, 73.4972,-159.5480, 2251,    186.6,  -1.1804,  33.9636,2,  33.9540,2,    261.6,2,    271.4,2,    23.02,2,    13.51,2,     0.00,2,     1.35,2,        0,2,   -999.0,9,   2307.4,2,  -999.00,9,  -999.00,  -999.00,9,  -999.00,  -999.00,9,  -999.00,  -999.00,9,        -999,         -999,9,  -999.00,  -999.00,9, 9.56086757,2,  2.35359483,2,     59.4,2,      2.9,2,     16.4,2,     0.01,2,      -999,9,     0.01,2,     0.02,2,  -1.1851
  32H120020718,    33,  5,      1,2,20020814, 73.4972,-159.5480, 2251,    197.5,  -1.0816,  34.1032,2,-999.0000,9,    260.1,2,   -999.0,9,  -999.00,9,  -999.00,9,  -999.00,9,  -999.00,9,     -999,9,   -999.0,9,   -999.0,9,  -999.00,9,  -999.00,  -999.00,9,  -999.00,  -999.00,9,  -999.00,  -999.00,9,        -999,         -999,9,  -999.00,  -999.00,9,       -999,9,        -999,9,   -999.0,9,   -999.0,9,   -999.0,9,     -999,9,      -999,9,  -999.00,9,  -999.00,9,  -1.0869
  32H120020718,    33,  2,      2,2,20020814, 73.4972,-159.5480, 2251,    211.4,  -0.7568,  34.3049,2,  34.3052,2,    268.2,2,    277.4,2,    13.80,2,    12.11,2,     0.01,2,     1.04,2,     0.02,2,   -999.0,9,   -999.0,9,  -999.00,9,  -999.00,  -999.00,9,  -999.00,  -999.00,9,  -999.00,  -999.00,9,        -999,         -999,9,  -999.00,  -999.00,9,       -999,9,        -999,9,     57.5,2,      5.0,2,     17.1,2,     0.04,2,      -999,9,     0.00,2,     0.02,2,  -0.7631
  32H120020718,    33,  2,      1,2,20020814, 73.4972,-159.5480, 2251,    236.6,  -0.2914,  34.4686,2,  34.4636,2,    276.4,2,    285.7,2,     9.31,2,    11.43,2,     0.00,2,     0.89,2,        0,2,   2156.6,2,   2319.4,2,  -999.00,9,  -999.00,  -999.00,9,  -999.00,  -999.00,9,  -999.00,  -999.00,9,        -999,         -999,9,  -999.00,  -999.00,9, 6.27713669,2,  1.29837902,2,     55.2,2,      2.7,2,     14.1,2,     0.01,2,      -999,9,     0.00,2,     0.02,2,  -0.2996
  32H120020718,    33,  1,     12,2,20020814, 73.4972,-159.5480, 2251,    251.6,  -0.0110,  34.5423,2,  34.5400,2,    278.6,2,    288.0,2,     8.48,2,    11.50,2,     0.00,2,     0.87,2,        0,2,   2169.1,2,   2296.7,2,  -999.00,9,  -999.00,  -999.00,9,  -999.00,  -999.00,9,  -999.00,  -999.00,9,        -999,         -999,9,  -999.00,  -999.00,9, 5.78868901,2,   1.0737857,2,     53.6,2,      2.7,2,     14.1,2,        0,2,      -999,9,  -999.00,9,  -999.00,9,  -0.0203
  32H120020718,    33,  3,      1,2,20020814, 73.4972,-159.5480, 2251,    254.8,   0.0938,  34.5718,2,-999.0000,9,    280.2,2,   -999.0,9,  -999.00,9,  -999.00,9,  -999.00,9,  -999.00,9,     -999,9,   -999.0,9,   -999.0,9,  -999.00,9,     1.14,     0.10,2,     4.70,     0.17,2,     0.12,     0.02,2,0.0286142259,0.00381523012,2,     1.08,     0.07,2,       -999,9,        -999,9,   -999.0,9,   -999.0,9,   -999.0,9,     -999,9,      -999,9,  -999.00,9,  -999.00,9,   0.0841
  32H120020718,    33,  3,      6,2,20020814, 73.4972,-159.5480, 2251,    254.9,   0.0866,  34.5702,2,-999.0000,9,    279.8,2,   -999.0,9,  -999.00,9,  -999.00,9,  -999.00,9,  -999.00,9,     -999,9,   -999.0,9,   -999.0,9,  -999.00,9,     1.14,     0.10,2,     4.70,     0.17,2,     0.12,     0.02,2,0.0286043433,0.00381391243,2,     1.08,     0.07,2,       -999,9,        -999,9,   -999.0,9,   -999.0,9,   -999.0,9,     -999,9,      -999,9,  -999.00,9,  -999.00,9,   0.0769
  32H120020718,    33,  3,      5,2,20020814, 73.4972,-159.5480, 2251,    254.9,   0.0873,  34.5702,2,-999.0000,9,    279.3,2,   -999.0,9,  -999.00,9,  -999.00,9,  -999.00,9,  -999.00,9,     -999,9,   -999.0,9,   -999.0,9,  -999.00,9,     1.14,     0.10,2,     4.70,     0.17,2,     0.12,     0.02,2, 0.028595093,0.00381267907,2,     1.08,     0.07,2,       -999,9,        -999,9,   -999.0,9,   -999.0,9,   -999.0,9,     -999,9,      -999,9,  -999.00,9,  -999.00,9,   0.0776
  32H120020718,    33,  3,      4,2,20020814, 73.4972,-159.5480, 2251,    254.9,   0.0878,  34.5700,2,-999.0000,9,    279.6,2,   -999.0,9,  -999.00,9,  -999.00,9,  -999.00,9,  -999.00,9,     -999,9,   -999.0,9,   -999.0,9,  -999.00,9,     1.14,     0.10,2,     4.70,     0.17,2,     0.12,     0.02,2,0.0285891667, 0.0038118889,2,     1.08,     0.07,2,       -999,9,        -999,9,   -999.0,9,   -999.0,9,   -999.0,9,     -999,9,      -999,9,  -999.00,9,  -999.00,9,   0.0781
  32H120020718,    33,  3,      3,2,20020814, 73.4972,-159.5480, 2251,    254.9,   0.0905,  34.5705,2,-999.0000,9,    279.7,2,   -999.0,9,     8.51,2,    11.57,2,     0.01,2,     0.88,2,        0,2,   -999.0,9,   -999.0,9,  -999.00,9,     1.14,     0.10,2,     4.70,     0.17,2,     0.12,     0.02,2,0.0285862318,0.00381149758,2,     1.08,     0.07,2,       -999,9,        -999,9,   -999.0,9,   -999.0,9,   -999.0,9,     0.03,2,      -999,9,  -999.00,9,  -999.00,9,   0.0808
  32H120020718,    33,  3,      2,2,20020814, 73.4972,-159.5480, 2251,    254.9,   0.0926,  34.5715,2,-999.0000,9,    280.2,2,   -999.0,9,  -999.00,9,  -999.00,9,  -999.00,9,  -999.00,9,     -999,9,   -999.0,9,   -999.0,9,  -999.00,9,     1.15,     0.10,2,     4.72,     0.17,2,     0.12,     0.02,2,0.0287363885,0.00383151847,2,     1.08,     0.07,2,       -999,9,        -999,9,   -999.0,9,   -999.0,9,   -999.0,9,     -999,9,      -999,9,  -999.00,9,  -999.00,9,   0.0829
  32H120020718,    33,  1,     11,2,20020814, 73.4972,-159.5480, 2251,    275.9,   0.3240,  34.6519,2,  34.6500,2,    278.2,2,    287.6,2,     8.19,2,    11.92,2,     0.00,2,     0.88,2,        0,2,   -999.0,9,   -999.0,9,  -999.00,9,  -999.00,  -999.00,9,  -999.00,  -999.00,9,  -999.00,  -999.00,9,        -999,         -999,9,  -999.00,  -999.00,9,       -999,9,        -999,9,     53.0,2,      2.5,2,     14.4,2,        0,2,      -999,9,  -999.00,9,  -999.00,9,   0.3129
  32H120020718,    33,  1,     10,2,20020814, 73.4972,-159.5480, 2251,    301.3,   0.5119,  34.7280,2,  34.7266,2,    278.2,2,    286.5,2,     8.49,2,    12.44,2,     0.00,2,     0.90,2,     0.01,2,   -999.0,5,   -999.0,5,  -999.00,9,  -999.00,  -999.00,9,  -999.00,  -999.00,9,  -999.00,  -999.00,9,        -999,         -999,9,  -999.00,  -999.00,9, 4.10911286,2, 0.605141259,2,     52.1,2,      3.2,2,     15.7,2,        0,2,      -999,9,  -999.00,9,  -999.00,9,   0.4991
  32H120020718,    33,  1,      9,2,20020814, 73.4972,-159.5480, 2251,    326.4,   0.6795,  34.7772,2,  34.7762,2,    283.3,2,    291.6,2,     7.03,2,    12.34,2,     0.00,2,     0.88,2,     0.02,2,   2151.2,2,   2293.7,2,  -999.00,9,  -999.00,  -999.00,9,  -999.00,  -999.00,9,  -999.00,  -999.00,9,        -999,         -999,9,  -999.00,  -999.00,9, 4.26511252,2, 0.644159249,2,     51.3,2,      2.5,2,     14.8,2,        0,2,      -999,9,  -999.00,9,  -999.00,9,   0.6651
  32H120020718,    33,  1,      8,2,20020814, 73.4972,-159.5480, 2251,    351.5,   0.6748,  34.7813,2,  34.7811,2,    282.4,2,    290.9,2,     7.43,2,    12.44,2,     0.00,2,     0.88,2,     0.01,2,   -999.0,9,   -999.0,9,  -999.00,9,  -999.00,  -999.00,9,  -999.00,  -999.00,9,  -999.00,  -999.00,9,        -999,         -999,9,  -999.00,  -999.00,9,       -999,9,        -999,9,   -999.0,9,   -999.0,9,   -999.0,9,        0,2,      -999,9,  -999.00,9,  -999.00,9,   0.6592
  32H120020718,    33,  1,      7,2,20020814, 73.4972,-159.5480, 2251,    376.0,   0.7398,  34.8105,2,  34.8106,2,    285.3,2,    294.0,2,     6.85,2,    12.34,2,     0.00,2,     0.88,2,     0.02,2,   -999.0,9,   -999.0,9,  -999.00,9,  -999.00,  -999.00,9,  -999.00,  -999.00,9,  -999.00,  -999.00,9,        -999,         -999,9,  -999.00,  -999.00,9,       -999,9,        -999,9,   -999.0,9,   -999.0,9,   -999.0,9,        0,2,      -999,9,  -999.00,9,  -999.00,9,   0.7229
  32H120020718,    33,  6,      4,2,20020814, 73.4972,-159.5480, 2251,    377.0,   0.7239,  34.8096,2,-999.0000,9,    286.9,2,   -999.0,9,  -999.00,9,  -999.00,9,  -999.00,9,  -999.00,9,     -999,9,   -999.0,9,   -999.0,9,  -999.00,9,  -999.00,  -999.00,9,  -999.00,  -999.00,9,  -999.00,  -999.00,9,        -999,         -999,9,  -999.00,  -999.00,9,       -999,9,        -999,9,   -999.0,9,   -999.0,9,   -999.0,9,     -999,9,      -999,9,  -999.00,9,  -999.00,9,   0.7070
  32H120020718,    33,  1,      6,2,20020814, 73.4972,-159.5480, 2251,    401.4,   0.7607,  34.8252,2,  34.8249,2,    286.8,2,    295.6,2,     6.67,2,    12.34,2,     0.00,2,     0.87,2,     0.01,2,   -999.0,5,   -999.0,5,  -999.00,9,  -999.00,  -999.00,9,  -999.00,  -999.00,9,  -999.00,  -999.00,9,        -999,         -999,9,  -999.00,  -999.00,9, 4.31375389,2, 0.673415298,2,     52.6,2,      2.3,2,     14.7,2,        0,2,      -999,9,  -999.00,9,  -999.00,9,   0.7424
  32H120020718,    33,  1,      5,2,20020814, 73.4972,-159.5480, 2251,    502.4,   0.5787,  34.8402,2,  34.8401,2,    287.4,2,    296.9,2,     6.77,2,    12.44,2,     0.00,2,     0.88,2,     0.01,2,   -999.0,9,   -999.0,9,  -999.00,9,  -999.00,  -999.00,9,  -999.00,  -999.00,9,  -999.00,  -999.00,9,        -999,         -999,9,  -999.00,  -999.00,9,       -999,9,        -999,9,   -999.0,9,   -999.0,9,   -999.0,9,        0,2,      -999,9,  -999.00,9,  -999.00,9,   0.5561
  32H120020718,    33,  1,      4,2,20020814, 73.4972,-159.5480, 2251,    601.9,   0.4400,  34.8543,2,  34.8542,2,    288.1,2,    298.6,2,     6.77,2,    12.48,2,     0.00,2,     0.89,2,        0,2,   2153.4,2,   2318.0,2,  -999.00,9,  -999.00,  -999.00,9,  -999.00,  -999.00,9,  -999.00,  -999.00,9,        -999,         -999,9,  -999.00,  -999.00,9, 4.87970556,2, 0.644121134,2,     51.2,2,      5.6,2,     18.1,2,        0,2,      -999,9,  -999.00,9,  -999.00,9,   0.4131
  32H120020718,    33,  6,      3,2,20020814, 73.4972,-159.5480, 2251,    751.0,   0.2404,  34.8648,2,-999.0000,9,    289.9,2,   -999.0,9,     6.87,2,    12.47,2,     0.01,2,     0.88,2,        0,2,   -999.0,9,   -999.0,9,  -999.00,9,  -999.00,  -999.00,9,  -999.00,  -999.00,9,  -999.00,  -999.00,9,        -999,         -999,9,  -999.00,  -999.00,9,       -999,9,        -999,9,   -999.0,9,   -999.0,9,   -999.0,9,        0,2,      -999,9,  -999.00,9,  -999.00,9,   0.2071
  32H120020718,    33,  1,      3,2,20020814, 73.4972,-159.5480, 2251,    800.4,   0.1640,  34.8674,2,  34.8676,2,    289.3,2,    300.2,2,     6.98,2,    12.53,2,     0.00,2,     0.89,2,        0,2,   -999.0,9,   -999.0,9,  -999.00,9,  -999.00,  -999.00,9,  -999.00,  -999.00,9,  -999.00,  -999.00,9,        -999,         -999,9,  -999.00,  -999.00,9,       -999,9,        -999,9,   -999.0,9,   -999.0,9,   -999.0,9,        0,2,      -999,9,  -999.00,9,  -999.00,9,   0.1287
  32H120020718,    33,  1,      2,2,20020814, 73.4972,-159.5480, 2251,    999.3,  -0.0352,  34.8806,2,  34.8804,2,    288.2,2,    300.9,2,     7.18,2,    12.67,2,     0.00,2,     0.90,2,        0,2,   -999.0,9,   -999.0,9,  -999.00,9,  -999.00,  -999.00,9,  -999.00,  -999.00,9,  -999.00,  -999.00,9,        -999,         -999,9,  -999.00,  -999.00,9,       -999,9,        -999,9,   -999.0,9,   -999.0,9,   -999.0,9,        0,2,      -999,9,  -999.00,9,  -999.00,9,  -0.0795
  32H120020718,    33,  6,      2,2,20020814, 73.4972,-159.5480, 2251,   1001.4,  -0.0309,  34.8816,2,-999.0000,9,    289.3,2,   -999.0,9,     7.04,2,    12.62,2,     0.00,2,     0.90,2,        0,2,   -999.0,9,   -999.0,9,  -999.00,9,  -999.00,  -999.00,9,  -999.00,  -999.00,9,  -999.00,  -999.00,9,        -999,         -999,9,  -999.00,  -999.00,9,       -999,9,        -999,9,   -999.0,9,   -999.0,9,   -999.0,9,        0,2,      -999,9,  -999.00,9,  -999.00,9,  -0.0753
  32H120020718,    33,  1,      1,2,20020814, 73.4972,-159.5480, 2251,   1201.0,  -0.1819,  34.8955,2,  34.8810,0,    287.3,2,    300.6,2,     7.19,2,    12.63,2,     0.00,2,     0.90,2,        0,2,   2140.9,2,   2315.0,2,  -999.00,9,  -999.00,  -999.00,9,  -999.00,  -999.00,9,  -999.00,  -999.00,9,        -999,         -999,9,  -999.00,  -999.00,9, 4.45019941,2, 0.487960947,2,     49.4,2,      3.0,2,     15.6,2,        0,2,      -999,9,  -999.00,9,  -999.00,9,  -0.2358
  32H120020718,    33,  6,      1,2,20020814, 73.4972,-159.5480, 2251,   1815.6,  -0.4046,  34.9355,2,-999.0000,9,    280.1,2,   -999.0,9,    10.54,2,    13.99,2,     0.00,2,     1.00,2,        0,2,   -999.0,9,   -999.0,9,  -999.00,9,  -999.00,  -999.00,9,  -999.00,  -999.00,9,  -999.00,  -999.00,9,        -999,         -999,9,  -999.00,  -999.00,9,       -999,9,        -999,9,   -999.0,9,   -999.0,9,   -999.0,9,        0,2,      -999,9,  -999.00,9,  -999.00,9,  -0.4928
  32H120020718,    34,  1,     12,2,20020816, 73.3009,-160.1330, 1245,      2.5,  -0.5166,  27.4054,2,  27.4038,2,    369.9,2,    377.7,2,     2.79,2,     0.04,2,     0.00,2,     0.63,2,        0,2,   1857.7,2,   2002.8,2,  -999.00,9,  -999.00,  -999.00,9,  -999.00,  -999.00,9,  -999.00,  -999.00,9,        -999,         -999,9,  -999.00,  -999.00,9,   28.19491,2,  5.41718075,2,     67.0,2,      3.2,2,      3.3,2,        0,2,      -999,9,     0.08,2,     0.06,2,  -0.5166
  32H120020718,    34, 99,      1,2,20020816, 73.3009,-160.1330, 1245,      8.1,-999.0000,-999.0000,9,-999.0000,9,   -999.0,9,   -999.0,9,  -999.00,9,  -999.00,9,  -999.00,9,  -999.00,9,     -999,9,   -999.0,9,   -999.0,9,  -999.00,9,     1.17,     0.08,2,     5.32,     0.32,2,     2.34,     0.46,2, 0.420458245, 0.0860028228,2,     1.01,     0.22,2,       -999,9,        -999,9,   -999.0,9,   -999.0,9,   -999.0,9,     -999,9,      -999,9,  -999.00,9,  -999.00,9,-999.0000