BOTTLE,20090202PRINUNIVRMK
EXPOCODE,STNNBR,CASTNO,BTLNBR,BTLNBR_FLAG_W,DATE,LATITUDE,LONGITUDE,DEPTH,CTDPRS,CTDTMP,CTDSAL,CTDSAL_FLAG_W,SALNTY,SALNTY_FLAG_W,CTDOXY,CTDOXY_FLAG_W,OXYGEN,OXYGEN_FLAG_W,SILCAT,SILCAT_FLAG_W,NITRAT,NITRAT_FLAG_W,NITRIT,NITRIT_FLAG_W,PHSPHT,PHSPHT_FLAG_W,AMMONI,AMMONI_FLAG_W,TCARBN,TCARBN_FLAG_W,ALKALI,ALKALI_FLAG_W,DELO18,DELO18_FLAG_W,RA-224,RA-224E,RA-224_FLAG_W,RA-226,RA-226E,RA-226_FLAG_W,RA-228,RA-228E,RA-228_FLAG_W,RA-8/6,RA-8/6E,RA-8/6_FLAG_W,TH-228,TH-228E,TH-228_FLAG_W,POC,POC_FLAG_W,PON,PON_FLAG_W,DOC,DOC_FLAG_W,DON,DON_FLAG_W,TDN,TDN_FLAG_W,UREA,UREA_FLAG_W,LIGNIN,LIGNIN_FLAG_W,CHLORA,CHLORA_FLAG_W,PHAEO,PHAEO_FLAG_W,THETA
,,,,,,,,METERS,DBARS,ITS-90,PSS-78,,PSS-78,,UMOL/KG,,UMOL/KG,,UMOL/KG,,UMOL/KG,,UMOL/KG,,UMOL/KG,,UMOL/KG,,UMOL/KG,,UMOL/KG,,O/OO,,DPM/100KG,DPM/100KG,,DPM/100KG,DPM/100KG,,DPM/100KG,DPM/100KG,,,,,DPM/100KG,DPM/100KG,,ug/kg,,ug/kg,,UMOL/KG,,UMOL/KG,,UMOL/KG,,UMOL/KG,,NG/KG,,UG/L,,UG/L,,DEGC
  32H120020718,    29,  3,      9,2,20020809, 72.8814,-158.2250, 1057,     13.6,  -1.0100,  28.7779,2,  29.2394,2,    386.0,2,    398.2,2,     5.00,2,     0.11,2,     0.00,2,     0.72,2,     0.03,2,   -999.0,9,   -999.0,9,    -3.25,2,  -999.00,  -999.00,9,  -999.00,  -999.00,9,  -999.00,  -999.00,9,        -999,         -999,9,  -999.00,  -999.00,9,       -999,9,        -999,9,   -999.0,9,   -999.0,9,   -999.0,9,     0.01,2,      -999,9,     0.31,2,     0.31,2,  -1.0102
  32H120020718,    29,  3,      8,2,20020809, 72.8814,-158.2250, 1057,     21.2,  -1.3854,  30.4796,2,  30.5888,2,    388.8,2,    395.6,2,     9.23,2,     1.22,2,     0.08,2,     0.88,2,     0.17,2,   -999.0,9,   -999.0,9,  -999.00,9,  -999.00,  -999.00,9,  -999.00,  -999.00,9,  -999.00,  -999.00,9,        -999,         -999,9,  -999.00,  -999.00,9,       -999,9,        -999,9,   -999.0,9,   -999.0,9,   -999.0,9,     0.01,2,      -999,9,     0.90,2,     0.95,2,  -1.3857
  32H120020718,    29,  3,      7,2,20020809, 72.8814,-158.2250, 1057,     21.2,  -1.3880,  30.4739,2,-999.0000,9,    389.0,2,   -999.0,9,  -999.00,9,  -999.00,9,  -999.00,9,  -999.00,9,     -999,9,   -999.0,9,   -999.0,9,  -999.00,9,  -999.00,  -999.00,9,  -999.00,  -999.00,9,  -999.00,  -999.00,9,        -999,         -999,9,  -999.00,  -999.00,9,       -999,9,        -999,9,   -999.0,9,   -999.0,9,   -999.0,9,     -999,9,      -999,9,  -999.00,9,  -999.00,9,  -1.3883
  32H120020718,    29,  2,     10,2,20020809, 72.8814,-158.2250, 1057,     26.0,  -1.4013,  30.4650,2,  30.4935,2,    385.6,2,    396.5,2,     8.59,2,     0.88,2,     0.07,2,     0.86,2,     0.11,2,   2031.6,2,   2186.3,2,    -2.91,2,  -999.00,  -999.00,9,  -999.00,  -999.00,9,  -999.00,  -999.00,9,        -999,         -999,9,  -999.00,  -999.00,9,  85.653061,2,  18.6913333,2,     73.7,2,      6.2,2,      7.3,2,     0.01,2,      -999,9,     1.11,2,     0.71,2,  -1.4017
  32H120020718,    29,  6,     12,2,20020809, 72.8814,-158.2250, 1057,     26.0,  -1.4271,  30.4858,2,-999.0000,9,    386.3,2,   -999.0,9,  -999.00,9,  -999.00,9,  -999.00,9,  -999.00,9,     -999,9,   -999.0,9,   -999.0,9,  -999.00,9,  -999.00,  -999.00,9,  -999.00,  -999.00,9,  -999.00,  -999.00,9,        -999,         -999,9,  -999.00,  -999.00,9,       -999,9,        -999,9,   -999.0,9,   -999.0,9,   -999.0,9,     -999,9,      -999,9,  -999.00,9,  -999.00,9,  -1.4275
  32H120020718,    29,  3,      6,2,20020809, 72.8814,-158.2250, 1057,     32.6,  -1.4395,  30.9447,2,  31.0556,2,    379.4,2,    383.1,2,    11.66,2,     2.37,2,     0.14,2,     1.00,2,     0.47,2,   -999.0,9,   -999.0,9,  -999.00,9,  -999.00,  -999.00,9,  -999.00,  -999.00,9,  -999.00,  -999.00,9,        -999,         -999,9,  -999.00,  -999.00,9,       -999,9,        -999,9,   -999.0,9,   -999.0,9,   -999.0,9,     0.02,2,      -999,9,     0.81,2,     1.25,2,  -1.4400
  32H120020718,    29,  2,      9,2,20020809, 72.8814,-158.2250, 1057,     46.2,  -1.5867,  31.5761,2,  31.5722,2,    350.8,2,    362.1,2,    19.89,2,     5.26,2,     0.20,2,     1.24,2,     0.91,2,   2087.6,2,   2221.3,2,    -2.16,2,  -999.00,  -999.00,9,  -999.00,  -999.00,9,  -999.00,  -999.00,9,        -999,         -999,9,  -999.00,  -999.00,9, 26.2681694,2,  5.68409761,2,     83.6,2,      6.3,2,     12.7,2,     0.03,2,      -999,9,     0.27,2,     0.27,2,  -1.5874
  32H120020718,    29,  3,      4,2,20020809, 72.8814,-158.2250, 1057,     49.8,  -1.4146,  31.8447,2,-999.0000,9,    351.1,2,   -999.0,9,  -999.00,9,  -999.00,9,  -999.00,9,  -999.00,9,     -999,9,   -999.0,9,   -999.0,9,  -999.00,9,  -999.00,  -999.00,9,  -999.00,  -999.00,9,  -999.00,  -999.00,9,        -999,         -999,9,  -999.00,  -999.00,9,       -999,9,        -999,9,   -999.0,9,   -999.0,9,   -999.0,9,     -999,9,      -999,9,  -999.00,9,  -999.00,9,  -1.4155
  32H120020718,    29,  3,      5,2,20020809, 72.8814,-158.2250, 1057,     49.8,  -1.4180,  31.8434,2,  31.8603,2,    349.0,2,    354.8,2,    17.60,2,     5.60,2,     0.15,2,     1.23,2,     0.46,2,   -999.0,9,   -999.0,9,  -999.00,9,  -999.00,  -999.00,9,  -999.00,  -999.00,9,  -999.00,  -999.00,9,        -999,         -999,9,  -999.00,  -999.00,9,       -999,9,        -999,9,   -999.0,9,   -999.0,9,   -999.0,9,     0.02,2,      -999,9,     0.39,2,     0.69,2,  -1.4189
  32H120020718,    29,  5,      9,2,20020809, 72.8814,-158.2250, 1057,     61.6,  -1.5146,  32.1406,2,-999.0000,9,    343.0,2,   -999.0,9,  -999.00,9,  -999.00,9,  -999.00,9,  -999.00,9,     -999,9,   -999.0,9,   -999.0,9,  -999.00,9,     0.99,     0.11,2,     9.06,     0.12,2,     8.04,     1.26,2, 0.850301735,  0.133755329,2,     1.00,     0.79,2,       -999,9,        -999,9,   -999.0,9,   -999.0,9,   -999.0,9,     -999,9,      -999,9,  -999.00,9,  -999.00,9,  -1.5157
  32H120020718,    29,  5,     10,2,20020809, 72.8814,-158.2250, 1057,     61.6,  -1.5147,  32.1423,2,-999.0000,9,    343.2,2,   -999.0,9,  -999.00,9,  -999.00,9,  -999.00,9,  -999.00,9,     -999,9,   -999.0,9,   -999.0,9,  -999.00,9,     0.99,     0.11,2,     9.06,     0.12,2,     8.04,     1.26,2, 0.850299772,   0.13375502,2,     1.00,     0.79,2,       -999,9,        -999,9,   -999.0,9,   -999.0,9,   -999.0,9,     -999,9,      -999,9,  -999.00,9,  -999.00,9,  -1.5158
  32H120020718,    29,  5,      8,2,20020809, 72.8814,-158.2250, 1057,     61.6,  -1.5148,  32.1416,2,-999.0000,9,    342.7,2,   -999.0,9,  -999.00,9,  -999.00,9,  -999.00,9,  -999.00,9,     -999,9,   -999.0,9,   -999.0,9,  -999.00,9,     0.99,     0.11,2,     9.06,     0.12,2,     8.04,     1.26,2, 0.850298569,  0.133754831,2,     1.00,     0.79,2,       -999,9,        -999,9,   -999.0,9,   -999.0,9,   -999.0,9,     -999,9,      -999,9,  -999.00,9,  -999.00,9,  -1.5159
  32H120020718,    29,  5,      7,2,20020809, 72.8814,-158.2250, 1057,     61.6,  -1.5149,  32.1431,2,-999.0000,9,    341.2,2,   -999.0,9,  -999.00,9,  -999.00,9,  -999.00,9,  -999.00,9,     -999,9,   -999.0,9,   -999.0,9,  -999.00,9,     0.99,     0.11,2,     9.06,     0.12,2,     8.04,     1.26,2, 0.850293314,  0.133754004,2,     1.00,     0.79,2,       -999,9,        -999,9,   -999.0,9,   -999.0,9,   -999.0,9,     -999,9,      -999,9,  -999.00,9,  -999.00,9,  -1.5160
  32H120020718,    29,  5,     11,2,20020809, 72.8814,-158.2250, 1057,     61.6,  -1.5149,  32.1448,2,-999.0000,9,    342.9,2,   -999.0,9,    21.31,2,     7.00,2,     0.12,2,     1.33,2,     0.78,2,   -999.0,9,   -999.0,9,  -999.00,9,     0.99,     0.11,2,     9.05,     0.12,2,     8.04,     1.26,2, 0.849546859,  0.133636585,2,     1.00,     0.79,2,       -999,9,        -999,9,   -999.0,9,   -999.0,9,   -999.0,9,     0.01,2,      -999,9,  -999.00,9,  -999.00,9,  -1.5160
  32H120020718,    29,  5,     12,2,20020809, 72.8814,-158.2250, 1057,     61.6,  -1.5149,  32.1454,2,-999.0000,9,    342.9,2,   -999.0,9,    21.12,2,     6.77,2,     0.13,2,     1.30,2,      0.9,2,   -999.0,9,   -999.0,9,  -999.00,9,     0.99,     0.11,2,     9.05,     0.12,2,     8.04,     1.26,2, 0.849546795,  0.133636575,2,     1.00,     0.79,2,       -999,9,        -999,9,   -999.0,9,   -999.0,9,   -999.0,9,     0.02,2,      -999,9,  -999.00,9,  -999.00,9,  -1.5160
  32H120020718,    29,  2,      8,2,20020809, 72.8814,-158.2250, 1057,     66.4,  -1.3725,  32.3180,2,  32.2974,2,    312.2,2,    336.1,2,    25.37,2,     8.70,2,     0.13,2,     1.46,2,     0.94,2,   -999.0,9,   -999.0,9,    -1.81,2,  -999.00,  -999.00,9,  -999.00,  -999.00,9,  -999.00,  -999.00,9,        -999,         -999,9,  -999.00,  -999.00,9,       -999,9,        -999,9,   -999.0,9,   -999.0,9,   -999.0,9,     0.02,2,      -999,9,     0.06,2,     0.12,2,  -1.3738
  32H120020718,    29,  6,     11,2,20020809, 72.8814,-158.2250, 1057,     76.7,  -1.4628,  32.4750,2,-999.0000,9,    307.4,2,   -999.0,9,  -999.00,9,  -999.00,9,  -999.00,9,  -999.00,9,     -999,9,   -999.0,9,   -999.0,9,  -999.00,9,  -999.00,  -999.00,9,  -999.00,  -999.00,9,  -999.00,  -999.00,9,        -999,         -999,9,  -999.00,  -999.00,9,       -999,9,        -999,9,   -999.0,9,   -999.0,9,   -999.0,9,     -999,9,      -999,9,  -999.00,9,  -999.00,9,  -1.4643
  32H120020718,    29,  6,     10,2,20020809, 72.8814,-158.2250, 1057,     76.7,  -1.4633,  32.4753,2,-999.0000,9,    306.9,2,   -999.0,9,  -999.00,9,  -999.00,9,  -999.00,9,  -999.00,9,     -999,9,   -999.0,9,   -999.0,9,  -999.00,9,  -999.00,  -999.00,9,  -999.00,  -999.00,9,  -999.00,  -999.00,9,        -999,         -999,9,  -999.00,  -999.00,9,       -999,9,        -999,9,   -999.0,9,   -999.0,9,   -999.0,9,     -999,9,      -999,9,  -999.00,9,  -999.00,9,  -1.4648
  32H120020718,    29,  2,      7,2,20020809, 72.8814,-158.2250, 1057,     86.7,  -1.5646,  32.6160,2,  32.6116,2,    311.7,2,    313.4,2,    30.11,2,    11.38,2,     0.12,2,     1.62,2,     0.66,2,   2165.7,2,   2258.9,2,    -1.60,2,  -999.00,  -999.00,9,  -999.00,  -999.00,9,  -999.00,  -999.00,9,        -999,         -999,9,  -999.00,  -999.00,9, 15.9637577,2,  3.05980919,2,     60.9,2,      3.8,2,     16.0,2,        0,2,      -999,9,     0.04,2,     0.09,2,  -1.5662
  32H120020718,    29,  3,      3,2,20020809, 72.8814,-158.2250, 1057,    101.1,  -1.5392,  32.7958,2,  32.8621,2,    286.2,2,    297.5,2,  -999.00,9,  -999.00,9,  -999.00,9,  -999.00,9,     -999,9,   -999.0,9,   -999.0,9,  -999.00,9,  -999.00,  -999.00,9,  -999.00,  -999.00,9,  -999.00,  -999.00,9,        -999,         -999,9,  -999.00,  -999.00,9,       -999,9,        -999,9,   -999.0,9,   -999.0,9,   -999.0,9,     -999,9,      -999,9,     0.04,2,     0.06,2,  -1.5412
  32H120020718,    29,  2,      6,2,20020809, 72.8814,-158.2250, 1057,    105.6,  -1.5523,  32.8709,2,  32.8685,2,    284.2,2,    293.2,2,    31.53,2,    13.98,2,     0.00,2,     1.75,2,        0,2,   -999.0,9,   -999.0,9,    -1.47,2,  -999.00,  -999.00,9,  -999.00,  -999.00,9,  -999.00,  -999.00,9,        -999,         -999,9,  -999.00,  -999.00,9,       -999,9,        -999,9,   -999.0,9,   -999.0,9,   -999.0,9,        0,2,      -999,9,     0.01,2,     0.02,2,  -1.5543
  32H120020718,    29,  5,      1,2,20020809, 72.8814,-158.2250, 1057,    120.8,  -1.6335,  33.0179,2,-999.0000,9,    292.5,2,   -999.0,9,  -999.00,9,  -999.00,9,  -999.00,9,  -999.00,9,     -999,9,   -999.0,9,   -999.0,9,  -999.00,9,     1.74,     0.14,2,    10.53,     0.31,2,     7.62,     0.21,2, 0.688098959,   0.02867079,2,     0.99,     0.17,2,       -999,9,        -999,9,   -999.0,9,   -999.0,9,   -999.0,9,     -999,9,      -999,9,  -999.00,9,  -999.00,9,  -1.6358
  32H120020718,    29,  5,      6,2,20020809, 72.8814,-158.2250, 1057,    120.9,  -1.6280,  33.0243,2,-999.0000,9,    292.8,2,   -999.0,9,  -999.00,9,  -999.00,9,  -999.00,9,  -999.00,9,     -999,9,   -999.0,9,   -999.0,9,  -999.00,9,     1.74,     0.14,2,    10.53,     0.31,2,     7.62,     0.21,2, 0.688094911, 0.0286706213,2,     0.99,     0.17,2,       -999,9,        -999,9,   -999.0,9,   -999.0,9,   -999.0,9,     -999,9,      -999,9,  -999.00,9,  -999.00,9,  -1.6303
  32H120020718,    29,  5,      5,2,20020809, 72.8814,-158.2250, 1057,    120.9,  -1.6320,  33.0225,2,-999.0000,9,    292.7,2,   -999.0,9,  -999.00,9,  -999.00,9,  -999.00,9,  -999.00,9,     -999,9,   -999.0,9,   -999.0,9,  -999.00,9,     1.74,     0.14,2,    10.53,     0.31,2,     7.62,     0.21,2, 0.688094962, 0.0286706234,2,     0.99,     0.17,2,       -999,9,        -999,9,   -999.0,9,   -999.0,9,   -999.0,9,     -999,9,      -999,9,  -999.00,9,  -999.00,9,  -1.6343
  32H120020718,    29,  5,      4,2,20020809, 72.8814,-158.2250, 1057,    120.9,  -1.6336,  33.0211,2,-999.0000,9,    292.5,2,   -999.0,9,  -999.00,9,  -999.00,9,  -999.00,9,  -999.00,9,     -999,9,   -999.0,9,   -999.0,9,  -999.00,9,     1.74,     0.14,2,    10.53,     0.31,2,     7.62,     0.21,2, 0.688095372, 0.0286706405,2,     0.99,     0.17,2,       -999,9,        -999,9,   -999.0,9,   -999.0,9,   -999.0,9,     -999,9,      -999,9,  -999.00,9,  -999.00,9,  -1.6359
  32H120020718,    29,  5,      2,2,20020809, 72.8814,-158.2250, 1057,    120.9,  -1.6337,  33.0193,2,-999.0000,9,    292.3,2,   -999.0,9,    36.13,2,    13.67,2,     0.13,2,     1.75,2,     0.55,2,   -999.0,9,   -999.0,9,  -999.00,9,     1.73,     0.14,2,    10.52,     0.31,2,     7.61,     0.21,2, 0.687649301, 0.0286520542,2,     0.98,     0.17,2,       -999,9,        -999,9,   -999.0,9,   -999.0,9,   -999.0,9,        0,2,      -999,9,  -999.00,9,  -999.00,9,  -1.6360
  32H120020718,    29,  5,      3,2,20020809, 72.8814,-158.2250, 1057,    120.9,  -1.6338,  33.0199,2,-999.0000,9,    292.4,2,   -999.0,9,  -999.00,9,  -999.00,9,  -999.00,9,  -999.00,9,     -999,9,   -999.0,9,   -999.0,9,  -999.00,9,     1.73,     0.14,2,    10.52,     0.31,2,     7.61,     0.21,2, 0.687645716, 0.0286519048,2,     0.98,     0.17,2,       -999,9,        -999,9,   -999.0,9,   -999.0,9,   -999.0,9,     -999,9,      -999,9,  -999.00,9,  -999.00,9,  -1.6361
  32H120020718,    29,  2,      5,2,20020809, 72.8814,-158.2250, 1057,    126.4,  -1.5389,  33.1087,2,  33.1110,2,    280.1,2,    289.6,2,    32.66,2,    14.48,2,     0.02,2,     1.77,2,     0.08,2,   -999.0,5,   2280.5,2,    -1.48,2,  -999.00,  -999.00,9,  -999.00,  -999.00,9,  -999.00,  -999.00,9,        -999,         -999,9,  -999.00,  -999.00,9, 8.55057322,2,  1.81760932,2,     61.6,2,      5.3,2,     19.9,2,        0,2,      -999,9,     0.01,2,     0.02,2,  -1.5414
  32H120020718,    29,  6,      8,2,20020809, 72.8814,-158.2250, 1057,    126.6,  -1.6153,  33.1086,2,-999.0000,9,    290.8,2,   -999.0,9,  -999.00,9,  -999.00,9,  -999.00,9,  -999.00,9,     -999,9,   -999.0,9,   -999.0,9,  -999.00,9,  -999.00,  -999.00,9,  -999.00,  -999.00,9,  -999.00,  -999.00,9,        -999,         -999,9,  -999.00,  -999.00,9,       -999,9,        -999,9,   -999.0,9,   -999.0,9,   -999.0,9,     -999,9,      -999,9,  -999.00,9,  -999.00,9,  -1.6178
  32H120020718,    29,  6,      9,2,20020809, 72.8814,-158.2250, 1057,    126.6,  -1.6159,  33.1090,2,-999.0000,9,    290.9,2,   -999.0,9,  -999.00,9,  -999.00,9,  -999.00,9,  -999.00,9,     -999,9,   -999.0,9,   -999.0,9,  -999.00,9,  -999.00,  -999.00,9,  -999.00,  -999.00,9,  -999.00,  -999.00,9,        -999,         -999,9,  -999.00,  -999.00,9,       -999,9,        -999,9,   -999.0,9,   -999.0,9,   -999.0,9,     -999,9,      -999,9,  -999.00,9,  -999.00,9,  -1.6184
  32H120020718,    29,  2,      4,2,20020809, 72.8814,-158.2250, 1057,    141.3,  -1.6303,  33.2688,2,  33.2662,2,    300.6,2,    310.7,2,    39.15,2,    13.39,2,     0.12,2,     1.78,2,     1.48,2,   -999.0,5,   2295.0,2,    -1.36,2,  -999.00,  -999.00,9,  -999.00,  -999.00,9,  -999.00,  -999.00,9,        -999,         -999,9,  -999.00,  -999.00,9,   18.34985,2,   3.5175476,2,     60.9,2,      6.9,2,     21.9,2,     0.01,2,      -999,9,     0.02,2,     0.07,2,  -1.6331
  32H120020718,    29,  3,      2,2,20020809, 72.8814,-158.2250, 1057,    151.1,  -1.4491,  33.4240,2,  33.5880,2,    276.5,2,   -999.0,9,  -999.00,9,  -999.00,9,  -999.00,9,  -999.00,9,     -999,9,   -999.0,9,   -999.0,9,  -999.00,9,  -999.00,  -999.00,9,  -999.00,  -999.00,9,  -999.00,  -999.00,9,        -999,         -999,9,  -999.00,  -999.00,9,       -999,9,        -999,9,   -999.0,9,   -999.0,9,   -999.0,9,     -999,9,      -999,9,  -999.00,9,  -999.00,9,  -1.4524
  32H120020718,    29,  6,      7,2,20020809, 72.8814,-158.2250, 1057,    150.5,  -1.4704,  33.4182,2,-999.0000,9,    278.4,2,   -999.0,9,  -999.00,9,  -999.00,9,  -999.00,9,  -999.00,9,     -999,9,   -999.0,9,   -999.0,9,  -999.00,9,  -999.00,  -999.00,9,  -999.00,  -999.00,9,  -999.00,  -999.00,9,        -999,         -999,9,  -999.00,  -999.00,9,       -999,9,        -999,9,   -999.0,9,   -999.0,9,   -999.0,9,     -999,9,      -999,9,  -999.00,9,  -999.00,9,  -1.4736
  32H120020718,    29,  4,      7,2,20020809, 72.8814,-158.2250, 1057,    151.2,  -1.5150,  33.4469,2,-999.0000,9,    283.8,2,   -999.0,9,  -999.00,9,  -999.00,9,  -999.00,9,  -999.00,9,     -999,9,   -999.0,9,   -999.0,9,  -999.00,9,     1.32,     0.09,2,    10.30,     0.11,2,     5.35,     0.35,2,  0.49667816, 0.0286545092,2,     1.49,     0.25,2,       -999,9,        -999,9,   -999.0,9,   -999.0,9,   -999.0,9,     -999,9,      -999,9,  -999.00,9,  -999.00,9,  -1.5182
  32H120020718,    29,  4,      8,2,20020809, 72.8814,-158.2250, 1057,    151.2,  -1.5215,  33.4420,2,-999.0000,9,    284.0,2,   -999.0,9,  -999.00,9,  -999.00,9,  -999.00,9,  -999.00,9,     -999,9,   -999.0,9,   -999.0,9,  -999.00,9,     1.32,     0.09,2,    10.29,     0.11,2,     5.35,     0.35,2,  0.49644577, 0.0286411021,2,     1.49,     0.25,2,       -999,9,        -999,9,   -999.0,9,   -999.0,9,   -999.0,9,     -999,9,      -999,9,  -999.00,9,  -999.00,9,  -1.5247
  32H120020718,    29,  4,     11,2,20020809, 72.8814,-158.2250, 1057,    151.2,  -1.5277,  33.4374,2,-999.0000,9,    284.8,2,   -999.0,9,  -999.00,9,  -999.00,9,  -999.00,9,  -999.00,9,     -999,9,   -999.0,9,   -999.0,9,  -999.00,9,     1.32,     0.09,2,    10.29,     0.11,2,     5.35,     0.35,2, 0.496447323, 0.0286411917,2,     1.49,     0.25,2,       -999,9,        -999,9,   -999.0,9,   -999.0,9,   -999.0,9,     -999,9,      -999,9,  -999.00,9,  -999.00,9,  -1.5309
  32H120020718,    29,  4,     12,2,20020809, 72.8814,-158.2250, 1057,    151.2,  -1.5301,  33.4388,2,-999.0000,9,    285.0,2,   -999.0,9,  -999.00,9,  -999.00,9,  -999.00,9,  -999.00,9,     -999,9,   -999.0,9,   -999.0,9,  -999.00,9,     1.32,     0.09,2,    10.29,     0.10,2,     5.35,     0.35,2, 0.496332511, 0.0286345679,2,     1.49,     0.25,2,       -999,9,        -999,9,   -999.0,9,   -999.0,9,   -999.0,9,     -999,9,      -999,9,  -999.00,9,  -999.00,9,  -1.5333
  32H120020718,    29,  4,     10,2,20020809, 72.8814,-158.2250, 1057,    151.2,  -1.5309,  33.4414,2,-999.0000,9,    284.9,2,   -999.0,9,    33.56,2,    14.28,2,     0.06,2,     1.70,2,     0.42,2,   -999.0,9,   -999.0,9,  -999.00,9,     1.31,     0.09,2,    10.28,     0.10,2,     5.34,     0.35,2, 0.495828091, 0.0286054668,2,     1.48,     0.25,2,       -999,9,        -999,9,   -999.0,9,   -999.0,9,   -999.0,9,        0,2,      -999,9,  -999.00,9,  -999.00,9,  -1.5341
  32H120020718,    29,  4,      9,2,20020809, 72.8814,-158.2250, 1057,    151.2,  -1.5400,  33.4482,2,-999.0000,9,    284.3,2,   -999.0,9,  -999.00,9,  -999.00,9,  -999.00,9,  -999.00,9,     -999,9,   -999.0,9,   -999.0,9,  -999.00,9,     1.31,     0.09,2,    10.28,     0.10,2,     5.34,     0.35,2, 0.495825433, 0.0286053134,2,     1.48,     0.25,2,       -999,9,        -999,9,   -999.0,9,   -999.0,9,   -999.0,9,     -999,9,      -999,9,  -999.00,9,  -999.00,9,  -1.5432