BOTTLE,20090202PRINUNIVRMK
EXPOCODE,STNNBR,CASTNO,BTLNBR,BTLNBR_FLAG_W,DATE,LATITUDE,LONGITUDE,DEPTH,CTDPRS,CTDTMP,CTDSAL,CTDSAL_FLAG_W,SALNTY,SALNTY_FLAG_W,CTDOXY,CTDOXY_FLAG_W,OXYGEN,OXYGEN_FLAG_W,SILCAT,SILCAT_FLAG_W,NITRAT,NITRAT_FLAG_W,NITRIT,NITRIT_FLAG_W,PHSPHT,PHSPHT_FLAG_W,AMMONI,AMMONI_FLAG_W,TCARBN,TCARBN_FLAG_W,ALKALI,ALKALI_FLAG_W,DELO18,DELO18_FLAG_W,RA-224,RA-224E,RA-224_FLAG_W,RA-226,RA-226E,RA-226_FLAG_W,RA-228,RA-228E,RA-228_FLAG_W,RA-8/6,RA-8/6E,RA-8/6_FLAG_W,TH-228,TH-228E,TH-228_FLAG_W,POC,POC_FLAG_W,PON,PON_FLAG_W,DOC,DOC_FLAG_W,DON,DON_FLAG_W,TDN,TDN_FLAG_W,UREA,UREA_FLAG_W,LIGNIN,LIGNIN_FLAG_W,CHLORA,CHLORA_FLAG_W,PHAEO,PHAEO_FLAG_W,THETA
,,,,,,,,METERS,DBARS,ITS-90,PSS-78,,PSS-78,,UMOL/KG,,UMOL/KG,,UMOL/KG,,UMOL/KG,,UMOL/KG,,UMOL/KG,,UMOL/KG,,UMOL/KG,,UMOL/KG,,O/OO,,DPM/100KG,DPM/100KG,,DPM/100KG,DPM/100KG,,DPM/100KG,DPM/100KG,,,,,DPM/100KG,DPM/100KG,,ug/kg,,ug/kg,,UMOL/KG,,UMOL/KG,,UMOL/KG,,UMOL/KG,,NG/KG,,UG/L,,UG/L,,DEGC
  32H120020718,    30,  7,      1,2,20020810, 73.0759,-157.9070, 2025,   1956.1,  -0.4055,  34.9414,2,-999.0000,9,    276.2,2,   -999.0,9,  -999.00,9,  -999.00,9,  -999.00,9,  -999.00,9,     -999,9,   -999.0,9,   -999.0,9,  -999.00,9,  -999.00,  -999.00,9,  -999.00,  -999.00,9,  -999.00,  -999.00,9,        -999,         -999,9,  -999.00,  -999.00,9,       -999,9,        -999,9,   -999.0,9,   -999.0,9,   -999.0,9,     -999,9,      -999,9,  -999.00,9,  -999.00,9,  -0.5029
  32H120020718,    30,  7,      2,2,20020810, 73.0759,-157.9070, 2025,   1956.8,  -0.4054,  34.9414,2,-999.0000,9,    276.2,2,   -999.0,9,  -999.00,9,  -999.00,9,  -999.00,9,  -999.00,9,     -999,9,   -999.0,9,   -999.0,9,  -999.00,9,  -999.00,  -999.00,9,  -999.00,  -999.00,9,  -999.00,  -999.00,9,        -999,         -999,9,  -999.00,  -999.00,9,       -999,9,        -999,9,   -999.0,9,   -999.0,9,   -999.0,9,     -999,9,      -999,9,  -999.00,9,  -999.00,9,  -0.5028
  32H120020718,    31,  3,     12,2,20020812, 73.4206,-157.3990, 3132,      2.1,  -0.4393,  27.1033,2,  27.0470,2,    368.5,2,    376.8,2,     2.35,2,     0.09,2,     0.00,2,     0.65,2,     0.06,2,   1839.3,2,   1966.7,2,    -3.51,2,  -999.00,  -999.00,9,  -999.00,  -999.00,9,  -999.00,  -999.00,9,        -999,         -999,9,  -999.00,  -999.00,9, 26.1410028,2,   4.8100099,2,     66.3,2,      3.6,2,      3.8,2,     -999,5,      -999,9,     0.05,2,     0.03,2,  -0.4393
  32H120020718,    31,  8,     12,2,20020812, 73.4206,-157.3990, 3132,      1.9,  -0.5313,  26.9036,2,-999.0000,9,    366.4,2,   -999.0,9,  -999.00,9,  -999.00,9,  -999.00,9,  -999.00,9,     -999,9,   -999.0,9,   -999.0,9,  -999.00,9,  -999.00,  -999.00,9,  -999.00,  -999.00,9,  -999.00,  -999.00,9,        -999,         -999,9,  -999.00,  -999.00,9,       -999,9,        -999,9,   -999.0,9,   -999.0,9,   -999.0,9,     -999,9,      -999,9,  -999.00,9,  -999.00,9,  -0.5313
  32H120020718,    31,  8,     11,2,20020812, 73.4206,-157.3990, 3132,      1.9,  -0.5327,  26.9041,2,  26.9044,2,    366.5,2,    376.6,2,     2.90,2,     0.00,2,     0.00,2,     0.64,2,     0.02,2,   -999.0,9,   -999.0,9,    -3.39,2,  -999.00,  -999.00,9,  -999.00,  -999.00,9,  -999.00,  -999.00,9,        -999,         -999,9,  -999.00,  -999.00,9,       -999,9,        -999,9,   -999.0,9,   -999.0,9,   -999.0,9,     0.01,2,      -999,9,     0.08,2,     0.11,2,  -0.5327
  32H120020718,    31, 99,      1,9,20020812, 73.4206,-157.3990, 3132,      8.1,-999.0000,-999.0000,9,-999.0000,9,   -999.0,9,   -999.0,9,  -999.00,9,  -999.00,9,  -999.00,9,  -999.00,9,     -999,9,   -999.0,9,   -999.0,9,  -999.00,9,     1.72,     0.11,2,     7.09,     0.41,2,     2.97,     0.64,2, 0.401286497, 0.0859899635,2,     1.34,     0.30,2,       -999,9,        -999,9,   -999.0,9,   -999.0,9,   -999.0,9,     -999,9,      -999,9,  -999.00,9,  -999.00,9,-999.0000
  32H120020718,    31,  8,     10,2,20020812, 73.4206,-157.3990, 3132,      9.2,  -0.4743,  26.9538,2,-999.0000,9,    366.0,2,    379.0,2,     3.01,2,     0.00,2,     0.00,2,     0.65,2,     0.02,2,   -999.0,9,   -999.0,9,    -3.24,2,  -999.00,  -999.00,9,  -999.00,  -999.00,9,  -999.00,  -999.00,9,        -999,         -999,9,  -999.00,  -999.00,9,       -999,9,        -999,9,   -999.0,9,   -999.0,9,   -999.0,9,     0.01,2,      -999,9,     0.07,2,     0.07,2,  -0.4745
  32H120020718,    31,  3,     11,2,20020812, 73.4206,-157.3990, 3132,     10.9,  -0.6398,  28.0044,2,  28.2827,2,    378.9,2,    390.9,2,     2.44,2,     0.09,2,     0.00,2,     0.67,2,     0.06,2,   1900.6,2,   2036.6,2,    -3.52,2,  -999.00,  -999.00,9,  -999.00,  -999.00,9,  -999.00,  -999.00,9,        -999,         -999,9,  -999.00,  -999.00,9, 25.5775468,2,  4.55059432,2,     67.9,2,      5.2,2,      5.3,2,     -999,5,      -999,9,     0.05,2,     0.03,2,  -0.6400
  32H120020718,    31,  8,      9,2,20020812, 73.4206,-157.3990, 3132,     15.1,  -0.8705,  28.7809,2,-999.0000,9,    389.4,2,    404.1,2,     4.00,2,     0.00,2,     0.00,2,     0.71,2,        0,2,   -999.0,9,   -999.0,9,    -3.32,2,  -999.00,  -999.00,9,  -999.00,  -999.00,9,  -999.00,  -999.00,9,        -999,         -999,9,  -999.00,  -999.00,9,       -999,9,        -999,9,   -999.0,9,   -999.0,9,   -999.0,9,        0,2,      -999,9,     0.12,2,     0.13,2,  -0.8707
  32H120020718,    31,  8,      8,2,20020812, 73.4206,-157.3990, 3132,     23.3,  -1.1378,  30.0100,2,-999.0000,9,    394.3,2,    406.2,2,     5.29,2,     0.06,2,     0.01,2,     0.76,2,     0.01,2,   -999.0,9,   -999.0,9,    -3.08,2,  -999.00,  -999.00,9,  -999.00,  -999.00,9,  -999.00,  -999.00,9,        -999,         -999,9,  -999.00,  -999.00,9,       -999,9,        -999,9,   -999.0,9,   -999.0,9,   -999.0,9,        0,2,      -999,9,     0.43,2,     0.37,2,  -1.1382
  32H120020718,    31,  8,      7,2,20020812, 73.4206,-157.3990, 3132,     23.3,  -1.1393,  30.0198,2,-999.0000,9,    393.5,2,   -999.0,9,  -999.00,9,  -999.00,9,  -999.00,9,  -999.00,9,     -999,9,   -999.0,9,   -999.0,9,  -999.00,9,  -999.00,  -999.00,9,  -999.00,  -999.00,9,  -999.00,  -999.00,9,        -999,         -999,9,  -999.00,  -999.00,9,       -999,9,        -999,9,   -999.0,9,   -999.0,9,   -999.0,9,     -999,9,      -999,9,  -999.00,9,  -999.00,9,  -1.1397
  32H120020718,    31,  3,     10,2,20020812, 73.4206,-157.3990, 3132,     25.4,  -1.0506,  29.7531,2,  29.6185,2,    391.8,2,   -999.0,5,     3.33,2,     0.09,2,     0.00,2,     0.71,2,     0.05,2,   1982.3,2,   2132.1,2,    -3.47,2,  -999.00,  -999.00,9,  -999.00,  -999.00,9,  -999.00,  -999.00,9,        -999,         -999,9,  -999.00,  -999.00,9, 22.8087526,2,  4.06598378,2,     75.5,2,      5.5,2,      5.6,2,     -999,5,      -999,9,     0.08,2,     0.07,2,  -1.0510
  32H120020718,    31,  8,      6,2,20020812, 73.4206,-157.3990, 3132,     36.2,  -1.2894,  30.8331,2,-999.0000,9,    381.5,2,    390.7,2,     9.38,2,     1.30,2,     0.09,2,     0.94,2,     0.42,2,   -999.0,9,   -999.0,9,  -999.00,9,  -999.00,  -999.00,9,  -999.00,  -999.00,9,  -999.00,  -999.00,9,        -999,         -999,9,  -999.00,  -999.00,9,       -999,9,        -999,9,   -999.0,9,   -999.0,9,   -999.0,9,     0.02,2,      -999,9,     0.66,2,     0.59,2,  -1.2900
  32H120020718,    31,  9,      9,2,20020812, 73.4206,-157.3990, 3132,     36.0,  -1.5524,  30.7219,2,-999.0000,9,    368.7,2,   -999.0,9,  -999.00,9,  -999.00,9,  -999.00,9,  -999.00,9,     -999,9,   -999.0,9,   -999.0,9,  -999.00,9,  -999.00,  -999.00,9,  -999.00,  -999.00,9,  -999.00,  -999.00,9,        -999,         -999,9,  -999.00,  -999.00,9,       -999,9,        -999,9,   -999.0,9,   -999.0,9,   -999.0,9,     -999,9,      -999,9,  -999.00,9,  -999.00,9,  -1.5529
  32H120020718,    31,  9,     10,2,20020812, 73.4206,-157.3990, 3132,     36.0,  -1.5569,  30.7224,2,-999.0000,9,    368.6,2,   -999.0,9,  -999.00,9,  -999.00,9,  -999.00,9,  -999.00,9,     -999,9,   -999.0,9,   -999.0,9,  -999.00,9,  -999.00,  -999.00,9,  -999.00,  -999.00,9,  -999.00,  -999.00,9,        -999,         -999,9,  -999.00,  -999.00,9,       -999,9,        -999,9,   -999.0,9,   -999.0,9,   -999.0,9,     -999,9,      -999,9,  -999.00,9,  -999.00,9,  -1.5574
  32H120020718,    31,  9,      8,2,20020812, 73.4206,-157.3990, 3132,     36.0,  -1.5609,  30.7303,2,-999.0000,9,    368.6,2,   -999.0,9,  -999.00,9,  -999.00,9,  -999.00,9,  -999.00,9,     -999,9,   -999.0,9,   -999.0,9,  -999.00,9,  -999.00,  -999.00,9,  -999.00,  -999.00,9,  -999.00,  -999.00,9,        -999,         -999,9,  -999.00,  -999.00,9,       -999,9,        -999,9,   -999.0,9,   -999.0,9,   -999.0,9,     -999,9,      -999,9,  -999.00,9,  -999.00,9,  -1.5614
  32H120020718,    31,  9,      4,2,20020812, 73.4206,-157.3990, 3132,     36.0,  -1.5617,  30.7238,2,-999.0000,9,    368.9,2,   -999.0,9,  -999.00,9,  -999.00,9,  -999.00,9,  -999.00,9,     -999,9,   -999.0,9,   -999.0,9,  -999.00,9,  -999.00,  -999.00,9,  -999.00,  -999.00,9,  -999.00,  -999.00,9,        -999,         -999,9,  -999.00,  -999.00,9,       -999,9,        -999,9,   -999.0,9,   -999.0,9,   -999.0,9,     -999,9,      -999,9,  -999.00,9,  -999.00,9,  -1.5622
  32H120020718,    31,  9,      3,2,20020812, 73.4206,-157.3990, 3132,     36.0,  -1.5617,  30.7318,2,-999.0000,9,    369.4,2,   -999.0,9,    11.48,2,     2.17,2,     0.13,2,     1.00,2,      0.4,2,   -999.0,9,   -999.0,9,  -999.00,9,  -999.00,  -999.00,9,  -999.00,  -999.00,9,  -999.00,  -999.00,9,        -999,         -999,9,  -999.00,  -999.00,9,       -999,9,        -999,9,   -999.0,9,   -999.0,9,   -999.0,9,     0.05,2,      -999,9,  -999.00,9,  -999.00,9,  -1.5622
  32H120020718,    31,  9,     11,2,20020812, 73.4206,-157.3990, 3132,     36.0,  -1.5619,  30.7239,2,-999.0000,9,    368.0,2,   -999.0,9,  -999.00,9,  -999.00,9,  -999.00,9,  -999.00,9,     -999,9,   -999.0,9,   -999.0,9,  -999.00,9,  -999.00,  -999.00,9,  -999.00,  -999.00,9,  -999.00,  -999.00,9,        -999,         -999,9,  -999.00,  -999.00,9,       -999,9,        -999,9,   -999.0,9,   -999.0,9,   -999.0,9,     -999,9,      -999,9,  -999.00,9,  -999.00,9,  -1.5624
  32H120020718,    31,  9,     12,2,20020812, 73.4206,-157.3990, 3132,     36.0,  -1.5635,  30.7249,2,-999.0000,9,    368.1,2,   -999.0,9,  -999.00,9,  -999.00,9,  -999.00,9,  -999.00,9,     -999,9,   -999.0,9,   -999.0,9,  -999.00,9,  -999.00,  -999.00,9,  -999.00,  -999.00,9,  -999.00,  -999.00,9,        -999,         -999,9,  -999.00,  -999.00,9,       -999,9,        -999,9,   -999.0,9,   -999.0,9,   -999.0,9,     -999,9,      -999,9,  -999.00,9,  -999.00,9,  -1.5640
  32H120020718,    31,  9,      5,2,20020812, 73.4206,-157.3990, 3132,     36.0,  -1.5646,  30.7351,2,-999.0000,9,    368.7,2,   -999.0,9,  -999.00,9,  -999.00,9,  -999.00,9,  -999.00,9,     -999,9,   -999.0,9,   -999.0,9,  -999.00,9,  -999.00,  -999.00,9,  -999.00,  -999.00,9,  -999.00,  -999.00,9,        -999,         -999,9,  -999.00,  -999.00,9,       -999,9,        -999,9,   -999.0,9,   -999.0,9,   -999.0,9,     -999,9,      -999,9,  -999.00,9,  -999.00,9,  -1.5651
  32H120020718,    31,  9,      7,2,20020812, 73.4206,-157.3990, 3132,     36.0,  -1.5652,  30.7369,2,-999.0000,9,    368.9,2,   -999.0,9,  -999.00,9,  -999.00,9,  -999.00,9,  -999.00,9,     -999,9,   -999.0,9,   -999.0,9,  -999.00,9,  -999.00,  -999.00,9,  -999.00,  -999.00,9,  -999.00,  -999.00,9,        -999,         -999,9,  -999.00,  -999.00,9,       -999,9,        -999,9,   -999.0,9,   -999.0,9,   -999.0,9,     -999,9,      -999,9,  -999.00,9,  -999.00,9,  -1.5657
  32H120020718,    31,  9,      6,2,20020812, 73.4206,-157.3990, 3132,     36.0,  -1.5652,  30.7369,2,-999.0000,9,    368.7,2,   -999.0,9,  -999.00,9,  -999.00,9,  -999.00,9,  -999.00,9,     -999,9,   -999.0,9,   -999.0,9,  -999.00,9,  -999.00,  -999.00,9,  -999.00,  -999.00,9,  -999.00,  -999.00,9,        -999,         -999,9,  -999.00,  -999.00,9,       -999,9,        -999,9,   -999.0,9,   -999.0,9,   -999.0,9,     -999,9,      -999,9,  -999.00,9,  -999.00,9,  -1.5657
  32H120020718,    31,  7,     12,2,20020812, 73.4206,-157.3990, 3132,     40.5,  -1.5058,  31.0286,2,-999.0000,9,    371.6,2,   -999.0,9,  -999.00,9,  -999.00,9,  -999.00,9,  -999.00,9,     -999,9,   -999.0,9,   -999.0,9,  -999.00,9,  -999.00,  -999.00,9,  -999.00,  -999.00,9,  -999.00,  -999.00,9,        -999,         -999,9,  -999.00,  -999.00,9,       -999,9,        -999,9,   -999.0,9,   -999.0,9,   -999.0,9,     -999,9,      -999,9,  -999.00,9,  -999.00,9,  -1.5064
  32H120020718,    31,  7,     11,2,20020812, 73.4206,-157.3990, 3132,     40.5,  -1.5241,  31.0397,2,-999.0000,9,    375.6,2,   -999.0,9,  -999.00,9,  -999.00,9,  -999.00,9,  -999.00,9,     -999,9,   -999.0,9,   -999.0,9,  -999.00,9,  -999.00,  -999.00,9,  -999.00,  -999.00,9,  -999.00,  -999.00,9,        -999,         -999,9,  -999.00,  -999.00,9,       -999,9,        -999,9,   -999.0,9,   -999.0,9,   -999.0,9,     -999,9,      -999,9,  -999.00,9,  -999.00,9,  -1.5247
  32H120020718,    31,  3,      9,2,20020812, 73.4206,-157.3990, 3132,     50.8,  -1.2768,  31.5964,2,  31.5748,2,    359.9,2,    374.2,2,     8.98,2,     1.70,2,     0.11,2,     1.01,2,     0.13,2,   2062.3,2,   2222.8,2,    -2.44,2,  -999.00,  -999.00,9,  -999.00,  -999.00,9,  -999.00,  -999.00,9,        -999,         -999,9,  -999.00,  -999.00,9, 26.8941992,2,  5.35144587,2,     71.2,2,      6.5,2,      8.5,2,     -999,5,      -999,9,     0.43,2,     0.38,2,  -1.2777
  32H120020718,    31,  8,      5,2,20020812, 73.4206,-157.3990, 3132,     55.1,  -0.7717,  31.7966,2,-999.0000,9,    349.2,2,    351.2,2,    13.08,2,     5.19,2,     0.08,2,     1.21,2,     0.08,2,   -999.0,9,   -999.0,9,  -999.00,9,  -999.00,  -999.00,9,  -999.00,  -999.00,9,  -999.00,  -999.00,9,        -999,         -999,9,  -999.00,  -999.00,9,       -999,9,        -999,9,   -999.0,9,   -999.0,9,   -999.0,9,        0,2,      -999,9,     0.33,2,     0.48,2,  -0.7730
  32H120020718,    31,  8,      4,2,20020812, 73.4206,-157.3990, 3132,     55.1,  -0.7743,  31.7971,2,-999.0000,9,    349.6,2,   -999.0,9,  -999.00,9,  -999.00,9,  -999.00,9,  -999.00,9,     -999,9,   -999.0,9,   -999.0,9,  -999.00,9,  -999.00,  -999.00,9,  -999.00,  -999.00,9,  -999.00,  -999.00,9,        -999,         -999,9,  -999.00,  -999.00,9,       -999,9,        -999,9,   -999.0,9,   -999.0,9,   -999.0,9,     -999,9,      -999,9,  -999.00,9,  -999.00,9,  -0.7756
  32H120020718,    31,  5,     11,2,20020812, 73.4206,-157.3990, 3132,     61.6,  -1.1047,  31.8689,2,-999.0000,9,    344.6,2,   -999.0,9,  -999.00,9,  -999.00,9,  -999.00,9,  -999.00,9,     -999,9,   -999.0,9,   -999.0,9,  -999.00,9,     1.54,     0.12,2,     6.93,     0.32,2,     5.37,     0.65,2, 0.735178716, 0.0954777553,2,     1.07,     0.31,2,       -999,9,        -999,9,   -999.0,9,   -999.0,9,   -999.0,9,     -999,9,      -999,9,  -999.00,9,  -999.00,9,  -1.1060
  32H120020718,    31,  5,     12,2,20020812, 73.4206,-157.3990, 3132,     61.6,  -1.1079,  31.8728,2,-999.0000,9,    344.3,2,   -999.0,9,  -999.00,9,  -999.00,9,  -999.00,9,  -999.00,9,     -999,9,   -999.0,9,   -999.0,9,  -999.00,9,     1.54,     0.12,2,     6.93,     0.32,2,     5.36,     0.65,2, 0.735024886, 0.0954577774,2,     1.07,     0.31,2,       -999,9,        -999,9,   -999.0,9,   -999.0,9,   -999.0,9,     -999,9,      -999,9,  -999.00,9,  -999.00,9,  -1.1092
  32H120020718,    31,  5,     10,2,20020812, 73.4206,-157.3990, 3132,     61.6,  -1.1507,  31.8657,2,-999.0000,9,    345.2,2,   -999.0,9,    16.58,2,     5.06,2,     0.16,2,     1.24,2,     0.77,2,   -999.0,9,   -999.0,9,  -999.00,9,     1.54,     0.12,2,     6.93,     0.32,2,     5.36,     0.65,2, 0.735028773, 0.0954582822,2,     1.07,     0.31,2,       -999,9,        -999,9,   -999.0,9,   -999.0,9,   -999.0,9,     0.23,2,      -999,9,  -999.00,9,  -999.00,9,  -1.1520
  32H120020718,    31,  5,      8,2,20020812, 73.4206,-157.3990, 3132,     61.6,  -1.1852,  31.8774,2,-999.0000,9,    343.9,2,   -999.0,9,  -999.00,9,  -999.00,9,  -999.00,9,  -999.00,9,     -999,9,   -999.0,9,   -999.0,9,  -999.00,9,     1.54,     0.12,2,     6.93,     0.32,2,     5.36,     0.65,2, 0.735011534, 0.0954560433,2,     1.07,     0.31,2,       -999,9,        -999,9,   -999.0,9,   -999.0,9,   -999.0,9,     -999,9,      -999,9,  -999.00,9,  -999.00,9,  -1.1864
  32H120020718,    31,  5,      9,2,20020812, 73.4206,-157.3990, 3132,     61.6,  -1.1986,  31.8666,2,-999.0000,9,    346.7,2,   -999.0,9,  -999.00,9,  -999.00,9,  -999.00,9,  -999.00,9,     -999,9,   -999.0,9,   -999.0,9,  -999.00,9,     1.54,     0.12,2,     6.93,     0.32,2,     5.36,     0.65,2, 0.735017556, 0.0954568255,2,     1.07,     0.31,2,       -999,9,        -999,9,   -999.0,9,   -999.0,9,   -999.0,9,     -999,9,      -999,9,  -999.00,9,  -999.00,9,  -1.1998
  32H120020718,    31,  5,      4,2,20020812, 73.4206,-157.3990, 3132,     61.6,  -1.2105,  31.8731,2,-999.0000,9,    344.5,2,   -999.0,9,  -999.00,9,  -999.00,9,  -999.00,9,  -999.00,9,     -999,9,   -999.0,9,   -999.0,9,  -999.00,9,     1.54,     0.12,2,     6.93,     0.31,2,     5.36,     0.65,2, 0.734991674, 0.0954534641,2,     1.07,     0.31,2,       -999,9,        -999,9,   -999.0,9,   -999.0,9,   -999.0,9,     -999,9,      -999,9,  -999.00,9,  -999.00,9,  -1.2117
  32H120020718,    31,  5,      7,2,20020812, 73.4206,-157.3990, 3132,     61.6,  -1.2188,  31.8806,2,-999.0000,9,    344.0,2,   -999.0,9,  -999.00,9,  -999.00,9,  -999.00,9,  -999.00,9,     -999,9,   -999.0,9,   -999.0,9,  -999.00,9,     1.54,     0.12,2,     6.93,     0.31,2,     5.36,     0.65,2, 0.734987622,  0.095452938,2,     1.07,     0.31,2,       -999,9,        -999,9,   -999.0,9,   -999.0,9,   -999.0,9,     -999,9,      -999,9,  -999.00,9,  -999.00,9,  -1.2200
  32H120020718,    31,  5,      3,2,20020812, 73.4206,-157.3990, 3132,     61.6,  -1.2661,  31.8742,2,-999.0000,9,    344.5,2,   -999.0,9,  -999.00,9,  -999.00,9,  -999.00,9,  -999.00,9,     -999,9,   -999.0,9,   -999.0,9,  -999.00,9,     1.54,     0.12,2,     6.93,     0.31,2,     5.36,     0.65,2, 0.734969296, 0.0954505579,2,     1.07,     0.31,2,       -999,9,        -999,9,   -999.0,9,   -999.0,9,   -999.0,9,     -999,9,      -999,9,  -999.00,9,  -999.00,9,  -1.2673
  32H120020718,    31,  5,      2,2,20020812, 73.4206,-157.3990, 3132,     61.6,  -1.2937,  31.8748,2,-999.0000,9,    346.9,2,   -999.0,9,  -999.00,9,  -999.00,9,  -999.00,9,  -999.00,9,     -999,9,   -999.0,9,   -999.0,9,  -999.00,9,     1.54,     0.12,2,     6.93,     0.31,2,     5.36,     0.65,2, 0.734969022, 0.0954505224,2,     1.07,     0.31,2,       -999,9,        -999,9,   -999.0,9,   -999.0,9,   -999.0,9,     -999,9,      -999,9,  -999.00,9,  -999.00,9,  -1.2949
  32H120020718,    31,  5,      1,2,20020812, 73.4206,-157.3990, 3132,     61.6,  -1.3287,  31.8642,2,-999.0000,9,    350.8,2,   -999.0,9,  -999.00,9,  -999.00,9,  -999.00,9,  -999.00,9,     -999,9,   -999.0,9,   -999.0,9,  -999.00,9,     1.55,     0.12,2,     6.95,     0.32,2,     5.38,     0.65,2, 0.737127132, 0.0957307964,2,     1.07,     0.31,2,       -999,9,        -999,9,   -999.0,9,   -999.0,9,   -999.0,9,     -999,9,      -999,9,  -999.00,9,  -999.00,9,  -1.3299
  32H120020718,    31,  5,      6,2,20020812, 73.4206,-157.3990, 3132,     61.7,  -1.1903,  31.8756,2,-999.0000,9,    344.1,2,   -999.0,9,  -999.00,9,  -999.00,9,  -999.00,9,  -999.00,9,     -999,9,   -999.0,9,   -999.0,9,  -999.00,9,     1.55,     0.12,2,     6.95,     0.32,2,     5.38,     0.65,2, 0.737114777, 0.0957291918,2,     1.07,     0.31,2,       -999,9,        -999,9,   -999.0,9,   -999.0,9,   -999.0,9,     -999,9,      -999,9,  -999.00,9,  -999.00,9,  -1.1915
  32H120020718,    31,  5,      5,2,20020812, 73.4206,-157.3990, 3132,     61.7,  -1.2312,  31.8769,2,-999.0000,9,    344.2,2,   -999.0,9,  -999.00,9,  -999.00,9,  -999.00,9,  -999.00,9,     -999,9,   -999.0,9,   -999.0,9,  -999.00,9,     1.54,     0.12,2,     6.94,     0.32,2,     5.37,     0.65,2,  0.73630674, 0.0956242519,2,     1.07,     0.31,2,       -999,9,        -999,9,   -999.0,9,   -999.0,9,   -999.0,9,     -999,9,      -999,9,  -999.00,9,  -999.00,9,  -1.2324