BOTTLE,20090202PRINUNIVRMK
EXPOCODE,STNNBR,CASTNO,BTLNBR,BTLNBR_FLAG_W,DATE,LATITUDE,LONGITUDE,DEPTH,CTDPRS,CTDTMP,CTDSAL,CTDSAL_FLAG_W,SALNTY,SALNTY_FLAG_W,CTDOXY,CTDOXY_FLAG_W,OXYGEN,OXYGEN_FLAG_W,SILCAT,SILCAT_FLAG_W,NITRAT,NITRAT_FLAG_W,NITRIT,NITRIT_FLAG_W,PHSPHT,PHSPHT_FLAG_W,AMMONI,AMMONI_FLAG_W,TCARBN,TCARBN_FLAG_W,ALKALI,ALKALI_FLAG_W,DELO18,DELO18_FLAG_W,RA-224,RA-224E,RA-224_FLAG_W,RA-226,RA-226E,RA-226_FLAG_W,RA-228,RA-228E,RA-228_FLAG_W,RA-8/6,RA-8/6E,RA-8/6_FLAG_W,TH-228,TH-228E,TH-228_FLAG_W,POC,POC_FLAG_W,PON,PON_FLAG_W,DOC,DOC_FLAG_W,DON,DON_FLAG_W,TDN,TDN_FLAG_W,UREA,UREA_FLAG_W,LIGNIN,LIGNIN_FLAG_W,CHLORA,CHLORA_FLAG_W,PHAEO,PHAEO_FLAG_W,THETA
,,,,,,,,METERS,DBARS,ITS-90,PSS-78,,PSS-78,,UMOL/KG,,UMOL/KG,,UMOL/KG,,UMOL/KG,,UMOL/KG,,UMOL/KG,,UMOL/KG,,UMOL/KG,,UMOL/KG,,O/OO,,DPM/100KG,DPM/100KG,,DPM/100KG,DPM/100KG,,DPM/100KG,DPM/100KG,,,,,DPM/100KG,DPM/100KG,,ug/kg,,ug/kg,,UMOL/KG,,UMOL/KG,,UMOL/KG,,UMOL/KG,,NG/KG,,UG/L,,UG/L,,DEGC
  32H120020718,    42,  2,     11,2,20020819, 73.3109,-164.4890,   74,      5.9,   0.3092,  27.7292,2,-999.0000,9,    364.9,2,   -999.0,9,  -999.00,9,  -999.00,9,  -999.00,9,  -999.00,9,     -999,9,   -999.0,9,   -999.0,9,  -999.00,9,  -999.00,  -999.00,9,  -999.00,  -999.00,9,  -999.00,  -999.00,9,        -999,         -999,9,  -999.00,  -999.00,9,       -999,9,        -999,9,   -999.0,9,   -999.0,9,   -999.0,9,     -999,9,      -999,9,  -999.00,9,  -999.00,9,   0.3091
  32H120020718,    42,  2,     12,2,20020819, 73.3109,-164.4890,   74,      5.9,   0.5313,  27.7281,2,-999.0000,9,    364.5,2,   -999.0,9,  -999.00,5,  -999.00,5,  -999.00,5,  -999.00,5,     -999,5,   -999.0,9,   -999.0,9,  -999.00,9,  -999.00,  -999.00,9,  -999.00,  -999.00,9,  -999.00,  -999.00,9,        -999,         -999,9,  -999.00,  -999.00,9,       -999,9,        -999,9,   -999.0,9,   -999.0,9,   -999.0,9,     -999,5,      -999,9,  -999.00,9,  -999.00,9,   0.5311
  32H120020718,    42,  1,     10,2,20020819, 73.3109,-164.4890,   74,      9.1,   0.2084,  27.7205,2,-999.0000,9,    365.2,2,    371.7,2,     2.87,2,     0.07,2,     0.00,2,     0.65,2,     0.03,2,   1871.7,2,   -999.0,9,  -999.00,9,  -999.00,  -999.00,9,  -999.00,  -999.00,9,  -999.00,  -999.00,9,        -999,         -999,9,  -999.00,  -999.00,9,       -999,9,        -999,9,   -999.0,9,   -999.0,9,   -999.0,9,        0,2,      -999,9,     0.10,2,     0.05,2,   0.2082
  32H120020718,    42,  1,      9,2,20020819, 73.3109,-164.4890,   74,     15.2,  -0.9223,  30.4038,2,-999.0000,9,    428.2,2,    439.0,2,     2.86,2,     0.07,2,     0.00,2,     0.72,2,     0.03,2,   1974.6,2,   -999.0,9,  -999.00,9,  -999.00,  -999.00,9,  -999.00,  -999.00,9,  -999.00,  -999.00,9,        -999,         -999,9,  -999.00,  -999.00,9,       -999,9,        -999,9,   -999.0,9,   -999.0,9,   -999.0,9,        0,2,      -999,9,     0.26,2,     0.13,2,  -0.9226
  32H120020718,    42,  1,      7,2,20020819, 73.3109,-164.4890,   74,     23.3,  -1.2500,  31.3208,2,-999.0000,9,    442.0,2,   -999.0,9,  -999.00,9,  -999.00,9,  -999.00,9,  -999.00,9,     -999,9,   -999.0,9,   -999.0,9,  -999.00,9,  -999.00,  -999.00,9,  -999.00,  -999.00,9,  -999.00,  -999.00,9,        -999,         -999,9,  -999.00,  -999.00,9,       -999,9,        -999,9,   -999.0,9,   -999.0,9,   -999.0,9,     -999,9,      -999,9,  -999.00,9,  -999.00,9,  -1.2504
  32H120020718,    42,  1,      8,2,20020819, 73.3109,-164.4890,   74,     23.3,  -1.2528,  31.3371,2,-999.0000,9,    443.4,2,    464.9,2,     7.78,2,     0.07,2,     0.00,2,     0.78,2,     0.05,2,   1987.3,2,   -999.0,9,  -999.00,9,  -999.00,  -999.00,9,  -999.00,  -999.00,9,  -999.00,  -999.00,9,        -999,         -999,9,  -999.00,  -999.00,9,       -999,9,        -999,9,   -999.0,9,   -999.0,9,   -999.0,9,     0.03,2,      -999,9,     0.43,2,     0.30,2,  -1.2532
  32H120020718,    42,  2,      1,2,20020819, 73.3109,-164.4890,   74,     32.1,  -1.5568,  32.0716,2,-999.0000,9,    295.9,2,   -999.0,9,    18.60,3,     8.26,3,     0.13,3,     1.53,3,     0.29,3,   -999.0,9,   -999.0,9,  -999.00,9,  -999.00,  -999.00,9,  -999.00,  -999.00,9,  -999.00,  -999.00,9,        -999,         -999,9,  -999.00,  -999.00,9,       -999,9,        -999,9,   -999.0,9,   -999.0,9,   -999.0,9,     0.05,3,      -999,9,  -999.00,9,  -999.00,9,  -1.5573
  32H120020718,    42,  2,      2,2,20020819, 73.3109,-164.4890,   74,     32.1,  -1.5570,  32.0761,2,-999.0000,9,    296.0,2,   -999.0,9,  -999.00,9,  -999.00,9,  -999.00,9,  -999.00,9,     -999,9,   -999.0,9,   -999.0,9,  -999.00,9,  -999.00,  -999.00,9,  -999.00,  -999.00,9,  -999.00,  -999.00,9,        -999,         -999,9,  -999.00,  -999.00,9,       -999,9,        -999,9,   -999.0,9,   -999.0,9,   -999.0,9,     -999,9,      -999,9,  -999.00,9,  -999.00,9,  -1.5575
  32H120020718,    42,  2,      3,2,20020819, 73.3109,-164.4890,   74,     32.1,  -1.5572,  32.0754,2,-999.0000,9,    296.1,2,   -999.0,9,  -999.00,9,  -999.00,9,  -999.00,9,  -999.00,9,     -999,9,   -999.0,9,   -999.0,9,  -999.00,9,  -999.00,  -999.00,9,  -999.00,  -999.00,9,  -999.00,  -999.00,9,        -999,         -999,9,  -999.00,  -999.00,9,       -999,9,        -999,9,   -999.0,9,   -999.0,9,   -999.0,9,     -999,9,      -999,9,  -999.00,9,  -999.00,9,  -1.5577
  32H120020718,    42,  2,      5,2,20020819, 73.3109,-164.4890,   74,     32.1,  -1.5574,  32.0721,2,-999.0000,9,    296.0,2,   -999.0,9,  -999.00,9,  -999.00,9,  -999.00,9,  -999.00,9,     -999,9,   -999.0,9,   -999.0,9,  -999.00,9,  -999.00,  -999.00,9,  -999.00,  -999.00,9,  -999.00,  -999.00,9,        -999,         -999,9,  -999.00,  -999.00,9,       -999,9,        -999,9,   -999.0,9,   -999.0,9,   -999.0,9,     -999,9,      -999,9,  -999.00,9,  -999.00,9,  -1.5579
  32H120020718,    42,  2,     10,2,20020819, 73.3109,-164.4890,   74,     32.1,  -1.5575,  32.0681,2,-999.0000,9,    295.9,2,   -999.0,9,  -999.00,9,  -999.00,9,  -999.00,9,  -999.00,9,     -999,9,   -999.0,9,   -999.0,9,  -999.00,9,  -999.00,  -999.00,9,  -999.00,  -999.00,9,  -999.00,  -999.00,9,        -999,         -999,9,  -999.00,  -999.00,9,       -999,9,        -999,9,   -999.0,9,   -999.0,9,   -999.0,9,     -999,9,      -999,9,  -999.00,9,  -999.00,9,  -1.5580
  32H120020718,    42,  2,      6,2,20020819, 73.3109,-164.4890,   74,     32.1,  -1.5576,  32.0732,2,-999.0000,9,    296.0,2,   -999.0,9,  -999.00,9,  -999.00,9,  -999.00,9,  -999.00,9,     -999,9,   -999.0,9,   -999.0,9,  -999.00,9,  -999.00,  -999.00,9,  -999.00,  -999.00,9,  -999.00,  -999.00,9,        -999,         -999,9,  -999.00,  -999.00,9,       -999,9,        -999,9,   -999.0,9,   -999.0,9,   -999.0,9,     -999,9,      -999,9,  -999.00,9,  -999.00,9,  -1.5581
  32H120020718,    42,  2,      4,2,20020819, 73.3109,-164.4890,   74,     32.1,  -1.5576,  32.0736,2,-999.0000,9,    296.0,2,   -999.0,9,  -999.00,9,  -999.00,9,  -999.00,9,  -999.00,9,     -999,9,   -999.0,9,   -999.0,9,  -999.00,9,  -999.00,  -999.00,9,  -999.00,  -999.00,9,  -999.00,  -999.00,9,        -999,         -999,9,  -999.00,  -999.00,9,       -999,9,        -999,9,   -999.0,9,   -999.0,9,   -999.0,9,     -999,9,      -999,9,  -999.00,9,  -999.00,9,  -1.5581
  32H120020718,    42,  2,      8,2,20020819, 73.3109,-164.4890,   74,     32.1,  -1.5578,  32.0743,2,-999.0000,9,    295.8,2,   -999.0,9,  -999.00,9,  -999.00,9,  -999.00,9,  -999.00,9,     -999,9,   -999.0,9,   -999.0,9,  -999.00,9,  -999.00,  -999.00,9,  -999.00,  -999.00,9,  -999.00,  -999.00,9,        -999,         -999,9,  -999.00,  -999.00,9,       -999,9,        -999,9,   -999.0,9,   -999.0,9,   -999.0,9,     -999,9,      -999,9,  -999.00,9,  -999.00,9,  -1.5583
  32H120020718,    42,  2,      9,2,20020819, 73.3109,-164.4890,   74,     32.1,  -1.5579,  32.0728,2,-999.0000,9,    295.9,2,   -999.0,9,  -999.00,9,  -999.00,9,  -999.00,9,  -999.00,9,     -999,9,   -999.0,9,   -999.0,9,  -999.00,9,  -999.00,  -999.00,9,  -999.00,  -999.00,9,  -999.00,  -999.00,9,        -999,         -999,9,  -999.00,  -999.00,9,       -999,9,        -999,9,   -999.0,9,   -999.0,9,   -999.0,9,     -999,9,      -999,9,  -999.00,9,  -999.00,9,  -1.5584
  32H120020718,    42,  2,      7,2,20020819, 73.3109,-164.4890,   74,     32.1,  -1.5580,  32.0765,2,-999.0000,9,    295.8,2,   -999.0,9,  -999.00,9,  -999.00,9,  -999.00,9,  -999.00,9,     -999,9,   -999.0,9,   -999.0,9,  -999.00,9,  -999.00,  -999.00,9,  -999.00,  -999.00,9,  -999.00,  -999.00,9,        -999,         -999,9,  -999.00,  -999.00,9,       -999,9,        -999,9,   -999.0,9,   -999.0,9,   -999.0,9,     -999,9,      -999,9,  -999.00,9,  -999.00,9,  -1.5585
  32H120020718,    42,  1,      4,2,20020819, 73.3109,-164.4890,   74,     36.2,  -1.3761,  32.0213,2,-999.0000,9,    324.2,2,   -999.0,9,  -999.00,9,  -999.00,9,  -999.00,9,  -999.00,9,     -999,9,   -999.0,9,   -999.0,9,  -999.00,9,  -999.00,  -999.00,9,  -999.00,  -999.00,9,  -999.00,  -999.00,9,        -999,         -999,9,  -999.00,  -999.00,9,       -999,9,        -999,9,   -999.0,9,   -999.0,9,   -999.0,9,     -999,9,      -999,9,  -999.00,9,  -999.00,9,  -1.3768
  32H120020718,    42,  1,      5,2,20020819, 73.3109,-164.4890,   74,     36.2,  -1.3788,  32.0245,2,-999.0000,9,    324.2,2,   -999.0,9,  -999.00,9,  -999.00,9,  -999.00,9,  -999.00,9,     -999,9,   -999.0,9,   -999.0,9,  -999.00,9,  -999.00,  -999.00,9,  -999.00,  -999.00,9,  -999.00,  -999.00,9,        -999,         -999,9,  -999.00,  -999.00,9,       -999,9,        -999,9,   -999.0,9,   -999.0,9,   -999.0,9,     -999,9,      -999,9,  -999.00,9,  -999.00,9,  -1.3795
  32H120020718,    42,  1,      6,2,20020819, 73.3109,-164.4890,   74,     36.2,  -1.4082,  32.0275,2,-999.0000,9,    323.3,2,    334.4,2,    18.06,2,     6.79,2,     0.12,2,     1.38,2,     0.29,2,   2114.6,2,   -999.0,9,  -999.00,9,  -999.00,  -999.00,9,  -999.00,  -999.00,9,  -999.00,  -999.00,9,        -999,         -999,9,  -999.00,  -999.00,9,       -999,9,        -999,9,   -999.0,9,   -999.0,9,   -999.0,9,     0.02,2,      -999,9,     1.25,2,     0.65,2,  -1.4089
  32H120020718,    42,  1,      3,2,20020819, 73.3109,-164.4890,   74,     55.3,  -1.6326,  32.6016,2,-999.0000,9,    264.0,2,    272.7,2,    51.27,2,    16.77,2,     0.17,2,     2.16,2,     0.98,2,   2178.4,2,   -999.0,9,  -999.00,9,  -999.00,  -999.00,9,  -999.00,  -999.00,9,  -999.00,  -999.00,9,        -999,         -999,9,  -999.00,  -999.00,9,       -999,9,        -999,9,   -999.0,9,   -999.0,9,   -999.0,9,        0,2,      -999,9,     0.18,2,     0.42,2,  -1.6336
  32H120020718,    42,  1,      2,2,20020819, 73.3109,-164.4890,   74,     55.3,  -1.6339,  32.6090,2,-999.0000,9,    263.8,2,   -999.0,9,  -999.00,9,  -999.00,9,  -999.00,9,  -999.00,9,     -999,9,   -999.0,9,   -999.0,9,  -999.00,9,  -999.00,  -999.00,9,  -999.00,  -999.00,9,  -999.00,  -999.00,9,        -999,         -999,9,  -999.00,  -999.00,9,       -999,9,        -999,9,   -999.0,9,   -999.0,9,   -999.0,9,     -999,9,      -999,9,  -999.00,9,  -999.00,9,  -1.6349
  32H120020718,    42,  1,      1,2,20020819, 73.3109,-164.4890,   74,     68.5,  -1.6245,  33.1837,2,-999.0000,9,    254.4,2,   -999.0,9,  -999.00,9,  -999.00,9,  -999.00,9,  -999.00,9,     -999,9,   -999.0,9,   -999.0,9,  -999.00,9,  -999.00,  -999.00,9,  -999.00,  -999.00,9,  -999.00,  -999.00,9,        -999,         -999,9,  -999.00,  -999.00,9,       -999,9,        -999,9,   -999.0,9,   -999.0,9,   -999.0,9,     -999,9,      -999,9,  -999.00,9,  -999.00,9,  -1.6258
  32H120020718,    43,  1,     12,2,20020819, 73.6302,-165.4010,  123,      2.3,  -0.2333,  27.4949,2,  27.4940,2,    365.0,2,    372.3,2,     2.95,2,     0.05,2,     0.00,2,     0.67,2,     0.01,2,   1866.8,2,   2024.3,2,    -3.38,2,  -999.00,  -999.00,9,  -999.00,  -999.00,9,  -999.00,  -999.00,9,        -999,         -999,9,  -999.00,  -999.00,9, 32.9228491,2,  5.27943946,2,     67.7,2,      6.5,2,      6.6,2,        0,2,      -999,9,     0.07,2,     0.05,2,  -0.2333
  32H120020718,    43, 99,      1,9,20020819, 73.6302,-165.4010,  123,      8.1,-999.0000,-999.0000,9,-999.0000,9,   -999.0,9,   -999.0,9,  -999.00,9,  -999.00,9,  -999.00,9,  -999.00,9,     -999,9,   -999.0,9,   -999.0,9,  -999.00,9,     1.50,     0.09,2,     6.51,     0.12,2,     2.29,     0.45,2, 0.334630925, 0.0669261851,2,     0.75,     0.22,2,       -999,9,        -999,9,   -999.0,9,   -999.0,9,   -999.0,9,     -999,9,      -999,9,  -999.00,9,  -999.00,9,-999.0000
  32H120020718,    43,  3,     12,2,20020819, 73.6302,-165.4010,  123,     11.4,  -0.1246,  27.6064,2,-999.0000,9,    364.3,2,   -999.0,9,  -999.00,9,  -999.00,9,  -999.00,9,  -999.00,9,     -999,9,   -999.0,9,   -999.0,9,  -999.00,9,  -999.00,  -999.00,9,  -999.00,  -999.00,9,  -999.00,  -999.00,9,        -999,         -999,9,  -999.00,  -999.00,9,       -999,9,        -999,9,   -999.0,9,   -999.0,9,   -999.0,9,     -999,9,      -999,9,  -999.00,9,  -999.00,9,  -0.1248
  32H120020718,    43,  3,     11,2,20020819, 73.6302,-165.4010,  123,     11.4,  -0.1253,  27.6079,2,-999.0000,9,    364.3,2,   -999.0,9,  -999.00,9,  -999.00,9,  -999.00,9,  -999.00,9,     -999,9,   -999.0,9,   -999.0,9,  -999.00,9,  -999.00,  -999.00,9,  -999.00,  -999.00,9,  -999.00,  -999.00,9,        -999,         -999,9,  -999.00,  -999.00,9,       -999,9,        -999,9,   -999.0,9,   -999.0,9,   -999.0,9,     -999,9,      -999,9,  -999.00,9,  -999.00,9,  -0.1255
  32H120020718,    43,  1,     11,2,20020819, 73.6302,-165.4010,  123,     15.8,  -0.1822,  27.6064,2,  27.9998,2,    369.3,2,    380.3,2,     2.95,2,     0.05,2,     0.00,2,     0.68,2,        0,2,   1888.2,2,   2071.6,2,    -3.30,2,  -999.00,  -999.00,9,  -999.00,  -999.00,9,  -999.00,  -999.00,9,        -999,         -999,9,  -999.00,  -999.00,9, 41.9056192,2,  6.76847186,2,     70.5,2,      6.8,2,      6.9,2,        0,2,      -999,9,     0.10,2,     0.08,2,  -0.1825
  32H120020718,    43,  1,     10,2,20020819, 73.6302,-165.4010,  123,     20.7,  -1.1227,  30.3379,2,  31.0311,2,    401.7,2,    414.1,2,     3.61,2,     0.05,2,     0.00,2,     0.77,2,        0,2,   -999.0,9,   -999.0,9,    -3.10,2,  -999.00,  -999.00,9,  -999.00,  -999.00,9,  -999.00,  -999.00,9,        -999,         -999,9,  -999.00,  -999.00,9,       -999,9,        -999,9,   -999.0,9,   -999.0,9,   -999.0,9,        0,2,      -999,9,     0.14,2,     0.09,2,  -1.1231
  32H120020718,    43,  1,      9,2,20020819, 73.6302,-165.4010,  123,     31.0,  -1.2955,  31.1932,2,  31.2139,2,    407.8,2,    415.3,2,     5.24,2,     0.05,2,     0.00,2,     0.86,2,        0,2,   2046.7,2,   2225.0,2,    -2.68,2,  -999.00,  -999.00,9,  -999.00,  -999.00,9,  -999.00,  -999.00,9,        -999,         -999,9,  -999.00,  -999.00,9, 87.0260831,2,  14.1895724,2,     67.7,2,     10.1,2,     10.1,2,        0,2,      -999,9,     0.41,2,     0.24,2,  -1.2960
  32H120020718,    43,  1,      8,2,20020819, 73.6302,-165.4010,  123,     41.0,  -1.4126,  31.6802,2,  31.6924,2,    341.2,2,    350.7,2,     8.72,2,     4.27,2,     0.10,2,     1.25,2,     0.22,2,   2092.0,2,   2251.9,2,    -2.27,2,  -999.00,  -999.00,9,  -999.00,  -999.00,9,  -999.00,  -999.00,9,        -999,         -999,9,  -999.00,  -999.00,9, 201.762399,2,  38.1513824,2,     70.3,2,      6.4,2,     11.0,2,     0.03,2,      -999,9,     9.60,2,     3.97,2,  -1.4133
  32H120020718,    43,  1,      7,2,20020819, 73.6302,-165.4010,  123,     46.3,  -1.4649,  31.8839,2,  31.8818,2,    318.0,2,    328.5,2,    16.47,2,     6.53,2,     0.10,2,     1.37,2,     0.26,2,   -999.0,9,   -999.0,9,    -2.09,2,  -999.00,  -999.00,9,  -999.00,  -999.00,9,  -999.00,  -999.00,9,        -999,         -999,9,  -999.00,  -999.00,9,       -999,9,        -999,9,   -999.0,9,   -999.0,9,   -999.0,9,     0.02,2,      -999,9,     1.22,2,     0.90,2,  -1.4657
  32H120020718,    43,  1,      6,2,20020819, 73.6302,-165.4010,  123,     51.4,  -1.5274,  32.0363,2,  32.0338,2,    298.2,2,    308.4,2,    20.46,2,     7.62,2,     0.09,2,     1.40,2,     0.01,2,   2116.0,2,   2221.7,2,    -1.76,2,  -999.00,  -999.00,9,  -999.00,  -999.00,9,  -999.00,  -999.00,9,        -999,         -999,9,  -999.00,  -999.00,9, 53.9853185,2,  9.78972038,2,     68.0,2,     10.3,2,     18.0,2,     0.01,2,      -999,9,     0.38,2,     0.45,2,  -1.5283
  32H120020718,    43,  1,      5,2,20020819, 73.6302,-165.4010,  123,     61.0,  -1.5877,  32.1846,2,  32.2009,2,    284.9,2,    290.0,2,    32.29,2,    10.91,2,     0.14,2,     1.71,2,     0.26,2,   2134.7,2,   2233.0,2,    -1.54,2,  -999.00,  -999.00,9,  -999.00,  -999.00,9,  -999.00,  -999.00,9,        -999,         -999,9,  -999.00,  -999.00,9, 44.9624541,2,  7.49048945,2,     67.0,2,      7.4,2,     18.7,2,     0.02,2,      -999,9,     0.40,2,     0.42,2,  -1.5888