BOTTLE,20090202PRINUNIVRMK
EXPOCODE,STNNBR,CASTNO,BTLNBR,BTLNBR_FLAG_W,DATE,LATITUDE,LONGITUDE,DEPTH,CTDPRS,CTDTMP,CTDSAL,CTDSAL_FLAG_W,SALNTY,SALNTY_FLAG_W,CTDOXY,CTDOXY_FLAG_W,OXYGEN,OXYGEN_FLAG_W,SILCAT,SILCAT_FLAG_W,NITRAT,NITRAT_FLAG_W,NITRIT,NITRIT_FLAG_W,PHSPHT,PHSPHT_FLAG_W,AMMONI,AMMONI_FLAG_W,TCARBN,TCARBN_FLAG_W,ALKALI,ALKALI_FLAG_W,DELO18,DELO18_FLAG_W,RA-224,RA-224E,RA-224_FLAG_W,RA-226,RA-226E,RA-226_FLAG_W,RA-228,RA-228E,RA-228_FLAG_W,RA-8/6,RA-8/6E,RA-8/6_FLAG_W,TH-228,TH-228E,TH-228_FLAG_W,POC,POC_FLAG_W,PON,PON_FLAG_W,DOC,DOC_FLAG_W,DON,DON_FLAG_W,TDN,TDN_FLAG_W,UREA,UREA_FLAG_W,LIGNIN,LIGNIN_FLAG_W,CHLORA,CHLORA_FLAG_W,PHAEO,PHAEO_FLAG_W,THETA
,,,,,,,,METERS,DBARS,ITS-90,PSS-78,,PSS-78,,UMOL/KG,,UMOL/KG,,UMOL/KG,,UMOL/KG,,UMOL/KG,,UMOL/KG,,UMOL/KG,,UMOL/KG,,UMOL/KG,,O/OO,,DPM/100KG,DPM/100KG,,DPM/100KG,DPM/100KG,,DPM/100KG,DPM/100KG,,,,,DPM/100KG,DPM/100KG,,ug/kg,,ug/kg,,UMOL/KG,,UMOL/KG,,UMOL/KG,,UMOL/KG,,NG/KG,,UG/L,,UG/L,,DEGC
  32H120020718,    15,  1,     12,2,20020724, 71.9866,-154.6890,  938,      1.7,  -1.2086,  27.8916,2,-999.0000,9,    396.5,2,   -999.0,9,  -999.00,9,  -999.00,9,  -999.00,9,  -999.00,9,     -999,9,   1756.5,2,   1954.4,2,  -999.00,9,  -999.00,  -999.00,9,  -999.00,  -999.00,9,  -999.00,  -999.00,9,        -999,         -999,9,  -999.00,  -999.00,9,       -999,9,        -999,9,   -999.0,9,   -999.0,9,   -999.0,9,     -999,9,      -999,9,  -999.00,9,  -999.00,9,  -1.2086
  32H120020718,    15,  1,     11,2,20020724, 71.9866,-154.6890,  938,      1.7,  -1.2138,  28.0506,2,-999.0000,9,    396.3,2,    406.9,2,     7.36,2,     0.04,2,     0.01,2,     0.60,2,     0.15,2,   -999.0,9,   -999.0,9,  -999.00,9,  -999.00,  -999.00,9,  -999.00,  -999.00,9,  -999.00,  -999.00,9,        -999,         -999,9,  -999.00,  -999.00,9,       -999,9,        -999,9,   -999.0,9,   -999.0,9,   -999.0,9,        0,2,      -999,9,     0.74,2,     0.43,2,  -1.2138
  32H120020718,    15,  1,     10,2,20020724, 71.9866,-154.6890,  938,      4.9,  -1.2571,  28.8981,2,-999.0000,9,    394.2,2,    407.6,2,     7.56,2,     0.04,2,     0.01,2,     0.65,2,     0.11,2,   1888.7,2,   2118.8,2,  -999.00,9,  -999.00,  -999.00,9,  -999.00,  -999.00,9,  -999.00,  -999.00,9,        -999,         -999,9,  -999.00,  -999.00,9,       -999,9,        -999,9,   -999.0,9,   -999.0,9,   -999.0,9,     0.01,2,      -999,9,     0.62,2,     0.43,2,  -1.2572
  32H120020718,    15,  1,      8,2,20020724, 71.9866,-154.6890,  938,      7.7,  -1.2858,  29.3952,2,-999.0000,9,    402.1,2,   -999.0,9,  -999.00,9,  -999.00,9,  -999.00,9,  -999.00,9,     -999,9,   -999.0,9,   -999.0,9,  -999.00,9,  -999.00,  -999.00,9,  -999.00,  -999.00,9,  -999.00,  -999.00,9,        -999,         -999,9,  -999.00,  -999.00,9,       -999,9,        -999,9,   -999.0,9,   -999.0,9,   -999.0,9,     -999,9,      -999,9,  -999.00,9,  -999.00,9,  -1.2859
  32H120020718,    15,  1,      9,2,20020724, 71.9866,-154.6890,  938,      7.7,  -1.2877,  29.3797,2,-999.0000,9,    401.4,2,    419.9,2,     8.07,2,     0.03,2,     0.01,2,     0.70,2,     0.15,2,   1923.0,2,   2171.6,2,  -999.00,9,  -999.00,  -999.00,9,  -999.00,  -999.00,9,  -999.00,  -999.00,9,        -999,         -999,9,  -999.00,  -999.00,9,       -999,9,        -999,9,   -999.0,9,   -999.0,9,   -999.0,9,     0.14,2,      -999,9,     0.95,2,     0.54,2,  -1.2878
  32H120020718,    15,  1,      7,2,20020724, 71.9866,-154.6890,  938,     11.6,  -1.1450,  30.3097,2,-999.0000,9,    409.6,2,    425.4,2,     9.19,2,     0.03,2,     0.01,2,     0.74,2,     0.09,2,   1966.2,2,   2197.9,2,  -999.00,9,  -999.00,  -999.00,9,  -999.00,  -999.00,9,  -999.00,  -999.00,9,        -999,         -999,9,  -999.00,  -999.00,9,       -999,9,        -999,9,   -999.0,9,   -999.0,9,   -999.0,9,     0.04,2,      -999,9,     1.21,2,     0.70,2,  -1.1452
  32H120020718,    15,  1,      6,2,20020724, 71.9866,-154.6890,  938,     17.7,  -1.5269,  31.1490,2,-999.0000,9,    372.4,2,    408.0,2,    12.76,2,     0.73,2,     0.06,2,     0.90,2,      0.3,2,   2030.9,2,   2255.9,2,  -999.00,9,  -999.00,  -999.00,9,  -999.00,  -999.00,9,  -999.00,  -999.00,9,        -999,         -999,9,  -999.00,  -999.00,9,       -999,9,        -999,9,   -999.0,9,   -999.0,9,   -999.0,9,     0.06,2,      -999,9,     1.56,2,     0.75,2,  -1.5272
  32H120020718,    15,  1,      5,2,20020724, 71.9866,-154.6890,  938,     26.6,  -1.3097,  31.5557,2,-999.0000,9,    367.0,2,    375.1,2,    18.47,2,     2.35,2,     0.10,2,     1.09,2,     1.37,2,   -999.0,9,   -999.0,9,  -999.00,9,  -999.00,  -999.00,9,  -999.00,  -999.00,9,  -999.00,  -999.00,9,        -999,         -999,9,  -999.00,  -999.00,9,       -999,9,        -999,9,   -999.0,9,   -999.0,9,   -999.0,9,        0,2,      -999,9,     1.67,2,     0.95,2,  -1.3102
  32H120020718,    15,  1,      4,2,20020724, 71.9866,-154.6890,  938,     26.6,  -1.3117,  31.5565,2,-999.0000,9,    367.5,2,   -999.0,9,  -999.00,9,  -999.00,9,  -999.00,9,  -999.00,9,     -999,9,   2078.0,2,   2211.9,2,  -999.00,9,  -999.00,  -999.00,9,  -999.00,  -999.00,9,  -999.00,  -999.00,9,        -999,         -999,9,  -999.00,  -999.00,9,       -999,9,        -999,9,   -999.0,9,   -999.0,9,   -999.0,9,     -999,9,      -999,9,  -999.00,9,  -999.00,9,  -1.3122
  32H120020718,    15,  1,      3,2,20020724, 71.9866,-154.6890,  938,     50.9,  -1.5215,  32.1156,2,-999.0000,9,    346.8,2,    346.8,2,  -999.00,9,  -999.00,9,  -999.00,9,  -999.00,9,     -999,9,   2124.0,2,   2288.1,2,  -999.00,9,  -999.00,  -999.00,9,  -999.00,  -999.00,9,  -999.00,  -999.00,9,        -999,         -999,9,  -999.00,  -999.00,9,       -999,9,        -999,9,   -999.0,9,   -999.0,9,   -999.0,9,     -999,9,      -999,9,  -999.00,9,  -999.00,9,  -1.5224
  32H120020718,    15,  1,      2,2,20020724, 71.9866,-154.6890,  938,    131.1,  -1.7039,  33.4738,2,-999.0000,9,    301.5,2,    308.3,2,  -999.00,9,  -999.00,9,  -999.00,9,  -999.00,9,     -999,9,   -999.0,5,   2376.2,2,  -999.00,9,  -999.00,  -999.00,9,  -999.00,  -999.00,9,  -999.00,  -999.00,9,        -999,         -999,9,  -999.00,  -999.00,9,       -999,9,        -999,9,   -999.0,9,   -999.0,9,   -999.0,9,     -999,9,      -999,9,  -999.00,9,  -999.00,9,  -1.7064
  32H120020718,    15,  1,      1,2,20020724, 71.9866,-154.6890,  938,    201.0,  -0.4206,  34.4774,2,-999.0000,9,    277.3,2,    283.1,2,  -999.00,9,  -999.00,9,  -999.00,9,  -999.00,9,     -999,9,   -999.0,9,   -999.0,9,  -999.00,9,  -999.00,  -999.00,9,  -999.00,  -999.00,9,  -999.00,  -999.00,9,        -999,         -999,9,  -999.00,  -999.00,9,       -999,9,        -999,9,   -999.0,9,   -999.0,9,   -999.0,9,     -999,9,      -999,9,  -999.00,9,  -999.00,9,  -0.4273
  32H120020718,    16,  2,     12,2,20020725, 72.1414,-154.2690, 1347,      2.0,  -1.4627,  28.6719,2,  10.9872,2,    398.8,2,   -999.0,9,  -999.00,9,  -999.00,9,  -999.00,9,  -999.00,9,     -999,9,   -999.0,9,   -999.0,9,  -999.00,9,  -999.00,  -999.00,9,  -999.00,  -999.00,9,  -999.00,  -999.00,9,        -999,         -999,9,  -999.00,  -999.00,9,       -999,9,        -999,9,   -999.0,9,   -999.0,9,   -999.0,9,     -999,9,      -999,9,  -999.00,9,  -999.00,9,  -1.4627
  32H120020718,    16,  2,     11,2,20020725, 72.1414,-154.2690, 1347,      2.0,  -1.4690,  28.7545,2,-999.0000,9,    393.1,2,    405.2,2,     4.14,2,     0.09,2,     0.04,2,     0.39,2,     0.26,2,   -999.0,9,   2043.8,9,  -999.00,9,  -999.00,  -999.00,9,  -999.00,  -999.00,9,  -999.00,  -999.00,9,        -999,         -999,9,  -999.00,  -999.00,9,       -999,9,        -999,9,   -999.0,9,   -999.0,9,   -999.0,9,     0.39,2,      -999,9,     0.91,2,     0.53,2,  -1.4690
  32H120020718,    16,  5,     12,2,20020725, 72.1414,-154.2690, 1347,      1.8,  -1.3452,  28.0295,2,  27.5682,2,    383.7,2,    395.3,2,     4.00,2,     0.19,2,     0.01,2,     0.67,2,     0.13,2,   1855.3,2,   2010.8,2,  -999.00,9,  -999.00,  -999.00,9,  -999.00,  -999.00,9,  -999.00,  -999.00,9,        -999,         -999,9,  -999.00,  -999.00,9, 48.6309871,2,  9.71440583,2,     67.5,2,      4.0,2,      4.3,2,     0.01,2,      -999,9,     0.32,2,     0.26,2,  -1.3452
  32H120020718,    16,  2,     10,2,20020725, 72.1414,-154.2690, 1347,      5.1,  -1.4875,  29.1393,2,-999.0000,9,    392.2,2,    404.5,2,     4.96,2,     0.12,2,     0.00,2,     0.72,2,     0.16,2,   -999.0,9,   2145.1,9,  -999.00,9,  -999.00,  -999.00,9,  -999.00,  -999.00,9,  -999.00,  -999.00,9,        -999,         -999,9,  -999.00,  -999.00,9,       -999,9,        -999,9,   -999.0,9,   -999.0,9,   -999.0,9,     0.04,2,      -999,9,     0.56,2,     0.54,2,  -1.4876
  32H120020718,    16,  2,      9,2,20020725, 72.1414,-154.2690, 1347,      7.7,  -1.5033,  29.1610,2,-999.0000,9,    392.2,2,    404.9,2,     5.06,2,     0.12,2,     0.00,2,     0.73,2,     0.17,2,   -999.0,9,   2101.3,9,  -999.00,9,  -999.00,  -999.00,9,  -999.00,  -999.00,9,  -999.00,  -999.00,9,        -999,         -999,9,  -999.00,  -999.00,9,       -999,9,        -999,9,   -999.0,9,   -999.0,9,   -999.0,9,     0.04,2,      -999,9,     0.64,2,     0.54,2,  -1.5034
  32H120020718,    16, 99,      1,9,20020725, 72.1414,-154.2690, 1347,      8.1,-999.0000,-999.0000,9,-999.0000,9,   -999.0,9,   -999.0,9,  -999.00,9,  -999.00,9,  -999.00,9,  -999.00,9,     -999,9,   -999.0,9,   -999.0,9,  -999.00,9,     2.45,     0.12,2,     2.03,     0.43,2,     2.68,     0.54,2,  1.26467052,  0.373652654,2,     1.54,     0.10,2,       -999,9,        -999,9,   -999.0,9,   -999.0,9,   -999.0,9,     -999,9,      -999,9,  -999.00,9,  -999.00,9,-999.0000
  32H120020718,    16,  2,      7,2,20020725, 72.1414,-154.2690, 1347,     11.6,  -1.5003,  29.3482,2,-999.0000,9,    394.6,2,    407.1,2,     5.57,2,     0.12,2,     0.01,2,     0.74,2,     0.17,2,   -999.0,9,   2157.2,9,  -999.00,9,  -999.00,  -999.00,9,  -999.00,  -999.00,9,  -999.00,  -999.00,9,        -999,         -999,9,  -999.00,  -999.00,9,       -999,9,        -999,9,   -999.0,9,   -999.0,9,   -999.0,9,        0,2,      -999,9,     0.67,2,     0.52,2,  -1.5004
  32H120020718,    16,  2,      8,2,20020725, 72.1414,-154.2690, 1347,     11.6,  -1.5007,  29.3371,2,-999.0000,9,    394.2,2,   -999.0,9,  -999.00,9,  -999.00,9,  -999.00,9,  -999.00,9,     -999,9,   -999.0,9,   -999.0,9,  -999.00,9,  -999.00,  -999.00,9,  -999.00,  -999.00,9,  -999.00,  -999.00,9,        -999,         -999,9,  -999.00,  -999.00,9,       -999,9,        -999,9,   -999.0,9,   -999.0,9,   -999.0,9,     -999,9,      -999,9,  -999.00,9,  -999.00,9,  -1.5008
  32H120020718,    16,  5,     11,2,20020725, 72.1414,-154.2690, 1347,     11.7,  -1.4317,  28.7324,2,  28.8079,2,    387.9,2,    400.4,2,     4.78,2,     0.24,2,     0.02,2,     0.72,2,     0.17,2,   1924.6,2,   2073.9,2,  -999.00,9,  -999.00,  -999.00,9,  -999.00,  -999.00,9,  -999.00,  -999.00,9,        -999,         -999,9,  -999.00,  -999.00,9, 60.5363561,2,  12.7346974,2,     67.6,2,      4.4,2,      4.9,2,        0,2,      -999,9,     0.39,2,     0.35,2,  -1.4318
  32H120020718,    16,  2,      6,2,20020725, 72.1414,-154.2690, 1347,     17.7,  -1.4928,  29.6070,2,-999.0000,9,    398.1,2,    411.1,2,     7.22,2,     0.12,2,     0.01,2,     0.75,2,     0.19,2,   -999.0,9,   2115.4,9,  -999.00,9,  -999.00,  -999.00,9,  -999.00,  -999.00,9,  -999.00,  -999.00,9,        -999,         -999,9,  -999.00,  -999.00,9,       -999,9,        -999,9,   -999.0,9,   -999.0,9,   -999.0,9,     0.06,2,      -999,9,     1.14,2,     0.70,2,  -1.4930
  32H120020718,    16,  3,     12,2,20020725, 72.1414,-154.2690, 1347,     17.7,  -1.4894,  29.5805,2,-999.0000,9,    399.2,2,   -999.0,9,  -999.00,9,  -999.00,9,  -999.00,9,  -999.00,9,     -999,9,   -999.0,9,   -999.0,9,  -999.00,9,  -999.00,  -999.00,9,  -999.00,  -999.00,9,  -999.00,  -999.00,9,        -999,         -999,9,  -999.00,  -999.00,9,       -999,9,        -999,9,   -999.0,9,   -999.0,9,   -999.0,9,     -999,9,      -999,9,  -999.00,9,  -999.00,9,  -1.4896
  32H120020718,    16,  3,      9,2,20020725, 72.1414,-154.2690, 1347,     17.7,  -1.4906,  29.5718,2,-999.0000,9,    399.2,2,   -999.0,9,  -999.00,9,  -999.00,9,  -999.00,9,  -999.00,9,     -999,9,   -999.0,9,   -999.0,9,  -999.00,9,  -999.00,  -999.00,9,  -999.00,  -999.00,9,  -999.00,  -999.00,9,        -999,         -999,9,  -999.00,  -999.00,9,       -999,9,        -999,9,   -999.0,9,   -999.0,9,   -999.0,9,     -999,9,      -999,9,  -999.00,9,  -999.00,9,  -1.4908
  32H120020718,    16,  3,     11,2,20020725, 72.1414,-154.2690, 1347,     17.7,  -1.4909,  29.5631,2,-999.0000,9,    399.4,2,   -999.0,9,     7.31,2,     0.12,2,     0.01,2,     0.74,2,     0.16,2,   -999.0,9,   -999.0,9,  -999.00,9,  -999.00,  -999.00,9,  -999.00,  -999.00,9,  -999.00,  -999.00,9,        -999,         -999,9,  -999.00,  -999.00,9,       -999,9,        -999,9,   -999.0,9,   -999.0,9,   -999.0,9,     0.19,2,      -999,9,  -999.00,9,  -999.00,9,  -1.4911
  32H120020718,    16,  3,      7,2,20020725, 72.1414,-154.2690, 1347,     17.7,  -1.4910,  29.5675,2,-999.0000,9,    399.4,2,   -999.0,9,  -999.00,9,  -999.00,9,  -999.00,9,  -999.00,9,     -999,9,   -999.0,9,   -999.0,9,  -999.00,9,  -999.00,  -999.00,9,  -999.00,  -999.00,9,  -999.00,  -999.00,9,        -999,         -999,9,  -999.00,  -999.00,9,       -999,9,        -999,9,   -999.0,9,   -999.0,9,   -999.0,9,     -999,9,      -999,9,  -999.00,9,  -999.00,9,  -1.4912
  32H120020718,    16,  3,      8,2,20020725, 72.1414,-154.2690, 1347,     17.7,  -1.4925,  29.5485,2,-999.0000,9,    398.8,2,   -999.0,9,  -999.00,9,  -999.00,9,  -999.00,9,  -999.00,9,     -999,9,   -999.0,9,   -999.0,9,  -999.00,9,  -999.00,  -999.00,9,  -999.00,  -999.00,9,  -999.00,  -999.00,9,        -999,         -999,9,  -999.00,  -999.00,9,       -999,9,        -999,9,   -999.0,9,   -999.0,9,   -999.0,9,     -999,9,      -999,9,  -999.00,9,  -999.00,9,  -1.4927
  32H120020718,    16,  3,     10,2,20020725, 72.1414,-154.2690, 1347,     17.8,  -1.4903,  29.5728,2,-999.0000,9,    399.4,2,   -999.0,9,  -999.00,9,  -999.00,9,  -999.00,9,  -999.00,9,     -999,9,   -999.0,9,   -999.0,9,  -999.00,9,  -999.00,  -999.00,9,  -999.00,  -999.00,9,  -999.00,  -999.00,9,        -999,         -999,9,  -999.00,  -999.00,9,       -999,9,        -999,9,   -999.0,9,   -999.0,9,   -999.0,9,     -999,9,      -999,9,  -999.00,9,  -999.00,9,  -1.4905
  32H120020718,    16,  2,      4,2,20020725, 72.1414,-154.2690, 1347,     26.6,  -1.5329,  31.5350,2,-999.0000,9,    363.2,2,    370.9,2,    19.26,2,     3.57,2,     0.10,2,     1.17,2,     0.54,2,   -999.0,9,   2266.0,9,  -999.00,9,  -999.00,  -999.00,9,  -999.00,  -999.00,9,  -999.00,  -999.00,9,        -999,         -999,9,  -999.00,  -999.00,9,       -999,9,        -999,9,   -999.0,9,   -999.0,9,   -999.0,9,     0.09,2,   102.206,2,     4.31,2,     1.70,2,  -1.5333
  32H120020718,    16,  2,      5,2,20020725, 72.1414,-154.2690, 1347,     26.7,  -1.5399,  31.4840,2,-999.0000,9,    368.0,2,   -999.0,9,  -999.00,9,  -999.00,9,  -999.00,9,  -999.00,9,     -999,9,   -999.0,9,   -999.0,9,  -999.00,9,  -999.00,  -999.00,9,  -999.00,  -999.00,9,  -999.00,  -999.00,9,        -999,         -999,9,  -999.00,  -999.00,9,       -999,9,        -999,9,   -999.0,9,   -999.0,9,   -999.0,9,     -999,9,      -999,9,  -999.00,9,  -999.00,9,  -1.5403
  32H120020718,    16,  5,     10,2,20020725, 72.1414,-154.2690, 1347,     25.9,  -1.2591,  31.0812,2,  31.0291,2,    394.3,2,    405.7,2,    12.37,2,     0.38,2,     0.02,2,     0.83,2,     0.31,2,   2013.3,2,   2231.6,2,  -999.00,9,  -999.00,  -999.00,9,  -999.00,  -999.00,9,  -999.00,  -999.00,9,        -999,         -999,9,  -999.00,  -999.00,9, 128.584892,2,  24.1941408,2,     67.1,2,      5.6,2,      6.3,2,     0.04,2,      -999,9,     3.05,2,     1.33,2,  -1.2596
  32H120020718,    16,  3,      6,2,20020725, 72.1414,-154.2690, 1347,     27.0,  -1.5609,  31.4555,2,-999.0000,9,    378.2,2,   -999.0,9,  -999.00,9,  -999.00,9,  -999.00,9,  -999.00,9,     -999,9,   -999.0,9,   -999.0,9,  -999.00,9,  -999.00,  -999.00,9,  -999.00,  -999.00,9,  -999.00,  -999.00,9,        -999,         -999,9,  -999.00,  -999.00,9,       -999,9,        -999,9,   -999.0,9,   -999.0,9,   -999.0,9,     -999,9,      -999,9,  -999.00,9,  -999.00,9,  -1.5613
  32H120020718,    16,  3,      5,2,20020725, 72.1414,-154.2690, 1347,     27.0,  -1.5628,  31.4543,2,-999.0000,9,    378.2,2,   -999.0,9,  -999.00,9,  -999.00,9,  -999.00,9,  -999.00,9,     -999,9,   -999.0,9,   -999.0,9,  -999.00,9,  -999.00,  -999.00,9,  -999.00,  -999.00,9,  -999.00,  -999.00,9,        -999,         -999,9,  -999.00,  -999.00,9,       -999,9,        -999,9,   -999.0,9,   -999.0,9,   -999.0,9,     -999,9,      -999,9,  -999.00,9,  -999.00,9,  -1.5632
  32H120020718,    16,  3,      1,2,20020725, 72.1414,-154.2690, 1347,     27.0,  -1.5644,  31.4486,2,-999.0000,9,    375.9,2,   -999.0,9,  -999.00,9,  -999.00,9,  -999.00,9,  -999.00,9,     -999,9,   -999.0,9,   -999.0,9,  -999.00,9,  -999.00,  -999.00,9,  -999.00,  -999.00,9,  -999.00,  -999.00,9,        -999,         -999,9,  -999.00,  -999.00,9,       -999,9,        -999,9,   -999.0,9,   -999.0,9,   -999.0,9,     -999,9,      -999,9,  -999.00,9,  -999.00,9,  -1.5648
  32H120020718,    16,  3,      3,2,20020725, 72.1414,-154.2690, 1347,     27.0,  -1.5667,  31.4469,2,-999.0000,9,    378.9,2,   -999.0,9,  -999.00,9,  -999.00,9,  -999.00,9,  -999.00,9,     -999,9,   -999.0,9,   -999.0,9,  -999.00,9,  -999.00,  -999.00,9,  -999.00,  -999.00,9,  -999.00,  -999.00,9,        -999,         -999,9,  -999.00,  -999.00,9,       -999,9,        -999,9,   -999.0,9,   -999.0,9,   -999.0,9,     -999,9,      -999,9,  -999.00,9,  -999.00,9,  -1.5671
  32H120020718,    16,  3,      2,2,20020725, 72.1414,-154.2690, 1347,     27.0,  -1.5668,  31.4451,2,-999.0000,9,    378.8,2,   -999.0,9,    19.94,2,     2.09,2,     0.06,2,     1.12,2,      0.5,2,   -999.0,9,   -999.0,9,  -999.00,9,  -999.00,  -999.00,9,  -999.00,  -999.00,9,  -999.00,  -999.00,9,        -999,         -999,9,  -999.00,  -999.00,9,       -999,9,        -999,9,   -999.0,9,   -999.0,9,   -999.0,9,     0.09,2,      -999,9,  -999.00,9,  -999.00,9,  -1.5672
  32H120020718,    16,  3,      4,2,20020725, 72.1414,-154.2690, 1347,     27.0,  -1.5706,  31.4454,2,-999.0000,9,    378.3,2,   -999.0,9,  -999.00,9,  -999.00,9,  -999.00,9,  -999.00,9,     -999,9,   -999.0,9,   -999.0,9,  -999.00,9,  -999.00,  -999.00,9,  -999.00,  -999.00,9,  -999.00,  -999.00,9,        -999,         -999,9,  -999.00,  -999.00,9,       -999,9,        -999,9,   -999.0,9,   -999.0,9,   -999.0,9,     -999,9,      -999,9,  -999.00,9,  -999.00,9,  -1.5710
  32H120020718,    16,  8,     12,2,20020725, 72.1414,-154.2690, 1347,     26.9,  -1.4676,  30.9037,2,-999.0000,9,    383.3,2,   -999.0,9,    10.75,2,     0.25,2,     0.01,2,     0.88,2,     0.23,2,   -999.0,9,   -999.0,9,  -999.00,9,  -999.00,  -999.00,9,  -999.00,  -999.00,9,  -999.00,  -999.00,9,        -999,         -999,9,  -999.00,  -999.00,9,       -999,9,        -999,9,   -999.0,9,   -999.0,9,   -999.0,9,     0.11,2,      -999,9,  -999.00,9,  -999.00,9,  -1.4680
  32H120020718,    16,  5,      9,2,20020725, 72.1414,-154.2690, 1347,     36.3,  -1.5417,  31.5362,2,  31.5132,2,    367.8,2,    376.7,2,    19.68,2,     3.28,2,     0.10,2,     1.16,2,     0.36,2,   2067.9,2,   2250.8,2,  -999.00,9,  -999.00,  -999.00,9,  -999.00,  -999.00,9,  -999.00,  -999.00,9,        -999,         -999,9,  -999.00,  -999.00,9, 159.778033,2,  31.0731594,2,     66.1,2,      5.0,2,      8.7,2,     0.04,2,      -999,9,     2.34,2,     1.08,2,  -1.5423
  32H120020718,    16,  5,      8,2,20020725, 72.1414,-154.2690, 1347,     51.0,  -1.5323,  32.1555,2,  32.1162,2,    328.3,2,    341.6,2,    23.65,2,     7.22,2,     0.13,2,     1.37,2,     0.47,2,   2132.0,2,   2291.5,2,  -999.00,9,  -999.00,  -999.00,9,  -999.00,  -999.00,9,  -999.00,  -999.00,9,        -999,         -999,9,  -999.00,  -999.00,9, 63.8492886,2,   12.762024,2,     66.1,2,      5.9,2,     13.7,2,     0.03,2,      -999,9,     1.01,2,     0.63,2,  -1.5332