BOTTLE,20090202PRINUNIVRMK
EXPOCODE,STNNBR,CASTNO,BTLNBR,BTLNBR_FLAG_W,DATE,LATITUDE,LONGITUDE,DEPTH,CTDPRS,CTDTMP,CTDSAL,CTDSAL_FLAG_W,SALNTY,SALNTY_FLAG_W,CTDOXY,CTDOXY_FLAG_W,OXYGEN,OXYGEN_FLAG_W,SILCAT,SILCAT_FLAG_W,NITRAT,NITRAT_FLAG_W,NITRIT,NITRIT_FLAG_W,PHSPHT,PHSPHT_FLAG_W,AMMONI,AMMONI_FLAG_W,TCARBN,TCARBN_FLAG_W,ALKALI,ALKALI_FLAG_W,DELO18,DELO18_FLAG_W,RA-224,RA-224E,RA-224_FLAG_W,RA-226,RA-226E,RA-226_FLAG_W,RA-228,RA-228E,RA-228_FLAG_W,RA-8/6,RA-8/6E,RA-8/6_FLAG_W,TH-228,TH-228E,TH-228_FLAG_W,POC,POC_FLAG_W,PON,PON_FLAG_W,DOC,DOC_FLAG_W,DON,DON_FLAG_W,TDN,TDN_FLAG_W,UREA,UREA_FLAG_W,LIGNIN,LIGNIN_FLAG_W,CHLORA,CHLORA_FLAG_W,PHAEO,PHAEO_FLAG_W,THETA
,,,,,,,,METERS,DBARS,ITS-90,PSS-78,,PSS-78,,UMOL/KG,,UMOL/KG,,UMOL/KG,,UMOL/KG,,UMOL/KG,,UMOL/KG,,UMOL/KG,,UMOL/KG,,UMOL/KG,,O/OO,,DPM/100KG,DPM/100KG,,DPM/100KG,DPM/100KG,,DPM/100KG,DPM/100KG,,,,,DPM/100KG,DPM/100KG,,ug/kg,,ug/kg,,UMOL/KG,,UMOL/KG,,UMOL/KG,,UMOL/KG,,NG/KG,,UG/L,,UG/L,,DEGC
  32H120020718,    17,  3,      8,2,20020727, 72.5068,-153.2960, 3121,     42.4,  -1.5981,  31.1693,2,-999.0000,9,    377.3,2,   -999.0,9,  -999.00,9,  -999.00,9,  -999.00,9,  -999.00,9,     -999,9,   -999.0,9,   -999.0,9,  -999.00,9,  -999.00,  -999.00,9,  -999.00,  -999.00,9,  -999.00,  -999.00,9,        -999,         -999,9,  -999.00,  -999.00,9,       -999,9,        -999,9,   -999.0,9,   -999.0,9,   -999.0,9,     -999,9,      -999,9,  -999.00,9,  -999.00,9,  -1.5987
  32H120020718,    17,  3,      9,2,20020727, 72.5068,-153.2960, 3121,     42.4,  -1.5985,  31.1684,2,-999.0000,9,    377.6,2,   -999.0,9,  -999.00,9,  -999.00,9,  -999.00,9,  -999.00,9,     -999,9,   -999.0,9,   -999.0,9,  -999.00,9,  -999.00,  -999.00,9,  -999.00,  -999.00,9,  -999.00,  -999.00,9,        -999,         -999,9,  -999.00,  -999.00,9,       -999,9,        -999,9,   -999.0,9,   -999.0,9,   -999.0,9,     -999,9,      -999,9,  -999.00,9,  -999.00,9,  -1.5991
  32H120020718,    17,  3,      7,2,20020727, 72.5068,-153.2960, 3121,     42.4,  -1.5996,  31.1659,2,-999.0000,9,    374.1,2,   -999.0,9,  -999.00,9,  -999.00,9,  -999.00,9,  -999.00,9,     -999,9,   -999.0,9,   -999.0,9,  -999.00,9,  -999.00,  -999.00,9,  -999.00,  -999.00,9,  -999.00,  -999.00,9,        -999,         -999,9,  -999.00,  -999.00,9,       -999,9,        -999,9,   -999.0,9,   -999.0,9,   -999.0,9,     -999,9,      -999,9,  -999.00,9,  -999.00,9,  -1.6002
  32H120020718,    17,  3,     11,2,20020727, 72.5068,-153.2960, 3121,     42.4,  -1.5997,  31.1637,2,-999.0000,9,    376.1,2,   -999.0,9,  -999.00,9,  -999.00,9,  -999.00,9,  -999.00,9,     -999,9,   -999.0,9,   -999.0,9,  -999.00,9,  -999.00,  -999.00,9,  -999.00,  -999.00,9,  -999.00,  -999.00,9,        -999,         -999,9,  -999.00,  -999.00,9,       -999,9,        -999,9,   -999.0,9,   -999.0,9,   -999.0,9,     -999,9,      -999,9,  -999.00,9,  -999.00,9,  -1.6003
  32H120020718,    17,  3,     10,2,20020727, 72.5068,-153.2960, 3121,     42.4,  -1.6017,  31.1577,2,-999.0000,9,    375.9,2,   -999.0,9,    16.34,2,     2.59,2,     0.11,2,     1.05,2,     1.11,2,   -999.0,9,   -999.0,9,  -999.00,9,  -999.00,  -999.00,9,  -999.00,  -999.00,9,  -999.00,  -999.00,9,        -999,         -999,9,  -999.00,  -999.00,9,       -999,9,        -999,9,   -999.0,9,   -999.0,9,   -999.0,9,     0.05,2,      -999,9,  -999.00,9,  -999.00,9,  -1.6023
  32H120020718,    17,  3,      6,2,20020727, 72.5068,-153.2960, 3121,     42.4,  -1.6057,  31.1485,2,-999.0000,9,    373.7,2,   -999.0,9,  -999.00,9,  -999.00,9,  -999.00,9,  -999.00,9,     -999,9,   -999.0,9,   -999.0,9,  -999.00,9,  -999.00,  -999.00,9,  -999.00,  -999.00,9,  -999.00,  -999.00,9,        -999,         -999,9,  -999.00,  -999.00,9,       -999,9,        -999,9,   -999.0,9,   -999.0,9,   -999.0,9,     -999,9,      -999,9,  -999.00,9,  -999.00,9,  -1.6063
  32H120020718,    17,  3,     12,2,20020727, 72.5068,-153.2960, 3121,     42.5,  -1.6001,  31.1627,2,-999.0000,9,    375.8,2,   -999.0,9,  -999.00,9,  -999.00,9,  -999.00,9,  -999.00,9,     -999,9,   -999.0,9,   -999.0,9,  -999.00,9,  -999.00,  -999.00,9,  -999.00,  -999.00,9,  -999.00,  -999.00,9,        -999,         -999,9,  -999.00,  -999.00,9,       -999,9,        -999,9,   -999.0,9,   -999.0,9,   -999.0,9,     -999,9,      -999,9,  -999.00,9,  -999.00,9,  -1.6007
  32H120020718,    17,  8,      9,2,20020727, 72.5068,-153.2960, 3121,     42.2,  -1.6157,  31.0025,2,  30.9992,2,    372.7,2,    387.9,2,    10.77,2,     2.12,2,     0.12,2,     0.98,2,     0.89,2,   2060.6,2,   2206.0,2,    -2.64,2,  -999.00,  -999.00,9,  -999.00,  -999.00,9,  -999.00,  -999.00,9,        -999,         -999,9,  -999.00,  -999.00,9, 38.1222472,3,  7.60487559,3,     66.2,2,      4.4,2,      7.5,2,     0.04,2,      -999,9,     0.58,2,     0.40,2,  -1.6163
  32H120020718,    17,  2,      6,2,20020727, 72.5068,-153.2960, 3121,     43.5,  -1.5642,  31.2570,2,-999.0000,9,    369.3,2,    378.8,2,    12.97,2,     2.86,2,     0.14,2,     1.04,2,     0.74,2,   2064.1,2,   2222.5,2,  -999.00,9,  -999.00,  -999.00,9,  -999.00,  -999.00,9,  -999.00,  -999.00,9,        -999,         -999,9,  -999.00,  -999.00,9,       -999,9,        -999,9,   -999.0,9,   -999.0,9,   -999.0,9,     0.04,2,      -999,9,     0.53,2,     0.36,2,  -1.5649
  32H120020718,    17,  8,      8,2,20020727, 72.5068,-153.2960, 3121,     62.2,  -1.6332,  31.8628,2,  31.8494,2,    343.9,2,    358.2,2,    26.91,2,     5.66,2,     0.12,2,     1.38,2,     2.33,2,   2104.4,2,   2214.3,2,    -1.52,2,  -999.00,  -999.00,9,  -999.00,  -999.00,9,  -999.00,  -999.00,9,        -999,         -999,9,  -999.00,  -999.00,9, 32.7965685,2,  6.93493092,2,     65.5,2,      5.1,2,     13.2,2,      0.1,2,      -999,9,     0.31,2,     0.22,2,  -1.6342
  32H120020718,    17,  2,      5,2,20020727, 72.5068,-153.2960, 3121,     66.2,  -1.5078,  32.0325,2,-999.0000,9,    344.2,2,    354.0,2,    22.83,2,     5.31,2,     0.12,2,     1.30,2,     1.85,2,   -999.0,5,   2266.8,2,  -999.00,9,  -999.00,  -999.00,9,  -999.00,  -999.00,9,  -999.00,  -999.00,9,        -999,         -999,9,  -999.00,  -999.00,9,       -999,9,        -999,9,   -999.0,9,   -999.0,9,   -999.0,9,     0.08,2,      -999,9,     0.26,2,     0.37,2,  -1.5090
  32H120020718,    17,  2,      4,2,20020727, 72.5068,-153.2960, 3121,     66.3,  -1.5080,  32.0325,2,-999.0000,9,    344.2,2,   -999.0,9,  -999.00,9,  -999.00,9,  -999.00,9,  -999.00,9,     -999,9,   -999.0,9,   -999.0,9,  -999.00,9,  -999.00,  -999.00,9,  -999.00,  -999.00,9,  -999.00,  -999.00,9,        -999,         -999,9,  -999.00,  -999.00,9,       -999,9,        -999,9,   -999.0,9,   -999.0,9,   -999.0,9,     -999,9,      -999,9,  -999.00,9,  -999.00,9,  -1.5092
  32H120020718,    17,  8,      7,2,20020727, 72.5068,-153.2960, 3121,     82.3,  -1.5655,  32.4084,2,  32.3669,2,    315.6,2,    332.5,2,    28.78,2,     9.29,2,     0.12,2,     1.53,2,      1.4,2,   2147.9,2,   2260.5,2,    -1.70,2,  -999.00,  -999.00,9,  -999.00,  -999.00,9,  -999.00,  -999.00,9,        -999,         -999,9,  -999.00,  -999.00,9, 24.9815227,2,  5.39717389,2,     64.4,2,      6.0,2,     16.8,2,     0.05,2,      -999,9,     0.10,2,     0.29,2,  -1.5670
  32H120020718,    17,  4,     12,2,20020727, 72.5068,-153.2960, 3121,     90.8,  -1.5307,  32.4249,2,-999.0000,9,    309.5,2,   -999.0,9,  -999.00,9,  -999.00,9,  -999.00,9,  -999.00,9,     -999,9,   -999.0,9,   -999.0,9,  -999.00,9,  -999.00,  -999.00,9,  -999.00,  -999.00,9,  -999.00,  -999.00,9,        -999,         -999,9,  -999.00,  -999.00,9,       -999,9,        -999,9,   -999.0,9,   -999.0,9,   -999.0,9,     -999,9,      -999,9,  -999.00,9,  -999.00,9,  -1.5324
  32H120020718,    17,  2,      3,2,20020727, 72.5068,-153.2960, 3121,    101.3,  -1.6246,  32.5907,2,-999.0000,9,    335.1,2,    338.4,2,  -999.00,9,  -999.00,9,  -999.00,9,  -999.00,9,     -999,9,   -999.0,5,   2274.3,2,  -999.00,9,  -999.00,  -999.00,9,  -999.00,  -999.00,9,  -999.00,  -999.00,9,        -999,         -999,9,  -999.00,  -999.00,9,       -999,9,        -999,9,   -999.0,9,   -999.0,9,   -999.0,9,     -999,9,   124.923,2,     2.96,2,     1.88,2,  -1.6264
  32H120020718,    17,  8,      6,2,20020727, 72.5068,-153.2960, 3121,    101.3,  -1.5712,  32.6666,2,  32.6554,2,    300.7,2,    311.4,2,    30.26,2,    11.50,2,     0.09,2,     1.63,2,     0.71,2,   2176.8,2,   2270.8,2,    -1.67,2,  -999.00,  -999.00,9,  -999.00,  -999.00,9,  -999.00,  -999.00,9,        -999,         -999,9,  -999.00,  -999.00,9, 51.8488267,2,  10.7920503,2,     64.4,2,      3.4,2,     15.7,2,     0.02,2,      -999,9,     0.93,2,     0.71,2,  -1.5731
  32H120020718,    17,  8,      5,2,20020727, 72.5068,-153.2960, 3121,    127.7,  -1.7486,  32.9825,2,  32.9808,2,    313.0,2,    324.1,2,    39.99,2,    11.46,2,     0.13,2,     1.72,2,     2.73,2,   2189.5,2,   2267.9,2,    -1.31,2,  -999.00,  -999.00,9,  -999.00,  -999.00,9,  -999.00,  -999.00,9,        -999,         -999,9,  -999.00,  -999.00,9, 26.1916936,2,   5.3947172,2,     63.7,2,      4.4,2,     18.7,2,     0.02,2,      -999,9,     0.05,2,     0.26,2,  -1.7509
  32H120020718,    17,  2,      2,2,20020727, 72.5068,-153.2960, 3121,    151.5,  -1.6628,  33.2344,2,-999.0000,9,    300.6,2,   -999.0,9,  -999.00,9,  -999.00,9,  -999.00,9,  -999.00,9,     -999,9,   -999.0,5,   2294.0,2,  -999.00,9,  -999.00,  -999.00,9,  -999.00,  -999.00,9,  -999.00,  -999.00,9,        -999,         -999,9,  -999.00,  -999.00,9,       -999,9,        -999,9,   -999.0,9,   -999.0,9,   -999.0,9,     -999,9,      -999,9,  -999.00,9,  -999.00,9,  -1.6658
  32H120020718,    17,  5,      8,2,20020727, 72.5068,-153.2960, 3121,    151.5,  -1.5404,  33.2005,2,-999.0000,9,    282.7,2,   -999.0,9,  -999.00,9,  -999.00,9,  -999.00,9,  -999.00,9,     -999,9,   -999.0,9,   -999.0,9,  -999.00,9,     2.40,     0.15,2,    10.65,     1.12,2,     7.08,     1.42,2, 0.639723827,  0.143221752,2,     1.63,     0.10,2,       -999,9,        -999,9,   -999.0,9,   -999.0,9,   -999.0,9,     -999,9,      -999,9,  -999.00,9,  -999.00,9,  -1.5435
  32H120020718,    17,  5,      9,2,20020727, 72.5068,-153.2960, 3121,    151.5,  -1.5431,  33.2022,2,-999.0000,9,    281.8,2,   -999.0,9,  -999.00,9,  -999.00,9,  -999.00,9,  -999.00,9,     -999,9,   -999.0,9,   -999.0,9,  -999.00,9,     2.40,     0.15,2,    10.65,     1.12,2,     7.08,     1.42,2, 0.639720206,  0.143220942,2,     1.63,     0.10,2,       -999,9,        -999,9,   -999.0,9,   -999.0,9,   -999.0,9,     -999,9,      -999,9,  -999.00,9,  -999.00,9,  -1.5462
  32H120020718,    17,  5,     12,2,20020727, 72.5068,-153.2960, 3121,    151.5,  -1.5433,  33.1990,2,-999.0000,9,    283.5,2,   -999.0,9,  -999.00,9,  -999.00,9,  -999.00,9,  -999.00,9,     -999,9,   -999.0,9,   -999.0,9,  -999.00,9,     2.40,     0.15,2,    10.65,     1.12,2,     7.08,     1.42,2, 0.639720111,   0.14322092,2,     1.63,     0.10,2,       -999,9,        -999,9,   -999.0,9,   -999.0,9,   -999.0,9,     -999,9,      -999,9,  -999.00,9,  -999.00,9,  -1.5464
  32H120020718,    17,  5,     11,2,20020727, 72.5068,-153.2960, 3121,    151.5,  -1.5532,  33.1978,2,-999.0000,9,    284.3,2,   -999.0,9,  -999.00,9,  -999.00,9,  -999.00,9,  -999.00,9,     -999,9,   -999.0,9,   -999.0,9,  -999.00,9,     2.40,     0.15,2,    10.63,     1.12,2,     7.08,     1.42,2, 0.639001291,   0.14305999,2,     1.62,     0.10,2,       -999,9,        -999,9,   -999.0,9,   -999.0,9,   -999.0,9,     -999,9,      -999,9,  -999.00,9,  -999.00,9,  -1.5563
  32H120020718,    17,  5,      7,2,20020727, 72.5068,-153.2960, 3121,    151.5,  -1.5545,  33.2037,2,-999.0000,9,    284.9,2,   -999.0,9,  -999.00,9,  -999.00,9,  -999.00,9,  -999.00,9,     -999,9,   -999.0,9,   -999.0,9,  -999.00,9,     2.40,     0.15,2,    10.63,     1.12,2,     7.08,     1.42,2, 0.638998341,   0.14305933,2,     1.62,     0.10,2,       -999,9,        -999,9,   -999.0,9,   -999.0,9,   -999.0,9,     -999,9,      -999,9,  -999.00,9,  -999.00,9,  -1.5576
  32H120020718,    17,  5,     10,2,20020727, 72.5068,-153.2960, 3121,    151.5,  -1.5608,  33.2071,2,-999.0000,9,    283.0,2,   -999.0,9,  -999.00,9,  -999.00,9,  -999.00,9,  -999.00,9,     -999,9,   -999.0,9,   -999.0,9,  -999.00,9,     2.40,     0.15,2,    10.63,     1.12,2,     7.08,     1.42,2, 0.638996723,  0.143058968,2,     1.62,     0.10,2,       -999,9,        -999,9,   -999.0,9,   -999.0,9,   -999.0,9,     -999,9,      -999,9,  -999.00,9,  -999.00,9,  -1.5639
  32H120020718,    17,  8,      4,2,20020727, 72.5068,-153.2960, 3121,    151.9,  -1.6935,  33.2174,2,  33.2151,2,    311.3,2,    324.4,2,    40.59,2,    12.08,2,     0.11,2,     1.74,2,     2.55,2,   2205.4,2,   2285.3,2,    -1.31,2,  -999.00,  -999.00,9,  -999.00,  -999.00,9,  -999.00,  -999.00,9,        -999,         -999,9,  -999.00,  -999.00,9, 20.9888173,2,  4.12350533,2,     65.3,2,      3.5,2,     18.2,2,     0.02,2,      -999,9,     0.06,2,     0.23,2,  -1.6964
  32H120020718,    17,  3,      5,2,20020727, 72.5068,-153.2960, 3121,    171.8,  -1.5185,  33.4489,2,-999.0000,9,    287.4,2,   -999.0,9,  -999.00,9,  -999.00,9,  -999.00,9,  -999.00,9,     -999,9,   -999.0,9,   -999.0,9,  -999.00,9,  -999.00,  -999.00,9,  -999.00,  -999.00,9,  -999.00,  -999.00,9,        -999,         -999,9,  -999.00,  -999.00,9,       -999,9,        -999,9,   -999.0,9,   -999.0,9,   -999.0,9,     -999,9,      -999,9,  -999.00,9,  -999.00,9,  -1.5222
  32H120020718,    17,  3,      4,2,20020727, 72.5068,-153.2960, 3121,    171.8,  -1.5230,  33.4510,2,-999.0000,9,    287.9,2,   -999.0,9,  -999.00,9,  -999.00,9,  -999.00,9,  -999.00,9,     -999,9,   -999.0,9,   -999.0,9,  -999.00,9,  -999.00,  -999.00,9,  -999.00,  -999.00,9,  -999.00,  -999.00,9,        -999,         -999,9,  -999.00,  -999.00,9,       -999,9,        -999,9,   -999.0,9,   -999.0,9,   -999.0,9,     -999,9,      -999,9,  -999.00,9,  -999.00,9,  -1.5267
  32H120020718,    17,  3,      3,2,20020727, 72.5068,-153.2960, 3121,    171.8,  -1.5255,  33.4532,2,-999.0000,9,    287.4,2,   -999.0,9,    32.80,2,    14.39,2,     0.07,2,     1.68,2,     0.01,2,   -999.0,9,   -999.0,9,  -999.00,9,  -999.00,  -999.00,9,  -999.00,  -999.00,9,  -999.00,  -999.00,9,        -999,         -999,9,  -999.00,  -999.00,9,       -999,9,        -999,9,   -999.0,9,   -999.0,9,   -999.0,9,     0.01,2,      -999,9,  -999.00,9,  -999.00,9,  -1.5292
  32H120020718,    17,  3,      1,2,20020727, 72.5068,-153.2960, 3121,    171.9,  -1.5041,  33.4457,2,-999.0000,9,    285.8,2,   -999.0,9,  -999.00,9,  -999.00,9,  -999.00,9,  -999.00,9,     -999,9,   -999.0,9,   -999.0,9,  -999.00,9,  -999.00,  -999.00,9,  -999.00,  -999.00,9,  -999.00,  -999.00,9,        -999,         -999,9,  -999.00,  -999.00,9,       -999,9,        -999,9,   -999.0,9,   -999.0,9,   -999.0,9,     -999,9,      -999,9,  -999.00,9,  -999.00,9,  -1.5078
  32H120020718,    17,  3,      2,2,20020727, 72.5068,-153.2960, 3121,    172.1,  -1.5226,  33.4491,2,-999.0000,9,    286.0,2,   -999.0,9,  -999.00,9,  -999.00,9,  -999.00,9,  -999.00,9,     -999,9,   -999.0,9,   -999.0,9,  -999.00,9,  -999.00,  -999.00,9,  -999.00,  -999.00,9,  -999.00,  -999.00,9,        -999,         -999,9,  -999.00,  -999.00,9,       -999,9,        -999,9,   -999.0,9,   -999.0,9,   -999.0,9,     -999,9,      -999,9,  -999.00,9,  -999.00,9,  -1.5263
  32H120020718,    17,  8,      3,2,20020727, 72.5068,-153.2960, 3121,    175.3,  -1.6635,  33.4508,2,  33.4529,2,    297.3,2,    308.6,2,    39.68,2,    13.71,2,     0.10,2,     1.78,2,     1.67,2,   2215.2,2,   2300.5,2,  -999.00,9,  -999.00,  -999.00,9,  -999.00,  -999.00,9,  -999.00,  -999.00,9,        -999,         -999,9,  -999.00,  -999.00,9,  19.500126,2,  3.85898642,2,     64.6,2,      3.8,2,     19.3,2,     0.02,2,      -999,9,     0.05,2,     0.15,2,  -1.6670
  32H120020718,    17,  8,      2,2,20020727, 72.5068,-153.2960, 3121,    200.3,  -1.2941,  33.8774,2,  33.8545,2,    287.8,2,    306.6,2,    34.10,2,    13.80,2,     0.11,2,     1.63,2,     0.89,2,   2226.4,2,   2320.7,2,  -999.00,9,  -999.00,  -999.00,9,  -999.00,  -999.00,9,  -999.00,  -999.00,9,        -999,         -999,9,  -999.00,  -999.00,9, 11.6809405,2,  2.32447073,2,     61.9,2,      3.9,2,     18.6,2,     0.04,2,      -999,9,     0.03,2,     0.08,2,  -1.2990
  32H120020718,    17,  2,      1,2,20020727, 72.5068,-153.2960, 3121,    201.1,  -1.3229,  34.0544,2,-999.0000,9,    297.7,2,   -999.0,9,  -999.00,9,  -999.00,9,  -999.00,9,  -999.00,9,     -999,9,   -999.0,5,   2369.3,2,  -999.00,9,  -999.00,  -999.00,9,  -999.00,  -999.00,9,  -999.00,  -999.00,9,        -999,         -999,9,  -999.00,  -999.00,9,       -999,9,        -999,9,   -999.0,9,   -999.0,9,   -999.0,9,     -999,9,      -999,9,     0.16,2,     0.24,2,  -1.3278
  32H120020718,    17,  8,      1,2,20020727, 72.5068,-153.2960, 3121,    224.5,  -1.0002,  34.2658,2,  34.2595,2,    283.2,2,    277.3,2,    21.32,2,    13.69,2,     0.02,2,     1.29,2,     0.23,2,   2190.9,2,   -999.0,9,  -999.00,9,  -999.00,  -999.00,9,  -999.00,  -999.00,9,  -999.00,  -999.00,9,        -999,         -999,9,  -999.00,  -999.00,9, 6.57098459,2,  1.25952278,2,     58.7,2,      3.0,2,     17.0,2,     0.15,2,      -999,9,     0.03,2,     0.05,2,  -1.0065
  32H120020718,    17,  7,     12,2,20020727, 72.5068,-153.2960, 3121,    249.1,  -0.4045,  34.4771,2,  34.4785,2,    270.1,2,    277.4,2,    15.85,2,    13.01,2,     0.00,2,     1.10,2,        0,2,   2146.1,2,   2304.0,2,  -999.00,9,  -999.00,  -999.00,9,  -999.00,  -999.00,9,  -999.00,  -999.00,9,        -999,         -999,9,  -999.00,  -999.00,9, 7.60471659,2,  1.36670019,2,     54.0,2,      3.2,2,     16.2,2,     0.01,2,      -999,9,  -999.00,9,  -999.00,9,  -0.4129
  32H120020718,    17,  7,     11,2,20020727, 72.5068,-153.2960, 3121,    300.3,   0.4704,  34.7162,2,  34.7193,2,    274.3,2,    282.1,2,     9.60,2,    12.61,2,     0.01,2,     0.91,2,        0,2,   2148.3,2,   2301.4,2,  -999.00,9,  -999.00,  -999.00,9,  -999.00,  -999.00,9,  -999.00,  -999.00,9,        -999,         -999,9,  -999.00,  -999.00,9, 6.67611809,2,  1.43477787,2,     51.4,2,      3.4,2,     16.0,2,     0.01,2,      -999,9,  -999.00,9,  -999.00,9,   0.4578