BOTTLE,20090202PRINUNIVRMK
EXPOCODE,STNNBR,CASTNO,BTLNBR,BTLNBR_FLAG_W,DATE,LATITUDE,LONGITUDE,DEPTH,CTDPRS,CTDTMP,CTDSAL,CTDSAL_FLAG_W,SALNTY,SALNTY_FLAG_W,CTDOXY,CTDOXY_FLAG_W,OXYGEN,OXYGEN_FLAG_W,SILCAT,SILCAT_FLAG_W,NITRAT,NITRAT_FLAG_W,NITRIT,NITRIT_FLAG_W,PHSPHT,PHSPHT_FLAG_W,AMMONI,AMMONI_FLAG_W,TCARBN,TCARBN_FLAG_W,ALKALI,ALKALI_FLAG_W,DELO18,DELO18_FLAG_W,RA-224,RA-224E,RA-224_FLAG_W,RA-226,RA-226E,RA-226_FLAG_W,RA-228,RA-228E,RA-228_FLAG_W,RA-8/6,RA-8/6E,RA-8/6_FLAG_W,TH-228,TH-228E,TH-228_FLAG_W,POC,POC_FLAG_W,PON,PON_FLAG_W,DOC,DOC_FLAG_W,DON,DON_FLAG_W,TDN,TDN_FLAG_W,UREA,UREA_FLAG_W,LIGNIN,LIGNIN_FLAG_W,CHLORA,CHLORA_FLAG_W,PHAEO,PHAEO_FLAG_W,THETA
,,,,,,,,METERS,DBARS,ITS-90,PSS-78,,PSS-78,,UMOL/KG,,UMOL/KG,,UMOL/KG,,UMOL/KG,,UMOL/KG,,UMOL/KG,,UMOL/KG,,UMOL/KG,,UMOL/KG,,O/OO,,DPM/100KG,DPM/100KG,,DPM/100KG,DPM/100KG,,DPM/100KG,DPM/100KG,,,,,DPM/100KG,DPM/100KG,,ug/kg,,ug/kg,,UMOL/KG,,UMOL/KG,,UMOL/KG,,UMOL/KG,,NG/KG,,UG/L,,UG/L,,DEGC
  32H120020718,    31,  3,      8,2,20020812, 73.4206,-157.3990, 3132,     75.9,  -1.2873,  32.2869,2,  32.2691,2,    310.9,2,    320.7,2,    18.96,2,     8.52,2,     0.02,2,     1.45,2,     0.04,2,   2143.1,2,   2246.4,2,    -2.00,2,  -999.00,  -999.00,9,  -999.00,  -999.00,9,  -999.00,  -999.00,9,        -999,         -999,9,  -999.00,  -999.00,9, 12.5161129,2,    2.288111,2,     65.1,2,      6.4,2,     14.9,2,     -999,5,      -999,9,     0.08,2,     0.07,2,  -1.2888
  32H120020718,    31,  6,     11,2,20020812, 73.4206,-157.3990, 3132,     76.4,  -1.1946,  32.2800,2,-999.0000,9,    308.3,2,   -999.0,9,  -999.00,9,  -999.00,9,  -999.00,9,  -999.00,9,     -999,9,   -999.0,9,   -999.0,9,  -999.00,9,  -999.00,  -999.00,9,  -999.00,  -999.00,9,  -999.00,  -999.00,9,        -999,         -999,9,  -999.00,  -999.00,9,       -999,9,        -999,9,   -999.0,9,   -999.0,9,   -999.0,9,     -999,9,      -999,9,  -999.00,9,  -999.00,9,  -1.1962
  32H120020718,    31,  6,     12,2,20020812, 73.4206,-157.3990, 3132,     76.4,  -1.2964,  32.2817,2,-999.0000,9,    309.2,2,   -999.0,9,  -999.00,9,  -999.00,9,  -999.00,9,  -999.00,9,     -999,9,   -999.0,9,   -999.0,9,  -999.00,9,  -999.00,  -999.00,9,  -999.00,  -999.00,9,  -999.00,  -999.00,9,        -999,         -999,9,  -999.00,  -999.00,9,       -999,9,        -999,9,   -999.0,9,   -999.0,9,   -999.0,9,     -999,9,      -999,9,  -999.00,9,  -999.00,9,  -1.2979
  32H120020718,    31,  7,     10,2,20020812, 73.4206,-157.3990, 3132,     89.0,  -1.5054,  32.5108,2,-999.0000,9,    304.7,2,   -999.0,9,  -999.00,9,  -999.00,9,  -999.00,9,  -999.00,9,     -999,9,   -999.0,9,   -999.0,9,  -999.00,9,  -999.00,  -999.00,9,  -999.00,  -999.00,9,  -999.00,  -999.00,9,        -999,         -999,9,  -999.00,  -999.00,9,       -999,9,        -999,9,   -999.0,9,   -999.0,9,   -999.0,9,     -999,9,      -999,9,  -999.00,9,  -999.00,9,  -1.5071
  32H120020718,    31,  3,      7,2,20020812, 73.4206,-157.3990, 3132,    101.0,  -1.5274,  32.6456,2,  32.6393,2,    297.8,2,    305.1,2,    28.50,2,    11.77,2,     0.06,2,     1.64,2,     0.18,2,   2168.8,2,   2264.2,2,    -1.74,2,  -999.00,  -999.00,9,  -999.00,  -999.00,9,  -999.00,  -999.00,9,        -999,         -999,9,  -999.00,  -999.00,9, 13.3435876,2,  2.24837698,2,     63.0,2,      5.4,2,     17.4,2,     -999,5,      -999,9,     0.05,2,     0.07,2,  -1.5293
  32H120020718,    31,  8,      3,2,20020812, 73.4206,-157.3990, 3132,    101.1,  -1.4369,  32.6312,2,-999.0000,9,    286.8,2,   -999.0,9,  -999.00,9,  -999.00,9,  -999.00,9,  -999.00,9,     -999,9,   -999.0,9,   -999.0,9,  -999.00,9,  -999.00,  -999.00,9,  -999.00,  -999.00,9,  -999.00,  -999.00,9,        -999,         -999,9,  -999.00,  -999.00,9,       -999,9,        -999,9,   -999.0,9,   -999.0,9,   -999.0,9,     -999,9,      -999,9,  -999.00,9,  -999.00,9,  -1.4389
  32H120020718,    31,  9,      1,2,20020812, 73.4206,-157.3990, 3132,    102.3,  -1.4637,  32.6796,2,-999.0000,9,    286.0,2,   -999.0,9,    28.44,2,    13.05,2,     0.01,2,     1.72,2,        0,2,   -999.0,9,   -999.0,9,  -999.00,9,  -999.00,  -999.00,9,  -999.00,  -999.00,9,  -999.00,  -999.00,9,        -999,         -999,9,  -999.00,  -999.00,9,       -999,9,        -999,9,   -999.0,9,   -999.0,9,   -999.0,9,        0,2,      -999,9,  -999.00,9,  -999.00,9,  -1.4657
  32H120020718,    31,  9,      2,2,20020812, 73.4206,-157.3990, 3132,    102.4,  -1.4754,  32.6804,2,-999.0000,9,    286.1,2,   -999.0,9,  -999.00,9,  -999.00,9,  -999.00,9,  -999.00,9,     -999,9,   -999.0,9,   -999.0,9,  -999.00,9,  -999.00,  -999.00,9,  -999.00,  -999.00,9,  -999.00,  -999.00,9,        -999,         -999,9,  -999.00,  -999.00,9,       -999,9,        -999,9,   -999.0,9,   -999.0,9,   -999.0,9,     -999,9,      -999,9,  -999.00,9,  -999.00,9,  -1.4774
  32H120020718,    31,  3,      6,2,20020812, 73.4206,-157.3990, 3132,    126.3,  -1.6487,  32.9275,2,  32.9172,2,    280.0,2,    291.3,2,    38.89,2,    14.69,2,     0.12,2,     1.89,2,     0.61,2,   2186.8,2,   2274.5,2,    -1.45,2,  -999.00,  -999.00,9,  -999.00,  -999.00,9,  -999.00,  -999.00,9,        -999,         -999,9,  -999.00,  -999.00,9, 15.0316371,2,   2.6779274,2,     60.5,2,      5.7,2,     21.1,2,     -999,5,      -999,9,     0.03,2,     0.08,2,  -1.6511
  32H120020718,    31,  7,      8,2,20020812, 73.4206,-157.3990, 3132,    136.1,  -1.6337,  33.0895,2,-999.0000,9,    288.8,2,   -999.0,9,  -999.00,9,  -999.00,9,  -999.00,9,  -999.00,9,     -999,9,   -999.0,9,   -999.0,9,  -999.00,9,  -999.00,  -999.00,9,  -999.00,  -999.00,9,  -999.00,  -999.00,9,        -999,         -999,9,  -999.00,  -999.00,9,       -999,9,        -999,9,   -999.0,9,   -999.0,9,   -999.0,9,     -999,9,      -999,9,  -999.00,9,  -999.00,9,  -1.6363
  32H120020718,    31,  7,      9,2,20020812, 73.4206,-157.3990, 3132,    136.1,  -1.6353,  33.0891,2,-999.0000,9,    289.1,2,   -999.0,9,  -999.00,9,  -999.00,9,  -999.00,9,  -999.00,9,     -999,9,   -999.0,9,   -999.0,9,  -999.00,9,  -999.00,  -999.00,9,  -999.00,  -999.00,9,  -999.00,  -999.00,9,        -999,         -999,9,  -999.00,  -999.00,9,       -999,9,        -999,9,   -999.0,9,   -999.0,9,   -999.0,9,     -999,9,      -999,9,  -999.00,9,  -999.00,9,  -1.6379
  32H120020718,    31,  3,      5,2,20020812, 73.4206,-157.3990, 3132,    150.7,  -1.6972,  33.2444,2,  33.2455,2,    282.9,2,    291.8,2,    45.88,2,    15.23,2,     0.18,2,     2.04,2,     1.46,2,   2204.2,2,   2283.2,2,    -1.26,2,  -999.00,  -999.00,9,  -999.00,  -999.00,9,  -999.00,  -999.00,9,        -999,         -999,9,  -999.00,  -999.00,9, 27.5936876,2,  4.77807015,2,     57.2,2,      5.5,2,     22.4,2,     -999,5,      -999,9,     0.06,2,     0.13,2,  -1.7001
  32H120020718,    31,  8,      2,2,20020812, 73.4206,-157.3990, 3132,    151.1,  -1.5054,  33.2685,2,-999.0000,9,    276.6,2,   -999.0,9,  -999.00,9,  -999.00,9,  -999.00,9,  -999.00,9,     -999,9,   -999.0,9,   -999.0,9,  -999.00,9,  -999.00,  -999.00,9,  -999.00,  -999.00,9,  -999.00,  -999.00,9,        -999,         -999,9,  -999.00,  -999.00,9,       -999,9,        -999,9,   -999.0,9,   -999.0,9,   -999.0,9,     -999,9,      -999,9,  -999.00,9,  -999.00,9,  -1.5086
  32H120020718,    31,  4,      7,2,20020812, 73.4206,-157.3990, 3132,    151.2,  -1.7134,  33.2672,2,-999.0000,9,    278.1,2,   -999.0,9,  -999.00,9,  -999.00,9,  -999.00,9,  -999.00,9,     -999,9,   -999.0,9,   -999.0,9,  -999.00,9,     0.78,     0.09,2,    10.15,     0.42,2,    10.44,     0.16,2, 0.985745312, 0.0478517142,2,     1.07,     0.17,2,       -999,9,        -999,9,   -999.0,9,   -999.0,9,   -999.0,9,     -999,9,      -999,9,  -999.00,9,  -999.00,9,  -1.7163
  32H120020718,    31,  4,      8,2,20020812, 73.4206,-157.3990, 3132,    151.4,  -1.7187,  33.2679,2,-999.0000,9,    277.6,2,   -999.0,9,  -999.00,9,  -999.00,9,  -999.00,9,  -999.00,9,     -999,9,   -999.0,9,   -999.0,9,  -999.00,9,     0.78,     0.09,2,    10.15,     0.42,2,    10.44,     0.16,2, 0.985737599, 0.0478513398,2,     1.07,     0.17,2,       -999,9,        -999,9,   -999.0,9,   -999.0,9,   -999.0,9,     -999,9,      -999,9,  -999.00,9,  -999.00,9,  -1.7216
  32H120020718,    31,  4,      9,2,20020812, 73.4206,-157.3990, 3132,    151.5,  -1.7156,  33.2686,2,-999.0000,9,    277.9,2,   -999.0,9,  -999.00,9,  -999.00,9,  -999.00,9,  -999.00,9,     -999,9,   -999.0,9,   -999.0,9,  -999.00,9,     0.78,     0.09,2,    10.15,     0.42,2,    10.43,     0.16,2, 0.985139871, 0.0478223238,2,     1.07,     0.17,2,       -999,9,        -999,9,   -999.0,9,   -999.0,9,   -999.0,9,     -999,9,      -999,9,  -999.00,9,  -999.00,9,  -1.7185
  32H120020718,    31,  4,     12,2,20020812, 73.4206,-157.3990, 3132,    151.7,  -1.7104,  33.2714,2,-999.0000,9,    278.1,2,   -999.0,9,  -999.00,9,  -999.00,9,  -999.00,9,  -999.00,9,     -999,9,   -999.0,9,   -999.0,9,  -999.00,9,     0.78,     0.09,2,    10.14,     0.42,2,    10.43,     0.16,2, 0.984430932, 0.0477879093,2,     1.07,     0.17,2,       -999,9,        -999,9,   -999.0,9,   -999.0,9,   -999.0,9,     -999,9,      -999,9,  -999.00,9,  -999.00,9,  -1.7133
  32H120020718,    31,  4,     11,2,20020812, 73.4206,-157.3990, 3132,    151.7,  -1.7165,  33.2709,2,-999.0000,9,    278.2,2,   -999.0,9,  -999.00,9,  -999.00,9,  -999.00,9,  -999.00,9,     -999,9,   -999.0,9,   -999.0,9,  -999.00,9,     0.78,     0.09,2,    10.14,     0.42,2,    10.43,     0.16,2, 0.984430932, 0.0477879093,2,     1.07,     0.17,2,       -999,9,        -999,9,   -999.0,9,   -999.0,9,   -999.0,9,     -999,9,      -999,9,  -999.00,9,  -999.00,9,  -1.7194
  32H120020718,    31,  4,     10,2,20020812, 73.4206,-157.3990, 3132,    151.7,  -1.7178,  33.2702,2,-999.0000,9,    277.9,2,   -999.0,9,  -999.00,9,  -999.00,9,  -999.00,9,  -999.00,9,     -999,9,   -999.0,9,   -999.0,9,  -999.00,9,     0.78,     0.09,2,    10.13,     0.42,2,    10.42,     0.16,2, 0.983820035, 0.0477582541,2,     1.07,     0.17,2,       -999,9,        -999,9,   -999.0,9,   -999.0,9,   -999.0,9,     -999,9,      -999,9,  -999.00,9,  -999.00,9,  -1.7207
  32H120020718,    31,  7,      7,2,20020812, 73.4206,-157.3990, 3132,    198.3,  -1.1133,  34.0219,2,-999.0000,9,    265.7,2,   -999.0,9,  -999.00,9,  -999.00,9,  -999.00,9,  -999.00,9,     -999,9,   -999.0,9,   -999.0,9,  -999.00,9,  -999.00,  -999.00,9,  -999.00,  -999.00,9,  -999.00,  -999.00,9,        -999,         -999,9,  -999.00,  -999.00,9,       -999,9,        -999,9,   -999.0,9,   -999.0,9,   -999.0,9,     -999,9,      -999,9,  -999.00,9,  -999.00,9,  -1.1185
  32H120020718,    31,  7,      6,2,20020812, 73.4206,-157.3990, 3132,    198.3,  -1.1160,  34.0189,2,-999.0000,9,    265.5,2,   -999.0,9,  -999.00,9,  -999.00,9,  -999.00,9,  -999.00,9,     -999,9,   -999.0,9,   -999.0,9,  -999.00,9,  -999.00,  -999.00,9,  -999.00,  -999.00,9,  -999.00,  -999.00,9,        -999,         -999,9,  -999.00,  -999.00,9,       -999,9,        -999,9,   -999.0,9,   -999.0,9,   -999.0,9,     -999,9,      -999,9,  -999.00,9,  -999.00,9,  -1.1212
  32H120020718,    31,  3,      4,2,20020812, 73.4206,-157.3990, 3132,    201.1,  -1.0875,  34.0444,2,  34.0209,2,    264.1,2,    271.8,2,    23.53,2,    13.68,2,     0.00,2,     1.39,2,     0.02,2,   -999.0,5,   2301.7,2,  -999.00,9,  -999.00,  -999.00,9,  -999.00,  -999.00,9,  -999.00,  -999.00,9,        -999,         -999,9,  -999.00,  -999.00,9, 9.00377008,2,  1.64059777,2,     55.2,2,      5.8,2,     19.5,2,     -999,5,      -999,9,     0.00,2,     0.02,2,  -1.0928
  32H120020718,    31,  8,      1,2,20020812, 73.4206,-157.3990, 3132,    201.1,  -1.0138,  34.1421,2,-999.0000,9,    268.5,2,   -999.0,9,  -999.00,9,  -999.00,9,  -999.00,9,  -999.00,9,     -999,9,   -999.0,9,   -999.0,9,  -999.00,9,  -999.00,  -999.00,9,  -999.00,  -999.00,9,  -999.00,  -999.00,9,        -999,         -999,9,  -999.00,  -999.00,9,       -999,9,        -999,9,   -999.0,9,   -999.0,9,   -999.0,9,     -999,9,      -999,9,  -999.00,9,  -999.00,9,  -1.0193
  32H120020718,    31,  3,      3,2,20020812, 73.4206,-157.3990, 3132,    251.5,  -0.0363,  34.5619,2,  34.5569,2,    275.5,2,    280.2,2,    10.52,2,    11.95,2,     0.00,2,     0.94,2,     0.01,2,   2189.6,2,   2299.5,2,  -999.00,9,  -999.00,  -999.00,9,  -999.00,  -999.00,9,  -999.00,  -999.00,9,        -999,         -999,9,  -999.00,  -999.00,9, 5.47623373,2,  0.81997112,2,     53.0,2,      6.4,2,     18.4,2,     -999,5,      -999,9,  -999.00,9,  -999.00,9,  -0.0456
  32H120020718,    31,  6,      9,2,20020812, 73.4206,-157.3990, 3132,    251.4,  -0.0004,  34.5721,2,-999.0000,9,    272.7,2,   -999.0,9,  -999.00,9,  -999.00,9,  -999.00,9,  -999.00,9,     -999,9,   -999.0,9,   -999.0,9,  -999.00,9,  -999.00,  -999.00,9,  -999.00,  -999.00,9,  -999.00,  -999.00,9,        -999,         -999,9,  -999.00,  -999.00,9,       -999,9,        -999,9,   -999.0,9,   -999.0,9,   -999.0,9,     -999,9,      -999,9,  -999.00,9,  -999.00,9,  -0.0098
  32H120020718,    31,  6,     10,2,20020812, 73.4206,-157.3990, 3132,    251.4,   0.0101,  34.5778,2,-999.0000,9,    273.5,2,   -999.0,9,  -999.00,9,  -999.00,9,  -999.00,9,  -999.00,9,     -999,9,   -999.0,9,   -999.0,9,  -999.00,9,  -999.00,  -999.00,9,  -999.00,  -999.00,9,  -999.00,  -999.00,9,        -999,         -999,9,  -999.00,  -999.00,9,       -999,9,        -999,9,   -999.0,9,   -999.0,9,   -999.0,9,     -999,9,      -999,9,  -999.00,9,  -999.00,9,   0.0007
  32H120020718,    31,  4,      1,2,20020812, 73.4206,-157.3990, 3132,    253.0,  -0.1179,  34.5393,2,-999.0000,9,    273.0,2,   -999.0,9,  -999.00,9,  -999.00,9,  -999.00,9,  -999.00,9,     -999,9,   -999.0,9,   -999.0,9,  -999.00,9,     1.25,     0.10,2,     6.53,     0.18,2,     0.43,     1.62,2, 0.066893382,  0.238904936,2,     0.78,     1.00,2,       -999,9,        -999,9,   -999.0,9,   -999.0,9,   -999.0,9,     -999,9,      -999,9,  -999.00,9,  -999.00,9,  -0.1271
  32H120020718,    31,  4,      3,2,20020812, 73.4206,-157.3990, 3132,    253.1,  -0.0899,  34.5474,2,-999.0000,9,    273.4,2,   -999.0,9,  -999.00,9,  -999.00,9,  -999.00,9,  -999.00,9,     -999,9,   -999.0,9,   -999.0,9,  -999.00,9,     1.25,     0.10,2,     6.53,     0.18,2,     0.43,     1.62,2,0.0668929287,  0.238903317,2,     0.78,     1.00,2,       -999,9,        -999,9,   -999.0,9,   -999.0,9,   -999.0,9,     -999,9,      -999,9,  -999.00,9,  -999.00,9,  -0.0991
  32H120020718,    31,  4,      2,2,20020812, 73.4206,-157.3990, 3132,    253.1,  -0.1147,  34.5401,2,-999.0000,9,    273.0,2,   -999.0,9,  -999.00,9,  -999.00,9,  -999.00,9,  -999.00,9,     -999,9,   -999.0,9,   -999.0,9,  -999.00,9,     1.25,     0.10,2,     6.53,     0.18,2,     0.43,     1.62,2,0.0668927839,    0.2389028,2,     0.78,     1.00,2,       -999,9,        -999,9,   -999.0,9,   -999.0,9,   -999.0,9,     -999,9,      -999,9,  -999.00,9,  -999.00,9,  -0.1239
  32H120020718,    31,  4,      6,2,20020812, 73.4206,-157.3990, 3132,    253.2,  -0.0678,  34.5548,2,-999.0000,9,    273.8,2,   -999.0,9,  -999.00,9,  -999.00,9,  -999.00,9,  -999.00,9,     -999,9,   -999.0,9,   -999.0,9,  -999.00,9,     1.25,     0.10,2,     6.53,     0.18,2,     0.43,     1.62,2,0.0668919621,  0.238899865,2,     0.78,     1.00,2,       -999,9,        -999,9,   -999.0,9,   -999.0,9,   -999.0,9,     -999,9,      -999,9,  -999.00,9,  -999.00,9,  -0.0771
  32H120020718,    31,  4,      5,2,20020812, 73.4206,-157.3990, 3132,    253.2,  -0.0754,  34.5511,2,-999.0000,9,    274.0,2,   -999.0,9,  -999.00,9,  -999.00,9,  -999.00,9,  -999.00,9,     -999,9,   -999.0,9,   -999.0,9,  -999.00,9,     1.25,     0.10,2,     6.53,     0.18,2,     0.43,     1.62,2,0.0668921464,  0.238900523,2,     0.78,     1.00,2,       -999,9,        -999,9,   -999.0,9,   -999.0,9,   -999.0,9,     -999,9,      -999,9,  -999.00,9,  -999.00,9,  -0.0847
  32H120020718,    31,  4,      4,2,20020812, 73.4206,-157.3990, 3132,    253.2,  -0.0811,  34.5498,2,-999.0000,9,    274.0,2,   -999.0,9,  -999.00,9,  -999.00,9,  -999.00,9,  -999.00,9,     -999,9,   -999.0,9,   -999.0,9,  -999.00,9,     1.24,     0.10,2,     6.52,     0.18,2,     0.43,     1.62,2,0.0667954763,  0.238555273,2,     0.77,     1.00,2,       -999,9,        -999,9,   -999.0,9,   -999.0,9,   -999.0,9,     -999,9,      -999,9,  -999.00,9,  -999.00,9,  -0.0904
  32H120020718,    31,  3,      2,2,20020812, 73.4206,-157.3990, 3132,    301.0,   0.5919,  34.7470,2,  34.7471,2,    284.2,2,    290.1,2,     7.33,2,    12.00,2,     0.00,2,     0.87,2,     0.01,2,   2143.0,2,   2307.1,2,  -999.00,9,  -999.00,  -999.00,9,  -999.00,  -999.00,9,  -999.00,  -999.00,9,        -999,         -999,9,  -999.00,  -999.00,9, 4.75320336,2, 0.732014133,2,     50.7,2,      5.8,2,     17.8,2,     -999,5,      -999,9,  -999.00,9,  -999.00,9,   0.5789
  32H120020718,    31,  3,      1,2,20020812, 73.4206,-157.3990, 3132,    351.6,   0.8129,  34.8146,2,  34.8143,2,    289.4,2,    294.8,2,     6.43,2,    12.11,2,     0.00,2,     0.85,2,     0.01,2,   2138.8,2,   2366.2,2,  -999.00,9,  -999.00,  -999.00,9,  -999.00,  -999.00,9,  -999.00,  -999.00,9,        -999,         -999,9,  -999.00,  -999.00,9, 5.91438456,2, 0.858853088,2,     50.0,2,      3.8,2,     15.9,2,     -999,5,      -999,9,  -999.00,9,  -999.00,9,   0.7969
  32H120020718,    31,  7,      5,2,20020812, 73.4206,-157.3990, 3132,    353.8,   0.8072,  34.8148,2,-999.0000,9,    286.4,2,   -999.0,9,  -999.00,9,  -999.00,9,  -999.00,9,  -999.00,9,     -999,9,   -999.0,9,   -999.0,9,  -999.00,9,  -999.00,  -999.00,9,  -999.00,  -999.00,9,  -999.00,  -999.00,9,        -999,         -999,9,  -999.00,  -999.00,9,       -999,9,        -999,9,   -999.0,9,   -999.0,9,   -999.0,9,     -999,9,      -999,9,  -999.00,9,  -999.00,9,   0.7911
  32H120020718,    31,  1,     12,2,20020812, 73.4206,-157.3990, 3132,    401.4,   0.6880,  34.8230,2,  34.8229,2,    288.0,2,    296.0,2,     6.56,2,    12.01,2,     0.02,2,     0.89,2,        0,2,   2135.5,2,   2308.8,2,  -999.00,9,  -999.00,  -999.00,9,  -999.00,  -999.00,9,  -999.00,  -999.00,9,        -999,         -999,9,  -999.00,  -999.00,9, 4.38206772,2, 0.614856646,2,     50.6,2,      5.4,2,     17.4,2,     -999,5,      -999,9,  -999.00,9,  -999.00,9,   0.6700
  32H120020718,    31,  1,     11,2,20020812, 73.4206,-157.3990, 3132,    451.2,   0.6404,  34.8400,2,  34.8403,2,    289.1,2,    297.0,2,     6.56,2,    12.07,2,     0.01,2,     0.89,2,        0,2,   -999.0,9,   -999.0,9,  -999.00,9,  -999.00,  -999.00,9,  -999.00,  -999.00,9,  -999.00,  -999.00,9,        -999,         -999,9,  -999.00,  -999.00,9,       -999,9,        -999,9,     50.2,2,      4.4,2,     16.5,2,     -999,5,      -999,9,  -999.00,9,  -999.00,9,   0.6201
  32H120020718,    31,  1,     10,2,20020812, 73.4206,-157.3990, 3132,    501.5,   0.5623,  34.8452,2,  34.8452,2,    289.2,2,    297.4,2,     6.65,2,    12.12,2,     0.01,2,     0.89,2,        0,2,   2126.7,2,   2310.1,2,  -999.00,9,  -999.00,  -999.00,9,  -999.00,  -999.00,9,  -999.00,  -999.00,9,        -999,         -999,9,  -999.00,  -999.00,9, 3.78667587,2, 0.419657278,2,     49.8,2,      4.2,2,     16.3,2,     -999,5,      -999,9,  -999.00,9,  -999.00,9,   0.5399
  32H120020718,    31,  1,      9,2,20020812, 73.4206,-157.3990, 3132,    552.3,   0.4785,  34.8496,2,  34.8499,2,    288.9,2,    297.4,2,     6.74,2,    12.12,2,     0.01,2,     0.89,2,        0,2,   -999.0,9,   -999.0,9,  -999.00,9,  -999.00,  -999.00,9,  -999.00,  -999.00,9,  -999.00,  -999.00,9,        -999,         -999,9,  -999.00,  -999.00,9,       -999,9,        -999,9,     49.6,2,      6.0,2,     18.1,2,     -999,5,      -999,9,  -999.00,9,  -999.00,9,   0.4539