BOTTLE,20090202PRINUNIVRMK
EXPOCODE,STNNBR,CASTNO,BTLNBR,BTLNBR_FLAG_W,DATE,LATITUDE,LONGITUDE,DEPTH,CTDPRS,CTDTMP,CTDSAL,CTDSAL_FLAG_W,SALNTY,SALNTY_FLAG_W,CTDOXY,CTDOXY_FLAG_W,OXYGEN,OXYGEN_FLAG_W,SILCAT,SILCAT_FLAG_W,NITRAT,NITRAT_FLAG_W,NITRIT,NITRIT_FLAG_W,PHSPHT,PHSPHT_FLAG_W,AMMONI,AMMONI_FLAG_W,TCARBN,TCARBN_FLAG_W,ALKALI,ALKALI_FLAG_W,DELO18,DELO18_FLAG_W,RA-224,RA-224E,RA-224_FLAG_W,RA-226,RA-226E,RA-226_FLAG_W,RA-228,RA-228E,RA-228_FLAG_W,RA-8/6,RA-8/6E,RA-8/6_FLAG_W,TH-228,TH-228E,TH-228_FLAG_W,POC,POC_FLAG_W,PON,PON_FLAG_W,DOC,DOC_FLAG_W,DON,DON_FLAG_W,TDN,TDN_FLAG_W,UREA,UREA_FLAG_W,LIGNIN,LIGNIN_FLAG_W,CHLORA,CHLORA_FLAG_W,PHAEO,PHAEO_FLAG_W,THETA
,,,,,,,,METERS,DBARS,ITS-90,PSS-78,,PSS-78,,UMOL/KG,,UMOL/KG,,UMOL/KG,,UMOL/KG,,UMOL/KG,,UMOL/KG,,UMOL/KG,,UMOL/KG,,UMOL/KG,,O/OO,,DPM/100KG,DPM/100KG,,DPM/100KG,DPM/100KG,,DPM/100KG,DPM/100KG,,,,,DPM/100KG,DPM/100KG,,ug/kg,,ug/kg,,UMOL/KG,,UMOL/KG,,UMOL/KG,,UMOL/KG,,NG/KG,,UG/L,,UG/L,,DEGC
  32H120020718,    31,  6,      7,2,20020812, 73.4206,-157.3990, 3132,    600.5,   0.4240,  34.8550,2,-999.0000,9,    287.9,2,   -999.0,9,  -999.00,9,  -999.00,9,  -999.00,9,  -999.00,9,     -999,9,   -999.0,9,   -999.0,9,  -999.00,9,  -999.00,  -999.00,9,  -999.00,  -999.00,9,  -999.00,  -999.00,9,        -999,         -999,9,  -999.00,  -999.00,9,       -999,9,        -999,9,   -999.0,9,   -999.0,9,   -999.0,9,     -999,9,      -999,9,  -999.00,9,  -999.00,9,   0.3973
  32H120020718,    31,  6,      8,2,20020812, 73.4206,-157.3990, 3132,    600.5,   0.4242,  34.8550,2,  34.8554,2,    287.9,2,   -999.0,9,  -999.00,9,  -999.00,9,  -999.00,9,  -999.00,9,     -999,9,   -999.0,9,   -999.0,9,  -999.00,9,  -999.00,  -999.00,9,  -999.00,  -999.00,9,  -999.00,  -999.00,9,        -999,         -999,9,  -999.00,  -999.00,9,       -999,9,        -999,9,   -999.0,9,   -999.0,9,   -999.0,9,     -999,9,      -999,9,  -999.00,9,  -999.00,9,   0.3975
  32H120020718,    31,  1,      8,2,20020812, 73.4206,-157.3990, 3132,    601.5,   0.4075,  34.8562,2,  34.8603,2,    288.7,2,    297.8,2,     6.83,2,    12.22,2,     0.01,2,     0.89,2,        0,2,   2137.9,2,   2304.0,2,  -999.00,9,  -999.00,  -999.00,9,  -999.00,  -999.00,9,  -999.00,  -999.00,9,        -999,         -999,9,  -999.00,  -999.00,9,  4.3331682,2, 0.419653775,2,     49.2,2,      3.8,2,     16.0,2,     -999,5,      -999,9,  -999.00,9,  -999.00,9,   0.3808
  32H120020718,    31,  1,      7,2,20020812, 73.4206,-157.3990, 3132,    751.5,   0.2019,  34.8664,2,  34.8670,2,    288.9,2,    299.8,2,     6.83,2,    12.22,2,     0.00,2,     0.90,2,        0,2,   -999.0,9,   -999.0,9,  -999.00,9,  -999.00,  -999.00,9,  -999.00,  -999.00,9,  -999.00,  -999.00,9,        -999,         -999,9,  -999.00,  -999.00,9,       -999,9,        -999,9,     48.7,2,      3.9,2,     16.1,2,     -999,5,      -999,9,  -999.00,9,  -999.00,9,   0.1688
  32H120020718,    31,  7,      4,2,20020812, 73.4206,-157.3990, 3132,    803.8,   0.1524,  34.8668,2,-999.0000,9,    288.7,2,   -999.0,9,  -999.00,9,  -999.00,9,  -999.00,9,  -999.00,9,     -999,9,   -999.0,9,   -999.0,9,  -999.00,9,  -999.00,  -999.00,9,  -999.00,  -999.00,9,  -999.00,  -999.00,9,        -999,         -999,9,  -999.00,  -999.00,9,       -999,9,        -999,9,   -999.0,9,   -999.0,9,   -999.0,9,     -999,9,      -999,9,  -999.00,9,  -999.00,9,   0.1170
  32H120020718,    31,  6,      6,2,20020812, 73.4206,-157.3990, 3132,    902.3,   0.0470,  34.8748,2,  34.8753,2,    288.3,2,   -999.0,9,  -999.00,9,  -999.00,9,  -999.00,9,  -999.00,9,     -999,9,   -999.0,9,   -999.0,9,  -999.00,9,  -999.00,  -999.00,9,  -999.00,  -999.00,9,  -999.00,  -999.00,9,        -999,         -999,9,  -999.00,  -999.00,9,       -999,9,        -999,9,   -999.0,9,   -999.0,9,   -999.0,9,     -999,9,      -999,9,  -999.00,9,  -999.00,9,   0.0072
  32H120020718,    31,  6,      5,2,20020812, 73.4206,-157.3990, 3132,    902.3,   0.0471,  34.8746,2,-999.0000,9,    287.9,2,   -999.0,9,  -999.00,9,  -999.00,9,  -999.00,9,  -999.00,9,     -999,9,   -999.0,9,   -999.0,9,  -999.00,9,  -999.00,  -999.00,9,  -999.00,  -999.00,9,  -999.00,  -999.00,9,        -999,         -999,9,  -999.00,  -999.00,9,       -999,9,        -999,9,   -999.0,9,   -999.0,9,   -999.0,9,     -999,9,      -999,9,  -999.00,9,  -999.00,9,   0.0073
  32H120020718,    31,  1,      6,2,20020812, 73.4206,-157.3990, 3132,   1001.5,  -0.0290,  34.8808,2,  34.8816,2,    287.3,2,    300.5,2,     7.22,2,    12.37,2,     0.00,2,     0.91,2,     0.01,2,   2138.1,2,   2313.7,2,  -999.00,9,  -999.00,  -999.00,9,  -999.00,  -999.00,9,  -999.00,  -999.00,9,        -999,         -999,9,  -999.00,  -999.00,9, 3.79632914,2, 0.390369564,2,     47.7,2,      3.4,2,     15.8,2,     -999,5,      -999,9,  -999.00,9,  -999.00,9,  -0.0734
  32H120020718,    31,  1,      5,2,20020812, 73.4206,-157.3990, 3132,   1265.9,  -0.1943,  34.8966,2,  34.8969,2,    285.5,2,    300.4,2,     7.71,2,    12.63,2,     0.00,2,     0.93,2,     0.01,2,   -999.0,9,   -999.0,9,  -999.00,9,  -999.00,  -999.00,9,  -999.00,  -999.00,9,  -999.00,  -999.00,9,        -999,         -999,9,  -999.00,  -999.00,9,       -999,9,        -999,9,     47.6,2,      5.8,2,     18.4,2,     -999,5,      -999,9,  -999.00,9,  -999.00,9,  -0.2518
  32H120020718,    31,  6,      3,2,20020812, 73.4206,-157.3990, 3132,   1503.9,  -0.3256,  34.9154,2,-999.0000,9,    283.1,2,   -999.0,9,  -999.00,9,  -999.00,9,  -999.00,9,  -999.00,9,     -999,9,   -999.0,9,   -999.0,9,  -999.00,9,  -999.00,  -999.00,9,  -999.00,  -999.00,9,  -999.00,  -999.00,9,        -999,         -999,9,  -999.00,  -999.00,9,       -999,9,        -999,9,   -999.0,9,   -999.0,9,   -999.0,9,     -999,9,      -999,9,  -999.00,9,  -999.00,9,  -0.3955
  32H120020718,    31,  6,      4,2,20020812, 73.4206,-157.3990, 3132,   1504.2,  -0.3259,  34.9153,2,  34.9156,2,    283.1,2,   -999.0,9,  -999.00,9,  -999.00,9,  -999.00,9,  -999.00,9,     -999,9,   -999.0,9,   -999.0,9,  -999.00,9,  -999.00,  -999.00,9,  -999.00,  -999.00,9,  -999.00,  -999.00,9,        -999,         -999,9,  -999.00,  -999.00,9,       -999,9,        -999,9,   -999.0,9,   -999.0,9,   -999.0,9,     -999,9,      -999,9,  -999.00,9,  -999.00,9,  -0.3958
  32H120020718,    31,  1,      4,2,20020812, 73.4206,-157.3990, 3132,   1751.5,  -0.3918,  34.9303,2,  34.9303,2,    278.1,2,    295.0,2,     9.89,2,    13.58,2,     0.00,2,     1.00,2,     0.01,2,   -999.0,9,   -999.0,9,  -999.00,9,  -999.00,  -999.00,9,  -999.00,  -999.00,9,  -999.00,  -999.00,9,        -999,         -999,9,  -999.00,  -999.00,9,       -999,9,        -999,9,     46.5,2,      4.8,2,     18.3,2,     -999,5,      -999,9,  -999.00,9,  -999.00,9,  -0.4761
  32H120020718,    31,  7,      3,2,20020812, 73.4206,-157.3990, 3132,   2002.9,  -0.4076,  34.9423,2,-999.0000,9,    273.4,2,   -999.0,9,  -999.00,9,  -999.00,9,  -999.00,9,  -999.00,9,     -999,9,   -999.0,9,   -999.0,9,  -999.00,9,  -999.00,  -999.00,9,  -999.00,  -999.00,9,  -999.00,  -999.00,9,        -999,         -999,9,  -999.00,  -999.00,9,       -999,9,        -999,9,   -999.0,9,   -999.0,9,   -999.0,9,     -999,9,      -999,9,  -999.00,9,  -999.00,9,  -0.5081
  32H120020718,    31,  1,      3,2,20020812, 73.4206,-157.3990, 3132,   2251.4,  -0.3953,  34.9477,2,  34.9473,2,    270.5,2,    288.7,2,    11.97,2,    14.14,2,     0.00,2,     1.03,2,     0.02,2,   2139.3,2,   2317.5,2,  -999.00,9,  -999.00,  -999.00,9,  -999.00,  -999.00,9,  -999.00,  -999.00,9,        -999,         -999,9,  -999.00,  -999.00,9,  2.7812355,2, 0.224450902,2,     44.8,2,      5.4,2,     19.5,2,     -999,5,      -999,9,  -999.00,9,  -999.00,9,  -0.5133
  32H120020718,    31,  1,      2,2,20020812, 73.4206,-157.3990, 3132,   2751.3,  -0.3580,  34.9539,2,  34.9538,2,    267.3,2,    286.1,2,    12.66,2,    14.29,2,     0.00,2,     1.04,2,     0.03,2,   -999.0,9,   -999.0,9,  -999.00,9,  -999.00,  -999.00,9,  -999.00,  -999.00,9,  -999.00,  -999.00,9,        -999,         -999,9,  -999.00,  -999.00,9,       -999,9,        -999,9,     48.1,2,      5.7,2,     20.0,2,     -999,5,      -999,9,  -999.00,9,  -999.00,9,  -0.5145
  32H120020718,    31,  6,      1,2,20020812, 73.4206,-157.3990, 3132,   2902.0,  -0.3452,  34.9552,2,-999.0000,9,    268.2,2,   -999.0,9,  -999.00,9,  -999.00,9,  -999.00,9,  -999.00,9,     -999,9,   -999.0,9,   -999.0,9,  -999.00,9,  -999.00,  -999.00,9,  -999.00,  -999.00,9,  -999.00,  -999.00,9,        -999,         -999,9,  -999.00,  -999.00,9,       -999,9,        -999,9,   -999.0,9,   -999.0,9,   -999.0,9,     -999,9,      -999,9,  -999.00,9,  -999.00,9,  -0.5142
  32H120020718,    31,  6,      2,2,20020812, 73.4206,-157.3990, 3132,   2902.7,  -0.3451,  34.9551,2,  34.9547,2,    268.2,2,   -999.0,9,  -999.00,9,  -999.00,9,  -999.00,9,  -999.00,9,     -999,9,   -999.0,9,   -999.0,9,  -999.00,9,  -999.00,  -999.00,9,  -999.00,  -999.00,9,  -999.00,  -999.00,9,        -999,         -999,9,  -999.00,  -999.00,9,       -999,9,        -999,9,   -999.0,9,   -999.0,9,   -999.0,9,     -999,9,      -999,9,  -999.00,9,  -999.00,9,  -0.5141
  32H120020718,    31,  7,      1,2,20020812, 73.4206,-157.3990, 3132,   2954.0,  -0.3402,  34.9559,2,-999.0000,9,    267.4,2,   -999.0,9,  -999.00,9,  -999.00,9,  -999.00,9,  -999.00,9,     -999,9,   -999.0,9,   -999.0,9,  -999.00,9,  -999.00,  -999.00,9,  -999.00,  -999.00,9,  -999.00,  -999.00,9,        -999,         -999,9,  -999.00,  -999.00,9,       -999,9,        -999,9,   -999.0,9,   -999.0,9,   -999.0,9,     -999,9,      -999,9,  -999.00,9,  -999.00,9,  -0.5136
  32H120020718,    31,  7,      2,2,20020812, 73.4206,-157.3990, 3132,   2954.2,  -0.3401,  34.9561,2,-999.0000,9,    267.4,2,   -999.0,9,  -999.00,9,  -999.00,9,  -999.00,9,  -999.00,9,     -999,9,   -999.0,9,   -999.0,9,  -999.00,9,  -999.00,  -999.00,9,  -999.00,  -999.00,9,  -999.00,  -999.00,9,        -999,         -999,9,  -999.00,  -999.00,9,       -999,9,        -999,9,   -999.0,9,   -999.0,9,   -999.0,9,     -999,9,      -999,9,  -999.00,9,  -999.00,9,  -0.5135
  32H120020718,    31,  1,      1,4,20020812, 73.4206,-157.3990, 3132,   3178.5,  -0.3182,  34.9566,2,  34.8918,0,    265.9,2,    300.6,4,     7.49,4,    12.52,4,     0.00,4,     0.92,4,     0.02,4,   2132.8,2,   2311.8,2,  -999.00,9,  -999.00,  -999.00,9,  -999.00,  -999.00,9,  -999.00,  -999.00,9,        -999,         -999,9,  -999.00,  -999.00,9, 3.56208075,2, 0.419643413,2,     45.9,2,      6.7,2,     19.2,2,     -999,5,      -999,9,  -999.00,9,  -999.00,9,  -0.5111
  32H120020718,    32,  2,     12,2,20020813, 73.7074,-159.0930, 1401,      2.1,  -0.6518,  26.8787,2,  26.8820,2,    368.0,2,    377.1,2,     2.84,2,     0.00,2,     0.00,2,     0.65,2,     0.04,2,   1829.9,2,   1949.9,2,    -3.48,2,  -999.00,  -999.00,9,  -999.00,  -999.00,9,  -999.00,  -999.00,9,        -999,         -999,9,  -999.00,  -999.00,9, 18.0446654,2,  2.75872965,2,     65.8,2,      3.2,2,      3.2,2,        0,2,      -999,9,     0.04,2,     0.03,2,  -0.6518
  32H120020718,    32,  7,     12,2,20020813, 73.7074,-159.0930, 1401,      2.2,  -0.6829,  26.8778,2,-999.0000,9,    365.9,2,   -999.0,9,  -999.00,9,  -999.00,9,  -999.00,9,  -999.00,9,     -999,9,   -999.0,9,   -999.0,9,  -999.00,9,  -999.00,  -999.00,9,  -999.00,  -999.00,9,  -999.00,  -999.00,9,        -999,         -999,9,  -999.00,  -999.00,9,       -999,9,        -999,9,   -999.0,9,   -999.0,9,   -999.0,9,     -999,9,      -999,9,  -999.00,9,  -999.00,9,  -0.6829
  32H120020718,    32,  7,     11,2,20020813, 73.7074,-159.0930, 1401,      2.2,  -0.6866,  26.8755,2,  27.0007,2,    366.3,2,    378.9,2,     2.73,2,     0.00,2,     0.00,2,     0.64,2,     0.03,2,   -999.0,9,   -999.0,9,  -999.00,9,  -999.00,  -999.00,9,  -999.00,  -999.00,9,  -999.00,  -999.00,9,        -999,         -999,9,  -999.00,  -999.00,9,       -999,9,        -999,9,   -999.0,9,   -999.0,9,   -999.0,9,        0,2,      -999,9,     0.05,2,     0.03,2,  -0.6866
  32H120020718,    32, 99,      1,9,20020813, 73.7074,-159.0930, 1401,      8.1,-999.0000,-999.0000,9,-999.0000,9,   -999.0,9,   -999.0,9,  -999.00,9,  -999.00,9,  -999.00,9,  -999.00,9,     -999,9,   -999.0,9,   -999.0,9,  -999.00,9,     2.32,     0.12,2,     6.72,     0.36,2,     3.46,     0.10,2, 0.487317284, 0.0286657226,2,     0.78,     0.09,2,       -999,9,        -999,9,   -999.0,9,   -999.0,9,   -999.0,9,     -999,9,      -999,9,  -999.00,9,  -999.00,9,-999.0000
  32H120020718,    32,  2,     11,2,20020813, 73.7074,-159.0930, 1401,     11.8,  -0.8745,  27.8712,2,  28.0036,2,    377.1,2,    390.4,2,     2.94,2,     0.00,2,     0.00,2,     0.68,2,     0.02,2,   1890.0,2,   2030.1,2,    -3.53,2,  -999.00,  -999.00,9,  -999.00,  -999.00,9,  -999.00,  -999.00,9,        -999,         -999,9,  -999.00,  -999.00,9, 19.5205498,2,  2.94281024,2,     69.1,2,      4.6,2,      4.6,2,        0,2,      -999,9,     0.05,2,     0.03,2,  -0.8747
  32H120020718,    32,  7,     10,2,20020813, 73.7074,-159.0930, 1401,     14.8,  -0.8967,  28.3127,2,-999.0000,9,    377.6,2,    391.8,2,     2.73,2,     0.00,2,     0.00,2,     0.69,2,     0.01,2,   -999.0,9,   -999.0,9,  -999.00,9,  -999.00,  -999.00,9,  -999.00,  -999.00,9,  -999.00,  -999.00,9,        -999,         -999,9,  -999.00,  -999.00,9,       -999,9,        -999,9,   -999.0,9,   -999.0,9,   -999.0,9,        0,2,      -999,9,     0.06,2,     0.02,2,  -0.8969
  32H120020718,    32,  7,      9,2,20020813, 73.7074,-159.0930, 1401,     25.2,  -0.9617,  29.3531,2,-999.0000,9,    383.2,2,    397.1,2,     3.20,2,     0.00,2,     0.00,2,     0.72,2,     0.01,2,   -999.0,9,   -999.0,9,  -999.00,9,  -999.00,  -999.00,9,  -999.00,  -999.00,9,  -999.00,  -999.00,9,        -999,         -999,9,  -999.00,  -999.00,9,       -999,9,        -999,9,   -999.0,9,   -999.0,9,   -999.0,9,        0,2,      -999,9,     0.06,2,     0.04,2,  -0.9621
  32H120020718,    32,  2,     10,2,20020813, 73.7074,-159.0930, 1401,     26.9,  -0.8558,  29.7496,2,  29.8075,2,    387.9,2,    397.9,2,     3.52,2,     0.00,2,     0.00,2,     0.74,2,     0.01,2,   1991.1,2,   2135.5,2,    -3.28,2,  -999.00,  -999.00,9,  -999.00,  -999.00,9,  -999.00,  -999.00,9,        -999,         -999,9,  -999.00,  -999.00,9, 21.3555763,2,  3.50702713,2,     72.0,2,      5.9,2,      6.0,2,     0.01,2,      -999,9,     0.07,2,     0.06,2,  -0.8563
  32H120020718,    32,  5,     12,2,20020813, 73.7074,-159.0930, 1401,     33.7,  -0.8888,  30.7553,2,-999.0000,9,    386.8,2,   -999.0,9,  -999.00,9,  -999.00,9,  -999.00,9,  -999.00,9,     -999,9,   -999.0,9,   -999.0,9,  -999.00,9,  -999.00,  -999.00,9,  -999.00,  -999.00,9,  -999.00,  -999.00,9,        -999,         -999,9,  -999.00,  -999.00,9,       -999,9,        -999,9,   -999.0,9,   -999.0,9,   -999.0,9,     -999,9,      -999,9,  -999.00,9,  -999.00,9,  -0.8895
  32H120020718,    32,  5,     11,2,20020813, 73.7074,-159.0930, 1401,     33.7,  -0.8972,  30.7683,2,-999.0000,9,    387.0,2,   -999.0,9,     5.31,2,     0.34,2,     0.02,2,     0.81,2,     0.03,2,   -999.0,9,   -999.0,9,  -999.00,9,  -999.00,  -999.00,9,  -999.00,  -999.00,9,  -999.00,  -999.00,9,        -999,         -999,9,  -999.00,  -999.00,9,       -999,9,        -999,9,   -999.0,9,   -999.0,9,   -999.0,9,        0,2,      -999,9,  -999.00,9,  -999.00,9,  -0.8979
  32H120020718,    32,  8,     11,2,20020813, 73.7074,-159.0930, 1401,     35.9,  -0.5617,  30.9928,2,-999.0000,9,    386.9,2,   -999.0,9,  -999.00,9,  -999.00,9,  -999.00,9,  -999.00,9,     -999,9,   -999.0,9,   -999.0,9,  -999.00,9,  -999.00,  -999.00,9,  -999.00,  -999.00,9,  -999.00,  -999.00,9,        -999,         -999,9,  -999.00,  -999.00,9,       -999,9,        -999,9,   -999.0,9,   -999.0,9,   -999.0,9,     -999,9,      -999,9,  -999.00,9,  -999.00,9,  -0.5625
  32H120020718,    32,  8,     12,2,20020813, 73.7074,-159.0930, 1401,     35.9,  -0.5781,  30.9975,2,-999.0000,9,    386.9,2,   -999.0,9,     4.92,2,     0.15,2,     0.01,2,     0.83,2,     0.04,2,   -999.0,9,   -999.0,9,  -999.00,9,  -999.00,  -999.00,9,  -999.00,  -999.00,9,  -999.00,  -999.00,9,        -999,         -999,9,  -999.00,  -999.00,9,       -999,9,        -999,9,   -999.0,9,   -999.0,9,   -999.0,9,     0.01,2,      -999,9,  -999.00,9,  -999.00,9,  -0.5789
  32H120020718,    32,  8,     10,2,20020813, 73.7074,-159.0930, 1401,     35.9,  -0.5816,  30.9973,2,-999.0000,9,    386.8,2,   -999.0,9,  -999.00,9,  -999.00,9,  -999.00,9,  -999.00,9,     -999,9,   -999.0,9,   -999.0,9,  -999.00,9,  -999.00,  -999.00,9,  -999.00,  -999.00,9,  -999.00,  -999.00,9,        -999,         -999,9,  -999.00,  -999.00,9,       -999,9,        -999,9,   -999.0,9,   -999.0,9,   -999.0,9,     -999,9,      -999,9,  -999.00,9,  -999.00,9,  -0.5824
  32H120020718,    32,  8,      7,2,20020813, 73.7074,-159.0930, 1401,     35.9,  -0.6087,  31.0173,2,-999.0000,9,    387.5,2,   -999.0,9,  -999.00,9,  -999.00,9,  -999.00,9,  -999.00,9,     -999,9,   -999.0,9,   -999.0,9,  -999.00,9,  -999.00,  -999.00,9,  -999.00,  -999.00,9,  -999.00,  -999.00,9,        -999,         -999,9,  -999.00,  -999.00,9,       -999,9,        -999,9,   -999.0,9,   -999.0,9,   -999.0,9,     -999,9,      -999,9,  -999.00,9,  -999.00,9,  -0.6095
  32H120020718,    32,  8,      6,2,20020813, 73.7074,-159.0930, 1401,     35.9,  -0.6087,  31.0179,2,-999.0000,9,    387.5,2,   -999.0,9,  -999.00,9,  -999.00,9,  -999.00,9,  -999.00,9,     -999,9,   -999.0,9,   -999.0,9,  -999.00,9,  -999.00,  -999.00,9,  -999.00,  -999.00,9,  -999.00,  -999.00,9,        -999,         -999,9,  -999.00,  -999.00,9,       -999,9,        -999,9,   -999.0,9,   -999.0,9,   -999.0,9,     -999,9,      -999,9,  -999.00,9,  -999.00,9,  -0.6095
  32H120020718,    32,  8,      9,2,20020813, 73.7074,-159.0930, 1401,     35.9,  -0.6091,  31.0050,2,-999.0000,9,    387.3,2,   -999.0,9,  -999.00,9,  -999.00,9,  -999.00,9,  -999.00,9,     -999,9,   -999.0,9,   -999.0,9,  -999.00,9,  -999.00,  -999.00,9,  -999.00,  -999.00,9,  -999.00,  -999.00,9,        -999,         -999,9,  -999.00,  -999.00,9,       -999,9,        -999,9,   -999.0,9,   -999.0,9,   -999.0,9,     -999,9,      -999,9,  -999.00,9,  -999.00,9,  -0.6099
  32H120020718,    32,  8,      5,2,20020813, 73.7074,-159.0930, 1401,     35.9,  -0.6108,  31.0167,2,-999.0000,9,    387.8,2,   -999.0,9,  -999.00,9,  -999.00,9,  -999.00,9,  -999.00,9,     -999,9,   -999.0,9,   -999.0,9,  -999.00,9,  -999.00,  -999.00,9,  -999.00,  -999.00,9,  -999.00,  -999.00,9,        -999,         -999,9,  -999.00,  -999.00,9,       -999,9,        -999,9,   -999.0,9,   -999.0,9,   -999.0,9,     -999,9,      -999,9,  -999.00,9,  -999.00,9,  -0.6116
  32H120020718,    32,  8,      8,2,20020813, 73.7074,-159.0930, 1401,     35.9,  -0.6131,  31.0117,2,-999.0000,9,    387.7,2,   -999.0,9,  -999.00,9,  -999.00,9,  -999.00,9,  -999.00,9,     -999,9,   -999.0,9,   -999.0,9,  -999.00,9,  -999.00,  -999.00,9,  -999.00,  -999.00,9,  -999.00,  -999.00,9,        -999,         -999,9,  -999.00,  -999.00,9,       -999,9,        -999,9,   -999.0,9,   -999.0,9,   -999.0,9,     -999,9,      -999,9,  -999.00,9,  -999.00,9,  -0.6139
  32H120020718,    32,  8,      4,2,20020813, 73.7074,-159.0930, 1401,     35.9,  -0.6146,  31.0144,2,-999.0000,9,    387.7,2,   -999.0,9,  -999.00,9,  -999.00,9,  -999.00,9,  -999.00,9,     -999,9,   -999.0,9,   -999.0,9,  -999.00,9,  -999.00,  -999.00,9,  -999.00,  -999.00,9,  -999.00,  -999.00,9,        -999,         -999,9,  -999.00,  -999.00,9,       -999,9,        -999,9,   -999.0,9,   -999.0,9,   -999.0,9,     -999,9,      -999,9,  -999.00,9,  -999.00,9,  -0.6154
  32H120020718,    32,  8,      3,2,20020813, 73.7074,-159.0930, 1401,     35.9,  -0.6166,  31.0089,2,-999.0000,9,    387.9,2,   -999.0,9,  -999.00,9,  -999.00,9,  -999.00,9,  -999.00,9,     -999,9,   -999.0,9,   -999.0,9,  -999.00,9,  -999.00,  -999.00,9,  -999.00,  -999.00,9,  -999.00,  -999.00,9,        -999,         -999,9,  -999.00,  -999.00,9,       -999,9,        -999,9,   -999.0,9,   -999.0,9,   -999.0,9,     -999,9,      -999,9,  -999.00,9,  -999.00,9,  -0.6174