BOTTLE,20090202PRINUNIVRMK
EXPOCODE,STNNBR,CASTNO,BTLNBR,BTLNBR_FLAG_W,DATE,LATITUDE,LONGITUDE,DEPTH,CTDPRS,CTDTMP,CTDSAL,CTDSAL_FLAG_W,SALNTY,SALNTY_FLAG_W,CTDOXY,CTDOXY_FLAG_W,OXYGEN,OXYGEN_FLAG_W,SILCAT,SILCAT_FLAG_W,NITRAT,NITRAT_FLAG_W,NITRIT,NITRIT_FLAG_W,PHSPHT,PHSPHT_FLAG_W,AMMONI,AMMONI_FLAG_W,TCARBN,TCARBN_FLAG_W,ALKALI,ALKALI_FLAG_W,DELO18,DELO18_FLAG_W,RA-224,RA-224E,RA-224_FLAG_W,RA-226,RA-226E,RA-226_FLAG_W,RA-228,RA-228E,RA-228_FLAG_W,RA-8/6,RA-8/6E,RA-8/6_FLAG_W,TH-228,TH-228E,TH-228_FLAG_W,POC,POC_FLAG_W,PON,PON_FLAG_W,DOC,DOC_FLAG_W,DON,DON_FLAG_W,TDN,TDN_FLAG_W,UREA,UREA_FLAG_W,LIGNIN,LIGNIN_FLAG_W,CHLORA,CHLORA_FLAG_W,PHAEO,PHAEO_FLAG_W,THETA
,,,,,,,,METERS,DBARS,ITS-90,PSS-78,,PSS-78,,UMOL/KG,,UMOL/KG,,UMOL/KG,,UMOL/KG,,UMOL/KG,,UMOL/KG,,UMOL/KG,,UMOL/KG,,UMOL/KG,,O/OO,,DPM/100KG,DPM/100KG,,DPM/100KG,DPM/100KG,,DPM/100KG,DPM/100KG,,,,,DPM/100KG,DPM/100KG,,ug/kg,,ug/kg,,UMOL/KG,,UMOL/KG,,UMOL/KG,,UMOL/KG,,NG/KG,,UG/L,,UG/L,,DEGC
  32H120020718,     8,  1,      5,2,20020720, 69.9553,-164.3980,   32,     21.8,  -0.9886,  31.5799,2,  31.5459,2,    337.9,2,    357.0,2,     5.39,2,     0.60,2,     0.04,2,     0.90,2,     1.24,2,   -999.0,9,   -999.0,9,  -999.00,9,  -999.00,  -999.00,9,  -999.00,  -999.00,9,  -999.00,  -999.00,9,        -999,         -999,9,  -999.00,  -999.00,9,       -999,9,        -999,9,   -999.0,9,   -999.0,9,   -999.0,9,      0.1,2,      -999,9,     0.24,2,     0.08,2,  -0.9891
  32H120020718,     8,  1,      6,2,20020720, 69.9553,-164.3980,   32,     21.8,  -0.9967,  31.5809,2,  31.5469,2,    338.3,2,    358.1,2,     5.07,2,     0.51,2,     0.04,2,     0.88,2,     1.19,2,   2120.3,2,   2284.1,2,  -999.00,9,  -999.00,  -999.00,9,  -999.00,  -999.00,9,  -999.00,  -999.00,9,        -999,         -999,9,  -999.00,  -999.00,9, 29.6341565,2,  5.79180876,2,   -999.0,9,      7.9,2,      9.6,2,     0.09,2,      -999,9,  -999.00,9,  -999.00,9,  -0.9972
  32H120020718,     8,  1,      4,2,20020720, 69.9553,-164.3980,   32,     26.6,  -0.6199,  31.7351,2,  31.6897,2,    325.4,2,    333.5,2,     6.20,2,     0.70,2,     0.05,2,     0.93,2,     1.68,2,   -999.0,9,   -999.0,9,  -999.00,9,  -999.00,  -999.00,9,  -999.00,  -999.00,9,  -999.00,  -999.00,9,        -999,         -999,9,  -999.00,  -999.00,9,       -999,9,        -999,9,   -999.0,9,   -999.0,9,   -999.0,9,     0.17,2,      -999,9,  -999.00,9,  -999.00,9,  -0.6205
  32H120020718,     8,  1,      3,2,20020720, 69.9553,-164.3980,   32,     26.6,  -0.6600,  31.7249,2,  31.7067,2,    324.0,2,    335.7,2,     6.20,2,     0.69,2,     0.05,2,     0.92,2,     1.67,2,   -999.0,9,   -999.0,9,  -999.00,9,  -999.00,  -999.00,9,  -999.00,  -999.00,9,  -999.00,  -999.00,9,        -999,         -999,9,  -999.00,  -999.00,9,       -999,9,        -999,9,     65.6,2,      6.9,2,      9.3,2,     0.25,2,      -999,9,     0.07,2,     0.04,2,  -0.6606
  32H120020718,     8,  2,      2,2,20020720, 69.9553,-164.3980,   32,     27.6,  -0.1061,  32.0465,2,-999.0000,9,    328.8,2,   -999.0,9,  -999.00,9,  -999.00,9,  -999.00,9,  -999.00,9,     -999,9,   -999.0,9,   -999.0,9,  -999.00,9,  -999.00,  -999.00,9,  -999.00,  -999.00,9,  -999.00,  -999.00,9,        -999,         -999,9,  -999.00,  -999.00,9,       -999,9,        -999,9,   -999.0,9,   -999.0,9,   -999.0,9,     -999,9,      -999,9,  -999.00,9,  -999.00,9,  -0.1069
  32H120020718,     8,  2,      1,2,20020720, 69.9553,-164.3980,   32,     27.7,  -0.1080,  32.0481,2,-999.0000,9,    328.4,2,   -999.0,9,  -999.00,9,  -999.00,9,  -999.00,9,  -999.00,9,     -999,9,   -999.0,9,   -999.0,9,  -999.00,9,  -999.00,  -999.00,9,  -999.00,  -999.00,9,  -999.00,  -999.00,9,        -999,         -999,9,  -999.00,  -999.00,9,       -999,9,        -999,9,   -999.0,9,   -999.0,9,   -999.0,9,     -999,9,      -999,9,  -999.00,9,  -999.00,9,  -0.1088
  32H120020718,     8,  1,      2,2,20020720, 69.9553,-164.3980,   32,     28.7,   0.1269,  31.9353,2,  31.7864,2,    365.2,2,    359.4,2,     6.10,2,     0.54,2,     0.03,2,     0.82,2,     1.33,2,   2108.7,2,   2305.2,2,  -999.00,9,  -999.00,  -999.00,9,  -999.00,  -999.00,9,  -999.00,  -999.00,9,        -999,         -999,9,  -999.00,  -999.00,9, 28.2203187,2,  5.91794444,2,   -999.0,9,   -999.0,9,   -999.0,9,     0.24,2,      -999,9,  -999.00,9,  -999.00,9,   0.1260
  32H120020718,     8,  1,      1,2,20020720, 69.9553,-164.3980,   32,     28.7,   0.1381,  31.9404,2,  31.7748,2,    366.9,2,    354.3,2,     6.10,2,     0.54,2,     0.03,2,     0.83,2,     1.35,2,   -999.0,9,   -999.0,9,  -999.00,9,  -999.00,  -999.00,9,  -999.00,  -999.00,9,  -999.00,  -999.00,9,        -999,         -999,9,  -999.00,  -999.00,9,       -999,9,        -999,9,   -999.0,9,   -999.0,9,   -999.0,9,     0.27,2,267.617535,2,     0.11,2,     0.05,2,   0.1372
  32H120020718,     9,  1,     12,2,20020720, 70.4671,-163.0980,   35,      2.0,   5.1310,  28.9514,2,-999.0000,9,    310.7,2,    346.0,2,     7.10,2,     0.03,2,     0.00,2,     0.50,2,     0.05,2,   -999.0,9,   -999.0,9,  -999.00,9,  -999.00,  -999.00,9,  -999.00,  -999.00,9,  -999.00,  -999.00,9,        -999,         -999,9,  -999.00,  -999.00,9,       -999,9,        -999,9,   -999.0,9,   -999.0,9,   -999.0,9,     0.01,2,      -999,9,     0.18,2,     0.07,2,   5.1309
  32H120020718,     9,  1,      9,2,20020720, 70.4671,-163.0980,   35,      2.0,   5.1327,  28.9019,2,-999.0000,9,    313.3,2,   -999.0,9,  -999.00,9,  -999.00,9,  -999.00,9,  -999.00,9,     -999,9,   -999.0,9,   -999.0,9,  -999.00,9,  -999.00,  -999.00,9,  -999.00,  -999.00,9,  -999.00,  -999.00,9,        -999,         -999,9,  -999.00,  -999.00,9,       -999,9,        -999,9,   -999.0,9,   -999.0,9,   -999.0,9,     -999,9,      -999,9,  -999.00,9,  -999.00,9,   5.1326
  32H120020718,     9,  1,     11,2,20020720, 70.4671,-163.0980,   35,      2.0,   5.1396,  28.9084,2,-999.0000,9,    312.1,2,   -999.0,9,  -999.00,9,  -999.00,9,  -999.00,9,  -999.00,9,     -999,9,   -999.0,9,   -999.0,9,  -999.00,9,  -999.00,  -999.00,9,  -999.00,  -999.00,9,  -999.00,  -999.00,9,        -999,         -999,9,  -999.00,  -999.00,9,       -999,9,        -999,9,   -999.0,9,   -999.0,9,   -999.0,9,     -999,9,      -999,9,  -999.00,9,  -999.00,9,   5.1395
  32H120020718,     9,  1,     10,2,20020720, 70.4671,-163.0980,   35,      2.0,   5.1474,  28.8604,2,-999.0000,9,    314.5,2,   -999.0,9,  -999.00,9,  -999.00,9,  -999.00,9,  -999.00,9,     -999,9,   -999.0,9,   -999.0,9,  -999.00,9,  -999.00,  -999.00,9,  -999.00,  -999.00,9,  -999.00,  -999.00,9,        -999,         -999,9,  -999.00,  -999.00,9,       -999,9,        -999,9,   -999.0,9,   -999.0,9,   -999.0,9,     -999,9,      -999,9,  -999.00,9,  -999.00,9,   5.1473
  32H120020718,     9,  1,      8,2,20020720, 70.4671,-163.0980,   35,      7.5,   5.1844,  29.3123,2,-999.0000,9,    321.4,2,    345.5,2,     7.09,2,     0.03,2,     0.00,2,     0.49,2,     0.03,2,   -999.0,9,   -999.0,9,  -999.00,9,  -999.00,  -999.00,9,  -999.00,  -999.00,9,  -999.00,  -999.00,9,        -999,         -999,9,  -999.00,  -999.00,9,       -999,9,        -999,9,   -999.0,9,   -999.0,9,   -999.0,9,        0,2,      -999,9,     0.17,2,     0.08,2,   5.1839
  32H120020718,     9,  1,      7,2,20020720, 70.4671,-163.0980,   35,      7.6,   5.3143,  29.3440,2,-999.0000,9,    320.1,2,   -999.0,9,  -999.00,9,  -999.00,9,  -999.00,9,  -999.00,9,     -999,9,   -999.0,9,   -999.0,9,  -999.00,9,  -999.00,  -999.00,9,  -999.00,  -999.00,9,  -999.00,  -999.00,9,        -999,         -999,9,  -999.00,  -999.00,9,       -999,9,        -999,9,   -999.0,9,   -999.0,9,   -999.0,9,     -999,9,      -999,9,  -999.00,9,  -999.00,9,   5.3138
  32H120020718,     9,  1,      5,2,20020720, 70.4671,-163.0980,   35,     12.2,   1.1936,  30.8985,2,-999.0000,9,    355.5,2,   -999.0,9,  -999.00,9,  -999.00,9,  -999.00,9,  -999.00,9,     -999,9,   -999.0,9,   -999.0,9,  -999.00,9,  -999.00,  -999.00,9,  -999.00,  -999.00,9,  -999.00,  -999.00,9,        -999,         -999,9,  -999.00,  -999.00,9,       -999,9,        -999,9,   -999.0,9,   -999.0,9,   -999.0,9,     -999,9,      -999,9,  -999.00,9,  -999.00,9,   1.1931
  32H120020718,     9,  1,      6,2,20020720, 70.4671,-163.0980,   35,     12.2,   2.4668,  30.7848,2,-999.0000,9,    347.9,2,    371.3,2,     5.56,2,     0.02,2,     0.00,2,     0.56,2,     0.01,2,   -999.0,9,   -999.0,9,  -999.00,9,  -999.00,  -999.00,9,  -999.00,  -999.00,9,  -999.00,  -999.00,9,        -999,         -999,9,  -999.00,  -999.00,9,       -999,9,        -999,9,   -999.0,9,   -999.0,9,   -999.0,9,     0.01,2,      -999,9,     0.28,2,     0.13,2,   2.4662
  32H120020718,     9,  1,      4,2,20020720, 70.4671,-163.0980,   35,     18.8,  -0.1472,  31.0858,2,-999.0000,9,    362.8,2,    395.8,2,     7.81,2,     0.12,2,     0.01,2,     0.69,2,     0.25,2,   -999.0,9,   -999.0,9,  -999.00,9,  -999.00,  -999.00,9,  -999.00,  -999.00,9,  -999.00,  -999.00,9,        -999,         -999,9,  -999.00,  -999.00,9,       -999,9,        -999,9,   -999.0,9,   -999.0,9,   -999.0,9,     0.04,2,      -999,9,     0.32,2,     0.18,2,  -0.1477
  32H120020718,     9,  1,      3,2,20020720, 70.4671,-163.0980,   35,     18.8,  -0.2217,  31.1098,2,-999.0000,9,    361.0,2,   -999.0,9,  -999.00,9,  -999.00,9,  -999.00,9,  -999.00,9,     -999,9,   -999.0,9,   -999.0,9,  -999.00,9,  -999.00,  -999.00,9,  -999.00,  -999.00,9,  -999.00,  -999.00,9,        -999,         -999,9,  -999.00,  -999.00,9,       -999,9,        -999,9,   -999.0,9,   -999.0,9,   -999.0,9,     -999,9,      -999,9,  -999.00,9,  -999.00,9,  -0.2222
  32H120020718,     9,  1,      2,2,20020720, 70.4671,-163.0980,   35,     29.4,  -1.0781,  31.7141,2,-999.0000,9,    297.0,2,    341.4,2,    11.39,2,     1.32,2,     0.07,2,     1.02,2,     2.17,2,   -999.0,9,   -999.0,9,  -999.00,9,  -999.00,  -999.00,9,  -999.00,  -999.00,9,  -999.00,  -999.00,9,        -999,         -999,9,  -999.00,  -999.00,9,       -999,9,        -999,9,   -999.0,9,   -999.0,9,   -999.0,9,     0.23,2,      -999,9,     0.09,2,     0.06,2,  -1.0787
  32H120020718,     9,  1,      1,2,20020720, 70.4671,-163.0980,   35,     29.4,  -1.0783,  31.7092,2,-999.0000,9,    299.1,2,   -999.0,9,  -999.00,9,  -999.00,9,  -999.00,9,  -999.00,9,     -999,9,   -999.0,9,   -999.0,9,  -999.00,9,  -999.00,  -999.00,9,  -999.00,  -999.00,9,  -999.00,  -999.00,9,        -999,         -999,9,  -999.00,  -999.00,9,       -999,9,        -999,9,   -999.0,9,   -999.0,9,   -999.0,9,     -999,9,      -999,9,  -999.00,9,  -999.00,9,  -1.0789
  32H120020718,    10,  1,     12,2,20020721, 71.0446,-159.5870,   79,      1.7,  -0.2281,  25.8306,2,  17.1528,2,    404.2,2,    388.2,2,    10.66,2,     0.11,2,     0.00,2,     0.39,2,     0.04,2,   1254.3,2,   1861.4,2,    -1.08,2,  -999.00,  -999.00,9,  -999.00,  -999.00,9,  -999.00,  -999.00,9,        -999,         -999,9,  -999.00,  -999.00,9, 252.352827,2,  35.4923349,2,     65.6,2,      4.4,2,      4.6,2,        0,2,      -999,9,     2.43,2,     0.98,2,  -0.2281
  32H120020718,    10,  1,     11,2,20020721, 71.0446,-159.5870,   79,      5.9,  -1.4992,  31.3014,2,  31.3222,2,    450.9,2,    465.8,2,    20.96,2,     0.10,2,     0.01,2,     0.93,2,     0.04,2,   1965.8,2,   2234.9,2,  -999.00,9,  -999.00,  -999.00,9,  -999.00,  -999.00,9,  -999.00,  -999.00,9,        -999,         -999,9,  -999.00,  -999.00,9,       -999,9,        -999,9,   -999.0,9,   -999.0,9,   -999.0,9,     0.04,2,      -999,9,    12.49,2,     6.62,2,  -1.4993
  32H120020718,    10, 99,      1,9,20020721, 71.0446,-159.5870,   79,      8.1,-999.0000,-999.0000,9,-999.0000,9,   -999.0,9,   -999.0,9,  -999.00,9,  -999.00,9,  -999.00,9,  -999.00,9,     -999,9,   -999.0,9,   -999.0,9,  -999.00,9,     0.44,     0.05,2,  -999.00,  -999.00,9,  -999.00,  -999.00,9,        -999,         -999,9,     0.25,     0.04,2,       -999,9,        -999,9,   -999.0,9,   -999.0,9,   -999.0,9,     -999,9,      -999,9,  -999.00,9,  -999.00,9,-999.0000
  32H120020718,    10,  1,     10,2,20020721, 71.0446,-159.5870,   79,     11.0,  -1.5662,  31.4816,2,  31.5316,2,    443.1,2,    445.6,2,    24.22,2,     0.33,2,     0.03,2,     1.01,2,     0.04,2,   2000.5,2,   2222.9,2,  -999.00,9,  -999.00,  -999.00,9,  -999.00,  -999.00,9,  -999.00,  -999.00,9,        -999,         -999,9,  -999.00,  -999.00,9,   614.4495,2,  72.3887815,2,     84.1,2,     14.9,2,     15.3,2,     0.04,2,      -999,9,    19.33,2,     8.81,2,  -1.5664
  32H120020718,    10,  1,      9,2,20020721, 71.0446,-159.5870,   79,     16.0,  -1.6667,  31.7418,2,  31.7490,2,    376.8,2,    388.4,2,    32.95,2,     2.04,2,     0.10,2,     1.24,2,     0.17,2,   2061.7,2,   2241.6,2,  -999.00,9,  -999.00,  -999.00,9,  -999.00,  -999.00,9,  -999.00,  -999.00,9,        -999,         -999,9,  -999.00,  -999.00,9,       -999,9,        -999,9,   -999.0,9,   -999.0,9,   -999.0,9,     0.07,2,141.366637,2,    21.16,2,     9.68,2,  -1.6669
  32H120020718,    10,  1,      8,2,20020721, 71.0446,-159.5870,   79,     21.2,  -1.6847,  31.9174,2,  31.8778,2,    363.0,2,    374.5,2,    36.93,2,     5.28,2,     0.15,2,     1.37,2,     0.28,2,   2072.7,2,   2236.9,2,  -999.00,9,  -999.00,  -999.00,9,  -999.00,  -999.00,9,  -999.00,  -999.00,9,        -999,         -999,9,  -999.00,  -999.00,9, 376.600896,2,  73.3775922,2,     76.8,2,     10.9,2,     16.6,2,     0.07,2,      -999,9,    19.65,2,    37.26,2,  -1.6850
  32H120020718,    10,  1,      7,2,20020721, 71.0446,-159.5870,   79,     26.1,  -1.7008,  32.0401,2,  32.0607,2,    348.3,2,   -999.0,9,    41.09,2,     7.43,2,     0.20,2,     1.52,2,     0.72,2,   -999.0,9,   -999.0,9,  -999.00,9,  -999.00,  -999.00,9,  -999.00,  -999.00,9,  -999.00,  -999.00,9,        -999,         -999,9,  -999.00,  -999.00,9,       -999,9,        -999,9,   -999.0,9,   -999.0,9,   -999.0,9,     0.11,2,      -999,9,    44.88,2,    23.88,2,  -1.7012
  32H120020718,    10,  1,      6,2,20020721, 71.0446,-159.5870,   79,     31.1,  -1.7387,  32.5873,2,  32.5001,2,    327.6,2,    350.5,2,    44.54,2,     9.97,2,     0.23,2,     1.64,2,     0.76,2,   2125.2,2,   2252.3,2,  -999.00,9,  -999.00,  -999.00,9,  -999.00,  -999.00,9,  -999.00,  -999.00,9,        -999,         -999,9,  -999.00,  -999.00,9, 404.132013,2,  84.5571512,2,     66.0,2,      5.6,2,     16.5,2,     0.12,2,      -999,9,    21.88,2,    10.08,2,  -1.7392
  32H120020718,    10,  1,      5,2,20020721, 71.0446,-159.5870,   79,     41.2,  -1.7511,  32.9640,2,  32.9704,2,    301.7,2,    308.9,2,    47.79,2,    13.49,2,     0.24,2,     1.92,2,     2.28,2,   2187.1,2,   2300.2,2,  -999.00,9,  -999.00,  -999.00,9,  -999.00,  -999.00,9,  -999.00,  -999.00,9,        -999,         -999,9,  -999.00,  -999.00,9,       -999,9,        -999,9,   -999.0,9,   -999.0,9,   -999.0,9,     0.05,2,      -999,9,     7.60,2,     3.88,2,  -1.7518
  32H120020718,    10,  1,      4,2,20020721, 71.0446,-159.5870,   79,     51.5,  -1.7530,  32.9933,2,  32.9872,2,    298.8,2,    306.9,2,    48.20,2,    13.58,2,     0.24,2,     1.93,2,      2.4,2,   2190.9,2,   2301.5,2,  -999.00,9,  -999.00,  -999.00,9,  -999.00,  -999.00,9,  -999.00,  -999.00,9,        -999,         -999,9,  -999.00,  -999.00,9, 95.5700401,2,  17.8650162,2,     69.5,2,      9.9,2,     26.2,2,     0.07,2,      -999,9,     7.28,2,     3.50,2,  -1.7539
  32H120020718,    10,  1,      3,2,20020721, 71.0446,-159.5870,   79,     62.5,  -1.7521,  32.9891,2,  32.9872,2,    299.3,2,    307.2,2,    48.11,2,    13.68,2,     0.23,2,     1.93,2,     2.39,2,   -999.0,9,   -999.0,9,  -999.00,9,  -999.00,  -999.00,9,  -999.00,  -999.00,9,  -999.00,  -999.00,9,        -999,         -999,9,  -999.00,  -999.00,9,       -999,9,        -999,9,   -999.0,9,   -999.0,9,   -999.0,9,     0.07,2,94.0238682,2,     3.52,2,     1.86,2,  -1.7532