BOTTLE,20090202PRINUNIVRMK
EXPOCODE,STNNBR,CASTNO,BTLNBR,BTLNBR_FLAG_W,DATE,LATITUDE,LONGITUDE,DEPTH,CTDPRS,CTDTMP,CTDSAL,CTDSAL_FLAG_W,SALNTY,SALNTY_FLAG_W,CTDOXY,CTDOXY_FLAG_W,OXYGEN,OXYGEN_FLAG_W,SILCAT,SILCAT_FLAG_W,NITRAT,NITRAT_FLAG_W,NITRIT,NITRIT_FLAG_W,PHSPHT,PHSPHT_FLAG_W,AMMONI,AMMONI_FLAG_W,TCARBN,TCARBN_FLAG_W,ALKALI,ALKALI_FLAG_W,DELO18,DELO18_FLAG_W,RA-224,RA-224E,RA-224_FLAG_W,RA-226,RA-226E,RA-226_FLAG_W,RA-228,RA-228E,RA-228_FLAG_W,RA-8/6,RA-8/6E,RA-8/6_FLAG_W,TH-228,TH-228E,TH-228_FLAG_W,POC,POC_FLAG_W,PON,PON_FLAG_W,DOC,DOC_FLAG_W,DON,DON_FLAG_W,TDN,TDN_FLAG_W,UREA,UREA_FLAG_W,LIGNIN,LIGNIN_FLAG_W,CHLORA,CHLORA_FLAG_W,PHAEO,PHAEO_FLAG_W,THETA
,,,,,,,,METERS,DBARS,ITS-90,PSS-78,,PSS-78,,UMOL/KG,,UMOL/KG,,UMOL/KG,,UMOL/KG,,UMOL/KG,,UMOL/KG,,UMOL/KG,,UMOL/KG,,UMOL/KG,,O/OO,,DPM/100KG,DPM/100KG,,DPM/100KG,DPM/100KG,,DPM/100KG,DPM/100KG,,,,,DPM/100KG,DPM/100KG,,ug/kg,,ug/kg,,UMOL/KG,,UMOL/KG,,UMOL/KG,,UMOL/KG,,NG/KG,,UG/L,,UG/L,,DEGC
  32H120020718,    18,  6,     12,2,20020729, 72.3189,-151.9760, 3253,      2.2,  -1.2268,  27.3564,2,-999.0000,9,    378.5,2,   -999.0,9,  -999.00,9,  -999.00,9,  -999.00,9,  -999.00,9,     -999,9,   -999.0,9,   -999.0,9,  -999.00,9,  -999.00,  -999.00,9,  -999.00,  -999.00,9,  -999.00,  -999.00,9,        -999,         -999,9,  -999.00,  -999.00,9,       -999,9,        -999,9,   -999.0,9,   -999.0,9,   -999.0,9,     -999,9,      -999,9,  -999.00,9,  -999.00,9,  -1.2268
  32H120020718,    18,  6,     11,2,20020729, 72.3189,-151.9760, 3253,      2.2,  -1.2296,  27.3536,2,  23.6714,2,    379.8,2,    388.7,2,     3.05,2,    -0.01,2,     0.01,2,     0.58,2,     0.54,2,   1802.4,2,   1933.3,2,  -999.00,9,  -999.00,  -999.00,9,  -999.00,  -999.00,9,  -999.00,  -999.00,9,        -999,         -999,9,  -999.00,  -999.00,9,       -999,9,        -999,9,   -999.0,9,   -999.0,9,   -999.0,9,        0,2,      -999,9,     0.24,2,     0.14,2,  -1.2296
  32H120020718,    18,  6,     10,2,20020729, 72.3189,-151.9760, 3253,      7.4,  -1.4767,  29.0579,2,-999.0000,9,    384.9,2,   -999.0,5,     5.68,2,     0.15,2,     0.01,2,     0.71,2,     0.75,2,   1899.0,2,   2048.9,2,  -999.00,9,  -999.00,  -999.00,9,  -999.00,  -999.00,9,  -999.00,  -999.00,9,        -999,         -999,9,  -999.00,  -999.00,9,       -999,9,        -999,9,   -999.0,9,   -999.0,9,   -999.0,9,        0,2,      -999,9,     0.40,2,     0.24,2,  -1.4768
  32H120020718,    18, 99,      1,9,20020729, 72.3189,-151.9760, 3253,      8.1,-999.0000,-999.0000,9,-999.0000,9,   -999.0,9,   -999.0,9,  -999.00,9,  -999.00,9,  -999.00,9,  -999.00,9,     -999,9,   -999.0,9,   -999.0,9,  -999.00,9,     1.37,     0.08,2,     6.94,     0.57,2,     5.17,     0.35,2, 0.717251413, 0.0765068174,2,     0.76,     0.06,2,       -999,9,        -999,9,   -999.0,9,   -999.0,9,   -999.0,9,     -999,9,      -999,9,  -999.00,9,  -999.00,9,-999.0000
  32H120020718,    18,  2,     11,2,20020729, 72.3189,-151.9760, 3253,     11.6,  -1.4839,  29.4246,2,  29.5387,2,    385.0,2,    396.4,2,     8.60,2,     0.28,2,     0.02,2,     0.75,2,     0.52,2,   1933.9,2,   2103.1,2,  -999.00,9,  -999.00,  -999.00,9,  -999.00,  -999.00,9,  -999.00,  -999.00,9,        -999,         -999,9,  -999.00,  -999.00,9, 75.8864368,2,  16.1669156,2,     69.8,2,      5.1,2,      6.0,2,     0.05,2,      -999,9,     0.57,2,     0.32,2,  -1.4840
  32H120020718,    18,  6,      9,2,20020729, 72.3189,-151.9760, 3253,     12.2,  -1.4851,  29.5429,2,-999.0000,9,    384.6,2,    396.1,2,     8.13,2,     0.33,2,     0.03,2,     0.76,2,        0,2,   1941.2,2,   2111.2,2,  -999.00,9,  -999.00,  -999.00,9,  -999.00,  -999.00,9,  -999.00,  -999.00,9,        -999,         -999,9,  -999.00,  -999.00,9,       -999,9,        -999,9,   -999.0,9,   -999.0,9,   -999.0,9,     0.03,2,      -999,9,     0.58,2,     0.39,2,  -1.4853
  32H120020718,    18,  6,      7,2,20020729, 72.3189,-151.9760, 3253,     19.0,  -1.5509,  29.8248,2,-999.0000,9,    381.1,2,   -999.0,9,  -999.00,9,  -999.00,9,  -999.00,9,  -999.00,9,     -999,9,   -999.0,9,   -999.0,9,  -999.00,9,  -999.00,  -999.00,9,  -999.00,  -999.00,9,  -999.00,  -999.00,9,        -999,         -999,9,  -999.00,  -999.00,9,       -999,9,        -999,9,   -999.0,9,   -999.0,9,   -999.0,9,     -999,9,      -999,9,  -999.00,9,  -999.00,9,  -1.5511
  32H120020718,    18,  6,      8,2,20020729, 72.3189,-151.9760, 3253,     19.0,  -1.5513,  29.8238,2,-999.0000,9,    381.6,2,    394.1,2,     8.72,2,     0.46,2,     0.04,2,     0.79,2,     0.06,2,   1953.9,2,   2115.3,2,  -999.00,9,  -999.00,  -999.00,9,  -999.00,  -999.00,9,  -999.00,  -999.00,9,        -999,         -999,9,  -999.00,  -999.00,9,       -999,9,        -999,9,   -999.0,9,   -999.0,9,   -999.0,9,     0.04,2,      -999,9,     0.53,2,     0.37,2,  -1.5515
  32H120020718,    18,  7,      8,2,20020729, 72.3189,-151.9760, 3253,     18.9,  -1.4439,  30.1075,2,-999.0000,9,    390.6,2,   -999.0,9,  -999.00,9,  -999.00,9,  -999.00,9,  -999.00,9,     -999,9,   -999.0,9,   -999.0,9,  -999.00,9,  -999.00,  -999.00,9,  -999.00,  -999.00,9,  -999.00,  -999.00,9,        -999,         -999,9,  -999.00,  -999.00,9,       -999,9,        -999,9,   -999.0,9,   -999.0,9,   -999.0,9,     -999,9,      -999,9,  -999.00,9,  -999.00,9,  -1.4442
  32H120020718,    18,  7,     10,2,20020729, 72.3189,-151.9760, 3253,     18.9,  -1.4513,  30.1038,2,-999.0000,9,    390.5,2,   -999.0,9,  -999.00,9,  -999.00,9,  -999.00,9,  -999.00,9,     -999,9,   -999.0,9,   -999.0,9,  -999.00,9,  -999.00,  -999.00,9,  -999.00,  -999.00,9,  -999.00,  -999.00,9,        -999,         -999,9,  -999.00,  -999.00,9,       -999,9,        -999,9,   -999.0,9,   -999.0,9,   -999.0,9,     -999,9,      -999,9,  -999.00,9,  -999.00,9,  -1.4516
  32H120020718,    18,  7,     12,2,20020729, 72.3189,-151.9760, 3253,     18.9,  -1.4515,  30.1021,2,-999.0000,9,    390.4,2,   -999.0,9,     6.08,2,     0.54,2,     0.04,2,     0.81,2,     0.57,2,   -999.0,9,   -999.0,9,  -999.00,9,  -999.00,  -999.00,9,  -999.00,  -999.00,9,  -999.00,  -999.00,9,        -999,         -999,9,  -999.00,  -999.00,9,       -999,9,        -999,9,   -999.0,9,   -999.0,9,   -999.0,9,     0.07,2,      -999,9,  -999.00,9,  -999.00,9,  -1.4518
  32H120020718,    18,  7,     11,2,20020729, 72.3189,-151.9760, 3253,     18.9,  -1.4526,  30.1027,2,-999.0000,9,    390.4,2,   -999.0,9,  -999.00,9,  -999.00,9,  -999.00,9,  -999.00,9,     -999,9,   -999.0,9,   -999.0,9,  -999.00,9,  -999.00,  -999.00,9,  -999.00,  -999.00,9,  -999.00,  -999.00,9,        -999,         -999,9,  -999.00,  -999.00,9,       -999,9,        -999,9,   -999.0,9,   -999.0,9,   -999.0,9,     -999,9,      -999,9,  -999.00,9,  -999.00,9,  -1.4529
  32H120020718,    18,  7,      9,2,20020729, 72.3189,-151.9760, 3253,     18.9,  -1.4526,  30.1043,2,-999.0000,9,    390.4,2,   -999.0,9,  -999.00,9,  -999.00,9,  -999.00,9,  -999.00,9,     -999,9,   -999.0,9,   -999.0,9,  -999.00,9,  -999.00,  -999.00,9,  -999.00,  -999.00,9,  -999.00,  -999.00,9,        -999,         -999,9,  -999.00,  -999.00,9,       -999,9,        -999,9,   -999.0,9,   -999.0,9,   -999.0,9,     -999,9,      -999,9,  -999.00,9,  -999.00,9,  -1.4529
  32H120020718,    18,  7,      5,2,20020729, 72.3189,-151.9760, 3253,     19.0,  -1.4328,  30.1350,2,-999.0000,9,    390.3,2,   -999.0,9,  -999.00,9,  -999.00,9,  -999.00,9,  -999.00,9,     -999,9,   -999.0,9,   -999.0,9,  -999.00,9,  -999.00,  -999.00,9,  -999.00,  -999.00,9,  -999.00,  -999.00,9,        -999,         -999,9,  -999.00,  -999.00,9,       -999,9,        -999,9,   -999.0,9,   -999.0,9,   -999.0,9,     -999,9,      -999,9,  -999.00,9,  -999.00,9,  -1.4331
  32H120020718,    18,  7,      4,2,20020729, 72.3189,-151.9760, 3253,     19.0,  -1.4337,  30.1317,2,-999.0000,9,    390.3,2,   -999.0,9,  -999.00,9,  -999.00,9,  -999.00,9,  -999.00,9,     -999,9,   -999.0,9,   -999.0,9,  -999.00,9,  -999.00,  -999.00,9,  -999.00,  -999.00,9,  -999.00,  -999.00,9,        -999,         -999,9,  -999.00,  -999.00,9,       -999,9,        -999,9,   -999.0,9,   -999.0,9,   -999.0,9,     -999,9,      -999,9,  -999.00,9,  -999.00,9,  -1.4340
  32H120020718,    18,  7,      6,2,20020729, 72.3189,-151.9760, 3253,     19.0,  -1.4348,  30.1282,2,-999.0000,9,    390.4,2,   -999.0,9,  -999.00,9,  -999.00,9,  -999.00,9,  -999.00,9,     -999,9,   -999.0,9,   -999.0,9,  -999.00,9,  -999.00,  -999.00,9,  -999.00,  -999.00,9,  -999.00,  -999.00,9,        -999,         -999,9,  -999.00,  -999.00,9,       -999,9,        -999,9,   -999.0,9,   -999.0,9,   -999.0,9,     -999,9,      -999,9,  -999.00,9,  -999.00,9,  -1.4351
  32H120020718,    18,  7,      3,2,20020729, 72.3189,-151.9760, 3253,     19.0,  -1.4373,  30.1226,2,-999.0000,9,    390.5,2,   -999.0,9,  -999.00,9,  -999.00,9,  -999.00,9,  -999.00,9,     -999,9,   -999.0,9,   -999.0,9,  -999.00,9,  -999.00,  -999.00,9,  -999.00,  -999.00,9,  -999.00,  -999.00,9,        -999,         -999,9,  -999.00,  -999.00,9,       -999,9,        -999,9,   -999.0,9,   -999.0,9,   -999.0,9,     -999,9,      -999,9,  -999.00,9,  -999.00,9,  -1.4376
  32H120020718,    18,  7,      7,2,20020729, 72.3189,-151.9760, 3253,     19.0,  -1.4380,  30.1202,2,-999.0000,9,    390.3,2,   -999.0,9,  -999.00,9,  -999.00,9,  -999.00,9,  -999.00,9,     -999,9,   -999.0,9,   -999.0,9,  -999.00,9,  -999.00,  -999.00,9,  -999.00,  -999.00,9,  -999.00,  -999.00,9,        -999,         -999,9,  -999.00,  -999.00,9,       -999,9,        -999,9,   -999.0,9,   -999.0,9,   -999.0,9,     -999,9,      -999,9,  -999.00,9,  -999.00,9,  -1.4383
  32H120020718,    18,  2,     10,2,20020729, 72.3189,-151.9760, 3253,     26.7,  -1.5023,  30.4187,2,  30.4737,2,    383.3,2,    394.9,2,    10.47,2,     0.85,2,     0.06,2,     0.85,2,     0.86,2,   1993.7,2,   2156.9,2,  -999.00,9,  -999.00,  -999.00,9,  -999.00,  -999.00,9,  -999.00,  -999.00,9,        -999,         -999,9,  -999.00,  -999.00,9, 60.8824283,2,  12.8461884,2,     68.0,2,      5.3,2,      7.1,2,     0.05,2, 182.83991,2,     0.59,2,     0.32,2,  -1.5027
  32H120020718,    18,  6,      6,2,20020729, 72.3189,-151.9760, 3253,     29.4,  -1.5733,  30.6604,2,-999.0000,9,    377.7,2,    390.6,2,     9.61,2,     1.45,2,     0.12,2,     0.94,2,        0,2,   2035.3,2,   2199.4,2,  -999.00,9,  -999.00,  -999.00,9,  -999.00,  -999.00,9,  -999.00,  -999.00,9,        -999,         -999,9,  -999.00,  -999.00,9,       -999,9,        -999,9,   -999.0,9,   -999.0,9,   -999.0,9,     0.07,2,      -999,9,     0.31,2,     0.24,2,  -1.5737
  32H120020718,    18,  5,     12,2,20020729, 72.3189,-151.9760, 3253,     33.1,  -1.2570,  30.9196,2,-999.0000,9,    386.9,2,   -999.0,9,  -999.00,9,  -999.00,9,  -999.00,9,  -999.00,9,     -999,9,   -999.0,9,   -999.0,9,  -999.00,9,  -999.00,  -999.00,9,  -999.00,  -999.00,9,  -999.00,  -999.00,9,        -999,         -999,9,  -999.00,  -999.00,9,       -999,9,        -999,9,   -999.0,9,   -999.0,9,   -999.0,9,     -999,9,      -999,9,  -999.00,9,  -999.00,9,  -1.2576
  32H120020718,    18,  5,     11,2,20020729, 72.3189,-151.9760, 3253,     33.1,  -1.2572,  30.9187,2,-999.0000,9,    386.9,2,   -999.0,9,    11.64,2,     0.88,2,     0.06,2,     0.90,2,     0.53,2,   -999.0,9,   -999.0,9,  -999.00,9,  -999.00,  -999.00,9,  -999.00,  -999.00,9,  -999.00,  -999.00,9,        -999,         -999,9,  -999.00,  -999.00,9,       -999,9,        -999,9,   -999.0,9,   -999.0,9,   -999.0,9,     0.04,2,      -999,9,  -999.00,9,  -999.00,9,  -1.2578
  32H120020718,    18,  2,      9,2,20020729, 72.3189,-151.9760, 3253,     40.9,  -1.5433,  31.3381,2,  31.3899,2,    365.3,2,    377.3,2,    14.31,2,     3.16,2,     0.12,2,     1.08,2,     0.83,2,   2079.2,2,   2216.3,2,  -999.00,9,  -999.00,  -999.00,9,  -999.00,  -999.00,9,  -999.00,  -999.00,9,        -999,         -999,9,  -999.00,  -999.00,9, 27.7980277,3,   5.4695996,3,     67.2,2,      4.0,2,      8.1,2,     0.03,2,      -999,9,     0.18,2,     0.21,2,  -1.5439
  32H120020718,    18,  6,      5,2,20020729, 72.3189,-151.9760, 3253,     44.5,  -1.4051,  31.5004,2,-999.0000,9,    360.3,2,    364.2,2,    14.22,2,     3.78,2,     0.11,2,     1.12,2,     0.34,2,   2105.5,2,   2237.5,2,  -999.00,9,  -999.00,  -999.00,9,  -999.00,  -999.00,9,  -999.00,  -999.00,9,        -999,         -999,9,  -999.00,  -999.00,9,       -999,9,        -999,9,   -999.0,9,   -999.0,9,   -999.0,9,     0.03,2,      -999,9,     0.30,2,     0.22,2,  -1.4059
  32H120020718,    18,  6,      4,2,20020729, 72.3189,-151.9760, 3253,     44.5,  -1.4329,  31.4946,2,-999.0000,9,    360.5,2,   -999.0,9,  -999.00,9,  -999.00,9,  -999.00,9,  -999.00,9,     -999,9,   -999.0,9,   -999.0,9,  -999.00,9,  -999.00,  -999.00,9,  -999.00,  -999.00,9,  -999.00,  -999.00,9,        -999,         -999,9,  -999.00,  -999.00,9,       -999,9,        -999,9,   -999.0,9,   -999.0,9,   -999.0,9,     -999,9,      -999,9,  -999.00,9,  -999.00,9,  -1.4337
  32H120020718,    18,  3,     12,2,20020729, 72.3189,-151.9760, 3253,     51.2,  -1.0467,  31.7910,2,-999.0000,9,    350.4,2,   -999.0,9,  -999.00,9,  -999.00,9,  -999.00,9,  -999.00,9,     -999,9,   -999.0,9,   -999.0,9,  -999.00,9,     2.04,     0.11,2,     8.87,     0.21,2,     5.59,     1.13,2, 0.602311262,  0.124286451,2,     1.65,     0.10,2,       -999,9,        -999,9,   -999.0,9,   -999.0,9,   -999.0,9,     -999,9,      -999,9,  -999.00,9,  -999.00,9,  -1.0478
  32H120020718,    18,  3,      7,2,20020729, 72.3189,-151.9760, 3253,     51.3,  -1.0480,  31.7931,2,-999.0000,9,    349.8,2,   -999.0,9,  -999.00,9,  -999.00,9,  -999.00,9,  -999.00,9,     -999,9,   -999.0,9,   -999.0,9,  -999.00,9,     2.04,     0.11,2,     8.87,     0.21,2,     5.59,     1.13,2, 0.602310769,  0.124286349,2,     1.65,     0.10,2,       -999,9,        -999,9,   -999.0,9,   -999.0,9,   -999.0,9,     -999,9,      -999,9,  -999.00,9,  -999.00,9,  -1.0491
  32H120020718,    18,  3,     11,2,20020729, 72.3189,-151.9760, 3253,     51.3,  -1.0481,  31.7923,2,-999.0000,9,    350.2,2,   -999.0,9,    13.62,2,     5.53,2,     0.05,2,     1.19,2,      0.1,2,   -999.0,9,   -999.0,9,  -999.00,9,     2.04,     0.11,2,     8.87,     0.21,2,     5.59,     1.13,2, 0.602312653,  0.124286738,2,     1.65,     0.10,2,       -999,9,        -999,9,   -999.0,9,   -999.0,9,   -999.0,9,     0.01,2,      -999,9,  -999.00,9,  -999.00,9,  -1.0492
  32H120020718,    18,  3,      8,2,20020729, 72.3189,-151.9760, 3253,     51.3,  -1.0502,  31.7940,2,-999.0000,9,    349.9,2,   -999.0,9,  -999.00,9,  -999.00,9,  -999.00,9,  -999.00,9,     -999,9,   -999.0,9,   -999.0,9,  -999.00,9,     2.04,     0.11,2,     8.87,     0.21,2,     5.59,     1.13,2, 0.602311845,  0.124286571,2,     1.65,     0.10,2,       -999,9,        -999,9,   -999.0,9,   -999.0,9,   -999.0,9,     -999,9,      -999,9,  -999.00,9,  -999.00,9,  -1.0513
  32H120020718,    18,  3,     10,2,20020729, 72.3189,-151.9760, 3253,     51.3,  -1.0508,  31.7938,2,-999.0000,9,    350.2,2,   -999.0,9,  -999.00,9,  -999.00,9,  -999.00,9,  -999.00,9,     -999,9,   -999.0,9,   -999.0,9,  -999.00,9,     2.04,     0.11,2,     8.87,     0.21,2,     5.59,     1.13,2, 0.602311711,  0.124286543,2,     1.65,     0.10,2,       -999,9,        -999,9,   -999.0,9,   -999.0,9,   -999.0,9,     -999,9,      -999,9,  -999.00,9,  -999.00,9,  -1.0519
  32H120020718,    18,  3,      9,2,20020729, 72.3189,-151.9760, 3253,     51.3,  -1.0529,  31.7935,2,-999.0000,9,    350.0,2,   -999.0,9,  -999.00,9,  -999.00,9,  -999.00,9,  -999.00,9,     -999,9,   -999.0,9,   -999.0,9,  -999.00,9,     2.04,     0.11,2,     8.87,     0.21,2,     5.59,     1.13,2, 0.602312428,  0.124286692,2,     1.65,     0.10,2,       -999,9,        -999,9,   -999.0,9,   -999.0,9,   -999.0,9,     -999,9,      -999,9,  -999.00,9,  -999.00,9,  -1.0540
  32H120020718,    18,  7,      2,2,20020729, 72.3189,-151.9760, 3253,     51.2,  -1.2466,  31.7179,2,-999.0000,9,    351.9,2,   -999.0,9,  -999.00,9,  -999.00,9,  -999.00,9,  -999.00,9,     -999,9,   -999.0,9,   -999.0,9,  -999.00,9,  -999.00,  -999.00,9,  -999.00,  -999.00,9,  -999.00,  -999.00,9,        -999,         -999,9,  -999.00,  -999.00,9,       -999,9,        -999,9,   -999.0,9,   -999.0,9,   -999.0,9,     -999,9,      -999,9,  -999.00,9,  -999.00,9,  -1.2476
  32H120020718,    18,  7,      1,2,20020729, 72.3189,-151.9760, 3253,     51.2,  -1.2833,  31.6946,2,-999.0000,9,    352.0,2,   -999.0,9,    13.59,2,     5.51,2,     0.08,2,     1.20,2,     0.04,2,   -999.0,9,   -999.0,9,  -999.00,9,  -999.00,  -999.00,9,  -999.00,  -999.00,9,  -999.00,  -999.00,9,        -999,         -999,9,  -999.00,  -999.00,9,       -999,9,        -999,9,   -999.0,9,   -999.0,9,   -999.0,9,        0,2,      -999,9,  -999.00,9,  -999.00,9,  -1.2843
  32H120020718,    18,  2,      8,2,20020729, 72.3189,-151.9760, 3253,     61.3,  -1.2199,  32.0191,2,  32.0228,2,    334.4,2,    343.7,2,    15.78,2,     6.56,2,     0.06,2,     1.27,2,     0.12,2,   2127.1,2,   2250.5,2,  -999.00,9,  -999.00,  -999.00,9,  -999.00,  -999.00,9,  -999.00,  -999.00,9,        -999,         -999,9,  -999.00,  -999.00,9, 15.8338445,2,  2.97312599,2,     63.6,2,      3.4,2,     10.1,2,        0,2,      -999,9,     0.15,2,     0.18,2,  -1.2211
  32H120020718,    18,  2,      7,2,20020729, 72.3189,-151.9760, 3253,     81.2,  -1.5300,  32.4193,2,  32.4120,2,    317.7,2,    324.7,2,    26.47,2,     9.63,2,     0.11,2,     1.51,2,     0.81,2,   2158.7,2,   2262.3,2,  -999.00,9,  -999.00,  -999.00,9,  -999.00,  -999.00,9,  -999.00,  -999.00,9,        -999,         -999,9,  -999.00,  -999.00,9, 17.6771445,2,  3.57845611,2,     63.7,2,      3.5,2,     14.1,2,        0,2,      -999,9,     0.05,2,     0.16,2,  -1.5315
  32H120020718,    18,  2,      6,2,20020729, 72.3189,-151.9760, 3253,    101.5,  -1.5591,  32.6623,2,  32.6571,2,    306.9,2,    315.1,2,    29.54,2,    11.05,2,     0.10,2,     1.60,2,      0.8,2,   2174.8,2,   -999.0,5,  -999.00,9,  -999.00,  -999.00,9,  -999.00,  -999.00,9,  -999.00,  -999.00,9,        -999,         -999,9,  -999.00,  -999.00,9, 16.7159206,2,  3.44092908,2,     63.6,2,      3.0,2,     14.9,2,        0,2,      -999,9,     0.03,2,     0.19,2,  -1.5610
  32H120020718,    18,  6,      3,2,20020729, 72.3189,-151.9760, 3253,    101.2,  -1.5674,  32.6094,2,-999.0000,9,    310.6,2,    314.7,2,    30.42,2,    11.18,2,     0.10,2,     1.63,2,     0.56,2,   2173.9,2,   2277.6,2,  -999.00,9,  -999.00,  -999.00,9,  -999.00,  -999.00,9,  -999.00,  -999.00,9,        -999,         -999,9,  -999.00,  -999.00,9,       -999,9,        -999,9,   -999.0,9,   -999.0,9,   -999.0,9,     0.01,2,      -999,9,  -999.00,9,  -999.00,9,  -1.5693