BOTTLE,20090202PRINUNIVRMK
EXPOCODE,STNNBR,CASTNO,BTLNBR,BTLNBR_FLAG_W,DATE,LATITUDE,LONGITUDE,DEPTH,CTDPRS,CTDTMP,CTDSAL,CTDSAL_FLAG_W,SALNTY,SALNTY_FLAG_W,CTDOXY,CTDOXY_FLAG_W,OXYGEN,OXYGEN_FLAG_W,SILCAT,SILCAT_FLAG_W,NITRAT,NITRAT_FLAG_W,NITRIT,NITRIT_FLAG_W,PHSPHT,PHSPHT_FLAG_W,AMMONI,AMMONI_FLAG_W,TCARBN,TCARBN_FLAG_W,ALKALI,ALKALI_FLAG_W,DELO18,DELO18_FLAG_W,RA-224,RA-224E,RA-224_FLAG_W,RA-226,RA-226E,RA-226_FLAG_W,RA-228,RA-228E,RA-228_FLAG_W,RA-8/6,RA-8/6E,RA-8/6_FLAG_W,TH-228,TH-228E,TH-228_FLAG_W,POC,POC_FLAG_W,PON,PON_FLAG_W,DOC,DOC_FLAG_W,DON,DON_FLAG_W,TDN,TDN_FLAG_W,UREA,UREA_FLAG_W,LIGNIN,LIGNIN_FLAG_W,CHLORA,CHLORA_FLAG_W,PHAEO,PHAEO_FLAG_W,THETA
,,,,,,,,METERS,DBARS,ITS-90,PSS-78,,PSS-78,,UMOL/KG,,UMOL/KG,,UMOL/KG,,UMOL/KG,,UMOL/KG,,UMOL/KG,,UMOL/KG,,UMOL/KG,,UMOL/KG,,O/OO,,DPM/100KG,DPM/100KG,,DPM/100KG,DPM/100KG,,DPM/100KG,DPM/100KG,,,,,DPM/100KG,DPM/100KG,,ug/kg,,ug/kg,,UMOL/KG,,UMOL/KG,,UMOL/KG,,UMOL/KG,,NG/KG,,UG/L,,UG/L,,DEGC
  32H120020718,    45,  1,      4,2,20020821, 70.6811,-166.4990,   39,     31.5,   1.3550,  31.7888,2,-999.0000,9,    361.5,2,   -999.0,9,  -999.00,9,  -999.00,9,  -999.00,9,  -999.00,9,     -999,9,   -999.0,9,   -999.0,9,  -999.00,9,  -999.00,  -999.00,9,  -999.00,  -999.00,9,  -999.00,  -999.00,9,        -999,         -999,9,  -999.00,  -999.00,9,       -999,9,        -999,9,     69.3,2,   -999.0,9,   -999.0,9,     -999,9,      -999,9,  -999.00,9,  -999.00,9,   1.3537
  32H120020718,    45,  1,      5,2,20020821, 70.6811,-166.4990,   39,     31.5,   1.3906,  31.7928,2,  31.7236,2,    362.6,2,    360.3,2,     5.51,2,     0.45,2,     0.04,2,     0.78,2,     0.94,2,   -999.0,9,   2206.0,2,  -999.00,9,  -999.00,  -999.00,9,  -999.00,  -999.00,9,  -999.00,  -999.00,9,        -999,         -999,9,  -999.00,  -999.00,9, 128.283719,2,   23.721774,2,   -999.0,9,      7.3,2,      8.8,2,     0.11,2,      -999,9,     1.97,2,     0.79,2,   1.3893
  32H120020718,    45,  3,      2,2,20020821, 70.6811,-166.4990,   39,     33.5,   0.3933,  31.7689,2,-999.0000,9,    362.2,2,   -999.0,9,  -999.00,9,  -999.00,9,  -999.00,9,  -999.00,9,     -999,9,   -999.0,9,   -999.0,9,  -999.00,9,  -999.00,  -999.00,9,  -999.00,  -999.00,9,  -999.00,  -999.00,9,        -999,         -999,9,  -999.00,  -999.00,9,       -999,9,        -999,9,   -999.0,9,   -999.0,9,   -999.0,9,     -999,9,      -999,9,  -999.00,9,  -999.00,9,   0.3922
  32H120020718,    45,  3,      1,2,20020821, 70.6811,-166.4990,   39,     33.5,   0.3939,  31.7690,2,-999.0000,9,    362.4,2,   -999.0,9,  -999.00,9,  -999.00,9,  -999.00,9,  -999.00,9,     -999,9,   -999.0,9,   -999.0,9,  -999.00,9,  -999.00,  -999.00,9,  -999.00,  -999.00,9,  -999.00,  -999.00,9,        -999,         -999,9,  -999.00,  -999.00,9,       -999,9,        -999,9,   -999.0,9,   -999.0,9,   -999.0,9,     -999,9,      -999,9,  -999.00,9,  -999.00,9,   0.3928
  32H120020718,    45,  3,      3,2,20020821, 70.6811,-166.4990,   39,     33.5,   0.3942,  31.7691,2,-999.0000,9,    362.2,2,    368.8,2,     7.66,2,     0.86,2,     0.06,2,     0.97,2,     1.73,2,   -999.0,9,   -999.0,9,  -999.00,9,  -999.00,  -999.00,9,  -999.00,  -999.00,9,  -999.00,  -999.00,9,        -999,         -999,9,  -999.00,  -999.00,9,       -999,9,        -999,9,   -999.0,9,   -999.0,9,   -999.0,9,      0.2,2,      -999,9,     0.72,2,     0.51,2,   0.3931
  32H120020718,    45,  1,      3,2,20020821, 70.6811,-166.4990,   39,     34.4,   1.0809,  31.8431,2,  31.7631,2,    363.0,2,    366.9,2,     7.85,2,     0.85,2,     0.07,2,     0.97,2,     1.87,2,   -999.0,9,   -999.0,9,  -999.00,9,  -999.00,  -999.00,9,  -999.00,  -999.00,9,  -999.00,  -999.00,9,        -999,         -999,9,  -999.00,  -999.00,9,       -999,9,        -999,9,   -999.0,9,   -999.0,9,   -999.0,9,     0.23,2,      -999,9,  -999.00,9,  -999.00,9,   1.0795
  32H120020718,    45,  1,      1,4,20020821, 70.6811,-166.4990,   39,     35.5,   0.9806,  31.9490,2,-999.0000,9,    364.6,2,   -999.0,9,  -999.00,9,  -999.00,9,  -999.00,9,  -999.00,9,     -999,9,   -999.0,9,   -999.0,9,  -999.00,9,  -999.00,  -999.00,9,  -999.00,  -999.00,9,  -999.00,  -999.00,9,        -999,         -999,9,  -999.00,  -999.00,9,       -999,9,        -999,9,     68.2,2,   -999.0,9,   -999.0,9,     -999,9,      -999,9,  -999.00,9,  -999.00,9,   0.9792
  32H120020718,    45,  1,      2,2,20020821, 70.6811,-166.4990,   39,     35.5,   1.0044,  31.9461,2,  31.7907,2,    364.5,2,    367.7,2,     7.54,2,     0.85,2,     0.06,2,     0.95,2,     1.86,2,   -999.0,9,   -999.0,9,  -999.00,9,  -999.00,  -999.00,9,  -999.00,  -999.00,9,  -999.00,  -999.00,9,        -999,         -999,9,  -999.00,  -999.00,9, 96.7117931,2,  16.3256585,2,   -999.0,9,      6.0,2,      8.7,2,     0.22,2,      -999,9,     0.75,2,     0.52,2,   1.0030
  32H120020718,    45,  2,      4,2,20020821, 70.6811,-166.4990,   39,     36.2,   0.3976,  31.7448,2,-999.0000,9,    359.6,2,   -999.0,9,  -999.00,9,  -999.00,9,  -999.00,9,  -999.00,9,     -999,9,   -999.0,9,   -999.0,9,  -999.00,9,     2.25,     0.10,2,    10.45,     0.68,2,    11.70,     0.79,2,  1.07140349,  0.105227128,2,     0.19,     0.37,2,       -999,9,        -999,9,   -999.0,9,   -999.0,9,   -999.0,9,     -999,9,      -999,9,  -999.00,9,  -999.00,9,   0.3964
  32H120020718,    45,  2,      8,2,20020821, 70.6811,-166.4990,   39,     36.2,   0.3996,  31.7446,2,-999.0000,9,    359.9,2,   -999.0,9,  -999.00,9,  -999.00,9,  -999.00,9,  -999.00,9,     -999,9,   -999.0,9,   -999.0,9,  -999.00,9,     2.25,     0.10,2,    10.45,     0.68,2,    11.70,     0.79,2,  1.07140357,  0.105227136,2,     0.19,     0.37,2,       -999,9,        -999,9,   -999.0,9,   -999.0,9,   -999.0,9,     -999,9,      -999,9,  -999.00,9,  -999.00,9,   0.3984
  32H120020718,    45,  2,      7,2,20020821, 70.6811,-166.4990,   39,     36.2,   0.3996,  31.7447,2,-999.0000,9,    359.9,2,   -999.0,9,  -999.00,9,  -999.00,9,  -999.00,9,  -999.00,9,     -999,9,   -999.0,9,   -999.0,9,  -999.00,9,     2.25,     0.10,2,    10.45,     0.68,2,    11.70,     0.79,2,  1.07140492,  0.105227269,2,     0.19,     0.37,2,       -999,9,        -999,9,   -999.0,9,   -999.0,9,   -999.0,9,     -999,9,      -999,9,  -999.00,9,  -999.00,9,   0.3984
  32H120020718,    45,  2,     12,2,20020821, 70.6811,-166.4990,   39,     36.2,   0.4005,  31.7447,2,-999.0000,9,    360.6,2,   -999.0,9,  -999.00,9,  -999.00,9,  -999.00,9,  -999.00,9,     -999,9,   -999.0,9,   -999.0,9,  -999.00,9,     2.25,     0.10,2,    10.45,     0.68,2,    11.70,     0.79,2,  1.07140484,  0.105227261,2,     0.19,     0.37,2,       -999,9,        -999,9,   -999.0,9,   -999.0,9,   -999.0,9,     -999,9,      -999,9,  -999.00,9,  -999.00,9,   0.3993
  32H120020718,    45,  2,      9,2,20020821, 70.6811,-166.4990,   39,     36.2,   0.4010,  31.7439,2,-999.0000,9,    360.8,2,   -999.0,9,  -999.00,9,  -999.00,9,  -999.00,9,  -999.00,9,     -999,9,   -999.0,9,   -999.0,9,  -999.00,9,     2.25,     0.10,2,    10.45,     0.68,2,    11.70,     0.79,2,  1.07135959,  0.105222817,2,     0.19,     0.37,2,       -999,9,        -999,9,   -999.0,9,   -999.0,9,   -999.0,9,     -999,9,      -999,9,  -999.00,9,  -999.00,9,   0.3998
  32H120020718,    45,  2,     10,2,20020821, 70.6811,-166.4990,   39,     36.2,   0.4031,  31.7447,2,-999.0000,9,    360.8,2,   -999.0,9,  -999.00,9,  -999.00,9,  -999.00,9,  -999.00,9,     -999,9,   -999.0,9,   -999.0,9,  -999.00,9,     2.25,     0.10,2,    10.45,     0.68,2,    11.70,     0.79,2,  1.07134172,  0.105221062,2,     0.19,     0.37,2,       -999,9,        -999,9,   -999.0,9,   -999.0,9,   -999.0,9,     -999,9,      -999,9,  -999.00,9,  -999.00,9,   0.4019
  32H120020718,    45,  2,     11,2,20020821, 70.6811,-166.4990,   39,     36.2,   0.4039,  31.7444,2,-999.0000,9,    360.7,2,   -999.0,9,  -999.00,9,  -999.00,9,  -999.00,9,  -999.00,9,     -999,9,   -999.0,9,   -999.0,9,  -999.00,9,     2.25,     0.10,2,    10.45,     0.68,2,    11.70,     0.79,2,  1.07136263,  0.105223115,2,     0.19,     0.37,2,       -999,9,        -999,9,   -999.0,9,   -999.0,9,   -999.0,9,     -999,9,      -999,9,  -999.00,9,  -999.00,9,   0.4027
  32H120020718,    45,  2,      3,2,20020821, 70.6811,-166.4990,   39,     36.3,   0.3973,  31.7447,2,-999.0000,9,    359.6,2,   -999.0,9,  -999.00,9,  -999.00,9,  -999.00,9,  -999.00,9,     -999,9,   -999.0,9,   -999.0,9,  -999.00,9,     2.25,     0.10,2,    10.45,     0.68,2,    11.70,     0.79,2,  1.07136063,  0.105222919,2,     0.19,     0.37,2,       -999,9,        -999,9,   -999.0,9,   -999.0,9,   -999.0,9,     -999,9,      -999,9,  -999.00,9,  -999.00,9,   0.3961
  32H120020718,    45,  2,      2,2,20020821, 70.6811,-166.4990,   39,     36.3,   0.3976,  31.7447,2,-999.0000,9,    359.7,2,   -999.0,9,  -999.00,9,  -999.00,9,  -999.00,9,  -999.00,9,     -999,9,   -999.0,9,   -999.0,9,  -999.00,9,     2.25,     0.10,2,    10.45,     0.68,2,    11.70,     0.79,2,  1.07133669,  0.105220568,2,     0.19,     0.37,2,       -999,9,        -999,9,   -999.0,9,   -999.0,9,   -999.0,9,     -999,9,      -999,9,  -999.00,9,  -999.00,9,   0.3964
  32H120020718,    45,  2,      1,2,20020821, 70.6811,-166.4990,   39,     36.3,   0.3979,  31.7446,2,-999.0000,9,    359.7,2,   -999.0,9,     7.73,2,     0.81,2,     0.06,2,     0.96,2,     1.84,2,   -999.0,9,   -999.0,9,  -999.00,9,     2.25,     0.10,2,    10.45,     0.68,2,    11.70,     0.79,2,  1.07133494,  0.105220396,2,     0.19,     0.37,2,       -999,9,        -999,9,   -999.0,9,   -999.0,9,   -999.0,9,     0.22,2,      -999,9,  -999.00,9,  -999.00,9,   0.3967
  32H120020718,    45,  2,      5,2,20020821, 70.6811,-166.4990,   39,     36.3,   0.3985,  31.7447,2,-999.0000,9,    359.8,2,   -999.0,9,  -999.00,9,  -999.00,9,  -999.00,9,  -999.00,9,     -999,9,   -999.0,9,   -999.0,9,  -999.00,9,     2.25,     0.10,2,    10.45,     0.68,2,    11.70,     0.79,2,  1.07132105,  0.105219032,2,     0.19,     0.37,2,       -999,9,        -999,9,   -999.0,9,   -999.0,9,   -999.0,9,     -999,9,      -999,9,  -999.00,9,  -999.00,9,   0.3973
  32H120020718,    45,  2,      6,2,20020821, 70.6811,-166.4990,   39,     36.3,   0.3999,  31.7446,2,-999.0000,9,    359.8,2,   -999.0,9,  -999.00,9,  -999.00,9,  -999.00,9,  -999.00,9,     -999,9,   -999.0,9,   -999.0,9,  -999.00,9,     2.25,     0.10,2,    10.45,     0.68,2,    11.70,     0.79,2,  1.07131946,  0.105218875,2,     0.19,     0.37,2,       -999,9,        -999,9,   -999.0,9,   -999.0,9,   -999.0,9,     -999,9,      -999,9,  -999.00,9,  -999.00,9,   0.3987