BOTTLE,20090202PRINUNIVRMK
EXPOCODE,STNNBR,CASTNO,BTLNBR,BTLNBR_FLAG_W,DATE,LATITUDE,LONGITUDE,DEPTH,CTDPRS,CTDTMP,CTDSAL,CTDSAL_FLAG_W,SALNTY,SALNTY_FLAG_W,CTDOXY,CTDOXY_FLAG_W,OXYGEN,OXYGEN_FLAG_W,SILCAT,SILCAT_FLAG_W,NITRAT,NITRAT_FLAG_W,NITRIT,NITRIT_FLAG_W,PHSPHT,PHSPHT_FLAG_W,AMMONI,AMMONI_FLAG_W,TCARBN,TCARBN_FLAG_W,ALKALI,ALKALI_FLAG_W,DELO18,DELO18_FLAG_W,RA-224,RA-224E,RA-224_FLAG_W,RA-226,RA-226E,RA-226_FLAG_W,RA-228,RA-228E,RA-228_FLAG_W,RA-8/6,RA-8/6E,RA-8/6_FLAG_W,TH-228,TH-228E,TH-228_FLAG_W,POC,POC_FLAG_W,PON,PON_FLAG_W,DOC,DOC_FLAG_W,DON,DON_FLAG_W,TDN,TDN_FLAG_W,UREA,UREA_FLAG_W,LIGNIN,LIGNIN_FLAG_W,CHLORA,CHLORA_FLAG_W,PHAEO,PHAEO_FLAG_W,THETA
,,,,,,,,METERS,DBARS,ITS-90,PSS-78,,PSS-78,,UMOL/KG,,UMOL/KG,,UMOL/KG,,UMOL/KG,,UMOL/KG,,UMOL/KG,,UMOL/KG,,UMOL/KG,,UMOL/KG,,O/OO,,DPM/100KG,DPM/100KG,,DPM/100KG,DPM/100KG,,DPM/100KG,DPM/100KG,,,,,DPM/100KG,DPM/100KG,,ug/kg,,ug/kg,,UMOL/KG,,UMOL/KG,,UMOL/KG,,UMOL/KG,,NG/KG,,UG/L,,UG/L,,DEGC
  32H120020718,    16,  8,     11,2,20020725, 72.1414,-154.2690, 1347,     50.8,  -1.5841,  32.4649,2,-999.0000,9,    307.6,2,   -999.0,9,    30.79,2,    10.12,2,     0.10,2,     1.59,2,     1.07,2,   -999.0,9,   -999.0,9,  -999.00,9,  -999.00,  -999.00,9,  -999.00,  -999.00,9,  -999.00,  -999.00,9,        -999,         -999,9,  -999.00,  -999.00,9,       -999,9,        -999,9,   -999.0,9,   -999.0,9,   -999.0,9,     0.07,2,      -999,9,  -999.00,9,  -999.00,9,  -1.5850
  32H120020718,    16,  7,      7,2,20020725, 72.1414,-154.2690, 1347,     61.9,  -1.5477,  32.5637,2,-999.0000,9,    302.5,2,   -999.0,9,  -999.00,9,  -999.00,9,  -999.00,9,  -999.00,9,     -999,9,   -999.0,9,   -999.0,9,  -999.00,9,     1.91,     0.13,2,     9.79,     0.27,2,     6.90,     0.81,2,  0.66951329, 0.0860802802,2,     1.62,     0.12,2,       -999,9,        -999,9,   -999.0,9,   -999.0,9,   -999.0,9,     -999,9,      -999,9,  -999.00,9,  -999.00,9,  -1.5488
  32H120020718,    16,  7,      8,2,20020725, 72.1414,-154.2690, 1347,     61.9,  -1.6073,  32.5744,2,-999.0000,9,    308.9,2,   -999.0,9,  -999.00,9,  -999.00,9,  -999.00,9,  -999.00,9,     -999,9,   -999.0,9,   -999.0,9,  -999.00,9,     1.91,     0.13,2,     9.79,     0.27,2,     6.89,     0.81,2, 0.669199169, 0.0860398932,2,     1.62,     0.12,2,       -999,9,        -999,9,   -999.0,9,   -999.0,9,   -999.0,9,     -999,9,      -999,9,  -999.00,9,  -999.00,9,  -1.6084
  32H120020718,    16,  7,      9,2,20020725, 72.1414,-154.2690, 1347,     61.9,  -1.6110,  32.5749,2,-999.0000,9,    311.7,2,   -999.0,9,    27.83,2,    11.28,2,     0.05,2,     1.60,2,      0.4,2,   -999.0,9,   -999.0,9,  -999.00,9,     1.91,     0.13,2,     9.79,     0.27,2,     6.89,     0.81,2, 0.669073723, 0.0860237644,2,     1.62,     0.12,2,       -999,9,        -999,9,   -999.0,9,   -999.0,9,   -999.0,9,     0.02,2,      -999,9,  -999.00,9,  -999.00,9,  -1.6121
  32H120020718,    16,  7,     10,2,20020725, 72.1414,-154.2690, 1347,     61.9,  -1.6156,  32.5760,2,-999.0000,9,    314.0,2,   -999.0,9,  -999.00,9,  -999.00,9,  -999.00,9,  -999.00,9,     -999,9,   -999.0,9,   -999.0,9,  -999.00,9,     1.91,     0.13,2,     9.79,     0.27,2,     6.89,     0.81,2,  0.66895912, 0.0860090297,2,     1.62,     0.12,2,       -999,9,        -999,9,   -999.0,9,   -999.0,9,   -999.0,9,     -999,9,      -999,9,  -999.00,9,  -999.00,9,  -1.6167
  32H120020718,    16,  7,     11,2,20020725, 72.1414,-154.2690, 1347,     61.9,  -1.6188,  32.5764,2,-999.0000,9,    316.5,2,   -999.0,9,  -999.00,9,  -999.00,9,  -999.00,9,  -999.00,9,     -999,9,   -999.0,9,   -999.0,9,  -999.00,9,     1.91,     0.13,2,     9.78,     0.27,2,     6.89,     0.81,2, 0.668795879, 0.0859880416,2,     1.62,     0.12,2,       -999,9,        -999,9,   -999.0,9,   -999.0,9,   -999.0,9,     -999,9,      -999,9,  -999.00,9,  -999.00,9,  -1.6199
  32H120020718,    16,  7,     12,2,20020725, 72.1414,-154.2690, 1347,     61.9,  -1.6230,  32.5769,2,-999.0000,9,    317.5,2,   -999.0,9,  -999.00,9,  -999.00,9,  -999.00,9,  -999.00,9,     -999,9,   -999.0,9,   -999.0,9,  -999.00,9,     1.91,     0.13,2,     9.78,     0.27,2,     6.89,     0.81,2, 0.668604758, 0.0859634688,2,     1.62,     0.12,2,       -999,9,        -999,9,   -999.0,9,   -999.0,9,   -999.0,9,     -999,9,      -999,9,  -999.00,9,  -999.00,9,  -1.6241
  32H120020718,    16,  5,      7,2,20020725, 72.1414,-154.2690, 1347,     65.8,  -1.5339,  32.4067,2,  32.3892,2,    309.0,2,    322.8,2,    30.41,2,     9.41,2,     0.12,2,     1.56,2,     0.96,2,   2153.4,2,   2280.6,2,  -999.00,9,  -999.00,  -999.00,9,  -999.00,  -999.00,9,  -999.00,  -999.00,9,        -999,         -999,9,  -999.00,  -999.00,9, 78.8249698,2,  15.8392947,2,     65.1,2,      6.1,2,     16.6,2,     0.07,2,      -999,9,     1.66,2,     1.05,2,  -1.5351
  32H120020718,    16,  2,      3,2,20020725, 72.1414,-154.2690, 1347,     76.0,  -1.6772,  32.7390,2,-999.0000,9,    305.5,2,   -999.0,9,  -999.00,9,  -999.00,9,  -999.00,9,  -999.00,9,     -999,9,   -999.0,9,   -999.0,9,  -999.00,9,  -999.00,  -999.00,9,  -999.00,  -999.00,9,  -999.00,  -999.00,9,        -999,         -999,9,  -999.00,  -999.00,9,       -999,9,        -999,9,   -999.0,9,   -999.0,9,   -999.0,9,     -999,9,      -999,9,  -999.00,9,  -999.00,9,  -1.6785
  32H120020718,    16,  5,      6,2,20020725, 72.1414,-154.2690, 1347,     81.4,  -1.4686,  32.6356,2,  32.6453,2,    288.9,2,    299.0,2,    28.52,2,    12.74,2,     0.01,2,     1.67,2,     0.21,2,   2182.8,2,   2288.6,2,  -999.00,9,  -999.00,  -999.00,9,  -999.00,  -999.00,9,  -999.00,  -999.00,9,        -999,         -999,9,  -999.00,  -999.00,9, 11.8967586,2,  2.53184721,2,     64.0,2,      4.2,2,     17.1,2,     0.03,2,      -999,9,     0.19,2,     0.15,2,  -1.4702
  32H120020718,    16,  2,      2,2,20020725, 72.1414,-154.2690, 1347,    101.1,  -1.7280,  33.0150,2,-999.0000,9,    301.9,2,   -999.0,9,  -999.00,9,  -999.00,9,  -999.00,9,  -999.00,9,     -999,9,   -999.0,9,   -999.0,9,  -999.00,9,  -999.00,  -999.00,9,  -999.00,  -999.00,9,  -999.00,  -999.00,9,        -999,         -999,9,  -999.00,  -999.00,9,       -999,9,        -999,9,   -999.0,9,   -999.0,9,   -999.0,9,     -999,9,      -999,9,  -999.00,9,  -999.00,9,  -1.7298
  32H120020718,    16,  5,      5,2,20020725, 72.1414,-154.2690, 1347,    111.9,  -1.6943,  32.9629,2,  32.9632,2,    302.6,2,    315.7,2,    41.10,2,    12.33,2,     0.16,2,     1.78,2,     2.22,2,   2185.9,2,   2299.7,2,  -999.00,9,  -999.00,  -999.00,9,  -999.00,  -999.00,9,  -999.00,  -999.00,9,        -999,         -999,9,  -999.00,  -999.00,9, 85.0461536,2,  17.8653337,2,     63.1,2,      3.4,2,     18.1,2,     0.12,2,      -999,9,     1.88,2,     1.34,2,  -1.6963
  32H120020718,    16,  7,      1,2,20020725, 72.1414,-154.2690, 1347,    150.2,  -1.7339,  33.3063,2,-999.0000,9,    283.8,2,   -999.0,9,  -999.00,9,  -999.00,9,  -999.00,9,  -999.00,9,     -999,9,   -999.0,9,   -999.0,9,  -999.00,9,     0.88,     0.06,2,    11.38,     0.63,2,    11.36,     1.03,2, 0.953711734,  0.104908291,2,     0.79,     0.08,2,       -999,9,        -999,9,   -999.0,9,   -999.0,9,   -999.0,9,     -999,9,      -999,9,  -999.00,9,  -999.00,9,  -1.7368
  32H120020718,    16,  7,      2,2,20020725, 72.1414,-154.2690, 1347,    150.8,  -1.7341,  33.3067,2,-999.0000,9,    283.7,2,   -999.0,9,  -999.00,9,  -999.00,9,  -999.00,9,  -999.00,9,     -999,9,   -999.0,9,   -999.0,9,  -999.00,9,     0.88,     0.06,2,    11.38,     0.63,2,    11.36,     1.03,2, 0.953711805,  0.104908299,2,     0.79,     0.08,2,       -999,9,        -999,9,   -999.0,9,   -999.0,9,   -999.0,9,     -999,9,      -999,9,  -999.00,9,  -999.00,9,  -1.7370
  32H120020718,    16,  5,      4,2,20020725, 72.1414,-154.2690, 1347,    152.1,  -1.6808,  33.3462,2,  33.3456,2,    288.5,2,    298.7,2,    43.70,2,    14.12,2,     0.13,2,     1.91,2,     2.43,2,   2219.9,2,   2330.9,2,  -999.00,9,  -999.00,  -999.00,9,  -999.00,  -999.00,9,  -999.00,  -999.00,9,        -999,         -999,9,  -999.00,  -999.00,9, 45.0317306,2,  9.15484073,2,     62.7,2,      4.5,2,     21.1,2,     0.08,2,      -999,9,     0.92,2,     0.68,2,  -1.6838
  32H120020718,    16,  7,      3,2,20020725, 72.1414,-154.2690, 1347,    151.1,  -1.7350,  33.3092,2,-999.0000,9,    283.8,2,   -999.0,9,  -999.00,9,  -999.00,9,  -999.00,9,  -999.00,9,     -999,9,   -999.0,9,   -999.0,9,  -999.00,9,     0.88,     0.06,2,    11.38,     0.63,2,    11.36,     1.03,2, 0.953709816,   0.10490808,2,     0.79,     0.08,2,       -999,9,        -999,9,   -999.0,9,   -999.0,9,   -999.0,9,     -999,9,      -999,9,  -999.00,9,  -999.00,9,  -1.7379
  32H120020718,    16,  7,      4,2,20020725, 72.1414,-154.2690, 1347,    151.3,  -1.7328,  33.3067,2,-999.0000,9,    284.1,2,   -999.0,9,    48.13,2,    14.45,2,     0.19,2,     2.01,2,     3.08,2,   -999.0,9,   -999.0,9,  -999.00,9,     0.88,     0.06,2,    11.38,     0.63,2,    11.36,     1.03,2,  0.95371216,  0.104908338,2,     0.79,     0.08,2,       -999,9,        -999,9,   -999.0,9,   -999.0,9,   -999.0,9,     0.35,2,      -999,9,  -999.00,9,  -999.00,9,  -1.7357
  32H120020718,    16,  7,      5,2,20020725, 72.1414,-154.2690, 1347,    151.4,  -1.7322,  33.3030,2,-999.0000,9,    284.2,2,   -999.0,9,  -999.00,9,  -999.00,9,  -999.00,9,  -999.00,9,     -999,9,   -999.0,9,   -999.0,9,  -999.00,9,     0.88,     0.06,2,    11.38,     0.63,2,    11.36,     1.03,2, 0.953715427,  0.104908697,2,     0.79,     0.08,2,       -999,9,        -999,9,   -999.0,9,   -999.0,9,   -999.0,9,     -999,9,      -999,9,  -999.00,9,  -999.00,9,  -1.7351
  32H120020718,    16,  7,      6,2,20020725, 72.1414,-154.2690, 1347,    151.4,  -1.7329,  33.2959,2,-999.0000,9,    284.1,2,   -999.0,9,  -999.00,9,  -999.00,9,  -999.00,9,  -999.00,9,     -999,9,   -999.0,9,   -999.0,9,  -999.00,9,     0.88,     0.06,2,    11.38,     0.63,2,    11.36,     1.03,2, 0.953721676,  0.104909384,2,     0.79,     0.08,2,       -999,9,        -999,9,   -999.0,9,   -999.0,9,   -999.0,9,     -999,9,      -999,9,  -999.00,9,  -999.00,9,  -1.7358
  32H120020718,    16,  8,      7,2,20020725, 72.1414,-154.2690, 1347,    174.6,  -1.6338,  33.5313,2,-999.0000,9,    291.3,2,   -999.0,9,  -999.00,9,  -999.00,9,  -999.00,9,  -999.00,9,     -999,9,   -999.0,9,   -999.0,9,  -999.00,9,  -999.00,  -999.00,9,  -999.00,  -999.00,9,  -999.00,  -999.00,9,        -999,         -999,9,  -999.00,  -999.00,9,       -999,9,        -999,9,   -999.0,9,   -999.0,9,   -999.0,9,     -999,9,      -999,9,  -999.00,9,  -999.00,9,  -1.6374
  32H120020718,    16,  8,      9,2,20020725, 72.1414,-154.2690, 1347,    174.6,  -1.6381,  33.5326,2,-999.0000,9,    293.3,2,   -999.0,9,  -999.00,9,  -999.00,9,  -999.00,9,  -999.00,9,     -999,9,   -999.0,9,   -999.0,9,  -999.00,9,  -999.00,  -999.00,9,  -999.00,  -999.00,9,  -999.00,  -999.00,9,        -999,         -999,9,  -999.00,  -999.00,9,       -999,9,        -999,9,   -999.0,9,   -999.0,9,   -999.0,9,     -999,9,      -999,9,  -999.00,9,  -999.00,9,  -1.6417
  32H120020718,    16,  8,     10,2,20020725, 72.1414,-154.2690, 1347,    175.0,  -1.6414,  33.5341,2,-999.0000,9,    294.2,2,   -999.0,9,    11.87,2,    14.23,2,     0.00,2,     1.02,2,        0,2,   -999.0,9,   -999.0,9,  -999.00,9,  -999.00,  -999.00,9,  -999.00,  -999.00,9,  -999.00,  -999.00,9,        -999,         -999,9,  -999.00,  -999.00,9,       -999,9,        -999,9,   -999.0,9,   -999.0,9,   -999.0,9,     0.04,2,      -999,9,  -999.00,9,  -999.00,9,  -1.6450
  32H120020718,    16,  8,      8,2,20020725, 72.1414,-154.2690, 1347,    175.6,  -1.5775,  33.5497,2,-999.0000,9,    293.4,2,   -999.0,9,  -999.00,9,  -999.00,9,  -999.00,9,  -999.00,9,     -999,9,   -999.0,9,   -999.0,9,  -999.00,9,  -999.00,  -999.00,9,  -999.00,  -999.00,9,  -999.00,  -999.00,9,        -999,         -999,9,  -999.00,  -999.00,9,       -999,9,        -999,9,   -999.0,9,   -999.0,9,   -999.0,9,     -999,9,      -999,9,  -999.00,9,  -999.00,9,  -1.5812
  32H120020718,    16,  2,      1,2,20020725, 72.1414,-154.2690, 1347,    203.3,  -0.6406,  34.3933,2,-999.0000,9,    272.5,2,   -999.0,9,  -999.00,9,  -999.00,9,  -999.00,9,  -999.00,9,     -999,9,   -999.0,9,   -999.0,9,  -999.00,9,  -999.00,  -999.00,9,  -999.00,  -999.00,9,  -999.00,  -999.00,9,        -999,         -999,9,  -999.00,  -999.00,9,       -999,9,        -999,9,   -999.0,9,   -999.0,9,   -999.0,9,     -999,9,      -999,9,  -999.00,9,  -999.00,9,  -0.6469
  32H120020718,    16,  5,      3,2,20020725, 72.1414,-154.2690, 1347,    202.7,  -1.1197,  34.1935,2,  34.1957,2,    289.1,2,    299.5,2,    27.29,2,    13.73,2,     0.15,2,     1.45,2,     0.12,2,   2216.2,2,   2356.4,2,  -999.00,9,  -999.00,  -999.00,9,  -999.00,  -999.00,9,  -999.00,  -999.00,9,        -999,         -999,9,  -999.00,  -999.00,9, 15.1833247,2,  3.05619873,2,     61.9,2,      4.8,2,     18.7,2,     0.02,2,      -999,9,     0.10,2,     0.15,2,  -1.1251
  32H120020718,    16,  6,      1,2,20020725, 72.1414,-154.2690, 1347,    251.1,   0.1528,  34.6362,2,-999.0000,9,    272.6,2,   -999.0,9,  -999.00,9,  -999.00,9,  -999.00,9,  -999.00,9,     -999,9,   -999.0,9,   -999.0,9,  -999.00,9,     0.85,     0.05,2,     5.98,     0.23,2,     0.88,     0.29,2, 0.143135001,  0.047711667,2,     0.76,     0.06,2,       -999,9,        -999,9,   -999.0,9,   -999.0,9,   -999.0,9,     -999,9,      -999,9,  -999.00,9,  -999.00,9,   0.1431
  32H120020718,    16,  6,      2,2,20020725, 72.1414,-154.2690, 1347,    251.2,   0.1382,  34.6373,2,-999.0000,9,    273.3,2,   -999.0,9,  -999.00,9,  -999.00,9,  -999.00,9,  -999.00,9,     -999,9,   -999.0,9,   -999.0,9,  -999.00,9,     0.85,     0.05,2,     5.98,     0.23,2,     0.88,     0.29,2, 0.143134841, 0.0477116137,2,     0.76,     0.06,2,       -999,9,        -999,9,   -999.0,9,   -999.0,9,   -999.0,9,     -999,9,      -999,9,  -999.00,9,  -999.00,9,   0.1285
  32H120020718,    16,  6,      3,2,20020725, 72.1414,-154.2690, 1347,    251.3,   0.1607,  34.6401,2,-999.0000,9,    272.9,2,   -999.0,9,  -999.00,9,  -999.00,9,  -999.00,9,  -999.00,9,     -999,9,   -999.0,9,   -999.0,9,  -999.00,9,     0.85,     0.05,2,     5.98,     0.23,2,     0.88,     0.29,2, 0.143134489, 0.0477114965,2,     0.76,     0.06,2,       -999,9,        -999,9,   -999.0,9,   -999.0,9,   -999.0,9,     -999,9,      -999,9,  -999.00,9,  -999.00,9,   0.1510
  32H120020718,    16,  6,      4,2,20020725, 72.1414,-154.2690, 1347,    251.4,   0.1510,  34.6396,2,-999.0000,9,    273.2,2,   -999.0,9,  -999.00,9,  -999.00,9,  -999.00,9,  -999.00,9,     -999,9,   -999.0,9,   -999.0,9,  -999.00,9,     0.85,     0.05,2,     5.98,     0.23,2,     0.88,     0.29,2, 0.143056813, 0.0476856044,2,     0.76,     0.06,2,       -999,9,        -999,9,   -999.0,9,   -999.0,9,   -999.0,9,     -999,9,      -999,9,  -999.00,9,  -999.00,9,   0.1413
  32H120020718,    16,  6,      5,2,20020725, 72.1414,-154.2690, 1347,    251.6,   0.1440,  34.6392,2,-999.0000,9,    273.4,2,   -999.0,9,  -999.00,9,  -999.00,9,  -999.00,9,  -999.00,9,     -999,9,   -999.0,9,   -999.0,9,  -999.00,9,     0.85,     0.05,2,     5.98,     0.23,2,     0.88,     0.29,2, 0.143056813, 0.0476856044,2,     0.76,     0.06,2,       -999,9,        -999,9,   -999.0,9,   -999.0,9,   -999.0,9,     -999,9,      -999,9,  -999.00,9,  -999.00,9,   0.1343
  32H120020718,    16,  6,      6,2,20020725, 72.1414,-154.2690, 1347,    251.7,   0.1606,  34.6399,2,-999.0000,9,    273.1,2,   -999.0,9,    11.66,2,    12.86,2,     0.01,2,     0.97,2,     0.01,2,   -999.0,9,   -999.0,9,  -999.00,9,     0.85,     0.05,2,     5.98,     0.23,2,     0.88,     0.29,2, 0.143056472, 0.0476854908,2,     0.76,     0.06,2,       -999,9,        -999,9,   -999.0,9,   -999.0,9,   -999.0,9,     0.01,2,      -999,9,  -999.00,9,  -999.00,9,   0.1508
  32H120020718,    16,  6,      7,2,20020725, 72.1414,-154.2690, 1347,    251.9,   0.1433,  34.6391,2,-999.0000,9,    273.3,2,   -999.0,9,  -999.00,9,  -999.00,9,  -999.00,9,  -999.00,9,     -999,9,   -999.0,9,   -999.0,9,  -999.00,9,     0.85,     0.05,2,     5.98,     0.23,2,     0.88,     0.29,2, 0.143056824,  0.047685608,2,     0.76,     0.06,2,       -999,9,        -999,9,   -999.0,9,   -999.0,9,   -999.0,9,     -999,9,      -999,9,  -999.00,9,  -999.00,9,   0.1336
  32H120020718,    16,  6,      8,2,20020725, 72.1414,-154.2690, 1347,    252.0,   0.1173,  34.6382,2,-999.0000,9,    274.0,2,   -999.0,9,  -999.00,9,  -999.00,9,  -999.00,9,  -999.00,9,     -999,9,   -999.0,9,   -999.0,9,  -999.00,9,     0.85,     0.05,2,     5.98,     0.23,2,     0.88,     0.29,2, 0.143057314, 0.0476857713,2,     0.76,     0.06,2,       -999,9,        -999,9,   -999.0,9,   -999.0,9,   -999.0,9,     -999,9,      -999,9,  -999.00,9,  -999.00,9,   0.1076
  32H120020718,    16,  6,      9,2,20020725, 72.1414,-154.2690, 1347,    252.1,   0.0825,  34.6365,2,-999.0000,9,    274.5,2,   -999.0,9,  -999.00,9,  -999.00,9,  -999.00,9,  -999.00,9,     -999,9,   -999.0,9,   -999.0,9,  -999.00,9,     0.85,     0.05,2,     5.98,     0.23,2,     0.88,     0.29,2, 0.143058251, 0.0476860838,2,     0.76,     0.06,2,       -999,9,        -999,9,   -999.0,9,   -999.0,9,   -999.0,9,     -999,9,      -999,9,  -999.00,9,  -999.00,9,   0.0729
  32H120020718,    16,  6,     10,2,20020725, 72.1414,-154.2690, 1347,    252.3,   0.0736,  34.6362,2,-999.0000,9,    275.6,2,   -999.0,9,  -999.00,9,  -999.00,9,  -999.00,9,  -999.00,9,     -999,9,   -999.0,9,   -999.0,9,  -999.00,9,     0.85,     0.05,2,     5.99,     0.23,2,     0.88,     0.29,2, 0.143313421, 0.0477711402,2,     0.76,     0.06,2,       -999,9,        -999,9,   -999.0,9,   -999.0,9,   -999.0,9,     -999,9,      -999,9,  -999.00,9,  -999.00,9,   0.0640
  32H120020718,    16,  6,     11,2,20020725, 72.1414,-154.2690, 1347,    252.4,   0.0761,  34.6356,2,-999.0000,9,    275.4,2,   -999.0,9,  -999.00,9,  -999.00,9,  -999.00,9,  -999.00,9,     -999,9,   -999.0,9,   -999.0,9,  -999.00,9,     0.85,     0.05,2,     5.98,     0.23,2,     0.88,     0.29,2, 0.143146909, 0.0477156364,2,     0.76,     0.06,2,       -999,9,        -999,9,   -999.0,9,   -999.0,9,   -999.0,9,     -999,9,      -999,9,  -999.00,9,  -999.00,9,   0.0665
  32H120020718,    16,  6,     12,2,20020725, 72.1414,-154.2690, 1347,    252.5,   0.0877,  34.6357,2,-999.0000,9,    275.4,2,   -999.0,9,  -999.00,9,  -999.00,9,  -999.00,9,  -999.00,9,     -999,9,   -999.0,9,   -999.0,9,  -999.00,9,     0.85,     0.05,2,     5.98,     0.23,2,     0.88,     0.29,2, 0.143033262, 0.0476777541,2,     0.76,     0.06,2,       -999,9,        -999,9,   -999.0,9,   -999.0,9,   -999.0,9,     -999,9,      -999,9,  -999.00,9,  -999.00,9,   0.0781
  32H120020718,    16,  5,      2,2,20020725, 72.1414,-154.2690, 1347,    254.2,   0.1274,  34.6352,2,  34.6403,2,    271.3,2,    277.3,2,    12.05,2,    12.92,2,     0.01,2,     0.98,2,     0.02,2,   2166.4,2,   2347.7,2,  -999.00,9,  -999.00,  -999.00,9,  -999.00,  -999.00,9,  -999.00,  -999.00,9,        -999,         -999,9,  -999.00,  -999.00,9, 8.16992684,2,  1.67888529,2,     55.6,2,      4.1,2,     17.1,2,     0.03,2,      -999,9,     0.07,2,     0.11,2,   0.1176
  32H120020718,    16,  5,      1,2,20020725, 72.1414,-154.2690, 1347,    304.6,   0.6253,  34.7675,2,-999.0000,9,    282.2,2,   -999.0,9,  -999.00,9,  -999.00,9,  -999.00,9,  -999.00,9,     -999,9,   -999.0,9,   -999.0,9,  -999.00,9,  -999.00,  -999.00,9,  -999.00,  -999.00,9,  -999.00,  -999.00,9,        -999,         -999,9,  -999.00,  -999.00,9,       -999,9,        -999,9,   -999.0,9,   -999.0,9,   -999.0,9,     -999,9,      -999,9,  -999.00,9,  -999.00,9,   0.6121