BOTTLE,20090202PRINUNIVRMK
EXPOCODE,STNNBR,CASTNO,BTLNBR,BTLNBR_FLAG_W,DATE,LATITUDE,LONGITUDE,DEPTH,CTDPRS,CTDTMP,CTDSAL,CTDSAL_FLAG_W,SALNTY,SALNTY_FLAG_W,CTDOXY,CTDOXY_FLAG_W,OXYGEN,OXYGEN_FLAG_W,SILCAT,SILCAT_FLAG_W,NITRAT,NITRAT_FLAG_W,NITRIT,NITRIT_FLAG_W,PHSPHT,PHSPHT_FLAG_W,AMMONI,AMMONI_FLAG_W,TCARBN,TCARBN_FLAG_W,ALKALI,ALKALI_FLAG_W,DELO18,DELO18_FLAG_W,RA-224,RA-224E,RA-224_FLAG_W,RA-226,RA-226E,RA-226_FLAG_W,RA-228,RA-228E,RA-228_FLAG_W,RA-8/6,RA-8/6E,RA-8/6_FLAG_W,TH-228,TH-228E,TH-228_FLAG_W,POC,POC_FLAG_W,PON,PON_FLAG_W,DOC,DOC_FLAG_W,DON,DON_FLAG_W,TDN,TDN_FLAG_W,UREA,UREA_FLAG_W,LIGNIN,LIGNIN_FLAG_W,CHLORA,CHLORA_FLAG_W,PHAEO,PHAEO_FLAG_W,THETA
,,,,,,,,METERS,DBARS,ITS-90,PSS-78,,PSS-78,,UMOL/KG,,UMOL/KG,,UMOL/KG,,UMOL/KG,,UMOL/KG,,UMOL/KG,,UMOL/KG,,UMOL/KG,,UMOL/KG,,O/OO,,DPM/100KG,DPM/100KG,,DPM/100KG,DPM/100KG,,DPM/100KG,DPM/100KG,,,,,DPM/100KG,DPM/100KG,,ug/kg,,ug/kg,,UMOL/KG,,UMOL/KG,,UMOL/KG,,UMOL/KG,,NG/KG,,UG/L,,UG/L,,DEGC
  32H120020718,    28,  6,     10,2,20020808, 72.8364,-158.2590,  545,      9.2,  -0.8811,  28.0162,2,-999.0000,9,    378.0,2,    385.9,2,     3.64,2,     0.00,2,     0.00,2,     0.66,2,        0,2,   -999.0,9,   -999.0,9,  -999.00,9,  -999.00,  -999.00,9,  -999.00,  -999.00,9,  -999.00,  -999.00,9,        -999,         -999,9,  -999.00,  -999.00,9,       -999,9,        -999,9,   -999.0,9,   -999.0,9,   -999.0,9,        0,2,      -999,9,     0.16,2,     0.13,2,  -0.8812
  32H120020718,    28,  2,     11,2,20020808, 72.8364,-158.2590,  545,     11.4,  -0.8514,  28.2851,2,  27.7169,2,    380.6,2,    388.4,2,     3.77,2,     0.00,2,     0.00,2,     0.66,2,     0.02,2,   1869.5,2,   2022.7,2,  -999.00,9,  -999.00,  -999.00,9,  -999.00,  -999.00,9,  -999.00,  -999.00,9,        -999,         -999,9,  -999.00,  -999.00,9,  55.503373,2,  11.0967527,2,     60.9,2,      3.2,2,      3.2,2,     0.02,2,      -999,9,     0.19,2,     0.15,2,  -0.8516
  32H120020718,    28,  6,      9,2,20020808, 72.8364,-158.2590,  545,     15.2,  -1.1436,  29.3492,2,-999.0000,9,    391.0,2,    405.4,2,     5.15,2,     0.06,2,     0.00,2,     0.73,2,        0,2,   -999.0,9,   -999.0,9,  -999.00,9,  -999.00,  -999.00,9,  -999.00,  -999.00,9,  -999.00,  -999.00,9,        -999,         -999,9,  -999.00,  -999.00,9,       -999,9,        -999,9,   -999.0,9,   -999.0,9,   -999.0,9,        0,2,      -999,9,     0.40,2,     0.33,2,  -1.1438
  32H120020718,    28,  2,     10,2,20020808, 72.8364,-158.2590,  545,     21.3,  -1.3076,  30.1950,2,  30.1423,2,    397.7,2,    405.5,2,     5.38,2,     0.06,2,     0.00,2,     0.75,2,        0,2,   2008.1,2,   2170.1,2,  -999.00,9,  -999.00,  -999.00,9,  -999.00,  -999.00,9,  -999.00,  -999.00,9,        -999,         -999,9,  -999.00,  -999.00,9, 79.0941783,2,  16.0715042,2,     67.4,2,      4.5,2,      4.6,2,        0,2,      -999,9,     0.67,2,     0.42,2,  -1.3079
  32H120020718,    28,  6,      7,2,20020808, 72.8364,-158.2590,  545,     23.3,  -1.3765,  30.3628,2,-999.0000,9,    394.4,2,   -999.0,9,  -999.00,9,  -999.00,9,  -999.00,9,  -999.00,9,     -999,9,   -999.0,9,   -999.0,9,  -999.00,9,  -999.00,  -999.00,9,  -999.00,  -999.00,9,  -999.00,  -999.00,9,        -999,         -999,9,  -999.00,  -999.00,9,       -999,9,        -999,9,   -999.0,9,   -999.0,9,   -999.0,9,     -999,9,      -999,9,  -999.00,9,  -999.00,9,  -1.3769
  32H120020718,    28,  6,      8,2,20020808, 72.8364,-158.2590,  545,     23.3,  -1.3784,  30.3630,2,-999.0000,9,    394.7,2,   -999.0,5,     6.28,2,     0.18,2,     0.03,2,     0.78,2,     0.03,2,   -999.0,9,   -999.0,9,  -999.00,9,  -999.00,  -999.00,9,  -999.00,  -999.00,9,  -999.00,  -999.00,9,        -999,         -999,9,  -999.00,  -999.00,9,       -999,9,        -999,9,   -999.0,9,   -999.0,9,   -999.0,9,        0,2,      -999,9,     1.19,2,     0.82,2,  -1.3788
  32H120020718,    28,  3,     12,2,20020808, 72.8364,-158.2590,  545,     31.8,  -1.5403,  30.9381,2,-999.0000,9,    378.1,2,   -999.0,9,  -999.00,9,  -999.00,9,  -999.00,9,  -999.00,9,     -999,9,   -999.0,9,   -999.0,9,  -999.00,9,  -999.00,  -999.00,9,  -999.00,  -999.00,9,  -999.00,  -999.00,9,        -999,         -999,9,  -999.00,  -999.00,9,       -999,9,        -999,9,   -999.0,9,   -999.0,9,   -999.0,9,     -999,9,      -999,9,  -999.00,9,  -999.00,9,  -1.5408
  32H120020718,    28,  2,      9,2,20020808, 72.8364,-158.2590,  545,     31.8,  -1.4462,  30.8585,2,  30.8436,2,    384.0,2,    392.6,2,     8.33,2,     1.38,2,     0.11,2,     0.91,2,     0.19,2,   -999.0,9,   -999.0,9,  -999.00,9,  -999.00,  -999.00,9,  -999.00,  -999.00,9,  -999.00,  -999.00,9,        -999,         -999,9,  -999.00,  -999.00,9,       -999,9,        -999,9,     73.3,2,      4.6,2,      6.3,2,     0.02,2,      -999,9,     1.38,2,     0.92,2,  -1.4467
  32H120020718,    28,  6,      6,2,20020808, 72.8364,-158.2590,  545,     36.1,  -1.2892,  31.2644,2,-999.0000,9,    371.4,2,    378.8,2,    11.18,2,     2.57,2,     0.17,2,     1.03,2,     0.19,2,   -999.0,9,   -999.0,9,  -999.00,9,  -999.00,  -999.00,9,  -999.00,  -999.00,9,  -999.00,  -999.00,9,        -999,         -999,9,  -999.00,  -999.00,9,       -999,9,        -999,9,   -999.0,9,   -999.0,9,   -999.0,9,        0,2,      -999,9,     1.00,2,     0.70,2,  -1.2898
  32H120020718,    28,  2,      8,2,20020808, 72.8364,-158.2590,  545,     46.8,  -1.3957,  31.8513,2,  31.8231,2,    340.9,2,    364.3,2,    15.33,2,     4.89,2,     0.18,2,     1.16,2,     0.37,2,   2109.1,2,   2249.7,2,  -999.00,9,  -999.00,  -999.00,9,  -999.00,  -999.00,9,  -999.00,  -999.00,9,        -999,         -999,9,  -999.00,  -999.00,9, 22.3994981,2,  4.49948024,2,     69.6,2,      3.8,2,      9.3,2,     0.08,2,      -999,9,     0.38,2,     0.41,2,  -1.3965
  32H120020718,    28,  6,      4,2,20020808, 72.8364,-158.2590,  545,     55.3,  -1.4645,  32.1062,2,-999.0000,9,    356.1,2,   -999.0,9,  -999.00,9,  -999.00,9,  -999.00,9,  -999.00,9,     -999,9,   -999.0,9,   -999.0,9,  -999.00,9,  -999.00,  -999.00,9,  -999.00,  -999.00,9,  -999.00,  -999.00,9,        -999,         -999,9,  -999.00,  -999.00,9,       -999,9,        -999,9,   -999.0,9,   -999.0,9,   -999.0,9,     -999,9,      -999,9,  -999.00,9,  -999.00,9,  -1.4655
  32H120020718,    28,  6,      5,2,20020808, 72.8364,-158.2590,  545,     55.3,  -1.4646,  32.1067,2,-999.0000,9,    356.2,2,    348.3,2,    20.66,2,     6.83,2,     0.12,2,     1.31,2,     0.65,2,   -999.0,9,   -999.0,9,  -999.00,9,  -999.00,  -999.00,9,  -999.00,  -999.00,9,  -999.00,  -999.00,9,        -999,         -999,9,  -999.00,  -999.00,9,       -999,9,        -999,9,   -999.0,9,   -999.0,9,   -999.0,9,     0.01,2,      -999,9,     0.07,2,     0.13,2,  -1.4656
  32H120020718,    28,  5,      2,2,20020808, 72.8364,-158.2590,  545,     56.5,  -1.4654,  32.1257,2,-999.0000,9,    346.1,2,   -999.0,9,  -999.00,9,  -999.00,9,  -999.00,9,  -999.00,9,     -999,9,   -999.0,9,   -999.0,9,  -999.00,9,     1.62,     0.09,2,     9.12,     0.11,2,     8.15,     0.63,2, 0.850567468, 0.0668985649,2,     0.31,     0.30,2,       -999,9,        -999,9,   -999.0,9,   -999.0,9,   -999.0,9,     -999,9,      -999,9,  -999.00,9,  -999.00,9,  -1.4664
  32H120020718,    28,  5,      1,2,20020808, 72.8364,-158.2590,  545,     56.5,  -1.4659,  32.1249,2,-999.0000,9,    347.5,2,   -999.0,9,  -999.00,9,  -999.00,9,  -999.00,9,  -999.00,9,     -999,9,   -999.0,9,   -999.0,9,  -999.00,9,     1.62,     0.09,2,     9.12,     0.11,2,     8.15,     0.63,2, 0.850559867, 0.0668979671,2,     0.31,     0.30,2,       -999,9,        -999,9,   -999.0,9,   -999.0,9,   -999.0,9,     -999,9,      -999,9,  -999.00,9,  -999.00,9,  -1.4669
  32H120020718,    28,  5,      3,2,20020808, 72.8364,-158.2590,  545,     56.5,  -1.4667,  32.1251,2,-999.0000,9,    344.2,2,   -999.0,9,  -999.00,9,  -999.00,9,  -999.00,9,  -999.00,9,     -999,9,   -999.0,9,   -999.0,9,  -999.00,9,     1.62,     0.09,2,     9.12,     0.11,2,     8.15,     0.63,2, 0.850557143, 0.0668977529,2,     0.31,     0.30,2,       -999,9,        -999,9,   -999.0,9,   -999.0,9,   -999.0,9,     -999,9,      -999,9,  -999.00,9,  -999.00,9,  -1.4677
  32H120020718,    28,  5,      6,2,20020808, 72.8364,-158.2590,  545,     56.5,  -1.4703,  32.1233,2,-999.0000,9,    349.1,2,   -999.0,9,  -999.00,9,  -999.00,9,  -999.00,9,  -999.00,9,     -999,9,   -999.0,9,   -999.0,9,  -999.00,9,     1.62,     0.09,2,     9.12,     0.11,2,     8.15,     0.63,2, 0.850557397, 0.0668977728,2,     0.31,     0.30,2,       -999,9,        -999,9,   -999.0,9,   -999.0,9,   -999.0,9,     -999,9,      -999,9,  -999.00,9,  -999.00,9,  -1.4713
  32H120020718,    28,  5,      5,2,20020808, 72.8364,-158.2590,  545,     56.5,  -1.4708,  32.1229,2,-999.0000,9,    351.1,2,   -999.0,9,  -999.00,9,  -999.00,9,  -999.00,9,  -999.00,9,     -999,9,   -999.0,9,   -999.0,9,  -999.00,9,     1.61,     0.09,2,     9.11,     0.11,2,     8.14,     0.63,2, 0.849600753, 0.0668225311,2,     0.31,     0.30,2,       -999,9,        -999,9,   -999.0,9,   -999.0,9,   -999.0,9,     -999,9,      -999,9,  -999.00,9,  -999.00,9,  -1.4718
  32H120020718,    28,  5,      4,2,20020808, 72.8364,-158.2590,  545,     56.5,  -1.4719,  32.1223,2,-999.0000,9,    347.0,2,   -999.0,9,  -999.00,9,  -999.00,9,  -999.00,9,  -999.00,9,     -999,9,   -999.0,9,   -999.0,9,  -999.00,9,     1.61,     0.09,2,     9.11,     0.11,2,     8.14,     0.63,2, 0.849601132,  0.066822561,2,     0.31,     0.30,2,       -999,9,        -999,9,   -999.0,9,   -999.0,9,   -999.0,9,     -999,9,      -999,9,  -999.00,9,  -999.00,9,  -1.4729
  32H120020718,    28,  5,      7,2,20020808, 72.8364,-158.2590,  545,     56.5,  -1.4733,  32.1216,2,-999.0000,9,    352.7,2,   -999.0,9,    20.79,2,     6.02,2,     0.13,2,     1.27,2,     1.01,2,   -999.0,9,   -999.0,9,  -999.00,9,     1.61,     0.09,2,     9.11,     0.11,2,     8.14,     0.63,2, 0.849601765, 0.0668226107,2,     0.31,     0.30,2,       -999,9,        -999,9,   -999.0,9,   -999.0,9,   -999.0,9,     0.01,2,      -999,9,  -999.00,9,  -999.00,9,  -1.4743
  32H120020718,    28,  5,     12,2,20020808, 72.8364,-158.2590,  545,     56.5,  -1.4734,  32.1218,2,-999.0000,9,    354.1,2,   -999.0,9,  -999.00,9,  -999.00,9,  -999.00,9,  -999.00,9,     -999,9,   -999.0,9,   -999.0,9,  -999.00,9,     1.61,     0.09,2,     9.11,     0.11,2,     8.14,     0.63,2, 0.849601892, 0.0668226207,2,     0.31,     0.30,2,       -999,9,        -999,9,   -999.0,9,   -999.0,9,   -999.0,9,     -999,9,      -999,9,  -999.00,9,  -999.00,9,  -1.4744
  32H120020718,    28,  5,     11,2,20020808, 72.8364,-158.2590,  545,     56.5,  -1.4762,  32.1208,2,-999.0000,9,    355.4,2,   -999.0,9,  -999.00,9,  -999.00,9,  -999.00,9,  -999.00,9,     -999,9,   -999.0,9,   -999.0,9,  -999.00,9,     1.61,     0.09,2,     9.11,     0.11,2,     8.14,     0.63,2, 0.849602904, 0.0668227003,2,     0.31,     0.30,2,       -999,9,        -999,9,   -999.0,9,   -999.0,9,   -999.0,9,     -999,9,      -999,9,  -999.00,9,  -999.00,9,  -1.4772
  32H120020718,    28,  5,      8,2,20020808, 72.8364,-158.2590,  545,     56.5,  -1.4769,  32.1206,2,-999.0000,9,    354.1,2,   -999.0,9,  -999.00,9,  -999.00,9,  -999.00,9,  -999.00,9,     -999,9,   -999.0,9,   -999.0,9,  -999.00,9,     1.61,     0.09,2,     9.11,     0.11,2,     8.14,     0.63,2, 0.849603979, 0.0668227849,2,     0.31,     0.30,2,       -999,9,        -999,9,   -999.0,9,   -999.0,9,   -999.0,9,     -999,9,      -999,9,  -999.00,9,  -999.00,9,  -1.4779
  32H120020718,    28,  5,      9,2,20020808, 72.8364,-158.2590,  545,     56.5,  -1.4775,  32.1205,2,-999.0000,9,    354.3,2,   -999.0,9,  -999.00,9,  -999.00,9,  -999.00,9,  -999.00,9,     -999,9,   -999.0,9,   -999.0,9,  -999.00,9,     1.62,     0.09,2,     9.12,     0.11,2,     8.16,     0.63,2,  0.85114553, 0.0669440305,2,     0.31,     0.30,2,       -999,9,        -999,9,   -999.0,9,   -999.0,9,   -999.0,9,     -999,9,      -999,9,  -999.00,9,  -999.00,9,  -1.4785
  32H120020718,    28,  5,     10,2,20020808, 72.8364,-158.2590,  545,     56.5,  -1.4777,  32.1201,2,-999.0000,9,    354.9,2,   -999.0,9,  -999.00,9,  -999.00,9,  -999.00,9,  -999.00,9,     -999,9,   -999.0,9,   -999.0,9,  -999.00,9,     1.62,     0.09,2,     9.12,     0.11,2,     8.16,     0.63,2, 0.851146291, 0.0669440903,2,     0.31,     0.30,2,       -999,9,        -999,9,   -999.0,9,   -999.0,9,   -999.0,9,     -999,9,      -999,9,  -999.00,9,  -999.00,9,  -1.4787
  32H120020718,    28,  2,      7,2,20020808, 72.8364,-158.2590,  545,     61.6,  -1.5388,  32.2294,2,  32.2078,2,    321.9,2,    333.6,2,    23.89,2,     8.09,2,     0.11,2,     1.43,2,     0.69,2,   -999.0,9,   2261.6,2,  -999.00,9,  -999.00,  -999.00,9,  -999.00,  -999.00,9,  -999.00,  -999.00,9,        -999,         -999,9,  -999.00,  -999.00,9,       -999,9,        -999,9,   -999.0,9,   -999.0,9,   -999.0,9,     0.02,2,      -999,9,     0.09,2,     0.15,2,  -1.5399
  32H120020718,    28,  2,      6,2,20020808, 72.8364,-158.2590,  545,     75.8,  -1.5432,  32.4629,2,  32.4450,2,    306.0,2,    309.8,2,    23.50,2,    10.72,2,     0.03,2,     1.56,2,     0.02,2,   2165.1,2,   2279.2,2,  -999.00,9,  -999.00,  -999.00,9,  -999.00,  -999.00,9,  -999.00,  -999.00,9,        -999,         -999,9,  -999.00,  -999.00,9,-5.43597548,2,-0.215092611,2,     66.0,2,      5.0,2,     15.8,2,        0,2,      -999,9,     0.04,2,     0.05,2,  -1.5446
  32H120020718,    28,  2,      5,2,20020808, 72.8364,-158.2590,  545,     91.1,  -1.5024,  32.6945,2,  32.6880,2,    288.3,2,    296.6,2,    28.23,2,    12.89,2,     0.02,2,     1.69,2,        0,2,   -999.0,9,   -999.0,9,  -999.00,9,  -999.00,  -999.00,9,  -999.00,  -999.00,9,  -999.00,  -999.00,9,        -999,         -999,9,  -999.00,  -999.00,9,       -999,9,        -999,9,   -999.0,9,   -999.0,9,   -999.0,9,        0,2,      -999,9,     0.03,2,     0.03,2,  -1.5042
  32H120020718,    28,  6,      3,2,20020808, 72.8364,-158.2590,  545,    101.1,  -1.5495,  32.8525,2,-999.0000,9,    285.2,2,   -999.0,9,  -999.00,9,  -999.00,9,  -999.00,9,  -999.00,9,     -999,9,   -999.0,9,   -999.0,9,  -999.00,9,  -999.00,  -999.00,9,  -999.00,  -999.00,9,  -999.00,  -999.00,9,        -999,         -999,9,  -999.00,  -999.00,9,       -999,9,        -999,9,   -999.0,9,   -999.0,9,   -999.0,9,     -999,9,      -999,9,  -999.00,9,  -999.00,9,  -1.5514
  32H120020718,    28,  2,      4,2,20020808, 72.8364,-158.2590,  545,    106.8,  -1.5518,  32.8817,2,  32.8834,2,    284.4,2,    292.6,2,    32.00,2,    14.07,2,     0.03,2,     1.76,2,        0,2,   2192.6,2,   2297.4,2,  -999.00,9,  -999.00,  -999.00,9,  -999.00,  -999.00,9,  -999.00,  -999.00,9,        -999,         -999,9,  -999.00,  -999.00,9,  9.4218897,2,  1.48560942,2,     64.0,2,      5.9,2,     20.0,2,        0,2,      -999,9,     0.01,2,     0.03,2,  -1.5539
  32H120020718,    28,  3,      7,2,20020808, 72.8364,-158.2590,  545,    118.2,  -1.5471,  33.0096,2,-999.0000,9,    280.2,2,   -999.0,9,  -999.00,9,  -999.00,9,  -999.00,9,  -999.00,9,     -999,9,   -999.0,9,   -999.0,9,  -999.00,9,  -999.00,  -999.00,9,  -999.00,  -999.00,9,  -999.00,  -999.00,9,        -999,         -999,9,  -999.00,  -999.00,9,       -999,9,        -999,9,   -999.0,9,   -999.0,9,   -999.0,9,     -999,9,      -999,9,  -999.00,9,  -999.00,9,  -1.5494
  32H120020718,    28,  3,      6,2,20020808, 72.8364,-158.2590,  545,    118.2,  -1.5540,  33.0178,2,-999.0000,9,    281.5,2,   -999.0,9,  -999.00,9,  -999.00,9,  -999.00,9,  -999.00,9,     -999,9,   -999.0,9,   -999.0,9,  -999.00,9,  -999.00,  -999.00,9,  -999.00,  -999.00,9,  -999.00,  -999.00,9,        -999,         -999,9,  -999.00,  -999.00,9,       -999,9,        -999,9,   -999.0,9,   -999.0,9,   -999.0,9,     -999,9,      -999,9,  -999.00,9,  -999.00,9,  -1.5563
  32H120020718,    28,  3,      8,2,20020808, 72.8364,-158.2590,  545,    118.3,  -1.5467,  33.0047,2,-999.0000,9,    279.7,2,   -999.0,9,  -999.00,9,  -999.00,9,  -999.00,9,  -999.00,9,     -999,9,   -999.0,9,   -999.0,9,  -999.00,9,  -999.00,  -999.00,9,  -999.00,  -999.00,9,  -999.00,  -999.00,9,        -999,         -999,9,  -999.00,  -999.00,9,       -999,9,        -999,9,   -999.0,9,   -999.0,9,   -999.0,9,     -999,9,      -999,9,  -999.00,9,  -999.00,9,  -1.5490
  32H120020718,    28,  3,      9,2,20020808, 72.8364,-158.2590,  545,    118.3,  -1.5467,  33.0081,2,-999.0000,9,    279.7,2,   -999.0,9,  -999.00,9,  -999.00,9,  -999.00,9,  -999.00,9,     -999,9,   -999.0,9,   -999.0,9,  -999.00,9,  -999.00,  -999.00,9,  -999.00,  -999.00,9,  -999.00,  -999.00,9,        -999,         -999,9,  -999.00,  -999.00,9,       -999,9,        -999,9,   -999.0,9,   -999.0,9,   -999.0,9,     -999,9,      -999,9,  -999.00,9,  -999.00,9,  -1.5490
  32H120020718,    28,  3,     10,2,20020808, 72.8364,-158.2590,  545,    118.3,  -1.5505,  33.0136,2,-999.0000,9,    280.0,2,   -999.0,9,  -999.00,9,  -999.00,9,  -999.00,9,  -999.00,9,     -999,9,   -999.0,9,   -999.0,9,  -999.00,9,  -999.00,  -999.00,9,  -999.00,  -999.00,9,  -999.00,  -999.00,9,        -999,         -999,9,  -999.00,  -999.00,9,       -999,9,        -999,9,   -999.0,9,   -999.0,9,   -999.0,9,     -999,9,      -999,9,  -999.00,9,  -999.00,9,  -1.5528
  32H120020718,    28,  3,     11,2,20020808, 72.8364,-158.2590,  545,    118.3,  -1.5657,  33.0200,2,-999.0000,9,    282.1,2,   -999.0,9,  -999.00,9,  -999.00,9,  -999.00,9,  -999.00,9,     -999,9,   -999.0,9,   -999.0,9,  -999.00,9,  -999.00,  -999.00,9,  -999.00,  -999.00,9,  -999.00,  -999.00,9,        -999,         -999,9,  -999.00,  -999.00,9,       -999,9,        -999,9,   -999.0,9,   -999.0,9,   -999.0,9,     -999,9,      -999,9,  -999.00,9,  -999.00,9,  -1.5680
  32H120020718,    28,  2,      3,2,20020808, 72.8364,-158.2590,  545,    121.5,  -1.5983,  33.0936,2,  33.0795,2,    288.8,2,    296.4,2,    35.20,2,    14.19,2,     0.11,2,     1.77,2,     0.19,2,   -999.0,9,   -999.0,9,  -999.00,9,  -999.00,  -999.00,9,  -999.00,  -999.00,9,  -999.00,  -999.00,9,        -999,         -999,9,  -999.00,  -999.00,9,       -999,9,        -999,9,   -999.0,9,   -999.0,9,   -999.0,9,     0.01,2,      -999,9,     0.01,2,     0.04,2,  -1.6007