BOTTLE,20090202PRINUNIVRMK
EXPOCODE,STNNBR,CASTNO,BTLNBR,BTLNBR_FLAG_W,DATE,LATITUDE,LONGITUDE,DEPTH,CTDPRS,CTDTMP,CTDSAL,CTDSAL_FLAG_W,SALNTY,SALNTY_FLAG_W,CTDOXY,CTDOXY_FLAG_W,OXYGEN,OXYGEN_FLAG_W,SILCAT,SILCAT_FLAG_W,NITRAT,NITRAT_FLAG_W,NITRIT,NITRIT_FLAG_W,PHSPHT,PHSPHT_FLAG_W,AMMONI,AMMONI_FLAG_W,TCARBN,TCARBN_FLAG_W,ALKALI,ALKALI_FLAG_W,DELO18,DELO18_FLAG_W,RA-224,RA-224E,RA-224_FLAG_W,RA-226,RA-226E,RA-226_FLAG_W,RA-228,RA-228E,RA-228_FLAG_W,RA-8/6,RA-8/6E,RA-8/6_FLAG_W,TH-228,TH-228E,TH-228_FLAG_W,POC,POC_FLAG_W,PON,PON_FLAG_W,DOC,DOC_FLAG_W,DON,DON_FLAG_W,TDN,TDN_FLAG_W,UREA,UREA_FLAG_W,LIGNIN,LIGNIN_FLAG_W,CHLORA,CHLORA_FLAG_W,PHAEO,PHAEO_FLAG_W,THETA
,,,,,,,,METERS,DBARS,ITS-90,PSS-78,,PSS-78,,UMOL/KG,,UMOL/KG,,UMOL/KG,,UMOL/KG,,UMOL/KG,,UMOL/KG,,UMOL/KG,,UMOL/KG,,UMOL/KG,,O/OO,,DPM/100KG,DPM/100KG,,DPM/100KG,DPM/100KG,,DPM/100KG,DPM/100KG,,,,,DPM/100KG,DPM/100KG,,ug/kg,,ug/kg,,UMOL/KG,,UMOL/KG,,UMOL/KG,,UMOL/KG,,NG/KG,,UG/L,,UG/L,,DEGC
  32H120020718,    12,  1,      6,2,20020721, 71.3790,-157.7450,  119,     56.2,  -1.7470,  33.0384,2,  33.0071,2,    290.6,2,    291.1,2,    49.58,2,    13.85,2,     0.24,2,     2.02,2,     2.52,2,   2206.0,2,   2300.8,2,  -999.00,9,  -999.00,  -999.00,9,  -999.00,  -999.00,9,  -999.00,  -999.00,9,        -999,         -999,9,  -999.00,  -999.00,9, 81.2904388,2,  15.0306285,2,     70.2,2,      5.4,2,     22.0,2,     0.07,2,129.496994,2,     1.91,2,     1.31,2,  -1.7480
  32H120020718,    12,  1,      5,2,20020721, 71.3790,-157.7450,  119,     66.3,  -1.7558,  33.0752,2,  33.0761,2,    294.8,2,    304.2,2,    48.55,2,    13.90,2,     0.24,2,     1.95,2,     2.52,2,   2198.3,2,   2315.4,2,  -999.00,9,  -999.00,  -999.00,9,  -999.00,  -999.00,9,  -999.00,  -999.00,9,        -999,         -999,9,  -999.00,  -999.00,9, 104.847431,2,  19.2612772,2,     69.1,2,      5.7,2,     22.3,2,     0.07,2,      -999,9,     2.89,2,     1.90,2,  -1.7570
  32H120020718,    12,  1,      4,2,20020721, 71.3790,-157.7450,  119,     76.2,  -1.7594,  33.1057,2,  33.1040,2,    294.5,2,    303.9,2,    48.75,2,    14.08,2,     0.24,2,     1.95,2,     2.55,2,   2201.9,2,   2276.1,2,  -999.00,9,  -999.00,  -999.00,9,  -999.00,  -999.00,9,  -999.00,  -999.00,9,        -999,         -999,9,  -999.00,  -999.00,9, 24.4009536,2,   4.7785647,2,     81.0,2,      3.2,2,     20.1,2,     0.05,2,      -999,9,     2.60,2,     1.70,2,  -1.7607
  32H120020718,    12,  1,      3,2,20020721, 71.3790,-157.7450,  119,     86.3,  -1.7612,  33.1310,2,  33.1351,2,    294.0,2,    324.0,4,    49.06,2,    14.23,2,     0.24,2,     1.96,2,     2.55,2,   2204.4,2,   2307.2,2,  -999.00,9,  -999.00,  -999.00,9,  -999.00,  -999.00,9,  -999.00,  -999.00,9,        -999,         -999,9,  -999.00,  -999.00,9,  107.44214,2,    19.59268,2,     70.1,2,      5.2,2,     22.2,2,     0.05,2,      -999,9,     2.58,2,     1.63,2,  -1.7627
  32H120020718,    12,  2,      5,2,20020721, 71.3790,-157.7450,  119,     91.0,  -1.7598,  33.1228,2,-999.0000,9,    294.2,2,   -999.0,9,  -999.00,9,  -999.00,9,  -999.00,9,  -999.00,9,     -999,9,   -999.0,9,   -999.0,9,  -999.00,9,     0.37,     0.04,2,     9.81,     0.55,2,     9.05,     0.70,2,  0.87852324, 0.0859424909,2,     0.45,     0.00,2,       -999,9,        -999,9,   -999.0,9,   -999.0,9,   -999.0,9,     -999,9,      -999,9,  -999.00,9,  -999.00,9,  -1.7614
  32H120020718,    12,  2,      6,2,20020721, 71.3790,-157.7450,  119,     91.0,  -1.7600,  33.1233,2,-999.0000,9,    294.4,2,   -999.0,9,  -999.00,9,  -999.00,9,  -999.00,9,  -999.00,9,     -999,9,   -999.0,9,   -999.0,9,  -999.00,9,     0.37,     0.04,2,     9.81,     0.55,2,     9.05,     0.70,2, 0.878522651, 0.0859424333,2,     0.45,     0.00,2,       -999,9,        -999,9,   -999.0,9,   -999.0,9,   -999.0,9,     -999,9,      -999,9,  -999.00,9,  -999.00,9,  -1.7616
  32H120020718,    12,  2,      7,2,20020721, 71.3790,-157.7450,  119,     91.0,  -1.7600,  33.1246,2,-999.0000,9,    294.2,2,   -999.0,9,  -999.00,9,  -999.00,9,  -999.00,9,  -999.00,9,     -999,9,   -999.0,9,   -999.0,9,  -999.00,9,     0.38,     0.04,2,     9.97,     0.56,2,     9.21,     0.71,2, 0.893322209, 0.0873902161,2,     0.46,     0.00,2,       -999,9,        -999,9,   -999.0,9,   -999.0,9,   -999.0,9,     -999,9,      -999,9,  -999.00,9,  -999.00,9,  -1.7616
  32H120020718,    12,  2,      8,2,20020721, 71.3790,-157.7450,  119,     91.0,  -1.7600,  33.1248,2,-999.0000,9,    294.2,2,   -999.0,9,  -999.00,9,  -999.00,9,  -999.00,9,  -999.00,9,     -999,9,   -999.0,9,   -999.0,9,  -999.00,9,     0.37,     0.04,2,     9.83,     0.56,2,     9.07,     0.70,2, 0.880515501, 0.0861373859,2,     0.45,     0.00,2,       -999,9,        -999,9,   -999.0,9,   -999.0,9,   -999.0,9,     -999,9,      -999,9,  -999.00,9,  -999.00,9,  -1.7616
  32H120020718,    12,  2,      2,2,20020721, 71.3790,-157.7450,  119,     91.0,  -1.7601,  33.1267,2,-999.0000,9,    294.2,2,   -999.0,9,  -999.00,9,  -999.00,9,  -999.00,9,  -999.00,9,     -999,9,   -999.0,9,   -999.0,9,  -999.00,9,     0.37,     0.04,2,     9.82,     0.55,2,     9.07,     0.70,2, 0.880019024, 0.0860888176,2,     0.45,     0.00,2,       -999,9,        -999,9,   -999.0,9,   -999.0,9,   -999.0,9,     -999,9,      -999,9,  -999.00,9,  -999.00,9,  -1.7617
  32H120020718,    12,  2,      1,2,20020721, 71.3790,-157.7450,  119,     91.0,  -1.7602,  33.1275,2,-999.0000,9,    294.2,2,   -999.0,9,    49.17,2,    13.74,2,     0.24,2,     1.97,2,     2.55,2,   -999.0,9,   -999.0,9,  -999.00,9,     0.37,     0.04,2,     9.82,     0.55,2,     9.07,     0.70,2, 0.879767091,  0.086064172,2,     0.45,     0.00,2,       -999,9,        -999,9,   -999.0,9,   -999.0,9,   -999.0,9,     0.07,2,      -999,9,  -999.00,9,  -999.00,9,  -1.7618
  32H120020718,    12,  2,      3,2,20020721, 71.3790,-157.7450,  119,     91.0,  -1.7602,  33.1280,2,-999.0000,9,    294.2,2,   -999.0,9,  -999.00,9,  -999.00,9,  -999.00,9,  -999.00,9,     -999,9,   -999.0,9,   -999.0,9,  -999.00,9,     0.37,     0.04,2,     9.82,     0.55,2,     9.06,     0.70,2, 0.879354096, 0.0860237702,2,     0.45,     0.00,2,       -999,9,        -999,9,   -999.0,9,   -999.0,9,   -999.0,9,     -999,9,      -999,9,  -999.00,9,  -999.00,9,  -1.7618
  32H120020718,    12,  2,      4,2,20020721, 71.3790,-157.7450,  119,     91.0,  -1.7603,  33.1284,2,-999.0000,9,    294.2,2,   -999.0,9,  -999.00,9,  -999.00,9,  -999.00,9,  -999.00,9,     -999,9,   -999.0,9,   -999.0,9,  -999.00,9,     0.37,     0.04,2,     9.81,     0.55,2,     9.06,     0.70,2, 0.879021617, 0.0859912452,2,     0.45,     0.00,2,       -999,9,        -999,9,   -999.0,9,   -999.0,9,   -999.0,9,     -999,9,      -999,9,  -999.00,9,  -999.00,9,  -1.7619
  32H120020718,    12,  1,      2,2,20020721, 71.3790,-157.7450,  119,    100.5,  -1.7631,  33.1791,2,  33.1786,2,    292.2,2,   -999.0,5,    49.46,2,    14.52,2,     0.24,2,     1.97,2,     2.56,2,   2208.8,2,   2293.8,2,  -999.00,9,  -999.00,  -999.00,9,  -999.00,  -999.00,9,  -999.00,  -999.00,9,        -999,         -999,9,  -999.00,  -999.00,9, 95.2729718,2,  17.0611994,2,     71.4,2,      3.5,2,     20.8,2,     0.08,2,      -999,9,     2.16,2,     1.50,2,  -1.7649
  32H120020718,    12,  1,      1,2,20020721, 71.3790,-157.7450,  119,    113.6,  -1.7634,  33.1890,2,  33.1893,2,    291.8,2,    300.4,2,    49.57,2,    14.61,2,     0.24,2,     1.98,2,     2.56,2,   2201.7,2,   2275.1,2,    -1.05,2,  -999.00,  -999.00,9,  -999.00,  -999.00,9,  -999.00,  -999.00,9,        -999,         -999,9,  -999.00,  -999.00,9, 107.046898,2,  18.6636002,2,     96.7,2,      3.4,2,     20.8,2,     0.07,2,      -999,9,     2.31,2,     1.80,2,  -1.7655
  32H120020718,    13,  1,     12,2,20020722, 71.6142,-156.0970,  167,      1.8,  -0.2464,  10.7783,2,   7.9162,2,    262.1,4,    405.3,3,     6.87,3,     0.80,3,     0.00,3,     0.27,3,     0.05,3,    526.0,2,    595.3,2,  -999.00,9,  -999.00,  -999.00,9,  -999.00,  -999.00,9,  -999.00,  -999.00,9,        -999,         -999,9,  -999.00,  -999.00,9, 327.628794,2,  55.8347921,2,   -999.0,9,      2.3,2,      3.2,2,        0,3,      -999,9,     1.19,2,     0.70,2,  -0.2464
  32H120020718,    13,  2,     11,2,20020722, 71.6142,-156.0970,  167,      2.0,  -0.6255,  16.8062,2,-999.0000,9,    423.1,2,   -999.0,9,  -999.00,9,  -999.00,9,  -999.00,9,  -999.00,9,     -999,9,   -999.0,9,   -999.0,9,  -999.00,9,  -999.00,  -999.00,9,  -999.00,  -999.00,9,  -999.00,  -999.00,9,        -999,         -999,9,  -999.00,  -999.00,9,       -999,9,        -999,9,   -999.0,9,   -999.0,9,   -999.0,9,     -999,9,      -999,9,  -999.00,9,  -999.00,9,  -0.6255
  32H120020718,    13,  2,     12,2,20020722, 71.6142,-156.0970,  167,      2.0,  -0.6503,  17.5198,2,-999.0000,9,    422.1,2,    414.8,2,     6.91,2,     0.09,2,     0.00,2,     0.30,2,     0.23,2,   -999.0,9,   -999.0,9,  -999.00,9,  -999.00,  -999.00,9,  -999.00,  -999.00,9,  -999.00,  -999.00,9,        -999,         -999,9,  -999.00,  -999.00,9,       -999,9,        -999,9,   -999.0,9,   -999.0,9,   -999.0,9,        0,2,      -999,9,     0.80,2,     0.51,2,  -0.6503
  32H120020718,    13,  2,     10,2,20020722, 71.6142,-156.0970,  167,      3.1,  -1.2530,  28.6833,2,-999.0000,9,    431.4,2,    436.5,2,     6.74,2,     0.08,2,     0.01,2,     0.55,2,     0.04,2,   -999.0,9,   -999.0,9,  -999.00,9,  -999.00,  -999.00,9,  -999.00,  -999.00,9,  -999.00,  -999.00,9,        -999,         -999,9,  -999.00,  -999.00,9,       -999,9,        -999,9,   -999.0,9,   -999.0,9,   -999.0,9,        0,2,      -999,9,     1.62,2,     1.02,2,  -1.2530
  32H120020718,    13,  2,      9,2,20020722, 71.6142,-156.0970,  167,      4.2,  -1.3025,  29.6843,2,-999.0000,9,    434.3,2,    450.9,2,     6.12,2,     0.07,2,     0.01,2,     0.71,2,     0.05,2,   -999.0,9,   -999.0,9,  -999.00,9,  -999.00,  -999.00,9,  -999.00,  -999.00,9,  -999.00,  -999.00,9,        -999,         -999,9,  -999.00,  -999.00,9,       -999,9,        -999,9,   -999.0,9,   -999.0,9,   -999.0,9,     0.04,2,      -999,9,     1.91,2,     1.10,2,  -1.3026
  32H120020718,    13,  2,      8,2,20020722, 71.6142,-156.0970,  167,      6.5,  -1.3033,  29.8763,2,-999.0000,9,    436.4,2,    451.3,2,     5.71,2,     0.08,2,     0.01,2,     0.69,2,     0.04,2,   -999.0,9,   -999.0,9,  -999.00,9,  -999.00,  -999.00,9,  -999.00,  -999.00,9,  -999.00,  -999.00,9,        -999,         -999,9,  -999.00,  -999.00,9,       -999,9,        -999,9,   -999.0,9,   -999.0,9,   -999.0,9,     0.04,2,      -999,9,     1.12,2,     0.63,2,  -1.3034
  32H120020718,    13, 99,      1,9,20020722, 71.6142,-156.0970,  167,      8.1,-999.0000,-999.0000,9,-999.0000,9,   -999.0,9,   -999.0,9,  -999.00,9,  -999.00,9,  -999.00,9,  -999.00,9,     -999,9,   -999.0,9,   -999.0,9,  -999.00,9,     0.28,     0.05,2,     2.51,     0.16,2,     1.81,     0.57,2, 0.690275091,  0.220504543,2,     0.35,     0.04,2,       -999,9,        -999,9,   -999.0,9,   -999.0,9,   -999.0,9,     -999,9,      -999,9,  -999.00,9,  -999.00,9,-999.0000
  32H120020718,    13,  2,      6,2,20020722, 71.6142,-156.0970,  167,      9.6,  -1.3169,  30.0464,2,-999.0000,9,    437.2,2,   -999.0,9,  -999.00,9,  -999.00,9,  -999.00,9,  -999.00,9,     -999,9,   -999.0,9,   -999.0,9,  -999.00,9,  -999.00,  -999.00,9,  -999.00,  -999.00,9,  -999.00,  -999.00,9,        -999,         -999,9,  -999.00,  -999.00,9,       -999,9,        -999,9,   -999.0,9,   -999.0,9,   -999.0,9,     -999,9,      -999,9,  -999.00,9,  -999.00,9,  -1.3170
  32H120020718,    13,  2,      7,2,20020722, 71.6142,-156.0970,  167,      9.6,  -1.3200,  30.0583,2,-999.0000,9,    438.0,2,    452.3,2,     5.90,2,     0.08,2,     0.01,2,     0.70,2,     0.02,2,   -999.0,9,   -999.0,9,  -999.00,9,  -999.00,  -999.00,9,  -999.00,  -999.00,9,  -999.00,  -999.00,9,        -999,         -999,9,  -999.00,  -999.00,9,       -999,9,        -999,9,   -999.0,9,   -999.0,9,   -999.0,9,     0.04,2,      -999,9,     1.54,2,     0.71,2,  -1.3201
  32H120020718,    13,  1,     11,2,20020722, 71.6142,-156.0970,  167,     10.9,  -1.2281,  30.0853,2,  30.1828,2,    433.2,2,    444.5,2,     5.13,3,     0.38,3,     0.00,3,     0.70,3,     0.03,3,   1973.7,2,   2152.4,2,  -999.00,9,  -999.00,  -999.00,9,  -999.00,  -999.00,9,  -999.00,  -999.00,9,        -999,         -999,9,  -999.00,  -999.00,9, 202.488911,2,  20.8600976,2,     80.7,2,      4.5,2,      5.0,2,        0,3,      -999,9,     1.61,2,     0.65,2,  -1.2283
  32H120020718,    13,  1,     10,2,20020722, 71.6142,-156.0970,  167,     21.2,  -1.3466,  30.8403,2,  30.8710,2,    427.3,2,    438.0,2,     8.58,3,     0.17,3,     0.01,3,     0.80,3,     0.01,3,   1987.3,2,   2185.1,2,  -999.00,9,  -999.00,  -999.00,9,  -999.00,  -999.00,9,  -999.00,  -999.00,9,        -999,         -999,9,  -999.00,  -999.00,9, 416.859934,2,  42.5012624,2,     78.0,2,      5.0,2,      5.2,2,        0,3,      -999,9,     1.93,2,     0.67,2,  -1.3469
  32H120020718,    13,  2,      5,2,20020722, 71.6142,-156.0970,  167,     25.1,  -1.4556,  31.1376,2,-999.0000,9,    407.2,2,    420.0,2,    13.30,2,     0.12,2,     0.01,2,     0.90,2,     0.09,2,   -999.0,9,   -999.0,9,  -999.00,9,  -999.00,  -999.00,9,  -999.00,  -999.00,9,  -999.00,  -999.00,9,        -999,         -999,9,  -999.00,  -999.00,9,       -999,9,        -999,9,   -999.0,9,   -999.0,9,   -999.0,9,     0.06,2,      -999,9,    14.85,2,    10.81,2,  -1.4560
  32H120020718,    13,  2,      4,2,20020722, 71.6142,-156.0970,  167,     25.1,  -1.4557,  31.1392,2,-999.0000,9,    406.4,2,   -999.0,9,  -999.00,9,  -999.00,9,  -999.00,9,  -999.00,9,     -999,9,   -999.0,9,   -999.0,9,  -999.00,9,  -999.00,  -999.00,9,  -999.00,  -999.00,9,  -999.00,  -999.00,9,        -999,         -999,9,  -999.00,  -999.00,9,       -999,9,        -999,9,   -999.0,9,   -999.0,9,   -999.0,9,     -999,9,      -999,9,  -999.00,9,  -999.00,9,  -1.4561
  32H120020718,    13,  3,     12,2,20020722, 71.6142,-156.0970,  167,     25.1,  -1.4270,  31.0915,2,-999.0000,9,    408.8,2,   -999.0,9,    12.68,2,     0.09,2,     0.03,2,     0.93,2,     0.08,2,   -999.0,9,   -999.0,9,  -999.00,9,  -999.00,  -999.00,9,  -999.00,  -999.00,9,  -999.00,  -999.00,9,        -999,         -999,9,  -999.00,  -999.00,9,       -999,9,        -999,9,   -999.0,9,   -999.0,9,   -999.0,9,     0.06,2,      -999,9,  -999.00,9,  -999.00,9,  -1.4274
  32H120020718,    13,  3,     10,2,20020722, 71.6142,-156.0970,  167,     25.2,  -1.4243,  31.0886,2,-999.0000,9,    419.0,2,   -999.0,9,  -999.00,9,  -999.00,9,  -999.00,9,  -999.00,9,     -999,9,   -999.0,9,   -999.0,9,  -999.00,9,  -999.00,  -999.00,9,  -999.00,  -999.00,9,  -999.00,  -999.00,9,        -999,         -999,9,  -999.00,  -999.00,9,       -999,9,        -999,9,   -999.0,9,   -999.0,9,   -999.0,9,     -999,9,      -999,9,  -999.00,9,  -999.00,9,  -1.4247
  32H120020718,    13,  3,     11,2,20020722, 71.6142,-156.0970,  167,     25.2,  -1.4259,  31.0905,2,-999.0000,9,    410.5,2,   -999.0,9,  -999.00,9,  -999.00,9,  -999.00,9,  -999.00,9,     -999,9,   -999.0,9,   -999.0,9,  -999.00,9,  -999.00,  -999.00,9,  -999.00,  -999.00,9,  -999.00,  -999.00,9,        -999,         -999,9,  -999.00,  -999.00,9,       -999,9,        -999,9,   -999.0,9,   -999.0,9,   -999.0,9,     -999,9,      -999,9,  -999.00,9,  -999.00,9,  -1.4263
  32H120020718,    13,  3,      9,2,20020722, 71.6142,-156.0970,  167,     25.2,  -1.4333,  31.0807,2,-999.0000,9,    416.1,2,   -999.0,9,  -999.00,9,  -999.00,9,  -999.00,9,  -999.00,9,     -999,9,   -999.0,9,   -999.0,9,  -999.00,9,  -999.00,  -999.00,9,  -999.00,  -999.00,9,  -999.00,  -999.00,9,        -999,         -999,9,  -999.00,  -999.00,9,       -999,9,        -999,9,   -999.0,9,   -999.0,9,   -999.0,9,     -999,9,      -999,9,  -999.00,9,  -999.00,9,  -1.4337
  32H120020718,    13,  3,      8,2,20020722, 71.6142,-156.0970,  167,     25.2,  -1.4398,  31.0770,2,-999.0000,9,    415.2,2,   -999.0,9,  -999.00,9,  -999.00,9,  -999.00,9,  -999.00,9,     -999,9,   -999.0,9,   -999.0,9,  -999.00,9,  -999.00,  -999.00,9,  -999.00,  -999.00,9,  -999.00,  -999.00,9,        -999,         -999,9,  -999.00,  -999.00,9,       -999,9,        -999,9,   -999.0,9,   -999.0,9,   -999.0,9,     -999,9,      -999,9,  -999.00,9,  -999.00,9,  -1.4402
  32H120020718,    13,  3,      7,2,20020722, 71.6142,-156.0970,  167,     25.2,  -1.4413,  31.0766,2,-999.0000,9,    414.4,2,   -999.0,9,    10.64,2,     0.06,2,     0.02,2,     0.83,2,     0.05,2,   -999.0,9,   -999.0,9,  -999.00,9,  -999.00,  -999.00,9,  -999.00,  -999.00,9,  -999.00,  -999.00,9,        -999,         -999,9,  -999.00,  -999.00,9,       -999,9,        -999,9,   -999.0,9,   -999.0,9,   -999.0,9,     0.05,2,      -999,9,  -999.00,9,  -999.00,9,  -1.4417
  32H120020718,    13,  1,      9,2,20020722, 71.6142,-156.0970,  167,     31.4,  -1.5784,  31.2238,2,  31.2487,2,    346.3,2,    368.6,2,    16.58,3,     1.70,3,     0.08,3,     1.11,3,     0.12,3,   2057.0,2,   2202.8,2,  -999.00,9,  -999.00,  -999.00,9,  -999.00,  -999.00,9,  -999.00,  -999.00,9,        -999,         -999,9,  -999.00,  -999.00,9, 309.294709,2,  43.9375709,2,     74.6,2,      5.0,2,      6.9,2,     0.01,3,      -999,9,     3.21,2,     0.61,2,  -1.5789
  32H120020718,    13,  1,      8,2,20020722, 71.6142,-156.0970,  167,     46.7,  -1.5109,  31.8536,2,  31.9427,2,    321.1,2,    319.7,2,    25.95,3,     6.51,3,     0.12,3,     1.44,3,     0.19,3,   2134.5,2,   2240.4,2,  -999.00,9,  -999.00,  -999.00,9,  -999.00,  -999.00,9,  -999.00,  -999.00,9,        -999,         -999,9,  -999.00,  -999.00,9, 84.3380467,2,  14.0742738,2,     65.7,2,      5.5,2,     12.3,2,        0,3,      -999,9,     2.22,2,     1.06,2,  -1.5117
  32H120020718,    13,  1,      7,2,20020722, 71.6142,-156.0970,  167,     60.9,  -1.5793,  32.3609,2,  32.3659,2,    314.8,2,    323.1,2,    30.59,3,     8.90,3,     0.13,3,     1.53,3,     0.36,3,   2157.4,2,   2255.5,2,  -999.00,9,  -999.00,  -999.00,9,  -999.00,  -999.00,9,  -999.00,  -999.00,9,        -999,         -999,9,  -999.00,  -999.00,9, 34.0550915,2,   6.1402844,2,     72.8,2,      6.6,2,     16.0,2,        0,3,      -999,9,     0.42,2,     0.28,2,  -1.5804
  32H120020718,    13,  2,      3,2,20020722, 71.6142,-156.0970,  167,     66.0,  -1.6702,  32.7292,2,-999.0000,9,    259.4,2,    265.5,2,    52.49,2,    13.70,2,     0.23,2,     2.11,2,     1.82,2,   -999.0,9,   -999.0,9,  -999.00,9,  -999.00,  -999.00,9,  -999.00,  -999.00,9,  -999.00,  -999.00,9,        -999,         -999,9,  -999.00,  -999.00,9,       -999,9,        -999,9,   -999.0,9,   -999.0,9,   -999.0,9,     0.05,2,      -999,9,  -999.00,9,  -999.00,9,  -1.6714
  32H120020718,    13,  2,      2,2,20020722, 71.6142,-156.0970,  167,     66.0,  -1.6706,  32.7306,2,-999.0000,9,    259.3,2,   -999.0,9,  -999.00,9,  -999.00,9,  -999.00,9,  -999.00,9,     -999,9,   -999.0,9,   -999.0,9,  -999.00,9,  -999.00,  -999.00,9,  -999.00,  -999.00,9,  -999.00,  -999.00,9,        -999,         -999,9,  -999.00,  -999.00,9,       -999,9,        -999,9,   -999.0,9,   -999.0,9,   -999.0,9,     -999,9,      -999,9,  -999.00,9,  -999.00,9,  -1.6718
  32H120020718,    13,  3,      5,2,20020722, 71.6142,-156.0970,  167,     72.1,  -1.6525,  32.7121,2,-999.0000,9,    259.7,2,   -999.0,9,    46.04,2,    12.56,2,     0.22,2,     1.97,2,     0.74,2,   -999.0,9,   -999.0,9,  -999.00,9,  -999.00,  -999.00,9,  -999.00,  -999.00,9,  -999.00,  -999.00,9,        -999,         -999,9,  -999.00,  -999.00,9,       -999,9,        -999,9,   -999.0,9,   -999.0,9,   -999.0,9,     0.05,2,      -999,9,  -999.00,9,  -999.00,9,  -1.6538
  32H120020718,    13,  3,      6,2,20020722, 71.6142,-156.0970,  167,     72.1,  -1.6537,  32.7137,2,-999.0000,9,    259.6,2,   -999.0,9,  -999.00,9,  -999.00,9,  -999.00,9,  -999.00,9,     -999,9,   -999.0,9,   -999.0,9,  -999.00,9,  -999.00,  -999.00,9,  -999.00,  -999.00,9,  -999.00,  -999.00,9,        -999,         -999,9,  -999.00,  -999.00,9,       -999,9,        -999,9,   -999.0,9,   -999.0,9,   -999.0,9,     -999,9,      -999,9,  -999.00,9,  -999.00,9,  -1.6550