BOTTLE,20090202PRINUNIVRMK
EXPOCODE,STNNBR,CASTNO,BTLNBR,BTLNBR_FLAG_W,DATE,LATITUDE,LONGITUDE,DEPTH,CTDPRS,CTDTMP,CTDSAL,CTDSAL_FLAG_W,SALNTY,SALNTY_FLAG_W,CTDOXY,CTDOXY_FLAG_W,OXYGEN,OXYGEN_FLAG_W,SILCAT,SILCAT_FLAG_W,NITRAT,NITRAT_FLAG_W,NITRIT,NITRIT_FLAG_W,PHSPHT,PHSPHT_FLAG_W,AMMONI,AMMONI_FLAG_W,TCARBN,TCARBN_FLAG_W,ALKALI,ALKALI_FLAG_W,DELO18,DELO18_FLAG_W,RA-224,RA-224E,RA-224_FLAG_W,RA-226,RA-226E,RA-226_FLAG_W,RA-228,RA-228E,RA-228_FLAG_W,RA-8/6,RA-8/6E,RA-8/6_FLAG_W,TH-228,TH-228E,TH-228_FLAG_W,POC,POC_FLAG_W,PON,PON_FLAG_W,DOC,DOC_FLAG_W,DON,DON_FLAG_W,TDN,TDN_FLAG_W,UREA,UREA_FLAG_W,LIGNIN,LIGNIN_FLAG_W,CHLORA,CHLORA_FLAG_W,PHAEO,PHAEO_FLAG_W,THETA
,,,,,,,,METERS,DBARS,ITS-90,PSS-78,,PSS-78,,UMOL/KG,,UMOL/KG,,UMOL/KG,,UMOL/KG,,UMOL/KG,,UMOL/KG,,UMOL/KG,,UMOL/KG,,UMOL/KG,,O/OO,,DPM/100KG,DPM/100KG,,DPM/100KG,DPM/100KG,,DPM/100KG,DPM/100KG,,,,,DPM/100KG,DPM/100KG,,ug/kg,,ug/kg,,UMOL/KG,,UMOL/KG,,UMOL/KG,,UMOL/KG,,NG/KG,,UG/L,,UG/L,,DEGC
  32H120020718,    24,  3,      5,2,20020804, 71.2973,-152.6310,   51,     36.1,  -0.7571,  30.9280,2,-999.0000,9,    387.6,2,   -999.0,9,  -999.00,9,  -999.00,9,  -999.00,9,  -999.00,9,     -999,9,   -999.0,9,   -999.0,9,  -999.00,9,     0.86,     0.10,2,     8.81,     0.23,2,     9.14,     0.77,2, 0.994839271,   0.08609186,2,     0.53,     0.49,2,       -999,9,        -999,9,   -999.0,9,   -999.0,9,   -999.0,9,     -999,9,      -999,9,  -999.00,9,  -999.00,9,  -0.7579
  32H120020718,    24,  3,      3,2,20020804, 71.2973,-152.6310,   51,     36.1,  -0.7745,  30.9401,2,-999.0000,9,    380.3,2,   -999.0,9,  -999.00,9,  -999.00,9,  -999.00,9,  -999.00,9,     -999,9,   -999.0,9,   -999.0,9,  -999.00,9,     0.86,     0.10,2,     8.81,     0.23,2,     9.14,     0.77,2, 0.994830377, 0.0860910903,2,     0.53,     0.49,2,       -999,9,        -999,9,   -999.0,9,   -999.0,9,   -999.0,9,     -999,9,      -999,9,  -999.00,9,  -999.00,9,  -0.7753
  32H120020718,    24,  3,      4,2,20020804, 71.2973,-152.6310,   51,     36.1,  -0.7759,  30.9426,2,-999.0000,9,    385.8,2,   -999.0,9,  -999.00,9,  -999.00,9,  -999.00,9,  -999.00,9,     -999,9,   -999.0,9,   -999.0,9,  -999.00,9,     0.86,     0.10,2,     8.81,     0.23,2,     9.14,     0.77,2, 0.994828376, 0.0860909171,2,     0.53,     0.49,2,       -999,9,        -999,9,   -999.0,9,   -999.0,9,   -999.0,9,     -999,9,      -999,9,  -999.00,9,  -999.00,9,  -0.7767
  32H120020718,    24,  3,      8,2,20020804, 71.2973,-152.6310,   51,     36.2,  -0.7567,  30.9337,2,  30.8810,2,    382.9,2,    412.4,2,    12.88,2,     0.37,2,     0.02,2,     0.79,2,     1.05,2,   1971.3,2,   2167.0,2,  -999.00,9,     0.86,     0.10,2,     8.81,     0.23,2,     9.14,     0.77,2, 0.994834972,  0.086091488,2,     0.53,     0.49,2,       -999,9,        -999,9,     69.7,2,      5.6,2,      7.0,2,     0.08,2,      -999,9,     0.32,2,     0.24,2,  -0.7575
  32H120020718,    24,  3,      6,2,20020804, 71.2973,-152.6310,   51,     36.2,  -0.7623,  30.9334,2,-999.0000,9,    385.2,2,   -999.0,9,  -999.00,9,  -999.00,9,  -999.00,9,  -999.00,9,     -999,9,   -999.0,9,   -999.0,9,  -999.00,9,     0.86,     0.10,2,     8.81,     0.23,2,     9.14,     0.77,2, 0.994835047, 0.0860914944,2,     0.53,     0.49,2,       -999,9,        -999,9,   -999.0,9,   -999.0,9,   -999.0,9,     -999,9,      -999,9,  -999.00,9,  -999.00,9,  -0.7631
  32H120020718,    24,  3,      7,2,20020804, 71.2973,-152.6310,   51,     36.2,  -0.7662,  30.9350,2,-999.0000,9,    387.2,2,   -999.0,9,  -999.00,9,  -999.00,9,  -999.00,9,  -999.00,9,     -999,9,   -999.0,9,   -999.0,9,  -999.00,9,     0.86,     0.10,2,     8.81,     0.23,2,     9.14,     0.77,2, 0.994834157, 0.0860914174,2,     0.53,     0.49,2,       -999,9,        -999,9,   -999.0,9,   -999.0,9,   -999.0,9,     -999,9,      -999,9,  -999.00,9,  -999.00,9,  -0.7670
  32H120020718,    24,  3,      2,2,20020804, 71.2973,-152.6310,   51,     36.2,  -0.7765,  30.9431,2,-999.0000,9,    382.4,2,   -999.0,9,  -999.00,9,  -999.00,9,  -999.00,9,  -999.00,9,     -999,9,   -999.0,9,   -999.0,9,  -999.00,9,     0.86,     0.10,2,     8.84,     0.23,2,     9.18,     0.78,2, 0.998414432, 0.0864012489,2,     0.54,     0.49,2,       -999,9,        -999,9,   -999.0,9,   -999.0,9,   -999.0,9,     -999,9,      -999,9,  -999.00,9,  -999.00,9,  -0.7773
  32H120020718,    24,  3,      1,2,20020804, 71.2973,-152.6310,   51,     41.1,  -0.7815,  30.9748,2,  30.9741,2,    375.3,2,    385.5,2,    14.39,2,     0.88,2,     0.05,2,     0.91,2,     1.49,2,   2006.9,2,   -999.0,9,  -999.00,9,  -999.00,  -999.00,9,  -999.00,  -999.00,9,  -999.00,  -999.00,9,        -999,         -999,9,  -999.00,  -999.00,9,       -999,9,        -999,9,     74.9,2,      7.3,2,      9.8,2,     0.12,2,      -999,9,     0.39,2,     0.22,2,  -0.7824
  32H120020718,    24,  4,      4,2,20020804, 71.2973,-152.6310,   51,     41.2,  -0.8263,  31.1591,2,-999.0000,9,    379.1,2,   -999.0,9,  -999.00,9,  -999.00,9,  -999.00,9,  -999.00,9,     -999,9,   -999.0,9,   -999.0,9,  -999.00,9,  -999.00,  -999.00,9,  -999.00,  -999.00,9,  -999.00,  -999.00,9,        -999,         -999,9,  -999.00,  -999.00,9,       -999,9,        -999,9,   -999.0,9,   -999.0,9,   -999.0,9,     -999,9,      -999,9,  -999.00,9,  -999.00,9,  -0.8272
  32H120020718,    24,  4,      3,2,20020804, 71.2973,-152.6310,   51,     41.2,  -0.8283,  31.1648,2,  31.1638,2,    378.7,2,    389.7,2,    15.01,2,     1.07,2,     0.05,2,     0.93,2,      1.5,2,   -999.0,9,   -999.0,9,  -999.00,9,  -999.00,  -999.00,9,  -999.00,  -999.00,9,  -999.00,  -999.00,9,        -999,         -999,9,  -999.00,  -999.00,9,       -999,9,        -999,9,   -999.0,9,   -999.0,9,   -999.0,9,     0.14,2,      -999,9,     0.32,2,     0.32,2,  -0.8292
  32H120020718,    24,  1,      1,2,20020804, 71.2973,-152.6310,   51,     46.1,  -0.9402,  31.3439,2,-999.0000,9,    380.8,2,   -999.0,9,  -999.00,9,  -999.00,9,  -999.00,9,  -999.00,9,     -999,9,   -999.0,9,   -999.0,9,  -999.00,9,  -999.00,  -999.00,9,  -999.00,  -999.00,9,  -999.00,  -999.00,9,        -999,         -999,9,  -999.00,  -999.00,9,       -999,9,        -999,9,   -999.0,9,   -999.0,9,   -999.0,9,     -999,9,      -999,9,  -999.00,9,  -999.00,9,  -0.9412
  32H120020718,    24,  4,      2,2,20020804, 71.2973,-152.6310,   51,     46.1,  -0.8337,  31.1726,2,-999.0000,9,    379.1,2,   -999.0,9,  -999.00,9,  -999.00,9,  -999.00,9,  -999.00,9,     -999,9,   -999.0,9,   -999.0,9,  -999.00,9,  -999.00,  -999.00,9,  -999.00,  -999.00,9,  -999.00,  -999.00,9,        -999,         -999,9,  -999.00,  -999.00,9,       -999,9,        -999,9,   -999.0,9,   -999.0,9,   -999.0,9,     -999,9,      -999,9,  -999.00,9,  -999.00,9,  -0.8347
  32H120020718,    24,  4,      1,2,20020804, 71.2973,-152.6310,   51,     46.2,  -0.8334,  31.1724,2,  31.1714,2,    379.0,2,    389.2,2,    15.10,2,     1.11,2,     0.05,2,     0.94,2,      1.5,2,   -999.0,9,   -999.0,9,  -999.00,9,  -999.00,  -999.00,9,  -999.00,  -999.00,9,  -999.00,  -999.00,9,        -999,         -999,9,  -999.00,  -999.00,9,       -999,9,        -999,9,   -999.0,9,   -999.0,9,   -999.0,9,     0.13,2,      -999,9,     0.34,2,     0.28,2,  -0.8344
  32H120020718,    25,  1,     12,2,20020806, 72.2333,-159.3310,   49,      2.2,  -1.1613,  31.0164,2,  30.5965,2,    507.7,2,    523.3,2,    15.02,2,     0.00,2,     0.00,2,     0.83,2,        0,2,   1878.1,2,   2137.0,2,  -999.00,9,  -999.00,  -999.00,9,  -999.00,  -999.00,9,  -999.00,  -999.00,9,        -999,         -999,9,  -999.00,  -999.00,9,  161.84516,2,  30.3699525,2,     68.9,2,      6.4,2,      6.4,2,     0.03,2,      -999,9,     0.27,2,     0.23,2,  -1.1613
  32H120020718,    25, 99,      1,9,20020806, 72.2333,-159.3310,   49,      8.1,-999.0000,-999.0000,9,-999.0000,9,   -999.0,9,   -999.0,9,  -999.00,9,  -999.00,9,  -999.00,9,  -999.00,9,     -999,9,   -999.0,9,   -999.0,9,  -999.00,9,     0.94,     0.07,2,     6.89,     0.15,2,     4.50,     0.75,2, 0.621564183,  0.105187785,2,     0.54,     0.35,2,       -999,9,        -999,9,   -999.0,9,   -999.0,9,   -999.0,9,     -999,9,      -999,9,  -999.00,9,  -999.00,9,-999.0000
  32H120020718,    25,  1,     11,2,20020806, 72.2333,-159.3310,   49,     11.3,  -1.2079,  31.8908,2,  31.8304,2,    533.7,2,    556.4,2,    16.05,2,     0.00,2,     0.00,2,     0.85,2,        0,2,   1921.2,2,   2222.2,2,  -999.00,9,  -999.00,  -999.00,9,  -999.00,  -999.00,9,  -999.00,  -999.00,9,        -999,         -999,9,  -999.00,  -999.00,9, 142.505397,2,   24.668637,2,     74.7,2,      5.4,2,      5.4,2,     0.02,2,      -999,9,     0.42,2,     0.36,2,  -1.2081
  32H120020718,    25,  1,     10,2,20020806, 72.2333,-159.3310,   49,     19.1,  -1.6745,  32.3084,2,  32.2353,2,    324.3,2,    370.7,2,    32.91,2,     6.84,2,     0.17,2,     1.52,2,      0.3,2,   2089.0,2,   2217.1,2,  -999.00,9,  -999.00,  -999.00,9,  -999.00,  -999.00,9,  -999.00,  -999.00,9,        -999,         -999,9,  -999.00,  -999.00,9, 930.744055,2,  153.482792,2,     77.2,2,      5.8,2,     13.1,2,     0.07,2,      -999,9,    20.79,2,     8.67,2,  -1.6748
  32H120020718,    25,  1,      9,2,20020806, 72.2333,-159.3310,   49,     30.0,  -1.6450,  32.9820,2,  32.9823,2,    270.3,2,    283.4,2,    39.97,2,    14.68,2,     0.24,2,     2.11,2,      4.5,2,   2189.3,2,   2252.7,2,  -999.00,9,  -999.00,  -999.00,9,  -999.00,  -999.00,9,  -999.00,  -999.00,9,        -999,         -999,9,  -999.00,  -999.00,9, 172.278817,2,  33.2282809,2,     64.7,2,      7.8,2,     27.2,2,     0.19,2,      -999,9,     1.01,2,     1.03,2,  -1.6455
  32H120020718,    25,  1,      8,2,20020806, 72.2333,-159.3310,   49,     37.9,  -1.6471,  32.9919,2,-999.0000,9,    266.1,2,   -999.0,9,  -999.00,9,  -999.00,9,  -999.00,9,  -999.00,9,     -999,9,   -999.0,9,   -999.0,9,  -999.00,9,     3.11,     0.09,2,    10.56,     0.35,2,     9.29,     0.47,2, 0.842457207, 0.0478668868,2,     0.32,     0.30,2,       -999,9,        -999,9,   -999.0,9,   -999.0,9,   -999.0,9,     -999,9,      -999,9,  -999.00,9,  -999.00,9,  -1.6478
  32H120020718,    25,  1,      4,2,20020806, 72.2333,-159.3310,   49,     38.0,  -1.6466,  32.9914,2,-999.0000,9,    266.1,2,   -999.0,9,  -999.00,9,  -999.00,9,  -999.00,9,  -999.00,9,     -999,9,   -999.0,9,   -999.0,9,  -999.00,9,     3.11,     0.09,2,    10.56,     0.35,2,     9.29,     0.47,2, 0.842448668, 0.0478664016,2,     0.32,     0.30,2,       -999,9,        -999,9,   -999.0,9,   -999.0,9,   -999.0,9,     -999,9,      -999,9,  -999.00,9,  -999.00,9,  -1.6473
  32H120020718,    25,  1,      5,2,20020806, 72.2333,-159.3310,   49,     38.0,  -1.6466,  32.9915,2,-999.0000,9,    266.1,2,   -999.0,9,  -999.00,9,  -999.00,9,  -999.00,9,  -999.00,9,     -999,9,   -999.0,9,   -999.0,9,  -999.00,9,     3.10,     0.09,2,    10.56,     0.35,2,     9.28,     0.47,2,  0.84210809, 0.0478470506,2,     0.32,     0.30,2,       -999,9,        -999,9,   -999.0,9,   -999.0,9,   -999.0,9,     -999,9,      -999,9,  -999.00,9,  -999.00,9,  -1.6473
  32H120020718,    25,  1,      2,2,20020806, 72.2333,-159.3310,   49,     38.0,  -1.6468,  32.9914,2,-999.0000,9,    266.2,2,   -999.0,9,    40.35,2,    14.93,2,     0.25,2,     2.19,2,     4.73,2,   -999.0,9,   -999.0,9,  -999.00,9,     3.10,     0.09,2,    10.55,     0.35,2,     9.28,     0.47,2, 0.842086002, 0.0478457956,2,     0.32,     0.30,2,       -999,9,        -999,9,   -999.0,9,   -999.0,9,   -999.0,9,     0.21,2,      -999,9,  -999.00,9,  -999.00,9,  -1.6475
  32H120020718,    25,  1,      7,2,20020806, 72.2333,-159.3310,   49,     38.0,  -1.6468,  32.9916,2,-999.0000,9,    266.1,2,   -999.0,9,  -999.00,9,  -999.00,9,  -999.00,9,  -999.00,9,     -999,9,   -999.0,9,   -999.0,9,  -999.00,9,     3.10,     0.09,2,    10.55,     0.35,2,     9.28,     0.47,2, 0.842097485,  0.047846448,2,     0.32,     0.30,2,       -999,9,        -999,9,   -999.0,9,   -999.0,9,   -999.0,9,     -999,9,      -999,9,  -999.00,9,  -999.00,9,  -1.6475
  32H120020718,    25,  1,      6,2,20020806, 72.2333,-159.3310,   49,     38.0,  -1.6468,  32.9916,2,-999.0000,9,    266.2,2,   -999.0,9,  -999.00,9,  -999.00,9,  -999.00,9,  -999.00,9,     -999,9,   -999.0,9,   -999.0,9,  -999.00,9,     3.10,     0.09,2,    10.55,     0.35,2,     9.28,     0.47,2, 0.842099305, 0.0478465514,2,     0.32,     0.30,2,       -999,9,        -999,9,   -999.0,9,   -999.0,9,   -999.0,9,     -999,9,      -999,9,  -999.00,9,  -999.00,9,  -1.6475
  32H120020718,    25,  1,      3,2,20020806, 72.2333,-159.3310,   49,     38.0,  -1.6471,  32.9918,2,-999.0000,9,    266.1,2,   -999.0,9,  -999.00,9,  -999.00,9,  -999.00,9,  -999.00,9,     -999,9,   -999.0,9,   -999.0,9,  -999.00,9,     3.10,     0.09,2,    10.55,     0.35,2,     9.28,     0.47,2, 0.842097046, 0.0478464231,2,     0.32,     0.30,2,       -999,9,        -999,9,   -999.0,9,   -999.0,9,   -999.0,9,     -999,9,      -999,9,  -999.00,9,  -999.00,9,  -1.6478
  32H120020718,    25,  1,      1,2,20020806, 72.2333,-159.3310,   49,     40.7,  -1.6472,  32.9914,2,  32.9909,2,    266.4,2,    272.3,2,    40.54,2,    14.89,2,     0.25,2,     2.18,2,     4.72,2,   -999.0,9,   -999.0,9,  -999.00,9,  -999.00,  -999.00,9,  -999.00,  -999.00,9,  -999.00,  -999.00,9,        -999,         -999,9,  -999.00,  -999.00,9,  218.67975,2,  44.5648201,2,     64.7,2,      8.5,2,     28.3,2,      0.2,2,      -999,9,     1.99,2,     1.26,2,  -1.6479
  32H120020718,    26,  1,     11,2,20020806, 72.6445,-158.6090,  156,      2.0,  -0.7814,  28.1622,2,  28.1600,2,    382.9,2,    391.5,2,     3.30,2,     0.00,2,     0.00,2,     0.67,2,        0,2,   -999.0,9,   -999.0,9,  -999.00,9,  -999.00,  -999.00,9,  -999.00,  -999.00,9,  -999.00,  -999.00,9,        -999,         -999,9,  -999.00,  -999.00,9,       -999,9,        -999,9,   -999.0,9,   -999.0,9,   -999.0,9,        0,2,      -999,9,     0.24,2,     0.16,2,  -0.7814
  32H120020718,    26,  1,     12,2,20020806, 72.6445,-158.6090,  156,      2.0,  -0.7920,  28.2318,2,-999.0000,9,    384.1,2,   -999.0,9,  -999.00,9,  -999.00,9,  -999.00,9,  -999.00,9,     -999,9,   -999.0,9,   -999.0,9,  -999.00,9,  -999.00,  -999.00,9,  -999.00,  -999.00,9,  -999.00,  -999.00,9,        -999,         -999,9,  -999.00,  -999.00,9,       -999,9,        -999,9,   -999.0,9,   -999.0,9,   -999.0,9,     -999,9,      -999,9,  -999.00,9,  -999.00,9,  -0.7920
  32H120020718,    26,  4,     12,2,20020806, 72.6445,-158.6090,  156,      2.0,  -0.6371,  27.6218,2,  27.7092,2,    375.9,2,    386.6,2,     3.15,2,     0.00,2,     0.00,2,     0.65,2,     0.01,2,   1870.8,2,   2001.9,2,  -999.00,9,  -999.00,  -999.00,9,  -999.00,  -999.00,9,  -999.00,  -999.00,9,        -999,         -999,9,  -999.00,  -999.00,9, 41.9050008,2,  7.94732465,2,     68.1,2,      5.4,2,      5.4,2,     0.01,2,      -999,9,     0.13,2,     0.10,2,  -0.6371
  32H120020718,    26, 99,      1,9,20020806, 72.6445,-158.6090,  156,      8.1,-999.0000,-999.0000,9,-999.0000,9,   -999.0,9,   -999.0,9,  -999.00,9,  -999.00,9,  -999.00,9,  -999.00,9,     -999,9,   -999.0,9,   -999.0,9,  -999.00,9,     1.71,     0.07,2,     7.14,     0.46,2,     3.63,     0.19,2, 0.487345264,  0.038223158,2,     0.74,     0.11,2,       -999,9,        -999,9,   -999.0,9,   -999.0,9,   -999.0,9,     -999,9,      -999,9,  -999.00,9,  -999.00,9,-999.0000
  32H120020718,    26,  1,     10,2,20020806, 72.6445,-158.6090,  156,      8.7,  -1.0229,  29.0951,2,  28.8402,2,    392.9,2,    400.3,2,     3.48,2,     0.00,2,     0.00,2,     0.70,2,     0.02,2,   -999.0,9,   -999.0,9,  -999.00,9,  -999.00,  -999.00,9,  -999.00,  -999.00,9,  -999.00,  -999.00,9,        -999,         -999,9,  -999.00,  -999.00,9,       -999,9,        -999,9,   -999.0,9,   -999.0,9,   -999.0,9,        0,2,      -999,9,     0.20,2,     0.13,2,  -1.0230
  32H120020718,    26,  3,     11,2,20020806, 72.6445,-158.6090,  156,     11.2,  -1.1691,  29.8597,2,-999.0000,9,    401.7,2,   -999.0,9,  -999.00,9,  -999.00,9,  -999.00,9,  -999.00,9,     -999,9,   -999.0,9,   -999.0,9,  -999.00,9,  -999.00,  -999.00,9,  -999.00,  -999.00,9,  -999.00,  -999.00,9,        -999,         -999,9,  -999.00,  -999.00,9,       -999,9,        -999,9,   -999.0,9,   -999.0,9,   -999.0,9,     -999,9,      -999,9,  -999.00,9,  -999.00,9,  -1.1693
  32H120020718,    26,  3,     12,2,20020806, 72.6445,-158.6090,  156,     11.2,  -1.1777,  29.8738,2,-999.0000,9,    400.9,2,   -999.0,9,     3.07,2,     0.00,2,     0.00,2,     0.70,2,     0.01,2,   -999.0,9,   -999.0,9,  -999.00,9,  -999.00,  -999.00,9,  -999.00,  -999.00,9,  -999.00,  -999.00,9,        -999,         -999,9,  -999.00,  -999.00,9,       -999,9,        -999,9,   -999.0,9,   -999.0,9,   -999.0,9,        0,2,      -999,9,  -999.00,9,  -999.00,9,  -1.1779
  32H120020718,    26,  4,     11,2,20020806, 72.6445,-158.6090,  156,     11.1,  -1.0657,  29.4656,2,  29.2997,2,    397.2,2,    409.5,2,     3.43,2,     0.00,2,     0.00,2,     0.69,2,        0,2,   1951.4,2,   2109.1,2,  -999.00,9,  -999.00,  -999.00,9,  -999.00,  -999.00,9,  -999.00,  -999.00,9,        -999,         -999,9,  -999.00,  -999.00,9, 57.4761854,2,  10.4368581,2,     74.3,2,      6.0,2,      6.0,2,     0.01,2,      -999,9,     0.22,2,     0.15,2,  -1.0659
  32H120020718,    26,  1,      9,2,20020806, 72.6445,-158.6090,  156,     14.5,  -0.9736,  29.3164,2,-999.0000,9,    392.5,2,    402.1,2,     4.62,2,     0.00,2,     0.00,2,     0.73,2,     0.01,2,   -999.0,9,   -999.0,9,  -999.00,9,  -999.00,  -999.00,9,  -999.00,  -999.00,9,  -999.00,  -999.00,9,        -999,         -999,9,  -999.00,  -999.00,9,       -999,9,        -999,9,   -999.0,9,   -999.0,9,   -999.0,9,        0,2,     205.6,2,     0.18,2,     0.16,2,  -0.9738
  32H120020718,    26,  4,     10,2,20020806, 72.6445,-158.6090,  156,     21.0,  -1.3175,  30.7400,2,  30.5623,2,    404.2,2,    412.3,2,     5.78,2,     0.00,2,     0.00,2,     0.77,2,        0,2,   2028.2,2,   2189.4,2,  -999.00,9,  -999.00,  -999.00,9,  -999.00,  -999.00,9,  -999.00,  -999.00,9,        -999,         -999,9,  -999.00,  -999.00,9, 76.4257855,2,   13.746078,2,     75.3,2,      8.9,2,      8.9,2,        0,2,      -999,9,     0.40,2,     0.34,2,  -1.3178
  32H120020718,    26,  1,      7,2,20020806, 72.6445,-158.6090,  156,     22.6,  -1.2081,  30.5761,2,-999.0000,9,    393.0,2,   -999.0,9,  -999.00,9,  -999.00,9,  -999.00,9,  -999.00,9,     -999,9,   -999.0,9,   -999.0,9,  -999.00,9,  -999.00,  -999.00,9,  -999.00,  -999.00,9,  -999.00,  -999.00,9,        -999,         -999,9,  -999.00,  -999.00,9,       -999,9,        -999,9,   -999.0,9,   -999.0,9,   -999.0,9,     -999,9,      -999,9,  -999.00,9,  -999.00,9,  -1.2085
  32H120020718,    26,  1,      8,2,20020806, 72.6445,-158.6090,  156,     22.6,  -1.2107,  30.5700,2,-999.0000,9,    393.0,2,    403.7,2,     5.37,2,     0.00,2,     0.00,2,     0.77,2,     0.02,2,   -999.0,9,   -999.0,9,  -999.00,9,  -999.00,  -999.00,9,  -999.00,  -999.00,9,  -999.00,  -999.00,9,        -999,         -999,9,  -999.00,  -999.00,9,       -999,9,        -999,9,   -999.0,9,   -999.0,9,   -999.0,9,        0,2,      -999,9,     0.36,2,     0.32,2,  -1.2111