BOTTLE,20090202PRINUNIVRMK
EXPOCODE,STNNBR,CASTNO,BTLNBR,BTLNBR_FLAG_W,DATE,LATITUDE,LONGITUDE,DEPTH,CTDPRS,CTDTMP,CTDSAL,CTDSAL_FLAG_W,SALNTY,SALNTY_FLAG_W,CTDOXY,CTDOXY_FLAG_W,OXYGEN,OXYGEN_FLAG_W,SILCAT,SILCAT_FLAG_W,NITRAT,NITRAT_FLAG_W,NITRIT,NITRIT_FLAG_W,PHSPHT,PHSPHT_FLAG_W,AMMONI,AMMONI_FLAG_W,TCARBN,TCARBN_FLAG_W,ALKALI,ALKALI_FLAG_W,DELO18,DELO18_FLAG_W,RA-224,RA-224E,RA-224_FLAG_W,RA-226,RA-226E,RA-226_FLAG_W,RA-228,RA-228E,RA-228_FLAG_W,RA-8/6,RA-8/6E,RA-8/6_FLAG_W,TH-228,TH-228E,TH-228_FLAG_W,POC,POC_FLAG_W,PON,PON_FLAG_W,DOC,DOC_FLAG_W,DON,DON_FLAG_W,TDN,TDN_FLAG_W,UREA,UREA_FLAG_W,LIGNIN,LIGNIN_FLAG_W,CHLORA,CHLORA_FLAG_W,PHAEO,PHAEO_FLAG_W,THETA
,,,,,,,,METERS,DBARS,ITS-90,PSS-78,,PSS-78,,UMOL/KG,,UMOL/KG,,UMOL/KG,,UMOL/KG,,UMOL/KG,,UMOL/KG,,UMOL/KG,,UMOL/KG,,UMOL/KG,,O/OO,,DPM/100KG,DPM/100KG,,DPM/100KG,DPM/100KG,,DPM/100KG,DPM/100KG,,,,,DPM/100KG,DPM/100KG,,ug/kg,,ug/kg,,UMOL/KG,,UMOL/KG,,UMOL/KG,,UMOL/KG,,NG/KG,,UG/L,,UG/L,,DEGC
  32H120020718,    24,  1,     12,2,20020804, 71.2973,-152.6310,   51,      2.0,  -0.6049,  24.0223,2,-999.0000,9,    361.0,2,   -999.0,9,  -999.00,9,  -999.00,9,  -999.00,9,  -999.00,9,     -999,9,   -999.0,9,   -999.0,9,  -999.00,9,  -999.00,  -999.00,9,  -999.00,  -999.00,9,  -999.00,  -999.00,9,        -999,         -999,9,  -999.00,  -999.00,9,       -999,9,        -999,9,   -999.0,9,   -999.0,9,   -999.0,9,     -999,9,      -999,9,  -999.00,9,  -999.00,9,  -0.6049
  32H120020718,    24,  1,     11,2,20020804, 71.2973,-152.6310,   51,      2.0,  -0.6094,  23.8057,2,  22.4590,2,    362.3,2,    369.8,2,     7.39,2,    -0.02,2,     0.02,2,     0.43,2,     0.03,2,   1532.9,2,   1682.4,2,  -999.00,9,  -999.00,  -999.00,9,  -999.00,  -999.00,9,  -999.00,  -999.00,9,        -999,         -999,9,  -999.00,  -999.00,9,       -999,9,        -999,9,   -999.0,9,   -999.0,9,   -999.0,9,     0.04,2,      -999,9,     0.75,2,     0.31,2,  -0.6094
  32H120020718,    24,  4,     11,2,20020804, 71.2973,-152.6310,   51,      2.0,  -0.0036,  26.2403,2,  26.8198,2,    362.2,2,    371.7,2,     7.47,2,    -0.01,2,     0.01,2,     0.50,2,     0.19,2,   1735.8,2,   1896.7,2,  -999.00,9,  -999.00,  -999.00,9,  -999.00,  -999.00,9,  -999.00,  -999.00,9,        -999,         -999,9,  -999.00,  -999.00,9, 108.911152,2,  23.5141632,2,   -999.0,9,      6.2,2,      6.4,2,     0.05,2,      -999,9,     0.47,2,     0.34,2,  -0.0036
  32H120020718,    24,  4,     12,2,20020804, 71.2973,-152.6310,   51,      2.0,   0.0242,  26.0505,2,-999.0000,9,    363.8,2,   -999.0,9,  -999.00,9,  -999.00,9,  -999.00,9,  -999.00,9,     -999,9,   -999.0,9,   -999.0,9,  -999.00,9,  -999.00,  -999.00,9,  -999.00,  -999.00,9,  -999.00,  -999.00,9,        -999,         -999,9,  -999.00,  -999.00,9,       -999,9,        -999,9,     73.8,2,   -999.0,9,   -999.0,9,     -999,9,      -999,9,  -999.00,9,  -999.00,9,   0.0242
  32H120020718,    24,  1,     10,2,20020804, 71.2973,-152.6310,   51,      4.3,  -0.5036,  25.4392,2,-999.0000,9,    363.2,2,    369.8,2,     7.66,2,    -0.02,2,     0.02,2,     0.48,2,     0.02,2,   1660.9,2,   1818.4,2,  -999.00,9,  -999.00,  -999.00,9,  -999.00,  -999.00,9,  -999.00,  -999.00,9,        -999,         -999,9,  -999.00,  -999.00,9,       -999,9,        -999,9,   -999.0,9,   -999.0,9,   -999.0,9,     0.03,2,      -999,9,     0.52,2,     0.34,2,  -0.5037
  32H120020718,    24,  1,      9,2,20020804, 71.2973,-152.6310,   51,      6.7,  -0.3417,  26.9266,2,-999.0000,9,    365.4,2,    373.5,2,     7.83,2,    -0.02,2,     0.02,2,     0.52,2,     0.05,2,   1747.2,2,   1911.8,2,  -999.00,9,  -999.00,  -999.00,9,  -999.00,  -999.00,9,  -999.00,  -999.00,9,        -999,         -999,9,  -999.00,  -999.00,9,       -999,9,        -999,9,   -999.0,9,   -999.0,9,   -999.0,9,     0.03,2,      -999,9,     0.39,2,     0.28,2,  -0.3418
  32H120020718,    24, 99,      1,9,20020804, 71.2973,-152.6310,   51,      8.1,-999.0000,-999.0000,9,-999.0000,9,   -999.0,9,   -999.0,9,  -999.00,9,  -999.00,9,  -999.00,9,  -999.00,9,     -999,9,   -999.0,9,   -999.0,9,  -999.00,9,     0.75,     0.07,2,     5.00,     0.48,2,     4.92,     0.70,2, 0.947903234,  0.162771262,2,     0.15,     0.32,2,       -999,9,        -999,9,   -999.0,9,   -999.0,9,   -999.0,9,     -999,9,      -999,9,  -999.00,9,  -999.00,9,-999.0000
  32H120020718,    24,  1,      8,2,20020804, 71.2973,-152.6310,   51,      9.8,  -1.0177,  28.7372,2,-999.0000,9,    401.2,2,    395.3,2,     7.92,2,    -0.02,2,     0.02,2,     0.58,2,     0.12,2,   1864.2,2,   2040.5,2,  -999.00,9,  -999.00,  -999.00,9,  -999.00,  -999.00,9,  -999.00,  -999.00,9,        -999,         -999,9,  -999.00,  -999.00,9,       -999,9,        -999,9,   -999.0,9,   -999.0,9,   -999.0,9,     0.03,2,      -999,9,     0.68,2,     0.38,2,  -1.0178
  32H120020718,    24,  1,      7,2,20020804, 71.2973,-152.6310,   51,      9.8,  -1.0690,  28.7126,2,-999.0000,9,    403.2,2,   -999.0,9,  -999.00,9,  -999.00,9,  -999.00,9,  -999.00,9,     -999,9,   -999.0,9,   -999.0,9,  -999.00,9,  -999.00,  -999.00,9,  -999.00,  -999.00,9,  -999.00,  -999.00,9,        -999,         -999,9,  -999.00,  -999.00,9,       -999,9,        -999,9,   -999.0,9,   -999.0,9,   -999.0,9,     -999,9,      -999,9,  -999.00,9,  -999.00,9,  -1.0691
  32H120020718,    24,  4,     10,2,20020804, 71.2973,-152.6310,   51,     11.2,  -0.0019,  28.8545,2,-999.0000,9,    373.4,2,   -999.0,9,  -999.00,9,  -999.00,9,  -999.00,9,  -999.00,9,     -999,9,   -999.0,9,   -999.0,9,  -999.00,9,  -999.00,  -999.00,9,  -999.00,  -999.00,9,  -999.00,  -999.00,9,        -999,         -999,9,  -999.00,  -999.00,9,       -999,9,        -999,9,     74.2,2,   -999.0,9,   -999.0,9,     -999,9,      -999,9,  -999.00,9,  -999.00,9,  -0.0022
  32H120020718,    24,  4,      9,2,20020804, 71.2973,-152.6310,   51,     11.2,  -0.0980,  28.9056,2,  28.6500,2,    373.1,2,    379.1,2,     8.03,2,     0.00,2,     0.00,2,     0.53,2,     0.18,2,   1839.2,2,   2021.4,2,  -999.00,9,  -999.00,  -999.00,9,  -999.00,  -999.00,9,  -999.00,  -999.00,9,        -999,         -999,9,  -999.00,  -999.00,9, 95.5263751,2,  21.2564565,2,   -999.0,9,      6.3,2,      6.4,2,     0.03,2,      -999,9,     0.43,2,     0.32,2,  -0.0983
  32H120020718,    24,  1,      6,2,20020804, 71.2973,-152.6310,   51,     15.2,   0.9678,  29.3837,2,-999.0000,9,    367.9,2,    379.9,2,     9.07,2,     0.04,2,     0.03,2,     0.59,2,     0.35,2,   1890.7,2,   2103.3,2,  -999.00,9,  -999.00,  -999.00,9,  -999.00,  -999.00,9,  -999.00,  -999.00,9,        -999,         -999,9,  -999.00,  -999.00,9,       -999,9,        -999,9,   -999.0,9,   -999.0,9,   -999.0,9,     0.03,2,      -999,9,     0.99,2,     0.48,2,   0.9673
  32H120020718,    24,  2,      9,2,20020804, 71.2973,-152.6310,   51,     15.2,   0.8516,  29.2485,2,-999.0000,9,    373.7,2,   -999.0,9,  -999.00,9,  -999.00,9,  -999.00,9,  -999.00,9,     -999,9,   -999.0,9,   -999.0,9,  -999.00,9,  -999.00,  -999.00,9,  -999.00,  -999.00,9,  -999.00,  -999.00,9,        -999,         -999,9,  -999.00,  -999.00,9,       -999,9,        -999,9,   -999.0,9,   -999.0,9,   -999.0,9,     -999,9,      -999,9,  -999.00,9,  -999.00,9,   0.8511
  32H120020718,    24,  2,      8,2,20020804, 71.2973,-152.6310,   51,     15.2,   0.8553,  29.2456,2,-999.0000,9,    374.7,2,   -999.0,9,  -999.00,9,  -999.00,9,  -999.00,9,  -999.00,9,     -999,9,   -999.0,9,   -999.0,9,  -999.00,9,  -999.00,  -999.00,9,  -999.00,  -999.00,9,  -999.00,  -999.00,9,        -999,         -999,9,  -999.00,  -999.00,9,       -999,9,        -999,9,   -999.0,9,   -999.0,9,   -999.0,9,     -999,9,      -999,9,  -999.00,9,  -999.00,9,   0.8548
  32H120020718,    24,  2,      7,2,20020804, 71.2973,-152.6310,   51,     15.2,   0.9901,  29.2688,2,-999.0000,9,    374.6,2,   -999.0,9,  -999.00,9,  -999.00,9,  -999.00,9,  -999.00,9,     -999,9,   -999.0,9,   -999.0,9,  -999.00,9,  -999.00,  -999.00,9,  -999.00,  -999.00,9,  -999.00,  -999.00,9,        -999,         -999,9,  -999.00,  -999.00,9,       -999,9,        -999,9,   -999.0,9,   -999.0,9,   -999.0,9,     -999,9,      -999,9,  -999.00,9,  -999.00,9,   0.9896
  32H120020718,    24,  2,     12,2,20020804, 71.2973,-152.6310,   51,     15.2,   1.0270,  29.3869,2,-999.0000,9,    374.1,2,   -999.0,9,  -999.00,9,  -999.00,9,  -999.00,9,  -999.00,9,     -999,9,   -999.0,9,   -999.0,9,  -999.00,9,  -999.00,  -999.00,9,  -999.00,  -999.00,9,  -999.00,  -999.00,9,        -999,         -999,9,  -999.00,  -999.00,9,       -999,9,        -999,9,   -999.0,9,   -999.0,9,   -999.0,9,     -999,9,      -999,9,  -999.00,9,  -999.00,9,   1.0265
  32H120020718,    24,  2,      5,2,20020804, 71.2973,-152.6310,   51,     15.2,   1.0504,  29.3038,2,-999.0000,9,    373.7,2,   -999.0,9,  -999.00,9,  -999.00,9,  -999.00,9,  -999.00,9,     -999,9,   -999.0,9,   -999.0,9,  -999.00,9,  -999.00,  -999.00,9,  -999.00,  -999.00,9,  -999.00,  -999.00,9,        -999,         -999,9,  -999.00,  -999.00,9,       -999,9,        -999,9,   -999.0,9,   -999.0,9,   -999.0,9,     -999,9,      -999,9,  -999.00,9,  -999.00,9,   1.0499
  32H120020718,    24,  2,     10,2,20020804, 71.2973,-152.6310,   51,     15.2,   1.1091,  29.3289,2,-999.0000,9,    373.7,2,   -999.0,9,  -999.00,9,  -999.00,9,  -999.00,9,  -999.00,9,     -999,9,   -999.0,9,   -999.0,9,  -999.00,9,  -999.00,  -999.00,9,  -999.00,  -999.00,9,  -999.00,  -999.00,9,        -999,         -999,9,  -999.00,  -999.00,9,       -999,9,        -999,9,   -999.0,9,   -999.0,9,   -999.0,9,     -999,9,      -999,9,  -999.00,9,  -999.00,9,   1.1086
  32H120020718,    24,  2,      4,2,20020804, 71.2973,-152.6310,   51,     15.2,   1.1164,  29.3189,2,-999.0000,9,    374.1,2,   -999.0,9,     8.87,2,     0.06,2,     0.01,2,     0.57,2,      0.2,2,   -999.0,9,   -999.0,9,  -999.00,9,  -999.00,  -999.00,9,  -999.00,  -999.00,9,  -999.00,  -999.00,9,        -999,         -999,9,  -999.00,  -999.00,9,       -999,9,        -999,9,   -999.0,9,   -999.0,9,   -999.0,9,     0.02,2,      -999,9,  -999.00,9,  -999.00,9,   1.1159
  32H120020718,    24,  2,      6,2,20020804, 71.2973,-152.6310,   51,     15.2,   1.1209,  29.3243,2,-999.0000,9,    373.2,2,   -999.0,9,  -999.00,9,  -999.00,9,  -999.00,9,  -999.00,9,     -999,9,   -999.0,9,   -999.0,9,  -999.00,9,  -999.00,  -999.00,9,  -999.00,  -999.00,9,  -999.00,  -999.00,9,        -999,         -999,9,  -999.00,  -999.00,9,       -999,9,        -999,9,   -999.0,9,   -999.0,9,   -999.0,9,     -999,9,      -999,9,  -999.00,9,  -999.00,9,   1.1204
  32H120020718,    24,  2,     11,2,20020804, 71.2973,-152.6310,   51,     15.2,   1.1362,  29.3789,2,-999.0000,9,    374.1,2,   -999.0,9,  -999.00,9,  -999.00,9,  -999.00,9,  -999.00,9,     -999,9,   -999.0,9,   -999.0,9,  -999.00,9,  -999.00,  -999.00,9,  -999.00,  -999.00,9,  -999.00,  -999.00,9,        -999,         -999,9,  -999.00,  -999.00,9,       -999,9,        -999,9,   -999.0,9,   -999.0,9,   -999.0,9,     -999,9,      -999,9,  -999.00,9,  -999.00,9,   1.1357
  32H120020718,    24,  4,      8,2,20020804, 71.2973,-152.6310,   51,     20.9,  -0.1572,  29.7288,2,-999.0000,9,    372.2,2,   -999.0,9,  -999.00,9,  -999.00,9,  -999.00,9,  -999.00,9,     -999,9,   -999.0,9,   -999.0,9,  -999.00,9,  -999.00,  -999.00,9,  -999.00,  -999.00,9,  -999.00,  -999.00,9,        -999,         -999,9,  -999.00,  -999.00,9,       -999,9,        -999,9,   -999.0,9,   -999.0,9,   -999.0,9,     -999,9,      -999,9,  -999.00,9,  -999.00,9,  -0.1577
  32H120020718,    24,  4,      7,2,20020804, 71.2973,-152.6310,   51,     21.0,  -0.1550,  29.7073,2,  29.6667,2,    372.6,2,    380.7,2,     8.39,2,    -0.01,2,     0.01,2,     0.61,2,     0.37,2,   1907.7,2,   2080.9,2,  -999.00,9,  -999.00,  -999.00,9,  -999.00,  -999.00,9,  -999.00,  -999.00,9,        -999,         -999,9,  -999.00,  -999.00,9,  70.441847,2,  15.0093064,2,     83.9,2,      6.2,2,      6.5,2,     0.02,2,      -999,9,     0.72,2,     0.44,2,  -0.1555
  32H120020718,    24,  1,      4,2,20020804, 71.2973,-152.6310,   51,     22.8,  -0.1530,  29.6525,2,-999.0000,9,    400.7,2,   -999.0,9,  -999.00,9,  -999.00,9,  -999.00,9,  -999.00,9,     -999,9,   -999.0,9,   -999.0,9,  -999.00,9,  -999.00,  -999.00,9,  -999.00,  -999.00,9,  -999.00,  -999.00,9,        -999,         -999,9,  -999.00,  -999.00,9,       -999,9,        -999,9,   -999.0,9,   -999.0,9,   -999.0,9,     -999,9,      -999,9,  -999.00,9,  -999.00,9,  -0.1536
  32H120020718,    24,  1,      5,2,20020804, 71.2973,-152.6310,   51,     22.8,  -0.1710,  29.6828,2,-999.0000,9,    395.6,2,    407.2,2,    10.32,2,     0.06,2,     0.01,2,     0.65,2,     0.29,2,   1932.4,2,   2124.2,2,  -999.00,9,  -999.00,  -999.00,9,  -999.00,  -999.00,9,  -999.00,  -999.00,9,        -999,         -999,9,  -999.00,  -999.00,9,       -999,9,        -999,9,   -999.0,9,   -999.0,9,   -999.0,9,     0.02,2,      -999,9,     0.52,2,     0.40,2,  -0.1716
  32H120020718,    24,  1,      3,2,20020804, 71.2973,-152.6310,   51,     26.0,  -0.3328,  30.3902,2,-999.0000,9,    399.3,2,   -999.0,9,  -999.00,9,  -999.00,9,  -999.00,9,  -999.00,9,     -999,9,   -999.0,9,   -999.0,9,  -999.00,9,  -999.00,  -999.00,9,  -999.00,  -999.00,9,  -999.00,  -999.00,9,        -999,         -999,9,  -999.00,  -999.00,9,       -999,9,        -999,9,   -999.0,9,   -999.0,9,   -999.0,9,     -999,9,      -999,9,  -999.00,9,  -999.00,9,  -0.3334
  32H120020718,    24,  3,      9,2,20020804, 71.2973,-152.6310,   51,     29.2,  -0.3411,  30.4161,2,  30.4421,2,    378.6,2,    396.5,2,    11.46,2,     0.28,2,     0.02,2,     0.73,2,     0.96,2,   1953.4,2,   2129.3,2,  -999.00,9,  -999.00,  -999.00,9,  -999.00,  -999.00,9,  -999.00,  -999.00,9,        -999,         -999,9,  -999.00,  -999.00,9,       -999,9,        -999,9,     70.8,2,      5.0,2,      6.3,2,     0.07,2,      -999,9,     0.25,2,     0.18,2,  -0.3418
  32H120020718,    24,  4,      6,2,20020804, 71.2973,-152.6310,   51,     31.1,  -0.3689,  30.3738,2,-999.0000,9,    378.1,2,   -999.0,9,  -999.00,9,  -999.00,9,  -999.00,9,  -999.00,9,     -999,9,   -999.0,9,   -999.0,9,  -999.00,9,  -999.00,  -999.00,9,  -999.00,  -999.00,9,  -999.00,  -999.00,9,        -999,         -999,9,  -999.00,  -999.00,9,       -999,9,        -999,9,     74.8,2,   -999.0,9,   -999.0,9,     -999,9,      -999,9,  -999.00,9,  -999.00,9,  -0.3697
  32H120020718,    24,  4,      5,2,20020804, 71.2973,-152.6310,   51,     31.1,  -0.3807,  30.3574,2,  30.3225,2,    377.7,2,    376.7,2,    11.23,2,     0.32,2,     0.03,2,     0.77,2,     1.25,2,   1962.5,2,   2140.1,2,  -999.00,9,  -999.00,  -999.00,9,  -999.00,  -999.00,9,  -999.00,  -999.00,9,        -999,         -999,9,  -999.00,  -999.00,9, 68.2726206,2,  15.5503365,2,   -999.0,9,      5.8,2,      7.4,2,     0.12,2,      -999,9,     0.45,2,     0.31,2,  -0.3814
  32H120020718,    24,  1,      2,2,20020804, 71.2973,-152.6310,   51,     36.1,  -0.6806,  31.1464,2,-999.0000,9,    398.5,2,    400.2,2,    14.74,2,     0.78,2,     0.04,2,     0.88,2,     1.15,2,   -999.0,9,   -999.0,9,  -999.00,9,  -999.00,  -999.00,9,  -999.00,  -999.00,9,  -999.00,  -999.00,9,        -999,         -999,9,  -999.00,  -999.00,9,       -999,9,        -999,9,   -999.0,9,   -999.0,9,   -999.0,9,     0.09,2,      -999,9,  -999.00,9,  -999.00,9,  -0.6814
  32H120020718,    24,  2,      3,2,20020804, 71.2973,-152.6310,   51,     35.9,  -0.7824,  30.9972,2,-999.0000,9,    403.3,2,   -999.0,9,    13.29,2,     0.32,2,     0.03,2,     0.80,2,     0.85,2,   -999.0,9,   -999.0,9,  -999.00,9,  -999.00,  -999.00,9,  -999.00,  -999.00,9,  -999.00,  -999.00,9,        -999,         -999,9,  -999.00,  -999.00,9,       -999,9,        -999,9,   -999.0,9,   -999.0,9,   -999.0,9,     0.08,2,      -999,9,  -999.00,9,  -999.00,9,  -0.7832
  32H120020718,    24,  2,      1,2,20020804, 71.2973,-152.6310,   51,     35.9,  -0.7847,  30.9986,2,-999.0000,9,    403.2,2,   -999.0,9,  -999.00,9,  -999.00,9,  -999.00,9,  -999.00,9,     -999,9,   -999.0,9,   -999.0,9,  -999.00,9,  -999.00,  -999.00,9,  -999.00,  -999.00,9,  -999.00,  -999.00,9,        -999,         -999,9,  -999.00,  -999.00,9,       -999,9,        -999,9,   -999.0,9,   -999.0,9,   -999.0,9,     -999,9,      -999,9,  -999.00,9,  -999.00,9,  -0.7855
  32H120020718,    24,  2,      2,2,20020804, 71.2973,-152.6310,   51,     35.9,  -0.7949,  30.9948,2,-999.0000,9,    403.2,2,   -999.0,9,  -999.00,9,  -999.00,9,  -999.00,9,  -999.00,9,     -999,9,   -999.0,9,   -999.0,9,  -999.00,9,  -999.00,  -999.00,9,  -999.00,  -999.00,9,  -999.00,  -999.00,9,        -999,         -999,9,  -999.00,  -999.00,9,       -999,9,        -999,9,   -999.0,9,   -999.0,9,   -999.0,9,     -999,9,      -999,9,  -999.00,9,  -999.00,9,  -0.7957