BOTTLE,20090202PRINUNIVRMK
EXPOCODE,STNNBR,CASTNO,BTLNBR,BTLNBR_FLAG_W,DATE,LATITUDE,LONGITUDE,DEPTH,CTDPRS,CTDTMP,CTDSAL,CTDSAL_FLAG_W,SALNTY,SALNTY_FLAG_W,CTDOXY,CTDOXY_FLAG_W,OXYGEN,OXYGEN_FLAG_W,SILCAT,SILCAT_FLAG_W,NITRAT,NITRAT_FLAG_W,NITRIT,NITRIT_FLAG_W,PHSPHT,PHSPHT_FLAG_W,AMMONI,AMMONI_FLAG_W,TCARBN,TCARBN_FLAG_W,ALKALI,ALKALI_FLAG_W,DELO18,DELO18_FLAG_W,RA-224,RA-224E,RA-224_FLAG_W,RA-226,RA-226E,RA-226_FLAG_W,RA-228,RA-228E,RA-228_FLAG_W,RA-8/6,RA-8/6E,RA-8/6_FLAG_W,TH-228,TH-228E,TH-228_FLAG_W,POC,POC_FLAG_W,PON,PON_FLAG_W,DOC,DOC_FLAG_W,DON,DON_FLAG_W,TDN,TDN_FLAG_W,UREA,UREA_FLAG_W,LIGNIN,LIGNIN_FLAG_W,CHLORA,CHLORA_FLAG_W,PHAEO,PHAEO_FLAG_W,THETA
,,,,,,,,METERS,DBARS,ITS-90,PSS-78,,PSS-78,,UMOL/KG,,UMOL/KG,,UMOL/KG,,UMOL/KG,,UMOL/KG,,UMOL/KG,,UMOL/KG,,UMOL/KG,,UMOL/KG,,O/OO,,DPM/100KG,DPM/100KG,,DPM/100KG,DPM/100KG,,DPM/100KG,DPM/100KG,,,,,DPM/100KG,DPM/100KG,,ug/kg,,ug/kg,,UMOL/KG,,UMOL/KG,,UMOL/KG,,UMOL/KG,,NG/KG,,UG/L,,UG/L,,DEGC
  32H120020718,    34,  1,     11,2,20020816, 73.3009,-160.1330, 1245,     12.7,  -0.4854,  27.4727,2,  27.4380,2,    373.2,2,    378.1,2,     2.80,2,     0.04,2,     0.00,2,     0.64,2,        0,2,   -999.0,5,   2020.4,2,  -999.00,9,  -999.00,  -999.00,9,  -999.00,  -999.00,9,  -999.00,  -999.00,9,        -999,         -999,9,  -999.00,  -999.00,9, 30.3236055,2,  5.68201572,2,     65.8,2,      3.4,2,      3.4,2,        0,2,      -999,9,     0.08,2,     0.07,2,  -0.4856
  32H120020718,    34,  1,     10,2,20020816, 73.3009,-160.1330, 1245,     26.8,  -1.3602,  30.8555,2,  30.7756,2,    404.6,2,    420.1,2,     5.44,2,     0.04,2,     0.00,2,     0.81,2,     0.01,2,   -999.0,5,   2232.5,2,  -999.00,9,  -999.00,  -999.00,9,  -999.00,  -999.00,9,  -999.00,  -999.00,9,        -999,         -999,9,  -999.00,  -999.00,9, 79.4385462,2,  14.2235593,2,     72.6,2,      5.1,2,      5.1,2,        0,2,      -999,9,     0.45,2,     0.42,2,  -1.3606
  32H120020718,    34,  1,      9,2,20020816, 73.3009,-160.1330, 1245,     41.2,  -1.5484,  31.8967,2,  31.8776,2,    329.6,2,    353.9,2,    20.64,2,     5.98,2,     0.18,2,     1.30,2,     0.82,2,   2113.1,2,   -999.0,9,  -999.00,9,  -999.00,  -999.00,9,  -999.00,  -999.00,9,  -999.00,  -999.00,9,        -999,         -999,9,  -999.00,  -999.00,9, 25.9588573,2,  5.46762441,2,     72.1,2,      4.6,2,     11.5,2,     0.01,2,      -999,9,     0.22,2,     0.39,2,  -1.5491
  32H120020718,    34,  1,      8,2,20020816, 73.3009,-160.1330, 1245,     62.3,  -1.6219,  32.3989,2,  32.3759,2,    284.7,2,   -999.0,9,    39.33,2,    12.82,2,     0.15,2,     1.83,2,     0.65,2,   -999.0,9,   -999.0,9,  -999.00,9,  -999.00,  -999.00,9,  -999.00,  -999.00,9,  -999.00,  -999.00,9,        -999,         -999,9,  -999.00,  -999.00,9,       -999,9,        -999,9,   -999.0,9,   -999.0,9,   -999.0,9,     0.02,2,      -999,9,     0.10,2,     0.30,2,  -1.6230
  32H120020718,    34,  1,      7,2,20020816, 73.3009,-160.1330, 1245,     81.5,  -1.6071,  32.7280,2,  32.7206,2,    299.6,2,    311.2,2,    33.77,2,    12.06,2,     0.13,2,     1.71,2,     1.14,2,   2173.7,2,   -999.0,9,  -999.00,9,  -999.00,  -999.00,9,  -999.00,  -999.00,9,  -999.00,  -999.00,9,        -999,         -999,9,  -999.00,  -999.00,9, 17.3114035,2,  3.53853455,2,     65.1,2,      6.8,2,     20.1,2,        0,2,      -999,9,     0.03,2,     0.11,2,  -1.6086
  32H120020718,    34,  1,      6,2,20020816, 73.3009,-160.1330, 1245,     99.3,  -1.5899,  32.9766,2,  32.9667,2,    287.3,2,    295.8,2,    32.78,2,    13.85,2,     0.01,2,     1.75,2,        0,2,   2192.5,2,   2313.5,2,  -999.00,9,  -999.00,  -999.00,9,  -999.00,  -999.00,9,  -999.00,  -999.00,9,        -999,         -999,9,  -999.00,  -999.00,9, 10.6429488,2,  1.87644196,2,     62.8,2,      6.8,2,     20.7,2,        0,2,      -999,9,     0.02,2,     0.04,2,  -1.5918
  32H120020718,    34,  1,      5,2,20020816, 73.3009,-160.1330, 1245,    124.3,  -1.5237,  33.2397,2,  33.2323,2,    281.0,2,    291.0,2,    31.99,2,    14.05,2,     0.00,2,     1.73,2,        0,2,   -999.0,9,   -999.0,9,  -999.00,9,  -999.00,  -999.00,9,  -999.00,  -999.00,9,  -999.00,  -999.00,9,        -999,         -999,9,  -999.00,  -999.00,9,       -999,9,        -999,9,   -999.0,9,      5.7,2,     19.7,2,        0,2,      -999,9,     0.02,2,     0.07,2,  -1.5262
  32H120020718,    34,  1,      4,2,20020816, 73.3009,-160.1330, 1245,    150.4,  -1.4449,  33.7052,2,  33.6942,2,    283.8,2,    292.3,2,    30.69,2,    13.91,2,     0.00,2,     1.64,2,        0,2,   2216.6,2,   2309.5,2,  -999.00,9,  -999.00,  -999.00,9,  -999.00,  -999.00,9,  -999.00,  -999.00,9,        -999,         -999,9,  -999.00,  -999.00,9, 10.5883498,2,  2.08055073,2,     61.9,2,      5.7,2,     19.6,2,        0,2,      -999,9,     0.02,2,     0.07,2,  -1.4482
  32H120020718,    34,  1,      3,2,20020816, 73.3009,-160.1330, 1245,    177.2,  -0.9887,  34.1396,2,  34.1332,2,    266.7,2,    274.4,2,    22.61,2,    13.57,2,     0.00,2,     1.35,2,        0,2,   -999.0,9,   -999.0,9,  -999.00,9,  -999.00,  -999.00,9,  -999.00,  -999.00,9,  -999.00,  -999.00,9,        -999,         -999,9,  -999.00,  -999.00,9,       -999,9,        -999,9,     57.4,2,      4.7,2,     18.3,2,        0,2,      -999,9,     0.03,2,     0.09,2,  -0.9935
  32H120020718,    34,  1,      2,2,20020816, 73.3009,-160.1330, 1245,    201.6,  -0.4733,  34.4182,2,  34.4074,2,    271.2,2,    277.2,2,    13.31,2,    12.17,2,     0.00,2,     1.02,2,        0,2,   2164.5,2,   2323.3,2,  -999.00,9,  -999.00,  -999.00,9,  -999.00,  -999.00,9,  -999.00,  -999.00,9,        -999,         -999,9,  -999.00,  -999.00,9, 7.45867859,2,  1.21057059,2,     56.0,2,      6.4,2,     18.5,2,        0,2,      -999,9,     0.03,2,     0.10,2,  -0.4799
  32H120020718,    34,  1,      1,2,20020816, 73.3009,-160.1330, 1245,    225.9,  -0.0566,  34.5556,2,  34.5547,2,    275.4,2,    280.3,2,    10.59,2,    11.98,2,     0.00,2,     0.94,2,        0,2,   2157.4,2,   2293.8,2,  -999.00,9,  -999.00,  -999.00,9,  -999.00,  -999.00,9,  -999.00,  -999.00,9,        -999,         -999,9,  -999.00,  -999.00,9, 6.64763168,2,  1.15186739,2,     54.7,2,      8.3,2,     20.3,2,        0,2,      -999,9,     0.02,2,     0.08,2,  -0.0649
  32H120020718,    35,  1,     12,2,20020817, 73.2180,-160.1920,  459,      3.6,  -0.6149,  27.5230,2,  27.5210,2,    370.4,2,    379.2,2,     3.28,2,     0.04,2,     0.01,2,     0.65,2,     0.04,2,   1862.0,2,   1993.0,2,  -999.00,9,  -999.00,  -999.00,9,  -999.00,  -999.00,9,  -999.00,  -999.00,9,        -999,         -999,9,  -999.00,  -999.00,9, 40.3015528,2,  8.81197201,2,     65.8,2,      5.5,2,      5.6,2,     0.02,2,      -999,9,     0.14,2,     0.10,2,  -0.6150
  32H120020718,    35, 99,      1,9,20020817, 73.2180,-160.1920,  459,      8.1,-999.0000,-999.0000,9,-999.0000,9,   -999.0,9,   -999.0,9,  -999.00,9,  -999.00,9,  -999.00,9,  -999.00,9,     -999,9,   -999.0,9,   -999.0,9,  -999.00,9,     1.53,     0.08,2,     6.17,     0.40,2,     3.12,     0.56,2, 0.487340691, 0.0955569983,2,     0.64,     0.27,2,       -999,9,        -999,9,   -999.0,9,   -999.0,9,   -999.0,9,     -999,9,      -999,9,  -999.00,9,  -999.00,9,-999.0000
  32H120020718,    35,  1,     11,2,20020817, 73.2180,-160.1920,  459,     14.7,  -0.5959,  27.5374,2,  27.5362,2,    371.0,2,    378.5,2,     3.28,2,     0.05,2,     0.00,2,     0.65,2,     0.04,2,   1859.4,2,   2042.7,2,  -999.00,9,  -999.00,  -999.00,9,  -999.00,  -999.00,9,  -999.00,  -999.00,9,        -999,         -999,9,  -999.00,  -999.00,9, 43.3135345,2,  9.28287324,2,     68.5,2,      5.8,2,      5.9,2,     0.02,2,      -999,9,     0.14,2,     0.10,2,  -0.5961
  32H120020718,    35,  1,     10,2,20020817, 73.2180,-160.1920,  459,     25.3,  -1.2510,  30.4541,2,  30.3693,2,    411.2,2,    422.3,2,     3.76,2,     0.05,2,     0.00,2,     0.75,2,     0.04,2,   2001.6,2,   2184.7,2,  -999.00,9,  -999.00,  -999.00,9,  -999.00,  -999.00,9,  -999.00,  -999.00,9,        -999,         -999,9,  -999.00,  -999.00,9, 84.9462041,2,  15.9023105,2,     71.6,2,      6.0,2,      6.1,2,     0.02,2,      -999,9,     0.39,2,     0.26,2,  -1.2514
  32H120020718,    35,  1,      9,2,20020817, 73.2180,-160.1920,  459,     46.1,  -1.5599,  32.3661,2,  32.3152,2,    284.8,2,    296.4,2,    33.33,2,    11.71,2,     0.14,2,     1.74,2,     0.65,2,   2113.2,2,   2276.3,2,  -999.00,9,  -999.00,  -999.00,9,  -999.00,  -999.00,9,  -999.00,  -999.00,9,        -999,         -999,9,  -999.00,  -999.00,9, 63.8104385,2,  13.1610348,2,     64.9,2,      5.4,2,     17.9,2,     0.07,2,      -999,9,     0.47,2,     0.43,2,  -1.5607
  32H120020718,    35,  1,      8,2,20020817, 73.2180,-160.1920,  459,     66.9,  -1.1793,  32.8980,2,  32.8944,2,    283.6,2,    290.8,2,    19.15,2,    11.04,2,     0.12,2,     1.87,2,     3.84,2,   2168.7,2,   2290.5,2,  -999.00,9,  -999.00,  -999.00,9,  -999.00,  -999.00,9,  -999.00,  -999.00,9,        -999,         -999,9,  -999.00,  -999.00,9, 69.6764972,2,  14.2793295,2,     62.8,2,      4.5,2,     19.5,2,     0.34,2,      -999,9,     0.26,2,     0.38,2,  -1.1808
  32H120020718,    35,  1,      7,2,20020817, 73.2180,-160.1920,  459,     86.3,  -1.2829,  32.9719,2,  32.9679,2,    283.2,2,    290.1,2,    26.13,2,    12.20,2,     0.15,2,     1.96,2,     4.18,2,   2174.9,2,   2273.5,2,  -999.00,9,  -999.00,  -999.00,9,  -999.00,  -999.00,9,  -999.00,  -999.00,9,        -999,         -999,9,  -999.00,  -999.00,9, 70.6792442,2,  13.8876071,2,     61.5,2,      3.4,2,     19.9,2,     0.32,2,      -999,9,     0.20,2,     0.38,2,  -1.2848
  32H120020718,    35,  2,      7,2,20020817, 73.2180,-160.1920,  459,    104.3,  -1.6075,  33.0642,2,-999.0000,9,    282.1,2,   -999.0,9,  -999.00,9,  -999.00,9,  -999.00,9,  -999.00,9,     -999,9,   -999.0,9,   -999.0,9,  -999.00,9,     1.28,     0.10,2,     7.82,     0.22,2,     7.33,     1.94,2, 0.515682556,  0.133695477,2,     0.33,     1.20,2,       -999,9,        -999,9,   -999.0,9,   -999.0,9,   -999.0,9,     -999,9,      -999,9,  -999.00,9,  -999.00,9,  -1.6095
  32H120020718,    35,  2,     12,2,20020817, 73.2180,-160.1920,  459,    104.5,  -1.6067,  33.0696,2,-999.0000,9,    281.4,2,   -999.0,9,    42.79,2,    15.16,2,     0.22,2,     2.02,2,     2.37,2,   -999.0,9,   -999.0,9,  -999.00,9,     1.28,     0.10,2,     7.82,     0.22,2,     7.33,     1.94,2, 0.515678677,  0.133694472,2,     0.33,     1.20,2,       -999,9,        -999,9,   -999.0,9,   -999.0,9,   -999.0,9,     0.07,2,      -999,9,  -999.00,9,  -999.00,9,  -1.6087
  32H120020718,    35,  2,      9,2,20020817, 73.2180,-160.1920,  459,    104.5,  -1.6101,  33.0639,2,-999.0000,9,    281.4,2,   -999.0,9,  -999.00,9,  -999.00,9,  -999.00,9,  -999.00,9,     -999,9,   -999.0,9,   -999.0,9,  -999.00,9,     1.28,     0.10,2,     7.82,     0.22,2,     7.33,     1.94,2, 0.515678216,  0.133694352,2,     0.33,     1.20,2,       -999,9,        -999,9,   -999.0,9,   -999.0,9,   -999.0,9,     -999,9,      -999,9,  -999.00,9,  -999.00,9,  -1.6121
  32H120020718,    35,  2,     10,2,20020817, 73.2180,-160.1920,  459,    105.0,  -1.6088,  33.0686,2,-999.0000,9,    281.1,2,   -999.0,9,  -999.00,9,  -999.00,9,  -999.00,9,  -999.00,9,     -999,9,   -999.0,9,   -999.0,9,  -999.00,9,     1.28,     0.10,2,     7.82,     0.22,2,     7.33,     1.94,2, 0.515678831,  0.133694512,2,     0.33,     1.20,2,       -999,9,        -999,9,   -999.0,9,   -999.0,9,   -999.0,9,     -999,9,      -999,9,  -999.00,9,  -999.00,9,  -1.6108
  32H120020718,    35,  2,      8,2,20020817, 73.2180,-160.1920,  459,    105.1,  -1.6103,  33.0684,2,-999.0000,9,    281.9,2,   -999.0,9,  -999.00,9,  -999.00,9,  -999.00,9,  -999.00,9,     -999,9,   -999.0,9,   -999.0,9,  -999.00,9,     1.28,     0.10,2,     7.82,     0.22,2,     7.33,     1.94,2, 0.515679983,   0.13369481,2,     0.33,     1.20,2,       -999,9,        -999,9,   -999.0,9,   -999.0,9,   -999.0,9,     -999,9,      -999,9,  -999.00,9,  -999.00,9,  -1.6123
  32H120020718,    35,  2,     11,2,20020817, 73.2180,-160.1920,  459,    105.7,  -1.6077,  33.0701,2,-999.0000,9,    281.5,2,   -999.0,9,  -999.00,9,  -999.00,9,  -999.00,9,  -999.00,9,     -999,9,   -999.0,9,   -999.0,9,  -999.00,9,     1.28,     0.10,2,     7.82,     0.22,2,     7.33,     1.94,2, 0.515675989,  0.133693775,2,     0.33,     1.20,2,       -999,9,        -999,9,   -999.0,9,   -999.0,9,   -999.0,9,     -999,9,      -999,9,  -999.00,9,  -999.00,9,  -1.6097
  32H120020718,    35,  1,      6,2,20020817, 73.2180,-160.1920,  459,    107.7,  -1.6187,  33.0940,2,  33.0859,2,    282.7,2,    290.4,2,    40.37,2,    15.01,2,     0.17,2,     1.93,2,     1.16,2,   2201.4,2,   2308.2,2,  -999.00,9,  -999.00,  -999.00,9,  -999.00,  -999.00,9,  -999.00,  -999.00,9,        -999,         -999,9,  -999.00,  -999.00,9, 29.1703023,2,  5.65813956,2,     61.2,2,      3.0,2,     19.3,2,     0.02,2,      -999,9,     0.06,2,     0.19,2,  -1.6208
  32H120020718,    35,  1,      5,2,20020817, 73.2180,-160.1920,  459,    133.5,  -1.6070,  33.3667,2,  33.3574,2,    283.1,2,    290.6,2,    42.44,2,    15.41,2,     0.15,2,     1.93,2,     0.97,2,   -999.0,9,   -999.0,9,  -999.00,9,  -999.00,  -999.00,9,  -999.00,  -999.00,9,  -999.00,  -999.00,9,        -999,         -999,9,  -999.00,  -999.00,9,       -999,9,        -999,9,     60.7,2,      3.4,2,     20.0,2,     0.01,2,      -999,9,     0.06,2,     0.13,2,  -1.6097
  32H120020718,    35,  1,      4,2,20020817, 73.2180,-160.1920,  459,    150.8,  -1.2606,  33.8556,2,  33.8343,2,    276.8,2,    281.8,2,    28.69,2,    14.34,2,     0.01,2,     1.56,2,     0.01,2,   2213.4,2,   2373.2,2,  -999.00,9,  -999.00,  -999.00,9,  -999.00,  -999.00,9,  -999.00,  -999.00,9,        -999,         -999,9,  -999.00,  -999.00,9, 13.1266084,2,  2.93980775,2,     57.9,2,      2.7,2,     17.1,2,        0,2,      -999,9,     0.04,2,     0.08,2,  -1.2642
  32H120020718,    35,  1,      3,2,20020817, 73.2180,-160.1920,  459,    177.8,  -0.4686,  34.3984,2,  34.3894,2,    271.0,2,    276.3,2,    17.87,2,    13.11,2,     0.02,2,     1.18,2,     0.04,2,   -999.0,9,   -999.0,9,  -999.00,9,  -999.00,  -999.00,9,  -999.00,  -999.00,9,  -999.00,  -999.00,9,        -999,         -999,9,  -999.00,  -999.00,9,       -999,9,        -999,9,     54.7,2,      2.7,2,     15.8,2,        0,2,      -999,9,     0.03,2,     0.08,2,  -0.4743
  32H120020718,    35,  1,      2,2,20020817, 73.2180,-160.1920,  459,    200.0,  -0.2176,  34.4962,2,  34.4956,2,    272.0,2,    276.9,2,    13.67,2,    12.63,2,     0.01,2,     1.04,2,     0.03,2,   2167.0,2,   2317.5,2,  -999.00,9,  -999.00,  -999.00,9,  -999.00,  -999.00,9,  -999.00,  -999.00,9,        -999,         -999,9,  -999.00,  -999.00,9, 12.6515847,2,  2.46979353,2,     53.6,2,      3.1,2,     15.8,2,        0,2,      -999,9,     0.04,2,     0.09,2,  -0.2246
  32H120020718,    35,  2,      3,2,20020817, 73.2180,-160.1920,  459,    202.5,  -0.4910,  34.4114,2,-999.0000,9,    272.1,2,   -999.0,9,  -999.00,9,  -999.00,9,  -999.00,9,  -999.00,9,     -999,9,   -999.0,9,   -999.0,9,  -999.00,9,     1.35,     0.11,2,     5.44,     0.52,2,     2.67,     1.18,2, 0.466956842,  0.209654092,2,     1.06,     0.74,2,       -999,9,        -999,9,   -999.0,9,   -999.0,9,   -999.0,9,     -999,9,      -999,9,  -999.00,9,  -999.00,9,  -0.4976
  32H120020718,    35,  2,      4,2,20020817, 73.2180,-160.1920,  459,    202.7,  -0.4721,  34.4176,2,-999.0000,9,    272.0,2,   -999.0,9,  -999.00,9,  -999.00,9,  -999.00,9,  -999.00,9,     -999,9,   -999.0,9,   -999.0,9,  -999.00,9,     1.36,     0.11,2,     5.47,     0.53,2,     2.68,     1.19,2,    0.469277,  0.210695796,2,     1.06,     0.74,2,       -999,9,        -999,9,   -999.0,9,   -999.0,9,   -999.0,9,     -999,9,      -999,9,  -999.00,9,  -999.00,9,  -0.4787
  32H120020718,    35,  2,      5,2,20020817, 73.2180,-160.1920,  459,    203.2,  -0.4507,  34.4241,2,-999.0000,9,    272.3,2,   -999.0,9,  -999.00,9,  -999.00,9,  -999.00,9,  -999.00,9,     -999,9,   -999.0,9,   -999.0,9,  -999.00,9,     1.36,     0.11,2,     5.47,     0.53,2,     2.68,     1.19,2, 0.469274659,  0.210694745,2,     1.06,     0.74,2,       -999,9,        -999,9,   -999.0,9,   -999.0,9,   -999.0,9,     -999,9,      -999,9,  -999.00,9,  -999.00,9,  -0.4574
  32H120020718,    35,  2,      6,2,20020817, 73.2180,-160.1920,  459,    203.6,  -0.3989,  34.4423,2,-999.0000,9,    273.2,2,   -999.0,9,  -999.00,9,  -999.00,9,  -999.00,9,  -999.00,9,     -999,9,   -999.0,9,   -999.0,9,  -999.00,9,     1.36,     0.11,2,     5.47,     0.53,2,     2.68,     1.19,2, 0.469262142,  0.210689125,2,     1.06,     0.74,2,       -999,9,        -999,9,   -999.0,9,   -999.0,9,   -999.0,9,     -999,9,      -999,9,  -999.00,9,  -999.00,9,  -0.4057
  32H120020718,    35,  2,      1,2,20020817, 73.2180,-160.1920,  459,    203.8,  -0.4497,  34.4244,2,-999.0000,9,    272.4,2,   -999.0,9,  -999.00,9,  -999.00,9,  -999.00,9,  -999.00,9,     -999,9,   -999.0,9,   -999.0,9,  -999.00,9,     1.36,     0.11,2,     5.47,     0.53,2,     2.68,     1.19,2, 0.469265527,  0.210690645,2,     1.06,     0.74,2,       -999,9,        -999,9,   -999.0,9,   -999.0,9,   -999.0,9,     -999,9,      -999,9,  -999.00,9,  -999.00,9,  -0.4564
  32H120020718,    35,  2,      2,2,20020817, 73.2180,-160.1920,  459,    204.1,  -0.4714,  34.4177,2,-999.0000,9,    272.3,2,   -999.0,9,    12.69,2,    12.24,2,     0.00,2,     0.99,2,        0,2,   -999.0,9,   -999.0,9,  -999.00,9,     1.36,     0.11,2,     5.46,     0.53,2,     2.68,     1.18,2,  0.46812548,  0.210178787,2,     1.06,     0.74,2,       -999,9,        -999,9,   -999.0,9,   -999.0,9,   -999.0,9,        0,2,      -999,9,  -999.00,9,  -999.00,9,  -0.4780
  32H120020718,    35,  1,      1,2,20020817, 73.2180,-160.1920,  459,    226.3,   0.1251,  34.6116,2,  34.6095,2,    275.9,2,    280.4,2,    10.73,2,    12.49,2,     0.00,2,     0.94,2,     0.02,2,   2158.5,2,   2325.6,2,  -999.00,9,  -999.00,  -999.00,9,  -999.00,  -999.00,9,  -999.00,  -999.00,9,        -999,         -999,9,  -999.00,  -999.00,9, 11.4205873,2,  1.94247728,2,     53.8,2,   -999.0,9,   -999.0,9,        0,2,      -999,9,     0.03,2,     0.06,2,   0.1165
  32H120020718,    37,  1,     12,2,20020817, 73.0712,-160.4940,  183,      2.9,  -0.3449,  27.8920,2,  27.8895,2,    372.0,2,    384.5,2,     3.12,2,     0.04,2,     0.01,2,     0.67,2,     0.02,2,   1870.5,2,   2033.6,2,  -999.00,9,  -999.00,  -999.00,9,  -999.00,  -999.00,9,  -999.00,  -999.00,9,        -999,         -999,9,  -999.00,  -999.00,9, 63.4914446,2,  11.3798063,2,     66.6,2,      5.2,2,      5.2,2,     0.01,2,      -999,9,     0.27,2,     0.15,2,  -0.3450
  32H120020718,    37,  3,     11,2,20020817, 73.0712,-160.4940,  183,      2.8,  -0.3273,  27.9167,2,  27.9119,2,    371.8,2,    380.6,2,     3.20,2,     0.00,2,     0.00,2,     0.66,2,     0.03,2,   -999.0,9,   -999.0,9,  -999.00,9,  -999.00,  -999.00,9,  -999.00,  -999.00,9,  -999.00,  -999.00,9,        -999,         -999,9,  -999.00,  -999.00,9,       -999,9,        -999,9,   -999.0,9,   -999.0,9,   -999.0,9,        0,2,      -999,9,     0.19,2,     0.12,2,  -0.3274
  32H120020718,    37,  3,     12,2,20020817, 73.0712,-160.4940,  183,      2.8,  -0.3279,  27.9169,2,-999.0000,9,    371.5,2,   -999.0,9,  -999.00,9,  -999.00,9,  -999.00,9,  -999.00,9,     -999,9,   -999.0,9,   -999.0,9,  -999.00,9,  -999.00,  -999.00,9,  -999.00,  -999.00,9,  -999.00,  -999.00,9,        -999,         -999,9,  -999.00,  -999.00,9,       -999,9,        -999,9,   -999.0,9,   -999.0,9,   -999.0,9,     -999,9,      -999,9,  -999.00,9,  -999.00,9,  -0.3280
  32H120020718,    37,  3,     10,2,20020817, 73.0712,-160.4940,  183,      7.1,  -0.3316,  27.9345,2,-999.0000,9,    372.0,2,    380.8,2,     3.20,2,     0.00,2,     0.00,2,     0.66,2,     0.03,2,   -999.0,9,   -999.0,9,  -999.00,9,  -999.00,  -999.00,9,  -999.00,  -999.00,9,  -999.00,  -999.00,9,        -999,         -999,9,  -999.00,  -999.00,9,       -999,9,        -999,9,   -999.0,9,   -999.0,9,   -999.0,9,        0,2,      -999,9,     0.23,2,     0.15,2,  -0.3317