BOTTLE,20090202PRINUNIVRMK
EXPOCODE,STNNBR,CASTNO,BTLNBR,BTLNBR_FLAG_W,DATE,LATITUDE,LONGITUDE,DEPTH,CTDPRS,CTDTMP,CTDSAL,CTDSAL_FLAG_W,SALNTY,SALNTY_FLAG_W,CTDOXY,CTDOXY_FLAG_W,OXYGEN,OXYGEN_FLAG_W,SILCAT,SILCAT_FLAG_W,NITRAT,NITRAT_FLAG_W,NITRIT,NITRIT_FLAG_W,PHSPHT,PHSPHT_FLAG_W,AMMONI,AMMONI_FLAG_W,TCARBN,TCARBN_FLAG_W,ALKALI,ALKALI_FLAG_W,DELO18,DELO18_FLAG_W,RA-224,RA-224E,RA-224_FLAG_W,RA-226,RA-226E,RA-226_FLAG_W,RA-228,RA-228E,RA-228_FLAG_W,RA-8/6,RA-8/6E,RA-8/6_FLAG_W,TH-228,TH-228E,TH-228_FLAG_W,POC,POC_FLAG_W,PON,PON_FLAG_W,DOC,DOC_FLAG_W,DON,DON_FLAG_W,TDN,TDN_FLAG_W,UREA,UREA_FLAG_W,LIGNIN,LIGNIN_FLAG_W,CHLORA,CHLORA_FLAG_W,PHAEO,PHAEO_FLAG_W,THETA
,,,,,,,,METERS,DBARS,ITS-90,PSS-78,,PSS-78,,UMOL/KG,,UMOL/KG,,UMOL/KG,,UMOL/KG,,UMOL/KG,,UMOL/KG,,UMOL/KG,,UMOL/KG,,UMOL/KG,,O/OO,,DPM/100KG,DPM/100KG,,DPM/100KG,DPM/100KG,,DPM/100KG,DPM/100KG,,,,,DPM/100KG,DPM/100KG,,ug/kg,,ug/kg,,UMOL/KG,,UMOL/KG,,UMOL/KG,,UMOL/KG,,NG/KG,,UG/L,,UG/L,,DEGC
  32H120020718,    43,  3,      8,2,20020819, 73.6302,-165.4010,  123,     71.6,  -1.5808,  32.3687,2,-999.0000,9,    276.9,2,   -999.0,9,  -999.00,9,  -999.00,9,  -999.00,9,  -999.00,9,     -999,9,   -999.0,9,   -999.0,9,  -999.00,9,     0.95,     0.12,2,    10.42,     0.16,2,    10.19,     0.44,2,  0.93659202, 0.0382282457,2,     1.29,     0.29,2,       -999,9,        -999,9,   -999.0,9,   -999.0,9,   -999.0,9,     -999,9,      -999,9,  -999.00,9,  -999.00,9,  -1.5821
  32H120020718,    43,  3,      9,2,20020819, 73.6302,-165.4010,  123,     71.6,  -1.5813,  32.3683,2,-999.0000,9,    276.8,2,   -999.0,9,  -999.00,9,  -999.00,9,  -999.00,9,  -999.00,9,     -999,9,   -999.0,9,   -999.0,9,  -999.00,9,     0.95,     0.12,2,    10.42,     0.16,2,    10.19,     0.44,2, 0.936590346, 0.0382281774,2,     1.29,     0.29,2,       -999,9,        -999,9,   -999.0,9,   -999.0,9,   -999.0,9,     -999,9,      -999,9,  -999.00,9,  -999.00,9,  -1.5826
  32H120020718,    43,  3,      7,2,20020819, 73.6302,-165.4010,  123,     71.6,  -1.5814,  32.3688,2,-999.0000,9,    276.2,2,   -999.0,9,  -999.00,9,  -999.00,9,  -999.00,9,  -999.00,9,     -999,9,   -999.0,9,   -999.0,9,  -999.00,9,     0.95,     0.12,2,    10.41,     0.16,2,    10.18,     0.44,2, 0.936300235, 0.0382163361,2,     1.29,     0.29,2,       -999,9,        -999,9,   -999.0,9,   -999.0,9,   -999.0,9,     -999,9,      -999,9,  -999.00,9,  -999.00,9,  -1.5827
  32H120020718,    43,  3,     10,2,20020819, 73.6302,-165.4010,  123,     71.6,  -1.5820,  32.3690,2,-999.0000,9,    276.8,2,   -999.0,9,  -999.00,9,  -999.00,9,  -999.00,9,  -999.00,9,     -999,9,   -999.0,9,   -999.0,9,  -999.00,9,     0.95,     0.12,2,    10.41,     0.16,2,    10.18,     0.44,2, 0.936300095, 0.0382163304,2,     1.29,     0.29,2,       -999,9,        -999,9,   -999.0,9,   -999.0,9,   -999.0,9,     -999,9,      -999,9,  -999.00,9,  -999.00,9,  -1.5833
  32H120020718,    43,  3,      6,2,20020819, 73.6302,-165.4010,  123,     71.6,  -1.5847,  32.3693,2,-999.0000,9,    275.8,2,   -999.0,9,  -999.00,9,  -999.00,9,  -999.00,9,  -999.00,9,     -999,9,   -999.0,9,   -999.0,9,  -999.00,9,     0.96,     0.12,2,    10.42,     0.16,2,    10.19,     0.44,2, 0.936933958, 0.0382422024,2,     1.29,     0.29,2,       -999,9,        -999,9,   -999.0,9,   -999.0,9,   -999.0,9,     -999,9,      -999,9,  -999.00,9,  -999.00,9,  -1.5860
  32H120020718,    43,  3,      4,2,20020819, 73.6302,-165.4010,  123,     71.6,  -1.5901,  32.3617,2,-999.0000,9,    274.8,2,   -999.0,9,  -999.00,9,  -999.00,9,  -999.00,9,  -999.00,9,     -999,9,   -999.0,9,   -999.0,9,  -999.00,9,     0.96,     0.12,2,    10.42,     0.16,2,    10.19,     0.44,2, 0.936939541, 0.0382424302,2,     1.29,     0.29,2,       -999,9,        -999,9,   -999.0,9,   -999.0,9,   -999.0,9,     -999,9,      -999,9,  -999.00,9,  -999.00,9,  -1.5914
  32H120020718,    43,  3,      5,2,20020819, 73.6302,-165.4010,  123,     71.6,  -1.5928,  32.3702,2,-999.0000,9,    276.4,2,   -999.0,9,  -999.00,9,  -999.00,9,  -999.00,9,  -999.00,9,     -999,9,   -999.0,9,   -999.0,9,  -999.00,9,     0.96,     0.12,2,    10.42,     0.16,2,    10.19,     0.44,2, 0.936934307, 0.0382422166,2,     1.29,     0.29,2,       -999,9,        -999,9,   -999.0,9,   -999.0,9,   -999.0,9,     -999,9,      -999,9,  -999.00,9,  -999.00,9,  -1.5941
  32H120020718,    43,  3,      2,2,20020819, 73.6302,-165.4010,  123,     71.6,  -1.5942,  32.3744,2,-999.0000,9,    271.6,2,   -999.0,9,  -999.00,9,  -999.00,9,  -999.00,9,  -999.00,9,     -999,9,   -999.0,9,   -999.0,9,  -999.00,9,     0.96,     0.12,2,    10.42,     0.16,2,    10.19,     0.44,2, 0.936931097, 0.0382420856,2,     1.29,     0.29,2,       -999,9,        -999,9,   -999.0,9,   -999.0,9,   -999.0,9,     -999,9,      -999,9,  -999.00,9,  -999.00,9,  -1.5955
  32H120020718,    43,  3,      3,2,20020819, 73.6302,-165.4010,  123,     71.6,  -1.6023,  32.3657,2,-999.0000,9,    271.6,2,   -999.0,9,  -999.00,9,  -999.00,9,  -999.00,9,  -999.00,9,     -999,9,   -999.0,9,   -999.0,9,  -999.00,9,     0.96,     0.12,2,    10.42,     0.16,2,    10.19,     0.44,2, 0.936938913, 0.0382424046,2,     1.29,     0.29,2,       -999,9,        -999,9,   -999.0,9,   -999.0,9,   -999.0,9,     -999,9,      -999,9,  -999.00,9,  -999.00,9,  -1.6036
  32H120020718,    43,  1,      4,2,20020819, 73.6302,-165.4010,  123,     76.5,  -1.5965,  32.4683,2,  32.4700,2,    275.7,2,    283.5,2,    40.25,2,    13.82,2,     0.08,2,     1.91,2,     0.03,2,   2168.2,2,   2242.2,2,    -1.49,2,  -999.00,  -999.00,9,  -999.00,  -999.00,9,  -999.00,  -999.00,9,        -999,         -999,9,  -999.00,  -999.00,9, 27.2868926,2,  4.32132509,2,     63.5,2,     12.0,2,     25.9,2,        0,2,      -999,9,     0.16,2,     0.18,2,  -1.5979
  32H120020718,    43,  1,      3,2,20020819, 73.6302,-165.4010,  123,     91.4,  -1.4998,  32.9432,2,  32.9463,2,    262.3,2,    269.5,2,    49.42,2,    16.57,2,     0.16,2,     2.19,2,     1.05,2,   2196.2,2,   2309.5,2,    -1.11,2,  -999.00,  -999.00,9,  -999.00,  -999.00,9,  -999.00,  -999.00,9,        -999,         -999,9,  -999.00,  -999.00,9,  28.928846,2,  4.78891074,2,     62.0,2,      8.5,2,     26.2,2,     0.01,2,      -999,9,     0.16,2,     0.24,2,  -1.5016
  32H120020718,    43,  1,      2,2,20020819, 73.6302,-165.4010,  123,    101.4,  -1.3795,  33.3479,2,  33.3226,2,    267.6,2,    275.1,2,    39.72,2,    15.06,2,     0.07,2,     1.93,2,        0,2,   2210.9,2,   2349.1,2,    -1.26,2,  -999.00,  -999.00,9,  -999.00,  -999.00,9,  -999.00,  -999.00,9,        -999,         -999,9,  -999.00,  -999.00,9, 29.3996415,2,    5.061153,2,     63.0,2,   -999.0,9,   -999.0,9,        0,2,      -999,9,     0.11,2,     0.20,2,  -1.3817
  32H120020718,    43,  2,      1,2,20020819, 73.6302,-165.4010,  123,    112.9,  -1.1762,  33.6204,2,-999.0000,9,    235.2,2,   -999.0,9,  -999.00,9,  -999.00,9,  -999.00,9,  -999.00,9,     -999,9,   -999.0,9,   -999.0,9,  -999.00,9,     1.58,     0.21,2,     9.86,     0.45,2,     7.13,     0.53,2, 0.687720486, 0.0573100405,2,     0.63,     0.37,2,       -999,9,        -999,9,   -999.0,9,   -999.0,9,   -999.0,9,     -999,9,      -999,9,  -999.00,9,  -999.00,9,  -1.1789
  32H120020718,    43,  2,      3,2,20020819, 73.6302,-165.4010,  123,    112.9,  -1.1773,  33.6191,2,-999.0000,9,    235.2,2,   -999.0,9,  -999.00,9,  -999.00,9,  -999.00,9,  -999.00,9,     -999,9,   -999.0,9,   -999.0,9,  -999.00,9,     1.58,     0.21,2,     9.86,     0.45,2,     7.13,     0.53,2, 0.687717003, 0.0573097502,2,     0.63,     0.37,2,       -999,9,        -999,9,   -999.0,9,   -999.0,9,   -999.0,9,     -999,9,      -999,9,  -999.00,9,  -999.00,9,  -1.1800
  32H120020718,    43,  2,      7,2,20020819, 73.6302,-165.4010,  123,    112.9,  -1.1777,  33.6159,2,-999.0000,9,    233.0,2,   -999.0,9,  -999.00,9,  -999.00,9,  -999.00,9,  -999.00,9,     -999,9,   -999.0,9,   -999.0,9,  -999.00,9,     1.58,     0.21,2,     9.86,     0.45,2,     7.13,     0.53,2,  0.68771772,   0.05730981,2,     0.63,     0.37,2,       -999,9,        -999,9,   -999.0,9,   -999.0,9,   -999.0,9,     -999,9,      -999,9,  -999.00,9,  -999.00,9,  -1.1804
  32H120020718,    43,  2,      2,2,20020819, 73.6302,-165.4010,  123,    112.9,  -1.1778,  33.6189,2,-999.0000,9,    235.2,2,   -999.0,9,  -999.00,9,  -999.00,9,  -999.00,9,  -999.00,9,     -999,9,   -999.0,9,   -999.0,9,  -999.00,9,     1.58,     0.21,2,     9.86,     0.45,2,     7.13,     0.53,2, 0.687718591, 0.0573098826,2,     0.63,     0.37,2,       -999,9,        -999,9,   -999.0,9,   -999.0,9,   -999.0,9,     -999,9,      -999,9,  -999.00,9,  -999.00,9,  -1.1805
  32H120020718,    43,  2,      5,2,20020819, 73.6302,-165.4010,  123,    112.9,  -1.1789,  33.6155,2,-999.0000,9,    233.2,2,   -999.0,9,  -999.00,9,  -999.00,9,  -999.00,9,  -999.00,9,     -999,9,   -999.0,9,   -999.0,9,  -999.00,9,     1.59,     0.21,2,     9.89,     0.45,2,     7.15,     0.53,2, 0.690068875, 0.0575057396,2,     0.64,     0.37,2,       -999,9,        -999,9,   -999.0,9,   -999.0,9,   -999.0,9,     -999,9,      -999,9,  -999.00,9,  -999.00,9,  -1.1816
  32H120020718,    43,  2,      4,2,20020819, 73.6302,-165.4010,  123,    112.9,  -1.1792,  33.6150,2,-999.0000,9,    235.0,2,   -999.0,9,  -999.00,9,  -999.00,9,  -999.00,9,  -999.00,9,     -999,9,   -999.0,9,   -999.0,9,  -999.00,9,     1.59,     0.21,2,     9.89,     0.45,2,     7.15,     0.53,2, 0.690069338, 0.0575057782,2,     0.64,     0.37,2,       -999,9,        -999,9,   -999.0,9,   -999.0,9,   -999.0,9,     -999,9,      -999,9,  -999.00,9,  -999.00,9,  -1.1819
  32H120020718,    43,  2,      6,2,20020819, 73.6302,-165.4010,  123,    112.9,  -1.1795,  33.6145,2,-999.0000,9,    233.9,2,   -999.0,9,  -999.00,9,  -999.00,9,  -999.00,9,  -999.00,9,     -999,9,   -999.0,9,   -999.0,9,  -999.00,9,     1.59,     0.21,2,     9.89,     0.45,2,     7.15,     0.53,2, 0.690069646, 0.0575058039,2,     0.64,     0.37,2,       -999,9,        -999,9,   -999.0,9,   -999.0,9,   -999.0,9,     -999,9,      -999,9,  -999.00,9,  -999.00,9,  -1.1822
  32H120020718,    43,  2,      8,2,20020819, 73.6302,-165.4010,  123,    112.9,  -1.1822,  33.6131,2,-999.0000,9,    233.7,2,   -999.0,9,  -999.00,9,  -999.00,9,  -999.00,9,  -999.00,9,     -999,9,   -999.0,9,   -999.0,9,  -999.00,9,     1.59,     0.21,2,     9.89,     0.45,2,     7.15,     0.53,2, 0.690028892, 0.0575024076,2,     0.64,     0.37,2,       -999,9,        -999,9,   -999.0,9,   -999.0,9,   -999.0,9,     -999,9,      -999,9,  -999.00,9,  -999.00,9,  -1.1849
  32H120020718,    43,  2,      9,2,20020819, 73.6302,-165.4010,  123,    112.9,  -1.1829,  33.6139,2,-999.0000,9,    233.9,2,   -999.0,9,  -999.00,9,  -999.00,9,  -999.00,9,  -999.00,9,     -999,9,   -999.0,9,   -999.0,9,  -999.00,9,     1.58,     0.21,2,     9.86,     0.45,2,     7.13,     0.53,2, 0.688204104,  0.057350342,2,     0.63,     0.37,2,       -999,9,        -999,9,   -999.0,9,   -999.0,9,   -999.0,9,     -999,9,      -999,9,  -999.00,9,  -999.00,9,  -1.1856
  32H120020718,    43,  2,     10,2,20020819, 73.6302,-165.4010,  123,    112.9,  -1.1846,  33.6121,2,-999.0000,9,    234.2,2,   -999.0,9,  -999.00,9,  -999.00,9,  -999.00,9,  -999.00,9,     -999,9,   -999.0,9,   -999.0,9,  -999.00,9,     1.58,     0.21,2,     9.86,     0.45,2,     7.13,     0.53,2, 0.688192568, 0.0573493806,2,     0.63,     0.37,2,       -999,9,        -999,9,   -999.0,9,   -999.0,9,   -999.0,9,     -999,9,      -999,9,  -999.00,9,  -999.00,9,  -1.1873
  32H120020718,    43,  2,     11,2,20020819, 73.6302,-165.4010,  123,    112.9,  -1.1861,  33.6116,2,-999.0000,9,    234.2,2,   -999.0,9,  -999.00,9,  -999.00,9,  -999.00,9,  -999.00,9,     -999,9,   -999.0,9,   -999.0,9,  -999.00,9,     1.58,     0.21,2,     9.86,     0.45,2,     7.13,     0.53,2,   0.6878129, 0.0573177417,2,     0.63,     0.37,2,       -999,9,        -999,9,   -999.0,9,   -999.0,9,   -999.0,9,     -999,9,      -999,9,  -999.00,9,  -999.00,9,  -1.1888
  32H120020718,    43,  2,     12,2,20020819, 73.6302,-165.4010,  123,    112.9,  -1.1866,  33.6091,2,-999.0000,9,    234.4,2,   -999.0,9,  -999.00,9,  -999.00,9,  -999.00,9,  -999.00,9,     -999,9,   -999.0,9,   -999.0,9,  -999.00,9,     1.58,     0.21,2,     9.86,     0.45,2,     7.13,     0.53,2, 0.687812592,  0.057317716,2,     0.63,     0.37,2,       -999,9,        -999,9,   -999.0,9,   -999.0,9,   -999.0,9,     -999,9,      -999,9,  -999.00,9,  -999.00,9,  -1.1893
  32H120020718,    43,  3,      1,2,20020819, 73.6302,-165.4010,  123,    116.5,  -1.1325,  33.6327,2,-999.0000,9,    228.5,2,   -999.0,9,  -999.00,9,  -999.00,9,  -999.00,9,  -999.00,9,     -999,9,   -999.0,9,   -999.0,9,  -999.00,9,  -999.00,  -999.00,9,  -999.00,  -999.00,9,  -999.00,  -999.00,9,        -999,         -999,9,  -999.00,  -999.00,9,       -999,9,        -999,9,   -999.0,9,   -999.0,9,   -999.0,9,     -999,9,      -999,9,  -999.00,9,  -999.00,9,  -1.1354
  32H120020718,    43,  1,      1,2,20020819, 73.6302,-165.4010,  123,    117.1,  -0.9113,  33.8289,2,  33.8271,2,    227.3,2,    231.6,2,    45.23,2,    15.53,2,     0.10,2,     2.09,2,     0.28,2,   2231.0,2,   2302.7,2,    -0.76,2,  -999.00,  -999.00,9,  -999.00,  -999.00,9,  -999.00,  -999.00,9,        -999,         -999,9,  -999.00,  -999.00,9, 69.1983488,2,  9.84501852,2,     59.3,2,     16.8,2,     32.7,2,     0.02,2,      -999,9,     0.17,2,     0.16,2,  -0.9144
  32H120020718,    44,  1,     12,2,20020820, 73.3405,-165.5120,   72,      2.2,  -0.1504,  27.7323,2,  27.7311,2,    369.1,2,    377.7,2,     2.87,2,     0.07,2,     0.00,2,     0.67,2,     0.01,2,   1870.5,2,   -999.0,2,  -999.00,9,  -999.00,  -999.00,9,  -999.00,  -999.00,9,  -999.00,  -999.00,9,        -999,         -999,9,  -999.00,  -999.00,9, 48.3894985,2,  8.26115787,2,     64.6,2,      5.0,2,      5.1,2,     0.01,2,      -999,9,     0.14,2,     0.06,2,  -0.1504
  32H120020718,    44,  3,     12,2,20020820, 73.3405,-165.5120,   72,      2.1,   0.2649,  27.7086,2,-999.0000,9,    365.1,2,   -999.0,9,  -999.00,9,  -999.00,9,  -999.00,9,  -999.00,9,     -999,9,   -999.0,9,   -999.0,9,  -999.00,9,  -999.00,  -999.00,9,  -999.00,  -999.00,9,  -999.00,  -999.00,9,        -999,         -999,9,  -999.00,  -999.00,9,       -999,9,        -999,9,   -999.0,9,   -999.0,9,   -999.0,9,     -999,9,      -999,9,  -999.00,9,  -999.00,9,   0.2648
  32H120020718,    44,  3,     11,2,20020820, 73.3405,-165.5120,   72,      2.2,   0.2576,  27.7082,2,  27.7079,2,    365.1,2,    372.9,2,     3.09,2,     0.10,2,     0.01,2,     0.68,2,        0,2,   -999.0,9,   -999.0,9,  -999.00,9,  -999.00,  -999.00,9,  -999.00,  -999.00,9,  -999.00,  -999.00,9,        -999,         -999,9,  -999.00,  -999.00,9,       -999,9,        -999,9,   -999.0,9,   -999.0,9,   -999.0,9,        0,2,      -999,9,     0.10,2,     0.06,2,   0.2575
  32H120020718,    44,  1,     11,2,20020820, 73.3405,-165.5120,   72,      5.9,  -0.1538,  27.7306,2,  27.7299,2,    369.3,2,    377.4,2,     2.86,2,     0.07,2,     0.00,2,     0.66,2,        0,2,   1867.6,2,   -999.0,2,  -999.00,9,  -999.00,  -999.00,9,  -999.00,  -999.00,9,  -999.00,  -999.00,9,        -999,         -999,9,  -999.00,  -999.00,9, 46.9669109,2,  7.72154012,2,     67.1,2,      4.6,2,      4.7,2,        0,2,      -999,9,     0.13,2,     0.08,2,  -0.1539
  32H120020718,    44, 99,      1,9,20020820, 73.3405,-165.5120,   72,      8.1,-999.0000,-999.0000,9,-999.0000,9,   -999.0,9,   -999.0,9,  -999.00,9,  -999.00,9,  -999.00,9,  -999.00,9,     -999,9,   -999.0,9,   -999.0,9,  -999.00,9,     1.36,     0.09,2,     7.38,     0.07,2,     2.47,     1.34,2, 0.315803954,  0.172256702,2,     0.91,     0.61,2,       -999,9,        -999,9,   -999.0,9,   -999.0,9,   -999.0,9,     -999,9,      -999,9,  -999.00,9,  -999.00,9,-999.0000
  32H120020718,    44,  3,     10,2,20020820, 73.3405,-165.5120,   72,      9.2,   0.2572,  27.7081,2,-999.0000,9,    365.2,2,    372.3,2,     3.09,2,     0.06,2,     0.01,2,     0.68,2,        0,2,   -999.0,9,   -999.0,9,  -999.00,9,  -999.00,  -999.00,9,  -999.00,  -999.00,9,  -999.00,  -999.00,9,        -999,         -999,9,  -999.00,  -999.00,9,       -999,9,        -999,9,   -999.0,9,   -999.0,9,   -999.0,9,        0,2,      -999,9,     0.10,2,     0.05,2,   0.2570
  32H120020718,    44,  1,     10,2,20020820, 73.3405,-165.5120,   72,     11.2,  -0.1579,  27.7334,2,-999.0000,9,    369.3,2,   -999.0,9,  -999.00,9,  -999.00,9,  -999.00,9,  -999.00,9,     -999,9,   -999.0,9,   -999.0,9,  -999.00,9,  -999.00,  -999.00,9,  -999.00,  -999.00,9,  -999.00,  -999.00,9,        -999,         -999,9,  -999.00,  -999.00,9,       -999,9,        -999,9,     66.7,2,   -999.0,9,   -999.0,9,     -999,9,      -999,9,  -999.00,9,  -999.00,9,  -0.1581
  32H120020718,    44,  1,      9,2,20020820, 73.3405,-165.5120,   72,     11.2,  -0.1621,  27.7399,2,  27.7353,2,    369.4,2,    376.3,2,     2.86,2,     0.00,2,     0.00,2,     0.66,2,        0,2,   1864.9,2,   -999.0,2,  -999.00,9,  -999.00,  -999.00,9,  -999.00,  -999.00,9,  -999.00,  -999.00,9,        -999,         -999,9,  -999.00,  -999.00,9, 47.1826058,2,  8.06489034,2,   -999.0,9,      5.9,2,      5.9,2,        0,2,      -999,9,     0.11,2,     0.06,2,  -0.1623
  32H120020718,    44,  3,      9,2,20020820, 73.3405,-165.5120,   72,     15.2,   0.1146,  27.7887,2,-999.0000,9,    366.7,2,    394.6,2,     4.66,2,     0.06,2,     0.01,2,     0.72,2,        0,2,   -999.0,9,   -999.0,9,  -999.00,9,  -999.00,  -999.00,9,  -999.00,  -999.00,9,  -999.00,  -999.00,9,        -999,         -999,9,  -999.00,  -999.00,9,       -999,9,        -999,9,   -999.0,9,   -999.0,9,   -999.0,9,        0,2,      -999,9,     0.14,2,     0.09,2,   0.1142
  32H120020718,    44,  1,      8,2,20020820, 73.3405,-165.5120,   72,     20.8,  -1.0341,  30.8516,2,  30.7880,2,    428.7,2,    444.8,2,     7.32,2,     0.07,2,     0.00,2,     0.81,2,        0,2,   2074.4,2,   -999.0,2,  -999.00,9,  -999.00,  -999.00,9,  -999.00,  -999.00,9,  -999.00,  -999.00,9,        -999,         -999,9,  -999.00,  -999.00,9,  108.00219,2,  16.4846981,2,     70.6,2,      6.4,2,      6.5,2,        0,2,      -999,9,     0.80,2,     0.43,2,  -1.0345
  32H120020718,    44,  3,      8,2,20020820, 73.3405,-165.5120,   72,     23.3,  -1.1718,  31.3407,2,-999.0000,9,    458.4,2,    477.2,2,    14.16,2,     0.11,2,     0.01,2,     0.90,2,     0.01,2,   -999.0,9,   -999.0,9,  -999.00,9,  -999.00,  -999.00,9,  -999.00,  -999.00,9,  -999.00,  -999.00,9,        -999,         -999,9,  -999.00,  -999.00,9,       -999,9,        -999,9,   -999.0,9,   -999.0,9,   -999.0,9,        0,2,      -999,9,     0.40,2,     0.26,2,  -1.1722
  32H120020718,    44,  3,      7,2,20020820, 73.3405,-165.5120,   72,     23.3,  -1.1891,  31.3650,2,-999.0000,9,    459.5,2,   -999.0,9,  -999.00,9,  -999.00,9,  -999.00,9,  -999.00,9,     -999,9,   -999.0,9,   -999.0,9,  -999.00,9,  -999.00,  -999.00,9,  -999.00,  -999.00,9,  -999.00,  -999.00,9,        -999,         -999,9,  -999.00,  -999.00,9,       -999,9,        -999,9,   -999.0,9,   -999.0,9,   -999.0,9,     -999,9,      -999,9,  -999.00,9,  -999.00,9,  -1.1895
  32H120020718,    44,  1,      7,2,20020820, 73.3405,-165.5120,   72,     30.8,  -1.4943,  31.9570,2,  31.9158,2,    327.0,2,    361.2,2,    11.61,2,     3.11,2,     0.10,2,     1.23,2,     0.11,2,   2079.2,2,   -999.0,2,  -999.00,9,  -999.00,  -999.00,9,  -999.00,  -999.00,9,  -999.00,  -999.00,9,        -999,         -999,9,  -999.00,  -999.00,9, 581.702381,2,  96.8885068,2,     70.2,2,      7.5,2,     10.8,2,     0.04,2,      -999,9,    11.69,2,     4.62,2,  -1.4948
  32H120020718,    44,  1,      6,2,20020820, 73.3405,-165.5120,   72,     36.2,  -1.6420,  32.1303,2,-999.0000,9,    278.0,2,   -999.0,9,  -999.00,9,  -999.00,9,  -999.00,9,  -999.00,9,     -999,9,   -999.0,9,   -999.0,9,  -999.00,9,  -999.00,  -999.00,9,  -999.00,  -999.00,9,  -999.00,  -999.00,9,        -999,         -999,9,  -999.00,  -999.00,9,       -999,9,        -999,9,   -999.0,9,   -999.0,9,   -999.0,9,     -999,9,      -999,9,  -999.00,9,  -999.00,9,  -1.6426