BOTTLE,20090202PRINUNIVRMK
EXPOCODE,STNNBR,CASTNO,BTLNBR,BTLNBR_FLAG_W,DATE,LATITUDE,LONGITUDE,DEPTH,CTDPRS,CTDTMP,CTDSAL,CTDSAL_FLAG_W,SALNTY,SALNTY_FLAG_W,CTDOXY,CTDOXY_FLAG_W,OXYGEN,OXYGEN_FLAG_W,SILCAT,SILCAT_FLAG_W,NITRAT,NITRAT_FLAG_W,NITRIT,NITRIT_FLAG_W,PHSPHT,PHSPHT_FLAG_W,AMMONI,AMMONI_FLAG_W,TCARBN,TCARBN_FLAG_W,ALKALI,ALKALI_FLAG_W,DELO18,DELO18_FLAG_W,RA-224,RA-224E,RA-224_FLAG_W,RA-226,RA-226E,RA-226_FLAG_W,RA-228,RA-228E,RA-228_FLAG_W,RA-8/6,RA-8/6E,RA-8/6_FLAG_W,TH-228,TH-228E,TH-228_FLAG_W,POC,POC_FLAG_W,PON,PON_FLAG_W,DOC,DOC_FLAG_W,DON,DON_FLAG_W,TDN,TDN_FLAG_W,UREA,UREA_FLAG_W,LIGNIN,LIGNIN_FLAG_W,CHLORA,CHLORA_FLAG_W,PHAEO,PHAEO_FLAG_W,THETA
,,,,,,,,METERS,DBARS,ITS-90,PSS-78,,PSS-78,,UMOL/KG,,UMOL/KG,,UMOL/KG,,UMOL/KG,,UMOL/KG,,UMOL/KG,,UMOL/KG,,UMOL/KG,,UMOL/KG,,O/OO,,DPM/100KG,DPM/100KG,,DPM/100KG,DPM/100KG,,DPM/100KG,DPM/100KG,,,,,DPM/100KG,DPM/100KG,,ug/kg,,ug/kg,,UMOL/KG,,UMOL/KG,,UMOL/KG,,UMOL/KG,,NG/KG,,UG/L,,UG/L,,DEGC
  32H120020718,    26,  3,      5,2,20020806, 72.6445,-158.6090,  156,     22.5,  -1.3085,  30.4163,2,-999.0000,9,    417.1,2,   -999.0,9,     3.63,2,     0.00,2,     0.00,2,     0.75,2,        0,2,   -999.0,9,   -999.0,9,  -999.00,9,  -999.00,  -999.00,9,  -999.00,  -999.00,9,  -999.00,  -999.00,9,        -999,         -999,9,  -999.00,  -999.00,9,       -999,9,        -999,9,   -999.0,9,   -999.0,9,   -999.0,9,        0,2,      -999,9,  -999.00,9,  -999.00,9,  -1.3089
  32H120020718,    26,  3,      7,2,20020806, 72.6445,-158.6090,  156,     22.5,  -1.3142,  30.4516,2,-999.0000,9,    411.6,2,   -999.0,9,  -999.00,9,  -999.00,9,  -999.00,9,  -999.00,9,     -999,9,   -999.0,9,   -999.0,9,  -999.00,9,  -999.00,  -999.00,9,  -999.00,  -999.00,9,  -999.00,  -999.00,9,        -999,         -999,9,  -999.00,  -999.00,9,       -999,9,        -999,9,   -999.0,9,   -999.0,9,   -999.0,9,     -999,9,      -999,9,  -999.00,9,  -999.00,9,  -1.3146
  32H120020718,    26,  3,      9,2,20020806, 72.6445,-158.6090,  156,     22.5,  -1.3145,  30.4331,2,-999.0000,9,    417.4,2,   -999.0,9,  -999.00,9,  -999.00,9,  -999.00,9,  -999.00,9,     -999,9,   -999.0,9,   -999.0,9,  -999.00,9,  -999.00,  -999.00,9,  -999.00,  -999.00,9,  -999.00,  -999.00,9,        -999,         -999,9,  -999.00,  -999.00,9,       -999,9,        -999,9,   -999.0,9,   -999.0,9,   -999.0,9,     -999,9,      -999,9,  -999.00,9,  -999.00,9,  -1.3149
  32H120020718,    26,  3,     10,2,20020806, 72.6445,-158.6090,  156,     22.5,  -1.3146,  30.4302,2,-999.0000,9,    420.4,2,   -999.0,9,  -999.00,9,  -999.00,9,  -999.00,9,  -999.00,9,     -999,9,   -999.0,9,   -999.0,9,  -999.00,9,  -999.00,  -999.00,9,  -999.00,  -999.00,9,  -999.00,  -999.00,9,        -999,         -999,9,  -999.00,  -999.00,9,       -999,9,        -999,9,   -999.0,9,   -999.0,9,   -999.0,9,     -999,9,      -999,9,  -999.00,9,  -999.00,9,  -1.3150
  32H120020718,    26,  3,      8,2,20020806, 72.6445,-158.6090,  156,     22.5,  -1.3148,  30.4336,2,-999.0000,9,    417.5,2,   -999.0,9,     2.69,2,     0.00,2,     0.00,2,     0.73,2,     0.01,2,   -999.0,9,   -999.0,9,  -999.00,9,  -999.00,  -999.00,9,  -999.00,  -999.00,9,  -999.00,  -999.00,9,        -999,         -999,9,  -999.00,  -999.00,9,       -999,9,        -999,9,   -999.0,9,   -999.0,9,   -999.0,9,        0,2,      -999,9,  -999.00,9,  -999.00,9,  -1.3152
  32H120020718,    26,  3,      6,2,20020806, 72.6445,-158.6090,  156,     22.5,  -1.3153,  30.4515,2,-999.0000,9,    418.8,2,   -999.0,9,  -999.00,9,  -999.00,9,  -999.00,9,  -999.00,9,     -999,9,   -999.0,9,   -999.0,9,  -999.00,9,  -999.00,  -999.00,9,  -999.00,  -999.00,9,  -999.00,  -999.00,9,        -999,         -999,9,  -999.00,  -999.00,9,       -999,9,        -999,9,   -999.0,9,   -999.0,9,   -999.0,9,     -999,9,      -999,9,  -999.00,9,  -999.00,9,  -1.3157
  32H120020718,    26,  4,      9,2,20020806, 72.6445,-158.6090,  156,     31.2,  -1.5240,  31.4525,2,  31.3557,2,    358.1,2,    392.8,2,    10.04,2,     0.49,2,     0.02,2,     0.95,2,      0.1,2,   2066.7,2,   2225.7,2,  -999.00,9,  -999.00,  -999.00,9,  -999.00,  -999.00,9,  -999.00,  -999.00,9,        -999,         -999,9,  -999.00,  -999.00,9, 406.395063,2,  72.8679606,2,     84.9,2,      8.3,2,      9.0,2,     0.03,2,      -999,9,    11.54,2,     3.72,2,  -1.5245
  32H120020718,    26,  3,      4,2,20020806, 72.6445,-158.6090,  156,     33.6,  -1.5197,  31.2715,2,-999.0000,9,    375.6,2,   -999.0,9,     4.47,2,     0.00,2,     0.00,2,     0.81,2,     0.04,2,   -999.0,9,   -999.0,9,  -999.00,9,  -999.00,  -999.00,9,  -999.00,  -999.00,9,  -999.00,  -999.00,9,        -999,         -999,9,  -999.00,  -999.00,9,       -999,9,        -999,9,   -999.0,9,   -999.0,9,   -999.0,9,     0.01,2,      -999,9,  -999.00,9,  -999.00,9,  -1.5202
  32H120020718,    26,  1,      6,2,20020806, 72.6445,-158.6090,  156,     34.3,  -1.4168,  31.5667,2,-999.0000,9,    353.1,2,    363.8,2,    15.95,2,     4.54,2,     0.18,2,     1.17,2,     0.43,2,   -999.0,9,   -999.0,9,  -999.00,9,  -999.00,  -999.00,9,  -999.00,  -999.00,9,  -999.00,  -999.00,9,        -999,         -999,9,  -999.00,  -999.00,9,       -999,9,        -999,9,   -999.0,9,   -999.0,9,   -999.0,9,        0,2,      -999,9,     0.43,2,     0.43,2,  -1.4174
  32H120020718,    26,  5,     12,2,20020806, 72.6445,-158.6090,  156,     35.3,  -1.4216,  32.0184,2,-999.0000,9,    416.6,2,   -999.0,9,  -999.00,9,  -999.00,9,  -999.00,9,  -999.00,9,     -999,9,   -999.0,9,   -999.0,9,  -999.00,9,  -999.00,  -999.00,9,     7.36,     0.57,2,     7.59,     0.06,2, 0.985193775, 0.0765199049,2,  -999.00,  -999.00,9,       -999,9,        -999,9,   -999.0,9,   -999.0,9,   -999.0,9,     -999,9,      -999,9,  -999.00,9,  -999.00,9,  -1.4222
  32H120020718,    26,  5,      7,2,20020806, 72.6445,-158.6090,  156,     35.3,  -1.4219,  32.0008,2,-999.0000,9,    414.7,2,   -999.0,9,  -999.00,9,  -999.00,9,  -999.00,9,  -999.00,9,     -999,9,   -999.0,9,   -999.0,9,  -999.00,9,  -999.00,  -999.00,9,     7.35,     0.57,2,     7.58,     0.06,2,  0.98444797, 0.0764619783,2,  -999.00,  -999.00,9,       -999,9,        -999,9,   -999.0,9,   -999.0,9,   -999.0,9,     -999,9,      -999,9,  -999.00,9,  -999.00,9,  -1.4225
  32H120020718,    26,  5,     11,2,20020806, 72.6445,-158.6090,  156,     35.3,  -1.4219,  32.0199,2,-999.0000,9,    416.3,2,   -999.0,9,    22.63,2,     0.06,2,     0.00,2,     1.05,2,        0,2,   -999.0,9,   -999.0,9,  -999.00,9,  -999.00,  -999.00,9,     7.35,     0.57,2,     7.58,     0.06,2, 0.984434844, 0.0764609588,2,  -999.00,  -999.00,9,       -999,9,        -999,9,   -999.0,9,   -999.0,9,   -999.0,9,     0.02,2,      -999,9,  -999.00,9,  -999.00,9,  -1.4225
  32H120020718,    26,  5,      9,2,20020806, 72.6445,-158.6090,  156,     35.3,  -1.4226,  32.0033,2,-999.0000,9,    412.8,2,   -999.0,9,  -999.00,9,  -999.00,9,  -999.00,9,  -999.00,9,     -999,9,   -999.0,9,   -999.0,9,  -999.00,9,  -999.00,  -999.00,9,     7.35,     0.57,2,     7.58,     0.06,2, 0.984446284, 0.0764618473,2,  -999.00,  -999.00,9,       -999,9,        -999,9,   -999.0,9,   -999.0,9,   -999.0,9,     -999,9,      -999,9,  -999.00,9,  -999.00,9,  -1.4232
  32H120020718,    26,  5,      8,2,20020806, 72.6445,-158.6090,  156,     35.3,  -1.4226,  32.0089,2,-999.0000,9,    412.5,2,   -999.0,9,  -999.00,9,  -999.00,9,  -999.00,9,  -999.00,9,     -999,9,   -999.0,9,   -999.0,9,  -999.00,9,  -999.00,  -999.00,9,     7.35,     0.57,2,     7.58,     0.06,2, 0.984442397, 0.0764615454,2,  -999.00,  -999.00,9,       -999,9,        -999,9,   -999.0,9,   -999.0,9,   -999.0,9,     -999,9,      -999,9,  -999.00,9,  -999.00,9,  -1.4232
  32H120020718,    26,  5,     10,2,20020806, 72.6445,-158.6090,  156,     35.3,  -1.4230,  32.0095,2,-999.0000,9,    411.7,2,   -999.0,9,  -999.00,9,  -999.00,9,  -999.00,9,  -999.00,9,     -999,9,   -999.0,9,   -999.0,9,  -999.00,9,  -999.00,  -999.00,9,     7.35,     0.57,2,     7.58,     0.06,2, 0.984441884, 0.0764615056,2,  -999.00,  -999.00,9,       -999,9,        -999,9,   -999.0,9,   -999.0,9,   -999.0,9,     -999,9,      -999,9,  -999.00,9,  -999.00,9,  -1.4236
  32H120020718,    26,  4,      8,2,20020806, 72.6445,-158.6090,  156,     40.8,  -1.4572,  31.9298,2,  31.9200,2,    341.1,2,    351.5,2,    17.37,2,     5.92,2,     0.16,2,     1.24,2,     0.38,2,   2115.3,2,   2242.9,2,  -999.00,9,  -999.00,  -999.00,9,  -999.00,  -999.00,9,  -999.00,  -999.00,9,        -999,         -999,9,  -999.00,  -999.00,9, 46.2337337,2,  9.58514343,2,     69.2,2,      9.4,2,     15.8,2,     0.01,2,      -999,9,     0.55,2,     0.53,2,  -1.4579
  32H120020718,    26,  4,      7,2,20020806, 72.6445,-158.6090,  156,     51.8,  -1.6685,  32.2527,2,  32.2476,2,    282.1,2,    295.2,2,    42.16,2,    14.02,2,     0.24,2,     1.93,2,     0.87,2,   2139.3,2,   2222.5,2,  -999.00,9,  -999.00,  -999.00,9,  -999.00,  -999.00,9,  -999.00,  -999.00,9,        -999,         -999,9,  -999.00,  -999.00,9, 174.465707,2,   33.657265,2,     66.9,2,      8.3,2,     23.4,2,     0.04,2,      -999,9,     5.03,2,     2.45,2,  -1.6694
  32H120020718,    26,  1,      5,2,20020806, 72.6445,-158.6090,  156,     52.6,  -1.5355,  32.1329,2,-999.0000,9,    335.3,2,   -999.0,9,  -999.00,9,  -999.00,9,  -999.00,9,  -999.00,9,     -999,9,   -999.0,9,   -999.0,9,  -999.00,9,  -999.00,  -999.00,9,  -999.00,  -999.00,9,  -999.00,  -999.00,9,        -999,         -999,9,  -999.00,  -999.00,9,       -999,9,        -999,9,   -999.0,9,   -999.0,9,   -999.0,9,     -999,9,      -999,9,  -999.00,9,  -999.00,9,  -1.5364
  32H120020718,    26,  1,      4,2,20020806, 72.6445,-158.6090,  156,     52.6,  -1.5379,  32.1351,2,-999.0000,9,    335.6,2,    340.8,2,    25.06,2,     7.79,2,     0.14,2,     1.44,2,     1.31,2,   -999.0,9,   -999.0,9,  -999.00,9,  -999.00,  -999.00,9,  -999.00,  -999.00,9,  -999.00,  -999.00,9,        -999,         -999,9,  -999.00,  -999.00,9,       -999,9,        -999,9,   -999.0,9,   -999.0,9,   -999.0,9,     0.02,2,      -999,9,     0.29,2,     0.22,2,  -1.5388
  32H120020718,    26,  3,      2,2,20020806, 72.6445,-158.6090,  156,     54.6,  -1.5621,  32.2997,2,-999.0000,9,    302.5,2,   -999.0,9,  -999.00,9,  -999.00,9,  -999.00,9,  -999.00,9,     -999,9,   -999.0,9,   -999.0,9,  -999.00,9,  -999.00,  -999.00,9,  -999.00,  -999.00,9,  -999.00,  -999.00,9,        -999,         -999,9,  -999.00,  -999.00,9,       -999,9,        -999,9,   -999.0,9,   -999.0,9,   -999.0,9,     -999,9,      -999,9,  -999.00,9,  -999.00,9,  -1.5631
  32H120020718,    26,  3,      3,2,20020806, 72.6445,-158.6090,  156,     54.6,  -1.5628,  32.2999,2,-999.0000,9,    302.4,2,   -999.0,9,  -999.00,9,  -999.00,9,  -999.00,9,  -999.00,9,     -999,9,   -999.0,9,   -999.0,9,  -999.00,9,  -999.00,  -999.00,9,  -999.00,  -999.00,9,  -999.00,  -999.00,9,        -999,         -999,9,  -999.00,  -999.00,9,       -999,9,        -999,9,   -999.0,9,   -999.0,9,   -999.0,9,     -999,9,      -999,9,  -999.00,9,  -999.00,9,  -1.5638
  32H120020718,    26,  4,      5,2,20020806, 72.6445,-158.6090,  156,     61.3,  -1.6498,  32.7497,2,  32.7296,2,    270.6,2,    280.4,2,    51.68,2,    17.13,2,     0.26,2,     2.21,2,     1.72,2,   2179.4,2,   2245.0,2,  -999.00,9,  -999.00,  -999.00,9,  -999.00,  -999.00,9,  -999.00,  -999.00,9,        -999,         -999,9,  -999.00,  -999.00,9, 122.420366,2,  23.5476427,2,   -999.0,9,      9.3,2,     28.4,2,     0.04,2,      -999,9,     1.60,2,     0.99,2,  -1.6509
  32H120020718,    26,  4,      6,2,20020806, 72.6445,-158.6090,  156,     61.3,  -1.6833,  32.7450,2,-999.0000,9,    270.5,2,    279.8,2,    52.05,2,    17.37,2,     0.26,2,     2.22,2,     1.68,2,   -999.0,9,   -999.0,9,  -999.00,9,  -999.00,  -999.00,9,  -999.00,  -999.00,9,  -999.00,  -999.00,9,        -999,         -999,9,  -999.00,  -999.00,9,       -999,9,        -999,9,     64.6,2,   -999.0,9,   -999.0,9,     0.04,2,      -999,9,     1.40,2,     0.85,2,  -1.6844
  32H120020718,    26,  4,      3,2,20020806, 72.6445,-158.6090,  156,     71.4,  -1.6533,  33.0462,2,  33.0473,2,    272.8,2,    280.5,2,    45.96,2,    15.63,2,     0.28,2,     2.25,2,     3.98,2,   -999.0,9,   2262.3,2,  -999.00,9,  -999.00,  -999.00,9,  -999.00,  -999.00,9,  -999.00,  -999.00,9,        -999,         -999,9,  -999.00,  -999.00,9, 120.837646,2,  23.5420461,2,     64.3,2,     10.2,2,     30.0,2,     0.12,2,      -999,9,     1.11,2,     0.94,2,  -1.6546
  32H120020718,    26,  4,      4,2,20020806, 72.6445,-158.6090,  156,     71.5,  -1.6517,  33.0466,2,-999.0000,9,    272.6,2,    280.4,2,    45.95,2,    15.64,2,     0.28,2,     2.24,2,     3.98,2,   -999.0,9,   -999.0,9,  -999.00,9,  -999.00,  -999.00,9,  -999.00,  -999.00,9,  -999.00,  -999.00,9,        -999,         -999,9,  -999.00,  -999.00,9,       -999,9,        -999,9,   -999.0,9,   -999.0,9,   -999.0,9,     0.12,2,      -999,9,     1.20,2,     0.84,2,  -1.6530
  32H120020718,    26,  5,      1,2,20020806, 72.6445,-158.6090,  156,     72.8,  -1.6548,  33.0439,2,-999.0000,9,    273.5,2,   -999.0,9,  -999.00,9,  -999.00,9,  -999.00,9,  -999.00,9,     -999,9,   -999.0,9,   -999.0,9,  -999.00,9,  -999.00,  -999.00,9,     8.67,     0.24,2,     8.79,     0.34,2, 0.966362813, 0.0476980658,2,  -999.00,  -999.00,9,       -999,9,        -999,9,   -999.0,9,   -999.0,9,   -999.0,9,     -999,9,      -999,9,  -999.00,9,  -999.00,9,  -1.6561
  32H120020718,    26,  5,      4,2,20020806, 72.6445,-158.6090,  156,     72.9,  -1.6545,  33.0427,2,-999.0000,9,    273.5,2,   -999.0,9,  -999.00,9,  -999.00,9,  -999.00,9,  -999.00,9,     -999,9,   -999.0,9,   -999.0,9,  -999.00,9,  -999.00,  -999.00,9,     8.67,     0.24,2,     8.78,     0.34,2, 0.966238148, 0.0476919125,2,  -999.00,  -999.00,9,       -999,9,        -999,9,   -999.0,9,   -999.0,9,   -999.0,9,     -999,9,      -999,9,  -999.00,9,  -999.00,9,  -1.6558
  32H120020718,    26,  5,      2,2,20020806, 72.6445,-158.6090,  156,     72.9,  -1.6547,  33.0437,2,-999.0000,9,    273.4,2,   -999.0,9,    46.29,2,    15.61,2,     0.29,2,     2.24,2,     3.87,2,   -999.0,9,   -999.0,9,  -999.00,9,  -999.00,  -999.00,9,     8.67,     0.24,2,     8.78,     0.34,2,  0.96623376, 0.0476916959,2,  -999.00,  -999.00,9,       -999,9,        -999,9,   -999.0,9,   -999.0,9,   -999.0,9,     0.12,2,      -999,9,  -999.00,9,  -999.00,9,  -1.6560
  32H120020718,    26,  5,      5,2,20020806, 72.6445,-158.6090,  156,     72.9,  -1.6549,  33.0434,2,-999.0000,9,    273.5,2,   -999.0,9,  -999.00,9,  -999.00,9,  -999.00,9,  -999.00,9,     -999,9,   -999.0,9,   -999.0,9,  -999.00,9,  -999.00,  -999.00,9,     8.72,     0.24,2,     8.83,     0.35,2, 0.971333638, 0.0479434174,2,  -999.00,  -999.00,9,       -999,9,        -999,9,   -999.0,9,   -999.0,9,   -999.0,9,     -999,9,      -999,9,  -999.00,9,  -999.00,9,  -1.6562
  32H120020718,    26,  5,      6,2,20020806, 72.6445,-158.6090,  156,     72.9,  -1.6550,  33.0435,2,-999.0000,9,    273.4,2,   -999.0,9,  -999.00,9,  -999.00,9,  -999.00,9,  -999.00,9,     -999,9,   -999.0,9,   -999.0,9,  -999.00,9,  -999.00,  -999.00,9,     8.72,     0.24,2,     8.83,     0.35,2, 0.971321034, 0.0479427954,2,  -999.00,  -999.00,9,       -999,9,        -999,9,   -999.0,9,   -999.0,9,   -999.0,9,     -999,9,      -999,9,  -999.00,9,  -999.00,9,  -1.6563
  32H120020718,    26,  5,      3,2,20020806, 72.6445,-158.6090,  156,     72.9,  -1.6554,  33.0437,2,-999.0000,9,    273.4,2,   -999.0,9,  -999.00,9,  -999.00,9,  -999.00,9,  -999.00,9,     -999,9,   -999.0,9,   -999.0,9,  -999.00,9,  -999.00,  -999.00,9,     8.71,     0.24,2,     8.83,     0.35,2, 0.971199069, 0.0479367753,2,  -999.00,  -999.00,9,       -999,9,        -999,9,   -999.0,9,   -999.0,9,   -999.0,9,     -999,9,      -999,9,  -999.00,9,  -999.00,9,  -1.6567
  32H120020718,    26,  1,      3,2,20020806, 72.6445,-158.6090,  156,     76.1,  -1.6222,  32.7062,2,-999.0000,9,    302.5,2,   -999.0,9,  -999.00,9,  -999.00,9,  -999.00,9,  -999.00,9,     -999,9,   -999.0,9,   -999.0,9,  -999.00,9,  -999.00,  -999.00,9,  -999.00,  -999.00,9,  -999.00,  -999.00,9,        -999,         -999,9,  -999.00,  -999.00,9,       -999,9,        -999,9,   -999.0,9,   -999.0,9,   -999.0,9,     -999,9,      -999,9,  -999.00,9,  -999.00,9,  -1.6236
  32H120020718,    26,  4,      2,2,20020806, 72.6445,-158.6090,  156,     81.5,  -1.6503,  33.0470,2,-999.0000,9,    272.5,2,    280.1,2,    45.67,2,    15.57,2,     0.28,2,     2.27,2,     4.08,2,   -999.0,9,   -999.0,9,  -999.00,9,  -999.00,  -999.00,9,  -999.00,  -999.00,9,  -999.00,  -999.00,9,        -999,         -999,9,  -999.00,  -999.00,9,       -999,9,        -999,9,   -999.0,9,   -999.0,9,   -999.0,9,     0.14,2,      -999,9,     1.17,2,     0.84,2,  -1.6518
  32H120020718,    26,  4,      1,2,20020806, 72.6445,-158.6090,  156,     81.5,  -1.6503,  33.0471,2,  33.0342,0,    272.8,2,    280.3,2,    45.68,2,    15.57,2,     0.29,2,     2.27,2,     4.01,2,   -999.0,9,   2274.0,2,  -999.00,9,  -999.00,  -999.00,9,  -999.00,  -999.00,9,  -999.00,  -999.00,9,        -999,         -999,9,  -999.00,  -999.00,9, 146.462658,2,     28.3798,2,     65.1,2,      9.2,2,     29.0,2,     0.13,2,      -999,9,     1.49,2,     1.01,2,  -1.6518
  32H120020718,    26,  1,      2,2,20020806, 72.6445,-158.6090,  156,    101.2,  -1.6498,  33.1318,2,-999.0000,9,    285.1,2,   -999.0,9,  -999.00,9,  -999.00,9,  -999.00,9,  -999.00,9,     -999,9,   -999.0,9,   -999.0,9,  -999.00,9,  -999.00,  -999.00,9,  -999.00,  -999.00,9,  -999.00,  -999.00,9,        -999,         -999,9,  -999.00,  -999.00,9,       -999,9,        -999,9,   -999.0,9,   -999.0,9,   -999.0,9,     -999,9,      -999,9,  -999.00,9,  -999.00,9,  -1.6517
  32H120020718,    26,  3,      1,2,20020806, 72.6445,-158.6090,  156,    102.8,  -1.6805,  33.0813,2,-999.0000,9,    275.1,2,   -999.0,9,  -999.00,9,  -999.00,9,  -999.00,9,  -999.00,9,     -999,9,   -999.0,9,   -999.0,9,  -999.00,9,  -999.00,  -999.00,9,  -999.00,  -999.00,9,  -999.00,  -999.00,9,        -999,         -999,9,  -999.00,  -999.00,9,       -999,9,        -999,9,   -999.0,9,   -999.0,9,   -999.0,9,     -999,9,      -999,9,  -999.00,9,  -999.00,9,  -1.6824
  32H120020718,    26,  1,      1,2,20020806, 72.6445,-158.6090,  156,    152.9,  -0.9418,  34.1533,2,-999.0000,9,    280.2,2,   -999.0,9,  -999.00,9,  -999.00,9,  -999.00,9,  -999.00,9,     -999,9,   -999.0,9,   -999.0,9,  -999.00,9,  -999.00,  -999.00,9,  -999.00,  -999.00,9,  -999.00,  -999.00,9,        -999,         -999,9,  -999.00,  -999.00,9,       -999,9,        -999,9,   -999.0,9,   -999.0,9,   -999.0,9,     -999,9,      -999,9,  -999.00,9,  -999.00,9,  -0.9460
  32H120020718,    27,  1,     12,2,20020807, 72.7334,-158.4380,  245,      2.1,  -0.9825,  27.3328,2,  27.3334,2,    373.4,2,    382.6,2,     3.70,2,    -0.02,2,     0.02,2,     0.67,2,     0.06,2,   1847.4,2,   1975.9,2,    -3.30,2,  -999.00,  -999.00,9,  -999.00,  -999.00,9,  -999.00,  -999.00,9,        -999,         -999,9,  -999.00,  -999.00,9, 51.2108534,2,  10.0890593,2,   -999.0,9,      2.9,2,      3.0,2,     0.03,2,      -999,9,     0.15,2,     0.13,2,  -0.9825