BOTTLE,20090202PRINUNIVRMK
EXPOCODE,STNNBR,CASTNO,BTLNBR,BTLNBR_FLAG_W,DATE,LATITUDE,LONGITUDE,DEPTH,CTDPRS,CTDTMP,CTDSAL,CTDSAL_FLAG_W,SALNTY,SALNTY_FLAG_W,CTDOXY,CTDOXY_FLAG_W,OXYGEN,OXYGEN_FLAG_W,SILCAT,SILCAT_FLAG_W,NITRAT,NITRAT_FLAG_W,NITRIT,NITRIT_FLAG_W,PHSPHT,PHSPHT_FLAG_W,AMMONI,AMMONI_FLAG_W,TCARBN,TCARBN_FLAG_W,ALKALI,ALKALI_FLAG_W,DELO18,DELO18_FLAG_W,RA-224,RA-224E,RA-224_FLAG_W,RA-226,RA-226E,RA-226_FLAG_W,RA-228,RA-228E,RA-228_FLAG_W,RA-8/6,RA-8/6E,RA-8/6_FLAG_W,TH-228,TH-228E,TH-228_FLAG_W,POC,POC_FLAG_W,PON,PON_FLAG_W,DOC,DOC_FLAG_W,DON,DON_FLAG_W,TDN,TDN_FLAG_W,UREA,UREA_FLAG_W,LIGNIN,LIGNIN_FLAG_W,CHLORA,CHLORA_FLAG_W,PHAEO,PHAEO_FLAG_W,THETA
,,,,,,,,METERS,DBARS,ITS-90,PSS-78,,PSS-78,,UMOL/KG,,UMOL/KG,,UMOL/KG,,UMOL/KG,,UMOL/KG,,UMOL/KG,,UMOL/KG,,UMOL/KG,,UMOL/KG,,O/OO,,DPM/100KG,DPM/100KG,,DPM/100KG,DPM/100KG,,DPM/100KG,DPM/100KG,,,,,DPM/100KG,DPM/100KG,,ug/kg,,ug/kg,,UMOL/KG,,UMOL/KG,,UMOL/KG,,UMOL/KG,,NG/KG,,UG/L,,UG/L,,DEGC
  32H120020718,    16,  8,      5,2,20020725, 72.1414,-154.2690, 1347,    310.3,   0.5876,  34.7720,2,-999.0000,9,    281.9,2,   -999.0,9,  -999.00,9,  -999.00,9,  -999.00,9,  -999.00,9,     -999,9,   -999.0,9,   -999.0,9,  -999.00,9,  -999.00,  -999.00,9,  -999.00,  -999.00,9,  -999.00,  -999.00,9,        -999,         -999,9,  -999.00,  -999.00,9,       -999,9,        -999,9,   -999.0,9,   -999.0,9,   -999.0,9,     -999,9,      -999,9,  -999.00,9,  -999.00,9,   0.5742
  32H120020718,    16,  8,      6,2,20020725, 72.1414,-154.2690, 1347,    311.4,   0.5889,  34.7735,2,-999.0000,9,    282.1,2,   -999.0,9,     8.85,2,    12.61,2,     0.01,2,     0.91,2,        0,2,   -999.0,9,   -999.0,9,  -999.00,9,  -999.00,  -999.00,9,  -999.00,  -999.00,9,  -999.00,  -999.00,9,        -999,         -999,9,  -999.00,  -999.00,9,       -999,9,        -999,9,   -999.0,9,   -999.0,9,   -999.0,9,     0.03,2,      -999,9,  -999.00,9,  -999.00,9,   0.5755
  32H120020718,    16,  4,     12,2,20020725, 72.1414,-154.2690, 1347,    350.1,   0.7266,  34.8078,2,  34.8076,2,    285.8,2,    292.4,2,     7.18,2,    12.55,2,     0.00,2,     0.86,2,     0.03,2,   2147.3,2,   2344.1,2,  -999.00,9,  -999.00,  -999.00,9,  -999.00,  -999.00,9,  -999.00,  -999.00,9,        -999,         -999,9,  -999.00,  -999.00,9, 6.44144469,2,  1.28828654,2,     51.3,2,      3.0,2,     15.6,2,        0,2,      -999,9,  -999.00,9,  -999.00,9,   0.7109
  32H120020718,    16,  4,     11,2,20020725, 72.1414,-154.2690, 1347,    401.6,   0.6080,  34.8189,2,  34.8191,2,    286.0,2,    293.2,2,     7.39,2,    12.65,2,     0.00,2,     0.87,2,     0.03,2,   2148.9,2,   2341.9,2,  -999.00,9,  -999.00,  -999.00,9,  -999.00,  -999.00,9,  -999.00,  -999.00,9,        -999,         -999,9,  -999.00,  -999.00,9, 7.33928196,2,  1.41515159,2,     50.9,2,      2.9,2,     15.6,2,        0,2,      -999,9,  -999.00,9,  -999.00,9,   0.5902
  32H120020718,    16,  4,     10,2,20020725, 72.1414,-154.2690, 1347,    452.0,   0.6098,  34.8376,2,  34.8376,2,    288.0,2,    295.5,2,     7.00,2,    12.60,2,     0.00,2,     0.86,2,     0.03,2,   2147.6,2,   2341.1,2,  -999.00,9,  -999.00,  -999.00,9,  -999.00,  -999.00,9,  -999.00,  -999.00,9,        -999,         -999,9,  -999.00,  -999.00,9, 6.18753674,2,  1.15162478,2,     49.9,2,      2.7,2,     15.3,2,        0,2,      -999,9,  -999.00,9,  -999.00,9,   0.5896
  32H120020718,    16,  4,      9,2,20020725, 72.1414,-154.2690, 1347,    502.6,   0.5269,  34.8433,2,  34.8429,2,    288.3,2,    297.9,2,     6.90,2,    12.59,2,     0.00,2,     0.86,2,     0.03,2,   2148.1,2,   2361.0,2,  -999.00,9,  -999.00,  -999.00,9,  -999.00,  -999.00,9,  -999.00,  -999.00,9,        -999,         -999,9,  -999.00,  -999.00,9, 9.28127613,2,  2.00069525,2,     49.2,2,      2.8,2,     15.4,2,        0,2,      -999,9,  -999.00,9,  -999.00,9,   0.5045
  32H120020718,    16,  4,      8,2,20020725, 72.1414,-154.2690, 1347,    602.0,   0.4129,  34.8548,2,  34.8547,2,    288.3,2,    297.1,2,     7.00,2,    12.69,2,     0.00,2,     0.87,2,     0.03,2,   2148.5,2,   2339.4,2,  -999.00,9,  -999.00,  -999.00,9,  -999.00,  -999.00,9,  -999.00,  -999.00,9,        -999,         -999,9,  -999.00,  -999.00,9, 3.83544753,2, 0.761233531,2,     49.0,2,      2.7,2,     15.4,2,        0,2,      -999,9,  -999.00,9,  -999.00,9,   0.3862
  32H120020718,    16,  4,      7,2,20020725, 72.1414,-154.2690, 1347,    752.6,   0.2129,  34.8668,2,  34.8671,2,    289.2,2,    299.2,2,     6.90,2,    12.69,2,     0.00,2,     0.88,2,     0.03,2,   2149.8,2,   2312.3,2,  -999.00,9,  -999.00,  -999.00,9,  -999.00,  -999.00,9,  -999.00,  -999.00,9,        -999,         -999,9,  -999.00,  -999.00,9, 5.38715624,2,  1.02472939,2,     48.1,2,      2.8,2,     15.5,2,        0,2,      -999,9,  -999.00,9,  -999.00,9,   0.1797
  32H120020718,    16,  8,      3,2,20020725, 72.1414,-154.2690, 1347,    807.3,   0.1597,  34.8688,2,-999.0000,9,    289.6,2,   -999.0,9,  -999.00,9,  -999.00,9,  -999.00,9,  -999.00,9,     -999,9,   -999.0,9,   -999.0,9,  -999.00,9,  -999.00,  -999.00,9,  -999.00,  -999.00,9,  -999.00,  -999.00,9,        -999,         -999,9,  -999.00,  -999.00,9,       -999,9,        -999,9,   -999.0,9,   -999.0,9,   -999.0,9,     -999,9,      -999,9,  -999.00,9,  -999.00,9,   0.1240
  32H120020718,    16,  8,      4,2,20020725, 72.1414,-154.2690, 1347,    808.1,   0.1596,  34.8690,2,-999.0000,9,    289.6,2,   -999.0,9,     7.87,2,    12.58,2,     0.00,2,     0.89,2,     0.02,2,   -999.0,9,   -999.0,9,  -999.00,9,  -999.00,  -999.00,9,  -999.00,  -999.00,9,  -999.00,  -999.00,9,        -999,         -999,9,  -999.00,  -999.00,9,       -999,9,        -999,9,   -999.0,9,   -999.0,9,   -999.0,9,     0.08,2,      -999,9,  -999.00,9,  -999.00,9,   0.1239
  32H120020718,    16,  4,      6,2,20020725, 72.1414,-154.2690, 1347,   1003.8,  -0.0137,  34.8811,2,  34.8815,2,    288.7,2,    300.3,2,     7.19,2,    12.79,2,     0.00,2,     0.88,2,     0.04,2,   2148.3,2,   2320.8,2,  -999.00,9,  -999.00,  -999.00,9,  -999.00,  -999.00,9,  -999.00,  -999.00,9,        -999,         -999,9,  -999.00,  -999.00,9, 3.74753458,2, 0.819772889,2,     47.7,2,      3.2,2,     16.0,2,        0,2,      -999,9,  -999.00,9,  -999.00,9,  -0.0584
  32H120020718,    16,  4,      5,2,20020725, 72.1414,-154.2690, 1347,   1252.4,  -0.2150,  34.8999,2,  34.8997,2,    286.7,2,    299.5,2,     8.08,2,    13.14,2,     0.00,2,     0.92,2,     0.04,2,   2149.2,2,   2372.9,2,  -999.00,9,  -999.00,  -999.00,9,  -999.00,  -999.00,9,  -999.00,  -999.00,9,        -999,         -999,9,  -999.00,  -999.00,9, 4.37207518,2, 0.761207882,2,     47.8,2,      3.1,2,     16.2,2,        0,2,      -999,9,  -999.00,9,  -999.00,9,  -0.2715
  32H120020718,    16,  8,      2,2,20020725, 72.1414,-154.2690, 1347,   1488.2,  -0.3124,  34.9137,2,-999.0000,9,    285.5,2,   -999.0,9,     8.83,2,    13.35,2,     0.00,2,     0.95,2,        0,2,   -999.0,9,   -999.0,9,  -999.00,9,  -999.00,  -999.00,9,  -999.00,  -999.00,9,  -999.00,  -999.00,9,        -999,         -999,9,  -999.00,  -999.00,9,       -999,9,        -999,9,   -999.0,9,   -999.0,9,   -999.0,9,     0.06,2,      -999,9,  -999.00,9,  -999.00,9,  -0.3815
  32H120020718,    16,  8,      1,2,20020725, 72.1414,-154.2690, 1347,   1489.6,  -0.3119,  34.9136,2,-999.0000,9,    285.5,2,   -999.0,9,  -999.00,9,  -999.00,9,  -999.00,9,  -999.00,9,     -999,9,   -999.0,9,   -999.0,9,  -999.00,9,  -999.00,  -999.00,9,  -999.00,  -999.00,9,  -999.00,  -999.00,9,        -999,         -999,9,  -999.00,  -999.00,9,       -999,9,        -999,9,   -999.0,9,   -999.0,9,   -999.0,9,     -999,9,      -999,9,  -999.00,9,  -999.00,9,  -0.3811
  32H120020718,    16,  4,      4,2,20020725, 72.1414,-154.2690, 1347,   1500.8,  -0.3280,  34.9161,2,  34.9159,2,    284.7,2,    298.4,2,     8.87,2,    13.51,2,     0.00,2,     0.94,2,     0.03,2,   2147.2,2,   2328.8,2,  -999.00,9,  -999.00,  -999.00,9,  -999.00,  -999.00,9,  -999.00,  -999.00,9,        -999,         -999,9,  -999.00,  -999.00,9, 3.98166097,2, 0.624572898,2,     47.9,2,      3.0,2,     16.5,2,        0,2,      -999,9,  -999.00,9,  -999.00,9,  -0.3977
  32H120020718,    16,  4,      3,2,20020725, 72.1414,-154.2690, 1347,   1751.5,  -0.3957,  34.9327,2,  34.9316,2,    279.6,2,    294.2,2,    10.54,2,    14.08,2,     0.00,2,     0.98,2,     0.03,2,   -999.0,9,   2356.1,2,  -999.00,9,  -999.00,  -999.00,9,  -999.00,  -999.00,9,  -999.00,  -999.00,9,        -999,         -999,9,  -999.00,  -999.00,9, 4.00112481,2, 0.819743586,2,     45.0,2,      2.7,2,     16.8,2,        0,2,      -999,9,  -999.00,9,  -999.00,9,  -0.4799
  32H120020718,    16,  4,      2,2,20020725, 72.1414,-154.2690, 1347,   1989.0,  -0.4009,  34.9413,2,  34.9403,2,    276.2,2,    290.4,2,    11.82,2,    14.38,2,     0.00,2,     1.00,2,     0.04,2,   -999.0,9,   2344.5,2,  -999.00,9,  -999.00,  -999.00,9,  -999.00,  -999.00,9,  -999.00,  -999.00,9,        -999,         -999,9,  -999.00,  -999.00,9, 2.50800682,2, 0.761184594,2,     44.6,2,      2.7,2,     17.1,2,     0.01,2,      -999,9,  -999.00,9,  -999.00,9,  -0.5006
  32H120020718,    16,  4,      1,2,20020725, 72.1414,-154.2690, 1347,   1989.3,  -0.4013,  34.9414,2,  34.9395,2,    276.2,2,    290.7,2,    11.83,2,    14.38,2,     0.00,2,     1.00,2,     0.04,2,   -999.0,9,   -999.0,9,  -999.00,9,  -999.00,  -999.00,9,  -999.00,  -999.00,9,  -999.00,  -999.00,9,        -999,         -999,9,  -999.00,  -999.00,9,       -999,9,        -999,9,   -999.0,9,   -999.0,9,   -999.0,9,     0.01,2,      -999,9,  -999.00,9,  -999.00,9,  -0.5010
  32H120020718,    17,  2,     11,2,20020727, 72.5068,-153.2960, 3121,      1.9,  -1.0838,  27.5431,2,  27.5694,2,    376.1,2,    385.7,2,     2.62,2,     0.07,2,     0.00,2,     0.64,2,     0.04,2,   1831.9,2,   1990.2,2,  -999.00,9,  -999.00,  -999.00,9,  -999.00,  -999.00,9,  -999.00,  -999.00,9,        -999,         -999,9,  -999.00,  -999.00,9,       -999,9,        -999,9,   -999.0,9,   -999.0,9,   -999.0,9,     0.18,2,      -999,9,     0.06,2,     0.05,2,  -1.0838
  32H120020718,    17,  2,     12,2,20020727, 72.5068,-153.2960, 3121,      2.0,  -1.0838,  27.5410,2,-999.0000,9,    375.9,2,   -999.0,9,  -999.00,9,  -999.00,9,  -999.00,9,  -999.00,9,     -999,9,   -999.0,9,   -999.0,9,  -999.00,9,  -999.00,  -999.00,9,  -999.00,  -999.00,9,  -999.00,  -999.00,9,        -999,         -999,9,  -999.00,  -999.00,9,       -999,9,        -999,9,   -999.0,9,   -999.0,9,   -999.0,9,     -999,9,      -999,9,  -999.00,9,  -999.00,9,  -1.0838
  32H120020718,    17,  8,     12,2,20020727, 72.5068,-153.2960, 3121,      2.3,  -1.0084,  27.8265,2,  27.7645,2,    376.0,2,    387.1,2,     2.49,2,     0.12,2,     0.00,2,     0.65,2,     0.01,2,   1878.8,2,   2007.8,2,    -3.45,2,  -999.00,  -999.00,9,  -999.00,  -999.00,9,  -999.00,  -999.00,9,        -999,         -999,9,  -999.00,  -999.00,9,   21.99648,2,  4.20895856,2,     67.5,2,      2.9,2,      3.0,2,        0,2,      -999,9,     0.08,2,     0.07,2,  -1.0084
  32H120020718,    17, 99,      1,9,20020727, 72.5068,-153.2960, 3121,      8.1,-999.0000,-999.0000,9,-999.0000,9,   -999.0,9,   -999.0,9,  -999.00,9,  -999.00,9,  -999.00,9,  -999.00,9,     -999,9,   -999.0,9,   -999.0,9,  -999.00,9,     1.89,     0.12,2,     6.57,     0.12,2,     1.85,     0.69,2, 0.268480302,  0.105474404,2,     1.31,     0.10,2,       -999,9,        -999,9,   -999.0,9,   -999.0,9,   -999.0,9,     -999,9,      -999,9,  -999.00,9,  -999.00,9,-999.0000
  32H120020718,    17,  2,     10,2,20020727, 72.5068,-153.2960, 3121,     10.8,  -1.1232,  28.4835,2,-999.0000,9,    382.2,2,    389.2,2,     2.62,2,     0.07,2,     0.00,2,     0.66,2,     0.02,2,   -999.0,9,   2026.3,2,  -999.00,9,  -999.00,  -999.00,9,  -999.00,  -999.00,9,  -999.00,  -999.00,9,        -999,         -999,9,  -999.00,  -999.00,9,       -999,9,        -999,9,   -999.0,9,   -999.0,9,   -999.0,9,     0.14,2,      -999,9,     0.06,2,     0.05,2,  -1.1233
  32H120020718,    17,  8,     11,2,20020727, 72.5068,-153.2960, 3121,     11.5,  -1.1575,  29.1673,2,  29.4187,2,    386.0,2,    400.6,2,     3.55,2,     0.12,2,     0.00,2,     0.72,2,     0.04,2,   -999.0,5,   2116.2,2,    -3.32,2,  -999.00,  -999.00,9,  -999.00,  -999.00,9,  -999.00,  -999.00,9,        -999,         -999,9,  -999.00,  -999.00,9, 24.9678514,2,  4.74270992,2,     69.0,2,      3.2,2,      3.3,2,     0.01,2,      -999,9,     0.11,2,     0.09,2,  -1.1577
  32H120020718,    17,  2,      9,2,20020727, 72.5068,-153.2960, 3121,     18.0,  -1.1605,  29.1634,2,-999.0000,9,    385.2,2,    395.6,2,     3.38,2,     0.00,2,     0.00,2,     0.70,2,        0,2,   -999.0,9,   2098.4,2,  -999.00,9,  -999.00,  -999.00,9,  -999.00,  -999.00,9,  -999.00,  -999.00,9,        -999,         -999,9,  -999.00,  -999.00,9,       -999,9,        -999,9,   -999.0,9,   -999.0,9,   -999.0,9,        0,2,      -999,9,     0.08,2,     0.06,2,  -1.1608
  32H120020718,    17,  2,      8,2,20020727, 72.5068,-153.2960, 3121,     18.0,  -1.1622,  29.1590,2,-999.0000,9,    385.4,2,   -999.0,9,  -999.00,9,  -999.00,9,  -999.00,9,  -999.00,9,     -999,9,   -999.0,9,   -999.0,9,  -999.00,9,  -999.00,  -999.00,9,  -999.00,  -999.00,9,  -999.00,  -999.00,9,        -999,         -999,9,  -999.00,  -999.00,9,       -999,9,        -999,9,   -999.0,9,   -999.0,9,   -999.0,9,     -999,9,      -999,9,  -999.00,9,  -999.00,9,  -1.1625
  32H120020718,    17,  8,     10,2,20020727, 72.5068,-153.2960, 3121,     26.7,  -1.5338,  30.5430,2,  30.5319,2,    380.2,2,    392.4,2,     9.71,2,     1.40,2,     0.09,2,     0.90,2,     0.83,2,   2019.9,2,   2168.6,2,    -2.47,2,  -999.00,  -999.00,9,  -999.00,  -999.00,9,  -999.00,  -999.00,9,        -999,         -999,9,  -999.00,  -999.00,9, 46.8200341,2,  9.81045662,2,     66.0,2,      3.7,2,      6.1,2,     0.06,2,      -999,9,     0.35,2,     0.28,2,  -1.5342
  32H120020718,    17,  2,      7,2,20020727, 72.5068,-153.2960, 3121,     27.6,  -1.3206,  29.9765,2,-999.0000,9,    392.2,2,    404.7,2,     4.24,2,     0.16,2,     0.00,2,     0.74,2,        0,2,   -999.0,5,   2158.0,2,  -999.00,9,  -999.00,  -999.00,9,  -999.00,  -999.00,9,  -999.00,  -999.00,9,        -999,         -999,9,  -999.00,  -999.00,9,       -999,9,        -999,9,   -999.0,9,   -999.0,9,   -999.0,9,        0,2,      -999,9,     0.17,2,     0.16,2,  -1.3210
  32H120020718,    17,  6,      4,2,20020727, 72.5068,-153.2960, 3121,     36.3,  -1.5810,  30.7905,2,-999.0000,9,    380.6,2,   -999.0,9,  -999.00,9,  -999.00,9,  -999.00,9,  -999.00,9,     -999,9,   -999.0,9,   -999.0,9,  -999.00,9,     0.92,     0.07,2,     7.15,     0.28,2,     5.74,     0.31,2, 0.765567865, 0.0478479916,2,     0.50,     0.05,2,       -999,9,        -999,9,   -999.0,9,   -999.0,9,   -999.0,9,     -999,9,      -999,9,  -999.00,9,  -999.00,9,  -1.5815
  32H120020718,    17,  6,      5,2,20020727, 72.5068,-153.2960, 3121,     36.3,  -1.5812,  30.7930,2,-999.0000,9,    381.2,2,   -999.0,9,  -999.00,9,  -999.00,9,  -999.00,9,  -999.00,9,     -999,9,   -999.0,9,   -999.0,9,  -999.00,9,     0.92,     0.07,2,     7.15,     0.28,2,     5.74,     0.31,2,  0.76519953, 0.0478249706,2,     0.50,     0.05,2,       -999,9,        -999,9,   -999.0,9,   -999.0,9,   -999.0,9,     -999,9,      -999,9,  -999.00,9,  -999.00,9,  -1.5817
  32H120020718,    17,  6,      6,2,20020727, 72.5068,-153.2960, 3121,     36.3,  -1.5817,  30.7940,2,-999.0000,9,    380.9,2,   -999.0,9,  -999.00,9,  -999.00,9,  -999.00,9,  -999.00,9,     -999,9,   -999.0,9,   -999.0,9,  -999.00,9,     0.91,     0.07,2,     7.14,     0.28,2,     5.74,     0.31,2,  0.76473189, 0.0477957431,2,     0.50,     0.05,2,       -999,9,        -999,9,   -999.0,9,   -999.0,9,   -999.0,9,     -999,9,      -999,9,  -999.00,9,  -999.00,9,  -1.5822
  32H120020718,    17,  6,      9,2,20020727, 72.5068,-153.2960, 3121,     36.3,  -1.5818,  30.7945,2,-999.0000,9,    380.8,2,   -999.0,9,  -999.00,9,  -999.00,9,  -999.00,9,  -999.00,9,     -999,9,   -999.0,9,   -999.0,9,  -999.00,9,     0.92,     0.07,2,     7.16,     0.28,2,     5.75,     0.31,2, 0.766376594, 0.0478985371,2,     0.50,     0.05,2,       -999,9,        -999,9,   -999.0,9,   -999.0,9,   -999.0,9,     -999,9,      -999,9,  -999.00,9,  -999.00,9,  -1.5823
  32H120020718,    17,  6,      8,2,20020727, 72.5068,-153.2960, 3121,     36.3,  -1.5820,  30.7945,2,-999.0000,9,    380.8,2,   -999.0,9,  -999.00,9,  -999.00,9,  -999.00,9,  -999.00,9,     -999,9,   -999.0,9,   -999.0,9,  -999.00,9,     0.92,     0.07,2,     7.16,     0.28,2,     5.75,     0.31,2, 0.766377108, 0.0478985692,2,     0.50,     0.05,2,       -999,9,        -999,9,   -999.0,9,   -999.0,9,   -999.0,9,     -999,9,      -999,9,  -999.00,9,  -999.00,9,  -1.5825
  32H120020718,    17,  6,      7,2,20020727, 72.5068,-153.2960, 3121,     36.3,  -1.5821,  30.7946,2,-999.0000,9,    380.8,2,   -999.0,9,  -999.00,9,  -999.00,9,  -999.00,9,  -999.00,9,     -999,9,   -999.0,9,   -999.0,9,  -999.00,9,     0.92,     0.07,2,     7.16,     0.28,2,     5.75,     0.31,2, 0.766378478, 0.0478986549,2,     0.50,     0.05,2,       -999,9,        -999,9,   -999.0,9,   -999.0,9,   -999.0,9,     -999,9,      -999,9,  -999.00,9,  -999.00,9,  -1.5826
  32H120020718,    17,  6,     10,2,20020727, 72.5068,-153.2960, 3121,     36.3,  -1.5824,  30.7949,2,-999.0000,9,    380.8,2,   -999.0,9,  -999.00,9,  -999.00,9,  -999.00,9,  -999.00,9,     -999,9,   -999.0,9,   -999.0,9,  -999.00,9,     0.92,     0.07,2,     7.16,     0.28,2,     5.75,     0.31,2, 0.766379563, 0.0478987227,2,     0.50,     0.05,2,       -999,9,        -999,9,   -999.0,9,   -999.0,9,   -999.0,9,     -999,9,      -999,9,  -999.00,9,  -999.00,9,  -1.5829
  32H120020718,    17,  6,     11,2,20020727, 72.5068,-153.2960, 3121,     36.3,  -1.5827,  30.7950,2,-999.0000,9,    380.8,2,   -999.0,9,  -999.00,9,  -999.00,9,  -999.00,9,  -999.00,9,     -999,9,   -999.0,9,   -999.0,9,  -999.00,9,     0.92,     0.07,2,     7.16,     0.28,2,     5.75,     0.31,2, 0.766382932, 0.0478989332,2,     0.50,     0.05,2,       -999,9,        -999,9,   -999.0,9,   -999.0,9,   -999.0,9,     -999,9,      -999,9,  -999.00,9,  -999.00,9,  -1.5832
  32H120020718,    17,  6,     12,2,20020727, 72.5068,-153.2960, 3121,     36.3,  -1.5831,  30.7952,2,-999.0000,9,    380.9,2,   -999.0,9,  -999.00,9,  -999.00,9,  -999.00,9,  -999.00,9,     -999,9,   -999.0,9,   -999.0,9,  -999.00,9,     0.92,     0.07,2,     7.16,     0.28,2,     5.75,     0.31,2,  0.76638807, 0.0478992544,2,     0.50,     0.05,2,       -999,9,        -999,9,   -999.0,9,   -999.0,9,   -999.0,9,     -999,9,      -999,9,  -999.00,9,  -999.00,9,  -1.5836
  32H120020718,    17,  6,      1,2,20020727, 72.5068,-153.2960, 3121,     36.4,  -1.5767,  30.7831,2,-999.0000,9,    380.2,2,   -999.0,9,     9.73,2,     1.71,2,     0.12,2,     0.95,2,     0.99,2,   -999.0,9,   -999.0,9,  -999.00,9,     0.92,     0.07,2,     7.16,     0.28,2,     5.75,     0.31,2, 0.766386872, 0.0478991795,2,     0.50,     0.05,2,       -999,9,        -999,9,   -999.0,9,   -999.0,9,   -999.0,9,      0.2,2,      -999,9,  -999.00,9,  -999.00,9,  -1.5772
  32H120020718,    17,  6,      2,2,20020727, 72.5068,-153.2960, 3121,     36.4,  -1.5787,  30.7859,2,-999.0000,9,    380.4,2,   -999.0,9,  -999.00,9,  -999.00,9,  -999.00,9,  -999.00,9,     -999,9,   -999.0,9,   -999.0,9,  -999.00,9,     0.92,     0.07,2,     7.14,     0.28,2,     5.74,     0.31,2, 0.765081363, 0.0478175852,2,     0.50,     0.05,2,       -999,9,        -999,9,   -999.0,9,   -999.0,9,   -999.0,9,     -999,9,      -999,9,  -999.00,9,  -999.00,9,  -1.5792
  32H120020718,    17,  6,      3,2,20020727, 72.5068,-153.2960, 3121,     36.4,  -1.5803,  30.7885,2,-999.0000,9,    380.3,2,   -999.0,9,     9.73,2,     1.70,2,     0.13,2,     0.93,2,     0.95,2,   -999.0,9,   -999.0,9,  -999.00,9,     0.92,     0.07,2,     7.14,     0.28,2,     5.74,     0.31,2, 0.765078685, 0.0478174178,2,     0.50,     0.05,2,       -999,9,        -999,9,   -999.0,9,   -999.0,9,   -999.0,9,     0.06,2,      -999,9,  -999.00,9,  -999.00,9,  -1.5808