BOTTLE,20090202PRINUNIVRMK
EXPOCODE,STNNBR,CASTNO,BTLNBR,BTLNBR_FLAG_W,DATE,LATITUDE,LONGITUDE,DEPTH,CTDPRS,CTDTMP,CTDSAL,CTDSAL_FLAG_W,SALNTY,SALNTY_FLAG_W,CTDOXY,CTDOXY_FLAG_W,OXYGEN,OXYGEN_FLAG_W,SILCAT,SILCAT_FLAG_W,NITRAT,NITRAT_FLAG_W,NITRIT,NITRIT_FLAG_W,PHSPHT,PHSPHT_FLAG_W,AMMONI,AMMONI_FLAG_W,TCARBN,TCARBN_FLAG_W,ALKALI,ALKALI_FLAG_W,DELO18,DELO18_FLAG_W,RA-224,RA-224E,RA-224_FLAG_W,RA-226,RA-226E,RA-226_FLAG_W,RA-228,RA-228E,RA-228_FLAG_W,RA-8/6,RA-8/6E,RA-8/6_FLAG_W,TH-228,TH-228E,TH-228_FLAG_W,POC,POC_FLAG_W,PON,PON_FLAG_W,DOC,DOC_FLAG_W,DON,DON_FLAG_W,TDN,TDN_FLAG_W,UREA,UREA_FLAG_W,LIGNIN,LIGNIN_FLAG_W,CHLORA,CHLORA_FLAG_W,PHAEO,PHAEO_FLAG_W,THETA
,,,,,,,,METERS,DBARS,ITS-90,PSS-78,,PSS-78,,UMOL/KG,,UMOL/KG,,UMOL/KG,,UMOL/KG,,UMOL/KG,,UMOL/KG,,UMOL/KG,,UMOL/KG,,UMOL/KG,,O/OO,,DPM/100KG,DPM/100KG,,DPM/100KG,DPM/100KG,,DPM/100KG,DPM/100KG,,,,,DPM/100KG,DPM/100KG,,ug/kg,,ug/kg,,UMOL/KG,,UMOL/KG,,UMOL/KG,,UMOL/KG,,NG/KG,,UG/L,,UG/L,,DEGC
  32H120020718,     3,  1,     12,2,20020718, 65.6998,-168.7250,   51,      2.1,   7.4519,  32.1267,2,-999.0000,9,    337.3,2,   -999.0,9,  -999.00,9,  -999.00,9,  -999.00,9,  -999.00,9,     -999,9,   -999.0,9,   -999.0,9,  -999.00,9,  -999.00,  -999.00,9,  -999.00,  -999.00,9,  -999.00,  -999.00,9,        -999,         -999,9,  -999.00,  -999.00,9,       -999,9,        -999,9,   -999.0,9,   -999.0,9,   -999.0,9,     -999,9,      -999,9,  -999.00,9,  -999.00,9,   7.4517
  32H120020718,     3,  1,     11,2,20020718, 65.6998,-168.7250,   51,      2.2,   7.4519,  32.1268,2,  32.1271,2,    337.3,2,    335.3,2,     3.12,2,     0.04,2,     0.00,2,     0.23,2,        0,2,   1929.0,2,   2225.3,2,    -0.79,2,  -999.00,  -999.00,9,  -999.00,  -999.00,9,  -999.00,  -999.00,9,        -999,         -999,9,  -999.00,  -999.00,9,       -999,9,        -999,9,     65.8,2,      6.0,2,      6.0,2,        0,2,      -999,9,     0.49,2,     0.41,2,   7.4517
  32H120020718,     3,  1,      9,2,20020718, 65.6998,-168.7250,   51,     10.6,   7.4500,  32.1250,2,  32.1260,2,    337.0,2,    334.9,2,     2.91,2,     0.04,2,     0.00,2,     0.23,2,     0.03,2,   1924.9,2,   2225.3,2,  -999.00,9,  -999.00,  -999.00,9,  -999.00,  -999.00,9,  -999.00,  -999.00,9,        -999,         -999,9,  -999.00,  -999.00,9,       -999,9,        -999,9,     65.3,2,      5.9,2,      6.0,2,     0.08,2,      -999,9,     0.49,2,     0.45,2,   7.4490
  32H120020718,     3,  1,     10,2,20020718, 65.6998,-168.7250,   51,     10.6,   7.4500,  32.1251,2,-999.0000,9,    336.7,2,   -999.0,9,  -999.00,9,  -999.00,9,  -999.00,9,  -999.00,9,     -999,9,   -999.0,9,   -999.0,9,  -999.00,9,  -999.00,  -999.00,9,  -999.00,  -999.00,9,  -999.00,  -999.00,9,        -999,         -999,9,  -999.00,  -999.00,9,       -999,9,        -999,9,   -999.0,9,   -999.0,9,   -999.0,9,     -999,9,      -999,9,  -999.00,9,  -999.00,9,   7.4490
  32H120020718,     3,  1,      8,2,20020718, 65.6998,-168.7250,   51,     16.9,   4.5150,  32.1826,2,-999.0000,9,    353.8,2,   -999.0,9,  -999.00,9,  -999.00,9,  -999.00,9,  -999.00,9,     -999,9,   -999.0,9,   -999.0,9,  -999.00,9,  -999.00,  -999.00,9,  -999.00,  -999.00,9,  -999.00,  -999.00,9,        -999,         -999,9,  -999.00,  -999.00,9,       -999,9,        -999,9,   -999.0,9,   -999.0,9,   -999.0,9,     -999,9,      -999,9,  -999.00,9,  -999.00,9,   4.5138
  32H120020718,     3,  1,      7,2,20020718, 65.6998,-168.7250,   51,     17.0,   4.2718,  32.2042,2,  32.1856,2,    354.4,2,    365.5,2,     4.12,2,     0.08,2,     0.00,2,     0.25,2,     0.16,2,   1933.1,2,   2216.8,2,  -999.00,9,  -999.00,  -999.00,9,  -999.00,  -999.00,9,  -999.00,  -999.00,9,        -999,         -999,9,  -999.00,  -999.00,9,       -999,9,        -999,9,     64.5,2,      6.4,2,      6.6,2,     0.01,2,      -999,9,     0.43,2,     0.38,2,   4.2707
  32H120020718,     3,  1,      5,2,20020718, 65.6998,-168.7250,   51,     26.1,   2.7038,  32.1783,2,  32.1759,2,    355.7,2,    358.5,2,     3.09,2,     0.87,2,     0.04,2,     0.72,2,      1.5,2,   1936.1,2,   2219.1,2,  -999.00,9,  -999.00,  -999.00,9,  -999.00,  -999.00,9,  -999.00,  -999.00,9,        -999,         -999,9,  -999.00,  -999.00,9,       -999,9,        -999,9,     69.7,2,      6.2,2,      8.6,2,     0.23,2,      -999,9,     1.03,2,     1.12,2,   2.7024
  32H120020718,     3,  1,      6,2,20020718, 65.6998,-168.7250,   51,     26.1,   2.7114,  32.1805,2,-999.0000,9,    355.7,2,   -999.0,9,  -999.00,9,  -999.00,9,  -999.00,9,  -999.00,9,     -999,9,   -999.0,9,   -999.0,9,  -999.00,9,  -999.00,  -999.00,9,  -999.00,  -999.00,9,  -999.00,  -999.00,9,        -999,         -999,9,  -999.00,  -999.00,9,       -999,9,        -999,9,   -999.0,9,   -999.0,9,   -999.0,9,     -999,9,      -999,9,  -999.00,9,  -999.00,9,   2.7100
  32H120020718,     3,  1,      3,2,20020718, 65.6998,-168.7250,   51,     36.9,   2.8870,  32.2128,2,-999.0000,9,    350.6,2,   -999.0,9,  -999.00,9,  -999.00,9,  -999.00,9,  -999.00,9,     -999,9,   -999.0,9,   -999.0,9,  -999.00,9,  -999.00,  -999.00,9,  -999.00,  -999.00,9,  -999.00,  -999.00,9,        -999,         -999,9,  -999.00,  -999.00,9,       -999,9,        -999,9,   -999.0,9,   -999.0,9,   -999.0,9,     -999,9,      -999,9,  -999.00,9,  -999.00,9,   2.8850
  32H120020718,     3,  1,      4,2,20020718, 65.6998,-168.7250,   51,     36.9,   2.8817,  32.2105,2,  32.2142,2,    351.6,2,    353.2,2,     4.00,2,     1.21,2,     0.04,2,     0.74,2,     1.81,2,   1994.2,2,   -999.0,9,  -999.00,9,  -999.00,  -999.00,9,  -999.00,  -999.00,9,  -999.00,  -999.00,9,        -999,         -999,9,  -999.00,  -999.00,9,       -999,9,        -999,9,   -999.0,9,   -999.0,9,   -999.0,9,     0.15,2,      -999,9,     1.29,2,     1.36,2,   2.8797
  32H120020718,     3,  1,      2,2,20020718, 65.6998,-168.7250,   51,     44.6,   2.9255,  32.2301,2,-999.0000,9,    347.0,2,   -999.0,9,  -999.00,9,  -999.00,9,  -999.00,9,  -999.00,9,     -999,9,   -999.0,9,   -999.0,9,  -999.00,9,  -999.00,  -999.00,9,  -999.00,  -999.00,9,  -999.00,  -999.00,9,        -999,         -999,9,  -999.00,  -999.00,9,       -999,9,        -999,9,   -999.0,9,   -999.0,9,   -999.0,9,     -999,9,      -999,9,  -999.00,9,  -999.00,9,   2.9230
  32H120020718,     3,  1,      1,2,20020718, 65.6998,-168.7250,   51,     44.7,   2.9580,  32.2322,2,  32.2259,2,    348.0,2,    350.2,2,     4.29,2,     1.47,2,     0.05,2,     0.75,2,     1.84,2,   -999.0,9,   -999.0,9,    -0.80,2,  -999.00,  -999.00,9,  -999.00,  -999.00,9,  -999.00,  -999.00,9,        -999,         -999,9,  -999.00,  -999.00,9,       -999,9,        -999,9,     67.2,2,      6.7,2,     10.1,2,     0.13,2,      -999,9,     1.18,2,     1.67,2,   2.9555
  32H120020718,     4,  1,     11,2,20020718, 65.6827,-168.5680,   52,      2.2,   7.8494,  32.0667,2,  32.1370,2,    319.1,2,    318.7,2,     3.56,2,     0.08,2,     0.00,2,     0.28,2,        0,2,   1944.9,2,   2206.7,2,    -0.73,2,  -999.00,  -999.00,9,  -999.00,  -999.00,9,  -999.00,  -999.00,9,        -999,         -999,9,  -999.00,  -999.00,9,       -999,9,        -999,9,   -999.0,9,      5.5,2,      5.6,2,        0,2,      -999,9,     0.24,2,     0.21,2,   7.8492
  32H120020718,     4,  1,     12,2,20020718, 65.6827,-168.5680,   52,      2.2,   7.8508,  32.0669,2,-999.0000,9,    318.9,2,   -999.0,9,  -999.00,9,  -999.00,9,  -999.00,9,  -999.00,9,     -999,9,   -999.0,9,   -999.0,9,  -999.00,9,  -999.00,  -999.00,9,  -999.00,  -999.00,9,  -999.00,  -999.00,9,        -999,         -999,9,  -999.00,  -999.00,9,       -999,9,        -999,9,     74.4,2,   -999.0,9,   -999.0,9,     -999,9,      -999,9,  -999.00,9,  -999.00,9,   7.8506
  32H120020718,     4, 99,      1,9,20020718, 65.6827,-168.5680,   52,      8.1,-999.0000,-999.0000,9,-999.0000,9,   -999.0,9,   -999.0,9,  -999.00,9,  -999.00,9,  -999.00,9,  -999.00,9,     -999,9,   -999.0,9,   -999.0,9,  -999.00,9,     0.45,     0.04,2,     6.15,     0.73,2,     1.08,     0.01,2, 0.172136377, 0.0191262641,2,     0.15,     0.03,2,       -999,9,        -999,9,   -999.0,9,   -999.0,9,   -999.0,9,     -999,9,      -999,9,  -999.00,9,  -999.00,9,-999.0000
  32H120020718,     4,  1,      9,2,20020718, 65.6827,-168.5680,   52,     10.9,   7.8249,  32.0638,2,  32.1364,2,    319.4,2,    318.0,2,     3.55,2,     0.08,2,     0.00,2,     0.28,2,     0.01,2,   1942.8,2,   2253.4,2,  -999.00,9,  -999.00,  -999.00,9,  -999.00,  -999.00,9,  -999.00,  -999.00,9,        -999,         -999,9,  -999.00,  -999.00,9,       -999,9,        -999,9,     68.0,2,      5.0,2,      5.1,2,     0.01,2,      -999,9,     0.22,2,     0.20,2,   7.8239
  32H120020718,     4,  1,     10,2,20020718, 65.6827,-168.5680,   52,     11.0,   7.8263,  32.0642,2,-999.0000,9,    319.5,2,   -999.0,9,  -999.00,9,  -999.00,9,  -999.00,9,  -999.00,9,     -999,9,   -999.0,9,   -999.0,9,  -999.00,9,  -999.00,  -999.00,9,  -999.00,  -999.00,9,  -999.00,  -999.00,9,        -999,         -999,9,  -999.00,  -999.00,9,       -999,9,        -999,9,   -999.0,9,   -999.0,9,   -999.0,9,     -999,9,      -999,9,  -999.00,9,  -999.00,9,   7.8253
  32H120020718,     4,  1,      7,2,20020718, 65.6827,-168.5680,   52,     15.9,   6.5512,  32.0500,2,  32.1327,2,    349.2,2,    333.3,2,     3.75,2,     0.08,2,     0.00,2,     0.29,2,     0.05,2,   1943.7,2,   2250.6,2,  -999.00,9,  -999.00,  -999.00,9,  -999.00,  -999.00,9,  -999.00,  -999.00,9,        -999,         -999,9,  -999.00,  -999.00,9,       -999,9,        -999,9,   -999.0,9,      5.3,2,      5.4,2,     0.03,2,      -999,9,     0.22,2,     0.21,2,   6.5499
  32H120020718,     4,  1,      8,2,20020718, 65.6827,-168.5680,   52,     15.9,   7.7288,  32.0628,2,-999.0000,9,    323.0,2,   -999.0,9,  -999.00,9,  -999.00,9,  -999.00,9,  -999.00,9,     -999,9,   -999.0,9,   -999.0,9,  -999.00,9,  -999.00,  -999.00,9,  -999.00,  -999.00,9,  -999.00,  -999.00,9,        -999,         -999,9,  -999.00,  -999.00,9,       -999,9,        -999,9,     70.3,2,   -999.0,9,   -999.0,9,     -999,9,      -999,9,  -999.00,9,  -999.00,9,   7.7273
  32H120020718,     4,  1,      6,2,20020718, 65.6827,-168.5680,   52,     26.4,   0.8422,  31.8958,2,-999.0000,9,    384.7,2,   -999.0,9,  -999.00,9,  -999.00,9,  -999.00,9,  -999.00,9,     -999,9,   -999.0,9,   -999.0,9,  -999.00,9,  -999.00,  -999.00,9,  -999.00,  -999.00,9,  -999.00,  -999.00,9,        -999,         -999,9,  -999.00,  -999.00,9,       -999,9,        -999,9,     67.5,2,   -999.0,9,   -999.0,9,     -999,9,      -999,9,  -999.00,9,  -999.00,9,   0.8412
  32H120020718,     4,  1,      5,2,20020718, 65.6827,-168.5680,   52,     26.4,   0.8591,  31.8968,2,  31.9660,2,    384.6,2,    393.3,2,     2.21,2,     0.21,2,     0.02,2,     0.69,2,     0.75,2,   2008.5,2,   2206.1,2,  -999.00,9,  -999.00,  -999.00,9,  -999.00,  -999.00,9,  -999.00,  -999.00,9,        -999,         -999,9,  -999.00,  -999.00,9,       -999,9,        -999,9,   -999.0,9,      6.6,2,      7.6,2,      0.1,2,      -999,9,     1.16,2,     0.94,2,   0.8581
  32H120020718,     4,  1,      3,2,20020718, 65.6827,-168.5680,   52,     36.1,   0.8224,  31.8949,2,  31.9660,2,    384.6,2,    391.2,2,     2.30,2,     0.21,2,     0.02,2,     0.71,2,     0.86,2,   -999.0,9,   -999.0,9,  -999.00,9,  -999.00,  -999.00,9,  -999.00,  -999.00,9,  -999.00,  -999.00,9,        -999,         -999,9,  -999.00,  -999.00,9,       -999,9,        -999,9,   -999.0,9,   -999.0,9,   -999.0,9,      0.1,2,      -999,9,     1.28,2,     1.14,2,   0.8210
  32H120020718,     4,  1,      4,2,20020718, 65.6827,-168.5680,   52,     36.2,   0.8214,  31.8947,2,-999.0000,9,    384.5,2,   -999.0,9,  -999.00,9,  -999.00,9,  -999.00,9,  -999.00,9,     -999,9,   -999.0,9,   -999.0,9,  -999.00,9,  -999.00,  -999.00,9,  -999.00,  -999.00,9,  -999.00,  -999.00,9,        -999,         -999,9,  -999.00,  -999.00,9,       -999,9,        -999,9,   -999.0,9,   -999.0,9,   -999.0,9,     -999,9,      -999,9,  -999.00,9,  -999.00,9,   0.8200
  32H120020718,     4,  1,      1,2,20020718, 65.6827,-168.5680,   52,     44.6,   0.8234,  31.8949,2,  31.9658,2,    383.6,2,    390.6,2,     2.39,2,     0.21,2,     0.02,2,     0.71,2,      0.9,2,   1908.3,2,   2207.0,2,    -0.96,2,  -999.00,  -999.00,9,  -999.00,  -999.00,9,  -999.00,  -999.00,9,        -999,         -999,9,  -999.00,  -999.00,9,       -999,9,        -999,9,   -999.0,9,      6.8,2,      7.9,2,     0.13,2,      -999,9,     1.14,2,     1.12,2,   0.8217
  32H120020718,     4,  1,      2,2,20020718, 65.6827,-168.5680,   52,     44.6,   0.8256,  31.8946,2,-999.0000,9,    384.1,2,   -999.0,9,  -999.00,9,  -999.00,9,  -999.00,9,  -999.00,9,     -999,9,   -999.0,9,   -999.0,9,  -999.00,9,  -999.00,  -999.00,9,  -999.00,  -999.00,9,  -999.00,  -999.00,9,        -999,         -999,9,  -999.00,  -999.00,9,       -999,9,        -999,9,     74.2,2,   -999.0,9,   -999.0,9,     -999,9,      -999,9,  -999.00,9,  -999.00,9,   0.8239
  32H120020718,     5,  1,     12,2,20020718, 65.6734,-168.4150,   52,      2.5,   8.1433,  31.0666,2,-999.0000,9,    325.2,2,    323.6,3,  -999.00,9,  -999.00,9,  -999.00,9,  -999.00,9,     -999,9,   -999.0,9,   -999.0,9,  -999.00,9,  -999.00,  -999.00,9,  -999.00,  -999.00,9,  -999.00,  -999.00,9,        -999,         -999,9,  -999.00,  -999.00,9,       -999,9,        -999,9,   -999.0,9,   -999.0,9,   -999.0,9,     -999,9,      -999,9,  -999.00,9,  -999.00,9,   8.1431
  32H120020718,     5,  1,     11,2,20020718, 65.6734,-168.4150,   52,      2.6,   8.1708,  31.0649,2,  31.0604,2,    325.3,2,    322.3,2,     2.48,2,     0.07,2,     0.00,2,     0.26,2,     0.04,2,   1908.3,2,   2182.8,2,    -1.21,2,  -999.00,  -999.00,9,  -999.00,  -999.00,9,  -999.00,  -999.00,9,        -999,         -999,9,  -999.00,  -999.00,9, 64.6824784,2,  13.1831201,2,     77.2,2,      5.3,2,      5.4,2,     0.01,2,      -999,9,     0.22,2,     0.12,2,   8.1706
  32H120020718,     5,  1,     10,2,20020718, 65.6734,-168.4150,   52,     11.2,   7.0132,  31.8026,2,-999.0000,9,    344.4,2,    343.5,2,  -999.00,9,  -999.00,9,  -999.00,9,  -999.00,9,     -999,9,   -999.0,9,   -999.0,9,  -999.00,9,  -999.00,  -999.00,9,  -999.00,  -999.00,9,  -999.00,  -999.00,9,        -999,         -999,9,  -999.00,  -999.00,9,       -999,9,        -999,9,   -999.0,9,   -999.0,9,   -999.0,9,     -999,9,      -999,9,  -999.00,9,  -999.00,9,   7.0122
  32H120020718,     5,  1,      9,2,20020718, 65.6734,-168.4150,   52,     11.4,   7.0032,  31.8089,2,  31.7434,2,    344.6,2,    343.5,2,     2.37,2,     0.07,2,     0.00,2,     0.24,2,     0.05,2,   1912.4,2,   2236.5,2,  -999.00,9,  -999.00,  -999.00,9,  -999.00,  -999.00,9,  -999.00,  -999.00,9,        -999,         -999,9,  -999.00,  -999.00,9, 56.4032057,3,  11.7091151,3,     69.0,2,      5.0,2,      5.2,2,     0.03,2,      -999,9,     0.18,2,     0.10,2,   7.0022
  32H120020718,     5,  1,      7,2,20020718, 65.6734,-168.4150,   52,     16.0,   5.6663,  31.9957,2,  32.0140,2,    361.6,2,    348.6,2,     2.97,2,     0.07,2,     0.00,2,     0.24,2,     0.13,2,   1926.6,2,   2238.3,2,  -999.00,9,  -999.00,  -999.00,9,  -999.00,  -999.00,9,  -999.00,  -999.00,9,        -999,         -999,9,  -999.00,  -999.00,9, 49.6926334,2,  9.03679165,2,   -999.0,9,      5.3,2,      5.5,2,     0.03,2,      -999,9,     0.17,2,     0.14,2,   5.6651
  32H120020718,     5,  1,      8,2,20020718, 65.6734,-168.4150,   52,     16.0,   5.8370,  31.9947,2,-999.0000,9,    361.1,2,    345.3,2,  -999.00,9,  -999.00,9,  -999.00,9,  -999.00,9,     -999,9,   -999.0,9,   -999.0,9,  -999.00,9,  -999.00,  -999.00,9,  -999.00,  -999.00,9,  -999.00,  -999.00,9,        -999,         -999,9,  -999.00,  -999.00,9,       -999,9,        -999,9,     72.0,2,   -999.0,9,   -999.0,9,     -999,9,      -999,9,  -999.00,9,  -999.00,9,   5.8357
  32H120020718,     5,  1,      5,2,20020718, 65.6734,-168.4150,   52,     25.3,   1.4262,  31.8206,2,  31.8181,2,    381.1,2,    386.5,2,     3.98,2,     0.24,2,     0.02,2,     0.72,2,     1.12,2,   1995.7,2,   2242.4,2,  -999.00,9,  -999.00,  -999.00,9,  -999.00,  -999.00,9,  -999.00,  -999.00,9,        -999,         -999,9,  -999.00,  -999.00,9, 70.2213463,2,   13.048533,2,     71.1,2,      4.9,2,      6.3,2,      0.1,2,      -999,9,     0.39,2,     0.68,2,   1.4251
  32H120020718,     5,  1,      6,2,20020718, 65.6734,-168.4150,   52,     25.3,   1.5003,  31.8197,2,-999.0000,9,    381.0,2,    385.9,2,  -999.00,9,  -999.00,9,  -999.00,9,  -999.00,9,     -999,9,   -999.0,9,   -999.0,9,  -999.00,9,  -999.00,  -999.00,9,  -999.00,  -999.00,9,  -999.00,  -999.00,9,        -999,         -999,9,  -999.00,  -999.00,9,       -999,9,        -999,9,   -999.0,9,   -999.0,9,   -999.0,9,     -999,9,      -999,9,  -999.00,9,  -999.00,9,   1.4992
  32H120020718,     5,  1,      3,2,20020718, 65.6734,-168.4150,   52,     35.7,   1.3455,  31.8825,2,  31.8763,2,    382.3,2,    389.2,2,     4.06,2,     0.24,2,     0.02,2,     0.75,2,     1.23,2,   -999.0,9,   -999.0,9,  -999.00,9,  -999.00,  -999.00,9,  -999.00,  -999.00,9,  -999.00,  -999.00,9,        -999,         -999,9,  -999.00,  -999.00,9,       -999,9,        -999,9,   -999.0,9,   -999.0,9,   -999.0,9,     0.13,2,      -999,9,     0.35,2,     0.70,2,   1.3440
  32H120020718,     5,  1,      4,2,20020718, 65.6734,-168.4150,   52,     35.8,   1.3745,  31.8900,2,-999.0000,9,    382.2,2,    387.7,2,  -999.00,9,  -999.00,9,  -999.00,9,  -999.00,9,     -999,9,   -999.0,9,   -999.0,9,  -999.00,9,  -999.00,  -999.00,9,  -999.00,  -999.00,9,  -999.00,  -999.00,9,        -999,         -999,9,  -999.00,  -999.00,9,       -999,9,        -999,9,   -999.0,9,   -999.0,9,   -999.0,9,     -999,9,      -999,9,  -999.00,9,  -999.00,9,   1.3730
  32H120020718,     5,  1,      2,2,20020718, 65.6734,-168.4150,   52,     43.6,   1.3709,  31.9196,2,-999.0000,9,    383.0,2,    388.5,2,  -999.00,9,  -999.00,9,  -999.00,9,  -999.00,9,     -999,9,   -999.0,9,   -999.0,9,  -999.00,9,  -999.00,  -999.00,9,  -999.00,  -999.00,9,  -999.00,  -999.00,9,        -999,         -999,9,  -999.00,  -999.00,9,       -999,9,        -999,9,   -999.0,9,   -999.0,9,   -999.0,9,     -999,9,      -999,9,  -999.00,9,  -999.00,9,   1.3691
  32H120020718,     5,  1,      1,2,20020718, 65.6734,-168.4150,   52,     43.7,   1.3602,  31.9180,2,  31.9133,2,    383.0,2,    388.8,2,     4.15,2,     0.24,2,     0.03,2,     0.74,2,     1.28,2,   2007.5,2,   -999.0,5,    -0.97,2,  -999.00,  -999.00,9,  -999.00,  -999.00,9,  -999.00,  -999.00,9,        -999,         -999,9,  -999.00,  -999.00,9, 82.4914429,2,  15.3167394,2,     72.1,2,      5.7,2,      7.2,2,     0.17,2,      -999,9,     0.29,2,     0.83,2,   1.3584
  32H120020718,     6,  2,     12,2,20020719, 67.5057,-168.8930,   50,      2.2,   6.0872,  32.0716,2,  32.0563,2,    382.9,2,    383.1,2,     4.98,2,     0.21,2,     0.00,2,     0.26,2,     0.03,2,   1902.6,2,   2238.4,2,    -0.99,2,  -999.00,  -999.00,9,  -999.00,  -999.00,9,  -999.00,  -999.00,9,        -999,         -999,9,  -999.00,  -999.00,9, 207.829722,2,  25.5348911,2,     76.7,2,      7.4,2,      7.6,2,     0.13,2,      -999,9,     1.00,2,     0.60,2,   6.0870
  32H120020718,     6,  2,     11,2,20020719, 67.5057,-168.8930,   50,      6.0,   5.8442,  32.1154,2,  32.1075,2,    393.2,2,    391.8,2,     5.19,2,     0.21,2,     0.00,2,     0.25,2,     0.03,2,   1906.3,2,   2239.4,2,  -999.00,9,  -999.00,  -999.00,9,  -999.00,  -999.00,9,  -999.00,  -999.00,9,        -999,         -999,9,  -999.00,  -999.00,9,       -999,9,        -999,9,   -999.0,9,   -999.0,9,   -999.0,9,     0.13,2,      -999,9,     1.17,2,     0.76,2,   5.8437
  32H120020718,     6, 99,      1,9,20020719, 67.5057,-168.8930,   50,      8.1,-999.0000,-999.0000,9,-999.0000,9,   -999.0,9,   -999.0,9,  -999.00,9,  -999.00,9,  -999.00,9,  -999.00,9,     -999,9,   -999.0,9,   -999.0,9,  -999.00,9,     0.62,     0.04,2,     3.72,     0.14,2,     3.45,     0.50,2, 0.889152239,  0.133850875,2,     0.26,     0.06,2,       -999,9,        -999,9,   -999.0,9,   -999.0,9,   -999.0,9,     -999,9,      -999,9,  -999.00,9,  -999.00,9,-999.0000