BOTTLE,20090202PRINUNIVRMK
EXPOCODE,STNNBR,CASTNO,BTLNBR,BTLNBR_FLAG_W,DATE,LATITUDE,LONGITUDE,DEPTH,CTDPRS,CTDTMP,CTDSAL,CTDSAL_FLAG_W,SALNTY,SALNTY_FLAG_W,CTDOXY,CTDOXY_FLAG_W,OXYGEN,OXYGEN_FLAG_W,SILCAT,SILCAT_FLAG_W,NITRAT,NITRAT_FLAG_W,NITRIT,NITRIT_FLAG_W,PHSPHT,PHSPHT_FLAG_W,AMMONI,AMMONI_FLAG_W,TCARBN,TCARBN_FLAG_W,ALKALI,ALKALI_FLAG_W,DELO18,DELO18_FLAG_W,RA-224,RA-224E,RA-224_FLAG_W,RA-226,RA-226E,RA-226_FLAG_W,RA-228,RA-228E,RA-228_FLAG_W,RA-8/6,RA-8/6E,RA-8/6_FLAG_W,TH-228,TH-228E,TH-228_FLAG_W,POC,POC_FLAG_W,PON,PON_FLAG_W,DOC,DOC_FLAG_W,DON,DON_FLAG_W,TDN,TDN_FLAG_W,UREA,UREA_FLAG_W,LIGNIN,LIGNIN_FLAG_W,CHLORA,CHLORA_FLAG_W,PHAEO,PHAEO_FLAG_W,THETA
,,,,,,,,METERS,DBARS,ITS-90,PSS-78,,PSS-78,,UMOL/KG,,UMOL/KG,,UMOL/KG,,UMOL/KG,,UMOL/KG,,UMOL/KG,,UMOL/KG,,UMOL/KG,,UMOL/KG,,O/OO,,DPM/100KG,DPM/100KG,,DPM/100KG,DPM/100KG,,DPM/100KG,DPM/100KG,,,,,DPM/100KG,DPM/100KG,,ug/kg,,ug/kg,,UMOL/KG,,UMOL/KG,,UMOL/KG,,UMOL/KG,,NG/KG,,UG/L,,UG/L,,DEGC
  32H120020718,    32,  7,      8,2,20020813, 73.7074,-159.0930, 1401,     38.8,  -0.8716,  31.2385,2,-999.0000,9,    374.5,2,    384.6,2,     8.35,2,     1.52,2,     0.10,2,     0.96,2,     0.11,2,   -999.0,9,   -999.0,9,  -999.00,9,  -999.00,  -999.00,9,  -999.00,  -999.00,9,  -999.00,  -999.00,9,        -999,         -999,9,  -999.00,  -999.00,9,       -999,9,        -999,9,   -999.0,9,   -999.0,9,   -999.0,9,     0.01,2,      -999,9,     0.18,2,     0.15,2,  -0.8724
  32H120020718,    32,  7,      7,2,20020813, 73.7074,-159.0930, 1401,     38.8,  -0.8727,  31.2328,2,-999.0000,9,    372.3,2,   -999.0,9,  -999.00,9,  -999.00,9,  -999.00,9,  -999.00,9,     -999,9,   -999.0,9,   -999.0,9,  -999.00,9,  -999.00,  -999.00,9,  -999.00,  -999.00,9,  -999.00,  -999.00,9,        -999,         -999,9,  -999.00,  -999.00,9,       -999,9,        -999,9,   -999.0,9,   -999.0,9,   -999.0,9,     -999,9,      -999,9,  -999.00,9,  -999.00,9,  -0.8735
  32H120020718,    32,  2,      9,2,20020813, 73.7074,-159.0930, 1401,     40.9,  -0.7685,  31.2758,2,  31.2989,2,    375.8,2,    386.4,2,     8.14,2,     1.22,2,     0.09,2,     0.94,2,     0.11,2,   2066.0,2,   2233.4,2,    -2.73,2,  -999.00,  -999.00,9,  -999.00,  -999.00,9,  -999.00,  -999.00,9,        -999,         -999,9,  -999.00,  -999.00,9, 24.9329447,2,  4.75564325,2,     71.8,2,      9.7,2,     11.1,2,        0,2,      -999,9,     0.25,2,     0.18,2,  -0.7694
  32H120020718,    32,  4,     10,2,20020813, 73.7074,-159.0930, 1401,     56.2,  -0.7893,  31.9495,2,-999.0000,9,    334.1,2,   -999.0,9,  -999.00,9,  -999.00,9,  -999.00,9,  -999.00,9,     -999,9,   -999.0,9,   -999.0,9,  -999.00,9,     3.11,     0.19,2,     8.43,     0.33,2,     5.09,     0.28,2, 0.574459685, 0.0382973123,2,     1.75,     0.21,2,       -999,9,        -999,9,   -999.0,9,   -999.0,9,   -999.0,9,     -999,9,      -999,9,  -999.00,9,  -999.00,9,  -0.7906
  32H120020718,    32,  4,      9,2,20020813, 73.7074,-159.0930, 1401,     56.2,  -0.7896,  31.9502,2,-999.0000,9,    333.9,2,   -999.0,9,  -999.00,9,  -999.00,9,  -999.00,9,  -999.00,9,     -999,9,   -999.0,9,   -999.0,9,  -999.00,9,     3.11,     0.19,2,     8.42,     0.32,2,     5.08,     0.28,2, 0.573410012, 0.0382273341,2,     1.75,     0.21,2,       -999,9,        -999,9,   -999.0,9,   -999.0,9,   -999.0,9,     -999,9,      -999,9,  -999.00,9,  -999.00,9,  -0.7909
  32H120020718,    32,  4,     12,2,20020813, 73.7074,-159.0930, 1401,     56.2,  -0.7898,  31.9519,2,-999.0000,9,    334.1,2,   -999.0,9,  -999.00,9,  -999.00,9,  -999.00,9,  -999.00,9,     -999,9,   -999.0,9,   -999.0,9,  -999.00,9,     3.11,     0.19,2,     8.42,     0.32,2,     5.08,     0.28,2, 0.573410097, 0.0382273398,2,     1.75,     0.21,2,       -999,9,        -999,9,   -999.0,9,   -999.0,9,   -999.0,9,     -999,9,      -999,9,  -999.00,9,  -999.00,9,  -0.7911
  32H120020718,    32,  4,      8,2,20020813, 73.7074,-159.0930, 1401,     56.2,  -0.7905,  31.9513,2,-999.0000,9,    333.8,2,   -999.0,9,  -999.00,9,  -999.00,9,  -999.00,9,  -999.00,9,     -999,9,   -999.0,9,   -999.0,9,  -999.00,9,     3.11,     0.19,2,     8.42,     0.32,2,     5.08,     0.28,2, 0.573408218, 0.0382272146,2,     1.75,     0.21,2,       -999,9,        -999,9,   -999.0,9,   -999.0,9,   -999.0,9,     -999,9,      -999,9,  -999.00,9,  -999.00,9,  -0.7918
  32H120020718,    32,  4,     11,2,20020813, 73.7074,-159.0930, 1401,     56.2,  -0.7910,  31.9509,2,-999.0000,9,    333.9,2,   -999.0,9,  -999.00,9,  -999.00,9,  -999.00,9,  -999.00,9,     -999,9,   -999.0,9,   -999.0,9,  -999.00,9,     3.11,     0.19,2,     8.42,     0.32,2,     5.08,     0.28,2, 0.573411976, 0.0382274651,2,     1.75,     0.21,2,       -999,9,        -999,9,   -999.0,9,   -999.0,9,   -999.0,9,     -999,9,      -999,9,  -999.00,9,  -999.00,9,  -0.7923
  32H120020718,    32,  4,      7,2,20020813, 73.7074,-159.0930, 1401,     56.2,  -0.7910,  31.9514,2,-999.0000,9,    333.9,2,   -999.0,9,    13.54,2,     6.03,2,     0.05,2,     1.26,2,     0.03,2,   -999.0,9,   -999.0,9,  -999.00,9,     3.11,     0.19,2,     8.42,     0.32,2,     5.08,     0.28,2, 0.573411848, 0.0382274565,2,     1.75,     0.21,2,       -999,9,        -999,9,   -999.0,9,   -999.0,9,   -999.0,9,     0.02,2,      -999,9,  -999.00,9,  -999.00,9,  -0.7923
  32H120020718,    32,  7,      6,2,20020813, 73.7074,-159.0930, 1401,     61.0,  -0.9057,  32.0258,2,-999.0000,9,    324.8,2,    326.2,2,    17.33,2,     8.19,2,     0.02,2,     1.40,2,        0,2,   -999.0,9,   -999.0,9,  -999.00,9,  -999.00,  -999.00,9,  -999.00,  -999.00,9,  -999.00,  -999.00,9,        -999,         -999,9,  -999.00,  -999.00,9,       -999,9,        -999,9,   -999.0,9,   -999.0,9,   -999.0,9,        0,2,      -999,9,     0.27,2,     0.23,2,  -0.9071
  32H120020718,    32,  2,      8,2,20020813, 73.7074,-159.0930, 1401,     61.2,  -0.9987,  32.1169,2,  32.1188,2,    318.3,2,    328.2,2,    16.53,2,     7.86,2,     0.02,2,     1.38,2,     0.01,2,   2117.9,2,   2235.4,2,    -1.93,2,  -999.00,  -999.00,9,  -999.00,  -999.00,9,  -999.00,  -999.00,9,        -999,         -999,9,  -999.00,  -999.00,9, 16.5465955,2,  2.67952832,2,     63.2,2,      4.5,2,     12.4,2,        0,2,      -999,9,     0.22,2,     0.16,2,  -1.0001
  32H120020718,    32,  2,      7,2,20020813, 73.7074,-159.0930, 1401,     81.5,  -1.3292,  32.4053,2,  32.4019,2,    299.8,2,    308.2,2,    22.98,2,    10.71,2,     0.01,2,     1.58,2,        0,2,   -999.0,9,   -999.0,9,    -1.89,2,  -999.00,  -999.00,9,  -999.00,  -999.00,9,  -999.00,  -999.00,9,        -999,         -999,9,  -999.00,  -999.00,9,       -999,9,        -999,9,     62.9,2,      7.9,2,     18.6,2,        0,2,      -999,9,     0.09,2,     0.07,2,  -1.3308
  32H120020718,    32,  7,      4,2,20020813, 73.7074,-159.0930, 1401,     93.2,  -1.3700,  32.5578,2,-999.0000,9,    284.9,2,   -999.0,9,  -999.00,9,  -999.00,9,  -999.00,9,  -999.00,9,     -999,9,   -999.0,9,   -999.0,9,  -999.00,9,  -999.00,  -999.00,9,  -999.00,  -999.00,9,  -999.00,  -999.00,9,        -999,         -999,9,  -999.00,  -999.00,9,       -999,9,        -999,9,   -999.0,9,   -999.0,9,   -999.0,9,     -999,9,      -999,9,  -999.00,9,  -999.00,9,  -1.3719
  32H120020718,    32,  7,      5,2,20020813, 73.7074,-159.0930, 1401,     93.2,  -1.3702,  32.5579,2,-999.0000,9,    284.7,2,    295.7,2,    27.15,2,    12.64,2,     0.00,2,     1.70,2,        0,2,   -999.0,9,   -999.0,9,  -999.00,9,  -999.00,  -999.00,9,  -999.00,  -999.00,9,  -999.00,  -999.00,9,        -999,         -999,9,  -999.00,  -999.00,9,       -999,9,        -999,9,   -999.0,9,   -999.0,9,   -999.0,9,        0,2,      -999,9,     0.03,2,     0.05,2,  -1.3721
  32H120020718,    32,  2,      6,2,20020813, 73.7074,-159.0930, 1401,    101.6,  -1.3864,  32.6607,2,  32.6591,2,    281.3,2,    290.7,2,    29.15,2,    13.41,2,     0.00,2,     1.77,2,        0,2,   2176.0,2,   2263.7,2,    -1.64,2,  -999.00,  -999.00,9,  -999.00,  -999.00,9,  -999.00,  -999.00,9,        -999,         -999,9,  -999.00,  -999.00,9, 8.87603278,2,  1.29034951,2,     62.6,2,      6.4,2,     19.8,2,        0,2,      -999,9,     0.02,2,     0.04,2,  -1.3885
  32H120020718,    32,  4,      2,2,20020813, 73.7074,-159.0930, 1401,    101.4,  -1.3726,  32.6499,2,-999.0000,9,    283.6,2,   -999.0,9,  -999.00,9,  -999.00,9,  -999.00,9,  -999.00,9,     -999,9,   -999.0,9,   -999.0,9,  -999.00,9,     2.15,     0.17,2,     8.80,     0.46,2,     5.38,     0.66,2, 0.581928601,  0.076318505,2,     1.30,     0.42,2,       -999,9,        -999,9,   -999.0,9,   -999.0,9,   -999.0,9,     -999,9,      -999,9,  -999.00,9,  -999.00,9,  -1.3747
  32H120020718,    32,  4,      3,2,20020813, 73.7074,-159.0930, 1401,    101.4,  -1.3758,  32.6493,2,-999.0000,9,    283.6,2,   -999.0,9,  -999.00,9,  -999.00,9,  -999.00,9,  -999.00,9,     -999,9,   -999.0,9,   -999.0,9,  -999.00,9,     2.15,     0.17,2,     8.80,     0.46,2,     5.38,     0.66,2, 0.581928861, 0.0763185391,2,     1.30,     0.42,2,       -999,9,        -999,9,   -999.0,9,   -999.0,9,   -999.0,9,     -999,9,      -999,9,  -999.00,9,  -999.00,9,  -1.3779
  32H120020718,    32,  4,      1,2,20020813, 73.7074,-159.0930, 1401,    101.4,  -1.3766,  32.6495,2,-999.0000,9,    283.3,2,   -999.0,9,  -999.00,9,  -999.00,9,  -999.00,9,  -999.00,9,     -999,9,   -999.0,9,   -999.0,9,  -999.00,9,     2.15,     0.17,2,     8.80,     0.46,2,     5.38,     0.66,2, 0.581928687, 0.0763185164,2,     1.30,     0.42,2,       -999,9,        -999,9,   -999.0,9,   -999.0,9,   -999.0,9,     -999,9,      -999,9,  -999.00,9,  -999.00,9,  -1.3787
  32H120020718,    32,  4,      4,2,20020813, 73.7074,-159.0930, 1401,    101.4,  -1.3776,  32.6493,2,-999.0000,9,    283.4,2,   -999.0,9,  -999.00,9,  -999.00,9,  -999.00,9,  -999.00,9,     -999,9,   -999.0,9,   -999.0,9,  -999.00,9,     2.15,     0.17,2,     8.80,     0.46,2,     5.38,     0.66,2, 0.581928861, 0.0763185391,2,     1.30,     0.42,2,       -999,9,        -999,9,   -999.0,9,   -999.0,9,   -999.0,9,     -999,9,      -999,9,  -999.00,9,  -999.00,9,  -1.3797
  32H120020718,    32,  4,      5,2,20020813, 73.7074,-159.0930, 1401,    101.4,  -1.3811,  32.6485,2,-999.0000,9,    283.6,2,   -999.0,9,  -999.00,9,  -999.00,9,  -999.00,9,  -999.00,9,     -999,9,   -999.0,9,   -999.0,9,  -999.00,9,     2.15,     0.17,2,     8.80,     0.46,2,     5.38,     0.66,2, 0.581929121, 0.0763185732,2,     1.30,     0.42,2,       -999,9,        -999,9,   -999.0,9,   -999.0,9,   -999.0,9,     -999,9,      -999,9,  -999.00,9,  -999.00,9,  -1.3832
  32H120020718,    32,  4,      6,2,20020813, 73.7074,-159.0930, 1401,    101.4,  -1.3821,  32.6481,2,-999.0000,9,    282.8,2,   -999.0,9,    28.53,2,    13.05,2,     0.00,2,     1.75,2,     0.01,2,   -999.0,9,   -999.0,9,  -999.00,9,     2.15,     0.17,2,     8.80,     0.46,2,     5.38,     0.66,2, 0.581929208, 0.0763185846,2,     1.30,     0.42,2,       -999,9,        -999,9,   -999.0,9,   -999.0,9,   -999.0,9,     0.02,2,      -999,9,  -999.00,9,  -999.00,9,  -1.3842
  32H120020718,    32,  7,      3,2,20020813, 73.7074,-159.0930, 1401,    101.0,  -1.3514,  32.6398,2,-999.0000,9,    282.9,2,   -999.0,9,  -999.00,9,  -999.00,9,  -999.00,9,  -999.00,9,     -999,9,   -999.0,9,   -999.0,9,  -999.00,9,  -999.00,  -999.00,9,  -999.00,  -999.00,9,  -999.00,  -999.00,9,        -999,         -999,9,  -999.00,  -999.00,9,       -999,9,        -999,9,   -999.0,9,   -999.0,9,   -999.0,9,     -999,9,      -999,9,  -999.00,9,  -999.00,9,  -1.3535
  32H120020718,    32,  8,      1,2,20020813, 73.7074,-159.0930, 1401,    102.6,  -1.3495,  32.6667,2,-999.0000,9,    282.7,2,   -999.0,9,    28.58,2,    13.19,2,     0.02,2,     1.76,2,     0.04,2,   -999.0,9,   -999.0,9,  -999.00,9,  -999.00,  -999.00,9,  -999.00,  -999.00,9,  -999.00,  -999.00,9,        -999,         -999,9,  -999.00,  -999.00,9,       -999,9,        -999,9,   -999.0,9,   -999.0,9,   -999.0,9,     0.04,2,      -999,9,  -999.00,9,  -999.00,9,  -1.3516
  32H120020718,    32,  8,      2,2,20020813, 73.7074,-159.0930, 1401,    102.6,  -1.3514,  32.6668,2,-999.0000,9,    282.6,2,   -999.0,9,  -999.00,9,  -999.00,9,  -999.00,9,  -999.00,9,     -999,9,   -999.0,9,   -999.0,9,  -999.00,9,  -999.00,  -999.00,9,  -999.00,  -999.00,9,  -999.00,  -999.00,9,        -999,         -999,9,  -999.00,  -999.00,9,       -999,9,        -999,9,   -999.0,9,   -999.0,9,   -999.0,9,     -999,9,      -999,9,  -999.00,9,  -999.00,9,  -1.3535
  32H120020718,    32,  2,      5,2,20020813, 73.7074,-159.0930, 1401,    126.9,  -1.5279,  32.8648,2,  32.8798,2,    278.1,2,    288.3,2,    32.34,2,    14.50,2,     0.00,2,     1.82,2,        0,2,   2187.0,2,   2306.3,2,    -1.59,2,  -999.00,  -999.00,9,  -999.00,  -999.00,9,  -999.00,  -999.00,9,        -999,         -999,9,  -999.00,  -999.00,9, 7.85811968,2,  1.21194651,2,     61.1,2,      7.2,2,     21.6,2,        0,2,      -999,9,     0.01,2,     0.04,2,  -1.5304
  32H120020718,    32,  7,      2,2,20020813, 73.7074,-159.0930, 1401,    151.1,  -1.5614,  33.1701,2,-999.0000,9,    271.2,2,   -999.0,9,  -999.00,9,  -999.00,9,  -999.00,9,  -999.00,9,     -999,9,   -999.0,9,   -999.0,9,  -999.00,9,  -999.00,  -999.00,9,  -999.00,  -999.00,9,  -999.00,  -999.00,9,        -999,         -999,9,  -999.00,  -999.00,9,       -999,9,        -999,9,   -999.0,9,   -999.0,9,   -999.0,9,     -999,9,      -999,9,  -999.00,9,  -999.00,9,  -1.5645
  32H120020718,    32,  2,      4,2,20020813, 73.7074,-159.0930, 1401,    152.1,  -1.5490,  33.1586,2,  33.1946,2,    271.0,2,    279.7,2,    34.83,2,    15.35,2,     0.00,2,     1.85,2,        0,2,   -999.0,9,   -999.0,9,    -1.52,2,  -999.00,  -999.00,9,  -999.00,  -999.00,9,  -999.00,  -999.00,9,        -999,         -999,9,  -999.00,  -999.00,9,       -999,9,        -999,9,     58.1,2,      6.2,2,     21.5,2,        0,2,110.833038,2,     0.01,2,     0.02,2,  -1.5521
  32H120020718,    32,  3,      7,2,20020813, 73.7074,-159.0930, 1401,    152.0,  -1.5517,  33.1620,2,-999.0000,9,    267.8,2,   -999.0,9,    35.53,2,    15.60,2,     0.00,2,     1.88,2,        0,2,   -999.0,9,   -999.0,9,  -999.00,9,     2.21,     0.13,2,     9.35,     0.37,2,     5.24,     0.30,2, 0.537235209, 0.0383739435,2,     1.55,     0.22,2,       -999,9,        -999,9,   -999.0,9,   -999.0,9,   -999.0,9,        0,2,      -999,9,  -999.00,9,  -999.00,9,  -1.5548
  32H120020718,    32,  3,      8,2,20020813, 73.7074,-159.0930, 1401,    152.0,  -1.5523,  33.1618,2,-999.0000,9,    267.6,2,   -999.0,9,  -999.00,9,  -999.00,9,  -999.00,9,  -999.00,9,     -999,9,   -999.0,9,   -999.0,9,  -999.00,9,     2.21,     0.13,2,     9.34,     0.37,2,     5.23,     0.30,2, 0.536659807, 0.0383328434,2,     1.54,     0.22,2,       -999,9,        -999,9,   -999.0,9,   -999.0,9,   -999.0,9,     -999,9,      -999,9,  -999.00,9,  -999.00,9,  -1.5554
  32H120020718,    32,  3,      9,2,20020813, 73.7074,-159.0930, 1401,    152.0,  -1.5530,  33.1611,2,-999.0000,9,    267.7,2,   -999.0,9,  -999.00,9,  -999.00,9,  -999.00,9,  -999.00,9,     -999,9,   -999.0,9,   -999.0,9,  -999.00,9,     2.21,     0.13,2,     9.34,     0.37,2,     5.23,     0.30,2,  0.53624402, 0.0383031443,2,     1.54,     0.22,2,       -999,9,        -999,9,   -999.0,9,   -999.0,9,   -999.0,9,     -999,9,      -999,9,  -999.00,9,  -999.00,9,  -1.5561
  32H120020718,    32,  3,     10,2,20020813, 73.7074,-159.0930, 1401,    152.0,  -1.5539,  33.1590,2,-999.0000,9,    269.0,2,   -999.0,9,  -999.00,9,  -999.00,9,  -999.00,9,  -999.00,9,     -999,9,   -999.0,9,   -999.0,9,  -999.00,9,     2.21,     0.13,2,     9.32,     0.37,2,     5.22,     0.30,2, 0.535491977, 0.0382494269,2,     1.54,     0.22,2,       -999,9,        -999,9,   -999.0,9,   -999.0,9,   -999.0,9,     -999,9,      -999,9,  -999.00,9,  -999.00,9,  -1.5570
  32H120020718,    32,  3,     12,2,20020813, 73.7074,-159.0930, 1401,    152.0,  -1.5540,  33.1593,2,-999.0000,9,    269.1,2,   -999.0,9,  -999.00,9,  -999.00,9,  -999.00,9,  -999.00,9,     -999,9,   -999.0,9,   -999.0,9,  -999.00,9,     2.21,     0.13,2,     9.32,     0.37,2,     5.22,     0.30,2, 0.535494131, 0.0382495808,2,     1.54,     0.22,2,       -999,9,        -999,9,   -999.0,9,   -999.0,9,   -999.0,9,     -999,9,      -999,9,  -999.00,9,  -999.00,9,  -1.5571
  32H120020718,    32,  3,     11,2,20020813, 73.7074,-159.0930, 1401,    152.0,  -1.5542,  33.1584,2,-999.0000,9,    269.1,2,   -999.0,9,  -999.00,9,  -999.00,9,  -999.00,9,  -999.00,9,     -999,9,   -999.0,9,   -999.0,9,  -999.00,9,     2.20,     0.13,2,     9.32,     0.37,2,     5.22,     0.30,2, 0.535178246, 0.0382270176,2,     1.54,     0.22,2,       -999,9,        -999,9,   -999.0,9,   -999.0,9,   -999.0,9,     -999,9,      -999,9,  -999.00,9,  -999.00,9,  -1.5573
  32H120020718,    32,  5,      9,2,20020813, 73.7074,-159.0930, 1401,    157.1,  -1.5223,  33.2229,2,-999.0000,9,    266.1,2,   -999.0,9,  -999.00,9,  -999.00,9,  -999.00,9,  -999.00,9,     -999,9,   -999.0,9,   -999.0,9,  -999.00,9,  -999.00,  -999.00,9,  -999.00,  -999.00,9,  -999.00,  -999.00,9,        -999,         -999,9,  -999.00,  -999.00,9,       -999,9,        -999,9,   -999.0,9,   -999.0,9,   -999.0,9,     -999,9,      -999,9,  -999.00,9,  -999.00,9,  -1.5256
  32H120020718,    32,  5,      8,2,20020813, 73.7074,-159.0930, 1401,    157.1,  -1.5228,  33.2210,2,-999.0000,9,    266.7,2,   -999.0,9,  -999.00,9,  -999.00,9,  -999.00,9,  -999.00,9,     -999,9,   -999.0,9,   -999.0,9,  -999.00,9,  -999.00,  -999.00,9,  -999.00,  -999.00,9,  -999.00,  -999.00,9,        -999,         -999,9,  -999.00,  -999.00,9,       -999,9,        -999,9,   -999.0,9,   -999.0,9,   -999.0,9,     -999,9,      -999,9,  -999.00,9,  -999.00,9,  -1.5261
  32H120020718,    32,  5,     10,2,20020813, 73.7074,-159.0930, 1401,    157.1,  -1.5229,  33.2260,2,-999.0000,9,    265.7,2,   -999.0,9,  -999.00,9,  -999.00,9,  -999.00,9,  -999.00,9,     -999,9,   -999.0,9,   -999.0,9,  -999.00,9,  -999.00,  -999.00,9,  -999.00,  -999.00,9,  -999.00,  -999.00,9,        -999,         -999,9,  -999.00,  -999.00,9,       -999,9,        -999,9,   -999.0,9,   -999.0,9,   -999.0,9,     -999,9,      -999,9,  -999.00,9,  -999.00,9,  -1.5262
  32H120020718,    32,  5,      7,2,20020813, 73.7074,-159.0930, 1401,    157.1,  -1.5237,  33.2176,2,-999.0000,9,    267.3,2,   -999.0,9,  -999.00,9,  -999.00,9,  -999.00,9,  -999.00,9,     -999,9,   -999.0,9,   -999.0,9,  -999.00,9,  -999.00,  -999.00,9,  -999.00,  -999.00,9,  -999.00,  -999.00,9,        -999,         -999,9,  -999.00,  -999.00,9,       -999,9,        -999,9,   -999.0,9,   -999.0,9,   -999.0,9,     -999,9,      -999,9,  -999.00,9,  -999.00,9,  -1.5270
  32H120020718,    32,  5,      6,2,20020813, 73.7074,-159.0930, 1401,    157.1,  -1.5243,  33.2174,2,-999.0000,9,    266.5,2,   -999.0,9,    35.30,2,    15.72,2,     0.00,2,     1.85,2,     0.01,2,   -999.0,9,   -999.0,9,  -999.00,9,  -999.00,  -999.00,9,  -999.00,  -999.00,9,  -999.00,  -999.00,9,        -999,         -999,9,  -999.00,  -999.00,9,       -999,9,        -999,9,   -999.0,9,   -999.0,9,   -999.0,9,        0,2,      -999,9,  -999.00,9,  -999.00,9,  -1.5276
  32H120020718,    32,  2,      3,2,20020813, 73.7074,-159.0930, 1401,    175.8,  -1.4015,  33.5157,2,  33.5398,2,    270.0,2,    277.8,2,    32.62,2,    15.11,2,     0.00,2,     1.74,2,        0,2,   2210.9,2,   2296.4,2,    -1.27,2,  -999.00,  -999.00,9,  -999.00,  -999.00,9,  -999.00,  -999.00,9,        -999,         -999,9,  -999.00,  -999.00,9, 6.99457962,2, 0.947590716,2,     57.5,2,   -999.0,9,   -999.0,9,        0,2,      -999,9,     0.01,2,     0.03,2,  -1.4055
  32H120020718,    32,  2,      2,2,20020813, 73.7074,-159.0930, 1401,    200.7,  -1.1315,  34.0253,2,  34.0436,2,    261.9,2,    271.6,2,    20.76,2,    13.22,2,     0.00,2,     1.28,2,     0.02,2,   -999.0,9,   -999.0,9,    -0.55,2,  -999.00,  -999.00,9,  -999.00,  -999.00,9,  -999.00,  -999.00,9,        -999,         -999,9,  -999.00,  -999.00,9,       -999,9,        -999,9,     55.6,2,      5.7,2,     19.0,2,     0.09,2,      -999,9,     0.01,2,     0.04,2,  -1.1367