BOTTLE,20090202PRINUNIVRMK
EXPOCODE,STNNBR,CASTNO,BTLNBR,BTLNBR_FLAG_W,DATE,LATITUDE,LONGITUDE,DEPTH,CTDPRS,CTDTMP,CTDSAL,CTDSAL_FLAG_W,SALNTY,SALNTY_FLAG_W,CTDOXY,CTDOXY_FLAG_W,OXYGEN,OXYGEN_FLAG_W,SILCAT,SILCAT_FLAG_W,NITRAT,NITRAT_FLAG_W,NITRIT,NITRIT_FLAG_W,PHSPHT,PHSPHT_FLAG_W,AMMONI,AMMONI_FLAG_W,TCARBN,TCARBN_FLAG_W,ALKALI,ALKALI_FLAG_W,DELO18,DELO18_FLAG_W,RA-224,RA-224E,RA-224_FLAG_W,RA-226,RA-226E,RA-226_FLAG_W,RA-228,RA-228E,RA-228_FLAG_W,RA-8/6,RA-8/6E,RA-8/6_FLAG_W,TH-228,TH-228E,TH-228_FLAG_W,POC,POC_FLAG_W,PON,PON_FLAG_W,DOC,DOC_FLAG_W,DON,DON_FLAG_W,TDN,TDN_FLAG_W,UREA,UREA_FLAG_W,LIGNIN,LIGNIN_FLAG_W,CHLORA,CHLORA_FLAG_W,PHAEO,PHAEO_FLAG_W,THETA
,,,,,,,,METERS,DBARS,ITS-90,PSS-78,,PSS-78,,UMOL/KG,,UMOL/KG,,UMOL/KG,,UMOL/KG,,UMOL/KG,,UMOL/KG,,UMOL/KG,,UMOL/KG,,UMOL/KG,,O/OO,,DPM/100KG,DPM/100KG,,DPM/100KG,DPM/100KG,,DPM/100KG,DPM/100KG,,,,,DPM/100KG,DPM/100KG,,ug/kg,,ug/kg,,UMOL/KG,,UMOL/KG,,UMOL/KG,,UMOL/KG,,NG/KG,,UG/L,,UG/L,,DEGC
  32H120020718,    19,  4,      7,2,20020730, 71.9120,-151.9710, 2170,     61.2,  -1.6253,  32.6268,2,-999.0000,9,    308.6,2,   -999.0,9,  -999.00,9,  -999.00,9,  -999.00,9,  -999.00,9,     -999,9,   -999.0,9,   -999.0,9,  -999.00,9,     0.66,     0.08,2,    10.75,     0.16,2,    10.40,     0.91,2, 0.926475151,  0.085961612,2,     0.90,     0.08,2,       -999,9,        -999,9,   -999.0,9,   -999.0,9,   -999.0,9,     -999,9,      -999,9,  -999.00,9,  -999.00,9,  -1.6264
  32H120020718,    19,  4,     12,2,20020730, 71.9120,-151.9710, 2170,     61.2,  -1.6262,  32.6254,2,-999.0000,9,    307.7,2,   -999.0,9,  -999.00,9,  -999.00,9,  -999.00,9,  -999.00,9,     -999,9,   -999.0,9,   -999.0,9,  -999.00,9,     0.66,     0.08,2,    10.75,     0.16,2,    10.40,     0.91,2, 0.926475427, 0.0859616376,2,     0.90,     0.08,2,       -999,9,        -999,9,   -999.0,9,   -999.0,9,   -999.0,9,     -999,9,      -999,9,  -999.00,9,  -999.00,9,  -1.6273
  32H120020718,    19,  4,     11,2,20020730, 71.9120,-151.9710, 2170,     61.2,  -1.6265,  32.6252,2,-999.0000,9,    307.2,2,   -999.0,9,  -999.00,9,  -999.00,9,  -999.00,9,  -999.00,9,     -999,9,   -999.0,9,   -999.0,9,  -999.00,9,     0.66,     0.08,2,    10.75,     0.16,2,    10.40,     0.91,2, 0.926475427, 0.0859616376,2,     0.90,     0.08,2,       -999,9,        -999,9,   -999.0,9,   -999.0,9,   -999.0,9,     -999,9,      -999,9,  -999.00,9,  -999.00,9,  -1.6276
  32H120020718,    19,  4,      9,2,20020730, 71.9120,-151.9710, 2170,     61.2,  -1.6268,  32.6252,2,-999.0000,9,    307.2,2,   -999.0,9,  -999.00,9,  -999.00,9,  -999.00,9,  -999.00,9,     -999,9,   -999.0,9,   -999.0,9,  -999.00,9,     0.66,     0.08,2,    10.78,     0.16,2,    10.43,     0.91,2, 0.929178395, 0.0862124284,2,     0.90,     0.08,2,       -999,9,        -999,9,   -999.0,9,   -999.0,9,   -999.0,9,     -999,9,      -999,9,  -999.00,9,  -999.00,9,  -1.6279
  32H120020718,    19,  4,     10,2,20020730, 71.9120,-151.9710, 2170,     61.2,  -1.6269,  32.6250,2,-999.0000,9,    306.9,2,   -999.0,9,  -999.00,9,  -999.00,9,  -999.00,9,  -999.00,9,     -999,9,   -999.0,9,   -999.0,9,  -999.00,9,     0.66,     0.08,2,    10.76,     0.16,2,    10.41,     0.91,2, 0.927502401, 0.0860569238,2,     0.90,     0.08,2,       -999,9,        -999,9,   -999.0,9,   -999.0,9,   -999.0,9,     -999,9,      -999,9,  -999.00,9,  -999.00,9,  -1.6280
  32H120020718,    19,  4,      8,2,20020730, 71.9120,-151.9710, 2170,     61.2,  -1.6274,  32.6251,2,-999.0000,9,    307.1,2,   -999.0,9,  -999.00,9,  -999.00,9,  -999.00,9,  -999.00,9,     -999,9,   -999.0,9,   -999.0,9,  -999.00,9,     0.66,     0.08,2,    10.75,     0.16,2,    10.41,     0.91,2, 0.927176232, 0.0860266607,2,     0.90,     0.08,2,       -999,9,        -999,9,   -999.0,9,   -999.0,9,   -999.0,9,     -999,9,      -999,9,  -999.00,9,  -999.00,9,  -1.6285
  32H120020718,    19,  2,      7,2,20020730, 71.9120,-151.9710, 2170,     81.6,  -1.6940,  32.9298,2,  32.9393,2,    293.5,2,    304.7,2,    41.88,2,    12.91,2,     0.18,2,     1.84,2,     2.15,2,   2182.9,2,   2273.9,2,  -999.00,9,  -999.00,  -999.00,9,  -999.00,  -999.00,9,  -999.00,  -999.00,9,        -999,         -999,9,  -999.00,  -999.00,9, 4.80848348,2,-0.205240055,2,     64.8,2,      5.3,2,     20.6,2,     0.09,2,      -999,9,     0.67,2,     0.80,2,  -1.6955
  32H120020718,    19,  2,      6,2,20020730, 71.9120,-151.9710, 2170,    101.2,  -1.6666,  33.1401,2,  33.1382,2,    288.4,2,    297.5,2,    44.42,2,    13.69,2,     0.21,2,     1.90,2,     2.27,2,   2196.6,2,   2283.7,2,  -999.00,9,  -999.00,  -999.00,9,  -999.00,  -999.00,9,  -999.00,  -999.00,9,        -999,         -999,9,  -999.00,  -999.00,9, 53.9799274,2,  10.4559192,2,     64.4,2,      5.1,2,     21.3,2,     0.08,2,      -999,9,     0.73,2,     0.77,2,  -1.6685
  32H120020718,    19,  4,      1,2,20020730, 71.9120,-151.9710, 2170,    120.8,  -1.7255,  33.3231,2,-999.0000,9,    285.2,2,   -999.0,9,  -999.00,9,  -999.00,9,  -999.00,9,  -999.00,9,     -999,9,   -999.0,9,   -999.0,9,  -999.00,9,     0.50,     0.07,2,    10.07,     0.26,2,     8.87,     1.37,2, 0.839944013,  0.133627457,2,     0.78,     0.07,2,       -999,9,        -999,9,   -999.0,9,   -999.0,9,   -999.0,9,     -999,9,      -999,9,  -999.00,9,  -999.00,9,  -1.7278
  32H120020718,    19,  4,      2,2,20020730, 71.9120,-151.9710, 2170,    120.8,  -1.7267,  33.3235,2,-999.0000,9,    285.0,2,   -999.0,9,  -999.00,9,  -999.00,9,  -999.00,9,  -999.00,9,     -999,9,   -999.0,9,   -999.0,9,  -999.00,9,     0.50,     0.07,2,    10.07,     0.26,2,     8.87,     1.37,2, 0.839944826,  0.133627586,2,     0.78,     0.07,2,       -999,9,        -999,9,   -999.0,9,   -999.0,9,   -999.0,9,     -999,9,      -999,9,  -999.00,9,  -999.00,9,  -1.7290
  32H120020718,    19,  4,      5,2,20020730, 71.9120,-151.9710, 2170,    120.8,  -1.7307,  33.3256,2,-999.0000,9,    283.8,2,   -999.0,9,  -999.00,9,  -999.00,9,  -999.00,9,  -999.00,9,     -999,9,   -999.0,9,   -999.0,9,  -999.00,9,     0.50,     0.07,2,    10.07,     0.26,2,     8.87,     1.37,2, 0.839947265,  0.133627974,2,     0.78,     0.07,2,       -999,9,        -999,9,   -999.0,9,   -999.0,9,   -999.0,9,     -999,9,      -999,9,  -999.00,9,  -999.00,9,  -1.7330
  32H120020718,    19,  4,      3,2,20020730, 71.9120,-151.9710, 2170,    120.8,  -1.7309,  33.3253,2,-999.0000,9,    283.9,2,   -999.0,9,  -999.00,9,  -999.00,9,  -999.00,9,  -999.00,9,     -999,9,   -999.0,9,   -999.0,9,  -999.00,9,     0.50,     0.07,2,    10.06,     0.26,2,     8.86,     1.37,2, 0.839125759,   0.13349728,2,     0.78,     0.07,2,       -999,9,        -999,9,   -999.0,9,   -999.0,9,   -999.0,9,     -999,9,      -999,9,  -999.00,9,  -999.00,9,  -1.7332
  32H120020718,    19,  4,      6,2,20020730, 71.9120,-151.9710, 2170,    120.8,  -1.7310,  33.3263,2,-999.0000,9,    283.7,2,   -999.0,9,  -999.00,9,  -999.00,9,  -999.00,9,  -999.00,9,     -999,9,   -999.0,9,   -999.0,9,  -999.00,9,     0.50,     0.07,2,    10.06,     0.26,2,     8.86,     1.37,2, 0.839125259,    0.1334972,2,     0.78,     0.07,2,       -999,9,        -999,9,   -999.0,9,   -999.0,9,   -999.0,9,     -999,9,      -999,9,  -999.00,9,  -999.00,9,  -1.7333
  32H120020718,    19,  4,      4,2,20020730, 71.9120,-151.9710, 2170,    120.8,  -1.7313,  33.3265,2,-999.0000,9,    283.5,2,   -999.0,9,  -999.00,9,  -999.00,9,  -999.00,9,  -999.00,9,     -999,9,   -999.0,9,   -999.0,9,  -999.00,9,     0.50,     0.07,2,    10.06,     0.26,2,     8.86,     1.37,2,  0.83909259,  0.133492003,2,     0.78,     0.07,2,       -999,9,        -999,9,   -999.0,9,   -999.0,9,   -999.0,9,     -999,9,      -999,9,  -999.00,9,  -999.00,9,  -1.7336
  32H120020718,    19,  2,      5,2,20020730, 71.9120,-151.9710, 2170,    126.9,  -1.7226,  33.3779,2,  33.3789,2,    284.1,2,    292.4,2,    47.05,2,    14.43,2,     0.18,2,     2.01,2,     2.94,2,   2224.0,2,   2294.2,2,  -999.00,9,  -999.00,  -999.00,9,  -999.00,  -999.00,9,  -999.00,  -999.00,9,        -999,         -999,9,  -999.00,  -999.00,9, 43.6138782,2,    8.021285,2,     61.6,2,      4.5,2,     22.0,2,     0.07,2,      -999,9,     0.34,2,     0.47,2,  -1.7250
  32H120020718,    19,  5,      7,2,20020730, 71.9120,-151.9710, 2170,    137.9,  -1.5811,  33.5384,2,-999.0000,9,    288.4,2,   -999.0,9,  -999.00,9,  -999.00,9,  -999.00,9,  -999.00,9,     -999,9,   -999.0,9,   -999.0,9,  -999.00,9,  -999.00,  -999.00,9,  -999.00,  -999.00,9,  -999.00,  -999.00,9,        -999,         -999,9,  -999.00,  -999.00,9,       -999,9,        -999,9,   -999.0,9,   -999.0,9,   -999.0,9,     -999,9,      -999,9,  -999.00,9,  -999.00,9,  -1.5839
  32H120020718,    19,  5,      5,2,20020730, 71.9120,-151.9710, 2170,    137.9,  -1.5825,  33.5392,2,-999.0000,9,    288.4,2,   -999.0,9,  -999.00,9,  -999.00,9,  -999.00,9,  -999.00,9,     -999,9,   -999.0,9,   -999.0,9,  -999.00,9,  -999.00,  -999.00,9,  -999.00,  -999.00,9,  -999.00,  -999.00,9,        -999,         -999,9,  -999.00,  -999.00,9,       -999,9,        -999,9,   -999.0,9,   -999.0,9,   -999.0,9,     -999,9,      -999,9,  -999.00,9,  -999.00,9,  -1.5853
  32H120020718,    19,  5,      8,2,20020730, 71.9120,-151.9710, 2170,    137.9,  -1.5832,  33.5375,2,-999.0000,9,    288.4,2,   -999.0,9,  -999.00,9,  -999.00,9,  -999.00,9,  -999.00,9,     -999,9,   -999.0,9,   -999.0,9,  -999.00,9,  -999.00,  -999.00,9,  -999.00,  -999.00,9,  -999.00,  -999.00,9,        -999,         -999,9,  -999.00,  -999.00,9,       -999,9,        -999,9,   -999.0,9,   -999.0,9,   -999.0,9,     -999,9,      -999,9,  -999.00,9,  -999.00,9,  -1.5860
  32H120020718,    19,  5,      6,2,20020730, 71.9120,-151.9710, 2170,    137.9,  -1.5883,  33.5315,2,-999.0000,9,    288.4,2,   -999.0,9,  -999.00,9,  -999.00,9,  -999.00,9,  -999.00,9,     -999,9,   -999.0,9,   -999.0,9,  -999.00,9,  -999.00,  -999.00,9,  -999.00,  -999.00,9,  -999.00,  -999.00,9,        -999,         -999,9,  -999.00,  -999.00,9,       -999,9,        -999,9,   -999.0,9,   -999.0,9,   -999.0,9,     -999,9,      -999,9,  -999.00,9,  -999.00,9,  -1.5911
  32H120020718,    19,  2,      4,2,20020730, 71.9120,-151.9710, 2170,    150.7,  -1.2505,  33.8141,2,  33.8380,2,    283.9,2,    292.5,2,    35.38,2,    14.12,2,     0.14,2,     1.69,2,     1.36,2,   2217.3,2,   2307.2,2,  -999.00,9,  -999.00,  -999.00,9,  -999.00,  -999.00,9,  -999.00,  -999.00,9,        -999,         -999,9,  -999.00,  -999.00,9, 39.0377866,2,  7.08092745,2,     61.3,2,      2.7,2,     18.3,2,     0.05,2,      -999,9,     0.25,2,     0.38,2,  -1.2542
  32H120020718,    19,  6,      2,2,20020730, 71.9120,-151.9710, 2170,    151.0,  -1.3464,  33.8720,2,-999.0000,9,    291.9,2,   -999.0,9,  -999.00,9,  -999.00,9,  -999.00,9,  -999.00,9,     -999,9,   2220.2,2,   2323.4,2,  -999.00,9,  -999.00,  -999.00,9,  -999.00,  -999.00,9,  -999.00,  -999.00,9,        -999,         -999,9,  -999.00,  -999.00,9,       -999,9,        -999,9,   -999.0,9,   -999.0,9,   -999.0,9,     -999,9,      -999,9,  -999.00,9,  -999.00,9,  -1.3499
  32H120020718,    19,  3,     12,2,20020730, 71.9120,-151.9710, 2170,    161.8,  -0.9040,  34.2415,2,-999.0000,9,    285.5,2,   -999.0,9,    27.20,2,    13.84,2,     0.16,2,     1.46,2,     0.18,2,   -999.0,9,   -999.0,9,  -999.00,9,     0.96,     0.08,2,     8.28,     0.36,2,     6.79,     0.87,2, 0.783935086,  0.105162024,2,     0.82,     0.00,2,       -999,9,        -999,9,   -999.0,9,   -999.0,9,   -999.0,9,     0.05,2,      -999,9,  -999.00,9,  -999.00,9,  -0.9086
  32H120020718,    19,  3,     11,2,20020730, 71.9120,-151.9710, 2170,    161.8,  -0.9067,  34.2407,2,-999.0000,9,    286.1,2,   -999.0,9,  -999.00,9,  -999.00,9,  -999.00,9,  -999.00,9,     -999,9,   -999.0,9,   -999.0,9,  -999.00,9,     0.96,     0.08,2,     8.27,     0.36,2,     6.78,     0.87,2, 0.783147939,  0.105056431,2,     0.81,     0.00,2,       -999,9,        -999,9,   -999.0,9,   -999.0,9,   -999.0,9,     -999,9,      -999,9,  -999.00,9,  -999.00,9,  -0.9112
  32H120020718,    19,  3,     10,2,20020730, 71.9120,-151.9710, 2170,    161.8,  -0.9272,  34.2310,2,-999.0000,9,    286.5,2,   -999.0,9,  -999.00,9,  -999.00,9,  -999.00,9,  -999.00,9,     -999,9,   -999.0,9,   -999.0,9,  -999.00,9,     0.96,     0.08,2,     8.27,     0.36,2,     6.78,     0.87,2, 0.783132244,  0.105054325,2,     0.81,     0.00,2,       -999,9,        -999,9,   -999.0,9,   -999.0,9,   -999.0,9,     -999,9,      -999,9,  -999.00,9,  -999.00,9,  -0.9317
  32H120020718,    19,  3,      9,2,20020730, 71.9120,-151.9710, 2170,    161.8,  -0.9373,  34.2247,2,-999.0000,9,    286.5,2,   -999.0,9,  -999.00,9,  -999.00,9,  -999.00,9,  -999.00,9,     -999,9,   -999.0,9,   -999.0,9,  -999.00,9,     0.96,     0.08,2,     8.27,     0.36,2,     6.78,     0.87,2, 0.782829206,  0.105013674,2,     0.81,     0.00,2,       -999,9,        -999,9,   -999.0,9,   -999.0,9,   -999.0,9,     -999,9,      -999,9,  -999.00,9,  -999.00,9,  -0.9418
  32H120020718,    19,  3,      7,2,20020730, 71.9120,-151.9710, 2170,    161.8,  -0.9379,  34.2254,2,-999.0000,9,    286.5,2,   -999.0,9,  -999.00,9,  -999.00,9,  -999.00,9,  -999.00,9,     -999,9,   -999.0,9,   -999.0,9,  -999.00,9,     0.96,     0.08,2,     8.26,     0.36,2,     6.77,     0.87,2, 0.781955654,   0.10489649,2,     0.81,     0.00,2,       -999,9,        -999,9,   -999.0,9,   -999.0,9,   -999.0,9,     -999,9,      -999,9,  -999.00,9,  -999.00,9,  -0.9424
  32H120020718,    19,  3,      8,2,20020730, 71.9120,-151.9710, 2170,    161.8,  -0.9381,  34.2243,2,-999.0000,9,    286.6,2,   -999.0,9,  -999.00,9,  -999.00,9,  -999.00,9,  -999.00,9,     -999,9,   -999.0,9,   -999.0,9,  -999.00,9,     0.96,     0.08,2,     8.25,     0.36,2,     6.77,     0.87,2, 0.781516352,  0.104837559,2,     0.81,     0.00,2,       -999,9,        -999,9,   -999.0,9,   -999.0,9,   -999.0,9,     -999,9,      -999,9,  -999.00,9,  -999.00,9,  -0.9426
  32H120020718,    19,  2,      3,2,20020730, 71.9120,-151.9710, 2170,    177.2,  -0.6298,  34.4147,2,  34.4174,2,    280.4,2,    287.5,2,    20.18,2,    13.33,2,     0.03,2,     1.25,2,     0.02,2,   2190.5,2,   2319.5,2,  -999.00,9,  -999.00,  -999.00,9,  -999.00,  -999.00,9,  -999.00,  -999.00,9,        -999,         -999,9,  -999.00,  -999.00,9, 17.1723863,2,  3.36808237,2,     61.6,2,      4.1,2,     17.5,2,     0.04,2,      -999,9,     0.12,2,     0.21,2,  -0.6353
  32H120020718,    19,  2,      2,2,20020730, 71.9120,-151.9710, 2170,    201.2,  -0.0758,  34.6003,2,  34.6043,2,    275.6,2,    281.4,2,    13.92,2,    12.95,2,     0.01,2,     1.07,2,     0.02,2,   2172.6,2,   2311.6,2,  -999.00,9,  -999.00,  -999.00,9,  -999.00,  -999.00,9,  -999.00,  -999.00,9,        -999,         -999,9,  -999.00,  -999.00,9, 26.3161705,2,  4.64634477,2,     54.0,2,      3.5,2,     16.5,2,     0.04,2,      -999,9,     0.12,2,     0.20,2,  -0.0831
  32H120020718,    19,  6,      1,2,20020730, 71.9120,-151.9710, 2170,    201.0,  -0.0161,  34.6279,2,-999.0000,9,    279.4,2,   -999.0,9,  -999.00,9,  -999.00,9,  -999.00,9,  -999.00,9,     -999,9,   2170.1,2,   2315.4,2,  -999.00,9,  -999.00,  -999.00,9,  -999.00,  -999.00,9,  -999.00,  -999.00,9,        -999,         -999,9,  -999.00,  -999.00,9,       -999,9,        -999,9,   -999.0,9,   -999.0,9,   -999.0,9,     -999,9,      -999,9,  -999.00,9,  -999.00,9,  -0.0235
  32H120020718,    19,  2,      1,2,20020730, 71.9120,-151.9710, 2170,    226.8,   0.1820,  34.6718,2,  34.6723,2,    276.9,2,    282.9,2,    11.64,2,    12.77,2,     0.02,2,     1.00,2,     0.02,2,   2159.3,2,   2312.8,2,  -999.00,9,  -999.00,  -999.00,9,  -999.00,  -999.00,9,  -999.00,  -999.00,9,        -999,         -999,9,  -999.00,  -999.00,9, 15.5586123,2,  2.69396038,2,     50.8,2,      3.0,2,     15.8,2,     0.03,2,      -999,9,     0.13,2,     0.22,2,   0.1732
  32H120020718,    19,  1,     12,2,20020730, 71.9120,-151.9710, 2170,    251.5,   0.4534,  34.7378,2,  34.7395,2,    279.2,2,    285.5,2,     9.74,2,    12.76,2,     0.01,2,     0.94,2,        0,2,   2156.9,2,   2314.1,2,  -999.00,9,  -999.00,  -999.00,9,  -999.00,  -999.00,9,  -999.00,  -999.00,9,        -999,         -999,9,  -999.00,  -999.00,9, 11.6732449,2,  1.84468605,2,     49.9,2,      3.1,2,     15.9,2,     0.01,2,      -999,9,  -999.00,9,  -999.00,9,   0.4430
  32H120020718,    19,  3,      3,2,20020730, 71.9120,-151.9710, 2170,    254.7,   0.4228,  34.7407,2,-999.0000,9,    279.6,2,   -999.0,9,  -999.00,9,  -999.00,9,  -999.00,9,  -999.00,9,     -999,9,   -999.0,9,   -999.0,9,  -999.00,9,     0.58,     0.06,2,  -999.00,  -999.00,9,  -999.00,  -999.00,9,        -999,         -999,9,     0.47,     0.08,2,       -999,9,        -999,9,   -999.0,9,   -999.0,9,   -999.0,9,     -999,9,      -999,9,  -999.00,9,  -999.00,9,   0.4123
  32H120020718,    19,  3,      2,2,20020730, 71.9120,-151.9710, 2170,    254.7,   0.4231,  34.7406,2,-999.0000,9,    279.6,2,   -999.0,9,    11.35,2,    12.92,2,     0.03,2,     1.01,2,     0.03,2,   -999.0,9,   -999.0,9,  -999.00,9,     0.58,     0.06,2,  -999.00,  -999.00,9,  -999.00,  -999.00,9,        -999,         -999,9,     0.47,     0.08,2,       -999,9,        -999,9,   -999.0,9,   -999.0,9,   -999.0,9,     0.04,2,      -999,9,  -999.00,9,  -999.00,9,   0.4126
  32H120020718,    19,  3,      4,2,20020730, 71.9120,-151.9710, 2170,    254.7,   0.4231,  34.7408,2,-999.0000,9,    279.5,2,   -999.0,9,  -999.00,9,  -999.00,9,  -999.00,9,  -999.00,9,     -999,9,   -999.0,9,   -999.0,9,  -999.00,9,     0.58,     0.06,2,  -999.00,  -999.00,9,  -999.00,  -999.00,9,        -999,         -999,9,     0.47,     0.08,2,       -999,9,        -999,9,   -999.0,9,   -999.0,9,   -999.0,9,     -999,9,      -999,9,  -999.00,9,  -999.00,9,   0.4126
  32H120020718,    19,  3,      1,2,20020730, 71.9120,-151.9710, 2170,    254.7,   0.4232,  34.7407,2,-999.0000,9,    279.6,2,   -999.0,9,  -999.00,9,  -999.00,9,  -999.00,9,  -999.00,9,     -999,9,   -999.0,9,   -999.0,9,  -999.00,9,     0.58,     0.06,2,  -999.00,  -999.00,9,  -999.00,  -999.00,9,        -999,         -999,9,     0.47,     0.08,2,       -999,9,        -999,9,   -999.0,9,   -999.0,9,   -999.0,9,     -999,9,      -999,9,  -999.00,9,  -999.00,9,   0.4127
  32H120020718,    19,  3,      5,2,20020730, 71.9120,-151.9710, 2170,    254.7,   0.4237,  34.7411,2,-999.0000,9,    279.5,2,   -999.0,9,  -999.00,9,  -999.00,9,  -999.00,9,  -999.00,9,     -999,9,   -999.0,9,   -999.0,9,  -999.00,9,     0.58,     0.06,2,  -999.00,  -999.00,9,  -999.00,  -999.00,9,        -999,         -999,9,     0.47,     0.08,2,       -999,9,        -999,9,   -999.0,9,   -999.0,9,   -999.0,9,     -999,9,      -999,9,  -999.00,9,  -999.00,9,   0.4132
  32H120020718,    19,  3,      6,2,20020730, 71.9120,-151.9710, 2170,    254.7,   0.4245,  34.7413,2,-999.0000,9,    279.4,2,   -999.0,9,  -999.00,9,  -999.00,9,  -999.00,9,  -999.00,9,     -999,9,   -999.0,9,   -999.0,9,  -999.00,9,     0.58,     0.06,2,  -999.00,  -999.00,9,  -999.00,  -999.00,9,        -999,         -999,9,     0.47,     0.08,2,       -999,9,        -999,9,   -999.0,9,   -999.0,9,   -999.0,9,     -999,9,      -999,9,  -999.00,9,  -999.00,9,   0.4140