BOTTLE,20090202PRINUNIVRMK
EXPOCODE,STNNBR,CASTNO,BTLNBR,BTLNBR_FLAG_W,DATE,LATITUDE,LONGITUDE,DEPTH,CTDPRS,CTDTMP,CTDSAL,CTDSAL_FLAG_W,SALNTY,SALNTY_FLAG_W,CTDOXY,CTDOXY_FLAG_W,OXYGEN,OXYGEN_FLAG_W,SILCAT,SILCAT_FLAG_W,NITRAT,NITRAT_FLAG_W,NITRIT,NITRIT_FLAG_W,PHSPHT,PHSPHT_FLAG_W,AMMONI,AMMONI_FLAG_W,TCARBN,TCARBN_FLAG_W,ALKALI,ALKALI_FLAG_W,DELO18,DELO18_FLAG_W,RA-224,RA-224E,RA-224_FLAG_W,RA-226,RA-226E,RA-226_FLAG_W,RA-228,RA-228E,RA-228_FLAG_W,RA-8/6,RA-8/6E,RA-8/6_FLAG_W,TH-228,TH-228E,TH-228_FLAG_W,POC,POC_FLAG_W,PON,PON_FLAG_W,DOC,DOC_FLAG_W,DON,DON_FLAG_W,TDN,TDN_FLAG_W,UREA,UREA_FLAG_W,LIGNIN,LIGNIN_FLAG_W,CHLORA,CHLORA_FLAG_W,PHAEO,PHAEO_FLAG_W,THETA
,,,,,,,,METERS,DBARS,ITS-90,PSS-78,,PSS-78,,UMOL/KG,,UMOL/KG,,UMOL/KG,,UMOL/KG,,UMOL/KG,,UMOL/KG,,UMOL/KG,,UMOL/KG,,UMOL/KG,,O/OO,,DPM/100KG,DPM/100KG,,DPM/100KG,DPM/100KG,,DPM/100KG,DPM/100KG,,,,,DPM/100KG,DPM/100KG,,ug/kg,,ug/kg,,UMOL/KG,,UMOL/KG,,UMOL/KG,,UMOL/KG,,NG/KG,,UG/L,,UG/L,,DEGC
  32H120020718,    18,  4,     12,2,20020729, 72.3189,-151.9760, 3253,    121.2,  -1.5705,  32.8683,2,-999.0000,9,    285.8,2,   -999.0,9,  -999.00,9,  -999.00,9,  -999.00,9,  -999.00,9,     -999,9,   -999.0,9,   -999.0,9,  -999.00,9,     2.87,     0.12,2,     8.42,     0.17,2,     4.47,     0.80,2, 0.506237448, 0.0955164996,2,     2.35,     0.10,2,       -999,9,        -999,9,   -999.0,9,   -999.0,9,   -999.0,9,     -999,9,      -999,9,  -999.00,9,  -999.00,9,  -1.5728
  32H120020718,    18,  4,     11,2,20020729, 72.3189,-151.9760, 3253,    121.2,  -1.5710,  32.8681,2,-999.0000,9,    286.6,2,   -999.0,9,  -999.00,9,  -999.00,9,  -999.00,9,  -999.00,9,     -999,9,   -999.0,9,   -999.0,9,  -999.00,9,     2.87,     0.12,2,     8.42,     0.17,2,     4.47,     0.80,2, 0.506241218, 0.0955172109,2,     2.35,     0.10,2,       -999,9,        -999,9,   -999.0,9,   -999.0,9,   -999.0,9,     -999,9,      -999,9,  -999.00,9,  -999.00,9,  -1.5733
  32H120020718,    18,  4,     10,2,20020729, 72.3189,-151.9760, 3253,    121.2,  -1.5718,  32.8676,2,-999.0000,9,    288.2,2,   -999.0,9,  -999.00,9,  -999.00,9,  -999.00,9,  -999.00,9,     -999,9,   -999.0,9,   -999.0,9,  -999.00,9,     2.87,     0.12,2,     8.42,     0.17,2,     4.47,     0.80,2, 0.506239371, 0.0955168624,2,     2.35,     0.10,2,       -999,9,        -999,9,   -999.0,9,   -999.0,9,   -999.0,9,     -999,9,      -999,9,  -999.00,9,  -999.00,9,  -1.5741
  32H120020718,    18,  4,      9,2,20020729, 72.3189,-151.9760, 3253,    121.2,  -1.5726,  32.8666,2,-999.0000,9,    292.1,2,   -999.0,9,  -999.00,9,  -999.00,9,  -999.00,9,  -999.00,9,     -999,9,   -999.0,9,   -999.0,9,  -999.00,9,     2.87,     0.12,2,     8.42,     0.17,2,     4.47,     0.80,2, 0.506240275, 0.0955170331,2,     2.35,     0.10,2,       -999,9,        -999,9,   -999.0,9,   -999.0,9,   -999.0,9,     -999,9,      -999,9,  -999.00,9,  -999.00,9,  -1.5749
  32H120020718,    18,  4,      5,2,20020729, 72.3189,-151.9760, 3253,    121.2,  -1.5728,  32.8632,2,-999.0000,9,    293.8,2,   -999.0,9,  -999.00,9,  -999.00,9,  -999.00,9,  -999.00,9,     -999,9,   -999.0,9,   -999.0,9,  -999.00,9,     2.87,     0.12,2,     8.41,     0.17,2,     4.46,     0.80,2, 0.505548412, 0.0953864928,2,     2.35,     0.10,2,       -999,9,        -999,9,   -999.0,9,   -999.0,9,   -999.0,9,     -999,9,      -999,9,  -999.00,9,  -999.00,9,  -1.5751
  32H120020718,    18,  4,      6,2,20020729, 72.3189,-151.9760, 3253,    121.2,  -1.5732,  32.8633,2,-999.0000,9,    294.1,2,   -999.0,9,  -999.00,9,  -999.00,9,  -999.00,9,  -999.00,9,     -999,9,   -999.0,9,   -999.0,9,  -999.00,9,     2.87,     0.12,2,     8.41,     0.17,2,     4.46,     0.80,2, 0.505548336, 0.0953864786,2,     2.35,     0.10,2,       -999,9,        -999,9,   -999.0,9,   -999.0,9,   -999.0,9,     -999,9,      -999,9,  -999.00,9,  -999.00,9,  -1.5755
  32H120020718,    18,  4,      7,2,20020729, 72.3189,-151.9760, 3253,    121.2,  -1.5733,  32.8638,2,-999.0000,9,    294.3,2,   -999.0,9,  -999.00,9,  -999.00,9,  -999.00,9,  -999.00,9,     -999,9,   -999.0,9,   -999.0,9,  -999.00,9,     2.87,     0.12,2,     8.41,     0.17,2,     4.46,     0.80,2, 0.505519585, 0.0953810538,2,     2.35,     0.10,2,       -999,9,        -999,9,   -999.0,9,   -999.0,9,   -999.0,9,     -999,9,      -999,9,  -999.00,9,  -999.00,9,  -1.5756
  32H120020718,    18,  4,      1,2,20020729, 72.3189,-151.9760, 3253,    121.2,  -1.5734,  32.8625,2,-999.0000,9,    292.4,2,   -999.0,9,    31.53,2,    13.49,2,     0.04,2,     1.72,2,     0.25,2,   -999.0,9,   -999.0,9,  -999.00,9,     2.87,     0.12,2,     8.41,     0.17,2,     4.46,     0.80,2, 0.505520074, 0.0953811461,2,     2.35,     0.10,2,       -999,9,        -999,9,   -999.0,9,   -999.0,9,   -999.0,9,        0,2,      -999,9,  -999.00,9,  -999.00,9,  -1.5757
  32H120020718,    18,  4,      8,2,20020729, 72.3189,-151.9760, 3253,    121.2,  -1.5734,  32.8645,2,-999.0000,9,    294.2,2,   -999.0,9,  -999.00,9,  -999.00,9,  -999.00,9,  -999.00,9,     -999,9,   -999.0,9,   -999.0,9,  -999.00,9,     2.87,     0.12,2,     8.41,     0.17,2,     4.46,     0.80,2, 0.505514429,  0.095380081,2,     2.35,     0.10,2,       -999,9,        -999,9,   -999.0,9,   -999.0,9,   -999.0,9,     -999,9,      -999,9,  -999.00,9,  -999.00,9,  -1.5757
  32H120020718,    18,  4,      4,2,20020729, 72.3189,-151.9760, 3253,    121.2,  -1.5735,  32.8639,2,-999.0000,9,    294.6,2,   -999.0,9,  -999.00,9,  -999.00,9,  -999.00,9,  -999.00,9,     -999,9,   -999.0,9,   -999.0,9,  -999.00,9,     2.87,     0.12,2,     8.41,     0.17,2,     4.46,     0.80,2, 0.505514731, 0.0953801379,2,     2.35,     0.10,2,       -999,9,        -999,9,   -999.0,9,   -999.0,9,   -999.0,9,     -999,9,      -999,9,  -999.00,9,  -999.00,9,  -1.5758
  32H120020718,    18,  4,      3,2,20020729, 72.3189,-151.9760, 3253,    121.2,  -1.5740,  32.8639,2,-999.0000,9,    294.5,2,   -999.0,9,  -999.00,9,  -999.00,9,  -999.00,9,  -999.00,9,     -999,9,   -999.0,9,   -999.0,9,  -999.00,9,     2.88,     0.12,2,     8.46,     0.17,2,     4.49,     0.81,2, 0.508385263, 0.0959217478,2,     2.36,     0.10,2,       -999,9,        -999,9,   -999.0,9,   -999.0,9,   -999.0,9,     -999,9,      -999,9,  -999.00,9,  -999.00,9,  -1.5763
  32H120020718,    18,  4,      2,2,20020729, 72.3189,-151.9760, 3253,    121.2,  -1.5741,  32.8635,2,-999.0000,9,    293.5,2,   -999.0,9,  -999.00,9,  -999.00,9,  -999.00,9,  -999.00,9,     -999,9,   -999.0,9,   -999.0,9,  -999.00,9,     2.88,     0.12,2,     8.46,     0.17,2,     4.49,     0.81,2, 0.508386476, 0.0959219766,2,     2.36,     0.10,2,       -999,9,        -999,9,   -999.0,9,   -999.0,9,   -999.0,9,     -999,9,      -999,9,  -999.00,9,  -999.00,9,  -1.5764
  32H120020718,    18,  2,      5,2,20020729, 72.3189,-151.9760, 3253,    126.6,  -1.6249,  32.9300,2,  32.9552,2,    295.4,2,    304.7,2,    35.31,2,    13.07,2,     0.10,2,     1.73,2,     0.91,2,   2196.4,2,   2278.5,2,  -999.00,9,  -999.00,  -999.00,9,  -999.00,  -999.00,9,  -999.00,  -999.00,9,        -999,         -999,9,  -999.00,  -999.00,9,0.703672016,2, 0.136825202,2,     63.2,2,      2.0,2,     16.0,2,        0,2,  126.1147,2,     0.12,2,     0.06,2,  -1.6273
  32H120020718,    18,  5,      7,2,20020729, 72.3189,-151.9760, 3253,    131.9,  -1.6095,  33.0332,2,-999.0000,9,    294.8,2,   -999.0,9,  -999.00,9,  -999.00,9,  -999.00,9,  -999.00,9,     -999,9,   -999.0,9,   -999.0,9,  -999.00,9,  -999.00,  -999.00,9,  -999.00,  -999.00,9,  -999.00,  -999.00,9,        -999,         -999,9,  -999.00,  -999.00,9,       -999,9,        -999,9,   -999.0,9,   -999.0,9,   -999.0,9,     -999,9,      -999,9,  -999.00,9,  -999.00,9,  -1.6121
  32H120020718,    18,  5,     10,2,20020729, 72.3189,-151.9760, 3253,    131.9,  -1.6110,  33.0234,2,-999.0000,9,    293.8,2,   -999.0,9,  -999.00,9,  -999.00,9,  -999.00,9,  -999.00,9,     -999,9,   -999.0,9,   -999.0,9,  -999.00,9,  -999.00,  -999.00,9,  -999.00,  -999.00,9,  -999.00,  -999.00,9,        -999,         -999,9,  -999.00,  -999.00,9,       -999,9,        -999,9,   -999.0,9,   -999.0,9,   -999.0,9,     -999,9,      -999,9,  -999.00,9,  -999.00,9,  -1.6135
  32H120020718,    18,  5,      8,2,20020729, 72.3189,-151.9760, 3253,    131.9,  -1.6141,  33.0288,2,-999.0000,9,    293.9,2,   -999.0,9,  -999.00,9,  -999.00,9,  -999.00,9,  -999.00,9,     -999,9,   -999.0,9,   -999.0,9,  -999.00,9,  -999.00,  -999.00,9,  -999.00,  -999.00,9,  -999.00,  -999.00,9,        -999,         -999,9,  -999.00,  -999.00,9,       -999,9,        -999,9,   -999.0,9,   -999.0,9,   -999.0,9,     -999,9,      -999,9,  -999.00,9,  -999.00,9,  -1.6166
  32H120020718,    18,  5,      9,2,20020729, 72.3189,-151.9760, 3253,    131.9,  -1.6220,  33.0274,2,-999.0000,9,    293.9,2,   -999.0,9,    34.72,2,    13.27,2,     0.11,2,     1.72,2,     0.73,2,   -999.0,9,   -999.0,9,  -999.00,9,  -999.00,  -999.00,9,  -999.00,  -999.00,9,  -999.00,  -999.00,9,        -999,         -999,9,  -999.00,  -999.00,9,       -999,9,        -999,9,   -999.0,9,   -999.0,9,   -999.0,9,     0.01,2,      -999,9,  -999.00,9,  -999.00,9,  -1.6245
  32H120020718,    18,  2,      4,2,20020729, 72.3189,-151.9760, 3253,    150.9,  -1.6976,  33.3013,2,  33.3374,2,    300.2,2,    310.0,2,    42.10,2,    13.33,2,     0.14,2,     1.84,2,     2.23,2,   2213.5,2,   2308.6,2,  -999.00,9,  -999.00,  -999.00,9,  -999.00,  -999.00,9,  -999.00,  -999.00,9,        -999,         -999,9,  -999.00,  -999.00,9, 16.8540174,2,   3.4391892,2,   -999.0,9,   -999.0,9,   -999.0,9,        0,2,      -999,9,     0.02,2,     0.22,2,  -1.7005
  32H120020718,    18,  6,      2,2,20020729, 72.3189,-151.9760, 3253,    151.1,  -1.7101,  33.3254,2,-999.0000,9,    298.3,2,   -999.0,9,  -999.00,9,  -999.00,9,  -999.00,9,  -999.00,9,     -999,9,   2210.7,2,   2304.2,2,  -999.00,9,  -999.00,  -999.00,9,  -999.00,  -999.00,9,  -999.00,  -999.00,9,        -999,         -999,9,  -999.00,  -999.00,9,       -999,9,        -999,9,   -999.0,9,   -999.0,9,   -999.0,9,     -999,9,      -999,9,  -999.00,9,  -999.00,9,  -1.7130
  32H120020718,    18,  2,      3,2,20020729, 72.3189,-151.9760, 3253,    176.3,  -1.5100,  33.6834,2,  33.7002,2,    296.7,2,    305.8,2,    37.07,2,    13.87,2,     0.14,2,     1.72,2,     1.22,2,   2221.1,2,   2314.2,2,  -999.00,9,  -999.00,  -999.00,9,  -999.00,  -999.00,9,  -999.00,  -999.00,9,        -999,         -999,9,  -999.00,  -999.00,9,   15.11078,2,  2.83265883,2,     63.5,2,      2.0,2,     17.2,2,        0,2,      -999,9,     0.04,2,     0.10,2,  -1.5139
  32H120020718,    18,  2,      2,2,20020729, 72.3189,-151.9760, 3253,    201.5,  -1.2264,  34.1221,2,  34.1314,2,    294.6,2,    300.1,2,    28.38,2,    13.86,2,     0.16,2,     1.49,2,     0.15,2,   2213.5,2,   2313.5,2,  -999.00,9,  -999.00,  -999.00,9,  -999.00,  -999.00,9,  -999.00,  -999.00,9,        -999,         -999,9,  -999.00,  -999.00,9,  10.936417,2,  2.20681377,2,     58.6,2,      1.7,2,     15.8,2,        0,2,      -999,9,     0.03,2,     0.08,2,  -1.2315
  32H120020718,    18,  6,      1,2,20020729, 72.3189,-151.9760, 3253,    201.2,  -1.2895,  34.0424,2,-999.0000,9,    291.2,2,   -999.0,9,  -999.00,9,  -999.00,9,  -999.00,9,  -999.00,9,     -999,9,   2215.9,2,   2331.7,2,  -999.00,9,  -999.00,  -999.00,9,  -999.00,  -999.00,9,  -999.00,  -999.00,9,        -999,         -999,9,  -999.00,  -999.00,9,       -999,9,        -999,9,   -999.0,9,   -999.0,9,   -999.0,9,     -999,9,      -999,9,  -999.00,9,  -999.00,9,  -1.2945
  32H120020718,    18,  2,      1,2,20020729, 72.3189,-151.9760, 3253,    223.8,  -0.5928,  34.3920,2,  34.4072,2,    272.8,2,   -999.0,5,    18.15,2,    13.13,2,     0.01,2,     1.18,2,        0,2,   2183.9,2,   2304.9,2,  -999.00,9,  -999.00,  -999.00,9,  -999.00,  -999.00,9,  -999.00,  -999.00,9,        -999,         -999,9,  -999.00,  -999.00,9, 8.42517145,2,  1.52297461,2,     55.4,2,      2.2,2,     15.4,2,        0,2,      -999,9,     0.02,2,     0.05,2,  -0.5999
  32H120020718,    18,  3,      3,2,20020729, 72.3189,-151.9760, 3253,    250.5,  -0.2249,  34.5647,2,-999.0000,9,    277.5,2,   -999.0,9,  -999.00,9,  -999.00,9,  -999.00,9,  -999.00,9,     -999,9,   -999.0,9,   -999.0,9,  -999.00,9,     0.49,     0.06,2,     5.82,     0.18,2,     1.58,     1.13,2,   0.2581317,  0.181648234,2,     0.48,     0.10,2,       -999,9,        -999,9,   -999.0,9,   -999.0,9,   -999.0,9,     -999,9,      -999,9,  -999.00,9,  -999.00,9,  -0.2338
  32H120020718,    18,  3,      5,2,20020729, 72.3189,-151.9760, 3253,    250.5,  -0.2264,  34.5648,2,-999.0000,9,    276.7,2,   -999.0,9,  -999.00,9,  -999.00,9,  -999.00,9,  -999.00,9,     -999,9,   -999.0,9,   -999.0,9,  -999.00,9,     0.49,     0.06,2,     5.82,     0.18,2,     1.58,     1.13,2, 0.258132008,   0.18164845,2,     0.48,     0.10,2,       -999,9,        -999,9,   -999.0,9,   -999.0,9,   -999.0,9,     -999,9,      -999,9,  -999.00,9,  -999.00,9,  -0.2353
  32H120020718,    18,  3,      4,2,20020729, 72.3189,-151.9760, 3253,    250.5,  -0.2264,  34.5650,2,-999.0000,9,    277.1,2,   -999.0,9,  -999.00,9,  -999.00,9,  -999.00,9,  -999.00,9,     -999,9,   -999.0,9,   -999.0,9,  -999.00,9,     0.49,     0.06,2,     5.82,     0.18,2,     1.58,     1.13,2, 0.258131854,  0.181648342,2,     0.48,     0.10,2,       -999,9,        -999,9,   -999.0,9,   -999.0,9,   -999.0,9,     -999,9,      -999,9,  -999.00,9,  -999.00,9,  -0.2353
  32H120020718,    18,  3,      6,2,20020729, 72.3189,-151.9760, 3253,    250.5,  -0.2270,  34.5651,2,-999.0000,9,    276.8,2,   -999.0,9,  -999.00,9,  -999.00,9,  -999.00,9,  -999.00,9,     -999,9,   -999.0,9,   -999.0,9,  -999.00,9,     0.49,     0.06,2,     5.82,     0.18,2,     1.58,     1.13,2, 0.258131527,  0.181648112,2,     0.48,     0.10,2,       -999,9,        -999,9,   -999.0,9,   -999.0,9,   -999.0,9,     -999,9,      -999,9,  -999.00,9,  -999.00,9,  -0.2359
  32H120020718,    18,  3,      2,2,20020729, 72.3189,-151.9760, 3253,    250.5,  -0.2280,  34.5642,2,-999.0000,9,    277.5,2,   -999.0,9,    15.45,2,    13.02,2,     0.01,2,     1.09,2,     0.01,2,   -999.0,9,   -999.0,9,  -999.00,9,     0.49,     0.06,2,     5.82,     0.18,2,     1.58,     1.13,2, 0.258125795,  0.181644078,2,     0.48,     0.10,2,       -999,9,        -999,9,   -999.0,9,   -999.0,9,   -999.0,9,     0.01,2,      -999,9,  -999.00,9,  -999.00,9,  -0.2369
  32H120020718,    18,  3,      1,2,20020729, 72.3189,-151.9760, 3253,    250.6,  -0.2284,  34.5658,2,-999.0000,9,    277.5,2,   -999.0,9,  -999.00,9,  -999.00,9,  -999.00,9,  -999.00,9,     -999,9,   -999.0,9,   -999.0,9,  -999.00,9,     0.49,     0.06,2,     5.82,     0.18,2,     1.58,     1.13,2, 0.258126122,  0.181644308,2,     0.48,     0.10,2,       -999,9,        -999,9,   -999.0,9,   -999.0,9,   -999.0,9,     -999,9,      -999,9,  -999.00,9,  -999.00,9,  -0.2373
  32H120020718,    18,  1,     12,2,20020729, 72.3189,-151.9760, 3253,    251.9,  -0.2008,  34.5638,2,  34.5609,2,    274.9,2,    281.9,2,    15.17,2,    13.01,2,     0.01,2,     1.08,2,     0.07,2,   2177.6,2,   2310.0,2,  -999.00,9,  -999.00,  -999.00,9,  -999.00,  -999.00,9,  -999.00,  -999.00,9,        -999,         -999,9,  -999.00,  -999.00,9, 7.76042603,2,  1.58136997,2,     50.9,2,      1.3,2,     14.4,2,     0.01,2,      -999,9,  -999.00,9,  -999.00,9,  -0.2098
  32H120020718,    18,  1,     11,2,20020729, 72.3189,-151.9760, 3253,    301.6,   0.4801,  34.7393,2,  34.7403,2,    278.7,2,    285.6,2,     8.98,2,    12.70,2,     0.01,2,     0.91,2,     0.04,2,   2154.5,2,   2303.7,2,  -999.00,9,  -999.00,  -999.00,9,  -999.00,  -999.00,9,  -999.00,  -999.00,9,        -999,         -999,9,  -999.00,  -999.00,9, 5.14365533,2, 0.878421074,2,     50.6,2,      2.8,2,     15.5,2,        0,2,      -999,9,  -999.00,9,  -999.00,9,   0.4674
  32H120020718,    18,  1,     10,2,20020729, 72.3189,-151.9760, 3253,    351.9,   0.5368,  34.7850,2,  34.7868,2,    283.0,2,    290.3,2,     8.68,2,    12.69,2,     0.01,2,     0.91,2,     0.03,2,   2153.6,2,   2316.9,2,  -999.00,9,  -999.00,  -999.00,9,  -999.00,  -999.00,9,  -999.00,  -999.00,9,        -999,         -999,9,  -999.00,  -999.00,9, 5.04586092,2, 0.839351362,2,     50.3,2,      1.7,2,     14.4,2,     0.01,2,      -999,9,  -999.00,9,  -999.00,9,   0.5216
  32H120020718,    18,  1,      9,2,20020729, 72.3189,-151.9760, 3253,    400.9,   0.6650,  34.8195,2,  34.8207,2,    286.3,2,    294.0,2,     6.81,2,    12.48,2,     0.00,2,     0.85,2,     0.02,2,   2147.1,2,   2313.2,2,  -999.00,9,  -999.00,  -999.00,9,  -999.00,  -999.00,9,  -999.00,  -999.00,9,        -999,         -999,9,  -999.00,  -999.00,9, 4.36257286,2, 0.673416335,2,     49.7,2,      2.4,2,     14.9,2,        0,2,      -999,9,  -999.00,9,  -999.00,9,   0.6471
  32H120020718,    18,  1,      8,2,20020729, 72.3189,-151.9760, 3253,    501.4,   0.5507,  34.8395,2,  34.8407,2,    286.7,2,    296.4,2,     6.81,2,    12.53,2,     0.00,2,     0.86,2,     0.02,2,   2150.3,2,   2317.5,2,  -999.00,9,  -999.00,  -999.00,9,  -999.00,  -999.00,9,  -999.00,  -999.00,9,        -999,         -999,9,  -999.00,  -999.00,9,  3.1815961,2, 0.536773646,2,     49.1,2,      2.4,2,     14.9,2,        0,2,      -999,9,  -999.00,9,  -999.00,9,   0.5283
  32H120020718,    18,  1,      7,2,20020729, 72.3189,-151.9760, 3253,    750.4,   0.2613,  34.8629,2,  34.8639,2,    287.9,2,    299.0,2,     6.61,2,    12.52,2,     0.00,2,     0.86,2,     0.02,2,   2148.6,2,   2334.7,2,  -999.00,9,  -999.00,  -999.00,9,  -999.00,  -999.00,9,  -999.00,  -999.00,9,        -999,         -999,9,  -999.00,  -999.00,9, 2.68381197,2,   0.5367648,2,     48.2,2,      2.2,2,     14.7,2,        0,2,      -999,9,  -999.00,9,  -999.00,9,   0.2279
  32H120020718,    18,  5,      5,2,20020729, 72.3189,-151.9760, 3253,    801.4,   0.1755,  34.8676,2,-999.0000,9,    288.1,2,   -999.0,9,  -999.00,9,  -999.00,9,  -999.00,9,  -999.00,9,     -999,9,   -999.0,9,   -999.0,9,  -999.00,9,  -999.00,  -999.00,9,  -999.00,  -999.00,9,  -999.00,  -999.00,9,        -999,         -999,9,  -999.00,  -999.00,9,       -999,9,        -999,9,   -999.0,9,   -999.0,9,   -999.0,9,     -999,9,      -999,9,  -999.00,9,  -999.00,9,   0.1400
  32H120020718,    18,  5,      6,2,20020729, 72.3189,-151.9760, 3253,    801.5,   0.1755,  34.8677,2,-999.0000,9,    288.2,2,   -999.0,9,     6.82,2,    12.58,2,     0.01,2,     0.89,2,        0,2,   -999.0,9,   -999.0,9,  -999.00,9,  -999.00,  -999.00,9,  -999.00,  -999.00,9,  -999.00,  -999.00,9,        -999,         -999,9,  -999.00,  -999.00,9,       -999,9,        -999,9,   -999.0,9,   -999.0,9,   -999.0,9,        0,2,      -999,9,  -999.00,9,  -999.00,9,   0.1400
  32H120020718,    18,  1,      6,2,20020729, 72.3189,-151.9760, 3253,   1001.3,  -0.0072,  34.8799,2,  34.8814,2,    287.1,2,    299.9,2,     6.99,2,    12.67,2,     0.00,2,     0.88,2,     0.01,2,   2147.7,2,   2310.8,2,  -999.00,9,  -999.00,  -999.00,9,  -999.00,  -999.00,9,  -999.00,  -999.00,9,        -999,         -999,9,  -999.00,  -999.00,9, 2.53738806,2,  0.50748002,2,     47.0,2,      2.2,2,     14.8,2,        0,2,      -999,9,  -999.00,9,  -999.00,9,  -0.0518
  32H120020718,    18,  1,      5,2,20020729, 72.3189,-151.9760, 3253,   1501.6,  -0.3162,  34.9151,2,  34.9152,2,    282.6,2,    299.4,3,     8.26,2,    13.26,2,     0.00,2,     0.93,2,     0.02,2,   2144.4,2,   2312.4,2,  -999.00,9,  -999.00,  -999.00,9,  -999.00,  -999.00,9,  -999.00,  -999.00,9,        -999,         -999,9,  -999.00,  -999.00,9, 2.45925467,2,  0.56602073,2,     45.4,2,      2.6,2,     15.8,2,     0.02,2,      -999,9,  -999.00,9,  -999.00,9,  -0.3860