BOTTLE,20090202PRINUNIVRMK
EXPOCODE,STNNBR,CASTNO,BTLNBR,BTLNBR_FLAG_W,DATE,LATITUDE,LONGITUDE,DEPTH,CTDPRS,CTDTMP,CTDSAL,CTDSAL_FLAG_W,SALNTY,SALNTY_FLAG_W,CTDOXY,CTDOXY_FLAG_W,OXYGEN,OXYGEN_FLAG_W,SILCAT,SILCAT_FLAG_W,NITRAT,NITRAT_FLAG_W,NITRIT,NITRIT_FLAG_W,PHSPHT,PHSPHT_FLAG_W,AMMONI,AMMONI_FLAG_W,TCARBN,TCARBN_FLAG_W,ALKALI,ALKALI_FLAG_W,DELO18,DELO18_FLAG_W,RA-224,RA-224E,RA-224_FLAG_W,RA-226,RA-226E,RA-226_FLAG_W,RA-228,RA-228E,RA-228_FLAG_W,RA-8/6,RA-8/6E,RA-8/6_FLAG_W,TH-228,TH-228E,TH-228_FLAG_W,POC,POC_FLAG_W,PON,PON_FLAG_W,DOC,DOC_FLAG_W,DON,DON_FLAG_W,TDN,TDN_FLAG_W,UREA,UREA_FLAG_W,LIGNIN,LIGNIN_FLAG_W,CHLORA,CHLORA_FLAG_W,PHAEO,PHAEO_FLAG_W,THETA
,,,,,,,,METERS,DBARS,ITS-90,PSS-78,,PSS-78,,UMOL/KG,,UMOL/KG,,UMOL/KG,,UMOL/KG,,UMOL/KG,,UMOL/KG,,UMOL/KG,,UMOL/KG,,UMOL/KG,,O/OO,,DPM/100KG,DPM/100KG,,DPM/100KG,DPM/100KG,,DPM/100KG,DPM/100KG,,,,,DPM/100KG,DPM/100KG,,ug/kg,,ug/kg,,UMOL/KG,,UMOL/KG,,UMOL/KG,,UMOL/KG,,NG/KG,,UG/L,,UG/L,,DEGC
  32H120020718,    10,  2,     12,2,20020721, 71.0446,-159.5870,   79,     70.5,  -1.7500,  32.9959,2,-999.0000,9,    298.6,2,   -999.0,9,  -999.00,9,  -999.00,9,  -999.00,9,  -999.00,9,     -999,9,   -999.0,9,   -999.0,9,  -999.00,9,     1.57,     0.07,2,    12.55,     0.27,2,    12.85,     0.59,2, 0.974202054, 0.0477550027,2,     0.43,     0.05,2,       -999,9,        -999,9,   -999.0,9,   -999.0,9,   -999.0,9,     -999,9,      -999,9,  -999.00,9,  -999.00,9,  -1.7512
  32H120020718,    10,  2,      2,2,20020721, 71.0446,-159.5870,   79,     70.5,  -1.7511,  32.9967,2,-999.0000,9,    298.8,2,   -999.0,9,  -999.00,9,  -999.00,9,  -999.00,9,  -999.00,9,     -999,9,   -999.0,9,   -999.0,9,  -999.00,9,     1.57,     0.07,2,    12.55,     0.27,2,    12.85,     0.59,2, 0.974200458, 0.0477549244,2,     0.43,     0.05,2,       -999,9,        -999,9,   -999.0,9,   -999.0,9,   -999.0,9,     -999,9,      -999,9,  -999.00,9,  -999.00,9,  -1.7523
  32H120020718,    10,  2,      3,2,20020721, 71.0446,-159.5870,   79,     70.5,  -1.7513,  32.9968,2,-999.0000,9,    298.7,2,   -999.0,9,  -999.00,9,  -999.00,9,  -999.00,9,  -999.00,9,     -999,9,   -999.0,9,   -999.0,9,  -999.00,9,     1.57,     0.07,2,    12.55,     0.27,2,    12.85,     0.59,2,  0.97419995, 0.0477548995,2,     0.43,     0.05,2,       -999,9,        -999,9,   -999.0,9,   -999.0,9,   -999.0,9,     -999,9,      -999,9,  -999.00,9,  -999.00,9,  -1.7525
  32H120020718,    10,  2,     10,2,20020721, 71.0446,-159.5870,   79,     70.5,  -1.7514,  32.9966,2,-999.0000,9,    298.3,2,   -999.0,9,  -999.00,9,  -999.00,9,  -999.00,9,  -999.00,9,     -999,9,   -999.0,9,   -999.0,9,  -999.00,9,     1.57,     0.07,2,    12.55,     0.27,2,    12.85,     0.59,2, 0.974200603, 0.0477549315,2,     0.43,     0.05,2,       -999,9,        -999,9,   -999.0,9,   -999.0,9,   -999.0,9,     -999,9,      -999,9,  -999.00,9,  -999.00,9,  -1.7526
  32H120020718,    10,  2,     11,2,20020721, 71.0446,-159.5870,   79,     70.5,  -1.7521,  32.9964,2,-999.0000,9,    298.4,2,   -999.0,9,  -999.00,9,  -999.00,9,  -999.00,9,  -999.00,9,     -999,9,   -999.0,9,   -999.0,9,  -999.00,9,     1.57,     0.07,2,    12.55,     0.27,2,    12.85,     0.59,2,  0.97419995, 0.0477548995,2,     0.43,     0.05,2,       -999,9,        -999,9,   -999.0,9,   -999.0,9,   -999.0,9,     -999,9,      -999,9,  -999.00,9,  -999.00,9,  -1.7533
  32H120020718,    10,  2,      1,2,20020721, 71.0446,-159.5870,   79,     70.5,  -1.7521,  32.9969,2,-999.0000,9,    298.9,2,   -999.0,9,  -999.00,9,  -999.00,9,  -999.00,9,  -999.00,9,     -999,9,   -999.0,9,   -999.0,9,  -999.00,9,     1.57,     0.07,2,    12.55,     0.27,2,    12.85,     0.59,2, 0.974199733, 0.0477548889,2,     0.43,     0.05,2,       -999,9,        -999,9,   -999.0,9,   -999.0,9,   -999.0,9,     -999,9,      -999,9,  -999.00,9,  -999.00,9,  -1.7533
  32H120020718,    10,  2,      9,2,20020721, 71.0446,-159.5870,   79,     70.5,  -1.7521,  32.9983,2,-999.0000,9,    298.1,2,   -999.0,9,  -999.00,9,  -999.00,9,  -999.00,9,  -999.00,9,     -999,9,   -999.0,9,   -999.0,9,  -999.00,9,     1.57,     0.07,2,    12.55,     0.27,2,    12.85,     0.59,2, 0.974198499, 0.0477548284,2,     0.43,     0.05,2,       -999,9,        -999,9,   -999.0,9,   -999.0,9,   -999.0,9,     -999,9,      -999,9,  -999.00,9,  -999.00,9,  -1.7533
  32H120020718,    10,  2,      8,2,20020721, 71.0446,-159.5870,   79,     70.5,  -1.7521,  32.9989,2,-999.0000,9,    298.2,2,   -999.0,9,  -999.00,9,  -999.00,9,  -999.00,9,  -999.00,9,     -999,9,   -999.0,9,   -999.0,9,  -999.00,9,     1.58,     0.07,2,    12.62,     0.27,2,    12.91,     0.60,2, 0.979287663, 0.0480042972,2,     0.43,     0.05,2,       -999,9,        -999,9,   -999.0,9,   -999.0,9,   -999.0,9,     -999,9,      -999,9,  -999.00,9,  -999.00,9,  -1.7533
  32H120020718,    10,  2,      6,2,20020721, 71.0446,-159.5870,   79,     70.5,  -1.7529,  32.9982,2,-999.0000,9,    298.3,2,   -999.0,9,  -999.00,9,  -999.00,9,  -999.00,9,  -999.00,9,     -999,9,   -999.0,9,   -999.0,9,  -999.00,9,     1.58,     0.07,2,    12.61,     0.27,2,    12.91,     0.60,2, 0.979147687, 0.0479974356,2,     0.43,     0.05,2,       -999,9,        -999,9,   -999.0,9,   -999.0,9,   -999.0,9,     -999,9,      -999,9,  -999.00,9,  -999.00,9,  -1.7541
  32H120020718,    10,  2,      5,2,20020721, 71.0446,-159.5870,   79,     70.5,  -1.7529,  32.9993,2,-999.0000,9,    298.3,2,   -999.0,9,    48.45,2,    13.59,2,     0.24,2,     1.95,2,     2.47,2,   -999.0,9,   -999.0,9,  -999.00,9,     1.58,     0.07,2,    12.59,     0.27,2,    12.88,     0.59,2, 0.977135609, 0.0478988044,2,     0.43,     0.05,2,       -999,9,        -999,9,   -999.0,9,   -999.0,9,   -999.0,9,      0.1,2,      -999,9,  -999.00,9,  -999.00,9,  -1.7541
  32H120020718,    10,  2,      7,2,20020721, 71.0446,-159.5870,   79,     70.5,  -1.7530,  32.9991,2,-999.0000,9,    298.2,2,   -999.0,9,  -999.00,9,  -999.00,9,  -999.00,9,  -999.00,9,     -999,9,   -999.0,9,   -999.0,9,  -999.00,9,     1.58,     0.07,2,    12.57,     0.27,2,    12.86,     0.59,2, 0.975614558,  0.047824243,2,     0.43,     0.05,2,       -999,9,        -999,9,   -999.0,9,   -999.0,9,   -999.0,9,     -999,9,      -999,9,  -999.00,9,  -999.00,9,  -1.7542
  32H120020718,    10,  2,      4,2,20020721, 71.0446,-159.5870,   79,     70.5,  -1.7530,  32.9994,2,-999.0000,9,    298.5,2,   -999.0,9,  -999.00,9,  -999.00,9,  -999.00,9,  -999.00,9,     -999,9,   -999.0,9,   -999.0,9,  -999.00,9,     1.58,     0.07,2,    12.57,     0.27,2,    12.86,     0.59,2, 0.975519852, 0.0478196006,2,     0.43,     0.05,2,       -999,9,        -999,9,   -999.0,9,   -999.0,9,   -999.0,9,     -999,9,      -999,9,  -999.00,9,  -999.00,9,  -1.7542
  32H120020718,    10,  1,      2,2,20020721, 71.0446,-159.5870,   79,     72.8,  -1.7517,  32.9937,2,  32.9913,2,    298.9,2,    306.7,2,    48.53,2,    13.67,2,     0.24,2,     1.94,2,     2.43,2,   2189.1,2,   2318.1,2,  -999.00,9,  -999.00,  -999.00,9,  -999.00,  -999.00,9,  -999.00,  -999.00,9,        -999,         -999,9,  -999.00,  -999.00,9, 95.7553806,2,  17.8649579,2,     64.8,2,     11.4,2,     27.8,2,     0.07,2,      -999,9,     3.39,2,     1.53,2,  -1.7530
  32H120020718,    10,  1,      1,2,20020721, 71.0446,-159.5870,   79,     75.3,  -1.7527,  32.9957,2,  32.9936,2,    298.9,2,    307.0,2,    48.34,2,    13.60,2,     0.24,2,     1.95,2,     2.43,2,   -999.0,9,   -999.0,9,    -0.98,2,  -999.00,  -999.00,9,  -999.00,  -999.00,9,  -999.00,  -999.00,9,        -999,         -999,9,  -999.00,  -999.00,9,       -999,9,        -999,9,   -999.0,9,   -999.0,9,   -999.0,9,     0.07,2,      -999,9,     3.77,2,     1.75,2,  -1.7540
  32H120020718,    11,  1,     12,2,20020721, 71.3261,-158.0140,  115,      2.5,  -0.2034,  26.0084,2,-999.0000,9,    384.4,2,   -999.0,9,  -999.00,9,  -999.00,9,  -999.00,9,  -999.00,9,     -999,9,   -999.0,9,   -999.0,9,  -999.00,9,  -999.00,  -999.00,9,  -999.00,  -999.00,9,  -999.00,  -999.00,9,        -999,         -999,9,  -999.00,  -999.00,9,       -999,9,        -999,9,   -999.0,9,   -999.0,9,   -999.0,9,     -999,9,      -999,9,  -999.00,9,  -999.00,9,  -0.2034
  32H120020718,    11,  1,     11,2,20020721, 71.3261,-158.0140,  115,      2.5,  -0.2542,  26.2007,2,-999.0000,9,    391.0,2,   -999.0,5,    12.74,2,     0.12,2,     0.00,2,     0.49,2,     0.08,2,   1679.2,2,   1862.0,2,  -999.00,9,  -999.00,  -999.00,9,  -999.00,  -999.00,9,  -999.00,  -999.00,9,        -999,         -999,9,  -999.00,  -999.00,9,       -999,9,        -999,9,   -999.0,9,   -999.0,9,   -999.0,9,        0,2,      -999,9,     2.00,2,     1.40,2,  -0.2542
  32H120020718,    11,  1,     10,2,20020721, 71.3261,-158.0140,  115,      3.1,  -0.9231,  28.9580,2,-999.0000,9,    419.2,2,    465.3,2,    14.86,2,     0.12,2,     0.00,2,     0.62,2,     0.08,2,   1864.1,2,   2063.5,2,  -999.00,9,  -999.00,  -999.00,9,  -999.00,  -999.00,9,  -999.00,  -999.00,9,        -999,         -999,9,  -999.00,  -999.00,9,       -999,9,        -999,9,   -999.0,9,   -999.0,9,   -999.0,9,     0.01,2,      -999,9,     3.47,2,     2.45,2,  -0.9232
  32H120020718,    11,  1,      9,2,20020721, 71.3261,-158.0140,  115,      4.5,  -1.4789,  31.0486,2,-999.0000,9,    456.4,2,    472.4,2,    19.24,2,     0.16,2,     0.01,2,     0.84,2,     0.06,2,   1938.1,2,   2168.8,2,  -999.00,9,  -999.00,  -999.00,9,  -999.00,  -999.00,9,  -999.00,  -999.00,9,        -999,         -999,9,  -999.00,  -999.00,9,       -999,9,        -999,9,   -999.0,9,   -999.0,9,   -999.0,9,     0.03,2,      -999,9,     3.96,2,     2.50,2,  -1.4790
  32H120020718,    11,  1,      8,2,20020721, 71.3261,-158.0140,  115,      6.6,  -1.5322,  31.1786,2,-999.0000,9,    458.2,2,    473.8,2,    19.14,2,     0.10,2,     0.01,2,     0.86,2,     0.07,2,   1943.0,2,   2164.7,2,  -999.00,9,  -999.00,  -999.00,9,  -999.00,  -999.00,9,  -999.00,  -999.00,9,        -999,         -999,9,  -999.00,  -999.00,9,       -999,9,        -999,9,   -999.0,9,   -999.0,9,   -999.0,9,     0.04,2,      -999,9,     4.72,2,     2.41,2,  -1.5323
  32H120020718,    11,  1,      7,2,20020721, 71.3261,-158.0140,  115,      9.1,  -1.5763,  31.2582,2,-999.0000,9,    462.1,2,    471.5,2,    19.66,2,     0.20,2,     0.02,2,     0.94,2,     0.06,2,   1968.2,2,   2176.7,2,  -999.00,9,  -999.00,  -999.00,9,  -999.00,  -999.00,9,  -999.00,  -999.00,9,        -999,         -999,9,  -999.00,  -999.00,9,       -999,9,        -999,9,   -999.0,9,   -999.0,9,   -999.0,9,     0.04,2,      -999,9,     7.16,2,     3.79,2,  -1.5764
  32H120020718,    11,  1,      6,2,20020721, 71.3261,-158.0140,  115,     14.5,  -1.5152,  31.5282,2,-999.0000,9,    446.5,2,    439.4,2,    20.78,2,     0.24,2,     0.02,2,     0.99,2,     0.11,2,   2015.1,2,   2223.1,2,  -999.00,9,  -999.00,  -999.00,9,  -999.00,  -999.00,9,  -999.00,  -999.00,9,        -999,         -999,9,  -999.00,  -999.00,9,       -999,9,        -999,9,   -999.0,9,   -999.0,9,   -999.0,9,     0.18,2,      -999,9,     7.71,2,     4.38,2,  -1.5154
  32H120020718,    11,  1,      5,2,20020721, 71.3261,-158.0140,  115,     20.7,  -1.6378,  31.8013,2,-999.0000,9,    387.3,2,    383.5,2,    30.17,2,     2.98,2,     0.08,2,     1.30,2,     0.36,2,   2075.1,2,   2240.0,2,  -999.00,9,  -999.00,  -999.00,9,  -999.00,  -999.00,9,  -999.00,  -999.00,9,        -999,         -999,9,  -999.00,  -999.00,9,       -999,9,        -999,9,   -999.0,9,   -999.0,9,   -999.0,9,     0.12,2,      -999,9,    13.35,2,     6.24,2,  -1.6381
  32H120020718,    11,  1,      4,2,20020721, 71.3261,-158.0140,  115,     20.9,  -1.6378,  31.8167,2,-999.0000,9,    386.7,2,   -999.0,9,  -999.00,9,  -999.00,9,  -999.00,9,  -999.00,9,     -999,9,   -999.0,9,   -999.0,9,  -999.00,9,  -999.00,  -999.00,9,  -999.00,  -999.00,9,  -999.00,  -999.00,9,        -999,         -999,9,  -999.00,  -999.00,9,       -999,9,        -999,9,   -999.0,9,   -999.0,9,   -999.0,9,     -999,9,      -999,9,  -999.00,9,  -999.00,9,  -1.6381
  32H120020718,    11,  1,      3,2,20020721, 71.3261,-158.0140,  115,     31.0,  -1.6578,  32.4885,2,-999.0000,9,    297.6,2,    317.2,2,    41.26,2,    10.85,2,     0.22,2,     1.76,2,     1.37,2,   2172.8,2,   2280.8,2,  -999.00,9,  -999.00,  -999.00,9,  -999.00,  -999.00,9,  -999.00,  -999.00,9,        -999,         -999,9,  -999.00,  -999.00,9,       -999,9,        -999,9,   -999.0,9,   -999.0,9,   -999.0,9,     0.15,2,      -999,9,  -999.00,9,  -999.00,9,  -1.6583
  32H120020718,    11,  1,      2,2,20020721, 71.3261,-158.0140,  115,     51.0,  -1.7297,  32.8684,2,-999.0000,9,    312.8,2,    320.8,2,    45.03,2,    12.59,2,     0.22,2,     1.83,2,     2.07,2,   2171.9,2,   2308.4,2,  -999.00,9,  -999.00,  -999.00,9,  -999.00,  -999.00,9,  -999.00,  -999.00,9,        -999,         -999,9,  -999.00,  -999.00,9,       -999,9,        -999,9,   -999.0,9,   -999.0,9,   -999.0,9,     0.15,2,      -999,9,  -999.00,9,  -999.00,9,  -1.7306
  32H120020718,    11,  1,      1,2,20020721, 71.3261,-158.0140,  115,    113.1,  -1.7597,  33.0945,2,-999.0000,9,    297.5,2,    306.7,2,    48.29,2,    13.99,2,     0.23,2,     1.96,2,     2.51,2,   2210.5,2,   2309.6,2,  -999.00,9,  -999.00,  -999.00,9,  -999.00,  -999.00,9,  -999.00,  -999.00,9,        -999,         -999,9,  -999.00,  -999.00,9,       -999,9,        -999,9,   -999.0,9,   -999.0,9,   -999.0,9,     0.19,2,      -999,9,  -999.00,9,  -999.00,9,  -1.7617
  32H120020718,    12,  1,     12,2,20020721, 71.3790,-157.7450,  119,      2.1,  -1.3404,  30.1764,2,  27.0449,2,    503.1,2,    511.1,2,    11.15,2,     0.39,2,     0.01,2,     0.69,2,     0.02,2,   1801.3,2,   2010.2,2,    -1.65,2,  -999.00,  -999.00,9,  -999.00,  -999.00,9,  -999.00,  -999.00,9,        -999,         -999,9,  -999.00,  -999.00,9, 216.755614,2,  31.0393025,2,     68.6,2,      2.7,2,      3.2,2,        0,2,      -999,9,     2.96,2,     1.50,2,  -1.3404
  32H120020718,    12, 99,      1,9,20020721, 71.3790,-157.7450,  119,      8.1,-999.0000,-999.0000,9,-999.0000,9,   -999.0,9,   -999.0,9,  -999.00,9,  -999.00,9,  -999.00,9,  -999.00,9,     -999,9,   -999.0,9,   -999.0,9,  -999.00,9,     0.51,     0.04,2,     4.34,     0.97,2,     3.18,     0.36,2, 0.697559958,  0.172001086,2,     0.29,     0.03,2,       -999,9,        -999,9,   -999.0,9,   -999.0,9,   -999.0,9,     -999,9,      -999,9,  -999.00,9,  -999.00,9,-999.0000
  32H120020718,    12,  1,     11,2,20020721, 71.3790,-157.7450,  119,     10.9,  -1.4714,  31.2900,2,  31.2990,2,    436.2,2,    442.3,2,    16.47,2,     0.70,2,     0.02,2,     0.95,2,     0.04,2,   1991.5,2,   2214.2,2,  -999.00,9,  -999.00,  -999.00,9,  -999.00,  -999.00,9,  -999.00,  -999.00,9,        -999,         -999,9,  -999.00,  -999.00,9,  633.58692,2,   62.635535,2,     76.8,2,      4.3,2,      5.0,2,     0.01,2,      -999,9,    15.24,2,     5.91,2,  -1.4716
  32H120020718,    12,  1,     10,2,20020721, 71.3790,-157.7450,  119,     15.9,  -1.6274,  31.5565,2,  31.5465,2,    343.3,2,    358.1,2,    26.87,2,     3.23,2,     0.13,2,     1.25,2,     0.24,2,   2016.8,2,   2195.0,2,  -999.00,9,  -999.00,  -999.00,9,  -999.00,  -999.00,9,  -999.00,  -999.00,9,        -999,         -999,9,  -999.00,  -999.00,9, 327.013867,2,  52.3904653,2,     81.4,2,      1.7,2,      5.3,2,     0.05,2,      -999,9,    10.48,2,     4.23,2,  -1.6276
  32H120020718,    12,  2,     12,2,20020721, 71.3790,-157.7450,  119,     16.3,  -1.5990,  31.5384,2,-999.0000,9,    361.3,2,   -999.0,9,    24.71,2,     3.17,2,     0.08,2,     1.23,2,     0.17,2,   -999.0,9,   -999.0,9,  -999.00,9,  -999.00,  -999.00,9,  -999.00,  -999.00,9,  -999.00,  -999.00,9,        -999,         -999,9,  -999.00,  -999.00,9,       -999,9,        -999,9,   -999.0,9,   -999.0,9,   -999.0,9,     0.06,2,      -999,9,  -999.00,9,  -999.00,9,  -1.5993
  32H120020718,    12,  1,      9,2,20020721, 71.3790,-157.7450,  119,     25.7,  -1.6294,  31.6878,2,  31.6994,2,    341.1,2,    348.4,2,    30.86,2,     5.41,2,     0.17,2,     1.41,2,     0.78,2,   2090.1,2,   2219.0,2,  -999.00,9,  -999.00,  -999.00,9,  -999.00,  -999.00,9,  -999.00,  -999.00,9,        -999,         -999,9,  -999.00,  -999.00,9, 204.148161,2,  39.9218438,2,     87.0,2,   -999.0,9,   -999.0,9,     0.03,2,      -999,9,     8.31,2,     3.52,2,  -1.6298
  32H120020718,    12,  1,      8,2,20020721, 71.3790,-157.7450,  119,     35.8,  -1.6010,  32.0512,2,  32.0757,2,    307.5,2,    321.8,2,    35.87,2,     8.73,2,     0.21,2,     1.61,2,     0.87,2,   2131.6,2,   2277.0,2,  -999.00,9,  -999.00,  -999.00,9,  -999.00,  -999.00,9,  -999.00,  -999.00,9,        -999,         -999,9,  -999.00,  -999.00,9, 191.621902,2,  38.3360603,2,     72.8,2,      2.7,2,     12.5,2,     0.03,2,      -999,9,     8.00,2,     3.48,2,  -1.6016
  32H120020718,    12,  1,      7,2,20020721, 71.3790,-157.7450,  119,     46.1,  -1.6186,  32.5413,2,  32.5509,2,    258.8,2,    267.3,2,    44.06,2,    12.49,2,     0.27,2,     1.97,2,     0.79,2,   2189.6,2,   2296.9,2,  -999.00,9,  -999.00,  -999.00,9,  -999.00,  -999.00,9,  -999.00,  -999.00,9,        -999,         -999,9,  -999.00,  -999.00,9, 103.324208,2,  17.9979158,2,     75.0,2,      2.7,2,     16.2,2,     0.07,2,      -999,9,     1.64,2,     1.07,2,  -1.6194
  32H120020718,    12,  2,      9,2,20020721, 71.3790,-157.7450,  119,     50.8,  -1.6737,  32.7715,2,-999.0000,9,    255.9,2,   -999.0,9,  -999.00,9,  -999.00,9,  -999.00,9,  -999.00,9,     -999,9,   -999.0,9,   -999.0,9,  -999.00,9,  -999.00,  -999.00,9,  -999.00,  -999.00,9,  -999.00,  -999.00,9,        -999,         -999,9,  -999.00,  -999.00,9,       -999,9,        -999,9,   -999.0,9,   -999.0,9,   -999.0,9,     -999,9,      -999,9,  -999.00,9,  -999.00,9,  -1.6746
  32H120020718,    12,  2,     10,2,20020721, 71.3790,-157.7450,  119,     50.8,  -1.6742,  32.7732,2,-999.0000,9,    255.5,2,   -999.0,9,    50.93,2,    13.43,2,     0.26,2,     2.16,2,     2.09,2,   -999.0,9,   -999.0,9,  -999.00,9,  -999.00,  -999.00,9,  -999.00,  -999.00,9,  -999.00,  -999.00,9,        -999,         -999,9,  -999.00,  -999.00,9,       -999,9,        -999,9,   -999.0,9,   -999.0,9,   -999.0,9,     0.09,2,      -999,9,  -999.00,9,  -999.00,9,  -1.6751
  32H120020718,    12,  2,     11,2,20020721, 71.3790,-157.7450,  119,     50.8,  -1.6746,  32.7742,2,-999.0000,9,    255.5,2,   -999.0,9,  -999.00,9,  -999.00,9,  -999.00,9,  -999.00,9,     -999,9,   -999.0,9,   -999.0,9,  -999.00,9,  -999.00,  -999.00,9,  -999.00,  -999.00,9,  -999.00,  -999.00,9,        -999,         -999,9,  -999.00,  -999.00,9,       -999,9,        -999,9,   -999.0,9,   -999.0,9,   -999.0,9,     -999,9,      -999,9,  -999.00,9,  -999.00,9,  -1.6755