BOTTLE,20090923WHPSIOMYS
EXPOCODE,SECT_ID,STNNBR,CASTNO,SAMPNO,BTLNBR,BTLNBR_FLAG_W,DATE,TIME,LATITUDE,LONGITUDE,DEPTH,CTDRAW,CTDPRS,CTDTMP,CTDSAL,CTDSAL_FLAG_W,SALNTY,SALNTY_FLAG_W,CTDOXY,CTDOXY_FLAG_W,THETA,OXYGEN,OXYGEN_FLAG_W,SILCAT,SILCAT_FLAG_W,NO2+NO3,NO2+NO3_FLAG_W,PHSPHT,PHSPHT_FLAG_W,REVPRS,REVTMP
,,,,,,,,,,,,,DBAR,ITS-90,PSS-78,,PSS-78,,UMOL/KG,,ITS-90,UMOL/KG,,UMOL/KG,,UMOL/KG,,UMOL/KG,,DBAR,DEG C
     33KB197_1,  PRS2,     2,  6,     21,   8021,2,20071202,0432, 22.8050,-158.0108, 4732,      6,      5.8,  25.1082,  34.9535,2,  34.9520,2,    206.8,1, 25.1069,   -999.0,9,  -999.00,9,  -999.00,9,  -999.00,9,  -999.0,-999.000
     33KB197_1,  PRS2,     2,  6,     22,   8022,2,20071202,0432, 22.8050,-158.0108, 4732,      6,      6.2,  25.1069,  34.9549,2,-999.0000,5,    206.7,1, 25.1056,   -999.0,9,  -999.00,9,  -999.00,9,  -999.00,9,  -999.0,-999.000
     33KB197_1,  PRS2,     2,  6,     20,   8020,2,20071202,0432, 22.8050,-158.0108, 4732,     10,      9.6,  25.1045,  34.9558,2,-999.0000,5,    206.9,1, 25.1024,   -999.0,9,  -999.00,9,  -999.00,9,  -999.00,9,  -999.0,-999.000
     33KB197_1,  PRS2,     2,  6,     19,   8019,2,20071202,0432, 22.8050,-158.0108, 4732,     10,      9.6,  25.1061,  34.9548,2,-999.0000,5,    207.1,1, 25.1040,   -999.0,9,  -999.00,9,  -999.00,9,  -999.00,9,  -999.0,-999.000
     33KB197_1,  PRS2,     2,  6,     18,   8018,2,20071202,0432, 22.8050,-158.0108, 4732,     10,      9.6,  25.1084,  34.9532,2,-999.0000,5,    207.2,1, 25.1063,   -999.0,9,  -999.00,9,  -999.00,9,  -999.00,9,  -999.0,-999.000
     33KB197_1,  PRS2,     2,  6,     17,   8017,2,20071202,0432, 22.8050,-158.0108, 4732,     19,     19.5,  25.0456,  35.0091,2,-999.0000,5,    207.9,1, 25.0414,   -999.0,9,  -999.00,9,  -999.00,9,  -999.00,9,  -999.0,-999.000
     33KB197_1,  PRS2,     2,  6,     16,   8016,2,20071202,0432, 22.8050,-158.0108, 4732,     23,     24.7,  25.0446,  35.0118,2,-999.0000,5,    207.8,1, 25.0393,   -999.0,9,  -999.00,9,  -999.00,9,  -999.00,9,  -999.0,-999.000
     33KB197_1,  PRS2,     2,  6,     15,   8015,2,20071202,0432, 22.8050,-158.0108, 4732,     23,     25.0,  25.0447,  35.0115,2,-999.0000,5,    207.8,1, 25.0393,   -999.0,9,  -999.00,9,  -999.00,9,  -999.00,9,  -999.0,-999.000
     33KB197_1,  PRS2,     2,  6,     14,   8014,2,20071202,0432, 22.8050,-158.0108, 4732,     24,     25.3,  25.0461,  35.0102,2,  35.0081,2,    207.9,1, 25.0406,   -999.0,9,  -999.00,9,  -999.00,9,  -999.00,9,  -999.0,-999.000
     33KB197_1,  PRS2,     2,  6,     13,   8025,2,20071202,0432, 22.8050,-158.0108, 4732,     41,     42.4,  25.0408,  35.0745,2,-999.0000,5,    207.9,1, 25.0316,   -999.0,9,  -999.00,9,  -999.00,9,  -999.00,9,  -999.0,-999.000
     33KB197_1,  PRS2,     2,  6,     12,   8012,2,20071202,0432, 22.8050,-158.0108, 4732,     45,     45.5,  25.0378,  35.0767,2,  35.0760,2,    208.1,1, 25.0279,   -999.0,9,  -999.00,9,  -999.00,9,  -999.00,9,  -999.0,-999.000
     33KB197_1,  PRS2,     2,  6,     11,   8011,2,20071202,0432, 22.8050,-158.0108, 4732,     78,     75.6,  24.7376,  35.0261,2,  35.0272,2,    208.8,1, 24.7213,   -999.0,9,  -999.00,9,  -999.00,9,  -999.00,9,  -999.0,-999.000
     33KB197_1,  PRS2,     2,  6,     10,   8010,2,20071202,0432, 22.8050,-158.0108, 4732,    100,    100.6,  22.1944,  34.9248,2,  34.9272,2,    197.1,1, 22.1744,   -999.0,9,  -999.00,9,  -999.00,9,  -999.00,9,  -999.0,-999.000
     33KB197_1,  PRS2,     2,  6,      9,   8009,2,20071202,0432, 22.8050,-158.0108, 4732,    122,    123.7,  20.3834,  34.9355,2,  34.9522,4,    186.1,1, 20.3602,   -999.0,9,  -999.00,9,  -999.00,9,  -999.00,9,  -999.0,-999.000
     33KB197_1,  PRS2,     2,  6,      8,   8008,2,20071202,0432, 22.8050,-158.0108, 4732,    147,    148.8,  19.5398,  34.9214,2,  34.9239,2,    187.9,1, 19.5128,   -999.0,9,  -999.00,9,  -999.00,9,  -999.00,9,  -999.0,-999.000
     33KB197_1,  PRS2,     2,  6,      7,   8026,2,20071202,0432, 22.8050,-158.0108, 4732,    177,    175.5,  18.5150,  34.7917,2,  34.7901,2,    183.0,1, 18.4843,   -999.0,9,  -999.00,9,  -999.00,9,  -999.00,9,  -999.0,-999.000
     33KB197_1,  PRS2,     2,  6,      6,   8006,2,20071202,0432, 22.8050,-158.0108, 4732,    202,    199.8,  17.4388,  34.6542,2,  34.6572,2,    175.5,1, 17.4053,   -999.0,9,  -999.00,9,  -999.00,9,  -999.00,9,  -999.0,-999.000
     33KB197_1,  PRS2,     2,  6,      5,   8005,2,20071202,0432, 22.8050,-158.0108, 4732,    252,    249.4,  13.3957,  34.2248,2,  34.2283,2,    172.6,1, 13.3609,   -999.0,9,  -999.00,9,  -999.00,9,  -999.00,9,  -999.0,-999.000
     33KB197_1,  PRS2,     2,  6,      3,   8003,2,20071202,0432, 22.8050,-158.0108, 4732,    351,    351.7,  10.1300,  34.1476,2,  34.1497,2,    163.9,1, 10.0890,   -999.0,9,  -999.00,9,  -999.00,9,  -999.00,9,  -999.0,-999.000
     33KB197_1,  PRS2,     2,  6,      4,   8004,2,20071202,0432, 22.8050,-158.0108, 4732,    351,    352.0,  10.1387,  34.1471,2,  34.1497,2,    163.9,1, 10.0976,   -999.0,9,  -999.00,9,  -999.00,9,  -999.00,9,  -999.0,-999.000
     33KB197_1,  PRS2,     2,  6,      2,   8002,2,20071202,0432, 22.8050,-158.0108, 4732,    470,    470.2,   7.5093,  34.0928,2,  34.0923,2,    111.9,1,  7.4633,   -999.0,9,  -999.00,9,  -999.00,9,  -999.00,9,  -999.0,-999.000
     33KB197_1,  PRS2,     2,  6,      1,   8001,2,20071202,0432, 22.8050,-158.0108, 4732,   1020,   1019.9,   3.8662,  34.4962,2,  34.4948,2,     43.7,1,  3.7899,   -999.0,9,  -999.00,9,  -999.00,9,  -999.00,9,  -999.0,-999.000
     33KB197_1,  PRS2,     2,  7,     22,   8022,2,20071202,0706, 22.8050,-158.0107, 4730,      9,      9.3,  25.0822,  34.9512,2,-999.0000,5,    207.5,1, 25.0802,   -999.0,9,  -999.00,9,  -999.00,9,  -999.00,9,  -999.0,-999.000
     33KB197_1,  PRS2,     2,  7,     21,   8021,2,20071202,0706, 22.8050,-158.0107, 4730,     10,      9.4,  25.0822,  34.9515,2,  34.9496,2,    207.4,1, 25.0802,   -999.0,9,  -999.00,9,  -999.00,9,  -999.00,9,  -999.0,-999.000
     33KB197_1,  PRS2,     2,  7,     20,   8020,2,20071202,0706, 22.8050,-158.0107, 4730,     27,     25.5,  25.0357,  35.0502,2,-999.0000,5,    207.5,1, 25.0301,   -999.0,9,  -999.00,9,  -999.00,9,  -999.00,9,  -999.0,-999.000
     33KB197_1,  PRS2,     2,  7,     19,   8019,2,20071202,0706, 22.8050,-158.0107, 4730,     27,     25.5,  25.0357,  35.0472,2,  35.0394,2,    207.4,1, 25.0301,   -999.0,9,  -999.00,9,  -999.00,9,  -999.00,9,  -999.0,-999.000
     33KB197_1,  PRS2,     2,  7,     17,   8017,2,20071202,0706, 22.8050,-158.0107, 4730,     44,     44.2,  25.0349,  35.0757,2,  35.0740,2,    208.0,1, 25.0253,   -999.0,9,  -999.00,9,  -999.00,9,  -999.00,9,  -999.0,-999.000
     33KB197_1,  PRS2,     2,  7,     18,   8018,2,20071202,0706, 22.8050,-158.0107, 4730,     44,     44.5,  25.0340,  35.0753,2,-999.0000,5,    208.0,1, 25.0243,   -999.0,9,  -999.00,9,  -999.00,9,  -999.00,9,  -999.0,-999.000
     33KB197_1,  PRS2,     2,  7,     16,   8016,2,20071202,0706, 22.8050,-158.0107, 4730,     59,     59.9,  25.0188,  35.0910,2,  35.0902,2,    207.9,1, 25.0058,   -999.0,9,  -999.00,9,  -999.00,9,  -999.00,9,  -999.0,-999.000
     33KB197_1,  PRS2,     2,  7,     14,   8014,2,20071202,0706, 22.8050,-158.0107, 4730,     77,     75.8,  24.6954,  35.0686,2,  35.0776,2,    208.6,1, 24.6791,   -999.0,9,  -999.00,9,  -999.00,9,  -999.00,9,  -999.0,-999.000
     33KB197_1,  PRS2,     2,  7,     15,   8015,2,20071202,0706, 22.8050,-158.0107, 4730,     77,     75.9,  24.6997,  35.0652,2,-999.0000,5,    208.7,1, 24.6834,   -999.0,9,  -999.00,9,  -999.00,9,  -999.00,9,  -999.0,-999.000
     33KB197_1,  PRS2,     2,  7,     13,   8025,2,20071202,0706, 22.8050,-158.0107, 4730,     84,     84.6,  23.3759,  35.0731,2,  35.0854,2,    210.4,1, 23.3584,   -999.0,9,  -999.00,9,  -999.00,9,  -999.00,9,  -999.0,-999.000
     33KB197_1,  PRS2,     2,  7,     11,   8011,2,20071202,0706, 22.8050,-158.0107, 4730,    101,     99.3,  21.8801,  34.9024,2,  34.9026,2,    197.1,1, 21.8606,   -999.0,9,  -999.00,9,  -999.00,9,  -999.00,9,  -999.0,-999.000
     33KB197_1,  PRS2,     2,  7,     12,   8012,2,20071202,0706, 22.8050,-158.0107, 4730,    100,     99.8,  21.8759,  34.9028,2,-999.0000,5,    197.3,1, 21.8563,   -999.0,9,  -999.00,9,  -999.00,9,  -999.00,9,  -999.0,-999.000
     33KB197_1,  PRS2,     2,  7,     10,   8010,2,20071202,0706, 22.8050,-158.0107, 4730,    114,    116.0,  20.9185,  34.9040,2,  34.9028,2,    184.0,1, 20.8964,   -999.0,9,  -999.00,9,  -999.00,9,  -999.00,9,  -999.0,-999.000
     33KB197_1,  PRS2,     2,  7,      9,   8009,2,20071202,0706, 22.8050,-158.0107, 4730,    126,    124.6,  20.7948,  34.9620,2,-999.0000,5,    190.7,1, 20.7712,   -999.0,9,  -999.00,9,  -999.00,9,  -999.00,9,  -999.0,-999.000
     33KB197_1,  PRS2,     2,  7,      8,   8008,2,20071202,0706, 22.8050,-158.0107, 4730,    124,    125.2,  20.7797,  34.9627,2,  34.9520,2,    190.7,1, 20.7559,   -999.0,9,  -999.00,9,  -999.00,9,  -999.00,9,  -999.0,-999.000
     33KB197_1,  PRS2,     2,  7,      7,   8026,2,20071202,0706, 22.8050,-158.0107, 4730,    133,    134.4,  19.9551,  34.9515,2,  34.9479,2,    188.5,1, 19.9303,   -999.0,9,  -999.00,9,  -999.00,9,  -999.00,9,  -999.0,-999.000
     33KB197_1,  PRS2,     2,  7,      5,   8005,2,20071202,0706, 22.8050,-158.0107, 4730,    149,    149.8,  19.6040,  34.9465,2,  34.9447,2,    186.5,1, 19.5767,   -999.0,9,  -999.00,9,  -999.00,9,  -999.00,9,  -999.0,-999.000
     33KB197_1,  PRS2,     2,  7,      6,   8006,2,20071202,0706, 22.8050,-158.0107, 4730,    152,    149.9,  19.6046,  34.9463,2,-999.0000,5,    186.4,1, 19.5773,   -999.0,9,  -999.00,9,  -999.00,9,  -999.00,9,  -999.0,-999.000
     33KB197_1,  PRS2,     2,  7,      4,   8004,2,20071202,0706, 22.8050,-158.0107, 4730,    176,    176.8,  17.8352,  34.7010,2,-999.0000,5,    177.2,1, 17.8051,   -999.0,9,  -999.00,9,  -999.00,9,  -999.00,9,  -999.0,-999.000
     33KB197_1,  PRS2,     2,  7,      3,   8003,2,20071202,0706, 22.8050,-158.0107, 4730,    177,    177.0,  17.8329,  34.6999,2,  34.7068,2,    176.7,1, 17.8028,   -999.0,9,  -999.00,9,  -999.00,9,  -999.00,9,  -999.0,-999.000
     33KB197_1,  PRS2,     2,  7,      2,   8002,2,20071202,0706, 22.8050,-158.0107, 4730,    483,    482.0,   7.2991,  34.0951,2,  34.0946,2,    106.7,1,  7.2526,   -999.0,9,  -999.00,9,  -999.00,9,  -999.00,9,  -999.0,-999.000
     33KB197_1,  PRS2,     2,  7,      1,   8001,2,20071202,0706, 22.8050,-158.0107, 4730,   1019,   1018.4,   3.9175,  34.4893,2,  34.4891,2,     42.2,1,  3.8410,   -999.0,9,  -999.00,9,  -999.00,9,  -999.00,9,  -999.0,-999.000
     33KB197_1,  PRS2,     2,  8,     23,   8023,2,20071202,0950, 22.8007,-158.0190, 4731,      6,      5.8,  25.0509,  34.9529,2,  34.9524,2,    206.8,2, 25.0496,   -999.0,5,  -999.00,9,  -999.00,9,  -999.00,9,  -999.0,-999.000
     33KB197_1,  PRS2,     2,  8,     22,   8022,2,20071202,0950, 22.8007,-158.0190, 4731,      6,      5.8,  25.0510,  34.9534,2,  34.9532,2,    206.7,2, 25.0497,    207.4,2,  -999.00,9,  -999.00,9,  -999.00,9,  -999.0,-999.000
     33KB197_1,  PRS2,     2,  8,     21,   8021,2,20071202,0950, 22.8007,-158.0190, 4731,     15,     14.5,  25.0967,  35.0060,2,  35.0256,3,    206.7,3, 25.0936,   -999.0,5,  -999.00,9,  -999.00,9,  -999.00,9,  -999.0,-999.000
     33KB197_1,  PRS2,     2,  8,     20,   8020,2,20071202,0950, 22.8007,-158.0190, 4731,     24,     24.6,  25.1532,  35.0856,2,  35.0870,2,    207.4,2, 25.1478,   -999.0,5,  -999.00,9,  -999.00,9,  -999.00,9,  -999.0,-999.000
     33KB197_1,  PRS2,     2,  8,     19,   8019,2,20071202,0950, 22.8007,-158.0190, 4731,     24,     24.8,  25.1535,  35.0853,2,  35.0874,2,    207.4,2, 25.1481,    207.0,2,  -999.00,9,  -999.00,9,  -999.00,9,  -999.0,-999.000
     33KB197_1,  PRS2,     2,  8,     18,   8018,2,20071202,0950, 22.8007,-158.0190, 4731,     34,     35.4,  25.1517,  35.0941,2,  35.0929,2,    207.1,2, 25.1440,   -999.0,5,  -999.00,9,  -999.00,9,  -999.00,9,  -999.0,-999.000
     33KB197_1,  PRS2,     2,  8,     17,   8017,2,20071202,0950, 22.8007,-158.0190, 4731,     45,     44.5,  25.1199,  35.0925,2,  35.0919,2,    207.2,2, 25.1102,    207.1,2,  -999.00,9,  -999.00,9,  -999.00,9,  -999.0,-999.000
     33KB197_1,  PRS2,     2,  8,     16,   8016,2,20071202,0950, 22.8007,-158.0190, 4731,     59,     60.4,  25.0595,  35.0977,2,  35.0963,2,    207.1,2, 25.0464,   -999.0,5,  -999.00,9,  -999.00,9,  -999.00,9,  -999.0,-999.000
     33KB197_1,  PRS2,     2,  8,     15,   8015,2,20071202,0950, 22.8007,-158.0190, 4731,     74,     74.7,  25.0434,  35.1044,2,  35.1073,2,    207.3,2, 25.0272,    207.1,2,  -999.00,9,  -999.00,9,  -999.00,9,  -999.0,-999.000
     33KB197_1,  PRS2,     2,  8,     14,   8014,2,20071202,0950, 22.8007,-158.0190, 4731,     85,     84.5,  24.7307,  35.1110,2,  35.1106,2,    209.1,2, 24.7125,    209.8,2,  -999.00,9,  -999.00,9,  -999.00,9,  -999.0,-999.000
     33KB197_1,  PRS2,     2,  8,     13,   8025,2,20071202,0950, 22.8007,-158.0190, 4731,     91,     90.4,  24.3613,  35.1343,2,  35.1268,2,    213.6,2, 24.3420,   -999.0,5,  -999.00,9,  -999.00,9,  -999.00,9,  -999.0,-999.000
     33KB197_1,  PRS2,     2,  8,     12,   8012,2,20071202,0950, 22.8007,-158.0190, 4731,     99,    100.2,  23.0675,  35.1115,2,  35.1104,2,    212.7,2, 23.0470,    216.9,3,  -999.00,9,  -999.00,9,  -999.00,9,  -999.0,-999.000
     33KB197_1,  PRS2,     2,  8,     11,   8011,2,20071202,0950, 22.8007,-158.0190, 4731,    110,    110.9,  22.4316,  35.0234,2,  35.0236,2,    206.2,2, 22.4094,   -999.0,5,  -999.00,9,  -999.00,9,  -999.00,9,  -999.0,-999.000
     33KB197_1,  PRS2,     2,  8,     10,   8010,2,20071202,0950, 22.8007,-158.0190, 4731,    115,    115.2,  22.1665,  35.0127,2,  35.0136,2,    205.1,2, 22.1436,    204.6,2,  -999.00,9,  -999.00,9,  -999.00,9,  -999.0,-999.000
     33KB197_1,  PRS2,     2,  8,      9,   8009,2,20071202,0950, 22.8007,-158.0190, 4731,    126,    124.9,  21.5582,  35.0532,2,  35.0531,2,    200.8,2, 21.5338,    201.1,2,  -999.00,9,  -999.00,9,  -999.00,9,  -999.0,-999.000
     33KB197_1,  PRS2,     2,  8,      8,   8008,2,20071202,0950, 22.8007,-158.0190, 4731,    131,    131.3,  21.2127,  34.9902,2,  35.0061,4,    196.1,3, 21.1874,   -999.0,5,  -999.00,9,  -999.00,9,  -999.00,9,  -999.0,-999.000
     33KB197_1,  PRS2,     2,  8,      7,   8026,2,20071202,0950, 22.8007,-158.0190, 4731,    151,    150.9,  20.2726,  34.9880,2,  34.9908,2,    191.1,2, 20.2444,    191.1,2,  -999.00,9,  -999.00,9,  -999.00,9,  -999.0,-999.000
     33KB197_1,  PRS2,     2,  8,      6,   8006,2,20071202,0950, 22.8007,-158.0190, 4731,    164,    164.7,  20.0074,  34.9702,2,  34.9709,2,    191.4,2, 19.9769,    190.0,2,  -999.00,9,  -999.00,9,  -999.00,9,  -999.0,-999.000
     33KB197_1,  PRS2,     2,  8,      5,   8005,2,20071202,0950, 22.8007,-158.0190, 4731,    176,    175.8,  19.4481,  34.9196,2,  34.9179,2,    188.0,2, 19.4162,    187.3,2,  -999.00,9,  -999.00,9,  -999.00,9,  -999.0,-999.000
     33KB197_1,  PRS2,     2,  8,      4,   8004,2,20071202,0950, 22.8007,-158.0190, 4731,    201,    202.4,  17.2020,  34.6361,2,  34.6178,2,    176.3,2, 17.1684,    176.8,2,  -999.00,9,  -999.00,9,  -999.00,9,  -999.0,-999.000
     33KB197_1,  PRS2,     2,  8,      3,   8003,2,20071202,0950, 22.8007,-158.0190, 4731,    470,    471.4,   7.3260,  34.0943,2,  34.0946,2,    108.4,2,  7.2805,    106.8,2,  -999.00,9,  -999.00,9,  -999.00,9,  -999.0,-999.000
     33KB197_1,  PRS2,     2,  8,      2,   8002,2,20071202,0950, 22.8007,-158.0190, 4731,    752,    751.6,   4.8580,  34.3152,2,  34.3138,2,     27.3,2,  4.7978,     26.7,2,  -999.00,9,  -999.00,9,  -999.00,9,  -999.0,-999.000
     33KB197_1,  PRS2,     2,  8,      1,   8001,2,20071202,0950, 22.8007,-158.0190, 4731,   1020,   1019.7,   3.9970,  34.4812,2,  34.4813,2,     41.8,2,  3.9198,     42.0,2,  -999.00,9,  -999.00,9,  -999.00,9,  -999.0,-999.000