BOTTLE,20090923WHPSIOMYS
EXPOCODE,SECT_ID,STNNBR,CASTNO,SAMPNO,BTLNBR,BTLNBR_FLAG_W,DATE,TIME,LATITUDE,LONGITUDE,DEPTH,CTDRAW,CTDPRS,CTDTMP,CTDSAL,CTDSAL_FLAG_W,SALNTY,SALNTY_FLAG_W,CTDOXY,CTDOXY_FLAG_W,THETA,OXYGEN,OXYGEN_FLAG_W,SILCAT,SILCAT_FLAG_W,NO2+NO3,NO2+NO3_FLAG_W,PHSPHT,PHSPHT_FLAG_W,REVPRS,REVTMP
,,,,,,,,,,,,,DBAR,ITS-90,PSS-78,,PSS-78,,UMOL/KG,,ITS-90,UMOL/KG,,UMOL/KG,,UMOL/KG,,UMOL/KG,,DBAR,DEG C
     33KB197_1,  PRS2,     2, 15,     24,   8024,2,20071203,0638, 22.8158,-157.9713, 4702,      6,      6.1,  25.1204,  35.0360,2,  35.0390,2,    206.2,1, 25.1190,   -999.0,9,  -999.00,9,  -999.00,9,  -999.00,9,  -999.0,-999.000
     33KB197_1,  PRS2,     2, 15,     23,   8023,2,20071203,0638, 22.8158,-157.9713, 4702,     27,     27.4,  25.1293,  35.0379,2,  35.0392,2,    206.3,1, 25.1234,   -999.0,9,  -999.00,9,  -999.00,9,  -999.00,9,  -999.0,-999.000
     33KB197_1,  PRS2,     2, 15,     22,   8022,2,20071203,0638, 22.8158,-157.9713, 4702,     47,     47.1,  25.0762,  35.0591,2,  35.0585,2,    207.2,1, 25.0660,   -999.0,9,  -999.00,9,  -999.00,9,  -999.00,9,  -999.0,-999.000
     33KB197_1,  PRS2,     2, 15,     21,   8021,2,20071203,0638, 22.8158,-157.9713, 4702,     61,     61.8,  25.0224,  35.1082,2,  35.1063,2,    207.6,1, 25.0090,   -999.0,9,  -999.00,9,  -999.00,9,  -999.00,9,  -999.0,-999.000
     33KB197_1,  PRS2,     2, 15,     20,   8020,2,20071203,0638, 22.8158,-157.9713, 4702,     76,     76.6,  23.9926,  35.1602,2,  35.1601,2,    216.2,1, 23.9765,   -999.0,9,  -999.00,9,  -999.00,9,  -999.00,9,  -999.0,-999.000
     33KB197_1,  PRS2,     2, 15,     19,   8019,2,20071203,0638, 22.8158,-157.9713, 4702,     87,     86.2,  23.2452,  35.1284,2,  35.1347,2,    217.8,1, 23.2275,   -999.0,9,  -999.00,9,  -999.00,9,  -999.00,9,  -999.0,-999.000
     33KB197_1,  PRS2,     2, 15,     18,   8018,2,20071203,0638, 22.8158,-157.9713, 4702,     99,    101.2,  22.7975,  35.1003,2,  35.0998,2,    217.3,1, 22.7770,   -999.0,9,  -999.00,9,  -999.00,9,  -999.00,9,  -999.0,-999.000
     33KB197_1,  PRS2,     2, 15,     17,   8017,2,20071203,0638, 22.8158,-157.9713, 4702,    114,    113.9,  22.5507,  35.0889,2,  35.0945,2,    212.6,1, 22.5278,   -999.0,9,  -999.00,9,  -999.00,9,  -999.00,9,  -999.0,-999.000
     33KB197_1,  PRS2,     2, 15,     16,   8016,2,20071203,0638, 22.8158,-157.9713, 4702,    127,    126.1,  21.5005,  35.0257,2,  35.0246,2,    202.0,1, 21.4759,   -999.0,9,  -999.00,9,  -999.00,9,  -999.00,9,  -999.0,-999.000
     33KB197_1,  PRS2,     2, 15,     15,   8015,2,20071203,0638, 22.8158,-157.9713, 4702,    138,    137.7,  20.7077,  35.0491,2,  35.0539,2,    193.9,1, 20.6816,   -999.0,9,  -999.00,9,  -999.00,9,  -999.00,9,  -999.0,-999.000
     33KB197_1,  PRS2,     2, 15,     14,   8014,2,20071203,0638, 22.8158,-157.9713, 4702,    151,    151.8,  20.1583,  35.0463,2,  35.0427,2,    194.4,1, 20.1301,   -999.0,9,  -999.00,9,  -999.00,9,  -999.00,9,  -999.0,-999.000
     33KB197_1,  PRS2,     2, 15,     13,   8025,2,20071203,0638, 22.8158,-157.9713, 4702,    175,    175.5,  18.5819,  34.8307,2,  34.8316,2,    187.6,1, 18.5511,   -999.0,9,  -999.00,9,  -999.00,9,  -999.00,9,  -999.0,-999.000
     33KB197_1,  PRS2,     2, 15,     12,   8012,2,20071203,0638, 22.8158,-157.9713, 4702,    204,    200.2,  16.9785,  34.6301,2,-999.0000,5,    181.8,1, 16.9456,   -999.0,9,  -999.00,9,  -999.00,9,  -999.00,9,  -999.0,-999.000
     33KB197_1,  PRS2,     2, 15,      8,   8008,2,20071203,0638, 22.8158,-157.9713, 4702,    199,    200.3,  16.9414,  34.6242,2,-999.0000,5,    181.2,1, 16.9085,   -999.0,9,  -999.00,9,  -999.00,9,  -999.00,9,  -999.0,-999.000
     33KB197_1,  PRS2,     2, 15,     11,   8011,2,20071203,0638, 22.8158,-157.9713, 4702,    202,    200.7,  16.9222,  34.6247,2,-999.0000,5,    181.7,1, 16.8892,   -999.0,9,  -999.00,9,  -999.00,9,  -999.00,9,  -999.0,-999.000
     33KB197_1,  PRS2,     2, 15,     10,   8010,2,20071203,0638, 22.8158,-157.9713, 4702,    200,    200.8,  16.9272,  34.6316,2,-999.0000,5,    181.6,1, 16.8943,   -999.0,9,  -999.00,9,  -999.00,9,  -999.00,9,  -999.0,-999.000
     33KB197_1,  PRS2,     2, 15,      9,   8009,2,20071203,0638, 22.8158,-157.9713, 4702,    201,    201.0,  16.9854,  34.6288,2,-999.0000,5,    181.4,1, 16.9524,   -999.0,9,  -999.00,9,  -999.00,9,  -999.00,9,  -999.0,-999.000
     33KB197_1,  PRS2,     2, 15,      7,   8026,2,20071203,0638, 22.8158,-157.9713, 4702,    491,    491.6,   6.9942,  34.0978,2,  34.0987,2,     94.6,1,  6.9479,   -999.0,9,  -999.00,9,  -999.00,9,  -999.00,9,  -999.0,-999.000
     33KB197_1,  PRS2,     2, 15,      4,   8004,2,20071203,0638, 22.8158,-157.9713, 4702,   1018,   1019.7,   3.8446,  34.4966,2,-999.0000,5,     44.4,1,  3.7685,   -999.0,9,  -999.00,9,  -999.00,9,  -999.00,9,  -999.0,-999.000
     33KB197_1,  PRS2,     2, 15,      5,   8005,2,20071203,0638, 22.8158,-157.9713, 4702,   1018,   1019.8,   3.8423,  34.4972,2,-999.0000,5,     44.4,1,  3.7662,   -999.0,9,  -999.00,9,  -999.00,9,  -999.00,9,  -999.0,-999.000
     33KB197_1,  PRS2,     2, 15,      3,   8003,2,20071203,0638, 22.8158,-157.9713, 4702,   1020,   1020.0,   3.8454,  34.4964,2,-999.0000,5,     44.4,1,  3.7693,   -999.0,9,  -999.00,9,  -999.00,9,  -999.00,9,  -999.0,-999.000
     33KB197_1,  PRS2,     2, 15,      6,   8006,2,20071203,0638, 22.8158,-157.9713, 4702,   1020,   1020.1,   3.8420,  34.4968,2,-999.0000,5,     44.4,1,  3.7659,   -999.0,9,  -999.00,9,  -999.00,9,  -999.00,9,  -999.0,-999.000
     33KB197_1,  PRS2,     2, 15,      1,   8001,2,20071203,0638, 22.8158,-157.9713, 4702,   1021,   1020.3,   3.8462,  34.4965,2,  34.4964,2,     44.3,1,  3.7701,   -999.0,9,  -999.00,9,  -999.00,9,  -999.00,9,  -999.0,-999.000
     33KB197_1,  PRS2,     2, 15,      2,   8002,2,20071203,0638, 22.8158,-157.9713, 4702,   1021,   1020.4,   3.8450,  34.4967,2,-999.0000,5,     44.4,1,  3.7689,   -999.0,9,  -999.00,9,  -999.00,9,  -999.00,9,  -999.0,-999.000
     33KB197_1,  PRS2,     2, 16,     24,   8024,2,20071203,0949, 22.7502,-157.9993, 4747,      6,      7.9,  24.9535,  35.0918,2,  35.0907,2,    207.4,2, 24.9518,    207.7,2,  -999.00,9,  -999.00,9,  -999.00,9,  -999.0,-999.000
     33KB197_1,  PRS2,     2, 16,     23,   8023,2,20071203,0949, 22.7502,-157.9993, 4747,     13,     13.1,  24.9559,  35.0932,2,-999.0000,5,    207.5,2, 24.9530,   -999.0,5,  -999.00,9,  -999.00,9,  -999.00,9,  -999.0,-999.000
     33KB197_1,  PRS2,     2, 16,     22,   8022,2,20071203,0949, 22.7502,-157.9993, 4747,     76,     75.1,  24.5131,  35.1597,2,-999.0000,5,    212.3,2, 24.4970,   -999.0,5,  -999.00,9,  -999.00,9,  -999.00,9,  -999.0,-999.000
     33KB197_1,  PRS2,     2, 16,     21,   8021,2,20071203,0949, 22.7502,-157.9993, 4747,     91,     89.7,  22.9332,  35.1663,2,  35.1664,2,    217.9,2, 22.9150,    217.8,2,  -999.00,9,  -999.00,9,  -999.00,9,  -999.0,-999.000
     33KB197_1,  PRS2,     2, 16,     20,   8020,2,20071203,0949, 22.7502,-157.9993, 4747,    101,    100.6,  22.3100,  35.1040,2,-999.0000,5,    215.8,2, 22.2899,   -999.0,5,  -999.00,9,  -999.00,9,  -999.00,9,  -999.0,-999.000
     33KB197_1,  PRS2,     2, 16,     19,   8019,2,20071203,0949, 22.7502,-157.9993, 4747,    127,    126.2,  21.1352,  35.0615,2,-999.0000,5,    197.8,2, 21.1109,   -999.0,5,  -999.00,9,  -999.00,9,  -999.00,9,  -999.0,-999.000
     33KB197_1,  PRS2,     2, 16,     18,   8018,2,20071203,0949, 22.7502,-157.9993, 4747,    173,    174.6,  19.0268,  34.9115,2,-999.0000,5,    189.4,2, 18.9956,   -999.0,5,  -999.00,9,  -999.00,9,  -999.00,9,  -999.0,-999.000
     33KB197_1,  PRS2,     2, 16,     17,   8017,2,20071203,0949, 22.7502,-157.9993, 4747,    403,    402.8,   8.7681,  34.1058,2,-999.0000,5,    155.1,2,  8.7250,   -999.0,5,  -999.00,9,  -999.00,9,  -999.00,9,  -999.0,-999.000
     33KB197_1,  PRS2,     2, 16,     16,   8016,2,20071203,0949, 22.7502,-157.9993, 4747,    449,    450.6,   7.7486,  34.0933,2,  34.0934,2,    121.1,2,  7.7037,    122.5,2,  -999.00,9,  -999.00,9,  -999.00,9,  -999.0,-999.000
     33KB197_1,  PRS2,     2, 16,     15,   8015,2,20071203,0949, 22.7502,-157.9993, 4747,    602,    601.4,   5.6446,  34.2083,2,-999.0000,5,     46.9,2,  5.5936,   -999.0,5,  -999.00,9,  -999.00,9,  -999.00,9,  -999.0,-999.000
     33KB197_1,  PRS2,     2, 16,     14,   8014,2,20071203,0949, 22.7502,-157.9993, 4747,    740,    740.8,   4.7503,  34.3195,2,  34.3189,2,     29.0,2,  4.6916,     25.6,3,  -999.00,9,  -999.00,9,  -999.00,9,  -999.0,-999.000
     33KB197_1,  PRS2,     2, 16,     13,   8025,2,20071203,0949, 22.7502,-157.9993, 4747,    802,    799.8,   4.6701,  34.3868,2,-999.0000,5,     31.3,2,  4.6068,   -999.0,5,  -999.00,9,  -999.00,9,  -999.00,9,  -999.0,-999.000
     33KB197_1,  PRS2,     2, 16,     12,   8012,2,20071203,0949, 22.7502,-157.9993, 4747,    999,   1001.6,   4.0591,  34.4751,2,  34.4756,2,     41.7,2,  3.9829,   -999.0,5,  -999.00,9,  -999.00,9,  -999.00,9,  -999.0,-999.000
     33KB197_1,  PRS2,     2, 16,     11,   8011,2,20071203,0949, 22.7502,-157.9993, 4747,   1002,   1001.6,   4.0583,  34.4753,2,-999.0000,5,     41.7,2,  3.9821,   -999.0,5,  -999.00,9,  -999.00,9,  -999.00,9,  -999.0,-999.000
     33KB197_1,  PRS2,     2, 16,      9,   8009,2,20071203,0949, 22.7502,-157.9993, 4747,   2000,   2002.3,   2.1589,  34.6220,2,-999.0000,5,     87.8,2,  2.0199,   -999.0,5,  -999.00,9,  -999.00,9,  -999.00,9,  -999.0,-999.000
     33KB197_1,  PRS2,     2, 16,      8,   8008,2,20071203,0949, 22.7502,-157.9993, 4747,   2003,   2002.4,   2.1585,  34.6223,2,  34.6221,2,     87.8,2,  2.0195,     88.4,2,  -999.00,9,  -999.00,9,  -999.00,9,  -999.0,-999.000
     33KB197_1,  PRS2,     2, 16,     10,   8010,2,20071203,0949, 22.7502,-157.9993, 4747,   2003,   2002.6,   2.1590,  34.6217,2,-999.0000,5,     87.7,2,  2.0200,   -999.0,5,  -999.00,9,  -999.00,9,  -999.00,9,  -999.0,-999.000
     33KB197_1,  PRS2,     2, 16,      6,   8006,2,20071203,0949, 22.7502,-157.9993, 4747,   3001,   3001.8,   1.5665,  34.6693,2,-999.0000,5,    123.4,2,  1.3481,   -999.0,5,  -999.00,9,  -999.00,9,  -999.00,9,  -999.0,-999.000
     33KB197_1,  PRS2,     2, 16,      5,   8005,2,20071203,0949, 22.7502,-157.9993, 4747,   3001,   3002.1,   1.5666,  34.6691,2,  34.6692,2,    123.4,2,  1.3482,    123.4,2,  -999.00,9,  -999.00,9,  -999.00,9,  -999.0,-999.000
     33KB197_1,  PRS2,     2, 16,      7,   8026,2,20071203,0949, 22.7502,-157.9993, 4747,   3002,   3002.2,   1.5667,  34.6691,2,-999.0000,5,    123.3,2,  1.3483,   -999.0,5,  -999.00,9,  -999.00,9,  -999.00,9,  -999.0,-999.000
     33KB197_1,  PRS2,     2, 16,      2,   8002,2,20071203,0949, 22.7502,-157.9993, 4747,   4003,   4001.6,   1.4653,  34.6869,2,  34.6867,2,    147.0,2,  1.1472,    146.7,2,  -999.00,9,  -999.00,9,  -999.00,9,  -999.0,-999.000
     33KB197_1,  PRS2,     2, 16,      3,   8003,2,20071203,0949, 22.7502,-157.9993, 4747,   4002,   4001.7,   1.4653,  34.6871,2,-999.0000,5,    147.0,2,  1.1472,   -999.0,5,  -999.00,9,  -999.00,9,  -999.00,9,  -999.0,-999.000
     33KB197_1,  PRS2,     2, 16,      4,   8004,2,20071203,0949, 22.7502,-157.9993, 4747,   4001,   4001.8,   1.4655,  34.6872,2,-999.0000,5,    147.0,2,  1.1474,   -999.0,5,  -999.00,9,  -999.00,9,  -999.00,9,  -999.0,-999.000
     33KB197_1,  PRS2,     2, 16,      1,   8001,2,20071203,0949, 22.7502,-157.9993, 4747,   4800,   4798.8,   1.5020,  34.6917,2,  34.6922,2,    154.6,2,  1.0919,    154.7,2,  -999.00,9,  -999.00,9,  -999.00,9,  -999.0,-999.000
     33KB197_1,  PRS2,     6,  1,     13,   8025,2,20071204,0713, 21.8472,-158.3650, 2463,      6,      6.4,  25.9104,  35.1185,2,  35.1177,2,    204.1,1, 25.9090,   -999.0,9,  -999.00,9,  -999.00,9,  -999.00,9,  -999.0,-999.000
     33KB197_1,  PRS2,     6,  1,     12,   8012,2,20071204,0713, 21.8472,-158.3650, 2463,     23,     24.0,  25.9201,  35.1181,2,  35.1175,2,    204.0,1, 25.9147,   -999.0,9,  -999.00,9,  -999.00,9,  -999.00,9,  -999.0,-999.000
     33KB197_1,  PRS2,     6,  1,     11,   8011,2,20071204,0713, 21.8472,-158.3650, 2463,     47,     47.5,  25.8234,  35.1203,2,  35.1201,2,    204.3,1, 25.8128,   -999.0,9,  -999.00,9,  -999.00,9,  -999.00,9,  -999.0,-999.000
     33KB197_1,  PRS2,     6,  1,     10,   8010,2,20071204,0713, 21.8472,-158.3650, 2463,     75,     76.3,  24.4537,  35.1465,2,  35.1465,2,    207.5,1, 24.4374,   -999.0,9,  -999.00,9,  -999.00,9,  -999.00,9,  -999.0,-999.000
     33KB197_1,  PRS2,     6,  1,      9,   8009,2,20071204,0713, 21.8472,-158.3650, 2463,    101,    100.6,  22.6725,  35.1498,2,  35.1490,2,    203.9,1, 22.6521,   -999.0,9,  -999.00,9,  -999.00,9,  -999.00,9,  -999.0,-999.000
     33KB197_1,  PRS2,     6,  1,      8,   8008,2,20071204,0713, 21.8472,-158.3650, 2463,    127,    127.3,  20.7272,  35.0719,2,  35.0713,2,    191.1,1, 20.7031,   -999.0,9,  -999.00,9,  -999.00,9,  -999.00,9,  -999.0,-999.000
     33KB197_1,  PRS2,     6,  1,      7,   8026,2,20071204,0713, 21.8472,-158.3650, 2463,    149,    151.9,  19.6580,  34.9765,2,  34.9821,2,    188.0,1, 19.6303,   -999.0,9,  -999.00,9,  -999.00,9,  -999.00,9,  -999.0,-999.000
     33KB197_1,  PRS2,     6,  1,      6,   8006,2,20071204,0713, 21.8472,-158.3650, 2463,    176,    174.4,  17.8800,  34.7978,2,  34.8033,2,    189.4,1, 17.8502,   -999.0,9,  -999.00,9,  -999.00,9,  -999.00,9,  -999.0,-999.000
     33KB197_1,  PRS2,     6,  1,      5,   8005,2,20071204,0713, 21.8472,-158.3650, 2463,    504,    500.9,   6.9385,  34.1142,2,  34.1148,2,     95.0,1,  6.8915,   -999.0,9,  -999.00,9,  -999.00,9,  -999.00,9,  -999.0,-999.000
     33KB197_1,  PRS2,     6,  1,      4,   8004,2,20071204,0713, 21.8472,-158.3650, 2463,    999,    999.3,   4.0805,  34.4862,2,  34.4858,2,     45.4,1,  4.0043,   -999.0,9,  -999.00,9,  -999.00,9,  -999.00,9,  -999.0,-999.000
     33KB197_1,  PRS2,     6,  1,      3,   8003,2,20071204,0713, 21.8472,-158.3650, 2463,   1500,   1499.5,   2.7787,  34.5790,2,  34.5785,2,     70.1,1,  2.6735,   -999.0,9,  -999.00,9,  -999.00,9,  -999.00,9,  -999.0,-999.000
     33KB197_1,  PRS2,     6,  1,      2,   8002,2,20071204,0713, 21.8472,-158.3650, 2463,   1999,   2002.8,   2.0925,  34.6228,2,  34.6225,2,     90.5,1,  1.9544,   -999.0,9,  -999.00,9,  -999.00,9,  -999.00,9,  -999.0,-999.000
     33KB197_1,  PRS2,     6,  1,      1,   8001,2,20071204,0713, 21.8472,-158.3650, 2463,   2461,   2458.8,   1.7536,  34.6505,2,  34.6504,2,    108.1,1,  1.5816,   -999.0,9,  -999.00,9,  -999.00,9,  -999.00,9,  -999.0,-999.000
     33KB197_1,  PRS2,    52,  1,     20,   8020,2,20071203,1915, 22.6897,-157.9655, 4752,     12,     10.6,  24.9569,  35.0284,2,-999.0000,5,    206.8,1, 24.9546,   -999.0,9,  -999.00,9,  -999.00,9,  -999.00,9,  -999.0,-999.000
     33KB197_1,  PRS2,    52,  1,     23,   8023,2,20071203,1915, 22.6897,-157.9655, 4752,     10,     10.7,  24.9605,  35.0271,2,-999.0000,5,    207.0,1, 24.9581,   -999.0,9,  -999.00,9,  -999.00,9,  -999.00,9,  -999.0,-999.000
     33KB197_1,  PRS2,    52,  1,     21,   8021,2,20071203,1915, 22.6897,-157.9655, 4752,     11,     10.7,  24.9593,  35.0270,2,-999.0000,5,    207.1,1, 24.9569,   -999.0,9,  -999.00,9,  -999.00,9,  -999.00,9,  -999.0,-999.000
     33KB197_1,  PRS2,    52,  1,     22,   8022,2,20071203,1915, 22.6897,-157.9655, 4752,     10,     10.9,  24.9599,  35.0272,2,-999.0000,5,    207.1,1, 24.9576,   -999.0,9,  -999.00,9,  -999.00,9,  -999.00,9,  -999.0,-999.000
     33KB197_1,  PRS2,    52,  1,     24,   8024,2,20071203,1915, 22.6897,-157.9655, 4752,     10,     11.0,  24.9602,  35.0272,2,-999.0000,5,    206.9,1, 24.9578,   -999.0,9,  -999.00,9,  -999.00,9,  -999.00,9,  -999.0,-999.000
     33KB197_1,  PRS2,    52,  1,     18,   8018,2,20071203,1915, 22.6897,-157.9655, 4752,     19,     16.7,  24.9566,  35.0312,2,-999.0000,5,    207.2,1, 24.9530,   -999.0,9,  -999.00,9,  -999.00,9,  -999.00,9,  -999.0,-999.000
     33KB197_1,  PRS2,    52,  1,     15,   8015,2,20071203,1915, 22.6897,-157.9655, 4752,     18,     16.8,  24.9558,  35.0306,2,-999.0000,5,    207.0,1, 24.9522,   -999.0,9,  -999.00,9,  -999.00,9,  -999.00,9,  -999.0,-999.000
     33KB197_1,  PRS2,    52,  1,     16,   8016,2,20071203,1915, 22.6897,-157.9655, 4752,     17,     17.0,  24.9567,  35.0298,2,-999.0000,5,    207.1,1, 24.9530,   -999.0,9,  -999.00,9,  -999.00,9,  -999.00,9,  -999.0,-999.000
     33KB197_1,  PRS2,    52,  1,     17,   8017,2,20071203,1915, 22.6897,-157.9655, 4752,     17,     17.1,  24.9568,  35.0295,2,-999.0000,5,    207.1,1, 24.9532,   -999.0,9,  -999.00,9,  -999.00,9,  -999.00,9,  -999.0,-999.000
     33KB197_1,  PRS2,    52,  1,     19,   8019,2,20071203,1915, 22.6897,-157.9655, 4752,     17,     17.2,  24.9566,  35.0314,2,-999.0000,5,    207.2,1, 24.9529,   -999.0,9,  -999.00,9,  -999.00,9,  -999.00,9,  -999.0,-999.000
     33KB197_1,  PRS2,    52,  1,     14,   8014,2,20071203,1915, 22.6897,-157.9655, 4752,     17,     17.2,  24.9559,  35.0304,2,-999.0000,5,    206.9,1, 24.9522,   -999.0,9,  -999.00,9,  -999.00,9,  -999.00,9,  -999.0,-999.000
     33KB197_1,  PRS2,    52,  1,     12,   8012,2,20071203,1915, 22.6897,-157.9655, 4752,     21,     21.3,  24.9590,  35.0356,2,-999.0000,5,    207.2,1, 24.9544,   -999.0,9,  -999.00,9,  -999.00,9,  -999.00,9,  -999.0,-999.000
     33KB197_1,  PRS2,    52,  1,     13,   8025,2,20071203,1915, 22.6897,-157.9655, 4752,     21,     21.4,  24.9590,  35.0356,2,-999.0000,5,    207.0,1, 24.9544,   -999.0,9,  -999.00,9,  -999.00,9,  -999.00,9,  -999.0,-999.000
     33KB197_1,  PRS2,    52,  1,     11,   8011,2,20071203,1915, 22.6897,-157.9655, 4752,     22,     21.5,  24.9594,  35.0345,2,-999.0000,5,    207.3,1, 24.9547,   -999.0,9,  -999.00,9,  -999.00,9,  -999.00,9,  -999.0,-999.000
     33KB197_1,  PRS2,    52,  1,     10,   8010,2,20071203,1915, 22.6897,-157.9655, 4752,     31,     30.6,  24.9627,  35.0558,2,-999.0000,5,    207.1,1, 24.9560,   -999.0,9,  -999.00,9,  -999.00,9,  -999.00,9,  -999.0,-999.000
     33KB197_1,  PRS2,    52,  1,      8,   8008,2,20071203,1915, 22.6897,-157.9655, 4752,     46,     44.5,  24.9498,  35.0677,2,-999.0000,5,    207.2,1, 24.9401,   -999.0,9,  -999.00,9,  -999.00,9,  -999.00,9,  -999.0,-999.000
     33KB197_1,  PRS2,    52,  1,      7,   8026,2,20071203,1915, 22.6897,-157.9655, 4752,     46,     44.5,  24.9495,  35.0676,2,-999.0000,5,    207.2,1, 24.9398,   -999.0,9,  -999.00,9,  -999.00,9,  -999.00,9,  -999.0,-999.000
     33KB197_1,  PRS2,    52,  1,      9,   8009,2,20071203,1915, 22.6897,-157.9655, 4752,     44,     44.6,  24.9498,  35.0679,2,-999.0000,5,    207.1,1, 24.9401,   -999.0,9,  -999.00,9,  -999.00,9,  -999.00,9,  -999.0,-999.000
     33KB197_1,  PRS2,    52,  1,      6,   8006,2,20071203,1915, 22.6897,-157.9655, 4752,   1018,   1018.7,   3.9126,  34.4910,2,  34.4911,2,     44.2,1,  3.8361,   -999.0,9,  -999.00,9,  -999.00,9,  -999.00,9,  -999.0,-999.000
     33KB197_1,  PRS2,    52,  1,      5,   8005,2,20071203,1915, 22.6897,-157.9655, 4752,   1016,   1018.8,   3.9124,  34.4910,2,  34.4909,2,     44.2,1,  3.8359,   -999.0,9,  -999.00,9,  -999.00,9,  -999.00,9,  -999.0,-999.000
     33KB197_1,  PRS2,    52,  1,      4,   8004,2,20071203,1915, 22.6897,-157.9655, 4752,   1018,   1018.9,   3.9138,  34.4914,2,  34.4905,2,     44.2,1,  3.8373,   -999.0,9,  -999.00,9,  -999.00,9,  -999.00,9,  -999.0,-999.000
     33KB197_1,  PRS2,    52,  1,      3,   8003,2,20071203,1915, 22.6897,-157.9655, 4752,   1019,   1019.0,   3.9149,  34.4911,2,  34.4907,2,     44.2,1,  3.8383,   -999.0,9,  -999.00,9,  -999.00,9,  -999.00,9,  -999.0,-999.000
     33KB197_1,  PRS2,    52,  1,      1,   8001,2,20071203,1915, 22.6897,-157.9655, 4752,   1018,   1019.2,   3.9159,  34.4909,2,  34.4911,2,     44.3,1,  3.8393,   -999.0,9,  -999.00,9,  -999.00,9,  -999.00,9,  -999.0,-999.000
     33KB197_1,  PRS2,    52,  1,      2,   8002,2,20071203,1915, 22.6897,-157.9655, 4752,   1019,   1019.4,   3.9146,  34.4912,2,  34.4905,2,     44.3,1,  3.8380,   -999.0,9,  -999.00,9,  -999.00,9,  -999.00,9,  -999.0,-999.000