BOTTLE,20090923WHPSIOMYS
#code : jjward hyd_to_exchange.pl 
#original files copied from HTML directory: 20090923
#original HYD file: 33KB197_1_hy.txt   Wed Sep 23 18:01:50 2009
#original SUM file: ../33KB197_1su.txt   Wed Sep 23 18:01:49 2009
EXPOCODE,SECT_ID,STNNBR,CASTNO,SAMPNO,BTLNBR,BTLNBR_FLAG_W,DATE,TIME,LATITUDE,LONGITUDE,DEPTH,CTDRAW,CTDPRS,CTDTMP,CTDSAL,CTDSAL_FLAG_W,SALNTY,SALNTY_FLAG_W,CTDOXY,CTDOXY_FLAG_W,THETA,OXYGEN,OXYGEN_FLAG_W,SILCAT,SILCAT_FLAG_W,NO2+NO3,NO2+NO3_FLAG_W,PHSPHT,PHSPHT_FLAG_W,REVPRS,REVTMP
,,,,,,,,,,,,,DBAR,ITS-90,PSS-78,,PSS-78,,UMOL/KG,,ITS-90,UMOL/KG,,UMOL/KG,,UMOL/KG,,UMOL/KG,,DBAR,DEG C
     33KB197_1,  PRS2,     1,  1,     24,   8024,2,20071130,2312, 21.3453,-158.2723, 1503,      7,      7.9,  25.9749,  35.0866,2,  35.0868,2,    204.1,2, 25.9732,    204.1,2,  -999.00,9,  -999.00,9,  -999.00,9,  -999.0,-999.000
     33KB197_1,  PRS2,     1,  1,     23,   8023,2,20071130,2312, 21.3453,-158.2723, 1503,      8,      7.9,  25.9693,  35.0872,2,  35.0864,2,    204.2,2, 25.9675,    203.6,2,  -999.00,9,  -999.00,9,  -999.00,9,  -999.0,-999.000
     33KB197_1,  PRS2,     1,  1,     22,   8022,2,20071130,2312, 21.3453,-158.2723, 1503,     26,     25.1,  25.7800,  35.1416,2,  35.1313,2,    204.9,2, 25.7745,    204.9,2,  -999.00,9,  -999.00,9,  -999.00,9,  -999.0,-999.000
     33KB197_1,  PRS2,     1,  1,     21,   8021,2,20071130,2312, 21.3453,-158.2723, 1503,     46,     45.3,  25.7020,  35.1560,2,  35.1553,2,    205.1,2, 25.6919,    204.8,2,  -999.00,9,  -999.00,9,  -999.00,9,  -999.0,-999.000
     33KB197_1,  PRS2,     1,  1,     20,   8020,2,20071130,2312, 21.3453,-158.2723, 1503,     61,     60.7,  25.6530,  35.1493,2,  35.1498,2,    205.4,2, 25.6396,    203.5,2,  -999.00,9,  -999.00,9,  -999.00,9,  -999.0,-999.000
     33KB197_1,  PRS2,     1,  1,     19,   8019,2,20071130,2312, 21.3453,-158.2723, 1503,     75,     76.0,  24.8293,  35.1640,2,  35.1618,2,    208.7,2, 24.8129,    210.1,2,  -999.00,9,  -999.00,9,  -999.00,9,  -999.0,-999.000
     33KB197_1,  PRS2,     1,  1,     18,   8018,2,20071130,2312, 21.3453,-158.2723, 1503,    100,    100.3,  22.6427,  35.1723,2,  35.1705,2,    205.5,2, 22.6225,    205.8,2,  -999.00,9,  -999.00,9,  -999.00,9,  -999.0,-999.000
     33KB197_1,  PRS2,     1,  1,     17,   8017,2,20071130,2312, 21.3453,-158.2723, 1503,    115,    115.1,  21.7816,  35.1409,2,  35.1398,2,    198.3,2, 21.7590,    197.6,2,  -999.00,9,  -999.00,9,  -999.00,9,  -999.0,-999.000
     33KB197_1,  PRS2,     1,  1,     16,   8016,2,20071130,2312, 21.3453,-158.2723, 1503,    126,    125.7,  21.6131,  35.1317,2,  35.1274,2,    195.8,2, 21.5886,    197.8,2,  -999.00,9,  -999.00,9,  -999.00,9,  -999.0,-999.000
     33KB197_1,  PRS2,     1,  1,     15,   8015,2,20071130,2312, 21.3453,-158.2723, 1503,    149,    149.2,  20.2908,  35.0416,2,  35.0396,2,    190.5,2, 20.2630,    190.6,2,  -999.00,9,  -999.00,9,  -999.00,9,  -999.0,-999.000
     33KB197_1,  PRS2,     1,  1,     14,   8014,2,20071130,2312, 21.3453,-158.2723, 1503,    176,    175.4,  19.2142,  34.9386,2,  34.9362,2,    191.0,2, 19.1826,    190.9,2,  -999.00,9,  -999.00,9,  -999.00,9,  -999.0,-999.000
     33KB197_1,  PRS2,     1,  1,     13,   8025,2,20071130,2312, 21.3453,-158.2723, 1503,    199,    199.6,  16.4309,  34.6328,2,  34.6268,2,    190.3,2, 16.3988,    191.1,2,  -999.00,9,  -999.00,9,  -999.00,9,  -999.0,-999.000
     33KB197_1,  PRS2,     1,  1,     12,   8012,2,20071130,2312, 21.3453,-158.2723, 1503,    225,    225.3,  15.2391,  34.5087,2,  34.5085,2,    192.2,2, 15.2047,    192.3,2,  -999.00,9,  -999.00,9,  -999.00,9,  -999.0,-999.000
     33KB197_1,  PRS2,     1,  1,     11,   8011,2,20071130,2312, 21.3453,-158.2723, 1503,    250,    250.4,  13.0779,  34.3201,2,  34.3219,2,    196.1,2, 13.0435,    196.8,2,  -999.00,9,  -999.00,9,  -999.00,9,  -999.0,-999.000
     33KB197_1,  PRS2,     1,  1,     10,   8010,2,20071130,2312, 21.3453,-158.2723, 1503,    300,    300.2,  11.0168,  34.2011,2,  34.2034,2,    196.4,2, 10.9799,    196.3,2,  -999.00,9,  -999.00,9,  -999.00,9,  -999.0,-999.000
     33KB197_1,  PRS2,     1,  1,      9,   8009,2,20071130,2312, 21.3453,-158.2723, 1503,    351,    351.3,   9.8663,  34.1436,2,  34.1446,2,    176.7,2,  9.8260,    175.5,2,  -999.00,9,  -999.00,9,  -999.00,9,  -999.0,-999.000
     33KB197_1,  PRS2,     1,  1,      8,   8008,2,20071130,2312, 21.3453,-158.2723, 1503,    400,    400.4,   8.8243,  34.1283,2,  34.1277,2,    143.1,2,  8.7813,    142.9,2,  -999.00,9,  -999.00,9,  -999.00,9,  -999.0,-999.000
     33KB197_1,  PRS2,     1,  1,      7,   8026,3,20071130,2312, 21.3453,-158.2723, 1503,    500,    500.3,   6.7229,  34.1782,2,  34.1775,2,     71.1,2,  6.6767,     71.0,2,  -999.00,9,  -999.00,9,  -999.00,9,  -999.0,-999.000
     33KB197_1,  PRS2,     1,  1,      6,   8006,2,20071130,2312, 21.3453,-158.2723, 1503,    602,    601.4,   6.0810,  34.2139,2,  34.2113,2,     54.9,2,  6.0279,     53.1,2,  -999.00,9,  -999.00,9,  -999.00,9,  -999.0,-999.000
     33KB197_1,  PRS2,     1,  1,      5,   8005,2,20071130,2312, 21.3453,-158.2723, 1503,    701,    701.1,   5.2269,  34.3292,2,  34.3205,4,     34.3,3,  5.1690,     35.5,2,  -999.00,9,  -999.00,9,  -999.00,9,  -999.0,-999.000
     33KB197_1,  PRS2,     1,  1,      4,   8004,2,20071130,2312, 21.3453,-158.2723, 1503,    750,    750.4,   4.9194,  34.3927,2,  34.3925,2,     33.6,2,  4.8588,     36.6,3,  -999.00,9,  -999.00,9,  -999.00,9,  -999.0,-999.000
     33KB197_1,  PRS2,     1,  1,      3,   8003,2,20071130,2312, 21.3453,-158.2723, 1503,    800,    800.7,   4.7473,  34.4244,2,  34.4235,2,     36.5,2,  4.6834,     36.5,2,  -999.00,9,  -999.00,9,  -999.00,9,  -999.0,-999.000
     33KB197_1,  PRS2,     1,  1,      2,   8002,2,20071130,2312, 21.3453,-158.2723, 1503,    900,    898.5,   4.3730,  34.4705,2,  34.4697,2,     41.3,2,  4.3031,     41.5,2,  -999.00,9,  -999.00,9,  -999.00,9,  -999.0,-999.000
     33KB197_1,  PRS2,     1,  1,      1,   8001,2,20071130,2312, 21.3453,-158.2723, 1503,   1020,   1020.0,   4.0774,  34.4951,2,  34.4946,2,     46.1,2,  3.9995,     46.4,2,  -999.00,9,  -999.00,9,  -999.00,9,  -999.0,-999.000
     33KB197_1,  PRS2,     2,  1,     24,   8024,2,20071201,1010, 22.7445,-158.0402, 4759,      7,      7.0,  25.0353,  35.0145,2,-999.0000,9,    207.7,1, 25.0338,   -999.0,9,  -999.00,9,  -999.00,9,  -999.00,9,  -999.0,-999.000
     33KB197_1,  PRS2,     2,  1,     21,   8021,2,20071201,1010, 22.7445,-158.0402, 4759,     12,     11.8,  25.0375,  35.0144,2,-999.0000,9,    207.7,1, 25.0349,   -999.0,9,  -999.00,9,  -999.00,9,  -999.00,9,  -999.0,-999.000
     33KB197_1,  PRS2,     2,  1,     22,   8022,2,20071201,1010, 22.7445,-158.0402, 4759,     13,     11.9,  25.0373,  35.0144,2,-999.0000,9,    207.7,1, 25.0347,   -999.0,9,  -999.00,9,  -999.00,9,  -999.00,9,  -999.0,-999.000
     33KB197_1,  PRS2,     2,  1,     20,   8020,2,20071201,1010, 22.7445,-158.0402, 4759,     12,     12.0,  25.0364,  35.0142,2,-999.0000,9,    207.7,1, 25.0338,   -999.0,9,  -999.00,9,  -999.00,9,  -999.00,9,  -999.0,-999.000
     33KB197_1,  PRS2,     2,  1,     23,   8023,2,20071201,1010, 22.7445,-158.0402, 4759,     13,     12.2,  25.0371,  35.0143,2,-999.0000,9,    207.7,1, 25.0344,   -999.0,9,  -999.00,9,  -999.00,9,  -999.00,9,  -999.0,-999.000
     33KB197_1,  PRS2,     2,  1,     16,   8016,2,20071201,1010, 22.7445,-158.0402, 4759,     25,     25.3,  25.0400,  35.0216,2,-999.0000,9,    207.3,1, 25.0345,   -999.0,9,  -999.00,9,  -999.00,9,  -999.00,9,  -999.0,-999.000
     33KB197_1,  PRS2,     2,  1,     19,   8019,2,20071201,1010, 22.7445,-158.0402, 4759,     25,     25.4,  25.0394,  35.0238,2,-999.0000,9,    207.5,1, 25.0339,   -999.0,9,  -999.00,9,  -999.00,9,  -999.00,9,  -999.0,-999.000
     33KB197_1,  PRS2,     2,  1,     15,   8015,2,20071201,1010, 22.7445,-158.0402, 4759,     25,     25.4,  25.0402,  35.0217,2,-999.0000,9,    207.4,1, 25.0347,   -999.0,9,  -999.00,9,  -999.00,9,  -999.00,9,  -999.0,-999.000
     33KB197_1,  PRS2,     2,  1,     18,   8018,2,20071201,1010, 22.7445,-158.0402, 4759,     24,     25.5,  25.0394,  35.0239,2,-999.0000,9,    207.4,1, 25.0339,   -999.0,9,  -999.00,9,  -999.00,9,  -999.00,9,  -999.0,-999.000
     33KB197_1,  PRS2,     2,  1,     17,   8017,2,20071201,1010, 22.7445,-158.0402, 4759,     26,     25.5,  25.0395,  35.0238,2,-999.0000,9,    207.3,1, 25.0339,   -999.0,9,  -999.00,9,  -999.00,9,  -999.00,9,  -999.0,-999.000
     33KB197_1,  PRS2,     2,  1,     14,   8014,2,20071201,1010, 22.7445,-158.0402, 4759,     26,     25.8,  25.0405,  35.0211,2,-999.0000,9,    207.4,1, 25.0349,   -999.0,9,  -999.00,9,  -999.00,9,  -999.00,9,  -999.0,-999.000
     33KB197_1,  PRS2,     2,  1,     11,   8011,2,20071201,1010, 22.7445,-158.0402, 4759,     47,     45.3,  25.0314,  35.0795,2,-999.0000,9,    207.7,1, 25.0215,   -999.0,9,  -999.00,9,  -999.00,9,  -999.00,9,  -999.0,-999.000
     33KB197_1,  PRS2,     2,  1,     13,   8025,2,20071201,1010, 22.7445,-158.0402, 4759,     45,     45.4,  25.0310,  35.0795,2,-999.0000,9,    207.7,1, 25.0212,   -999.0,9,  -999.00,9,  -999.00,9,  -999.00,9,  -999.0,-999.000
     33KB197_1,  PRS2,     2,  1,     12,   8012,2,20071201,1010, 22.7445,-158.0402, 4759,     46,     45.4,  25.0312,  35.0793,2,-999.0000,9,    207.8,1, 25.0214,   -999.0,9,  -999.00,9,  -999.00,9,  -999.00,9,  -999.0,-999.000
     33KB197_1,  PRS2,     2,  1,      8,   8008,2,20071201,1010, 22.7445,-158.0402, 4759,     45,     45.4,  25.0314,  35.0791,2,-999.0000,9,    207.6,1, 25.0215,   -999.0,9,  -999.00,9,  -999.00,9,  -999.00,9,  -999.0,-999.000
     33KB197_1,  PRS2,     2,  1,      7,   8026,2,20071201,1010, 22.7445,-158.0402, 4759,     45,     45.4,  25.0314,  35.0791,2,-999.0000,9,    207.5,1, 25.0216,   -999.0,9,  -999.00,9,  -999.00,9,  -999.00,9,  -999.0,-999.000
     33KB197_1,  PRS2,     2,  1,      6,   8006,2,20071201,1010, 22.7445,-158.0402, 4759,     44,     45.4,  25.0312,  35.0792,2,-999.0000,9,    207.4,1, 25.0214,   -999.0,9,  -999.00,9,  -999.00,9,  -999.00,9,  -999.0,-999.000
     33KB197_1,  PRS2,     2,  1,      9,   8009,2,20071201,1010, 22.7445,-158.0402, 4759,     46,     45.6,  25.0311,  35.0793,2,-999.0000,9,    207.6,1, 25.0213,   -999.0,9,  -999.00,9,  -999.00,9,  -999.00,9,  -999.0,-999.000
     33KB197_1,  PRS2,     2,  1,     10,   8010,2,20071201,1010, 22.7445,-158.0402, 4759,     48,     45.8,  25.0313,  35.0796,2,-999.0000,9,    207.7,1, 25.0214,   -999.0,9,  -999.00,9,  -999.00,9,  -999.00,9,  -999.0,-999.000
     33KB197_1,  PRS2,     2,  1,      5,   8005,2,20071201,1010, 22.7445,-158.0402, 4759,     77,     75.1,  25.0176,  35.1214,2,-999.0000,9,    207.9,1, 25.0013,   -999.0,9,  -999.00,9,  -999.00,9,  -999.00,9,  -999.0,-999.000
     33KB197_1,  PRS2,     2,  1,      4,   8004,2,20071201,1010, 22.7445,-158.0402, 4759,     99,    100.1,  22.8186,  34.9318,2,-999.0000,9,    208.1,1, 22.7983,   -999.0,9,  -999.00,9,  -999.00,9,  -999.00,9,  -999.0,-999.000
     33KB197_1,  PRS2,     2,  1,      3,   8003,2,20071201,1010, 22.7445,-158.0402, 4759,    125,    125.0,  20.6359,  34.8278,2,-999.0000,9,    184.7,1, 20.6123,   -999.0,9,  -999.00,9,  -999.00,9,  -999.00,9,  -999.0,-999.000
     33KB197_1,  PRS2,     2,  1,      2,   8002,2,20071201,1010, 22.7445,-158.0402, 4759,    151,    151.2,  20.1227,  35.0359,2,-999.0000,9,    191.8,1, 20.0946,   -999.0,9,  -999.00,9,  -999.00,9,  -999.00,9,  -999.0,-999.000
     33KB197_1,  PRS2,     2,  1,      1,   8001,2,20071201,1010, 22.7445,-158.0402, 4759,    175,    175.5,  19.2806,  34.9402,2,-999.0000,9,    189.4,1, 19.2489,   -999.0,9,  -999.00,9,  -999.00,9,  -999.00,9,  -999.0,-999.000
     33KB197_1,  PRS2,     2,  2,     19,   8019,2,20071201,1150, 22.7498,-157.9998, 4747,      8,      8.6,  25.0131,  35.0403,2,  35.0386,2,    208.1,1, 25.0112,   -999.0,9,  -999.00,9,  -999.00,9,  -999.00,9,  -999.0,-999.000
     33KB197_1,  PRS2,     2,  2,     20,   8020,2,20071201,1150, 22.7498,-157.9998, 4747,      7,      8.8,  25.0134,  35.0403,2,  35.0390,2,    208.0,1, 25.0115,   -999.0,9,  -999.00,9,  -999.00,9,  -999.00,9,  -999.0,-999.000
     33KB197_1,  PRS2,     2,  2,     18,   8018,2,20071201,1150, 22.7498,-157.9998, 4747,     10,      9.4,  25.0129,  35.0400,2,  35.0392,2,    208.0,1, 25.0109,   -999.0,9,  -999.00,9,  -999.00,9,  -999.00,9,  -999.0,-999.000
     33KB197_1,  PRS2,     2,  2,     17,   8017,2,20071201,1150, 22.7498,-157.9998, 4747,     24,     24.7,  25.0266,  35.0738,2,  35.0734,2,    207.7,1, 25.0212,   -999.0,9,  -999.00,9,  -999.00,9,  -999.00,9,  -999.0,-999.000
     33KB197_1,  PRS2,     2,  2,     16,   8016,2,20071201,1150, 22.7498,-157.9998, 4747,     25,     24.8,  25.0260,  35.0745,2,  35.0742,2,    207.7,1, 25.0207,   -999.0,9,  -999.00,9,  -999.00,9,  -999.00,9,  -999.0,-999.000
     33KB197_1,  PRS2,     2,  2,     15,   8015,2,20071201,1150, 22.7498,-157.9998, 4747,     25,     25.0,  25.0260,  35.0748,2,  35.0740,2,    207.7,1, 25.0205,   -999.0,9,  -999.00,9,  -999.00,9,  -999.00,9,  -999.0,-999.000
     33KB197_1,  PRS2,     2,  2,     14,   8014,2,20071201,1150, 22.7498,-157.9998, 4747,     44,     44.9,  25.0225,  35.0912,2,  35.0915,2,    208.0,1, 25.0128,   -999.0,9,  -999.00,9,  -999.00,9,  -999.00,9,  -999.0,-999.000
     33KB197_1,  PRS2,     2,  2,     13,   8025,2,20071201,1150, 22.7498,-157.9998, 4747,     45,     45.0,  25.0220,  35.0912,2,  35.0947,2,    208.0,1, 25.0123,   -999.0,9,  -999.00,9,  -999.00,9,  -999.00,9,  -999.0,-999.000
     33KB197_1,  PRS2,     2,  2,     12,   8012,2,20071201,1150, 22.7498,-157.9998, 4747,     45,     45.0,  25.0233,  35.0910,2,  35.0911,2,    208.0,1, 25.0135,   -999.0,9,  -999.00,9,  -999.00,9,  -999.00,9,  -999.0,-999.000
     33KB197_1,  PRS2,     2,  2,     10,   8010,2,20071201,1150, 22.7498,-157.9998, 4747,     76,     74.8,  24.3707,  35.0917,2,  35.0927,2,    211.7,1, 24.3548,   -999.0,9,  -999.00,9,  -999.00,9,  -999.00,9,  -999.0,-999.000
     33KB197_1,  PRS2,     2,  2,     11,   8011,2,20071201,1150, 22.7498,-157.9998, 4747,     73,     74.9,  24.3776,  35.0922,2,  35.0943,2,    211.3,1, 24.3617,   -999.0,9,  -999.00,9,  -999.00,9,  -999.00,9,  -999.0,-999.000
     33KB197_1,  PRS2,     2,  2,      9,   8009,2,20071201,1150, 22.7498,-157.9998, 4747,     75,     75.1,  24.3508,  35.0912,2,  35.0935,2,    212.0,1, 24.3348,   -999.0,9,  -999.00,9,  -999.00,9,  -999.00,9,  -999.0,-999.000
     33KB197_1,  PRS2,     2,  2,      8,   8008,2,20071201,1150, 22.7498,-157.9998, 4747,    101,     99.4,  22.1708,  35.0068,2,  35.0018,2,    207.3,1, 22.1510,   -999.0,9,  -999.00,9,  -999.00,9,  -999.00,9,  -999.0,-999.000
     33KB197_1,  PRS2,     2,  2,      6,   8006,2,20071201,1150, 22.7498,-157.9998, 4747,    101,     99.6,  22.1783,  35.0046,2,  34.9998,2,    204.4,1, 22.1585,   -999.0,9,  -999.00,9,  -999.00,9,  -999.00,9,  -999.0,-999.000
     33KB197_1,  PRS2,     2,  2,      7,   8026,2,20071201,1150, 22.7498,-157.9998, 4747,     99,    100.0,  22.1426,  35.0109,2,  34.9990,2,    205.9,1, 22.1228,   -999.0,9,  -999.00,9,  -999.00,9,  -999.00,9,  -999.0,-999.000
     33KB197_1,  PRS2,     2,  2,      4,   8004,2,20071201,1150, 22.7498,-157.9998, 4747,    126,    126.2,  20.7539,  34.9423,2,  34.9416,2,    189.5,1, 20.7300,   -999.0,9,  -999.00,9,  -999.00,9,  -999.00,9,  -999.0,-999.000
     33KB197_1,  PRS2,     2,  2,      3,   8003,2,20071201,1150, 22.7498,-157.9998, 4747,    125,    126.2,  20.7493,  34.9398,2,  34.9408,2,    189.5,1, 20.7254,   -999.0,9,  -999.00,9,  -999.00,9,  -999.00,9,  -999.0,-999.000
     33KB197_1,  PRS2,     2,  2,      5,   8005,2,20071201,1150, 22.7498,-157.9998, 4747,    127,    126.3,  20.7554,  34.9413,2,  34.9423,2,    189.5,1, 20.7314,   -999.0,9,  -999.00,9,  -999.00,9,  -999.00,9,  -999.0,-999.000
     33KB197_1,  PRS2,     2,  2,      2,   8002,2,20071201,1150, 22.7498,-157.9998, 4747,    482,    481.2,   7.3960,  34.0956,2,  34.0954,2,    107.2,1,  7.3492,   -999.0,9,  -999.00,9,  -999.00,9,  -999.00,9,  -999.0,-999.000
     33KB197_1,  PRS2,     2,  2,      1,   8001,2,20071201,1150, 22.7498,-157.9998, 4747,   1019,   1019.6,   3.9373,  34.4864,2,  34.4860,2,     41.9,1,  3.8605,   -999.0,9,  -999.00,9,  -999.00,9,  -999.00,9,  -999.0,-999.000