BOTTLE,20090923WHPSIOMYS
EXPOCODE,SECT_ID,STNNBR,CASTNO,SAMPNO,BTLNBR,BTLNBR_FLAG_W,DATE,TIME,LATITUDE,LONGITUDE,DEPTH,CTDRAW,CTDPRS,CTDTMP,CTDSAL,CTDSAL_FLAG_W,SALNTY,SALNTY_FLAG_W,CTDOXY,CTDOXY_FLAG_W,THETA,OXYGEN,OXYGEN_FLAG_W,SILCAT,SILCAT_FLAG_W,NO2+NO3,NO2+NO3_FLAG_W,PHSPHT,PHSPHT_FLAG_W,REVPRS,REVTMP
,,,,,,,,,,,,,DBAR,ITS-90,PSS-78,,PSS-78,,UMOL/KG,,ITS-90,UMOL/KG,,UMOL/KG,,UMOL/KG,,UMOL/KG,,DBAR,DEG C
     33KB197_1,  PRS2,     2, 12,     23,   8023,2,20071202,2047, 22.7940,-157.9235, 4700,      7,      6.9,  25.1453,  34.9983,2,  35.0008,2,    206.9,1, 25.1438,   -999.0,9,  -999.00,9,  -999.00,9,  -999.00,9,  -999.0,-999.000
     33KB197_1,  PRS2,     2, 12,     22,   8022,2,20071202,2047, 22.7940,-157.9235, 4700,     25,     25.1,  25.1422,  35.0160,2,  35.0144,2,    206.8,1, 25.1368,   -999.0,9,  -999.00,9,  -999.00,9,  -999.00,9,  -999.0,-999.000
     33KB197_1,  PRS2,     2, 12,     21,   8021,2,20071202,2047, 22.7940,-157.9235, 4700,     46,     45.0,  25.1073,  35.0778,2,  35.0774,2,    206.5,1, 25.0975,   -999.0,9,  -999.00,9,  -999.00,9,  -999.00,9,  -999.0,-999.000
     33KB197_1,  PRS2,     2, 12,     20,   8020,2,20071202,2047, 22.7940,-157.9235, 4700,     60,     60.9,  25.0974,  35.0857,2,  35.0856,2,    207.3,1, 25.0841,   -999.0,9,  -999.00,9,  -999.00,9,  -999.00,9,  -999.0,-999.000
     33KB197_1,  PRS2,     2, 12,     19,   8019,2,20071202,2047, 22.7940,-157.9235, 4700,     76,     75.6,  24.9642,  35.1029,2,  35.1026,2,    208.2,1, 24.9478,   -999.0,9,  -999.00,9,  -999.00,9,  -999.00,9,  -999.0,-999.000
     33KB197_1,  PRS2,     2, 12,     18,   8018,2,20071202,2047, 22.7940,-157.9235, 4700,     86,     84.0,  24.6718,  35.1207,2,  35.1236,2,    211.0,1, 24.6538,   -999.0,9,  -999.00,9,  -999.00,9,  -999.00,9,  -999.0,-999.000
     33KB197_1,  PRS2,     2, 12,     17,   8017,2,20071202,2047, 22.7940,-157.9235, 4700,    100,    100.2,  22.4846,  35.0958,2,  35.0907,2,    212.6,1, 22.4645,   -999.0,9,  -999.00,9,  -999.00,9,  -999.00,9,  -999.0,-999.000
     33KB197_1,  PRS2,     2, 12,     16,   8016,2,20071202,2047, 22.7940,-157.9235, 4700,    113,    113.8,  21.6489,  35.0182,2,  35.0181,2,    202.2,1, 21.6266,   -999.0,9,  -999.00,9,  -999.00,9,  -999.00,9,  -999.0,-999.000
     33KB197_1,  PRS2,     2, 12,     14,   8014,2,20071202,2047, 22.7940,-157.9235, 4700,    127,    126.6,  21.5012,  35.0269,2,-999.0000,5,    201.2,1, 21.4766,   -999.0,9,  -999.00,9,  -999.00,9,  -999.00,9,  -999.0,-999.000
     33KB197_1,  PRS2,     2, 12,     15,   8015,2,20071202,2047, 22.7940,-157.9235, 4700,    127,    126.7,  21.5055,  35.0244,2,-999.0000,5,    201.2,1, 21.4809,   -999.0,9,  -999.00,9,  -999.00,9,  -999.00,9,  -999.0,-999.000
     33KB197_1,  PRS2,     2, 12,     13,   8025,2,20071202,2047, 22.7940,-157.9235, 4700,    126,    126.7,  21.5341,  35.0267,2,  35.0403,3,    201.1,1, 21.5095,   -999.0,9,  -999.00,9,  -999.00,9,  -999.00,9,  -999.0,-999.000
     33KB197_1,  PRS2,     2, 12,     12,   8012,2,20071202,2047, 22.7940,-157.9235, 4700,    146,    148.8,  20.1814,  34.9748,2,  34.9774,2,    189.7,1, 20.1537,   -999.0,9,  -999.00,9,  -999.00,9,  -999.00,9,  -999.0,-999.000
     33KB197_1,  PRS2,     2, 12,     11,   8011,2,20071202,2047, 22.7940,-157.9235, 4700,    175,    174.7,  18.7166,  34.8235,2,  34.8285,2,    182.8,1, 18.6858,   -999.0,9,  -999.00,9,  -999.00,9,  -999.00,9,  -999.0,-999.000
     33KB197_1,  PRS2,     2, 12,     10,   8010,2,20071202,2047, 22.7940,-157.9235, 4700,    201,    200.4,  16.7818,  34.5995,2,  34.6089,2,    180.7,1, 16.7491,   -999.0,9,  -999.00,9,  -999.00,9,  -999.00,9,  -999.0,-999.000
     33KB197_1,  PRS2,     2, 12,      9,   8009,2,20071202,2047, 22.7940,-157.9235, 4700,    225,    224.7,  15.1012,  34.3935,2,  34.3943,2,    177.9,1, 15.0671,   -999.0,9,  -999.00,9,  -999.00,9,  -999.00,9,  -999.0,-999.000
     33KB197_1,  PRS2,     2, 12,      8,   8008,2,20071202,2047, 22.7940,-157.9235, 4700,    251,    250.6,  13.5899,  34.2440,2,  34.2460,2,    175.5,1, 13.5546,   -999.0,9,  -999.00,9,  -999.00,9,  -999.00,9,  -999.0,-999.000
     33KB197_1,  PRS2,     2, 12,      7,   8026,2,20071202,2047, 22.7940,-157.9235, 4700,    450,    450.7,   7.8596,  34.0957,2,  34.0972,2,    121.5,1,  7.8143,   -999.0,9,  -999.00,9,  -999.00,9,  -999.00,9,  -999.0,-999.000
     33KB197_1,  PRS2,     2, 12,      3,   8003,2,20071202,2047, 22.7940,-157.9235, 4700,    501,    501.5,   6.8702,  34.1006,2,-999.0000,5,     89.7,1,  6.8234,   -999.0,9,  -999.00,9,  -999.00,9,  -999.00,9,  -999.0,-999.000
     33KB197_1,  PRS2,     2, 12,      2,   8002,2,20071202,2047, 22.7940,-157.9235, 4700,    502,    501.5,   6.8689,  34.1009,2,-999.0000,5,     89.0,1,  6.8221,   -999.0,9,  -999.00,9,  -999.00,9,  -999.00,9,  -999.0,-999.000
     33KB197_1,  PRS2,     2, 12,      4,   8004,2,20071202,2047, 22.7940,-157.9235, 4700,    503,    501.7,   6.8710,  34.1003,2,-999.0000,5,     90.4,1,  6.8242,   -999.0,9,  -999.00,9,  -999.00,9,  -999.00,9,  -999.0,-999.000
     33KB197_1,  PRS2,     2, 12,      6,   8006,2,20071202,2047, 22.7940,-157.9235, 4700,    502,    501.8,   6.8720,  34.1004,2,-999.0000,5,     91.3,1,  6.8251,   -999.0,9,  -999.00,9,  -999.00,9,  -999.00,9,  -999.0,-999.000
     33KB197_1,  PRS2,     2, 12,      5,   8005,2,20071202,2047, 22.7940,-157.9235, 4700,    502,    501.8,   6.8720,  34.1005,2,-999.0000,5,     90.9,1,  6.8252,   -999.0,9,  -999.00,9,  -999.00,9,  -999.00,9,  -999.0,-999.000
     33KB197_1,  PRS2,     2, 12,      1,   8001,2,20071202,2047, 22.7940,-157.9235, 4700,   1021,   1020.8,   3.9397,  34.4922,2,  34.4930,2,     44.1,1,  3.8628,   -999.0,9,  -999.00,9,  -999.00,9,  -999.00,9,  -999.0,-999.000
     33KB197_1,  PRS2,     2, 13,     24,   8024,2,20071203,0038, 22.7985,-157.9482, 4706,      5,      5.9,  25.1191,  35.0178,2,-999.0000,5,    207.3,1, 25.1178,   -999.0,9,  -999.00,9,  -999.00,9,  -999.00,9,  -999.0,-999.000
     33KB197_1,  PRS2,     2, 13,     23,   8023,2,20071203,0038, 22.7985,-157.9482, 4706,     26,     26.0,  25.0803,  35.0758,2,  35.0756,2,    207.0,1, 25.0747,   -999.0,9,  -999.00,9,  -999.00,9,  -999.00,9,  -999.0,-999.000
     33KB197_1,  PRS2,     2, 13,     22,   8022,2,20071203,0038, 22.7985,-157.9482, 4706,     49,     48.4,  25.0684,  35.0763,2,  35.0768,2,    206.7,1, 25.0579,   -999.0,9,  -999.00,9,  -999.00,9,  -999.00,9,  -999.0,-999.000
     33KB197_1,  PRS2,     2, 13,     21,   8021,2,20071203,0038, 22.7985,-157.9482, 4706,     75,     75.4,  24.2841,  35.1628,2,  35.1569,2,    216.7,1, 24.2681,   -999.0,9,  -999.00,9,  -999.00,9,  -999.00,9,  -999.0,-999.000
     33KB197_1,  PRS2,     2, 13,     19,   8019,2,20071203,0038, 22.7985,-157.9482, 4706,    102,    100.9,  21.5669,  35.0245,2,  35.0256,2,    200.6,1, 21.5473,   -999.0,9,  -999.00,9,  -999.00,9,  -999.00,9,  -999.0,-999.000
     33KB197_1,  PRS2,     2, 13,     20,   8020,2,20071203,0038, 22.7985,-157.9482, 4706,    102,    101.1,  21.5673,  35.0243,2,-999.0000,5,    201.1,1, 21.5476,   -999.0,9,  -999.00,9,  -999.00,9,  -999.00,9,  -999.0,-999.000
     33KB197_1,  PRS2,     2, 13,     18,   8018,2,20071203,0038, 22.7985,-157.9482, 4706,    127,    127.3,  20.6132,  35.0467,2,-999.0000,5,    194.8,1, 20.5892,   -999.0,9,  -999.00,9,  -999.00,9,  -999.00,9,  -999.0,-999.000
     33KB197_1,  PRS2,     2, 13,     17,   8017,2,20071203,0038, 22.7985,-157.9482, 4706,    127,    127.3,  20.6216,  35.0467,2,  35.0478,2,    194.9,1, 20.5976,   -999.0,9,  -999.00,9,  -999.00,9,  -999.00,9,  -999.0,-999.000
     33KB197_1,  PRS2,     2, 13,     15,   8015,2,20071203,0038, 22.7985,-157.9482, 4706,    151,    150.9,  19.4925,  34.9306,2,  34.9351,2,    185.6,1, 19.4651,   -999.0,9,  -999.00,9,  -999.00,9,  -999.00,9,  -999.0,-999.000
     33KB197_1,  PRS2,     2, 13,     16,   8016,2,20071203,0038, 22.7985,-157.9482, 4706,    153,    151.3,  19.4896,  34.9299,2,-999.0000,5,    185.6,1, 19.4622,   -999.0,9,  -999.00,9,  -999.00,9,  -999.00,9,  -999.0,-999.000
     33KB197_1,  PRS2,     2, 13,     14,   8014,2,20071203,0038, 22.7985,-157.9482, 4706,    199,    199.9,  16.4955,  34.5676,2,-999.0000,5,    180.0,1, 16.4633,   -999.0,9,  -999.00,9,  -999.00,9,  -999.00,9,  -999.0,-999.000
     33KB197_1,  PRS2,     2, 13,     13,   8025,2,20071203,0038, 22.7985,-157.9482, 4706,    198,    200.0,  16.4829,  34.5668,2,-999.0000,5,    180.1,1, 16.4507,   -999.0,9,  -999.00,9,  -999.00,9,  -999.00,9,  -999.0,-999.000
     33KB197_1,  PRS2,     2, 13,     12,   8012,2,20071203,0038, 22.7985,-157.9482, 4706,    250,    250.6,  14.1760,  34.3081,2,  34.3080,2,    177.6,1, 14.1396,   -999.0,9,  -999.00,9,  -999.00,9,  -999.00,9,  -999.0,-999.000
     33KB197_1,  PRS2,     2, 13,     10,   8010,2,20071203,0038, 22.7985,-157.9482, 4706,    300,    300.3,  11.4617,  34.1490,2,-999.0000,5,    163.4,1, 11.4238,   -999.0,9,  -999.00,9,  -999.00,9,  -999.00,9,  -999.0,-999.000
     33KB197_1,  PRS2,     2, 13,     11,   8011,2,20071203,0038, 22.7985,-157.9482, 4706,    298,    300.4,  11.4566,  34.1490,2,-999.0000,5,    163.3,1, 11.4188,   -999.0,9,  -999.00,9,  -999.00,9,  -999.00,9,  -999.0,-999.000
     33KB197_1,  PRS2,     2, 13,      9,   8009,2,20071203,0038, 22.7985,-157.9482, 4706,    350,    350.6,  10.1678,  34.1409,2,  34.1399,2,    162.1,1, 10.1268,   -999.0,9,  -999.00,9,  -999.00,9,  -999.00,9,  -999.0,-999.000
     33KB197_1,  PRS2,     2, 13,      5,   8005,2,20071203,0038, 22.7985,-157.9482, 4706,    481,    481.8,   7.8023,  34.0952,2,  34.0964,2,    100.8,1,  7.7540,   -999.0,9,  -999.00,9,  -999.00,9,  -999.00,9,  -999.0,-999.000
     33KB197_1,  PRS2,     2, 13,      6,   8006,2,20071203,0038, 22.7985,-157.9482, 4706,    503,    500.0,   7.2984,  34.0962,2,-999.0000,5,    100.6,1,  7.2502,   -999.0,9,  -999.00,9,  -999.00,9,  -999.00,9,  -999.0,-999.000
     33KB197_1,  PRS2,     2, 13,      7,   8026,2,20071203,0038, 22.7985,-157.9482, 4706,    500,    500.1,   7.3006,  34.0947,2,-999.0000,5,    100.5,1,  7.2523,   -999.0,9,  -999.00,9,  -999.00,9,  -999.00,9,  -999.0,-999.000
     33KB197_1,  PRS2,     2, 13,      8,   8008,2,20071203,0038, 22.7985,-157.9482, 4706,    500,    500.3,   7.2926,  34.0949,2,-999.0000,5,    100.5,1,  7.2443,   -999.0,9,  -999.00,9,  -999.00,9,  -999.00,9,  -999.0,-999.000
     33KB197_1,  PRS2,     2, 13,      4,   8004,2,20071203,0038, 22.7985,-157.9482, 4706,    773,    769.9,   4.8475,  34.3278,2,-999.0000,5,     29.0,1,  4.7858,   -999.0,9,  -999.00,9,  -999.00,9,  -999.00,9,  -999.0,-999.000
     33KB197_1,  PRS2,     2, 13,      1,   8001,2,20071203,0038, 22.7985,-157.9482, 4706,   1015,   1017.6,   3.9479,  34.4877,2,  34.4858,2,     43.8,1,  3.8712,   -999.0,9,  -999.00,9,  -999.00,9,  -999.00,9,  -999.0,-999.000
     33KB197_1,  PRS2,     2, 13,      3,   8003,2,20071203,0038, 22.7985,-157.9482, 4706,   1017,   1018.6,   3.9479,  34.4870,2,-999.0000,5,     43.8,1,  3.8711,   -999.0,9,  -999.00,9,  -999.00,9,  -999.00,9,  -999.0,-999.000
     33KB197_1,  PRS2,     2, 13,      2,   8002,2,20071203,0038, 22.7985,-157.9482, 4706,   1017,   1018.7,   3.9480,  34.4868,2,-999.0000,5,     43.8,1,  3.8712,   -999.0,9,  -999.00,9,  -999.00,9,  -999.00,9,  -999.0,-999.000
     33KB197_1,  PRS2,     2, 14,     23,   8023,2,20071203,0328, 22.8080,-157.9563, 4702,      7,      6.6,  25.1219,  35.0212,2,  35.0203,2,    206.4,1, 25.1205,   -999.0,9,  -999.00,9,  -999.00,9,  -999.00,9,  -999.0,-999.000
     33KB197_1,  PRS2,     2, 14,     24,   8024,2,20071203,0328, 22.8080,-157.9563, 4702,      7,      6.8,  25.1233,  35.0207,2,-999.0000,5,    207.1,1, 25.1218,   -999.0,9,  -999.00,9,  -999.00,9,  -999.00,9,  -999.0,-999.000
     33KB197_1,  PRS2,     2, 14,     22,   8022,2,20071203,0328, 22.8080,-157.9563, 4702,     14,     15.5,  25.1221,  35.0199,2,-999.0000,5,    206.5,1, 25.1188,   -999.0,9,  -999.00,9,  -999.00,9,  -999.00,9,  -999.0,-999.000
     33KB197_1,  PRS2,     2, 14,     21,   8021,2,20071203,0328, 22.8080,-157.9563, 4702,     27,     26.6,  25.1228,  35.0232,2,-999.0000,5,    206.6,1, 25.1171,   -999.0,9,  -999.00,9,  -999.00,9,  -999.00,9,  -999.0,-999.000
     33KB197_1,  PRS2,     2, 14,     20,   8020,2,20071203,0328, 22.8080,-157.9563, 4702,     27,     27.0,  25.1229,  35.0235,2,  35.0211,2,    206.7,1, 25.1170,   -999.0,9,  -999.00,9,  -999.00,9,  -999.00,9,  -999.0,-999.000
     33KB197_1,  PRS2,     2, 14,     18,   8018,2,20071203,0328, 22.8080,-157.9563, 4702,     37,     35.0,  25.1124,  35.0372,2,  35.0368,2,    207.0,1, 25.1048,   -999.0,9,  -999.00,9,  -999.00,9,  -999.00,9,  -999.0,-999.000
     33KB197_1,  PRS2,     2, 14,     19,   8019,2,20071203,0328, 22.8080,-157.9563, 4702,     36,     35.2,  25.1139,  35.0351,2,  35.0342,2,    207.0,1, 25.1062,   -999.0,9,  -999.00,9,  -999.00,9,  -999.00,9,  -999.0,-999.000
     33KB197_1,  PRS2,     2, 14,     17,   8017,2,20071203,0328, 22.8080,-157.9563, 4702,     47,     44.9,  25.0756,  35.0726,2,-999.0000,5,    207.6,1, 25.0658,   -999.0,9,  -999.00,9,  -999.00,9,  -999.00,9,  -999.0,-999.000
     33KB197_1,  PRS2,     2, 14,     16,   8016,2,20071203,0328, 22.8080,-157.9563, 4702,     48,     45.1,  25.0755,  35.0726,2,  35.0740,2,    207.6,1, 25.0657,   -999.0,9,  -999.00,9,  -999.00,9,  -999.00,9,  -999.0,-999.000
     33KB197_1,  PRS2,     2, 14,     15,   8015,2,20071203,0328, 22.8080,-157.9563, 4702,     46,     45.1,  25.0755,  35.0726,2,  35.0746,2,    207.6,1, 25.0657,   -999.0,9,  -999.00,9,  -999.00,9,  -999.00,9,  -999.0,-999.000
     33KB197_1,  PRS2,     2, 14,     14,   8014,2,20071203,0328, 22.8080,-157.9563, 4702,     59,     59.8,  25.0478,  35.0950,2,  35.0722,4,    207.5,1, 25.0348,   -999.0,9,  -999.00,9,  -999.00,9,  -999.00,9,  -999.0,-999.000
     33KB197_1,  PRS2,     2, 14,     12,   8012,2,20071203,0328, 22.8080,-157.9563, 4702,     77,     74.3,  24.8032,  35.1430,2,-999.0000,5,    210.3,1, 24.7872,   -999.0,9,  -999.00,9,  -999.00,9,  -999.00,9,  -999.0,-999.000
     33KB197_1,  PRS2,     2, 14,     11,   8011,2,20071203,0328, 22.8080,-157.9563, 4702,     76,     74.6,  24.7760,  35.1453,2,  35.1433,2,    210.5,1, 24.7599,   -999.0,9,  -999.00,9,  -999.00,9,  -999.00,9,  -999.0,-999.000
     33KB197_1,  PRS2,     2, 14,     13,   8025,2,20071203,0328, 22.8080,-157.9563, 4702,     75,     74.7,  24.8332,  35.1425,2,  35.1412,2,    210.2,1, 24.8171,   -999.0,9,  -999.00,9,  -999.00,9,  -999.00,9,  -999.0,-999.000
     33KB197_1,  PRS2,     2, 14,     10,   8010,2,20071203,0328, 22.8080,-157.9563, 4702,    100,    100.5,  22.7547,  35.1098,2,-999.0000,5,    212.9,1, 22.7343,   -999.0,9,  -999.00,9,  -999.00,9,  -999.00,9,  -999.0,-999.000
     33KB197_1,  PRS2,     2, 14,      9,   8009,2,20071203,0328, 22.8080,-157.9563, 4702,    100,    100.5,  22.7755,  35.1107,2,  35.1181,2,    212.9,1, 22.7551,   -999.0,9,  -999.00,9,  -999.00,9,  -999.00,9,  -999.0,-999.000
     33KB197_1,  PRS2,     2, 14,      7,   8026,2,20071203,0328, 22.8080,-157.9563, 4702,    126,    125.9,  21.0925,  35.0693,2,  35.0766,2,    199.2,1, 21.0683,   -999.0,9,  -999.00,9,  -999.00,9,  -999.00,9,  -999.0,-999.000
     33KB197_1,  PRS2,     2, 14,      8,   8008,2,20071203,0328, 22.8080,-157.9563, 4702,    125,    126.0,  21.0293,  35.0743,2,-999.0000,5,    199.6,1, 21.0052,   -999.0,9,  -999.00,9,  -999.00,9,  -999.00,9,  -999.0,-999.000
     33KB197_1,  PRS2,     2, 14,      6,   8006,2,20071203,0328, 22.8080,-157.9563, 4702,    153,    152.4,  19.9741,  35.0158,2,-999.0000,5,    191.6,1, 19.9459,   -999.0,9,  -999.00,9,  -999.00,9,  -999.00,9,  -999.0,-999.000
     33KB197_1,  PRS2,     2, 14,      5,   8005,2,20071203,0328, 22.8080,-157.9563, 4702,    152,    152.5,  19.9718,  35.0151,2,  35.0157,2,    191.3,1, 19.9436,   -999.0,9,  -999.00,9,  -999.00,9,  -999.00,9,  -999.0,-999.000
     33KB197_1,  PRS2,     2, 14,      4,   8004,2,20071203,0328, 22.8080,-157.9563, 4702,    176,    175.9,  18.6321,  34.8389,2,-999.0000,5,    185.3,1, 18.6012,   -999.0,9,  -999.00,9,  -999.00,9,  -999.00,9,  -999.0,-999.000
     33KB197_1,  PRS2,     2, 14,      3,   8003,2,20071203,0328, 22.8080,-157.9563, 4702,    174,    176.0,  18.6278,  34.8386,2,  34.8406,2,    185.2,1, 18.5968,   -999.0,9,  -999.00,9,  -999.00,9,  -999.00,9,  -999.0,-999.000
     33KB197_1,  PRS2,     2, 14,      2,   8002,2,20071203,0328, 22.8080,-157.9563, 4702,    482,    480.7,   7.6271,  34.0954,2,  34.0960,2,    113.3,1,  7.5795,   -999.0,9,  -999.00,9,  -999.00,9,  -999.00,9,  -999.0,-999.000
     33KB197_1,  PRS2,     2, 14,      1,   8001,2,20071203,0328, 22.8080,-157.9563, 4702,   1020,   1018.6,   3.9496,  34.4877,2,  34.4903,2,     43.7,1,  3.8728,   -999.0,9,  -999.00,9,  -999.00,9,  -999.00,9,  -999.0,-999.000