BOTTLE,20090923WHPSIOMYS
EXPOCODE,SECT_ID,STNNBR,CASTNO,SAMPNO,BTLNBR,BTLNBR_FLAG_W,DATE,TIME,LATITUDE,LONGITUDE,DEPTH,CTDRAW,CTDPRS,CTDTMP,CTDSAL,CTDSAL_FLAG_W,SALNTY,SALNTY_FLAG_W,CTDOXY,CTDOXY_FLAG_W,THETA,OXYGEN,OXYGEN_FLAG_W,SILCAT,SILCAT_FLAG_W,NO2+NO3,NO2+NO3_FLAG_W,PHSPHT,PHSPHT_FLAG_W,REVPRS,REVTMP
,,,,,,,,,,,,,DBAR,ITS-90,PSS-78,,PSS-78,,UMOL/KG,,ITS-90,UMOL/KG,,UMOL/KG,,UMOL/KG,,UMOL/KG,,DBAR,DEG C
     33KB197_1,  PRS2,     2,  3,     23,   8023,2,20071201,1640, 22.7500,-157.9995, 4748,     15,     16.3,  25.0105,  35.0505,2,  35.0356,4,    207.5,3, 25.0070,    206.8,2,     0.94,2,     0.16,3,     0.06,2,  -999.0,-999.000
     33KB197_1,  PRS2,     2,  3,     22,   8022,2,20071201,1640, 22.7500,-157.9995, 4748,    455,    450.8,   7.9092,  34.0975,2,  34.0970,2,    122.9,2,  7.8638,    123.4,2,    39.37,2,    27.23,2,     1.94,2,  -999.0,-999.000
     33KB197_1,  PRS2,     2,  3,     21,   8021,2,20071201,1640, 22.7500,-157.9995, 4748,    752,    752.6,   4.8938,  34.3246,2,  34.3248,2,     29.0,2,  4.8333,     28.0,2,    89.55,2,    41.58,2,     3.01,2,  -999.0,-999.000
     33KB197_1,  PRS2,     2,  3,     20,   8020,2,20071201,1640, 22.7500,-157.9995, 4748,   1003,   1005.6,   3.9918,  34.4805,2,  34.4799,2,     40.8,2,  3.9157,     40.8,2,   109.19,2,    42.23,2,     3.02,2,  -999.0,-999.000
     33KB197_1,  PRS2,     2,  3,     19,   8019,2,20071201,1640, 22.7500,-157.9995, 4748,   1200,   1202.2,   3.5512,  34.5282,2,  34.5280,2,     49.8,2,  3.4625,     49.5,2,   118.89,2,    42.05,2,     3.00,2,  -999.0,-999.000
     33KB197_1,  PRS2,     2,  3,     18,   8018,2,20071201,1640, 22.7500,-157.9995, 4748,   1400,   1401.7,   3.0721,  34.5564,2,  34.5551,2,     58.9,2,  2.9717,     59.2,2,   128.58,2,    42.01,3,     2.96,2,  -999.0,-999.000
     33KB197_1,  PRS2,     2,  3,     17,   8017,2,20071201,1640, 22.7500,-157.9995, 4748,   1602,   1599.3,   2.6683,  34.5872,2,  34.5869,2,     70.5,2,  2.5561,     70.5,2,   137.91,2,    41.48,3,     2.91,2,  -999.0,-999.000
     33KB197_1,  PRS2,     2,  3,     16,   8016,2,20071201,1640, 22.7500,-157.9995, 4748,   1802,   1799.4,   2.3964,  34.6050,2,  34.6044,2,     79.2,2,  2.2711,     79.4,2,   143.61,2,    40.76,2,     2.87,2,  -999.0,-999.000
     33KB197_1,  PRS2,     2,  3,     15,   8015,2,20071201,1640, 22.7500,-157.9995, 4748,   2001,   2001.4,   2.1798,  34.6204,2,  34.6199,2,     87.2,2,  2.0405,     87.5,2,   148.36,2,    40.15,2,     2.82,2,  -999.0,-999.000
     33KB197_1,  PRS2,     2,  3,     14,   8014,2,20071201,1640, 22.7500,-157.9995, 4748,   2201,   2198.8,   1.9780,  34.6349,2,  34.6343,2,     96.3,2,  1.8249,     96.6,2,   152.29,2,    39.81,2,     2.77,2,  -999.0,-999.000
     33KB197_1,  PRS2,     2,  3,     13,   8025,2,20071201,1640, 22.7500,-157.9995, 4748,   2403,   2402.5,   1.8499,  34.6448,2,  34.6441,2,    103.1,2,  1.6812,    103.0,2,   154.61,2,    39.42,2,     2.73,2,  -999.0,-999.000
     33KB197_1,  PRS2,     2,  3,     12,   8012,2,20071201,1640, 22.7500,-157.9995, 4748,   2604,   2600.7,   1.7550,  34.6518,2,  34.6515,2,    108.5,2,  1.5702,    108.8,2,   156.99,2,    39.12,2,     2.71,2,  -999.0,-999.000
     33KB197_1,  PRS2,     2,  3,     11,   8011,2,20071201,1640, 22.7500,-157.9995, 4748,   2801,   2799.9,   1.6649,  34.6600,2,  34.6594,2,    115.2,2,  1.4635,    115.7,2,   157.71,2,    38.76,2,     2.67,2,  -999.0,-999.000
     33KB197_1,  PRS2,     2,  3,     10,   8010,2,20071201,1640, 22.7500,-157.9995, 4748,   3001,   2997.7,   1.6015,  34.6668,2,  34.6659,2,    122.2,2,  1.3827,    122.3,2,   156.91,2,    38.30,2,     2.64,2,  -999.0,-999.000
     33KB197_1,  PRS2,     2,  3,      9,   8009,2,20071201,1640, 22.7500,-157.9995, 4748,   3196,   3200.0,   1.5422,  34.6728,2,  34.6724,2,    128.4,2,  1.3052,    127.5,2,   157.38,2,    38.00,2,     2.61,2,  -999.0,-999.000
     33KB197_1,  PRS2,     2,  3,      8,   8008,2,20071201,1640, 22.7500,-157.9995, 4748,   3397,   3399.1,   1.5021,  34.6783,2,  34.6781,2,    134.5,2,  1.2462,    134.6,2,   155.55,2,    37.48,2,     2.57,2,  -999.0,-999.000
     33KB197_1,  PRS2,     2,  3,      7,   8026,2,20071201,1640, 22.7500,-157.9995, 4748,   3601,   3599.8,   1.4787,  34.6819,2,  34.6818,2,    139.5,2,  1.2028,    139.3,2,   154.43,2,    37.23,2,     2.55,2,  -999.0,-999.000
     33KB197_1,  PRS2,     2,  3,      6,   8006,2,20071201,1640, 22.7500,-157.9995, 4748,   3998,   3997.8,   1.4636,  34.6870,2,  34.6867,2,    147.3,2,  1.1459,    147.1,2,   151.86,2,    36.42,2,     2.51,2,  -999.0,-999.000
     33KB197_1,  PRS2,     2,  3,      5,   8005,2,20071201,1640, 22.7500,-157.9995, 4748,   4198,   4197.4,   1.4700,  34.6882,2,  34.6879,2,    149.3,2,  1.1302,    149.1,2,   150.33,2,    36.26,2,     2.49,2,  -999.0,-999.000
     33KB197_1,  PRS2,     2,  3,      4,   8004,2,20071201,1640, 22.7500,-157.9995, 4748,   4397,   4399.9,   1.4794,  34.6898,2,  34.6889,2,    151.9,2,  1.1165,    151.3,2,   149.27,2,    36.40,3,     2.49,2,  -999.0,-999.000
     33KB197_1,  PRS2,     2,  3,      3,   8003,2,20071201,1640, 22.7500,-157.9995, 4748,   4499,   4498.6,   1.4838,  34.6901,2,  34.6901,2,    152.7,2,  1.1094,    152.7,2,   148.18,2,    36.13,2,     2.47,2,  -999.0,-999.000
     33KB197_1,  PRS2,     2,  3,      2,   8002,2,20071201,1640, 22.7500,-157.9995, 4748,   4598,   4599.0,   1.4889,  34.6905,2,  34.6906,2,    153.5,2,  1.1028,    154.0,2,   147.78,2,    35.89,2,     2.46,2,  -999.0,-999.000
     33KB197_1,  PRS2,     2,  3,      1,   8001,2,20071201,1640, 22.7500,-157.9995, 4748,   4805,   4804.7,   1.5013,  34.6914,2,  34.6924,2,    155.2,2,  1.0905,    155.5,2,   146.63,2,    35.76,2,     2.45,2,  -999.0,-999.000
     33KB197_1,  PRS2,     2,  4,     24,   8024,2,20071201,2235, 22.7500,-158.0000, 4747,      9,      9.2,  25.1757,  35.0937,2,  35.0933,2,    206.8,2, 25.1737,    206.9,2,     1.09,2,     0.08,2,     0.05,2,  -999.0,-999.000
     33KB197_1,  PRS2,     2,  4,     23,   8023,2,20071201,2235, 22.7500,-158.0000, 4747,     25,     26.3,  25.1398,  35.0950,2,  35.0951,2,    206.3,2, 25.1341,    207.2,2,     1.09,2,     0.08,2,     0.04,2,  -999.0,-999.000
     33KB197_1,  PRS2,     2,  4,     22,   8022,2,20071201,2235, 22.7500,-158.0000, 4747,     65,     62.9,  25.1294,  35.0966,2,  35.0972,2,    207.2,2, 25.1157,    206.5,2,     1.24,2,     0.14,2,     0.06,2,  -999.0,-999.000
     33KB197_1,  PRS2,     2,  4,     21,   8021,2,20071201,2235, 22.7500,-158.0000, 4747,    126,    125.7,  21.3566,  35.0385,2,  35.0413,2,    199.5,2, 21.3322,    200.0,2,     1.72,2,     1.11,2,     0.17,2,  -999.0,-999.000
     33KB197_1,  PRS2,     2,  4,     20,   8020,2,20071201,2235, 22.7500,-158.0000, 4747,    167,    164.9,  19.6660,  34.9811,2,  34.9764,2,    189.5,2, 19.6359,    190.2,2,     2.54,2,     2.67,2,     0.26,2,  -999.0,-999.000
     33KB197_1,  PRS2,     2,  4,     19,   8019,2,20071201,2235, 22.7500,-158.0000, 4747,    220,    221.9,  15.0088,  34.3858,2,  34.4116,3,    174.3,3, 14.9753,    175.2,2,     6.20,2,     8.28,2,     0.68,2,  -999.0,-999.000
     33KB197_1,  PRS2,     2,  4,     18,   8018,2,20071201,2235, 22.7500,-158.0000, 4747,    293,    291.5,  11.3598,  34.1471,2,  34.1464,2,    170.3,2, 11.3233,    169.9,2,    14.75,2,    15.45,2,     1.19,2,  -999.0,-999.000
     33KB197_1,  PRS2,     2,  4,     17,   8017,2,20071201,2235, 22.7500,-158.0000, 4747,    327,    330.8,  10.2184,  34.1432,2,  34.1444,2,    169.1,2, 10.1797,    169.1,2,    19.72,2,    18.04,2,     1.33,2,  -999.0,-999.000
     33KB197_1,  PRS2,     2,  4,     16,   8016,2,20071201,2235, 22.7500,-158.0000, 4747,    389,    389.3,   8.8758,  34.1022,2,  34.1025,2,    151.6,2,  8.8339,    151.4,2,    28.90,2,    22.70,2,     1.64,2,  -999.0,-999.000
     33KB197_1,  PRS2,     2,  4,     15,   8015,2,20071201,2235, 22.7500,-158.0000, 4747,    428,    425.8,   8.1976,  34.0993,2,  34.1001,2,    133.5,2,  8.1538,    132.5,2,    35.84,2,    25.85,2,     1.85,2,  -999.0,-999.000
     33KB197_1,  PRS2,     2,  4,     14,   8014,2,20071201,2235, 22.7500,-158.0000, 4747,    462,    461.3,   7.4916,  34.0948,2,  34.0954,2,    109.5,2,  7.4465,    110.7,2,    43.68,2,    29.16,2,     2.11,2,  -999.0,-999.000
     33KB197_1,  PRS2,     2,  4,     13,   8025,2,20071201,2235, 22.7500,-158.0000, 4747,    492,    492.3,   6.8090,  34.1082,2,  34.1087,2,     88.5,2,  6.7633,     86.6,2,    53.83,2,    32.36,2,     2.35,2,  -999.0,-999.000
     33KB197_1,  PRS2,     2,  4,     12,   8012,3,20071201,2235, 22.7500,-158.0000, 4747,    535,    537.2,   6.2906,  34.1433,2,  34.1454,2,     67.9,2,  6.2426,     65.1,2,    62.56,2,    35.45,2,     2.58,2,  -999.0,-999.000
     33KB197_1,  PRS2,     2,  4,     11,   8011,2,20071201,2235, 22.7500,-158.0000, 4747,    588,    584.3,   5.7946,  34.1961,2,  34.1942,2,     49.4,2,  5.7444,     50.4,2,    72.46,2,    37.81,2,     2.74,2,  -999.0,-999.000
     33KB197_1,  PRS2,     2,  4,     10,   8010,2,20071201,2235, 22.7500,-158.0000, 4747,    630,    629.7,   5.5015,  34.2252,2,  34.2250,2,     39.9,2,  5.4486,     38.6,2,    78.09,2,    39.21,2,     2.85,2,  -999.0,-999.000
     33KB197_1,  PRS2,     2,  4,      9,   8009,3,20071201,2235, 22.7500,-158.0000, 4747,    677,    676.4,   5.2442,  34.2672,2,  34.2670,2,     34.3,2,  5.1884,     34.0,2,    83.63,2,    40.19,2,     2.89,2,  -999.0,-999.000
     33KB197_1,  PRS2,     2,  4,      8,   8008,3,20071201,2235, 22.7500,-158.0000, 4747,    714,    714.8,   5.0120,  34.3057,2,  34.3058,2,     29.1,2,  4.9541,     29.9,2,    88.14,2,    40.87,2,     2.97,2,  -999.0,-999.000
     33KB197_1,  PRS2,     2,  4,      7,   8026,2,20071201,2235, 22.7500,-158.0000, 4747,    752,    752.6,   4.7933,  34.3304,2,  34.3305,2,     27.9,2,  4.7334,     27.0,2,    93.96,2,    41.55,2,     3.01,2,  -999.0,-999.000
     33KB197_1,  PRS2,     2,  4,      6,   8006,2,20071201,2235, 22.7500,-158.0000, 4747,    820,    820.4,   4.4320,  34.3990,2,  34.3984,2,     33.5,2,  4.3684,     33.4,2,   100.64,2,    41.69,2,     3.01,2,  -999.0,-999.000
     33KB197_1,  PRS2,     2,  4,      5,   8005,2,20071201,2235, 22.7500,-158.0000, 4747,    862,    861.2,   4.3429,  34.4089,2,  34.4071,2,     34.0,2,  4.2765,     35.0,2,   102.65,2,    41.90,2,     3.01,2,  -999.0,-999.000
     33KB197_1,  PRS2,     2,  4,      4,   8004,2,20071201,2235, 22.7500,-158.0000, 4747,    902,    900.6,   4.2533,  34.4370,2,  34.4361,2,     37.0,2,  4.1842,     36.4,2,   104.60,2,    41.91,2,     3.01,2,  -999.0,-999.000
     33KB197_1,  PRS2,     2,  4,      3,   8003,2,20071201,2235, 22.7500,-158.0000, 4747,    943,    944.0,   4.1387,  34.4606,2,  34.4610,2,     39.1,2,  4.0667,     40.0,2,   107.06,2,    41.97,2,     3.00,2,  -999.0,-999.000
     33KB197_1,  PRS2,     2,  4,      2,   8002,2,20071201,2235, 22.7500,-158.0000, 4747,    987,    985.0,   4.0214,  34.4772,2,  34.4767,2,     40.2,2,  3.9468,     40.3,2,   109.19,2,    42.04,2,     3.01,2,  -999.0,-999.000
     33KB197_1,  PRS2,     2,  4,      1,   8001,3,20071201,2235, 22.7500,-158.0000, 4747,   1020,   1020.7,   3.9214,  34.4906,2,  34.4893,2,     42.0,2,  3.8447,     42.7,2,   111.01,2,    41.92,2,     3.00,2,  -999.0,-999.000
     33KB197_1,  PRS2,     2,  5,     24,   8024,2,20071202,0116, 22.8402,-157.9942, 4703,      9,      8.3,  25.2140,  34.9749,2,  34.9728,2,    207.2,1, 25.2122,   -999.0,9,  -999.00,9,  -999.00,9,  -999.00,9,  -999.0,-999.000
     33KB197_1,  PRS2,     2,  5,     23,   8023,2,20071202,0116, 22.8402,-157.9942, 4703,     25,     25.6,  25.1640,  34.9737,2,  34.9717,2,    207.5,1, 25.1584,   -999.0,9,  -999.00,9,  -999.00,9,  -999.00,9,  -999.0,-999.000
     33KB197_1,  PRS2,     2,  5,     22,   8022,2,20071202,0116, 22.8402,-157.9942, 4703,     46,     45.2,  25.1522,  34.9896,2,  34.9882,2,    207.4,1, 25.1424,   -999.0,9,  -999.00,9,  -999.00,9,  -999.00,9,  -999.0,-999.000
     33KB197_1,  PRS2,     2,  5,     19,   8019,2,20071202,0116, 22.8402,-157.9942, 4703,     75,     75.7,  25.0961,  35.0179,2,-999.0000,5,    207.5,1, 25.0796,   -999.0,9,  -999.00,9,  -999.00,9,  -999.00,9,  -999.0,-999.000
     33KB197_1,  PRS2,     2,  5,     21,   8021,2,20071202,0116, 22.8402,-157.9942, 4703,     75,     75.9,  25.0914,  35.0190,2,-999.0000,5,    207.3,1, 25.0749,   -999.0,9,  -999.00,9,  -999.00,9,  -999.00,9,  -999.0,-999.000
     33KB197_1,  PRS2,     2,  5,     20,   8020,2,20071202,0116, 22.8402,-157.9942, 4703,     74,     75.9,  25.0923,  35.0185,2,-999.0000,5,    207.5,1, 25.0758,   -999.0,9,  -999.00,9,  -999.00,9,  -999.00,9,  -999.0,-999.000
     33KB197_1,  PRS2,     2,  5,     17,   8017,2,20071202,0116, 22.8402,-157.9942, 4703,     74,     76.0,  25.1003,  35.0179,2,-999.0000,5,    207.6,1, 25.0838,   -999.0,9,  -999.00,9,  -999.00,9,  -999.00,9,  -999.0,-999.000
     33KB197_1,  PRS2,     2,  5,     18,   8018,2,20071202,0116, 22.8402,-157.9942, 4703,     74,     76.2,  25.0952,  35.0182,2,-999.0000,5,    207.6,1, 25.0786,   -999.0,9,  -999.00,9,  -999.00,9,  -999.00,9,  -999.0,-999.000
     33KB197_1,  PRS2,     2,  5,     16,   8016,2,20071202,0116, 22.8402,-157.9942, 4703,     77,     76.3,  25.0923,  35.0176,2,  35.0163,2,    207.8,1, 25.0757,   -999.0,9,  -999.00,9,  -999.00,9,  -999.00,9,  -999.0,-999.000
     33KB197_1,  PRS2,     2,  5,     15,   8015,2,20071202,0116, 22.8402,-157.9942, 4703,    100,     99.7,  23.5281,  34.9338,2,  34.9211,2,    210.8,1, 23.5074,   -999.0,9,  -999.00,9,  -999.00,9,  -999.00,9,  -999.0,-999.000
     33KB197_1,  PRS2,     2,  5,     11,   8011,2,20071202,0116, 22.8402,-157.9942, 4703,    125,    125.3,  21.1102,  34.9466,2,-999.0000,5,    195.3,1, 21.0862,   -999.0,9,  -999.00,9,  -999.00,9,  -999.00,9,  -999.0,-999.000
     33KB197_1,  PRS2,     2,  5,     10,   8010,2,20071202,0116, 22.8402,-157.9942, 4703,    124,    125.3,  21.1046,  34.9421,2,-999.0000,5,    194.9,1, 21.0806,   -999.0,9,  -999.00,9,  -999.00,9,  -999.00,9,  -999.0,-999.000
     33KB197_1,  PRS2,     2,  5,     14,   8014,2,20071202,0116, 22.8402,-157.9942, 4703,    125,    125.4,  21.1450,  34.9311,2,-999.0000,5,    196.0,1, 21.1209,   -999.0,9,  -999.00,9,  -999.00,9,  -999.00,9,  -999.0,-999.000
     33KB197_1,  PRS2,     2,  5,     13,   8025,2,20071202,0116, 22.8402,-157.9942, 4703,    123,    125.4,  21.1336,  34.9377,2,-999.0000,5,    195.9,1, 21.1095,   -999.0,9,  -999.00,9,  -999.00,9,  -999.00,9,  -999.0,-999.000
     33KB197_1,  PRS2,     2,  5,     12,   8012,2,20071202,0116, 22.8402,-157.9942, 4703,    125,    125.4,  21.1232,  34.9408,2,-999.0000,5,    195.7,1, 21.0991,   -999.0,9,  -999.00,9,  -999.00,9,  -999.00,9,  -999.0,-999.000
     33KB197_1,  PRS2,     2,  5,      9,   8009,2,20071202,0116, 22.8402,-157.9942, 4703,    125,    125.5,  21.1023,  34.9401,2,  34.9290,2,    194.4,1, 21.0783,   -999.0,9,  -999.00,9,  -999.00,9,  -999.00,9,  -999.0,-999.000
     33KB197_1,  PRS2,     2,  5,      8,   8008,2,20071202,0116, 22.8402,-157.9942, 4703,    147,    149.8,  20.2738,  35.0312,2,  35.0331,2,    193.0,1, 20.2459,   -999.0,9,  -999.00,9,  -999.00,9,  -999.00,9,  -999.0,-999.000
     33KB197_1,  PRS2,     2,  5,      7,   8026,2,20071202,0116, 22.8402,-157.9942, 4703,    174,    175.6,  19.2177,  34.8920,2,  34.8945,2,    186.7,1, 19.1862,   -999.0,9,  -999.00,9,  -999.00,9,  -999.00,9,  -999.0,-999.000
     33KB197_1,  PRS2,     2,  5,      6,   8006,2,20071202,0116, 22.8402,-157.9942, 4703,    202,    200.9,  16.4711,  34.5199,2,  34.5341,2,    166.8,1, 16.4387,   -999.0,9,  -999.00,9,  -999.00,9,  -999.00,9,  -999.0,-999.000
     33KB197_1,  PRS2,     2,  5,      5,   8005,2,20071202,0116, 22.8402,-157.9942, 4703,    250,    249.0,  12.6026,  34.1760,2,  34.1779,2,    172.6,1, 12.5692,   -999.0,9,  -999.00,9,  -999.00,9,  -999.00,9,  -999.0,-999.000
     33KB197_1,  PRS2,     2,  5,      3,   8003,2,20071202,0116, 22.8402,-157.9942, 4703,    350,    350.2,   9.5764,  34.1277,2,  34.1283,2,    164.6,1,  9.5370,   -999.0,9,  -999.00,9,  -999.00,9,  -999.00,9,  -999.0,-999.000
     33KB197_1,  PRS2,     2,  5,      4,   8004,2,20071202,0116, 22.8402,-157.9942, 4703,    349,    350.4,   9.5756,  34.1276,2,  34.1277,2,    165.1,1,  9.5362,   -999.0,9,  -999.00,9,  -999.00,9,  -999.00,9,  -999.0,-999.000
     33KB197_1,  PRS2,     2,  5,      2,   8002,2,20071202,0116, 22.8402,-157.9942, 4703,    448,    449.4,   7.4080,  34.0926,2,  34.0917,2,    110.5,1,  7.3644,   -999.0,9,  -999.00,9,  -999.00,9,  -999.00,9,  -999.0,-999.000
     33KB197_1,  PRS2,     2,  5,      1,   8001,2,20071202,0116, 22.8402,-157.9942, 4703,   1020,   1019.5,   3.8909,  34.4942,2,  34.4936,2,     42.3,1,  3.8145,   -999.0,9,  -999.00,9,  -999.00,9,  -999.00,9,  -999.0,-999.000