BOTTLE,20090923WHPSIOMYS
EXPOCODE,SECT_ID,STNNBR,CASTNO,SAMPNO,BTLNBR,BTLNBR_FLAG_W,DATE,TIME,LATITUDE,LONGITUDE,DEPTH,CTDRAW,CTDPRS,CTDTMP,CTDSAL,CTDSAL_FLAG_W,SALNTY,SALNTY_FLAG_W,CTDOXY,CTDOXY_FLAG_W,THETA,OXYGEN,OXYGEN_FLAG_W,SILCAT,SILCAT_FLAG_W,NO2+NO3,NO2+NO3_FLAG_W,PHSPHT,PHSPHT_FLAG_W,REVPRS,REVTMP
,,,,,,,,,,,,,DBAR,ITS-90,PSS-78,,PSS-78,,UMOL/KG,,ITS-90,UMOL/KG,,UMOL/KG,,UMOL/KG,,UMOL/KG,,DBAR,DEG C
     33KB197_1,  PRS2,     2,  9,     22,   8022,2,20071202,1249, 22.7678,-158.0027, 4735,     11,      9.8,  25.1208,  35.0851,2,-999.0000,9,    206.7,1, 25.1187,   -999.0,9,  -999.00,9,  -999.00,9,  -999.00,9,  -999.0,-999.000
     33KB197_1,  PRS2,     2,  9,     24,   8024,2,20071202,1249, 22.7678,-158.0027, 4735,     11,     10.0,  25.1193,  35.0857,2,-999.0000,9,    206.5,1, 25.1171,   -999.0,9,  -999.00,9,  -999.00,9,  -999.00,9,  -999.0,-999.000
     33KB197_1,  PRS2,     2,  9,     21,   8021,2,20071202,1249, 22.7678,-158.0027, 4735,      9,     10.0,  25.1215,  35.0848,2,-999.0000,9,    206.9,1, 25.1193,   -999.0,9,  -999.00,9,  -999.00,9,  -999.00,9,  -999.0,-999.000
     33KB197_1,  PRS2,     2,  9,     23,   8023,2,20071202,1249, 22.7678,-158.0027, 4735,      9,     10.1,  25.1206,  35.0851,2,-999.0000,9,    206.6,1, 25.1184,   -999.0,9,  -999.00,9,  -999.00,9,  -999.00,9,  -999.0,-999.000
     33KB197_1,  PRS2,     2,  9,     20,   8020,2,20071202,1249, 22.7678,-158.0027, 4735,     25,     24.1,  25.1218,  35.0856,2,-999.0000,9,    207.1,1, 25.1165,   -999.0,9,  -999.00,9,  -999.00,9,  -999.00,9,  -999.0,-999.000
     33KB197_1,  PRS2,     2,  9,     17,   8017,2,20071202,1249, 22.7678,-158.0027, 4735,     25,     24.4,  25.1214,  35.0857,2,-999.0000,9,    207.4,1, 25.1161,   -999.0,9,  -999.00,9,  -999.00,9,  -999.00,9,  -999.0,-999.000
     33KB197_1,  PRS2,     2,  9,     18,   8018,2,20071202,1249, 22.7678,-158.0027, 4735,     25,     24.6,  25.1215,  35.0857,2,-999.0000,9,    207.3,1, 25.1162,   -999.0,9,  -999.00,9,  -999.00,9,  -999.00,9,  -999.0,-999.000
     33KB197_1,  PRS2,     2,  9,     19,   8019,2,20071202,1249, 22.7678,-158.0027, 4735,     25,     24.7,  25.1216,  35.0857,2,-999.0000,9,    207.2,1, 25.1163,   -999.0,9,  -999.00,9,  -999.00,9,  -999.00,9,  -999.0,-999.000
     33KB197_1,  PRS2,     2,  9,     16,   8016,2,20071202,1249, 22.7678,-158.0027, 4735,     46,     44.6,  25.1113,  35.0895,2,-999.0000,9,    207.3,1, 25.1016,   -999.0,9,  -999.00,9,  -999.00,9,  -999.00,9,  -999.0,-999.000
     33KB197_1,  PRS2,     2,  9,     14,   8014,2,20071202,1249, 22.7678,-158.0027, 4735,     46,     44.7,  25.1079,  35.0902,2,-999.0000,9,    207.4,1, 25.0982,   -999.0,9,  -999.00,9,  -999.00,9,  -999.00,9,  -999.0,-999.000
     33KB197_1,  PRS2,     2,  9,     15,   8015,2,20071202,1249, 22.7678,-158.0027, 4735,     45,     44.8,  25.1080,  35.0902,2,-999.0000,9,    207.3,1, 25.0982,   -999.0,9,  -999.00,9,  -999.00,9,  -999.00,9,  -999.0,-999.000
     33KB197_1,  PRS2,     2,  9,     13,   8025,2,20071202,1249, 22.7678,-158.0027, 4735,     44,     45.1,  25.1079,  35.0902,2,-999.0000,9,    207.5,1, 25.0981,   -999.0,9,  -999.00,9,  -999.00,9,  -999.00,9,  -999.0,-999.000
     33KB197_1,  PRS2,     2,  9,     12,   8012,2,20071202,1249, 22.7678,-158.0027, 4735,     76,     75.6,  24.9942,  35.1005,2,-999.0000,9,    207.6,1, 24.9778,   -999.0,9,  -999.00,9,  -999.00,9,  -999.00,9,  -999.0,-999.000
     33KB197_1,  PRS2,     2,  9,     11,   8011,2,20071202,1249, 22.7678,-158.0027, 4735,     76,     75.6,  24.9905,  35.1003,2,-999.0000,9,    207.7,1, 24.9742,   -999.0,9,  -999.00,9,  -999.00,9,  -999.00,9,  -999.0,-999.000
     33KB197_1,  PRS2,     2,  9,      9,   8009,2,20071202,1249, 22.7678,-158.0027, 4735,     77,     75.6,  24.9854,  35.1004,2,-999.0000,9,    208.1,1, 24.9690,   -999.0,9,  -999.00,9,  -999.00,9,  -999.00,9,  -999.0,-999.000
     33KB197_1,  PRS2,     2,  9,     10,   8010,2,20071202,1249, 22.7678,-158.0027, 4735,     75,     76.0,  24.9868,  35.1006,2,-999.0000,9,    207.9,1, 24.9703,   -999.0,9,  -999.00,9,  -999.00,9,  -999.00,9,  -999.0,-999.000
     33KB197_1,  PRS2,     2,  9,      8,   8008,2,20071202,1249, 22.7678,-158.0027, 4735,    101,    101.0,  23.0344,  35.0852,2,-999.0000,9,    217.4,1, 23.0138,   -999.0,9,  -999.00,9,  -999.00,9,  -999.00,9,  -999.0,-999.000
     33KB197_1,  PRS2,     2,  9,      5,   8005,2,20071202,1249, 22.7678,-158.0027, 4735,    102,    101.1,  23.0287,  35.0861,2,-999.0000,9,    216.0,1, 23.0081,   -999.0,9,  -999.00,9,  -999.00,9,  -999.00,9,  -999.0,-999.000
     33KB197_1,  PRS2,     2,  9,      7,   8026,2,20071202,1249, 22.7678,-158.0027, 4735,    101,    101.2,  23.0332,  35.0848,2,-999.0000,9,    217.1,1, 23.0125,   -999.0,9,  -999.00,9,  -999.00,9,  -999.00,9,  -999.0,-999.000
     33KB197_1,  PRS2,     2,  9,      6,   8006,2,20071202,1249, 22.7678,-158.0027, 4735,    101,    101.2,  23.0307,  35.0855,2,-999.0000,9,    216.6,1, 23.0100,   -999.0,9,  -999.00,9,  -999.00,9,  -999.00,9,  -999.0,-999.000
     33KB197_1,  PRS2,     2,  9,      4,   8004,2,20071202,1249, 22.7678,-158.0027, 4735,    126,    126.2,  21.4221,  35.0593,2,-999.0000,9,    199.6,1, 21.3976,   -999.0,9,  -999.00,9,  -999.00,9,  -999.00,9,  -999.0,-999.000
     33KB197_1,  PRS2,     2,  9,      2,   8002,2,20071202,1249, 22.7678,-158.0027, 4735,    127,    126.4,  21.4221,  35.0592,2,-999.0000,9,    199.0,1, 21.3975,   -999.0,9,  -999.00,9,  -999.00,9,  -999.00,9,  -999.0,-999.000
     33KB197_1,  PRS2,     2,  9,      3,   8003,2,20071202,1249, 22.7678,-158.0027, 4735,    127,    126.5,  21.4126,  35.0593,2,-999.0000,9,    199.2,1, 21.3881,   -999.0,9,  -999.00,9,  -999.00,9,  -999.00,9,  -999.0,-999.000
     33KB197_1,  PRS2,     2,  9,      1,   8001,2,20071202,1249, 22.7678,-158.0027, 4735,    123,    126.5,  21.4033,  35.0602,2,-999.0000,9,    198.9,1, 21.3788,   -999.0,9,  -999.00,9,  -999.00,9,  -999.00,9,  -999.0,-999.000
     33KB197_1,  PRS2,     2, 10,     24,   8024,2,20071202,1530, 22.7503,-157.9993, 4747,      9,      9.1,  25.0943,  35.0803,2,  35.0797,2,    207.0,1, 25.0924,   -999.0,9,  -999.00,9,  -999.00,9,  -999.00,9,  -999.0,-999.000
     33KB197_1,  PRS2,     2, 10,     22,   8022,2,20071202,1530, 22.7503,-157.9993, 4747,     46,     45.4,  25.1041,  35.0801,2,-999.0000,5,    207.0,1, 25.0943,   -999.0,9,  -999.00,9,  -999.00,9,  -999.00,9,  -999.0,-999.000
     33KB197_1,  PRS2,     2, 10,     21,   8021,2,20071202,1530, 22.7503,-157.9993, 4747,     45,     45.4,  25.1037,  35.0802,2,-999.0000,5,    206.9,1, 25.0938,   -999.0,9,  -999.00,9,  -999.00,9,  -999.00,9,  -999.0,-999.000
     33KB197_1,  PRS2,     2, 10,     23,   8023,2,20071202,1530, 22.7503,-157.9993, 4747,     45,     45.5,  25.1045,  35.0800,2,-999.0000,5,    207.1,1, 25.0946,   -999.0,9,  -999.00,9,  -999.00,9,  -999.00,9,  -999.0,-999.000
     33KB197_1,  PRS2,     2, 10,     18,   8018,2,20071202,1530, 22.7503,-157.9993, 4747,     76,     75.9,  25.0644,  35.0935,2,-999.0000,5,    207.3,1, 25.0479,   -999.0,9,  -999.00,9,  -999.00,9,  -999.00,9,  -999.0,-999.000
     33KB197_1,  PRS2,     2, 10,     20,   8020,2,20071202,1530, 22.7503,-157.9993, 4747,     76,     76.2,  25.0653,  35.0929,2,-999.0000,5,    207.2,1, 25.0487,   -999.0,9,  -999.00,9,  -999.00,9,  -999.00,9,  -999.0,-999.000
     33KB197_1,  PRS2,     2, 10,     19,   8019,2,20071202,1530, 22.7503,-157.9993, 4747,     76,     76.2,  25.0644,  35.0936,2,-999.0000,5,    207.2,1, 25.0478,   -999.0,9,  -999.00,9,  -999.00,9,  -999.00,9,  -999.0,-999.000
     33KB197_1,  PRS2,     2, 10,     17,   8017,2,20071202,1530, 22.7503,-157.9993, 4747,    101,    100.9,  22.6867,  35.0740,2,-999.0000,5,    212.6,1, 22.6663,   -999.0,9,  -999.00,9,  -999.00,9,  -999.00,9,  -999.0,-999.000
     33KB197_1,  PRS2,     2, 10,     16,   8016,2,20071202,1530, 22.7503,-157.9993, 4747,    101,    101.3,  22.6898,  35.0741,2,-999.0000,5,    212.0,1, 22.6693,   -999.0,9,  -999.00,9,  -999.00,9,  -999.00,9,  -999.0,-999.000
     33KB197_1,  PRS2,     2, 10,     15,   8015,2,20071202,1530, 22.7503,-157.9993, 4747,    101,    101.3,  22.7012,  35.0759,2,-999.0000,5,    211.5,1, 22.6807,   -999.0,9,  -999.00,9,  -999.00,9,  -999.00,9,  -999.0,-999.000
     33KB197_1,  PRS2,     2, 10,     14,   8014,2,20071202,1530, 22.7503,-157.9993, 4747,    125,    125.6,  21.0782,  35.0614,2,-999.0000,5,    198.5,1, 21.0541,   -999.0,9,  -999.00,9,  -999.00,9,  -999.00,9,  -999.0,-999.000
     33KB197_1,  PRS2,     2, 10,     13,   8025,2,20071202,1530, 22.7503,-157.9993, 4747,    150,    150.2,  20.5072,  35.0765,2,-999.0000,5,    198.4,1, 20.4789,   -999.0,9,  -999.00,9,  -999.00,9,  -999.00,9,  -999.0,-999.000
     33KB197_1,  PRS2,     2, 10,     12,   8012,2,20071202,1530, 22.7503,-157.9993, 4747,    176,    175.5,  18.8974,  34.8715,2,-999.0000,5,    187.2,1, 18.8663,   -999.0,9,  -999.00,9,  -999.00,9,  -999.00,9,  -999.0,-999.000
     33KB197_1,  PRS2,     2, 10,     11,   8011,2,20071202,1530, 22.7503,-157.9993, 4747,    200,    201.7,  16.5650,  34.5743,2,-999.0000,5,    180.2,1, 16.5324,   -999.0,9,  -999.00,9,  -999.00,9,  -999.00,9,  -999.0,-999.000
     33KB197_1,  PRS2,     2, 10,     10,   8010,2,20071202,1530, 22.7503,-157.9993, 4747,    400,    400.1,   8.7547,  34.1087,2,-999.0000,5,    147.9,1,  8.7120,   -999.0,9,  -999.00,9,  -999.00,9,  -999.00,9,  -999.0,-999.000
     33KB197_1,  PRS2,     2, 10,      9,   8009,2,20071202,1530, 22.7503,-157.9993, 4747,    450,    450.8,   8.0148,  34.0936,2,  34.0942,2,    130.9,1,  7.9690,   -999.0,9,  -999.00,9,  -999.00,9,  -999.00,9,  -999.0,-999.000
     33KB197_1,  PRS2,     2, 10,      8,   8008,2,20071202,1530, 22.7503,-157.9993, 4747,    600,    601.1,   5.7355,  34.2005,2,-999.0000,5,     49.1,1,  5.6840,   -999.0,9,  -999.00,9,  -999.00,9,  -999.00,9,  -999.0,-999.000
     33KB197_1,  PRS2,     2, 10,      7,   8026,2,20071202,1530, 22.7503,-157.9993, 4747,    770,    769.5,   4.7727,  34.3681,2,-999.0000,5,     32.4,1,  4.7114,   -999.0,9,  -999.00,9,  -999.00,9,  -999.00,9,  -999.0,-999.000
     33KB197_1,  PRS2,     2, 10,      4,   8004,2,20071202,1530, 22.7503,-157.9993, 4747,    769,    769.5,   4.7688,  34.3688,2,-999.0000,5,     32.3,1,  4.7075,   -999.0,9,  -999.00,9,  -999.00,9,  -999.00,9,  -999.0,-999.000
     33KB197_1,  PRS2,     2, 10,      5,   8005,2,20071202,1530, 22.7503,-157.9993, 4747,    771,    769.6,   4.7697,  34.3689,2,-999.0000,5,     32.4,1,  4.7084,   -999.0,9,  -999.00,9,  -999.00,9,  -999.00,9,  -999.0,-999.000
     33KB197_1,  PRS2,     2, 10,      3,   8003,2,20071202,1530, 22.7503,-157.9993, 4747,    770,    769.6,   4.7668,  34.3695,2,-999.0000,5,     32.3,1,  4.7055,   -999.0,9,  -999.00,9,  -999.00,9,  -999.00,9,  -999.0,-999.000
     33KB197_1,  PRS2,     2, 10,      6,   8006,2,20071202,1530, 22.7503,-157.9993, 4747,    771,    769.9,   4.7718,  34.3687,2,-999.0000,5,     32.4,1,  4.7105,   -999.0,9,  -999.00,9,  -999.00,9,  -999.00,9,  -999.0,-999.000
     33KB197_1,  PRS2,     2, 10,      2,   8002,2,20071202,1530, 22.7503,-157.9993, 4747,    800,    799.5,   4.5183,  34.3846,2,-999.0000,5,     31.9,1,  4.4559,   -999.0,9,  -999.00,9,  -999.00,9,  -999.00,9,  -999.0,-999.000
     33KB197_1,  PRS2,     2, 10,      1,   8001,2,20071202,1530, 22.7503,-157.9993, 4747,   1020,   1019.7,   3.9104,  34.4894,2,  34.4887,2,     42.9,1,  3.8338,   -999.0,9,  -999.00,9,  -999.00,9,  -999.00,9,  -999.0,-999.000
     33KB197_1,  PRS2,     2, 11,     23,   8023,2,20071202,1813, 22.7500,-157.9995, 4746,      8,      8.0,  25.0904,  35.0790,2,-999.0000,5,    206.2,1, 25.0887,   -999.0,9,  -999.00,9,  -999.00,9,  -999.00,9,  -999.0,-999.000
     33KB197_1,  PRS2,     2, 11,     19,   8019,2,20071202,1813, 22.7500,-157.9995, 4746,      8,      8.0,  25.0903,  35.0791,2,  35.0785,2,    206.5,1, 25.0885,   -999.0,9,  -999.00,9,  -999.00,9,  -999.00,9,  -999.0,-999.000
     33KB197_1,  PRS2,     2, 11,     24,   8024,2,20071202,1813, 22.7500,-157.9995, 4746,      8,      8.1,  25.0906,  35.0791,2,-999.0000,5,    206.2,1, 25.0888,   -999.0,9,  -999.00,9,  -999.00,9,  -999.00,9,  -999.0,-999.000
     33KB197_1,  PRS2,     2, 11,     22,   8022,2,20071202,1813, 22.7500,-157.9995, 4746,      6,      8.1,  25.0903,  35.0791,2,-999.0000,5,    206.2,1, 25.0885,   -999.0,9,  -999.00,9,  -999.00,9,  -999.00,9,  -999.0,-999.000
     33KB197_1,  PRS2,     2, 11,     21,   8021,2,20071202,1813, 22.7500,-157.9995, 4746,      8,      8.3,  25.0903,  35.0791,2,-999.0000,5,    206.2,1, 25.0885,   -999.0,9,  -999.00,9,  -999.00,9,  -999.00,9,  -999.0,-999.000
     33KB197_1,  PRS2,     2, 11,     20,   8020,2,20071202,1813, 22.7500,-157.9995, 4746,      8,      8.3,  25.0903,  35.0790,2,-999.0000,5,    206.2,1, 25.0885,   -999.0,9,  -999.00,9,  -999.00,9,  -999.00,9,  -999.0,-999.000
     33KB197_1,  PRS2,     2, 11,     18,   8018,2,20071202,1813, 22.7500,-157.9995, 4746,     22,     21.2,  25.0920,  35.0788,2,-999.0000,5,    206.7,1, 25.0874,   -999.0,9,  -999.00,9,  -999.00,9,  -999.00,9,  -999.0,-999.000
     33KB197_1,  PRS2,     2, 11,     17,   8017,2,20071202,1813, 22.7500,-157.9995, 4746,     25,     25.5,  25.0932,  35.0786,2,-999.0000,5,    206.8,1, 25.0877,   -999.0,9,  -999.00,9,  -999.00,9,  -999.00,9,  -999.0,-999.000
     33KB197_1,  PRS2,     2, 11,     16,   8016,2,20071202,1813, 22.7500,-157.9995, 4746,     25,     25.9,  25.0932,  35.0785,2,  35.0785,2,    206.8,1, 25.0876,   -999.0,9,  -999.00,9,  -999.00,9,  -999.00,9,  -999.0,-999.000
     33KB197_1,  PRS2,     2, 11,     15,   8015,2,20071202,1813, 22.7500,-157.9995, 4746,     40,     40.5,  25.0927,  35.0782,2,-999.0000,5,    206.8,1, 25.0839,   -999.0,9,  -999.00,9,  -999.00,9,  -999.00,9,  -999.0,-999.000
     33KB197_1,  PRS2,     2, 11,     14,   8014,2,20071202,1813, 22.7500,-157.9995, 4746,     46,     44.6,  25.0904,  35.0786,2,-999.0000,5,    206.6,1, 25.0807,   -999.0,9,  -999.00,9,  -999.00,9,  -999.00,9,  -999.0,-999.000
     33KB197_1,  PRS2,     2, 11,     13,   8025,2,20071202,1813, 22.7500,-157.9995, 4746,     44,     45.1,  25.0904,  35.0785,2,  35.0785,2,    206.5,1, 25.0806,   -999.0,9,  -999.00,9,  -999.00,9,  -999.00,9,  -999.0,-999.000
     33KB197_1,  PRS2,     2, 11,     11,   8011,2,20071202,1813, 22.7500,-157.9995, 4746,     74,     74.0,  25.0765,  35.0828,2,  35.0831,2,    207.0,1, 25.0604,   -999.0,9,  -999.00,9,  -999.00,9,  -999.00,9,  -999.0,-999.000
     33KB197_1,  PRS2,     2, 11,     12,   8012,2,20071202,1813, 22.7500,-157.9995, 4746,     73,     74.1,  25.0736,  35.0839,2,-999.0000,5,    206.9,1, 25.0575,   -999.0,9,  -999.00,9,  -999.00,9,  -999.00,9,  -999.0,-999.000
     33KB197_1,  PRS2,     2, 11,      9,   8009,2,20071202,1813, 22.7500,-157.9995, 4746,    100,     99.7,  24.0492,  35.1337,2,  35.1256,2,    215.6,1, 24.0282,   -999.0,9,  -999.00,9,  -999.00,9,  -999.00,9,  -999.0,-999.000
     33KB197_1,  PRS2,     2, 11,     10,   8010,2,20071202,1813, 22.7500,-157.9995, 4746,     99,     99.8,  24.0875,  35.1380,2,-999.0000,5,    215.6,1, 24.0664,   -999.0,9,  -999.00,9,  -999.00,9,  -999.00,9,  -999.0,-999.000
     33KB197_1,  PRS2,     2, 11,      8,   8008,2,20071202,1813, 22.7500,-157.9995, 4746,    126,    125.3,  21.0321,  35.0574,2,-999.0000,5,    197.4,1, 21.0081,   -999.0,9,  -999.00,9,  -999.00,9,  -999.00,9,  -999.0,-999.000
     33KB197_1,  PRS2,     2, 11,      7,   8026,2,20071202,1813, 22.7500,-157.9995, 4746,    124,    125.3,  21.0321,  35.0574,2,  35.0598,2,    197.1,1, 21.0081,   -999.0,9,  -999.00,9,  -999.00,9,  -999.00,9,  -999.0,-999.000
     33KB197_1,  PRS2,     2, 11,      6,   8006,2,20071202,1813, 22.7500,-157.9995, 4746,    150,    149.1,  20.4445,  35.0646,2,-999.0000,5,    196.9,1, 20.4165,   -999.0,9,  -999.00,9,  -999.00,9,  -999.00,9,  -999.0,-999.000
     33KB197_1,  PRS2,     2, 11,      5,   8005,2,20071202,1813, 22.7500,-157.9995, 4746,    147,    149.4,  20.4445,  35.0655,2,  35.0632,2,    197.1,1, 20.4164,   -999.0,9,  -999.00,9,  -999.00,9,  -999.00,9,  -999.0,-999.000
     33KB197_1,  PRS2,     2, 11,      4,   8004,2,20071202,1813, 22.7500,-157.9995, 4746,    175,    176.0,  19.4062,  34.9779,2,-999.0000,5,    188.8,1, 19.3743,   -999.0,9,  -999.00,9,  -999.00,9,  -999.00,9,  -999.0,-999.000
     33KB197_1,  PRS2,     2, 11,      3,   8003,2,20071202,1813, 22.7500,-157.9995, 4746,    177,    176.0,  19.4043,  34.9789,2,  34.9815,2,    188.3,1, 19.3725,   -999.0,9,  -999.00,9,  -999.00,9,  -999.00,9,  -999.0,-999.000
     33KB197_1,  PRS2,     2, 11,      2,   8002,2,20071202,1813, 22.7500,-157.9995, 4746,    449,    449.6,   7.6713,  34.0937,2,  34.0948,2,    113.8,1,  7.6268,   -999.0,9,  -999.00,9,  -999.00,9,  -999.00,9,  -999.0,-999.000
     33KB197_1,  PRS2,     2, 11,      1,   8001,2,20071202,1813, 22.7500,-157.9995, 4746,   1017,   1018.6,   3.9074,  34.4907,2,  34.4907,2,     43.2,1,  3.8310,   -999.0,9,  -999.00,9,  -999.00,9,  -999.00,9,  -999.0,-999.000