BOTTLE,20090511PRINUNIVRMK
EXPOCODE,SECT_ID,STNNBR,CASTNO,BTLNBR,BTLNBR_FLAG_W,DATE,LATITUDE,LONGITUDE,DEPTH,CTDPRS,CTDTMP,CTDSAL,CTDSAL_FLAG_W,SALNTY,SALNTY_FLAG_W,CTDOXY,CTDOXY_FLAG_W,OXYGEN,OXYGEN_FLAG_W,SILCAT,SILCAT_FLAG_W,NITRAT,NITRAT_FLAG_W,NITRIT,NITRIT_FLAG_W,PHSPHT,PHSPHT_FLAG_W,CFC-11,CFC-11_FLAG_W,CFC-12,CFC-12_FLAG_W,TCARBN,TCARBN_FLAG_W,PCO2,PCO2_FLAG_W,PH_SWS,PH_TEMP,PH_SWS_FLAG_W,THETA
,,,,,,,,,METERS,DBARS,ITS-90,PSS-78,,PSS-78,,UMOL/KG,,UMOL/KG,,UMOL/KG,,UMOL/KG,,UMOL/KG,,UMOL/KG,,PMOL/KG,,PMOL/KG,,UMOL/KG,,PPM,,,DEGC,,DEGC
  33LK19960415,  AR04,    19,  1,     22,2,19960420,  7.5100, -45.9977,   25,      2.6,  27.5154,  36.1531,2,  36.1606,2,    193.7,2,    196.3,2,     0.90,2,     0.13,2,     0.00,2,     0.06,3,    1.651,2,    0.881,2,   1997.9,2,    364.1,2,   8.0877,    25.00,2,  27.5148
  33LK19960415,  AR04,    19,  1,     21,2,19960420,  7.5100, -45.9977,   25,     71.0,  27.5349,  36.1576,2,  36.1592,2,    205.6,2,    199.4,2,     0.91,2,     0.13,2,     0.00,2,     0.06,3,    1.597,2,    0.848,2,     -9.0,9,     -9.0,9,-999.0000,  -999.00,9,  27.5183
  33LK19960415,  AR04,    19,  1,     20,2,19960420,  7.5100, -45.9977,   25,    197.5,  11.3333,  35.1563,2,  35.1360,2,    127.5,2,    126.1,2,    11.16,2,    23.81,2,     0.01,2,     1.56,3,   -9.000,9,   -9.000,9,     -9.0,9,     -9.0,9,-999.0000,  -999.00,9,  11.3084
  33LK19960415,  AR04,    19,  1,     19,2,19960420,  7.5100, -45.9977,   25,    197.8,  11.3328,  35.1600,2,  35.1290,2,    127.5,2,    129.2,2,    11.29,2,    23.86,2,     0.01,2,     1.56,3,    1.014,2,    0.417,2,     -9.0,9,     -9.0,9,-999.0000,  -999.00,9,  11.3079
  33LK19960415,  AR04,    19,  1,     18,2,19960420,  7.5100, -45.9977,   25,    296.0,   8.9057,  34.7999,2,  34.8058,2,    132.5,2,    137.7,2,    15.02,2,    27.51,2,     0.00,2,     1.83,3,    0.759,2,    0.324,2,     -9.0,9,     -9.0,9,-999.0000,  -999.00,9,   8.8736
  33LK19960415,  AR04,    19,  1,     17,2,19960420,  7.5100, -45.9977,   25,    495.2,   7.2950,  34.6557,2,  34.6553,2,    133.1,3,    130.5,2,    20.18,2,    31.51,2,     0.00,2,     2.15,3,    0.397,2,    0.151,2,     -9.0,9,     -9.0,9,-999.0000,  -999.00,9,   7.2468
  33LK19960415,  AR04,    19,  1,     16,2,19960420,  7.5100, -45.9977,   25,    743.4,   5.7708,  34.6160,2,  34.6050,2,    125.6,3,    126.4,2,    27.44,2,    34.57,2,     0.00,2,     2.40,3,    0.055,2,    0.013,2,     -9.0,9,     -9.0,9,-999.0000,  -999.00,9,   5.7057
  33LK19960415,  AR04,    19,  1,     15,2,19960420,  7.5100, -45.9977,   25,    994.9,   5.0013,  34.7157,2,  34.7008,2,    149.3,3,    146.0,2,    28.95,2,    32.29,2,     0.00,2,     2.29,3,    0.028,2,    0.008,2,     -9.0,9,     -9.0,9,-999.0000,  -999.00,9,   4.9181
  33LK19960415,  AR04,    19,  1,     14,2,19960420,  7.5100, -45.9977,   25,   1288.8,   4.7586,  34.9300,2,  34.9267,2,    199.4,3,    198.3,2,    21.37,2,    24.83,2,     0.00,2,     1.74,3,    0.133,2,    0.035,2,     -9.0,9,     -9.0,9,-999.0000,  -999.00,9,   4.6500
  33LK19960415,  AR04,    19,  1,     13,2,19960420,  7.5100, -45.9977,   25,   1594.4,   4.3540,  35.0018,2,  35.0002,2,    241.9,3,    239.3,3,    16.22,2,    20.18,2,     0.00,2,     1.40,3,    0.232,2,    0.099,2,     -9.0,9,     -9.0,9,-999.0000,  -999.00,9,   4.2208
  33LK19960415,  AR04,    19,  1,     12,2,19960420,  7.5100, -45.9977,   25,   1695.6,   4.2464,  35.0007,2,  34.9966,2,    245.3,3,    241.8,2,    16.24,2,    19.92,2,     0.00,2,     1.39,3,    0.247,2,    0.105,2,     -9.0,9,     -9.0,9,-999.0000,  -999.00,9,   4.1049
  33LK19960415,  AR04,    19,  1,     11,2,19960420,  7.5100, -45.9977,   25,   1793.6,   4.0931,  34.9987,2,  34.9982,2,    251.6,3,    248.7,2,    15.63,2,    19.25,2,     0.00,2,     1.33,3,    0.270,2,    0.113,2,     -9.0,9,     -9.0,9,-999.0000,  -999.00,9,   3.9442
  33LK19960415,  AR04,    19,  1,     10,2,19960420,  7.5100, -45.9977,   25,   1895.4,   3.9289,  34.9932,2,  34.9917,2,    254.0,3,    251.0,2,    16.29,2,    19.23,2,     0.00,2,     1.33,3,    0.200,2,    0.090,2,     -9.0,9,     -9.0,9,-999.0000,  -999.00,9,   3.7725
  33LK19960415,  AR04,    19,  1,      9,2,19960420,  7.5100, -45.9977,   25,   1995.5,   3.7640,  34.9853,2,  34.9860,2,    254.2,3,    252.8,2,    17.27,2,    19.19,2,     0.00,2,     1.33,3,    0.148,2,    0.061,2,     -9.0,9,     -9.0,9,-999.0000,  -999.00,9,   3.6003
  33LK19960415,  AR04,    19,  1,      8,2,19960420,  7.5100, -45.9977,   25,   2395.8,   3.2292,  34.9621,2,  34.9624,2,    259.3,3,    259.1,2,    21.34,2,    18.99,2,     0.00,2,     1.33,3,    0.089,2,    0.036,2,     -9.0,9,     -9.0,9,-999.0000,  -999.00,9,   3.0353
  33LK19960415,  AR04,    19,  1,      7,2,19960420,  7.5100, -45.9977,   25,   2694.7,   2.9934,  34.9498,2,  34.9464,2,    258.7,3,    264.9,2,    25.14,2,    19.38,2,     0.00,2,     1.36,3,    0.069,2,    0.031,2,     -9.0,9,     -9.0,9,-999.0000,  -999.00,9,   2.7741
  33LK19960415,  AR04,    19,  1,      6,2,19960420,  7.5100, -45.9977,   25,   2995.5,   2.7805,  34.9369,2,  34.9347,2,    258.9,3,    258.6,2,    27.89,2,    19.47,2,     0.00,2,     1.36,3,    0.092,2,    0.028,2,     -9.0,9,     -9.0,9,-999.0000,  -999.00,9,   2.5349
  33LK19960415,  AR04,    19,  1,      5,2,19960420,  7.5100, -45.9977,   25,   3294.2,   2.5927,  34.9227,2,  34.9201,2,    259.1,3,    259.2,2,    31.01,2,    19.69,2,     0.00,2,     1.38,3,    0.124,2,    0.049,2,     -9.0,9,     -9.0,9,-999.0000,  -999.00,9,   2.3201
  33LK19960415,  AR04,    19,  1,      4,2,19960420,  7.5100, -45.9977,   25,   3686.5,   2.3528,  34.9058,2,  34.9048,2,    263.6,3,    264.1,2,    31.74,2,    19.17,2,     0.00,2,     1.35,3,    0.148,2,    0.059,2,     -9.0,9,     -9.0,9,-999.0000,  -999.00,9,   2.0437
  33LK19960415,  AR04,    19,  1,      3,2,19960420,  7.5100, -45.9977,   25,   3996.0,   2.2631,  34.8983,2,  34.8959,2,    264.1,3,    263.8,2,    33.79,2,    19.26,2,     0.00,2,     1.37,3,    0.165,2,    0.068,2,     -9.0,9,     -9.0,9,-999.0000,  -999.00,9,   1.9219
  33LK19960415,  AR04,    19,  1,      2,2,19960420,  7.5100, -45.9977,   25,   4195.7,   2.2112,  34.8910,2,  34.8877,2,    262.6,3,    261.4,2,    37.69,2,    19.82,2,     0.00,2,     1.37,3,    0.129,2,    0.056,2,     -9.0,9,     -9.0,9,-999.0000,  -999.00,9,   1.8486
  33LK19960415,  AR04,    19,  1,      1,2,19960420,  7.5100, -45.9977,   25,   4430.3,   2.1136,  34.8741,2,  34.8727,2,    254.8,3,    255.6,2,    46.37,2,    21.10,2,     0.00,2,     1.46,3,    0.076,2,    0.045,2,     -9.0,9,     -9.0,9,-999.0000,  -999.00,9,   1.7265
  33LK19960415,  AR04,    20,  1,     22,2,19960420,  7.5193, -45.3303,   20,      1.5,  27.4830,  36.1787,2,  36.1822,2,    198.7,3,    199.5,2,     0.84,2,     0.24,2,     0.00,2,     0.05,2,    1.679,2,    0.887,2,   1986.8,3,    363.6,2,   8.0972,    25.00,2,  27.4827
  33LK19960415,  AR04,    20,  1,     21,2,19960420,  7.5193, -45.3303,   20,     70.9,  27.3571,  36.1861,2,  36.1840,2,    197.4,3,    198.8,2,     0.81,2,     0.25,2,     0.00,2,     0.06,2,   -9.000,9,   -9.000,9,   2021.5,2,     -9.0,9,   8.0977,    25.00,2,  27.3406
  33LK19960415,  AR04,    20,  1,     20,2,19960420,  7.5193, -45.3303,   20,     71.0,  27.3570,  36.1863,2,  36.1844,2,    197.8,3,    198.9,2,     0.81,2,     0.24,2,     0.00,2,     0.05,2,    1.626,2,    0.855,2,   1978.7,3,     -9.0,9,   8.0977,    25.00,2,  27.3405
  33LK19960415,  AR04,    20,  1,     19,2,19960420,  7.5193, -45.3303,   20,    194.7,  12.5083,  35.3518,2,  35.2497,2,    125.4,2,    124.1,2,     9.96,2,    22.99,2,     0.00,2,     1.48,2,    1.071,2,    0.463,2,   2159.6,2,     -9.0,9,   7.7251,    25.00,2,  12.4821
  33LK19960415,  AR04,    20,  1,     18,2,19960420,  7.5193, -45.3303,   20,    296.6,   9.1852,  34.8573,2,  34.9043,2,    127.0,2,    126.5,2,    13.65,2,    27.08,2,     0.00,2,     1.75,2,    0.743,2,    0.325,2,   2169.1,2,     -9.0,9,   7.6617,    25.00,2,   9.1524
  33LK19960415,  AR04,    20,  1,     17,2,19960420,  7.5193, -45.3303,   20,    493.8,   7.3671,  34.6752,2,  34.6812,2,    123.8,2,    125.0,2,    19.16,2,    31.58,2,     0.00,2,     2.07,2,    0.364,2,    0.102,2,   2175.9,2,     -9.0,9,   7.6057,    25.00,2,   7.3187
  33LK19960415,  AR04,    20,  1,     16,2,19960420,  7.5193, -45.3303,   20,    794.3,   5.5402,  34.6118,2,  34.6014,2,    131.7,2,    131.9,2,    27.93,2,    34.20,2,     0.00,2,     2.34,2,    0.036,2,    0.002,2,   2191.3,3,     -9.0,9,   7.5725,    25.00,2,   5.4718
  33LK19960415,  AR04,    20,  1,     15,2,19960420,  7.5193, -45.3303,   20,    992.1,   4.9506,  34.6909,2,  34.7006,2,    145.3,2,    143.8,2,    28.58,2,    32.69,2,     0.00,2,     2.25,2,   -0.002,2,   -0.002,2,   2220.3,2,     -9.0,9,   7.5895,    25.00,2,   4.8680
  33LK19960415,  AR04,    20,  1,     14,2,19960420,  7.5193, -45.3303,   20,   1293.6,   4.6582,  34.8995,2,  34.9011,2,    190.3,2,    191.1,2,    22.55,2,    26.03,2,     0.00,2,     1.76,2,    0.023,2,    0.011,2,   2189.8,2,     -9.0,9,   7.6695,    25.00,2,   4.5502
  33LK19960415,  AR04,    20,  1,     13,2,19960420,  7.5193, -45.3303,   20,   1493.3,   4.4866,  34.9829,2,  34.9852,2,    226.0,2,    227.9,2,    17.23,2,    21.25,2,     0.00,2,     1.41,2,    0.169,2,    0.076,2,   2164.4,2,     -9.0,9,   7.7299,    25.00,2,   4.3615
  33LK19960415,  AR04,    20,  1,     12,2,19960420,  7.5193, -45.3303,   20,   1592.2,   4.3616,  34.9972,2,  34.9943,2,    237.1,2,    237.6,2,    16.28,2,    20.31,2,     0.00,2,     1.34,2,    0.178,2,    0.079,2,   2144.2,3,     -9.0,9,   7.7410,    25.00,2,   4.2285
  33LK19960415,  AR04,    20,  1,     11,2,19960420,  7.5193, -45.3303,   20,   1693.6,   4.2009,  34.9997,2,  35.0013,2,    245.2,2,    246.3,2,    15.30,2,    19.37,2,     0.00,2,     1.28,2,    0.273,2,    0.120,2,   2156.5,2,     -9.0,9,   7.7516,    25.00,2,   4.0601
  33LK19960415,  AR04,    20,  1,     10,2,19960420,  7.5193, -45.3303,   20,   1796.1,   4.0588,  34.9957,2,  34.9971,2,    251.9,2,    250.9,2,    15.43,2,    19.06,2,     0.00,2,     1.25,2,    0.223,2,    0.105,2,   2139.6,3,     -9.0,9,   7.7439,    25.00,3,   3.9101
  33LK19960415,  AR04,    20,  1,      9,2,19960420,  7.5193, -45.3303,   20,   1994.0,   3.6837,  34.9799,2,  34.9802,2,    254.6,2,    253.1,2,    17.79,2,    19.32,2,     0.00,2,     1.27,2,    0.080,2,    0.030,2,   2124.3,3,     -9.0,9,   7.7456,    25.00,3,   3.5214
  33LK19960415,  AR04,    20,  1,      8,2,19960420,  7.5193, -45.3303,   20,   2392.8,   3.2740,  34.9650,2,  34.9641,2,    260.0,2,    260.0,2,    19.97,2,    18.66,2,     0.00,2,     1.25,2,    0.123,2,    0.048,2,   2128.6,3,     -9.0,9,   7.7541,    25.00,3,   3.0796
  33LK19960415,  AR04,    20,  1,      7,2,19960420,  7.5193, -45.3303,   20,   2693.5,   3.0030,  34.9482,2,  34.9467,2,    259.3,2,    259.0,2,    24.21,2,    19.10,2,     0.00,2,     1.30,2,    0.063,2,    0.032,2,   2148.0,3,     -9.0,9,   7.7518,    25.00,3,   2.7837
  33LK19960415,  AR04,    20,  1,      6,2,19960420,  7.5193, -45.3303,   20,   2991.3,   2.8289,  34.9368,2,  34.9377,2,    259.8,2,    260.0,2,    26.04,2,    19.04,2,     0.00,2,     1.29,2,    0.106,2,    0.052,2,   2158.1,3,     -9.0,9,   7.7508,    25.00,3,   2.5827
  33LK19960415,  AR04,    20,  1,      5,2,19960420,  7.5193, -45.3303,   20,   3293.0,   2.6170,  34.9227,2,  34.9224,2,    260.4,2,    258.9,2,    29.39,2,    19.34,2,     0.00,2,     1.31,2,    0.108,2,    0.046,2,   2150.4,3,     -9.0,9,   7.7495,    25.00,3,   2.3439
  33LK19960415,  AR04,    20,  1,      4,2,19960420,  7.5193, -45.3303,   20,   3698.4,   2.3833,  34.9079,2,  34.9078,2,    264.2,4,    263.8,2,    30.34,2,    18.86,2,     0.00,2,     1.29,2,    0.156,2,    0.068,2,   2155.9,3,     -9.0,9,   7.7517,    25.00,2,   2.0721
  33LK19960415,  AR04,    20,  1,      3,2,19960420,  7.5193, -45.3303,   20,   3992.0,   2.2974,  34.9008,2,  34.8989,2,    265.3,4,    264.5,2,    31.52,2,    19.02,2,     0.00,2,     1.31,2,    0.165,2,    0.077,2,   2152.7,3,     -9.0,9,   7.7520,    25.00,2,   1.9556
  33LK19960415,  AR04,    20,  1,      2,2,19960420,  7.5193, -45.3303,   20,   4193.9,   2.2509,  34.8956,2,  34.8923,2,    264.0,4,    263.2,2,    34.16,2,    19.26,2,     0.00,2,     1.39,2,    0.151,2,    0.066,2,   2124.1,3,     -9.0,9,   7.7494,    25.00,2,   1.8873
  33LK19960415,  AR04,    20,  1,      1,2,19960420,  7.5193, -45.3303,   20,   4509.8,   2.1500,  34.8786,2,  34.8762,2,    256.6,4,    256.6,2,    43.65,2,    20.61,2,     0.00,2,     1.43,2,    0.091,2,    0.052,2,   2106.8,3,     -9.0,9,   7.7411,    25.00,2,   1.7524
  33LK19960415,  AR04,    21,  1,      6,2,19960421,  7.4998, -44.6675, -999,      5.5,  27.4579,  36.1217,2,  36.1229,2,    195.2,3,    198.5,2,     0.97,2,     0.02,2,     0.00,2,     0.04,2,    1.777,2,    0.861,2,   1987.4,3,    362.4,2,   8.0769,    25.00,2,  27.4566
  33LK19960415,  AR04,    21,  1,      5,2,19960421,  7.4998, -44.6675, -999,     49.5,  27.4310,  36.1265,2,  36.1262,2,    208.4,3,    198.5,2,     0.98,2,     0.01,2,     0.00,2,     0.03,2,    1.774,2,    0.866,2,     -9.0,9,     -9.0,9,-999.0000,  -999.00,9,  27.4195
  33LK19960415,  AR04,    21,  1,      4,2,19960421,  7.4998, -44.6675, -999,    147.6,  17.3378,  36.0317,2,  36.0354,2,    131.6,2,    117.6,2,     5.28,2,    15.58,2,     0.03,2,     0.91,2,    1.524,2,    0.567,2,     -9.0,9,     -9.0,9,-999.0000,  -999.00,9,  17.3130
  33LK19960415,  AR04,    21,  1,      3,2,19960421,  7.4998, -44.6675, -999,    249.0,   9.9424,  34.9535,2,  34.9567,2,    121.1,2,    123.3,2,    13.24,2,    26.43,2,     0.01,2,     1.70,2,    0.840,2,    0.290,2,     -9.0,9,     -9.0,9,-999.0000,  -999.00,9,   9.9135
  33LK19960415,  AR04,    21,  1,      2,2,19960421,  7.4998, -44.6675, -999,    399.1,   8.1792,  34.7409,2,  34.7432,2,    126.7,2,    127.8,2,    17.49,2,    29.87,2,     0.00,2,     1.93,2,    0.554,2,    0.170,2,     -9.0,9,     -9.0,9,-999.0000,  -999.00,9,   8.1379
  33LK19960415,  AR04,    21,  1,      1,2,19960421,  7.4998, -44.6675, -999,    498.3,   7.5267,  34.6934,2,  34.6943,2,    119.1,2,    118.9,2,    20.24,2,    32.52,2,     0.00,2,     2.09,2,    0.371,2,    0.125,2,     -9.0,9,     -9.0,9,-999.0000,  -999.00,9,   7.4773