BOTTLE,20090511PRINUNIVRMK
EXPOCODE,SECT_ID,STNNBR,CASTNO,BTLNBR,BTLNBR_FLAG_W,DATE,LATITUDE,LONGITUDE,DEPTH,CTDPRS,CTDTMP,CTDSAL,CTDSAL_FLAG_W,SALNTY,SALNTY_FLAG_W,CTDOXY,CTDOXY_FLAG_W,OXYGEN,OXYGEN_FLAG_W,SILCAT,SILCAT_FLAG_W,NITRAT,NITRAT_FLAG_W,NITRIT,NITRIT_FLAG_W,PHSPHT,PHSPHT_FLAG_W,CFC-11,CFC-11_FLAG_W,CFC-12,CFC-12_FLAG_W,TCARBN,TCARBN_FLAG_W,PCO2,PCO2_FLAG_W,PH_SWS,PH_TEMP,PH_SWS_FLAG_W,THETA
,,,,,,,,,METERS,DBARS,ITS-90,PSS-78,,PSS-78,,UMOL/KG,,UMOL/KG,,UMOL/KG,,UMOL/KG,,UMOL/KG,,UMOL/KG,,PMOL/KG,,PMOL/KG,,UMOL/KG,,PPM,,,DEGC,,DEGC
  33LK19960415,  AR04,    13,  1,     22,2,19960418,  7.4933, -49.4945,   23,      2.9,  27.6909,  -9.0000,9,  35.9340,2,     -9.0,9,    198.9,2,     0.00,2,     0.23,2,     0.00,2,     0.03,2,    1.668,2,    0.886,2,   2008.6,2,    366.7,2,   8.1104,    25.00,2,  27.6902
  33LK19960415,  AR04,    13,  1,     21,2,19960418,  7.4933, -49.4945,   23,     71.0,  27.2302,  -9.0000,9,  36.0918,2,     -9.0,9,    201.5,2,     0.00,2,     0.22,2,     0.00,2,     0.03,2,    1.644,2,    0.875,2,     -9.0,9,     -9.0,9,-999.0000,  -999.00,9,  27.2138
  33LK19960415,  AR04,    13,  1,     20,2,19960418,  7.4933, -49.4945,   23,    200.0,  11.2874,  -9.0000,9,  35.1562,2,     -9.0,9,    117.2,2,     9.17,2,    24.33,2,     0.00,2,     1.59,2,    0.967,2,    0.420,2,     -9.0,9,     -9.0,9,-999.0000,  -999.00,9,  11.2623
  33LK19960415,  AR04,    13,  1,     19,2,19960418,  7.4933, -49.4945,   23,    295.5,   9.4298,  -9.0000,9,  34.9251,2,     -9.0,9,    123.9,2,    12.62,2,    27.27,2,     0.00,2,     1.80,2,    0.689,2,    0.292,2,     -9.0,9,     -9.0,9,-999.0000,  -999.00,9,   9.3966
  33LK19960415,  AR04,    13,  1,     18,2,19960418,  7.4933, -49.4945,   23,    496.0,   7.4001,  -9.0000,9,  34.6983,2,     -9.0,9,    110.7,2,    18.35,2,    33.15,2,     0.00,2,     2.21,2,    0.204,2,    0.082,2,     -9.0,9,     -9.0,9,-999.0000,  -999.00,9,   7.3514
  33LK19960415,  AR04,    13,  1,     17,2,19960418,  7.4933, -49.4945,   23,    695.7,   5.6487,  -9.0000,9,  34.5788,2,     -9.0,9,    131.1,2,    25.11,2,    34.34,2,     0.00,2,     2.34,2,    0.103,2,    0.013,2,     -9.0,9,     -9.0,9,-999.0000,  -999.00,9,   5.5887
  33LK19960415,  AR04,    13,  1,     16,2,19960418,  7.4933, -49.4945,   23,    994.8,   4.6958,  -9.0000,9,  34.6523,2,     -9.0,9,    153.1,2,    28.51,2,    32.40,2,     0.00,2,     2.28,2,    0.008,2,    0.000,2,     -9.0,9,     -9.0,9,-999.0000,  -999.00,9,   4.6150
  33LK19960415,  AR04,    13,  1,     15,2,19960418,  7.4933, -49.4945,   23,   1295.0,   4.8116,  -9.0000,9,  34.8981,2,     -9.0,9,    189.9,2,    20.71,2,    25.71,2,     0.00,2,     1.78,2,    0.060,2,    0.029,2,     -9.0,9,     -9.0,9,-999.0000,  -999.00,9,   4.7020
  33LK19960415,  AR04,    13,  1,     14,2,19960418,  7.4933, -49.4945,   23,   1494.8,   4.5386,  -9.0000,9,  34.9930,2,     -9.0,9,    229.9,2,    15.42,2,    20.74,2,     0.00,2,     1.40,2,   -9.000,9,   -9.000,9,     -9.0,9,     -9.0,9,-999.0000,  -999.00,9,   4.4128
  33LK19960415,  AR04,    13,  1,     13,2,19960418,  7.4933, -49.4945,   23,   1494.9,   4.5364,  -9.0000,9,  34.9944,2,     -9.0,9,    229.7,2,    15.47,2,    20.69,2,     0.00,2,     1.39,2,    0.207,2,    0.089,2,     -9.0,9,     -9.0,9,-999.0000,  -999.00,9,   4.4106
  33LK19960415,  AR04,    13,  1,     12,2,19960418,  7.4933, -49.4945,   23,   1595.4,   4.2014,  -9.0000,9,  34.9857,2,     -9.0,9,    238.5,3,    16.15,2,    20.25,2,     0.00,2,     1.37,2,    0.093,2,    0.049,2,     -9.0,9,     -9.0,9,-999.0000,  -999.00,9,   4.0700
  33LK19960415,  AR04,    13,  1,     11,2,19960418,  7.4933, -49.4945,   23,   1694.0,   4.0982,  -9.0000,9,  34.9998,2,     -9.0,9,    251.6,3,    14.41,2,    18.64,2,     0.00,2,     1.26,2,    0.325,2,    0.142,2,     -9.0,9,     -9.0,9,-999.0000,  -999.00,9,   3.9587
  33LK19960415,  AR04,    13,  1,     10,2,19960418,  7.4933, -49.4945,   23,   1795.6,   3.9404,  -9.0000,9,  34.9936,2,     -9.0,9,    253.4,3,    14.80,2,    18.66,2,     0.00,2,     1.25,2,    0.230,2,    0.107,2,     -9.0,9,     -9.0,9,-999.0000,  -999.00,9,   3.7933
  33LK19960415,  AR04,    13,  1,      9,2,19960418,  7.4933, -49.4945,   23,   1895.9,   3.7327,  -9.0000,9,  34.9863,2,     -9.0,9,    257.0,2,    16.79,2,    18.35,2,     0.00,2,     1.23,2,    0.197,2,    0.087,2,     -9.0,9,     -9.0,9,-999.0000,  -999.00,9,   3.5790
  33LK19960415,  AR04,    13,  1,      8,2,19960418,  7.4933, -49.4945,   23,   1993.7,   3.6050,  -9.0000,9,  34.9830,2,     -9.0,9,    258.6,2,    17.40,2,    18.25,2,     0.00,2,     1.23,2,    0.180,2,    0.090,2,     -9.0,9,     -9.0,9,-999.0000,  -999.00,9,   3.4439
  33LK19960415,  AR04,    13,  1,      7,2,19960418,  7.4933, -49.4945,   23,   2295.2,   3.3243,  -9.0000,9,  34.9668,2,     -9.0,9,    259.3,2,    20.18,2,    18.49,2,     0.00,2,     1.25,2,    0.107,2,    0.054,2,     -9.0,9,     -9.0,9,-999.0000,  -999.00,9,   3.1386
  33LK19960415,  AR04,    13,  1,      6,2,19960418,  7.4933, -49.4945,   23,   2695.3,   3.0814,  -9.0000,9,  34.9541,2,     -9.0,9,    261.0,2,    22.07,2,    18.39,2,     0.00,2,     1.27,2,    0.128,2,    0.060,2,     -9.0,9,     -9.0,9,-999.0000,  -999.00,9,   2.8603
  33LK19960415,  AR04,    13,  1,      5,2,19960418,  7.4933, -49.4945,   23,   2988.4,   2.8154,  -9.0000,9,  34.9334,2,     -9.0,9,    253.4,2,    31.32,2,    19.93,2,     0.00,2,     1.38,2,    0.027,2,    0.026,2,     -9.0,9,     -9.0,9,-999.0000,  -999.00,9,   2.5698
  33LK19960415,  AR04,    13,  1,      4,2,19960418,  7.4933, -49.4945,   23,   3294.3,   2.5305,  -9.0000,9,  34.9150,2,     -9.0,9,    259.3,2,    32.18,2,    19.32,2,     0.00,2,     1.34,2,    0.101,2,    0.047,2,     -9.0,9,     -9.0,9,-999.0000,  -999.00,9,   2.2593
  33LK19960415,  AR04,    13,  1,      3,2,19960418,  7.4933, -49.4945,   23,   3696.0,   2.2893,  -9.0000,9,  34.8994,2,     -9.0,9,    264.4,2,    32.46,2,    18.76,2,     0.00,2,     1.31,2,    0.147,2,    0.072,2,     -9.0,9,     -9.0,9,-999.0000,  -999.00,9,   1.9808
  33LK19960415,  AR04,    13,  1,      2,2,19960418,  7.4933, -49.4945,   23,   3981.6,   2.1877,  -9.0000,9,  34.8878,2,     -9.0,9,    261.5,2,    38.07,2,    19.49,2,     0.00,2,     1.38,2,    0.114,2,    0.061,2,     -9.0,9,     -9.0,9,-999.0000,  -999.00,9,   1.8502
  33LK19960415,  AR04,    13,  1,      1,2,19960418,  7.4933, -49.4945,   23,   4291.4,   2.0735,  -9.0000,9,  34.8696,2,     -9.0,9,    255.2,2,    47.80,2,    20.91,2,     0.00,2,     1.48,2,    0.074,2,    0.048,2,     -9.0,9,     -9.0,9,-999.0000,  -999.00,9,   1.7039
  33LK19960415,  AR04,    14,  1,     22,2,19960419,  7.5017, -48.9927,   25,      2.2,  27.0736,  36.0860,2,  36.1490,2,    218.8,3,    201.5,2,     1.01,2,     0.10,2,     0.00,2,     0.04,2,    1.736,2,    0.926,2,   2012.5,2,    352.6,2,   8.1212,    25.00,2,  27.0731
  33LK19960415,  AR04,    14,  1,     21,2,19960419,  7.5017, -48.9927,   25,     70.6,  26.7833,  36.1274,2,  36.1423,2,    204.4,2,    201.4,2,     1.02,2,     0.06,2,     0.00,2,     0.05,2,    1.693,2,    0.900,2,   1998.1,2,     -9.0,9,   8.1192,    25.00,2,  26.7671
  33LK19960415,  AR04,    14,  1,     20,2,19960419,  7.5017, -48.9927,   25,    196.7,  12.7097,  35.4642,2,  35.3410,2,    117.4,2,    117.0,2,    10.66,2,    23.25,2,     0.00,2,     1.47,2,    0.982,2,    0.410,2,   2176.1,2,     -9.0,9,   7.7281,    25.00,2,  12.6830
  33LK19960415,  AR04,    14,  1,     19,2,19960419,  7.5017, -48.9927,   25,    296.1,   9.2650,  34.9103,2,  34.9286,2,    118.0,2,    120.1,2,    15.38,2,    28.22,2,     0.00,2,     1.82,2,    0.608,2,    0.243,2,   2192.7,2,     -9.0,9,   7.6628,    25.00,2,   9.2321
  33LK19960415,  AR04,    14,  1,     18,2,19960419,  7.5017, -48.9927,   25,    496.7,   7.1791,  34.6661,2,  34.6518,2,    120.2,2,    122.1,2,    21.78,2,    33.00,2,     0.00,2,     2.17,2,    0.253,2,    0.103,2,   2200.2,2,     -9.0,9,   7.6031,    25.00,2,   7.1312
  33LK19960415,  AR04,    14,  1,     17,2,19960419,  7.5017, -48.9927,   25,    795.8,   5.3952,  34.5913,2,  34.5999,2,    135.3,2,    135.1,2,    29.55,2,    34.38,2,     0.00,2,     2.32,2,    0.045,2,    0.015,2,   2202.4,2,     -9.0,9,   7.5888,    25.00,2,   5.3275
  33LK19960415,  AR04,    14,  1,     16,2,19960419,  7.5017, -48.9927,   25,    995.3,   5.0655,  34.6996,2,  34.7251,2,    148.0,2,    150.8,2,    29.15,2,    31.55,2,     0.00,2,     2.15,2,    0.025,2,    0.010,2,   2190.5,3,     -9.0,9,   7.6187,    25.00,2,   4.9818
  33LK19960415,  AR04,    14,  1,     14,2,19960419,  7.5017, -48.9927,   25,   1295.3,   5.0578,  34.9583,2,  34.9787,2,    197.6,2,    207.0,2,    19.69,2,    22.97,2,     0.00,2,     1.51,2,    0.238,2,    0.105,2,   2148.2,3,     -9.0,9,   7.7218,    25.00,2,   4.9456
  33LK19960415,  AR04,    14,  1,     15,2,19960419,  7.5017, -48.9927,   25,   1295.3,   5.0456,  34.9560,2,  34.9786,2,    197.4,2,    206.9,2,    19.62,2,    22.78,2,     0.00,2,     1.52,2,   -9.000,9,   -9.000,9,   2132.0,3,     -9.0,9,   7.7123,    25.00,2,   4.9335
  33LK19960415,  AR04,    14,  1,     13,2,19960419,  7.5017, -48.9927,   25,   1496.4,   4.5677,  35.0057,2,  35.0016,2,    233.7,2,    233.6,2,    17.06,2,    20.41,2,     0.00,2,     1.34,2,    0.212,2,    0.095,2,   2125.8,3,     -9.0,9,   7.7499,    25.00,2,   4.4414
  33LK19960415,  AR04,    14,  1,     12,2,19960419,  7.5017, -48.9927,   25,   1594.9,   4.2452,  35.0003,2,  35.0010,2,    245.3,2,    244.7,2,    16.26,2,    19.55,2,     0.00,2,     1.26,2,    0.236,2,    0.113,2,   2149.5,2,     -9.0,9,   7.7581,    25.00,2,   4.1133
  33LK19960415,  AR04,    14,  1,     11,2,19960419,  7.5017, -48.9927,   25,   1694.5,   3.9913,  34.9919,2,  34.9938,2,    249.5,2,    248.9,2,    16.97,2,    19.46,2,     0.00,2,     1.26,2,    0.164,2,    0.081,2,   2122.4,3,     -9.0,9,   7.7673,    25.00,2,   3.8531
  33LK19960415,  AR04,    14,  1,     10,2,19960419,  7.5017, -48.9927,   25,   1796.0,   3.8118,  34.9875,2,  34.9897,2,    255.3,2,    254.4,2,    17.22,2,    19.12,2,     0.00,2,     1.23,2,    0.156,2,    0.078,2,   2122.1,3,     -9.0,9,   7.7683,    25.00,2,   3.6664
  33LK19960415,  AR04,    14,  1,      9,2,19960419,  7.5017, -48.9927,   25,   1893.0,   3.6859,  34.9830,2,  34.9847,2,    256.2,2,    255.0,2,    18.28,2,    19.02,2,     0.00,2,     1.22,2,    0.117,2,    0.063,2,   2123.5,3,     -9.0,9,   7.7700,    25.00,2,   3.5331
  33LK19960415,  AR04,    14,  1,      8,2,19960419,  7.5017, -48.9927,   25,   1995.5,   3.5383,  34.9765,2,  34.9789,2,    256.1,3,    256.6,2,    19.13,2,    19.21,2,     0.00,2,     1.23,2,    0.100,2,    0.060,2,   2145.4,3,     -9.0,9,   7.7715,    25.00,2,   3.3780
  33LK19960415,  AR04,    14,  1,      7,2,19960419,  7.5017, -48.9927,   25,   2397.1,   3.1445,  34.9571,2,  34.9599,2,    258.7,3,    259.7,2,    22.42,2,    18.92,2,     0.00,2,     1.23,2,    0.096,2,    0.047,2,   2125.1,3,     -9.0,9,   7.7710,    25.00,2,   2.9519
  33LK19960415,  AR04,    14,  1,      6,2,19960419,  7.5017, -48.9927,   25,   2697.7,   2.8874,  34.9425,2,  34.9433,2,    257.6,3,    259.7,2,    26.91,2,    19.38,2,     0.00,2,     1.28,2,    0.078,2,    0.048,2,   2128.0,3,     -9.0,9,   7.7689,    25.00,2,   2.6699
  33LK19960415,  AR04,    14,  1,      5,2,19960419,  7.5017, -48.9927,   25,   2997.0,  -9.0000,  -9.0000,4,  34.9273,2,     -9.0,4,    257.5,2,    31.79,2,    19.89,2,     0.00,2,     1.31,2,    0.087,2,    0.043,2,   2171.9,2,     -9.0,9,-999.0000,  -999.00,9,  -9.0000
  33LK19960415,  AR04,    14,  1,      4,2,19960419,  7.5017, -48.9927,   25,   3293.3,   2.4913,  34.9147,2,  34.9154,2,    257.7,3,    261.4,2,    32.17,2,    19.49,2,     0.00,2,     1.28,2,    0.134,2,    0.071,2,   2212.1,3,     -9.0,9,   7.7663,    25.00,2,   2.2212
  33LK19960415,  AR04,    14,  1,      3,2,19960419,  7.5017, -48.9927,   25,   3695.3,   2.2758,  34.8998,2,  34.8991,2,    262.2,3,    265.4,2,    33.27,2,    19.13,2,     0.00,2,     1.28,2,    0.179,2,    0.097,2,   2191.1,2,     -9.0,9,   7.7593,    25.00,2,   1.9678
  33LK19960415,  AR04,    14,  1,      2,2,19960419,  7.5017, -48.9927,   25,   3992.6,   2.2188,  34.8947,2,  34.8912,2,    261.6,3,    264.0,2,    36.80,2,    19.88,2,     0.00,2,     1.31,2,    0.159,2,    0.098,2,   2206.6,2,     -9.0,9,   7.7601,    25.00,2,   1.8792
  33LK19960415,  AR04,    14,  1,      1,2,19960419,  7.5017, -48.9927,   25,   4360.0,   2.1017,  34.8760,2,  34.8717,2,    253.5,3,    256.3,2,    47.88,2,    21.38,2,     0.03,2,     1.58,2,    0.080,2,    0.052,2,   2194.8,3,     -9.0,9,   7.7442,    25.00,2,   1.7233
  33LK19960415,  AR04,    15,  1,     21,9,19960419,  7.4980, -48.5042,   25,     -9.0,  -9.0000,  -9.0000,9,  -9.0000,9,     -9.0,9,     -9.0,9,    -9.00,9,    -9.00,9,    -9.00,9,    -9.00,9,   -9.000,9,   -9.000,9,     -9.0,9,     -9.0,9,-999.0000,  -999.00,9,  -9.0000
  33LK19960415,  AR04,    15,  1,     22,9,19960419,  7.4980, -48.5042,   25,     -9.0,  -9.0000,  -9.0000,9,  -9.0000,9,     -9.0,9,     -9.0,9,    -9.00,9,    -9.00,9,    -9.00,9,    -9.00,9,   -9.000,9,   -9.000,9,     -9.0,9,     -9.0,9,-999.0000,  -999.00,9,  -9.0000
  33LK19960415,  AR04,    15,  1,     20,2,19960419,  7.4980, -48.5042,   25,    188.4,  12.3287,  35.3801,2,  35.3193,2,     96.0,2,    103.3,2,    10.60,2,    24.80,2,     0.00,2,     1.57,2,    0.907,2,    0.321,2,     -9.0,9,     -9.0,9,-999.0000,  -999.00,9,  12.3036
  33LK19960415,  AR04,    15,  1,     19,2,19960419,  7.4980, -48.5042,   25,    296.1,   9.9990,  35.0417,2,  34.9892,2,    105.4,2,    106.7,2,    14.70,2,    28.60,2,     0.00,2,     1.85,2,    0.557,2,    0.194,2,     -9.0,9,     -9.0,9,-999.0000,  -999.00,9,   9.9645
  33LK19960415,  AR04,    15,  1,     18,2,19960419,  7.4980, -48.5042,   25,    495.1,   7.6786,  34.7585,2,  34.7554,2,    119.4,2,    116.6,2,    20.76,2,    32.05,2,     0.00,2,     2.12,2,    0.242,2,    0.064,2,     -9.0,9,     -9.0,9,-999.0000,  -999.00,9,   7.6289
  33LK19960415,  AR04,    15,  1,     17,2,19960419,  7.4980, -48.5042,   25,    792.0,   5.3222,  34.5949,2,  34.6098,2,    136.6,2,    134.7,2,    29.86,2,    34.25,2,     0.00,2,     2.35,2,    0.029,2,    0.006,2,     -9.0,9,     -9.0,9,-999.0000,  -999.00,9,   5.2553
  33LK19960415,  AR04,    15,  1,     15,2,19960419,  7.4980, -48.5042,   25,    995.9,   4.9458,  34.6920,2,  34.7197,2,    150.2,2,    151.9,2,    29.41,2,    31.57,2,     0.00,2,     2.17,2,   -9.000,9,   -9.000,9,     -9.0,9,     -9.0,9,-999.0000,  -999.00,9,   4.8629
  33LK19960415,  AR04,    15,  1,     16,2,19960419,  7.4980, -48.5042,   25,    996.6,   4.9458,  34.6906,2,  34.7190,2,    150.3,2,    151.9,2,    29.42,2,    31.64,2,     0.00,2,     2.16,2,    0.012,2,    0.000,2,     -9.0,9,     -9.0,9,-999.0000,  -999.00,9,   4.8628
  33LK19960415,  AR04,    15,  1,     14,2,19960419,  7.4980, -48.5042,   25,   1295.9,   4.9905,  34.9604,2,  34.9750,2,    200.9,2,    205.7,2,    19.78,2,    23.10,2,     0.00,2,     1.55,2,    0.194,2,    0.071,2,     -9.0,9,     -9.0,9,-999.0000,  -999.00,9,   4.8789
  33LK19960415,  AR04,    15,  1,     13,2,19960419,  7.4980, -48.5042,   25,   1496.0,   4.4541,  35.0085,2,  35.0100,2,    241.0,2,    240.6,2,    15.73,2,    19.56,2,     0.00,2,     1.31,2,    0.355,2,    0.153,2,     -9.0,9,     -9.0,9,-999.0000,  -999.00,9,   4.3290
  33LK19960415,  AR04,    15,  1,     12,2,19960419,  7.4980, -48.5042,   25,   1595.1,   4.1420,  34.9999,2,  35.0033,2,    250.8,2,    250.8,2,    15.34,2,    18.85,2,     0.00,2,     1.25,2,    0.336,2,    0.149,2,     -9.0,9,     -9.0,9,-999.0000,  -999.00,9,   4.0113
  33LK19960415,  AR04,    15,  1,     11,2,19960419,  7.4980, -48.5042,   25,   1700.1,   3.8907,  34.9872,2,  34.9906,2,    253.1,2,    252.3,2,    16.69,2,    18.98,2,     0.00,2,     1.26,2,    0.184,2,    0.085,2,     -9.0,9,     -9.0,9,-999.0000,  -999.00,9,   3.7533
  33LK19960415,  AR04,    15,  1,     10,2,19960419,  7.4980, -48.5042,   25,   1792.7,   3.7240,  34.9815,2,  34.9842,2,    254.1,2,    253.6,2,    17.83,2,    19.09,2,     0.00,2,     1.27,2,    0.123,2,    0.059,2,     -9.0,9,     -9.0,9,-999.0000,  -999.00,9,   3.5801
  33LK19960415,  AR04,    15,  1,      9,2,19960419,  7.4980, -48.5042,   25,   1898.3,   3.5808,  34.9775,2,  34.9806,2,    256.1,2,    256.5,3,    18.41,2,    18.77,2,     0.00,2,     1.26,2,    0.123,2,    0.051,2,     -9.0,9,     -9.0,9,-999.0000,  -999.00,9,   3.4290
  33LK19960415,  AR04,    15,  1,      8,2,19960419,  7.4980, -48.5042,   25,   1996.9,   3.4373,  34.9716,2,  34.9742,2,    257.6,2,    257.1,2,    19.69,2,    18.85,2,     0.00,2,     1.26,2,    0.087,2,    0.039,2,     -9.0,9,     -9.0,9,-999.0000,  -999.00,9,   3.2784
  33LK19960415,  AR04,    15,  1,      7,2,19960419,  7.4980, -48.5042,   25,   2396.0,   3.0591,  34.9525,2,  34.9539,2,    259.3,3,    259.8,2,    23.32,2,    18.83,2,     0.00,2,     1.26,2,    0.079,2,    0.042,2,     -9.0,9,     -9.0,9,-999.0000,  -999.00,9,   2.8682
  33LK19960415,  AR04,    15,  1,      6,2,19960419,  7.4980, -48.5042,   25,   2698.3,   2.8468,  34.9382,2,  34.9399,2,    257.8,3,    258.8,2,    26.98,2,    19.15,2,     0.00,2,     1.31,2,    0.075,2,    0.040,2,     -9.0,9,     -9.0,9,-999.0000,  -999.00,9,   2.6301
  33LK19960415,  AR04,    15,  1,      5,2,19960419,  7.4980, -48.5042,   25,   2994.2,   2.6486,  34.9242,2,  34.9258,2,    258.5,3,    258.3,2,    30.87,2,    19.39,2,     0.00,2,     1.32,2,    0.088,2,    0.044,2,     -9.0,9,     -9.0,9,-999.0000,  -999.00,9,   2.4060
  33LK19960415,  AR04,    15,  1,      4,2,19960419,  7.4980, -48.5042,   25,   3293.1,   2.4677,  34.9128,2,  34.9143,2,    261.6,3,    262.4,2,    30.84,2,    18.94,2,     0.00,2,     1.29,2,    0.160,2,    0.073,2,     -9.0,9,     -9.0,9,-999.0000,  -999.00,9,   2.1981
  33LK19960415,  AR04,    15,  1,      3,2,19960419,  7.4980, -48.5042,   25,   3693.7,   2.3005,  34.9000,2,  34.9002,2,    264.2,3,    264.1,2,    33.29,2,    18.92,2,     0.00,2,     1.32,2,    0.162,2,    0.078,2,     -9.0,9,     -9.0,9,-999.0000,  -999.00,9,   1.9920
  33LK19960415,  AR04,    15,  1,      2,2,19960419,  7.4980, -48.5042,   25,   3994.1,   2.2273,  34.8909,2,  34.8922,2,    264.2,3,    262.4,2,    35.73,2,    19.17,2,     0.00,2,     1.31,2,    0.173,2,    0.089,2,     -9.0,9,     -9.0,9,-999.0000,  -999.00,9,   1.8873
  33LK19960415,  AR04,    15,  1,      1,2,19960419,  7.4980, -48.5042,   25,   4352.9,   2.1701,  34.8786,2,  34.8813,2,    259.0,3,    259.3,2,    41.98,2,    20.10,2,     0.00,2,     1.38,2,    0.131,2,    0.082,2,     -9.0,9,     -9.0,9,-999.0000,  -999.00,9,   1.7904