BOTTLE,20090511PRINUNIVRMK
EXPOCODE,SECT_ID,STNNBR,CASTNO,BTLNBR,BTLNBR_FLAG_W,DATE,LATITUDE,LONGITUDE,DEPTH,CTDPRS,CTDTMP,CTDSAL,CTDSAL_FLAG_W,SALNTY,SALNTY_FLAG_W,CTDOXY,CTDOXY_FLAG_W,OXYGEN,OXYGEN_FLAG_W,SILCAT,SILCAT_FLAG_W,NITRAT,NITRAT_FLAG_W,NITRIT,NITRIT_FLAG_W,PHSPHT,PHSPHT_FLAG_W,CFC-11,CFC-11_FLAG_W,CFC-12,CFC-12_FLAG_W,TCARBN,TCARBN_FLAG_W,PCO2,PCO2_FLAG_W,PH_SWS,PH_TEMP,PH_SWS_FLAG_W,THETA
,,,,,,,,,METERS,DBARS,ITS-90,PSS-78,,PSS-78,,UMOL/KG,,UMOL/KG,,UMOL/KG,,UMOL/KG,,UMOL/KG,,UMOL/KG,,PMOL/KG,,PMOL/KG,,UMOL/KG,,PPM,,,DEGC,,DEGC
  33LK19960415,  AR04,    23,  2,     22,2,19960421,  7.4985, -43.3330, -999,    593.4,   6.8416,  34.6767,2,  34.6794,2,     -9.0,9,    115.2,2,    21.79,2,    33.63,2,     0.00,2,     2.20,2,    0.142,2,    0.047,2,     -9.0,9,     -9.0,9,-999.0000,  -999.00,9,   6.7854
  33LK19960415,  AR04,    23,  2,     21,2,19960421,  7.4985, -43.3330, -999,    794.1,   5.5081,  34.6181,2,  34.6173,2,     -9.0,9,    127.1,2,    27.42,2,    34.60,2,     0.00,2,     2.30,2,    0.020,2,   -0.001,2,     -9.0,9,     -9.0,9,-999.0000,  -999.00,9,   5.4399
  33LK19960415,  AR04,    23,  2,     20,2,19960421,  7.4985, -43.3330, -999,    896.5,   5.0621,  34.6528,2,  34.6424,2,     -9.0,9,    136.4,2,    28.73,2,    33.89,2,     0.00,2,     2.27,2,   -0.002,2,   -9.000,9,     -9.0,9,     -9.0,9,-999.0000,  -999.00,9,   4.9874
  33LK19960415,  AR04,    23,  2,     19,2,19960421,  7.4985, -43.3330, -999,    998.8,   4.9028,  34.7118,2,  34.7041,2,     -9.0,9,    146.8,2,    28.19,2,    32.51,2,     0.00,2,     2.19,2,   -0.006,2,   -9.000,9,     -9.0,9,     -9.0,9,-999.0000,  -999.00,9,   4.8200
  33LK19960415,  AR04,    23,  2,     18,2,19960421,  7.4985, -43.3330, -999,   1196.1,   4.7977,  34.8714,2,  34.8570,2,     -9.0,9,    176.2,2,    23.94,2,    28.03,2,     0.00,2,     1.89,2,    0.010,2,    0.001,2,     -9.0,9,     -9.0,9,-999.0000,  -999.00,9,   4.6975
  33LK19960415,  AR04,    23,  2,     17,2,19960421,  7.4985, -43.3330, -999,   1392.0,   4.6132,  34.9577,2,  34.9403,2,     -9.0,9,    205.7,2,    20.17,2,    24.18,2,     0.00,2,     1.58,2,    0.047,2,    0.018,2,     -9.0,9,     -9.0,9,-999.0000,  -999.00,9,   4.4964
  33LK19960415,  AR04,    23,  2,     16,2,19960421,  7.4985, -43.3330, -999,   1494.0,   4.4672,  34.9942,2,  34.9940,2,     -9.0,9,    228.7,2,    16.77,2,    21.16,2,     0.00,2,     1.38,2,    0.194,2,    0.082,2,     -9.0,9,     -9.0,9,-999.0000,  -999.00,9,   4.3422
  33LK19960415,  AR04,    23,  2,     15,2,19960421,  7.4985, -43.3330, -999,   1594.5,   4.2584,  34.9957,2,  34.9947,2,     -9.0,9,    238.2,2,    16.28,2,    20.41,2,     0.00,2,     1.31,2,    0.174,2,    0.072,2,     -9.0,9,     -9.0,9,-999.0000,  -999.00,9,   4.1264
  33LK19960415,  AR04,    23,  2,     14,2,19960421,  7.4985, -43.3330, -999,   1688.1,   4.0714,  34.9941,2,  34.9941,2,     -9.0,9,    245.8,2,    15.92,2,    19.75,2,     0.00,2,     1.29,2,    0.195,2,    0.087,2,     -9.0,9,     -9.0,9,-999.0000,  -999.00,9,   3.9328
  33LK19960415,  AR04,    23,  2,     13,2,19960421,  7.4985, -43.3330, -999,   1796.9,   3.8522,  34.9892,2,  34.9926,2,     -9.0,9,    253.1,2,    15.89,2,    19.10,2,     0.00,2,     1.22,2,    0.188,2,    0.089,2,     -9.0,9,     -9.0,9,-999.0000,  -999.00,9,   3.7062
  33LK19960415,  AR04,    23,  2,     12,2,19960421,  7.4985, -43.3330, -999,   1997.1,   3.5626,  34.9771,2,  34.9783,2,     -9.0,9,    254.7,2,    18.03,2,    19.22,2,     0.00,2,     1.24,2,    0.079,2,    0.044,2,     -9.0,9,     -9.0,9,-999.0000,  -999.00,9,   3.4018
  33LK19960415,  AR04,    23,  2,     11,2,19960421,  7.4985, -43.3330, -999,   2296.5,   3.3032,  34.9652,2,  34.9661,2,     -9.0,9,    258.4,2,    20.03,2,    19.04,2,     0.00,2,     1.23,2,    0.081,2,    0.038,2,     -9.0,9,     -9.0,9,-999.0000,  -999.00,9,   3.1177
  33LK19960415,  AR04,    23,  2,     10,2,19960421,  7.4985, -43.3330, -999,   2596.2,   3.0389,  34.9498,2,  34.9511,2,     -9.0,9,    258.8,2,    23.11,2,    19.36,2,     0.00,2,     1.24,2,    0.049,2,    0.024,2,     -9.0,9,     -9.0,9,-999.0000,  -999.00,9,   2.8286
  33LK19960415,  AR04,    23,  2,      9,2,19960421,  7.4985, -43.3330, -999,   2998.3,   2.7663,  34.9315,2,  34.9313,2,     -9.0,9,    257.5,2,    29.14,2,    20.11,2,     0.00,2,     1.29,2,    0.025,2,    0.018,2,     -9.0,9,     -9.0,9,-999.0000,  -999.00,9,   2.5207
  33LK19960415,  AR04,    23,  2,      8,2,19960421,  7.4985, -43.3330, -999,   3296.2,   2.5276,  34.9162,2,  34.9130,2,     -9.0,9,    256.9,2,    33.10,2,    20.44,2,     0.00,2,     1.33,2,    0.057,2,    0.031,2,     -9.0,9,     -9.0,9,-999.0000,  -999.00,9,   2.2563
  33LK19960415,  AR04,    23,  2,      7,2,19960421,  7.4985, -43.3330, -999,   3695.2,   2.3539,  34.9031,2,  34.9019,2,     -9.0,9,    261.8,2,    32.15,2,    19.66,2,     0.00,2,     1.29,2,    0.089,2,    0.030,2,     -9.0,9,     -9.0,9,-999.0000,  -999.00,9,   2.0438
  33LK19960415,  AR04,    23,  2,      6,2,19960421,  7.4985, -43.3330, -999,   3995.3,   2.2553,  34.8941,2,  34.8948,2,     -9.0,9,    262.6,2,    33.72,2,    19.58,2,     0.00,2,     1.29,2,    0.107,2,    0.054,2,     -9.0,9,     -9.0,9,-999.0000,  -999.00,9,   1.9144
  33LK19960415,  AR04,    23,  2,      5,2,19960421,  7.4985, -43.3330, -999,   4196.9,   2.1960,  34.8852,2,  34.8842,2,     -9.0,9,    260.3,2,    37.73,2,    20.24,2,     0.00,2,     1.33,2,    0.103,2,    0.054,2,     -9.0,9,     -9.0,9,-999.0000,  -999.00,9,   1.8337
  33LK19960415,  AR04,    23,  2,      4,2,19960421,  7.4985, -43.3330, -999,   4399.2,   2.0646,  34.8675,2,  34.8652,2,     -9.0,9,    254.3,2,    46.88,2,    21.59,2,     0.00,2,     1.44,2,    0.066,2,    0.034,2,     -9.0,9,     -9.0,9,-999.0000,  -999.00,9,   1.6827
  33LK19960415,  AR04,    23,  2,      2,2,19960421,  7.4985, -43.3330, -999,   4596.3,   1.6418,  34.8158,2,  34.8146,2,     -9.0,9,    244.6,2,    74.96,2,    24.89,2,     0.00,2,     1.70,2,    0.026,2,    0.014,2,     -9.0,9,     -9.0,9,-999.0000,  -999.00,9,   1.2502
  33LK19960415,  AR04,    23,  2,      3,2,19960421,  7.4985, -43.3330, -999,   4596.3,   1.6418,  34.8158,2,  34.8150,2,     -9.0,9,    242.7,2,    74.96,2,    24.92,2,     0.00,2,     1.68,2,   -9.000,9,   -9.000,9,     -9.0,9,     -9.0,9,-999.0000,  -999.00,9,   1.2502
  33LK19960415,  AR04,    23,  2,      1,2,19960421,  7.4985, -43.3330, -999,   4839.2,   1.5068,  34.7962,2,  34.7958,2,     -9.0,9,    237.7,2,    83.44,2,    26.16,2,     0.00,2,     1.80,2,    0.018,2,    0.012,2,     -9.0,9,     -9.0,9,-999.0000,  -999.00,9,   1.0908
  33LK19960415,  AR04,    24,  1,      6,2,19960422,  7.4990, -42.6700, -999,      5.0,  27.3233,  36.0996,2,  36.1073,2,     -9.0,9,    199.6,2,     1.55,2,     0.13,2,     0.00,2,     0.06,2,    1.926,2,    0.876,2,   2005.4,2,    356.0,2,   8.0648,    25.00,2,  27.3221
  33LK19960415,  AR04,    24,  1,      5,2,19960422,  7.4990, -42.6700, -999,     49.4,  27.2526,  36.1145,2,  36.1071,2,     -9.0,9,    199.7,2,     1.53,2,     0.17,2,     0.00,2,     0.05,2,    1.891,2,    0.851,2,   2006.6,2,     -9.0,9,   8.0653,    25.00,2,  27.2412
  33LK19960415,  AR04,    24,  1,      4,2,19960422,  7.4990, -42.6700, -999,    149.6,  14.5905,  35.6947,2,  35.8566,2,     -9.0,9,    118.6,2,     6.78,2,    17.43,2,     0.03,2,     1.06,2,    1.519,2,    0.594,2,   2185.2,2,     -9.0,9,   7.7924,    25.00,2,  14.5681
  33LK19960415,  AR04,    24,  1,      3,2,19960422,  7.4990, -42.6700, -999,    248.4,  10.1641,  34.9805,2,  34.9751,2,     -9.0,9,    113.0,2,    13.29,2,    27.27,2,     0.01,2,     1.73,2,    0.795,2,    0.279,2,   2183.5,2,     -9.0,9,   7.6552,    25.00,2,  10.1349
  33LK19960415,  AR04,    24,  1,      2,2,19960422,  7.4990, -42.6700, -999,    398.8,   8.5419,  34.7954,2,  34.7980,2,     -9.0,9,    111.7,2,    17.05,2,    30.85,2,     0.00,2,     1.95,2,    0.443,2,    0.143,2,   2199.0,2,     -9.0,9,   7.6002,    25.00,2,   8.4995
  33LK19960415,  AR04,    24,  1,      1,2,19960422,  7.4990, -42.6700, -999,    502.9,   7.7318,  34.7197,2,  34.7221,2,     -9.0,9,    108.1,2,    19.86,2,    33.04,2,     0.00,2,     2.10,2,    0.244,2,    0.079,2,   2209.8,2,     -9.0,9,   7.5834,    25.00,2,   7.6811
  33LK19960415,  AR04,    24,  2,     22,2,19960422,  7.4990, -42.6700, -999,    594.3,   6.7470,  34.6555,2,  34.6352,2,     -9.0,9,    118.3,2,    24.70,2,    34.68,2,     0.00,2,     2.24,2,    0.086,2,    0.018,2,   2212.5,2,     -9.0,9,   7.5638,    25.00,2,   6.6912
  33LK19960415,  AR04,    24,  2,     21,2,19960422,  7.4990, -42.6700, -999,    792.0,   5.2892,  34.5980,2,  34.6106,2,     -9.0,9,    133.9,2,    29.82,2,    34.59,2,     0.00,2,     2.30,2,    0.006,2,   -0.001,2,   2208.6,2,     -9.0,9,   7.5689,    25.00,2,   5.2225
  33LK19960415,  AR04,    24,  2,     20,2,19960422,  7.4990, -42.6700, -999,    894.0,   5.0823,  34.6738,2,  34.6820,2,     -9.0,9,    142.5,2,    29.79,2,    33.21,2,     0.00,2,     2.24,2,   -0.003,2,   -9.000,9,   2212.4,2,     -9.0,9,   7.5788,    25.00,2,   5.0077
  33LK19960415,  AR04,    24,  2,     19,2,19960422,  7.4990, -42.6700, -999,    994.8,   4.8831,  34.7451,2,  34.7437,2,     -9.0,9,    154.7,2,    28.63,2,    31.25,2,     0.00,2,     2.12,2,   -0.002,2,    0.000,2,   2210.3,2,     -9.0,9,   7.6069,    25.00,2,   4.8007
  33LK19960415,  AR04,    24,  2,     18,2,19960422,  7.4990, -42.6700, -999,   1196.9,   4.7199,  34.8925,2,  34.8774,2,     -9.0,9,    182.4,2,    24.25,2,    26.93,2,     0.00,2,     1.81,2,    0.028,2,    0.005,2,   2184.9,2,     -9.0,9,   7.6577,    25.00,2,   4.6203
  33LK19960415,  AR04,    24,  2,     17,2,19960422,  7.4990, -42.6700, -999,   1397.2,   4.5346,  34.9589,2,  34.9520,2,     -9.0,9,    211.4,2,    20.19,2,    23.20,2,     0.00,2,     1.54,2,    0.050,2,    0.015,2,   2171.6,2,     -9.0,9,   7.6992,    25.00,2,   4.4181
  33LK19960415,  AR04,    24,  2,     16,2,19960422,  7.4990, -42.6700, -999,   1501.4,   4.3696,  34.9807,2,  34.9789,2,     -9.0,9,    227.3,2,    18.26,2,    21.38,2,     0.00,2,     1.41,2,    0.085,2,    0.029,2,   2155.1,2,     -9.0,9,   7.7191,    25.00,2,   4.2451
  33LK19960415,  AR04,    24,  2,     15,2,19960422,  7.4990, -42.6700, -999,   1595.1,   4.2184,  34.9862,2,  34.9871,2,     -9.0,9,    238.6,2,    17.36,2,    20.30,2,     0.00,2,     1.34,2,    0.100,2,    0.042,2,   2154.9,2,     -9.0,9,   7.7203,    25.00,2,   4.0868
  33LK19960415,  AR04,    24,  2,     14,2,19960422,  7.4990, -42.6700, -999,   1696.1,   4.0376,  34.9852,2,  34.9876,2,     -9.0,9,    245.9,2,    17.14,2,    19.61,2,     0.00,2,     1.29,2,    0.093,2,    0.040,2,   2155.1,2,     -9.0,9,   7.7400,    25.00,2,   3.8987
  33LK19960415,  AR04,    24,  2,     13,2,19960422,  7.4990, -42.6700, -999,   1793.8,   3.8943,  34.9831,2,  34.9852,2,     -9.0,9,    249.8,2,    17.40,2,    19.34,2,     0.00,2,     1.28,2,    0.085,2,    0.035,2,   2144.0,3,     -9.0,9,   7.7414,    25.00,3,   3.7481
  33LK19960415,  AR04,    24,  2,     12,2,19960422,  7.4990, -42.6700, -999,   1996.9,   3.6127,  34.9743,2,  34.9770,2,     -9.0,9,    254.5,2,    19.00,2,    19.16,2,     0.00,2,     1.25,2,    0.045,2,    0.027,2,   2136.6,3,     -9.0,9,   7.7446,    25.00,3,   3.4512
  33LK19960415,  AR04,    24,  2,     11,2,19960422,  7.4990, -42.6700, -999,   2295.8,   3.2303,  34.9554,2,  34.9559,2,     -9.0,9,    254.7,2,    24.01,2,    19.56,2,     0.00,2,     1.27,2,    0.010,2,    0.007,2,   2134.1,3,     -9.0,9,   7.7499,    25.00,3,   3.0461
  33LK19960415,  AR04,    24,  2,     10,2,19960422,  7.4990, -42.6700, -999,   2592.9,   3.0274,  34.9463,2,  34.9474,2,     -9.0,9,    258.7,2,    25.28,2,    19.28,2,     0.00,2,     1.28,2,    0.024,2,    0.013,2,   2128.2,3,     -9.0,9,   7.7485,    25.00,3,   2.8177
  33LK19960415,  AR04,    24,  2,      9,2,19960422,  7.4990, -42.6700, -999,   2992.7,   2.7554,  34.9290,2,  34.9299,2,     -9.0,9,    258.4,2,    30.06,2,    19.52,2,     0.00,2,     1.33,2,    0.037,2,    0.016,2,   2143.2,3,     -9.0,9,   7.7498,    25.00,3,   2.5107
  33LK19960415,  AR04,    24,  2,      8,2,19960422,  7.4990, -42.6700, -999,   3295.9,   2.5454,  34.9131,2,  34.9152,2,     -9.0,9,    257.9,2,    33.67,2,    19.79,2,     0.00,2,     1.35,2,    0.109,2,    0.038,2,   2144.0,3,     -9.0,9,   7.7486,    25.00,3,   2.2737
  33LK19960415,  AR04,    24,  2,      7,2,19960422,  7.4990, -42.6700, -999,   3690.5,   2.3363,  34.9023,2,  34.9026,2,     -9.0,9,    263.9,2,    32.05,2,    19.01,2,     0.00,2,     1.26,2,    0.135,2,    0.055,2,   2146.6,3,     -9.0,9,   7.7508,    25.00,2,   2.0272
  33LK19960415,  AR04,    24,  2,      6,2,19960422,  7.4990, -42.6700, -999,   3997.9,   2.2364,  34.8925,2,  34.8897,2,     -9.0,9,    264.0,2,    35.20,2,    19.20,2,     0.00,2,     1.28,2,    0.141,2,    0.059,2,   2159.6,3,     -9.0,9,   7.7513,    25.00,2,   1.8957
  33LK19960415,  AR04,    24,  2,      5,2,19960422,  7.4990, -42.6700, -999,   4248.0,   2.1692,  34.8816,2,  34.8813,2,     -9.0,9,    259.0,2,    41.36,2,    20.09,2,     0.00,2,     1.34,2,    0.110,2,    0.047,2,   2151.1,3,     -9.0,9,   7.7411,    25.00,2,   1.8018
  33LK19960415,  AR04,    24,  2,      4,2,19960422,  7.4990, -42.6700, -999,   4497.1,   1.8968,  34.8454,2,  34.8443,2,     -9.0,9,    250.9,2,    58.59,2,    22.66,2,     0.00,2,     1.53,2,    0.071,2,    0.028,2,   2171.9,3,     -9.0,9,   7.7280,    25.00,2,   1.5087
  33LK19960415,  AR04,    24,  2,      3,2,19960422,  7.4990, -42.6700, -999,   4696.9,   1.5916,  34.8076,2,  34.8056,2,     -9.0,9,    242.4,2,    78.85,2,    25.26,2,     0.00,2,     1.75,2,    0.024,2,    0.008,2,   2151.2,3,     -9.0,9,   7.6947,    25.00,2,   1.1898
  33LK19960415,  AR04,    24,  2,      2,2,19960422,  7.4990, -42.6700, -999,   4862.6,   1.5210,  34.7980,2,  34.7976,2,     -9.0,9,    239.5,2,    82.63,2,    25.93,2,     0.00,2,     1.77,2,   -9.000,9,   -9.000,9,   2186.3,3,     -9.0,9,   7.6817,    25.00,2,   1.1018
  33LK19960415,  AR04,    24,  2,      1,2,19960422,  7.4990, -42.6700, -999,   4862.8,   1.5202,  34.7989,2,  34.7968,2,     -9.0,9,    240.6,2,    82.92,2,    25.91,2,     0.00,2,     1.80,2,    0.019,2,    0.009,2,   2177.6,3,     -9.0,9,   7.6907,    25.00,2,   1.1010
  33LK19960415,  AR04,    25,  1,      6,2,19960422,  7.4992, -42.0023, -999,      6.2,  27.1772,  36.0754,2,  36.0756,2,     -9.0,9,    200.3,2,     0.68,2,     0.31,2,     0.01,2,     0.00,2,    1.748,2,    0.880,2,   2029.6,2,    351.8,2,   8.0928,    25.00,2,  27.1758
  33LK19960415,  AR04,    25,  1,      5,2,19960422,  7.4992, -42.0023, -999,     82.3,  25.2082,  36.3119,2,  36.0984,2,     -9.0,9,    200.2,2,     0.62,2,     0.39,2,     0.01,2,     0.03,2,    1.711,2,    0.863,2,     -9.0,9,     -9.0,9,-999.0000,  -999.00,9,  25.1902
  33LK19960415,  AR04,    25,  1,      4,2,19960422,  7.4992, -42.0023, -999,    152.8,  13.0451,  35.3390,2,  35.9503,2,     -9.0,9,    123.3,2,     4.96,2,    15.07,2,     0.04,2,     0.89,2,    1.429,2,    0.564,2,     -9.0,9,     -9.0,9,-999.0000,  -999.00,9,  13.0239
  33LK19960415,  AR04,    25,  1,      3,2,19960422,  7.4992, -42.0023, -999,    250.7,   9.6585,  34.9090,2,  34.9683,2,     -9.0,9,    119.7,2,    12.34,2,    26.94,2,     0.01,2,     1.66,2,    0.772,2,    0.266,2,     -9.0,9,     -9.0,9,-999.0000,  -999.00,9,   9.6300
  33LK19960415,  AR04,    25,  1,      2,2,19960422,  7.4992, -42.0023, -999,    399.1,   8.6342,  34.8134,2,  34.8120,2,     -9.0,9,    112.3,2,    16.01,2,    30.90,2,     0.01,2,     1.93,2,    0.455,2,    0.100,2,     -9.0,9,     -9.0,9,-999.0000,  -999.00,9,   8.5915
  33LK19960415,  AR04,    25,  1,      1,2,19960422,  7.4992, -42.0023, -999,    567.1,   7.2777,  34.6999,2,  34.7068,2,     -9.0,9,    111.2,2,    20.60,2,    33.99,2,     0.00,2,     2.18,2,    0.184,2,    0.056,2,     -9.0,9,     -9.0,9,-999.0000,  -999.00,9,   7.2222