BOTTLE,20090511PRINUNIVRMK
EXPOCODE,SECT_ID,STNNBR,CASTNO,BTLNBR,BTLNBR_FLAG_W,DATE,LATITUDE,LONGITUDE,DEPTH,CTDPRS,CTDTMP,CTDSAL,CTDSAL_FLAG_W,SALNTY,SALNTY_FLAG_W,CTDOXY,CTDOXY_FLAG_W,OXYGEN,OXYGEN_FLAG_W,SILCAT,SILCAT_FLAG_W,NITRAT,NITRAT_FLAG_W,NITRIT,NITRIT_FLAG_W,PHSPHT,PHSPHT_FLAG_W,CFC-11,CFC-11_FLAG_W,CFC-12,CFC-12_FLAG_W,TCARBN,TCARBN_FLAG_W,PCO2,PCO2_FLAG_W,PH_SWS,PH_TEMP,PH_SWS_FLAG_W,THETA
,,,,,,,,,METERS,DBARS,ITS-90,PSS-78,,PSS-78,,UMOL/KG,,UMOL/KG,,UMOL/KG,,UMOL/KG,,UMOL/KG,,UMOL/KG,,PMOL/KG,,PMOL/KG,,UMOL/KG,,PPM,,,DEGC,,DEGC
  33LK19960415,  AR04,    21,  2,     21,2,19960421,  7.4998, -44.6675, -999,    694.4,   6.2020,  34.6293,2,  34.6216,2,    123.6,2,    123.2,2,    25.67,2,    34.52,2,     0.00,2,     2.27,2,   -9.000,9,   -9.000,9,     -9.0,9,     -9.0,9,-999.0000,  -999.00,9,   6.1392
  33LK19960415,  AR04,    21,  2,     22,2,19960421,  7.4998, -44.6675, -999,    695.4,   6.2020,  34.6288,2,  34.6220,2,    123.7,2,    123.1,2,    25.62,2,    34.51,2,     0.00,2,     2.26,2,    0.101,2,    0.017,2,     -9.0,9,     -9.0,9,-999.0000,  -999.00,9,   6.1391
  33LK19960415,  AR04,    21,  2,     20,2,19960421,  7.4998, -44.6675, -999,    793.3,   5.6130,  34.6066,2,  34.6112,2,    131.7,2,    130.3,2,    28.77,2,    34.63,2,     0.00,2,     2.30,2,    0.038,2,    0.010,2,     -9.0,9,     -9.0,9,-999.0000,  -999.00,9,   5.5442
  33LK19960415,  AR04,    21,  2,     19,2,19960421,  7.4998, -44.6675, -999,    995.0,   4.9872,  34.6772,2,  34.7102,2,    146.3,2,    146.6,2,    29.68,2,    32.50,2,     0.00,2,     2.17,2,    0.008,2,    0.001,2,     -9.0,9,     -9.0,9,-999.0000,  -999.00,9,   4.9041
  33LK19960415,  AR04,    21,  2,     18,2,19960421,  7.4998, -44.6675, -999,   1295.3,   4.8269,  34.9464,2,  34.9549,2,    201.0,3,    205.6,2,    20.58,2,    23.74,2,     0.00,2,     1.56,2,    0.107,2,    0.033,2,     -9.0,9,     -9.0,9,-999.0000,  -999.00,9,   4.7170
  33LK19960415,  AR04,    21,  2,     17,2,19960421,  7.4998, -44.6675, -999,   1493.9,   4.4430,  34.9719,2,  34.9739,2,    224.4,3,    224.5,2,    18.91,2,    21.93,2,     0.00,2,     1.44,2,    0.084,2,    0.028,2,     -9.0,9,     -9.0,9,-999.0000,  -999.00,9,   4.3184
  33LK19960415,  AR04,    21,  2,     16,2,19960421,  7.4998, -44.6675, -999,   1594.2,   4.3294,  34.9893,2,  34.9946,2,    235.9,3,    238.6,2,    16.83,2,    20.27,2,     0.00,2,     1.31,2,    0.199,2,    0.079,2,     -9.0,9,     -9.0,9,-999.0000,  -999.00,9,   4.1965
  33LK19960415,  AR04,    21,  2,     15,2,19960421,  7.4998, -44.6675, -999,   1694.0,   4.2060,  34.9979,2,  34.9988,2,    247.9,3,    247.7,2,    16.06,2,    19.43,2,     0.00,2,     1.26,2,    0.254,2,    0.116,2,     -9.0,9,     -9.0,9,-999.0000,  -999.00,9,   4.0651
  33LK19960415,  AR04,    21,  2,     14,2,19960421,  7.4998, -44.6675, -999,   1794.4,   4.0105,  34.9930,2,  34.9926,2,    253.4,3,    253.0,2,    16.27,2,    19.03,2,     0.00,2,     1.22,2,    0.237,2,    0.095,2,     -9.0,9,     -9.0,9,-999.0000,  -999.00,9,   3.8626
  33LK19960415,  AR04,    21,  2,     13,2,19960421,  7.4998, -44.6675, -999,   1894.6,   3.8165,  34.9871,2,  34.9864,2,    255.5,3,    255.3,2,    17.43,2,    18.96,2,     0.00,2,     1.23,2,    0.145,2,    0.064,2,     -9.0,9,     -9.0,9,-999.0000,  -999.00,9,   3.6617
  33LK19960415,  AR04,    21,  2,     12,2,19960421,  7.4998, -44.6675, -999,   1995.2,   3.6801,  34.9805,2,  34.9761,2,    255.9,3,    253.4,2,    19.61,2,    19.48,2,     0.00,2,     1.26,2,    0.049,2,    0.018,2,     -9.0,9,     -9.0,9,-999.0000,  -999.00,9,   3.5177
  33LK19960415,  AR04,    21,  2,     11,2,19960421,  7.4998, -44.6675, -999,   2277.4,   3.3594,  34.9650,2,  34.9642,2,    256.9,3,    256.0,2,    22.20,2,    19.31,2,     0.00,2,     1.25,2,    0.033,2,    0.015,2,     -9.0,9,     -9.0,9,-999.0000,  -999.00,9,   3.1748
  33LK19960415,  AR04,    21,  2,     10,2,19960421,  7.4998, -44.6675, -999,   2689.2,   3.0218,  34.9485,2,  34.9486,2,    260.2,3,    260.0,2,    24.65,2,    19.09,2,     0.00,2,     1.24,2,    0.079,2,    0.030,2,     -9.0,9,     -9.0,9,-999.0000,  -999.00,9,   2.8025
  33LK19960415,  AR04,    21,  2,      9,2,19960421,  7.4998, -44.6675, -999,   2995.7,   2.8062,  34.9351,2,  34.9343,2,    259.4,3,    258.8,2,    29.02,2,    19.55,2,     0.00,2,     1.28,2,    0.071,2,    0.029,2,     -9.0,9,     -9.0,9,-999.0000,  -999.00,9,   2.5600
  33LK19960415,  AR04,    21,  2,      8,2,19960421,  7.4998, -44.6675, -999,   3291.7,   2.6402,  34.9231,2,  34.9222,2,    259.4,3,    260.2,2,    30.96,2,    19.46,2,     0.00,2,     1.27,2,    0.126,2,    0.054,2,     -9.0,9,     -9.0,9,-999.0000,  -999.00,9,   2.3667
  33LK19960415,  AR04,    21,  2,      7,2,19960421,  7.4998, -44.6675, -999,   3595.7,   2.4595,  34.9105,2,  34.9098,2,    264.0,3,    263.5,2,    31.59,2,    19.20,2,     0.00,2,     1.26,2,    0.157,2,    0.062,2,     -9.0,9,     -9.0,9,-999.0000,  -999.00,9,   2.1576
  33LK19960415,  AR04,    21,  2,      6,2,19960421,  7.4998, -44.6675, -999,   3794.4,   2.3441,  34.9038,2,  34.9018,2,    265.5,3,    265.4,2,    31.94,2,    18.97,2,     0.00,2,     1.24,2,    0.208,2,    0.090,2,     -9.0,9,     -9.0,9,-999.0000,  -999.00,9,   2.0233
  33LK19960415,  AR04,    21,  2,      5,2,19960421,  7.4998, -44.6675, -999,   3993.5,   2.2942,  34.8975,2,  34.8987,2,    264.8,3,    265.0,2,    33.74,2,    19.19,2,     0.00,2,     1.27,2,    0.197,2,    0.082,2,     -9.0,9,     -9.0,9,-999.0000,  -999.00,9,   1.9524
  33LK19960415,  AR04,    21,  2,      4,2,19960421,  7.4998, -44.6675, -999,   4196.1,   2.2664,  34.8938,2,  34.8933,2,    264.8,3,    264.0,2,    35.86,2,    19.52,2,     0.00,2,     1.28,2,    0.152,2,    0.061,2,     -9.0,9,     -9.0,9,-999.0000,  -999.00,9,   1.9021
  33LK19960415,  AR04,    21,  2,      3,2,19960421,  7.4998, -44.6675, -999,   4396.5,   2.2423,  34.8890,2,  34.8883,2,    263.6,3,    262.0,2,    38.45,2,    19.92,2,     0.00,2,     1.31,2,    0.137,2,    0.056,2,     -9.0,9,     -9.0,9,-999.0000,  -999.00,9,   1.8552
  33LK19960415,  AR04,    21,  2,      2,2,19960421,  7.4998, -44.6675, -999,   4495.6,   2.1989,  34.8838,2,  34.8822,2,    261.9,3,    259.5,2,    42.41,2,    20.48,2,     0.00,2,     1.35,2,    0.103,2,    0.043,2,     -9.0,9,     -9.0,9,-999.0000,  -999.00,9,   1.8014
  33LK19960415,  AR04,    21,  2,      1,2,19960421,  7.4998, -44.6675, -999,   4609.7,   1.5293,  34.8030,2,  34.8026,2,    240.9,3,    239.6,2,    79.48,2,    26.02,2,     0.00,2,     1.77,2,    0.023,2,    0.013,2,     -9.0,9,     -9.0,9,-999.0000,  -999.00,9,   1.1398
  33LK19960415,  AR04,    22,  1,      6,2,19960421,  7.4988, -44.0002, -999,      3.7,  27.4297,  36.1679,2,  36.1673,2,     -9.0,4,    198.4,2,     0.72,2,     0.04,2,     0.00,2,     0.05,2,    1.752,2,    0.891,2,     -9.0,4,    367.7,2,   8.0864,    25.00,2,  27.4288
  33LK19960415,  AR04,    22,  1,      5,2,19960421,  7.4988, -44.0002, -999,     56.1,  27.4335,  36.1665,2,  36.1638,2,      4.6,4,    198.3,2,     0.71,2,     0.02,2,     0.00,2,     0.04,2,    1.737,2,    0.876,2,   2000.0,2,     -9.0,9,   8.0983,    25.00,2,  27.4204
  33LK19960415,  AR04,    22,  1,      4,2,19960421,  7.4988, -44.0002, -999,    151.4,  17.6153,  36.0557,2,  36.0972,2,    145.3,4,    121.7,2,     4.27,2,    13.76,2,     0.05,2,     0.80,2,    1.548,2,    0.682,2,   2145.2,2,     -9.0,9,   7.8566,    25.00,2,  17.5895
  33LK19960415,  AR04,    22,  1,      3,2,19960421,  7.4988, -44.0002, -999,    252.9,  10.9422,  35.1339,2,  35.1318,2,    114.7,4,    114.6,2,    11.58,2,    25.79,2,     0.00,2,     1.59,2,    0.885,2,    0.316,2,   2180.3,2,     -9.0,9,   7.6854,    25.00,2,  10.9110
  33LK19960415,  AR04,    22,  1,      2,2,19960421,  7.4988, -44.0002, -999,    400.7,   8.4130,  34.7799,2,  34.7792,2,    116.6,3,    117.1,2,    17.17,2,    30.78,2,     0.00,2,     1.95,2,    0.456,2,    0.189,2,   2183.1,2,     -9.0,9,   7.6264,    25.00,2,   8.3708
  33LK19960415,  AR04,    22,  1,      1,2,19960421,  7.4988, -44.0002, -999,    503.5,   7.5222,  34.6925,2,  34.6938,2,    122.4,3,    117.8,2,    19.85,2,    32.54,2,     0.00,2,     2.08,2,    0.286,2,    0.092,2,   2172.2,3,     -9.0,9,   7.5989,    25.00,2,   7.4722
  33LK19960415,  AR04,    22,  2,     22,2,19960421,  7.4988, -44.0002, -999,    595.7,   6.5238,  34.6177,2,  34.6730,2,    122.4,3,    115.6,2,    22.05,2,    33.78,2,     0.00,2,     2.18,2,    0.168,2,    0.046,2,   2214.4,2,     -9.0,9,   7.5791,    25.00,2,   6.4688
  33LK19960415,  AR04,    22,  2,     21,2,19960421,  7.4988, -44.0002, -999,    795.9,   5.5799,  34.6288,2,  34.6294,2,    125.5,3,    122.1,2,    27.45,2,    35.08,2,     0.00,2,     2.32,2,    0.027,2,    0.004,2,   2204.8,2,     -9.0,9,   7.5640,    25.00,2,   5.5111
  33LK19960415,  AR04,    22,  2,     20,2,19960421,  7.4988, -44.0002, -999,    895.8,   5.0820,  34.6272,2,  34.6268,2,    138.0,3,    131.9,2,    29.69,2,    34.79,2,     0.00,2,     2.31,2,    0.015,2,    0.003,2,   2196.3,3,     -9.0,9,   7.5698,    25.00,2,   5.0073
  33LK19960415,  AR04,    22,  2,     19,2,19960421,  7.4988, -44.0002, -999,    996.0,   4.9256,  34.7001,2,  34.6707,2,    146.2,3,    143.1,2,    30.16,2,    33.48,2,     0.00,2,     2.22,2,    0.012,2,    0.003,2,   2202.9,2,     -9.0,9,   7.5894,    25.00,2,   4.8429
  33LK19960415,  AR04,    22,  2,     18,2,19960421,  7.4988, -44.0002, -999,   1194.7,   4.8192,  34.8503,2,  34.8358,2,    173.9,3,    171.5,2,    25.81,2,    28.87,2,     0.00,2,     1.92,2,    0.012,2,    0.003,2,   2166.3,3,     -9.0,9,   7.6498,    25.00,2,   4.7190
  33LK19960415,  AR04,    22,  2,     17,2,19960421,  7.4988, -44.0002, -999,   1393.9,   4.5473,  34.9471,2,  34.9527,2,    209.6,3,    211.3,2,    20.14,2,    23.56,2,     0.00,2,     1.51,2,    0.058,2,    0.010,2,   2154.5,3,     -9.0,9,   7.7086,    25.00,2,   4.4310
  33LK19960415,  AR04,    22,  2,     16,2,19960421,  7.4988, -44.0002, -999,   1493.8,   4.4002,  34.9753,2,  34.9806,2,    226.3,3,    228.8,2,    18.06,2,    21.56,2,     0.00,2,     1.39,2,    0.089,2,    0.030,2,   2133.5,3,     -9.0,9,   7.7286,    25.00,2,   4.2760
  33LK19960415,  AR04,    22,  2,     15,2,19960421,  7.4988, -44.0002, -999,   1595.8,   4.2439,  34.9856,2,  34.9898,0,    238.1,3,    239.1,2,    17.13,2,    20.56,2,     0.00,2,     1.31,2,    0.109,2,    0.047,2,   2130.0,3,     -9.0,9,   7.7487,    25.00,2,   4.1119
  33LK19960415,  AR04,    22,  2,     14,2,19960421,  7.4988, -44.0002, -999,   1694.6,   4.1120,  34.9896,2,  34.9898,0,    244.2,3,    244.7,2,    16.83,2,    20.10,2,     0.00,2,     1.28,2,    0.111,2,    0.052,2,   2135.2,3,     -9.0,9,   7.7503,    25.00,2,   3.9723
  33LK19960415,  AR04,    22,  2,     13,2,19960421,  7.4988, -44.0002, -999,   1794.4,   3.9091,  34.9842,2,  34.9864,2,    249.3,3,    249.2,2,    17.46,2,    19.81,2,     0.00,2,     1.25,2,    0.084,2,    0.029,2,   2113.2,3,     -9.0,9,   7.7603,    25.00,2,   3.7626
  33LK19960415,  AR04,    22,  2,     12,2,19960421,  7.4988, -44.0002, -999,   1996.1,   3.5922,  34.9739,2,  34.9759,2,    253.7,3,    253.5,2,    19.48,2,    19.56,2,     0.00,2,     1.26,2,    0.045,2,    0.016,2,   2135.2,3,     -9.0,9,   7.7630,    25.00,2,   3.4310
  33LK19960415,  AR04,    22,  2,     11,2,19960421,  7.4988, -44.0002, -999,   2294.0,   3.2249,  34.9593,2,  34.9600,2,    257.1,3,    257.3,2,    22.39,2,    19.43,2,     0.00,2,     1.22,2,    0.042,2,    0.014,2,   2129.8,3,     -9.0,9,   7.7684,    25.00,2,   3.0410
  33LK19960415,  AR04,    22,  2,     10,2,19960421,  7.4988, -44.0002, -999,   2596.1,   3.0400,  34.9494,2,  34.9471,2,    258.1,3,    258.2,2,    25.07,2,    19.44,2,     0.00,2,     1.24,2,    0.051,2,    0.017,2,   2117.9,3,     -9.0,9,   7.7674,    25.00,2,   2.8297
  33LK19960415,  AR04,    22,  2,      9,2,19960421,  7.4988, -44.0002, -999,   2995.4,   2.8061,  34.9346,2,  34.9326,2,    258.3,3,    258.6,2,    28.43,2,    19.69,2,     0.00,2,     1.32,2,    0.058,2,    0.019,2,   2134.3,3,     -9.0,9,   7.7599,    25.00,2,   2.5600
  33LK19960415,  AR04,    22,  2,      8,2,19960421,  7.4988, -44.0002, -999,   3295.0,   2.6336,  34.9207,2,  34.9207,2,    258.1,3,    258.1,2,    31.76,2,    19.93,2,     0.00,2,     1.28,2,    0.093,2,    0.031,2,   2189.3,3,     -9.0,9,   7.7591,    25.00,2,   2.3599
  33LK19960415,  AR04,    22,  2,      7,2,19960421,  7.4988, -44.0002, -999,   3595.5,   2.4218,  34.9075,2,  34.9070,2,    260.9,3,    262.3,2,    32.54,2,    19.56,2,     0.00,2,     1.29,2,    0.102,2,    0.040,2,   2155.5,3,     -9.0,9,   7.7578,    25.00,2,   2.1209
  33LK19960415,  AR04,    22,  2,      6,2,19960421,  7.4988, -44.0002, -999,   3795.1,   2.3660,  34.9035,2,  34.9027,2,    263.1,3,    262.8,2,    33.42,2,    19.53,2,     0.00,2,     1.27,2,    0.114,2,    0.049,2,   2147.9,3,     -9.0,9,   7.7550,    25.00,2,   2.0445
  33LK19960415,  AR04,    22,  2,      5,2,19960421,  7.4988, -44.0002, -999,   3995.0,   2.2816,  34.8976,2,  34.8951,2,    263.4,3,    262.1,2,    34.99,2,    19.56,2,     0.00,2,     1.30,2,    0.136,2,    0.054,2,   2133.9,3,     -9.0,9,   7.7611,    25.00,2,   1.9400
  33LK19960415,  AR04,    22,  2,      4,2,19960421,  7.4988, -44.0002, -999,   4245.3,   2.1894,  34.8843,2,  34.8846,2,    262.0,3,    261.1,3,    39.57,2,    20.09,2,     0.00,2,     1.33,2,    0.117,2,    0.054,2,   2166.3,3,     -9.0,9,   7.7597,    25.00,2,   1.8217
  33LK19960415,  AR04,    22,  2,      2,2,19960421,  7.4988, -44.0002, -999,   4495.5,   1.9716,  34.8561,2,  34.8492,2,    254.6,3,    250.7,2,    56.78,2,    22.97,2,     0.00,2,     1.50,2,    0.054,2,    0.028,2,   2164.3,3,     -9.0,9,   7.7290,    25.00,2,   1.5813
  33LK19960415,  AR04,    22,  2,      3,2,19960421,  7.4988, -44.0002, -999,   4495.9,   1.9689,  34.8556,2,  34.8488,2,    254.6,3,    250.7,2,    56.86,2,    22.80,2,     0.00,2,     1.51,2,   -9.000,9,   -9.000,9,   2162.8,3,     -9.0,9,   7.7381,    25.00,2,   1.5787
  33LK19960415,  AR04,    22,  2,      1,2,19960421,  7.4988, -44.0002, -999,   4738.9,   1.5131,  34.7981,2,  34.7978,2,    236.0,3,    238.4,2,    80.99,2,    26.21,2,     0.00,2,     1.78,2,    0.018,2,    0.006,2,   2211.3,3,     -9.0,9,   7.7043,    25.00,2,   1.1089
  33LK19960415,  AR04,    23,  1,      6,2,19960421,  7.4985, -43.3330, -999,      4.7,  27.5538,  36.1418,2,  36.1409,2,     -9.0,9,    198.9,2,     0.91,2,     0.14,2,     0.00,2,     0.06,2,    1.598,2,    0.919,2,   2014.6,2,    365.1,2,   8.0582,    25.00,2,  27.5527
  33LK19960415,  AR04,    23,  1,      5,2,19960421,  7.4985, -43.3330, -999,     90.6,  27.3596,  36.1431,2,  36.1437,2,     -9.0,9,    199.0,2,     0.89,2,     0.15,2,     0.00,2,     0.04,2,    1.574,2,    0.889,2,     -9.0,9,     -9.0,9,-999.0000,  -999.00,9,  27.3385
  33LK19960415,  AR04,    23,  1,      4,2,19960421,  7.4985, -43.3330, -999,    145.8,  16.7732,  36.0530,2,  36.1093,2,     -9.0,9,    114.6,2,     5.17,2,    16.22,2,     0.02,2,     0.94,2,    1.367,2,    0.590,2,     -9.0,9,     -9.0,9,-999.0000,  -999.00,9,  16.7492
  33LK19960415,  AR04,    23,  1,      3,2,19960421,  7.4985, -43.3330, -999,    249.3,   9.8792,  34.9538,2,  34.9520,2,     -9.0,9,    123.7,2,    13.26,2,    26.88,2,     0.00,2,     1.72,2,    0.744,2,    0.291,2,     -9.0,9,     -9.0,9,-999.0000,  -999.00,9,   9.8504
  33LK19960415,  AR04,    23,  1,      2,2,19960421,  7.4985, -43.3330, -999,    399.9,   8.1733,  34.7548,2,  34.7564,2,     -9.0,9,    116.2,2,    17.62,2,    31.28,2,     0.00,2,     2.00,2,    0.378,2,    0.153,2,     -9.0,9,     -9.0,9,-999.0000,  -999.00,9,   8.1319
  33LK19960415,  AR04,    23,  1,      1,2,19960421,  7.4985, -43.3330, -999,    502.4,   7.4733,  34.6985,2,  34.7007,2,     -9.0,9,    118.5,2,    19.60,2,    32.35,2,     0.00,2,     2.11,2,    0.269,2,    0.055,2,     -9.0,9,     -9.0,9,-999.0000,  -999.00,9,   7.4236