BOTTLE,20090511PRINUNIVRMK
EXPOCODE,SECT_ID,STNNBR,CASTNO,BTLNBR,BTLNBR_FLAG_W,DATE,LATITUDE,LONGITUDE,DEPTH,CTDPRS,CTDTMP,CTDSAL,CTDSAL_FLAG_W,SALNTY,SALNTY_FLAG_W,CTDOXY,CTDOXY_FLAG_W,OXYGEN,OXYGEN_FLAG_W,SILCAT,SILCAT_FLAG_W,NITRAT,NITRAT_FLAG_W,NITRIT,NITRIT_FLAG_W,PHSPHT,PHSPHT_FLAG_W,CFC-11,CFC-11_FLAG_W,CFC-12,CFC-12_FLAG_W,TCARBN,TCARBN_FLAG_W,PCO2,PCO2_FLAG_W,PH_SWS,PH_TEMP,PH_SWS_FLAG_W,THETA
,,,,,,,,,METERS,DBARS,ITS-90,PSS-78,,PSS-78,,UMOL/KG,,UMOL/KG,,UMOL/KG,,UMOL/KG,,UMOL/KG,,UMOL/KG,,PMOL/KG,,PMOL/KG,,UMOL/KG,,PPM,,,DEGC,,DEGC
  33LK19960415,  AR04,    31,  1,     22,2,19960424,  7.4993, -37.9998,   25,      2.4,  26.6144,  36.1532,2,  36.1588,2,    201.5,2,    202.6,2,     0.93,2,     0.00,2,     0.01,2,     0.00,3,    1.631,2,    0.877,2,     -9.0,4,    342.2,2,   8.0943,    25.00,2,  26.6139
  33LK19960415,  AR04,    31,  1,     21,2,19960424,  7.4993, -37.9998,   25,     72.1,  26.5300,  36.1592,2,  36.1526,2,    203.6,2,    202.4,2,     0.88,2,     0.00,2,     0.01,2,     0.00,3,    1.589,2,    0.843,2,     -9.0,9,     -9.0,9,-999.0000,  -999.00,9,  26.5136
  33LK19960415,  AR04,    31,  1,     20,2,19960424,  7.4993, -37.9998,   25,    190.8,  11.2405,  35.1033,2,  35.2019,2,    117.6,2,    115.1,2,    10.38,2,    23.68,2,     0.02,2,     1.22,3,   -9.000,9,   -9.000,9,     -9.0,9,     -9.0,9,-999.0000,  -999.00,9,  11.2166
  33LK19960415,  AR04,    31,  1,     19,2,19960424,  7.4993, -37.9998,   25,    279.0,   9.7484,  34.9185,2,  34.9259,2,    109.5,2,    113.3,2,    13.79,2,    27.84,2,     0.02,2,     1.59,3,    0.644,2,    0.055,2,     -9.0,9,     -9.0,9,-999.0000,  -999.00,9,   9.7164
  33LK19960415,  AR04,    31,  1,     18,2,19960424,  7.4993, -37.9998,   25,    479.8,   8.3845,  34.8099,2,  34.8056,2,     93.3,2,     92.6,2,    18.56,2,    33.42,2,     0.01,2,     1.92,3,    0.214,2,    0.066,2,     -9.0,9,     -9.0,9,-999.0000,  -999.00,9,   8.3338
  33LK19960415,  AR04,    31,  1,     17,2,19960424,  7.4993, -37.9998,   25,    796.6,   5.8377,  34.6748,2,  34.6734,2,    116.7,2,    116.1,2,    27.71,2,    35.12,2,     0.01,2,     2.15,3,    0.018,2,    0.004,2,     -9.0,9,     -9.0,9,-999.0000,  -999.00,9,   5.7672
  33LK19960415,  AR04,    31,  1,     16,2,19960424,  7.4993, -37.9998,   25,    996.5,   5.0010,  34.7236,2,  34.7346,2,    148.8,2,    147.9,2,    28.90,2,    31.99,2,     0.01,2,     1.98,3,    0.000,2,    0.001,2,     -9.0,9,     -9.0,9,-999.0000,  -999.00,9,   4.9176
  33LK19960415,  AR04,    31,  1,     15,2,19960424,  7.4993, -37.9998,   25,   1196.3,   4.8473,  34.8811,2,  34.8843,2,    183.2,2,    182.4,2,    23.95,2,    26.76,2,     0.01,2,     1.64,3,    0.043,2,    0.018,2,     -9.0,9,     -9.0,9,-999.0000,  -999.00,9,   4.7466
  33LK19960415,  AR04,    31,  1,     14,2,19960424,  7.4993, -37.9998,   25,   1494.4,   4.3533,  34.9903,2,  34.9948,2,    237.5,2,    240.4,2,    16.72,2,    19.93,2,     0.01,2,     1.15,3,    0.173,2,    0.062,2,     -9.0,9,     -9.0,9,-999.0000,  -999.00,9,   4.2296
  33LK19960415,  AR04,    31,  1,     13,2,19960424,  7.4993, -37.9998,   25,   1594.7,   4.1568,  34.9907,2,  34.9887,2,    245.0,2,    247.9,2,    17.05,2,    19.38,2,     0.01,2,     1.11,3,    0.123,2,    0.054,2,     -9.0,9,     -9.0,9,-999.0000,  -999.00,9,   4.0260
  33LK19960415,  AR04,    31,  1,     12,2,19960424,  7.4993, -37.9998,   25,   1693.3,   3.9683,  34.9860,2,  34.9841,2,    249.4,2,    249.4,2,    17.83,2,    19.37,2,     0.01,2,     1.09,3,    0.087,2,    0.048,2,     -9.0,9,     -9.0,9,-999.0000,  -999.00,9,   3.8306
  33LK19960415,  AR04,    31,  1,     11,2,19960424,  7.4993, -37.9998,   25,   1795.2,   3.8140,  34.9778,2,  34.9749,2,    250.2,2,    250.2,2,    19.69,2,    19.54,2,     0.01,2,     1.09,3,    0.039,2,    0.025,2,     -9.0,9,     -9.0,9,-999.0000,  -999.00,9,   3.6687
  33LK19960415,  AR04,    31,  1,      9,2,19960424,  7.4993, -37.9998,   25,   1994.4,   3.4997,  34.9683,2,  34.9643,2,    253.2,2,    251.6,2,    22.29,2,    19.60,2,     0.01,2,     1.10,3,   -9.000,9,   -9.000,9,     -9.0,9,     -9.0,9,-999.0000,  -999.00,9,   3.3401
  33LK19960415,  AR04,    31,  1,     10,2,19960424,  7.4993, -37.9998,   25,   1996.7,   3.5002,  34.9664,2,  34.9643,2,    253.3,2,    251.8,2,    22.30,2,    19.64,2,     0.01,2,     1.09,3,    0.011,2,    0.013,2,     -9.0,9,     -9.0,9,-999.0000,  -999.00,9,   3.3404
  33LK19960415,  AR04,    31,  1,      8,2,19960424,  7.4993, -37.9998,   25,   2396.1,   3.0761,  34.9475,2,  34.9480,2,    256.6,4,    255.2,2,    25.95,2,    19.53,2,     0.01,2,     1.10,3,    0.019,2,    0.014,2,     -9.0,9,     -9.0,9,-999.0000,  -999.00,9,   2.8849
  33LK19960415,  AR04,    31,  1,      7,2,19960424,  7.4993, -37.9998,   25,   2695.7,   2.9012,  34.9390,2,  34.9366,2,    256.6,2,    256.3,2,    28.73,2,    19.69,2,     0.01,2,     1.10,3,    0.018,2,    0.017,2,     -9.0,9,     -9.0,9,-999.0000,  -999.00,9,   2.6837
  33LK19960415,  AR04,    31,  1,      6,2,19960424,  7.4993, -37.9998,   25,   2995.1,   2.7029,  34.9245,2,  34.9264,2,    256.5,2,    255.7,2,    31.66,2,    19.86,2,     0.01,2,     1.12,3,    0.035,2,    0.025,2,     -9.0,9,     -9.0,9,-999.0000,  -999.00,9,   2.4591
  33LK19960415,  AR04,    31,  1,      5,2,19960424,  7.4993, -37.9998,   25,   3395.2,   2.4763,  34.9072,2,  34.9084,2,    256.9,2,    257.0,2,    36.28,2,    20.12,2,     0.00,2,     1.15,3,    0.036,2,    0.023,2,     -9.0,9,     -9.0,9,-999.0000,  -999.00,9,   2.1957
  33LK19960415,  AR04,    31,  1,      4,2,19960424,  7.4993, -37.9998,   25,   3795.0,   2.1998,  34.8854,2,  34.8852,2,    257.7,2,    258.2,2,    41.67,2,    20.44,2,     0.00,2,     1.17,3,    0.054,2,    0.031,2,     -9.0,9,     -9.0,9,-999.0000,  -999.00,9,   1.8829
  33LK19960415,  AR04,    31,  1,      3,2,19960424,  7.4993, -37.9998,   25,   3996.4,   1.9901,  34.8593,2,  34.8569,2,    252.0,2,    251.2,2,    54.25,2,    22.27,2,     0.00,2,     1.31,3,    0.036,2,    0.018,2,     -9.0,9,     -9.0,9,-999.0000,  -999.00,9,   1.6567
  33LK19960415,  AR04,    31,  1,      2,2,19960424,  7.4993, -37.9998,   25,   4197.8,   1.9029,  34.8479,2,  34.8424,2,    249.5,2,    248.3,2,    60.42,2,    23.16,2,     0.00,2,     1.36,3,    0.033,2,    0.024,2,     -9.0,9,     -9.0,9,-999.0000,  -999.00,9,   1.5493
  33LK19960415,  AR04,    31,  1,      1,2,19960424,  7.4993, -37.9998,   25,   4427.1,   1.7541,  34.8288,2,  34.8287,2,    242.4,2,    245.1,2,    67.49,2,    24.01,2,     0.00,2,     1.45,3,    0.035,2,    0.019,2,     -9.0,9,     -9.0,9,-999.0000,  -999.00,9,   1.3787
  33LK19960415,  AR04,    32,  1,      1,2,19960424,  7.4987, -37.6750, -999,   1002.0,   4.9889,  34.7572,2,  34.7664,2,    149.6,2,    150.5,2,    27.28,2,    31.10,2,     0.00,2,     2.10,2,   -0.002,2,    0.028,2,   2197.7,2,     -9.0,9,   7.6086,    25.00,2,   4.9051
  33LK19960415,  AR04,    32,  1,      2,2,19960424,  7.4987, -37.6750, -999,   1002.0,   4.9889,  34.7572,2,  34.7682,2,    149.6,2,    150.9,2,    27.35,2,    31.08,2,     0.00,2,     2.10,2,   -0.002,2,    0.029,2,   2224.9,3,     -9.0,9,   7.6178,    25.00,2,   4.9051
  33LK19960415,  AR04,    32,  1,      3,2,19960424,  7.4987, -37.6750, -999,   1002.0,   4.9889,  34.7572,2,  34.7704,2,    149.6,2,    151.3,2,    27.27,2,    31.04,2,     0.00,2,     2.10,2,   -0.002,2,    0.026,2,   2199.1,2,     -9.0,9,   7.6178,    25.00,2,   4.9050
  33LK19960415,  AR04,    32,  1,      4,2,19960424,  7.4987, -37.6750, -999,   1002.0,   4.9889,  34.7572,2,  34.7698,2,    149.6,2,    151.2,2,    27.20,2,    31.11,2,     0.00,2,     2.11,2,   -0.009,2,    0.025,2,   2209.7,2,     -9.0,9,   7.6178,    25.00,2,   4.9050
  33LK19960415,  AR04,    32,  1,      5,2,19960424,  7.4987, -37.6750, -999,   1002.0,   4.9889,  34.7572,2,  34.7710,2,    149.6,2,    151.5,2,    27.21,2,    31.04,2,     0.00,2,     2.10,2,    0.013,2,    0.026,2,   2204.0,2,     -9.0,9,   7.6178,    25.00,2,   4.9050
  33LK19960415,  AR04,    32,  1,      6,2,19960424,  7.4987, -37.6750, -999,   1002.0,   4.9889,  34.7572,2,  34.7732,2,    149.6,2,    151.7,2,    27.17,2,    31.02,2,     0.00,2,     2.08,2,   -0.003,2,    0.027,2,   2210.1,2,     -9.0,9,   7.6178,    25.00,2,   4.9050
  33LK19960415,  AR04,    32,  1,      7,2,19960424,  7.4987, -37.6750, -999,   1002.0,   4.9889,  34.7572,2,  34.7741,2,    149.6,2,    152.4,2,    27.14,2,    31.01,2,     0.00,2,     2.07,2,   -0.002,2,    0.022,2,   2212.3,2,     -9.0,9,   7.6178,    25.00,2,   4.9050
  33LK19960415,  AR04,    32,  1,      8,2,19960424,  7.4987, -37.6750, -999,   1002.0,   4.9889,  34.7572,2,  34.7750,2,    149.6,2,    152.5,2,    27.11,2,    31.01,2,     0.00,2,     2.07,2,    0.031,2,    0.025,2,   2206.6,2,     -9.0,9,   7.6178,    25.00,2,   4.9050
  33LK19960415,  AR04,    32,  1,      9,2,19960424,  7.4987, -37.6750, -999,   1002.0,   4.9889,  34.7572,2,  34.7756,2,    149.6,2,    152.7,2,    27.16,2,    31.01,2,     0.00,2,     2.07,2,   -0.002,2,    0.016,2,   2205.6,2,     -9.0,9,   7.6178,    25.00,2,   4.9050
  33LK19960415,  AR04,    32,  1,     10,2,19960424,  7.4987, -37.6750, -999,   1002.0,   4.9889,  34.7572,2,  34.7754,2,    149.6,2,    152.7,2,    27.21,2,    31.03,2,     0.00,2,     2.08,2,   -0.007,2,    0.022,2,   2201.5,2,     -9.0,9,   7.6178,    25.00,2,   4.9050
  33LK19960415,  AR04,    32,  1,     11,2,19960424,  7.4987, -37.6750, -999,   1002.0,   4.9889,  34.7572,2,  34.7762,2,    149.6,2,    152.6,2,    27.19,2,    31.02,2,     0.00,2,     2.10,2,    0.001,2,    0.017,2,     -9.0,4,     -9.0,9,   7.6178,    25.00,2,   4.9050
  33LK19960415,  AR04,    32,  1,     12,2,19960424,  7.4987, -37.6750, -999,   1002.0,   4.9889,  34.7572,2,  34.7759,2,    149.6,2,    152.7,2,    27.28,2,    31.05,2,     0.00,2,     2.10,2,   -0.010,2,    0.016,2,   2193.8,2,     -9.0,9,   7.6178,    25.00,2,   4.9050
  33LK19960415,  AR04,    32,  1,     13,2,19960424,  7.4987, -37.6750, -999,   1002.0,   4.9889,  34.7572,2,  34.7756,2,    149.6,2,    152.7,2,    27.33,2,    31.06,2,     0.00,2,     2.09,2,   -0.001,2,    0.011,2,   2188.5,3,     -9.0,9,   7.6178,    25.00,2,   4.9050
  33LK19960415,  AR04,    32,  1,     14,2,19960424,  7.4987, -37.6750, -999,   1002.0,   4.9889,  34.7572,2,  34.7747,2,    149.6,2,    152.6,2,    27.40,2,    31.12,2,     0.00,2,     2.08,2,   -0.002,2,    0.008,2,   2197.3,2,     -9.0,9,   7.6178,    25.00,2,   4.9050
  33LK19960415,  AR04,    32,  1,     15,2,19960424,  7.4987, -37.6750, -999,   1002.0,   4.9889,  34.7572,2,  34.7758,2,    149.6,2,    152.5,2,    27.37,2,    31.11,2,     0.00,2,     2.09,2,   -0.003,2,    0.011,2,   2191.6,2,     -9.0,9,   7.6178,    25.00,2,   4.9050
  33LK19960415,  AR04,    32,  1,     16,2,19960424,  7.4987, -37.6750, -999,   1002.0,   4.9889,  34.7572,2,  34.7750,2,    149.6,2,    152.7,2,    27.43,2,    31.16,2,     0.00,2,     2.10,2,   -0.008,2,    0.014,2,   2211.0,2,     -9.0,9,   7.6178,    25.00,2,   4.9050
  33LK19960415,  AR04,    32,  1,     17,2,19960424,  7.4987, -37.6750, -999,   1002.0,   4.9889,  34.7572,2,  34.7743,2,    149.6,2,    152.6,2,    27.44,2,    31.15,2,     0.00,2,     2.09,2,   -0.011,2,    0.017,2,   2208.6,2,     -9.0,9,   7.6178,    25.00,2,   4.9050
  33LK19960415,  AR04,    32,  1,     18,2,19960424,  7.4987, -37.6750, -999,   1002.0,   4.9889,  34.7572,2,  34.7737,2,    149.6,2,    152.3,2,    27.44,2,    31.20,2,     0.00,2,     2.09,2,   -0.009,2,    0.017,2,   2196.5,2,     -9.0,9,   7.6178,    25.00,2,   4.9050
  33LK19960415,  AR04,    32,  1,     19,2,19960424,  7.4987, -37.6750, -999,   1002.0,   4.9889,  34.7572,2,  34.7743,2,    149.6,2,    151.7,2,    27.56,2,    31.19,2,     0.00,2,     2.08,2,    0.005,2,    0.018,2,   2207.8,2,     -9.0,9,   7.6178,    25.00,2,   4.9050
  33LK19960415,  AR04,    32,  1,     20,2,19960424,  7.4987, -37.6750, -999,   1002.0,   4.9889,  34.7572,2,  34.7719,2,    149.6,2,    151.6,2,    27.44,2,    31.24,2,     0.00,2,     2.10,2,   -0.007,2,    0.018,2,   2200.1,2,     -9.0,9,   7.6178,    25.00,2,   4.9050
  33LK19960415,  AR04,    32,  1,     21,2,19960424,  7.4987, -37.6750, -999,   1002.0,   4.9889,  34.7572,2,  34.7717,2,    149.6,2,    151.5,2,    27.44,2,    31.26,2,     0.00,2,     2.08,2,   -0.001,2,    0.011,2,   2192.6,2,     -9.0,9,   7.6178,    25.00,2,   4.9050
  33LK19960415,  AR04,    32,  1,     22,2,19960424,  7.4987, -37.6750, -999,   1002.0,   4.9889,  34.7572,2,  34.7712,2,    149.6,2,    151.5,2,    27.55,2,    31.24,2,     0.00,2,     2.07,2,    0.002,2,    0.012,2,   2188.8,2,     -9.0,9,   7.6178,    25.00,2,   4.9050
  33LK19960415,  AR04,    33,  1,      6,2,19960424,  7.5008, -37.3362, -999,      5.3,  26.7162,  36.1683,2,  36.1676,2,    203.0,3,    203.0,2,     1.02,2,     0.00,3,     0.00,2,     0.01,2,    1.746,2,    0.889,5,   2010.9,2,    345.6,2,   8.0960,    25.00,2,  26.7150
  33LK19960415,  AR04,    33,  1,      5,2,19960424,  7.5008, -37.3362, -999,     51.3,  26.0362,  36.2191,2,  36.2001,0,    207.0,3,    207.2,2,     1.02,2,     0.00,3,     0.00,2,     0.01,2,    1.689,2,    0.860,5,   2005.1,2,     -9.0,9,   8.0974,    25.00,2,  26.0247
  33LK19960415,  AR04,    33,  1,      4,2,19960424,  7.5008, -37.3362, -999,    151.5,  12.3502,  35.2843,2,  35.4002,2,    120.9,2,    119.7,2,     8.84,2,    17.62,3,     0.02,2,     1.37,2,    1.140,2,    0.490,5,   2174.7,2,     -9.0,9,   7.7500,    25.00,2,  12.3300
  33LK19960415,  AR04,    33,  1,      3,2,19960424,  7.5008, -37.3362, -999,    250.2,   9.8845,  34.9399,2,  34.9462,2,    124.0,2,    125.2,2,    13.01,2,    21.92,3,     0.00,2,     1.72,2,    0.807,2,    0.330,5,   2187.4,2,     -9.0,9,   7.6796,    25.00,2,   9.8556
  33LK19960415,  AR04,    33,  1,      2,2,19960424,  7.5008, -37.3362, -999,    401.4,   8.4361,  34.7818,2,  34.7811,2,    120.0,2,    110.8,2,    17.19,2,    26.50,3,     0.00,2,     2.02,2,    0.387,2,    0.093,5,   2219.3,2,     -9.0,9,   7.6174,    25.00,2,   8.3938
  33LK19960415,  AR04,    33,  1,      1,2,19960424,  7.5008, -37.3362, -999,    503.9,   7.5825,  34.7099,2,  34.7068,2,    120.6,2,    115.4,2,    19.77,2,    27.78,3,     0.00,2,     2.15,2,    0.265,2,    0.053,5,   2212.8,2,     -9.0,9,   7.6090,    25.00,2,   7.5323