BOTTLE,20090511PRINUNIVRMK
EXPOCODE,SECT_ID,STNNBR,CASTNO,BTLNBR,BTLNBR_FLAG_W,DATE,LATITUDE,LONGITUDE,DEPTH,CTDPRS,CTDTMP,CTDSAL,CTDSAL_FLAG_W,SALNTY,SALNTY_FLAG_W,CTDOXY,CTDOXY_FLAG_W,OXYGEN,OXYGEN_FLAG_W,SILCAT,SILCAT_FLAG_W,NITRAT,NITRAT_FLAG_W,NITRIT,NITRIT_FLAG_W,PHSPHT,PHSPHT_FLAG_W,CFC-11,CFC-11_FLAG_W,CFC-12,CFC-12_FLAG_W,TCARBN,TCARBN_FLAG_W,PCO2,PCO2_FLAG_W,PH_SWS,PH_TEMP,PH_SWS_FLAG_W,THETA
,,,,,,,,,METERS,DBARS,ITS-90,PSS-78,,PSS-78,,UMOL/KG,,UMOL/KG,,UMOL/KG,,UMOL/KG,,UMOL/KG,,UMOL/KG,,PMOL/KG,,PMOL/KG,,UMOL/KG,,PPM,,,DEGC,,DEGC
  33LK19960415,  AR04,    41,  1,     22,2,19960427,  5.0125, -35.0078,   23,      3.4,  27.4699,  35.8147,2,  35.8240,2,     -9.0,9,    199.9,2,     0.81,2,     0.00,2,     0.00,2,     0.02,2,    1.652,2,    0.894,2,   1984.0,2,    345.8,2,   8.1172,    25.00,2,  27.4691
  33LK19960415,  AR04,    41,  1,     21,2,19960427,  5.0125, -35.0078,   23,     47.0,  26.4796,  36.0122,2,  35.8534,2,     -9.0,9,    200.0,2,     0.89,2,     0.00,2,     0.00,2,     0.00,2,    1.612,2,    0.880,2,   1988.7,2,     -9.0,9,   8.1139,    25.00,2,  26.4689
  33LK19960415,  AR04,    41,  1,     20,2,19960427,  5.0125, -35.0078,   23,    194.8,  11.2682,  35.0515,2,  35.0627,2,     -9.0,9,    145.0,2,     9.75,2,    20.91,2,     0.01,2,     1.40,2,    1.227,2,    0.576,2,   2168.3,2,     -9.0,9,   7.7358,    25.00,2,  11.2438
  33LK19960415,  AR04,    41,  1,     19,2,19960427,  5.0125, -35.0078,   23,    291.2,  10.2537,  34.9523,2,  34.9336,2,     -9.0,9,    128.5,2,    12.62,2,    25.21,2,     0.00,2,     1.64,2,    0.833,2,    0.395,2,   2189.3,2,     -9.0,9,   7.6769,    25.00,2,  10.2192
  33LK19960415,  AR04,    41,  1,     18,2,19960427,  5.0125, -35.0078,   23,    495.6,   7.4649,  34.6937,2,  34.7029,2,     -9.0,9,    103.7,2,    19.95,2,    33.11,2,     0.00,2,     2.14,2,    0.202,2,    0.097,2,   2225.7,2,     -9.0,9,   7.5702,    25.00,2,   7.4160
  33LK19960415,  AR04,    41,  1,     17,2,19960427,  5.0125, -35.0078,   23,    644.2,   5.9419,  34.5833,2,  34.5944,2,     -9.0,9,    123.4,2,    25.15,2,    33.88,2,     0.00,2,     2.27,2,   -9.000,9,   -9.000,9,   2204.0,2,     -9.0,9,   7.5727,    25.00,2,   5.8851
  33LK19960415,  AR04,    41,  1,     16,2,19960427,  5.0125, -35.0078,   23,    644.4,   5.9408,  34.5832,2,  34.5946,2,     -9.0,9,    123.4,2,    25.06,2,    33.91,2,     0.00,2,     2.27,2,    0.092,2,    0.028,2,     -9.0,4,     -9.0,9,   7.5727,    25.00,2,   5.8840
  33LK19960415,  AR04,    41,  1,     15,2,19960427,  5.0125, -35.0078,   23,    793.7,   5.0304,  34.5524,2,  34.5517,2,     -9.0,9,    138.1,2,    29.64,2,    34.03,2,     0.00,2,     2.32,2,    0.039,2,    0.026,2,   2218.1,2,     -9.0,9,   7.5745,    25.00,2,   4.9652
  33LK19960415,  AR04,    41,  1,     14,2,19960427,  5.0125, -35.0078,   23,    992.8,   4.8848,  34.6940,2,  34.7089,2,     -9.0,9,    147.1,2,    29.26,2,    31.80,2,     0.00,2,     2.18,2,    0.006,2,    0.012,2,   2206.2,2,     -9.0,9,   7.5977,    25.00,2,   4.8027
  33LK19960415,  AR04,    41,  1,     13,2,19960427,  5.0125, -35.0078,   23,   1195.8,   4.7417,  34.8984,2,  34.8914,2,     -9.0,9,    188.2,2,    23.19,2,    25.68,2,     0.00,2,     1.73,2,    0.040,2,    0.037,2,   2189.6,2,     -9.0,9,   7.6764,    25.00,2,   4.6420
  33LK19960415,  AR04,    41,  1,     12,2,19960427,  5.0125, -35.0078,   23,   1394.6,   4.4945,  34.9593,2,  34.9621,2,     -9.0,9,    219.1,2,    19.07,2,    21.94,2,     0.00,2,     1.45,2,    0.103,2,    0.085,2,   2165.0,2,     -9.0,9,   7.7264,    25.00,2,   4.3786
  33LK19960415,  AR04,    41,  1,     11,2,19960427,  5.0125, -35.0078,   23,   1496.9,   4.3949,  34.9778,2,  34.9789,2,     -9.0,9,    229.9,2,    17.78,2,    20.76,2,     0.00,2,     1.38,2,    0.134,2,    0.095,2,   2163.5,2,     -9.0,9,   7.7380,    25.00,2,   4.2705
  33LK19960415,  AR04,    41,  1,     10,2,19960427,  5.0125, -35.0078,   23,   1596.6,   4.3116,  34.9889,2,  34.9898,2,     -9.0,9,    240.7,2,    16.64,2,    19.70,2,     0.00,2,     1.29,2,    0.170,2,    0.110,2,   2150.9,2,     -9.0,9,   7.7497,    25.00,2,   4.1787
  33LK19960415,  AR04,    41,  1,      9,2,19960427,  5.0125, -35.0078,   23,   1692.3,   4.1333,  34.9895,2,  34.9904,2,     -9.0,9,    245.3,2,    16.44,2,    19.33,2,     0.00,2,     1.25,2,    0.187,2,    0.122,2,   2152.3,2,     -9.0,9,   7.7506,    25.00,2,   3.9935
  33LK19960415,  AR04,    41,  1,      8,2,19960427,  5.0125, -35.0078,   23,   1794.4,   3.9714,  34.9903,2,  34.9924,2,     -9.0,9,    251.0,2,    15.89,2,    19.07,2,     0.00,2,     1.21,2,    0.249,2,    0.155,2,   2160.1,2,     -9.0,9,   7.7519,    25.00,2,   3.8241
  33LK19960415,  AR04,    41,  1,      7,2,19960427,  5.0125, -35.0078,   23,   1993.5,   3.6424,  34.9754,2,  34.9781,2,     -9.0,9,    252.7,2,    18.35,2,    18.92,2,     0.00,2,     1.22,2,    0.074,2,    0.069,2,   2204.2,3,     -9.0,9,   7.7636,    25.00,2,   3.4807
  33LK19960415,  AR04,    41,  1,      6,2,19960427,  5.0125, -35.0078,   23,   2293.5,   3.2088,  34.9527,2,  34.9537,2,     -9.0,9,    252.3,2,    24.27,2,    19.44,2,     0.00,2,     1.26,2,    0.016,2,    0.039,2,   2175.1,2,     -9.0,9,   7.7588,    25.00,2,   3.0252
  33LK19960415,  AR04,    41,  1,      5,2,19960427,  5.0125, -35.0078,   23,   2695.8,   2.8725,  34.9362,2,  34.9314,0,     -9.0,9,    253.3,2,    30.18,2,    19.86,2,     0.00,2,     1.31,2,    0.011,2,    0.027,2,   2172.3,2,     -9.0,9,   7.7593,    25.00,2,   2.6555
  33LK19960415,  AR04,    41,  1,      4,2,19960427,  5.0125, -35.0078,   23,   2995.5,   2.6789,  34.9198,2,  34.9169,2,     -9.0,9,    252.4,2,    34.81,2,    20.23,2,     0.00,2,     1.31,2,    0.000,2,    0.023,2,   2156.5,3,     -9.0,9,   7.7488,    25.00,2,   2.4356
  33LK19960415,  AR04,    41,  1,      3,2,19960427,  5.0125, -35.0078,   23,   3296.0,   2.5264,  34.9069,2,  34.9031,2,     -9.0,9,    252.3,2,    38.76,2,    20.62,2,     0.00,2,     1.35,2,    0.002,2,    0.029,2,   2173.6,2,     -9.0,9,   7.7576,    25.00,2,   2.2552
  33LK19960415,  AR04,    41,  1,      2,2,19960427,  5.0125, -35.0078,   23,   3595.4,   2.3890,  34.8956,2,  34.8917,2,     -9.0,9,    252.7,2,    42.14,2,    20.95,2,     0.00,2,     1.37,2,    0.008,2,    0.026,2,   2158.5,3,     -9.0,9,   7.7573,    25.00,2,   2.0890
  33LK19960415,  AR04,    41,  1,      1,2,19960427,  5.0125, -35.0078,   23,   3783.9,   2.2911,  34.8856,2,  34.8843,2,     -9.0,9,    252.9,2,    44.72,2,    21.13,2,     0.00,2,     1.40,2,    0.016,2,    0.023,2,   2165.8,2,     -9.0,9,   7.7535,    25.00,2,   1.9730
  33LK19960415,  AR04,    42,  1,      1,2,19960427,  4.6638, -35.0037, -999,   2015.9,   3.6066,  34.9765,2,  34.9770,2,     -9.0,9,    254.9,2,    19.03,2,    29.35,4,     0.00,2,     1.21,2,    0.087,2,    0.059,2,   2146.8,3,     -9.0,5,   7.7546,    25.00,2,   3.4433
  33LK19960415,  AR04,    42,  1,      2,2,19960427,  4.6638, -35.0037, -999,   2015.9,   3.6066,  34.9765,2,  34.9771,2,     -9.0,9,    255.3,2,    18.97,2,    29.20,4,     0.00,2,     1.21,2,    0.085,2,    0.064,2,   2093.9,3,     -9.0,5,   7.7546,    25.00,2,   3.4433
  33LK19960415,  AR04,    42,  1,      3,2,19960427,  4.6638, -35.0037, -999,   2015.9,   3.6066,  34.9765,2,  34.9766,2,     -9.0,9,    255.7,2,    18.99,2,    28.86,4,     0.00,2,     1.19,2,    0.088,2,    0.066,2,   2140.6,3,     -9.0,5,   7.7639,    25.00,2,   3.4433
  33LK19960415,  AR04,    42,  1,      4,2,19960427,  4.6638, -35.0037, -999,   2015.9,   3.6066,  34.9765,2,  34.9785,2,     -9.0,9,    255.4,2,    18.88,2,    28.28,4,     0.00,2,     1.22,2,    0.078,2,    0.054,2,   2132.6,3,     -9.0,5,   7.7639,    25.00,2,   3.4433
  33LK19960415,  AR04,    42,  1,      5,2,19960427,  4.6638, -35.0037, -999,   2015.9,   3.6066,  34.9765,2,  34.9770,2,     -9.0,9,    255.1,2,    18.89,2,    27.81,4,     0.00,2,     1.19,2,    0.090,2,    0.049,2,   2105.0,3,     -9.0,5,   7.7639,    25.00,2,   3.4433
  33LK19960415,  AR04,    42,  1,      6,2,19960427,  4.6638, -35.0037, -999,   2015.9,   3.6066,  34.9765,2,  34.9774,2,     -9.0,9,    255.1,2,    18.77,2,    27.98,4,     0.00,2,     1.22,2,    0.089,2,    0.054,2,   2117.3,3,     -9.0,5,   7.7639,    25.00,2,   3.4433
  33LK19960415,  AR04,    42,  1,      7,2,19960427,  4.6638, -35.0037, -999,   2015.9,   3.6066,  34.9765,2,  34.9769,2,     -9.0,9,    255.2,2,    18.80,2,    27.86,4,     0.00,2,     1.22,2,    0.088,2,    0.059,2,   2122.5,3,     -9.0,5,   7.7639,    25.00,2,   3.4433
  33LK19960415,  AR04,    42,  1,      8,2,19960427,  4.6638, -35.0037, -999,   2015.9,   3.6066,  34.9765,2,  34.9769,2,     -9.0,9,    255.1,2,    18.77,2,    27.76,4,     0.00,2,     1.22,2,    0.103,2,    0.074,2,   2123.1,3,     -9.0,5,   7.7639,    25.00,2,   3.4433
  33LK19960415,  AR04,    42,  1,      9,2,19960427,  4.6638, -35.0037, -999,   2015.9,   3.6066,  34.9765,2,  34.9768,2,     -9.0,9,    255.1,2,    18.88,2,    27.41,4,     0.00,2,     1.22,2,    0.084,2,    0.063,2,   2108.9,3,     -9.0,5,   7.7546,    25.00,2,   3.4433
  33LK19960415,  AR04,    42,  1,     10,2,19960427,  4.6638, -35.0037, -999,   2015.9,   3.6066,  34.9765,2,  34.9774,2,     -9.0,9,    255.0,2,    18.77,2,    27.67,4,     0.00,2,     1.21,2,    0.086,2,    0.064,2,   2129.3,3,     -9.0,5,   7.7546,    25.00,2,   3.4433
  33LK19960415,  AR04,    42,  1,     11,2,19960427,  4.6638, -35.0037, -999,   2015.9,   3.6066,  34.9765,2,  34.9776,2,     -9.0,9,    255.0,2,    18.85,2,    27.29,4,     0.00,2,     1.21,2,    0.092,2,    0.057,2,   2103.8,3,     -9.0,5,   7.7546,    25.00,2,   3.4433
  33LK19960415,  AR04,    42,  1,     12,2,19960427,  4.6638, -35.0037, -999,   2015.9,   3.6066,  34.9765,2,  34.9770,2,     -9.0,9,    255.0,2,    18.85,2,    27.01,4,     0.00,2,     1.22,2,    0.082,2,    0.051,2,   2134.8,3,     -9.0,5,   7.7546,    25.00,2,   3.4433
  33LK19960415,  AR04,    42,  1,     13,2,19960427,  4.6638, -35.0037, -999,   2015.9,   3.6066,  34.9765,2,  34.9778,2,     -9.0,9,    255.1,2,    18.80,2,    26.58,4,     0.00,2,     1.22,2,    0.089,2,    0.064,2,   2113.0,3,     -9.0,5,   7.7639,    25.00,2,   3.4433
  33LK19960415,  AR04,    42,  1,     14,2,19960427,  4.6638, -35.0037, -999,   2015.9,   3.6066,  34.9765,2,  34.9769,2,     -9.0,9,    255.0,2,    18.84,2,    26.05,4,     0.00,2,     1.22,2,    0.085,2,    0.062,2,   2102.3,3,     -9.0,5,   7.7639,    25.00,2,   3.4433
  33LK19960415,  AR04,    42,  1,     15,2,19960427,  4.6638, -35.0037, -999,   2015.9,   3.6066,  34.9765,2,  34.9772,2,     -9.0,9,    254.8,2,    18.75,2,    26.00,4,     0.00,2,     1.21,2,    0.080,2,    0.052,2,   2102.6,3,     -9.0,5,   7.7639,    25.00,2,   3.4433
  33LK19960415,  AR04,    42,  1,     16,2,19960427,  4.6638, -35.0037, -999,   2015.9,   3.6066,  34.9765,2,  34.9773,2,     -9.0,9,    254.8,2,    18.82,2,    25.53,4,     0.00,2,     1.23,2,    0.083,2,    0.052,2,   2112.5,3,     -9.0,5,   7.7639,    25.00,2,   3.4433
  33LK19960415,  AR04,    42,  1,     17,2,19960427,  4.6638, -35.0037, -999,   2015.9,   3.6066,  34.9765,2,  34.9771,2,     -9.0,9,    254.9,2,    18.80,2,    25.16,4,     0.00,2,     1.23,2,    0.085,2,    0.050,2,   2101.6,3,     -9.0,5,   7.7546,    25.00,2,   3.4433
  33LK19960415,  AR04,    42,  1,     18,2,19960427,  4.6638, -35.0037, -999,   2015.9,   3.6066,  34.9765,2,  34.9771,2,     -9.0,9,    254.9,2,    18.84,2,    24.64,4,     0.00,2,     1.22,2,    0.083,2,    0.055,2,   2119.6,3,     -9.0,5,   7.7546,    25.00,2,   3.4433
  33LK19960415,  AR04,    42,  1,     19,2,19960427,  4.6638, -35.0037, -999,   2015.9,   3.6066,  34.9765,2,  34.9780,2,     -9.0,9,    255.0,2,    18.86,2,    24.58,4,     0.00,2,     1.22,2,    0.090,2,    0.033,2,   2108.5,3,     -9.0,5,   7.7546,    25.00,2,   3.4433
  33LK19960415,  AR04,    42,  1,     20,2,19960427,  4.6638, -35.0037, -999,   2015.9,   3.6066,  34.9765,2,  34.9768,2,     -9.0,9,    254.8,2,    18.91,2,    24.19,4,     0.00,2,     1.22,2,    0.080,2,    0.048,2,   2122.4,3,     -9.0,5,   7.7546,    25.00,2,   3.4433
  33LK19960415,  AR04,    42,  1,     21,2,19960427,  4.6638, -35.0037, -999,   2015.9,   3.6066,  34.9765,2,  34.9764,2,     -9.0,9,    254.9,2,    18.91,2,    23.77,4,     0.00,2,     1.22,2,    0.078,2,    0.050,2,   2104.0,3,     -9.0,5,   7.7546,    25.00,2,   3.4433
  33LK19960415,  AR04,    42,  1,     22,2,19960427,  4.6638, -35.0037, -999,   2015.9,   3.6066,  34.9765,2,  34.9767,2,     -9.0,9,    255.1,2,    18.81,2,    23.40,4,     0.00,2,     1.21,2,    0.077,2,    0.041,2,   2104.4,3,     -9.0,5,   7.7733,    25.00,3,   3.4433
  33LK19960415,  AR04,    43,  1,     22,2,19960427,  4.3317, -35.0012,   25,      3.8,  27.5597,  35.6267,2,  35.7062,2,     -9.0,9,    199.6,2,     0.99,2,     0.12,2,     0.00,2,     0.03,2,    1.626,2,    0.881,2,   2003.2,2,    357.0,2,   8.1085,    25.00,2,  27.5588
  33LK19960415,  AR04,    43,  1,     21,2,19960427,  4.3317, -35.0012,   25,     44.8,  20.8185,  36.0866,2,  36.0741,2,     -9.0,9,    183.4,2,     2.34,2,     1.06,2,     0.04,2,     0.17,2,    1.600,2,    0.812,2,     -9.0,9,     -9.0,9,-999.0000,  -999.00,9,  20.8099
  33LK19960415,  AR04,    43,  1,     20,2,19960427,  4.3317, -35.0012,   25,    195.8,  11.5283,  35.0964,2,  35.0942,2,     -9.0,9,    133.5,2,     9.99,2,    22.12,2,     0.01,2,     1.46,2,    1.123,2,    0.530,2,     -9.0,9,     -9.0,9,-999.0000,  -999.00,9,  11.5034
  33LK19960415,  AR04,    43,  1,     18,2,19960427,  4.3317, -35.0012,   25,    289.9,  10.3308,  34.9610,2,  34.6960,0,     -9.0,9,    128.9,2,    21.20,3,    33.67,3,     0.00,3,     2.20,3,    0.897,2,    0.419,2,     -9.0,9,     -9.0,9,-999.0000,  -999.00,9,  10.2963
  33LK19960415,  AR04,    43,  1,     19,2,19960427,  4.3317, -35.0012,   25,    290.1,  10.3239,  34.9598,2,  34.9728,0,     -9.0,9,    129.1,2,    11.85,2,    24.49,2,     0.00,2,     1.60,2,   -9.000,9,   -9.000,9,     -9.0,9,     -9.0,9,-999.0000,  -999.00,9,  10.2894
  33LK19960415,  AR04,    43,  1,     17,2,19960427,  4.3317, -35.0012,   25,    496.0,   7.7085,  34.7416,2,  34.6961,0,     -9.0,9,    102.0,2,    21.12,2,    33.62,2,     0.00,2,     2.20,2,    0.135,2,    0.053,2,     -9.0,9,     -9.0,9,-999.0000,  -999.00,9,   7.6586
  33LK19960415,  AR04,    43,  1,     16,2,19960427,  4.3317, -35.0012,   25,    795.4,   5.1614,  34.5419,2,  34.5524,2,     -9.0,9,    141.8,2,    30.28,2,    33.64,2,     0.00,2,     2.31,2,    0.035,2,    0.014,2,     -9.0,9,     -9.0,9,-999.0000,  -999.00,9,   5.0953
  33LK19960415,  AR04,    43,  1,     15,2,19960427,  4.3317, -35.0012,   25,    995.5,   4.6624,  34.6738,2,  34.6766,2,     -9.0,9,    155.7,3,    29.95,2,    31.31,2,     0.00,2,     2.15,2,    0.003,2,    0.004,2,     -9.0,9,     -9.0,9,-999.0000,  -999.00,9,   4.5818
  33LK19960415,  AR04,    43,  1,     14,2,19960427,  4.3317, -35.0012,   25,   1190.2,   4.6983,  34.8282,2,  34.8284,2,     -9.0,9,    176.9,2,    25.33,2,    27.55,2,     0.00,2,     1.87,2,    0.013,2,    0.014,2,     -9.0,9,     -9.0,9,-999.0000,  -999.00,9,   4.5996
  33LK19960415,  AR04,    43,  1,     13,2,19960427,  4.3317, -35.0012,   25,   1394.9,   4.5258,  34.9569,2,  34.9557,2,     -9.0,9,    214.5,2,    19.57,2,    22.37,2,     0.00,2,     1.49,2,    0.084,2,    0.047,2,     -9.0,9,     -9.0,9,-999.0000,  -999.00,9,   4.4096
  33LK19960415,  AR04,    43,  1,     12,2,19960427,  4.3317, -35.0012,   25,   1488.8,   4.4801,  34.9704,2,  34.9728,2,     -9.0,9,    224.9,2,    18.29,2,    21.22,2,     0.00,2,     1.42,2,    0.125,2,    0.063,2,     -9.0,9,     -9.0,9,-999.0000,  -999.00,9,   4.3555
  33LK19960415,  AR04,    43,  1,     11,2,19960427,  4.3317, -35.0012,   25,   1592.9,   4.3500,  34.9790,2,  34.9892,2,     -9.0,9,    238.0,2,    16.71,2,    19.78,2,     0.00,2,     1.30,2,    0.175,2,    0.096,2,     -9.0,9,     -9.0,9,-999.0000,  -999.00,9,   4.2170
  33LK19960415,  AR04,    43,  1,     10,2,19960427,  4.3317, -35.0012,   25,   1694.9,   4.2311,  34.9903,2,  34.9938,2,     -9.0,9,    246.5,2,    15.97,2,    18.95,2,     0.00,2,     1.25,2,    0.215,2,    0.105,2,     -9.0,9,     -9.0,9,-999.0000,  -999.00,9,   4.0899
  33LK19960415,  AR04,    43,  1,      9,2,19960427,  4.3317, -35.0012,   25,   1796.2,   4.0309,  34.9869,2,  34.9856,2,     -9.0,9,    249.6,2,    17.05,2,    18.93,2,     0.00,2,     1.23,2,    0.110,2,    0.061,2,     -9.0,9,     -9.0,9,-999.0000,  -999.00,9,   3.8826
  33LK19960415,  AR04,    43,  1,      8,2,19960427,  4.3317, -35.0012,   25,   1994.9,   3.6801,  34.9772,2,  34.9769,2,     -9.0,9,    255.6,2,    18.26,2,    18.45,2,     0.00,2,     1.22,2,    0.092,2,    0.051,2,     -9.0,9,     -9.0,9,-999.0000,  -999.00,9,   3.5178
  33LK19960415,  AR04,    43,  1,      7,2,19960427,  4.3317, -35.0012,   25,   2295.7,   3.2080,  34.9502,2,  34.9517,2,     -9.0,9,    254.4,2,    24.41,2,    19.31,2,     0.00,2,     1.26,2,    0.006,2,    0.013,2,     -9.0,9,     -9.0,9,-999.0000,  -999.00,9,   3.0242
  33LK19960415,  AR04,    43,  1,      6,2,19960427,  4.3317, -35.0012,   25,   2695.6,   2.8366,  34.9263,2,  34.9281,2,     -9.0,9,    252.4,2,    31.28,2,    19.83,2,     0.00,2,     1.31,2,   -0.004,2,    0.009,2,     -9.0,9,     -9.0,9,-999.0000,  -999.00,9,   2.6204
  33LK19960415,  AR04,    43,  1,      5,2,19960427,  4.3317, -35.0012,   25,   2993.1,   2.6978,  34.9174,2,  34.9181,2,     -9.0,9,    253.2,2,    33.78,2,    19.98,2,     0.00,2,     1.32,2,   -0.002,2,    0.012,2,     -9.0,9,     -9.0,9,-999.0000,  -999.00,9,   2.4543
  33LK19960415,  AR04,    43,  1,      4,2,19960427,  4.3317, -35.0012,   25,   3297.1,   2.5163,  34.9061,2,  34.9054,2,     -9.0,9,    254.6,2,    36.68,2,    20.36,2,     0.00,2,     1.34,2,    0.001,2,    0.010,2,     -9.0,9,     -9.0,9,-999.0000,  -999.00,9,   2.2452
  33LK19960415,  AR04,    43,  1,      3,2,19960427,  4.3317, -35.0012,   25,   3596.5,   2.3576,  34.8904,2,  34.8908,2,     -9.0,9,    253.9,2,    41.49,2,    20.76,2,     0.00,2,     1.39,2,    0.006,2,    0.013,2,     -9.0,9,     -9.0,9,-999.0000,  -999.00,9,   2.0583
  33LK19960415,  AR04,    43,  1,      2,2,19960427,  4.3317, -35.0012,   25,   3796.4,   2.2724,  34.8827,2,  34.8820,2,     -9.0,9,    252.8,2,    44.54,2,    21.04,2,     0.00,2,     1.42,2,    0.010,2,    0.015,2,     -9.0,9,     -9.0,9,-999.0000,  -999.00,9,   1.9534
  33LK19960415,  AR04,    43,  1,      1,2,19960427,  4.3317, -35.0012,   25,   3956.6,   2.1507,  34.8709,2,  34.8712,2,     -9.0,9,    251.5,2,    48.35,2,    21.43,2,     0.00,2,     1.45,2,    0.019,2,    0.019,2,     -9.0,9,     -9.0,9,-999.0000,  -999.00,9,   1.8172