BOTTLE,20090511PRINUNIVRMK
EXPOCODE,SECT_ID,STNNBR,CASTNO,BTLNBR,BTLNBR_FLAG_W,DATE,LATITUDE,LONGITUDE,DEPTH,CTDPRS,CTDTMP,CTDSAL,CTDSAL_FLAG_W,SALNTY,SALNTY_FLAG_W,CTDOXY,CTDOXY_FLAG_W,OXYGEN,OXYGEN_FLAG_W,SILCAT,SILCAT_FLAG_W,NITRAT,NITRAT_FLAG_W,NITRIT,NITRIT_FLAG_W,PHSPHT,PHSPHT_FLAG_W,CFC-11,CFC-11_FLAG_W,CFC-12,CFC-12_FLAG_W,TCARBN,TCARBN_FLAG_W,PCO2,PCO2_FLAG_W,PH_SWS,PH_TEMP,PH_SWS_FLAG_W,THETA
,,,,,,,,,METERS,DBARS,ITS-90,PSS-78,,PSS-78,,UMOL/KG,,UMOL/KG,,UMOL/KG,,UMOL/KG,,UMOL/KG,,UMOL/KG,,PMOL/KG,,PMOL/KG,,UMOL/KG,,PPM,,,DEGC,,DEGC
  33LK19960415,  AR04,    54,  2,     22,2,19960430, -0.6665, -35.0033, -999,    595.8,   5.8433,  34.5223,2,  34.5377,2,     -9.0,9,    141.6,3,    24.23,2,    33.01,2,     0.00,2,     2.17,2,    0.254,2,    0.165,3,   2188.4,3,     -9.0,9,   7.5879,    25.00,2,   5.7915
  33LK19960415,  AR04,    54,  2,     21,2,19960430, -0.6665, -35.0033, -999,    745.1,   4.8247,  34.4870,2,  34.4770,2,     -9.0,9,    158.7,3,    30.19,2,    33.36,2,     0.00,2,     2.23,2,    0.175,2,    0.129,3,   2181.0,3,     -9.0,9,   7.5972,    25.00,2,   4.7650
  33LK19960415,  AR04,    54,  2,     20,2,19960430, -0.6665, -35.0033, -999,    894.7,   4.5928,  34.5583,2,  34.5402,2,     -9.0,9,    153.2,3,    32.00,2,    33.56,2,     0.00,2,     2.27,2,    0.050,2,    0.077,3,   2207.5,2,     -9.0,9,   7.5811,    25.00,2,   4.5217
  33LK19960415,  AR04,    54,  2,     19,2,19960430, -0.6665, -35.0033, -999,    995.5,   4.4871,  34.6130,2,  34.5853,2,     -9.0,9,    157.0,2,    32.24,2,    32.74,2,     0.00,2,     2.21,2,    0.028,2,    0.066,3,   2204.9,2,     -9.0,9,   7.5923,    25.00,2,   4.4079
  33LK19960415,  AR04,    54,  2,     18,2,19960430, -0.6665, -35.0033, -999,   1186.0,   4.5275,  34.8410,2,  34.8354,2,     -9.0,9,    186.3,2,    24.98,2,    27.00,2,     0.00,2,     1.81,2,    0.028,2,    0.066,3,   2170.8,3,     -9.0,9,   7.6637,    25.00,2,   4.4307
  33LK19960415,  AR04,    54,  2,     17,2,19960430, -0.6665, -35.0033, -999,   1393.7,   4.4679,  34.9452,2,  34.9446,2,     -9.0,9,    215.9,2,    19.81,2,    22.71,2,     0.00,2,     1.49,2,    0.109,2,    0.106,3,   2172.1,2,     -9.0,9,   7.7167,    25.00,2,   4.3524
  33LK19960415,  AR04,    54,  2,     16,2,19960430, -0.6665, -35.0033, -999,   1495.3,   4.3527,  34.9692,2,  34.9733,2,     -9.0,9,    230.4,2,    17.99,2,    20.96,2,     0.00,2,     1.37,2,    0.129,2,    0.096,3,   2141.2,3,     -9.0,9,   7.7280,    25.00,2,   4.2289
  33LK19960415,  AR04,    54,  2,     15,2,19960430, -0.6665, -35.0033, -999,   1595.2,   4.1329,  34.9828,2,  34.9831,2,     -9.0,9,    242.8,2,    17.38,2,    19.75,2,     0.00,2,     1.28,2,    0.111,2,    0.087,3,   2152.8,2,     -9.0,9,   7.7470,    25.00,2,   4.0023
  33LK19960415,  AR04,    54,  2,     14,2,19960430, -0.6665, -35.0033, -999,   1693.6,   3.9273,  34.9797,2,  34.9827,2,     -9.0,9,    248.1,2,    17.56,2,    19.32,2,     0.00,2,     1.24,2,    0.104,2,    0.082,3,   2147.5,3,     -9.0,9,   7.7569,    25.00,2,   3.7901
  33LK19960415,  AR04,    54,  2,     13,2,19960430, -0.6665, -35.0033, -999,   1793.0,   3.7191,  34.9748,2,  34.9737,2,     -9.0,9,    248.6,2,    19.60,2,    19.51,2,     0.00,2,     1.26,2,    0.040,2,    0.045,3,   2144.1,3,     -9.0,9,   7.7575,    25.00,2,   3.5753
  33LK19960415,  AR04,    54,  2,     12,2,19960430, -0.6665, -35.0033, -999,   1992.3,   3.5459,  34.9731,2,  34.9732,2,     -9.0,9,    254.1,2,    19.79,2,    18.94,2,     0.00,2,     1.22,2,    0.073,2,    0.054,3,   2146.1,3,     -9.0,9,   7.7528,    25.00,2,   3.3858
  33LK19960415,  AR04,    54,  2,     11,2,19960430, -0.6665, -35.0033, -999,   2291.8,   3.2421,  34.9607,2,  34.9624,2,     -9.0,9,    259.2,2,    21.27,2,    18.55,2,     0.00,2,     1.20,2,    0.083,2,    0.052,3,   2155.2,2,     -9.0,9,   7.7593,    25.00,2,   3.0581
  33LK19960415,  AR04,    54,  2,     10,2,19960430, -0.6665, -35.0033, -999,   2696.9,   2.8904,  34.9390,2,  34.9386,2,     -9.0,9,    257.1,2,    27.09,2,    19.22,2,     0.00,2,     1.25,2,    0.042,2,    0.037,3,   2159.8,2,     -9.0,9,   7.7596,    25.00,2,   2.6730
  33LK19960415,  AR04,    54,  2,      8,2,19960430, -0.6665, -35.0033, -999,   2992.0,   2.7395,  34.9294,2,  34.9264,2,     -9.0,9,    257.5,2,    29.89,2,    19.37,2,     0.00,2,     1.27,2,   -9.000,9,   -9.000,9,   2163.8,2,     -9.0,9,   7.7589,    25.00,2,   2.4952
  33LK19960415,  AR04,    54,  2,      9,2,19960430, -0.6665, -35.0033, -999,   2992.3,   2.7423,  34.9288,2,  34.9267,2,     -9.0,9,    257.1,2,    29.99,2,    19.37,2,     0.00,2,     1.25,2,    0.044,2,    0.041,3,   2148.1,3,     -9.0,9,   7.7589,    25.00,2,   2.4979
  33LK19960415,  AR04,    54,  2,      7,2,19960430, -0.6665, -35.0033, -999,   3296.5,   2.5931,  34.9155,2,  34.9115,2,     -9.0,9,    254.6,2,    34.94,2,    20.02,2,     0.00,2,     1.32,2,    0.022,2,    0.031,3,   2160.5,2,     -9.0,9,   7.7493,    25.00,2,   2.3202
  33LK19960415,  AR04,    54,  2,      6,2,19960430, -0.6665, -35.0033, -999,   3595.4,   2.4555,  34.9102,2,  34.9104,2,     -9.0,9,    261.8,2,    31.54,2,    19.02,2,     0.00,2,     1.25,2,    0.108,2,    0.064,3,   2158.5,3,     -9.0,9,   7.7582,    25.00,2,   2.1537
  33LK19960415,  AR04,    54,  2,      5,2,19960430, -0.6665, -35.0033, -999,   3795.6,   2.3899,  34.9043,2,  34.9055,2,     -9.0,9,    262.5,2,    32.65,2,    18.98,2,     0.00,2,     1.25,2,    0.117,2,    0.069,3,   2157.2,3,     -9.0,9,   7.7277,    25.00,3,   2.0677
  33LK19960415,  AR04,    54,  2,      4,2,19960430, -0.6665, -35.0033, -999,   3996.1,   2.3028,  34.8966,2,  34.8974,2,     -9.0,9,    262.0,2,    34.80,2,    19.17,2,     0.00,2,     1.27,2,    0.115,2,    0.066,3,     -9.0,4,     -9.0,9,   7.7338,    25.00,2,   1.9604
  33LK19960415,  AR04,    54,  2,      3,2,19960430, -0.6665, -35.0033, -999,   4197.3,   1.6584,  34.8214,2,  34.8192,2,     -9.0,9,    241.7,2,    72.86,2,    24.51,2,     0.00,2,     1.66,2,    0.049,2,    0.031,3,   2193.9,2,     -9.0,9,   7.7047,    25.00,2,   1.3122
  33LK19960415,  AR04,    54,  2,      2,2,19960430, -0.6665, -35.0033, -999,   4400.1,   1.1054,  34.7578,2,  34.7602,2,     -9.0,9,    229.7,2,    99.33,2,    28.07,2,     0.00,2,     1.92,2,    0.017,2,    0.017,3,   2218.1,2,     -9.0,9,   7.6774,    25.00,2,   0.7534
  33LK19960415,  AR04,    54,  2,      1,2,19960430, -0.6665, -35.0033, -999,   4496.5,   1.0128,  34.7467,2,  34.7482,2,     -9.0,9,    227.9,2,   104.04,2,    28.70,2,     0.00,2,     1.97,2,    0.016,2,    0.018,3,   2215.3,3,     -9.0,9,   7.6706,    25.00,2,   0.6529
  33LK19960415,  AR04,    55,  1,      6,2,19960430, -0.9998, -35.0017, -999,      7.2,  28.8216,  35.4296,2,  35.4277,2,     -9.0,9,    197.0,2,     0.80,2,     0.07,2,     0.00,2,     0.05,2,    1.626,2,    0.820,2,   1987.9,2,    375.4,2,   8.1072,    25.00,2,  28.8199
  33LK19960415,  AR04,    55,  1,      5,2,19960430, -0.9998, -35.0017, -999,     51.1,  28.0015,  36.2706,2,  36.2618,2,     -9.0,9,    202.3,2,     0.87,2,     0.04,2,     0.00,2,     0.06,2,    1.680,2,    0.803,2,     -9.0,9,     -9.0,9,-999.0000,  -999.00,9,  27.9894
  33LK19960415,  AR04,    55,  1,      4,2,19960430, -0.9998, -35.0017, -999,    149.6,  13.3717,  35.3218,2,  35.3204,2,     -9.0,9,    149.0,2,     6.89,2,    16.94,2,     0.00,2,     1.14,2,    1.491,2,    0.640,2,     -9.0,9,     -9.0,9,-999.0000,  -999.00,9,  13.3507
  33LK19960415,  AR04,    55,  1,      3,2,19960430, -0.9998, -35.0017, -999,    251.2,  11.4737,  35.0972,2,  35.1165,2,     -9.0,9,     88.6,2,    10.68,2,    26.53,2,     0.00,2,     1.67,2,    0.827,2,    0.394,2,     -9.0,9,     -9.0,9,-999.0000,  -999.00,9,  11.4418
  33LK19960415,  AR04,    55,  1,      2,2,19960430, -0.9998, -35.0017, -999,    398.6,   8.6443,  34.7766,2,  34.7770,2,     -9.0,9,    104.9,2,    16.34,2,    31.09,2,     0.00,2,     1.98,2,    0.446,2,    0.228,2,     -9.0,9,     -9.0,9,-999.0000,  -999.00,9,   8.6017
  33LK19960415,  AR04,    55,  1,      1,2,19960430, -0.9998, -35.0017, -999,    502.6,   6.7997,  34.5851,2,  34.5874,2,     -9.0,9,    139.0,2,    20.60,2,    31.32,2,     0.00,2,     2.07,2,    0.425,2,    0.316,2,     -9.0,9,     -9.0,9,-999.0000,  -999.00,9,   6.7527
  33LK19960415,  AR04,    55,  2,     22,2,19960430, -0.9998, -35.0017, -999,    596.6,   6.0899,  34.5343,2,  34.5357,2,     -9.0,9,    142.5,2,    23.46,2,    32.43,2,     0.00,2,     2.16,2,    0.268,2,    0.126,2,     -9.0,9,     -9.0,9,-999.0000,  -999.00,9,   6.0369
  33LK19960415,  AR04,    55,  2,     21,2,19960430, -0.9998, -35.0017, -999,    744.9,   4.8427,  34.4803,2,  34.4817,2,     -9.0,9,    157.2,2,    30.00,2,    33.21,2,     0.00,2,     2.26,2,    0.142,2,    0.071,2,     -9.0,9,     -9.0,9,-999.0000,  -999.00,9,   4.7829
  33LK19960415,  AR04,    55,  2,     20,2,19960430, -0.9998, -35.0017, -999,    895.5,   4.6391,  34.5420,2,  34.5448,2,     -9.0,9,    153.1,2,    31.50,2,    33.24,2,     0.00,2,     2.27,2,    0.034,2,    0.020,2,     -9.0,9,     -9.0,9,-999.0000,  -999.00,9,   4.5676
  33LK19960415,  AR04,    55,  2,     19,2,19960430, -0.9998, -35.0017, -999,    994.4,   4.4773,  34.5893,2,  34.5793,2,     -9.0,9,    157.5,2,    31.78,2,    33.08,2,     0.00,2,     2.23,2,    0.024,2,    0.017,2,     -9.0,9,     -9.0,9,-999.0000,  -999.00,9,   4.3983
  33LK19960415,  AR04,    55,  2,     18,2,19960430, -0.9998, -35.0017, -999,   1196.5,   4.5311,  34.8336,2,  34.8176,2,     -9.0,9,    183.3,2,    25.29,2,    27.79,2,     0.00,2,     1.84,2,    0.022,2,    0.031,2,     -9.0,9,     -9.0,9,-999.0000,  -999.00,9,   4.4333
  33LK19960415,  AR04,    55,  2,     17,2,19960430, -0.9998, -35.0017, -999,   1392.1,   4.4995,  34.9242,2,  -9.0000,9,     -9.0,9,    208.6,2,    20.79,2,    24.05,2,     0.00,2,     1.57,2,    0.061,2,    0.054,2,     -9.0,9,     -9.0,9,-999.0000,  -999.00,9,   4.3839
  33LK19960415,  AR04,    55,  2,     16,2,19960430, -0.9998, -35.0017, -999,   1493.8,   4.3509,  34.9694,2,  34.9649,2,     -9.0,9,    224.2,2,    18.26,2,    21.74,2,     0.00,2,     1.42,2,    0.132,2,    0.072,2,     -9.0,9,     -9.0,9,-999.0000,  -999.00,9,   4.2273
  33LK19960415,  AR04,    55,  2,     15,2,19960430, -0.9998, -35.0017, -999,   1595.5,   4.0240,  34.9816,2,  34.9834,2,     -9.0,9,    251.1,2,    16.86,2,    19.69,2,     0.00,2,     1.28,2,    0.126,2,    0.068,2,     -9.0,9,     -9.0,9,-999.0000,  -999.00,9,   3.8947
  33LK19960415,  AR04,    55,  2,     14,2,19960430, -0.9998, -35.0017, -999,   1695.2,   3.8648,  34.9800,2,  34.9799,2,     -9.0,9,    246.8,2,    17.52,2,    19.46,2,     0.00,2,     1.27,2,    0.077,2,    0.047,2,     -9.0,9,     -9.0,9,-999.0000,  -999.00,9,   3.7282
  33LK19960415,  AR04,    55,  2,     13,2,19960430, -0.9998, -35.0017, -999,   1793.9,   3.7066,  34.9741,2,  34.9782,2,     -9.0,9,    251.0,2,    18.08,2,    19.02,2,     0.00,2,     1.25,2,    0.070,2,    0.044,2,     -9.0,9,     -9.0,9,-999.0000,  -999.00,9,   3.5629
  33LK19960415,  AR04,    55,  2,     12,2,19960430, -0.9998, -35.0017, -999,   1991.2,   3.5926,  34.9768,2,  34.9710,2,     -9.0,9,    251.2,2,    19.64,2,    19.04,2,     0.00,2,     1.25,2,    0.045,2,    0.032,2,     -9.0,9,     -9.0,9,-999.0000,  -999.00,9,   3.4319
  33LK19960415,  AR04,    55,  2,     11,2,19960430, -0.9998, -35.0017, -999,   2197.8,   3.3114,  34.9638,2,  34.9680,2,     -9.0,9,    258.5,2,    19.48,2,    18.31,2,     0.00,2,     1.20,2,    0.107,2,    0.069,2,     -9.0,9,     -9.0,9,-999.0000,  -999.00,9,   3.1353
  33LK19960415,  AR04,    55,  2,      9,2,19960430, -0.9998, -35.0017, -999,   2392.0,   3.1176,  34.9530,2,  34.9518,2,     -9.0,9,    256.1,2,    23.90,2,    18.95,2,     0.00,2,     1.25,2,    0.036,2,    0.027,2,     -9.0,9,     -9.0,9,-999.0000,  -999.00,9,   2.9260
  33LK19960415,  AR04,    55,  2,     10,2,19960430, -0.9998, -35.0017, -999,   2392.8,   3.1172,  34.9521,2,  34.9519,2,     -9.0,9,    255.8,2,    23.88,2,    18.93,2,     0.00,2,     1.25,2,   -9.000,9,   -9.000,9,     -9.0,9,     -9.0,9,-999.0000,  -999.00,9,   2.9256
  33LK19960415,  AR04,    55,  2,      8,2,19960430, -0.9998, -35.0017, -999,   2695.0,   2.8573,  34.9374,2,  34.9355,2,     -9.0,9,    256.6,2,    27.47,2,    19.10,2,     0.00,2,     1.27,2,    0.056,2,    0.039,2,     -9.0,9,     -9.0,9,-999.0000,  -999.00,9,   2.6407
  33LK19960415,  AR04,    55,  2,      7,2,19960430, -0.9998, -35.0017, -999,   2995.6,   2.6989,  34.9278,2,  34.9261,2,     -9.0,9,    257.6,2,    29.69,2,    19.18,2,     0.00,2,     1.27,2,    0.042,2,    0.042,2,     -9.0,9,     -9.0,9,-999.0000,  -999.00,9,   2.4551
  33LK19960415,  AR04,    55,  2,      6,2,19960430, -0.9998, -35.0017, -999,   3295.7,   2.5832,  34.9187,2,  34.9157,2,     -9.0,9,    259.4,2,    30.85,2,    19.08,2,     0.00,2,     1.27,2,    0.065,2,    0.050,2,     -9.0,9,     -9.0,9,-999.0000,  -999.00,9,   2.3106
  33LK19960415,  AR04,    55,  2,      5,2,19960430, -0.9998, -35.0017, -999,   3595.4,   2.4596,  34.9118,2,  34.9083,2,     -9.0,9,    262.2,2,    31.11,2,    18.79,2,     0.00,2,     1.25,2,    0.142,2,    0.079,2,     -9.0,9,     -9.0,9,-999.0000,  -999.00,9,   2.1578
  33LK19960415,  AR04,    55,  2,      4,2,19960430, -0.9998, -35.0017, -999,   3795.5,   2.3486,  34.9026,2,  34.9007,2,     -9.0,9,    263.2,2,    32.24,2,    18.77,2,     0.00,2,     1.25,2,    0.132,2,    0.079,2,     -9.0,9,     -9.0,9,-999.0000,  -999.00,9,   2.0276
  33LK19960415,  AR04,    55,  2,      3,2,19960430, -0.9998, -35.0017, -999,   3994.5,   2.2667,  34.8933,2,  34.8916,2,     -9.0,9,    261.7,2,    36.19,2,    19.32,2,     0.00,2,     1.29,2,    0.105,2,    0.070,2,     -9.0,9,     -9.0,9,-999.0000,  -999.00,9,   1.9256
  33LK19960415,  AR04,    55,  2,      2,2,19960430, -0.9998, -35.0017, -999,   4196.2,   1.5575,  34.8091,2,  34.8068,2,     -9.0,9,    240.6,2,    75.99,2,    25.01,2,     0.00,2,     1.71,2,    0.007,2,    0.028,2,     -9.0,9,     -9.0,9,-999.0000,  -999.00,9,   1.2144
  33LK19960415,  AR04,    55,  2,      1,2,19960430, -0.9998, -35.0017, -999,   4436.1,   1.0960,  34.7567,2,  34.7559,2,     -9.0,9,    230.1,2,    98.40,2,    28.03,2,     0.00,2,     1.93,2,    0.009,2,    0.034,2,     -9.0,9,     -9.0,9,-999.0000,  -999.00,9,   0.7402
  33LK19960415,  AR04,    56,  1,      6,2,19960430, -1.4987, -35.0022, -999,      5.6,  28.9766,  35.5681,2,  35.5889,2,     -9.0,9,    197.2,3,     0.79,2,     0.04,2,     0.00,2,     0.06,2,    1.599,2,    0.867,2,   1988.6,2,    380.0,2,   8.1094,    25.00,2,  28.9752
  33LK19960415,  AR04,    56,  1,      5,2,19960430, -1.4987, -35.0022, -999,     27.7,  28.8508,  35.6076,2,  35.7598,2,     -9.0,9,    200.7,2,     0.76,2,     0.04,2,     0.00,2,     0.06,2,    1.594,2,    0.848,2,   2008.9,2,     -9.0,9,   8.1083,    25.00,2,  28.8441
  33LK19960415,  AR04,    56,  1,      4,2,19960430, -1.4987, -35.0022, -999,    149.4,  12.8618,  35.2447,2,  35.2482,2,     -9.0,9,    136.2,2,     7.84,2,    19.39,2,     0.01,2,     1.28,2,    1.339,2,    0.608,2,   2164.6,2,     -9.0,9,   7.7768,    25.00,2,  12.8414
  33LK19960415,  AR04,    56,  1,      3,2,19960430, -1.4987, -35.0022, -999,    249.9,  11.4121,  35.0829,2,  35.0567,2,     -9.0,9,     87.0,2,    11.71,2,    28.02,2,     0.00,2,     1.77,2,    0.732,2,    0.305,2,   2213.5,3,     -9.0,9,   7.6447,    25.00,2,  11.3805
  33LK19960415,  AR04,    56,  1,      2,2,19960430, -1.4987, -35.0022, -999,    399.3,   8.1488,  34.7104,2,  34.7012,2,     -9.0,9,    130.3,2,    17.02,2,    29.87,2,     0.00,2,     1.93,2,    0.590,2,    0.263,2,   2210.8,2,     -9.0,9,   7.6412,    25.00,2,   8.1076
  33LK19960415,  AR04,    56,  1,      1,2,19960430, -1.4987, -35.0022, -999,    499.7,   6.9608,  34.5785,2,  34.5733,2,     -9.0,9,    154.7,2,    19.34,2,    29.81,2,     0.00,2,     1.97,2,    0.608,2,    0.281,2,   2211.4,2,     -9.0,9,   7.6465,    25.00,2,   6.9134