BOTTLE,20090511PRINUNIVRMK
EXPOCODE,SECT_ID,STNNBR,CASTNO,BTLNBR,BTLNBR_FLAG_W,DATE,LATITUDE,LONGITUDE,DEPTH,CTDPRS,CTDTMP,CTDSAL,CTDSAL_FLAG_W,SALNTY,SALNTY_FLAG_W,CTDOXY,CTDOXY_FLAG_W,OXYGEN,OXYGEN_FLAG_W,SILCAT,SILCAT_FLAG_W,NITRAT,NITRAT_FLAG_W,NITRIT,NITRIT_FLAG_W,PHSPHT,PHSPHT_FLAG_W,CFC-11,CFC-11_FLAG_W,CFC-12,CFC-12_FLAG_W,TCARBN,TCARBN_FLAG_W,PCO2,PCO2_FLAG_W,PH_SWS,PH_TEMP,PH_SWS_FLAG_W,THETA
,,,,,,,,,METERS,DBARS,ITS-90,PSS-78,,PSS-78,,UMOL/KG,,UMOL/KG,,UMOL/KG,,UMOL/KG,,UMOL/KG,,UMOL/KG,,PMOL/KG,,PMOL/KG,,UMOL/KG,,PPM,,,DEGC,,DEGC
  33LK19960415,  AR04,    56,  2,     22,2,19960430, -1.4987, -35.0022, -999,    595.4,   6.0554,  34.5278,2,  34.5309,2,     -9.0,9,    145.0,2,    24.19,2,    32.67,2,     0.00,2,     2.18,2,    0.294,2,    0.114,2,   2218.2,2,     -9.0,9,   7.6001,    25.00,2,   6.0027
  33LK19960415,  AR04,    56,  2,     21,2,19960430, -1.4987, -35.0022, -999,    745.2,   4.7085,  34.4910,2,  34.4974,2,     -9.0,9,    155.2,2,    31.83,2,    33.78,2,     0.00,2,     2.30,2,    0.096,2,    0.030,2,   2223.8,2,     -9.0,9,   7.5956,    25.00,2,   4.6495
  33LK19960415,  AR04,    56,  2,     20,2,19960430, -1.4987, -35.0022, -999,    895.6,   4.5638,  34.5495,2,  34.5527,2,     -9.0,9,    154.9,2,    32.66,2,    33.49,2,     0.00,2,     2.27,2,    0.034,2,    0.015,2,   2235.2,3,     -9.0,9,   7.5989,    25.00,2,   4.4928
  33LK19960415,  AR04,    56,  2,     19,2,19960430, -1.4987, -35.0022, -999,    994.3,   4.4740,  34.5906,2,  34.5868,2,     -9.0,9,    159.4,2,    32.93,2,    32.83,2,     0.00,2,     2.22,2,    0.021,2,    0.014,2,   2239.2,3,     -9.0,9,   7.5921,    25.00,2,   4.3950
  33LK19960415,  AR04,    56,  2,     18,2,19960430, -1.4987, -35.0022, -999,   1195.5,   4.5299,  34.8393,2,  34.8433,2,     -9.0,9,    187.9,2,    25.04,2,    27.01,2,     0.00,2,     1.79,2,    0.016,2,    0.014,2,   2223.5,2,     -9.0,9,   7.6641,    25.00,2,   4.4322
  33LK19960415,  AR04,    56,  2,     17,2,19960430, -1.4987, -35.0022, -999,   1395.6,   4.5176,  34.9064,2,  34.9097,2,     -9.0,9,    204.0,2,    21.97,2,    24.57,2,     0.00,2,     1.62,2,    0.106,2,    0.061,2,   2193.6,2,     -9.0,9,   7.6989,    25.00,2,   4.4015
  33LK19960415,  AR04,    56,  2,     16,2,19960430, -1.4987, -35.0022, -999,   1494.7,   4.4837,  34.9483,2,  34.9514,2,     -9.0,9,    217.8,2,    19.69,2,    22.65,2,     0.00,2,     1.49,2,    0.101,2,    0.044,2,   2188.3,2,     -9.0,9,   7.7206,    25.00,2,   4.3586
  33LK19960415,  AR04,    56,  2,     15,2,19960430, -1.4987, -35.0022, -999,   1593.8,   4.1445,  34.9786,2,  34.9809,2,     -9.0,9,    243.1,2,    17.69,2,    20.08,2,     0.00,2,     1.31,2,    0.110,2,    0.053,2,   2169.3,2,     -9.0,9,   7.7472,    25.00,2,   4.0139
  33LK19960415,  AR04,    56,  2,     14,2,19960430, -1.4987, -35.0022, -999,   1695.4,   3.9242,  34.9793,2,  34.9813,2,     -9.0,9,    248.1,2,    17.88,2,    19.69,2,     0.00,2,     1.28,2,    0.089,2,    0.046,2,   2166.8,2,     -9.0,9,   7.7570,    25.00,2,   3.7868
  33LK19960415,  AR04,    56,  2,     13,2,19960430, -1.4987, -35.0022, -999,   1795.2,   3.8027,  34.9778,2,  34.9808,2,     -9.0,9,    250.1,2,    18.21,2,    19.40,2,     0.00,2,     1.26,2,    0.082,2,    0.042,2,   2191.9,3,     -9.0,9,   7.7588,    25.00,2,   3.6576
  33LK19960415,  AR04,    56,  2,     12,2,19960430, -1.4987, -35.0022, -999,   1995.0,   3.6337,  34.9754,2,  34.9780,2,     -9.0,9,    255.4,2,    18.83,2,    18.97,2,     0.00,2,     1.23,2,    0.090,2,    0.040,2,   2164.4,2,     -9.0,9,   7.7636,    25.00,2,   3.4720
  33LK19960415,  AR04,    56,  2,     10,2,19960430, -1.4987, -35.0022, -999,   2196.8,   3.3368,  34.9657,2,  34.9681,2,     -9.0,9,    258.3,2,    20.53,2,    18.78,2,     0.00,2,     1.21,2,    0.097,2,    0.051,2,   2180.2,2,     -9.0,9,   7.7665,    25.00,2,   3.1604
  33LK19960415,  AR04,    56,  2,     11,2,19960430, -1.4987, -35.0022, -999,   2197.2,   3.3370,  34.9655,2,  34.9669,2,     -9.0,9,    259.1,2,    20.44,2,    18.75,2,     0.00,2,     1.22,2,   -9.000,9,   -9.000,9,   2175.7,2,     -9.0,9,   7.7665,    25.00,2,   3.1606
  33LK19960415,  AR04,    56,  2,      9,2,19960430, -1.4987, -35.0022, -999,   2395.1,   3.1252,  34.9539,2,  34.9552,2,     -9.0,9,    258.8,2,    22.92,2,    18.94,2,     0.00,2,     1.22,2,    0.074,2,    0.041,2,   2155.7,2,     -9.0,9,   7.7706,    25.00,2,   2.9332
  33LK19960415,  AR04,    56,  2,      8,2,19960430, -1.4987, -35.0022, -999,   2695.1,   2.8884,  34.9386,2,  34.9377,2,     -9.0,9,    257.4,2,    27.78,2,    19.62,2,     0.00,2,     1.27,2,    0.075,2,    0.043,2,   2160.4,2,     -9.0,9,   7.7688,    25.00,2,   2.6712
  33LK19960415,  AR04,    56,  2,      7,2,19960430, -1.4987, -35.0022, -999,   2995.3,   2.7245,  34.9288,2,  34.9274,2,     -9.0,9,    259.2,2,    29.59,2,    19.49,2,     0.00,2,     1.27,2,    0.054,2,    0.030,2,   2185.7,2,     -9.0,9,   7.7680,    25.00,2,   2.4802
  33LK19960415,  AR04,    56,  2,      6,2,19960430, -1.4987, -35.0022, -999,   3194.5,   2.5664,  34.9171,2,  34.9172,2,     -9.0,9,    258.3,2,    32.35,2,    19.66,2,     0.00,2,     1.28,2,    0.056,2,    0.029,2,   2185.8,2,     -9.0,9,   7.7637,    25.00,2,   2.3049
  33LK19960415,  AR04,    56,  2,      5,2,19960430, -1.4987, -35.0022, -999,   3394.9,   2.5473,  34.9158,2,  34.9153,2,     -9.0,9,    259.9,2,    32.12,2,    19.52,2,     0.00,2,     1.27,2,    0.082,2,    0.046,2,   2189.5,3,     -9.0,9,   7.7615,    25.00,2,   2.2650
  33LK19960415,  AR04,    56,  2,      4,2,19960430, -1.4987, -35.0022, -999,   3595.0,   2.4516,  34.9096,2,  34.9097,2,     -9.0,9,    262.1,2,    32.20,2,    19.28,2,     0.00,2,     1.26,2,    0.098,2,    0.058,2,   2166.3,2,     -9.0,9,   7.7582,    25.00,2,   2.1500
  33LK19960415,  AR04,    56,  2,      3,2,19960430, -1.4987, -35.0022, -999,   3796.6,   2.2292,  34.8908,2,  34.8903,2,     -9.0,9,    261.7,2,    37.99,2,    19.83,2,     0.00,2,     1.31,2,    0.106,2,    0.058,2,   2205.6,3,     -9.0,9,   7.7531,    25.00,2,   1.9113
  33LK19960415,  AR04,    56,  2,      2,2,19960430, -1.4987, -35.0022, -999,   3996.0,   2.0352,  34.8656,2,  34.8664,2,     -9.0,9,    254.5,2,    49.80,2,    21.49,2,     0.00,2,     1.43,2,    0.060,2,    0.044,2,   2184.0,2,     -9.0,9,   7.7392,    25.00,2,   1.7005
  33LK19960415,  AR04,    56,  2,      1,2,19960430, -1.4987, -35.0022, -999,   4235.3,   1.4485,  34.7957,2,  34.7964,2,     -9.0,9,    237.9,2,    83.00,2,    26.23,2,     0.00,2,     1.77,2,    0.000,2,    0.013,2,   2225.8,2,     -9.0,9,   7.7032,    25.00,2,   1.1043
  33LK19960415,  AR04,    57,  1,      6,2,19960501, -2.0057, -35.0025, -999,      5.0,  28.7381,  35.7259,2,  35.7462,2,     -9.0,9,    196.1,2,     0.90,2,     0.00,2,     0.00,2,     0.06,2,   -9.000,9,   -9.000,9,   2009.9,2,    378.8,2,   8.1059,    25.00,2,  28.7369
  33LK19960415,  AR04,    57,  1,      5,2,19960501, -2.0057, -35.0025, -999,     49.5,  26.1325,  36.3218,2,  36.3058,2,     -9.0,9,    205.4,2,     0.90,2,     0.00,2,     0.00,2,     0.11,2,   -9.000,9,   -9.000,9,     -9.0,9,     -9.0,9,-999.0000,  -999.00,9,  26.1214
  33LK19960415,  AR04,    57,  1,      4,2,19960501, -2.0057, -35.0025, -999,    150.2,  12.9672,  35.2595,2,  35.2670,2,     -9.0,9,    119.4,2,     8.25,2,    21.37,2,     0.00,2,     1.39,2,   -9.000,9,   -9.000,9,     -9.0,9,     -9.0,9,-999.0000,  -999.00,9,  12.9466
  33LK19960415,  AR04,    57,  1,      3,2,19960501, -2.0057, -35.0025, -999,    249.9,  11.6888,  35.1079,2,  35.1144,2,     -9.0,9,     90.5,2,    10.81,2,    26.68,2,     0.00,2,     1.68,2,   -9.000,9,   -9.000,9,     -9.0,9,     -9.0,9,-999.0000,  -999.00,9,  11.6566
  33LK19960415,  AR04,    57,  1,      2,2,19960501, -2.0057, -35.0025, -999,    400.3,   7.9441,  34.6588,2,  34.6670,2,     -9.0,9,    154.9,2,    15.73,2,    27.33,2,     0.00,2,     1.81,2,   -9.000,9,   -9.000,9,     -9.0,9,     -9.0,9,-999.0000,  -999.00,9,   7.9034
  33LK19960415,  AR04,    57,  1,      1,2,19960501, -2.0057, -35.0025, -999,    498.7,   7.2949,  34.6267,2,  34.6322,2,     -9.0,9,    131.3,2,    19.51,2,    31.44,2,     0.00,2,     2.05,2,   -9.000,9,   -9.000,9,     -9.0,9,     -9.0,9,-999.0000,  -999.00,9,   7.2463
  33LK19960415,  AR04,    57,  2,     22,2,19960501, -2.0057, -35.0025, -999,    595.3,   6.1417,  34.5237,2,  34.5263,2,     -9.0,9,    151.2,2,    23.19,2,    31.78,2,     0.00,2,     2.12,2,    0.387,2,    0.171,2,     -9.0,9,     -9.0,9,-999.0000,  -999.00,9,   6.0886
  33LK19960415,  AR04,    57,  2,     21,2,19960501, -2.0057, -35.0025, -999,    696.2,   4.9343,  34.4856,2,  34.4699,2,     -9.0,9,    161.9,2,    29.71,2,    32.99,2,     0.00,2,     2.24,2,    0.207,2,    0.089,2,     -9.0,9,     -9.0,9,-999.0000,  -999.00,9,   4.8782
  33LK19960415,  AR04,    57,  2,     20,2,19960501, -2.0057, -35.0025, -999,    844.4,   4.6265,  34.5299,2,  34.5348,2,     -9.0,9,    152.2,2,    32.54,2,    33.76,2,     0.00,2,     2.31,2,    0.022,2,    0.009,2,     -9.0,9,     -9.0,9,-999.0000,  -999.00,9,   4.5595
  33LK19960415,  AR04,    57,  2,     19,2,19960501, -2.0057, -35.0025, -999,    994.0,   4.3771,  34.5781,2,  34.6025,2,     -9.0,9,    162.6,2,    32.81,2,    32.26,2,     0.00,2,     2.20,2,    0.013,2,    0.007,2,     -9.0,9,     -9.0,9,-999.0000,  -999.00,9,   4.2989
  33LK19960415,  AR04,    57,  2,     18,2,19960501, -2.0057, -35.0025, -999,   1193.0,   4.5326,  34.8346,2,  34.8263,2,     -9.0,9,    184.7,2,    25.78,2,    27.36,2,     0.00,2,     1.84,2,    0.011,2,    0.014,2,     -9.0,9,     -9.0,9,-999.0000,  -999.00,9,   4.4351
  33LK19960415,  AR04,    57,  2,     17,2,19960501, -2.0057, -35.0025, -999,   1293.7,   4.5248,  34.8915,2,  34.8862,2,     -9.0,9,    198.1,2,    23.18,2,    25.31,2,     0.00,2,     1.69,2,    0.037,2,    0.018,2,     -9.0,9,     -9.0,9,-999.0000,  -999.00,9,   4.4181
  33LK19960415,  AR04,    57,  2,     16,2,19960501, -2.0057, -35.0025, -999,   1395.9,   4.5331,  34.9146,2,  34.9148,2,     -9.0,9,    205.3,2,    21.77,2,    24.22,2,     0.00,2,     1.60,2,    0.046,2,    0.025,2,     -9.0,9,     -9.0,9,-999.0000,  -999.00,9,   4.4168
  33LK19960415,  AR04,    57,  2,     15,2,19960501, -2.0057, -35.0025, -999,   1495.3,   4.3945,  34.9497,2,  34.9304,2,     -9.0,9,    212.5,2,    20.59,2,    23.34,2,     0.00,2,     1.53,2,    0.082,2,    0.041,2,     -9.0,9,     -9.0,9,-999.0000,  -999.00,9,   4.2704
  33LK19960415,  AR04,    57,  2,     14,2,19960501, -2.0057, -35.0025, -999,   1594.3,   4.0472,  34.9791,2,  34.9800,2,     -9.0,9,    240.4,2,    17.67,2,    20.16,2,     0.00,2,     1.31,2,    0.098,2,    0.055,2,     -9.0,9,     -9.0,9,-999.0000,  -999.00,9,   3.9177
  33LK19960415,  AR04,    57,  2,     13,2,19960501, -2.0057, -35.0025, -999,   1692.4,   3.9232,  34.9796,2,  34.9816,0,     -9.0,9,    245.8,2,    17.71,2,    19.67,2,     0.00,2,     1.27,2,    0.098,2,    0.059,2,     -9.0,9,     -9.0,9,-999.0000,  -999.00,9,   3.7861
  33LK19960415,  AR04,    57,  2,     11,2,19960501, -2.0057, -35.0025, -999,   1793.5,   3.8602,  34.9787,2,  34.9801,2,     -9.0,9,    247.9,2,    17.93,2,    19.57,2,     0.00,2,     1.26,2,   -9.000,9,   -9.000,9,     -9.0,9,     -9.0,9,-999.0000,  -999.00,9,   3.7145
  33LK19960415,  AR04,    57,  2,     12,2,19960501, -2.0057, -35.0025, -999,   1793.9,   3.8597,  34.9792,2,  34.9816,0,     -9.0,9,    248.2,2,    18.12,2,    19.52,2,     0.00,2,     1.26,2,    0.086,2,    0.056,2,     -9.0,9,     -9.0,9,-999.0000,  -999.00,9,   3.7139
  33LK19960415,  AR04,    57,  2,     10,2,19960501, -2.0057, -35.0025, -999,   1995.2,   3.6262,  34.9762,2,  34.9774,2,     -9.0,9,    254.3,2,    18.51,2,    19.03,2,     0.00,2,     1.22,2,    0.096,2,    0.056,2,     -9.0,9,     -9.0,9,-999.0000,  -999.00,9,   3.4646
  33LK19960415,  AR04,    57,  2,      9,2,19960501, -2.0057, -35.0025, -999,   2197.1,   3.3352,  34.9653,2,  34.9657,2,     -9.0,9,    258.2,2,    20.41,2,    18.82,2,     0.00,2,     1.21,2,    0.096,2,    0.052,2,     -9.0,9,     -9.0,9,-999.0000,  -999.00,9,   3.1588
  33LK19960415,  AR04,    57,  2,      8,2,19960501, -2.0057, -35.0025, -999,   2395.8,   3.1471,  34.9551,2,  34.9557,2,     -9.0,9,    258.7,2,    22.81,2,    18.98,2,     0.00,2,     1.22,2,    0.110,2,    0.068,2,     -9.0,9,     -9.0,9,-999.0000,  -999.00,9,   2.9546
  33LK19960415,  AR04,    57,  2,      7,2,19960501, -2.0057, -35.0025, -999,   2695.3,   2.8879,  34.9396,2,  34.9390,2,     -9.0,9,    258.4,2,    26.95,2,    19.37,2,     0.00,2,     1.24,2,    0.046,2,    0.031,2,     -9.0,9,     -9.0,9,-999.0000,  -999.00,9,   2.6707
  33LK19960415,  AR04,    57,  2,      6,2,19960501, -2.0057, -35.0025, -999,   2993.8,   2.7065,  34.9227,2,  34.9214,2,     -9.0,9,    252.3,2,    34.03,2,    20.42,2,     0.00,2,     1.32,2,    0.020,2,    0.017,2,     -9.0,9,     -9.0,9,-999.0000,  -999.00,9,   2.4628
  33LK19960415,  AR04,    57,  2,      5,2,19960501, -2.0057, -35.0025, -999,   3195.6,   2.6732,  34.9236,2,  34.9221,2,     -9.0,9,    258.0,2,    31.16,2,    19.66,2,     0.00,2,     1.27,2,    0.084,2,    0.042,2,     -9.0,9,     -9.0,9,-999.0000,  -999.00,9,   2.4091
  33LK19960415,  AR04,    57,  2,      4,2,19960501, -2.0057, -35.0025, -999,   3396.5,   2.5740,  34.9167,2,  34.9161,2,     -9.0,9,    259.0,2,    32.27,2,    19.64,2,     0.00,2,     1.27,2,    0.058,2,    0.036,2,     -9.0,9,     -9.0,9,-999.0000,  -999.00,9,   2.2909
  33LK19960415,  AR04,    57,  2,      3,2,19960501, -2.0057, -35.0025, -999,   3593.2,   2.3565,  34.9028,2,  34.9026,2,     -9.0,9,    261.9,2,    33.87,2,    19.49,2,     0.00,2,     1.26,2,    0.092,2,    0.053,2,     -9.0,9,     -9.0,9,-999.0000,  -999.00,9,   2.0575
  33LK19960415,  AR04,    57,  2,      2,2,19960501, -2.0057, -35.0025, -999,   3785.7,   2.3057,  34.8980,2,  34.8973,2,     -9.0,9,    264.3,2,    35.09,2,    19.58,2,     0.00,2,     1.27,2,    0.099,2,    0.054,2,     -9.0,9,     -9.0,9,-999.0000,  -999.00,9,   1.9869
  33LK19960415,  AR04,    57,  2,      1,2,19960501, -2.0057, -35.0025, -999,   4090.8,   1.6357,  34.8189,2,  34.8170,2,     -9.0,9,    241.8,2,    72.35,2,    25.19,2,     0.00,2,     1.68,2,    0.001,2,    0.013,2,     -9.0,9,     -9.0,9,-999.0000,  -999.00,9,   1.3020