BOTTLE,20090511PRINUNIVRMK
EXPOCODE,SECT_ID,STNNBR,CASTNO,BTLNBR,BTLNBR_FLAG_W,DATE,LATITUDE,LONGITUDE,DEPTH,CTDPRS,CTDTMP,CTDSAL,CTDSAL_FLAG_W,SALNTY,SALNTY_FLAG_W,CTDOXY,CTDOXY_FLAG_W,OXYGEN,OXYGEN_FLAG_W,SILCAT,SILCAT_FLAG_W,NITRAT,NITRAT_FLAG_W,NITRIT,NITRIT_FLAG_W,PHSPHT,PHSPHT_FLAG_W,CFC-11,CFC-11_FLAG_W,CFC-12,CFC-12_FLAG_W,TCARBN,TCARBN_FLAG_W,PCO2,PCO2_FLAG_W,PH_SWS,PH_TEMP,PH_SWS_FLAG_W,THETA
,,,,,,,,,METERS,DBARS,ITS-90,PSS-78,,PSS-78,,UMOL/KG,,UMOL/KG,,UMOL/KG,,UMOL/KG,,UMOL/KG,,UMOL/KG,,PMOL/KG,,PMOL/KG,,UMOL/KG,,PPM,,,DEGC,,DEGC
  33LK19960415,  AR04,    27,  1,     22,2,19960423,  7.5077, -40.6710,   25,      3.0,  27.0655,  36.1118,2,  36.1110,2,     -9.0,9,    201.0,2,     1.29,3,     0.00,2,     0.00,2,     0.10,2,    1.652,2,    0.888,2,   2025.0,2,    354.4,2,   8.1011,    25.00,2,  27.0648
  33LK19960415,  AR04,    27,  1,     21,2,19960423,  7.5077, -40.6710,   25,     71.3,  27.0135,  36.1083,2,  36.1076,2,     -9.0,9,    200.6,2,     1.18,3,     0.00,2,     0.00,2,     0.06,2,    1.562,2,    0.863,2,     -9.0,9,     -9.0,9,-999.0000,  -999.00,9,  26.9971
  33LK19960415,  AR04,    27,  1,     20,2,19960423,  7.5077, -40.6710,   25,    193.4,  12.0468,  35.2426,2,  35.0496,2,     -9.0,9,    121.3,2,    12.05,3,    24.88,2,     0.00,2,     1.60,2,    0.909,2,    0.307,2,     -9.0,9,     -9.0,9,-999.0000,  -999.00,9,  12.0215
  33LK19960415,  AR04,    27,  1,     19,2,19960423,  7.5077, -40.6710,   25,    295.7,   9.9342,  34.9437,2,  34.9067,2,     -9.0,9,    111.8,2,    14.81,3,    28.42,2,     0.00,2,     1.84,2,    0.591,2,    0.195,2,     -9.0,9,     -9.0,9,-999.0000,  -999.00,9,   9.8999
  33LK19960415,  AR04,    27,  1,     18,2,19960423,  7.5077, -40.6710,   25,    496.6,   8.1446,  34.7730,2,  34.7642,2,     -9.0,9,     97.6,2,    20.22,3,    33.70,2,     0.00,2,     2.14,2,    0.168,2,    0.035,2,     -9.0,9,     -9.0,9,-999.0000,  -999.00,9,   8.0930
  33LK19960415,  AR04,    27,  1,     17,2,19960423,  7.5077, -40.6710,   25,    742.9,   5.8886,  34.6524,2,  34.6746,2,     -9.0,9,    113.0,2,    27.34,3,    35.19,2,     0.00,2,     2.30,2,    0.017,2,    0.000,2,     -9.0,9,     -9.0,9,-999.0000,  -999.00,9,   5.8228
  33LK19960415,  AR04,    27,  1,     16,2,19960423,  7.5077, -40.6710,   25,    992.9,   4.9427,  34.7430,2,  34.7428,2,     -9.0,9,    151.6,2,    29.15,3,    31.58,2,     0.00,2,     2.13,2,    0.024,2,   -0.001,2,     -9.0,9,     -9.0,9,-999.0000,  -999.00,9,   4.8601
  33LK19960415,  AR04,    27,  1,     15,2,19960423,  7.5077, -40.6710,   25,   1243.2,   4.7141,  34.9096,2,  34.9136,2,     -9.0,9,    193.9,2,    23.11,3,    25.26,2,     0.00,2,     1.68,2,    0.070,2,    0.008,2,     -9.0,9,     -9.0,9,-999.0000,  -999.00,9,   4.6102
  33LK19960415,  AR04,    27,  1,     14,2,19960423,  7.5077, -40.6710,   25,   1494.0,   4.4675,  34.9800,2,  34.9852,2,     -9.0,9,    230.6,2,    18.32,3,    20.94,2,     0.00,2,     1.36,2,    0.115,2,    0.047,2,     -9.0,9,     -9.0,9,-999.0000,  -999.00,9,   4.3425
  33LK19960415,  AR04,    27,  1,     13,2,19960423,  7.5077, -40.6710,   25,   1594.5,   4.2519,  34.9869,2,  34.9888,2,     -9.0,9,    238.9,2,    17.78,3,    20.13,2,     0.00,2,     1.33,2,    0.113,2,    0.048,2,     -9.0,9,     -9.0,9,-999.0000,  -999.00,9,   4.1199
  33LK19960415,  AR04,    27,  1,     12,2,19960423,  7.5077, -40.6710,   25,   1692.8,   4.0339,  34.9826,2,  34.9822,2,     -9.0,9,    243.7,2,    18.49,3,    19.81,2,     0.00,2,     1.32,2,    0.065,2,    0.035,2,     -9.0,9,     -9.0,9,-999.0000,  -999.00,9,   3.8954
  33LK19960415,  AR04,    27,  1,     11,2,19960423,  7.5077, -40.6710,   25,   1795.3,   3.8739,  34.9796,2,  34.9820,2,     -9.0,9,    248.2,2,    18.59,3,    19.55,2,     0.00,2,     1.29,2,    0.071,2,    0.038,2,     -9.0,9,     -9.0,9,-999.0000,  -999.00,9,   3.7278
  33LK19960415,  AR04,    27,  1,     10,2,19960423,  7.5077, -40.6710,   25,   1993.8,   3.5819,  34.9695,2,  34.9719,2,     -9.0,9,    253.3,2,    20.89,3,    19.50,2,     0.00,2,     1.29,2,    0.020,2,    0.013,2,     -9.0,9,     -9.0,9,-999.0000,  -999.00,9,   3.4211
  33LK19960415,  AR04,    27,  1,      9,2,19960423,  7.5077, -40.6710,   25,   2393.3,   3.0922,  34.9481,2,  34.9494,2,     -9.0,9,    254.9,2,    26.34,3,    19.61,2,     0.00,2,     1.31,2,    0.002,2,    0.008,2,     -9.0,9,     -9.0,9,-999.0000,  -999.00,9,   2.9010
  33LK19960415,  AR04,    27,  1,      8,2,19960423,  7.5077, -40.6710,   25,   2695.5,   2.8991,  34.9375,2,  34.9391,2,     -9.0,9,    256.3,2,    29.02,3,    19.74,2,     0.00,2,     1.29,2,    0.027,2,    0.015,2,     -9.0,9,     -9.0,9,-999.0000,  -999.00,9,   2.6816
  33LK19960415,  AR04,    27,  1,      7,2,19960423,  7.5077, -40.6710,   25,   2996.3,   2.7470,  34.9289,2,  34.9267,2,     -9.0,9,    256.3,2,    32.37,3,    19.95,2,     0.00,2,     1.29,2,   -9.000,9,    0.018,2,     -9.0,9,     -9.0,9,-999.0000,  -999.00,9,   2.5021
  33LK19960415,  AR04,    27,  1,      6,2,19960423,  7.5077, -40.6710,   25,   3297.4,   2.5366,  34.9137,2,  34.9096,2,     -9.0,9,    256.9,2,    36.24,3,    20.10,2,     0.00,2,     1.31,2,    0.027,2,    0.013,2,     -9.0,9,     -9.0,9,-999.0000,  -999.00,9,   2.2650
  33LK19960415,  AR04,    27,  1,      5,2,19960423,  7.5077, -40.6710,   25,   3298.0,   2.5366,  34.9138,2,  34.9116,2,     -9.0,9,    256.8,2,    36.31,3,    20.10,2,     0.00,2,     1.31,2,   -9.000,9,   -9.000,9,     -9.0,9,     -9.0,9,-999.0000,  -999.00,9,   2.2649
  33LK19960415,  AR04,    27,  1,      4,2,19960423,  7.5077, -40.6710,   25,   3695.7,   2.2694,  34.8920,2,  34.8890,2,     -9.0,9,    257.7,2,    42.24,3,    20.55,2,     0.00,2,     1.34,2,    0.042,2,    0.021,2,     -9.0,9,     -9.0,9,-999.0000,  -999.00,9,   1.9616
  33LK19960415,  AR04,    27,  1,      3,2,19960423,  7.5077, -40.6710,   25,   3989.9,   2.1324,  34.8778,2,  34.8726,2,     -9.0,9,    256.2,2,    48.62,3,    21.17,2,     0.00,2,     1.37,2,    0.043,2,    0.021,2,     -9.0,9,     -9.0,9,-999.0000,  -999.00,9,   1.7956
  33LK19960415,  AR04,    27,  1,      2,2,19960423,  7.5077, -40.6710,   25,   4196.2,   2.0000,  34.8609,2,  34.8568,2,     -9.0,9,    253.6,2,    55.34,3,    22.19,2,     0.00,2,     1.43,2,    0.040,2,    0.021,2,     -9.0,9,     -9.0,9,-999.0000,  -999.00,9,   1.6437
  33LK19960415,  AR04,    27,  1,      1,2,19960423,  7.5077, -40.6710,   25,   4455.2,   1.6544,  34.8184,2,  34.8178,2,     -9.0,9,    243.6,2,    73.07,3,    24.70,2,     0.00,2,     1.62,2,    0.034,2,    0.015,2,     -9.0,9,     -9.0,9,-999.0000,  -999.00,9,   1.2788
  33LK19960415,  AR04,    28,  1,      6,2,19960423,  7.4987, -40.0053, -999,      5.1,  27.0398,  36.1097,2,  36.1097,2,     -9.0,9,    159.1,2,     0.91,2,     0.17,2,     0.00,2,     0.00,3,    1.674,2,    0.866,2,   2008.9,2,    352.3,2,   8.0907,    25.00,2,  27.0386
  33LK19960415,  AR04,    28,  1,      5,2,19960423,  7.4987, -40.0053, -999,     80.1,  26.6240,  36.1674,2,  36.1104,2,     -9.0,9,    200.6,2,     0.90,2,     0.15,2,     0.00,2,     0.00,3,    1.789,2,    0.878,2,   2001.0,2,     -9.0,9,   8.0971,    25.00,2,  26.6057
  33LK19960415,  AR04,    28,  1,      4,2,19960423,  7.4987, -40.0053, -999,    144.8,  14.0021,  35.4241,2,  36.0209,2,     -9.0,9,    127.9,2,     4.61,2,    13.05,2,     0.03,2,     0.66,3,    1.563,2,    0.633,2,   2136.9,2,     -9.0,9,   7.8808,    25.00,2,  13.9810
  33LK19960415,  AR04,    28,  1,      3,2,19960423,  7.4987, -40.0053, -999,    244.7,  10.7659,  35.0331,2,  35.1179,2,     -9.0,9,    126.7,2,    10.25,2,    23.29,2,     0.00,2,     1.46,3,    1.194,2,    0.453,2,   2168.8,2,     -9.0,9,   7.7206,    25.00,2,  10.7360
  33LK19960415,  AR04,    28,  1,      2,2,19960423,  7.4987, -40.0053, -999,    399.5,   8.9956,  34.8519,2,  34.8690,2,     -9.0,9,    105.9,2,    15.26,2,    30.08,2,     0.00,2,     1.89,3,    0.576,2,    0.194,2,   2208.3,2,     -9.0,9,   7.6252,    25.00,2,   8.9518
  33LK19960415,  AR04,    28,  1,      1,2,19960423,  7.4987, -40.0053, -999,    501.0,   8.3019,  34.7899,2,  34.7981,2,     -9.0,9,     97.8,2,    17.92,2,    32.74,2,     0.00,2,     1.99,3,    0.322,2,    0.142,2,   2192.3,2,     -9.0,9,   7.5820,    25.00,2,   8.2492
  33LK19960415,  AR04,    28,  2,     22,2,19960423,  7.4987, -40.0053, -999,    596.1,   7.1826,  34.7035,2,  34.7152,2,     -9.0,9,    107.6,2,    21.17,2,    33.81,2,     0.00,2,     2.10,3,    0.151,2,    0.036,2,   2208.8,2,     -9.0,9,   7.5699,    25.00,2,   7.1246
  33LK19960415,  AR04,    28,  2,     21,2,19960423,  7.4987, -40.0053, -999,    794.9,   5.8613,  34.6517,2,  34.6546,2,     -9.0,9,    118.5,2,    27.09,2,    34.72,2,     0.00,2,     2.25,3,    0.019,2,   -9.000,9,   2213.7,2,     -9.0,9,   7.5588,    25.00,2,   5.7908
  33LK19960415,  AR04,    28,  2,     20,2,19960423,  7.4987, -40.0053, -999,    895.8,   5.2445,  34.6884,2,  34.6884,2,     -9.0,9,    131.0,2,    28.89,2,    34.05,2,     0.00,2,     2.21,3,   -0.005,2,   -9.000,9,   2205.6,2,     -9.0,9,   7.5720,    25.00,2,   5.1686
  33LK19960415,  AR04,    28,  2,     19,2,19960423,  7.4987, -40.0053, -999,    995.7,   4.9732,  34.7785,2,  34.7620,2,     -9.0,9,    150.6,2,    27.78,2,    31.55,2,     0.00,2,     2.01,3,    0.005,2,   -9.000,9,   2206.4,2,     -9.0,9,   7.6082,    25.00,2,   4.8901
  33LK19960415,  AR04,    28,  2,     18,2,19960423,  7.4987, -40.0053, -999,   1244.9,   4.7449,  34.9311,2,  34.9409,2,     -9.0,9,    202.6,2,    20.86,2,    24.46,2,     0.00,2,     1.54,3,    0.070,2,    0.009,2,   2171.3,3,     -9.0,9,   7.6968,    25.00,2,   4.6405
  33LK19960415,  AR04,    28,  2,     17,2,19960423,  7.4987, -40.0053, -999,   1496.3,   4.3722,  34.9836,2,  34.9829,2,     -9.0,9,    230.5,2,    17.68,2,    21.39,2,     0.00,2,     1.32,3,    0.107,2,    0.041,2,   2131.9,3,     -9.0,9,   7.7283,    25.00,2,   4.2481
  33LK19960415,  AR04,    28,  2,     16,2,19960423,  7.4987, -40.0053, -999,   1594.8,   4.1651,  34.9813,2,  34.9828,2,     -9.0,9,    236.9,2,    17.64,2,    20.83,2,     0.00,2,     1.28,3,    0.082,2,    0.028,2,   2137.6,3,     -9.0,9,   7.7475,    25.00,2,   4.0342
  33LK19960415,  AR04,    28,  2,     15,2,19960423,  7.4987, -40.0053, -999,   1695.0,   4.0259,  34.9827,2,  34.9833,2,     -9.0,9,    243.9,2,    17.60,2,    20.22,2,     0.00,2,     1.24,3,    0.073,2,    0.030,2,   2139.3,3,     -9.0,9,   7.7491,    25.00,2,   3.8873
  33LK19960415,  AR04,    28,  2,     14,2,19960423,  7.4987, -40.0053, -999,   1795.7,   3.8639,  34.9818,2,  34.9832,2,     -9.0,9,    247.7,2,    17.90,2,    19.88,2,     0.00,2,     1.22,3,    0.063,2,    0.029,2,   2135.2,3,     -9.0,9,   7.7504,    25.00,2,   3.7179
  33LK19960415,  AR04,    28,  2,     13,2,19960423,  7.4987, -40.0053, -999,   1993.1,   3.5701,  34.9729,2,  34.9736,2,     -9.0,9,    253.0,2,    19.69,2,    19.58,2,     0.00,2,     1.20,3,    0.031,2,    0.012,2,   2129.4,3,     -9.0,9,   7.7532,    25.00,2,   3.4096
  33LK19960415,  AR04,    28,  2,     12,2,19960423,  7.4987, -40.0053, -999,   2393.0,   3.1597,  34.9535,2,  34.9116,2,     -9.0,9,    255.0,2,    25.05,2,    19.78,2,     0.00,2,     1.22,3,    0.015,2,    0.010,2,   2125.8,3,     -9.0,9,   7.7618,    25.00,2,   2.9675
  33LK19960415,  AR04,    28,  2,     11,2,19960423,  7.4987, -40.0053, -999,   2695.1,   2.9712,  34.9430,2,  34.9437,2,     -9.0,9,    255.7,2,    27.23,2,    19.82,2,     0.00,2,     1.22,3,    0.012,2,    0.011,2,   2145.3,3,     -9.0,9,   7.7607,    25.00,2,   2.7523
  33LK19960415,  AR04,    28,  2,     10,2,19960423,  7.4987, -40.0053, -999,   2993.6,   2.7844,  34.9300,2,  34.9308,2,     -9.0,9,    257.1,2,    30.07,2,    19.94,2,     0.00,2,     1.24,3,    0.024,2,   -9.000,9,   2153.6,3,     -9.0,9,   7.7596,    25.00,2,   2.5389
  33LK19960415,  AR04,    28,  2,      9,2,19960423,  7.4987, -40.0053, -999,   3294.2,   2.5884,  34.9166,2,  34.9148,2,     -9.0,9,    256.7,2,    34.26,2,    20.26,2,     0.00,2,     1.26,3,    0.027,2,    0.010,2,   2142.4,3,     -9.0,9,   7.7584,    25.00,2,   2.3159
  33LK19960415,  AR04,    28,  2,      8,2,19960423,  7.4987, -40.0053, -999,   3693.5,   2.3063,  34.8958,2,  34.8951,2,     -9.0,9,    259.4,2,    37.67,2,    20.29,2,     0.00,2,     1.25,3,    0.062,2,    0.025,2,   2140.9,3,     -9.0,9,   7.7597,    25.00,2,   1.9977
  33LK19960415,  AR04,    28,  2,      6,2,19960423,  7.4987, -40.0053, -999,   3978.9,   2.1056,  34.8761,2,  34.8727,2,     -9.0,9,    256.0,2,    46.63,2,    21.38,2,     0.00,2,     1.35,3,    0.054,2,    0.023,2,   2145.8,3,     -9.0,9,   7.7488,    25.00,2,   1.7708
  33LK19960415,  AR04,    28,  2,      7,2,19960423,  7.4987, -40.0053, -999,   3979.3,   2.1050,  34.8759,2,  34.8704,2,     -9.0,9,    255.8,2,    47.13,2,    21.47,2,     0.00,2,     1.35,3,   -9.000,9,   -9.000,9,   2152.9,3,     -9.0,9,   7.7488,    25.00,2,   1.7702
  33LK19960415,  AR04,    28,  2,      5,2,19960423,  7.4987, -40.0053, -999,   4199.2,   1.8941,  34.8495,2,  34.8461,2,     -9.0,9,    250.0,2,    58.13,2,    23.04,2,     0.00,2,     1.46,3,    0.057,2,    0.023,2,   2167.1,3,     -9.0,9,   7.7263,    25.00,2,   1.5406
  33LK19960415,  AR04,    28,  2,      4,2,19960423,  7.4987, -40.0053, -999,   4389.6,   1.7347,  34.8286,2,  34.8262,2,     -9.0,9,    244.9,2,    73.33,2,    24.40,2,     0.00,2,     1.56,3,    0.031,2,    0.018,2,   2157.5,3,     -9.0,9,   7.7219,    25.00,2,   1.3642
  33LK19960415,  AR04,    28,  2,      3,2,19960423,  7.4987, -40.0053, -999,   4597.0,   1.6423,  34.8158,2,  34.8137,2,     -9.0,9,    242.2,2,    79.55,2,    25.16,2,     0.00,2,     1.62,3,    0.023,2,    0.011,2,   2188.4,3,     -9.0,9,   7.7099,    25.00,2,   1.2506
  33LK19960415,  AR04,    28,  2,      2,2,19960423,  7.4987, -40.0053, -999,   4796.1,   1.6377,  34.8117,2,  34.8108,2,     -9.0,9,    243.3,2,    81.42,2,    25.38,2,     0.00,2,     1.70,3,    0.022,2,    0.012,2,   2187.0,3,     -9.0,9,   7.7080,    25.00,2,   1.2225
  33LK19960415,  AR04,    28,  2,      1,2,19960423,  7.4987, -40.0053, -999,   4916.0,   1.6510,  34.8115,2,  34.8112,2,     -9.0,9,    241.4,2,    81.62,2,    25.29,2,     0.00,2,     1.72,3,    0.024,2,    0.016,2,   2167.5,3,     -9.0,9,   7.7125,    25.00,2,   1.2209
  33LK19960415,  AR04,    29,  1,      6,2,19960423,  7.4995, -39.3318, -999,      4.6,  27.0973,  36.1611,2,  36.1601,2,    206.6,3,    202.4,2,     0.27,2,     0.06,2,     0.00,2,     0.01,2,    1.849,2,    0.859,2,   2018.9,2,    350.9,2,   8.1116,    25.00,2,  27.0962
  33LK19960415,  AR04,    29,  1,      5,2,19960423,  7.4995, -39.3318, -999,     74.5,  26.8311,  36.1505,2,  36.1511,2,    195.1,3,    202.2,2,     0.50,2,     0.07,2,     0.00,2,     0.00,2,    1.863,2,    0.867,2,     -9.0,9,     -9.0,9,-999.0000,  -999.00,9,  26.8140
  33LK19960415,  AR04,    29,  1,      4,2,19960423,  7.4995, -39.3318, -999,    118.8,  21.0579,  36.0672,2,  36.0944,2,    133.1,3,    127.5,2,     3.91,2,    12.44,2,     0.03,2,     0.71,2,    1.567,2,    0.607,2,     -9.0,9,     -9.0,9,-999.0000,  -999.00,9,  21.0350
  33LK19960415,  AR04,    29,  1,      3,2,19960423,  7.4995, -39.3318, -999,    247.2,  10.1722,  34.9717,2,  34.9731,2,    115.2,2,    115.5,2,    12.43,2,    27.03,2,     0.00,2,     1.70,2,    0.803,2,    0.223,2,     -9.0,9,     -9.0,9,-999.0000,  -999.00,9,  10.1431
  33LK19960415,  AR04,    29,  1,      2,2,19960423,  7.4995, -39.3318, -999,    399.8,   8.6892,  34.8174,2,  34.8159,0,    102.7,2,    106.9,2,    16.11,2,    31.27,2,     0.00,2,     2.01,2,    0.398,2,    0.056,2,     -9.0,9,     -9.0,9,-999.0000,  -999.00,9,   8.6463
  33LK19960415,  AR04,    29,  1,      1,2,19960423,  7.4995, -39.3318, -999,    508.4,   7.9553,  34.7582,2,  34.7671,2,     97.0,2,     98.3,2,    18.64,2,    33.71,2,     0.00,2,     2.19,2,    0.203,2,    0.051,2,     -9.0,9,     -9.0,9,-999.0000,  -999.00,9,   7.9031