BOTTLE,20090511PRINUNIVRMK
EXPOCODE,SECT_ID,STNNBR,CASTNO,BTLNBR,BTLNBR_FLAG_W,DATE,LATITUDE,LONGITUDE,DEPTH,CTDPRS,CTDTMP,CTDSAL,CTDSAL_FLAG_W,SALNTY,SALNTY_FLAG_W,CTDOXY,CTDOXY_FLAG_W,OXYGEN,OXYGEN_FLAG_W,SILCAT,SILCAT_FLAG_W,NITRAT,NITRAT_FLAG_W,NITRIT,NITRIT_FLAG_W,PHSPHT,PHSPHT_FLAG_W,CFC-11,CFC-11_FLAG_W,CFC-12,CFC-12_FLAG_W,TCARBN,TCARBN_FLAG_W,PCO2,PCO2_FLAG_W,PH_SWS,PH_TEMP,PH_SWS_FLAG_W,THETA
,,,,,,,,,METERS,DBARS,ITS-90,PSS-78,,PSS-78,,UMOL/KG,,UMOL/KG,,UMOL/KG,,UMOL/KG,,UMOL/KG,,UMOL/KG,,PMOL/KG,,PMOL/KG,,UMOL/KG,,PPM,,,DEGC,,DEGC
  33LK19960415,  AR04,    88,  1,     22,2,19960514,  7.5090, -49.4910,   25,      7.7,  27.6448,  36.1003,2,  36.1041,2,    202.1,2,    198.7,2,     0.76,2,     0.20,2,     0.00,2,     0.02,2,    1.661,2,    0.862,2,   2014.6,2,    365.9,2,   8.0998,    25.00,2,  27.6430
  33LK19960415,  AR04,    88,  1,     21,2,19960514,  7.5090, -49.4910,   25,     45.3,  27.6512,  36.0982,2,  36.1035,2,    197.7,2,    198.9,2,     0.72,2,     0.17,2,     0.00,2,     0.03,2,    1.628,2,    0.847,2,     -9.0,9,     -9.0,9,-999.0000,  -999.00,9,  27.6406
  33LK19960415,  AR04,    88,  1,     20,2,19960514,  7.5090, -49.4910,   25,    248.9,  10.2760,  35.0316,2,  35.0691,2,    121.5,2,    121.0,2,    12.21,2,    25.80,2,     0.03,2,     1.69,2,    0.813,2,    0.324,2,     -9.0,9,     -9.0,9,-999.0000,  -999.00,9,  10.2465
  33LK19960415,  AR04,    88,  1,     19,2,19960514,  7.5090, -49.4910,   25,    497.3,   7.0013,  34.6541,2,  34.6558,2,    128.3,2,    126.2,2,    21.21,2,    32.63,2,     0.04,2,     2.22,2,    0.266,2,    0.099,2,     -9.0,9,     -9.0,9,-999.0000,  -999.00,9,   6.9540
  33LK19960415,  AR04,    88,  1,     18,2,19960514,  7.5090, -49.4910,   25,    745.4,   5.5483,  34.5739,2,  34.5710,2,    135.8,2,    134.6,2,    27.45,2,    34.69,2,     0.04,2,     2.42,2,    0.065,2,    0.023,2,     -9.0,9,     -9.0,9,-999.0000,  -999.00,9,   5.4844
  33LK19960415,  AR04,    88,  1,     17,2,19960514,  7.5090, -49.4910,   25,    895.4,   5.0117,  34.5990,2,  34.6162,2,    146.2,2,    144.1,2,    29.96,2,    33.94,2,     0.04,2,     2.38,2,    0.019,2,    0.010,2,     -9.0,9,     -9.0,9,-999.0000,  -999.00,9,   4.9375
  33LK19960415,  AR04,    88,  1,     16,2,19960514,  7.5090, -49.4910,   25,    996.3,   4.9907,  34.6864,2,  34.7054,2,    145.9,2,    149.0,2,    28.56,2,    32.46,2,     0.04,2,     2.27,2,    0.012,2,    0.009,2,     -9.0,9,     -9.0,9,-999.0000,  -999.00,9,   4.9075
  33LK19960415,  AR04,    88,  1,     15,2,19960514,  7.5090, -49.4910,   25,   1296.1,   4.9025,  34.9369,2,  34.9379,2,    196.2,2,    198.5,2,    20.89,2,    24.87,2,     0.03,2,     1.69,2,    0.111,2,    0.042,2,     -9.0,9,     -9.0,9,-999.0000,  -999.00,9,   4.7918
  33LK19960415,  AR04,    88,  1,     14,2,19960514,  7.5090, -49.4910,   25,   1492.6,   4.5204,  34.9939,2,  34.9961,2,    230.9,2,    233.1,2,    16.45,2,    20.76,2,     0.03,2,     1.39,2,   -9.000,9,   -9.000,9,     -9.0,9,     -9.0,9,-999.0000,  -999.00,9,   4.3950
  33LK19960415,  AR04,    88,  1,     13,2,19960514,  7.5090, -49.4910,   25,   1493.2,   4.5246,  34.9942,2,  34.9954,2,    230.8,2,    232.2,2,    16.62,2,    20.98,2,     0.03,2,     1.40,2,    0.218,2,    0.092,2,     -9.0,9,     -9.0,9,-999.0000,  -999.00,9,   4.3991
  33LK19960415,  AR04,    88,  1,     12,2,19960514,  7.5090, -49.4910,   25,   1595.5,   4.2905,  34.9968,2,  34.9954,2,    242.8,2,    242.3,2,    15.85,2,    20.12,2,     0.03,2,     1.33,2,    0.209,2,    0.093,2,     -9.0,9,     -9.0,9,-999.0000,  -999.00,9,   4.1580
  33LK19960415,  AR04,    88,  1,     11,2,19960514,  7.5090, -49.4910,   25,   1697.4,   4.1092,  34.9957,2,  34.9911,2,    248.6,2,    248.0,2,    16.16,2,    19.70,2,     0.03,2,     1.30,2,    0.164,2,    0.084,2,     -9.0,9,     -9.0,9,-999.0000,  -999.00,9,   3.9693
  33LK19960415,  AR04,    88,  1,     10,2,19960514,  7.5090, -49.4910,   25,   1795.3,   3.8798,  34.9814,2,  34.9834,2,    248.5,2,    249.3,2,    17.13,2,    19.72,2,     0.03,2,     1.31,2,    0.086,2,    0.041,2,     -9.0,9,     -9.0,9,-999.0000,  -999.00,9,   3.7336
  33LK19960415,  AR04,    88,  1,      9,2,19960514,  7.5090, -49.4910,   25,   1993.4,   3.5834,  34.9772,2,  34.9786,2,    256.3,2,    257.4,2,    18.32,2,    19.03,2,     0.03,2,     1.26,2,    0.099,2,    0.047,2,     -9.0,9,     -9.0,9,-999.0000,  -999.00,9,   3.4226
  33LK19960415,  AR04,    88,  1,      8,2,19960514,  7.5090, -49.4910,   25,   2193.8,   3.4116,  34.9703,2,  34.9709,2,    258.0,2,    258.1,2,    19.13,2,    18.97,2,     0.03,2,     1.26,2,    0.093,2,    0.045,2,     -9.0,9,     -9.0,9,-999.0000,  -999.00,9,   3.2343
  33LK19960415,  AR04,    88,  1,      7,2,19960514,  7.5090, -49.4910,   25,   2398.0,   3.2343,  34.9610,2,  34.9603,2,    259.6,2,    259.2,2,    21.09,2,    19.07,2,     0.03,2,     1.27,2,    0.084,2,    0.041,2,     -9.0,9,     -9.0,9,-999.0000,  -999.00,9,   3.0401
  33LK19960415,  AR04,    88,  1,      6,2,19960514,  7.5090, -49.4910,   25,   2695.4,   3.0318,  34.9487,2,  34.9483,2,    259.7,2,    260.7,2,    23.68,2,    19.29,2,     0.03,2,     1.29,2,    0.076,2,    0.033,2,     -9.0,9,     -9.0,9,-999.0000,  -999.00,9,   2.8117
  33LK19960415,  AR04,    88,  1,      5,2,19960514,  7.5090, -49.4910,   25,   2997.2,   2.7727,  34.9340,2,  34.9310,2,    261.3,2,    260.5,2,    26.95,2,    19.28,2,     0.03,2,     1.30,2,    0.111,2,    0.062,2,     -9.0,9,     -9.0,9,-999.0000,  -999.00,9,   2.5271
  33LK19960415,  AR04,    88,  1,      4,2,19960514,  7.5090, -49.4910,   25,   3298.3,   2.5136,  34.9168,2,  34.9149,2,    262.8,2,    263.1,2,    28.96,2,    19.33,2,     0.03,2,     1.30,2,    0.162,2,    0.068,2,     -9.0,9,     -9.0,9,-999.0000,  -999.00,9,   2.2424
  33LK19960415,  AR04,    88,  1,      3,2,19960514,  7.5090, -49.4910,   25,   3701.0,   2.2867,  34.9015,2,  34.8988,2,    265.4,2,    264.3,2,    31.93,2,    19.39,2,     0.03,2,     1.30,2,    0.151,2,    0.065,2,     -9.0,9,     -9.0,9,-999.0000,  -999.00,9,   1.9778
  33LK19960415,  AR04,    88,  1,      2,2,19960514,  7.5090, -49.4910,   25,   3991.7,   2.2282,  34.8947,2,  34.8919,2,    265.4,2,    264.3,2,    34.15,2,    19.53,2,     0.03,2,     1.33,2,    0.167,2,    0.080,2,     -9.0,9,     -9.0,9,-999.0000,  -999.00,9,   1.8884
  33LK19960415,  AR04,    88,  1,      1,2,19960514,  7.5090, -49.4910,   25,   4289.0,   2.1740,  34.8862,2,  34.8807,2,    260.9,2,    260.6,2,    39.55,2,    20.43,2,     0.04,2,     1.39,2,    0.124,2,    0.064,2,     -9.0,9,     -9.0,9,-999.0000,  -999.00,9,   1.8017
  33LK19960415,  AR04,    89,  1,     22,2,19960515,  6.8727, -50.5368,   25,     11.7,  27.6503,  36.0952,2,  36.0960,2,    189.8,4,    198.2,2,     0.84,2,     0.07,2,     0.00,2,     0.03,2,    1.642,2,    0.809,2,   2022.0,2,    362.2,2,   8.1000,    25.00,2,  27.6476
  33LK19960415,  AR04,    89,  1,     21,2,19960515,  6.8727, -50.5368,   25,     73.5,  27.6463,  36.1267,2,  36.1029,2,    194.7,2,    198.0,2,     0.79,2,     0.05,2,     0.01,2,     0.03,2,    1.589,2,    0.765,2,   2028.6,2,     -9.0,9,   8.1020,    25.00,2,  27.6291
  33LK19960415,  AR04,    89,  1,     20,2,19960515,  6.8727, -50.5368,   25,    246.2,   9.2224,  34.8104,2,  34.9220,2,    145.0,2,    128.3,2,    13.41,2,    26.68,2,     0.04,2,     1.79,2,    0.547,2,    0.380,2,   2195.3,2,     -9.0,9,   7.6698,    25.00,2,   9.1952
  33LK19960415,  AR04,    89,  1,     19,2,19960515,  6.8727, -50.5368,   25,    496.0,   7.0166,  34.6506,2,  34.6459,2,    123.6,2,    124.5,2,    21.84,2,    33.08,2,     0.05,2,     2.26,2,    0.234,2,    0.083,2,   2236.6,3,     -9.0,9,   7.5916,    25.00,2,   6.9693
  33LK19960415,  AR04,    89,  1,     18,2,19960515,  6.8727, -50.5368,   25,    748.1,   5.5106,  34.5776,2,  34.5651,2,    132.5,2,    137.9,2,    28.29,2,    34.42,2,     0.04,2,     2.40,2,    0.083,2,    0.025,2,   2229.4,2,     -9.0,9,   7.5796,    25.00,2,   5.4466
  33LK19960415,  AR04,    89,  1,     17,2,19960515,  6.8727, -50.5368,   25,    894.2,   4.9940,  34.6350,2,  34.6303,2,    144.0,2,    143.3,2,    30.01,2,    33.69,2,     0.04,2,     2.36,2,    0.032,2,    0.014,2,   2236.9,3,     -9.0,9,   7.5867,    25.00,2,   4.9200
  33LK19960415,  AR04,    89,  1,     16,2,19960515,  6.8727, -50.5368,   25,    998.1,   4.7195,  34.6501,2,  34.6471,2,    151.6,2,    152.1,2,    30.48,2,    32.86,2,     0.05,2,     2.32,2,    0.023,2,    0.015,2,   2237.4,3,     -9.0,9,   7.5956,    25.00,2,   4.6382
  33LK19960415,  AR04,    89,  1,     15,2,19960515,  6.8727, -50.5368,   25,   1196.3,   4.9034,  34.7982,2,  34.7901,2,    163.6,2,    163.1,2,    26.55,2,    29.97,2,     0.04,2,     2.09,2,    0.038,2,    0.019,2,   2229.0,3,     -9.0,9,   7.6236,    25.00,2,   4.8024
  33LK19960415,  AR04,    89,  1,     14,2,19960515,  6.8727, -50.5368,   25,   1396.2,   4.9640,  34.9740,2,  34.9713,2,    207.4,2,    205.0,2,    19.13,2,    23.35,2,     0.04,2,     1.59,2,    0.216,2,    0.133,2,   2193.5,2,     -9.0,9,   7.7054,    25.00,2,   4.8430
  33LK19960415,  AR04,    89,  1,     13,2,19960515,  6.8727, -50.5368,   25,   1494.1,   4.7757,  35.0065,2,  34.9790,2,    223.6,2,    216.5,2,    18.12,2,    22.23,2,     0.04,2,     1.50,2,    0.222,2,    0.166,2,   2182.3,2,     -9.0,9,   7.7155,    25.00,2,   4.6473
  33LK19960415,  AR04,    89,  1,     12,2,19960515,  6.8727, -50.5368,   25,   1595.6,   4.3401,  35.0074,2,  35.0101,2,    247.2,2,    245.0,2,    14.21,2,    19.23,2,     0.03,2,     1.27,2,    0.469,2,    0.259,2,   2161.0,2,     -9.0,9,   7.7501,    25.00,2,   4.2069
  33LK19960415,  AR04,    89,  1,     11,2,19960515,  6.8727, -50.5368,   25,   1694.3,   4.1195,  34.9999,2,  35.0004,2,    255.0,2,    254.1,2,    13.87,2,    18.58,2,     0.04,2,     1.23,2,    0.476,2,    0.231,2,   2165.8,2,     -9.0,9,   7.7504,    25.00,2,   3.9797
  33LK19960415,  AR04,    89,  1,     10,2,19960515,  6.8727, -50.5368,   25,   1695.9,   4.1107,  34.9994,2,  34.9999,2,    255.2,2,    254.1,2,    13.80,2,    18.60,2,     0.04,2,     1.22,2,    0.450,2,    0.214,2,   2170.9,2,     -9.0,9,   7.7504,    25.00,2,   3.9709
  33LK19960415,  AR04,    89,  1,      9,2,19960515,  6.8727, -50.5368,   25,   1794.9,   3.8258,  34.9892,2,  34.9838,2,    256.9,2,    257.0,2,    15.43,2,    18.48,2,     0.04,2,     1.23,2,    0.269,2,    0.148,2,   2170.1,2,     -9.0,9,   7.7498,    25.00,2,   3.6804
  33LK19960415,  AR04,    89,  1,      8,2,19960515,  6.8727, -50.5368,   25,   1996.7,   3.5864,  34.9798,2,  34.9824,2,    259.0,2,    259.0,2,    16.94,2,    18.50,2,     0.04,2,     1.23,2,    0.202,2,    0.121,2,   2170.4,2,     -9.0,9,   7.7629,    25.00,2,   3.4253
  33LK19960415,  AR04,    89,  1,      7,2,19960515,  6.8727, -50.5368,   25,   2196.0,   3.2578,  34.9635,2,  34.9636,2,    260.5,2,    260.6,2,    19.77,2,    18.54,2,     0.04,2,     1.23,2,    0.163,2,    0.102,2,   2186.9,2,     -9.0,9,   7.7653,    25.00,2,   3.0828
  33LK19960415,  AR04,    89,  1,      6,2,19960515,  6.8727, -50.5368,   25,   2395.7,   3.0602,  34.9530,2,  34.9510,2,    260.3,2,    259.8,2,    22.05,2,    18.81,2,     0.04,2,     1.26,2,    0.115,2,    0.079,2,   2163.6,2,     -9.0,9,   7.7604,    25.00,2,   2.8693
  33LK19960415,  AR04,    89,  1,      5,2,19960515,  6.8727, -50.5368,   25,   2695.7,   2.7790,  34.9354,2,  34.9341,2,    259.4,2,    260.4,2,    26.11,2,    19.04,2,     0.04,2,     1.29,2,    0.116,2,    0.109,2,   2164.8,2,     -9.0,9,   7.7579,    25.00,2,   2.5639
  33LK19960415,  AR04,    89,  1,      4,2,19960515,  6.8727, -50.5368,   25,   2998.3,   2.5449,  34.9148,2,  34.9167,2,    253.6,2,    254.5,2,    35.10,2,    20.34,2,     0.05,2,     1.39,2,    0.038,2,    0.015,2,   2169.1,2,     -9.0,9,   7.7563,    25.00,2,   2.3042
  33LK19960415,  AR04,    89,  1,      3,2,19960515,  6.8727, -50.5368,   25,   3298.6,   2.3511,  34.9034,2,  34.9020,2,    260.6,2,    260.7,2,    34.37,2,    19.70,2,     0.05,2,     1.35,2,    0.099,2,    0.039,2,   2162.1,2,     -9.0,9,   7.7552,    25.00,2,   2.0838
  33LK19960415,  AR04,    89,  1,      2,2,19960515,  6.8727, -50.5368,   25,   3699.5,   2.2088,  34.8958,2,  34.8924,2,    264.1,2,    263.5,2,    34.45,2,    19.36,2,     0.05,2,     1.33,2,    0.160,2,    0.077,2,   2157.8,3,     -9.0,9,   7.7493,    25.00,2,   1.9021
  33LK19960415,  AR04,    89,  1,      1,2,19960515,  6.8727, -50.5368,   25,   4031.4,   2.1366,  34.8838,2,  34.8824,2,    260.2,2,    170.7,4,    40.17,2,    20.11,2,     0.05,2,     1.38,2,    0.126,2,    0.065,2,   2174.6,2,     -9.0,9,   7.7511,    25.00,2,   1.7950
  33LK19960415,  AR04,    90,  1,     20,2,19960515,  6.5348, -50.8165,   20,     11.1,  27.8534,  34.4466,2,  36.1153,2,    195.9,3,    199.0,2,     0.72,2,     0.03,2,     0.00,2,     0.03,2,    1.642,2,    0.844,2,   2003.0,2,    385.8,2,   8.1030,    25.00,2,  27.8508
  33LK19960415,  AR04,    90,  1,     19,2,19960515,  6.5348, -50.8165,   20,     74.3,  27.5273,  36.1953,2,  36.2059,2,    196.6,3,    197.2,2,     0.83,2,     0.05,2,     0.00,2,     0.05,2,    1.589,2,    0.808,2,     -9.0,9,     -9.0,9,-999.0000,  -999.00,9,  27.5099
  33LK19960415,  AR04,    90,  1,     18,2,19960515,  6.5348, -50.8165,   20,    248.1,  10.6001,  35.0905,2,  34.9736,2,    116.8,2,    123.1,2,    13.08,2,    26.63,2,     0.04,2,     1.75,2,    0.745,2,    0.186,2,     -9.0,9,     -9.0,9,-999.0000,  -999.00,9,  10.5702
  33LK19960415,  AR04,    90,  1,     17,2,19960515,  6.5348, -50.8165,   20,    494.0,   6.5564,  34.6082,2,  34.6169,2,    131.9,2,    122.5,2,    23.13,2,    33.94,2,     0.04,2,     2.28,2,    0.165,2,    0.035,2,     -9.0,9,     -9.0,9,-999.0000,  -999.00,9,   6.5111
  33LK19960415,  AR04,    90,  1,     16,2,19960515,  6.5348, -50.8165,   20,    746.2,   5.2891,  34.5479,2,  34.5761,2,    139.9,2,    138.0,2,    28.46,2,    34.33,2,     0.04,2,     2.36,2,    0.081,2,    0.010,2,     -9.0,9,     -9.0,9,-999.0000,  -999.00,9,   5.2266
  33LK19960415,  AR04,    90,  1,     15,2,19960515,  6.5348, -50.8165,   20,    897.9,   5.0245,  34.6234,2,  34.6427,2,    142.3,2,    142.3,2,    29.73,2,    33.60,2,     0.04,2,     2.32,2,    0.020,2,    0.010,2,     -9.0,9,     -9.0,9,-999.0000,  -999.00,9,   4.9500
  33LK19960415,  AR04,    90,  1,     14,2,19960515,  6.5348, -50.8165,   20,    998.3,   4.7752,  34.6516,2,  34.6714,2,    151.4,2,    153.3,2,    29.64,2,    32.34,2,     0.04,2,     2.25,2,    0.019,2,    0.010,2,     -9.0,9,     -9.0,9,-999.0000,  -999.00,9,   4.6935
  33LK19960415,  AR04,    90,  1,     13,2,19960515,  6.5348, -50.8165,   20,   1192.2,   4.9450,  34.8150,2,  34.8212,2,    166.7,2,    167.7,2,    25.67,2,    29.06,2,     0.04,2,     1.99,2,    0.042,2,    0.010,2,     -9.0,9,     -9.0,9,-999.0000,  -999.00,9,   4.8439
  33LK19960415,  AR04,    90,  1,     12,2,19960515,  6.5348, -50.8165,   20,   1391.7,   4.8587,  34.9635,2,  34.9672,2,    206.7,2,    208.8,2,    19.49,2,    22.97,2,     0.04,2,     1.54,2,    0.220,2,    0.076,2,     -9.0,9,     -9.0,9,-999.0000,  -999.00,9,   4.7393
  33LK19960415,  AR04,    90,  1,     11,2,19960515,  6.5348, -50.8165,   20,   1496.7,   4.5538,  35.0090,2,  35.0104,2,    236.5,2,    236.9,2,    15.42,2,    19.88,2,     0.04,2,     1.31,2,    0.330,2,    0.101,2,     -9.0,9,     -9.0,9,-999.0000,  -999.00,9,   4.4276
  33LK19960415,  AR04,    90,  1,     10,2,19960515,  6.5348, -50.8165,   20,   1597.7,   4.2088,  35.0030,2,  35.0060,2,    250.0,2,    250.2,2,    14.27,2,    18.82,2,     0.04,2,     1.23,2,    0.351,2,    0.083,2,     -9.0,9,     -9.0,9,-999.0000,  -999.00,9,   4.0770
  33LK19960415,  AR04,    90,  1,      9,2,19960515,  6.5348, -50.8165,   20,   1695.6,   3.9714,  34.9934,2,  34.9958,2,    255.1,2,    254.9,2,    14.94,2,    18.59,2,     0.04,2,     1.22,2,    0.298,2,    0.101,2,     -9.0,9,     -9.0,9,-999.0000,  -999.00,9,   3.8334
  33LK19960415,  AR04,    90,  1,      8,2,19960515,  6.5348, -50.8165,   20,   1796.9,   3.7878,  34.9875,2,  34.9891,2,    257.4,2,    257.1,2,    16.01,2,    18.62,2,     0.04,2,     1.22,2,    0.235,2,    0.088,2,     -9.0,9,     -9.0,9,-999.0000,  -999.00,9,   3.6427
  33LK19960415,  AR04,    90,  1,      7,2,19960515,  6.5348, -50.8165,   20,   1996.5,   3.4604,  34.9745,2,  34.9767,2,    259.8,2,    260.0,2,    17.81,2,    18.41,2,     0.04,2,     1.22,2,    0.213,2,    0.066,2,     -9.0,9,     -9.0,9,-999.0000,  -999.00,9,   3.3012
  33LK19960415,  AR04,    90,  1,      6,2,19960515,  6.5348, -50.8165,   20,   2394.7,   3.0239,  34.9497,2,  34.9510,2,    260.2,4,    260.7,2,    22.58,2,    18.76,2,     0.04,2,     1.25,2,    0.132,2,    0.039,2,     -9.0,9,     -9.0,9,-999.0000,  -999.00,9,   2.8337
  33LK19960415,  AR04,    90,  1,      5,2,19960515,  6.5348, -50.8165,   20,   2693.2,   2.7179,  34.9303,2,  34.9309,2,    259.1,4,    259.5,2,    27.83,2,    19.36,2,     0.04,2,     1.29,2,    0.107,2,    0.036,2,     -9.0,9,     -9.0,9,-999.0000,  -999.00,9,   2.5043
  33LK19960415,  AR04,    90,  1,      4,2,19960515,  6.5348, -50.8165,   20,   2999.3,   2.4810,  34.9172,2,  34.9161,2,    262.6,2,    263.2,2,    28.57,2,    19.00,2,     0.04,2,     1.27,2,    0.183,2,    0.052,2,     -9.0,9,     -9.0,9,-999.0000,  -999.00,9,   2.2416
  33LK19960415,  AR04,    90,  1,      3,2,19960515,  6.5348, -50.8165,   20,   3200.9,   2.4294,  34.9121,2,  34.9110,2,    263.9,2,    264.5,2,    28.70,2,    18.93,2,     0.04,2,     1.27,2,    0.191,2,    0.075,2,     -9.0,9,     -9.0,9,-999.0000,  -999.00,9,   2.1704
  33LK19960415,  AR04,    90,  1,      2,2,19960515,  6.5348, -50.8165,   20,   3401.5,   2.3644,  34.9077,2,  34.9044,2,    264.0,2,    264.2,2,    30.51,2,    19.06,2,     0.04,2,     1.29,2,    0.177,2,    0.063,2,     -9.0,9,     -9.0,9,-999.0000,  -999.00,9,   2.0859
  33LK19960415,  AR04,    90,  1,      1,2,19960515,  6.5348, -50.8165,   20,   3650.6,   2.2350,  34.8968,2,  34.8943,2,    262.8,3,    263.7,2,    33.13,2,    19.15,2,     0.04,2,     1.31,2,    0.165,2,    0.066,2,     -9.0,9,     -9.0,9,-999.0000,  -999.00,9,   1.9330