BOTTLE,20090511PRINUNIVRMK
EXPOCODE,SECT_ID,STNNBR,CASTNO,BTLNBR,BTLNBR_FLAG_W,DATE,LATITUDE,LONGITUDE,DEPTH,CTDPRS,CTDTMP,CTDSAL,CTDSAL_FLAG_W,SALNTY,SALNTY_FLAG_W,CTDOXY,CTDOXY_FLAG_W,OXYGEN,OXYGEN_FLAG_W,SILCAT,SILCAT_FLAG_W,NITRAT,NITRAT_FLAG_W,NITRIT,NITRIT_FLAG_W,PHSPHT,PHSPHT_FLAG_W,CFC-11,CFC-11_FLAG_W,CFC-12,CFC-12_FLAG_W,TCARBN,TCARBN_FLAG_W,PCO2,PCO2_FLAG_W,PH_SWS,PH_TEMP,PH_SWS_FLAG_W,THETA
,,,,,,,,,METERS,DBARS,ITS-90,PSS-78,,PSS-78,,UMOL/KG,,UMOL/KG,,UMOL/KG,,UMOL/KG,,UMOL/KG,,UMOL/KG,,PMOL/KG,,PMOL/KG,,UMOL/KG,,PPM,,,DEGC,,DEGC
  33LK19960415,  AR04,    16,  1,     22,2,19960419,  7.5112, -47.9958,   25,      3.3,  27.2084,  36.0988,2,  36.1460,2,    223.0,4,    200.7,2,     0.89,2,     0.17,2,     0.00,2,     0.05,2,    1.697,2,    0.894,2,   1995.2,2,    355.6,2,   8.1132,    25.00,2,  27.2076
  33LK19960415,  AR04,    16,  1,     21,2,19960419,  7.5112, -47.9958,   25,     68.0,  26.9084,  36.1772,2,  36.1750,2,    207.0,2,    201.4,2,     0.80,2,     0.09,2,     0.00,2,     0.03,2,    1.650,2,    0.850,2,   2008.4,2,     -9.0,9,   8.1110,    25.00,2,  26.8928
  33LK19960415,  AR04,    16,  1,     20,2,19960419,  7.5112, -47.9958,   25,    194.4,  11.6441,  35.2871,2,  35.3843,2,     89.9,2,     92.6,2,     9.95,2,    25.55,2,     0.00,2,     1.57,2,    0.844,2,    0.330,2,   2193.9,2,     -9.0,9,   7.6459,    25.00,2,  11.6191
  33LK19960415,  AR04,    16,  1,     19,2,19960419,  7.5112, -47.9958,   25,    295.7,   9.4917,  34.9527,2,  34.9659,2,    111.0,2,    111.9,2,    14.29,2,    28.28,2,     0.00,2,     1.83,2,    0.584,2,    0.220,2,   2193.5,2,     -9.0,9,   7.6473,    25.00,2,   9.4583
  33LK19960415,  AR04,    16,  1,     18,2,19960419,  7.5112, -47.9958,   25,    494.2,   7.6117,  34.7644,2,  34.8591,2,    109.4,2,     98.7,2,    19.26,2,    32.84,2,     0.00,2,     2.14,2,    0.167,2,    0.047,2,   2224.0,2,     -9.0,9,   7.5813,    25.00,2,   7.5622
  33LK19960415,  AR04,    16,  1,     16,2,19960419,  7.5112, -47.9958,   25,    794.2,   5.4253,  34.6342,2,  34.6331,2,    129.9,2,    130.3,2,    28.62,2,    33.95,2,     0.00,2,     2.36,2,   -9.000,9,   -9.000,9,   2211.6,2,     -9.0,9,   7.5709,    25.00,2,   5.3576
  33LK19960415,  AR04,    16,  1,     17,2,19960419,  7.5112, -47.9958,   25,    794.5,   5.4492,  34.6354,2,  34.6327,2,    130.0,2,    130.5,2,    28.76,2,    34.20,2,     0.00,2,     2.35,2,    0.017,2,    0.001,2,   2213.3,2,     -9.0,9,   7.5803,    25.00,2,   5.3813
  33LK19960415,  AR04,    16,  1,     15,2,19960419,  7.5112, -47.9958,   25,    996.4,   5.0799,  34.7438,2,  34.7386,2,    149.4,2,    150.4,2,    28.45,2,    31.42,2,     0.00,2,     2.19,2,    0.008,2,   -9.000,9,   2222.1,2,     -9.0,9,   7.6189,    25.00,2,   4.9959
  33LK19960415,  AR04,    16,  1,     14,2,19960419,  7.5112, -47.9958,   25,   1192.9,   5.0297,  34.9150,2,  34.9163,2,    183.6,2,    183.7,2,    22.63,2,    26.10,2,     0.00,2,     1.79,2,    0.071,2,    0.011,2,   2185.2,2,     -9.0,9,   7.6805,    25.00,2,   4.9276
  33LK19960415,  AR04,    16,  1,     13,2,19960419,  7.5112, -47.9958,   25,   1396.1,   4.6228,  35.0029,2,  34.9994,2,    227.9,2,    228.3,2,    17.07,2,    21.02,2,     0.00,2,     1.41,2,    0.207,2,    0.054,2,   2159.4,2,     -9.0,9,   7.7377,    25.00,2,   4.5054
  33LK19960415,  AR04,    16,  1,     12,2,19960419,  7.5112, -47.9958,   25,   1479.8,   4.3799,  35.0036,2,  35.0049,2,    241.3,2,    241.4,2,    15.72,2,    19.71,2,     0.00,2,     1.30,2,    0.274,2,    0.101,2,   2148.1,3,     -9.0,9,   7.7559,    25.00,2,   4.2572
  33LK19960415,  AR04,    16,  1,     11,2,19960419,  7.5112, -47.9958,   25,   1596.2,   4.0740,  34.9943,2,  34.9954,2,    248.6,2,    249.5,2,    16.02,2,    19.25,2,     0.00,2,     1.27,2,    0.201,2,    0.083,2,   2146.4,3,     -9.0,9,   7.7649,    25.00,2,   3.9440
  33LK19960415,  AR04,    16,  1,     10,2,19960419,  7.5112, -47.9958,   25,   1695.4,   3.8889,  34.9897,2,  34.9894,2,    253.2,2,    253.9,2,    16.50,2,    18.90,2,     0.00,2,     1.26,2,    0.181,2,    0.059,2,   2146.2,3,     -9.0,9,   7.7658,    25.00,2,   3.7520
  33LK19960415,  AR04,    16,  1,      9,2,19960419,  7.5112, -47.9958,   25,   1795.6,   3.7310,  34.9848,2,  34.9836,2,    254.5,2,    255.0,2,    17.54,2,    19.06,2,     0.00,2,     1.25,2,    0.129,2,    0.052,2,   2141.9,3,     -9.0,9,   7.7671,    25.00,2,   3.5868
  33LK19960415,  AR04,    16,  1,      8,2,19960419,  7.5112, -47.9958,   25,   1994.5,   3.4660,  34.9735,2,  34.9742,2,    256.4,2,    256.8,2,    19.46,2,    18.96,2,     0.00,2,     1.28,2,    0.081,2,    0.036,2,   2144.2,3,     -9.0,9,   7.7611,    25.00,2,   3.3069
  33LK19960415,  AR04,    16,  1,      7,2,19960419,  7.5112, -47.9958,   25,   2396.5,   3.0870,  34.9559,2,  34.9559,2,    258.6,2,    258.8,2,    22.95,2,    19.06,2,     0.00,2,     1.27,2,    0.054,2,    0.020,2,   2128.2,3,     -9.0,9,   7.7608,    25.00,2,   2.8955
  33LK19960415,  AR04,    16,  1,      6,2,19960419,  7.5112, -47.9958,   25,   2696.2,   2.8557,  34.9409,2,  34.9398,2,    257.9,2,    258.6,2,    26.88,2,    19.35,2,     0.00,2,     1.29,2,    0.051,2,    0.016,2,   2141.2,3,     -9.0,9,   7.7590,    25.00,2,   2.6390
  33LK19960415,  AR04,    16,  1,      5,2,19960419,  7.5112, -47.9958,   25,   2994.3,   2.6688,  34.9275,2,  34.9252,2,    257.7,2,    258.4,2,    30.59,2,    19.55,2,     0.00,2,     1.32,2,    0.081,2,    0.020,2,   2139.8,3,     -9.0,9,   7.7579,    25.00,2,   2.4258
  33LK19960415,  AR04,    16,  1,      4,2,19960419,  7.5112, -47.9958,   25,   3297.3,   2.4896,  34.9166,2,  34.9148,2,    260.9,2,    261.8,2,    31.03,2,    19.45,2,     0.00,2,     1.30,2,    0.129,2,    0.044,2,   2139.6,3,     -9.0,9,   7.7664,    25.00,2,   2.2191
  33LK19960415,  AR04,    16,  1,      3,2,19960419,  7.5112, -47.9958,   25,   3696.2,   2.3032,  34.9036,2,  34.9016,2,    264.5,2,    265.9,2,    31.08,2,    18.81,2,     0.00,2,     1.29,2,    0.187,2,    0.064,2,   2121.3,3,     -9.0,9,   7.7597,    25.00,2,   1.9944
  33LK19960415,  AR04,    16,  1,      2,2,19960419,  7.5112, -47.9958,   25,   3995.8,   2.2331,  34.8955,2,  34.8931,2,    263.8,2,    264.7,3,    34.94,2,    19.39,2,     0.00,2,     1.34,2,    0.137,2,    0.053,2,   2128.9,3,     -9.0,9,   7.7604,    25.00,2,   1.8927
  33LK19960415,  AR04,    16,  1,      1,2,19960419,  7.5112, -47.9958,   25,   4342.8,   2.1241,  34.8779,2,  34.8756,2,    256.1,2,    258.0,3,    44.40,2,    20.73,2,     0.02,2,     1.49,2,    0.085,2,    0.030,2,   2158.3,3,     -9.0,9,   7.7531,    25.00,2,   1.7470
  33LK19960415,  AR04,    17,  1,     22,2,19960419,  7.5210, -47.3280,   25,      3.1,  27.4631,  36.0894,2,  36.0878,2,    201.4,3,    199.9,2,     1.14,2,     0.11,2,     0.00,2,     0.07,2,   -9.000,9,   -9.000,9,   2003.3,2,    359.5,2,   8.1070,    25.00,2,  27.4624
  33LK19960415,  AR04,    17,  1,     21,2,19960419,  7.5210, -47.3280,   25,     71.9,  27.3557,  36.0870,2,  36.0877,2,    200.5,3,    199.8,2,     1.16,2,     0.10,2,     0.00,2,     0.05,2,   -9.000,9,   -9.000,9,     -9.0,9,     -9.0,9,-999.0000,  -999.00,9,  27.3390
  33LK19960415,  AR04,    17,  1,     20,2,19960419,  7.5210, -47.3280,   25,    196.7,  11.9315,  35.3247,2,  35.4454,2,     96.9,2,     97.0,2,     9.70,2,    24.41,2,     0.01,2,     1.47,2,   -9.000,9,   -9.000,9,     -9.0,9,     -9.0,9,-999.0000,  -999.00,9,  11.9058
  33LK19960415,  AR04,    17,  1,     19,2,19960419,  7.5210, -47.3280,   25,    295.5,  10.1409,  35.0486,2,  35.0254,2,    101.6,2,    100.4,2,    14.24,2,    28.99,2,     0.00,2,     1.81,2,   -9.000,9,   -9.000,9,     -9.0,9,     -9.0,9,-999.0000,  -999.00,9,  10.1061
  33LK19960415,  AR04,    17,  1,     17,2,19960419,  7.5210, -47.3280,   25,    494.9,   7.7281,  34.7892,2,  34.7929,2,    115.7,2,    115.5,2,    20.06,2,    32.11,2,     0.00,2,     2.06,2,   -9.000,9,   -9.000,9,     -9.0,9,     -9.0,9,-999.0000,  -999.00,9,   7.6782
  33LK19960415,  AR04,    17,  1,     18,2,19960419,  7.5210, -47.3280,   25,    495.2,   7.7225,  34.7862,2,  34.7927,2,    115.6,2,    115.3,2,    20.01,2,    32.00,2,     0.00,2,     2.06,2,   -9.000,9,   -9.000,9,     -9.0,9,     -9.0,9,-999.0000,  -999.00,9,   7.6726
  33LK19960415,  AR04,    17,  1,     16,2,19960419,  7.5210, -47.3280,   25,    794.5,   5.2819,  34.5964,2,  34.5991,2,    136.9,2,    137.7,2,    30.60,2,    34.59,2,     0.00,2,     2.32,2,    0.036,2,    0.001,2,     -9.0,9,     -9.0,9,-999.0000,  -999.00,9,   5.2150
  33LK19960415,  AR04,    17,  1,     15,2,19960419,  7.5210, -47.3280,   25,    995.7,   4.7956,  34.6733,2,  34.6751,2,    151.7,2,    153.4,2,    31.16,2,    32.58,2,     0.00,2,     2.20,2,    0.018,2,    0.000,2,     -9.0,9,     -9.0,9,-999.0000,  -999.00,9,   4.7139
  33LK19960415,  AR04,    17,  1,     14,2,19960419,  7.5210, -47.3280,   25,   1293.2,   4.9840,  34.9725,2,  34.9726,2,    206.1,2,    205.4,2,    20.08,2,    23.52,2,     0.00,2,     1.54,2,    0.194,2,    0.055,2,     -9.0,9,     -9.0,9,-999.0000,  -999.00,9,   4.8727
  33LK19960415,  AR04,    17,  1,     13,2,19960419,  7.5210, -47.3280,   25,   1495.8,   4.4323,  35.0026,2,  35.0084,2,    239.0,2,    241.8,2,    15.93,2,    19.80,2,     0.00,2,     1.27,2,    0.317,2,    0.124,2,     -9.0,9,     -9.0,9,-999.0000,  -999.00,9,   4.3075
  33LK19960415,  AR04,    17,  1,     12,2,19960419,  7.5210, -47.3280,   25,   1594.9,   4.1443,  34.9963,2,  35.0032,2,    249.2,2,    252.3,2,    15.25,2,    18.90,2,     0.00,2,     1.21,2,    0.341,2,    0.128,2,     -9.0,9,     -9.0,9,-999.0000,  -999.00,9,   4.0136
  33LK19960415,  AR04,    17,  1,     11,2,19960419,  7.5210, -47.3280,   25,   1694.1,   3.9321,  34.9907,2,  34.9902,2,    254.9,2,    252.9,2,    16.89,2,    19.14,2,     0.00,2,     1.24,2,    0.171,2,    0.070,2,     -9.0,9,     -9.0,9,-999.0000,  -999.00,9,   3.7947
  33LK19960415,  AR04,    17,  1,     10,2,19960419,  7.5210, -47.3280,   25,   1794.6,   3.7759,  34.9846,2,  34.9880,2,    255.4,3,    255.5,2,    17.23,2,    18.93,2,     0.00,2,     1.21,2,    0.166,2,    0.065,2,     -9.0,9,     -9.0,9,-999.0000,  -999.00,9,   3.6312
  33LK19960415,  AR04,    17,  1,      9,2,19960419,  7.5210, -47.3280,   25,   1887.8,   3.6665,  34.9803,2,  34.9807,2,    256.7,3,    255.9,2,    18.47,2,    19.07,2,     0.00,2,     1.25,2,    0.108,2,    0.045,2,     -9.0,9,     -9.0,9,-999.0000,  -999.00,9,   3.5145
  33LK19960415,  AR04,    17,  1,      8,2,19960419,  7.5210, -47.3280,   25,   1993.5,   3.5291,  34.9742,2,  34.9771,2,    257.5,3,    256.4,2,    19.41,2,    19.04,2,     0.00,2,     1.26,2,    0.093,2,    0.034,2,     -9.0,9,     -9.0,9,-999.0000,  -999.00,9,   3.3691
  33LK19960415,  AR04,    17,  1,      7,2,19960419,  7.5210, -47.3280,   25,   2493.8,   3.0585,  34.9501,2,  34.9526,2,    258.1,3,    257.7,2,    24.98,2,    19.37,2,     0.00,2,     1.26,2,    0.045,2,    0.014,2,     -9.0,9,     -9.0,9,-999.0000,  -999.00,9,   2.8580
  33LK19960415,  AR04,    17,  1,      6,2,19960419,  7.5210, -47.3280,   25,   2656.8,   2.9343,  34.9430,2,  34.9453,2,    258.0,3,    257.5,2,    27.09,2,    19.52,2,     0.00,2,     1.31,2,    0.058,2,    0.018,2,     -9.0,9,     -9.0,9,-999.0000,  -999.00,9,   2.7200
  33LK19960415,  AR04,    17,  1,      5,2,19960419,  7.5210, -47.3280,   25,   2996.3,   2.7092,  34.9282,2,  34.9281,2,    256.6,3,    258.1,2,    31.06,2,    19.74,2,     0.00,2,     1.31,2,    0.092,2,    0.018,2,     -9.0,9,     -9.0,9,-999.0000,  -999.00,9,   2.4651
  33LK19960415,  AR04,    17,  1,      4,2,19960419,  7.5210, -47.3280,   25,   3296.2,   2.5170,  34.9148,2,  34.9143,2,    259.3,3,    260.5,2,    33.19,2,    19.66,2,     0.00,2,     1.32,2,    0.107,2,    0.036,2,     -9.0,9,     -9.0,9,-999.0000,  -999.00,9,   2.2460
  33LK19960415,  AR04,    17,  1,      3,2,19960419,  7.5210, -47.3280,   25,   3696.3,   2.2993,  34.9002,2,  34.9007,2,    263.6,3,    264.2,2,    33.86,2,    19.32,2,     0.00,2,     1.29,2,    0.138,2,    0.053,2,     -9.0,9,     -9.0,9,-999.0000,  -999.00,9,   1.9905
  33LK19960415,  AR04,    17,  1,      2,2,19960419,  7.5210, -47.3280,   25,   3996.2,   2.2368,  34.8937,2,  34.8931,2,    263.6,3,    263.3,2,    36.47,2,    19.58,2,     0.00,2,     1.31,2,    0.146,2,    0.063,2,     -9.0,9,     -9.0,9,-999.0000,  -999.00,9,   1.8963
  33LK19960415,  AR04,    17,  1,      1,2,19960419,  7.5210, -47.3280,   25,   4377.9,   2.1359,  34.8770,2,  34.8776,2,    256.5,3,    257.4,2,    45.68,2,    20.86,2,     0.00,2,     1.41,2,    0.094,2,    0.041,2,     -9.0,9,     -9.0,9,-999.0000,  -999.00,9,   1.7543
  33LK19960415,  AR04,    18,  1,     22,2,19960420,  7.5265, -46.6542,   20,      1.8,  27.4230,  36.0916,2,  36.1264,2,    190.7,3,    199.1,2,     0.91,2,     0.30,2,     0.00,2,     0.03,2,    1.741,2,    0.875,2,   2012.3,2,    362.7,2,   8.1063,    25.00,2,  27.4226
  33LK19960415,  AR04,    18,  1,     21,2,19960420,  7.5265, -46.6542,   20,     71.1,  27.2818,  36.1738,2,  36.1640,2,    203.1,2,    199.7,2,     0.95,2,     0.29,2,     0.00,2,     0.06,2,    1.700,2,    0.867,2,   2007.4,2,     -9.0,9,   8.1066,    25.00,2,  27.2653
  33LK19960415,  AR04,    18,  1,     20,2,19960420,  7.5265, -46.6542,   20,    195.8,  11.8729,  35.2781,2,  35.3230,2,    119.6,2,    116.9,2,     9.86,2,    23.39,2,     0.00,2,     1.42,2,    1.085,2,    0.489,2,   2174.0,2,     -9.0,9,   7.7254,    25.00,2,  11.8474
  33LK19960415,  AR04,    18,  1,     18,2,19960420,  7.5265, -46.6542,   20,    291.7,   8.9082,  34.8305,2,  34.8619,2,    116.9,2,    125.7,2,    14.85,2,    28.11,2,     0.00,2,     1.77,2,    0.711,2,    0.272,2,   2174.5,2,     -9.0,9,   7.6576,    25.00,2,   8.8766
  33LK19960415,  AR04,    18,  1,     19,2,19960420,  7.5265, -46.6542,   20,    292.1,   8.9080,  34.8299,2,  34.8632,2,    116.9,2,    126.0,2,    14.94,2,    28.10,2,     0.00,2,     1.77,2,   -9.000,9,   -9.000,9,   2165.8,2,     -9.0,9,   7.6576,    25.00,2,   8.8763
  33LK19960415,  AR04,    18,  1,     17,2,19960420,  7.5265, -46.6542,   20,    487.7,   7.2178,  34.6742,2,  34.6850,2,    115.7,2,    115.0,2,    21.12,2,    33.38,2,     0.00,2,     2.14,2,    0.236,2,    0.081,2,   2203.4,2,     -9.0,9,   7.5849,    25.00,2,   7.1706
  33LK19960415,  AR04,    18,  1,     16,2,19960420,  7.5265, -46.6542,   20,    743.6,   5.4568,  34.5708,2,  34.5647,2,    134.4,2,    135.6,2,    28.43,2,    34.56,2,     0.00,2,     2.31,2,    0.094,2,    0.013,2,   2181.8,3,     -9.0,9,   7.5878,    25.00,2,   5.3935
  33LK19960415,  AR04,    18,  1,     15,2,19960420,  7.5265, -46.6542,   20,    994.1,   4.8526,  34.6807,2,  34.7210,2,    149.7,3,    149.7,2,    29.21,2,    32.26,2,     0.00,2,     2.17,2,    0.043,2,    0.015,2,   2186.5,3,     -9.0,9,   7.6156,    25.00,2,   4.7706
  33LK19960415,  AR04,    18,  1,     14,2,19960420,  7.5265, -46.6542,   20,   1295.3,   4.8755,  34.9317,2,  34.9504,2,    196.6,3,    201.7,2,    20.78,2,    24.41,2,     0.00,2,     1.57,2,    0.113,2,    0.046,2,   2136.3,3,     -9.0,9,   7.7098,    25.00,2,   4.7651
  33LK19960415,  AR04,    18,  1,     13,2,19960420,  7.5265, -46.6542,   20,   1495.4,   4.4169,  34.9838,2,  34.9846,2,    228.1,3,    232.9,2,    17.72,2,    21.17,2,     0.00,2,     1.34,2,    0.150,2,    0.061,2,   2130.9,3,     -9.0,9,   7.7476,    25.00,2,   4.2924
  33LK19960415,  AR04,    18,  1,     12,2,19960420,  7.5265, -46.6542,   20,   1595.7,   4.2467,  34.9843,2,  34.9967,0,    237.2,3,    243.7,2,    16.38,2,    20.01,2,     0.00,2,     1.26,2,    0.236,2,    0.100,2,   2137.6,3,     -9.0,9,   7.7581,    25.00,2,   4.1147
  33LK19960415,  AR04,    18,  1,     11,2,19960420,  7.5265, -46.6542,   20,   1695.2,   4.1289,  34.9952,2,  34.9967,0,    249.0,3,    251.0,2,    15.89,2,    19.36,2,     0.00,2,     1.22,2,    0.256,2,    0.112,2,   2126.2,3,     -9.0,9,   7.7600,    25.00,2,   3.9889
  33LK19960415,  AR04,    18,  1,     10,2,19960420,  7.5265, -46.6542,   20,   1789.4,   3.9687,  34.9905,2,  34.9896,2,    251.7,3,    252.5,2,    16.92,2,    19.40,2,     0.00,2,     1.23,2,    0.165,2,    0.078,2,   2135.6,3,     -9.0,9,   7.7610,    25.00,2,   3.8219
  33LK19960415,  AR04,    18,  1,      9,2,19960420,  7.5265, -46.6542,   20,   1995.9,   3.6849,  34.9814,2,  34.9778,2,    255.8,3,    255.1,2,    19.08,2,    19.41,2,     0.00,2,     1.23,2,    0.076,2,    0.036,2,   2132.5,3,     -9.0,9,   7.7643,    25.00,2,   3.5224
  33LK19960415,  AR04,    18,  1,      8,2,19960420,  7.5265, -46.6542,   20,   2396.3,   3.1900,  34.9590,2,  34.9574,2,    258.8,3,    261.0,2,    22.71,2,    19.29,2,     0.00,2,     1.22,2,    0.097,2,    0.049,2,   2125.7,3,     -9.0,9,   7.7623,    25.00,2,   2.9967
  33LK19960415,  AR04,    18,  1,      7,2,19960420,  7.5265, -46.6542,   20,   2695.8,   2.9434,  34.9460,2,  34.9427,2,    260.7,3,    260.0,2,    25.50,2,    19.38,2,     0.00,2,     1.25,2,    0.092,2,    0.041,2,   2135.7,3,     -9.0,9,   7.7603,    25.00,2,   2.7250
  33LK19960415,  AR04,    18,  1,      6,2,19960420,  7.5265, -46.6542,   20,   2996.2,   2.7089,  34.9303,2,  34.9290,2,    259.1,3,    258.0,2,    29.01,2,    19.76,2,     0.00,2,     1.28,2,    0.125,2,    0.048,2,   2128.2,3,     -9.0,9,   7.7679,    25.00,2,   2.4648
  33LK19960415,  AR04,    18,  1,      5,2,19960420,  7.5265, -46.6542,   20,   3296.2,   2.5394,  34.9180,2,  34.9162,2,    260.0,3,    260.8,2,    31.33,2,    19.67,2,     0.00,2,     1.28,2,    0.142,2,    0.065,2,   2143.7,3,     -9.0,9,   7.7671,    25.00,2,   2.2678
  33LK19960415,  AR04,    18,  1,      4,2,19960420,  7.5265, -46.6542,   20,   3696.7,   2.3094,  34.9025,2,  34.9022,2,    264.3,3,    264.2,2,    32.48,2,    19.35,2,     0.00,2,     1.26,2,    0.171,2,    0.073,2,   2112.0,3,     -9.0,9,   7.7691,    25.00,2,   2.0003
  33LK19960415,  AR04,    18,  1,      3,2,19960420,  7.5265, -46.6542,   20,   3998.5,   2.2352,  34.8941,2,  34.8929,2,    263.9,3,    264.0,2,    35.00,2,    19.65,2,     0.00,2,     1.29,2,    0.159,2,    0.079,2,   2125.2,3,     -9.0,9,   7.7605,    25.00,2,   1.8945
  33LK19960415,  AR04,    18,  1,      2,2,19960420,  7.5265, -46.6542,   20,   4198.5,   2.1905,  34.8872,2,  34.8860,2,    262.1,3,    261.4,2,    38.67,2,    20.19,2,     0.00,2,     1.35,2,    0.132,2,    0.074,2,   2146.5,3,     -9.0,9,   7.7580,    25.00,2,   1.8282
  33LK19960415,  AR04,    18,  1,      1,2,19960420,  7.5265, -46.6542,   20,   4418.8,   2.1124,  34.8738,2,  34.8721,2,    254.7,3,    256.1,2,    47.78,2,    21.33,2,     0.07,2,     1.70,2,    0.078,2,    0.048,2,   2208.6,3,     -9.0,9,   7.7557,    25.00,2,   1.7267