BOTTLE,20090511PRINUNIVRMK
EXPOCODE,SECT_ID,STNNBR,CASTNO,BTLNBR,BTLNBR_FLAG_W,DATE,LATITUDE,LONGITUDE,DEPTH,CTDPRS,CTDTMP,CTDSAL,CTDSAL_FLAG_W,SALNTY,SALNTY_FLAG_W,CTDOXY,CTDOXY_FLAG_W,OXYGEN,OXYGEN_FLAG_W,SILCAT,SILCAT_FLAG_W,NITRAT,NITRAT_FLAG_W,NITRIT,NITRIT_FLAG_W,PHSPHT,PHSPHT_FLAG_W,CFC-11,CFC-11_FLAG_W,CFC-12,CFC-12_FLAG_W,TCARBN,TCARBN_FLAG_W,PCO2,PCO2_FLAG_W,PH_SWS,PH_TEMP,PH_SWS_FLAG_W,THETA
,,,,,,,,,METERS,DBARS,ITS-90,PSS-78,,PSS-78,,UMOL/KG,,UMOL/KG,,UMOL/KG,,UMOL/KG,,UMOL/KG,,UMOL/KG,,PMOL/KG,,PMOL/KG,,UMOL/KG,,PPM,,,DEGC,,DEGC
  33LK19960415,  AR04,    52,  2,     22,2,19960429,  0.0017, -34.9975, 4520,    593.4,   5.7854,  34.5234,2,  34.5279,2,     -9.0,9,    142.6,2,    24.24,2,    32.22,2,     0.00,2,     2.20,2,    0.219,2,    0.137,3,   2207.6,2,     -9.0,9,   7.5870,    25.00,2,   5.7341
  33LK19960415,  AR04,    52,  2,     21,2,19960429,  0.0017, -34.9975, 4520,    743.7,   4.9405,  34.5000,2,  34.5004,2,     -9.0,9,    150.3,2,    29.16,2,    32.94,2,     0.00,2,     2.29,2,    0.087,2,    0.077,3,   2205.8,2,     -9.0,9,   7.5806,    25.00,2,   4.8803
  33LK19960415,  AR04,    52,  2,     20,2,19960429,  0.0017, -34.9975, 4520,    894.0,   4.6579,  34.5390,2,  34.5400,2,     -9.0,9,    152.8,2,    30.68,2,    32.56,2,     0.00,2,     2.26,2,    0.053,2,    0.078,3,   2217.6,2,     -9.0,9,   7.5820,    25.00,2,   4.5864
  33LK19960415,  AR04,    52,  2,     19,2,19960429,  0.0017, -34.9975, 4520,    998.4,   4.5112,  34.6022,2,  34.6201,2,     -9.0,9,    159.9,2,    30.16,2,    31.12,2,     0.00,2,     2.17,2,    0.034,2,    0.068,3,   2208.0,2,     -9.0,9,   7.6018,    25.00,2,   4.4316
  33LK19960415,  AR04,    52,  2,     18,2,19960429,  0.0017, -34.9975, 4520,   1194.2,   4.5352,  34.7999,2,  34.8231,2,     -9.0,9,    182.6,2,    24.37,2,    26.59,2,     0.00,2,     1.84,2,    0.022,2,    0.062,3,   2189.7,2,     -9.0,9,   7.6549,    25.00,2,   4.4376
  33LK19960415,  AR04,    52,  2,     17,2,19960429,  0.0017, -34.9975, 4520,   1397.9,   4.4762,  34.9514,2,  34.9518,2,     -9.0,9,    218.9,2,    18.33,2,    21.66,2,     0.00,2,     1.48,2,    0.132,2,    0.121,3,   2160.6,2,     -9.0,9,   7.7170,    25.00,2,   4.3602
  33LK19960415,  AR04,    52,  2,     16,2,19960429,  0.0017, -34.9975, 4520,   1495.6,   4.4376,  34.9797,2,  34.9854,2,     -9.0,9,    233.7,2,    16.07,2,    19.84,2,     0.00,2,     1.34,2,    0.206,2,    0.137,3,   2162.8,2,     -9.0,9,   7.7386,    25.00,2,   4.3128
  33LK19960415,  AR04,    52,  2,     15,2,19960429,  0.0017, -34.9975, 4520,   1598.1,   4.1790,  34.9904,2,  34.9881,2,     -9.0,9,    243.1,2,    15.77,2,    19.02,2,     0.00,2,     1.29,2,    0.185,2,    0.128,3,   2153.9,2,     -9.0,9,   7.7478,    25.00,2,   4.0476
  33LK19960415,  AR04,    52,  2,     14,2,19960429,  0.0017, -34.9975, 4520,   1695.3,   4.0019,  34.9822,2,  34.9798,2,     -9.0,9,    245.0,2,    16.70,2,    19.10,2,     0.00,2,     1.28,2,    0.083,2,    0.083,3,   2148.7,3,     -9.0,9,   7.7487,    25.00,2,   3.8636
  33LK19960415,  AR04,    52,  2,     13,2,19960429,  0.0017, -34.9975, 4520,   1793.6,   3.8185,  34.9806,2,  34.9768,2,     -9.0,9,    248.6,2,    17.65,2,    18.87,2,     0.00,2,     1.27,2,    0.067,2,    0.080,3,   2177.6,2,     -9.0,9,   7.7496,    25.00,2,   3.6733
  33LK19960415,  AR04,    52,  2,     12,2,19960429,  0.0017, -34.9975, 4520,   1991.9,   3.5375,  34.9759,2,  34.9742,2,     -9.0,9,    257.2,2,    17.67,2,    18.36,2,     0.00,2,     1.20,2,    0.111,2,    0.104,3,   2141.7,3,     -9.0,9,   7.7620,    25.00,2,   3.3776
  33LK19960415,  AR04,    52,  2,     11,2,19960429,  0.0017, -34.9975, 4520,   2294.5,   3.2947,  34.9653,2,  34.9624,2,     -9.0,9,    258.9,2,    19.84,2,    18.33,2,     0.00,2,     1.22,2,    0.112,2,    0.131,3,   2154.0,2,     -9.0,9,   7.7601,    25.00,2,   3.1096
  33LK19960415,  AR04,    52,  2,     10,2,19960429,  0.0017, -34.9975, 4520,   2697.3,   2.8875,  34.9380,2,  34.9347,2,     -9.0,9,    255.1,2,    27.16,2,    19.34,2,     0.00,2,     1.28,2,    0.018,2,    0.046,3,   2158.3,2,     -9.0,9,   7.7596,    25.00,2,   2.6701
  33LK19960415,  AR04,    52,  2,      9,2,19960429,  0.0017, -34.9975, 4520,   2995.3,   2.6845,  34.9224,2,  34.9193,2,     -9.0,9,    252.8,2,    31.60,2,    19.87,2,     0.00,2,     1.33,2,    0.004,2,    0.039,3,   2168.2,2,     -9.0,9,   7.7582,    25.00,2,   2.4411
  33LK19960415,  AR04,    52,  2,      8,2,19960429,  0.0017, -34.9975, 4520,   3294.8,   2.5835,  34.9140,2,  34.9123,2,     -9.0,9,    254.0,2,    32.71,2,    19.85,2,     0.00,2,     1.32,2,    0.038,2,    0.054,3,   2156.4,3,     -9.0,9,   7.7491,    25.00,2,   2.3111
  33LK19960415,  AR04,    52,  2,      7,2,19960429,  0.0017, -34.9975, 4520,   3595.5,   2.4343,  34.9097,2,  34.9069,2,     -9.0,9,    262.4,2,    29.38,2,    18.68,2,     0.00,2,     1.25,2,   -9.000,9,   -9.000,9,   2152.5,3,     -9.0,9,   7.7579,    25.00,2,   2.1331
  33LK19960415,  AR04,    52,  2,      6,2,19960429,  0.0017, -34.9975, 4520,   3598.3,   2.4324,  34.9098,2,  34.9086,2,     -9.0,9,    262.1,2,    29.38,2,    18.64,2,     0.00,2,     1.25,2,    0.111,2,    0.081,3,   2145.4,3,     -9.0,9,   7.7580,    25.00,2,   2.1309
  33LK19960415,  AR04,    52,  2,      5,2,19960429,  0.0017, -34.9975, 4520,   3802.0,   2.3371,  34.9015,2,  34.8989,2,     -9.0,9,    262.6,2,    31.32,2,    18.79,2,     0.00,2,     1.26,2,    0.136,2,    0.135,3,   2145.3,3,     -9.0,9,   7.7641,    25.00,2,   2.0157
  33LK19960415,  AR04,    52,  2,      4,2,19960429,  0.0017, -34.9975, 4520,   3988.3,   2.2816,  34.8950,2,  34.8926,2,     -9.0,9,    261.3,2,    33.88,2,    19.09,2,     0.00,2,     1.29,2,    0.100,2,    0.068,3,   2172.0,2,     -9.0,9,   7.7608,    25.00,2,   1.9407
  33LK19960415,  AR04,    52,  2,      3,2,19960429,  0.0017, -34.9975, 4520,   4193.0,   1.7376,  34.8326,2,  34.8213,2,     -9.0,9,    244.6,2,    65.10,2,    23.51,2,     0.00,2,     1.62,2,    0.030,2,    0.045,3,   2174.0,3,     -9.0,9,   7.7148,    25.00,2,   1.3895
  33LK19960415,  AR04,    52,  2,      2,2,19960429,  0.0017, -34.9975, 4520,   4394.4,   1.1165,  34.7607,2,  34.7554,2,     -9.0,9,    230.3,2,    97.07,2,    27.28,2,     0.00,2,     1.92,2,    0.010,2,    0.038,3,   2198.8,3,     -9.0,9,   7.6773,    25.00,2,   0.7648
  33LK19960415,  AR04,    52,  2,      1,2,19960429,  0.0017, -34.9975, 4520,   4583.6,   0.9504,  34.7399,2,  34.7370,2,     -9.0,9,    226.6,2,   104.80,2,    28.36,2,     0.00,2,     2.00,2,    0.018,2,    0.058,3,   2232.0,3,     -9.0,9,   7.6640,    25.00,2,   0.5827
  33LK19960415,  AR04,    53,  1,      6,2,19960430, -0.3293, -35.0003, 4500,      6.8,  28.6584,  35.6049,2,  35.5359,2,     -9.0,9,    197.0,2,     1.08,2,     0.04,2,     0.00,2,     0.03,2,   -9.000,9,   -9.000,9,     -9.0,9,     -9.0,9,-999.0000,  -999.00,9,  28.6568
  33LK19960415,  AR04,    53,  1,      5,2,19960430, -0.3293, -35.0003, 4500,     50.4,  27.8420,  36.2717,2,  36.2914,2,     -9.0,9,    203.7,2,     1.03,2,     0.04,2,     0.00,2,     0.06,2,   -9.000,9,   -9.000,9,     -9.0,9,     -9.0,9,-999.0000,  -999.00,9,  27.8301
  33LK19960415,  AR04,    53,  1,      4,2,19960430, -0.3293, -35.0003, 4500,    149.9,  14.6084,  35.4947,2,  35.5073,2,     -9.0,9,    161.9,2,     5.62,2,    13.65,2,     0.01,2,     0.94,2,   -9.000,9,   -9.000,9,     -9.0,9,     -9.0,9,-999.0000,  -999.00,9,  14.5860
  33LK19960415,  AR04,    53,  1,      3,2,19960430, -0.3293, -35.0003, 4500,    248.8,  12.1708,  35.1767,2,  35.0696,2,     -9.0,9,     89.2,2,    10.47,2,    25.93,2,     0.00,2,     1.62,2,   -9.000,9,   -9.000,9,     -9.0,9,     -9.0,9,-999.0000,  -999.00,9,  12.1379
  33LK19960415,  AR04,    53,  1,      2,2,19960430, -0.3293, -35.0003, 4500,    399.6,   8.4321,  34.7558,2,  34.7450,2,     -9.0,9,    108.9,2,    17.07,2,    31.39,2,     0.00,2,     1.99,2,   -9.000,9,   -9.000,9,     -9.0,9,     -9.0,9,-999.0000,  -999.00,9,   8.3900
  33LK19960415,  AR04,    53,  1,      1,2,19960430, -0.3293, -35.0003, 4500,    505.7,   6.7051,  34.5882,2,  34.5891,2,     -9.0,9,    129.0,2,    21.86,2,    32.93,2,     0.00,2,     2.15,2,   -9.000,9,   -9.000,9,     -9.0,9,     -9.0,9,-999.0000,  -999.00,9,   6.6581
  33LK19960415,  AR04,    53,  2,     22,2,19960430, -0.3293, -35.0003, 4500,    595.5,   5.7869,  34.5216,2,  34.5286,2,     -9.0,9,    143.4,2,    25.33,2,    33.14,2,     0.00,2,     2.19,2,    0.219,2,    0.073,2,     -9.0,9,     -9.0,9,-999.0000,  -999.00,9,   5.7354
  33LK19960415,  AR04,    53,  2,     21,2,19960430, -0.3293, -35.0003, 4500,    744.9,   4.9329,  34.4896,2,  34.4913,2,     -9.0,9,    153.1,2,    29.93,2,    33.76,2,     0.00,2,     2.27,2,    0.118,2,    0.038,2,     -9.0,9,     -9.0,9,-999.0000,  -999.00,9,   4.8726
  33LK19960415,  AR04,    53,  2,     20,2,19960430, -0.3293, -35.0003, 4500,    895.9,   4.6545,  34.5380,2,  34.5383,2,     -9.0,9,    153.2,2,    32.19,2,    33.67,2,     0.00,2,     2.27,2,    0.042,2,    0.018,2,     -9.0,9,     -9.0,9,-999.0000,  -999.00,9,   4.5828
  33LK19960415,  AR04,    53,  2,     19,2,19960430, -0.3293, -35.0003, 4500,    994.9,   4.4939,  34.6073,2,  34.5872,2,     -9.0,9,    156.8,2,    31.92,2,    32.84,2,     0.00,2,     2.21,2,    0.018,2,    0.012,2,     -9.0,9,     -9.0,9,-999.0000,  -999.00,9,   4.4147
  33LK19960415,  AR04,    53,  2,     18,2,19960430, -0.3293, -35.0003, 4500,   1195.0,   4.5311,  34.8049,2,  34.7980,2,     -9.0,9,    180.2,2,    26.35,2,    28.08,2,     0.00,2,     1.86,2,    0.020,2,    0.013,2,     -9.0,9,     -9.0,9,-999.0000,  -999.00,9,   4.4335
  33LK19960415,  AR04,    53,  2,     17,2,19960430, -0.3293, -35.0003, 4500,   1394.4,   4.4809,  34.9336,2,  34.9351,2,     -9.0,9,    213.4,2,    20.18,2,    23.07,2,     0.00,2,     1.50,2,    0.091,2,    0.050,2,     -9.0,9,     -9.0,9,-999.0000,  -999.00,9,   4.3652
  33LK19960415,  AR04,    53,  2,     16,2,19960430, -0.3293, -35.0003, 4500,   1494.1,   4.4247,  34.9803,2,  34.9819,2,     -9.0,9,    231.8,2,    17.21,2,    20.70,2,     0.00,2,     1.33,2,    0.200,2,    0.079,2,     -9.0,9,     -9.0,9,-999.0000,  -999.00,9,   4.3002
  33LK19960415,  AR04,    53,  2,     15,2,19960430, -0.3293, -35.0003, 4500,   1595.3,   4.1665,  34.9867,2,  34.9869,2,     -9.0,9,    243.4,2,    16.72,2,    19.69,2,     0.00,2,     1.26,2,    0.158,2,    0.082,2,     -9.0,9,     -9.0,9,-999.0000,  -999.00,9,   4.0355
  33LK19960415,  AR04,    53,  2,     14,2,19960430, -0.3293, -35.0003, 4500,   1695.4,   3.9875,  34.9803,2,  34.9801,2,     -9.0,9,    244.8,2,    17.63,2,    19.68,2,     0.00,2,     1.26,2,    0.078,2,    0.042,2,     -9.0,9,     -9.0,9,-999.0000,  -999.00,9,   3.8493
  33LK19960415,  AR04,    53,  2,     13,2,19960430, -0.3293, -35.0003, 4500,   1794.5,   3.7648,  34.9777,2,  34.9758,2,     -9.0,9,    250.4,2,    18.47,2,    19.26,2,     0.00,2,     1.23,2,    0.063,2,    0.038,2,     -9.0,9,     -9.0,9,-999.0000,  -999.00,9,   3.6203
  33LK19960415,  AR04,    53,  2,     12,2,19960430, -0.3293, -35.0003, 4500,   1994.3,   3.5398,  34.9719,2,  34.9711,2,     -9.0,9,    256.1,2,    19.80,2,    19.05,2,     0.00,2,     1.22,2,    0.060,2,    0.039,2,     -9.0,9,     -9.0,9,-999.0000,  -999.00,9,   3.3796
  33LK19960415,  AR04,    53,  2,     11,2,19960430, -0.3293, -35.0003, 4500,   2295.4,   3.2859,  34.9637,2,  34.9637,2,     -9.0,9,    259.5,3,    20.60,2,    18.60,2,     0.00,2,     1.19,2,    0.097,2,    0.061,2,     -9.0,9,     -9.0,9,-999.0000,  -999.00,9,   3.1008
  33LK19960415,  AR04,    53,  2,     10,2,19960430, -0.3293, -35.0003, 4500,   2692.1,   2.8788,  34.9375,2,  34.9358,2,     -9.0,9,    256.9,2,    28.12,2,    19.46,2,     0.00,2,     1.26,2,    0.020,2,    0.018,2,     -9.0,9,     -9.0,9,-999.0000,  -999.00,9,   2.6621
  33LK19960415,  AR04,    53,  2,      9,2,19960430, -0.3293, -35.0003, 4500,   2996.4,   2.6974,  34.9233,2,  34.9209,2,     -9.0,9,    256.1,2,    31.11,2,    19.64,2,     0.00,2,     1.28,2,    0.028,2,    0.023,2,     -9.0,9,     -9.0,9,-999.0000,  -999.00,9,   2.4536
  33LK19960415,  AR04,    53,  2,      7,2,19960430, -0.3293, -35.0003, 4500,   3293.5,   2.5929,  34.9152,2,  34.9130,2,     -9.0,9,    256.0,2,    34.13,2,    20.00,2,     0.00,2,     1.31,2,    0.019,2,    0.019,2,     -9.0,9,     -9.0,9,-999.0000,  -999.00,9,   2.3204
  33LK19960415,  AR04,    53,  2,      8,2,19960430, -0.3293, -35.0003, 4500,   3293.7,   2.5924,  34.9152,2,  34.9128,2,     -9.0,9,    255.5,2,    34.19,2,    20.06,2,     0.00,2,     1.31,2,   -9.000,9,   -9.000,9,     -9.0,9,     -9.0,9,-999.0000,  -999.00,9,   2.3199
  33LK19960415,  AR04,    53,  2,      6,2,19960430, -0.3293, -35.0003, 4500,   3597.0,   2.4580,  34.9098,2,  34.9081,2,     -9.0,9,    260.8,2,    32.27,2,    19.17,2,     0.00,2,     1.26,2,    0.100,2,    0.051,2,     -9.0,9,     -9.0,9,-999.0000,  -999.00,9,   2.1560
  33LK19960415,  AR04,    53,  2,      5,2,19960430, -0.3293, -35.0003, 4500,   3793.1,   2.3786,  34.9043,2,  34.9024,2,     -9.0,9,    263.4,2,    32.57,2,    19.00,2,     0.00,2,     1.25,2,    0.155,2,    0.075,2,     -9.0,9,     -9.0,9,-999.0000,  -999.00,9,   2.0570
  33LK19960415,  AR04,    53,  2,      4,2,19960430, -0.3293, -35.0003, 4500,   3995.1,   2.3226,  34.8986,2,  34.8961,2,     -9.0,9,    263.0,2,    34.14,2,    19.13,2,     0.00,2,     1.26,2,    0.116,2,    0.060,2,     -9.0,9,     -9.0,9,-999.0000,  -999.00,9,   1.9798
  33LK19960415,  AR04,    53,  2,      3,2,19960430, -0.3293, -35.0003, 4500,   4196.2,   1.6482,  34.8212,2,  34.8211,2,     -9.0,9,    244.7,2,    68.20,2,    24.06,2,     0.00,2,     1.62,2,    0.033,2,    0.027,2,     -9.0,9,     -9.0,9,-999.0000,  -999.00,9,   1.3024
  33LK19960415,  AR04,    53,  2,      2,2,19960430, -0.3293, -35.0003, 4500,   4396.4,   1.1391,  34.7618,2,  34.7603,2,     -9.0,9,    231.7,2,    96.54,2,    27.85,2,     0.00,2,     1.90,2,    0.007,2,    0.018,2,     -9.0,9,     -9.0,9,-999.0000,  -999.00,9,   0.7864
  33LK19960415,  AR04,    53,  2,      1,2,19960430, -0.3293, -35.0003, 4500,   4552.8,   0.9633,  34.7415,2,  34.7391,2,     -9.0,9,    227.2,2,   105.86,2,    29.03,2,     0.00,2,     2.00,2,    0.004,2,    0.018,2,     -9.0,9,     -9.0,9,-999.0000,  -999.00,9,   0.5987
  33LK19960415,  AR04,    54,  1,      6,2,19960430, -0.6665, -35.0033, -999,      5.3,  28.6774,  35.4154,2,  35.3989,2,     -9.0,9,    197.2,2,     0.89,2,     0.13,2,     0.00,2,     0.03,2,    1.564,2,    0.852,3,   1984.1,2,    373.1,2,   8.1050,    25.00,2,  28.6761
  33LK19960415,  AR04,    54,  1,      5,2,19960430, -0.6665, -35.0033, -999,     49.2,  28.1654,  36.2431,2,  36.2405,2,     -9.0,9,    200.3,2,     0.96,2,     0.12,2,     0.00,2,     0.05,2,    1.635,2,    0.880,3,   2011.0,2,     -9.0,9,   8.0989,    25.00,2,  28.1537
  33LK19960415,  AR04,    54,  1,      4,2,19960430, -0.6665, -35.0033, -999,     99.7,  17.3727,  35.8919,2,  35.9061,2,     -9.0,9,    168.6,2,     3.86,2,     9.48,2,     0.04,2,     0.70,2,    1.787,2,    0.859,3,   2136.0,2,     -9.0,9,   7.9103,    25.00,2,  17.3559
  33LK19960415,  AR04,    54,  1,      3,2,19960430, -0.6665, -35.0033, -999,    203.7,  12.9231,  35.2521,2,  35.2570,2,     -9.0,9,    141.5,2,     7.90,2,    18.77,2,     0.00,2,     1.23,2,    1.347,2,    0.622,3,   2156.5,2,     -9.0,9,   7.7796,    25.00,2,  12.8951
  33LK19960415,  AR04,    54,  1,      2,2,19960430, -0.6665, -35.0033, -999,    346.4,   9.0908,  34.8206,2,  34.8211,2,     -9.0,9,    106.7,2,    15.51,2,    30.24,2,     0.00,2,     1.91,2,    0.524,2,    0.222,3,   2183.7,2,     -9.0,9,   7.6061,    25.00,2,   9.0527
  33LK19960415,  AR04,    54,  1,      1,2,19960430, -0.6665, -35.0033, -999,    500.7,   6.7713,  34.5885,2,  34.5911,2,     -9.0,9,    135.4,2,    21.39,2,    32.12,2,     0.00,2,     2.08,2,    0.357,2,    0.144,3,   2189.9,2,     -9.0,9,   7.5975,    25.00,2,   6.7245