BOTTLE,20090511PRINUNIVRMK
EXPOCODE,SECT_ID,STNNBR,CASTNO,BTLNBR,BTLNBR_FLAG_W,DATE,LATITUDE,LONGITUDE,DEPTH,CTDPRS,CTDTMP,CTDSAL,CTDSAL_FLAG_W,SALNTY,SALNTY_FLAG_W,CTDOXY,CTDOXY_FLAG_W,OXYGEN,OXYGEN_FLAG_W,SILCAT,SILCAT_FLAG_W,NITRAT,NITRAT_FLAG_W,NITRIT,NITRIT_FLAG_W,PHSPHT,PHSPHT_FLAG_W,CFC-11,CFC-11_FLAG_W,CFC-12,CFC-12_FLAG_W,TCARBN,TCARBN_FLAG_W,PCO2,PCO2_FLAG_W,PH_SWS,PH_TEMP,PH_SWS_FLAG_W,THETA
,,,,,,,,,METERS,DBARS,ITS-90,PSS-78,,PSS-78,,UMOL/KG,,UMOL/KG,,UMOL/KG,,UMOL/KG,,UMOL/KG,,UMOL/KG,,PMOL/KG,,PMOL/KG,,UMOL/KG,,PPM,,,DEGC,,DEGC
  33LK19960415,  AR04,    83,  2,     22,2,19960511,  7.0485, -41.5845, -999,    593.1,   7.1001,  34.7013,2,  34.6934,2,    110.5,2,    111.0,2,    21.83,2,    34.17,2,     0.00,2,     2.19,2,    0.116,2,    0.025,2,     -9.0,9,     -9.0,9,-999.0000,  -999.00,9,   7.0428
  33LK19960415,  AR04,    83,  2,     21,2,19960511,  7.0485, -41.5845, -999,    798.2,   5.6339,  34.6455,2,  34.6456,2,    121.5,2,    123.7,2,    27.31,2,    35.03,2,     0.00,2,     2.29,2,    0.012,2,    0.004,2,     -9.0,9,     -9.0,9,-999.0000,  -999.00,9,   5.5645
  33LK19960415,  AR04,    83,  2,     20,2,19960511,  7.0485, -41.5845, -999,    896.9,   5.1028,  34.6648,2,  34.6664,2,    136.0,2,    136.6,2,    28.32,2,    33.89,2,     0.00,2,     2.25,2,    0.000,2,    0.002,2,     -9.0,9,     -9.0,9,-999.0000,  -999.00,9,   5.0278
  33LK19960415,  AR04,    83,  2,     19,2,19960511,  7.0485, -41.5845, -999,    997.1,   4.9032,  34.7298,2,  34.7400,2,    148.6,2,    150.9,2,    27.16,2,    31.79,2,     0.00,2,     2.10,2,   -0.004,2,   -0.002,2,     -9.0,9,     -9.0,9,-999.0000,  -999.00,9,   4.8205
  33LK19960415,  AR04,    83,  2,     18,2,19960511,  7.0485, -41.5845, -999,   1191.6,   4.7113,  34.8688,2,  34.8484,2,    179.7,2,    175.1,2,    24.24,2,    28.15,2,     0.00,2,     1.85,2,   -9.000,9,   -9.000,9,     -9.0,9,     -9.0,9,-999.0000,  -999.00,9,   4.6123
  33LK19960415,  AR04,    83,  2,     17,2,19960511,  7.0485, -41.5845, -999,   1193.2,   4.7127,  34.8713,2,  34.8486,2,    179.7,2,    175.4,2,    24.08,2,    28.09,2,     0.00,2,     1.85,2,    0.012,2,    0.004,2,     -9.0,9,     -9.0,9,-999.0000,  -999.00,9,   4.6135
  33LK19960415,  AR04,    83,  2,     16,2,19960511,  7.0485, -41.5845, -999,   1394.6,   4.6581,  34.9870,2,  34.9836,2,    221.5,2,    218.4,2,    17.58,2,    22.06,2,     0.00,2,     1.41,2,    0.169,2,    0.074,2,     -9.0,9,     -9.0,9,-999.0000,  -999.00,9,   4.5405
  33LK19960415,  AR04,    83,  2,     15,2,19960511,  7.0485, -41.5845, -999,   1492.0,   4.4992,  35.0021,2,  35.0028,2,    235.4,2,    234.0,2,    15.62,2,    20.29,2,     0.00,2,     1.29,2,    0.253,2,    0.108,2,     -9.0,9,     -9.0,9,-999.0000,  -999.00,9,   4.3740
  33LK19960415,  AR04,    83,  2,     14,2,19960511,  7.0485, -41.5845, -999,   1593.7,   4.2097,  34.9947,2,  34.9648,2,    242.6,2,    241.2,2,    15.68,2,    19.86,2,     0.00,2,     1.26,2,    0.200,2,    0.072,2,     -9.0,9,     -9.0,9,-999.0000,  -999.00,9,   4.0784
  33LK19960415,  AR04,    83,  2,     13,2,19960511,  7.0485, -41.5845, -999,   1696.2,   3.9871,  34.9894,2,  34.9929,2,    249.7,2,    248.4,2,    15.68,2,    19.25,2,     0.00,2,     1.22,2,    0.177,2,    0.082,2,     -9.0,9,     -9.0,9,-999.0000,  -999.00,9,   3.8488
  33LK19960415,  AR04,    83,  2,     12,2,19960511,  7.0485, -41.5845, -999,   1795.0,   3.8017,  34.9843,2,  34.9859,2,    253.5,2,    253.2,2,    16.08,2,    18.93,2,     0.00,2,     1.20,2,    0.139,2,    0.068,2,     -9.0,9,     -9.0,9,-999.0000,  -999.00,9,   3.6566
  33LK19960415,  AR04,    83,  2,     11,2,19960511,  7.0485, -41.5845, -999,   1996.7,   3.5193,  34.9733,2,  34.9743,2,    255.1,2,    254.0,2,    18.67,2,    19.13,2,     0.00,2,     1.21,2,    0.048,2,    0.027,2,     -9.0,9,     -9.0,9,-999.0000,  -999.00,9,   3.3592
  33LK19960415,  AR04,    83,  2,     10,2,19960511,  7.0485, -41.5845, -999,   2178.9,   3.3094,  34.9644,2,  34.9651,2,    256.7,2,    256.7,2,    20.19,2,    18.99,2,     0.00,2,     1.21,2,    0.045,2,    0.021,2,     -9.0,9,     -9.0,9,-999.0000,  -999.00,9,   3.1352
  33LK19960415,  AR04,    83,  2,      9,2,19960511,  7.0485, -41.5845, -999,   2397.6,   3.0608,  34.9490,2,  34.9497,2,    254.8,2,    255.1,2,    24.02,2,    19.46,2,     0.00,2,     1.25,2,    0.025,2,    0.017,2,     -9.0,9,     -9.0,9,-999.0000,  -999.00,9,   2.8697
  33LK19960415,  AR04,    83,  2,      8,2,19960511,  7.0485, -41.5845, -999,   2697.9,   2.8821,  34.9396,2,  34.9385,2,    257.0,2,    257.6,2,    25.65,2,    19.31,2,     0.00,2,     1.25,2,    0.050,2,    0.019,2,     -9.0,9,     -9.0,9,-999.0000,  -999.00,9,   2.6647
  33LK19960415,  AR04,    83,  2,      7,2,19960511,  7.0485, -41.5845, -999,   2998.6,   2.6797,  34.9265,2,  34.9265,2,    257.1,2,    257.9,2,    28.45,2,    19.45,2,     0.00,2,     1.26,2,    0.053,2,    0.020,2,     -9.0,9,     -9.0,9,-999.0000,  -999.00,9,   2.4360
  33LK19960415,  AR04,    83,  2,      6,2,19960511,  7.0485, -41.5845, -999,   3297.8,   2.4882,  34.9140,2,  34.9141,2,    259.6,2,    260.3,2,    30.07,2,    19.29,2,     0.00,2,     1.26,2,    0.089,2,    0.029,2,     -9.0,9,     -9.0,9,-999.0000,  -999.00,9,   2.2177
  33LK19960415,  AR04,    83,  2,      5,2,19960511,  7.0485, -41.5845, -999,   3600.5,   2.3330,  34.9028,2,  34.9033,2,    262.1,2,    261.8,2,    31.34,2,    19.22,2,     0.00,2,     1.26,2,    0.075,2,    0.025,2,     -9.0,9,     -9.0,9,-999.0000,  -999.00,9,   2.0338
  33LK19960415,  AR04,    83,  2,      4,2,19960511,  7.0485, -41.5845, -999,   3801.3,   2.2740,  34.8971,2,  34.8955,2,    262.8,2,    262.7,2,    32.21,2,    19.17,2,     0.00,2,     1.27,2,    0.105,2,    0.057,2,     -9.0,9,     -9.0,9,-999.0000,  -999.00,9,   1.9543
  33LK19960415,  AR04,    83,  2,      3,2,19960511,  7.0485, -41.5845, -999,   4001.1,   2.2179,  34.8913,2,  34.8909,2,    262.0,2,    261.9,2,    34.22,2,    19.36,2,     0.00,2,     1.28,2,    0.124,2,    0.063,2,     -9.0,9,     -9.0,9,-999.0000,  -999.00,9,   1.8774
  33LK19960415,  AR04,    83,  2,      2,2,19960511,  7.0485, -41.5845, -999,   4301.4,   1.9825,  34.8583,2,  34.8565,2,    253.8,2,    252.7,2,    49.78,2,    21.82,2,     0.00,2,     1.46,2,    0.066,2,    0.028,2,     -9.0,9,     -9.0,9,-999.0000,  -999.00,9,   1.6146
  33LK19960415,  AR04,    83,  2,      1,2,19960511,  7.0485, -41.5845, -999,   4589.2,   1.5874,  34.8098,2,  34.8070,2,    238.5,2,    245.0,2,    74.17,2,    24.98,2,     0.00,2,     1.70,2,    0.025,2,    0.010,2,     -9.0,9,     -9.0,9,-999.0000,  -999.00,9,   1.1984
  33LK19960415,  AR04,    84,  1,      6,2,19960511,  7.5035, -41.3327, -999,      3.0,  27.1747,  36.1752,2,  36.1777,2,    199.6,2,    201.5,2,     0.90,2,     0.08,2,     0.01,2,     0.00,2,    1.751,2,    0.865,2,   2012.6,2,    371.2,2,   8.1027,    25.00,2,  27.1740
  33LK19960415,  AR04,    84,  1,      5,2,19960511,  7.5035, -41.3327, -999,     79.2,  26.9847,  36.1841,2,  36.1843,2,    204.1,2,    201.2,2,     0.88,2,     0.02,2,     0.01,2,     0.01,2,    1.736,2,    0.849,2,   2013.3,2,     -9.0,9,   8.0924,    25.00,2,  26.9665
  33LK19960415,  AR04,    84,  1,      4,2,19960511,  7.5035, -41.3327, -999,    150.9,  18.4384,  36.0980,2,  35.9292,2,    132.4,2,    119.2,2,     5.68,2,    16.72,2,     0.04,2,     0.95,2,    1.434,2,    0.655,2,   2183.5,2,     -9.0,9,   7.8197,    25.00,2,  18.4119
  33LK19960415,  AR04,    84,  1,      3,2,19960511,  7.5035, -41.3327, -999,    251.2,  10.7779,  35.0918,2,  35.0359,2,    104.0,2,    104.1,2,    12.56,2,    27.87,2,     0.02,2,     1.71,2,    0.706,2,    0.291,2,   2211.0,3,     -9.0,9,   7.6546,    25.00,2,  10.7472
  33LK19960415,  AR04,    84,  1,      2,2,19960511,  7.5035, -41.3327, -999,    403.3,   8.6321,  34.8047,2,  34.8084,2,    115.1,2,    114.0,2,    16.29,2,    30.51,2,     0.01,2,     1.90,2,    0.467,2,    0.175,2,   2207.5,2,     -9.0,9,   7.6296,    25.00,2,   8.5890
  33LK19960415,  AR04,    84,  1,      1,2,19960511,  7.5035, -41.3327, -999,    498.7,   7.6075,  34.7042,2,  34.7060,2,    120.7,2,    119.7,2,    19.49,2,    32.26,2,     0.01,2,     2.05,2,    0.314,2,    0.094,2,   2214.4,2,     -9.0,9,   7.6092,    25.00,2,   7.5577
  33LK19960415,  AR04,    84,  2,     22,2,19960511,  7.5035, -41.3327, -999,    648.6,   6.4208,  34.6545,2,  34.6362,2,    117.4,2,    120.7,2,    24.33,2,    34.46,2,     0.01,2,     2.22,2,    0.092,2,    0.033,2,   2236.1,3,     -9.0,9,   7.5704,    25.00,2,   6.3612
  33LK19960415,  AR04,    84,  2,     21,2,19960511,  7.5035, -41.3327, -999,    799.5,   5.3495,  34.6287,2,  34.6232,2,    130.6,2,    127.6,2,    28.32,2,    35.01,2,     0.01,2,     2.28,2,    0.010,2,    0.007,2,   2227.0,2,     -9.0,9,   7.5609,    25.00,2,   5.2818
  33LK19960415,  AR04,    84,  2,     20,2,19960511,  7.5035, -41.3327, -999,    893.1,   5.1185,  34.6749,2,  34.6632,2,    138.1,2,    133.6,2,    29.38,2,    34.33,2,     0.01,2,     2.25,2,   -0.011,2,   -0.002,2,   2221.9,2,     -9.0,9,   7.5702,    25.00,2,   5.0437
  33LK19960415,  AR04,    84,  2,     19,2,19960511,  7.5035, -41.3327, -999,    995.8,   4.9239,  34.7450,2,  34.7216,2,    152.2,2,    147.7,2,    28.78,2,    32.42,2,     0.01,2,     2.13,2,   -9.000,9,   -9.000,9,   2208.4,2,     -9.0,9,   7.5984,    25.00,2,   4.8412
  33LK19960415,  AR04,    84,  2,     18,2,19960511,  7.5035, -41.3327, -999,    996.2,   4.9219,  34.7455,2,  34.7218,2,    152.2,2,    147.4,2,    29.02,2,    32.62,2,     0.01,2,     2.13,2,   -0.007,2,    0.007,2,   2216.5,2,     -9.0,9,   7.5984,    25.00,2,   4.8392
  33LK19960415,  AR04,    84,  2,     17,2,19960511,  7.5035, -41.3327, -999,   1196.0,   4.6959,  34.8798,2,  34.8541,2,    182.4,2,    175.9,2,    25.60,2,    28.54,2,     0.01,2,     1.84,2,    0.065,2,    0.012,2,   2199.2,2,     -9.0,9,   7.6481,    25.00,2,   4.5966
  33LK19960415,  AR04,    84,  2,     16,2,19960511,  7.5035, -41.3327, -999,   1393.7,   4.5047,  34.9575,2,  34.9674,2,    216.5,2,    215.7,2,    19.42,2,    23.12,2,     0.01,2,     1.44,2,    0.084,2,    0.051,2,   2172.5,2,     -9.0,9,   7.7079,    25.00,2,   4.3888
  33LK19960415,  AR04,    84,  2,     15,2,19960511,  7.5035, -41.3327, -999,   1494.2,   4.3583,  34.9780,2,  34.9811,2,    229.8,2,    229.7,2,    18.01,2,    21.67,2,     0.01,2,     1.35,2,    0.096,2,    0.053,2,   2170.7,2,     -9.0,9,   7.7280,    25.00,2,   4.2346
  33LK19960415,  AR04,    84,  2,     14,2,19960511,  7.5035, -41.3327, -999,   1593.1,   4.2385,  34.9958,2,  34.9951,2,    244.1,2,    241.0,2,    16.61,2,    20.43,2,     0.01,2,     1.26,2,    0.163,2,    0.084,2,   2146.7,3,     -9.0,9,   7.7392,    25.00,2,   4.1068
  33LK19960415,  AR04,    84,  2,     13,2,19960511,  7.5035, -41.3327, -999,   1695.4,   4.0277,  34.9916,2,  34.9933,2,    250.9,2,    249.4,2,    16.26,2,    19.71,2,     0.01,2,     1.21,2,    0.183,2,    0.084,2,   2152.2,2,     -9.0,9,   7.7491,    25.00,2,   3.8890
  33LK19960415,  AR04,    84,  2,     12,2,19960511,  7.5035, -41.3327, -999,   1790.8,   3.8278,  34.9850,2,  34.9860,2,    253.8,2,    252.9,2,    17.22,2,    19.59,2,     0.01,2,     1.20,2,    0.118,2,    0.076,2,   2145.0,3,     -9.0,9,   7.7496,    25.00,2,   3.6827
  33LK19960415,  AR04,    84,  2,     11,2,19960511,  7.5035, -41.3327, -999,   1994.7,   3.5153,  34.9708,2,  34.9719,2,    253.4,2,    253.4,2,    20.13,2,    19.86,2,     0.01,2,     1.22,2,    0.049,2,    0.033,2,   2144.4,3,     -9.0,9,   7.7525,    25.00,2,   3.3554
  33LK19960415,  AR04,    84,  2,     10,2,19960511,  7.5035, -41.3327, -999,   2194.5,   3.2591,  34.9604,2,  34.9631,2,    255.9,2,    256.0,2,    21.88,2,    19.77,2,     0.01,2,     1.22,2,    0.029,2,    0.021,2,   2147.1,3,     -9.0,9,   7.7560,    25.00,2,   3.0842
  33LK19960415,  AR04,    84,  2,      9,2,19960511,  7.5035, -41.3327, -999,   2397.9,   3.0831,  34.9516,2,  34.9539,2,    257.5,2,    257.3,2,    23.89,2,    19.73,2,     0.00,2,     1.22,2,    0.037,2,    0.019,2,   2149.9,2,     -9.0,9,   7.7515,    25.00,2,   2.8916
  33LK19960415,  AR04,    84,  2,      8,2,19960511,  7.5035, -41.3327, -999,   2696.1,   2.8701,  34.9383,2,  34.9394,2,    256.6,2,    257.4,2,    27.20,2,    20.04,2,     0.00,2,     1.24,2,    0.024,2,    0.020,2,   2160.9,2,     -9.0,9,   7.7592,    25.00,2,   2.6531
  33LK19960415,  AR04,    84,  2,      7,2,19960511,  7.5035, -41.3327, -999,   2998.6,   2.6667,  34.9240,2,  34.9257,2,    255.6,2,    256.4,2,    31.60,2,    20.48,2,     0.00,2,     1.27,2,    0.015,2,    0.012,2,   2150.1,3,     -9.0,9,   7.7580,    25.00,2,   2.4233
  33LK19960415,  AR04,    84,  2,      6,2,19960511,  7.5035, -41.3327, -999,   3299.1,   2.5076,  34.9125,2,  34.9144,2,    256.6,2,    256.6,2,    34.57,2,    20.69,2,     0.00,2,     1.29,2,    0.030,2,    0.015,2,   2169.6,2,     -9.0,9,   7.7574,    25.00,2,   2.2365
  33LK19960415,  AR04,    84,  2,      5,2,19960511,  7.5035, -41.3327, -999,   3596.8,   2.3581,  34.9044,2,  34.9034,2,    262.3,2,    262.1,2,    33.45,2,    20.00,2,     0.00,2,     1.25,2,    0.076,2,    0.045,2,   2159.5,3,     -9.0,9,   7.7569,    25.00,2,   2.0587
  33LK19960415,  AR04,    84,  2,      4,2,19960511,  7.5035, -41.3327, -999,   3799.7,   2.2881,  34.8997,2,  34.8983,2,    264.1,2,    263.7,2,    33.18,2,    19.83,2,     0.00,2,     1.24,2,    0.116,2,    0.058,2,   2167.6,2,     -9.0,9,   7.7541,    25.00,2,   1.9682
  33LK19960415,  AR04,    84,  2,      3,2,19960511,  7.5035, -41.3327, -999,   3992.6,   2.2405,  34.8951,2,  34.8922,2,    263.5,2,    263.1,2,    35.24,2,    20.09,2,     0.00,2,     1.25,2,    0.119,2,    0.055,2,   2164.9,2,     -9.0,9,   7.7512,    25.00,2,   1.9003
  33LK19960415,  AR04,    84,  2,      2,2,19960511,  7.5035, -41.3327, -999,   4298.5,   1.9536,  34.8559,2,  34.8564,2,    253.1,2,    252.7,2,    52.91,2,    22.69,2,     0.00,2,     1.43,2,    0.054,2,    0.038,2,   2179.7,3,     -9.0,9,   7.7307,    25.00,2,   1.5869
  33LK19960415,  AR04,    84,  2,      1,2,19960511,  7.5035, -41.3327, -999,   4569.0,   1.6018,  34.8122,2,  34.8101,2,    240.8,2,    241.5,2,    71.11,2,    25.80,2,     0.00,2,     1.67,2,    0.021,2,    0.016,2,   2200.7,3,     -9.0,9,   7.7084,    25.00,2,   1.2147
  33LK19960415,  AR04,    85,  1,      6,2,19960512,  7.9627, -41.1007, -999,      0.7,  27.0884,  35.9088,2,  36.1817,2,    208.9,3,    200.9,2,     0.91,2,     0.11,2,     0.00,2,     0.01,2,    1.737,2,    0.901,2,   2016.9,2,    352.5,2,   8.1114,    25.00,2,  27.0882
  33LK19960415,  AR04,    85,  1,      5,2,19960512,  7.9627, -41.1007, -999,     49.4,  27.1268,  36.1833,2,  36.1817,2,    197.8,3,    200.7,2,     0.86,2,     0.11,2,     0.00,2,     0.00,2,    1.718,2,    0.876,2,     -9.0,9,     -9.0,9,-999.0000,  -999.00,9,  27.1154
  33LK19960415,  AR04,    85,  1,      4,2,19960512,  7.9627, -41.1007, -999,    149.6,  17.0030,  35.8883,2,  35.7844,2,    123.6,2,    116.8,2,     6.29,2,    17.81,2,     0.02,2,     1.03,2,    1.335,2,    0.636,2,     -9.0,9,     -9.0,9,-999.0000,  -999.00,9,  16.9782
  33LK19960415,  AR04,    85,  1,      3,2,19960512,  7.9627, -41.1007, -999,    248.5,  10.4147,  35.0342,2,  35.0208,2,    110.7,2,    105.8,2,    12.54,2,    27.66,2,     0.01,2,     1.71,2,    0.702,2,    0.295,2,     -9.0,9,     -9.0,9,-999.0000,  -999.00,9,  10.3850
  33LK19960415,  AR04,    85,  1,      2,2,19960512,  7.9627, -41.1007, -999,    399.9,   8.5595,  34.8140,2,  34.8082,2,    105.0,2,    105.6,2,    16.83,2,    31.68,2,     0.00,2,     1.98,2,    0.343,2,    0.138,2,     -9.0,9,     -9.0,9,-999.0000,  -999.00,9,   8.5169
  33LK19960415,  AR04,    85,  1,      1,2,19960512,  7.9627, -41.1007, -999,    503.7,   7.5550,  34.7350,2,  34.7354,2,    109.0,2,    107.4,2,    20.01,2,    33.34,2,     0.00,2,     2.12,2,    0.184,2,    0.079,2,     -9.0,9,     -9.0,9,-999.0000,  -999.00,9,   7.5049