BOTTLE,20090511PRINUNIVRMK
EXPOCODE,SECT_ID,STNNBR,CASTNO,BTLNBR,BTLNBR_FLAG_W,DATE,LATITUDE,LONGITUDE,DEPTH,CTDPRS,CTDTMP,CTDSAL,CTDSAL_FLAG_W,SALNTY,SALNTY_FLAG_W,CTDOXY,CTDOXY_FLAG_W,OXYGEN,OXYGEN_FLAG_W,SILCAT,SILCAT_FLAG_W,NITRAT,NITRAT_FLAG_W,NITRIT,NITRIT_FLAG_W,PHSPHT,PHSPHT_FLAG_W,CFC-11,CFC-11_FLAG_W,CFC-12,CFC-12_FLAG_W,TCARBN,TCARBN_FLAG_W,PCO2,PCO2_FLAG_W,PH_SWS,PH_TEMP,PH_SWS_FLAG_W,THETA
,,,,,,,,,METERS,DBARS,ITS-90,PSS-78,,PSS-78,,UMOL/KG,,UMOL/KG,,UMOL/KG,,UMOL/KG,,UMOL/KG,,UMOL/KG,,PMOL/KG,,PMOL/KG,,UMOL/KG,,PPM,,,DEGC,,DEGC
  33LK19960415,  AR04,    58,  1,     22,2,19960501, -2.5025, -34.9998,   25,      2.9,  28.7797,  35.8845,2,  35.9286,2,     -9.0,9,    196.4,2,     0.79,2,     0.04,2,     0.00,2,     0.06,2,    1.559,2,    0.844,2,   1994.9,2,    381.3,2,   8.1064,    25.00,2,  28.7790
  33LK19960415,  AR04,    58,  1,     21,2,19960501, -2.5025, -34.9998,   25,     47.1,  27.1542,  36.3972,2,  36.3981,2,     -9.0,9,    206.2,2,     0.77,2,     0.03,2,     0.00,2,     0.10,2,    1.628,2,    0.854,2,   2023.7,2,     -9.0,9,   8.1039,    25.00,2,  27.1433
  33LK19960415,  AR04,    58,  1,     20,2,19960501, -2.5025, -34.9998,   25,    140.2,  13.1134,  35.2831,2,  35.2781,2,     -9.0,9,    105.1,2,     8.29,2,    22.61,2,     0.00,2,     1.45,2,    1.156,2,    0.481,2,     -9.0,4,     -9.0,9,   7.7224,    25.00,2,  13.0940
  33LK19960415,  AR04,    58,  1,     19,2,19960501, -2.5025, -34.9998,   25,    294.7,  10.8868,  35.0153,2,  35.0307,2,     -9.0,9,     82.3,2,    12.11,2,    29.06,2,     0.00,2,     1.82,2,    0.651,2,    0.235,2,   2197.2,2,     -9.0,9,   7.6200,    25.00,2,  10.8505
  33LK19960415,  AR04,    58,  1,     18,2,19960501, -2.5025, -34.9998,   25,    477.1,   7.2413,  34.6223,2,  34.6334,2,     -9.0,9,    136.2,2,    18.88,2,    30.96,2,     0.00,2,     2.03,2,    0.477,2,    0.190,2,   2195.6,2,     -9.0,9,   7.6218,    25.00,2,   7.1951
  33LK19960415,  AR04,    58,  1,     17,2,19960501, -2.5025, -34.9998,   25,    744.3,   4.7428,  34.4551,2,  34.4542,2,     -9.0,9,    165.5,2,    30.96,2,    33.34,2,     0.00,2,     2.26,2,    0.215,2,    0.082,2,   2194.0,3,     -9.0,9,   7.6052,    25.00,2,   4.6837
  33LK19960415,  AR04,    58,  1,     16,2,19960501, -2.5025, -34.9998,   25,    996.3,   4.3425,  34.6515,2,  34.6654,2,     -9.0,9,    167.2,2,    31.49,2,    31.38,2,     0.00,2,     2.13,2,    0.012,2,    0.004,2,   2190.4,3,     -9.0,9,   7.6176,    25.00,2,   4.2642
  33LK19960415,  AR04,    58,  1,     15,2,19960501, -2.5025, -34.9998,   25,   1193.4,   4.5362,  34.8249,2,  34.8305,2,     -9.0,9,    185.1,2,    25.12,2,    27.39,2,     0.00,2,     1.84,2,    0.046,2,    0.007,2,   2184.3,2,     -9.0,9,   7.6641,    25.00,2,   4.4387
  33LK19960415,  AR04,    58,  1,     14,2,19960501, -2.5025, -34.9998,   25,   1394.8,   4.5377,  34.8993,2,  34.9006,2,     -9.0,9,    202.6,2,    21.80,2,    24.75,2,     0.00,2,     1.64,2,    0.062,2,    0.026,2,   2189.4,2,     -9.0,9,   7.6899,    25.00,2,   4.4215
  33LK19960415,  AR04,    58,  1,     12,2,19960501, -2.5025, -34.9998,   25,   1496.9,   4.3786,  34.9642,2,  34.9624,2,     -9.0,9,    225.1,2,    18.55,2,    21.73,2,     0.00,2,     1.43,2,   -9.000,9,   -9.000,9,   2155.1,3,     -9.0,9,   7.7284,    25.00,2,   4.2544
  33LK19960415,  AR04,    58,  1,     13,2,19960501, -2.5025, -34.9998,   25,   1499.3,   4.3786,  34.9626,2,  34.9622,2,     -9.0,9,    225.3,2,    18.56,2,    21.74,2,     0.00,2,     1.43,2,    0.118,2,    0.041,2,   2162.3,2,     -9.0,9,   7.7285,    25.00,2,   4.2542
  33LK19960415,  AR04,    58,  1,     11,2,19960501, -2.5025, -34.9998,   25,   1595.8,   4.1079,  34.9790,2,  34.9782,2,     -9.0,9,    238.2,2,    17.44,2,    20.35,2,     0.00,2,     1.33,2,    0.124,2,    0.065,2,   2152.5,3,     -9.0,9,   7.7467,    25.00,2,   3.9776
  33LK19960415,  AR04,    58,  1,     10,2,19960501, -2.5025, -34.9998,   25,   1694.9,   4.0164,  34.9803,2,  34.9814,2,     -9.0,9,    244.0,2,    17.28,2,    19.82,2,     0.00,2,     1.30,2,    0.110,2,    0.052,2,   2167.5,2,     -9.0,9,   7.7489,    25.00,2,   3.8779
  33LK19960415,  AR04,    58,  1,      9,2,19960501, -2.5025, -34.9998,   25,   1792.7,   3.9092,  34.9805,2,  34.9811,2,     -9.0,9,    246.2,2,    17.57,2,    19.63,2,     0.00,2,     1.28,2,    0.099,2,    0.043,2,   2168.8,2,     -9.0,9,   7.7509,    25.00,2,   3.7629
  33LK19960415,  AR04,    58,  1,      8,2,19960501, -2.5025, -34.9998,   25,   1994.6,   3.7425,  34.9794,2,  34.9770,2,     -9.0,9,    253.1,2,    18.40,2,    19.03,2,     0.00,2,     1.25,2,    0.124,2,    0.061,2,   2163.4,2,     -9.0,9,   7.7652,    25.00,2,   3.5793
  33LK19960415,  AR04,    58,  1,      7,2,19960501, -2.5025, -34.9998,   25,   2294.2,   3.2615,  34.9624,2,  34.9620,2,     -9.0,9,    257.9,2,    21.61,2,    18.85,2,     0.00,2,     1.24,2,    0.083,2,    0.038,2,   2148.6,3,     -9.0,9,   7.7690,    25.00,2,   3.0769
  33LK19960415,  AR04,    58,  1,      6,2,19960501, -2.5025, -34.9998,   25,   2696.0,   2.8697,  34.9392,2,  34.9384,2,     -9.0,9,    257.7,2,    27.25,2,    19.32,2,     0.00,2,     1.27,2,    0.057,2,    0.029,2,   2181.5,2,     -9.0,9,   7.7685,    25.00,2,   2.6528
  33LK19960415,  AR04,    58,  1,      5,2,19960501, -2.5025, -34.9998,   25,   2996.1,   2.7547,  34.9292,2,  34.9267,2,     -9.0,9,    256.2,2,    30.29,2,    19.76,2,     0.00,2,     1.30,2,    0.057,2,    0.037,2,   2177.9,2,     -9.0,9,   7.7592,    25.00,2,   2.5096
  33LK19960415,  AR04,    58,  1,      4,2,19960501, -2.5025, -34.9998,   25,   3296.9,   2.6392,  34.9229,2,  34.9207,2,     -9.0,9,    259.3,2,    30.46,2,    19.43,2,     0.00,2,     1.28,2,    0.080,2,    0.032,2,   2161.4,2,     -9.0,9,   7.7592,    25.00,2,   2.3652
  33LK19960415,  AR04,    58,  1,      3,2,19960501, -2.5025, -34.9998,   25,   3595.0,   2.3928,  34.9072,2,  34.9061,2,     -9.0,9,    261.8,2,    32.85,2,    19.39,2,     0.00,2,     1.29,2,    0.093,2,    0.048,2,   2161.1,3,     -9.0,9,   7.7666,    25.00,2,   2.0927
  33LK19960415,  AR04,    58,  1,      2,2,19960501, -2.5025, -34.9998,   25,   3794.7,   2.3310,  34.9009,2,  34.8991,2,     -9.0,9,    261.6,2,    34.69,2,    19.53,2,     0.00,2,     1.30,2,    0.090,2,    0.048,2,   2165.4,2,     -9.0,9,   7.7637,    25.00,2,   2.0105
  33LK19960415,  AR04,    58,  1,      1,2,19960501, -2.5025, -34.9998,   25,   3937.6,   2.2334,  34.8901,2,  34.8865,2,     -9.0,9,    257.4,2,    40.19,2,    20.29,2,     0.00,2,     1.35,2,    0.084,2,    0.055,2,   2172.8,2,     -9.0,9,   7.7583,    25.00,2,   1.8996
  33LK19960415,  AR04,    59,  1,     22,2,19960501, -3.0022, -35.0077,   23,      7.0,  28.7394,  35.8888,2,  35.9240,2,     -9.0,9,    197.2,2,     0.86,2,     0.51,2,     0.00,2,     0.05,2,    1.585,2,    0.860,2,     -9.0,9,    395.6,2,-999.0000,  -999.00,9,  28.7377
  33LK19960415,  AR04,    59,  1,     21,2,19960501, -3.0022, -35.0077,   23,     50.0,  26.0967,  36.5265,2,  36.5236,2,     -9.0,9,    209.7,2,     0.84,2,     0.52,2,     0.00,2,     0.07,2,    1.749,2,    0.928,2,     -9.0,9,     -9.0,9,-999.0000,  -999.00,9,  26.0855
  33LK19960415,  AR04,    59,  1,     20,2,19960501, -3.0022, -35.0077,   23,    145.8,  12.6766,  35.2162,2,  35.2440,2,     -9.0,9,    139.8,2,     7.76,2,    19.74,2,     0.00,2,     1.25,2,    1.349,2,    0.638,2,     -9.0,9,     -9.0,9,-999.0000,  -999.00,9,  12.6569
  33LK19960415,  AR04,    59,  1,     19,2,19960501, -3.0022, -35.0077,   23,    344.4,   9.2586,  34.7947,2,  34.7619,2,     -9.0,9,    160.8,2,    13.13,2,    25.10,2,     0.00,2,     1.63,2,    1.026,2,    0.485,2,     -9.0,9,     -9.0,9,-999.0000,  -999.00,9,   9.2203
  33LK19960415,  AR04,    59,  1,     18,2,19960501, -3.0022, -35.0077,   23,    492.7,   7.0665,  34.5708,2,  34.5892,2,     -9.0,9,    167.2,2,    17.44,2,    28.31,2,     0.00,2,     1.85,2,    0.788,2,    0.368,2,     -9.0,9,     -9.0,9,-999.0000,  -999.00,9,   7.0194
  33LK19960415,  AR04,    59,  1,     17,2,19960501, -3.0022, -35.0077,   23,    698.8,   4.7601,  34.4567,2,  34.4571,2,     -9.0,9,    164.3,2,    29.14,2,    33.34,2,     0.00,2,     2.23,2,    0.253,2,    0.097,2,     -9.0,9,     -9.0,9,-999.0000,  -999.00,9,   4.7047
  33LK19960415,  AR04,    59,  1,     16,2,19960501, -3.0022, -35.0077,   23,    894.1,   4.4190,  34.5557,2,  34.5526,2,     -9.0,9,    160.7,2,    32.34,2,    33.41,2,     0.00,2,     2.25,2,    0.051,2,    0.018,2,     -9.0,9,     -9.0,9,-999.0000,  -999.00,9,   4.3491
  33LK19960415,  AR04,    59,  1,     15,2,19960501, -3.0022, -35.0077,   23,    994.4,   4.3029,  34.6246,2,  34.6166,2,     -9.0,9,    164.6,2,    32.01,2,    32.50,2,     0.00,2,     2.19,2,    0.011,2,    0.006,2,     -9.0,9,     -9.0,9,-999.0000,  -999.00,9,   4.2252
  33LK19960415,  AR04,    59,  1,     13,2,19960501, -3.0022, -35.0077,   23,   1195.3,   4.5132,  34.8048,2,  34.7986,2,     -9.0,9,    180.6,2,    25.52,2,    28.73,2,     0.00,2,     1.90,2,   -9.000,9,   -9.000,9,     -9.0,9,     -9.0,9,-999.0000,  -999.00,9,   4.4158
  33LK19960415,  AR04,    59,  1,     14,2,19960501, -3.0022, -35.0077,   23,   1196.3,   4.5148,  34.8016,2,  34.7989,2,     -9.0,9,    180.7,2,    25.52,2,    28.71,2,     0.00,2,     1.89,2,    0.017,2,    0.010,2,     -9.0,9,     -9.0,9,-999.0000,  -999.00,9,   4.4173
  33LK19960415,  AR04,    59,  1,     12,2,19960501, -3.0022, -35.0077,   23,   1395.2,   4.5631,  34.8924,2,  34.8927,2,     -9.0,9,    199.0,2,    21.93,2,    25.74,2,     0.00,2,     1.67,2,    0.056,2,    0.025,2,     -9.0,9,     -9.0,9,-999.0000,  -999.00,9,   4.4466
  33LK19960415,  AR04,    59,  1,     11,2,19960501, -3.0022, -35.0077,   23,   1494.8,   4.3952,  34.9635,2,  34.9653,2,     -9.0,9,    225.9,2,    18.52,2,    22.23,2,     0.00,2,     1.43,2,    0.135,2,    0.068,2,     -9.0,9,     -9.0,9,-999.0000,  -999.00,9,   4.2710
  33LK19960415,  AR04,    59,  1,     10,2,19960501, -3.0022, -35.0077,   23,   1595.8,   4.1729,  34.9781,2,  34.9788,2,     -9.0,9,    238.2,2,    17.53,2,    20.94,2,     0.00,2,     1.33,2,    0.118,2,    0.061,2,     -9.0,9,     -9.0,9,-999.0000,  -999.00,9,   4.0418
  33LK19960415,  AR04,    59,  1,      9,2,19960501, -3.0022, -35.0077,   23,   1694.6,   3.9551,  34.9800,2,  34.9821,2,     -9.0,9,    245.9,2,    17.36,2,    20.27,2,     0.00,2,     1.27,2,    0.097,2,    0.053,2,     -9.0,9,     -9.0,9,-999.0000,  -999.00,9,   3.8174
  33LK19960415,  AR04,    59,  1,      8,2,19960501, -3.0022, -35.0077,   23,   1795.0,   3.8933,  34.9782,2,  34.9808,2,     -9.0,9,    247.8,2,    17.52,2,    20.08,2,     0.00,2,     1.27,2,    0.102,2,    0.063,2,     -9.0,9,     -9.0,9,-999.0000,  -999.00,9,   3.7470
  33LK19960415,  AR04,    59,  1,      7,2,19960501, -3.0022, -35.0077,   23,   1992.4,   3.6636,  34.9759,2,  34.9781,2,     -9.0,9,    254.1,2,    17.81,2,    19.48,2,     0.00,2,     1.23,2,    0.118,2,    0.059,2,     -9.0,9,     -9.0,9,-999.0000,  -999.00,9,   3.5017
  33LK19960415,  AR04,    59,  1,      6,2,19960501, -3.0022, -35.0077,   23,   2296.2,   3.2164,  34.9560,2,  34.9602,2,     -9.0,9,    257.3,2,    21.63,2,    19.45,2,     0.00,2,     1.24,2,    0.070,2,    0.040,2,     -9.0,9,     -9.0,9,-999.0000,  -999.00,9,   3.0324
  33LK19960415,  AR04,    59,  1,      5,2,19960501, -3.0022, -35.0077,   23,   2697.6,   2.8508,  34.9334,2,  34.9338,2,     -9.0,9,    255.6,2,    27.62,2,    20.18,2,     0.00,2,     1.31,2,    0.044,2,    0.030,2,     -9.0,9,     -9.0,9,-999.0000,  -999.00,9,   2.6341
  33LK19960415,  AR04,    59,  1,      4,2,19960501, -3.0022, -35.0077,   23,   2996.8,   2.6662,  34.9113,2,  34.9112,2,     -9.0,9,    246.3,2,    36.22,2,    21.81,2,     0.00,2,     1.41,2,   -0.009,2,    0.005,2,     -9.0,9,     -9.0,9,-999.0000,  -999.00,9,   2.4231
  33LK19960415,  AR04,    59,  1,      3,2,19960501, -3.0022, -35.0077,   23,   3297.0,   2.6113,  34.9147,2,  34.9142,2,     -9.0,9,    253.5,2,    32.71,2,    20.78,2,     0.00,2,     1.35,2,    0.010,2,    0.014,2,     -9.0,9,     -9.0,9,-999.0000,  -999.00,9,   2.3380
  33LK19960415,  AR04,    59,  1,      2,2,19960501, -3.0022, -35.0077,   23,   3596.3,   2.4849,  34.9100,2,  34.9107,2,     -9.0,9,    260.8,2,    29.97,2,    19.78,2,     0.00,2,     1.28,2,    0.074,2,    0.048,2,     -9.0,9,     -9.0,9,-999.0000,  -999.00,9,   2.1823
  33LK19960415,  AR04,    59,  1,      1,2,19960501, -3.0022, -35.0077,   23,   3834.8,   2.2700,  34.8931,2,  34.8937,2,     -9.0,9,    260.9,2,    33.98,2,    20.06,2,     0.00,2,     1.32,2,    0.105,2,    0.056,2,     -9.0,9,     -9.0,9,-999.0000,  -999.00,9,   1.9467
  33LK19960415,  AR04,    60,  1,     22,2,19960501, -3.4995, -34.9088,   25,      3.3,  28.7128,  36.2082,2,  36.2064,2,     -9.0,9,    198.2,2,     0.95,2,     0.11,2,     0.00,2,     0.08,2,    1.624,2,    0.860,2,   2016.8,2,    386.3,2,   8.1054,    25.00,2,  28.7120
  33LK19960415,  AR04,    60,  1,     21,2,19960501, -3.4995, -34.9088,   25,     46.5,  27.2734,  36.8298,2,  36.8098,2,     -9.0,9,    215.8,2,     0.93,2,     0.06,2,     0.00,2,     0.06,2,    1.788,2,    0.927,2,   2041.3,2,     -9.0,9,   8.1257,    25.00,2,  27.2626
  33LK19960415,  AR04,    60,  1,     20,2,19960501, -3.4995, -34.9088,   25,    196.5,  12.3799,  35.1679,2,  35.1408,2,     -9.0,9,    122.9,2,     8.34,2,    21.98,2,     0.01,2,     1.42,2,    1.224,2,    0.561,2,   2170.9,2,     -9.0,9,   7.7233,    25.00,2,  12.3537
  33LK19960415,  AR04,    60,  1,     19,2,19960501, -3.4995, -34.9088,   25,    295.0,   9.3531,  34.8001,2,  34.7638,2,     -9.0,9,    142.6,2,    13.30,2,    26.45,2,     0.00,2,     1.71,2,    0.806,2,    0.366,2,   2167.3,2,     -9.0,9,   7.6830,    25.00,2,   9.3202
  33LK19960415,  AR04,    60,  1,     18,2,19960501, -3.4995, -34.9088,   25,    496.8,   6.0284,  34.5180,2,  34.5211,2,     -9.0,9,    138.6,2,    23.98,2,    33.87,2,     0.00,2,     2.21,2,    0.281,2,    0.104,2,   2197.0,2,     -9.0,9,   7.5869,    25.00,2,   5.9849
  33LK19960415,  AR04,    60,  1,     17,2,19960501, -3.4995, -34.9088,   25,    596.8,   5.3218,  34.4804,2,  34.4834,2,     -9.0,9,    145.5,2,    27.48,2,    34.49,2,     0.00,2,     2.27,2,    0.186,2,    0.087,2,   2213.8,2,     -9.0,9,   7.5806,    25.00,2,   5.2724
  33LK19960415,  AR04,    60,  1,     16,2,19960501, -3.4995, -34.9088,   25,    795.2,   4.3637,  34.4996,2,  34.4988,2,     -9.0,9,    163.8,2,    34.57,2,    33.83,2,     0.00,2,     2.27,2,    0.072,2,    0.045,2,   2215.3,2,     -9.0,9,   7.5925,    25.00,2,   4.3025
  33LK19960415,  AR04,    60,  1,     15,2,19960501, -3.4995, -34.9088,   25,    894.9,   4.4118,  34.5623,2,  34.5662,2,     -9.0,9,    160.2,2,    33.56,2,    33.47,2,     0.00,2,     2.25,2,    0.035,2,    0.011,2,   2209.0,2,     -9.0,9,   7.5967,    25.00,2,   4.3419
  33LK19960415,  AR04,    60,  1,     14,2,19960501, -3.4995, -34.9088,   25,    895.0,   4.4047,  34.5622,2,  34.5666,2,     -9.0,9,    160.1,2,    33.73,2,    33.45,2,     0.00,2,     2.23,2,   -9.000,9,   -9.000,9,   2211.4,2,     -9.0,9,   7.5966,    25.00,2,   4.3348
  33LK19960415,  AR04,    60,  1,     13,2,19960501, -3.4995, -34.9088,   25,    995.0,   4.3244,  34.6129,2,  34.6149,2,     -9.0,9,    161.8,2,    33.51,2,    32.95,2,     0.00,2,     2.21,2,    0.008,2,    0.008,2,   2215.3,2,     -9.0,9,   7.5991,    25.00,2,   4.2465
  33LK19960415,  AR04,    60,  1,     12,2,19960501, -3.4995, -34.9088,   25,   1196.4,   4.4807,  34.7603,2,  34.7576,2,     -9.0,9,    175.6,2,    28.62,2,    29.66,2,     0.00,2,     1.97,2,    0.017,2,    0.014,2,   2221.9,3,     -9.0,9,   7.6359,    25.00,2,   4.3835
  33LK19960415,  AR04,    60,  1,     11,2,19960501, -3.4995, -34.9088,   25,   1294.6,   4.5449,  34.8395,2,  34.8330,2,     -9.0,9,    187.1,2,    25.62,2,    27.56,2,     0.00,2,     1.82,2,    0.033,2,    0.024,2,   2198.1,2,     -9.0,9,   7.6587,    25.00,2,   4.4380
  33LK19960415,  AR04,    60,  1,     10,2,19960501, -3.4995, -34.9088,   25,   1393.4,   4.4895,  34.9205,2,  34.8947,2,     -9.0,9,    201.9,2,    22.61,2,    25.29,2,     0.00,2,     1.65,2,    0.052,2,    0.030,2,   2192.0,2,     -9.0,9,   7.6799,    25.00,2,   4.3739
  33LK19960415,  AR04,    60,  1,      9,2,19960501, -3.4995, -34.9088,   25,   1493.2,   4.4069,  34.9571,2,  34.9536,2,     -9.0,9,    221.3,2,    19.53,2,    22.62,2,     0.00,2,     1.45,2,    0.114,2,    0.053,2,   2183.7,2,     -9.0,9,   7.7194,    25.00,2,   4.2828
  33LK19960415,  AR04,    60,  1,      8,2,19960501, -3.4995, -34.9088,   25,   1594.5,   4.0567,  34.9802,2,  34.9813,2,     -9.0,9,    242.6,2,    17.66,2,    20.31,2,     0.00,2,     1.31,2,    0.128,2,    0.068,2,   2164.4,2,     -9.0,9,   7.7459,    25.00,2,   3.9271
  33LK19960415,  AR04,    60,  1,      7,2,19960501, -3.4995, -34.9088,   25,   1696.0,   3.9887,  34.9810,2,  34.9821,2,     -9.0,9,    245.0,2,    17.82,2,    20.10,2,     0.00,2,     1.29,2,    0.102,2,    0.054,2,   2172.5,2,     -9.0,9,   7.7486,    25.00,2,   3.8505
  33LK19960415,  AR04,    60,  1,      6,2,19960501, -3.4995, -34.9088,   25,   1794.2,   3.8222,  34.9796,2,  34.9821,2,     -9.0,9,    249.6,2,    18.38,2,    19.70,2,     0.00,2,     1.26,2,    0.105,2,    0.056,2,   2170.0,2,     -9.0,9,   7.7497,    25.00,2,   3.6769
  33LK19960415,  AR04,    60,  1,      5,2,19960501, -3.4995, -34.9088,   25,   1895.0,   3.7083,  34.9779,2,  34.9792,2,     -9.0,9,    252.6,2,    18.77,2,    19.46,2,     0.00,2,     1.24,2,    0.131,2,    0.071,2,   2184.7,3,     -9.0,9,   7.7517,    25.00,2,   3.5551
  33LK19960415,  AR04,    60,  1,      4,2,19960501, -3.4995, -34.9088,   25,   1995.3,   3.6222,  34.9755,2,  34.9786,2,     -9.0,9,    254.0,2,    18.98,2,    19.32,2,     0.00,2,     1.23,2,    0.104,2,    0.057,2,   2199.3,3,     -9.0,9,   7.7541,    25.00,2,   3.4607
  33LK19960415,  AR04,    60,  1,      3,2,19960501, -3.4995, -34.9088,   25,   2143.0,   3.4212,  34.9688,2,  34.9698,2,     -9.0,9,    257.2,2,    20.75,2,    19.23,2,     0.00,2,     1.22,2,    0.096,2,    0.046,2,   2201.0,3,     -9.0,9,   7.7565,    25.00,2,   3.2486
  33LK19960415,  AR04,    60,  1,      2,2,19960501, -3.4995, -34.9088,   25,   2245.5,   3.3065,  34.9637,2,  34.9640,2,     -9.0,9,    257.7,2,    21.75,2,    19.21,2,     0.00,2,     1.23,2,    0.079,2,    0.044,2,   2168.9,2,     -9.0,9,   7.7585,    25.00,2,   3.1259
  33LK19960415,  AR04,    60,  1,      1,2,19960501, -3.4995, -34.9088,   25,   2344.1,   3.0859,  34.9490,2,  34.9486,2,     -9.0,9,    254.6,2,    26.58,2,    19.96,2,     0.00,2,     1.27,2,    0.037,2,    0.027,2,   2221.6,3,     -9.0,9,   7.7589,    25.00,2,   2.8996