BOTTLE,20090511PRINUNIVRMK
EXPOCODE,SECT_ID,STNNBR,CASTNO,BTLNBR,BTLNBR_FLAG_W,DATE,LATITUDE,LONGITUDE,DEPTH,CTDPRS,CTDTMP,CTDSAL,CTDSAL_FLAG_W,SALNTY,SALNTY_FLAG_W,CTDOXY,CTDOXY_FLAG_W,OXYGEN,OXYGEN_FLAG_W,SILCAT,SILCAT_FLAG_W,NITRAT,NITRAT_FLAG_W,NITRIT,NITRIT_FLAG_W,PHSPHT,PHSPHT_FLAG_W,CFC-11,CFC-11_FLAG_W,CFC-12,CFC-12_FLAG_W,TCARBN,TCARBN_FLAG_W,PCO2,PCO2_FLAG_W,PH_SWS,PH_TEMP,PH_SWS_FLAG_W,THETA
,,,,,,,,,METERS,DBARS,ITS-90,PSS-78,,PSS-78,,UMOL/KG,,UMOL/KG,,UMOL/KG,,UMOL/KG,,UMOL/KG,,UMOL/KG,,PMOL/KG,,PMOL/KG,,UMOL/KG,,PPM,,,DEGC,,DEGC
  33LK19960415,  AR04,    33,  2,     22,2,19960424,  7.5008, -37.3362, -999,    595.8,   6.8858,  34.6641,2,  34.6639,2,    115.7,2,    115.3,2,    22.74,2,    29.37,3,     0.00,2,     2.27,2,    0.128,2,    0.017,2,   2214.3,2,     -9.0,9,   7.5750,    25.00,2,   6.8292
  33LK19960415,  AR04,    33,  2,     21,2,19960424,  7.5008, -37.3362, -999,    795.7,   5.7885,  34.6388,2,  34.6352,2,    122.1,2,    123.6,2,    28.36,2,    29.91,3,     0.00,2,     2.37,2,    0.006,2,   -0.002,2,   2220.8,2,     -9.0,9,   7.5669,    25.00,2,   5.7184
  33LK19960415,  AR04,    33,  2,     20,2,19960424,  7.5008, -37.3362, -999,    896.3,   5.2168,  34.6555,2,  34.6624,2,    135.8,2,    137.1,2,    30.04,2,    40.56,3,     0.00,2,     2.32,2,   -0.005,2,   -0.002,2,   2222.6,2,     -9.0,9,   7.5807,    25.00,2,   5.1411
  33LK19960415,  AR04,    33,  2,     19,2,19960424,  7.5008, -37.3362, -999,    995.1,   4.9718,  34.7251,2,  34.7208,2,    149.3,2,    148.1,2,    29.40,2,    38.05,3,     0.00,2,     2.19,2,   -0.002,2,    0.000,2,   2208.8,2,     -9.0,9,   7.6082,    25.00,2,   4.8888
  33LK19960415,  AR04,    33,  2,     18,2,19960424,  7.5008, -37.3362, -999,   1196.5,   4.7465,  34.8694,2,  34.8697,2,    182.0,2,    180.8,2,    24.96,2,    32.36,3,     0.00,2,     1.86,2,    0.016,2,   -0.001,2,   2188.5,2,     -9.0,9,   7.6673,    25.00,2,   4.6467
  33LK19960415,  AR04,    33,  2,     17,2,19960424,  7.5008, -37.3362, -999,   1395.4,   4.5418,  34.9432,2,  34.9424,2,    209.8,2,    209.2,2,    21.15,2,    28.42,3,     0.00,2,     1.62,2,    0.035,2,    0.010,2,   2179.2,2,     -9.0,9,   7.7085,    25.00,2,   4.4254
  33LK19960415,  AR04,    33,  2,     16,2,19960424,  7.5008, -37.3362, -999,   1495.3,   4.4071,  34.9661,2,  34.9672,2,    221.6,2,    222.3,2,    19.44,2,    26.79,3,     0.00,2,     1.50,2,    0.056,2,    0.018,2,   2161.0,2,     -9.0,9,   7.7195,    25.00,2,   4.2827
  33LK19960415,  AR04,    33,  2,     15,2,19960424,  7.5008, -37.3362, -999,   1595.0,   4.2544,  34.9893,2,  34.9897,2,    238.9,2,    237.4,2,    17.33,2,    24.68,3,     0.00,2,     1.34,2,    0.133,2,    0.051,2,   2137.0,3,     -9.0,9,   7.7395,    25.00,2,   4.1224
  33LK19960415,  AR04,    33,  2,     14,2,19960424,  7.5008, -37.3362, -999,   1690.0,   4.0831,  34.9880,2,  34.9896,2,    245.7,4,    245.7,2,    17.14,2,    23.89,3,     0.00,2,     1.31,2,    0.120,2,    0.049,2,   2143.0,3,     -9.0,9,   7.7498,    25.00,2,   3.9442
  33LK19960415,  AR04,    33,  2,     13,2,19960424,  7.5008, -37.3362, -999,   1795.1,   3.9021,  34.9817,2,  34.9843,2,    247.6,2,    247.6,2,    18.08,2,    23.71,3,     0.00,2,     1.31,2,    0.070,2,    0.025,2,   2139.7,3,     -9.0,9,   7.7509,    25.00,2,   3.7556
  33LK19960415,  AR04,    33,  2,     12,2,19960424,  7.5008, -37.3362, -999,   1995.6,   3.5674,  34.9712,2,  34.9721,2,    251.2,4,    250.8,2,    20.65,2,    23.41,3,     0.00,2,     1.33,2,    0.023,2,    0.009,2,   2136.1,3,     -9.0,9,   7.7533,    25.00,2,   3.4067
  33LK19960415,  AR04,    33,  2,     10,2,19960424,  7.5008, -37.3362, -999,   2196.8,   3.2691,  34.9566,2,  34.9567,2,    252.5,2,    252.5,2,    24.15,2,    23.20,3,     0.00,2,     1.33,2,    0.002,2,    0.006,2,   2131.4,3,     -9.0,9,   7.7562,    25.00,2,   3.0938
  33LK19960415,  AR04,    33,  2,     11,2,19960424,  7.5008, -37.3362, -999,   2198.0,   3.2689,  34.9565,2,  34.9567,2,    252.5,2,    252.7,2,    24.19,2,    23.47,3,     0.00,2,     1.33,2,   -9.000,9,   -9.000,9,   2123.0,3,     -9.0,9,   7.7562,    25.00,2,   3.0935
  33LK19960415,  AR04,    33,  2,      9,2,19960424,  7.5008, -37.3362, -999,   2397.0,   3.0441,  34.9448,2,  34.9450,2,    252.7,2,    253.6,2,    27.20,2,    23.04,3,     0.00,2,     1.32,2,    0.000,2,    0.000,2,   2122.2,3,     -9.0,9,   7.7602,    25.00,2,   2.8534
  33LK19960415,  AR04,    33,  2,      8,2,19960424,  7.5008, -37.3362, -999,   2696.7,   2.8381,  34.9321,2,  34.9330,2,    253.9,2,    254.7,2,    30.14,2,    22.87,3,     0.00,2,     1.32,2,    0.018,2,    0.007,2,   2167.2,2,     -9.0,9,   7.7588,    25.00,2,   2.6217
  33LK19960415,  AR04,    33,  2,      7,2,19960424,  7.5008, -37.3362, -999,   2996.1,   2.6581,  34.9235,2,  34.9218,2,    255.0,2,    255.6,2,    33.19,2,    22.87,3,     0.00,2,     1.37,2,    0.006,2,    0.002,2,   2139.3,3,     -9.0,9,   7.7578,    25.00,2,   2.4152
  33LK19960415,  AR04,    33,  2,      6,2,19960424,  7.5008, -37.3362, -999,   3295.6,   2.5333,  34.9136,2,  34.9133,2,    256.2,4,    256.4,2,    35.37,2,    22.58,3,     0.00,2,     1.37,2,    0.024,2,    0.006,2,   2138.3,3,     -9.0,9,   7.7577,    25.00,2,   2.2619
  33LK19960415,  AR04,    33,  2,      5,2,19960424,  7.5008, -37.3362, -999,   3594.5,   2.3816,  34.9013,2,  34.9012,2,    257.1,2,    257.4,2,    37.80,2,    22.53,3,     0.00,2,     1.38,2,    0.046,2,    0.015,2,   2169.1,2,     -9.0,9,   7.7571,    25.00,2,   2.0819
  33LK19960415,  AR04,    33,  2,      4,2,19960424,  7.5008, -37.3362, -999,   3796.5,   2.2109,  34.8850,2,  34.8844,2,    255.9,2,    256.3,2,    43.27,2,    22.75,3,     0.00,2,     1.41,2,    0.038,2,    0.015,2,   2167.2,2,     -9.0,9,   7.7528,    25.00,2,   1.8935
  33LK19960415,  AR04,    33,  2,      3,2,19960424,  7.5008, -37.3362, -999,   3994.9,   2.0649,  34.8688,2,  34.8667,2,    253.6,2,    253.2,2,    50.58,2,    23.70,3,     0.00,2,     1.48,2,    0.032,2,    0.006,2,   2174.8,2,     -9.0,9,   7.7488,    25.00,2,   1.7295
  33LK19960415,  AR04,    33,  2,      2,2,19960424,  7.5008, -37.3362, -999,   4295.4,   1.8708,  34.8437,2,  34.8414,2,    248.4,2,    248.0,2,    61.26,3,    24.84,3,     0.00,2,     1.61,2,    0.028,2,    0.004,2,   2174.9,3,     -9.0,9,   7.7295,    25.00,2,   1.5070
  33LK19960415,  AR04,    33,  2,      1,2,19960424,  7.5008, -37.3362, -999,   4556.6,   1.7780,  34.8298,2,  34.8286,2,    245.5,2,    244.8,2,    66.71,3,    25.63,3,     0.00,2,     1.67,2,    0.018,2,    0.002,2,   2162.7,3,     -9.0,9,   7.7194,    25.00,2,   1.3867
  33LK19960415,  AR04,    34,  1,     22,2,19960425,  7.5087, -36.6732,   23,    593.6,   6.8410,  34.6756,2,  34.6786,2,    113.1,2,    110.6,2,    22.87,2,    33.64,2,     0.00,2,     2.27,2,    0.110,2,    0.037,2,     -9.0,9,     -9.0,9,-999.0000,  -999.00,9,   6.7848
  33LK19960415,  AR04,    34,  1,     21,2,19960425,  7.5087, -36.6732,   23,    793.7,   5.5792,  34.6359,2,  34.6324,2,    123.9,2,    122.6,2,    28.29,2,    34.36,2,     0.00,2,     2.35,2,    0.006,2,   -0.002,2,     -9.0,9,     -9.0,9,-999.0000,  -999.00,9,   5.5106
  33LK19960415,  AR04,    34,  1,     20,2,19960425,  7.5087, -36.6732,   23,    993.8,   4.9478,  34.7058,2,  34.7168,2,    144.6,2,    146.7,2,    28.91,2,    31.61,2,     0.00,2,     2.20,2,    0.010,2,    0.003,2,     -9.0,9,     -9.0,9,-999.0000,  -999.00,9,   4.8651
  33LK19960415,  AR04,    34,  1,     19,2,19960425,  7.5087, -36.6732,   23,   1192.5,   4.7476,  34.8424,2,  34.8642,2,    176.1,2,    180.4,2,    24.37,2,    26.72,2,     0.00,2,     1.85,2,    0.023,2,    0.009,2,     -9.0,9,     -9.0,9,-999.0000,  -999.00,9,   4.6482
  33LK19960415,  AR04,    34,  1,     18,2,19960425,  7.5087, -36.6732,   23,   1394.5,   4.6053,  34.9432,2,  34.9408,2,    207.0,2,    205.2,2,    20.70,2,    23.42,2,     0.00,2,     1.61,2,    0.044,2,    0.014,2,     -9.0,9,     -9.0,9,-999.0000,  -999.00,9,   4.4883
  33LK19960415,  AR04,    34,  1,     17,2,19960425,  7.5087, -36.6732,   23,   1496.1,   4.4992,  34.9609,2,  34.9597,2,    218.0,2,    216.1,2,    19.43,2,    22.14,2,     0.00,2,     1.51,2,    0.066,2,    0.025,2,     -9.0,9,     -9.0,9,-999.0000,  -999.00,9,   4.3738
  33LK19960415,  AR04,    34,  1,     16,2,19960425,  7.5087, -36.6732,   23,   1590.5,   4.2333,  34.9771,2,  34.9707,2,    232.9,2,    225.6,2,    18.79,2,    21.28,2,     0.00,2,     1.44,2,    0.059,2,    0.019,2,     -9.0,9,     -9.0,9,-999.0000,  -999.00,9,   4.1020
  33LK19960415,  AR04,    34,  1,     15,2,19960425,  7.5087, -36.6732,   23,   1686.6,   4.1318,  34.9868,2,  34.9827,2,    241.3,2,    238.5,2,    17.72,2,    20.05,2,     0.00,2,     1.31,2,    0.082,2,    0.035,2,     -9.0,9,     -9.0,9,-999.0000,  -999.00,9,   3.9926
  33LK19960415,  AR04,    34,  1,     14,2,19960425,  7.5087, -36.6732,   23,   1793.8,   3.8924,  34.9836,2,  34.9857,2,    248.7,2,    248.1,2,    17.43,2,    19.17,2,     0.00,2,     1.23,2,    0.087,2,    0.036,2,     -9.0,9,     -9.0,9,-999.0000,  -999.00,9,   3.7462
  33LK19960415,  AR04,    34,  1,     13,2,19960425,  7.5087, -36.6732,   23,   1993.1,   3.5947,  34.9710,2,  34.9734,2,    249.5,2,    250.3,2,    20.17,2,    19.26,2,     0.00,2,     1.24,2,    0.024,2,    0.010,2,     -9.0,9,     -9.0,9,-999.0000,  -999.00,9,   3.4338
  33LK19960415,  AR04,    34,  1,     12,2,19960425,  7.5087, -36.6732,   23,   2292.4,   3.2479,  34.9545,2,  34.9532,2,    251.9,2,    252.2,2,    24.76,2,    19.49,2,     0.00,2,     1.31,2,    0.001,2,    0.013,2,     -9.0,9,     -9.0,9,-999.0000,  -999.00,9,   3.0638
  33LK19960415,  AR04,    34,  1,     11,2,19960425,  7.5087, -36.6732,   23,   2691.5,   2.9012,  34.9371,2,  34.9361,2,    254.2,2,    254.4,2,    29.19,2,    19.63,2,     0.00,2,     1.27,2,    0.006,2,    0.004,2,     -9.0,9,     -9.0,9,-999.0000,  -999.00,9,   2.6841
  33LK19960415,  AR04,    34,  1,     10,2,19960425,  7.5087, -36.6732,   23,   2991.3,   2.7367,  34.9267,2,  34.9278,2,    256.1,2,    256.1,2,    30.98,2,    19.52,2,     0.00,2,     1.27,2,    0.015,2,    0.011,2,     -9.0,9,     -9.0,9,-999.0000,  -999.00,9,   2.4925
  33LK19960415,  AR04,    34,  1,      9,2,19960425,  7.5087, -36.6732,   23,   3299.6,   2.5549,  34.9146,2,  34.9144,2,    256.1,2,    256.1,2,    34.33,2,    19.80,2,     0.00,2,     1.30,2,    0.018,2,    0.008,2,     -9.0,9,     -9.0,9,-999.0000,  -999.00,9,   2.2826
  33LK19960415,  AR04,    34,  1,      8,2,19960425,  7.5087, -36.6732,   23,   3594.3,   2.4095,  34.9027,2,  34.9016,2,    256.3,2,    258.9,2,    37.82,2,    20.00,2,     0.00,2,     1.34,2,    0.049,2,    0.027,2,     -9.0,9,     -9.0,9,-999.0000,  -999.00,9,   2.1091
  33LK19960415,  AR04,    34,  1,      7,2,19960425,  7.5087, -36.6732,   23,   3796.0,   2.2492,  34.8868,2,  34.8853,2,    254.8,2,    255.0,2,    43.24,2,    20.57,2,     0.00,2,     1.38,2,    0.036,2,    0.019,2,     -9.0,9,     -9.0,9,-999.0000,  -999.00,9,   1.9309
  33LK19960415,  AR04,    34,  1,      6,2,19960425,  7.5087, -36.6732,   23,   3994.2,   2.1684,  34.8772,2,  34.8788,2,    253.3,2,    254.0,2,    46.16,2,    20.83,2,     0.00,2,     1.41,2,    0.032,2,    0.015,2,     -9.0,9,     -9.0,9,-999.0000,  -999.00,9,   1.8301
  33LK19960415,  AR04,    34,  1,      5,2,19960425,  7.5087, -36.6732,   23,   4293.6,   1.9915,  34.8568,2,  34.8593,2,    251.0,2,    251.6,2,    52.58,2,    21.67,2,     0.00,2,     1.45,2,    0.042,2,    0.023,2,     -9.0,9,     -9.0,9,-999.0000,  -999.00,9,   1.6242
  33LK19960415,  AR04,    34,  1,      4,2,19960425,  7.5087, -36.6732,   23,   4692.7,   1.9546,  34.8477,2,  34.8476,2,    249.4,2,    248.8,2,    58.51,2,    22.41,2,     0.00,2,     1.52,2,    0.029,2,    0.011,2,     -9.0,9,     -9.0,9,-999.0000,  -999.00,9,   1.5414
  33LK19960415,  AR04,    34,  1,      3,2,19960425,  7.5087, -36.6732,   23,   4996.0,   1.9867,  34.8468,2,  34.8449,2,    249.2,2,    248.3,2,    58.78,2,    22.49,2,     0.00,2,     1.54,2,    0.026,2,    0.006,2,     -9.0,9,     -9.0,9,-999.0000,  -999.00,9,   1.5353
  33LK19960415,  AR04,    34,  1,      2,2,19960425,  7.5087, -36.6732,   23,   5297.7,   2.0179,  34.8467,2,  34.8449,2,    248.7,2,    248.0,2,    59.27,2,    22.58,2,     0.00,2,     1.56,2,    0.027,2,    0.007,2,     -9.0,9,     -9.0,9,-999.0000,  -999.00,9,   1.5273
  33LK19960415,  AR04,    34,  1,      1,2,19960425,  7.5087, -36.6732,   23,   5619.6,   2.0613,  34.8447,2,  34.8438,2,    248.3,2,    248.0,2,    59.52,2,    22.59,2,     0.00,2,     1.55,2,    0.025,2,    0.010,2,     -9.0,9,     -9.0,9,-999.0000,  -999.00,9,   1.5273
  33LK19960415,  AR04,    34,  2,      6,2,19960425,  7.5087, -36.6732,   23,      5.8,  26.6060,  36.1462,2,  36.1520,2,    202.1,3,    202.8,2,     0.96,2,     0.02,2,     0.00,2,     0.04,2,    1.749,2,    0.901,2,   2013.8,2,    348.0,2,   8.0943,    25.00,2,  26.6047
  33LK19960415,  AR04,    34,  2,      5,2,19960425,  7.5087, -36.6732,   23,     36.5,  26.5963,  36.1582,2,  36.1517,2,    203.1,3,    202.6,2,     0.95,2,     0.02,2,     0.00,2,     0.04,2,    1.659,2,    0.860,2,     -9.0,9,     -9.0,9,-999.0000,  -999.00,9,  26.5880
  33LK19960415,  AR04,    34,  2,      4,2,19960425,  7.5087, -36.6732,   23,    149.5,  11.4756,  35.1358,2,  35.1222,2,    135.9,2,    134.2,2,    10.43,2,    22.24,2,     0.00,2,     1.48,2,    1.075,2,    0.412,2,     -9.0,9,     -9.0,9,-999.0000,  -999.00,9,  11.4567
  33LK19960415,  AR04,    34,  2,      3,2,19960425,  7.5087, -36.6732,   23,    249.9,   9.6014,  34.8859,2,  34.8896,2,    128.6,2,    131.0,2,    13.60,2,    25.92,2,     0.00,2,     1.71,2,    0.821,2,    0.325,2,     -9.0,9,     -9.0,9,-999.0000,  -999.00,9,   9.5731
  33LK19960415,  AR04,    34,  2,      2,2,19960425,  7.5087, -36.6732,   23,    403.3,   8.4527,  34.7707,2,  34.7712,2,    123.5,2,    124.7,2,    16.56,2,    28.95,2,     0.00,2,     1.92,2,    0.555,2,    0.230,2,     -9.0,9,     -9.0,9,-999.0000,  -999.00,9,   8.4101
  33LK19960415,  AR04,    34,  2,      1,2,19960425,  7.5087, -36.6732,   23,    506.6,   7.5631,  34.7130,2,  34.7129,2,    109.9,2,    109.3,2,    20.41,2,    32.61,2,     0.00,2,     2.16,2,    0.243,2,    0.073,2,     -9.0,9,     -9.0,9,-999.0000,  -999.00,9,   7.5127
  33LK19960415,  AR04,    35,  1,      6,2,19960425,  7.5007, -36.0010, -999,      5.8,  27.2647,  35.9594,2,  35.9611,2,     -9.0,9,    202.0,2,     0.73,2,     0.11,2,     0.00,2,     0.01,2,    1.759,2,    0.875,2,   1995.4,2,    347.0,2,   8.1142,    25.00,2,  27.2634
  33LK19960415,  AR04,    35,  1,      5,2,19960425,  7.5007, -36.0010, -999,     51.0,  25.9361,  36.2516,2,  36.2269,2,     -9.0,9,    207.4,2,     0.72,2,     0.12,2,     0.00,2,     0.02,2,    1.819,2,    0.884,2,   2019.9,2,     -9.0,9,   8.1059,    25.00,2,  25.9247
  33LK19960415,  AR04,    35,  1,      4,2,19960425,  7.5007, -36.0010, -999,    150.6,  11.3317,  35.1174,2,  35.1321,2,     -9.0,9,    132.0,2,    10.26,2,    22.05,2,     0.00,2,     1.46,2,    1.108,2,    0.405,2,   2172.6,2,     -9.0,9,   7.7351,    25.00,2,  11.3128
  33LK19960415,  AR04,    35,  1,      3,2,19960425,  7.5007, -36.0010, -999,    249.1,   9.8192,  34.9243,2,  34.9276,2,     -9.0,9,    117.4,2,    13.34,2,    26.47,2,     0.00,2,     1.76,2,    0.726,2,    0.281,2,   2197.6,2,     -9.0,9,   7.6597,    25.00,2,   9.7906
  33LK19960415,  AR04,    35,  1,      2,2,19960425,  7.5007, -36.0010, -999,    401.5,   8.7513,  34.8134,2,  34.8241,2,     -9.0,9,    109.9,2,    15.90,2,    29.13,2,     0.00,2,     1.95,2,    0.466,2,    0.112,2,   2200.0,2,     -9.0,9,   7.6219,    25.00,2,   8.7080
  33LK19960415,  AR04,    35,  1,      1,2,19960425,  7.5007, -36.0010, -999,    504.0,   8.1324,  34.7506,2,  34.7563,2,     -9.0,9,    109.2,2,    18.12,2,    30.69,2,     0.00,2,     2.07,2,    0.314,2,    0.053,2,   2206.2,2,     -9.0,9,   7.5983,    25.00,2,   8.0801