BOTTLE,20090511PRINUNIVRMK
EXPOCODE,SECT_ID,STNNBR,CASTNO,BTLNBR,BTLNBR_FLAG_W,DATE,LATITUDE,LONGITUDE,DEPTH,CTDPRS,CTDTMP,CTDSAL,CTDSAL_FLAG_W,SALNTY,SALNTY_FLAG_W,CTDOXY,CTDOXY_FLAG_W,OXYGEN,OXYGEN_FLAG_W,SILCAT,SILCAT_FLAG_W,NITRAT,NITRAT_FLAG_W,NITRIT,NITRIT_FLAG_W,PHSPHT,PHSPHT_FLAG_W,CFC-11,CFC-11_FLAG_W,CFC-12,CFC-12_FLAG_W,TCARBN,TCARBN_FLAG_W,PCO2,PCO2_FLAG_W,PH_SWS,PH_TEMP,PH_SWS_FLAG_W,THETA
,,,,,,,,,METERS,DBARS,ITS-90,PSS-78,,PSS-78,,UMOL/KG,,UMOL/KG,,UMOL/KG,,UMOL/KG,,UMOL/KG,,UMOL/KG,,PMOL/KG,,PMOL/KG,,UMOL/KG,,PPM,,,DEGC,,DEGC
  33LK19960415,  AR04,    67,  1,     19,2,19960507,  0.5008, -45.0507,   25,      2.6,  28.4001,  33.3650,2,  33.4136,2,    199.8,3,    188.4,2,     6.58,2,     0.28,2,     0.05,2,     0.05,2,    1.612,2,    0.867,2,   1902.3,2,    384.3,2,   8.0909,    25.00,2,  28.3995
  33LK19960415,  AR04,    67,  1,     18,2,19960507,  0.5008, -45.0507,   25,     49.5,  26.5221,  36.4718,2,  36.3672,2,    200.3,3,    188.6,2,     1.75,2,     1.87,2,     0.24,2,     0.19,2,    1.651,2,    0.864,2,     -9.0,9,     -9.0,9,-999.0000,  -999.00,9,  26.5108
  33LK19960415,  AR04,    67,  1,     17,2,19960507,  0.5008, -45.0507,   25,     98.2,  24.4899,  36.8117,2,  36.8144,2,    196.9,3,    196.2,2,     1.21,2,     0.92,2,     0.23,2,     0.18,2,    1.781,2,    0.923,2,     -9.0,9,     -9.0,9,-999.0000,  -999.00,9,  24.4688
  33LK19960415,  AR04,    67,  1,     16,2,19960507,  0.5008, -45.0507,   25,    246.6,  10.0596,  34.9089,2,  34.8477,2,    153.8,3,    156.5,2,    11.76,2,    23.38,2,     0.00,2,     1.53,2,    1.125,2,    0.488,2,     -9.0,9,     -9.0,9,-999.0000,  -999.00,9,  10.0309
  33LK19960415,  AR04,    67,  1,     15,2,19960507,  0.5008, -45.0507,   25,    345.1,   8.9958,  34.7798,2,  34.7598,2,    157.1,3,    156.3,2,    13.55,2,    25.18,2,     0.00,2,     1.65,2,    0.972,2,    0.424,2,     -9.0,9,     -9.0,9,-999.0000,  -999.00,9,   8.9581
  33LK19960415,  AR04,    67,  1,     14,2,19960507,  0.5008, -45.0507,   25,    496.2,   6.4059,  34.5661,2,  34.5612,2,    140.9,3,    142.4,2,    22.22,2,    32.27,2,     0.00,2,     2.13,2,    0.338,2,    0.142,2,     -9.0,9,     -9.0,9,-999.0000,  -999.00,9,   6.3610
  33LK19960415,  AR04,    67,  1,     13,2,19960507,  0.5008, -45.0507,   25,    694.6,   5.1733,  34.5024,2,  34.5034,2,    153.3,3,    152.8,2,    28.57,2,    33.49,2,     0.00,2,     2.25,2,    0.223,2,    0.071,2,     -9.0,9,     -9.0,9,-999.0000,  -999.00,9,   5.1160
  33LK19960415,  AR04,    67,  1,     12,2,19960507,  0.5008, -45.0507,   25,    844.0,   4.6942,  34.5304,2,  34.5320,2,    156.5,3,    155.0,2,    31.14,2,    33.53,2,     0.00,2,     2.27,2,    0.088,2,    0.038,2,     -9.0,9,     -9.0,9,-999.0000,  -999.00,9,   4.6268
  33LK19960415,  AR04,    67,  1,     11,2,19960507,  0.5008, -45.0507,   25,    995.3,   4.6067,  34.6030,2,  34.5994,2,    156.8,3,    156.8,2,    31.36,2,    32.88,2,     0.00,2,     2.23,2,    0.032,2,    0.010,2,     -9.0,9,     -9.0,9,-999.0000,  -999.00,9,   4.5266
  33LK19960415,  AR04,    67,  1,     10,2,19960507,  0.5008, -45.0507,   25,   1198.9,   4.7389,  34.9001,2,  34.9109,2,    194.6,3,    198.9,2,    21.39,2,    24.90,2,     0.00,2,     1.64,2,    0.102,2,    0.049,2,     -9.0,9,     -9.0,9,-999.0000,  -999.00,9,   4.6389
  33LK19960415,  AR04,    67,  1,      9,2,19960507,  0.5008, -45.0507,   25,   1395.6,   4.5363,  34.9900,2,  34.9877,2,    227.4,3,    226.5,2,    17.34,2,    21.21,2,     0.00,2,     1.38,2,    0.199,2,    0.102,2,     -9.0,9,     -9.0,9,-999.0000,  -999.00,9,   4.4198
  33LK19960415,  AR04,    67,  1,      8,2,19960507,  0.5008, -45.0507,   25,   1496.1,   4.3529,  34.9963,2,  34.9949,2,    238.5,3,    237.9,2,    16.31,2,    20.16,2,     0.00,2,     1.29,2,    0.265,2,    0.136,2,     -9.0,9,     -9.0,9,-999.0000,  -999.00,9,   4.2290
  33LK19960415,  AR04,    67,  1,      7,2,19960507,  0.5008, -45.0507,   25,   1600.7,   4.2288,  35.0004,2,  34.9978,2,    245.9,3,    244.4,2,    15.88,2,    19.54,2,     0.00,2,     1.25,2,    0.286,2,    0.146,2,     -9.0,9,     -9.0,9,-999.0000,  -999.00,9,   4.0965
  33LK19960415,  AR04,    67,  1,      6,2,19960507,  0.5008, -45.0507,   25,   1694.9,   4.1055,  34.9981,2,  34.9968,2,    250.3,3,    248.5,2,    15.85,2,    19.21,2,     0.00,2,     1.23,2,    0.294,2,    0.141,2,     -9.0,9,     -9.0,9,-999.0000,  -999.00,9,   3.9658
  33LK19960415,  AR04,    67,  1,      5,2,19960507,  0.5008, -45.0507,   25,   1794.3,   3.8390,  34.9912,2,  34.9901,2,    256.7,3,    255.3,2,    16.00,2,    18.69,2,     0.00,2,     1.19,2,    0.361,2,    0.148,2,     -9.0,9,     -9.0,9,-999.0000,  -999.00,9,   3.6934
  33LK19960415,  AR04,    67,  1,      4,2,19960507,  0.5008, -45.0507,   25,   1896.2,   3.8058,  34.9901,2,  34.9867,2,    254.7,3,    255.5,2,    16.81,2,    18.72,2,     0.00,2,     1.19,2,    0.246,2,    0.117,2,     -9.0,9,     -9.0,9,-999.0000,  -999.00,9,   3.6510
  33LK19960415,  AR04,    67,  1,      3,2,19960507,  0.5008, -45.0507,   25,   1996.4,   3.5342,  34.9779,2,  34.9767,2,    257.5,3,    258.8,2,    18.29,2,    18.62,2,     0.00,2,     1.19,2,    0.191,2,    0.093,2,     -9.0,9,     -9.0,9,-999.0000,  -999.00,9,   3.3739
  33LK19960415,  AR04,    67,  1,      2,2,19960507,  0.5008, -45.0507,   25,   2129.9,   3.3581,  34.9700,2,  34.9687,2,    257.2,3,    259.5,2,    19.64,2,    18.65,2,     0.00,2,     1.19,2,   -9.000,9,   -9.000,9,     -9.0,9,     -9.0,9,-999.0000,  -999.00,9,   3.1878
  33LK19960415,  AR04,    67,  1,      1,2,19960507,  0.5008, -45.0507,   25,   2130.1,   3.3580,  34.9700,2,  34.9696,2,    257.2,3,    259.5,2,    19.48,2,    18.69,2,     0.00,2,     1.19,2,    0.146,2,    0.085,2,     -9.0,9,     -9.0,9,-999.0000,  -999.00,9,   3.1877
  33LK19960415,  AR04,    68,  1,     22,2,19960507,  0.6263, -45.0137,   25,      1.2,  28.5686,  33.2855,2,  33.2563,2,    184.4,4,    191.2,2,     6.46,2,     0.00,3,     0.01,2,     0.03,2,    1.637,2,    0.895,2,   1905.2,3,    379.3,2,   8.1034,    25.00,2,  28.5683
  33LK19960415,  AR04,    68,  1,     21,2,19960507,  0.6263, -45.0137,   25,     49.7,  27.0172,  36.4013,2,  36.5008,2,    186.7,2,    183.3,2,     1.49,2,     0.89,3,     0.36,2,     0.18,2,    1.711,2,    0.901,2,   2081.2,2,     -9.0,9,   8.0517,    25.00,2,  27.0057
  33LK19960415,  AR04,    68,  1,     20,2,19960507,  0.6263, -45.0137,   25,    197.8,  11.6135,  35.0871,2,  35.0097,2,    162.4,2,    160.8,2,     8.93,2,    18.15,3,     0.00,2,     1.32,2,    1.406,2,    0.642,2,   2169.3,2,     -9.0,9,   7.7698,    25.00,2,  11.5882
  33LK19960415,  AR04,    68,  1,     19,2,19960507,  0.6263, -45.0137,   25,    297.2,   9.0041,  34.7926,2,  34.7711,2,    147.6,2,    150.9,2,    13.39,2,    23.64,3,     0.00,2,     1.69,2,    0.936,2,    0.432,2,   2195.9,2,     -9.0,9,   7.6874,    25.00,2,   8.9717
  33LK19960415,  AR04,    68,  1,     18,2,19960507,  0.6263, -45.0137,   25,    495.8,   6.5349,  34.5760,2,  34.5711,2,    143.0,2,    140.5,2,    21.19,2,    29.89,3,     0.00,2,     2.12,2,    0.373,2,    0.136,2,   2227.6,2,     -9.0,9,   7.6124,    25.00,2,   6.4895
  33LK19960415,  AR04,    68,  1,     17,2,19960507,  0.6263, -45.0137,   25,    596.8,   6.0409,  34.5365,2,  34.5325,2,    149.0,2,    147.8,2,    23.07,2,    30.16,3,     0.00,2,     2.15,2,    0.331,2,    0.138,2,   2223.5,2,     -9.0,9,   7.6091,    25.00,2,   5.9881
  33LK19960415,  AR04,    68,  1,     16,2,19960507,  0.6263, -45.0137,   25,    697.3,   5.1428,  34.5063,2,  34.5074,2,    148.9,2,    148.5,2,    27.97,2,    31.65,3,     0.00,2,     2.30,2,    0.108,2,    0.047,2,   2218.9,2,     -9.0,9,   7.5908,    25.00,2,   5.0855
  33LK19960415,  AR04,    68,  1,     15,2,19960507,  0.6263, -45.0137,   25,    847.0,   4.6897,  34.5334,2,  34.5370,2,    153.9,2,    152.5,2,    30.40,2,    31.40,3,     0.00,2,     2.31,2,    0.050,2,    0.020,2,   2239.2,3,     -9.0,9,   7.5898,    25.00,2,   4.6220
  33LK19960415,  AR04,    68,  1,     14,2,19960507,  0.6263, -45.0137,   25,    995.4,   4.5468,  34.5993,2,  34.5972,2,    158.2,2,    159.1,2,    30.28,2,    30.15,3,     0.00,2,     2.23,2,    0.033,2,    0.016,2,   2223.0,2,     -9.0,9,   7.6114,    25.00,2,   4.4672
  33LK19960415,  AR04,    68,  1,     13,2,19960507,  0.6263, -45.0137,   25,   1194.4,   4.7810,  34.8956,2,  34.8782,2,    190.6,2,    186.7,2,    22.34,2,    25.13,3,     0.00,2,     1.76,2,    0.064,2,    0.036,2,   2205.2,2,     -9.0,9,   7.6769,    25.00,2,   4.6811
  33LK19960415,  AR04,    68,  1,     12,2,19960507,  0.6263, -45.0137,   25,   1397.1,   4.4888,  34.9657,2,  34.9554,2,    218.0,2,    214.8,2,    18.81,2,    21.60,3,     0.00,2,     1.50,2,    0.099,2,    0.054,2,   2189.5,2,     -9.0,9,   7.7171,    25.00,2,   4.3728
  33LK19960415,  AR04,    68,  1,     11,2,19960507,  0.6263, -45.0137,   25,   1495.2,   4.3313,  34.9969,2,  34.9913,2,    238.4,2,    237.0,2,    16.05,2,    19.19,3,     0.00,2,     1.31,2,    0.198,2,    0.103,2,   2181.4,2,     -9.0,9,   7.7463,    25.00,2,   4.2077
  33LK19960415,  AR04,    68,  1,     10,2,19960507,  0.6263, -45.0137,   25,   1595.7,   4.1674,  34.9969,2,  34.9965,2,    246.9,2,    246.4,2,    15.24,2,    18.32,3,     0.00,2,     1.25,2,    0.234,2,    0.125,2,   2178.6,2,     -9.0,9,   7.7569,    25.00,2,   4.0363
  33LK19960415,  AR04,    68,  1,      9,2,19960507,  0.6263, -45.0137,   25,   1695.8,   3.8906,  34.9925,2,  34.9931,2,    256.6,2,    256.6,2,    14.84,2,    17.36,3,     0.00,2,     1.18,2,    0.305,2,    0.155,2,   2170.7,2,     -9.0,9,   7.7658,    25.00,2,   3.7536
  33LK19960415,  AR04,    68,  1,      8,2,19960507,  0.6263, -45.0137,   25,   1795.1,   3.6754,  34.9839,2,  34.9842,2,    259.0,2,    258.7,2,    16.01,2,    17.21,3,     0.00,2,     1.17,2,    0.241,2,    0.131,2,   2159.0,2,     -9.0,9,   7.7662,    25.00,2,   3.5320
  33LK19960415,  AR04,    68,  1,      7,2,19960507,  0.6263, -45.0137,   25,   1997.5,   3.4266,  34.9722,2,  34.9737,2,    259.9,2,    259.8,2,    17.90,2,    17.22,3,     0.00,2,     1.19,2,    0.163,2,    0.086,2,   2177.4,2,     -9.0,9,   7.7606,    25.00,2,   3.2678
  33LK19960415,  AR04,    68,  1,      6,2,19960507,  0.6263, -45.0137,   25,   2196.5,   3.2461,  34.9628,2,  34.9639,2,    261.2,2,    260.5,2,    19.65,2,    17.36,3,     0.00,2,     1.20,2,    0.145,2,    0.071,2,   2190.9,3,     -9.0,9,   7.7652,    25.00,2,   3.0712
  33LK19960415,  AR04,    68,  1,      5,2,19960507,  0.6263, -45.0137,   25,   2398.3,   3.0671,  34.9500,2,  34.9531,2,    260.0,2,    260.3,2,    22.04,2,    17.62,3,     0.00,2,     1.21,2,    0.150,2,    0.054,2,   2189.4,2,     -9.0,9,   7.7699,    25.00,2,   2.8758
  33LK19960415,  AR04,    68,  1,      4,2,19960507,  0.6263, -45.0137,   25,   2597.7,   2.9371,  34.9454,2,  34.9439,2,    260.5,3,    259.5,2,    24.22,2,    18.80,3,     0.00,2,     1.23,2,    0.075,2,    0.042,2,   2184.9,2,     -9.0,9,   7.7659,    25.00,2,   2.7286
  33LK19960415,  AR04,    68,  1,      2,2,19960507,  0.6263, -45.0137,   25,   2798.9,   2.7847,  34.9329,2,  34.9352,2,    259.5,2,    259.5,2,    26.18,2,    18.86,3,     0.00,2,     1.25,2,   -9.000,9,   -9.000,9,   2185.2,2,     -9.0,9,   7.7618,    25.00,2,   2.5591
  33LK19960415,  AR04,    68,  1,      3,2,19960507,  0.6263, -45.0137,   25,   2800.8,   2.7870,  34.9316,2,  34.9356,2,    259.6,2,    259.5,2,    26.17,2,    18.84,3,     0.00,2,     1.25,2,    0.083,2,    0.048,2,   2196.6,3,     -9.0,9,   7.7619,    25.00,2,   2.5612
  33LK19960415,  AR04,    68,  1,      1,2,19960507,  0.6263, -45.0137,   25,   3017.1,   2.6958,  34.9277,2,  34.9274,2,    258.8,3,    260.2,2,    27.57,2,    18.80,3,     0.00,2,     1.26,2,    0.091,2,    0.055,2,   2181.3,2,     -9.0,9,   7.7591,    25.00,2,   2.4499
  33LK19960415,  AR04,    69,  1,     22,2,19960507,  1.0488, -44.7685,   20,      1.2,  28.9999,  33.1784,2,  33.2454,2,    198.6,3,    197.1,2,     6.45,2,     0.21,2,     0.00,2,     0.01,2,    1.634,2,    0.882,2,   1882.9,2,    367.2,2,   8.1198,    25.00,2,  28.9996
  33LK19960415,  AR04,    69,  1,     21,2,19960507,  1.0488, -44.7685,   20,     48.3,  28.5754,  36.3354,2,  36.7591,2,    194.3,3,    198.8,2,     1.32,2,     0.69,2,     0.22,2,     0.14,2,    1.786,2,    0.924,2,     -9.0,9,     -9.0,9,-999.0000,  -999.00,9,  28.5638
  33LK19960415,  AR04,    69,  1,     20,2,19960507,  1.0488, -44.7685,   20,    197.0,  11.7722,  35.1162,2,  35.0606,2,    157.6,3,    155.0,2,     9.77,2,    20.49,2,     0.00,2,     1.33,2,    1.349,2,    0.616,2,     -9.0,9,     -9.0,9,-999.0000,  -999.00,9,  11.7468
  33LK19960415,  AR04,    69,  1,     19,2,19960507,  1.0488, -44.7685,   20,    296.6,   9.3983,  34.8381,2,  34.8309,2,    145.6,3,    147.3,2,    13.38,2,    25.39,2,     0.00,2,     1.63,2,    0.980,2,    0.421,2,     -9.0,9,     -9.0,9,-999.0000,  -999.00,9,   9.3651
  33LK19960415,  AR04,    69,  1,     18,2,19960507,  1.0488, -44.7685,   20,    497.5,   6.8068,  34.5971,2,  34.5728,2,    141.0,2,    146.1,2,    21.68,2,    31.85,2,     0.00,2,     2.07,2,    0.428,2,    0.180,2,     -9.0,9,     -9.0,9,-999.0000,  -999.00,9,   6.7602
  33LK19960415,  AR04,    69,  1,     17,2,19960507,  1.0488, -44.7685,   20,    697.5,   5.0248,  34.5042,2,  34.5033,2,    150.9,2,    149.5,2,    29.82,2,    34.54,2,     0.00,2,     2.29,2,    0.103,2,    0.044,2,     -9.0,9,     -9.0,9,-999.0000,  -999.00,9,   4.9681
  33LK19960415,  AR04,    69,  1,     16,2,19960507,  1.0488, -44.7685,   20,    894.4,   4.6296,  34.5579,2,  34.5602,2,    152.9,4,    153.3,2,    31.93,2,    33.99,2,     0.00,2,     2.28,2,    0.025,2,    0.010,2,     -9.0,9,     -9.0,9,-999.0000,  -999.00,9,   4.5582
  33LK19960415,  AR04,    69,  1,     15,2,19960507,  1.0488, -44.7685,   20,    996.8,   4.5588,  34.6093,2,  34.6043,2,    158.5,2,    159.0,2,    31.60,2,    32.92,2,     0.00,2,     2.21,2,    0.021,2,    0.004,2,     -9.0,9,     -9.0,9,-999.0000,  -999.00,9,   4.4790
  33LK19960415,  AR04,    69,  1,     14,2,19960507,  1.0488, -44.7685,   20,   1196.1,   4.7154,  34.8504,2,  34.8438,2,    182.7,2,    183.7,2,    24.70,2,    27.49,2,     0.00,2,     1.82,2,    0.030,2,    0.014,2,     -9.0,9,     -9.0,9,-999.0000,  -999.00,9,   4.6160
  33LK19960415,  AR04,    69,  1,     13,2,19960507,  1.0488, -44.7685,   20,   1396.3,   4.4853,  34.9626,2,  34.9603,2,    218.4,2,    218.5,2,    19.04,2,    23.73,2,     0.00,2,     1.47,2,    0.103,2,    0.044,2,     -9.0,9,     -9.0,9,-999.0000,  -999.00,9,   4.3694
  33LK19960415,  AR04,    69,  1,     12,2,19960507,  1.0488, -44.7685,   20,   1493.5,   4.3768,  34.9948,2,  34.9947,2,    236.5,2,    237.3,2,    16.33,2,    21.22,2,     0.00,2,     1.30,2,    0.222,2,    0.117,2,     -9.0,9,     -9.0,9,-999.0000,  -999.00,9,   4.2529
  33LK19960415,  AR04,    69,  1,     11,2,19960507,  1.0488, -44.7685,   20,   1596.3,   4.0908,  34.9936,2,  34.9917,2,    248.4,2,    246.1,2,    16.29,2,    20.36,2,     0.00,2,     1.25,2,    0.193,2,    0.093,2,     -9.0,9,     -9.0,9,-999.0000,  -999.00,9,   3.9606
  33LK19960415,  AR04,    69,  1,     10,2,19960507,  1.0488, -44.7685,   20,   1695.8,   3.9589,  34.9917,2,  34.9903,2,    252.2,2,    250.5,2,    16.32,2,    19.61,2,     0.00,2,     1.21,2,    0.200,2,    0.098,2,     -9.0,9,     -9.0,9,-999.0000,  -999.00,9,   3.8210
  33LK19960415,  AR04,    69,  1,      9,2,19960507,  1.0488, -44.7685,   20,   1796.2,   3.7156,  34.9832,2,  34.9837,2,    254.9,2,    254.8,2,    17.35,2,    19.32,2,     0.00,2,     1.20,2,    0.138,2,    0.081,2,     -9.0,9,     -9.0,9,-999.0000,  -999.00,9,   3.5715
  33LK19960415,  AR04,    69,  1,      8,2,19960507,  1.0488, -44.7685,   20,   1988.1,   3.3888,  34.9693,2,  34.9707,2,    257.7,2,    259.5,2,    19.76,2,    19.32,2,     0.00,2,     1.21,2,    0.112,2,    0.064,2,     -9.0,9,     -9.0,9,-999.0000,  -999.00,9,   3.2314
  33LK19960415,  AR04,    69,  1,      7,2,19960507,  1.0488, -44.7685,   20,   2296.6,   3.0555,  34.9504,2,  34.9514,2,    258.1,2,    258.0,2,    23.72,2,    19.32,2,     0.00,2,     1.24,2,    0.043,2,    0.025,2,     -9.0,9,     -9.0,9,-999.0000,  -999.00,9,   2.8742
  33LK19960415,  AR04,    69,  1,      6,2,19960507,  1.0488, -44.7685,   20,   2697.5,   2.8139,  34.9341,2,  34.9364,2,    257.4,2,    257.9,2,    27.28,2,    19.45,2,     0.00,2,     1.26,2,    0.053,2,    0.041,2,     -9.0,9,     -9.0,9,-999.0000,  -999.00,9,   2.5979
  33LK19960415,  AR04,    69,  1,      5,2,19960507,  1.0488, -44.7685,   20,   2997.1,   2.7291,  34.9288,2,  34.9297,2,    257.9,2,    259.4,2,    28.28,2,    19.30,2,     0.00,2,     1.26,2,    0.117,2,    0.044,2,     -9.0,9,     -9.0,9,-999.0000,  -999.00,9,   2.4845
  33LK19960415,  AR04,    69,  1,      3,2,19960507,  1.0488, -44.7685,   20,   3298.9,   2.5546,  34.9180,2,  34.9179,2,    260.5,2,    260.9,2,    29.88,2,    20.07,2,     0.00,2,     1.25,2,   -9.000,9,   -9.000,9,     -9.0,9,     -9.0,9,-999.0000,  -999.00,9,   2.2824
  33LK19960415,  AR04,    69,  1,      4,2,19960507,  1.0488, -44.7685,   20,   3300.2,   2.5550,  34.9175,2,  34.9183,2,    260.6,2,    261.1,2,    30.09,2,    19.05,2,     0.00,2,     1.25,2,    0.116,2,    0.055,2,     -9.0,9,     -9.0,9,-999.0000,  -999.00,9,   2.2826
  33LK19960415,  AR04,    69,  1,      2,2,19960507,  1.0488, -44.7685,   20,   3600.3,   2.3970,  34.9063,2,  34.9076,2,    264.0,2,    263.8,2,    30.75,2,    19.51,2,     0.00,2,     1.24,2,    0.155,2,    0.074,2,     -9.0,9,     -9.0,9,-999.0000,  -999.00,9,   2.0962
  33LK19960415,  AR04,    69,  1,      1,2,19960507,  1.0488, -44.7685,   20,   3870.8,   2.3672,  34.9018,2,  34.9028,2,    263.1,2,    263.4,2,    31.93,2,    19.57,2,     0.00,2,     1.25,2,    0.148,2,    0.075,2,     -9.0,9,     -9.0,9,-999.0000,  -999.00,9,   2.0372