BOTTLE,20090511PRINUNIVRMK
EXPOCODE,SECT_ID,STNNBR,CASTNO,BTLNBR,BTLNBR_FLAG_W,DATE,LATITUDE,LONGITUDE,DEPTH,CTDPRS,CTDTMP,CTDSAL,CTDSAL_FLAG_W,SALNTY,SALNTY_FLAG_W,CTDOXY,CTDOXY_FLAG_W,OXYGEN,OXYGEN_FLAG_W,SILCAT,SILCAT_FLAG_W,NITRAT,NITRAT_FLAG_W,NITRIT,NITRIT_FLAG_W,PHSPHT,PHSPHT_FLAG_W,CFC-11,CFC-11_FLAG_W,CFC-12,CFC-12_FLAG_W,TCARBN,TCARBN_FLAG_W,PCO2,PCO2_FLAG_W,PH_SWS,PH_TEMP,PH_SWS_FLAG_W,THETA
,,,,,,,,,METERS,DBARS,ITS-90,PSS-78,,PSS-78,,UMOL/KG,,UMOL/KG,,UMOL/KG,,UMOL/KG,,UMOL/KG,,UMOL/KG,,PMOL/KG,,PMOL/KG,,UMOL/KG,,PPM,,,DEGC,,DEGC
  33LK19960415,  AR04,    85,  2,     22,2,19960512,  7.9627, -41.1007, -999,    746.8,   5.7858,  34.6325,2,  34.6342,2,    123.4,2,    123.9,2,    26.63,2,    34.81,2,     0.00,2,     2.26,2,    0.022,2,    0.006,2,     -9.0,9,     -9.0,9,-999.0000,  -999.00,9,   5.7203
  33LK19960415,  AR04,    85,  2,     21,2,19960512,  7.9627, -41.1007, -999,    895.1,   5.1464,  34.6678,2,  34.6758,2,    137.2,2,    139.4,2,    28.69,2,    33.43,2,     0.00,2,     2.21,2,   -9.000,9,   -9.000,9,     -9.0,9,     -9.0,9,-999.0000,  -999.00,9,   5.0712
  33LK19960415,  AR04,    85,  2,     20,2,19960512,  7.9627, -41.1007, -999,    895.3,   5.1468,  34.6675,2,  34.6760,2,    137.2,2,    139.3,2,    28.74,2,    33.43,2,     0.00,2,     2.22,2,   -0.010,2,    0.006,2,     -9.0,9,     -9.0,9,-999.0000,  -999.00,9,   5.0716
  33LK19960415,  AR04,    85,  2,     19,2,19960512,  7.9627, -41.1007, -999,    995.5,   4.9593,  34.7367,2,  34.7960,2,    150.4,2,    150.3,2,    28.07,2,    31.96,2,     0.00,2,     2.11,2,   -0.012,2,    0.005,2,     -9.0,9,     -9.0,9,-999.0000,  -999.00,9,   4.8762
  33LK19960415,  AR04,    85,  2,     18,2,19960512,  7.9627, -41.1007, -999,   1196.7,   4.7291,  34.8946,2,  34.8929,2,    188.4,2,    187.0,2,    22.66,2,    26.38,2,     0.00,2,     1.72,2,    0.022,2,    0.020,2,     -9.0,9,     -9.0,9,-999.0000,  -999.00,9,   4.6294
  33LK19960415,  AR04,    85,  2,     17,2,19960512,  7.9627, -41.1007, -999,   1393.2,   4.5807,  34.9657,2,  34.9607,2,    217.3,2,    215.3,2,    19.00,2,    22.85,2,     0.00,2,     1.46,2,    0.082,2,    0.038,2,     -9.0,9,     -9.0,9,-999.0000,  -999.00,9,   4.4641
  33LK19960415,  AR04,    85,  2,     16,2,19960512,  7.9627, -41.1007, -999,   1496.1,   4.4838,  35.0004,2,  35.0015,2,    234.4,2,    235.8,2,    15.93,2,    20.25,2,     0.00,2,     1.28,2,    0.214,2,    0.093,2,     -9.0,9,     -9.0,9,-999.0000,  -999.00,9,   4.3584
  33LK19960415,  AR04,    85,  2,     15,2,19960512,  7.9627, -41.1007, -999,   1594.8,   4.2326,  34.9973,2,  34.9975,2,    244.7,2,    243.7,2,    15.57,2,    19.65,2,     0.00,2,     1.23,2,    0.202,2,    0.092,2,     -9.0,9,     -9.0,9,-999.0000,  -999.00,9,   4.1008
  33LK19960415,  AR04,    85,  2,     14,2,19960512,  7.9627, -41.1007, -999,   1696.7,   4.0660,  34.9925,2,  34.9907,2,    249.3,2,    247.2,2,    16.16,2,    19.53,2,     0.00,2,     1.22,2,    0.120,2,    0.065,2,     -9.0,9,     -9.0,9,-999.0000,  -999.00,9,   3.9267
  33LK19960415,  AR04,    85,  2,     13,2,19960512,  7.9627, -41.1007, -999,   1795.5,   3.8263,  34.9809,2,  34.9817,2,    248.9,2,    248.5,2,    17.82,2,    19.66,2,     0.00,2,     1.23,2,    0.047,2,    0.038,2,     -9.0,9,     -9.0,9,-999.0000,  -999.00,9,   3.6808
  33LK19960415,  AR04,    85,  2,     12,2,19960512,  7.9627, -41.1007, -999,   1994.7,   3.5761,  34.9740,2,  34.9740,2,    253.2,2,    254.0,2,    18.96,2,    19.28,2,     0.00,2,     1.21,2,    0.046,2,    0.033,2,     -9.0,9,     -9.0,9,-999.0000,  -999.00,9,   3.4153
  33LK19960415,  AR04,    85,  2,     11,2,19960512,  7.9627, -41.1007, -999,   2196.6,   3.3082,  34.9606,2,  34.9594,2,    254.2,2,    255.3,2,    21.87,2,    19.40,2,     0.00,2,     1.22,2,    0.031,2,    0.027,2,     -9.0,9,     -9.0,9,-999.0000,  -999.00,9,   3.1323
  33LK19960415,  AR04,    85,  2,     10,2,19960512,  7.9627, -41.1007, -999,   2396.0,   3.1177,  34.9475,2,  34.9474,2,    254.3,2,    254.2,2,    25.09,2,    19.73,2,     0.00,2,     1.26,2,    0.000,2,    0.010,2,     -9.0,9,     -9.0,9,-999.0000,  -999.00,9,   2.9258
  33LK19960415,  AR04,    85,  2,      9,2,19960512,  7.9627, -41.1007, -999,   2698.2,   2.8944,  34.9382,2,  34.9347,2,    254.4,2,    254.6,2,    28.19,2,    19.94,2,     0.00,2,     1.28,2,    0.004,2,    0.006,2,     -9.0,9,     -9.0,9,-999.0000,  -999.00,9,   2.6768
  33LK19960415,  AR04,    85,  2,      8,2,19960512,  7.9627, -41.1007, -999,   2997.0,   2.7330,  34.9268,2,  34.9251,2,    254.9,2,    255.9,2,    30.70,2,    20.04,2,     0.00,2,     1.29,2,    0.013,2,    0.007,2,     -9.0,9,     -9.0,9,-999.0000,  -999.00,9,   2.4883
  33LK19960415,  AR04,    85,  2,      7,2,19960512,  7.9627, -41.1007, -999,   3297.9,   2.5382,  34.9110,2,  34.9078,2,    253.7,2,    253.6,2,    36.73,2,    20.77,2,     0.00,2,     1.34,2,    0.005,2,    0.013,2,     -9.0,9,     -9.0,9,-999.0000,  -999.00,9,   2.2665
  33LK19960415,  AR04,    85,  2,      6,2,19960512,  7.9627, -41.1007, -999,   3600.0,   2.3492,  34.8942,2,  34.8952,2,    253.6,2,    254.2,2,    40.29,2,    20.96,2,     0.00,2,     1.36,2,    0.018,2,    0.024,2,     -9.0,9,     -9.0,9,-999.0000,  -999.00,9,   2.0497
  33LK19960415,  AR04,    85,  2,      5,2,19960512,  7.9627, -41.1007, -999,   3796.6,   2.2257,  34.8818,2,  34.8807,2,    252.2,2,    252.6,2,    44.87,2,    21.59,2,     0.00,2,     1.40,2,    0.026,2,    0.036,2,     -9.0,9,     -9.0,9,-999.0000,  -999.00,9,   1.9079
  33LK19960415,  AR04,    85,  2,      4,2,19960512,  7.9627, -41.1007, -999,   3995.8,   2.1424,  34.8759,2,  34.8710,2,    253.9,2,    254.9,2,    45.49,2,    21.35,2,     0.00,2,     1.39,2,    0.048,2,    0.044,2,     -9.0,9,     -9.0,9,-999.0000,  -999.00,9,   1.8047
  33LK19960415,  AR04,    85,  2,      3,2,19960512,  7.9627, -41.1007, -999,   4199.2,   1.9282,  34.8527,2,  34.8487,2,    251.5,2,    250.6,2,    54.82,2,    22.68,2,     0.00,2,     1.49,2,    0.031,2,    0.019,2,     -9.0,9,     -9.0,9,-999.0000,  -999.00,9,   1.5737
  33LK19960415,  AR04,    85,  2,      2,2,19960512,  7.9627, -41.1007, -999,   4496.8,   1.7424,  34.8281,2,  34.8251,2,    245.5,2,    245.1,2,    64.84,2,    24.11,2,     0.00,2,     1.60,2,    0.022,2,    0.018,2,     -9.0,9,     -9.0,9,-999.0000,  -999.00,9,   1.3592
  33LK19960415,  AR04,    85,  2,      1,2,19960512,  7.9627, -41.1007, -999,   4766.1,   1.6924,  34.8162,2,  34.8163,2,    242.3,2,    243.1,2,    68.79,2,    24.81,2,     0.00,2,     1.64,2,    0.016,2,    0.017,2,     -9.0,9,     -9.0,9,-999.0000,  -999.00,9,   1.2790
  33LK19960415,  AR04,    86,  1,     22,2,19960512,  8.4005, -40.8545,   25,      2.4,  27.2173,  36.1502,2,  36.1483,2,    201.3,3,    199.8,2,     0.59,2,     0.20,2,     0.00,2,     0.01,2,    1.689,2,    0.899,2,   2016.7,2,    357.2,2,   8.0933,    25.00,2,  27.2167
  33LK19960415,  AR04,    86,  1,     21,2,19960512,  8.4005, -40.8545,   25,     55.7,  27.2425,  36.1493,2,  36.1479,2,    197.8,3,    199.6,2,     0.52,2,     0.21,2,     0.00,2,     0.01,2,    1.615,2,    0.863,2,   1994.0,2,     -9.0,9,   8.0854,    25.00,2,  27.2296
  33LK19960415,  AR04,    86,  1,     19,2,19960512,  8.4005, -40.8545,   25,    249.0,  10.7782,  35.0758,2,  35.0449,2,    105.6,2,    109.2,2,    12.27,2,    27.73,2,     0.00,2,     1.73,2,    0.733,2,    0.336,2,   2203.5,2,     -9.0,9,   7.6640,    25.00,2,  10.7478
  33LK19960415,  AR04,    86,  1,     20,2,19960512,  8.4005, -40.8545,   25,    249.1,  10.7200,  35.0716,2,  35.0460,2,    105.8,2,    109.2,2,    12.04,2,    27.66,2,     0.00,2,     1.73,2,   -9.000,9,   -9.000,9,   2194.4,2,     -9.0,9,   7.6632,    25.00,2,  10.6897
  33LK19960415,  AR04,    86,  1,     18,2,19960512,  8.4005, -40.8545,   25,    496.8,   8.2626,  34.8428,2,  34.8160,2,     83.9,2,     93.8,2,    19.26,2,    34.84,2,     0.00,2,     2.18,2,    0.172,2,    0.048,2,   2237.8,3,     -9.0,9,   7.5721,    25.00,2,   8.2105
  33LK19960415,  AR04,    86,  1,     17,2,19960512,  8.4005, -40.8545,   25,    646.2,   6.8955,  34.7125,2,  34.7034,2,    107.6,2,    109.6,2,    23.54,2,    35.67,2,     0.00,2,     2.29,2,    0.091,2,    0.055,2,   2237.6,3,     -9.0,9,   7.5677,    25.00,2,   6.8338
  33LK19960415,  AR04,    86,  1,     16,2,19960512,  8.4005, -40.8545,   25,    795.1,   5.8396,  34.6876,2,  34.6896,2,    111.8,2,    114.4,2,    27.19,2,    36.54,2,     0.00,2,     2.37,2,    0.008,2,    0.038,2,   2220.9,2,     -9.0,9,   7.5585,    25.00,2,   5.7692
  33LK19960415,  AR04,    86,  1,     15,2,19960512,  8.4005, -40.8545,   25,    896.9,   5.3186,  34.7108,2,  34.7032,2,    128.1,2,    126.6,2,    28.20,2,    35.57,2,     0.00,2,     2.31,2,   -0.004,2,    0.023,2,   2211.6,2,     -9.0,9,   7.5731,    25.00,2,   5.2421
  33LK19960415,  AR04,    86,  1,     14,2,19960512,  8.4005, -40.8545,   25,    997.4,   5.1591,  34.7841,2,  34.7736,2,    146.1,2,    143.8,2,    27.03,2,    33.00,2,     0.00,2,     2.16,2,   -0.003,2,    0.017,2,   2208.6,2,     -9.0,9,   7.6017,    25.00,2,   5.0744
  33LK19960415,  AR04,    86,  1,     13,2,19960512,  8.4005, -40.8545,   25,   1196.6,   4.8921,  34.8895,2,  34.8952,2,    180.1,2,    180.7,2,    23.01,2,    27.78,2,     0.00,2,     1.80,2,    0.027,2,    0.031,2,   2181.2,2,     -9.0,9,   7.6601,    25.00,2,   4.7909
  33LK19960415,  AR04,    86,  1,     12,2,19960512,  8.4005, -40.8545,   25,   1394.3,   4.6317,  34.9693,2,  34.9796,2,    213.8,2,    221.4,2,    18.07,2,    22.74,2,     0.00,2,     1.43,2,    0.102,2,    0.060,2,   2174.0,2,     -9.0,9,   7.7191,    25.00,2,   4.5144
  33LK19960415,  AR04,    86,  1,     11,2,19960512,  8.4005, -40.8545,   25,   1488.2,   4.4786,  34.9804,2,  34.9874,2,    224.2,2,    230.9,2,    17.13,2,    21.74,2,     0.00,2,     1.37,2,    0.117,2,    0.064,2,   2165.9,2,     -9.0,9,   7.7296,    25.00,2,   4.3541
  33LK19960415,  AR04,    86,  1,     10,2,19960512,  8.4005, -40.8545,   25,   1594.9,   4.2197,  34.9880,2,  34.9888,2,    238.0,2,    240.9,2,    16.73,2,    20.81,2,     0.00,2,     1.31,2,    0.097,2,    0.065,2,   2150.8,2,     -9.0,9,   7.7390,    25.00,2,   4.0881
  33LK19960415,  AR04,    86,  1,      9,2,19960512,  8.4005, -40.8545,   25,   1688.5,   4.0197,  34.9861,2,  34.9868,2,    245.5,2,    248.0,2,    16.59,2,    20.16,2,     0.00,2,     1.26,2,    0.103,2,    0.083,2,   2170.7,2,     -9.0,9,   7.7488,    25.00,2,   3.8818
  33LK19960415,  AR04,    86,  1,      8,2,19960512,  8.4005, -40.8545,   25,   1795.9,   3.8340,  34.9826,2,  34.9804,2,    250.0,2,    250.5,2,    17.68,2,    20.08,2,     0.00,2,     1.27,2,    0.065,2,    0.070,2,   2156.0,2,     -9.0,9,   7.7499,    25.00,2,   3.6884
  33LK19960415,  AR04,    86,  1,      7,2,19960512,  8.4005, -40.8545,   25,   1996.7,   3.5312,  34.9678,2,  34.9658,2,    251.4,2,    252.2,2,    20.86,2,    20.30,2,     0.00,2,     1.28,2,    0.019,2,    0.040,2,   2156.3,2,     -9.0,9,   7.7528,    25.00,2,   3.3709
  33LK19960415,  AR04,    86,  1,      6,2,19960512,  8.4005, -40.8545,   25,   2398.4,   3.0775,  34.9496,2,  34.9483,2,    255.7,2,    255.6,2,    24.85,2,    20.18,2,     0.00,2,     1.28,2,    0.022,2,    0.035,2,   2166.6,2,     -9.0,9,   7.7607,    25.00,2,   2.8860
  33LK19960415,  AR04,    86,  1,      5,2,19960512,  8.4005, -40.8545,   25,   2696.7,   2.9332,  34.9390,2,  34.9375,2,    254.0,2,    254.9,2,    27.74,2,    20.47,2,     0.00,2,     1.31,2,    0.011,2,    0.017,2,   2157.9,2,     -9.0,9,   7.7602,    25.00,2,   2.7150
  33LK19960415,  AR04,    86,  1,      4,2,19960512,  8.4005, -40.8545,   25,   2998.3,   2.7457,  34.9258,2,  34.9246,2,    254.8,2,    254.8,2,    31.28,2,    20.73,2,     0.00,2,     1.33,2,    0.004,2,    0.026,2,   2162.3,2,     -9.0,9,   7.7592,    25.00,2,   2.5006
  33LK19960415,  AR04,    86,  1,      3,2,19960512,  8.4005, -40.8545,   25,   3290.8,   2.5822,  34.9125,2,  34.9125,2,    254.6,2,    254.9,2,    34.76,2,    21.10,2,     0.00,2,     1.36,2,    0.007,2,    0.021,2,   2168.5,2,     -9.0,9,   7.7490,    25.00,2,   2.3102
  33LK19960415,  AR04,    86,  1,      2,2,19960512,  8.4005, -40.8545,   25,   3700.4,   2.2278,  34.8790,2,  34.8793,2,    251.6,2,    251.4,2,    45.61,2,    22.37,2,     0.00,2,     1.46,2,    0.012,2,    0.018,2,   2153.4,3,     -9.0,9,   7.7404,    25.00,3,   1.9206
  33LK19960415,  AR04,    86,  1,      1,2,19960512,  8.4005, -40.8545,   25,   4000.6,   2.0083,  34.8567,2,  34.8567,2,    246.3,2,    248.3,2,    55.96,2,    23.39,2,     0.00,2,     1.55,2,    0.019,2,    0.028,2,   2187.8,2,     -9.0,9,   7.7298,    25.00,3,   1.6739
  33LK19960415,  AR04,    87,  1,      1,2,19960512,  7.9617, -41.0965,   23,    995.8,   4.9566,  34.7114,2,  34.7471,2,    148.4,2,    154.2,2,    27.36,2,    31.47,2,     0.00,2,     2.09,2,   -0.005,2,    0.008,2,   2190.7,2,     -9.0,9,   7.6171,    25.00,2,   4.8736
  33LK19960415,  AR04,    87,  1,      2,2,19960512,  7.9617, -41.0965,   23,    995.8,   4.9566,  34.7114,2,  34.7471,2,    148.4,2,    152.8,2,    27.69,2,    31.50,2,     0.00,2,     2.08,2,   -0.010,2,    0.009,2,   2204.8,2,     -9.0,9,   7.6171,    25.00,2,   4.8736
  33LK19960415,  AR04,    87,  1,      3,2,19960512,  7.9617, -41.0965,   23,    995.8,   4.9566,  34.7114,2,  34.7481,2,    148.4,2,    154.8,2,    27.39,2,    31.50,2,     0.00,2,     2.09,2,    0.003,2,    0.010,2,   2207.6,2,     -9.0,9,   7.6171,    25.00,2,   4.8736
  33LK19960415,  AR04,    87,  1,      4,2,19960512,  7.9617, -41.0965,   23,    995.8,   4.9566,  34.7114,2,  34.7483,2,    148.4,2,    152.9,2,    27.44,2,    31.40,2,     0.00,2,     2.08,2,    0.004,2,    0.004,2,   2205.5,2,     -9.0,9,   7.6171,    25.00,2,   4.8736
  33LK19960415,  AR04,    87,  1,      5,2,19960512,  7.9617, -41.0965,   23,    995.8,   4.9566,  34.7114,2,  34.7474,2,    148.4,2,    152.8,2,    27.51,2,    31.43,2,     0.00,2,     2.10,2,   -0.002,2,   -0.002,2,   2201.7,2,     -9.0,9,   7.6080,    25.00,2,   4.8736
  33LK19960415,  AR04,    87,  1,      6,2,19960512,  7.9617, -41.0965,   23,    995.8,   4.9566,  34.7114,2,  34.7480,2,    148.4,2,    152.7,2,    27.56,2,    31.44,2,     0.00,2,     2.08,2,    0.001,2,    0.001,2,   2207.6,2,     -9.0,9,   7.6080,    25.00,2,   4.8736
  33LK19960415,  AR04,    87,  1,      7,2,19960512,  7.9617, -41.0965,   23,    995.8,   4.9566,  34.7114,2,  34.7478,2,    148.4,2,    152.7,2,    27.47,2,    31.47,2,     0.00,2,     2.08,2,   -9.000,9,   -9.000,9,   2203.5,2,     -9.0,9,   7.6171,    25.00,2,   4.8736
  33LK19960415,  AR04,    87,  1,      8,2,19960512,  7.9617, -41.0965,   23,    995.8,   4.9566,  34.7114,2,  34.7473,2,    148.4,2,    153.9,2,    27.48,2,    31.47,2,     0.00,2,     2.08,2,   -0.006,2,    0.003,2,   2200.6,2,     -9.0,9,   7.6171,    25.00,2,   4.8736
  33LK19960415,  AR04,    87,  1,      9,2,19960512,  7.9617, -41.0965,   23,    995.8,   4.9566,  34.7114,2,  34.7463,2,    148.4,2,    152.8,2,    27.39,2,    31.42,2,     0.00,2,     2.09,2,   -0.001,2,   -0.001,2,   2202.0,2,     -9.0,9,   7.6171,    25.00,2,   4.8736
  33LK19960415,  AR04,    87,  1,     10,2,19960512,  7.9617, -41.0965,   23,    995.8,   4.9566,  34.7114,2,  34.7473,2,    148.4,2,    154.3,2,    27.42,2,    31.49,2,     0.00,2,     2.08,2,   -0.005,2,    0.003,2,   2203.3,2,     -9.0,9,   7.6171,    25.00,2,   4.8736
  33LK19960415,  AR04,    87,  1,     11,2,19960512,  7.9617, -41.0965,   23,    995.8,   4.9566,  34.7114,2,  34.7478,2,    148.4,2,    152.8,2,    27.27,2,    31.40,2,     0.00,2,     2.09,2,    0.008,2,    0.010,2,   2194.1,2,     -9.0,9,   7.6171,    25.00,2,   4.8736
  33LK19960415,  AR04,    87,  1,     12,2,19960512,  7.9617, -41.0965,   23,    995.8,   4.9566,  34.7114,2,  34.7478,2,    148.4,2,    153.1,2,    27.24,2,    31.38,2,     0.01,2,     2.08,2,    0.005,2,    0.014,2,   2193.7,2,     -9.0,9,   7.6171,    25.00,2,   4.8736
  33LK19960415,  AR04,    87,  1,     13,2,19960512,  7.9617, -41.0965,   23,    995.8,   4.9566,  34.7114,2,  34.7506,2,    148.4,2,    152.8,2,    27.25,2,    31.34,2,     0.01,2,     2.08,2,   -0.005,2,    0.006,2,   2198.9,2,     -9.0,9,   7.6171,    25.00,2,   4.8736
  33LK19960415,  AR04,    87,  1,     14,2,19960512,  7.9617, -41.0965,   23,    995.8,   4.9566,  34.7114,2,  34.7489,2,    148.4,2,    153.2,2,    27.09,2,    31.45,2,     0.00,2,     2.08,2,    0.005,2,    0.001,2,   2191.0,2,     -9.0,9,   7.6171,    25.00,2,   4.8736
  33LK19960415,  AR04,    87,  1,     15,2,19960512,  7.9617, -41.0965,   23,    995.8,   4.9566,  34.7114,2,  34.7492,2,    148.4,2,    152.8,2,    27.22,2,    31.47,2,     0.00,2,     2.08,2,    0.015,2,    0.000,2,   2199.5,2,     -9.0,9,   7.6263,    25.00,2,   4.8736
  33LK19960415,  AR04,    87,  1,     16,2,19960512,  7.9617, -41.0965,   23,    995.8,   4.9566,  34.7114,2,  34.7494,2,    148.4,2,    152.9,2,    26.82,2,    31.52,2,     0.01,2,     2.07,2,   -0.002,2,    0.003,2,   2200.6,2,     -9.0,9,   7.6263,    25.00,2,   4.8736
  33LK19960415,  AR04,    87,  1,     17,2,19960512,  7.9617, -41.0965,   23,    995.8,   4.9566,  34.7114,2,  34.7493,2,    148.4,2,    152.7,2,    26.71,2,    31.47,2,     0.00,2,     2.09,2,    0.011,2,    0.004,2,   2208.8,2,     -9.0,9,   7.6263,    25.00,2,   4.8736
  33LK19960415,  AR04,    87,  1,     18,2,19960512,  7.9617, -41.0965,   23,    995.8,   4.9566,  34.7114,2,  34.7488,2,    148.4,2,    152.7,2,    27.18,2,    31.54,2,     0.00,2,     2.08,2,   -0.006,2,    0.003,2,   2191.8,2,     -9.0,9,   7.6263,    25.00,2,   4.8736
  33LK19960415,  AR04,    87,  1,     19,2,19960512,  7.9617, -41.0965,   23,    995.8,   4.9566,  34.7114,2,  34.7500,2,    148.4,2,    152.8,2,    26.50,2,    31.45,2,     0.00,2,     2.07,2,   -0.007,2,    0.002,2,   2207.1,2,     -9.0,9,   7.6171,    25.00,2,   4.8736
  33LK19960415,  AR04,    87,  1,     20,2,19960512,  7.9617, -41.0965,   23,    995.8,   4.9566,  34.7114,2,  34.7500,2,    148.4,2,    153.1,2,    26.62,2,    31.42,2,     0.00,2,     2.07,2,    0.001,2,    0.007,2,   2212.0,2,     -9.0,9,   7.6171,    25.00,2,   4.8736
  33LK19960415,  AR04,    87,  1,     21,2,19960512,  7.9617, -41.0965,   23,    995.8,   4.9566,  34.7114,2,  34.7503,2,    148.4,2,    152.8,2,    26.85,2,    31.48,2,     0.00,2,     2.06,2,   -0.006,2,    0.006,2,   2204.3,2,     -9.0,9,   7.6263,    25.00,2,   4.8736
  33LK19960415,  AR04,    87,  1,     22,2,19960512,  7.9617, -41.0965,   23,    995.8,   4.9566,  34.7114,2,  34.7501,2,    148.4,2,    153.0,2,    26.62,2,    31.44,2,     0.00,2,     2.06,2,   -0.002,2,    0.005,2,   2205.2,2,     -9.0,9,   7.6447,    25.00,3,   4.8736