BOTTLE,20090511PRINUNIVRMK
EXPOCODE,SECT_ID,STNNBR,CASTNO,BTLNBR,BTLNBR_FLAG_W,DATE,LATITUDE,LONGITUDE,DEPTH,CTDPRS,CTDTMP,CTDSAL,CTDSAL_FLAG_W,SALNTY,SALNTY_FLAG_W,CTDOXY,CTDOXY_FLAG_W,OXYGEN,OXYGEN_FLAG_W,SILCAT,SILCAT_FLAG_W,NITRAT,NITRAT_FLAG_W,NITRIT,NITRIT_FLAG_W,PHSPHT,PHSPHT_FLAG_W,CFC-11,CFC-11_FLAG_W,CFC-12,CFC-12_FLAG_W,TCARBN,TCARBN_FLAG_W,PCO2,PCO2_FLAG_W,PH_SWS,PH_TEMP,PH_SWS_FLAG_W,THETA
,,,,,,,,,METERS,DBARS,ITS-90,PSS-78,,PSS-78,,UMOL/KG,,UMOL/KG,,UMOL/KG,,UMOL/KG,,UMOL/KG,,UMOL/KG,,PMOL/KG,,PMOL/KG,,UMOL/KG,,PPM,,,DEGC,,DEGC
  33LK19960415,  AR04,    81,  2,     22,2,19960510,  5.8843, -42.2015, -999,    695.6,   6.3263,  34.6206,2,  34.5849,2,    122.2,2,    128.2,2,    26.13,3,    34.85,3,     0.01,2,     2.27,3,    0.106,2,    0.007,2,     -9.0,9,     -9.0,9,-999.0000,  -999.00,9,   6.2628
  33LK19960415,  AR04,    81,  2,     21,2,19960510,  5.8843, -42.2015, -999,    895.4,   4.8495,  34.5686,2,  34.5693,2,    145.9,2,    146.9,2,    31.95,3,    34.50,3,     0.01,2,     2.28,3,    0.033,2,    0.002,2,     -9.0,9,     -9.0,9,-999.0000,  -999.00,9,   4.7765
  33LK19960415,  AR04,    81,  2,     20,2,19960510,  5.8843, -42.2015, -999,    994.1,   4.7791,  34.6163,2,  34.6260,2,    147.0,2,    146.9,2,    31.73,3,    33.97,3,     0.01,2,     2.26,3,    0.004,2,   -9.000,9,     -9.0,9,     -9.0,9,-999.0000,  -999.00,9,   4.6978
  33LK19960415,  AR04,    81,  2,     19,2,19960510,  5.8843, -42.2015, -999,   1194.2,   4.8123,  34.7721,2,  34.7754,2,    160.0,2,    159.0,2,    28.33,3,    31.14,3,     0.01,2,     2.04,3,    0.000,2,   -0.002,2,     -9.0,9,     -9.0,9,-999.0000,  -999.00,9,   4.7123
  33LK19960415,  AR04,    81,  2,     18,2,19960510,  5.8843, -42.2015, -999,   1399.0,   4.6634,  34.9184,2,  34.9250,2,    196.3,2,    198.5,2,    22.58,3,    25.55,3,     0.01,2,     1.63,3,    0.029,2,    0.024,2,     -9.0,9,     -9.0,9,-999.0000,  -999.00,9,   4.5454
  33LK19960415,  AR04,    81,  2,     17,2,19960510,  5.8843, -42.2015, -999,   1494.8,   4.5395,  34.9634,2,  34.9651,2,    215.2,2,    218.0,2,    20.00,3,    23.17,3,     0.01,2,     1.46,3,    0.077,2,    0.020,2,     -9.0,9,     -9.0,9,-999.0000,  -999.00,9,   4.4137
  33LK19960415,  AR04,    81,  2,     15,2,19960510,  5.8843, -42.2015, -999,   1598.7,   4.2807,  34.9803,2,  34.9790,2,    233.2,2,    232.3,2,    18.63,3,    21.71,3,     0.01,2,     1.36,3,    0.076,2,    0.032,2,     -9.0,9,     -9.0,9,-999.0000,  -999.00,9,   4.1480
  33LK19960415,  AR04,    81,  2,     16,2,19960510,  5.8843, -42.2015, -999,   1599.0,   4.2755,  34.9794,2,  34.9791,2,    233.3,2,    231.6,2,    18.74,3,    21.73,3,     0.01,2,     1.37,3,   -9.000,9,   -9.000,9,     -9.0,9,     -9.0,9,-999.0000,  -999.00,9,   4.1429
  33LK19960415,  AR04,    81,  2,     14,2,19960510,  5.8843, -42.2015, -999,   1692.2,   4.0674,  34.9843,2,  34.9827,2,    243.0,2,    240.6,2,    18.18,3,    20.88,3,     0.01,2,     1.31,3,    0.085,2,    0.031,2,     -9.0,9,     -9.0,9,-999.0000,  -999.00,9,   3.9285
  33LK19960415,  AR04,    81,  2,     13,2,19960510,  5.8843, -42.2015, -999,   1797.7,   3.8387,  34.9811,2,  34.9847,2,    248.8,2,    250.3,2,    17.85,3,    19.95,3,     0.01,2,     1.24,3,    0.102,2,    0.040,2,     -9.0,9,     -9.0,9,-999.0000,  -999.00,9,   3.6928
  33LK19960415,  AR04,    81,  2,     12,2,19960510,  5.8843, -42.2015, -999,   1997.3,   3.5651,  34.9733,2,  34.9734,2,    254.7,2,    254.0,2,    20.16,3,    19.94,3,     0.01,2,     1.25,3,    0.051,2,    0.013,2,     -9.0,9,     -9.0,9,-999.0000,  -999.00,9,   3.4042
  33LK19960415,  AR04,    81,  2,     11,2,19960510,  5.8843, -42.2015, -999,   2194.8,   3.3546,  34.9619,2,  34.9610,2,    254.1,2,    254.6,2,    23.11,3,    20.24,3,     0.01,2,     1.27,3,    0.019,2,    0.007,2,     -9.0,9,     -9.0,9,-999.0000,  -999.00,9,   3.1781
  33LK19960415,  AR04,    81,  2,     10,2,19960510,  5.8843, -42.2015, -999,   2394.6,   3.1368,  34.9512,2,  34.9498,2,    254.0,2,    254.9,2,    25.81,3,    20.39,3,     0.01,2,     1.28,3,    0.013,2,    0.006,2,     -9.0,9,     -9.0,9,-999.0000,  -999.00,9,   2.9447
  33LK19960415,  AR04,    81,  2,      9,2,19960510,  5.8843, -42.2015, -999,   2696.1,   2.8964,  34.9393,2,  34.9381,2,    256.2,2,    256.5,2,    28.56,3,    20.26,3,     0.00,2,     1.27,3,    0.016,2,    0.005,2,     -9.0,9,     -9.0,9,-999.0000,  -999.00,9,   2.6789
  33LK19960415,  AR04,    81,  2,      8,2,19960510,  5.8843, -42.2015, -999,   2999.3,   2.7026,  34.9267,2,  34.9264,2,    257.4,2,    257.1,2,    31.07,3,    20.40,3,     0.00,2,     1.28,3,    0.026,2,    0.006,2,     -9.0,9,     -9.0,9,-999.0000,  -999.00,9,   2.4583
  33LK19960415,  AR04,    81,  2,      7,2,19960510,  5.8843, -42.2015, -999,   3294.8,   2.5884,  34.9191,2,  34.9181,2,    259.4,2,    258.5,2,    32.57,3,    20.39,3,     0.00,2,     1.28,3,    0.030,2,    0.014,2,     -9.0,9,     -9.0,9,-999.0000,  -999.00,9,   2.3158
  33LK19960415,  AR04,    81,  2,      6,2,19960510,  5.8843, -42.2015, -999,   3600.0,   2.4549,  34.9104,2,  34.9087,2,    261.7,2,    260.4,2,    33.49,3,    20.20,3,     0.00,2,     1.27,3,    0.063,2,    0.018,2,     -9.0,9,     -9.0,9,-999.0000,  -999.00,9,   2.1527
  33LK19960415,  AR04,    81,  2,      5,2,19960510,  5.8843, -42.2015, -999,   3799.0,   2.3457,  34.9019,2,  34.9010,2,    262.7,2,    262.2,2,    35.35,3,    20.28,3,     0.00,2,     1.28,3,    0.061,2,    0.023,2,     -9.0,9,     -9.0,9,-999.0000,  -999.00,9,   2.0244
  33LK19960415,  AR04,    81,  2,      4,2,19960510,  5.8843, -42.2015, -999,   3996.9,   2.2782,  34.8959,2,  34.8934,2,    263.2,2,    262.2,2,    36.98,3,    20.39,3,     0.00,2,     1.29,3,    0.080,2,    0.042,2,     -9.0,9,     -9.0,9,-999.0000,  -999.00,9,   1.9365
  33LK19960415,  AR04,    81,  2,      3,2,19960510,  5.8843, -42.2015, -999,   4196.6,   2.2218,  34.8881,2,  34.8841,2,    262.0,2,    260.5,2,    41.10,3,    21.00,3,     0.00,2,     1.33,3,   -9.000,9,   -9.000,9,     -9.0,9,     -9.0,9,-999.0000,  -999.00,9,   1.8588
  33LK19960415,  AR04,    81,  2,      2,2,19960510,  5.8843, -42.2015, -999,   4498.9,   1.5768,  34.8098,2,  34.8084,2,    242.6,2,    241.3,2,    73.61,3,    26.19,3,     0.00,2,     1.70,3,    0.033,2,    0.017,2,     -9.0,9,     -9.0,9,-999.0000,  -999.00,9,   1.1986
  33LK19960415,  AR04,    81,  2,      1,2,19960510,  5.8843, -42.2015, -999,   4753.8,   1.4270,  34.7895,2,  34.7881,2,    235.5,2,    236.0,2,    82.81,3,    27.67,3,     0.00,2,     1.79,3,    0.015,2,    0.010,2,     -9.0,9,     -9.0,9,-999.0000,  -999.00,9,   1.0239
  33LK19960415,  AR04,    82,  1,      6,2,19960511,  6.4660, -41.8992, -999,      0.9,  27.2857,  36.1165,2,  36.1472,2,    203.8,2,    200.8,2,     0.93,2,     0.10,2,     0.00,2,     0.00,2,    1.705,2,    0.866,2,   2015.5,2,    354.7,2,   8.1043,    25.00,2,  27.2855
  33LK19960415,  AR04,    82,  1,      5,2,19960511,  6.4660, -41.8992, -999,     47.8,  27.2955,  36.1493,2,  36.1473,2,    196.5,2,    200.8,2,     0.85,2,     0.11,2,     0.00,2,     0.00,2,    1.643,2,    0.830,2,   1999.8,2,     -9.0,9,   8.1060,    25.00,2,  27.2844
  33LK19960415,  AR04,    82,  1,      4,2,19960511,  6.4660, -41.8992, -999,    148.8,  13.0569,  35.3125,2,  35.3047,2,    144.3,2,    143.4,2,     7.62,2,    18.53,2,     0.02,2,     1.19,2,    1.396,2,    0.516,2,   2158.5,2,     -9.0,9,   7.7893,    25.00,2,  13.0363
  33LK19960415,  AR04,    82,  1,      3,2,19960511,  6.4660, -41.8992, -999,    250.7,  10.2808,  34.9755,2,  34.9896,2,    132.1,2,    134.8,2,    11.97,2,    24.64,2,     0.01,2,     1.56,2,    0.979,2,    0.396,2,   2172.1,2,     -9.0,9,   7.7043,    25.00,2,  10.2511
  33LK19960415,  AR04,    82,  1,      2,2,19960511,  6.4660, -41.8992, -999,    401.2,   8.1257,  34.7233,2,  34.7218,2,    136.8,2,    140.2,2,    16.71,2,    28.80,2,     0.00,2,     1.84,2,    0.654,2,    0.251,2,   2179.4,2,     -9.0,9,   7.6597,    25.00,2,   8.0843
  33LK19960415,  AR04,    82,  1,      1,2,19960511,  6.4660, -41.8992, -999,    500.5,   7.4436,  34.6851,2,  34.6882,2,    121.8,2,    116.2,2,    19.68,2,    32.76,2,     0.00,2,     2.09,2,    0.276,2,    0.070,2,   2205.5,2,     -9.0,9,   7.5977,    25.00,2,   7.3943
  33LK19960415,  AR04,    82,  2,     22,2,19960511,  6.4660, -41.8992, -999,    696.9,   6.2985,  34.6150,2,  34.6162,2,    119.4,2,    118.9,2,    25.99,2,    35.23,2,     0.00,2,     2.29,2,    0.044,2,    0.008,2,   2205.9,2,     -9.0,9,   7.5705,    25.00,2,   6.2349
  33LK19960415,  AR04,    82,  2,     21,2,19960511,  6.4660, -41.8992, -999,    897.5,   5.2002,  34.6132,2,  34.6564,2,    132.2,2,    136.3,2,    28.97,2,    33.96,2,     0.00,2,     2.25,2,    0.005,2,   -0.001,2,   2204.7,3,     -9.0,9,   7.5897,    25.00,2,   5.1245
  33LK19960415,  AR04,    82,  2,     20,2,19960511,  6.4660, -41.8992, -999,    997.2,   4.9871,  34.6616,2,  34.7033,2,    140.6,2,    142.8,2,    28.56,2,    32.93,2,     0.00,2,     2.17,2,    0.006,2,    0.001,2,   2202.4,2,     -9.0,9,   7.5993,    25.00,2,   4.9038
  33LK19960415,  AR04,    82,  2,     19,2,19960511,  6.4660, -41.8992, -999,   1195.8,   4.8875,  34.8511,2,  34.8610,2,    173.4,2,    176.8,2,    24.05,2,    27.79,2,     0.00,2,     1.81,2,    0.018,2,    0.010,2,   2191.5,2,     -9.0,9,   7.6601,    25.00,2,   4.7865
  33LK19960415,  AR04,    82,  2,     18,2,19960511,  6.4660, -41.8992, -999,   1396.9,   4.5548,  34.9594,2,  34.9649,2,    215.3,2,    215.8,2,    18.88,2,    22.70,2,     0.00,2,     1.44,2,    0.080,2,    0.038,2,   2167.7,2,     -9.0,9,   7.7181,    25.00,2,   4.4381
  33LK19960415,  AR04,    82,  2,     16,2,19960511,  6.4660, -41.8992, -999,   1495.8,   4.3766,  34.9735,2,  34.9704,2,    227.5,2,    224.4,2,    18.31,2,    21.89,2,     0.00,2,     1.39,2,    0.065,2,    0.039,2,   2167.2,2,     -9.0,9,   7.7284,    25.00,2,   4.2525
  33LK19960415,  AR04,    82,  2,     17,2,19960511,  6.4660, -41.8992, -999,   1496.0,   4.3772,  34.9736,2,  34.9697,2,    227.5,2,    224.2,2,    18.30,2,    21.90,2,     0.00,2,     1.40,2,   -9.000,9,   -9.000,9,   2172.2,2,     -9.0,9,   7.7284,    25.00,2,   4.2531
  33LK19960415,  AR04,    82,  2,     15,2,19960511,  6.4660, -41.8992, -999,   1595.9,   4.2263,  34.9862,2,  34.9886,2,    239.2,2,    238.7,2,    16.58,2,    20.30,2,     0.00,2,     1.28,2,    0.124,2,    0.061,2,   2159.2,2,     -9.0,9,   7.7485,    25.00,2,   4.0945
  33LK19960415,  AR04,    82,  2,     14,2,19960511,  6.4660, -41.8992, -999,   1696.9,   4.0092,  34.9858,2,  34.9878,2,    246.8,2,    245.6,2,    16.49,2,    19.72,2,     0.00,2,     1.24,2,    0.109,2,    0.046,2,   2151.8,2,     -9.0,9,   7.7489,    25.00,2,   3.8706
  33LK19960415,  AR04,    82,  2,     13,2,19960511,  6.4660, -41.8992, -999,   1795.8,   3.8398,  34.9827,2,  34.9838,2,    250.8,2,    250.2,2,    17.17,2,    19.41,2,     0.00,2,     1.22,2,    0.082,2,    0.032,2,   2145.9,3,     -9.0,9,   7.7594,    25.00,2,   3.6941
  33LK19960415,  AR04,    82,  2,     12,2,19960511,  6.4660, -41.8992, -999,   1996.9,   3.5100,  34.9727,2,  34.9733,2,    255.6,2,    254.3,2,    19.03,2,    19.23,2,     0.00,2,     1.21,2,    0.050,2,    0.015,2,   2162.2,2,     -9.0,9,   7.7618,    25.00,2,   3.3500
  33LK19960415,  AR04,    82,  2,     11,2,19960511,  6.4660, -41.8992, -999,   2196.3,   3.2581,  34.9581,2,  34.9567,2,    255.6,2,    256.0,2,    22.54,2,    19.39,2,     0.00,2,     1.23,2,    0.044,2,    0.025,2,   2155.5,2,     -9.0,9,   7.7653,    25.00,2,   3.0831
  33LK19960415,  AR04,    82,  2,     10,2,19960511,  6.4660, -41.8992, -999,   2397.6,   3.0875,  34.9520,2,  34.9521,2,    258.2,2,    258.2,2,    22.87,2,    19.17,2,     0.00,2,     1.22,2,    0.049,2,    0.023,2,   2151.4,3,     -9.0,9,   7.7608,    25.00,2,   2.8959
  33LK19960415,  AR04,    82,  2,      9,2,19960511,  6.4660, -41.8992, -999,   2693.6,   2.8637,  34.9392,2,  34.9387,2,    258.7,2,    258.3,2,    25.96,2,    19.37,2,     0.00,2,     1.23,2,    0.049,2,    0.031,2,   2161.8,2,     -9.0,9,   7.7591,    25.00,2,   2.6471
  33LK19960415,  AR04,    82,  2,      8,2,19960511,  6.4660, -41.8992, -999,   2998.0,   2.6869,  34.9273,2,  34.9276,2,    258.2,2,    258.2,2,    28.59,2,    19.54,2,     0.00,2,     1.25,2,    0.054,2,    0.023,2,   2154.9,3,     -9.0,9,   7.7583,    25.00,2,   2.4431
  33LK19960415,  AR04,    82,  2,      7,2,19960511,  6.4660, -41.8992, -999,   3297.4,   2.5266,  34.9163,2,  34.9162,2,    259.5,2,    259.2,2,    30.76,2,    19.65,2,     0.00,2,     1.27,2,    0.060,2,    0.033,2,   2166.0,2,     -9.0,9,   7.7576,    25.00,2,   2.2552
  33LK19960415,  AR04,    82,  2,      6,2,19960511,  6.4660, -41.8992, -999,   3601.0,   2.4160,  34.9081,2,  34.9086,2,    261.8,2,    260.6,2,    31.66,2,    19.48,2,     0.00,2,     1.25,2,    0.075,2,    0.043,2,   2163.8,2,     -9.0,9,   7.7579,    25.00,2,   2.1146
  33LK19960415,  AR04,    82,  2,      5,2,19960511,  6.4660, -41.8992, -999,   3799.8,   2.3176,  34.9003,2,  34.8996,2,    262.6,2,    261.8,2,    33.26,2,    19.52,2,     0.00,2,     1.27,2,    0.086,2,    0.036,2,   2156.1,3,     -9.0,9,   7.7545,    25.00,2,   1.9969
  33LK19960415,  AR04,    82,  2,      4,2,19960511,  6.4660, -41.8992, -999,   3999.0,   2.2686,  34.8953,2,  34.8926,2,    262.8,2,    261.8,2,    35.10,2,    19.63,2,     0.00,2,     1.28,2,    0.090,2,    0.045,2,   2154.6,3,     -9.0,9,   7.7518,    25.00,2,   1.9269
  33LK19960415,  AR04,    82,  2,      3,2,19960511,  6.4660, -41.8992, -999,   4195.9,   2.1780,  34.8840,2,  34.8834,2,    259.9,2,    259.6,2,    39.06,2,    20.17,2,     0.00,2,     1.32,2,    0.093,2,    0.042,2,   2153.4,3,     -9.0,9,   7.7485,    25.00,2,   1.8164
  33LK19960415,  AR04,    82,  2,      2,2,19960511,  6.4660, -41.8992, -999,   4498.5,   1.7237,  34.8264,2,  34.8210,2,    246.2,2,    244.1,2,    67.04,2,    24.42,2,     0.00,2,     1.62,2,    0.032,2,    0.020,2,   2198.0,3,     -9.0,9,   7.7075,    25.00,2,   1.3409
  33LK19960415,  AR04,    82,  2,      1,2,19960511,  6.4660, -41.8992, -999,   4726.2,   1.5993,  34.8098,2,  34.8083,0,    240.1,2,    240.7,2,    73.56,2,    25.39,2,     0.00,2,     1.69,2,    0.021,2,    0.018,2,   2192.1,3,     -9.0,9,   7.7050,    25.00,2,   1.1937
  33LK19960415,  AR04,    83,  1,      6,2,19960511,  7.0485, -41.5845, -999,      0.1,  27.2756,  36.0865,2,  36.0984,2,    196.2,2,    200.6,2,     0.72,2,     0.25,2,     0.00,2,     0.00,2,    1.766,2,    0.890,2,   2010.8,2,    348.2,2,   8.1141,    25.00,2,  27.2756
  33LK19960415,  AR04,    83,  1,      5,2,19960511,  7.0485, -41.5845, -999,     48.8,  26.7148,  36.1678,2,  36.1688,2,    199.5,2,    202.6,2,     0.70,2,     0.25,2,     0.00,2,     0.00,2,    1.734,2,    0.873,2,     -9.0,9,     -9.0,9,-999.0000,  -999.00,9,  26.7037
  33LK19960415,  AR04,    83,  1,      4,2,19960511,  7.0485, -41.5845, -999,    148.4,  13.4135,  35.3743,2,  35.3353,2,    112.4,2,    112.2,2,     8.84,2,    22.70,2,     0.00,2,     1.39,2,    1.098,2,    0.437,2,     -9.0,9,     -9.0,9,-999.0000,  -999.00,9,  13.3926
  33LK19960415,  AR04,    83,  1,      3,2,19960511,  7.0485, -41.5845, -999,    248.4,   9.8402,  34.9470,2,  34.9482,2,    112.6,2,    110.4,2,    13.32,2,    28.15,2,     0.00,2,     1.75,2,    0.691,2,    0.234,2,     -9.0,9,     -9.0,9,-999.0000,  -999.00,9,   9.8116
  33LK19960415,  AR04,    83,  1,      2,2,19960511,  7.0485, -41.5845, -999,    400.5,   8.2792,  34.7673,2,  34.7698,2,    114.0,2,    114.3,2,    17.04,2,    31.17,2,     0.00,2,     1.95,2,    0.401,2,    0.175,2,     -9.0,9,     -9.0,9,-999.0000,  -999.00,9,   8.2374
  33LK19960415,  AR04,    83,  1,      1,2,19960511,  7.0485, -41.5845, -999,    502.1,   7.9111,  34.7638,2,  34.7664,2,    104.3,2,    105.1,2,    18.55,2,    32.95,2,     0.00,2,     2.06,2,    0.232,2,    0.099,2,     -9.0,9,     -9.0,9,-999.0000,  -999.00,9,   7.8598