BOTTLE,20090511PRINUNIVRMK
EXPOCODE,SECT_ID,STNNBR,CASTNO,BTLNBR,BTLNBR_FLAG_W,DATE,LATITUDE,LONGITUDE,DEPTH,CTDPRS,CTDTMP,CTDSAL,CTDSAL_FLAG_W,SALNTY,SALNTY_FLAG_W,CTDOXY,CTDOXY_FLAG_W,OXYGEN,OXYGEN_FLAG_W,SILCAT,SILCAT_FLAG_W,NITRAT,NITRAT_FLAG_W,NITRIT,NITRIT_FLAG_W,PHSPHT,PHSPHT_FLAG_W,CFC-11,CFC-11_FLAG_W,CFC-12,CFC-12_FLAG_W,TCARBN,TCARBN_FLAG_W,PCO2,PCO2_FLAG_W,PH_SWS,PH_TEMP,PH_SWS_FLAG_W,THETA
,,,,,,,,,METERS,DBARS,ITS-90,PSS-78,,PSS-78,,UMOL/KG,,UMOL/KG,,UMOL/KG,,UMOL/KG,,UMOL/KG,,UMOL/KG,,PMOL/KG,,PMOL/KG,,UMOL/KG,,PPM,,,DEGC,,DEGC
  33LK19960415,  AR04,    29,  2,     22,2,19960423,  7.4995, -39.3318, -999,    593.3,   6.6598,  34.6765,2,  34.7173,2,    105.9,2,    103.4,2,    21.54,2,    34.64,2,     0.00,2,     2.27,2,    0.092,2,    0.017,2,     -9.0,9,     -9.0,9,-999.0000,  -999.00,9,   6.6044
  33LK19960415,  AR04,    29,  2,     21,2,19960423,  7.4995, -39.3318, -999,    793.3,   5.4475,  34.6471,2,  34.5476,2,    118.2,2,    120.0,2,    26.50,2,    35.05,2,     0.00,2,     2.33,2,    0.009,2,   -9.000,9,     -9.0,9,     -9.0,9,-999.0000,  -999.00,9,   5.3798
  33LK19960415,  AR04,    29,  2,     20,2,19960423,  7.4995, -39.3318, -999,    892.5,   5.1498,  34.6813,2,  34.6624,2,    128.1,2,    131.0,2,    27.70,2,    34.29,2,     0.00,2,     2.31,2,   -0.001,2,   -9.000,9,     -9.0,9,     -9.0,9,-999.0000,  -999.00,9,   5.0749
  33LK19960415,  AR04,    29,  2,     19,2,19960423,  7.4995, -39.3318, -999,    990.8,   4.9180,  34.7376,2,  34.7070,2,    145.9,2,    142.7,2,    27.71,2,    32.84,2,     0.00,2,     2.25,2,   -0.002,2,   -9.000,9,     -9.0,9,     -9.0,9,-999.0000,  -999.00,9,   4.8358
  33LK19960415,  AR04,    29,  2,     18,2,19960423,  7.4995, -39.3318, -999,   1195.6,   4.9043,  34.9002,2,  34.8736,2,    180.0,2,    175.7,2,    23.22,2,    27.70,2,     0.00,2,     1.86,2,    0.026,2,    0.005,2,     -9.0,9,     -9.0,9,-999.0000,  -999.00,9,   4.8032
  33LK19960415,  AR04,    29,  2,     17,2,19960423,  7.4995, -39.3318, -999,   1395.4,   4.5311,  34.9718,2,  34.9730,2,    217.0,2,    217.3,2,    18.31,2,    22.49,2,     0.00,2,     1.46,2,    0.086,2,    0.036,2,     -9.0,9,     -9.0,9,-999.0000,  -999.00,9,   4.4147
  33LK19960415,  AR04,    29,  2,     16,2,19960423,  7.4995, -39.3318, -999,   1496.2,   4.3739,  34.9831,2,  34.9823,2,    229.7,2,    226.1,2,    17.45,2,    21.58,2,     0.00,2,     1.38,2,    0.088,2,    0.038,2,     -9.0,9,     -9.0,9,-999.0000,  -999.00,9,   4.2498
  33LK19960415,  AR04,    29,  2,     15,2,19960423,  7.4995, -39.3318, -999,   1596.2,   4.1034,  34.9864,2,  34.9852,2,    238.3,2,    235.2,2,    17.05,2,    20.77,2,     0.00,2,     1.32,2,    0.083,2,    0.034,2,     -9.0,9,     -9.0,9,-999.0000,  -999.00,9,   3.9731
  33LK19960415,  AR04,    29,  2,     14,2,19960423,  7.4995, -39.3318, -999,   1692.2,   3.9769,  34.9875,2,  34.9897,2,    244.7,2,    247.4,2,    16.31,2,    19.59,2,     0.00,2,     1.24,2,    0.115,2,    0.064,2,     -9.0,9,     -9.0,9,-999.0000,  -999.00,9,   3.8391
  33LK19960415,  AR04,    29,  2,     13,2,19960423,  7.4995, -39.3318, -999,   1795.3,   3.7796,  34.9778,2,  34.9790,2,    246.6,2,    249.0,2,    17.81,2,    19.69,2,     0.00,2,     1.24,2,    0.056,2,    0.030,2,     -9.0,9,     -9.0,9,-999.0000,  -999.00,9,   3.6348
  33LK19960415,  AR04,    29,  2,     12,2,19960423,  7.4995, -39.3318, -999,   1995.0,   3.4563,  34.9655,2,  34.9696,2,    251.5,2,    253.0,2,    19.83,2,    19.54,2,     0.00,2,     1.26,2,    0.031,2,    0.014,2,     -9.0,9,     -9.0,9,-999.0000,  -999.00,9,   3.2973
  33LK19960415,  AR04,    29,  2,     11,2,19960423,  7.4995, -39.3318, -999,   2294.5,   3.1261,  34.9493,2,  34.9506,2,    250.8,2,    253.3,2,    24.35,2,    19.91,2,     0.00,2,     1.26,2,    0.013,2,    0.007,2,     -9.0,9,     -9.0,9,-999.0000,  -999.00,9,   2.9439
  33LK19960415,  AR04,    29,  2,     10,2,19960423,  7.4995, -39.3318, -999,   2695.0,   2.8133,  34.9313,2,  34.9327,2,    253.2,2,    254.7,2,    28.76,2,    20.12,2,     0.00,2,     1.28,2,    0.006,2,    0.010,2,     -9.0,9,     -9.0,9,-999.0000,  -999.00,9,   2.5976
  33LK19960415,  AR04,    29,  2,      9,2,19960423,  7.4995, -39.3318, -999,   2994.7,   2.6633,  34.9199,2,  34.9262,2,    254.7,2,    255.9,2,    30.28,2,    20.05,2,     0.00,2,     1.24,2,    0.018,2,    0.015,2,     -9.0,9,     -9.0,9,-999.0000,  -999.00,9,   2.4204
  33LK19960415,  AR04,    29,  2,      7,2,19960423,  7.4995, -39.3318, -999,   3297.5,   2.4982,  34.9112,2,  34.9122,2,    256.4,2,    256.9,2,    33.14,2,    20.21,2,     0.00,2,     1.31,2,    0.025,2,    0.015,2,     -9.0,9,     -9.0,9,-999.0000,  -999.00,9,   2.2275
  33LK19960415,  AR04,    29,  2,      8,2,19960423,  7.4995, -39.3318, -999,   3297.5,   2.4982,  34.9112,2,  34.9113,2,    256.4,2,    257.1,2,    33.21,2,    20.24,2,     0.00,2,     1.30,2,   -9.000,9,   -9.000,9,     -9.0,9,     -9.0,9,-999.0000,  -999.00,9,   2.2275
  33LK19960415,  AR04,    29,  2,      6,2,19960423,  7.4995, -39.3318, -999,   3696.4,   2.2630,  34.8937,2,  34.8947,2,    260.2,2,    257.3,2,    37.27,2,    20.48,2,     0.00,2,     1.34,2,    0.053,2,    0.021,2,     -9.0,9,     -9.0,9,-999.0000,  -999.00,9,   1.9552
  33LK19960415,  AR04,    29,  2,      5,2,19960423,  7.4995, -39.3318, -999,   3995.4,   2.0483,  34.8660,2,  34.8642,2,    255.2,2,    253.3,2,    48.29,2,    21.90,2,     0.00,2,     1.40,2,    0.069,2,    0.030,2,     -9.0,9,     -9.0,9,-999.0000,  -999.00,9,   1.7133
  33LK19960415,  AR04,    29,  2,      4,2,19960423,  7.4995, -39.3318, -999,   4192.4,   1.9244,  34.8516,2,  34.8522,2,    251.0,2,    251.2,2,    53.33,2,    22.59,2,     0.00,2,     1.49,2,    0.053,2,    0.024,2,     -9.0,9,     -9.0,9,-999.0000,  -999.00,9,   1.5707
  33LK19960415,  AR04,    29,  2,      3,2,19960423,  7.4995, -39.3318, -999,   4373.2,   1.7768,  34.8323,2,  34.8308,2,    247.1,2,    245.8,2,    64.06,2,    24.06,2,     0.00,2,     1.62,2,    0.029,2,    0.018,2,     -9.0,9,     -9.0,9,-999.0000,  -999.00,9,   1.4069
  33LK19960415,  AR04,    29,  2,      2,2,19960423,  7.4995, -39.3318, -999,   4594.8,   1.6634,  34.8175,2,  34.8162,2,    243.6,2,    242.8,2,    70.94,2,    24.95,2,     0.00,2,     1.68,2,    0.022,2,    0.013,2,     -9.0,9,     -9.0,9,-999.0000,  -999.00,9,   1.2713
  33LK19960415,  AR04,    29,  2,      1,2,19960423,  7.4995, -39.3318, -999,   4902.3,   1.6582,  34.8119,2,  34.8116,2,    241.0,2,    243.3,2,    73.26,2,    25.28,2,     0.00,2,     1.69,2,    0.022,2,    0.013,2,     -9.0,9,     -9.0,9,-999.0000,  -999.00,9,   1.2295
  33LK19960415,  AR04,    30,  1,      6,2,19960424,  7.5005, -38.6713, -999,      4.8,  26.5710,  36.1694,2,  36.1708,2,    196.8,3,    202.5,2,     1.17,3,     0.00,2,     0.00,2,     0.03,2,    1.737,2,    0.881,2,   2034.0,2,    344.5,2,   8.1038,    25.00,2,  26.5699
  33LK19960415,  AR04,    30,  1,      5,2,19960424,  7.5005, -38.6713, -999,     73.3,  26.5049,  36.1693,2,  36.1692,2,    207.8,3,    202.4,2,     1.13,3,     0.00,2,     0.00,2,     0.00,2,    1.685,2,    0.857,2,   2025.5,2,     -9.0,9,   8.0951,    25.00,2,  26.4883
  33LK19960415,  AR04,    30,  1,      4,2,19960424,  7.5005, -38.6713, -999,    150.9,  14.4226,  35.5348,2,  35.7067,2,    113.3,2,    112.7,2,     7.03,3,    18.28,2,     0.03,2,     1.08,2,    1.246,2,    0.525,2,   2164.6,2,     -9.0,9,   7.7998,    25.00,2,  14.4002
  33LK19960415,  AR04,    30,  1,      3,2,19960424,  7.5005, -38.6713, -999,    250.1,  10.4337,  35.0457,2,  35.1088,2,    105.2,2,    106.7,2,    12.30,3,    26.39,2,     0.01,2,     1.65,2,    0.787,2,    0.274,2,   2214.9,3,     -9.0,9,   7.6780,    25.00,2,  10.4038
  33LK19960415,  AR04,    30,  1,      2,2,19960424,  7.5005, -38.6713, -999,    401.0,   8.5484,  34.8044,2,  34.8215,2,    108.8,2,    109.2,2,    17.16,3,    30.70,2,     0.01,2,     1.95,2,    0.401,2,    0.090,2,   2206.7,2,     -9.0,9,   7.6190,    25.00,2,   8.5057
  33LK19960415,  AR04,    30,  1,      1,2,19960424,  7.5005, -38.6713, -999,    509.2,   7.9635,  34.7656,2,  34.7614,2,    102.8,2,    105.0,2,    20.05,3,    32.93,2,     0.00,2,     2.13,2,    0.225,2,    0.030,2,   2224.1,2,     -9.0,9,   7.5961,    25.00,2,   7.9112
  33LK19960415,  AR04,    30,  2,     22,2,19960424,  7.5005, -38.6713, -999,    592.6,   7.3265,  34.7500,2,  34.7388,2,    102.7,2,    101.5,2,    23.88,3,    34.59,2,     0.00,2,     2.27,2,    0.084,2,    0.026,2,   2230.1,2,     -9.0,9,   7.5718,    25.00,2,   7.2682
  33LK19960415,  AR04,    30,  2,     21,2,19960424,  7.5005, -38.6713, -999,    795.5,   5.3837,  34.6517,2,  34.6577,2,    127.4,2,    122.9,2,    29.92,3,    34.83,2,     0.00,2,     2.34,2,   -0.003,2,    0.001,2,   2227.4,2,     -9.0,9,   7.5703,    25.00,2,   5.3161
  33LK19960415,  AR04,    30,  2,     20,2,19960424,  7.5005, -38.6713, -999,    890.5,   5.1133,  34.6837,2,  34.6806,2,    137.4,2,    137.1,2,    30.72,3,    33.59,2,     0.00,2,     2.27,2,   -0.007,2,    0.001,2,   2227.2,2,     -9.0,9,   7.5882,    25.00,2,   5.0388
  33LK19960415,  AR04,    30,  2,     19,2,19960424,  7.5005, -38.6713, -999,    989.8,   4.9341,  34.7523,2,  34.7532,2,    152.8,2,    152.4,2,    29.36,3,    31.42,2,     0.00,2,     2.13,2,    0.009,2,    0.003,2,   2206.7,2,     -9.0,9,   7.6166,    25.00,2,   4.8518
  33LK19960415,  AR04,    30,  2,     18,2,19960424,  7.5005, -38.6713, -999,   1195.6,   4.8027,  34.8449,2,  34.8769,2,    173.2,2,    180.2,2,    24.96,3,    27.23,2,     0.00,2,     1.80,2,    0.024,2,    0.012,2,   2191.0,2,     -9.0,9,   7.6680,    25.00,2,   4.7025
  33LK19960415,  AR04,    30,  2,     17,2,19960424,  7.5005, -38.6713, -999,   1394.8,   4.6195,  34.9584,2,  34.9564,2,    212.3,2,    210.9,2,    20.72,3,    23.33,2,     0.00,2,     1.51,2,    0.065,2,    0.028,2,   2169.6,2,     -9.0,9,   7.7190,    25.00,2,   4.5023
  33LK19960415,  AR04,    30,  2,     16,2,19960424,  7.5005, -38.6713, -999,   1493.9,   4.3664,  34.9844,2,  34.9853,2,    231.7,2,    230.4,2,    18.34,3,    21.11,2,     0.00,2,     1.36,2,    0.108,2,    0.040,2,   2151.3,2,     -9.0,9,   7.7468,    25.00,2,   4.2426
  33LK19960415,  AR04,    30,  2,     15,2,19960424,  7.5005, -38.6713, -999,   1595.2,   4.1121,  34.9882,2,  34.9908,2,    243.5,2,    241.4,2,    17.64,3,    20.06,2,     0.00,2,     1.27,2,    0.114,2,    0.053,2,   2148.9,2,     -9.0,9,   7.7467,    25.00,2,   3.9817
  33LK19960415,  AR04,    30,  2,     14,2,19960424,  7.5005, -38.6713, -999,   1700.0,   3.9743,  34.9877,2,  34.9894,2,    248.1,2,    248.0,2,    17.55,3,    19.51,2,     0.00,2,     1.25,2,    0.112,2,    0.050,2,   2148.9,2,     -9.0,9,   7.7579,    25.00,2,   3.8358
  33LK19960415,  AR04,    30,  2,     13,2,19960424,  7.5005, -38.6713, -999,   1789.1,   3.8048,  34.9809,2,  34.9753,2,    250.0,2,    249.0,2,    18.98,3,    19.58,2,     0.00,2,     1.25,2,    0.061,2,    0.031,2,   2129.0,3,     -9.0,9,   7.7586,    25.00,2,   3.6602
  33LK19960415,  AR04,    30,  2,     12,2,19960424,  7.5005, -38.6713, -999,   1894.7,   3.6186,  34.9720,2,  34.9761,2,    250.9,2,    250.5,2,    20.25,3,    19.62,2,     0.00,2,     1.27,2,    0.037,2,    0.031,2,   2155.7,2,     -9.0,9,   7.7597,    25.00,2,   3.4667
  33LK19960415,  AR04,    30,  2,     11,2,19960424,  7.5005, -38.6713, -999,   1996.0,   3.4375,  34.9673,2,  34.9684,2,    253.3,2,    253.1,2,    21.95,3,    19.61,2,     0.00,2,     1.24,2,    0.021,2,    0.018,2,   2158.1,2,     -9.0,9,   7.7607,    25.00,2,   3.2787
  33LK19960415,  AR04,    30,  2,     10,2,19960424,  7.5005, -38.6713, -999,   2289.6,   3.1461,  34.9507,2,  34.9523,2,    253.0,2,    252.6,2,    26.52,3,    20.00,2,     0.00,2,     1.28,2,    0.002,2,    0.006,2,   2143.1,3,     -9.0,9,   7.7671,    25.00,2,   2.9640
  33LK19960415,  AR04,    30,  2,      8,2,19960424,  7.5005, -38.6713, -999,   2691.6,   2.8645,  34.9369,2,  34.9348,2,    255.0,2,    255.7,2,    30.67,3,    20.00,2,     0.00,2,     1.29,2,   -9.000,9,   -9.000,9,   2144.3,3,     -9.0,9,   7.7683,    25.00,2,   2.6481
  33LK19960415,  AR04,    30,  2,      9,2,19960424,  7.5005, -38.6713, -999,   2692.1,   2.8644,  34.9368,2,  34.9348,2,    255.0,2,    255.7,2,    30.61,3,    19.94,2,     0.00,2,     1.26,2,    0.010,2,    0.009,2,   2183.0,3,     -9.0,9,   7.7683,    25.00,2,   2.6480
  33LK19960415,  AR04,    30,  2,      7,2,19960424,  7.5005, -38.6713, -999,   2994.8,   2.6714,  34.9230,2,  34.9350,2,    253.9,2,    256.1,2,    34.24,3,    20.21,2,     0.00,2,     1.30,2,    0.018,2,    0.013,2,   2140.8,3,     -9.0,9,   7.7673,    25.00,2,   2.4282
  33LK19960415,  AR04,    30,  2,      6,2,19960424,  7.5005, -38.6713, -999,   3294.7,   2.4909,  34.9087,2,  34.9063,2,    254.4,2,    255.4,2,    39.30,3,    20.65,2,     0.00,2,     1.34,2,    0.022,2,    0.012,2,   2153.9,3,     -9.0,9,   7.7663,    25.00,2,   2.2207
  33LK19960415,  AR04,    30,  2,      5,2,19960424,  7.5005, -38.6713, -999,   3693.1,   2.2245,  34.8875,2,  34.8867,2,    256.1,2,    257.6,2,    44.16,3,    20.85,2,     0.00,2,     1.36,2,    0.062,2,    0.025,2,   2142.7,3,     -9.0,9,   7.7493,    25.00,2,   1.9181
  33LK19960415,  AR04,    30,  2,      4,2,19960424,  7.5005, -38.6713, -999,   3998.2,   2.0103,  34.8599,2,  34.8603,2,    250.6,2,    251.5,2,    56.31,3,    22.54,2,     0.00,2,     1.48,2,    0.018,2,    0.013,2,   2167.1,3,     -9.0,9,   7.7390,    25.00,2,   1.6761
  33LK19960415,  AR04,    30,  2,      3,2,19960424,  7.5005, -38.6713, -999,   4195.6,   1.9346,  34.8511,2,  34.8520,2,    248.8,2,    250.1,2,    60.05,3,    23.04,2,     0.00,2,     1.53,2,    0.020,2,    0.012,2,   2173.1,3,     -9.0,9,   7.7359,    25.00,2,   1.5803
  33LK19960415,  AR04,    30,  2,      2,2,19960424,  7.5005, -38.6713, -999,   4395.8,   1.7555,  34.8292,2,  34.8309,2,    244.2,2,    237.2,2,    66.77,3,    24.36,2,     0.00,2,     1.61,2,    0.017,2,    0.003,2,   2179.1,3,     -9.0,9,   7.7224,    25.00,2,   1.3836
  33LK19960415,  AR04,    30,  2,      1,2,19960424,  7.5005, -38.6713, -999,   4612.5,   1.6681,  34.8178,2,  34.8164,2,    240.9,2,    242.7,2,    73.23,3,    25.32,2,     0.00,2,     1.69,2,    0.020,2,    0.012,2,   2171.5,3,     -9.0,9,   7.7200,    25.00,2,   1.2737