BOTTLE,20090511PRINUNIVRMK
EXPOCODE,SECT_ID,STNNBR,CASTNO,BTLNBR,BTLNBR_FLAG_W,DATE,LATITUDE,LONGITUDE,DEPTH,CTDPRS,CTDTMP,CTDSAL,CTDSAL_FLAG_W,SALNTY,SALNTY_FLAG_W,CTDOXY,CTDOXY_FLAG_W,OXYGEN,OXYGEN_FLAG_W,SILCAT,SILCAT_FLAG_W,NITRAT,NITRAT_FLAG_W,NITRIT,NITRIT_FLAG_W,PHSPHT,PHSPHT_FLAG_W,CFC-11,CFC-11_FLAG_W,CFC-12,CFC-12_FLAG_W,TCARBN,TCARBN_FLAG_W,PCO2,PCO2_FLAG_W,PH_SWS,PH_TEMP,PH_SWS_FLAG_W,THETA
,,,,,,,,,METERS,DBARS,ITS-90,PSS-78,,PSS-78,,UMOL/KG,,UMOL/KG,,UMOL/KG,,UMOL/KG,,UMOL/KG,,UMOL/KG,,PMOL/KG,,PMOL/KG,,UMOL/KG,,PPM,,,DEGC,,DEGC
  33LK19960415,  AR04,    35,  2,     22,2,19960425,  7.5007, -36.0010, -999,    592.6,   7.4149,  34.7370,2,  34.7251,2,     -9.0,9,     96.0,3,    21.52,2,    33.43,2,     0.00,2,     2.26,2,    0.087,2,    0.010,2,   2215.8,2,     -9.0,9,   7.5547,    25.00,2,   7.3562
  33LK19960415,  AR04,    35,  2,     21,2,19960425,  7.5007, -36.0010, -999,    741.0,   6.0290,  34.6458,2,  34.6581,2,     -9.0,9,    115.5,2,    26.78,2,    33.57,2,     0.00,2,     2.32,2,    0.025,2,   -0.001,2,   2229.0,2,     -9.0,9,   7.5592,    25.00,2,   5.9627
  33LK19960415,  AR04,    35,  2,     20,2,19960425,  7.5007, -36.0010, -999,    897.4,   5.2405,  34.6677,2,  34.6698,2,     -9.0,9,    133.5,2,    28.87,2,    32.17,2,     0.00,2,     2.25,2,    0.001,2,   -0.001,2,   2221.4,2,     -9.0,9,   7.5811,    25.00,2,   5.1645
  33LK19960415,  AR04,    35,  2,     19,2,19960425,  7.5007, -36.0010, -999,    989.5,   5.0589,  34.6928,2,  34.7290,2,     -9.0,9,    146.9,2,    28.43,2,    30.49,2,     0.00,2,     2.18,2,   -0.003,2,   -0.002,2,   2220.5,2,     -9.0,9,   7.6092,    25.00,2,   4.9757
  33LK19960415,  AR04,    35,  2,     18,2,19960425,  7.5007, -36.0010, -999,   1195.7,   4.8548,  34.8512,2,  34.8898,2,     -9.0,9,    183.5,2,    23.20,2,    25.24,2,     0.00,2,     1.79,2,    0.026,2,    0.008,2,   2192.2,2,     -9.0,9,   7.6688,    25.00,2,   4.7541
  33LK19960415,  AR04,    35,  2,     17,2,19960425,  7.5007, -36.0010, -999,   1387.9,   4.6307,  34.9620,2,  34.9624,2,     -9.0,9,    212.9,2,    19.28,2,    21.71,2,     0.00,2,     1.50,2,    0.086,2,    0.030,2,   2158.9,3,     -9.0,9,   7.7096,    25.00,2,   4.5140
  33LK19960415,  AR04,    35,  2,     16,2,19960425,  7.5007, -36.0010, -999,   1490.7,   4.4310,  34.9801,2,  34.9776,2,     -9.0,9,    225.9,2,    18.24,2,    20.46,2,     0.00,2,     1.38,2,    0.100,2,    0.034,2,   2159.8,2,     -9.0,9,   7.7290,    25.00,2,   4.3068
  33LK19960415,  AR04,    35,  2,     15,2,19960425,  7.5007, -36.0010, -999,   1595.2,   4.2699,  34.9877,2,  34.9909,2,     -9.0,9,    236.9,2,    16.87,2,    19.37,2,     0.00,2,     1.31,2,    0.141,2,    0.047,2,   2156.0,2,     -9.0,9,   7.7397,    25.00,2,   4.1377
  33LK19960415,  AR04,    35,  2,     14,2,19960425,  7.5007, -36.0010, -999,   1694.5,   4.0022,  34.9846,2,  34.9874,0,     -9.0,9,    244.2,2,    17.13,2,    18.82,2,     0.00,2,     1.27,2,    0.111,2,    0.042,2,   2117.9,3,     -9.0,9,   7.7487,    25.00,2,   3.8639
  33LK19960415,  AR04,    35,  2,     13,2,19960425,  7.5007, -36.0010, -999,   1795.1,   3.8426,  34.9788,2,  34.9784,2,     -9.0,9,    244.9,2,    18.20,2,    18.97,2,     0.00,2,     1.29,2,    0.045,2,    0.016,2,   2121.4,3,     -9.0,9,   7.7500,    25.00,2,   3.6969
  33LK19960415,  AR04,    35,  2,     11,2,19960425,  7.5007, -36.0010, -999,   1996.0,   3.5835,  34.9697,2,  34.9686,2,     -9.0,9,    250.2,2,    20.69,2,    18.79,2,     0.00,2,     1.28,2,    0.006,2,    0.006,2,   2163.1,2,     -9.0,9,   7.7629,    25.00,2,   3.4225
  33LK19960415,  AR04,    35,  2,     12,2,19960425,  7.5007, -36.0010, -999,   1996.3,   3.5891,  34.9687,2,  34.9681,2,     -9.0,9,    250.0,2,    20.73,2,    18.77,2,     0.00,2,     1.28,2,   -9.000,9,   -9.000,9,   2149.6,3,     -9.0,9,   7.7629,    25.00,2,   3.4280
  33LK19960415,  AR04,    35,  2,     10,2,19960425,  7.5007, -36.0010, -999,   2295.7,   3.1133,  34.9482,2,  34.9470,2,     -9.0,9,    252.1,2,    25.69,2,    18.96,2,     0.00,2,     1.30,2,    0.001,2,    0.004,2,   2126.8,3,     -9.0,9,   7.7668,    25.00,2,   2.9312
  33LK19960415,  AR04,    35,  2,      9,2,19960425,  7.5007, -36.0010, -999,   2657.0,   2.8636,  34.9335,2,  34.9341,2,     -9.0,9,    253.8,2,    29.63,2,    19.11,2,     0.00,2,     1.30,2,    0.009,2,    0.007,2,   2167.3,2,     -9.0,9,   7.7577,    25.00,2,   2.6507
  33LK19960415,  AR04,    35,  2,      8,2,19960425,  7.5007, -36.0010, -999,   2995.9,   2.6637,  34.9217,2,  34.9226,2,     -9.0,9,    255.0,2,    32.65,2,    19.20,2,     0.00,2,     1.31,2,    0.005,2,    0.007,2,   2162.6,2,     -9.0,9,   7.7672,    25.00,2,   2.4207
  33LK19960415,  AR04,    35,  2,      7,2,19960425,  7.5007, -36.0010, -999,   3296.7,   2.5388,  34.9110,2,  34.9104,2,     -9.0,9,    255.2,2,    35.36,2,    19.35,2,     0.00,2,     1.33,2,    0.017,2,    0.008,2,   2166.8,2,     -9.0,9,   7.7671,    25.00,2,   2.2672
  33LK19960415,  AR04,    35,  2,      6,2,19960425,  7.5007, -36.0010, -999,   3595.3,   2.4407,  34.9039,2,  34.9036,2,     -9.0,9,    257.9,2,    36.61,2,    19.25,2,     0.00,2,     1.33,2,    0.036,2,    0.011,2,   2167.0,2,     -9.0,9,   7.7580,    25.00,2,   2.1394
  33LK19960415,  AR04,    35,  2,      5,2,19960425,  7.5007, -36.0010, -999,   3794.4,   2.3333,  34.8928,2,  34.8960,2,     -9.0,9,    256.7,2,    39.27,2,    19.50,2,     0.00,2,     1.37,2,    0.027,2,    0.008,2,   2172.7,2,     -9.0,9,   7.7545,    25.00,2,   2.0128
  33LK19960415,  AR04,    35,  2,      4,2,19960425,  7.5007, -36.0010, -999,   3996.9,   2.2469,  34.8827,2,  34.8806,2,     -9.0,9,    255.0,2,    44.41,2,    20.12,2,     0.00,2,     1.39,2,    0.027,2,    0.011,2,   2170.5,2,     -9.0,9,   7.7422,    25.00,2,   1.9061
  33LK19960415,  AR04,    35,  2,      3,2,19960425,  7.5007, -36.0010, -999,   4294.4,   2.1326,  34.8691,2,  34.8679,2,     -9.0,9,    253.2,2,    49.46,2,    20.72,2,     0.00,2,     1.44,2,    0.024,2,    0.014,2,   2180.1,3,     -9.0,9,   7.7331,    25.00,2,   1.7610
  33LK19960415,  AR04,    35,  2,      2,2,19960425,  7.5007, -36.0010, -999,   4591.4,   2.1602,  34.8677,2,  34.8666,2,     -9.0,9,    252.8,2,    49.72,2,    20.73,2,     0.00,2,     1.44,2,    0.025,2,    0.009,2,   2180.0,3,     -9.0,9,   7.7351,    25.00,2,   1.7525
  33LK19960415,  AR04,    35,  2,      1,2,19960425,  7.5007, -36.0010, -999,   4819.3,   2.1872,  34.8680,2,  -9.0000,9,     -9.0,9,     -9.0,9,    -9.00,9,    -9.00,9,    -9.00,9,    -9.00,9,   -9.000,9,   -9.000,9,     -9.0,9,     -9.0,9,-999.0000,  -999.00,9,   1.7509
  33LK19960415,  AR04,    36,  1,     22,2,19960425,  7.5120, -35.5020,   23,      2.6,  26.9563,  36.0036,2,  36.0190,2,     -9.0,4,    202.1,2,     1.22,2,     0.00,2,     0.01,2,     0.03,2,    1.692,2,    0.855,2,   2007.1,2,    340.8,2,   8.1195,    25.00,2,  26.9557
  33LK19960415,  AR04,    36,  1,     21,2,19960425,  7.5120, -35.5020,   23,     71.4,  25.1416,  36.1504,2,  36.0669,2,     -9.0,4,    170.0,2,     2.83,2,     4.35,2,     0.20,2,     0.30,2,    1.594,2,    0.724,2,     -9.0,9,     -9.0,9,-999.0000,  -999.00,9,  25.1260
  33LK19960415,  AR04,    36,  1,     20,2,19960425,  7.5120, -35.5020,   23,    195.6,  10.4463,  34.9962,2,  34.9764,2,    129.3,2,    128.5,2,    12.78,2,    25.12,2,     0.01,2,     1.63,2,    0.912,2,    0.253,2,     -9.0,9,     -9.0,9,-999.0000,  -999.00,9,  10.4230
  33LK19960415,  AR04,    36,  1,     19,2,19960425,  7.5120, -35.5020,   23,    298.1,   8.9649,  34.8414,2,  34.8693,2,    109.9,2,    112.3,2,    15.72,2,    28.98,2,     0.01,2,     1.84,2,    0.544,2,    0.056,2,     -9.0,9,     -9.0,9,-999.0000,  -999.00,9,   8.9324
  33LK19960415,  AR04,    36,  1,     18,2,19960425,  7.5120, -35.5020,   23,    595.9,   6.6950,  34.6850,2,  34.6950,2,    108.8,2,    105.1,2,    23.60,2,    34.36,2,     0.00,2,     2.24,2,    0.097,2,    0.010,2,     -9.0,9,     -9.0,9,-999.0000,  -999.00,9,   6.6392
  33LK19960415,  AR04,    36,  1,     17,2,19960425,  7.5120, -35.5020,   23,    797.2,   5.3119,  34.6244,2,  34.6243,2,    125.1,2,    125.9,2,    30.72,2,    34.81,2,     0.00,2,     2.31,2,   -0.003,2,   -9.000,9,     -9.0,9,     -9.0,9,-999.0000,  -999.00,9,   5.2446
  33LK19960415,  AR04,    36,  1,     16,2,19960425,  7.5120, -35.5020,   23,    994.3,   5.0134,  34.7232,2,  34.7243,2,    142.5,2,    145.4,2,    30.34,2,    32.07,2,     0.00,2,     2.15,2,   -0.012,2,   -9.000,9,     -9.0,9,     -9.0,9,-999.0000,  -999.00,9,   4.9301
  33LK19960415,  AR04,    36,  1,     15,2,19960425,  7.5120, -35.5020,   23,   1195.4,   4.7954,  34.8786,2,  34.8641,2,    181.5,2,    178.0,2,    25.79,2,    27.32,2,     0.00,2,     1.82,2,    0.018,2,    0.003,2,     -9.0,9,     -9.0,9,-999.0000,  -999.00,9,   4.6953
  33LK19960415,  AR04,    36,  1,     14,2,19960425,  7.5120, -35.5020,   23,   1494.8,   4.5375,  34.9810,2,  34.9884,2,    226.6,2,    229.5,2,    18.35,2,    21.00,2,     0.00,2,     1.35,2,   -9.000,9,   -9.000,9,     -9.0,9,     -9.0,9,-999.0000,  -999.00,9,   4.4117
  33LK19960415,  AR04,    36,  1,     13,2,19960425,  7.5120, -35.5020,   23,   1495.2,   4.5377,  34.9820,2,  34.9888,2,    226.4,2,    229.4,2,    18.42,2,    21.06,2,     0.00,2,     1.35,2,    0.142,2,    0.053,2,     -9.0,9,     -9.0,9,-999.0000,  -999.00,9,   4.4118
  33LK19960415,  AR04,    36,  1,     12,2,19960425,  7.5120, -35.5020,   23,   1595.5,   4.3443,  34.9905,2,  34.9903,2,    240.9,2,    239.5,2,    17.92,2,    20.28,2,     0.00,2,     1.29,2,    0.127,2,    0.054,2,     -9.0,9,     -9.0,9,-999.0000,  -999.00,9,   4.2111
  33LK19960415,  AR04,    36,  1,     11,2,19960425,  7.5120, -35.5020,   23,   1695.1,   4.0794,  34.9822,2,  34.9824,2,    243.3,2,    242.4,2,    18.86,2,    20.21,2,     0.00,2,     1.28,2,    0.073,2,    0.051,2,     -9.0,9,     -9.0,9,-999.0000,  -999.00,9,   3.9401
  33LK19960415,  AR04,    36,  1,     10,2,19960425,  7.5120, -35.5020,   23,   1794.8,   3.8651,  34.9797,2,  34.9797,2,    248.8,2,    246.9,2,    19.59,2,    19.92,2,     0.00,2,     1.26,2,    0.046,2,    0.016,2,     -9.0,9,     -9.0,9,-999.0000,  -999.00,9,   3.7192
  33LK19960415,  AR04,    36,  1,      9,2,19960425,  7.5120, -35.5020,   23,   1995.7,   3.6099,  34.9709,2,  34.9708,2,    251.8,2,    250.0,2,    21.29,2,    19.80,2,     0.00,2,     1.26,2,    0.026,2,    0.005,2,     -9.0,9,     -9.0,9,-999.0000,  -999.00,9,   3.4485
  33LK19960415,  AR04,    36,  1,      8,2,19960425,  7.5120, -35.5020,   23,   2395.5,   3.1439,  34.9492,2,  34.9471,2,    252.8,2,    253.7,2,    27.55,2,    19.95,2,     0.00,2,     1.27,2,    0.026,2,    0.011,2,     -9.0,9,     -9.0,9,-999.0000,  -999.00,9,   2.9516
  33LK19960415,  AR04,    36,  1,      7,2,19960425,  7.5120, -35.5020,   23,   2691.0,   2.8758,  34.9364,2,  34.9345,2,    253.7,2,    254.3,2,    31.17,2,    20.15,2,     0.00,2,     1.30,2,    0.002,2,    0.001,2,     -9.0,9,     -9.0,9,-999.0000,  -999.00,9,   2.6593
  33LK19960415,  AR04,    36,  1,      6,2,19960425,  7.5120, -35.5020,   23,   2993.7,   2.6917,  34.9234,2,  34.9235,2,    255.9,2,    256.4,2,    33.67,2,    20.05,2,     0.00,2,     1.27,2,    0.015,2,    0.006,2,     -9.0,9,     -9.0,9,-999.0000,  -999.00,9,   2.4483
  33LK19960415,  AR04,    36,  1,      5,2,19960425,  7.5120, -35.5020,   23,   3296.3,   2.5561,  34.9158,2,  34.9150,2,    257.6,2,    257.7,2,    35.63,2,    20.10,2,     0.00,2,     1.30,2,    0.053,2,    0.015,2,     -9.0,9,     -9.0,9,-999.0000,  -999.00,9,   2.2841
  33LK19960415,  AR04,    36,  1,      4,2,19960425,  7.5120, -35.5020,   23,   3595.6,   2.4206,  34.9032,2,  34.9020,2,    257.3,2,    257.5,2,    39.88,2,    20.44,2,     0.00,2,     1.32,2,    0.026,2,    0.012,2,     -9.0,9,     -9.0,9,-999.0000,  -999.00,9,   2.1198
  33LK19960415,  AR04,    36,  1,      3,2,19960425,  7.5120, -35.5020,   23,   3796.6,   2.3111,  34.8918,2,  34.8900,2,    255.7,2,    256.3,2,    43.98,2,    20.90,2,     0.00,2,     1.36,2,    0.020,2,    0.007,2,     -9.0,9,     -9.0,9,-999.0000,  -999.00,9,   1.9910
  33LK19960415,  AR04,    36,  1,      2,2,19960425,  7.5120, -35.5020,   23,   4092.0,   2.2234,  34.8808,2,  34.8778,2,    254.6,2,    254.3,2,    48.69,2,    21.40,2,     0.00,2,     1.40,2,    0.024,2,    0.009,2,     -9.0,9,     -9.0,9,-999.0000,  -999.00,9,   1.8724
  33LK19960415,  AR04,    36,  1,      1,2,19960425,  7.5120, -35.5020,   23,   4482.0,   2.2250,  34.8768,2,  34.8741,2,    254.3,2,    253.5,2,    50.59,2,    21.69,2,     0.00,2,     1.42,2,    0.034,2,    0.008,2,     -9.0,9,     -9.0,9,-999.0000,  -999.00,9,   1.8284
  33LK19960415,  AR04,    37,  1,     22,2,19960426,  7.5053, -35.0023,   23,      3.3,  26.9735,  35.9710,2,  35.9682,0,     -9.0,9,    202.2,2,     1.16,2,     0.00,2,     0.00,2,     0.01,2,    1.703,2,    0.886,2,   2001.0,2,    337.6,2,   8.1098,    25.00,2,  26.9727
  33LK19960415,  AR04,    37,  1,     21,2,19960426,  7.5053, -35.0023,   23,     46.4,  26.6321,  36.0784,2,  36.0189,2,     -9.0,9,    203.2,2,     1.10,2,     0.00,2,     0.00,2,     0.03,2,    1.642,2,    0.849,2,   2007.0,2,     -9.0,9,   8.1162,    25.00,2,  26.6215
  33LK19960415,  AR04,    37,  1,     20,2,19960426,  7.5053, -35.0023,   23,    195.9,  10.6514,  35.0383,2,  34.9630,2,     -9.0,9,    131.0,2,    12.43,2,    24.93,2,     0.00,2,     1.59,2,    0.900,2,    0.306,2,   2190.9,2,     -9.0,9,   7.6982,    25.00,2,  10.6277
  33LK19960415,  AR04,    37,  1,     19,2,19960426,  7.5053, -35.0023,   23,    296.3,   9.3284,  34.8837,2,  34.8728,2,     -9.0,9,    104.1,2,    15.54,2,    29.80,2,     0.00,2,     1.90,2,    0.455,2,    0.107,2,   2231.0,2,     -9.0,9,   7.6263,    25.00,2,   9.2953
  33LK19960415,  AR04,    37,  1,     18,2,19960426,  7.5053, -35.0023,   23,    495.8,   8.0602,  34.8045,2,  34.8018,2,     -9.0,9,     83.8,2,    20.34,2,    34.58,2,     0.00,2,     2.20,2,    0.113,2,    0.040,2,   2255.3,2,     -9.0,9,   7.5600,    25.00,2,   8.0090
  33LK19960415,  AR04,    37,  1,     17,2,19960426,  7.5053, -35.0023,   23,    795.9,   5.4524,  34.6352,2,  34.6417,2,     -9.0,9,    117.2,2,    28.21,2,    35.01,2,     0.00,2,     2.33,2,    0.011,2,    0.005,2,   2238.5,2,     -9.0,9,   7.5622,    25.00,2,   5.3843
  33LK19960415,  AR04,    37,  1,     16,2,19960426,  7.5053, -35.0023,   23,    896.4,   5.0693,  34.6620,2,  34.6411,0,     -9.0,9,    131.0,2,    30.23,2,    34.06,2,     0.00,2,     2.29,2,   -0.009,2,    0.002,2,   2231.0,2,     -9.0,9,   7.5787,    25.00,2,   4.9946
  33LK19960415,  AR04,    37,  1,     15,2,19960426,  7.5053, -35.0023,   23,    994.2,   4.9443,  34.7167,2,  34.7006,2,     -9.0,9,    143.4,2,    29.70,2,    32.26,2,     0.00,2,     2.20,2,    0.003,2,    0.004,2,   2220.4,2,     -9.0,9,   7.5986,    25.00,2,   4.8616
  33LK19960415,  AR04,    37,  1,     14,2,19960426,  7.5053, -35.0023,   23,   1190.1,   4.8237,  34.8877,2,  34.8681,2,     -9.0,9,    176.5,2,    24.86,2,    27.15,2,     0.00,2,     1.82,2,    0.019,2,    0.013,2,   2210.5,2,     -9.0,9,   7.6589,    25.00,2,   4.7238
  33LK19960415,  AR04,    37,  1,     13,2,19960426,  7.5053, -35.0023,   23,   1395.2,   4.5213,  34.9702,2,  34.9611,2,     -9.0,9,    214.1,2,    19.90,2,    22.53,2,     0.00,2,     1.48,2,    0.071,2,    0.040,2,   2189.5,2,     -9.0,9,   7.7175,    25.00,2,   4.4051
  33LK19960415,  AR04,    37,  1,     12,2,19960426,  7.5053, -35.0023,   23,   1395.8,   4.5215,  34.9703,2,  34.9622,2,     -9.0,9,    214.3,2,    19.94,2,    22.44,2,     0.00,2,     1.47,2,   -9.000,9,   -9.000,9,   2191.7,2,     -9.0,9,   7.7175,    25.00,2,   4.4052
  33LK19960415,  AR04,    37,  1,     11,2,19960426,  7.5053, -35.0023,   23,   1494.4,   4.3698,  34.9745,2,  34.9721,2,     -9.0,9,    225.3,2,    19.10,2,    21.37,2,     0.00,2,     1.39,2,    0.067,2,    0.035,2,   2175.0,2,     -9.0,9,   7.7282,    25.00,2,   4.2459
  33LK19960415,  AR04,    37,  1,     10,2,19960426,  7.5053, -35.0023,   23,   1596.4,   4.1569,  34.9794,2,  34.9806,2,     -9.0,9,    234.0,2,    18.37,2,    20.57,2,     0.00,2,     1.33,2,    0.072,2,    0.044,2,   2167.6,2,     -9.0,9,   7.7381,    25.00,2,   4.0259
  33LK19960415,  AR04,    37,  1,      9,2,19960426,  7.5053, -35.0023,   23,   1694.9,   3.9950,  34.9790,2,  34.9786,2,     -9.0,9,    240.6,2,    18.59,2,    20.08,2,     0.00,2,     1.29,2,    0.052,2,    0.035,2,   2162.9,2,     -9.0,9,   7.7486,    25.00,2,   3.8568
  33LK19960415,  AR04,    37,  1,      8,2,19960426,  7.5053, -35.0023,   23,   1792.8,   3.8742,  34.9782,2,  34.9760,2,     -9.0,9,    246.6,2,    19.41,2,    19.67,2,     0.00,2,     1.24,2,    0.052,2,    0.035,2,   2181.0,2,     -9.0,9,   7.7598,    25.00,2,   3.7283
  33LK19960415,  AR04,    37,  1,      7,2,19960426,  7.5053, -35.0023,   23,   1991.2,   3.5093,  34.9645,2,  34.9656,2,     -9.0,9,    249.5,2,    22.08,2,    19.67,2,     0.00,2,     1.29,2,    0.009,2,    0.015,2,   2166.9,2,     -9.0,9,   7.7616,    25.00,2,   3.3499
  33LK19960415,  AR04,    37,  1,      6,2,19960426,  7.5053, -35.0023,   23,   2296.1,   3.2099,  34.9507,2,  34.9477,2,     -9.0,9,    251.9,2,    25.63,2,    19.67,2,     0.00,2,     1.28,2,    0.000,2,    0.009,2,   2156.9,2,     -9.0,9,   7.7683,    25.00,2,   3.0261
  33LK19960415,  AR04,    37,  1,      5,2,19960426,  7.5053, -35.0023,   23,   2696.3,   2.9145,  34.9374,2,  34.9379,2,     -9.0,9,    254.7,2,    29.29,2,    19.63,2,     0.00,2,     1.29,2,    0.018,2,    0.023,2,   2168.9,2,     -9.0,9,   7.7692,    25.00,2,   2.6967
  33LK19960415,  AR04,    37,  1,      4,2,19960426,  7.5053, -35.0023,   23,   2996.4,   2.7173,  34.9255,2,  34.9276,2,     -9.0,9,    255.9,2,    31.59,2,    19.73,2,     0.00,2,     1.31,2,    0.004,2,    0.008,2,   2156.5,3,     -9.0,9,   7.7680,    25.00,2,   2.4730
  33LK19960415,  AR04,    37,  1,      3,2,19960426,  7.5053, -35.0023,   23,   3297.5,   2.5299,  34.9117,2,  34.9106,2,     -9.0,9,    256.9,2,    35.83,2,    19.90,2,     0.00,2,     1.32,2,    0.019,2,    0.012,2,   2167.1,2,     -9.0,9,   7.7670,    25.00,2,   2.2584
  33LK19960415,  AR04,    37,  1,      2,2,19960426,  7.5053, -35.0023,   23,   3597.4,   2.4631,  34.9058,2,  34.9040,2,     -9.0,9,    256.4,2,    38.05,2,    20.11,2,     0.00,2,     1.33,2,    0.019,2,    0.011,2,   2158.5,3,     -9.0,9,   7.7584,    25.00,2,   2.1610
  33LK19960415,  AR04,    37,  1,      1,2,19960426,  7.5053, -35.0023,   23,   3857.0,   2.2644,  34.8872,2,  34.8839,2,     -9.0,9,    254.9,2,    45.00,2,    20.86,2,     0.00,2,     1.38,2,    0.033,2,    0.015,2,   2169.8,2,     -9.0,9,   7.7558,    25.00,2,   1.9389