BOTTLE,20090511PRINUNIVRMK
EXPOCODE,SECT_ID,STNNBR,CASTNO,BTLNBR,BTLNBR_FLAG_W,DATE,LATITUDE,LONGITUDE,DEPTH,CTDPRS,CTDTMP,CTDSAL,CTDSAL_FLAG_W,SALNTY,SALNTY_FLAG_W,CTDOXY,CTDOXY_FLAG_W,OXYGEN,OXYGEN_FLAG_W,SILCAT,SILCAT_FLAG_W,NITRAT,NITRAT_FLAG_W,NITRIT,NITRIT_FLAG_W,PHSPHT,PHSPHT_FLAG_W,CFC-11,CFC-11_FLAG_W,CFC-12,CFC-12_FLAG_W,TCARBN,TCARBN_FLAG_W,PCO2,PCO2_FLAG_W,PH_SWS,PH_TEMP,PH_SWS_FLAG_W,THETA
,,,,,,,,,METERS,DBARS,ITS-90,PSS-78,,PSS-78,,UMOL/KG,,UMOL/KG,,UMOL/KG,,UMOL/KG,,UMOL/KG,,UMOL/KG,,PMOL/KG,,PMOL/KG,,UMOL/KG,,PPM,,,DEGC,,DEGC
  33LK19960415,  AR04,    38,  1,     22,2,19960426,  7.0052, -34.9995,   25,      2.6,  26.8963,  35.9483,2,  35.9695,2,     -9.0,9,    202.6,2,     1.10,2,     0.14,2,     0.00,2,     0.01,2,    1.672,2,    0.882,3,   2001.0,2,    348.1,2,   8.1186,    25.00,2,  26.8957
  33LK19960415,  AR04,    38,  1,     21,2,19960426,  7.0052, -34.9995,   25,     47.7,  26.8399,  36.0260,2,  36.0627,0,     -9.0,9,    200.8,2,     1.27,2,     0.18,2,     0.00,2,     0.03,2,    1.644,2,    0.836,3,     -9.0,9,     -9.0,9,-999.0000,  -999.00,9,  26.8290
  33LK19960415,  AR04,    38,  1,     20,2,19960426,  7.0052, -34.9995,   25,    193.0,  10.6914,  35.0266,2,  34.9770,2,     -9.0,9,    132.6,2,    12.35,2,    24.76,2,     0.00,2,     1.58,2,    0.923,2,    0.293,3,     -9.0,9,     -9.0,9,-999.0000,  -999.00,9,  10.6680
  33LK19960415,  AR04,    38,  1,     19,2,19960426,  7.0052, -34.9995,   25,    292.8,   9.4647,  34.8938,2,  34.8903,2,     -9.0,9,     91.1,2,    15.88,2,    31.51,2,     0.00,2,     1.95,2,    0.381,2,    0.151,3,     -9.0,9,     -9.0,9,-999.0000,  -999.00,9,   9.4317
  33LK19960415,  AR04,    38,  1,     18,2,19960426,  7.0052, -34.9995,   25,    492.8,   7.6622,  34.7445,2,  34.7418,2,     -9.0,9,     98.6,2,    20.11,2,    33.97,2,     0.00,2,     2.16,2,    0.168,2,    0.078,3,     -9.0,9,     -9.0,9,-999.0000,  -999.00,9,   7.6128
  33LK19960415,  AR04,    38,  1,     17,2,19960426,  7.0052, -34.9995,   25,    692.7,   6.1448,  34.6556,2,  34.6542,2,     -9.0,9,    111.3,2,    26.06,2,    35.47,2,     0.00,2,     2.30,2,    0.037,2,    0.035,3,     -9.0,9,     -9.0,9,-999.0000,  -999.00,9,   6.0824
  33LK19960415,  AR04,    38,  1,     16,2,19960426,  7.0052, -34.9995,   25,    890.7,   5.2591,  34.6461,2,  34.6478,2,     -9.0,9,    129.0,2,    29.28,2,    34.59,2,     0.00,2,     2.29,2,    0.006,2,    0.025,3,     -9.0,9,     -9.0,9,-999.0000,  -999.00,9,   5.1836
  33LK19960415,  AR04,    38,  1,     15,2,19960426,  7.0052, -34.9995,   25,    993.4,   4.9435,  34.7136,2,  34.6911,2,     -9.0,9,    140.0,2,    29.48,2,    33.24,2,     0.00,2,     2.22,2,   -0.001,2,    0.023,3,     -9.0,9,     -9.0,9,-999.0000,  -999.00,9,   4.8609
  33LK19960415,  AR04,    38,  1,     14,2,19960426,  7.0052, -34.9995,   25,    993.7,   4.9432,  34.7138,2,  34.6911,2,     -9.0,9,    140.2,2,    29.59,2,    33.36,2,     0.00,2,     2.23,2,   -9.000,9,   -9.000,9,     -9.0,9,     -9.0,9,-999.0000,  -999.00,9,   4.8606
  33LK19960415,  AR04,    38,  1,     13,2,19960426,  7.0052, -34.9995,   25,   1194.1,   4.7633,  34.8536,2,  34.8567,0,     -9.0,9,    176.1,2,    24.96,2,    27.81,2,     0.00,2,     1.84,2,    0.018,2,    0.019,3,     -9.0,9,     -9.0,9,-999.0000,  -999.00,9,   4.6636
  33LK19960415,  AR04,    38,  1,     12,2,19960426,  7.0052, -34.9995,   25,   1389.4,   4.5230,  34.9513,2,  34.9444,2,     -9.0,9,    207.0,2,    20.63,2,    23.72,2,     0.00,2,     1.54,2,    0.056,2,    0.054,3,     -9.0,9,     -9.0,9,-999.0000,  -999.00,9,   4.4073
  33LK19960415,  AR04,    38,  1,     11,2,19960426,  7.0052, -34.9995,   25,   1492.0,   4.3864,  34.9871,2,  34.9747,2,     -9.0,9,    224.4,2,    18.45,2,    21.70,2,     0.00,2,     1.40,2,    0.096,2,    0.071,3,     -9.0,9,     -9.0,9,-999.0000,  -999.00,9,   4.2626
  33LK19960415,  AR04,    38,  1,     10,2,19960426,  7.0052, -34.9995,   25,   1594.9,   4.1825,  34.9782,2,  34.9794,2,     -9.0,9,    236.1,2,    17.94,2,    20.59,2,     0.00,2,     1.34,2,    0.070,2,    0.048,3,     -9.0,9,     -9.0,9,-999.0000,  -999.00,9,   4.0514
  33LK19960415,  AR04,    38,  1,      9,2,19960426,  7.0052, -34.9995,   25,   1693.7,   4.0420,  34.9811,2,  34.9823,2,     -9.0,9,    242.2,2,    17.62,2,    19.99,2,     0.00,2,     1.31,2,    0.076,2,    0.058,3,     -9.0,9,     -9.0,9,-999.0000,  -999.00,9,   3.9033
  33LK19960415,  AR04,    38,  1,      8,2,19960426,  7.0052, -34.9995,   25,   1794.5,   3.8848,  34.9795,2,  34.9811,2,     -9.0,9,    246.8,2,    17.96,2,    19.61,2,     0.00,2,     1.27,2,    0.075,2,    0.055,3,     -9.0,9,     -9.0,9,-999.0000,  -999.00,9,   3.7386
  33LK19960415,  AR04,    38,  1,      7,2,19960426,  7.0052, -34.9995,   25,   1996.1,   3.6067,  34.9723,2,  34.9758,2,     -9.0,9,    251.3,2,    19.16,2,    19.33,2,     0.00,2,     1.26,2,    0.047,2,    0.037,3,     -9.0,9,     -9.0,9,-999.0000,  -999.00,9,   3.4453
  33LK19960415,  AR04,    38,  1,      6,2,19960426,  7.0052, -34.9995,   25,   2193.5,   3.3819,  34.9624,2,  34.9662,2,     -9.0,9,    253.3,2,    21.46,2,    19.35,2,     0.00,2,     1.27,2,    0.028,2,    0.032,3,     -9.0,9,     -9.0,9,-999.0000,  -999.00,9,   3.2051
  33LK19960415,  AR04,    38,  1,      5,2,19960426,  7.0052, -34.9995,   25,   2394.2,   3.1136,  34.9491,2,  34.9492,2,     -9.0,9,    253.7,2,    25.34,2,    19.57,2,     0.00,2,     1.28,2,    0.034,2,    0.018,3,     -9.0,9,     -9.0,9,-999.0000,  -999.00,9,   2.9219
  33LK19960415,  AR04,    38,  1,      4,2,19960426,  7.0052, -34.9995,   25,   2593.3,   2.9606,  34.9404,2,  34.9390,2,     -9.0,9,    253.6,2,    28.13,2,    19.76,2,     0.00,2,     1.30,2,    0.008,2,    0.015,3,     -9.0,9,     -9.0,9,-999.0000,  -999.00,9,   2.7522
  33LK19960415,  AR04,    38,  1,      3,2,19960426,  7.0052, -34.9995,   25,   2795.5,   2.8361,  34.9321,2,  34.9296,2,     -9.0,9,    254.3,2,    30.09,2,    19.85,2,     0.00,2,     1.30,2,   -0.002,2,    0.008,3,     -9.0,9,     -9.0,9,-999.0000,  -999.00,9,   2.6099
  33LK19960415,  AR04,    38,  1,      2,2,19960426,  7.0052, -34.9995,   25,   2996.6,   2.6362,  34.9177,2,  34.9172,2,     -9.0,9,    254.7,2,    33.56,2,    20.06,2,     0.00,2,     1.35,2,    0.007,2,    0.007,3,     -9.0,9,     -9.0,9,-999.0000,  -999.00,9,   2.3937
  33LK19960415,  AR04,    38,  1,      1,2,19960426,  7.0052, -34.9995,   25,   3093.8,   2.5666,  34.9122,2,  34.9116,2,     -9.0,9,    254.3,2,    34.89,2,    20.15,2,     0.00,2,     1.34,2,    0.013,2,    0.010,3,     -9.0,9,     -9.0,9,-999.0000,  -999.00,9,   2.3156
  33LK19960415,  AR04,    39,  1,     22,2,19960426,  6.3380, -35.0063,   23,      2.8,  27.1057,  35.9745,2,  35.9730,2,     -9.0,9,    201.7,2,     1.08,2,     0.00,2,     0.00,2,     0.01,2,    1.613,2,    0.906,2,   1976.4,3,    350.7,2,   8.1217,    25.00,2,  27.1051
  33LK19960415,  AR04,    39,  1,     21,2,19960426,  6.3380, -35.0063,   23,     46.1,  26.9800,  35.9726,2,  35.9718,2,     -9.0,9,    201.8,2,     1.13,2,     0.00,2,     0.00,2,     0.03,2,    1.557,2,    0.885,2,   1986.6,2,     -9.0,9,   8.1113,    25.00,2,  26.9694
  33LK19960415,  AR04,    39,  1,     20,2,19960426,  6.3380, -35.0063,   23,    196.1,  10.3616,  34.9669,2,  34.9554,2,     -9.0,9,    128.5,2,    12.28,2,    25.03,2,     0.01,2,     1.62,2,    0.853,2,    0.382,2,   2187.1,2,     -9.0,9,   7.6751,    25.00,2,  10.3383
  33LK19960415,  AR04,    39,  1,     19,2,19960426,  6.3380, -35.0063,   23,    495.4,   7.6070,  34.7077,2,  34.7134,2,     -9.0,9,    105.7,2,    19.88,2,    33.05,2,     0.00,2,     2.13,2,    0.213,2,    0.055,2,   2216.7,2,     -9.0,9,   7.5722,    25.00,2,   7.5575
  33LK19960415,  AR04,    39,  1,     18,2,19960426,  6.3380, -35.0063,   23,    595.2,   7.0147,  34.6926,2,  34.6853,2,     -9.0,9,    109.5,2,    21.80,2,    33.71,2,     0.00,2,     2.19,2,    0.136,2,    0.029,2,   2231.9,2,     -9.0,9,   7.5676,    25.00,2,   6.9576
  33LK19960415,  AR04,    39,  1,     17,2,19960426,  6.3380, -35.0063,   23,    795.8,   5.5377,  34.6291,2,  34.6301,2,     -9.0,9,    119.3,2,    28.00,2,    35.17,2,     0.00,2,     2.35,2,    0.008,2,    0.000,2,   2239.1,2,     -9.0,9,   7.5543,    25.00,2,   5.4691
  33LK19960415,  AR04,    39,  1,     15,2,19960426,  6.3380, -35.0063,   23,    993.0,   4.8410,  34.7427,2,  34.7179,2,     -9.0,9,    148.7,2,    29.21,2,    31.86,2,     0.00,2,     2.18,2,   -9.000,9,   -9.000,9,   2233.0,3,     -9.0,9,   7.5971,    25.00,2,   4.7592
  33LK19960415,  AR04,    39,  1,     16,2,19960426,  6.3380, -35.0063,   23,    993.3,   4.8449,  34.7427,2,  34.7172,2,     -9.0,9,    148.4,2,    29.00,2,    31.86,2,     0.00,2,     2.16,2,   -0.010,2,   -0.001,2,   2226.5,2,     -9.0,9,   7.5972,    25.00,2,   4.7630
  33LK19960415,  AR04,    39,  1,     14,2,19960426,  6.3380, -35.0063,   23,   1195.6,   4.7121,  34.8721,2,  34.8687,2,     -9.0,9,    181.2,2,    24.50,2,    26.96,2,     0.00,2,     1.83,2,    0.015,2,    0.007,2,   2232.9,3,     -9.0,9,   7.6575,    25.00,2,   4.6127
  33LK19960415,  AR04,    39,  1,     13,2,19960426,  6.3380, -35.0063,   23,   1394.1,   4.6404,  34.9796,2,  34.9610,2,     -9.0,9,    212.8,2,    19.74,2,    22.68,2,     0.00,2,     1.52,2,    0.105,2,    0.040,2,   2175.0,2,     -9.0,9,   7.7099,    25.00,2,   4.5230
  33LK19960415,  AR04,    39,  1,     12,2,19960426,  6.3380, -35.0063,   23,   1494.9,   4.4950,  35.0024,2,  35.0042,2,     -9.0,9,    233.4,2,    16.30,2,    20.11,2,     0.00,2,     1.32,2,    0.281,2,    0.116,2,   2168.6,2,     -9.0,9,   7.7394,    25.00,2,   4.3696
  33LK19960415,  AR04,    39,  1,     11,2,19960426,  6.3380, -35.0063,   23,   1595.5,   4.2361,  34.9965,2,  34.9996,2,     -9.0,9,    243.8,2,    16.02,2,    19.35,2,     0.00,2,     1.25,2,    0.247,2,    0.106,2,   2152.7,2,     -9.0,9,   7.7486,    25.00,2,   4.1042
  33LK19960415,  AR04,    39,  1,     10,2,19960426,  6.3380, -35.0063,   23,   1693.6,   4.0467,  34.9917,2,  34.9934,2,     -9.0,9,    248.8,2,    16.17,2,    18.99,2,     0.00,2,     1.24,2,    0.205,2,    0.083,2,   2149.4,3,     -9.0,9,   7.7493,    25.00,2,   3.9079
  33LK19960415,  AR04,    39,  1,      9,2,19960426,  6.3380, -35.0063,   23,   1794.3,   3.8801,  34.9863,2,  34.9841,2,     -9.0,9,    250.4,2,    17.23,2,    19.03,2,     0.00,2,     1.25,2,    0.115,2,    0.045,2,   2120.5,3,     -9.0,9,   7.7505,    25.00,2,   3.7340
  33LK19960415,  AR04,    39,  1,      8,2,19960426,  6.3380, -35.0063,   23,   1992.8,   3.5690,  34.9737,2,  34.9756,2,     -9.0,9,    255.4,2,    19.11,2,    19.03,2,     0.00,2,     1.27,2,    0.058,2,    0.018,2,   2164.2,2,     -9.0,9,   7.7532,    25.00,2,   3.4085
  33LK19960415,  AR04,    39,  1,      7,2,19960426,  6.3380, -35.0063,   23,   2197.4,   3.3540,  34.9588,2,  34.9588,2,     -9.0,9,    250.5,2,    23.44,2,    19.68,2,     0.00,2,     1.30,2,    0.010,2,    0.006,2,   2179.1,2,     -9.0,9,   7.7481,    25.00,3,   3.1773
  33LK19960415,  AR04,    39,  1,      6,2,19960426,  6.3380, -35.0063,   23,   2383.4,   3.1545,  34.9490,2,  34.9464,2,     -9.0,9,    251.5,2,    25.65,2,    19.69,2,     0.00,2,     1.29,2,    0.017,2,    0.008,2,   2166.2,2,     -9.0,9,   7.7520,    25.00,3,   2.9632
  33LK19960415,  AR04,    39,  1,      5,2,19960426,  6.3380, -35.0063,   23,   2695.9,   2.9258,  34.9383,2,  34.9361,2,     -9.0,9,    254.1,2,    28.82,2,    19.68,2,     0.00,2,     1.29,2,    0.010,2,    0.005,2,   2170.7,2,     -9.0,9,   7.7508,    25.00,3,   2.7078
  33LK19960415,  AR04,    39,  1,      4,2,19960426,  6.3380, -35.0063,   23,   2995.2,   2.7515,  34.9271,2,  34.9226,2,     -9.0,9,    254.8,2,    32.36,2,    20.04,2,     0.00,2,     1.33,2,    0.002,2,    0.006,2,   2177.1,2,     -9.0,9,   7.7499,    25.00,3,   2.5066
  33LK19960415,  AR04,    39,  1,      3,2,19960426,  6.3380, -35.0063,   23,   3293.9,   2.5288,  34.9091,2,  34.9070,2,     -9.0,9,    254.9,2,    36.88,2,    20.37,2,     0.00,2,     1.38,2,    0.002,2,    0.005,2,   2184.9,2,     -9.0,9,   7.7483,    25.00,3,   2.2578
  33LK19960415,  AR04,    39,  1,      2,2,19960426,  6.3380, -35.0063,   23,   3595.4,   2.4076,  34.8980,2,  34.8959,2,     -9.0,9,    253.6,2,    40.94,2,    20.81,2,     0.00,2,     1.41,2,    0.003,2,    0.009,2,   2169.4,2,     -9.0,9,   7.7483,    25.00,3,   2.1071
  33LK19960415,  AR04,    39,  1,      1,2,19960426,  6.3380, -35.0063,   23,   3914.1,   2.2029,  34.8776,2,  34.8754,2,     -9.0,9,    254.9,2,    47.92,2,    21.55,2,     0.00,2,     1.47,2,    0.015,2,    0.008,2,   2183.3,2,     -9.0,9,   7.7386,    25.00,3,   1.8727
  33LK19960415,  AR04,    40,  1,     22,2,19960426,  5.6643, -35.0022,   25,      2.9,  27.2240,  36.0028,2,  36.0010,2,     -9.0,9,    201.2,2,     1.05,2,     0.15,2,     0.00,2,     0.01,2,    1.701,2,    0.885,3,   2000.4,2,    338.4,2,   8.1235,    25.00,2,  27.2233
  33LK19960415,  AR04,    40,  1,     21,2,19960426,  5.6643, -35.0022,   25,     45.4,  27.2250,  36.0035,2,  36.0263,2,     -9.0,9,    201.9,2,     1.10,2,     0.17,2,     0.00,2,     0.01,2,    1.659,2,    0.869,3,     -9.0,9,     -9.0,9,-999.0000,  -999.00,9,  27.2145
  33LK19960415,  AR04,    40,  1,     20,2,19960426,  5.6643, -35.0022,   25,    197.4,  10.8569,  35.0135,2,  35.0426,2,     -9.0,9,    135.4,2,    10.41,2,    22.73,2,     0.01,2,     1.45,2,    1.134,2,    0.508,3,     -9.0,9,     -9.0,9,-999.0000,  -999.00,9,  10.8327
  33LK19960415,  AR04,    40,  1,     19,2,19960426,  5.6643, -35.0022,   25,    295.4,   9.5397,  34.8796,2,  34.9223,2,     -9.0,9,    135.0,2,    12.53,2,    25.02,2,     0.00,2,     1.61,2,    0.918,2,    0.395,3,     -9.0,9,     -9.0,9,-999.0000,  -999.00,9,   9.5063
  33LK19960415,  AR04,    40,  1,     18,2,19960426,  5.6643, -35.0022,   25,    496.2,   7.4943,  34.6975,2,  34.6928,2,     -9.0,9,    109.3,2,    20.21,2,    33.10,2,     0.00,2,     2.11,2,    0.204,2,    0.098,3,     -9.0,9,     -9.0,9,-999.0000,  -999.00,9,   7.4452
  33LK19960415,  AR04,    40,  1,     17,2,19960426,  5.6643, -35.0022,   25,    645.7,   6.3117,  34.5952,2,  34.5980,2,     -9.0,9,    123.1,2,    24.10,2,    33.93,2,     0.00,2,     2.21,2,   -9.000,9,   -9.000,9,     -9.0,9,     -9.0,9,-999.0000,  -999.00,9,   6.2530
  33LK19960415,  AR04,    40,  1,     16,2,19960426,  5.6643, -35.0022,   25,    645.8,   6.3161,  34.5930,2,  34.5982,2,     -9.0,9,    123.2,2,    24.27,2,    33.92,2,     0.00,2,     2.22,2,    0.133,2,    0.080,3,     -9.0,9,     -9.0,9,-999.0000,  -999.00,9,   6.2574
  33LK19960415,  AR04,    40,  1,     15,2,19960426,  5.6643, -35.0022,   25,    795.9,   5.5469,  34.5991,2,  34.6020,2,     -9.0,9,    126.4,2,    28.62,2,    34.77,2,     0.00,2,     2.28,2,    0.030,2,    0.026,3,     -9.0,9,     -9.0,9,-999.0000,  -999.00,9,   5.4783
  33LK19960415,  AR04,    40,  1,     14,2,19960426,  5.6643, -35.0022,   25,    994.9,   4.8628,  34.7011,2,  34.7230,2,     -9.0,9,    151.3,2,    28.89,2,    31.56,2,     0.00,2,     2.10,2,    0.001,2,    0.035,3,     -9.0,9,     -9.0,9,-999.0000,  -999.00,9,   4.7806
  33LK19960415,  AR04,    40,  1,     13,2,19960426,  5.6643, -35.0022,   25,   1195.9,   4.7465,  34.8630,2,  34.8718,2,     -9.0,9,    182.8,2,    24.06,2,    26.72,2,     0.00,2,     1.75,2,    0.026,2,    0.057,3,     -9.0,9,     -9.0,9,-999.0000,  -999.00,9,   4.6468
  33LK19960415,  AR04,    40,  1,     12,2,19960426,  5.6643, -35.0022,   25,   1395.2,   4.4944,  34.9635,2,  34.9513,2,     -9.0,9,    213.2,2,    19.90,2,    22.78,2,     0.00,2,     1.48,2,    0.091,2,    0.081,3,     -9.0,9,     -9.0,9,-999.0000,  -999.00,9,   4.3785
  33LK19960415,  AR04,    40,  1,     11,2,19960426,  5.6643, -35.0022,   25,   1494.2,   4.3586,  34.9799,2,  34.9807,2,     -9.0,9,    231.1,2,    17.60,2,    20.80,2,     0.00,2,     1.35,2,    0.145,2,    0.099,3,     -9.0,9,     -9.0,9,-999.0000,  -999.00,9,   4.2349
  33LK19960415,  AR04,    40,  1,     10,2,19960426,  5.6643, -35.0022,   25,   1595.5,   4.1815,  34.9880,2,  34.9884,2,     -9.0,9,    239.5,2,    16.76,2,    19.91,2,     0.00,2,     1.29,2,    0.165,2,    0.110,3,     -9.0,9,     -9.0,9,-999.0000,  -999.00,9,   4.0503
  33LK19960415,  AR04,    40,  1,      9,2,19960426,  5.6643, -35.0022,   25,   1696.8,   4.0430,  34.9854,2,  34.9894,2,     -9.0,9,    245.9,2,    16.58,2,    19.35,2,     0.00,2,     1.25,2,    0.162,2,    0.112,3,     -9.0,9,     -9.0,9,-999.0000,  -999.00,9,   3.9040
  33LK19960415,  AR04,    40,  1,      8,2,19960426,  5.6643, -35.0022,   25,   1795.9,   3.8946,  34.9866,2,  34.9874,2,     -9.0,9,    250.8,2,    16.67,2,    18.99,2,     0.00,2,     1.23,2,    0.172,2,    0.124,3,     -9.0,9,     -9.0,9,-999.0000,  -999.00,9,   3.7482
  33LK19960415,  AR04,    40,  1,      7,2,19960426,  5.6643, -35.0022,   25,   1997.0,   3.6374,  34.9762,2,  34.9770,2,     -9.0,9,    253.3,2,    18.64,2,    18.97,2,     0.00,2,     1.21,2,    0.069,2,    0.054,3,     -9.0,9,     -9.0,9,-999.0000,  -999.00,9,   3.4755
  33LK19960415,  AR04,    40,  1,      6,2,19960426,  5.6643, -35.0022,   25,   2394.6,   3.1590,  34.9486,2,  34.9490,2,     -9.0,9,    252.1,2,    25.64,2,    19.69,2,     0.00,2,     1.27,2,    0.016,2,    0.033,3,     -9.0,9,     -9.0,9,-999.0000,  -999.00,9,   2.9665
  33LK19960415,  AR04,    40,  1,      5,2,19960426,  5.6643, -35.0022,   25,   2697.2,   2.8882,  34.9339,2,  34.9326,2,     -9.0,9,    253.2,2,    30.12,2,    20.00,2,     0.00,2,     1.28,2,    0.028,2,    0.056,3,     -9.0,9,     -9.0,9,-999.0000,  -999.00,9,   2.6708
  33LK19960415,  AR04,    40,  1,      4,2,19960426,  5.6643, -35.0022,   25,   2996.6,   2.7527,  34.9235,2,  34.9223,2,     -9.0,9,    252.9,2,    33.16,2,    20.28,2,     0.00,2,     1.30,2,   -0.002,2,    0.054,3,     -9.0,9,     -9.0,9,-999.0000,  -999.00,9,   2.5077
  33LK19960415,  AR04,    40,  1,      3,2,19960426,  5.6643, -35.0022,   25,   3296.7,   2.5786,  34.9107,2,  34.9077,2,     -9.0,9,    253.5,2,    36.84,2,    20.58,2,     0.00,2,     1.34,2,    0.015,2,    0.053,3,     -9.0,9,     -9.0,9,-999.0000,  -999.00,9,   2.3061
  33LK19960415,  AR04,    40,  1,      2,2,19960426,  5.6643, -35.0022,   25,   3596.4,   2.4344,  34.8985,2,  34.8966,2,     -9.0,9,    253.5,2,    40.25,2,    20.95,2,     0.00,2,     1.36,2,    0.008,2,    0.027,3,     -9.0,9,     -9.0,9,-999.0000,  -999.00,9,   2.1331
  33LK19960415,  AR04,    40,  1,      1,2,19960426,  5.6643, -35.0022,   25,   3790.5,   2.3234,  34.8880,2,  34.8873,2,     -9.0,9,    252.6,2,    43.64,2,    21.32,2,     0.00,2,     1.38,2,    0.009,2,    0.039,3,     -9.0,9,     -9.0,9,-999.0000,  -999.00,9,   2.0037