BOTTLE,20090511PRINUNIVRMK
EXPOCODE,SECT_ID,STNNBR,CASTNO,BTLNBR,BTLNBR_FLAG_W,DATE,LATITUDE,LONGITUDE,DEPTH,CTDPRS,CTDTMP,CTDSAL,CTDSAL_FLAG_W,SALNTY,SALNTY_FLAG_W,CTDOXY,CTDOXY_FLAG_W,OXYGEN,OXYGEN_FLAG_W,SILCAT,SILCAT_FLAG_W,NITRAT,NITRAT_FLAG_W,NITRIT,NITRIT_FLAG_W,PHSPHT,PHSPHT_FLAG_W,CFC-11,CFC-11_FLAG_W,CFC-12,CFC-12_FLAG_W,TCARBN,TCARBN_FLAG_W,PCO2,PCO2_FLAG_W,PH_SWS,PH_TEMP,PH_SWS_FLAG_W,THETA
,,,,,,,,,METERS,DBARS,ITS-90,PSS-78,,PSS-78,,UMOL/KG,,UMOL/KG,,UMOL/KG,,UMOL/KG,,UMOL/KG,,UMOL/KG,,PMOL/KG,,PMOL/KG,,UMOL/KG,,PPM,,,DEGC,,DEGC
  33LK19960415,  AR04,    44,  1,     22,2,19960427,  3.6728, -34.9993,   25,      2.7,  27.7535,  35.5609,2,  35.5643,2,     -9.0,9,    201.0,2,     0.91,2,     0.04,2,     0.00,2,     0.02,2,    1.625,2,    0.874,2,   1993.9,2,    349.9,2,   8.1214,    25.00,2,  27.7529
  33LK19960415,  AR04,    44,  1,     21,2,19960427,  3.6728, -34.9993,   25,     48.6,  24.1669,  36.0748,2,  36.0654,2,     -9.0,9,    168.9,2,     2.80,2,     2.60,2,     0.19,2,     0.28,2,    1.567,2,    0.768,2,   2098.5,2,     -9.0,9,   7.9996,    25.00,2,  24.1566
  33LK19960415,  AR04,    44,  1,     19,2,19960427,  3.6728, -34.9993,   25,    196.0,  12.1881,  35.1618,2,  35.1854,0,     -9.0,9,    147.9,2,     8.46,2,    19.24,2,     0.01,2,     1.30,2,    1.348,2,    0.608,2,   2139.3,2,     -9.0,9,   7.7782,    25.00,2,  12.1622
  33LK19960415,  AR04,    44,  1,     20,2,19960427,  3.6728, -34.9993,   25,    196.1,  12.1885,  35.1621,2,  35.1646,0,     -9.0,9,    147.7,2,     8.36,2,    19.26,2,     0.01,2,     1.30,2,   -9.000,9,   -9.000,9,   2170.5,2,     -9.0,9,   7.7685,    25.00,2,  12.1626
  33LK19960415,  AR04,    44,  1,     18,2,19960427,  3.6728, -34.9993,   25,    296.3,  10.8414,  35.0008,2,  35.0182,2,     -9.0,9,    135.5,2,    10.45,2,    23.00,2,     0.00,2,     1.52,2,    1.048,2,    0.455,2,   2164.8,2,     -9.0,9,   7.7141,    25.00,2,  10.8050
  33LK19960415,  AR04,    44,  1,     17,2,19960427,  3.6728, -34.9993,   25,    496.5,   7.9268,  34.7560,2,  34.7467,2,     -9.0,9,     94.7,2,    19.34,2,    33.69,2,     0.00,2,     2.18,2,    0.161,2,    0.059,2,   2222.0,2,     -9.0,9,   7.5675,    25.00,2,   7.8760
  33LK19960415,  AR04,    44,  1,     16,2,19960427,  3.6728, -34.9993,   25,    744.2,   5.2116,  34.5393,2,  34.5426,2,     -9.0,9,    136.6,2,    28.45,2,    34.26,2,     0.00,2,     2.34,2,    0.044,2,    0.020,2,   2209.3,2,     -9.0,9,   7.5844,    25.00,2,   5.1497
  33LK19960415,  AR04,    44,  1,     15,2,19960427,  3.6728, -34.9993,   25,    995.3,   4.6442,  34.6728,2,  34.6874,2,     -9.0,9,    156.7,2,    29.18,2,    31.48,2,     0.00,2,     2.16,2,   -0.003,2,    0.002,2,   2212.9,2,     -9.0,9,   7.6127,    25.00,2,   4.5637
  33LK19960415,  AR04,    44,  1,     14,2,19960427,  3.6728, -34.9993,   25,   1191.4,   4.6887,  34.8351,2,  34.8531,2,     -9.0,9,    182.8,2,    23.99,2,    26.96,2,     0.00,2,     1.83,2,    0.018,2,    0.010,2,   2184.3,2,     -9.0,9,   7.6663,    25.00,2,   4.5899
  33LK19960415,  AR04,    44,  1,     13,2,19960427,  3.6728, -34.9993,   25,   1396.5,   4.5313,  34.9389,2,  34.9408,2,     -9.0,9,    211.1,2,    19.79,2,    23.32,2,     0.00,2,     1.54,2,    0.056,2,    0.025,2,   2180.5,2,     -9.0,9,   7.6713,    25.00,3,   4.4149
  33LK19960415,  AR04,    44,  1,     12,2,19960427,  3.6728, -34.9993,   25,   1498.7,   4.3769,  34.9674,2,  34.9679,2,     -9.0,9,    224.5,2,    18.14,2,    21.58,2,     0.00,2,     1.45,2,    0.080,2,    0.041,2,   2152.6,2,     -9.0,9,   7.7378,    25.00,2,   4.2526
  33LK19960415,  AR04,    44,  1,     11,2,19960427,  3.6728, -34.9993,   25,   1594.2,   4.2508,  34.9794,2,  34.9799,2,     -9.0,9,    234.8,2,    17.07,2,    20.48,2,     0.00,2,     1.37,2,    0.096,2,    0.051,2,   2151.2,2,     -9.0,9,   7.7488,    25.00,2,   4.1189
  33LK19960415,  AR04,    44,  1,     10,2,19960427,  3.6728, -34.9993,   25,   1695.6,   4.0798,  34.9849,2,  34.9861,2,     -9.0,9,    244.3,2,    16.54,2,    19.56,2,     0.00,2,     1.29,2,    0.112,2,    0.054,2,   2153.8,2,     -9.0,9,   7.7593,    25.00,2,   3.9404
  33LK19960415,  AR04,    44,  1,      9,2,19960427,  3.6728, -34.9993,   25,   1793.7,   3.9341,  34.9845,2,  34.9858,2,     -9.0,9,    249.1,2,    16.65,2,    19.14,2,     0.00,2,     1.26,2,    0.106,2,    0.051,2,   2132.0,3,     -9.0,9,   7.7700,    25.00,2,   3.7873
  33LK19960415,  AR04,    44,  1,      8,2,19960427,  3.6728, -34.9993,   25,   2000.3,   3.6231,  34.9765,2,  34.9777,2,     -9.0,9,    255.3,2,    18.02,2,    18.74,2,     0.00,2,     1.25,2,    0.082,2,    0.044,2,   2147.7,3,     -9.0,9,   7.7636,    25.00,2,   3.4611
  33LK19960415,  AR04,    44,  1,      7,2,19960427,  3.6728, -34.9993,   25,   2292.7,   3.2054,  34.9524,2,  34.9528,2,     -9.0,9,    255.4,2,    23.68,2,    19.20,2,     0.00,2,     1.28,2,    0.009,2,    0.014,2,   2154.4,2,     -9.0,9,   7.7681,    25.00,2,   3.0220
  33LK19960415,  AR04,    44,  1,      6,2,19960427,  3.6728, -34.9993,   25,   2694.5,   2.8441,  34.9307,2,  34.9304,2,     -9.0,9,    252.8,2,    29.92,2,    19.94,2,     0.00,2,     1.34,2,    0.001,2,    0.006,2,   2153.6,3,     -9.0,9,   7.7681,    25.00,2,   2.6279
  33LK19960415,  AR04,    44,  1,      5,2,19960427,  3.6728, -34.9993,   25,   2994.5,   2.6497,  34.9158,2,  34.9157,2,     -9.0,9,    252.7,2,    33.88,2,    20.29,2,     0.00,2,     1.36,2,    0.011,2,    0.008,2,   2147.8,3,     -9.0,9,   7.7669,    25.00,2,   2.4071
  33LK19960415,  AR04,    44,  1,      4,2,19960427,  3.6728, -34.9993,   25,   3285.9,   2.5097,  34.9066,2,  34.9077,2,     -9.0,9,    253.4,2,    35.98,2,    20.37,2,     0.00,2,     1.35,2,    0.002,2,    0.009,2,   2143.5,3,     -9.0,9,   7.7663,    25.00,2,   2.2400
  33LK19960415,  AR04,    44,  1,      3,2,19960427,  3.6728, -34.9993,   25,   3596.9,   2.3689,  34.8947,2,  34.8931,2,     -9.0,9,    254.1,2,    39.51,2,    20.62,2,     0.00,2,     1.39,2,    0.013,2,    0.014,2,   2154.7,3,     -9.0,9,   7.7571,    25.00,2,   2.0693
  33LK19960415,  AR04,    44,  1,      2,2,19960427,  3.6728, -34.9993,   25,   3797.7,   2.2663,  34.8853,2,  34.8839,2,     -9.0,9,    253.5,2,    42.37,2,    20.95,2,     0.00,2,     1.41,2,    0.017,2,    0.018,2,   2182.8,2,     -9.0,9,   7.7537,    25.00,2,   1.9473
  33LK19960415,  AR04,    44,  1,      1,2,19960427,  3.6728, -34.9993,   25,   3994.8,   2.1932,  34.8771,2,  34.8764,2,     -9.0,9,    252.8,2,    45.10,2,    21.28,2,     0.00,2,     1.44,2,    0.024,2,    0.023,2,   2140.8,3,     -9.0,9,   7.7506,    25.00,2,   1.8542
  33LK19960415,  AR04,    45,  1,     22,2,19960428,  3.0095, -34.9928,   23,      3.3,  27.7599,  35.7228,2,  35.7305,2,     -9.0,9,    199.6,2,     1.04,2,     0.00,2,     0.00,2,     0.01,2,    1.643,2,    0.880,2,   1995.3,2,    356.9,2,   8.1114,    25.00,2,  27.7591
  33LK19960415,  AR04,    45,  1,     20,2,19960428,  3.0095, -34.9928,   23,     46.1,  22.3149,  36.0937,2,  36.0563,2,     -9.0,9,    163.1,2,     3.14,2,     3.62,2,     0.17,2,     0.37,2,    1.558,2,    0.788,2,     -9.0,9,     -9.0,9,-999.0000,  -999.00,9,  22.3057
  33LK19960415,  AR04,    45,  1,     21,2,19960428,  3.0095, -34.9928,   23,     46.5,  22.6128,  36.0992,2,  36.0590,2,     -9.0,9,    163.9,2,     3.04,2,     3.19,2,     0.16,2,     0.35,2,   -9.000,9,   -9.000,9,     -9.0,9,     -9.0,9,-999.0000,  -999.00,9,  22.6034
  33LK19960415,  AR04,    45,  1,     19,2,19960428,  3.0095, -34.9928,   23,    195.6,  12.2305,  35.1744,2,  35.1510,2,     -9.0,9,    109.2,2,     9.89,2,    23.92,2,     0.02,2,     1.55,2,    1.029,2,    0.461,2,     -9.0,9,     -9.0,9,-999.0000,  -999.00,9,  12.2046
  33LK19960415,  AR04,    45,  1,     18,2,19960428,  3.0095, -34.9928,   23,    295.8,  11.5965,  35.1016,2,  35.0866,2,     -9.0,9,    114.0,2,    10.58,2,    24.43,2,     0.01,2,     1.58,2,    0.944,2,    0.445,2,     -9.0,9,     -9.0,9,-999.0000,  -999.00,9,  11.5586
  33LK19960415,  AR04,    45,  1,     17,2,19960428,  3.0095, -34.9928,   23,    495.7,   7.8212,  34.7343,2,  34.7269,2,     -9.0,9,     98.5,2,    19.54,2,    33.84,2,     0.00,2,     2.17,2,    0.185,2,    0.065,2,     -9.0,9,     -9.0,9,-999.0000,  -999.00,9,   7.7709
  33LK19960415,  AR04,    45,  1,     16,2,19960428,  3.0095, -34.9928,   23,    644.7,   5.9094,  34.5701,2,  34.5614,2,     -9.0,9,    132.4,2,    25.70,2,    34.10,2,     0.00,2,     2.28,2,    0.121,2,    0.048,2,     -9.0,9,     -9.0,9,-999.0000,  -999.00,9,   5.8528
  33LK19960415,  AR04,    45,  1,     15,2,19960428,  3.0095, -34.9928,   23,    795.0,   4.8894,  34.5538,2,  34.5571,2,     -9.0,9,    146.0,2,    30.59,2,    34.08,2,     0.00,2,     2.30,2,    0.031,2,    0.008,2,     -9.0,9,     -9.0,9,-999.0000,  -999.00,9,   4.8249
  33LK19960415,  AR04,    45,  1,     14,2,19960428,  3.0095, -34.9928,   23,    995.4,   4.6446,  34.6591,2,  34.6804,2,     -9.0,9,    157.6,2,    29.74,2,    31.79,2,     0.00,2,     2.15,2,    0.003,2,    0.006,2,     -9.0,9,     -9.0,9,-999.0000,  -999.00,9,   4.5641
  33LK19960415,  AR04,    45,  1,     13,2,19960428,  3.0095, -34.9928,   23,   1195.2,   4.6348,  34.8210,2,  34.8219,2,     -9.0,9,    177.4,2,    25.49,2,    28.07,2,     0.00,2,     1.88,2,    0.009,2,    0.008,2,     -9.0,9,     -9.0,9,-999.0000,  -999.00,9,   4.5362
  33LK19960415,  AR04,    45,  1,     12,2,19960428,  3.0095, -34.9928,   23,   1393.6,   4.4628,  34.9455,2,  34.9409,2,     -9.0,9,    212.0,2,    19.95,2,    23.23,2,     0.00,2,     1.53,2,    0.054,2,    0.033,2,     -9.0,9,     -9.0,9,-999.0000,  -999.00,9,   4.3474
  33LK19960415,  AR04,    45,  1,     11,2,19960428,  3.0095, -34.9928,   23,   1494.8,   4.3398,  34.9671,2,  34.9609,2,     -9.0,9,    227.3,2,    18.22,2,    21.42,2,     0.00,2,     1.41,2,    0.075,2,    0.042,2,     -9.0,9,     -9.0,9,-999.0000,  -999.00,9,   4.2163
  33LK19960415,  AR04,    45,  1,     10,2,19960428,  3.0095, -34.9928,   23,   1584.2,   4.2159,  34.9789,2,  34.9803,0,     -9.0,9,    237.3,2,    17.29,2,    20.38,2,     0.00,2,     1.33,2,    0.096,2,    0.050,2,     -9.0,9,     -9.0,9,-999.0000,  -999.00,9,   4.0854
  33LK19960415,  AR04,    45,  1,      9,2,19960428,  3.0095, -34.9928,   23,   1694.7,   4.0615,  34.9818,2,  34.9829,2,     -9.0,9,     -9.0,9,    16.99,2,    19.74,2,     0.00,2,     1.29,2,   -9.000,9,   -9.000,9,     -9.0,9,     -9.0,9,-999.0000,  -999.00,9,   3.9225
  33LK19960415,  AR04,    45,  1,      8,2,19960428,  3.0095, -34.9928,   23,   1794.2,   3.9495,  34.9790,2,  34.9820,2,     -9.0,9,    248.2,2,    17.25,2,    19.40,2,     0.00,2,     1.27,2,    0.102,2,    0.056,2,     -9.0,9,     -9.0,9,-999.0000,  -999.00,9,   3.8025
  33LK19960415,  AR04,    45,  1,      7,2,19960428,  3.0095, -34.9928,   23,   1991.7,   3.6885,  34.9771,2,  34.9777,2,     -9.0,9,    254.0,2,    18.10,2,    18.96,2,     0.00,2,     1.23,2,    0.063,2,    0.036,2,     -9.0,9,     -9.0,9,-999.0000,  -999.00,9,   3.5263
  33LK19960415,  AR04,    45,  1,      6,2,19960428,  3.0095, -34.9928,   23,   2295.7,   3.2408,  34.9571,2,  34.9584,2,     -9.0,9,    256.9,2,    22.14,2,    19.08,2,     0.00,2,     1.23,2,    0.025,2,    0.016,2,     -9.0,9,     -9.0,9,-999.0000,  -999.00,9,   3.0565
  33LK19960415,  AR04,    45,  1,      5,2,19960428,  3.0095, -34.9928,   23,   2694.3,   2.8485,  34.9292,2,  34.9316,2,     -9.0,9,    254.8,2,    29.90,2,    19.97,2,     0.00,2,     1.32,2,    0.001,2,    0.010,2,     -9.0,9,     -9.0,9,-999.0000,  -999.00,9,   2.6322
  33LK19960415,  AR04,    45,  1,      4,2,19960428,  3.0095, -34.9928,   23,   2994.2,   2.6630,  34.9186,2,  34.9198,2,     -9.0,9,    255.2,2,    33.12,2,    20.14,2,     0.00,2,     1.33,2,    0.001,2,    0.008,2,     -9.0,9,     -9.0,9,-999.0000,  -999.00,9,   2.4202
  33LK19960415,  AR04,    45,  1,      3,2,19960428,  3.0095, -34.9928,   23,   3295.8,   2.5182,  34.9091,2,  34.9084,2,     -9.0,9,    256.1,2,    35.38,2,    20.22,2,     0.00,2,     1.31,2,    0.018,2,    0.013,2,     -9.0,9,     -9.0,9,-999.0000,  -999.00,9,   2.2472
  33LK19960415,  AR04,    45,  1,      2,2,19960428,  3.0095, -34.9928,   23,   3595.5,   2.4053,  34.8989,2,  34.8974,2,     -9.0,9,    256.0,2,    38.12,2,    20.40,2,     0.00,2,     1.32,2,    0.018,2,    0.018,2,     -9.0,9,     -9.0,9,-999.0000,  -999.00,9,   2.1049
  33LK19960415,  AR04,    45,  1,      1,2,19960428,  3.0095, -34.9928,   23,   3850.5,   2.3034,  34.8887,2,  34.8877,2,     -9.0,9,    255.3,3,    41.46,2,    20.79,2,     0.00,2,     1.37,2,    0.019,2,    0.017,2,     -9.0,9,     -9.0,9,-999.0000,  -999.00,9,   1.9775
  33LK19960415,  AR04,    46,  1,     22,2,19960428,  2.5077, -34.9993,   25,      1.8,  27.9110,  35.7623,2,  35.7858,2,     -9.0,9,    199.0,2,     1.04,2,     0.00,2,     0.00,2,     0.02,2,    1.666,2,    0.881,2,   1990.3,2,    357.1,2,   8.0935,    25.00,2,  27.9106
  33LK19960415,  AR04,    46,  1,     21,2,19960428,  2.5077, -34.9993,   25,     48.2,  24.5070,  36.1631,2,  36.1581,2,     -9.0,9,    186.3,2,     1.92,2,     0.00,2,     0.00,2,     0.08,2,    1.652,2,    0.820,2,   2056.2,2,     -9.0,9,   8.0246,    25.00,2,  24.4967
  33LK19960415,  AR04,    46,  1,     20,2,19960428,  2.5077, -34.9993,   25,    198.9,  12.2902,  35.1836,2,  35.1833,2,     -9.0,9,    118.4,2,     9.12,2,    22.45,2,     0.01,2,     1.46,2,    1.143,2,    0.497,2,   2163.8,2,     -9.0,9,   7.7221,    25.00,2,  12.2638
  33LK19960415,  AR04,    46,  1,     19,2,19960428,  2.5077, -34.9993,   25,    296.5,  11.0890,  35.0434,2,  35.0312,2,     -9.0,9,    129.2,2,    10.77,2,    23.66,2,     0.00,2,     1.52,2,    1.000,2,    0.436,2,   2161.4,2,     -9.0,9,   7.7082,    25.00,2,  11.0521
  33LK19960415,  AR04,    46,  1,     18,2,19960428,  2.5077, -34.9993,   25,    496.3,   7.3838,  34.6557,2,  34.6467,2,     -9.0,9,    137.2,2,    19.64,2,    30.75,2,     0.00,2,     1.99,2,    0.461,2,    0.193,2,   2186.9,2,     -9.0,9,   7.6245,    25.00,2,   7.3351
  33LK19960415,  AR04,    46,  1,     17,2,19960428,  2.5077, -34.9993,   25,    645.5,   5.8881,  34.5410,2,  34.5377,2,     -9.0,9,    144.2,2,    25.41,2,    33.02,2,     0.00,2,     2.17,2,    0.244,2,    0.089,2,   2197.6,2,     -9.0,9,   7.5995,    25.00,2,   5.8315
  33LK19960415,  AR04,    46,  1,     16,2,19960428,  2.5077, -34.9993,   25,    794.0,   5.1633,  34.5477,2,  34.5481,2,     -9.0,9,    139.3,2,    29.54,2,    34.51,2,     0.00,2,     2.31,2,    0.034,2,    0.012,2,   2220.5,2,     -9.0,9,   7.5764,    25.00,2,   5.0973
  33LK19960415,  AR04,    46,  1,     15,2,19960428,  2.5077, -34.9993,   25,    995.8,   4.6683,  34.6578,2,  34.6601,2,     -9.0,9,    154.1,2,    30.28,2,    32.26,2,     0.00,2,     2.17,2,   -0.002,2,    0.005,2,   2203.9,2,     -9.0,9,   7.6039,    25.00,2,   4.5876
  33LK19960415,  AR04,    46,  1,     14,2,19960428,  2.5077, -34.9993,   25,   1195.8,   4.7049,  34.8413,2,  34.8539,2,     -9.0,9,    183.9,2,    24.22,2,    26.96,2,     0.00,2,     1.79,2,    0.024,2,    0.018,2,   2186.2,2,     -9.0,9,   7.6667,    25.00,2,   4.6056
  33LK19960415,  AR04,    46,  1,     13,2,19960428,  2.5077, -34.9993,   25,   1391.9,   4.5361,  34.9372,2,  34.9390,2,     -9.0,9,    210.8,2,    20.14,2,    23.29,2,     0.00,2,     1.52,2,    0.069,2,    0.032,2,   2173.0,2,     -9.0,9,   7.7083,    25.00,2,   4.4201
  33LK19960415,  AR04,    46,  1,     12,2,19960428,  2.5077, -34.9993,   25,   1493.9,   4.3765,  34.9651,2,  34.9670,2,     -9.0,9,    224.8,2,    18.58,2,    21.64,2,     0.00,2,     1.41,2,    0.083,2,    0.033,2,   2164.0,2,     -9.0,9,   7.7283,    25.00,2,   4.2526
  33LK19960415,  AR04,    46,  1,     11,2,19960428,  2.5077, -34.9993,   25,   1595.5,   4.2016,  34.9801,2,  34.9812,2,     -9.0,9,    238.0,2,    17.37,2,    20.26,2,     0.00,2,     1.31,2,    0.106,2,    0.053,2,   2155.2,2,     -9.0,9,   7.7481,    25.00,2,   4.0702
  33LK19960415,  AR04,    46,  1,     10,2,19960428,  2.5077, -34.9993,   25,   1695.7,   4.1069,  34.9828,2,  34.9847,2,     -9.0,9,    243.2,2,    17.09,2,    19.81,2,     0.00,2,     1.29,2,    0.114,2,    0.055,2,   2158.5,2,     -9.0,9,   7.7503,    25.00,2,   3.9672
  33LK19960415,  AR04,    46,  1,      8,2,19960428,  2.5077, -34.9993,   25,   1793.1,   3.9813,  34.9794,2,  34.9843,2,     -9.0,9,    247.6,2,    17.06,2,    19.40,2,     0.00,2,     1.26,2,   -9.000,9,   -9.000,9,   2167.2,2,     -9.0,9,   7.7520,    25.00,2,   3.8340
  33LK19960415,  AR04,    46,  1,      9,2,19960428,  2.5077, -34.9993,   25,   1793.9,   3.9814,  34.9798,2,  34.9854,2,     -9.0,9,    247.5,2,    17.13,2,    19.37,2,     0.00,2,     1.26,2,    0.113,2,    0.054,2,   2171.2,2,     -9.0,9,   7.7520,    25.00,2,   3.8340
  33LK19960415,  AR04,    46,  1,      7,2,19960428,  2.5077, -34.9993,   25,   1997.7,   3.6743,  34.9754,2,  34.9760,2,     -9.0,9,    253.8,2,    18.54,2,    19.07,2,     0.00,2,     1.23,2,    0.062,2,    0.031,2,   2167.1,2,     -9.0,9,   7.7549,    25.00,2,   3.5118
  33LK19960415,  AR04,    46,  1,      6,2,19960428,  2.5077, -34.9993,   25,   2194.3,   3.3908,  34.9660,2,  34.9690,2,     -9.0,9,    256.0,2,    20.28,2,    18.93,2,     0.00,2,     1.22,2,    0.040,2,    0.029,2,   2154.3,3,     -9.0,9,   7.7579,    25.00,2,   3.2138
  33LK19960415,  AR04,    46,  1,      5,2,19960428,  2.5077, -34.9993,   25,   2392.9,   3.1509,  34.9506,2,  34.9524,2,     -9.0,9,    255.6,2,    24.03,2,    19.31,2,     0.00,2,     1.25,2,    0.035,2,    0.017,2,   2171.2,2,     -9.0,9,   7.7616,    25.00,2,   2.9587
  33LK19960415,  AR04,    46,  1,      4,2,19960428,  2.5077, -34.9993,   25,   2691.4,   2.8519,  34.9281,2,  34.9297,2,     -9.0,9,    252.3,2,    31.21,2,    20.21,2,     0.00,2,     1.32,2,   -0.001,2,    0.007,2,   2167.0,2,     -9.0,9,   7.7588,    25.00,2,   2.6358
  33LK19960415,  AR04,    46,  1,      3,2,19960428,  2.5077, -34.9993,   25,   2994.7,   2.6698,  34.9204,2,  34.9207,2,     -9.0,9,    255.1,2,    32.31,2,    19.97,2,     0.00,2,     1.30,2,    0.006,2,    0.008,2,   2178.7,2,     -9.0,9,   7.7579,    25.00,2,   2.4268
  33LK19960415,  AR04,    46,  1,      2,2,19960428,  2.5077, -34.9993,   25,   3297.2,   2.5299,  34.9091,2,  34.9093,2,     -9.0,9,    255.8,2,    34.80,2,    20.09,2,     0.00,2,     1.32,2,    0.018,2,    0.018,2,   2168.1,2,     -9.0,9,   7.7577,    25.00,2,   2.2585
  33LK19960415,  AR04,    46,  1,      1,2,19960428,  2.5077, -34.9993,   25,   3599.9,   2.4110,  34.9008,2,  34.8994,2,     -9.0,9,    256.3,2,    37.09,2,    20.15,2,     0.00,2,     1.33,2,    0.034,2,    0.023,2,   2165.8,2,     -9.0,9,   7.7578,    25.00,2,   2.1099