BOTTLE,20090511PRINUNIVRMK
EXPOCODE,SECT_ID,STNNBR,CASTNO,BTLNBR,BTLNBR_FLAG_W,DATE,LATITUDE,LONGITUDE,DEPTH,CTDPRS,CTDTMP,CTDSAL,CTDSAL_FLAG_W,SALNTY,SALNTY_FLAG_W,CTDOXY,CTDOXY_FLAG_W,OXYGEN,OXYGEN_FLAG_W,SILCAT,SILCAT_FLAG_W,NITRAT,NITRAT_FLAG_W,NITRIT,NITRIT_FLAG_W,PHSPHT,PHSPHT_FLAG_W,CFC-11,CFC-11_FLAG_W,CFC-12,CFC-12_FLAG_W,TCARBN,TCARBN_FLAG_W,PCO2,PCO2_FLAG_W,PH_SWS,PH_TEMP,PH_SWS_FLAG_W,THETA
,,,,,,,,,METERS,DBARS,ITS-90,PSS-78,,PSS-78,,UMOL/KG,,UMOL/KG,,UMOL/KG,,UMOL/KG,,UMOL/KG,,UMOL/KG,,PMOL/KG,,PMOL/KG,,UMOL/KG,,PPM,,,DEGC,,DEGC
  33LK19960415,  AR04,    91,  1,     18,2,19960515,  6.2113, -51.0868,   23,      2.2,  28.3249,  26.0736,2,  27.4453,2,    218.8,4,    215.8,2,    16.76,2,     0.13,2,     0.00,2,     0.00,2,    1.722,2,    0.891,2,   1568.4,3,    252.8,2,   8.2008,    25.00,2,  28.3244
  33LK19960415,  AR04,    91,  1,     17,2,19960515,  6.2113, -51.0868,   23,     60.0,  27.6818,  36.0744,2,  36.1842,2,    197.2,2,    196.6,2,     0.81,2,     0.18,2,     0.00,2,     0.05,2,    1.576,2,    0.812,2,   1988.5,2,     -9.0,9,   8.0921,    25.00,2,  27.6677
  33LK19960415,  AR04,    91,  1,     16,2,19960515,  6.2113, -51.0868,   23,    237.4,  11.7591,  35.2780,2,  35.1273,2,    120.5,2,    120.0,2,    11.19,2,    25.00,2,     0.02,2,     1.58,2,    0.834,2,    0.306,2,   2177.2,2,     -9.0,9,   7.6872,    25.00,2,  11.7284
  33LK19960415,  AR04,    91,  1,     15,2,19960515,  6.2113, -51.0868,   23,    498.5,   6.7982,  34.6052,2,  34.6181,2,    139.1,2,    131.9,2,    21.09,2,    32.33,2,     0.03,2,     2.14,2,    0.326,2,    0.101,2,   2201.4,2,     -9.0,9,   7.5978,    25.00,2,   6.7515
  33LK19960415,  AR04,    91,  1,     14,2,19960515,  6.2113, -51.0868,   23,    746.4,   4.8618,  34.5152,2,  34.5172,2,    149.9,2,    149.1,2,    30.62,2,    34.12,2,     0.03,2,     2.33,2,    0.048,2,    0.010,2,   2197.4,3,     -9.0,9,   7.5795,    25.00,2,   4.8018
  33LK19960415,  AR04,    91,  1,     13,2,19960515,  6.2113, -51.0868,   23,    896.2,   4.9359,  34.5902,2,  34.6008,2,    147.9,2,    146.9,2,    29.57,2,    33.42,2,     0.03,2,     2.28,2,    0.039,2,    0.009,2,   2204.1,3,     -9.0,9,   7.5859,    25.00,2,   4.8622
  33LK19960415,  AR04,    91,  1,     12,2,19960515,  6.2113, -51.0868,   23,    996.6,   4.9316,  34.7022,2,  34.7003,2,    151.0,2,    150.3,2,    28.36,2,    32.09,2,     0.03,2,     2.17,2,    0.017,2,    0.002,2,   2216.3,2,     -9.0,9,   7.5985,    25.00,2,   4.8488
  33LK19960415,  AR04,    91,  1,     11,2,19960515,  6.2113, -51.0868,   23,   1195.8,   4.9405,  34.8927,2,  34.8788,2,    185.1,2,    182.2,2,    22.96,2,    26.86,2,     0.03,2,     1.79,2,    0.067,2,    0.021,2,   2201.2,2,     -9.0,9,   7.6608,    25.00,2,   4.8390
  33LK19960415,  AR04,    91,  1,     10,2,19960515,  6.2113, -51.0868,   23,   1396.9,   4.4924,  35.0062,2,  35.0093,2,    235.7,2,    230.5,2,    15.65,2,    20.53,2,     0.02,2,     1.33,2,    0.293,2,    0.086,2,   2163.1,2,     -9.0,9,   7.7358,    25.00,2,   4.3762
  33LK19960415,  AR04,    91,  1,      9,2,19960515,  6.2113, -51.0868,   23,   1494.3,   4.3208,  35.0058,2,  35.0090,2,    247.8,2,    246.1,2,    14.41,2,    19.03,2,     0.03,2,     1.22,2,    0.444,2,    0.158,2,   2158.9,2,     -9.0,9,   7.7461,    25.00,2,   4.1974
  33LK19960415,  AR04,    91,  1,      8,2,19960515,  6.2113, -51.0868,   23,   1592.6,   4.1888,  35.0012,2,  35.0031,2,    252.1,2,    250.9,2,    14.38,2,    18.68,2,     0.03,2,     1.20,2,    0.453,2,    0.165,2,   2150.4,2,     -9.0,9,   7.7478,    25.00,2,   4.0577
  33LK19960415,  AR04,    91,  1,      7,2,19960515,  6.2113, -51.0868,   23,   1696.4,   4.0578,  34.9962,2,  34.9984,2,    256.2,2,    254.4,2,    14.40,2,    18.46,2,     0.02,2,     1.18,2,    0.458,2,    0.158,2,   2146.7,3,     -9.0,9,   7.7496,    25.00,2,   3.9186
  33LK19960415,  AR04,    91,  1,      6,2,19960515,  6.2113, -51.0868,   23,   1795.9,   3.8222,  34.9870,2,  34.9894,2,    259.6,2,    258.0,2,    15.21,2,    18.30,2,     0.02,2,     1.17,2,    0.374,2,    0.137,2,   2153.2,2,     -9.0,9,   7.7591,    25.00,2,   3.6767
  33LK19960415,  AR04,    91,  1,      5,2,19960515,  6.2113, -51.0868,   23,   1995.9,   3.6497,  34.9836,2,  34.9846,2,    258.8,2,    258.2,2,    16.65,2,    18.45,2,     0.02,2,     1.19,2,    0.178,2,    0.057,2,   2140.5,3,     -9.0,9,   7.7545,    25.00,2,   3.4877
  33LK19960415,  AR04,    91,  1,      4,2,19960515,  6.2113, -51.0868,   23,   2196.9,   3.3086,  34.9663,2,  34.9650,2,    260.5,2,    260.1,2,    19.81,2,    18.53,2,     0.02,2,     1.20,2,    0.159,2,    0.050,2,   2144.0,3,     -9.0,9,   7.7568,    25.00,2,   3.1327
  33LK19960415,  AR04,    91,  1,      3,2,19960515,  6.2113, -51.0868,   23,   2384.4,   3.0736,  34.9536,2,  34.9539,2,    261.2,2,    260.8,2,    21.28,2,    18.60,2,     0.02,2,     1.20,2,    0.148,2,    0.047,2,   2161.5,2,     -9.0,9,   7.7602,    25.00,2,   2.8836
  33LK19960415,  AR04,    91,  1,      2,2,19960515,  6.2113, -51.0868,   23,   2701.0,   2.8173,  34.9385,2,  34.9376,2,    262.7,2,    260.5,2,    23.86,2,    18.60,2,     0.02,2,     1.21,2,    0.173,2,    0.039,2,   2149.0,3,     -9.0,9,   7.7587,    25.00,2,   2.6009
  33LK19960415,  AR04,    91,  1,      1,2,19960515,  6.2113, -51.0868,   23,   3015.4,   2.6025,  34.9271,2,  34.9227,2,    261.7,2,    262.8,2,    26.80,2,    18.79,2,     0.02,2,     1.24,2,    0.163,2,    0.053,2,   2155.6,3,     -9.0,9,   7.7577,    25.00,2,   2.3588
  33LK19960415,  AR04,    92,  1,     16,2,19960515,  6.0308, -51.2387,   25,      2.4,  28.1217,  26.5408,2,  26.8522,2,    216.4,2,    217.8,2,    18.59,2,     0.11,2,     0.00,2,     0.00,2,    1.711,2,    0.918,2,   1554.7,2,    246.7,2,   8.1978,    25.00,2,  28.1211
  33LK19960415,  AR04,    92,  1,     15,2,19960515,  6.0308, -51.2387,   25,     71.5,  27.0981,  36.2707,2,  36.2039,2,    196.8,2,    195.7,2,     1.11,2,     0.13,2,     0.00,2,     0.05,2,    1.582,2,    0.830,2,     -9.0,9,     -9.0,9,-999.0000,  -999.00,9,  27.0816
  33LK19960415,  AR04,    92,  1,     14,2,19960515,  6.0308, -51.2387,   25,    247.0,   9.8926,  34.9331,2,  34.9097,2,    133.7,2,    136.1,2,    12.53,2,    25.39,2,     0.01,2,     1.68,2,    0.856,2,    0.348,2,     -9.0,9,     -9.0,9,-999.0000,  -999.00,9,   9.8641
  33LK19960415,  AR04,    92,  1,     13,2,19960515,  6.0308, -51.2387,   25,    497.3,   7.0642,  34.6457,2,  34.6636,2,    124.2,2,    121.4,2,    19.59,2,    32.39,2,     0.01,2,     2.15,2,    0.348,2,    0.142,2,     -9.0,9,     -9.0,9,-999.0000,  -999.00,9,   7.0166
  33LK19960415,  AR04,    92,  1,     12,2,19960515,  6.0308, -51.2387,   25,    747.9,   4.9441,  34.5080,2,  34.5094,2,    150.5,2,    149.9,2,    29.05,2,    33.89,2,     0.01,2,     2.35,2,    0.085,2,    0.024,2,     -9.0,9,     -9.0,9,-999.0000,  -999.00,9,   4.8835
  33LK19960415,  AR04,    92,  1,     11,2,19960515,  6.0308, -51.2387,   25,    896.7,   4.7447,  34.5260,2,  34.5279,2,    152.1,2,    151.2,2,    30.45,2,    33.84,2,     0.01,2,     2.35,2,    0.044,2,    0.012,2,     -9.0,9,     -9.0,9,-999.0000,  -999.00,9,   4.6724
  33LK19960415,  AR04,    92,  1,     10,2,19960515,  6.0308, -51.2387,   25,    994.8,   4.9585,  34.7312,2,  34.7437,2,    153.2,2,    154.8,2,    26.77,2,    30.91,2,     0.01,2,     2.13,2,    0.017,2,    0.005,2,     -9.0,9,     -9.0,9,-999.0000,  -999.00,9,   4.8756
  33LK19960415,  AR04,    92,  1,      9,2,19960515,  6.0308, -51.2387,   25,   1194.3,   4.8364,  34.9113,2,  34.9134,2,    191.7,2,    192.7,2,    21.06,2,    25.17,2,     0.01,2,     1.71,2,    0.091,2,    0.034,2,     -9.0,9,     -9.0,9,-999.0000,  -999.00,9,   4.7359
  33LK19960415,  AR04,    92,  1,      8,2,19960515,  6.0308, -51.2387,   25,   1394.6,   4.6831,  35.0085,2,  35.0058,2,    230.9,2,    231.1,2,    15.49,2,    20.26,2,     0.01,2,     1.34,2,    0.342,2,    0.147,2,     -9.0,9,     -9.0,9,-999.0000,  -999.00,9,   4.5652
  33LK19960415,  AR04,    92,  1,      7,2,19960515,  6.0308, -51.2387,   25,   1494.2,   4.4929,  35.0104,2,  35.0108,2,    242.0,2,    241.0,2,    14.48,2,    19.27,2,     0.01,2,     1.27,2,    0.414,2,    0.181,2,     -9.0,9,     -9.0,9,-999.0000,  -999.00,9,   4.3676
  33LK19960415,  AR04,    92,  1,      6,2,19960515,  6.0308, -51.2387,   25,   1595.7,   4.2814,  35.0050,2,  35.0061,2,    249.5,2,    248.6,2,    13.95,2,    18.65,2,     0.01,2,     1.22,2,    0.425,2,    0.172,2,     -9.0,9,     -9.0,9,-999.0000,  -999.00,9,   4.1489
  33LK19960415,  AR04,    92,  1,      5,2,19960515,  6.0308, -51.2387,   25,   1697.3,   4.0722,  34.9967,2,  34.9959,2,    254.8,2,    255.3,2,    13.86,2,    18.25,2,     0.01,2,     1.20,2,    0.426,2,    0.196,2,     -9.0,9,     -9.0,9,-999.0000,  -999.00,9,   3.9327
  33LK19960415,  AR04,    92,  1,      4,2,19960515,  6.0308, -51.2387,   25,   1795.5,   3.8014,  34.9865,2,  34.9871,2,    259.0,2,    258.5,2,    14.75,2,    18.13,2,     0.01,2,     1.20,2,    0.332,2,    0.153,2,     -9.0,9,     -9.0,9,-999.0000,  -999.00,9,   3.6562
  33LK19960415,  AR04,    92,  1,      3,2,19960515,  6.0308, -51.2387,   25,   1997.8,   3.5053,  34.9752,2,  34.9755,2,    261.1,2,    260.7,2,    16.55,2,    18.06,2,     0.01,2,     1.21,2,    0.229,2,    0.103,2,     -9.0,9,     -9.0,9,-999.0000,  -999.00,9,   3.3453
  33LK19960415,  AR04,    92,  1,      2,2,19960515,  6.0308, -51.2387,   25,   2195.6,   3.3718,  34.9691,2,  34.9682,2,    261.9,2,    261.1,2,    17.57,2,    18.20,2,     0.01,2,     1.21,2,    0.193,2,    0.095,2,     -9.0,9,     -9.0,9,-999.0000,  -999.00,9,   3.1950
  33LK19960415,  AR04,    92,  1,      1,2,19960515,  6.0308, -51.2387,   25,   2462.0,   3.2323,  34.9617,2,  34.9598,2,    258.6,2,    260.8,2,    19.30,2,    18.30,2,     0.01,2,     1.22,2,    0.159,2,    0.084,2,     -9.0,9,     -9.0,9,-999.0000,  -999.00,9,   3.0318
  33LK19960415,  AR04,    93,  1,     14,2,19960516,  5.9668, -51.2822,   25,      6.5,  28.0043,  26.5059,2,  27.2242,2,    213.3,2,    215.3,2,    18.59,2,     0.09,2,     0.00,2,     0.00,2,    1.809,2,    0.921,2,   1581.1,3,    258.6,2,   8.1861,    25.00,2,  28.0028
  33LK19960415,  AR04,    93,  1,     13,2,19960516,  5.9668, -51.2822,   25,     73.4,  27.6113,  36.0972,2,  36.1840,2,    194.6,2,    194.9,2,     1.29,2,     0.07,2,     0.00,2,     0.04,2,    1.653,2,    0.844,2,   2036.2,2,     -9.0,9,   8.0915,    25.00,2,  27.5941
  33LK19960415,  AR04,    93,  1,     12,2,19960516,  5.9668, -51.2822,   25,    246.9,  10.0044,  34.9465,2,  34.9259,2,    134.4,2,    135.7,2,    12.80,2,    25.22,2,     0.00,2,     1.65,2,    0.908,2,    0.318,2,   2186.4,2,     -9.0,9,   7.6907,    25.00,2,   9.9757
  33LK19960415,  AR04,    93,  1,     11,2,19960516,  5.9668, -51.2822,   25,    497.9,   7.5285,  34.6958,2,  34.6980,2,    131.1,2,    128.8,2,    19.09,2,    30.86,2,     0.00,2,     2.04,2,    0.410,2,    0.126,2,   2184.3,2,     -9.0,9,   7.6173,    25.00,2,   7.4791
  33LK19960415,  AR04,    93,  1,     10,2,19960516,  5.9668, -51.2822,   25,    744.6,   5.0642,  34.5106,2,  34.5116,2,    148.8,2,    148.3,2,    29.42,2,    33.82,2,     0.00,2,     2.32,2,    0.096,2,    0.020,2,   2232.1,2,     -9.0,9,   7.5914,    25.00,2,   5.0032
  33LK19960415,  AR04,    93,  1,      9,2,19960516,  5.9668, -51.2822,   25,    894.1,   4.7370,  34.5303,2,  34.5292,2,    152.6,2,    152.1,2,    31.42,2,    33.73,2,     0.00,2,     2.33,2,    0.103,2,    0.017,2,   2189.6,3,     -9.0,9,   7.5922,    25.00,2,   4.6649
  33LK19960415,  AR04,    93,  1,      8,2,19960516,  5.9668, -51.2822,   25,    996.0,   4.9870,  34.7842,2,  34.7866,2,    158.9,2,    161.7,2,    26.75,2,    29.73,2,     0.00,2,     2.03,2,    0.018,2,    0.003,2,   2178.9,3,     -9.0,9,   7.6359,    25.00,2,   4.9037
  33LK19960415,  AR04,    93,  1,      7,2,19960516,  5.9668, -51.2822,   25,   1197.2,   4.8283,  34.8982,2,  34.9008,2,    189.2,2,    189.7,2,    22.83,2,    25.62,2,     0.00,2,     1.73,2,    0.078,2,    0.021,2,   2184.8,2,     -9.0,9,   7.6870,    25.00,2,   4.7276
  33LK19960415,  AR04,    93,  1,      6,2,19960516,  5.9668, -51.2822,   25,   1394.3,   4.6733,  35.0110,2,  35.0120,2,    230.6,2,    234.1,2,    16.27,2,    19.96,2,     0.00,2,     1.31,2,    0.396,2,    0.143,2,   2139.6,3,     -9.0,9,   7.7478,    25.00,2,   4.5555
  33LK19960415,  AR04,    93,  1,      5,2,19960516,  5.9668, -51.2822,   25,   1496.5,   4.4219,  35.0086,2,  35.0087,2,    244.3,2,    244.3,2,    15.55,2,    19.16,2,     0.00,2,     1.25,2,    0.417,2,    0.166,2,   2123.9,3,     -9.0,9,   7.7571,    25.00,2,   4.2972
  33LK19960415,  AR04,    93,  1,      4,2,19960516,  5.9668, -51.2822,   25,   1596.5,   4.3338,  35.0063,2,  35.0063,2,    247.8,2,    247.0,2,    15.47,2,    18.87,2,     0.00,2,     1.22,2,    0.431,2,    0.172,2,   2124.7,3,     -9.0,9,   7.7594,    25.00,2,   4.2006
  33LK19960415,  AR04,    93,  1,      3,2,19960516,  5.9668, -51.2822,   25,   1695.5,   4.1274,  34.9987,2,  34.9980,2,    251.4,2,    253.3,2,    15.54,2,    18.44,2,     0.00,2,     1.19,2,    0.400,2,    0.176,2,   2117.6,3,     -9.0,9,   7.7600,    25.00,2,   3.9874
  33LK19960415,  AR04,    93,  1,      2,9,19960516,  5.9668, -51.2822,   25,   1798.2,   3.9523,  34.9931,2,  -9.0000,9,     -9.0,4,     -9.0,9,    -9.00,9,    -9.00,9,    -9.00,9,    -9.00,9,   -9.000,9,   -9.000,9,     -9.0,9,     -9.0,9,-999.0000,  -999.00,9,   3.8048
  33LK19960415,  AR04,    93,  1,      1,9,19960516,  5.9668, -51.2822,   25,   2029.3,   3.5328,  34.9772,2,  -9.0000,9,     -9.0,4,     -9.0,9,    -9.00,9,    -9.00,9,    -9.00,9,    -9.00,9,   -9.000,9,   -9.000,9,     -9.0,9,     -9.0,9,-999.0000,  -999.00,9,   3.3694
  33LK19960415,  AR04,    94,  1,      9,2,19960516,  5.9135, -51.3662,   25,      6.7,  27.7874,  32.2419,2,  33.6951,2,    203.1,2,    199.3,2,     5.97,2,     0.00,2,     0.00,2,     0.01,2,    1.632,2,    0.877,2,     -9.0,9,    346.5,3,-999.0000,  -999.00,9,  27.7858
  33LK19960415,  AR04,    94,  1,      8,2,19960516,  5.9135, -51.3662,   25,     71.9,  26.6528,  36.2735,2,  36.4340,2,    193.4,2,    179.8,2,     3.03,2,     1.04,2,     0.19,2,     0.16,2,    1.652,2,    0.839,2,     -9.0,9,     -9.0,9,-999.0000,  -999.00,9,  26.6364
  33LK19960415,  AR04,    94,  1,      7,2,19960516,  5.9135, -51.3662,   25,    248.1,  10.0435,  34.9602,2,  34.9407,2,    130.5,2,    132.8,2,    14.28,2,    25.40,2,     0.00,2,     1.66,2,    0.853,2,    0.341,2,     -9.0,9,     -9.0,9,-999.0000,  -999.00,9,  10.0146
  33LK19960415,  AR04,    94,  1,      6,2,19960516,  5.9135, -51.3662,   25,    496.8,   7.2464,  34.6548,2,  34.6478,2,    136.2,2,    133.6,2,    21.22,2,    31.22,2,     0.00,2,     2.07,2,    0.414,2,    0.130,2,     -9.0,9,     -9.0,9,-999.0000,  -999.00,9,   7.1982
  33LK19960415,  AR04,    94,  1,      5,2,19960516,  5.9135, -51.3662,   25,    746.5,   5.0834,  34.5073,2,  34.5092,2,    149.8,2,    149.3,2,    30.33,2,    33.91,2,     0.00,2,     2.32,2,    0.126,2,    0.017,2,     -9.0,9,     -9.0,9,-999.0000,  -999.00,9,   5.0221
  33LK19960415,  AR04,    94,  1,      4,2,19960516,  5.9135, -51.3662,   25,    894.9,   4.9467,  34.6905,2,  34.6962,2,    149.8,2,    149.6,2,    30.08,2,    32.04,2,     0.00,2,     2.19,2,    0.024,2,    0.007,2,     -9.0,9,     -9.0,9,-999.0000,  -999.00,9,   4.8729
  33LK19960415,  AR04,    94,  1,      3,2,19960516,  5.9135, -51.3662,   25,    995.7,   4.9665,  34.8119,2,  34.8333,2,    167.1,2,    170.9,2,    26.19,2,    28.29,2,     0.00,2,     1.90,2,    0.053,2,    0.013,2,     -9.0,9,     -9.0,9,-999.0000,  -999.00,9,   4.8833
  33LK19960415,  AR04,    94,  1,      2,2,19960516,  5.9135, -51.3662,   25,   1195.9,   4.8257,  34.9262,2,  34.9270,2,    196.8,2,    197.8,2,    21.49,2,    24.61,2,     0.00,2,     1.64,2,    0.012,2,    0.060,2,     -9.0,9,     -9.0,9,-999.0000,  -999.00,9,   4.7251
  33LK19960415,  AR04,    94,  1,      1,2,19960516,  5.9135, -51.3662,   25,   1406.5,   4.5146,  35.0036,2,  35.0026,2,    234.6,2,    236.3,2,    16.21,2,    19.86,2,     0.00,2,     1.29,2,    0.372,2,    0.175,2,     -9.0,9,     -9.0,9,-999.0000,  -999.00,9,   4.3973