BOTTLE,20090511PRINUNIVRMK
EXPOCODE,SECT_ID,STNNBR,CASTNO,BTLNBR,BTLNBR_FLAG_W,DATE,LATITUDE,LONGITUDE,DEPTH,CTDPRS,CTDTMP,CTDSAL,CTDSAL_FLAG_W,SALNTY,SALNTY_FLAG_W,CTDOXY,CTDOXY_FLAG_W,OXYGEN,OXYGEN_FLAG_W,SILCAT,SILCAT_FLAG_W,NITRAT,NITRAT_FLAG_W,NITRIT,NITRIT_FLAG_W,PHSPHT,PHSPHT_FLAG_W,CFC-11,CFC-11_FLAG_W,CFC-12,CFC-12_FLAG_W,TCARBN,TCARBN_FLAG_W,PCO2,PCO2_FLAG_W,PH_SWS,PH_TEMP,PH_SWS_FLAG_W,THETA
,,,,,,,,,METERS,DBARS,ITS-90,PSS-78,,PSS-78,,UMOL/KG,,UMOL/KG,,UMOL/KG,,UMOL/KG,,UMOL/KG,,UMOL/KG,,PMOL/KG,,PMOL/KG,,UMOL/KG,,PPM,,,DEGC,,DEGC
  33LK19960415,  AR04,    76,  1,     22,2,19960509,  3.8412, -43.3033,   23,      1.1,  27.7316,  35.8647,2,  35.8810,2,    190.3,3,    198.4,2,     0.80,2,     0.04,2,     0.00,2,     0.00,2,   -9.000,9,   -9.000,9,   2014.5,2,    375.1,2,   8.1009,    25.00,2,  27.7313
  33LK19960415,  AR04,    76,  1,     21,2,19960509,  3.8412, -43.3033,   23,     54.5,  27.4815,  36.1287,2,  36.1278,2,    197.2,3,    200.9,2,     0.77,2,     0.00,2,     0.00,2,     0.00,2,   -9.000,9,   -9.000,9,   2024.8,2,     -9.0,9,   8.1090,    25.00,2,  27.4688
  33LK19960415,  AR04,    76,  1,     20,2,19960509,  3.8412, -43.3033,   23,    199.6,  11.3925,  35.1757,2,  35.1599,2,    121.9,3,    124.2,2,    10.59,2,    23.89,2,     0.00,2,     1.47,2,   -9.000,9,   -9.000,9,   2218.4,3,     -9.0,9,   7.7186,    25.00,2,  11.3673
  33LK19960415,  AR04,    76,  1,     19,2,19960509,  3.8412, -43.3033,   23,    499.3,   7.4497,  34.7048,2,  34.6636,2,    107.9,3,    115.0,2,    21.71,2,    33.61,2,     0.00,2,     2.16,2,   -9.000,9,   -9.000,9,   2235.0,3,     -9.0,9,   7.5794,    25.00,2,   7.4005
  33LK19960415,  AR04,    76,  1,     18,2,19960509,  3.8412, -43.3033,   23,    696.3,   5.4850,  34.5722,2,  34.5522,2,    133.4,3,    140.8,2,    29.80,2,    34.22,2,     0.00,2,     2.28,2,   -9.000,9,   -9.000,9,   2230.3,2,     -9.0,9,   7.5774,    25.00,2,   5.4259
  33LK19960415,  AR04,    76,  1,     17,2,19960509,  3.8412, -43.3033,   23,    845.1,   4.7067,  34.5772,2,  34.5970,2,    150.0,3,    154.0,2,    31.56,2,    33.00,2,     0.00,2,     2.22,2,    0.027,2,    0.002,2,   2194.6,3,     -9.0,9,   7.5991,    25.00,2,   4.6390
  33LK19960415,  AR04,    76,  1,     16,2,19960509,  3.8412, -43.3033,   23,    997.3,   4.6456,  34.6748,2,  34.7188,2,    158.6,3,    160.9,2,    28.99,2,    31.05,2,     0.00,2,     2.07,2,    0.010,2,    0.001,2,   2228.5,2,     -9.0,9,   7.6128,    25.00,2,   4.5649
  33LK19960415,  AR04,    76,  1,     15,2,19960509,  3.8412, -43.3033,   23,   1191.1,   4.7581,  34.8733,2,  34.8877,2,    182.8,3,    188.9,2,    23.01,2,    26.29,2,     0.00,2,     1.71,2,    0.049,2,    0.012,2,   2163.6,3,     -9.0,9,   7.6765,    25.00,2,   4.6587
  33LK19960415,  AR04,    76,  1,     14,2,19960509,  3.8412, -43.3033,   23,   1396.3,   4.3779,  34.9632,2,  34.9654,2,    223.6,3,    224.7,2,    18.62,2,    22.01,2,     0.00,2,     1.40,2,    0.076,2,    0.026,2,   2171.9,2,     -9.0,9,   7.7248,    25.00,2,   4.2631
  33LK19960415,  AR04,    76,  1,     13,9,19960509,  3.8412, -43.3033,   23,   1493.0,   4.2417,  34.9917,2,  -9.0000,9,     -9.0,4,     -9.0,9,    -9.00,9,    -9.00,9,    -9.00,9,    -9.00,9,   -9.000,9,   -9.000,9,     -9.0,9,     -9.0,9,-999.0000,  -999.00,9,   4.1193
  33LK19960415,  AR04,    76,  1,     12,2,19960509,  3.8412, -43.3033,   23,   1592.9,   4.1133,  34.9885,2,  34.9888,2,    245.9,3,    244.3,2,    16.39,2,    19.81,2,     0.00,2,     1.24,2,    0.171,2,    0.064,2,   2161.9,2,     -9.0,9,   7.7467,    25.00,2,   3.9831
  33LK19960415,  AR04,    76,  1,     11,2,19960509,  3.8412, -43.3033,   23,   1698.7,   4.0520,  34.9917,2,  34.9917,2,    248.5,3,    248.1,2,    16.07,2,    19.40,2,     0.00,2,     1.22,2,    0.214,2,    0.084,2,   2154.4,2,     -9.0,9,   7.7496,    25.00,2,   3.9127
  33LK19960415,  AR04,    76,  1,     10,2,19960509,  3.8412, -43.3033,   23,   1796.1,   3.9445,  34.9851,2,  34.9877,2,    248.6,3,    249.2,2,    16.56,2,    19.38,2,     0.00,2,     1.21,2,    0.153,2,    0.063,2,   2140.7,3,     -9.0,9,   7.7516,    25.00,2,   3.7974
  33LK19960415,  AR04,    76,  1,      9,2,19960509,  3.8412, -43.3033,   23,   1995.3,   3.6009,  34.9768,2,  34.9787,2,    254.4,3,    255.9,2,    17.92,2,    18.99,2,     0.00,2,     1.19,2,    0.116,2,    0.051,2,   2158.8,2,     -9.0,9,   7.7631,    25.00,2,   3.4397
  33LK19960415,  AR04,    76,  1,      8,2,19960509,  3.8412, -43.3033,   23,   2196.1,   3.3671,  34.9659,2,  34.9668,2,    255.5,3,    257.1,2,    20.29,2,    19.08,2,     0.00,2,     1.20,2,    0.126,2,    0.054,2,   2138.6,3,     -9.0,9,   7.7669,    25.00,2,   3.1903
  33LK19960415,  AR04,    76,  1,      7,2,19960509,  3.8412, -43.3033,   23,   2400.6,   3.2282,  34.9596,2,  34.9597,2,    256.7,3,    258.7,2,    21.41,2,    18.97,2,     0.00,2,     1.19,2,    0.084,2,    0.034,2,   2131.3,3,     -9.0,9,   7.7630,    25.00,2,   3.0338
  33LK19960415,  AR04,    76,  1,      5,2,19960509,  3.8412, -43.3033,   23,   2699.9,   2.9269,  34.9417,2,  34.9414,2,    258.9,3,    259.0,2,    25.44,2,    19.30,2,     0.00,2,     1.23,2,   -9.000,9,   -9.000,9,   2142.3,3,     -9.0,9,   7.7602,    25.00,2,   2.7084
  33LK19960415,  AR04,    76,  1,      6,2,19960509,  3.8412, -43.3033,   23,   2700.0,   2.9267,  34.9416,2,  34.9427,2,    258.9,3,    258.7,2,    25.44,2,    19.27,2,     0.00,2,     1.23,2,    0.119,2,    0.025,2,   2162.6,2,     -9.0,9,   7.7695,    25.00,2,   2.7082
  33LK19960415,  AR04,    76,  1,      4,2,19960509,  3.8412, -43.3033,   23,   2996.8,   2.7378,  34.9285,2,  34.9279,2,    257.8,3,    258.2,2,    29.10,2,    19.63,2,     0.00,2,     1.26,2,    0.053,2,    0.017,2,   2162.8,2,     -9.0,9,   7.7590,    25.00,2,   2.4930
  33LK19960415,  AR04,    76,  1,      3,2,19960509,  3.8412, -43.3033,   23,   3300.9,   2.5304,  34.9157,2,  34.9159,2,    261.0,3,    260.8,2,    30.55,2,    19.47,2,     0.00,2,     1.24,2,    0.100,2,    0.037,2,   2176.3,2,     -9.0,9,   7.7578,    25.00,2,   2.2585
  33LK19960415,  AR04,    76,  1,      2,2,19960509,  3.8412, -43.3033,   23,   3501.1,   2.4534,  34.9103,2,  34.9097,2,    261.7,3,    262.1,2,    31.27,2,    19.37,2,     0.00,2,     1.24,2,    0.103,2,    0.070,2,   2175.3,2,     -9.0,9,   7.7548,    25.00,2,   2.1620
  33LK19960415,  AR04,    76,  1,      1,2,19960509,  3.8412, -43.3033,   23,   3702.0,   2.3638,  34.9038,2,  34.9038,2,    261.2,3,    262.9,2,    32.27,2,    19.35,2,     0.00,2,     1.25,2,    0.111,2,    0.044,2,   2169.7,2,     -9.0,9,   7.7608,    25.00,2,   2.0527
  33LK19960415,  AR04,    77,  1,     22,2,19960509,  4.2732, -43.0740,   23,      8.7,  27.8436,  35.8512,2,  35.8662,2,    200.9,2,    199.2,2,     0.95,2,     0.09,2,     0.00,2,     0.01,2,    1.608,2,    0.850,2,   2000.7,2,    378.4,2,   8.1028,    25.00,2,  27.8416
  33LK19960415,  AR04,    77,  1,     21,2,19960509,  4.2732, -43.0740,   23,     49.7,  27.8750,  35.9508,2,  35.9445,2,    198.8,2,    198.9,2,     0.81,2,     0.11,2,     0.00,2,     0.01,2,    1.573,2,    0.829,2,     -9.0,9,     -9.0,9,-999.0000,  -999.00,9,  27.8633
  33LK19960415,  AR04,    77,  1,     20,2,19960509,  4.2732, -43.0740,   23,    199.7,  10.3752,  35.0064,2,  35.0297,2,    128.7,2,    130.2,2,    11.41,2,    24.90,2,     0.00,2,     1.55,2,    0.913,2,    0.352,2,     -9.0,9,     -9.0,9,-999.0000,  -999.00,9,  10.3515
  33LK19960415,  AR04,    77,  1,     19,2,19960509,  4.2732, -43.0740,   23,    497.1,   6.5524,  34.5890,2,  34.5940,2,    142.2,2,    142.4,2,    21.34,2,    31.91,2,     0.00,2,     2.06,2,    0.357,2,    0.141,2,     -9.0,9,     -9.0,9,-999.0000,  -999.00,9,   6.5068
  33LK19960415,  AR04,    77,  1,     18,2,19960509,  4.2732, -43.0740,   23,    697.0,   5.1802,  34.5453,2,  34.5475,2,    138.6,2,    139.5,2,    28.83,2,    34.52,2,     0.00,2,     2.30,2,    0.045,2,    0.014,2,     -9.0,9,     -9.0,9,-999.0000,  -999.00,9,   5.1226
  33LK19960415,  AR04,    77,  1,     17,2,19960509,  4.2732, -43.0740,   23,    895.4,   4.7337,  34.6430,2,  34.6557,2,    149.1,2,    151.5,2,    29.41,2,    32.87,2,     0.00,2,     2.18,2,    0.000,2,    0.000,2,     -9.0,9,     -9.0,9,-999.0000,  -999.00,9,   4.6614
  33LK19960415,  AR04,    77,  1,     16,2,19960509,  4.2732, -43.0740,   23,    994.7,   4.6540,  34.7179,2,  34.7217,2,    159.1,2,    160.2,2,    28.00,2,    31.31,2,     0.00,2,     2.06,2,   -0.004,2,   -0.001,2,     -9.0,9,     -9.0,9,-999.0000,  -999.00,9,   4.5734
  33LK19960415,  AR04,    77,  1,     15,2,19960509,  4.2732, -43.0740,   23,   1196.7,   4.6886,  34.8918,2,  34.8960,2,    190.1,2,    190.1,2,    21.85,2,    26.20,2,     0.00,2,     1.69,2,    0.050,2,    0.014,2,     -9.0,9,     -9.0,9,-999.0000,  -999.00,9,   4.5893
  33LK19960415,  AR04,    77,  1,     14,2,19960509,  4.2732, -43.0740,   23,   1395.6,   4.4553,  34.9620,2,  34.9658,2,    220.9,2,    223.4,2,    17.93,2,    22.29,2,     0.00,2,     1.41,2,    0.091,2,    0.031,2,     -9.0,9,     -9.0,9,-999.0000,  -999.00,9,   4.3397
  33LK19960415,  AR04,    77,  1,     13,2,19960509,  4.2732, -43.0740,   23,   1495.3,   4.2562,  34.9737,2,  34.9874,2,    230.9,2,    238.3,2,    16.36,2,    20.58,2,     0.00,2,     1.29,2,    0.138,2,    0.057,2,     -9.0,9,     -9.0,9,-999.0000,  -999.00,9,   4.1335
  33LK19960415,  AR04,    77,  1,     11,2,19960509,  4.2732, -43.0740,   23,   1596.7,   4.1589,  34.9833,2,  34.9810,2,    240.0,2,    241.0,2,    16.82,2,    20.53,2,     0.00,2,     1.30,2,   -9.000,9,   -9.000,9,     -9.0,9,     -9.0,9,-999.0000,  -999.00,9,   4.0279
  33LK19960415,  AR04,    77,  1,     12,2,19960509,  4.2732, -43.0740,   23,   1597.4,   4.1606,  34.9827,2,  34.9806,2,    240.0,2,    240.0,2,    16.84,2,    20.54,2,     0.00,2,     1.29,2,    0.083,2,    0.032,2,     -9.0,9,     -9.0,9,-999.0000,  -999.00,9,   4.0295
  33LK19960415,  AR04,    77,  1,     10,2,19960509,  4.2732, -43.0740,   23,   1698.1,   4.0245,  34.9810,2,  34.9820,2,    243.1,2,    245.2,2,    16.89,2,    20.03,2,     0.00,2,     1.26,2,    0.084,2,    0.038,2,     -9.0,9,     -9.0,9,-999.0000,  -999.00,9,   3.8856
  33LK19960415,  AR04,    77,  1,      9,2,19960509,  4.2732, -43.0740,   23,   1797.5,   3.8748,  34.9826,2,  34.9838,2,    250.2,2,    250.9,2,    16.75,2,    19.47,2,     0.00,2,     1.22,2,    0.100,2,    0.046,2,     -9.0,9,     -9.0,9,-999.0000,  -999.00,9,   3.7285
  33LK19960415,  AR04,    77,  1,      8,2,19960509,  4.2732, -43.0740,   23,   1996.7,   3.6179,  34.9773,2,  34.9780,2,    254.5,2,    256.3,2,    17.74,2,    19.04,2,     0.00,2,     1.20,2,    0.134,2,    0.057,2,     -9.0,9,     -9.0,9,-999.0000,  -999.00,9,   3.4563
  33LK19960415,  AR04,    77,  1,      7,2,19960509,  4.2732, -43.0740,   23,   2195.5,   3.4464,  34.9706,2,  34.9690,2,    256.7,2,    257.9,2,    19.56,2,    19.11,2,     0.00,2,     1.20,2,    0.056,2,    0.026,2,     -9.0,9,     -9.0,9,-999.0000,  -999.00,9,   3.2683
  33LK19960415,  AR04,    77,  1,      6,2,19960509,  4.2732, -43.0740,   23,   2395.4,   3.2565,  34.9618,2,  34.9632,2,    258.6,2,    259.1,2,    20.59,2,    19.01,2,     0.00,2,     1.20,2,    0.080,2,    0.032,2,     -9.0,9,     -9.0,9,-999.0000,  -999.00,9,   3.0621
  33LK19960415,  AR04,    77,  1,      5,2,19960509,  4.2732, -43.0740,   23,   2697.5,   2.9298,  34.9426,2,  34.9422,2,    258.1,2,    258.6,2,    24.62,2,    19.36,2,     0.00,2,     1.23,2,    0.103,2,    0.032,2,     -9.0,9,     -9.0,9,-999.0000,  -999.00,9,   2.7115
  33LK19960415,  AR04,    77,  1,      4,2,19960509,  4.2732, -43.0740,   23,   2997.5,   2.7434,  34.9291,2,  34.9314,2,    258.2,2,    258.5,2,    27.68,2,    19.60,2,     0.00,2,     1.25,2,    0.061,2,    0.023,2,     -9.0,9,     -9.0,9,-999.0000,  -999.00,9,   2.4984
  33LK19960415,  AR04,    77,  1,      3,2,19960509,  4.2732, -43.0740,   23,   3198.7,   2.6269,  34.9221,2,  34.9220,2,    258.8,2,    260.4,2,    28.96,2,    19.54,2,     0.00,2,     1.24,2,    0.084,2,    0.036,2,     -9.0,9,     -9.0,9,-999.0000,  -999.00,9,   2.3636
  33LK19960415,  AR04,    77,  1,      2,2,19960509,  4.2732, -43.0740,   23,   3396.4,   2.5441,  34.9156,2,  34.9158,2,    258.4,2,    259.6,2,    31.03,2,    19.75,2,     0.00,2,     1.26,2,    0.089,2,    0.033,2,     -9.0,9,     -9.0,9,-999.0000,  -999.00,9,   2.2617
  33LK19960415,  AR04,    77,  1,      1,2,19960509,  4.2732, -43.0740,   23,   3666.0,   2.4104,  34.9069,2,  34.9070,2,    262.5,2,    262.7,2,    30.76,2,    19.36,2,     0.00,2,     1.24,2,    0.120,2,    0.038,2,     -9.0,9,     -9.0,9,-999.0000,  -999.00,9,   2.1021
  33LK19960415,  AR04,    78,  1,     22,2,19960509,  4.5720, -42.9282,   25,      0.6,  27.8557,  35.8797,2,  35.9157,2,    197.3,2,    199.7,2,     0.78,2,     0.00,2,     0.00,2,     0.02,2,    1.599,2,    0.865,2,   1977.0,3,    362.8,2,   8.1027,    25.00,2,  27.8556
  33LK19960415,  AR04,    78,  1,     21,2,19960509,  4.5720, -42.9282,   25,     48.4,  27.8249,  35.8963,2,  35.9181,2,    202.8,2,    199.3,2,     0.74,2,     0.00,2,     0.00,2,     0.02,2,    1.575,2,    0.821,2,   1981.6,2,     -9.0,9,   8.1039,    25.00,2,  27.8135
  33LK19960415,  AR04,    78,  1,     20,2,19960509,  4.5720, -42.9282,   25,    198.3,  10.4715,  35.0046,2,  35.0560,2,    128.6,3,    129.6,2,    11.28,2,    24.16,2,     0.00,2,     1.53,2,    0.941,2,    0.342,2,   2165.2,2,     -9.0,9,   7.7147,    25.00,2,  10.4478
  33LK19960415,  AR04,    78,  1,     19,2,19960509,  4.5720, -42.9282,   25,    497.6,   7.1466,  34.6614,2,  34.6804,2,    121.7,2,    118.3,2,    20.40,2,    32.59,2,     0.00,2,     2.10,2,    0.246,2,    0.053,2,   2204.7,2,     -9.0,9,   7.6027,    25.00,2,   7.0987
  33LK19960415,  AR04,    78,  1,     18,2,19960509,  4.5720, -42.9282,   25,    698.5,   5.2518,  34.5452,2,  34.5511,2,    139.9,2,    137.0,2,    27.77,2,    34.18,2,     0.00,2,     2.27,2,    0.079,2,    0.019,2,   2216.5,2,     -9.0,9,   7.5924,    25.00,2,   5.1937
  33LK19960415,  AR04,    78,  1,     17,2,19960509,  4.5720, -42.9282,   25,    897.5,   4.6696,  34.6242,2,  34.6157,2,    154.3,2,    153.1,2,    30.98,2,    32.81,2,     0.00,2,     2.20,2,    0.003,2,    0.001,2,   2210.5,2,     -9.0,9,   7.6096,    25.00,2,   4.5976
  33LK19960415,  AR04,    78,  1,     16,2,19960509,  4.5720, -42.9282,   25,    999.2,   4.6595,  34.6807,2,  34.6809,2,    155.6,2,    155.3,2,    29.90,2,    31.92,2,     0.00,2,     2.15,2,   -9.000,9,   -9.000,9,   2210.5,2,     -9.0,9,   7.6131,    25.00,2,   4.5786
  33LK19960415,  AR04,    78,  1,     15,2,19960509,  4.5720, -42.9282,   25,   1295.9,   4.5907,  34.9307,2,  34.9161,2,    204.7,2,    199.8,2,    21.68,2,    24.88,2,     0.00,2,     1.61,2,    0.049,2,    0.012,2,   2206.0,2,     -9.0,9,   7.6964,    25.00,2,   4.4831
  33LK19960415,  AR04,    78,  1,     14,2,19960509,  4.5720, -42.9282,   25,   1493.8,   4.3277,  34.9717,2,  34.9734,2,    228.0,2,    228.4,2,    18.02,2,    21.39,2,     0.00,2,     1.38,2,    0.094,2,    0.040,2,   2154.3,2,     -9.0,9,   7.7369,    25.00,2,   4.2044
  33LK19960415,  AR04,    78,  1,     12,2,19960509,  4.5720, -42.9282,   25,   1596.7,   4.2623,  34.9931,2,  34.9930,2,    240.1,2,    240.3,2,    16.25,2,    19.92,2,     0.00,2,     1.27,2,    0.199,2,    0.080,2,   2162.7,2,     -9.0,9,   7.7490,    25.00,2,   4.1300
  33LK19960415,  AR04,    78,  1,     13,2,19960509,  4.5720, -42.9282,   25,   1597.2,   4.2655,  34.9917,2,  34.9938,2,    240.1,2,    240.3,2,    16.21,2,    19.93,2,     0.00,2,     1.27,2,   -9.000,9,   -9.000,9,   2154.5,2,     -9.0,9,   7.7584,    25.00,2,   4.1331
  33LK19960415,  AR04,    78,  1,     11,2,19960509,  4.5720, -42.9282,   25,   1693.3,   4.1005,  34.9888,2,  34.9893,2,    246.8,2,    245.8,2,    16.35,2,    19.63,2,     0.00,2,     1.24,2,    0.175,2,    0.068,2,   2152.6,2,     -9.0,9,   7.7501,    25.00,2,   3.9611
  33LK19960415,  AR04,    78,  1,     10,2,19960509,  4.5720, -42.9282,   25,   1792.4,   3.9758,  34.9844,2,  34.9854,2,    248.3,2,    247.7,2,    16.88,2,    19.55,2,     0.00,2,     1.24,2,    0.119,2,    0.045,2,   2143.0,3,     -9.0,9,   7.7519,    25.00,2,   3.8286
  33LK19960415,  AR04,    78,  1,      9,2,19960509,  4.5720, -42.9282,   25,   1993.1,   3.7218,  34.9796,2,  34.9801,2,    254.6,2,    253.3,2,    17.64,2,    19.09,2,     0.00,2,     1.21,2,    0.089,2,    0.035,2,   2152.5,2,     -9.0,9,   7.7648,    25.00,2,   3.5590
  33LK19960415,  AR04,    78,  1,      8,2,19960509,  4.5720, -42.9282,   25,   2194.7,   3.5048,  34.9719,2,  34.9728,2,    257.1,3,    256.5,2,    19.05,2,    18.94,2,     0.00,2,     1.20,2,    0.083,2,    0.025,2,   2149.3,3,     -9.0,9,   7.7596,    25.00,2,   3.3259
  33LK19960415,  AR04,    78,  1,      7,2,19960509,  4.5720, -42.9282,   25,   2394.9,   3.2361,  34.9589,2,  34.9611,2,    258.3,3,    257.4,2,    21.43,2,    19.06,2,     0.00,2,     1.21,2,    0.048,2,    0.017,2,   2158.8,2,     -9.0,9,   7.7629,    25.00,2,   3.0421
  33LK19960415,  AR04,    78,  1,      6,2,19960509,  4.5720, -42.9282,   25,   2697.2,   2.8987,  34.9403,2,  34.9417,2,    259.2,3,    258.1,2,    25.25,2,    19.22,2,     0.00,2,     1.23,2,    0.071,2,    0.039,2,   2165.5,2,     -9.0,9,   7.7597,    25.00,2,   2.6811
  33LK19960415,  AR04,    78,  1,      5,2,19960509,  4.5720, -42.9282,   25,   2998.7,   2.7327,  34.9291,2,  34.9283,2,    259.0,3,    258.8,2,    28.42,2,    19.44,2,     0.00,2,     1.24,2,    0.069,2,    0.040,2,   2171.7,2,     -9.0,9,   7.7590,    25.00,2,   2.4878
  33LK19960415,  AR04,    78,  1,      4,2,19960509,  4.5720, -42.9282,   25,   3300.6,   2.5650,  34.9175,2,  34.9154,2,    259.3,3,    259.5,2,    31.26,2,    19.60,2,     0.00,2,     1.26,2,    0.089,2,    0.037,2,   2168.4,2,     -9.0,9,   7.7583,    25.00,2,   2.2924
  33LK19960415,  AR04,    78,  1,      3,2,19960509,  4.5720, -42.9282,   25,   3598.5,   2.3770,  34.9063,2,  34.9048,2,    263.5,3,    262.8,2,    31.36,2,    19.25,2,     0.00,2,     1.24,2,    0.133,2,    0.055,2,   2166.5,2,     -9.0,9,   7.7572,    25.00,2,   2.0769
  33LK19960415,  AR04,    78,  1,      2,2,19960509,  4.5720, -42.9282,   25,   3798.6,   2.3321,  34.9027,2,  34.9004,2,    264.2,3,    263.2,2,    32.19,2,    19.25,2,     0.00,2,     1.24,2,    0.143,2,    0.058,2,   2169.7,2,     -9.0,9,   7.7546,    25.00,2,   2.0112
  33LK19960415,  AR04,    78,  1,      1,2,19960509,  4.5720, -42.9282,   25,   3993.3,   2.2861,  34.8970,2,  34.8952,2,    264.5,3,    263.1,2,    33.44,2,    19.32,2,     0.00,2,     1.25,2,    0.150,2,    0.064,2,   2165.0,2,     -9.0,9,   7.7611,    25.00,2,   1.9445