BOTTLE,20090511PRINUNIVRMK
EXPOCODE,SECT_ID,STNNBR,CASTNO,BTLNBR,BTLNBR_FLAG_W,DATE,LATITUDE,LONGITUDE,DEPTH,CTDPRS,CTDTMP,CTDSAL,CTDSAL_FLAG_W,SALNTY,SALNTY_FLAG_W,CTDOXY,CTDOXY_FLAG_W,OXYGEN,OXYGEN_FLAG_W,SILCAT,SILCAT_FLAG_W,NITRAT,NITRAT_FLAG_W,NITRIT,NITRIT_FLAG_W,PHSPHT,PHSPHT_FLAG_W,CFC-11,CFC-11_FLAG_W,CFC-12,CFC-12_FLAG_W,TCARBN,TCARBN_FLAG_W,PCO2,PCO2_FLAG_W,PH_SWS,PH_TEMP,PH_SWS_FLAG_W,THETA
,,,,,,,,,METERS,DBARS,ITS-90,PSS-78,,PSS-78,,UMOL/KG,,UMOL/KG,,UMOL/KG,,UMOL/KG,,UMOL/KG,,UMOL/KG,,PMOL/KG,,PMOL/KG,,UMOL/KG,,PPM,,,DEGC,,DEGC
  33LK19960415,  AR04,    79,  1,      6,2,19960510,  4.8512, -42.7523, -999,      1.2,  27.8573,  35.9982,2,  36.0060,2,    201.4,2,    198.4,2,     0.86,2,     0.00,2,     0.00,2,     0.04,2,    1.787,2,    0.866,2,   2035.0,3,    368.1,2,   8.1027,    25.00,2,  27.8570
  33LK19960415,  AR04,    79,  1,      5,2,19960510,  4.8512, -42.7523, -999,     48.2,  27.8952,  36.0070,2,  36.0054,2,    198.6,2,    198.5,2,     0.82,2,     0.00,2,     0.00,2,     0.04,2,    1.738,2,    0.841,2,     -9.0,9,     -9.0,9,-999.0000,  -999.00,9,  27.8838
  33LK19960415,  AR04,    79,  1,      4,2,19960510,  4.8512, -42.7523, -999,    149.6,  11.7060,  35.1149,2,  35.0998,2,    133.8,2,    133.2,2,     9.58,2,    22.03,2,     0.01,2,     1.46,2,    1.229,2,    0.472,2,     -9.0,9,     -9.0,9,-999.0000,  -999.00,9,  11.6868
  33LK19960415,  AR04,    79,  1,      3,2,19960510,  4.8512, -42.7523, -999,    251.8,   9.7521,  34.9174,2,  34.9157,2,    132.4,2,    132.5,2,    12.88,2,    25.69,2,     0.00,2,     1.68,2,    0.916,2,    0.316,2,     -9.0,9,     -9.0,9,-999.0000,  -999.00,9,   9.7233
  33LK19960415,  AR04,    79,  1,      2,2,19960510,  4.8512, -42.7523, -999,    398.7,   7.8679,  34.7000,2,  34.7036,2,    133.5,2,    132.7,2,    17.39,2,    29.80,2,     0.00,2,     1.95,2,    0.574,2,    0.203,2,     -9.0,9,     -9.0,9,-999.0000,  -999.00,9,   7.8276
  33LK19960415,  AR04,    79,  1,      1,2,19960510,  4.8512, -42.7523, -999,    503.5,   6.9829,  34.6347,2,  34.6320,2,    130.3,2,    128.4,2,    20.86,2,    32.43,2,     0.00,2,     2.14,2,    0.308,2,    0.087,2,     -9.0,9,     -9.0,9,-999.0000,  -999.00,9,   6.9350
  33LK19960415,  AR04,    79,  2,     22,2,19960510,  4.8512, -42.7523, -999,    693.6,   5.4720,  34.5492,2,  34.5617,2,    136.8,2,    135.8,2,    26.26,2,    33.98,2,     0.00,2,     2.29,2,    0.099,2,    0.037,2,     -9.0,9,     -9.0,9,-999.0000,  -999.00,9,   5.4132
  33LK19960415,  AR04,    79,  2,     21,2,19960510,  4.8512, -42.7523, -999,    896.4,   4.6964,  34.6060,2,  34.6141,2,    151.6,2,    151.2,2,    30.11,2,    32.93,2,     0.00,2,     2.25,2,    0.003,2,    0.005,2,     -9.0,9,     -9.0,9,-999.0000,  -999.00,9,   4.6243
  33LK19960415,  AR04,    79,  2,     20,2,19960510,  4.8512, -42.7523, -999,    997.7,   4.6735,  34.6629,2,  34.6686,2,    153.6,2,    154.5,2,    29.37,2,    32.16,2,     0.00,2,     2.19,2,   -0.001,2,    0.000,2,     -9.0,9,     -9.0,9,-999.0000,  -999.00,9,   4.5926
  33LK19960415,  AR04,    79,  2,     19,2,19960510,  4.8512, -42.7523, -999,   1195.9,   4.6748,  34.8178,2,  34.8241,2,    174.7,2,    177.2,2,    24.97,2,    27.95,2,     0.00,2,     1.89,2,    0.018,2,    0.008,2,     -9.0,9,     -9.0,9,-999.0000,  -999.00,9,   4.5758
  33LK19960415,  AR04,    79,  2,     18,2,19960510,  4.8512, -42.7523, -999,   1396.2,   4.6355,  34.9374,2,  34.9609,2,    206.2,2,    214.5,2,    18.89,2,    22.45,2,     0.00,2,     1.50,2,    0.097,2,    0.053,2,     -9.0,9,     -9.0,9,-999.0000,  -999.00,9,   4.5180
  33LK19960415,  AR04,    79,  2,     17,2,19960510,  4.8512, -42.7523, -999,   1496.3,   4.4077,  34.9590,2,  34.9701,2,    221.3,2,    227.6,2,    17.90,2,    21.28,2,     0.00,2,     1.41,2,    0.065,2,    0.035,2,     -9.0,9,     -9.0,9,-999.0000,  -999.00,9,   4.2832
  33LK19960415,  AR04,    79,  2,     16,2,19960510,  4.8512, -42.7523, -999,   1596.1,   4.2587,  34.9721,2,  34.9766,2,    232.2,3,    235.9,2,    17.34,2,    20.49,2,     0.00,2,     1.35,2,    0.065,2,    0.031,2,     -9.0,9,     -9.0,9,-999.0000,  -999.00,9,   4.1265
  33LK19960415,  AR04,    79,  2,     15,2,19960510,  4.8512, -42.7523, -999,   1695.3,   4.1687,  34.9792,2,  34.9849,2,    238.5,3,    243.0,2,    16.57,2,    19.65,2,     0.00,2,     1.29,2,    0.114,2,    0.056,2,     -9.0,9,     -9.0,9,-999.0000,  -999.00,9,   4.0282
  33LK19960415,  AR04,    79,  2,     13,2,19960510,  4.8512, -42.7523, -999,   1795.2,   4.0498,  34.9851,2,  34.9881,2,    246.6,3,    248.0,2,    16.18,2,    19.11,2,     0.00,2,     1.25,2,   -9.000,9,   -9.000,9,     -9.0,9,     -9.0,9,-999.0000,  -999.00,9,   3.9013
  33LK19960415,  AR04,    79,  2,     14,2,19960510,  4.8512, -42.7523, -999,   1796.0,   4.0495,  34.9851,2,  34.9870,2,    246.7,3,    248.4,2,    16.29,2,    19.11,2,     0.00,2,     1.26,2,    0.128,2,    0.060,2,     -9.0,9,     -9.0,9,-999.0000,  -999.00,9,   3.9010
  33LK19960415,  AR04,    79,  2,     12,2,19960510,  4.8512, -42.7523, -999,   1996.4,   3.7928,  34.9810,2,  34.9812,2,    252.7,3,    256.3,2,    17.12,2,    18.60,2,     0.00,2,     1.22,2,    0.114,2,    0.060,2,     -9.0,9,     -9.0,9,-999.0000,  -999.00,9,   3.6286
  33LK19960415,  AR04,    79,  2,     11,2,19960510,  4.8512, -42.7523, -999,   2192.8,   3.4857,  34.9704,2,  34.9683,2,    254.7,3,    257.3,2,    19.57,2,    18.66,2,     0.00,2,     1.22,2,    0.056,2,    0.030,2,     -9.0,9,     -9.0,9,-999.0000,  -999.00,9,   3.3073
  33LK19960415,  AR04,    79,  2,     10,2,19960510,  4.8512, -42.7523, -999,   2394.2,   3.2393,  34.9611,2,  34.9560,2,    257.7,3,    260.9,2,    21.63,2,    18.63,2,     0.00,2,     1.23,2,    0.056,2,    0.029,2,     -9.0,9,     -9.0,9,-999.0000,  -999.00,9,   3.0454
  33LK19960415,  AR04,    79,  2,      9,2,19960510,  4.8512, -42.7523, -999,   2698.0,   2.9577,  34.9438,2,  34.9420,2,    259.6,3,    259.6,2,    24.50,2,    18.76,2,     0.00,2,     1.24,2,    0.072,2,    0.028,2,     -9.0,9,     -9.0,9,-999.0000,  -999.00,9,   2.7388
  33LK19960415,  AR04,    79,  2,      8,2,19960510,  4.8512, -42.7523, -999,   2998.4,   2.7612,  34.9314,2,  34.9293,2,    258.9,3,    259.6,2,    27.68,2,    19.16,2,     0.00,2,     1.27,2,    0.054,2,    0.023,2,     -9.0,9,     -9.0,9,-999.0000,  -999.00,9,   2.5158
  33LK19960415,  AR04,    79,  2,      7,2,19960510,  4.8512, -42.7523, -999,   3299.4,   2.6296,  34.9230,2,  34.9194,2,    259.5,3,    259.8,2,    30.15,2,    19.32,2,     0.00,2,     1.28,2,    0.054,2,    0.023,2,     -9.0,9,     -9.0,9,-999.0000,  -999.00,9,   2.3555
  33LK19960415,  AR04,    79,  2,      6,2,19960510,  4.8512, -42.7523, -999,   3599.1,   2.4153,  34.9085,2,  34.9058,2,    263.4,3,    264.4,2,    30.68,2,    18.92,2,     0.00,2,     1.26,2,    0.125,2,    0.056,2,     -9.0,9,     -9.0,9,-999.0000,  -999.00,9,   2.1142
  33LK19960415,  AR04,    79,  2,      5,2,19960510,  4.8512, -42.7523, -999,   3799.6,   2.3304,  34.9004,2,  34.8987,2,    263.2,2,    263.8,2,    32.56,2,    19.16,2,     0.00,2,     1.27,2,    0.091,2,    0.047,2,     -9.0,9,     -9.0,9,-999.0000,  -999.00,9,   2.0094
  33LK19960415,  AR04,    79,  2,      4,2,19960510,  4.8512, -42.7523, -999,   4000.2,   2.2749,  34.8959,2,  34.8953,2,    264.6,2,    263.4,2,    33.13,2,    19.17,2,     0.00,2,     1.27,2,    0.125,2,    0.064,2,     -9.0,9,     -9.0,9,-999.0000,  -999.00,9,   1.9329
  33LK19960415,  AR04,    79,  2,      3,2,19960510,  4.8512, -42.7523, -999,   4199.1,   2.2167,  34.8886,2,  34.8872,2,    263.2,2,    262.1,2,    36.00,2,    19.54,2,     0.00,2,     1.30,2,    0.121,2,    0.054,2,     -9.0,9,     -9.0,9,-999.0000,  -999.00,9,   1.8535
  33LK19960415,  AR04,    79,  2,      2,2,19960510,  4.8512, -42.7523, -999,   4499.6,   1.6659,  34.8198,2,  34.8177,2,    246.4,2,    243.9,2,    64.52,2,    24.50,2,     0.00,2,     1.64,2,    0.033,2,    0.018,2,     -9.0,9,     -9.0,9,-999.0000,  -999.00,9,   1.2848
  33LK19960415,  AR04,    79,  2,      1,2,19960510,  4.8512, -42.7523, -999,   4676.4,   1.4201,  34.7885,2,  34.7886,2,    234.9,2,    236.7,2,    77.36,2,    26.61,2,     0.00,2,     1.79,2,    0.020,2,    0.011,2,     -9.0,9,     -9.0,9,-999.0000,  -999.00,9,   1.0263
  33LK19960415,  AR04,    80,  1,      6,2,19960510,  5.3037, -42.5182, -999,      1.0,  27.7468,  36.0366,2,  36.0497,2,    197.3,2,    197.3,2,     0.81,2,     0.04,2,     0.00,2,     0.03,2,    1.655,2,    0.828,2,   1966.9,3,    383.9,2,   8.1111,    25.00,2,  27.7466
  33LK19960415,  AR04,    80,  1,      5,2,19960510,  5.3037, -42.5182, -999,     48.9,  27.7895,  36.0503,2,  36.0482,2,    199.6,2,    197.2,2,     0.79,2,     0.01,2,     0.00,2,     0.03,2,    1.626,2,    0.818,2,   2014.1,2,     -9.0,9,   8.1033,    25.00,2,  27.7780
  33LK19960415,  AR04,    80,  1,      4,2,19960510,  5.3037, -42.5182, -999,    149.5,  12.7513,  35.2558,2,  35.2836,2,    135.7,2,    136.0,2,     7.84,2,    19.29,2,     0.02,2,     1.25,2,    1.315,2,    0.507,2,   2171.2,2,     -9.0,9,   7.7752,    25.00,2,  12.7310
  33LK19960415,  AR04,    80,  1,      3,2,19960510,  5.3037, -42.5182, -999,    251.8,  10.1604,  34.9683,2,  35.0200,2,    129.7,2,    128.8,2,    11.81,2,    24.65,2,     0.00,2,     1.57,2,    0.950,2,    0.365,2,   2190.3,2,     -9.0,9,   7.7026,    25.00,2,  10.1308
  33LK19960415,  AR04,    80,  1,      2,2,19960510,  5.3037, -42.5182, -999,    401.4,   8.3540,  34.7526,2,  34.7589,2,    134.0,2,    132.4,2,    16.11,2,    28.70,2,     0.00,2,     1.86,2,    0.634,2,    0.247,2,   2195.1,2,     -9.0,9,   7.6536,    25.00,2,   8.3119
  33LK19960415,  AR04,    80,  1,      1,2,19960510,  5.3037, -42.5182, -999,    499.3,   7.7080,  34.6873,2,  34.6925,2,    133.3,2,    131.8,2,    18.25,2,    30.33,2,     0.00,2,     1.98,2,    0.474,2,    0.189,2,   2203.0,2,     -9.0,9,   7.6292,    25.00,2,   7.6578
  33LK19960415,  AR04,    80,  2,     22,2,19960510,  5.3037, -42.5182, -999,    698.4,   5.7093,  34.5572,2,  34.5886,2,    132.5,2,    126.9,2,    25.24,2,    34.28,2,     0.00,2,     2.28,2,    0.100,2,    0.037,2,   2242.3,3,     -9.0,9,   7.5805,    25.00,2,   5.6487
  33LK19960415,  AR04,    80,  2,     21,2,19960510,  5.3037, -42.5182, -999,    895.6,   4.6895,  34.6115,2,  34.5960,2,    151.1,2,    150.9,2,    30.80,2,    33.35,2,     0.00,2,     2.26,2,    0.020,2,    0.012,2,   2226.1,2,     -9.0,9,   7.6007,    25.00,2,   4.6175
  33LK19960415,  AR04,    80,  2,     20,2,19960510,  5.3037, -42.5182, -999,    995.2,   4.7058,  34.6793,2,  34.6493,2,    154.2,2,    151.2,2,    30.23,2,    32.83,2,     0.00,2,     2.23,2,    0.000,2,    0.004,2,   2237.6,3,     -9.0,9,   7.6045,    25.00,2,   4.6249
  33LK19960415,  AR04,    80,  2,     19,2,19960510,  5.3037, -42.5182, -999,   1196.3,   4.7754,  34.8314,2,  34.7969,2,    175.0,2,    171.9,2,    26.26,2,    28.90,2,     0.00,2,     1.93,2,    0.012,2,    0.008,2,   2214.0,2,     -9.0,9,   7.6493,    25.00,2,   4.6755
  33LK19960415,  AR04,    80,  2,     18,2,19960510,  5.3037, -42.5182, -999,   1394.8,   4.5308,  34.9546,2,  34.9699,2,    216.7,2,    214.7,2,    18.57,2,    22.43,2,     0.00,2,     1.47,2,    0.141,2,    0.072,2,   2192.2,2,     -9.0,9,   7.7176,    25.00,2,   4.4145
  33LK19960415,  AR04,    80,  2,     17,2,19960510,  5.3037, -42.5182, -999,   1496.9,   4.3747,  34.9628,2,  34.9610,2,    224.1,2,    221.3,2,    18.77,2,    22.09,2,     0.00,2,     1.45,2,    0.074,2,    0.032,2,   2182.1,2,     -9.0,9,   7.7191,    25.00,2,   4.2506
  33LK19960415,  AR04,    80,  2,     16,2,19960510,  5.3037, -42.5182, -999,   1593.8,   4.2701,  34.9722,2,  34.9730,2,    231.6,2,    230.3,2,    17.94,2,    21.14,2,     0.00,2,     1.37,2,    0.088,2,    0.041,2,   2165.1,2,     -9.0,9,   7.7304,    25.00,2,   4.1380
  33LK19960415,  AR04,    80,  2,     15,2,19960510,  5.3037, -42.5182, -999,   1693.8,   4.2164,  34.9982,2,  35.0008,2,    247.3,2,    246.3,2,    15.25,2,    19.21,2,     0.00,2,     1.23,2,   -9.000,9,   -9.000,9,   2172.7,2,     -9.0,9,   7.7519,    25.00,2,   4.0754
  33LK19960415,  AR04,    80,  2,     14,2,19960510,  5.3037, -42.5182, -999,   1693.9,   4.2167,  34.9983,2,  34.9995,2,    247.3,2,    246.3,2,    15.21,2,    19.13,2,     0.00,2,     1.23,2,    0.255,2,    0.120,2,   2164.5,2,     -9.0,9,   7.7519,    25.00,2,   4.0757
  33LK19960415,  AR04,    80,  2,     13,2,19960510,  5.3037, -42.5182, -999,   1796.2,   3.9494,  34.9856,2,  34.9855,2,    248.4,2,    247.3,2,    16.94,2,    19.51,2,     0.00,2,     1.25,2,    0.085,2,    0.049,2,   2165.2,2,     -9.0,9,   7.7516,    25.00,2,   3.8022
  33LK19960415,  AR04,    80,  2,     12,2,19960510,  5.3037, -42.5182, -999,   1996.3,   3.6021,  34.9772,2,  34.9735,2,    253.6,2,    253.0,2,    19.11,2,    19.17,2,     0.00,2,     1.23,2,    0.047,2,    0.024,2,   2167.8,2,     -9.0,9,   7.7538,    25.00,2,   3.4408
  33LK19960415,  AR04,    80,  2,     11,2,19960510,  5.3037, -42.5182, -999,   2194.6,   3.3110,  34.9619,2,  34.9612,2,    256.2,2,    255.4,2,    21.65,2,    19.19,2,     0.00,2,     1.24,2,    0.039,2,    0.020,2,   2150.3,3,     -9.0,9,   7.7567,    25.00,2,   3.1353
  33LK19960415,  AR04,    80,  2,     10,2,19960510,  5.3037, -42.5182, -999,   2395.5,   3.0976,  34.9512,2,  34.9512,2,    256.1,2,    256.4,2,    23.94,2,    19.29,2,     0.00,2,     1.25,2,    0.017,2,    0.017,2,   2163.7,2,     -9.0,9,   7.7609,    25.00,2,   2.9061
  33LK19960415,  AR04,    80,  2,      9,2,19960510,  5.3037, -42.5182, -999,   2697.7,   2.9017,  34.9413,2,  34.9391,2,    257.9,2,    257.8,2,    26.34,2,    19.26,2,     0.00,2,     1.25,2,    0.027,2,    0.021,2,   2166.6,2,     -9.0,9,   7.7598,    25.00,2,   2.6840
  33LK19960415,  AR04,    80,  2,      8,2,19960510,  5.3037, -42.5182, -999,   2998.9,   2.7369,  34.9285,2,  34.9278,2,    257.6,2,    257.9,2,    29.07,2,    19.55,2,     0.00,2,     1.28,2,    0.050,2,    0.030,2,   2170.8,2,     -9.0,9,   7.7591,    25.00,2,   2.4919
  33LK19960415,  AR04,    80,  2,      7,2,19960510,  5.3037, -42.5182, -999,   3300.3,   2.5868,  34.9195,2,  34.9193,2,    259.9,2,    259.8,2,    30.12,2,    19.34,2,     0.00,2,     1.27,2,    0.075,2,    0.026,2,   2171.1,2,     -9.0,9,   7.7586,    25.00,2,   2.3137
  33LK19960415,  AR04,    80,  2,      6,2,19960510,  5.3037, -42.5182, -999,   3695.5,   2.4233,  34.9081,2,  34.9074,2,    262.4,2,    261.9,2,    31.64,2,    19.21,2,     0.00,2,     1.27,2,    0.081,2,    0.033,2,   2189.3,2,     -9.0,9,   7.7614,    25.00,2,   2.1114
  33LK19960415,  AR04,    80,  2,      5,2,19960510,  5.3037, -42.5182, -999,   3998.0,   2.2800,  34.8945,2,  34.8951,2,    262.1,2,    261.3,2,    35.60,2,    19.61,2,     0.00,2,     1.30,2,    0.083,2,    0.039,2,   2180.2,2,     -9.0,9,   7.7612,    25.00,2,   1.9381
  33LK19960415,  AR04,    80,  2,      4,2,19960510,  5.3037, -42.5182, -999,   4199.3,   2.1257,  34.8745,2,  34.8781,2,    257.9,2,    257.6,2,    42.58,2,    20.61,2,     0.00,2,     1.38,2,    0.066,2,    0.026,2,   2177.9,2,     -9.0,9,   7.7479,    25.00,2,   1.7652
  33LK19960415,  AR04,    80,  2,      3,2,19960510,  5.3037, -42.5182, -999,   4400.9,   1.8364,  34.8399,2,  34.8396,2,    249.6,2,    248.4,2,    59.86,2,    23.24,2,     0.00,2,     1.55,2,    0.047,2,    0.020,2,   2209.2,2,     -9.0,9,   7.7329,    25.00,2,   1.4614
  33LK19960415,  AR04,    80,  2,      2,2,19960510,  5.3037, -42.5182, -999,   4599.6,   1.4823,  34.7977,2,  34.7957,2,    238.0,2,    240.3,2,    79.00,2,    26.03,2,     0.00,2,     1.77,2,    0.020,2,    0.009,2,   2233.7,2,     -9.0,9,   7.6988,    25.00,2,   1.0955
  33LK19960415,  AR04,    80,  2,      1,2,19960510,  5.3037, -42.5182, -999,   4750.2,   1.4158,  34.7885,2,  34.7865,2,    234.6,2,    236.0,2,    83.31,2,    26.64,2,     0.00,2,     1.80,2,    0.016,2,    0.007,2,   2251.5,2,     -9.0,9,   7.6943,    25.00,2,   1.0135
  33LK19960415,  AR04,    81,  1,      6,2,19960510,  5.8843, -42.2015, -999,      1.6,  27.4947,  36.1288,2,  36.1343,2,    200.2,2,    200.4,2,     1.10,3,     0.00,3,     0.00,2,     0.00,3,    1.734,2,    0.814,2,   2008.1,2,    367.6,2,   8.1074,    25.00,2,  27.4943
  33LK19960415,  AR04,    81,  1,      5,2,19960510,  5.8843, -42.2015, -999,     49.9,  27.3672,  36.1339,2,  36.1319,2,    201.1,2,    200.0,2,     1.05,3,     0.00,3,     0.00,2,     0.01,3,    1.708,2,    0.794,2,     -9.0,9,     -9.0,9,-999.0000,  -999.00,9,  27.3556
  33LK19960415,  AR04,    81,  1,      4,2,19960510,  5.8843, -42.2015, -999,    148.3,  12.1580,  35.1671,2,  35.1661,2,    132.8,2,    133.8,2,     9.14,3,    21.22,3,     0.02,2,     1.37,3,    1.291,2,    0.439,2,     -9.0,9,     -9.0,9,-999.0000,  -999.00,9,  12.1385
  33LK19960415,  AR04,    81,  1,      3,2,19960510,  5.8843, -42.2015, -999,    242.8,  11.0745,  35.0775,2,  35.0674,2,    131.2,2,    131.2,2,    11.47,3,    23.94,3,     0.01,2,     1.52,3,    1.060,2,    0.357,2,     -9.0,9,     -9.0,9,-999.0000,  -999.00,9,  11.0443
  33LK19960415,  AR04,    81,  1,      2,2,19960510,  5.8843, -42.2015, -999,    399.8,   8.3133,  34.7530,2,  34.7482,2,    132.5,2,    131.2,2,    17.35,3,    29.66,3,     0.01,2,     1.89,3,    0.582,2,    0.208,2,     -9.0,9,     -9.0,9,-999.0000,  -999.00,9,   8.2715
  33LK19960415,  AR04,    81,  1,      1,2,19960510,  5.8843, -42.2015, -999,    502.0,   7.4493,  34.6769,2,  34.6828,2,    128.2,2,    121.5,2,    20.31,3,    32.57,3,     0.01,2,     2.08,3,    0.315,2,    0.102,2,     -9.0,9,     -9.0,9,-999.0000,  -999.00,9,   7.3998