BOTTLE,20090511PRINUNIVRMK
EXPOCODE,SECT_ID,STNNBR,CASTNO,BTLNBR,BTLNBR_FLAG_W,DATE,LATITUDE,LONGITUDE,DEPTH,CTDPRS,CTDTMP,CTDSAL,CTDSAL_FLAG_W,SALNTY,SALNTY_FLAG_W,CTDOXY,CTDOXY_FLAG_W,OXYGEN,OXYGEN_FLAG_W,SILCAT,SILCAT_FLAG_W,NITRAT,NITRAT_FLAG_W,NITRIT,NITRIT_FLAG_W,PHSPHT,PHSPHT_FLAG_W,CFC-11,CFC-11_FLAG_W,CFC-12,CFC-12_FLAG_W,TCARBN,TCARBN_FLAG_W,PCO2,PCO2_FLAG_W,PH_SWS,PH_TEMP,PH_SWS_FLAG_W,THETA
,,,,,,,,,METERS,DBARS,ITS-90,PSS-78,,PSS-78,,UMOL/KG,,UMOL/KG,,UMOL/KG,,UMOL/KG,,UMOL/KG,,UMOL/KG,,PMOL/KG,,PMOL/KG,,UMOL/KG,,PPM,,,DEGC,,DEGC
  33LK19960415,  AR04,    61,  1,     22,2,19960502, -3.9635, -35.0043,   23,      2.6,  28.7587,  36.0929,2,  36.1460,2,     -9.0,9,    197.6,2,     0.85,2,     0.10,2,     0.00,2,     0.06,2,    1.607,2,    0.854,2,   2028.9,2,    379.8,2,   8.1061,    25.00,2,  28.7581
  33LK19960415,  AR04,    61,  1,     21,2,19960502, -3.9635, -35.0043,   23,     72.1,  24.3356,  37.0141,2,  37.0404,2,     -9.0,9,    212.7,2,     0.83,2,     0.10,2,     0.00,2,     0.13,2,    1.887,2,    0.985,2,     -9.0,9,     -9.0,9,-999.0000,  -999.00,9,  24.3201
  33LK19960415,  AR04,    61,  1,     20,2,19960502, -3.9635, -35.0043,   23,    146.6,  18.7469,  36.1547,2,  35.9583,2,     -9.0,9,    161.7,2,     2.71,2,     8.60,2,     0.02,2,     0.66,2,    1.872,2,    0.915,2,     -9.0,9,     -9.0,9,-999.0000,  -999.00,9,  18.7209
  33LK19960415,  AR04,    61,  1,     19,2,19960502, -3.9635, -35.0043,   23,    296.1,  10.2766,  34.9458,2,  34.9396,2,     -9.0,9,     93.3,2,    12.67,2,    29.24,2,     0.00,2,     1.84,2,    0.590,2,    0.243,2,     -9.0,9,     -9.0,9,-999.0000,  -999.00,9,  10.2415
  33LK19960415,  AR04,    61,  1,     18,2,19960502, -3.9635, -35.0043,   23,    495.3,   5.8337,  34.4767,2,  34.4806,2,     -9.0,9,    160.6,2,    23.01,2,    31.78,2,     0.00,2,     2.10,2,    0.418,2,    0.189,2,     -9.0,9,     -9.0,9,-999.0000,  -999.00,9,   5.7911
  33LK19960415,  AR04,    61,  1,     17,2,19960502, -3.9635, -35.0043,   23,    744.6,   4.5419,  34.4710,2,  34.4731,2,     -9.0,9,    156.9,2,    32.46,2,    34.17,2,     0.00,2,     2.30,2,    0.092,2,    0.032,2,     -9.0,9,     -9.0,9,-999.0000,  -999.00,9,   4.4839
  33LK19960415,  AR04,    61,  1,     16,2,19960502, -3.9635, -35.0043,   23,    994.0,   4.3178,  34.6166,2,  34.6155,2,     -9.0,9,    165.7,2,    33.00,2,    32.19,2,     0.00,2,     2.17,2,   -9.000,9,   -9.000,9,     -9.0,9,     -9.0,9,-999.0000,  -999.00,9,   4.2400
  33LK19960415,  AR04,    61,  1,     15,2,19960502, -3.9635, -35.0043,   23,    994.2,   4.3155,  34.6195,2,  34.6130,2,     -9.0,9,    165.4,2,    32.99,2,    32.23,2,     0.00,2,     2.15,2,    0.015,2,    0.008,2,     -9.0,9,     -9.0,9,-999.0000,  -999.00,9,   4.2377
  33LK19960415,  AR04,    61,  1,     14,2,19960502, -3.9635, -35.0043,   23,   1194.4,   4.4976,  34.7756,2,  34.7657,2,     -9.0,9,    176.3,2,    27.91,2,    29.27,2,     0.00,2,     1.94,2,    0.007,2,    0.008,2,     -9.0,9,     -9.0,9,-999.0000,  -999.00,9,   4.4004
  33LK19960415,  AR04,    61,  1,     13,2,19960502, -3.9635, -35.0043,   23,   1396.7,   4.3804,  34.9391,2,  34.9183,2,     -9.0,9,    211.5,2,    20.98,2,    23.93,2,     0.00,2,     1.54,2,    0.073,2,    0.035,2,     -9.0,9,     -9.0,9,-999.0000,  -999.00,9,   4.2656
  33LK19960415,  AR04,    61,  1,     12,2,19960502, -3.9635, -35.0043,   23,   1494.7,   4.1932,  34.9687,2,  34.9722,2,     -9.0,9,    236.2,2,    17.95,2,    20.93,2,     0.00,2,     1.34,2,    0.110,2,    0.055,2,     -9.0,9,     -9.0,9,-999.0000,  -999.00,9,   4.0713
  33LK19960415,  AR04,    61,  1,     11,2,19960502, -3.9635, -35.0043,   23,   1595.6,   4.0211,  34.9803,2,  34.9803,2,     -9.0,9,    243.9,2,    17.50,2,    20.16,2,     0.00,2,     1.29,2,    0.120,2,    0.069,2,     -9.0,9,     -9.0,9,-999.0000,  -999.00,9,   3.8918
  33LK19960415,  AR04,    61,  1,     10,2,19960502, -3.9635, -35.0043,   23,   1695.4,   3.8941,  34.9799,2,  34.9810,2,     -9.0,9,    247.7,2,    17.88,2,    19.77,2,     0.00,2,     1.25,2,    0.100,2,    0.047,2,     -9.0,9,     -9.0,9,-999.0000,  -999.00,9,   3.7571
  33LK19960415,  AR04,    61,  1,      9,2,19960502, -3.9635, -35.0043,   23,   1796.4,   3.8035,  34.9796,2,  34.9799,2,     -9.0,9,    250.5,2,    17.98,2,    19.54,2,     0.00,2,     1.24,2,    0.109,2,    0.054,2,     -9.0,9,     -9.0,9,-999.0000,  -999.00,9,   3.6582
  33LK19960415,  AR04,    61,  1,      8,2,19960502, -3.9635, -35.0043,   23,   1995.4,   3.6930,  34.9777,2,  34.9773,2,     -9.0,9,    254.3,2,    18.40,2,    19.28,2,     0.00,2,     1.21,2,    0.142,2,    0.076,2,     -9.0,9,     -9.0,9,-999.0000,  -999.00,9,   3.5304
  33LK19960415,  AR04,    61,  1,      7,2,19960502, -3.9635, -35.0043,   23,   2295.6,   3.1679,  34.9582,2,  34.9563,2,     -9.0,9,    259.1,2,    22.73,2,    19.20,2,     0.00,2,     1.22,2,    0.071,2,    0.041,2,     -9.0,9,     -9.0,9,-999.0000,  -999.00,9,   2.9848
  33LK19960415,  AR04,    61,  1,      6,2,19960502, -3.9635, -35.0043,   23,   2596.3,   2.8914,  34.9425,2,  34.9399,2,     -9.0,9,    258.6,2,    26.79,2,    19.49,2,     0.00,2,     1.25,2,    0.054,2,    0.028,2,     -9.0,9,     -9.0,9,-999.0000,  -999.00,9,   2.6840
  33LK19960415,  AR04,    61,  1,      5,2,19960502, -3.9635, -35.0043,   23,   2796.2,   2.7287,  34.9280,2,  34.9269,2,     -9.0,9,    256.8,2,    30.31,2,    20.00,2,     0.00,2,     1.28,2,    0.052,2,    0.033,2,     -9.0,9,     -9.0,9,-999.0000,  -999.00,9,   2.5046
  33LK19960415,  AR04,    61,  1,      4,2,19960502, -3.9635, -35.0043,   23,   2992.4,   2.6796,  34.9249,2,  34.9217,2,     -9.0,9,    256.7,2,    31.51,2,    20.09,2,     0.00,2,     1.28,2,    0.038,2,    0.024,2,     -9.0,9,     -9.0,9,-999.0000,  -999.00,9,   2.4366
  33LK19960415,  AR04,    61,  1,      3,2,19960502, -3.9635, -35.0043,   23,   3196.2,   2.5981,  34.9174,2,  34.9167,2,     -9.0,9,    256.9,2,    32.94,2,    20.22,2,     0.00,2,     1.30,2,    0.038,2,    0.025,2,     -9.0,9,     -9.0,9,-999.0000,  -999.00,9,   2.3357
  33LK19960415,  AR04,    61,  1,      2,2,19960502, -3.9635, -35.0043,   23,   3346.7,   2.5726,  34.9166,2,  34.9160,2,     -9.0,9,    257.9,2,    32.30,2,    20.00,2,     0.00,2,     1.29,2,    0.049,2,    0.028,2,     -9.0,9,     -9.0,9,-999.0000,  -999.00,9,   2.2949
  33LK19960415,  AR04,    61,  1,      1,2,19960502, -3.9635, -35.0043,   23,   3500.2,   2.5397,  34.9143,2,  34.9127,2,     -9.0,9,    259.2,2,    32.47,2,    19.86,2,     0.00,2,     1.29,2,    0.054,2,    0.037,2,     -9.0,9,     -9.0,9,-999.0000,  -999.00,9,   2.2462
  33LK19960415,  AR04,    62,  1,     22,2,19960502, -4.4990, -35.0740,   25,      2.2,  28.7767,  36.3682,2,  36.3689,2,     -9.0,9,    195.3,2,     0.57,2,     0.05,2,     0.00,2,     0.06,2,    1.505,2,    0.817,2,   2061.5,3,    380.0,2,   8.1063,    25.00,2,  28.7762
  33LK19960415,  AR04,    62,  1,     21,2,19960502, -4.4990, -35.0740,   25,     71.0,  25.5049,  37.1035,2,  37.0923,2,     -9.0,9,    217.7,2,     0.63,2,     0.04,2,     0.00,2,     0.10,2,    1.860,2,    0.973,2,   2088.5,2,     -9.0,9,   8.1001,    25.00,2,  25.4892
  33LK19960415,  AR04,    62,  1,     20,2,19960502, -4.4990, -35.0740,   25,    147.5,  16.4732,  35.6867,2,  35.8291,2,     -9.0,9,    190.4,2,     2.08,2,     5.71,2,     0.01,2,     0.50,2,    2.112,2,    1.064,2,   2141.8,2,     -9.0,9,   7.9476,    25.00,2,  16.4493
  33LK19960415,  AR04,    62,  1,     19,2,19960502, -4.4990, -35.0740,   25,    297.4,  10.7335,  34.9989,2,  35.0211,2,     -9.0,9,     98.1,2,    10.89,2,    27.07,2,     0.00,2,     1.71,2,    1.898,2,    1.035,2,   2214.5,2,     -9.0,9,   7.6462,    25.00,2,  10.6972
  33LK19960415,  AR04,    62,  1,     18,2,19960502, -4.4990, -35.0740,   25,    495.0,   6.8455,  34.5400,2,  34.5426,2,     -9.0,9,    164.3,2,    18.11,2,    29.10,2,     0.00,2,     1.91,2,    0.646,2,    0.311,2,   2204.3,2,     -9.0,9,   7.6540,    25.00,2,   6.7991
  33LK19960415,  AR04,    62,  1,     16,2,19960502, -4.4990, -35.0740,   25,    745.9,   4.7260,  34.4398,2,  34.4377,2,     -9.0,9,    170.8,2,    29.74,2,    32.66,2,     0.00,2,     2.21,2,    0.270,2,    0.124,2,   2201.2,3,     -9.0,9,   7.6050,    25.00,2,   4.6669
  33LK19960415,  AR04,    62,  1,     17,2,19960502, -4.4990, -35.0740,   25,    750.3,   4.7330,  34.4363,2,  34.4372,2,     -9.0,9,    171.4,2,    30.33,2,    32.64,2,     0.00,2,     2.20,2,   -9.000,9,   -9.000,9,   2227.0,2,     -9.0,9,   7.6144,    25.00,2,   4.6735
  33LK19960415,  AR04,    62,  1,     15,2,19960502, -4.4990, -35.0740,   25,    897.4,   4.1099,  34.4608,2,  34.4785,2,     -9.0,9,    173.1,2,    35.49,2,    32.87,2,     0.00,2,     2.24,2,    0.115,2,    0.060,2,   2233.7,3,     -9.0,9,   7.6108,    25.00,2,   4.0420
  33LK19960415,  AR04,    62,  1,     14,2,19960502, -4.4990, -35.0740,   25,    996.3,   4.2707,  34.6051,2,  34.5968,2,     -9.0,9,    167.5,2,    33.29,2,    32.07,2,     0.00,2,     2.18,2,    0.027,2,    0.020,2,   2215.6,2,     -9.0,9,   7.6075,    25.00,2,   4.1931
  33LK19960415,  AR04,    62,  1,     13,2,19960502, -4.4990, -35.0740,   25,   1195.8,   4.4668,  34.7812,2,  34.7859,2,     -9.0,9,    180.1,2,    26.86,2,    28.49,2,     0.00,2,     1.90,2,    0.010,2,    0.012,2,   2211.4,2,     -9.0,9,   7.6448,    25.00,2,   4.3698
  33LK19960415,  AR04,    62,  1,     12,2,19960502, -4.4990, -35.0740,   25,   1395.0,   4.5045,  34.8828,2,  34.8930,2,     -9.0,9,    233.1,2,    21.95,2,    24.90,2,     0.00,2,     1.63,2,    0.058,2,    0.034,2,   2201.7,3,     -9.0,9,   7.6894,    25.00,2,   4.3886
  33LK19960415,  AR04,    62,  1,     11,2,19960502, -4.4990, -35.0740,   25,   1495.1,   4.3017,  34.9608,2,  34.9701,2,     -9.0,9,    243.2,2,    17.58,2,    21.01,2,     0.00,2,     1.36,2,    0.151,2,    0.082,2,   2164.5,2,     -9.0,9,   7.7366,    25.00,2,   4.1785
  33LK19960415,  AR04,    62,  1,     10,2,19960502, -4.4990, -35.0740,   25,   1595.9,   4.0876,  34.9815,2,  34.9819,2,     -9.0,9,    243.6,2,    17.06,2,    19.90,2,     0.00,2,     1.28,2,    0.159,2,    0.079,2,   2162.6,2,     -9.0,9,   7.7464,    25.00,2,   3.9575
  33LK19960415,  AR04,    62,  1,      9,2,19960502, -4.4990, -35.0740,   25,   1695.1,   3.8693,  34.9836,2,  34.9841,2,     -9.0,9,    250.3,2,    17.16,2,    19.24,2,     0.00,2,     1.23,2,    0.140,2,    0.075,2,   2168.0,2,     -9.0,9,   7.7561,    25.00,2,   3.7326
  33LK19960415,  AR04,    62,  1,      8,2,19960502, -4.4990, -35.0740,   25,   1795.3,   3.8214,  34.9817,2,  34.9828,2,     -9.0,9,    251.1,2,    17.41,2,    19.24,2,     0.00,2,     1.23,2,    0.138,2,    0.074,2,   2191.1,3,     -9.0,9,   7.7591,    25.00,2,   3.6760
  33LK19960415,  AR04,    62,  1,      7,2,19960502, -4.4990, -35.0740,   25,   1895.0,   3.7727,  34.9808,2,  34.9819,2,     -9.0,9,    252.0,2,    17.65,2,    19.18,2,     0.00,2,     1.22,2,    0.129,2,    0.064,2,   2157.3,2,     -9.0,9,   7.7526,    25.00,2,   3.6185
  33LK19960415,  AR04,    62,  1,      6,2,19960502, -4.4990, -35.0740,   25,   1993.8,   3.5923,  34.9751,2,  34.9718,2,     -9.0,9,    252.9,2,    18.76,2,    19.23,2,     0.00,2,     1.23,2,    0.118,2,    0.059,2,   2163.1,2,     -9.0,9,   7.7536,    25.00,2,   3.4314
  33LK19960415,  AR04,    62,  1,      5,2,19960502, -4.4990, -35.0740,   25,   2189.3,   3.1791,  34.9590,2,  34.9583,2,     -9.0,9,    258.2,2,    22.15,2,    19.01,2,     0.00,2,     1.21,2,    0.096,2,    0.050,2,   2156.5,2,     -9.0,9,   7.7639,    25.00,2,   3.0060
  33LK19960415,  AR04,    62,  1,      4,2,19960502, -4.4990, -35.0740,   25,   2392.4,   2.9943,  34.9489,2,  34.9493,2,     -9.0,9,    258.2,2,    24.25,2,    19.16,2,     0.00,2,     1.24,2,    0.066,2,    0.032,2,   2162.2,2,     -9.0,9,   7.7686,    25.00,2,   2.8049
  33LK19960415,  AR04,    62,  1,      3,2,19960502, -4.4990, -35.0740,   25,   2594.1,   2.8396,  34.9380,2,  34.9368,2,     -9.0,9,    257.8,2,    27.44,2,    19.47,2,     0.00,2,     1.26,2,    0.051,2,    0.026,2,   2167.9,2,     -9.0,9,   7.7644,    25.00,2,   2.6334
  33LK19960415,  AR04,    62,  1,      2,2,19960502, -4.4990, -35.0740,   25,   2841.5,   2.7190,  34.9285,2,  34.9253,2,     -9.0,9,    256.0,2,    30.88,2,    19.94,2,     0.00,2,     1.29,2,    0.028,2,    0.020,2,   2168.6,2,     -9.0,9,   7.7531,    25.00,2,   2.4905
  33LK19960415,  AR04,    62,  1,      1,2,19960502, -4.4990, -35.0740,   25,   3154.6,   2.6324,  34.9209,2,  34.9184,2,     -9.0,9,    255.5,2,    32.88,2,    20.14,2,     0.00,2,     1.30,2,    0.025,2,    0.026,2,   2169.9,2,     -9.0,9,   7.7632,    25.00,2,   2.3736
  33LK19960415,  AR04,    63,  1,      8,2,19960502, -4.6920, -35.1240,   25,      2.6,  28.4384,  36.6747,2,  36.6622,2,     -9.0,9,    197.1,2,     0.81,2,     0.00,2,     0.00,2,     0.03,2,   -9.000,9,   -9.000,9,   2037.9,2,    361.3,2,   8.1214,    25.00,2,  28.4378
  33LK19960415,  AR04,    63,  1,      7,2,19960502, -4.6920, -35.1240,   25,     47.7,  28.0801,  36.8675,2,  36.8753,2,     -9.0,9,    195.5,2,     0.94,2,     0.00,2,     0.00,2,     0.03,2,   -9.000,9,   -9.000,9,     -9.0,9,     -9.0,9,-999.0000,  -999.00,9,  28.0688
  33LK19960415,  AR04,    63,  1,      6,2,19960502, -4.6920, -35.1240,   25,     96.7,  25.0231,  37.0566,2,  37.0072,2,     -9.0,9,    198.0,2,     0.93,2,     0.23,2,     0.12,2,     0.14,2,   -9.000,9,   -9.000,9,     -9.0,9,     -9.0,9,-999.0000,  -999.00,9,  25.0020
  33LK19960415,  AR04,    63,  1,      5,2,19960502, -4.6920, -35.1240,   25,    195.1,  13.5585,  35.2591,2,  35.2629,2,     -9.0,9,    191.9,2,     4.14,2,    10.99,2,     0.00,2,     0.80,2,   -9.000,9,   -9.000,9,     -9.0,9,     -9.0,9,-999.0000,  -999.00,9,  13.5308
  33LK19960415,  AR04,    63,  1,      4,2,19960502, -4.6920, -35.1240,   25,    294.8,  10.2253,  34.8552,2,  34.8377,2,     -9.0,9,    167.6,2,     9.98,2,    21.04,2,     0.00,2,     1.42,2,   -9.000,9,   -9.000,9,     -9.0,9,     -9.0,9,-999.0000,  -999.00,9,  10.1905
  33LK19960415,  AR04,    63,  1,      3,2,19960502, -4.6920, -35.1240,   25,    395.6,   9.2491,  34.8004,2,  34.7603,2,     -9.0,9,    139.8,2,    13.36,2,    27.72,2,     0.00,2,     1.72,2,   -9.000,9,   -9.000,9,     -9.0,9,     -9.0,9,-999.0000,  -999.00,9,   9.2050
  33LK19960415,  AR04,    63,  1,      2,2,19960502, -4.6920, -35.1240,   25,    545.2,   6.7962,  34.5369,2,  34.5082,2,     -9.0,9,    167.2,2,    20.96,2,    30.83,2,     0.00,2,     1.98,2,   -9.000,9,   -9.000,9,     -9.0,9,     -9.0,9,-999.0000,  -999.00,9,   6.7451
  33LK19960415,  AR04,    63,  1,      1,2,19960502, -4.6920, -35.1240,   25,    679.5,   5.1173,  34.4486,2,  34.4502,2,     -9.0,9,    167.7,2,    27.98,2,    33.50,2,     0.00,2,     2.16,2,   -9.000,9,   -9.000,9,     -9.0,9,     -9.0,9,-999.0000,  -999.00,9,   5.0617
  33LK19960415,  AR04,    64,  1,      7,2,19960502, -4.7767, -35.1302,   25,      4.2,  28.1031,  36.6431,2,  36.6309,2,     -9.0,9,    196.6,2,     0.71,2,     0.29,2,     0.00,2,     0.04,2,   -9.000,9,   -9.000,9,     -9.0,4,    359.6,2,   8.1165,    25.00,2,  28.1021
  33LK19960415,  AR04,    64,  1,      6,2,19960502, -4.7767, -35.1302,   25,     50.1,  27.8850,  36.6906,2,  36.7111,2,     -9.0,9,    195.1,2,     0.83,2,     0.29,2,     0.00,2,     0.04,2,   -9.000,9,   -9.000,9,     -9.0,4,     -9.0,9,   8.1148,    25.00,2,  27.8732
  33LK19960415,  AR04,    64,  1,      5,2,19960502, -4.7767, -35.1302,   25,    101.0,  23.0600,  36.8817,2,  36.8899,2,     -9.0,9,    194.6,2,     0.87,2,     1.01,2,     0.12,2,     0.20,2,   -9.000,9,   -9.000,9,   2097.6,2,     -9.0,9,   8.0447,    25.00,2,  23.0392
  33LK19960415,  AR04,    64,  1,      4,2,19960502, -4.7767, -35.1302,   25,    148.9,  19.3525,  36.2205,2,  36.3853,2,     -9.0,9,    190.9,2,     1.36,2,     3.05,2,     0.02,2,     0.34,2,   -9.000,9,   -9.000,9,   2125.8,2,     -9.0,9,   7.9909,    25.00,2,  19.3254
  33LK19960415,  AR04,    64,  1,      3,2,19960502, -4.7767, -35.1302,   25,    200.0,  13.4151,  35.2634,2,  35.1987,2,     -9.0,9,    190.5,2,     4.89,2,    12.45,2,     0.00,2,     0.88,2,   -9.000,9,   -9.000,9,   2138.0,2,     -9.0,9,   7.8547,    25.00,2,  13.3870
  33LK19960415,  AR04,    64,  1,      2,2,19960502, -4.7767, -35.1302,   25,    300.5,   9.9349,  34.8241,2,  34.8178,2,     -9.0,9,    183.6,2,     9.80,2,    19.85,2,     0.00,2,     1.35,2,   -9.000,9,   -9.000,9,   2164.5,2,     -9.0,9,   7.7678,    25.00,2,   9.9001
  33LK19960415,  AR04,    64,  1,      1,2,19960502, -4.7767, -35.1302,   25,    374.1,   9.7743,  34.8040,2,  34.7889,2,     -9.0,9,    182.1,2,    10.43,2,    20.50,2,     0.00,2,     1.40,2,   -9.000,9,   -9.000,9,   2158.1,2,     -9.0,9,   7.7585,    25.00,2,   9.7312
  33LK19960415,  AR04,    65,  1,      5,2,19960507,  0.3962, -45.1127,   25,      2.2,  28.5532,  33.2246,2,  33.0182,2,    189.8,2,    192.2,2,     7.28,2,     0.21,2,     0.00,2,     0.04,2,   -9.000,9,   -9.000,9,   2034.2,3,    362.3,3,   8.0831,    25.00,2,  28.5527
  33LK19960415,  AR04,    65,  1,      4,2,19960507,  0.3962, -45.1127,   25,     39.0,  28.1616,  36.0779,2,  36.1830,2,    188.8,2,    198.7,2,     1.44,2,     0.68,2,     0.16,2,     0.10,2,   -9.000,9,   -9.000,9,   2026.0,2,     -9.0,9,   8.0784,    25.00,2,  28.1523
  33LK19960415,  AR04,    65,  1,      3,2,19960507,  0.3962, -45.1127,   25,     73.7,  25.8377,  36.2802,2,  36.2067,2,    190.5,2,    189.2,2,     2.12,2,     2.69,2,     0.22,2,     0.22,2,   -9.000,9,   -9.000,9,   2052.0,2,     -9.0,9,   8.0552,    25.00,2,  25.8213
  33LK19960415,  AR04,    65,  1,      2,2,19960507,  0.3962, -45.1127,   25,     98.9,  23.3012,  36.1073,2,  36.0798,2,    185.9,2,    179.4,2,     3.07,2,     5.14,2,     0.25,2,     0.39,2,   -9.000,9,   -9.000,9,   2075.1,2,     -9.0,9,   8.0084,    25.00,2,  23.2807
  33LK19960415,  AR04,    65,  1,      1,2,19960507,  0.3962, -45.1127,   25,    127.9,  21.9835,  36.0345,2,  35.9783,2,    174.7,2,    177.2,2,     3.56,2,     6.71,2,     0.21,2,     0.48,2,   -9.000,9,   -9.000,9,   2079.5,2,     -9.0,9,   7.9898,    25.00,2,  21.9581
  33LK19960415,  AR04,    66,  1,      6,2,19960507,  0.4198, -45.1025,   23,      1.9,  28.4846,  33.1400,2,  33.1469,2,    190.5,2,    192.9,2,     7.04,2,     0.07,2,     0.00,2,     0.04,2,   -9.000,9,   -9.000,9,   1872.8,2,    363.4,2,   8.1022,    25.00,2,  28.4841
  33LK19960415,  AR04,    66,  1,      5,2,19960507,  0.4198, -45.1025,   23,     48.7,  27.3905,  36.3838,2,  36.3904,2,    195.5,2,    194.4,2,     1.18,2,     0.63,2,     0.11,2,     0.11,2,   -9.000,9,   -9.000,9,     -9.0,4,     -9.0,9,   8.0874,    25.00,2,  27.3792
  33LK19960415,  AR04,    66,  1,      4,2,19960507,  0.4198, -45.1025,   23,    199.4,  11.5457,  35.0796,2,  35.0216,2,    157.0,2,    156.5,2,    12.73,2,    24.20,2,     0.00,2,     1.60,2,   -9.000,9,   -9.000,9,   2168.4,2,     -9.0,9,   7.7592,    25.00,2,  11.5203
  33LK19960415,  AR04,    66,  1,      3,2,19960507,  0.4198, -45.1025,   23,    300.6,   9.4301,  34.8291,2,  34.8104,2,    156.1,2,    156.5,2,     9.41,2,    20.33,2,     0.00,2,     1.36,2,   -9.000,9,   -9.000,9,   2189.9,2,     -9.0,9,   7.7032,    25.00,2,   9.3964
  33LK19960415,  AR04,    66,  1,      2,2,19960507,  0.4198, -45.1025,   23,    501.9,   6.3405,  34.5564,2,  34.5524,2,    149.0,2,    147.8,2,    22.46,2,    31.72,2,     0.00,2,     2.12,2,   -9.000,9,   -9.000,9,   2228.6,2,     -9.0,9,   7.6191,    25.00,2,   6.2953
  33LK19960415,  AR04,    66,  1,      1,2,19960507,  0.4198, -45.1025,   23,    636.6,   5.8778,  34.5305,2,  34.5269,2,    150.4,2,    151.7,2,    24.89,2,    32.30,2,     0.00,2,     2.18,2,   -9.000,9,   -9.000,9,   2199.6,2,     -9.0,9,   7.6082,    25.00,2,   5.8221