BOTTLE,20090511PRINUNIVRMK
EXPOCODE,SECT_ID,STNNBR,CASTNO,BTLNBR,BTLNBR_FLAG_W,DATE,LATITUDE,LONGITUDE,DEPTH,CTDPRS,CTDTMP,CTDSAL,CTDSAL_FLAG_W,SALNTY,SALNTY_FLAG_W,CTDOXY,CTDOXY_FLAG_W,OXYGEN,OXYGEN_FLAG_W,SILCAT,SILCAT_FLAG_W,NITRAT,NITRAT_FLAG_W,NITRIT,NITRIT_FLAG_W,PHSPHT,PHSPHT_FLAG_W,CFC-11,CFC-11_FLAG_W,CFC-12,CFC-12_FLAG_W,TCARBN,TCARBN_FLAG_W,PCO2,PCO2_FLAG_W,PH_SWS,PH_TEMP,PH_SWS_FLAG_W,THETA
,,,,,,,,,METERS,DBARS,ITS-90,PSS-78,,PSS-78,,UMOL/KG,,UMOL/KG,,UMOL/KG,,UMOL/KG,,UMOL/KG,,UMOL/KG,,PMOL/KG,,PMOL/KG,,UMOL/KG,,PPM,,,DEGC,,DEGC
  33LK19960415,  AR04,    25,  2,     22,2,19960422,  7.4992, -42.0023, -999,    580.1,   6.9489,  34.6881,2,  34.6886,2,     -9.0,9,    111.3,2,    22.06,2,    34.72,2,     0.00,2,     2.19,2,    0.120,2,    0.028,2,     -9.0,9,     -9.0,9,-999.0000,  -999.00,9,   6.8935
  33LK19960415,  AR04,    25,  2,     21,2,19960422,  7.4992, -42.0023, -999,    795.6,   5.5545,  34.6512,2,  34.6517,2,     -9.0,9,    120.3,2,    27.26,2,    35.69,2,     0.00,2,     2.33,2,    0.011,2,    0.001,2,     -9.0,9,     -9.0,9,-999.0000,  -999.00,9,   5.4858
  33LK19960415,  AR04,    25,  2,     20,2,19960422,  7.4992, -42.0023, -999,    896.0,   5.1074,  34.6622,2,  34.6527,2,     -9.0,9,    132.0,2,    28.93,2,    34.88,2,     0.00,2,     2.34,2,    0.003,2,    0.001,2,     -9.0,9,     -9.0,9,-999.0000,  -999.00,9,   5.0325
  33LK19960415,  AR04,    25,  2,     19,2,19960422,  7.4992, -42.0023, -999,    993.3,   4.9531,  34.7302,2,  34.6958,2,     -9.0,9,    145.5,2,    28.94,2,    33.18,2,     0.00,2,     2.22,2,    0.004,2,    0.001,2,     -9.0,9,     -9.0,9,-999.0000,  -999.00,9,   4.8704
  33LK19960415,  AR04,    25,  2,     18,2,19960422,  7.4992, -42.0023, -999,   1194.2,   4.8789,  34.8991,2,  34.8396,2,     -9.0,9,    171.9,2,    24.98,2,    28.84,2,     0.00,2,     1.92,2,    0.015,2,    0.002,2,     -9.0,9,     -9.0,9,-999.0000,  -999.00,9,   4.7782
  33LK19960415,  AR04,    25,  2,     17,2,19960422,  7.4992, -42.0023, -999,   1395.1,   4.7332,  34.9818,2,  34.9708,2,     -9.0,9,    209.3,2,    18.89,2,    23.40,2,     0.00,2,     1.52,2,    0.150,2,    0.058,2,     -9.0,9,     -9.0,9,-999.0000,  -999.00,9,   4.6148
  33LK19960415,  AR04,    25,  2,     16,2,19960422,  7.4992, -42.0023, -999,   1494.9,   4.5097,  34.9987,2,  34.9943,2,     -9.0,9,    225.3,2,    16.91,2,    21.42,2,     0.00,2,     1.38,2,    0.219,2,    0.090,2,     -9.0,9,     -9.0,9,-999.0000,  -999.00,9,   4.3842
  33LK19960415,  AR04,    25,  2,     15,2,19960422,  7.4992, -42.0023, -999,   1594.9,   4.2381,  34.9908,2,  35.0081,2,     -9.0,9,    240.8,2,    15.07,2,    19.86,2,     0.00,2,     1.30,2,    0.319,2,    0.127,2,     -9.0,9,     -9.0,9,-999.0000,  -999.00,9,   4.1062
  33LK19960415,  AR04,    25,  2,     14,2,19960422,  7.4992, -42.0023, -999,   1689.0,   4.1205,  34.9948,2,  34.9990,2,     -9.0,9,    247.1,2,    15.21,2,    19.55,2,     0.00,2,     1.26,2,    0.233,2,    0.103,2,     -9.0,9,     -9.0,9,-999.0000,  -999.00,9,   3.9812
  33LK19960415,  AR04,    25,  2,     13,2,19960422,  7.4992, -42.0023, -999,   1790.5,   3.9282,  34.9891,2,  34.9893,2,     -9.0,9,    248.4,2,    16.46,2,    19.63,2,     0.00,2,     1.28,2,    0.132,2,    0.056,2,     -9.0,9,     -9.0,9,-999.0000,  -999.00,9,   3.7818
  33LK19960415,  AR04,    25,  2,     12,2,19960422,  7.4992, -42.0023, -999,   1995.2,   3.6343,  34.9769,2,  34.9794,2,     -9.0,9,    254.1,2,    17.79,2,    19.34,2,     0.00,2,     1.22,2,    0.067,2,    0.029,2,     -9.0,9,     -9.0,9,-999.0000,  -999.00,9,   3.4726
  33LK19960415,  AR04,    25,  2,     11,2,19960422,  7.4992, -42.0023, -999,   2293.4,   3.2178,  34.9583,2,  34.9596,2,     -9.0,9,    257.4,2,    21.87,2,    19.40,2,     0.00,2,     1.21,2,    0.046,2,    0.018,2,     -9.0,9,     -9.0,9,-999.0000,  -999.00,9,   3.0341
  33LK19960415,  AR04,    25,  2,     10,2,19960422,  7.4992, -42.0023, -999,   2694.5,   2.8832,  34.9377,2,  34.9398,2,     -9.0,9,    256.1,2,    27.54,2,    19.91,2,     0.00,2,     1.32,2,    0.020,2,    0.015,2,     -9.0,9,     -9.0,9,-999.0000,  -999.00,9,   2.6661
  33LK19960415,  AR04,    25,  2,      9,2,19960422,  7.4992, -42.0023, -999,   2994.7,   2.7499,  34.9292,2,  34.9308,2,     -9.0,9,    257.3,2,    29.32,2,    19.98,2,     0.00,2,     1.31,2,    0.035,2,    0.016,2,     -9.0,9,     -9.0,9,-999.0000,  -999.00,9,   2.5051
  33LK19960415,  AR04,    25,  2,      8,2,19960422,  7.4992, -42.0023, -999,   3294.9,   2.5523,  34.9160,2,  34.9158,2,     -9.0,9,    257.9,2,    32.77,2,    20.09,2,     0.00,2,     1.31,2,    0.058,2,    0.029,2,     -9.0,9,     -9.0,9,-999.0000,  -999.00,9,   2.2806
  33LK19960415,  AR04,    25,  2,      7,2,19960422,  7.4992, -42.0023, -999,   3695.3,   2.3636,  34.9034,2,  34.9029,2,     -9.0,9,    262.5,2,    33.05,2,    19.65,2,     0.00,2,     1.30,2,    0.094,2,    0.042,2,     -9.0,9,     -9.0,9,-999.0000,  -999.00,9,   2.0533
  33LK19960415,  AR04,    25,  2,      6,2,19960422,  7.4992, -42.0023, -999,   3997.3,   2.2450,  34.8935,2,  34.8956,2,     -9.0,9,    263.3,2,    34.29,2,    19.58,2,     0.00,2,     1.33,2,    0.137,2,    0.055,2,     -9.0,9,     -9.0,9,-999.0000,  -999.00,9,   1.9041
  33LK19960415,  AR04,    25,  2,      5,2,19960422,  7.4992, -42.0023, -999,   4196.7,   2.1810,  34.8838,2,  34.8843,2,     -9.0,9,    260.6,2,    37.76,2,    20.21,2,     0.00,2,     1.36,2,    0.117,2,    0.043,2,     -9.0,9,     -9.0,9,-999.0000,  -999.00,9,   1.8192
  33LK19960415,  AR04,    25,  2,      3,2,19960422,  7.4992, -42.0023, -999,   4397.0,   1.9794,  34.8562,2,  34.8546,2,     -9.0,9,    252.4,2,    52.35,2,    22.49,2,     0.00,2,     1.53,2,   -9.000,9,   -9.000,9,     -9.0,9,     -9.0,9,-999.0000,  -999.00,9,   1.6004
  33LK19960415,  AR04,    25,  2,      4,2,19960422,  7.4992, -42.0023, -999,   4397.1,   1.9749,  34.8560,2,  34.8546,2,     -9.0,9,    252.4,2,    52.19,2,    22.37,2,     0.00,2,     1.53,2,    0.059,2,    0.021,2,     -9.0,9,     -9.0,9,-999.0000,  -999.00,9,   1.5961
  33LK19960415,  AR04,    25,  2,      2,2,19960422,  7.4992, -42.0023, -999,   4597.3,   1.6030,  34.8100,2,  34.8086,2,     -9.0,9,    242.0,2,    76.84,2,    25.47,2,     0.00,2,     1.75,2,    0.025,2,    0.010,2,     -9.0,9,     -9.0,9,-999.0000,  -999.00,9,   1.2125
  33LK19960415,  AR04,    25,  2,      1,2,19960422,  7.4992, -42.0023, -999,   4868.9,   1.5119,  34.7952,2,  34.7963,2,     -9.0,9,    238.3,2,    83.75,2,    26.15,2,     0.00,2,     1.81,2,    0.016,2,    0.008,2,     -9.0,9,     -9.0,9,-999.0000,  -999.00,9,   1.0922
  33LK19960415,  AR04,    26,  1,      6,2,19960422,  7.5027, -41.3343, -999,      4.3,  27.2847,  36.1277,2,  36.1287,2,     -9.0,9,    200.9,2,     0.99,2,     0.51,2,     0.00,2,     0.02,2,    1.819,2,    0.875,2,   2021.1,2,    357.6,2,   8.1044,    25.00,2,  27.2837
  33LK19960415,  AR04,    26,  1,      5,2,19960422,  7.5027, -41.3343, -999,     49.1,  27.0283,  36.1193,2,  36.1186,2,     -9.0,9,    201.7,2,     0.90,2,     0.55,2,     0.00,2,     0.01,2,    1.779,2,    0.851,2,   2011.6,2,     -9.0,9,   8.1021,    25.00,2,  27.0170
  33LK19960415,  AR04,    26,  1,      4,2,19960422,  7.5027, -41.3343, -999,    150.0,  13.9174,  35.4441,2,  35.4130,2,     -9.0,9,    113.1,2,     8.46,2,    22.04,2,     0.00,2,     1.32,2,    1.231,2,    0.398,2,   2198.3,3,     -9.0,9,   7.7537,    25.00,2,  13.8958
  33LK19960415,  AR04,    26,  1,      3,2,19960422,  7.5027, -41.3343, -999,    248.5,  10.1191,  34.9694,2,  34.9547,2,     -9.0,9,    115.2,2,    13.05,2,    27.71,2,     0.00,2,     1.71,2,    0.753,2,    0.175,2,   2198.2,2,     -9.0,9,   7.6734,    25.00,2,  10.0900
  33LK19960415,  AR04,    26,  1,      2,2,19960422,  7.5027, -41.3343, -999,    400.3,   8.6795,  34.8077,2,  34.8107,2,     -9.0,9,    110.3,2,    16.24,2,    31.01,2,     0.00,2,     1.92,2,    0.445,2,    0.079,2,   2225.9,3,     -9.0,9,   7.6208,    25.00,2,   8.6365
  33LK19960415,  AR04,    26,  1,      1,2,19960422,  7.5027, -41.3343, -999,    507.9,   7.8668,  34.7516,2,  34.7673,2,     -9.0,9,     98.5,2,    19.10,2,    33.90,2,     0.00,2,     2.10,2,    0.200,2,    0.055,2,   2255.3,3,     -9.0,9,   7.5762,    25.00,2,   7.8150
  33LK19960415,  AR04,    26,  2,     22,2,19960422,  7.5027, -41.3343, -999,    589.9,   7.0568,  34.6834,2,  34.6774,2,     -9.0,9,    113.5,2,    22.79,2,    34.48,2,     0.00,2,     2.17,2,    0.101,2,    0.018,2,   2218.7,2,     -9.0,9,   7.5771,    25.00,2,   7.0000
  33LK19960415,  AR04,    26,  2,     21,2,19960422,  7.5027, -41.3343, -999,    794.7,   5.7555,  34.6489,2,  34.6480,2,     -9.0,9,    125.0,2,    27.95,2,    35.16,2,     0.00,2,     2.26,2,    0.000,2,   -9.000,9,   2219.0,2,     -9.0,9,   7.5755,    25.00,2,   5.6857
  33LK19960415,  AR04,    26,  2,     20,2,19960422,  7.5027, -41.3343, -999,    893.5,   5.1153,  34.6592,2,  34.6740,2,     -9.0,9,    138.5,2,    28.86,2,    33.80,2,     0.00,2,     2.22,2,   -0.005,2,   -9.000,9,   2212.2,2,     -9.0,9,   7.5883,    25.00,2,   5.0405
  33LK19960415,  AR04,    26,  2,     19,2,19960422,  7.5027, -41.3343, -999,    994.4,   4.9056,  34.7435,2,  34.7440,2,     -9.0,9,    152.0,2,    27.64,2,    31.77,2,     0.00,2,     2.06,2,   -0.002,2,   -9.000,9,   2211.8,2,     -9.0,9,   7.6163,    25.00,2,   4.8231
  33LK19960415,  AR04,    26,  2,     18,2,19960422,  7.5027, -41.3343, -999,   1194.3,   4.7093,  34.8666,2,  34.8480,2,     -9.0,9,    173.6,2,    24.52,2,    28.34,2,     0.00,2,     1.85,2,    0.004,2,   -0.003,2,   2193.3,2,     -9.0,9,   7.6574,    25.00,2,   4.6101
  33LK19960415,  AR04,    26,  2,     17,2,19960422,  7.5027, -41.3343, -999,   1397.1,   4.6178,  34.9632,2,  34.9420,2,     -9.0,9,    205.8,3,    20.18,2,    24.03,2,     0.00,2,     1.54,2,    0.047,2,    0.011,2,   2167.4,2,     -9.0,9,   7.7097,    25.00,2,   4.5004
  33LK19960415,  AR04,    26,  2,     16,2,19960422,  7.5027, -41.3343, -999,   1491.7,   4.4815,  34.9911,2,  34.9792,2,     -9.0,9,    222.8,2,    20.12,2,    24.15,2,     0.00,2,     1.53,2,    0.112,2,    0.039,2,   2151.8,3,     -9.0,9,   7.7298,    25.00,2,   4.3566
  33LK19960415,  AR04,    26,  2,     15,2,19960422,  7.5027, -41.3343, -999,   1596.4,   4.2531,  34.9810,2,  34.9884,2,     -9.0,9,    233.4,2,    16.70,2,    20.96,2,     0.00,2,     1.31,2,    0.127,2,    0.042,2,   2179.1,2,     -9.0,9,   7.7489,    25.00,2,   4.1210
  33LK19960415,  AR04,    26,  2,     14,2,19960422,  7.5027, -41.3343, -999,   1695.6,   4.0843,  34.9912,2,  34.9886,2,     -9.0,9,    240.3,2,    16.37,2,    20.29,2,     0.00,2,     1.28,2,    0.102,2,    0.037,2,   2126.6,3,     -9.0,9,   7.7593,    25.00,2,   3.9449
  33LK19960415,  AR04,    26,  2,     13,2,19960422,  7.5027, -41.3343, -999,   1796.4,   3.9262,  34.9870,2,  34.9883,2,     -9.0,9,    247.7,2,    16.51,2,    19.68,2,     0.00,2,     1.22,2,    0.093,2,    0.031,2,   2135.7,3,     -9.0,9,   7.7607,    25.00,2,   3.7793
  33LK19960415,  AR04,    26,  2,     12,2,19960422,  7.5027, -41.3343, -999,   1993.4,   3.5607,  34.9735,2,  34.9757,2,     -9.0,9,    253.6,2,    18.68,2,    19.61,2,     0.00,2,     1.21,2,    0.031,2,    0.014,2,   2153.8,2,     -9.0,9,   7.7718,    25.00,2,   3.4003
  33LK19960415,  AR04,    26,  2,     11,2,19960422,  7.5027, -41.3343, -999,   2295.4,   3.1978,  34.9564,2,  34.9497,2,     -9.0,9,    256.4,2,    21.85,2,    19.38,2,     0.00,2,     1.22,2,    0.004,2,    0.011,2,   2144.4,3,     -9.0,9,   7.7774,    25.00,2,   3.0143
  33LK19960415,  AR04,    26,  2,     10,2,19960422,  7.5027, -41.3343, -999,   2695.3,   2.8910,  34.9374,2,  34.9394,2,     -9.0,9,    255.8,2,    26.85,2,    19.94,2,     0.00,2,     1.27,2,    0.003,2,    0.006,2,   2147.7,3,     -9.0,9,   7.7688,    25.00,2,   2.6737
  33LK19960415,  AR04,    26,  2,      9,2,19960422,  7.5027, -41.3343, -999,   2996.0,   2.7414,  34.9300,2,  34.9281,2,     -9.0,9,    256.3,2,    29.37,2,    19.97,2,     0.00,2,     1.27,2,    0.016,2,    0.007,2,   2152.2,3,     -9.0,9,   7.7683,    25.00,2,   2.4966
  33LK19960415,  AR04,    26,  2,      8,2,19960422,  7.5027, -41.3343, -999,   3196.3,   2.6397,  34.9225,2,  34.9198,2,     -9.0,9,    255.5,2,    32.04,2,    20.12,2,     0.00,2,     1.29,2,    0.032,2,    0.015,2,   2165.3,2,     -9.0,9,   7.7742,    25.00,2,   2.3763
  33LK19960415,  AR04,    26,  2,      7,2,19960422,  7.5027, -41.3343, -999,   3495.2,   2.4608,  34.9092,2,  34.9073,2,     -9.0,9,    258.5,2,    33.20,2,    19.91,2,     0.00,2,     1.28,2,    0.047,2,    0.018,2,   2154.3,3,     -9.0,9,   7.7732,    25.00,2,   2.1698
  33LK19960415,  AR04,    26,  2,      6,2,19960422,  7.5027, -41.3343, -999,   3796.5,   2.3195,  34.8998,2,  34.9008,2,     -9.0,9,    262.2,2,    32.18,2,    19.60,2,     0.00,2,     1.26,2,    0.085,2,    0.033,2,   2150.3,3,     -9.0,9,   7.7729,    25.00,2,   1.9991
  33LK19960415,  AR04,    26,  2,      5,2,19960422,  7.5027, -41.3343, -999,   3992.1,   2.2398,  34.8925,2,  34.8914,2,     -9.0,9,    262.1,2,    34.39,2,    19.53,2,     0.00,2,     1.26,2,   -9.000,9,   -9.000,9,   2177.6,2,     -9.0,9,   7.7696,    25.00,2,   1.8997
  33LK19960415,  AR04,    26,  2,      4,2,19960422,  7.5027, -41.3343, -999,   3995.3,   2.2384,  34.8921,2,  34.8908,2,     -9.0,9,    262.0,2,    34.61,2,    19.64,2,     0.00,2,     1.25,2,    0.100,2,    0.048,2,   2154.6,3,     -9.0,9,   7.7697,    25.00,2,   1.8980
  33LK19960415,  AR04,    26,  2,      3,2,19960422,  7.5027, -41.3343, -999,   4197.3,   2.0905,  34.8726,2,  34.8730,2,     -9.0,9,    256.7,2,    42.83,2,    21.02,2,     0.00,2,     1.34,2,    0.064,2,    0.025,2,   2149.2,3,     -9.0,9,   7.7565,    25.00,2,   1.7313
  33LK19960415,  AR04,    26,  2,      2,2,19960422,  7.5027, -41.3343, -999,   4394.7,   1.7437,  34.8291,2,  34.8283,2,     -9.0,9,    246.1,2,    62.28,2,    23.78,2,     0.00,2,     1.56,2,    0.032,2,    0.018,2,   2162.9,3,     -9.0,9,   7.7313,    25.00,2,   1.3723
  33LK19960415,  AR04,    26,  2,      1,2,19960422,  7.5027, -41.3343, -999,   4571.1,   1.5561,  34.8050,2,  34.8041,2,     -9.0,9,    240.2,2,    83.93,2,    25.42,2,     0.00,2,     1.67,2,    0.023,2,    0.013,2,   2177.0,3,     -9.0,9,   7.7169,    25.00,2,   1.1702