BOTTLE,20090511PRINUNIVRMK
# File initialized 6/28/07 
#  Data from CCHDO 6/27/07 
# Shipn: Edwin Link 
# Cruise; WOCE AR04h; ETAMBO2 
# Dates:4/15-5/16/1996 
# EXPOCODE 33LK19960415 
# Region: West Equatorial Atlantic (off Brazil) 
# Chief Scientist:Y. Gouriou 
# 94 full depth stations;  with 24 place Rosette 
# Hydro: Who - Y.Gouriou; Status - final 
# 	Notes:See Oudot et al., 1999; Gouriou et al. 1999. 
# Nuts/O2: Who - C.Oudot; Status - final 
# 	Notes  
# TCO2: Who - J.Ternon,C.Oudot; Status - final 
# 	Notes: CRM used 
# 	Mean difference of duplicates 9.7umol/kg 
# fCO2: Who -J.Ternon,C.Oudot; Status - final; S Plus - up to date 
# 	Notes: Near surface samples (0-65m) only 
# 	Measured at 28C, reported at in situ T/P 
# 	Std. Dev. of replicates 2.2uatm 
# 	See Ternon et al., 2000. 
# pH: Who - J.Ternon,C.Oudot; Status - final 
# 	Notes: potentiometric method 
# 	Converted to pHSWS@25C. Orignially measured at 25C, reported at in situ T/P on total H+ scale 
# 	Std. Dev. of replicates 0.003 
# CFC: Who - C.Andrie; Status - final 
# 	Notes: some results removed due to contamination 
# Other: ChloroA, but no data in file 
# References: 
# Andrie, C. J.-F. Ternon, B. fourles, Y. Gouriou and C. Oudot, Tracer distributions and deep circulation in the western tropical Atlantic during CITHER 1 and ETAMBOT cruises, 1993-1996, J. Geophys. Res., 21195-21216, 104, 1999. 
# Gouriou, Y., B. Bourles, H. Mercier, R. Chuchla, Deep jets in the equatorial Atlantic Ocean, J. Geophys. Res., 104, 21217-21226, 1999. 
# Oudot, C., F.F. Ternon, C. Andrie, E.S. Braga & P. Morin, On the crossing of the equator by intermediate water masses in the western Atlantic ocean : Identification and pathways of AAIW and UCPW. J. Geophys. Res., 104, 20911-20926, 1999. 
# Ternon, J.F., C. Oudot, D. Dessier and D. Diverres, A seasonal tropical sink for aatmospheric CO2 in the Atlantic Ocean: the role of the Amazon River discharge, Mar. Chem., 68, 183-201, 2000. 
EXPOCODE,SECT_ID,STNNBR,CASTNO,BTLNBR,BTLNBR_FLAG_W,DATE,LATITUDE,LONGITUDE,DEPTH,CTDPRS,CTDTMP,CTDSAL,CTDSAL_FLAG_W,SALNTY,SALNTY_FLAG_W,CTDOXY,CTDOXY_FLAG_W,OXYGEN,OXYGEN_FLAG_W,SILCAT,SILCAT_FLAG_W,NITRAT,NITRAT_FLAG_W,NITRIT,NITRIT_FLAG_W,PHSPHT,PHSPHT_FLAG_W,CFC-11,CFC-11_FLAG_W,CFC-12,CFC-12_FLAG_W,TCARBN,TCARBN_FLAG_W,PCO2,PCO2_FLAG_W,PH_SWS,PH_TEMP,PH_SWS_FLAG_W,THETA
,,,,,,,,,METERS,DBARS,ITS-90,PSS-78,,PSS-78,,UMOL/KG,,UMOL/KG,,UMOL/KG,,UMOL/KG,,UMOL/KG,,UMOL/KG,,PMOL/KG,,PMOL/KG,,UMOL/KG,,PPM,,,DEGC,,DEGC
  33LK19960415,  AR04,     1,  1,      4,2,19960416,  5.6812, -51.5600,   25,      2.0,  27.8022,  35.5156,2,  35.5086,2,    201.1,2,    197.5,2,     2.16,2,     0.07,2,     0.00,2,     0.00,2,   -9.000,9,   -9.000,9,   2000.1,2,    367.7,2,   8.1422,    25.00,2,  27.8017
  33LK19960415,  AR04,     1,  1,      3,2,19960416,  5.6812, -51.5600,   25,     38.7,  27.2568,  36.2013,2,  36.1971,2,    191.3,2,    194.1,2,     1.38,2,     0.55,2,     0.01,2,     0.00,2,   -9.000,9,   -9.000,9,   2028.0,2,     -9.0,9,   8.1352,    25.00,2,  27.2478
  33LK19960415,  AR04,     1,  1,      1,2,19960416,  5.6812, -51.5600,   25,     70.1,  26.8734,  36.2550,2,  36.2522,2,    191.3,2,    193.4,2,     1.48,2,     0.80,2,     0.02,2,     0.02,2,   -9.000,9,   -9.000,9,   2005.5,3,     -9.0,9,   8.1205,    25.00,2,  26.8573
  33LK19960415,  AR04,     1,  1,      2,2,19960416,  5.6812, -51.5600,   25,     70.5,  26.8703,  36.2547,2,  36.2519,2,    191.3,2,    193.7,2,     1.46,2,     0.82,2,     0.02,2,     0.01,2,   -9.000,9,   -9.000,9,   2049.0,2,     -9.0,9,   8.1305,    25.00,2,  26.8541
  33LK19960415,  AR04,     2,  1,      6,2,19960416,  5.8375, -51.4172,   25,      1.7,  27.8887,  36.1496,2,  36.1374,2,    196.0,2,    197.6,2,     1.09,2,     0.00,2,     0.00,2,     0.00,2,   -9.000,9,   -9.000,9,   2012.8,2,    372.3,2,   8.1434,    25.00,2,  27.8883
  33LK19960415,  AR04,     2,  1,      5,2,19960416,  5.8375, -51.4172,   25,     69.0,  27.8791,  36.2862,2,  36.2839,2,    194.2,2,    197.2,2,     1.01,2,     0.00,2,     0.00,2,     0.00,2,   -9.000,9,   -9.000,9,   2040.9,2,     -9.0,9,   8.1355,    25.00,2,  27.8628
  33LK19960415,  AR04,     2,  1,      4,2,19960416,  5.8375, -51.4172,   25,    129.1,  18.9432,  36.0357,2,  36.0481,2,    170.2,2,    169.4,2,     4.08,2,     7.95,2,     0.05,2,     0.58,2,   -9.000,9,   -9.000,9,   2142.2,2,     -9.0,9,   7.9742,    25.00,2,  18.9201
  33LK19960415,  AR04,     2,  1,      2,2,19960416,  5.8375, -51.4172,   25,    199.1,  12.6338,  35.2824,2,  35.2486,2,    138.6,2,    139.4,2,    10.72,2,    19.18,2,     0.04,2,     1.30,2,   -9.000,9,   -9.000,9,   2174.5,2,     -9.0,9,   7.7945,    25.00,2,  12.6069
  33LK19960415,  AR04,     2,  1,      3,2,19960416,  5.8375, -51.4172,   25,    200.2,  12.6301,  35.2820,2,  35.2440,2,    138.4,2,    138.8,2,    10.76,2,    19.31,2,     0.04,2,     1.31,2,   -9.000,9,   -9.000,9,   2171.6,2,     -9.0,9,   7.7945,    25.00,2,  12.6030
  33LK19960415,  AR04,     2,  1,      1,2,19960416,  5.8375, -51.4172,   25,    254.2,  10.0600,  34.9716,2,  35.0126,2,    132.0,2,    129.2,2,    13.55,2,    23.34,2,     0.02,2,     1.58,2,   -9.000,9,   -9.000,9,   2176.6,2,     -9.0,9,   7.7392,    25.00,2,  10.0303
  33LK19960415,  AR04,     3,  1,      8,9,19960416,  5.8508, -51.4092,   25,      3.0,  28.0003,  36.1742,2,  -9.0000,9,     -9.0,4,     -9.0,9,    -9.00,9,    -9.00,9,    -9.00,9,    -9.00,9,   -9.000,9,   -9.000,9,     -9.0,9,     -9.0,9,-999.0000,  -999.00,9,  27.9996
  33LK19960415,  AR04,     3,  1,      7,2,19960416,  5.8508, -51.4092,   25,     48.3,  27.9367,  36.2854,2,  36.2782,2,    199.8,2,    197.3,2,     1.01,2,     0.01,2,     0.00,2,     0.00,2,   -9.000,9,   -9.000,9,   2029.0,2,    372.2,2,   8.1457,    25.00,2,  27.9253
  33LK19960415,  AR04,     3,  1,      6,2,19960416,  5.8508, -51.4092,   25,     99.6,  23.9516,  36.3083,2,  36.3203,2,    190.7,2,    183.4,2,     2.43,2,     3.51,2,     0.15,2,     0.24,2,   -9.000,9,   -9.000,9,     -9.0,9,     -9.0,9,-999.0000,  -999.00,9,  23.9306
  33LK19960415,  AR04,     3,  1,      5,2,19960416,  5.8508, -51.4092,   25,    150.4,  16.2876,  35.7083,2,  35.6385,2,    167.1,2,    160.9,2,     6.40,2,    12.79,2,     0.04,2,     0.84,2,   -9.000,9,   -9.000,9,     -9.0,9,     -9.0,9,-999.0000,  -999.00,9,  16.2634
  33LK19960415,  AR04,     3,  1,      3,2,19960416,  5.8508, -51.4092,   25,    249.4,   9.7873,  34.9338,2,  34.9361,2,    128.3,2,    131.7,2,    14.05,2,    25.43,2,     0.00,2,     1.58,2,   -9.000,9,   -9.000,9,     -9.0,9,     -9.0,9,-999.0000,  -999.00,9,   9.7587
  33LK19960415,  AR04,     3,  1,      4,2,19960416,  5.8508, -51.4092,   25,    250.7,   9.7914,  34.9309,2,  35.0562,2,    128.2,2,    136.0,2,    13.81,2,    23.65,2,     0.00,2,     1.46,2,   -9.000,9,   -9.000,9,     -9.0,9,     -9.0,9,-999.0000,  -999.00,9,   9.7626
  33LK19960415,  AR04,     3,  1,      2,2,19960416,  5.8508, -51.4092,   25,    390.6,   8.0521,  34.7615,2,  34.7143,2,    119.5,2,    163.5,2,    20.67,2,    31.07,2,     0.00,2,     1.97,2,   -9.000,9,   -9.000,9,     -9.0,9,     -9.0,9,-999.0000,  -999.00,9,   8.0121
  33LK19960415,  AR04,     3,  1,      1,2,19960416,  5.8508, -51.4092,   25,    495.1,   6.9926,  34.6562,2,  34.6616,2,    122.5,2,    122.3,2,    22.74,2,    32.11,2,     0.00,2,     2.05,2,   -9.000,9,   -9.000,9,     -9.0,9,     -9.0,9,-999.0000,  -999.00,9,   6.9455
  33LK19960415,  AR04,     4,  1,     10,2,19960416,  5.8840, -51.4088,   25,      2.0,  28.0759,  36.2386,2,  36.2546,2,    189.4,4,    197.6,2,     0.94,2,     0.00,2,     0.00,2,     0.00,2,   -9.000,9,   -9.000,9,   1997.9,3,    372.6,2,   8.1261,    25.00,2,  28.0754
  33LK19960415,  AR04,     4,  1,      9,2,19960416,  5.8840, -51.4088,   25,     41.0,  27.9388,  36.2694,2,  36.2767,2,    200.6,2,    197.8,2,     0.93,2,     0.00,2,     0.00,2,     0.00,2,   -9.000,9,   -9.000,9,   2007.4,2,     -9.0,9,   8.1254,    25.00,2,  27.9291
  33LK19960415,  AR04,     4,  1,      8,2,19960416,  5.8840, -51.4088,   25,     72.6,  27.7117,  36.2806,2,  36.3618,2,    198.4,2,    195.2,2,     1.13,2,     0.15,2,     0.00,2,     0.02,2,   -9.000,9,   -9.000,9,   2050.7,2,     -9.0,9,   8.1030,    25.00,2,  27.6947
  33LK19960415,  AR04,     4,  1,      7,2,19960416,  5.8840, -51.4088,   25,    142.4,  17.1921,  35.8401,2,  35.6332,2,    167.6,2,    163.6,2,     5.70,2,    11.96,2,     0.00,2,     0.81,2,   -9.000,9,   -9.000,9,   2127.9,2,     -9.0,9,   7.9091,    25.00,2,  17.1683
  33LK19960415,  AR04,     4,  1,      6,2,19960416,  5.8840, -51.4088,   25,    294.8,   8.9404,  34.8434,2,  34.7983,2,    123.8,2,    125.9,2,    16.92,2,    27.68,2,     0.00,2,     1.77,2,   -9.000,9,   -9.000,9,   2192.8,2,     -9.0,9,   7.6864,    25.00,2,   8.9084
  33LK19960415,  AR04,     4,  1,      4,2,19960416,  5.8840, -51.4088,   25,    395.8,   7.8120,  34.7522,2,  34.7487,2,    118.6,2,    119.4,2,    19.56,2,    29.96,2,     0.00,2,     1.93,2,   -9.000,9,   -9.000,9,   2200.0,2,     -9.0,9,   7.6456,    25.00,2,   7.7721
  33LK19960415,  AR04,     4,  1,      5,2,19960416,  5.8840, -51.4088,   25,    397.4,   7.8153,  34.7506,2,  34.7413,2,    118.6,2,    119.6,2,    19.79,2,    30.05,2,     0.00,2,     1.92,2,   -9.000,9,   -9.000,9,   2192.2,2,     -9.0,9,   7.6457,    25.00,2,   7.7753
  33LK19960415,  AR04,     4,  1,      3,2,19960416,  5.8840, -51.4088,   25,    499.8,   6.8918,  34.6650,2,  34.6438,2,    122.4,2,    121.1,2,    23.19,2,    31.81,2,     0.00,2,     2.09,2,   -9.000,9,   -9.000,9,   2219.1,2,     -9.0,9,   7.6269,    25.00,2,   6.8446
  33LK19960415,  AR04,     4,  1,      2,2,19960416,  5.8840, -51.4088,   25,    646.0,   5.9654,  34.6101,2,  34.6072,2,    129.6,2,    127.6,2,    27.33,2,    32.58,2,     0.00,2,     2.18,2,   -9.000,9,   -9.000,9,   2206.9,2,     -9.0,9,   7.6189,    25.00,2,   5.9084
  33LK19960415,  AR04,     4,  1,      1,2,19960416,  5.8840, -51.4088,   25,    741.5,   5.3295,  34.6092,2,  34.6116,2,    137.0,2,    136.7,2,    31.72,2,    32.36,2,     0.10,2,     2.67,3,   -9.000,9,   -9.000,9,   2200.5,3,     -9.0,9,   7.6502,    25.00,2,   5.2671
  33LK19960415,  AR04,     5,  1,     13,2,19960416,  5.9183, -51.3643,   25,      0.6,  28.1221,  36.2958,2,  36.2267,2,    195.2,2,    193.5,2,     1.67,2,     1.62,2,     0.00,2,     0.09,2,    1.615,2,    0.847,2,   2042.6,3,    397.9,2,   8.0664,    25.00,2,  28.1220
  33LK19960415,  AR04,     5,  1,     12,2,19960416,  5.9183, -51.3643,   25,     51.9,  27.9561,  36.2939,2,  36.2857,2,    195.0,2,    197.1,2,     1.04,2,     0.16,2,     0.00,2,     0.00,2,    1.608,2,    0.859,2,     -9.0,9,     -9.0,9,-999.0000,  -999.00,9,  27.9438
  33LK19960415,  AR04,     5,  1,     11,2,19960416,  5.9183, -51.3643,   25,     98.7,  23.1488,  36.3858,2,  36.4034,2,    188.5,2,    182.6,2,     2.23,2,     3.53,2,     0.16,2,     0.27,2,    1.736,2,    0.862,2,     -9.0,9,     -9.0,9,-999.0000,  -999.00,9,  23.1284
  33LK19960415,  AR04,     5,  1,     10,2,19960416,  5.9183, -51.3643,   25,    200.0,  12.0257,  35.1660,2,  35.0804,2,    141.8,2,    140.2,2,    11.32,2,    21.84,2,     0.00,2,     1.39,2,    1.182,2,    0.484,2,     -9.0,9,     -9.0,9,-999.0000,  -999.00,9,  11.9995
  33LK19960415,  AR04,     5,  1,      9,2,19960416,  5.9183, -51.3643,   25,    395.8,   7.4035,  34.6867,2,  34.6853,2,    124.1,2,    126.0,2,    20.26,2,    30.84,2,     0.00,2,     1.98,2,    0.452,2,    0.127,2,     -9.0,9,     -9.0,9,-999.0000,  -999.00,9,   7.3649
  33LK19960415,  AR04,     5,  1,      8,2,19960416,  5.9183, -51.3643,   25,    596.5,   6.4438,  34.6345,2,  34.6281,2,    125.4,2,    124.6,2,    24.08,2,    32.80,2,     0.00,2,     2.15,2,    0.154,2,    0.020,2,     -9.0,9,     -9.0,9,-999.0000,  -999.00,9,   6.3891
  33LK19960415,  AR04,     5,  1,      7,2,19960416,  5.9183, -51.3643,   25,    787.9,   5.1341,  34.6225,2,  34.6104,2,    141.0,2,    138.2,2,    29.77,2,    32.82,2,     0.00,2,     2.21,2,    0.027,2,    0.008,2,     -9.0,9,     -9.0,9,-999.0000,  -999.00,9,   5.0687
  33LK19960415,  AR04,     5,  1,      5,2,19960416,  5.9183, -51.3643,   25,    897.1,   4.9437,  34.6815,2,  34.6693,2,    149.0,2,    145.3,2,    29.52,2,    31.59,2,     0.00,2,     2.16,2,   -9.000,9,   -9.000,9,     -9.0,9,     -9.0,9,-999.0000,  -999.00,9,   4.8698
  33LK19960415,  AR04,     5,  1,      6,2,19960416,  5.9183, -51.3643,   25,    898.2,   4.9446,  34.6790,2,  34.6704,2,    148.9,2,    145.4,2,    29.50,2,    31.47,2,     0.00,2,     2.16,2,    0.021,2,    0.006,2,     -9.0,9,     -9.0,9,-999.0000,  -999.00,9,   4.8706
  33LK19960415,  AR04,     5,  1,      4,2,19960416,  5.9183, -51.3643,   25,    996.6,   4.8760,  34.7784,2,  34.7712,2,    162.1,2,    160.6,2,    27.42,2,    29.09,2,     0.00,2,     1.98,2,    0.024,2,    0.011,2,     -9.0,9,     -9.0,9,-999.0000,  -999.00,9,   4.7935
  33LK19960415,  AR04,     5,  1,      3,2,19960416,  5.9183, -51.3643,   25,   1098.0,   4.8421,  34.8614,2,  34.8547,2,    180.0,2,    177.0,2,    24.52,2,    26.23,2,     0.00,2,     1.80,2,    0.051,2,    0.023,2,     -9.0,9,     -9.0,9,-999.0000,  -999.00,9,   4.7505
  33LK19960415,  AR04,     5,  1,      2,2,19960416,  5.9183, -51.3643,   25,   1290.2,   4.7589,  34.9833,2,  34.9821,2,    217.3,2,    217.6,2,    18.06,2,    20.71,2,     0.00,2,     1.40,2,    0.268,2,    0.122,2,     -9.0,9,     -9.0,9,-999.0000,  -999.00,9,   4.6501
  33LK19960415,  AR04,     5,  1,      1,2,19960416,  5.9183, -51.3643,   25,   1427.9,   4.6694,  35.0055,2,  35.0037,2,    230.9,2,    229.9,2,    16.41,2,    19.30,2,     0.00,2,     1.30,2,    0.329,2,    0.144,2,     -9.0,9,     -9.0,9,-999.0000,  -999.00,9,   4.5484
  33LK19960415,  AR04,     6,  1,     17,9,19960417,  5.9722, -51.2927,   25,     -9.0,  -9.0000,  -9.0000,9,  -9.0000,9,     -9.0,9,     -9.0,9,    -9.00,9,    -9.00,9,    -9.00,9,    -9.00,9,   -9.000,9,   -9.000,9,     -9.0,9,     -9.0,9,-999.0000,  -999.00,9,  -9.0000
  33LK19960415,  AR04,     6,  1,     18,9,19960417,  5.9722, -51.2927,   25,     -9.0,  -9.0000,  -9.0000,9,  -9.0000,9,     -9.0,9,     -9.0,9,    -9.00,9,    -9.00,9,    -9.00,9,    -9.00,9,   -9.000,9,   -9.000,9,     -9.0,9,     -9.0,9,-999.0000,  -999.00,9,  -9.0000
  33LK19960415,  AR04,     6,  1,     16,2,19960417,  5.9722, -51.2927,   25,     72.5,  27.9571,  36.2846,2,  36.2804,2,    191.4,2,    196.0,2,     1.67,2,     0.51,2,     0.00,2,     0.00,2,   -9.000,9,   -9.000,9,   2037.3,2,    378.0,2,   8.0865,    25.00,2,  27.9400
  33LK19960415,  AR04,     6,  1,     15,2,19960417,  5.9722, -51.2927,   25,     98.1,  25.1235,  36.4572,2,  36.4601,2,    190.5,2,    189.2,2,     2.08,2,     1.21,2,     0.08,2,     0.09,2,   -9.000,9,   -9.000,9,   2096.6,2,     -9.0,9,   8.0454,    25.00,2,  25.1020
  33LK19960415,  AR04,     6,  1,     14,2,19960417,  5.9722, -51.2927,   25,    172.0,  15.2463,  35.5830,2,  35.5849,2,    160.9,2,    162.1,2,     6.44,2,    13.47,2,     0.01,2,     0.87,2,   -9.000,9,   -9.000,9,   2148.3,2,     -9.0,9,   7.8615,    25.00,2,  15.2199
  33LK19960415,  AR04,     6,  1,     13,2,19960417,  5.9722, -51.2927,   25,    246.5,  10.6315,  34.9954,2,  34.9943,2,    135.8,2,    140.8,2,    12.14,2,    22.93,2,     0.00,2,     1.47,2,   -9.000,9,   -9.000,9,   2199.5,2,     -9.0,9,   7.7283,    25.00,2,  10.6017
  33LK19960415,  AR04,     6,  1,     12,2,19960417,  5.9722, -51.2927,   25,    396.7,   8.2441,  34.7597,2,  34.7723,2,    127.1,2,    126.5,2,    17.81,2,    28.62,2,     0.00,2,     1.87,2,   -9.000,9,   -9.000,9,   2212.3,2,     -9.0,9,   7.6425,    25.00,2,   8.2028
  33LK19960415,  AR04,     6,  1,     11,9,19960417,  5.9722, -51.2927,   25,    595.0,   6.3467,  34.6227,2,  -9.0000,9,     -9.0,4,     -9.0,9,    -9.00,9,    -9.00,9,    -9.00,9,    -9.00,9,   -9.000,9,   -9.000,9,     -9.0,9,     -9.0,9,-999.0000,  -999.00,9,   6.2926
  33LK19960415,  AR04,     6,  1,     10,9,19960417,  5.9722, -51.2927,   25,    794.3,   5.1919,  34.6128,2,  -9.0000,9,     -9.0,4,     -9.0,9,    -9.00,9,    -9.00,9,    -9.00,9,    -9.00,9,   -9.000,9,   -9.000,9,     -9.0,9,     -9.0,9,-999.0000,  -999.00,9,   5.1256
  33LK19960415,  AR04,     6,  1,      9,2,19960417,  5.9722, -51.2927,   25,    895.6,   4.9581,  34.6471,2,  34.6400,2,    145.1,2,    142.5,2,    30.61,2,    32.11,2,     0.00,2,     2.21,2,    0.030,2,    0.009,2,   2225.8,2,     -9.0,9,   7.5953,    25.00,2,   4.8842
  33LK19960415,  AR04,     6,  1,      8,2,19960417,  5.9722, -51.2927,   25,    994.0,   4.9185,  34.7279,2,  34.8288,2,    153.5,2,    153.0,2,    29.21,2,    30.24,2,     0.00,2,     2.09,2,    0.054,2,    0.013,2,   2223.2,2,     -9.0,9,   7.6164,    25.00,2,   4.8358
  33LK19960415,  AR04,     6,  1,      6,2,19960417,  5.9722, -51.2927,   25,   1094.4,   4.9232,  34.8132,2,  34.8281,2,    166.8,2,    168.2,2,    26.30,2,    27.46,2,     0.00,2,     1.89,2,   -9.000,9,   -9.000,9,   2207.3,2,     -9.0,9,   7.6477,    25.00,2,   4.8313
  33LK19960415,  AR04,     6,  1,      7,2,19960417,  5.9722, -51.2927,   25,   1095.7,   4.9227,  34.8119,2,  34.7262,2,    167.0,2,    168.8,2,    26.21,2,    27.46,2,     0.00,2,     1.89,2,    0.028,2,    0.006,2,   2193.9,3,     -9.0,9,   7.6478,    25.00,2,   4.8309
  33LK19960415,  AR04,     6,  1,      5,2,19960417,  5.9722, -51.2927,   25,   1197.4,   4.8551,  34.9248,2,  34.9374,2,    196.4,2,    198.3,2,    21.80,2,    23.46,2,     0.00,2,     1.60,2,    0.148,2,    0.051,2,   2184.0,2,     -9.0,9,   7.6967,    25.00,2,   4.7541
  33LK19960415,  AR04,     6,  1,      4,2,19960417,  5.9722, -51.2927,   25,   1390.6,   4.6089,  35.0098,2,  35.0109,2,    232.3,2,    234.5,2,    16.70,2,    19.26,2,     0.00,2,     1.29,2,    0.364,2,    0.145,2,   2153.4,3,     -9.0,9,   7.7467,    25.00,2,   4.4921
  33LK19960415,  AR04,     6,  1,      3,2,19960417,  5.9722, -51.2927,   25,   1594.7,   4.2595,  35.0102,2,  35.0040,2,    246.7,2,    249.5,2,    15.98,2,    18.14,2,     0.00,2,     1.20,2,    0.380,2,    0.154,2,   2158.5,2,     -9.0,9,   7.7583,    25.00,2,   4.1274
  33LK19960415,  AR04,     6,  1,      2,2,19960417,  5.9722, -51.2927,   25,   1895.4,   3.6294,  34.9859,2,  34.9829,2,    257.3,2,    260.2,2,    17.61,2,    17.40,2,     0.00,2,     1.17,2,    0.292,2,    0.120,2,   2139.7,3,     -9.0,9,   7.7692,    25.00,2,   3.4772
  33LK19960415,  AR04,     6,  1,      1,2,19960417,  5.9722, -51.2927,   25,   1992.8,   3.6072,  34.9848,2,  34.9818,2,    256.4,2,    260.2,2,    17.98,2,    17.47,2,     0.00,2,     1.19,2,    0.242,2,    0.106,2,   2152.3,2,     -9.0,9,   7.7724,    25.00,2,   3.4461