BOTTLE,20020809WHPSIObren
EXPOCODE,SECT_ID,STNNBR,CASTNO,SAMPNO,BTLNBR,BTLNBR_FLAG_W,DATE,TIME,LATITUDE,LONGITUDE,DEPTH,CTDPRS,CTDTMP,CTDSAL,CTDSAL_FLAG_W,SALNTY,SALNTY_FLAG_W,CTDOXY,CTDOXY_FLAG_W,OXYGEN,OXYGEN_FLAG_W,SILCAT,SILCAT_FLAG_W,NO2+NO3,NO2+NO3_FLAG_W,PHSPHT,PHSPHT_FLAG_W,CTDRAW,REVTMP,REVPRS,THETA
,,,,,,,,,,,,DBAR,ITS-90,PSS-78,,PSS-78,,UMOL/KG,,UMOL/KG,,UMOL/KG,,UMOL/KG,,UMOL/KG,,,DEG C,DBAR,ITS-90
     33KI121_1,  PRS2,     2,  5,     18,     18,3,20001220,0002, 22.7490,-158.0097, 4725,      4.3,  24.8529,  34.9307,2,  34.9290,2,    209.8,1,   -999.0,9,  -999.00,9,  -999.00,9,  -999.00,9,      5,-999.000,  -999.0, 24.8520
     33KI121_1,  PRS2,     2,  5,     16,     16,2,20001220,0002, 22.7490,-158.0097, 4725,      4.3,  24.8833,  34.9312,2,  34.9502,4,    209.7,1,   -999.0,9,  -999.00,9,  -999.00,9,  -999.00,9,      5,-999.000,  -999.0, 24.8823
     33KI121_1,  PRS2,     2,  5,     14,     14,2,20001220,0002, 22.7490,-158.0097, 4725,      4.3,  24.8674,  34.9305,2,  34.9303,2,    209.6,1,   -999.0,9,  -999.00,9,  -999.00,9,  -999.00,9,      5,-999.000,  -999.0, 24.8664
     33KI121_1,  PRS2,     2,  5,     21,     21,2,20001220,0002, 22.7490,-158.0097, 4725,      4.4,  24.8842,  34.9307,2,  34.9296,2,    209.9,1,   -999.0,9,  -999.00,9,  -999.00,9,  -999.00,9,      5,-999.000,  -999.0, 24.8832
     33KI121_1,  PRS2,     2,  5,     20,     20,2,20001220,0002, 22.7490,-158.0097, 4725,      4.4,  24.8880,  34.9311,2,  34.9292,2,    209.9,1,   -999.0,9,  -999.00,9,  -999.00,9,  -999.00,9,      5,-999.000,  -999.0, 24.8870
     33KI121_1,  PRS2,     2,  5,     19,     19,2,20001220,0002, 22.7490,-158.0097, 4725,      4.4,  24.8582,  34.9304,2,  34.9294,2,    209.9,1,   -999.0,9,  -999.00,9,  -999.00,9,  -999.00,9,      5,-999.000,  -999.0, 24.8573
     33KI121_1,  PRS2,     2,  5,     17,     17,2,20001220,0002, 22.7490,-158.0097, 4725,      4.4,  24.8752,  34.9302,2,  34.9307,2,    209.7,1,   -999.0,9,  -999.00,9,  -999.00,9,  -999.00,9,      5,-999.000,  -999.0, 24.8743
     33KI121_1,  PRS2,     2,  5,     15,     23,2,20001220,0002, 22.7490,-158.0097, 4725,      4.4,  24.8677,  34.9305,2,  34.9292,2,    209.6,1,   -999.0,9,  -999.00,9,  -999.00,9,  -999.00,9,      5,-999.000,  -999.0, 24.8667
     33KI121_1,  PRS2,     2,  5,     13,     13,2,20001220,0002, 22.7490,-158.0097, 4725,     23.9,  24.7347,  34.9309,2,  34.9579,4,    209.7,1,   -999.0,9,  -999.00,9,  -999.00,9,  -999.00,9,     24,-999.000,  -999.0, 24.7296
     33KI121_1,  PRS2,     2,  5,     12,     12,2,20001220,0002, 22.7490,-158.0097, 4725,     44.4,  24.7270,  34.9319,2,  34.9298,2,    209.9,1,   -999.0,9,  -999.00,9,  -999.00,9,  -999.00,9,     46,-999.000,  -999.0, 24.7175
     33KI121_1,  PRS2,     2,  5,     11,     11,2,20001220,0002, 22.7490,-158.0097, 4725,     73.9,  24.7841,  35.0818,2,  35.0768,2,    210.2,1,   -999.0,9,  -999.00,9,  -999.00,9,  -999.00,9,     75,-999.000,  -999.0, 24.7682
     33KI121_1,  PRS2,     2,  5,     10,     32,2,20001220,0002, 22.7490,-158.0097, 4725,     99.1,  24.9840,  35.2667,2,  35.2534,3,    208.4,1,   -999.0,9,  -999.00,9,  -999.00,9,  -999.00,9,     99,-999.000,  -999.0, 24.9625
     33KI121_1,  PRS2,     2,  5,      9,      3,2,20001220,0002, 22.7490,-158.0097, 4725,    124.4,  22.8715,  35.2987,2,  35.2974,2,    217.3,1,   -999.0,9,  -999.00,9,  -999.00,9,  -999.00,9,    125,-999.000,  -999.0, 22.8461
     33KI121_1,  PRS2,     2,  5,      8,     29,2,20001220,0002, 22.7490,-158.0097, 4725,    148.9,  21.9310,  35.3159,2,  35.3159,2,    206.2,1,   -999.0,9,  -999.00,9,  -999.00,9,  -999.00,9,    150,-999.000,  -999.0, 21.9016
     33KI121_1,  PRS2,     2,  5,      7,     28,2,20001220,0002, 22.7490,-158.0097, 4725,    173.2,  20.7258,  35.1844,2,  35.1872,2,    202.7,1,   -999.0,9,  -999.00,9,  -999.00,9,  -999.00,9,    174,-999.000,  -999.0, 20.6929
     33KI121_1,  PRS2,     2,  5,      6,      7,2,20001220,0002, 22.7490,-158.0097, 4725,    199.2,  19.9612,  35.1097,2,  35.1228,2,    198.9,1,   -999.0,9,  -999.00,9,  -999.00,9,  -999.00,9,    200,-999.000,  -999.0, 19.9244
     33KI121_1,  PRS2,     2,  5,      5,     38,2,20001220,0002, 22.7490,-158.0097, 4725,    249.1,  16.9052,  34.7273,2,  34.7276,2,    190.7,1,   -999.0,9,  -999.00,9,  -999.00,9,  -999.00,9,    250,-999.000,  -999.0, 16.8643
     33KI121_1,  PRS2,     2,  5,      3,     35,2,20001220,0002, 22.7490,-158.0097, 4725,    349.1,  10.9708,  34.1380,2,  34.1385,2,    173.2,1,   -999.0,9,  -999.00,9,  -999.00,9,  -999.00,9,    350,-999.000,  -999.0, 10.9279
     33KI121_1,  PRS2,     2,  5,      4,     36,2,20001220,0002, 22.7490,-158.0097, 4725,    349.2,  10.9717,  34.1382,2,  34.1387,2,    173.3,1,   -999.0,9,  -999.00,9,  -999.00,9,  -999.00,9,    350,-999.000,  -999.0, 10.9289
     33KI121_1,  PRS2,     2,  5,      2,     34,2,20001220,0002, 22.7490,-158.0097, 4725,    449.3,   8.2202,  34.0778,2,  34.0784,2,    140.9,1,   -999.0,9,  -999.00,9,  -999.00,9,  -999.00,9,    450,-999.000,  -999.0,  8.1739
     33KI121_1,  PRS2,     2,  5,      1,     33,2,20001220,0002, 22.7490,-158.0097, 4725,   1019.5,   4.0082,  34.4772,2,  34.4765,2,     40.9,1,   -999.0,9,  -999.00,9,  -999.00,9,  -999.00,9,   1020,-999.000,  -999.0,  3.9309
     33KI121_1,  PRS2,     2,  6,     17,     17,2,20001220,0253, 22.7407,-158.0188, 4725,      4.3,  24.9334,  34.9376,2,  34.9364,2,    209.5,1,   -999.0,9,  -999.00,9,  -999.00,9,  -999.00,9,      5,-999.000,  -999.0, 24.9325
     33KI121_1,  PRS2,     2,  6,     16,     16,2,20001220,0253, 22.7407,-158.0188, 4725,     23.9,  24.7422,  34.9368,2,  34.9370,2,    209.9,1,   -999.0,9,  -999.00,9,  -999.00,9,  -999.00,9,     24,-999.000,  -999.0, 24.7371
     33KI121_1,  PRS2,     2,  6,     15,     23,2,20001220,0253, 22.7407,-158.0188, 4725,     44.6,  24.7215,  34.9772,2,  34.9591,3,    210.6,1,   -999.0,9,  -999.00,9,  -999.00,9,  -999.00,9,     45,-999.000,  -999.0, 24.7119
     33KI121_1,  PRS2,     2,  6,     14,     14,2,20001220,0253, 22.7407,-158.0188, 4725,     74.7,  24.9363,  35.2212,2,  35.2192,2,    209.0,1,   -999.0,9,  -999.00,9,  -999.00,9,  -999.00,9,     74,-999.000,  -999.0, 24.9201
     33KI121_1,  PRS2,     2,  6,     13,     13,3,20001220,0253, 22.7407,-158.0188, 4725,     98.7,  23.9881,  35.2588,2,  35.2605,2,    212.5,1,   -999.0,9,  -999.00,9,  -999.00,9,  -999.00,9,     99,-999.000,  -999.0, 23.9673
     33KI121_1,  PRS2,     2,  6,     12,     12,2,20001220,0253, 22.7407,-158.0188, 4725,    124.1,  22.5935,  35.3055,2,  35.3163,3,    216.9,1,   -999.0,9,  -999.00,9,  -999.00,9,  -999.00,9,    124,-999.000,  -999.0, 22.5685
     33KI121_1,  PRS2,     2,  6,     11,     11,2,20001220,0253, 22.7407,-158.0188, 4725,    150.9,  21.1853,  35.2392,2,  35.2400,2,    204.0,1,   -999.0,9,  -999.00,9,  -999.00,9,  -999.00,9,    152,-999.000,  -999.0, 21.1562
     33KI121_1,  PRS2,     2,  6,     10,     32,2,20001220,0253, 22.7407,-158.0188, 4725,    175.4,  20.4642,  35.1633,2,  35.1811,2,    201.2,1,   -999.0,9,  -999.00,9,  -999.00,9,  -999.00,9,    176,-999.000,  -999.0, 20.4313
     33KI121_1,  PRS2,     2,  6,      9,      3,2,20001220,0253, 22.7407,-158.0188, 4725,    200.3,  19.2471,  35.0175,2,  35.0307,2,    195.8,1,   -999.0,9,  -999.00,9,  -999.00,9,  -999.00,9,    200,-999.000,  -999.0, 19.2110
     33KI121_1,  PRS2,     2,  6,      8,     29,2,20001220,0253, 22.7407,-158.0188, 4725,    200.4,  19.2438,  35.0179,2,  35.0311,2,    195.6,1,   -999.0,9,  -999.00,9,  -999.00,9,  -999.00,9,    201,-999.000,  -999.0, 19.2077
     33KI121_1,  PRS2,     2,  6,      6,      7,2,20001220,0253, 22.7407,-158.0188, 4725,    249.1,  15.7337,  34.5583,2,  34.5712,2,    182.7,1,   -999.0,9,  -999.00,9,  -999.00,9,  -999.00,9,    249,-999.000,  -999.0, 15.6948
     33KI121_1,  PRS2,     2,  6,      7,     28,2,20001220,0253, 22.7407,-158.0188, 4725,    249.3,  15.7315,  34.5584,2,  34.5602,2,    182.6,1,   -999.0,9,  -999.00,9,  -999.00,9,  -999.00,9,    251,-999.000,  -999.0, 15.6926
     33KI121_1,  PRS2,     2,  6,      3,     35,2,20001220,0253, 22.7407,-158.0188, 4725,    349.5,  10.8209,  34.1316,2,  34.1340,2,    173.3,1,   -999.0,9,  -999.00,9,  -999.00,9,  -999.00,9,    351,-999.000,  -999.0, 10.7784
     33KI121_1,  PRS2,     2,  6,      4,     36,2,20001220,0253, 22.7407,-158.0188, 4725,    349.8,  10.8124,  34.1316,2,  34.1368,2,    173.3,1,   -999.0,9,  -999.00,9,  -999.00,9,  -999.00,9,    351,-999.000,  -999.0, 10.7698
     33KI121_1,  PRS2,     2,  6,      5,     38,2,20001220,0253, 22.7407,-158.0188, 4725,    349.9,  10.8057,  34.1311,2,  34.1397,2,    173.3,1,   -999.0,9,  -999.00,9,  -999.00,9,  -999.00,9,    350,-999.000,  -999.0, 10.7632
     33KI121_1,  PRS2,     2,  6,      2,     34,2,20001220,0253, 22.7407,-158.0188, 4725,    500.1,   7.1598,  34.0974,2,  34.0974,2,    101.0,1,   -999.0,9,  -999.00,9,  -999.00,9,  -999.00,9,    501,-999.000,  -999.0,  7.1120
     33KI121_1,  PRS2,     2,  6,      1,     33,2,20001220,0253, 22.7407,-158.0188, 4725,   1019.8,   4.0063,  34.4760,2,  34.4756,2,     41.6,1,   -999.0,9,  -999.00,9,  -999.00,9,  -999.00,9,   1021,-999.000,  -999.0,  3.9290
     33KI121_1,  PRS2,     2,  7,     24,     31,2,20001220,0551, 22.7472,-158.0097, 4725,      4.5,  24.8031,  34.9358,2,  34.9331,2,    208.7,1,   -999.0,9,  -999.00,9,  -999.00,9,  -999.00,9,      5,-999.000,  -999.0, 24.8021
     33KI121_1,  PRS2,     2,  7,     23,     30,2,20001220,0551, 22.7472,-158.0097, 4725,      4.5,  24.8033,  34.9353,2,  34.9339,2,    208.8,1,   -999.0,9,  -999.00,9,  -999.00,9,  -999.00,9,      5,-999.000,  -999.0, 24.8023
     33KI121_1,  PRS2,     2,  7,     22,     22,2,20001220,0551, 22.7472,-158.0097, 4725,     24.5,  24.6946,  34.9258,2,  34.9235,2,    209.7,1,   -999.0,9,  -999.00,9,  -999.00,9,  -999.00,9,     25,-999.000,  -999.0, 24.6893
     33KI121_1,  PRS2,     2,  7,     21,     21,2,20001220,0551, 22.7472,-158.0097, 4725,     24.5,  24.6946,  34.9257,2,  34.9244,2,    209.8,1,   -999.0,9,  -999.00,9,  -999.00,9,  -999.00,9,     25,-999.000,  -999.0, 24.6893
     33KI121_1,  PRS2,     2,  7,     20,     20,2,20001220,0551, 22.7472,-158.0097, 4725,     44.5,  24.6631,  34.9352,2,  34.9337,2,    210.1,1,   -999.0,9,  -999.00,9,  -999.00,9,  -999.00,9,     45,-999.000,  -999.0, 24.6535
     33KI121_1,  PRS2,     2,  7,     19,     19,2,20001220,0551, 22.7472,-158.0097, 4725,     44.6,  24.6627,  34.9349,2,  34.9353,2,    210.1,1,   -999.0,9,  -999.00,9,  -999.00,9,  -999.00,9,     45,-999.000,  -999.0, 24.6531
     33KI121_1,  PRS2,     2,  7,     18,     18,2,20001220,0551, 22.7472,-158.0097, 4725,     59.7,  24.6648,  35.0244,2,  35.0234,2,    210.4,1,   -999.0,9,  -999.00,9,  -999.00,9,  -999.00,9,     60,-999.000,  -999.0, 24.6520
     33KI121_1,  PRS2,     2,  7,     17,     17,2,20001220,0551, 22.7472,-158.0097, 4725,     74.8,  24.5496,  34.9950,2,  34.9955,2,    210.2,1,   -999.0,9,  -999.00,9,  -999.00,9,  -999.00,9,     75,-999.000,  -999.0, 24.5337
     33KI121_1,  PRS2,     2,  7,     16,     16,2,20001220,0551, 22.7472,-158.0097, 4725,     83.6,  24.6012,  35.0404,2,  35.0526,2,    210.2,1,   -999.0,9,  -999.00,9,  -999.00,9,  -999.00,9,     86,-999.000,  -999.0, 24.5833
     33KI121_1,  PRS2,     2,  7,     15,     23,2,20001220,0551, 22.7472,-158.0097, 4725,     99.8,  24.9701,  35.2890,2,  35.2879,2,    208.5,1,   -999.0,9,  -999.00,9,  -999.00,9,  -999.00,9,    100,-999.000,  -999.0, 24.9484
     33KI121_1,  PRS2,     2,  7,     14,     14,2,20001220,0551, 22.7472,-158.0097, 4725,    114.8,  23.7785,  35.2447,2,  35.2461,2,    215.3,1,   -999.0,9,  -999.00,9,  -999.00,9,  -999.00,9,    116,-999.000,  -999.0, 23.7545
     33KI121_1,  PRS2,     2,  7,     13,     13,2,20001220,0551, 22.7472,-158.0097, 4725,    119.9,  23.2514,  35.2763,2,  35.2759,2,    217.5,1,   -999.0,9,  -999.00,9,  -999.00,9,  -999.00,9,    120,-999.000,  -999.0, 23.2267
     33KI121_1,  PRS2,     2,  7,     12,     12,2,20001220,0551, 22.7472,-158.0097, 4725,    124.6,  22.8187,  35.3094,2,  35.3088,2,    216.5,1,   -999.0,9,  -999.00,9,  -999.00,9,  -999.00,9,    126,-999.000,  -999.0, 22.7934
     33KI121_1,  PRS2,     2,  7,     11,     11,2,20001220,0551, 22.7472,-158.0097, 4725,    124.7,  22.8150,  35.3096,2,  35.3086,2,    215.8,1,   -999.0,9,  -999.00,9,  -999.00,9,  -999.00,9,    125,-999.000,  -999.0, 22.7896
     33KI121_1,  PRS2,     2,  7,     10,     32,2,20001220,0551, 22.7472,-158.0097, 4725,    135.1,  22.2603,  35.3083,2,  35.3100,2,    211.9,1,   -999.0,9,  -999.00,9,  -999.00,9,  -999.00,9,    136,-999.000,  -999.0, 22.2334
     33KI121_1,  PRS2,     2,  7,      9,      3,2,20001220,0551, 22.7472,-158.0097, 4725,    135.4,  22.2574,  35.3084,2,  35.3080,2,    211.4,1,   -999.0,9,  -999.00,9,  -999.00,9,  -999.00,9,    136,-999.000,  -999.0, 22.2304
     33KI121_1,  PRS2,     2,  7,      8,     29,2,20001220,0551, 22.7472,-158.0097, 4725,    148.6,  21.2551,  35.2591,2,  35.2686,2,    200.3,1,   -999.0,9,  -999.00,9,  -999.00,9,  -999.00,9,    150,-999.000,  -999.0, 21.2264
     33KI121_1,  PRS2,     2,  7,      7,     28,2,20001220,0551, 22.7472,-158.0097, 4725,    149.0,  21.2360,  35.2571,2,  35.2777,3,    200.1,1,   -999.0,9,  -999.00,9,  -999.00,9,  -999.00,9,    150,-999.000,  -999.0, 21.2072
     33KI121_1,  PRS2,     2,  7,      6,      7,2,20001220,0551, 22.7472,-158.0097, 4725,    149.0,  21.2370,  35.2602,2,  35.2824,3,    200.0,1,   -999.0,9,  -999.00,9,  -999.00,9,  -999.00,9,    150,-999.000,  -999.0, 21.2083
     33KI121_1,  PRS2,     2,  7,      4,     36,2,20001220,0551, 22.7472,-158.0097, 4725,    174.8,  20.1902,  35.1419,2,  35.1437,2,    198.4,1,   -999.0,9,  -999.00,9,  -999.00,9,  -999.00,9,    175,-999.000,  -999.0, 20.1577
     33KI121_1,  PRS2,     2,  7,      5,     38,2,20001220,0551, 22.7472,-158.0097, 4725,    175.0,  20.1888,  35.1418,2,  35.1435,2,    198.6,1,   -999.0,9,  -999.00,9,  -999.00,9,  -999.00,9,    176,-999.000,  -999.0, 20.1563
     33KI121_1,  PRS2,     2,  7,      3,     35,2,20001220,0551, 22.7472,-158.0097, 4725,    250.3,  15.8246,  34.5662,2,  34.5590,2,    185.5,1,   -999.0,9,  -999.00,9,  -999.00,9,  -999.00,9,    251,-999.000,  -999.0, 15.7854
     33KI121_1,  PRS2,     2,  7,      2,     34,2,20001220,0551, 22.7472,-158.0097, 4725,    500.4,   7.0759,  34.1073,2,  34.1056,2,     91.1,1,   -999.0,9,  -999.00,9,  -999.00,9,  -999.00,9,    501,-999.000,  -999.0,  7.0284
     33KI121_1,  PRS2,     2,  7,      1,     33,2,20001220,0551, 22.7472,-158.0097, 4725,   1019.9,   4.0080,  34.4752,2,  34.4779,2,     41.3,1,   -999.0,9,  -999.00,9,  -999.00,9,  -999.00,9,   1021,-999.000,  -999.0,  3.9306
     33KI121_1,  PRS2,     2,  8,     19,     19,2,20001220,0857, 22.7545,-158.0085, 4727,      4.4,  24.7074,  34.9229,2,  34.9248,2,    209.2,2,   -999.0,5,  -999.00,5,  -999.00,5,  -999.00,5,      4,-999.000,  -999.0, 24.7065
     33KI121_1,  PRS2,     2,  8,     18,     18,2,20001220,0857, 22.7545,-158.0085, 4727,      4.6,  24.7077,  34.9230,2,  34.9215,2,    209.2,2,    209.5,2,     1.59,2,     0.00,2,     0.12,2,      5,-999.000,  -999.0, 24.7067
     33KI121_1,  PRS2,     2,  8,     17,     17,2,20001220,0857, 22.7545,-158.0085, 4727,     15.1,  24.7119,  34.9232,2,  34.9986,4,    209.2,3,   -999.0,5,     1.68,2,     0.01,2,     0.12,2,     15,-999.000,  -999.0, 24.7087
     33KI121_1,  PRS2,     2,  8,     16,     16,2,20001220,0857, 22.7545,-158.0085, 4727,     23.9,  24.7090,  34.9227,2,  34.9211,2,    209.2,2,   -999.0,5,  -999.00,5,  -999.00,5,  -999.00,5,     26,-999.000,  -999.0, 24.7039
     33KI121_1,  PRS2,     2,  8,     15,     23,2,20001220,0857, 22.7545,-158.0085, 4727,     23.9,  24.7112,  34.9230,2,  34.9307,2,    209.2,2,    209.3,2,     1.54,2,     0.00,2,     0.13,2,     24,-999.000,  -999.0, 24.7061
     33KI121_1,  PRS2,     2,  8,     14,     14,2,20001220,0857, 22.7545,-158.0085, 4727,     34.5,  24.6575,  34.9202,2,  34.9262,2,    209.9,2,   -999.0,5,     1.65,2,     0.01,2,     0.12,2,     34,-999.000,  -999.0, 24.6501
     33KI121_1,  PRS2,     2,  8,     13,     13,2,20001220,0857, 22.7545,-158.0085, 4727,     45.3,  24.6310,  34.9228,2,  34.9209,2,    209.6,2,    209.4,2,     1.55,2,     0.00,2,     0.12,2,     46,-999.000,  -999.0, 24.6213
     33KI121_1,  PRS2,     2,  8,     12,     12,2,20001220,0857, 22.7545,-158.0085, 4727,     58.9,  24.6753,  34.9797,2,  34.9787,2,    210.1,2,   -999.0,5,     1.56,2,     0.01,2,     0.12,2,     59,-999.000,  -999.0, 24.6626
     33KI121_1,  PRS2,     2,  8,     11,     11,2,20001220,0857, 22.7545,-158.0085, 4727,     72.8,  24.6696,  35.0272,2,  35.0285,2,    209.8,2,    209.4,2,     2.25,2,     0.01,2,     0.11,2,     74,-999.000,  -999.0, 24.6540
     33KI121_1,  PRS2,     2,  8,     10,     32,2,20001220,0857, 22.7545,-158.0085, 4727,     86.0,  24.6141,  35.0317,2,  35.0159,3,    209.6,3,    209.4,2,  -999.00,5,  -999.00,5,  -999.00,5,     86,-999.000,  -999.0, 24.5957
     33KI121_1,  PRS2,     2,  8,      9,      3,2,20001220,0857, 22.7545,-158.0085, 4727,     99.3,  24.9326,  35.2666,2,  35.2718,2,    207.7,2,    207.4,2,     1.38,2,     0.00,2,     0.07,2,     99,-999.000,  -999.0, 24.9111
     33KI121_1,  PRS2,     2,  8,      8,     29,2,20001220,0857, 22.7545,-158.0085, 4727,    116.8,  24.1170,  35.2004,2,  35.2107,2,    211.9,2,    212.5,2,  -999.00,5,  -999.00,5,  -999.00,5,    117,-999.000,  -999.0, 24.0923
     33KI121_1,  PRS2,     2,  8,      7,     28,2,20001220,0857, 22.7545,-158.0085, 4727,    122.2,  23.5804,  35.2313,2,  35.2408,2,    214.5,2,    215.5,2,     1.58,2,     0.00,2,     0.08,2,    123,-999.000,  -999.0, 23.5550
     33KI121_1,  PRS2,     2,  8,      6,      7,2,20001220,0857, 22.7545,-158.0085, 4727,    150.4,  21.8409,  35.3085,2,  35.2915,3,    206.5,3,    208.6,2,     1.80,2,     0.27,2,     0.10,2,    149,-999.000,  -999.0, 21.8113
     33KI121_1,  PRS2,     2,  8,      5,     38,2,20001220,0857, 22.7545,-158.0085, 4727,    166.3,  21.2273,  35.2884,2,  35.3173,4,    201.3,3,    202.2,2,  -999.00,5,  -999.00,5,  -999.00,5,    165,-999.000,  -999.0, 21.1952
     33KI121_1,  PRS2,     2,  8,      4,     36,2,20001220,0857, 22.7545,-158.0085, 4727,    172.3,  21.1562,  35.2775,2,  35.2952,2,    200.6,2,    200.6,2,     2.05,2,     0.80,2,     0.15,2,    173,-999.000,  -999.0, 21.1229
     33KI121_1,  PRS2,     2,  8,      3,     35,2,20001220,0857, 22.7545,-158.0085, 4727,    199.6,  20.0867,  35.1575,2,  35.1931,4,    197.5,3,    196.4,2,     2.44,2,     1.69,2,     0.18,2,    200,-999.000,  -999.0, 20.0496
     33KI121_1,  PRS2,     2,  8,      2,     34,2,20001220,0857, 22.7545,-158.0085, 4727,    479.9,   7.6501,  34.0801,2,  34.0829,2,    116.4,2,   -999.0,5,  -999.00,5,  -999.00,5,  -999.00,5,    481,-999.000,  -999.0,  7.6025
     33KI121_1,  PRS2,     2,  8,      1,     33,2,20001220,0857, 22.7545,-158.0085, 4727,   1021.2,   4.0356,  34.4708,2,  34.4701,2,     40.6,2,   -999.0,5,  -999.00,5,  -999.00,5,  -999.00,5,   1021,-999.000,  -999.0,  3.9579