BOTTLE,20020809WHPSIObren
EXPOCODE,SECT_ID,STNNBR,CASTNO,SAMPNO,BTLNBR,BTLNBR_FLAG_W,DATE,TIME,LATITUDE,LONGITUDE,DEPTH,CTDPRS,CTDTMP,CTDSAL,CTDSAL_FLAG_W,SALNTY,SALNTY_FLAG_W,CTDOXY,CTDOXY_FLAG_W,OXYGEN,OXYGEN_FLAG_W,SILCAT,SILCAT_FLAG_W,NO2+NO3,NO2+NO3_FLAG_W,PHSPHT,PHSPHT_FLAG_W,CTDRAW,REVTMP,REVPRS,THETA
,,,,,,,,,,,,DBAR,ITS-90,PSS-78,,PSS-78,,UMOL/KG,,UMOL/KG,,UMOL/KG,,UMOL/KG,,UMOL/KG,,,DEG C,DBAR,ITS-90
     33KI121_1,  PRS2,     2, 15,     14,     14,2,20001221,0901, 22.9037,-158.0335, 4665,      3.6,  24.6411,  34.9405,2,  34.9410,2,    209.7,2,    209.3,2,  -999.00,9,  -999.00,9,  -999.00,9,      3,-999.000,  -999.0, 24.6403
     33KI121_1,  PRS2,     2, 15,     13,     13,2,20001221,0901, 22.9037,-158.0335, 4665,    149.9,  21.7174,  35.3044,2,  35.3074,2,    207.5,2,    207.2,2,  -999.00,9,  -999.00,9,  -999.00,9,    148,-999.000,  -999.0, 21.6880
     33KI121_1,  PRS2,     2, 15,     12,     12,2,20001221,0901, 22.9037,-158.0335, 4665,    450.3,   8.4786,  34.0836,2,  34.0837,2,    145.0,2,    145.9,2,  -999.00,9,  -999.00,9,  -999.00,9,    451,-999.000,  -999.0,  8.4313
     33KI121_1,  PRS2,     2, 15,     11,     11,2,20001221,0901, 22.9037,-158.0335, 4665,    805.6,   4.6888,  34.3574,2,  34.3568,2,     32.0,2,     30.8,2,  -999.00,9,  -999.00,9,  -999.00,9,    810,-999.000,  -999.0,  4.6249
     33KI121_1,  PRS2,     2, 15,     10,     32,2,20001221,0901, 22.9037,-158.0335, 4665,   1997.9,   2.1554,  34.6183,2,  34.6179,2,     86.7,2,     86.6,2,  -999.00,9,  -999.00,9,  -999.00,9,   1997,-999.000,  -999.0,  2.0169
     33KI121_1,  PRS2,     2, 15,      9,      3,2,20001221,0901, 22.9037,-158.0335, 4665,   2495.7,   1.7414,  34.6485,2,  34.6488,2,    102.6,2,    103.5,2,  -999.00,9,  -999.00,9,  -999.00,9,   2495,-999.000,  -999.0,  1.5663
     33KI121_1,  PRS2,     2, 15,      8,     29,2,20001221,0901, 22.9037,-158.0335, 4665,   3000.9,   1.5274,  34.6706,2,  34.6720,2,    124.2,2,    125.8,2,  -999.00,9,  -999.00,9,  -999.00,9,   3002,-999.000,  -999.0,  1.3100
     33KI121_1,  PRS2,     2, 15,      7,     28,2,20001221,0901, 22.9037,-158.0335, 4665,   3499.4,   1.4655,  34.6804,2,  34.6793,2,    138.7,2,   -999.0,5,  -999.00,9,  -999.00,9,  -999.00,9,   3499,-999.000,  -999.0,  1.2003
     33KI121_1,  PRS2,     2, 15,      6,      7,2,20001221,0901, 22.9037,-158.0335, 4665,   3500.6,   1.4659,  34.6802,2,  34.6836,2,    138.7,2,   -999.0,5,  -999.00,9,  -999.00,9,  -999.00,9,   3499,-999.000,  -999.0,  1.2006
     33KI121_1,  PRS2,     2, 15,      3,     35,2,20001221,0901, 22.9037,-158.0335, 4665,   3501.0,   1.4667,  34.6800,2,  34.6794,2,    138.5,2,   -999.0,5,  -999.00,9,  -999.00,9,  -999.00,9,   3500,-999.000,  -999.0,  1.2013
     33KI121_1,  PRS2,     2, 15,      5,     38,2,20001221,0901, 22.9037,-158.0335, 4665,   3501.5,   1.4662,  34.6799,2,  34.6794,2,    138.6,2,   -999.0,5,  -999.00,9,  -999.00,9,  -999.00,9,   3501,-999.000,  -999.0,  1.2008
     33KI121_1,  PRS2,     2, 15,      4,     36,2,20001221,0901, 22.9037,-158.0335, 4665,   3502.4,   1.4665,  34.6800,2,  34.6793,2,    138.6,2,   -999.0,5,  -999.00,9,  -999.00,9,  -999.00,9,   3499,-999.000,  -999.0,  1.2010
     33KI121_1,  PRS2,     2, 15,      2,     34,2,20001221,0901, 22.9037,-158.0335, 4665,   3996.8,   1.4542,  34.6854,2,  34.6863,2,    149.7,2,    148.5,2,  -999.00,9,  -999.00,9,  -999.00,9,   3998,-999.000,  -999.0,  1.1370
     33KI121_1,  PRS2,     2, 15,      1,     33,2,20001221,0901, 22.9037,-158.0335, 4665,   4735.6,   1.4933,  34.6910,2,  34.6903,2,    155.6,2,    155.6,3,  -999.00,9,  -999.00,9,  -999.00,9,   4733,-999.000,  -999.0,  1.0910
     33KI121_1,  PRS2,     6,  1,      7,     28,2,20001222,0401, 21.8467,-158.3630, 2445,      4.5,  25.1608,  35.0761,2,  35.0837,2,    207.9,1,   -999.0,9,  -999.00,9,  -999.00,9,  -999.00,9,      5,-999.000,  -999.0, 25.1598
     33KI121_1,  PRS2,     6,  1,      6,      7,2,20001222,0401, 21.8467,-158.3630, 2445,    101.8,  22.5529,  35.2995,2,  35.2989,2,    207.6,1,   -999.0,9,  -999.00,9,  -999.00,9,  -999.00,9,    102,-999.000,  -999.0, 22.5324
     33KI121_1,  PRS2,     6,  1,      5,     38,2,20001222,0401, 21.8467,-158.3630, 2445,    414.0,   9.1563,  34.1243,2,  34.1264,2,    155.1,1,   -999.0,9,  -999.00,9,  -999.00,9,  -999.00,9,    415,-999.000,  -999.0,  9.1108
     33KI121_1,  PRS2,     6,  1,      4,     36,2,20001222,0401, 21.8467,-158.3630, 2445,    730.0,   5.2694,  34.3699,2,  34.3684,2,     32.3,1,   -999.0,9,  -999.00,9,  -999.00,9,  -999.00,9,    730,-999.000,  -999.0,  5.2087
     33KI121_1,  PRS2,     6,  1,      3,     35,2,20001222,0401, 21.8467,-158.3630, 2445,    998.0,   4.3422,  34.4832,2,  34.4822,2,     41.3,1,   -999.0,9,  -999.00,9,  -999.00,9,  -999.00,9,    999,-999.000,  -999.0,  4.2641
     33KI121_1,  PRS2,     6,  1,      2,     34,2,20001222,0401, 21.8467,-158.3630, 2445,   1999.6,   2.1158,  34.6200,2,  34.6195,2,     90.6,1,   -999.0,9,  -999.00,9,  -999.00,9,  -999.00,9,   2000,-999.000,  -999.0,  1.9777
     33KI121_1,  PRS2,     6,  1,      1,     33,2,20001222,0401, 21.8467,-158.3630, 2445,   2474.1,   1.7910,  34.6479,2,  34.6478,2,    109.4,1,   -999.0,9,  -999.00,9,  -999.00,9,  -999.00,9,   2477,-999.000,  -999.0,  1.6169
     33KI121_1,  PRS2,     8,  1,     13,     13,2,20001221,2343, 22.3292,-158.1937, 4840,      4.8,  24.7576,  34.8827,2,  34.8821,2,    208.6,2,    208.5,2,     1.51,2,     0.00,2,     0.15,3,      5,-999.000,  -999.0, 24.7566
     33KI121_1,  PRS2,     8,  1,     12,     12,2,20001221,2343, 22.3292,-158.1937, 4840,     24.3,  24.7533,  34.8924,2,  34.8918,2,    208.5,2,    208.9,2,     1.61,2,    -0.01,2,     0.14,3,     25,-999.000,  -999.0, 24.7481
     33KI121_1,  PRS2,     8,  1,     11,     11,2,20001221,2343, 22.3292,-158.1937, 4840,     44.1,  24.7511,  34.8941,2,  34.8936,2,    208.8,2,    208.7,2,     2.51,3,    -0.01,2,     0.14,3,     43,-999.000,  -999.0, 24.7416
     33KI121_1,  PRS2,     8,  1,     10,     32,2,20001221,2343, 22.3292,-158.1937, 4840,     75.9,  24.4803,  34.9699,2,  34.9715,2,    210.4,2,    210.0,2,     1.72,2,     0.00,2,     0.12,2,     76,-999.000,  -999.0, 24.4641
     33KI121_1,  PRS2,     8,  1,      9,      3,2,20001221,2343, 22.3292,-158.1937, 4840,     97.8,  24.0744,  35.0631,2,  35.0484,3,    211.2,3,    212.3,2,     2.44,3,     0.00,2,     0.12,2,     97,-999.000,  -999.0, 24.0538
     33KI121_1,  PRS2,     8,  1,      8,     29,2,20001221,2343, 22.3292,-158.1937, 4840,    123.4,  22.4501,  35.3019,2,  35.3064,2,    214.6,2,    213.7,2,     1.87,2,     0.06,2,     0.09,2,    123,-999.000,  -999.0, 22.4253
     33KI121_1,  PRS2,     8,  1,      7,     28,2,20001221,2343, 22.3292,-158.1937, 4840,    149.4,  21.8380,  35.3366,2,  35.3457,2,    206.5,2,    206.1,2,     1.89,2,     0.35,2,     0.10,2,    149,-999.000,  -999.0, 21.8085
     33KI121_1,  PRS2,     8,  1,      6,      7,2,20001221,2343, 22.3292,-158.1937, 4840,    175.1,  20.6776,  35.2085,2,  35.2128,2,    200.1,2,    200.4,2,     2.12,2,     0.88,2,     0.18,2,    176,-999.000,  -999.0, 20.6444
     33KI121_1,  PRS2,     8,  1,      5,     38,2,20001221,2343, 22.3292,-158.1937, 4840,    200.2,  19.0394,  34.9861,2,  34.9904,2,    193.3,2,    193.6,2,     2.84,2,     2.60,2,     0.28,2,    200,-999.000,  -999.0, 19.0037
     33KI121_1,  PRS2,     8,  1,      4,     36,2,20001221,2343, 22.3292,-158.1937, 4840,    349.9,  10.2892,  34.1443,2,  34.1444,2,    181.7,2,    181.7,2,    19.19,2,    16.83,2,     1.21,2,    350,-999.000,  -999.0, 10.2480
     33KI121_1,  PRS2,     8,  1,      3,     35,2,20001221,2343, 22.3292,-158.1937, 4840,    499.5,   6.9446,  34.1318,2,  34.1321,2,     86.7,2,     86.9,2,    53.60,2,    31.88,2,     2.31,2,    501,-999.000,  -999.0,  6.8977
     33KI121_1,  PRS2,     8,  1,      2,     34,2,20001221,2343, 22.3292,-158.1937, 4840,    751.8,   4.9946,  34.3517,2,  34.3507,2,     34.2,2,     34.1,2,    90.47,2,    40.18,2,     2.92,2,    751,-999.000,  -999.0,  4.9335
     33KI121_1,  PRS2,     8,  1,      1,     33,2,20001221,2343, 22.3292,-158.1937, 4840,   1025.0,   3.9476,  34.4983,2,  34.4977,2,     45.5,2,     50.0,3,   110.53,2,    41.22,2,     2.96,2,   1027,-999.000,  -999.0,  3.8703