BOTTLE,20020809WHPSIObren
#code : jjward hyd_to_exchange.pl 
#original files copied from HTML directory: 20020809
#original HYD file: /whpo/11/HOTS/BOTTLE/hot121/hot121.sea   Fri Aug  9 09:51:28 2002
#original SUM file: /whpo/11/HOTS/BOTTLE/hot121/hot121.sum   Fri Aug  9 13:30:32 2002
EXPOCODE,SECT_ID,STNNBR,CASTNO,SAMPNO,BTLNBR,BTLNBR_FLAG_W,DATE,TIME,LATITUDE,LONGITUDE,DEPTH,CTDPRS,CTDTMP,CTDSAL,CTDSAL_FLAG_W,SALNTY,SALNTY_FLAG_W,CTDOXY,CTDOXY_FLAG_W,OXYGEN,OXYGEN_FLAG_W,SILCAT,SILCAT_FLAG_W,NO2+NO3,NO2+NO3_FLAG_W,PHSPHT,PHSPHT_FLAG_W,CTDRAW,REVTMP,REVPRS,THETA
,,,,,,,,,,,,DBAR,ITS-90,PSS-78,,PSS-78,,UMOL/KG,,UMOL/KG,,UMOL/KG,,UMOL/KG,,UMOL/KG,,,DEG C,DBAR,ITS-90
     33KI121_1,  PRS2,     1,  1,     15,     23,2,20001218,2325, 21.3503,-158.2733, 1666,      4.4,  25.7810,  35.0177,2,  35.0165,2,    206.4,2,    206.6,2,     1.72,2,     0.01,2,     0.10,2,      5,-999.000,  -999.0, 25.7800
     33KI121_1,  PRS2,     1,  1,     16,     16,2,20001218,2325, 21.3503,-158.2733, 1666,      4.5,  25.8004,  35.0186,2,  35.0207,2,    206.4,2,    206.8,2,  -999.00,5,  -999.00,5,  -999.00,5,      5,-999.000,  -999.0, 25.7994
     33KI121_1,  PRS2,     1,  1,     14,     14,2,20001218,2325, 21.3503,-158.2733, 1666,     24.9,  25.5506,  35.0276,2,  35.0252,2,    206.8,2,    206.7,2,     1.75,2,     0.00,2,     0.09,2,     25,-999.000,  -999.0, 25.5452
     33KI121_1,  PRS2,     1,  1,     13,     13,2,20001218,2325, 21.3503,-158.2733, 1666,     44.7,  25.2448,  35.0986,2,  35.0965,2,    207.8,2,    208.0,2,     1.79,2,     0.00,2,     0.09,2,     46,-999.000,  -999.0, 25.2350
     33KI121_1,  PRS2,     1,  1,     12,     12,2,20001218,2325, 21.3503,-158.2733, 1666,     75.1,  24.8665,  35.1047,2,  35.1081,2,    209.6,2,    209.3,2,     1.83,2,     0.01,2,     0.09,2,     76,-999.000,  -999.0, 24.8503
     33KI121_1,  PRS2,     1,  1,     11,     11,2,20001218,2325, 21.3503,-158.2733, 1666,    100.2,  23.2347,  35.1627,2,  35.1626,2,    216.0,2,    217.0,2,     2.04,2,     0.00,2,     0.11,2,    101,-999.000,  -999.0, 23.2141
     33KI121_1,  PRS2,     1,  1,     10,     32,2,20001218,2325, 21.3503,-158.2733, 1666,    124.6,  22.4370,  35.2020,2,  35.1991,2,    217.4,2,    216.7,2,     2.03,2,     0.02,2,     0.11,2,    125,-999.000,  -999.0, 22.4120
     33KI121_1,  PRS2,     1,  1,      9,      3,2,20001218,2325, 21.3503,-158.2733, 1666,    149.5,  21.0893,  35.2375,2,  35.2367,2,    202.3,2,    203.2,2,     2.32,2,     0.75,2,     0.16,2,    151,-999.000,  -999.0, 21.0606
     33KI121_1,  PRS2,     1,  1,      8,     29,2,20001218,2325, 21.3503,-158.2733, 1666,    174.2,  19.8788,  35.1360,2,  35.1360,2,    198.4,2,    197.0,2,     3.01,2,     1.83,2,     0.21,2,    174,-999.000,  -999.0, 19.8468
     33KI121_1,  PRS2,     1,  1,      7,     28,2,20001218,2325, 21.3503,-158.2733, 1666,    198.9,  18.4319,  34.9675,2,  34.9866,2,    196.1,2,    195.5,2,     3.87,2,     3.08,2,     0.29,2,    199,-999.000,  -999.0, 18.3972
     33KI121_1,  PRS2,     1,  1,      6,      7,2,20001218,2325, 21.3503,-158.2733, 1666,    249.3,  14.6622,  34.5054,2,  34.5064,2,    191.5,2,    191.2,2,     8.40,2,     8.07,2,     0.63,2,    250,-999.000,  -999.0, 14.6251
     33KI121_1,  PRS2,     1,  1,      5,     38,2,20001218,2325, 21.3503,-158.2733, 1666,    349.0,  10.4938,  34.1796,2,  34.1817,2,    175.2,2,    176.2,2,    20.33,2,    16.83,2,     1.20,2,    350,-999.000,  -999.0, 10.4522
     33KI121_1,  PRS2,     1,  1,      4,     36,2,20001218,2325, 21.3503,-158.2733, 1666,    499.3,   7.1067,  34.1452,2,  34.1448,2,     85.2,2,     84.6,2,    52.58,2,    31.92,2,     2.35,2,    501,-999.000,  -999.0,  7.0592
     33KI121_1,  PRS2,     1,  1,      3,     35,2,20001218,2325, 21.3503,-158.2733, 1666,    599.5,   5.9335,  34.2456,2,  34.2436,2,     44.5,2,     44.9,2,    72.27,2,    37.38,2,     2.70,2,    600,-999.000,  -999.0,  5.8813
     33KI121_1,  PRS2,     1,  1,      2,     34,2,20001218,2325, 21.3503,-158.2733, 1666,    750.3,   5.1108,  34.4031,2,  34.4025,2,     33.3,2,     32.6,2,    88.59,2,    40.40,2,     2.94,2,    751,-999.000,  -999.0,  5.0492
     33KI121_1,  PRS2,     1,  1,      1,     33,2,20001218,2325, 21.3503,-158.2733, 1666,   1020.1,   4.2629,  34.4991,2,  34.4977,2,     42.3,2,     42.9,2,   104.17,2,    41.27,2,     2.98,2,   1021,-999.000,  -999.0,  4.1836
     33KI121_1,  PRS2,     2,  1,      7,     28,2,20001219,1114, 22.7493,-158.0020, 4723,      4.5,  24.7529,  34.9416,2,  34.9384,2,    209.1,1,   -999.0,9,  -999.00,9,  -999.00,9,  -999.00,9,      4,-999.000,  -999.0, 24.7519
     33KI121_1,  PRS2,     2,  1,      6,      7,2,20001219,1114, 22.7493,-158.0020, 4723,      4.5,  24.7533,  34.9418,2,  34.9394,2,    209.2,1,   -999.0,9,  -999.00,9,  -999.00,9,  -999.00,9,      5,-999.000,  -999.0, 24.7524
     33KI121_1,  PRS2,     2,  1,      4,     36,2,20001219,1114, 22.7493,-158.0020, 4723,      4.5,  24.7502,  34.9415,2,  34.9394,2,    209.1,1,   -999.0,9,  -999.00,9,  -999.00,9,  -999.00,9,      5,-999.000,  -999.0, 24.7492
     33KI121_1,  PRS2,     2,  1,      3,     35,2,20001219,1114, 22.7493,-158.0020, 4723,      4.6,  24.7495,  34.9417,2,  34.9396,2,    209.1,1,   -999.0,9,  -999.00,9,  -999.00,9,  -999.00,9,      5,-999.000,  -999.0, 24.7485
     33KI121_1,  PRS2,     2,  1,      2,     34,2,20001219,1114, 22.7493,-158.0020, 4723,      4.6,  24.7488,  34.9417,2,  34.9414,2,    209.1,1,   -999.0,9,  -999.00,9,  -999.00,9,  -999.00,9,      5,-999.000,  -999.0, 24.7478
     33KI121_1,  PRS2,     2,  1,      5,     38,2,20001219,1114, 22.7493,-158.0020, 4723,      4.7,  24.7511,  34.9416,2,  34.9388,2,    209.2,1,   -999.0,9,  -999.00,9,  -999.00,9,  -999.00,9,      5,-999.000,  -999.0, 24.7501
     33KI121_1,  PRS2,     2,  1,      1,     33,2,20001219,1114, 22.7493,-158.0020, 4723,    100.7,  23.9887,  35.2586,2,  35.2521,2,    214.7,1,   -999.0,9,  -999.00,9,  -999.00,9,  -999.00,9,    101,-999.000,  -999.0, 23.9675
     33KI121_1,  PRS2,     2,  2,     24,     31,2,20001219,1255, 22.7512,-158.0010, 4723,      4.7,  24.7368,  34.9331,2,  34.9353,2,    209.0,2,    208.3,2,     2.14,2,     0.00,2,     0.08,2,      5,-999.000,  -999.0, 24.7358
     33KI121_1,  PRS2,     2,  2,     23,     30,2,20001219,1255, 22.7512,-158.0010, 4723,    419.9,   8.5213,  34.0859,2,  34.0858,2,    149.4,2,    146.7,2,    32.66,2,    23.34,2,     1.62,2,    420,-999.000,  -999.0,  8.4772
     33KI121_1,  PRS2,     2,  2,     22,     22,2,20001219,1255, 22.7512,-158.0010, 4723,    859.2,   4.4620,  34.3847,2,  34.3831,2,     32.5,2,     32.0,2,   100.29,2,    40.92,2,     2.91,2,    858,-999.000,  -999.0,  4.3950
     33KI121_1,  PRS2,     2,  2,     21,     21,2,20001219,1255, 22.7512,-158.0010, 4723,   1000.2,   4.0401,  34.4742,2,  34.4736,2,     40.8,2,     40.7,2,   108.97,2,    41.24,2,     2.95,2,   1001,-999.000,  -999.0,  3.9642
     33KI121_1,  PRS2,     2,  2,     20,     20,2,20001219,1255, 22.7512,-158.0010, 4723,   1200.3,   3.5919,  34.5267,2,  34.5260,2,     49.9,2,     50.8,2,   118.03,2,    41.06,2,     2.94,2,   1200,-999.000,  -999.0,  3.5030
     33KI121_1,  PRS2,     2,  2,     19,     19,2,20001219,1255, 22.7512,-158.0010, 4723,   1400.5,   3.1499,  34.5507,2,  34.5500,2,     58.0,2,     58.8,2,   128.56,2,    40.90,2,     2.92,2,   1400,-999.000,  -999.0,  3.0487
     33KI121_1,  PRS2,     2,  2,     18,     18,2,20001219,1255, 22.7512,-158.0010, 4723,   1600.4,   2.7228,  34.5793,2,  34.5771,2,     68.5,2,     68.7,2,   136.70,2,    40.41,2,     2.86,2,   1600,-999.000,  -999.0,  2.6099
     33KI121_1,  PRS2,     2,  2,     17,     17,2,20001219,1255, 22.7512,-158.0010, 4723,   1799.4,   2.3972,  34.6012,2,  34.6003,2,     77.6,2,     78.5,2,   144.45,2,    40.00,2,     2.83,2,   1800,-999.000,  -999.0,  2.2719
     33KI121_1,  PRS2,     2,  2,     16,     16,2,20001219,1255, 22.7512,-158.0010, 4723,   2000.3,   2.1454,  34.6190,2,  34.6187,2,     86.3,2,     88.4,2,   150.81,2,    39.52,2,     2.80,2,   2000,-999.000,  -999.0,  2.0068
     33KI121_1,  PRS2,     2,  2,     15,     23,2,20001219,1255, 22.7512,-158.0010, 4723,   2199.6,   1.9657,  34.6302,2,  34.6293,2,     92.0,2,     93.2,2,   155.29,2,    39.11,2,     2.77,2,   2200,-999.000,  -999.0,  1.8128
     33KI121_1,  PRS2,     2,  2,     14,     14,2,20001219,1255, 22.7512,-158.0010, 4723,   2400.5,   1.8036,  34.6465,2,  34.6457,2,    103.7,2,    105.1,2,   157.26,2,    38.55,2,     2.71,2,   2402,-999.000,  -999.0,  1.6359
     33KI121_1,  PRS2,     2,  2,     13,     13,2,20001219,1255, 22.7512,-158.0010, 4723,   2599.9,   1.6974,  34.6555,2,  34.6557,2,    111.0,2,    112.6,2,   158.64,2,    38.05,2,     2.67,2,   2600,-999.000,  -999.0,  1.5138
     33KI121_1,  PRS2,     2,  2,     12,     12,3,20001219,1255, 22.7512,-158.0010, 4723,   2799.0,   1.6267,  34.6621,2,  34.6614,2,    116.1,2,    116.3,2,   159.25,2,    37.73,2,     2.64,2,   2800,-999.000,  -999.0,  1.4262
     33KI121_1,  PRS2,     2,  2,     11,     11,2,20001219,1255, 22.7512,-158.0010, 4723,   2999.3,   1.5588,  34.6697,2,  34.6692,2,    124.1,2,    125.0,2,   159.99,2,    37.29,2,     2.58,3,   3001,-999.000,  -999.0,  1.3408
     33KI121_1,  PRS2,     2,  2,     10,     32,2,20001219,1255, 22.7512,-158.0010, 4723,   3199.1,   1.5174,  34.6747,2,  34.6737,2,    130.5,2,    134.6,3,   158.61,2,    36.90,2,     2.57,2,   3199,-999.000,  -999.0,  1.2810
     33KI121_1,  PRS2,     2,  2,      9,      3,2,20001219,1255, 22.7512,-158.0010, 4723,   3400.5,   1.4879,  34.6787,2,  34.6785,2,    135.6,2,    137.9,3,   157.39,2,    36.61,2,     2.56,2,   3400,-999.000,  -999.0,  1.2321
     33KI121_1,  PRS2,     2,  2,      8,     29,2,20001219,1255, 22.7512,-158.0010, 4723,   3600.6,   1.4636,  34.6820,2,  34.6818,2,    141.6,2,    141.5,2,   155.25,2,    36.26,2,     2.51,2,   3602,-999.000,  -999.0,  1.1880
     33KI121_1,  PRS2,     2,  2,      7,     28,2,20001219,1255, 22.7512,-158.0010, 4723,   3799.4,   1.4519,  34.6853,2,  34.6848,2,    146.6,2,    146.1,2,   152.76,2,    35.97,2,     2.50,2,   3800,-999.000,  -999.0,  1.1558
     33KI121_1,  PRS2,     2,  2,      6,      7,3,20001219,1255, 22.7512,-158.0010, 4723,   4000.1,   1.4565,  34.6866,2,  34.6844,2,    149.2,2,    146.8,2,   151.28,2,    35.94,2,     2.49,2,   4000,-999.000,  -999.0,  1.1388
     33KI121_1,  PRS2,     2,  2,      5,     38,2,20001219,1255, 22.7512,-158.0010, 4723,   4199.8,   1.4635,  34.6879,2,  34.6875,2,    151.4,2,    152.1,2,   149.39,2,    35.72,2,     2.46,2,   4200,-999.000,  -999.0,  1.1236
     33KI121_1,  PRS2,     2,  2,      4,     36,2,20001219,1255, 22.7512,-158.0010, 4723,   4400.0,   1.4759,  34.6887,2,  34.6889,2,    153.0,2,    151.8,2,   151.25,2,    35.62,2,     2.45,2,   4400,-999.000,  -999.0,  1.1131
     33KI121_1,  PRS2,     2,  2,      3,     35,2,20001219,1255, 22.7512,-158.0010, 4723,   4499.1,   1.4797,  34.6894,2,  34.6891,2,    154.4,2,    155.3,2,   148.28,2,    35.59,2,     2.46,2,   4499,-999.000,  -999.0,  1.1055
     33KI121_1,  PRS2,     2,  2,      2,     34,2,20001219,1255, 22.7512,-158.0010, 4723,   4599.2,   1.4793,  34.6903,2,  34.6908,2,    156.8,2,    155.8,2,   148.32,2,    35.38,2,     2.45,2,   4599,-999.000,  -999.0,  1.0935
     33KI121_1,  PRS2,     2,  2,      1,     33,2,20001219,1255, 22.7512,-158.0010, 4723,   4802.9,   1.4967,  34.6908,2,  34.6936,2,    158.2,2,    157.1,2,   145.57,2,    35.24,2,     2.44,2,   4805,-999.000,  -999.0,  1.0863
     33KI121_1,  PRS2,     2,  3,     24,     31,2,20001219,1809, 22.7432,-157.9978, 4721,      3.9,  24.7208,  34.9277,2,  34.9284,2,    207.6,2,    208.7,2,     3.83,4,     0.00,2,     0.13,2,      5,-999.000,  -999.0, 24.7199
     33KI121_1,  PRS2,     2,  3,     23,     30,2,20001219,1809, 22.7432,-157.9978, 4721,     49.6,  24.5553,  34.9471,2,  34.9481,2,    209.9,2,    209.6,2,     1.55,2,    -0.01,2,     0.11,2,     51,-999.000,  -999.0, 24.5447
     33KI121_1,  PRS2,     2,  3,     22,     22,3,20001219,1809, 22.7432,-157.9978, 4721,    104.1,  24.5996,  35.3117,2,  35.3192,2,    211.5,2,    209.4,2,     1.47,2,    -0.01,2,     0.06,2,    106,-999.000,  -999.0, 24.5773
     33KI121_1,  PRS2,     2,  3,     21,     21,2,20001219,1809, 22.7432,-157.9978, 4721,    126.7,  22.5731,  35.3045,2,  35.3047,2,    216.1,2,    216.4,2,     2.10,2,     0.04,2,     0.08,2,    127,-999.000,  -999.0, 22.5476
     33KI121_1,  PRS2,     2,  3,     20,     20,3,20001219,1809, 22.7432,-157.9978, 4721,    179.9,  20.2348,  35.1436,2,  35.1482,2,    198.9,2,    198.9,2,     2.72,2,     1.06,2,     0.20,2,    180,-999.000,  -999.0, 20.2012
     33KI121_1,  PRS2,     2,  3,     19,     19,2,20001219,1809, 22.7432,-157.9978, 4721,    224.4,  18.2679,  34.9103,2,  34.9197,2,    193.3,2,    193.2,2,     3.49,2,     3.31,2,     0.31,2,    226,-999.000,  -999.0, 18.2290
     33KI121_1,  PRS2,     2,  3,     18,     18,2,20001219,1809, 22.7432,-157.9978, 4721,    263.4,  16.2052,  34.6241,2,  34.6398,2,    187.4,2,    189.1,2,     5.34,2,     5.56,2,     0.47,2,    264,-999.000,  -999.0, 16.1632
     33KI121_1,  PRS2,     2,  3,     17,     17,2,20001219,1809, 22.7432,-157.9978, 4721,    293.6,  13.7093,  34.3193,2,  34.3213,2,    181.9,2,    182.1,2,     8.84,2,     9.44,2,     0.75,2,    296,-999.000,  -999.0, 13.6676
     33KI121_1,  PRS2,     2,  3,     16,     16,2,20001219,1809, 22.7432,-157.9978, 4721,    328.5,  11.8195,  34.1735,2,  34.1764,2,    180.6,2,    179.6,2,    13.16,2,    13.29,2,     1.00,2,    330,-999.000,  -999.0, 11.7772
     33KI121_1,  PRS2,     2,  3,     15,     23,2,20001219,1809, 22.7432,-157.9978, 4721,    364.3,  10.3478,  34.1289,2,  34.1291,2,    171.4,2,    170.7,2,    19.36,2,    17.54,2,     1.28,2,    365,-999.000,  -999.0, 10.3047
     33KI121_1,  PRS2,     2,  3,     14,     14,2,20001219,1809, 22.7432,-157.9978, 4721,    416.8,   8.9089,  34.1053,2,  34.1076,2,    145.2,2,    144.8,2,    29.81,2,    22.81,2,     1.66,2,    418,-999.000,  -999.0,  8.8638
     33KI121_1,  PRS2,     2,  3,     13,     13,2,20001219,1809, 22.7432,-157.9978, 4721,    479.3,   7.5026,  34.0843,2,  34.0848,2,    113.6,2,    113.5,2,    43.49,2,    28.25,2,     2.08,2,    480,-999.000,  -999.0,  7.4557
     33KI121_1,  PRS2,     2,  3,     12,     12,2,20001219,1809, 22.7432,-157.9978, 4721,    519.4,   6.9406,  34.1151,2,  34.1130,2,     88.3,2,     86.0,2,    52.31,2,    31.74,2,     2.34,2,    520,-999.000,  -999.0,  6.8917
     33KI121_1,  PRS2,     2,  3,     11,     11,2,20001219,1809, 22.7432,-157.9978, 4721,    558.6,   6.5251,  34.1546,2,  34.1548,2,     65.6,2,     67.0,2,    60.26,2,    34.41,2,     2.54,2,    561,-999.000,  -999.0,  6.4742
     33KI121_1,  PRS2,     2,  3,     10,     32,2,20001219,1809, 22.7432,-157.9978, 4721,    614.8,   5.9299,  34.1928,2,  34.1926,2,     55.0,2,     53.4,2,    70.47,2,    36.70,2,     2.70,2,    616,-999.000,  -999.0,  5.8764
     33KI121_1,  PRS2,     2,  3,      9,      3,2,20001219,1809, 22.7432,-157.9978, 4721,    649.2,   5.7436,  34.2351,2,  34.2334,2,     44.1,2,     42.6,2,    74.82,2,    37.94,2,     2.76,2,    650,-999.000,  -999.0,  5.6877
     33KI121_1,  PRS2,     2,  3,      8,     29,2,20001219,1809, 22.7432,-157.9978, 4721,    688.5,   5.3075,  34.2499,2,  34.2489,2,     38.2,2,     37.4,2,    82.84,2,    39.34,2,     2.89,2,    690,-999.000,  -999.0,  5.2503
     33KI121_1,  PRS2,     2,  3,      7,     28,2,20001219,1809, 22.7432,-157.9978, 4721,    723.4,   5.1523,  34.2832,2,  34.2819,2,     36.2,2,     35.2,2,    86.19,2,    39.90,2,     2.90,2,    725,-999.000,  -999.0,  5.0929
     33KI121_1,  PRS2,     2,  3,      6,      7,2,20001219,1809, 22.7432,-157.9978, 4721,    769.8,   5.0872,  34.3583,2,  34.3501,3,     32.9,3,     31.7,2,    89.29,2,    40.39,2,     2.95,2,    769,-999.000,  -999.0,  5.0240
     33KI121_1,  PRS2,     2,  3,      5,     38,2,20001219,1809, 22.7432,-157.9978, 4721,    809.6,   4.7595,  34.3558,2,  34.3576,2,     32.6,2,     32.5,2,    94.72,2,    40.83,2,     2.95,2,    810,-999.000,  -999.0,  4.6948
     33KI121_1,  PRS2,     2,  3,      4,     36,2,20001219,1809, 22.7432,-157.9978, 4721,    861.1,   4.4395,  34.3846,2,  34.3833,2,     32.5,2,     32.3,2,   101.39,3,    41.31,2,     3.00,2,    862,-999.000,  -999.0,  4.3725
     33KI121_1,  PRS2,     2,  3,      3,     35,2,20001219,1809, 22.7432,-157.9978, 4721,    899.4,   4.2451,  34.4210,2,  34.4204,2,     35.9,2,     41.0,3,   105.68,2,    41.46,2,     2.99,2,    900,-999.000,  -999.0,  4.1761
     33KI121_1,  PRS2,     2,  3,      2,     34,2,20001219,1809, 22.7432,-157.9978, 4721,    938.8,   4.1912,  34.4454,2,  34.4445,2,     37.7,2,     37.5,2,   106.65,2,    41.40,2,     3.01,2,    939,-999.000,  -999.0,  4.1193
     33KI121_1,  PRS2,     2,  3,      1,     33,2,20001219,1809, 22.7432,-157.9978, 4721,    999.0,   4.0566,  34.4724,2,  34.4724,2,     40.6,2,     40.7,2,   109.38,2,    41.31,2,     3.00,2,   1000,-999.000,  -999.0,  3.9806
     33KI121_1,  PRS2,     2,  4,     13,     13,2,20001219,2057, 22.7482,-157.9840, 4716,      4.7,  24.7439,  34.9191,2,  34.9205,2,    207.8,1,   -999.0,9,  -999.00,9,  -999.00,9,  -999.00,9,      5,-999.000,  -999.0, 24.7429
     33KI121_1,  PRS2,     2,  4,     12,     12,2,20001219,2057, 22.7482,-157.9840, 4716,      4.7,  24.7477,  34.9192,2,  34.9179,2,    207.9,1,   -999.0,9,  -999.00,9,  -999.00,9,  -999.00,9,      5,-999.000,  -999.0, 24.7467
     33KI121_1,  PRS2,     2,  4,     11,     11,2,20001219,2057, 22.7482,-157.9840, 4716,     24.2,  24.7005,  34.9188,2,  34.9172,2,    209.3,1,   -999.0,9,  -999.00,9,  -999.00,9,  -999.00,9,     25,-999.000,  -999.0, 24.6954
     33KI121_1,  PRS2,     2,  4,     10,     32,2,20001219,2057, 22.7482,-157.9840, 4716,     44.8,  24.6707,  34.9393,2,  34.9437,2,    209.8,1,   -999.0,9,  -999.00,9,  -999.00,9,  -999.00,9,     45,-999.000,  -999.0, 24.6611
     33KI121_1,  PRS2,     2,  4,      9,      3,2,20001219,2057, 22.7482,-157.9840, 4716,     74.8,  24.6067,  35.0158,2,  35.0122,2,    210.7,1,   -999.0,9,  -999.00,9,  -999.00,9,  -999.00,9,     75,-999.000,  -999.0, 24.5906
     33KI121_1,  PRS2,     2,  4,      8,     29,2,20001219,2057, 22.7482,-157.9840, 4716,     74.9,  24.6070,  35.0157,2,  35.0128,2,    210.5,1,   -999.0,9,  -999.00,9,  -999.00,9,  -999.00,9,     75,-999.000,  -999.0, 24.5910
     33KI121_1,  PRS2,     2,  4,      7,     28,2,20001219,2057, 22.7482,-157.9840, 4716,     98.3,  24.8435,  35.1490,2,-999.0000,5,    209.9,1,   -999.0,9,  -999.00,9,  -999.00,9,  -999.00,9,    100,-999.000,  -999.0, 24.8223
     33KI121_1,  PRS2,     2,  4,      6,      7,2,20001219,2057, 22.7482,-157.9840, 4716,    123.9,  23.4175,  35.2555,2,-999.0000,5,    217.1,1,   -999.0,9,  -999.00,9,  -999.00,9,  -999.00,9,    125,-999.000,  -999.0, 23.3918
     33KI121_1,  PRS2,     2,  4,      5,     38,2,20001219,2057, 22.7482,-157.9840, 4716,    149.5,  21.9549,  35.3130,2,  35.3133,2,    206.8,1,   -999.0,9,  -999.00,9,  -999.00,9,  -999.00,9,    151,-999.000,  -999.0, 21.9253
     33KI121_1,  PRS2,     2,  4,      3,     35,2,20001219,2057, 22.7482,-157.9840, 4716,    174.5,  20.7767,  35.1886,2,  35.1914,2,    202.6,1,   -999.0,9,  -999.00,9,  -999.00,9,  -999.00,9,    175,-999.000,  -999.0, 20.7435
     33KI121_1,  PRS2,     2,  4,      4,     36,3,20001219,2057, 22.7482,-157.9840, 4716,    174.6,  20.7737,  35.1887,2,  35.1924,2,    203.1,1,   -999.0,9,  -999.00,9,  -999.00,9,  -999.00,9,    175,-999.000,  -999.0, 20.7405
     33KI121_1,  PRS2,     2,  4,      2,     34,2,20001219,2057, 22.7482,-157.9840, 4716,    448.9,   7.9699,  34.0791,2,  34.0821,2,    130.5,1,   -999.0,9,  -999.00,9,  -999.00,9,  -999.00,9,    451,-999.000,  -999.0,  7.9245
     33KI121_1,  PRS2,     2,  4,      1,     33,2,20001219,2057, 22.7482,-157.9840, 4716,   1020.6,   4.0194,  34.4778,2,  34.4758,2,     41.9,1,   -999.0,9,  -999.00,9,  -999.00,9,  -999.00,9,   1020,-999.000,  -999.0,  3.9419