BOTTLE,20020809WHPSIObren
EXPOCODE,SECT_ID,STNNBR,CASTNO,SAMPNO,BTLNBR,BTLNBR_FLAG_W,DATE,TIME,LATITUDE,LONGITUDE,DEPTH,CTDPRS,CTDTMP,CTDSAL,CTDSAL_FLAG_W,SALNTY,SALNTY_FLAG_W,CTDOXY,CTDOXY_FLAG_W,OXYGEN,OXYGEN_FLAG_W,SILCAT,SILCAT_FLAG_W,NO2+NO3,NO2+NO3_FLAG_W,PHSPHT,PHSPHT_FLAG_W,CTDRAW,REVTMP,REVPRS,THETA
,,,,,,,,,,,,DBAR,ITS-90,PSS-78,,PSS-78,,UMOL/KG,,UMOL/KG,,UMOL/KG,,UMOL/KG,,UMOL/KG,,,DEG C,DBAR,ITS-90
     33KI121_1,  PRS2,     2,  9,     20,     20,2,20001220,1208, 22.7482,-158.0033, 4722,      5.0,  24.6964,  34.9275,2,  34.9264,2,    206.9,1,   -999.0,9,  -999.00,9,  -999.00,9,  -999.00,9,      6,-999.000,  -999.0, 24.6954
     33KI121_1,  PRS2,     2,  9,     22,     22,2,20001220,1208, 22.7482,-158.0033, 4722,      5.2,  24.6958,  34.9272,2,  34.9270,2,    207.0,1,   -999.0,9,  -999.00,9,  -999.00,9,  -999.00,9,      6,-999.000,  -999.0, 24.6946
     33KI121_1,  PRS2,     2,  9,     21,     21,2,20001220,1208, 22.7482,-158.0033, 4722,      5.2,  24.6963,  34.9276,2,  34.9268,2,    206.9,1,   -999.0,9,  -999.00,9,  -999.00,9,  -999.00,9,      6,-999.000,  -999.0, 24.6952
     33KI121_1,  PRS2,     2,  9,     17,     17,2,20001220,1208, 22.7482,-158.0033, 4722,     24.3,  24.7010,  34.9267,2,  34.9248,2,    206.8,1,   -999.0,9,  -999.00,9,  -999.00,9,  -999.00,9,     25,-999.000,  -999.0, 24.6958
     33KI121_1,  PRS2,     2,  9,     19,     19,2,20001220,1208, 22.7482,-158.0033, 4722,     24.4,  24.7018,  34.9270,2,  34.9252,2,    206.9,1,   -999.0,9,  -999.00,9,  -999.00,9,  -999.00,9,     24,-999.000,  -999.0, 24.6966
     33KI121_1,  PRS2,     2,  9,     18,     18,4,20001220,1208, 22.7482,-158.0033, 4722,     24.4,  24.7012,  34.9267,2,-999.0000,5,    206.9,1,   -999.0,9,  -999.00,9,  -999.00,9,  -999.00,9,     24,-999.000,  -999.0, 24.6960
     33KI121_1,  PRS2,     2,  9,     16,     16,2,20001220,1208, 22.7482,-158.0033, 4722,     42.9,  24.7060,  34.9268,2,  34.9250,2,    206.8,1,   -999.0,9,  -999.00,9,  -999.00,9,  -999.00,9,     42,-999.000,  -999.0, 24.6968
     33KI121_1,  PRS2,     2,  9,     14,     14,2,20001220,1208, 22.7482,-158.0033, 4722,     43.1,  24.7059,  34.9267,2,  34.9252,2,    206.9,1,   -999.0,9,  -999.00,9,  -999.00,9,  -999.00,9,     44,-999.000,  -999.0, 24.6967
     33KI121_1,  PRS2,     2,  9,     15,     23,2,20001220,1208, 22.7482,-158.0033, 4722,     43.2,  24.7060,  34.9267,2,  34.9252,2,    206.8,1,   -999.0,9,  -999.00,9,  -999.00,9,  -999.00,9,     43,-999.000,  -999.0, 24.6967
     33KI121_1,  PRS2,     2,  9,     13,     13,2,20001220,1208, 22.7482,-158.0033, 4722,     73.4,  24.7196,  35.0218,2,  35.0026,3,    209.6,1,   -999.0,9,  -999.00,9,  -999.00,9,  -999.00,9,     73,-999.000,  -999.0, 24.7038
     33KI121_1,  PRS2,     2,  9,     12,     12,2,20001220,1208, 22.7482,-158.0033, 4722,     73.6,  24.7238,  35.0264,2,  35.0024,3,    209.5,1,   -999.0,9,  -999.00,9,  -999.00,9,  -999.00,9,     74,-999.000,  -999.0, 24.7080
     33KI121_1,  PRS2,     2,  9,     11,     11,2,20001220,1208, 22.7482,-158.0033, 4722,     73.7,  24.7316,  35.0307,2,  35.0035,3,    209.5,1,   -999.0,9,  -999.00,9,  -999.00,9,  -999.00,9,     74,-999.000,  -999.0, 24.7158
     33KI121_1,  PRS2,     2,  9,      8,     29,2,20001220,1208, 22.7482,-158.0033, 4722,    100.4,  24.9075,  35.2830,2,  35.2771,2,    207.7,1,   -999.0,9,  -999.00,9,  -999.00,9,  -999.00,9,    100,-999.000,  -999.0, 24.8858
     33KI121_1,  PRS2,     2,  9,      9,      3,2,20001220,1208, 22.7482,-158.0033, 4722,    101.0,  24.9087,  35.2872,2,  35.2897,2,    207.7,1,   -999.0,9,  -999.00,9,  -999.00,9,  -999.00,9,    101,-999.000,  -999.0, 24.8868
     33KI121_1,  PRS2,     2,  9,     10,     32,2,20001220,1208, 22.7482,-158.0033, 4722,    101.4,  24.9086,  35.2908,2,  35.2865,2,    207.7,1,   -999.0,9,  -999.00,9,  -999.00,9,  -999.00,9,    101,-999.000,  -999.0, 24.8867
     33KI121_1,  PRS2,     2,  9,      7,     28,2,20001220,1208, 22.7482,-158.0033, 4722,    121.0,  22.8185,  35.2172,2,  35.2192,2,    215.4,1,   -999.0,9,  -999.00,9,  -999.00,9,  -999.00,9,    122,-999.000,  -999.0, 22.7939
     33KI121_1,  PRS2,     2,  9,      6,      7,2,20001220,1208, 22.7482,-158.0033, 4722,    121.1,  22.7750,  35.2216,2,  35.2174,2,    215.1,1,   -999.0,9,  -999.00,9,  -999.00,9,  -999.00,9,    123,-999.000,  -999.0, 22.7505
     33KI121_1,  PRS2,     2,  9,      5,     38,2,20001220,1208, 22.7482,-158.0033, 4722,    122.2,  22.7493,  35.2260,2,  35.2229,2,    214.7,1,   -999.0,9,  -999.00,9,  -999.00,9,  -999.00,9,    122,-999.000,  -999.0, 22.7246
     33KI121_1,  PRS2,     2,  9,      4,     36,2,20001220,1208, 22.7482,-158.0033, 4722,    150.4,  21.4989,  35.2742,2,  35.2700,2,    206.5,1,   -999.0,9,  -999.00,9,  -999.00,9,  -999.00,9,    151,-999.000,  -999.0, 21.4696
     33KI121_1,  PRS2,     2,  9,      3,     35,2,20001220,1208, 22.7482,-158.0033, 4722,    174.5,  20.7647,  35.2022,2,  35.2040,2,    203.5,1,   -999.0,9,  -999.00,9,  -999.00,9,  -999.00,9,    175,-999.000,  -999.0, 20.7315
     33KI121_1,  PRS2,     2,  9,      2,     34,2,20001220,1208, 22.7482,-158.0033, 4722,    501.6,   7.2653,  34.0954,2,  34.0958,2,    100.6,1,   -999.0,9,  -999.00,9,  -999.00,9,  -999.00,9,    503,-999.000,  -999.0,  7.2170
     33KI121_1,  PRS2,     2,  9,      1,     33,2,20001220,1208, 22.7482,-158.0033, 4722,   1019.3,   4.0521,  34.4730,2,  34.4754,2,     40.9,1,   -999.0,9,  -999.00,9,  -999.00,9,  -999.00,9,   1020,-999.000,  -999.0,  3.9745
     33KI121_1,  PRS2,     2, 10,      8,     29,2,20001220,1454, 22.7452,-158.0022, 4721,     79.8,  24.8564,  35.1567,2,  35.1516,2,    209.6,1,   -999.0,9,  -999.00,9,  -999.00,9,  -999.00,9,     80,-999.000,  -999.0, 24.8392
     33KI121_1,  PRS2,     2, 10,      7,     28,2,20001220,1454, 22.7452,-158.0022, 4721,     84.4,  24.8676,  35.1721,2,  35.1614,2,    209.3,1,   -999.0,9,  -999.00,9,  -999.00,9,  -999.00,9,     85,-999.000,  -999.0, 24.8493
     33KI121_1,  PRS2,     2, 10,      6,      7,2,20001220,1454, 22.7452,-158.0022, 4721,     89.4,  24.8540,  35.2671,2,  35.2550,2,    208.0,1,   -999.0,9,  -999.00,9,  -999.00,9,  -999.00,9,     90,-999.000,  -999.0, 24.8347
     33KI121_1,  PRS2,     2, 10,      5,     38,2,20001220,1454, 22.7452,-158.0022, 4721,     94.8,  24.6935,  35.2829,2,  35.2852,2,    208.9,1,   -999.0,9,  -999.00,9,  -999.00,9,  -999.00,9,     96,-999.000,  -999.0, 24.6731
     33KI121_1,  PRS2,     2, 10,      4,     36,2,20001220,1454, 22.7452,-158.0022, 4721,    100.1,  24.3530,  35.2662,2,  35.2751,2,    209.9,1,   -999.0,9,  -999.00,9,  -999.00,9,  -999.00,9,    101,-999.000,  -999.0, 24.3316
     33KI121_1,  PRS2,     2, 10,      3,     35,2,20001220,1454, 22.7452,-158.0022, 4721,    109.9,  23.5525,  35.2442,2,  35.2499,2,    216.7,1,   -999.0,9,  -999.00,9,  -999.00,9,  -999.00,9,    111,-999.000,  -999.0, 23.5296
     33KI121_1,  PRS2,     2, 10,      2,     34,2,20001220,1454, 22.7452,-158.0022, 4721,    800.0,   4.8516,  34.3233,2,  34.3219,2,     32.7,1,   -999.0,9,  -999.00,9,  -999.00,9,  -999.00,9,    800,-999.000,  -999.0,  4.7873
     33KI121_1,  PRS2,     2, 10,      1,     33,2,20001220,1454, 22.7452,-158.0022, 4721,   1018.8,   4.1389,  34.4626,2,  34.4640,2,     39.5,1,   -999.0,9,  -999.00,9,  -999.00,9,  -999.00,9,   1019,-999.000,  -999.0,  4.0607
     33KI121_1,  PRS2,     2, 11,     22,     22,2,20001220,1810, 22.7932,-157.9827, 4696,      3.6,  24.7127,  34.9435,2,  34.9431,2,    209.3,1,   -999.0,9,  -999.00,9,  -999.00,9,  -999.00,9,      4,-999.000,  -999.0, 24.7119
     33KI121_1,  PRS2,     2, 11,     21,     21,2,20001220,1810, 22.7932,-157.9827, 4696,      3.6,  24.7127,  34.9436,2,  34.9437,2,    209.3,1,   -999.0,9,  -999.00,9,  -999.00,9,  -999.00,9,      5,-999.000,  -999.0, 24.7119
     33KI121_1,  PRS2,     2, 11,     19,     19,2,20001220,1810, 22.7932,-157.9827, 4696,      3.6,  24.7135,  34.9435,2,-999.0000,5,    209.3,1,   -999.0,9,  -999.00,9,  -999.00,9,  -999.00,9,      4,-999.000,  -999.0, 24.7127
     33KI121_1,  PRS2,     2, 11,     20,     20,2,20001220,1810, 22.7932,-157.9827, 4696,      3.8,  24.7130,  34.9437,2,  34.9490,2,    209.3,1,   -999.0,9,  -999.00,9,  -999.00,9,  -999.00,9,      4,-999.000,  -999.0, 24.7122
     33KI121_1,  PRS2,     2, 11,     18,     18,2,20001220,1810, 22.7932,-157.9827, 4696,     14.3,  24.7127,  34.9437,2,  34.9449,2,    209.3,1,   -999.0,9,  -999.00,9,  -999.00,9,  -999.00,9,     15,-999.000,  -999.0, 24.7096
     33KI121_1,  PRS2,     2, 11,     17,     17,2,20001220,1810, 22.7932,-157.9827, 4696,     14.6,  24.7136,  34.9435,2,-999.0000,5,    209.4,1,   -999.0,9,  -999.00,9,  -999.00,9,  -999.00,9,     15,-999.000,  -999.0, 24.7105
     33KI121_1,  PRS2,     2, 11,     16,     16,2,20001220,1810, 22.7932,-157.9827, 4696,     24.1,  24.7244,  34.9438,2,-999.0000,5,    209.4,1,   -999.0,9,  -999.00,9,  -999.00,9,  -999.00,9,     25,-999.000,  -999.0, 24.7192
     33KI121_1,  PRS2,     2, 11,     15,     23,2,20001220,1810, 22.7932,-157.9827, 4696,     29.2,  24.7251,  34.9444,2,  34.9707,4,    209.4,1,   -999.0,9,  -999.00,9,  -999.00,9,  -999.00,9,     31,-999.000,  -999.0, 24.7188
     33KI121_1,  PRS2,     2, 11,     14,     14,2,20001220,1810, 22.7932,-157.9827, 4696,     34.4,  24.7256,  34.9442,2,-999.0000,5,    209.5,1,   -999.0,9,  -999.00,9,  -999.00,9,  -999.00,9,     34,-999.000,  -999.0, 24.7183
     33KI121_1,  PRS2,     2, 11,     13,     13,2,20001220,1810, 22.7932,-157.9827, 4696,     34.4,  24.7257,  34.9444,2,-999.0000,5,    209.5,1,   -999.0,9,  -999.00,9,  -999.00,9,  -999.00,9,     35,-999.000,  -999.0, 24.7183
     33KI121_1,  PRS2,     2, 11,     11,     11,2,20001220,1810, 22.7932,-157.9827, 4696,     43.9,  24.7275,  34.9442,2,-999.0000,5,    209.6,1,   -999.0,9,  -999.00,9,  -999.00,9,  -999.00,9,     45,-999.000,  -999.0, 24.7181
     33KI121_1,  PRS2,     2, 11,     12,     12,2,20001220,1810, 22.7932,-157.9827, 4696,     44.3,  24.7273,  34.9457,2,  34.9449,2,    209.5,1,   -999.0,9,  -999.00,9,  -999.00,9,  -999.00,9,     45,-999.000,  -999.0, 24.7178
     33KI121_1,  PRS2,     2, 11,     10,     32,2,20001220,1810, 22.7932,-157.9827, 4696,     59.7,  24.7385,  34.9836,2,  34.9748,2,    209.6,1,   -999.0,9,  -999.00,9,  -999.00,9,  -999.00,9,     61,-999.000,  -999.0, 24.7257
     33KI121_1,  PRS2,     2, 11,      9,      3,2,20001220,1810, 22.7932,-157.9827, 4696,     59.8,  24.7379,  34.9790,2,-999.0000,5,    209.7,1,   -999.0,9,  -999.00,9,  -999.00,9,  -999.00,9,     61,-999.000,  -999.0, 24.7251
     33KI121_1,  PRS2,     2, 11,      7,     28,2,20001220,1810, 22.7932,-157.9827, 4696,     74.1,  24.8407,  35.1372,2,  35.1492,2,    209.8,1,   -999.0,9,  -999.00,9,  -999.00,9,  -999.00,9,     77,-999.000,  -999.0, 24.8247
     33KI121_1,  PRS2,     2, 11,      8,     29,2,20001220,1810, 22.7932,-157.9827, 4696,     74.4,  24.8420,  35.1370,2,  35.1093,3,    209.9,1,   -999.0,9,  -999.00,9,  -999.00,9,  -999.00,9,     75,-999.000,  -999.0, 24.8259
     33KI121_1,  PRS2,     2, 11,      6,      7,2,20001220,1810, 22.7932,-157.9827, 4696,     99.8,  24.2429,  35.2824,2,  35.2875,2,    210.6,1,   -999.0,9,  -999.00,9,  -999.00,9,  -999.00,9,    100,-999.000,  -999.0, 24.2217
     33KI121_1,  PRS2,     2, 11,      5,     38,2,20001220,1810, 22.7932,-157.9827, 4696,    123.9,  21.8354,  35.2210,2,  35.2237,2,    212.8,1,   -999.0,9,  -999.00,9,  -999.00,9,  -999.00,9,    125,-999.000,  -999.0, 21.8110
     33KI121_1,  PRS2,     2, 11,      4,     36,2,20001220,1810, 22.7932,-157.9827, 4696,    149.5,  21.1869,  35.2164,2,  35.2197,2,    208.9,1,   -999.0,9,  -999.00,9,  -999.00,9,  -999.00,9,    151,-999.000,  -999.0, 21.1581
     33KI121_1,  PRS2,     2, 11,      3,     35,2,20001220,1810, 22.7932,-157.9827, 4696,    175.9,  20.3462,  35.1665,2,  35.1813,2,    203.3,1,   -999.0,9,  -999.00,9,  -999.00,9,  -999.00,9,    176,-999.000,  -999.0, 20.3133
     33KI121_1,  PRS2,     2, 11,      2,     34,2,20001220,1810, 22.7932,-157.9827, 4696,    800.1,   4.8130,  34.3359,2,  34.3384,2,     32.2,1,   -999.0,9,  -999.00,9,  -999.00,9,  -999.00,9,    801,-999.000,  -999.0,  4.7489
     33KI121_1,  PRS2,     2, 11,      1,     33,2,20001220,1810, 22.7932,-157.9827, 4696,   1019.1,   4.0421,  34.4725,2,  34.4738,2,     41.0,1,   -999.0,9,  -999.00,9,  -999.00,9,  -999.00,9,   1020,-999.000,  -999.0,  3.9645
     33KI121_1,  PRS2,     2, 12,     15,     23,3,20001220,2055, 22.8062,-158.0000, 4697,      5.0,  24.7016,  34.9391,2,  34.9400,2,    207.8,1,   -999.0,9,  -999.00,9,  -999.00,9,  -999.00,9,      6,-999.000,  -999.0, 24.7005
     33KI121_1,  PRS2,     2, 12,     14,     14,2,20001220,2055, 22.8062,-158.0000, 4697,     24.1,  24.6937,  34.9385,2,  34.9400,2,    209.5,1,   -999.0,9,  -999.00,9,  -999.00,9,  -999.00,9,     25,-999.000,  -999.0, 24.6885
     33KI121_1,  PRS2,     2, 12,     13,     13,2,20001220,2055, 22.8062,-158.0000, 4697,     48.4,  24.7004,  34.9410,2,  34.9410,2,    209.5,1,   -999.0,9,  -999.00,9,  -999.00,9,  -999.00,9,     49,-999.000,  -999.0, 24.6900
     33KI121_1,  PRS2,     2, 12,     12,     12,2,20001220,2055, 22.8062,-158.0000, 4697,     76.8,  24.8387,  35.1500,2,  35.1433,2,    209.8,1,   -999.0,9,  -999.00,9,  -999.00,9,  -999.00,9,     76,-999.000,  -999.0, 24.8222
     33KI121_1,  PRS2,     2, 12,     11,     11,2,20001220,2055, 22.8062,-158.0000, 4697,     98.2,  24.6782,  35.2766,2,-999.0000,5,    208.6,1,   -999.0,9,  -999.00,9,  -999.00,9,  -999.00,9,    100,-999.000,  -999.0, 24.6571
     33KI121_1,  PRS2,     2, 12,     10,     32,2,20001220,2055, 22.8062,-158.0000, 4697,    126.4,  22.5961,  35.2397,2,  35.2308,2,    214.5,1,   -999.0,9,  -999.00,9,  -999.00,9,  -999.00,9,    127,-999.000,  -999.0, 22.5706
     33KI121_1,  PRS2,     2, 12,      9,      3,2,20001220,2055, 22.8062,-158.0000, 4697,    149.2,  21.9029,  35.3029,2,-999.0000,5,    212.2,1,   -999.0,9,  -999.00,9,  -999.00,9,  -999.00,9,    148,-999.000,  -999.0, 21.8735
     33KI121_1,  PRS2,     2, 12,      8,     29,2,20001220,2055, 22.8062,-158.0000, 4697,    174.8,  21.2195,  35.2740,2,  35.2822,2,    206.8,1,   -999.0,9,  -999.00,9,  -999.00,9,  -999.00,9,    175,-999.000,  -999.0, 21.1858
     33KI121_1,  PRS2,     2, 12,      7,     28,2,20001220,2055, 22.8062,-158.0000, 4697,    203.9,  20.2084,  35.1740,2,  35.1800,2,    195.8,1,   -999.0,9,  -999.00,9,  -999.00,9,  -999.00,9,    205,-999.000,  -999.0, 20.1703
     33KI121_1,  PRS2,     2, 12,      6,      7,2,20001220,2055, 22.8062,-158.0000, 4697,    248.1,  17.8564,  34.8292,2,  34.8460,2,    191.4,1,   -999.0,9,  -999.00,9,  -999.00,9,  -999.00,9,    246,-999.000,  -999.0, 17.8140
     33KI121_1,  PRS2,     2, 12,      5,     38,2,20001220,2055, 22.8062,-158.0000, 4697,    348.7,  11.7134,  34.1750,2,  34.1772,2,    179.5,1,   -999.0,9,  -999.00,9,  -999.00,9,  -999.00,9,    350,-999.000,  -999.0, 11.6687
     33KI121_1,  PRS2,     2, 12,      4,     36,2,20001220,2055, 22.8062,-158.0000, 4697,    499.7,   7.1406,  34.1060,2,  34.1017,2,     91.6,1,   -999.0,9,  -999.00,9,  -999.00,9,  -999.00,9,    498,-999.000,  -999.0,  7.0929
     33KI121_1,  PRS2,     2, 12,      3,     35,2,20001220,2055, 22.8062,-158.0000, 4697,    725.8,   5.0570,  34.2972,2,  34.2962,2,     34.5,1,   -999.0,9,  -999.00,9,  -999.00,9,  -999.00,9,    726,-999.000,  -999.0,  4.9979
     33KI121_1,  PRS2,     2, 12,      2,     34,2,20001220,2055, 22.8062,-158.0000, 4697,    845.6,   4.4556,  34.3815,2,  34.3817,2,     31.9,1,   -999.0,9,  -999.00,9,  -999.00,9,  -999.00,9,    847,-999.000,  -999.0,  4.3898
     33KI121_1,  PRS2,     2, 12,      1,     33,2,20001220,2055, 22.8062,-158.0000, 4697,   1020.7,   3.9562,  34.4841,2,  34.4846,2,     42.5,1,   -999.0,9,  -999.00,9,  -999.00,9,  -999.00,9,   1023,-999.000,  -999.0,  3.8792
     33KI121_1,  PRS2,     2, 13,      3,     35,2,20001221,0225, 22.8255,-158.0170, 4697,     10.6,  24.7122,  34.9342,2,  34.9355,2,    209.4,1,   -999.0,9,  -999.00,9,  -999.00,9,  -999.00,9,     10,-999.000,  -999.0, 24.7099
     33KI121_1,  PRS2,     2, 13,      2,     34,2,20001221,0225, 22.8255,-158.0170, 4697,    470.8,   7.7792,  34.0773,2,  34.0778,2,    123.3,1,   -999.0,9,  -999.00,9,  -999.00,9,  -999.00,9,    472,-999.000,  -999.0,  7.7321
     33KI121_1,  PRS2,     2, 13,      1,     33,2,20001221,0225, 22.8255,-158.0170, 4697,   1023.9,   4.0457,  34.4668,2,  34.4663,2,     40.1,1,   -999.0,9,  -999.00,9,  -999.00,9,  -999.00,9,   1024,-999.000,  -999.0,  3.9677
     33KI121_1,  PRS2,     2, 14,     11,     11,2,20001221,0454, 22.8332,-158.0285, 4696,      3.4,  24.7142,  34.9442,2,  34.9429,2,    209.8,1,   -999.0,9,  -999.00,9,  -999.00,9,  -999.00,9,      4,-999.000,  -999.0, 24.7135
     33KI121_1,  PRS2,     2, 14,     10,     32,2,20001221,0454, 22.8332,-158.0285, 4696,     23.8,  24.7279,  34.9436,2,  34.9443,2,    213.0,1,   -999.0,9,  -999.00,9,  -999.00,9,  -999.00,9,     25,-999.000,  -999.0, 24.7227
     33KI121_1,  PRS2,     2, 14,      9,      3,2,20001221,0454, 22.8332,-158.0285, 4696,     44.5,  24.7345,  34.9445,2,  34.9455,2,    215.9,1,   -999.0,9,  -999.00,9,  -999.00,9,  -999.00,9,     46,-999.000,  -999.0, 24.7250
     33KI121_1,  PRS2,     2, 14,      8,     29,2,20001221,0454, 22.8332,-158.0285, 4696,     74.5,  24.7959,  35.0587,2,  35.0415,3,    206.7,1,   -999.0,9,  -999.00,9,  -999.00,9,  -999.00,9,     76,-999.000,  -999.0, 24.7798
     33KI121_1,  PRS2,     2, 14,      7,     28,2,20001221,0454, 22.8332,-158.0285, 4696,     99.5,  24.7208,  35.2905,2,  35.2982,2,    209.5,1,   -999.0,9,  -999.00,9,  -999.00,9,  -999.00,9,    100,-999.000,  -999.0, 24.6994
     33KI121_1,  PRS2,     2, 14,      6,      7,2,20001221,0454, 22.8332,-158.0285, 4696,    125.0,  22.3357,  35.2821,2,  35.2816,2,    213.4,1,   -999.0,9,  -999.00,9,  -999.00,9,  -999.00,9,    127,-999.000,  -999.0, 22.3107
     33KI121_1,  PRS2,     2, 14,      5,     38,2,20001221,0454, 22.8332,-158.0285, 4696,    149.7,  21.1629,  35.2478,2,  35.2519,2,    204.7,1,   -999.0,9,  -999.00,9,  -999.00,9,  -999.00,9,    153,-999.000,  -999.0, 21.1341
     33KI121_1,  PRS2,     2, 14,      4,     36,2,20001221,0454, 22.8332,-158.0285, 4696,    247.7,  16.2717,  34.6125,2,  34.6227,2,    186.4,1,   -999.0,9,  -999.00,9,  -999.00,9,  -999.00,9,    248,-999.000,  -999.0, 16.2321
     33KI121_1,  PRS2,     2, 14,      3,     35,2,20001221,0454, 22.8332,-158.0285, 4696,    352.2,  10.4972,  34.1254,2,  34.1276,2,    172.5,1,   -999.0,9,  -999.00,9,  -999.00,9,  -999.00,9,    353,-999.000,  -999.0, 10.4552
     33KI121_1,  PRS2,     2, 14,      2,     34,2,20001221,0454, 22.8332,-158.0285, 4696,    801.0,   4.6997,  34.3575,2,  34.3609,2,     32.0,1,   -999.0,9,  -999.00,9,  -999.00,9,  -999.00,9,    803,-999.000,  -999.0,  4.6362
     33KI121_1,  PRS2,     2, 14,      1,     33,2,20001221,0454, 22.8332,-158.0285, 4696,   1017.9,   4.0752,  34.4641,2,  34.4634,2,     39.1,1,   -999.0,9,  -999.00,9,  -999.00,9,  -999.00,9,   1018,-999.000,  -999.0,  3.9975