BOTTLE,20020809WHPSIObren
#code : jjward hyd_to_exchange.pl 
#original files copied from HTML directory: 20020809
#original HYD file: /whpo/11/HOTS/BOTTLE/hot65/hot65.sea   Fri Aug  9 09:51:35 2002
#original SUM file: /whpo/11/HOTS/BOTTLE/hot65/hot65.sum   Fri Aug  9 13:30:39 2002
EXPOCODE,SECT_ID,STNNBR,CASTNO,SAMPNO,BTLNBR,BTLNBR_FLAG_W,DATE,TIME,LATITUDE,LONGITUDE,DEPTH,CTDPRS,CTDTMP,CTDSAL,CTDSAL_FLAG_W,SALNTY,SALNTY_FLAG_W,CTDOXY,CTDOXY_FLAG_W,OXYGEN,OXYGEN_FLAG_W,SILCAT,SILCAT_FLAG_W,NO2+NO3,NO2+NO3_FLAG_W,PHSPHT,PHSPHT_FLAG_W,CTDRAW,REVTMP,REVPRS,THETA
,,,,,,,,,,,,DBAR,ITS-90,PSS-78,,PSS-78,,UMOL/KG,,UMOL/KG,,UMOL/KG,,UMOL/KG,,UMOL/KG,,,DEG C,DBAR,ITS-90
     32MW065_1,  PRS2,     1,  1,     22,     22,2,19950826,2316, 21.3432,-158.2708, 1650,      4.4,  26.9324,  34.7547,2,  34.7723,4,    201.7,3,    201.2,2,  -999.00,5,  -999.00,5,  -999.00,5,      5,-999.000,  -999.0, 26.9314
     32MW065_1,  PRS2,     1,  1,     21,     21,2,19950826,2316, 21.3432,-158.2708, 1650,      4.4,  26.9324,  34.7546,2,  34.7497,2,    201.3,2,    201.6,2,     1.94,2,     0.00,2,     0.12,2,      5,-999.000,  -999.0, 26.9314
     32MW065_1,  PRS2,     1,  1,     20,     20,2,19950826,2316, 21.3432,-158.2708, 1650,     25.5,  26.4693,  34.7542,2,  34.7482,2,    199.2,2,    202.0,2,     1.84,2,     0.00,2,     0.11,2,     26,-999.000,  -999.0, 26.4636
     32MW065_1,  PRS2,     1,  1,     19,     19,2,19950826,2316, 21.3432,-158.2708, 1650,     45.1,  26.0857,  34.7944,2,  34.7895,2,    203.8,2,    204.6,2,     1.89,2,     0.00,2,     0.10,2,     45,-999.000,  -999.0, 26.0756
     32MW065_1,  PRS2,     1,  1,     18,     18,2,19950826,2316, 21.3432,-158.2708, 1650,     60.3,  25.7085,  34.8219,2,  34.8160,2,    206.6,2,    206.7,2,     1.89,2,     0.02,2,     0.11,2,     61,-999.000,  -999.0, 25.6952
     32MW065_1,  PRS2,     1,  1,     17,     17,2,19950826,2316, 21.3432,-158.2708, 1650,     75.1,  24.1333,  34.9039,2,  34.8987,2,    209.8,2,    214.4,2,     1.95,2,     0.01,2,     0.10,2,     76,-999.000,  -999.0, 24.1175
     32MW065_1,  PRS2,     1,  1,     16,     16,2,19950826,2316, 21.3432,-158.2708, 1650,     94.2,  22.0941,  35.0516,2,  35.0484,2,    203.6,2,    205.3,2,     2.10,2,     0.06,2,     0.15,2,     95,-999.000,  -999.0, 22.0755
     32MW065_1,  PRS2,     1,  1,     15,     15,2,19950826,2316, 21.3432,-158.2708, 1650,    100.4,  21.7215,  35.1122,2,  35.1081,2,    201.2,2,    201.6,2,     2.18,2,     0.34,2,     0.15,2,    100,-999.000,  -999.0, 21.7018
     32MW065_1,  PRS2,     1,  1,     14,     14,2,19950826,2316, 21.3432,-158.2708, 1650,    104.2,  21.4484,  35.1054,2,  35.1059,2,    197.6,2,    198.4,2,     2.27,2,     0.63,2,     0.18,2,    104,-999.000,  -999.0, 21.4281
     32MW065_1,  PRS2,     1,  1,     13,     13,2,19950826,2316, 21.3432,-158.2708, 1650,    114.9,  20.8440,  35.1272,2,  35.1244,2,    197.9,2,    196.6,2,     2.51,2,     1.20,2,     0.20,2,    115,-999.000,  -999.0, 20.8221
     32MW065_1,  PRS2,     1,  1,     12,     12,2,19950826,2316, 21.3432,-158.2708, 1650,    124.5,  20.5506,  35.1230,2,  35.1210,2,    196.9,2,    194.8,2,     2.61,2,     1.47,2,     0.21,2,    125,-999.000,  -999.0, 20.5271
     32MW065_1,  PRS2,     1,  1,     11,     11,2,19950826,2316, 21.3432,-158.2708, 1650,    150.3,  19.4117,  35.0193,2,  35.0202,2,    186.1,2,    188.2,2,     3.28,2,     2.73,2,     0.31,2,    151,-999.000,  -999.0, 19.3845
     32MW065_1,  PRS2,     1,  1,     10,     32,2,19950826,2316, 21.3432,-158.2708, 1650,    174.8,  17.7759,  34.8451,2,  34.8437,2,    179.1,2,    182.7,2,     4.59,2,     4.57,2,     0.45,2,    175,-999.000,  -999.0, 17.7462
     32MW065_1,  PRS2,     1,  1,      9,      3,2,19950826,2316, 21.3432,-158.2708, 1650,    199.9,  16.7014,  34.7090,2,  34.7079,2,    178.3,2,    176.6,2,     5.75,2,     6.17,2,     0.57,2,    200,-999.000,  -999.0, 16.6689
     32MW065_1,  PRS2,     1,  1,      8,     29,2,19950826,2316, 21.3432,-158.2708, 1650,    223.3,  15.2075,  34.5666,2,  34.5670,2,    174.8,2,    179.8,2,     8.22,2,     8.04,2,     0.68,2,    224,-999.000,  -999.0, 15.1735
     32MW065_1,  PRS2,     1,  1,      7,     28,2,19950826,2316, 21.3432,-158.2708, 1650,    249.8,  14.1474,  34.4580,2,  34.4553,2,    172.9,2,    176.9,2,    10.20,2,     9.81,2,     0.83,2,    250,-999.000,  -999.0, 14.1112
     32MW065_1,  PRS2,     1,  1,      6,      7,2,19950826,2316, 21.3432,-158.2708, 1650,    299.3,  11.7051,  34.2481,2,  34.2478,2,    171.2,2,    187.1,2,    14.38,2,    12.98,2,     1.02,2,    299,-999.000,  -999.0, 11.6668
     32MW065_1,  PRS2,     1,  1,      5,     23,2,19950826,2316, 21.3432,-158.2708, 1650,    378.8,   8.4836,  34.0929,2,  34.0909,2,    151.3,2,    153.4,2,    32.01,2,    21.93,2,     1.67,2,    379,-999.000,  -999.0,  8.4440
     32MW065_1,  PRS2,     1,  1,      4,     36,2,19950826,2316, 21.3432,-158.2708, 1650,    400.1,   8.3615,  34.1365,2,  34.1350,2,    129.9,2,    127.2,2,    37.96,2,    24.56,2,     1.89,2,    400,-999.000,  -999.0,  8.3200
     32MW065_1,  PRS2,     1,  1,      3,     35,2,19950826,2316, 21.3432,-158.2708, 1650,    501.9,   6.7152,  34.1871,2,  34.1843,2,     67.1,2,     66.5,2,    59.11,2,    32.68,2,     2.53,2,    502,-999.000,  -999.0,  6.6688
     32MW065_1,  PRS2,     1,  1,      2,     34,2,19950826,2316, 21.3432,-158.2708, 1650,    750.5,   5.0103,  34.4141,2,  34.4112,2,     32.5,2,     32.7,2,    89.93,2,    39.45,2,     3.00,2,    751,-999.000,  -999.0,  4.9492
     32MW065_1,  PRS2,     1,  1,      1,     33,2,19950826,2316, 21.3432,-158.2708, 1650,   1020.1,   4.1287,  34.4977,2,  34.4977,2,     44.0,2,     44.6,2,   106.87,2,    40.62,2,     3.04,2,   1021,-999.000,  -999.0,  4.0504
     32MW065_1,  PRS2,     2,  1,     24,     31,2,19950827,1842, 22.7553,-157.9943, 4720,      4.9,  25.9649,  34.9513,2,  34.9554,2,    203.2,2,    204.6,2,     1.34,2,     0.01,2,     0.07,2,      5,-999.000,  -999.0, 25.9638
     32MW065_1,  PRS2,     2,  1,     23,     30,2,19950827,1842, 22.7553,-157.9943, 4720,    106.4,  21.1458,  35.1676,2,  35.1729,2,    202.1,2,    214.9,2,     1.66,2,     0.09,2,     0.07,2,    107,-999.000,  -999.0, 21.1253
     32MW065_1,  PRS2,     2,  1,     22,     22,2,19950827,1842, 22.7553,-157.9943, 4720,    524.4,   6.3710,  34.0484,2,  34.0486,2,     98.8,2,     93.8,2,    55.97,2,    31.48,2,     2.29,2,    526,-999.000,  -999.0,  6.3240
     32MW065_1,  PRS2,     2,  1,     21,     21,2,19950827,1842, 22.7553,-157.9943, 4720,    830.2,   4.5277,  34.3802,2,  34.3794,2,     31.9,2,     30.0,2,    99.39,2,    40.78,2,     3.01,2,    832,-999.000,  -999.0,  4.4628
     32MW065_1,  PRS2,     2,  1,     20,     20,2,19950827,1842, 22.7553,-157.9943, 4720,   1199.4,   3.4151,  34.5281,2,  34.5297,2,     55.3,2,     54.3,2,   121.89,2,    40.58,2,     2.95,2,   1199,-999.000,  -999.0,  3.3279
     32MW065_1,  PRS2,     2,  1,     19,     19,2,19950827,1842, 22.7553,-157.9943, 4720,   1399.1,   2.9758,  34.5663,2,  34.5681,2,     64.1,2,     63.5,2,   131.14,2,    40.58,2,     2.94,2,   1399,-999.000,  -999.0,  2.8766
     32MW065_1,  PRS2,     2,  1,     18,     18,2,19950827,1842, 22.7553,-157.9943, 4720,   1606.3,   2.6125,  34.5809,2,  34.5811,2,     73.7,2,     73.2,2,   139.34,2,    39.72,2,     2.88,2,   1607,-999.000,  -999.0,  2.5004
     32MW065_1,  PRS2,     2,  1,     17,     17,2,19950827,1842, 22.7553,-157.9943, 4720,   1801.0,   2.3484,  34.6036,2,  34.6051,2,     81.2,2,     80.9,2,   144.96,2,    39.65,2,     2.85,2,   1802,-999.000,  -999.0,  2.2236
     32MW065_1,  PRS2,     2,  1,     16,     16,2,19950827,1842, 22.7553,-157.9943, 4720,   2002.7,   2.1181,  34.6202,2,  34.6201,2,     89.7,2,     89.6,2,   149.95,2,    38.92,2,     2.81,2,   2004,-999.000,  -999.0,  1.9797
     32MW065_1,  PRS2,     2,  1,     15,     15,2,19950827,1842, 22.7553,-157.9943, 4720,   2196.6,   1.9236,  34.6351,2,  34.6348,2,     95.7,2,     97.7,2,   153.73,2,    38.54,2,     2.77,2,   2197,-999.000,  -999.0,  1.7716
     32MW065_1,  PRS2,     2,  1,     14,     14,2,19950827,1842, 22.7553,-157.9943, 4720,   2400.1,   1.7858,  34.6458,2,  34.6463,2,    102.9,2,    105.3,2,   156.31,2,    38.23,2,     2.75,2,   2400,-999.000,  -999.0,  1.6184
     32MW065_1,  PRS2,     2,  1,     13,     13,2,19950827,1842, 22.7553,-157.9943, 4720,   2597.8,   1.6801,  34.6555,2,  34.6556,2,    112.0,2,    113.2,2,   157.36,2,    37.58,2,     2.70,2,   2598,-999.000,  -999.0,  1.4970
     32MW065_1,  PRS2,     2,  1,     12,     12,2,19950827,1842, 22.7553,-157.9943, 4720,   2799.4,   1.6085,  34.6625,2,  34.6634,2,    117.7,2,    118.6,2,   157.92,2,    37.27,2,     2.66,2,   2800,-999.000,  -999.0,  1.4083
     32MW065_1,  PRS2,     2,  1,     11,     11,2,19950827,1842, 22.7553,-157.9943, 4720,   2999.8,   1.5446,  34.6684,2,  34.6684,2,    124.2,2,    124.3,2,   158.53,2,    36.75,2,     2.64,2,   3000,-999.000,  -999.0,  1.3269
     32MW065_1,  PRS2,     2,  1,     10,     32,2,19950827,1842, 22.7553,-157.9943, 4720,   3199.1,   1.5003,  34.6748,2,  34.6748,2,    132.0,2,    131.6,2,   156.12,2,    36.29,2,     2.59,2,   3199,-999.000,  -999.0,  1.2643
     32MW065_1,  PRS2,     2,  1,      9,      3,2,19950827,1842, 22.7553,-157.9943, 4720,   3400.4,   1.4691,  34.6793,2,  34.6791,2,    138.2,2,    137.5,2,   155.56,2,    36.43,2,     2.54,2,   3400,-999.000,  -999.0,  1.2138
     32MW065_1,  PRS2,     2,  1,      8,     29,2,19950827,1842, 22.7553,-157.9943, 4720,   3597.1,   1.4527,  34.6822,2,  34.6808,2,    141.9,2,    141.8,2,   153.37,2,    35.66,2,     2.54,2,   3597,-999.000,  -999.0,  1.1778
     32MW065_1,  PRS2,     2,  1,      7,     28,2,19950827,1842, 22.7553,-157.9943, 4720,   3798.7,   1.4467,  34.6845,2,  34.6827,2,    146.0,2,    145.0,2,   152.03,2,    35.65,2,     2.53,2,   3799,-999.000,  -999.0,  1.1509
     32MW065_1,  PRS2,     2,  1,      6,      7,2,19950827,1842, 22.7553,-157.9943, 4720,   3997.4,   1.4500,  34.6862,2,  34.6856,2,    149.0,2,    147.7,2,   151.15,2,    35.45,2,     2.51,2,   3998,-999.000,  -999.0,  1.1328
     32MW065_1,  PRS2,     2,  1,      5,     23,2,19950827,1842, 22.7553,-157.9943, 4720,   4199.2,   1.4601,  34.6873,2,  34.6865,2,    149.1,2,    149.3,2,   150.29,2,    35.36,2,     2.48,2,   4199,-999.000,  -999.0,  1.1204
     32MW065_1,  PRS2,     2,  1,      4,     36,2,19950827,1842, 22.7553,-157.9943, 4720,   4400.6,   1.4758,  34.6880,2,  34.6881,2,    150.3,2,    150.4,2,   149.65,2,    35.38,2,     2.48,2,   4401,-999.000,  -999.0,  1.1129
     32MW065_1,  PRS2,     2,  1,      3,     35,2,19950827,1842, 22.7553,-157.9943, 4720,   4501.5,   1.4858,  34.6881,2,  34.6891,2,    152.2,2,    151.0,2,   149.25,2,    35.27,2,     2.48,2,   4502,-999.000,  -999.0,  1.1111
     32MW065_1,  PRS2,     2,  1,      2,     34,2,19950827,1842, 22.7553,-157.9943, 4720,   4599.4,   1.4961,  34.6883,2,  34.6875,2,    150.5,2,    151.1,2,   149.09,2,    35.23,2,     2.48,2,   4600,-999.000,  -999.0,  1.1097
     32MW065_1,  PRS2,     2,  1,      1,     33,4,19950827,1842, 22.7553,-157.9943, 4720,   4794.6,   1.5090,  34.6893,2,-999.0000,5,    152.3,2,   -999.0,5,  -999.00,5,  -999.00,5,  -999.00,5,   4795,-999.000,  -999.0,  1.0992
     32MW065_1,  PRS2,     2,  2,     24,     31,2,19950828,0028, 22.7713,-157.9845, 4720,      5.0,  25.9695,  34.9283,2,  34.9287,2,    211.7,2,    205.0,2,     1.40,2,     0.00,2,     0.07,2,      6,-999.000,  -999.0, 25.9684
     32MW065_1,  PRS2,     2,  2,     23,     30,2,19950828,0028, 22.7713,-157.9845, 4720,     43.1,  25.4515,  35.1981,2,  35.2044,2,    214.2,2,    210.6,2,     1.31,2,     0.01,2,     0.04,2,     44,-999.000,  -999.0, 25.4421
     32MW065_1,  PRS2,     2,  2,     22,     22,2,19950828,0028, 22.7713,-157.9845, 4720,     57.9,  24.2636,  35.0896,2,  35.1107,3,    217.5,3,    220.0,2,     1.46,2,     0.00,2,     0.03,2,     58,-999.000,  -999.0, 24.2513
     32MW065_1,  PRS2,     2,  2,     21,     21,2,19950828,0028, 22.7713,-157.9845, 4720,     75.3,  22.3477,  35.1549,2,  35.1566,2,    223.1,2,    227.0,2,     1.72,2,     0.00,2,     0.03,2,     77,-999.000,  -999.0, 22.3327
     32MW065_1,  PRS2,     2,  2,     20,     20,2,19950828,0028, 22.7713,-157.9845, 4720,     98.7,  21.2205,  35.1672,2,  35.1677,2,    214.0,2,    216.2,2,     1.76,2,     0.02,2,     0.06,2,     99,-999.000,  -999.0, 21.2014
     32MW065_1,  PRS2,     2,  2,     19,     19,2,19950828,0028, 22.7713,-157.9845, 4720,    136.5,  19.8905,  35.1159,2,  35.1180,2,    183.2,2,    198.1,2,     2.32,2,     1.52,2,     0.18,2,    137,-999.000,  -999.0, 19.8654
     32MW065_1,  PRS2,     2,  2,     18,     18,2,19950828,0028, 22.7713,-157.9845, 4720,    218.8,  16.1557,  34.6836,2,  34.6867,2,    183.9,2,    192.7,2,     5.11,2,     5.07,2,     0.43,2,    219,-999.000,  -999.0, 16.1209
     32MW065_1,  PRS2,     2,  2,     17,     17,2,19950828,0028, 22.7713,-157.9845, 4720,    308.3,  11.9029,  34.2492,2,  34.2456,2,    203.0,2,    197.1,2,    11.89,2,    11.69,2,     0.86,2,    308,-999.000,  -999.0, 11.8630
     32MW065_1,  PRS2,     2,  2,     16,     16,2,19950828,0028, 22.7713,-157.9845, 4720,    350.8,  10.4517,  34.1514,2,  34.1518,2,    200.6,2,    187.6,2,    17.52,2,    15.65,2,     1.14,2,    351,-999.000,  -999.0, 10.4100
     32MW065_1,  PRS2,     2,  2,     15,     15,2,19950828,0028, 22.7713,-157.9845, 4720,    413.8,   8.3837,  34.0648,2,  34.0644,2,    182.5,2,    156.7,2,    30.67,2,    22.21,2,     1.62,2,    414,-999.000,  -999.0,  8.3407
     32MW065_1,  PRS2,     2,  2,     14,     14,2,19950828,0028, 22.7713,-157.9845, 4720,    476.9,   7.0764,  34.0419,2,  34.0415,2,    122.2,2,    120.7,2,    46.44,2,    28.57,2,     2.07,2,    477,-999.000,  -999.0,  7.0313
     32MW065_1,  PRS2,     2,  2,     13,     13,2,19950828,0028, 22.7713,-157.9845, 4720,    517.8,   6.4767,  34.0417,2,  34.0418,2,    101.2,2,     98.7,2,    55.32,2,    31.78,2,     2.32,2,    520,-999.000,  -999.0,  6.4299
     32MW065_1,  PRS2,     2,  2,     12,     12,2,19950828,0028, 22.7713,-157.9845, 4720,    571.1,   6.0264,  34.0800,2,  34.0789,2,     71.1,2,     71.5,2,    64.81,2,    34.72,2,     2.58,2,    571,-999.000,  -999.0,  5.9765
     32MW065_1,  PRS2,     2,  2,     11,     11,2,19950828,0028, 22.7713,-157.9845, 4720,    600.8,   5.7018,  34.1191,2,  34.1192,2,     60.5,2,     58.4,2,    71.62,2,    36.21,2,     2.71,2,    601,-999.000,  -999.0,  5.6506
     32MW065_1,  PRS2,     2,  2,     10,     32,2,19950828,0028, 22.7713,-157.9845, 4720,    630.6,   5.5955,  34.1576,2,  34.1540,2,     47.5,2,     48.9,2,    75.20,2,    37.17,2,     2.79,2,    631,-999.000,  -999.0,  5.5421
     32MW065_1,  PRS2,     2,  2,      9,      3,2,19950828,0028, 22.7713,-157.9845, 4720,    650.0,   5.2795,  34.1716,2,  34.1670,2,     38.9,2,     40.9,2,    81.54,2,    38.47,2,     2.88,2,    650,-999.000,  -999.0,  5.2260
     32MW065_1,  PRS2,     2,  2,      8,     29,2,19950828,0028, 22.7713,-157.9845, 4720,    693.0,   5.2571,  34.2467,2,  34.2460,2,     35.9,2,     38.7,2,    84.05,2,    39.20,2,     2.95,2,    693,-999.000,  -999.0,  5.1998
     32MW065_1,  PRS2,     2,  2,      7,     28,2,19950828,0028, 22.7713,-157.9845, 4720,    771.4,   4.7114,  34.3057,2,  34.3072,2,     28.6,2,     28.3,2,    95.43,2,    40.88,2,     3.06,2,    772,-999.000,  -999.0,  4.6504
     32MW065_1,  PRS2,     2,  2,      6,      7,2,19950828,0028, 22.7713,-157.9845, 4720,    779.9,   4.6813,  34.3170,2,  34.3151,2,     28.7,2,     27.4,2,    96.32,2,    40.73,2,     3.03,2,    780,-999.000,  -999.0,  4.6197
     32MW065_1,  PRS2,     2,  2,      5,     23,2,19950828,0028, 22.7713,-157.9845, 4720,    821.0,   4.6733,  34.3775,2,  34.3765,2,     35.3,2,     30.7,2,    97.35,2,    40.70,2,     3.03,2,    821,-999.000,  -999.0,  4.6082
     32MW065_1,  PRS2,     2,  2,      4,     36,2,19950828,0028, 22.7713,-157.9845, 4720,    870.8,   4.4799,  34.4108,2,  34.4093,2,     36.2,2,     33.6,2,   100.95,2,    41.08,2,     3.05,2,    871,-999.000,  -999.0,  4.4118
     32MW065_1,  PRS2,     2,  2,      3,     35,2,19950828,0028, 22.7713,-157.9845, 4720,    900.8,   4.3432,  34.4272,2,  34.4272,2,     38.2,2,     35.9,2,   102.87,2,    40.92,2,     3.00,2,    901,-999.000,  -999.0,  4.2734
     32MW065_1,  PRS2,     2,  2,      2,     34,2,19950828,0028, 22.7713,-157.9845, 4720,   1016.1,   3.9184,  34.4631,2,  34.4635,2,     43.4,2,     42.0,2,   111.88,2,    41.15,2,     3.04,2,   1017,-999.000,  -999.0,  3.8421
     32MW065_1,  PRS2,     2,  2,      1,     33,2,19950828,0028, 22.7713,-157.9845, 4720,   1020.6,   3.9158,  34.4629,2,  34.4635,2,     43.4,2,     41.6,2,   112.19,2,    40.99,2,     3.03,2,   1020,-999.000,  -999.0,  3.8391