BOTTLE,20020809WHPSIObren
EXPOCODE,SECT_ID,STNNBR,CASTNO,SAMPNO,BTLNBR,BTLNBR_FLAG_W,DATE,TIME,LATITUDE,LONGITUDE,DEPTH,CTDPRS,CTDTMP,CTDSAL,CTDSAL_FLAG_W,SALNTY,SALNTY_FLAG_W,CTDOXY,CTDOXY_FLAG_W,OXYGEN,OXYGEN_FLAG_W,SILCAT,SILCAT_FLAG_W,NO2+NO3,NO2+NO3_FLAG_W,PHSPHT,PHSPHT_FLAG_W,CTDRAW,REVTMP,REVPRS,THETA
,,,,,,,,,,,,DBAR,ITS-90,PSS-78,,PSS-78,,UMOL/KG,,UMOL/KG,,UMOL/KG,,UMOL/KG,,UMOL/KG,,,DEG C,DBAR,ITS-90
     32MW065_1,  PRS2,     2, 14,     15,     15,2,19950829,1227, 22.7428,-158.0047, 4730,      4.5,  25.9080,  34.9344,2,  34.9326,2,    203.7,1,   -999.0,9,  -999.00,9,  -999.00,9,  -999.00,9,      4,-999.000,  -999.0, 25.9070
     32MW065_1,  PRS2,     2, 14,     16,     16,2,19950829,1227, 22.7428,-158.0047, 4730,      4.6,  25.9079,  34.9342,2,  34.9316,2,    203.7,1,   -999.0,9,  -999.00,9,  -999.00,9,  -999.00,9,      5,-999.000,  -999.0, 25.9068
     32MW065_1,  PRS2,     2, 14,     13,     13,2,19950829,1227, 22.7428,-158.0047, 4730,     24.7,  25.9140,  34.9341,2,  34.9329,2,    203.6,1,   -999.0,9,  -999.00,9,  -999.00,9,  -999.00,9,     25,-999.000,  -999.0, 25.9085
     32MW065_1,  PRS2,     2, 14,     12,     12,2,19950829,1227, 22.7428,-158.0047, 4730,     24.7,  25.9137,  34.9342,2,  34.9330,2,    203.6,1,   -999.0,9,  -999.00,9,  -999.00,9,  -999.00,9,     25,-999.000,  -999.0, 25.9082
     32MW065_1,  PRS2,     2, 14,     14,     14,2,19950829,1227, 22.7428,-158.0047, 4730,     24.8,  25.9146,  34.9343,2,  34.9329,2,    203.7,1,   -999.0,9,  -999.00,9,  -999.00,9,  -999.00,9,     25,-999.000,  -999.0, 25.9091
     32MW065_1,  PRS2,     2, 14,     11,     11,2,19950829,1227, 22.7428,-158.0047, 4730,     44.4,  25.8068,  34.9593,2,  34.9451,2,    202.6,1,   -999.0,9,  -999.00,9,  -999.00,9,  -999.00,9,     45,-999.000,  -999.0, 25.7970
     32MW065_1,  PRS2,     2, 14,     10,     32,2,19950829,1227, 22.7428,-158.0047, 4730,     59.0,  23.4768,  35.0806,2,  35.0722,2,    211.9,1,   -999.0,9,  -999.00,9,  -999.00,9,  -999.00,9,     59,-999.000,  -999.0, 23.4646
     32MW065_1,  PRS2,     2, 14,      9,      3,2,19950829,1227, 22.7428,-158.0047, 4730,     74.5,  22.1942,  35.1556,2,  35.1557,2,    210.9,1,   -999.0,9,  -999.00,9,  -999.00,9,  -999.00,9,     74,-999.000,  -999.0, 22.1794
     32MW065_1,  PRS2,     2, 14,      8,     29,2,19950829,1227, 22.7428,-158.0047, 4730,     89.2,  21.4433,  35.1568,2,  35.1574,2,    200.2,1,   -999.0,9,  -999.00,9,  -999.00,9,  -999.00,9,     89,-999.000,  -999.0, 21.4259
     32MW065_1,  PRS2,     2, 14,      7,     28,2,19950829,1227, 22.7428,-158.0047, 4730,     99.1,  21.3304,  35.1634,2,  35.1611,2,    202.6,1,   -999.0,9,  -999.00,9,  -999.00,9,  -999.00,9,     99,-999.000,  -999.0, 21.3112
     32MW065_1,  PRS2,     2, 14,      5,     23,2,19950829,1227, 22.7428,-158.0047, 4730,    109.8,  21.0294,  35.1703,2,  35.1705,2,    198.2,1,   -999.0,9,  -999.00,9,  -999.00,9,  -999.00,9,    109,-999.000,  -999.0, 21.0084
     32MW065_1,  PRS2,     2, 14,      6,      7,2,19950829,1227, 22.7428,-158.0047, 4730,    109.9,  21.0294,  35.1703,2,  35.1714,2,    198.2,1,   -999.0,9,  -999.00,9,  -999.00,9,  -999.00,9,    111,-999.000,  -999.0, 21.0084
     32MW065_1,  PRS2,     2, 14,      4,     36,2,19950829,1227, 22.7428,-158.0047, 4730,    124.9,  20.3923,  35.1521,2,  35.1533,2,    193.7,1,   -999.0,9,  -999.00,9,  -999.00,9,  -999.00,9,    126,-999.000,  -999.0, 20.3689
     32MW065_1,  PRS2,     2, 14,      3,     35,2,19950829,1227, 22.7428,-158.0047, 4730,    501.1,   6.6270,  34.0424,2,  34.0445,2,     95.3,1,   -999.0,9,  -999.00,9,  -999.00,9,  -999.00,9,    501,-999.000,  -999.0,  6.5812
     32MW065_1,  PRS2,     2, 14,      2,     34,2,19950829,1227, 22.7428,-158.0047, 4730,    829.6,   4.6462,  34.3813,2,  34.3837,2,     29.0,1,   -999.0,9,  -999.00,9,  -999.00,9,  -999.00,9,    830,-999.000,  -999.0,  4.5805
     32MW065_1,  PRS2,     2, 14,      1,     33,2,19950829,1227, 22.7428,-158.0047, 4730,   1020.2,   3.9304,  34.4680,2,  34.4626,2,     40.9,1,   -999.0,9,  -999.00,9,  -999.00,9,  -999.00,9,   1020,-999.000,  -999.0,  3.8537
     32MW065_1,  PRS2,     2, 15,     22,     22,4,19950829,1658, 22.7513,-158.0003, 4728,      4.0,  25.8975,  34.9332,2,-999.0000,5,    203.6,1,   -999.0,9,  -999.00,9,  -999.00,9,  -999.00,9,      5,-999.000,  -999.0, 25.8966
     32MW065_1,  PRS2,     2, 15,     21,     21,2,19950829,1658, 22.7513,-158.0003, 4728,      4.0,  25.8977,  34.9330,2,  34.9305,2,    203.6,1,   -999.0,9,  -999.00,9,  -999.00,9,  -999.00,9,      4,-999.000,  -999.0, 25.8969
     32MW065_1,  PRS2,     2, 15,     20,     20,2,19950829,1658, 22.7513,-158.0003, 4728,      9.8,  25.9006,  34.9322,2,  34.9299,2,    203.6,1,   -999.0,9,  -999.00,9,  -999.00,9,  -999.00,9,     11,-999.000,  -999.0, 25.8985
     32MW065_1,  PRS2,     2, 15,     19,     19,2,19950829,1658, 22.7513,-158.0003, 4728,     23.5,  25.9037,  34.9315,2,  34.9297,2,    203.6,1,   -999.0,9,  -999.00,9,  -999.00,9,  -999.00,9,     25,-999.000,  -999.0, 25.8985
     32MW065_1,  PRS2,     2, 15,     18,     18,2,19950829,1658, 22.7513,-158.0003, 4728,     23.5,  25.9038,  34.9315,2,  34.9313,2,    203.6,1,   -999.0,9,  -999.00,9,  -999.00,9,  -999.00,9,     23,-999.000,  -999.0, 25.8986
     32MW065_1,  PRS2,     2, 15,     17,     17,2,19950829,1658, 22.7513,-158.0003, 4728,     44.8,  25.9060,  34.9309,2,  34.9306,2,    203.6,1,   -999.0,9,  -999.00,9,  -999.00,9,  -999.00,9,     45,-999.000,  -999.0, 25.8961
     32MW065_1,  PRS2,     2, 15,     16,     16,2,19950829,1658, 22.7513,-158.0003, 4728,     50.6,  25.8986,  34.9310,2,  35.0682,4,    203.1,1,   -999.0,9,  -999.00,9,  -999.00,9,  -999.00,9,     51,-999.000,  -999.0, 25.8873
     32MW065_1,  PRS2,     2, 15,     14,     14,2,19950829,1658, 22.7513,-158.0003, 4728,     74.2,  23.4889,  35.0706,2,  35.0634,2,    207.8,1,   -999.0,9,  -999.00,9,  -999.00,9,  -999.00,9,     74,-999.000,  -999.0, 23.4736
     32MW065_1,  PRS2,     2, 15,     15,     15,2,19950829,1658, 22.7513,-158.0003, 4728,     74.4,  23.4546,  35.0730,2,  34.9329,4,    208.8,1,   -999.0,9,  -999.00,9,  -999.00,9,  -999.00,9,     76,-999.000,  -999.0, 23.4393
     32MW065_1,  PRS2,     2, 15,     12,     12,2,19950829,1658, 22.7513,-158.0003, 4728,     99.1,  21.5581,  35.1523,2,  35.1522,2,    188.6,1,   -999.0,9,  -999.00,9,  -999.00,9,  -999.00,9,    100,-999.000,  -999.0, 21.5387
     32MW065_1,  PRS2,     2, 15,     13,     13,2,19950829,1658, 22.7513,-158.0003, 4728,     99.2,  21.5586,  35.1523,2,  35.1509,2,    188.2,1,   -999.0,9,  -999.00,9,  -999.00,9,  -999.00,9,    100,-999.000,  -999.0, 21.5393
     32MW065_1,  PRS2,     2, 15,     11,     11,2,19950829,1658, 22.7513,-158.0003, 4728,    125.3,  20.8638,  35.1664,2,  35.1684,2,    195.5,1,   -999.0,9,  -999.00,9,  -999.00,9,  -999.00,9,    125,-999.000,  -999.0, 20.8400
     32MW065_1,  PRS2,     2, 15,      9,      3,2,19950829,1658, 22.7513,-158.0003, 4728,    150.7,  19.5604,  35.0958,2,  35.0971,2,    182.4,1,   -999.0,9,  -999.00,9,  -999.00,9,  -999.00,9,    151,-999.000,  -999.0, 19.5330
     32MW065_1,  PRS2,     2, 15,     10,     32,2,19950829,1658, 22.7513,-158.0003, 4728,    150.9,  19.5487,  35.0952,2,  35.0954,2,    182.7,1,   -999.0,9,  -999.00,9,  -999.00,9,  -999.00,9,    153,-999.000,  -999.0, 19.5213
     32MW065_1,  PRS2,     2, 15,      8,     29,2,19950829,1658, 22.7513,-158.0003, 4728,    174.1,  18.1990,  34.9631,2,  34.9644,2,    183.3,1,   -999.0,9,  -999.00,9,  -999.00,9,  -999.00,9,    175,-999.000,  -999.0, 18.1689
     32MW065_1,  PRS2,     2, 15,      7,     28,2,19950829,1658, 22.7513,-158.0003, 4728,    200.6,  17.7335,  34.9153,2,  34.9193,2,    208.9,1,   -999.0,9,  -999.00,9,  -999.00,9,  -999.00,9,    200,-999.000,  -999.0, 17.6995
     32MW065_1,  PRS2,     2, 15,      5,     23,2,19950829,1658, 22.7513,-158.0003, 4728,    249.5,  15.7958,  34.6665,2,  34.6706,2,    186.7,1,   -999.0,9,  -999.00,9,  -999.00,9,  -999.00,9,    251,-999.000,  -999.0, 15.7567
     32MW065_1,  PRS2,     2, 15,      6,      7,2,19950829,1658, 22.7513,-158.0003, 4728,    249.7,  15.7930,  34.6662,2,  34.6676,2,    185.4,1,   -999.0,9,  -999.00,9,  -999.00,9,  -999.00,9,    249,-999.000,  -999.0, 15.7539
     32MW065_1,  PRS2,     2, 15,      4,     36,2,19950829,1658, 22.7513,-158.0003, 4728,    298.5,  13.5625,  34.3908,2,  34.3897,2,    181.0,1,   -999.0,9,  -999.00,9,  -999.00,9,  -999.00,9,    299,-999.000,  -999.0, 13.5203
     32MW065_1,  PRS2,     2, 15,      3,     35,2,19950829,1658, 22.7513,-158.0003, 4728,    501.5,   7.3151,  34.0422,2,  34.0417,2,    115.2,1,   -999.0,9,  -999.00,9,  -999.00,9,  -999.00,9,    502,-999.000,  -999.0,  7.2667
     32MW065_1,  PRS2,     2, 15,      2,     34,2,19950829,1658, 22.7513,-158.0003, 4728,    759.6,   4.8281,  34.3095,2,  34.3074,2,     23.8,1,   -999.0,9,  -999.00,9,  -999.00,9,  -999.00,9,    759,-999.000,  -999.0,  4.7674
     32MW065_1,  PRS2,     2, 15,      1,     33,2,19950829,1658, 22.7513,-158.0003, 4728,   1020.2,   3.9300,  34.4701,2,  34.4696,2,     40.2,1,   -999.0,9,  -999.00,9,  -999.00,9,  -999.00,9,   1020,-999.000,  -999.0,  3.8533
     32MW065_1,  PRS2,     2, 16,     22,     22,2,19950829,1955, 22.7522,-157.9978, 4728,      4.9,  25.9503,  34.9278,2,-999.0000,5,    201.8,1,   -999.0,9,  -999.00,9,  -999.00,9,  -999.00,9,      6,-999.000,  -999.0, 25.9492
     32MW065_1,  PRS2,     2, 16,     21,     21,2,19950829,1955, 22.7522,-157.9978, 4728,      4.9,  25.9503,  34.9278,2,-999.0000,5,    201.8,1,   -999.0,9,  -999.00,9,  -999.00,9,  -999.00,9,      5,-999.000,  -999.0, 25.9492
     32MW065_1,  PRS2,     2, 16,     20,     20,2,19950829,1955, 22.7522,-157.9978, 4728,      4.9,  25.9503,  34.9279,2,  34.9268,2,    201.8,1,   -999.0,9,  -999.00,9,  -999.00,9,  -999.00,9,      6,-999.000,  -999.0, 25.9492
     32MW065_1,  PRS2,     2, 16,     19,     19,2,19950829,1955, 22.7522,-157.9978, 4728,     24.5,  25.9130,  34.9258,2,-999.0000,5,    202.4,1,   -999.0,9,  -999.00,9,  -999.00,9,  -999.00,9,     26,-999.000,  -999.0, 25.9075
     32MW065_1,  PRS2,     2, 16,     18,     18,2,19950829,1955, 22.7522,-157.9978, 4728,     24.6,  25.9130,  34.9257,2,  34.9251,2,    202.4,1,   -999.0,9,  -999.00,9,  -999.00,9,  -999.00,9,     24,-999.000,  -999.0, 25.9076
     32MW065_1,  PRS2,     2, 16,     16,     16,2,19950829,1955, 22.7522,-157.9978, 4728,     43.9,  25.2495,  34.9811,2,  34.9727,2,    196.0,1,   -999.0,9,  -999.00,9,  -999.00,9,  -999.00,9,     43,-999.000,  -999.0, 25.2399
     32MW065_1,  PRS2,     2, 16,     17,     17,2,19950829,1955, 22.7522,-157.9978, 4728,     44.0,  25.2182,  34.9853,2,-999.0000,5,    196.6,1,   -999.0,9,  -999.00,9,  -999.00,9,  -999.00,9,     45,-999.000,  -999.0, 25.2086
     32MW065_1,  PRS2,     2, 16,     15,     15,2,19950829,1955, 22.7522,-157.9978, 4728,     74.4,  22.8757,  35.0912,2,-999.0000,5,    206.3,1,   -999.0,9,  -999.00,9,  -999.00,9,  -999.00,9,     75,-999.000,  -999.0, 22.8605
     32MW065_1,  PRS2,     2, 16,     14,     14,2,19950829,1955, 22.7522,-157.9978, 4728,     74.4,  22.8757,  35.0912,2,  35.0871,2,    206.4,1,   -999.0,9,  -999.00,9,  -999.00,9,  -999.00,9,     74,-999.000,  -999.0, 22.8605
     32MW065_1,  PRS2,     2, 16,     13,     13,2,19950829,1955, 22.7522,-157.9978, 4728,     99.0,  21.3384,  35.1588,2,-999.0000,5,    204.0,1,   -999.0,9,  -999.00,9,  -999.00,9,  -999.00,9,    101,-999.000,  -999.0, 21.3192
     32MW065_1,  PRS2,     2, 16,     12,     12,2,19950829,1955, 22.7522,-157.9978, 4728,     99.1,  21.3422,  35.1586,2,  35.1577,2,    204.8,1,   -999.0,9,  -999.00,9,  -999.00,9,  -999.00,9,     99,-999.000,  -999.0, 21.3230
     32MW065_1,  PRS2,     2, 16,     11,     11,2,19950829,1955, 22.7522,-157.9978, 4728,    119.7,  20.8548,  35.1669,2,-999.0000,5,    198.6,1,   -999.0,9,  -999.00,9,  -999.00,9,  -999.00,9,    120,-999.000,  -999.0, 20.8320
     32MW065_1,  PRS2,     2, 16,     10,     32,2,19950829,1955, 22.7522,-157.9978, 4728,    119.7,  20.8510,  35.1672,2,  35.1676,2,    198.6,1,   -999.0,9,  -999.00,9,  -999.00,9,  -999.00,9,    120,-999.000,  -999.0, 20.8282
     32MW065_1,  PRS2,     2, 16,      9,      3,2,19950829,1955, 22.7522,-157.9978, 4728,    149.1,  19.4094,  35.0897,2,-999.0000,5,    185.4,1,   -999.0,9,  -999.00,9,  -999.00,9,  -999.00,9,    150,-999.000,  -999.0, 19.3825
     32MW065_1,  PRS2,     2, 16,      8,     29,2,19950829,1955, 22.7522,-157.9978, 4728,    149.1,  19.4107,  35.0886,2,  35.0917,2,    185.0,1,   -999.0,9,  -999.00,9,  -999.00,9,  -999.00,9,    149,-999.000,  -999.0, 19.3837
     32MW065_1,  PRS2,     2, 16,      6,      7,2,19950829,1955, 22.7522,-157.9978, 4728,    175.6,  18.0719,  34.9661,2,  34.9681,2,    200.4,1,   -999.0,9,  -999.00,9,  -999.00,9,  -999.00,9,    176,-999.000,  -999.0, 18.0417
     32MW065_1,  PRS2,     2, 16,      7,     28,2,19950829,1955, 22.7522,-157.9978, 4728,    175.7,  18.0703,  34.9659,2,-999.0000,5,    198.9,1,   -999.0,9,  -999.00,9,  -999.00,9,  -999.00,9,    176,-999.000,  -999.0, 18.0400
     32MW065_1,  PRS2,     2, 16,      5,     23,2,19950829,1955, 22.7522,-157.9978, 4728,    249.8,  15.0343,  34.5634,2,-999.0000,5,    190.7,1,   -999.0,9,  -999.00,9,  -999.00,9,  -999.00,9,    251,-999.000,  -999.0, 14.9965
     32MW065_1,  PRS2,     2, 16,      4,     36,2,19950829,1955, 22.7522,-157.9978, 4728,    249.8,  15.0326,  34.5631,2,  34.5639,2,    190.1,1,   -999.0,9,  -999.00,9,  -999.00,9,  -999.00,9,    250,-999.000,  -999.0, 14.9948
     32MW065_1,  PRS2,     2, 16,      3,     35,2,19950829,1955, 22.7522,-157.9978, 4728,    750.4,   4.8065,  34.2558,2,-999.0000,5,     24.5,1,   -999.0,9,  -999.00,9,  -999.00,9,  -999.00,9,    750,-999.000,  -999.0,  4.7468
     32MW065_1,  PRS2,     2, 16,      2,     34,2,19950829,1955, 22.7522,-157.9978, 4728,    750.4,   4.8064,  34.2558,2,  34.2569,2,     24.4,1,   -999.0,9,  -999.00,9,  -999.00,9,  -999.00,9,    751,-999.000,  -999.0,  4.7467
     32MW065_1,  PRS2,     2, 16,      1,     33,2,19950829,1955, 22.7522,-157.9978, 4728,   1017.1,   3.9486,  34.4681,2,  34.4683,2,     40.1,1,   -999.0,9,  -999.00,9,  -999.00,9,  -999.00,9,   1017,-999.000,  -999.0,  3.8720
     32MW065_1,  PRS2,     2, 17,     24,     31,2,19950829,2255, 22.7997,-157.9698, 4680,      4.0,  26.0700,  34.9416,2,  34.9400,2,    203.9,1,   -999.0,9,  -999.00,9,  -999.00,9,  -999.00,9,      5,-999.000,  -999.0, 26.0691
     32MW065_1,  PRS2,     2, 17,     23,     30,2,19950829,2255, 22.7997,-157.9698, 4680,     24.5,  25.9369,  34.9365,2,  34.9355,2,    201.4,1,   -999.0,9,  -999.00,9,  -999.00,9,  -999.00,9,     24,-999.000,  -999.0, 25.9314
     32MW065_1,  PRS2,     2, 17,     22,     22,2,19950829,2255, 22.7997,-157.9698, 4680,     49.7,  24.9634,  35.0786,2,  35.0817,2,    203.0,1,   -999.0,9,  -999.00,9,  -999.00,9,  -999.00,9,     50,-999.000,  -999.0, 24.9526
     32MW065_1,  PRS2,     2, 17,     21,     21,2,19950829,2255, 22.7997,-157.9698, 4680,     73.7,  22.8518,  35.0872,2,  35.0864,2,    196.7,1,   -999.0,9,  -999.00,9,  -999.00,9,  -999.00,9,     74,-999.000,  -999.0, 22.8368
     32MW065_1,  PRS2,     2, 17,     20,     20,2,19950829,2255, 22.7997,-157.9698, 4680,    100.3,  21.3451,  35.1715,2,  35.1691,2,    194.2,1,   -999.0,9,  -999.00,9,  -999.00,9,  -999.00,9,    101,-999.000,  -999.0, 21.3257
     32MW065_1,  PRS2,     2, 17,     19,     19,2,19950829,2255, 22.7997,-157.9698, 4680,    109.4,  21.1693,  35.1674,2,  35.1663,2,    195.7,1,   -999.0,9,  -999.00,9,  -999.00,9,  -999.00,9,    110,-999.000,  -999.0, 21.1482
     32MW065_1,  PRS2,     2, 17,     18,     18,2,19950829,2255, 22.7997,-157.9698, 4680,    119.9,  20.7534,  35.1538,2,  35.1546,2,    186.7,1,   -999.0,9,  -999.00,9,  -999.00,9,  -999.00,9,    121,-999.000,  -999.0, 20.7306
     32MW065_1,  PRS2,     2, 17,     17,     17,2,19950829,2255, 22.7997,-157.9698, 4680,    129.6,  20.4492,  35.1477,2,  35.1471,2,    192.4,1,   -999.0,9,  -999.00,9,  -999.00,9,  -999.00,9,    131,-999.000,  -999.0, 20.4248
     32MW065_1,  PRS2,     2, 17,     16,     16,2,19950829,2255, 22.7997,-157.9698, 4680,    139.4,  20.2178,  35.1333,2,  35.1330,2,    193.4,1,   -999.0,9,  -999.00,9,  -999.00,9,  -999.00,9,    140,-999.000,  -999.0, 20.1919
     32MW065_1,  PRS2,     2, 17,     15,     15,2,19950829,2255, 22.7997,-157.9698, 4680,    149.4,  19.4719,  35.0941,2,  35.0944,2,    185.7,1,   -999.0,9,  -999.00,9,  -999.00,9,  -999.00,9,    150,-999.000,  -999.0, 19.4448
     32MW065_1,  PRS2,     2, 17,     14,     14,2,19950829,2255, 22.7997,-157.9698, 4680,    160.4,  18.6704,  35.0203,2,  35.0226,2,    180.3,1,   -999.0,9,  -999.00,9,  -999.00,9,  -999.00,9,    161,-999.000,  -999.0, 18.6422
     32MW065_1,  PRS2,     2, 17,     13,     13,2,19950829,2255, 22.7997,-157.9698, 4680,    170.0,  18.4485,  35.0095,2,  35.0110,2,    188.6,1,   -999.0,9,  -999.00,9,  -999.00,9,  -999.00,9,    171,-999.000,  -999.0, 18.4188
     32MW065_1,  PRS2,     2, 17,     12,     12,2,19950829,2255, 22.7997,-157.9698, 4680,    180.1,  18.0975,  34.9879,2,  34.9888,2,    220.6,1,   -999.0,9,  -999.00,9,  -999.00,9,  -999.00,9,    181,-999.000,  -999.0, 18.0665
     32MW065_1,  PRS2,     2, 17,     11,     11,2,19950829,2255, 22.7997,-157.9698, 4680,    199.7,  17.4385,  34.8738,2,  34.8797,2,    198.2,1,   -999.0,9,  -999.00,9,  -999.00,9,  -999.00,9,    199,-999.000,  -999.0, 17.4050
     32MW065_1,  PRS2,     2, 17,     10,     32,2,19950829,2255, 22.7997,-157.9698, 4680,    249.3,  15.2436,  34.5865,2,  34.5883,2,    189.6,1,   -999.0,9,  -999.00,9,  -999.00,9,  -999.00,9,    250,-999.000,  -999.0, 15.2055
     32MW065_1,  PRS2,     2, 17,      9,      3,2,19950829,2255, 22.7997,-157.9698, 4680,    300.0,  12.5315,  34.3109,2,  34.3149,2,    195.6,1,   -999.0,9,  -999.00,9,  -999.00,9,  -999.00,9,    300,-999.000,  -999.0, 12.4913
     32MW065_1,  PRS2,     2, 17,      8,     29,2,19950829,2255, 22.7997,-157.9698, 4680,    399.1,   8.9581,  34.0847,2,  34.0848,2,    169.2,1,   -999.0,9,  -999.00,9,  -999.00,9,  -999.00,9,    400,-999.000,  -999.0,  8.9149
     32MW065_1,  PRS2,     2, 17,      7,     28,2,19950829,2255, 22.7997,-157.9698, 4680,    520.1,   6.5166,  34.0466,2,  34.0486,2,     84.7,1,   -999.0,9,  -999.00,9,  -999.00,9,  -999.00,9,    520,-999.000,  -999.0,  6.4694
     32MW065_1,  PRS2,     2, 17,      6,      7,2,19950829,2255, 22.7997,-157.9698, 4680,    600.9,   5.7797,  34.1518,2,  34.1491,2,     46.6,1,   -999.0,9,  -999.00,9,  -999.00,9,  -999.00,9,    601,-999.000,  -999.0,  5.7282
     32MW065_1,  PRS2,     2, 17,      5,     23,2,19950829,2255, 22.7997,-157.9698, 4680,    698.9,   5.3451,  34.3024,2,  34.3100,3,     24.6,1,   -999.0,9,  -999.00,9,  -999.00,9,  -999.00,9,    700,-999.000,  -999.0,  5.2868
     32MW065_1,  PRS2,     2, 17,      4,     36,2,19950829,2255, 22.7997,-157.9698, 4680,    749.2,   4.7557,  34.3101,2,  34.3097,2,     21.3,1,   -999.0,9,  -999.00,9,  -999.00,9,  -999.00,9,    749,-999.000,  -999.0,  4.6963
     32MW065_1,  PRS2,     2, 17,      3,     35,2,19950829,2255, 22.7997,-157.9698, 4680,    800.3,   4.6623,  34.3663,2,  34.3651,2,     25.4,1,   -999.0,9,  -999.00,9,  -999.00,9,  -999.00,9,    801,-999.000,  -999.0,  4.5990
     32MW065_1,  PRS2,     2, 17,      2,     34,2,19950829,2255, 22.7997,-157.9698, 4680,    850.9,   4.4798,  34.4048,2,  34.4057,2,     29.7,1,   -999.0,9,  -999.00,9,  -999.00,9,  -999.00,9,    852,-999.000,  -999.0,  4.4134
     32MW065_1,  PRS2,     2, 17,      1,     33,2,19950829,2255, 22.7997,-157.9698, 4680,   1019.5,   3.9179,  34.4745,2,  34.4747,2,     41.3,1,   -999.0,9,  -999.00,9,  -999.00,9,  -999.00,9,   1020,-999.000,  -999.0,  3.8413