BOTTLE,20020809WHPSIObren
EXPOCODE,SECT_ID,STNNBR,CASTNO,SAMPNO,BTLNBR,BTLNBR_FLAG_W,DATE,TIME,LATITUDE,LONGITUDE,DEPTH,CTDPRS,CTDTMP,CTDSAL,CTDSAL_FLAG_W,SALNTY,SALNTY_FLAG_W,CTDOXY,CTDOXY_FLAG_W,OXYGEN,OXYGEN_FLAG_W,SILCAT,SILCAT_FLAG_W,NO2+NO3,NO2+NO3_FLAG_W,PHSPHT,PHSPHT_FLAG_W,CTDRAW,REVTMP,REVPRS,THETA
,,,,,,,,,,,,DBAR,ITS-90,PSS-78,,PSS-78,,UMOL/KG,,UMOL/KG,,UMOL/KG,,UMOL/KG,,UMOL/KG,,,DEG C,DBAR,ITS-90
     32MW065_1,  PRS2,     2, 18,     13,     13,2,19950830,0257, 22.7542,-157.9972, 4730,      4.8,  26.0560,  34.9309,2,  34.9294,2,    203.0,1,   -999.0,9,  -999.00,9,  -999.00,9,  -999.00,9,      5,-999.000,  -999.0, 26.0549
     32MW065_1,  PRS2,     2, 18,     12,     12,2,19950830,0257, 22.7542,-157.9972, 4730,      4.8,  26.0564,  34.9310,2,  34.9287,2,    203.2,1,   -999.0,9,  -999.00,9,  -999.00,9,  -999.00,9,      5,-999.000,  -999.0, 26.0554
     32MW065_1,  PRS2,     2, 18,     11,     11,2,19950830,0257, 22.7542,-157.9972, 4730,     24.7,  26.0253,  34.9282,2,  34.9281,2,    201.7,1,   -999.0,9,  -999.00,9,  -999.00,9,  -999.00,9,     25,-999.000,  -999.0, 26.0198
     32MW065_1,  PRS2,     2, 18,     10,     32,2,19950830,0257, 22.7542,-157.9972, 4730,     24.8,  26.0242,  34.9285,2,  34.9277,2,    201.6,1,   -999.0,9,  -999.00,9,  -999.00,9,  -999.00,9,     25,-999.000,  -999.0, 26.0187
     32MW065_1,  PRS2,     2, 18,      9,      3,2,19950830,0257, 22.7542,-157.9972, 4730,     45.2,  25.9182,  34.9259,2,  34.9271,2,    202.0,1,   -999.0,9,  -999.00,9,  -999.00,9,  -999.00,9,     46,-999.000,  -999.0, 25.9082
     32MW065_1,  PRS2,     2, 18,      8,     29,2,19950830,0257, 22.7542,-157.9972, 4730,     59.5,  23.3964,  35.0672,2,  35.0681,2,    197.4,1,   -999.0,9,  -999.00,9,  -999.00,9,  -999.00,9,     60,-999.000,  -999.0, 23.3841
     32MW065_1,  PRS2,     2, 18,      7,     28,2,19950830,0257, 22.7542,-157.9972, 4730,     74.5,  22.6984,  35.0848,2,  35.0816,2,    202.1,1,   -999.0,9,  -999.00,9,  -999.00,9,  -999.00,9,     75,-999.000,  -999.0, 22.6833
     32MW065_1,  PRS2,     2, 18,      6,      7,2,19950830,0257, 22.7542,-157.9972, 4730,     89.9,  21.5071,  35.1636,2,  35.1628,2,    185.8,1,   -999.0,9,  -999.00,9,  -999.00,9,  -999.00,9,     90,-999.000,  -999.0, 21.4896
     32MW065_1,  PRS2,     2, 18,      5,     23,2,19950830,0257, 22.7542,-157.9972, 4730,    100.5,  21.1459,  35.1676,2,  35.1689,2,    199.7,1,   -999.0,9,  -999.00,9,  -999.00,9,  -999.00,9,    100,-999.000,  -999.0, 21.1266
     32MW065_1,  PRS2,     2, 18,      4,     36,2,19950830,0257, 22.7542,-157.9972, 4730,    124.2,  20.0901,  35.1311,2,  35.1318,2,    185.2,1,   -999.0,9,  -999.00,9,  -999.00,9,  -999.00,9,    125,-999.000,  -999.0, 20.0671
     32MW065_1,  PRS2,     2, 18,      3,     35,2,19950830,0257, 22.7542,-157.9972, 4730,    501.8,   7.3317,  34.0412,2,  34.0420,2,    127.5,1,   -999.0,9,  -999.00,9,  -999.00,9,  -999.00,9,    502,-999.000,  -999.0,  7.2831
     32MW065_1,  PRS2,     2, 18,      2,     34,2,19950830,0257, 22.7542,-157.9972, 4730,    828.4,   4.5614,  34.3964,2,  34.3964,2,     24.1,1,   -999.0,9,  -999.00,9,  -999.00,9,  -999.00,9,    829,-999.000,  -999.0,  4.4963
     32MW065_1,  PRS2,     2, 18,      1,     33,2,19950830,0257, 22.7542,-157.9972, 4730,   1021.0,   3.8702,  34.4794,2,  34.4286,4,     38.3,1,   -999.0,9,  -999.00,9,  -999.00,9,  -999.00,9,   1021,-999.000,  -999.0,  3.7938
     32MW065_1,  PRS2,     2, 19,     21,     21,2,19950830,0555, 22.7917,-158.0110, 4720,      4.6,  25.9758,  34.9341,2,  34.9320,2,    200.9,2,    204.5,2,  -999.00,9,  -999.00,9,  -999.00,9,      5,-999.000,  -999.0, 25.9747
     32MW065_1,  PRS2,     2, 19,     16,     16,2,19950830,0555, 22.7917,-158.0110, 4720,     24.0,  25.9769,  34.9329,2,-999.0000,5,    201.0,2,   -999.0,5,  -999.00,9,  -999.00,9,  -999.00,9,     25,-999.000,  -999.0, 25.9715
     32MW065_1,  PRS2,     2, 19,     14,     14,2,19950830,0555, 22.7917,-158.0110, 4720,     24.0,  25.9782,  34.9324,2,-999.0000,5,    201.0,2,   -999.0,5,  -999.00,9,  -999.00,9,  -999.00,9,     25,-999.000,  -999.0, 25.9728
     32MW065_1,  PRS2,     2, 19,     13,     13,2,19950830,0555, 22.7917,-158.0110, 4720,     24.0,  25.9763,  34.9322,2,  34.9299,2,    201.0,2,    204.7,2,  -999.00,9,  -999.00,9,  -999.00,9,     25,-999.000,  -999.0, 25.9710
     32MW065_1,  PRS2,     2, 19,     20,     20,2,19950830,0555, 22.7917,-158.0110, 4720,     24.1,  25.9797,  34.9332,2,-999.0000,5,    200.9,2,   -999.0,5,  -999.00,9,  -999.00,9,  -999.00,9,     24,-999.000,  -999.0, 25.9743
     32MW065_1,  PRS2,     2, 19,     19,     19,2,19950830,0555, 22.7917,-158.0110, 4720,     24.1,  25.9790,  34.9332,2,-999.0000,5,    200.9,2,   -999.0,5,  -999.00,9,  -999.00,9,  -999.00,9,     24,-999.000,  -999.0, 25.9736
     32MW065_1,  PRS2,     2, 19,     18,     18,2,19950830,0555, 22.7917,-158.0110, 4720,     24.1,  25.9790,  34.9329,2,-999.0000,5,    200.9,2,   -999.0,5,  -999.00,9,  -999.00,9,  -999.00,9,     25,-999.000,  -999.0, 25.9737
     32MW065_1,  PRS2,     2, 19,     17,     17,2,19950830,0555, 22.7917,-158.0110, 4720,     24.1,  25.9770,  34.9331,2,-999.0000,5,    201.0,2,   -999.0,5,  -999.00,9,  -999.00,9,  -999.00,9,     25,-999.000,  -999.0, 25.9716
     32MW065_1,  PRS2,     2, 19,     15,     15,2,19950830,0555, 22.7917,-158.0110, 4720,     24.1,  25.9773,  34.9326,2,-999.0000,5,    201.0,2,   -999.0,5,  -999.00,9,  -999.00,9,  -999.00,9,     25,-999.000,  -999.0, 25.9719
     32MW065_1,  PRS2,     2, 19,     12,     12,2,19950830,0555, 22.7917,-158.0110, 4720,     44.6,  25.9643,  34.9319,2,  34.9310,2,    200.9,2,   -999.0,5,  -999.00,9,  -999.00,9,  -999.00,9,     44,-999.000,  -999.0, 25.9544
     32MW065_1,  PRS2,     2, 19,     11,     11,2,19950830,0555, 22.7917,-158.0110, 4720,     60.2,  25.9174,  34.9326,2,  34.9348,2,    201.1,2,    207.7,2,  -999.00,9,  -999.00,9,  -999.00,9,     60,-999.000,  -999.0, 25.9041
     32MW065_1,  PRS2,     2, 19,     10,     32,2,19950830,0555, 22.7917,-158.0110, 4720,     74.8,  23.8911,  35.1191,2,  35.1185,2,    202.5,2,    222.4,2,  -999.00,9,  -999.00,9,  -999.00,9,     75,-999.000,  -999.0, 23.8754
     32MW065_1,  PRS2,     2, 19,      9,      3,2,19950830,0555, 22.7917,-158.0110, 4720,     90.1,  22.1168,  35.1499,2,  35.1420,2,    204.7,2,   -999.0,5,  -999.00,9,  -999.00,9,  -999.00,9,     91,-999.000,  -999.0, 22.0989
     32MW065_1,  PRS2,     2, 19,      8,     29,2,19950830,0555, 22.7917,-158.0110, 4720,    100.6,  21.4703,  35.1579,2,  35.1575,2,    192.0,2,   -999.0,5,  -999.00,9,  -999.00,9,  -999.00,9,    101,-999.000,  -999.0, 21.4507
     32MW065_1,  PRS2,     2, 19,      6,      7,2,19950830,0555, 22.7917,-158.0110, 4720,    109.7,  21.2593,  35.1625,2,  35.1580,2,    203.9,2,   -999.0,5,  -999.00,9,  -999.00,9,  -999.00,9,    111,-999.000,  -999.0, 21.2381
     32MW065_1,  PRS2,     2, 19,      5,     23,2,19950830,0555, 22.7917,-158.0110, 4720,    109.8,  21.2782,  35.1621,2,-999.0000,5,    204.7,2,   -999.0,5,  -999.00,9,  -999.00,9,  -999.00,9,    110,-999.000,  -999.0, 21.2570
     32MW065_1,  PRS2,     2, 19,      7,     28,2,19950830,0555, 22.7917,-158.0110, 4720,    110.0,  21.2715,  35.1624,2,-999.0000,5,    202.0,2,   -999.0,5,  -999.00,9,  -999.00,9,  -999.00,9,    110,-999.000,  -999.0, 21.2502
     32MW065_1,  PRS2,     2, 19,      4,     36,2,19950830,0555, 22.7917,-158.0110, 4720,    112.7,  21.0975,  35.1648,2,-999.0000,5,    205.1,2,   -999.0,5,  -999.00,9,  -999.00,9,  -999.00,9,    114,-999.000,  -999.0, 21.0759
     32MW065_1,  PRS2,     2, 19,      3,     35,2,19950830,0555, 22.7917,-158.0110, 4720,    500.5,   7.2460,  34.0416,2,  34.0399,2,    117.4,2,   -999.0,5,  -999.00,9,  -999.00,9,  -999.00,9,    501,-999.000,  -999.0,  7.1979
     32MW065_1,  PRS2,     2, 19,      2,     34,2,19950830,0555, 22.7917,-158.0110, 4720,    829.1,   4.5653,  34.3784,2,  34.3766,2,     25.4,2,     31.4,2,  -999.00,9,  -999.00,9,  -999.00,9,    830,-999.000,  -999.0,  4.5001
     32MW065_1,  PRS2,     2, 19,      1,     33,2,19950830,0555, 22.7917,-158.0110, 4720,   1023.3,   3.9118,  34.4710,2,  34.4716,2,     40.9,2,     42.6,2,  -999.00,9,  -999.00,9,  -999.00,9,   1024,-999.000,  -999.0,  3.8349
     32MW065_1,  PRS2,     6,  1,     11,     11,2,19950827,0613, 21.8472,-158.3625, 2435,      5.2,  25.9477,  34.8925,2,  34.8886,2,    205.0,2,    204.2,2,  -999.00,9,  -999.00,9,  -999.00,9,      5,-999.000,  -999.0, 25.9466
     32MW065_1,  PRS2,     6,  1,     10,     32,2,19950827,0613, 21.8472,-158.3625, 2435,     23.6,  25.9626,  34.8913,2,  34.8885,2,    205.0,2,   -999.0,5,  -999.00,9,  -999.00,9,  -999.00,9,     25,-999.000,  -999.0, 25.9573
     32MW065_1,  PRS2,     6,  1,      9,      3,2,19950827,0613, 21.8472,-158.3625, 2435,     45.2,  25.9623,  34.8911,2,  34.8898,2,    205.0,2,   -999.0,5,  -999.00,9,  -999.00,9,  -999.00,9,     45,-999.000,  -999.0, 25.9523
     32MW065_1,  PRS2,     6,  1,      8,     29,2,19950827,0613, 21.8472,-158.3625, 2435,     74.5,  23.2070,  35.0878,2,  35.0873,2,    196.8,2,   -999.0,5,  -999.00,9,  -999.00,9,  -999.00,9,     75,-999.000,  -999.0, 23.1917
     32MW065_1,  PRS2,     6,  1,      7,     28,2,19950827,0613, 21.8472,-158.3625, 2435,     98.6,  21.7447,  35.1665,2,  35.1655,2,    206.8,2,   -999.0,5,  -999.00,9,  -999.00,9,  -999.00,9,     98,-999.000,  -999.0, 21.7253
     32MW065_1,  PRS2,     6,  1,      6,      7,2,19950827,0613, 21.8472,-158.3625, 2435,    124.2,  20.6116,  35.1545,2,  35.1546,2,    193.7,2,   -999.0,5,  -999.00,9,  -999.00,9,  -999.00,9,    124,-999.000,  -999.0, 20.5882
     32MW065_1,  PRS2,     6,  1,      5,     23,2,19950827,0613, 21.8472,-158.3625, 2435,    150.9,  19.2697,  35.0479,2,  35.0500,2,    198.9,2,   -999.0,5,  -999.00,9,  -999.00,9,  -999.00,9,    151,-999.000,  -999.0, 19.2426
     32MW065_1,  PRS2,     6,  1,      4,     36,2,19950827,0613, 21.8472,-158.3625, 2435,    177.7,  18.2070,  34.9410,2,  34.9408,2,    186.9,2,   -999.0,5,  -999.00,9,  -999.00,9,  -999.00,9,    177,-999.000,  -999.0, 18.1762
     32MW065_1,  PRS2,     6,  1,      3,     35,2,19950827,0613, 21.8472,-158.3625, 2435,    474.6,   7.7289,  34.0540,2,  34.0516,2,    139.7,2,    140.4,2,  -999.00,9,  -999.00,9,  -999.00,9,    475,-999.000,  -999.0,  7.6817
     32MW065_1,  PRS2,     6,  1,      2,     34,2,19950827,0613, 21.8472,-158.3625, 2435,    752.4,   4.9994,  34.3781,2,  34.3731,2,     28.1,2,     31.9,2,  -999.00,9,  -999.00,9,  -999.00,9,    753,-999.000,  -999.0,  4.9382
     32MW065_1,  PRS2,     6,  1,      1,     33,2,19950827,0613, 21.8472,-158.3625, 2435,   2495.0,   1.7489,  34.6486,2,  34.6486,2,    107.9,2,    110.1,2,  -999.00,9,  -999.00,9,  -999.00,9,   2495,-999.000,  -999.0,  1.5738