BOTTLE,20020809WHPSIObren
EXPOCODE,SECT_ID,STNNBR,CASTNO,SAMPNO,BTLNBR,BTLNBR_FLAG_W,DATE,TIME,LATITUDE,LONGITUDE,DEPTH,CTDPRS,CTDTMP,CTDSAL,CTDSAL_FLAG_W,SALNTY,SALNTY_FLAG_W,CTDOXY,CTDOXY_FLAG_W,OXYGEN,OXYGEN_FLAG_W,SILCAT,SILCAT_FLAG_W,NO2+NO3,NO2+NO3_FLAG_W,PHSPHT,PHSPHT_FLAG_W,CTDRAW,REVTMP,REVPRS,THETA
,,,,,,,,,,,,DBAR,ITS-90,PSS-78,,PSS-78,,UMOL/KG,,UMOL/KG,,UMOL/KG,,UMOL/KG,,UMOL/KG,,,DEG C,DBAR,ITS-90
     32MW065_1,  PRS2,     2, 10,     24,     31,2,19950829,0027, 22.7965,-157.9897, 4710,      4.6,  26.0122,  34.9378,2,  34.9366,2,    204.0,1,   -999.0,9,  -999.00,9,  -999.00,9,  -999.00,9,      4,-999.000,  -999.0, 26.0112
     32MW065_1,  PRS2,     2, 10,     23,     30,2,19950829,0027, 22.7965,-157.9897, 4710,     24.2,  25.8940,  34.9337,2,  34.9344,2,    202.8,1,   -999.0,9,  -999.00,9,  -999.00,9,  -999.00,9,     25,-999.000,  -999.0, 25.8886
     32MW065_1,  PRS2,     2, 10,     22,     22,4,19950829,0027, 22.7965,-157.9897, 4710,     50.0,  23.6741,  35.1085,2,-999.0000,5,    214.1,1,   -999.0,9,  -999.00,9,  -999.00,9,  -999.00,9,     50,-999.000,  -999.0, 23.6637
     32MW065_1,  PRS2,     2, 10,     21,     21,2,19950829,0027, 22.7965,-157.9897, 4710,     74.0,  21.5891,  35.1438,2,  35.1438,2,    169.3,1,   -999.0,9,  -999.00,9,  -999.00,9,  -999.00,9,     74,-999.000,  -999.0, 21.5747
     32MW065_1,  PRS2,     2, 10,     20,     20,2,19950829,0027, 22.7965,-157.9897, 4710,     99.5,  20.7416,  35.1657,2,  35.1666,2,    194.9,1,   -999.0,9,  -999.00,9,  -999.00,9,  -999.00,9,    101,-999.000,  -999.0, 20.7228
     32MW065_1,  PRS2,     2, 10,     19,     19,2,19950829,0027, 22.7965,-157.9897, 4710,    109.5,  20.6707,  35.1615,2,  35.1609,2,    200.7,1,   -999.0,9,  -999.00,9,  -999.00,9,  -999.00,9,    110,-999.000,  -999.0, 20.6500
     32MW065_1,  PRS2,     2, 10,     18,     18,2,19950829,0027, 22.7965,-157.9897, 4710,    118.7,  20.4537,  35.1485,2,  35.1498,2,    197.7,1,   -999.0,9,  -999.00,9,  -999.00,9,  -999.00,9,    120,-999.000,  -999.0, 20.4314
     32MW065_1,  PRS2,     2, 10,     17,     17,2,19950829,0027, 22.7965,-157.9897, 4710,    129.3,  20.1658,  35.1364,2,  35.1374,2,    186.8,1,   -999.0,9,  -999.00,9,  -999.00,9,  -999.00,9,    130,-999.000,  -999.0, 20.1418
     32MW065_1,  PRS2,     2, 10,     16,     16,2,19950829,0027, 22.7965,-157.9897, 4710,    139.4,  19.6696,  35.0975,2,  35.0966,2,    177.9,1,   -999.0,9,  -999.00,9,  -999.00,9,  -999.00,9,    140,-999.000,  -999.0, 19.6442
     32MW065_1,  PRS2,     2, 10,     15,     15,2,19950829,0027, 22.7965,-157.9897, 4710,    149.3,  19.2862,  35.0740,2,  35.0761,2,    179.6,1,   -999.0,9,  -999.00,9,  -999.00,9,  -999.00,9,    150,-999.000,  -999.0, 19.2593
     32MW065_1,  PRS2,     2, 10,     14,     14,2,19950829,0027, 22.7965,-157.9897, 4710,    159.7,  18.9959,  35.0453,2,  35.0486,2,    183.0,1,   -999.0,9,  -999.00,9,  -999.00,9,  -999.00,9,    160,-999.000,  -999.0, 18.9674
     32MW065_1,  PRS2,     2, 10,     13,     13,2,19950829,0027, 22.7965,-157.9897, 4710,    169.1,  18.8135,  35.0299,2,  35.0344,2,    193.4,1,   -999.0,9,  -999.00,9,  -999.00,9,  -999.00,9,    170,-999.000,  -999.0, 18.7836
     32MW065_1,  PRS2,     2, 10,     12,     12,2,19950829,0027, 22.7965,-157.9897, 4710,    180.2,  18.5549,  35.0061,2,  35.0092,2,    196.5,1,   -999.0,9,  -999.00,9,  -999.00,9,  -999.00,9,    180,-999.000,  -999.0, 18.5233
     32MW065_1,  PRS2,     2, 10,     11,     11,2,19950829,0027, 22.7965,-157.9897, 4710,    198.9,  17.5910,  34.8828,2,  34.8875,2,    187.2,1,   -999.0,9,  -999.00,9,  -999.00,9,  -999.00,9,    199,-999.000,  -999.0, 17.5574
     32MW065_1,  PRS2,     2, 10,     10,     32,2,19950829,0027, 22.7965,-157.9897, 4710,    249.9,  14.8470,  34.5334,2,  34.5370,2,    179.4,1,   -999.0,9,  -999.00,9,  -999.00,9,  -999.00,9,    250,-999.000,  -999.0, 14.8095
     32MW065_1,  PRS2,     2, 10,      9,      3,2,19950829,0027, 22.7965,-157.9897, 4710,    299.8,  12.6225,  34.3059,2,  34.3093,2,    197.9,1,   -999.0,9,  -999.00,9,  -999.00,9,  -999.00,9,    300,-999.000,  -999.0, 12.5822
     32MW065_1,  PRS2,     2, 10,      8,     29,2,19950829,0027, 22.7965,-157.9897, 4710,    399.2,   8.8681,  34.0791,2,  34.0792,2,    171.8,1,   -999.0,9,  -999.00,9,  -999.00,9,  -999.00,9,    400,-999.000,  -999.0,  8.8251
     32MW065_1,  PRS2,     2, 10,      7,     28,2,19950829,0027, 22.7965,-157.9897, 4710,    498.9,   6.9163,  34.0448,2,  34.0450,2,    107.1,1,   -999.0,9,  -999.00,9,  -999.00,9,  -999.00,9,    500,-999.000,  -999.0,  6.8696
     32MW065_1,  PRS2,     2, 10,      6,      7,2,19950829,0027, 22.7965,-157.9897, 4710,    599.8,   5.6593,  34.1254,2,  34.1293,2,     53.9,1,   -999.0,9,  -999.00,9,  -999.00,9,  -999.00,9,    600,-999.000,  -999.0,  5.6084
     32MW065_1,  PRS2,     2, 10,      5,     23,2,19950829,0027, 22.7965,-157.9897, 4710,    649.5,   5.2554,  34.2108,2,  34.2134,2,     30.1,1,   -999.0,9,  -999.00,9,  -999.00,9,  -999.00,9,    650,-999.000,  -999.0,  5.2020
     32MW065_1,  PRS2,     2, 10,      4,     36,2,19950829,0027, 22.7965,-157.9897, 4710,    699.7,   5.2660,  34.3056,2,  34.3073,2,     31.2,1,   -999.0,9,  -999.00,9,  -999.00,9,  -999.00,9,    700,-999.000,  -999.0,  5.2080
     32MW065_1,  PRS2,     2, 10,      3,     35,2,19950829,0027, 22.7965,-157.9897, 4710,    760.2,   4.6551,  34.3303,2,  34.3296,2,     26.4,1,   -999.0,9,  -999.00,9,  -999.00,9,  -999.00,9,    760,-999.000,  -999.0,  4.5953
     32MW065_1,  PRS2,     2, 10,      2,     34,2,19950829,0027, 22.7965,-157.9897, 4710,    799.9,   4.5708,  34.3737,2,  34.3729,2,     29.4,1,   -999.0,9,  -999.00,9,  -999.00,9,  -999.00,9,    800,-999.000,  -999.0,  4.5081
     32MW065_1,  PRS2,     2, 10,      1,     33,2,19950829,0027, 22.7965,-157.9897, 4710,   1020.7,   3.8994,  34.4690,2,  34.4710,2,     43.0,1,   -999.0,9,  -999.00,9,  -999.00,9,  -999.00,9,   1020,-999.000,  -999.0,  3.8229
     32MW065_1,  PRS2,     2, 11,     24,     31,2,19950829,0327, 22.8223,-158.0115, 4700,      4.5,  25.9572,  34.9385,2,  34.9377,2,    204.2,1,   -999.0,9,  -999.00,9,  -999.00,9,  -999.00,9,      5,-999.000,  -999.0, 25.9562
     32MW065_1,  PRS2,     2, 11,     23,     30,2,19950829,0327, 22.8223,-158.0115, 4700,     24.4,  25.9249,  34.9360,2,  34.9359,2,    203.9,1,   -999.0,9,  -999.00,9,  -999.00,9,  -999.00,9,     24,-999.000,  -999.0, 25.9195
     32MW065_1,  PRS2,     2, 11,     22,     22,2,19950829,0327, 22.8223,-158.0115, 4700,     44.6,  25.6384,  35.1205,2,  35.1413,4,    203.9,1,   -999.0,9,  -999.00,9,  -999.00,9,  -999.00,9,     45,-999.000,  -999.0, 25.6285
     32MW065_1,  PRS2,     2, 11,     21,     21,2,19950829,0327, 22.8223,-158.0115, 4700,     59.2,  24.0978,  35.1521,2,  35.1539,2,    208.0,1,   -999.0,9,  -999.00,9,  -999.00,9,  -999.00,9,     60,-999.000,  -999.0, 24.0853
     32MW065_1,  PRS2,     2, 11,     20,     20,2,19950829,0327, 22.8223,-158.0115, 4700,     74.1,  22.8628,  35.1535,2,  35.1566,2,    215.7,1,   -999.0,9,  -999.00,9,  -999.00,9,  -999.00,9,     75,-999.000,  -999.0, 22.8477
     32MW065_1,  PRS2,     2, 11,     19,     19,2,19950829,0327, 22.8223,-158.0115, 4700,     89.6,  21.5838,  35.1563,2,  35.1558,2,    187.7,1,   -999.0,9,  -999.00,9,  -999.00,9,  -999.00,9,     90,-999.000,  -999.0, 21.5663
     32MW065_1,  PRS2,     2, 11,     18,     18,2,19950829,0327, 22.8223,-158.0115, 4700,     99.6,  21.0672,  35.1640,2,  35.1644,2,    209.0,1,   -999.0,9,  -999.00,9,  -999.00,9,  -999.00,9,    100,-999.000,  -999.0, 21.0481
     32MW065_1,  PRS2,     2, 11,     17,     17,2,19950829,0327, 22.8223,-158.0115, 4700,    109.4,  20.6446,  35.1605,2,  35.1625,2,    195.0,1,   -999.0,9,  -999.00,9,  -999.00,9,  -999.00,9,    110,-999.000,  -999.0, 20.6239
     32MW065_1,  PRS2,     2, 11,     16,     16,2,19950829,0327, 22.8223,-158.0115, 4700,    119.5,  20.3277,  35.1493,2,  35.1441,2,    197.2,1,   -999.0,9,  -999.00,9,  -999.00,9,  -999.00,9,    120,-999.000,  -999.0, 20.3053
     32MW065_1,  PRS2,     2, 11,     15,     15,2,19950829,0327, 22.8223,-158.0115, 4700,    128.9,  20.1678,  35.1416,2,  35.1414,2,    193.3,1,   -999.0,9,  -999.00,9,  -999.00,9,  -999.00,9,    129,-999.000,  -999.0, 20.1439
     32MW065_1,  PRS2,     2, 11,     14,     14,2,19950829,0327, 22.8223,-158.0115, 4700,    138.9,  19.9844,  35.1251,2,  35.1253,2,    184.7,1,   -999.0,9,  -999.00,9,  -999.00,9,  -999.00,9,    139,-999.000,  -999.0, 19.9587
     32MW065_1,  PRS2,     2, 11,     13,     13,2,19950829,0327, 22.8223,-158.0115, 4700,    149.3,  19.7447,  35.1066,2,  35.1082,2,    182.3,1,   -999.0,9,  -999.00,9,  -999.00,9,  -999.00,9,    150,-999.000,  -999.0, 19.7174
     32MW065_1,  PRS2,     2, 11,     12,     12,2,19950829,0327, 22.8223,-158.0115, 4700,    158.6,  19.3966,  35.0768,2,  35.0870,2,    188.2,1,   -999.0,9,  -999.00,9,  -999.00,9,  -999.00,9,    159,-999.000,  -999.0, 19.3679
     32MW065_1,  PRS2,     2, 11,     11,     11,2,19950829,0327, 22.8223,-158.0115, 4700,    169.2,  19.0289,  35.0450,2,  35.0479,2,    206.1,1,   -999.0,9,  -999.00,9,  -999.00,9,  -999.00,9,    169,-999.000,  -999.0, 18.9987
     32MW065_1,  PRS2,     2, 11,     10,     32,2,19950829,0327, 22.8223,-158.0115, 4700,    180.0,  18.6836,  35.0296,2,  35.0326,2,    195.9,1,   -999.0,9,  -999.00,9,  -999.00,9,  -999.00,9,    181,-999.000,  -999.0, 18.6519
     32MW065_1,  PRS2,     2, 11,      9,      3,2,19950829,0327, 22.8223,-158.0115, 4700,    202.2,  17.7987,  34.9185,2,  34.9320,2,    198.9,1,   -999.0,9,  -999.00,9,  -999.00,9,  -999.00,9,    202,-999.000,  -999.0, 17.7642
     32MW065_1,  PRS2,     2, 11,      8,     29,2,19950829,0327, 22.8223,-158.0115, 4700,    301.5,  12.9888,  34.3539,2,  34.3569,2,    205.7,1,   -999.0,9,  -999.00,9,  -999.00,9,  -999.00,9,    302,-999.000,  -999.0, 12.9474
     32MW065_1,  PRS2,     2, 11,      7,     28,2,19950829,0327, 22.8223,-158.0115, 4700,    400.7,   9.4478,  34.1031,2,  34.1478,4,    171.8,1,   -999.0,9,  -999.00,9,  -999.00,9,  -999.00,9,    401,-999.000,  -999.0,  9.4029
     32MW065_1,  PRS2,     2, 11,      6,      7,2,19950829,0327, 22.8223,-158.0115, 4700,    499.0,   7.1952,  34.0430,2,  34.0451,2,    127.4,1,   -999.0,9,  -999.00,9,  -999.00,9,  -999.00,9,    500,-999.000,  -999.0,  7.1475
     32MW065_1,  PRS2,     2, 11,      5,     23,2,19950829,0327, 22.8223,-158.0115, 4700,    599.8,   5.8921,  34.1284,2,  34.1382,4,     49.4,1,   -999.0,9,  -999.00,9,  -999.00,9,  -999.00,9,    601,-999.000,  -999.0,  5.8401
     32MW065_1,  PRS2,     2, 11,      4,     36,2,19950829,0327, 22.8223,-158.0115, 4700,    697.3,   5.2868,  34.3115,2,  34.3120,2,     29.3,1,   -999.0,9,  -999.00,9,  -999.00,9,  -999.00,9,    697,-999.000,  -999.0,  5.2289
     32MW065_1,  PRS2,     2, 11,      3,     35,2,19950829,0327, 22.8223,-158.0115, 4700,    750.1,   4.7087,  34.3118,2,  34.3113,2,     25.3,1,   -999.0,9,  -999.00,9,  -999.00,9,  -999.00,9,    751,-999.000,  -999.0,  4.6495
     32MW065_1,  PRS2,     2, 11,      2,     34,2,19950829,0327, 22.8223,-158.0115, 4700,    800.0,   4.5769,  34.3595,2,  34.3604,2,     30.4,1,   -999.0,9,  -999.00,9,  -999.00,9,  -999.00,9,    800,-999.000,  -999.0,  4.5142
     32MW065_1,  PRS2,     2, 11,      1,     33,2,19950829,0327, 22.8223,-158.0115, 4700,   1019.8,   3.9397,  34.4663,2,  34.4686,2,     40.9,1,   -999.0,9,  -999.00,9,  -999.00,9,  -999.00,9,   1021,-999.000,  -999.0,  3.8630
     32MW065_1,  PRS2,     2, 12,     13,     13,2,19950829,0627, 22.7568,-157.9958, 4725,      5.1,  25.9512,  34.9363,2,  34.9358,2,    203.7,1,   -999.0,9,  -999.00,9,  -999.00,9,  -999.00,9,      6,-999.000,  -999.0, 25.9501
     32MW065_1,  PRS2,     2, 12,     12,     12,2,19950829,0627, 22.7568,-157.9958, 4725,      5.1,  25.9503,  34.9371,2,  34.9350,2,    204.2,1,   -999.0,9,  -999.00,9,  -999.00,9,  -999.00,9,      5,-999.000,  -999.0, 25.9492
     32MW065_1,  PRS2,     2, 12,     10,     32,2,19950829,0627, 22.7568,-157.9958, 4725,     26.2,  25.9514,  34.9335,2,  34.9329,2,    204.2,1,   -999.0,9,  -999.00,9,  -999.00,9,  -999.00,9,     26,-999.000,  -999.0, 25.9455
     32MW065_1,  PRS2,     2, 12,     11,     11,2,19950829,0627, 22.7568,-157.9958, 4725,     26.3,  25.9521,  34.9336,2,  34.9361,2,    204.2,1,   -999.0,9,  -999.00,9,  -999.00,9,  -999.00,9,     26,-999.000,  -999.0, 25.9462
     32MW065_1,  PRS2,     2, 12,      9,      3,2,19950829,0627, 22.7568,-157.9958, 4725,     44.8,  25.9180,  34.9293,2,  34.9294,2,    203.7,1,   -999.0,9,  -999.00,9,  -999.00,9,  -999.00,9,     45,-999.000,  -999.0, 25.9080
     32MW065_1,  PRS2,     2, 12,      8,     29,2,19950829,0627, 22.7568,-157.9958, 4725,     59.1,  24.9094,  35.0702,2,  35.0733,2,    210.4,1,   -999.0,9,  -999.00,9,  -999.00,9,  -999.00,9,     59,-999.000,  -999.0, 24.8966
     32MW065_1,  PRS2,     2, 12,      7,     28,2,19950829,0627, 22.7568,-157.9958, 4725,     74.2,  22.8405,  35.1140,2,  35.1135,2,    205.0,1,   -999.0,9,  -999.00,9,  -999.00,9,  -999.00,9,     74,-999.000,  -999.0, 22.8255
     32MW065_1,  PRS2,     2, 12,      6,      7,2,19950829,0627, 22.7568,-157.9958, 4725,     89.6,  22.2144,  35.1254,2,  35.1268,2,    203.0,1,   -999.0,9,  -999.00,9,  -999.00,9,  -999.00,9,     90,-999.000,  -999.0, 22.1965
     32MW065_1,  PRS2,     2, 12,      5,     23,2,19950829,0627, 22.7568,-157.9958, 4725,     99.4,  21.9225,  35.1392,2,  35.1354,2,    204.0,1,   -999.0,9,  -999.00,9,  -999.00,9,  -999.00,9,     99,-999.000,  -999.0, 21.9029
     32MW065_1,  PRS2,     2, 12,      4,     36,2,19950829,0627, 22.7568,-157.9958, 4725,    121.2,  20.9340,  35.1677,2,  35.1709,2,    184.6,1,   -999.0,9,  -999.00,9,  -999.00,9,  -999.00,9,    121,-999.000,  -999.0, 20.9109
     32MW065_1,  PRS2,     2, 12,      3,     35,2,19950829,0627, 22.7568,-157.9958, 4725,    505.1,   7.1928,  34.0420,2,  34.0419,2,    119.2,1,   -999.0,9,  -999.00,9,  -999.00,9,  -999.00,9,    505,-999.000,  -999.0,  7.1445
     32MW065_1,  PRS2,     2, 12,      2,     34,2,19950829,0627, 22.7568,-157.9958, 4725,    827.4,   4.5885,  34.3693,2,  34.3710,2,     30.0,1,   -999.0,9,  -999.00,9,  -999.00,9,  -999.00,9,    828,-999.000,  -999.0,  4.5234
     32MW065_1,  PRS2,     2, 12,      1,     33,2,19950829,0627, 22.7568,-157.9958, 4725,   1019.6,   3.9543,  34.4772,2,  34.4800,2,     43.7,1,   -999.0,9,  -999.00,9,  -999.00,9,  -999.00,9,   1020,-999.000,  -999.0,  3.8775
     32MW065_1,  PRS2,     2, 13,     13,     13,2,19950829,0925, 22.7712,-157.9982, 4725,      4.7,  25.9266,  34.9374,2,  34.9356,2,    203.6,1,   -999.0,9,  -999.00,9,  -999.00,9,  -999.00,9,      5,-999.000,  -999.0, 25.9255
     32MW065_1,  PRS2,     2, 13,     12,     12,2,19950829,0925, 22.7712,-157.9982, 4725,     24.8,  25.9411,  34.9358,2,  34.9350,2,    203.6,1,   -999.0,9,  -999.00,9,  -999.00,9,  -999.00,9,     25,-999.000,  -999.0, 25.9356
     32MW065_1,  PRS2,     2, 13,     11,     11,2,19950829,0925, 22.7712,-157.9982, 4725,     44.1,  25.9400,  34.9358,2,  34.9359,2,    203.7,1,   -999.0,9,  -999.00,9,  -999.00,9,  -999.00,9,     44,-999.000,  -999.0, 25.9302
     32MW065_1,  PRS2,     2, 13,     10,     32,2,19950829,0925, 22.7712,-157.9982, 4725,     59.2,  24.1328,  35.0868,2,  35.0822,2,    201.6,1,   -999.0,9,  -999.00,9,  -999.00,9,  -999.00,9,     59,-999.000,  -999.0, 24.1203
     32MW065_1,  PRS2,     2, 13,      9,      3,2,19950829,0925, 22.7712,-157.9982, 4725,     74.4,  22.0111,  35.1430,2,  35.1441,2,    200.8,1,   -999.0,9,  -999.00,9,  -999.00,9,  -999.00,9,     75,-999.000,  -999.0, 21.9964
     32MW065_1,  PRS2,     2, 13,      8,     29,2,19950829,0925, 22.7712,-157.9982, 4725,     88.8,  21.6244,  35.1517,2,  35.1499,2,    201.5,1,   -999.0,9,  -999.00,9,  -999.00,9,  -999.00,9,     89,-999.000,  -999.0, 21.6071
     32MW065_1,  PRS2,     2, 13,      7,     28,2,19950829,0925, 22.7712,-157.9982, 4725,     99.3,  21.2123,  35.1687,2,  35.1688,2,    203.9,1,   -999.0,9,  -999.00,9,  -999.00,9,  -999.00,9,    100,-999.000,  -999.0, 21.1931
     32MW065_1,  PRS2,     2, 13,      6,      7,2,19950829,0925, 22.7712,-157.9982, 4725,    119.2,  20.3664,  35.1487,2,  35.1497,2,    205.6,1,   -999.0,9,  -999.00,9,  -999.00,9,  -999.00,9,    119,-999.000,  -999.0, 20.3441
     32MW065_1,  PRS2,     2, 13,      5,     23,2,19950829,0925, 22.7712,-157.9982, 4725,    150.2,  19.0218,  35.0474,2,  35.0499,2,    182.7,1,   -999.0,9,  -999.00,9,  -999.00,9,  -999.00,9,    151,-999.000,  -999.0, 18.9950
     32MW065_1,  PRS2,     2, 13,      4,     36,2,19950829,0925, 22.7712,-157.9982, 4725,    175.7,  18.3498,  34.9752,2,  34.9810,2,    192.5,1,   -999.0,9,  -999.00,9,  -999.00,9,  -999.00,9,    175,-999.000,  -999.0, 18.3193
     32MW065_1,  PRS2,     2, 13,      3,     35,2,19950829,0925, 22.7712,-157.9982, 4725,    498.8,   6.7658,  34.0410,2,  34.0415,2,     97.3,1,   -999.0,9,  -999.00,9,  -999.00,9,  -999.00,9,    498,-999.000,  -999.0,  6.7196
     32MW065_1,  PRS2,     2, 13,      2,     34,2,19950829,0925, 22.7712,-157.9982, 4725,    831.2,   4.5800,  34.3821,2,  34.3820,2,     29.7,1,   -999.0,9,  -999.00,9,  -999.00,9,  -999.00,9,    832,-999.000,  -999.0,  4.5146
     32MW065_1,  PRS2,     2, 13,      1,     33,2,19950829,0925, 22.7712,-157.9982, 4725,   1021.0,   3.8879,  34.4673,2,  34.4678,2,     39.4,1,   -999.0,9,  -999.00,9,  -999.00,9,  -999.00,9,   1021,-999.000,  -999.0,  3.8115