BOTTLE,20020809WHPSIObren
EXPOCODE,SECT_ID,STNNBR,CASTNO,SAMPNO,BTLNBR,BTLNBR_FLAG_W,DATE,TIME,LATITUDE,LONGITUDE,DEPTH,CTDPRS,CTDTMP,CTDSAL,CTDSAL_FLAG_W,SALNTY,SALNTY_FLAG_W,CTDOXY,CTDOXY_FLAG_W,OXYGEN,OXYGEN_FLAG_W,SILCAT,SILCAT_FLAG_W,NO2+NO3,NO2+NO3_FLAG_W,PHSPHT,PHSPHT_FLAG_W,CTDRAW,REVTMP,REVPRS,THETA
,,,,,,,,,,,,DBAR,ITS-90,PSS-78,,PSS-78,,UMOL/KG,,UMOL/KG,,UMOL/KG,,UMOL/KG,,UMOL/KG,,,DEG C,DBAR,ITS-90
     32MW065_1,  PRS2,     2,  6,     21,     21,2,19950828,1228, 22.8012,-157.9747, 4700,      5.1,  25.9113,  34.9468,2,  34.9570,2,    206.8,1,   -999.0,9,  -999.00,9,  -999.00,9,  -999.00,9,      6,-999.000,  -999.0, 25.9101
     32MW065_1,  PRS2,     2,  6,     20,     20,2,19950828,1228, 22.8012,-157.9747, 4700,     24.8,  25.9265,  34.9464,2,  34.9458,2,    206.8,1,   -999.0,9,  -999.00,9,  -999.00,9,  -999.00,9,     25,-999.000,  -999.0, 25.9210
     32MW065_1,  PRS2,     2,  6,     18,     18,2,19950828,1228, 22.8012,-157.9747, 4700,     24.8,  25.9266,  34.9464,2,  34.9452,2,    206.9,1,   -999.0,9,  -999.00,9,  -999.00,9,  -999.00,9,     25,-999.000,  -999.0, 25.9211
     32MW065_1,  PRS2,     2,  6,     16,     16,2,19950828,1228, 22.8012,-157.9747, 4700,     24.8,  25.9266,  34.9464,2,  34.9459,2,    206.8,1,   -999.0,9,  -999.00,9,  -999.00,9,  -999.00,9,     26,-999.000,  -999.0, 25.9211
     32MW065_1,  PRS2,     2,  6,     19,     19,2,19950828,1228, 22.8012,-157.9747, 4700,     24.9,  25.9266,  34.9464,2,  34.9457,2,    206.9,1,   -999.0,9,  -999.00,9,  -999.00,9,  -999.00,9,     25,-999.000,  -999.0, 25.9211
     32MW065_1,  PRS2,     2,  6,     17,     17,2,19950828,1228, 22.8012,-157.9747, 4700,     24.9,  25.9269,  34.9463,2,  34.9448,2,    206.9,1,   -999.0,9,  -999.00,9,  -999.00,9,  -999.00,9,     25,-999.000,  -999.0, 25.9214
     32MW065_1,  PRS2,     2,  6,     15,     15,2,19950828,1228, 22.8012,-157.9747, 4700,     45.0,  25.3762,  35.2014,2,  35.1819,3,    209.3,1,   -999.0,9,  -999.00,9,  -999.00,9,  -999.00,9,     46,-999.000,  -999.0, 25.3664
     32MW065_1,  PRS2,     2,  6,     14,     14,2,19950828,1228, 22.8012,-157.9747, 4700,     59.1,  22.6764,  35.1240,2,  35.1320,2,    199.2,1,   -999.0,9,  -999.00,9,  -999.00,9,  -999.00,9,     59,-999.000,  -999.0, 22.6644
     32MW065_1,  PRS2,     2,  6,     13,     13,2,19950828,1228, 22.8012,-157.9747, 4700,     74.1,  21.9238,  35.1528,2,  35.1523,2,    209.9,1,   -999.0,9,  -999.00,9,  -999.00,9,  -999.00,9,     74,-999.000,  -999.0, 21.9092
     32MW065_1,  PRS2,     2,  6,     12,     12,2,19950828,1228, 22.8012,-157.9747, 4700,     89.8,  21.3419,  35.1655,2,  35.1730,2,    217.3,1,   -999.0,9,  -999.00,9,  -999.00,9,  -999.00,9,     90,-999.000,  -999.0, 21.3246
     32MW065_1,  PRS2,     2,  6,     11,     11,2,19950828,1228, 22.8012,-157.9747, 4700,     99.6,  20.9795,  35.1665,2,  35.1671,2,    212.9,1,   -999.0,9,  -999.00,9,  -999.00,9,  -999.00,9,     99,-999.000,  -999.0, 20.9605
     32MW065_1,  PRS2,     2,  6,     10,     32,2,19950828,1228, 22.8012,-157.9747, 4700,    109.8,  20.6860,  35.1689,2,  35.1704,2,    211.1,1,   -999.0,9,  -999.00,9,  -999.00,9,  -999.00,9,    110,-999.000,  -999.0, 20.6653
     32MW065_1,  PRS2,     2,  6,      9,      3,2,19950828,1228, 22.8012,-157.9747, 4700,    109.9,  20.6846,  35.1685,2,  35.1700,2,    210.0,1,   -999.0,9,  -999.00,9,  -999.00,9,  -999.00,9,    111,-999.000,  -999.0, 20.6638
     32MW065_1,  PRS2,     2,  6,      8,     29,2,19950828,1228, 22.8012,-157.9747, 4700,    109.9,  20.6860,  35.1682,2,  35.1696,2,    208.8,1,   -999.0,9,  -999.00,9,  -999.00,9,  -999.00,9,    110,-999.000,  -999.0, 20.6652
     32MW065_1,  PRS2,     2,  6,      7,     28,2,19950828,1228, 22.8012,-157.9747, 4700,    109.9,  20.6912,  35.1683,2,  35.1703,2,    207.6,1,   -999.0,9,  -999.00,9,  -999.00,9,  -999.00,9,    110,-999.000,  -999.0, 20.6704
     32MW065_1,  PRS2,     2,  6,      6,      7,2,19950828,1228, 22.8012,-157.9747, 4700,    109.9,  20.6925,  35.1694,2,  35.1701,2,    206.5,1,   -999.0,9,  -999.00,9,  -999.00,9,  -999.00,9,    110,-999.000,  -999.0, 20.6717
     32MW065_1,  PRS2,     2,  6,      5,     23,2,19950828,1228, 22.8012,-157.9747, 4700,    109.9,  20.6979,  35.1701,2,  35.1703,2,    205.4,1,   -999.0,9,  -999.00,9,  -999.00,9,  -999.00,9,    110,-999.000,  -999.0, 20.6771
     32MW065_1,  PRS2,     2,  6,      4,     36,2,19950828,1228, 22.8012,-157.9747, 4700,    125.7,  20.1414,  35.1306,2,  35.1319,2,    173.6,1,   -999.0,9,  -999.00,9,  -999.00,9,  -999.00,9,    126,-999.000,  -999.0, 20.1181
     32MW065_1,  PRS2,     2,  6,      3,     35,2,19950828,1228, 22.8012,-157.9747, 4700,    501.5,   6.8107,  34.0446,2,  34.0443,2,    101.9,1,   -999.0,9,  -999.00,9,  -999.00,9,  -999.00,9,    502,-999.000,  -999.0,  6.7642
     32MW065_1,  PRS2,     2,  6,      2,     34,2,19950828,1228, 22.8012,-157.9747, 4700,    830.0,   4.5528,  34.3670,2,  34.3669,2,     26.7,1,   -999.0,9,  -999.00,9,  -999.00,9,  -999.00,9,    830,-999.000,  -999.0,  4.4877
     32MW065_1,  PRS2,     2,  6,      1,     33,2,19950828,1228, 22.8012,-157.9747, 4700,   1019.3,   3.8689,  34.4712,2,  34.4696,2,     39.1,1,   -999.0,9,  -999.00,9,  -999.00,9,  -999.00,9,   1020,-999.000,  -999.0,  3.7927
     32MW065_1,  PRS2,     2,  7,     16,     16,2,19950828,1527, 22.7670,-158.0005, 4720,      4.7,  25.8787,  34.9355,2,  34.9322,2,    204.8,1,   -999.0,9,  -999.00,9,  -999.00,9,  -999.00,9,      5,-999.000,  -999.0, 25.8777
     32MW065_1,  PRS2,     2,  7,     15,     15,2,19950828,1527, 22.7670,-158.0005, 4720,      9.8,  25.8797,  34.9349,2,  34.9348,2,    204.8,1,   -999.0,9,  -999.00,9,  -999.00,9,  -999.00,9,     10,-999.000,  -999.0, 25.8775
     32MW065_1,  PRS2,     2,  7,     14,     14,2,19950828,1527, 22.7670,-158.0005, 4720,     24.5,  25.8825,  34.9339,2,  34.9322,2,    204.8,1,   -999.0,9,  -999.00,9,  -999.00,9,  -999.00,9,     25,-999.000,  -999.0, 25.8771
     32MW065_1,  PRS2,     2,  7,     13,     13,2,19950828,1527, 22.7670,-158.0005, 4720,     44.1,  25.8850,  34.9381,2,  34.9588,3,    205.1,1,   -999.0,9,  -999.00,9,  -999.00,9,  -999.00,9,     44,-999.000,  -999.0, 25.8752
     32MW065_1,  PRS2,     2,  7,     12,     12,2,19950828,1527, 22.7670,-158.0005, 4720,     59.3,  24.3419,  35.0458,2,  35.0489,2,    203.1,1,   -999.0,9,  -999.00,9,  -999.00,9,  -999.00,9,     59,-999.000,  -999.0, 24.3293
     32MW065_1,  PRS2,     2,  7,     11,     11,2,19950828,1527, 22.7670,-158.0005, 4720,     74.4,  23.0642,  35.1486,2,  35.1497,2,    213.5,1,   -999.0,9,  -999.00,9,  -999.00,9,  -999.00,9,     74,-999.000,  -999.0, 23.0490
     32MW065_1,  PRS2,     2,  7,     10,     32,2,19950828,1527, 22.7670,-158.0005, 4720,     91.3,  21.5942,  35.1549,2,  35.1553,2,    196.7,1,   -999.0,9,  -999.00,9,  -999.00,9,  -999.00,9,     92,-999.000,  -999.0, 21.5764
     32MW065_1,  PRS2,     2,  7,      9,      3,2,19950828,1527, 22.7670,-158.0005, 4720,    108.4,  21.3264,  35.1599,2,  35.1593,2,    203.8,1,   -999.0,9,  -999.00,9,  -999.00,9,  -999.00,9,    108,-999.000,  -999.0, 21.3054
     32MW065_1,  PRS2,     2,  7,      8,     29,2,19950828,1527, 22.7670,-158.0005, 4720,    129.2,  20.3511,  35.1513,2,  35.1548,2,    189.7,1,   -999.0,9,  -999.00,9,  -999.00,9,  -999.00,9,    131,-999.000,  -999.0, 20.3269
     32MW065_1,  PRS2,     2,  7,      7,     28,2,19950828,1527, 22.7670,-158.0005, 4720,    139.7,  19.7431,  35.1060,2,  35.1080,2,    167.8,1,   -999.0,9,  -999.00,9,  -999.00,9,  -999.00,9,    140,-999.000,  -999.0, 19.7175
     32MW065_1,  PRS2,     2,  7,      6,      7,2,19950828,1527, 22.7670,-158.0005, 4720,    149.8,  19.4657,  35.0852,2,  35.0860,2,    190.9,1,   -999.0,9,  -999.00,9,  -999.00,9,  -999.00,9,    150,-999.000,  -999.0, 19.4385
     32MW065_1,  PRS2,     2,  7,      5,     23,2,19950828,1527, 22.7670,-158.0005, 4720,    175.4,  18.7749,  35.0337,2,  35.0404,2,    192.0,1,   -999.0,9,  -999.00,9,  -999.00,9,  -999.00,9,    176,-999.000,  -999.0, 18.7439
     32MW065_1,  PRS2,     2,  7,      4,     36,2,19950828,1527, 22.7670,-158.0005, 4720,    250.3,  15.3704,  34.5945,2,  34.6096,2,    185.7,1,   -999.0,9,  -999.00,9,  -999.00,9,  -999.00,9,    251,-999.000,  -999.0, 15.3320
     32MW065_1,  PRS2,     2,  7,      3,     35,2,19950828,1527, 22.7670,-158.0005, 4720,    500.5,   7.1095,  34.0427,2,  34.0430,2,    107.6,1,   -999.0,9,  -999.00,9,  -999.00,9,  -999.00,9,    501,-999.000,  -999.0,  7.0619
     32MW065_1,  PRS2,     2,  7,      2,     34,2,19950828,1527, 22.7670,-158.0005, 4720,    750.0,   4.9096,  34.2729,2,  34.2728,2,     23.1,1,   -999.0,9,  -999.00,9,  -999.00,9,  -999.00,9,    751,-999.000,  -999.0,  4.8493
     32MW065_1,  PRS2,     2,  7,      1,     33,2,19950828,1527, 22.7670,-158.0005, 4720,   1018.7,   3.8957,  34.4661,2,  34.4663,2,     39.7,1,   -999.0,9,  -999.00,9,  -999.00,9,  -999.00,9,   1019,-999.000,  -999.0,  3.8193
     32MW065_1,  PRS2,     2,  8,     18,     18,2,19950828,1826, 22.7588,-157.9958, 4725,      4.6,  25.8753,  34.9353,2,  34.9329,2,    205.9,1,   -999.0,9,  -999.00,9,  -999.00,9,  -999.00,9,      5,-999.000,  -999.0, 25.8743
     32MW065_1,  PRS2,     2,  8,     17,     17,2,19950828,1826, 22.7588,-157.9958, 4725,      9.9,  25.8767,  34.9344,2,  34.9328,2,    205.9,1,   -999.0,9,  -999.00,9,  -999.00,9,  -999.00,9,     10,-999.000,  -999.0, 25.8745
     32MW065_1,  PRS2,     2,  8,     16,     16,2,19950828,1826, 22.7588,-157.9958, 4725,     24.2,  25.8796,  34.9341,2,  34.9332,2,    205.9,1,   -999.0,9,  -999.00,9,  -999.00,9,  -999.00,9,     25,-999.000,  -999.0, 25.8743
     32MW065_1,  PRS2,     2,  8,     15,     15,2,19950828,1826, 22.7588,-157.9958, 4725,     44.1,  25.8799,  34.9330,2,  34.9321,2,    205.9,1,   -999.0,9,  -999.00,9,  -999.00,9,  -999.00,9,     45,-999.000,  -999.0, 25.8701
     32MW065_1,  PRS2,     2,  8,     14,     14,2,19950828,1826, 22.7588,-157.9958, 4725,     59.2,  24.3040,  35.0533,2,  35.0507,2,    213.8,1,   -999.0,9,  -999.00,9,  -999.00,9,  -999.00,9,     59,-999.000,  -999.0, 24.2915
     32MW065_1,  PRS2,     2,  8,     13,     13,2,19950828,1826, 22.7588,-157.9958, 4725,     74.5,  23.0487,  35.1272,2,  35.1258,2,    215.3,1,   -999.0,9,  -999.00,9,  -999.00,9,  -999.00,9,     74,-999.000,  -999.0, 23.0335
     32MW065_1,  PRS2,     2,  8,     12,     12,2,19950828,1826, 22.7588,-157.9958, 4725,     88.9,  21.8483,  35.1428,2,  35.1435,2,    206.3,1,   -999.0,9,  -999.00,9,  -999.00,9,  -999.00,9,     90,-999.000,  -999.0, 21.8308
     32MW065_1,  PRS2,     2,  8,     11,     11,2,19950828,1826, 22.7588,-157.9958, 4725,    100.1,  21.3491,  35.1544,2,  35.1526,2,    192.3,1,   -999.0,9,  -999.00,9,  -999.00,9,  -999.00,9,    101,-999.000,  -999.0, 21.3298
     32MW065_1,  PRS2,     2,  8,     10,     32,2,19950828,1826, 22.7588,-157.9958, 4725,    109.1,  21.2558,  35.1680,2,  35.1670,2,    190.1,1,   -999.0,9,  -999.00,9,  -999.00,9,  -999.00,9,    110,-999.000,  -999.0, 21.2348
     32MW065_1,  PRS2,     2,  8,      9,      3,2,19950828,1826, 22.7588,-157.9958, 4725,    119.4,  20.6728,  35.1613,2,  35.1641,2,    198.8,1,   -999.0,9,  -999.00,9,  -999.00,9,  -999.00,9,    121,-999.000,  -999.0, 20.6502
     32MW065_1,  PRS2,     2,  8,      8,     29,2,19950828,1826, 22.7588,-157.9958, 4725,    140.1,  19.9712,  35.1228,2,  35.1253,2,    186.4,1,   -999.0,9,  -999.00,9,  -999.00,9,  -999.00,9,    141,-999.000,  -999.0, 19.9453
     32MW065_1,  PRS2,     2,  8,      7,     28,2,19950828,1826, 22.7588,-157.9958, 4725,    150.7,  19.5227,  35.0914,2,  35.0919,2,    189.3,1,   -999.0,9,  -999.00,9,  -999.00,9,  -999.00,9,    152,-999.000,  -999.0, 19.4953
     32MW065_1,  PRS2,     2,  8,      6,      7,2,19950828,1826, 22.7588,-157.9958, 4725,    175.9,  18.3751,  34.9809,2,  34.9842,2,    185.0,1,   -999.0,9,  -999.00,9,  -999.00,9,  -999.00,9,    176,-999.000,  -999.0, 18.3444
     32MW065_1,  PRS2,     2,  8,      5,     23,2,19950828,1826, 22.7588,-157.9958, 4725,    251.2,  15.1526,  34.5651,2,  34.5793,2,    179.4,1,   -999.0,9,  -999.00,9,  -999.00,9,  -999.00,9,    252,-999.000,  -999.0, 15.1143
     32MW065_1,  PRS2,     2,  8,      4,     36,2,19950828,1826, 22.7588,-157.9958, 4725,    501.0,   7.2083,  34.0462,2,  34.0452,2,    108.5,1,   -999.0,9,  -999.00,9,  -999.00,9,  -999.00,9,    502,-999.000,  -999.0,  7.1603
     32MW065_1,  PRS2,     2,  8,      3,     35,2,19950828,1826, 22.7588,-157.9958, 4725,    750.2,   4.7761,  34.2883,2,  34.2871,2,     22.2,1,   -999.0,9,  -999.00,9,  -999.00,9,  -999.00,9,    751,-999.000,  -999.0,  4.7165
     32MW065_1,  PRS2,     2,  8,      2,     34,2,19950828,1826, 22.7588,-157.9958, 4725,    800.0,   4.7861,  34.3606,2,  34.3613,2,     27.0,1,   -999.0,9,  -999.00,9,  -999.00,9,  -999.00,9,    800,-999.000,  -999.0,  4.7221
     32MW065_1,  PRS2,     2,  8,      1,     33,2,19950828,1826, 22.7588,-157.9958, 4725,   1019.6,   3.9003,  34.4671,2,  34.4681,2,     38.2,1,   -999.0,9,  -999.00,9,  -999.00,9,  -999.00,9,   1019,-999.000,  -999.0,  3.8238
     32MW065_1,  PRS2,     2,  9,     19,     19,2,19950828,2125, 22.7497,-158.0013, 4725,      4.3,  25.9937,  34.9472,2,  34.9442,2,    205.7,1,   -999.0,9,  -999.00,9,  -999.00,9,  -999.00,9,      5,-999.000,  -999.0, 25.9927
     32MW065_1,  PRS2,     2,  9,     18,     18,2,19950828,2125, 22.7497,-158.0013, 4725,     10.0,  25.9845,  34.9466,2,  34.9450,2,    205.7,1,   -999.0,9,  -999.00,9,  -999.00,9,  -999.00,9,     11,-999.000,  -999.0, 25.9822
     32MW065_1,  PRS2,     2,  9,     17,     17,2,19950828,2125, 22.7497,-158.0013, 4725,     24.2,  25.9482,  34.9442,2,  34.9424,2,    206.0,1,   -999.0,9,  -999.00,9,  -999.00,9,  -999.00,9,     24,-999.000,  -999.0, 25.9429
     32MW065_1,  PRS2,     2,  9,     16,     16,2,19950828,2125, 22.7497,-158.0013, 4725,     44.1,  25.9213,  34.9415,2,  34.9399,2,    206.3,1,   -999.0,9,  -999.00,9,  -999.00,9,  -999.00,9,     45,-999.000,  -999.0, 25.9115
     32MW065_1,  PRS2,     2,  9,     15,     15,2,19950828,2125, 22.7497,-158.0013, 4725,     59.8,  25.9085,  34.9458,2,  34.9458,2,    206.5,1,   -999.0,9,  -999.00,9,  -999.00,9,  -999.00,9,     60,-999.000,  -999.0, 25.8952
     32MW065_1,  PRS2,     2,  9,     14,     14,2,19950828,2125, 22.7497,-158.0013, 4725,     74.6,  24.0174,  35.0910,2,  35.0925,2,    214.6,1,   -999.0,9,  -999.00,9,  -999.00,9,  -999.00,9,     75,-999.000,  -999.0, 24.0017
     32MW065_1,  PRS2,     2,  9,     13,     13,2,19950828,2125, 22.7497,-158.0013, 4725,     89.6,  23.0028,  35.1241,2,  35.0961,4,    215.0,1,   -999.0,9,  -999.00,9,  -999.00,9,  -999.00,9,     90,-999.000,  -999.0, 22.9845
     32MW065_1,  PRS2,     2,  9,     12,     12,2,19950828,2125, 22.7497,-158.0013, 4725,    100.3,  21.9872,  35.1447,2,  35.1454,2,    200.5,1,   -999.0,9,  -999.00,9,  -999.00,9,  -999.00,9,    101,-999.000,  -999.0, 21.9673
     32MW065_1,  PRS2,     2,  9,     11,     11,2,19950828,2125, 22.7497,-158.0013, 4725,    109.2,  21.2965,  35.1622,2,  35.1604,2,    202.9,1,   -999.0,9,  -999.00,9,  -999.00,9,  -999.00,9,    109,-999.000,  -999.0, 21.2754
     32MW065_1,  PRS2,     2,  9,      9,      3,2,19950828,2125, 22.7497,-158.0013, 4725,    124.5,  20.9260,  35.1685,2,  35.1725,2,    193.4,1,   -999.0,9,  -999.00,9,  -999.00,9,  -999.00,9,    125,-999.000,  -999.0, 20.9022
     32MW065_1,  PRS2,     2,  9,     10,     32,2,19950828,2125, 22.7497,-158.0013, 4725,    124.6,  20.9203,  35.1681,2,  35.1724,2,    195.2,1,   -999.0,9,  -999.00,9,  -999.00,9,  -999.00,9,    125,-999.000,  -999.0, 20.8965
     32MW065_1,  PRS2,     2,  9,      8,     29,2,19950828,2125, 22.7497,-158.0013, 4725,    140.5,  19.9012,  35.1183,2,  35.1200,2,    173.1,1,   -999.0,9,  -999.00,9,  -999.00,9,  -999.00,9,    141,-999.000,  -999.0, 19.8753
     32MW065_1,  PRS2,     2,  9,      7,     28,2,19950828,2125, 22.7497,-158.0013, 4725,    150.7,  19.4797,  35.0876,2,  35.0900,2,    188.5,1,   -999.0,9,  -999.00,9,  -999.00,9,  -999.00,9,    151,-999.000,  -999.0, 19.4524
     32MW065_1,  PRS2,     2,  9,      6,      7,2,19950828,2125, 22.7497,-158.0013, 4725,    176.0,  18.5012,  34.9940,2,  34.9742,2,    187.8,1,   -999.0,9,  -999.00,9,  -999.00,9,  -999.00,9,    177,-999.000,  -999.0, 18.4704
     32MW065_1,  PRS2,     2,  9,      5,     23,2,19950828,2125, 22.7497,-158.0013, 4725,    250.8,  15.1017,  34.5617,2,  34.5627,2,    187.1,1,   -999.0,9,  -999.00,9,  -999.00,9,  -999.00,9,    252,-999.000,  -999.0, 15.0636
     32MW065_1,  PRS2,     2,  9,      4,     36,2,19950828,2125, 22.7497,-158.0013, 4725,    500.7,   6.8398,  34.0419,2,  34.0414,2,    104.9,1,   -999.0,9,  -999.00,9,  -999.00,9,  -999.00,9,    501,-999.000,  -999.0,  6.7932
     32MW065_1,  PRS2,     2,  9,      3,     35,2,19950828,2125, 22.7497,-158.0013, 4725,    749.9,   4.7667,  34.3351,2,  34.3352,2,     28.4,1,   -999.0,9,  -999.00,9,  -999.00,9,  -999.00,9,    751,-999.000,  -999.0,  4.7071
     32MW065_1,  PRS2,     2,  9,      2,     34,2,19950828,2125, 22.7497,-158.0013, 4725,    800.0,   4.5928,  34.3665,2,  34.3680,2,     29.4,1,   -999.0,9,  -999.00,9,  -999.00,9,  -999.00,9,    801,-999.000,  -999.0,  4.5299
     32MW065_1,  PRS2,     2,  9,      1,     33,2,19950828,2125, 22.7497,-158.0013, 4725,   1017.9,   3.9110,  34.4710,2,  34.4642,3,     39.6,1,   -999.0,9,  -999.00,9,  -999.00,9,  -999.00,9,   1018,-999.000,  -999.0,  3.8346