BOTTLE,20020809WHPSIObren
EXPOCODE,SECT_ID,STNNBR,CASTNO,SAMPNO,BTLNBR,BTLNBR_FLAG_W,DATE,TIME,LATITUDE,LONGITUDE,DEPTH,CTDPRS,CTDTMP,CTDSAL,CTDSAL_FLAG_W,SALNTY,SALNTY_FLAG_W,CTDOXY,CTDOXY_FLAG_W,OXYGEN,OXYGEN_FLAG_W,SILCAT,SILCAT_FLAG_W,NO2+NO3,NO2+NO3_FLAG_W,PHSPHT,PHSPHT_FLAG_W,CTDRAW,REVTMP,REVPRS,THETA
,,,,,,,,,,,,DBAR,ITS-90,PSS-78,,PSS-78,,UMOL/KG,,UMOL/KG,,UMOL/KG,,UMOL/KG,,UMOL/KG,,,DEG C,DBAR,ITS-90
     32MW065_1,  PRS2,     2,  3,     19,     19,2,19950828,0326, 22.7542,-158.0105, 4725,      5.3,  25.9695,  34.9388,2,  34.9391,2,    207.8,2,    205.0,2,  -999.00,5,  -999.00,5,  -999.00,5,      6,-999.000,  -999.0, 25.9684
     32MW065_1,  PRS2,     2,  3,     18,     18,2,19950828,0326, 22.7542,-158.0105, 4725,    106.7,  21.4514,  35.1477,2,  35.1477,2,    220.0,2,    224.7,2,  -999.00,5,  -999.00,5,  -999.00,5,    107,-999.000,  -999.0, 21.4307
     32MW065_1,  PRS2,     2,  3,     17,     17,2,19950828,0326, 22.7542,-158.0105, 4725,    210.1,  17.4382,  34.8652,2,  34.8399,3,    203.5,3,    196.2,2,     4.07,2,     3.57,2,     0.31,2,    210,-999.000,  -999.0, 17.4029
     32MW065_1,  PRS2,     2,  3,     16,     16,2,19950828,0326, 22.7542,-158.0105, 4725,    224.9,  16.6143,  34.7484,2,  34.7479,2,    200.7,2,    193.2,2,     4.69,2,     4.53,2,     0.37,2,    226,-999.000,  -999.0, 16.5778
     32MW065_1,  PRS2,     2,  3,     15,     15,2,19950828,0326, 22.7542,-158.0105, 4725,    235.6,  16.0122,  34.6725,2,  34.6784,2,    199.5,2,    196.2,2,     5.20,2,     4.92,2,     0.40,2,    235,-999.000,  -999.0, 15.9749
     32MW065_1,  PRS2,     2,  3,     14,     14,2,19950828,0326, 22.7542,-158.0105, 4725,    250.6,  15.4254,  34.5984,2,  34.6005,2,    198.2,2,    192.8,2,     5.92,2,     6.02,2,     0.49,2,    251,-999.000,  -999.0, 15.3867
     32MW065_1,  PRS2,     2,  3,     13,     13,2,19950828,0326, 22.7542,-158.0105, 4725,    275.4,  14.1301,  34.4474,2,  34.4530,2,    191.0,2,    191.1,2,     7.53,2,     7.96,2,     0.62,2,    277,-999.000,  -999.0, 14.0902
     32MW065_1,  PRS2,     2,  3,     12,     12,2,19950828,0326, 22.7542,-158.0105, 4725,    300.9,  13.0659,  34.3592,2,  34.3582,2,    205.6,2,    197.4,2,     9.33,2,     9.41,2,     0.69,2,    302,-999.000,  -999.0, 13.0244
     32MW065_1,  PRS2,     2,  3,     11,     11,2,19950828,0326, 22.7542,-158.0105, 4725,    324.3,  12.5512,  34.3169,2,  34.3153,2,    210.7,2,    199.4,2,    10.54,2,    10.39,2,     0.76,2,    325,-999.000,  -999.0, 12.5077
     32MW065_1,  PRS2,     2,  3,     10,     32,2,19950828,0326, 22.7542,-158.0105, 4725,    353.0,  11.4388,  34.2138,2,  34.2127,2,    197.6,2,    194.2,2,    13.37,2,    12.74,2,     0.94,2,    354,-999.000,  -999.0, 11.3943
     32MW065_1,  PRS2,     2,  3,      9,      3,2,19950828,0326, 22.7542,-158.0105, 4725,    400.4,  10.0817,  34.1311,2,  34.1313,2,    190.8,2,    184.6,2,    19.09,2,    16.48,2,     1.31,2,    401,-999.000,  -999.0, 10.0350
     32MW065_1,  PRS2,     2,  3,      8,     29,2,19950828,0326, 22.7542,-158.0105, 4725,    500.4,   7.0798,  34.0432,2,  34.0423,2,    117.8,2,    119.6,2,    46.23,2,    28.35,2,     2.06,2,    501,-999.000,  -999.0,  7.0323
     32MW065_1,  PRS2,     2,  3,      7,     28,2,19950828,0326, 22.7542,-158.0105, 4725,    526.5,   6.5912,  34.0434,2,  34.0416,2,    101.3,2,    102.8,2,    53.35,2,    30.94,2,     2.26,2,    527,-999.000,  -999.0,  6.5431
     32MW065_1,  PRS2,     2,  3,      6,      7,2,19950828,0326, 22.7542,-158.0105, 4725,    600.2,   5.7189,  34.1341,2,  34.1338,2,     53.9,2,     58.2,2,    71.03,2,    35.95,2,     2.65,2,    601,-999.000,  -999.0,  5.6677
     32MW065_1,  PRS2,     2,  3,      5,     23,2,19950828,0326, 22.7542,-158.0105, 4725,    700.2,   5.0924,  34.2869,2,  34.2817,2,     29.9,2,     30.8,2,    88.05,2,    39.38,2,     2.96,2,    701,-999.000,  -999.0,  5.0353
     32MW065_1,  PRS2,     2,  3,      4,     36,2,19950828,0326, 22.7542,-158.0105, 4725,    797.6,   4.6646,  34.3745,2,  34.3711,2,     33.1,2,     30.4,2,    97.10,2,    40.27,2,     3.02,2,    799,-999.000,  -999.0,  4.6015
     32MW065_1,  PRS2,     2,  3,      3,     35,2,19950828,0326, 22.7542,-158.0105, 4725,    828.9,   4.5245,  34.3970,2,  34.3929,2,     34.4,2,     31.9,2,    99.85,2,    40.23,2,     3.03,2,    828,-999.000,  -999.0,  4.4597
     32MW065_1,  PRS2,     2,  3,      2,     34,2,19950828,0326, 22.7542,-158.0105, 4725,    899.8,   4.3088,  34.4402,2,  34.4382,2,     39.7,2,     36.6,2,   104.29,2,    40.66,2,     3.04,2,    901,-999.000,  -999.0,  4.2393
     32MW065_1,  PRS2,     2,  3,      1,     33,2,19950828,0326, 22.7542,-158.0105, 4725,   1021.4,   3.9129,  34.4748,2,  34.4739,2,     44.7,2,     42.4,2,   112.43,2,    40.55,2,     3.01,2,   1022,-999.000,  -999.0,  3.8361
     32MW065_1,  PRS2,     2,  4,     24,     31,2,19950828,0626, 22.7577,-157.9933, 4725,      4.7,  25.9267,  34.9346,2,  34.9333,2,    207.5,2,   -999.0,5,  -999.00,5,  -999.00,5,  -999.00,5,      6,-999.000,  -999.0, 25.9257
     32MW065_1,  PRS2,     2,  4,     23,     30,2,19950828,0626, 22.7577,-157.9933, 4725,      4.7,  25.9263,  34.9346,2,  34.9328,2,    207.2,2,    204.8,2,     1.43,2,     0.01,2,     0.06,2,      5,-999.000,  -999.0, 25.9253
     32MW065_1,  PRS2,     2,  4,     22,     22,2,19950828,0626, 22.7577,-157.9933, 4725,     14.3,  25.9300,  34.9335,2,  34.9319,2,    207.2,2,    204.8,2,     1.44,2,     0.00,2,     0.05,2,     15,-999.000,  -999.0, 25.9268
     32MW065_1,  PRS2,     2,  4,     21,     21,2,19950828,0626, 22.7577,-157.9933, 4725,     25.0,  25.9362,  34.9331,2,  34.9323,2,    207.2,2,   -999.0,5,  -999.00,5,  -999.00,5,  -999.00,5,     26,-999.000,  -999.0, 25.9306
     32MW065_1,  PRS2,     2,  4,     20,     20,2,19950828,0626, 22.7577,-157.9933, 4725,     25.0,  25.9364,  34.9330,2,  34.9320,2,    207.3,2,    204.8,2,     1.42,2,     0.00,2,     0.05,2,     26,-999.000,  -999.0, 25.9308
     32MW065_1,  PRS2,     2,  4,     19,     19,2,19950828,0626, 22.7577,-157.9933, 4725,     44.3,  25.8310,  35.0067,2,  34.9920,2,    206.6,2,    205.7,2,     1.40,2,     0.01,2,     0.05,2,     44,-999.000,  -999.0, 25.8212
     32MW065_1,  PRS2,     2,  4,     18,     18,2,19950828,0626, 22.7577,-157.9933, 4725,     60.3,  24.3504,  35.0884,2,  35.0880,2,    209.5,2,    222.9,2,     1.47,2,     0.01,2,     0.02,2,     61,-999.000,  -999.0, 24.3375
     32MW065_1,  PRS2,     2,  4,     17,     17,2,19950828,0626, 22.7577,-157.9933, 4725,     74.4,  22.7298,  35.1364,2,  35.1356,2,    213.0,2,    224.0,2,     1.65,2,     0.02,2,     0.03,2,     75,-999.000,  -999.0, 22.7147
     32MW065_1,  PRS2,     2,  4,     16,     16,2,19950828,0626, 22.7577,-157.9933, 4725,     84.3,  21.9457,  35.1533,2,  35.1498,2,    203.8,2,    217.6,2,     1.76,2,     0.01,2,     0.05,2,     86,-999.000,  -999.0, 21.9291
     32MW065_1,  PRS2,     2,  4,     15,     15,2,19950828,0626, 22.7577,-157.9933, 4725,     89.3,  21.8629,  35.1547,2,  35.1550,2,    206.9,2,    217.0,2,     1.61,2,     0.00,2,     0.04,2,     90,-999.000,  -999.0, 21.8453
     32MW065_1,  PRS2,     2,  4,     14,     14,2,19950828,0626, 22.7577,-157.9933, 4725,     94.7,  21.6625,  35.1574,2,  35.1563,2,    213.2,2,    216.9,2,     1.70,2,     0.01,2,     0.04,2,     95,-999.000,  -999.0, 21.6440
     32MW065_1,  PRS2,     2,  4,     13,     13,2,19950828,0626, 22.7577,-157.9933, 4725,    100.2,  21.4268,  35.1587,2,  35.1604,2,    215.5,2,    221.9,2,     1.80,2,     0.01,2,     0.03,2,    101,-999.000,  -999.0, 21.4073
     32MW065_1,  PRS2,     2,  4,     12,     12,2,19950828,0626, 22.7577,-157.9933, 4725,    105.2,  20.9066,  35.1629,2,  35.1632,2,    207.7,2,    220.3,2,     1.87,2,     0.02,2,     0.04,2,    106,-999.000,  -999.0, 20.8865
     32MW065_1,  PRS2,     2,  4,     11,     11,2,19950828,0626, 22.7577,-157.9933, 4725,    114.8,  20.6896,  35.1671,2,  35.1680,2,    211.5,2,    213.6,2,     1.90,2,     0.27,2,     0.06,2,    115,-999.000,  -999.0, 20.6678
     32MW065_1,  PRS2,     2,  4,     10,     32,2,19950828,0626, 22.7577,-157.9933, 4725,    124.8,  20.3673,  35.1476,2,  35.1569,2,    193.3,2,    206.4,2,     1.96,2,     0.67,2,     0.09,2,    124,-999.000,  -999.0, 20.3439
     32MW065_1,  PRS2,     2,  4,      9,      3,2,19950828,0626, 22.7577,-157.9933, 4725,    135.4,  20.1658,  35.1327,2,  35.1356,2,    188.4,2,    203.3,2,     2.09,2,     1.03,2,     0.13,2,    136,-999.000,  -999.0, 20.1406
     32MW065_1,  PRS2,     2,  4,      8,     29,2,19950828,0626, 22.7577,-157.9933, 4725,    149.6,  19.6391,  35.0963,2,  35.0981,2,    182.8,2,    196.0,2,     2.50,2,     1.85,2,     0.19,2,    150,-999.000,  -999.0, 19.6118
     32MW065_1,  PRS2,     2,  4,      7,     28,2,19950828,0626, 22.7577,-157.9933, 4725,    160.0,  19.3799,  35.0864,2,  35.0873,2,    184.4,2,    197.9,2,     2.59,2,     1.86,2,     0.19,2,    160,-999.000,  -999.0, 19.3510
     32MW065_1,  PRS2,     2,  4,      6,      7,2,19950828,0626, 22.7577,-157.9933, 4725,    173.3,  18.6669,  35.0258,2,  35.0308,2,    195.4,2,    200.3,2,     3.66,2,     2.10,2,     0.21,2,    174,-999.000,  -999.0, 18.6364
     32MW065_1,  PRS2,     2,  4,      5,     23,2,19950828,0626, 22.7577,-157.9933, 4725,    184.8,  18.1877,  34.9624,2,  34.9609,2,    189.6,2,    198.1,2,     3.44,2,     2.69,2,     0.24,2,    186,-999.000,  -999.0, 18.1557
     32MW065_1,  PRS2,     2,  4,      4,     36,2,19950828,0626, 22.7577,-157.9933, 4725,    201.0,  17.8007,  34.9104,2,  34.9153,2,    193.5,2,    195.3,2,     3.60,2,     3.18,2,     0.27,2,    201,-999.000,  -999.0, 17.7664
     32MW065_1,  PRS2,     2,  4,      3,     35,2,19950828,0626, 22.7577,-157.9933, 4725,    525.9,   6.7860,  34.0429,2,  34.0428,2,    105.2,2,    109.6,2,  -999.00,5,  -999.00,5,  -999.00,5,    526,-999.000,  -999.0,  6.7372
     32MW065_1,  PRS2,     2,  4,      2,     34,2,19950828,0626, 22.7577,-157.9933, 4725,    829.9,   4.5796,  34.3865,2,  34.3868,2,     34.7,2,     31.9,2,  -999.00,5,  -999.00,5,  -999.00,5,    832,-999.000,  -999.0,  4.5143
     32MW065_1,  PRS2,     2,  4,      1,     33,2,19950828,0626, 22.7577,-157.9933, 4725,   1020.4,   3.9246,  34.4668,2,  34.4679,2,     43.6,2,     41.9,2,  -999.00,5,  -999.00,5,  -999.00,5,   1021,-999.000,  -999.0,  3.8479
     32MW065_1,  PRS2,     2,  5,     24,     31,2,19950828,0927, 22.7915,-157.9708, 4700,      4.4,  25.9293,  34.9444,2,  34.9425,2,    205.9,1,   -999.0,9,  -999.00,9,  -999.00,9,  -999.00,9,      5,-999.000,  -999.0, 25.9283
     32MW065_1,  PRS2,     2,  5,     23,     30,2,19950828,0927, 22.7915,-157.9708, 4700,     24.9,  25.9312,  34.9451,2,  34.9440,2,    206.0,1,   -999.0,9,  -999.00,9,  -999.00,9,  -999.00,9,     25,-999.000,  -999.0, 25.9256
     32MW065_1,  PRS2,     2,  5,     22,     22,2,19950828,0927, 22.7915,-157.9708, 4700,     44.6,  25.7977,  35.0293,2,  35.0449,3,    205.0,1,   -999.0,9,  -999.00,9,  -999.00,9,  -999.00,9,     45,-999.000,  -999.0, 25.7878
     32MW065_1,  PRS2,     2,  5,     21,     21,2,19950828,0927, 22.7915,-157.9708, 4700,     59.4,  23.1709,  35.0997,2,  35.1033,2,    204.4,1,   -999.0,9,  -999.00,9,  -999.00,9,  -999.00,9,     60,-999.000,  -999.0, 23.1587
     32MW065_1,  PRS2,     2,  5,     20,     20,2,19950828,0927, 22.7915,-157.9708, 4700,     74.1,  22.6778,  35.1248,2,  35.1279,2,    210.7,1,   -999.0,9,  -999.00,9,  -999.00,9,  -999.00,9,     75,-999.000,  -999.0, 22.6628
     32MW065_1,  PRS2,     2,  5,     19,     19,2,19950828,0927, 22.7915,-157.9708, 4700,     90.0,  21.5397,  35.1645,2,  35.1654,2,    211.3,1,   -999.0,9,  -999.00,9,  -999.00,9,  -999.00,9,     90,-999.000,  -999.0, 21.5222
     32MW065_1,  PRS2,     2,  5,     18,     18,2,19950828,0927, 22.7915,-157.9708, 4700,     99.9,  21.0390,  35.1696,2,  35.1693,2,    210.2,1,   -999.0,9,  -999.00,9,  -999.00,9,  -999.00,9,     99,-999.000,  -999.0, 21.0199
     32MW065_1,  PRS2,     2,  5,     17,     17,2,19950828,0927, 22.7915,-157.9708, 4700,    109.6,  20.8583,  35.1654,2,  35.1665,2,    218.0,1,   -999.0,9,  -999.00,9,  -999.00,9,  -999.00,9,    110,-999.000,  -999.0, 20.8374
     32MW065_1,  PRS2,     2,  5,     16,     16,2,19950828,0927, 22.7915,-157.9708, 4700,    118.7,  20.6567,  35.1659,2,  35.1654,2,    203.4,1,   -999.0,9,  -999.00,9,  -999.00,9,  -999.00,9,    120,-999.000,  -999.0, 20.6343
     32MW065_1,  PRS2,     2,  5,     15,     15,2,19950828,0927, 22.7915,-157.9708, 4700,    129.0,  20.1321,  35.1307,2,  35.1346,2,    173.3,1,   -999.0,9,  -999.00,9,  -999.00,9,  -999.00,9,    129,-999.000,  -999.0, 20.1081
     32MW065_1,  PRS2,     2,  5,     14,     14,2,19950828,0927, 22.7915,-157.9708, 4700,    139.1,  19.7443,  35.1049,2,  35.1029,2,    180.8,1,   -999.0,9,  -999.00,9,  -999.00,9,  -999.00,9,    139,-999.000,  -999.0, 19.7188
     32MW065_1,  PRS2,     2,  5,     13,     13,2,19950828,0927, 22.7915,-157.9708, 4700,    149.9,  19.1936,  35.0771,2,  35.0797,2,    189.8,1,   -999.0,9,  -999.00,9,  -999.00,9,  -999.00,9,    150,-999.000,  -999.0, 19.1667
     32MW065_1,  PRS2,     2,  5,     12,     12,2,19950828,0927, 22.7915,-157.9708, 4700,    159.4,  18.7613,  35.0237,2,  35.0262,2,    192.8,1,   -999.0,9,  -999.00,9,  -999.00,9,  -999.00,9,    160,-999.000,  -999.0, 18.7332
     32MW065_1,  PRS2,     2,  5,     11,     11,2,19950828,0927, 22.7915,-157.9708, 4700,    169.0,  18.4317,  34.9922,2,  34.9939,2,    188.5,1,   -999.0,9,  -999.00,9,  -999.00,9,  -999.00,9,    169,-999.000,  -999.0, 18.4022
     32MW065_1,  PRS2,     2,  5,     10,     32,2,19950828,0927, 22.7915,-157.9708, 4700,    179.2,  18.0499,  34.9436,2,  34.9445,2,    192.8,1,   -999.0,9,  -999.00,9,  -999.00,9,  -999.00,9,    180,-999.000,  -999.0, 18.0191
     32MW065_1,  PRS2,     2,  5,      9,      3,2,19950828,0927, 22.7915,-157.9708, 4700,    200.5,  17.0712,  34.8121,2,  34.8163,2,    175.7,1,   -999.0,9,  -999.00,9,  -999.00,9,  -999.00,9,    200,-999.000,  -999.0, 17.0380
     32MW065_1,  PRS2,     2,  5,      8,     29,2,19950828,0927, 22.7915,-157.9708, 4700,    299.1,  12.2653,  34.2744,2,  34.2772,2,    190.1,1,   -999.0,9,  -999.00,9,  -999.00,9,  -999.00,9,    298,-999.000,  -999.0, 12.2258
     32MW065_1,  PRS2,     2,  5,      7,     28,2,19950828,0927, 22.7915,-157.9708, 4700,    397.2,   9.0620,  34.0845,2,  34.0863,2,    164.0,1,   -999.0,9,  -999.00,9,  -999.00,9,  -999.00,9,    397,-999.000,  -999.0,  9.0186
     32MW065_1,  PRS2,     2,  5,      6,      7,2,19950828,0927, 22.7915,-157.9708, 4700,    499.3,   7.0469,  34.0483,2,  34.0483,2,    114.4,1,   -999.0,9,  -999.00,9,  -999.00,9,  -999.00,9,    500,-999.000,  -999.0,  6.9997
     32MW065_1,  PRS2,     2,  5,      5,     23,2,19950828,0927, 22.7915,-157.9708, 4700,    598.7,   5.7837,  34.1453,2,  34.1448,2,     47.4,1,   -999.0,9,  -999.00,9,  -999.00,9,  -999.00,9,    599,-999.000,  -999.0,  5.7323
     32MW065_1,  PRS2,     2,  5,      4,     36,2,19950828,0927, 22.7915,-157.9708, 4700,    700.7,   5.3931,  34.3085,2,  34.3061,2,     28.2,1,   -999.0,9,  -999.00,9,  -999.00,9,  -999.00,9,    701,-999.000,  -999.0,  5.3344
     32MW065_1,  PRS2,     2,  5,      3,     35,2,19950828,0927, 22.7915,-157.9708, 4700,    750.1,   4.7511,  34.2861,2,  34.2859,2,     24.0,1,   -999.0,9,  -999.00,9,  -999.00,9,  -999.00,9,    750,-999.000,  -999.0,  4.6917
     32MW065_1,  PRS2,     2,  5,      2,     34,2,19950828,0927, 22.7915,-157.9708, 4700,    826.0,   4.5544,  34.3773,2,  34.3791,2,     29.6,1,   -999.0,9,  -999.00,9,  -999.00,9,  -999.00,9,    826,-999.000,  -999.0,  4.4896
     32MW065_1,  PRS2,     2,  5,      1,     33,2,19950828,0927, 22.7915,-157.9708, 4700,   1020.7,   3.8853,  34.4720,2,  34.4672,2,     40.5,1,   -999.0,9,  -999.00,9,  -999.00,9,  -999.00,9,   1021,-999.000,  -999.0,  3.8088