BOTTLE,20030917WHPSIODMB
EXPOCODE,SECT_ID,STNNBR,CASTNO,SAMPNO,BTLNBR,BTLNBR_FLAG_W,DATE,TIME,LATITUDE,LONGITUDE,DEPTH,CTDPRS,CTDTMP,CTDSAL,CTDSAL_FLAG_W,SALNTY,SALNTY_FLAG_W,CTDOXY,CTDOXY_FLAG_W,OXYGEN,OXYGEN_FLAG_W,SILCAT,SILCAT_FLAG_W,NO2+NO3,NO2+NO3_FLAG_W,PHSPHT,PHSPHT_FLAG_W,THETA
,,,,,,,,,,,,DBAR,DEG C,PSS-78,,PSS-78,,UMOL/KG,,UMOL/KG,,UMOL/KG,,UMOL/KG,,UMOL/KG,,DEG C
    09AR9309_1,  SR03,    42,  1,     12,    112,2,19930323,2042,-60.3513, 139.8500, 4400,   1197.3,   1.8610,  34.7470,2,  34.7480,2,   -999.0,5,    187.7,2,    82.80,2,    31.10,2,     2.13,2,  1.7880
    09AR9309_1,  SR03,    42,  1,     11,    111,2,19930323,2042,-60.3513, 139.8500, 4400,   1400.7,   1.6890,  34.7500,2,  34.7510,2,   -999.0,5,    192.4,2,    87.50,2,    30.90,2,     2.12,2,  1.6040
    09AR9309_1,  SR03,    42,  1,     10,    110,2,19930323,2042,-60.3513, 139.8500, 4400,   1599.1,   1.5120,  34.7470,2,  34.7480,2,   -999.0,5,    195.8,2,    91.70,2,    31.20,2,     2.15,2,  1.4140
    09AR9309_1,  SR03,    42,  1,      9,    109,2,19930323,2042,-60.3513, 139.8500, 4400,   1801.4,   1.3030,  34.7380,2,  34.7390,2,   -999.0,5,    197.6,2,    98.10,2,    31.50,2,     2.17,2,  1.1930
    09AR9309_1,  SR03,    42,  1,      8,    108,2,19930323,2042,-60.3513, 139.8500, 4400,   2000.3,   1.1640,  34.7320,2,  34.7330,2,   -999.0,5,    198.1,2,   101.50,2,    31.70,2,     2.18,2,  1.0400
    09AR9309_1,  SR03,    42,  1,      7,    107,2,19930323,2042,-60.3513, 139.8500, 4400,   2204.4,   1.0020,  34.7250,2,  34.7250,2,   -999.0,5,    199.4,2,   105.60,2,    31.90,2,     2.20,2,  0.8650
    09AR9309_1,  SR03,    42,  1,      6,    106,2,19930323,2042,-60.3513, 139.8500, 4400,   2402.2,   0.8290,  34.7160,2,  34.7160,2,   -999.0,5,    202.5,2,   110.80,2,    32.40,2,     2.22,2,  0.6790
    09AR9309_1,  SR03,    42,  1,      5,    105,2,19930323,2042,-60.3513, 139.8500, 4400,   2704.9,   0.6260,  34.7040,2,  34.7060,2,   -999.0,5,    205.9,2,   115.90,2,    32.60,2,     2.27,2,  0.4540
    09AR9309_1,  SR03,    42,  1,      4,    104,2,19930323,2042,-60.3513, 139.8500, 4400,   3005.6,   0.4090,  34.6950,2,  34.6950,2,   -999.0,5,    211.0,2,   119.40,2,    32.70,2,     2.27,2,  0.2160
    09AR9309_1,  SR03,    42,  1,      3,    103,2,19930323,2042,-60.3513, 139.8500, 4400,   3307.0,   0.2640,  34.6900,2,  34.6900,2,   -999.0,5,    215.4,2,   121.90,2,    32.70,2,     2.27,2,  0.0470
    09AR9309_1,  SR03,    42,  1,      2,    102,2,19930323,2042,-60.3513, 139.8500, 4400,   3608.9,   0.1680,  34.6870,2,  34.6870,2,   -999.0,5,    219.6,2,   115.60,2,    32.40,2,  -999.00,5, -0.0750
    09AR9309_1,  SR03,    42,  1,      1,    101,2,19930323,2042,-60.3513, 139.8500, 4400,   3847.1,   0.0870,  34.6840,2,  34.6840,2,   -999.0,5,    221.6,2,  -999.00,9,    32.50,2,     2.24,3, -0.1770
    09AR9309_1,  SR03,    43,  1,     12,    112,2,19930323,2311,-60.3558, 139.8500, 4400,     11.2,   2.8300,  33.8690,2,  33.8700,2,   -999.0,5,    313.5,2,     6.30,2,    25.70,2,  -999.00,5,  2.8300
    09AR9309_1,  SR03,    43,  1,     11,    111,2,19930323,2311,-60.3558, 139.8500, 4400,     21.2,   2.8300,  33.8690,2,  33.8690,2,   -999.0,5,    313.1,2,     6.20,2,    25.80,2,     1.75,2,  2.8290
    09AR9309_1,  SR03,    43,  1,     10,    110,2,19930323,2311,-60.3558, 139.8500, 4400,     50.9,   2.8300,  33.8680,2,  33.8690,2,   -999.0,5,    313.7,2,     6.30,2,    25.70,2,     1.75,2,  2.8280
    09AR9309_1,  SR03,    43,  1,      9,    109,2,19930323,2311,-60.3558, 139.8500, 4400,    102.3,   0.4860,  33.9730,2,  33.9740,2,   -999.0,5,    320.1,2,    27.40,2,    28.60,2,     2.06,2,  0.4820
    09AR9309_1,  SR03,    43,  1,      8,    108,2,19930323,2311,-60.3558, 139.8500, 4400,    153.0,   1.1870,  34.1600,2,  34.1590,2,   -999.0,5,    257.1,2,    40.70,2,    32.60,2,     2.25,2,  1.1800
    09AR9309_1,  SR03,    43,  1,      7,    107,2,19930323,2311,-60.3558, 139.8500, 4400,    201.3,   1.8970,  34.3320,3,  34.3260,2,   -999.0,5,    205.3,2,    55.30,2,    35.60,2,     2.41,2,  1.8870
    09AR9309_1,  SR03,    43,  1,      6,    106,2,19930323,2311,-60.3558, 139.8500, 4400,    300.1,   2.1300,  34.4750,2,  34.4750,2,   -999.0,5,    175.9,2,    64.60,2,    35.10,2,     2.46,2,  2.1140
    09AR9309_1,  SR03,    43,  1,      5,    105,2,19930323,2311,-60.3558, 139.8500, 4400,    400.2,   2.2050,  34.5540,2,  34.5550,2,   -999.0,5,    168.1,2,    69.10,2,    35.00,2,     2.43,2,  2.1830
    09AR9309_1,  SR03,    43,  1,      4,    104,2,19930323,2311,-60.3558, 139.8500, 4400,    497.7,   2.2310,  34.6090,2,  34.6080,2,   -999.0,5,    169.0,2,    72.00,2,    34.20,2,     2.37,2,  2.2030
    09AR9309_1,  SR03,    43,  1,      3,    103,2,19930323,2311,-60.3558, 139.8500, 4400,    602.6,   2.1950,  34.6490,2,  34.6480,2,   -999.0,5,    170.6,2,    73.50,2,    34.10,2,     2.32,2,  2.1600
    09AR9309_1,  SR03,    43,  1,      2,    102,2,19930323,2311,-60.3558, 139.8500, 4400,    800.1,   2.1000,  34.7060,2,  34.7040,2,   -999.0,5,    176.0,2,    77.00,2,    32.50,2,  -999.00,5,  2.0530
    09AR9309_1,  SR03,    43,  1,      1,    101,2,19930323,2311,-60.3558, 139.8500, 4400,   1000.6,   1.9890,  34.7350,2,  34.7340,2,   -999.0,5,    183.6,2,    80.30,2,    31.60,2,     2.17,2,  1.9290
    09AR9309_1,  SR03,    44,  1,     12,    112,2,19930326,0028,-60.8453, 139.8558, 4400,   1200.4,   1.7060,  34.7510,2,  34.7520,2,   -999.0,5,    190.9,2,    87.00,2,    31.10,2,  -999.00,5,  1.6350
    09AR9309_1,  SR03,    44,  1,     11,    111,2,19930326,0028,-60.8453, 139.8558, 4400,   1399.3,   1.5380,  34.7510,2,  34.7510,2,   -999.0,5,    193.7,2,    91.90,2,    31.00,2,     2.13,2,  1.4540
    09AR9309_1,  SR03,    44,  1,     10,    110,2,19930326,0028,-60.8453, 139.8558, 4400,   1599.8,   1.3690,  34.7460,2,  34.7460,2,   -999.0,5,    196.6,2,    97.00,2,    31.10,2,     2.14,2,  1.2730
    09AR9309_1,  SR03,    44,  1,      9,    109,2,19930326,0028,-60.8453, 139.8558, 4400,   1799.9,   1.2050,  34.7380,2,  34.7610,4,   -999.0,5,    198.2,2,   101.40,2,    31.50,2,     2.16,2,  1.0960
    09AR9309_1,  SR03,    44,  1,      8,    108,2,19930326,0028,-60.8453, 139.8558, 4400,   2001.3,   1.0510,  34.7300,2,  34.7300,2,   -999.0,5,    199.4,2,   105.00,2,    31.70,2,     2.19,2,  0.9290
    09AR9309_1,  SR03,    44,  1,      7,    107,2,19930326,0028,-60.8453, 139.8558, 4400,   2201.6,   0.9040,  34.7220,2,  34.7220,2,   -999.0,5,    200.9,2,   109.20,2,    32.00,2,     2.21,2,  0.7690
    09AR9309_1,  SR03,    44,  1,      6,    106,2,19930326,0028,-60.8453, 139.8558, 4400,   2601.9,   0.6100,  34.7070,2,  34.7060,2,   -999.0,5,    206.2,2,   116.00,2,    32.90,2,     2.24,2,  0.4470
    09AR9309_1,  SR03,    44,  1,      5,    105,2,19930326,0028,-60.8453, 139.8558, 4400,   3002.9,   0.3610,  34.6960,2,  34.6950,2,   -999.0,5,    211.9,2,   119.20,2,    32.60,2,     2.25,2,  0.1690
    09AR9309_1,  SR03,    44,  1,      4,    104,2,19930326,0028,-60.8453, 139.8558, 4400,   3406.0,   0.1850,  34.6910,2,  34.6900,2,   -999.0,5,    217.8,2,   121.70,2,    32.60,2,     2.26,2, -0.0390
    09AR9309_1,  SR03,    44,  1,      3,    103,2,19930326,0028,-60.8453, 139.8558, 4400,   3806.0,   0.0360,  34.6860,2,  34.6870,2,   -999.0,5,    224.1,2,   117.50,2,    32.40,2,     2.23,2, -0.2220
    09AR9309_1,  SR03,    44,  1,      2,    102,2,19930326,0028,-60.8453, 139.8558, 4400,   4204.5,  -0.1000,  34.6840,2,  34.6850,2,   -999.0,5,   -999.0,5,   108.30,2,    32.10,2,     2.22,2, -0.3940
    09AR9309_1,  SR03,    44,  1,      1,    101,2,19930326,0028,-60.8453, 139.8558, 4400,   4455.6,  -0.1550,  34.6830,2,  34.6820,2,   -999.0,5,   -999.0,5,   106.70,2,    32.00,2,     2.21,2, -0.4730
    09AR9309_1,  SR03,    45,  1,     12,    112,2,19930326,0237,-60.8380, 139.8617, 4400,     10.5,   1.8470,  33.9250,2,  33.9260,2,   -999.0,5,    321.9,2,    18.20,2,    26.70,2,  -999.00,5,  1.8470
    09AR9309_1,  SR03,    45,  1,     11,    111,2,19930326,0237,-60.8380, 139.8617, 4400,     51.0,   1.8390,  33.9260,2,  33.9260,2,   -999.0,5,    323.4,2,    18.40,2,    26.90,2,     1.79,2,  1.8370
    09AR9309_1,  SR03,    45,  1,     10,    110,2,19930326,0237,-60.8380, 139.8617, 4400,     81.5,   1.7520,  33.9360,4,  33.9340,2,   -999.0,5,    326.7,2,    19.50,2,    26.90,2,     1.82,2,  1.7480
    09AR9309_1,  SR03,    45,  1,      9,    109,2,19930326,0237,-60.8380, 139.8617, 4400,    120.5,  -0.2420,  34.0610,2,  34.0590,2,   -999.0,5,    321.5,2,    38.00,2,    29.50,2,     2.11,2, -0.2460
    09AR9309_1,  SR03,    45,  1,      8,    108,2,19930326,0237,-60.8380, 139.8617, 4400,    201.6,   1.7600,  34.4360,3,  34.4390,2,   -999.0,5,    188.1,2,    64.10,2,    35.40,2,  -999.00,5,  1.7500
    09AR9309_1,  SR03,    45,  1,      7,    107,2,19930326,0237,-60.8380, 139.8617, 4400,    302.2,   2.0910,  34.5630,2,  34.5610,2,   -999.0,5,    171.4,2,    72.40,2,    35.10,2,     2.44,2,  2.0750
    09AR9309_1,  SR03,    45,  1,      6,    106,2,19930326,0237,-60.8380, 139.8617, 4400,    400.7,   2.1140,  34.6240,2,  34.6230,2,   -999.0,5,    168.6,2,    75.60,2,    34.10,2,     2.37,2,  2.0920
    09AR9309_1,  SR03,    45,  1,      5,    105,2,19930326,0237,-60.8380, 139.8617, 4400,    499.8,   2.1030,  34.6590,2,  34.6590,2,   -999.0,5,    173.5,2,    76.40,2,    33.40,2,     2.31,2,  2.0750
    09AR9309_1,  SR03,    45,  1,      4,    104,2,19930326,0237,-60.8380, 139.8617, 4400,    598.9,   2.0650,  34.6920,2,  34.6920,2,   -999.0,5,    176.6,2,    78.30,2,    32.60,2,     2.26,2,  2.0310
    09AR9309_1,  SR03,    45,  1,      3,    103,2,19930326,0237,-60.8380, 139.8617, 4400,    700.3,   2.0160,  34.7140,2,  34.7140,2,   -999.0,5,    181.1,2,    79.20,2,    32.00,2,     2.22,2,  1.9760
    09AR9309_1,  SR03,    45,  1,      2,    102,2,19930326,0237,-60.8380, 139.8617, 4400,    798.1,   1.9360,  34.7280,2,  34.7270,2,   -999.0,5,    182.6,2,    81.60,2,    31.70,2,     2.19,2,  1.8900
    09AR9309_1,  SR03,    45,  1,      1,    101,2,19930326,0237,-60.8380, 139.8617, 4400,    999.1,   1.8400,  34.7460,2,  34.7450,2,   -999.0,5,    185.7,2,    83.70,2,    31.20,2,     2.15,2,  1.7810
    09AR9309_1,  SR03,    46,  1,     12,    112,2,19930326,0719,-61.3457, 139.8435, 4350,   1201.0,   1.6570,  34.7500,2,  34.7500,2,   -999.0,5,    191.6,2,    88.40,2,    30.90,2,  -999.00,5,  1.5860
    09AR9309_1,  SR03,    46,  1,     11,    111,2,19930326,0719,-61.3457, 139.8435, 4350,   1397.6,   1.5050,  34.7470,2,  34.7480,2,   -999.0,5,    194.0,2,    92.50,2,    31.00,2,     2.11,2,  1.4220
    09AR9309_1,  SR03,    46,  1,     10,    110,2,19930326,0719,-61.3457, 139.8435, 4350,   1601.1,   1.3280,  34.7430,2,  34.7420,2,   -999.0,5,    196.6,2,    97.30,2,    31.20,2,     2.13,2,  1.2320
    09AR9309_1,  SR03,    46,  1,      9,    109,2,19930326,0719,-61.3457, 139.8435, 4350,   1801.0,   1.1570,  34.7350,2,  34.7350,2,   -999.0,5,    199.2,2,   101.80,2,    31.60,2,     2.16,2,  1.0490
    09AR9309_1,  SR03,    46,  1,      8,    108,2,19930326,0719,-61.3457, 139.8435, 4350,   2001.9,   1.0060,  34.7270,2,  34.7280,2,   -999.0,5,    199.9,2,   106.50,2,    31.70,2,     2.18,2,  0.8850
    09AR9309_1,  SR03,    46,  1,      7,    107,2,19930326,0719,-61.3457, 139.8435, 4350,   2203.6,   0.8720,  34.7200,2,  34.7210,2,   -999.0,5,    202.1,2,   109.30,2,    31.90,2,     2.19,2,  0.7370
    09AR9309_1,  SR03,    46,  1,      6,    106,2,19930326,0719,-61.3457, 139.8435, 4350,   2604.2,   0.5810,  34.7050,2,  34.7060,2,   -999.0,5,    206.2,2,   116.60,2,    32.60,2,     2.23,2,  0.4190
    09AR9309_1,  SR03,    46,  1,      5,    105,2,19930326,0719,-61.3457, 139.8435, 4350,   3003.0,   0.3480,  34.6960,2,  34.6960,2,   -999.0,5,    213.2,2,   119.90,2,    32.50,2,     2.24,2,  0.1560
    09AR9309_1,  SR03,    46,  1,      4,    104,2,19930326,0719,-61.3457, 139.8435, 4350,   3406.5,   0.1760,  34.6890,2,  34.6890,2,   -999.0,5,    219.2,2,   122.70,2,    32.70,2,     2.24,2, -0.0480
    09AR9309_1,  SR03,    46,  1,      3,    103,2,19930326,0719,-61.3457, 139.8435, 4350,   3807.0,   0.0270,  34.6840,2,  34.6840,2,   -999.0,5,    222.8,2,   119.70,2,    32.40,2,     2.23,2, -0.2310
    09AR9309_1,  SR03,    46,  1,      2,    102,2,19930326,0719,-61.3457, 139.8435, 4350,   4204.2,  -0.1070,  34.6810,2,  34.6830,2,   -999.0,5,    231.4,2,   108.10,2,    32.30,2,     2.21,2, -0.4010
    09AR9309_1,  SR03,    46,  1,      1,    101,2,19930326,0719,-61.3457, 139.8435, 4350,   4393.6,  -0.1620,  34.6790,2,  34.6800,2,   -999.0,5,    235.0,2,   105.80,2,    32.00,2,     2.20,2, -0.4740
    09AR9309_1,  SR03,    47,  1,     12,    112,2,19930326,0941,-61.3523, 139.8458, 4350,     13.0,   1.6640,  33.9050,2,  33.9020,2,   -999.0,5,    325.2,2,    20.30,2,    26.80,2,  -999.00,5,  1.6640
    09AR9309_1,  SR03,    47,  1,     11,    111,2,19930326,0941,-61.3523, 139.8458, 4350,     51.1,   1.6360,  33.9040,2,  33.9030,2,   -999.0,5,    322.8,2,    20.20,2,    26.80,2,     1.78,2,  1.6340
    09AR9309_1,  SR03,    47,  1,     10,    110,2,19930326,0941,-61.3523, 139.8458, 4350,    105.9,  -0.3230,  34.0620,2,  34.0520,2,   -999.0,5,    317.9,2,    34.70,2,    29.50,2,     2.10,2, -0.3260
    09AR9309_1,  SR03,    47,  1,      9,    109,2,19930326,0941,-61.3523, 139.8458, 4350,    150.8,   0.6940,  34.2840,2,  34.2940,2,   -999.0,5,    235.8,2,    52.00,2,    34.00,2,     2.33,2,  0.6880
    09AR9309_1,  SR03,    47,  1,      8,    108,2,19930326,0941,-61.3523, 139.8458, 4350,    201.7,   1.8830,  34.4750,2,  34.4760,2,   -999.0,5,   -999.0,9,    61.80,2,    35.40,2,     2.45,2,  1.8730
    09AR9309_1,  SR03,    47,  1,      7,    107,2,19930326,0941,-61.3523, 139.8458, 4350,    301.6,   2.0710,  34.5820,2,  34.5790,2,   -999.0,5,    170.7,2,    68.20,2,    35.00,2,     2.40,2,  2.0550
    09AR9309_1,  SR03,    47,  1,      6,    106,2,19930326,0941,-61.3523, 139.8458, 4350,    400.8,   2.0840,  34.6380,2,  34.6350,2,   -999.0,5,    170.7,2,    70.70,2,    33.90,2,     2.33,2,  2.0620
    09AR9309_1,  SR03,    47,  1,      5,    105,2,19930326,0941,-61.3523, 139.8458, 4350,    500.9,   2.0810,  34.6750,2,  34.6740,2,   -999.0,5,    174.6,2,    72.20,2,    33.20,2,     2.27,2,  2.0530
    09AR9309_1,  SR03,    47,  1,      4,    104,2,19930326,0941,-61.3523, 139.8458, 4350,    599.4,   2.0620,  34.7040,2,  34.7040,2,   -999.0,5,    176.9,2,    72.90,2,    32.40,2,     2.23,2,  2.0280
    09AR9309_1,  SR03,    47,  1,      3,    103,2,19930326,0941,-61.3523, 139.8458, 4350,    698.4,   2.0400,  34.7220,2,  34.7220,2,   -999.0,5,    180.5,2,    72.90,2,    31.90,2,     2.18,2,  2.0000
    09AR9309_1,  SR03,    47,  1,      2,    102,2,19930326,0941,-61.3523, 139.8458, 4350,    808.1,   1.9650,  34.7330,2,  34.7310,2,   -999.0,5,    183.6,2,    74.80,2,    31.60,2,     2.16,2,  1.9180
    09AR9309_1,  SR03,    47,  1,      1,    101,2,19930326,0941,-61.3523, 139.8458, 4350,   1000.0,   1.8160,  34.7470,2,  34.7470,2,   -999.0,5,    188.6,2,    77.90,2,    31.20,2,     2.13,2,  1.7570
    09AR9309_1,  SR03,    48,  1,     12,    112,2,19930326,1537,-61.8477, 139.8568, 4290,   1198.6,   1.5200,  34.7460,2,  34.7480,2,   -999.0,5,    183.8,2,    90.60,2,    30.90,2,  -999.00,5,  1.4510
    09AR9309_1,  SR03,    48,  1,     11,    111,2,19930326,1537,-61.8477, 139.8568, 4290,   1399.0,   1.3550,  34.7410,2,  34.7390,2,   -999.0,5,    186.5,2,    95.10,2,    31.20,2,     2.15,2,  1.2730
    09AR9309_1,  SR03,    48,  1,     10,    110,2,19930326,1537,-61.8477, 139.8568, 4290,   1600.2,   1.2240,  34.7370,2,  34.7350,2,   -999.0,5,   -999.0,5,    99.00,2,    31.40,2,     2.17,2,  1.1300
    09AR9309_1,  SR03,    48,  1,      9,    109,2,19930326,1537,-61.8477, 139.8568, 4290,   1800.1,   1.0660,  34.7300,2,  34.7270,2,   -999.0,5,   -999.0,5,   104.40,2,    31.70,2,     2.19,2,  0.9590
    09AR9309_1,  SR03,    48,  1,      8,    108,2,19930326,1537,-61.8477, 139.8568, 4290,   2001.4,   0.9320,  34.7230,2,  34.7210,2,   -999.0,5,   -999.0,5,   107.70,2,    32.00,2,     2.20,2,  0.8120
    09AR9309_1,  SR03,    48,  1,      7,    107,2,19930326,1537,-61.8477, 139.8568, 4290,   2201.5,   0.7940,  34.7160,2,  34.7160,2,   -999.0,5,    200.4,2,   110.50,2,    32.10,2,     2.22,2,  0.6600
    09AR9309_1,  SR03,    48,  1,      6,    106,2,19930326,1537,-61.8477, 139.8568, 4290,   2604.2,   0.5090,  34.7000,2,  34.7020,2,   -999.0,5,    206.3,2,   116.90,2,    32.50,2,     2.26,2,  0.3480
    09AR9309_1,  SR03,    48,  1,      5,    105,2,19930326,1537,-61.8477, 139.8568, 4290,   3004.1,   0.3070,  34.6920,2,  34.6930,2,   -999.0,5,    212.3,2,   119.40,2,    32.40,2,     2.26,2,  0.1160
    09AR9309_1,  SR03,    48,  1,      4,    104,2,19930326,1537,-61.8477, 139.8568, 4290,   3404.5,   0.1460,  34.6870,2,  34.6910,2,   -999.0,5,    217.8,2,   118.30,2,    32.20,2,     2.26,2, -0.0770
    09AR9309_1,  SR03,    48,  1,      3,    103,2,19930326,1537,-61.8477, 139.8568, 4290,   3804.8,   0.0030,  34.6830,2,  34.6850,2,   -999.0,5,    225.5,2,   113.60,2,    32.20,2,     2.24,2, -0.2540
    09AR9309_1,  SR03,    48,  1,      2,    102,2,19930326,1537,-61.8477, 139.8568, 4290,   4207.1,  -0.1040,  34.6820,2,  34.6840,2,   -999.0,5,   -999.0,5,   107.60,2,    32.00,2,     2.22,2, -0.3980
    09AR9309_1,  SR03,    48,  1,      1,    101,2,19930326,1537,-61.8477, 139.8568, 4290,   4325.1,  -0.1770,  34.6800,2,  34.6820,2,   -999.0,5,   -999.0,5,   101.60,2,    31.80,2,     2.20,2, -0.4810
    09AR9309_1,  SR03,    49,  1,     12,    112,2,19930326,1742,-61.8527, 139.8590, 4285,     11.1,   1.2700,  33.9600,2,  33.9610,2,   -999.0,5,    322.5,2,    33.00,2,    27.30,2,  -999.00,5,  1.2700
    09AR9309_1,  SR03,    49,  1,     11,    111,2,19930326,1742,-61.8527, 139.8590, 4285,     21.1,   1.2640,  33.9620,2,  33.9590,2,   -999.0,5,    323.8,2,    32.90,2,    27.10,2,     1.78,2,  1.2630
    09AR9309_1,  SR03,    49,  1,     10,    110,2,19930326,1742,-61.8527, 139.8590, 4285,     51.9,   1.2530,  33.9670,2,  33.9620,2,   -999.0,5,    323.5,2,    33.20,2,    27.30,2,     1.81,2,  1.2510
    09AR9309_1,  SR03,    49,  1,      9,    109,2,19930326,1742,-61.8527, 139.8590, 4285,     80.1,  -0.3630,  34.0600,3,  34.0640,2,   -999.0,5,    311.4,2,    39.50,2,    29.50,2,     2.09,2, -0.3660
    09AR9309_1,  SR03,    49,  1,      8,    108,2,19930326,1742,-61.8527, 139.8590, 4285,    102.4,  -0.0540,  34.1870,4,  34.1870,2,   -999.0,5,    285.0,2,    49.30,2,    31.60,2,     2.20,2, -0.0580
    09AR9309_1,  SR03,    49,  1,      7,    107,2,19930326,1742,-61.8527, 139.8590, 4285,    151.4,   1.4660,  34.4480,4,  34.4460,2,   -999.0,5,    193.3,2,    63.60,2,    34.80,2,     2.43,2,  1.4590
    09AR9309_1,  SR03,    49,  1,      6,    106,2,19930326,1742,-61.8527, 139.8590, 4285,    199.2,   1.8560,  34.5340,3,  34.5350,2,   -999.0,5,    175.2,2,    69.30,2,    35.00,2,     2.44,2,  1.8460
    09AR9309_1,  SR03,    49,  1,      5,    105,2,19930326,1742,-61.8527, 139.8590, 4285,    301.8,   1.9790,  34.6250,2,  34.6230,2,   -999.0,5,    169.6,2,    74.10,2,    34.00,2,     2.40,2,  1.9630
    09AR9309_1,  SR03,    49,  1,      4,    104,2,19930326,1742,-61.8527, 139.8590, 4285,    398.3,   1.9880,  34.6640,3,  34.6640,2,   -999.0,5,    172.2,2,    75.70,2,    33.30,2,     2.30,2,  1.9660
    09AR9309_1,  SR03,    49,  1,      3,    103,2,19930326,1742,-61.8527, 139.8590, 4285,    600.6,   1.8990,  34.7070,2,  34.7100,2,   -999.0,5,    180.2,2,    78.30,2,    32.10,2,     2.22,2,  1.8660
    09AR9309_1,  SR03,    49,  1,      2,    102,2,19930326,1742,-61.8527, 139.8590, 4285,    798.8,   1.7970,  34.7360,2,  34.7390,2,   -999.0,5,    185.6,2,    81.30,2,    31.30,2,     2.17,2,  1.7520
    09AR9309_1,  SR03,    49,  1,      1,    101,2,19930326,1742,-61.8527, 139.8590, 4285,    998.9,   1.6800,  34.7400,2,  34.7480,2,   -999.0,5,    190.2,2,    83.40,2,    31.00,2,     2.15,2,  1.6230