BOTTLE,20030917WHPSIODMB
EXPOCODE,SECT_ID,STNNBR,CASTNO,SAMPNO,BTLNBR,BTLNBR_FLAG_W,DATE,TIME,LATITUDE,LONGITUDE,DEPTH,CTDPRS,CTDTMP,CTDSAL,CTDSAL_FLAG_W,SALNTY,SALNTY_FLAG_W,CTDOXY,CTDOXY_FLAG_W,OXYGEN,OXYGEN_FLAG_W,SILCAT,SILCAT_FLAG_W,NO2+NO3,NO2+NO3_FLAG_W,PHSPHT,PHSPHT_FLAG_W,THETA
,,,,,,,,,,,,DBAR,DEG C,PSS-78,,PSS-78,,UMOL/KG,,UMOL/KG,,UMOL/KG,,UMOL/KG,,UMOL/KG,,DEG C
    09AR9309_1,  SR03,    29,  1,     24,     27,2,19930320,1813,-55.9240, 140.4018, 3600,     11.5,   4.5350,  33.8000,2,  33.8060,2,    349.0,2,   -999.0,5,     1.40,2,    23.70,2,  -999.00,5,  4.5350
    09AR9309_1,  SR03,    29,  1,     23,     23,2,19930320,1813,-55.9240, 140.4018, 3600,     19.3,   4.5310,  33.8020,2,  33.8080,2,    319.1,2,    303.7,2,     1.30,2,    23.70,2,     1.56,2,  4.5310
    09AR9309_1,  SR03,    29,  1,     22,     22,2,19930320,1813,-55.9240, 140.4018, 3600,     51.7,   4.5280,  33.8020,2,  33.8000,2,    306.2,2,    304.4,2,     1.30,2,    23.80,2,     1.57,2,  4.5250
    09AR9309_1,  SR03,    29,  1,     21,     21,2,19930320,1813,-55.9240, 140.4018, 3600,    101.8,   1.6400,  33.9060,3,  33.9080,2,    319.1,2,    316.8,2,    12.40,2,    26.50,2,  -999.00,9,  1.6350
    09AR9309_1,  SR03,    29,  1,     20,     20,2,19930320,1813,-55.9240, 140.4018, 3600,    150.4,   1.0910,  33.9690,3,  33.9550,2,    309.7,2,    306.6,2,    22.60,2,    29.10,2,     2.06,3,  1.0850
    09AR9309_1,  SR03,    29,  1,     19,     19,2,19930320,1813,-55.9240, 140.4018, 3600,    173.4,   1.1120,  33.9890,2,  33.9890,2,    280.9,2,    297.3,2,    25.10,2,    29.60,2,     2.01,2,  1.1040
    09AR9309_1,  SR03,    29,  1,     18,     18,2,19930320,1813,-55.9240, 140.4018, 3600,    197.9,   1.7670,  34.1300,4,  34.1250,2,    247.5,2,    255.1,2,    33.40,2,    31.60,2,     2.14,2,  1.7570
    09AR9309_1,  SR03,    29,  1,     17,     17,2,19930320,1813,-55.9240, 140.4018, 3600,    301.0,   2.1460,  34.3210,2,  34.3180,2,    198.6,2,    206.4,2,    49.10,2,    34.00,2,     2.31,2,  2.1300
    09AR9309_1,  SR03,    29,  1,     16,     16,2,19930320,1813,-55.9240, 140.4018, 3600,    400.5,   2.2290,  34.4270,2,  34.4300,2,    182.0,2,    183.9,2,    58.20,2,    34.50,2,     2.37,2,  2.2070
    09AR9309_1,  SR03,    29,  1,     15,     15,2,19930320,1813,-55.9240, 140.4018, 3600,    496.4,   2.2860,  34.5130,2,  34.5120,2,    171.8,2,    172.7,2,    64.40,2,    34.70,2,     2.38,2,  2.2580
    09AR9309_1,  SR03,    29,  1,     14,     14,2,19930320,1813,-55.9240, 140.4018, 3600,    598.7,   2.3050,  34.5680,2,  34.5680,2,    170.7,2,    169.1,2,    67.60,2,    34.10,2,     2.35,2,  2.2700
    09AR9309_1,  SR03,    29,  1,     13,     13,2,19930320,1813,-55.9240, 140.4018, 3600,    692.9,   2.2860,  34.6190,2,  34.6180,2,    170.7,2,    168.0,2,    70.40,2,    33.60,2,     2.30,2,  2.2450
    09AR9309_1,  SR03,    29,  1,     12,     12,2,19930320,1813,-55.9240, 140.4018, 3600,    795.6,   2.2600,  34.6570,2,  34.6590,2,    173.0,2,    170.4,2,    72.50,2,    33.30,2,  -999.00,5,  2.2120
    09AR9309_1,  SR03,    29,  1,     11,     11,2,19930320,1813,-55.9240, 140.4018, 3600,    900.9,   2.2410,  34.6900,2,  34.6920,2,    177.9,2,    175.4,2,    73.30,2,    32.70,2,     2.18,2,  2.1860
    09AR9309_1,  SR03,    29,  1,     10,     10,2,19930320,1813,-55.9240, 140.4018, 3600,   1092.0,   2.1610,  34.7290,2,  34.7310,2,    179.3,2,    180.6,2,    75.20,2,    31.50,2,     2.11,2,  2.0930
    09AR9309_1,  SR03,    29,  1,      9,     26,2,19930320,1813,-55.9240, 140.4018, 3600,   1301.4,   2.0310,  34.7520,2,  34.7530,2,    186.2,2,    186.2,2,    77.90,2,    30.80,2,     2.07,2,  1.9490
    09AR9309_1,  SR03,    29,  1,      8,      8,2,19930320,1813,-55.9240, 140.4018, 3600,   1493.2,   1.8840,  34.7600,2,  34.7600,2,    190.5,2,    188.9,2,    81.50,2,    30.60,2,     2.06,2,  1.7900
    09AR9309_1,  SR03,    29,  1,      7,      7,2,19930320,1813,-55.9240, 140.4018, 3600,   1696.1,   1.7080,  34.7620,2,  34.7580,2,    195.7,2,    193.4,2,    86.50,2,    30.70,2,     2.06,2,  1.6000
    09AR9309_1,  SR03,    29,  1,      6,      6,2,19930320,1813,-55.9240, 140.4018, 3600,   1895.1,   1.5380,  34.7560,2,  34.7490,2,    193.6,2,    193.8,2,    91.30,2,    30.90,2,     2.08,2,  1.4170
    09AR9309_1,  SR03,    29,  1,      5,     25,2,19930320,1813,-55.9240, 140.4018, 3600,   2094.2,   1.3580,  34.7490,2,  34.7460,2,    198.2,2,    196.4,2,    96.00,2,    31.10,2,     2.09,2,  1.2240
    09AR9309_1,  SR03,    29,  1,      4,      4,2,19930320,1813,-55.9240, 140.4018, 3600,   2396.8,   1.1280,  34.7380,2,  34.7360,2,    195.1,2,    198.9,2,   101.80,2,    31.60,2,     2.13,2,  0.9730
    09AR9309_1,  SR03,    29,  1,      3,      3,2,19930320,1813,-55.9240, 140.4018, 3600,   2797.6,   0.7900,  34.7190,2,  34.7190,2,    205.5,2,    203.3,2,   109.00,2,    32.00,2,     2.17,2,  0.6070
    09AR9309_1,  SR03,    29,  1,      2,      2,2,19930320,1813,-55.9240, 140.4018, 3600,   3202.3,   0.5050,  34.7070,2,  34.7110,2,    207.1,2,    209.4,2,   115.50,2,    32.40,2,     2.21,2,  0.2920
    09AR9309_1,  SR03,    29,  1,      1,      1,2,19930320,1813,-55.9240, 140.4018, 3600,   3598.2,   0.3900,  34.7020,2,  34.7020,2,    210.2,2,    211.2,2,   122.60,2,    32.50,2,     2.21,2,  0.1430
    09AR9309_1,  SR03,    30,  1,     24,     27,2,19930321,0104,-56.4345, 140.1025, 3950,     10.0,   4.3950,  33.8280,2,  33.8270,2,    349.1,2,    305.8,2,     4.70,2,    24.50,2,  -999.00,5,  4.3950
    09AR9309_1,  SR03,    30,  1,     23,     23,2,19930321,0104,-56.4345, 140.1025, 3950,     19.1,   4.3840,  33.8290,2,  33.8270,2,    324.7,2,    305.2,2,     2.60,2,    24.40,2,     1.64,2,  4.3840
    09AR9309_1,  SR03,    30,  1,     22,     22,2,19930321,0104,-56.4345, 140.1025, 3950,     51.1,   4.3700,  33.8300,2,  33.8270,2,    305.2,2,    305.2,2,     2.50,2,    24.40,2,     1.65,2,  4.3670
    09AR9309_1,  SR03,    30,  1,     21,     21,2,19930321,0104,-56.4345, 140.1025, 3950,    101.8,   2.1280,  33.9320,4,  33.9320,2,    307.8,2,    307.9,2,    14.70,2,    27.10,2,  -999.00,5,  2.1230
    09AR9309_1,  SR03,    30,  1,     20,     20,2,19930321,0104,-56.4345, 140.1025, 3950,    151.9,   1.7440,  33.9800,4,  33.9740,2,    301.1,2,    299.7,2,    21.10,2,    28.90,2,     2.01,2,  1.7370
    09AR9309_1,  SR03,    30,  1,     19,     19,2,19930321,0104,-56.4345, 140.1025, 3950,    194.7,   2.2700,  34.1440,4,  34.1390,2,    251.9,2,    252.9,2,    31.80,2,    31.40,2,     2.19,2,  2.2600
    09AR9309_1,  SR03,    30,  1,     18,     18,2,19930321,0104,-56.4345, 140.1025, 3950,    294.1,   2.2650,  34.2870,3,  34.2830,2,    216.4,2,    216.4,2,    45.90,2,    33.80,2,     2.35,2,  2.2490
    09AR9309_1,  SR03,    30,  1,     17,     17,2,19930321,0104,-56.4345, 140.1025, 3950,    399.3,   2.2370,  34.3930,3,  34.3890,2,    186.0,2,    192.2,2,    57.30,2,    34.70,2,     2.43,2,  2.2150
    09AR9309_1,  SR03,    30,  1,     16,     16,2,19930321,0104,-56.4345, 140.1025, 3950,    498.9,   2.3190,  34.4820,2,  34.4860,2,    180.1,2,    178.3,2,    64.00,2,    34.80,2,     2.43,2,  2.2900
    09AR9309_1,  SR03,    30,  1,     15,     15,2,19930321,0104,-56.4345, 140.1025, 3950,    599.3,   2.3270,  34.5510,2,  34.5520,2,    171.0,2,    171.4,2,    69.20,2,    34.60,2,     2.41,2,  2.2920
    09AR9309_1,  SR03,    30,  1,     14,     14,2,19930321,0104,-56.4345, 140.1025, 3950,    694.4,   2.2940,  34.6020,2,  34.6010,2,    170.3,2,    168.6,2,    72.50,2,    34.10,2,     2.39,2,  2.2530
    09AR9309_1,  SR03,    30,  1,     13,     13,2,19930321,0104,-56.4345, 140.1025, 3950,    797.9,   2.2580,  34.6440,2,  34.6410,2,    169.5,2,    168.9,2,    74.60,2,    33.40,2,     2.34,2,  2.2100
    09AR9309_1,  SR03,    30,  1,     12,     12,2,19930321,0104,-56.4345, 140.1025, 3950,    891.5,   2.2460,  34.6760,2,  34.6750,2,    169.1,2,    173.1,2,    76.20,2,    32.70,2,  -999.00,5,  2.1920
    09AR9309_1,  SR03,    30,  1,     11,     11,2,19930321,0104,-56.4345, 140.1025, 3950,    995.6,   2.2440,  34.7070,3,  34.7070,2,    177.8,2,    176.8,2,    76.60,2,    31.90,2,     2.22,2,  2.1830
    09AR9309_1,  SR03,    30,  1,     10,     10,2,19930321,0104,-56.4345, 140.1025, 3950,   1192.0,   2.1020,  34.7340,2,  34.7340,2,    184.0,2,    182.1,2,    79.50,2,    31.40,2,     2.18,2,  2.0280
    09AR9309_1,  SR03,    30,  1,      9,     26,2,19930321,0104,-56.4345, 140.1025, 3950,   1394.2,   1.9970,  34.7530,2,  34.7510,2,    189.0,2,    184.0,2,    82.10,2,    30.70,2,     2.15,2,  1.9090
    09AR9309_1,  SR03,    30,  1,      8,      8,2,19930321,0104,-56.4345, 140.1025, 3950,   1692.3,   1.7520,  34.7600,2,  34.7590,2,    192.4,2,    190.9,2,    88.20,2,    30.50,2,     2.12,2,  1.6440
    09AR9309_1,  SR03,    30,  1,      7,      7,2,19930321,0104,-56.4345, 140.1025, 3950,   1994.1,   1.4930,  34.7540,2,  34.7510,2,    195.7,2,    194.6,2,    97.90,2,    30.80,2,     2.15,2,  1.3650
    09AR9309_1,  SR03,    30,  1,      6,      6,2,19930321,0104,-56.4345, 140.1025, 3950,   2297.1,   1.2390,  34.7430,2,  34.7430,2,    197.9,2,    197.6,2,   101.30,2,    31.30,2,     2.19,2,  1.0900
    09AR9309_1,  SR03,    30,  1,      5,     25,2,19930321,0104,-56.4345, 140.1025, 3950,   2596.2,   1.0080,  34.7300,2,  34.7310,2,    200.3,2,    200.9,2,   105.10,2,    31.60,2,     2.21,2,  0.8380
    09AR9309_1,  SR03,    30,  1,      4,      4,2,19930321,0104,-56.4345, 140.1025, 3950,   2895.9,   0.7730,  34.7190,2,  34.7190,2,    204.7,2,    204.5,2,   108.40,2,    31.90,2,     2.24,2,  0.5820
    09AR9309_1,  SR03,    30,  1,      3,      3,2,19930321,0104,-56.4345, 140.1025, 3950,   3198.9,   0.5430,  34.7080,2,  34.7080,2,    207.6,2,    208.7,2,   123.10,2,    32.20,2,     2.26,2,  0.3290
    09AR9309_1,  SR03,    30,  1,      2,      2,2,19930321,0104,-56.4345, 140.1025, 3950,   3503.2,   0.4030,  34.7030,2,  34.7020,2,    212.0,2,    212.7,2,   128.60,2,    32.30,2,     2.26,2,  0.1640
    09AR9309_1,  SR03,    30,  1,      1,      1,2,19930321,0104,-56.4345, 140.1025, 3950,   4001.6,   0.2830,  34.6970,2,  34.6920,3,    215.1,2,    215.8,2,   132.50,2,    32.40,2,     2.26,2, -0.0020
    09AR9309_1,  SR03,    31,  1,     24,     27,2,19930321,0857,-56.9125, 139.8748, 4100,     10.3,   4.5750,  33.8180,2,  33.8140,2,    373.5,2,    304.6,2,     1.60,2,    24.10,2,  -999.00,5,  4.5750
    09AR9309_1,  SR03,    31,  1,     23,     23,2,19930321,0857,-56.9125, 139.8748, 4100,     23.5,   4.5830,  33.8180,2,  33.8170,2,    315.3,2,    304.3,2,     1.60,2,    24.10,2,     1.61,2,  4.5820
    09AR9309_1,  SR03,    31,  1,     22,     22,2,19930321,0857,-56.9125, 139.8748, 4100,     48.7,   4.5790,  33.8200,2,  33.8190,2,    304.6,2,    305.2,2,     1.60,2,    24.10,2,     1.61,2,  4.5770
    09AR9309_1,  SR03,    31,  1,     21,     21,2,19930321,0857,-56.9125, 139.8748, 4100,    121.6,   1.5850,  33.9270,3,  33.9270,2,    312.6,2,    309.4,2,    17.80,2,    28.20,2,  -999.00,9,  1.5800
    09AR9309_1,  SR03,    31,  1,     20,     20,2,19930321,0857,-56.9125, 139.8748, 4100,    149.7,   1.5090,  33.9750,4,  33.9830,2,    292.1,2,    297.9,2,    22.60,2,    29.20,2,     2.01,2,  1.5020
    09AR9309_1,  SR03,    31,  1,     19,     19,2,19930321,0857,-56.9125, 139.8748, 4100,    216.3,   2.2800,  34.2100,3,  34.2040,2,    240.4,2,    234.8,2,    37.90,2,    32.40,2,     2.24,2,  2.2690
    09AR9309_1,  SR03,    31,  1,     18,     18,2,19930321,0857,-56.9125, 139.8748, 4100,    273.4,   2.3530,  34.3020,2,  34.3010,2,    212.6,2,    213.4,2,    46.60,2,    33.50,2,     2.32,2,  2.3380
    09AR9309_1,  SR03,    31,  1,     17,     17,2,19930321,0857,-56.9125, 139.8748, 4100,    396.1,   2.2610,  34.4020,2,  34.4050,2,    190.9,2,    191.6,2,    58.00,2,    34.50,2,     2.40,2,  2.2390
    09AR9309_1,  SR03,    31,  1,     16,     16,2,19930321,0857,-56.9125, 139.8748, 4100,    498.1,   2.3240,  34.4930,2,  34.4950,2,    174.3,2,    177.4,2,    65.20,2,    34.50,2,     2.40,2,  2.2950
    09AR9309_1,  SR03,    31,  1,     15,     15,2,19930321,0857,-56.9125, 139.8748, 4100,    594.3,   2.3000,  34.5480,2,  34.5500,2,    170.4,2,    171.4,2,    69.60,2,    34.40,2,     2.40,2,  2.2650
    09AR9309_1,  SR03,    31,  1,     14,     14,2,19930321,0857,-56.9125, 139.8748, 4100,    747.4,   2.3030,  34.6240,2,  34.6270,2,    169.4,2,    170.1,2,    73.70,2,    33.50,2,     2.34,2,  2.2580
    09AR9309_1,  SR03,    31,  1,     13,     13,2,19930321,0857,-56.9125, 139.8748, 4100,    990.7,   2.2100,  34.7040,2,  34.7030,2,    178.0,2,    177.1,2,    76.80,2,    31.90,2,     2.22,2,  2.1490
    09AR9309_1,  SR03,    31,  1,     12,     12,2,19930321,0857,-56.9125, 139.8748, 4100,   1193.7,   2.0960,  34.7370,2,  34.7360,2,    188.3,2,    181.0,2,    79.70,2,    31.10,2,  -999.00,5,  2.0220
    09AR9309_1,  SR03,    31,  1,     11,     11,2,19930321,0857,-56.9125, 139.8748, 4100,   1394.8,   1.9970,  34.7550,2,  34.7570,2,    185.2,2,    186.7,2,    82.40,2,    30.70,2,     2.10,2,  1.9090
    09AR9309_1,  SR03,    31,  1,     10,     10,2,19930321,0857,-56.9125, 139.8748, 4100,   1592.0,   1.8340,  34.7600,2,  34.7660,2,    190.4,2,    190.6,2,    86.80,2,    30.50,2,     2.10,2,  1.7330
    09AR9309_1,  SR03,    31,  1,      9,     26,2,19930321,0857,-56.9125, 139.8748, 4100,   1792.9,   1.6490,  34.7580,2,  34.7620,2,    192.2,2,    194.2,2,    92.50,2,    30.50,2,     2.10,2,  1.5340
    09AR9309_1,  SR03,    31,  1,      8,      8,2,19930321,0857,-56.9125, 139.8748, 4100,   2093.6,   1.3770,  34.7490,2,  34.7500,2,    196.3,2,    197.2,2,   100.60,2,    31.00,2,     2.13,2,  1.2420
    09AR9309_1,  SR03,    31,  1,      7,      7,2,19930321,0857,-56.9125, 139.8748, 4100,   2394.1,   1.1490,  34.7370,2,  34.7370,2,    197.1,2,    199.9,2,   107.20,2,    31.40,2,     2.17,2,  0.9940
    09AR9309_1,  SR03,    31,  1,      6,      6,2,19930321,0857,-56.9125, 139.8748, 4100,   2692.3,   0.9050,  34.7260,2,  34.7230,2,    200.7,2,    201.2,2,   114.50,2,    31.80,2,     2.20,2,  0.7290
    09AR9309_1,  SR03,    31,  1,      5,     25,2,19930321,0857,-56.9125, 139.8748, 4100,   2996.5,   0.6580,  34.7130,2,  34.7130,2,    204.6,2,    207.2,2,   120.60,2,    32.00,2,     2.21,2,  0.4600
    09AR9309_1,  SR03,    31,  1,      4,      4,2,19930321,0857,-56.9125, 139.8748, 4100,   3296.3,   0.4500,  34.7020,2,  34.7050,2,    209.9,2,    211.1,2,   126.10,2,    32.30,2,     2.24,2,  0.2300
    09AR9309_1,  SR03,    31,  1,      3,      3,2,19930321,0857,-56.9125, 139.8748, 4100,   3598.1,   0.2910,  34.6960,2,  34.6980,2,    214.9,2,    216.0,2,   129.90,2,    32.30,2,     2.24,2,  0.0460
    09AR9309_1,  SR03,    31,  1,      2,      2,2,19930321,0857,-56.9125, 139.8748, 4100,   3901.3,   0.2020,  34.6920,2,  34.6940,2,    218.1,2,    217.1,2,   134.30,2,    32.40,2,     2.24,2, -0.0700
    09AR9309_1,  SR03,    31,  1,      1,      1,2,19930321,0857,-56.9125, 139.8748, 4100,   4139.5,   0.1830,  34.6910,2,  34.6900,2,    219.2,2,   -999.0,9,   137.30,2,    32.50,2,     2.24,2, -0.1130
    09AR9309_1,  SR03,    32,  1,     24,     27,2,19930321,1557,-57.3882, 139.8495, 4050,      8.9,   4.5140,  33.7960,2,  33.7920,2,    376.9,2,    301.4,2,     2.80,2,    24.40,2,  -999.00,5,  4.5140
    09AR9309_1,  SR03,    32,  1,     23,     23,2,19930321,1557,-57.3882, 139.8495, 4050,     18.2,   4.5170,  33.7950,2,  33.7920,2,    300.7,2,    299.2,2,     1.80,2,    24.50,2,     1.60,2,  4.5170
    09AR9309_1,  SR03,    32,  1,     22,     22,2,19930321,1557,-57.3882, 139.8495, 4050,     49.2,   4.5110,  33.7960,2,  33.7950,2,    283.5,2,   -999.0,5,     1.70,2,    24.40,2,     1.61,2,  4.5090
    09AR9309_1,  SR03,    32,  1,     21,     21,2,19930321,1557,-57.3882, 139.8495, 4050,     79.7,   3.2890,  33.9530,4,  33.8300,2,    299.6,2,    300.4,2,     4.80,2,    25.30,2,  -999.00,9,  3.2850
    09AR9309_1,  SR03,    32,  1,     20,     20,2,19930321,1557,-57.3882, 139.8495, 4050,    118.4,   1.6680,  33.9200,4,  33.9160,2,    303.9,2,    307.6,2,    16.80,2,    28.20,2,     1.99,2,  1.6630
    09AR9309_1,  SR03,    32,  1,     19,     19,2,19930321,1557,-57.3882, 139.8495, 4050,    159.5,   1.5180,  34.0080,3,  33.9910,2,    291.0,2,    288.5,2,    24.60,2,    30.20,2,     2.05,2,  1.5110
    09AR9309_1,  SR03,    32,  1,     18,     18,2,19930321,1557,-57.3882, 139.8495, 4050,    195.1,   1.8510,  34.1400,4,  34.1360,2,    248.3,2,    248.0,2,    35.10,2,    32.40,2,     2.21,2,  1.8410
    09AR9309_1,  SR03,    32,  1,     17,     17,2,19930321,1557,-57.3882, 139.8495, 4050,    247.6,   2.2520,  34.2570,4,  34.2550,2,    223.3,2,    219.4,2,    45.00,2,    33.80,2,     2.31,2,  2.2390
    09AR9309_1,  SR03,    32,  1,     16,     16,2,19930321,1557,-57.3882, 139.8495, 4050,    296.9,   2.2780,  34.3200,2,  34.3190,2,    204.7,2,    203.0,2,    50.30,2,    34.60,2,     2.36,2,  2.2620
    09AR9309_1,  SR03,    32,  1,     15,     15,2,19930321,1557,-57.3882, 139.8495, 4050,    396.1,   2.3180,  34.4230,2,  34.4220,2,    188.5,2,    185.9,2,    59.70,2,    35.00,2,     2.40,2,  2.2960
    09AR9309_1,  SR03,    32,  1,     14,     14,2,19930321,1557,-57.3882, 139.8495, 4050,    494.9,   2.2620,  34.4900,2,  34.4880,2,    175.5,2,    175.6,2,    66.70,2,    35.40,2,     2.42,2,  2.2340
    09AR9309_1,  SR03,    32,  1,     13,     13,2,19930321,1557,-57.3882, 139.8495, 4050,    595.2,   2.3080,  34.5620,2,  34.5610,2,    169.7,2,    170.5,2,    71.00,2,    34.80,2,     2.39,2,  2.2730
    09AR9309_1,  SR03,    32,  1,     12,     12,2,19930321,1557,-57.3882, 139.8495, 4050,    795.5,   2.2730,  34.6450,2,  34.6470,2,    170.4,2,    171.7,2,    74.60,2,    33.70,2,  -999.00,5,  2.2250
    09AR9309_1,  SR03,    32,  1,     11,     11,2,19930321,1557,-57.3882, 139.8495, 4050,    993.7,   2.1770,  34.7000,2,  34.7010,2,    176.2,2,    177.4,2,    77.40,2,    32.50,2,     2.20,2,  2.1160
    09AR9309_1,  SR03,    32,  1,     10,     10,2,19930321,1557,-57.3882, 139.8495, 4050,   1192.7,   2.0740,  34.7340,2,  34.7350,2,    180.8,2,    184.0,2,    79.60,2,    31.40,2,     2.14,2,  2.0000
    09AR9309_1,  SR03,    32,  1,      9,     26,2,19930321,1557,-57.3882, 139.8495, 4050,   1491.9,   1.8770,  34.7490,2,  34.7500,2,    191.2,2,    188.9,2,    84.70,2,    31.10,2,     2.12,2,  1.7830
    09AR9309_1,  SR03,    32,  1,      8,      8,2,19930321,1557,-57.3882, 139.8495, 4050,   1693.8,   1.7170,  34.7520,2,  34.7530,2,    189.9,2,   -999.0,5,    89.20,2,    30.90,2,     2.10,2,  1.6090
    09AR9309_1,  SR03,    32,  1,      7,      7,2,19930321,1557,-57.3882, 139.8495, 4050,   1991.8,   1.4500,  34.7450,2,  34.7450,2,    193.9,2,   -999.0,5,    97.40,2,    31.30,2,     2.13,2,  1.3230
    09AR9309_1,  SR03,    32,  1,      6,      6,2,19930321,1557,-57.3882, 139.8495, 4050,   2295.0,   1.2100,  34.7340,2,  34.7340,2,    199.1,2,    199.4,2,   104.10,2,    31.80,2,     2.15,2,  1.0620
    09AR9309_1,  SR03,    32,  1,      5,     25,2,19930321,1557,-57.3882, 139.8495, 4050,   2596.0,   0.9680,  34.7210,2,  34.7220,2,    201.5,2,    200.9,2,   111.50,2,    32.10,2,     2.18,2,  0.7990
    09AR9309_1,  SR03,    32,  1,      4,      4,2,19930321,1557,-57.3882, 139.8495, 4050,   2998.8,   0.6560,  34.7060,2,  34.7060,2,    205.4,2,    206.3,2,   120.20,2,    32.70,2,     2.23,2,  0.4580
    09AR9309_1,  SR03,    32,  1,      3,      3,2,19930321,1557,-57.3882, 139.8495, 4050,   3398.7,   0.4020,  34.6950,2,  34.6950,2,    213.7,2,    213.3,2,   126.00,2,    32.80,2,     2.24,2,  0.1730
    09AR9309_1,  SR03,    32,  1,      2,      2,2,19930321,1557,-57.3882, 139.8495, 4050,   3797.6,   0.2040,  34.6880,2,  34.6870,2,    218.9,2,    219.3,2,   132.50,2,    32.80,2,     2.25,2, -0.0580
    09AR9309_1,  SR03,    32,  1,      1,      1,2,19930321,1557,-57.3882, 139.8495, 4050,   4069.3,   0.1950,  34.6870,2,  34.6860,2,    219.7,2,    218.8,2,   134.10,2,    32.90,2,     2.25,2, -0.0940