BOTTLE,20030917WHPSIODMB
EXPOCODE,SECT_ID,STNNBR,CASTNO,SAMPNO,BTLNBR,BTLNBR_FLAG_W,DATE,TIME,LATITUDE,LONGITUDE,DEPTH,CTDPRS,CTDTMP,CTDSAL,CTDSAL_FLAG_W,SALNTY,SALNTY_FLAG_W,CTDOXY,CTDOXY_FLAG_W,OXYGEN,OXYGEN_FLAG_W,SILCAT,SILCAT_FLAG_W,NO2+NO3,NO2+NO3_FLAG_W,PHSPHT,PHSPHT_FLAG_W,THETA
,,,,,,,,,,,,DBAR,DEG C,PSS-78,,PSS-78,,UMOL/KG,,UMOL/KG,,UMOL/KG,,UMOL/KG,,UMOL/KG,,DEG C
    09AR9309_1,  SR03,     5,  1,     24,     24,2,19930312,1606,-44.9350, 145.9420, 3390,      9.2,  14.0150,  34.9320,2,-999.0000,9,    257.6,2,   -999.0,9,     4.60,3,     2.20,2,     0.35,2, 14.0170
    09AR9309_1,  SR03,     5,  1,     23,     23,2,19930312,1606,-44.9350, 145.9420, 3390,     47.2,  13.9570,  34.9520,2,-999.0000,9,    253.7,2,   -999.0,9,     1.90,2,     2.00,2,     0.33,2, 13.9540
    09AR9309_1,  SR03,     5,  1,     22,     22,2,19930312,1606,-44.9350, 145.9420, 3390,     99.1,  12.9820,  35.1820,4,  35.2000,2,    212.6,2,   -999.0,9,     3.40,2,     8.80,2,     0.63,2, 12.9720
    09AR9309_1,  SR03,     5,  1,     21,     21,2,19930312,1606,-44.9350, 145.9420, 3390,    196.4,  10.8190,  34.9390,4,  34.9490,2,    229.3,2,    234.4,2,     4.20,2,    12.10,2,     0.83,2, 10.7980
    09AR9309_1,  SR03,     5,  1,     20,     20,2,19930312,1606,-44.9350, 145.9420, 3390,    297.3,   9.9680,  34.7970,4,  34.8020,2,    245.0,2,    244.3,2,     4.10,2,    13.50,2,     0.94,2,  9.9360
    09AR9309_1,  SR03,     5,  1,     19,     19,2,19930312,1606,-44.9350, 145.9420, 3390,    396.8,   9.3230,  34.6850,2,  34.6910,2,    252.7,2,    247.0,2,     4.40,2,    14.80,2,     1.02,2,  9.2810
    09AR9309_1,  SR03,     5,  1,     18,     18,2,19930312,1606,-44.9350, 145.9420, 3390,    491.7,   9.0210,  34.6450,3,  34.6420,2,    236.3,2,    236.8,2,     5.30,2,    16.90,2,     1.14,2,  8.9690
    09AR9309_1,  SR03,     5,  1,     17,     17,2,19930312,1606,-44.9350, 145.9420, 3390,    595.7,   8.5850,  34.5990,3,  34.6020,2,    218.3,2,    218.8,2,     7.60,2,    19.90,2,     1.34,2,  8.5230
    09AR9309_1,  SR03,     5,  1,     16,     16,2,19930312,1606,-44.9350, 145.9420, 3390,    694.4,   7.8120,  34.5460,4,  34.5510,2,    195.7,2,    198.4,2,    12.20,2,    23.40,2,     1.57,2,  7.7430
    09AR9309_1,  SR03,     5,  1,     15,     15,2,19930312,1606,-44.9350, 145.9420, 3390,    793.0,   6.9850,  34.4840,3,  34.4940,2,    196.3,2,    191.2,2,    17.30,2,    26.10,2,     1.74,2,  6.9100
    09AR9309_1,  SR03,     5,  1,     14,     14,2,19930312,1606,-44.9350, 145.9420, 3390,    894.0,   6.2110,  34.4560,3,  34.4570,2,    188.6,2,    186.3,2,    23.50,2,    28.20,2,     1.85,2,  6.1310
    09AR9309_1,  SR03,     5,  1,     13,     13,2,19930312,1606,-44.9350, 145.9420, 3390,    994.9,   5.2920,  34.4210,3,  34.4230,2,    184.5,2,    186.3,2,    31.30,2,    30.00,2,     2.01,2,  5.2080
    09AR9309_1,  SR03,     5,  1,     12,     12,2,19930312,1606,-44.9350, 145.9420, 3390,   1194.1,   4.1240,  34.4560,2,  34.4560,2,    171.7,2,    172.1,2,    50.20,2,    32.70,2,     2.22,2,  4.0320
    09AR9309_1,  SR03,     5,  1,     11,     11,2,19930312,1606,-44.9350, 145.9420, 3390,   1394.6,   3.2790,  34.5330,2,  34.5340,2,    160.0,2,    158.7,2,    70.40,2,    34.30,2,     2.36,2,  3.1780
    09AR9309_1,  SR03,     5,  1,     10,     10,2,19930312,1606,-44.9350, 145.9420, 3390,   1591.7,   2.7840,  34.5790,2,  34.5820,2,    160.8,2,    161.9,2,    74.30,2,    34.30,2,     2.35,2,  2.6720
    09AR9309_1,  SR03,     5,  1,      9,     26,2,19930312,1606,-44.9350, 145.9420, 3390,   1788.4,   2.5170,  34.6320,2,  34.6340,2,    163.6,2,    164.6,2,  -999.00,9,    33.60,2,     2.31,2,  2.3910
    09AR9309_1,  SR03,     5,  1,      8,      8,2,19930312,1606,-44.9350, 145.9420, 3390,   1990.8,   2.3750,  34.6810,2,  34.6820,2,    170.8,2,    171.0,2,    78.60,2,    32.80,2,     2.24,2,  2.2340
    09AR9309_1,  SR03,     5,  1,      7,      7,2,19930312,1606,-44.9350, 145.9420, 3390,   2198.2,   2.2270,  34.7140,2,  34.7130,2,    171.3,2,    170.1,2,    85.80,2,    32.20,2,     2.32,3,  2.0700
    09AR9309_1,  SR03,     5,  1,      6,      6,2,19930312,1606,-44.9350, 145.9420, 3390,   2394.8,   2.0620,  34.7320,2,  34.7300,2,    175.5,2,    176.9,2,    90.80,2,    32.60,2,     2.19,2,  1.8900
    09AR9309_1,  SR03,     5,  1,      5,     25,2,19930312,1606,-44.9350, 145.9420, 3390,   2592.6,   1.8880,  34.7360,2,  34.7360,2,    178.1,2,    179.1,2,    96.30,2,    31.80,2,     2.21,2,  1.7010
    09AR9309_1,  SR03,     5,  1,      4,      4,2,19930312,1606,-44.9350, 145.9420, 3390,   2797.6,   1.7080,  34.7350,2,  34.7360,2,    183.1,2,    182.6,2,   102.60,2,    31.90,2,     2.19,2,  1.5060
    09AR9309_1,  SR03,     5,  1,      3,      3,2,19930312,1606,-44.9350, 145.9420, 3390,   2998.2,   1.5260,  34.7320,2,  34.7320,2,    185.0,2,    185.3,2,   106.60,2,    32.10,2,     2.21,2,  1.3090
    09AR9309_1,  SR03,     5,  1,      2,      2,2,19930312,1606,-44.9350, 145.9420, 3390,   3198.0,   1.3910,  34.7280,2,  34.7300,2,    187.0,2,    188.9,2,   109.60,2,    32.10,2,     2.23,2,  1.1580
    09AR9309_1,  SR03,     5,  1,      1,      1,2,19930312,1606,-44.9350, 145.9420, 3390,   3464.1,   1.2240,  34.7220,2,  34.7210,2,    194.0,2,    193.0,2,   113.60,2,    32.20,2,     2.23,2,  0.9680
    09AR9309_1,  SR03,     6,  1,     23,     23,2,19930312,2121,-45.4310, 145.7465, 2350,      8.1,  11.8930,  34.4810,2,  34.4810,2,    269.2,2,    266.0,2,     0.80,2,     8.60,2,     0.69,2, 11.8950
    09AR9309_1,  SR03,     6,  1,     22,     22,2,19930312,2121,-45.4310, 145.7465, 2350,     21.0,  11.8680,  34.4790,4,  34.4810,2,    262.5,2,    263.1,2,     0.80,2,     8.70,2,     0.67,2, 11.8680
    09AR9309_1,  SR03,     6,  1,     21,     21,2,19930312,2121,-45.4310, 145.7465, 2350,     48.9,  11.4460,  34.4600,4,  34.4560,2,    264.3,2,    264.9,2,     0.90,2,     9.60,2,     0.72,2, 11.4430
    09AR9309_1,  SR03,     6,  1,     20,     20,2,19930312,2121,-45.4310, 145.7465, 2350,     98.9,   9.8920,  34.6900,4,  34.7290,2,    247.4,2,    245.8,2,     3.20,2,    13.90,2,     0.96,2,  9.8830
    09AR9309_1,  SR03,     6,  1,     18,     18,2,19930312,2121,-45.4310, 145.7465, 2350,    298.2,   9.0940,  34.6340,3,  34.6410,2,    254.3,2,    254.8,2,     3.50,2,    14.80,2,     1.03,2,  9.0640
    09AR9309_1,  SR03,     6,  1,     17,     17,2,19930312,2121,-45.4310, 145.7465, 2350,    395.3,   8.9300,  34.6070,2,  34.6090,2,    258.1,2,    257.5,2,     3.50,2,    15.30,2,     1.06,2,  8.8890
    09AR9309_1,  SR03,     6,  1,     16,     16,2,19930312,2121,-45.4310, 145.7465, 2350,    498.3,   8.7490,  34.5840,3,  34.5900,2,    247.3,2,    249.6,2,     4.40,2,    16.80,2,     1.13,2,  8.6970
    09AR9309_1,  SR03,     6,  1,     15,     15,2,19930312,2121,-45.4310, 145.7465, 2350,    597.0,   8.1840,  34.5060,2,  34.5080,2,    242.7,2,    242.3,2,     5.80,2,    19.10,2,     1.29,2,  8.1240
    09AR9309_1,  SR03,     6,  1,     14,     14,2,19930312,2121,-45.4310, 145.7465, 2350,    696.1,   7.7010,  34.4600,4,  34.4680,2,    232.2,2,    230.3,2,     8.10,2,    21.50,2,     1.42,2,  7.6320
    09AR9309_1,  SR03,     6,  1,     13,     13,2,19930312,2121,-45.4310, 145.7465, 2350,    794.1,   7.0720,  34.4520,4,  34.4490,2,    211.1,2,    207.5,2,    13.50,2,    25.00,2,     1.66,2,  6.9960
    09AR9309_1,  SR03,     6,  1,     12,     12,2,19930312,2121,-45.4310, 145.7465, 2350,    894.5,   6.0260,  34.3960,3,  34.3960,2,    204.1,2,    204.0,2,    20.30,2,    27.60,2,     1.83,2,  5.9470
    09AR9309_1,  SR03,     6,  1,     11,     11,2,19930312,2121,-45.4310, 145.7465, 2350,    992.7,   5.4930,  34.4100,4,  34.4110,2,    190.3,2,    190.7,2,    29.10,2,    29.60,2,     1.94,2,  5.4080
    09AR9309_1,  SR03,     6,  1,     10,     10,2,19930312,2121,-45.4310, 145.7465, 2350,   1096.0,   4.4340,  34.3230,3,  34.3290,2,    204.6,2,    207.5,2,    30.50,2,    30.70,2,     2.05,2,  4.3480
    09AR9309_1,  SR03,     6,  1,      9,     26,2,19930312,2121,-45.4310, 145.7465, 2350,   1193.6,   4.1180,  34.4050,4,  34.4070,2,    185.1,2,    184.9,2,    45.90,2,    32.30,2,     2.20,2,  4.0260
    09AR9309_1,  SR03,     6,  1,      8,      8,2,19930312,2121,-45.4310, 145.7465, 2350,   1293.6,   3.6820,  34.4400,3,  34.4390,2,    177.5,2,    175.7,2,    57.00,2,    33.30,2,     2.25,2,  3.5850
    09AR9309_1,  SR03,     6,  1,      7,      7,2,19930312,2121,-45.4310, 145.7465, 2350,   1493.7,   3.0410,  34.5030,2,  34.5010,2,    167.7,2,    167.6,2,    70.10,2,    34.30,2,     2.37,2,  2.9340
    09AR9309_1,  SR03,     6,  1,      6,      6,2,19930312,2121,-45.4310, 145.7465, 2350,   1589.8,   2.7810,  34.5510,2,  34.5500,2,    164.2,2,    165.6,2,    73.30,2,    34.10,2,     2.35,2,  2.6690
    09AR9309_1,  SR03,     6,  1,      5,     25,2,19930312,2121,-45.4310, 145.7465, 2350,   1692.7,   2.6590,  34.5860,3,  34.5860,2,    166.4,2,    165.9,2,    72.40,2,    33.90,2,     2.33,2,  2.5400
    09AR9309_1,  SR03,     6,  1,      4,      4,2,19930312,2121,-45.4310, 145.7465, 2350,   1793.9,   2.5170,  34.6300,2,  34.6290,2,    167.5,2,    167.9,2,    74.80,2,    33.40,2,     2.30,2,  2.3910
    09AR9309_1,  SR03,     6,  1,      3,      3,2,19930312,2121,-45.4310, 145.7465, 2350,   1994.2,   2.4270,  34.6640,2,  34.6640,2,    169.0,2,    169.2,2,    77.90,2,    32.90,2,     2.25,2,  2.2850
    09AR9309_1,  SR03,     6,  1,      2,      2,2,19930312,2121,-45.4310, 145.7465, 2350,   2344.5,   2.1860,  34.7200,2,  34.7200,2,    175.5,2,    174.6,2,    86.90,2,    32.10,2,     2.21,2,  2.0170
    09AR9309_1,  SR03,     6,  1,      1,      1,2,19930312,2121,-45.4310, 145.7465, 2350,   2425.2,   2.1840,  34.7210,2,  34.7200,2,    173.8,2,    174.8,2,    87.40,2,    32.10,2,     2.21,2,  2.0070
    09AR9309_1,  SR03,     7,  1,     22,     22,2,19930313,0245,-45.9348, 145.5590, 2470,      8.7,  11.8680,  34.5370,2,  34.5360,2,    319.5,2,    274.5,2,     0.40,2,     9.00,2,     0.72,2, 11.8700
    09AR9309_1,  SR03,     7,  1,     21,     21,2,19930313,0245,-45.9348, 145.5590, 2470,     21.0,  11.7170,  34.5400,4,  34.5360,2,    274.0,2,    274.8,2,     0.60,2,     9.00,2,     0.70,2, 11.7170
    09AR9309_1,  SR03,     7,  1,     20,     20,2,19930313,0245,-45.9348, 145.5590, 2470,     48.0,  11.5990,  34.5350,2,  34.5340,2,    273.6,2,    268.8,2,     0.80,2,     9.10,2,     0.70,2, 11.5960
    09AR9309_1,  SR03,     7,  1,     19,     19,2,19930313,0245,-45.9348, 145.5590, 2470,    103.2,   9.6950,  34.5760,4,  34.5830,2,    264.1,2,    269.3,2,     2.30,2,    13.00,2,     0.95,2,  9.6860
    09AR9309_1,  SR03,     7,  1,     18,     18,2,19930313,0245,-45.9348, 145.5590, 2470,    202.5,   9.1880,  34.6390,2,  34.6390,2,    266.7,2,    266.5,2,     3.20,2,    14.20,2,     1.01,2,  9.1680
    09AR9309_1,  SR03,     7,  1,     17,     17,2,19930313,0245,-45.9348, 145.5590, 2470,    301.9,   9.0630,  34.6250,2,  34.6250,2,    266.0,2,    265.9,2,     3.40,2,    14.50,2,     1.03,2,  9.0320
    09AR9309_1,  SR03,     7,  1,     16,     16,2,19930313,0245,-45.9348, 145.5590, 2470,    403.1,   8.9630,  34.6120,2,  34.6130,2,    266.8,2,    266.7,2,     3.40,2,    14.90,2,     1.05,2,  8.9210
    09AR9309_1,  SR03,     7,  1,     15,     15,2,19930313,0245,-45.9348, 145.5590, 2470,    501.0,   8.9350,  34.6110,2,  34.6120,2,    259.6,2,    263.6,2,     3.60,2,    15.20,2,     1.08,2,  8.8820
    09AR9309_1,  SR03,     7,  1,     14,     14,2,19930313,0245,-45.9348, 145.5590, 2470,    696.1,   8.1190,  34.5130,2,  34.5130,2,    239.0,2,    236.6,2,     6.90,2,    20.10,2,     1.37,2,  8.0480
    09AR9309_1,  SR03,     7,  1,     13,     13,2,19930313,0245,-45.9348, 145.5590, 2470,    794.2,   7.3710,  34.4630,2,  34.4630,2,    224.3,2,    219.7,2,    11.10,2,    23.40,2,     1.58,2,  7.2940
    09AR9309_1,  SR03,     7,  1,     12,     12,2,19930313,0245,-45.9348, 145.5590, 2470,    894.6,   6.1700,  34.3890,2,  34.3870,2,    215.4,2,    216.8,2,    15.70,2,    26.50,2,     1.78,2,  6.0900
    09AR9309_1,  SR03,     7,  1,     11,     11,2,19930313,0245,-45.9348, 145.5590, 2470,    994.3,   5.0880,  34.3520,2,  34.3510,2,    214.7,2,    213.4,2,    24.50,2,    29.00,2,     1.95,2,  5.0060
    09AR9309_1,  SR03,     7,  1,     10,     10,2,19930313,0245,-45.9348, 145.5590, 2470,   1068.6,   4.5570,  34.3390,2,  34.3380,2,    213.8,2,    213.1,2,    28.60,2,    30.10,2,     2.03,2,  4.4720
    09AR9309_1,  SR03,     7,  1,      9,     26,2,19930313,0245,-45.9348, 145.5590, 2470,   1194.8,   3.7250,  34.3490,2,  34.3500,2,    205.9,2,    205.8,2,    38.80,2,    31.90,2,     2.17,2,  3.6370
    09AR9309_1,  SR03,     7,  1,      8,      8,2,19930313,0245,-45.9348, 145.5590, 2470,   1293.9,   3.4600,  34.3890,2,  34.3900,2,    195.0,2,    194.6,2,    46.70,2,    32.80,2,     2.25,2,  3.3660
    09AR9309_1,  SR03,     7,  1,      7,      7,2,19930313,0245,-45.9348, 145.5590, 2470,   1394.4,   3.1490,  34.4300,2,  34.4290,2,    186.2,2,    186.1,2,    54.00,2,    33.60,2,     2.30,2,  3.0490
    09AR9309_1,  SR03,     7,  1,      6,      6,2,19930313,0245,-45.9348, 145.5590, 2470,   1595.1,   2.7850,  34.5010,2,  34.4990,2,    178.7,2,    178.5,2,    62.70,2,    34.10,2,     2.34,2,  2.6730
    09AR9309_1,  SR03,     7,  1,      5,     25,2,19930313,0245,-45.9348, 145.5590, 2470,   1744.5,   2.6280,  34.5760,2,  34.5740,2,    174.3,2,    173.9,2,    69.80,2,    33.80,2,     2.32,2,  2.5050
    09AR9309_1,  SR03,     7,  1,      4,      4,2,19930313,0245,-45.9348, 145.5590, 2470,   1943.3,   2.4680,  34.6530,2,  34.6530,2,    178.3,2,    177.0,2,    73.90,2,    32.80,2,     2.23,2,  2.3300
    09AR9309_1,  SR03,     7,  1,      3,      3,2,19930313,0245,-45.9348, 145.5590, 2470,   2146.7,   2.3510,  34.6960,2,  34.6940,2,    179.9,2,    180.1,2,    79.00,2,    32.00,2,     2.20,2,  2.1970
    09AR9309_1,  SR03,     7,  1,      2,      2,2,19930313,0245,-45.9348, 145.5590, 2470,   2367.3,   2.1910,  34.7250,2,  34.7240,2,    182.1,2,    184.6,2,    85.60,2,    31.80,2,     2.19,2,  2.0200
    09AR9309_1,  SR03,     7,  1,      1,      1,2,19930313,0245,-45.9348, 145.5590, 2470,   2489.0,   2.0470,  34.7310,2,  34.7270,2,    181.9,2,    183.5,2,    87.70,2,    31.80,2,     2.19,2,  1.8670
    09AR9309_1,  SR03,     8,  1,     24,     24,3,19930313,0756,-46.3808, 145.3828, 3330,      9.2,  12.1140,  34.5410,2,  34.5420,3,    261.5,2,    248.4,2,     0.50,2,     8.10,2,     0.69,2, 12.1160
    09AR9309_1,  SR03,     8,  1,     23,     23,2,19930313,0756,-46.3808, 145.3828, 3330,     18.3,  11.6340,  34.5020,3,  34.5000,2,    256.0,2,    253.8,2,     0.50,2,     9.10,2,     0.72,2, 11.6340
    09AR9309_1,  SR03,     8,  1,     22,     22,2,19930313,0756,-46.3808, 145.3828, 3330,     50.6,  11.3070,  34.5010,2,  34.5040,2,    253.2,2,    252.5,2,     0.70,2,     9.90,2,     0.77,2, 11.3030
    09AR9309_1,  SR03,     8,  1,     21,     21,2,19930313,0756,-46.3808, 145.3828, 3330,     99.9,   9.8600,  34.5770,2,  34.5720,2,    244.5,2,    255.6,2,     2.50,2,    14.00,2,     1.01,2,  9.8510
    09AR9309_1,  SR03,     8,  1,     20,     20,2,19930313,0756,-46.3808, 145.3828, 3330,    197.8,   9.1510,  34.6430,2,  34.6420,2,    249.1,2,    253.1,2,     3.60,2,    15.10,2,     1.05,2,  9.1320
    09AR9309_1,  SR03,     8,  1,     19,     19,2,19930313,0756,-46.3808, 145.3828, 3330,    347.4,   8.7920,  34.5820,2,  34.5820,2,    259.1,2,    256.1,2,     3.80,2,    15.90,2,     1.10,2,  8.7570
    09AR9309_1,  SR03,     8,  1,     18,     18,2,19930313,0756,-46.3808, 145.3828, 3330,    494.5,   8.3290,  34.5160,4,  34.5170,2,    246.3,2,    248.2,2,     4.90,2,    18.30,2,     1.25,2,  8.2790
    09AR9309_1,  SR03,     8,  1,     17,     17,2,19930313,0756,-46.3808, 145.3828, 3330,    592.3,   7.8650,  34.4810,3,  34.4830,2,    230.1,2,    230.1,2,     7.50,2,    21.10,2,     1.42,2,  7.8060
    09AR9309_1,  SR03,     8,  1,     16,     16,2,19930313,0756,-46.3808, 145.3828, 3330,    697.5,   7.1720,  34.4460,4,  34.4460,2,    213.0,2,    212.8,2,    11.90,2,    24.10,2,     1.61,2,  7.1060
    09AR9309_1,  SR03,     8,  1,     15,     15,2,19930313,0756,-46.3808, 145.3828, 3330,    793.6,   6.1140,  34.4040,4,  34.4080,2,    201.2,2,    201.6,2,    18.60,2,    27.50,2,     1.83,2,  6.0440
    09AR9309_1,  SR03,     8,  1,     14,     14,2,19930313,0756,-46.3808, 145.3828, 3330,    895.7,   5.1140,  34.3570,2,  34.3570,2,    202.5,2,    204.6,2,    24.30,2,    29.70,2,     1.98,2,  5.0410
    09AR9309_1,  SR03,     8,  1,     13,     13,2,19930313,0756,-46.3808, 145.3828, 3330,    992.2,   4.4770,  34.3330,3,  34.4010,4,    207.5,2,    207.1,2,    28.50,2,    30.60,2,     2.07,2,  4.4000
    09AR9309_1,  SR03,     8,  1,     12,     12,2,19930313,0756,-46.3808, 145.3828, 3330,   1095.4,   4.2090,  34.4020,3,  34.4030,2,    181.3,2,    186.7,2,    41.40,2,    32.20,2,     2.18,2,  4.1250
    09AR9309_1,  SR03,     8,  1,     11,     11,2,19930313,0756,-46.3808, 145.3828, 3330,   1195.8,   3.4610,  34.3680,2,  34.3700,2,    192.6,2,    189.4,2,    43.20,2,    33.10,2,     2.24,2,  3.3750
    09AR9309_1,  SR03,     8,  1,     10,     10,2,19930313,0756,-46.3808, 145.3828, 3330,   1397.4,   2.9700,  34.4620,2,  34.4640,2,    176.1,2,    174.8,2,    58.80,2,    34.60,2,     2.35,2,  2.8720
    09AR9309_1,  SR03,     8,  1,      9,     26,2,19930313,0756,-46.3808, 145.3828, 3330,   1594.3,   2.6710,  34.5470,2,  34.5490,2,    168.5,2,    169.6,2,    66.40,2,    34.50,2,     2.34,2,  2.5600
    09AR9309_1,  SR03,     8,  1,      8,      8,2,19930313,0756,-46.3808, 145.3828, 3330,   1794.2,   2.5320,  34.6200,2,  34.6190,2,    169.9,2,    166.9,2,    71.40,2,    34.00,2,     2.30,2,  2.4060
    09AR9309_1,  SR03,     8,  1,      7,      7,2,19930313,0756,-46.3808, 145.3828, 3330,   1993.2,   2.3980,  34.6800,2,  34.6800,2,    171.1,2,    171.5,2,    76.10,2,    33.10,2,     2.23,2,  2.2560
    09AR9309_1,  SR03,     8,  1,      6,      6,2,19930313,0756,-46.3808, 145.3828, 3330,   2190.9,   2.2870,  34.7110,2,  34.7110,2,    176.4,2,    175.2,2,    79.80,2,    32.40,2,     2.20,2,  2.1300
    09AR9309_1,  SR03,     8,  1,      5,     25,2,19930313,0756,-46.3808, 145.3828, 3330,   2394.6,   2.0890,  34.7320,2,  34.7340,2,    179.5,2,    178.5,2,    87.00,2,    32.00,2,     2.19,2,  1.9170
    09AR9309_1,  SR03,     8,  1,      4,      4,2,19930313,0756,-46.3808, 145.3828, 3330,   2696.1,   1.8360,  34.7400,2,  34.6930,4,    181.7,2,    175.0,3,  -999.00,5,  -999.00,5,  -999.00,5,  1.6410
    09AR9309_1,  SR03,     8,  1,      3,      3,2,19930313,0756,-46.3808, 145.3828, 3330,   2998.1,   1.6050,  34.7350,2,-999.0000,9,    184.0,2,   -999.0,9,  -999.00,9,  -999.00,9,  -999.00,9,  1.3860
    09AR9309_1,  SR03,     8,  1,      2,      2,2,19930313,0756,-46.3808, 145.3828, 3330,   3198.7,   1.4700,  34.7310,2,  34.7320,2,    185.4,2,    187.4,2,   106.80,2,    32.50,2,     2.22,2,  1.2350
    09AR9309_1,  SR03,     8,  1,      1,      1,2,19930313,0756,-46.3808, 145.3828, 3330,   3350.2,   1.4050,  34.7290,2,-999.0000,9,    189.6,2,   -999.0,9,  -999.00,9,  -999.00,9,  -999.00,9,  1.1560