BOTTLE,20030917WHPSIODMB
EXPOCODE,SECT_ID,STNNBR,CASTNO,SAMPNO,BTLNBR,BTLNBR_FLAG_W,DATE,TIME,LATITUDE,LONGITUDE,DEPTH,CTDPRS,CTDTMP,CTDSAL,CTDSAL_FLAG_W,SALNTY,SALNTY_FLAG_W,CTDOXY,CTDOXY_FLAG_W,OXYGEN,OXYGEN_FLAG_W,SILCAT,SILCAT_FLAG_W,NO2+NO3,NO2+NO3_FLAG_W,PHSPHT,PHSPHT_FLAG_W,THETA
,,,,,,,,,,,,DBAR,DEG C,PSS-78,,PSS-78,,UMOL/KG,,UMOL/KG,,UMOL/KG,,UMOL/KG,,UMOL/KG,,DEG C
    09AR9309_1,  SR03,    58,  1,     12,    112,2,19930328,0708,-64.3517, 139.8538, 3400,     11.4,   0.3230,  34.0050,2,  34.0030,2,   -999.0,5,    325.6,2,    46.00,2,    27.60,2,  -999.00,5,  0.3230
    09AR9309_1,  SR03,    58,  1,     11,    111,2,19930328,0708,-64.3517, 139.8538, 3400,     20.9,   0.3290,  34.0040,2,  34.0050,2,   -999.0,5,    323.8,2,    46.00,2,    28.20,2,     1.89,2,  0.3280
    09AR9309_1,  SR03,    58,  1,     10,    110,2,19930328,0708,-64.3517, 139.8538, 3400,     64.1,  -0.0680,  34.2380,4,  34.2220,2,   -999.0,5,    281.5,2,    57.30,2,    30.40,2,     2.12,2, -0.0700
    09AR9309_1,  SR03,    58,  1,      9,    109,2,19930328,0708,-64.3517, 139.8538, 3400,    101.9,   1.1120,  34.5500,2,  34.5470,2,   -999.0,5,    194.4,2,    73.30,2,    33.80,2,     2.38,2,  1.1080
    09AR9309_1,  SR03,    58,  1,      8,    108,2,19930328,0708,-64.3517, 139.8538, 3400,    131.6,   1.3420,  34.6050,3,  34.5980,2,   -999.0,5,    186.5,2,    75.40,2,    33.70,2,     2.38,2,  1.3360
    09AR9309_1,  SR03,    58,  1,      7,    107,2,19930328,0708,-64.3517, 139.8538, 3400,    160.8,   1.5140,  34.6380,2,  34.6360,2,   -999.0,5,    183.2,2,    77.10,2,    33.40,2,     2.35,2,  1.5060
    09AR9309_1,  SR03,    58,  1,      6,    106,2,19930328,0708,-64.3517, 139.8538, 3400,    201.5,   1.5110,  34.6640,2,  34.6620,2,   -999.0,5,    184.9,2,    81.10,2,    33.00,2,     2.32,2,  1.5010
    09AR9309_1,  SR03,    58,  1,      5,    105,2,19930328,0708,-64.3517, 139.8538, 3400,    401.3,   1.5420,  34.7260,2,  34.7270,2,   -999.0,5,    187.3,2,    83.10,2,    31.40,2,     2.22,2,  1.5220
    09AR9309_1,  SR03,    58,  1,      4,    104,2,19930328,0708,-64.3517, 139.8538, 3400,    600.7,   1.4380,  34.7400,2,  34.7400,2,   -999.0,5,    193.6,2,    86.80,2,    31.10,2,     2.19,2,  1.4070
    09AR9309_1,  SR03,    58,  1,      3,    103,2,19930328,0708,-64.3517, 139.8538, 3400,    689.6,   1.0740,  34.7110,2,  34.7100,2,   -999.0,5,    202.6,2,    90.30,3,    31.10,2,     2.20,2,  1.0400
    09AR9309_1,  SR03,    58,  1,      2,    102,2,19930328,0708,-64.3517, 139.8538, 3400,    799.0,   0.7380,  34.6870,2,  34.6860,2,   -999.0,5,    209.2,2,    85.50,2,    31.30,2,     2.21,2,  0.6990
    09AR9309_1,  SR03,    58,  1,      1,    101,3,19930328,0708,-64.3517, 139.8538, 3400,    999.0,   0.9430,  34.7240,2,  34.7190,4,   -999.0,5,    200.7,4,  -999.00,5,  -999.00,5,  -999.00,5,  0.8910
    09AR9309_1,  SR03,    59,  1,     12,    112,2,19930328,0923,-64.3387, 139.8378, 3400,   1197.9,   0.8490,  34.7210,2,  34.7180,2,   -999.0,5,    201.8,2,   103.00,2,    31.80,2,     2.25,2,  0.7860
    09AR9309_1,  SR03,    59,  1,     11,    111,2,19930328,0923,-64.3387, 139.8378, 3400,   1400.5,   0.6930,  34.7120,2,  34.7130,2,   -999.0,5,    203.0,2,   102.40,2,    31.90,2,     2.28,2,  0.6180
    09AR9309_1,  SR03,    59,  1,     10,    110,2,19930328,0923,-64.3387, 139.8378, 3400,   1600.2,   0.5390,  34.7050,2,  34.7070,2,   -999.0,5,    205.7,2,   109.60,2,    32.10,2,     2.30,2,  0.4530
    09AR9309_1,  SR03,    59,  1,      9,    109,2,19930328,0923,-64.3387, 139.8378, 3400,   1798.5,   0.3810,  34.6960,2,  34.6980,2,   -999.0,5,    208.9,2,   115.20,2,    32.20,2,     2.29,2,  0.2840
    09AR9309_1,  SR03,    59,  1,      8,    108,2,19930328,0923,-64.3387, 139.8378, 3400,   1950.3,   0.2860,  34.6930,2,  34.6940,2,   -999.0,5,    210.4,2,   113.40,2,    32.20,2,     2.30,2,  0.1790
    09AR9309_1,  SR03,    59,  1,      7,    107,2,19930328,0923,-64.3387, 139.8378, 3400,   2051.2,   0.1550,  34.6810,2,  34.6800,2,   -999.0,5,    217.8,2,    99.60,2,    32.10,2,     2.27,2,  0.0430
    09AR9309_1,  SR03,    59,  1,      6,    106,2,19930328,0923,-64.3387, 139.8378, 3400,   2204.1,   0.1320,  34.6870,2,  34.6870,2,   -999.0,5,    216.6,2,   113.90,2,    32.20,2,     2.28,2,  0.0090
    09AR9309_1,  SR03,    59,  1,      5,    105,2,19930328,0923,-64.3387, 139.8378, 3400,   2403.7,   0.0430,  34.6840,2,  34.6860,2,   -999.0,5,    221.0,2,   109.40,2,    32.10,2,     2.26,2, -0.0930
    09AR9309_1,  SR03,    59,  1,      4,    104,2,19930328,0923,-64.3387, 139.8378, 3400,   2604.6,  -0.0230,  34.6830,2,  34.6850,2,   -999.0,5,    224.2,2,   109.10,2,    32.00,2,     2.26,2, -0.1730
    09AR9309_1,  SR03,    59,  1,      3,    103,2,19930328,0923,-64.3387, 139.8378, 3400,   2906.7,  -0.1210,  34.6840,2,  34.6860,2,   -999.0,5,    228.4,2,    95.30,2,    31.90,2,  -999.00,5, -0.2940
    09AR9309_1,  SR03,    59,  1,      2,    102,2,19930328,0923,-64.3387, 139.8378, 3400,   3208.5,  -0.2690,  34.6770,2,  34.6760,2,   -999.0,5,    235.2,2,    91.60,2,    31.70,2,     2.28,2, -0.4640
    09AR9309_1,  SR03,    59,  1,      1,    101,2,19930328,0923,-64.3387, 139.8378, 3400,   3408.2,  -0.3040,  34.6820,2,  34.6800,2,   -999.0,5,    236.6,2,    89.80,2,    31.60,2,     2.25,2, -0.5160
    09AR9309_1,  SR03,    60,  1,     12,    112,2,19930328,1534,-64.8278, 139.8442, 2600,    999.2,   0.5520,  34.6970,2,  34.6990,2,   -999.0,5,    204.5,2,  -999.00,5,  -999.00,5,  -999.00,5,  0.5030
    09AR9309_1,  SR03,    60,  1,     11,    111,2,19930328,1534,-64.8278, 139.8442, 2600,   1098.9,   0.4890,  34.6960,2,  34.6990,2,   -999.0,5,    206.9,2,   113.60,2,    32.50,2,     2.20,2,  0.4350
    09AR9309_1,  SR03,    60,  1,     10,    110,2,19930328,1534,-64.8278, 139.8442, 2600,   1199.7,   0.4120,  34.6930,2,-999.0000,9,   -999.0,5,    209.2,2,   112.80,2,    32.50,2,     2.22,2,  0.3530
    09AR9309_1,  SR03,    60,  1,      9,    109,2,19930328,1534,-64.8278, 139.8442, 2600,   1300.8,   0.3170,  34.6890,2,  34.6910,2,   -999.0,5,   -999.0,5,   117.00,2,    32.30,2,     2.23,2,  0.2530
    09AR9309_1,  SR03,    60,  1,      8,    108,2,19930328,1534,-64.8278, 139.8442, 2600,   1400.2,   0.1760,  34.6810,2,  34.6830,2,   -999.0,5,    216.0,2,   112.00,2,    32.20,2,     2.22,2,  0.1070
    09AR9309_1,  SR03,    60,  1,      7,    107,2,19930328,1534,-64.8278, 139.8442, 2600,   1599.5,   0.0880,  34.6810,2,  34.6810,2,   -999.0,5,    217.8,2,   108.70,2,    32.20,2,     2.23,2,  0.0080
    09AR9309_1,  SR03,    60,  1,      6,    106,2,19930328,1534,-64.8278, 139.8442, 2600,   1700.2,   0.0520,  34.6820,2,  34.6800,2,   -999.0,5,   -999.0,5,   112.00,2,    32.20,2,     2.22,2, -0.0340
    09AR9309_1,  SR03,    60,  1,      5,    105,2,19930328,1534,-64.8278, 139.8442, 2600,   1899.8,  -0.0190,  34.6830,2,  34.6820,2,   -999.0,5,    221.9,2,   102.50,2,    32.10,2,     2.21,2, -0.1180
    09AR9309_1,  SR03,    60,  1,      4,    104,2,19930328,1534,-64.8278, 139.8442, 2600,   2101.1,  -0.1230,  34.6820,2,  34.6810,2,   -999.0,5,    226.8,2,    95.10,2,    32.10,2,     2.21,2, -0.2340
    09AR9309_1,  SR03,    60,  1,      3,    103,2,19930328,1534,-64.8278, 139.8442, 2600,   2302.3,  -0.1830,  34.6830,2,  34.6820,2,   -999.0,5,   -999.0,5,   102.60,3,    31.90,2,     2.20,2, -0.3070
    09AR9309_1,  SR03,    60,  1,      2,    102,2,19930328,1534,-64.8278, 139.8442, 2600,   2504.9,  -0.2830,  34.6820,2,  34.6810,2,   -999.0,5,    234.2,2,    96.50,2,    32.00,2,     2.19,2, -0.4210
    09AR9309_1,  SR03,    60,  1,      1,    101,2,19930328,1534,-64.8278, 139.8442, 2600,   2564.1,  -0.2980,  34.6830,2,  34.6810,2,   -999.0,5,    232.5,2,    96.60,2,    32.10,2,     2.19,2, -0.4400
    09AR9309_1,  SR03,    61,  1,     12,    112,2,19930328,1728,-64.8437, 139.8605, 2600,     11.8,  -0.1120,  34.0360,2,  34.0340,2,   -999.0,5,    328.8,2,    48.70,2,    28.10,2,  -999.00,5, -0.1120
    09AR9309_1,  SR03,    61,  1,     11,    111,2,19930328,1728,-64.8437, 139.8605, 2600,     20.8,  -0.1000,  34.0370,2,  34.0400,2,   -999.0,5,    326.6,2,    48.90,2,    28.30,2,     1.88,2, -0.1010
    09AR9309_1,  SR03,    61,  1,     10,    110,2,19930328,1728,-64.8437, 139.8605, 2600,     82.2,  -0.7450,  34.4100,4,  34.4140,2,   -999.0,5,    268.0,2,    67.10,2,    31.30,2,     2.14,2, -0.7480
    09AR9309_1,  SR03,    61,  1,      9,    109,2,19930328,1728,-64.8437, 139.8605, 2600,    120.0,  -0.2380,  34.5050,4,  34.5160,2,   -999.0,5,    239.9,2,    71.30,2,    31.80,2,     2.16,2, -0.2420
    09AR9309_1,  SR03,    61,  1,      8,    108,2,19930328,1728,-64.8437, 139.8605, 2600,    161.7,   0.6170,  34.6090,3,  34.6070,2,   -999.0,5,    213.3,2,    74.70,2,    32.10,2,     2.22,2,  0.6100
    09AR9309_1,  SR03,    61,  1,      7,    107,2,19930328,1728,-64.8437, 139.8605, 2600,    201.1,   0.9500,  34.6570,4,  34.6590,2,   -999.0,5,    202.9,2,    77.80,2,    32.10,2,     2.22,2,  0.9410
    09AR9309_1,  SR03,    61,  1,      6,    106,2,19930328,1728,-64.8437, 139.8605, 2600,    300.7,   1.2570,  34.7050,2,  34.7100,2,   -999.0,5,    193.9,2,    81.00,2,    31.60,2,     2.18,2,  1.2430
    09AR9309_1,  SR03,    61,  1,      5,    105,2,19930328,1728,-64.8437, 139.8605, 2600,    400.3,   1.0920,  34.7050,2,  34.7090,2,   -999.0,5,    197.5,2,    88.10,2,    31.40,2,     2.17,2,  1.0730
    09AR9309_1,  SR03,    61,  1,      4,    104,2,19930328,1728,-64.8437, 139.8605, 2600,    500.1,   0.9570,  34.7020,2,  34.7010,2,   -999.0,5,    199.4,2,    88.50,2,    31.30,2,     2.17,2,  0.9330
    09AR9309_1,  SR03,    61,  1,      3,    103,2,19930328,1728,-64.8437, 139.8605, 2600,    600.1,   0.9520,  34.7120,2,  34.7120,2,   -999.0,5,    200.7,2,    91.60,2,    31.60,2,     2.19,2,  0.9230
    09AR9309_1,  SR03,    61,  1,      2,    102,2,19930328,1728,-64.8437, 139.8605, 2600,    803.9,   0.8510,  34.7160,2,  34.7170,2,   -999.0,5,    200.7,2,    97.70,2,    31.80,2,     2.21,2,  0.8110
    09AR9309_1,  SR03,    61,  1,      1,    101,2,19930328,1728,-64.8437, 139.8605, 2600,   1001.0,   0.5650,  34.7000,2,  34.6980,2,   -999.0,5,    204.4,2,   110.50,2,    32.10,2,     2.23,2,  0.5160
    09AR9309_1,  SR03,    62,  1,     12,    112,2,19930328,2109,-65.0842, 139.8562, 2815,   1097.8,   0.3550,  34.6890,2,  34.6880,2,   -999.0,5,    206.9,2,   107.80,2,    32.30,2,  -999.00,5,  0.3020
    09AR9309_1,  SR03,    62,  1,     11,    111,2,19930328,2109,-65.0842, 139.8562, 2815,   1200.0,   0.2620,  34.6820,2,  34.6840,2,   -999.0,5,    213.0,2,  -999.00,5,    32.10,2,     2.20,2,  0.2040
    09AR9309_1,  SR03,    62,  1,     10,    110,2,19930328,2109,-65.0842, 139.8562, 2815,   1299.9,   0.1820,  34.6800,2,  34.6760,2,   -999.0,5,    214.0,2,   108.90,2,    32.20,2,     2.22,2,  0.1190
    09AR9309_1,  SR03,    62,  1,      9,    109,2,19930328,2109,-65.0842, 139.8562, 2815,   1400.4,   0.1220,  34.6750,2,  34.6740,2,   -999.0,5,    216.2,2,   109.20,2,    32.10,2,     2.21,2,  0.0540
    09AR9309_1,  SR03,    62,  1,      8,    108,2,19930328,2109,-65.0842, 139.8562, 2815,   1501.0,   0.1270,  34.6810,2,  34.6810,2,   -999.0,5,    214.3,2,   111.50,2,    32.10,2,     2.23,2,  0.0530
    09AR9309_1,  SR03,    62,  1,      7,    107,2,19930328,2109,-65.0842, 139.8562, 2815,   1600.7,   0.1290,  34.6860,2,  34.6840,2,   -999.0,5,    213.9,2,   117.50,2,    32.30,2,     2.24,2,  0.0480
    09AR9309_1,  SR03,    62,  1,      6,    106,2,19930328,2109,-65.0842, 139.8562, 2815,   1800.8,   0.0160,  34.6840,2,  34.6800,2,   -999.0,5,    213.6,2,   112.90,2,    32.20,2,     2.23,2, -0.0760
    09AR9309_1,  SR03,    62,  1,      5,    105,2,19930328,2109,-65.0842, 139.8562, 2815,   2002.1,  -0.0240,  34.6870,2,  34.6860,2,   -999.0,5,   -999.0,9,   107.40,2,    32.00,2,     2.22,2, -0.1300
    09AR9309_1,  SR03,    62,  1,      4,    104,2,19930328,2109,-65.0842, 139.8562, 2815,   2203.3,  -0.0560,  34.6860,2,  34.6860,2,   -999.0,5,    220.3,2,   107.80,2,    32.10,2,     2.21,2, -0.1750
    09AR9309_1,  SR03,    62,  1,      3,    103,2,19930328,2109,-65.0842, 139.8562, 2815,   2402.8,  -0.1770,  34.6860,2,  34.6870,2,   -999.0,5,    227.1,2,   102.50,2,    31.90,2,     2.21,2, -0.3090
    09AR9309_1,  SR03,    62,  1,      2,    102,2,19930328,2109,-65.0842, 139.8562, 2815,   2603.7,  -0.2010,  34.6850,2,  34.6850,2,   -999.0,5,    227.4,2,  -999.00,5,    31.80,2,     2.21,2, -0.3480
    09AR9309_1,  SR03,    62,  1,      1,    101,2,19930328,2109,-65.0842, 139.8562, 2815,   2789.6,  -0.2030,  34.6820,2,  34.6810,2,   -999.0,5,    222.8,2,    99.20,2,    31.90,2,     2.21,2, -0.3650
    09AR9309_1,  SR03,    63,  1,     11,    111,2,19930328,2306,-65.0807, 139.8538, 2780,     12.1,  -0.7860,  34.0620,2,  34.0600,2,   -999.0,5,    335.8,2,    54.20,2,    28.70,2,     1.86,2, -0.7870
    09AR9309_1,  SR03,    63,  1,     12,    112,2,19930328,2306,-65.0807, 139.8538, 2780,     12.4,  -0.7860,  34.0630,2,  34.0600,2,   -999.0,5,    335.4,2,    51.60,2,    28.10,2,  -999.00,5, -0.7870
    09AR9309_1,  SR03,    63,  1,     10,    110,2,19930328,2306,-65.0807, 139.8538, 2780,     51.8,  -0.8280,  34.1730,2,  34.1820,2,   -999.0,5,    316.4,2,    59.40,2,    29.30,2,     1.95,2, -0.8300
    09AR9309_1,  SR03,    63,  1,      9,    109,2,19930328,2306,-65.0807, 139.8538, 2780,     76.7,  -1.1800,  34.4290,2,  34.4360,2,   -999.0,5,    275.0,2,    72.20,2,    31.00,2,     2.10,2, -1.1820
    09AR9309_1,  SR03,    63,  1,      8,    108,2,19930328,2306,-65.0807, 139.8538, 2780,    130.6,  -0.4240,  34.5190,4,  34.5270,2,   -999.0,5,    247.5,2,    73.20,2,    31.60,2,     2.15,2, -0.4280
    09AR9309_1,  SR03,    63,  1,      7,    107,2,19930328,2306,-65.0807, 139.8538, 2780,    201.3,   0.5570,  34.6310,2,  34.6360,2,   -999.0,5,    214.4,2,    87.50,2,    31.80,2,     2.17,2,  0.5490
    09AR9309_1,  SR03,    63,  1,      6,    106,2,19930328,2306,-65.0807, 139.8538, 2780,    299.9,   0.9670,  34.6960,4,  34.6860,2,   -999.0,5,    205.6,2,    89.80,2,    31.50,2,     2.16,2,  0.9530
    09AR9309_1,  SR03,    63,  1,      5,    105,2,19930328,2306,-65.0807, 139.8538, 2780,    401.9,   0.9400,  34.6990,2,  34.7020,2,   -999.0,5,    202.9,2,  -999.00,9,  -999.00,9,  -999.00,9,  0.9210
    09AR9309_1,  SR03,    63,  1,      4,    104,2,19930328,2306,-65.0807, 139.8538, 2780,    498.2,   0.9840,  34.7130,2,  34.7140,2,   -999.0,5,    200.7,2,    98.30,2,    31.40,2,     2.17,2,  0.9600
    09AR9309_1,  SR03,    63,  1,      3,    103,2,19930328,2306,-65.0807, 139.8538, 2780,    599.7,   0.9000,  34.7130,2,  34.7130,2,   -999.0,5,    201.3,2,    99.90,2,    31.50,2,     2.18,2,  0.8710
    09AR9309_1,  SR03,    63,  1,      2,    102,2,19930328,2306,-65.0807, 139.8538, 2780,    800.4,   0.4730,  34.6840,2,  34.6830,2,   -999.0,5,    209.5,2,    95.40,2,    31.80,2,     2.21,2,  0.4360
    09AR9309_1,  SR03,    63,  1,      1,    101,2,19930328,2306,-65.0807, 139.8538, 2780,   1000.1,   0.4530,  34.6940,2,  34.6920,2,   -999.0,5,    206.1,2,   106.70,2,    32.10,2,     2.22,2,  0.4050