BOTTLE,20030917WHPSIODMB
EXPOCODE,SECT_ID,STNNBR,CASTNO,SAMPNO,BTLNBR,BTLNBR_FLAG_W,DATE,TIME,LATITUDE,LONGITUDE,DEPTH,CTDPRS,CTDTMP,CTDSAL,CTDSAL_FLAG_W,SALNTY,SALNTY_FLAG_W,CTDOXY,CTDOXY_FLAG_W,OXYGEN,OXYGEN_FLAG_W,SILCAT,SILCAT_FLAG_W,NO2+NO3,NO2+NO3_FLAG_W,PHSPHT,PHSPHT_FLAG_W,THETA
,,,,,,,,,,,,DBAR,DEG C,PSS-78,,PSS-78,,UMOL/KG,,UMOL/KG,,UMOL/KG,,UMOL/KG,,UMOL/KG,,DEG C
    09AR9309_1,  SR03,     9,  1,     24,     24,3,19930313,1400,-46.8730, 145.1492, 3550,     10.1,  11.1030,  34.4460,2,  34.4490,3,    289.7,2,   -999.0,9,     0.50,2,    10.40,2,     0.82,2, 11.1040
    09AR9309_1,  SR03,     9,  1,     23,     23,2,19930313,1400,-46.8730, 145.1492, 3550,     19.3,  10.8180,  34.4180,4,  34.4220,2,    274.8,2,    270.6,2,     0.50,2,    10.80,2,     0.81,2, 10.8180
    09AR9309_1,  SR03,     9,  1,     22,     22,2,19930313,1400,-46.8730, 145.1492, 3550,     48.5,  10.6510,  34.4100,2,  34.4110,2,    267.9,2,    270.9,2,     0.70,2,    11.10,2,     0.83,2, 10.6480
    09AR9309_1,  SR03,     9,  1,     21,     21,2,19930313,1400,-46.8730, 145.1492, 3550,     99.8,   9.4010,  34.6330,4,  34.6340,2,    259.5,2,    283.5,3,     3.10,2,    14.10,2,     1.01,2,  9.3920
    09AR9309_1,  SR03,     9,  1,     20,     20,2,19930313,1400,-46.8730, 145.1492, 3550,    199.3,   9.1650,  34.6370,2,  34.6370,2,    259.9,2,    258.9,2,     3.50,2,    14.50,2,     1.02,2,  9.1450
    09AR9309_1,  SR03,     9,  1,     19,     19,2,19930313,1400,-46.8730, 145.1492, 3550,    298.4,   9.0420,  34.6230,2,  34.6210,2,    256.2,2,    257.7,2,     3.60,2,    14.90,2,     1.06,2,  9.0120
    09AR9309_1,  SR03,     9,  1,     18,     18,2,19930313,1400,-46.8730, 145.1492, 3550,    400.6,   8.9160,  34.6050,2,  34.6060,2,    258.7,2,    258.0,2,     3.70,2,    15.20,2,     1.07,2,  8.8750
    09AR9309_1,  SR03,     9,  1,     17,     17,2,19930313,1400,-46.8730, 145.1492, 3550,    495.3,   8.7920,  34.5920,2,  34.5950,2,    245.9,2,    249.6,2,     4.50,2,    16.80,2,     1.16,2,  8.7400
    09AR9309_1,  SR03,     9,  1,     16,     16,2,19930313,1400,-46.8730, 145.1492, 3550,    595.8,   8.4280,  34.5530,2,  34.5530,2,    234.9,2,    234.5,2,     6.10,2,    19.10,2,     1.30,2,  8.3670
    09AR9309_1,  SR03,     9,  1,     15,     15,2,19930313,1400,-46.8730, 145.1492, 3550,    695.5,   7.6480,  34.4790,3,  34.4780,2,    222.2,2,    215.9,2,    10.00,2,    22.70,2,     1.52,2,  7.5800
    09AR9309_1,  SR03,     9,  1,     14,     14,2,19930313,1400,-46.8730, 145.1492, 3550,    796.7,   6.8230,  34.4460,4,  34.4490,2,    205.9,2,    202.5,3,    15.30,2,    26.00,2,     1.73,2,  6.7490
    09AR9309_1,  SR03,     9,  1,     13,     13,2,19930313,1400,-46.8730, 145.1492, 3550,    896.2,   5.6260,  34.3780,3,  34.3770,2,    205.4,2,    204.4,2,    21.40,2,    28.50,2,     1.91,2,  5.5490
    09AR9309_1,  SR03,     9,  1,     12,     12,2,19930313,1400,-46.8730, 145.1492, 3550,    992.3,   4.8040,  34.3480,2,  34.3500,2,    203.5,2,    204.7,2,    26.90,2,    30.20,2,     2.03,2,  4.7240
    09AR9309_1,  SR03,     9,  1,     11,     11,2,19930313,1400,-46.8730, 145.1492, 3550,   1096.4,   4.0610,  34.3270,3,  34.3250,2,    202.9,2,    207.0,2,    32.00,2,    31.50,2,     2.13,2,  3.9780
    09AR9309_1,  SR03,     9,  1,     10,     10,2,19930313,1400,-46.8730, 145.1492, 3550,   1292.9,   3.2660,  34.3710,3,  34.3710,2,    191.2,2,    193.9,2,    45.80,2,    33.80,2,     2.30,2,  3.1740
    09AR9309_1,  SR03,     9,  1,      9,     26,2,19930313,1400,-46.8730, 145.1492, 3550,   1491.6,   2.9140,  34.4680,3,  34.4670,2,    177.0,2,    176.3,2,    58.80,2,    34.60,2,     2.35,2,  2.8090
    09AR9309_1,  SR03,     9,  1,      8,      8,2,19930313,1400,-46.8730, 145.1492, 3550,   1695.2,   2.6530,  34.5630,2,  34.5610,2,    170.4,2,    168.9,2,    67.70,2,    34.50,2,     2.35,2,  2.5340
    09AR9309_1,  SR03,     9,  1,      7,      7,2,19930313,1400,-46.8730, 145.1492, 3550,   1895.3,   2.5420,  34.6190,2,  34.6180,2,    170.8,2,    170.7,2,    70.90,2,    33.80,2,     2.29,2,  2.4070
    09AR9309_1,  SR03,     9,  1,      6,      6,2,19930313,1400,-46.8730, 145.1492, 3550,   2094.6,   2.3630,  34.6840,2,  34.6850,2,    174.5,2,    174.4,2,    78.60,2,    33.00,2,     2.24,2,  2.2130
    09AR9309_1,  SR03,     9,  1,      5,     25,2,19930313,1400,-46.8730, 145.1492, 3550,   2393.6,   2.1640,  34.7310,2,  34.7300,2,    179.2,2,    180.1,2,    85.40,2,    32.10,2,     2.20,2,  1.9910
    09AR9309_1,  SR03,     9,  1,      4,      4,2,19930313,1400,-46.8730, 145.1492, 3550,   2697.1,   1.8450,  34.7410,2,  34.7410,2,    186.8,2,    185.0,2,    93.90,2,    31.90,2,     2.18,2,  1.6500
    09AR9309_1,  SR03,     9,  1,      3,      3,2,19930313,1400,-46.8730, 145.1492, 3550,   2998.3,   1.6060,  34.7350,2,  34.7360,2,    189.7,2,    188.4,2,   103.40,2,    32.60,2,     2.22,2,  1.3870
    09AR9309_1,  SR03,     9,  1,      2,      2,2,19930313,1400,-46.8730, 145.1492, 3550,   3299.8,   1.3880,  34.7290,2,  34.7280,2,    192.7,2,    191.8,2,   110.70,2,    33.10,2,     2.25,2,  1.1450
    09AR9309_1,  SR03,     9,  1,      1,      1,2,19930313,1400,-46.8730, 145.1492, 3550,   3555.2,   1.2630,  34.7230,2,  34.7220,2,    192.8,2,    194.0,2,   111.80,2,    32.50,2,     2.22,2,  0.9970
    09AR9309_1,  SR03,    10,  1,     24,     27,2,19930313,1942,-47.3417, 144.9718, 3940,     10.8,  11.6880,  34.5730,2,  34.5770,2,    266.7,2,    264.6,2,     0.40,2,     8.30,2,     0.70,2, 11.6890
    09AR9309_1,  SR03,    10,  1,     23,     23,2,19930313,1942,-47.3417, 144.9718, 3940,     20.3,  11.5600,  34.5600,3,  34.5620,2,    271.9,2,    266.9,2,     0.40,2,     8.50,2,     0.69,2, 11.5600
    09AR9309_1,  SR03,    10,  1,     22,     22,2,19930313,1942,-47.3417, 144.9718, 3940,     50.7,  11.4730,  34.5560,2,  34.5550,2,    266.7,2,    268.3,2,     0.40,2,     8.60,2,     0.69,2, 11.4690
    09AR9309_1,  SR03,    10,  1,     21,     21,2,19930313,1942,-47.3417, 144.9718, 3940,     98.3,  10.5330,  34.6310,4,  34.6320,2,    250.9,2,    256.3,2,     1.70,2,    11.60,2,     0.89,2, 10.5240
    09AR9309_1,  SR03,    10,  1,     20,     20,2,19930313,1942,-47.3417, 144.9718, 3940,    197.7,   9.6730,  34.7360,3,  34.7370,2,    250.4,2,    252.8,2,     3.20,2,    13.60,2,     0.97,2,  9.6530
    09AR9309_1,  SR03,    10,  1,     19,     19,2,19930313,1942,-47.3417, 144.9718, 3940,    299.7,   9.3270,  34.6820,2,  34.6820,2,    253.6,2,    258.5,2,     3.30,2,    14.40,2,     1.03,2,  9.2960
    09AR9309_1,  SR03,    10,  1,     18,     18,2,19930313,1942,-47.3417, 144.9718, 3940,    397.6,   9.1260,  34.6460,2,  34.6460,2,    256.2,2,    255.3,2,     3.40,2,    15.00,2,     1.06,2,  9.0840
    09AR9309_1,  SR03,    10,  1,     17,     17,2,19930313,1942,-47.3417, 144.9718, 3940,    495.6,   8.9300,  34.6140,2,  34.6130,2,    256.4,2,    254.5,2,     3.70,2,    15.80,2,     1.12,2,  8.8780
    09AR9309_1,  SR03,    10,  1,     16,     16,2,19930313,1942,-47.3417, 144.9718, 3940,    597.1,   8.7380,  34.5980,2,  34.5980,2,    243.1,2,    242.5,2,     5.10,2,    17.90,2,     1.24,2,  8.6750
    09AR9309_1,  SR03,    10,  1,     15,     15,2,19930313,1942,-47.3417, 144.9718, 3940,    697.0,   8.0410,  34.5180,2,  34.5170,2,    229.3,2,    228.5,2,     7.80,2,    21.00,2,     1.42,2,  7.9700
    09AR9309_1,  SR03,    10,  1,     14,     14,2,19930313,1942,-47.3417, 144.9718, 3940,    795.6,   7.2980,  34.4760,3,  34.4770,2,    215.8,2,    208.8,2,    12.70,2,    24.40,2,     1.64,2,  7.2210
    09AR9309_1,  SR03,    10,  1,     13,     13,2,19930313,1942,-47.3417, 144.9718, 3940,    895.4,   6.5440,  34.4400,3,  34.4420,2,    205.2,2,    200.5,2,    17.40,2,    26.70,2,     1.80,2,  6.4610
    09AR9309_1,  SR03,    10,  1,     12,     12,2,19930313,1942,-47.3417, 144.9718, 3940,    998.6,   5.4920,  34.3850,3,  34.3850,2,    205.6,2,    201.9,2,    22.60,2,    28.90,2,     1.96,2,  5.4070
    09AR9309_1,  SR03,    10,  1,     11,     11,2,19930313,1942,-47.3417, 144.9718, 3940,   1195.4,   3.9770,  34.3400,3,  34.3410,2,    202.5,2,    201.6,2,    34.70,2,    31.70,2,     2.17,2,  3.8860
    09AR9309_1,  SR03,    10,  1,     10,     10,2,19930313,1942,-47.3417, 144.9718, 3940,   1393.5,   3.2090,  34.3960,2,  34.3950,2,    185.7,2,    191.0,2,    48.70,2,    33.80,2,     2.31,2,  3.1090
    09AR9309_1,  SR03,    10,  1,      9,     26,2,19930313,1942,-47.3417, 144.9718, 3940,   1593.6,   2.8160,  34.4930,2,  34.4920,2,    174.1,2,    175.6,2,    61.50,2,    34.70,2,     2.37,2,  2.7030
    09AR9309_1,  SR03,    10,  1,      8,      8,2,19930313,1942,-47.3417, 144.9718, 3940,   1794.7,   2.6160,  34.5770,2,  34.5770,2,    171.2,2,    171.9,2,    68.80,2,    34.30,2,     2.36,2,  2.4890
    09AR9309_1,  SR03,    10,  1,      7,      7,2,19930313,1942,-47.3417, 144.9718, 3940,   2091.9,   2.4360,  34.6810,2,  34.6820,2,    172.6,2,    173.2,2,    76.70,2,    33.00,2,     2.25,2,  2.2850
    09AR9309_1,  SR03,    10,  1,      6,      6,2,19930313,1942,-47.3417, 144.9718, 3940,   2394.4,   2.2390,  34.7290,2,  34.7290,2,    176.6,2,    175.5,2,    87.50,2,    32.70,2,     2.23,2,  2.0640
    09AR9309_1,  SR03,    10,  1,      5,     25,2,19930313,1942,-47.3417, 144.9718, 3940,   2695.3,   2.0180,  34.7430,2,  34.7440,2,    180.2,2,    178.6,2,    95.20,2,    32.30,2,     2.22,2,  1.8190
    09AR9309_1,  SR03,    10,  1,      4,      4,2,19930313,1942,-47.3417, 144.9718, 3940,   3000.1,   1.8350,  34.7450,2,  34.7520,2,    184.8,2,    181.7,2,   100.20,2,    32.20,2,     2.22,2,  1.6110
    09AR9309_1,  SR03,    10,  1,      3,      3,2,19930313,1942,-47.3417, 144.9718, 3940,   3297.0,   1.5950,  34.7450,2,  34.7480,2,    191.3,2,    192.3,2,   102.90,2,    32.10,2,     2.20,2,  1.3470
    09AR9309_1,  SR03,    10,  1,      2,      2,2,19930313,1942,-47.3417, 144.9718, 3940,   3598.4,   1.3490,  34.7340,2,  34.7370,2,    196.1,2,    195.2,2,   109.60,2,    32.10,2,     2.22,2,  1.0770
    09AR9309_1,  SR03,    10,  1,      1,      1,2,19930313,1942,-47.3417, 144.9718, 3940,   4036.2,   1.1040,  34.7230,2,  34.7250,2,    199.1,2,    197.5,2,   118.70,2,    32.90,2,     2.26,2,  0.7920
    09AR9309_1,  SR03,    11,  1,     24,     27,2,19930314,0231,-47.8033, 144.7428, 3970,      8.6,  11.8130,  34.5690,2,  34.5680,2,    276.6,2,    264.1,2,     0.30,2,     8.20,2,     0.71,2, 11.8150
    09AR9309_1,  SR03,    11,  1,     23,     23,2,19930314,0231,-47.8033, 144.7428, 3970,     24.5,  11.7210,  34.5670,2,  34.5640,2,    267.8,2,    264.6,2,     0.50,2,     8.30,2,     0.68,2, 11.7210
    09AR9309_1,  SR03,    11,  1,     22,     22,2,19930314,0231,-47.8033, 144.7428, 3970,     47.1,  11.6420,  34.5690,2,  34.5670,2,    267.5,2,    265.5,2,     0.60,2,     8.40,2,     0.68,2, 11.6390
    09AR9309_1,  SR03,    11,  1,     21,     21,2,19930314,0231,-47.8033, 144.7428, 3970,     99.8,   9.6850,  34.6380,4,  34.6380,2,    259.0,2,    258.5,2,     3.00,2,    13.60,2,     0.99,2,  9.6760
    09AR9309_1,  SR03,    11,  1,     20,     20,2,19930314,0231,-47.8033, 144.7428, 3970,    199.5,   9.3350,  34.6760,2,  34.6750,2,    253.9,2,    258.0,2,     3.30,2,    14.00,2,     1.01,2,  9.3150
    09AR9309_1,  SR03,    11,  1,     19,     19,2,19930314,0231,-47.8033, 144.7428, 3970,    299.4,   9.1230,  34.6410,2,  34.6400,2,    253.1,2,    258.0,2,     3.50,2,    14.30,2,     1.02,2,  9.0920
    09AR9309_1,  SR03,    11,  1,     18,     18,2,19930314,0231,-47.8033, 144.7428, 3970,    497.2,   8.9560,  34.6210,2,  34.6220,2,    258.0,2,    256.5,2,     3.50,2,    15.20,2,     1.08,2,  8.9040
    09AR9309_1,  SR03,    11,  1,     17,     17,2,19930314,0231,-47.8033, 144.7428, 3970,    595.6,   8.8260,  34.6100,4,  34.6070,2,    247.6,2,    246.2,2,     4.60,2,    17.00,2,     1.19,2,  8.7630
    09AR9309_1,  SR03,    11,  1,     16,     16,2,19930314,0231,-47.8033, 144.7428, 3970,    795.3,   7.5240,  34.4840,3,  34.4830,2,    216.0,2,    219.4,2,    10.80,2,    23.40,2,     1.58,2,  7.4460
    09AR9309_1,  SR03,    11,  1,     15,     15,2,19930314,0231,-47.8033, 144.7428, 3970,    896.7,   6.6180,  34.4410,4,  34.4400,2,    205.3,2,    202.5,2,    16.30,2,    26.00,2,     1.75,2,  6.5350
    09AR9309_1,  SR03,    11,  1,     14,     14,2,19930314,0231,-47.8033, 144.7428, 3970,    994.8,   5.6920,  34.3860,3,  34.3870,2,    206.4,2,    202.7,2,    21.20,2,    28.20,2,     1.91,2,  5.6050
    09AR9309_1,  SR03,    11,  1,     13,     13,2,19930314,0231,-47.8033, 144.7428, 3970,   1194.6,   4.0060,  34.3280,2,  34.3280,2,    201.4,2,   -999.0,5,    32.30,2,    31.00,2,     2.12,2,  3.9150
    09AR9309_1,  SR03,    11,  1,     12,     12,2,19930314,0231,-47.8033, 144.7428, 3970,   1394.4,   3.2790,  34.4020,2,  34.4020,2,    186.5,2,    187.3,2,    49.00,2,    33.60,2,     2.31,2,  3.1780
    09AR9309_1,  SR03,    11,  1,     11,     11,2,19930314,0231,-47.8033, 144.7428, 3970,   1594.3,   2.9210,  34.4830,2,  34.4810,2,    175.8,2,    174.1,2,    60.30,2,    34.50,2,     2.37,2,  2.8070
    09AR9309_1,  SR03,    11,  1,     10,     10,2,19930314,0231,-47.8033, 144.7428, 3970,   1795.5,   2.6640,  34.5740,2,  34.5700,2,    172.7,2,    168.2,2,    69.40,2,    34.40,2,     2.37,2,  2.5360
    09AR9309_1,  SR03,    11,  1,      9,     26,2,19930314,0231,-47.8033, 144.7428, 3970,   1996.6,   2.5010,  34.6500,2,  34.6480,2,    184.6,2,    171.6,2,    74.00,2,    33.60,2,     2.29,2,  2.3580
    09AR9309_1,  SR03,    11,  1,      8,      8,2,19930314,0231,-47.8033, 144.7428, 3970,   2195.4,   2.3820,  34.6990,2,  34.7000,2,    176.0,2,    172.1,2,    81.80,2,    33.50,2,     2.31,2,  2.2230
    09AR9309_1,  SR03,    11,  1,      7,      7,2,19930314,0231,-47.8033, 144.7428, 3970,   2393.8,   2.2480,  34.7260,2,  34.7280,2,    174.6,2,    173.5,2,    86.40,2,    32.40,2,     2.23,2,  2.0730
    09AR9309_1,  SR03,    11,  1,      6,      6,2,19930314,0231,-47.8033, 144.7428, 3970,   2595.9,   2.1380,  34.7430,2,  34.7450,2,    174.8,2,    179.5,2,    88.90,2,    32.30,2,     2.23,2,  1.9460
    09AR9309_1,  SR03,    11,  1,      5,     25,2,19930314,0231,-47.8033, 144.7428, 3970,   2798.2,   2.0150,  34.7530,2,  34.7520,2,    175.9,2,    183.2,2,    89.80,2,    31.70,2,     2.18,2,  1.8070
    09AR9309_1,  SR03,    11,  1,      4,      4,2,19930314,0231,-47.8033, 144.7428, 3970,   3098.0,   1.7900,  34.7480,2,  34.7490,2,    179.2,2,    186.3,2,    97.90,2,    31.90,2,     2.19,2,  1.5570
    09AR9309_1,  SR03,    11,  1,      3,      3,2,19930314,0231,-47.8033, 144.7428, 3970,   3399.5,   1.5380,  34.7440,2,  34.7440,2,    188.3,2,    191.8,2,   104.40,2,    32.00,2,     2.20,2,  1.2810
    09AR9309_1,  SR03,    11,  1,      2,      2,2,19930314,0231,-47.8033, 144.7428, 3970,   3703.7,   1.3100,  34.7340,2,  34.7340,2,    196.4,2,    195.8,2,   109.70,2,    32.10,2,     2.21,2,  1.0280
    09AR9309_1,  SR03,    11,  1,      1,      1,2,19930314,0231,-47.8033, 144.7428, 3970,   4028.6,   1.1480,  34.7260,2,  34.7260,2,    203.9,2,    196.3,2,   115.70,2,    32.50,2,     2.26,2,  0.8360
    09AR9309_1,  SR03,    12,  1,     24,     27,2,19930314,0811,-48.3185, 144.5577, 4150,     11.0,  12.3590,  34.6900,2,  34.6860,2,    268.5,2,    259.8,2,     5.50,3,     6.20,2,     0.66,2, 12.3610
    09AR9309_1,  SR03,    12,  1,     23,     23,2,19930314,0811,-48.3185, 144.5577, 4150,     22.8,  12.1860,  34.6620,4,  34.6740,2,    266.2,2,    257.5,2,     4.70,3,     6.60,2,     0.65,2, 12.1860
    09AR9309_1,  SR03,    12,  1,     22,     22,2,19930314,0811,-48.3185, 144.5577, 4150,     48.0,  11.4470,  34.5630,3,  34.5580,2,    263.0,2,    264.0,2,     3.90,3,     8.70,2,     0.75,2, 11.4440
    09AR9309_1,  SR03,    12,  1,     21,     21,2,19930314,0811,-48.3185, 144.5577, 4150,     98.0,  10.1390,  34.7450,4,  34.7380,2,    257.7,2,    253.3,2,     4.10,3,    12.50,2,     0.98,2, 10.1300
    09AR9309_1,  SR03,    12,  1,     20,     20,2,19930314,0811,-48.3185, 144.5577, 4150,    175.0,   9.6260,  34.7140,4,  34.7210,2,    257.4,2,    253.1,2,     1.80,2,    13.80,2,     1.05,2,  9.6090
    09AR9309_1,  SR03,    12,  1,     19,     19,2,19930314,0811,-48.3185, 144.5577, 4150,    245.8,   9.3750,  34.6850,2,  34.6860,2,    258.1,2,    256.8,2,     1.80,2,    14.10,2,     1.07,2,  9.3500
    09AR9309_1,  SR03,    12,  1,     18,     18,2,19930314,0811,-48.3185, 144.5577, 4150,    397.2,   9.0110,  34.6290,3,  34.6220,2,    252.7,2,    257.1,2,     3.10,2,    15.10,2,     1.12,2,  8.9700
    09AR9309_1,  SR03,    12,  1,     17,     17,2,19930314,0811,-48.3185, 144.5577, 4150,    593.9,   8.8120,  34.6050,3,  34.6030,2,    243.7,2,    249.1,2,     5.10,2,    17.00,2,     1.23,2,  8.7490
    09AR9309_1,  SR03,    12,  1,     16,     16,2,19930314,0811,-48.3185, 144.5577, 4150,    794.2,   7.5530,  34.5080,3,  34.5080,2,    206.5,2,    205.7,2,    12.60,2,    23.90,2,     1.66,2,  7.4750
    09AR9309_1,  SR03,    12,  1,     15,     15,2,19930314,0811,-48.3185, 144.5577, 4150,    893.6,   6.5090,  34.4520,4,  34.4580,2,    195.7,2,    196.3,2,    18.60,2,    26.80,2,     1.86,2,  6.4270
    09AR9309_1,  SR03,    12,  1,     14,     14,2,19930314,0811,-48.3185, 144.5577, 4150,    994.4,   5.5960,  34.4050,3,  34.4090,2,    190.9,2,    195.7,2,    24.50,2,    28.80,2,     2.01,2,  5.5100
    09AR9309_1,  SR03,    12,  1,     13,     13,2,19930314,0811,-48.3185, 144.5577, 4150,   1114.1,   4.5450,  34.3700,2,  34.3680,2,    199.9,2,    200.2,2,    31.80,2,    30.70,2,     2.16,2,  4.4560
    09AR9309_1,  SR03,    12,  1,     12,     12,2,19930314,0811,-48.3185, 144.5577, 4150,   1292.4,   3.6040,  34.3860,4,  34.3870,2,    182.1,2,    191.4,2,    43.60,2,    32.60,2,     2.32,2,  3.5080
    09AR9309_1,  SR03,    12,  1,     11,     11,2,19930314,0811,-48.3185, 144.5577, 4150,   1491.4,   3.0650,  34.4650,2,  34.4620,2,    167.4,2,    176.0,2,    57.10,2,    34.00,2,     2.41,2,  2.9580
    09AR9309_1,  SR03,    12,  1,     10,     10,2,19930314,0811,-48.3185, 144.5577, 4150,   1692.4,   2.7310,  34.5490,2,  34.5480,2,    176.2,2,    170.5,2,    65.60,2,    34.20,2,     2.42,2,  2.6110
    09AR9309_1,  SR03,    12,  1,      9,     26,2,19930314,0811,-48.3185, 144.5577, 4150,   1894.2,   2.5520,  34.6210,2,  34.6210,2,    185.9,2,    170.5,2,    69.00,2,    33.50,2,     2.37,2,  2.4170
    09AR9309_1,  SR03,    12,  1,      8,      8,2,19930314,0811,-48.3185, 144.5577, 4150,   2092.5,   2.4490,  34.6790,2,  34.6790,2,    181.5,2,    173.0,2,    72.60,2,    32.60,2,     2.30,2,  2.2980
    09AR9309_1,  SR03,    12,  1,      7,      7,2,19930314,0811,-48.3185, 144.5577, 4150,   2293.2,   2.3380,  34.7200,2,  34.7220,2,    193.0,2,    180.2,2,    74.20,2,    31.70,2,     2.23,2,  2.1710
    09AR9309_1,  SR03,    12,  1,      6,      6,2,19930314,0811,-48.3185, 144.5577, 4150,   2497.2,   2.1990,  34.7440,2,  34.7390,2,    187.9,2,    182.7,2,    79.00,2,    31.20,2,     2.19,2,  2.0150
    09AR9309_1,  SR03,    12,  1,      5,     25,2,19930314,0811,-48.3185, 144.5577, 4150,   2797.8,   1.9300,  34.7480,2,  34.7470,2,    188.9,2,   -999.0,5,  -999.00,5,  -999.00,5,  -999.00,5,  1.7230
    09AR9309_1,  SR03,    12,  1,      4,      4,2,19930314,0811,-48.3185, 144.5577, 4150,   3099.8,   1.7370,  34.7540,2,  34.7560,2,    191.1,2,    193.5,2,    89.90,2,    30.90,2,     2.18,2,  1.5050
    09AR9309_1,  SR03,    12,  1,      3,      3,2,19930314,0811,-48.3185, 144.5577, 4150,   3396.3,   1.4520,  34.7420,2,  34.7440,2,    193.7,2,    193.8,2,   100.90,2,    31.60,2,     2.23,2,  1.1980
    09AR9309_1,  SR03,    12,  1,      2,      2,2,19930314,0811,-48.3185, 144.5577, 4150,   3706.2,   1.2180,  34.7320,2,  34.7340,2,    200.1,2,    197.5,2,   104.00,2,    31.80,2,     2.25,2,  0.9380
    09AR9309_1,  SR03,    12,  1,      1,      1,2,19930314,0811,-48.3185, 144.5577, 4150,   4162.8,   1.1220,  34.7260,2,  34.7280,2,    195.1,2,    199.0,2,   108.40,2,    31.90,2,     2.26,2,  0.7960