BOTTLE,20030917WHPSIODMB
EXPOCODE,SECT_ID,STNNBR,CASTNO,SAMPNO,BTLNBR,BTLNBR_FLAG_W,DATE,TIME,LATITUDE,LONGITUDE,DEPTH,CTDPRS,CTDTMP,CTDSAL,CTDSAL_FLAG_W,SALNTY,SALNTY_FLAG_W,CTDOXY,CTDOXY_FLAG_W,OXYGEN,OXYGEN_FLAG_W,SILCAT,SILCAT_FLAG_W,NO2+NO3,NO2+NO3_FLAG_W,PHSPHT,PHSPHT_FLAG_W,THETA
,,,,,,,,,,,,DBAR,DEG C,PSS-78,,PSS-78,,UMOL/KG,,UMOL/KG,,UMOL/KG,,UMOL/KG,,UMOL/KG,,DEG C
    09AR9309_1,  SR03,    21,  1,     24,     27,2,19930318,0050,-52.2622, 142.6280, 3450,      9.1,   6.4730,  33.8120,2,  33.8110,2,    293.1,2,    293.8,2,     1.40,2,    22.50,2,  -999.00,5,  6.4740
    09AR9309_1,  SR03,    21,  1,     23,     23,2,19930318,0050,-52.2622, 142.6280, 3450,     24.2,   6.4620,  33.8130,2,  33.8110,2,    293.9,2,    291.9,2,     1.40,2,    22.50,2,     1.48,2,  6.4610
    09AR9309_1,  SR03,    21,  1,     22,     22,2,19930318,0050,-52.2622, 142.6280, 3450,     49.6,   6.4480,  33.8130,2,  33.8110,2,    279.7,2,    292.7,2,     1.50,2,    22.40,2,     1.48,2,  6.4450
    09AR9309_1,  SR03,    21,  1,     21,     21,2,19930318,0050,-52.2622, 142.6280, 3450,    101.8,   3.8950,  33.9440,4,  33.9290,2,    300.8,2,    302.3,2,     8.10,2,    24.50,2,  -999.00,5,  3.8890
    09AR9309_1,  SR03,    21,  1,     20,     20,2,19930318,0050,-52.2622, 142.6280, 3450,    197.8,   3.6420,  34.0850,4,  34.0690,2,    267.1,2,    270.6,2,    17.30,2,    27.60,2,     1.83,2,  3.6300
    09AR9309_1,  SR03,    21,  1,     19,     19,2,19930318,0050,-52.2622, 142.6280, 3450,    297.5,   3.7230,  34.2210,2,  34.2180,2,    224.5,2,    235.5,2,    26.40,2,    30.60,2,     2.03,2,  3.7040
    09AR9309_1,  SR03,    21,  1,     18,     18,2,19930318,0050,-52.2622, 142.6280, 3450,    400.5,   3.1360,  34.2480,4,-999.0000,9,    220.0,2,    211.8,2,  -999.00,9,  -999.00,9,  -999.00,9,  3.1110
    09AR9309_1,  SR03,    21,  1,     17,     17,2,19930318,0050,-52.2622, 142.6280, 3450,    496.9,   2.8660,  34.3030,2,  34.3010,2,    203.0,2,    198.9,2,    43.00,2,    33.30,2,     2.24,2,  2.8360
    09AR9309_1,  SR03,    21,  1,     16,     16,2,19930318,0050,-52.2622, 142.6280, 3450,    598.6,   2.6870,  34.3620,2,  34.3630,2,    191.7,2,    188.3,2,    51.00,2,    34.10,2,     2.30,2,  2.6510
    09AR9309_1,  SR03,    21,  1,     15,     15,2,19930318,0050,-52.2622, 142.6280, 3450,    696.0,   2.4910,  34.4230,4,  34.4210,2,    184.7,2,    187.5,2,    59.00,2,    34.80,2,     2.35,2,  2.4490
    09AR9309_1,  SR03,    21,  1,     14,     14,2,19930318,0050,-52.2622, 142.6280, 3450,    795.3,   2.5340,  34.5010,2,  34.5000,2,    173.6,2,    176.7,2,    65.20,2,    34.70,2,     2.34,2,  2.4850
    09AR9309_1,  SR03,    21,  1,     13,     13,2,19930318,0050,-52.2622, 142.6280, 3450,    894.4,   2.4710,  34.5510,2,  34.5510,2,    170.0,2,    173.5,2,    69.00,2,    34.60,2,     2.34,2,  2.4150
    09AR9309_1,  SR03,    21,  1,     12,     12,2,19930318,0050,-52.2622, 142.6280, 3450,    993.7,   2.4420,  34.5940,2,  34.5920,2,    170.2,2,    170.0,2,    68.90,2,    34.30,2,  -999.00,5,  2.3790
    09AR9309_1,  SR03,    21,  1,     11,     11,2,19930318,0050,-52.2622, 142.6280, 3450,   1091.2,   2.4110,  34.6340,2,  34.6350,2,    171.3,2,    172.4,2,    71.30,2,    33.80,2,     2.24,2,  2.3410
    09AR9309_1,  SR03,    21,  1,     10,     10,2,19930318,0050,-52.2622, 142.6280, 3450,   1294.4,   2.3160,  34.6930,2,  34.6950,2,    175.2,2,    177.6,2,    74.20,2,    32.60,2,     2.19,2,  2.2320
    09AR9309_1,  SR03,    21,  1,      9,     26,2,19930318,0050,-52.2622, 142.6280, 3450,   1492.5,   2.1930,  34.7280,2,  34.7260,2,    181.7,2,    183.2,2,    76.60,2,    31.80,2,     2.13,2,  2.0950
    09AR9309_1,  SR03,    21,  1,      8,      8,2,19930318,0050,-52.2622, 142.6280, 3450,   1694.3,   2.0730,  34.7460,2,  34.7470,2,    187.1,2,    185.8,2,    79.40,2,    31.30,2,     2.07,2,  1.9610
    09AR9309_1,  SR03,    21,  1,      7,      7,2,19930318,0050,-52.2622, 142.6280, 3450,   1891.1,   1.9290,  34.7540,2,  34.7540,2,    190.1,2,    190.4,2,    83.50,2,    31.00,2,     2.08,2,  1.8030
    09AR9309_1,  SR03,    21,  1,      6,      6,2,19930318,0050,-52.2622, 142.6280, 3450,   2090.9,   1.7540,  34.7530,2,  34.7550,2,    192.1,2,    191.3,2,    88.20,2,    31.20,2,     2.09,2,  1.6140
    09AR9309_1,  SR03,    21,  1,      5,     25,2,19930318,0050,-52.2622, 142.6280, 3450,   2291.4,   1.5750,  34.7500,2,  34.7520,2,    195.3,2,    195.0,2,    93.50,2,    31.30,2,     2.09,2,  1.4210
    09AR9309_1,  SR03,    21,  1,      4,      4,2,19930318,0050,-52.2622, 142.6280, 3450,   2498.1,   1.3860,  34.7410,2,  34.7430,2,    196.6,2,   -999.0,5,   100.80,2,    31.70,2,     2.12,2,  1.2170
    09AR9309_1,  SR03,    21,  1,      3,      3,2,19930318,0050,-52.2622, 142.6280, 3450,   2794.2,   1.1650,  34.7310,2,  34.7320,2,    198.2,2,    198.8,2,   107.80,2,    32.10,2,     2.17,2,  0.9740
    09AR9309_1,  SR03,    21,  1,      2,      2,2,19930318,0050,-52.2622, 142.6280, 3450,   3100.6,   1.0010,  34.7230,2,  34.7240,2,    202.4,2,    201.8,2,   112.10,2,    32.50,2,     2.18,2,  0.7860
    09AR9309_1,  SR03,    21,  1,      1,      1,2,19930318,0050,-52.2622, 142.6280, 3450,   3416.3,   1.0040,  34.7210,2,  34.7230,2,    202.9,2,    201.8,2,   112.70,2,    32.50,2,     2.19,2,  0.7590
    09AR9309_1,  SR03,    22,  1,     24,     27,2,19930318,0559,-52.6425, 142.3910, 3470,      8.5,   6.3680,  33.7680,2,  33.7830,4,    297.6,2,    280.6,3,     3.20,2,    22.60,2,  -999.00,5,  6.3690
    09AR9309_1,  SR03,    22,  1,     23,     23,2,19930318,0559,-52.6425, 142.3910, 3470,     23.1,   6.3410,  33.7710,2,  33.7840,4,    299.4,2,    293.4,2,     2.80,2,    22.60,2,     1.49,2,  6.3410
    09AR9309_1,  SR03,    22,  1,     22,     22,2,19930318,0559,-52.6425, 142.3910, 3470,     48.0,   6.3030,  33.7760,2,  33.7870,4,    288.3,2,    294.5,2,     2.10,2,    22.60,2,     1.48,2,  6.3000
    09AR9309_1,  SR03,    22,  1,     21,     21,2,19930318,0559,-52.6425, 142.3910, 3470,    100.7,   3.1970,  33.9110,2,  33.9180,4,    303.5,2,    304.0,2,     8.40,2,    25.30,2,  -999.00,5,  3.1920
    09AR9309_1,  SR03,    22,  1,     20,     20,2,19930318,0559,-52.6425, 142.3910, 3470,    179.8,   2.0290,  33.9300,2,  33.9420,4,    303.6,2,    304.0,2,    15.60,2,    27.70,2,     1.87,2,  2.0200
    09AR9309_1,  SR03,    22,  1,     19,     19,2,19930318,0559,-52.6425, 142.3910, 3470,    230.1,   2.7180,  34.1000,4,  34.0960,4,    250.9,2,    264.8,2,    23.30,2,    29.60,2,     2.03,2,  2.7050
    09AR9309_1,  SR03,    22,  1,     18,     18,2,19930318,0559,-52.6425, 142.3910, 3470,    377.2,   2.5750,  34.2590,2,  34.2740,4,    216.3,2,    218.0,2,    42.00,2,    32.70,2,     2.24,2,  2.5530
    09AR9309_1,  SR03,    22,  1,     17,     17,2,19930318,0559,-52.6425, 142.3910, 3470,    497.0,   2.5270,  34.3680,2,  34.3730,4,    197.3,2,    195.8,2,    51.00,2,    33.80,2,     2.32,2,  2.4980
    09AR9309_1,  SR03,    22,  1,     16,     16,2,19930318,0559,-52.6425, 142.3910, 3470,    596.3,   2.4610,  34.4500,2,  34.4550,4,    187.0,2,    182.1,2,    59.70,2,    34.30,2,     2.35,2,  2.4260
    09AR9309_1,  SR03,    22,  1,     15,     15,2,19930318,0559,-52.6425, 142.3910, 3470,    696.7,   2.4490,  34.5120,2,  34.5190,4,    174.8,2,    174.9,2,    64.60,2,    34.10,2,     2.35,2,  2.4070
    09AR9309_1,  SR03,    22,  1,     14,     14,2,19930318,0559,-52.6425, 142.3910, 3470,    794.2,   2.4340,  34.5630,2,  34.5700,4,    168.8,2,    171.9,2,    67.50,2,    33.80,2,     2.32,2,  2.3850
    09AR9309_1,  SR03,    22,  1,     13,     13,2,19930318,0559,-52.6425, 142.3910, 3470,    892.5,   2.3880,  34.6020,2,  34.6070,4,    172.6,2,    170.8,2,    70.30,2,    33.40,2,     2.30,2,  2.3330
    09AR9309_1,  SR03,    22,  1,     12,     12,2,19930318,0559,-52.6425, 142.3910, 3470,   1093.3,   2.3080,  34.6760,2,  34.6830,4,    172.5,2,    173.5,2,    74.30,2,    32.30,2,  -999.00,5,  2.2390
    09AR9309_1,  SR03,    22,  1,     11,     11,2,19930318,0559,-52.6425, 142.3910, 3470,   1292.6,   2.2020,  34.7140,2,  34.7210,4,    178.9,2,    178.3,2,    76.90,2,    31.40,2,     2.14,2,  2.1190
    09AR9309_1,  SR03,    22,  1,     10,     10,2,19930318,0559,-52.6425, 142.3910, 3470,   1491.5,   2.1030,  34.7400,2,  34.7550,4,    184.7,2,    185.0,2,    79.40,2,    30.70,2,     2.09,2,  2.0060
    09AR9309_1,  SR03,    22,  1,      9,     26,2,19930318,0559,-52.6425, 142.3910, 3470,   1692.2,   1.9530,  34.7520,2,  34.7630,4,    190.8,2,    189.5,2,    83.10,2,    30.40,2,     2.06,2,  1.8420
    09AR9309_1,  SR03,    22,  1,      8,      8,2,19930318,0559,-52.6425, 142.3910, 3470,   1894.8,   1.7790,  34.7560,2,  34.7640,4,    192.0,2,    193.0,2,    88.50,2,    30.40,2,     2.09,2,  1.6540
    09AR9309_1,  SR03,    22,  1,      7,      7,2,19930318,0559,-52.6425, 142.3910, 3470,   2091.8,   1.5860,  34.7500,2,  34.7570,4,    192.8,2,    195.8,2,    93.60,2,    30.50,2,     2.09,2,  1.4480
    09AR9309_1,  SR03,    22,  1,      6,      6,2,19930318,0559,-52.6425, 142.3910, 3470,   2294.5,   1.3900,  34.7420,2,  34.7500,4,    197.3,2,    196.5,2,    99.70,2,    30.80,2,     2.12,2,  1.2390
    09AR9309_1,  SR03,    22,  1,      5,     25,2,19930318,0559,-52.6425, 142.3910, 3470,   2496.6,   1.2050,  34.7340,2,  34.7420,4,    195.9,2,    198.7,2,   106.00,2,    31.20,2,     2.14,2,  1.0400
    09AR9309_1,  SR03,    22,  1,      4,      4,2,19930318,0559,-52.6425, 142.3910, 3470,   2695.0,   1.0930,  34.7280,2,  34.7350,4,    199.9,2,    200.5,2,   110.30,2,    31.40,2,     2.17,2,  0.9130
    09AR9309_1,  SR03,    22,  1,      3,      3,2,19930318,0559,-52.6425, 142.3910, 3470,   2997.1,   1.0020,  34.7240,2,  34.7290,4,    202.8,2,    201.1,2,   113.80,2,    31.70,2,     2.18,2,  0.7960
    09AR9309_1,  SR03,    22,  1,      2,      2,2,19930318,0559,-52.6425, 142.3910, 3470,   3297.7,   0.9170,  34.7190,2,  34.7230,4,    205.0,2,    202.4,2,   116.20,2,    31.90,2,     2.18,2,  0.6850
    09AR9309_1,  SR03,    22,  1,      1,      1,2,19930318,0559,-52.6425, 142.3910, 3470,   3434.8,   0.9240,  34.7190,2,  34.7220,4,    203.9,2,    204.0,2,   116.70,2,    31.80,2,     2.19,2,  0.6790
    09AR9309_1,  SR03,    23,  1,     24,     27,2,19930318,1110,-53.1268, 142.1320, 3120,     10.2,   6.6540,  33.7800,2,  33.7820,2,    305.2,2,   -999.0,5,     0.40,2,    22.00,2,  -999.00,5,  6.6550
    09AR9309_1,  SR03,    23,  1,     23,     23,2,19930318,1110,-53.1268, 142.1320, 3120,     24.8,   6.6570,  33.7810,2,  33.7820,2,    293.8,2,    290.0,2,     0.80,2,    22.10,2,     1.45,2,  6.6560
    09AR9309_1,  SR03,    23,  1,     22,     22,2,19930318,1110,-53.1268, 142.1320, 3120,     48.5,   6.5880,  33.7820,2,  33.7810,2,    286.6,2,    290.3,2,     0.80,2,    22.20,2,     1.46,2,  6.5850
    09AR9309_1,  SR03,    23,  1,     21,     21,2,19930318,1110,-53.1268, 142.1320, 3120,     99.7,   2.9630,  33.8900,4,  33.8880,2,    323.4,2,    304.4,2,     8.80,2,    25.40,2,  -999.00,5,  2.9580
    09AR9309_1,  SR03,    23,  1,     20,     20,2,19930318,1110,-53.1268, 142.1320, 3120,    182.3,   2.6860,  33.9960,2,  33.9960,2,    275.5,2,    291.2,2,    17.40,2,    28.10,2,     1.90,2,  2.6760
    09AR9309_1,  SR03,    23,  1,     19,     19,2,19930318,1110,-53.1268, 142.1320, 3120,    223.4,   2.8930,  34.1300,2,  34.1280,2,    252.8,2,    251.4,2,    26.30,2,    30.10,2,     2.07,2,  2.8800
    09AR9309_1,  SR03,    23,  1,     18,     18,2,19930318,1110,-53.1268, 142.1320, 3120,    375.0,   2.5510,  34.2840,2,  34.2830,2,    216.8,2,   -999.0,5,    42.60,2,    33.10,2,     2.28,2,  2.5300
    09AR9309_1,  SR03,    23,  1,     17,     17,2,19930318,1110,-53.1268, 142.1320, 3120,    496.1,   2.4130,  34.3770,3,  34.3760,2,    190.7,2,    195.1,2,    53.00,2,    34.20,2,     2.30,2,  2.3840
    09AR9309_1,  SR03,    23,  1,     16,     16,2,19930318,1110,-53.1268, 142.1320, 3120,    594.7,   2.3880,  34.4490,2,  34.4470,2,    182.3,2,    180.7,2,    59.90,2,    34.40,2,     2.34,2,  2.3530
    09AR9309_1,  SR03,    23,  1,     15,     15,2,19930318,1110,-53.1268, 142.1320, 3120,    694.1,   2.4550,  34.5280,3,  34.5260,2,    172.9,2,    172.6,2,    65.30,2,    34.20,2,     2.32,2,  2.4130
    09AR9309_1,  SR03,    23,  1,     14,     14,2,19930318,1110,-53.1268, 142.1320, 3120,    775.3,   2.4360,  34.5710,2,  34.5710,2,    172.0,2,    171.1,2,    68.40,2,    33.80,2,     2.31,2,  2.3890
    09AR9309_1,  SR03,    23,  1,     13,     13,2,19930318,1110,-53.1268, 142.1320, 3120,    896.7,   2.4050,  34.6270,2,  34.6270,2,    172.7,2,    172.4,2,    71.70,2,    33.20,2,     2.26,2,  2.3490
    09AR9309_1,  SR03,    23,  1,     12,     12,2,19930318,1110,-53.1268, 142.1320, 3120,   1094.0,   2.2890,  34.6830,2,  34.6850,2,    175.1,2,    175.1,2,    73.10,2,    32.10,2,  -999.00,5,  2.2200
    09AR9309_1,  SR03,    23,  1,     11,     11,2,19930318,1110,-53.1268, 142.1320, 3120,   1293.4,   2.1800,  34.7230,2,  34.7250,2,    181.7,2,    180.7,2,    76.10,2,    31.10,2,     2.11,2,  2.0970
    09AR9309_1,  SR03,    23,  1,     10,     10,2,19930318,1110,-53.1268, 142.1320, 3120,   1491.9,   2.0400,  34.7430,2,  34.7450,2,    186.9,2,    186.8,2,    79.70,2,    30.60,2,     2.07,2,  1.9440
    09AR9309_1,  SR03,    23,  1,      9,     26,2,19930318,1110,-53.1268, 142.1320, 3120,   1741.3,   1.8320,  34.7510,2,  34.7520,2,    191.8,2,    191.4,2,    86.00,2,    30.50,2,     2.07,2,  1.7190
    09AR9309_1,  SR03,    23,  1,      8,      8,2,19930318,1110,-53.1268, 142.1320, 3120,   1895.9,   1.6790,  34.7500,2,  34.7490,2,    193.5,2,    192.4,2,    91.60,2,    30.60,2,     2.08,2,  1.5560
    09AR9309_1,  SR03,    23,  1,      7,      7,2,19930318,1110,-53.1268, 142.1320, 3120,   2095.2,   1.4560,  34.7420,2,  34.7430,2,    197.8,2,    194.3,2,    97.40,2,    30.80,2,     2.10,2,  1.3200
    09AR9309_1,  SR03,    23,  1,      6,      6,2,19930318,1110,-53.1268, 142.1320, 3120,   2291.4,   1.3270,  34.7380,2,  34.7390,2,    198.0,2,    196.9,2,   101.60,2,    31.10,2,     2.11,2,  1.1770
    09AR9309_1,  SR03,    23,  1,      5,     25,2,19930318,1110,-53.1268, 142.1320, 3120,   2500.0,   1.1540,  34.7290,2,  34.7310,2,    196.4,2,    196.4,2,   107.60,2,    31.30,2,     2.13,2,  0.9890
    09AR9309_1,  SR03,    23,  1,      4,      4,2,19930318,1110,-53.1268, 142.1320, 3120,   2696.1,   1.0230,  34.7230,2,  34.7250,2,    198.0,2,    198.6,2,   111.00,2,    31.60,2,     2.15,2,  0.8440
    09AR9309_1,  SR03,    23,  1,      3,      3,2,19930318,1110,-53.1268, 142.1320, 3120,   2897.9,   0.9470,  34.7180,2,  34.7200,2,    199.7,2,    200.9,2,   113.40,2,    31.80,2,     2.16,2,  0.7520
    09AR9309_1,  SR03,    23,  1,      2,      2,2,19930318,1110,-53.1268, 142.1320, 3120,   2999.3,   0.9390,  34.7170,2,  34.7190,2,    200.3,2,    201.5,2,   114.50,2,    31.80,2,     2.16,2,  0.7350
    09AR9309_1,  SR03,    23,  1,      1,      1,2,19930318,1110,-53.1268, 142.1320, 3120,   3096.2,   0.9450,  34.7170,2,  34.7180,2,    200.3,2,    200.7,2,   115.20,2,    31.90,2,     2.16,2,  0.7320
    09AR9309_1,  SR03,    24,  1,     24,     27,2,19930318,1636,-53.5780, 141.8720, 2525,      9.1,   5.4280,  33.7890,2,  33.7860,2,    294.7,2,    294.3,2,     2.10,2,    24.00,2,  -999.00,5,  5.4290
    09AR9309_1,  SR03,    24,  1,     23,     23,2,19930318,1636,-53.5780, 141.8720, 2525,     19.4,   5.4270,  33.7880,2,  33.7860,2,    302.3,2,   -999.0,5,     1.60,2,    24.20,2,     1.55,2,  5.4270
    09AR9309_1,  SR03,    24,  1,     22,     22,2,19930318,1636,-53.5780, 141.8720, 2525,     48.6,   5.4020,  33.7890,2,  33.7850,2,    283.9,2,   -999.0,5,     1.20,2,    24.30,2,     1.54,2,  5.3990
    09AR9309_1,  SR03,    24,  1,     21,     21,2,19930318,1636,-53.5780, 141.8720, 2525,    101.7,   2.2120,  33.8740,4,  33.8700,2,    289.8,2,   -999.0,5,    10.50,2,    26.70,2,  -999.00,5,  2.2070
    09AR9309_1,  SR03,    24,  1,     20,     20,2,19930318,1636,-53.5780, 141.8720, 2525,    150.6,   1.6650,  33.9020,2,  33.8960,2,    284.2,2,    283.7,2,    16.50,2,    29.00,2,     1.92,2,  1.6580
    09AR9309_1,  SR03,    24,  1,     19,     19,2,19930318,1636,-53.5780, 141.8720, 2525,    173.7,   1.5580,  33.9430,4,  33.9430,2,    278.5,2,    252.2,3,    20.60,2,    30.00,2,     1.98,2,  1.5500
    09AR9309_1,  SR03,    24,  1,     18,     18,2,19930318,1636,-53.5780, 141.8720, 2525,    200.6,   1.9000,  34.0430,4,  34.0420,2,    253.4,2,    264.4,2,    26.90,2,    31.30,2,     2.08,2,  1.8900
    09AR9309_1,  SR03,    24,  1,     17,     17,3,19930318,1636,-53.5780, 141.8720, 2525,    296.9,   2.2600,  34.2540,2,  34.2520,3,    220.0,2,    218.9,2,    44.50,2,    34.70,2,     2.31,2,  2.2440
    09AR9309_1,  SR03,    24,  1,     16,     16,2,19930318,1636,-53.5780, 141.8720, 2525,    397.3,   2.2740,  34.3590,2,  34.7500,4,    192.9,2,    190.1,2,    55.40,2,    35.60,2,     2.39,2,  2.2520
    09AR9309_1,  SR03,    24,  1,     15,     15,2,19930318,1636,-53.5780, 141.8720, 2525,    497.9,   2.3190,  34.4400,2,  34.4380,2,    178.4,2,    181.2,2,    62.60,2,    35.90,2,     2.41,2,  2.2900
    09AR9309_1,  SR03,    24,  1,     14,     14,2,19930318,1636,-53.5780, 141.8720, 2525,    597.9,   2.3730,  34.5230,2,  34.5200,2,    173.3,2,    171.4,2,    66.20,2,    35.60,2,     2.39,2,  2.3380
    09AR9309_1,  SR03,    24,  1,     13,     13,2,19930318,1636,-53.5780, 141.8720, 2525,    694.5,   2.3730,  34.5690,2,  34.5660,2,    167.8,2,    169.4,2,    68.80,2,    35.20,2,     2.37,2,  2.3310
    09AR9309_1,  SR03,    24,  1,     12,     12,2,19930318,1636,-53.5780, 141.8720, 2525,    794.9,   2.4010,  34.6230,2,  34.6220,2,    173.0,2,    170.8,2,    70.80,2,    34.00,2,  -999.00,5,  2.3520
    09AR9309_1,  SR03,    24,  1,     11,     11,2,19930318,1636,-53.5780, 141.8720, 2525,    996.2,   2.2870,  34.6800,2,  34.6810,2,    176.3,2,    175.8,2,    74.10,2,    33.00,2,     2.22,2,  2.2250
    09AR9309_1,  SR03,    24,  1,     10,     10,2,19930318,1636,-53.5780, 141.8720, 2525,   1092.2,   2.2280,  34.7050,2,  34.7030,2,    178.0,2,    177.7,2,    75.30,2,    32.40,2,     2.19,2,  2.1600
    09AR9309_1,  SR03,    24,  1,      9,     26,2,19930318,1636,-53.5780, 141.8720, 2525,   1192.5,   2.1640,  34.7250,2,  34.7230,2,    180.4,2,    182.2,2,    76.80,2,    31.80,2,     2.17,2,  2.0890
    09AR9309_1,  SR03,    24,  1,      8,      8,2,19930318,1636,-53.5780, 141.8720, 2525,   1292.9,   2.0980,  34.7360,2,  34.7360,2,    182.5,2,    184.1,2,    78.40,2,    31.30,2,     2.15,2,  2.0160
    09AR9309_1,  SR03,    24,  1,      7,      7,2,19930318,1636,-53.5780, 141.8720, 2525,   1493.8,   1.9550,  34.7490,2,  34.7470,2,    186.3,2,    187.6,2,    82.20,2,    31.20,2,     2.12,2,  1.8600
    09AR9309_1,  SR03,    24,  1,      6,      6,2,19930318,1636,-53.5780, 141.8720, 2525,   1693.6,   1.8020,  34.7520,2,  34.7530,2,    191.7,2,    191.1,2,    85.90,2,    31.20,2,     2.12,2,  1.6930
    09AR9309_1,  SR03,    24,  1,      5,     25,2,19930318,1636,-53.5780, 141.8720, 2525,   1894.3,   1.6280,  34.7510,2,  34.7520,2,    193.6,2,    193.7,2,    91.30,2,    31.20,2,     2.13,2,  1.5060
    09AR9309_1,  SR03,    24,  1,      4,      4,2,19930318,1636,-53.5780, 141.8720, 2525,   2044.9,   1.4810,  34.7460,2,  34.7470,2,    196.9,2,    194.8,2,    95.00,2,    31.20,2,     2.14,2,  1.3490
    09AR9309_1,  SR03,    24,  1,      3,      3,2,19930318,1636,-53.5780, 141.8720, 2525,   2195.3,   1.3170,  34.7400,2,  34.7400,2,    197.1,2,    196.6,2,    99.90,2,    31.70,2,     2.16,2,  1.1750
    09AR9309_1,  SR03,    24,  1,      2,      2,2,19930318,1636,-53.5780, 141.8720, 2525,   2350.5,   1.1410,  34.7320,2,  34.7320,2,    201.2,2,    199.8,2,   105.40,2,    32.00,2,     2.18,2,  0.9890
    09AR9309_1,  SR03,    24,  1,      1,      1,2,19930318,1636,-53.5780, 141.8720, 2525,   2475.5,   1.0340,  34.7260,2,  34.7250,2,    200.6,2,    199.8,2,   108.40,2,    32.30,2,     2.19,2,  0.8740