BOTTLE,20030917WHPSIODMB
EXPOCODE,SECT_ID,STNNBR,CASTNO,SAMPNO,BTLNBR,BTLNBR_FLAG_W,DATE,TIME,LATITUDE,LONGITUDE,DEPTH,CTDPRS,CTDTMP,CTDSAL,CTDSAL_FLAG_W,SALNTY,SALNTY_FLAG_W,CTDOXY,CTDOXY_FLAG_W,OXYGEN,OXYGEN_FLAG_W,SILCAT,SILCAT_FLAG_W,NO2+NO3,NO2+NO3_FLAG_W,PHSPHT,PHSPHT_FLAG_W,THETA
,,,,,,,,,,,,DBAR,DEG C,PSS-78,,PSS-78,,UMOL/KG,,UMOL/KG,,UMOL/KG,,UMOL/KG,,UMOL/KG,,DEG C
    09AR9309_1,  SR03,    13,  1,     24,     27,2,19930314,1411,-48.7928, 144.3260, 4125,      9.8,  11.4350,  34.4490,2,  34.4430,2,    277.5,2,    264.9,2,     0.50,2,     9.40,2,     0.86,2, 11.4370
    09AR9309_1,  SR03,    13,  1,     23,     23,2,19930314,1411,-48.7928, 144.3260, 4125,     20.5,  11.4530,  34.4630,2,  34.4620,2,    268.2,2,    266.6,2,     0.70,2,     9.30,2,     0.80,2, 11.4530
    09AR9309_1,  SR03,    13,  1,     22,     22,2,19930314,1411,-48.7928, 144.3260, 4125,     48.9,  11.7610,  34.6190,2,  34.6170,2,    253.0,2,    266.6,2,     1.20,2,     7.50,2,     0.68,2, 11.7580
    09AR9309_1,  SR03,    13,  1,     21,     21,2,19930314,1411,-48.7928, 144.3260, 4125,     99.5,  10.8580,  34.8540,4,  34.8400,2,    252.0,2,    249.2,2,     1.80,2,    10.10,2,     0.83,2, 10.8490
    09AR9309_1,  SR03,    13,  1,     20,     20,2,19930314,1411,-48.7928, 144.3260, 4125,    199.2,   9.7920,  34.7440,2,  34.7440,2,    250.6,2,   -999.0,9,     2.50,2,    13.00,2,     0.98,2,  9.7720
    09AR9309_1,  SR03,    13,  1,     19,     19,2,19930314,1411,-48.7928, 144.3260, 4125,    298.9,   9.4830,  34.7080,3,  34.7120,2,    249.4,2,   -999.0,9,     3.00,2,    13.80,2,     1.04,2,  9.4520
    09AR9309_1,  SR03,    13,  1,     18,     18,2,19930314,1411,-48.7928, 144.3260, 4125,    397.5,   9.1600,  34.6610,3,  34.6540,2,    248.5,2,    248.2,2,     3.60,2,    15.40,2,     1.14,2,  9.1180
    09AR9309_1,  SR03,    13,  1,     17,     17,2,19930314,1411,-48.7928, 144.3260, 4125,    496.9,   8.9460,  34.6380,2,  34.6350,2,    238.0,2,    240.0,2,     4.40,2,    17.00,2,     1.24,2,  8.8940
    09AR9309_1,  SR03,    13,  1,     16,     16,2,19930314,1411,-48.7928, 144.3260, 4125,    596.6,   8.4000,  34.5660,2,  34.5690,2,    232.6,2,    229.6,2,     6.50,2,    19.30,2,     1.39,2,  8.3390
    09AR9309_1,  SR03,    13,  1,     15,     15,2,19930314,1411,-48.7928, 144.3260, 4125,    795.5,   6.7480,  34.4500,4,  34.4480,2,    206.5,2,    206.8,2,    15.20,2,    25.20,2,     1.76,2,  6.6740
    09AR9309_1,  SR03,    13,  1,     14,     14,2,19930314,1411,-48.7928, 144.3260, 4125,    894.1,   5.8970,  34.4090,3,  34.4050,2,   -999.0,5,    202.5,2,    20.50,2,    27.40,2,     1.91,2,  5.8190
    09AR9309_1,  SR03,    13,  1,     13,     13,2,19930314,1411,-48.7928, 144.3260, 4125,   1094.4,   4.1330,  34.3350,2,  34.3330,2,   -999.0,5,    208.7,2,    31.40,2,    30.40,2,     2.16,2,  4.0500
    09AR9309_1,  SR03,    13,  1,     12,     12,2,19930314,1411,-48.7928, 144.3260, 4125,   1294.2,   3.2820,  34.3660,2,  34.3580,2,   -999.0,5,    198.2,2,    43.10,2,    32.50,2,     2.31,2,  3.1890
    09AR9309_1,  SR03,    13,  1,     11,     11,2,19930314,1411,-48.7928, 144.3260, 4125,   1496.0,   2.9160,  34.4690,2,  34.4660,2,   -999.0,5,    177.3,2,    57.50,2,    33.50,2,     2.38,2,  2.8100
    09AR9309_1,  SR03,    13,  1,     10,     10,2,19930314,1411,-48.7928, 144.3260, 4125,   1694.8,   2.6430,  34.5600,2,  34.5580,2,   -999.0,5,    172.2,2,    66.00,2,    33.50,2,     2.38,2,  2.5240
    09AR9309_1,  SR03,    13,  1,      9,     26,2,19930314,1411,-48.7928, 144.3260, 4125,   1892.9,   2.5370,  34.6330,2,  34.6310,2,   -999.0,5,    170.2,2,    71.80,2,    32.80,2,     2.33,2,  2.4020
    09AR9309_1,  SR03,    13,  1,      8,      8,2,19930314,1411,-48.7928, 144.3260, 4125,   2193.1,   2.3710,  34.7110,2,  34.7090,2,   -999.0,5,    177.3,2,    75.70,2,    31.40,2,     2.21,2,  2.2120
    09AR9309_1,  SR03,    13,  1,      7,      7,2,19930314,1411,-48.7928, 144.3260, 4125,   2493.6,   2.1710,  34.7500,2,  34.7490,2,   -999.0,5,    186.7,2,    79.30,2,    30.20,2,     2.14,2,  1.9880
    09AR9309_1,  SR03,    13,  1,      6,      6,2,19930314,1411,-48.7928, 144.3260, 4125,   2796.5,   1.9310,  34.7560,2,  34.7550,2,   -999.0,5,    188.2,2,    89.90,2,    30.50,2,     2.17,2,  1.7240
    09AR9309_1,  SR03,    13,  1,      5,     25,2,19930314,1411,-48.7928, 144.3260, 4125,   3097.2,   1.6580,  34.7490,2,  34.7510,2,   -999.0,5,    191.3,2,    98.10,2,    30.80,2,     2.18,2,  1.4280
    09AR9309_1,  SR03,    13,  1,      4,      4,2,19930314,1411,-48.7928, 144.3260, 4125,   3397.3,   1.3930,  34.7400,2,  34.7400,2,   -999.0,5,    195.3,2,   107.70,2,    31.30,2,     2.23,2,  1.1400
    09AR9309_1,  SR03,    13,  1,      3,      3,2,19930314,1411,-48.7928, 144.3260, 4125,   3696.9,   1.2010,  34.7320,2,  34.7310,2,   -999.0,5,    196.4,2,   111.90,2,    31.50,2,     2.25,2,  0.9220
    09AR9309_1,  SR03,    13,  1,      2,      2,2,19930314,1411,-48.7928, 144.3260, 4125,   3998.9,   1.0910,  34.7260,2,  34.7250,2,   -999.0,5,    200.9,2,   114.30,2,    31.70,2,     2.24,2,  0.7840
    09AR9309_1,  SR03,    13,  1,      1,      1,2,19930314,1411,-48.7928, 144.3260, 4125,   4155.6,   1.0780,  34.7250,2,  34.7220,2,   -999.0,5,    199.0,2,   116.10,2,    31.80,2,     2.25,2,  0.7540
    09AR9309_1,  SR03,    14,  1,     24,     27,2,19930314,2013,-49.2722, 144.0945, 4350,     13.3,  10.9550,  34.5400,2,  34.5430,2,    270.1,2,    265.4,2,     1.00,2,     9.50,2,     0.82,2, 10.9560
    09AR9309_1,  SR03,    14,  1,     23,     23,2,19930314,2013,-49.2722, 144.0945, 4350,     20.0,  10.9170,  34.5470,2,  34.5470,2,    267.8,2,    263.8,2,     0.90,2,     9.50,2,     0.78,2, 10.9170
    09AR9309_1,  SR03,    14,  1,     22,     22,2,19930314,2013,-49.2722, 144.0945, 4350,     50.6,  10.8400,  34.5560,2,  34.5580,2,    263.5,2,    266.7,2,     1.20,2,     9.60,2,     0.77,2, 10.8360
    09AR9309_1,  SR03,    14,  1,     21,     21,2,19930314,2013,-49.2722, 144.0945, 4350,    102.5,   9.8490,  34.6060,4,  34.6100,2,    253.4,2,    260.8,2,     2.60,2,    13.20,2,     0.97,2,  9.8400
    09AR9309_1,  SR03,    14,  1,     20,     20,2,19930314,2013,-49.2722, 144.0945, 4350,    199.5,   9.1740,  34.6480,2,  34.6520,2,    251.8,2,   -999.0,5,     4.00,2,    14.50,2,     1.03,2,  9.1540
    09AR9309_1,  SR03,    14,  1,     19,     19,2,19930314,2013,-49.2722, 144.0945, 4350,    298.5,   9.0780,  34.6420,2,  34.6420,2,    259.8,2,    256.3,2,     3.80,2,    14.70,2,     1.05,2,  9.0480
    09AR9309_1,  SR03,    14,  1,     18,     18,2,19930314,2013,-49.2722, 144.0945, 4350,    398.7,   8.9920,  34.6320,2,  34.6330,2,    260.1,2,   -999.0,5,     3.80,2,    14.90,2,     1.07,2,  8.9510
    09AR9309_1,  SR03,    14,  1,     17,     17,2,19930314,2013,-49.2722, 144.0945, 4350,    499.9,   8.9140,  34.6180,2,  34.6200,2,    248.3,2,   -999.0,5,     4.10,2,    15.80,2,     1.12,2,  8.8610
    09AR9309_1,  SR03,    14,  1,     16,     16,2,19930314,2013,-49.2722, 144.0945, 4350,    598.9,   8.5730,  34.5770,2,  34.5810,2,    233.5,2,    240.4,2,     5.90,2,    18.40,2,     1.28,2,  8.5110
    09AR9309_1,  SR03,    14,  1,     15,     15,2,19930314,2013,-49.2722, 144.0945, 4350,    796.5,   7.1640,  34.4710,2,  34.4760,2,    206.9,2,   -999.0,5,    13.70,2,    25.00,2,     1.67,2,  7.0880
    09AR9309_1,  SR03,    14,  1,     14,     14,2,19930314,2013,-49.2722, 144.0945, 4350,    894.3,   6.0390,  34.4170,3,  34.4140,2,    199.1,2,    192.9,2,    20.30,2,    28.00,2,     1.89,2,  5.9600
    09AR9309_1,  SR03,    14,  1,     13,     13,2,19930314,2013,-49.2722, 144.0945, 4350,    995.6,   5.1230,  34.3640,2,  34.3620,2,    207.8,2,    200.5,2,  -999.00,5,  -999.00,5,  -999.00,5,  5.0410
    09AR9309_1,  SR03,    14,  1,     12,     12,2,19930314,2013,-49.2722, 144.0945, 4350,   1092.7,   4.4060,  34.3450,2,  34.3460,2,    203.7,2,    204.7,2,    29.80,2,    31.00,2,     2.16,2,  4.3200
    09AR9309_1,  SR03,    14,  1,     11,     11,2,19930314,2013,-49.2722, 144.0945, 4350,   1298.1,   3.4380,  34.3740,3,  34.3750,2,    193.2,2,    193.0,2,    43.50,2,    33.40,2,     2.29,2,  3.3440
    09AR9309_1,  SR03,    14,  1,     10,     10,2,19930314,2013,-49.2722, 144.0945, 4350,   1493.9,   3.0150,  34.4630,2,  34.4690,2,    175.8,2,    177.7,2,    57.60,2,    34.60,2,     2.39,2,  2.9080
    09AR9309_1,  SR03,    14,  1,      9,     26,2,19930314,2013,-49.2722, 144.0945, 4350,   1795.9,   2.6130,  34.5950,2,  34.5950,2,    172.0,2,   -999.0,5,    69.00,2,    34.50,2,     2.37,2,  2.4860
    09AR9309_1,  SR03,    14,  1,      8,      8,2,19930314,2013,-49.2722, 144.0945, 4350,   2094.3,   2.4420,  34.6890,2,  34.6870,2,    177.0,2,   -999.0,5,    75.10,2,    33.20,2,     2.27,2,  2.2910
    09AR9309_1,  SR03,    14,  1,      7,      7,2,19930314,2013,-49.2722, 144.0945, 4350,   2494.6,   2.2120,  34.7470,2,  34.7430,2,    183.3,2,    184.3,2,    81.20,2,    31.80,2,     2.18,2,  2.0280
    09AR9309_1,  SR03,    14,  1,      6,      6,2,19930314,2013,-49.2722, 144.0945, 4350,   2796.0,   1.9430,  34.7580,2,  34.7580,2,    189.7,2,    186.1,2,    88.40,2,    31.60,2,     2.15,2,  1.7360
    09AR9309_1,  SR03,    14,  1,      5,     25,2,19930314,2013,-49.2722, 144.0945, 4350,   3098.3,   1.6540,  34.7520,2,  34.7540,2,    193.5,2,    194.6,2,    96.80,2,    31.80,2,     2.16,2,  1.4240
    09AR9309_1,  SR03,    14,  1,      4,      4,2,19930314,2013,-49.2722, 144.0945, 4350,   3400.4,   1.3620,  34.7420,2,  34.7420,2,    196.3,2,    195.8,2,   106.40,2,    32.30,2,     2.22,2,  1.1090
    09AR9309_1,  SR03,    14,  1,      3,      3,2,19930314,2013,-49.2722, 144.0945, 4350,   3698.8,   1.1690,  34.7320,2,  34.7310,2,    199.0,2,   -999.0,5,   112.30,2,    32.70,2,     2.22,2,  0.8910
    09AR9309_1,  SR03,    14,  1,      2,      2,2,19930314,2013,-49.2722, 144.0945, 4350,   3999.5,   1.1220,  34.7270,2,  34.7260,2,    199.6,2,    199.8,2,   115.10,2,    32.80,2,     2.25,2,  0.8140
    09AR9309_1,  SR03,    14,  1,      1,      1,2,19930314,2013,-49.2722, 144.0945, 4350,   4331.0,   1.1210,  34.7270,2,  34.7230,2,    201.9,2,    201.2,2,   115.80,2,    32.70,2,     2.24,2,  0.7770
    09AR9309_1,  SR03,    15,  1,     24,     27,2,19930315,0238,-49.7408, 143.8725, 3870,      9.9,  10.0490,  34.3200,2,  34.3230,2,    301.2,2,    274.4,2,     1.30,2,    13.10,2,     1.01,2, 10.0500
    09AR9309_1,  SR03,    15,  1,     23,     23,2,19930315,0238,-49.7408, 143.8725, 3870,     23.9,  10.0490,  34.3200,2,  34.3200,2,    277.6,2,    273.1,2,     1.20,2,    12.80,2,     0.97,2, 10.0490
    09AR9309_1,  SR03,    15,  1,     22,     22,2,19930315,0238,-49.7408, 143.8725, 3870,     49.3,  10.0340,  34.3190,2,  34.3190,2,    268.5,2,    272.8,2,     1.30,2,    12.90,2,     0.98,2, 10.0310
    09AR9309_1,  SR03,    15,  1,     21,     21,2,19930315,0238,-49.7408, 143.8725, 3870,     99.5,  10.2470,  34.7950,3,  34.7860,2,    248.2,2,    248.7,2,     2.90,2,    12.30,2,     0.93,2, 10.2380
    09AR9309_1,  SR03,    15,  1,     20,     20,2,19930315,0238,-49.7408, 143.8725, 3870,    197.8,   9.6340,  34.7350,4,  34.7370,2,    253.8,2,    253.2,2,     3.70,2,    13.70,2,     0.99,2,  9.6140
    09AR9309_1,  SR03,    15,  1,     19,     19,2,19930315,0238,-49.7408, 143.8725, 3870,    299.2,   9.2140,  34.6630,2,  34.6620,2,    252.0,2,    254.0,2,     4.30,2,    14.80,2,     1.06,2,  9.1830
    09AR9309_1,  SR03,    15,  1,     18,     18,2,19930315,0238,-49.7408, 143.8725, 3870,    398.5,   8.9480,  34.6170,2,  34.6180,2,    251.6,2,    257.4,2,     4.40,2,    15.40,2,     1.10,2,  8.9070
    09AR9309_1,  SR03,    15,  1,     17,     17,2,19930315,0238,-49.7408, 143.8725, 3870,    498.4,   8.7660,  34.5910,2,  34.5920,2,    263.5,2,    258.9,2,     4.60,2,    15.80,2,     1.15,2,  8.7140
    09AR9309_1,  SR03,    15,  1,     16,     16,2,19930315,0238,-49.7408, 143.8725, 3870,    597.8,   8.0260,  34.4780,4,  34.4790,2,    255.3,2,    251.8,2,     6.50,2,    18.60,2,     1.30,2,  7.9660
    09AR9309_1,  SR03,    15,  1,     15,     15,2,19930315,0238,-49.7408, 143.8725, 3870,    696.6,   7.6640,  34.4900,2,  34.4900,2,    218.6,2,    217.5,2,    10.30,2,    22.60,2,     1.54,2,  7.5950
    09AR9309_1,  SR03,    15,  1,     14,     14,2,19930315,0238,-49.7408, 143.8725, 3870,    795.1,   6.8410,  34.4490,3,  34.4480,2,    204.2,2,    205.2,2,    15.40,2,    25.80,2,     1.75,2,  6.7670
    09AR9309_1,  SR03,    15,  1,     13,     13,2,19930315,0238,-49.7408, 143.8725, 3870,    895.7,   5.7700,  34.3840,4,  34.3880,2,    205.7,2,    207.0,2,    20.50,2,    28.00,2,     1.91,2,  5.6920
    09AR9309_1,  SR03,    15,  1,     12,     12,2,19930315,0238,-49.7408, 143.8725, 3870,    997.3,   4.8680,  34.3480,2,  34.3490,2,    208.1,2,    208.5,2,    25.90,2,    29.90,2,     2.08,2,  4.7870
    09AR9309_1,  SR03,    15,  1,     11,     11,2,19930315,0238,-49.7408, 143.8725, 3870,   1196.4,   3.6470,  34.3530,3,  34.3550,2,    199.2,2,    199.8,2,    40.30,2,    32.80,2,     2.23,2,  3.5590
    09AR9309_1,  SR03,    15,  1,     10,     10,2,19930315,0238,-49.7408, 143.8725, 3870,   1396.5,   3.0980,  34.4390,2,  34.4390,2,    181.2,2,    179.8,2,    55.80,2,    34.40,2,     2.37,2,  2.9990
    09AR9309_1,  SR03,    15,  1,      9,     26,2,19930315,0238,-49.7408, 143.8725, 3870,   1595.0,   2.7630,  34.5230,2,  34.5210,2,    173.6,2,    171.9,2,    65.50,2,    34.80,2,     2.39,2,  2.6510
    09AR9309_1,  SR03,    15,  1,      8,      8,2,19930315,0238,-49.7408, 143.8725, 3870,   1897.0,   2.5240,  34.6380,2,  34.6390,2,    171.2,2,    170.8,2,    74.10,2,    33.70,2,     2.32,2,  2.3890
    09AR9309_1,  SR03,    15,  1,      7,      7,2,19930315,0238,-49.7408, 143.8725, 3870,   2195.9,   2.3420,  34.7080,2,  34.7080,2,    177.9,2,    177.6,2,    78.40,2,    32.40,2,     2.21,2,  2.1830
    09AR9309_1,  SR03,    15,  1,      6,      6,2,19930315,0238,-49.7408, 143.8725, 3870,   2496.0,   2.1630,  34.7430,2,  34.7450,2,    184.1,2,    184.2,2,    83.60,2,    31.70,2,     2.15,2,  1.9800
    09AR9309_1,  SR03,    15,  1,      5,     25,2,19930315,0238,-49.7408, 143.8725, 3870,   2797.6,   1.9240,  34.7530,2,  34.7560,2,    188.1,2,    190.8,2,    89.80,2,    31.30,2,     2.15,2,  1.7170
    09AR9309_1,  SR03,    15,  1,      4,      4,2,19930315,0238,-49.7408, 143.8725, 3870,   3101.1,   1.5790,  34.7430,2,  34.7480,2,    194.6,2,    193.1,2,   101.10,2,    31.90,2,     2.18,2,  1.3510
    09AR9309_1,  SR03,    15,  1,      3,      3,2,19930315,0238,-49.7408, 143.8725, 3870,   3400.1,   1.3080,  34.7330,2,  34.7360,2,    196.2,2,    196.2,2,   108.30,2,    32.20,2,     2.22,2,  1.0570
    09AR9309_1,  SR03,    15,  1,      2,      2,2,19930315,0238,-49.7408, 143.8725, 3870,   3704.5,   1.1630,  34.7250,2,  34.7280,2,    197.3,2,    198.4,2,   112.60,2,    32.60,2,     2.25,2,  0.8850
    09AR9309_1,  SR03,    15,  1,      1,      1,2,19930315,0238,-49.7408, 143.8725, 3870,   3874.6,   1.1390,  34.7240,2,  34.7260,2,    198.7,2,    198.7,2,   114.30,2,    32.40,2,     2.25,2,  0.8440
    09AR9309_1,  SR03,    16,  1,     24,     27,2,19930315,0831,-50.2293, 143.6598, 3720,     10.3,   9.4940,  34.1890,2,  34.1880,2,    507.9,2,    277.7,2,     1.20,2,    15.40,2,     0.97,3,  9.4950
    09AR9309_1,  SR03,    16,  1,     23,     23,2,19930315,0831,-50.2293, 143.6598, 3720,     22.3,   9.5040,  34.1870,2,  34.1880,2,    421.4,2,    278.7,2,     1.20,2,    15.50,2,     1.09,3,  9.5040
    09AR9309_1,  SR03,    16,  1,     22,     22,2,19930315,0831,-50.2293, 143.6598, 3720,     48.7,   9.5210,  34.1960,2,  34.1950,2,    293.7,2,    277.2,2,     1.00,2,    15.40,2,     0.98,3,  9.5180
    09AR9309_1,  SR03,    16,  1,     21,     21,2,19930315,0831,-50.2293, 143.6598, 3720,    137.8,   9.0170,  34.5970,4,  34.5840,2,    261.1,2,    260.3,2,     4.00,2,    16.00,2,     1.01,3,  9.0040
    09AR9309_1,  SR03,    16,  1,     20,     20,2,19930315,0831,-50.2293, 143.6598, 3720,    198.9,   8.8440,  34.5980,2,  34.5970,2,    260.5,2,    259.3,2,     4.10,2,    16.20,2,     1.00,3,  8.8250
    09AR9309_1,  SR03,    16,  1,     19,     19,2,19930315,0831,-50.2293, 143.6598, 3720,    337.8,   7.7700,  34.4200,2,  34.4190,2,    277.1,2,   -999.0,9,     4.80,2,    18.50,2,     1.15,3,  7.7380
    09AR9309_1,  SR03,    16,  1,     18,     18,2,19930315,0831,-50.2293, 143.6598, 3720,    396.9,   7.6210,  34.4080,3,-999.0000,9,    261.8,2,   -999.0,9,  -999.00,9,  -999.00,9,  -999.00,9,  7.5840
    09AR9309_1,  SR03,    16,  1,     17,     17,2,19930315,0831,-50.2293, 143.6598, 3720,    466.0,   7.1130,  34.3500,3,  34.3480,2,    254.3,2,    255.8,2,     6.70,2,    21.30,2,     1.30,3,  7.0700
    09AR9309_1,  SR03,    16,  1,     16,     16,2,19930315,0831,-50.2293, 143.6598, 3720,    593.9,   6.8920,  34.4430,4,  34.4370,2,    211.5,2,    213.4,2,    13.00,2,    25.60,2,     1.57,3,  6.8370
    09AR9309_1,  SR03,    16,  1,     15,     15,2,19930315,0831,-50.2293, 143.6598, 3720,    695.4,   6.0940,  34.4150,3,  34.4100,2,    204.1,2,    204.5,2,    17.70,2,    28.10,2,     1.80,3,  6.0330
    09AR9309_1,  SR03,    16,  1,     14,     14,2,19930315,0831,-50.2293, 143.6598, 3720,    845.3,   4.7780,  34.3500,3,  34.3490,2,    208.0,2,    207.1,2,    25.10,2,    30.80,2,     1.93,3,  4.7110
    09AR9309_1,  SR03,    16,  1,     13,     13,2,19930315,0831,-50.2293, 143.6598, 3720,    992.4,   3.9990,  34.3620,3,  34.3590,2,    203.4,2,   -999.0,9,    34.80,2,    32.80,2,     2.06,3,  3.9250
    09AR9309_1,  SR03,    16,  1,     12,     12,2,19930315,0831,-50.2293, 143.6598, 3720,   1191.6,   3.2500,  34.4150,3,  34.4110,2,    184.4,2,    185.5,2,    49.00,2,    34.80,2,     2.17,3,  3.1660
    09AR9309_1,  SR03,    16,  1,     11,     11,2,19930315,0831,-50.2293, 143.6598, 3720,   1392.6,   2.8730,  34.4940,2,  34.4890,2,    173.3,2,    173.1,2,    59.60,2,    35.80,2,     2.23,3,  2.7760
    09AR9309_1,  SR03,    16,  1,     10,     10,2,19930315,0831,-50.2293, 143.6598, 3720,   1544.2,   2.6870,  34.5560,2,  34.5530,2,    171.1,2,   -999.0,5,    64.50,2,    35.70,2,     2.23,3,  2.5800
    09AR9309_1,  SR03,    16,  1,      9,     26,2,19930315,0831,-50.2293, 143.6598, 3720,   1793.6,   2.5110,  34.6470,2,  34.6430,2,    173.5,2,    171.5,2,    69.90,2,    34.50,2,     2.15,3,  2.3850
    09AR9309_1,  SR03,    16,  1,      8,      8,2,19930315,0831,-50.2293, 143.6598, 3720,   1991.7,   2.3940,  34.6980,2,  34.6950,2,    175.6,2,    175.4,2,    73.40,2,    33.60,2,     2.10,3,  2.2530
    09AR9309_1,  SR03,    16,  1,      7,      7,2,19930315,0831,-50.2293, 143.6598, 3720,   2196.6,   2.2780,  34.7330,2,  34.7300,2,    180.3,2,    182.8,2,    74.30,2,    32.40,2,     2.02,3,  2.1200
    09AR9309_1,  SR03,    16,  1,      6,      6,2,19930315,0831,-50.2293, 143.6598, 3720,   2494.0,   2.0480,  34.7550,2,  34.7510,2,    190.9,2,    188.4,2,    80.60,2,    31.90,2,     2.00,3,  1.8670
    09AR9309_1,  SR03,    16,  1,      5,     25,2,19930315,0831,-50.2293, 143.6598, 3720,   2798.3,   1.7730,  34.7530,2,  34.7520,2,    193.0,2,    191.9,2,    89.40,2,    32.50,2,     2.00,3,  1.5690
    09AR9309_1,  SR03,    16,  1,      4,      4,2,19930315,0831,-50.2293, 143.6598, 3720,   2997.4,   1.5400,  34.7460,2,  34.7440,2,    193.3,2,    193.1,2,    97.40,2,    33.20,2,     2.04,3,  1.3230
    09AR9309_1,  SR03,    16,  1,      3,      3,2,19930315,0831,-50.2293, 143.6598, 3720,   3298.1,   1.3060,  34.7370,2,  34.7340,2,    196.7,2,    197.7,2,   102.20,2,    33.00,2,     2.06,3,  1.0650
    09AR9309_1,  SR03,    16,  1,      2,      2,2,19930315,0831,-50.2293, 143.6598, 3720,   3597.0,   1.1140,  34.7260,2,  34.7250,2,    200.4,2,    198.5,2,   108.60,2,    33.50,2,     2.09,3,  0.8480
    09AR9309_1,  SR03,    16,  1,      1,      1,2,19930315,0831,-50.2293, 143.6598, 3720,   3699.3,   1.0910,  34.7260,2,  34.7240,2,    196.0,2,    198.5,2,   110.00,2,    33.60,2,     2.11,3,  0.8150