BOTTLE,20030917WHPSIODMB
EXPOCODE,SECT_ID,STNNBR,CASTNO,SAMPNO,BTLNBR,BTLNBR_FLAG_W,DATE,TIME,LATITUDE,LONGITUDE,DEPTH,CTDPRS,CTDTMP,CTDSAL,CTDSAL_FLAG_W,SALNTY,SALNTY_FLAG_W,CTDOXY,CTDOXY_FLAG_W,OXYGEN,OXYGEN_FLAG_W,SILCAT,SILCAT_FLAG_W,NO2+NO3,NO2+NO3_FLAG_W,PHSPHT,PHSPHT_FLAG_W,THETA
,,,,,,,,,,,,DBAR,DEG C,PSS-78,,PSS-78,,UMOL/KG,,UMOL/KG,,UMOL/KG,,UMOL/KG,,UMOL/KG,,DEG C
    09AR9309_1,  SR03,    33,  1,     24,     27,2,19930321,2140,-57.8608, 139.8505, 4020,     10.7,   4.1990,  33.7990,2,  33.8010,2,    389.1,2,    305.7,2,     1.60,2,    23.80,2,  -999.00,5,  4.1990
    09AR9309_1,  SR03,    33,  1,     23,     23,2,19930321,2140,-57.8608, 139.8505, 4020,     14.2,   4.1990,  33.7990,2,  33.8020,2,    336.8,2,    306.0,2,     1.60,2,    23.90,2,     1.58,2,  4.1990
    09AR9309_1,  SR03,    33,  1,     22,     22,2,19930321,2140,-57.8608, 139.8505, 4020,     49.1,   4.1930,  33.7990,2,  33.8020,2,    307.0,2,    306.0,2,     1.50,2,    23.70,2,     1.60,2,  4.1910
    09AR9309_1,  SR03,    33,  1,     21,     21,2,19930321,2140,-57.8608, 139.8505, 4020,     97.6,   1.7030,  33.8950,4,  33.8940,2,    316.2,2,    316.8,2,    12.10,2,    26.30,2,  -999.00,5,  1.6990
    09AR9309_1,  SR03,    33,  1,     20,     20,2,19930321,2140,-57.8608, 139.8505, 4020,    147.4,   1.2390,  33.9650,3,  33.9650,2,    309.7,2,    303.1,2,    22.70,2,    28.70,2,     1.98,2,  1.2330
    09AR9309_1,  SR03,    33,  1,     19,     19,2,19930321,2140,-57.8608, 139.8505, 4020,    200.8,   1.6500,  34.1020,3,  34.0980,2,    263.0,2,    266.2,2,    32.70,2,    30.90,2,     2.12,2,  1.6400
    09AR9309_1,  SR03,    33,  1,     18,     18,2,19930321,2140,-57.8608, 139.8505, 4020,    297.9,   2.1530,  34.2990,2,-999.0000,9,    206.8,2,   -999.0,9,  -999.00,9,  -999.00,9,  -999.00,9,  2.1370
    09AR9309_1,  SR03,    33,  1,     17,     17,2,19930321,2140,-57.8608, 139.8505, 4020,    396.9,   2.2010,  34.4120,2,  34.4090,2,    189.1,2,    186.5,2,    60.10,2,    34.40,2,     2.38,2,  2.1790
    09AR9309_1,  SR03,    33,  1,     16,     16,2,19930321,2140,-57.8608, 139.8505, 4020,    497.5,   2.3070,  34.4970,2,  34.4960,2,    175.9,2,    174.2,2,    66.30,2,    34.20,2,     2.39,2,  2.2790
    09AR9309_1,  SR03,    33,  1,     15,     15,2,19930321,2140,-57.8608, 139.8505, 4020,    596.5,   2.3020,  34.5570,2,  34.5570,2,    170.5,2,    169.8,2,    70.30,2,    33.70,2,     2.35,2,  2.2670
    09AR9309_1,  SR03,    33,  1,     14,     14,2,19930321,2140,-57.8608, 139.8505, 4020,    697.6,   2.2950,  34.6140,2,  34.6140,2,    168.4,2,    169.8,2,    73.30,2,    33.00,2,     2.30,2,  2.2540
    09AR9309_1,  SR03,    33,  1,     13,     13,2,19930321,2140,-57.8608, 139.8505, 4020,    795.1,   2.2690,  34.6530,2,  34.6520,2,    170.6,2,    171.4,2,    75.20,2,    32.20,2,     2.25,2,  2.2210
    09AR9309_1,  SR03,    33,  1,     12,     12,2,19930321,2140,-57.8608, 139.8505, 4020,    896.5,   2.2760,  34.6790,2,  34.6790,2,    174.4,2,    175.0,2,    75.70,2,    32.00,2,  -999.00,5,  2.2210
    09AR9309_1,  SR03,    33,  1,     11,     11,2,19930321,2140,-57.8608, 139.8505, 4020,    995.1,   2.1820,  34.6950,2,  34.6970,2,    175.5,2,    174.5,2,    77.90,2,    31.90,2,     2.18,2,  2.1210
    09AR9309_1,  SR03,    33,  1,     10,     10,2,19930321,2140,-57.8608, 139.8505, 4020,   1193.7,   2.0780,  34.7300,2,  34.7310,2,    180.3,2,    181.9,2,    80.20,2,    31.10,2,     2.12,2,  2.0040
    09AR9309_1,  SR03,    33,  1,      9,     26,2,19930321,2140,-57.8608, 139.8505, 4020,   1394.6,   1.9570,  34.7450,2,  34.7480,2,    188.6,2,    186.9,2,    83.40,2,    30.40,2,     2.08,2,  1.8690
    09AR9309_1,  SR03,    33,  1,      8,      8,2,19930321,2140,-57.8608, 139.8505, 4020,   1693.6,   1.7120,  34.7510,2,  34.7540,2,    193.2,2,    191.9,2,    90.20,2,    30.10,2,     2.07,2,  1.6040
    09AR9309_1,  SR03,    33,  1,      7,      7,2,19930321,2140,-57.8608, 139.8505, 4020,   1995.0,   1.4490,  34.7440,2,  34.7460,2,    197.1,2,    193.6,2,    97.40,2,    30.40,2,     2.10,2,  1.3210
    09AR9309_1,  SR03,    33,  1,      6,      6,2,19930321,2140,-57.8608, 139.8505, 4020,   2294.8,   1.2170,  34.7330,2,  34.7330,2,    199.0,2,    197.6,2,   104.80,2,    30.70,2,     2.14,2,  1.0690
    09AR9309_1,  SR03,    33,  1,      5,     25,2,19930321,2140,-57.8608, 139.8505, 4020,   2596.1,   0.9920,  34.7230,2,  34.7230,2,    200.5,2,    200.4,2,   111.60,2,    31.20,2,     2.15,2,  0.8220
    09AR9309_1,  SR03,    33,  1,      4,      4,2,19930321,2140,-57.8608, 139.8505, 4020,   2998.3,   0.6950,  34.7090,2,  34.7090,2,    204.5,2,    205.1,2,   119.60,2,    31.50,2,     2.18,2,  0.4960
    09AR9309_1,  SR03,    33,  1,      3,      3,2,19930321,2140,-57.8608, 139.8505, 4020,   3396.8,   0.4370,  34.6970,2,  34.6990,2,    212.5,2,    211.9,2,   125.50,2,    31.60,2,     2.20,2,  0.2080
    09AR9309_1,  SR03,    33,  1,      2,      2,2,19930321,2140,-57.8608, 139.8505, 4020,   3805.7,   0.2410,  34.6890,2,  34.6910,2,    218.8,2,    218.9,2,   130.00,2,    31.60,2,     2.21,2, -0.0230
    09AR9309_1,  SR03,    33,  1,      1,      1,2,19930321,2140,-57.8608, 139.8505, 4020,   4127.0,   0.1790,  34.6870,2,  34.6870,2,    219.2,2,    219.1,2,   134.30,2,    31.60,2,     2.22,2, -0.1150
    09AR9309_1,  SR03,    34,  1,     24,     27,2,19930322,0524,-58.3403, 139.8335, 4050,     11.3,   4.2230,  33.7750,2,  33.7740,2,    322.4,2,    305.6,2,  -999.00,9,    23.50,2,  -999.00,5,  4.2230
    09AR9309_1,  SR03,    34,  1,     23,     23,2,19930322,0524,-58.3403, 139.8335, 4050,     19.1,   4.2100,  33.7750,2,  33.7740,2,    320.5,2,    303.5,2,     1.80,2,    24.00,2,     1.50,2,  4.2100
    09AR9309_1,  SR03,    34,  1,     22,     22,2,19930322,0524,-58.3403, 139.8335, 4050,     48.3,   4.1840,  33.7760,2,  33.7740,2,    303.5,2,    305.0,2,  -999.00,9,    23.20,2,     1.54,2,  4.1820
    09AR9309_1,  SR03,    34,  1,     21,     21,2,19930322,0524,-58.3403, 139.8335, 4050,     99.6,   2.0730,  33.8780,4,  33.8520,2,    298.4,2,    311.5,2,     8.00,2,    25.40,2,  -999.00,5,  2.0680
    09AR9309_1,  SR03,    34,  1,     20,     20,2,19930322,0524,-58.3403, 139.8335, 4050,    148.5,   1.5030,  33.8880,4,  33.8790,2,    311.9,2,    312.2,2,    12.90,2,    27.00,2,     1.79,2,  1.4960
    09AR9309_1,  SR03,    34,  1,     19,     19,2,19930322,0524,-58.3403, 139.8335, 4050,    200.1,   1.4200,  33.9750,4,  33.9740,2,    300.3,2,   -999.0,9,    20.80,2,    29.00,2,     1.88,2,  1.4110
    09AR9309_1,  SR03,    34,  1,     18,     18,2,19930322,0524,-58.3403, 139.8335, 4050,    298.0,   2.2170,  34.2300,2,  34.2250,2,    226.2,2,    226.0,2,    38.90,2,    32.60,2,     2.16,2,  2.2010
    09AR9309_1,  SR03,    34,  1,     17,     17,2,19930322,0524,-58.3403, 139.8335, 4050,    396.9,   2.2470,  34.3420,3,  34.3430,2,    197.0,2,    198.3,2,    50.00,2,    33.70,2,     2.24,2,  2.2250
    09AR9309_1,  SR03,    34,  1,     16,     16,2,19930322,0524,-58.3403, 139.8335, 4050,    500.4,   2.3120,  34.4450,2,  34.4430,2,    181.9,2,    181.6,2,    59.00,2,    34.30,2,     2.27,2,  2.2830
    09AR9309_1,  SR03,    34,  1,     15,     15,2,19930322,0524,-58.3403, 139.8335, 4050,    598.1,   2.3400,  34.5080,2,  34.5070,2,    171.7,2,    172.5,2,    63.40,2,    34.10,2,     2.27,2,  2.3050
    09AR9309_1,  SR03,    34,  1,     14,     14,2,19930322,0524,-58.3403, 139.8335, 4050,    696.3,   2.3190,  34.5680,2,  34.5660,2,    169.5,2,    168.4,2,    68.20,2,    33.70,2,     2.25,2,  2.2780
    09AR9309_1,  SR03,    34,  1,     13,     13,2,19930322,0524,-58.3403, 139.8335, 4050,    796.6,   2.3100,  34.6130,2,  34.6110,2,    166.2,2,    169.4,2,    69.90,2,    33.00,2,     2.22,2,  2.2620
    09AR9309_1,  SR03,    34,  1,     12,     12,2,19930322,0524,-58.3403, 139.8335, 4050,    895.2,   2.2860,  34.6490,2,  34.6470,2,    174.0,2,    170.7,2,    72.20,2,    32.40,2,  -999.00,5,  2.2310
    09AR9309_1,  SR03,    34,  1,     11,     11,2,19930322,0524,-58.3403, 139.8335, 4050,    997.6,   2.2430,  34.6820,2,  34.6810,2,    176.5,2,    174.3,2,    73.60,2,    31.80,2,     2.12,2,  2.1810
    09AR9309_1,  SR03,    34,  1,     10,     10,2,19930322,0524,-58.3403, 139.8335, 4050,   1193.1,   2.1450,  34.7160,2,  34.7170,2,    182.4,2,    180.3,2,    75.00,2,    30.80,2,     2.04,2,  2.0700
    09AR9309_1,  SR03,    34,  1,      9,     26,2,19930322,0524,-58.3403, 139.8335, 4050,   1492.6,   1.9540,  34.7480,2,  34.7480,2,    184.4,2,    187.5,2,    79.70,2,    30.00,2,     1.98,2,  1.8590
    09AR9309_1,  SR03,    34,  1,      8,      8,2,19930322,0524,-58.3403, 139.8335, 4050,   1791.7,   1.7170,  34.7510,2,  34.7520,2,    193.3,2,    191.4,2,    85.70,2,    30.00,2,     1.99,2,  1.6020
    09AR9309_1,  SR03,    34,  1,      7,      7,2,19930322,0524,-58.3403, 139.8335, 4050,   1989.0,   1.5280,  34.7460,2,  34.7470,2,    195.9,2,    195.1,2,    91.80,2,    30.10,2,     2.02,2,  1.4000
    09AR9309_1,  SR03,    34,  1,      6,      6,2,19930322,0524,-58.3403, 139.8335, 4050,   2293.4,   1.2820,  34.7380,2,  34.7360,2,    198.0,2,    197.9,2,    99.00,2,    30.30,2,     2.04,2,  1.1330
    09AR9309_1,  SR03,    34,  1,      5,     25,2,19930322,0524,-58.3403, 139.8335, 4050,   2596.8,   1.0700,  34.7250,2,  34.7270,2,    199.5,2,    200.2,2,   105.90,2,    30.80,2,     2.08,2,  0.8990
    09AR9309_1,  SR03,    34,  1,      4,      4,2,19930322,0524,-58.3403, 139.8335, 4050,   2997.0,   0.7590,  34.7100,2,  34.7120,2,    204.1,2,    204.4,2,   114.90,2,    31.50,2,     2.11,2,  0.5590
    09AR9309_1,  SR03,    34,  1,      3,      3,2,19930322,0524,-58.3403, 139.8335, 4050,   3399.3,   0.4730,  34.6970,2,  34.6990,2,    211.3,2,    210.1,2,   122.60,2,    31.70,2,     2.13,2,  0.2420
    09AR9309_1,  SR03,    34,  1,      2,      2,2,19930322,0524,-58.3403, 139.8335, 4050,   3802.6,   0.3020,  34.6920,2,  34.6910,2,    217.2,2,    216.1,2,   126.70,2,    31.80,2,     2.15,2,  0.0370
    09AR9309_1,  SR03,    34,  1,      1,      1,2,19930322,0524,-58.3403, 139.8335, 4050,   4005.6,   0.2380,  34.6880,2,  34.6870,2,    216.1,2,    217.4,2,   131.00,2,    31.80,2,     2.15,2, -0.0460
    09AR9309_1,  SR03,    36,  1,     12,    112,2,19930323,0009,-59.3435, 139.8958, 4150,     24.3,   2.7020,  33.8570,2,  33.8610,2,   -999.0,5,    316.2,2,    11.30,2,    25.20,2,  -999.00,5,  2.7010
    09AR9309_1,  SR03,    36,  1,     10,    110,2,19930323,0009,-59.3435, 139.8958, 4150,    137.4,   0.4280,  34.0710,3,  34.0320,2,   -999.0,5,    307.5,2,    34.80,2,    29.50,2,     1.99,2,  0.4230
    09AR9309_1,  SR03,    36,  1,      8,    108,2,19930323,0009,-59.3435, 139.8958, 4150,    315.3,   2.1490,  34.4940,2,  34.4900,2,   -999.0,5,    174.1,2,    71.90,2,    34.50,2,     2.33,2,  2.1320
    09AR9309_1,  SR03,    36,  1,      6,    106,2,19930323,0009,-59.3435, 139.8958, 4150,    413.3,   2.2240,  34.5650,2,  34.5650,2,   -999.0,5,    169.9,2,    76.20,2,    34.10,2,     2.29,2,  2.2010
    09AR9309_1,  SR03,    36,  1,      4,    104,2,19930323,0009,-59.3435, 139.8958, 4150,    599.6,   2.1880,  34.6470,2,  34.6540,2,   -999.0,5,    169.9,2,    81.30,2,    32.60,2,     2.20,2,  2.1530
    09AR9309_1,  SR03,    36,  1,      2,    102,2,19930323,0009,-59.3435, 139.8958, 4150,    854.2,   2.0400,  34.7010,2,  34.7080,2,   -999.0,5,    178.2,2,    85.80,2,    31.20,2,     2.12,2,  1.9900
    09AR9309_1,  SR03,    38,  1,     12,    112,2,19930323,0606,-59.3395, 139.9700, 4380,   1400.1,   1.6760,  34.7490,2,  34.7490,2,   -999.0,5,    192.2,2,    97.00,2,    31.60,2,  -999.00,5,  1.5910
    09AR9309_1,  SR03,    38,  1,     10,    110,2,19930323,0606,-59.3395, 139.9700, 4380,   1902.7,   1.2450,  34.7350,2,  34.7360,2,   -999.0,5,    197.9,2,   109.70,2,    32.00,2,     2.06,2,  1.1280
    09AR9309_1,  SR03,    38,  1,      8,    108,2,19930323,0606,-59.3395, 139.9700, 4380,   2403.2,   0.8750,  34.7180,2,  34.7180,2,   -999.0,5,    201.8,2,   120.70,2,    32.80,2,     2.12,2,  0.7240
    09AR9309_1,  SR03,    38,  1,      6,    106,2,19930323,0606,-59.3395, 139.9700, 4380,   2907.2,   0.5430,  34.7010,2,  34.7020,2,   -999.0,5,    208.8,2,   130.90,2,    33.00,2,     2.17,2,  0.3560
    09AR9309_1,  SR03,    38,  1,      4,    104,2,19930323,0606,-59.3395, 139.9700, 4380,   3406.3,   0.2850,  34.6910,2,  34.6920,2,   -999.0,5,    215.3,2,   137.00,2,    33.30,2,     2.19,2,  0.0580
    09AR9309_1,  SR03,    38,  1,      2,    102,2,19930323,0606,-59.3395, 139.9700, 4380,   3864.2,   0.1300,  34.6860,2,  34.6860,2,   -999.0,5,    221.5,2,   141.30,2,    33.30,2,     2.23,2, -0.1360
    09AR9309_1,  SR03,    39,  1,     11,    111,2,19930323,1049,-59.8565, 139.8455, 4490,    696.2,   2.1300,  34.6920,2,  34.6920,2,   -999.0,5,   -999.0,9,  -999.00,9,  -999.00,9,  -999.00,9,  2.0890
    09AR9309_1,  SR03,    39,  1,      8,    108,2,19930323,1049,-59.8565, 139.8455, 4490,    696.7,   2.1300,  34.6910,2,  34.6920,2,   -999.0,5,   -999.0,9,  -999.00,9,  -999.00,9,  -999.00,9,  2.0890
    09AR9309_1,  SR03,    39,  1,      9,    109,2,19930323,1049,-59.8565, 139.8455, 4490,    697.1,   2.1290,  34.6920,2,-999.0000,9,   -999.0,5,   -999.0,9,  -999.00,9,  -999.00,9,  -999.00,9,  2.0880
    09AR9309_1,  SR03,    39,  1,      5,    105,2,19930323,1049,-59.8565, 139.8455, 4490,    697.1,   2.1290,  34.6930,2,  34.6920,2,   -999.0,5,   -999.0,9,  -999.00,9,  -999.00,9,  -999.00,9,  2.0880
    09AR9309_1,  SR03,    39,  1,     10,    110,2,19930323,1049,-59.8565, 139.8455, 4490,    697.4,   2.1290,  34.6930,2,  34.6920,2,   -999.0,5,   -999.0,9,  -999.00,9,  -999.00,9,  -999.00,9,  2.0880
    09AR9309_1,  SR03,    39,  1,     12,    112,2,19930323,1049,-59.8565, 139.8455, 4490,    697.8,   2.1290,  34.6930,2,  34.6910,2,   -999.0,5,   -999.0,9,  -999.00,9,  -999.00,9,  -999.00,9,  2.0880
    09AR9309_1,  SR03,    39,  1,      7,    107,2,19930323,1049,-59.8565, 139.8455, 4490,    698.9,   2.1290,  34.6920,2,  34.6920,2,   -999.0,5,   -999.0,9,  -999.00,9,  -999.00,9,  -999.00,9,  2.0880
    09AR9309_1,  SR03,    39,  1,      4,    104,2,19930323,1049,-59.8565, 139.8455, 4490,    699.2,   2.1290,  34.6920,2,  34.6920,2,   -999.0,5,   -999.0,9,  -999.00,9,  -999.00,9,  -999.00,9,  2.0880
    09AR9309_1,  SR03,    39,  1,      2,    102,2,19930323,1049,-59.8565, 139.8455, 4490,    699.2,   2.1300,  34.6920,2,  34.6930,2,   -999.0,5,   -999.0,9,  -999.00,9,  -999.00,9,  -999.00,9,  2.0890
    09AR9309_1,  SR03,    39,  1,      6,    106,2,19930323,1049,-59.8565, 139.8455, 4490,    699.5,   2.1290,  34.6920,2,  34.6910,2,   -999.0,5,   -999.0,9,  -999.00,9,  -999.00,9,  -999.00,9,  2.0880
    09AR9309_1,  SR03,    39,  1,      1,    101,3,19930323,1049,-59.8565, 139.8455, 4490,    699.7,   2.1290,  34.6930,2,  34.6860,4,   -999.0,5,   -999.0,9,  -999.00,9,  -999.00,9,  -999.00,9,  2.0880
    09AR9309_1,  SR03,    39,  1,      3,    103,2,19930323,1049,-59.8565, 139.8455, 4490,    700.5,   2.1290,  34.6920,2,  34.6930,2,   -999.0,5,   -999.0,9,  -999.00,9,  -999.00,9,  -999.00,9,  2.0880
    09AR9309_1,  SR03,    40,  1,     12,    112,2,19930323,1314,-59.8653, 139.8465, 4490,   1197.7,   1.8200,  34.7470,2,  34.7490,2,   -999.0,5,    188.9,2,    83.90,2,    30.90,2,  -999.00,5,  1.7480
    09AR9309_1,  SR03,    40,  1,     11,    111,2,19930323,1314,-59.8653, 139.8465, 4490,   1399.1,   1.6620,  34.7500,2,  34.7500,2,   -999.0,5,    192.1,2,    88.40,2,    30.80,2,     2.15,2,  1.5770
    09AR9309_1,  SR03,    40,  1,     10,    110,2,19930323,1314,-59.8653, 139.8465, 4490,   1599.3,   1.4840,  34.7450,2,  34.7470,2,   -999.0,5,    194.4,2,    93.70,2,    30.90,2,     2.15,2,  1.3860
    09AR9309_1,  SR03,    40,  1,      9,    109,2,19930323,1314,-59.8653, 139.8465, 4490,   1798.5,   1.3160,  34.7400,2,  34.7390,2,   -999.0,5,    196.2,2,    96.70,2,    31.20,2,     2.17,2,  1.2060
    09AR9309_1,  SR03,    40,  1,      8,    108,2,19930323,1314,-59.8653, 139.8465, 4490,   2003.2,   1.1500,  34.7320,2,  34.7330,2,   -999.0,5,    199.1,2,   102.30,2,    31.50,2,     2.19,2,  1.0260
    09AR9309_1,  SR03,    40,  1,      7,    107,2,19930323,1314,-59.8653, 139.8465, 4490,   2201.6,   0.9980,  34.7240,2,  34.7250,2,   -999.0,5,   -999.0,5,   104.90,2,    31.80,2,     2.22,2,  0.8610
    09AR9309_1,  SR03,    40,  1,      6,    106,2,19930323,1314,-59.8653, 139.8465, 4490,   2402.8,   0.8480,  34.7170,2,  34.7170,2,   -999.0,5,    203.0,2,   110.60,2,    32.10,2,     2.24,2,  0.6970
    09AR9309_1,  SR03,    40,  1,      5,    105,2,19930323,1314,-59.8653, 139.8465, 4490,   2702.8,   0.6250,  34.7060,2,  34.7050,2,   -999.0,5,    206.3,2,   115.40,2,    32.30,2,     2.26,2,  0.4540
    09AR9309_1,  SR03,    40,  1,      4,    104,2,19930323,1314,-59.8653, 139.8465, 4490,   3005.0,   0.4340,  34.6970,2,  34.6980,2,   -999.0,5,    209.7,2,   120.00,2,    32.50,2,     2.27,2,  0.2400
    09AR9309_1,  SR03,    40,  1,      3,    103,2,19930323,1314,-59.8653, 139.8465, 4490,   3304.9,   0.2860,  34.6920,2,  34.6900,2,   -999.0,5,   -999.0,5,   122.70,2,    32.60,2,     2.27,2,  0.0690
    09AR9309_1,  SR03,    40,  1,      2,    102,2,19930323,1314,-59.8653, 139.8465, 4490,   3608.6,   0.1830,  34.6870,2,  34.6870,2,   -999.0,5,    217.7,2,   123.50,2,    32.60,2,     2.27,2, -0.0600
    09AR9309_1,  SR03,    40,  1,      1,    101,3,19930323,1314,-59.8653, 139.8465, 4490,   3847.3,   0.1020,  34.6860,2,  34.6860,3,   -999.0,5,    221.8,2,   123.30,2,    32.60,2,     2.27,2, -0.1620
    09AR9309_1,  SR03,    41,  1,     12,    112,2,19930323,1515,-59.8667, 139.8658, 4490,     10.7,   2.6300,  33.8820,2,  33.8840,2,   -999.0,5,    315.3,2,    11.20,2,    26.00,2,  -999.00,5,  2.6300
    09AR9309_1,  SR03,    41,  1,     11,    111,2,19930323,1515,-59.8667, 139.8658, 4490,     24.8,   2.6290,  33.8810,2,  33.8830,2,   -999.0,5,    316.0,2,    11.30,2,    26.10,2,     1.75,2,  2.6280
    09AR9309_1,  SR03,    41,  1,     10,    110,2,19930323,1515,-59.8667, 139.8658, 4490,     49.2,   2.6170,  33.8810,2,  33.8820,2,   -999.0,5,    316.0,2,    11.20,2,    26.20,2,     1.76,2,  2.6150
    09AR9309_1,  SR03,    41,  1,      9,    109,2,19930323,1515,-59.8667, 139.8658, 4490,    100.0,   0.2300,  33.9860,3,  33.9790,2,   -999.0,5,    280.1,3,    29.30,2,    28.60,2,     2.06,2,  0.2260
    09AR9309_1,  SR03,    41,  1,      8,    108,2,19930323,1515,-59.8667, 139.8658, 4490,    151.1,   0.7840,  34.1470,3,  34.1450,2,   -999.0,5,    266.8,2,    41.70,2,    32.30,2,  -999.00,5,  0.7780
    09AR9309_1,  SR03,    41,  1,      7,    107,2,19930323,1515,-59.8667, 139.8658, 4490,    201.3,   1.8390,  34.3550,3,  34.3480,2,   -999.0,5,    201.5,2,    56.30,2,    34.90,2,     2.43,2,  1.8290
    09AR9309_1,  SR03,    41,  1,      6,    106,2,19930323,1515,-59.8667, 139.8658, 4490,    300.7,   2.0890,  34.4810,2,  34.4800,2,   -999.0,5,    176.2,2,    66.20,2,    35.30,2,     2.47,2,  2.0730
    09AR9309_1,  SR03,    41,  1,      5,    105,2,19930323,1515,-59.8667, 139.8658, 4490,    401.1,   2.1870,  34.5730,2,  34.5740,2,   -999.0,5,    165.9,2,    71.40,2,    34.60,2,     2.41,2,  2.1650
    09AR9309_1,  SR03,    41,  1,      4,    104,2,19930323,1515,-59.8667, 139.8658, 4490,    499.9,   2.1710,  34.6240,2,  34.6230,2,   -999.0,5,    167.5,2,    74.40,2,    34.00,2,     2.37,2,  2.1430
    09AR9309_1,  SR03,    41,  1,      3,    103,2,19930323,1515,-59.8667, 139.8658, 4490,    601.0,   2.1420,  34.6640,2,  34.6620,2,   -999.0,5,    171.4,2,    74.30,2,    33.20,2,     2.30,2,  2.1080
    09AR9309_1,  SR03,    41,  1,      2,    102,2,19930323,1515,-59.8667, 139.8658, 4490,    802.2,   2.0440,  34.7130,2,  34.7110,2,   -999.0,5,   -999.0,5,    78.40,2,    32.00,2,     2.23,2,  1.9970
    09AR9309_1,  SR03,    41,  1,      1,    101,2,19930323,1515,-59.8667, 139.8658, 4490,   1000.0,   1.9670,  34.7380,2,  34.7370,2,   -999.0,5,    185.1,2,    79.30,2,    31.20,2,     2.16,2,  1.9070