BOTTLE,20030917WHPSIODMB
EXPOCODE,SECT_ID,STNNBR,CASTNO,SAMPNO,BTLNBR,BTLNBR_FLAG_W,DATE,TIME,LATITUDE,LONGITUDE,DEPTH,CTDPRS,CTDTMP,CTDSAL,CTDSAL_FLAG_W,SALNTY,SALNTY_FLAG_W,CTDOXY,CTDOXY_FLAG_W,OXYGEN,OXYGEN_FLAG_W,SILCAT,SILCAT_FLAG_W,NO2+NO3,NO2+NO3_FLAG_W,PHSPHT,PHSPHT_FLAG_W,THETA
,,,,,,,,,,,,DBAR,DEG C,PSS-78,,PSS-78,,UMOL/KG,,UMOL/KG,,UMOL/KG,,UMOL/KG,,UMOL/KG,,DEG C
    09AR9309_1,  SR03,    17,  1,     24,     27,2,19930316,0836,-50.7708, 143.4367, 3940,     10.5,   8.4250,  33.9630,2,  33.9650,2,    305.1,2,    280.2,2,     2.00,2,    19.30,2,  -999.00,5,  8.4260
    09AR9309_1,  SR03,    17,  1,     23,     23,2,19930316,0836,-50.7708, 143.4367, 3940,     21.9,   8.4250,  33.9640,2,  33.9660,2,    282.8,2,    283.3,2,     2.60,2,    19.30,2,     1.18,3,  8.4250
    09AR9309_1,  SR03,    17,  1,     22,     22,2,19930316,0836,-50.7708, 143.4367, 3940,     47.1,   8.4250,  33.9640,2,  33.9660,2,    289.0,2,    282.5,2,     2.00,2,    19.00,2,     1.19,3,  8.4220
    09AR9309_1,  SR03,    17,  1,     21,     21,2,19930316,0836,-50.7708, 143.4367, 3940,    100.8,   7.4830,  34.1640,4,  33.9660,4,    264.3,2,    278.3,2,     4.70,2,    19.20,2,     1.24,3,  7.4750
    09AR9309_1,  SR03,    17,  1,     20,     20,2,19930316,0836,-50.7708, 143.4367, 3940,    199.0,   6.4240,  34.2180,2,  34.1560,4,    276.0,2,    275.6,2,     6.00,2,    22.10,2,     1.37,3,  6.4080
    09AR9309_1,  SR03,    17,  1,     19,     19,2,19930316,0836,-50.7708, 143.4367, 3940,    295.4,   6.0710,  34.2370,2,  34.2360,2,    252.2,2,    257.9,2,     9.10,2,    24.20,2,     1.45,3,  6.0470
    09AR9309_1,  SR03,    17,  1,     18,     18,2,19930316,0836,-50.7708, 143.4367, 3940,    397.3,   5.8730,  34.3010,2,  34.3010,2,    236.4,2,    234.4,2,    12.70,2,    26.10,2,     1.66,3,  5.8400
    09AR9309_1,  SR03,    17,  1,     17,     17,2,19930316,0836,-50.7708, 143.4367, 3940,    496.8,   5.2620,  34.3190,3,  34.3210,2,    224.7,2,    222.0,2,    18.20,2,    29.00,2,     1.83,3,  5.2230
    09AR9309_1,  SR03,    17,  1,     16,     16,2,19930316,0836,-50.7708, 143.4367, 3940,    595.3,   4.4880,  34.3030,2,  34.3010,2,    220.7,2,    220.1,2,    23.20,2,    31.00,2,     1.90,3,  4.4440
    09AR9309_1,  SR03,    17,  1,     15,     15,2,19930316,0836,-50.7708, 143.4367, 3940,    695.1,   3.9330,  34.3050,2,  34.3060,2,    220.5,2,    215.9,2,    28.90,2,    32.30,2,     2.07,3,  3.8840
    09AR9309_1,  SR03,    17,  1,     14,     14,2,19930316,0836,-50.7708, 143.4367, 3940,    844.9,   3.3210,  34.3330,2,  34.3330,2,    204.8,2,    206.2,2,    38.00,2,    34.00,2,     2.18,3,  3.2640
    09AR9309_1,  SR03,    17,  1,     13,     13,2,19930316,0836,-50.7708, 143.4367, 3940,    999.6,   2.9430,  34.3940,2,  34.3920,2,    193.8,2,    192.1,2,    47.90,2,    35.30,2,     2.26,3,  2.8760
    09AR9309_1,  SR03,    17,  1,     12,     12,2,19930316,0836,-50.7708, 143.4367, 3940,   1095.0,   2.7590,  34.4380,2,  34.4390,2,    180.9,2,    183.7,2,    54.00,2,    36.10,2,  -999.00,5,  2.6870
    09AR9309_1,  SR03,    17,  1,     11,     11,2,19930316,0836,-50.7708, 143.4367, 3940,   1295.0,   2.5750,  34.5310,2,  34.5340,2,    174.3,2,    175.0,2,    62.90,2,    36.30,2,     2.22,3,  2.4890
    09AR9309_1,  SR03,    17,  1,     10,     10,2,19930316,0836,-50.7708, 143.4367, 3940,   1533.2,   2.4490,  34.6350,2,  34.6380,2,    169.6,2,    171.8,2,    68.40,2,    34.70,2,     2.14,3,  2.3450
    09AR9309_1,  SR03,    17,  1,      9,     26,2,19930316,0836,-50.7708, 143.4367, 3940,   1792.1,   2.3030,  34.7100,2,  34.7120,2,    177.8,2,    179.4,2,    72.40,2,    33.30,2,     2.03,3,  2.1800
    09AR9309_1,  SR03,    17,  1,      8,      8,2,19930316,0836,-50.7708, 143.4367, 3940,   2091.2,   2.1060,  34.7500,2,  34.7510,2,    187.3,2,    186.5,2,    77.30,2,    32.40,2,     2.01,3,  1.9600
    09AR9309_1,  SR03,    17,  1,      7,      7,2,19930316,0836,-50.7708, 143.4367, 3940,   2295.1,   1.9450,  34.7570,2,  34.7570,2,    188.3,2,    188.1,2,    87.60,2,  -999.00,5,  -999.00,5,  1.7840
    09AR9309_1,  SR03,    17,  1,      6,      6,2,19930316,0836,-50.7708, 143.4367, 3940,   2593.6,   1.7170,  34.7540,2,  34.7550,2,    188.7,2,    190.2,2,    92.50,2,    33.00,2,     2.00,3,  1.5340
    09AR9309_1,  SR03,    17,  1,      5,     25,2,19930316,0836,-50.7708, 143.4367, 3940,   2895.5,   1.4130,  34.7440,2,  34.7480,2,    195.0,2,    194.4,2,    99.60,2,    33.30,2,     2.08,3,  1.2080
    09AR9309_1,  SR03,    17,  1,      4,      4,2,19930316,0836,-50.7708, 143.4367, 3940,   3198.5,   1.1510,  34.7330,2,  34.7350,2,    196.9,2,    196.2,2,   107.30,2,    33.60,2,     2.09,3,  0.9230
    09AR9309_1,  SR03,    17,  1,      3,      3,2,19930316,0836,-50.7708, 143.4367, 3940,   3499.9,   1.0440,  34.7270,2,  34.7280,2,    197.6,2,    198.7,2,   110.30,2,    33.90,2,     2.16,3,  0.7890
    09AR9309_1,  SR03,    17,  1,      2,      2,2,19930316,0836,-50.7708, 143.4367, 3940,   3801.1,   1.0540,  34.7270,2,  34.7300,2,    199.0,2,    198.9,2,   110.20,2,    33.70,2,     2.16,3,  0.7680
    09AR9309_1,  SR03,    17,  1,      1,      1,2,19930316,0836,-50.7708, 143.4367, 3940,   4038.3,   1.0580,  34.7260,2,  34.7260,2,    199.9,2,    200.5,2,   113.50,2,    34.40,2,     2.16,3,  0.7470
    09AR9309_1,  SR03,    18,  1,     24,     27,2,19930316,1710,-51.0265, 143.2453, 3800,     11.1,   7.6790,  33.8780,2,  33.8800,2,    288.7,2,    286.2,2,     1.90,2,    21.20,2,  -999.00,5,  7.6800
    09AR9309_1,  SR03,    18,  1,     23,     23,2,19930316,1710,-51.0265, 143.2453, 3800,     19.1,   7.6730,  33.8780,2,  33.8780,2,    287.2,2,    287.0,2,     1.60,2,    21.30,2,     1.44,2,  7.6730
    09AR9309_1,  SR03,    18,  1,     22,     22,2,19930316,1710,-51.0265, 143.2453, 3800,     49.6,   7.6760,  33.8790,2,  33.8770,2,    271.9,2,    287.0,2,     1.60,2,    21.20,2,     1.43,2,  7.6730
    09AR9309_1,  SR03,    18,  1,     21,     21,2,19930316,1710,-51.0265, 143.2453, 3800,    100.6,   6.8370,  34.0050,3,  34.0050,2,    287.8,2,    286.5,2,     4.60,2,    21.40,2,     1.52,2,  6.8300
    09AR9309_1,  SR03,    18,  1,     20,     20,2,19930316,1710,-51.0265, 143.2453, 3800,    199.8,   5.7170,  34.1510,4,  34.1500,2,    282.3,2,    272.2,2,     8.00,2,    23.70,2,     1.62,2,  5.7020
    09AR9309_1,  SR03,    18,  1,     19,     19,2,19930316,1710,-51.0265, 143.2453, 3800,    298.5,   5.2180,  34.1730,4,  34.1700,2,    255.1,2,    257.1,2,    11.90,2,    25.90,2,     1.78,2,  5.1960
    09AR9309_1,  SR03,    18,  1,     18,     18,2,19930316,1710,-51.0265, 143.2453, 3800,    394.6,   5.3680,  34.3060,3,  34.3090,2,    219.2,2,    223.8,2,    17.90,2,    28.70,2,     1.95,2,  5.3370
    09AR9309_1,  SR03,    18,  1,     17,     17,2,19930316,1710,-51.0265, 143.2453, 3800,    492.5,   4.3410,  34.2640,3,-999.0000,9,    228.4,2,   -999.0,9,  -999.00,9,  -999.00,9,  -999.00,9,  4.3060
    09AR9309_1,  SR03,    18,  1,     16,     16,2,19930316,1710,-51.0265, 143.2453, 3800,    593.8,   3.7490,  34.2720,3,  34.2720,2,    224.2,2,    221.7,2,    29.60,2,    32.40,2,     2.21,2,  3.7080
    09AR9309_1,  SR03,    18,  1,     15,     15,2,19930316,1710,-51.0265, 143.2453, 3800,    690.7,   3.4370,  34.3110,3,  34.3060,2,    211.2,2,    211.9,2,    36.30,2,    33.50,2,     2.30,2,  3.3900
    09AR9309_1,  SR03,    18,  1,     14,     14,2,19930316,1710,-51.0265, 143.2453, 3800,    795.4,   3.0440,  34.3270,2,  34.3270,2,    205.0,2,    205.9,2,    42.90,2,    34.40,2,     2.37,2,  2.9920
    09AR9309_1,  SR03,    18,  1,     13,     13,2,19930316,1710,-51.0265, 143.2453, 3800,    893.7,   2.8570,  34.3770,2,  34.3740,2,    194.4,2,    195.1,2,    50.00,2,    35.20,2,     2.44,2,  2.7990
    09AR9309_1,  SR03,    18,  1,     12,     12,2,19930316,1710,-51.0265, 143.2453, 3800,    991.5,   2.7660,  34.4290,2,  34.4310,2,    185.3,2,    184.2,2,    56.90,2,    35.50,2,  -999.00,5,  2.7010
    09AR9309_1,  SR03,    18,  1,     11,     11,2,19930316,1710,-51.0265, 143.2453, 3800,   1192.9,   2.5870,  34.5210,2,  34.5210,2,    174.6,2,    173.1,2,    66.20,2,    35.80,2,     2.47,2,  2.5090
    09AR9309_1,  SR03,    18,  1,     10,     10,2,19930316,1710,-51.0265, 143.2453, 3800,   1393.2,   2.4480,  34.6180,2,  34.6140,2,    170.9,2,    170.8,2,    73.20,2,    35.00,2,     2.41,2,  2.3550
    09AR9309_1,  SR03,    18,  1,      9,     26,2,19930316,1710,-51.0265, 143.2453, 3800,   1592.8,   2.3670,  34.6860,2,  34.6840,2,    175.4,2,    175.0,2,    76.50,2,    33.70,2,     2.33,2,  2.2590
    09AR9309_1,  SR03,    18,  1,      8,      8,2,19930316,1710,-51.0265, 143.2453, 3800,   1793.4,   2.2190,  34.7230,2,  34.7210,2,    181.8,2,    181.8,2,    79.40,2,    32.90,2,     2.27,2,  2.0970
    09AR9309_1,  SR03,    18,  1,      7,      7,2,19930316,1710,-51.0265, 143.2453, 3800,   1992.7,   2.0990,  34.7440,2,  34.7450,2,    187.1,2,    187.3,2,    82.40,2,    32.30,2,     2.23,2,  1.9620
    09AR9309_1,  SR03,    18,  1,      6,      6,2,19930316,1710,-51.0265, 143.2453, 3800,   2095.8,   2.0300,  34.7500,2,  34.7510,2,    188.7,2,    188.4,2,    84.50,2,    32.10,2,     2.26,2,  1.8850
    09AR9309_1,  SR03,    18,  1,      5,     25,2,19930316,1710,-51.0265, 143.2453, 3800,   2494.6,   1.6390,  34.7500,2,  34.7500,2,    195.1,2,    193.1,2,    95.80,2,    32.30,2,     2.22,2,  1.4660
    09AR9309_1,  SR03,    18,  1,      4,      4,2,19930316,1710,-51.0265, 143.2453, 3800,   2795.2,   1.3570,  34.7390,2,  34.7420,2,    197.3,2,    197.9,2,   104.20,2,    32.70,2,     2.25,2,  1.1620
    09AR9309_1,  SR03,    18,  1,      3,      3,2,19930316,1710,-51.0265, 143.2453, 3800,   3097.9,   1.0960,  34.7260,2,  34.7280,2,    199.6,2,    201.0,2,   112.80,2,    33.20,2,     2.29,2,  0.8790
    09AR9309_1,  SR03,    18,  1,      2,      2,2,19930316,1710,-51.0265, 143.2453, 3800,   3496.8,   0.9860,  34.7190,2,  34.7210,2,    201.9,2,    200.7,2,   118.40,2,    33.40,2,     2.31,2,  0.7330
    09AR9309_1,  SR03,    18,  1,      1,      1,2,19930316,1710,-51.0265, 143.2453, 3800,   3888.7,   0.9820,  34.7160,2,  34.7190,2,    200.5,2,    202.9,2,   119.50,2,    33.40,2,     2.32,2,  0.6890
    09AR9309_1,  SR03,    19,  1,     24,     27,2,19930317,1331,-51.4347, 143.0547, 3750,      8.6,   7.1720,  33.8550,2,  33.8560,2,    351.9,2,    294.6,2,     1.60,2,    22.10,2,  -999.00,5,  7.1730
    09AR9309_1,  SR03,    19,  1,     23,     23,2,19930317,1331,-51.4347, 143.0547, 3750,     19.2,   7.1750,  33.8550,2,  33.8550,2,    313.9,2,    290.4,2,     1.70,2,    22.10,2,     1.44,2,  7.1750
    09AR9309_1,  SR03,    19,  1,     22,     22,2,19930317,1331,-51.4347, 143.0547, 3750,     49.5,   7.1740,  33.8560,2,  33.8570,2,    292.2,2,    290.9,2,     1.70,2,    22.10,2,     1.49,2,  7.1710
    09AR9309_1,  SR03,    19,  1,     21,     21,2,19930317,1331,-51.4347, 143.0547, 3750,     97.2,   5.3810,  34.0430,4,  34.0410,2,    294.9,2,    291.1,2,     7.70,2,    23.60,2,     1.61,2,  5.3750
    09AR9309_1,  SR03,    19,  1,     20,     20,2,19930317,1331,-51.4347, 143.0547, 3750,    197.9,   4.7920,  34.0950,2,  34.0950,2,    278.6,2,    274.2,2,    11.90,2,    25.80,2,     1.73,2,  4.7780
    09AR9309_1,  SR03,    19,  1,     19,     19,2,19930317,1331,-51.4347, 143.0547, 3750,    297.3,   4.9880,  34.2490,4,  34.2500,2,    231.8,2,    233.1,2,    17.40,2,    28.30,2,     1.87,2,  4.9660
    09AR9309_1,  SR03,    19,  1,     18,     18,2,19930317,1331,-51.4347, 143.0547, 3750,    398.1,   4.5120,  34.2720,3,  34.2730,2,    223.4,2,    225.7,2,    22.40,2,    30.00,2,     2.03,2,  4.4830
    09AR9309_1,  SR03,    19,  1,     17,     17,2,19930317,1331,-51.4347, 143.0547, 3750,    500.4,   3.7540,  34.2600,2,  34.2600,2,    223.4,2,    224.6,2,    28.80,2,    31.60,2,     2.16,2,  3.7200
    09AR9309_1,  SR03,    19,  1,     16,     16,2,19930317,1331,-51.4347, 143.0547, 3750,    598.1,   3.2640,  34.2840,4,  34.2820,2,    213.0,2,    217.0,2,    36.00,2,    33.00,2,     2.24,2,  3.2250
    09AR9309_1,  SR03,    19,  1,     15,     15,2,19930317,1331,-51.4347, 143.0547, 3750,    694.7,   2.9980,  34.3240,3,  34.3220,2,    206.6,2,    208.0,2,    42.90,2,    34.00,2,     2.32,2,  2.9530
    09AR9309_1,  SR03,    19,  1,     14,     14,2,19930317,1331,-51.4347, 143.0547, 3750,    795.3,   2.8750,  34.3810,2,  34.3820,2,    192.5,2,    193.2,2,    50.80,2,    34.80,2,     2.38,2,  2.8240
    09AR9309_1,  SR03,    19,  1,     13,     13,2,19930317,1331,-51.4347, 143.0547, 3750,    895.8,   2.8000,  34.4450,2,  34.4450,2,    181.5,2,    182.7,2,    57.70,2,    35.10,2,     2.44,2,  2.7420
    09AR9309_1,  SR03,    19,  1,     12,     12,2,19930317,1331,-51.4347, 143.0547, 3750,    991.2,   2.6450,  34.4870,2,  34.4850,2,    176.0,2,    178.0,2,    62.60,2,    35.40,2,  -999.00,5,  2.5810
    09AR9309_1,  SR03,    19,  1,     11,     11,2,19930317,1331,-51.4347, 143.0547, 3750,   1093.7,   2.6060,  34.5440,2,  34.5410,2,    175.0,2,   -999.0,5,    67.00,2,    35.10,2,     2.40,2,  2.5350
    09AR9309_1,  SR03,    19,  1,     10,     10,2,19930317,1331,-51.4347, 143.0547, 3750,   1293.2,   2.4500,  34.6210,2,  34.6170,2,    173.4,2,   -999.0,5,    72.00,2,    34.40,2,     2.35,2,  2.3650
    09AR9309_1,  SR03,    19,  1,      9,     26,2,19930317,1331,-51.4347, 143.0547, 3750,   1490.9,   2.3640,  34.6810,2,  34.6790,2,    174.7,2,    176.3,2,    75.30,2,    33.30,2,     2.31,2,  2.2640
    09AR9309_1,  SR03,    19,  1,      8,      8,2,19930317,1331,-51.4347, 143.0547, 3750,   1696.1,   2.2330,  34.7190,2,  34.7190,2,    183.3,2,    181.1,2,    78.20,2,    32.40,2,     2.20,2,  2.1190
    09AR9309_1,  SR03,    19,  1,      7,      7,2,19930317,1331,-51.4347, 143.0547, 3750,   1996.7,   2.0330,  34.7500,2,  34.7520,2,    189.0,2,    189.7,2,    83.00,2,    31.60,2,     2.19,2,  1.8960
    09AR9309_1,  SR03,    19,  1,      6,      6,2,19930317,1331,-51.4347, 143.0547, 3750,   2295.7,   1.7810,  34.7520,2,  34.7520,2,    192.0,2,    192.9,2,    90.20,2,    31.50,2,     2.19,2,  1.6230
    09AR9309_1,  SR03,    19,  1,      5,     25,2,19930317,1331,-51.4347, 143.0547, 3750,   2597.4,   1.4750,  34.7420,2,  34.7410,2,    193.9,2,    195.0,2,   102.70,2,    32.10,2,     2.24,2,  1.2960
    09AR9309_1,  SR03,    19,  1,      4,      4,2,19930317,1331,-51.4347, 143.0547, 3750,   2897.8,   1.2590,  34.7340,2,  34.7320,2,    196.8,2,    197.4,2,   108.30,2,    32.50,2,     2.27,2,  1.0570
    09AR9309_1,  SR03,    19,  1,      3,      3,2,19930317,1331,-51.4347, 143.0547, 3750,   3198.4,   1.0620,  34.7240,2,  34.7240,2,    199.4,2,    199.3,2,   115.00,2,    32.70,2,     2.29,2,  0.8360
    09AR9309_1,  SR03,    19,  1,      2,      2,2,19930317,1331,-51.4347, 143.0547, 3750,   3500.5,   1.0170,  34.7200,2,  34.7210,2,    201.7,2,    199.7,2,   115.90,2,    32.90,2,     2.31,2,  0.7630
    09AR9309_1,  SR03,    19,  1,      1,      1,2,19930317,1331,-51.4347, 143.0547, 3750,   3755.3,   0.9680,  34.7170,2,  34.7200,2,    201.6,2,    202.7,2,   117.70,2,    32.80,2,     2.31,2,  0.6900
    09AR9309_1,  SR03,    20,  1,     24,     27,2,19930317,1928,-51.8412, 142.8233, 3550,     10.7,   7.0350,  33.8450,2,  33.8470,2,    398.0,2,    287.1,2,     2.50,2,    21.10,2,  -999.00,5,  7.0360
    09AR9309_1,  SR03,    20,  1,     23,     23,2,19930317,1928,-51.8412, 142.8233, 3550,     18.2,   7.0350,  33.8460,2,  33.8470,2,    185.3,2,    288.2,2,     2.50,2,    21.10,2,     1.40,2,  7.0350
    09AR9309_1,  SR03,    20,  1,     22,     22,2,19930317,1928,-51.8412, 142.8233, 3550,     51.9,   7.0320,  33.8460,2,  33.8490,2,    284.0,2,    283.9,2,     2.70,2,    21.40,2,     1.41,2,  7.0290
    09AR9309_1,  SR03,    20,  1,     21,     21,2,19930317,1928,-51.8412, 142.8233, 3550,    100.0,   4.8700,  34.0020,4,  33.9980,2,    299.1,2,    295.4,2,     7.30,2,    22.50,2,     1.57,2,  4.8640
    09AR9309_1,  SR03,    20,  1,     20,     20,2,19930317,1928,-51.8412, 142.8233, 3550,    197.0,   4.3880,  34.0740,3,  34.0710,2,    270.6,2,    274.9,2,    12.50,2,    25.40,2,     1.71,2,  4.3750
    09AR9309_1,  SR03,    20,  1,     19,     19,2,19930317,1928,-51.8412, 142.8233, 3550,    298.3,   4.6950,  34.2610,3,  34.2570,2,    230.1,2,    229.6,2,    19.60,2,    28.30,2,     1.89,2,  4.6740
    09AR9309_1,  SR03,    20,  1,     18,     18,2,19930317,1928,-51.8412, 142.8233, 3550,    398.7,   4.0310,  34.2630,2,  34.2640,2,    223.4,2,    224.5,2,    26.70,2,    29.90,2,     2.00,2,  4.0040
    09AR9309_1,  SR03,    20,  1,     17,     17,2,19930317,1928,-51.8412, 142.8233, 3550,    495.1,   3.4050,  34.2760,4,  34.2740,2,    219.7,2,    219.6,2,    33.10,2,    31.50,2,     2.14,2,  3.3730
    09AR9309_1,  SR03,    20,  1,     16,     16,2,19930317,1928,-51.8412, 142.8233, 3550,    596.7,   3.0070,  34.3180,2,  34.3180,2,    210.1,2,    208.6,2,    41.60,2,    32.60,2,     2.24,2,  2.9690
    09AR9309_1,  SR03,    20,  1,     15,     15,2,19930317,1928,-51.8412, 142.8233, 3550,    695.7,   2.7520,  34.3650,2,  34.3650,2,    195.0,2,    196.1,2,    49.30,2,    33.70,2,     2.30,2,  2.7090
    09AR9309_1,  SR03,    20,  1,     14,     14,2,19930317,1928,-51.8412, 142.8233, 3550,    791.9,   2.6730,  34.4250,2,  34.4240,2,    183.7,2,    185.9,2,    56.40,2,    34.30,2,     2.34,2,  2.6230
    09AR9309_1,  SR03,    20,  1,     13,     13,2,19930317,1928,-51.8412, 142.8233, 3550,    894.8,   2.5990,  34.4720,2,  34.4740,2,    177.2,2,    180.0,2,    61.80,2,    34.50,2,     2.35,2,  2.5420
    09AR9309_1,  SR03,    20,  1,     12,     12,2,19930317,1928,-51.8412, 142.8233, 3550,    992.7,   2.5820,  34.5350,2,  34.5360,2,    174.2,2,    173.8,2,    65.20,2,    34.30,2,  -999.00,5,  2.5180
    09AR9309_1,  SR03,    20,  1,     11,     11,2,19930317,1928,-51.8412, 142.8233, 3550,   1093.4,   2.5280,  34.5840,2,  34.5820,2,    171.8,2,    168.5,2,    68.20,2,    33.90,2,     2.27,2,  2.4570
    09AR9309_1,  SR03,    20,  1,     10,     10,2,19930317,1928,-51.8412, 142.8233, 3550,   1291.9,   2.4080,  34.6490,2,  34.6490,2,    172.2,2,    173.2,2,    72.70,2,    33.00,2,     2.23,2,  2.3240
    09AR9309_1,  SR03,    20,  1,      9,     26,2,19930317,1928,-51.8412, 142.8233, 3550,   1495.3,   2.2900,  34.7040,2,  34.7030,2,    178.3,2,    177.3,2,    76.10,2,    32.00,2,     2.17,2,  2.1910
    09AR9309_1,  SR03,    20,  1,      8,      8,2,19930317,1928,-51.8412, 142.8233, 3550,   1692.9,   2.1680,  34.7320,2,  34.7320,2,    183.9,2,    182.9,2,    78.40,2,    31.20,2,     2.11,2,  2.0550
    09AR9309_1,  SR03,    20,  1,      7,      7,2,19930317,1928,-51.8412, 142.8233, 3550,   1894.0,   2.0410,  34.7490,2,  34.7510,2,    189.0,2,    188.3,2,    81.60,2,    31.00,2,     2.06,2,  1.9130
    09AR9309_1,  SR03,    20,  1,      6,      6,2,19930317,1928,-51.8412, 142.8233, 3550,   2193.2,   1.7680,  34.7500,2,  34.7500,2,    192.8,2,    189.1,2,    92.60,2,    31.10,2,     2.10,2,  1.6190
    09AR9309_1,  SR03,    20,  1,      5,     25,2,19930317,1928,-51.8412, 142.8233, 3550,   2493.3,   1.4550,  34.7430,2,  34.7420,2,    197.5,2,    195.3,2,   100.40,2,    31.50,2,     2.12,2,  1.2850
    09AR9309_1,  SR03,    20,  1,      4,      4,2,19930317,1928,-51.8412, 142.8233, 3550,   2796.0,   1.2120,  34.7330,2,  34.7320,2,    198.2,2,    198.3,2,   110.70,2,    32.40,2,     2.22,2,  1.0200
    09AR9309_1,  SR03,    20,  1,      3,      3,2,19930317,1928,-51.8412, 142.8233, 3550,   3097.6,   1.0640,  34.7260,2,  34.7250,2,    198.4,2,    200.9,2,   111.50,3,    31.80,3,     2.16,3,  0.8480
    09AR9309_1,  SR03,    20,  1,      2,      2,2,19930317,1928,-51.8412, 142.8233, 3550,   3395.2,   0.9990,  34.7210,2,  34.7230,2,    199.4,2,    200.6,2,   116.30,2,    32.60,2,     2.22,2,  0.7560
    09AR9309_1,  SR03,    20,  1,      1,      1,2,19930317,1928,-51.8412, 142.8233, 3550,   3666.2,   0.9800,  34.7190,2,  34.7220,2,    201.5,2,    202.0,2,   116.80,2,    32.40,2,     2.19,2,  0.7100