BOTTLE,20030917WHPSIODMB
EXPOCODE,SECT_ID,STNNBR,CASTNO,SAMPNO,BTLNBR,BTLNBR_FLAG_W,DATE,TIME,LATITUDE,LONGITUDE,DEPTH,CTDPRS,CTDTMP,CTDSAL,CTDSAL_FLAG_W,SALNTY,SALNTY_FLAG_W,CTDOXY,CTDOXY_FLAG_W,OXYGEN,OXYGEN_FLAG_W,SILCAT,SILCAT_FLAG_W,NO2+NO3,NO2+NO3_FLAG_W,PHSPHT,PHSPHT_FLAG_W,THETA
,,,,,,,,,,,,DBAR,DEG C,PSS-78,,PSS-78,,UMOL/KG,,UMOL/KG,,UMOL/KG,,UMOL/KG,,UMOL/KG,,DEG C
    09AR9309_1,  SR03,    50,  1,     12,    112,2,19930326,2237,-62.3542, 139.8730, 3975,   1398.5,   1.1740,  34.7380,2,  34.7360,2,   -999.0,5,    196.2,2,    96.90,2,    31.30,2,  -999.00,5,  1.0940
    09AR9309_1,  SR03,    50,  1,     11,    111,2,19930326,2237,-62.3542, 139.8730, 3975,   1598.2,   1.0000,  34.7280,2,  34.7270,2,   -999.0,5,    197.5,2,   101.10,2,    31.80,2,     2.19,2,  0.9080
    09AR9309_1,  SR03,    50,  1,     10,    110,2,19930326,2237,-62.3542, 139.8730, 3975,   1796.3,   0.8490,  34.7210,2,  34.7200,2,   -999.0,5,   -999.0,5,   104.30,2,    31.90,2,     2.20,2,  0.7450
    09AR9309_1,  SR03,    50,  1,      9,    109,2,19930326,2237,-62.3542, 139.8730, 3975,   2001.7,   0.6890,  34.7130,2,  34.7130,2,   -999.0,5,    201.8,2,   107.20,2,    32.00,2,     2.22,2,  0.5720
    09AR9309_1,  SR03,    50,  1,      8,    108,2,19930326,2237,-62.3542, 139.8730, 3975,   2302.5,   0.5010,  34.7050,2,  34.7070,2,   -999.0,5,   -999.0,5,   117.20,2,    32.40,2,     2.24,2,  0.3650
    09AR9309_1,  SR03,    50,  1,      7,    107,2,19930326,2237,-62.3542, 139.8730, 3975,   2603.2,   0.2870,  34.6960,2,  34.6980,2,   -999.0,5,   -999.0,5,   118.90,2,    32.60,2,     2.24,2,  0.1310
    09AR9309_1,  SR03,    50,  1,      6,    106,2,19930326,2237,-62.3542, 139.8730, 3975,   2902.4,   0.1680,  34.6920,2,  34.6920,2,   -999.0,5,    210.4,2,   119.70,2,    32.60,2,     2.24,2, -0.0110
    09AR9309_1,  SR03,    50,  1,      5,    105,2,19930326,2237,-62.3542, 139.8730, 3975,   3205.4,   0.0410,  34.6880,2,  34.6880,2,   -999.0,5,   -999.0,5,   116.80,2,  -999.00,5,     2.24,2, -0.1610
    09AR9309_1,  SR03,    50,  1,      4,    104,2,19930326,2237,-62.3542, 139.8730, 3975,   3503.8,  -0.0870,  34.6840,2,  34.6840,2,   -999.0,5,    225.5,2,   109.30,2,  -999.00,5,     2.22,2, -0.3130
    09AR9309_1,  SR03,    50,  1,      3,    103,2,19930326,2237,-62.3542, 139.8730, 3975,   3805.8,  -0.1940,  34.6810,2,  34.6820,2,   -999.0,5,    232.6,2,   102.50,2,  -999.00,5,     2.22,2, -0.4460
    09AR9309_1,  SR03,    50,  1,      1,    113,2,19930326,2237,-62.3542, 139.8730, 3975,   3973.6,  -0.2070,  34.6840,2,  34.6830,2,   -999.0,5,   -999.0,5,  -999.00,5,  -999.00,5,  -999.00,5, -0.4750
    09AR9309_1,  SR03,    50,  1,      2,    102,2,19930326,2237,-62.3542, 139.8730, 3975,   3975.1,  -0.2050,  34.6830,2,  34.6830,2,   -999.0,5,    232.9,2,   100.20,2,  -999.00,5,     2.22,2, -0.4730
    09AR9309_1,  SR03,    51,  1,     12,    112,2,19930327,0058,-62.3607, 139.9008, 3975,     11.5,   1.2930,  33.9990,2,  33.9940,2,   -999.0,5,    320.1,2,    34.20,2,    27.50,2,  -999.00,5,  1.2930
    09AR9309_1,  SR03,    51,  1,     11,    111,2,19930327,0058,-62.3607, 139.9008, 3975,     52.4,   1.2960,  34.0060,2,  34.0060,2,   -999.0,5,    319.3,2,    34.10,2,    27.80,2,     1.82,2,  1.2940
    09AR9309_1,  SR03,    51,  1,     10,    110,2,19930327,0058,-62.3607, 139.9008, 3975,     76.2,   0.8000,  34.3510,3,  34.3640,2,   -999.0,5,    225.3,2,    58.70,2,    34.10,2,     2.36,2,  0.7970
    09AR9309_1,  SR03,    51,  1,      9,    109,2,19930327,0058,-62.3607, 139.9008, 3975,    101.7,   1.4450,  34.4630,4,  34.4670,2,   -999.0,5,    185.7,2,    65.10,2,    34.80,2,     2.44,2,  1.4400
    09AR9309_1,  SR03,    51,  1,      8,    108,2,19930327,0058,-62.3607, 139.9008, 3975,    149.9,   1.8070,  34.5640,3,  34.5650,2,   -999.0,5,    174.7,2,    71.10,2,    34.70,2,     2.44,2,  1.8000
    09AR9309_1,  SR03,    51,  1,      7,    107,2,19930327,0058,-62.3607, 139.9008, 3975,    180.2,   1.7040,  34.5880,2,  34.5910,2,   -999.0,5,    177.0,2,    72.50,2,    34.40,2,     2.42,2,  1.6950
    09AR9309_1,  SR03,    51,  1,      6,    106,2,19930327,0058,-62.3607, 139.9008, 3975,    250.5,   1.9610,  34.6560,2,  34.6540,2,   -999.0,5,    169.9,2,    75.20,2,    33.80,2,     2.36,2,  1.9480
    09AR9309_1,  SR03,    51,  1,      5,    105,2,19930327,0058,-62.3607, 139.9008, 3975,    299.7,   1.9630,  34.6770,2,  34.6750,2,   -999.0,5,    171.4,2,    76.20,2,    33.30,2,     2.30,2,  1.9470
    09AR9309_1,  SR03,    51,  1,      4,    104,2,19930327,0058,-62.3607, 139.9008, 3975,    399.5,   1.9230,  34.7010,2,  34.7000,2,   -999.0,5,    176.5,2,    77.40,2,    32.60,2,     2.24,2,  1.9020
    09AR9309_1,  SR03,    51,  1,      3,    103,2,19930327,0058,-62.3607, 139.9008, 3975,    599.1,   1.7850,  34.7340,2,  34.7330,2,   -999.0,5,    183.0,2,    80.50,2,    31.60,2,     2.19,2,  1.7520
    09AR9309_1,  SR03,    51,  1,      2,    102,2,19930327,0058,-62.3607, 139.9008, 3975,    801.4,   1.6520,  34.7470,2,  34.7450,2,   -999.0,5,    188.1,2,    84.40,2,    31.20,2,     2.15,2,  1.6070
    09AR9309_1,  SR03,    51,  1,      1,    113,3,19930327,0058,-62.3607, 139.9008, 3975,   1000.5,   1.5060,  34.7510,2,  34.7500,3,   -999.0,5,    192.0,2,    88.50,2,    31.00,2,     2.15,2,  1.4500
    09AR9309_1,  SR03,    52,  1,     12,    112,2,19930327,0516,-62.8465, 139.8270, 3220,   1100.3,   1.3390,  34.7390,2,  34.7470,2,   -999.0,5,    193.3,2,    96.30,2,    31.80,2,  -999.00,5,  1.2780
    09AR9309_1,  SR03,    52,  1,     11,    111,2,19930327,0516,-62.8465, 139.8270, 3220,   1200.5,   1.2400,  34.7380,2,  34.7420,2,   -999.0,5,    197.0,2,    98.50,2,    31.80,2,     2.13,2,  1.1730
    09AR9309_1,  SR03,    52,  1,     10,    110,2,19930327,0516,-62.8465, 139.8270, 3220,   1399.8,   1.1030,  34.7330,2,  34.7340,2,   -999.0,5,    198.6,2,   102.20,2,    32.30,2,     2.16,2,  1.0240
    09AR9309_1,  SR03,    52,  1,      9,    109,2,19930327,0516,-62.8465, 139.8270, 3220,   1599.9,   0.9430,  34.7260,2,  34.7250,2,   -999.0,5,    199.2,2,   107.30,2,    32.50,2,     2.18,2,  0.8520
    09AR9309_1,  SR03,    52,  1,      8,    108,2,19930327,0516,-62.8465, 139.8270, 3220,   1800.3,   0.7860,  34.7180,2,  34.7170,2,   -999.0,5,    201.6,2,   111.90,2,    32.70,2,     2.20,2,  0.6830
    09AR9309_1,  SR03,    52,  1,      7,    107,2,19930327,0516,-62.8465, 139.8270, 3220,   2002.1,   0.6380,  34.7110,2,  34.7110,2,   -999.0,5,   -999.0,9,   115.10,2,    32.80,2,     2.21,2,  0.5220
    09AR9309_1,  SR03,    52,  1,      6,    106,2,19930327,0516,-62.8465, 139.8270, 3220,   2202.3,   0.4730,  34.7000,2,  34.7020,2,   -999.0,5,    207.3,2,   118.60,2,    32.70,2,     2.23,2,  0.3450
    09AR9309_1,  SR03,    52,  1,      5,    105,2,19930327,0516,-62.8465, 139.8270, 3220,   2403.3,   0.3430,  34.6960,2,  34.6970,2,   -999.0,5,    212.1,2,   119.90,2,    32.60,2,     2.22,2,  0.2010
    09AR9309_1,  SR03,    52,  1,      4,    104,2,19930327,0516,-62.8465, 139.8270, 3220,   2605.1,   0.2380,  34.6930,2,  34.6930,2,   -999.0,5,    214.7,2,   120.90,2,    32.50,2,     2.22,2,  0.0820
    09AR9309_1,  SR03,    52,  1,      3,    103,2,19930327,0516,-62.8465, 139.8270, 3220,   2807.2,   0.1470,  34.6900,2,  34.6890,2,   -999.0,5,    218.1,2,   121.10,2,    32.80,2,     2.22,2, -0.0230
    09AR9309_1,  SR03,    52,  1,      2,    102,2,19930327,0516,-62.8465, 139.8270, 3220,   3105.7,  -0.0260,  34.6820,2,  34.6840,2,   -999.0,5,    224.2,2,   115.80,2,    32.90,2,     2.21,2, -0.2180
    09AR9309_1,  SR03,    52,  1,      1,    101,2,19930327,0516,-62.8465, 139.8270, 3220,   3225.9,  -0.1090,  34.6830,2,  34.6830,2,   -999.0,5,    228.8,2,   113.10,2,    32.70,2,     2.20,2, -0.3100
    09AR9309_1,  SR03,    53,  1,     12,    112,2,19930327,0709,-62.8450, 139.8182, 3220,     12.5,   1.2310,  34.0110,2,  34.0120,2,   -999.0,5,    321.2,2,    36.80,2,    28.10,2,  -999.00,5,  1.2310
    09AR9309_1,  SR03,    53,  1,     11,    111,2,19930327,0709,-62.8450, 139.8182, 3220,     27.9,   1.2310,  34.0110,2,  34.0100,2,   -999.0,5,    322.2,2,    36.90,2,    28.10,2,     1.80,2,  1.2300
    09AR9309_1,  SR03,    53,  1,     10,    110,2,19930327,0709,-62.8450, 139.8182, 3220,     60.7,   0.2520,  34.3240,2,  34.3250,2,   -999.0,5,    246.9,2,    61.50,2,    33.60,2,     2.28,2,  0.2500
    09AR9309_1,  SR03,    53,  1,      9,    109,2,19930327,0709,-62.8450, 139.8182, 3220,    103.3,   1.4350,  34.5310,4,  34.5280,2,   -999.0,5,    186.0,2,    72.70,2,    34.90,2,     2.41,2,  1.4300
    09AR9309_1,  SR03,    53,  1,      8,    108,2,19930327,0709,-62.8450, 139.8182, 3220,    202.2,   1.8520,  34.6440,2,  34.6450,2,   -999.0,5,    171.2,2,    78.80,2,    34.30,2,     2.36,2,  1.8420
    09AR9309_1,  SR03,    53,  1,      7,    107,2,19930327,0709,-62.8450, 139.8182, 3220,    301.8,   1.8490,  34.6860,2,  34.6870,2,   -999.0,5,    175.8,2,    80.30,2,    33.50,2,     2.27,2,  1.8330
    09AR9309_1,  SR03,    53,  1,      6,    106,2,19930327,0709,-62.8450, 139.8182, 3220,    401.8,   1.8500,  34.7190,2,  34.7190,2,   -999.0,5,    180.7,2,    81.70,2,    32.40,2,     2.20,2,  1.8290
    09AR9309_1,  SR03,    53,  1,      5,    105,2,19930327,0709,-62.8450, 139.8182, 3220,    500.2,   1.8200,  34.7330,2,  34.7320,2,   -999.0,5,    183.8,2,    82.90,2,    32.10,2,     2.17,2,  1.7930
    09AR9309_1,  SR03,    53,  1,      4,    104,2,19930327,0709,-62.8450, 139.8182, 3220,    599.9,   1.7760,  34.7410,2,  34.7610,4,   -999.0,5,    186.5,2,    84.60,2,    31.80,2,     2.15,2,  1.7430
    09AR9309_1,  SR03,    53,  1,      3,    103,2,19930327,0709,-62.8450, 139.8182, 3220,    701.6,   1.6920,  34.7470,2,  34.7460,2,   -999.0,5,    188.6,2,    86.20,2,    31.70,2,     2.14,2,  1.6530
    09AR9309_1,  SR03,    53,  1,      2,    102,2,19930327,0709,-62.8450, 139.8182, 3220,    800.9,   1.5850,  34.7490,2,  34.7470,2,   -999.0,5,    191.1,2,    89.80,2,    31.80,2,     2.13,2,  1.5410
    09AR9309_1,  SR03,    53,  1,      1,    101,2,19930327,0709,-62.8450, 139.8182, 3220,   1000.2,   1.3960,  34.7470,2,  34.7460,2,   -999.0,5,    192.8,2,    94.10,2,    31.80,2,     2.13,2,  1.3410
    09AR9309_1,  SR03,    54,  1,     12,    112,2,19930327,1404,-63.3452, 139.8367, 3815,   1200.9,   1.3350,  34.7440,2,  34.7430,2,   -999.0,5,   -999.0,5,    97.30,2,    32.20,3,  -999.00,5,  1.2670
    09AR9309_1,  SR03,    54,  1,     11,    111,2,19930327,1404,-63.3452, 139.8367, 3815,   1398.6,   1.1650,  34.7360,2,  34.7390,2,   -999.0,5,    197.8,2,   101.90,2,    32.60,3,     2.12,2,  1.0850
    09AR9309_1,  SR03,    54,  1,     10,    110,2,19930327,1404,-63.3452, 139.8367, 3815,   1599.9,   0.9700,  34.7280,2,  34.7280,2,   -999.0,5,   -999.0,5,   107.20,2,    33.20,3,     2.17,2,  0.8790
    09AR9309_1,  SR03,    54,  1,      9,    109,2,19930327,1404,-63.3452, 139.8367, 3815,   1798.3,   0.8120,  34.7200,2,  34.7210,2,   -999.0,5,   -999.0,5,   111.80,2,    33.20,3,     2.17,2,  0.7090
    09AR9309_1,  SR03,    54,  1,      8,    108,2,19930327,1404,-63.3452, 139.8367, 3815,   2001.4,   0.6480,  34.7120,2,  34.7120,2,   -999.0,5,   -999.0,5,   117.20,2,    33.90,3,     2.21,2,  0.5320
    09AR9309_1,  SR03,    54,  1,      7,    107,2,19930327,1404,-63.3452, 139.8367, 3815,   2203.7,   0.4900,  34.7040,2,  34.7040,2,   -999.0,5,   -999.0,5,   119.80,2,    33.90,3,     2.22,2,  0.3610
    09AR9309_1,  SR03,    54,  1,      6,    106,2,19930327,1404,-63.3452, 139.8367, 3815,   2402.2,   0.3590,  34.6980,2,  34.6920,2,   -999.0,5,   -999.0,5,   122.20,2,    34.20,3,     2.25,2,  0.2170
    09AR9309_1,  SR03,    54,  1,      5,    105,2,19930327,1404,-63.3452, 139.8367, 3815,   2701.7,   0.1670,  34.6920,2,  34.6900,2,   -999.0,5,   -999.0,5,   124.10,2,    34.10,3,     2.23,2,  0.0050
    09AR9309_1,  SR03,    54,  1,      4,    104,2,19930327,1404,-63.3452, 139.8367, 3815,   3005.1,   0.0400,  34.6880,2,  34.6890,2,   -999.0,5,   -999.0,5,   122.40,2,    33.90,3,     2.22,2, -0.1450
    09AR9309_1,  SR03,    54,  1,      3,    103,2,19930327,1404,-63.3452, 139.8367, 3815,   3303.9,  -0.0770,  34.6840,2,  34.6850,2,   -999.0,5,    226.8,2,  -999.00,5,  -999.00,5,  -999.00,5, -0.2850
    09AR9309_1,  SR03,    54,  1,      2,    102,2,19930327,1404,-63.3452, 139.8367, 3815,   3602.7,  -0.2060,  34.6810,2,  34.6810,2,   -999.0,5,   -999.0,5,  -999.00,5,  -999.00,5,  -999.00,5, -0.4380
    09AR9309_1,  SR03,    54,  1,      1,    101,2,19930327,1404,-63.3452, 139.8367, 3815,   3805.5,  -0.2700,  34.6780,2,  34.6770,2,   -999.0,5,    236.7,2,   104.50,2,    33.40,3,     2.20,2, -0.5200
    09AR9309_1,  SR03,    55,  1,     12,    112,2,19930327,1744,-63.3192, 139.8143, 3815,     10.3,   1.0980,  33.8590,4,  33.8470,2,   -999.0,5,    326.3,2,    24.30,2,    26.60,2,  -999.00,5,  1.0980
    09AR9309_1,  SR03,    55,  1,     11,    111,2,19930327,1744,-63.3192, 139.8143, 3815,     30.5,   1.0890,  33.8580,4,  33.8580,2,   -999.0,5,    321.5,2,    24.50,2,    26.60,2,     1.67,2,  1.0880
    09AR9309_1,  SR03,    55,  1,     10,    110,2,19930327,1744,-63.3192, 139.8143, 3815,     60.5,  -0.1940,  34.0400,4,  33.9670,2,   -999.0,5,    294.3,2,    39.60,2,    29.70,2,     2.04,2, -0.1960
    09AR9309_1,  SR03,    55,  1,      9,    109,2,19930327,1744,-63.3192, 139.8143, 3815,    102.3,   0.6080,  34.2840,4,  34.2890,2,   -999.0,5,    239.0,2,    56.30,2,    33.30,2,     2.28,2,  0.6040
    09AR9309_1,  SR03,    55,  1,      8,    108,2,19930327,1744,-63.3192, 139.8143, 3815,    126.6,   1.0990,  34.3710,4,-999.0000,9,   -999.0,5,    215.8,2,    61.20,2,    34.00,2,     2.35,2,  1.0940
    09AR9309_1,  SR03,    55,  1,      7,    107,2,19930327,1744,-63.3192, 139.8143, 3815,    152.7,   1.7050,  34.4860,4,  34.4790,4,   -999.0,5,    186.4,2,    67.20,2,    34.70,2,     2.40,2,  1.6980
    09AR9309_1,  SR03,    55,  1,      6,    106,2,19930327,1744,-63.3192, 139.8143, 3815,    201.9,   1.9900,  34.5720,4,  34.6450,4,   -999.0,5,    172.2,2,  -999.00,9,  -999.00,9,  -999.00,9,  1.9800
    09AR9309_1,  SR03,    55,  1,      5,    105,2,19930327,1744,-63.3192, 139.8143, 3815,    300.6,   1.9980,  34.6510,4,  34.6520,2,   -999.0,5,    171.0,2,    76.40,2,    33.60,2,     2.28,2,  1.9820
    09AR9309_1,  SR03,    55,  1,      4,    104,2,19930327,1744,-63.3192, 139.8143, 3815,    399.4,   1.9450,  34.6870,4,  34.6940,2,   -999.0,5,    175.6,2,    79.10,2,    32.90,2,     2.25,2,  1.9240
    09AR9309_1,  SR03,    55,  1,      3,    103,2,19930327,1744,-63.3192, 139.8143, 3815,    600.3,   1.8760,  34.7340,4,  34.7390,2,   -999.0,5,    183.6,2,    80.50,2,    31.20,2,     2.14,2,  1.8430
    09AR9309_1,  SR03,    55,  1,      2,    102,2,19930327,1744,-63.3192, 139.8143, 3815,    800.6,   1.6910,  34.7460,4,  34.7570,2,   -999.0,5,    191.5,2,    86.40,2,    30.80,2,     2.12,2,  1.6460
    09AR9309_1,  SR03,    55,  1,      1,    101,2,19930327,1744,-63.3192, 139.8143, 3815,   1006.8,   1.5200,  34.7420,4,  34.7540,2,   -999.0,5,   -999.0,5,    91.20,2,    31.00,2,     2.11,2,  1.4630
    09AR9309_1,  SR03,    56,  1,     12,    112,2,19930327,2306,-63.8293, 139.8902, 3750,   1199.3,   1.1890,  34.7370,2,  34.7380,2,   -999.0,5,    196.2,2,   103.40,2,    30.50,2,  -999.00,5,  1.1230
    09AR9309_1,  SR03,    56,  1,     11,    111,2,19930327,2306,-63.8293, 139.8902, 3750,   1397.4,   0.9760,  34.7260,2,  34.7300,2,   -999.0,5,    198.6,2,   102.50,2,    30.80,2,     2.11,2,  0.8990
    09AR9309_1,  SR03,    56,  1,     10,    110,2,19930327,2306,-63.8293, 139.8902, 3750,   1597.2,   0.8240,  34.7180,2,  34.7210,2,   -999.0,5,    202.6,2,   106.10,2,    31.10,2,     2.15,2,  0.7350
    09AR9309_1,  SR03,    56,  1,      9,    109,2,19930327,2306,-63.8293, 139.8902, 3750,   1800.9,   0.6300,  34.7080,2,  34.7100,2,   -999.0,5,    204.7,2,  -999.00,5,    31.30,2,     2.19,2,  0.5290
    09AR9309_1,  SR03,    56,  1,      8,    108,2,19930327,2306,-63.8293, 139.8902, 3750,   2002.4,   0.4820,  34.7020,2,  34.6980,2,   -999.0,5,    207.5,2,   120.60,2,    31.50,2,     2.19,2,  0.3690
    09AR9309_1,  SR03,    56,  1,      7,    107,2,19930327,2306,-63.8293, 139.8902, 3750,   2199.0,   0.3690,  34.6970,2,  34.6940,2,   -999.0,5,    210.7,2,   114.50,2,    31.40,2,     2.20,2,  0.2430
    09AR9309_1,  SR03,    56,  1,      6,    106,2,19930327,2306,-63.8293, 139.8902, 3750,   2503.2,   0.1950,  34.6900,2,  34.6870,2,   -999.0,5,    216.6,2,  -999.00,5,  -999.00,5,  -999.00,5,  0.0480
    09AR9309_1,  SR03,    56,  1,      5,    105,2,19930327,2306,-63.8293, 139.8902, 3750,   2803.4,   0.0540,  34.6840,2,  34.6820,2,   -999.0,5,    222.3,2,   109.10,2,    31.20,2,     2.18,2, -0.1140
    09AR9309_1,  SR03,    56,  1,      4,    104,2,19930327,2306,-63.8293, 139.8902, 3750,   3105.2,  -0.0760,  34.6820,2,  34.6820,2,   -999.0,5,    228.4,2,   105.10,2,    31.10,2,     2.16,2, -0.2670
    09AR9309_1,  SR03,    56,  1,      3,    103,2,19930327,2306,-63.8293, 139.8902, 3750,   3404.9,  -0.1810,  34.6770,2,  34.6770,2,   -999.0,5,    232.3,2,  -999.00,5,  -999.00,5,  -999.00,5, -0.3960
    09AR9309_1,  SR03,    56,  1,      2,    102,2,19930327,2306,-63.8293, 139.8902, 3750,   3660.5,  -0.1860,  34.6900,2,  34.6890,2,   -999.0,5,    237.4,2,   101.70,2,    30.90,2,     2.16,2, -0.4240
    09AR9309_1,  SR03,    56,  1,      1,    101,2,19930327,2306,-63.8293, 139.8902, 3750,   3764.9,  -0.3060,  34.6710,2,  34.6710,2,   -999.0,5,   -999.0,9,    97.50,2,    30.70,2,     2.14,2, -0.5510
    09AR9309_1,  SR03,    57,  1,     12,    112,2,19930328,0144,-63.7793, 139.9090, 3750,     11.6,   1.1840,  33.8180,2,  33.8160,2,   -999.0,5,    326.8,2,    27.60,2,    25.90,2,  -999.00,5,  1.1840
    09AR9309_1,  SR03,    57,  1,     11,    111,2,19930328,0144,-63.7793, 139.9090, 3750,     21.7,   1.1680,  33.8180,2,  33.8180,2,   -999.0,5,    327.2,2,    27.50,2,    26.00,2,     1.65,2,  1.1670
    09AR9309_1,  SR03,    57,  1,     10,    110,2,19930328,0144,-63.7793, 139.9090, 3750,     66.9,  -0.1740,  34.1900,2,  34.1920,2,   -999.0,5,    282.1,2,    55.30,2,    30.50,2,     2.11,2, -0.1760
    09AR9309_1,  SR03,    57,  1,      9,    109,2,19930328,0144,-63.7793, 139.9090, 3750,    101.4,   0.9390,  34.4350,2,  34.4350,2,   -999.0,5,    208.2,2,    68.80,2,    33.70,2,     2.35,2,  0.9350
    09AR9309_1,  SR03,    57,  1,      8,    108,2,19930328,0144,-63.7793, 139.9090, 3750,    151.5,   1.3470,  34.5430,2,  34.5440,2,   -999.0,5,    188.9,2,    72.70,2,    34.00,2,     2.39,2,  1.3400
    09AR9309_1,  SR03,    57,  1,      7,    107,2,19930328,0144,-63.7793, 139.9090, 3750,    201.8,   1.7790,  34.6280,2,  34.6300,2,   -999.0,5,    171.8,2,    79.70,2,    33.70,2,     2.36,2,  1.7690
    09AR9309_1,  SR03,    57,  1,      6,    106,2,19930328,0144,-63.7793, 139.9090, 3750,    300.7,   1.8180,  34.6770,2,  34.6770,2,   -999.0,5,    176.2,2,    78.80,2,    32.60,2,     2.28,2,  1.8020
    09AR9309_1,  SR03,    57,  1,      5,    105,2,19930328,0144,-63.7793, 139.9090, 3750,    399.2,   1.7010,  34.6960,2,  34.6990,2,   -999.0,5,    182.2,2,    80.10,2,    31.90,2,     2.21,2,  1.6800
    09AR9309_1,  SR03,    57,  1,      4,    104,2,19930328,0144,-63.7793, 139.9090, 3750,    500.4,   1.6310,  34.7120,2,  34.7130,2,   -999.0,5,    185.2,2,    80.90,2,    31.20,2,     2.16,2,  1.6050
    09AR9309_1,  SR03,    57,  1,      3,    103,2,19930328,0144,-63.7793, 139.9090, 3750,    601.2,   1.6430,  34.7320,2,  34.7310,2,   -999.0,5,    187.8,2,    83.50,2,    31.00,2,     2.13,2,  1.6110
    09AR9309_1,  SR03,    57,  1,      2,    102,2,19930328,0144,-63.7793, 139.9090, 3750,    798.1,   1.5190,  34.7440,2,  34.7450,2,   -999.0,5,    192.8,2,    93.90,2,    30.40,2,     2.09,2,  1.4760
    09AR9309_1,  SR03,    57,  1,      1,    101,2,19930328,0144,-63.7793, 139.9090, 3750,   1000.8,   1.3090,  34.7420,2,  34.7390,2,   -999.0,5,    196.2,2,  -999.00,5,  -999.00,5,  -999.00,5,  1.2540