BOTTLE,20030917WHPSIODMB
EXPOCODE,SECT_ID,STNNBR,CASTNO,SAMPNO,BTLNBR,BTLNBR_FLAG_W,DATE,TIME,LATITUDE,LONGITUDE,DEPTH,CTDPRS,CTDTMP,CTDSAL,CTDSAL_FLAG_W,SALNTY,SALNTY_FLAG_W,CTDOXY,CTDOXY_FLAG_W,OXYGEN,OXYGEN_FLAG_W,SILCAT,SILCAT_FLAG_W,NO2+NO3,NO2+NO3_FLAG_W,PHSPHT,PHSPHT_FLAG_W,THETA
,,,,,,,,,,,,DBAR,DEG C,PSS-78,,PSS-78,,UMOL/KG,,UMOL/KG,,UMOL/KG,,UMOL/KG,,UMOL/KG,,DEG C
    09AR9309_1,  SR03,    25,  1,     24,     27,2,19930318,2155,-54.0623, 141.6068, 2600,      9.9,   5.1710,  33.7660,2,  33.7700,2,    307.7,2,    298.1,2,     1.20,2,    24.10,2,  -999.00,5,  5.1710
    09AR9309_1,  SR03,    25,  1,     23,     23,2,19930318,2155,-54.0623, 141.6068, 2600,     18.2,   5.1700,  33.7680,2,  33.7690,2,    297.6,2,    299.4,2,     1.20,2,    24.00,2,     1.58,2,  5.1700
    09AR9309_1,  SR03,    25,  1,     22,     22,2,19930318,2155,-54.0623, 141.6068, 2600,     50.3,   5.1570,  33.7670,2,  33.7690,2,    300.1,2,    298.1,2,     1.60,2,    23.90,2,     1.57,2,  5.1540
    09AR9309_1,  SR03,    25,  1,     21,     21,2,19930318,2155,-54.0623, 141.6068, 2600,     97.0,   1.4960,  33.8960,4,  33.9050,2,    317.8,2,    315.2,2,    14.20,2,    27.30,2,  -999.00,5,  1.4920
    09AR9309_1,  SR03,    25,  1,     20,     20,2,19930318,2155,-54.0623, 141.6068, 2600,    148.3,   1.0650,  33.9650,3,  33.9540,2,    303.5,2,    304.0,2,    23.30,2,    29.40,2,     2.02,2,  1.0590
    09AR9309_1,  SR03,    25,  1,     19,     19,2,19930318,2155,-54.0623, 141.6068, 2600,    172.2,   1.0040,  34.0240,4,  34.0160,2,    291.7,2,    292.6,2,    29.00,2,    30.70,2,     2.08,2,  0.9970
    09AR9309_1,  SR03,    25,  1,     18,     18,2,19930318,2155,-54.0623, 141.6068, 2600,    195.5,   1.7020,  34.1760,4,  34.1510,2,    249.0,2,    247.8,2,    38.00,2,    32.70,2,     2.22,2,  1.6930
    09AR9309_1,  SR03,    25,  1,     17,     17,2,19930318,2155,-54.0623, 141.6068, 2600,    296.8,   2.1290,  34.3340,2,  34.3340,2,    199.8,2,    200.1,2,    53.20,2,    34.80,2,     2.38,2,  2.1130
    09AR9309_1,  SR03,    25,  1,     16,     16,2,19930318,2155,-54.0623, 141.6068, 2600,    396.4,   2.1970,  34.4400,2,  34.4400,2,    177.3,2,    179.8,2,    62.70,2,    35.20,2,     2.42,2,  2.1750
    09AR9309_1,  SR03,    25,  1,     15,     15,2,19930318,2155,-54.0623, 141.6068, 2600,    497.3,   2.3120,  34.5380,2,  34.5340,2,    168.3,2,    168.9,2,    68.30,2,    34.90,2,     2.39,2,  2.2830
    09AR9309_1,  SR03,    25,  1,     14,     14,2,19930318,2155,-54.0623, 141.6068, 2600,    595.2,   2.2830,  34.5890,2,  34.5920,2,    166.9,2,    167.1,2,    72.30,2,    34.40,2,     2.37,2,  2.2480
    09AR9309_1,  SR03,    25,  1,     13,     13,2,19930318,2155,-54.0623, 141.6068, 2600,    696.4,   2.2750,  34.6370,2,  34.6350,2,    170.4,2,    168.6,2,    74.40,2,    34.00,2,     2.32,2,  2.2340
    09AR9309_1,  SR03,    25,  1,     12,     12,2,19930318,2155,-54.0623, 141.6068, 2600,    791.3,   2.2320,  34.6670,2,  34.6670,2,    169.1,2,    168.9,2,    75.30,2,    32.80,2,  -999.00,5,  2.1850
    09AR9309_1,  SR03,    25,  1,     11,     11,2,19930318,2155,-54.0623, 141.6068, 2600,    892.5,   2.1630,  34.6880,2,  34.6890,2,    169.3,2,   -999.0,5,    77.00,2,    32.50,2,     2.24,2,  2.1090
    09AR9309_1,  SR03,    25,  1,     10,     10,2,19930318,2155,-54.0623, 141.6068, 2600,    994.5,   2.1070,  34.7100,2,  34.7120,2,    176.4,2,    175.1,2,    78.30,2,    31.70,2,     2.20,2,  2.0470
    09AR9309_1,  SR03,    25,  1,      9,     26,2,19930318,2155,-54.0623, 141.6068, 2600,   1093.1,   2.0560,  34.7270,2,  34.7270,2,    179.3,2,    177.6,2,    79.60,2,    31.40,2,     2.17,2,  1.9890
    09AR9309_1,  SR03,    25,  1,      8,      8,2,19930318,2155,-54.0623, 141.6068, 2600,   1193.2,   2.0150,  34.7410,2,  34.7410,2,    182.7,2,    183.0,2,    79.30,2,    30.60,2,     2.12,2,  1.9410
    09AR9309_1,  SR03,    25,  1,      7,      7,2,19930318,2155,-54.0623, 141.6068, 2600,   1293.4,   1.9530,  34.7470,2,  34.7450,2,    186.9,2,    184.8,2,    81.80,2,    30.60,2,     2.12,2,  1.8730
    09AR9309_1,  SR03,    25,  1,      6,      6,2,19930318,2155,-54.0623, 141.6068, 2600,   1493.1,   1.7960,  34.7530,2,  34.7530,2,    189.0,2,    188.9,2,    86.40,2,    30.30,2,     2.12,2,  1.7030
    09AR9309_1,  SR03,    25,  1,      5,     25,2,19930318,2155,-54.0623, 141.6068, 2600,   1688.4,   1.6470,  34.7510,2,  34.7520,2,    192.1,2,    191.1,2,    90.50,2,    30.40,2,     2.13,2,  1.5410
    09AR9309_1,  SR03,    25,  1,      4,      4,2,19930318,2155,-54.0623, 141.6068, 2600,   1892.0,   1.4270,  34.7450,2,  34.7450,2,    192.0,2,    192.3,2,    96.70,2,    30.80,2,     2.14,2,  1.3080
    09AR9309_1,  SR03,    25,  1,      3,      3,2,19930318,2155,-54.0623, 141.6068, 2600,   2091.9,   1.2250,  34.7360,2,  34.7370,2,    193.9,2,    194.7,2,   102.30,2,    31.00,2,     2.17,2,  1.0930
    09AR9309_1,  SR03,    25,  1,      2,      2,2,19930318,2155,-54.0623, 141.6068, 2600,   2294.8,   1.0880,  34.7300,2,  34.7310,2,    196.8,2,    197.4,2,   106.80,2,    31.60,2,     2.20,2,  0.9420
    09AR9309_1,  SR03,    25,  1,      1,      1,2,19930318,2155,-54.0623, 141.6068, 2600,   2655.6,   0.7910,  34.7150,2,  34.7160,2,    201.1,2,    201.1,2,   116.50,2,    32.00,2,     2.23,2,  0.6200
    09AR9309_1,  SR03,    26,  1,     24,     27,2,19930319,0440,-54.5245, 141.3332, 2850,     10.9,   4.9480,  33.7760,2,  33.7780,2,    361.6,2,    301.4,2,     2.20,2,    23.40,2,  -999.00,5,  4.9480
    09AR9309_1,  SR03,    26,  1,     23,     23,2,19930319,0440,-54.5245, 141.3332, 2850,     22.8,   4.9430,  33.7780,2,  33.7770,2,    324.7,2,   -999.0,5,     1.20,2,    23.40,2,     1.59,2,  4.9420
    09AR9309_1,  SR03,    26,  1,     22,     22,2,19930319,0440,-54.5245, 141.3332, 2850,     50.0,   4.9350,  33.7760,3,  33.7770,2,    299.6,2,    299.4,2,     1.10,2,    23.40,2,     1.58,2,  4.9320
    09AR9309_1,  SR03,    26,  1,     21,     21,2,19930319,0440,-54.5245, 141.3332, 2850,    108.4,   1.2350,  33.9290,3,  33.9270,2,    322.9,2,    315.7,2,    15.90,2,    27.20,2,  -999.00,5,  1.2300
    09AR9309_1,  SR03,    26,  1,     20,     20,2,19930319,0440,-54.5245, 141.3332, 2850,    161.8,   1.0280,  34.0250,2,  34.0230,2,    290.1,2,    289.3,2,    27.60,2,    29.90,2,     2.09,2,  1.0210
    09AR9309_1,  SR03,    26,  1,     19,     19,2,19930319,0440,-54.5245, 141.3332, 2850,    249.6,   2.0130,  34.3100,2,  34.3130,2,    203.3,2,    204.7,2,    47.50,2,    33.90,2,     2.38,2,  2.0000
    09AR9309_1,  SR03,    26,  1,     18,     18,2,19930319,0440,-54.5245, 141.3332, 2850,    297.8,   2.0790,  34.3730,2,  34.3740,2,    187.6,2,   -999.0,5,    52.70,2,    34.50,2,     2.44,2,  2.0630
    09AR9309_1,  SR03,    26,  1,     17,     17,2,19930319,0440,-54.5245, 141.3332, 2850,    400.3,   2.2330,  34.4830,3,  34.4810,2,    169.6,2,    177.6,2,    60.10,2,    34.50,2,     2.43,2,  2.2110
    09AR9309_1,  SR03,    26,  1,     16,     16,2,19930319,0440,-54.5245, 141.3332, 2850,    495.7,   2.3080,  34.5550,2,  34.5550,2,    165.2,2,    168.0,2,    65.10,2,    34.20,2,     2.40,2,  2.2800
    09AR9309_1,  SR03,    26,  1,     15,     15,2,19930319,0440,-54.5245, 141.3332, 2850,    598.9,   2.2910,  34.6110,2,  34.6090,2,    167.2,2,   -999.0,5,    68.00,2,    33.40,2,     2.35,2,  2.2560
    09AR9309_1,  SR03,    26,  1,     14,     14,2,19930319,0440,-54.5245, 141.3332, 2850,    695.7,   2.2500,  34.6470,2,  34.6470,2,    170.1,2,    169.5,2,    70.00,2,    32.90,2,     2.30,2,  2.2090
    09AR9309_1,  SR03,    26,  1,     13,     13,2,19930319,0440,-54.5245, 141.3332, 2850,    795.5,   2.1870,  34.6800,2,  34.6770,2,    169.6,2,    171.5,2,    72.30,2,    32.40,2,     2.27,2,  2.1400
    09AR9309_1,  SR03,    26,  1,     12,     12,2,19930319,0440,-54.5245, 141.3332, 2850,    898.1,   2.1450,  34.7000,2,  34.6990,2,    174.2,2,    173.1,2,    72.20,2,    31.90,2,  -999.00,5,  2.0910
    09AR9309_1,  SR03,    26,  1,     11,     11,2,19930319,0440,-54.5245, 141.3332, 2850,    993.8,   2.0920,  34.7140,2,  34.7160,2,    176.7,2,    177.0,2,    73.00,2,    31.60,2,     2.19,2,  2.0320
    09AR9309_1,  SR03,    26,  1,     10,     10,2,19930319,0440,-54.5245, 141.3332, 2850,   1194.9,   1.9730,  34.7410,2,  34.7400,2,    183.5,2,   -999.0,5,    75.20,2,    30.70,2,     2.15,2,  1.9000
    09AR9309_1,  SR03,    26,  1,      9,     26,2,19930319,0440,-54.5245, 141.3332, 2850,   1393.1,   1.8390,  34.7510,2,  34.7510,2,    188.3,2,    185.9,2,    78.30,2,    30.30,2,     2.12,2,  1.7530
    09AR9309_1,  SR03,    26,  1,      8,      8,2,19930319,0440,-54.5245, 141.3332, 2850,   1494.3,   1.7540,  34.7520,2,  34.7520,2,    188.9,2,   -999.0,5,    81.30,2,    30.30,2,     2.12,2,  1.6610
    09AR9309_1,  SR03,    26,  1,      7,      7,2,19930319,0440,-54.5245, 141.3332, 2850,   1592.3,   1.6580,  34.7520,2,  34.7510,2,    193.2,2,    190.3,2,    83.10,2,    30.30,2,     2.12,2,  1.5590
    09AR9309_1,  SR03,    26,  1,      6,      6,2,19930319,0440,-54.5245, 141.3332, 2850,   1796.1,   1.4640,  34.7460,2,  34.7470,2,    192.6,2,    193.4,2,    87.60,2,    30.60,2,     2.14,2,  1.3520
    09AR9309_1,  SR03,    26,  1,      5,     25,2,19930319,0440,-54.5245, 141.3332, 2850,   1999.0,   1.3170,  34.7400,2,  34.7410,2,    195.6,2,    194.7,2,    91.30,2,    30.80,2,     2.15,2,  1.1910
    09AR9309_1,  SR03,    26,  1,      4,      4,2,19930319,0440,-54.5245, 141.3332, 2850,   2197.9,   1.1400,  34.7320,2,  34.7320,2,    194.9,2,    196.1,2,    97.50,2,    31.10,2,     2.18,2,  1.0010
    09AR9309_1,  SR03,    26,  1,      3,      3,2,19930319,0440,-54.5245, 141.3332, 2850,   2499.0,   0.8660,  34.7180,2,  34.7180,2,    197.9,2,    200.0,2,   104.60,2,    31.60,2,     2.22,2,  0.7070
    09AR9309_1,  SR03,    26,  1,      2,      2,2,19930319,0440,-54.5245, 141.3332, 2850,   2690.1,   0.7320,  34.7120,2,  34.7120,2,    200.8,2,    202.2,2,   109.20,2,    31.70,2,     2.22,2,  0.5590
    09AR9309_1,  SR03,    26,  1,      1,      1,2,19930319,0440,-54.5245, 141.3332, 2850,   2838.6,   0.6700,  34.7100,2,  34.7090,2,    203.8,2,    204.2,2,   112.90,2,    31.80,2,     2.23,2,  0.4860
    09AR9309_1,  SR03,    27,  1,     24,     27,2,19930319,1058,-55.0173, 141.0107, 3270,     10.9,   4.9200,  33.7780,2,  33.7770,2,    343.2,2,    300.1,2,     1.50,2,    23.50,2,  -999.00,5,  4.9200
    09AR9309_1,  SR03,    27,  1,     23,     23,2,19930319,1058,-55.0173, 141.0107, 3270,     21.4,   4.9200,  33.7770,2,  33.7770,2,    303.2,2,    300.0,2,     1.40,2,    23.40,2,     1.58,2,  4.9200
    09AR9309_1,  SR03,    27,  1,     22,     22,2,19930319,1058,-55.0173, 141.0107, 3270,     48.5,   4.9180,  33.7770,2,  33.7760,2,    297.5,2,    300.9,2,     1.50,2,    23.50,2,     1.58,2,  4.9160
    09AR9309_1,  SR03,    27,  1,     21,     21,2,19930319,1058,-55.0173, 141.0107, 3270,    100.4,   1.5440,  33.9140,4,  33.9180,2,    337.6,2,    320.2,2,    11.00,2,    26.60,2,  -999.00,5,  1.5400
    09AR9309_1,  SR03,    27,  1,     20,     20,2,19930319,1058,-55.0173, 141.0107, 3270,    149.0,   1.1080,  33.9570,2,  33.9590,2,    292.8,2,    305.2,2,    22.10,2,    28.90,2,     2.01,2,  1.1020
    09AR9309_1,  SR03,    27,  1,     19,     19,2,19930319,1058,-55.0173, 141.0107, 3270,    230.0,   1.5380,  34.1930,3,  34.1900,2,    241.5,2,    241.6,2,    40.20,2,    32.60,2,     2.26,2,  1.5270
    09AR9309_1,  SR03,    27,  1,     18,     18,2,19930319,1058,-55.0173, 141.0107, 3270,    286.5,   2.1140,  34.3370,2,  34.3340,2,    201.8,2,    201.4,2,    50.50,2,    34.30,2,     2.38,2,  2.0990
    09AR9309_1,  SR03,    27,  1,     17,     17,2,19930319,1058,-55.0173, 141.0107, 3270,    395.9,   2.2050,  34.4510,2,  34.4510,2,    178.1,2,    178.5,2,    59.80,2,    34.60,2,     2.43,2,  2.1830
    09AR9309_1,  SR03,    27,  1,     16,     16,2,19930319,1058,-55.0173, 141.0107, 3270,    494.5,   2.2980,  34.5360,2,  34.5360,2,    164.3,2,    169.8,2,    65.10,2,    34.30,2,     2.41,2,  2.2700
    09AR9309_1,  SR03,    27,  1,     15,     15,2,19930319,1058,-55.0173, 141.0107, 3270,    596.0,   2.3100,  34.5900,2,  34.5920,2,    168.5,2,    167.4,2,    67.90,2,    33.80,2,     2.37,2,  2.2750
    09AR9309_1,  SR03,    27,  1,     14,     14,2,19930319,1058,-55.0173, 141.0107, 3270,    693.6,   2.2720,  34.6330,2,  34.6340,2,    169.4,2,    168.9,2,    69.60,2,    33.20,2,     2.31,2,  2.2310
    09AR9309_1,  SR03,    27,  1,     13,     13,2,19930319,1058,-55.0173, 141.0107, 3270,    792.3,   2.2170,  34.6650,2,  34.6650,2,    168.7,2,    170.4,2,  -999.00,5,  -999.00,5,  -999.00,5,  2.1700
    09AR9309_1,  SR03,    27,  1,     12,     12,2,19930319,1058,-55.0173, 141.0107, 3270,    896.7,   2.1940,  34.6930,2,  34.6930,2,    176.8,2,    174.0,2,    71.20,2,    32.00,2,  -999.00,5,  2.1400
    09AR9309_1,  SR03,    27,  1,     11,     11,2,19930319,1058,-55.0173, 141.0107, 3270,    993.0,   2.1270,  34.7110,2,  34.7110,2,    178.5,2,    176.4,2,    73.10,2,    31.60,2,     2.19,2,  2.0670
    09AR9309_1,  SR03,    27,  1,     10,     10,2,19930319,1058,-55.0173, 141.0107, 3270,   1191.8,   2.0090,  34.7360,2,  34.7370,2,    181.8,2,    180.9,2,    75.60,2,    31.00,2,     2.15,2,  1.9360
    09AR9309_1,  SR03,    27,  1,      9,     26,2,19930319,1058,-55.0173, 141.0107, 3270,   1395.7,   1.8760,  34.7520,2,  34.7520,2,    188.7,2,    187.5,2,    79.00,2,    30.40,2,     2.11,2,  1.7890
    09AR9309_1,  SR03,    27,  1,      8,      8,2,19930319,1058,-55.0173, 141.0107, 3270,   1590.2,   1.7030,  34.7540,2,  34.7550,2,    190.3,2,    191.4,2,    83.20,2,    30.50,2,     2.11,2,  1.6030
    09AR9309_1,  SR03,    27,  1,      7,      7,2,19930319,1058,-55.0173, 141.0107, 3270,   1794.8,   1.5200,  34.7490,2,  34.7500,2,    192.6,2,    192.3,2,    88.40,2,    30.50,2,     2.12,2,  1.4070
    09AR9309_1,  SR03,    27,  1,      6,      6,2,19930319,1058,-55.0173, 141.0107, 3270,   1993.7,   1.3430,  34.7430,2,  34.7430,2,    196.8,2,   -999.0,5,    92.50,2,    30.90,2,     2.14,2,  1.2170
    09AR9309_1,  SR03,    27,  1,      5,     25,2,19930319,1058,-55.0173, 141.0107, 3270,   2192.4,   1.1790,  34.7340,3,  34.7360,2,    195.4,2,   -999.0,5,    97.30,2,    31.10,2,     2.17,2,  1.0400
    09AR9309_1,  SR03,    27,  1,      4,      4,2,19930319,1058,-55.0173, 141.0107, 3270,   2494.1,   0.9300,  34.7220,2,  34.7230,2,    198.9,2,   -999.0,5,   103.90,2,    31.50,2,     2.20,2,  0.7700
    09AR9309_1,  SR03,    27,  1,      3,      3,2,19930319,1058,-55.0173, 141.0107, 3270,   2795.8,   0.6870,  34.7100,2,  34.7130,2,    204.4,2,    205.2,2,   110.60,2,    31.80,2,     2.22,2,  0.5060
    09AR9309_1,  SR03,    27,  1,      2,      2,2,19930319,1058,-55.0173, 141.0107, 3270,   3097.4,   0.5470,  34.7040,2,  34.7070,2,    207.0,2,    207.8,2,   118.00,2,    32.10,2,     2.24,2,  0.3430
    09AR9309_1,  SR03,    27,  1,      1,      1,2,19930319,1058,-55.0173, 141.0107, 3270,   3331.2,   0.5530,  34.7030,2,  34.7060,2,    207.9,2,   -999.0,5,   118.10,2,    32.00,2,     2.23,2,  0.3270
    09AR9309_1,  SR03,    28,  1,     24,     27,2,19930320,0701,-55.4917, 140.7098, 4200,     10.2,   4.8060,  33.7870,2,  33.7880,2,    404.8,2,   -999.0,5,     1.20,2,    23.60,2,  -999.00,5,  4.8060
    09AR9309_1,  SR03,    28,  1,     23,     23,2,19930320,0701,-55.4917, 140.7098, 4200,     22.2,   4.8020,  33.7870,2,  33.7870,2,    303.2,2,    301.1,2,     1.10,2,    23.60,2,     1.46,2,  4.8020
    09AR9309_1,  SR03,    28,  1,     22,     22,2,19930320,0701,-55.4917, 140.7098, 4200,     50.7,   4.7980,  33.7880,2,  33.7870,2,    302.4,2,    303.4,2,     1.20,2,    23.70,2,     1.49,2,  4.7950
    09AR9309_1,  SR03,    28,  1,     21,     21,2,19930320,0701,-55.4917, 140.7098, 4200,    149.7,   1.4200,  33.9640,4,  33.9680,2,    302.8,2,    318.9,2,    20.70,2,    29.30,2,  -999.00,9,  1.4130
    09AR9309_1,  SR03,    28,  1,     20,     20,2,19930320,0701,-55.4917, 140.7098, 4200,    218.2,   2.2600,  34.1980,2,  34.2000,2,    236.2,2,    238.0,2,    35.20,2,    32.70,2,     2.15,2,  2.2490
    09AR9309_1,  SR03,    28,  1,     19,     19,2,19930320,0701,-55.4917, 140.7098, 4200,    295.7,   2.1550,  34.2900,3,  34.2840,2,    213.1,2,    212.5,2,    44.60,2,    33.90,2,     2.19,2,  2.1390
    09AR9309_1,  SR03,    28,  1,     18,     18,2,19930320,0701,-55.4917, 140.7098, 4200,    394.7,   2.2420,  34.3920,2,  34.3900,2,    190.5,2,   -999.0,5,    52.90,2,    34.70,2,     2.25,2,  2.2200
    09AR9309_1,  SR03,    28,  1,     17,     17,2,19930320,0701,-55.4917, 140.7098, 4200,    501.8,   2.3110,  34.4810,2,  34.4800,2,    173.4,2,    177.3,2,    60.50,2,    34.80,2,     2.32,2,  2.2820
    09AR9309_1,  SR03,    28,  1,     16,     16,2,19930320,0701,-55.4917, 140.7098, 4200,    596.9,   2.3330,  34.5550,2,  34.5540,2,    168.3,2,    170.1,2,    68.40,2,    34.70,2,     2.31,2,  2.2980
    09AR9309_1,  SR03,    28,  1,     15,     15,2,19930320,0701,-55.4917, 140.7098, 4200,    744.0,   2.3120,  34.6300,2,  34.6280,2,    171.2,2,    169.4,2,    74.50,2,    33.70,2,     2.22,2,  2.2670
    09AR9309_1,  SR03,    28,  1,     14,     14,2,19930320,0701,-55.4917, 140.7098, 4200,    892.9,   2.2640,  34.6840,2,  34.6840,2,    173.3,2,    174.0,2,    78.20,2,    32.50,2,     2.15,2,  2.2100
    09AR9309_1,  SR03,    28,  1,     13,     13,2,19930320,0701,-55.4917, 140.7098, 4200,   1094.6,   2.1680,  34.7230,2,  34.7210,2,    183.9,2,    180.3,2,    83.00,2,    31.20,2,     2.06,2,  2.1000
    09AR9309_1,  SR03,    28,  1,     12,     12,2,19930320,0701,-55.4917, 140.7098, 4200,   1290.5,   2.0480,  34.7450,2,  34.7440,2,    187.0,2,    184.8,2,  -999.00,5,    31.10,2,  -999.00,5,  1.9670
    09AR9309_1,  SR03,    28,  1,     11,     11,2,19930320,0701,-55.4917, 140.7098, 4200,   1497.7,   1.8970,  34.7550,2,  34.7540,2,    190.5,2,    188.9,2,  -999.00,5,    30.80,2,     2.01,2,  1.8020
    09AR9309_1,  SR03,    28,  1,     10,     10,2,19930320,0701,-55.4917, 140.7098, 4200,   1692.9,   1.7290,  34.7560,2,  34.7540,2,    192.1,2,    192.3,2,  -999.00,5,    30.80,2,     2.01,2,  1.6210
    09AR9309_1,  SR03,    28,  1,      9,     26,2,19930320,0701,-55.4917, 140.7098, 4200,   1893.2,   1.5470,  34.7500,2,  34.7500,2,    192.9,2,    193.8,2,  -999.00,5,    31.40,2,     2.03,2,  1.4260
    09AR9309_1,  SR03,    28,  1,      8,      8,2,19930320,0701,-55.4917, 140.7098, 4200,   2094.5,   1.3730,  34.7440,2,  34.7440,2,    196.9,2,    196.1,2,  -999.00,5,    31.60,2,     2.03,2,  1.2380
    09AR9309_1,  SR03,    28,  1,      7,      7,2,19930320,0701,-55.4917, 140.7098, 4200,   2297.4,   1.1980,  34.7360,2,  34.7370,2,    194.7,2,    197.0,2,  -999.00,9,    32.00,2,     2.07,2,  1.0500
    09AR9309_1,  SR03,    28,  1,      6,      6,2,19930320,0701,-55.4917, 140.7098, 4200,   2594.4,   0.9400,  34.7230,2,  34.7220,2,    202.0,2,   -999.0,5,  -999.00,9,    32.50,2,     2.12,2,  0.7710
    09AR9309_1,  SR03,    28,  1,      5,     25,2,19930320,0701,-55.4917, 140.7098, 4200,   2896.0,   0.7210,  34.7120,2,  34.7120,2,    207.0,2,   -999.0,5,  -999.00,9,    32.70,2,     2.15,2,  0.5310
    09AR9309_1,  SR03,    28,  1,      4,      4,2,19930320,0701,-55.4917, 140.7098, 4200,   3198.4,   0.5770,  34.7040,2,  34.7050,2,    208.3,2,   -999.0,5,  -999.00,9,    32.70,2,     2.14,2,  0.3630
    09AR9309_1,  SR03,    28,  1,      3,      3,2,19930320,0701,-55.4917, 140.7098, 4200,   3503.8,   0.4980,  34.7000,2,  34.7020,2,    209.2,2,    208.5,2,  -999.00,9,    32.90,2,     2.18,2,  0.2570
    09AR9309_1,  SR03,    28,  1,      2,      2,2,19930320,0701,-55.4917, 140.7098, 4200,   3810.4,   0.4280,  34.6980,2,  34.6980,2,    209.6,2,    210.0,2,  -999.00,9,    32.90,2,     2.18,2,  0.1590
    09AR9309_1,  SR03,    28,  1,      1,      1,2,19930320,0701,-55.4917, 140.7098, 4200,   4262.4,   0.4020,  34.6950,2,  34.6950,2,    212.4,2,    213.3,2,  -999.00,9,    33.10,2,  -999.00,9,  0.0870