BOTTLE,20030917WHPSIODMB
#code : jjward hyd_to_exchange.pl 
#original files copied from HTML directory: 20030916
#original HYD file: sr03_bhy.txt   Wed Sep 17 10:26:54 2003
#original SUM file: sr03_bsu.txt   Wed Sep 17 11:01:43 2003
EXPOCODE,SECT_ID,STNNBR,CASTNO,SAMPNO,BTLNBR,BTLNBR_FLAG_W,DATE,TIME,LATITUDE,LONGITUDE,DEPTH,CTDPRS,CTDTMP,CTDSAL,CTDSAL_FLAG_W,SALNTY,SALNTY_FLAG_W,CTDOXY,CTDOXY_FLAG_W,OXYGEN,OXYGEN_FLAG_W,SILCAT,SILCAT_FLAG_W,NO2+NO3,NO2+NO3_FLAG_W,PHSPHT,PHSPHT_FLAG_W,THETA
,,,,,,,,,,,,DBAR,DEG C,PSS-78,,PSS-78,,UMOL/KG,,UMOL/KG,,UMOL/KG,,UMOL/KG,,UMOL/KG,,DEG C
    09AR9309_1,  SR03,     1,  1,     20,     20,2,19930311,2118,-44.1062, 146.2392, 1000,    894.9,   4.4110,  34.3820,2,  34.4120,4,   -999.0,5,    202.1,3,  -999.00,9,  -999.00,9,  -999.00,9,  4.3420
    09AR9309_1,  SR03,     1,  1,     23,     23,3,19930311,2118,-44.1062, 146.2392, 1000,    895.1,   4.3930,  34.3780,3,  34.5390,4,   -999.0,5,    198.3,3,  -999.00,9,  -999.00,9,  -999.00,9,  4.3240
    09AR9309_1,  SR03,     1,  1,     17,     17,2,19930311,2118,-44.1062, 146.2392, 1000,    896.2,   4.4440,  34.3850,2,  34.3860,2,   -999.0,5,    193.3,2,  -999.00,9,  -999.00,9,  -999.00,9,  4.3750
    09AR9309_1,  SR03,     1,  1,     15,     15,2,19930311,2118,-44.1062, 146.2392, 1000,    896.4,   4.3980,  34.3840,2,  34.3840,2,   -999.0,5,   -999.0,5,  -999.00,9,  -999.00,9,  -999.00,9,  4.3290
    09AR9309_1,  SR03,     1,  1,     19,     19,2,19930311,2118,-44.1062, 146.2392, 1000,    896.5,   4.4130,  34.3820,2,  34.3790,2,   -999.0,5,    193.0,2,  -999.00,9,  -999.00,9,  -999.00,9,  4.3440
    09AR9309_1,  SR03,     1,  1,     21,     21,2,19930311,2118,-44.1062, 146.2392, 1000,    896.8,   4.3910,  34.3820,2,  34.3950,4,   -999.0,5,    193.8,2,  -999.00,9,  -999.00,9,  -999.00,9,  4.3220
    09AR9309_1,  SR03,     1,  1,     11,     11,2,19930311,2118,-44.1062, 146.2392, 1000,    896.8,   4.3940,  34.3920,2,  34.3910,2,   -999.0,5,    191.1,2,  -999.00,9,  -999.00,9,  -999.00,9,  4.3250
    09AR9309_1,  SR03,     1,  1,     12,     12,2,19930311,2118,-44.1062, 146.2392, 1000,    896.9,   4.4110,  34.3890,2,  34.3880,2,   -999.0,5,    190.8,2,  -999.00,9,  -999.00,9,  -999.00,9,  4.3420
    09AR9309_1,  SR03,     1,  1,     18,     18,2,19930311,2118,-44.1062, 146.2392, 1000,    897.1,   4.4140,  34.3830,2,  34.3820,2,   -999.0,5,    192.1,2,  -999.00,9,  -999.00,9,  -999.00,9,  4.3450
    09AR9309_1,  SR03,     1,  1,     16,     16,2,19930311,2118,-44.1062, 146.2392, 1000,    897.1,   4.4230,  34.3800,4,  34.3860,2,   -999.0,5,    200.5,3,  -999.00,9,  -999.00,9,  -999.00,9,  4.3540
    09AR9309_1,  SR03,     1,  1,     13,     13,2,19930311,2118,-44.1062, 146.2392, 1000,    897.1,   4.4060,  34.3900,2,  34.3840,2,   -999.0,5,    192.8,2,  -999.00,9,  -999.00,9,  -999.00,9,  4.3370
    09AR9309_1,  SR03,     1,  1,      9,      9,2,19930311,2118,-44.1062, 146.2392, 1000,    897.1,   4.3940,  34.3950,2,  34.4090,4,   -999.0,5,    190.3,2,  -999.00,9,  -999.00,9,  -999.00,9,  4.3250
    09AR9309_1,  SR03,     1,  1,      2,      2,2,19930311,2118,-44.1062, 146.2392, 1000,    897.1,   4.4170,  34.3970,2,  34.4030,2,   -999.0,5,    197.3,2,  -999.00,9,  -999.00,9,  -999.00,9,  4.3480
    09AR9309_1,  SR03,     1,  1,      1,      1,2,19930311,2118,-44.1062, 146.2392, 1000,    897.1,   4.4170,  34.3970,4,  34.5080,3,   -999.0,5,    201.3,3,  -999.00,9,  -999.00,9,  -999.00,9,  4.3480
    09AR9309_1,  SR03,     1,  1,      6,      6,2,19930311,2118,-44.1062, 146.2392, 1000,    897.2,   4.4050,  34.3950,2,  34.3930,2,   -999.0,5,    188.9,2,  -999.00,9,  -999.00,9,  -999.00,9,  4.3360
    09AR9309_1,  SR03,     1,  1,     14,     14,2,19930311,2118,-44.1062, 146.2392, 1000,    897.3,   4.4090,  34.3870,2,  34.3870,2,   -999.0,5,    191.1,2,  -999.00,9,  -999.00,9,  -999.00,9,  4.3400
    09AR9309_1,  SR03,     1,  1,      4,      4,2,19930311,2118,-44.1062, 146.2392, 1000,    897.3,   4.4130,  34.3980,2,  34.3960,2,   -999.0,5,    189.3,2,  -999.00,9,  -999.00,9,  -999.00,9,  4.3440
    09AR9309_1,  SR03,     1,  1,     24,     24,2,19930311,2118,-44.1062, 146.2392, 1000,    897.4,   4.3780,  34.3820,2,  34.3860,2,   -999.0,5,    196.5,2,  -999.00,9,  -999.00,9,  -999.00,9,  4.3090
    09AR9309_1,  SR03,     1,  1,     22,     22,2,19930311,2118,-44.1062, 146.2392, 1000,    897.5,   4.3800,  34.3810,3,  34.3800,2,   -999.0,5,    195.3,2,  -999.00,9,  -999.00,9,  -999.00,9,  4.3110
    09AR9309_1,  SR03,     1,  1,      5,      5,2,19930311,2118,-44.1062, 146.2392, 1000,    898.1,   4.4050,  34.3960,2,  34.3950,2,   -999.0,5,    188.8,2,  -999.00,9,  -999.00,9,  -999.00,9,  4.3360
    09AR9309_1,  SR03,     1,  1,     10,     10,2,19930311,2118,-44.1062, 146.2392, 1000,    898.7,   4.3920,  34.3940,2,  34.3950,2,   -999.0,5,    188.3,2,  -999.00,9,  -999.00,9,  -999.00,9,  4.3230
    09AR9309_1,  SR03,     1,  1,      8,      8,2,19930311,2118,-44.1062, 146.2392, 1000,    899.1,   4.3940,  34.3960,2,-999.0000,9,   -999.0,5,   -999.0,9,  -999.00,9,  -999.00,9,  -999.00,9,  4.3250
    09AR9309_1,  SR03,     1,  1,      7,      7,2,19930311,2118,-44.1062, 146.2392, 1000,    899.3,   4.4020,  34.3960,2,  34.3980,2,   -999.0,5,    187.6,2,  -999.00,9,  -999.00,9,  -999.00,9,  4.3330
    09AR9309_1,  SR03,     1,  1,      3,      3,2,19930311,2118,-44.1062, 146.2392, 1000,    899.8,   4.4150,  34.3990,2,  34.4020,2,   -999.0,5,    189.3,2,  -999.00,9,  -999.00,9,  -999.00,9,  4.3460
    09AR9309_1,  SR03,     2,  1,     11,     11,2,19930312,0042,-44.0005, 146.3128,  300,      8.6,  15.1550,  35.0320,2,  35.0310,2,    245.1,2,    240.8,2,  -999.00,5,  -999.00,5,     0.28,2, 15.1570
    09AR9309_1,  SR03,     2,  1,      9,      9,2,19930312,0042,-44.0005, 146.3128,  300,     25.6,  15.1110,  35.0340,2,  35.0350,2,    242.7,2,    242.2,2,     1.90,2,     0.20,2,     0.27,2, 15.1110
    09AR9309_1,  SR03,     2,  1,      8,      8,2,19930312,0042,-44.0005, 146.3128,  300,     51.0,  15.1050,  35.0380,2,  35.0380,2,    243.9,2,    242.8,2,     1.70,2,     0.30,2,     0.26,2, 15.1010
    09AR9309_1,  SR03,     2,  1,      7,      7,2,19930312,0042,-44.0005, 146.3128,  300,     73.7,  14.1880,  35.0680,4,  35.0770,2,    216.5,2,    222.9,2,     2.30,2,     4.30,2,     0.47,2, 14.1810
    09AR9309_1,  SR03,     2,  1,      6,      6,2,19930312,0042,-44.0005, 146.3128,  300,     98.4,  12.8400,  35.0550,4,  35.0510,2,    221.1,2,    221.7,2,     3.20,2,     7.50,2,     0.64,2, 12.8300
    09AR9309_1,  SR03,     2,  1,      5,      5,2,19930312,0042,-44.0005, 146.3128,  300,    123.5,  12.4900,  35.0890,3,  35.0810,2,    218.0,2,    217.3,2,     4.00,2,     9.40,2,     0.74,2, 12.4760
    09AR9309_1,  SR03,     2,  1,      4,      4,2,19930312,0042,-44.0005, 146.3128,  300,    148.5,  11.9040,  35.0520,4,  35.0670,2,    217.7,6,    217.5,2,     4.40,2,    10.80,2,     0.83,2, 11.8880
    09AR9309_1,  SR03,     2,  1,      3,      3,2,19930312,0042,-44.0005, 146.3128,  300,    200.3,  11.0850,  34.9630,4,  34.9650,2,    207.0,2,    220.5,2,     5.10,2,    13.00,2,     0.95,2, 11.0630
    09AR9309_1,  SR03,     2,  1,      2,      2,2,19930312,0042,-44.0005, 146.3128,  300,    247.8,  10.6780,  34.9140,3,  34.9140,2,    223.6,2,    224.4,2,     5.40,2,    13.60,2,     1.00,2, 10.6510
    09AR9309_1,  SR03,     2,  1,      1,      1,2,19930312,0042,-44.0005, 146.3128,  300,    289.2,   9.6250,  34.7690,4,  34.7940,2,    228.5,2,    226.3,2,     6.20,2,    15.40,2,     1.10,2,  9.5940
    09AR9309_1,  SR03,     3,  1,     16,     16,2,19930312,0549,-44.1247, 146.2510, 1110,      8.6,  15.9840,  35.2740,2,  35.2750,2,    259.8,2,    263.9,2,     1.60,2,     0.20,2,  -999.00,9, 15.9860
    09AR9309_1,  SR03,     3,  1,     15,     15,2,19930312,0549,-44.1247, 146.2510, 1110,     21.5,  15.9750,  35.2760,2,  35.2750,2,    259.0,2,    259.9,2,     1.50,2,     0.20,2,     0.24,2, 15.9750
    09AR9309_1,  SR03,     3,  1,     14,     14,2,19930312,0549,-44.1247, 146.2510, 1110,     48.2,  15.9350,  35.2770,2,  35.2760,2,    255.7,2,    257.9,2,     0.70,2,     0.40,2,     0.24,2, 15.9310
    09AR9309_1,  SR03,     3,  1,     13,     13,2,19930312,0549,-44.1247, 146.2510, 1110,     73.8,  15.8970,  35.2730,4,  35.2700,2,    212.8,2,    232.3,2,     1.60,2,     0.80,2,     0.26,2, 15.8890
    09AR9309_1,  SR03,     3,  1,     12,     12,2,19930312,0549,-44.1247, 146.2510, 1110,     98.9,  14.0110,  35.2290,4,  35.2360,2,    216.9,2,   -999.0,9,     2.20,2,     7.30,2,     0.61,2, 14.0000
    09AR9309_1,  SR03,     3,  1,     11,     11,2,19930312,0549,-44.1247, 146.2510, 1110,    148.7,  12.5570,  35.1550,3,  35.1550,2,    212.7,2,    210.4,2,     4.00,2,    10.60,2,     0.79,2, 12.5400
    09AR9309_1,  SR03,     3,  1,     10,     10,2,19930312,0549,-44.1247, 146.2510, 1110,    197.8,  11.4320,  35.0330,2,  35.0330,2,    223.0,2,    221.4,2,     3.80,2,    12.50,2,     0.90,2, 11.4100
    09AR9309_1,  SR03,     3,  1,      9,      9,2,19930312,0549,-44.1247, 146.2510, 1110,    298.7,  10.1100,  34.8280,2,  34.8310,2,    226.5,2,    224.7,2,     4.50,2,    15.00,2,     1.07,2, 10.0770
    09AR9309_1,  SR03,     3,  1,      8,      8,2,19930312,0549,-44.1247, 146.2510, 1110,    396.3,   9.2140,  34.7020,4,  34.7030,2,    224.9,2,    220.3,2,     5.90,2,    18.20,2,     1.25,2,  9.1720
    09AR9309_1,  SR03,     3,  1,      7,      7,2,19930312,0549,-44.1247, 146.2510, 1110,    496.7,   8.3710,  34.6040,2,  34.6030,2,    206.3,2,    205.1,2,     9.10,2,    22.00,2,     1.48,2,  8.3210
    09AR9309_1,  SR03,     3,  1,      6,      6,2,19930312,0549,-44.1247, 146.2510, 1110,    597.2,   7.3850,  34.5240,2,  34.5240,2,    193.3,2,    194.1,2,    14.30,2,    25.30,2,     1.67,2,  7.3280
    09AR9309_1,  SR03,     3,  1,      5,      5,2,19930312,0549,-44.1247, 146.2510, 1110,    697.1,   6.5870,  34.4870,2,  34.4860,2,    190.2,2,    190.2,2,    20.10,2,    27.60,2,     1.85,2,  6.5240
    09AR9309_1,  SR03,     3,  1,      4,      4,2,19930312,0549,-44.1247, 146.2510, 1110,    778.7,   5.7390,  34.4580,2,  34.4580,2,    181.5,2,   -999.0,5,    27.20,2,    29.80,2,     2.00,2,  5.6720
    09AR9309_1,  SR03,     3,  1,      3,      3,2,19930312,0549,-44.1247, 146.2510, 1110,    900.5,   4.3150,  34.3810,2,  34.3820,2,    192.2,2,    193.2,2,    32.80,2,    31.90,2,     2.15,2,  4.2470
    09AR9309_1,  SR03,     3,  1,      2,      2,2,19930312,0549,-44.1247, 146.2510, 1110,   1000.1,   4.0270,  34.4710,2,  34.4710,2,    166.5,2,    166.4,2,    48.40,2,    33.50,2,     2.28,2,  3.9520
    09AR9309_1,  SR03,     3,  1,      1,      1,2,19930312,0549,-44.1247, 146.2510, 1110,   1113.4,   3.4030,  34.5170,4,  34.5220,2,    160.1,2,    165.4,3,    59.90,2,    34.50,2,     2.36,2,  3.3240
    09AR9309_1,  SR03,     4,  1,     23,     23,2,19930312,0938,-44.4587, 146.1217, 2318,     23.9,  15.3410,  35.1210,2,  35.1200,2,    212.8,2,    224.8,2,     0.60,2,     0.10,2,     0.25,2, 15.3410
    09AR9309_1,  SR03,     4,  1,     22,     22,2,19930312,0938,-44.4587, 146.1217, 2318,     49.7,  15.1980,  35.0880,2,  35.0870,2,    223.1,2,    223.3,2,     0.60,2,     0.30,2,     0.25,2, 15.1940
    09AR9309_1,  SR03,     4,  1,     21,     21,2,19930312,0938,-44.4587, 146.1217, 2318,     99.7,  13.3880,  35.2020,2,  35.2000,2,    202.5,2,    195.4,2,     2.50,2,     8.80,2,     0.75,2, 13.3770
    09AR9309_1,  SR03,     4,  1,     20,     20,2,19930312,0938,-44.4587, 146.1217, 2318,    149.0,  12.1640,  35.1140,2,  35.1220,2,    214.6,2,    216.0,2,     3.70,2,    12.60,3,     0.84,2, 12.1470
    09AR9309_1,  SR03,     4,  1,     19,     19,2,19930312,0938,-44.4587, 146.1217, 2318,    196.8,  11.1140,  34.9850,3,  34.9800,2,    227.9,2,    227.2,2,     3.50,2,    11.10,2,     0.93,2, 11.0920
    09AR9309_1,  SR03,     4,  1,     18,     18,2,19930312,0938,-44.4587, 146.1217, 2318,    298.0,   9.9970,  34.8040,4,  34.8030,2,    245.6,2,    247.5,2,  -999.00,9,    13.50,2,     1.00,2,  9.9650
    09AR9309_1,  SR03,     4,  1,     17,     17,2,19930312,0938,-44.4587, 146.1217, 2318,    384.2,   9.2350,  34.6760,4,  34.6770,2,    261.4,2,    249.5,2,  -999.00,9,  -999.00,5,  -999.00,5,  9.1950
    09AR9309_1,  SR03,     4,  1,     16,     16,2,19930312,0938,-44.4587, 146.1217, 2318,    495.9,   8.4520,  34.5780,4,  34.5770,2,    226.4,2,    226.6,2,     7.90,2,    20.20,2,     1.40,2,  8.4020
    09AR9309_1,  SR03,     4,  1,     15,     15,2,19930312,0938,-44.4587, 146.1217, 2318,    594.4,   7.8340,  34.5510,4,  34.5550,2,    197.7,2,    199.2,2,    12.80,2,    23.80,2,     1.62,2,  7.7750
    09AR9309_1,  SR03,     4,  1,     14,     14,2,19930312,0938,-44.4587, 146.1217, 2318,    692.6,   6.7370,  34.4850,4,  34.4900,2,    190.6,2,    190.1,2,    19.90,2,    27.00,2,     1.82,2,  6.6730
    09AR9309_1,  SR03,     4,  1,     13,     13,2,19930312,0938,-44.4587, 146.1217, 2318,    795.2,   5.8130,  34.4470,3,  34.4490,2,    187.5,2,    184.7,2,    28.10,2,    29.60,2,     1.97,2,  5.7440
    09AR9309_1,  SR03,     4,  1,     12,     12,2,19930312,0938,-44.4587, 146.1217, 2318,    867.8,   5.1140,  34.4090,2,  34.4110,2,    200.5,2,    192.8,2,    32.40,2,    30.70,2,     2.08,2,  5.0430
    09AR9309_1,  SR03,     4,  1,     11,     11,2,19930312,0938,-44.4587, 146.1217, 2318,    991.6,   4.4810,  34.4570,2,-999.0000,9,    178.3,2,   -999.0,5,    47.50,2,    32.70,2,     2.23,2,  4.4040
    09AR9309_1,  SR03,     4,  1,     10,     10,2,19930312,0938,-44.4587, 146.1217, 2318,   1095.1,   4.0030,  34.4880,3,  34.4890,2,    169.7,2,    169.8,2,    57.80,2,    34.00,2,     2.30,2,  3.9200
    09AR9309_1,  SR03,     4,  1,      9,      9,2,19930312,0938,-44.4587, 146.1217, 2318,   1192.9,   3.5000,  34.5230,4,-999.0000,9,    167.2,2,   -999.0,9,    75.40,2,    33.80,2,  -999.00,9,  3.4130
    09AR9309_1,  SR03,     4,  1,      8,      8,2,19930312,0938,-44.4587, 146.1217, 2318,   1343.8,   2.9850,  34.5570,2,  34.5590,2,    160.3,2,   -999.0,5,    75.40,2,    35.50,2,     2.42,2,  2.8910
    09AR9309_1,  SR03,     4,  1,      7,      7,2,19930312,0938,-44.4587, 146.1217, 2318,   1491.1,   2.6710,  34.5980,2,  34.5960,2,    160.8,2,    164.0,2,    77.30,2,    35.20,2,     2.40,2,  2.5680
    09AR9309_1,  SR03,     4,  1,      6,      6,2,19930312,0938,-44.4587, 146.1217, 2318,   1644.4,   2.4480,  34.6480,2,  34.6460,2,    169.1,2,    168.3,2,    79.80,2,    34.30,2,     2.35,2,  2.3350
    09AR9309_1,  SR03,     4,  1,      5,      5,2,19930312,0938,-44.4587, 146.1217, 2318,   1791.6,   2.3380,  34.6760,2,-999.0000,9,    170.9,2,   -999.0,9,  -999.00,9,  -999.00,9,  -999.00,9,  2.2140
    09AR9309_1,  SR03,     4,  1,      4,      4,2,19930312,0938,-44.4587, 146.1217, 2318,   1942.9,   2.2690,  34.6980,2,  34.6970,2,    173.7,2,   -999.0,5,    83.00,2,    33.80,2,     2.29,2,  2.1340
    09AR9309_1,  SR03,     4,  1,      3,      3,2,19930312,0938,-44.4587, 146.1217, 2318,   2092.9,   2.1870,  34.7130,2,  34.7140,2,    176.1,2,   -999.0,5,    87.70,2,    33.60,2,     2.24,2,  2.0400
    09AR9309_1,  SR03,     4,  1,      2,      2,2,19930312,0938,-44.4587, 146.1217, 2318,   2262.1,   2.0380,  34.7270,2,  34.7270,2,    176.5,2,    178.9,2,    93.60,2,    33.40,2,     2.26,2,  1.8790
    09AR9309_1,  SR03,     4,  1,      1,      1,2,19930312,0938,-44.4587, 146.1217, 2318,   2335.3,   1.9570,  34.7300,2,  34.7320,2,    181.4,2,    180.0,2,    96.50,2,    33.40,2,     2.26,2,  1.7920