BOTTLE,20090509PRINUNIVRMK
EXPOCODE,SECT_ID,STNNBR,CASTNO,SAMPNO,BTLNBR,BTLNBR_FLAG_W,DATE,TIME,LATITUDE,LONGITUDE,DEPTH,CTDPRS,CTDTMP,CTDSAL,CTDSAL_FLAG_W,SALNTY,SALNTY_FLAG_W,OXYGEN,OXYGEN_FLAG_W,SILCAT,SILCAT_FLAG_W,NITRAT,NITRAT_FLAG_W,NITRIT,NITRIT_FLAG_W,PHSPHT,PHSPHT_FLAG_W,TCARBN,TCARBN_FLAG_W,ALKALI,ALKALI_FLAG_W,PH_SWS,PH_TEMP,PH_SWS_FLAG_W,CHLORA,THETA
,,,,,,,,,,,METERS,DBARS,ITS-90,PSS-78,,PSS-78,,UMOL/KG,,UMOL/KG,,UMOL/KG,,UMOL/KG,,UMOL/KG,,UMOL/KG,,UMOL/KG,,,DEGC,,UG/L,DEGC
  49HH19941213,  SR03,    20,  1,      0,      0,2,19941227,1029,-64.0120, 139.9500, 3690,      1.0,   1.1000,-999.0000,9,  33.9610,2,    350.6,2,    24.40,2,    24.75,2,     0.23,2,     1.63,2,   -999.0,9,   2300.0,2,   7.7424,    25.00,2,     0.18,   1.1000
  49HH19941213,  SR03,    20,  1,     24,     24,2,19941227,1029,-64.0120, 139.9500, 3690,      8.0,   0.7830,  33.8470,2,  33.8500,2,    354.6,2,    22.60,2,    24.58,2,     0.21,2,     1.56,2,   2137.3,2,   2308.0,2,   7.7423,    25.00,2,     0.45,   0.7827
  49HH19941213,  SR03,    20,  1,     23,     23,2,19941227,1029,-64.0120, 139.9500, 3690,     18.0,   0.3360,  33.8990,2,  33.9250,2,    355.9,2,    20.90,2,    24.85,2,     0.20,2,     1.62,2,   2138.2,2,   2314.0,2,   7.7374,    25.00,2,     0.69,   0.3353
  49HH19941213,  SR03,    20,  1,     22,     22,2,19941227,1029,-64.0120, 139.9500, 3690,     28.0,  -0.2000,  33.9420,2,  33.9620,2,    357.1,2,    22.10,2,    26.00,2,     0.17,2,     1.74,2,   2148.9,2,   2311.0,2,   7.7274,    25.00,2,     1.07,  -0.2009
  49HH19941213,  SR03,    20,  1,     21,     21,2,19941227,1029,-64.0120, 139.9500, 3690,     49.0,  -0.2590,  34.2160,2,  34.2310,2,    268.3,2,    50.00,2,    31.93,2,     0.13,2,     2.36,2,   2205.8,2,   2324.0,2,   7.6257,    25.00,2,     0.49,  -0.2606
  49HH19941213,  SR03,    20,  1,     20,     20,2,19941227,1029,-64.0120, 139.9500, 3690,     74.0,   1.4340,  34.4690,2,  34.5030,2,    186.0,2,    64.60,2,    35.23,2,     0.04,2,     2.59,2,   2245.9,2,   2343.0,2,   7.5589,    25.00,2,     0.05,   1.4305
  49HH19941213,  SR03,    20,  1,     19,     19,2,19941227,1029,-64.0120, 139.9500, 3690,    100.0,   1.7640,  34.5560,2,  34.5470,2,    179.4,2,    68.50,2,    35.50,2,     0.03,2,     2.59,2,   2250.7,2,   2343.0,2,   7.5629,    25.00,2,     0.01,   1.7589
  49HH19941213,  SR03,    20,  1,     18,     18,2,19941227,1029,-64.0120, 139.9500, 3690,    123.0,   1.8770,  34.6080,2,  34.6090,2,    175.0,2,    70.30,2,    34.91,2,     0.02,2,     2.56,2,   2253.2,2,   2348.0,2,   7.5490,    25.00,2,     0.01,   1.8706
  49HH19941213,  SR03,    20,  1,     17,     17,2,19941227,1029,-64.0120, 139.9500, 3690,    148.0,   1.9390,  34.6350,2,  34.6280,2,    176.8,2,    71.70,2,    34.52,2,     0.02,2,     2.51,2,   2252.4,2,   2365.0,2,   7.5520,    25.00,2,     0.01,   1.9312
  49HH19941213,  SR03,    20,  1,     16,     16,2,19941227,1029,-64.0120, 139.9500, 3690,    176.0,   1.9500,  34.6480,2,  34.6490,2,    176.5,2,    72.20,2,    34.39,2,     0.02,2,     2.48,2,   2251.8,2,   2355.0,2,   7.5470,    25.00,2,     0.01,   1.9407
  49HH19941213,  SR03,    20,  1,     15,     15,2,19941227,1029,-64.0120, 139.9500, 3690,    197.0,   1.9230,  34.6630,2,  34.6630,2,    178.3,2,    73.00,2,    34.07,2,     0.01,2,     2.45,2,   2252.3,2,   2357.0,2,   7.5740,    25.00,2,     0.01,   1.9126
  49HH19941213,  SR03,    20,  1,     14,     14,2,19941227,1029,-64.0120, 139.9500, 3690,    298.0,   1.9010,  34.7010,2,  34.7020,2,    183.1,2,    75.40,2,    32.63,2,     0.01,2,     2.37,2,   2247.3,2,   2365.0,2,   7.5811,    25.00,2,     0.00,   1.8850
  49HH19941213,  SR03,    20,  1,     13,     13,2,19941227,1029,-64.0120, 139.9500, 3690,    498.0,   1.7750,  34.7240,2,  34.7230,2,   -999.0,9,    78.30,2,    31.53,2,     0.00,2,     2.31,2,   2247.9,2,   2360.0,2,   7.5961,    25.00,2,  -999.00,   1.7479
  49HH19941213,  SR03,    20,  1,     12,     12,2,19941227,1029,-64.0120, 139.9500, 3690,    747.0,   1.5620,  34.7400,2,  34.7400,2,    198.7,2,    84.00,2,    31.26,2,     0.00,2,     2.26,2,   -999.0,9,   2366.0,2,   7.6101,    25.00,2,  -999.00,   1.5210
  49HH19941213,  SR03,    20,  1,     11,     11,2,19941227,1029,-64.0120, 139.9500, 3690,    997.0,   1.3370,  34.7350,2,  34.7350,2,    201.8,2,    90.60,2,    31.26,2,     0.00,2,     2.27,2,   -999.0,9,   2369.0,2,   7.6141,    25.00,2,  -999.00,   1.2820
  49HH19941213,  SR03,    20,  1,     10,     10,2,19941227,1029,-64.0120, 139.9500, 3690,   1246.0,   1.0830,  34.7240,2,  34.7240,2,    204.1,2,    98.40,2,    32.31,2,     0.00,2,     2.30,2,   -999.0,9,   2374.0,2,   7.6071,    25.00,2,  -999.00,   1.0143
  49HH19941213,  SR03,    20,  1,      9,      9,2,19941227,1029,-64.0120, 139.9500, 3690,   1497.0,   0.8730,  34.7140,2,  34.7110,2,    206.2,2,   103.90,2,    32.18,2,     0.00,2,     2.33,2,   -999.0,9,   2369.0,2,   7.6111,    25.00,2,  -999.00,   0.7898
  49HH19941213,  SR03,    20,  1,      8,      8,2,19941227,1029,-64.0120, 139.9500, 3690,   1746.0,   0.6840,  34.7040,2,  34.7040,2,   -999.0,9,   109.00,2,    32.57,2,     0.00,2,     2.37,2,   -999.0,9,   2375.0,2,   7.6061,    25.00,2,  -999.00,   0.5860
  49HH19941213,  SR03,    20,  1,      7,      7,2,19941227,1029,-64.0120, 139.9500, 3690,   1999.0,   0.5010,  34.6950,2,  34.6940,2,    212.0,2,   112.30,2,    32.77,2,     0.00,2,     2.37,2,   -999.0,9,   2374.0,2,   7.6181,    25.00,2,  -999.00,   0.3874
  49HH19941213,  SR03,    20,  1,      6,      6,2,19941227,1029,-64.0120, 139.9500, 3690,   2498.0,   0.1940,  34.6820,2,  34.6760,2,    222.6,2,   114.20,2,    33.03,2,     0.00,2,     2.38,2,   -999.0,9,   2370.0,2,   7.6180,    25.00,2,  -999.00,   0.0478
  49HH19941213,  SR03,    20,  1,      5,      5,2,19941227,1029,-64.0120, 139.9500, 3690,   2747.0,   0.0990,  34.6790,2,  34.6780,2,    227.6,2,   112.10,2,    33.03,2,     0.00,2,     2.37,2,   -999.0,9,   2381.0,3,   7.6170,    25.00,2,  -999.00,  -0.0654
  49HH19941213,  SR03,    20,  1,      4,      4,2,19941227,1029,-64.0120, 139.9500, 3690,   2998.0,  -0.0100,  34.6770,2,  34.6740,2,    230.6,2,   114.20,2,    32.77,2,     0.00,2,     2.37,2,   -999.0,9,   2367.0,2,   7.6130,    25.00,2,  -999.00,  -0.1930
  49HH19941213,  SR03,    20,  1,      3,      3,2,19941227,1029,-64.0120, 139.9500, 3690,   3247.0,  -0.1210,  34.6730,2,  34.6760,2,   -999.0,9,   109.10,2,    32.77,2,     0.00,2,     2.35,2,   -999.0,9,   2369.0,2,   7.6060,    25.00,2,  -999.00,  -0.3231
  49HH19941213,  SR03,    20,  1,      2,      2,2,19941227,1029,-64.0120, 139.9500, 3690,   3499.0,  -0.2110,  34.6690,2,  34.6660,2,    239.4,2,   106.20,2,    32.38,2,     0.00,2,     2.34,2,   -999.0,9,   2367.0,2,   7.6220,    25.00,2,  -999.00,  -0.4334
  49HH19941213,  SR03,    20,  1,      1,      1,2,19941227,1029,-64.0120, 139.9500, 3690,   3668.0,  -0.3980,  34.6520,2,  34.6500,2,    250.7,2,    94.50,2,    31.92,2,     0.00,2,     2.29,2,   -999.0,9,   2364.0,2,   7.6120,    25.00,2,  -999.00,  -0.6309
  49HH19941213,  SR03,    22,  1,      0,      0,2,19941228, 554,-62.0360, 140.0290, 4217,      1.0,   1.6000,-999.0000,9,  33.7600,2,    344.5,2,    22.20,2,    24.82,2,     0.18,2,     1.66,2,   -999.0,9,   2296.0,2,   7.7512,    25.00,2,     0.10,   1.6000
  49HH19941213,  SR03,    22,  1,     24,     24,2,19941228, 554,-62.0360, 140.0290, 4217,      9.0,   1.2220,  33.7550,2,  33.7550,2,    321.3,2,    21.70,2,    25.01,2,     0.16,2,     1.67,2,   2124.3,2,   2297.0,2,   7.7672,    25.00,2,     0.16,   1.2216
  49HH19941213,  SR03,    22,  1,     23,     23,2,19941228, 554,-62.0360, 140.0290, 4217,     19.0,   1.2070,  33.7560,2,  33.7630,2,    348.5,2,    21.40,2,    24.99,2,     0.16,2,     1.67,2,   2125.0,2,   2296.0,2,   7.7553,    25.00,2,     0.18,   1.2062
  49HH19941213,  SR03,    22,  1,     22,     22,2,19941228, 554,-62.0360, 140.0290, 4217,     29.0,   0.8540,  33.7680,2,  33.7720,2,    360.9,2,    21.50,2,    25.69,2,     0.14,2,     1.69,2,   2125.6,2,   2297.0,2,   7.7573,    25.00,2,     0.42,   0.8528
  49HH19941213,  SR03,    22,  1,     21,     21,2,19941228, 554,-62.0360, 140.0290, 4217,     50.0,  -0.2830,  33.8460,2,  33.8410,2,    364.9,2,    23.20,2,    26.66,2,     0.11,2,     1.79,2,   2131.3,2,   2298.0,2,   7.7443,    25.00,2,     0.99,  -0.2846
  49HH19941213,  SR03,    22,  1,     20,     20,2,19941228, 554,-62.0360, 140.0290, 4217,     74.0,  -1.1570,  33.9480,2,  33.9440,2,    348.6,2,    30.50,2,    29.04,2,     0.14,2,     2.06,2,   2159.3,2,   2304.0,2,   7.6984,    25.00,2,     0.60,  -1.1588
  49HH19941213,  SR03,    22,  1,     19,     19,2,19941228, 554,-62.0360, 140.0290, 4217,    100.0,  -0.9940,  34.0260,2,  34.0400,2,    315.2,2,    37.90,2,    31.57,2,     0.18,2,     2.22,2,   2178.7,2,   2310.0,2,   7.6545,    25.00,2,     0.11,  -0.9966
  49HH19941213,  SR03,    22,  1,     18,     18,2,19941228, 554,-62.0360, 140.0290, 4217,    124.0,   0.2390,  34.2040,2,  34.2420,2,    244.0,2,    51.50,2,    34.57,2,     0.08,2,     2.46,2,   2213.4,2,   2324.0,2,   7.5917,    25.00,2,     0.05,   0.2343
  49HH19941213,  SR03,    22,  1,     17,     17,2,19941228, 554,-62.0360, 140.0290, 4217,    148.0,   1.5780,  34.3790,2,  34.3790,2,    205.2,2,    60.00,2,    36.51,2,     0.03,2,     2.58,2,   2231.6,2,   2327.0,2,   7.5728,    25.00,2,     0.02,   1.5707
  49HH19941213,  SR03,    22,  1,     16,     16,2,19941228, 554,-62.0360, 140.0290, 4217,    174.0,   1.8800,  34.4490,2,  34.4400,2,    186.9,2,    65.30,2,    36.83,2,     0.01,2,     2.61,2,   -999.0,9,   2338.0,2,   7.5728,    25.00,2,     0.01,   1.8709
  49HH19941213,  SR03,    22,  1,     15,     15,2,19941228, 554,-62.0360, 140.0290, 4217,    199.0,   2.0210,  34.4920,2,  34.4950,2,    179.2,2,    68.10,2,    36.60,2,     0.00,2,     2.60,2,   2245.4,2,   2338.0,2,   7.5499,    25.00,2,     0.01,   2.0103
  49HH19941213,  SR03,    22,  1,     14,     14,2,19941228, 554,-62.0360, 140.0290, 4217,    300.0,   2.0650,  34.5790,2,  34.5810,2,    174.0,2,    73.70,2,    35.87,2,     0.01,2,     2.53,2,   2251.1,2,   2346.0,2,   7.5550,    25.00,2,  -999.00,   2.0485
  49HH19941213,  SR03,    22,  1,     13,     13,2,19941228, 554,-62.0360, 140.0290, 4217,    499.0,   2.0870,  34.6700,2,  34.6720,2,    178.2,2,    77.60,2,    34.16,2,     0.00,2,     2.41,2,   2248.6,2,   2353.0,2,   7.5710,    25.00,2,  -999.00,   2.0586
  49HH19941213,  SR03,    22,  1,     12,     12,2,19941228, 554,-62.0360, 140.0290, 4217,    749.0,   1.9410,  34.7210,2,  34.7230,2,    187.9,2,    80.80,2,    33.05,2,     0.01,2,     2.30,2,   -999.0,9,   2358.0,2,   7.5981,    25.00,2,  -999.00,   1.8976
  49HH19941213,  SR03,    22,  1,     11,     11,2,19941228, 554,-62.0360, 140.0290, 4217,    999.0,   1.7720,  34.7390,2,  34.7400,2,    194.8,2,    84.80,2,    32.47,2,     0.01,2,     2.26,2,   -999.0,9,   -999.0,9,-999.0000,  -999.00,9,  -999.00,   1.7134
  49HH19941213,  SR03,    22,  1,     10,     10,2,19941228, 554,-62.0360, 140.0290, 4217,   1248.0,   1.5690,  34.7410,2,  34.7420,2,    198.9,2,    90.70,2,    31.96,2,     0.02,2,     2.25,2,   -999.0,9,   -999.0,9,-999.0000,  -999.00,9,  -999.00,   1.4953
  49HH19941213,  SR03,    22,  1,      9,      9,2,19941228, 554,-62.0360, 140.0290, 4217,   1499.0,   1.3590,  34.7350,2,  34.7340,2,    202.1,2,    96.50,2,    32.26,2,     0.01,2,     2.27,2,   -999.0,9,   2366.0,2,   7.6141,    25.00,2,  -999.00,   1.2699
  49HH19941213,  SR03,    22,  1,      8,      8,2,19941228, 554,-62.0360, 140.0290, 4217,   1749.0,   1.1720,  34.7260,2,  34.7260,2,    204.7,2,   101.70,2,    32.70,2,     0.01,2,     2.29,2,   -999.0,9,   2368.0,2,   7.6071,    25.00,2,  -999.00,   1.0670
  49HH19941213,  SR03,    22,  1,      7,      7,2,19941228, 554,-62.0360, 140.0290, 4217,   1998.0,   0.9850,  34.7180,2,  34.7170,2,    209.2,2,   111.60,2,    32.95,2,     0.01,2,     2.31,2,   -999.0,9,   2368.0,2,   7.6291,    25.00,2,  -999.00,   0.8639
  49HH19941213,  SR03,    22,  1,      6,      6,2,19941228, 554,-62.0360, 140.0290, 4217,   2498.0,   0.6110,  34.6990,2,  34.6970,2,    212.8,2,   116.60,2,    33.49,2,     0.00,2,     2.37,2,   -999.0,9,   2373.0,2,   7.6241,    25.00,2,  -999.00,   0.4568
  49HH19941213,  SR03,    22,  1,      5,      5,2,19941228, 554,-62.0360, 140.0290, 4217,   2999.0,   0.2920,  34.6850,2,  34.6830,2,    219.4,2,   121.20,2,    33.80,2,     0.01,2,     2.37,2,   -999.0,9,   2371.0,2,   7.6131,    25.00,2,  -999.00,   0.1021
  49HH19941213,  SR03,    22,  1,      4,      4,2,19941228, 554,-62.0360, 140.0290, 4217,   3498.0,   0.1040,  34.6800,2,  34.6790,2,    229.4,2,   122.30,2,    33.58,2,     0.01,2,     2.37,2,   -999.0,9,   2369.0,2,   7.6111,    25.00,2,  -999.00,  -0.1265
  49HH19941213,  SR03,    22,  1,      3,      3,2,19941228, 554,-62.0360, 140.0290, 4217,   3748.0,  -0.0290,  34.6770,2,  34.6750,2,    231.4,2,   117.80,2,    33.47,2,     0.01,2,     2.36,2,   -999.0,9,   2370.0,2,   7.5970,    25.00,2,  -999.00,  -0.2797
  49HH19941213,  SR03,    22,  1,      2,      2,2,19941228, 554,-62.0360, 140.0290, 4217,   3996.0,  -0.0860,  34.6750,2,  34.6720,2,    236.2,2,   113.40,2,    33.66,2,     0.01,2,     2.35,2,   -999.0,9,   2365.0,2,   7.5960,    25.00,2,  -999.00,  -0.3593
  49HH19941213,  SR03,    22,  1,      1,      1,2,19941228, 554,-62.0360, 140.0290, 4217,   4235.0,  -0.1290,  34.6710,2,  34.6710,2,    238.2,2,   111.80,2,    33.40,2,     0.01,2,     2.34,2,   -999.0,9,   2371.0,2,   7.5990,    25.00,2,  -999.00,  -0.4251
  49HH19941213,  SR03,    25,  1,      0,      0,2,19941231,1558,-50.0460, 142.7870, 3991,      1.0,   9.1000,-999.0000,9,  34.3680,2,    282.0,2,     3.10,2,    15.41,2,     0.19,2,     1.15,2,   -999.0,9,   2292.0,2,   7.8308,    25.00,2,     0.13,   9.0999
  49HH19941213,  SR03,    25,  1,     24,     24,2,19941231,1558,-50.0460, 142.7870, 3991,     10.0,   8.9920,  34.4450,2,  34.4490,2,    284.1,2,     3.10,2,    15.46,2,     0.20,2,     1.15,2,   2092.4,2,   2296.0,2,   7.8408,    25.00,2,     0.12,   8.9909
  49HH19941213,  SR03,    25,  1,     23,     23,2,19941231,1558,-50.0460, 142.7870, 3991,     20.0,   8.9780,  34.4450,2,  34.4500,2,    283.4,2,     3.10,2,    15.36,2,     0.20,2,     1.15,2,   2092.5,2,   2299.0,2,   7.8348,    25.00,2,     0.13,   8.9759
  49HH19941213,  SR03,    25,  1,     22,     22,2,19941231,1558,-50.0460, 142.7870, 3991,     29.0,   8.9340,  34.4410,2,  34.4460,2,    282.4,2,     3.10,2,    15.70,2,     0.19,2,     1.16,2,   2093.5,2,   2301.0,2,   7.8098,    25.00,2,     0.12,   8.9309
  49HH19941213,  SR03,    25,  1,     21,     21,2,19941231,1558,-50.0460, 142.7870, 3991,     50.0,   8.8640,  34.4390,2,-999.0000,9,   -999.0,9,  -999.00,9,  -999.00,9,  -999.00,9,  -999.00,9,   -999.0,9,   -999.0,9,-999.0000,  -999.00,9,  -999.00,   8.8587
  49HH19941213,  SR03,    25,  1,     20,     20,2,19941231,1558,-50.0460, 142.7870, 3991,     73.0,   8.8480,  34.4370,2,  34.4670,2,    284.1,2,     3.00,2,    15.85,2,     0.19,2,     1.17,2,   2093.3,2,   2303.0,2,   7.8319,    25.00,2,     0.13,   8.8403
  49HH19941213,  SR03,    25,  1,     19,     19,2,19941231,1558,-50.0460, 142.7870, 3991,    100.0,   8.8230,  34.5160,2,  34.5120,2,    277.2,2,     2.70,2,    15.54,2,     0.17,2,     1.16,2,   2097.8,2,   2301.0,2,   7.8249,    25.00,2,     0.14,   8.8124
  49HH19941213,  SR03,    25,  1,     18,     18,2,19941231,1558,-50.0460, 142.7870, 3991,    124.0,   8.8460,  34.6180,2,  34.6270,2,    268.1,2,     2.70,2,    15.69,2,     0.06,2,     1.16,2,   2104.9,2,   2305.0,2,   7.8280,    25.00,2,     0.04,   8.8328
  49HH19941213,  SR03,    25,  1,     17,     17,2,19941231,1558,-50.0460, 142.7870, 3991,    150.0,   8.6090,  34.5840,2,  34.5870,2,    271.7,2,     3.20,2,    16.49,2,     0.05,2,     1.20,2,   2107.2,2,   2303.0,2,   7.8170,    25.00,2,     0.03,   8.5933
  49HH19941213,  SR03,    25,  1,     16,     16,2,19941231,1558,-50.0460, 142.7870, 3991,    175.0,   8.3810,  34.5510,2,  34.5510,2,    269.4,2,     3.70,2,    17.45,2,     0.06,2,     1.26,2,   2110.3,2,   2300.0,2,   7.8039,    25.00,2,     0.02,   8.3629
  49HH19941213,  SR03,    25,  1,     15,     15,2,19941231,1558,-50.0460, 142.7870, 3991,    201.0,   7.7160,  34.4390,2,  34.4420,2,    279.0,2,     3.80,2,    18.04,2,     0.21,4,     1.33,2,   2111.3,2,   2294.0,2,   7.7978,    25.00,2,     0.01,   7.6962
  49HH19941213,  SR03,    25,  1,     14,     14,2,19941231,1558,-50.0460, 142.7870, 3991,    298.0,   7.0400,  34.3510,2,  34.3570,2,    280.0,2,     4.40,2,    19.66,2,     0.05,2,     1.42,2,   2114.9,2,   2295.0,2,   7.7848,    25.00,2,     0.01,   7.0121
  49HH19941213,  SR03,    25,  1,     13,     13,2,19941231,1558,-50.0460, 142.7870, 3991,    493.0,   5.8920,  34.2340,2,  34.2360,2,    269.1,2,     7.40,2,    23.59,2,     0.03,2,     1.63,2,   2130.9,2,   2293.0,2,   7.7517,    25.00,2,  -999.00,   5.8496
  49HH19941213,  SR03,    25,  1,     12,     12,2,19941231,1558,-50.0460, 142.7870, 3991,    745.0,   4.8200,  34.3190,2,  34.3240,2,    217.8,2,    22.00,2,    30.39,2,     0.02,2,     2.10,2,   -999.0,9,   2304.0,2,   7.6467,    25.00,2,  -999.00,   4.7606
  49HH19941213,  SR03,    25,  1,     11,     11,2,19941231,1558,-50.0460, 142.7870, 3991,    996.0,   3.7220,  34.3840,2,  34.3920,2,    193.2,2,    42.20,2,    33.67,2,     0.01,2,     2.37,2,   -999.0,9,   2323.0,2,   7.5988,    25.00,2,  -999.00,   3.6490
  49HH19941213,  SR03,    25,  1,     10,     10,2,19941231,1558,-50.0460, 142.7870, 3991,   1244.0,   2.8860,  34.4500,2,  34.4510,2,    183.0,2,    53.90,2,    35.70,2,     0.01,2,     2.48,2,   -999.0,9,   2338.0,2,   7.5758,    25.00,2,  -999.00,   2.8004
  49HH19941213,  SR03,    25,  1,      9,      9,2,19941231,1558,-50.0460, 142.7870, 3991,   1496.0,   2.6280,  34.5560,2,  34.5570,2,    174.6,2,    63.30,2,    35.43,2,     0.01,2,     2.48,2,   -999.0,9,   2344.0,2,   7.5799,    25.00,2,  -999.00,   2.5248
  49HH19941213,  SR03,    25,  1,      8,      8,2,19941231,1558,-50.0460, 142.7870, 3991,   1745.0,   2.4760,  34.6480,2,  34.6510,2,    177.5,2,    69.40,2,    34.02,2,     0.01,2,     2.40,2,   -999.0,9,   2362.0,2,   7.6000,    25.00,2,  -999.00,   2.3540
  49HH19941213,  SR03,    25,  1,      7,      7,2,19941231,1558,-50.0460, 142.7870, 3991,   1993.0,   2.3520,  34.7020,2,  34.7040,2,    181.0,2,    72.40,2,    33.41,2,     0.00,2,     2.32,2,   -999.0,9,   2357.0,2,   7.6131,    25.00,2,  -999.00,   2.2106
  49HH19941213,  SR03,    25,  1,      6,      6,2,19941231,1558,-50.0460, 142.7870, 3991,   2249.0,   2.1970,  34.7320,2,  34.7320,2,    188.5,2,    76.00,2,    32.47,2,     0.00,2,     2.26,2,   -999.0,9,   2359.0,2,   7.6231,    25.00,2,  -999.00,   2.0355
  49HH19941213,  SR03,    25,  1,      5,      5,2,19941231,1558,-50.0460, 142.7870, 3991,   2500.0,   2.0250,  34.7460,2,  34.7470,2,    193.6,2,    79.10,2,    31.93,2,     0.00,2,     2.23,2,   -999.0,9,   2363.0,2,   7.6301,    25.00,2,  -999.00,   1.8438
  49HH19941213,  SR03,    25,  1,      4,      4,2,19941231,1558,-50.0460, 142.7870, 3991,   2998.0,   1.4760,  34.7330,2,  34.7330,2,    196.4,2,    99.10,2,    33.01,2,     0.00,2,     2.31,2,   -999.0,9,   2380.0,2,   7.6231,    25.00,2,  -999.00,   1.2596
  49HH19941213,  SR03,    25,  1,      3,      3,2,19941231,1558,-50.0460, 142.7870, 3991,   3497.0,   1.1840,  34.7210,2,  34.7220,2,    201.8,2,   107.70,2,    33.27,2,     0.00,2,     2.34,2,   -999.0,9,   2383.0,2,   7.6171,    25.00,2,  -999.00,   0.9259
  49HH19941213,  SR03,    25,  1,      2,      2,2,19941231,1558,-50.0460, 142.7870, 3991,   3749.0,   1.0360,  34.7140,2,  34.7150,2,    203.7,2,   111.50,2,    33.94,2,     0.02,2,     2.36,2,   -999.0,9,   2386.0,2,   7.6261,    25.00,2,  -999.00,   0.7562
  49HH19941213,  SR03,    25,  1,      1,      1,2,19941231,1558,-50.0460, 142.7870, 3991,   3998.0,   1.0260,  34.7120,2,  34.7160,2,    203.9,2,   111.20,2,    33.60,2,     0.00,2,     2.36,2,   -999.0,9,   2385.0,2,   7.6171,    25.00,2,  -999.00,   0.7204