BOTTLE,20090509PRINUNIVRMK
EXPOCODE,SECT_ID,STNNBR,CASTNO,SAMPNO,BTLNBR,BTLNBR_FLAG_W,DATE,TIME,LATITUDE,LONGITUDE,DEPTH,CTDPRS,CTDTMP,CTDSAL,CTDSAL_FLAG_W,SALNTY,SALNTY_FLAG_W,OXYGEN,OXYGEN_FLAG_W,SILCAT,SILCAT_FLAG_W,NITRAT,NITRAT_FLAG_W,NITRIT,NITRIT_FLAG_W,PHSPHT,PHSPHT_FLAG_W,TCARBN,TCARBN_FLAG_W,ALKALI,ALKALI_FLAG_W,PH_SWS,PH_TEMP,PH_SWS_FLAG_W,CHLORA,THETA
,,,,,,,,,,,METERS,DBARS,ITS-90,PSS-78,,PSS-78,,UMOL/KG,,UMOL/KG,,UMOL/KG,,UMOL/KG,,UMOL/KG,,UMOL/KG,,UMOL/KG,,,DEGC,,UG/L,DEGC
  49HH19941213,  SR03,    43,  1,     23,     23,2,19950120,1110,-65.4130, 139.8800, 2109,    749.0,   0.1320,  34.6690,2,  34.6750,2,    222.9,2,   113.10,2,    33.50,2,     0.02,2,     2.36,2,   2251.6,2,   2377.0,2,   7.6110,    25.00,2,  -999.00,   0.0997
  49HH19941213,  SR03,    43,  1,     21,     21,2,19950120,1110,-65.4130, 139.8800, 2109,    998.0,   0.1010,  34.6790,2,  34.6830,2,    221.1,2,   115.30,2,    33.83,2,     0.02,2,     2.40,2,   2253.4,2,   2380.0,2,   7.6121,    25.00,2,  -999.00,   0.0560
  49HH19941213,  SR03,    43,  1,     20,     20,2,19950120,1110,-65.4130, 139.8800, 2109,   1247.0,  -0.2560,  34.6540,2,  34.6600,2,    240.6,2,   107.10,2,    33.34,2,     0.03,2,     2.37,2,   2247.7,2,   2374.0,2,   7.6070,    25.00,2,  -999.00,  -0.3112
  49HH19941213,  SR03,    43,  1,     19,     19,2,19950120,1110,-65.4130, 139.8800, 2109,   1400.0,  -0.5230,  34.6360,2,  34.6400,2,    257.0,2,    99.70,2,    32.90,2,     0.05,2,     2.34,2,   -999.0,9,   2375.0,2,   7.6020,    25.00,2,  -999.00,  -0.5838
  49HH19941213,  SR03,    43,  1,     17,     17,2,19950120,1110,-65.4130, 139.8800, 2109,   1499.0,  -0.5430,  34.6340,2,  34.6380,2,    255.0,2,    97.40,2,    32.94,2,     0.05,2,     2.35,2,   2242.9,2,   2371.0,2,   7.6140,    25.00,2,  -999.00,  -0.6092
  49HH19941213,  SR03,    43,  1,     15,     15,2,19950120,1110,-65.4130, 139.8800, 2109,   1499.0,  -0.5500,  34.6340,2,  34.6390,2,    256.2,2,    97.40,2,    32.90,2,     0.00,2,     2.34,2,   -999.0,9,   -999.0,9,-999.0000,  -999.00,9,  -999.00,  -0.6161
  49HH19941213,  SR03,    43,  1,     13,     13,2,19950120,1110,-65.4130, 139.8800, 2109,   1551.0,  -0.5650,  34.6320,2,  34.6360,2,    257.5,2,    95.80,2,    32.97,2,     0.05,2,     2.34,2,   2244.2,2,   2369.0,2,   7.6210,    25.00,2,  -999.00,  -0.6339
  49HH19941213,  SR03,    45,  1,      0,      0,2,19950121,1317,-65.4980, 140.4280, 1317,      1.0,  -1.2000,-999.0000,9,  33.3690,2,    350.8,2,    44.50,2,    26.52,2,     0.20,2,     1.81,2,   -999.0,9,   2277.0,2,   7.7149,    25.00,2,     0.15,  -1.2000
  49HH19941213,  SR03,    45,  1,     24,     24,2,19950121,1317,-65.4980, 140.4280, 1317,      9.0,  -1.1560,  33.4010,2,  33.5500,2,    347.7,2,    45.10,2,    26.89,2,     0.19,2,     1.87,2,   2135.3,2,   2284.0,2,   7.7071,    25.00,2,     0.18,  -1.1562
  49HH19941213,  SR03,    45,  1,     23,     23,2,19950121,1317,-65.4980, 140.4280, 1317,     20.0,  -0.6810,  33.6500,2,  33.6690,2,    344.8,2,    46.00,2,    27.01,2,     0.18,2,     1.88,2,   2141.3,2,   2294.0,2,   7.7002,    25.00,2,     0.17,  -0.6816
  49HH19941213,  SR03,    45,  1,     22,     22,2,19950121,1317,-65.4980, 140.4280, 1317,     30.0,  -0.6670,  33.6780,2,  33.7110,2,    344.6,2,    46.00,2,    27.26,2,     0.18,2,     1.90,2,   2144.1,2,   2298.0,2,   7.7102,    25.00,2,     0.19,  -0.6678
  49HH19941213,  SR03,    45,  1,     21,     21,2,19950121,1317,-65.4980, 140.4280, 1317,     40.0,  -1.5830,  34.2000,2,  34.2450,2,    327.1,2,    54.50,2,    16.02,3,     0.09,2,     2.20,2,   2188.0,2,   2338.0,2,   7.6747,    25.00,2,     0.57,  -1.5838
  49HH19941213,  SR03,    45,  1,     20,     20,2,19950121,1317,-65.4980, 140.4280, 1317,     49.0,  -1.7060,  34.2890,2,  34.3040,2,    326.3,2,    56.30,2,    29.89,2,     0.09,2,     2.28,2,   2196.0,2,   2338.0,2,   7.6667,    25.00,2,     0.71,  -1.7070
  49HH19941213,  SR03,    45,  1,     19,     19,2,19950121,1317,-65.4980, 140.4280, 1317,     75.0,  -1.7910,  34.3300,2,  34.3380,2,    321.7,2,    58.70,2,    30.64,2,     0.13,2,     2.32,2,   2202.8,2,   2340.0,2,   7.6558,    25.00,2,     0.30,  -1.7925
  49HH19941213,  SR03,    45,  1,     18,     18,2,19950121,1317,-65.4980, 140.4280, 1317,     99.0,  -1.8140,  34.3420,2,  34.3500,2,    319.9,2,    59.20,2,    30.78,2,     0.05,2,     2.31,2,   2207.9,2,   2340.0,2,   7.6558,    25.00,2,     0.11,  -1.8160
  49HH19941213,  SR03,    45,  1,     17,     17,2,19950121,1317,-65.4980, 140.4280, 1317,    123.0,  -1.8110,  34.3520,2,  34.3580,2,    318.8,2,    60.90,2,    30.92,2,     0.03,2,     2.30,2,   2210.8,2,   2341.0,2,   7.6568,    25.00,2,     0.05,  -1.8135
  49HH19941213,  SR03,    45,  1,     16,     16,2,19950121,1317,-65.4980, 140.4280, 1317,    149.0,  -1.8010,  34.3590,2,  34.3640,2,    322.5,2,    61.80,2,    30.80,2,     0.03,2,     2.30,2,   2210.2,2,   2345.0,2,   7.6538,    25.00,2,     0.02,  -1.8040
  49HH19941213,  SR03,    45,  1,     15,     15,2,19950121,1317,-65.4980, 140.4280, 1317,    200.0,  -1.7320,  34.3840,2,  34.3920,2,    310.3,2,    63.80,2,    31.10,2,     0.03,2,     2.36,2,   2214.3,2,   2347.0,2,   7.6508,    25.00,2,     0.01,  -1.7363
  49HH19941213,  SR03,    45,  1,     14,     14,2,19950121,1317,-65.4980, 140.4280, 1317,    300.0,  -0.6850,  34.5070,2,  34.5120,2,    268.7,2,    76.40,2,    31.89,2,     0.03,2,     2.45,2,   2230.9,2,   2357.0,2,   7.6199,    25.00,2,     0.00,  -0.6945
  49HH19941213,  SR03,    45,  1,     13,     13,2,19950121,1317,-65.4980, 140.4280, 1317,    500.0,   0.5510,  34.6650,2,  34.6670,2,    220.3,2,    93.30,2,    32.37,2,     0.03,2,     2.49,2,   2248.0,2,   2372.0,2,   7.6150,    25.00,2,  -999.00,   0.5288
  49HH19941213,  SR03,    45,  1,     12,     12,2,19950121,1317,-65.4980, 140.4280, 1317,    750.0,   0.3980,  34.6770,2,  34.6820,2,    215.9,2,   103.70,2,    33.11,2,     0.03,2,     2.53,2,   2253.6,2,   2377.0,2,   7.6181,    25.00,2,  -999.00,   0.3640
  49HH19941213,  SR03,    45,  1,     11,     11,2,19950121,1317,-65.4980, 140.4280, 1317,   1000.0,   0.1080,  34.6700,2,  34.6750,2,    224.8,2,   106.20,2,    33.22,2,     0.03,2,     2.54,2,   2256.0,2,   2374.0,2,   7.6020,    25.00,2,  -999.00,   0.0629
  49HH19941213,  SR03,    45,  1,     10,     10,2,19950121,1317,-65.4980, 140.4280, 1317,   1099.0,  -0.2570,  34.6500,2,  34.6560,2,    240.8,2,    96.60,2,    32.79,2,     0.04,2,     2.49,2,   2248.3,2,   2369.0,2,   7.6240,    25.00,2,  -999.00,  -0.3042
  49HH19941213,  SR03,    45,  1,      9,      9,2,19950121,1317,-65.4980, 140.4280, 1317,   1199.0,  -0.3310,  34.6560,2,  34.6590,2,    242.3,2,    95.50,2,    32.85,2,     0.04,2,     2.48,2,   2247.5,2,   2369.0,2,   7.6200,    25.00,2,  -999.00,  -0.3829
  49HH19941213,  SR03,    45,  1,      8,      8,2,19950121,1317,-65.4980, 140.4280, 1317,   1249.0,  -0.4600,  34.6440,2,  34.6490,2,    248.9,2,    93.10,2,    32.78,2,     0.05,2,     2.45,2,   2247.7,2,   2367.0,2,   7.6130,    25.00,2,  -999.00,  -0.5132