BOTTLE,20090509PRINUNIVRMK
# 9/28/07 file initialized 
# Data from M. Ishii 1/22/07 
# Ship:Hakuho-Maru 
# Cruise: KH94_4, SR03 line 
# Dates: 12/13/1994-1/28/1995 
# EXPOCODE 49HH19941213 
# Region:S.O. ~140E from 65-50S 
# Chief Scientist: K.Kawaguchi 
# 11 stations;  with 24 place Rosette 
# Hydro: Who - H. Hasumoto; Status - final 
# 	Notes: 	 
# Nuts/O2: Who - S.Watanabe; Status - final 
# 	Notes: Station 11 values consistent but very different from neighboring stations - other side of front 
# TCO2: Who - M. Ishii; Status - final 
# 	Notes: Data have been adjusted to CRM #20  
# TA: Who - S.Watanabe; Status - final 
# 	Notes: CRM not used  
# pH: Who - S.Watanabe; Status - final   
# 	Notes:  
# 	Converted to SWS@25C. Original on NBS scale @25C. 
# Other: Chloroa 
# References: 
# Ishii, M., Inoue, H.Y., Matuseda, H., 2002. Net community production in the marginal ice zone and its importance for the variability of the oceanic pCO2 in the Southern Ocean south of Australia. Deep-Sea Research II, 49, 1691-1706. 
# Preliminary Report of the R/V Hakuho Maru Cruise KH-94-4, Southern Ocean Expedition. Ocean Research Institute, University of Tokyo, 1996. 
EXPOCODE,SECT_ID,STNNBR,CASTNO,SAMPNO,BTLNBR,BTLNBR_FLAG_W,DATE,TIME,LATITUDE,LONGITUDE,DEPTH,CTDPRS,CTDTMP,CTDSAL,CTDSAL_FLAG_W,SALNTY,SALNTY_FLAG_W,OXYGEN,OXYGEN_FLAG_W,SILCAT,SILCAT_FLAG_W,NITRAT,NITRAT_FLAG_W,NITRIT,NITRIT_FLAG_W,PHSPHT,PHSPHT_FLAG_W,TCARBN,TCARBN_FLAG_W,ALKALI,ALKALI_FLAG_W,PH_SWS,PH_TEMP,PH_SWS_FLAG_W,CHLORA,THETA
,,,,,,,,,,,METERS,DBARS,ITS-90,PSS-78,,PSS-78,,UMOL/KG,,UMOL/KG,,UMOL/KG,,UMOL/KG,,UMOL/KG,,UMOL/KG,,UMOL/KG,,,DEGC,,UG/L,DEGC
  49HH19941213,  SR03,    11,  1,      0,      0,2,19941219,1500,-64.6650, 140.0100, 2943,      0.0,  -0.9000,-999.0000,9,  33.5980,2,    350.6,2,    47.90,2,    34.12,2,     0.33,2,     2.26,2,   2136.3,2,   2285.0,2,   7.7031,    25.00,2,     0.13,  -0.9000
  49HH19941213,  SR03,    11,  1,     24,     24,2,19941219,1500,-64.6650, 140.0100, 2943,     10.0,  -0.9920,  33.5920,2,  33.7090,2,    346.8,2,    50.30,2,    34.64,2,     0.28,2,     2.28,2,   2146.3,2,   2291.0,2,   7.6922,    25.00,2,     0.15,  -0.9922
  49HH19941213,  SR03,    11,  1,     23,     23,2,19941219,1500,-64.6650, 140.0100, 2943,     18.0,  -1.4760,  33.8180,2,  33.8470,2,    295.8,2,    51.40,2,    34.90,2,     0.23,2,     2.35,2,   2155.0,2,   2301.0,2,   7.6843,    25.00,2,     0.19,  -1.4764
  49HH19941213,  SR03,    11,  1,     22,     22,2,19941219,1500,-64.6650, 140.0100, 2943,     29.0,  -1.5800,  33.9150,2,  33.9330,2,    270.0,2,    53.10,2,    35.67,2,     0.21,2,     2.41,2,   2162.0,2,   2307.0,2,   7.6824,    25.00,2,     0.23,  -1.5806
  49HH19941213,  SR03,    11,  1,     21,     21,2,19941219,1500,-64.6650, 140.0100, 2943,     47.0,  -1.6670,  34.1290,2,  34.1450,2,    228.5,2,    58.70,2,    37.12,2,     0.15,2,     2.54,2,   2187.0,2,   2320.0,2,   7.6536,    25.00,2,     0.70,  -1.6679
  49HH19941213,  SR03,    11,  1,     20,     20,2,19941219,1500,-64.6650, 140.0100, 2943,     71.0,  -1.5050,  34.2100,2,  34.2180,2,    205.1,2,    63.50,2,    38.20,2,     0.12,2,     2.55,2,   2191.1,2,   2285.0,3,   7.6376,    25.00,2,     0.60,  -1.5066
  49HH19941213,  SR03,    11,  1,     19,     19,2,19941219,1500,-64.6650, 140.0100, 2943,     97.0,  -1.2180,  34.2790,2,  34.2900,2,    206.9,2,    68.40,2,    38.76,2,     0.10,2,     2.59,2,   2203.3,2,   2329.0,2,   7.6287,    25.00,2,     0.20,  -1.2204
  49HH19941213,  SR03,    11,  1,     18,     18,2,19941219,1500,-64.6650, 140.0100, 2943,    122.0,  -1.7500,  34.3240,2,  34.3300,2,    208.1,2,    70.10,2,    37.79,2,     0.02,2,     2.56,2,   2203.1,2,   2336.0,2,   7.6487,    25.00,2,     0.07,  -1.7525
  49HH19941213,  SR03,    11,  1,     17,     17,2,19941219,1500,-64.6650, 140.0100, 2943,    147.0,  -1.1540,  34.3920,2,  34.3950,2,    209.7,2,    77.00,2,    38.54,2,     0.02,2,     2.61,2,   2211.6,2,   2341.0,2,   7.6308,    25.00,2,     0.03,  -1.1578
  49HH19941213,  SR03,    11,  1,     16,     16,2,19941219,1500,-64.6650, 140.0100, 2943,    171.0,  -1.4540,  34.4080,2,  34.4100,2,    214.0,2,    79.00,2,    37.06,2,     0.01,2,     2.56,2,   2210.9,2,   2339.0,2,   7.6468,    25.00,2,     0.01,  -1.4581
  49HH19941213,  SR03,    11,  1,     15,     15,2,19941219,1500,-64.6650, 140.0100, 2943,    199.0,  -0.5820,  34.4860,2,  34.4870,2,    218.4,2,    86.50,2,    39.01,2,     0.01,2,     2.63,2,   2223.6,2,   2345.0,2,   7.6199,    25.00,2,     0.01,  -0.5883
  49HH19941213,  SR03,    11,  1,     14,     14,2,19941219,1500,-64.6650, 140.0100, 2943,    297.0,   0.4390,  34.6100,2,  34.6090,2,    226.8,2,    97.20,2,    39.53,2,     0.01,2,     2.70,2,   2235.0,2,   2356.0,2,   7.6070,    25.00,2,     0.01,   0.4267
  49HH19941213,  SR03,    11,  1,     13,     13,2,19941219,1500,-64.6650, 140.0100, 2943,    497.0,   1.1310,  34.7060,2,  34.7090,2,    231.8,2,   108.10,2,    39.66,2,     0.00,2,     2.65,2,   2246.3,2,   2367.0,2,   7.6151,    25.00,2,  -999.00,   1.1066
  49HH19941213,  SR03,    11,  1,     12,     12,2,19941219,1500,-64.6650, 140.0100, 2943,    747.0,   0.9650,  34.7080,2,  34.7080,2,    191.2,2,   117.60,2,    40.10,2,     0.00,2,     2.69,2,   2249.1,2,   2369.0,2,   7.6081,    25.00,2,  -999.00,   0.9277
  49HH19941213,  SR03,    11,  1,     11,     11,2,19941219,1500,-64.6650, 140.0100, 2943,    997.0,   0.8060,  34.7040,2,  34.7060,2,   -999.0,9,   124.30,2,    40.35,2,     0.00,2,     2.68,2,   2253.1,2,   2370.0,2,   7.6141,    25.00,2,  -999.00,   0.7553
  49HH19941213,  SR03,    11,  1,     10,     10,2,19941219,1500,-64.6650, 140.0100, 2943,   1248.0,   0.6070,  34.6960,2,  34.6970,2,   -999.0,9,   129.00,2,    40.81,2,     0.00,2,     2.74,2,   2254.6,2,   2371.0,2,   7.6011,    25.00,2,  -999.00,   0.5429
  49HH19941213,  SR03,    11,  1,      9,      9,2,19941219,1500,-64.6650, 140.0100, 2943,   1499.0,   0.4320,  34.6880,2,  34.6900,2,   -999.0,9,   131.10,2,    40.81,2,     0.00,2,     2.81,2,   2253.1,2,   2372.0,2,   7.6091,    25.00,2,  -999.00,   0.3540
  49HH19941213,  SR03,    11,  1,      8,      8,2,19941219,1500,-64.6650, 140.0100, 2943,   1748.0,   0.1970,  34.6770,2,  34.6740,2,   -999.0,9,   130.30,2,    40.77,2,     0.00,2,     2.76,2,   2252.9,2,   2371.0,2,   7.5960,    25.00,2,  -999.00,   0.1056
  49HH19941213,  SR03,    11,  1,      7,      7,2,19941219,1500,-64.6650, 140.0100, 2943,   2238.0,  -0.0760,  34.6730,2,-999.0000,9,   -999.0,9,  -999.00,9,  -999.00,9,  -999.00,9,  -999.00,9,   -999.0,9,   -999.0,9,-999.0000,  -999.00,9,  -999.00,  -0.1975
  49HH19941213,  SR03,    11,  1,      6,      6,2,19941219,1500,-64.6650, 140.0100, 2943,   2248.0,  -0.0780,  34.6730,2,  34.6740,2,   -999.0,9,   127.40,2,    40.32,2,     0.00,2,     2.73,2,   2253.0,2,   2369.0,2,   7.6080,    25.00,2,  -999.00,  -0.2002
  49HH19941213,  SR03,    11,  1,      5,      5,2,19941219,1500,-64.6650, 140.0100, 2943,   2502.0,  -0.1710,  34.6730,2,  34.6750,2,   -999.0,9,   126.50,2,    40.22,2,     0.00,2,     2.73,2,   2250.0,2,   2369.0,2,   7.6000,    25.00,2,  -999.00,  -0.3105
  49HH19941213,  SR03,    11,  1,      4,      4,2,19941219,1500,-64.6650, 140.0100, 2943,   2751.0,  -0.3080,  34.6680,2,  34.6690,2,   -999.0,9,   126.40,2,    40.04,2,     0.00,2,     2.68,2,   2249.4,2,   2370.0,2,   7.6080,    25.00,2,  -999.00,  -0.4642
  49HH19941213,  SR03,    11,  1,      3,      3,2,19941219,1500,-64.6650, 140.0100, 2943,   2908.0,  -0.4560,  34.6520,2,  34.6530,2,   -999.0,9,   115.60,2,    39.99,2,     0.00,2,     2.67,2,   2243.7,2,   2366.0,2,   7.6040,    25.00,2,  -999.00,  -0.6215
  49HH19941213,  SR03,    11,  1,      1,      1,2,19941219,1500,-64.6650, 140.0100, 2943,   1997.0,   0.0360,  34.6750,2,  34.6760,2,   -999.0,9,   128.60,2,    40.76,2,     0.00,2,     2.73,2,   -999.0,9,   2367.0,2,   7.6120,    25.00,2,  -999.00,  -0.0701
  49HH19941213,  SR03,    13,  1,      0,      0,2,19941224, 132,-64.3680, 140.0020, 3421,      1.0,  -0.1000,-999.0000,9,  33.6120,2,    346.6,2,    37.30,2,    27.49,2,     0.26,2,     1.94,2,   2137.1,2,   2285.0,2,   7.7051,    25.00,2,     0.06,  -0.1000
  49HH19941213,  SR03,    13,  1,     24,     24,2,19941224, 132,-64.3680, 140.0020, 3421,      8.0,  -0.2340,  33.6090,2,  33.6130,2,    345.3,2,    37.10,2,    27.58,2,     0.23,2,     1.90,2,   2142.2,2,   2286.0,2,   7.6961,    25.00,2,     0.05,  -0.2342
  49HH19941213,  SR03,    13,  1,     23,     23,2,19941224, 132,-64.3680, 140.0020, 3421,     18.0,  -0.5290,  33.6560,2,  33.8680,2,    343.6,2,    38.60,2,    28.00,2,     0.13,2,     1.96,2,   2157.1,2,   2301.0,2,   7.6933,    25.00,2,     0.10,  -0.5295
  49HH19941213,  SR03,    13,  1,     22,     22,2,19941224, 132,-64.3680, 140.0020, 3421,     30.0,  -1.3740,  33.9730,2,  33.9990,2,    340.9,2,    39.20,2,    28.36,2,     0.10,2,     1.98,2,   2165.7,2,   2311.0,2,   7.6925,    25.00,2,     0.12,  -1.3747
  49HH19941213,  SR03,    13,  1,     21,     21,2,19941224, 132,-64.3680, 140.0020, 3421,     49.0,  -1.5800,  34.1040,2,  34.1200,2,    319.7,2,    45.10,2,    29.60,2,     0.11,2,     2.13,2,   2179.9,2,   2317.0,2,   7.6616,    25.00,2,     0.19,  -1.5810
  49HH19941213,  SR03,    13,  1,     20,     20,2,19941224, 132,-64.3680, 140.0020, 3421,     74.0,   0.3030,  34.3850,2,  34.3910,2,    241.7,2,    60.30,2,    32.94,2,     0.10,2,     2.40,2,   2226.5,2,   2336.0,2,   7.5888,    25.00,2,     0.56,   0.3002
  49HH19941213,  SR03,    13,  1,     19,     19,2,19941224, 132,-64.3680, 140.0020, 3421,     99.0,   0.9150,  34.5000,2,  34.5000,2,    208.9,2,    67.70,2,    33.87,2,     0.08,2,     2.47,2,   2237.9,2,   2341.0,2,   7.5679,    25.00,2,     0.10,   0.9107
  49HH19941213,  SR03,    13,  1,     18,     18,2,19941224, 132,-64.3680, 140.0020, 3421,    124.0,   1.6010,  34.6010,2,  34.5940,2,    186.8,2,    72.80,2,    34.45,2,     0.03,2,     2.50,2,   2247.6,2,   2348.0,2,   7.5670,    25.00,2,     0.04,   1.5948
  49HH19941213,  SR03,    13,  1,     17,     17,2,19941224, 132,-64.3680, 140.0020, 3421,    149.0,   1.5390,  34.6180,2,  34.6490,2,    188.3,2,    74.40,2,    34.52,2,     0.03,2,     2.47,2,   2250.7,2,   2343.0,2,   7.5690,    25.00,2,     0.02,   1.5316
  49HH19941213,  SR03,    13,  1,     16,     16,2,19941224, 132,-64.3680, 140.0020, 3421,    173.0,   1.6980,  34.6490,2,  34.6500,2,    185.9,2,    74.80,2,    34.52,2,     0.02,2,     2.51,2,   2251.3,2,   2352.0,2,   7.5660,    25.00,2,     0.01,   1.6892
  49HH19941213,  SR03,    13,  1,     15,     15,2,19941224, 132,-64.3680, 140.0020, 3421,    198.0,   1.8180,  34.6730,2,  34.6740,2,    183.8,2,    75.40,2,    33.61,2,     0.01,2,     2.42,2,   2249.2,2,   2355.0,2,   7.5760,    25.00,2,     0.01,   1.8077
  49HH19941213,  SR03,    13,  1,     14,     14,2,19941224, 132,-64.3680, 140.0020, 3421,    299.0,   1.6580,  34.6890,2,  34.6940,2,    189.4,2,    77.10,2,    33.10,2,     0.00,2,     2.15,3,   2252.7,2,   2354.0,2,   7.5781,    25.00,2,     0.01,   1.6425
  49HH19941213,  SR03,    13,  1,     13,     13,2,19941224, 132,-64.3680, 140.0020, 3421,    499.0,   1.5480,  34.7190,2,  34.7200,2,    195.1,2,    81.20,2,    32.18,2,     0.00,2,     2.31,2,   2246.7,2,   2356.0,2,   7.6041,    25.00,2,  -999.00,   1.5217
  49HH19941213,  SR03,    13,  1,     12,     12,2,19941224, 132,-64.3680, 140.0020, 3421,    748.0,   1.4220,  34.7330,2,  34.7390,2,    201.9,2,    87.30,2,    32.04,2,     0.01,2,     2.32,2,   -999.0,9,   2363.0,2,   7.6151,    25.00,2,  -999.00,   1.3818
  49HH19941213,  SR03,    13,  1,     11,     11,2,19941224, 132,-64.3680, 140.0020, 3421,    999.0,   1.1740,  34.7270,2,  34.7280,2,    193.0,2,    94.90,2,    32.17,2,     0.01,2,     2.31,2,   -999.0,9,   2366.0,2,   7.6141,    25.00,2,  -999.00,   1.1202
  49HH19941213,  SR03,    13,  1,     10,     10,2,19941224, 132,-64.3680, 140.0020, 3421,   1249.0,   1.0110,  34.7210,2,  34.7180,2,    205.9,2,   100.20,2,    32.44,2,     0.00,2,     2.31,2,   -999.0,9,   -999.0,9,   7.6161,    25.00,2,  -999.00,   0.9428
  49HH19941213,  SR03,    13,  1,      9,      9,2,19941224, 132,-64.3680, 140.0020, 3421,   1500.0,   0.8300,  34.7100,2,  34.7290,2,    202.6,2,    95.10,2,    31.97,2,     0.01,2,     2.29,2,   -999.0,9,   2370.0,2,   7.6151,    25.00,2,  -999.00,   0.7471
  49HH19941213,  SR03,    13,  1,      8,      8,2,19941224, 132,-64.3680, 140.0020, 3421,   1749.0,   0.6260,  34.7000,2,  34.6930,2,    216.7,2,   108.00,2,    33.48,2,     0.01,2,     2.36,2,   -999.0,9,   2371.0,2,   7.5961,    25.00,2,  -999.00,   0.5286
  49HH19941213,  SR03,    13,  1,      7,      7,2,19941224, 132,-64.3680, 140.0020, 3421,   1999.0,   0.4080,  34.6900,2,  34.6890,2,    215.0,2,   111.90,2,    33.02,2,     0.01,2,     2.41,2,   -999.0,9,   2368.0,2,   7.6071,    25.00,2,  -999.00,   0.2959
  49HH19941213,  SR03,    13,  1,      6,      6,2,19941224, 132,-64.3680, 140.0020, 3421,   2248.0,   0.2560,  34.6850,2,  34.6820,2,    220.1,2,   112.70,2,    33.43,2,     0.00,2,     2.39,2,   -999.0,9,   2366.0,2,   7.5981,    25.00,2,  -999.00,   0.1280
  49HH19941213,  SR03,    13,  1,      5,      5,2,19941224, 132,-64.3680, 140.0020, 3421,   2498.0,   0.1300,  34.6820,2,  34.6810,2,    222.8,2,   113.60,2,    33.62,2,     0.00,2,     2.40,2,   -999.0,9,   2368.0,2,   7.5991,    25.00,2,  -999.00,  -0.0150
  49HH19941213,  SR03,    13,  1,      4,      4,2,19941224, 132,-64.3680, 140.0020, 3421,   2749.0,  -0.0110,  34.6770,2,  34.6730,2,    234.7,2,   106.60,2,    33.10,2,     0.00,2,     2.36,2,   -999.0,9,   2363.0,2,   7.6020,    25.00,2,  -999.00,  -0.1732
  49HH19941213,  SR03,    13,  1,      3,      3,2,19941224, 132,-64.3680, 140.0020, 3421,   2999.0,  -0.1080,  34.6760,2,  34.6740,2,    234.3,2,   109.70,2,    33.43,2,     0.00,2,     2.37,2,   -999.0,9,   2365.0,2,   7.6030,    25.00,2,  -999.00,  -0.2889
  49HH19941213,  SR03,    13,  1,      2,      2,2,19941224, 132,-64.3680, 140.0020, 3421,   3248.0,  -0.2080,  34.6720,2,  34.6710,2,    231.9,2,   105.00,2,    33.23,2,     0.00,2,     2.37,2,   -999.0,9,   2365.0,2,   7.6160,    25.00,2,  -999.00,  -0.4080
  49HH19941213,  SR03,    13,  1,      1,      1,2,19941224, 132,-64.3680, 140.0020, 3421,   3413.0,  -0.2850,  34.6650,2,  34.6600,2,    245.2,2,    96.30,2,    32.90,2,     0.00,2,     2.31,2,   -999.0,9,   2363.0,2,   7.6110,    25.00,2,  -999.00,  -0.4977
  49HH19941213,  SR03,    14,  1,      0,      0,2,19941226, 738,-65.0950, 139.9970, 2947,      1.0,  -0.9000,-999.0000,9,-999.0000,9,    350.2,2,    44.50,2,    29.20,2,     0.18,2,     1.95,2,   -999.0,9,   2341.0,2,-999.0000,  -999.00,9,     0.39,-999.0000
  49HH19941213,  SR03,    14,  1,     23,     23,2,19941226, 738,-65.0950, 139.9970, 2947,      9.0,  -1.2460,  33.7390,2,-999.0000,9,    340.4,2,    43.60,2,    27.75,2,     0.16,2,     1.81,2,   2158.7,2,   2291.0,2,   7.7012,    25.00,2,     0.37,  -1.2462
  49HH19941213,  SR03,    14,  1,     21,     21,2,19941226, 738,-65.0950, 139.9970, 2947,     19.0,  -1.6650,  34.0420,2,-999.0000,9,    319.8,2,    47.80,2,    28.88,2,     0.07,2,     1.88,2,   2182.3,2,   2316.0,2,   7.6845,    25.00,2,     0.51,  -1.6654
  49HH19941213,  SR03,    14,  1,     20,     20,2,19941226, 738,-65.0950, 139.9970, 2947,     29.0,  -1.7660,  34.2350,2,-999.0000,9,    314.1,2,    50.20,2,    29.69,2,     0.10,2,     2.08,2,   2190.7,2,   2326.0,2,   7.6677,    25.00,2,     0.48,  -1.7666
  49HH19941213,  SR03,    14,  1,     19,     19,2,19941226, 738,-65.0950, 139.9970, 2947,     49.0,  -1.7870,  34.2740,2,-999.0000,9,    314.1,2,    52.80,2,    29.84,2,     0.14,2,     2.05,2,   2196.2,2,   2323.0,2,   7.6647,    25.00,2,     0.77,  -1.7880
  49HH19941213,  SR03,    14,  1,     17,     17,2,19941226, 738,-65.0950, 139.9970, 2947,     74.0,  -1.8090,  34.3050,2,-999.0000,9,    311.3,2,    54.10,2,    29.96,2,     0.14,2,     2.07,2,   2199.8,2,   2353.0,2,   7.6697,    25.00,2,     0.27,  -1.8104
  49HH19941213,  SR03,    14,  1,     15,     15,2,19941226, 738,-65.0950, 139.9970, 2947,    100.0,  -1.8010,  34.3280,2,-999.0000,9,    312.5,2,    55.60,2,    31.36,2,     0.14,2,     2.05,2,   2203.7,2,   2336.0,2,   7.6647,    25.00,2,     0.10,  -1.8030
  49HH19941213,  SR03,    14,  1,     14,     14,2,19941226, 738,-65.0950, 139.9970, 2947,    123.0,  -1.7650,  34.3500,2,-999.0000,9,   -999.0,9,  -999.00,9,  -999.00,9,  -999.00,9,  -999.00,9,   -999.0,9,   -999.0,9,-999.0000,  -999.00,9,  -999.00,  -1.7675
  49HH19941213,  SR03,    14,  1,     13,     13,2,19941226, 738,-65.0950, 139.9970, 2947,    149.0,  -1.6380,  34.3730,2,-999.0000,9,   -999.0,9,  -999.00,9,  -999.00,9,  -999.00,9,  -999.00,9,   -999.0,9,   -999.0,9,-999.0000,  -999.00,9,  -999.00,  -1.6413
  49HH19941213,  SR03,    14,  1,     11,     11,2,19941226, 738,-65.0950, 139.9970, 2947,    174.0,  -1.5900,  34.3890,2,-999.0000,9,    304.4,2,    61.20,2,    32.16,2,     0.07,2,     2.09,2,   2214.0,2,   -999.0,9,   7.6498,    25.00,2,     0.01,  -1.5939
  49HH19941213,  SR03,    14,  1,      9,      9,2,19941226, 738,-65.0950, 139.9970, 2947,    199.0,  -1.4380,  34.4170,2,-999.0000,9,    293.8,2,    64.20,2,    31.92,2,     0.06,2,     2.11,2,   2216.1,2,   2334.0,2,   7.6528,    25.00,2,     0.01,  -1.4428
  49HH19941213,  SR03,    14,  1,      7,      7,2,19941226, 738,-65.0950, 139.9970, 2947,    249.0,  -1.0090,  34.4630,2,-999.0000,9,   -999.0,9,  -999.00,9,  -999.00,9,  -999.00,9,  -999.00,9,   2222.8,2,   2337.0,2,   7.6459,    25.00,2,  -999.00,  -1.0161
  49HH19941213,  SR03,    14,  1,      5,      5,2,19941226, 738,-65.0950, 139.9970, 2947,    300.0,  -0.4770,  34.5160,2,-999.0000,9,    261.5,2,    71.70,2,    31.46,2,  -999.00,9,  -999.00,9,   2227.5,2,   2337.0,2,   7.6299,    25.00,2,     0.01,  -0.4871
  49HH19941213,  SR03,    14,  1,      4,      4,2,19941226, 738,-65.0950, 139.9970, 2947,    504.0,   0.9230,  34.6960,2,-999.0000,9,    210.5,2,    89.90,2,    31.86,2,     0.00,2,     2.27,2,   2249.3,2,   2358.0,2,   7.6161,    25.00,2,  -999.00,   0.8991