BOTTLE,20090509PRINUNIVRMK
EXPOCODE,SECT_ID,STNNBR,CASTNO,SAMPNO,BTLNBR,BTLNBR_FLAG_W,DATE,TIME,LATITUDE,LONGITUDE,DEPTH,CTDPRS,CTDTMP,CTDSAL,CTDSAL_FLAG_W,SALNTY,SALNTY_FLAG_W,OXYGEN,OXYGEN_FLAG_W,SILCAT,SILCAT_FLAG_W,NITRAT,NITRAT_FLAG_W,NITRIT,NITRIT_FLAG_W,PHSPHT,PHSPHT_FLAG_W,TCARBN,TCARBN_FLAG_W,ALKALI,ALKALI_FLAG_W,PH_SWS,PH_TEMP,PH_SWS_FLAG_W,CHLORA,THETA
,,,,,,,,,,,METERS,DBARS,ITS-90,PSS-78,,PSS-78,,UMOL/KG,,UMOL/KG,,UMOL/KG,,UMOL/KG,,UMOL/KG,,UMOL/KG,,UMOL/KG,,,DEGC,,UG/L,DEGC
  49HH19941213,  SR03,    35,  1,      0,      0,2,19950114, 216,-62.0280, 141.6930, 4262,      1.0,   2.6000,-999.0000,9,-999.0000,9,   -999.0,9,    20.30,2,    26.04,2,  -999.00,9,     1.52,2,   -999.0,9,   2359.0,2,-999.0000,  -999.00,9,     0.05,-999.0000
  49HH19941213,  SR03,    35,  1,     24,     24,2,19950114, 216,-62.0280, 141.6930, 4262,      8.0,   2.5700,  33.7620,2,-999.0000,9,   -999.0,9,    20.00,2,    25.81,2,  -999.00,9,     1.53,2,   2141.4,2,   2301.0,2,   7.7662,    25.00,2,     0.04,   2.5696
  49HH19941213,  SR03,    35,  1,     23,     23,2,19950114, 216,-62.0280, 141.6930, 4262,     20.0,   2.3920,  33.8000,2,-999.0000,9,   -999.0,9,    20.40,2,    25.93,2,  -999.00,9,     1.55,2,   2142.0,2,   2301.0,2,   7.7573,    25.00,2,     0.04,   2.3909
  49HH19941213,  SR03,    35,  1,     22,     22,2,19950114, 216,-62.0280, 141.6930, 4262,     29.0,   2.4020,  33.8030,2,-999.0000,9,   -999.0,9,    20.00,2,    25.47,2,  -999.00,9,     1.54,2,   2141.7,2,   2300.0,2,   7.7573,    25.00,2,     0.04,   2.4004
  49HH19941213,  SR03,    35,  1,     21,     21,2,19950114, 216,-62.0280, 141.6930, 4262,     39.0,   1.9480,  33.8200,2,-999.0000,9,   -999.0,9,  -999.00,9,  -999.00,9,  -999.00,9,  -999.00,9,   -999.0,9,   -999.0,9,-999.0000,  -999.00,9,  -999.00,   1.9460
  49HH19941213,  SR03,    35,  1,     20,     20,2,19950114, 216,-62.0280, 141.6930, 4262,     47.0,   0.7410,  33.9070,2,-999.0000,9,   -999.0,9,    17.70,2,    26.86,2,  -999.00,9,     1.61,2,   2157.0,2,   2306.0,2,   7.7564,    25.00,2,     0.17,   0.7391
  49HH19941213,  SR03,    35,  1,     19,     19,2,19950114, 216,-62.0280, 141.6930, 4262,     73.0,  -0.9970,  33.9600,2,-999.0000,9,   -999.0,9,    30.40,2,    29.29,2,  -999.00,9,     1.98,2,   2175.7,2,   2307.0,2,   7.7164,    25.00,2,     0.16,  -0.9989
  49HH19941213,  SR03,    35,  1,     18,     18,2,19950114, 216,-62.0280, 141.6930, 4262,     97.0,  -1.1850,  34.0440,2,-999.0000,9,   -999.0,9,    43.20,2,    31.68,2,  -999.00,9,     2.21,2,   2181.0,2,   2316.0,2,   7.6715,    25.00,2,     0.18,  -1.1874
  49HH19941213,  SR03,    35,  1,     17,     17,2,19950114, 216,-62.0280, 141.6930, 4262,    124.0,   0.3900,  34.2690,2,-999.0000,9,   -999.0,9,    56.10,2,    35.18,2,  -999.00,9,     2.47,2,   2215.0,2,   2329.0,2,   7.6177,    25.00,2,     0.10,   0.3852
  49HH19941213,  SR03,    35,  1,     16,     16,2,19950114, 216,-62.0280, 141.6930, 4262,    149.0,   1.4550,  34.4200,2,-999.0000,9,   -999.0,9,    70.40,2,    37.18,2,  -999.00,9,     2.61,2,   2239.9,2,   2335.0,2,   7.5828,    25.00,2,     0.03,   1.4478
  49HH19941213,  SR03,    35,  1,     15,     15,2,19950114, 216,-62.0280, 141.6930, 4262,    202.0,   1.8940,  34.5370,2,-999.0000,9,   -999.0,9,    73.00,2,    37.34,2,  -999.00,9,     2.60,2,   2247.9,2,   2342.0,2,   7.5579,    25.00,2,     0.02,   1.8834
  49HH19941213,  SR03,    35,  1,     14,     14,2,19950114, 216,-62.0280, 141.6930, 4262,    299.0,   2.0210,  34.6100,2,-999.0000,9,   -999.0,9,    75.10,2,    36.61,2,  -999.00,9,     2.53,2,   2251.7,2,   2349.0,2,   7.5700,    25.00,2,     0.01,   2.0047
  49HH19941213,  SR03,    35,  1,     13,     13,2,19950114, 216,-62.0280, 141.6930, 4262,    500.0,   1.9940,  34.6830,2,-999.0000,9,   -999.0,9,    81.00,2,    35.17,2,  -999.00,9,     2.39,2,   2250.5,2,   2363.0,2,   7.5901,    25.00,2,  -999.00,   1.9659
  49HH19941213,  SR03,    40,  2,      0,      0,2,19950115,1134,-64.1650, 140.6730, 3623,      1.0,   3.3000,-999.0000,9,  33.7270,2,    346.5,2,    16.50,2,    22.19,2,     0.31,2,     1.14,2,   -999.0,9,   2301.0,2,   7.7992,    25.00,2,     0.93,   3.2999
  49HH19941213,  SR03,    40,  2,     24,     24,2,19950115,1134,-64.1650, 140.6730, 3623,     10.0,   2.3980,  33.7410,2,  33.7540,2,    356.3,2,    16.50,2,    22.64,2,     0.28,2,     1.17,2,   2105.9,2,   2300.0,2,   7.8042,    25.00,2,     0.93,   2.3975
  49HH19941213,  SR03,    40,  2,     23,     23,2,19950115,1134,-64.1650, 140.6730, 3623,     20.0,   0.9970,  33.8110,2,  33.8800,2,    384.7,2,    16.30,2,    22.65,2,     0.20,2,     1.27,2,   2111.0,2,   2312.0,2,   7.8084,    25.00,2,     1.91,   0.9962
  49HH19941213,  SR03,    40,  2,     22,     22,2,19950115,1134,-64.1650, 140.6730, 3623,     30.0,  -0.4570,  33.9340,2,  33.9820,2,    359.5,2,    33.10,2,    27.09,2,     0.14,2,     1.81,2,   2139.7,2,   2314.0,2,   7.7514,    25.00,2,     1.38,  -0.4579
  49HH19941213,  SR03,    40,  2,     21,     21,2,19950115,1134,-64.1650, 140.6730, 3623,     40.0,  -0.9800,  34.0230,2,  34.0410,2,    341.0,2,    42.10,2,    28.71,2,     0.13,2,     2.02,2,   2159.1,2,   2319.0,2,   7.7125,    25.00,2,     1.01,  -0.9810
  49HH19941213,  SR03,    40,  2,     20,     20,2,19950115,1134,-64.1650, 140.6730, 3623,     50.0,  -1.3200,  34.1040,2,  34.1340,2,    315.5,2,    51.00,2,    30.69,2,     0.11,2,     2.19,2,   2179.4,2,   2321.0,2,   7.6756,    25.00,2,     0.45,  -1.3212
  49HH19941213,  SR03,    40,  2,     19,     19,2,19950115,1134,-64.1650, 140.6730, 3623,     76.0,  -0.7750,  34.2940,2,  34.3090,2,    279.1,2,    62.40,2,    32.80,2,     0.10,2,     2.31,2,   2202.3,2,   2333.0,2,   7.6397,    25.00,2,     0.12,  -0.7772
  49HH19941213,  SR03,    40,  2,     18,     18,2,19950115,1134,-64.1650, 140.6730, 3623,    100.0,   0.1630,  34.4470,2,  34.4640,2,    234.3,2,    73.30,2,    34.38,2,     0.07,2,     2.41,2,   2226.0,2,   2342.0,2,   7.6089,    25.00,2,     0.05,   0.1593
  49HH19941213,  SR03,    40,  2,     17,     17,2,19950115,1134,-64.1650, 140.6730, 3623,    124.0,   0.7600,  34.5350,2,  34.5420,2,    214.5,2,    78.60,2,    35.02,2,     0.03,2,     2.44,2,   2236.6,2,   2349.0,2,   7.5909,    25.00,2,     0.02,   0.7547
  49HH19941213,  SR03,    40,  2,     16,     16,2,19950115,1134,-64.1650, 140.6730, 3623,    150.0,   1.1030,  34.5870,2,  34.5900,2,    202.6,2,    82.60,2,    35.07,2,     0.03,2,     2.45,2,   2239.4,2,   2352.0,2,   7.5900,    25.00,2,     0.01,   1.0961
  49HH19941213,  SR03,    40,  2,     15,     15,2,19950115,1134,-64.1650, 140.6730, 3623,    202.0,   1.2180,  34.6290,2,  34.6300,2,    200.5,2,    84.70,2,    34.50,2,     0.00,2,     2.40,2,   2241.7,2,   2354.0,2,   7.5930,    25.00,2,     0.01,   1.2085
  49HH19941213,  SR03,    40,  2,     14,     14,2,19950115,1134,-64.1650, 140.6730, 3623,    300.0,   1.4070,  34.6790,2,  34.6820,2,    198.3,2,    87.20,2,    34.26,2,     0.00,2,     2.35,2,   2241.0,2,   2359.0,2,   7.6041,    25.00,2,     0.01,   1.3921
  49HH19941213,  SR03,    40,  2,     13,     13,2,19950115,1134,-64.1650, 140.6730, 3623,    500.0,   1.4950,  34.7250,2,  34.7290,2,    198.9,2,    92.70,2,    33.61,2,     0.00,2,     2.30,2,   2242.5,2,   2364.0,2,   7.6191,    25.00,2,  -999.00,   1.4689
  49HH19941213,  SR03,    40,  1,     24,     24,2,19950115, 748,-64.1650, 140.6730, 3623,    751.0,   1.2930,  34.7030,2,  34.7320,2,    201.2,2,    96.00,2,    33.25,2,     0.00,2,     2.25,2,   2246.2,2,   2367.0,2,   7.6201,    25.00,2,  -999.00,   1.2534
  49HH19941213,  SR03,    40,  1,     21,     21,2,19950115, 748,-64.1650, 140.6730, 3623,   1001.0,   1.0840,  34.6970,2,  34.7280,2,   -999.0,9,   103.50,2,    33.72,2,     0.00,2,     2.30,2,   2244.7,2,   2371.0,2,   7.6301,    25.00,2,  -999.00,   1.0308
  49HH19941213,  SR03,    40,  1,     20,     20,2,19950115, 748,-64.1650, 140.6730, 3623,   1251.0,   0.7980,  34.6770,2,  34.7010,2,    211.0,2,   108.80,2,    34.14,2,     0.00,2,     2.33,2,   2247.3,2,   2369.0,2,   7.6191,    25.00,2,  -999.00,   0.7318
  49HH19941213,  SR03,    40,  1,     19,     19,2,19950115, 748,-64.1650, 140.6730, 3623,   1500.0,   0.7460,  34.6860,2,  34.7110,2,    207.6,2,   117.20,2,    34.74,2,     0.00,2,     2.35,2,   2250.5,2,   2374.0,2,   7.6291,    25.00,2,  -999.00,   0.6641
  49HH19941213,  SR03,    40,  1,     18,     18,2,19950115, 748,-64.1650, 140.6730, 3623,   1775.0,   0.5180,  34.6730,2,  34.6980,2,    213.1,2,   121.40,2,    35.04,2,     0.00,2,     2.37,2,   2251.5,2,   2373.0,2,   7.6131,    25.00,2,  -999.00,   0.4202
  49HH19941213,  SR03,    40,  1,     17,     17,2,19950115, 748,-64.1650, 140.6730, 3623,   2001.0,   0.3730,  34.6670,2,  34.6920,2,    216.6,2,   124.50,2,    35.10,2,     0.00,2,     2.39,2,   2251.4,2,   2373.0,2,   7.6201,    25.00,2,  -999.00,   0.2613
  49HH19941213,  SR03,    40,  1,     16,     16,2,19950115, 748,-64.1650, 140.6730, 3623,   2252.0,   0.2360,  34.6620,2,  34.6880,2,    220.6,2,   125.40,2,    35.10,2,     0.00,2,     2.39,2,   2253.1,2,   2373.0,2,   7.6221,    25.00,2,  -999.00,   0.1080
  49HH19941213,  SR03,    40,  1,     15,     15,2,19950115, 748,-64.1650, 140.6730, 3623,   2500.0,   0.1460,  34.6610,2,  34.6840,2,    226.3,2,   125.20,2,    34.74,2,     0.00,2,     2.38,2,   2252.7,2,   2371.0,2,   7.6171,    25.00,2,  -999.00,   0.0005
  49HH19941213,  SR03,    40,  1,     14,     14,2,19950115, 748,-64.1650, 140.6730, 3623,   2752.0,   0.0580,  34.6590,2,  34.6800,2,    226.1,2,   128.70,2,    34.44,2,     0.00,2,     2.38,2,   2252.6,2,   2373.0,2,   7.6241,    25.00,2,  -999.00,  -0.1059
  49HH19941213,  SR03,    40,  1,     13,     13,2,19950115, 748,-64.1650, 140.6730, 3623,   3000.0,  -0.0470,  34.6560,2,  34.6790,2,    232.2,2,   118.50,2,    34.32,2,     0.00,2,     2.37,2,   2253.4,2,   2369.0,2,   7.6161,    25.00,2,  -999.00,  -0.2294
  49HH19941213,  SR03,    40,  1,     12,     12,2,19950115, 748,-64.1650, 140.6730, 3623,   3249.0,  -0.1530,  34.6520,2,  34.6770,2,    238.1,2,   114.10,2,    33.97,2,     0.00,2,     2.36,2,   2250.6,2,   2369.0,2,   7.6200,    25.00,2,  -999.00,  -0.3545
  49HH19941213,  SR03,    40,  1,     11,     11,2,19950115, 748,-64.1650, 140.6730, 3623,   3499.0,  -0.3300,  34.6370,2,  34.6610,2,    247.0,2,   103.50,2,    33.85,2,     0.00,2,     2.33,2,   2246.3,2,   2367.0,2,   7.6250,    25.00,2,  -999.00,  -0.5493
  49HH19941213,  SR03,    40,  1,     10,     10,2,19950115, 748,-64.1650, 140.6730, 3623,   3550.0,  -0.3780,  34.6330,2,  34.6570,2,    251.0,2,   103.10,2,    33.79,2,     0.00,2,     2.33,2,   -999.0,9,   2365.0,2,   7.6260,    25.00,2,  -999.00,  -0.6007
  49HH19941213,  SR03,    40,  1,      9,      9,2,19950115, 748,-64.1650, 140.6730, 3623,   3629.0,  -0.4000,  34.6300,2,  34.6550,2,    254.5,2,   102.80,2,    34.09,2,     0.00,2,     2.34,2,   2254.1,2,   2367.0,2,   7.6310,    25.00,2,  -999.00,  -0.6293
  49HH19941213,  SR03,    41,  1,      0,      0,2,19950117,1432,-65.1550, 139.9870, 2700,      1.0,   0.3000,-999.0000,9,  33.4010,2,    344.5,2,    40.40,2,    27.15,2,     0.24,2,     1.75,2,   -999.0,9,   2276.0,2,   7.7099,    25.00,2,     0.51,   0.3000
  49HH19941213,  SR03,    41,  1,     24,     24,2,19950117,1432,-65.1550, 139.9870, 2700,      9.0,   0.2854,  33.3720,2,  33.3980,2,    346.1,2,    41.40,2,    27.10,2,     0.24,2,     1.76,2,   2122.9,2,   2277.0,2,   7.7229,    25.00,2,     0.42,   0.2851
  49HH19941213,  SR03,    41,  1,     23,     23,2,19950117,1432,-65.1550, 139.9870, 2700,     19.0,  -1.4112,  33.9800,2,  34.0600,2,    326.7,2,    48.50,2,    29.69,2,     0.06,2,     2.06,2,   2174.3,2,   2318.0,2,   7.6845,    25.00,2,     0.34,  -1.4116
  49HH19941213,  SR03,    41,  1,     22,     22,2,19950117,1432,-65.1550, 139.9870, 2700,     28.0,  -1.6091,  34.1340,2,  34.1590,2,    311.7,2,    51.70,2,    30.94,2,     0.08,2,     2.14,2,   2188.7,2,   2323.0,2,   7.6636,    25.00,2,     0.27,  -1.6097
  49HH19941213,  SR03,    41,  1,     21,     21,2,19950117,1432,-65.1550, 139.9870, 2700,     40.0,  -1.6298,  34.1780,2,  34.2120,2,    305.3,2,    53.40,2,    31.51,2,     0.08,2,     2.18,2,   2196.2,2,   2326.0,2,   7.6606,    25.00,2,     0.34,  -1.6306
  49HH19941213,  SR03,    41,  1,     20,     20,2,19950117,1432,-65.1550, 139.9870, 2700,     49.0,  -1.6046,  34.2240,2,  34.2360,2,    306.4,2,    54.00,2,    31.65,2,     0.08,2,     2.20,2,   2199.3,2,   2326.0,2,   7.6517,    25.00,2,     0.34,  -1.6056
  49HH19941213,  SR03,    41,  1,     19,     19,2,19950117,1432,-65.1550, 139.9870, 2700,     74.0,  -1.6660,  34.3190,2,  34.3310,2,    311.9,2,    59.30,2,    31.74,2,     0.10,2,     2.18,2,   2205.5,2,   2334.0,2,   7.6557,    25.00,2,     0.32,  -1.6675
  49HH19941213,  SR03,    41,  1,     18,     18,2,19950117,1432,-65.1550, 139.9870, 2700,     99.0,  -1.5840,  34.3620,2,  34.3730,2,    304.7,2,    62.60,2,    32.05,2,     0.01,2,     2.19,2,   2210.7,2,   2336.0,2,   7.6478,    25.00,2,     0.06,  -1.5862
  49HH19941213,  SR03,    41,  1,     17,     17,2,19950117,1432,-65.1550, 139.9870, 2700,    124.0,  -1.3647,  34.3950,2,  34.4000,2,    297.1,2,    65.20,2,    32.22,2,     0.00,2,     2.20,2,   2216.8,2,   2343.0,2,   7.6458,    25.00,2,     0.03,  -1.3677
  49HH19941213,  SR03,    41,  1,     16,     16,2,19950117,1432,-65.1550, 139.9870, 2700,    149.0,  -1.1446,  34.4240,2,  34.4310,2,    286.9,2,    68.80,2,    32.66,2,     0.01,2,     2.24,2,   2217.4,2,   2344.0,2,   7.6378,    25.00,2,     0.01,  -1.1485
  49HH19941213,  SR03,    41,  1,     15,     15,2,19950117,1432,-65.1550, 139.9870, 2700,    200.0,  -0.5541,  34.5010,2,  34.5060,2,    265.0,2,    74.60,2,    33.01,2,     0.01,2,     2.27,2,   2230.2,2,   2346.0,2,   7.6259,    25.00,2,     0.01,  -0.5605
  49HH19941213,  SR03,    41,  1,     14,     14,2,19950117,1432,-65.1550, 139.9870, 2700,    300.0,   0.8862,  34.6570,2,  34.6610,2,    214.2,2,    85.50,2,    32.81,2,     0.01,2,     2.30,2,   2245.6,2,   2358.0,2,   7.6070,    25.00,2,     0.00,   0.8726
  49HH19941213,  SR03,    41,  1,     13,     13,2,19950117,1432,-65.1550, 139.9870, 2700,    500.0,   1.0848,  34.7100,2,  34.7150,2,    206.5,2,    95.70,2,    32.72,2,     0.00,2,     2.30,2,   2248.6,2,   2365.0,2,   7.6141,    25.00,2,  -999.00,   1.0604
  49HH19941213,  SR03,    41,  1,     12,     12,2,19950117,1432,-65.1550, 139.9870, 2700,    749.0,   0.8638,  34.7070,2,  34.7110,2,    207.5,2,   104.60,2,    33.07,2,     0.00,2,     2.34,2,   -999.0,9,   -999.0,9,   7.6191,    25.00,2,  -999.00,   0.8270
  49HH19941213,  SR03,    41,  1,     11,     11,2,19950117,1432,-65.1550, 139.9870, 2700,   1000.0,   0.6501,  34.6980,2,  34.7020,2,    211.0,2,   110.80,2,    33.45,2,     0.00,2,     2.35,2,   2256.2,2,   2367.0,2,   7.6171,    25.00,2,  -999.00,   0.6005
  49HH19941213,  SR03,    41,  1,     10,     10,2,19950117,1432,-65.1550, 139.9870, 2700,   1249.0,   0.3964,  34.6870,2,  34.6900,2,    216.5,2,   115.30,2,    33.71,2,     0.00,2,     2.37,2,   -999.0,9,   2370.0,2,   7.6071,    25.00,2,  -999.00,   0.3344
  49HH19941213,  SR03,    41,  1,      9,      9,2,19950117,1432,-65.1550, 139.9870, 2700,   1499.0,   0.2136,  34.6800,2,  34.6830,2,    219.4,2,   115.60,2,    33.76,2,     0.00,2,     2.38,2,   2256.5,2,   2368.0,2,   7.6071,    25.00,2,  -999.00,   0.1382
  49HH19941213,  SR03,    41,  1,      8,      8,2,19950117,1432,-65.1550, 139.9870, 2700,   1748.0,   0.0787,  34.6760,2,  34.6800,2,    223.5,2,   113.00,2,    33.49,2,     0.00,2,     2.36,2,   -999.0,9,   2366.0,2,   7.6061,    25.00,2,  -999.00,  -0.0111
  49HH19941213,  SR03,    41,  1,      7,      7,2,19950117,1432,-65.1550, 139.9870, 2700,   1998.0,   0.0089,  34.6800,2,  34.6840,2,    226.1,2,   109.80,2,    33.57,2,     0.00,2,     2.36,2,   2254.0,2,   2368.0,2,   7.6111,    25.00,2,  -999.00,  -0.0969
  49HH19941213,  SR03,    41,  1,      6,      6,2,19950117,1432,-65.1550, 139.9870, 2700,   2248.0,  -0.0955,  34.6800,2,  34.6830,2,    231.1,2,   113.20,2,    33.62,2,     0.00,2,     2.35,2,   -999.0,9,   2368.0,2,   7.6111,    25.00,2,  -999.00,  -0.2174
  49HH19941213,  SR03,    41,  1,      5,      5,2,19950117,1432,-65.1550, 139.9870, 2700,   2525.0,  -0.1624,  34.6860,2,  34.6880,2,    237.3,2,   104.50,2,    33.55,2,     0.00,2,     2.35,2,   2259.6,2,   2364.0,2,   7.6051,    25.00,2,  -999.00,  -0.3039
  49HH19941213,  SR03,    41,  1,      4,      4,2,19950117,1432,-65.1550, 139.9870, 2700,   2721.0,  -0.2058,  34.6850,2,  34.6880,2,    237.4,2,   103.00,2,    33.52,2,     0.00,2,     2.35,2,   -999.0,9,   2366.0,2,   7.6051,    25.00,2,  -999.00,  -0.3618
  49HH19941213,  SR03,    43,  2,      0,      0,2,19950120,1507,-65.4130, 139.8800, 2109,      1.0,  -0.5000,-999.0000,9,  33.4660,2,    343.5,2,    42.40,2,    26.61,2,     0.20,2,     1.75,2,   -999.0,9,   2284.0,2,   7.7120,    25.00,2,     0.21,  -0.5000
  49HH19941213,  SR03,    43,  2,     24,     24,2,19950120,1507,-65.4130, 139.8800, 2109,     10.0,  -0.5740,  33.4570,2,  33.4620,2,    344.5,2,    43.50,2,    26.04,2,     0.19,2,     1.76,2,   2126.0,2,   2281.0,2,   7.7170,    25.00,2,     0.25,  -0.5743
  49HH19941213,  SR03,    43,  2,     23,     23,2,19950120,1507,-65.4130, 139.8800, 2109,     19.0,  -0.5750,  33.4570,2,  33.4640,2,    345.0,2,    43.10,2,    26.73,2,     0.19,2,     1.77,2,   2126.3,2,   2282.0,2,   7.7120,    25.00,2,     0.25,  -0.5755
  49HH19941213,  SR03,    43,  2,     22,     22,2,19950120,1507,-65.4130, 139.8800, 2109,     29.0,  -0.7490,  33.5690,2,  33.8250,2,    330.5,2,    46.80,2,    28.23,2,     0.20,2,     1.98,2,   2158.6,2,   2302.0,2,   7.6913,    25.00,2,     0.20,  -0.7498
  49HH19941213,  SR03,    43,  2,     21,     21,2,19950120,1507,-65.4130, 139.8800, 2109,     40.0,  -1.6370,  34.1900,2,  34.2110,2,    313.4,2,    52.90,2,    30.44,2,     0.10,2,     2.18,2,   2191.3,2,   2330.0,2,   7.6676,    25.00,2,     0.22,  -1.6378
  49HH19941213,  SR03,    43,  2,     20,     20,2,19950120,1507,-65.4130, 139.8800, 2109,     50.0,  -1.6540,  34.2510,2,  34.2650,2,    310.5,2,    55.60,2,    30.97,2,     0.10,2,     2.21,2,   2199.9,2,   2334.0,2,   7.6497,    25.00,2,     0.23,  -1.6550
  49HH19941213,  SR03,    43,  2,     19,     19,2,19950120,1507,-65.4130, 139.8800, 2109,     73.0,  -1.7300,  34.3090,2,  34.3130,2,    313.9,2,    58.30,2,    30.89,2,     0.08,2,     2.21,2,   2203.1,2,   2341.0,2,   7.6497,    25.00,2,     0.17,  -1.7315
  49HH19941213,  SR03,    43,  2,     18,     18,2,19950120,1507,-65.4130, 139.8800, 2109,     99.0,  -1.7520,  34.3350,2,  34.3410,2,    304.8,2,    59.40,2,    31.16,2,     0.05,2,     2.21,2,   2205.2,2,   2337.0,2,   7.6518,    25.00,2,     0.09,  -1.7540
  49HH19941213,  SR03,    43,  2,     17,     17,2,19950120,1507,-65.4130, 139.8800, 2109,    125.0,  -1.7860,  34.3470,2,  34.3530,2,    317.7,2,    61.90,2,    31.12,2,     0.03,2,     2.21,2,   2203.4,2,   2338.0,2,   7.6558,    25.00,2,     0.06,  -1.7885
  49HH19941213,  SR03,    43,  2,     16,     16,2,19950120,1507,-65.4130, 139.8800, 2109,    152.0,  -1.6300,  34.3600,2,  34.3660,2,    311.1,2,    63.60,2,    31.36,2,     0.02,2,     2.22,2,   2207.3,2,   2341.0,2,   7.6478,    25.00,2,     0.00,  -1.6333
  49HH19941213,  SR03,    43,  2,     15,     15,2,19950120,1507,-65.4130, 139.8800, 2109,    198.0,  -1.6150,  34.3860,2,  34.3930,2,    312.7,2,    67.00,2,    31.41,2,     0.01,2,     2.23,2,   2210.2,2,   2347.0,2,   7.6438,    25.00,2,     0.01,  -1.6195
  49HH19941213,  SR03,    43,  2,     14,     14,2,19950120,1507,-65.4130, 139.8800, 2109,    300.0,  -0.0890,  34.5610,2,  34.5690,2,    247.4,2,    80.30,2,    32.57,2,     0.02,2,     2.32,2,   2229.9,2,   2363.0,2,   7.6120,    25.00,2,     0.01,  -0.1001
  49HH19941213,  SR03,    43,  2,     13,     13,2,19950120,1507,-65.4130, 139.8800, 2109,    504.0,   0.5040,  34.6620,2,  34.6680,2,    223.1,2,    94.50,2,    32.73,2,     0.01,2,     2.34,2,   2244.7,2,   2369.0,2,   7.6120,    25.00,2,  -999.00,   0.4818