BOTTLE,20120607CCHDOSIOCBG
#BOTTLE,20120516PRINUNIVRMK
# 4/12/2012 Initialized README file 
# Data source: C.LoMonaco 
# SHIP: Marion Dufresne 
# Cruise: OISO12 
# Region: SW Indian Ocean 
# EXPOCODE: 35MF20050111 
# DATES: 1/11 - 2/22/2005 
# Chief Scientist: C.Brunet 
# 11 stations with 24 place Rosette 
# Hydro: Who - N.Metzl; Status - final 
# 	Notes: 	 
# Nuts: Who - N.Garcia; Status - final 
# 	Notes: 
# O2: Who - D.Lefevre; Status - final 
# 	Notes: 
# 	CTDOXY bad for stations 22-25 then probe replaced 
# TCO2: Who - C.LoMonaco; Status - final 
# 	Notes: CRM batch #62, #64 and #65 
# TA: Who - C.LoMonaco; Status - final 
# 	Notes: CRM batch #62, #64 and #65 
# C13: Who - C.Pierre; Status - final 
# 	Notes:  
# References: 
# http://caraus.ipsl.jussieu.fr/oiso-publi.html 
EXPOCODE,SECT_ID,STNNBR,CASTNO,BTLNBR,BTLNBR_FLAG_W,DATE,TIME,LATITUDE,LONGITUDE,DEPTH,CTDPRS,CTDTMP,CTDSAL,CTDSAL_FLAG_W,SALNTY,SALNTY_FLAG_W,CTDOXY,CTDOXY_FLAG_W,OXYGEN,OXYGEN_FLAG_W,SILCAT,SILCAT_FLAG_W,NITRAT,NITRAT_FLAG_W,PHSPHT,PHSPHT_FLAG_W,TCARBN,TCARBN_FLAG_W,ALKALI,ALKALI_FLAG_W,DELC13,DELC13_FLAG_W
,,,,,,,,,,METERS,DBAR,ITS-90,PSS-78,,PSS-78,,UMOL/KG,,UMOL/KG,,UMOL/KG,,UMOL/KG,,UMOL/KG,,UMOL/KG,,UMOL/KG,,/MILLE,
  35MF20050111,  OISO,    22,  1,     18,2,20050114,   0,-28.9830,  58.9330, 4650,      4.6,  23.5128,  35.6026,2,  35.5938,2,    218.2,3,    214.5,2,     1.32,2,     0.17,2,  -999.00,9,   2020.5,2,   2325.2,2,     0.85,2
  35MF20050111,  OISO,    22,  1,     17,2,20050114,   0,-28.9830,  58.9330, 4650,     10.7,  22.9479,  35.5841,2,-999.0000,9,    219.6,3,   -999.0,9,     1.32,2,     0.13,2,  -999.00,9,   2022.6,2,   2324.5,2,  -999.00,9
  35MF20050111,  OISO,    22,  1,     16,2,20050114,   0,-28.9830,  58.9330, 4650,     20.5,  22.7867,  35.6210,2,-999.0000,9,    219.6,3,   -999.0,9,     1.32,2,     0.13,2,  -999.00,9,   2023.3,2,   2327.0,2,     0.66,2
  35MF20050111,  OISO,    22,  1,     15,2,20050114,   0,-28.9830,  58.9330, 4650,     30.6,  22.6165,  35.6365,2,-999.0000,9,    219.4,3,   -999.0,9,     1.47,2,     0.13,2,  -999.00,9,   2024.6,2,   2328.7,2,  -999.00,9
  35MF20050111,  OISO,    22,  1,     14,2,20050114,   0,-28.9830,  58.9330, 4650,     40.9,  22.3328,  35.6490,2,-999.0000,9,    220.2,3,   -999.0,9,  -999.00,9,  -999.00,9,  -999.00,9,   -999.0,9,   -999.0,9,  -999.00,9
  35MF20050111,  OISO,    22,  1,     13,2,20050114,   0,-28.9830,  58.9330, 4650,     50.3,  21.6927,  35.7002,2,  35.7512,2,    222.7,3,    227.0,2,     1.47,2,     0.13,2,  -999.00,9,   2032.4,2,   2336.8,2,     0.91,2
  35MF20050111,  OISO,    22,  1,     12,2,20050114,   0,-28.9830,  58.9330, 4650,     75.3,  18.4692,  35.6734,2,-999.0000,9,    223.6,3,   -999.0,9,     1.47,2,     0.13,2,  -999.00,9,   2044.3,2,   2331.6,2,  -999.00,9
  35MF20050111,  OISO,    22,  1,     11,2,20050114,   0,-28.9830,  58.9330, 4650,    101.0,  17.1829,  35.6776,2,-999.0000,9,    228.0,3,   -999.0,9,     1.46,2,     0.52,2,  -999.00,9,   2061.9,2,   2330.9,2,  -999.00,9
  35MF20050111,  OISO,    22,  1,     10,2,20050114,   0,-28.9830,  58.9330, 4650,    126.3,  16.3865,  35.6281,2,-999.0000,9,    229.4,3,   -999.0,9,     1.61,2,     1.91,2,  -999.00,9,   2072.2,2,   2329.8,2,  -999.00,9
  35MF20050111,  OISO,    22,  1,      9,2,20050114,   0,-28.9830,  58.9330, 4650,    151.9,  15.8264,  35.5813,2,-999.0000,9,    229.8,3,   -999.0,9,     2.34,2,     3.39,2,  -999.00,9,   2080.1,2,   2328.0,2,  -999.00,9
  35MF20050111,  OISO,    22,  1,      8,2,20050114,   0,-28.9830,  58.9330, 4650,    201.1,  14.6055,  35.4820,2,  35.4914,2,    230.5,3,    220.2,2,     2.78,2,     5.69,2,  -999.00,9,   -999.0,9,   -999.0,9,     0.76,2
  35MF20050111,  OISO,    22,  1,      7,2,20050114,   0,-28.9830,  58.9330, 4650,    251.3,  13.8057,  35.3964,2,-999.0000,9,    226.7,3,   -999.0,9,     3.37,2,     7.17,2,  -999.00,9,   2092.8,2,   2317.5,2,  -999.00,9
  35MF20050111,  OISO,    22,  1,      6,2,20050114,   0,-28.9830,  58.9330, 4650,    302.6,  13.4092,  35.3381,2,-999.0000,9,    222.6,3,    228.5,2,     3.52,2,     7.73,2,  -999.00,9,   -999.0,9,   -999.0,9,     0.74,2
  35MF20050111,  OISO,    22,  1,      5,2,20050114,   0,-28.9830,  58.9330, 4650,    402.9,  12.4709,  35.1799,2,-999.0000,9,    218.0,3,   -999.0,9,     3.66,2,    10.03,2,  -999.00,9,   2101.5,2,   2311.5,2,  -999.00,9
  35MF20050111,  OISO,    22,  1,      4,2,20050114,   0,-28.9830,  58.9330, 4650,    504.0,  11.7058,  35.0540,2,  35.0666,2,    221.0,3,    228.0,2,     4.10,2,    12.16,2,  -999.00,9,   2105.4,2,   2298.5,2,     0.67,2
  35MF20050111,  OISO,    22,  1,      3,2,20050114,   0,-28.9830,  58.9330, 4650,    603.5,  10.8429,  34.9218,2,-999.0000,9,    216.2,3,   -999.0,9,     4.69,2,    14.94,2,  -999.00,9,   2111.3,2,   2296.4,2,  -999.00,9
  35MF20050111,  OISO,    22,  1,      2,2,20050114,   0,-28.9830,  58.9330, 4650,    806.9,   8.1762,  34.5949,2,-999.0000,9,    209.8,3,   -999.0,9,    11.71,2,    23.43,2,  -999.00,9,   2140.6,2,   2286.6,2,  -999.00,9
  35MF20050111,  OISO,    22,  1,      1,2,20050114,   0,-28.9830,  58.9330, 4650,   1009.4,   5.5159,  34.4124,2,  35.5442,9,    203.1,3,    200.3,2,    22.98,2,    32.60,2,  -999.00,9,   2174.9,2,   2289.5,2,     0.62,2
  35MF20050111,  OISO,    22,  1,     20,2,20050114,   0,-28.9830,  58.9330, 4650,   1515.5,   3.0930,  34.5549,2,  35.4012,9,    171.7,3,    171.2,2,    75.17,2,    38.94,2,  -999.00,9,   2237.5,2,   2328.9,2,  -999.00,9
  35MF20050111,  OISO,    22,  1,     21,2,20050114,   0,-28.9830,  58.9330, 4650,   1515.3,   3.0905,  34.5552,2,-999.0000,9,    171.7,3,   -999.0,9,  -999.00,9,  -999.00,9,  -999.00,9,   2242.6,2,   2329.9,2,  -999.00,9
  35MF20050111,  OISO,    23,  1,     18,2,20050115,   0,-35.0000,  62.0330, 4806,      6.0,  21.0593,  35.5019,2,  35.5079,2,    227.2,3,    222.8,2,     1.85,2,     0.22,2,  -999.00,9,   2044.1,2,   2331.6,2,    -0.52,9
  35MF20050111,  OISO,    23,  1,     17,2,20050115,   0,-35.0000,  62.0330, 4806,     10.6,  20.9968,  35.4979,2,-999.0000,9,    220.6,3,   -999.0,9,     1.67,2,     0.22,2,  -999.00,9,   2042.7,2,   2328.1,2,  -999.00,9
  35MF20050111,  OISO,    23,  1,     16,2,20050115,   0,-35.0000,  62.0330, 4806,     20.1,  20.9253,  35.4954,2,-999.0000,9,    218.9,3,   -999.0,9,     1.67,2,     0.22,2,  -999.00,9,   2042.6,2,   2328.7,2,    -0.39,9
  35MF20050111,  OISO,    23,  1,     15,2,20050115,   0,-35.0000,  62.0330, 4806,     30.9,  20.7182,  35.4969,2,-999.0000,9,    218.3,3,   -999.0,9,     1.85,2,     0.22,2,  -999.00,9,   2041.8,2,   2327.3,2,  -999.00,9
  35MF20050111,  OISO,    23,  1,     14,2,20050115,   0,-35.0000,  62.0330, 4806,     41.2,  19.9819,  35.5335,2,-999.0000,9,    217.3,3,   -999.0,9,     1.48,2,     0.18,2,  -999.00,9,   2040.0,2,   2328.1,2,  -999.00,9
  35MF20050111,  OISO,    23,  1,     13,2,20050115,   0,-35.0000,  62.0330, 4806,     51.1,  17.2697,  35.4972,2,  35.4991,2,    245.9,3,    258.4,2,     1.85,2,     0.18,2,  -999.00,9,   2047.1,2,   2331.1,2,    -0.91,9
  35MF20050111,  OISO,    23,  1,     12,2,20050115,   0,-35.0000,  62.0330, 4806,     76.5,  15.3813,  35.4477,2,-999.0000,9,    226.7,3,   -999.0,9,     2.59,2,     0.75,2,  -999.00,9,   2064.4,2,   2323.1,2,  -999.00,9
  35MF20050111,  OISO,    23,  1,     11,2,20050115,   0,-35.0000,  62.0330, 4806,    101.8,  14.5857,  35.4319,2,-999.0000,9,    224.3,3,   -999.0,9,     3.14,2,     4.45,2,  -999.00,9,   2084.1,2,   2325.6,2,    -1.82,9
  35MF20050111,  OISO,    23,  1,     10,2,20050115,   0,-35.0000,  62.0330, 4806,    127.0,  14.3419,  35.4194,2,-999.0000,9,    224.1,3,   -999.0,9,     3.51,2,     5.02,2,  -999.00,9,   2086.4,2,   2323.8,2,  -999.00,9
  35MF20050111,  OISO,    23,  1,      9,2,20050115,   0,-35.0000,  62.0330, 4806,    152.6,  14.1534,  35.4021,2,-999.0000,9,    224.4,3,   -999.0,9,     3.51,2,     5.50,2,  -999.00,9,   2095.1,2,   2327.4,2,  -999.00,9
  35MF20050111,  OISO,    23,  1,      8,2,20050115,   0,-35.0000,  62.0330, 4806,    201.6,  13.8610,  35.3826,2,  35.5686,9,    224.8,3,    226.1,2,     3.51,2,     6.82,2,  -999.00,9,   2098.9,2,   2324.9,2,    -0.33,9
  35MF20050111,  OISO,    23,  1,      7,2,20050115,   0,-35.0000,  62.0330, 4806,    251.8,  13.6373,  35.3627,2,-999.0000,9,    230.1,3,   -999.0,9,     3.70,2,     7.35,2,  -999.00,9,   2096.3,2,   2318.2,2,  -999.00,9
  35MF20050111,  OISO,    23,  1,      6,2,20050115,   0,-35.0000,  62.0330, 4806,    301.7,  13.2930,  35.3169,2,-999.0000,9,    239.9,3,    227.7,2,     3.70,2,     8.01,2,  -999.00,9,   2096.1,2,   2315.8,2,     0.72,2
  35MF20050111,  OISO,    23,  1,      5,2,20050115,   0,-35.0000,  62.0330, 4806,    402.6,  12.6819,  35.2118,2,-999.0000,9,    245.9,3,   -999.0,9,     3.70,2,     9.77,2,  -999.00,9,   2096.9,2,   2310.8,2,  -999.00,9
  35MF20050111,  OISO,    23,  1,      4,2,20050115,   0,-35.0000,  62.0330, 4806,    504.2,  11.9165,  35.0815,2,  35.1416,2,    225.7,3,    226.9,2,     4.62,2,    10.28,2,  -999.00,9,   2107.1,2,   2305.8,2,    -0.40,9
  35MF20050111,  OISO,    23,  1,      3,2,20050115,   0,-35.0000,  62.0330, 4806,    606.5,  10.7403,  34.8988,2,-999.0000,9,    215.8,3,   -999.0,9,     5.55,2,    13.49,2,  -999.00,9,   2116.2,2,   2298.3,2,  -999.00,9
  35MF20050111,  OISO,    23,  1,      2,2,20050115,   0,-35.0000,  62.0330, 4806,    807.1,   8.1331,  34.5890,2,-999.0000,9,    210.6,3,   -999.0,9,    12.02,2,    23.60,2,  -999.00,9,   2142.8,2,   2286.6,2,  -999.00,9
  35MF20050111,  OISO,    23,  1,      1,2,20050115,   0,-35.0000,  62.0330, 4806,   1010.3,   5.4830,  34.3931,2,  35.5988,9,    207.5,3,    207.8,2,    21.99,2,    32.11,2,  -999.00,9,   2178.9,2,   2291.8,2,     0.75,2
  35MF20050111,  OISO,    23,  1,     20,2,20050115,   0,-35.0000,  62.0330, 4806,   1513.7,   2.9963,  34.5256,2,  35.4437,9,    174.1,3,    175.4,2,    62.81,2,    40.12,2,  -999.00,9,   2233.3,2,   2324.1,2,     0.45,2
  35MF20050111,  OISO,    24,  1,     18,2,20050115,   0,-37.9830,  63.6500, 5500,      5.4,  17.4868,  35.5684,2,  35.5822,2,    243.6,3,    242.1,2,     1.63,2,     0.14,2,  -999.00,9,   2040.4,2,   2329.3,2,     0.14,9
  35MF20050111,  OISO,    24,  1,     17,2,20050115,   0,-37.9830,  63.6500, 5500,     10.2,  17.2772,  35.5640,2,-999.0000,9,    242.8,3,    241.8,2,     1.63,2,     0.18,2,  -999.00,9,   2040.0,2,   2330.4,2,  -999.00,9
  35MF20050111,  OISO,    24,  1,     16,2,20050115,   0,-37.9830,  63.6500, 5500,     20.3,  17.0776,  35.5656,2,-999.0000,9,    241.7,3,    244.6,2,     1.63,2,     0.18,2,  -999.00,9,   2041.9,2,   2328.3,2,     0.83,2
  35MF20050111,  OISO,    24,  1,     15,2,20050115,   0,-37.9830,  63.6500, 5500,     30.2,  16.5534,  35.5746,2,-999.0000,9,    239.1,3,    250.0,2,     2.84,2,     0.50,2,  -999.00,9,   2045.4,2,   2329.3,2,  -999.00,9
  35MF20050111,  OISO,    24,  1,     14,2,20050115,   0,-37.9830,  63.6500, 5500,     40.6,  16.2071,  35.5624,2,-999.0000,9,    237.9,3,    240.5,2,     2.03,2,     0.50,2,  -999.00,9,   2058.9,2,   2332.8,2,  -999.00,9
  35MF20050111,  OISO,    24,  1,     13,2,20050115,   0,-37.9830,  63.6500, 5500,     50.5,  16.1499,  35.5700,2,  35.6124,2,    237.2,3,    234.3,2,     2.84,2,     1.37,2,  -999.00,9,   -999.0,9,   -999.0,9,     0.74,2
  35MF20050111,  OISO,    24,  1,     12,2,20050115,   0,-37.9830,  63.6500, 5500,     75.4,  16.0662,  35.5665,2,-999.0000,9,    236.2,3,    232.2,2,     3.05,2,     2.01,2,  -999.00,9,   2063.1,2,   2328.6,2,  -999.00,9
  35MF20050111,  OISO,    24,  1,     11,2,20050115,   0,-37.9830,  63.6500, 5500,    100.8,  15.9774,  35.5622,2,-999.0000,9,    235.2,3,    231.7,2,     3.25,2,     2.33,2,  -999.00,9,   2064.2,2,   2327.8,2,     0.31,9
  35MF20050111,  OISO,    24,  1,     10,2,20050115,   0,-37.9830,  63.6500, 5500,    125.9,  15.8664,  35.5504,2,-999.0000,9,    234.4,3,   -999.0,9,     3.66,2,     2.92,2,  -999.00,9,   2066.5,2,   2326.3,2,  -999.00,9
  35MF20050111,  OISO,    24,  1,      9,2,20050115,   0,-37.9830,  63.6500, 5500,    151.0,  15.7922,  35.5463,2,-999.0000,9,    233.5,3,   -999.0,9,     2.84,2,     1.64,2,  -999.00,9,   2061.7,2,   2327.7,2,  -999.00,9
  35MF20050111,  OISO,    24,  1,      8,2,20050115,   0,-37.9830,  63.6500, 5500,    200.9,  15.4501,  35.5178,2,  35.5473,2,    231.5,3,    228.9,2,     3.45,2,     3.65,2,  -999.00,9,   2070.0,2,   2327.7,2,    -0.24,9
  35MF20050111,  OISO,    24,  1,      7,2,20050115,   0,-37.9830,  63.6500, 5500,    252.1,  14.9832,  35.4828,2,-999.0000,9,    229.2,3,   -999.0,9,     4.06,2,     4.80,2,  -999.00,9,   2078.8,2,   2323.8,2,  -999.00,9
  35MF20050111,  OISO,    24,  1,      6,2,20050115,   0,-37.9830,  63.6500, 5500,    300.2,  14.6195,  35.4421,2,-999.0000,9,    227.3,3,    225.7,2,     4.27,2,     5.57,2,  -999.00,9,   2085.3,2,   2323.1,2,     0.06,9
  35MF20050111,  OISO,    24,  1,      5,2,20050115,   0,-37.9830,  63.6500, 5500,    400.4,  13.8709,  35.3681,2,-999.0000,9,    223.5,3,   -999.0,9,     4.06,2,     7.12,2,  -999.00,9,   2094.0,2,   2319.8,2,  -999.00,9
  35MF20050111,  OISO,    24,  1,      4,2,20050115,   0,-37.9830,  63.6500, 5500,    504.2,  13.1840,  35.2815,2,-999.0000,9,    220.9,3,    221.7,2,     4.26,2,     9.13,2,  -999.00,9,   2099.6,2,   2312.4,2,    -0.20,9
  35MF20050111,  OISO,    24,  1,      3,2,20050115,   0,-37.9830,  63.6500, 5500,    604.5,  12.2807,  35.1311,2,-999.0000,9,    219.5,3,   -999.0,9,     5.28,2,    10.70,2,  -999.00,9,   2103.1,2,   2305.6,2,  -999.00,9
  35MF20050111,  OISO,    24,  1,      2,2,20050115,   0,-37.9830,  63.6500, 5500,    807.5,   9.9202,  34.7836,2,-999.0000,9,    215.6,3,   -999.0,9,     8.12,2,    17.28,2,  -999.00,9,   2128.0,2,   2296.8,2,  -999.00,9
  35MF20050111,  OISO,    24,  1,      1,2,20050115,   0,-37.9830,  63.6500, 5500,   1008.8,   7.0338,  34.4922,2,  34.5440,2,    207.8,3,    206.4,2,    17.66,2,    27.98,2,  -999.00,9,   2157.3,2,   2288.0,2,     0.80,2
  35MF20050111,  OISO,    24,  1,     20,2,20050115,   0,-37.9830,  63.6500, 5500,   1513.3,   3.4985,  34.4776,2,  34.5044,2,    179.8,3,    181.5,2,    57.92,2,    39.81,2,  -999.00,9,   2225.0,2,   2317.3,2,     0.41,2
  35MF20050111,  OISO,    25,  1,     18,2,20050117,   0,-44.9830,  67.7670, 3800,      2.0,   9.4130,  33.7811,2,  34.1341,3,    287.2,3,    284.5,2,     1.77,2,    14.82,2,  -999.00,9,   2058.7,2,   2253.7,2,     0.33,9
  35MF20050111,  OISO,    25,  1,     17,2,20050117,   0,-44.9830,  67.7670, 3800,     11.6,   9.4087,  33.7822,2,-999.0000,9,    287.5,3,    285.3,2,     1.88,2,    14.66,2,  -999.00,9,   2067.8,2,   2259.3,2,  -999.00,9
  35MF20050111,  OISO,    25,  1,     16,2,20050117,   0,-44.9830,  67.7670, 3800,     21.2,   9.3982,  33.7827,2,-999.0000,9,    287.9,3,    285.6,2,     1.77,2,    14.51,2,  -999.00,9,   2064.9,2,   2256.9,2,     1.88,2
  35MF20050111,  OISO,    25,  1,     15,2,20050117,   0,-44.9830,  67.7670, 3800,     30.9,   9.3494,  33.7846,2,-999.0000,9,    288.0,3,    285.7,2,     1.77,2,    14.98,2,  -999.00,9,   2074.7,2,   2265.9,2,  -999.00,9
  35MF20050111,  OISO,    25,  1,     14,2,20050117,   0,-44.9830,  67.7670, 3800,     40.7,   9.3034,  33.7884,2,-999.0000,9,    287.8,3,    285.6,2,     1.99,2,    14.82,2,  -999.00,9,   2062.1,2,   2254.7,2,  -999.00,9
  35MF20050111,  OISO,    25,  1,     13,2,20050117,   0,-44.9830,  67.7670, 3800,     51.0,   9.2211,  33.7893,2,  33.7962,2,    286.7,3,    286.5,2,     1.99,2,    14.82,2,  -999.00,9,   2062.9,2,   2255.9,2,     1.61,2
  35MF20050111,  OISO,    25,  1,     12,2,20050117,   0,-44.9830,  67.7670, 3800,     75.5,   7.8321,  33.7623,2,-999.0000,9,    285.5,3,    289.3,2,     2.65,2,    17.03,2,  -999.00,9,   -999.0,9,   -999.0,9,  -999.00,9
  35MF20050111,  OISO,    25,  1,     11,2,20050117,   0,-44.9830,  67.7670, 3800,    101.0,   7.2852,  33.8758,2,-999.0000,9,    271.1,3,    278.2,2,     3.98,2,    18.76,2,  -999.00,9,   2095.2,2,   2262.8,2,     0.87,2
  35MF20050111,  OISO,    25,  1,     10,2,20050117,   0,-44.9830,  67.7670, 3800,    124.2,   7.7928,  34.1292,2,-999.0000,9,    252.2,3,   -999.0,9,     5.64,2,    18.91,2,  -999.00,9,   2103.4,2,   2265.7,2,  -999.00,9
  35MF20050111,  OISO,    25,  1,      9,2,20050117,   0,-44.9830,  67.7670, 3800,    149.6,   6.7198,  34.0478,2,-999.0000,9,    258.0,3,   -999.0,9,     7.30,2,    21.28,2,  -999.00,9,   2114.2,2,   2266.2,2,  -999.00,9
  35MF20050111,  OISO,    25,  1,      8,2,20050117,   0,-44.9830,  67.7670, 3800,    203.1,   6.7498,  34.1576,2,  34.1754,2,    248.5,3,    263.4,2,     8.40,2,    21.43,2,  -999.00,9,   2111.8,2,   2265.2,2,     1.05,2
  35MF20050111,  OISO,    25,  1,      7,2,20050117,   0,-44.9830,  67.7670, 3800,    250.8,   7.6133,  34.4269,2,-999.0000,9,    224.3,3,   -999.0,9,    11.16,2,    21.59,2,  -999.00,9,   2129.8,2,   2275.8,2,  -999.00,9
  35MF20050111,  OISO,    25,  1,      6,2,20050117,   0,-44.9830,  67.7670, 3800,    303.0,   7.3531,  34.4734,2,-999.0000,9,    220.0,3,    217.2,2,    14.36,2,    24.58,2,  -999.00,9,   2140.3,2,   2278.5,2,     0.89,2
  35MF20050111,  OISO,    25,  1,      5,2,20050117,   0,-44.9830,  67.7670, 3800,    402.8,   5.7976,  34.3400,2,-999.0000,9,    230.4,3,   -999.0,9,    18.34,2,    27.73,2,  -999.00,9,   -999.0,9,   -999.0,9,  -999.00,9
  35MF20050111,  OISO,    25,  1,      4,2,20050117,   0,-44.9830,  67.7670, 3800,    502.8,   4.5959,  34.2678,2,  34.2863,2,    239.0,3,    231.1,2,    22.32,2,    30.40,2,  -999.00,9,   2161.0,2,   2278.0,2,     0.84,9
  35MF20050111,  OISO,    25,  1,      3,2,20050117,   0,-44.9830,  67.7670, 3800,    601.7,   3.8968,  34.2570,2,-999.0000,9,    245.9,3,   -999.0,9,    28.50,2,    32.45,2,  -999.00,9,   2176.4,2,   2285.4,2,  -999.00,2
  35MF20050111,  OISO,    25,  1,      2,2,20050117,   0,-44.9830,  67.7670, 3800,    806.2,   3.7041,  34.4181,2,-999.0000,9,    225.7,3,   -999.0,9,    50.98,2,    35.59,2,  -999.00,9,   2205.9,2,   2303.5,2,  -999.00,9
  35MF20050111,  OISO,    25,  1,      1,2,20050117,   0,-44.9830,  67.7670, 3800,   1007.5,   2.9255,  34.4696,2,  34.4936,2,    192.1,3,    180.8,2,    62.30,2,    37.80,2,  -999.00,9,   2228.7,2,   2315.7,2,     0.52,2
  35MF20050111,  OISO,    25,  1,     19,2,20050117,   0,-44.9830,  67.7670, 3800,   1513.8,   2.4781,  34.6810,2,-999.0000,9,    172.5,3,   -999.0,9,    64.86,2,    35.43,2,  -999.00,9,   2241.9,2,   2336.6,2,  -999.00,9
  35MF20050111,  OISO,    25,  1,     20,2,20050117,   0,-44.9830,  67.7670, 3800,   1513.7,   2.4792,  34.6811,2,-999.0000,9,    172.6,3,    180.8,2,  -999.00,9,  -999.00,9,  -999.00,9,   -999.0,9,   -999.0,9,     0.24,2