BOTTLE,20120607CCHDOSIOCBG
EXPOCODE,SECT_ID,STNNBR,CASTNO,BTLNBR,BTLNBR_FLAG_W,DATE,TIME,LATITUDE,LONGITUDE,DEPTH,CTDPRS,CTDTMP,CTDSAL,CTDSAL_FLAG_W,SALNTY,SALNTY_FLAG_W,CTDOXY,CTDOXY_FLAG_W,OXYGEN,OXYGEN_FLAG_W,SILCAT,SILCAT_FLAG_W,NITRAT,NITRAT_FLAG_W,PHSPHT,PHSPHT_FLAG_W,TCARBN,TCARBN_FLAG_W,ALKALI,ALKALI_FLAG_W,DELC13,DELC13_FLAG_W
,,,,,,,,,,METERS,DBAR,ITS-90,PSS-78,,PSS-78,,UMOL/KG,,UMOL/KG,,UMOL/KG,,UMOL/KG,,UMOL/KG,,UMOL/KG,,UMOL/KG,,/MILLE,
  35MF20050111,  OISO,     6,  1,     19,2,20050218,   0,-45.0000,  52.1000, 2300,      6.0,   6.9391,  33.8195,2,  33.8177,2,    302.3,2,   -999.0,9,     1.66,2,    24.32,2,     1.30,2,   2103.6,2,   2271.0,2,     1.71,2
  35MF20050111,  OISO,     6,  1,     18,2,20050218,   0,-45.0000,  52.1000, 2300,      9.7,   6.9440,  33.8199,2,-999.0000,9,    302.4,2,   -999.0,9,     2.03,2,    25.41,2,     1.38,2,   2104.4,2,   2272.6,2,  -999.00,9
  35MF20050111,  OISO,     6,  1,     17,2,20050218,   0,-45.0000,  52.1000, 2300,     20.7,   6.9358,  33.8194,2,  33.8216,2,    302.1,2,   -999.0,9,     1.66,2,    24.59,2,     1.38,2,   2106.2,2,   2273.4,2,     1.75,2
  35MF20050111,  OISO,     6,  1,     16,2,20050218,   0,-45.0000,  52.1000, 2300,     30.2,   6.8775,  33.8189,2,-999.0000,9,    302.3,2,   -999.0,9,     1.84,2,    24.32,2,     1.42,2,   2103.4,2,   2273.2,2,  -999.00,9
  35MF20050111,  OISO,     6,  1,     15,2,20050218,   0,-45.0000,  52.1000, 2300,     40.5,   6.8692,  33.8192,2,  33.8206,2,    302.0,2,   -999.0,9,     1.66,2,    23.50,2,     1.47,2,   2106.2,2,   2274.1,2,     1.72,2
  35MF20050111,  OISO,     6,  1,     14,2,20050218,   0,-45.0000,  52.1000, 2300,     50.6,   6.8705,  33.8188,2,-999.0000,9,    301.9,2,   -999.0,9,  -999.00,9,  -999.00,9,  -999.00,9,   -999.0,9,   -999.0,9,  -999.00,9
  35MF20050111,  OISO,     6,  1,     13,2,20050218,   0,-45.0000,  52.1000, 2300,     74.4,   6.7027,  33.8127,2,-999.0000,9,    302.0,2,   -999.0,9,     2.03,2,    24.32,2,     1.74,2,   2109.6,2,   2272.5,2,  -999.00,9
  35MF20050111,  OISO,     6,  1,     12,2,20050218,   0,-45.0000,  52.1000, 2300,     99.9,   4.1910,  33.8904,2,-999.0000,9,    299.7,2,   -999.0,9,     8.30,2,    29.23,2,     1.91,2,   2137.6,2,   2274.2,2,     1.24,2
  35MF20050111,  OISO,     6,  1,     11,2,20050218,   0,-45.0000,  52.1000, 2300,    125.5,   3.4386,  33.9273,2,-999.0000,9,    298.5,2,   -999.0,9,    12.17,2,    29.22,2,  -999.00,9,   2145.2,2,   2276.8,2,  -999.00,9
  35MF20050111,  OISO,     6,  1,     10,2,20050218,   0,-45.0000,  52.1000, 2300,    149.9,   3.2413,  33.9739,2,-999.0000,9,    291.2,2,   -999.0,9,    17.33,2,    30.04,2,     1.79,2,   2153.5,2,   2277.6,2,  -999.00,9
  35MF20050111,  OISO,     6,  1,      9,2,20050218,   0,-45.0000,  52.1000, 2300,    199.6,   3.1419,  34.0407,2,  34.0466,2,    279.9,2,   -999.0,9,    20.27,2,    30.86,2,     1.79,2,   2161.4,2,   2281.3,2,     1.04,2
  35MF20050111,  OISO,     6,  1,      8,2,20050218,   0,-45.0000,  52.1000, 2300,    251.0,   3.1520,  34.1029,2,-999.0000,9,    268.6,2,   -999.0,9,    21.93,2,    32.50,2,     1.86,2,   2168.8,2,   2283.9,2,  -999.00,9
  35MF20050111,  OISO,     6,  1,      7,2,20050218,   0,-45.0000,  52.1000, 2300,    301.8,   2.9632,  34.1283,2,-999.0000,9,    260.1,2,   -999.0,9,    24.88,2,    32.77,2,     1.94,2,   2173.2,2,   2284.4,2,     0.92,2
  35MF20050111,  OISO,     6,  1,      6,2,20050218,   0,-45.0000,  52.1000, 2300,    402.0,   2.7888,  34.1999,2,-999.0000,9,    239.6,2,   -999.0,9,    30.77,2,    34.68,2,     2.01,2,   2193.6,2,   2295.0,2,  -999.00,9
  35MF20050111,  OISO,     6,  1,      5,2,20050218,   0,-45.0000,  52.1000, 2300,    503.7,   2.8193,  34.3031,2,  36.6381,9,    210.2,2,   -999.0,9,    40.37,2,    36.58,2,     2.21,2,   2211.3,2,   2304.6,2,     0.59,2
  35MF20050111,  OISO,     6,  1,      4,2,20050218,   0,-45.0000,  52.1000, 2300,    604.7,   2.6725,  34.3648,2,-999.0000,9,    196.7,2,   -999.0,9,    53.93,2,    38.22,2,  -999.00,9,   2223.6,2,   2312.6,2,  -999.00,9
  35MF20050111,  OISO,     6,  1,      3,2,20050218,   0,-45.0000,  52.1000, 2300,    806.4,   2.5404,  34.5030,2,-999.0000,9,    176.6,2,   -999.0,9,    65.46,2,    39.03,2,     2.50,2,   2243.7,2,   2325.7,2,  -999.00,9
  35MF20050111,  OISO,     6,  1,      2,2,20050218,   0,-45.0000,  52.1000, 2300,   1008.6,   2.4699,  34.6189,2,-999.0000,9,    174.8,2,   -999.0,9,    68.43,2,    37.39,2,     2.31,2,   2251.6,2,   2339.5,2,  -999.00,9
  35MF20050111,  OISO,     6,  1,      1,2,20050218,   0,-45.0000,  52.1000, 2300,   1009.9,   2.4691,  34.6195,2,  34.6510,2,    174.7,2,   -999.0,9,  -999.00,9,  -999.00,9,  -999.00,9,   2251.3,2,   2339.4,2,     0.32,2
  35MF20050111,  OISO,     5,  1,     19,2,20050218,   0,-42.5000,  52.4830, 3000,      4.7,  14.1766,  34.4748,2,  34.4760,2,    256.6,2,   -999.0,9,     0.98,2,     3.70,2,  -999.00,9,   2039.5,2,   2289.2,2,     0.09,9
  35MF20050111,  OISO,     5,  1,     18,2,20050218,   0,-42.5000,  52.4830, 3000,      8.8,  14.1719,  34.4751,2,-999.0000,9,    256.5,2,   -999.0,9,     0.79,2,     3.96,2,  -999.00,9,   2042.2,2,   2287.3,2,  -999.00,9
  35MF20050111,  OISO,     5,  1,     17,2,20050218,   0,-42.5000,  52.4830, 3000,     19.6,  14.1827,  34.4744,2,  34.4740,2,    256.8,2,   -999.0,9,     0.79,2,     3.96,2,  -999.00,9,   2037.3,2,   2289.4,2,     1.35,2
  35MF20050111,  OISO,     5,  1,     16,2,20050218,   0,-42.5000,  52.4830, 3000,     29.4,  14.1823,  34.4742,2,-999.0000,9,    256.3,2,   -999.0,9,     0.79,2,     3.96,2,  -999.00,9,   2038.4,2,   2289.5,2,  -999.00,9
  35MF20050111,  OISO,     5,  1,     15,2,20050218,   0,-42.5000,  52.4830, 3000,     39.6,  14.1836,  34.4738,2,-999.0000,9,    256.3,2,   -999.0,9,     0.79,2,     3.96,2,  -999.00,9,   2050.9,2,   2304.0,2,  -999.00,9
  35MF20050111,  OISO,     5,  1,     14,2,20050218,   0,-42.5000,  52.4830, 3000,     49.8,  13.8176,  34.4139,2,  34.6486,3,    257.5,2,   -999.0,9,     1.77,2,     6.86,2,  -999.00,9,   2066.4,2,   2295.3,2,     0.39,9
  35MF20050111,  OISO,     5,  1,     13,2,20050218,   0,-42.5000,  52.4830, 3000,     75.0,  12.7098,  34.9019,2,-999.0000,9,    236.5,2,   -999.0,9,     3.54,2,     9.76,2,  -999.00,9,   2096.4,2,   2305.5,2,  -999.00,9
  35MF20050111,  OISO,     5,  1,     12,2,20050218,   0,-42.5000,  52.4830, 3000,    100.3,  11.6638,  34.8845,2,-999.0000,9,    237.1,2,   -999.0,9,     4.53,2,    11.61,2,  -999.00,9,   2108.1,2,   2306.8,2,     0.82,2
  35MF20050111,  OISO,     5,  1,     11,2,20050218,   0,-42.5000,  52.4830, 3000,    124.7,  10.8996,  34.7738,2,-999.0000,9,    241.6,2,   -999.0,9,     4.92,2,    12.93,2,  -999.00,9,   2109.0,2,   2300.0,2,  -999.00,9
  35MF20050111,  OISO,     5,  1,     10,2,20050218,   0,-42.5000,  52.4830, 3000,    150.6,  10.3607,  34.6944,2,-999.0000,9,    245.1,2,   -999.0,9,     4.92,2,    14.24,2,  -999.00,9,   2108.9,2,   2294.9,2,  -999.00,9
  35MF20050111,  OISO,     5,  1,      9,2,20050218,   0,-42.5000,  52.4830, 3000,    200.7,   9.2145,  34.5355,2,  34.5429,2,    251.2,2,   -999.0,9,     5.51,2,    16.88,2,  -999.00,9,   2114.5,2,   2289.6,2,     1.01,2
  35MF20050111,  OISO,     5,  1,      8,2,20050218,   0,-42.5000,  52.4830, 3000,    250.5,   9.0994,  34.5868,2,-999.0000,9,    237.4,2,   -999.0,9,     6.69,2,    18.46,2,  -999.00,9,   2124.2,2,   2289.8,2,  -999.00,9
  35MF20050111,  OISO,     5,  1,      7,2,20050218,   0,-42.5000,  52.4830, 3000,    300.7,   8.6326,  34.5729,2,-999.0000,9,    225.9,2,   -999.0,9,     9.44,2,    20.84,2,  -999.00,9,   2136.8,2,   2291.1,2,     0.38,9
  35MF20050111,  OISO,     5,  1,      6,2,20050218,   0,-42.5000,  52.4830, 3000,    402.1,   6.6405,  34.3597,2,-999.0000,9,    233.4,2,   -999.0,9,    12.98,2,    27.16,2,  -999.00,9,   2151.9,2,   2283.4,2,  -999.00,9
  35MF20050111,  OISO,     5,  1,      5,2,20050218,   0,-42.5000,  52.4830, 3000,    502.6,   4.6794,  34.1730,2,  34.1632,2,    255.9,2,   -999.0,9,    15.73,2,    30.59,2,  -999.00,9,   2162.2,2,   2282.8,2,     0.86,2
  35MF20050111,  OISO,     5,  1,      4,2,20050218,   0,-42.5000,  52.4830, 3000,    603.5,   4.7023,  34.2967,2,-999.0000,9,    226.1,2,   -999.0,9,    23.20,2,    33.22,2,  -999.00,9,   2174.3,2,   2291.2,2,  -999.00,9
  35MF20050111,  OISO,     5,  1,      3,2,20050218,   0,-42.5000,  52.4830, 3000,    804.9,   4.0106,  34.4222,2,-999.0000,9,    190.5,2,   -999.0,9,    48.50,2,    37.43,2,  -999.00,9,   2215.5,2,   2313.9,2,  -999.00,9
  35MF20050111,  OISO,     5,  1,      2,2,20050218,   0,-42.5000,  52.4830, 3000,   1012.6,   3.2801,  34.4851,2,-999.0000,9,    180.2,2,   -999.0,9,    57.70,2,    39.54,2,  -999.00,9,   -999.0,9,   -999.0,9,  -999.00,9
  35MF20050111,  OISO,     5,  1,      1,2,20050218,   0,-42.5000,  52.4830, 3000,   1012.1,   3.2820,  34.4849,2,  34.4809,2,    180.3,2,   -999.0,9,  -999.00,9,  -999.00,9,  -999.00,9,   2232.7,2,   2324.3,2,     0.54,2
  35MF20050111,  OISO,     4,  1,     24,2,20050219,   0,-40.0000,  52.8330, 4127,      6.3,  18.2110,  35.5669,2,  35.5637,2,    232.8,2,   -999.0,9,     2.17,2,     0.14,2,  -999.00,9,   2043.6,2,   2334.8,2,    -0.62,9
  35MF20050111,  OISO,     4,  1,     23,2,20050219,   0,-40.0000,  52.8330, 4127,      9.5,  18.2033,  35.5659,2,-999.0000,9,    232.2,2,   -999.0,9,     2.17,2,     0.14,2,  -999.00,9,   -999.0,9,   -999.0,9,  -999.00,9
  35MF20050111,  OISO,     4,  1,     22,2,20050219,   0,-40.0000,  52.8330, 4127,     20.8,  18.1301,  35.5625,2,-999.0000,9,    232.5,2,   -999.0,9,     2.17,2,     0.14,2,  -999.00,9,   -999.0,9,   -999.0,9,  -999.00,9
  35MF20050111,  OISO,     4,  1,     21,2,20050219,   0,-40.0000,  52.8330, 4127,     30.7,  18.1303,  35.5619,2,-999.0000,9,    232.3,2,   -999.0,9,     1.98,2,     0.14,2,  -999.00,9,   2042.1,2,   2334.8,2,  -999.00,9
  35MF20050111,  OISO,     4,  1,     20,2,20050219,   0,-40.0000,  52.8330, 4127,     50.6,  18.1196,  35.5609,2,  35.5582,2,    232.0,2,   -999.0,9,     2.17,2,     0.11,2,  -999.00,9,   2046.4,2,   2335.3,2,     0.58,3
  35MF20050111,  OISO,     4,  1,     19,2,20050219,   0,-40.0000,  52.8330, 4127,     75.6,  18.1105,  35.5578,2,-999.0000,9,    231.5,2,   -999.0,9,     2.17,2,     0.11,2,  -999.00,9,   2045.6,2,   2333.9,2,  -999.00,9
  35MF20050111,  OISO,     4,  1,     18,2,20050219,   0,-40.0000,  52.8330, 4127,    100.0,  17.2058,  35.5954,2,-999.0000,9,    221.0,2,   -999.0,9,     2.71,2,     2.28,2,  -999.00,9,   2065.1,2,   2332.6,2,  -999.00,9
  35MF20050111,  OISO,     4,  1,     17,2,20050219,   0,-40.0000,  52.8330, 4127,    151.7,  16.6385,  35.5936,2,-999.0000,9,    215.8,2,   -999.0,9,  -999.00,9,  -999.00,9,  -999.00,9,   -999.0,9,   -999.0,9,  -999.00,9
  35MF20050111,  OISO,     4,  1,     16,2,20050219,   0,-40.0000,  52.8330, 4127,    201.5,  15.9550,  35.5338,2,  35.5284,2,    209.6,2,   -999.0,9,     3.97,2,     5.74,2,  -999.00,9,   2090.1,2,   2330.5,2,    -0.14,9
  35MF20050111,  OISO,     4,  1,     15,2,20050219,   0,-40.0000,  52.8330, 4127,    251.9,  15.3726,  35.4917,2,-999.0000,9,    208.8,2,   -999.0,9,     3.97,2,     6.86,2,  -999.00,9,   2098.9,2,   2331.4,2,  -999.00,9
  35MF20050111,  OISO,     4,  1,     14,2,20050219,   0,-40.0000,  52.8330, 4127,    302.5,  14.5973,  35.4137,2,-999.0000,9,    210.3,2,   -999.0,9,     3.79,2,     8.13,2,  -999.00,9,   2101.4,2,   2328.3,2,  -999.00,9
  35MF20050111,  OISO,     4,  1,     13,2,20050219,   0,-40.0000,  52.8330, 4127,    402.7,  13.7429,  35.3142,2,-999.0000,9,    213.4,2,   -999.0,9,     4.51,2,     8.10,2,  -999.00,9,   2106.2,2,   2323.4,2,  -999.00,9
  35MF20050111,  OISO,     4,  1,     12,2,20050219,   0,-40.0000,  52.8330, 4127,    504.0,  12.6593,  35.1879,2,  35.1664,2,    219.8,2,   -999.0,9,     4.51,2,    10.12,2,  -999.00,9,   2110.2,2,   2315.8,2,    -0.97,9
  35MF20050111,  OISO,     4,  1,     11,2,20050219,   0,-40.0000,  52.8330, 4127,    756.3,   9.7952,  34.7541,2,-999.0000,9,    215.2,2,   -999.0,9,     8.11,2,    17.71,2,  -999.00,9,   2132.6,2,   2299.1,2,  -999.00,9
  35MF20050111,  OISO,     4,  1,     10,2,20050219,   0,-40.0000,  52.8330, 4127,   1007.1,   6.4989,  34.4559,2,  34.4601,2,    205.0,2,   -999.0,9,    18.56,2,    28.32,2,  -999.00,9,   2169.5,2,   2295.8,2,     0.82,2
  35MF20050111,  OISO,     4,  1,      9,2,20050219,   0,-40.0000,  52.8330, 4127,   1259.1,   4.3918,  34.3672,2,-999.0000,9,    202.3,2,   -999.0,9,    30.82,2,    30.29,2,  -999.00,9,   2197.9,2,   2304.4,2,  -999.00,9
  35MF20050111,  OISO,     4,  1,      8,2,20050219,   0,-40.0000,  52.8330, 4127,   1512.1,   3.6120,  34.4585,2,-999.0000,9,    181.8,2,   -999.0,9,    56.00,2,    32.67,2,  -999.00,9,   2227.5,2,   2323.8,2,  -999.00,9
  35MF20050111,  OISO,     4,  1,      7,2,20050219,   0,-40.0000,  52.8330, 4127,   1762.6,   3.0161,  34.5569,2,-999.0000,9,    173.5,2,   -999.0,9,    64.71,2,    33.10,2,  -999.00,9,   2239.1,2,   2333.8,2,  -999.00,9
  35MF20050111,  OISO,     4,  1,      6,2,20050219,   0,-40.0000,  52.8330, 4127,   2013.1,   2.7752,  34.6656,2,  34.6622,2,    177.6,2,   -999.0,9,    66.45,2,    31.80,2,  -999.00,9,   2244.0,2,   2344.4,2,     0.25,2
  35MF20050111,  OISO,     4,  1,      5,2,20050219,   0,-40.0000,  52.8330, 4127,   2528.2,   2.2872,  34.7585,2,-999.0000,9,    192.5,2,   -999.0,9,    74.36,2,    29.63,2,  -999.00,9,   2238.7,2,   2348.9,2,  -999.00,9
  35MF20050111,  OISO,     4,  1,      4,2,20050219,   0,-40.0000,  52.8330, 4127,   3037.6,   1.9390,  34.7643,2,  34.7646,2,    197.5,2,   -999.0,9,    81.43,2,    29.20,2,  -999.00,9,   2243.5,2,   2357.1,2,     0.22,2
  35MF20050111,  OISO,     4,  1,      3,2,20050219,   0,-40.0000,  52.8330, 4127,   3548.1,   1.3616,  34.7367,2,-999.0000,9,    201.9,2,   -999.0,9,    92.86,2,    30.28,2,  -999.00,9,   -999.0,9,   -999.0,9,  -999.00,9
  35MF20050111,  OISO,     4,  1,      2,2,20050219,   0,-40.0000,  52.8330, 4127,   4065.4,   0.8182,  34.7070,2,-999.0000,9,    209.1,2,   -999.0,9,   102.03,2,    31.79,2,  -999.00,9,   2260.0,2,   2366.0,2,  -999.00,9
  35MF20050111,  OISO,     4,  1,      1,2,20050219,   0,-40.0000,  52.8330, 4127,   4065.5,   0.8187,  34.7071,2,  34.7050,2,    209.1,2,   -999.0,9,  -999.00,9,  -999.00,9,  -999.00,9,   2260.3,2,   2362.9,2,     0.14,3