BOTTLE,20120607CCHDOSIOCBG
EXPOCODE,SECT_ID,STNNBR,CASTNO,BTLNBR,BTLNBR_FLAG_W,DATE,TIME,LATITUDE,LONGITUDE,DEPTH,CTDPRS,CTDTMP,CTDSAL,CTDSAL_FLAG_W,SALNTY,SALNTY_FLAG_W,CTDOXY,CTDOXY_FLAG_W,OXYGEN,OXYGEN_FLAG_W,SILCAT,SILCAT_FLAG_W,NITRAT,NITRAT_FLAG_W,PHSPHT,PHSPHT_FLAG_W,TCARBN,TCARBN_FLAG_W,ALKALI,ALKALI_FLAG_W,DELC13,DELC13_FLAG_W
,,,,,,,,,,METERS,DBAR,ITS-90,PSS-78,,PSS-78,,UMOL/KG,,UMOL/KG,,UMOL/KG,,UMOL/KG,,UMOL/KG,,UMOL/KG,,UMOL/KG,,/MILLE,
  35MF20050111,  OISO,    10,  1,     24,2,20050210,   0,-50.6830,  68.3830, 1663,      0.2,   3.6964,  33.7984,2,  33.8416,2,    316.0,2,   -999.0,9,  -999.00,9,  -999.00,9,  -999.00,9,   2122.2,2,   2275.7,2,     1.24,2
  35MF20050111,  OISO,    10,  1,     23,2,20050210,   0,-50.6830,  68.3830, 1663,      5.5,   3.6981,  33.8187,2,-999.0000,9,    315.8,2,   -999.0,9,  -999.00,9,  -999.00,9,  -999.00,9,   -999.0,9,   -999.0,9,  -999.00,9
  35MF20050111,  OISO,    10,  1,     22,2,20050210,   0,-50.6830,  68.3830, 1663,     11.7,   3.6981,  33.8189,2,-999.0000,9,    316.3,2,   -999.0,9,  -999.00,9,  -999.00,9,  -999.00,9,   2116.8,2,   2267.7,2,  -999.00,9
  35MF20050111,  OISO,    10,  1,     21,2,20050210,   0,-50.6830,  68.3830, 1663,     21.6,   3.6969,  33.8191,2,  33.9605,9,    316.4,2,   -999.0,9,  -999.00,9,  -999.00,9,  -999.00,9,   2123.7,2,   2275.8,2,     1.19,2
  35MF20050111,  OISO,    10,  1,     20,2,20050210,   0,-50.6830,  68.3830, 1663,     29.5,   3.6964,  33.8193,2,-999.0000,9,    316.5,2,    316.8,2,  -999.00,9,  -999.00,9,  -999.00,9,   2119.0,2,   2270.2,2,  -999.00,9
  35MF20050111,  OISO,    10,  1,     19,2,20050210,   0,-50.6830,  68.3830, 1663,     39.0,   3.6955,  33.8194,2,-999.0000,9,    316.2,2,   -999.0,9,  -999.00,9,  -999.00,9,  -999.00,9,   2114.0,2,   2265.7,2,  -999.00,9
  35MF20050111,  OISO,    10,  1,     18,2,20050210,   0,-50.6830,  68.3830, 1663,     51.5,   3.6981,  33.8195,2,  33.8427,2,    316.5,2,    316.9,2,  -999.00,9,  -999.00,9,  -999.00,9,   2125.7,2,   2276.3,2,     1.33,2
  35MF20050111,  OISO,    10,  1,     17,2,20050210,   0,-50.6830,  68.3830, 1663,     76.0,   3.6933,  33.8197,2,-999.0000,9,    316.4,2,   -999.0,9,  -999.00,9,  -999.00,9,  -999.00,9,   2117.9,2,   2268.6,2,  -999.00,9
  35MF20050111,  OISO,    10,  1,     16,2,20050210,   0,-50.6830,  68.3830, 1663,    101.4,   3.5168,  33.8233,2,  33.8472,2,    316.8,2,    316.1,2,  -999.00,9,  -999.00,9,  -999.00,9,   2126.1,2,   2277.0,2,     1.29,2
  35MF20050111,  OISO,    10,  1,     15,2,20050210,   0,-50.6830,  68.3830, 1663,    124.5,   2.3501,  33.8612,2,-999.0000,9,    319.1,2,    318.8,2,  -999.00,9,  -999.00,9,  -999.00,9,   2143.9,2,   2279.9,2,  -999.00,9
  35MF20050111,  OISO,    10,  1,     14,2,20050210,   0,-50.6830,  68.3830, 1663,    150.7,   1.6876,  33.9060,2,-999.0000,9,    317.2,2,    316.9,2,  -999.00,9,  -999.00,9,  -999.00,9,   2142.8,2,   2272.6,2,  -999.00,9
  35MF20050111,  OISO,    10,  1,     13,2,20050210,   0,-50.6830,  68.3830, 1663,    176.5,   1.6642,  33.9298,2,-999.0000,9,    312.4,2,    313.3,2,  -999.00,9,  -999.00,9,  -999.00,9,   2157.6,2,   2282.0,2,  -999.00,9
  35MF20050111,  OISO,    10,  1,     12,2,20050210,   0,-50.6830,  68.3830, 1663,    203.1,   1.5221,  33.9401,2,  33.9663,2,    310.5,2,    309.7,2,  -999.00,9,  -999.00,9,  -999.00,9,   2147.0,2,   2272.2,2,     0.95,2
  35MF20050111,  OISO,    10,  1,     11,2,20050210,   0,-50.6830,  68.3830, 1663,    252.6,   1.7983,  34.0426,2,-999.0000,9,    279.9,2,    280.4,2,  -999.00,9,  -999.00,9,  -999.00,9,   2165.3,2,   2278.6,2,  -999.00,9
  35MF20050111,  OISO,    10,  1,     10,2,20050210,   0,-50.6830,  68.3830, 1663,    301.5,   2.0102,  34.1298,2,  34.2402,9,    256.0,2,    255.7,2,  -999.00,9,  -999.00,9,  -999.00,9,   2195.9,2,   2301.0,2,     0.62,2
  35MF20050111,  OISO,    10,  1,      9,2,20050210,   0,-50.6830,  68.3830, 1663,    405.3,   2.1867,  34.2676,2,-999.0000,9,    221.2,2,    222.1,2,  -999.00,9,  -999.00,9,  -999.00,9,   2203.4,2,   2297.2,2,  -999.00,9
  35MF20050111,  OISO,    10,  1,      8,2,20050210,   0,-50.6830,  68.3830, 1663,    503.2,   2.3531,  34.3796,2,  34.3909,2,    191.6,2,    191.7,2,  -999.00,9,  -999.00,9,  -999.00,9,   2224.5,2,   2307.7,2,     0.33,2
  35MF20050111,  OISO,    10,  1,      7,2,20050210,   0,-50.6830,  68.3830, 1663,    604.7,   2.4038,  34.4712,2,-999.0000,9,    176.8,2,    177.6,2,  -999.00,9,  -999.00,9,  -999.00,9,   2233.2,2,   2316.4,2,  -999.00,9
  35MF20050111,  OISO,    10,  1,      6,2,20050210,   0,-50.6830,  68.3830, 1663,    806.0,   2.2908,  34.5870,2,-999.0000,9,    177.6,2,    174.5,2,  -999.00,9,  -999.00,9,  -999.00,9,   2237.8,2,   2327.2,2,  -999.00,9
  35MF20050111,  OISO,    10,  1,      5,2,20050210,   0,-50.6830,  68.3830, 1663,   1009.6,   2.2656,  34.6722,2,-999.0000,9,    177.8,2,    178.6,2,  -999.00,9,  -999.00,9,  -999.00,9,   2233.0,2,   2327.4,2,     0.16,2
  35MF20050111,  OISO,    10,  1,      4,2,20050210,   0,-50.6830,  68.3830, 1663,   1206.4,   2.1551,  34.7263,2,-999.0000,9,    185.9,2,    186.6,2,  -999.00,9,  -999.00,9,  -999.00,9,   2237.7,2,   2339.6,2,  -999.00,9
  35MF20050111,  OISO,    10,  1,      3,2,20050210,   0,-50.6830,  68.3830, 1663,   1411.8,   1.9750,  34.7574,2,-999.0000,9,    195.2,2,    195.7,2,  -999.00,9,  -999.00,9,  -999.00,9,   2229.7,2,   2335.4,2,  -999.00,9
  35MF20050111,  OISO,    10,  1,      2,2,20050210,   0,-50.6830,  68.3830, 1663,   1617.1,   1.7189,  34.7608,2,-999.0000,9,    201.8,2,    200.7,2,  -999.00,9,  -999.00,9,  -999.00,9,   2235.2,2,   2340.2,2,  -999.00,9
  35MF20050111,  OISO,    10,  1,      1,2,20050210,   0,-50.6830,  68.3830, 1663,   1614.8,   1.7236,  34.7608,2,  34.7853,2,    201.7,2,    202.4,2,  -999.00,9,  -999.00,9,  -999.00,9,   2244.3,2,   2349.8,2,     0.35,2
  35MF20050111,  OISO,     9,  1,     20,2,20050215,   0,-48.7500,  65.0000, 2007,      2.9,   4.8782,  33.7544,2,-999.0000,9,    312.6,2,   -999.0,9,  -999.00,9,  -999.00,9,  -999.00,9,   -999.0,9,   -999.0,9,  -999.00,9
  35MF20050111,  OISO,     9,  1,     19,2,20050215,   0,-48.7500,  65.0000, 2007,      4.8,   4.8783,  33.7544,2,  33.7634,2,    313.2,2,   -999.0,9,     3.89,2,    22.94,2,     1.89,2,   2117.3,2,   2269.2,2,     1.43,2
  35MF20050111,  OISO,     9,  1,     18,2,20050215,   0,-48.7500,  65.0000, 2007,     10.2,   4.8753,  33.7544,2,-999.0000,9,    313.0,2,   -999.0,9,     3.80,2,    22.94,2,     1.89,2,   2116.0,2,   2266.9,2,  -999.00,9
  35MF20050111,  OISO,     9,  1,     17,2,20050215,   0,-48.7500,  65.0000, 2007,     22.2,   4.8512,  33.7543,2,  33.7606,2,    313.1,2,    312.8,2,     3.62,2,    22.94,2,     2.07,2,   2119.1,2,   2270.9,2,     1.40,2
  35MF20050111,  OISO,     9,  1,     16,2,20050215,   0,-48.7500,  65.0000, 2007,     31.2,   4.8278,  33.7545,2,-999.0000,9,    312.9,2,   -999.0,9,     3.26,2,    22.43,2,     2.17,2,   2116.6,2,   2269.2,2,  -999.00,9
  35MF20050111,  OISO,     9,  1,     15,2,20050215,   0,-48.7500,  65.0000, 2007,     43.2,   4.7598,  33.7542,2,-999.0000,9,    312.4,2,   -999.0,9,     3.26,2,    22.94,2,     2.17,2,   2116.9,2,   2270.1,2,  -999.00,9
  35MF20050111,  OISO,     9,  1,     14,2,20050215,   0,-48.7500,  65.0000, 2007,     51.5,   4.6830,  33.7558,2,  33.7643,2,    312.1,2,    312.2,2,     3.80,2,    22.43,2,     2.24,2,   2117.8,2,   2269.1,2,  -999.00,9
  35MF20050111,  OISO,     9,  1,     13,2,20050215,   0,-48.7500,  65.0000, 2007,     76.1,   3.5254,  33.7858,2,-999.0000,9,    312.2,2,   -999.0,9,     9.04,2,    23.95,2,     2.34,2,   2131.4,2,   2271.8,2,  -999.00,9
  35MF20050111,  OISO,     9,  1,     12,2,20050215,   0,-48.7500,  65.0000, 2007,    101.1,   2.3329,  33.8325,2,-999.0000,9,    319.5,2,    320.4,2,    16.81,2,    25.48,2,     2.65,2,   2145.7,2,   2276.9,2,     1.10,2
  35MF20050111,  OISO,     9,  1,     11,2,20050215,   0,-48.7500,  65.0000, 2007,    125.0,   1.9111,  33.8538,2,-999.0000,9,    321.4,2,   -999.0,9,    20.88,2,    26.50,2,     2.65,2,   2147.8,2,   2275.4,2,  -999.00,9
  35MF20050111,  OISO,     9,  1,     10,2,20050215,   0,-48.7500,  65.0000, 2007,    155.1,   1.7939,  33.8650,2,-999.0000,9,    320.3,2,    319.9,2,    22.06,2,    27.13,2,     2.68,2,   2151.6,2,   2277.5,2,  -999.00,9
  35MF20050111,  OISO,     9,  1,      9,2,20050215,   0,-48.7500,  65.0000, 2007,    202.8,   1.6771,  33.8913,2,  33.8938,2,    315.4,2,    315.3,2,    23.68,2,    27.77,2,     2.65,2,   2153.6,2,   2276.2,2,     1.03,2
  35MF20050111,  OISO,     9,  1,      8,2,20050215,   0,-48.7500,  65.0000, 2007,    250.6,   1.8033,  33.9690,2,-999.0000,9,    295.0,2,    294.8,2,    25.85,2,    30.31,2,     2.89,2,   2164.8,2,   2279.1,2,  -999.00,9
  35MF20050111,  OISO,     9,  1,      7,2,20050215,   0,-48.7500,  65.0000, 2007,    302.5,   2.1983,  34.0932,2,-999.0000,9,    259.4,2,    259.7,2,    30.37,2,    31.08,2,     2.89,2,   2179.1,2,   2285.0,2,     0.84,2
  35MF20050111,  OISO,     9,  1,      6,2,20050215,   0,-48.7500,  65.0000, 2007,    404.0,   2.4010,  34.2368,2,-999.0000,9,    220.7,2,    219.8,2,    37.41,2,    33.37,2,     3.58,2,   2206.7,2,   2297.2,2,  -999.00,9
  35MF20050111,  OISO,     9,  1,      5,2,20050215,   0,-48.7500,  65.0000, 2007,    504.3,   2.3895,  34.3166,2,  34.3217,2,    201.6,2,    201.2,2,    61.99,2,    35.02,2,     3.37,2,   2219.8,2,   2303.6,2,     0.53,2
  35MF20050111,  OISO,     9,  1,      4,2,20050215,   0,-48.7500,  65.0000, 2007,    605.3,   2.4083,  34.4073,2,-999.0000,9,    185.2,2,    185.6,2,    67.86,2,    35.91,2,     3.48,2,   2232.7,2,   2312.1,2,  -999.00,9
  35MF20050111,  OISO,     9,  1,      3,2,20050215,   0,-48.7500,  65.0000, 2007,    806.4,   2.3438,  34.5678,2,-999.0000,9,    175.2,2,    176.1,2,    77.67,2,    34.88,2,     3.27,2,   2244.8,2,   2328.0,2,  -999.00,9
  35MF20050111,  OISO,     9,  1,      2,2,20050215,   0,-48.7500,  65.0000, 2007,   1009.6,   2.2961,  34.6724,2,-999.0000,9,    179.7,2,    179.5,2,    81.18,2,    33.10,2,     3.30,2,   2242.3,2,   2333.5,2,  -999.00,9
  35MF20050111,  OISO,     9,  1,      1,2,20050215,   0,-48.7500,  65.0000, 2007,   1009.0,   2.2963,  34.6722,2,  34.7297,2,    179.7,2,    179.4,2,    80.83,2,    33.10,2,     3.20,2,   2247.1,2,   2337.3,2,     0.24,2
  35MF20050111,  OISO,     8,  1,     20,2,20050216,   0,-48.4500,  59.7500, 4300,      4.1,   6.2734,  33.7037,2,-999.0000,9,    301.9,2,   -999.0,9,  -999.00,9,  -999.00,9,  -999.00,9,   -999.0,9,   -999.0,9,  -999.00,9
  35MF20050111,  OISO,     8,  1,     19,2,20050216,   0,-48.4500,  59.7500, 4300,      5.7,   6.2722,  33.7038,2,-999.0000,9,    302.4,2,   -999.0,9,     2.98,2,    19.43,2,     2.13,2,   2102.0,2,   2264.7,2,     1.66,2
  35MF20050111,  OISO,     8,  1,     18,2,20050216,   0,-48.4500,  59.7500, 4300,     17.3,   6.2545,  33.7039,2,-999.0000,9,    301.8,2,   -999.0,9,     2.80,2,    19.31,2,     2.10,2,   2100.3,2,   2263.9,2,  -999.00,9
  35MF20050111,  OISO,     8,  1,     17,2,20050216,   0,-48.4500,  59.7500, 4300,     19.0,   6.2668,  33.7039,2,  33.7047,2,    302.3,2,    302.4,2,     2.80,2,    18.94,2,     1.96,2,   2102.0,2,   2266.6,2,     1.73,2
  35MF20050111,  OISO,     8,  1,     16,2,20050216,   0,-48.4500,  59.7500, 4300,     29.1,   6.2482,  33.7033,2,-999.0000,9,    302.3,2,   -999.0,9,     2.80,2,    19.07,2,     1.89,2,   2101.4,2,   2265.3,2,  -999.00,9
  35MF20050111,  OISO,     8,  1,     15,2,20050216,   0,-48.4500,  59.7500, 4300,     40.4,   6.2041,  33.7040,2,-999.0000,9,    302.3,2,   -999.0,9,     2.89,2,    19.06,2,     1.89,2,   2103.8,2,   2264.9,2,  -999.00,9
  35MF20050111,  OISO,     8,  1,     14,2,20050216,   0,-48.4500,  59.7500, 4300,     49.3,   6.1929,  33.7031,2,  33.7098,2,    302.2,2,    301.8,2,     2.80,2,    19.19,2,     1.96,2,   -999.0,9,   -999.0,9,     1.71,2
  35MF20050111,  OISO,     8,  1,     13,2,20050216,   0,-48.4500,  59.7500, 4300,     72.5,   5.9828,  33.7219,2,-999.0000,9,    297.5,2,   -999.0,9,     4.43,2,    19.67,2,     2.07,2,   2108.3,2,   2264.0,2,  -999.00,9
  35MF20050111,  OISO,     8,  1,     12,2,20050216,   0,-48.4500,  59.7500, 4300,     98.9,   4.2587,  33.8401,2,-999.0000,9,    292.3,2,    293.1,2,    10.67,2,    23.79,2,     2.41,2,   2136.9,2,   2268.7,2,     1.11,2
  35MF20050111,  OISO,     8,  1,     11,2,20050216,   0,-48.4500,  59.7500, 4300,    123.1,   3.4917,  33.8317,2,-999.0000,9,    301.7,2,   -999.0,9,    14.37,2,    24.28,2,     2.44,2,   2143.1,2,   2271.6,2,  -999.00,9
  35MF20050111,  OISO,     8,  1,     10,2,20050216,   0,-48.4500,  59.7500, 4300,    151.6,   3.2446,  33.8485,2,-999.0000,9,    302.3,2,    301.4,2,    16.09,2,    24.52,2,     2.41,2,   2142.3,2,   2270.1,2,  -999.00,9
  35MF20050111,  OISO,     8,  1,      9,2,20050216,   0,-48.4500,  59.7500, 4300,    201.6,   2.9682,  33.9172,2,  33.9329,2,    294.4,2,    295.6,2,    18.62,2,    25.24,2,     2.51,2,   2151.9,2,   2274.4,2,     0.98,2
  35MF20050111,  OISO,     8,  1,      8,2,20050216,   0,-48.4500,  59.7500, 4300,    251.6,   2.8363,  34.0107,2,-999.0000,9,    280.5,2,    280.0,2,    21.33,2,    26.34,2,     2.41,2,   2161.6,2,   2276.1,2,  -999.00,9
  35MF20050111,  OISO,     8,  1,      7,2,20050216,   0,-48.4500,  59.7500, 4300,    301.0,   2.8203,  34.0976,2,-999.0000,9,    263.1,2,    263.4,2,    24.04,2,    27.67,2,     2.92,2,   2168.9,2,   2279.4,2,     0.92,2
  35MF20050111,  OISO,     8,  1,      6,2,20050216,   0,-48.4500,  59.7500, 4300,    401.8,   2.8053,  34.2034,2,-999.0000,9,    234.2,2,    233.6,2,    42.01,2,    29.97,2,     2.82,2,   2188.1,2,   2288.7,2,  -999.00,9
  35MF20050111,  OISO,     8,  1,      5,2,20050216,   0,-48.4500,  59.7500, 4300,    501.2,   2.6399,  34.2720,2,  34.3217,2,    215.1,2,    214.4,2,    53.63,2,    31.42,2,     3.51,2,   2207.6,2,   2297.6,2,     0.58,2
  35MF20050111,  OISO,     8,  1,      4,2,20050216,   0,-48.4500,  59.7500, 4300,    601.6,   2.7327,  34.3645,2,-999.0000,9,    194.4,2,    194.8,2,    59.63,2,    32.39,2,     3.27,2,   2222.5,2,   2309.6,2,  -999.00,9
  35MF20050111,  OISO,     8,  1,      3,2,20050216,   0,-48.4500,  59.7500, 4300,    804.2,   2.5694,  34.4941,2,-999.0000,9,    177.0,2,    177.5,2,    72.18,2,    33.00,2,     3.48,2,   2240.1,2,   2322.6,2,  -999.00,9
  35MF20050111,  OISO,     8,  1,      2,2,20050216,   0,-48.4500,  59.7500, 4300,   1010.9,   2.5044,  34.6003,2,-999.0000,9,    174.9,2,    174.2,2,    76.64,2,    31.78,2,     3.27,2,   -999.0,9,   -999.0,9,  -999.00,9
  35MF20050111,  OISO,     8,  1,      1,2,20050216,   0,-48.4500,  59.7500, 4300,   1010.4,   2.5063,  34.6003,2,  34.6084,2,    175.0,2,    175.6,2,  -999.00,9,  -999.00,9,  -999.00,9,   2246.2,2,   2333.2,2,     0.35,2
  35MF20050111,  OISO,     7,  1,     21,2,20050216,   0,-47.9170,  57.6830, 4479,      6.0,   7.5614,  33.7044,2,  33.7127,2,    294.6,2,   -999.0,9,     2.58,2,    15.85,2,     1.62,2,   2087.5,2,   2263.0,2,     1.82,2
  35MF20050111,  OISO,     7,  1,     20,2,20050216,   0,-47.9170,  57.6830, 4479,     11.7,   7.5002,  33.7036,2,-999.0000,9,    295.6,2,   -999.0,9,     2.58,2,    16.67,2,     1.62,2,   2088.2,2,   2263.9,2,  -999.00,9
  35MF20050111,  OISO,     7,  1,     19,2,20050216,   0,-47.9170,  57.6830, 4479,     20.9,   7.4129,  33.7027,2,-999.0000,9,    295.7,2,    295.6,2,     2.40,2,    17.22,2,     1.69,2,   2088.9,2,   2263.0,2,     1.86,2
  35MF20050111,  OISO,     7,  1,     18,2,20050216,   0,-47.9170,  57.6830, 4479,     29.9,   7.3219,  33.7038,2,  33.7155,2,    296.6,2,   -999.0,9,     2.21,2,    17.49,2,  -999.00,9,   2090.9,2,   2264.2,2,  -999.00,9
  35MF20050111,  OISO,     7,  1,     17,2,20050216,   0,-47.9170,  57.6830, 4479,     41.1,   7.1359,  33.7037,2,-999.0000,9,    297.3,2,   -999.0,9,     2.03,2,    18.31,2,     1.62,2,   2093.1,2,   2262.8,2,  -999.00,9
  35MF20050111,  OISO,     7,  1,     16,2,20050216,   0,-47.9170,  57.6830, 4479,     51.6,   6.6587,  33.7066,2,-999.0000,9,    298.2,2,    298.4,2,     2.58,2,    19.13,2,     1.79,2,   2100.4,2,   2266.5,2,     1.76,2
  35MF20050111,  OISO,     7,  1,     15,2,20050216,   0,-47.9170,  57.6830, 4479,     75.8,   5.6376,  33.7486,2,-999.0000,9,    298.7,2,   -999.0,9,     3.87,2,    20.49,2,     1.96,2,   -999.0,9,   -999.0,9,  -999.00,9
  35MF20050111,  OISO,     7,  1,     14,2,20050216,   0,-47.9170,  57.6830, 4479,    100.7,   4.2646,  33.8299,2,-999.0000,9,    297.3,2,    297.2,2,     7.93,2,    23.49,2,     2.31,2,   2131.7,2,   2269.3,2,     1.32,2
  35MF20050111,  OISO,     7,  1,     13,2,20050216,   0,-47.9170,  57.6830, 4479,    126.0,   4.0427,  33.9336,2,-999.0000,9,    289.9,2,   -999.0,9,    11.24,2,    24.86,2,     2.41,2,   2142.0,2,   2270.9,2,  -999.00,9
  35MF20050111,  OISO,     7,  1,     12,2,20050216,   0,-47.9170,  57.6830, 4479,    151.2,   4.0020,  33.9665,2,-999.0000,9,    287.5,2,    287.2,2,    12.35,2,    25.40,2,     2.58,2,   2144.6,2,   2273.9,2,  -999.00,9
  35MF20050111,  OISO,     7,  1,     11,2,20050216,   0,-47.9170,  57.6830, 4479,    201.2,   3.8480,  34.0342,2,  34.0299,2,    279.7,2,    279.8,2,    14.19,2,    26.76,2,     2.38,2,   2149.2,2,   2274.4,2,     1.10,2
  35MF20050111,  OISO,     7,  1,     10,2,20050216,   0,-47.9170,  57.6830, 4479,    251.1,   3.6248,  34.0727,2,-999.0000,9,    273.7,2,    273.7,2,    16.22,2,    27.58,2,  -999.00,9,   2154.4,2,   2277.8,2,  -999.00,9
  35MF20050111,  OISO,     7,  1,      9,2,20050216,   0,-47.9170,  57.6830, 4479,    300.1,   3.3517,  34.0802,2,-999.0000,9,    268.8,2,    269.8,2,    18.43,2,    28.67,2,     2.55,2,   2162.6,2,   2278.8,2,     1.06,2
  35MF20050111,  OISO,     7,  1,      8,2,20050216,   0,-47.9170,  57.6830, 4479,    402.0,   3.0242,  34.1818,2,-999.0000,9,    243.6,2,    243.1,2,    25.25,2,    31.67,2,     2.96,2,   2178.8,2,   2285.8,2,  -999.00,9
  35MF20050111,  OISO,     7,  1,      5,2,20050216,   0,-47.9170,  57.6830, 4479,    501.5,   2.8949,  34.2447,2,  34.2414,2,    223.8,2,    222.9,2,    43.47,2,    33.58,2,     2.79,2,   2196.3,2,   2294.9,2,     0.79,2
  35MF20050111,  OISO,     7,  1,      4,2,20050216,   0,-47.9170,  57.6830, 4479,    601.2,   2.9163,  34.3350,2,-999.0000,9,    201.9,2,    202.2,2,    54.18,2,    34.95,2,  -999.00,9,   2213.8,2,   2306.4,2,  -999.00,9
  35MF20050111,  OISO,     7,  1,      3,2,20050216,   0,-47.9170,  57.6830, 4479,    800.5,   2.6412,  34.4445,2,-999.0000,9,    184.0,2,    184.7,2,    67.39,2,    36.31,2,     3.27,2,   2236.1,2,   2326.3,2,  -999.00,9
  35MF20050111,  OISO,     7,  1,      2,2,20050216,   0,-47.9170,  57.6830, 4479,   1006.9,   2.7042,  34.5765,2,-999.0000,9,    176.6,2,    176.2,2,    73.72,2,    35.48,2,     3.16,2,   2243.1,2,   2330.9,2,  -999.00,9
  35MF20050111,  OISO,     7,  1,      1,2,20050216,   0,-47.9170,  57.6830, 4479,   1008.8,   2.7036,  34.5770,2,  34.5743,2,    176.7,2,    176.8,2,  -999.00,9,  -999.00,9,  -999.00,9,   2241.7,2,   2331.0,2,     0.41,2