BOTTLE,20060509WHPSIOSA
EXPOCODE,SECT_ID,STNNBR,CASTNO,SAMPNO,BTLNBR,BTLNBR_FLAG_W,DATE,TIME,LATITUDE,LONGITUDE,DEPTH,CTDPRS,CTDTMP,CTDSAL,CTDSAL_FLAG_W,SALNTY,SALNTY_FLAG_W,CTDOXY,CTDOXY_FLAG_W,THETA,OXYGEN,OXYGEN_FLAG_W,SILCAT,SILCAT_FLAG_W,NITRAT,NITRAT_FLAG_W,NITRIT,NITRIT_FLAG_W,PHSPHT,PHSPHT_FLAG_W,CFC-11,CFC-11_FLAG_W,CFC-12,CFC-12_FLAG_W,TRITUM,TRITUM_FLAG_W,HELIUM,HELIUM_FLAG_W,DELHE3,DELHE3_FLAG_W,NEON,NEON_FLAG_W,HELIER,TRITER,NEONER,DELHER
,,,,,,,,,,,,DBAR,IPTS-68,PSS-78,,PSS-78,,UMOL/KG,,IPTS-68,UMOL/KG,,UMOL/KG,,UMOL/KG,,UMOL/KG,,UMOL/KG,,PMOL/KG,,PMOL/KG,,TU,,UMOL/KG,,PERCNT,,NMOL/KG,,NMOL/KG,TU,NMOL/KG,PERCNT
      74AB29_1,    I5,    88,  1,     24,    24.,2,19871211,0109,-32.7483, 103.4000, 5255,      9.8,  17.5323,  35.7090,2,-999.0000,5,    250.9,2, 17.5312,    244.1,2,     1.19,2,     0.10,2,     0.00,2,     0.23,2,    2.314,2,    1.363,2,    0.718,2,   1.7190,2,    -1.40,2,   7.170,2,  0.0090,   0.008,   0.140,   0.200
      74AB29_1,    I5,    88,  1,     23,    23.,2,19871211,0109,-32.7483, 103.4000, 5255,    101.9,  14.2234,  35.4790,2,-999.0000,5,    250.3,2, 14.2143,    248.0,2,     1.36,2,     2.93,2,     0.00,2,     0.38,2,    2.451,2,    1.389,2,    0.846,2,   1.7600,2,    -0.40,2,   7.300,2,  0.0090,   0.008,   0.150,   0.200
      74AB29_1,    I5,    88,  1,     22,    22.,2,19871211,0109,-32.7483, 103.4000, 5255,    200.2,  12.4614,  35.2280,2,  35.1587,2,    235.3,2, 12.4346,    238.9,2,     2.19,2,     8.11,2,     0.00,2,     0.62,2,    2.436,2,    1.404,2,    0.851,2,   1.8220,2,     1.80,2,   7.510,2,  0.0090,   0.008,   0.150,   0.200
      74AB29_1,    I5,    88,  1,     21,    21.,2,19871211,0109,-32.7483, 103.4000, 5255,    301.9,  11.0205,  35.0090,2,  34.9235,2,    243.2,2, 10.9831,    245.4,2,     3.19,2,    11.34,2,     0.00,2,     0.82,2,    2.564,2,    1.415,2, -999.000,9,   1.7960,2,     4.20,2,   7.540,2,  0.0090,-999.000,   0.150,   0.200
      74AB29_1,    I5,    88,  1,     20,    20.,2,19871211,0109,-32.7483, 103.4000, 5255,    400.3,  10.3996,  34.8380,2,  34.8249,2,    247.1,2, 10.3516,    245.0,2,     3.52,2,    13.10,2,     0.00,2,     0.94,2,    2.509,2,    1.426,2, -999.000,9,   1.8610,2,     7.20,2,   7.770,2,  0.0090,-999.000,   0.160,   0.200
      74AB29_1,    I5,    88,  1,     19,    19.,2,19871211,0109,-32.7483, 103.4000, 5255,    502.4,   9.6886,  34.7330,2,  34.7262,2,    240.1,2,  9.6307,    233.8,2,     4.83,2,    16.03,2,     0.00,2,     1.11,2, -999.000,5, -999.000,5,    0.409,2,   1.8620,2,     9.70,2,   7.750,2,  0.0090,   0.008,   0.160,   0.200
      74AB29_1,    I5,    88,  1,     18,    18.,2,19871211,0109,-32.7483, 103.4000, 5255,    700.4,   8.3988,  34.5930,2,-999.0000,5,    224.0,2,  8.3699,    220.3,2,     8.62,2,    21.40,2,     0.00,2,     1.46,2,    1.188,2,    0.710,2, -999.000,9,   1.8340,2,     8.60,2,   7.750,2,  0.0090,-999.000,   0.160,   0.200
      74AB29_1,    I5,    88,  1,     17,    17.,2,19871211,0109,-32.7483, 103.4000, 5255,    899.1,   5.6791,  34.4050,2,-999.0000,5,    201.3,2,  5.6629,    200.7,2,    24.44,2,    29.32,2,     0.00,2,     1.97,2,    0.473,2,    0.275,2,    0.000,2,   1.8610,2,     9.30,2,   7.960,2,  0.0090,   0.008,   0.160,   0.200
      74AB29_1,    I5,    88,  1,     16,    16.,2,19871211,0109,-32.7483, 103.4000, 5255,   1101.3,   3.9963,  34.4160,2,  34.4035,2,    180.4,2,  3.9123,    184.3,2,    47.18,2,    33.83,2,     0.00,2,     2.32,2,    0.117,2,    0.082,2,    0.009,2,   1.9250,2,     9.60,2,   8.150,2,  0.0100,   0.008,   0.160,   0.200
      74AB29_1,    I5,    88,  1,     15,    15.,2,19871211,0109,-32.7483, 103.4000, 5255,   1300.4,   3.4604,  34.5200,2,  34.5127,2,    155.6,2,  3.3644,    158.2,2,    70.40,2,    35.88,2,     0.00,2,     2.49,2,    0.017,2, -999.000,5,    0.000,2,   1.9130,2,    10.10,2,   8.130,2,  0.0100,   0.008,   0.160,   0.200
      74AB29_1,    I5,    88,  1,     14,    14.,2,19871211,0109,-32.7483, 103.4000, 5255,   1499.4,   3.1349,  34.5890,2,  34.5818,2,    151.7,2,  3.0255,    150.8,2,    81.60,2,    36.17,2,     0.00,2,     2.51,2, -999.000,5, -999.000,5, -999.000,9,-999.0000,9,  -999.00,9,-999.000,9,-999.0000,-999.000,  -0.090,-999.000
      74AB29_1,    I5,    88,  1,     13,    13.,2,19871211,0109,-32.7483, 103.4000, 5255,   1797.5,   2.7395,  34.6690,2,  34.6625,2,    155.1,2,  2.6095,    155.1,2,    92.95,2,    35.38,2,     0.00,2,     2.45,2,    0.009,2,    0.000,2, -999.000,9,   1.9220,2,     9.60,2,   8.270,2,  0.0100,-999.000,   0.170,   0.200
      74AB29_1,    I5,    88,  1,     12,    12.,2,19871211,0109,-32.7483, 103.4000, 5255,   2101.2,   2.3800,  34.7090,2,  34.7038,2,    168.2,2,  2.2287,    166.8,2,    97.73,2,    34.40,2,     0.00,2,     2.38,2, -999.000,5, -999.000,5, -999.000,9,-999.0000,9,  -999.00,9,-999.000,9,-999.0000,-999.000,  -0.090,-999.000
      74AB29_1,    I5,    88,  1,     11,    11.,2,19871211,0109,-32.7483, 103.4000, 5255,   2401.0,   2.1036,  34.7340,2,  34.7307,2,    184.2,2,  1.9301,    183.4,2,    94.44,2,    33.04,2,     0.00,2,     2.25,2,    0.003,2,    0.000,2,    0.076,2,   1.9690,2,     8.40,2,   8.420,2,  0.0100,   0.008,   0.170,   0.200
      74AB29_1,    I5,    88,  1,     10,    10.,2,19871211,0109,-32.7483, 103.4000, 5255,   2703.1,   1.8491,  34.7390,2,  34.7366,2,    189.5,2,  1.6526,    188.1,2,   101.35,2,    32.94,2,     0.00,2,     2.25,2, -999.000,5, -999.000,5, -999.000,9,-999.0000,9,  -999.00,9,-999.000,9,-999.0000,-999.000,  -0.090,-999.000
      74AB29_1,    I5,    88,  1,      9,     9.,2,19871211,0109,-32.7483, 103.4000, 5255,   3001.9,   1.6336,  34.7380,2,  34.7372,2,    197.7,2,  1.4133,    198.6,2,   101.68,2,    32.25,2,     0.00,2,     2.19,2, -999.000,5, -999.000,5, -999.000,9,   1.9400,2,    10.00,2,   8.410,2,  0.0100,-999.000,   0.170,   0.200
      74AB29_1,    I5,    88,  1,      8,     8.,2,19871211,0109,-32.7483, 103.4000, 5255,   3303.1,   1.3752,  34.7300,2,  34.7292,2,    201.6,2,  1.1316,    202.0,2,   108.93,2,    32.55,2,     0.00,2,     2.20,2, -999.000,5, -999.000,5, -999.000,9,-999.0000,9,  -999.00,9,-999.000,9,-999.0000,-999.000,  -0.090,-999.000
      74AB29_1,    I5,    88,  1,      7,     7.,2,19871211,0109,-32.7483, 103.4000, 5255,   3582.0,   1.1962,  34.7230,2,  34.7215,2,    202.9,2,  0.9292,    205.1,2,   114.20,2,    32.94,2,     0.00,2,     2.24,2,    0.002,2,    0.000,2, -999.000,9,   1.9540,2,     8.50,2,   8.400,2,  0.0100,-999.000,   0.170,   0.200
      74AB29_1,    I5,    88,  1,      6,     6.,2,19871211,0109,-32.7483, 103.4000, 5255,   3907.1,   1.0587,  34.7150,2,  34.7172,2,    206.0,2,  0.7618,    205.5,2,   116.35,2,    32.94,2,     0.00,2,     2.24,2,    0.005,2,    0.000,2,    0.009,2,   1.9670,2,     8.50,2,   8.490,2,  0.0100,   0.008,   0.170,   0.200
      74AB29_1,    I5,    88,  1,      5,     5.,2,19871211,0109,-32.7483, 103.4000, 5255,   4211.0,   0.9888,  34.7110,2,  34.7115,2,    208.6,2,  0.6615,    208.6,2,   121.44,2,    33.23,2,     0.00,2,     2.28,2, -999.000,5, -999.000,5, -999.000,9,-999.0000,9,  -999.00,9,-999.000,9,-999.0000,-999.000,  -0.090,-999.000
      74AB29_1,    I5,    88,  1,      4,     4.,2,19871211,0109,-32.7483, 103.4000, 5255,   4511.5,   0.9668,  34.7080,2,  34.7072,2,    209.9,2,  0.6069,    209.0,2,   121.94,2,    33.23,2,     0.00,2,     2.27,2, -999.000,5, -999.000,5, -999.000,9,   1.9120,2,     7.90,2,   8.290,2,  0.0100,-999.000,   0.170,   0.200
      74AB29_1,    I5,    88,  1,      3,     3.,2,19871211,0109,-32.7483, 103.4000, 5255,   4811.7,   0.9673,  34.7070,2,  34.7052,2,    210.7,2,  0.5731,    209.0,2,   122.43,2,    33.23,2,     0.00,2,     2.32,2, -999.000,5, -999.000,5, -999.000,9,-999.0000,9,  -999.00,9,-999.000,9,-999.0000,-999.000,  -0.090,-999.000
      74AB29_1,    I5,    88,  1,      2,     2.,2,19871211,0109,-32.7483, 103.4000, 5255,   5115.2,   0.9813,  34.7060,2,  34.7050,2,    211.6,2,  0.5507,    209.4,2,   123.26,2,    33.33,2,     0.00,2,     2.27,2,    0.002,2,    0.000,2, -999.000,9,   1.9250,2,     7.50,2,   8.400,2,  0.0100,-999.000,   0.170,   0.200
      74AB29_1,    I5,    88,  1,      1,     1.,2,19871211,0109,-32.7483, 103.4000, 5255,   5344.8,   0.9983,  34.7050,2,  34.7000,2,    212.5,2,  0.5392,    210.7,2,   123.09,2,    33.04,2,     0.00,2,     2.27,2, -999.000,5, -999.000,5, -999.000,9,   1.9400,2,     8.20,2,   8.540,2,  0.0100,-999.000,   0.170,   0.200
      74AB29_1,    I5,    89,  1,     24,    24.,2,19871211,0824,-32.9150, 103.9833, 5467,     11.8,  17.8978,  35.8270,2,  35.8416,2,    238.1,2, 17.8958,    241.4,2,     1.51,2,     0.10,2,     0.00,2,     0.19,2, -999.000,5, -999.000,5, -999.000,5,-999.0000,5,  -999.00,9,-999.000,9,-999.0000,-999.000,-999.000,-999.000
      74AB29_1,    I5,    89,  1,     23,    23.,2,19871211,0824,-32.9150, 103.9833, 5467,    103.4,  14.4329,  35.4970,2,  35.4740,2,    247.6,2, 14.4176,    246.2,2,     1.00,2,     2.15,2,     0.00,2,     0.35,2, -999.000,5, -999.000,5, -999.000,5,-999.0000,5,  -999.00,9,-999.000,9,-999.0000,-999.000,-999.000,-999.000
      74AB29_1,    I5,    89,  1,     22,    22.,2,19871211,0824,-32.9150, 103.9833, 5467,    203.0,  13.0124,  35.2410,2,-999.0000,5,    234.4,2, 12.9964,    234.9,2,     1.65,2,     6.25,2,     0.00,2,     0.53,2, -999.000,5, -999.000,5, -999.000,5,-999.0000,5,  -999.00,9,-999.000,9,-999.0000,-999.000,-999.000,-999.000
      74AB29_1,    I5,    89,  1,     21,    21.,2,19871211,0824,-32.9150, 103.9833, 5467,    303.9,  11.3240,  34.9600,2,  34.9675,2,    244.0,2, 11.2857,    247.2,2,     2.29,2,     9.77,2,     0.00,2,     0.75,2, -999.000,5, -999.000,5, -999.000,5,-999.0000,5,  -999.00,9,-999.000,9,-999.0000,-999.000,-999.000,-999.000
      74AB29_1,    I5,    89,  1,     20,    20.,2,19871211,0824,-32.9150, 103.9833, 5467,    399.0,  10.5066,  34.8280,2,  34.8436,2,    245.3,2, 10.4584,    245.9,2,     2.93,2,    12.12,2,     0.00,2,     0.89,2, -999.000,5, -999.000,5, -999.000,5,-999.0000,5,  -999.00,9,-999.000,9,-999.0000,-999.000,-999.000,-999.000
      74AB29_1,    I5,    89,  1,     19,    19.,2,19871211,0824,-32.9150, 103.9833, 5467,    501.5,   9.7576,  34.7240,2,  34.7298,2,    240.5,2,  9.6996,    237.7,2,     3.91,2,    14.76,2,     0.00,2,     1.07,2, -999.000,5, -999.000,5, -999.000,5,-999.0000,5,  -999.00,9,-999.000,9,-999.0000,-999.000,-999.000,-999.000
      74AB29_1,    I5,    89,  1,     18,    18.,2,19871211,0824,-32.9150, 103.9833, 5467,    702.2,   8.4448,  34.5910,2,  34.5871,2,    226.6,2,  8.3696,    222.9,2,     7.87,2,    20.33,2,     0.00,2,     1.41,2, -999.000,5, -999.000,5, -999.000,5,-999.0000,5,  -999.00,9,-999.000,9,-999.0000,-999.000,-999.000,-999.000
      74AB29_1,    I5,    89,  1,     17,    17.,2,19871211,0824,-32.9150, 103.9833, 5467,    900.7,   5.4941,  34.4180,2,  34.4014,2,    196.5,2,  5.4165,    195.1,2,    26.52,2,    29.62,2,     0.00,2,     2.01,2, -999.000,5, -999.000,5, -999.000,5,-999.0000,5,  -999.00,9,-999.000,9,-999.0000,-999.000,-999.000,-999.000
      74AB29_1,    I5,    89,  1,     16,    16.,2,19871211,0824,-32.9150, 103.9833, 5467,   1101.0,   3.9323,  34.4210,2,  34.4149,2,    178.7,2,  3.8489,    179.1,2,    49.46,2,    33.34,2,     0.00,2,     2.31,2, -999.000,5, -999.000,5, -999.000,5,-999.0000,5,  -999.00,9,-999.000,9,-999.0000,-999.000,-999.000,-999.000
      74AB29_1,    I5,    89,  1,     15,    15.,2,19871211,0824,-32.9150, 103.9833, 5467,   1297.1,   3.4214,  34.5050,2,  34.5068,2,    161.7,2,  3.3261,    156.9,2,    67.93,2,    34.90,2,     0.00,2,     2.44,2, -999.000,5, -999.000,5, -999.000,5,-999.0000,5,  -999.00,9,-999.000,9,-999.0000,-999.000,-999.000,-999.000
      74AB29_1,    I5,    89,  1,     14,    14.,2,19871211,0824,-32.9150, 103.9833, 5467,   1498.5,   3.0614,  34.5850,2,  34.5924,2,    154.3,2,  2.9529,    153.0,2,    79.95,2,    35.29,2,     0.00,2,     2.47,2, -999.000,5, -999.000,5, -999.000,5,-999.0000,5,  -999.00,9,-999.000,9,-999.0000,-999.000,-999.000,-999.000
      74AB29_1,    I5,    89,  1,     13,    13.,2,19871211,0824,-32.9150, 103.9833, 5467,   1697.6,   2.7850,  34.6420,2,  34.6472,2,    156.9,2,  2.6630,    156.0,2,    88.00,2,    34.80,2,     0.00,2,     2.41,2, -999.000,5, -999.000,5, -999.000,5,-999.0000,5,  -999.00,9,-999.000,9,-999.0000,-999.000,-999.000,-999.000
      74AB29_1,    I5,    89,  1,     12,    12.,2,19871211,0824,-32.9150, 103.9833, 5467,   1998.1,   2.4670,  34.6970,2,  34.6946,2,    161.7,2,  2.3234,    162.1,2,    96.37,2,    34.21,2,     0.00,2,     2.37,2, -999.000,5, -999.000,5, -999.000,5,-999.0000,5,  -999.00,9,-999.000,9,-999.0000,-999.000,-999.000,-999.000
      74AB29_1,    I5,    89,  1,     11,    11.,2,19871211,0824,-32.9150, 103.9833, 5467,   2299.6,   2.1831,  34.7220,2,-999.0000,5,    169.5,2,  2.1845,    170.3,2,   101.77,2,    34.01,2,     0.00,2,     2.31,2, -999.000,5, -999.000,5, -999.000,5,-999.0000,5,  -999.00,9,-999.000,9,-999.0000,-999.000,-999.000,-999.000
      74AB29_1,    I5,    89,  1,     10,    10.,2,19871211,0824,-32.9150, 103.9833, 5467,   2600.5,   1.9676,  34.7340,2,  34.7300,2,    180.3,2,  1.7783,    182.0,2,   100.91,2,    33.04,2,     0.00,2,     2.24,2, -999.000,5, -999.000,5, -999.000,5,-999.0000,5,  -999.00,9,-999.000,9,-999.0000,-999.000,-999.000,-999.000
      74AB29_1,    I5,    89,  1,      9,     9.,2,19871211,0824,-32.9150, 103.9833, 5467,   2899.4,   1.7236,  34.7370,2,  34.7368,2,    188.6,2,  1.5112,    189.9,2,   103.66,2,    32.25,2,     0.00,2,     2.22,2, -999.000,5, -999.000,5, -999.000,5,-999.0000,5,  -999.00,9,-999.000,9,-999.0000,-999.000,-999.000,-999.000
      74AB29_1,    I5,    89,  1,      8,     8.,2,19871211,0824,-32.9150, 103.9833, 5467,   3203.1,   1.5017,  34.7350,2,  34.7366,2,    196.8,2,  1.2649,    198.6,2,   105.43,2,    31.76,2,     0.00,2,     2.17,2, -999.000,5, -999.000,5, -999.000,5,-999.0000,5,  -999.00,9,-999.000,9,-999.0000,-999.000,-999.000,-999.000
      74AB29_1,    I5,    89,  1,      7,     7.,2,19871211,0824,-32.9150, 103.9833, 5467,   3503.8,   1.2762,  34.7250,2,  34.7266,2,    199.4,2,  1.0150,    201.6,2,   111.98,2,    32.06,2,     0.00,2,     2.19,2, -999.000,5, -999.000,5, -999.000,5,-999.0000,5,  -999.00,9,-999.000,9,-999.0000,-999.000,-999.000,-999.000
      74AB29_1,    I5,    89,  1,      6,     6.,2,19871211,0824,-32.9150, 103.9833, 5467,   3806.6,   1.1382,  34.7200,2,  34.7187,2,    202.9,2,  0.8496,    205.5,2,   115.73,2,    32.35,2,     0.00,2,     2.19,2, -999.000,5, -999.000,5, -999.000,5,-999.0000,5,  -999.00,9,-999.000,9,-999.0000,-999.000,-999.000,-999.000
      74AB29_1,    I5,    89,  1,      5,     5.,2,19871211,0824,-32.9150, 103.9833, 5467,   4206.8,   1.0063,  34.7120,2,  34.7117,2,    206.4,2,  0.6789,    207.7,2,   119.48,2,    32.25,2,     0.00,2,     2.22,2, -999.000,5, -999.000,5, -999.000,5,-999.0000,5,  -999.00,9,-999.000,9,-999.0000,-999.000,-999.000,-999.000
      74AB29_1,    I5,    89,  1,      4,     4.,2,19871211,0824,-32.9150, 103.9833, 5467,   4610.6,   0.9638,  34.7080,2,  34.7089,2,    208.6,2,  0.5928,    209.0,2,   121.08,2,    32.55,2,     0.00,2,     2.22,2, -999.000,5, -999.000,5, -999.000,5,-999.0000,5,  -999.00,9,-999.000,9,-999.0000,-999.000,-999.000,-999.000
      74AB29_1,    I5,    89,  1,      3,     3.,2,19871211,0824,-32.9150, 103.9833, 5467,   5012.6,   0.9698,  34.7060,2,  34.7040,2,    210.3,2,  0.5519,    208.6,2,   121.85,2,    32.55,2,     0.00,2,     2.22,2, -999.000,5, -999.000,5, -999.000,5,-999.0000,5,  -999.00,9,-999.000,9,-999.0000,-999.000,-999.000,-999.000
      74AB29_1,    I5,    89,  1,      2,     2.,2,19871211,0824,-32.9150, 103.9833, 5467,   5414.6,   0.9993,  34.7050,2,  34.7064,2,    211.2,2,  0.5314,    209.0,2,   121.80,2,    32.65,2,     0.00,2,     2.22,2, -999.000,5, -999.000,5, -999.000,5,-999.0000,5,  -999.00,9,-999.000,9,-999.0000,-999.000,-999.000,-999.000
      74AB29_1,    I5,    89,  1,      1,     1.,2,19871211,0824,-32.9150, 103.9833, 5467,   5566.2,   1.0148,  34.7050,2,  34.7048,2,    211.6,2,  0.5274,    209.0,2,   122.74,2,    32.55,2,     0.00,2,     2.22,2, -999.000,5, -999.000,5, -999.000,5,-999.0000,5,  -999.00,9,-999.000,9,-999.0000,-999.000,-999.000,-999.000