BOTTLE,20060509WHPSIOSA
EXPOCODE,SECT_ID,STNNBR,CASTNO,SAMPNO,BTLNBR,BTLNBR_FLAG_W,DATE,TIME,LATITUDE,LONGITUDE,DEPTH,CTDPRS,CTDTMP,CTDSAL,CTDSAL_FLAG_W,SALNTY,SALNTY_FLAG_W,CTDOXY,CTDOXY_FLAG_W,THETA,OXYGEN,OXYGEN_FLAG_W,SILCAT,SILCAT_FLAG_W,NITRAT,NITRAT_FLAG_W,NITRIT,NITRIT_FLAG_W,PHSPHT,PHSPHT_FLAG_W,CFC-11,CFC-11_FLAG_W,CFC-12,CFC-12_FLAG_W,TRITUM,TRITUM_FLAG_W,HELIUM,HELIUM_FLAG_W,DELHE3,DELHE3_FLAG_W,NEON,NEON_FLAG_W,HELIER,TRITER,NEONER,DELHER
,,,,,,,,,,,,DBAR,IPTS-68,PSS-78,,PSS-78,,UMOL/KG,,IPTS-68,UMOL/KG,,UMOL/KG,,UMOL/KG,,UMOL/KG,,UMOL/KG,,PMOL/KG,,PMOL/KG,,TU,,UMOL/KG,,PERCNT,,NMOL/KG,,NMOL/KG,TU,NMOL/KG,PERCNT
      74AB29_1,    I5,    60,  1,     24,    24.,2,19871202,1510,-31.1283,  77.7400, 3055,      8.2,  19.8883,  35.9170,2,  35.9200,2,    246.5,2, 19.8868,    232.2,2,     1.92,2,     0.29,2,     0.00,2,     0.16,2, -999.000,5, -999.000,5, -999.000,5,-999.0000,5,  -999.00,9,-999.000,9,-999.0000,-999.000,-999.000,-999.000
      74AB29_1,    I5,    60,  1,     23,    23.,2,19871202,1510,-31.1283,  77.7400, 3055,    102.1,  16.6263,  35.6670,2,  35.6320,2,    251.1,2, 16.6097,    247.5,2,     1.75,2,     0.49,2,     0.00,2,     0.22,2, -999.000,5, -999.000,5, -999.000,5,-999.0000,5,  -999.00,9,-999.000,9,-999.0000,-999.000,-999.000,-999.000
      74AB29_1,    I5,    60,  1,     22,    22.,2,19871202,1510,-31.1283,  77.7400, 3055,    197.2,  13.6404,  35.3260,2,  35.3009,2,    233.2,2, 13.6123,    232.3,2,     2.35,2,     6.64,2,     0.00,2,     0.63,2, -999.000,5, -999.000,5, -999.000,5,-999.0000,5,  -999.00,9,-999.000,9,-999.0000,-999.000,-999.000,-999.000
      74AB29_1,    I5,    60,  1,     21,    21.,2,19871202,1510,-31.1283,  77.7400, 3055,    304.1,  12.4430,  35.1270,2,  35.1250,2,    233.6,2, 12.4021,    235.9,2,     3.57,2,     9.38,2,     0.00,2,     0.74,2, -999.000,5, -999.000,5, -999.000,5,-999.0000,5,  -999.00,9,-999.000,9,-999.0000,-999.000,-999.000,-999.000
      74AB29_1,    I5,    60,  1,     20,    20.,2,19871202,1510,-31.1283,  77.7400, 3055,    401.0,  11.6590,  35.0070,2,  35.0087,2,    239.7,2, 11.6072,    239.8,2,     3.78,2,    11.04,2,     0.00,2,     0.84,2, -999.000,5, -999.000,5, -999.000,5,-999.0000,5,  -999.00,9,-999.000,9,-999.0000,-999.000,-999.000,-999.000
      74AB29_1,    I5,    60,  1,     19,    19.,2,19871202,1510,-31.1283,  77.7400, 3055,    501.7,  10.9580,  34.9110,2,  34.9069,2,    241.0,2, 10.8955,    238.9,2,     4.19,2,    12.70,2,     0.00,2,     0.95,2, -999.000,5, -999.000,5, -999.000,5,-999.0000,5,  -999.00,9,-999.000,9,-999.0000,-999.000,-999.000,-999.000
      74AB29_1,    I5,    60,  1,     18,    18.,2,19871202,1510,-31.1283,  77.7400, 3055,    601.4,  10.2166,  34.8120,2,  34.8137,2,    235.7,2, 10.1446,    237.2,2,     4.60,2,    14.66,2,     0.00,2,     1.08,2, -999.000,5, -999.000,5, -999.000,5,-999.0000,5,  -999.00,9,-999.000,9,-999.0000,-999.000,-999.000,-999.000
      74AB29_1,    I5,    60,  1,     17,    17.,2,19871202,1510,-31.1283,  77.7400, 3055,    701.3,   9.3357,  34.7060,2,  34.7009,2,    230.9,2,  9.2559,    230.7,2,     6.22,2,    17.50,2,     0.00,2,     1.26,2, -999.000,5, -999.000,5, -999.000,5,-999.0000,5,  -999.00,9,-999.000,9,-999.0000,-999.000,-999.000,-999.000
      74AB29_1,    I5,    60,  1,     16,    16.,2,19871202,1510,-31.1283,  77.7400, 3055,    800.4,   8.3563,  34.6130,2,  34.6087,2,    216.1,2,  8.2705,    212.9,2,    10.62,2,    21.80,2,     0.00,2,     1.52,2, -999.000,5, -999.000,5, -999.000,5,-999.0000,5,  -999.00,9,-999.000,9,-999.0000,-999.000,-999.000,-999.000
      74AB29_1,    I5,    60,  1,     15,    15.,2,19871202,1510,-31.1283,  77.7400, 3055,    900.3,   6.9954,  34.4980,2,  34.5036,2,    204.8,2,  6.9075,    203.8,2,    18.20,2,    25.71,2,     0.00,2,     1.79,2, -999.000,5, -999.000,5, -999.000,5,-999.0000,5,  -999.00,9,-999.000,9,-999.0000,-999.000,-999.000,-999.000
      74AB29_1,    I5,    60,  1,     14,    14.,2,19871202,1510,-31.1283,  77.7400, 3055,   1001.0,   5.6391,  34.4110,2,  34.4184,2,    201.7,2,  5.5510,    203.0,2,    26.19,2,    28.74,2,     0.00,2,     2.01,2, -999.000,5, -999.000,5, -999.000,5,-999.0000,5,  -999.00,9,-999.000,9,-999.0000,-999.000,-999.000,-999.000
      74AB29_1,    I5,    60,  1,     13,    13.,2,19871202,1510,-31.1283,  77.7400, 3055,   1102.2,   4.5802,  34.3980,2,  34.3849,2,    193.9,2,  4.4913,    196.9,2,    36.56,2,    31.28,2,     0.00,2,     2.21,2, -999.000,5, -999.000,5, -999.000,5,-999.0000,5,  -999.00,9,-999.000,9,-999.0000,-999.000,-999.000,-999.000
      74AB29_1,    I5,    60,  1,     12,    12.,2,19871202,1510,-31.1283,  77.7400, 3055,   1201.6,   3.9583,  34.4140,2,  34.4137,2,    185.2,2,  3.8661,    185.1,2,    48.53,2,    33.14,2,     0.00,2,     2.34,2, -999.000,5, -999.000,5, -999.000,5,-999.0000,5,  -999.00,9,-999.000,9,-999.0000,-999.000,-999.000,-999.000
      74AB29_1,    I5,    60,  1,     11,    11.,2,19871202,1510,-31.1283,  77.7400, 3055,   1301.0,   3.7333,  34.4820,2,  34.4822,2,    166.5,2,  3.6346,    164.3,2,    62.88,2,    34.51,2,     0.00,2,     2.46,2, -999.000,5, -999.000,5, -999.000,5,-999.0000,5,  -999.00,9,-999.000,9,-999.0000,-999.000,-999.000,-999.000
      74AB29_1,    I5,    60,  1,     10,    10.,2,19871202,1510,-31.1283,  77.7400, 3055,   1399.4,   3.4819,  34.5260,2,  34.5282,2,    160.0,2,  3.3773,    159.5,2,    70.06,2,    35.00,2,     0.00,2,     2.47,2, -999.000,5, -999.000,5, -999.000,5,-999.0000,5,  -999.00,9,-999.000,9,-999.0000,-999.000,-999.000,-999.000
      74AB29_1,    I5,    60,  1,      9,     9.,2,19871202,1510,-31.1283,  77.7400, 3055,   1501.2,   3.0944,  34.5510,2,  34.5551,2,    166.0,2,  2.9854,    168.2,2,    73.05,2,    34.80,2,     0.00,2,     2.46,2,    0.027,2, -999.000,5, -999.000,5,-999.0000,5,  -999.00,9,-999.000,9,-999.0000,-999.000,-999.000,-999.000
      74AB29_1,    I5,    60,  1,      8,     8.,2,19871202,1510,-31.1283,  77.7400, 3055,   1602.5,   2.8734,  34.5830,2,  34.5798,2,    168.6,2,  2.7585,    167.7,2,    74.47,2,    34.41,2,     0.00,2,     2.42,2, -999.000,5, -999.000,5, -999.000,5,-999.0000,5,  -999.00,9,-999.000,9,-999.0000,-999.000,-999.000,-999.000
      74AB29_1,    I5,    60,  1,      7,     7.,2,19871202,1510,-31.1283,  77.7400, 3055,   1803.2,   2.6185,  34.6480,2,  34.6547,2,    173.4,2,  2.4897,    172.5,2,    80.44,2,    33.62,2,     0.00,2,     2.37,2, -999.000,5, -999.000,5, -999.000,5,-999.0000,5,  -999.00,9,-999.000,9,-999.0000,-999.000,-999.000,-999.000
      74AB29_1,    I5,    60,  1,      6,     6.,2,19871202,1510,-31.1283,  77.7400, 3055,   1999.1,   2.3965,  34.7000,2,  34.7026,2,    180.8,2,  2.2539,    180.7,2,    83.25,2,    32.65,2,     0.00,2,     2.28,2, -999.000,5, -999.000,5, -999.000,5,-999.0000,5,  -999.00,9,-999.000,9,-999.0000,-999.000,-999.000,-999.000
      74AB29_1,    I5,    60,  1,      5,     5.,2,19871202,1510,-31.1283,  77.7400, 3055,   2201.5,   2.1276,  34.7330,2,  34.7414,2,    188.6,2,  1.9714,    189.9,2,    87.84,2,    31.57,2,     0.00,2,     2.20,2,    0.002,2,    0.000,2, -999.000,5,-999.0000,5,  -999.00,9,-999.000,9,-999.0000,-999.000,-999.000,-999.000
      74AB29_1,    I5,    60,  1,      4,     4.,2,19871202,1510,-31.1283,  77.7400, 3055,   2400.5,   1.9586,  34.7410,2,  34.7370,2,    192.5,2,  1.7877,    193.8,2,    91.64,2,    31.37,2,     0.00,2,     2.18,2, -999.000,5, -999.000,5, -999.000,5,-999.0000,5,  -999.00,9,-999.000,9,-999.0000,-999.000,-999.000,-999.000
      74AB29_1,    I5,    60,  1,      3,     3.,2,19871202,1510,-31.1283,  77.7400, 3055,   2606.2,   1.7906,  34.7390,2,  34.7337,2,    194.2,2,  1.6042,    193.8,2,    99.60,2,    31.76,2,     0.00,2,     2.21,2,    0.000,2,    0.000,2, -999.000,5,-999.0000,5,  -999.00,9,-999.000,9,-999.0000,-999.000,-999.000,-999.000
      74AB29_1,    I5,    60,  1,      2,     2.,2,19871202,1510,-31.1283,  77.7400, 3055,   2805.6,   1.6946,  34.7350,2,  34.7337,2,    194.2,2,  1.4917,    194.6,2,   104.21,2,    31.96,2,     0.00,2,     2.24,2,    0.000,2,    0.000,2, -999.000,5,-999.0000,5,  -999.00,9,-999.000,9,-999.0000,-999.000,-999.000,-999.000
      74AB29_1,    I5,    60,  1,      1,     1.,2,19871202,1510,-31.1283,  77.7400, 3055,   3074.1,   1.6012,  34.7360,2,  34.7366,2,    197.3,2,  1.3747,    195.5,2,   105.61,2,    31.76,2,     0.00,2,     2.21,2, -999.000,5, -999.000,5, -999.000,5,-999.0000,5,  -999.00,9,-999.000,9,-999.0000,-999.000,-999.000,-999.000
      74AB29_1,    I5,    61,  1,     24,    24.,2,19871202,2212,-30.7500,  78.4967, 3517,      3.2,  19.6243,  35.9230,2,  35.9275,2,    212.5,2, 19.6237,    235.3,2,     1.56,2,     0.10,2,     0.00,2,     0.17,2, -999.000,5, -999.000,5, -999.000,5,-999.0000,5,  -999.00,9,-999.000,9,-999.0000,-999.000,-999.000,-999.000
      74AB29_1,    I5,    61,  1,     23,    23.,2,19871202,2212,-30.7500,  78.4967, 3517,    101.1,  17.3483,  35.7290,2,  35.7610,2,    246.8,2, 17.3313,    245.3,2,     1.39,2,     0.10,2,     0.00,2,     0.21,2, -999.000,5, -999.000,5, -999.000,5,-999.0000,5,  -999.00,9,-999.000,9,-999.0000,-999.000,-999.000,-999.000
      74AB29_1,    I5,    61,  1,     22,    22.,2,19871202,2212,-30.7500,  78.4967, 3517,    201.4,  14.5769,  35.3720,2,  35.4399,2,    232.3,2, 14.5469,    230.6,2,     1.99,2,     4.10,2,     0.00,2,     0.47,2, -999.000,5, -999.000,5, -999.000,5,-999.0000,5,  -999.00,9,-999.000,9,-999.0000,-999.000,-999.000,-999.000
      74AB29_1,    I5,    61,  1,     21,    21.,2,19871202,2212,-30.7500,  78.4967, 3517,    301.8,  12.7634,  35.1150,2,  35.1764,2,    235.8,2, 12.7222,    234.1,2,     3.40,2,     8.70,2,     0.00,2,     0.70,2, -999.000,5, -999.000,5, -999.000,5,-999.0000,5,  -999.00,9,-999.000,9,-999.0000,-999.000,-999.000,-999.000
      74AB29_1,    I5,    61,  1,     20,    20.,2,19871202,2212,-30.7500,  78.4967, 3517,    401.0,  11.7575,  35.0010,2,  35.0222,2,    239.3,2, 11.7054,    238.9,2,     3.62,2,    10.65,2,     0.00,2,     0.84,2, -999.000,5, -999.000,5, -999.000,5,-999.0000,5,  -999.00,9,-999.000,9,-999.0000,-999.000,-999.000,-999.000
      74AB29_1,    I5,    61,  1,     19,    19.,2,19871202,2212,-30.7500,  78.4967, 3517,    550.3,  10.6731,  34.8510,2,  34.8723,2,    242.7,2, 10.6055,    238.5,2,     4.22,2,    13.10,2,     0.00,2,     0.98,2, -999.000,5, -999.000,5, -999.000,5,-999.0000,5,  -999.00,9,-999.000,9,-999.0000,-999.000,-999.000,-999.000
      74AB29_1,    I5,    61,  1,     18,    18.,2,19871202,2212,-30.7500,  78.4967, 3517,    700.8,   9.3567,  34.7090,2,  34.7040,2,    233.6,2,  9.2768,    229.8,2,     6.02,2,    17.30,2,     0.00,2,     1.21,2, -999.000,5, -999.000,5, -999.000,5,-999.0000,5,  -999.00,9,-999.000,9,-999.0000,-999.000,-999.000,-999.000
      74AB29_1,    I5,    61,  1,     17,    17.,2,19871202,2212,-30.7500,  78.4967, 3517,    798.9,   8.3193,  34.6190,2,-999.0000,5,    217.0,2,  8.2862,    212.0,2,    10.78,2,    21.50,2,     0.00,2,     1.50,2, -999.000,5, -999.000,5, -999.000,5,-999.0000,5,  -999.00,9,-999.000,9,-999.0000,-999.000,-999.000,-999.000
      74AB29_1,    I5,    61,  1,     16,    16.,2,19871202,2212,-30.7500,  78.4967, 3517,    900.0,   6.9299,  34.5150,2,  34.4991,2,    204.8,2,  6.8425,    201.6,2,    18.70,2,    25.71,2,     0.00,2,     1.77,2, -999.000,5, -999.000,5, -999.000,5,-999.0000,5,  -999.00,9,-999.000,9,-999.0000,-999.000,-999.000,-999.000
      74AB29_1,    I5,    61,  1,     15,    15.,2,19871202,2212,-30.7500,  78.4967, 3517,   1000.5,   5.6041,  34.4230,2,  34.4184,2,    197.0,2,  5.5163,    198.2,2,    27.79,2,    28.94,2,     0.00,2,     2.01,2, -999.000,5, -999.000,5, -999.000,5,-999.0000,5,  -999.00,9,-999.000,9,-999.0000,-999.000,-999.000,-999.000
      74AB29_1,    I5,    61,  1,     14,    14.,2,19871202,2212,-30.7500,  78.4967, 3517,   1099.6,   4.6427,  34.3940,2,-999.0000,5,    193.5,2,  4.6315,    192.1,2,    38.08,2,    31.09,2,     0.00,2,     2.17,2, -999.000,5, -999.000,5, -999.000,5,-999.0000,5,  -999.00,9,-999.000,9,-999.0000,-999.000,-999.000,-999.000
      74AB29_1,    I5,    61,  1,     13,    13.,2,19871202,2212,-30.7500,  78.4967, 3517,   1199.8,   4.0238,  34.4220,2,  34.4269,2,    180.8,2,  3.9312,    179.9,2,    50.13,2,    32.85,2,     0.00,2,     2.30,2, -999.000,5, -999.000,5, -999.000,5,-999.0000,5,  -999.00,9,-999.000,9,-999.0000,-999.000,-999.000,-999.000
      74AB29_1,    I5,    61,  1,     12,    12.,2,19871202,2212,-30.7500,  78.4967, 3517,   1399.4,   3.4914,  34.5200,2,  34.5154,2,    161.3,2,  3.3867,    159.5,2,    69.29,2,    34.41,2,     0.00,2,     2.43,2, -999.000,5, -999.000,5, -999.000,5,-999.0000,5,  -999.00,9,-999.000,9,-999.0000,-999.000,-999.000,-999.000
      74AB29_1,    I5,    61,  1,     11,    11.,2,19871202,2212,-30.7500,  78.4967, 3517,   1596.9,   3.1239,  34.6030,2,  34.5999,2,    156.5,2,  3.0063,    153.8,2,    81.73,2,    34.60,2,     0.00,2,     2.46,2, -999.000,5, -999.000,5, -999.000,5,-999.0000,5,  -999.00,9,-999.000,9,-999.0000,-999.000,-999.000,-999.000
      74AB29_1,    I5,    61,  1,     10,    10.,2,19871202,2212,-30.7500,  78.4967, 3517,   1798.4,   2.6980,  34.6510,2,  34.6480,2,    164.3,2,  2.5685,    167.3,2,    82.71,2,    33.62,2,     0.00,2,     2.36,2, -999.000,5, -999.000,5, -999.000,5,-999.0000,5,  -999.00,9,-999.000,9,-999.0000,-999.000,-999.000,-999.000
      74AB29_1,    I5,    61,  1,      9,     9.,2,19871202,2212,-30.7500,  78.4967, 3517,   2000.5,   2.4155,  34.6990,2,  34.7040,2,    173.4,2,  2.2724,    171.6,2,    91.79,2,    32.84,2,     0.00,2,     2.32,2, -999.000,5, -999.000,5, -999.000,5,-999.0000,5,  -999.00,9,-999.000,9,-999.0000,-999.000,-999.000,-999.000
      74AB29_1,    I5,    61,  1,      8,     8.,2,19871202,2212,-30.7500,  78.4967, 3517,   2200.8,   2.1776,  34.7220,2,  34.7288,2,    179.9,2,  2.0207,    183.4,2,    91.80,2,    31.86,2,     0.00,2,     2.25,2, -999.000,5, -999.000,5, -999.000,5,-999.0000,5,  -999.00,9,-999.000,9,-999.0000,-999.000,-999.000,-999.000
      74AB29_1,    I5,    61,  1,      7,     7.,2,19871202,2212,-30.7500,  78.4967, 3517,   2401.8,   1.9871,  34.7440,2,  34.7449,2,    192.5,2,  1.8155,    194.6,2,    89.42,2,    30.89,2,     0.00,2,     2.15,2, -999.000,5, -999.000,5, -999.000,5,-999.0000,5,  -999.00,9,-999.000,9,-999.0000,-999.000,-999.000,-999.000
      74AB29_1,    I5,    61,  1,      6,     6.,2,19871202,2212,-30.7500,  78.4967, 3517,   2602.2,   1.7481,  34.7410,2,  34.7378,2,    194.2,2,  1.5629,    194.6,2,    99.89,2,    31.37,2,     0.00,2,     2.21,2, -999.000,5, -999.000,5, -999.000,5,-999.0000,5,  -999.00,9,-999.000,9,-999.0000,-999.000,-999.000,-999.000
      74AB29_1,    I5,    61,  1,      5,     5.,2,19871202,2212,-30.7500,  78.4967, 3517,   2803.4,   1.6511,  34.7360,2,  34.7341,2,    194.2,2,  1.4493,    195.5,2,   103.23,2,    31.47,2,     0.00,2,     2.20,2, -999.000,5, -999.000,5, -999.000,5,-999.0000,5,  -999.00,9,-999.000,9,-999.0000,-999.000,-999.000,-999.000
      74AB29_1,    I5,    61,  1,      4,     4.,2,19871202,2212,-30.7500,  78.4967, 3517,   3005.6,   1.5922,  34.7370,2,-999.0000,5,    197.3,2,  1.5886,    197.7,2,   104.62,2,    31.47,2,     0.00,2,     2.20,2, -999.000,5, -999.000,5, -999.000,5,-999.0000,5,  -999.00,9,-999.000,9,-999.0000,-999.000,-999.000,-999.000
      74AB29_1,    I5,    61,  1,      3,     3.,2,19871202,2212,-30.7500,  78.4967, 3517,   3203.8,   1.5292,  34.7350,2,  34.7370,2,    198.1,2,  1.2917,    198.6,2,   106.98,2,    31.67,2,     0.00,2,     2.21,2, -999.000,5, -999.000,5, -999.000,5,-999.0000,5,  -999.00,9,-999.000,9,-999.0000,-999.000,-999.000,-999.000
      74AB29_1,    I5,    61,  1,      2,     2.,2,19871202,2212,-30.7500,  78.4967, 3517,   3305.6,   1.5107,  34.7340,2,  34.7331,2,    199.4,2,  1.2636,    199.4,2,   107.19,2,    31.57,2,     0.00,2,     2.21,2, -999.000,5, -999.000,5, -999.000,5,-999.0000,5,  -999.00,9,-999.000,9,-999.0000,-999.000,-999.000,-999.000
      74AB29_1,    I5,    61,  1,      1,     1.,2,19871202,2212,-30.7500,  78.4967, 3517,   3556.4,   1.4852,  34.7330,2,  34.7278,2,    200.7,2,  1.2133,    198.1,2,   108.96,2,    31.67,2,     0.00,2,     2.21,2, -999.000,5, -999.000,5, -999.000,5,-999.0000,5,  -999.00,9,-999.000,9,-999.0000,-999.000,-999.000,-999.000