BOTTLE,20060509WHPSIOSA
EXPOCODE,SECT_ID,STNNBR,CASTNO,SAMPNO,BTLNBR,BTLNBR_FLAG_W,DATE,TIME,LATITUDE,LONGITUDE,DEPTH,CTDPRS,CTDTMP,CTDSAL,CTDSAL_FLAG_W,SALNTY,SALNTY_FLAG_W,CTDOXY,CTDOXY_FLAG_W,THETA,OXYGEN,OXYGEN_FLAG_W,SILCAT,SILCAT_FLAG_W,NITRAT,NITRAT_FLAG_W,NITRIT,NITRIT_FLAG_W,PHSPHT,PHSPHT_FLAG_W,CFC-11,CFC-11_FLAG_W,CFC-12,CFC-12_FLAG_W,TRITUM,TRITUM_FLAG_W,HELIUM,HELIUM_FLAG_W,DELHE3,DELHE3_FLAG_W,NEON,NEON_FLAG_W,HELIER,TRITER,NEONER,DELHER
,,,,,,,,,,,,DBAR,IPTS-68,PSS-78,,PSS-78,,UMOL/KG,,IPTS-68,UMOL/KG,,UMOL/KG,,UMOL/KG,,UMOL/KG,,UMOL/KG,,PMOL/KG,,PMOL/KG,,TU,,UMOL/KG,,PERCNT,,NMOL/KG,,NMOL/KG,TU,NMOL/KG,PERCNT
      74AB29_1,    I5,    46,  1,     24,    24.,2,19871126,0953,-33.9983,  58.1667, 5122,      5.9,  18.1518,  35.5420,2,  35.5474,2,    239.1,2, 18.1508,    243.6,2,     1.71,2,    -0.10,2,     0.00,2,     0.20,2, -999.000,5, -999.000,5, -999.000,5,-999.0000,5,  -999.00,9,-999.000,9,-999.0000,-999.000,-999.000,-999.000
      74AB29_1,    I5,    46,  1,     23,    23.,2,19871126,0953,-33.9983,  58.1667, 5122,    103.2,  15.3373,  35.5100,2,  35.5083,2,    233.2,2, 15.3214,    241.9,2,     2.55,2,     2.15,2,     0.02,2,     0.34,2, -999.000,5, -999.000,5, -999.000,5,-999.0000,5,  -999.00,9,-999.000,9,-999.0000,-999.000,-999.000,-999.000
      74AB29_1,    I5,    46,  1,     22,    22.,2,19871126,0953,-33.9983,  58.1667, 5122,    202.1,  15.0928,  35.4740,2,  35.4809,2,    239.8,2, 15.0619,    240.6,2,     2.72,2,     3.22,2,    -0.02,2,     0.43,2, -999.000,5, -999.000,5, -999.000,5,-999.0000,5,  -999.00,9,-999.000,9,-999.0000,-999.000,-999.000,-999.000
      74AB29_1,    I5,    46,  1,     21,    21.,2,19871126,0953,-33.9983,  58.1667, 5122,    303.2,  14.4994,  35.3790,2,  35.4119,2,    228.4,2, 14.4542,    233.2,2,     3.23,2,     5.67,2,    -0.01,2,     0.55,2, -999.000,5, -999.000,5, -999.000,5,-999.0000,5,  -999.00,9,-999.000,9,-999.0000,-999.000,-999.000,-999.000
      74AB29_1,    I5,    46,  1,     20,    20.,2,19871126,0953,-33.9983,  58.1667, 5122,    502.2,  13.2999,  35.2210,2,  35.2749,2,    233.2,2, 13.2288,    234.1,2,     3.90,2,     8.11,2,    -0.02,2,     0.71,2, -999.000,5, -999.000,5, -999.000,5,-999.0000,5,  -999.00,9,-999.000,9,-999.0000,-999.000,-999.000,-999.000
      74AB29_1,    I5,    46,  1,     19,    19.,2,19871126,0953,-33.9983,  58.1667, 5122,    701.7,  11.0845,  34.9060,2,  34.9229,2,    220.5,2, 10.9956,    220.2,2,     5.75,2,    14.27,2,     0.00,2,     1.08,2, -999.000,5, -999.000,5, -999.000,5,-999.0000,5,  -999.00,9,-999.000,9,-999.0000,-999.000,-999.000,-999.000
      74AB29_1,    I5,    46,  1,     18,    18.,2,19871126,0953,-33.9983,  58.1667, 5122,    898.5,   8.4158,  34.6370,2,  34.6417,2,    209.6,2,  8.3185,    209.0,2,    12.61,2,    21.41,2,     0.00,2,     1.52,2, -999.000,5, -999.000,5, -999.000,5,-999.0000,5,  -999.00,9,-999.000,9,-999.0000,-999.000,-999.000,-999.000
      74AB29_1,    I5,    46,  1,     17,    17.,2,19871126,0953,-33.9983,  58.1667, 5122,    999.8,   6.9954,  34.5220,2,  34.5117,2,    206.1,2,  6.8971,    204.2,2,    18.81,2,    25.32,2,     0.00,2,     1.76,2, -999.000,5, -999.000,5, -999.000,5,-999.0000,5,  -999.00,9,-999.000,9,-999.0000,-999.000,-999.000,-999.000
      74AB29_1,    I5,    46,  1,     16,    16.,2,19871126,0953,-33.9983,  58.1667, 5122,   1200.6,   4.5967,  34.3830,2,  34.3796,2,    203.5,2,  4.4988,    203.4,2,    34.23,2,    30.31,2,     0.01,2,     2.11,2, -999.000,5, -999.000,5, -999.000,5,-999.0000,5,  -999.00,9,-999.000,9,-999.0000,-999.000,-999.000,-999.000
      74AB29_1,    I5,    46,  1,     15,    15.,2,19871126,0953,-33.9983,  58.1667, 5122,   1399.6,   3.5204,  34.4280,2,  34.4188,2,    188.2,2,  3.4156,    189.0,2,    50.81,2,    32.95,2,     0.01,2,     2.31,2, -999.000,5, -999.000,5, -999.000,5,-999.0000,5,  -999.00,9,-999.000,9,-999.0000,-999.000,-999.000,-999.000
      74AB29_1,    I5,    46,  1,     14,    14.,2,19871126,0953,-33.9983,  58.1667, 5122,   1600.9,   3.0099,  34.5270,2,  34.5223,2,    179.1,2,  2.8936,    177.7,2,    64.37,2,    33.72,2,     0.00,2,     2.34,2, -999.000,5, -999.000,5, -999.000,5,-999.0000,5,  -999.00,9,-999.000,9,-999.0000,-999.000,-999.000,-999.000
      74AB29_1,    I5,    46,  1,     13,    13.,2,19871126,0953,-33.9983,  58.1667, 5122,   1698.7,   2.8729,  34.5660,2,  34.5604,2,    177.3,2,  2.7499,    175.6,2,    68.56,2,    33.63,2,     0.00,2,     2.34,2, -999.000,5, -999.000,5, -999.000,5,-999.0000,5,  -999.00,9,-999.000,9,-999.0000,-999.000,-999.000,-999.000
      74AB29_1,    I5,    46,  1,     12,    12.,2,19871126,0953,-33.9983,  58.1667, 5122,   1999.2,   2.5225,  34.6680,2,  34.6661,2,    179.9,2,  2.3781,    179.9,2,    79.80,2,    32.35,2,     0.01,2,     2.25,2, -999.000,5, -999.000,5, -999.000,5,-999.0000,5,  -999.00,9,-999.000,9,-999.0000,-999.000,-999.000,-999.000
      74AB29_1,    I5,    46,  1,     11,    11.,2,19871126,0953,-33.9983,  58.1667, 5122,   2300.8,   2.2850,  34.7160,2,  34.7123,2,    184.2,2,  2.1174,    183.8,2,    88.18,2,    31.77,2,    -0.01,2,     2.21,2, -999.000,5, -999.000,5, -999.000,5,-999.0000,5,  -999.00,9,-999.000,9,-999.0000,-999.000,-999.000,-999.000
      74AB29_1,    I5,    46,  1,     10,    10.,2,19871126,0953,-33.9983,  58.1667, 5122,   2602.5,   2.0761,  34.7370,2,  34.7337,2,    188.6,2,  1.8845,    187.7,2,    93.90,2,    31.47,2,     0.00,2,     2.19,2, -999.000,5, -999.000,5, -999.000,5,-999.0000,5,  -999.00,9,-999.000,9,-999.0000,-999.000,-999.000,-999.000
      74AB29_1,    I5,    46,  1,      9,     9.,2,19871126,0953,-33.9983,  58.1667, 5122,   2903.0,   1.8626,  34.7420,2,-999.0000,5,    191.6,2,  1.8551,    191.6,2,    99.76,2,    31.47,2,     0.00,2,     2.20,2, -999.000,5, -999.000,5, -999.000,5,-999.0000,5,  -999.00,9,-999.000,9,-999.0000,-999.000,-999.000,-999.000
      74AB29_1,    I5,    46,  1,      8,     8.,2,19871126,0953,-33.9983,  58.1667, 5122,   3203.6,   1.5542,  34.7360,2,  34.7321,2,    197.3,2,  1.3161,    197.3,2,   106.65,2,    31.67,2,     0.02,2,     2.20,2, -999.000,5, -999.000,5, -999.000,5,-999.0000,5,  -999.00,9,-999.000,9,-999.0000,-999.000,-999.000,-999.000
      74AB29_1,    I5,    46,  1,      7,     7.,2,19871126,0953,-33.9983,  58.1667, 5122,   3505.0,   1.2262,  34.7240,2,  34.7229,2,    204.2,2,  0.9662,    205.9,2,   112.03,2,    31.77,2,     0.03,2,     2.19,2, -999.000,5, -999.000,5, -999.000,5,-999.0000,5,  -999.00,9,-999.000,9,-999.0000,-999.000,-999.000,-999.000
      74AB29_1,    I5,    46,  1,      6,     6.,2,19871126,0953,-33.9983,  58.1667, 5122,   3806.8,   0.8783,  34.7080,2,  34.7070,2,    210.7,2,  0.5969,    212.9,2,   121.77,2,    32.06,2,     0.02,2,     2.22,2, -999.000,5, -999.000,5, -999.000,5,-999.0000,5,  -999.00,9,-999.000,9,-999.0000,-999.000,-999.000,-999.000
      74AB29_1,    I5,    46,  1,      5,     5.,2,19871126,0953,-33.9983,  58.1667, 5122,   4108.3,   0.5958,  34.6930,2,  34.6938,2,    215.9,2,  0.2911,    217.2,2,   127.16,2,    32.25,2,     0.01,2,     2.22,2, -999.000,5, -999.000,5, -999.000,5,-999.0000,5,  -999.00,9,-999.000,9,-999.0000,-999.000,-999.000,-999.000
      74AB29_1,    I5,    46,  1,      4,     4.,2,19871126,0953,-33.9983,  58.1667, 5122,   4408.9,   0.5383,  34.6890,2,  34.6881,2,    218.1,2,  0.2033,    218.1,2,   127.68,2,    32.25,2,     0.01,2,     2.24,2, -999.000,5, -999.000,5, -999.000,5,-999.0000,5,  -999.00,9,-999.000,9,-999.0000,-999.000,-999.000,-999.000
      74AB29_1,    I5,    46,  1,      3,     3.,2,19871126,0953,-33.9983,  58.1667, 5122,   4710.1,   0.5233,  34.6870,2,  34.6851,2,    220.3,2,  0.1554,    219.9,2,   130.71,2,    32.55,2,     0.01,2,     2.26,2, -999.000,5, -999.000,5, -999.000,5,-999.0000,5,  -999.00,9,-999.000,9,-999.0000,-999.000,-999.000,-999.000
      74AB29_1,    I5,    46,  1,      2,     2.,2,19871126,0953,-33.9983,  58.1667, 5122,   5012.1,   0.5208,  34.6860,2,  34.6840,2,    222.0,2,  0.1184,    220.7,2,   131.91,2,    32.55,2,     0.01,2,     2.25,2, -999.000,5, -999.000,5, -999.000,5,-999.0000,5,  -999.00,9,-999.000,9,-999.0000,-999.000,-999.000,-999.000
      74AB29_1,    I5,    46,  1,      1,     1.,2,19871126,0953,-33.9983,  58.1667, 5122,   5206.9,   0.5268,  34.6840,2,  34.6846,2,    221.6,2,  0.1013,    220.7,2,   132.26,2,    32.65,2,     0.00,2,     2.25,2, -999.000,5, -999.000,5, -999.000,5,-999.0000,5,  -999.00,9,-999.000,9,-999.0000,-999.000,-999.000,-999.000
      74AB29_1,    I5,    47,  1,     24,    24.,2,19871126,1725,-33.9950,  58.8933, 3973,      7.5,  18.0243,  35.5400,2,  35.5245,2,    244.3,2, 18.0230,    247.5,2,     1.16,2,     0.00,2,    -0.01,2,     0.25,2, -999.000,5, -999.000,5, -999.000,5,-999.0000,5,  -999.00,9,-999.000,9,-999.0000,-999.000,-999.000,-999.000
      74AB29_1,    I5,    47,  1,     23,    23.,2,19871126,1725,-33.9950,  58.8933, 3973,    104.4,  15.1248,  35.4930,2,  35.4906,2,    241.1,2, 15.1089,    240.6,2,     2.35,2,     2.93,2,     0.02,2,     0.42,2, -999.000,5, -999.000,5, -999.000,5,-999.0000,5,  -999.00,9,-999.000,9,-999.0000,-999.000,-999.000,-999.000
      74AB29_1,    I5,    47,  1,     22,    22.,2,19871126,1725,-33.9950,  58.8933, 3973,    203.7,  14.3924,  35.4250,2,  35.4316,2,    238.9,2, 14.3623,    243.2,2,     2.84,2,     4.49,2,     0.01,2,     0.49,2, -999.000,5, -999.000,5, -999.000,5,-999.0000,5,  -999.00,9,-999.000,9,-999.0000,-999.000,-999.000,-999.000
      74AB29_1,    I5,    47,  1,     21,    21.,2,19871126,1725,-33.9950,  58.8933, 3973,    303.5,  14.0979,  35.4000,2,  35.3979,2,    248.9,2, 14.0535,    248.4,2,     3.24,2,     5.37,2,     0.01,2,     0.55,2, -999.000,5, -999.000,5, -999.000,5,-999.0000,5,  -999.00,9,-999.000,9,-999.0000,-999.000,-999.000,-999.000
      74AB29_1,    I5,    47,  1,     20,    20.,2,19871126,1725,-33.9950,  58.8933, 3973,    400.7,  14.0924,  35.3970,2,  35.3951,2,    249.3,2, 14.0336,    246.7,2,     3.44,2,     5.37,2,    -0.01,2,     0.56,2, -999.000,5, -999.000,5, -999.000,5,-999.0000,5,  -999.00,9,-999.000,9,-999.0000,-999.000,-999.000,-999.000
      74AB29_1,    I5,    47,  1,     19,    19.,2,19871126,1725,-33.9950,  58.8933, 3973,    502.8,  13.9474,  35.2800,2,  35.3802,2,    241.5,2, 13.8739,    244.1,2,     3.73,2,     5.96,2,    -0.01,2,     0.62,2, -999.000,5, -999.000,5, -999.000,5,-999.0000,5,  -999.00,9,-999.000,9,-999.0000,-999.000,-999.000,-999.000
      74AB29_1,    I5,    47,  1,     18,    18.,2,19871126,1725,-33.9950,  58.8933, 3973,    601.5,  12.7579,  35.1160,2,  35.1764,2,    231.4,2, 12.6748,    234.1,2,     4.22,2,     9.87,2,    -0.01,2,     0.84,2, -999.000,5, -999.000,5, -999.000,5,-999.0000,5,  -999.00,9,-999.000,9,-999.0000,-999.000,-999.000,-999.000
      74AB29_1,    I5,    47,  1,     17,    17.,2,19871126,1725,-33.9950,  58.8933, 3973,    801.8,  10.0471,  34.8030,2,  34.7956,2,    215.7,2,  9.9512,    215.1,2,     8.64,2,    17.20,2,     0.00,2,     1.29,2, -999.000,5, -999.000,5, -999.000,5,-999.0000,5,  -999.00,9,-999.000,9,-999.0000,-999.000,-999.000,-999.000
      74AB29_1,    I5,    47,  1,     16,    16.,2,19871126,1725,-33.9950,  58.8933, 3973,   1000.9,   6.7454,  34.5080,2,  34.4944,2,    205.7,2,  6.6489,    206.4,2,    19.84,2,    25.91,2,     0.00,2,     1.85,2, -999.000,5, -999.000,5, -999.000,5,-999.0000,5,  -999.00,9,-999.000,9,-999.0000,-999.000,-999.000,-999.000
      74AB29_1,    I5,    47,  1,     15,    15.,2,19871126,1725,-33.9950,  58.8933, 3973,   1201.2,   4.7792,  34.3750,2,-999.0000,5,    204.3,2,  4.7642,    209.9,2,    29.76,2,    29.82,2,    -0.01,2,     2.11,2, -999.000,5, -999.000,5, -999.000,5,-999.0000,5,  -999.00,9,-999.000,9,-999.0000,-999.000,-999.000,-999.000
      74AB29_1,    I5,    47,  1,     14,    14.,2,19871126,1725,-33.9950,  58.8933, 3973,   1401.8,   3.4769,  34.4270,2,  34.4239,2,    189.5,2,  3.3724,    190.8,2,    50.88,2,    33.04,2,    -0.01,2,     2.35,2, -999.000,5, -999.000,5, -999.000,5,-999.0000,5,  -999.00,9,-999.000,9,-999.0000,-999.000,-999.000,-999.000
      74AB29_1,    I5,    47,  1,     13,    13.,2,19871126,1725,-33.9950,  58.8933, 3973,   1600.6,   3.0194,  34.5280,2,  34.5235,2,    178.2,2,  2.9030,    178.2,2,    64.82,2,    33.53,2,    -0.01,2,     2.39,2, -999.000,5, -999.000,5, -999.000,5,-999.0000,5,  -999.00,9,-999.000,9,-999.0000,-999.000,-999.000,-999.000
      74AB29_1,    I5,    47,  1,     12,    12.,2,19871126,1725,-33.9950,  58.8933, 3973,   1801.5,   2.6980,  34.6020,2,  34.6122,2,    177.8,2,  2.5683,    177.3,2,    72.38,2,    33.14,2,    -0.01,2,     2.34,2, -999.000,5, -999.000,5, -999.000,5,-999.0000,5,  -999.00,9,-999.000,9,-999.0000,-999.000,-999.000,-999.000
      74AB29_1,    I5,    47,  1,     11,    11.,2,19871126,1725,-33.9950,  58.8933, 3973,   2001.7,   2.5080,  34.6680,2,  34.6730,2,    180.3,2,  2.3636,    180.8,2,    78.08,2,    32.26,2,    -0.03,2,     2.30,2, -999.000,5, -999.000,5, -999.000,5,-999.0000,5,  -999.00,9,-999.000,9,-999.0000,-999.000,-999.000,-999.000
      74AB29_1,    I5,    47,  1,     10,    10.,2,19871126,1725,-33.9950,  58.8933, 3973,   2200.9,   2.3350,  34.7000,2,  34.7022,2,    182.5,2,  2.1756,    182.1,2,    87.70,2,    32.16,2,    -0.02,2,     2.29,2, -999.000,5, -999.000,5, -999.000,5,-999.0000,5,  -999.00,9,-999.000,9,-999.0000,-999.000,-999.000,-999.000
      74AB29_1,    I5,    47,  1,      9,     9.,2,19871126,1725,-33.9950,  58.8933, 3973,   2403.2,   2.1971,  34.7200,2,  34.7172,2,    181.2,2,  2.0218,    180.7,2,    96.24,2,    32.25,2,     0.00,2,     2.29,2, -999.000,5, -999.000,5, -999.000,5,-999.0000,5,  -999.00,9,-999.000,9,-999.0000,-999.000,-999.000,-999.000
      74AB29_1,    I5,    47,  1,      8,     8.,2,19871126,1725,-33.9950,  58.8933, 3973,   2601.8,   2.0846,  34.7330,2,  34.7309,2,    184.2,2,  1.8930,    182.5,2,    99.98,2,    32.16,2,    -0.01,2,     2.31,2, -999.000,5, -999.000,5, -999.000,5,-999.0000,5,  -999.00,9,-999.000,9,-999.0000,-999.000,-999.000,-999.000
      74AB29_1,    I5,    47,  1,      7,     7.,2,19871126,1725,-33.9950,  58.8933, 3973,   2804.0,   1.9586,  34.7380,2,  34.7368,2,    187.3,2,  1.7504,    184.7,2,   102.82,2,    32.16,2,    -0.01,2,     2.32,2, -999.000,5, -999.000,5, -999.000,5,-999.0000,5,  -999.00,9,-999.000,9,-999.0000,-999.000,-999.000,-999.000
      74AB29_1,    I5,    47,  1,      6,     6.,2,19871126,1725,-33.9950,  58.8933, 3973,   3004.7,   1.8136,  34.7370,2,-999.0000,5,    189.5,2,  1.8041,    189.9,2,   105.37,2,    32.06,2,    -0.01,2,     2.28,2, -999.000,5, -999.000,5, -999.000,5,-999.0000,5,  -999.00,9,-999.000,9,-999.0000,-999.000,-999.000,-999.000
      74AB29_1,    I5,    47,  1,      5,     5.,2,19871126,1725,-33.9950,  58.8933, 3973,   3205.4,   1.6526,  34.7340,2,  34.7345,2,    196.4,2,  1.4121,    194.2,2,   107.43,2,    31.86,2,    -0.01,2,     2.27,2, -999.000,5, -999.000,5, -999.000,5,-999.0000,5,  -999.00,9,-999.000,9,-999.0000,-999.000,-999.000,-999.000
      74AB29_1,    I5,    47,  1,      4,     4.,2,19871126,1725,-33.9950,  58.8933, 3973,   3406.0,   1.5107,  34.7320,2,  34.7345,2,    199.0,2,  1.2535,    200.3,2,   107.82,2,    31.57,2,    -0.01,2,     2.24,2, -999.000,5, -999.000,5, -999.000,5,-999.0000,5,  -999.00,9,-999.000,9,-999.0000,-999.000,-999.000,-999.000
      74AB29_1,    I5,    47,  1,      3,     3.,2,19871126,1725,-33.9950,  58.8933, 3973,   3608.4,   1.2952,  34.7250,2,  34.7286,2,    204.2,2,  1.0229,    204.2,2,   110.48,2,    31.67,2,     0.00,2,     2.24,2, -999.000,5, -999.000,5, -999.000,5,-999.0000,5,  -999.00,9,-999.000,9,-999.0000,-999.000,-999.000,-999.000
      74AB29_1,    I5,    47,  1,      2,     2.,2,19871126,1725,-33.9950,  58.8933, 3973,   3807.3,   0.9638,  34.7120,2,-999.0000,5,    210.3,2,  0.9495,    212.0,2,   117.94,2,    31.96,2,    -0.01,2,     2.25,2, -999.000,5, -999.000,5, -999.000,5,-999.0000,5,  -999.00,9,-999.000,9,-999.0000,-999.000,-999.000,-999.000
      74AB29_1,    I5,    47,  1,      1,     1.,2,19871126,1725,-33.9950,  58.8933, 3973,   4014.3,   0.8088,  34.7040,2,-999.0000,5,    212.0,2,  0.7908,    214.6,2,   121.67,2,    32.16,2,    -0.01,2,     2.24,2, -999.000,5, -999.000,5, -999.000,5,-999.0000,5,  -999.00,9,-999.000,9,-999.0000,-999.000,-999.000,-999.000