BOTTLE,20060509WHPSIOSA
EXPOCODE,SECT_ID,STNNBR,CASTNO,SAMPNO,BTLNBR,BTLNBR_FLAG_W,DATE,TIME,LATITUDE,LONGITUDE,DEPTH,CTDPRS,CTDTMP,CTDSAL,CTDSAL_FLAG_W,SALNTY,SALNTY_FLAG_W,CTDOXY,CTDOXY_FLAG_W,THETA,OXYGEN,OXYGEN_FLAG_W,SILCAT,SILCAT_FLAG_W,NITRAT,NITRAT_FLAG_W,NITRIT,NITRIT_FLAG_W,PHSPHT,PHSPHT_FLAG_W,CFC-11,CFC-11_FLAG_W,CFC-12,CFC-12_FLAG_W,TRITUM,TRITUM_FLAG_W,HELIUM,HELIUM_FLAG_W,DELHE3,DELHE3_FLAG_W,NEON,NEON_FLAG_W,HELIER,TRITER,NEONER,DELHER
,,,,,,,,,,,,DBAR,IPTS-68,PSS-78,,PSS-78,,UMOL/KG,,IPTS-68,UMOL/KG,,UMOL/KG,,UMOL/KG,,UMOL/KG,,UMOL/KG,,PMOL/KG,,PMOL/KG,,TU,,UMOL/KG,,PERCNT,,NMOL/KG,,NMOL/KG,TU,NMOL/KG,PERCNT
      74AB29_1,    I5,    92,  1,     24,    24.,2,19871212,0646,-33.4400, 105.7483, 5385,      2.2,  18.8183,  34.7040,2,  35.8900,2,    212.9,2, 18.8179,    237.9,2,     1.68,2,     0.00,2,     0.00,2,  -999.00,5, -999.000,5, -999.000,5, -999.000,5,-999.0000,5,  -999.00,9,-999.000,9,-999.0000,-999.000,-999.000,-999.000
      74AB29_1,    I5,    92,  1,     23,    23.,2,19871212,0646,-33.4400, 105.7483, 5385,    102.4,  15.0528,  35.5890,2,  35.5896,2,    240.2,2, 15.0372,    240.5,2,     1.20,2,     1.56,2,     0.00,2,  -999.00,5, -999.000,5, -999.000,5, -999.000,5,-999.0000,5,  -999.00,9,-999.000,9,-999.0000,-999.000,-999.000,-999.000
      74AB29_1,    I5,    92,  1,     22,    22.,2,19871212,0646,-33.4400, 105.7483, 5385,    202.2,  13.7149,  35.3680,2,  35.3867,2,    241.5,2, 13.6860,    242.3,2,     1.37,2,     3.61,2,     0.00,2,  -999.00,5, -999.000,5, -999.000,5, -999.000,5,-999.0000,5,  -999.00,9,-999.000,9,-999.0000,-999.000,-999.000,-999.000
      74AB29_1,    I5,    92,  1,     21,    21.,2,19871212,0646,-33.4400, 105.7483, 5385,    300.4,  12.1570,  35.0740,2,  35.1193,2,    240.6,2, 12.1173,    243.2,2,     1.70,2,     7.43,2,     0.00,2,  -999.00,5, -999.000,5, -999.000,5, -999.000,5,-999.0000,5,  -999.00,9,-999.000,9,-999.0000,-999.000,-999.000,-999.000
      74AB29_1,    I5,    92,  1,     20,    20.,2,19871212,0646,-33.4400, 105.7483, 5385,    402.2,  10.4026,  34.8340,2,  34.8237,2,    245.3,2, 10.3544,    244.6,2,     3.00,2,    12.31,2,     0.00,2,  -999.00,5, -999.000,5, -999.000,5, -999.000,5,-999.0000,5,  -999.00,9,-999.000,9,-999.0000,-999.000,-999.000,-999.000
      74AB29_1,    I5,    92,  1,     19,    19.,2,19871212,0646,-33.4400, 105.7483, 5385,    501.0,   9.5841,  34.7150,2,  34.7095,2,    241.8,2,  9.5268,    236.8,2,     3.82,2,    15.83,2,     0.00,2,  -999.00,5, -999.000,5, -999.000,5, -999.000,5,-999.0000,5,  -999.00,9,-999.000,9,-999.0000,-999.000,-999.000,-999.000
      74AB29_1,    I5,    92,  1,     18,    18.,2,19871212,0646,-33.4400, 105.7483, 5385,    599.8,   8.9412,  34.6390,2,  34.6366,2,    237.0,2,  8.8751,    233.3,2,     4.96,2,    18.08,2,     0.00,2,  -999.00,5, -999.000,5, -999.000,5, -999.000,5,-999.0000,5,  -999.00,9,-999.000,9,-999.0000,-999.000,-999.000,-999.000
      74AB29_1,    I5,    92,  1,     17,    17.,2,19871212,0646,-33.4400, 105.7483, 5385,    701.1,   8.0623,  34.5550,2,  34.5492,2,    223.1,2,  7.9892,    218.1,2,     9.18,2,    21.99,2,     0.00,2,  -999.00,5, -999.000,5, -999.000,5, -999.000,5,-999.0000,5,  -999.00,9,-999.000,9,-999.0000,-999.000,-999.000,-999.000
      74AB29_1,    I5,    92,  1,     16,    16.,2,19871212,0646,-33.4400, 105.7483, 5385,    800.8,   6.7249,  34.4760,2,  34.4685,2,    202.6,2,  6.6489,    198.2,2,    17.46,2,    26.88,2,     0.00,2,  -999.00,5, -999.000,5, -999.000,5, -999.000,5,-999.0000,5,  -999.00,9,-999.000,9,-999.0000,-999.000,-999.000,-999.000
      74AB29_1,    I5,    92,  1,     15,    15.,2,19871212,0646,-33.4400, 105.7483, 5385,    900.8,   5.1586,  34.3980,2,  34.3961,2,    196.5,2,  5.0833,    193.4,2,    29.79,2,    30.60,2,     0.00,2,  -999.00,5, -999.000,5, -999.000,5, -999.000,5,-999.0000,5,  -999.00,9,-999.000,9,-999.0000,-999.000,-999.000,-999.000
      74AB29_1,    I5,    92,  1,     14,    14.,2,19871212,0646,-33.4400, 105.7483, 5385,   1387.1,   3.2419,  34.5610,2,  34.5622,2,    154.3,2,  3.1408,    151.7,2,    76.31,2,    35.48,2,     0.00,2,  -999.00,5, -999.000,5, -999.000,5, -999.000,5,-999.0000,5,  -999.00,9,-999.000,9,-999.0000,-999.000,-999.000,-999.000
      74AB29_1,    I5,    92,  1,     13,    13.,2,19871212,0646,-33.4400, 105.7483, 5385,   2000.7,   2.4310,  34.7010,2,-999.0000,5,    162.5,2,  2.4338,    161.2,2,    96.40,2,    34.21,2,     0.00,2,  -999.00,5, -999.000,5, -999.000,5, -999.000,5,-999.0000,5,  -999.00,9,-999.000,9,-999.0000,-999.000,-999.000,-999.000
      74AB29_1,    I5,    92,  1,     12,    12.,2,19871212,0646,-33.4400, 105.7483, 5385,   2200.9,   2.2400,  34.7180,2,  34.7219,2,    166.4,2,  2.0821,    164.7,2,   101.71,2,    33.92,2,     0.00,2,  -999.00,5, -999.000,5, -999.000,5, -999.000,5,-999.0000,5,  -999.00,9,-999.000,9,-999.0000,-999.000,-999.000,-999.000
      74AB29_1,    I5,    92,  1,     11,    11.,2,19871212,0646,-33.4400, 105.7483, 5385,   2398.3,   2.0801,  34.7250,2,  34.7252,2,    169.9,2,  1.9073,    169.4,2,   105.25,2,    33.82,2,     0.00,2,  -999.00,5, -999.000,5, -999.000,5, -999.000,5,-999.0000,5,  -999.00,9,-999.000,9,-999.0000,-999.000,-999.000,-999.000
      74AB29_1,    I5,    92,  1,     10,    10.,2,19871212,0646,-33.4400, 105.7483, 5385,   2603.0,   1.9326,  34.7280,2,  34.7290,2,    174.2,2,  1.7438,    174.7,2,   107.00,2,    33.43,2,     0.00,2,  -999.00,5, -999.000,5, -999.000,5, -999.000,5,-999.0000,5,  -999.00,9,-999.000,9,-999.0000,-999.000,-999.000,-999.000
      74AB29_1,    I5,    92,  1,      9,     9.,2,19871212,0646,-33.4400, 105.7483, 5385,   2779.8,   1.8281,  34.7340,2,  34.7290,2,    183.4,2,  1.6249,    189.9,2,   106.65,2,    32.55,2,     0.00,2,  -999.00,5, -999.000,5, -999.000,5, -999.000,5,-999.0000,5,  -999.00,9,-999.000,9,-999.0000,-999.000,-999.000,-999.000
      74AB29_1,    I5,    92,  1,      8,     8.,2,19871212,0646,-33.4400, 105.7483, 5385,   3001.1,   1.6911,  34.7360,2,  34.7404,2,    191.2,2,  1.4696,    192.9,2,   100.80,2,    31.86,2,     0.00,2,  -999.00,5, -999.000,5, -999.000,5, -999.000,5,-999.0000,5,  -999.00,9,-999.000,9,-999.0000,-999.000,-999.000,-999.000
      74AB29_1,    I5,    92,  1,      7,     7.,2,19871212,0646,-33.4400, 105.7483, 5385,   3202.6,   1.5552,  34.7360,2,-999.0000,5,    196.4,2,  1.5460,    196.8,2,   103.52,2,    31.96,2,     0.00,2,  -999.00,5, -999.000,5, -999.000,5, -999.000,5,-999.0000,5,  -999.00,9,-999.000,9,-999.0000,-999.000,-999.000,-999.000
      74AB29_1,    I5,    92,  1,      6,     6.,2,19871212,0646,-33.4400, 105.7483, 5385,   3505.8,   1.3547,  34.7290,2,  34.7292,2,    200.7,2,  1.0913,    200.3,2,   108.35,2,    32.16,2,     0.00,2,  -999.00,5, -999.000,5, -999.000,5, -999.000,5,-999.0000,5,  -999.00,9,-999.000,9,-999.0000,-999.000,-999.000,-999.000
      74AB29_1,    I5,    92,  1,      5,     5.,2,19871212,0646,-33.4400, 105.7483, 5385,   3908.4,   1.1427,  34.7190,2,-999.0000,5,    204.2,2,  1.1180,    203.8,2,   114.31,2,    32.45,2,     0.00,2,  -999.00,5, -999.000,5, -999.000,5, -999.000,5,-999.0000,5,  -999.00,9,-999.000,9,-999.0000,-999.000,-999.000,-999.000
      74AB29_1,    I5,    92,  1,      4,     4.,2,19871212,0646,-33.4400, 105.7483, 5385,   4296.6,   1.0133,  34.7120,2,  34.7127,2,    207.3,2,  0.6759,    207.3,2,   117.83,2,    32.55,2,     0.00,2,  -999.00,5, -999.000,5, -999.000,5, -999.000,5,-999.0000,5,  -999.00,9,-999.000,9,-999.0000,-999.000,-999.000,-999.000
      74AB29_1,    I5,    92,  1,      3,     3.,2,19871212,0646,-33.4400, 105.7483, 5385,   4711.3,   0.9623,  34.7070,2,  34.7079,2,    209.4,2,  0.5798,    208.1,2,   119.74,2,    32.65,2,     0.00,2,  -999.00,5, -999.000,5, -999.000,5, -999.000,5,-999.0000,5,  -999.00,9,-999.000,9,-999.0000,-999.000,-999.000,-999.000
      74AB29_1,    I5,    92,  1,      2,     2.,2,19871212,0646,-33.4400, 105.7483, 5385,   5112.9,   0.9568,  34.7050,2,  34.7052,2,    211.2,2,  0.5273,    209.4,2,   120.36,2,    32.65,2,     0.00,2,  -999.00,5, -999.000,5, -999.000,5, -999.000,5,-999.0000,5,  -999.00,9,-999.000,9,-999.0000,-999.000,-999.000,-999.000
      74AB29_1,    I5,    92,  1,      1,     1.,2,19871212,0646,-33.4400, 105.7483, 5385,   5422.4,   0.9763,  34.7040,2,  34.6997,2,    212.5,2,  0.5084,    209.4,2,   120.66,2,    32.55,2,     0.00,2,  -999.00,5, -999.000,5, -999.000,5, -999.000,5,-999.0000,5,  -999.00,9,-999.000,9,-999.0000,-999.000,-999.000,-999.000
      74AB29_1,    I5,    93,  1,     24,    24.,2,19871212,1524,-33.6600, 106.4917, 5514,     15.2,  18.5563,  35.9300,2,  35.9370,2,    238.6,2, 18.5536,    234.8,2,     1.27,2,     0.00,2,     0.00,2,     0.12,2, -999.000,5, -999.000,5, -999.000,5,-999.0000,5,  -999.00,9,-999.000,9,-999.0000,-999.000,-999.000,-999.000
      74AB29_1,    I5,    93,  1,     23,    23.,2,19871212,1524,-33.6600, 106.4917, 5514,    101.1,  16.1293,  35.7740,2,  35.7458,2,    249.8,2, 16.1132,    247.0,2,     0.46,2,     0.00,2,     0.00,2,     0.20,2, -999.000,5, -999.000,5, -999.000,5,-999.0000,5,  -999.00,9,-999.000,9,-999.0000,-999.000,-999.000,-999.000
      74AB29_1,    I5,    93,  1,     22,    22.,2,19871212,1524,-33.6600, 106.4917, 5514,    199.0,  13.6304,  35.3650,2,  35.3593,2,    226.2,2, 13.6021,    231.9,2,     1.13,2,     5.47,2,     0.00,2,     0.49,2, -999.000,5, -999.000,5, -999.000,5,-999.0000,5,  -999.00,9,-999.000,9,-999.0000,-999.000,-999.000,-999.000
      74AB29_1,    I5,    93,  1,     21,    21.,2,19871212,1524,-33.6600, 106.4917, 5514,    300.1,  11.4155,  35.0180,2,  34.9974,2,    244.0,2, 11.3774,    243.7,2,     1.81,2,     9.58,2,     0.00,2,     0.74,2, -999.000,5, -999.000,5, -999.000,5,-999.0000,5,  -999.00,9,-999.000,9,-999.0000,-999.000,-999.000,-999.000
      74AB29_1,    I5,    93,  1,     20,    20.,2,19871212,1524,-33.6600, 106.4917, 5514,    400.2,  10.3136,  34.8150,2,  34.8153,2,    244.0,2, 10.2659,    244.2,2,     2.47,2,    12.41,2,     0.00,2,     0.90,2, -999.000,5, -999.000,5, -999.000,5,-999.0000,5,  -999.00,9,-999.000,9,-999.0000,-999.000,-999.000,-999.000
      74AB29_1,    I5,    93,  1,     19,    19.,2,19871212,1524,-33.6600, 106.4917, 5514,    499.7,   9.5197,  34.7030,2,  34.7032,2,    238.8,2,  9.4628,    239.0,2,     3.48,2,    15.74,2,     0.00,2,     1.09,2, -999.000,5, -999.000,5, -999.000,5,-999.0000,5,  -999.00,9,-999.000,9,-999.0000,-999.000,-999.000,-999.000
      74AB29_1,    I5,    93,  1,     18,    18.,2,19871212,1524,-33.6600, 106.4917, 5514,    602.9,   8.9052,  34.6230,2,  34.6329,2,    237.0,2,  8.8389,    236.8,2,     4.65,2,    17.89,2,     0.00,2,     1.23,2, -999.000,5, -999.000,5, -999.000,5,-999.0000,5,  -999.00,9,-999.000,9,-999.0000,-999.000,-999.000,-999.000
      74AB29_1,    I5,    93,  1,     17,    17.,2,19871212,1524,-33.6600, 106.4917, 5514,    698.3,   8.0268,  34.5460,2,  34.5453,2,    217.9,2,  7.9542,    216.8,2,     9.13,2,    21.90,2,     0.00,2,     1.51,2, -999.000,5, -999.000,5, -999.000,5,-999.0000,5,  -999.00,9,-999.000,9,-999.0000,-999.000,-999.000,-999.000
      74AB29_1,    I5,    93,  1,     16,    16.,2,19871212,1524,-33.6600, 106.4917, 5514,    802.4,   6.3800,  34.4380,2,  34.4471,2,    197.8,2,  6.3060,    197.3,2,    19.57,2,    26.98,2,     0.00,2,     1.87,2, -999.000,5, -999.000,5, -999.000,5,-999.0000,5,  -999.00,9,-999.000,9,-999.0000,-999.000,-999.000,-999.000
      74AB29_1,    I5,    93,  1,     15,    15.,2,19871212,1524,-33.6600, 106.4917, 5514,    901.7,   5.1106,  34.4010,2,  34.3980,2,    190.0,2,  5.0355,    191.7,2,    31.67,2,    30.21,2,     0.00,2,     2.13,2, -999.000,5, -999.000,5, -999.000,5,-999.0000,5,  -999.00,9,-999.000,9,-999.0000,-999.000,-999.000,-999.000
      74AB29_1,    I5,    93,  1,     14,    14.,2,19871212,1524,-33.6600, 106.4917, 5514,    996.9,   4.2178,  34.4180,2,-999.0000,5,    179.5,2,  4.2126,    179.5,2,    46.08,2,    32.36,2,     0.00,2,     2.27,2, -999.000,5, -999.000,5, -999.000,5,-999.0000,5,  -999.00,9,-999.000,9,-999.0000,-999.000,-999.000,-999.000
      74AB29_1,    I5,    93,  1,     13,    13.,2,19871212,1524,-33.6600, 106.4917, 5514,   1499.7,   2.8525,  34.5860,2,  34.5902,2,    160.4,2,  2.7463,    160.3,2,    78.52,2,    34.21,2,     0.00,2,     2.42,2, -999.000,5, -999.000,5, -999.000,5,-999.0000,5,  -999.00,9,-999.000,9,-999.0000,-999.000,-999.000,-999.000
      74AB29_1,    I5,    93,  1,     12,    12.,2,19871212,1524,-33.6600, 106.4917, 5514,   1999.6,   2.3605,  34.7060,2,  34.7056,2,    164.7,2,  2.2184,    164.2,2,    98.39,2,    33.33,2,     0.00,2,     2.38,2, -999.000,5, -999.000,5, -999.000,5,-999.0000,5,  -999.00,9,-999.000,9,-999.0000,-999.000,-999.000,-999.000
      74AB29_1,    I5,    93,  1,     11,    11.,2,19871212,1524,-33.6600, 106.4917, 5514,   2201.2,   2.1936,  34.7210,2,  34.7162,2,    168.6,2,  2.0364,    167.7,2,   104.19,2,    33.13,2,     0.00,2,     2.38,2, -999.000,5, -999.000,5, -999.000,5,-999.0000,5,  -999.00,9,-999.000,9,-999.0000,-999.000,-999.000,-999.000
      74AB29_1,    I5,    93,  1,     10,    10.,2,19871212,1524,-33.6600, 106.4917, 5514,   2402.9,   2.0426,  34.7280,2,  34.7280,2,    173.4,2,  1.8700,    172.1,2,   105.86,2,    32.74,2,     0.00,2,     2.34,2, -999.000,5, -999.000,5, -999.000,5,-999.0000,5,  -999.00,9,-999.000,9,-999.0000,-999.000,-999.000,-999.000
      74AB29_1,    I5,    93,  1,      9,     9.,2,19871212,1524,-33.6600, 106.4917, 5514,   2600.7,   1.8971,  34.7290,2,  34.7321,2,    176.9,2,  1.7092,    178.6,2,   107.69,2,    32.55,2,     0.00,2,     2.33,2, -999.000,5, -999.000,5, -999.000,5,-999.0000,5,  -999.00,9,-999.000,9,-999.0000,-999.000,-999.000,-999.000
      74AB29_1,    I5,    93,  1,      8,     8.,2,19871212,1524,-33.6600, 106.4917, 5514,   2802.1,   1.7721,  34.7310,2,  34.7298,2,    182.5,2,  1.5679,    182.5,2,   109.86,2,    32.25,2,     0.00,2,     2.31,2, -999.000,5, -999.000,5, -999.000,5,-999.0000,5,  -999.00,9,-999.000,9,-999.0000,-999.000,-999.000,-999.000
      74AB29_1,    I5,    93,  1,      7,     7.,2,19871212,1524,-33.6600, 106.4917, 5514,   3003.4,   1.6456,  34.7310,2,  34.7327,2,    184.2,2,  1.4249,    186.0,2,   111.20,2,    32.16,2,     0.00,2,     2.28,2, -999.000,5, -999.000,5, -999.000,5,-999.0000,5,  -999.00,9,-999.000,9,-999.0000,-999.000,-999.000,-999.000
      74AB29_1,    I5,    93,  1,      6,     6.,2,19871212,1524,-33.6600, 106.4917, 5514,   3506.5,   1.3522,  34.7290,2,  34.7296,2,    199.4,2,  1.0888,    202.0,2,   110.72,2,    31.57,2,     0.00,2,     2.23,2, -999.000,5, -999.000,5, -999.000,5,-999.0000,5,  -999.00,9,-999.000,9,-999.0000,-999.000,-999.000,-999.000
      74AB29_1,    I5,    93,  1,      5,     5.,2,19871212,1524,-33.6600, 106.4917, 5514,   4006.5,   1.1087,  34.7170,2,  34.7158,2,    204.2,2,  0.7999,    205.9,2,   118.01,2,    31.96,2,     0.00,2,     2.24,2, -999.000,5, -999.000,5, -999.000,5,-999.0000,5,  -999.00,9,-999.000,9,-999.0000,-999.000,-999.000,-999.000
      74AB29_1,    I5,    93,  1,      4,     4.,2,19871212,1524,-33.6600, 106.4917, 5514,   4510.2,   0.9583,  34.7090,2,  34.7119,2,    207.7,2,  0.5988,    208.6,2,   122.33,2,    32.06,2,     0.00,2,     2.25,2, -999.000,5, -999.000,5, -999.000,5,-999.0000,5,  -999.00,9,-999.000,9,-999.0000,-999.000,-999.000,-999.000
      74AB29_1,    I5,    93,  1,      3,     3.,2,19871212,1524,-33.6600, 106.4917, 5514,   5014.0,   0.9523,  34.7050,2,  34.7054,2,    209.9,2,  0.5348,    209.4,2,   123.01,2,    32.16,2,     0.00,2,     2.26,2, -999.000,5, -999.000,5, -999.000,5,-999.0000,5,  -999.00,9,-999.000,9,-999.0000,-999.000,-999.000,-999.000
      74AB29_1,    I5,    93,  1,      2,     2.,2,19871212,1524,-33.6600, 106.4917, 5514,   5314.1,   0.9728,  34.7040,2,  34.7062,2,    212.5,2,  0.5183,    209.9,2,   123.35,2,    32.25,2,     0.00,2,     2.26,2, -999.000,5, -999.000,5, -999.000,5,-999.0000,5,  -999.00,9,-999.000,9,-999.0000,-999.000,-999.000,-999.000
      74AB29_1,    I5,    93,  1,      1,     1.,2,19871212,1524,-33.6600, 106.4917, 5514,   5611.2,   1.0063,  34.7040,2,  34.7032,2,    213.3,2,  0.5136,    209.9,2,   123.53,2,    32.35,2,     0.00,2,     2.25,2, -999.000,5, -999.000,5, -999.000,5,-999.0000,5,  -999.00,9,-999.000,9,-999.0000,-999.000,-999.000,-999.000