BOTTLE,20060509WHPSIOSA
EXPOCODE,SECT_ID,STNNBR,CASTNO,SAMPNO,BTLNBR,BTLNBR_FLAG_W,DATE,TIME,LATITUDE,LONGITUDE,DEPTH,CTDPRS,CTDTMP,CTDSAL,CTDSAL_FLAG_W,SALNTY,SALNTY_FLAG_W,CTDOXY,CTDOXY_FLAG_W,THETA,OXYGEN,OXYGEN_FLAG_W,SILCAT,SILCAT_FLAG_W,NITRAT,NITRAT_FLAG_W,NITRIT,NITRIT_FLAG_W,PHSPHT,PHSPHT_FLAG_W,CFC-11,CFC-11_FLAG_W,CFC-12,CFC-12_FLAG_W,TRITUM,TRITUM_FLAG_W,HELIUM,HELIUM_FLAG_W,DELHE3,DELHE3_FLAG_W,NEON,NEON_FLAG_W,HELIER,TRITER,NEONER,DELHER
,,,,,,,,,,,,DBAR,IPTS-68,PSS-78,,PSS-78,,UMOL/KG,,IPTS-68,UMOL/KG,,UMOL/KG,,UMOL/KG,,UMOL/KG,,UMOL/KG,,PMOL/KG,,PMOL/KG,,TU,,UMOL/KG,,PERCNT,,NMOL/KG,,NMOL/KG,TU,NMOL/KG,PERCNT
      74AB29_1,    I5,   103,  1,     18,    18.,2,19871215,1613,-34.1683, 113.7300, 2208,     13.0,  18.4253,  35.8740,2,  35.8694,2,    239.0,2, 18.4230,    236.6,2,     2.28,2,     0.00,2,     0.00,2,     0.13,2, -999.000,5, -999.000,5, -999.000,5,-999.0000,5,  -999.00,9,-999.000,9,-999.0000,-999.000,-999.000,-999.000
      74AB29_1,    I5,   103,  1,     17,    17.,2,19871215,1613,-34.1683, 113.7300, 2208,    101.6,  15.1848,  35.5950,2,  35.5784,2,    247.1,2, 15.1693,    243.6,2,     1.62,2,     0.39,2,     0.00,2,     0.21,2, -999.000,5, -999.000,5, -999.000,5,-999.0000,5,  -999.00,9,-999.000,9,-999.0000,-999.000,-999.000,-999.000
      74AB29_1,    I5,   103,  1,     16,    16.,2,19871215,1613,-34.1683, 113.7300, 2208,    200.2,  13.2454,  35.2530,2,  35.2645,2,    244.5,2, 13.2174,    245.8,2,     1.29,2,     3.91,2,     0.00,2,     0.43,2, -999.000,5, -999.000,5, -999.000,5,-999.0000,5,  -999.00,9,-999.000,9,-999.0000,-999.000,-999.000,-999.000
      74AB29_1,    I5,   103,  1,     15,    15.,2,19871215,1613,-34.1683, 113.7300, 2208,    301.3,  10.9855,  34.8950,2,  34.9061,2,    237.9,2, 10.9482,    239.4,2,     2.60,2,    10.75,2,     0.00,2,     0.82,2, -999.000,5, -999.000,5, -999.000,5,-999.0000,5,  -999.00,9,-999.000,9,-999.0000,-999.000,-999.000,-999.000
      74AB29_1,    I5,   103,  1,     14,    14.,2,19871215,1613,-34.1683, 113.7300, 2208,    401.7,   9.5597,  34.7200,2,  34.7160,2,    237.0,2,  9.5140,    239.4,2,     4.08,2,    15.35,2,     0.00,2,     1.09,2, -999.000,5, -999.000,5, -999.000,5,-999.0000,5,  -999.00,9,-999.000,9,-999.0000,-999.000,-999.000,-999.000
      74AB29_1,    I5,   103,  1,     13,    13.,2,19871215,1613,-34.1683, 113.7300, 2208,    497.9,   8.8902,  34.6420,2,  34.6297,2,    237.5,2,  8.8358,    237.7,2,     5.56,2,    18.08,2,     0.00,2,     1.26,2, -999.000,5, -999.000,5, -999.000,5,-999.0000,5,  -999.00,9,-999.000,9,-999.0000,-999.000,-999.000,-999.000
      74AB29_1,    I5,   103,  1,     12,    12.,2,19871215,1613,-34.1683, 113.7300, 2208,    598.4,   7.7913,  34.5280,2,  34.5272,2,    219.2,2,  7.7305,    217.3,2,    11.30,2,    22.68,2,     0.00,2,     1.52,2, -999.000,5, -999.000,5, -999.000,5,-999.0000,5,  -999.00,9,-999.000,9,-999.0000,-999.000,-999.000,-999.000
      74AB29_1,    I5,   103,  1,     11,    11.,2,19871215,1613,-34.1683, 113.7300, 2208,    699.3,   6.2410,  34.4460,2,  34.4332,2,    199.6,2,  6.1777,    199.0,2,    21.83,2,    27.47,2,     0.00,2,     1.87,2, -999.000,5, -999.000,5, -999.000,5,-999.0000,5,  -999.00,9,-999.000,9,-999.0000,-999.000,-999.000,-999.000
      74AB29_1,    I5,   103,  1,     10,    10.,2,19871215,1613,-34.1683, 113.7300, 2208,    800.3,   4.8997,  34.3940,2,  34.3886,2,    192.6,2,  4.8349,    195.6,2,    33.00,2,    30.50,2,     0.00,2,     2.11,2, -999.000,5, -999.000,5, -999.000,5,-999.0000,5,  -999.00,9,-999.000,9,-999.0000,-999.000,-999.000,-999.000
      74AB29_1,    I5,   103,  1,      9,     9.,2,19871215,1613,-34.1683, 113.7300, 2208,    900.5,   4.3432,  34.4170,2,  34.4192,2,    181.3,2,  4.2735,    178.6,2,    46.97,2,    32.55,2,     0.00,2,     2.25,2, -999.000,5, -999.000,5, -999.000,5,-999.0000,5,  -999.00,9,-999.000,9,-999.0000,-999.000,-999.000,-999.000
      74AB29_1,    I5,   103,  1,      8,     8.,2,19871215,1613,-34.1683, 113.7300, 2208,    999.7,   3.9978,  34.4500,2,  34.4475,2,    170.4,2,  3.9223,    167.7,2,    56.34,2,    33.73,2,     0.00,2,     2.36,2, -999.000,5, -999.000,5, -999.000,5,-999.0000,5,  -999.00,9,-999.000,9,-999.0000,-999.000,-999.000,-999.000
      74AB29_1,    I5,   103,  1,      7,     7.,2,19871215,1613,-34.1683, 113.7300, 2208,   1100.4,   3.7943,  34.5070,2,  34.5019,2,    156.1,2,  3.7119,    154.3,2,    68.01,2,    34.70,2,     0.00,2,     2.43,2, -999.000,5, -999.000,5, -999.000,5,-999.0000,5,  -999.00,9,-999.000,9,-999.0000,-999.000,-999.000,-999.000
      74AB29_1,    I5,   103,  1,      6,     6.,2,19871215,1613,-34.1683, 113.7300, 2208,   1197.6,   3.6173,  34.5360,2,  34.5327,2,    150.0,2,  3.5284,    149.9,2,    74.58,2,    35.00,2,     0.00,2,     2.47,2, -999.000,5, -999.000,5, -999.000,5,-999.0000,5,  -999.00,9,-999.000,9,-999.0000,-999.000,-999.000,-999.000
      74AB29_1,    I5,   103,  1,      5,     5.,2,19871215,1613,-34.1683, 113.7300, 2208,   1396.9,   3.1224,  34.5670,2,  34.5694,2,    155.6,2,  3.0218,    164.7,2,    78.51,2,    34.80,2,     0.00,2,     2.43,2, -999.000,5, -999.000,5, -999.000,5,-999.0000,5,  -999.00,9,-999.000,9,-999.0000,-999.000,-999.000,-999.000
      74AB29_1,    I5,   103,  1,      4,     4.,2,19871215,1613,-34.1683, 113.7300, 2208,   1599.2,   2.8045,  34.6230,2,  34.6229,2,    158.6,2,  2.6906,    158.2,2,    84.92,2,    34.31,2,     0.00,2,     2.41,2, -999.000,5, -999.000,5, -999.000,5,-999.0000,5,  -999.00,9,-999.000,9,-999.0000,-999.000,-999.000,-999.000
      74AB29_1,    I5,   103,  1,      3,     3.,2,19871215,1613,-34.1683, 113.7300, 2208,   1799.5,   2.5805,  34.6730,2,  34.6700,2,    159.5,2,  2.4525,    161.6,2,    92.31,2,    33.82,2,     0.00,2,     2.38,2, -999.000,5, -999.000,5, -999.000,5,-999.0000,5,  -999.00,9,-999.000,9,-999.0000,-999.000,-999.000,-999.000
      74AB29_1,    I5,   103,  1,      2,     2.,2,19871215,1613,-34.1683, 113.7300, 2208,   1999.8,   2.3810,  34.7040,2,  34.7042,2,    163.0,2,  2.2385,    163.4,2,    99.70,2,    33.52,2,     0.00,2,     2.35,2, -999.000,5, -999.000,5, -999.000,5,-999.0000,5,  -999.00,9,-999.000,9,-999.0000,-999.000,-999.000,-999.000
      74AB29_1,    I5,   103,  1,      1,     1.,2,19871215,1613,-34.1683, 113.7300, 2208,   2222.0,   2.1501,  34.7210,2,  34.7121,2,    166.4,2,  1.9918,    168.1,2,   107.09,2,    33.43,2,     0.00,2,     2.33,2, -999.000,5, -999.000,5, -999.000,5,-999.0000,5,  -999.00,9,-999.000,9,-999.0000,-999.000,-999.000,-999.000
      74AB29_1,    I5,   104,  1,     14,    14.,2,19871215,1945,-34.1683, 113.9967, 1508,      3.3,  18.8323,  35.8910,2,  35.8935,2,    235.1,2, 18.8317,    233.1,2,     1.71,2,     0.00,2,     0.00,2,     0.11,2, -999.000,5, -999.000,5, -999.000,5,-999.0000,5,  -999.00,9,-999.000,9,-999.0000,-999.000,-999.000,-999.000
      74AB29_1,    I5,   104,  1,     13,    13.,2,19871215,1945,-34.1683, 113.9967, 1508,    101.5,  15.3318,  35.6290,2,  35.5936,2,    244.1,2, 15.3162,    240.5,2,     1.39,2,     0.78,2,     0.00,2,     0.24,2, -999.000,5, -999.000,5, -999.000,5,-999.0000,5,  -999.00,9,-999.000,9,-999.0000,-999.000,-999.000,-999.000
      74AB29_1,    I5,   104,  1,     12,    12.,2,19871215,1945,-34.1683, 113.9967, 1508,    204.2,  12.9579,  35.2290,2,  35.2268,2,    237.5,2, 12.9298,    241.5,2,     1.40,2,     4.89,2,     0.00,2,     0.50,2, -999.000,5, -999.000,5, -999.000,5,-999.0000,5,  -999.00,9,-999.000,9,-999.0000,-999.000,-999.000,-999.000
      74AB29_1,    I5,   104,  1,     11,    11.,2,19871215,1945,-34.1683, 113.9967, 1508,    303.4,  10.6941,  34.8550,2,  34.8564,2,    236.6,2, 10.6572,    243.3,2,     2.38,2,    11.04,2,     0.00,2,     0.85,2, -999.000,5, -999.000,5, -999.000,5,-999.0000,5,  -999.00,9,-999.000,9,-999.0000,-999.000,-999.000,-999.000
      74AB29_1,    I5,   104,  1,     10,    10.,2,19871215,1945,-34.1683, 113.9967, 1508,    404.2,   9.4902,  34.7020,2,  34.6963,2,    237.9,2,  9.4445,    240.7,2,     3.86,2,    15.54,2,     0.00,2,     1.11,2, -999.000,5, -999.000,5, -999.000,5,-999.0000,5,  -999.00,9,-999.000,9,-999.0000,-999.000,-999.000,-999.000
      74AB29_1,    I5,   104,  1,      9,     9.,2,19871215,1945,-34.1683, 113.9967, 1508,    497.8,   8.7262,  34.6200,2,  34.6120,2,    240.9,2,  8.6725,    237.2,2,     5.35,2,    18.38,2,     0.00,2,     1.28,2, -999.000,5, -999.000,5, -999.000,5,-999.0000,5,  -999.00,9,-999.000,9,-999.0000,-999.000,-999.000,-999.000
      74AB29_1,    I5,   104,  1,      8,     8.,2,19871215,1945,-34.1683, 113.9967, 1508,    600.8,   7.1244,  34.5080,2,  34.4820,2,    214.4,2,  7.0664,    205.1,2,    14.99,2,    24.93,2,     0.00,2,     1.69,2, -999.000,5, -999.000,5, -999.000,5,-999.0000,5,  -999.00,9,-999.000,9,-999.0000,-999.000,-999.000,-999.000
      74AB29_1,    I5,   104,  1,      7,     7.,2,19871215,1945,-34.1683, 113.9967, 1508,    701.3,   6.0645,  34.4340,2,  34.4314,2,    199.6,2,  6.0020,    197.7,2,    22.51,2,    27.96,2,     0.00,2,     1.92,2, -999.000,5, -999.000,5, -999.000,5,-999.0000,5,  -999.00,9,-999.000,9,-999.0000,-999.000,-999.000,-999.000
      74AB29_1,    I5,   104,  1,      6,     6.,2,19871215,1945,-34.1683, 113.9967, 1508,    799.3,   4.9547,  34.3980,2,  34.3974,2,    190.4,2,  4.8897,    191.7,2,    33.46,2,    30.60,2,     0.00,2,     2.12,2, -999.000,5, -999.000,5, -999.000,5,-999.0000,5,  -999.00,9,-999.000,9,-999.0000,-999.000,-999.000,-999.000
      74AB29_1,    I5,   104,  1,      5,     5.,2,19871215,1945,-34.1683, 113.9967, 1508,    901.2,   4.3947,  34.4160,2,  34.4116,2,    179.1,2,  4.3246,    183.0,2,    43.11,2,    32.16,2,     0.00,2,     2.23,2, -999.000,5, -999.000,5, -999.000,5,-999.0000,5,  -999.00,9,-999.000,9,-999.0000,-999.000,-999.000,-999.000
      74AB29_1,    I5,   104,  1,      4,     4.,2,19871215,1945,-34.1683, 113.9967, 1508,   1001.1,   4.0813,  34.4590,2,  34.4544,2,    166.1,2,  4.0050,    165.6,2,    56.19,2,    33.63,2,     0.00,2,     2.38,2, -999.000,5, -999.000,5, -999.000,5,-999.0000,5,  -999.00,9,-999.000,9,-999.0000,-999.000,-999.000,-999.000
      74AB29_1,    I5,   104,  1,      3,     3.,2,19871215,1945,-34.1683, 113.9967, 1508,   1099.4,   3.9368,  34.4930,2,  34.4852,2,    157.4,2,  3.8534,    155.1,2,    64.20,2,    34.41,2,     0.00,2,     2.42,2, -999.000,5, -999.000,5, -999.000,5,-999.0000,5,  -999.00,9,-999.000,9,-999.0000,-999.000,-999.000,-999.000
      74AB29_1,    I5,   104,  1,      2,     2.,2,19871215,1945,-34.1683, 113.9967, 1508,   1299.1,   3.4734,  34.5420,2,  34.5400,2,    150.8,2,  3.3773,    149.5,2,    74.65,2,    35.00,2,     0.00,2,     2.48,2, -999.000,5, -999.000,5, -999.000,5,-999.0000,5,  -999.00,9,-999.000,9,-999.0000,-999.000,-999.000,-999.000
      74AB29_1,    I5,   104,  1,      1,     1.,2,19871215,1945,-34.1683, 113.9967, 1508,   1501.9,   3.0904,  34.5870,2,  34.5873,2,    153.4,2,  2.9813,    152.1,2,    80.38,2,    34.51,2,     0.00,2,     2.46,2, -999.000,5, -999.000,5, -999.000,5,-999.0000,5,  -999.00,9,-999.000,9,-999.0000,-999.000,-999.000,-999.000
      74AB29_1,    I5,   105,  1,     12,    12.,2,19871215,2240,-34.1817, 114.2417, 1078,      2.5,  19.1453,  34.4870,2,  35.8797,2,    158.9,2, 19.1448,    234.4,2,     2.00,2,     0.00,2,     0.00,2,     0.14,2,    2.024,2,    1.124,2, -999.000,9,   1.6940,2,    -1.80,2,   6.990,2,  0.0080,-999.000,   0.140,   0.200
      74AB29_1,    I5,   105,  1,     11,    11.,2,19871215,2240,-34.1817, 114.2417, 1078,    101.8,  16.1983,  35.6850,2,  35.6956,2,    238.9,2, 16.1820,    240.1,2,     1.85,2,     0.29,2,     0.00,2,     0.21,2,    2.235,2,    1.201,2, -999.000,9,   1.8270,2,    -1.10,2,   7.430,2,  0.0090,-999.000,   0.150,   0.200
      74AB29_1,    I5,   105,  1,     10,    10.,2,19871215,2240,-34.1817, 114.2417, 1078,    203.3,  14.2649,  35.4450,2,  35.4456,2,    241.0,2, 14.2350,    239.3,2,     1.53,2,     2.93,2,     0.00,2,     0.38,2,    2.499,2,    1.317,2, -999.000,9,   1.7960,2,    -0.20,2,   7.360,2,  0.0090,-999.000,   0.150,   0.200
      74AB29_1,    I5,   105,  1,      9,     9.,2,19871215,2240,-34.1817, 114.2417, 1078,    301.8,  11.3050,  34.9940,2,  34.9687,2,    238.8,2, 11.2670,    240.7,2,     2.35,2,     9.87,2,     0.00,2,     0.81,2,    2.663,2,    1.367,2, -999.000,5,-999.0000,5,  -999.00,9,-999.000,9,-999.0000,-999.000,-999.000,-999.000
      74AB29_1,    I5,   105,  1,      8,     8.,2,19871215,2240,-34.1817, 114.2417, 1078,    402.4,   9.4972,  34.7040,2,  34.7040,2,    237.0,2,  9.4517,    239.4,2,     4.15,2,    15.93,2,     0.00,2,     1.16,2,    2.398,2,    1.233,2, -999.000,9,   1.8120,2,  -999.00,9,   7.660,2,  0.0090,-999.000,   0.150,-999.000
      74AB29_1,    I5,   105,  1,      7,     7.,2,19871215,2240,-34.1817, 114.2417, 1078,    502.6,   8.6972,  34.6230,2,  34.6083,2,    236.6,2,  8.6430,    236.8,2,     5.95,2,    18.67,2,     0.00,2,     1.32,2,    2.028,2,    1.053,2, -999.000,9,   1.8180,2,    -0.60,2,   7.660,2,  0.0090,-999.000,   0.150,   0.200
      74AB29_1,    I5,   105,  1,      6,     6.,2,19871215,2240,-34.1817, 114.2417, 1078,    600.1,   7.7713,  34.5250,2,  34.5239,2,    213.5,2,  7.7104,    214.2,2,    11.34,2,    23.07,2,     0.00,2,     1.60,2,    1.127,2,    0.592,2, -999.000,9,   1.8380,2,     2.10,2,   7.750,2,  0.0090,-999.000,   0.150,   0.200
      74AB29_1,    I5,   105,  1,      5,     5.,2,19871215,2240,-34.1817, 114.2417, 1078,    698.9,   6.2190,  34.4440,2,  34.4371,2,    198.3,2,  6.1559,    199.5,2,    21.28,2,    27.86,2,     0.00,2,     1.92,2,    0.510,2,    0.278,2, -999.000,9,   1.8440,2,  -999.00,9,   7.960,2,  0.0090,-999.000,   0.160,-999.000
      74AB29_1,    I5,   105,  1,      4,     4.,2,19871215,2240,-34.1817, 114.2417, 1078,    800.3,   4.9661,  34.3940,2,  34.3943,2,    194.3,2,  4.9009,    194.3,2,    32.22,2,    30.89,2,     0.00,2,     2.13,2,    0.286,2,    0.167,2, -999.000,9,   1.8440,2,     8.20,2,   7.890,2,  0.0090,-999.000,   0.160,   0.200
      74AB29_1,    I5,   105,  1,      3,     3.,2,19871215,2240,-34.1817, 114.2417, 1078,    899.7,   4.2997,  34.4100,2,  34.4131,2,    183.9,2,  4.2304,    180.8,2,    44.95,2,    32.95,2,     0.00,2,     2.31,2,    0.153,2,    0.083,2, -999.000,9,   1.8790,2,    10.40,2,   7.920,2,  0.0090,-999.000,   0.160,   0.200
      74AB29_1,    I5,   105,  1,      2,     2.,2,19871215,2240,-34.1817, 114.2417, 1078,    998.5,   4.0738,  34.4620,2,  34.4728,2,    163.9,2,  3.9977,    163.4,2,    58.00,2,    34.31,2,     0.00,2,     2.43,2,    0.051,2,    0.045,2, -999.000,9,   1.8400,2,    10.80,2,   8.010,2,  0.0090,-999.000,   0.160,   0.200
      74AB29_1,    I5,   105,  1,      1,     1.,2,19871215,2240,-34.1817, 114.2417, 1078,   1064.8,   3.9568,  34.4850,2,  34.4816,2,    159.1,2,  3.8761,    156.0,2,    63.39,2,    34.80,2,     0.00,2,     2.48,2,    0.035,2,    0.022,2, -999.000,9,   1.8400,2,    11.10,2,   8.010,2,  0.0090,-999.000,   0.160,   0.200
      74AB29_1,    I5,   106,  1,      8,     8.,2,19871216,0049,-34.1700, 114.4100,  700,      3.5,  19.3958,  35.8560,2,  35.8546,2,    207.3,2, 19.3952,    230.5,2,     2.28,2,     0.00,2,     0.00,2,     0.12,2,    2.016,2,    1.153,2,    0.698,2,   1.7210,2,    -1.50,2,   7.040,2,  0.0090,   0.008,   0.140,   0.200
      74AB29_1,    I5,   106,  1,      7,     7.,2,19871216,0049,-34.1700, 114.4100,  700,    104.1,  16.9743,  35.7690,2,  35.7685,2,    226.8,2, 16.9571,    223.6,2,     2.12,2,     1.46,2,     0.00,2,     0.27,2,    2.143,2,    1.229,2,    0.477,2,   1.8290,2,    -0.90,2,   7.350,2,  0.0090,   0.008,   0.150,   0.200
      74AB29_1,    I5,   106,  1,      6,     6.,2,19871216,0049,-34.1700, 114.4100,  700,    202.3,  16.4578,  35.7280,2,  35.7341,2,    229.8,2, 16.4250,    227.9,2,     1.95,2,     1.46,2,     0.00,2,     0.30,2,    2.279,2,    1.232,2,    0.341,2,   1.7830,2,     0.00,2,   7.270,2,  0.0090,   0.008,   0.150,   0.200
      74AB29_1,    I5,   106,  1,      5,     5.,2,19871216,0049,-34.1700, 114.4100,  700,    304.1,  12.4300,  35.1020,2,-999.0000,5,    235.2,2, 12.4073,    238.8,2,     1.95,2,     6.35,2,     0.00,2,     0.58,2,    2.482,2,    1.373,2, -999.000,9,   1.8040,2,  -999.00,9,   7.550,2,  0.0090,-999.000,   0.150,-999.000
      74AB29_1,    I5,   106,  1,      4,     4.,2,19871216,0049,-34.1700, 114.4100,  700,    403.1,   9.5876,  34.7070,2,  34.7176,2,    231.0,2,  9.5417,    240.3,2,     4.24,2,    15.93,2,     0.00,2,     1.15,2,    2.405,2,    1.279,2, -999.000,9,   1.8230,2,  -999.00,9,   7.600,2,  0.0090,-999.000,   0.150,-999.000
      74AB29_1,    I5,   106,  1,      3,     3.,2,19871216,0049,-34.1700, 114.4100,  700,    500.2,   8.7122,  34.6120,2,  34.6175,2,    231.4,2,  8.6582,    234.6,2,     6.20,2,    19.26,2,     0.00,2,     1.38,2,    1.957,2,    1.044,2, -999.000,9,   1.8400,2,     0.50,2,   7.700,2,  0.0090,-999.000,   0.150,   0.200
      74AB29_1,    I5,   106,  1,      2,     2.,2,19871216,0049,-34.1700, 114.4100,  700,    602.6,   7.2574,  34.4960,2,  34.5099,2,    202.2,2,  7.1986,    207.3,2,    14.52,2,    25.42,2,     0.00,2,     1.77,2,    0.875,2,    0.445,2, -999.000,9,   1.8360,2,     2.50,2,   7.770,2,  0.0090,-999.000,   0.160,   0.200
      74AB29_1,    I5,   106,  1,      1,     1.,2,19871216,0049,-34.1700, 114.4100,  700,    687.6,   6.1225,  34.4400,2,  34.4373,2,    198.3,2,  6.0609,    197.7,2,    22.67,2,    28.74,2,     0.00,2,     1.96,2,    0.479,2,    0.280,2, -999.000,9,   1.8500,2,     6.90,2,   7.940,2,  0.0090,-999.000,   0.160,   0.200
      74AB29_1,    I5,   107,  1,      4,     4.,2,19871216,0220,-34.1617, 114.5050,  160,      2.5,  19.5308,  35.7850,2,  35.8534,2,    221.2,2, 19.5303,    230.1,2,     2.25,2,     0.10,2,     0.00,2,     0.11,2,    2.019,2,    1.108,2, -999.000,5,-999.0000,5,  -999.00,9,-999.000,9,-999.0000,-999.000,-999.000,-999.000
      74AB29_1,    I5,   107,  1,      3,     3.,2,19871216,0220,-34.1617, 114.5050,  160,     53.4,  18.5028,  35.8490,2,  35.8451,2,    240.8,2, 18.4934,    234.4,2,     2.25,2,     0.10,2,     0.00,2,     0.12,2,    2.020,2,    1.136,2, -999.000,5,-999.0000,5,  -999.00,9,-999.000,9,-999.0000,-999.000,-999.000,-999.000
      74AB29_1,    I5,   107,  1,      2,     2.,2,19871216,0220,-34.1617, 114.5050,  160,    104.8,  17.1293,  35.7840,2,  35.7815,2,    212.8,2, 17.1119,    224.4,2,     2.25,2,     1.17,2,     0.00,2,     0.25,2,    2.129,2,    1.192,2, -999.000,5,-999.0000,5,  -999.00,9,-999.000,9,-999.0000,-999.000,-999.000,-999.000
      74AB29_1,    I5,   107,  1,      1,     1.,2,19871216,0220,-34.1617, 114.5050,  160,    143.0,  17.0998,  35.7850,2,  35.7827,2,    221.1,2, 17.0760,    223.1,2,     2.15,2,     1.17,2,     0.00,2,     0.24,2,    2.115,2,    1.181,2, -999.000,5,-999.0000,5,  -999.00,9,-999.000,9,-999.0000,-999.000,-999.000,-999.000
      74AB29_1,    I5,   108,  1,      3,     3.,2,19871216,0353,-34.1717, 114.7467,  120,      2.9,  19.0733,  35.8330,2,  35.8686,2,    229.9,2, 19.0728,    234.0,2,     2.04,2,     0.00,2,     0.00,2,     0.15,2, -999.000,5, -999.000,5, -999.000,5,-999.0000,5,  -999.00,9,-999.000,9,-999.0000,-999.000,-999.000,-999.000
      74AB29_1,    I5,   108,  1,      2,     2.,2,19871216,0353,-34.1717, 114.7467,  120,     53.6,  18.8583,  35.8740,2,  35.8763,2,    235.1,2, 18.8488,    234.0,2,     2.05,2,     0.00,2,     0.00,2,     0.16,2, -999.000,5, -999.000,5, -999.000,5,-999.0000,5,  -999.00,9,-999.000,9,-999.0000,-999.000,-999.000,-999.000
      74AB29_1,    I5,   108,  1,      1,     1.,2,19871216,0353,-34.1717, 114.7467,  120,    115.2,  18.1538,  35.8330,2,  35.8303,2,    229.9,2, 18.1338,    226.2,2,     2.22,2,     0.59,2,     0.00,2,     0.22,2, -999.000,5, -999.000,5, -999.000,5,-999.0000,5,  -999.00,9,-999.000,9,-999.0000,-999.000,-999.000,-999.000