BOTTLE,20060509WHPSIOSA
EXPOCODE,SECT_ID,STNNBR,CASTNO,SAMPNO,BTLNBR,BTLNBR_FLAG_W,DATE,TIME,LATITUDE,LONGITUDE,DEPTH,CTDPRS,CTDTMP,CTDSAL,CTDSAL_FLAG_W,SALNTY,SALNTY_FLAG_W,CTDOXY,CTDOXY_FLAG_W,THETA,OXYGEN,OXYGEN_FLAG_W,SILCAT,SILCAT_FLAG_W,NITRAT,NITRAT_FLAG_W,NITRIT,NITRIT_FLAG_W,PHSPHT,PHSPHT_FLAG_W,CFC-11,CFC-11_FLAG_W,CFC-12,CFC-12_FLAG_W,TRITUM,TRITUM_FLAG_W,HELIUM,HELIUM_FLAG_W,DELHE3,DELHE3_FLAG_W,NEON,NEON_FLAG_W,HELIER,TRITER,NEONER,DELHER
,,,,,,,,,,,,DBAR,IPTS-68,PSS-78,,PSS-78,,UMOL/KG,,IPTS-68,UMOL/KG,,UMOL/KG,,UMOL/KG,,UMOL/KG,,UMOL/KG,,PMOL/KG,,PMOL/KG,,TU,,UMOL/KG,,PERCNT,,NMOL/KG,,NMOL/KG,TU,NMOL/KG,PERCNT
      74AB29_1,    I5,     5,  1,     13,    15.,2,19871114,0546,-31.2017,  30.5967, 2632,      9.2,  23.4185,  35.3470,2,  35.3528,2,    218.0,2, 23.4166,    221.5,2,     2.60,2,     0.20,2,     0.03,2,  -999.00,5, -999.000,5, -999.000,5, -999.000,5,-999.0000,5,  -999.00,9,-999.000,9,-999.0000,-999.000,-999.000,-999.000
      74AB29_1,    I5,     5,  1,     12,    14.,2,19871114,0546,-31.2017,  30.5967, 2632,     56.2,  20.2303,  35.4910,2,  35.5480,2,    214.8,2, 20.2198,    215.4,2,     2.78,2,     1.27,2,     0.07,2,  -999.00,5, -999.000,5, -999.000,5, -999.000,5,-999.0000,5,  -999.00,9,-999.000,9,-999.0000,-999.000,-999.000,-999.000
      74AB29_1,    I5,     5,  1,     11,    13.,2,19871114,0546,-31.2017,  30.5967, 2632,    201.6,  16.1768,  35.5560,2,  35.5346,2,    206.3,2, 16.1445,    209.3,2,     4.36,2,     5.67,2,     0.02,2,  -999.00,5, -999.000,5, -999.000,5, -999.000,5,-999.0000,5,  -999.00,9,-999.000,9,-999.0000,-999.000,-999.000,-999.000
      74AB29_1,    I5,     5,  1,     10,    12.,2,19871114,0546,-31.2017,  30.5967, 2632,    402.1,  12.8859,  35.2120,2,-999.0000,5,    218.3,2, 12.8540,    217.5,2,     5.42,2,    10.65,2,     0.00,2,  -999.00,5, -999.000,5, -999.000,5, -999.000,5,-999.0000,5,  -999.00,9,-999.000,9,-999.0000,-999.000,-999.000,-999.000
      74AB29_1,    I5,     5,  1,      9,    11.,2,19871114,0546,-31.2017,  30.5967, 2632,    600.2,  10.1751,  34.8630,2,  34.8558,2,    197.5,2, 10.1034,    191.6,2,    13.26,2,     0.00,2,     0.00,2,  -999.00,5, -999.000,5, -999.000,5, -999.000,5,-999.0000,5,  -999.00,9,-999.000,9,-999.0000,-999.000,-999.000,-999.000
      74AB29_1,    I5,     5,  1,      8,    10.,2,19871114,0546,-31.2017,  30.5967, 2632,    800.7,   8.0808,  34.6680,2,  34.6682,2,    180.9,2,  7.9966,    182.5,2,    23.57,2,    24.92,2,     0.00,2,  -999.00,5, -999.000,5, -999.000,5, -999.000,5,-999.0000,5,  -999.00,9,-999.000,9,-999.0000,-999.000,-999.000,-999.000
      74AB29_1,    I5,     5,  1,      7,     9.,2,19871114,0546,-31.2017,  30.5967, 2632,    999.7,   5.5126,  34.5720,2,  34.5812,2,    165.6,2,  5.4253,    161.2,2,    49.58,2,    31.48,2,     0.00,2,  -999.00,5, -999.000,5, -999.000,5, -999.000,5,-999.0000,5,  -999.00,9,-999.000,9,-999.0000,-999.000,-999.000,-999.000
      74AB29_1,    I5,     5,  1,      6,     7.,2,19871114,0546,-31.2017,  30.5967, 2632,   1399.2,   3.0164,  34.6850,2,  34.6853,2,    169.1,2,  2.9164,    170.3,2,    78.46,2,    32.74,2,    -0.01,2,  -999.00,5, -999.000,5, -999.000,5, -999.000,5,-999.0000,5,  -999.00,9,-999.000,9,-999.0000,-999.000,-999.000,-999.000
      74AB29_1,    I5,     5,  1,      5,     6.,2,19871114,0546,-31.2017,  30.5967, 2632,   1604.0,   2.7280,  34.7240,2,  34.7309,2,    177.7,2,  2.6143,    182.0,2,    77.99,2,    31.37,2,     0.00,2,  -999.00,5, -999.000,5, -999.000,5, -999.000,5,-999.0000,5,  -999.00,9,-999.000,9,-999.0000,-999.000,-999.000,-999.000
      74AB29_1,    I5,     5,  1,      4,     5.,2,19871114,0546,-31.2017,  30.5967, 2632,   1902.3,   2.5655,  34.7660,2,  34.7701,2,    194.2,2,  2.4285,    190.3,2,    74.01,2,    29.81,2,     0.00,2,  -999.00,5, -999.000,5, -999.000,5, -999.000,5,-999.0000,5,  -999.00,9,-999.000,9,-999.0000,-999.000,-999.000,-999.000
      74AB29_1,    I5,     5,  1,      3,     4.,2,19871114,0546,-31.2017,  30.5967, 2632,   2202.1,   2.4460,  34.7950,2,  34.8017,2,    208.6,2,  2.2843,    205.5,2,    68.63,2,    28.24,2,     0.00,2,  -999.00,5, -999.000,5, -999.000,5, -999.000,5,-999.0000,5,  -999.00,9,-999.000,9,-999.0000,-999.000,-999.000,-999.000
      74AB29_1,    I5,     5,  1,      2,     3.,2,19871114,0546,-31.2017,  30.5967, 2632,   2500.1,   2.2710,  34.8110,2,  34.8139,2,    217.7,2,  2.0850,    218.5,2,    67.10,2,    27.27,2,    -0.01,2,  -999.00,5, -999.000,5, -999.000,5, -999.000,5,-999.0000,5,  -999.00,9,-999.000,9,-999.0000,-999.000,-999.000,-999.000
      74AB29_1,    I5,     5,  1,      1,     2.,2,19871114,0546,-31.2017,  30.5967, 2632,   2646.6,   2.1646,  34.8110,2,  34.8119,2,    220.3,2,  1.9668,    219.8,2,    69.08,2,    27.27,2,    -0.01,2,  -999.00,5, -999.000,5, -999.000,5, -999.000,5,-999.0000,5,  -999.00,9,-999.000,9,-999.0000,-999.000,-999.000,-999.000
      74AB29_1,    I5,     6,  1,      9,    12.,2,19871114,0929,-31.1517,  30.5350, 2306,     12.7,  23.0710,  35.3910,2,  35.3949,2,    223.7,2, 23.0684,    220.2,2,     1.80,2,     0.00,2,     0.01,2,  -999.00,5, -999.000,5, -999.000,5, -999.000,5,-999.0000,5,  -999.00,9,-999.000,9,-999.0000,-999.000,-999.000,-999.000
      74AB29_1,    I5,     6,  1,      8,    11.,2,19871114,0929,-31.1517,  30.5350, 2306,    104.6,  17.7248,  35.6400,2,  35.6370,2,    217.2,2, 17.7070,    214.9,2,     3.02,2,     2.34,2,     0.06,2,  -999.00,5, -999.000,5, -999.000,5, -999.000,5,-999.0000,5,  -999.00,9,-999.000,9,-999.0000,-999.000,-999.000,-999.000
      74AB29_1,    I5,     6,  1,      7,    10.,2,19871114,0929,-31.1517,  30.5350, 2306,    305.7,  14.1299,  35.3510,2,  35.3520,2,    214.9,2, 14.0851,    217.1,2,     4.24,2,     7.91,2,     0.01,2,  -999.00,5, -999.000,5, -999.000,5, -999.000,5,-999.0000,5,  -999.00,9,-999.000,9,-999.0000,-999.000,-999.000,-999.000
      74AB29_1,    I5,     6,  1,      6,     9.,2,19871114,0929,-31.1517,  30.5350, 2306,    502.4,  11.0265,  34.9400,2,  34.9439,2,    217.9,2, 10.9636,    217.2,2,     5.98,2,    14.37,2,     0.00,2,  -999.00,5, -999.000,5, -999.000,5, -999.000,5,-999.0000,5,  -999.00,9,-999.000,9,-999.0000,-999.000,-999.000,-999.000
      74AB29_1,    I5,     6,  1,      5,     7.,2,19871114,0929,-31.1517,  30.5350, 2306,    850.1,   6.6159,  34.5860,2,  34.5680,2,    180.0,2,  6.5355,    180.8,2,    48.61,2,    27.76,2,     0.01,2,  -999.00,5, -999.000,5, -999.000,5, -999.000,5,-999.0000,5,  -999.00,9,-999.000,9,-999.0000,-999.000,-999.000,-999.000
      74AB29_1,    I5,     6,  1,      4,     6.,2,19871114,0929,-31.1517,  30.5350, 2306,   1003.4,   4.7817,  34.6280,2,  34.6399,2,    147.8,2,  4.6995,    145.6,2,    64.58,2,    33.33,2,    -0.01,2,  -999.00,5, -999.000,5, -999.000,5, -999.000,5,-999.0000,5,  -999.00,9,-999.000,9,-999.0000,-999.000,-999.000,-999.000
      74AB29_1,    I5,     6,  1,      3,     4.,2,19871114,0929,-31.1517,  30.5350, 2306,   1606.7,   2.7225,  34.7280,2,  34.7254,2,    180.8,2,  2.6087,    180.3,2,    78.89,2,    31.47,2,    -0.01,2,  -999.00,5, -999.000,5, -999.000,5, -999.000,5,-999.0000,5,  -999.00,9,-999.000,9,-999.0000,-999.000,-999.000,-999.000
      74AB29_1,    I5,     6,  1,      2,     3.,2,19871114,0929,-31.1517,  30.5350, 2306,   1901.4,   2.5500,  34.7680,2,-999.0000,5,    196.0,2,  2.5525,    195.5,2,    73.22,2,    29.71,2,    -0.01,2,  -999.00,5, -999.000,5, -999.000,5, -999.000,5,-999.0000,5,  -999.00,9,-999.000,9,-999.0000,-999.000,-999.000,-999.000
      74AB29_1,    I5,     6,  1,      1,     2.,2,19871114,0929,-31.1517,  30.5350, 2306,   2106.3,   2.4665,  34.7870,2,-999.0000,5,    204.2,2,  2.4665,    204.6,2,  -999.00,5,  -999.00,5,  -999.00,5,  -999.00,5, -999.000,5, -999.000,5, -999.000,5,-999.0000,5,  -999.00,9,-999.000,9,-999.0000,-999.000,-999.000,-999.000
      74AB29_1,    I5,     7,  1,     12,    13.,2,19871114,1219,-31.1017,  30.4633, 1772,     13.2,  23.2935,  35.3700,2,  35.3782,2,    223.7,2, 23.2908,    220.2,2,     2.37,2,     0.20,2,     0.04,2,  -999.00,5, -999.000,5, -999.000,5, -999.000,5,-999.0000,5,  -999.00,9,-999.000,9,-999.0000,-999.000,-999.000,-999.000
      74AB29_1,    I5,     7,  1,     11,    12.,2,19871114,1219,-31.1017,  30.4633, 1772,    153.3,  16.4953,  35.5680,2,  35.5523,2,    203.7,2, 16.4704,    204.5,2,     4.96,2,     5.67,2,     0.05,2,  -999.00,5, -999.000,5, -999.000,5, -999.000,5,-999.0000,5,  -999.00,9,-999.000,9,-999.0000,-999.000,-999.000,-999.000
      74AB29_1,    I5,     7,  1,     10,    11.,2,19871114,1219,-31.1017,  30.4633, 1772,    308.0,  13.4339,  35.3200,2,  35.2044,2,    208.4,2, 13.3903,    179.8,2,    10.50,2,    13.78,2,     0.06,2,  -999.00,5, -999.000,5, -999.000,5, -999.000,5,-999.0000,5,  -999.00,9,-999.000,9,-999.0000,-999.000,-999.000,-999.000
      74AB29_1,    I5,     7,  1,      9,    10.,2,19871114,1219,-31.1017,  30.4633, 1772,    505.7,  10.4051,  34.8910,2,-999.0000,5,    197.0,2, 10.3758,    195.0,2,    12.07,2,    17.98,2,     0.03,2,  -999.00,5, -999.000,5, -999.000,5, -999.000,5,-999.0000,5,  -999.00,9,-999.000,9,-999.0000,-999.000,-999.000,-999.000
      74AB29_1,    I5,     7,  1,      8,     9.,2,19871114,1219,-31.1017,  30.4633, 1772,    602.6,   8.7527,  34.7470,2,  34.7195,2,    193.1,2,  8.6870,    190.7,2,    18.46,2,    22.68,2,     0.05,2,  -999.00,5, -999.000,5, -999.000,5, -999.000,5,-999.0000,5,  -999.00,9,-999.000,9,-999.0000,-999.000,-999.000,-999.000
      74AB29_1,    I5,     7,  1,      7,     8.,2,19871114,1219,-31.1017,  30.4633, 1772,    705.0,   7.3579,  34.6400,2,  34.6319,2,    174.4,2,  7.2880,    177.3,2,    29.18,2,    26.68,2,     0.03,2,  -999.00,5, -999.000,5, -999.000,5, -999.000,5,-999.0000,5,  -999.00,9,-999.000,9,-999.0000,-999.000,-999.000,-999.000
      74AB29_1,    I5,     7,  1,      6,     7.,2,19871114,1219,-31.1017,  30.4633, 1772,    808.9,   5.8525,  34.5900,2,  34.5690,2,    169.1,2,  5.7809,    169.0,2,    44.40,2,    30.20,2,     0.03,2,  -999.00,5, -999.000,5, -999.000,5, -999.000,5,-999.0000,5,  -999.00,9,-999.000,9,-999.0000,-999.000,-999.000,-999.000
      74AB29_1,    I5,     7,  1,      5,     6.,2,19871114,1219,-31.1017,  30.4633, 1772,   1001.9,   4.2907,  34.6420,2,  34.6427,2,    149.1,2,  4.2124,    149.9,2,    69.45,2,    33.62,2,     0.03,2,  -999.00,5, -999.000,5, -999.000,5, -999.000,5,-999.0000,5,  -999.00,9,-999.000,9,-999.0000,-999.000,-999.000,-999.000
      74AB29_1,    I5,     7,  1,      4,     5.,2,19871114,1219,-31.1017,  30.4633, 1772,   1204.1,   3.1074,  34.6700,2,  34.6543,2,    160.4,2,  3.0224,    173.4,2,    76.21,2,    33.33,2,     0.04,2,  -999.00,5, -999.000,5, -999.000,5, -999.000,5,-999.0000,5,  -999.00,9,-999.000,9,-999.0000,-999.000,-999.000,-999.000
      74AB29_1,    I5,     7,  1,      3,     4.,2,19871114,1219,-31.1017,  30.4633, 1772,   1404.1,   2.8705,  34.7060,2,  34.7075,2,    172.5,2,  2.7717,    173.4,2,    79.16,2,    32.16,2,     0.02,2,  -999.00,5, -999.000,5, -999.000,5, -999.000,5,-999.0000,5,  -999.00,9,-999.000,9,-999.0000,-999.000,-999.000,-999.000
      74AB29_1,    I5,     7,  1,      2,     3.,2,19871114,1219,-31.1017,  30.4633, 1772,   1599.9,   2.6985,  34.7360,2,  34.7368,2,    183.4,2,  2.5855,    184.2,2,    76.77,2,    31.08,2,     0.04,2,  -999.00,5, -999.000,5, -999.000,5, -999.000,5,-999.0000,5,  -999.00,9,-999.000,9,-999.0000,-999.000,-999.000,-999.000
      74AB29_1,    I5,     7,  1,      1,     2.,2,19871114,1219,-31.1017,  30.4633, 1772,   1779.7,   2.6680,  34.7470,2,  34.7547,2,    188.6,2,  2.5402,   -999.0,5,    74.38,2,    30.40,2,     0.02,2,  -999.00,5, -999.000,5, -999.000,5, -999.000,5,-999.0000,5,  -999.00,9,-999.000,9,-999.0000,-999.000,-999.000,-999.000
      74AB29_1,    I5,     8,  1,     11,    24.,2,19871114,1440,-31.0483,  30.4033,  905,     11.4,  22.1024,  35.2650,2,  35.2562,2,    222.8,2, 22.1001,    218.5,2,     3.60,2,     1.07,2,     0.14,2,  -999.00,5, -999.000,5, -999.000,5, -999.000,5,-999.0000,5,  -999.00,9,-999.000,9,-999.0000,-999.000,-999.000,-999.000
      74AB29_1,    I5,     8,  1,     10,    23.,2,19871114,1440,-31.0483,  30.4033,  905,     52.5,  20.0928,  35.4410,2,  35.4953,2,    184.3,2, 20.0831,    199.7,2,     3.96,2,     3.13,2,     0.07,2,  -999.00,5, -999.000,5, -999.000,5, -999.000,5,-999.0000,5,  -999.00,9,-999.000,9,-999.0000,-999.000,-999.000,-999.000
      74AB29_1,    I5,     8,  1,      9,    22.,2,19871114,1440,-31.0483,  30.4033,  905,    102.7,  17.4208,  35.3890,2,  35.3985,2,    157.6,2, 17.4035,    158.9,2,     9.09,2,    10.26,2,     0.08,2,  -999.00,5, -999.000,5, -999.000,5, -999.000,5,-999.0000,5,  -999.00,9,-999.000,9,-999.0000,-999.000,-999.000,-999.000
      74AB29_1,    I5,     8,  1,      8,    21.,2,19871114,1440,-31.0483,  30.4033,  905,    202.3,  14.3634,  35.2950,2,  35.2917,2,    172.7,2, 14.3336,    175.9,2,     9.62,2,    12.11,2,     0.02,2,  -999.00,5, -999.000,5, -999.000,5, -999.000,5,-999.0000,5,  -999.00,9,-999.000,9,-999.0000,-999.000,-999.000,-999.000
      74AB29_1,    I5,     8,  1,      7,    20.,2,19871114,1440,-31.0483,  30.4033,  905,    300.7,  12.9894,  35.1830,2,  35.1855,2,    200.6,2, 12.9478,    198.5,2,     7.76,2,    12.02,2,     0.01,2,  -999.00,5, -999.000,5, -999.000,5, -999.000,5,-999.0000,5,  -999.00,9,-999.000,9,-999.0000,-999.000,-999.000,-999.000
      74AB29_1,    I5,     8,  1,      6,    19.,2,19871114,1440,-31.0483,  30.4033,  905,    402.4,  11.0600,  34.9440,2,  34.9567,2,    200.5,2, 11.0098,    198.5,2,    10.34,2,    16.03,2,     0.01,2,  -999.00,5, -999.000,5, -999.000,5, -999.000,5,-999.0000,5,  -999.00,9,-999.000,9,-999.0000,-999.000,-999.000,-999.000
      74AB29_1,    I5,     8,  1,      5,    18.,2,19871114,1440,-31.0483,  30.4033,  905,    502.5,   9.0807,  34.7760,2,  34.7644,2,    191.4,2,  9.0250,    189.4,2,    17.72,2,    21.01,2,     0.00,2,  -999.00,5, -999.000,5, -999.000,5, -999.000,5,-999.0000,5,  -999.00,9,-999.000,9,-999.0000,-999.000,-999.000,-999.000
      74AB29_1,    I5,     8,  1,      4,    17.,2,19871114,1440,-31.0483,  30.4033,  905,    609.2,   7.8288,  34.6660,2,  34.6659,2,    174.8,2,  7.7666,    174.2,2,    26.48,2,    25.41,2,     0.00,2,  -999.00,5, -999.000,5, -999.000,5, -999.000,5,-999.0000,5,  -999.00,9,-999.000,9,-999.0000,-999.000,-999.000,-999.000
      74AB29_1,    I5,     8,  1,      3,    16.,2,19871114,1440,-31.0483,  30.4033,  905,    707.4,   6.0685,  34.5470,2,  34.5466,2,    175.6,2,  6.0052,    178.2,2,    36.28,2,    28.54,2,     0.00,2,  -999.00,5, -999.000,5, -999.000,5, -999.000,5,-999.0000,5,  -999.00,9,-999.000,9,-999.0000,-999.000,-999.000,-999.000
      74AB29_1,    I5,     8,  1,      2,    15.,2,19871114,1440,-31.0483,  30.4033,  905,    803.1,   5.5011,  34.5770,2,  34.5926,2,    164.8,2,  5.4321,    159.5,2,    49.49,2,    30.89,2,     0.00,2,  -999.00,5, -999.000,5, -999.000,5, -999.000,5,-999.0000,5,  -999.00,9,-999.000,9,-999.0000,-999.000,-999.000,-999.000
      74AB29_1,    I5,     8,  1,      1,    14.,2,19871114,1440,-31.0483,  30.4033,  905,    894.3,   4.9751,  34.6070,2,  34.6087,2,    153.4,2,  4.9013,    153.0,2,    57.41,2,    31.96,2,     0.00,2,  -999.00,5, -999.000,5, -999.000,5, -999.000,5,-999.0000,5,  -999.00,9,-999.000,9,-999.0000,-999.000,-999.000,-999.000
      74AB29_1,    I5,     9,  1,      4,     4.,2,19871114,1637,-31.0483,  30.3683,  261,     54.4,  20.0968,  35.3550,2,  35.3591,2,    176.9,2, 20.0867,    178.1,2,     5.97,2,     6.35,2,     0.38,2,  -999.00,5, -999.000,5, -999.000,5, -999.000,5,-999.0000,5,  -999.00,9,-999.000,9,-999.0000,-999.000,-999.000,-999.000
      74AB29_1,    I5,     9,  1,      3,     3.,2,19871114,1637,-31.0483,  30.3683,  261,    107.1,  16.5173,  35.3660,2,  35.3673,2,    158.5,2, 16.5000,    161.1,2,     9.42,2,    11.14,2,     0.06,2,  -999.00,5, -999.000,5, -999.000,5, -999.000,5,-999.0000,5,  -999.00,9,-999.000,9,-999.0000,-999.000,-999.000,-999.000
      74AB29_1,    I5,     9,  1,      2,     2.,2,19871114,1637,-31.0483,  30.3683,  261,    202.9,  14.1144,  35.3010,2,  35.2974,2,    182.7,2, 14.0848,    184.6,2,     8.23,2,    11.33,2,     0.02,2,  -999.00,5, -999.000,5, -999.000,5, -999.000,5,-999.0000,5,  -999.00,9,-999.000,9,-999.0000,-999.000,-999.000,-999.000
      74AB29_1,    I5,     9,  1,      1,     1.,2,19871114,1637,-31.0483,  30.3683,  261,    248.8,  13.4024,  35.2210,2,  35.2024,2,    184.5,2, 13.3673,    185.5,2,     9.27,2,    12.80,2,     0.02,2,  -999.00,5, -999.000,5, -999.000,5, -999.000,5,-999.0000,5,  -999.00,9,-999.000,9,-999.0000,-999.000,-999.000,-999.000
      74AB29_1,    I5,    10,  1,      3,     8.,2,19871114,1720,-31.0383,  30.3533,   86,     12.4,  21.5829,  35.1870,2,  35.1699,2,    212.3,2, 21.5805,    217.2,2,     4.37,2,     1.56,2,     0.23,2,  -999.00,5, -999.000,5, -999.000,5, -999.000,5,-999.0000,5,  -999.00,9,-999.000,9,-999.0000,-999.000,-999.000,-999.000
      74AB29_1,    I5,    10,  1,      2,     7.,2,19871114,1720,-31.0383,  30.3533,   86,     53.8,  20.0378,  35.3440,2,  35.3407,2,    178.2,2, 20.0278,    184.6,2,     5.74,2,     5.76,2,     0.45,2,  -999.00,5, -999.000,5, -999.000,5, -999.000,5,-999.0000,5,  -999.00,9,-999.000,9,-999.0000,-999.000,-999.000,-999.000
      74AB29_1,    I5,    10,  1,      1,     6.,2,19871114,1720,-31.0383,  30.3533,   86,     77.0,  16.8838,  35.3800,2,  35.3851,2,    170.2,2, 16.8712,    159.4,2,     8.83,2,    10.45,2,     0.06,2,  -999.00,5, -999.000,5, -999.000,5, -999.000,5,-999.0000,5,  -999.00,9,-999.000,9,-999.0000,-999.000,-999.000,-999.000