BOTTLE,20060509WHPSIOSA
EXPOCODE,SECT_ID,STNNBR,CASTNO,SAMPNO,BTLNBR,BTLNBR_FLAG_W,DATE,TIME,LATITUDE,LONGITUDE,DEPTH,CTDPRS,CTDTMP,CTDSAL,CTDSAL_FLAG_W,SALNTY,SALNTY_FLAG_W,CTDOXY,CTDOXY_FLAG_W,THETA,OXYGEN,OXYGEN_FLAG_W,SILCAT,SILCAT_FLAG_W,NITRAT,NITRAT_FLAG_W,NITRIT,NITRIT_FLAG_W,PHSPHT,PHSPHT_FLAG_W,CFC-11,CFC-11_FLAG_W,CFC-12,CFC-12_FLAG_W,TRITUM,TRITUM_FLAG_W,HELIUM,HELIUM_FLAG_W,DELHE3,DELHE3_FLAG_W,NEON,NEON_FLAG_W,HELIER,TRITER,NEONER,DELHER
,,,,,,,,,,,,DBAR,IPTS-68,PSS-78,,PSS-78,,UMOL/KG,,IPTS-68,UMOL/KG,,UMOL/KG,,UMOL/KG,,UMOL/KG,,UMOL/KG,,PMOL/KG,,PMOL/KG,,TU,,UMOL/KG,,PERCNT,,NMOL/KG,,NMOL/KG,TU,NMOL/KG,PERCNT
      74AB29_1,    I5,    64,  1,     24,    24.,2,19871203,2125,-29.5033,  80.9917, 4156,      2.9,  19.7733,  34.7240,2,  35.9514,2,    201.2,2, 19.7728,    234.0,2,     1.94,2,     0.29,2,     0.00,2,     0.20,2,    2.047,2,    1.099,2, -999.000,5,-999.0000,5,  -999.00,9,-999.000,9,-999.0000,-999.000,-999.000,-999.000
      74AB29_1,    I5,    64,  1,     23,    23.,2,19871203,2125,-29.5033,  80.9917, 4156,    102.5,  17.1228,  35.6660,2,  35.7539,2,    245.0,2, 17.1057,    243.5,2,     1.37,2,     0.29,2,     0.00,2,     0.23,2,    2.110,2,    1.218,2, -999.000,5,-999.0000,5,  -999.00,9,-999.000,9,-999.0000,-999.000,-999.000,-999.000
      74AB29_1,    I5,    64,  1,     22,    22.,2,19871203,2125,-29.5033,  80.9917, 4156,    201.0,  13.6709,  35.2550,2,  35.3190,2,    230.6,2, 13.6422,    230.6,2,     2.17,2,     6.55,2,     0.00,2,     0.55,2,    2.256,2,    1.244,2, -999.000,5,-999.0000,5,  -999.00,9,-999.000,9,-999.0000,-999.000,-999.000,-999.000
      74AB29_1,    I5,    64,  1,     21,    21.,2,19871203,2125,-29.5033,  80.9917, 4156,    301.4,  12.3155,  35.0740,2,  35.1073,2,    238.8,2, 12.2753,    236.7,2,     3.19,2,     9.67,2,     0.00,2,     0.71,2,    2.278,2,    1.369,2, -999.000,5,-999.0000,5,  -999.00,9,-999.000,9,-999.0000,-999.000,-999.000,-999.000
      74AB29_1,    I5,    64,  1,     20,    20.,2,19871203,2125,-29.5033,  80.9917, 4156,    400.7,  11.4315,  34.9560,2,  34.9719,2,    240.6,2, 11.3804,    240.2,2,     3.79,2,    11.73,2,     0.00,2,     0.82,2,    2.275,2,    1.294,2, -999.000,5,-999.0000,5,  -999.00,9,-999.000,9,-999.0000,-999.000,-999.000,-999.000
      74AB29_1,    I5,    64,  1,     19,    19.,2,19871203,2125,-29.5033,  80.9917, 4156,    499.5,  10.6001,  34.8640,2,  34.8615,2,    237.5,2, 10.5392,    240.2,2,     4.20,2,    13.39,2,     0.00,2,     0.95,2,    2.018,2,    1.189,2, -999.000,5,-999.0000,5,  -999.00,9,-999.000,9,-999.0000,-999.000,-999.000,-999.000
      74AB29_1,    I5,    64,  1,     18,    18.,2,19871203,2125,-29.5033,  80.9917, 4156,    601.5,   9.8321,  34.7540,2,  34.7575,2,    238.3,2,  9.7618,    236.8,2,     5.00,2,    15.83,2,     0.00,2,     1.10,2,    1.790,2,    0.990,2, -999.000,5,-999.0000,5,  -999.00,9,-999.000,9,-999.0000,-999.000,-999.000,-999.000
      74AB29_1,    I5,    64,  1,     17,    17.,2,19871203,2125,-29.5033,  80.9917, 4156,    700.7,   8.9677,  34.6600,2,  34.6557,2,    227.0,2,  8.8899,    225.1,2,     7.39,2,    19.16,2,     0.00,2,     1.33,2,    1.279,2,    0.716,2, -999.000,5,-999.0000,5,  -999.00,9,-999.000,9,-999.0000,-999.000,-999.000,-999.000
      74AB29_1,    I5,    64,  1,     16,    16.,2,19871203,2125,-29.5033,  80.9917, 4156,    900.1,   6.3430,  34.4580,2,  34.4587,2,    198.7,2,  6.2596,    198.2,2,    22.38,2,    27.96,2,     0.00,2,     1.90,2,    0.348,2,    0.204,2, -999.000,5,-999.0000,5,  -999.00,9,-999.000,9,-999.0000,-999.000,-999.000,-999.000
      74AB29_1,    I5,    64,  1,     15,    15.,2,19871203,2125,-29.5033,  80.9917, 4156,   1099.3,   4.3692,  34.4250,2,  34.4176,2,    177.8,2,  4.2822,    180.8,2,    45.83,2,    33.04,2,     0.00,2,     2.29,2,    0.156,2,    0.069,2, -999.000,5,-999.0000,5,  -999.00,9,-999.000,9,-999.0000,-999.000,-999.000,-999.000
      74AB29_1,    I5,    64,  1,     14,    14.,2,19871203,2125,-29.5033,  80.9917, 4156,   1300.1,   3.6623,  34.5150,2,  34.5087,2,    158.7,2,  3.5643,    156.4,2,    69.28,2,    35.29,2,     0.00,2,     2.45,2,    0.010,2,    0.000,2, -999.000,5,-999.0000,5,  -999.00,9,-999.000,9,-999.0000,-999.000,-999.000,-999.000
      74AB29_1,    I5,    64,  1,     13,    13.,2,19871203,2125,-29.5033,  80.9917, 4156,   1498.8,   3.1949,  34.5870,2,  34.5832,2,    155.2,2,  3.0849,    153.4,2,    79.91,2,    35.48,2,     0.00,2,     2.44,2,    0.009,2,    0.000,2, -999.000,5,-999.0000,5,  -999.00,9,-999.000,9,-999.0000,-999.000,-999.000,-999.000
      74AB29_1,    I5,    64,  1,     12,    12.,2,19871203,2125,-29.5033,  80.9917, 4156,   1699.9,   2.8939,  34.6540,2,-999.0000,5,    156.5,2,  2.8942,    155.6,2,    88.97,2,    34.80,2,     0.00,2,     2.42,2, -999.000,5, -999.000,5, -999.000,5,-999.0000,5,  -999.00,9,-999.000,9,-999.0000,-999.000,-999.000,-999.000
      74AB29_1,    I5,    64,  1,     11,    11.,2,19871203,2125,-29.5033,  80.9917, 4156,   1899.4,   2.6435,  34.6930,2,  34.6912,2,    163.0,2,  2.5059,    159.5,2,    96.05,2,    34.11,2,     0.00,2,     2.41,2, -999.000,5, -999.000,5, -999.000,5,-999.0000,5,  -999.00,9,-999.000,9,-999.0000,-999.000,-999.000,-999.000
      74AB29_1,    I5,    64,  1,     10,    10.,2,19871203,2125,-29.5033,  80.9917, 4156,   2198.5,   2.2126,  34.7240,2,  34.7244,2,    183.4,2,  2.0553,    184.7,2,    90.34,2,    31.96,2,     0.00,2,     2.22,2, -999.000,5, -999.000,5, -999.000,5,-999.0000,5,  -999.00,9,-999.000,9,-999.0000,-999.000,-999.000,-999.000
      74AB29_1,    I5,    64,  1,      9,     9.,2,19871203,2125,-29.5033,  80.9917, 4156,   2501.4,   1.9371,  34.7410,2,  34.7423,2,    192.9,2,  1.7575,    194.6,2,    92.31,2,    31.08,2,     0.00,2,     2.16,2,    0.001,2,    0.000,2, -999.000,5,-999.0000,5,  -999.00,9,-999.000,9,-999.0000,-999.000,-999.000,-999.000
      74AB29_1,    I5,    64,  1,      8,     8.,2,19871203,2125,-29.5033,  80.9917, 4156,   2801.0,   1.6586,  34.7360,2,  34.7358,2,    193.8,2,  1.4568,    195.1,2,   104.90,2,    31.76,2,     0.00,2,     2.22,2, -999.000,5, -999.000,5, -999.000,5,-999.0000,5,  -999.00,9,-999.000,9,-999.0000,-999.000,-999.000,-999.000
      74AB29_1,    I5,    64,  1,      7,     7.,2,19871203,2125,-29.5033,  80.9917, 4156,   3004.3,   1.5287,  34.7340,2,  34.7331,2,    196.0,2,  1.3105,    195.5,2,   109.61,2,    32.06,2,     0.00,2,     2.23,2, -999.000,5, -999.000,5, -999.000,5,-999.0000,5,  -999.00,9,-999.000,9,-999.0000,-999.000,-999.000,-999.000
      74AB29_1,    I5,    64,  1,      6,     6.,2,19871203,2125,-29.5033,  80.9917, 4156,   3202.6,   1.4397,  34.7300,2,  34.7305,2,    197.3,2,  1.2044,    197.3,2,   111.77,2,    32.06,2,     0.00,2,     2.22,2, -999.000,5, -999.000,5, -999.000,5,-999.0000,5,  -999.00,9,-999.000,9,-999.0000,-999.000,-999.000,-999.000
      74AB29_1,    I5,    64,  1,      5,     5.,2,19871203,2125,-29.5033,  80.9917, 4156,   3406.2,   1.3917,  34.7280,2,-999.0000,5,    199.0,2,  1.3799,    198.1,2,   112.96,2,    31.96,2,     0.00,2,     2.20,2, -999.000,5, -999.000,5, -999.000,5,-999.0000,5,  -999.00,9,-999.000,9,-999.0000,-999.000,-999.000,-999.000
      74AB29_1,    I5,    64,  1,      4,     4.,2,19871203,2125,-29.5033,  80.9917, 4156,   3606.0,   1.3767,  34.7260,2,  34.7252,2,    199.9,2,  1.1025,    198.6,2,   114.92,2,    32.06,2,     0.00,2,     2.24,2, -999.000,5, -999.000,5, -999.000,5,-999.0000,5,  -999.00,9,-999.000,9,-999.0000,-999.000,-999.000,-999.000
      74AB29_1,    I5,    64,  1,      3,     3.,2,19871203,2125,-29.5033,  80.9917, 4156,   3806.1,   1.3767,  34.7250,2,  34.7239,2,    199.9,2,  1.0817,    197.3,2,   116.49,2,    32.25,2,     0.00,2,     2.26,2, -999.000,5, -999.000,5, -999.000,5,-999.0000,5,  -999.00,9,-999.000,9,-999.0000,-999.000,-999.000,-999.000
      74AB29_1,    I5,    64,  1,      2,     2.,2,19871203,2125,-29.5033,  80.9917, 4156,   4006.8,   1.3837,  34.7240,2,  34.7227,2,    200.3,2,  1.0670,    196.8,2,   116.89,2,    32.06,2,     0.00,2,     2.25,2, -999.000,5, -999.000,5, -999.000,5,-999.0000,5,  -999.00,9,-999.000,9,-999.0000,-999.000,-999.000,-999.000
      74AB29_1,    I5,    64,  1,      1,     1.,2,19871203,2125,-29.5033,  80.9917, 4156,   4222.5,   1.4042,  34.7240,2,-999.0000,5,    200.7,2,  1.3550,    195.5,2,   117.85,2,    32.25,2,     0.00,2,     2.25,2,    0.000,2,    0.000,2, -999.000,5,-999.0000,5,  -999.00,9,-999.000,9,-999.0000,-999.000,-999.000,-999.000
      74AB29_1,    I5,    65,  1,     24,    24.,2,19871204,0633,-29.0033,  82.0017, 4124,     17.0,  19.4848,  35.8390,2,  35.9174,2,    235.1,2, 19.4817,    241.3,2,     1.11,2,     0.10,2,     0.00,2,     0.21,2,    2.095,2, -999.000,5,    0.706,2,   1.7150,2,    -1.20,2,   7.110,2,  0.0090,   0.008,   0.140,   0.200
      74AB29_1,    I5,    65,  1,     23,    23.,2,19871204,0633,-29.0033,  82.0017, 4124,    103.3,  16.1058,  35.4790,2,  35.5928,2,    246.8,2, 16.0893,    245.8,2,     1.12,2,     0.20,2,     0.00,2,     0.26,2,    2.276,2, -999.000,5,    0.707,2,   1.7250,2,     3.80,2,   7.130,2,  0.0090,   0.008,   0.140,   0.200
      74AB29_1,    I5,    65,  1,     22,    22.,2,19871204,0633,-29.0033,  82.0017, 4124,    202.8,  13.5139,  35.2270,2,  35.2832,2,    232.8,2, 13.4852,    231.0,2,     2.12,2,     6.84,2,     0.00,2,     0.60,2,    2.366,2, -999.000,5,    0.679,2,   1.8320,2,     4.80,2,   7.470,2,  0.0090,   0.008,   0.150,   0.200
      74AB29_1,    I5,    65,  1,     21,    21.,2,19871204,0633,-29.0033,  82.0017, 4124,    301.8,  12.2690,  35.1060,2,  35.1016,2,    232.7,2, 12.2288,    235.9,2,     2.91,2,     9.38,2,     0.00,2,     0.74,2,    2.226,2, -999.000,5,    0.782,2,   1.8020,2,     5.50,2,-999.000,9,  0.0090,   0.008,-999.000,   0.200
      74AB29_1,    I5,    65,  1,     20,    20.,2,19871204,0633,-29.0033,  82.0017, 4124,    401.9,  11.3910,  34.9760,2,  34.9705,2,    239.7,2, 11.3399,    239.4,2,     3.53,2,    11.43,2,     0.00,2,     0.87,2,    2.329,2, -999.000,5,    0.767,2,   1.8130,2,     9.40,2,   7.490,2,  0.0090,   0.008,   0.150,   0.200
      74AB29_1,    I5,    65,  1,     19,    19.,2,19871204,0633,-29.0033,  82.0017, 4124,    500.5,  10.5996,  34.8650,2,  34.8627,2,    240.1,2, 10.5386,    239.4,2,     4.33,2,    13.29,2,     0.00,2,     0.99,2,    2.029,2, -999.000,5,    0.767,2,   1.8240,2,     6.90,2,   7.580,2,  0.0090,   0.008,   0.150,   0.200
      74AB29_1,    I5,    65,  1,     18,    18.,2,19871204,0633,-29.0033,  82.0017, 4124,    700.7,   8.8292,  34.6600,2,  34.6506,2,    224.4,2,  8.7521,    219.4,2,     8.09,2,    19.55,2,     0.00,2,     1.37,2,    1.075,2, -999.000,5, -999.000,9,   1.8660,2,     8.10,2,   7.750,2,  0.0090,-999.000,   0.160,   0.200
      74AB29_1,    I5,    65,  1,     17,    17.,2,19871204,0633,-29.0033,  82.0017, 4124,    899.9,   5.8340,  34.4480,2,  34.4271,2,    201.7,2,  5.7541,    199.9,2,    24.49,2,    28.15,2,     0.00,2,     1.94,2,    0.426,2, -999.000,5, -999.000,5,-999.0000,5,  -999.00,9,-999.000,9,-999.0000,-999.000,-999.000,-999.000
      74AB29_1,    I5,    65,  1,     16,    16.,2,19871204,0633,-29.0033,  82.0017, 4124,   1000.5,   4.7767,  34.3930,2,  34.4110,2,    196.9,2,  4.6952,    189.5,2,    36.53,2,    30.70,2,     0.00,2,     2.16,2,    0.203,2, -999.000,5, -999.000,9,   1.8920,2,     7.00,2,   8.080,2,  0.0090,-999.000,   0.160,   0.200
      74AB29_1,    I5,    65,  1,     15,    15.,2,19871204,0633,-29.0033,  82.0017, 4124,   1100.0,   4.1943,  34.4210,2,  34.4182,2,    180.4,2,  4.1088,    179.9,2,    47.39,2,    32.55,2,     0.00,2,     2.30,2,    0.145,2, -999.000,5, -999.000,9,   1.8810,2,     6.60,2,   8.180,2,  0.0090,-999.000,   0.160,   0.200
      74AB29_1,    I5,    65,  1,     14,    14.,2,19871204,0633,-29.0033,  82.0017, 4124,   1196.8,   3.8053,  34.4720,2,  34.4769,2,    166.9,2,  3.7148,    165.6,2,    61.02,2,    33.92,2,     0.00,2,     2.40,2,    0.039,2, -999.000,5, -999.000,9,   1.9230,2,    10.30,2,   8.220,2,  0.0100,-999.000,   0.160,   0.200
      74AB29_1,    I5,    65,  1,     13,    13.,2,19871204,0633,-29.0033,  82.0017, 4124,   1399.9,   3.2424,  34.5510,2,  34.5618,2,    157.3,2,  3.1402,    155.1,2,    76.40,2,    34.90,2,     0.00,2,     2.47,2,    0.020,2, -999.000,5, -999.000,5,-999.0000,5,  -999.00,9,-999.000,9,-999.0000,-999.000,-999.000,-999.000
      74AB29_1,    I5,    65,  1,     12,    12.,2,19871204,0633,-29.0033,  82.0017, 4124,   1599.5,   2.9344,  34.6220,2,  34.6282,2,    157.3,2,  2.8188,    156.0,2,    85.49,2,    34.50,2,     0.00,2,     2.45,2, -999.000,5, -999.000,5, -999.000,5,-999.0000,5,  -999.00,9,-999.000,9,-999.0000,-999.000,-999.000,-999.000
      74AB29_1,    I5,    65,  1,     11,    11.,2,19871204,0633,-29.0033,  82.0017, 4124,   1798.7,   2.6880,  34.6780,2,  34.6875,2,    158.6,2,  2.5585,    159.5,2,    93.77,2,    34.01,2,     0.00,2,     2.40,2, -999.000,5, -999.000,5, -999.000,5,-999.0000,5,  -999.00,9,-999.000,9,-999.0000,-999.000,-999.000,-999.000
      74AB29_1,    I5,    65,  1,     10,    10.,2,19871204,0633,-29.0033,  82.0017, 4124,   1999.7,   2.4315,  34.7070,2,  34.7083,2,    164.3,2,  2.2883,    164.7,2,    99.68,2,    33.62,2,     0.00,2,     2.38,2,    0.008,2, -999.000,5, -999.000,9,   1.9230,2,    12.40,2,   8.290,2,  0.0100,-999.000,   0.170,   0.200
      74AB29_1,    I5,    65,  1,      9,     9.,2,19871204,0633,-29.0033,  82.0017, 4124,   2199.9,   2.1736,  34.7190,2,  34.7244,2,    171.6,2,  2.0169,    175.5,2,   100.67,2,    32.64,2,     0.00,2,     2.34,2, -999.000,5, -999.000,5, -999.000,5,-999.0000,5,  -999.00,9,-999.000,9,-999.0000,-999.000,-999.000,-999.000
      74AB29_1,    I5,    65,  1,      8,     8.,2,19871204,0633,-29.0033,  82.0017, 4124,   2500.3,   1.9146,  34.7310,2,  34.7317,2,    183.4,2,  1.7355,    186.0,2,   101.85,2,    32.16,2,     0.00,2,     2.28,2,    0.006,2, -999.000,5, -999.000,9,   1.9090,2,    11.90,2,   8.330,2,  0.0100,-999.000,   0.170,   0.200
      74AB29_1,    I5,    65,  1,      7,     7.,2,19871204,0633,-29.0033,  82.0017, 4124,   2801.7,   1.6976,  34.7340,2,  34.7331,2,    189.5,2,  1.4950,    192.5,2,   105.80,2,    31.96,2,     0.00,2,     2.23,2, -999.000,5, -999.000,5, -999.000,5,-999.0000,5,  -999.00,9,-999.000,9,-999.0000,-999.000,-999.000,-999.000
      74AB29_1,    I5,    65,  1,      6,     6.,2,19871204,0633,-29.0033,  82.0017, 4124,   3102.1,   1.4877,  34.7320,2,  34.7345,2,    195.1,2,  1.2611,    197.3,2,   108.96,2,    31.67,2,     0.00,2,     2.22,2,    0.006,2, -999.000,5, -999.000,9,   1.9260,2,     7.00,2,   8.420,2,  0.0100,-999.000,   0.170,   0.200
      74AB29_1,    I5,    65,  1,      5,     5.,2,19871204,0633,-29.0033,  82.0017, 4124,   3404.3,   1.3767,  34.7280,2,  34.7268,2,    197.7,2,  1.1230,    198.6,2,   113.89,2,    32.16,2,     0.00,2,     2.24,2,    0.010,2, -999.000,5, -999.000,5,-999.0000,5,  -999.00,9,-999.000,9,-999.0000,-999.000,-999.000,-999.000
      74AB29_1,    I5,    65,  1,      4,     4.,2,19871204,0633,-29.0033,  82.0017, 4124,   3704.6,   1.3562,  34.7250,2,  34.7246,2,    197.7,2,  1.0724,    197.7,2,   116.65,2,    32.55,2,     0.00,2,     2.28,2, -999.000,5, -999.000,5, -999.000,5,-999.0000,5,  -999.00,9,-999.000,9,-999.0000,-999.000,-999.000,-999.000
      74AB29_1,    I5,    65,  1,      2,     2.,2,19871204,0633,-29.0033,  82.0017, 4124,   4008.1,   1.3717,  34.7230,2,  34.7250,2,    198.6,2,  1.0552,    196.8,2,   117.83,2,    32.55,2,     0.00,2,     2.27,2,    0.003,2, -999.000,5, -999.000,9,   1.8960,2,     6.80,2,   8.360,2,  0.0090,-999.000,   0.170,   0.200
      74AB29_1,    I5,    65,  1,      3,     3.,2,19871204,0633,-29.0033,  82.0017, 4124,   4008.9,   1.3717,  34.7230,2,  34.7225,2,    198.6,2,  1.0551,    196.4,2,   118.03,2,    32.55,2,     0.00,2,     2.28,2,    0.005,2, -999.000,5, -999.000,9,   1.8960,2,     6.80,2,   8.360,2,  0.0090,-999.000,   0.170,   0.200
      74AB29_1,    I5,    65,  1,      1,     1.,2,19871204,0633,-29.0033,  82.0017, 4124,   4173.2,   1.3822,  34.7220,2,-999.0000,5,    197.7,2,  1.3364,    196.8,2,   118.22,2,    32.55,2,     0.00,2,     2.28,2,    0.001,2, -999.000,5, -999.000,9,   1.8620,2,     5.90,2,   8.330,2,  0.0090,-999.000,   0.170,   0.200