BOTTLE,20060509WHPSIOSA
EXPOCODE,SECT_ID,STNNBR,CASTNO,SAMPNO,BTLNBR,BTLNBR_FLAG_W,DATE,TIME,LATITUDE,LONGITUDE,DEPTH,CTDPRS,CTDTMP,CTDSAL,CTDSAL_FLAG_W,SALNTY,SALNTY_FLAG_W,CTDOXY,CTDOXY_FLAG_W,THETA,OXYGEN,OXYGEN_FLAG_W,SILCAT,SILCAT_FLAG_W,NITRAT,NITRAT_FLAG_W,NITRIT,NITRIT_FLAG_W,PHSPHT,PHSPHT_FLAG_W,CFC-11,CFC-11_FLAG_W,CFC-12,CFC-12_FLAG_W,TRITUM,TRITUM_FLAG_W,HELIUM,HELIUM_FLAG_W,DELHE3,DELHE3_FLAG_W,NEON,NEON_FLAG_W,HELIER,TRITER,NEONER,DELHER
,,,,,,,,,,,,DBAR,IPTS-68,PSS-78,,PSS-78,,UMOL/KG,,IPTS-68,UMOL/KG,,UMOL/KG,,UMOL/KG,,UMOL/KG,,UMOL/KG,,PMOL/KG,,PMOL/KG,,TU,,UMOL/KG,,PERCNT,,NMOL/KG,,NMOL/KG,TU,NMOL/KG,PERCNT
      74AB29_1,    I5,    21,  1,     24,    24.,2,19871118,1029,-33.0117,  36.5150, 3304,     16.3,  19.4678,  35.6990,2,  35.7059,2,    236.9,2, 19.4648,    233.6,2,     1.29,2,     0.10,2,     0.01,2,     0.21,2,    1.951,2,    1.159,2, -999.000,5,-999.0000,5,  -999.00,9,-999.000,9,-999.0000,-999.000,-999.000,-999.000
      74AB29_1,    I5,    21,  1,     23,    23.,2,19871118,1029,-33.0117,  36.5150, 3304,    152.0,  16.9988,  35.6270,2,  35.6261,2,    226.8,2, 16.9736,    230.1,2,     2.79,2,     2.54,2,     0.02,2,     0.35,2,    2.060,2,    1.252,2, -999.000,5,-999.0000,5,  -999.00,9,-999.000,9,-999.0000,-999.000,-999.000,-999.000
      74AB29_1,    I5,    21,  1,     22,    22.,2,19871118,1029,-33.0117,  36.5150, 3304,    301.3,  15.7833,  35.5070,2,  35.5089,2,    215.0,2, 15.7357,    216.2,2,     3.65,2,     5.37,2,     0.05,2,     0.53,2, -999.000,5, -999.000,5, -999.000,5,-999.0000,5,  -999.00,9,-999.000,9,-999.0000,-999.000,-999.000,-999.000
      74AB29_1,    I5,    21,  1,     21,    21.,2,19871118,1029,-33.0117,  36.5150, 3304,    401.8,  14.5969,  35.3810,2,  35.3843,2,    212.3,2, 14.5366,    214.5,2,     4.00,2,     7.23,2,     0.01,2,     0.66,2,    1.924,2,    1.045,2, -999.000,5,-999.0000,5,  -999.00,9,-999.000,9,-999.0000,-999.000,-999.000,-999.000
      74AB29_1,    I5,    21,  1,     20,    20.,2,19871118,1029,-33.0117,  36.5150, 3304,    501.7,  13.5819,  35.2550,2,  35.2794,2,    219.3,2, 13.5099,    221.1,2,     4.17,2,     8.70,2,     0.00,2,     0.76,2,    1.740,2,    0.725,2, -999.000,5,-999.0000,5,  -999.00,9,-999.000,9,-999.0000,-999.000,-999.000,-999.000
      74AB29_1,    I5,    21,  1,     19,    19.,2,19871118,1029,-33.0117,  36.5150, 3304,    600.5,  12.4045,  35.0980,2,  35.1059,2,    220.6,2, 12.3231,    218.9,2,     4.86,2,    11.43,2,     0.01,2,     0.94,2, -999.000,5, -999.000,5, -999.000,5,-999.0000,5,  -999.00,9,-999.000,9,-999.0000,-999.000,-999.000,-999.000
      74AB29_1,    I5,    21,  1,     18,    18.,2,19871118,1029,-33.0117,  36.5150, 3304,    701.7,  11.2770,  34.9620,2,  34.9587,2,    221.0,2, 11.1872,    218.9,2,     5.71,2,    13.88,2,     0.01,2,     1.10,2,    1.226,2,    0.548,2, -999.000,5,-999.0000,5,  -999.00,9,-999.000,9,-999.0000,-999.000,-999.000,-999.000
      74AB29_1,    I5,    21,  1,     17,    17.,2,19871118,1029,-33.0117,  36.5150, 3304,    800.6,  10.0696,  34.8270,2,  34.8131,2,    217.9,2,  9.9737,    215.5,2,     7.56,2,    16.81,2,     0.00,2,     1.29,2, -999.000,5, -999.000,5, -999.000,5,-999.0000,5,  -999.00,9,-999.000,9,-999.0000,-999.000,-999.000,-999.000
      74AB29_1,    I5,    21,  1,     16,    16.,2,19871118,1029,-33.0117,  36.5150, 3304,    900.4,   8.6897,  34.6760,2,  34.6806,2,    212.2,2,  8.5904,    208.6,2,    12.26,2,    20.62,2,     0.00,2,     1.54,2, -999.000,5, -999.000,5, -999.000,5,-999.0000,5,  -999.00,9,-999.000,9,-999.0000,-999.000,-999.000,-999.000
      74AB29_1,    I5,    21,  1,     15,    15.,2,19871118,1029,-33.0117,  36.5150, 3304,    998.0,   7.4988,  34.5740,2,-999.0000,5,    201.3,2,  7.4632,    202.9,2,  -999.00,5,  -999.00,5,  -999.00,5,  -999.00,5, -999.000,5, -999.000,5, -999.000,5,-999.0000,5,  -999.00,9,-999.000,9,-999.0000,-999.000,-999.000,-999.000
      74AB29_1,    I5,    21,  1,     14,    14.,2,19871118,1029,-33.0117,  36.5150, 3304,   1200.7,   5.0601,  34.4440,2,  34.4451,2,    192.2,2,  4.9579,    193.0,2,    36.69,2,    30.11,2,     0.00,2,     2.22,2,    0.441,2,    0.233,2, -999.000,5,-999.0000,5,  -999.00,9,-999.000,9,-999.0000,-999.000,-999.000,-999.000
      74AB29_1,    I5,    21,  1,     13,    13.,2,19871118,1029,-33.0117,  36.5150, 3304,   1402.4,   3.9563,  34.4770,2,  34.4765,2,    182.1,2,  3.8465,    181.2,2,    52.59,2,    32.65,2,     0.00,2,     2.40,2, -999.000,5, -999.000,5, -999.000,5,-999.0000,5,  -999.00,9,-999.000,9,-999.0000,-999.000,-999.000,-999.000
      74AB29_1,    I5,    21,  1,     12,    12.,2,19871118,1029,-33.0117,  36.5150, 3304,   1599.4,   3.2184,  34.5530,2,  34.5521,2,    174.7,2,  3.0996,    173.8,2,    65.15,2,    33.43,2,    -0.01,2,     2.46,2,    0.107,2,    0.055,2, -999.000,5,-999.0000,5,  -999.00,9,-999.000,9,-999.0000,-999.000,-999.000,-999.000
      74AB29_1,    I5,    21,  1,     11,    11.,2,19871118,1029,-33.0117,  36.5150, 3304,   1801.0,   2.8650,  34.6420,2,-999.0000,5,    178.2,2,  2.8639,    178.2,2,    69.85,2,    32.06,2,     0.00,2,     2.38,2, -999.000,5, -999.000,5, -999.000,5,-999.0000,5,  -999.00,9,-999.000,9,-999.0000,-999.000,-999.000,-999.000
      74AB29_1,    I5,    21,  1,     10,    10.,2,19871118,1029,-33.0117,  36.5150, 3304,   1999.1,   2.7335,  34.7200,2,  34.7211,2,    186.9,2,  2.5857,    187.3,2,    70.86,2,    30.49,2,     0.00,2,     2.25,2, -999.000,5, -999.000,5, -999.000,5,-999.0000,5,  -999.00,9,-999.000,9,-999.0000,-999.000,-999.000,-999.000
      74AB29_1,    I5,    21,  1,      9,     9.,2,19871118,1029,-33.0117,  36.5150, 3304,   2202.0,   2.6155,  34.7690,2,  34.7651,2,    198.6,2,  2.4511,    198.6,2,    67.88,2,    29.03,2,     0.00,2,     2.12,2, -999.000,5, -999.000,5, -999.000,5,-999.0000,5,  -999.00,9,-999.000,9,-999.0000,-999.000,-999.000,-999.000
      74AB29_1,    I5,    21,  1,      8,     8.,2,19871118,1029,-33.0117,  36.5150, 3304,   2402.3,   2.4990,  34.7850,2,  34.7820,2,    202.1,2,  2.3181,    201.2,2,    70.74,2,    28.64,2,     0.00,2,     2.10,2, -999.000,5, -999.000,5, -999.000,5,-999.0000,5,  -999.00,9,-999.000,9,-999.0000,-999.000,-999.000,-999.000
      74AB29_1,    I5,    21,  1,      7,     7.,2,19871118,1029,-33.0117,  36.5150, 3304,   2602.0,   2.4095,  34.8010,2,  34.8013,2,    210.7,2,  2.2113,    211.6,2,    67.59,2,    27.56,2,     0.00,2,     2.03,2, -999.000,5, -999.000,5, -999.000,5,-999.0000,5,  -999.00,9,-999.000,9,-999.0000,-999.000,-999.000,-999.000
      74AB29_1,    I5,    21,  1,      6,     6.,2,19871118,1029,-33.0117,  36.5150, 3304,   2802.0,   2.2925,  34.8070,2,  34.8054,2,    216.0,2,  2.0773,    215.5,2,    63.59,2,    26.68,2,     0.00,2,     1.97,2, -999.000,5, -999.000,5, -999.000,5,-999.0000,5,  -999.00,9,-999.000,9,-999.0000,-999.000,-999.000,-999.000
      74AB29_1,    I5,    21,  1,      5,     5.,2,19871118,1029,-33.0117,  36.5150, 3304,   2903.9,   2.2435,  34.8070,2,  34.8058,2,    216.4,2,  2.0193,    217.7,2,    69.48,2,    27.27,2,    -0.01,2,     2.02,2, -999.000,5, -999.000,5, -999.000,5,-999.0000,5,  -999.00,9,-999.000,9,-999.0000,-999.000,-999.000,-999.000
      74AB29_1,    I5,    21,  1,      4,     4.,2,19871118,1029,-33.0117,  36.5150, 3304,   3003.0,   2.2041,  34.8060,2,  34.8078,2,    217.7,2,  1.9709,    218.1,2,    69.66,2,    27.07,2,     0.00,2,     2.00,2, -999.000,5, -999.000,5, -999.000,5,-999.0000,5,  -999.00,9,-999.000,9,-999.0000,-999.000,-999.000,-999.000
      74AB29_1,    I5,    21,  1,      3,     3.,2,19871118,1029,-33.0117,  36.5150, 3304,   3104.6,   2.1461,  34.8060,2,  34.8054,2,    218.1,2,  1.9040,    219.8,2,    70.86,2,    27.07,2,     0.00,2,     1.98,2, -999.000,5, -999.000,5, -999.000,5,-999.0000,5,  -999.00,9,-999.000,9,-999.0000,-999.000,-999.000,-999.000
      74AB29_1,    I5,    21,  1,      2,     2.,2,19871118,1029,-33.0117,  36.5150, 3304,   3205.6,   2.0796,  34.8020,2,  34.8017,2,    219.4,2,  1.8288,    219.8,2,    73.06,2,    27.17,2,    -0.01,2,     1.99,2, -999.000,5, -999.000,5, -999.000,5,-999.0000,5,  -999.00,9,-999.000,9,-999.0000,-999.000,-999.000,-999.000
      74AB29_1,    I5,    21,  1,      1,     1.,2,19871118,1029,-33.0117,  36.5150, 3304,   3316.2,   1.9671,  34.7950,2,  34.7931,2,    219.0,2,  1.7077,    217.7,2,  -999.00,5,  -999.00,5,  -999.00,5,  -999.00,5,    0.000,2,    0.000,2, -999.000,5,-999.0000,5,  -999.00,9,-999.000,9,-999.0000,-999.000,-999.000,-999.000
      74AB29_1,    I5,    22,  1,     22,    23.,2,19871118,1416,-33.0050,  36.6750, 4744,    100.6,  17.3863,  35.6560,2,  35.6465,2,    234.6,2, 17.3694,    231.4,2,     2.25,2,     0.78,2,     0.08,2,     0.25,2, -999.000,5, -999.000,5, -999.000,5,-999.0000,5,  -999.00,9,-999.000,9,-999.0000,-999.000,-999.000,-999.000
      74AB29_1,    I5,    22,  1,     23,    24.,2,19871118,1416,-33.0050,  36.6750, 4744,    101.6,  17.3853,  35.6560,2,  35.6486,2,    234.6,2, 17.3682,    230.5,2,     2.24,2,     0.68,2,     0.11,2,     0.26,2, -999.000,5, -999.000,5, -999.000,5,-999.0000,5,  -999.00,9,-999.000,9,-999.0000,-999.000,-999.000,-999.000
      74AB29_1,    I5,    22,  1,     21,    22.,2,19871118,1416,-33.0050,  36.6750, 4744,    204.4,  16.5453,  35.5860,2,  35.5675,2,    221.1,2, 16.5120,    211.5,2,     3.42,2,     4.30,2,     0.01,2,     0.45,2, -999.000,5, -999.000,5, -999.000,5,-999.0000,5,  -999.00,9,-999.000,9,-999.0000,-999.000,-999.000,-999.000
      74AB29_1,    I5,    22,  1,     20,    21.,2,19871118,1416,-33.0050,  36.6750, 4744,    301.0,  15.4593,  35.5000,2,  35.4789,2,    213.7,2, 15.4124,    219.3,2,     3.59,2,     5.76,2,     0.02,2,     0.57,2, -999.000,5, -999.000,5, -999.000,5,-999.0000,5,  -999.00,9,-999.000,9,-999.0000,-999.000,-999.000,-999.000
      74AB29_1,    I5,    22,  1,     19,    20.,2,19871118,1416,-33.0050,  36.6750, 4744,    401.2,  14.3544,  35.3980,2,  35.3859,2,    218.4,2, 14.2948,    222.3,2,     3.60,2,     7.03,2,     0.02,2,     0.64,2, -999.000,5, -999.000,5, -999.000,5,-999.0000,5,  -999.00,9,-999.000,9,-999.0000,-999.000,-999.000,-999.000
      74AB29_1,    I5,    22,  1,     18,    19.,2,19871118,1416,-33.0050,  36.6750, 4744,    599.4,  12.5194,  35.1470,2,  35.1305,2,    221.9,2, 12.4376,    218.5,2,     4.60,2,    11.14,2,     0.01,2,     0.90,2, -999.000,5, -999.000,5, -999.000,5,-999.0000,5,  -999.00,9,-999.000,9,-999.0000,-999.000,-999.000,-999.000
      74AB29_1,    I5,    22,  1,     17,    18.,2,19871118,1416,-33.0050,  36.6750, 4744,    801.3,  10.2396,  34.8280,2,  34.8340,2,    217.0,2, 10.1426,    215.9,2,     7.45,2,    16.61,2,     0.00,2,     1.22,2, -999.000,5, -999.000,5, -999.000,5,-999.0000,5,  -999.00,9,-999.000,9,-999.0000,-999.000,-999.000,-999.000
      74AB29_1,    I5,    22,  1,     16,    17.,2,19871118,1416,-33.0050,  36.6750, 4744,   1000.1,   7.4594,  34.5800,2,  34.5641,2,    205.2,2,  7.3576,    202.9,2,    18.60,2,    24.73,2,     0.04,2,     1.72,2, -999.000,5, -999.000,5, -999.000,5,-999.0000,5,  -999.00,9,-999.000,9,-999.0000,-999.000,-999.000,-999.000
      74AB29_1,    I5,    22,  1,     15,    16.,2,19871118,1416,-33.0050,  36.6750, 4744,   1199.9,   5.0456,  34.4430,2,  34.4288,2,    199.1,2,  4.9436,    198.6,2,    34.42,2,    30.01,2,     0.04,2,     2.16,2, -999.000,5, -999.000,5, -999.000,5,-999.0000,5,  -999.00,9,-999.000,9,-999.0000,-999.000,-999.000,-999.000
      74AB29_1,    I5,    22,  1,     14,    14.,2,19871118,1416,-33.0050,  36.6750, 4744,   1800.3,   2.9489,  34.6400,2,  34.6372,2,    176.0,2,  2.8159,    174.7,2,    71.68,2,    32.74,2,    -0.02,2,     2.36,2, -999.000,5, -999.000,5, -999.000,5,-999.0000,5,  -999.00,9,-999.000,9,-999.0000,-999.000,-999.000,-999.000
      74AB29_1,    I5,    22,  1,     13,    13.,2,19871118,1416,-33.0050,  36.6750, 4744,   2100.0,   2.7015,  34.7290,2,  34.7345,2,    186.9,2,  2.5451,    188.1,2,    72.82,2,    30.69,2,     0.00,2,     2.18,2, -999.000,5, -999.000,5, -999.000,5,-999.0000,5,  -999.00,9,-999.000,9,-999.0000,-999.000,-999.000,-999.000
      74AB29_1,    I5,    22,  1,     12,    12.,2,19871118,1416,-33.0050,  36.6750, 4744,   2402.8,   2.5445,  34.7800,2,  34.7799,2,    200.3,2,  2.3627,    200.7,2,    69.67,2,    28.93,2,    -0.01,2,     2.07,2, -999.000,5, -999.000,5, -999.000,5,-999.0000,5,  -999.00,9,-999.000,9,-999.0000,-999.000,-999.000,-999.000
      74AB29_1,    I5,    22,  1,     11,    11.,2,19871118,1416,-33.0050,  36.6750, 4744,   2703.2,   2.3915,  34.8030,2,  34.8035,2,    211.6,2,  2.1839,    210.3,2,    68.00,2,    28.05,2,     0.01,2,     2.00,2, -999.000,5, -999.000,5, -999.000,5,-999.0000,5,  -999.00,9,-999.000,9,-999.0000,-999.000,-999.000,-999.000
      74AB29_1,    I5,    22,  1,     10,    10.,2,19871118,1416,-33.0050,  36.6750, 4744,   3002.2,   2.2375,  34.8070,2,  34.8090,2,    217.3,2,  2.0036,    216.4,2,    69.17,2,    27.46,2,     0.00,2,     1.95,2, -999.000,5, -999.000,5, -999.000,5,-999.0000,5,  -999.00,9,-999.000,9,-999.0000,-999.000,-999.000,-999.000
      74AB29_1,    I5,    22,  1,      9,     9.,2,19871118,1416,-33.0050,  36.6750, 4744,   3202.1,   2.0916,  34.8020,2,  34.8027,2,    218.1,2,  1.8408,    215.9,2,    71.66,2,    27.46,2,    -0.01,2,     1.95,2, -999.000,5, -999.000,5, -999.000,5,-999.0000,5,  -999.00,9,-999.000,9,-999.0000,-999.000,-999.000,-999.000
      74AB29_1,    I5,    22,  1,      8,     8.,2,19871118,1416,-33.0050,  36.6750, 4744,   3401.4,   1.9361,  34.7940,2,  34.7934,2,    220.7,2,  1.6686,    215.9,2,    78.29,2,    28.15,2,     0.03,2,     1.98,2, -999.000,5, -999.000,5, -999.000,5,-999.0000,5,  -999.00,9,-999.000,9,-999.0000,-999.000,-999.000,-999.000
      74AB29_1,    I5,    22,  1,      7,     7.,2,19871118,1416,-33.0050,  36.6750, 4744,   3603.8,   1.7266,  34.7780,2,  34.7789,2,    218.6,2,  1.4433,    219.4,2,    85.43,2,    28.73,2,     0.00,2,     2.08,2, -999.000,5, -999.000,5, -999.000,5,-999.0000,5,  -999.00,9,-999.000,9,-999.0000,-999.000,-999.000,-999.000
      74AB29_1,    I5,    22,  1,      6,     6.,2,19871118,1416,-33.0050,  36.6750, 4744,   3798.1,   1.5127,  34.7600,2,-999.0000,5,    219.9,2,  1.4807,    219.4,2,    92.41,2,    29.52,2,     0.04,2,     2.17,2, -999.000,5, -999.000,5, -999.000,5,-999.0000,5,  -999.00,9,-999.000,9,-999.0000,-999.000,-999.000,-999.000
      74AB29_1,    I5,    22,  1,      5,     5.,2,19871118,1416,-33.0050,  36.6750, 4744,   4008.7,   1.2357,  34.7410,2,  34.7439,2,    220.7,2,  0.9229,    219.0,2,   101.37,2,    30.49,2,     0.03,2,     2.18,2, -999.000,5, -999.000,5, -999.000,5,-999.0000,5,  -999.00,9,-999.000,9,-999.0000,-999.000,-999.000,-999.000
      74AB29_1,    I5,    22,  1,      4,     4.,2,19871118,1416,-33.0050,  36.6750, 4744,   4207.5,   1.0263,  34.7270,2,  34.7284,2,    220.7,2,  0.6981,    221.2,2,   106.68,2,    30.69,2,     0.01,2,     2.20,2, -999.000,5, -999.000,5, -999.000,5,-999.0000,5,  -999.00,9,-999.000,9,-999.0000,-999.000,-999.000,-999.000
      74AB29_1,    I5,    22,  1,      3,     3.,2,19871118,1416,-33.0050,  36.6750, 4744,   4410.6,   0.8428,  34.7130,2,  34.7154,2,    222.0,2,  0.4980,    222.0,2,   113.15,2,    31.37,2,     0.01,2,     2.26,2, -999.000,5, -999.000,5, -999.000,5,-999.0000,5,  -999.00,9,-999.000,9,-999.0000,-999.000,-999.000,-999.000
      74AB29_1,    I5,    22,  1,      2,     2.,2,19871118,1416,-33.0050,  36.6750, 4744,   4610.9,   0.6878,  34.7020,2,  34.7048,2,    222.5,2,  0.3256,    222.9,2,   118.12,2,    31.77,2,     0.00,2,     2.30,2, -999.000,5, -999.000,5, -999.000,5,-999.0000,5,  -999.00,9,-999.000,9,-999.0000,-999.000,-999.000,-999.000
      74AB29_1,    I5,    22,  1,      1,     1.,2,19871118,1416,-33.0050,  36.6750, 4744,   4757.1,   0.5788,  34.6930,2,  34.6948,2,    223.8,2,  0.2037,    222.9,2,   120.94,2,    31.86,2,    -0.02,2,     2.27,2, -999.000,5, -999.000,5, -999.000,5,-999.0000,5,  -999.00,9,-999.000,9,-999.0000,-999.000,-999.000,-999.000