BOTTLE,20060509WHPSIOSA
EXPOCODE,SECT_ID,STNNBR,CASTNO,SAMPNO,BTLNBR,BTLNBR_FLAG_W,DATE,TIME,LATITUDE,LONGITUDE,DEPTH,CTDPRS,CTDTMP,CTDSAL,CTDSAL_FLAG_W,SALNTY,SALNTY_FLAG_W,CTDOXY,CTDOXY_FLAG_W,THETA,OXYGEN,OXYGEN_FLAG_W,SILCAT,SILCAT_FLAG_W,NITRAT,NITRAT_FLAG_W,NITRIT,NITRIT_FLAG_W,PHSPHT,PHSPHT_FLAG_W,CFC-11,CFC-11_FLAG_W,CFC-12,CFC-12_FLAG_W,TRITUM,TRITUM_FLAG_W,HELIUM,HELIUM_FLAG_W,DELHE3,DELHE3_FLAG_W,NEON,NEON_FLAG_W,HELIER,TRITER,NEONER,DELHER
,,,,,,,,,,,,DBAR,IPTS-68,PSS-78,,PSS-78,,UMOL/KG,,IPTS-68,UMOL/KG,,UMOL/KG,,UMOL/KG,,UMOL/KG,,UMOL/KG,,PMOL/KG,,PMOL/KG,,TU,,UMOL/KG,,PERCNT,,NMOL/KG,,NMOL/KG,TU,NMOL/KG,PERCNT
      74AB29_1,    I5,    98,  1,     24,    24.,2,19871214,0514,-34.1650, 109.7050, 3260,     15.3,  17.1513,  35.7360,2,  35.7321,2,    248.1,2, 17.1488,    243.1,2,     1.31,2,     0.10,2,     0.00,2,     0.18,2, -999.000,5, -999.000,5, -999.000,5,-999.0000,5,  -999.00,9,-999.000,9,-999.0000,-999.000,-999.000,-999.000
      74AB29_1,    I5,    98,  1,     23,    23.,2,19871214,0514,-34.1650, 109.7050, 3260,    102.2,  14.7604,  35.5450,2,  35.5507,2,    245.4,2, 14.7451,    244.0,2,     1.14,2,     0.10,2,     0.00,2,     0.26,2, -999.000,5, -999.000,5, -999.000,5,-999.0000,5,  -999.00,9,-999.000,9,-999.0000,-999.000,-999.000,-999.000
      74AB29_1,    I5,    98,  1,     22,    22.,2,19871214,0514,-34.1650, 109.7050, 3260,    201.1,  13.0414,  35.2840,2,  35.2463,2,    246.2,2, 13.0136,    242.8,2,     1.31,2,     4.01,2,     0.00,2,     0.47,2, -999.000,5, -999.000,5, -999.000,5,-999.0000,5,  -999.00,9,-999.000,9,-999.0000,-999.000,-999.000,-999.000
      74AB29_1,    I5,    98,  1,     21,    21.,2,19871214,0514,-34.1650, 109.7050, 3260,    302.3,  11.3710,  34.9660,2,  34.9681,2,    244.5,2, 11.3328,    244.1,2,     1.95,2,     8.70,2,     0.00,2,     0.74,2, -999.000,5, -999.000,5, -999.000,5,-999.0000,5,  -999.00,9,-999.000,9,-999.0000,-999.000,-999.000,-999.000
      74AB29_1,    I5,    98,  1,     20,    20.,2,19871214,0514,-34.1650, 109.7050, 3260,    399.7,   9.9441,  34.7480,2,  34.7449,2,    244.4,2,  9.8975,    245.9,2,     3.26,2,    13.19,2,     0.00,2,     1.01,2, -999.000,5, -999.000,5, -999.000,5,-999.0000,5,  -999.00,9,-999.000,9,-999.0000,-999.000,-999.000,-999.000
      74AB29_1,    I5,    98,  1,     19,    19.,2,19871214,0514,-34.1650, 109.7050, 3260,    501.6,   9.4297,  34.6940,2,  34.6869,2,    241.0,2,  9.3729,    239.0,2,     4.23,2,    15.83,2,     0.00,2,     1.13,2, -999.000,5, -999.000,5, -999.000,5,-999.0000,5,  -999.00,9,-999.000,9,-999.0000,-999.000,-999.000,-999.000
      74AB29_1,    I5,    98,  1,     18,    18.,2,19871214,0514,-34.1650, 109.7050, 3260,    598.6,   8.9607,  34.6450,2,  34.6433,2,    238.8,2,  8.8946,    236.4,2,     5.05,2,    17.59,2,     0.00,2,     1.26,2, -999.000,5, -999.000,5, -999.000,5,-999.0000,5,  -999.00,9,-999.000,9,-999.0000,-999.000,-999.000,-999.000
      74AB29_1,    I5,    98,  1,     17,    17.,2,19871214,0514,-34.1650, 109.7050, 3260,    699.4,   8.3218,  34.5620,2,  34.5606,2,    228.8,2,  8.2475,    229.4,2,     7.34,2,    20.23,2,     0.00,2,     1.42,2, -999.000,5, -999.000,5, -999.000,5,-999.0000,5,  -999.00,9,-999.000,9,-999.0000,-999.000,-999.000,-999.000
      74AB29_1,    I5,    98,  1,     16,    16.,2,19871214,0514,-34.1650, 109.7050, 3260,    798.6,   7.2309,  34.4890,2,  34.4881,2,    204.8,2,  7.1521,    203.8,2,    14.67,2,    24.93,2,     0.00,2,     1.72,2, -999.000,5, -999.000,5, -999.000,5,-999.0000,5,  -999.00,9,-999.000,9,-999.0000,-999.000,-999.000,-999.000
      74AB29_1,    I5,    98,  1,     15,    15.,2,19871214,0514,-34.1650, 109.7050, 3260,    901.1,   5.7750,  34.4120,2,  34.4102,2,    197.4,2,  5.6954,    197.7,2,    24.47,2,    28.74,2,     0.00,2,     1.99,2, -999.000,5, -999.000,5, -999.000,5,-999.0000,5,  -999.00,9,-999.000,9,-999.0000,-999.000,-999.000,-999.000
      74AB29_1,    I5,    98,  1,     14,    14.,2,19871214,0514,-34.1650, 109.7050, 3260,   1000.2,   4.4527,  34.3760,2,  34.3715,2,    195.2,2,  4.3738,    196.0,2,    35.72,2,    31.28,2,     0.00,2,     2.16,2, -999.000,5, -999.000,5, -999.000,5,-999.0000,5,  -999.00,9,-999.000,9,-999.0000,-999.000,-999.000,-999.000
      74AB29_1,    I5,    98,  1,     13,    13.,2,19871214,0514,-34.1650, 109.7050, 3260,   1151.0,   3.6578,  34.4280,2,  34.4259,2,    178.7,2,  3.5726,    178.2,2,    53.36,2,    33.73,2,     0.00,2,     2.38,2, -999.000,5, -999.000,5, -999.000,5,-999.0000,5,  -999.00,9,-999.000,9,-999.0000,-999.000,-999.000,-999.000
      74AB29_1,    I5,    98,  1,     12,    12.,2,19871214,0514,-34.1650, 109.7050, 3260,   1300.7,   3.2959,  34.4950,2,  34.4981,2,    166.0,2,  3.2016,    163.0,2,    66.90,2,    34.80,2,     0.00,2,     2.46,2, -999.000,5, -999.000,5, -999.000,5,-999.0000,5,  -999.00,9,-999.000,9,-999.0000,-999.000,-999.000,-999.000
      74AB29_1,    I5,    98,  1,     11,    11.,2,19871214,0514,-34.1650, 109.7050, 3260,   1500.2,   2.9484,  34.5660,2,  34.5633,2,    162.5,2,  2.8412,    160.3,2,    75.24,2,    34.70,2,     0.00,2,     2.47,2, -999.000,5, -999.000,5, -999.000,5,-999.0000,5,  -999.00,9,-999.000,9,-999.0000,-999.000,-999.000,-999.000
      74AB29_1,    I5,    98,  1,     10,    10.,2,19871214,0514,-34.1650, 109.7050, 3260,   1700.3,   2.7060,  34.6390,2,  34.6331,2,    161.7,2,  2.5848,    160.3,2,    83.89,2,    34.41,2,     0.00,2,     2.41,2, -999.000,5, -999.000,5, -999.000,5,-999.0000,5,  -999.00,9,-999.000,9,-999.0000,-999.000,-999.000,-999.000
      74AB29_1,    I5,    98,  1,      9,     9.,2,19871214,0514,-34.1650, 109.7050, 3260,   1898.5,   2.5235,  34.6830,2,  34.6824,2,    163.8,2,  2.3877,    162.9,2,    90.92,2,    33.92,2,     0.00,2,     2.38,2, -999.000,5, -999.000,5, -999.000,5,-999.0000,5,  -999.00,9,-999.000,9,-999.0000,-999.000,-999.000,-999.000
      74AB29_1,    I5,    98,  1,      8,     8.,2,19871214,0514,-34.1650, 109.7050, 3260,   2098.5,   2.3330,  34.7110,2,  34.7089,2,    166.4,2,  2.1827,    166.0,2,    98.29,2,    33.72,2,     0.00,2,     2.38,2, -999.000,5, -999.000,5, -999.000,5,-999.0000,5,  -999.00,9,-999.000,9,-999.0000,-999.000,-999.000,-999.000
      74AB29_1,    I5,    98,  1,      7,     7.,2,19871214,0514,-34.1650, 109.7050, 3260,   2299.6,   2.1541,  34.7240,2,  34.7207,2,    169.9,2,  1.9889,    169.9,2,   104.01,2,    33.62,2,     0.00,2,     2.38,2, -999.000,5, -999.000,5, -999.000,5,-999.0000,5,  -999.00,9,-999.000,9,-999.0000,-999.000,-999.000,-999.000
      74AB29_1,    I5,    98,  1,      6,     6.,2,19871214,0514,-34.1650, 109.7050, 3260,   2502.6,   2.0056,  34.7290,2,  34.7266,2,    174.7,2,  1.8246,    173.8,2,   107.45,2,    33.43,2,     0.00,2,     2.36,2, -999.000,5, -999.000,5, -999.000,5,-999.0000,5,  -999.00,9,-999.000,9,-999.0000,-999.000,-999.000,-999.000
      74AB29_1,    I5,    98,  1,      5,     5.,2,19871214,0514,-34.1650, 109.7050, 3260,   2601.4,   1.9326,  34.7300,2,  34.7298,2,    176.0,2,  1.7439,    176.8,2,   107.47,2,    33.23,2,     0.00,2,     2.32,2, -999.000,5, -999.000,5, -999.000,5,-999.0000,5,  -999.00,9,-999.000,9,-999.0000,-999.000,-999.000,-999.000
      74AB29_1,    I5,    98,  1,      4,     4.,2,19871214,0514,-34.1650, 109.7050, 3260,   2800.1,   1.7136,  34.7320,2,  34.7331,2,    182.5,2,  1.5108,    184.7,2,   110.60,2,    33.04,2,     0.00,2,     2.31,2, -999.000,5, -999.000,5, -999.000,5,-999.0000,5,  -999.00,9,-999.000,9,-999.0000,-999.000,-999.000,-999.000
      74AB29_1,    I5,    98,  1,      2,     2.,2,19871214,0514,-34.1650, 109.7050, 3260,   2999.6,   1.5177,  34.7290,2,  34.7278,2,    186.8,2,  1.3003,    189.0,2,   113.73,2,    32.94,2,     0.00,2,     2.29,2, -999.000,5, -999.000,5, -999.000,5,-999.0000,5,  -999.00,9,-999.000,9,-999.0000,-999.000,-999.000,-999.000
      74AB29_1,    I5,    98,  1,      3,     3.,2,19871214,0514,-34.1650, 109.7050, 3260,   3000.7,   1.5197,  34.7290,2,  34.7262,2,    187.3,2,  1.3021,    188.6,2,   113.88,2,    33.23,2,     0.00,2,     2.30,2, -999.000,5, -999.000,5, -999.000,5,-999.0000,5,  -999.00,9,-999.000,9,-999.0000,-999.000,-999.000,-999.000
      74AB29_1,    I5,    98,  1,      1,     1.,2,19871214,0514,-34.1650, 109.7050, 3260,   3303.5,   1.3587,  34.7230,2,  34.7246,2,    188.6,2,  1.1155,    193.8,2,   119.63,2,    33.23,2,     0.00,2,     2.33,2, -999.000,5, -999.000,5, -999.000,5,-999.0000,5,  -999.00,9,-999.000,9,-999.0000,-999.000,-999.000,-999.000
      74AB29_1,    I5,    99,  1,     24,    24.,2,19871214,0920,-34.1650, 110.0017, 2572,      2.0,  17.2943,  34.7300,2,  35.7250,2,    176.3,2, 17.2940,    240.9,2,     1.19,2,     0.10,2,     0.00,2,     0.19,2, -999.000,5, -999.000,5, -999.000,5,-999.0000,5,  -999.00,9,-999.000,9,-999.0000,-999.000,-999.000,-999.000
      74AB29_1,    I5,    99,  1,     23,    23.,2,19871214,0920,-34.1650, 110.0017, 2572,    102.3,  14.6059,  35.5470,2,  35.5283,2,    247.1,2, 14.5907,    239.3,2,     1.19,2,     1.76,2,     0.00,2,     0.32,2, -999.000,5, -999.000,5, -999.000,5,-999.0000,5,  -999.00,9,-999.000,9,-999.0000,-999.000,-999.000,-999.000
      74AB29_1,    I5,    99,  1,     22,    22.,2,19871214,0920,-34.1650, 110.0017, 2572,    201.4,  12.9184,  35.3010,2,  35.2390,2,    244.9,2, 12.8907,    244.1,2,     1.20,2,     4.79,2,     0.00,2,     0.49,2,    2.476,2,    1.296,2, -999.000,5,-999.0000,5,  -999.00,9,-999.000,9,-999.0000,-999.000,-999.000,-999.000
      74AB29_1,    I5,    99,  1,     21,    21.,2,19871214,0920,-34.1650, 110.0017, 2572,    301.8,  11.1440,  34.9900,2,  34.9510,2,    245.8,2, 11.1063,    245.0,2,     2.36,2,    10.16,2,     0.00,2,     0.82,2,    2.684,2,    1.327,2, -999.000,5,-999.0000,5,  -999.00,9,-999.000,9,-999.0000,-999.000,-999.000,-999.000
      74AB29_1,    I5,    99,  1,     20,    20.,2,19871214,0920,-34.1650, 110.0017, 2572,    403.4,   9.8271,  34.7300,2,  34.7250,2,    250.1,2,  9.7805,    247.2,2,     3.35,2,    13.68,2,     0.00,2,     1.01,2,    2.660,2,    1.388,2, -999.000,5,-999.0000,5,  -999.00,9,-999.000,9,-999.0000,-999.000,-999.000,-999.000
      74AB29_1,    I5,    99,  1,     19,    19.,2,19871214,0920,-34.1650, 110.0017, 2572,    499.5,   9.4172,  34.6860,2,  34.6846,2,    240.1,2,  9.3607,    239.4,2,     4.01,2,    16.13,2,     0.00,2,     1.16,2,    2.284,2,    1.208,2, -999.000,5,-999.0000,5,  -999.00,9,-999.000,9,-999.0000,-999.000,-999.000,-999.000
      74AB29_1,    I5,    99,  1,     18,    18.,2,19871214,0920,-34.1650, 110.0017, 2572,    600.4,   8.9452,  34.6260,2,  34.6374,2,    238.3,2,  8.8790,    236.8,2,     5.17,2,    17.89,2,     0.00,2,     1.28,2,    2.180,2,    1.153,2, -999.000,5,-999.0000,5,  -999.00,9,-999.000,9,-999.0000,-999.000,-999.000,-999.000
      74AB29_1,    I5,    99,  1,     17,    17.,2,19871214,0920,-34.1650, 110.0017, 2572,    699.0,   8.3063,  34.5560,2,  34.5582,2,    226.2,2,  8.2322,    226.8,2,     7.48,2,    20.63,2,     0.00,2,     1.49,2,    1.690,2,    0.940,2, -999.000,5,-999.0000,5,  -999.00,9,-999.000,9,-999.0000,-999.000,-999.000,-999.000
      74AB29_1,    I5,    99,  1,     16,    16.,2,19871214,0920,-34.1650, 110.0017, 2572,    798.1,   7.2589,  34.4850,2,  34.4930,2,    205.3,2,  7.1800,    203.8,2,    14.56,2,    25.03,2,     0.00,2,     1.73,2,    0.828,2,    0.422,2, -999.000,5,-999.0000,5,  -999.00,9,-999.000,9,-999.0000,-999.000,-999.000,-999.000
      74AB29_1,    I5,    99,  1,     15,    15.,2,19871214,0920,-34.1650, 110.0017, 2572,    899.8,   5.7745,  34.4180,2,  34.4127,2,    194.4,2,  5.6950,    196.0,2,    24.76,2,    28.84,2,     0.00,2,     2.00,2,    0.416,2,    0.243,2, -999.000,5,-999.0000,5,  -999.00,9,-999.000,9,-999.0000,-999.000,-999.000,-999.000
      74AB29_1,    I5,    99,  1,     14,    14.,2,19871214,0920,-34.1650, 110.0017, 2572,    999.6,   4.5477,  34.3790,2,  34.3853,2,    195.2,2,  4.4681,    196.0,2,    35.30,2,    31.28,2,     0.00,2,     2.21,2,    0.254,2,    0.145,2, -999.000,5,-999.0000,5,  -999.00,9,-999.000,9,-999.0000,-999.000,-999.000,-999.000
      74AB29_1,    I5,    99,  1,     13,    13.,2,19871214,0920,-34.1650, 110.0017, 2572,   1099.8,   3.8053,  34.4040,2,  34.4133,2,    185.6,2,  3.7231,    183.8,2,    48.47,2,    33.14,2,     0.00,2,     2.35,2, -999.000,5, -999.000,5, -999.000,5,-999.0000,5,  -999.00,9,-999.000,9,-999.0000,-999.000,-999.000,-999.000
      74AB29_1,    I5,    99,  1,     12,    12.,2,19871214,0920,-34.1650, 110.0017, 2572,   1200.6,   3.4954,  34.4500,2,  34.4459,2,    173.9,2,  3.4075,    173.0,2,    58.33,2,    34.02,2,     0.00,2,     2.42,2, -999.000,5, -999.000,5, -999.000,5,-999.0000,5,  -999.00,9,-999.000,9,-999.0000,-999.000,-999.000,-999.000
      74AB29_1,    I5,    99,  1,     11,    11.,2,19871214,0920,-34.1650, 110.0017, 2572,   1301.4,   3.2909,  34.5030,2,  34.4979,2,    164.7,2,  3.1966,    166.0,2,    65.90,2,    34.61,2,     0.00,2,     2.46,2, -999.000,5, -999.000,5, -999.000,5,-999.0000,5,  -999.00,9,-999.000,9,-999.0000,-999.000,-999.000,-999.000
      74AB29_1,    I5,    99,  1,     10,    10.,2,19871214,0920,-34.1650, 110.0017, 2572,   1399.8,   3.1084,  34.5420,2,  34.5333,2,    161.7,2,  3.0078,    159.5,2,    72.96,2,    34.70,2,     0.00,2,     2.48,2, -999.000,5, -999.000,5, -999.000,5,-999.0000,5,  -999.00,9,-999.000,9,-999.0000,-999.000,-999.000,-999.000
      74AB29_1,    I5,    99,  1,      9,     9.,2,19871214,0920,-34.1650, 110.0017, 2572,   1499.8,   1.9436,  34.5740,2,  34.5720,2,    160.8,2,  1.8480,    159.5,2,    76.90,2,    34.70,2,     0.00,2,     2.47,2, -999.000,5, -999.000,5, -999.000,5,-999.0000,5,  -999.00,9,-999.000,9,-999.0000,-999.000,-999.000,-999.000
      74AB29_1,    I5,    99,  1,      8,     8.,2,19871214,0920,-34.1650, 110.0017, 2572,   1598.2,   2.8265,  34.6060,2,  34.6101,2,    160.8,2,  2.7124,    158.6,2,    81.83,2,    34.31,2,     0.00,2,     2.45,2, -999.000,5, -999.000,5, -999.000,5,-999.0000,5,  -999.00,9,-999.000,9,-999.0000,-999.000,-999.000,-999.000
      74AB29_1,    I5,    99,  1,      7,     7.,2,19871214,0920,-34.1650, 110.0017, 2572,   1699.1,   2.6995,  34.6380,2,  34.6390,2,    161.2,2,  2.5785,    159.5,2,    85.77,2,    34.50,2,     0.00,2,     2.46,2, -999.000,5, -999.000,5, -999.000,5,-999.0000,5,  -999.00,9,-999.000,9,-999.0000,-999.000,-999.000,-999.000
      74AB29_1,    I5,    99,  1,      6,     6.,2,19871214,0920,-34.1650, 110.0017, 2572,   1799.2,   2.6030,  34.6660,2,  34.6682,2,    161.2,2,  2.4747,    161.2,2,    90.03,2,    34.21,2,     0.00,2,     2.43,2, -999.000,5, -999.000,5, -999.000,5,-999.0000,5,  -999.00,9,-999.000,9,-999.0000,-999.000,-999.000,-999.000
      74AB29_1,    I5,    99,  1,      5,     5.,2,19871214,0920,-34.1650, 110.0017, 2572,   1902.6,   2.5015,  34.6870,2,-999.0000,5,    163.0,2,  2.5048,    162.5,2,    94.13,2,    33.62,2,     0.00,2,     2.44,2, -999.000,5, -999.000,5, -999.000,5,-999.0000,5,  -999.00,9,-999.000,9,-999.0000,-999.000,-999.000,-999.000
      74AB29_1,    I5,    99,  1,      4,     4.,2,19871214,0920,-34.1650, 110.0017, 2572,   1999.8,   2.4035,  34.7010,2,  34.7001,2,    163.8,2,  2.2607,    163.8,2,    97.08,2,    33.33,2,     0.00,2,     2.45,2, -999.000,5, -999.000,5, -999.000,5,-999.0000,5,  -999.00,9,-999.000,9,-999.0000,-999.000,-999.000,-999.000
      74AB29_1,    I5,    99,  1,      3,     3.,2,19871214,0920,-34.1650, 110.0017, 2572,   2202.4,   2.1901,  34.7190,2,  34.7172,2,    166.9,2,  2.0329,    168.1,2,   103.30,2,    33.04,2,     0.00,2,     2.39,2, -999.000,5, -999.000,5, -999.000,5,-999.0000,5,  -999.00,9,-999.000,9,-999.0000,-999.000,-999.000,-999.000
      74AB29_1,    I5,    99,  1,      2,     2.,2,19871214,0920,-34.1650, 110.0017, 2572,   2402.2,   2.0611,  34.7260,2,  34.7290,2,    170.8,2,  1.8882,    171.2,2,   105.92,2,    32.94,2,     0.00,2,     2.35,2, -999.000,5, -999.000,5, -999.000,5,-999.0000,5,  -999.00,9,-999.000,9,-999.0000,-999.000,-999.000,-999.000
      74AB29_1,    I5,    99,  1,      1,     1.,2,19871214,0920,-34.1650, 110.0017, 2572,   2589.0,   1.8571,  34.7300,2,  34.7335,2,    176.0,2,  1.6710,    178.1,2,   109.69,2,    32.84,2,     0.00,2,     2.33,2, -999.000,5, -999.000,5, -999.000,5,-999.0000,5,  -999.00,9,-999.000,9,-999.0000,-999.000,-999.000,-999.000