BOTTLE,20060509WHPSIOSA
EXPOCODE,SECT_ID,STNNBR,CASTNO,SAMPNO,BTLNBR,BTLNBR_FLAG_W,DATE,TIME,LATITUDE,LONGITUDE,DEPTH,CTDPRS,CTDTMP,CTDSAL,CTDSAL_FLAG_W,SALNTY,SALNTY_FLAG_W,CTDOXY,CTDOXY_FLAG_W,THETA,OXYGEN,OXYGEN_FLAG_W,SILCAT,SILCAT_FLAG_W,NITRAT,NITRAT_FLAG_W,NITRIT,NITRIT_FLAG_W,PHSPHT,PHSPHT_FLAG_W,CFC-11,CFC-11_FLAG_W,CFC-12,CFC-12_FLAG_W,TRITUM,TRITUM_FLAG_W,HELIUM,HELIUM_FLAG_W,DELHE3,DELHE3_FLAG_W,NEON,NEON_FLAG_W,HELIER,TRITER,NEONER,DELHER
,,,,,,,,,,,,DBAR,IPTS-68,PSS-78,,PSS-78,,UMOL/KG,,IPTS-68,UMOL/KG,,UMOL/KG,,UMOL/KG,,UMOL/KG,,UMOL/KG,,PMOL/KG,,PMOL/KG,,TU,,UMOL/KG,,PERCNT,,NMOL/KG,,NMOL/KG,TU,NMOL/KG,PERCNT
      74AB29_1,    I5,    16,  1,     23,    24.,2,19871117,1310,-32.6917,  34.1717, 2446,     11.1,  19.7248,  35.6760,2,  35.6794,2,    226.9,2, 19.7228,    232.3,2,     1.56,2,     0.10,2,     0.01,2,     0.18,2, -999.000,5, -999.000,5, -999.000,5,-999.0000,5,  -999.00,9,-999.000,9,-999.0000,-999.000,-999.000,-999.000
      74AB29_1,    I5,    16,  1,     22,    23.,2,19871117,1310,-32.6917,  34.1717, 2446,    101.5,  18.1608,  35.6670,2,  35.6743,2,    227.3,2, 18.1432,    224.0,2,     2.57,2,     1.76,2,     0.07,2,     0.29,2, -999.000,5, -999.000,5, -999.000,5,-999.0000,5,  -999.00,9,-999.000,9,-999.0000,-999.000,-999.000,-999.000
      74AB29_1,    I5,    16,  1,     21,    22.,2,19871117,1310,-32.6917,  34.1717, 2446,    201.6,  17.2223,  35.6340,2,  35.6395,2,    225.0,2, 17.1886,    228.8,2,     3.10,2,     2.44,2,     0.01,2,     0.34,2, -999.000,5, -999.000,5, -999.000,5,-999.0000,5,  -999.00,9,-999.000,9,-999.0000,-999.000,-999.000,-999.000
      74AB29_1,    I5,    16,  1,     20,    21.,2,19871117,1310,-32.6917,  34.1717, 2446,    303.3,  16.5913,  35.5720,2,  35.5762,2,    218.5,2, 16.5417,    217.1,2,     3.77,2,     4.40,2,     0.00,2,     0.44,2, -999.000,5, -999.000,5, -999.000,5,-999.0000,5,  -999.00,9,-999.000,9,-999.0000,-999.000,-999.000,-999.000
      74AB29_1,    I5,    16,  1,     19,    20.,2,19871117,1310,-32.6917,  34.1717, 2446,    402.9,  15.3493,  35.4740,2,  35.4711,2,    211.5,2, 15.2867,    211.5,2,     4.11,2,     6.64,2,     0.00,2,     0.59,2, -999.000,5, -999.000,5, -999.000,5,-999.0000,5,  -999.00,9,-999.000,9,-999.0000,-999.000,-999.000,-999.000
      74AB29_1,    I5,    16,  1,     18,    19.,2,19871117,1310,-32.6917,  34.1717, 2446,    501.1,  13.9384,  35.3330,2,  35.3240,2,    217.1,2, 13.8652,    215.8,2,     4.45,2,     8.89,2,    -0.02,2,     0.74,2, -999.000,5, -999.000,5, -999.000,5,-999.0000,5,  -999.00,9,-999.000,9,-999.0000,-999.000,-999.000,-999.000
      74AB29_1,    I5,    16,  1,     17,    18.,2,19871117,1310,-32.6917,  34.1717, 2446,    603.0,  12.7444,  35.1720,2,  35.1526,2,    213.6,2, 12.6612,    217.2,2,     5.14,2,    11.24,2,    -0.02,2,     0.89,2, -999.000,5, -999.000,5, -999.000,5,-999.0000,5,  -999.00,9,-999.000,9,-999.0000,-999.000,-999.000,-999.000
      74AB29_1,    I5,    16,  1,     16,    17.,2,19871117,1310,-32.6917,  34.1717, 2446,    700.2,  11.6670,  34.9750,2,  35.0063,2,    216.6,2, 11.5754,    215.9,2,     5.83,2,    13.68,2,    -0.02,2,     1.03,2, -999.000,5, -999.000,5, -999.000,5,-999.0000,5,  -999.00,9,-999.000,9,-999.0000,-999.000,-999.000,-999.000
      74AB29_1,    I5,    16,  1,     15,    16.,2,19871117,1310,-32.6917,  34.1717, 2446,    802.8,  10.1141,  34.8340,2,-999.0000,5,    216.6,2, 10.0678,    215.9,2,     7.70,2,    16.32,2,     0.00,2,     1.20,2, -999.000,5, -999.000,5, -999.000,5,-999.0000,5,  -999.00,9,-999.000,9,-999.0000,-999.000,-999.000,-999.000
      74AB29_1,    I5,    16,  1,     14,    15.,2,19871117,1310,-32.6917,  34.1717, 2446,    905.3,   8.6347,  34.7130,2,-999.0000,5,    207.0,2,  8.5938,    207.2,2,    12.46,2,    20.23,2,    -0.01,2,     1.46,2, -999.000,5, -999.000,5, -999.000,5,-999.0000,5,  -999.00,9,-999.000,9,-999.0000,-999.000,-999.000,-999.000
      74AB29_1,    I5,    16,  1,     12,    13.,2,19871117,1310,-32.6917,  34.1717, 2446,   1006.3,   7.3129,  34.5550,2,  34.5561,2,    197.4,2,  7.2115,    202.5,2,    19.78,2,    25.12,2,    -0.02,2,     1.79,2, -999.000,5, -999.000,5, -999.000,5,-999.0000,5,  -999.00,9,-999.000,9,-999.0000,-999.000,-999.000,-999.000
      74AB29_1,    I5,    16,  1,     13,    14.,2,19871117,1310,-32.6917,  34.1717, 2446,   1007.7,   7.2949,  34.5550,2,  34.5567,2,    197.4,2,  7.1935,    202.1,2,    19.78,2,    25.12,2,    -0.01,2,     1.78,2, -999.000,5, -999.000,5, -999.000,5,-999.0000,5,  -999.00,9,-999.000,9,-999.0000,-999.000,-999.000,-999.000
      74AB29_1,    I5,    16,  1,     10,    11.,2,19871117,1310,-32.6917,  34.1717, 2446,   1105.1,   6.0860,  34.4760,2,  34.4756,2,    196.1,2,  5.9841,    198.6,2,    27.46,2,    28.06,2,    -0.01,2,     2.00,2, -999.000,5, -999.000,5, -999.000,5,-999.0000,5,  -999.00,9,-999.000,9,-999.0000,-999.000,-999.000,-999.000
      74AB29_1,    I5,    16,  1,     11,    12.,2,19871117,1310,-32.6917,  34.1717, 2446,   1105.8,   6.0795,  34.4760,2,  34.4814,2,    196.1,2,  5.9776,    198.2,2,    27.62,2,    28.06,2,    -0.01,2,     1.99,2, -999.000,5, -999.000,5, -999.000,5,-999.0000,5,  -999.00,9,-999.000,9,-999.0000,-999.000,-999.000,-999.000
      74AB29_1,    I5,    16,  1,      9,    10.,2,19871117,1310,-32.6917,  34.1717, 2446,   1206.8,   5.0921,  34.4370,2,  34.4379,2,    193.9,2,  4.9891,    195.6,2,    35.64,2,    30.21,2,    -0.02,2,     2.17,2, -999.000,5, -999.000,5, -999.000,5,-999.0000,5,  -999.00,9,-999.000,9,-999.0000,-999.000,-999.000,-999.000
      74AB29_1,    I5,    16,  1,      8,     8.,2,19871117,1310,-32.6917,  34.1717, 2446,   1406.9,   4.1188,  34.4920,2,  34.4972,2,    176.5,2,  4.0068,    177.3,2,    53.90,2,    32.85,2,    -0.01,2,     2.36,2, -999.000,5, -999.000,5, -999.000,5,-999.0000,5,  -999.00,9,-999.000,9,-999.0000,-999.000,-999.000,-999.000
      74AB29_1,    I5,    16,  1,      7,     7.,2,19871117,1310,-32.6917,  34.1717, 2446,   1506.1,   3.6853,  34.5410,2,  34.5406,2,    169.1,2,  3.5692,    169.9,2,    62.62,2,    33.53,2,    -0.01,2,     2.41,2, -999.000,5, -999.000,5, -999.000,5,-999.0000,5,  -999.00,9,-999.000,9,-999.0000,-999.000,-999.000,-999.000
      74AB29_1,    I5,    16,  1,      6,     6.,2,19871117,1310,-32.6917,  34.1717, 2446,   1609.1,   3.3699,  34.5740,2,  34.5910,2,    167.8,2,  3.2483,    168.6,2,    68.61,2,    33.43,2,     0.00,2,     2.40,2, -999.000,5, -999.000,5, -999.000,5,-999.0000,5,  -999.00,9,-999.000,9,-999.0000,-999.000,-999.000,-999.000
      74AB29_1,    I5,    16,  1,      5,     5.,2,19871117,1310,-32.6917,  34.1717, 2446,   1706.5,   3.2059,  34.6210,2,  34.6329,2,    167.3,2,  3.0777,    167.3,2,    73.26,2,    33.33,2,    -0.01,2,     2.38,2, -999.000,5, -999.000,5, -999.000,5,-999.0000,5,  -999.00,9,-999.000,9,-999.0000,-999.000,-999.000,-999.000
      74AB29_1,    I5,    16,  1,      4,     4.,2,19871117,1310,-32.6917,  34.1717, 2446,   1808.0,   2.9924,  34.6650,2,  34.6720,2,    169.5,2,  2.8580,    170.8,2,    75.52,2,    32.65,2,    -0.01,2,     2.34,2, -999.000,5, -999.000,5, -999.000,5,-999.0000,5,  -999.00,9,-999.000,9,-999.0000,-999.000,-999.000,-999.000
      74AB29_1,    I5,    16,  1,      3,     3.,2,19871117,1310,-32.6917,  34.1717, 2446,   2003.3,   2.7440,  34.7190,2,  34.7270,2,    180.8,2,  2.5957,    183.8,2,    74.02,2,    30.98,2,     0.02,2,     2.21,2, -999.000,5, -999.000,5, -999.000,5,-999.0000,5,  -999.00,9,-999.000,9,-999.0000,-999.000,-999.000,-999.000
      74AB29_1,    I5,    16,  1,      2,     2.,2,19871117,1310,-32.6917,  34.1717, 2446,   2257.0,   2.5690,  34.7670,2,  34.7724,2,    196.0,2,  2.4004,    196.4,2,    71.84,2,    29.52,2,    -0.01,2,     2.09,2, -999.000,5, -999.000,5, -999.000,5,-999.0000,5,  -999.00,9,-999.000,9,-999.0000,-999.000,-999.000,-999.000
      74AB29_1,    I5,    16,  1,      1,     1.,2,19871117,1310,-32.6917,  34.1717, 2446,   2457.7,   2.4525,  34.7900,2,  34.7899,2,    206.8,2,  2.2672,    206.8,2,    68.11,2,    28.25,2,    -0.02,2,     2.00,2, -999.000,5, -999.000,5, -999.000,5,-999.0000,5,  -999.00,9,-999.000,9,-999.0000,-999.000,-999.000,-999.000
      74AB29_1,    I5,    17,  1,     10,    12.,2,19871117,1930,-32.9000,  35.0017, 1593,     11.9,  20.0373,  35.6350,2,  35.6378,2,    226.1,2, 20.0351,    229.7,2,     1.73,2,     0.00,2,     0.00,2,  -999.00,5, -999.000,5, -999.000,5, -999.000,5,-999.0000,5,  -999.00,9,-999.000,9,-999.0000,-999.000,-999.000,-999.000
      74AB29_1,    I5,    17,  1,      9,    11.,2,19871117,1930,-32.9000,  35.0017, 1593,    105.2,  18.0368,  35.6610,2,  35.6658,2,    221.6,2, 18.0187,    225.3,2,     2.90,2,     1.76,2,     0.00,2,  -999.00,5, -999.000,5, -999.000,5, -999.000,5,-999.0000,5,  -999.00,9,-999.000,9,-999.0000,-999.000,-999.000,-999.000
      74AB29_1,    I5,    17,  1,      8,     9.,2,19871117,1930,-32.9000,  35.0017, 1593,    302.8,  16.2543,  35.5360,2,  35.5361,2,    208.0,2, 16.2055,    207.6,2,     4.08,2,     5.37,2,     0.00,2,  -999.00,5, -999.000,5, -999.000,5, -999.000,5,-999.0000,5,  -999.00,9,-999.000,9,-999.0000,-999.000,-999.000,-999.000
      74AB29_1,    I5,    17,  1,      7,     8.,2,19871117,1930,-32.9000,  35.0017, 1593,    401.8,  15.1643,  35.4480,2,  35.4498,2,    212.8,2, 15.1024,    209.7,2,     4.25,2,     6.94,2,     0.00,2,  -999.00,5, -999.000,5, -999.000,5, -999.000,5,-999.0000,5,  -999.00,9,-999.000,9,-999.0000,-999.000,-999.000,-999.000
      74AB29_1,    I5,    17,  1,      6,     7.,2,19871117,1930,-32.9000,  35.0017, 1593,    598.8,  12.5449,  35.1420,2,  35.1327,2,    211.0,2, 12.4631,    214.1,2,     5.43,2,    11.53,2,     0.00,2,  -999.00,5, -999.000,5, -999.000,5, -999.000,5,-999.0000,5,  -999.00,9,-999.000,9,-999.0000,-999.000,-999.000,-999.000
      74AB29_1,    I5,    17,  1,      5,     6.,2,19871117,1930,-32.9000,  35.0017, 1593,    797.9,  10.0436,  34.8370,2,-999.0000,5,    213.5,2,  9.9982,    212.8,2,     8.28,2,    16.61,2,     0.00,2,  -999.00,5, -999.000,5, -999.000,5, -999.000,5,-999.0000,5,  -999.00,9,-999.000,9,-999.0000,-999.000,-999.000,-999.000
      74AB29_1,    I5,    17,  1,      4,     5.,2,19871117,1930,-32.9000,  35.0017, 1593,   1001.0,   6.9084,  34.5410,2,  34.5235,2,    204.8,2,  6.8106,    201.6,2,    21.33,2,    25.71,2,     0.00,2,  -999.00,5, -999.000,5, -999.000,5, -999.000,5,-999.0000,5,  -999.00,9,-999.000,9,-999.0000,-999.000,-999.000,-999.000
      74AB29_1,    I5,    17,  1,      3,     4.,2,19871117,1930,-32.9000,  35.0017, 1593,   1099.2,   5.8215,  34.4500,2,  34.4457,2,    202.6,2,  5.7224,    203.4,2,    26.37,2,    27.96,2,     0.00,2,  -999.00,5, -999.000,5, -999.000,5, -999.000,5,-999.0000,5,  -999.00,9,-999.000,9,-999.0000,-999.000,-999.000,-999.000
      74AB29_1,    I5,    17,  1,      2,     3.,2,19871117,1930,-32.9000,  35.0017, 1593,   1198.5,   5.0411,  34.4260,2,  34.4345,2,    197.4,2,  4.9393,    197.7,2,    34.73,2,    29.82,2,     0.00,2,  -999.00,5,    0.621,2, -999.000,5, -999.000,5,-999.0000,5,  -999.00,9,-999.000,9,-999.0000,-999.000,-999.000,-999.000
      74AB29_1,    I5,    17,  1,      1,     2.,2,19871117,1930,-32.9000,  35.0017, 1593,   1399.9,   4.1473,  34.4970,2,  34.4995,2,    177.4,2,  4.0356,    177.3,2,    53.32,2,    32.26,2,     0.00,2,  -999.00,5,    0.228,2,    0.146,2, -999.000,5,-999.0000,5,  -999.00,9,-999.000,9,-999.0000,-999.000,-999.000,-999.000
      74AB29_1,    I5,    18,  1,     11,    24.,2,19871117,0008,-33.0017,  35.5833, 1474,     12.5,  19.8383,  35.6600,2,  35.6654,2,    230.0,2, 19.8360,    231.4,2,     1.44,2,     0.20,2,     0.00,2,     0.13,2, -999.000,5, -999.000,5, -999.000,5,-999.0000,5,  -999.00,9,-999.000,9,-999.0000,-999.000,-999.000,-999.000
      74AB29_1,    I5,    18,  1,     10,    23.,2,19871117,0008,-33.0017,  35.5833, 1474,    203.9,  16.7163,  35.5960,2,  35.5734,2,    218.5,2, 16.6829,    211.5,2,     3.58,2,     4.88,2,     0.01,2,     0.41,2, -999.000,5, -999.000,5, -999.000,5,-999.0000,5,  -999.00,9,-999.000,9,-999.0000,-999.000,-999.000,-999.000
      74AB29_1,    I5,    18,  1,      9,    22.,2,19871117,0008,-33.0017,  35.5833, 1474,    301.2,  15.6953,  35.5000,2,  35.4902,2,    208.9,2, 15.6479,    209.7,2,     3.92,2,     6.35,2,     0.00,2,     0.51,2, -999.000,5, -999.000,5, -999.000,5,-999.0000,5,  -999.00,9,-999.000,9,-999.0000,-999.000,-999.000,-999.000
      74AB29_1,    I5,    18,  1,      8,    21.,2,19871117,0008,-33.0017,  35.5833, 1474,    403.0,  14.4774,  35.3780,2,  35.3770,2,    211.0,2, 14.4172,    213.2,2,     4.09,2,     8.11,2,     0.00,2,     0.59,2, -999.000,5, -999.000,5, -999.000,5,-999.0000,5,  -999.00,9,-999.000,9,-999.0000,-999.000,-999.000,-999.000
      74AB29_1,    I5,    18,  1,      7,    20.,2,19871117,0008,-33.0017,  35.5833, 1474,    502.0,  13.5734,  35.2630,2,  35.2739,2,    221.0,2, 13.5014,    219.3,2,     4.09,2,     9.28,2,     0.00,2,     0.67,2, -999.000,5, -999.000,5, -999.000,5,-999.0000,5,  -999.00,9,-999.000,9,-999.0000,-999.000,-999.000,-999.000
      74AB29_1,    I5,    18,  1,      6,    19.,2,19871117,0008,-33.0017,  35.5833, 1474,    602.4,  12.1885,  35.0590,2,  35.0876,2,    215.8,2, 12.1077,    215.9,2,     5.26,2,    12.41,2,     0.01,2,     0.86,2, -999.000,5, -999.000,5, -999.000,5,-999.0000,5,  -999.00,9,-999.000,9,-999.0000,-999.000,-999.000,-999.000
      74AB29_1,    I5,    18,  1,      5,    18.,2,19871117,0008,-33.0017,  35.5833, 1474,    701.6,  11.0255,  34.9130,2,  34.9299,2,    215.3,2, 10.9369,    216.3,2,     6.75,2,    14.95,2,     0.00,2,     1.04,2, -999.000,5, -999.000,5, -999.000,5,-999.0000,5,  -999.00,9,-999.000,9,-999.0000,-999.000,-999.000,-999.000
      74AB29_1,    I5,    18,  1,      4,    16.,2,19871117,0008,-33.0017,  35.5833, 1474,   1001.4,   7.2544,  34.5490,2,-999.0000,5,    202.6,2,  7.2209,    202.9,2,    19.01,2,    25.02,2,     0.00,2,     1.70,2, -999.000,5, -999.000,5, -999.000,5,-999.0000,5,  -999.00,9,-999.000,9,-999.0000,-999.000,-999.000,-999.000
      74AB29_1,    I5,    18,  1,      3,    15.,2,19871117,0008,-33.0017,  35.5833, 1474,   1251.5,   4.6362,  34.4300,2,  34.4341,2,    193.9,2,  4.5332,    194.7,2,    39.57,2,    30.99,2,    -0.01,2,     2.12,2,    0.403,2,    0.242,2, -999.000,5,-999.0000,5,  -999.00,9,-999.000,9,-999.0000,-999.000,-999.000,-999.000
      74AB29_1,    I5,    18,  1,      2,    14.,2,19871117,0008,-33.0017,  35.5833, 1474,   1350.7,   4.1528,  34.4750,2,  34.4864,2,    180.8,2,  4.0455,    179.5,2,    51.51,2,    32.65,2,     0.00,2,     2.27,2,    0.251,2,    0.197,2, -999.000,5,-999.0000,5,  -999.00,9,-999.000,9,-999.0000,-999.000,-999.000,-999.000
      74AB29_1,    I5,    18,  1,      1,    13.,2,19871117,0008,-33.0017,  35.5833, 1474,   1469.9,   3.8498,  34.5360,2,  34.5413,2,    168.7,2,  3.7350,    170.8,2,    60.45,2,    33.33,2,     0.00,2,     2.33,2,    0.144,2, -999.000,5, -999.000,5,-999.0000,5,  -999.00,9,-999.000,9,-999.0000,-999.000,-999.000,-999.000