BOTTLE,20060509WHPSIOSA
EXPOCODE,SECT_ID,STNNBR,CASTNO,SAMPNO,BTLNBR,BTLNBR_FLAG_W,DATE,TIME,LATITUDE,LONGITUDE,DEPTH,CTDPRS,CTDTMP,CTDSAL,CTDSAL_FLAG_W,SALNTY,SALNTY_FLAG_W,CTDOXY,CTDOXY_FLAG_W,THETA,OXYGEN,OXYGEN_FLAG_W,SILCAT,SILCAT_FLAG_W,NITRAT,NITRAT_FLAG_W,NITRIT,NITRIT_FLAG_W,PHSPHT,PHSPHT_FLAG_W,CFC-11,CFC-11_FLAG_W,CFC-12,CFC-12_FLAG_W,TRITUM,TRITUM_FLAG_W,HELIUM,HELIUM_FLAG_W,DELHE3,DELHE3_FLAG_W,NEON,NEON_FLAG_W,HELIER,TRITER,NEONER,DELHER
,,,,,,,,,,,,DBAR,IPTS-68,PSS-78,,PSS-78,,UMOL/KG,,IPTS-68,UMOL/KG,,UMOL/KG,,UMOL/KG,,UMOL/KG,,UMOL/KG,,PMOL/KG,,PMOL/KG,,TU,,UMOL/KG,,PERCNT,,NMOL/KG,,NMOL/KG,TU,NMOL/KG,PERCNT
      74AB29_1,    I5,    56,  1,     22,    24.,2,19871201,0133,-33.3250,  73.3350, 4109,      3.5,  18.4923,  35.7470,2,  35.8273,2,    207.7,2, 18.4917,    230.1,2,     1.48,2,     0.00,2,     0.00,2,     0.20,2,    2.300,2,    1.243,2, -999.000,5,-999.0000,5,  -999.00,9,-999.000,9,-999.0000,-999.000,-999.000,-999.000
      74AB29_1,    I5,    56,  1,     21,    23.,2,19871201,0133,-33.3250,  73.3350, 4109,    102.6,  17.4668,  35.7990,2,  35.7782,2,    227.2,2, 17.4495,    225.3,2,     0.90,2,     0.00,2,     0.00,2,     0.22,2,    2.189,2,    1.378,2, -999.000,5,-999.0000,5,  -999.00,9,-999.000,9,-999.0000,-999.000,-999.000,-999.000
      74AB29_1,    I5,    56,  1,     20,    22.,2,19871201,0133,-33.3250,  73.3350, 4109,    203.1,  13.8014,  35.3510,2,  35.3271,2,    219.3,2, 13.7722,    221.5,2,     2.70,2,     6.64,2,     0.00,2,     0.62,2,    2.426,2,    1.249,2, -999.000,5,-999.0000,5,  -999.00,9,-999.000,9,-999.0000,-999.000,-999.000,-999.000
      74AB29_1,    I5,    56,  1,     19,    21.,2,19871201,0133,-33.3250,  73.3350, 4109,    304.4,  12.9349,  35.1850,2,  35.2034,2,    226.7,2, 12.8929,    224.5,2,     4.10,2,     8.50,2,     0.00,2,     0.73,2,    2.423,2,    1.329,2, -999.000,5,-999.0000,5,  -999.00,9,-999.000,9,-999.0000,-999.000,-999.000,-999.000
      74AB29_1,    I5,    56,  1,     18,    20.,2,19871201,0133,-33.3250,  73.3350, 4109,    395.8,  12.2265,  35.0600,2,  35.0864,2,    224.5,2, 12.1738,    231.5,2,     3.72,2,    10.16,2,     0.00,2,     0.84,2,    2.289,2,    1.236,2, -999.000,5,-999.0000,5,  -999.00,9,-999.000,9,-999.0000,-999.000,-999.000,-999.000
      74AB29_1,    I5,    56,  1,     17,    18.,2,19871201,0133,-33.3250,  73.3350, 4109,    604.8,  10.2876,  34.7890,2,  34.8257,2,    225.7,2, 10.2149,    225.0,2,     6.13,2,    15.34,2,     0.00,2,     1.16,2,    1.591,2,    0.859,2, -999.000,5,-999.0000,5,  -999.00,9,-999.000,9,-999.0000,-999.000,-999.000,-999.000
      74AB29_1,    I5,    56,  1,     16,    17.,2,19871201,0133,-33.3250,  73.3350, 4109,    701.3,   9.1862,  34.6760,2,  34.6920,2,    215.3,2,  9.1072,    217.2,2,     7.34,2,    18.28,2,     0.00,2,     1.35,2,    1.240,2,    0.652,2, -999.000,5,-999.0000,5,  -999.00,9,-999.000,9,-999.0000,-999.000,-999.000,-999.000
      74AB29_1,    I5,    56,  1,     15,    16.,2,19871201,0133,-33.3250,  73.3350, 4109,    800.6,   7.7753,  34.5540,2,  34.5641,2,    202.2,2,  7.6930,    202.1,2,    14.12,2,    23.26,2,     0.00,2,     1.67,2,    0.842,2,    0.373,2, -999.000,5,-999.0000,5,  -999.00,9,-999.000,9,-999.0000,-999.000,-999.000,-999.000
      74AB29_1,    I5,    56,  1,     14,    15.,2,19871201,0133,-33.3250,  73.3350, 4109,    901.5,   6.3360,  34.4420,2,  34.4597,2,    197.0,2,  6.2525,    194.7,2,    23.70,2,    27.18,2,     0.00,2,     1.97,2,    0.530,2,    0.285,2, -999.000,5,-999.0000,5,  -999.00,9,-999.000,9,-999.0000,-999.000,-999.000,-999.000
      74AB29_1,    I5,    56,  1,     13,    14.,2,19871201,0133,-33.3250,  73.3350, 4109,   1099.2,   4.3307,  34.4060,2,  34.4059,2,    183.9,2,  4.2441,    182.5,2,    44.61,2,    32.75,2,     0.00,2,     2.32,2,    0.184,2,    0.108,2, -999.000,5,-999.0000,5,  -999.00,9,-999.000,9,-999.0000,-999.000,-999.000,-999.000
      74AB29_1,    I5,    56,  1,     12,    13.,2,19871201,0133,-33.3250,  73.3350, 4109,   1300.9,   3.3834,  34.4480,2,  34.4439,2,    177.4,2,  3.2883,    177.7,2,    55.96,2,    33.82,2,     0.00,2,     2.42,2,    0.134,2,    0.078,2, -999.000,5,-999.0000,5,  -999.00,9,-999.000,9,-999.0000,-999.000,-999.000,-999.000
      74AB29_1,    I5,    56,  1,     11,    12.,2,19871201,0133,-33.3250,  73.3350, 4109,   1499.4,   2.8864,  34.5470,2,  34.5439,2,    172.1,2,  2.7800,    170.3,2,    68.90,2,    34.21,2,     0.00,2,     2.44,2,    0.050,2,    0.047,2, -999.000,5,-999.0000,5,  -999.00,9,-999.000,9,-999.0000,-999.000,-999.000,-999.000
      74AB29_1,    I5,    56,  1,     10,    11.,2,19871201,0133,-33.3250,  73.3350, 4109,   1701.5,   2.6285,  34.6290,2,  34.6258,2,    173.8,2,  2.5082,    173.4,2,    75.07,2,    33.33,2,     0.00,2,     2.39,2, -999.000,5, -999.000,5, -999.000,5,-999.0000,5,  -999.00,9,-999.000,9,-999.0000,-999.000,-999.000,-999.000
      74AB29_1,    I5,    56,  1,      9,    10.,2,19871201,0133,-33.3250,  73.3350, 4109,   1900.8,   2.4230,  34.6900,2,  34.6847,2,    178.2,2,  2.2885,    179.9,2,    80.25,2,    32.25,2,     0.00,2,     2.32,2, -999.000,5, -999.000,5, -999.000,5,-999.0000,5,  -999.00,9,-999.000,9,-999.0000,-999.000,-999.000,-999.000
      74AB29_1,    I5,    56,  1,      8,     9.,2,19871201,0133,-33.3250,  73.3350, 4109,   2102.5,   2.1691,  34.7180,2,  34.7150,2,    180.3,2,  2.0210,    179.4,2,    92.18,2,    32.35,2,     0.00,2,     2.33,2,    0.008,2,    0.000,2, -999.000,5,-999.0000,5,  -999.00,9,-999.000,9,-999.0000,-999.000,-999.000,-999.000
      74AB29_1,    I5,    56,  1,      7,     8.,2,19871201,0133,-33.3250,  73.3350, 4109,   2303.5,   2.0291,  34.7250,2,  34.7262,2,    178.6,2,  1.8656,    178.1,2,   100.73,2,    32.55,2,     0.00,2,     2.34,2, -999.000,5, -999.000,5, -999.000,5,-999.0000,5,  -999.00,9,-999.000,9,-999.0000,-999.000,-999.000,-999.000
      74AB29_1,    I5,    56,  1,      6,     7.,2,19871201,0133,-33.3250,  73.3350, 4109,   2502.6,   1.8941,  34.7280,2,  34.7280,2,    178.2,2,  1.7152,    179.0,2,   109.48,2,    33.04,2,     0.00,2,     2.39,2, -999.000,5, -999.000,5, -999.000,5,-999.0000,5,  -999.00,9,-999.000,9,-999.0000,-999.000,-999.000,-999.000
      74AB29_1,    I5,    56,  1,      5,     6.,2,19871201,0133,-33.3250,  73.3350, 4109,   2704.6,   1.7786,  34.7270,2,  34.7319,2,    178.2,2,  1.5834,    177.3,2,   114.45,2,    33.33,2,     0.00,2,     2.39,2, -999.000,5, -999.000,5, -999.000,5,-999.0000,5,  -999.00,9,-999.000,9,-999.0000,-999.000,-999.000,-999.000
      74AB29_1,    I5,    56,  1,      4,     5.,2,19871201,0133,-33.3250,  73.3350, 4109,   3004.5,   1.5862,  34.7240,2,  34.7199,2,    181.6,2,  1.3668,    182.5,2,   118.63,2,    33.13,2,     0.00,2,     2.38,2, -999.000,5, -999.000,5, -999.000,5,-999.0000,5,  -999.00,9,-999.000,9,-999.0000,-999.000,-999.000,-999.000
      74AB29_1,    I5,    56,  1,      3,     4.,2,19871201,0133,-33.3250,  73.3350, 4109,   3303.5,   1.4257,  34.7180,2,  34.7182,2,    186.8,2,  1.1809,   -999.0,5,   120.81,2,    33.04,2,     0.00,2,     2.38,2, -999.000,5, -999.000,5, -999.000,5,-999.0000,5,  -999.00,9,-999.000,9,-999.0000,-999.000,-999.000,-999.000
      74AB29_1,    I5,    56,  1,      2,     3.,2,19871201,0133,-33.3250,  73.3350, 4109,   3605.6,   1.2837,  34.7130,2,  34.7101,2,    191.6,2,  1.0121,    192.5,2,   122.39,2,    33.04,2,     0.00,2,     2.38,2, -999.000,5, -999.000,5, -999.000,5,-999.0000,5,  -999.00,9,-999.000,9,-999.0000,-999.000,-999.000,-999.000
      74AB29_1,    I5,    56,  1,      1,     1.,2,19871201,0133,-33.3250,  73.3350, 4109,   4136.4,   1.2242,  34.7100,2,  34.7072,2,    196.0,2,  0.8981,    194.2,2,   123.78,2,    32.94,2,     0.00,2,     2.35,2,    0.003,2,    0.000,2, -999.000,5,-999.0000,5,  -999.00,9,-999.000,9,-999.0000,-999.000,-999.000,-999.000
      74AB29_1,    I5,    57,  1,     21,    13.,2,19871201,1224,-32.6683,  74.6617, 3741,      2.5,  19.1153,  34.7160,2,  35.8913,2,    191.1,2, 19.1148,    236.1,2,     2.35,2,     0.00,2,     0.00,2,     0.15,2,    2.282,2,    1.228,2, -999.000,5,-999.0000,5,  -999.00,9,-999.000,9,-999.0000,-999.000,-999.000,-999.000
      74AB29_1,    I5,    57,  1,     20,    12.,2,19871201,1224,-32.6683,  74.6617, 3741,    104.4,  17.8278,  35.7850,2,  35.7789,2,    251.6,2, 17.8099,    241.8,2,     2.16,2,     0.10,2,     0.00,2,     0.19,2,    2.209,2,    1.253,2, -999.000,5,-999.0000,5,  -999.00,9,-999.000,9,-999.0000,-999.000,-999.000,-999.000
      74AB29_1,    I5,    57,  1,     19,    11.,2,19871201,1224,-32.6683,  74.6617, 3741,    201.9,  15.0708,  35.4590,2,  35.4480,2,    236.7,2, 15.0400,    237.1,2,     2.16,2,     2.15,2,     0.00,2,     0.37,2,    2.515,2,    1.298,2, -999.000,5,-999.0000,5,  -999.00,9,-999.000,9,-999.0000,-999.000,-999.000,-999.000
      74AB29_1,    I5,    57,  1,     18,    10.,2,19871201,1224,-32.6683,  74.6617, 3741,    302.4,  13.2679,  35.2290,2,  35.2477,2,    233.2,2, 13.2255,    232.4,2,     3.94,2,     7.82,2,     0.00,2,     0.65,2,    2.369,2,    1.239,2, -999.000,5,-999.0000,5,  -999.00,9,-999.000,9,-999.0000,-999.000,-999.000,-999.000
      74AB29_1,    I5,    57,  1,     17,     8.,2,19871201,1224,-32.6683,  74.6617, 3741,    500.7,  11.3815,  34.9820,2,  34.9677,2,    236.6,2, 11.3176,    235.9,2,     4.92,2,    12.02,2,     0.00,2,     0.85,2,    2.114,2,    1.145,2, -999.000,5,-999.0000,5,  -999.00,9,-999.000,9,-999.0000,-999.000,-999.000,-999.000
      74AB29_1,    I5,    57,  1,     16,     7.,2,19871201,1224,-32.6683,  74.6617, 3741,    601.8,  10.7081,  34.8660,2,  34.8821,2,    231.0,2, 10.6339,    231.1,2,     6.29,2,    14.27,2,     0.00,2,     1.04,2,    1.825,2,    0.951,2, -999.000,5,-999.0000,5,  -999.00,9,-999.000,9,-999.0000,-999.000,-999.000,-999.000
      74AB29_1,    I5,    57,  1,     15,     6.,2,19871201,1224,-32.6683,  74.6617, 3741,    699.7,   9.9961,  34.7660,2,  34.7883,2,    227.5,2,  9.9131,    227.7,2,     6.88,2,    16.32,2,     0.00,2,     1.15,2,    1.530,2,    0.832,2, -999.000,5,-999.0000,5,  -999.00,9,-999.000,9,-999.0000,-999.000,-999.000,-999.000
      74AB29_1,    I5,    57,  1,     14,     5.,2,19871201,1224,-32.6683,  74.6617, 3741,    801.6,   9.0392,  34.6540,2,  34.6824,2,    216.2,2,  8.9492,    219.0,2,     9.65,2,    19.26,2,     0.00,2,     1.36,2,    1.040,2,    0.579,2, -999.000,5,-999.0000,5,  -999.00,9,-999.000,9,-999.0000,-999.000,-999.000,-999.000
      74AB29_1,    I5,    57,  1,     13,     4.,2,19871201,1224,-32.6683,  74.6617, 3741,    900.7,   7.4923,  34.5380,2,  34.5417,2,    205.3,2,  7.4010,    206.0,2,    16.74,2,    24.54,2,     0.00,2,     1.68,2,    0.615,2,    0.346,2, -999.000,5,-999.0000,5,  -999.00,9,-999.000,9,-999.0000,-999.000,-999.000,-999.000
      74AB29_1,    I5,    57,  1,     12,     3.,2,19871201,1224,-32.6683,  74.6617, 3741,   1001.0,   6.1470,  34.4410,2,  34.4469,2,    202.2,2,  6.0550,    202.9,2,    24.21,2,    27.76,2,     0.00,2,     1.92,2,    0.462,2,    0.266,2, -999.000,5,-999.0000,5,  -999.00,9,-999.000,9,-999.0000,-999.000,-999.000,-999.000
      74AB29_1,    I5,    57,  1,     11,     2.,2,19871201,1224,-32.6683,  74.6617, 3741,   1099.6,   4.9077,  34.3870,2,  34.3868,2,    198.7,2,  4.8163,    201.2,2,    33.47,2,    30.40,2,     0.00,2,     2.13,2,    0.390,2,    0.227,2, -999.000,5,-999.0000,5,  -999.00,9,-999.000,9,-999.0000,-999.000,-999.000,-999.000
      74AB29_1,    I5,    57,  1,     10,     1.,2,19871201,1224,-32.6683,  74.6617, 3741,   1301.1,   3.7133,  34.4300,2,  34.4390,2,    180.4,2,  3.6149,    179.0,2,    55.34,2,    33.63,2,     0.00,2,     2.36,2, -999.000,5, -999.000,5, -999.000,5,-999.0000,5,  -999.00,9,-999.000,9,-999.0000,-999.000,-999.000,-999.000
      74AB29_1,    I5,    57,  1,      9,    24.,2,19871201,1224,-32.6683,  74.6617, 3741,   1501.2,   3.2029,  34.5300,2,  34.5406,2,    165.6,2,  3.0927,    164.3,2,    71.49,2,    34.70,2,     0.00,2,     2.42,2,    0.042,2,    0.019,2, -999.000,5,-999.0000,5,  -999.00,9,-999.000,9,-999.0000,-999.000,-999.000,-999.000
      74AB29_1,    I5,    57,  1,      8,    23.,2,19871201,1224,-32.6683,  74.6617, 3741,   1701.2,   2.7930,  34.6060,2,  34.6014,2,    168.6,2,  2.6707,    169.5,2,    76.60,2,    34.21,2,     0.00,2,     2.38,2, -999.000,5, -999.000,5, -999.000,5,-999.0000,5,  -999.00,9,-999.000,9,-999.0000,-999.000,-999.000,-999.000
      74AB29_1,    I5,    57,  1,      7,    22.,2,19871201,1224,-32.6683,  74.6617, 3741,   1899.9,   2.5340,  34.6690,2,  34.6663,2,    176.0,2,  2.3980,    176.4,2,    80.75,2,    33.04,2,     0.00,2,     2.31,2, -999.000,5, -999.000,5, -999.000,5,-999.0000,5,  -999.00,9,-999.000,9,-999.0000,-999.000,-999.000,-999.000
      74AB29_1,    I5,    57,  1,      6,    21.,2,19871201,1224,-32.6683,  74.6617, 3741,   2100.3,   2.2855,  34.7060,2,  34.7054,2,    181.2,2,  2.1358,    181.6,2,    88.63,2,    32.74,2,     0.00,2,     2.26,2,    0.019,2,    0.020,2, -999.000,5,-999.0000,5,  -999.00,9,-999.000,9,-999.0000,-999.000,-999.000,-999.000
      74AB29_1,    I5,    57,  1,      5,    20.,2,19871201,1224,-32.6683,  74.6617, 3741,   2302.2,   2.0591,  34.7210,2,  34.7272,2,    180.8,2,  1.8952,    182.5,2,   100.65,2,    32.74,2,     0.00,2,     2.30,2,    0.013,2,    0.000,2, -999.000,5,-999.0000,5,  -999.00,9,-999.000,9,-999.0000,-999.000,-999.000,-999.000
      74AB29_1,    I5,    57,  1,      4,    19.,2,19871201,1224,-32.6683,  74.6617, 3741,   2499.8,   1.8941,  34.7240,2,  34.7250,2,    179.9,2,  1.7155,    179.4,2,   109.14,2,    33.72,2,     0.00,2,     2.34,2,    0.000,2,    0.000,2, -999.000,5,-999.0000,5,  -999.00,9,-999.000,9,-999.0000,-999.000,-999.000,-999.000
      74AB29_1,    I5,    57,  1,      3,    18.,2,19871201,1224,-32.6683,  74.6617, 3741,   2703.8,   1.7896,  34.7250,2,  34.7264,2,    180.8,2,  1.5943,    180.7,2,   113.67,2,    33.52,2,     0.00,2,     2.33,2,    0.006,2,    0.000,2, -999.000,5,-999.0000,5,  -999.00,9,-999.000,9,-999.0000,-999.000,-999.000,-999.000
      74AB29_1,    I5,    57,  1,      2,    16.,2,19871201,1224,-32.6683,  74.6617, 3741,   3302.7,   1.5202,  34.7190,2,  34.7182,2,    187.3,2,  1.2732,    186.4,2,   120.60,2,    33.33,2,     0.00,2,     2.29,2, -999.000,5, -999.000,5, -999.000,5,-999.0000,5,  -999.00,9,-999.000,9,-999.0000,-999.000,-999.000,-999.000
      74AB29_1,    I5,    57,  1,      1,    14.,2,19871201,1224,-32.6683,  74.6617, 3741,   3789.8,   1.4187,  34.7160,2,  34.7174,2,    190.8,2,  1.1243,   -999.0,5,   122.39,2,    33.23,2,     0.00,2,     2.31,2,    0.009,2, -999.000,5, -999.000,5,-999.0000,5,  -999.00,9,-999.000,9,-999.0000,-999.000,-999.000,-999.000