BOTTLE,20060509WHPSIOSA
EXPOCODE,SECT_ID,STNNBR,CASTNO,SAMPNO,BTLNBR,BTLNBR_FLAG_W,DATE,TIME,LATITUDE,LONGITUDE,DEPTH,CTDPRS,CTDTMP,CTDSAL,CTDSAL_FLAG_W,SALNTY,SALNTY_FLAG_W,CTDOXY,CTDOXY_FLAG_W,THETA,OXYGEN,OXYGEN_FLAG_W,SILCAT,SILCAT_FLAG_W,NITRAT,NITRAT_FLAG_W,NITRIT,NITRIT_FLAG_W,PHSPHT,PHSPHT_FLAG_W,CFC-11,CFC-11_FLAG_W,CFC-12,CFC-12_FLAG_W,TRITUM,TRITUM_FLAG_W,HELIUM,HELIUM_FLAG_W,DELHE3,DELHE3_FLAG_W,NEON,NEON_FLAG_W,HELIER,TRITER,NEONER,DELHER
,,,,,,,,,,,,DBAR,IPTS-68,PSS-78,,PSS-78,,UMOL/KG,,IPTS-68,UMOL/KG,,UMOL/KG,,UMOL/KG,,UMOL/KG,,UMOL/KG,,PMOL/KG,,PMOL/KG,,TU,,UMOL/KG,,PERCNT,,NMOL/KG,,NMOL/KG,TU,NMOL/KG,PERCNT
      74AB29_1,    I5,    36,  1,     23,    24.,2,19871123,0123,-33.7500,  49.5067, 4325,      1.0,  19.6273,  34.7110,2,  35.5050,2,    208.7,2, 19.6271,    235.3,2,     1.70,2,     0.00,2,     0.00,2,     0.19,2,    1.799,2,    1.017,2, -999.000,5,-999.0000,5,  -999.00,9,-999.000,9,-999.0000,-999.000,-999.000,-999.000
      74AB29_1,    I5,    36,  1,     22,    23.,2,19871123,0123,-33.7500,  49.5067, 4325,    105.3,  16.3273,  35.5620,2,  35.5657,2,    229.4,2, 16.3104,    236.2,2,     2.36,2,     1.07,2,     0.16,2,     0.26,2,    1.947,2,    1.140,2, -999.000,5,-999.0000,5,  -999.00,9,-999.000,9,-999.0000,-999.000,-999.000,-999.000
      74AB29_1,    I5,    36,  1,     21,    22.,2,19871123,0123,-33.7500,  49.5067, 4325,    204.0,  14.8788,  35.4540,2,  35.4454,2,    219.3,2, 14.8480,    224.5,2,     3.54,2,     5.86,2,     0.00,2,     0.54,2,    1.743,2,    0.962,2, -999.000,5,-999.0000,5,  -999.00,9,-999.000,9,-999.0000,-999.000,-999.000,-999.000
      74AB29_1,    I5,    36,  1,     20,    21.,2,19871123,0123,-33.7500,  49.5067, 4325,    303.4,  13.8844,  35.3270,2,  35.3378,2,    222.3,2, 13.8405,    222.3,2,     3.38,2,     7.82,2,     0.00,2,     0.67,2,    1.900,2,    1.084,2, -999.000,5,-999.0000,5,  -999.00,9,-999.000,9,-999.0000,-999.000,-999.000,-999.000
      74AB29_1,    I5,    36,  1,     19,    20.,2,19871123,0123,-33.7500,  49.5067, 4325,    404.0,  13.1564,  35.2460,2,  35.2312,2,    226.7,2, 13.0998,    225.0,2,     3.71,2,     9.18,2,     0.00,2,     0.75,2,    1.701,2,    1.025,2, -999.000,5,-999.0000,5,  -999.00,9,-999.000,9,-999.0000,-999.000,-999.000,-999.000
      74AB29_1,    I5,    36,  1,     18,    19.,2,19871123,0123,-33.7500,  49.5067, 4325,    501.3,  12.2980,  35.1140,2,  35.0988,2,    225.8,2, 12.2307,    222.4,2,     4.71,2,    11.24,2,     0.00,2,     0.90,2,    1.572,2,    0.910,2, -999.000,5,-999.0000,5,  -999.00,9,-999.000,9,-999.0000,-999.000,-999.000,-999.000
      74AB29_1,    I5,    36,  1,     17,    18.,2,19871123,0123,-33.7500,  49.5067, 4325,    701.7,  10.1466,  34.8160,2,  34.8190,2,    215.7,2, 10.0625,    216.4,2,     7.71,2,    16.71,2,     0.00,2,     1.26,2,    1.012,2,    0.591,2, -999.000,5,-999.0000,5,  -999.00,9,-999.000,9,-999.0000,-999.000,-999.000,-999.000
      74AB29_1,    I5,    36,  1,     16,    17.,2,19871123,0123,-33.7500,  49.5067, 4325,    902.9,   7.4739,  34.5500,2,  34.5572,2,    206.1,2,  7.3825,    206.0,2,    17.18,2,    24.05,2,    -0.01,2,     1.74,2,    0.658,2,    0.383,2, -999.000,5,-999.0000,5,  -999.00,9,-999.000,9,-999.0000,-999.000,-999.000,-999.000
      74AB29_1,    I5,    36,  1,     15,    16.,2,19871123,0123,-33.7500,  49.5067, 4325,   1100.8,   4.9731,  34.4080,2,  34.4082,2,    203.0,2,  4.8810,    204.7,2,    31.00,2,    29.33,2,     0.00,2,     2.09,2,    0.546,2,    0.315,2, -999.000,5,-999.0000,5,  -999.00,9,-999.000,9,-999.0000,-999.000,-999.000,-999.000
      74AB29_1,    I5,    36,  1,     14,    14.,2,19871123,0123,-33.7500,  49.5067, 4325,   1498.4,   3.2104,  34.5120,2,  34.5193,2,    179.9,2,  3.1004,    177.7,2,    62.57,2,    33.24,2,    -0.01,2,     2.31,2,    0.071,2,    0.055,2, -999.000,5,-999.0000,5,  -999.00,9,-999.000,9,-999.0000,-999.000,-999.000,-999.000
      74AB29_1,    I5,    36,  1,     13,    13.,2,19871123,0123,-33.7500,  49.5067, 4325,   1702.2,   2.7810,  34.5920,2,  34.6018,2,    179.5,2,  2.6587,    177.7,2,    71.39,2,    32.65,2,    -0.01,2,     2.30,2,    0.040,2,    0.021,2, -999.000,5,-999.0000,5,  -999.00,9,-999.000,9,-999.0000,-999.000,-999.000,-999.000
      74AB29_1,    I5,    36,  1,     12,    12.,2,19871123,0123,-33.7500,  49.5067, 4325,   1901.5,   2.5470,  34.6610,2,  34.6623,2,    181.7,2,  2.4107,    181.2,2,    77.19,2,    32.16,2,     0.00,2,     2.24,2, -999.000,5, -999.000,5, -999.000,5,-999.0000,5,  -999.00,9,-999.000,9,-999.0000,-999.000,-999.000,-999.000
      74AB29_1,    I5,    36,  1,     11,    11.,2,19871123,0123,-33.7500,  49.5067, 4325,   2201.9,   2.3730,  34.7220,2,  34.7180,2,    188.2,2,  2.2128,    187.3,2,    82.34,2,    31.28,2,     0.01,2,     2.22,2, -999.000,5, -999.000,5, -999.000,5,-999.0000,5,  -999.00,9,-999.000,9,-999.0000,-999.000,-999.000,-999.000
      74AB29_1,    I5,    36,  1,     10,    10.,2,19871123,0123,-33.7500,  49.5067, 4325,   2501.3,   2.1806,  34.7480,2,  34.7443,2,    194.2,2,  1.9964,    193.3,2,    85.81,2,    30.49,2,     0.01,2,     2.17,2, -999.000,5, -999.000,5, -999.000,5,-999.0000,5,  -999.00,9,-999.000,9,-999.0000,-999.000,-999.000,-999.000
      74AB29_1,    I5,    36,  1,      9,     9.,2,19871123,0123,-33.7500,  49.5067, 4325,   2703.3,   2.0196,  34.7510,2,  34.7488,2,    195.1,2,  1.8196,    193.8,2,    91.96,2,    30.79,2,     0.02,2,     2.17,2, -999.000,5, -999.000,5, -999.000,5,-999.0000,5,  -999.00,9,-999.000,9,-999.0000,-999.000,-999.000,-999.000
      74AB29_1,    I5,    36,  1,      8,     8.,2,19871123,0123,-33.7500,  49.5067, 4325,   2902.3,   1.8286,  34.7450,2,  34.7437,2,    194.7,2,  1.6136,    194.2,2,    99.09,2,    31.18,2,     0.02,2,     2.17,2,    0.005,2,    0.007,2, -999.000,5,-999.0000,5,  -999.00,9,-999.000,9,-999.0000,-999.000,-999.000,-999.000
      74AB29_1,    I5,    36,  1,      7,     7.,2,19871123,0123,-33.7500,  49.5067, 4325,   3104.5,   1.6706,  34.7380,2,-999.0000,5,    196.0,2,  1.6616,    196.4,2,   104.24,2,    31.37,2,     0.02,2,     2.19,2, -999.000,5, -999.000,5, -999.000,5,-999.0000,5,  -999.00,9,-999.000,9,-999.0000,-999.000,-999.000,-999.000
      74AB29_1,    I5,    36,  1,      6,     6.,2,19871123,0123,-33.7500,  49.5067, 4325,   3300.5,   1.4847,  34.7310,2,  34.7335,2,    198.1,2,  1.2387,    197.3,2,   108.38,2,    31.47,2,     0.01,2,     2.24,2,    0.008,2,    0.008,2, -999.000,5,-999.0000,5,  -999.00,9,-999.000,9,-999.0000,-999.000,-999.000,-999.000
      74AB29_1,    I5,    36,  1,      5,     5.,2,19871123,0123,-33.7500,  49.5067, 4325,   3507.0,   1.3282,  34.7250,2,  34.7213,2,    201.2,2,  1.0654,    200.7,2,   112.85,2,    31.86,2,     0.01,2,     2.23,2, -999.000,5, -999.000,5, -999.000,5,-999.0000,5,  -999.00,9,-999.000,9,-999.0000,-999.000,-999.000,-999.000
      74AB29_1,    I5,    36,  1,      4,     4.,2,19871123,0123,-33.7500,  49.5067, 4325,   3705.5,   1.1947,  34.7200,2,  34.7207,2,    204.2,2,  0.9151,    204.2,2,   114.17,2,    31.67,2,     0.01,2,     2.25,2,    0.018,2, -999.000,5, -999.000,5,-999.0000,5,  -999.00,9,-999.000,9,-999.0000,-999.000,-999.000,-999.000
      74AB29_1,    I5,    36,  1,      3,     3.,2,19871123,0123,-33.7500,  49.5067, 4325,   3907.0,   1.1107,  34.7160,2,  34.7176,2,    206.8,2,  0.8124,    207.3,2,   117.32,2,    31.96,2,     0.00,2,     2.25,2,    0.014,2, -999.000,5, -999.000,5,-999.0000,5,  -999.00,9,-999.000,9,-999.0000,-999.000,-999.000,-999.000
      74AB29_1,    I5,    36,  1,      2,     2.,2,19871123,0123,-33.7500,  49.5067, 4325,   4108.3,   1.0602,  34.7120,2,  34.7087,2,    208.1,2,  0.7419,   -999.0,5,   118.97,2,    32.06,2,     0.01,2,     2.27,2, -999.000,5, -999.000,5, -999.000,5,-999.0000,5,  -999.00,9,-999.000,9,-999.0000,-999.000,-999.000,-999.000
      74AB29_1,    I5,    36,  1,      1,     1.,2,19871123,0123,-33.7500,  49.5067, 4325,   4398.0,   1.0587,  34.7110,2,-999.0000,5,    208.1,2,  1.0129,    208.1,2,   119.95,2,    32.16,2,     0.01,2,     2.26,2,    0.017,2,    0.005,2, -999.000,5,-999.0000,5,  -999.00,9,-999.000,9,-999.0000,-999.000,-999.000,-999.000
      74AB29_1,    I5,    37,  1,     24,    24.,2,19871123,1135,-33.9967,  50.9267, 4336,      9.8,  19.8043,  35.5020,2,  35.6153,2,    222.1,2, 19.8025,    227.5,2,     1.31,2,     0.10,2,     0.02,2,     0.18,2, -999.000,5, -999.000,5, -999.000,5,-999.0000,5,  -999.00,9,-999.000,9,-999.0000,-999.000,-999.000,-999.000
      74AB29_1,    I5,    37,  1,     23,    23.,2,19871123,1135,-33.9967,  50.9267, 4336,     75.2,  17.3413,  35.5910,2,  35.6038,2,    230.7,2, 17.3287,    235.3,2,     1.95,2,     0.10,2,     0.01,2,     0.25,2, -999.000,5, -999.000,5, -999.000,5,-999.0000,5,  -999.00,9,-999.000,9,-999.0000,-999.000,-999.000,-999.000
      74AB29_1,    I5,    37,  1,     22,    22.,2,19871123,1135,-33.9967,  50.9267, 4336,    202.0,  15.5273,  35.5220,2,  35.5099,2,    215.0,2, 15.4958,    209.3,2,     2.95,2,     5.08,2,     0.02,2,     0.47,2, -999.000,5, -999.000,5, -999.000,5,-999.0000,5,  -999.00,9,-999.000,9,-999.0000,-999.000,-999.000,-999.000
      74AB29_1,    I5,    37,  1,     21,    21.,2,19871123,1135,-33.9967,  50.9267, 4336,    300.6,  14.4354,  35.3990,2,  35.4024,2,    215.4,2, 14.3907,    211.9,2,     3.27,2,     6.84,2,     0.02,2,     0.66,2, -999.000,5, -999.000,5, -999.000,5,-999.0000,5,  -999.00,9,-999.000,9,-999.0000,-999.000,-999.000,-999.000
      74AB29_1,    I5,    37,  1,     20,    20.,2,19871123,1135,-33.9967,  50.9267, 4336,    400.8,  13.6674,  35.2970,2,  35.3062,2,    218.8,2, 13.6098,    220.6,2,     3.59,2,     8.11,2,     0.02,2,     0.73,2, -999.000,5, -999.000,5, -999.000,5,-999.0000,5,  -999.00,9,-999.000,9,-999.0000,-999.000,-999.000,-999.000
      74AB29_1,    I5,    37,  1,     19,    19.,2,19871123,1135,-33.9967,  50.9267, 4336,    501.5,  12.7674,  35.1800,2,  35.1701,2,    213.2,2, 12.6983,    213.3,2,     4.06,2,    10.26,2,     0.02,2,     0.86,2,    1.930,2,    1.056,2, -999.000,5,-999.0000,5,  -999.00,9,-999.000,9,-999.0000,-999.000,-999.000,-999.000
      74AB29_1,    I5,    37,  1,     18,    18.,2,19871123,1135,-33.9967,  50.9267, 4336,    700.4,  10.6136,  34.8600,2,  34.8875,2,    207.9,2, 10.5273,    209.4,2,     6.25,2,    15.44,2,     0.01,2,     1.15,2, -999.000,5, -999.000,5, -999.000,5,-999.0000,5,  -999.00,9,-999.000,9,-999.0000,-999.000,-999.000,-999.000
      74AB29_1,    I5,    37,  1,     17,    17.,2,19871123,1135,-33.9967,  50.9267, 4336,    902.4,   7.8818,  34.5800,2,  34.5934,2,    200.9,2,  7.7877,    196.4,2,    14.75,2,    22.87,2,    -0.01,2,     1.54,2, -999.000,5, -999.000,5, -999.000,5,-999.0000,5,  -999.00,9,-999.000,9,-999.0000,-999.000,-999.000,-999.000
      74AB29_1,    I5,    37,  1,     16,    16.,2,19871123,1135,-33.9967,  50.9267, 4336,   1002.3,   6.3095,  34.4760,2,-999.0000,5,    199.1,2,  6.2847,    202.5,2,  -999.00,5,  -999.00,5,  -999.00,5,  -999.00,5, -999.000,5, -999.000,5, -999.000,5,-999.0000,5,  -999.00,9,-999.000,9,-999.0000,-999.000,-999.000,-999.000
      74AB29_1,    I5,    37,  1,     15,    15.,2,19871123,1135,-33.9967,  50.9267, 4336,   1101.4,   5.1626,  34.4210,2,-999.0000,5,    198.7,2,  5.1460,    196.8,2,    30.05,2,    28.93,2,     0.00,2,     1.99,2, -999.000,5, -999.000,5, -999.000,5,-999.0000,5,  -999.00,9,-999.000,9,-999.0000,-999.000,-999.000,-999.000
      74AB29_1,    I5,    37,  1,     14,    14.,2,19871123,1135,-33.9967,  50.9267, 4336,   1199.9,   4.4817,  34.4070,2,  34.4055,2,    194.3,2,  4.3849,    196.9,2,    37.19,2,    30.70,2,     0.00,2,     2.15,2,    0.460,2,    0.256,2, -999.000,5,-999.0000,5,  -999.00,9,-999.000,9,-999.0000,-999.000,-999.000,-999.000
      74AB29_1,    I5,    37,  1,     13,    13.,2,19871123,1135,-33.9967,  50.9267, 4336,   1497.9,   3.2684,  34.4920,2,  34.4913,2,    181.3,2,  3.1579,    179.0,2,    58.30,2,    33.33,2,     0.00,2,     2.29,2, -999.000,5, -999.000,5, -999.000,5,-999.0000,5,  -999.00,9,-999.000,9,-999.0000,-999.000,-999.000,-999.000
      74AB29_1,    I5,    37,  1,     12,    12.,2,19871123,1135,-33.9967,  50.9267, 4336,   1700.7,   2.8635,  34.5800,2,  34.5779,2,    177.3,2,  2.7404,    176.0,2,    69.88,2,    33.04,2,    -0.01,2,     2.29,2, -999.000,5, -999.000,5, -999.000,5,-999.0000,5,  -999.00,9,-999.000,9,-999.0000,-999.000,-999.000,-999.000
      74AB29_1,    I5,    37,  1,     11,    11.,2,19871123,1135,-33.9967,  50.9267, 4336,   1901.2,   2.6315,  34.6470,2,  34.6470,2,    179.5,2,  2.4941,    180.8,2,    73.95,2,    32.26,2,     0.00,2,     2.21,2, -999.000,5, -999.000,5, -999.000,5,-999.0000,5,  -999.00,9,-999.000,9,-999.0000,-999.000,-999.000,-999.000
      74AB29_1,    I5,    37,  1,     10,    10.,2,19871123,1135,-33.9967,  50.9267, 4336,   2100.4,   2.4450,  34.6970,2,  34.6958,2,    183.4,2,  2.2928,    183.8,2,    78.03,2,    31.37,2,     0.00,2,     2.20,2, -999.000,5, -999.000,5, -999.000,5,-999.0000,5,  -999.00,9,-999.000,9,-999.0000,-999.000,-999.000,-999.000
      74AB29_1,    I5,    37,  1,      9,     9.,2,19871123,1135,-33.9967,  50.9267, 4336,   2402.6,   2.1891,  34.7380,2,  34.7382,2,    189.0,2,  2.0139,    189.0,2,    85.00,2,    30.69,2,     0.00,2,     2.14,2,    0.036,2,    0.027,2, -999.000,5,-999.0000,5,  -999.00,9,-999.000,9,-999.0000,-999.000,-999.000,-999.000
      74AB29_1,    I5,    37,  1,      8,     8.,2,19871123,1135,-33.9967,  50.9267, 4336,   2703.7,   1.9651,  34.7490,2,  34.7492,2,    191.2,2,  1.7662,    191.2,2,    93.18,2,    30.88,2,     0.01,2,     2.13,2, -999.000,5, -999.000,5, -999.000,5,-999.0000,5,  -999.00,9,-999.000,9,-999.0000,-999.000,-999.000,-999.000
      74AB29_1,    I5,    37,  1,      7,     7.,2,19871123,1135,-33.9967,  50.9267, 4336,   3006.5,   1.6816,  34.7390,2,  34.7384,2,    192.9,2,  1.4598,    193.3,2,   100.68,2,    31.37,2,     0.01,2,     2.14,2, -999.000,5, -999.000,5, -999.000,5,-999.0000,5,  -999.00,9,-999.000,9,-999.0000,-999.000,-999.000,-999.000
      74AB29_1,    I5,    37,  1,      6,     6.,2,19871123,1135,-33.9967,  50.9267, 4336,   3304.1,   1.4512,  34.7320,2,  34.7370,2,    199.4,2,  1.2056,    202.9,2,   103.57,2,    31.28,2,     0.01,2,     2.21,2, -999.000,5, -999.000,5, -999.000,5,-999.0000,5,  -999.00,9,-999.000,9,-999.0000,-999.000,-999.000,-999.000
      74AB29_1,    I5,    37,  1,      5,     5.,2,19871123,1135,-33.9967,  50.9267, 4336,   3606.2,   1.2837,  34.7240,2,  34.7227,2,    201.2,2,  1.0119,    203.8,2,   111.59,2,    31.86,2,     0.01,2,     2.27,2,    0.018,2,    0.011,2, -999.000,5,-999.0000,5,  -999.00,9,-999.000,9,-999.0000,-999.000,-999.000,-999.000
      74AB29_1,    I5,    37,  1,      4,     4.,2,19871123,1135,-33.9967,  50.9267, 4336,   3907.3,   1.1772,  34.7180,2,  34.7215,2,    202.9,2,  0.8770,    202.9,2,   114.48,2,    31.96,2,     0.00,2,     2.25,2, -999.000,5, -999.000,5, -999.000,5,-999.0000,5,  -999.00,9,-999.000,9,-999.0000,-999.000,-999.000,-999.000
      74AB29_1,    I5,    37,  1,      3,     3.,2,19871123,1135,-33.9967,  50.9267, 4336,   4107.7,   1.1402,  34.7150,2,  34.7187,2,    203.8,2,  0.8196,    203.8,2,   115.84,2,    31.96,2,     0.00,2,     2.25,2, -999.000,5, -999.000,5, -999.000,5,-999.0000,5,  -999.00,9,-999.000,9,-999.0000,-999.000,-999.000,-999.000
      74AB29_1,    I5,    37,  1,      2,     2.,2,19871123,1135,-33.9967,  50.9267, 4336,   4310.4,   1.1332,  34.7140,2,  34.7170,2,    204.2,2,  0.7906,    204.2,2,   116.86,2,    32.16,2,     0.00,2,     2.25,2,    0.016,2, -999.000,5, -999.000,5,-999.0000,5,  -999.00,9,-999.000,9,-999.0000,-999.000,-999.000,-999.000
      74AB29_1,    I5,    37,  1,      1,     1.,2,19871123,1135,-33.9967,  50.9267, 4336,   4396.9,   1.1342,  34.7140,2,  34.7144,2,    205.1,2,  0.7820,    200.3,2,   116.86,2,    32.16,2,    -0.01,2,     2.27,2,    0.019,2,    0.007,2, -999.000,5,-999.0000,5,  -999.00,9,-999.000,9,-999.0000,-999.000,-999.000,-999.000