BOTTLE,20060509WHPSIOSA
EXPOCODE,SECT_ID,STNNBR,CASTNO,SAMPNO,BTLNBR,BTLNBR_FLAG_W,DATE,TIME,LATITUDE,LONGITUDE,DEPTH,CTDPRS,CTDTMP,CTDSAL,CTDSAL_FLAG_W,SALNTY,SALNTY_FLAG_W,CTDOXY,CTDOXY_FLAG_W,THETA,OXYGEN,OXYGEN_FLAG_W,SILCAT,SILCAT_FLAG_W,NITRAT,NITRAT_FLAG_W,NITRIT,NITRIT_FLAG_W,PHSPHT,PHSPHT_FLAG_W,CFC-11,CFC-11_FLAG_W,CFC-12,CFC-12_FLAG_W,TRITUM,TRITUM_FLAG_W,HELIUM,HELIUM_FLAG_W,DELHE3,DELHE3_FLAG_W,NEON,NEON_FLAG_W,HELIER,TRITER,NEONER,DELHER
,,,,,,,,,,,,DBAR,IPTS-68,PSS-78,,PSS-78,,UMOL/KG,,IPTS-68,UMOL/KG,,UMOL/KG,,UMOL/KG,,UMOL/KG,,UMOL/KG,,PMOL/KG,,PMOL/KG,,TU,,UMOL/KG,,PERCNT,,NMOL/KG,,NMOL/KG,TU,NMOL/KG,PERCNT
      74AB29_1,    I5,    48,  1,     24,    24.,2,19871127,0218,-33.9933,  59.9500, 5150,      3.9,  18.1118,  35.5200,2,  35.5105,2,    257.3,2, 18.1111,    247.5,2,     2.02,2,     1.07,2,     0.10,2,     0.30,2,    2.419,2,    1.241,2, -999.000,5,-999.0000,5,  -999.00,9,-999.000,9,-999.0000,-999.000,-999.000,-999.000
      74AB29_1,    I5,    48,  1,     23,    23.,2,19871127,0218,-33.9933,  59.9500, 5150,    102.4,  15.2163,  35.5020,2,  35.4965,2,    240.2,2, 15.2006,    240.6,2,     2.52,2,     2.74,2,     0.09,2,     0.39,2,    2.405,2,    1.251,2, -999.000,5,-999.0000,5,  -999.00,9,-999.000,9,-999.0000,-999.000,-999.000,-999.000
      74AB29_1,    I5,    48,  1,     22,    22.,2,19871127,0218,-33.9933,  59.9500, 5150,    201.9,  14.6189,  35.4400,2,  35.4342,2,    239.7,2, 14.5887,    238.4,2,     2.85,2,     4.69,2,     0.03,2,     0.49,2,    2.430,2,    1.228,2, -999.000,5,-999.0000,5,  -999.00,9,-999.000,9,-999.0000,-999.000,-999.000,-999.000
      74AB29_1,    I5,    48,  1,     21,    21.,2,19871127,0218,-33.9933,  59.9500, 5150,    302.3,  14.2324,  35.4010,2,  35.4068,2,    246.3,2, 14.1879,    241.4,2,     3.36,2,     5.28,2,     0.02,2,     0.54,2,    2.575,2,    1.367,2, -999.000,5,-999.0000,5,  -999.00,9,-999.000,9,-999.0000,-999.000,-999.000,-999.000
      74AB29_1,    I5,    48,  1,     20,    20.,2,19871127,0218,-33.9933,  59.9500, 5150,    402.2,  13.6759,  35.2900,2,  35.3131,2,    236.7,2, 13.6181,    232.3,2,     3.69,2,     7.52,2,     0.01,2,     0.67,2,    2.235,2,    1.184,2, -999.000,5,-999.0000,5,  -999.00,9,-999.000,9,-999.0000,-999.000,-999.000,-999.000
      74AB29_1,    I5,    48,  1,     19,    19.,2,19871127,0218,-33.9933,  59.9500, 5150,    503.4,  13.0159,  35.1900,2,  35.2126,2,    234.1,2, 12.9457,    231.5,2,     4.20,2,     9.18,2,     0.01,2,     0.77,2,    2.217,2,    1.171,2, -999.000,5,-999.0000,5,  -999.00,9,-999.000,9,-999.0000,-999.000,-999.000,-999.000
      74AB29_1,    I5,    48,  1,     18,    18.,2,19871127,0218,-33.9933,  59.9500, 5150,    601.7,  11.9875,  35.0220,2,  35.0441,2,    227.1,2, 11.9077,    224.6,2,     5.03,2,    12.12,2,     0.02,2,     0.96,2,    1.942,2,    1.004,2, -999.000,5,-999.0000,5,  -999.00,9,-999.000,9,-999.0000,-999.000,-999.000,-999.000
      74AB29_1,    I5,    48,  1,     17,    17.,2,19871127,0218,-33.9933,  59.9500, 5150,    701.4,  10.7761,  34.8680,2,-999.0000,5,    219.2,2, 10.7321,    219.4,2,     6.37,2,    15.34,2,     0.01,2,     1.15,2,    1.397,2,    0.746,2, -999.000,5,-999.0000,5,  -999.00,9,-999.000,9,-999.0000,-999.000,-999.000,-999.000
      74AB29_1,    I5,    48,  1,     16,    16.,2,19871127,0218,-33.9933,  59.9500, 5150,    801.3,   9.3567,  34.7410,2,  34.7219,2,    216.2,2,  9.2649,    212.5,2,     9.55,2,    19.06,2,     0.00,2,     1.41,2,    1.325,2,    0.557,2, -999.000,5,-999.0000,5,  -999.00,9,-999.000,9,-999.0000,-999.000,-999.000,-999.000
      74AB29_1,    I5,    48,  1,     15,    15.,2,19871127,0218,-33.9933,  59.9500, 5150,   1000.4,   6.1140,  34.4850,2,  34.4461,2,    206.5,2,  6.0223,    210.3,2,    21.73,2,    27.08,2,     0.00,2,     1.93,2,    0.940,2,    0.493,2, -999.000,5,-999.0000,5,  -999.00,9,-999.000,9,-999.0000,-999.000,-999.000,-999.000
      74AB29_1,    I5,    48,  1,     14,    14.,2,19871127,0218,-33.9933,  59.9500, 5150,   1201.7,   4.1898,  34.3690,2,  34.3698,2,    205.6,2,  4.0956,    205.6,2,    36.42,2,    31.09,2,     0.01,2,     2.24,2,    0.689,2,    0.405,2, -999.000,5,-999.0000,5,  -999.00,9,-999.000,9,-999.0000,-999.000,-999.000,-999.000
      74AB29_1,    I5,    48,  1,     13,    13.,2,19871127,0218,-33.9933,  59.9500, 5150,   1400.4,   3.2919,  34.4350,2,-999.0000,5,    187.8,2,  3.2912,    186.0,2,    54.93,2,    33.53,2,     0.03,2,     2.37,2,    0.264,2,    0.119,2, -999.000,5,-999.0000,5,  -999.00,9,-999.000,9,-999.0000,-999.000,-999.000,-999.000
      74AB29_1,    I5,    48,  1,     12,    12.,2,19871127,0218,-33.9933,  59.9500, 5150,   1601.6,   2.8650,  34.5300,2,  34.5490,2,    176.9,2,  2.7503,    175.1,2,    67.60,2,    33.92,2,     0.01,2,     2.39,2,    0.021,2,    0.024,2, -999.000,5,-999.0000,5,  -999.00,9,-999.000,9,-999.0000,-999.000,-999.000,-999.000
      74AB29_1,    I5,    48,  1,     11,    11.,2,19871127,0218,-33.9933,  59.9500, 5150,   1801.6,   2.6425,  34.6260,2,  34.6287,2,    177.3,2,  2.5135,    176.0,2,    75.78,2,    33.14,2,     0.00,2,     2.33,2, -999.000,5, -999.000,5, -999.000,5,-999.0000,5,  -999.00,9,-999.000,9,-999.0000,-999.000,-999.000,-999.000
      74AB29_1,    I5,    48,  1,     10,    10.,2,19871127,0218,-33.9933,  59.9500, 5150,   2101.3,   2.3550,  34.6950,2,  34.6938,2,    179.9,2,  2.2041,    179.4,2,    88.12,2,    32.65,2,     0.00,2,     2.31,2, -999.000,5, -999.000,5, -999.000,5,-999.0000,5,  -999.00,9,-999.000,9,-999.0000,-999.000,-999.000,-999.000
      74AB29_1,    I5,    48,  1,      9,     9.,2,19871127,0218,-33.9933,  59.9500, 5150,   2402.8,   2.1336,  34.7240,2,  34.7193,2,    179.9,2,  1.9594,    179.9,2,    98.96,2,    32.64,2,     0.00,2,     2.32,2, -999.000,5, -999.000,5, -999.000,5,-999.0000,5,  -999.00,9,-999.000,9,-999.0000,-999.000,-999.000,-999.000
      74AB29_1,    I5,    48,  1,      8,     8.,2,19871127,0218,-33.9933,  59.9500, 5150,   2704.1,   1.9551,  34.7300,2,  34.7290,2,    181.6,2,  1.7564,    180.3,2,   106.64,2,    32.84,2,     0.00,2,     2.34,2, -999.000,5, -999.000,5, -999.000,5,-999.0000,5,  -999.00,9,-999.000,9,-999.0000,-999.000,-999.000,-999.000
      74AB29_1,    I5,    48,  1,      7,     7.,2,19871127,0218,-33.9933,  59.9500, 5150,   3006.8,   1.7846,  34.7320,2,  34.7341,2,    184.7,2,  1.5606,    182.9,2,   110.65,2,    32.84,2,     0.01,2,     2.32,2, -999.000,5, -999.000,5, -999.000,5,-999.0000,5,  -999.00,9,-999.000,9,-999.0000,-999.000,-999.000,-999.000
      74AB29_1,    I5,    48,  1,      6,     6.,2,19871127,0218,-33.9933,  59.9500, 5150,   3405.7,   1.5562,  34.7290,2,  34.7268,2,    192.1,2,  1.2979,    191.6,2,   113.97,2,    32.64,2,     0.00,2,     2.29,2, -999.000,5, -999.000,5, -999.000,5,-999.0000,5,  -999.00,9,-999.000,9,-999.0000,-999.000,-999.000,-999.000
      74AB29_1,    I5,    48,  1,      5,     5.,2,19871127,0218,-33.9933,  59.9500, 5150,   3808.2,   1.1232,  34.7160,2,  34.7158,2,    206.4,2,  0.8349,    212.9,2,   116.49,2,    32.16,2,     0.01,2,     2.24,2, -999.000,5, -999.000,5, -999.000,5,-999.0000,5,  -999.00,9,-999.000,9,-999.0000,-999.000,-999.000,-999.000
      74AB29_1,    I5,    48,  1,      4,     4.,2,19871127,0218,-33.9933,  59.9500, 5150,   4210.9,   0.7173,  34.6970,2,  34.7026,2,    214.2,2,  0.3981,    214.6,2,   122.66,2,    32.16,2,    -0.02,2,     2.23,2, -999.000,5, -999.000,5, -999.000,5,-999.0000,5,  -999.00,9,-999.000,9,-999.0000,-999.000,-999.000,-999.000
      74AB29_1,    I5,    48,  1,      3,     3.,2,19871127,0218,-33.9933,  59.9500, 5150,   4612.1,   0.5793,  34.6880,2,  34.6885,2,    218.1,2,  0.2206,    218.1,2,   130.01,2,    32.84,2,     0.00,2,     2.28,2, -999.000,5, -999.000,5, -999.000,5,-999.0000,5,  -999.00,9,-999.000,9,-999.0000,-999.000,-999.000,-999.000
      74AB29_1,    I5,    48,  1,      2,     2.,2,19871127,0218,-33.9933,  59.9500, 5150,   5014.2,   0.5518,  34.6850,2,  34.6857,2,    220.3,2,  0.1481,    219.9,2,   131.68,2,    32.74,2,     0.00,2,     2.28,2,    0.011,2, -999.000,5, -999.000,5,-999.0000,5,  -999.00,9,-999.000,9,-999.0000,-999.000,-999.000,-999.000
      74AB29_1,    I5,    48,  1,      1,     1.,2,19871127,0218,-33.9933,  59.9500, 5150,   5210.0,   0.5523,  34.6840,2,  34.6806,2,    219.4,2,  0.1256,    219.9,2,   132.67,2,    32.84,2,     0.03,2,     2.28,2,    0.011,2,    0.015,2, -999.000,5,-999.0000,5,  -999.00,9,-999.000,9,-999.0000,-999.000,-999.000,-999.000
      74AB29_1,    I5,    49,  1,     21,    24.,2,19871127,0940,-33.9950,  60.5700, 5361,      3.8,  18.8643,  35.5500,2,  35.5586,2,    241.3,2, 18.8636,    243.2,2,     1.47,2,     0.10,2,     0.00,2,     0.25,2,    2.207,2,    1.220,2, -999.000,5,-999.0000,5,  -999.00,9,-999.000,9,-999.0000,-999.000,-999.000,-999.000
      74AB29_1,    I5,    49,  1,     20,    23.,2,19871127,0940,-33.9950,  60.5700, 5361,    103.1,  15.2883,  35.4930,2,  35.5018,2,    240.2,2, 15.2725,    241.0,2,     2.06,2,     2.54,2,     0.23,2,     0.41,2,    2.432,2,    1.322,2, -999.000,5,-999.0000,5,  -999.00,9,-999.000,9,-999.0000,-999.000,-999.000,-999.000
      74AB29_1,    I5,    49,  1,     19,    22.,2,19871127,0940,-33.9950,  60.5700, 5361,    200.7,  14.5064,  35.4310,2,  35.4281,2,    243.2,2, 14.4766,    238.4,2,     2.94,2,     4.88,2,     0.00,2,     0.51,2,    2.720,2,    1.290,2, -999.000,5,-999.0000,5,  -999.00,9,-999.000,9,-999.0000,-999.000,-999.000,-999.000
      74AB29_1,    I5,    49,  1,     18,    21.,2,19871127,0940,-33.9950,  60.5700, 5361,    300.0,  14.0619,  35.3840,2,  35.3886,2,    243.2,2, 14.0181,    243.6,2,     3.34,2,     5.76,2,    -0.01,2,     0.58,2,    2.546,2,    1.345,2, -999.000,5,-999.0000,5,  -999.00,9,-999.000,9,-999.0000,-999.000,-999.000,-999.000
      74AB29_1,    I5,    49,  1,     17,    19.,2,19871127,0940,-33.9950,  60.5700, 5361,    600.5,  11.7015,  34.9420,2,  35.0022,2,    225.3,2, 11.6231,    225.0,2,     4.81,2,    12.61,2,     0.01,2,     1.02,2,    1.801,2,    0.986,2, -999.000,5,-999.0000,5,  -999.00,9,-999.000,9,-999.0000,-999.000,-999.000,-999.000
      74AB29_1,    I5,    49,  1,     16,    18.,2,19871127,0940,-33.9950,  60.5700, 5361,    801.5,   8.8037,  34.6630,2,  34.6692,2,    212.2,2,  8.7151,    210.3,2,    10.90,2,    20.72,2,     0.01,2,     1.51,2,    0.957,2,    0.519,2, -999.000,5,-999.0000,5,  -999.00,9,-999.000,9,-999.0000,-999.000,-999.000,-999.000
      74AB29_1,    I5,    49,  1,     15,    17.,2,19871127,0940,-33.9950,  60.5700, 5361,    998.9,   6.0570,  34.4510,2,-999.0000,5,    204.8,2,  6.0346,    205.1,2,    22.98,2,    27.17,2,     0.01,2,     1.94,2,    0.638,2,    0.334,2, -999.000,5,-999.0000,5,  -999.00,9,-999.000,9,-999.0000,-999.000,-999.000,-999.000
      74AB29_1,    I5,    49,  1,     14,    16.,2,19871127,0940,-33.9950,  60.5700, 5361,   1199.1,   4.1208,  34.3760,2,  34.3855,2,    203.0,2,  4.0274,    200.8,2,    39.29,2,    31.48,2,     0.01,2,     2.24,2,    0.766,2,    0.254,2, -999.000,5,-999.0000,5,  -999.00,9,-999.000,9,-999.0000,-999.000,-999.000,-999.000
      74AB29_1,    I5,    49,  1,     13,    15.,2,19871127,0940,-33.9950,  60.5700, 5361,   1397.6,   3.3284,  34.4540,2,  34.4571,2,    183.4,2,  3.2258,    181.7,2,    56.68,2,    33.43,2,     0.00,2,     2.39,2,    0.160,2,    0.093,2, -999.000,5,-999.0000,5,  -999.00,9,-999.000,9,-999.0000,-999.000,-999.000,-999.000
      74AB29_1,    I5,    49,  1,     12,    14.,2,19871127,0940,-33.9950,  60.5700, 5361,   1699.3,   2.7845,  34.5950,2,  34.5910,2,    176.0,2,  2.6625,    174.7,2,    72.48,2,    33.43,2,     0.01,2,     2.38,2, -999.000,5, -999.000,5, -999.000,5,-999.0000,5,  -999.00,9,-999.000,9,-999.0000,-999.000,-999.000,-999.000
      74AB29_1,    I5,    49,  1,     11,    13.,2,19871127,0940,-33.9950,  60.5700, 5361,   2000.3,   2.4515,  34.6780,2,  34.6785,2,    179.5,2,  2.3080,    179.4,2,    83.28,2,    32.55,2,     0.00,2,     2.31,2, -999.000,5, -999.000,5, -999.000,5,-999.0000,5,  -999.00,9,-999.000,9,-999.0000,-999.000,-999.000,-999.000
      74AB29_1,    I5,    49,  1,     10,    12.,2,19871127,0940,-33.9950,  60.5700, 5361,   2300.1,   2.2306,  34.7190,2,  34.7168,2,    182.5,2,  2.0640,    182.1,2,    92.51,2,    31.96,2,     0.01,2,     2.30,2, -999.000,5, -999.000,5, -999.000,5,-999.0000,5,  -999.00,9,-999.000,9,-999.0000,-999.000,-999.000,-999.000
      74AB29_1,    I5,    49,  1,      9,    11.,2,19871127,0940,-33.9950,  60.5700, 5361,   2603.0,   2.0396,  34.7310,2,  34.7331,2,    182.5,2,  1.8487,    182.0,2,   100.76,2,    32.06,2,    -0.01,2,     2.30,2, -999.000,5, -999.000,5, -999.000,5,-999.0000,5,  -999.00,9,-999.000,9,-999.0000,-999.000,-999.000,-999.000
      74AB29_1,    I5,    49,  1,      8,    10.,2,19871127,0940,-33.9950,  60.5700, 5361,   2904.2,   1.8571,  34.7330,2,  34.7349,2,    183.4,2,  1.6414,    182.9,2,   108.32,2,    32.35,2,    -0.01,2,     2.31,2, -999.000,5, -999.000,5, -999.000,5,-999.0000,5,  -999.00,9,-999.000,9,-999.0000,-999.000,-999.000,-999.000
      74AB29_1,    I5,    49,  1,      7,     9.,2,19871127,0940,-33.9950,  60.5700, 5361,   3205.6,   1.6866,  34.7340,2,  34.7327,2,    190.3,2,  1.4453,    189.4,2,   110.97,2,    32.25,2,     0.00,2,     2.28,2, -999.000,5, -999.000,5, -999.000,5,-999.0000,5,  -999.00,9,-999.000,9,-999.0000,-999.000,-999.000,-999.000
      74AB29_1,    I5,    49,  1,      6,     8.,2,19871127,0940,-33.9950,  60.5700, 5361,   3504.3,   1.4387,  34.7310,2,  34.7296,2,    199.4,2,  1.1733,    201.2,2,   112.74,2,    31.57,2,     0.01,2,     2.23,2, -999.000,5, -999.000,5, -999.000,5,-999.0000,5,  -999.00,9,-999.000,9,-999.0000,-999.000,-999.000,-999.000
      74AB29_1,    I5,    49,  1,      5,     7.,2,19871127,0940,-33.9950,  60.5700, 5361,   3804.0,   1.0952,  34.7190,2,  34.7172,2,    206.8,2,  0.8081,    208.1,2,   118.64,2,    31.67,2,     0.00,2,     2.23,2, -999.000,5, -999.000,5, -999.000,5,-999.0000,5,  -999.00,9,-999.000,9,-999.0000,-999.000,-999.000,-999.000
      74AB29_1,    I5,    49,  1,      4,     6.,2,19871127,0940,-33.9950,  60.5700, 5361,   4212.5,   0.6488,  34.6950,2,  34.7005,2,    214.6,2,  0.3315,    217.2,2,   128.95,2,    32.25,2,     0.01,2,     2.27,2, -999.000,5, -999.000,5, -999.000,5,-999.0000,5,  -999.00,9,-999.000,9,-999.0000,-999.000,-999.000,-999.000
      74AB29_1,    I5,    49,  1,      3,     5.,2,19871127,0940,-33.9950,  60.5700, 5361,   4510.4,   0.5258,  34.6880,2,  34.6873,2,    217.7,2,  0.1801,    219.9,2,   131.21,2,    32.55,2,    -0.01,2,     2.27,2, -999.000,5, -999.000,5, -999.000,5,-999.0000,5,  -999.00,9,-999.000,9,-999.0000,-999.000,-999.000,-999.000
      74AB29_1,    I5,    49,  1,      2,     2.,2,19871127,0940,-33.9950,  60.5700, 5361,   5214.7,   0.5083,  34.6840,2,  34.6871,2,    222.0,2,  0.0825,    220.7,2,   134.25,2,    32.55,2,    -0.01,2,     2.30,2,    0.014,2, -999.000,5, -999.000,5,-999.0000,5,  -999.00,9,-999.000,9,-999.0000,-999.000,-999.000,-999.000
      74AB29_1,    I5,    49,  1,      1,     1.,2,19871127,0940,-33.9950,  60.5700, 5361,   5452.9,   0.5283,  34.6830,2,  34.6857,2,    222.5,2,  0.0731,    219.9,2,   135.24,2,    32.55,2,     0.02,2,     2.30,2,    0.025,2,    0.020,2, -999.000,5,-999.0000,5,  -999.00,9,-999.000,9,-999.0000,-999.000,-999.000,-999.000