BOTTLE,20060509WHPSIOSA
EXPOCODE,SECT_ID,STNNBR,CASTNO,SAMPNO,BTLNBR,BTLNBR_FLAG_W,DATE,TIME,LATITUDE,LONGITUDE,DEPTH,CTDPRS,CTDTMP,CTDSAL,CTDSAL_FLAG_W,SALNTY,SALNTY_FLAG_W,CTDOXY,CTDOXY_FLAG_W,THETA,OXYGEN,OXYGEN_FLAG_W,SILCAT,SILCAT_FLAG_W,NITRAT,NITRAT_FLAG_W,NITRIT,NITRIT_FLAG_W,PHSPHT,PHSPHT_FLAG_W,CFC-11,CFC-11_FLAG_W,CFC-12,CFC-12_FLAG_W,TRITUM,TRITUM_FLAG_W,HELIUM,HELIUM_FLAG_W,DELHE3,DELHE3_FLAG_W,NEON,NEON_FLAG_W,HELIER,TRITER,NEONER,DELHER
,,,,,,,,,,,,DBAR,IPTS-68,PSS-78,,PSS-78,,UMOL/KG,,IPTS-68,UMOL/KG,,UMOL/KG,,UMOL/KG,,UMOL/KG,,UMOL/KG,,PMOL/KG,,PMOL/KG,,TU,,UMOL/KG,,PERCNT,,NMOL/KG,,NMOL/KG,TU,NMOL/KG,PERCNT
      74AB29_1,    I5,    27,  1,     24,     4.,2,19871120,1752,-32.9950,  42.7467, 4352,      5.0,  20.5334,  35.5070,2,  35.5208,2,    234.8,2, 20.5325,    233.2,2,     1.85,2,     0.10,2,     0.01,2,     0.10,2,    1.852,2,    1.067,2, -999.000,5,-999.0000,5,  -999.00,9,-999.000,9,-999.0000,-999.000,-999.000,-999.000
      74AB29_1,    I5,    27,  1,     23,     3.,2,19871120,1752,-32.9950,  42.7467, 4352,     32.1,  19.7083,  35.6600,2,  35.6492,2,    236.9,2, 19.7024,    234.5,2,     2.01,2,     0.10,2,     0.02,2,     0.13,2,    2.022,2,    1.120,2, -999.000,5,-999.0000,5,  -999.00,9,-999.000,9,-999.0000,-999.000,-999.000,-999.000
      74AB29_1,    I5,    27,  1,     22,     2.,2,19871120,1752,-32.9950,  42.7467, 4352,    103.3,  17.1773,  35.6170,2,  35.6253,2,    223.7,2, 17.1601,    226.6,2,     3.36,2,     1.95,2,     0.10,2,     0.32,2,    2.043,2,    1.204,2, -999.000,5,-999.0000,5,  -999.00,9,-999.000,9,-999.0000,-999.000,-999.000,-999.000
      74AB29_1,    I5,    27,  1,     21,     1.,2,19871120,1752,-32.9950,  42.7467, 4352,    203.1,  16.0353,  35.5260,2,  35.5423,2,    209.8,2, 16.0030,    222.7,2,     3.53,2,     4.40,2,     0.02,2,     0.47,2,    2.494,2,    1.202,2, -999.000,5,-999.0000,5,  -999.00,9,-999.000,9,-999.0000,-999.000,-999.000,-999.000
      74AB29_1,    I5,    27,  1,     20,    24.,2,19871120,1752,-32.9950,  42.7467, 4352,    302.8,  14.9863,  35.4330,2,  35.4472,2,    210.2,2, 14.9402,    211.9,2,     4.49,2,     6.74,2,     0.01,2,     0.48,2,    1.903,2,    1.034,2, -999.000,5,-999.0000,5,  -999.00,9,-999.000,9,-999.0000,-999.000,-999.000,-999.000
      74AB29_1,    I5,    27,  1,     19,    23.,2,19871120,1752,-32.9950,  42.7467, 4352,    451.5,  13.5919,  35.2790,2,  35.2909,2,    228.8,2, 13.5272,    224.1,2,     4.48,2,     8.30,2,     0.02,2,     0.63,2,    1.965,2,    1.071,2, -999.000,5,-999.0000,5,  -999.00,9,-999.000,9,-999.0000,-999.000,-999.000,-999.000
      74AB29_1,    I5,    27,  1,     18,    22.,2,19871120,1752,-32.9950,  42.7467, 4352,    604.2,  12.1405,  35.0780,2,  35.0738,2,    218.8,2, 12.0597,    222.8,2,     5.34,2,    11.92,2,     0.01,2,     0.91,2,    1.674,2,    0.900,2, -999.000,5,-999.0000,5,  -999.00,9,-999.000,9,-999.0000,-999.000,-999.000,-999.000
      74AB29_1,    I5,    27,  1,     17,    21.,2,19871120,1752,-32.9950,  42.7467, 4352,    702.0,  11.0415,  34.9320,2,  34.9278,2,    220.1,2, 10.9528,    217.6,2,     6.51,2,    14.66,2,     0.01,2,     1.09,2,    1.314,2,    0.683,2, -999.000,5,-999.0000,5,  -999.00,9,-999.000,9,-999.0000,-999.000,-999.000,-999.000
      74AB29_1,    I5,    27,  1,     16,    20.,2,19871120,1752,-32.9950,  42.7467, 4352,    801.6,  10.0016,  34.8050,2,  34.8080,2,    216.6,2,  9.9059,    216.8,2,     8.36,2,    17.10,2,     0.00,2,     1.28,2,    0.918,2,    0.547,2, -999.000,5,-999.0000,5,  -999.00,9,-999.000,9,-999.0000,-999.000,-999.000,-999.000
      74AB29_1,    I5,    27,  1,     15,    19.,2,19871120,1752,-32.9950,  42.7467, 4352,   1000.6,   7.0854,  34.5420,2,  34.5392,2,    204.8,2,  6.9863,    205.1,2,    19.68,2,    25.51,2,     0.00,2,     1.83,2,    0.651,2,    0.358,2, -999.000,5,-999.0000,5,  -999.00,9,-999.000,9,-999.0000,-999.000,-999.000,-999.000
      74AB29_1,    I5,    27,  1,     14,    18.,2,19871120,1752,-32.9950,  42.7467, 4352,   1202.3,   4.8922,  34.4280,2,  34.4267,2,    199.6,2,  4.7914,    200.3,2,    35.21,2,    29.91,2,     0.00,2,     2.23,2,    0.481,2,    0.273,2, -999.000,5,-999.0000,5,  -999.00,9,-999.000,9,-999.0000,-999.000,-999.000,-999.000
      74AB29_1,    I5,    27,  1,     13,    17.,2,19871120,1752,-32.9950,  42.7467, 4352,   1401.3,   3.7368,  34.4550,2,  34.4602,2,    189.1,2,  3.6295,    186.4,2,    52.44,2,    32.65,2,    -0.01,2,     2.47,2,    0.230,2,    0.125,2, -999.000,5,-999.0000,5,  -999.00,9,-999.000,9,-999.0000,-999.000,-999.000,-999.000
      74AB29_1,    I5,    27,  1,     12,    16.,2,19871120,1752,-32.9950,  42.7467, 4352,   1600.4,   3.2359,  34.5570,2,  34.5519,2,    179.1,2,  3.1168,    178.2,2,    65.29,2,    33.14,2,     0.00,2,     2.49,2,    0.082,2,    0.050,2, -999.000,5,-999.0000,5,  -999.00,9,-999.000,9,-999.0000,-999.000,-999.000,-999.000
      74AB29_1,    I5,    27,  1,     11,    15.,2,19871120,1752,-32.9950,  42.7467, 4352,   1900.3,   2.7850,  34.6620,2,-999.0000,5,    181.7,2,  2.7834,    182.1,2,    72.73,2,    31.77,2,     0.00,2,     2.40,2, -999.000,5, -999.000,5, -999.000,5,-999.0000,5,  -999.00,9,-999.000,9,-999.0000,-999.000,-999.000,-999.000
      74AB29_1,    I5,    27,  1,     10,    14.,2,19871120,1752,-32.9950,  42.7467, 4352,   2201.8,   2.6320,  34.7310,2,-999.0000,5,    189.9,2,  2.6265,    189.9,2,    74.77,2,    30.79,2,     0.00,2,     2.29,2, -999.000,5, -999.000,5, -999.000,5,-999.0000,5,  -999.00,9,-999.000,9,-999.0000,-999.000,-999.000,-999.000
      74AB29_1,    I5,    27,  1,      9,    13.,2,19871120,1752,-32.9950,  42.7467, 4352,   2502.9,   2.4615,  34.7800,2,-999.0000,5,    200.7,2,  2.4516,    204.6,2,    71.04,2,    28.92,2,     0.00,2,     2.11,2,    0.014,2,    0.014,2, -999.000,5,-999.0000,5,  -999.00,9,-999.000,9,-999.0000,-999.000,-999.000,-999.000
      74AB29_1,    I5,    27,  1,      8,    12.,2,19871120,1752,-32.9950,  42.7467, 4352,   2805.6,   2.2760,  34.7990,2,-999.0000,5,    209.8,2,  2.2611,    208.5,2,    71.38,2,    28.63,2,     0.00,2,     2.10,2, -999.000,5, -999.000,5, -999.000,5,-999.0000,5,  -999.00,9,-999.000,9,-999.0000,-999.000,-999.000,-999.000
      74AB29_1,    I5,    27,  1,      7,    11.,2,19871120,1752,-32.9950,  42.7467, 4352,   3107.1,   2.0136,  34.7970,2,  34.7944,2,    215.5,2,  1.7743,    216.8,2,    76.98,2,    28.44,2,     0.00,2,     2.05,2, -999.000,5, -999.000,5, -999.000,5,-999.0000,5,  -999.00,9,-999.000,9,-999.0000,-999.000,-999.000,-999.000
      74AB29_1,    I5,    27,  1,      6,    10.,2,19871120,1752,-32.9950,  42.7467, 4352,   3406.4,   1.7091,  34.7820,2,-999.0000,5,    216.8,2,  1.6878,    219.0,2,    85.96,2,    28.93,2,     0.00,2,     2.18,2, -999.000,5, -999.000,5, -999.000,5,-999.0000,5,  -999.00,9,-999.000,9,-999.0000,-999.000,-999.000,-999.000
      74AB29_1,    I5,    27,  1,      5,     9.,2,19871120,1752,-32.9950,  42.7467, 4352,   3606.1,   1.3692,  34.7590,2,-999.0000,5,    218.6,2,  1.3502,    220.3,2,    96.29,2,    29.71,2,     0.01,2,     2.19,2, -999.000,5, -999.000,5, -999.000,5,-999.0000,5,  -999.00,9,-999.000,9,-999.0000,-999.000,-999.000,-999.000
      74AB29_1,    I5,    27,  1,      4,     8.,2,19871120,1752,-32.9950,  42.7467, 4352,   3807.6,   1.0567,  34.7350,2,  34.7358,2,    220.3,2,  0.7701,    221.2,2,   105.43,2,    30.59,2,     0.00,2,     2.24,2,    0.001,2, -999.000,5, -999.000,5,-999.0000,5,  -999.00,9,-999.000,9,-999.0000,-999.000,-999.000,-999.000
      74AB29_1,    I5,    27,  1,      3,     7.,2,19871120,1752,-32.9950,  42.7467, 4352,   4009.4,   0.8628,  34.7210,2,  34.7217,2,    221.2,2,  0.5606,    221.2,2,   111.72,2,    31.18,2,     0.01,2,     2.23,2, -999.000,5, -999.000,5, -999.000,5,-999.0000,5,  -999.00,9,-999.000,9,-999.0000,-999.000,-999.000,-999.000
      74AB29_1,    I5,    27,  1,      2,     6.,2,19871120,1752,-32.9950,  42.7467, 4352,   4209.3,   0.7683,  34.7130,2,  34.7125,2,    222.9,2,  0.4477,    221.2,2,   116.29,2,    31.37,2,     0.00,2,     2.24,2, -999.000,5, -999.000,5, -999.000,5,-999.0000,5,  -999.00,9,-999.000,9,-999.0000,-999.000,-999.000,-999.000
      74AB29_1,    I5,    27,  1,      1,     5.,2,19871120,1752,-32.9950,  42.7467, 4352,   4420.5,   0.6823,  34.7060,2,  34.7050,2,    222.9,2,  0.3414,    222.5,2,   117.50,2,    31.67,2,     0.02,2,     2.24,2,    0.007,2, -999.000,5, -999.000,5,-999.0000,5,  -999.00,9,-999.000,9,-999.0000,-999.000,-999.000,-999.000
      74AB29_1,    I5,    28,  1,     13,    15.,2,19871120,2304,-32.9983,  43.0417, 2331,      9.7,  20.1518,  35.5490,2,  35.5577,2,    247.9,2, 20.1500,    230.1,2,     1.57,2,     0.10,2,     0.00,2,     0.19,2, -999.000,5, -999.000,5, -999.000,5,-999.0000,5,  -999.00,9,-999.000,9,-999.0000,-999.000,-999.000,-999.000
      74AB29_1,    I5,    28,  1,     12,    14.,2,19871120,2304,-32.9983,  43.0417, 2331,    104.2,  17.2958,  35.6170,2,  35.6196,2,    235.5,2, 17.2784,    227.1,2,     2.74,2,     1.86,2,     0.04,2,     0.34,2, -999.000,5, -999.000,5, -999.000,5,-999.0000,5,  -999.00,9,-999.000,9,-999.0000,-999.000,-999.000,-999.000
      74AB29_1,    I5,    28,  1,     11,    13.,2,19871120,2304,-32.9983,  43.0417, 2331,    200.9,  16.3388,  35.5870,2,  35.5849,2,    238.1,2, 16.3064,    234.5,2,     2.91,2,     2.54,2,     0.03,2,     0.36,2, -999.000,5, -999.000,5, -999.000,5,-999.0000,5,  -999.00,9,-999.000,9,-999.0000,-999.000,-999.000,-999.000
      74AB29_1,    I5,    28,  1,     10,    12.,2,19871120,2304,-32.9983,  43.0417, 2331,    303.1,  15.2168,  35.4880,2,  35.4815,2,    224.5,2, 15.1701,    225.4,2,     3.43,2,     5.37,2,     0.02,2,     0.52,2, -999.000,5, -999.000,5, -999.000,5,-999.0000,5,  -999.00,9,-999.000,9,-999.0000,-999.000,-999.000,-999.000
      74AB29_1,    I5,    28,  1,      9,    11.,2,19871120,2304,-32.9983,  43.0417, 2331,    500.9,  13.5639,  35.2700,2,  35.2887,2,    229.3,2, 13.4921,    227.6,2,     4.09,2,     8.40,2,     0.01,2,     0.71,2, -999.000,5, -999.000,5, -999.000,5,-999.0000,5,  -999.00,9,-999.000,9,-999.0000,-999.000,-999.000,-999.000
      74AB29_1,    I5,    28,  1,      8,    10.,2,19871120,2304,-32.9983,  43.0417, 2331,    748.1,  10.9305,  34.9180,2,  34.9154,2,    221.4,2, 10.8364,    220.3,2,     6.10,2,    14.56,2,     0.02,2,     1.12,2, -999.000,5, -999.000,5, -999.000,5,-999.0000,5,  -999.00,9,-999.000,9,-999.0000,-999.000,-999.000,-999.000
      74AB29_1,    I5,    28,  1,      7,     8.,2,19871120,2304,-32.9983,  43.0417, 2331,   1102.7,   6.1395,  34.4870,2,  34.4860,2,    200.9,2,  6.0374,    202.5,2,    25.06,2,    27.08,2,     0.00,2,     1.96,2, -999.000,5, -999.000,5, -999.000,5,-999.0000,5,  -999.00,9,-999.000,9,-999.0000,-999.000,-999.000,-999.000
      74AB29_1,    I5,    28,  1,      6,     7.,2,19871120,2304,-32.9983,  43.0417, 2331,   1199.4,   5.1446,  34.4230,2,  34.4243,2,    199.6,2,  5.0418,    201.6,2,    31.71,2,    29.33,2,     0.02,2,     2.09,2, -999.000,5, -999.000,5, -999.000,5,-999.0000,5,  -999.00,9,-999.000,9,-999.0000,-999.000,-999.000,-999.000
      74AB29_1,    I5,    28,  1,      5,     5.,2,19871120,2304,-32.9983,  43.0417, 2331,   1598.6,   3.3354,  34.5250,2,  34.5140,2,    182.6,2,  3.2153,    180.8,2,    60.13,2,    32.94,2,     0.02,2,     2.39,2, -999.000,5, -999.000,5, -999.000,5,-999.0000,5,  -999.00,9,-999.000,9,-999.0000,-999.000,-999.000,-999.000
      74AB29_1,    I5,    28,  1,      4,     4.,2,19871120,2304,-32.9983,  43.0417, 2331,   1798.4,   2.9914,  34.6090,2,  34.5857,2,    179.1,2,  2.8581,    178.2,2,    68.10,2,    32.84,2,     0.01,2,     2.35,2, -999.000,5, -999.000,5, -999.000,5,-999.0000,5,  -999.00,9,-999.000,9,-999.0000,-999.000,-999.000,-999.000
      74AB29_1,    I5,    28,  1,      3,     3.,2,19871120,2304,-32.9983,  43.0417, 2331,   2003.0,   2.7195,  34.6670,2,  34.6653,2,    183.4,2,  2.5718,    183.4,2,    73.24,2,    31.77,2,     0.01,2,     2.30,2, -999.000,5, -999.000,5, -999.000,5,-999.0000,5,  -999.00,9,-999.000,9,-999.0000,-999.000,-999.000,-999.000
      74AB29_1,    I5,    28,  1,      2,     2.,2,19871120,2304,-32.9983,  43.0417, 2331,   2201.5,   2.5325,  34.7440,2,  34.7465,2,    192.1,2,  2.3696,    192.5,2,    74.06,2,    30.30,2,     0.00,2,     2.17,2, -999.000,5, -999.000,5, -999.000,5,-999.0000,5,  -999.00,9,-999.000,9,-999.0000,-999.000,-999.000,-999.000
      74AB29_1,    I5,    28,  1,      1,     1.,2,19871120,2304,-32.9983,  43.0417, 2331,   2334.6,   2.3940,  34.7760,2,  34.7818,2,    200.3,2,  2.2212,    201.2,2,    71.89,2,    28.83,2,     0.01,2,     2.08,2, -999.000,5, -999.000,5, -999.000,5,-999.0000,5,  -999.00,9,-999.000,9,-999.0000,-999.000,-999.000,-999.000
      74AB29_1,    I5,    29,  1,     11,    11.,2,19871121,0420,-33.0000,  43.6683,  906,      0.9,  19.1618,  34.6850,2,  35.4864,2,    209.9,2, 19.1616,    234.5,2,     1.56,2,     0.00,2,    -0.01,2,     0.21,2, -999.000,5, -999.000,5, -999.000,5,-999.0000,5,  -999.00,9,-999.000,9,-999.0000,-999.000,-999.000,-999.000
      74AB29_1,    I5,    29,  1,     10,    10.,2,19871121,0420,-33.0000,  43.6683,  906,     55.3,  18.1853,  35.6390,2,  35.6311,2,    239.0,2, 18.1757,    238.8,2,     1.74,2,     0.00,2,    -0.01,2,     0.24,2, -999.000,5, -999.000,5, -999.000,5,-999.0000,5,  -999.00,9,-999.000,9,-999.0000,-999.000,-999.000,-999.000
      74AB29_1,    I5,    29,  1,      9,     9.,2,19871121,0420,-33.0000,  43.6683,  906,    102.7,  16.9573,  35.6150,2,  35.6078,2,    230.7,2, 16.9403,    227.9,2,     2.74,2,     2.25,2,     0.03,2,     0.37,2, -999.000,5, -999.000,5, -999.000,5,-999.0000,5,  -999.00,9,-999.000,9,-999.0000,-999.000,-999.000,-999.000
      74AB29_1,    I5,    29,  1,      8,     8.,2,19871121,0420,-33.0000,  43.6683,  906,    202.9,  16.0603,  35.5450,2,  35.5413,2,    219.3,2, 16.0280,    218.8,2,     3.59,2,     4.59,2,     0.01,2,     0.49,2, -999.000,5, -999.000,5, -999.000,5,-999.0000,5,  -999.00,9,-999.000,9,-999.0000,-999.000,-999.000,-999.000
      74AB29_1,    I5,    29,  1,      7,     7.,2,19871121,0420,-33.0000,  43.6683,  906,    304.1,  14.9353,  35.4490,2,  35.4413,2,    218.9,2, 14.8891,    215.4,2,     3.76,2,     6.55,2,     0.01,2,     0.62,2, -999.000,5, -999.000,5, -999.000,5,-999.0000,5,  -999.00,9,-999.000,9,-999.0000,-999.000,-999.000,-999.000
      74AB29_1,    I5,    29,  1,      6,     6.,2,19871121,0420,-33.0000,  43.6683,  906,    399.7,  13.9974,  35.3380,2,  35.3474,2,    219.3,2, 13.9391,    218.9,2,     3.94,2,     7.82,2,     0.01,2,     0.71,2, -999.000,5, -999.000,5, -999.000,5,-999.0000,5,  -999.00,9,-999.000,9,-999.0000,-999.000,-999.000,-999.000
      74AB29_1,    I5,    29,  1,      5,     5.,2,19871121,0420,-33.0000,  43.6683,  906,    500.5,  13.0949,  35.2240,2,  35.2099,2,    223.6,2, 13.0248,    233.2,2,     4.27,2,     9.77,2,     0.00,2,     0.84,2, -999.000,5, -999.000,5, -999.000,5,-999.0000,5,  -999.00,9,-999.000,9,-999.0000,-999.000,-999.000,-999.000
      74AB29_1,    I5,    29,  1,      4,     4.,2,19871121,0420,-33.0000,  43.6683,  906,    601.9,  12.1365,  35.0830,2,  35.0724,2,    222.7,2, 12.0560,    219.8,2,     4.94,2,    12.02,2,     0.01,2,     1.00,2, -999.000,5, -999.000,5, -999.000,5,-999.0000,5,  -999.00,9,-999.000,9,-999.0000,-999.000,-999.000,-999.000
      74AB29_1,    I5,    29,  1,      3,     3.,2,19871121,0420,-33.0000,  43.6683,  906,    698.9,  10.9045,  34.9270,2,  34.9170,2,    217.0,2, 10.8169,    216.8,2,     6.78,2,    15.54,2,    -0.01,2,     1.15,2, -999.000,5, -999.000,5, -999.000,5,-999.0000,5,  -999.00,9,-999.000,9,-999.0000,-999.000,-999.000,-999.000
      74AB29_1,    I5,    29,  1,      2,     2.,2,19871121,0420,-33.0000,  43.6683,  906,    796.5,   9.7821,  34.7930,2,  34.7866,2,    214.9,2,  9.6884,    213.8,2,     9.13,2,    17.79,2,     0.00,2,     1.36,2, -999.000,5, -999.000,5, -999.000,5,-999.0000,5,  -999.00,9,-999.000,9,-999.0000,-999.000,-999.000,-999.000
      74AB29_1,    I5,    29,  1,      1,     1.,2,19871121,0420,-33.0000,  43.6683,  906,    908.7,   8.6662,  34.6850,2,  34.6741,2,    209.6,2,  8.5661,    208.6,2,    12.97,2,    20.82,2,     0.00,2,     1.52,2, -999.000,5, -999.000,5, -999.000,5,-999.0000,5,  -999.00,9,-999.000,9,-999.0000,-999.000,-999.000,-999.000
      74AB29_1,    I5,    30,  1,     11,    11.,2,19871121,0911,-32.9933,  44.4900,  964,      1.4,  19.8708,  34.5860,2,  35.5571,2,    201.7,2, 19.8705,    234.0,2,     1.63,2,     0.00,2,     0.00,2,     0.12,2,    1.996,2,    1.171,2, -999.000,5,-999.0000,5,  -999.00,9,-999.000,9,-999.0000,-999.000,-999.000,-999.000
      74AB29_1,    I5,    30,  1,     10,    10.,2,19871121,0911,-32.9933,  44.4900,  964,     55.0,  18.3713,  35.6250,2,  35.6263,2,    228.2,2, 18.3617,    236.6,2,     1.81,2,     0.00,2,     0.00,2,     0.21,2,    2.033,2,    1.161,2, -999.000,5,-999.0000,5,  -999.00,9,-999.000,9,-999.0000,-999.000,-999.000,-999.000
      74AB29_1,    I5,    30,  1,      9,     9.,2,19871121,0911,-32.9933,  44.4900,  964,    153.0,  16.4373,  35.6000,2,  35.5732,2,    224.2,2, 16.4125,    224.0,2,     3.34,2,     3.61,2,     0.00,2,     0.38,2,    2.100,2,    1.135,2, -999.000,5,-999.0000,5,  -999.00,9,-999.000,9,-999.0000,-999.000,-999.000,-999.000
      74AB29_1,    I5,    30,  1,      8,     8.,2,19871121,0911,-32.9933,  44.4900,  964,    254.9,  15.4993,  35.4960,2,  35.4880,2,    218.0,2, 15.4596,    219.3,2,     3.68,2,     5.37,2,     0.00,2,     0.49,2,    2.036,2,    1.181,2, -999.000,5,-999.0000,5,  -999.00,9,-999.000,9,-999.0000,-999.000,-999.000,-999.000
      74AB29_1,    I5,    30,  1,      7,     7.,2,19871121,0911,-32.9933,  44.4900,  964,    351.1,  14.2454,  35.3680,2,  35.3628,2,    216.2,2, 14.1936,    218.9,2,     4.03,2,     7.62,2,     0.00,2,     0.63,2,    1.971,2,    1.070,2, -999.000,5,-999.0000,5,  -999.00,9,-999.000,9,-999.0000,-999.000,-999.000,-999.000
      74AB29_1,    I5,    30,  1,      6,     6.,2,19871121,0911,-32.9933,  44.4900,  964,    458.6,  13.3734,  35.2330,2,  35.2522,2,    221.4,2, 13.3084,    220.6,2,     4.38,2,     9.09,2,     0.00,2,     0.75,2,    1.876,2,    1.031,2, -999.000,5,-999.0000,5,  -999.00,9,-999.000,9,-999.0000,-999.000,-999.000,-999.000
      74AB29_1,    I5,    30,  1,      5,     5.,2,19871121,0911,-32.9933,  44.4900,  964,    549.6,  12.3155,  35.0980,2,-999.0000,5,    220.5,2, 12.2741,    219.3,2,     4.89,2,    11.43,2,     0.00,2,     0.93,2,    1.593,2,    0.885,2, -999.000,5,-999.0000,5,  -999.00,9,-999.000,9,-999.0000,-999.000,-999.000,-999.000
      74AB29_1,    I5,    30,  1,      4,     4.,2,19871121,0911,-32.9933,  44.4900,  964,    650.1,  10.9980,  34.9270,2,  34.9284,2,    216.6,2, 10.9163,    218.1,2,     6.25,2,    14.56,2,     0.00,2,     1.11,2,    1.303,2,    0.720,2, -999.000,5,-999.0000,5,  -999.00,9,-999.000,9,-999.0000,-999.000,-999.000,-999.000
      74AB29_1,    I5,    30,  1,      3,     3.,2,19871121,0911,-32.9933,  44.4900,  964,    733.8,   9.7706,  34.7870,2,  34.7860,2,    213.5,2,  9.6846,    213.8,2,     9.30,2,    17.79,2,     0.00,2,     1.31,2,    1.014,2,    0.538,2, -999.000,5,-999.0000,5,  -999.00,9,-999.000,9,-999.0000,-999.000,-999.000,-999.000
      74AB29_1,    I5,    30,  1,      2,     2.,2,19871121,0911,-32.9933,  44.4900,  964,    850.3,   8.4043,  34.6590,2,  34.6533,2,    208.3,2,  8.3126,    208.6,2,    14.20,2,    21.60,2,     0.00,2,     1.55,2,    0.828,2,    0.483,2, -999.000,5,-999.0000,5,  -999.00,9,-999.000,9,-999.0000,-999.000,-999.000,-999.000
      74AB29_1,    I5,    30,  1,      1,     1.,2,19871121,0911,-32.9933,  44.4900,  964,    958.7,   7.5723,  34.5860,2,  34.5818,2,    201.3,2,  7.4742,    206.4,2,    17.93,2,    23.75,2,     0.00,2,     1.75,2,    0.686,2,    0.415,2, -999.000,5,-999.0000,5,  -999.00,9,-999.000,9,-999.0000,-999.000,-999.000,-999.000