BOTTLE,20060509WHPSIOSA
EXPOCODE,SECT_ID,STNNBR,CASTNO,SAMPNO,BTLNBR,BTLNBR_FLAG_W,DATE,TIME,LATITUDE,LONGITUDE,DEPTH,CTDPRS,CTDTMP,CTDSAL,CTDSAL_FLAG_W,SALNTY,SALNTY_FLAG_W,CTDOXY,CTDOXY_FLAG_W,THETA,OXYGEN,OXYGEN_FLAG_W,SILCAT,SILCAT_FLAG_W,NITRAT,NITRAT_FLAG_W,NITRIT,NITRIT_FLAG_W,PHSPHT,PHSPHT_FLAG_W,CFC-11,CFC-11_FLAG_W,CFC-12,CFC-12_FLAG_W,TRITUM,TRITUM_FLAG_W,HELIUM,HELIUM_FLAG_W,DELHE3,DELHE3_FLAG_W,NEON,NEON_FLAG_W,HELIER,TRITER,NEONER,DELHER
,,,,,,,,,,,,DBAR,IPTS-68,PSS-78,,PSS-78,,UMOL/KG,,IPTS-68,UMOL/KG,,UMOL/KG,,UMOL/KG,,UMOL/KG,,UMOL/KG,,PMOL/KG,,PMOL/KG,,TU,,UMOL/KG,,PERCNT,,NMOL/KG,,NMOL/KG,TU,NMOL/KG,PERCNT
      74AB29_1,    I5,    84,  1,     24,    24.,2,19871210,0429,-32.3350, 102.0000, 3740,     15.9,  17.0718,  35.6830,2,  35.6988,2,    245.9,2, 17.0692,    247.0,2,     1.94,2,     0.20,2,     0.00,2,     0.22,2,    2.307,2,    1.340,2, -999.000,5,-999.0000,5,  -999.00,9,-999.000,9,-999.0000,-999.000,-999.000,-999.000
      74AB29_1,    I5,    84,  1,     23,    23.,2,19871210,0429,-32.3350, 102.0000, 3740,    102.5,  14.7944,  35.5480,2,  35.5450,2,    242.3,2, 14.7790,    242.7,2,     1.93,2,     2.25,2,     0.00,2,     0.33,2,    2.320,2,    1.309,2, -999.000,5,-999.0000,5,  -999.00,9,-999.000,9,-999.0000,-999.000,-999.000,-999.000
      74AB29_1,    I5,    84,  1,     22,    22.,2,19871210,0429,-32.3350, 102.0000, 3740,    201.7,  12.9784,  35.2510,2,  35.2530,2,    231.0,2, 12.9506,    236.7,2,     2.59,2,     6.94,2,     0.00,2,     0.57,2,    2.375,2,    1.363,2, -999.000,5,-999.0000,5,  -999.00,9,-999.000,9,-999.0000,-999.000,-999.000,-999.000
      74AB29_1,    I5,    84,  1,     21,    21.,2,19871210,0429,-32.3350, 102.0000, 3740,    300.3,  11.4360,  35.0170,2,  35.0031,2,    241.9,2, 11.3979,    244.1,2,     3.08,2,    10.07,2,     0.00,2,     0.77,2,    2.509,2,    1.400,2, -999.000,5,-999.0000,5,  -999.00,9,-999.000,9,-999.0000,-999.000,-999.000,-999.000
      74AB29_1,    I5,    84,  1,     20,    20.,2,19871210,0429,-32.3350, 102.0000, 3740,    401.0,  10.5801,  34.8670,2,  34.8528,2,    247.1,2, 10.5315,    246.3,2,     4.07,2,    12.41,2,     0.00,2,     0.94,2,    2.489,2,    1.370,2, -999.000,5,-999.0000,5,  -999.00,9,-999.000,9,-999.0000,-999.000,-999.000,-999.000
      74AB29_1,    I5,    84,  1,     19,    19.,2,19871210,0429,-32.3350, 102.0000, 3740,    501.2,   9.8186,  34.7400,2,  34.7382,2,    242.7,2,  9.7604,    242.0,2,     4.40,2,    14.86,2,     0.00,2,     1.08,2,    2.319,2,    1.337,2, -999.000,5,-999.0000,5,  -999.00,9,-999.000,9,-999.0000,-999.000,-999.000,-999.000
      74AB29_1,    I5,    84,  1,     18,    18.,2,19871210,0429,-32.3350, 102.0000, 3740,    599.5,   9.2377,  34.6630,2,  34.6669,2,    240.5,2,  9.1703,    237.7,2,     5.22,2,    17.30,2,     0.00,2,     1.23,2,    2.012,2,    1.115,2, -999.000,5,-999.0000,5,  -999.00,9,-999.000,9,-999.0000,-999.000,-999.000,-999.000
      74AB29_1,    I5,    84,  1,     17,    17.,2,19871210,0429,-32.3350, 102.0000, 3740,    801.0,   7.5428,  34.5140,2,  34.5207,2,    208.3,2,  7.4619,    205.5,2,    14.28,2,    24.63,2,     0.00,2,     1.70,2,    0.718,2,    0.439,2, -999.000,5,-999.0000,5,  -999.00,9,-999.000,9,-999.0000,-999.000,-999.000,-999.000
      74AB29_1,    I5,    84,  1,     16,    16.,2,19871210,0429,-32.3350, 102.0000, 3740,    899.6,   5.8675,  34.4170,2,  34.4176,2,    199.1,2,  5.7874,    199.0,2,    24.18,2,    28.84,2,     0.00,2,     2.00,2,    0.395,2,    0.245,2, -999.000,5,-999.0000,5,  -999.00,9,-999.000,9,-999.0000,-999.000,-999.000,-999.000
      74AB29_1,    I5,    84,  1,     15,    15.,2,19871210,0429,-32.3350, 102.0000, 3740,    999.7,   4.6807,  34.3830,2,  34.3792,2,    195.2,2,  4.6000,    196.0,2,    34.40,2,    31.19,2,     0.00,2,     2.20,2,    0.241,2,    0.156,2, -999.000,5,-999.0000,5,  -999.00,9,-999.000,9,-999.0000,-999.000,-999.000,-999.000
      74AB29_1,    I5,    84,  1,     14,    14.,2,19871210,0429,-32.3350, 102.0000, 3740,   1199.5,   3.6548,  34.4410,2,  34.4483,2,    176.5,2,  3.5655,    172.1,2,    57.66,2,    34.12,2,     0.00,2,     2.44,2,    0.068,2,    0.051,2, -999.000,5,-999.0000,5,  -999.00,9,-999.000,9,-999.0000,-999.000,-999.000,-999.000
      74AB29_1,    I5,    84,  1,     13,    13.,2,19871210,0429,-32.3350, 102.0000, 3740,   1399.0,   3.2009,  34.5270,2,  34.5404,2,    160.8,2,  3.0993,    157.3,2,    73.81,2,    35.19,2,     0.00,2,     2.53,2,    0.025,2, -999.000,5, -999.000,5,-999.0000,5,  -999.00,9,-999.000,9,-999.0000,-999.000,-999.000,-999.000
      74AB29_1,    I5,    84,  1,     12,    12.,2,19871210,0429,-32.3350, 102.0000, 3740,   1598.2,   2.8739,  34.6080,2,  34.6048,2,    158.6,2,  2.7592,    158.2,2,    81.89,2,    34.80,2,     0.00,2,     2.50,2, -999.000,5, -999.000,5, -999.000,5,-999.0000,5,  -999.00,9,-999.000,9,-999.0000,-999.000,-999.000,-999.000
      74AB29_1,    I5,    84,  1,     11,    11.,2,19871210,0429,-32.3350, 102.0000, 3740,   1799.9,   2.6480,  34.6610,2,  34.6580,2,    162.5,2,  2.5190,    161.2,2,    88.81,2,    34.41,2,     0.00,2,     2.46,2,    0.014,2,    0.000,2, -999.000,5,-999.0000,5,  -999.00,9,-999.000,9,-999.0000,-999.000,-999.000,-999.000
      74AB29_1,    I5,    84,  1,     10,    10.,2,19871210,0429,-32.3350, 102.0000, 3740,   1999.1,   2.4185,  34.6990,2,  34.6971,2,    171.2,2,  2.2755,    172.1,2,    90.29,2,    33.43,2,     0.00,2,     2.38,2, -999.000,5, -999.000,5, -999.000,5,-999.0000,5,  -999.00,9,-999.000,9,-999.0000,-999.000,-999.000,-999.000
      74AB29_1,    I5,    84,  1,      9,     9.,2,19871210,0429,-32.3350, 102.0000, 3740,   2200.4,   2.2590,  34.7200,2,  34.7182,2,    178.6,2,  2.1008,    179.9,2,    90.78,2,    32.55,2,     0.00,2,     2.32,2, -999.000,5, -999.000,5, -999.000,5,-999.0000,5,  -999.00,9,-999.000,9,-999.0000,-999.000,-999.000,-999.000
      74AB29_1,    I5,    84,  1,      8,     8.,2,19871210,0429,-32.3350, 102.0000, 3740,   2400.2,   2.0601,  34.7350,2,  34.7347,2,    185.1,2,  1.8874,    186.8,2,    92.93,2,    31.86,2,     0.00,2,     2.27,2, -999.000,5, -999.000,5, -999.000,5,-999.0000,5,  -999.00,9,-999.000,9,-999.0000,-999.000,-999.000,-999.000
      74AB29_1,    I5,    84,  1,      7,     7.,2,19871210,0429,-32.3350, 102.0000, 3740,   2602.3,   1.8921,  34.7410,2,  34.7396,2,    192.5,2,  1.7041,    192.5,2,    94.74,2,    31.57,2,     0.00,2,     2.24,2, -999.000,5, -999.000,5, -999.000,5,-999.0000,5,  -999.00,9,-999.000,9,-999.0000,-999.000,-999.000,-999.000
      74AB29_1,    I5,    84,  1,      6,     6.,2,19871210,0429,-32.3350, 102.0000, 3740,   2802.3,   1.7081,  34.7420,2,  34.7388,2,    195.5,2,  1.5052,    197.7,2,    98.86,2,    31.67,2,     0.00,2,     2.23,2, -999.000,5, -999.000,5, -999.000,5,-999.0000,5,  -999.00,9,-999.000,9,-999.0000,-999.000,-999.000,-999.000
      74AB29_1,    I5,    84,  1,      5,     5.,2,19871210,0429,-32.3350, 102.0000, 3740,   3002.2,   1.5662,  34.7380,2,  34.7357,2,    198.1,2,  1.3474,    199.0,2,   103.48,2,    31.76,2,     0.00,2,     2.25,2, -999.000,5, -999.000,5, -999.000,5,-999.0000,5,  -999.00,9,-999.000,9,-999.0000,-999.000,-999.000,-999.000
      74AB29_1,    I5,    84,  1,      4,     4.,2,19871210,0429,-32.3350, 102.0000, 3740,   3204.9,   1.4352,  34.7340,2,  34.7315,2,    201.6,2,  1.1998,    201.6,2,   106.78,2,    31.76,2,     0.00,2,     2.26,2, -999.000,5, -999.000,5, -999.000,5,-999.0000,5,  -999.00,9,-999.000,9,-999.0000,-999.000,-999.000,-999.000
      74AB29_1,    I5,    84,  1,      3,     3.,2,19871210,0429,-32.3350, 102.0000, 3740,   3403.7,   1.3222,  34.7300,2,  34.7272,2,    202.5,2,  1.0699,    204.2,2,   109.91,2,    32.06,2,     0.00,2,     2.26,2, -999.000,5, -999.000,5, -999.000,5,-999.0000,5,  -999.00,9,-999.000,9,-999.0000,-999.000,-999.000,-999.000
      74AB29_1,    I5,    84,  1,      2,     2.,2,19871210,0429,-32.3350, 102.0000, 3740,   3606.3,   1.2207,  34.7250,2,  34.7237,2,    204.7,2,  0.9506,    204.6,2,   113.21,2,    31.96,2,     0.00,2,     2.30,2, -999.000,5, -999.000,5, -999.000,5,-999.0000,5,  -999.00,9,-999.000,9,-999.0000,-999.000,-999.000,-999.000
      74AB29_1,    I5,    84,  1,      1,     1.,2,19871210,0429,-32.3350, 102.0000, 3740,   3788.9,   1.2052,  34.7230,2,  34.7233,2,    202.9,2,  0.9166,    204.6,2,   113.54,2,    31.96,2,     0.00,2,     2.31,2,    0.005,2,    0.000,2, -999.000,5,-999.0000,5,  -999.00,9,-999.000,9,-999.0000,-999.000,-999.000,-999.000
      74AB29_1,    I5,    85,  1,     23,    24.,2,19871210,0953,-32.4150, 102.4950, 4014,    101.0,  15.9208,  35.7970,2,  35.7906,2,    239.3,2, 15.9048,    242.2,2,     1.53,2,     0.10,2,     0.00,2,     0.25,2, -999.000,5, -999.000,5, -999.000,5,-999.0000,5,  -999.00,9,-999.000,9,-999.0000,-999.000,-999.000,-999.000
      74AB29_1,    I5,    85,  1,     22,    23.,2,19871210,0953,-32.4150, 102.4950, 4014,    202.2,  13.5974,  35.2900,2,  35.3196,2,    242.3,2, 13.5687,    244.1,2,     1.55,2,     4.30,2,     0.00,2,     0.47,2,    2.557,2,    1.383,2, -999.000,5,-999.0000,5,  -999.00,9,-999.000,9,-999.0000,-999.000,-999.000,-999.000
      74AB29_1,    I5,    85,  1,     21,    22.,2,19871210,0953,-32.4150, 102.4950, 4014,    301.3,  11.6070,  35.0760,2,  35.0228,2,    238.8,2, 11.5684,    243.7,2,     2.89,2,     9.58,2,     0.00,2,     0.76,2,    2.552,2,    1.296,2, -999.000,5,-999.0000,5,  -999.00,9,-999.000,9,-999.0000,-999.000,-999.000,-999.000
      74AB29_1,    I5,    85,  1,     20,    21.,2,19871210,0953,-32.4150, 102.4950, 4014,    401.6,  10.8196,  34.8910,2,  34.8894,2,    242.3,2, 10.7702,    244.1,2,     3.42,2,    11.63,2,     0.00,2,     0.91,2,    2.540,2,    1.355,2, -999.000,5,-999.0000,5,  -999.00,9,-999.000,9,-999.0000,-999.000,-999.000,-999.000
      74AB29_1,    I5,    85,  1,     19,    20.,2,19871210,0953,-32.4150, 102.4950, 4014,    500.9,  10.0411,  34.7880,2,  34.7710,2,    244.4,2,  9.9821,    242.9,2,     4.26,2,    14.07,2,     0.00,2,     1.07,2,    2.365,2,    1.278,2, -999.000,5,-999.0000,5,  -999.00,9,-999.000,9,-999.0000,-999.000,-999.000,-999.000
      74AB29_1,    I5,    85,  1,     18,    19.,2,19871210,0953,-32.4150, 102.4950, 4014,    749.7,   8.4353,  34.5950,2,  34.5861,2,    228.8,2,  8.3548,    222.5,2,     8.43,2,    20.92,2,     0.00,2,     1.48,2,    1.203,2,    0.674,2, -999.000,5,-999.0000,5,  -999.00,9,-999.000,9,-999.0000,-999.000,-999.000,-999.000
      74AB29_1,    I5,    85,  1,     17,    18.,2,19871210,0953,-32.4150, 102.4950, 4014,   1000.3,   4.7487,  34.3840,2,  34.3823,2,    193.9,2,  4.6675,    194.7,2,    33.75,2,    31.09,2,     0.00,2,     2.18,2,    0.250,2,    0.146,2, -999.000,5,-999.0000,5,  -999.00,9,-999.000,9,-999.0000,-999.000,-999.000,-999.000
      74AB29_1,    I5,    85,  1,     16,    17.,2,19871210,0953,-32.4150, 102.4950, 4014,   1198.9,   3.7108,  34.4490,2,  34.4379,2,    173.4,2,  3.6211,    173.8,2,    55.61,2,    34.12,2,     0.00,2,     2.44,2,    0.081,2,    0.047,2, -999.000,5,-999.0000,5,  -999.00,9,-999.000,9,-999.0000,-999.000,-999.000,-999.000
      74AB29_1,    I5,    85,  1,     15,    16.,2,19871210,0953,-32.4150, 102.4950, 4014,   1399.2,   3.2059,  34.5340,2,  34.5392,2,    159.5,2,  3.1043,    158.2,2,    73.16,2,    35.19,2,     0.00,2,     2.52,2,    0.024,2,    0.000,2, -999.000,5,-999.0000,5,  -999.00,9,-999.000,9,-999.0000,-999.000,-999.000,-999.000
      74AB29_1,    I5,    85,  1,     14,    15.,2,19871210,0953,-32.4150, 102.4950, 4014,   1601.4,   2.8844,  34.6100,2,  34.6122,2,    157.8,2,  2.7693,    156.4,2,    82.25,2,    34.80,2,     0.00,2,     2.49,2, -999.000,5, -999.000,5, -999.000,5,-999.0000,5,  -999.00,9,-999.000,9,-999.0000,-999.000,-999.000,-999.000
      74AB29_1,    I5,    85,  1,     13,    14.,2,19871210,0953,-32.4150, 102.4950, 4014,   1800.5,   2.6090,  34.6680,2,  34.6678,2,    163.8,2,  2.4805,    163.4,2,    89.04,2,    34.01,2,     0.00,2,     2.42,2, -999.000,5, -999.000,5, -999.000,5,-999.0000,5,  -999.00,9,-999.000,9,-999.0000,-999.000,-999.000,-999.000
      74AB29_1,    I5,    85,  1,     12,    13.,2,19871210,0953,-32.4150, 102.4950, 4014,   2000.8,   2.4380,  34.6960,2,  34.7026,2,    169.5,2,  2.2946,    169.5,2,    90.38,2,    33.23,2,     0.00,2,     2.37,2, -999.000,5, -999.000,5, -999.000,5,-999.0000,5,  -999.00,9,-999.000,9,-999.0000,-999.000,-999.000,-999.000
      74AB29_1,    I5,    85,  1,     11,    12.,2,19871210,0953,-32.4150, 102.4950, 4014,   2201.5,   2.2690,  34.7170,2,  34.7180,2,    175.1,2,  2.1106,    176.8,2,    92.55,2,    32.64,2,     0.00,2,     2.32,2, -999.000,5, -999.000,5, -999.000,5,-999.0000,5,  -999.00,9,-999.000,9,-999.0000,-999.000,-999.000,-999.000
      74AB29_1,    I5,    85,  1,     10,    11.,2,19871210,0953,-32.4150, 102.4950, 4014,   2401.1,   2.0761,  34.7330,2,  34.7341,2,    184.2,2,  1.9030,    184.7,2,    93.55,2,    31.86,2,     0.00,2,     2.26,2,    0.014,2, -999.000,5, -999.000,5,-999.0000,5,  -999.00,9,-999.000,9,-999.0000,-999.000,-999.000,-999.000
      74AB29_1,    I5,    85,  1,      9,    10.,2,19871210,0953,-32.4150, 102.4950, 4014,   2600.8,   1.9171,  34.7390,2,  34.7357,2,    187.3,2,  1.7288,    187.3,2,    99.18,2,    31.76,2,     0.00,2,     2.26,2, -999.000,5, -999.000,5, -999.000,5,-999.0000,5,  -999.00,9,-999.000,9,-999.0000,-999.000,-999.000,-999.000
      74AB29_1,    I5,    85,  1,      8,     9.,2,19871210,0953,-32.4150, 102.4950, 4014,   2800.8,   1.7091,  34.7400,2,  34.7410,2,    193.4,2,  1.5063,    194.6,2,   101.01,2,    31.47,2,     0.00,2,     2.24,2, -999.000,5, -999.000,5, -999.000,5,-999.0000,5,  -999.00,9,-999.000,9,-999.0000,-999.000,-999.000,-999.000
      74AB29_1,    I5,    85,  1,      7,     8.,2,19871210,0953,-32.4150, 102.4950, 4014,   3003.2,   1.5357,  34.7370,2,-999.0000,5,    198.1,2,  1.5337,    197.3,2,   103.34,2,    31.47,2,     0.00,2,     2.24,2, -999.000,5, -999.000,5, -999.000,5,-999.0000,5,  -999.00,9,-999.000,9,-999.0000,-999.000,-999.000,-999.000
      74AB29_1,    I5,    85,  1,      6,     7.,2,19871210,0953,-32.4150, 102.4950, 4014,   3202.8,   1.4217,  34.7330,2,  34.7353,2,    199.9,2,  1.1868,    200.7,2,   107.48,2,    31.57,2,     0.00,2,     2.25,2, -999.000,5,    0.000,2, -999.000,5,-999.0000,5,  -999.00,9,-999.000,9,-999.0000,-999.000,-999.000,-999.000
      74AB29_1,    I5,    85,  1,      5,     6.,2,19871210,0953,-32.4150, 102.4950, 4014,   3402.9,   1.3077,  34.7280,2,-999.0000,5,    201.2,2,  1.2986,    202.0,2,   111.14,2,    31.76,2,     0.00,2,     2.26,2, -999.000,5, -999.000,5, -999.000,5,-999.0000,5,  -999.00,9,-999.000,9,-999.0000,-999.000,-999.000,-999.000
      74AB29_1,    I5,    85,  1,      4,     5.,2,19871210,0953,-32.4150, 102.4950, 4014,   3606.0,   1.2162,  34.7240,2,  34.7248,2,    202.5,2,  0.9462,    203.3,2,   113.79,2,    31.86,2,     0.00,2,     2.27,2, -999.000,5, -999.000,5, -999.000,5,-999.0000,5,  -999.00,9,-999.000,9,-999.0000,-999.000,-999.000,-999.000
      74AB29_1,    I5,    85,  1,      3,     4.,2,19871210,0953,-32.4150, 102.4950, 4014,   3805.7,   1.1287,  34.7190,2,  34.7225,2,    204.2,2,  0.8405,    204.6,2,   116.46,2,    32.06,2,     0.00,2,     2.29,2, -999.000,5, -999.000,5, -999.000,5,-999.0000,5,  -999.00,9,-999.000,9,-999.0000,-999.000,-999.000,-999.000
      74AB29_1,    I5,    85,  1,      2,     3.,2,19871210,0953,-32.4150, 102.4950, 4014,   4006.7,   1.1022,  34.7170,2,  34.7162,2,    205.5,2,  0.7936,    205.1,2,   117.62,2,    31.96,2,     0.00,2,     2.28,2, -999.000,5, -999.000,5, -999.000,5,-999.0000,5,  -999.00,9,-999.000,9,-999.0000,-999.000,-999.000,-999.000
      74AB29_1,    I5,    85,  1,      1,     2.,2,19871210,0953,-32.4150, 102.4950, 4014,   4071.2,   1.1002,  34.7170,2,  34.7164,2,    204.7,2,  0.7847,    205.9,2,   117.63,2,    31.86,2,     0.00,2,     2.28,2, -999.000,5, -999.000,5, -999.000,5,-999.0000,5,  -999.00,9,-999.000,9,-999.0000,-999.000,-999.000,-999.000