BOTTLE,20060509WHPSIOSA
EXPOCODE,SECT_ID,STNNBR,CASTNO,SAMPNO,BTLNBR,BTLNBR_FLAG_W,DATE,TIME,LATITUDE,LONGITUDE,DEPTH,CTDPRS,CTDTMP,CTDSAL,CTDSAL_FLAG_W,SALNTY,SALNTY_FLAG_W,CTDOXY,CTDOXY_FLAG_W,THETA,OXYGEN,OXYGEN_FLAG_W,SILCAT,SILCAT_FLAG_W,NITRAT,NITRAT_FLAG_W,NITRIT,NITRIT_FLAG_W,PHSPHT,PHSPHT_FLAG_W,CFC-11,CFC-11_FLAG_W,CFC-12,CFC-12_FLAG_W,TRITUM,TRITUM_FLAG_W,HELIUM,HELIUM_FLAG_W,DELHE3,DELHE3_FLAG_W,NEON,NEON_FLAG_W,HELIER,TRITER,NEONER,DELHER
,,,,,,,,,,,,DBAR,IPTS-68,PSS-78,,PSS-78,,UMOL/KG,,IPTS-68,UMOL/KG,,UMOL/KG,,UMOL/KG,,UMOL/KG,,UMOL/KG,,PMOL/KG,,PMOL/KG,,TU,,UMOL/KG,,PERCNT,,NMOL/KG,,NMOL/KG,TU,NMOL/KG,PERCNT
      74AB29_1,    I5,    54,  1,     23,    24.,2,19871130,0120,-34.0000,  70.0050, 4336,      4.6,  18.8988,  35.7040,2,  35.7023,2,    235.1,2, 18.8980,    237.0,2,     1.21,2,     0.00,2,     0.00,2,     0.19,2,    2.137,2,    1.217,2, -999.000,5,-999.0000,5,  -999.00,9,-999.000,9,-999.0000,-999.000,-999.000,-999.000
      74AB29_1,    I5,    54,  1,     22,    23.,2,19871130,0120,-34.0000,  70.0050, 4336,     78.1,  16.8213,  35.6200,2,  35.6216,2,    245.9,2, 16.8085,    245.7,2,     1.21,2,     0.10,2,     0.00,2,     0.21,2,    2.217,2,    1.328,2, -999.000,5,-999.0000,5,  -999.00,9,-999.000,9,-999.0000,-999.000,-999.000,-999.000
      74AB29_1,    I5,    54,  1,     21,    22.,2,19871130,0120,-34.0000,  70.0050, 4336,    153.3,  15.1483,  35.4560,2,  35.4486,2,    235.0,2, 15.1249,    234.9,2,     1.99,2,     3.13,2,     0.00,2,     0.43,2,    2.289,2,    1.260,2, -999.000,5,-999.0000,5,  -999.00,9,-999.000,9,-999.0000,-999.000,-999.000,-999.000
      74AB29_1,    I5,    54,  1,     20,    21.,2,19871130,0120,-34.0000,  70.0050, 4336,    252.1,  13.7369,  35.3280,2,  35.3212,2,    223.6,2, 13.7007,    229.7,2,     3.35,2,     7.13,2,     0.00,2,     0.63,2,    2.360,2,    1.321,2, -999.000,5,-999.0000,5,  -999.00,9,-999.000,9,-999.0000,-999.000,-999.000,-999.000
      74AB29_1,    I5,    54,  1,     19,    20.,2,19871130,0120,-34.0000,  70.0050, 4336,    354.3,  13.1029,  35.2450,2,  35.2282,2,    232.3,2, 13.0535,    239.3,2,     3.55,2,     8.40,2,     0.00,2,     0.71,2,    2.034,2,    1.158,2, -999.000,5,-999.0000,5,  -999.00,9,-999.000,9,-999.0000,-999.000,-999.000,-999.000
      74AB29_1,    I5,    54,  1,     18,    19.,2,19871130,0120,-34.0000,  70.0050, 4336,    452.6,  12.3485,  35.1170,2,  35.1049,2,    232.3,2, 12.2877,    231.5,2,     3.94,2,    10.36,2,     0.00,2,     0.83,2,    2.016,2,    1.108,2, -999.000,5,-999.0000,5,  -999.00,9,-999.000,9,-999.0000,-999.000,-999.000,-999.000
      74AB29_1,    I5,    54,  1,     17,    18.,2,19871130,0120,-34.0000,  70.0050, 4336,    599.8,  11.1035,  34.9230,2,  34.9246,2,    230.1,2, 11.0278,    229.4,2,     4.72,2,    13.39,2,     0.00,2,     1.04,2,    1.661,2,    0.902,2, -999.000,5,-999.0000,5,  -999.00,9,-999.000,9,-999.0000,-999.000,-999.000,-999.000
      74AB29_1,    I5,    54,  1,     16,    17.,2,19871130,0120,-34.0000,  70.0050, 4336,    799.9,   8.9947,  34.6700,2,  34.6844,2,    210.9,2,  8.9052,    213.8,2,     9.38,2,    19.74,2,     0.00,2,     1.41,2,    0.897,2,    0.505,2, -999.000,5,-999.0000,5,  -999.00,9,-999.000,9,-999.0000,-999.000,-999.000,-999.000
      74AB29_1,    I5,    54,  1,     15,    16.,2,19871130,0120,-34.0000,  70.0050, 4336,   1001.3,   5.9245,  34.4430,2,  34.4316,2,    203.5,2,  5.8342,    206.4,2,    23.75,2,    27.57,2,     0.00,2,     1.97,2,    0.739,2,    0.380,2, -999.000,5,-999.0000,5,  -999.00,9,-999.000,9,-999.0000,-999.000,-999.000,-999.000
      74AB29_1,    I5,    54,  1,     14,    14.,2,19871130,0120,-34.0000,  70.0050, 4336,   1399.5,   3.2999,  34.4620,2,  34.4600,2,    179.5,2,  3.1974,    179.0,2,    58.08,2,    33.82,2,     0.00,2,     2.40,2,    0.101,2,    0.105,2, -999.000,5,-999.0000,5,  -999.00,9,-999.000,9,-999.0000,-999.000,-999.000,-999.000
      74AB29_1,    I5,    54,  1,     13,    13.,2,19871130,0120,-34.0000,  70.0050, 4336,   1580.4,   2.8979,  34.5460,2,  34.5386,2,    173.0,2,  2.7846,    174.7,2,    67.59,2,    33.92,2,     0.00,2,     2.39,2,    0.056,2,    0.038,2, -999.000,5,-999.0000,5,  -999.00,9,-999.000,9,-999.0000,-999.000,-999.000,-999.000
      74AB29_1,    I5,    54,  1,     12,    12.,2,19871130,0120,-34.0000,  70.0050, 4336,   1801.5,   2.6295,  34.6340,2,  34.6295,2,    176.0,2,  2.5007,    176.0,2,    73.02,2,    33.23,2,     0.00,2,     2.34,2, -999.000,5, -999.000,5, -999.000,5,-999.0000,5,  -999.00,9,-999.000,9,-999.0000,-999.000,-999.000,-999.000
      74AB29_1,    I5,    54,  1,     11,    11.,2,19871130,0120,-34.0000,  70.0050, 4336,   2000.0,   2.4390,  34.6900,2,  34.6855,2,    180.8,2,  2.2957,    182.1,2,    78.26,2,    32.55,2,     0.00,2,     2.28,2, -999.000,5, -999.000,5, -999.000,5,-999.0000,5,  -999.00,9,-999.000,9,-999.0000,-999.000,-999.000,-999.000
      74AB29_1,    I5,    54,  1,     10,    10.,2,19871130,0120,-34.0000,  70.0050, 4336,   2202.6,   2.2331,  34.7160,2,  34.7132,2,    180.3,2,  2.0752,    180.7,2,    89.51,2,    32.16,2,     0.00,2,     2.28,2,    0.014,2,    0.015,2, -999.000,5,-999.0000,5,  -999.00,9,-999.000,9,-999.0000,-999.000,-999.000,-999.000
      74AB29_1,    I5,    54,  1,      9,     9.,2,19871130,0120,-34.0000,  70.0050, 4336,   2402.8,   2.0791,  34.7250,2,  34.7272,2,    179.0,2,  1.9059,    180.3,2,   104.66,2,    32.64,2,     0.00,2,     2.33,2, -999.000,5, -999.000,5, -999.000,5,-999.0000,5,  -999.00,9,-999.000,9,-999.0000,-999.000,-999.000,-999.000
      74AB29_1,    I5,    54,  1,      8,     8.,2,19871130,0120,-34.0000,  70.0050, 4336,   2604.3,   1.9566,  34.7270,2,  34.7364,2,    179.0,2,  1.7672,    178.1,2,   106.22,2,    32.94,2,     0.00,2,     2.35,2, -999.000,5, -999.000,5, -999.000,5,-999.0000,5,  -999.00,9,-999.000,9,-999.0000,-999.000,-999.000,-999.000
      74AB29_1,    I5,    54,  1,      7,     7.,2,19871130,0120,-34.0000,  70.0050, 4336,   2804.2,   1.8501,  34.7280,2,  34.7272,2,    179.5,2,  1.6441,    178.1,2,   111.85,2,    33.13,2,     0.00,2,     2.36,2, -999.000,5, -999.000,5, -999.000,5,-999.0000,5,  -999.00,9,-999.000,9,-999.0000,-999.000,-999.000,-999.000
      74AB29_1,    I5,    54,  1,      6,     6.,2,19871130,0120,-34.0000,  70.0050, 4336,   3105.9,   1.7116,  34.7270,2,  34.7233,2,    180.8,2,  1.4796,    180.7,2,   116.12,2,    33.13,2,     0.00,2,     2.37,2, -999.000,5, -999.000,5, -999.000,5,-999.0000,5,  -999.00,9,-999.000,9,-999.0000,-999.000,-999.000,-999.000
      74AB29_1,    I5,    54,  1,      5,     5.,2,19871130,0120,-34.0000,  70.0050, 4336,   3405.3,   1.5647,  34.7230,2,  34.7213,2,    185.5,2,  1.3063,    187.7,2,   118.48,2,    33.13,2,     0.00,2,     2.36,2, -999.000,5, -999.000,5, -999.000,5,-999.0000,5,  -999.00,9,-999.000,9,-999.0000,-999.000,-999.000,-999.000
      74AB29_1,    I5,    54,  1,      4,     4.,2,19871130,0120,-34.0000,  70.0050, 4336,   3707.7,   1.3352,  34.7160,2,  34.7119,2,    192.5,2,  1.0517,    192.5,2,   121.59,2,    33.04,2,     0.00,2,     2.35,2, -999.000,5, -999.000,5, -999.000,5,-999.0000,5,  -999.00,9,-999.000,9,-999.0000,-999.000,-999.000,-999.000
      74AB29_1,    I5,    54,  1,      3,     3.,2,19871130,0120,-34.0000,  70.0050, 4336,   4010.0,   1.0402,  34.7070,2,  34.7040,2,    201.2,2,  0.7330,    201.6,2,   124.12,2,    32.84,2,     0.00,2,     2.33,2, -999.000,5, -999.000,5, -999.000,5,-999.0000,5,  -999.00,9,-999.000,9,-999.0000,-999.000,-999.000,-999.000
      74AB29_1,    I5,    54,  1,      2,     2.,2,19871130,0120,-34.0000,  70.0050, 4336,   4206.7,   0.8723,  34.7010,2,  34.6983,2,    207.3,2,  0.5490,    207.7,2,   125.49,2,    32.84,2,     0.00,2,     2.33,2, -999.000,5, -999.000,5, -999.000,5,-999.0000,5,  -999.00,9,-999.000,9,-999.0000,-999.000,-999.000,-999.000
      74AB29_1,    I5,    54,  1,      1,     1.,2,19871130,0120,-34.0000,  70.0050, 4336,   4399.3,   0.8458,  34.6990,2,  34.6918,2,    207.3,2,  0.5023,    208.6,2,   125.50,2,    32.65,2,     0.00,2,     2.30,2,    0.004,2, -999.000,5, -999.000,5,-999.0000,5,  -999.00,9,-999.000,9,-999.0000,-999.000,-999.000,-999.000
      74AB29_1,    I5,    55,  1,     22,    24.,2,19871130,1435,-34.0017,  71.9967, 4997,      1.5,  17.8158,  34.7040,2,  35.4158,2,    205.5,2, 17.8155,    243.2,2,     2.05,2,     0.00,2,     0.00,2,     0.21,2,    2.375,2,    1.313,2,    0.624,2,   1.7210,2,    -1.40,2,   7.150,2,  0.0090,   0.008,   0.140,   0.200
      74AB29_1,    I5,    55,  1,     21,    23.,2,19871130,1435,-34.0017,  71.9967, 4997,     72.6,  15.8343,  35.4340,2,  35.4365,2,    252.4,2, 15.8229,    257.9,2,     2.25,2,     0.10,2,     0.00,2,     0.24,2,    2.394,2,    1.340,2,    0.926,2,   1.7330,2,    -1.30,2,   7.250,2,  0.0090,   0.008,   0.140,   0.200
      74AB29_1,    I5,    55,  1,     20,    22.,2,19871130,1435,-34.0017,  71.9967, 4997,    153.2,  13.4119,  35.2630,2,  35.2617,2,    227.1,2, 13.3904,    232.4,2,     3.66,2,     7.52,2,     0.00,2,     0.63,2,    2.453,2,    1.266,2,    0.809,2,   1.7860,2,    -1.50,2,   7.410,2,  0.0090,   0.008,   0.150,   0.200
      74AB29_1,    I5,    55,  1,     19,    20.,2,19871130,1435,-34.0017,  71.9967, 4997,    350.7,  12.1490,  35.0780,2,  35.0770,2,    237.1,2, 12.1025,    236.7,2,     3.47,2,    10.36,2,     0.00,2,     0.83,2,    2.205,2,    1.198,2,    0.333,2,   1.7840,2,  -999.00,9,   7.310,2,  0.0090,   0.008,   0.150,-999.000
      74AB29_1,    I5,    55,  1,     18,    19.,2,19871130,1435,-34.0017,  71.9967, 4997,    451.4,  11.5590,  34.9770,2,  34.9817,2,    234.9,2, 11.5009,    236.7,2,     5.07,2,    11.92,2,     0.00,2,     0.93,2,    2.136,2,    1.168,2, -999.000,9,   1.6880,2,    -1.20,2,   7.610,2,  0.0080,-999.000,   0.150,   0.200
      74AB29_1,    I5,    55,  1,     17,    18.,2,19871130,1435,-34.0017,  71.9967, 4997,    551.4,  10.7206,  34.8540,2,  34.8629,2,    227.5,2, 10.6527,    232.0,2,     4.28,2,    14.07,2,     0.00,2,     1.10,2,    1.866,2,    1.053,2, -999.000,9,   1.8180,2,  -999.00,9,   7.700,2,  0.0090,-999.000,   0.150,-999.000
      74AB29_1,    I5,    55,  1,     16,    17.,2,19871130,1435,-34.0017,  71.9967, 4997,    700.0,   8.9977,  34.7040,2,  34.6781,2,    214.8,2,  8.9198,    213.8,2,    10.10,2,    19.74,2,     0.00,2,     1.44,2,    1.061,2,    0.647,2,    0.210,2,   1.8310,2,     1.20,2,   7.730,2,  0.0090,   0.008,   0.150,   0.200
      74AB29_1,    I5,    55,  1,     15,    16.,2,19871130,1435,-34.0017,  71.9967, 4997,    901.2,   6.1835,  34.4570,2,  34.4438,2,    202.6,2,  6.1011,    207.3,2,    22.13,2,    27.08,2,     0.00,2,     1.92,2,    0.738,2,    0.380,2, -999.000,9,   1.8230,2,     1.80,2,   7.760,2,  0.0090,-999.000,   0.160,   0.200
      74AB29_1,    I5,    55,  1,     14,    14.,2,19871130,1435,-34.0017,  71.9967, 4997,   1300.7,   3.3314,  34.4340,2,  34.4385,2,    184.3,2,  3.2369,    186.0,2,    54.80,2,    33.53,2,     0.00,2,     2.39,2,    0.192,2,    0.132,2, -999.000,9,   1.9010,2,     3.80,2,   8.180,2,  0.0100,-999.000,   0.160,   0.200
      74AB29_1,    I5,    55,  1,     13,    13.,2,19871130,1435,-34.0017,  71.9967, 4997,   1500.8,   2.8939,  34.5250,2,  34.5286,2,    175.6,2,  2.7873,    176.9,2,    66.42,2,    33.92,2,     0.00,2,     2.40,2,    0.092,2,    0.068,2, -999.000,9,   1.8730,2,     7.70,2,   8.280,2,  0.0090,-999.000,   0.170,   0.200
      74AB29_1,    I5,    55,  1,     12,    12.,2,19871130,1435,-34.0017,  71.9967, 4997,   1800.6,   2.5600,  34.6500,2,  34.6498,2,    176.9,2,  2.4322,    179.0,2,    76.05,2,    32.74,2,     0.00,2,     2.32,2, -999.000,5, -999.000,5, -999.000,5,-999.0000,5,  -999.00,9,-999.000,9,-999.0000,-999.000,-999.000,-999.000
      74AB29_1,    I5,    55,  1,     11,    11.,2,19871130,1435,-34.0017,  71.9967, 4997,   1999.9,   2.3500,  34.7020,2,  34.7026,2,    180.8,2,  2.2080,    184.7,2,    81.08,2,    31.96,2,     0.00,2,     2.29,2, -999.000,5, -999.000,5, -999.000,5,-999.0000,5,  -999.00,9,-999.000,9,-999.0000,-999.000,-999.000,-999.000
      74AB29_1,    I5,    55,  1,     10,    10.,2,19871130,1435,-34.0017,  71.9967, 4997,   2300.5,   2.0801,  34.7280,2,  34.7256,2,    181.2,2,  1.9160,    182.5,2,    98.93,2,    32.25,2,     0.00,2,     2.30,2, -999.000,5, -999.000,5, -999.000,5,-999.0000,5,  -999.00,9,-999.000,9,-999.0000,-999.000,-999.000,-999.000
      74AB29_1,    I5,    55,  1,      9,     9.,2,19871130,1435,-34.0017,  71.9967, 4997,   2604.7,   1.9036,  34.7300,2,  34.7284,2,    179.5,2,  1.7152,    179.9,2,   109.16,2,    32.84,2,     0.00,2,     2.34,2,    0.005,2,    0.000,2, -999.000,5,-999.0000,5,  -999.00,9,-999.000,9,-999.0000,-999.000,-999.000,-999.000
      74AB29_1,    I5,    55,  1,      8,     8.,2,19871130,1435,-34.0017,  71.9967, 4997,   2904.3,   1.7556,  34.7280,2,  34.7317,2,    179.9,2,  1.5421,    180.7,2,   115.80,2,    33.13,2,     0.00,2,     2.38,2, -999.000,5, -999.000,5, -999.000,5,-999.0000,5,  -999.00,9,-999.000,9,-999.0000,-999.000,-999.000,-999.000
      74AB29_1,    I5,    55,  1,      7,     7.,2,19871130,1435,-34.0017,  71.9967, 4997,   3204.7,   1.6202,  34.7260,2,  34.7250,2,    182.5,2,  1.3805,    183.8,2,   119.03,2,    33.13,2,     0.00,2,     2.36,2, -999.000,5, -999.000,5, -999.000,5,-999.0000,5,  -999.00,9,-999.000,9,-999.0000,-999.000,-999.000,-999.000
      74AB29_1,    I5,    55,  1,      6,     6.,2,19871130,1435,-34.0017,  71.9967, 4997,   3505.6,   1.3977,  34.7170,2,  34.7162,2,    190.3,2,  1.1333,    191.2,2,   122.86,2,    33.13,2,     0.00,2,     2.35,2,    0.000,2,    0.000,2, -999.000,9,   1.8750,2,    10.30,2,   8.360,2,  0.0090,-999.000,   0.170,   0.200
      74AB29_1,    I5,    55,  1,      5,     5.,2,19871130,1435,-34.0017,  71.9967, 4997,   3809.0,   1.1992,  34.7110,2,  34.7101,2,    195.1,2,  0.9088,    196.8,2,   124.68,2,    33.23,2,     0.00,2,     2.34,2, -999.000,5, -999.000,5, -999.000,5,-999.0000,5,  -999.00,9,-999.000,9,-999.0000,-999.000,-999.000,-999.000
      74AB29_1,    I5,    55,  1,      4,     4.,2,19871130,1435,-34.0017,  71.9967, 4997,   4106.0,   1.0882,  34.7070,2,  34.7085,2,    199.4,2,  0.7694,    201.2,2,   125.29,2,    32.84,2,     0.00,2,     2.31,2,    0.001,2,    0.000,2,    0.169,2,   1.9230,2,     7.20,2,   8.400,2,  0.0100,   0.008,   0.170,   0.200
      74AB29_1,    I5,    55,  1,      3,     3.,2,19871130,1435,-34.0017,  71.9967, 4997,   4410.8,   1.0368,  34.7050,2,  34.7016,2,    203.8,2,  0.6861,    203.8,2,   126.52,2,    32.94,2,     0.00,2,     2.30,2, -999.000,5, -999.000,5, -999.000,5,-999.0000,5,  -999.00,9,-999.000,9,-999.0000,-999.000,-999.000,-999.000
      74AB29_1,    I5,    55,  1,      2,     2.,2,19871130,1435,-34.0017,  71.9967, 4997,   4711.7,   1.0557,  34.7040,2,  34.7054,2,    204.2,2,  0.6702,    203.8,2,   126.53,2,    32.84,2,     0.00,2,     2.29,2,    0.000,2,    0.000,2, -999.000,9,   1.9160,2,     7.10,2,   8.360,2,  0.0100,-999.000,   0.170,   0.200
      74AB29_1,    I5,    55,  1,      1,     1.,2,19871130,1435,-34.0017,  71.9967, 4997,   5068.2,   1.0947,  34.7040,2,  34.7050,2,    205.1,2,  0.6658,    203.8,2,   125.75,2,    32.84,2,     0.00,2,     2.28,2,    0.002,2,    0.000,2, -999.000,5,-999.0000,5,  -999.00,9,-999.000,9,-999.0000,-999.000,-999.000,-999.000