BOTTLE,20060509WHPSIOSA
EXPOCODE,SECT_ID,STNNBR,CASTNO,SAMPNO,BTLNBR,BTLNBR_FLAG_W,DATE,TIME,LATITUDE,LONGITUDE,DEPTH,CTDPRS,CTDTMP,CTDSAL,CTDSAL_FLAG_W,SALNTY,SALNTY_FLAG_W,CTDOXY,CTDOXY_FLAG_W,THETA,OXYGEN,OXYGEN_FLAG_W,SILCAT,SILCAT_FLAG_W,NITRAT,NITRAT_FLAG_W,NITRIT,NITRIT_FLAG_W,PHSPHT,PHSPHT_FLAG_W,CFC-11,CFC-11_FLAG_W,CFC-12,CFC-12_FLAG_W,TRITUM,TRITUM_FLAG_W,HELIUM,HELIUM_FLAG_W,DELHE3,DELHE3_FLAG_W,NEON,NEON_FLAG_W,HELIER,TRITER,NEONER,DELHER
,,,,,,,,,,,,DBAR,IPTS-68,PSS-78,,PSS-78,,UMOL/KG,,IPTS-68,UMOL/KG,,UMOL/KG,,UMOL/KG,,UMOL/KG,,UMOL/KG,,PMOL/KG,,PMOL/KG,,TU,,UMOL/KG,,PERCNT,,NMOL/KG,,NMOL/KG,TU,NMOL/KG,PERCNT
      74AB29_1,    I5,    52,  1,     22,     5.,2,19871128,2340,-33.9967,  66.0033, 4582,      4.2,  18.9968,  35.6600,2,  35.6640,2,    235.6,2, 18.9961,    236.6,2,     2.23,2,     0.10,2,     0.00,2,     0.22,2,    2.103,2,    1.188,2, -999.000,5,-999.0000,5,  -999.00,9,-999.000,9,-999.0000,-999.000,-999.000,-999.000
      74AB29_1,    I5,    52,  1,     21,     4.,2,19871128,2340,-33.9967,  66.0033, 4582,     78.0,  15.6708,  35.5320,2,  35.4975,2,    250.7,2, 15.6586,    250.5,2,     2.81,2,     0.49,2,     0.00,2,     0.28,2,    2.343,2,    1.308,2, -999.000,5,-999.0000,5,  -999.00,9,-999.000,9,-999.0000,-999.000,-999.000,-999.000
      74AB29_1,    I5,    52,  1,     20,     3.,2,19871128,2340,-33.9967,  66.0033, 4582,    153.8,  14.9188,  35.4730,2,  35.4600,2,    238.9,2, 14.8955,    239.3,2,     2.64,2,     4.01,2,     0.00,2,     0.46,2,    2.422,2,    1.398,2, -999.000,5,-999.0000,5,  -999.00,9,-999.000,9,-999.0000,-999.000,-999.000,-999.000
      74AB29_1,    I5,    52,  1,     19,     2.,2,19871128,2340,-33.9967,  66.0033, 4582,    253.2,  14.1564,  35.3800,2,  35.3707,2,    233.2,2, 14.1193,    234.9,2,     3.42,2,     6.15,2,     0.00,2,     0.58,2,    2.221,2,    1.284,2, -999.000,5,-999.0000,5,  -999.00,9,-999.000,9,-999.0000,-999.000,-999.000,-999.000
      74AB29_1,    I5,    52,  1,     18,     1.,2,19871128,2340,-33.9967,  66.0033, 4582,    351.0,  13.4669,  35.2860,2,  35.2686,2,    233.2,2, 13.4171,    233.2,2,     3.82,2,     7.91,2,     0.00,2,     0.73,2,    2.071,2,    1.167,2, -999.000,5,-999.0000,5,  -999.00,9,-999.000,9,-999.0000,-999.000,-999.000,-999.000
      74AB29_1,    I5,    52,  1,     17,    24.,2,19871128,2340,-33.9967,  66.0033, 4582,    452.5,  12.8344,  35.1980,2,  35.1825,2,    233.6,2, 12.7720,    232.4,2,     4.21,2,     9.38,2,     0.00,2,     0.81,2, -999.000,5, -999.000,5, -999.000,5,-999.0000,5,  -999.00,9,-999.000,9,-999.0000,-999.000,-999.000,-999.000
      74AB29_1,    I5,    52,  1,     16,    23.,2,19871128,2340,-33.9967,  66.0033, 4582,    600.9,  11.4305,  34.9790,2,  34.9677,2,    223.2,2, 11.3532,    222.0,2,     4.80,2,    13.39,2,     0.00,2,     1.06,2,    1.655,2,    0.954,2, -999.000,5,-999.0000,5,  -999.00,9,-999.000,9,-999.0000,-999.000,-999.000,-999.000
      74AB29_1,    I5,    52,  1,     15,    22.,2,19871128,2340,-33.9967,  66.0033, 4582,    799.5,   9.0132,  34.7050,2,  34.6859,2,    214.4,2,  8.9236,    211.2,2,     9.78,2,    19.84,2,     0.00,2,     1.44,2,    1.027,2,    0.504,2, -999.000,5,-999.0000,5,  -999.00,9,-999.000,9,-999.0000,-999.000,-999.000,-999.000
      74AB29_1,    I5,    52,  1,     14,    21.,2,19871128,2340,-33.9967,  66.0033, 4582,   1000.2,   5.9375,  34.4450,2,  34.4369,2,    203.9,2,  5.8472,    205.1,2,    23.16,2,    27.86,2,     0.00,2,     1.96,2,    0.625,2,    0.337,2, -999.000,5,-999.0000,5,  -999.00,9,-999.000,9,-999.0000,-999.000,-999.000,-999.000
      74AB29_1,    I5,    52,  1,     13,    20.,2,19871128,2340,-33.9967,  66.0033, 4582,   1199.6,   4.1213,  34.3870,2,  34.3841,2,    195.6,2,  4.0279,    196.9,2,    39.59,2,    31.87,2,     0.00,2,     2.29,2,    0.313,2,    0.193,2, -999.000,5,-999.0000,5,  -999.00,9,-999.000,9,-999.0000,-999.000,-999.000,-999.000
      74AB29_1,    I5,    52,  1,     12,    19.,2,19871128,2340,-33.9967,  66.0033, 4582,   1399.2,   3.2564,  34.4560,2,  34.4522,2,    182.1,2,  3.1544,    183.0,2,    56.60,2,    33.92,2,     0.00,2,     2.43,2,    0.184,2,    0.112,2, -999.000,5,-999.0000,5,  -999.00,9,-999.000,9,-999.0000,-999.000,-999.000,-999.000
      74AB29_1,    I5,    52,  1,     11,    18.,2,19871128,2340,-33.9967,  66.0033, 4582,   1599.7,   2.8545,  34.5490,2,  34.5543,2,    173.8,2,  2.7401,    174.7,2,    67.51,2,    34.02,2,     0.00,2,     2.44,2,    0.051,2,    0.052,2, -999.000,5,-999.0000,5,  -999.00,9,-999.000,9,-999.0000,-999.000,-999.000,-999.000
      74AB29_1,    I5,    52,  1,     10,    17.,2,19871128,2340,-33.9967,  66.0033, 4582,   1798.6,   2.6240,  34.6300,2,  34.6339,2,    175.1,2,  2.4955,    175.5,2,    75.93,2,    33.23,2,     0.00,2,     2.38,2,    0.032,2, -999.000,5, -999.000,5,-999.0000,5,  -999.00,9,-999.000,9,-999.0000,-999.000,-999.000,-999.000
      74AB29_1,    I5,    52,  1,      9,    16.,2,19871128,2340,-33.9967,  66.0033, 4582,   2000.3,   2.4315,  34.6870,2,  34.6867,2,    179.5,2,  2.2883,    179.9,2,    81.10,2,    32.65,2,     0.00,2,     2.31,2, -999.000,5, -999.000,5, -999.000,5,-999.0000,5,  -999.00,9,-999.000,9,-999.0000,-999.000,-999.000,-999.000
      74AB29_1,    I5,    52,  1,      8,    14.,2,19871128,2340,-33.9967,  66.0033, 4582,   2391.9,   2.1046,  34.7230,2,-999.0000,5,    179.0,2,  2.1056,    179.4,2,    98.90,2,    32.65,2,     0.00,2,     2.33,2,    0.008,2, -999.000,5, -999.000,5,-999.0000,5,  -999.00,9,-999.000,9,-999.0000,-999.000,-999.000,-999.000
      74AB29_1,    I5,    52,  1,      7,    13.,2,19871128,2340,-33.9967,  66.0033, 4582,   2600.5,   1.9891,  34.7280,2,  34.7276,2,    179.0,2,  1.7994,    179.0,2,   105.79,2,    33.04,2,     0.00,2,     2.38,2,    0.010,2,    0.000,2, -999.000,5,-999.0000,5,  -999.00,9,-999.000,9,-999.0000,-999.000,-999.000,-999.000
      74AB29_1,    I5,    52,  1,      6,    12.,2,19871128,2340,-33.9967,  66.0033, 4582,   2800.9,   1.8826,  34.7300,2,  34.7276,2,    179.0,2,  1.6763,    179.0,2,   111.35,2,    33.13,2,     0.00,2,     2.38,2,    0.014,2,    0.000,2, -999.000,5,-999.0000,5,  -999.00,9,-999.000,9,-999.0000,-999.000,-999.000,-999.000
      74AB29_1,    I5,    52,  1,      5,    11.,2,19871128,2340,-33.9967,  66.0033, 4582,   3073.3,   1.7396,  34.7290,2,  34.7274,2,    181.6,2,  1.5101,    181.6,2,   115.01,2,    33.43,2,     0.00,2,     2.40,2, -999.000,5, -999.000,5, -999.000,5,-999.0000,5,  -999.00,9,-999.000,9,-999.0000,-999.000,-999.000,-999.000
      74AB29_1,    I5,    52,  1,      4,    10.,2,19871128,2340,-33.9967,  66.0033, 4582,   3404.2,   1.5792,  34.7250,2,  34.7241,2,    186.0,2,  1.3205,    185.1,2,   117.71,2,    33.23,2,     0.00,2,     2.39,2, -999.000,5, -999.000,5, -999.000,5,-999.0000,5,  -999.00,9,-999.000,9,-999.0000,-999.000,-999.000,-999.000
      74AB29_1,    I5,    52,  1,      3,     8.,2,19871128,2340,-33.9967,  66.0033, 4582,   4007.0,   0.9688,  34.7040,2,  34.7064,2,    203.3,2,  0.6640,    204.2,2,   124.61,2,    32.94,2,     0.00,2,     2.34,2,    0.000,2, -999.000,5, -999.000,5,-999.0000,5,  -999.00,9,-999.000,9,-999.0000,-999.000,-999.000,-999.000
      74AB29_1,    I5,    52,  1,      2,     7.,2,19871128,2340,-33.9967,  66.0033, 4582,   4310.1,   0.7763,  34.6980,2,  34.6958,2,    209.9,2,  0.4447,    210.7,2,   127.49,2,    32.84,2,     0.00,2,     2.32,2, -999.000,5, -999.000,5, -999.000,5,-999.0000,5,  -999.00,9,-999.000,9,-999.0000,-999.000,-999.000,-999.000
      74AB29_1,    I5,    52,  1,      1,     6.,2,19871128,2340,-33.9967,  66.0033, 4582,   4592.8,   0.7273,  34.6940,2,  34.6961,2,    211.6,2,  0.3660,    212.9,2,   127.90,2,    32.84,2,     0.00,2,     2.29,2, -999.000,5, -999.000,5, -999.000,5,-999.0000,5,  -999.00,9,-999.000,9,-999.0000,-999.000,-999.000,-999.000
      74AB29_1,    I5,    53,  1,     23,    24.,2,19871129,1200,-34.0017,  67.9983, 4547,      5.0,  19.3518,  35.7030,2,  35.6646,2,    236.5,2, 19.3509,    235.8,2,     1.89,2,     0.00,2,     0.00,2,     0.20,2,    2.299,2,    1.214,2, -999.000,5,-999.0000,5,  -999.00,9,-999.000,9,-999.0000,-999.000,-999.000,-999.000
      74AB29_1,    I5,    53,  1,     22,    23.,2,19871129,1200,-34.0017,  67.9983, 4547,     77.7,  17.0013,  35.5850,2,  35.6019,2,    247.7,2, 16.9885,    248.4,2,     2.27,2,     0.20,2,     0.00,2,     0.23,2,    2.269,2,    1.282,2, -999.000,5,-999.0000,5,  -999.00,9,-999.000,9,-999.0000,-999.000,-999.000,-999.000
      74AB29_1,    I5,    53,  1,     21,    22.,2,19871129,1200,-34.0017,  67.9983, 4547,    154.6,  15.0393,  35.4110,2,  35.4338,2,    226.7,2, 15.0158,    236.7,2,     2.83,2,     3.22,2,     0.00,2,     0.43,2,    2.496,2,    1.342,2, -999.000,5,-999.0000,5,  -999.00,9,-999.000,9,-999.0000,-999.000,-999.000,-999.000
      74AB29_1,    I5,    53,  1,     20,    21.,2,19871129,1200,-34.0017,  67.9983, 4547,    254.0,  13.7814,  35.3220,2,  35.3271,2,    224.1,2, 13.7449,    229.7,2,     4.01,2,     6.94,2,     0.00,2,     0.63,2,    2.320,2,    1.270,2, -999.000,5,-999.0000,5,  -999.00,9,-999.000,9,-999.0000,-999.000,-999.000,-999.000
      74AB29_1,    I5,    53,  1,     19,    20.,2,19871129,1200,-34.0017,  67.9983, 4547,    352.3,  13.1874,  35.2340,2,  35.2485,2,    234.5,2, 13.1381,    235.0,2,     4.00,2,     8.11,2,     0.00,2,     0.70,2,    2.213,2,    1.204,2, -999.000,5,-999.0000,5,  -999.00,9,-999.000,9,-999.0000,-999.000,-999.000,-999.000
      74AB29_1,    I5,    53,  1,     18,    19.,2,19871129,1200,-34.0017,  67.9983, 4547,    453.3,  12.5864,  35.1200,2,  35.1433,2,    235.4,2, 12.5247,    231.9,2,     4.38,2,     9.67,2,     0.00,2,     0.80,2,    2.111,2,    1.113,2, -999.000,5,-999.0000,5,  -999.00,9,-999.000,9,-999.0000,-999.000,-999.000,-999.000
      74AB29_1,    I5,    53,  1,     17,    18.,2,19871129,1200,-34.0017,  67.9983, 4547,    601.4,  11.4350,  34.9540,2,  34.9705,2,    227.9,2, 11.3577,    228.5,2,     5.74,2,    12.80,2,     0.00,2,     1.00,2,    1.767,2,    0.965,2, -999.000,5,-999.0000,5,  -999.00,9,-999.000,9,-999.0000,-999.000,-999.000,-999.000
      74AB29_1,    I5,    53,  1,     16,    17.,2,19871129,1200,-34.0017,  67.9983, 4547,    802.4,   9.2522,  34.6910,2,  34.7101,2,    214.4,2,  9.1609,    214.6,2,     9.24,2,    18.96,2,     0.00,2,     1.38,2,    1.080,2,    0.688,2, -999.000,5,-999.0000,5,  -999.00,9,-999.000,9,-999.0000,-999.000,-999.000,-999.000
      74AB29_1,    I5,    53,  1,     15,    16.,2,19871129,1200,-34.0017,  67.9983, 4547,   1001.4,   6.3565,  34.4640,2,  34.4661,2,    203.5,2,  6.2629,    204.2,2,    21.92,2,    26.79,2,     0.00,2,     1.87,2,    0.617,2,    0.285,2, -999.000,5,-999.0000,5,  -999.00,9,-999.000,9,-999.0000,-999.000,-999.000,-999.000
      74AB29_1,    I5,    53,  1,     14,    14.,2,19871129,1200,-34.0017,  67.9983, 4547,   1399.2,   3.4229,  34.4370,2,  34.4383,2,    185.6,2,  3.3192,    183.8,2,    54.46,2,    33.53,2,     0.00,2,     2.38,2,    0.158,2,    0.128,2, -999.000,5,-999.0000,5,  -999.00,9,-999.000,9,-999.0000,-999.000,-999.000,-999.000
      74AB29_1,    I5,    53,  1,     13,    13.,2,19871129,1200,-34.0017,  67.9983, 4547,   1599.4,   2.9544,  34.5360,2,  34.5325,2,    174.7,2,  2.8389,    174.7,2,    66.55,2,    34.12,2,     0.00,2,     2.39,2,    0.055,2,    0.041,2, -999.000,5,-999.0000,5,  -999.00,9,-999.000,9,-999.0000,-999.000,-999.000,-999.000
      74AB29_1,    I5,    53,  1,     12,    12.,2,19871129,1200,-34.0017,  67.9983, 4547,   1799.7,   2.6655,  34.6200,2,  34.6205,2,    175.1,2,  2.5364,    175.1,2,    74.93,2,    33.04,2,     0.00,2,     2.35,2, -999.000,5, -999.000,5, -999.000,5,-999.0000,5,  -999.00,9,-999.000,9,-999.0000,-999.000,-999.000,-999.000
      74AB29_1,    I5,    53,  1,     11,    11.,2,19871129,1200,-34.0017,  67.9983, 4547,   2000.5,   2.4650,  34.6790,2,  34.6830,2,    179.9,2,  2.3213,    179.9,2,    80.38,2,    31.96,2,     0.00,2,     2.27,2, -999.000,5, -999.000,5, -999.000,5,-999.0000,5,  -999.00,9,-999.000,9,-999.0000,-999.000,-999.000,-999.000
      74AB29_1,    I5,    53,  1,     10,    10.,2,19871129,1200,-34.0017,  67.9983, 4547,   2201.0,   2.2600,  34.7110,2,  34.7130,2,    181.2,2,  2.1018,    182.5,2,    89.16,2,    32.06,2,     0.00,2,     2.28,2, -999.000,5, -999.000,5, -999.000,5,-999.0000,5,  -999.00,9,-999.000,9,-999.0000,-999.000,-999.000,-999.000
      74AB29_1,    I5,    53,  1,      9,     9.,2,19871129,1200,-34.0017,  67.9983, 4547,   2400.5,   2.1181,  34.7250,2,  34.7292,2,    180.8,2,  1.9444,    181.6,2,    96.38,2,    32.06,2,     0.00,2,     2.28,2, -999.000,5, -999.000,5, -999.000,5,-999.0000,5,  -999.00,9,-999.000,9,-999.0000,-999.000,-999.000,-999.000
      74AB29_1,    I5,    53,  1,      8,     8.,2,19871129,1200,-34.0017,  67.9983, 4547,   2602.1,   1.9966,  34.7290,2,  34.7384,2,    179.9,2,  1.8066,    179.9,2,   110.42,2,    32.74,2,     0.00,2,     2.34,2,    0.019,2, -999.000,5, -999.000,5,-999.0000,5,  -999.00,9,-999.000,9,-999.0000,-999.000,-999.000,-999.000
      74AB29_1,    I5,    53,  1,      7,     7.,2,19871129,1200,-34.0017,  67.9983, 4547,   2801.6,   1.8806,  34.7310,2,  34.7319,2,    180.3,2,  1.6742,    179.9,2,   116.08,2,    32.84,2,     0.00,2,     2.34,2, -999.000,5, -999.000,5, -999.000,5,-999.0000,5,  -999.00,9,-999.000,9,-999.0000,-999.000,-999.000,-999.000
      74AB29_1,    I5,    53,  1,      6,     6.,2,19871129,1200,-34.0017,  67.9983, 4547,   3103.0,   1.7206,  34.7280,2,  34.7282,2,    181.6,2,  1.4886,    182.0,2,   115.89,2,    33.52,2,     0.00,2,     2.35,2, -999.000,5, -999.000,5, -999.000,5,-999.0000,5,  -999.00,9,-999.000,9,-999.0000,-999.000,-999.000,-999.000
      74AB29_1,    I5,    53,  1,      5,     5.,2,19871129,1200,-34.0017,  67.9983, 4547,   3404.3,   1.5577,  34.7240,2,  34.7260,2,    186.4,2,  1.2996,    185.1,2,   118.23,2,    33.23,2,     0.00,2,     2.34,2, -999.000,5, -999.000,5, -999.000,5,-999.0000,5,  -999.00,9,-999.000,9,-999.0000,-999.000,-999.000,-999.000
      74AB29_1,    I5,    53,  1,      4,     4.,2,19871129,1200,-34.0017,  67.9983, 4547,   3706.9,   1.3012,  34.7160,2,  34.7164,2,    192.9,2,  1.0186,    193.3,2,   121.56,2,    33.13,2,     0.00,2,     2.32,2, -999.000,5, -999.000,5, -999.000,5,-999.0000,5,  -999.00,9,-999.000,9,-999.0000,-999.000,-999.000,-999.000
      74AB29_1,    I5,    53,  1,      3,     3.,2,19871129,1200,-34.0017,  67.9983, 4547,   4007.4,   0.9788,  34.7050,2,  34.7099,2,    203.8,2,  0.6736,    205.1,2,   122.73,2,    32.84,2,     0.00,2,     2.27,2, -999.000,5, -999.000,5, -999.000,5,-999.0000,5,  -999.00,9,-999.000,9,-999.0000,-999.000,-999.000,-999.000
      74AB29_1,    I5,    53,  1,      2,     2.,2,19871129,1200,-34.0017,  67.9983, 4547,   4308.9,   0.7823,  34.6970,2,  34.6971,2,    209.9,2,  0.4506,    210.7,2,   127.23,2,    32.74,2,     0.00,2,     2.28,2, -999.000,5, -999.000,5, -999.000,5,-999.0000,5,  -999.00,9,-999.000,9,-999.0000,-999.000,-999.000,-999.000
      74AB29_1,    I5,    53,  1,      1,     1.,2,19871129,1200,-34.0017,  67.9983, 4547,   4623.8,   0.7348,  34.6940,2,  34.6912,2,    212.9,2,  0.3698,    212.9,2,   127.03,2,    32.74,2,     0.00,2,     2.28,2, -999.000,5, -999.000,5, -999.000,5,-999.0000,5,  -999.00,9,-999.000,9,-999.0000,-999.000,-999.000,-999.000