BOTTLE,20060509WHPSIOSA
EXPOCODE,SECT_ID,STNNBR,CASTNO,SAMPNO,BTLNBR,BTLNBR_FLAG_W,DATE,TIME,LATITUDE,LONGITUDE,DEPTH,CTDPRS,CTDTMP,CTDSAL,CTDSAL_FLAG_W,SALNTY,SALNTY_FLAG_W,CTDOXY,CTDOXY_FLAG_W,THETA,OXYGEN,OXYGEN_FLAG_W,SILCAT,SILCAT_FLAG_W,NITRAT,NITRAT_FLAG_W,NITRIT,NITRIT_FLAG_W,PHSPHT,PHSPHT_FLAG_W,CFC-11,CFC-11_FLAG_W,CFC-12,CFC-12_FLAG_W,TRITUM,TRITUM_FLAG_W,HELIUM,HELIUM_FLAG_W,DELHE3,DELHE3_FLAG_W,NEON,NEON_FLAG_W,HELIER,TRITER,NEONER,DELHER
,,,,,,,,,,,,DBAR,IPTS-68,PSS-78,,PSS-78,,UMOL/KG,,IPTS-68,UMOL/KG,,UMOL/KG,,UMOL/KG,,UMOL/KG,,UMOL/KG,,PMOL/KG,,PMOL/KG,,TU,,UMOL/KG,,PERCNT,,NMOL/KG,,NMOL/KG,TU,NMOL/KG,PERCNT
      74AB29_1,    I5,    14,  1,     20,    24.,2,19871116,2122,-32.1950,  32.5017, 3551,      8.1,  20.6133,  35.5880,2,  35.5932,2,    231.8,2, 20.6118,    227.1,2,     1.42,2,     0.00,2,     0.03,2,     0.21,2, -999.000,5, -999.000,5, -999.000,5,-999.0000,5,  -999.00,9,-999.000,9,-999.0000,-999.000,-999.000,-999.000
      74AB29_1,    I5,    14,  1,     19,    23.,2,19871116,2122,-32.1950,  32.5017, 3551,     95.2,  18.9473,  35.6460,2,  35.6443,2,    221.7,2, 18.9303,    217.5,2,     2.45,2,     1.66,2,     0.12,2,     0.29,2, -999.000,5, -999.000,5, -999.000,5,-999.0000,5,  -999.00,9,-999.000,9,-999.0000,-999.000,-999.000,-999.000
      74AB29_1,    I5,    14,  1,     18,    22.,2,19871116,2122,-32.1950,  32.5017, 3551,    196.7,  17.3014,  35.6220,2,  35.6188,2,    215.9,2, 17.2684,    218.0,2,     2.97,2,     3.32,2,     0.04,2,     0.35,2, -999.000,5, -999.000,5, -999.000,5,-999.0000,5,  -999.00,9,-999.000,9,-999.0000,-999.000,-999.000,-999.000
      74AB29_1,    I5,    14,  1,     17,    21.,2,19871116,2122,-32.1950,  32.5017, 3551,    291.6,  16.0120,  35.5180,2,  35.5227,2,    209.8,2, 15.9655,    208.0,2,     4.00,2,     5.86,2,     0.03,2,     0.40,2,    1.943,2,    1.062,2, -999.000,5,-999.0000,5,  -999.00,9,-999.000,9,-999.0000,-999.000,-999.000,-999.000
      74AB29_1,    I5,    14,  1,     16,    20.,2,19871116,2122,-32.1950,  32.5017, 3551,    393.8,  14.5622,  35.3870,2,  35.3989,2,    210.2,2, 14.5032,    213.2,2,     4.69,2,     7.62,2,     0.02,2,     0.51,2, -999.000,5, -999.000,5, -999.000,5,-999.0000,5,  -999.00,9,-999.000,9,-999.0000,-999.000,-999.000,-999.000
      74AB29_1,    I5,    14,  1,     15,    19.,2,19871116,2122,-32.1950,  32.5017, 3551,    491.2,  14.4177,  35.2530,2,  35.2700,2,    218.9,2, 14.3444,    217.6,2,     4.86,2,     9.28,2,     0.02,2,     0.65,2, -999.000,5, -999.000,5, -999.000,5,-999.0000,5,  -999.00,9,-999.000,9,-999.0000,-999.000,-999.000,-999.000
      74AB29_1,    I5,    14,  1,     14,    18.,2,19871116,2122,-32.1950,  32.5017, 3551,    591.6,  12.2920,  35.0900,2,  35.1029,2,    215.8,2, 12.2123,    216.7,2,     5.38,2,    12.12,2,     0.02,2,     0.82,2,    1.649,2,    0.921,2, -999.000,5,-999.0000,5,  -999.00,9,-999.000,9,-999.0000,-999.000,-999.000,-999.000
      74AB29_1,    I5,    14,  1,     13,    17.,2,19871116,2122,-32.1950,  32.5017, 3551,    692.4,  11.2501,  34.9510,2,  34.9622,2,    217.1,2, 11.1616,    217.6,2,     6.07,2,    14.27,2,     0.01,2,     0.97,2,    1.280,2,    0.790,2, -999.000,5,-999.0000,5,  -999.00,9,-999.000,9,-999.0000,-999.000,-999.000,-999.000
      74AB29_1,    I5,    14,  1,     12,    15.,2,19871116,2122,-32.1950,  32.5017, 3551,    941.0,   8.3656,  34.6490,2,-999.0000,5,    203.9,2,  8.3251,    204.2,2,  -999.00,5,  -999.00,5,  -999.00,5,  -999.00,5,    0.683,2,    0.394,2, -999.000,5,-999.0000,5,  -999.00,9,-999.000,9,-999.0000,-999.000,-999.000,-999.000
      74AB29_1,    I5,    14,  1,     11,    13.,2,19871116,2122,-32.1950,  32.5017, 3551,   1144.7,   6.0406,  34.5720,2,  34.5087,2,    179.6,2,  5.9351,    188.6,2,    31.41,2,    28.54,2,     0.01,2,     1.93,2,    0.319,2,    0.194,2, -999.000,5,-999.0000,5,  -999.00,9,-999.000,9,-999.0000,-999.000,-999.000,-999.000
      74AB29_1,    I5,    14,  1,     10,    12.,2,19871116,2122,-32.1950,  32.5017, 3551,   1194.5,   5.7407,  34.5190,2,  34.5156,2,    181.3,2,  5.6329,    181.2,2,    37.04,2,    29.72,2,     0.01,2,     2.04,2,    0.378,2,    0.225,2, -999.000,5,-999.0000,5,  -999.00,9,-999.000,9,-999.0000,-999.000,-999.000,-999.000
      74AB29_1,    I5,    14,  1,      9,    10.,2,19871116,2122,-32.1950,  32.5017, 3551,   1593.5,   3.9512,  34.6270,2,  34.6199,2,    159.1,2,  3.8239,    156.4,2,    69.82,2,    33.62,2,     0.00,2,     2.38,2,    0.054,2, -999.000,5, -999.000,5,-999.0000,5,  -999.00,9,-999.000,9,-999.0000,-999.000,-999.000,-999.000
      74AB29_1,    I5,    14,  1,      8,     8.,2,19871116,2122,-32.1950,  32.5017, 3551,   1998.9,   2.8610,  34.7160,2,  34.7154,2,    176.0,2,  2.7113,    176.0,2,    77.42,2,    31.67,2,     0.00,2,     2.20,2, -999.000,5, -999.000,5, -999.000,5,-999.0000,5,  -999.00,9,-999.000,9,-999.0000,-999.000,-999.000,-999.000
      74AB29_1,    I5,    14,  1,      7,     7.,2,19871116,2122,-32.1950,  32.5017, 3551,   2197.9,   2.6775,  34.7490,2,  34.7494,2,    185.1,2,  2.5125,    189.9,2,    75.17,2,    30.40,2,    -0.01,2,     2.16,2, -999.000,5, -999.000,5, -999.000,5,-999.0000,5,  -999.00,9,-999.000,9,-999.0000,-999.000,-999.000,-999.000
      74AB29_1,    I5,    14,  1,      6,     6.,2,19871116,2122,-32.1950,  32.5017, 3551,   2398.2,   2.5650,  34.7750,2,  34.7817,2,    194.7,2,  2.3833,    195.9,2,    66.25,2,    28.44,2,     0.00,2,     1.94,2, -999.000,5, -999.000,5, -999.000,5,-999.0000,5,  -999.00,9,-999.000,9,-999.0000,-999.000,-999.000,-999.000
      74AB29_1,    I5,    14,  1,      5,     5.,2,19871116,2122,-32.1950,  32.5017, 3551,   2700.8,   2.4441,  34.8000,2,  34.7962,2,    208.1,2,  2.2357,    210.7,2,    68.60,2,    28.15,2,     0.00,2,     1.92,2, -999.000,5, -999.000,5, -999.000,5,-999.0000,5,  -999.00,9,-999.000,9,-999.0000,-999.000,-999.000,-999.000
      74AB29_1,    I5,    14,  1,      4,     4.,2,19871116,2122,-32.1950,  32.5017, 3551,   2999.0,   2.2911,  34.8110,2,  34.8072,2,    216.8,2,  2.0564,    218.1,2,    68.74,2,    27.37,2,     0.00,2,     1.86,2, -999.000,5, -999.000,5, -999.000,5,-999.0000,5,  -999.00,9,-999.000,9,-999.0000,-999.000,-999.000,-999.000
      74AB29_1,    I5,    14,  1,      3,     3.,2,19871116,2122,-32.1950,  32.5017, 3551,   3000.6,   2.2876,  34.8110,2,  34.8096,2,    216.4,2,  2.0528,    219.8,2,    68.53,2,    27.56,2,     0.02,2,     1.86,2, -999.000,5, -999.000,5, -999.000,5,-999.0000,5,  -999.00,9,-999.000,9,-999.0000,-999.000,-999.000,-999.000
      74AB29_1,    I5,    14,  1,      2,     2.,2,19871116,2122,-32.1950,  32.5017, 3551,   3250.3,   2.0677,  34.8080,2,  34.8039,2,    222.0,2,  1.8126,    222.4,2,    73.27,2,    27.76,2,     0.03,2,     1.90,2, -999.000,5, -999.000,5, -999.000,5,-999.0000,5,  -999.00,9,-999.000,9,-999.0000,-999.000,-999.000,-999.000
      74AB29_1,    I5,    14,  1,      1,     1.,2,19871116,2122,-32.1950,  32.5017, 3551,   3585.1,   1.3474,  34.7600,2,  34.7577,2,    222.9,2,  1.0760,    220.7,2,    96.18,2,    29.81,2,     0.02,2,     2.15,2, -999.000,5, -999.000,5, -999.000,5,-999.0000,5,  -999.00,9,-999.000,9,-999.0000,-999.000,-999.000,-999.000
      74AB29_1,    I5,    15,  1,     20,    24.,2,19871117,0610,-32.5467,  33.4117, 3485,      9.9,  19.8788,  35.6460,2,  35.6656,2,    233.5,2, 19.8770,    230.5,2,     1.67,2,     0.00,2,     0.00,2,     0.16,2,    2.065,2,    1.199,2, -999.000,5,-999.0000,5,  -999.00,9,-999.000,9,-999.0000,-999.000,-999.000,-999.000
      74AB29_1,    I5,    15,  1,     19,    23.,2,19871117,0610,-32.5467,  33.4117, 3485,     93.0,  17.8894,  35.6800,2,  35.6622,2,    246.0,2, 17.8735,    223.6,2,     2.84,2,     2.05,2,     0.00,2,     0.29,2,    2.156,2,    1.268,2,    0.910,2,   1.7060,2,    -0.70,2,   7.070,2,  0.0090,   0.008,   0.140,   0.200
      74AB29_1,    I5,    15,  1,     18,    22.,2,19871117,0610,-32.5467,  33.4117, 3485,    195.2,  17.0805,  35.6350,2,-999.0000,5,    231.1,2, 17.0582,    226.6,2,  -999.00,5,  -999.00,5,  -999.00,5,  -999.00,5,    2.276,2,    1.220,2,    0.861,2,   1.6890,2,    -0.50,2,   6.980,2,  0.0080,   0.008,   0.140,   0.200
      74AB29_1,    I5,    15,  1,     17,    20.,2,19871117,0610,-32.5467,  33.4117, 3485,    393.0,  15.1276,  35.4310,2,  35.4438,2,    213.2,2, 15.0672,    208.0,2,     4.35,2,     7.03,2,     0.00,2,     0.60,2,    1.963,2,    1.093,2, -999.000,5,-999.0000,5,  -999.00,9,-999.000,9,-999.0000,-999.000,-999.000,-999.000
      74AB29_1,    I5,    15,  1,     16,    18.,2,19871117,0610,-32.5467,  33.4117, 3485,    590.7,  12.6869,  35.1460,2,  35.1492,2,    219.7,2, 12.6056,    218.9,2,     4.85,2,    10.94,2,     0.00,2,     0.89,2,    1.632,2,    0.952,2,    0.420,2,-999.0000,9,  -999.00,9,-999.000,9,-999.0000,   0.008,-999.000,-999.000
      74AB29_1,    I5,    15,  1,     15,    17.,2,19871117,0610,-32.5467,  33.4117, 3485,    693.2,  11.4866,  34.9800,2,  34.9858,2,    219.7,2, 11.3968,    217.2,2,     5.52,2,    13.58,2,     0.00,2,     1.02,2,    1.533,2,    0.870,2, -999.000,5,-999.0000,5,  -999.00,9,-999.000,9,-999.0000,-999.000,-999.000,-999.000
      74AB29_1,    I5,    15,  1,     14,    16.,2,19871117,0610,-32.5467,  33.4117, 3485,    791.5,  10.2968,  34.8230,2,  34.8495,2,    217.0,2, 10.2007,    213.3,2,     8.02,2,    16.52,2,     0.00,2,     1.19,2,    1.126,2,    0.688,2, -999.000,5,-999.0000,5,  -999.00,9,-999.000,9,-999.0000,-999.000,-999.000,-999.000
      74AB29_1,    I5,    15,  1,     13,    15.,2,19871117,0610,-32.5467,  33.4117, 3485,    893.0,   8.9935,  34.6880,2,-999.0000,5,    208.3,2,  8.9504,    207.7,2,    11.02,2,    17.88,2,     0.00,2,     1.30,2,    1.064,2,    0.563,2, -999.000,5,-999.0000,5,  -999.00,9,-999.000,9,-999.0000,-999.000,-999.000,-999.000
      74AB29_1,    I5,    15,  1,     12,    14.,2,19871117,0610,-32.5467,  33.4117, 3485,    992.2,   7.4363,  34.5640,2,  34.5698,2,    202.6,2,  7.3355,    199.5,2,    19.73,2,    24.93,2,     0.00,2,     1.75,2,    0.803,2,    0.467,2, -999.000,5,-999.0000,5,  -999.00,9,-999.000,9,-999.0000,-999.000,-999.000,-999.000
      74AB29_1,    I5,    15,  1,     11,    13.,2,19871117,0610,-32.5467,  33.4117, 3485,   1090.9,   6.1851,  34.4690,2,  34.4775,2,    199.6,2,  6.0838,    199.0,2,    26.40,2,    27.57,2,     0.00,2,     1.98,2,    0.784,2,    0.419,2, -999.000,5,-999.0000,5,  -999.00,9,-999.000,9,-999.0000,-999.000,-999.000,-999.000
      74AB29_1,    I5,    15,  1,     10,    12.,2,19871117,0610,-32.5467,  33.4117, 3485,   1192.4,   5.1239,  34.4420,2,  34.4383,2,    195.2,2,  5.0219,    196.0,2,    34.42,2,    30.01,2,     0.00,2,     2.12,2,    0.691,2,    0.406,2, -999.000,5,-999.0000,5,  -999.00,9,-999.000,9,-999.0000,-999.000,-999.000,-999.000
      74AB29_1,    I5,    15,  1,      9,    11.,2,19871117,0610,-32.5467,  33.4117, 3485,   1289.6,   4.6300,  34.4770,2,  34.4718,2,    183.9,2,  4.5235,    181.7,2,    46.10,2,    31.77,2,     0.00,2,     2.27,2,    0.359,2,    0.194,2, -999.000,5,-999.0000,5,  -999.00,9,-999.000,9,-999.0000,-999.000,-999.000,-999.000
      74AB29_1,    I5,    15,  1,      8,    10.,2,19871117,0610,-32.5467,  33.4117, 3485,   1492.3,   3.7682,  34.5680,2,  34.5455,2,    168.6,2,  3.6523,    167.3,2,    79.67,2,    33.63,2,     0.00,2,     2.39,2,    0.139,2,    0.135,2, -999.000,9,   1.9920,2,     7.80,2,   8.530,2,  0.0100,-999.000,   0.170,   0.200
      74AB29_1,    I5,    15,  1,      7,     9.,2,19871117,0610,-32.5467,  33.4117, 3485,   1596.2,   3.4613,  34.5810,2,  34.5885,2,    169.5,2,  3.3397,    168.6,2,    83.50,2,    33.23,2,     0.00,2,     2.38,2,    0.091,2,    0.059,2, -999.000,5,-999.0000,5,  -999.00,9,-999.000,9,-999.0000,-999.000,-999.000,-999.000
      74AB29_1,    I5,    15,  1,      6,     8.,2,19871117,0610,-32.5467,  33.4117, 3485,   1794.9,   3.2948,  34.6750,2,  34.6682,2,    165.1,2,  3.1574,    169.0,2,    77.80,2,    33.53,2,     0.00,2,     2.38,2,    0.031,2,    0.033,2, -999.000,5,-999.0000,5,  -999.00,9,-999.000,9,-999.0000,-999.000,-999.000,-999.000
      74AB29_1,    I5,    15,  1,      5,     7.,2,19871117,0610,-32.5467,  33.4117, 3485,   1995.5,   2.9304,  34.7130,2,  34.7079,2,    174.7,2,  2.7800,    172.5,2,    77.29,2,    32.06,2,     0.00,2,     2.25,2,    0.032,2,    0.021,2, -999.000,9,   1.8730,2,     6.20,2,   8.240,2,  0.0090,-999.000,   0.160,   0.200
      74AB29_1,    I5,    15,  1,      4,     5.,2,19871117,0610,-32.5467,  33.4117, 3485,   2398.8,   2.5755,  34.7760,2,  34.7754,2,    195.5,2,  2.3936,    202.0,2,    71.93,2,    29.61,2,     0.00,2,     2.04,2,    0.053,3,    0.016,2, -999.000,5,-999.0000,5,  -999.00,9,-999.000,9,-999.0000,-999.000,-999.000,-999.000
      74AB29_1,    I5,    15,  1,      3,     3.,2,19871117,0610,-32.5467,  33.4117, 3485,   3000.6,   2.2871,  34.8130,2,  34.8109,2,    217.7,2,  2.0523,    217.2,2,    67.75,2,    27.56,2,     0.00,2,     1.89,2, -999.000,5, -999.000,5, -999.000,5,-999.0000,5,  -999.00,9,-999.000,9,-999.0000,-999.000,-999.000,-999.000
      74AB29_1,    I5,    15,  1,      2,     2.,2,19871117,0610,-32.5467,  33.4117, 3485,   3248.9,   2.0362,  34.8060,2,  34.8039,2,    222.5,2,  1.7820,    219.8,2,    73.92,2,    27.66,2,     0.00,2,     1.90,2,    0.001,2, -999.000,5, -999.000,5,-999.0000,5,  -999.00,9,-999.000,9,-999.0000,-999.000,-999.000,-999.000
      74AB29_1,    I5,    15,  1,      1,     1.,2,19871117,0610,-32.5467,  33.4117, 3485,   3526.2,   1.4089,  34.7650,2,  34.7604,2,    223.3,2,  1.1419,    219.4,2,    94.77,2,    29.71,2,     0.00,2,     2.06,2,    0.005,2, -999.000,5, -999.000,9,   1.8490,2,     7.90,2,   8.160,2,  0.0090,-999.000,   0.160,   0.200