BOTTLE,20060509WHPSIOSA
EXPOCODE,SECT_ID,STNNBR,CASTNO,SAMPNO,BTLNBR,BTLNBR_FLAG_W,DATE,TIME,LATITUDE,LONGITUDE,DEPTH,CTDPRS,CTDTMP,CTDSAL,CTDSAL_FLAG_W,SALNTY,SALNTY_FLAG_W,CTDOXY,CTDOXY_FLAG_W,THETA,OXYGEN,OXYGEN_FLAG_W,SILCAT,SILCAT_FLAG_W,NITRAT,NITRAT_FLAG_W,NITRIT,NITRIT_FLAG_W,PHSPHT,PHSPHT_FLAG_W,CFC-11,CFC-11_FLAG_W,CFC-12,CFC-12_FLAG_W,TRITUM,TRITUM_FLAG_W,HELIUM,HELIUM_FLAG_W,DELHE3,DELHE3_FLAG_W,NEON,NEON_FLAG_W,HELIER,TRITER,NEONER,DELHER
,,,,,,,,,,,,DBAR,IPTS-68,PSS-78,,PSS-78,,UMOL/KG,,IPTS-68,UMOL/KG,,UMOL/KG,,UMOL/KG,,UMOL/KG,,UMOL/KG,,PMOL/KG,,PMOL/KG,,TU,,UMOL/KG,,PERCNT,,NMOL/KG,,NMOL/KG,TU,NMOL/KG,PERCNT
      74AB29_1,    I5,    58,  1,     23,    24.,2,19871201,2354,-31.9983,  76.0017, 3380,      3.0,  18.8633,  35.5980,2,  35.8823,2,    234.7,2, 18.8628,    235.7,2,     1.83,2,     0.00,2,     0.00,2,     0.19,2,    2.152,2,    1.168,2, -999.000,5,-999.0000,5,  -999.00,9,-999.000,9,-999.0000,-999.000,-999.000,-999.000
      74AB29_1,    I5,    58,  1,     22,    23.,2,19871201,2354,-31.9983,  76.0017, 3380,    102.3,  17.3563,  35.7140,2,  35.7454,2,    247.2,2, 17.3391,    243.1,2,     1.87,2,     0.00,2,     0.00,2,     0.21,2,    2.069,2,    1.160,2, -999.000,5,-999.0000,5,  -999.00,9,-999.000,9,-999.0000,-999.000,-999.000,-999.000
      74AB29_1,    I5,    58,  1,     21,    22.,2,19871201,2354,-31.9983,  76.0017, 3380,    201.7,  14.4574,  35.3710,2,  35.4083,2,    229.7,2, 14.4275,    231.0,2,     2.45,2,     4.69,2,     0.03,2,     0.49,2,    2.093,2,    1.140,2, -999.000,5,-999.0000,5,  -999.00,9,-999.000,9,-999.0000,-999.000,-999.000,-999.000
      74AB29_1,    I5,    58,  1,     20,    20.,2,19871201,2354,-31.9983,  76.0017, 3380,    400.9,  12.0255,  35.0670,2,  35.0608,2,    236.2,2, 11.9726,    236.7,2,     3.93,2,    10.16,2,     0.02,2,     0.81,2,    2.218,2,    1.197,2, -999.000,5,-999.0000,5,  -999.00,9,-999.000,9,-999.0000,-999.000,-999.000,-999.000
      74AB29_1,    I5,    58,  1,     19,    19.,2,19871201,2354,-31.9983,  76.0017, 3380,    501.4,  11.3550,  34.9560,2,  34.9614,2,    236.6,2, 11.2911,    236.3,2,     4.32,2,    12.02,2,     0.01,2,     0.92,2,    2.063,2,    1.118,2, -999.000,5,-999.0000,5,  -999.00,9,-999.000,9,-999.0000,-999.000,-999.000,-999.000
      74AB29_1,    I5,    58,  1,     18,    18.,2,19871201,2354,-31.9983,  76.0017, 3380,    700.1,   9.7956,  34.7420,2,  34.7600,2,    235.7,2,  9.7136,    233.3,2,     5.50,2,    15.83,2,     0.02,2,     1.14,2,    1.550,2,    0.850,2, -999.000,5,-999.0000,5,  -999.00,9,-999.000,9,-999.0000,-999.000,-999.000,-999.000
      74AB29_1,    I5,    58,  1,     17,    17.,2,19871201,2354,-31.9983,  76.0017, 3380,    799.8,   8.9977,  34.6680,2,  34.6633,2,    227.0,2,  8.9082,    226.8,2,     7.37,2,    18.77,2,     0.00,2,     1.34,2,    1.246,2,    0.683,2, -999.000,5,-999.0000,5,  -999.00,9,-999.000,9,-999.0000,-999.000,-999.000,-999.000
      74AB29_1,    I5,    58,  1,     16,    16.,2,19871201,2354,-31.9983,  76.0017, 3380,    900.9,   7.7473,  34.5630,2,  34.5569,2,    208.7,2,  7.6543,    206.8,2,    14.44,2,    23.56,2,     0.01,2,     1.66,2,    0.602,2,    0.354,2, -999.000,5,-999.0000,5,  -999.00,9,-999.000,9,-999.0000,-999.000,-999.000,-999.000
      74AB29_1,    I5,    58,  1,     15,    15.,2,19871201,2354,-31.9983,  76.0017, 3380,    998.1,   6.2355,  34.4660,2,  34.4522,2,    202.2,2,  6.1431,    201.2,2,    22.98,2,    27.67,2,     0.01,2,     1.93,2,    0.476,2,    0.247,2, -999.000,5,-999.0000,5,  -999.00,9,-999.000,9,-999.0000,-999.000,-999.000,-999.000
      74AB29_1,    I5,    58,  1,     14,    14.,2,19871201,2354,-31.9983,  76.0017, 3380,   1099.0,   5.0521,  34.4030,2,-999.0000,5,    197.8,2,  5.0367,    197.7,2,    32.71,2,    30.40,2,     0.01,2,     2.14,2,    0.316,2,    0.193,2, -999.000,5,-999.0000,5,  -999.00,9,-999.000,9,-999.0000,-999.000,-999.000,-999.000
      74AB29_1,    I5,    58,  1,     13,    13.,2,19871201,2354,-31.9983,  76.0017, 3380,   1199.1,   4.2932,  34.4070,2,  34.4047,2,    187.8,2,  4.1982,    186.9,2,    44.40,2,    32.36,2,     0.00,2,     2.29,2,    0.170,2,    0.115,2, -999.000,5,-999.0000,5,  -999.00,9,-999.000,9,-999.0000,-999.000,-999.000,-999.000
      74AB29_1,    I5,    58,  1,     12,    12.,2,19871201,2354,-31.9983,  76.0017, 3380,   1397.2,   3.3599,  34.4690,2,  34.4740,2,    176.9,2,  3.2569,    175.6,2,    61.00,2,    34.41,2,     0.01,2,     2.42,2, -999.000,5, -999.000,5, -999.000,5,-999.0000,5,  -999.00,9,-999.000,9,-999.0000,-999.000,-999.000,-999.000
      74AB29_1,    I5,    58,  1,     11,    11.,2,19871201,2354,-31.9983,  76.0017, 3380,   1597.5,   3.0354,  34.5660,2,  34.5637,2,    165.6,2,  2.9189,    164.3,2,    75.03,2,    34.70,2,     0.01,2,     2.47,2,    0.023,2,    0.000,2, -999.000,5,-999.0000,5,  -999.00,9,-999.000,9,-999.0000,-999.000,-999.000,-999.000
      74AB29_1,    I5,    58,  1,     10,    10.,2,19871201,2354,-31.9983,  76.0017, 3380,   1799.3,   2.6910,  34.6400,2,  34.6339,2,    170.8,2,  2.5616,    169.9,2,    79.15,2,    33.82,2,     0.00,2,     2.39,2,    0.024,2,    0.000,2, -999.000,5,-999.0000,5,  -999.00,9,-999.000,9,-999.0000,-999.000,-999.000,-999.000
      74AB29_1,    I5,    58,  1,      9,     9.,2,19871201,2354,-31.9983,  76.0017, 3380,   2001.7,   2.4150,  34.6950,2,  34.6938,2,    179.5,2,  2.2719,    180.3,2,    82.40,2,    32.35,2,     0.00,2,     2.29,2, -999.000,5, -999.000,5, -999.000,5,-999.0000,5,  -999.00,9,-999.000,9,-999.0000,-999.000,-999.000,-999.000
      74AB29_1,    I5,    58,  1,      8,     8.,2,19871201,2354,-31.9983,  76.0017, 3380,   2199.6,   2.1616,  34.7210,2,  34.7211,2,    183.4,2,  2.0051,    183.4,2,    91.23,2,    31.96,2,     0.01,2,     2.26,2,    0.013,2, -999.000,5, -999.000,5,-999.0000,5,  -999.00,9,-999.000,9,-999.0000,-999.000,-999.000,-999.000
      74AB29_1,    I5,    58,  1,      7,     7.,2,19871201,2354,-31.9983,  76.0017, 3380,   2401.5,   1.9416,  34.7250,2,  34.7243,2,    181.6,2,  1.7710,    182.5,2,   103.51,2,    32.55,2,     0.00,2,     2.32,2,    0.010,2,    0.000,2, -999.000,5,-999.0000,5,  -999.00,9,-999.000,9,-999.0000,-999.000,-999.000,-999.000
      74AB29_1,    I5,    58,  1,      6,     6.,2,19871201,2354,-31.9983,  76.0017, 3380,   2600.6,   1.8126,  34.7250,2,  34.7274,2,    182.9,2,  1.6263,    183.4,2,   110.29,2,    32.94,2,     0.00,2,     2.34,2, -999.000,5, -999.000,5, -999.000,5,-999.0000,5,  -999.00,9,-999.000,9,-999.0000,-999.000,-999.000,-999.000
      74AB29_1,    I5,    58,  1,      5,     5.,2,19871201,2354,-31.9983,  76.0017, 3380,   2800.1,   1.7026,  34.7240,2,  34.7227,2,    183.4,2,  1.5001,    183.8,2,   114.61,2,    33.04,2,     0.00,2,     2.35,2, -999.000,5, -999.000,5, -999.000,5,-999.0000,5,  -999.00,9,-999.000,9,-999.0000,-999.000,-999.000,-999.000
      74AB29_1,    I5,    58,  1,      4,     4.,2,19871201,2354,-31.9983,  76.0017, 3380,   3000.4,   1.6481,  34.7220,2,  34.7203,2,    184.2,2,  1.4277,    184.7,2,   116.57,2,    33.23,2,    -0.01,2,     2.37,2, -999.000,5, -999.000,5, -999.000,5,-999.0000,5,  -999.00,9,-999.000,9,-999.0000,-999.000,-999.000,-999.000
      74AB29_1,    I5,    58,  1,      3,     3.,2,19871201,2354,-31.9983,  76.0017, 3380,   3202.9,   1.5882,  34.7220,2,  34.7189,2,    186.0,2,  1.3495,    185.5,2,   119.03,2,    33.33,2,     0.01,2,     2.37,2, -999.000,5, -999.000,5, -999.000,5,-999.0000,5,  -999.00,9,-999.000,9,-999.0000,-999.000,-999.000,-999.000
      74AB29_1,    I5,    58,  1,      2,     2.,2,19871201,2354,-31.9983,  76.0017, 3380,   3302.9,   1.5732,  34.7200,2,-999.0000,5,    186.0,2,  1.5599,    185.5,2,   118.64,2,    33.23,2,     0.00,2,     2.38,2, -999.000,5, -999.000,5, -999.000,5,-999.0000,5,  -999.00,9,-999.000,9,-999.0000,-999.000,-999.000,-999.000
      74AB29_1,    I5,    58,  1,      1,     1.,2,19871201,2354,-31.9983,  76.0017, 3380,   3421.4,   1.5782,  34.7200,2,  34.7156,2,    186.8,2,  1.3179,    186.0,2,   119.22,2,    33.23,2,     0.00,2,     2.37,2,    0.000,2,    0.000,2, -999.000,5,-999.0000,5,  -999.00,9,-999.000,9,-999.0000,-999.000,-999.000,-999.000
      74AB29_1,    I5,    59,  1,     24,    24.,2,19871202,0826,-31.5000,  76.9983, 3010,     12.7,  18.7363,  35.8300,2,  35.8532,2,    238.6,2, 18.7341,    237.5,2,     1.46,2,     0.10,2,     0.00,2,     0.20,2, -999.000,5, -999.000,5, -999.000,5,-999.0000,5,  -999.00,9,-999.000,9,-999.0000,-999.000,-999.000,-999.000
      74AB29_1,    I5,    59,  1,     23,    23.,2,19871202,0826,-31.5000,  76.9983, 3010,    103.1,  16.8088,  35.6670,2,  35.6461,2,    248.5,2, 16.7919,    244.4,2,     1.47,2,     0.20,2,     0.00,2,     0.25,2, -999.000,5, -999.000,5, -999.000,5,-999.0000,5,  -999.00,9,-999.000,9,-999.0000,-999.000,-999.000,-999.000
      74AB29_1,    I5,    59,  1,     22,    22.,2,19871202,0826,-31.5000,  76.9983, 3010,    201.8,  13.9559,  35.3280,2,  35.3474,2,    228.0,2, 13.9267,    230.2,2,     2.46,2,     6.06,2,     0.00,2,     0.57,2, -999.000,5, -999.000,5, -999.000,5,-999.0000,5,  -999.00,9,-999.000,9,-999.0000,-999.000,-999.000,-999.000
      74AB29_1,    I5,    59,  1,     21,    21.,2,19871202,0826,-31.5000,  76.9983, 3010,    301.2,  12.9019,  35.1730,2,  35.1969,2,    232.7,2, 12.8604,    234.1,2,     3.46,2,     8.70,2,     0.00,2,     0.70,2, -999.000,5, -999.000,5, -999.000,5,-999.0000,5,  -999.00,9,-999.000,9,-999.0000,-999.000,-999.000,-999.000
      74AB29_1,    I5,    59,  1,     20,    20.,2,19871202,0826,-31.5000,  76.9983, 3010,    403.1,  12.0670,  35.0490,2,  35.0642,2,    237.1,2, 12.0137,    235.9,2,     3.87,2,    10.46,2,     0.00,2,     0.80,2,    2.169,2,    1.228,2, -999.000,5,-999.0000,5,  -999.00,9,-999.000,9,-999.0000,-999.000,-999.000,-999.000
      74AB29_1,    I5,    59,  1,     19,    19.,2,19871202,0826,-31.5000,  76.9983, 3010,    500.6,  11.3925,  34.9520,2,  34.9705,2,    236.6,2, 11.3285,    237.6,2,     4.07,2,    11.92,2,     0.00,2,     0.89,2, -999.000,5, -999.000,5, -999.000,5,-999.0000,5,  -999.00,9,-999.000,9,-999.0000,-999.000,-999.000,-999.000
      74AB29_1,    I5,    59,  1,     18,    18.,2,19871202,0826,-31.5000,  76.9983, 3010,    601.2,  10.4546,  34.8370,2,  34.8426,2,    239.7,2, 10.3816,    240.2,2,     4.09,2,    13.68,2,     0.00,2,     1.00,2, -999.000,5, -999.000,5, -999.000,5,-999.0000,5,  -999.00,9,-999.000,9,-999.0000,-999.000,-999.000,-999.000
      74AB29_1,    I5,    59,  1,     17,    17.,2,19871202,0826,-31.5000,  76.9983, 3010,    701.7,   9.7716,  34.7450,2,  34.7510,2,    237.5,2,  9.6895,    237.2,2,     4.88,2,    15.54,2,     0.00,2,     1.12,2, -999.000,5, -999.000,5, -999.000,5,-999.0000,5,  -999.00,9,-999.000,9,-999.0000,-999.000,-999.000,-999.000
      74AB29_1,    I5,    59,  1,     16,    16.,2,19871202,0826,-31.5000,  76.9983, 3010,    800.5,   9.0182,  34.6750,2,  34.6755,2,    224.8,2,  8.9285,    222.0,2,     7.64,2,    19.16,2,     0.00,2,     1.34,2, -999.000,5, -999.000,5, -999.000,5,-999.0000,5,  -999.00,9,-999.000,9,-999.0000,-999.000,-999.000,-999.000
      74AB29_1,    I5,    59,  1,     15,    15.,2,19871202,0826,-31.5000,  76.9983, 3010,    900.3,   7.6053,  34.5350,2,  34.5427,2,    206.1,2,  7.5133,    206.8,2,    14.73,2,    24.34,2,     0.00,2,     1.68,2, -999.000,5, -999.000,5, -999.000,5,-999.0000,5,  -999.00,9,-999.000,9,-999.0000,-999.000,-999.000,-999.000
      74AB29_1,    I5,    59,  1,     14,    14.,2,19871202,0826,-31.5000,  76.9983, 3010,    999.5,   6.0560,  34.4430,2,  34.4422,2,    200.4,2,  5.9649,    199.5,2,    24.38,2,    28.25,2,     0.00,2,     1.96,2, -999.000,5, -999.000,5, -999.000,5,-999.0000,5,  -999.00,9,-999.000,9,-999.0000,-999.000,-999.000,-999.000
      74AB29_1,    I5,    59,  1,     13,    13.,2,19871202,0826,-31.5000,  76.9983, 3010,   1124.0,   4.6712,  34.4030,2,  34.4055,2,    189.1,2,  4.5795,    189.0,2,    38.74,2,    31.87,2,     0.00,2,     2.22,2,    0.196,2,    0.130,2, -999.000,5,-999.0000,5,  -999.00,9,-999.000,9,-999.0000,-999.000,-999.000,-999.000
      74AB29_1,    I5,    59,  1,     12,    12.,2,19871202,0826,-31.5000,  76.9983, 3010,   1198.4,   4.2382,  34.4150,2,  34.4118,2,    183.5,2,  4.1437,    183.4,2,    45.64,2,    32.85,2,     0.00,2,     2.31,2, -999.000,5, -999.000,5, -999.000,5,-999.0000,5,  -999.00,9,-999.000,9,-999.0000,-999.000,-999.000,-999.000
      74AB29_1,    I5,    59,  1,     11,    11.,2,19871202,0826,-31.5000,  76.9983, 3010,   1299.0,   3.8223,  34.4470,2,  34.4487,2,    173.4,2,  3.7230,    173.8,2,    55.87,2,    34.02,2,     0.00,2,     2.40,2, -999.000,5, -999.000,5, -999.000,5,-999.0000,5,  -999.00,9,-999.000,9,-999.0000,-999.000,-999.000,-999.000
      74AB29_1,    I5,    59,  1,     10,    10.,2,19871202,0826,-31.5000,  76.9983, 3010,   1400.1,   3.3034,  34.4690,2,  34.4697,2,    175.2,2,  3.2008,    175.6,2,    60.80,2,    34.51,2,     0.00,2,     2.42,2, -999.000,5, -999.000,5, -999.000,5,-999.0000,5,  -999.00,9,-999.000,9,-999.0000,-999.000,-999.000,-999.000
      74AB29_1,    I5,    59,  1,      9,     9.,2,19871202,0826,-31.5000,  76.9983, 3010,   1500.2,   3.0849,  34.5150,2,  34.5233,2,    171.2,2,  2.9762,    170.3,2,    67.88,2,    34.51,2,     0.00,2,     2.44,2, -999.000,5, -999.000,5, -999.000,5,-999.0000,5,  -999.00,9,-999.000,9,-999.0000,-999.000,-999.000,-999.000
      74AB29_1,    I5,    59,  1,      8,     8.,2,19871202,0826,-31.5000,  76.9983, 3010,   1600.4,   2.9019,  34.5670,2,  34.5702,2,    169.9,2,  2.7868,    168.2,2,    72.79,2,    34.60,2,     0.00,2,     2.43,2, -999.000,5, -999.000,5, -999.000,5,-999.0000,5,  -999.00,9,-999.000,9,-999.0000,-999.000,-999.000,-999.000
      74AB29_1,    I5,    59,  1,      7,     7.,2,19871202,0826,-31.5000,  76.9983, 3010,   1799.8,   2.6530,  34.6470,2,  34.6525,2,    169.9,2,  2.5240,    170.3,2,    80.86,2,    33.82,2,     0.00,2,     2.37,2,    0.011,2,    0.000,2, -999.000,5,-999.0000,5,  -999.00,9,-999.000,9,-999.0000,-999.000,-999.000,-999.000
      74AB29_1,    I5,    59,  1,      6,     6.,2,19871202,0826,-31.5000,  76.9983, 3010,   1998.1,   2.4140,  34.7010,2,  34.7050,2,    179.0,2,  2.2712,    180.3,2,    83.23,2,    32.65,2,     0.00,2,     2.25,2, -999.000,5, -999.000,5, -999.000,5,-999.0000,5,  -999.00,9,-999.000,9,-999.0000,-999.000,-999.000,-999.000
      74AB29_1,    I5,    59,  1,      5,     5.,2,19871202,0826,-31.5000,  76.9983, 3010,   2200.6,   2.1921,  34.7320,2,  34.7286,2,    189.0,2,  2.0350,    190.7,2,    84.02,2,    31.47,2,     0.00,2,     2.17,2, -999.000,5, -999.000,5, -999.000,5,-999.0000,5,  -999.00,9,-999.000,9,-999.0000,-999.000,-999.000,-999.000
      74AB29_1,    I5,    59,  1,      4,     4.,2,19871202,0826,-31.5000,  76.9983, 3010,   2401.0,   2.0086,  34.7420,2,  34.7429,2,    192.9,2,  1.8367,    195.1,2,    89.14,2,    31.47,2,     0.00,2,     2.16,2, -999.000,5, -999.000,5, -999.000,5,-999.0000,5,  -999.00,9,-999.000,9,-999.0000,-999.000,-999.000,-999.000
      74AB29_1,    I5,    59,  1,      3,     3.,2,19871202,0826,-31.5000,  76.9983, 3010,   2599.7,   1.8111,  34.7390,2,  34.7390,2,    193.8,2,  1.6249,    195.1,2,    97.80,2,    31.86,2,     0.00,2,     2.18,2, -999.000,5, -999.000,5, -999.000,5,-999.0000,5,  -999.00,9,-999.000,9,-999.0000,-999.000,-999.000,-999.000
      74AB29_1,    I5,    59,  1,      2,     2.,2,19871202,0826,-31.5000,  76.9983, 3010,   2802.7,   1.7406,  34.7360,2,  34.7331,2,    194.2,2,  1.5370,    194.2,2,   102.52,2,    32.06,2,     0.00,2,     2.24,2, -999.000,5, -999.000,5, -999.000,5,-999.0000,5,  -999.00,9,-999.000,9,-999.0000,-999.000,-999.000,-999.000
      74AB29_1,    I5,    59,  1,      1,     1.,2,19871202,0826,-31.5000,  76.9983, 3010,   3033.3,   1.7196,  34.7360,2,  34.7307,2,    195.5,2,  1.4944,    194.6,2,   103.31,2,    32.16,2,     0.00,2,     2.23,2,    0.014,2,    0.000,2, -999.000,5,-999.0000,5,  -999.00,9,-999.000,9,-999.0000,-999.000,-999.000,-999.000