BOTTLE,20060509WHPSIOSA
EXPOCODE,SECT_ID,STNNBR,CASTNO,SAMPNO,BTLNBR,BTLNBR_FLAG_W,DATE,TIME,LATITUDE,LONGITUDE,DEPTH,CTDPRS,CTDTMP,CTDSAL,CTDSAL_FLAG_W,SALNTY,SALNTY_FLAG_W,CTDOXY,CTDOXY_FLAG_W,THETA,OXYGEN,OXYGEN_FLAG_W,SILCAT,SILCAT_FLAG_W,NITRAT,NITRAT_FLAG_W,NITRIT,NITRIT_FLAG_W,PHSPHT,PHSPHT_FLAG_W,CFC-11,CFC-11_FLAG_W,CFC-12,CFC-12_FLAG_W,TRITUM,TRITUM_FLAG_W,HELIUM,HELIUM_FLAG_W,DELHE3,DELHE3_FLAG_W,NEON,NEON_FLAG_W,HELIER,TRITER,NEONER,DELHER
,,,,,,,,,,,,DBAR,IPTS-68,PSS-78,,PSS-78,,UMOL/KG,,IPTS-68,UMOL/KG,,UMOL/KG,,UMOL/KG,,UMOL/KG,,UMOL/KG,,PMOL/KG,,PMOL/KG,,TU,,UMOL/KG,,PERCNT,,NMOL/KG,,NMOL/KG,TU,NMOL/KG,PERCNT
      74AB29_1,    I5,    77,  1,     14,     2.,2,19871208,0731,-31.5667,  95.4550, 1223,     14.0,  17.8063,  35.8510,2,  35.9240,2,    240.7,2, 17.8039,    241.3,2,     0.87,2,     0.20,2,     0.00,2,     0.18,2, -999.000,5, -999.000,5, -999.000,5,-999.0000,5,  -999.00,9,-999.000,9,-999.0000,-999.000,-999.000,-999.000
      74AB29_1,    I5,    77,  1,     13,     1.,2,19871208,0731,-31.5667,  95.4550, 1223,    101.8,  16.7978,  35.8880,2,  35.8698,2,    245.0,2, 16.7811,    241.8,2,     1.02,2,     0.20,2,     0.00,2,     0.19,2,    2.251,2,    1.243,2, -999.000,5,-999.0000,5,  -999.00,9,-999.000,9,-999.0000,-999.000,-999.000,-999.000
      74AB29_1,    I5,    77,  1,     12,    24.,2,19871208,0731,-31.5667,  95.4550, 1223,    151.9,  15.6148,  35.7690,2,  35.6761,2,    240.2,2, 15.5911,    242.7,2,     0.68,2,     1.47,2,     0.00,2,     0.27,2,    2.363,2,    1.318,2, -999.000,5,-999.0000,5,  -999.00,9,-999.000,9,-999.0000,-999.000,-999.000,-999.000
      74AB29_1,    I5,    77,  1,     11,    23.,2,19871208,0731,-31.5667,  95.4550, 1223,    202.1,  14.8718,  35.5630,2,  35.5703,2,    238.9,2, 14.8412,    236.2,2,     0.67,2,     2.64,2,     0.00,2,     0.37,2,    2.299,2,    1.351,2, -999.000,5,-999.0000,5,  -999.00,9,-999.000,9,-999.0000,-999.000,-999.000,-999.000
      74AB29_1,    I5,    77,  1,     10,    22.,2,19871208,0731,-31.5667,  95.4550, 1223,    250.9,  14.4924,  35.5450,2,  35.5401,2,    233.2,2, 14.4550,    231.9,2,     1.80,2,     4.00,2,     0.00,2,     0.40,2,    2.316,2,    1.257,2, -999.000,5,-999.0000,5,  -999.00,9,-999.000,9,-999.0000,-999.000,-999.000,-999.000
      74AB29_1,    I5,    77,  1,      9,    21.,2,19871208,0731,-31.5667,  95.4550, 1223,    303.2,  13.3869,  35.3490,2,  35.3498,2,    237.1,2, 13.3441,    234.1,2,     1.47,2,     6.15,2,     0.00,2,     0.57,2,    2.336,2,    1.308,2, -999.000,5,-999.0000,5,  -999.00,9,-999.000,9,-999.0000,-999.000,-999.000,-999.000
      74AB29_1,    I5,    77,  1,      8,    20.,2,19871208,0731,-31.5667,  95.4550, 1223,    400.4,  12.0090,  35.0770,2,  35.0968,2,    238.8,2, 11.9562,    240.6,2,     2.10,2,     9.18,2,     0.00,2,     0.75,2,    2.372,2,    1.333,2, -999.000,5,-999.0000,5,  -999.00,9,-999.000,9,-999.0000,-999.000,-999.000,-999.000
      74AB29_1,    I5,    77,  1,      7,    19.,2,19871208,0731,-31.5667,  95.4550, 1223,    501.5,  10.9310,  34.9020,2,  34.9091,2,    241.8,2, 10.8686,    242.8,2,     2.74,2,    11.82,2,     0.00,2,     0.89,2,    2.369,2,    1.315,2, -999.000,5,-999.0000,5,  -999.00,9,-999.000,9,-999.0000,-999.000,-999.000,-999.000
      74AB29_1,    I5,    77,  1,      6,    18.,2,19871208,0731,-31.5667,  95.4550, 1223,    600.8,   9.9681,  34.7680,2,  34.7675,2,    240.5,2,  9.8973,    240.3,2,     3.22,2,    14.86,2,     0.00,2,     1.07,2,    2.228,2,    1.187,2, -999.000,5,-999.0000,5,  -999.00,9,-999.000,9,-999.0000,-999.000,-999.000,-999.000
      74AB29_1,    I5,    77,  1,      5,    17.,2,19871208,0731,-31.5667,  95.4550, 1223,    699.9,   9.3142,  34.6820,2,  34.6830,2,    235.7,2,  9.2347,    237.2,2,     4.16,2,    17.10,2,     0.00,2,     1.22,2,    1.980,2,    1.048,2, -999.000,5,-999.0000,5,  -999.00,9,-999.000,9,-999.0000,-999.000,-999.000,-999.000
      74AB29_1,    I5,    77,  1,      4,    16.,2,19871208,0731,-31.5667,  95.4550, 1223,    899.3,   7.1054,  34.5040,2,  34.4993,2,    205.7,2,  7.0169,    201.6,2,    15.62,2,    25.91,2,     0.00,2,     1.76,2,    0.540,2,    0.330,2, -999.000,5,-999.0000,5,  -999.00,9,-999.000,9,-999.0000,-999.000,-999.000,-999.000
      74AB29_1,    I5,    77,  1,      3,    15.,2,19871208,0731,-31.5667,  95.4550, 1223,    999.1,   5.4626,  34.4150,2,  34.4069,2,    195.2,2,  5.3760,    197.3,2,    26.73,2,    29.92,2,     0.00,2,     2.03,2,    0.348,2,    0.196,2, -999.000,5,-999.0000,5,  -999.00,9,-999.000,9,-999.0000,-999.000,-999.000,-999.000
      74AB29_1,    I5,    77,  1,      2,    14.,2,19871208,0731,-31.5667,  95.4550, 1223,   1100.5,   4.5302,  34.3960,2,  34.3966,2,    189.6,2,  4.4418,    190.4,2,    38.17,2,    32.16,2,     0.00,2,     2.11,2,    0.207,2,    0.148,2, -999.000,5,-999.0000,5,  -999.00,9,-999.000,9,-999.0000,-999.000,-999.000,-999.000
      74AB29_1,    I5,    77,  1,      1,    13.,2,19871208,0731,-31.5667,  95.4550, 1223,   1212.2,   3.9413,  34.4370,2,  34.4441,2,    173.9,2,  3.8483,    172.1,2,    53.94,2,    34.12,2,     0.00,2,     2.38,2,    0.093,2, -999.000,5, -999.000,5,-999.0000,5,  -999.00,9,-999.000,9,-999.0000,-999.000,-999.000,-999.000
      74AB29_1,    I5,    78,  1,     13,    13.,2,19871208,1401,-31.9950,  96.4950, 1293,      3.2,  18.4908,  35.8130,2,  35.8173,2,    219.9,2, 18.4902,    237.0,2,     1.20,2,     0.20,2,     0.00,2,     0.18,2, -999.000,5, -999.000,5, -999.000,5,-999.0000,5,  -999.00,9,-999.000,9,-999.0000,-999.000,-999.000,-999.000
      74AB29_1,    I5,    78,  1,     12,    12.,2,19871208,1401,-31.9950,  96.4950, 1293,    104.1,  14.6324,  35.5830,2,  35.4971,2,    233.2,2, 14.6169,    244.0,2,     1.54,2,     3.52,2,     0.00,2,     0.35,2, -999.000,5, -999.000,5, -999.000,5,-999.0000,5,  -999.00,9,-999.000,9,-999.0000,-999.000,-999.000,-999.000
      74AB29_1,    I5,    78,  1,     11,    11.,2,19871208,1401,-31.9950,  96.4950, 1293,    202.1,  12.6269,  35.2820,2,  35.1896,2,    225.3,2, 12.5996,    233.2,2,     2.36,2,     8.60,2,     0.00,2,     0.63,2, -999.000,5, -999.000,5, -999.000,5,-999.0000,5,  -999.00,9,-999.000,9,-999.0000,-999.000,-999.000,-999.000
      74AB29_1,    I5,    78,  1,     10,    10.,2,19871208,1401,-31.9950,  96.4950, 1293,    302.5,  11.3910,  35.0410,2,  34.9833,2,    232.3,2, 11.3527,    242.0,2,     3.20,2,    11.34,2,     0.00,2,     0.80,2, -999.000,5, -999.000,5, -999.000,5,-999.0000,5,  -999.00,9,-999.000,9,-999.0000,-999.000,-999.000,-999.000
      74AB29_1,    I5,    78,  1,      9,     9.,2,19871208,1401,-31.9950,  96.4950, 1293,    401.8,  10.5171,  34.8610,2,  34.8495,2,    238.4,2, 10.4686,    241.5,2,     3.69,2,    13.58,2,     0.00,2,     0.91,2, -999.000,5, -999.000,5, -999.000,5,-999.0000,5,  -999.00,9,-999.000,9,-999.0000,-999.000,-999.000,-999.000
      74AB29_1,    I5,    78,  1,      8,     8.,2,19871208,1401,-31.9950,  96.4950, 1293,    502.8,   9.8501,  34.7520,2,  34.7512,2,    236.2,2,  9.7916,    238.5,2,     4.36,2,    15.83,2,     0.00,2,     1.06,2, -999.000,5, -999.000,5, -999.000,5,-999.0000,5,  -999.00,9,-999.000,9,-999.0000,-999.000,-999.000,-999.000
      74AB29_1,    I5,    78,  1,      7,     7.,2,19871208,1401,-31.9950,  96.4950, 1293,    601.9,   9.1432,  34.6750,2,  34.6612,2,    232.7,2,  9.0759,    233.3,2,     5.36,2,    18.38,2,     0.00,2,     1.20,2, -999.000,5, -999.000,5, -999.000,5,-999.0000,5,  -999.00,9,-999.000,9,-999.0000,-999.000,-999.000,-999.000
      74AB29_1,    I5,    78,  1,      6,     6.,2,19871208,1401,-31.9950,  96.4950, 1293,    702.3,   8.4633,  34.5980,2,  34.5979,2,    221.4,2,  8.3879,    219.4,2,     8.49,2,    21.60,2,     0.00,2,     1.40,2, -999.000,5, -999.000,5, -999.000,5,-999.0000,5,  -999.00,9,-999.000,9,-999.0000,-999.000,-999.000,-999.000
      74AB29_1,    I5,    78,  1,      5,     5.,2,19871208,1401,-31.9950,  96.4950, 1293,    801.4,   7.3709,  34.5280,2,  34.5197,2,    204.8,2,  7.2909,    202.9,2,    14.93,2,    25.61,2,     0.00,2,     1.64,2, -999.000,5, -999.000,5, -999.000,5,-999.0000,5,  -999.00,9,-999.000,9,-999.0000,-999.000,-999.000,-999.000
      74AB29_1,    I5,    78,  1,      4,     4.,2,19871208,1401,-31.9950,  96.4950, 1293,    898.7,   6.0225,  34.4340,2,  34.4294,2,    197.0,2,  5.9414,    197.7,2,    23.51,2,    29.13,2,     0.00,2,     1.91,2, -999.000,5, -999.000,5, -999.000,5,-999.0000,5,  -999.00,9,-999.000,9,-999.0000,-999.000,-999.000,-999.000
      74AB29_1,    I5,    78,  1,      3,     3.,2,19871208,1401,-31.9950,  96.4950, 1293,   1001.1,   4.8287,  34.3950,2,  34.3927,2,    190.9,2,  4.7468,    190.8,2,    35.57,2,    32.07,2,     0.00,2,     2.13,2, -999.000,5, -999.000,5, -999.000,5,-999.0000,5,  -999.00,9,-999.000,9,-999.0000,-999.000,-999.000,-999.000
      74AB29_1,    I5,    78,  1,      2,     2.,2,19871208,1401,-31.9950,  96.4950, 1293,   1200.7,   3.7878,  34.4660,2,  34.4689,2,    167.4,2,  3.6972,    165.6,2,    60.48,2,    35.19,2,     0.00,2,     2.35,2, -999.000,5, -999.000,5, -999.000,5,-999.0000,5,  -999.00,9,-999.000,9,-999.0000,-999.000,-999.000,-999.000
      74AB29_1,    I5,    78,  1,      1,     1.,2,19871208,1401,-31.9950,  96.4950, 1293,   1291.1,   3.5044,  34.5120,2,  34.5152,2,    159.5,2,  3.4088,    156.4,2,    69.58,2,    35.19,2,     0.00,2,     2.40,2, -999.000,5, -999.000,5, -999.000,5,-999.0000,5,  -999.00,9,-999.000,9,-999.0000,-999.000,-999.000,-999.000
      74AB29_1,    I5,    79,  1,     24,    24.,2,19871208,2139,-32.0017,  97.7467, 1617,      2.4,  19.4573,  34.6110,2,  35.9949,2,    153.7,2, 19.4569,    233.1,2,     1.96,2,     0.10,2,     0.00,2,     0.14,2, -999.000,5, -999.000,5, -999.000,5,-999.0000,5,  -999.00,9,-999.000,9,-999.0000,-999.000,-999.000,-999.000
      74AB29_1,    I5,    79,  1,     23,    23.,2,19871208,2139,-32.0017,  97.7467, 1617,     32.8,  17.7573,  35.9240,2,  35.9410,2,    241.6,2, 17.7517,    241.3,2,     1.81,2,     0.20,2,     0.00,2,     0.15,2, -999.000,5, -999.000,5, -999.000,5,-999.0000,5,  -999.00,9,-999.000,9,-999.0000,-999.000,-999.000,-999.000
      74AB29_1,    I5,    79,  1,     22,    22.,2,19871208,2139,-32.0017,  97.7467, 1617,     63.2,  17.2348,  35.9190,2,  35.8912,2,    243.3,2, 17.2242,    242.7,2,     1.64,2,     0.20,2,     0.00,2,     0.15,2, -999.000,5, -999.000,5, -999.000,5,-999.0000,5,  -999.00,9,-999.000,9,-999.0000,-999.000,-999.000,-999.000
      74AB29_1,    I5,    79,  1,     21,    21.,2,19871208,2139,-32.0017,  97.7467, 1617,     92.5,  16.3848,  35.8140,2,  35.8017,2,    242.8,2, 16.3699,    243.5,2,     1.47,2,     0.29,2,     0.00,2,     0.19,2, -999.000,5, -999.000,5, -999.000,5,-999.0000,5,  -999.00,9,-999.000,9,-999.0000,-999.000,-999.000,-999.000
      74AB29_1,    I5,    79,  1,     20,    20.,2,19871208,2139,-32.0017,  97.7467, 1617,    122.3,  15.9928,  35.8260,2,  35.7825,2,    238.0,2, 15.9734,    238.3,2,     1.64,2,     0.88,2,     0.00,2,     0.21,2, -999.000,5, -999.000,5, -999.000,5,-999.0000,5,  -999.00,9,-999.000,9,-999.0000,-999.000,-999.000,-999.000
      74AB29_1,    I5,    79,  1,     19,    19.,2,19871208,2139,-32.0017,  97.7467, 1617,    151.5,  15.3198,  35.7000,2,  35.6472,2,    237.6,2, 15.2964,    234.9,2,     1.64,2,     2.25,2,     0.00,2,     0.29,2, -999.000,5, -999.000,5, -999.000,5,-999.0000,5,  -999.00,9,-999.000,9,-999.0000,-999.000,-999.000,-999.000
      74AB29_1,    I5,    79,  1,     18,    18.,2,19871208,2139,-32.0017,  97.7467, 1617,    201.4,  14.1694,  35.4760,2,  35.4383,2,    235.4,2, 14.1399,    234.1,2,     1.64,2,     4.59,2,     0.00,2,     0.42,2, -999.000,5, -999.000,5, -999.000,5,-999.0000,5,  -999.00,9,-999.000,9,-999.0000,-999.000,-999.000,-999.000
      74AB29_1,    I5,    79,  1,     17,    17.,2,19871208,2139,-32.0017,  97.7467, 1617,    250.7,  13.2024,  35.3380,2,  35.3179,2,    234.0,2, 13.1674,    233.6,2,     2.13,2,     6.35,2,     0.00,2,     0.52,2, -999.000,5, -999.000,5, -999.000,5,-999.0000,5,  -999.00,9,-999.000,9,-999.0000,-999.000,-999.000,-999.000
      74AB29_1,    I5,    79,  1,     16,    16.,2,19871208,2139,-32.0017,  97.7467, 1617,    301.1,  12.3230,  35.1630,2,  35.1524,2,    236.6,2, 12.2828,    239.3,2,     2.45,2,     8.40,2,     0.00,2,     0.64,2, -999.000,5, -999.000,5, -999.000,5,-999.0000,5,  -999.00,9,-999.000,9,-999.0000,-999.000,-999.000,-999.000
      74AB29_1,    I5,    79,  1,     15,    15.,2,19871208,2139,-32.0017,  97.7467, 1617,    351.2,  11.6980,  35.0570,2,  35.0429,2,    237.9,2, 11.6526,    244.1,2,     2.62,2,     9.58,2,     0.00,2,     0.71,2, -999.000,5, -999.000,5, -999.000,5,-999.0000,5,  -999.00,9,-999.000,9,-999.0000,-999.000,-999.000,-999.000
      74AB29_1,    I5,    79,  1,     14,    14.,2,19871208,2139,-32.0017,  97.7467, 1617,    402.0,  11.0865,  34.9540,2,  34.9414,2,    242.3,2, 11.0362,    245.4,2,     2.94,2,    11.14,2,     0.00,2,     0.81,2, -999.000,5, -999.000,5, -999.000,5,-999.0000,5,  -999.00,9,-999.000,9,-999.0000,-999.000,-999.000,-999.000
      74AB29_1,    I5,    79,  1,     13,    13.,2,19871208,2139,-32.0017,  97.7467, 1617,    499.9,  10.1911,  34.7820,2,  34.7956,2,    242.7,2, 10.1316,    245.0,2,     3.77,2,    13.78,2,     0.00,2,     0.98,2, -999.000,5, -999.000,5, -999.000,5,-999.0000,5,  -999.00,9,-999.000,9,-999.0000,-999.000,-999.000,-999.000
      74AB29_1,    I5,    79,  1,     12,    12.,2,19871208,2139,-32.0017,  97.7467, 1617,    600.0,   9.5082,  34.6980,2,  34.7042,2,    237.0,2,  9.4395,    238.5,2,     4.58,2,    16.42,2,     0.00,2,     1.12,2, -999.000,5, -999.000,5, -999.000,5,-999.0000,5,  -999.00,9,-999.000,9,-999.0000,-999.000,-999.000,-999.000
      74AB29_1,    I5,    79,  1,     11,    11.,2,19871208,2139,-32.0017,  97.7467, 1617,    699.8,   8.8752,  34.6250,2,  34.6234,2,    236.2,2,  8.7980,    236.4,2,     5.74,2,    18.87,2,     0.00,2,     1.26,2, -999.000,5, -999.000,5, -999.000,5,-999.0000,5,  -999.00,9,-999.000,9,-999.0000,-999.000,-999.000,-999.000
      74AB29_1,    I5,    79,  1,     10,    10.,2,19871208,2139,-32.0017,  97.7467, 1617,    799.3,   7.9693,  34.5560,2,  34.5512,2,    217.0,2,  7.8860,    212.1,2,    10.81,2,    23.36,2,     0.00,2,     1.53,2, -999.000,5, -999.000,5, -999.000,5,-999.0000,5,  -999.00,9,-999.000,9,-999.0000,-999.000,-999.000,-999.000
      74AB29_1,    I5,    79,  1,      9,     9.,2,19871208,2139,-32.0017,  97.7467, 1617,    900.8,   6.2930,  34.4460,2,  34.4459,2,    200.5,2,  6.2099,    198.2,2,    21.14,2,    28.84,2,     0.00,2,     1.90,2, -999.000,5, -999.000,5, -999.000,5,-999.0000,5,  -999.00,9,-999.000,9,-999.0000,-999.000,-999.000,-999.000
      74AB29_1,    I5,    79,  1,      8,     8.,2,19871208,2139,-32.0017,  97.7467, 1617,   1000.0,   4.8272,  34.3890,2,  34.3927,2,    193.9,2,  4.7454,    194.7,2,    33.75,2,    32.16,2,     0.00,2,     2.14,2, -999.000,5, -999.000,5, -999.000,5,-999.0000,5,  -999.00,9,-999.000,9,-999.0000,-999.000,-999.000,-999.000
      74AB29_1,    I5,    79,  1,      7,     7.,2,19871208,2139,-32.0017,  97.7467, 1617,   1098.0,   4.2108,  34.4040,2,  34.4070,2,    183.9,2,  4.1253,    183.4,2,    44.89,2,    33.92,2,     0.00,2,     2.27,2, -999.000,5, -999.000,5, -999.000,5,-999.0000,5,  -999.00,9,-999.000,9,-999.0000,-999.000,-999.000,-999.000
      74AB29_1,    I5,    79,  1,      6,     6.,2,19871208,2139,-32.0017,  97.7467, 1617,   1198.2,   3.7473,  34.4510,2,  34.4502,2,    171.3,2,  3.6573,    169.9,2,    57.83,2,    35.98,2,     0.00,2,     2.38,2, -999.000,5, -999.000,5, -999.000,5,-999.0000,5,  -999.00,9,-999.000,9,-999.0000,-999.000,-999.000,-999.000
      74AB29_1,    I5,    79,  1,      5,     5.,2,19871208,2139,-32.0017,  97.7467, 1617,   1299.2,   3.4909,  34.5080,2,  34.5207,2,    160.4,2,  3.3947,    157.3,2,    70.28,2,    36.76,2,     0.00,2,     2.48,2, -999.000,5, -999.000,5, -999.000,5,-999.0000,5,  -999.00,9,-999.000,9,-999.0000,-999.000,-999.000,-999.000
      74AB29_1,    I5,    79,  1,      4,     4.,2,19871208,2139,-32.0017,  97.7467, 1617,   1398.8,   3.2589,  34.5460,2,  34.5498,2,    156.0,2,  3.1567,    153.8,2,    75.84,2,    36.85,2,     0.00,2,     2.49,2, -999.000,5, -999.000,5, -999.000,5,-999.0000,5,  -999.00,9,-999.000,9,-999.0000,-999.000,-999.000,-999.000
      74AB29_1,    I5,    79,  1,      3,     3.,2,19871208,2139,-32.0017,  97.7467, 1617,   1499.5,   3.0779,  34.5790,2,  34.5798,2,    154.3,2,  2.9692,    154.3,2,    80.09,2,    36.75,2,     0.00,2,     2.46,2, -999.000,5, -999.000,5, -999.000,5,-999.0000,5,  -999.00,9,-999.000,9,-999.0000,-999.000,-999.000,-999.000
      74AB29_1,    I5,    79,  1,      2,     2.,2,19871208,2139,-32.0017,  97.7467, 1617,   1603.3,   2.9564,  34.6090,2,  34.6126,2,    153.4,2,  2.8403,    153.8,2,    84.18,2,    36.46,2,     0.00,2,     2.46,2, -999.000,5, -999.000,5, -999.000,5,-999.0000,5,  -999.00,9,-999.000,9,-999.0000,-999.000,-999.000,-999.000
      74AB29_1,    I5,    79,  1,      1,     1.,2,19871208,2139,-32.0017,  97.7467, 1617,   1617.3,   2.9524,  34.6110,2,  34.6115,2,    153.4,2,  2.8352,    154.3,2,    83.68,2,    36.26,2,     0.00,2,     2.46,2, -999.000,5, -999.000,5, -999.000,5,-999.0000,5,  -999.00,9,-999.000,9,-999.0000,-999.000,-999.000,-999.000