BOTTLE,20060509WHPSIOSA
EXPOCODE,SECT_ID,STNNBR,CASTNO,SAMPNO,BTLNBR,BTLNBR_FLAG_W,DATE,TIME,LATITUDE,LONGITUDE,DEPTH,CTDPRS,CTDTMP,CTDSAL,CTDSAL_FLAG_W,SALNTY,SALNTY_FLAG_W,CTDOXY,CTDOXY_FLAG_W,THETA,OXYGEN,OXYGEN_FLAG_W,SILCAT,SILCAT_FLAG_W,NITRAT,NITRAT_FLAG_W,NITRIT,NITRIT_FLAG_W,PHSPHT,PHSPHT_FLAG_W,CFC-11,CFC-11_FLAG_W,CFC-12,CFC-12_FLAG_W,TRITUM,TRITUM_FLAG_W,HELIUM,HELIUM_FLAG_W,DELHE3,DELHE3_FLAG_W,NEON,NEON_FLAG_W,HELIER,TRITER,NEONER,DELHER
,,,,,,,,,,,,DBAR,IPTS-68,PSS-78,,PSS-78,,UMOL/KG,,IPTS-68,UMOL/KG,,UMOL/KG,,UMOL/KG,,UMOL/KG,,UMOL/KG,,PMOL/KG,,PMOL/KG,,TU,,UMOL/KG,,PERCNT,,NMOL/KG,,NMOL/KG,TU,NMOL/KG,PERCNT
      74AB29_1,    I5,    44,  1,     21,    23.,2,19871125,1945,-33.9717,  57.0350, 5129,    249.3,  14.3739,  35.4040,2,  35.3989,2,    239.7,2, 14.3370,    227.1,2,     3.43,2,     6.55,2,     0.01,2,     0.60,2, -999.000,5, -999.000,5,    0.758,2,   1.7400,2,    -0.30,2,   7.120,2,  0.0090,   0.008,   0.140,   0.200
      74AB29_1,    I5,    44,  1,     20,    22.,2,19871125,1945,-33.9717,  57.0350, 5129,    399.4,  13.3909,  35.2660,2,  35.2765,2,    232.8,2, 13.3343,    231.0,2,     3.76,2,     8.30,2,     0.02,2,     0.71,2,    2.083,2,    1.163,2,    0.742,2,   1.7640,2,     0.30,2,   7.380,2,  0.0090,   0.008,   0.150,   0.200
      74AB29_1,    I5,    44,  1,     19,    21.,2,19871125,1945,-33.9717,  57.0350, 5129,    500.7,  12.3575,  35.1350,2,  35.1043,2,    227.1,2, 12.2900,    225.9,2,     4.60,2,    11.14,2,     0.01,2,     0.89,2,    1.882,2,    1.057,2,    0.705,2,   1.7920,2,     1.60,2,   7.490,2,  0.0090,   0.008,   0.150,   0.200
      74AB29_1,    I5,    44,  1,     18,    20.,2,19871125,1945,-33.9717,  57.0350, 5129,    599.3,  11.3855,  34.9930,2,  34.9693,2,    224.0,2, 11.3086,    222.4,2,     5.45,2,    13.78,2,     0.01,2,     1.06,2,    1.462,2,    0.829,2, -999.000,9,   1.7880,2,     1.20,2,   7.370,2,  0.0090,-999.000,   0.150,   0.200
      74AB29_1,    I5,    44,  1,     17,    19.,2,19871125,1945,-33.9717,  57.0350, 5129,    799.3,   8.8052,  34.7170,2,  34.6757,2,    212.7,2,  8.7169,    210.7,2,    11.31,2,    20.92,2,     0.02,2,     1.50,2,    0.975,2,    0.461,2, -999.000,9,   1.8250,2,     1.80,2,   7.670,2,  0.0090,-999.000,   0.150,   0.200
      74AB29_1,    I5,    44,  1,     16,    18.,2,19871125,1945,-33.9717,  57.0350, 5129,    998.2,   6.0095,  34.4950,2,  34.4571,2,    204.4,2,  5.9188,    205.6,2,    23.88,2,    27.47,2,     0.00,2,     1.94,2,    0.572,2,    0.338,2,    0.377,2,   1.8550,2,     1.70,2,   7.930,2,  0.0090,   0.008,   0.160,   0.200
      74AB29_1,    I5,    44,  1,     15,    17.,2,19871125,1945,-33.9717,  57.0350, 5129,   1199.8,   4.4462,  34.4000,2,  34.4014,2,    200.0,2,  4.3497,    199.9,2,    37.43,2,    31.19,2,     0.00,2,     2.15,2,    0.431,2,    0.237,2,    0.033,2,   1.7880,2,     3.40,2,   7.890,2,  0.0090,   0.008,   0.160,   0.200
      74AB29_1,    I5,    44,  1,     14,    15.,2,19871125,1945,-33.9717,  57.0350, 5129,   1599.1,   3.0959,  34.5490,2,  34.5250,2,    176.9,2,  2.9787,    177.7,2,    64.23,2,    33.72,2,     0.00,2,     2.39,2,    0.091,2,    0.072,2,    0.000,2,   1.8550,2,     6.60,2,-999.000,9,  0.0090,   0.008,-999.000,   0.200
      74AB29_1,    I5,    44,  1,     13,    14.,2,19871125,1945,-33.9717,  57.0350, 5129,   1696.7,   2.8370,  34.5870,2,  34.5694,2,    176.0,2,  2.7146,    176.0,2,    69.27,2,    33.92,2,     0.01,2,     2.39,2,    0.056,2,    0.048,2, -999.000,5,-999.0000,5,  -999.00,9,-999.000,9,-999.0000,-999.000,-999.000,-999.000
      74AB29_1,    I5,    44,  1,     12,    13.,2,19871125,1945,-33.9717,  57.0350, 5129,   1998.2,   2.4995,  34.6770,2,  34.6700,2,    179.9,2,  2.3555,    179.4,2,    80.65,2,    32.84,2,    -0.01,2,     2.38,2, -999.000,5, -999.000,5,    0.099,2,   1.8690,2,     6.10,2,   8.210,2,  0.0090,   0.008,   0.160,   0.200
      74AB29_1,    I5,    44,  1,     11,    12.,2,19871125,1945,-33.9717,  57.0350, 5129,   2300.8,   2.2480,  34.7190,2,  34.7209,2,    183.8,2,  2.0810,    183.4,2,    89.70,2,    32.16,2,     0.03,2,     2.31,2,    0.047,3, -999.000,5, -999.000,5,-999.0000,5,  -999.00,9,-999.000,9,-999.0000,-999.000,-999.000,-999.000
      74AB29_1,    I5,    44,  1,     10,    11.,2,19871125,1945,-33.9717,  57.0350, 5129,   2599.7,   2.1006,  34.7400,2,  34.7345,2,    189.5,2,  1.9088,    189.4,2,    92.73,2,    31.76,2,     0.00,2,     2.27,2, -999.000,5, -999.000,5, -999.000,9,   1.9030,2,     6.80,2,   8.280,2,  0.0100,-999.000,   0.170,   0.200
      74AB29_1,    I5,    44,  1,      9,    10.,2,19871125,1945,-33.9717,  57.0350, 5129,   2903.0,   1.8451,  34.7430,2,  34.7421,2,    191.6,2,  1.6297,    192.0,2,    99.77,2,    31.86,2,     0.01,2,     2.24,2, -999.000,5, -999.000,5, -999.000,5,-999.0000,5,  -999.00,9,-999.000,9,-999.0000,-999.000,-999.000,-999.000
      74AB29_1,    I5,    44,  1,      8,     9.,2,19871125,1945,-33.9717,  57.0350, 5129,   3204.3,   1.5712,  34.7360,2,  34.7331,2,    193.4,2,  1.3327,    196.4,2,   108.83,2,    32.25,2,     0.00,2,     2.24,2, -999.000,5, -999.000,5, -999.000,9,   1.9250,2,     7.70,2,   8.310,2,  0.0100,-999.000,   0.170,   0.200
      74AB29_1,    I5,    44,  1,      7,     8.,2,19871125,1945,-33.9717,  57.0350, 5129,   3504.4,   1.2667,  34.7280,2,  34.7272,2,    202.9,2,  1.0057,    206.4,2,   110.02,2,    31.96,2,     0.00,2,     2.27,2,    0.017,2, -999.000,5, -999.000,5,-999.0000,5,  -999.00,9,-999.000,9,-999.0000,-999.000,-999.000,-999.000
      74AB29_1,    I5,    44,  1,      6,     7.,2,19871125,1945,-33.9717,  57.0350, 5129,   3807.4,   0.8133,  34.7110,2,  34.7058,2,    211.6,2,  0.5336,    215.1,2,   120.60,2,    32.35,2,     0.01,2,     2.23,2, -999.000,5, -999.000,5, -999.000,9,   1.9490,2,     6.90,2,   8.500,2,  0.0100,-999.000,   0.170,   0.200
      74AB29_1,    I5,    44,  1,      5,     6.,2,19871125,1945,-33.9717,  57.0350, 5129,   4107.2,   0.7753,  34.7030,2,-999.0000,5,    214.2,2,  0.7543,    215.1,2,  -999.00,5,  -999.00,5,  -999.00,5,     2.24,2, -999.000,5, -999.000,5,    0.019,2,   1.9080,2,     6.00,2,   8.430,2,  0.0100,   0.008,   0.170,   0.200
      74AB29_1,    I5,    44,  1,      4,     5.,2,19871125,1945,-33.9717,  57.0350, 5129,   4410.7,   0.7153,  34.6990,2,  34.6999,2,    215.5,2,  0.3745,    216.8,2,   124.48,2,    32.65,2,     0.00,2,     2.28,2,    0.034,2,    0.015,2, -999.000,5,-999.0000,5,  -999.00,9,-999.000,9,-999.0000,-999.000,-999.000,-999.000
      74AB29_1,    I5,    44,  1,      3,     4.,2,19871125,1945,-33.9717,  57.0350, 5129,   4753.0,   0.6663,  34.6950,2,  34.6938,2,    218.1,2,  0.2888,    218.1,2,   125.34,2,    32.65,2,     0.01,2,     2.28,2,    0.036,2,    0.032,2,    0.510,2,   1.8650,2,     4.90,2,   8.380,2,  0.0090,   0.008,   0.170,   0.200
      74AB29_1,    I5,    44,  1,      2,     3.,2,19871125,1945,-33.9717,  57.0350, 5129,   5113.0,   0.6288,  34.6910,2,  34.6906,2,    221.2,2,  0.2108,    219.4,2,  -999.00,5,  -999.00,5,  -999.00,5,  -999.00,5,    0.058,2,    0.027,2,    0.393,2,   1.9620,2,     6.00,2,   8.520,2,  0.0100,   0.008,   0.170,   0.200
      74AB29_1,    I5,    44,  1,      1,     2.,2,19871125,1945,-33.9717,  57.0350, 5129,   5208.8,   0.6363,  34.6910,2,  34.6914,2,    219.4,2,  0.2066,    219.0,2,   129.21,2,    32.94,2,     0.01,2,     2.30,2,    0.020,2, -999.000,5, -999.000,9,   1.9780,2,  -999.00,9,   8.560,2,  0.0100,-999.000,   0.170,-999.000
      74AB29_1,    I5,    45,  1,     24,    24.,2,19871126,0221,-33.9950,  57.4850, 5335,     11.4,  18.4538,  35.6050,2,  35.6139,2,    235.1,2, 18.4518,    241.4,2,     1.89,2,     0.20,2,     0.01,2,     0.20,2, -999.000,5, -999.000,5, -999.000,5,-999.0000,5,  -999.00,9,-999.000,9,-999.0000,-999.000,-999.000,-999.000
      74AB29_1,    I5,    45,  1,     23,    23.,2,19871126,0221,-33.9950,  57.4850, 5335,    102.9,  16.1228,  35.5610,2,  35.5517,2,    244.6,2, 16.1064,    238.8,2,     2.23,2,     1.56,2,     0.24,2,     0.31,2, -999.000,5, -999.000,5, -999.000,5,-999.0000,5,  -999.00,9,-999.000,9,-999.0000,-999.000,-999.000,-999.000
      74AB29_1,    I5,    45,  1,     22,    22.,2,19871126,0221,-33.9950,  57.4850, 5335,    205.6,  14.7199,  35.4750,2,-999.0000,5,    225.8,2, 14.7006,    224.5,2,     3.24,2,     5.96,2,     0.01,2,     0.54,2, -999.000,5, -999.000,5, -999.000,5,-999.0000,5,  -999.00,9,-999.000,9,-999.0000,-999.000,-999.000,-999.000
      74AB29_1,    I5,    45,  1,     21,    21.,2,19871126,0221,-33.9950,  57.4850, 5335,    303.5,  14.0534,  35.3650,2,  35.3614,2,    229.3,2, 14.0091,    226.7,2,     3.41,2,     7.13,2,     0.00,2,     0.60,2, -999.000,5, -999.000,5, -999.000,5,-999.0000,5,  -999.00,9,-999.000,9,-999.0000,-999.000,-999.000,-999.000
      74AB29_1,    I5,    45,  1,     20,    20.,2,19871126,0221,-33.9950,  57.4850, 5335,    402.2,  13.4184,  35.2760,2,  35.2676,2,    229.7,2, 13.3613,    227.1,2,     3.75,2,     8.60,2,    -0.01,2,     0.69,2, -999.000,5, -999.000,5, -999.000,5,-999.0000,5,  -999.00,9,-999.000,9,-999.0000,-999.000,-999.000,-999.000
      74AB29_1,    I5,    45,  1,     19,    19.,2,19871126,0221,-33.9950,  57.4850, 5335,    501.6,  12.7464,  35.1500,2,  35.1687,2,    227.1,2, 12.6774,    226.7,2,     4.26,2,    10.26,2,     0.01,2,     0.79,2, -999.000,5, -999.000,5, -999.000,5,-999.0000,5,  -999.00,9,-999.000,9,-999.0000,-999.000,-999.000,-999.000
      74AB29_1,    I5,    45,  1,     18,    18.,2,19871126,0221,-33.9950,  57.4850, 5335,    700.4,  10.6241,  34.8380,2,  34.8800,2,    219.7,2, 10.5377,    217.2,2,     6.76,2,    15.54,2,    -0.01,2,     1.09,2, -999.000,5, -999.000,5, -999.000,5,-999.0000,5,  -999.00,9,-999.000,9,-999.0000,-999.000,-999.000,-999.000
      74AB29_1,    I5,    45,  1,     17,    17.,2,19871126,0221,-33.9950,  57.4850, 5335,    900.5,   7.4739,  34.5740,2,  34.5567,2,    207.4,2,  7.3827,    206.4,2,    16.62,2,    24.05,2,     0.00,2,     1.69,2, -999.000,5, -999.000,5, -999.000,5,-999.0000,5,  -999.00,9,-999.000,9,-999.0000,-999.000,-999.000,-999.000
      74AB29_1,    I5,    45,  1,     16,    16.,2,19871126,0221,-33.9950,  57.4850, 5335,   1101.3,   5.2996,  34.4210,2,  34.4174,2,    203.0,2,  5.2047,    205.6,2,    28.80,2,    29.04,2,     0.01,2,     2.02,2, -999.000,5, -999.000,5, -999.000,5,-999.0000,5,  -999.00,9,-999.000,9,-999.0000,-999.000,-999.000,-999.000
      74AB29_1,    I5,    45,  1,     15,    15.,2,19871126,0221,-33.9950,  57.4850, 5335,   1301.2,   3.9228,  34.4070,2,  34.4169,2,    193.4,2,  3.8224,    192.1,2,    45.49,2,    32.16,2,     0.00,2,     2.25,2, -999.000,5, -999.000,5, -999.000,5,-999.0000,5,  -999.00,9,-999.000,9,-999.0000,-999.000,-999.000,-999.000
      74AB29_1,    I5,    45,  1,     14,    14.,2,19871126,0221,-33.9950,  57.4850, 5335,   1501.2,   3.2179,  34.5040,2,  34.5052,2,    180.8,2,  3.1076,    179.0,2,    61.35,2,    33.53,2,     0.01,2,     2.36,2, -999.000,5, -999.000,5, -999.000,5,-999.0000,5,  -999.00,9,-999.000,9,-999.0000,-999.000,-999.000,-999.000
      74AB29_1,    I5,    45,  1,     13,    13.,2,19871126,0221,-33.9950,  57.4850, 5335,   1699.8,   2.8485,  34.5790,2,  34.5796,2,    177.8,2,  2.7256,    177.3,2,    70.18,2,    33.33,2,     0.02,2,     2.33,2, -999.000,5, -999.000,5, -999.000,5,-999.0000,5,  -999.00,9,-999.000,9,-999.0000,-999.000,-999.000,-999.000
      74AB29_1,    I5,    45,  1,     12,    12.,2,19871126,0221,-33.9950,  57.4850, 5335,   1999.9,   2.5315,  34.6650,2,  34.6627,2,    183.4,2,  2.3869,    181.6,2,    77.70,2,    32.55,2,     0.00,2,     2.27,2, -999.000,5, -999.000,5, -999.000,5,-999.0000,5,  -999.00,9,-999.000,9,-999.0000,-999.000,-999.000,-999.000
      74AB29_1,    I5,    45,  1,     11,    11.,2,19871126,0221,-33.9950,  57.4850, 5335,   2302.6,   2.2950,  34.7180,2,  34.7103,2,    189.0,2,  2.1271,    188.6,2,    83.55,2,    31.57,2,     0.01,2,     2.22,2, -999.000,5, -999.000,5, -999.000,5,-999.0000,5,  -999.00,9,-999.000,9,-999.0000,-999.000,-999.000,-999.000
      74AB29_1,    I5,    45,  1,     10,    10.,2,19871126,0221,-33.9950,  57.4850, 5335,   2602.8,   2.0986,  34.7390,2,  34.7343,2,    190.8,2,  1.9066,    189.0,2,    91.89,2,    31.47,2,     0.00,2,     2.21,2, -999.000,5, -999.000,5, -999.000,5,-999.0000,5,  -999.00,9,-999.000,9,-999.0000,-999.000,-999.000,-999.000
      74AB29_1,    I5,    45,  1,      9,     9.,2,19871126,0221,-33.9950,  57.4850, 5335,   2904.6,   1.8721,  34.7410,2,-999.0000,5,    193.4,2,  1.8643,    195.5,2,  -999.00,5,  -999.00,5,  -999.00,5,  -999.00,5, -999.000,5, -999.000,5, -999.000,5,-999.0000,5,  -999.00,9,-999.000,9,-999.0000,-999.000,-999.000,-999.000
      74AB29_1,    I5,    45,  1,      8,     8.,2,19871126,0221,-33.9950,  57.4850, 5335,   3204.7,   1.5952,  34.7360,2,  34.7347,2,    199.0,2,  1.3561,    199.9,2,   103.24,2,    31.57,2,     0.01,2,     2.19,2, -999.000,5, -999.000,5, -999.000,5,-999.0000,5,  -999.00,9,-999.000,9,-999.0000,-999.000,-999.000,-999.000
      74AB29_1,    I5,    45,  1,      7,     7.,2,19871126,0221,-33.9950,  57.4850, 5335,   3505.1,   1.3057,  34.7260,2,  34.7270,2,    203.4,2,  1.0436,    204.6,2,   110.26,2,    31.77,2,     0.01,2,     2.21,2, -999.000,5, -999.000,5, -999.000,5,-999.0000,5,  -999.00,9,-999.000,9,-999.0000,-999.000,-999.000,-999.000
      74AB29_1,    I5,    45,  1,      6,     6.,2,19871126,0221,-33.9950,  57.4850, 5335,   3807.8,   0.8203,  34.7060,2,  34.7075,2,    210.3,2,  0.5403,    213.3,2,   122.11,2,    32.25,2,     0.02,2,     2.25,2, -999.000,5, -999.000,5, -999.000,5,-999.0000,5,  -999.00,9,-999.000,9,-999.0000,-999.000,-999.000,-999.000
      74AB29_1,    I5,    45,  1,      5,     5.,2,19871126,0221,-33.9950,  57.4850, 5335,   4109.2,   0.5813,  34.6940,2,  34.6904,2,    215.5,2,  0.2770,    219.9,2,   127.62,2,    32.35,2,     0.01,2,     2.27,2, -999.000,5, -999.000,5, -999.000,5,-999.0000,5,  -999.00,9,-999.000,9,-999.0000,-999.000,-999.000,-999.000
      74AB29_1,    I5,    45,  1,      4,     4.,2,19871126,0221,-33.9950,  57.4850, 5335,   4512.7,   0.5068,  34.6880,2,  34.6875,2,    218.6,2,  0.1614,    219.4,2,   130.63,2,    32.65,2,     0.01,2,     2.27,2, -999.000,5, -999.000,5, -999.000,5,-999.0000,5,  -999.00,9,-999.000,9,-999.0000,-999.000,-999.000,-999.000
      74AB29_1,    I5,    45,  1,      3,     3.,2,19871126,0221,-33.9950,  57.4850, 5335,   4912.8,   0.5208,  34.6850,2,  34.6847,2,    220.3,2,  0.1299,    219.9,2,   131.97,2,    32.74,2,     0.02,2,     2.28,2, -999.000,5, -999.000,5, -999.000,5,-999.0000,5,  -999.00,9,-999.000,9,-999.0000,-999.000,-999.000,-999.000
      74AB29_1,    I5,    45,  1,      2,     2.,2,19871126,0221,-33.9950,  57.4850, 5335,   5315.2,   0.5518,  34.6840,2,  34.6822,2,    222.9,2,  0.1125,    220.3,2,   132.15,2,    32.65,2,     0.02,2,     2.28,2,    0.015,2, -999.000,5, -999.000,5,-999.0000,5,  -999.00,9,-999.000,9,-999.0000,-999.000,-999.000,-999.000
      74AB29_1,    I5,    45,  1,      1,     1.,2,19871126,0221,-33.9950,  57.4850, 5335,   5435.4,   0.5663,  34.6840,2,  34.6798,2,    222.5,2,  0.1119,    219.9,2,   132.16,2,    32.65,2,     0.01,2,     2.26,2,    0.023,2,    0.024,2, -999.000,5,-999.0000,5,  -999.00,9,-999.000,9,-999.0000,-999.000,-999.000,-999.000