BOTTLE,20060509WHPSIOSA
EXPOCODE,SECT_ID,STNNBR,CASTNO,SAMPNO,BTLNBR,BTLNBR_FLAG_W,DATE,TIME,LATITUDE,LONGITUDE,DEPTH,CTDPRS,CTDTMP,CTDSAL,CTDSAL_FLAG_W,SALNTY,SALNTY_FLAG_W,CTDOXY,CTDOXY_FLAG_W,THETA,OXYGEN,OXYGEN_FLAG_W,SILCAT,SILCAT_FLAG_W,NITRAT,NITRAT_FLAG_W,NITRIT,NITRIT_FLAG_W,PHSPHT,PHSPHT_FLAG_W,CFC-11,CFC-11_FLAG_W,CFC-12,CFC-12_FLAG_W,TRITUM,TRITUM_FLAG_W,HELIUM,HELIUM_FLAG_W,DELHE3,DELHE3_FLAG_W,NEON,NEON_FLAG_W,HELIER,TRITER,NEONER,DELHER
,,,,,,,,,,,,DBAR,IPTS-68,PSS-78,,PSS-78,,UMOL/KG,,IPTS-68,UMOL/KG,,UMOL/KG,,UMOL/KG,,UMOL/KG,,UMOL/KG,,PMOL/KG,,PMOL/KG,,TU,,UMOL/KG,,PERCNT,,NMOL/KG,,NMOL/KG,TU,NMOL/KG,PERCNT
      74AB29_1,    I5,    34,  1,     22,    24.,2,19871122,0832,-33.4983,  47.4467, 3591,    102.0,  16.4508,  35.5730,2,  35.5705,2,    235.5,2, 16.4343,    237.9,2,     2.40,2,     0.98,2,     0.10,2,     0.25,2, -999.000,5, -999.000,5, -999.000,5,-999.0000,5,  -999.00,9,-999.000,9,-999.0000,-999.000,-999.000,-999.000
      74AB29_1,    I5,    34,  1,     21,    23.,2,19871122,0832,-33.4983,  47.4467, 3591,    249.7,  14.3384,  35.4030,2,  35.3837,2,    219.3,2, 14.3015,    221.5,2,     3.74,2,     7.23,2,     0.00,2,     0.62,2, -999.000,5, -999.000,5, -999.000,5,-999.0000,5,  -999.00,9,-999.000,9,-999.0000,-999.000,-999.000,-999.000
      74AB29_1,    I5,    34,  1,     20,    22.,2,19871122,0832,-33.4983,  47.4467, 3591,    449.1,  12.5479,  35.1500,2,  35.1343,2,    227.1,2, 12.4869,    223.7,2,  -999.00,5,  -999.00,5,  -999.00,5,  -999.00,5, -999.000,5, -999.000,5, -999.000,5,-999.0000,5,  -999.00,9,-999.000,9,-999.0000,-999.000,-999.000,-999.000
      74AB29_1,    I5,    34,  1,     19,    21.,2,19871122,0832,-33.4983,  47.4467, 3591,    598.8,  10.7491,  34.9070,2,  34.8857,2,    220.1,2, 10.6751,    216.8,2,     6.58,2,    15.54,2,     0.00,2,     1.12,2, -999.000,5, -999.000,5, -999.000,5,-999.0000,5,  -999.00,9,-999.000,9,-999.0000,-999.000,-999.000,-999.000
      74AB29_1,    I5,    34,  1,     18,    20.,2,19871122,0832,-33.4983,  47.4467, 3591,    799.3,   8.4138,  34.6120,2,-999.0000,5,    208.3,2,  8.3800,    209.8,2,    12.73,2,    21.01,2,    -0.01,2,     1.50,2, -999.000,5, -999.000,5, -999.000,5,-999.0000,5,  -999.00,9,-999.000,9,-999.0000,-999.000,-999.000,-999.000
      74AB29_1,    I5,    34,  1,     17,    19.,2,19871122,0832,-33.4983,  47.4467, 3591,    896.8,   6.9909,  34.4930,2,  34.5172,2,    205.2,2,  6.9034,    206.4,2,    19.05,2,    25.32,2,    -0.01,2,     1.77,2, -999.000,5, -999.000,5, -999.000,5,-999.0000,5,  -999.00,9,-999.000,9,-999.0000,-999.000,-999.000,-999.000
      74AB29_1,    I5,    34,  1,     16,    18.,2,19871122,0832,-33.4983,  47.4467, 3591,    995.6,   5.7401,  34.4190,2,  34.4341,2,    206.1,2,  5.6517,    206.0,2,    25.20,2,    28.06,2,     0.01,2,     1.97,2, -999.000,5, -999.000,5, -999.000,5,-999.0000,5,  -999.00,9,-999.000,9,-999.0000,-999.000,-999.000,-999.000
      74AB29_1,    I5,    34,  1,     15,    16.,2,19871122,0832,-33.4983,  47.4467, 3591,   1397.6,   3.2584,  34.4860,2,  34.5046,2,    184.7,2,  3.1564,    185.6,2,    57.59,2,    32.94,2,     0.02,2,     2.35,2, -999.000,5, -999.000,5, -999.000,5,-999.0000,5,  -999.00,9,-999.000,9,-999.0000,-999.000,-999.000,-999.000
      74AB29_1,    I5,    34,  1,     14,    15.,2,19871122,0832,-33.4983,  47.4467, 3591,   1598.3,   2.8779,  34.5680,2,  34.5891,2,    179.5,2,  2.7632,    180.8,2,    66.06,2,    32.84,2,     0.03,2,     2.30,2, -999.000,5, -999.000,5, -999.000,5,-999.0000,5,  -999.00,9,-999.000,9,-999.0000,-999.000,-999.000,-999.000
      74AB29_1,    I5,    34,  1,     13,    14.,2,19871122,0832,-33.4983,  47.4467, 3591,   1796.8,   2.6550,  34.6330,2,  34.6348,2,    181.7,2,  2.5263,    180.8,2,    74.19,2,    32.84,2,     0.02,2,     2.30,2, -999.000,5, -999.000,5, -999.000,5,-999.0000,5,  -999.00,9,-999.000,9,-999.0000,-999.000,-999.000,-999.000
      74AB29_1,    I5,    34,  1,     12,    13.,2,19871122,0832,-33.4983,  47.4467, 3591,   1998.8,   2.4615,  34.6900,2,  34.6904,2,    187.7,2,  2.3179,    188.6,2,    76.83,2,    31.96,2,     0.03,2,     2.23,2, -999.000,5, -999.000,5, -999.000,5,-999.0000,5,  -999.00,9,-999.000,9,-999.0000,-999.000,-999.000,-999.000
      74AB29_1,    I5,    34,  1,     11,    12.,2,19871122,0832,-33.4983,  47.4467, 3591,   2198.2,   2.2790,  34.7250,2,  34.7241,2,    192.9,2,  2.1207,    193.3,2,    80.82,2,    31.18,2,     0.03,2,     2.18,2, -999.000,5, -999.000,5, -999.000,5,-999.0000,5,  -999.00,9,-999.000,9,-999.0000,-999.000,-999.000,-999.000
      74AB29_1,    I5,    34,  1,     10,    11.,2,19871122,0832,-33.4983,  47.4467, 3591,   2402.2,   2.0966,  34.7370,2,  34.7378,2,    197.3,2,  1.9231,    197.3,2,    85.13,2,    30.69,2,     0.02,2,     2.21,2, -999.000,5, -999.000,5, -999.000,5,-999.0000,5,  -999.00,9,-999.000,9,-999.0000,-999.000,-999.000,-999.000
      74AB29_1,    I5,    34,  1,      9,    10.,2,19871122,0832,-33.4983,  47.4467, 3591,   2600.2,   1.9166,  34.7430,2,  34.7433,2,    198.1,2,  1.7283,    200.3,2,    91.10,2,    30.98,2,     0.02,2,     2.19,2, -999.000,5, -999.000,5, -999.000,5,-999.0000,5,  -999.00,9,-999.000,9,-999.0000,-999.000,-999.000,-999.000
      74AB29_1,    I5,    34,  1,      8,     9.,2,19871122,0832,-33.4983,  47.4467, 3591,   2801.3,   1.8481,  34.7600,2,  34.7594,2,    203.4,2,  1.6423,    204.6,2,    91.94,2,    30.40,2,     0.02,2,     2.13,2, -999.000,5, -999.000,5, -999.000,5,-999.0000,5,  -999.00,9,-999.000,9,-999.0000,-999.000,-999.000,-999.000
      74AB29_1,    I5,    34,  1,      7,     8.,2,19871122,0832,-33.4983,  47.4467, 3591,   3001.9,   1.5812,  34.7440,2,  34.7412,2,    203.4,2,  1.3621,    201.6,2,   102.22,2,    31.37,2,     0.01,2,     2.21,2, -999.000,5, -999.000,5, -999.000,5,-999.0000,5,  -999.00,9,-999.000,9,-999.0000,-999.000,-999.000,-999.000
      74AB29_1,    I5,    34,  1,      6,     7.,2,19871122,0832,-33.4983,  47.4467, 3591,   3105.7,   1.4997,  34.7420,2,  34.7414,2,    204.2,2,  1.2724,    204.6,2,   102.55,2,    31.18,2,     0.02,2,     2.20,2, -999.000,5, -999.000,5, -999.000,5,-999.0000,5,  -999.00,9,-999.000,9,-999.0000,-999.000,-999.000,-999.000
      74AB29_1,    I5,    34,  1,      5,     6.,2,19871122,0832,-33.4983,  47.4467, 3591,   3204.3,   1.4342,  34.7410,2,  34.7386,2,    206.0,2,  1.1988,    205.5,2,   103.87,2,    31.18,2,     0.01,2,     2.21,2, -999.000,5, -999.000,5, -999.000,5,-999.0000,5,  -999.00,9,-999.000,9,-999.0000,-999.000,-999.000,-999.000
      74AB29_1,    I5,    34,  1,      4,     5.,2,19871122,0832,-33.4983,  47.4467, 3591,   3308.2,   1.3372,  34.7300,2,  34.7290,2,    205.1,2,  1.0940,    204.6,2,   109.51,2,    31.86,2,     0.02,2,     2.23,2, -999.000,5, -999.000,5, -999.000,5,-999.0000,5,  -999.00,9,-999.000,9,-999.0000,-999.000,-999.000,-999.000
      74AB29_1,    I5,    34,  1,      3,     4.,2,19871122,0832,-33.4983,  47.4467, 3591,   3406.7,   1.2457,  34.7220,2,  34.7207,2,    203.8,2,  0.9950,    201.6,2,   114.14,2,    32.25,2,     0.02,2,     2.30,2, -999.000,5, -999.000,5, -999.000,5,-999.0000,5,  -999.00,9,-999.000,9,-999.0000,-999.000,-999.000,-999.000
      74AB29_1,    I5,    34,  1,      2,     3.,2,19871122,0832,-33.4983,  47.4467, 3591,   3502.8,   1.1812,  34.7200,2,  34.7164,2,    204.7,2,  0.9226,    203.8,2,   115.14,2,    32.25,2,     0.02,2,     2.27,2, -999.000,5, -999.000,5, -999.000,5,-999.0000,5,  -999.00,9,-999.000,9,-999.0000,-999.000,-999.000,-999.000
      74AB29_1,    I5,    34,  1,      1,     2.,2,19871122,0832,-33.4983,  47.4467, 3591,   3630.2,   1.1222,  34.7160,2,  34.7150,2,    204.2,2,  0.8522,    207.3,2,   116.96,2,    32.25,2,     0.02,2,     2.28,2, -999.000,5, -999.000,5, -999.000,5,-999.0000,5,  -999.00,9,-999.000,9,-999.0000,-999.000,-999.000,-999.000
      74AB29_1,    I5,    35,  1,     20,    24.,2,19871122,1538,-33.5617,  48.2450, 3976,      0.2,  19.5948,  34.7130,2,  35.5320,2,    207.8,2, 19.5948,    235.8,2,     1.59,2,     0.00,2,     0.02,2,     0.19,2,    1.979,2,    1.291,2,    0.756,2,   1.7200,2,    -1.20,2,   7.150,2,  0.0090,   0.008,   0.140,   0.200
      74AB29_1,    I5,    35,  1,     19,    23.,2,19871122,1538,-33.5617,  48.2450, 3976,    100.5,  15.8653,  35.5530,2,  35.5399,2,    229.3,2, 15.8495,    227.1,2,     2.93,2,     3.71,2,     0.09,2,     0.41,2,    2.059,2,    1.249,2,    0.680,2,   1.7290,2,    -2.00,2,   7.200,2,  0.0090,   0.008,   0.140,   0.200
      74AB29_1,    I5,    35,  1,     18,    22.,2,19871122,1538,-33.5617,  48.2450, 3976,    204.5,  14.9158,  35.4750,2,  35.4444,2,    228.9,2, 14.8848,    217.1,2,     3.62,2,     5.86,2,     0.04,2,     0.53,2,    2.021,2,    1.217,2, -999.000,9,   1.7130,2,     0.40,2,   7.400,2,  0.0090,-999.000,   0.150,   0.200
      74AB29_1,    I5,    35,  1,     17,    21.,2,19871122,1538,-33.5617,  48.2450, 3976,    305.1,  13.8629,  35.3450,2,  35.3232,2,    220.2,2, 13.8188,    216.7,2,     3.97,2,     8.01,2,     0.03,2,     0.69,2,    1.938,2,    1.180,2,    0.805,2,   1.7650,2,     0.40,2,   7.290,2,  0.0090,   0.008,   0.150,   0.200
      74AB29_1,    I5,    35,  1,     16,    20.,2,19871122,1538,-33.5617,  48.2450, 3976,    402.5,  12.9924,  35.2490,2,  35.2117,2,    225.8,2, 12.9365,    225.0,2,     4.14,2,     9.57,2,     0.02,2,     0.82,2,    1.859,2,    1.145,2,    0.464,2,   1.7940,2,     0.80,2,   7.480,2,  0.0090,   0.008,   0.150,   0.200
      74AB29_1,    I5,    35,  1,     15,    19.,2,19871122,1538,-33.5617,  48.2450, 3976,    501.3,  11.9310,  35.0890,2,  35.0443,2,    223.2,2, 11.8650,    221.1,2,     4.99,2,    12.31,2,     0.02,2,     1.00,2,    1.587,2,    0.966,2, -999.000,5,-999.0000,5,  -999.00,9,-999.000,9,-999.0000,-999.000,-999.000,-999.000
      74AB29_1,    I5,    35,  1,     14,    18.,2,19871122,1538,-33.5617,  48.2450, 3976,    602.7,  10.8790,  34.9280,2,  34.9195,2,    218.8,2, 10.8039,    216.8,2,     6.18,2,    14.76,2,     0.02,2,     1.13,2,    1.378,2,    0.868,2,    0.409,2,   1.8130,2,     0.00,2,   7.550,2,  0.0090,   0.008,   0.150,   0.200
      74AB29_1,    I5,    35,  1,     13,    14.,2,19871122,1538,-33.5617,  48.2450, 3976,   1401.0,   3.2719,  34.4910,2,  34.4897,2,    184.7,2,  3.1695,    183.4,2,    58.00,2,    33.14,2,     0.02,2,     2.34,2,    0.151,2,    0.138,2, -999.000,9,   1.8430,2,     3.20,2,   8.040,2,  0.0090,-999.000,   0.160,   0.200
      74AB29_1,    I5,    35,  1,     12,    13.,2,19871122,1538,-33.5617,  48.2450, 3976,   1699.9,   2.7295,  34.6190,2,  34.6154,2,    179.9,2,  2.6081,    179.0,2,    72.65,2,    32.94,2,     0.02,2,     2.33,2,    0.039,2, -999.000,5,    0.195,2,   1.8380,2,     5.20,2,   8.080,2,  0.0090,   0.008,   0.160,   0.200
      74AB29_1,    I5,    35,  1,     11,    12.,2,19871122,1538,-33.5617,  48.2450, 3976,   1999.9,   2.4390,  34.6900,2,  34.6851,2,    183.8,2,  2.2957,    182.9,2,    81.24,2,    32.06,2,     0.02,2,     2.26,2, -999.000,5, -999.000,5, -999.000,5,-999.0000,5,  -999.00,9,-999.000,9,-999.0000,-999.000,-999.000,-999.000
      74AB29_1,    I5,    35,  1,     10,    11.,2,19871122,1538,-33.5617,  48.2450, 3976,   2205.7,   2.2995,  34.7170,2,  34.7182,2,    186.4,2,  2.1402,    186.8,2,    85.14,2,    31.47,2,     0.01,2,     2.25,2, -999.000,5, -999.000,5, -999.000,5,-999.0000,5,  -999.00,9,-999.000,9,-999.0000,-999.000,-999.000,-999.000
      74AB29_1,    I5,    35,  1,      9,    10.,2,19871122,1538,-33.5617,  48.2450, 3976,   2402.4,   2.1791,  34.7390,2,  34.7392,2,    190.8,2,  2.0041,    190.7,2,    87.53,2,    30.89,2,     0.00,2,     2.19,2,    0.001,2,    0.000,2, -999.000,9,   1.8650,2,     6.80,2,   8.170,2,  0.0090,-999.000,   0.160,   0.200
      74AB29_1,    I5,    35,  1,      8,     9.,2,19871122,1538,-33.5617,  48.2450, 3976,   2602.7,   2.0396,  34.7470,2,  34.7494,2,    194.2,2,  1.8487,    193.3,2,    91.59,2,    30.88,2,     0.00,2,     2.18,2, -999.000,5, -999.000,5, -999.000,5,-999.0000,5,  -999.00,9,-999.000,9,-999.0000,-999.000,-999.000,-999.000
      74AB29_1,    I5,    35,  1,      7,     8.,2,19871122,1538,-33.5617,  48.2450, 3976,   2804.4,   1.8746,  34.7470,2,  34.7494,2,    194.7,2,  1.6680,    195.1,2,    97.68,2,    31.28,2,     0.00,2,     2.17,2, -999.000,5, -999.000,5, -999.000,9,   1.9210,2,    16.90,2,   8.270,2,  0.0100,-999.000,   0.170,   0.200
      74AB29_1,    I5,    35,  1,      6,     7.,2,19871122,1538,-33.5617,  48.2450, 3976,   2999.9,   1.6766,  34.7400,2,  34.7394,2,    195.1,2,  1.4556,    196.0,2,   103.61,2,    31.57,2,     0.01,2,     2.20,2, -999.000,5, -999.000,5, -999.000,5,-999.0000,5,  -999.00,9,-999.000,9,-999.0000,-999.000,-999.000,-999.000
      74AB29_1,    I5,    35,  1,      5,     6.,2,19871122,1538,-33.5617,  48.2450, 3976,   3204.1,   1.4632,  34.7310,2,  34.7311,2,    198.6,2,  1.2272,    198.6,2,   107.85,2,    31.57,2,     0.00,2,     2.21,2,    0.001,2, -999.000,5, -999.000,9,   1.9360,2,    14.90,2,   8.330,2,  0.0100,-999.000,   0.170,   0.200
      74AB29_1,    I5,    35,  1,      4,     5.,2,19871122,1538,-33.5617,  48.2450, 3976,   3404.0,   1.3362,  34.7260,2,  34.7280,2,    201.6,2,  1.0835,    201.2,2,   111.93,2,    31.96,2,     0.00,2,     2.28,2, -999.000,5, -999.000,5, -999.000,5,-999.0000,5,  -999.00,9,-999.000,9,-999.0000,-999.000,-999.000,-999.000
      74AB29_1,    I5,    35,  1,      3,     4.,2,19871122,1538,-33.5617,  48.2450, 3976,   3607.7,   1.2147,  34.7210,2,  34.7219,2,    203.4,2,  0.9446,    204.2,2,   113.98,2,    31.96,2,     0.00,2,     2.25,2,    0.006,2,    0.000,2, -999.000,5,-999.0000,5,  -999.00,9,-999.000,9,-999.0000,-999.000,-999.000,-999.000
      74AB29_1,    I5,    35,  1,      2,     3.,2,19871122,1538,-33.5617,  48.2450, 3976,   3789.4,   1.1287,  34.7160,2,  34.7213,2,    206.4,2,  0.8422,    207.7,2,   116.72,2,    32.06,2,     0.02,2,     2.25,2,    0.000,2, -999.000,5,    0.000,2,   1.9130,2,    10.80,2,   8.430,2,  0.0100,   0.008,   0.170,   0.200
      74AB29_1,    I5,    35,  1,      1,     1.,2,19871122,1538,-33.5617,  48.2450, 3976,   4034.0,   1.0677,  34.7130,2,  34.7134,2,    207.3,2,  0.7571,    204.6,2,   118.95,2,    32.16,2,     0.01,2,     2.24,2,    0.000,2, -999.000,5,    0.017,2,   1.9910,2,     6.80,2,   8.470,2,  0.0100,   0.008,   0.170,   0.200