BOTTLE,20060509WHPSIOSA
EXPOCODE,SECT_ID,STNNBR,CASTNO,SAMPNO,BTLNBR,BTLNBR_FLAG_W,DATE,TIME,LATITUDE,LONGITUDE,DEPTH,CTDPRS,CTDTMP,CTDSAL,CTDSAL_FLAG_W,SALNTY,SALNTY_FLAG_W,CTDOXY,CTDOXY_FLAG_W,THETA,OXYGEN,OXYGEN_FLAG_W,SILCAT,SILCAT_FLAG_W,NITRAT,NITRAT_FLAG_W,NITRIT,NITRIT_FLAG_W,PHSPHT,PHSPHT_FLAG_W,CFC-11,CFC-11_FLAG_W,CFC-12,CFC-12_FLAG_W,TRITUM,TRITUM_FLAG_W,HELIUM,HELIUM_FLAG_W,DELHE3,DELHE3_FLAG_W,NEON,NEON_FLAG_W,HELIER,TRITER,NEONER,DELHER
,,,,,,,,,,,,DBAR,IPTS-68,PSS-78,,PSS-78,,UMOL/KG,,IPTS-68,UMOL/KG,,UMOL/KG,,UMOL/KG,,UMOL/KG,,UMOL/KG,,PMOL/KG,,PMOL/KG,,TU,,UMOL/KG,,PERCNT,,NMOL/KG,,NMOL/KG,TU,NMOL/KG,PERCNT
      74AB29_1,    I5,    96,  1,     24,    24.,2,19871213,1514,-34.1633, 108.5733, 5452,     15.8,  16.8783,  35.7300,2,  35.7389,2,    246.8,2, 16.8757,    246.2,2,     0.91,2,     0.10,2,     0.00,2,     0.21,2, -999.000,5, -999.000,5, -999.000,5,-999.0000,5,  -999.00,9,-999.000,9,-999.0000,-999.000,-999.000,-999.000
      74AB29_1,    I5,    96,  1,     23,    23.,2,19871213,1514,-34.1633, 108.5733, 5452,    102.8,  14.4614,  35.5540,2,  35.5419,2,    242.3,2, 14.4462,    244.5,2,     0.90,2,     2.05,2,     0.00,2,     0.33,2,    2.426,2,    1.253,2, -999.000,5,-999.0000,5,  -999.00,9,-999.000,9,-999.0000,-999.000,-999.000,-999.000
      74AB29_1,    I5,    96,  1,     22,    22.,2,19871213,1514,-34.1633, 108.5733, 5452,    200.7,  13.0029,  35.3040,2,  35.2660,2,    244.0,2, 12.9752,    240.6,2,     1.23,2,     5.57,2,     0.00,2,     0.54,2,    2.405,2,    1.266,2, -999.000,5,-999.0000,5,  -999.00,9,-999.000,9,-999.0000,-999.000,-999.000,-999.000
      74AB29_1,    I5,    96,  1,     21,    21.,2,19871213,1514,-34.1633, 108.5733, 5452,    298.3,  11.4695,  34.9980,2,  35.0016,2,    247.5,2, 11.4315,    244.1,2,     1.88,2,     9.38,2,     0.00,2,     0.77,2, -999.000,5, -999.000,5, -999.000,5,-999.0000,5,  -999.00,9,-999.000,9,-999.0000,-999.000,-999.000,-999.000
      74AB29_1,    I5,    96,  1,     20,    20.,2,19871213,1514,-34.1633, 108.5733, 5452,    400.7,  10.2131,  34.7780,2,  34.7936,2,    244.0,2, 10.1656,    246.3,2,     2.84,2,    12.90,2,     0.00,2,     1.00,2,    2.444,2,    1.289,2, -999.000,5,-999.0000,5,  -999.00,9,-999.000,9,-999.0000,-999.000,-999.000,-999.000
      74AB29_1,    I5,    96,  1,     19,    19.,2,19871213,1514,-34.1633, 108.5733, 5452,    500.0,   9.5582,  34.6990,2,  34.7042,2,    241.0,2,  9.5011,    239.0,2,     3.83,2,    15.74,2,     0.00,2,     1.16,2,    2.182,2,    1.144,2, -999.000,5,-999.0000,5,  -999.00,9,-999.000,9,-999.0000,-999.000,-999.000,-999.000
      74AB29_1,    I5,    96,  1,     18,    18.,2,19871213,1514,-34.1633, 108.5733, 5452,    601.2,   8.9672,  34.6320,2,  34.6323,2,    236.6,2,  8.9008,    237.7,2,     4.97,2,    17.89,2,     0.00,2,     1.30,2,    1.842,2,    0.958,2, -999.000,5,-999.0000,5,  -999.00,9,-999.000,9,-999.0000,-999.000,-999.000,-999.000
      74AB29_1,    I5,    96,  1,     17,    17.,2,19871213,1514,-34.1633, 108.5733, 5452,    698.9,   8.4298,  34.5770,2,  34.5722,2,    230.1,2,  8.3550,    228.1,2,     7.26,2,    20.14,2,     0.00,2,     1.45,2,    1.517,2,    0.815,2, -999.000,5,-999.0000,5,  -999.00,9,-999.000,9,-999.0000,-999.000,-999.000,-999.000
      74AB29_1,    I5,    96,  1,     16,    16.,2,19871213,1514,-34.1633, 108.5733, 5452,    801.1,   7.3354,  34.4960,2,  34.5064,2,    205.7,2,  7.2557,    205.1,2,    14.63,2,    24.83,2,     0.00,2,     1.74,2,    0.705,2,    0.393,2, -999.000,5,-999.0000,5,  -999.00,9,-999.000,9,-999.0000,-999.000,-999.000,-999.000
      74AB29_1,    I5,    96,  1,     15,    15.,2,19871213,1514,-34.1633, 108.5733, 5452,    898.8,   5.9440,  34.4190,2,  34.4184,2,    200.0,2,  5.8635,    198.6,2,    23.16,2,    28.64,2,     0.00,2,     1.99,2,    0.417,2,    0.256,2, -999.000,5,-999.0000,5,  -999.00,9,-999.000,9,-999.0000,-999.000,-999.000,-999.000
      74AB29_1,    I5,    96,  1,     14,    14.,2,19871213,1514,-34.1633, 108.5733, 5452,    999.5,   4.7157,  34.3920,2,  34.3939,2,    192.2,2,  4.6348,    192.5,2,    35.62,2,    31.09,2,     0.00,2,     2.21,2,    0.208,2,    0.127,2, -999.000,5,-999.0000,5,  -999.00,9,-999.000,9,-999.0000,-999.000,-999.000,-999.000
      74AB29_1,    I5,    96,  1,     13,    13.,2,19871213,1514,-34.1633, 108.5733, 5452,   1399.2,   3.1449,  34.5210,2,  34.5217,2,    166.5,2,  3.0439,    164.7,2,    69.57,2,    34.70,2,     0.00,2,     2.49,2,    0.034,2, -999.000,5, -999.000,5,-999.0000,5,  -999.00,9,-999.000,9,-999.0000,-999.000,-999.000,-999.000
      74AB29_1,    I5,    96,  1,     12,    12.,2,19871213,1514,-34.1633, 108.5733, 5452,   1800.7,   2.6275,  34.6600,2,  34.6541,2,    163.8,2,  2.4988,    162.5,2,    87.26,2,    34.11,2,     0.00,2,     2.46,2, -999.000,5, -999.000,5, -999.000,5,-999.0000,5,  -999.00,9,-999.000,9,-999.0000,-999.000,-999.000,-999.000
      74AB29_1,    I5,    96,  1,     11,    11.,2,19871213,1514,-34.1633, 108.5733, 5452,   2199.8,   2.2605,  34.7160,2,  34.7156,2,    169.0,2,  2.1024,    169.0,2,   101.82,2,    33.52,2,     0.00,2,     2.45,2, -999.000,5, -999.000,5, -999.000,5,-999.0000,5,  -999.00,9,-999.000,9,-999.0000,-999.000,-999.000,-999.000
      74AB29_1,    I5,    96,  1,     10,    10.,2,19871213,1514,-34.1633, 108.5733, 5452,   2497.8,   2.0291,  34.7260,2,  34.7248,2,    172.1,2,  1.8481,    172.1,2,   108.03,2,    33.33,2,     0.00,2,     2.42,2, -999.000,5, -999.000,5, -999.000,5,-999.0000,5,  -999.00,9,-999.000,9,-999.0000,-999.000,-999.000,-999.000
      74AB29_1,    I5,    96,  1,      9,     9.,2,19871213,1514,-34.1633, 108.5733, 5452,   2799.1,   1.8426,  34.7320,2,  34.7345,2,    181.2,2,  1.6372,    182.0,2,   107.84,2,    32.55,2,     0.00,2,     2.37,2, -999.000,5, -999.000,5, -999.000,5,-999.0000,5,  -999.00,9,-999.000,9,-999.0000,-999.000,-999.000,-999.000
      74AB29_1,    I5,    96,  1,      8,     8.,2,19871213,1514,-34.1633, 108.5733, 5452,   3103.7,   1.6671,  34.7300,2,  34.7266,2,    184.2,2,  1.4363,    186.0,2,   112.74,2,    32.64,2,     0.00,2,     2.38,2, -999.000,5, -999.000,5, -999.000,5,-999.0000,5,  -999.00,9,-999.000,9,-999.0000,-999.000,-999.000,-999.000
      74AB29_1,    I5,    96,  1,      7,     7.,2,19871213,1514,-34.1633, 108.5733, 5452,   3504.5,   1.4297,  34.7270,2,-999.0000,5,    191.2,2,  1.4129,    191.6,2,   115.99,2,    32.35,2,     0.00,2,     2.37,2, -999.000,5, -999.000,5, -999.000,5,-999.0000,5,  -999.00,9,-999.000,9,-999.0000,-999.000,-999.000,-999.000
      74AB29_1,    I5,    96,  1,      6,     6.,2,19871213,1514,-34.1633, 108.5733, 5452,   3905.2,   1.2602,  34.7210,2,-999.0000,5,    196.0,2,  1.2317,    198.6,2,   119.08,2,    32.35,2,     0.00,2,     2.38,2, -999.000,5, -999.000,5, -999.000,5,-999.0000,5,  -999.00,9,-999.000,9,-999.0000,-999.000,-999.000,-999.000
      74AB29_1,    I5,    96,  1,      5,     5.,2,19871213,1514,-34.1633, 108.5733, 5452,   4207.1,   1.1672,  34.7180,2,  34.7180,2,    201.6,2,  0.8350,    203.3,2,   119.05,2,    32.16,2,     0.00,2,     2.21,2, -999.000,5, -999.000,5, -999.000,5,-999.0000,5,  -999.00,9,-999.000,9,-999.0000,-999.000,-999.000,-999.000
      74AB29_1,    I5,    96,  1,      4,     4.,2,19871213,1514,-34.1633, 108.5733, 5452,   4509.2,   1.0667,  34.7130,2,  34.7154,2,    204.7,2,  0.7039,    205.9,2,   120.49,2,    32.16,2,     0.00,2,     2.21,2, -999.000,5, -999.000,5, -999.000,5,-999.0000,5,  -999.00,9,-999.000,9,-999.0000,-999.000,-999.000,-999.000
      74AB29_1,    I5,    96,  1,      3,     3.,2,19871213,1514,-34.1633, 108.5733, 5452,   4906.7,   0.9633,  34.7070,2,  34.7052,2,    209.0,2,  0.5581,    209.4,2,   122.92,2,    32.16,2,     0.00,2,     2.22,2, -999.000,5, -999.000,5, -999.000,5,-999.0000,5,  -999.00,9,-999.000,9,-999.0000,-999.000,-999.000,-999.000
      74AB29_1,    I5,    96,  1,      2,     2.,2,19871213,1514,-34.1633, 108.5733, 5452,   5313.9,   0.9683,  34.7050,2,  34.7005,2,    211.2,2,  0.5140,    209.9,2,   123.22,2,    32.16,2,     0.00,2,     2.21,2, -999.000,5, -999.000,5, -999.000,5,-999.0000,5,  -999.00,9,-999.000,9,-999.0000,-999.000,-999.000,-999.000
      74AB29_1,    I5,    96,  1,      1,     1.,2,19871213,1514,-34.1633, 108.5733, 5452,   5550.0,   0.9843,  34.7030,2,-999.0000,5,    212.5,2,  0.8686,    209.9,2,   123.19,2,    32.16,2,     0.00,2,     2.24,2, -999.000,5, -999.000,5, -999.000,5,-999.0000,5,  -999.00,9,-999.000,9,-999.0000,-999.000,-999.000,-999.000
      74AB29_1,    I5,    97,  1,     24,    24.,2,19871213,2226,-34.1667, 109.1500, 5065,      3.0,  17.2663,  35.7540,2,  35.7562,2,    242.4,2, 17.2658,    240.5,2,     1.22,2,     0.00,2,     0.00,2,     0.18,2,    2.284,2,    1.232,2, -999.000,5,-999.0000,5,  -999.00,9,-999.000,9,-999.0000,-999.000,-999.000,-999.000
      74AB29_1,    I5,    97,  1,     23,    23.,2,19871213,2226,-34.1667, 109.1500, 5065,    102.3,  14.9183,  35.6030,2,  35.5947,2,    240.6,2, 14.9028,    241.4,2,     1.23,2,     0.98,2,     0.00,2,     0.24,2,    2.401,2,    1.395,2, -999.000,9,   1.7630,2,    -1.00,2,   7.320,2,  0.0090,-999.000,   0.150,   0.200
      74AB29_1,    I5,    97,  1,     22,    22.,2,19871213,2226,-34.1667, 109.1500, 5065,    188.1,  13.8094,  35.3900,2,  35.3936,2,    244.9,2, 13.7824,    242.7,2,     1.07,2,     2.93,2,     0.00,2,     0.38,2,    2.458,2,    1.383,2, -999.000,9,   1.7590,2,    -0.80,2,   7.350,2,  0.0090,-999.000,   0.150,   0.200
      74AB29_1,    I5,    97,  1,     21,    21.,2,19871213,2226,-34.1667, 109.1500, 5065,    289.8,  12.1050,  35.1020,2,  35.0925,2,    247.1,2, 12.0668,    244.5,2,     1.73,2,     7.04,2,     0.00,2,     0.61,2,    2.839,2,    1.524,2, -999.000,9,   1.8070,2,    -1.20,2,   7.430,2,  0.0090,-999.000,   0.150,   0.200
      74AB29_1,    I5,    97,  1,     20,    20.,2,19871213,2226,-34.1667, 109.1500, 5065,    402.1,  10.1316,  34.7700,2,  34.7695,2,    247.1,2, 10.0842,    247.6,2,     3.04,2,    12.71,2,     0.00,2,     0.96,2,    2.642,2,    1.432,2,    0.313,2,   1.8060,2,    -1.60,2,   7.630,2,  0.0090,   0.008,   0.150,   0.200
      74AB29_1,    I5,    97,  1,     19,    19.,2,19871213,2226,-34.1667, 109.1500, 5065,    502.1,   9.5362,  34.7030,2,  34.6971,2,    241.4,2,  9.4789,    238.1,2,     4.19,2,    15.83,2,     0.00,2,     1.13,2,    2.189,2,    1.164,2, -999.000,9,   1.8510,2,     0.20,2,   7.670,2,  0.0090,-999.000,   0.150,   0.200
      74AB29_1,    I5,    97,  1,     18,    18.,2,19871213,2226,-34.1667, 109.1500, 5065,    602.5,   8.9847,  34.6610,2,  34.6378,2,    237.5,2,  8.9181,    236.8,2,     5.00,2,    17.79,2,     0.00,2,     1.27,2,    2.090,2,    1.133,2, -999.000,9,   1.8520,2,     2.30,2,   7.780,2,  0.0090,-999.000,   0.160,   0.200
      74AB29_1,    I5,    97,  1,     17,    17.,2,19871213,2226,-34.1667, 109.1500, 5065,    701.8,   8.3768,  34.5920,2,  34.5631,2,    233.1,2,  8.3020,    229.9,2,     7.14,2,    20.14,2,     0.00,2,     1.43,2,    1.722,2,    0.954,2, -999.000,9,   1.8480,2,     6.30,2,   7.760,2,  0.0090,-999.000,   0.160,   0.200
      74AB29_1,    I5,    97,  1,     16,    16.,2,19871213,2226,-34.1667, 109.1500, 5065,    801.7,   7.2649,  34.5000,2,  34.4881,2,    210.0,2,  7.1856,    203.8,2,    14.64,2,    24.83,2,     0.00,2,     1.72,2,    0.840,2,    0.465,2, -999.000,9,   1.8900,2,     7.10,2,   7.780,2,  0.0090,-999.000,   0.160,   0.200
      74AB29_1,    I5,    97,  1,     15,    15.,2,19871213,2226,-34.1667, 109.1500, 5065,    900.6,   5.8450,  34.4180,2,-999.0000,5,    198.3,2,  5.8274,    197.3,2,    23.77,2,    28.54,2,     0.00,2,     1.97,2,    0.439,2,    0.256,2, -999.000,9,   1.9070,2,     9.10,2,   8.040,2,  0.0100,-999.000,   0.160,   0.200
      74AB29_1,    I5,    97,  1,     14,    14.,2,19871213,2226,-34.1667, 109.1500, 5065,   1000.9,   4.5872,  34.3770,2,  34.3705,2,    197.4,2,  4.5072,    196.4,2,    33.55,2,    30.80,2,     0.00,2,     2.15,2,    0.308,2,    0.196,2, -999.000,9,   1.9200,2,    10.80,2,   8.170,2,  0.0100,-999.000,   0.160,   0.200
      74AB29_1,    I5,    97,  1,     13,    13.,2,19871213,2226,-34.1667, 109.1500, 5065,   1299.5,   3.3784,  34.4920,2,-999.0000,5,    165.6,2,  3.3780,    163.8,2,    66.12,2,    34.61,2,     0.00,2,     2.45,2,    0.038,2,    0.000,2,    0.055,2,   1.8880,2,    11.10,2,   8.180,2,  0.0090,   0.008,   0.160,   0.200
      74AB29_1,    I5,    97,  1,     12,    12.,2,19871213,2226,-34.1667, 109.1500, 5065,   1600.6,   2.8285,  34.6010,2,  34.5965,2,    161.7,2,  2.7142,    159.9,2,    79.94,2,    34.70,2,     0.00,2,     2.47,2, -999.000,5, -999.000,5, -999.000,5,-999.0000,5,  -999.00,9,-999.000,9,-999.0000,-999.000,-999.000,-999.000
      74AB29_1,    I5,    97,  1,     11,    11.,2,19871213,2226,-34.1667, 109.1500, 5065,   1900.1,   2.5345,  34.6800,2,  34.6767,2,    163.0,2,  2.3985,    162.1,2,    92.13,2,    34.01,2,     0.00,2,     2.41,2,    0.004,2,    0.000,2, -999.000,9,   1.9030,2,    11.80,2,   8.210,2,  0.0100,-999.000,   0.160,   0.200
      74AB29_1,    I5,    97,  1,     10,    10.,2,19871213,2226,-34.1667, 109.1500, 5065,   2196.8,   2.2615,  34.7160,2,  34.7166,2,    166.4,2,  2.1036,    167.7,2,   101.06,2,    33.43,2,     0.00,2,     2.39,2, -999.000,5, -999.000,5, -999.000,5,-999.0000,5,  -999.00,9,-999.000,9,-999.0000,-999.000,-999.000,-999.000
      74AB29_1,    I5,    97,  1,      9,     9.,2,19871213,2226,-34.1667, 109.1500, 5065,   2501.5,   2.0241,  34.7280,2,  34.7270,2,    171.6,2,  1.8429,    172.5,2,   106.90,2,    33.13,2,     0.00,2,     2.36,2, -999.000,5, -999.000,5, -999.000,9,   1.9150,2,    12.40,2,   8.280,2,  0.0100,-999.000,   0.170,   0.200
      74AB29_1,    I5,    97,  1,      8,     8.,2,19871213,2226,-34.1667, 109.1500, 5065,   2803.5,   1.8431,  34.7300,2,  34.7296,2,    177.7,2,  1.6373,    178.1,2,   109.64,2,    32.94,2,     0.00,2,     2.33,2, -999.000,5, -999.000,5, -999.000,5,-999.0000,5,  -999.00,9,-999.000,9,-999.0000,-999.000,-999.000,-999.000
      74AB29_1,    I5,    97,  1,      7,     7.,2,19871213,2226,-34.1667, 109.1500, 5065,   3103.3,   1.6826,  34.7300,2,  34.7317,2,    181.6,2,  1.4514,    182.9,2,   112.55,2,    32.74,2,     0.00,2,     2.32,2, -999.000,5, -999.000,5, -999.000,9,   1.8890,2,    12.10,2,   8.300,2,  0.0090,-999.000,   0.170,   0.200
      74AB29_1,    I5,    97,  1,      6,     6.,2,19871213,2226,-34.1667, 109.1500, 5065,   3405.7,   1.5042,  34.7280,2,  34.7278,2,    189.4,2,  1.2472,    190.3,2,   114.32,2,    32.55,2,     0.00,2,     2.31,2, -999.000,5, -999.000,5, -999.000,5,-999.0000,5,  -999.00,9,-999.000,9,-999.0000,-999.000,-999.000,-999.000
      74AB29_1,    I5,    97,  1,      5,     5.,2,19871213,2226,-34.1667, 109.1500, 5065,   3805.5,   1.3112,  34.7210,2,  34.7246,2,    193.8,2,  1.0180,    196.0,2,   117.37,2,    32.55,2,     0.00,2,     2.29,2, -999.000,5, -999.000,5, -999.000,9,   1.9310,2,    11.40,2,   8.320,2,  0.0100,-999.000,   0.170,   0.200
      74AB29_1,    I5,    97,  1,      4,     4.,2,19871213,2226,-34.1667, 109.1500, 5065,   4107.9,   1.2187,  34.7180,2,  34.7158,2,    196.8,2,  0.8958,    199.0,2,   119.79,2,    32.55,2,     0.00,2,     2.29,2, -999.000,5, -999.000,5, -999.000,5,-999.0000,5,  -999.00,9,-999.000,9,-999.0000,-999.000,-999.000,-999.000
      74AB29_1,    I5,    97,  1,      3,     3.,2,19871213,2226,-34.1667, 109.1500, 5065,   4473.8,   1.0962,  34.7140,2,  34.7123,2,    204.2,2,  0.7365,    205.1,2,   119.28,2,    32.25,2,     0.00,2,     2.28,2, -999.000,5, -999.000,5, -999.000,5,-999.0000,5,  -999.00,9,-999.000,9,-999.0000,-999.000,-999.000,-999.000
      74AB29_1,    I5,    97,  1,      2,     2.,2,19871213,2226,-34.1667, 109.1500, 5065,   4911.8,   0.9613,  34.7060,2,  34.7050,2,    208.6,2,  0.5556,    209.0,2,   122.34,2,    32.55,2,     0.00,2,     2.28,2, -999.000,5, -999.000,5, -999.000,5,-999.0000,5,  -999.00,9,-999.000,9,-999.0000,-999.000,-999.000,-999.000
      74AB29_1,    I5,    97,  1,      1,     1.,2,19871213,2226,-34.1667, 109.1500, 5065,   5152.7,   0.9463,  34.7050,2,  34.7020,2,    209.9,2,  0.5124,    209.0,2,   122.81,2,    32.55,2,     0.00,2,     2.28,2,    0.009,2,    0.000,2, -999.000,5,-999.0000,5,  -999.00,9,-999.000,9,-999.0000,-999.000,-999.000,-999.000