BOTTLE,20060509WHPSIOSA
EXPOCODE,SECT_ID,STNNBR,CASTNO,SAMPNO,BTLNBR,BTLNBR_FLAG_W,DATE,TIME,LATITUDE,LONGITUDE,DEPTH,CTDPRS,CTDTMP,CTDSAL,CTDSAL_FLAG_W,SALNTY,SALNTY_FLAG_W,CTDOXY,CTDOXY_FLAG_W,THETA,OXYGEN,OXYGEN_FLAG_W,SILCAT,SILCAT_FLAG_W,NITRAT,NITRAT_FLAG_W,NITRIT,NITRIT_FLAG_W,PHSPHT,PHSPHT_FLAG_W,CFC-11,CFC-11_FLAG_W,CFC-12,CFC-12_FLAG_W,TRITUM,TRITUM_FLAG_W,HELIUM,HELIUM_FLAG_W,DELHE3,DELHE3_FLAG_W,NEON,NEON_FLAG_W,HELIER,TRITER,NEONER,DELHER
,,,,,,,,,,,,DBAR,IPTS-68,PSS-78,,PSS-78,,UMOL/KG,,IPTS-68,UMOL/KG,,UMOL/KG,,UMOL/KG,,UMOL/KG,,UMOL/KG,,PMOL/KG,,PMOL/KG,,TU,,UMOL/KG,,PERCNT,,NMOL/KG,,NMOL/KG,TU,NMOL/KG,PERCNT
      74AB29_1,    I5,    80,  1,     24,    24.,2,19871209,0451,-31.9983,  99.0017, 2089,      8.4,  18.8768,  35.9900,2,  35.9842,2,    230.7,2, 18.8753,    236.1,2,     1.68,2,     0.00,2,     0.00,2,     0.10,2,    2.265,2,    1.246,2,    0.674,2,   1.7310,2,    -1.70,2,   7.100,2,  0.0090,   0.008,   0.140,   0.200
      74AB29_1,    I5,    80,  1,     23,    23.,2,19871209,0451,-31.9983,  99.0017, 2089,     31.9,  17.7163,  35.9560,2,  35.9601,2,    239.0,2, 17.7109,    240.0,2,     1.68,2,     0.00,2,     0.00,2,     0.10,2,    2.209,2,    1.265,2, -999.000,5,-999.0000,5,  -999.00,9,-999.000,9,-999.0000,-999.000,-999.000,-999.000
      74AB29_1,    I5,    80,  1,     22,    22.,2,19871209,0451,-31.9983,  99.0017, 2089,     62.3,  17.5138,  35.9600,2,  35.9615,2,    239.8,2, 17.5033,    240.0,2,     1.69,2,     0.00,2,     0.00,2,     0.10,2,    2.577,2,    1.845,2,    0.649,2,   1.7170,2,    -1.70,2,   7.160,2,  0.0090,   0.008,   0.140,   0.200
      74AB29_1,    I5,    80,  1,     21,    21.,2,19871209,0451,-31.9983,  99.0017, 2089,     92.6,  16.8728,  35.8820,2,  35.8927,2,    243.3,2, 16.8575,    242.7,2,     1.52,2,     0.00,2,     0.00,2,     0.12,2,    2.281,2,    1.204,2, -999.000,5,-999.0000,5,  -999.00,9,-999.000,9,-999.0000,-999.000,-999.000,-999.000
      74AB29_1,    I5,    80,  1,     20,    20.,2,19871209,0451,-31.9983,  99.0017, 2089,    121.5,  16.5023,  35.8690,2,  35.8742,2,    240.2,2, 16.4826,    241.8,2,     1.37,2,     0.00,2,     0.00,2,     0.13,2,    2.379,2,    1.045,2,    0.754,2,   1.7800,2,    -1.10,2,   7.140,2,  0.0090,   0.008,   0.140,   0.200
      74AB29_1,    I5,    80,  1,     19,    19.,2,19871209,0451,-31.9983,  99.0017, 2089,    152.3,  16.3558,  35.8520,2,  35.8576,2,    236.7,2, 16.3312,    238.3,2,     1.37,2,     0.29,2,     0.00,2,     0.15,2,    2.226,2,    1.227,2, -999.000,5,-999.0000,5,  -999.00,9,-999.000,9,-999.0000,-999.000,-999.000,-999.000
      74AB29_1,    I5,    80,  1,     18,    18.,2,19871209,0451,-31.9983,  99.0017, 2089,    201.7,  15.8783,  35.7530,2,  35.7586,2,    239.8,2, 15.8463,    237.0,2,     1.38,2,     0.88,2,     0.00,2,     0.18,2,    2.302,2,    1.415,2,    0.793,2,   1.7600,2,    -0.30,2,   7.370,2,  0.0090,   0.008,   0.150,   0.200
      74AB29_1,    I5,    80,  1,     17,    17.,2,19871209,0451,-31.9983,  99.0017, 2089,    251.2,  14.4554,  35.5140,2,  35.5085,2,    235.4,2, 14.4181,    233.2,2,     1.54,2,     3.42,2,     0.00,2,     0.36,2,    2.383,2,    1.290,2, -999.000,5,-999.0000,5,  -999.00,9,-999.000,9,-999.0000,-999.000,-999.000,-999.000
      74AB29_1,    I5,    80,  1,     16,    16.,2,19871209,0451,-31.9983,  99.0017, 2089,    302.6,  13.6949,  35.3970,2,  35.3914,2,    234.5,2, 13.6515,    233.2,2,     1.71,2,     5.08,2,     0.00,2,     0.44,2,    2.134,2,    1.160,2,    0.529,2,   1.8260,2,     4.80,2,   7.250,2,  0.0090,   0.008,   0.140,   0.200
      74AB29_1,    I5,    80,  1,     15,    15.,2,19871209,0451,-31.9983,  99.0017, 2089,    351.6,  12.8099,  35.2790,2,  35.2432,2,    236.2,2, 12.7616,    238.0,2,     1.88,2,     6.84,2,     0.00,2,     0.54,2,    2.442,2,    1.284,2, -999.000,5,-999.0000,5,  -999.00,9,-999.000,9,-999.0000,-999.000,-999.000,-999.000
      74AB29_1,    I5,    80,  1,     14,    14.,2,19871209,0451,-31.9983,  99.0017, 2089,    400.3,  11.9085,  35.1160,2,  35.0888,2,    239.7,2, 11.8560,    242.8,2,     2.21,2,     8.70,2,     0.00,2,     0.65,2,    2.338,2,    1.251,2,    0.502,2,-999.0000,9,  -999.00,9,-999.000,9,-999.0000,   0.008,  -0.090,-999.000
      74AB29_1,    I5,    80,  1,     13,    13.,2,19871209,0451,-31.9983,  99.0017, 2089,    500.0,  10.7091,  34.8980,2,  34.8711,2,    241.4,2, 10.6477,    244.6,2,     3.21,2,    12.02,2,     0.00,2,     0.85,2,    2.437,2,    1.332,2,    0.345,2,   1.8300,2,     6.30,2,   7.520,2,  0.0090,   0.008,   0.150,   0.200
      74AB29_1,    I5,    80,  1,     12,    12.,2,19871209,0451,-31.9983,  99.0017, 2089,    600.2,   9.7501,  34.7460,2,  34.7298,2,    239.2,2,  9.6803,    240.7,2,     4.03,2,    15.25,2,     0.00,2,     1.02,2,    2.249,2,    1.205,2, -999.000,5,-999.0000,5,  -999.00,9,-999.000,9,-999.0000,-999.000,-999.000,-999.000
      74AB29_1,    I5,    80,  1,     11,    11.,2,19871209,0451,-31.9983,  99.0017, 2089,    700.4,   9.1182,  34.6710,2,  34.6527,2,    237.5,2,  9.0397,    238.1,2,     4.85,2,    17.50,2,     0.00,2,     1.19,2,    1.955,2,    1.033,2, -999.000,9,   1.8640,2,     6.30,2,   7.780,2,  0.0090,-999.000,   0.160,   0.200
      74AB29_1,    I5,    80,  1,     10,    10.,2,19871209,0451,-31.9983,  99.0017, 2089,    798.9,   8.6257,  34.6020,2,  34.5953,2,    231.8,2,  8.5386,    231.6,2,     6.49,2,    19.75,2,     0.00,2,     1.32,2,    1.630,2,    0.886,2, -999.000,9,   1.8690,2,     6.50,2,   7.710,2,  0.0090,-999.000,   0.150,   0.200
      74AB29_1,    I5,    80,  1,      9,     9.,2,19871209,0451,-31.9983,  99.0017, 2089,    900.0,   7.4139,  34.5210,2,  34.5095,2,    210.5,2,  7.3233,    205.1,2,    14.38,2,    25.03,2,     0.00,2,     1.65,2,    0.693,2,    0.383,2, -999.000,9,   1.8490,2,     6.60,2,   7.820,2,  0.0090,-999.000,   0.160,   0.200
      74AB29_1,    I5,    80,  1,      8,     8.,2,19871209,0451,-31.9983,  99.0017, 2089,    999.8,   5.6691,  34.4220,2,  34.4147,2,    196.5,2,  5.5809,    196.0,2,    25.88,2,    29.62,2,     0.00,2,     1.99,2,    0.318,2,    0.189,2, -999.000,9,   1.8510,2,     5.80,2,   7.910,2,  0.0090,-999.000,   0.160,   0.200
      74AB29_1,    I5,    80,  1,      7,     7.,2,19871209,0451,-31.9983,  99.0017, 2089,   1199.1,   3.9638,  34.4240,2,  34.4210,2,    178.2,2,  3.8718,    179.9,2,    50.33,2,    33.83,2,     0.00,2,     2.31,2,    0.119,2,    0.065,2, -999.000,9,-999.0000,9,  -999.00,9,-999.000,9,-999.0000,-999.000,  -0.090,-999.000
      74AB29_1,    I5,    80,  1,      6,     6.,2,19871209,0451,-31.9983,  99.0017, 2089,   1400.6,   3.3994,  34.5100,2,  34.5168,2,    161.7,2,  3.2956,    158.6,2,    70.03,2,    35.48,2,     0.00,2,     2.44,2, -999.000,5, -999.000,5, -999.000,5,-999.0000,5,  -999.00,9,-999.000,9,-999.0000,-999.000,-999.000,-999.000
      74AB29_1,    I5,    80,  1,      5,     5.,2,19871209,0451,-31.9983,  99.0017, 2089,   1600.5,   3.0609,  34.5850,2,  34.5840,2,    154.7,2,  2.9438,    156.0,2,    79.88,2,    35.48,2,     0.00,2,     2.44,2,    0.001,2,    0.000,2, -999.000,9,   1.9380,2,     6.80,2,   8.160,2,  0.0100,-999.000,   0.160,   0.200
      74AB29_1,    I5,    80,  1,      4,     4.,2,19871209,0451,-31.9983,  99.0017, 2089,   1800.2,   2.7785,  34.6430,2,  34.6454,2,    156.5,2,  2.6478,    157.3,2,    88.59,2,    34.89,2,     0.00,2,     2.41,2, -999.000,5, -999.000,5, -999.000,9,-999.0000,9,  -999.00,9,-999.000,9,-999.0000,-999.000,  -0.090,-999.000
      74AB29_1,    I5,    80,  1,      3,     3.,2,19871209,0451,-31.9983,  99.0017, 2089,   1949.4,   2.6225,  34.6720,2,  34.6743,2,    159.5,2,  2.4809,    161.2,2,    92.37,2,    34.60,2,     0.00,2,     2.38,2,    0.001,2,    0.000,2, -999.000,9,   1.8910,2,     5.10,2,   8.360,2,  0.0090,-999.000,   0.170,   0.200
      74AB29_1,    I5,    80,  1,      1,     1.,2,19871209,0451,-31.9983,  99.0017, 2089,   2104.2,   2.3935,  34.7030,2,  34.7056,2,    164.3,2,  2.2417,    166.4,2,    96.81,2,    34.01,2,     0.00,2,     2.33,2,    0.005,2,    0.000,2, -999.000,9,   1.8570,2,     6.90,2,   8.190,2,  0.0090,-999.000,   0.160,   0.200
      74AB29_1,    I5,    80,  1,      2,     2.,2,19871209,0451,-31.9983,  99.0017, 2089,   2104.6,   2.3915,  34.7030,2,  34.7036,2,    164.3,2,  2.2397,    166.4,2,    96.97,2,    34.01,2,     0.00,2,     2.33,2, -999.000,5, -999.000,5, -999.000,9,   1.8570,2,     6.90,2,   8.190,2,  0.0090,-999.000,   0.160,   0.200
      74AB29_1,    I5,    81,  1,     19,    19.,2,19871209,1102,-31.9933,  99.9767, 2407,      3.0,  18.1268,  35.6130,2,  35.5657,2,    217.3,2, 18.1263,    238.8,2,     1.16,2,     0.20,2,     0.00,2,     0.21,2, -999.000,5, -999.000,5, -999.000,5,-999.0000,5,  -999.00,9,-999.000,9,-999.0000,-999.000,-999.000,-999.000
      74AB29_1,    I5,    81,  1,     18,    18.,2,19871209,1102,-31.9933,  99.9767, 2407,    103.8,  14.5319,  35.4000,2,  35.4024,2,    245.0,2, 14.5165,    242.3,2,     1.33,2,     2.25,2,     0.00,2,  -999.00,5, -999.000,5, -999.000,5, -999.000,5,-999.0000,5,  -999.00,9,-999.000,9,-999.0000,-999.000,-999.000,-999.000
      74AB29_1,    I5,    81,  1,     17,    17.,2,19871209,1102,-31.9933,  99.9767, 2407,    201.7,  12.7864,  35.1520,2,  35.2059,2,    234.0,2, 12.7589,    233.7,2,     2.32,2,     7.91,2,     0.00,2,     0.64,2, -999.000,5, -999.000,5, -999.000,5,-999.0000,5,  -999.00,9,-999.000,9,-999.0000,-999.000,-999.000,-999.000
      74AB29_1,    I5,    81,  1,     16,    16.,2,19871209,1102,-31.9933,  99.9767, 2407,    301.6,  11.4460,  34.9490,2,  34.9795,2,    239.7,2, 11.4077,    240.7,2,     3.31,2,    10.75,2,     0.00,2,     0.81,2, -999.000,5, -999.000,5, -999.000,5,-999.0000,5,  -999.00,9,-999.000,9,-999.0000,-999.000,-999.000,-999.000
      74AB29_1,    I5,    81,  1,     15,    15.,2,19871209,1102,-31.9933,  99.9767, 2407,    401.8,  10.7486,  34.8670,2,  34.8751,2,    241.0,2, 10.6994,    238.9,2,     3.80,2,    12.61,2,     0.00,2,     0.93,2, -999.000,5, -999.000,5, -999.000,5,-999.0000,5,  -999.00,9,-999.000,9,-999.0000,-999.000,-999.000,-999.000
      74AB29_1,    I5,    81,  1,     14,    14.,2,19871209,1102,-31.9933,  99.9767, 2407,    500.6,  10.1106,  34.7790,2,  34.8015,2,    235.7,2, 10.0514,    238.5,2,     3.97,2,    14.46,2,     0.00,2,     1.03,2, -999.000,5, -999.000,5, -999.000,5,-999.0000,5,  -999.00,9,-999.000,9,-999.0000,-999.000,-999.000,-999.000
      74AB29_1,    I5,    81,  1,     13,    13.,2,19871209,1102,-31.9933,  99.9767, 2407,    601.3,   9.4757,  34.7030,2,  34.7052,2,    234.9,2,  9.4070,    234.2,2,     4.63,2,    16.52,2,     0.00,2,     1.16,2, -999.000,5, -999.000,5, -999.000,5,-999.0000,5,  -999.00,9,-999.000,9,-999.0000,-999.000,-999.000,-999.000
      74AB29_1,    I5,    81,  1,     12,    12.,2,19871209,1102,-31.9933,  99.9767, 2407,    700.7,   8.8317,  34.6230,2,  34.6384,2,    226.2,2,  8.7546,    225.1,2,     6.78,2,    19.26,2,     0.00,2,     1.35,2, -999.000,5, -999.000,5, -999.000,5,-999.0000,5,  -999.00,9,-999.000,9,-999.0000,-999.000,-999.000,-999.000
      74AB29_1,    I5,    81,  1,     11,    11.,2,19871209,1102,-31.9933,  99.9767, 2407,    801.5,   7.7228,  34.5320,2,  34.5392,2,    208.3,2,  7.6407,    206.8,2,    12.26,2,    23.85,2,     0.00,2,     1.63,2, -999.000,5, -999.000,5, -999.000,5,-999.0000,5,  -999.00,9,-999.000,9,-999.0000,-999.000,-999.000,-999.000
      74AB29_1,    I5,    81,  1,     10,    10.,2,19871209,1102,-31.9933,  99.9767, 2407,    900.8,   6.1620,  34.4340,2,  34.4396,2,    196.1,2,  6.0798,    196.9,2,    22.20,2,    28.35,2,     0.00,2,     1.94,2, -999.000,5, -999.000,5, -999.000,5,-999.0000,5,  -999.00,9,-999.000,9,-999.0000,-999.000,-999.000,-999.000
      74AB29_1,    I5,    81,  1,      9,     9.,2,19871209,1102,-31.9933,  99.9767, 2407,    998.2,   4.9711,  34.3960,2,  34.3921,2,    192.6,2,  4.8883,    192.5,2,    32.64,2,    31.09,2,     0.00,2,     2.15,2, -999.000,5, -999.000,5, -999.000,5,-999.0000,5,  -999.00,9,-999.000,9,-999.0000,-999.000,-999.000,-999.000
      74AB29_1,    I5,    81,  1,      8,     8.,2,19871209,1102,-31.9933,  99.9767, 2407,   1100.4,   4.1853,  34.4110,2,  34.4090,2,    182.2,2,  4.0998,    183.4,2,    45.41,2,    33.14,2,     0.00,2,     2.34,2, -999.000,5, -999.000,5, -999.000,5,-999.0000,5,  -999.00,9,-999.000,9,-999.0000,-999.000,-999.000,-999.000
      74AB29_1,    I5,    81,  1,      7,     7.,2,19871209,1102,-31.9933,  99.9767, 2407,   1299.8,   3.5983,  34.5060,2,  34.5111,2,    158.2,2,  3.5010,    156.0,2,    68.97,2,    35.29,2,     0.00,2,     2.51,2, -999.000,5, -999.000,5, -999.000,5,-999.0000,5,  -999.00,9,-999.000,9,-999.0000,-999.000,-999.000,-999.000
      74AB29_1,    I5,    81,  1,      6,     6.,2,19871209,1102,-31.9933,  99.9767, 2407,   1499.0,   3.1814,  34.5680,2,  34.5745,2,    153.4,2,  3.0716,    151.7,2,    79.76,2,    35.58,2,     0.00,2,     2.54,2, -999.000,5, -999.000,5, -999.000,5,-999.0000,5,  -999.00,9,-999.000,9,-999.0000,-999.000,-999.000,-999.000
      74AB29_1,    I5,    81,  1,      5,     5.,2,19871209,1102,-31.9933,  99.9767, 2407,   1699.2,   2.8225,  34.6380,2,  34.6384,2,    155.6,2,  2.6999,    156.0,2,    87.24,2,    35.09,2,     0.00,2,     2.50,2, -999.000,5, -999.000,5, -999.000,5,-999.0000,5,  -999.00,9,-999.000,9,-999.0000,-999.000,-999.000,-999.000
      74AB29_1,    I5,    81,  1,      4,     4.,2,19871209,1102,-31.9933,  99.9767, 2407,   1900.5,   2.5760,  34.6780,2,  34.6724,2,    163.8,2,  2.4393,    165.1,2,    88.92,2,    34.21,2,     0.00,2,     2.42,2, -999.000,5, -999.000,5, -999.000,5,-999.0000,5,  -999.00,9,-999.000,9,-999.0000,-999.000,-999.000,-999.000
      74AB29_1,    I5,    81,  1,      3,     3.,2,19871209,1102,-31.9933,  99.9767, 2407,   2100.3,   2.3815,  34.7090,2,  34.7058,2,    167.7,2,  2.2302,    166.4,2,    96.91,2,    33.92,2,     0.00,2,     2.40,2, -999.000,5, -999.000,5, -999.000,5,-999.0000,5,  -999.00,9,-999.000,9,-999.0000,-999.000,-999.000,-999.000
      74AB29_1,    I5,    81,  1,      2,     2.,2,19871209,1102,-31.9933,  99.9767, 2407,   2300.1,   2.2206,  34.7230,2,  34.7282,2,    176.0,2,  2.0541,    175.1,2,    96.44,2,    33.23,2,     0.00,2,     2.35,2, -999.000,5, -999.000,5, -999.000,5,-999.0000,5,  -999.00,9,-999.000,9,-999.0000,-999.000,-999.000,-999.000
      74AB29_1,    I5,    81,  1,      1,     1.,2,19871209,1102,-31.9933,  99.9767, 2407,   2421.2,   1.9846,  34.7340,2,  34.7339,2,    179.0,2,  1.8114,    179.4,2,   101.95,2,    33.04,2,     0.00,2,     2.33,2, -999.000,5, -999.000,5, -999.000,5,-999.0000,5,  -999.00,9,-999.000,9,-999.0000,-999.000,-999.000,-999.000