BOTTLE,20060509WHPSIOSA
EXPOCODE,SECT_ID,STNNBR,CASTNO,SAMPNO,BTLNBR,BTLNBR_FLAG_W,DATE,TIME,LATITUDE,LONGITUDE,DEPTH,CTDPRS,CTDTMP,CTDSAL,CTDSAL_FLAG_W,SALNTY,SALNTY_FLAG_W,CTDOXY,CTDOXY_FLAG_W,THETA,OXYGEN,OXYGEN_FLAG_W,SILCAT,SILCAT_FLAG_W,NITRAT,NITRAT_FLAG_W,NITRIT,NITRIT_FLAG_W,PHSPHT,PHSPHT_FLAG_W,CFC-11,CFC-11_FLAG_W,CFC-12,CFC-12_FLAG_W,TRITUM,TRITUM_FLAG_W,HELIUM,HELIUM_FLAG_W,DELHE3,DELHE3_FLAG_W,NEON,NEON_FLAG_W,HELIER,TRITER,NEONER,DELHER
,,,,,,,,,,,,DBAR,IPTS-68,PSS-78,,PSS-78,,UMOL/KG,,IPTS-68,UMOL/KG,,UMOL/KG,,UMOL/KG,,UMOL/KG,,UMOL/KG,,PMOL/KG,,PMOL/KG,,TU,,UMOL/KG,,PERCNT,,NMOL/KG,,NMOL/KG,TU,NMOL/KG,PERCNT
      74AB29_1,    I5,    73,  1,     15,    15.,2,19871207,0011,-30.3333,  90.5050, 1670,      2.6,  21.1379,  34.6260,2,  36.0105,2,    154.2,2, 21.1374,    227.0,2,     2.46,2,     0.00,2,     0.00,2,     0.18,2,    1.951,2, -999.000,5, -999.000,5,-999.0000,5,  -999.00,9,-999.000,9,-999.0000,-999.000,-999.000,-999.000
      74AB29_1,    I5,    73,  1,     14,    14.,2,19871207,0011,-30.3333,  90.5050, 1670,    102.6,  17.2108,  35.7060,2,  35.7005,2,    250.7,2, 17.1937,    246.6,2,     1.47,2,     0.10,2,     0.00,2,     0.24,2,    2.205,2, -999.000,5, -999.000,5,-999.0000,5,  -999.00,9,-999.000,9,-999.0000,-999.000,-999.000,-999.000
      74AB29_1,    I5,    73,  1,     13,    13.,2,19871207,0011,-30.3333,  90.5050, 1670,    202.4,  13.9539,  35.3610,2,  35.3719,2,    234.9,2, 13.9246,    228.4,2,     2.59,2,     5.57,2,     0.00,2,     0.56,2,    2.130,2, -999.000,5, -999.000,5,-999.0000,5,  -999.00,9,-999.000,9,-999.0000,-999.000,-999.000,-999.000
      74AB29_1,    I5,    73,  1,     12,    12.,2,19871207,0011,-30.3333,  90.5050, 1670,    298.9,  12.3270,  35.1070,2,  35.1370,2,    237.5,2, 12.2871,    232.4,2,     3.06,2,     9.28,2,     0.00,2,     0.75,2,    2.059,2, -999.000,5, -999.000,5,-999.0000,5,  -999.00,9,-999.000,9,-999.0000,-999.000,-999.000,-999.000
      74AB29_1,    I5,    73,  1,     11,    11.,2,19871207,0011,-30.3333,  90.5050, 1670,    400.5,  11.3380,  34.9480,2,  34.9744,2,    237.1,2, 11.2872,    238.1,2,     3.87,2,    11.14,2,     0.00,2,     0.87,2,    2.021,2, -999.000,5, -999.000,5,-999.0000,5,  -999.00,9,-999.000,9,-999.0000,-999.000,-999.000,-999.000
      74AB29_1,    I5,    73,  1,     10,    10.,2,19871207,0011,-30.3333,  90.5050, 1670,    498.9,  10.5366,  34.8390,2,  34.8558,2,    238.8,2, 10.4760,    238.9,2,     4.34,2,    13.19,2,     0.00,2,     0.98,2,    1.746,2, -999.000,5, -999.000,5,-999.0000,5,  -999.00,9,-999.000,9,-999.0000,-999.000,-999.000,-999.000
      74AB29_1,    I5,    73,  1,      9,     9.,2,19871207,0011,-30.3333,  90.5050, 1670,    600.5,   9.6116,  34.7300,2,  34.7382,2,    235.7,2,  9.5424,    235.9,2,     4.97,2,    15.83,2,     0.00,2,     1.15,2,    1.734,2, -999.000,5, -999.000,5,-999.0000,5,  -999.00,9,-999.000,9,-999.0000,-999.000,-999.000,-999.000
      74AB29_1,    I5,    73,  1,      8,     8.,2,19871207,0011,-30.3333,  90.5050, 1670,    700.9,   8.7552,  34.6370,2,  34.6403,2,    225.3,2,  8.6785,    222.5,2,     7.75,2,    19.55,2,     0.00,2,     1.36,2,    1.083,2, -999.000,5, -999.000,5,-999.0000,5,  -999.00,9,-999.000,9,-999.0000,-999.000,-999.000,-999.000
      74AB29_1,    I5,    73,  1,      7,     7.,2,19871207,0011,-30.3333,  90.5050, 1670,    799.3,   7.3059,  34.5250,2,  34.5250,2,    206.6,2,  7.2265,    203.4,2,    15.60,2,    24.83,2,     0.00,2,     1.71,2,    0.463,2, -999.000,5, -999.000,5,-999.0000,5,  -999.00,9,-999.000,9,-999.0000,-999.000,-999.000,-999.000
      74AB29_1,    I5,    73,  1,      6,     6.,2,19871207,0011,-30.3333,  90.5050, 1670,    888.9,   6.1230,  34.4500,2,-999.0000,5,    195.7,2,  6.1034,    196.9,2,    24.59,2,    28.15,2,     0.00,2,     1.98,2,    0.276,2, -999.000,5, -999.000,5,-999.0000,5,  -999.00,9,-999.000,9,-999.0000,-999.000,-999.000,-999.000
      74AB29_1,    I5,    73,  1,      5,     5.,2,19871207,0011,-30.3333,  90.5050, 1670,   1000.7,   4.7422,  34.4110,2,  34.4145,2,    184.3,2,  4.6609,    183.4,2,    40.14,2,    31.58,2,     0.00,2,     2.23,2,    0.129,2, -999.000,5, -999.000,5,-999.0000,5,  -999.00,9,-999.000,9,-999.0000,-999.000,-999.000,-999.000
      74AB29_1,    I5,    73,  1,      4,     4.,2,19871207,0011,-30.3333,  90.5050, 1670,   1200.3,   3.8138,  34.5070,2,  34.5095,2,    154.3,2,  3.7229,    152.5,2,    67.83,2,    34.80,2,     0.00,2,     2.50,2,    0.015,2, -999.000,5, -999.000,5,-999.0000,5,  -999.00,9,-999.000,9,-999.0000,-999.000,-999.000,-999.000
      74AB29_1,    I5,    73,  1,      3,     3.,2,19871207,0011,-30.3333,  90.5050, 1670,   1401.4,   3.2769,  34.5600,2,  34.5627,2,    151.7,2,  3.1743,    152.5,2,    77.16,2,    35.19,2,     0.00,2,     2.51,2,    0.009,2, -999.000,5, -999.000,5,-999.0000,5,  -999.00,9,-999.000,9,-999.0000,-999.000,-999.000,-999.000
      74AB29_1,    I5,    73,  1,      2,     2.,2,19871207,0011,-30.3333,  90.5050, 1670,   1599.1,   3.0019,  34.6120,2,  34.6134,2,    153.0,2,  2.8856,    152.5,2,    84.38,2,    34.80,2,     0.00,2,     2.49,2,    0.006,2, -999.000,5, -999.000,5,-999.0000,5,  -999.00,9,-999.000,9,-999.0000,-999.000,-999.000,-999.000
      74AB29_1,    I5,    73,  1,      1,     1.,2,19871207,0011,-30.3333,  90.5050, 1670,   1661.0,   2.9264,  34.6260,2,  34.6278,2,    153.8,2,  2.8057,    153.4,2,    86.01,2,    34.70,2,     0.00,2,     2.49,2,    0.007,2, -999.000,5, -999.000,5,-999.0000,5,  -999.00,9,-999.000,9,-999.0000,-999.000,-999.000,-999.000
      74AB29_1,    I5,    74,  1,     16,    16.,2,19871207,0825,-30.6667,  91.8267, 1928,     12.6,  18.1283,  35.6830,2,  35.8177,2,    238.6,2, 18.1261,    239.6,2,     1.19,2,     0.20,2,     0.00,2,     0.21,2,    2.055,2, -999.000,5, -999.000,5,-999.0000,5,  -999.00,9,-999.000,9,-999.0000,-999.000,-999.000,-999.000
      74AB29_1,    I5,    74,  1,     15,    15.,2,19871207,0825,-30.6667,  91.8267, 1928,    103.6,  14.8454,  35.5010,2,  35.5148,2,    238.4,2, 14.8298,    239.7,2,     1.04,2,     2.64,2,     0.00,2,     0.37,2,    2.102,2, -999.000,5, -999.000,5,-999.0000,5,  -999.00,9,-999.000,9,-999.0000,-999.000,-999.000,-999.000
      74AB29_1,    I5,    74,  1,     14,    14.,2,19871207,0825,-30.6667,  91.8267, 1928,    202.0,  12.6604,  35.1920,2,  35.2254,2,    234.0,2, 12.6330,    234.5,2,     2.02,2,     7.91,2,     0.00,2,     0.71,2,    2.206,2, -999.000,5, -999.000,5,-999.0000,5,  -999.00,9,-999.000,9,-999.0000,-999.000,-999.000,-999.000
      74AB29_1,    I5,    74,  1,     13,    13.,2,19871207,0825,-30.6667,  91.8267, 1928,    301.4,  11.2505,  34.9850,2,  34.9754,2,    238.4,2, 11.2126,    241.1,2,     2.51,2,    10.94,2,     0.00,2,     0.85,2,    2.242,2, -999.000,5, -999.000,5,-999.0000,5,  -999.00,9,-999.000,9,-999.0000,-999.000,-999.000,-999.000
      74AB29_1,    I5,    74,  1,     12,    12.,2,19871207,0825,-30.6667,  91.8267, 1928,    402.3,  10.3226,  34.8270,2,  34.8214,2,    241.8,2, 10.2746,    243.3,2,     3.66,2,    13.19,2,     0.00,2,     0.97,2,    2.118,2, -999.000,5, -999.000,5,-999.0000,5,  -999.00,9,-999.000,9,-999.0000,-999.000,-999.000,-999.000
      74AB29_1,    I5,    74,  1,     11,    11.,2,19871207,0825,-30.6667,  91.8267, 1928,    501.0,   9.7316,  34.7410,2,  34.7386,2,    237.9,2,  9.6737,    238.5,2,     5.14,2,    15.64,2,     0.00,2,     1.10,2,    1.883,2, -999.000,5, -999.000,5,-999.0000,5,  -999.00,9,-999.000,9,-999.0000,-999.000,-999.000,-999.000
      74AB29_1,    I5,    74,  1,     10,    10.,2,19871207,0825,-30.6667,  91.8267, 1928,    602.3,   9.0237,  34.6480,2,  34.6496,2,    233.1,2,  8.9569,    235.1,2,     4.98,2,    17.98,2,     0.00,2,     1.25,2,    1.605,2, -999.000,5, -999.000,5,-999.0000,5,  -999.00,9,-999.000,9,-999.0000,-999.000,-999.000,-999.000
      74AB29_1,    I5,    74,  1,      9,     9.,2,19871207,0825,-30.6667,  91.8267, 1928,    700.1,   8.3008,  34.5830,2,  34.5855,2,    219.6,2,  8.2265,    218.1,2,     8.91,2,    21.60,2,     0.00,2,     1.48,2,    1.007,2, -999.000,5, -999.000,5,-999.0000,5,  -999.00,9,-999.000,9,-999.0000,-999.000,-999.000,-999.000
      74AB29_1,    I5,    74,  1,      8,     8.,2,19871207,0825,-30.6667,  91.8267, 1928,    800.5,   7.1799,  34.4980,2,-999.0000,5,    202.6,2,  7.1551,    202.1,2,    15.79,2,    25.61,2,     0.00,2,     1.75,2,    0.552,2, -999.000,5, -999.000,5,-999.0000,5,  -999.00,9,-999.000,9,-999.0000,-999.000,-999.000,-999.000
      74AB29_1,    I5,    74,  1,      7,     7.,2,19871207,0825,-30.6667,  91.8267, 1928,    899.5,   5.7460,  34.4140,2,  34.4184,2,    197.0,2,  5.6667,    197.7,2,    25.11,2,    29.13,2,     0.00,2,     1.99,2,    0.359,2, -999.000,5, -999.000,5,-999.0000,5,  -999.00,9,-999.000,9,-999.0000,-999.000,-999.000,-999.000
      74AB29_1,    I5,    74,  1,      6,     6.,2,19871207,0825,-30.6667,  91.8267, 1928,   1000.6,   4.6542,  34.3930,2,  34.3939,2,    190.4,2,  4.5736,    192.5,2,    37.21,2,    31.68,2,     0.00,2,     2.19,2,    0.207,2, -999.000,5, -999.000,5,-999.0000,5,  -999.00,9,-999.000,9,-999.0000,-999.000,-999.000,-999.000
      74AB29_1,    I5,    74,  1,      5,     5.,2,19871207,0825,-30.6667,  91.8267, 1928,   1199.6,   3.8073,  34.4960,2,  34.4956,2,    160.0,2,  3.7165,    157.3,2,    65.49,2,    34.90,2,     0.00,2,     2.44,2,    0.035,2, -999.000,5, -999.000,5,-999.0000,5,  -999.00,9,-999.000,9,-999.0000,-999.000,-999.000,-999.000
      74AB29_1,    I5,    74,  1,      4,     4.,2,19871207,0825,-30.6667,  91.8267, 1928,   1400.2,   3.3359,  34.5720,2,  34.5726,2,    150.0,2,  3.2327,    147.7,2,    79.70,2,    35.48,2,     0.00,2,     2.50,2,    0.007,2, -999.000,5, -999.000,5,-999.0000,5,  -999.00,9,-999.000,9,-999.0000,-999.000,-999.000,-999.000
      74AB29_1,    I5,    74,  1,      3,     3.,2,19871207,0825,-30.6667,  91.8267, 1928,   1600.9,   2.9954,  34.6220,2,  34.6258,2,    152.1,2,  2.8790,    151.6,2,    86.54,2,    35.19,2,     0.00,2,     2.48,2,    0.004,2, -999.000,5, -999.000,5,-999.0000,5,  -999.00,9,-999.000,9,-999.0000,-999.000,-999.000,-999.000
      74AB29_1,    I5,    74,  1,      2,     2.,2,19871207,0825,-30.6667,  91.8267, 1928,   1802.4,   2.7115,  34.6680,2,  34.6696,2,    155.6,2,  2.5814,    156.4,2,    93.56,2,    34.80,2,     0.00,2,     2.43,2, -999.000,5, -999.000,5, -999.000,5,-999.0000,5,  -999.00,9,-999.000,9,-999.0000,-999.000,-999.000,-999.000
      74AB29_1,    I5,    74,  1,      1,     1.,2,19871207,0825,-30.6667,  91.8267, 1928,   1934.6,   2.5325,  34.6880,2,  34.6922,2,    156.9,2,  2.3935,    158.6,2,    98.29,2,    34.40,2,     0.00,2,     2.42,2,    0.005,2, -999.000,5, -999.000,5,-999.0000,5,  -999.00,9,-999.000,9,-999.0000,-999.000,-999.000,-999.000
      74AB29_1,    I5,    75,  1,     12,    12.,2,19871207,1720,-30.8383,  93.4100, 1245,     15.3,  17.9958,  35.7110,2,  35.8303,2,    243.8,2, 17.9932,    241.8,2,     1.75,2,     0.10,2,     0.00,2,     0.20,2,    2.143,2, -999.000,5, -999.000,5,-999.0000,5,  -999.00,9,-999.000,9,-999.0000,-999.000,-999.000,-999.000
      74AB29_1,    I5,    75,  1,     11,    11.,2,19871207,1720,-30.8383,  93.4100, 1245,    104.1,  14.9668,  35.5980,2,  35.5492,2,    248.0,2, 14.9510,    244.0,2,  -999.00,5,  -999.00,5,  -999.00,5,  -999.00,5, -999.000,5, -999.000,5, -999.000,5,-999.0000,5,  -999.00,9,-999.000,9,-999.0000,-999.000,-999.000,-999.000
      74AB29_1,    I5,    75,  1,     10,    10.,2,19871207,1720,-30.8383,  93.4100, 1245,    202.2,  13.2889,  35.3010,2,  35.3100,2,    232.3,2, 13.2606,    233.6,2,     2.25,2,     6.35,2,     0.00,2,     0.59,2,    2.290,2, -999.000,5, -999.000,5,-999.0000,5,  -999.00,9,-999.000,9,-999.0000,-999.000,-999.000,-999.000
      74AB29_1,    I5,    75,  1,      9,     9.,2,19871207,1720,-30.8383,  93.4100, 1245,    300.7,  11.7175,  35.0240,2,  35.0588,2,    238.8,2, 11.6787,    241.9,2,     2.75,2,     9.28,2,     0.00,2,     0.74,2,    2.300,2, -999.000,5, -999.000,5,-999.0000,5,  -999.00,9,-999.000,9,-999.0000,-999.000,-999.000,-999.000
      74AB29_1,    I5,    75,  1,      8,     8.,2,19871207,1720,-30.8383,  93.4100, 1245,    402.1,  10.5951,  34.8460,2,  34.8585,2,    241.0,2, 10.5463,    244.6,2,     3.89,2,    12.31,2,     0.00,2,     0.92,2,    2.322,2, -999.000,5, -999.000,5,-999.0000,5,  -999.00,9,-999.000,9,-999.0000,-999.000,-999.000,-999.000
      74AB29_1,    I5,    75,  1,      7,     7.,2,19871207,1720,-30.8383,  93.4100, 1245,    501.3,   9.8076,  34.7480,2,  34.7463,2,    237.5,2,  9.7494,    239.8,2,     4.87,2,    14.86,2,     0.00,2,     1.07,2,    1.978,2, -999.000,5, -999.000,5,-999.0000,5,  -999.00,9,-999.000,9,-999.0000,-999.000,-999.000,-999.000
      74AB29_1,    I5,    75,  1,      6,     6.,2,19871207,1720,-30.8383,  93.4100, 1245,    601.0,   9.1737,  34.6670,2,  34.6680,2,    231.8,2,  9.1064,    237.2,2,     4.08,2,    17.20,2,     0.00,2,     1.22,2,    1.761,2, -999.000,5, -999.000,5,-999.0000,5,  -999.00,9,-999.000,9,-999.0000,-999.000,-999.000,-999.000
      74AB29_1,    I5,    75,  1,      5,     5.,2,19871207,1720,-30.8383,  93.4100, 1245,    751.5,   7.9788,  34.5580,2,  34.5718,2,    210.9,2,  7.9006,    210.3,2,    11.36,2,    22.48,2,     0.00,2,     1.54,2,    0.699,2, -999.000,5, -999.000,5,-999.0000,5,  -999.00,9,-999.000,9,-999.0000,-999.000,-999.000,-999.000
      74AB29_1,    I5,    75,  1,      4,     4.,2,19871207,1720,-30.8383,  93.4100, 1245,    899.6,   5.9085,  34.4300,2,  34.4271,2,    197.0,2,  5.8281,    198.2,2,    24.46,2,    28.45,2,     0.00,2,     1.96,2,    0.349,2, -999.000,5, -999.000,5,-999.0000,5,  -999.00,9,-999.000,9,-999.0000,-999.000,-999.000,-999.000
      74AB29_1,    I5,    75,  1,      3,     3.,2,19871207,1720,-30.8383,  93.4100, 1245,   1000.3,   4.8997,  34.3990,2,  34.3976,2,    190.0,2,  4.8173,    192.1,2,    34.80,2,    30.70,2,     0.00,2,     2.10,2,    0.220,2, -999.000,5, -999.000,5,-999.0000,5,  -999.00,9,-999.000,9,-999.0000,-999.000,-999.000,-999.000
      74AB29_1,    I5,    75,  1,      2,     2.,2,19871207,1720,-30.8383,  93.4100, 1245,   1100.7,   4.0958,  34.4290,2,  34.4310,2,    176.9,2,  4.0110,    175.1,2,    50.97,2,    33.43,2,     0.00,2,     2.26,2,    0.086,2, -999.000,5, -999.000,5,-999.0000,5,  -999.00,9,-999.000,9,-999.0000,-999.000,-999.000,-999.000
      74AB29_1,    I5,    75,  1,      1,     1.,2,19871207,1720,-30.8383,  93.4100, 1245,   1236.3,   3.7143,  34.4720,2,  34.4716,2,    164.3,2,  3.6213,    166.0,2,    61.16,2,    34.31,2,     0.00,2,     2.40,2,    0.045,2, -999.000,5, -999.000,5,-999.0000,5,  -999.00,9,-999.000,9,-999.0000,-999.000,-999.000,-999.000
      74AB29_1,    I5,    76,  1,     12,    12.,2,19871208,0101,-31.1800,  94.4350, 1571,      5.0,  20.2173,  35.8090,2,  35.9908,2,    219.9,2, 20.2164,    229.6,2,     2.37,2,     0.10,2,     0.00,2,     0.23,2,    1.749,2, -999.000,5, -999.000,5,-999.0000,5,  -999.00,9,-999.000,9,-999.0000,-999.000,-999.000,-999.000
      74AB29_1,    I5,    76,  1,     11,    11.,2,19871208,0101,-31.1800,  94.4350, 1571,    103.1,  16.3888,  35.6790,2,  35.6944,2,    242.0,2, 16.3722,    241.0,2,     1.90,2,     0.20,2,     0.00,2,     0.31,2,    1.999,2, -999.000,5, -999.000,5,-999.0000,5,  -999.00,9,-999.000,9,-999.0000,-999.000,-999.000,-999.000
      74AB29_1,    I5,    76,  1,     10,    10.,2,19871208,0101,-31.1800,  94.4350, 1571,    203.6,  13.5244,  35.3510,2,  35.3571,2,    233.2,2, 13.4955,    230.6,2,     2.40,2,     5.96,2,     0.00,2,     0.55,2,    2.104,2, -999.000,5, -999.000,5,-999.0000,5,  -999.00,9,-999.000,9,-999.0000,-999.000,-999.000,-999.000
      74AB29_1,    I5,    76,  1,      9,     9.,2,19871208,0101,-31.1800,  94.4350, 1571,    301.7,  12.1310,  35.0760,2,  35.1152,2,    239.3,2, 12.0911,    238.9,2,     3.06,2,     8.70,2,     0.00,2,     0.72,2,    2.314,2, -999.000,5, -999.000,5,-999.0000,5,  -999.00,9,-999.000,9,-999.0000,-999.000,-999.000,-999.000
      74AB29_1,    I5,    76,  1,      8,     8.,2,19871208,0101,-31.1800,  94.4350, 1571,    402.4,  10.9190,  34.9080,2,  34.9199,2,    239.7,2, 10.8692,    242.4,2,     3.57,2,    11.63,2,     0.00,2,     0.87,2,    2.188,2, -999.000,5, -999.000,5,-999.0000,5,  -999.00,9,-999.000,9,-999.0000,-999.000,-999.000,-999.000
      74AB29_1,    I5,    76,  1,      7,     7.,2,19871208,0101,-31.1800,  94.4350, 1571,    502.1,  10.1406,  34.7780,2,  34.7925,2,    240.1,2, 10.0811,    242.4,2,     4.39,2,    13.68,2,     0.00,2,     0.99,2,    2.103,2, -999.000,5, -999.000,5,-999.0000,5,  -999.00,9,-999.000,9,-999.0000,-999.000,-999.000,-999.000
      74AB29_1,    I5,    76,  1,      6,     6.,2,19871208,0101,-31.1800,  94.4350, 1571,    602.9,   9.5262,  34.6900,2,  34.7093,2,    237.0,2,  9.4571,    237.2,2,     3.91,2,    15.93,2,     0.00,2,     1.11,2,    1.876,2, -999.000,5, -999.000,5,-999.0000,5,  -999.00,9,-999.000,9,-999.0000,-999.000,-999.000,-999.000
      74AB29_1,    I5,    76,  1,      5,     5.,2,19871208,0101,-31.1800,  94.4350, 1571,    801.7,   7.8648,  34.5350,2,  34.5498,2,    210.5,2,  7.7819,    207.7,2,    11.04,2,    23.17,2,     0.00,2,     1.59,2,    0.760,2, -999.000,5, -999.000,5,-999.0000,5,  -999.00,9,-999.000,9,-999.0000,-999.000,-999.000,-999.000
      74AB29_1,    I5,    76,  1,      4,     4.,2,19871208,0101,-31.1800,  94.4350, 1571,   1001.7,   4.7612,  34.3920,2,  34.3904,2,    190.0,2,  4.6797,    191.7,2,    34.02,2,    30.99,2,     0.00,2,     2.11,2,    0.197,2, -999.000,5, -999.000,5,-999.0000,5,  -999.00,9,-999.000,9,-999.0000,-999.000,-999.000,-999.000
      74AB29_1,    I5,    76,  1,      3,     3.,2,19871208,0101,-31.1800,  94.4350, 1571,   1201.3,   3.8308,  34.4780,2,  34.4657,2,    163.9,2,  3.7397,    164.7,2,    59.26,2,    34.31,2,     0.00,2,     2.37,2,    0.044,2, -999.000,5, -999.000,5,-999.0000,5,  -999.00,9,-999.000,9,-999.0000,-999.000,-999.000,-999.000
      74AB29_1,    I5,    76,  1,      2,     2.,2,19871208,0101,-31.1800,  94.4350, 1571,   1400.2,   3.3714,  34.5400,2,  34.5455,2,    154.3,2,  3.2679,    154.3,2,    73.49,2,    35.00,2,     0.00,2,     2.43,2,    0.011,2, -999.000,5, -999.000,5,-999.0000,5,  -999.00,9,-999.000,9,-999.0000,-999.000,-999.000,-999.000
      74AB29_1,    I5,    76,  1,      1,     1.,2,19871208,0101,-31.1800,  94.4350, 1571,   1558.2,   3.0859,  34.5860,2,  34.5822,2,    153.4,2,  2.9721,    153.0,2,    78.18,2,    34.90,2,     0.00,2,     2.40,2,    0.010,2, -999.000,5, -999.000,5,-999.0000,5,  -999.00,9,-999.000,9,-999.0000,-999.000,-999.000,-999.000