BOTTLE,20060509WHPSIOSA
EXPOCODE,SECT_ID,STNNBR,CASTNO,SAMPNO,BTLNBR,BTLNBR_FLAG_W,DATE,TIME,LATITUDE,LONGITUDE,DEPTH,CTDPRS,CTDTMP,CTDSAL,CTDSAL_FLAG_W,SALNTY,SALNTY_FLAG_W,CTDOXY,CTDOXY_FLAG_W,THETA,OXYGEN,OXYGEN_FLAG_W,SILCAT,SILCAT_FLAG_W,NITRAT,NITRAT_FLAG_W,NITRIT,NITRIT_FLAG_W,PHSPHT,PHSPHT_FLAG_W,CFC-11,CFC-11_FLAG_W,CFC-12,CFC-12_FLAG_W,TRITUM,TRITUM_FLAG_W,HELIUM,HELIUM_FLAG_W,DELHE3,DELHE3_FLAG_W,NEON,NEON_FLAG_W,HELIER,TRITER,NEONER,DELHER
,,,,,,,,,,,,DBAR,IPTS-68,PSS-78,,PSS-78,,UMOL/KG,,IPTS-68,UMOL/KG,,UMOL/KG,,UMOL/KG,,UMOL/KG,,UMOL/KG,,PMOL/KG,,PMOL/KG,,TU,,UMOL/KG,,PERCNT,,NMOL/KG,,NMOL/KG,TU,NMOL/KG,PERCNT
      74AB29_1,    I5,    40,  1,     23,    24.,2,19871124,0904,-34.0067,  53.1700, 4612,      3.0,  19.8578,  35.6260,2,  35.6399,2,    237.4,2, 19.8572,    235.8,2,  -999.00,5,  -999.00,5,  -999.00,5,  -999.00,5, -999.000,5, -999.000,5, -999.000,5,-999.0000,5,  -999.00,9,-999.000,9,-999.0000,-999.000,-999.000,-999.000
      74AB29_1,    I5,    40,  1,     22,    23.,2,19871124,0904,-34.0067,  53.1700, 4612,    103.3,  16.0948,  35.5710,2,  35.5596,2,    231.5,2, 16.0784,    231.0,2,     2.99,2,     3.13,2,     0.00,2,     0.37,2, -999.000,5, -999.000,5, -999.000,5,-999.0000,5,  -999.00,9,-999.000,9,-999.0000,-999.000,-999.000,-999.000
      74AB29_1,    I5,    40,  1,     21,    22.,2,19871124,0904,-34.0067,  53.1700, 4612,    202.4,  15.1853,  35.5100,2,  35.4927,2,    234.5,2, 15.1543,    233.2,2,     3.35,2,     4.40,2,     0.00,2,     0.51,2, -999.000,5, -999.000,5, -999.000,5,-999.0000,5,  -999.00,9,-999.000,9,-999.0000,-999.000,-999.000,-999.000
      74AB29_1,    I5,    40,  1,     20,    21.,2,19871124,0904,-34.0067,  53.1700, 4612,    301.1,  14.2909,  35.4120,2,  35.3831,2,    223.6,2, 14.2465,    224.5,2,     3.87,2,     6.94,2,     0.00,2,     0.57,2, -999.000,5, -999.000,5, -999.000,5,-999.0000,5,  -999.00,9,-999.000,9,-999.0000,-999.000,-999.000,-999.000
      74AB29_1,    I5,    40,  1,     19,    20.,2,19871124,0904,-34.0067,  53.1700, 4612,    400.4,  13.4389,  35.3110,2,  35.2702,2,    226.2,2, 13.3820,    226.7,2,     4.22,2,     8.50,2,     0.00,2,     0.80,2, -999.000,5, -999.000,5, -999.000,5,-999.0000,5,  -999.00,9,-999.000,9,-999.0000,-999.000,-999.000,-999.000
      74AB29_1,    I5,    40,  1,     18,    19.,2,19871124,0904,-34.0067,  53.1700, 4612,    503.0,  12.7264,  35.1770,2,  35.1624,2,    227.5,2, 12.6573,    224.6,2,     4.57,2,    10.36,2,     0.00,2,     0.96,2, -999.000,5, -999.000,5, -999.000,5,-999.0000,5,  -999.00,9,-999.000,9,-999.0000,-999.000,-999.000,-999.000
      74AB29_1,    I5,    40,  1,     17,    18.,2,19871124,0904,-34.0067,  53.1700, 4612,    700.7,  10.4531,  34.8360,2,  34.8519,2,    216.2,2, 10.3676,    215.0,2,     7.31,2,    16.13,2,     0.00,2,     1.29,2, -999.000,5, -999.000,5, -999.000,5,-999.0000,5,  -999.00,9,-999.000,9,-999.0000,-999.000,-999.000,-999.000
      74AB29_1,    I5,    40,  1,     16,    17.,2,19871124,0904,-34.0067,  53.1700, 4612,    899.6,   7.9088,  34.5840,2,  34.5952,2,    207.0,2,  7.8148,    206.4,2,    15.81,2,    23.07,2,     0.00,2,     1.67,2, -999.000,5, -999.000,5, -999.000,5,-999.0000,5,  -999.00,9,-999.000,9,-999.0000,-999.000,-999.000,-999.000
      74AB29_1,    I5,    40,  1,     15,    16.,2,19871124,0904,-34.0067,  53.1700, 4612,   1079.6,   5.2581,  34.4190,2,  34.4131,2,    206.5,2,  5.1656,    206.0,2,    28.55,2,    29.13,2,     0.00,2,     2.03,2, -999.000,5, -999.000,5, -999.000,5,-999.0000,5,  -999.00,9,-999.000,9,-999.0000,-999.000,-999.000,-999.000
      74AB29_1,    I5,    40,  1,     14,    14.,2,19871124,0904,-34.0067,  53.1700, 4612,   1499.2,   3.2869,  34.4940,2,  34.4852,2,    184.3,2,  3.1761,    183.4,2,    58.28,2,    33.14,2,     0.00,2,     2.39,2, -999.000,5, -999.000,5, -999.000,5,-999.0000,5,  -999.00,9,-999.000,9,-999.0000,-999.000,-999.000,-999.000
      74AB29_1,    I5,    40,  1,     13,    13.,2,19871124,0904,-34.0067,  53.1700, 4612,   1698.5,   2.8700,  34.5710,2,  34.5783,2,    179.9,2,  2.7470,    179.0,2,    68.65,2,    33.14,2,     0.00,2,     2.39,2, -999.000,5, -999.000,5, -999.000,5,-999.0000,5,  -999.00,9,-999.000,9,-999.0000,-999.000,-999.000,-999.000
      74AB29_1,    I5,    40,  1,     12,    12.,2,19871124,0904,-34.0067,  53.1700, 4612,   1899.2,   2.6335,  34.6440,2,  34.6449,2,    182.5,2,  2.4962,    181.2,2,    74.28,2,    32.55,2,     0.00,2,     2.34,2, -999.000,5, -999.000,5, -999.000,5,-999.0000,5,  -999.00,9,-999.000,9,-999.0000,-999.000,-999.000,-999.000
      74AB29_1,    I5,    40,  1,     11,    11.,2,19871124,0904,-34.0067,  53.1700, 4612,   2102.1,   2.4095,  34.6900,2,  34.6963,2,    186.4,2,  2.2577,    188.1,2,    78.71,2,    31.37,2,     0.00,2,     2.23,2, -999.000,5, -999.000,5, -999.000,5,-999.0000,5,  -999.00,9,-999.000,9,-999.0000,-999.000,-999.000,-999.000
      74AB29_1,    I5,    40,  1,     10,    10.,2,19871124,0904,-34.0067,  53.1700, 4612,   2296.4,   2.2241,  34.7210,2,  34.7227,2,    191.6,2,  2.0579,    192.0,2,    82.30,2,    30.98,2,     0.00,2,     2.24,2, -999.000,5, -999.000,5, -999.000,5,-999.0000,5,  -999.00,9,-999.000,9,-999.0000,-999.000,-999.000,-999.000
      74AB29_1,    I5,    40,  1,      9,     9.,2,19871124,0904,-34.0067,  53.1700, 4612,   2498.8,   2.0396,  34.7370,2,-999.0000,5,    195.1,2,  2.0394,    196.4,2,    86.73,2,    30.59,2,     0.00,2,  -999.00,5, -999.000,5, -999.000,5, -999.000,5,-999.0000,5,  -999.00,9,-999.000,9,-999.0000,-999.000,-999.000,-999.000
      74AB29_1,    I5,    40,  1,      8,     8.,2,19871124,0904,-34.0067,  53.1700, 4612,   2701.9,   1.8371,  34.7400,2,  34.7386,2,    199.0,2,  1.6409,    199.0,2,    93.05,2,    30.98,2,     0.00,2,  -999.00,5, -999.000,5, -999.000,5, -999.000,5,-999.0000,5,  -999.00,9,-999.000,9,-999.0000,-999.000,-999.000,-999.000
      74AB29_1,    I5,    40,  1,      7,     7.,2,19871124,0904,-34.0067,  53.1700, 4612,   3002.1,   1.5687,  34.7360,2,-999.0000,5,    202.5,2,  1.5658,    203.3,2,   100.21,2,    31.18,2,     0.00,2,     2.19,2, -999.000,5, -999.000,5, -999.000,5,-999.0000,5,  -999.00,9,-999.000,9,-999.0000,-999.000,-999.000,-999.000
      74AB29_1,    I5,    40,  1,      6,     6.,2,19871124,0904,-34.0067,  53.1700, 4612,   3304.9,   1.3887,  34.7310,2,  34.7286,2,    206.0,2,  1.1446,    205.9,2,   104.48,2,    31.28,2,     0.00,2,     2.19,2, -999.000,5, -999.000,5, -999.000,5,-999.0000,5,  -999.00,9,-999.000,9,-999.0000,-999.000,-999.000,-999.000
      74AB29_1,    I5,    40,  1,      5,     5.,2,19871124,0904,-34.0067,  53.1700, 4612,   3595.4,   1.2682,  34.7250,2,  34.7244,2,    207.3,2,  0.9979,    207.2,2,   109.95,2,    31.57,2,     0.00,2,     2.22,2, -999.000,5, -999.000,5, -999.000,5,-999.0000,5,  -999.00,9,-999.000,9,-999.0000,-999.000,-999.000,-999.000
      74AB29_1,    I5,    40,  1,      4,     4.,2,19871124,0904,-34.0067,  53.1700, 4612,   3907.6,   1.1392,  34.7170,2,-999.0000,5,    206.4,2,  1.1147,    207.2,2,  -999.00,5,  -999.00,5,  -999.00,5,  -999.00,5, -999.000,5, -999.000,5, -999.000,5,-999.0000,5,  -999.00,9,-999.000,9,-999.0000,-999.000,-999.000,-999.000
      74AB29_1,    I5,    40,  1,      3,     3.,2,19871124,0904,-34.0067,  53.1700, 4612,   4209.7,   1.1247,  34.7160,2,  34.7148,2,    209.0,2,  0.7935,    208.1,2,   116.29,2,    32.06,2,     0.00,2,     2.24,2, -999.000,5, -999.000,5, -999.000,5,-999.0000,5,  -999.00,9,-999.000,9,-999.0000,-999.000,-999.000,-999.000
      74AB29_1,    I5,    40,  1,      2,     2.,2,19871124,0904,-34.0067,  53.1700, 4612,   4511.2,   1.1217,  34.7130,2,  34.7127,2,    209.4,2,  0.7570,    208.6,2,   117.69,2,    32.06,2,     0.00,2,     2.25,2, -999.000,5, -999.000,5, -999.000,5,-999.0000,5,  -999.00,9,-999.000,9,-999.0000,-999.000,-999.000,-999.000
      74AB29_1,    I5,    40,  1,      1,     1.,2,19871124,0904,-34.0067,  53.1700, 4612,   4690.8,   1.1252,  34.7130,2,  34.7144,2,    209.4,2,  0.7398,    208.1,2,   118.73,2,    32.16,2,     0.00,2,     2.25,2, -999.000,5, -999.000,5, -999.000,5,-999.0000,5,  -999.00,9,-999.000,9,-999.0000,-999.000,-999.000,-999.000
      74AB29_1,    I5,    41,  1,     22,    24.,2,19871124,1522,-34.0067,  53.6150, 4586,      1.5,  19.0333,  34.7130,2,  35.6330,2,    213.8,2, 19.0330,    233.6,2,     2.15,2,     0.10,2,     0.01,2,     0.19,2,    2.116,2,    1.214,2, -999.000,5,-999.0000,5,  -999.00,9,-999.000,9,-999.0000,-999.000,-999.000,-999.000
      74AB29_1,    I5,    41,  1,     21,    23.,2,19871124,1522,-34.0067,  53.6150, 4586,    104.3,  15.7318,  35.5630,2,  35.5322,2,    224.6,2, 15.7155,    232.3,2,     3.22,2,     3.91,2,     0.02,2,     0.43,2,    2.264,2,    1.176,2, -999.000,5,-999.0000,5,  -999.00,9,-999.000,9,-999.0000,-999.000,-999.000,-999.000
      74AB29_1,    I5,    41,  1,     20,    22.,2,19871124,1522,-34.0067,  53.6150, 4586,    203.5,  15.1933,  35.5000,2,  35.4959,2,    231.5,2, 15.1621,    232.3,2,     3.71,2,     4.20,2,     0.01,2,     0.45,2,    2.357,2,    1.299,2, -999.000,5,-999.0000,5,  -999.00,9,-999.000,9,-999.0000,-999.000,-999.000,-999.000
      74AB29_1,    I5,    41,  1,     19,    21.,2,19871124,1522,-34.0067,  53.6150, 4586,    304.7,  14.2704,  35.3260,2,  35.3733,2,    221.5,2, 14.2255,    222.3,2,     4.40,2,     7.03,2,     0.01,2,     0.63,2,    2.010,2,    1.216,2, -999.000,5,-999.0000,5,  -999.00,9,-999.000,9,-999.0000,-999.000,-999.000,-999.000
      74AB29_1,    I5,    41,  1,     18,    20.,2,19871124,1522,-34.0067,  53.6150, 4586,    501.8,  12.7844,  35.1010,2,  35.1697,2,    222.7,2, 12.7152,    222.4,2,     4.98,2,    10.26,2,     0.01,2,     0.84,2,    2.108,2,    1.103,2, -999.000,5,-999.0000,5,  -999.00,9,-999.000,9,-999.0000,-999.000,-999.000,-999.000
      74AB29_1,    I5,    41,  1,     17,    19.,2,19871124,1522,-34.0067,  53.6150, 4586,    699.5,  10.3941,  34.8340,2,  34.8593,2,    216.6,2, 10.3090,    214.6,2,     7.92,2,    16.13,2,     0.01,2,     1.19,2,    1.305,2,    0.702,2, -999.000,5,-999.0000,5,  -999.00,9,-999.000,9,-999.0000,-999.000,-999.000,-999.000
      74AB29_1,    I5,    41,  1,     16,    18.,2,19871124,1522,-34.0067,  53.6150, 4586,    899.9,   7.6353,  34.5650,2,  34.5765,2,    207.0,2,  7.5431,    205.1,2,    16.52,2,    23.56,2,     0.01,2,     1.67,2,    0.751,2,    0.367,2, -999.000,5,-999.0000,5,  -999.00,9,-999.000,9,-999.0000,-999.000,-999.000,-999.000
      74AB29_1,    I5,    41,  1,     15,    17.,2,19871124,1522,-34.0067,  53.6150, 4586,   1099.8,   5.6276,  34.4250,2,  34.4280,2,    206.1,2,  5.5301,    205.1,2,    35.19,2,    27.47,2,     0.01,2,     1.97,2,    0.639,2,    0.321,2, -999.000,5,-999.0000,5,  -999.00,9,-999.000,9,-999.0000,-999.000,-999.000,-999.000
      74AB29_1,    I5,    41,  1,     14,    15.,2,19871124,1522,-34.0067,  53.6150, 4586,   1501.4,   3.2714,  34.5010,2,  34.4893,2,    182.6,2,  3.1605,    182.1,2,    58.95,2,    33.33,2,     0.01,2,     2.36,2, -999.000,5, -999.000,5, -999.000,5,-999.0000,5,  -999.00,9,-999.000,9,-999.0000,-999.000,-999.000,-999.000
      74AB29_1,    I5,    41,  1,     13,    14.,2,19871124,1522,-34.0067,  53.6150, 4586,   1701.5,   2.9109,  34.5670,2,  34.5661,2,    178.6,2,  2.7871,    177.3,2,    68.52,2,    33.33,2,     0.01,2,     2.40,2, -999.000,5, -999.000,5, -999.000,5,-999.0000,5,  -999.00,9,-999.000,9,-999.0000,-999.000,-999.000,-999.000
      74AB29_1,    I5,    41,  1,     12,    13.,2,19871124,1522,-34.0067,  53.6150, 4586,   1901.2,   2.6745,  34.6350,2,  34.6287,2,    180.8,2,  2.5365,    179.5,2,    74.09,2,    32.74,2,     0.01,2,     2.31,2, -999.000,5, -999.000,5, -999.000,5,-999.0000,5,  -999.00,9,-999.000,9,-999.0000,-999.000,-999.000,-999.000
      74AB29_1,    I5,    41,  1,     11,    12.,2,19871124,1522,-34.0067,  53.6150, 4586,   2101.6,   2.4185,  34.6930,2,  34.6942,2,    186.0,2,  2.2666,    186.8,2,    79.27,2,    31.57,2,     0.00,2,     2.16,2,    0.020,2, -999.000,5, -999.000,5,-999.0000,5,  -999.00,9,-999.000,9,-999.0000,-999.000,-999.000,-999.000
      74AB29_1,    I5,    41,  1,     10,    11.,2,19871124,1522,-34.0067,  53.6150, 4586,   2299.6,   2.2126,  34.7180,2,  34.7229,2,    191.2,2,  2.0463,    192.0,2,    83.66,2,    30.98,2,     0.01,2,     2.11,2, -999.000,5, -999.000,5, -999.000,5,-999.0000,5,  -999.00,9,-999.000,9,-999.0000,-999.000,-999.000,-999.000
      74AB29_1,    I5,    41,  1,      9,    10.,2,19871124,1522,-34.0067,  53.6150, 4586,   2499.9,   2.0361,  34.7360,2,  34.7358,2,    194.2,2,  1.8548,    195.5,2,    87.77,2,    30.79,2,     0.01,2,     2.05,2, -999.000,5, -999.000,5, -999.000,5,-999.0000,5,  -999.00,9,-999.000,9,-999.0000,-999.000,-999.000,-999.000
      74AB29_1,    I5,    41,  1,      8,     9.,2,19871124,1522,-34.0067,  53.6150, 4586,   2702.7,   1.8816,  34.7380,2,  34.7394,2,    197.7,2,  1.6845,    199.0,2,    92.56,2,    30.89,2,     0.01,2,     2.08,2, -999.000,5, -999.000,5, -999.000,5,-999.0000,5,  -999.00,9,-999.000,9,-999.0000,-999.000,-999.000,-999.000
      74AB29_1,    I5,    41,  1,      7,     7.,2,19871124,1522,-34.0067,  53.6150, 4586,   3003.0,   1.5882,  34.7380,2,  34.7374,2,    201.6,2,  1.3688,    203.8,2,    98.52,2,    31.18,2,     0.00,2,     2.07,2, -999.000,5, -999.000,5, -999.000,5,-999.0000,5,  -999.00,9,-999.000,9,-999.0000,-999.000,-999.000,-999.000
      74AB29_1,    I5,    41,  1,      6,     6.,2,19871124,1522,-34.0067,  53.6150, 4586,   3302.8,   1.4142,  34.7300,2,  34.7327,2,    203.4,2,  1.1697,    205.1,2,   103.41,2,    31.28,2,     0.00,2,     2.09,2,    0.000,2,    0.000,2, -999.000,5,-999.0000,5,  -999.00,9,-999.000,9,-999.0000,-999.000,-999.000,-999.000
      74AB29_1,    I5,    41,  1,      5,     5.,2,19871124,1522,-34.0067,  53.6150, 4586,   3607.2,   1.2102,  34.7220,2,  34.7229,2,    207.7,2,  0.9402,   -999.0,5,   109.37,2,    31.47,2,     0.00,2,     2.15,2, -999.000,5, -999.000,5, -999.000,5,-999.0000,5,  -999.00,9,-999.000,9,-999.0000,-999.000,-999.000,-999.000
      74AB29_1,    I5,    41,  1,      4,     4.,2,19871124,1522,-34.0067,  53.6150, 4586,   3907.4,   1.1492,  34.7190,2,  34.7225,2,    208.6,2,  0.8497,    206.4,2,   109.96,2,    31.47,2,     0.01,2,     2.16,2, -999.000,5, -999.000,5, -999.000,5,-999.0000,5,  -999.00,9,-999.000,9,-999.0000,-999.000,-999.000,-999.000
      74AB29_1,    I5,    41,  1,      3,     3.,2,19871124,1522,-34.0067,  53.6150, 4586,   4108.5,   1.1477,  34.7190,2,  34.7197,2,    211.2,2,  0.8268,    210.3,2,   112.01,2,    31.67,2,     0.01,2,     2.16,2, -999.000,5, -999.000,5, -999.000,5,-999.0000,5,  -999.00,9,-999.000,9,-999.0000,-999.000,-999.000,-999.000
      74AB29_1,    I5,    41,  1,      2,     2.,2,19871124,1522,-34.0067,  53.6150, 4586,   4311.8,   1.0782,  34.7160,2,-999.0000,5,    211.6,2,  1.0362,    212.0,2,   114.26,2,    31.77,2,     0.00,2,     2.16,2,    0.013,2, -999.000,5, -999.000,5,-999.0000,5,  -999.00,9,-999.000,9,-999.0000,-999.000,-999.000,-999.000
      74AB29_1,    I5,    41,  1,      1,     1.,2,19871124,1522,-34.0067,  53.6150, 4586,   4511.7,   1.0762,  34.7150,2,  34.7162,2,    211.6,2,  0.7128,    212.0,2,   114.45,2,    31.77,2,     0.00,2,     2.22,2,    0.010,2, -999.000,5, -999.000,5,-999.0000,5,  -999.00,9,-999.000,9,-999.0000,-999.000,-999.000,-999.000