BOTTLE,20060509WHPSIOSA
EXPOCODE,SECT_ID,STNNBR,CASTNO,SAMPNO,BTLNBR,BTLNBR_FLAG_W,DATE,TIME,LATITUDE,LONGITUDE,DEPTH,CTDPRS,CTDTMP,CTDSAL,CTDSAL_FLAG_W,SALNTY,SALNTY_FLAG_W,CTDOXY,CTDOXY_FLAG_W,THETA,OXYGEN,OXYGEN_FLAG_W,SILCAT,SILCAT_FLAG_W,NITRAT,NITRAT_FLAG_W,NITRIT,NITRIT_FLAG_W,PHSPHT,PHSPHT_FLAG_W,CFC-11,CFC-11_FLAG_W,CFC-12,CFC-12_FLAG_W,TRITUM,TRITUM_FLAG_W,HELIUM,HELIUM_FLAG_W,DELHE3,DELHE3_FLAG_W,NEON,NEON_FLAG_W,HELIER,TRITER,NEONER,DELHER
,,,,,,,,,,,,DBAR,IPTS-68,PSS-78,,PSS-78,,UMOL/KG,,IPTS-68,UMOL/KG,,UMOL/KG,,UMOL/KG,,UMOL/KG,,UMOL/KG,,PMOL/KG,,PMOL/KG,,TU,,UMOL/KG,,PERCNT,,NMOL/KG,,NMOL/KG,TU,NMOL/KG,PERCNT
      74AB29_1,    I5,    11,  1,     11,    15.,2,19871115,0332,-30.3083,  31.3300, 1178,     54.5,  19.9178,  35.5990,2,  35.5906,2,    222.6,2, 19.9077,    226.2,2,  -999.00,5,     0.29,2,     0.04,2,     0.22,2,    1.904,2,    1.083,2, -999.000,5,-999.0000,5,  -999.00,9,-999.000,9,-999.0000,-999.000,-999.000,-999.000
      74AB29_1,    I5,    11,  1,     10,    14.,2,19871115,0332,-30.3083,  31.3300, 1178,     84.4,  18.4609,  35.6040,2,  35.6084,2,    219.5,2, 18.4461,   -999.0,5,  -999.00,5,     3.61,2,     0.04,2,     0.44,2,    1.903,2,    1.151,2, -999.000,5,-999.0000,5,  -999.00,9,-999.000,9,-999.0000,-999.000,-999.000,-999.000
      74AB29_1,    I5,    11,  1,      9,    13.,2,19871115,0332,-30.3083,  31.3300, 1178,    168.3,  16.6130,  35.5310,2,  35.5709,2,    204.6,2, 16.5856,    211.5,2,  -999.00,5,     4.59,2,     0.04,2,     0.45,2,    2.026,2,    1.176,2, -999.000,5,-999.0000,5,  -999.00,9,-999.000,9,-999.0000,-999.000,-999.000,-999.000
      74AB29_1,    I5,    11,  1,      8,    12.,2,19871115,0332,-30.3083,  31.3300, 1178,    238.8,  15.1056,  35.4480,2,  35.4525,2,    212.4,2, 15.0691,    211.9,2,  -999.00,5,     6.74,2,     0.03,2,     0.61,2,    1.966,2,    1.097,2, -999.000,5,-999.0000,5,  -999.00,9,-999.000,9,-999.0000,-999.000,-999.000,-999.000
      74AB29_1,    I5,    11,  1,      7,    11.,2,19871115,0332,-30.3083,  31.3300, 1178,    291.7,  14.2637,  35.3680,2,  35.3689,2,    218.0,2, 14.2207,    216.7,2,  -999.00,5,     7.72,2,     0.03,2,     0.67,2,    1.992,2,    1.189,2, -999.000,5,-999.0000,5,  -999.00,9,-999.000,9,-999.0000,-999.000,-999.000,-999.000
      74AB29_1,    I5,    11,  1,      6,    10.,2,19871115,0332,-30.3083,  31.3300, 1178,    393.7,  12.8709,  35.1820,2,  35.1817,2,    214.5,2, 12.8166,    216.3,2,  -999.00,5,    10.55,2,     0.01,2,     0.83,2,    1.724,2,    1.015,2, -999.000,5,-999.0000,5,  -999.00,9,-999.000,9,-999.0000,-999.000,-999.000,-999.000
      74AB29_1,    I5,    11,  1,      5,     8.,2,19871115,0332,-30.3083,  31.3300, 1178,    495.4,  11.6151,  34.9820,2,  35.0175,2,    213.1,2, 11.5510,    217.2,2,  -999.00,5,    13.00,2,     0.01,2,     1.00,2,    1.425,2,    0.872,2, -999.000,5,-999.0000,5,  -999.00,9,-999.000,9,-999.0000,-999.000,-999.000,-999.000
      74AB29_1,    I5,    11,  1,      4,     5.,2,19871115,0332,-30.3083,  31.3300, 1178,    844.7,   6.1016,  34.6140,2,  34.6225,2,    167.8,2,  6.0249,    160.3,2,  -999.00,5,    29.81,2,     0.01,2,     2.19,2,    0.240,2,    0.196,2, -999.000,5,-999.0000,5,  -999.00,9,-999.000,9,-999.0000,-999.000,-999.000,-999.000
      74AB29_1,    I5,    11,  1,      2,     3.,2,19871115,0332,-30.3083,  31.3300, 1178,   1005.2,   4.3840,  34.6300,2,  34.6323,2,    150.8,2,  4.3047,    150.3,2,  -999.00,5,    33.23,2,     0.00,2,     2.43,2,    0.055,2, -999.000,5, -999.000,5,-999.0000,5,  -999.00,9,-999.000,9,-999.0000,-999.000,-999.000,-999.000
      74AB29_1,    I5,    11,  1,      3,     4.,2,19871115,0332,-30.3083,  31.3300, 1178,   1009.0,   4.3765,  34.6300,2,  34.6305,2,    151.3,2,  4.2970,    149.5,2,  -999.00,5,    33.14,2,     0.00,2,     2.43,2,    0.077,2, -999.000,5, -999.000,5,-999.0000,5,  -999.00,9,-999.000,9,-999.0000,-999.000,-999.000,-999.000
      74AB29_1,    I5,    11,  1,      1,     2.,2,19871115,0332,-30.3083,  31.3300, 1178,   1124.3,   3.5648,  34.6290,2,  34.6293,2,    156.0,2,  3.4822,    158.2,2,  -999.00,5,    33.23,2,     0.00,2,     2.42,2,    0.045,2, -999.000,5, -999.000,5,-999.0000,5,  -999.00,9,-999.000,9,-999.0000,-999.000,-999.000,-999.000
      74AB29_1,    I5,    12,  1,     17,    23.,2,19871116,0303,-31.5783,  31.1617, 3091,     68.9,  18.2664,  35.6660,2,  35.6701,2,    222.1,2, 18.2544,    222.7,2,     2.55,2,     1.66,2,     0.16,2,     0.29,2,    2.175,2,    1.179,2, -999.000,5,-999.0000,5,  -999.00,9,-999.000,9,-999.0000,-999.000,-999.000,-999.000
      74AB29_1,    I5,    12,  1,     16,    21.,2,19871116,0303,-31.5783,  31.1617, 3091,    193.2,  17.0540,  35.6290,2,  35.6313,2,    230.7,2, 17.0219,    231.8,2,     3.22,2,     2.54,2,     0.06,2,     0.40,2,    2.340,2,    1.206,2,    0.640,2,   1.7210,2,     0.00,2,   5.990,2,  0.0090,   0.008,   0.120,   0.200
      74AB29_1,    I5,    12,  1,     15,    18.,2,19871116,0303,-31.5783,  31.1617, 3091,    493.5,  12.8339,  35.1820,2,  35.1788,2,    220.6,2, 12.7657,    218.0,2,     4.89,2,     9.77,2,     0.02,2,     0.87,2,    1.703,2,    0.999,2, -999.000,5,-999.0000,5,  -999.00,9,-999.000,9,-999.0000,-999.000,-999.000,-999.000
      74AB29_1,    I5,    12,  1,     14,    17.,2,19871116,0303,-31.5783,  31.1617, 3091,    589.7,  11.6731,  35.0260,2,  35.0207,2,    220.1,2, 11.5963,    217.2,2,     5.90,2,    12.12,2,     0.04,2,     1.06,2,    1.451,2,    0.877,2,    0.338,2,-999.0000,9,  -999.00,9,-999.000,9,-999.0000,   0.008,-999.000,-999.000
      74AB29_1,    I5,    12,  1,     13,    14.,2,19871116,0303,-31.5783,  31.1617, 3091,    940.2,   7.0994,  34.5570,2,  34.5582,2,    199.2,2,  7.0066,    197.3,2,    22.92,2,    23.56,2,     0.02,2,     1.84,2,    0.539,2,    0.328,2,    0.016,2,-999.0000,9,  -999.00,9,-999.000,9,-999.0000,   0.008,-999.000,-999.000
      74AB29_1,    I5,    12,  1,     12,    13.,2,19871116,0303,-31.5783,  31.1617, 3091,   1088.6,   5.4088,  34.5070,2,  34.4962,2,    185.2,2,  5.3141,    183.0,2,    38.77,2,    27.76,2,     0.01,2,     2.15,2,    0.290,2,    0.158,2, -999.000,5,-999.0000,5,  -999.00,9,-999.000,9,-999.0000,-999.000,-999.000,-999.000
      74AB29_1,    I5,    12,  1,     11,    12.,2,19871116,0303,-31.5783,  31.1617, 3091,   1139.9,   4.8504,  34.4730,2,  34.4650,2,    183.9,2,  4.7556,    186.4,2,    41.61,2,    28.55,2,     0.01,2,     2.19,2,    0.398,2,    0.232,2,   -0.003,2,   1.8320,2,     2.60,2,   7.980,2,  0.0090,   0.008,   0.160,   0.200
      74AB29_1,    I5,    12,  1,     10,    11.,2,19871116,0303,-31.5783,  31.1617, 3091,   1252.4,   4.1046,  34.4790,2,  34.4836,2,    179.1,2,  4.0065,    185.1,2,    52.45,2,    29.91,2,     0.01,2,     2.32,2,    0.364,2,    0.252,2, -999.000,5,-999.0000,5,  -999.00,9,-999.000,9,-999.0000,-999.000,-999.000,-999.000
      74AB29_1,    I5,    12,  1,      9,    10.,2,19871116,0303,-31.5783,  31.1617, 3091,   1393.3,   3.9077,  34.5800,2,  34.5914,2,    163.9,2,  3.7990,    157.7,2,    67.12,2,    30.89,2,     0.01,2,     2.42,2,    0.112,2,    0.111,2, -999.000,5,-999.0000,5,  -999.00,9,-999.000,9,-999.0000,-999.000,-999.000,-999.000
      74AB29_1,    I5,    12,  1,      8,     8.,2,19871116,0303,-31.5783,  31.1617, 3091,   1793.7,   2.9274,  34.7030,2,  34.6997,2,    170.4,2,  2.7950,    173.4,2,    78.62,2,    29.71,2,     0.02,2,     2.30,2,    0.029,2, -999.000,5,    0.000,2,   1.8540,2,     5.80,2,   7.830,2,  0.0090,   0.008,   0.160,   0.200
      74AB29_1,    I5,    12,  1,      7,     7.,2,19871116,0303,-31.5783,  31.1617, 3091,   1993.6,   2.7180,  34.7420,2,  34.7372,2,    183.4,2,  2.5709,    183.4,2,  -999.00,5,  -999.00,5,  -999.00,5,  -999.00,5,    0.018,2, -999.000,5, -999.000,9,   1.9090,2,     6.50,2,   8.250,2,  0.0100,-999.000,   0.160,   0.200
      74AB29_1,    I5,    12,  1,      6,     6.,2,19871116,0303,-31.5783,  31.1617, 3091,   2195.9,   2.5805,  34.7730,2,  34.7738,2,    196.0,2,  2.4172,    195.9,2,  -999.00,5,  -999.00,5,  -999.00,5,  -999.00,5,    0.024,2,    0.022,2, -999.000,5,-999.0000,5,  -999.00,9,-999.000,9,-999.0000,-999.000,-999.000,-999.000
      74AB29_1,    I5,    12,  1,      5,     5.,2,19871116,0303,-31.5783,  31.1617, 3091,   2395.4,   2.4881,  34.7940,2,  34.7921,2,    206.4,2,  2.3080,    205.5,2,    68.78,2,    26.29,2,     0.03,2,     1.99,2,    0.032,2,    0.029,2, -999.000,5,-999.0000,5,  -999.00,9,-999.000,9,-999.0000,-999.000,-999.000,-999.000
      74AB29_1,    I5,    12,  1,      4,     4.,2,19871116,0303,-31.5783,  31.1617, 3091,   2597.6,   2.4111,  34.8080,2,  34.8068,2,    214.2,2,  2.2133,    215.9,2,    65.94,2,    25.22,2,     0.01,2,     1.90,2,    0.020,2, -999.000,5, -999.000,5,-999.0000,5,  -999.00,9,-999.000,9,-999.0000,-999.000,-999.000,-999.000
      74AB29_1,    I5,    12,  1,      3,     3.,2,19871116,0303,-31.5783,  31.1617, 3091,   2796.7,   2.3016,  34.8170,2,  34.8153,2,    220.3,2,  2.0867,    219.0,2,    65.77,2,    24.92,2,     0.01,2,     1.86,2,    0.002,2,    0.023,2, -999.000,5,-999.0000,5,  -999.00,9,-999.000,9,-999.0000,-999.000,-999.000,-999.000
      74AB29_1,    I5,    12,  1,      2,     2.,2,19871116,0303,-31.5783,  31.1617, 3091,   2998.8,   2.1442,  34.8150,2,  34.8113,2,    223.8,2,  1.9127,    223.7,2,    69.27,2,    25.02,2,     0.01,2,     1.88,2,    0.000,2,    0.033,2, -999.000,5,-999.0000,5,  -999.00,9,-999.000,9,-999.0000,-999.000,-999.000,-999.000
      74AB29_1,    I5,    12,  1,      1,     1.,2,19871116,0303,-31.5783,  31.1617, 3091,   3113.6,   1.9717,  34.8060,2,  34.8045,2,    225.1,2,  1.7326,    220.7,2,    74.10,2,    25.12,2,     0.02,2,     1.88,2, -999.000,5, -999.000,5, -999.000,5,-999.0000,5,  -999.00,9,-999.000,9,-999.0000,-999.000,-999.000,-999.000
      74AB29_1,    I5,    13,  1,     21,    24.,2,19871116,1249,-31.9433,  31.6050, 3535,      5.1,  20.8443,  35.5740,2,  35.5801,2,    223.5,2, 20.8433,    227.1,2,     1.66,2,     0.20,2,     0.01,2,     0.18,2,    1.863,2,    0.999,2, -999.000,5,-999.0000,5,  -999.00,9,-999.000,9,-999.0000,-999.000,-999.000,-999.000
      74AB29_1,    I5,    13,  1,     20,    23.,2,19871116,1249,-31.9433,  31.6050, 3535,     92.8,  18.4289,  35.6470,2,  35.6571,2,    215.5,2, 18.4127,    218.8,2,     2.83,2,     2.05,2,     0.09,2,     0.31,2,    2.022,2,    1.057,2, -999.000,5,-999.0000,5,  -999.00,9,-999.000,9,-999.0000,-999.000,-999.000,-999.000
      74AB29_1,    I5,    13,  1,     19,    22.,2,19871116,1249,-31.9433,  31.6050, 3535,    193.8,  17.2809,  35.6220,2,  35.6216,2,    218.5,2, 17.2484,    220.6,2,     3.32,2,     3.42,2,     0.04,2,     0.37,2, -999.000,5, -999.000,5, -999.000,5,-999.0000,5,  -999.00,9,-999.000,9,-999.0000,-999.000,-999.000,-999.000
      74AB29_1,    I5,    13,  1,     18,    21.,2,19871116,1249,-31.9433,  31.6050, 3535,    292.3,  15.9695,  35.5210,2,  35.5330,2,    210.6,2, 15.9230,    210.6,2,     3.81,2,     5.67,2,     0.03,2,     0.49,2, -999.000,5, -999.000,5, -999.000,5,-999.0000,5,  -999.00,9,-999.000,9,-999.0000,-999.000,-999.000,-999.000
      74AB29_1,    I5,    13,  1,     17,    20.,2,19871116,1249,-31.9433,  31.6050, 3535,    393.1,  14.6037,  35.3850,2,  35.4010,2,    208.4,2, 14.5447,    212.8,2,     4.30,2,     7.72,2,     0.02,2,     0.62,2,    1.845,2,    1.040,2, -999.000,5,-999.0000,5,  -999.00,9,-999.000,9,-999.0000,-999.000,-999.000,-999.000
      74AB29_1,    I5,    13,  1,     16,    19.,2,19871116,1249,-31.9433,  31.6050, 3535,    493.5,  13.5023,  35.2430,2,  35.3005,2,    212.3,2, 13.4318,    214.5,2,     4.49,2,     8.50,2,     0.02,2,  -999.00,5,    1.816,2,    1.054,2, -999.000,5,-999.0000,5,  -999.00,9,-999.000,9,-999.0000,-999.000,-999.000,-999.000
      74AB29_1,    I5,    13,  1,     15,    18.,2,19871116,1249,-31.9433,  31.6050, 3535,    591.7,  12.4469,  35.0860,2,  35.1169,2,    212.7,2, 12.3665,    213.3,2,     5.37,2,    11.82,2,     0.02,2,     0.44,2,    1.470,2,    0.848,2, -999.000,5,-999.0000,5,  -999.00,9,-999.000,9,-999.0000,-999.000,-999.000,-999.000
      74AB29_1,    I5,    13,  1,     14,    17.,2,19871116,1249,-31.9433,  31.6050, 3535,    692.4,  11.2321,  34.9270,2,  34.9658,2,    212.7,2, 11.1437,    216.8,2,     6.16,2,    14.17,2,     0.02,2,     1.08,2,    1.350,2,    0.725,2, -999.000,5,-999.0000,5,  -999.00,9,-999.000,9,-999.0000,-999.000,-999.000,-999.000
      74AB29_1,    I5,    13,  1,     13,    14.,2,19871116,1249,-31.9433,  31.6050, 3535,   1091.4,   6.4136,  34.5320,2,  34.5453,2,    184.4,2,  6.3103,    182.9,2,    31.28,2,    28.25,2,     0.01,2,     2.03,2,    0.371,2,    0.231,2, -999.000,5,-999.0000,5,  -999.00,9,-999.000,9,-999.0000,-999.000,-999.000,-999.000
      74AB29_1,    I5,    13,  1,     12,    13.,2,19871116,1249,-31.9433,  31.6050, 3535,   1141.6,   5.9742,  34.5460,2,  34.5404,2,    177.4,2,  5.8695,    175.6,2,    37.93,2,    29.81,2,     0.02,2,     2.16,2, -999.000,5, -999.000,5, -999.000,5,-999.0000,5,  -999.00,9,-999.000,9,-999.0000,-999.000,-999.000,-999.000
      74AB29_1,    I5,    13,  1,     11,    12.,2,19871116,1249,-31.9433,  31.6050, 3535,   1250.5,   5.1239,  34.5220,2,  34.5188,2,    173.5,2,  5.0163,    171.2,2,    45.94,2,    31.57,2,     0.02,2,     2.34,2, -999.000,5, -999.000,5, -999.000,5,-999.0000,5,  -999.00,9,-999.000,9,-999.0000,-999.000,-999.000,-999.000
      74AB29_1,    I5,    13,  1,     10,    11.,2,19871116,1249,-31.9433,  31.6050, 3535,   1393.9,   4.3356,  34.5700,2,  34.5608,2,    162.1,2,  4.2224,    158.6,2,    60.41,2,    33.14,2,     0.01,2,     2.40,2, -999.000,5, -999.000,5, -999.000,5,-999.0000,5,  -999.00,9,-999.000,9,-999.0000,-999.000,-999.000,-999.000
      74AB29_1,    I5,    13,  1,      9,    10.,2,19871116,1249,-31.9433,  31.6050, 3535,   1594.5,   3.6172,  34.6280,2,  34.6205,2,    159.1,2,  3.4938,    157.7,2,    72.33,2,    33.62,2,     0.02,2,     2.51,2, -999.000,5, -999.000,5, -999.000,5,-999.0000,5,  -999.00,9,-999.000,9,-999.0000,-999.000,-999.000,-999.000
      74AB29_1,    I5,    13,  1,      8,     9.,2,19871116,1249,-31.9433,  31.6050, 3535,   1795.4,   3.1544,  34.6860,2,  34.6871,2,    165.6,2,  3.0188,    162.9,2,    78.88,2,    33.13,2,     0.03,2,     2.39,2, -999.000,5, -999.000,5, -999.000,5,-999.0000,5,  -999.00,9,-999.000,9,-999.0000,-999.000,-999.000,-999.000
      74AB29_1,    I5,    13,  1,      7,     8.,2,19871116,1249,-31.9433,  31.6050, 3535,   1995.7,   2.8115,  34.7280,2,  34.7221,2,    176.0,2,  2.6629,    178.1,2,    77.51,2,    31.47,2,     0.01,2,     2.27,2, -999.000,5, -999.000,5, -999.000,5,-999.0000,5,  -999.00,9,-999.000,9,-999.0000,-999.000,-999.000,-999.000
      74AB29_1,    I5,    13,  1,      6,     7.,2,19871116,1249,-31.9433,  31.6050, 3535,   2194.4,   2.6340,  34.7620,2,  34.7590,2,    188.2,2,  2.4700,    191.6,2,    73.69,2,    30.01,2,     0.00,2,     2.19,2,    0.012,2, -999.000,5, -999.000,5,-999.0000,5,  -999.00,9,-999.000,9,-999.0000,-999.000,-999.000,-999.000
      74AB29_1,    I5,    13,  1,      5,     5.,2,19871116,1249,-31.9433,  31.6050, 3535,   2596.6,   2.4561,  34.8040,2,  34.8039,2,    207.3,2,  2.2575,    211.6,2,    65.38,2,    27.66,2,     0.00,2,     1.91,2, -999.000,5, -999.000,5, -999.000,5,-999.0000,5,  -999.00,9,-999.000,9,-999.0000,-999.000,-999.000,-999.000
      74AB29_1,    I5,    13,  1,      4,     4.,2,19871116,1249,-31.9433,  31.6050, 3535,   2796.8,   2.3451,  34.8160,2,  34.8141,2,    215.1,2,  2.1293,    218.1,2,    64.89,2,    27.07,2,     0.00,2,     1.86,2, -999.000,5, -999.000,5, -999.000,5,-999.0000,5,  -999.00,9,-999.000,9,-999.0000,-999.000,-999.000,-999.000
      74AB29_1,    I5,    13,  1,      3,     3.,2,19871116,1249,-31.9433,  31.6050, 3535,   2998.2,   2.2096,  34.8190,2,  34.8161,2,    220.3,2,  1.9767,    221.6,2,    67.14,2,    26.97,2,     0.01,2,     1.85,2, -999.000,5, -999.000,5, -999.000,5,-999.0000,5,  -999.00,9,-999.000,9,-999.0000,-999.000,-999.000,-999.000
      74AB29_1,    I5,    13,  1,      2,     2.,2,19871116,1249,-31.9433,  31.6050, 3535,   3500.0,   1.6323,  34.7800,2,  34.7801,2,    222.9,2,  1.3622,    220.7,2,    86.40,2,    28.83,2,     0.00,2,     2.02,2, -999.000,5, -999.000,5, -999.000,5,-999.0000,5,  -999.00,9,-999.000,9,-999.0000,-999.000,-999.000,-999.000
      74AB29_1,    I5,    13,  1,      1,     1.,2,19871116,1249,-31.9433,  31.6050, 3535,   3572.0,   1.4919,  34.7700,2,-999.0000,5,    222.0,2,  1.4705,    219.0,2,    90.40,2,    29.12,2,     0.01,2,     2.00,2,    0.006,2, -999.000,5, -999.000,5,-999.0000,5,  -999.00,9,-999.000,9,-999.0000,-999.000,-999.000,-999.000