BOTTLE,20060509WHPSIOSA
EXPOCODE,SECT_ID,STNNBR,CASTNO,SAMPNO,BTLNBR,BTLNBR_FLAG_W,DATE,TIME,LATITUDE,LONGITUDE,DEPTH,CTDPRS,CTDTMP,CTDSAL,CTDSAL_FLAG_W,SALNTY,SALNTY_FLAG_W,CTDOXY,CTDOXY_FLAG_W,THETA,OXYGEN,OXYGEN_FLAG_W,SILCAT,SILCAT_FLAG_W,NITRAT,NITRAT_FLAG_W,NITRIT,NITRIT_FLAG_W,PHSPHT,PHSPHT_FLAG_W,CFC-11,CFC-11_FLAG_W,CFC-12,CFC-12_FLAG_W,TRITUM,TRITUM_FLAG_W,HELIUM,HELIUM_FLAG_W,DELHE3,DELHE3_FLAG_W,NEON,NEON_FLAG_W,HELIER,TRITER,NEONER,DELHER
,,,,,,,,,,,,DBAR,IPTS-68,PSS-78,,PSS-78,,UMOL/KG,,IPTS-68,UMOL/KG,,UMOL/KG,,UMOL/KG,,UMOL/KG,,UMOL/KG,,PMOL/KG,,PMOL/KG,,TU,,UMOL/KG,,PERCNT,,NMOL/KG,,NMOL/KG,TU,NMOL/KG,PERCNT
      74AB29_1,    I5,    31,  1,     12,    15.,2,19871121,1815,-33.2067,  46.0800, 2196,     11.3,  18.5473,  35.4710,2,  35.5600,2,    229.5,2, 18.5453,    238.4,2,     1.77,2,     0.00,2,     0.01,2,     0.21,2,    2.188,2,    1.197,2, -999.000,5,-999.0000,5,  -999.00,9,-999.000,9,-999.0000,-999.000,-999.000,-999.000
      74AB29_1,    I5,    31,  1,     11,    14.,2,19871121,1815,-33.2067,  46.0800, 2196,    106.6,  15.6943,  35.5030,2,  35.5196,2,    235.9,2, 15.6776,    235.8,2,     3.11,2,     3.22,2,     0.29,2,     0.40,2,    2.227,2,    1.363,2, -999.000,5,-999.0000,5,  -999.00,9,-999.000,9,-999.0000,-999.000,-999.000,-999.000
      74AB29_1,    I5,    31,  1,     10,    13.,2,19871121,1815,-33.2067,  46.0800, 2196,    204.5,  15.1158,  35.4930,2,  35.4667,2,    228.0,2, 15.0845,    231.9,2,     3.45,2,     5.18,2,     0.03,2,     0.53,2,    2.224,2,    1.239,2, -999.000,5,-999.0000,5,  -999.00,9,-999.000,9,-999.0000,-999.000,-999.000,-999.000
      74AB29_1,    I5,    31,  1,      9,    12.,2,19871121,1815,-33.2067,  46.0800, 2196,    304.5,  14.1574,  35.3410,2,  35.3445,2,    218.4,2, 14.1128,    223.7,2,     3.96,2,     7.42,2,     0.02,2,     0.67,2,    2.046,2,    1.148,2, -999.000,5,-999.0000,5,  -999.00,9,-999.000,9,-999.0000,-999.000,-999.000,-999.000
      74AB29_1,    I5,    31,  1,      8,    11.,2,19871121,1815,-33.2067,  46.0800, 2196,    404.2,  13.5229,  35.2720,2,  35.2879,2,    221.0,2, 13.4653,    228.4,2,     3.98,2,     8.30,2,     0.02,2,     0.72,2,    2.039,2,    1.170,2, -999.000,5,-999.0000,5,  -999.00,9,-999.000,9,-999.0000,-999.000,-999.000,-999.000
      74AB29_1,    I5,    31,  1,      7,    10.,2,19871121,1815,-33.2067,  46.0800, 2196,    501.8,  12.5029,  35.1140,2,  35.1339,2,    221.4,2, 12.4347,    223.3,2,     4.81,2,    10.94,2,     0.02,2,     0.91,2,    1.808,2,    1.020,2, -999.000,5,-999.0000,5,  -999.00,9,-999.000,9,-999.0000,-999.000,-999.000,-999.000
      74AB29_1,    I5,    31,  1,      6,     9.,2,19871121,1815,-33.2067,  46.0800, 2196,    602.0,  11.5205,  34.9620,2,  34.9890,2,    220.1,2, 11.4427,    219.4,2,     5.33,2,    13.39,2,    -0.02,2,     1.07,2,    1.512,2,    0.827,2, -999.000,5,-999.0000,5,  -999.00,9,-999.000,9,-999.0000,-999.000,-999.000,-999.000
      74AB29_1,    I5,    31,  1,      5,     8.,2,19871121,1815,-33.2067,  46.0800, 2196,    803.7,   8.8552,  34.6650,2,  34.6859,2,    209.2,2,  8.7661,    209.4,2,    11.50,2,    20.33,2,     0.01,2,     1.51,2,    0.919,2,    0.536,2, -999.000,5,-999.0000,5,  -999.00,9,-999.000,9,-999.0000,-999.000,-999.000,-999.000
      74AB29_1,    I5,    31,  1,      4,     5.,2,19871121,1815,-33.2067,  46.0800, 2196,   1403.3,   3.3724,  34.4860,2,  34.5021,2,    182.1,2,  3.2687,    182.5,2,    56.64,2,    32.75,2,    -0.01,2,     2.45,2,    0.248,2,    0.128,2, -999.000,5,-999.0000,5,  -999.00,9,-999.000,9,-999.0000,-999.000,-999.000,-999.000
      74AB29_1,    I5,    31,  1,      3,     4.,2,19871121,1815,-33.2067,  46.0800, 2196,   1601.4,   2.9814,  34.5880,2,  34.5897,2,    177.3,2,  2.8652,    178.6,2,    66.13,2,    32.75,2,    -0.01,2,     2.45,2,    0.076,2,    0.055,2, -999.000,5,-999.0000,5,  -999.00,9,-999.000,9,-999.0000,-999.000,-999.000,-999.000
      74AB29_1,    I5,    31,  1,      2,     3.,2,19871121,1815,-33.2067,  46.0800, 2196,   1802.5,   2.7250,  34.6840,2,  34.6350,2,    182.5,2,  2.5948,    180.8,2,    68.29,2,    31.96,2,    -0.01,2,     2.35,2, -999.000,5, -999.000,5, -999.000,5,-999.0000,5,  -999.00,9,-999.000,9,-999.0000,-999.000,-999.000,-999.000
      74AB29_1,    I5,    31,  1,      1,     1.,2,19871121,1815,-33.2067,  46.0800, 2196,   2200.2,   2.4405,  34.7740,2,  34.7706,2,    200.3,2,  2.2792,    202.5,2,    66.80,2,    28.44,2,    -0.01,2,     2.08,2,    0.000,2, -999.000,5, -999.000,5,-999.0000,5,  -999.00,9,-999.000,9,-999.0000,-999.000,-999.000,-999.000
      74AB29_1,    I5,    32,  1,     16,    22.,2,19871121,2227,-33.3117,  46.5033, 2660,     12.9,  18.7843,  35.5110,2,  35.5324,2,    236.5,2, 18.7820,    237.9,2,     2.02,2,     0.10,2,     0.02,2,     0.20,2, -999.000,5, -999.000,5, -999.000,5,-999.0000,5,  -999.00,9,-999.000,9,-999.0000,-999.000,-999.000,-999.000
      74AB29_1,    I5,    32,  1,     15,    21.,2,19871121,2227,-33.3117,  46.5033, 2660,     12.9,  18.7843,  35.5110,2,  35.5322,2,    236.5,2, 18.7820,    237.5,2,     2.05,2,     0.00,2,     0.01,2,     0.22,2, -999.000,5, -999.000,5, -999.000,5,-999.0000,5,  -999.00,9,-999.000,9,-999.0000,-999.000,-999.000,-999.000
      74AB29_1,    I5,    32,  1,     14,    20.,2,19871121,2227,-33.3117,  46.5033, 2660,     53.0,  16.9528,  35.5810,2,  35.5871,2,    247.2,2, 16.9441,    250.1,2,     2.54,2,     0.00,2,     0.01,2,     0.25,2, -999.000,5, -999.000,5, -999.000,5,-999.0000,5,  -999.00,9,-999.000,9,-999.0000,-999.000,-999.000,-999.000
      74AB29_1,    I5,    32,  1,     13,    19.,2,19871121,2227,-33.3117,  46.5033, 2660,    253.6,  14.4654,  35.4020,2,  35.3991,2,    223.2,2, 14.4277,    223.6,2,  -999.00,5,  -999.00,5,  -999.00,5,  -999.00,5, -999.000,5, -999.000,5, -999.000,5,-999.0000,5,  -999.00,9,-999.000,9,-999.0000,-999.000,-999.000,-999.000
      74AB29_1,    I5,    32,  1,     12,    18.,2,19871121,2227,-33.3117,  46.5033, 2660,    253.6,  14.4654,  35.4020,2,  35.3993,2,    223.2,2, 14.4277,    223.2,2,     4.04,2,     6.84,2,     0.01,2,     0.63,2, -999.000,5, -999.000,5, -999.000,5,-999.0000,5,  -999.00,9,-999.000,9,-999.0000,-999.000,-999.000,-999.000
      74AB29_1,    I5,    32,  1,     11,    17.,2,19871121,2227,-33.3117,  46.5033, 2660,    352.1,  13.6484,  35.2910,2,  35.2974,2,    230.6,2, 13.5980,    226.7,2,     4.21,2,     8.21,2,     0.00,2,     0.72,2, -999.000,5, -999.000,5, -999.000,5,-999.0000,5,  -999.00,9,-999.000,9,-999.0000,-999.000,-999.000,-999.000
      74AB29_1,    I5,    32,  1,     10,    16.,2,19871121,2227,-33.3117,  46.5033, 2660,    451.3,  12.9089,  35.1910,2,  35.1933,2,    229.7,2, 12.8464,    227.2,2,     4.55,2,     9.67,2,     0.01,2,     0.86,2, -999.000,5, -999.000,5, -999.000,5,-999.0000,5,  -999.00,9,-999.000,9,-999.0000,-999.000,-999.000,-999.000
      74AB29_1,    I5,    32,  1,      9,    15.,2,19871121,2227,-33.3117,  46.5033, 2660,    552.3,  11.7160,  35.0220,2,  35.0279,2,    222.3,2, 11.6440,    220.7,2,  -999.00,5,  -999.00,5,  -999.00,5,  -999.00,5, -999.000,5, -999.000,5, -999.000,5,-999.0000,5,  -999.00,9,-999.000,9,-999.0000,-999.000,-999.000,-999.000
      74AB29_1,    I5,    32,  1,      8,    13.,2,19871121,2227,-33.3117,  46.5033, 2660,    748.3,   9.2407,  34.7290,2,  34.7233,2,    212.7,2,  9.1558,    212.5,2,    10.24,2,    19.25,2,     0.01,2,     1.44,2, -999.000,5, -999.000,5, -999.000,5,-999.0000,5,  -999.00,9,-999.000,9,-999.0000,-999.000,-999.000,-999.000
      74AB29_1,    I5,    32,  1,      7,    11.,2,19871121,2227,-33.3117,  46.5033, 2660,    950.2,   6.3565,  34.4810,2,  34.4828,2,    204.4,2,  6.2680,    206.0,2,  -999.00,5,  -999.00,5,  -999.00,5,  -999.00,5, -999.000,5, -999.000,5, -999.000,5,-999.0000,5,  -999.00,9,-999.000,9,-999.0000,-999.000,-999.000,-999.000
      74AB29_1,    I5,    32,  1,      6,    10.,2,19871121,2227,-33.3117,  46.5033, 2660,   1023.7,   5.4536,  34.4200,2,  34.4157,2,    205.7,2,  5.3648,    207.3,2,    26.97,2,    28.64,2,     0.00,2,     2.03,2, -999.000,5, -999.000,5, -999.000,5,-999.0000,5,  -999.00,9,-999.000,9,-999.0000,-999.000,-999.000,-999.000
      74AB29_1,    I5,    32,  1,      5,     8.,2,19871121,2227,-33.3117,  46.5033, 2660,   1296.1,   3.5863,  34.4350,2,  34.4381,2,    190.8,2,  3.4896,    192.5,2,    49.72,2,    32.75,2,     0.01,2,     2.32,2, -999.000,5, -999.000,5, -999.000,5,-999.0000,5,  -999.00,9,-999.000,9,-999.0000,-999.000,-999.000,-999.000
      74AB29_1,    I5,    32,  1,      4,     7.,2,19871121,2227,-33.3117,  46.5033, 2660,   1499.1,   3.0679,  34.5260,2,  34.5325,2,    180.8,2,  2.9595,    180.8,2,    62.94,2,    33.43,2,     0.01,2,     2.35,2, -999.000,5, -999.000,5, -999.000,5,-999.0000,5,  -999.00,9,-999.000,9,-999.0000,-999.000,-999.000,-999.000
      74AB29_1,    I5,    32,  1,      3,     6.,2,19871121,2227,-33.3117,  46.5033, 2660,   1703.5,   2.7840,  34.6300,2,  34.6486,2,    180.4,2,  2.6615,    181.2,2,    68.12,2,    31.86,2,     0.01,2,     2.27,2, -999.000,5, -999.000,5, -999.000,5,-999.0000,5,  -999.00,9,-999.000,9,-999.0000,-999.000,-999.000,-999.000
      74AB29_1,    I5,    32,  1,      2,     2.,2,19871121,2227,-33.3117,  46.5033, 2660,   2499.2,   2.2825,  34.8000,2,  34.7986,2,    212.5,2,  2.0964,    212.9,2,    68.95,2,    27.95,2,     0.01,2,     1.91,2, -999.000,5, -999.000,5, -999.000,5,-999.0000,5,  -999.00,9,-999.000,9,-999.0000,-999.000,-999.000,-999.000
      74AB29_1,    I5,    32,  1,      1,     1.,2,19871121,2227,-33.3117,  46.5033, 2660,   2672.2,   2.1606,  34.8020,2,  34.8094,2,    214.2,2,  1.9605,    215.1,2,    65.62,2,    26.88,2,     0.01,2,     1.78,2, -999.000,5, -999.000,5, -999.000,5,-999.0000,5,  -999.00,9,-999.000,9,-999.0000,-999.000,-999.000,-999.000
      74AB29_1,    I5,    33,  1,     22,    24.,2,19871122,0302,-33.3800,  46.9167, 3147,      1.7,  19.0688,  34.7520,2,  35.5770,2,    206.4,2, 19.0685,    234.0,2,     1.87,2,     0.10,2,     0.00,2,     0.20,2,    1.989,2,    1.232,2,    0.711,2,   1.6820,2,  -999.00,9,   6.950,2,  0.0080,   0.008,   0.140,-999.000
      74AB29_1,    I5,    33,  1,     21,    23.,2,19871122,0302,-33.3800,  46.9167, 3147,     54.0,  17.3473,  35.5720,2,  35.5799,2,    246.4,2, 17.3383,    244.5,2,     2.03,2,     0.10,2,    -0.01,2,     0.22,2,    2.353,2,    1.347,2,    0.792,2,   1.7610,2,    -1.60,2,   7.240,2,  0.0090,   0.008,   0.140,   0.200
      74AB29_1,    I5,    33,  1,     20,    22.,2,19871122,0302,-33.3800,  46.9167, 3147,    153.7,  15.3738,  35.4980,2,  35.4959,2,    222.4,2, 15.3501,    217.1,2,     3.20,2,     4.98,2,     0.00,2,     0.51,2,    2.082,2,    1.293,2, -999.000,9,   1.7750,2,    -1.10,2,   7.380,2,  0.0090,-999.000,   0.150,   0.200
      74AB29_1,    I5,    33,  1,     19,    21.,2,19871122,0302,-33.3800,  46.9167, 3147,    252.1,  14.3084,  35.3960,2,  35.3823,2,    220.2,2, 14.2712,    223.2,2,     3.37,2,     7.03,2,     0.00,2,     0.62,2,    2.093,2,    1.190,2, -999.000,5,-999.0000,5,  -999.00,9,-999.000,9,-999.0000,-999.000,-999.000,-999.000
      74AB29_1,    I5,    33,  1,     18,    20.,2,19871122,0302,-33.3800,  46.9167, 3147,    352.0,  13.4459,  35.2920,2,  35.2763,2,    225.8,2, 13.3960,    225.4,2,     3.38,2,     8.50,2,     0.00,2,     0.70,2,    1.990,2,    1.268,2,    0.644,2,   1.7790,2,    -0.70,2,   7.370,2,  0.0090,   0.008,   0.150,   0.200
      74AB29_1,    I5,    33,  1,     17,    19.,2,19871122,0302,-33.3800,  46.9167, 3147,    453.2,  12.5999,  35.1660,2,  35.1421,2,    227.5,2, 12.5381,    222.4,2,     4.04,2,    10.65,2,     0.00,2,     0.87,2,    1.885,2,    1.067,2,    0.402,2,   1.7900,2,    -1.20,2,   7.530,2,  0.0090,   0.008,   0.150,   0.200
      74AB29_1,    I5,    33,  1,     16,    18.,2,19871122,0302,-33.3800,  46.9167, 3147,    551.2,  11.5205,  35.0060,2,  34.9831,2,    219.2,2, 11.4494,    217.2,2,     5.71,2,    13.49,2,     0.00,2,     1.04,2,    1.548,2,    0.935,2, -999.000,5,-999.0000,5,  -999.00,9,-999.000,9,-999.0000,-999.000,-999.000,-999.000
      74AB29_1,    I5,    33,  1,     15,    16.,2,19871122,0302,-33.3800,  46.9167, 3147,    751.7,   9.1752,  34.6990,2,  34.7111,2,    212.7,2,  9.0903,    209.0,2,    10.18,2,    19.55,2,     0.00,2,     1.41,2,    0.937,2,    0.540,2, -999.000,5,-999.0000,5,  -999.00,9,-999.000,9,-999.0000,-999.000,-999.000,-999.000
      74AB29_1,    I5,    33,  1,     14,    14.,2,19871122,0302,-33.3800,  46.9167, 3147,    952.9,   6.0925,  34.4690,2,  34.4585,2,    204.4,2,  6.0056,    206.0,2,    23.12,2,    27.18,2,     0.00,2,     1.96,2,    0.673,2,    0.430,2, -999.000,5,-999.0000,5,  -999.00,9,-999.000,9,-999.0000,-999.000,-999.000,-999.000
      74AB29_1,    I5,    33,  1,     13,    13.,2,19871122,0302,-33.3800,  46.9167, 3147,   1025.8,   5.2761,  34.4200,2,  34.4190,2,    203.9,2,  5.1884,    203.8,2,    28.93,2,    28.94,2,     0.00,2,     2.08,2,    0.597,2,    0.338,2, -999.000,5,-999.0000,5,  -999.00,9,-999.000,9,-999.0000,-999.000,-999.000,-999.000
      74AB29_1,    I5,    33,  1,     12,    12.,2,19871122,0302,-33.3800,  46.9167, 3147,   1099.7,   4.7212,  34.4090,2,  34.4074,2,    201.7,2,  4.6313,    200.3,2,    35.06,2,    30.31,2,     0.00,2,     2.18,2, -999.000,5, -999.000,5, -999.000,5,-999.0000,5,  -999.00,9,-999.000,9,-999.0000,-999.000,-999.000,-999.000
      74AB29_1,    I5,    33,  1,     11,    11.,2,19871122,0302,-33.3800,  46.9167, 3147,   1300.8,   3.5868,  34.4430,2,-999.0000,5,    189.5,2,  3.5838,    187.7,2,  -999.00,5,  -999.00,5,  -999.00,5,  -999.00,5, -999.000,5, -999.000,5, -999.000,5,-999.0000,5,  -999.00,9,-999.000,9,-999.0000,-999.000,-999.000,-999.000
      74AB29_1,    I5,    33,  1,     10,    10.,2,19871122,0302,-33.3800,  46.9167, 3147,   1500.7,   3.0339,  34.5340,2,  34.5254,2,    181.7,2,  2.9257,    179.9,2,    62.73,2,    33.33,2,     0.01,2,     2.39,2,    0.110,2,    0.082,2, -999.000,9,   1.8500,2,     8.20,2,   8.100,2,  0.0090,-999.000,   0.160,   0.200
      74AB29_1,    I5,    33,  1,      9,     9.,2,19871122,0302,-33.3800,  46.9167, 3147,   1701.7,   2.7425,  34.6110,2,  34.6034,2,    182.1,2,  2.6208,    179.9,2,    70.35,2,    32.84,2,     0.01,2,     2.34,2, -999.000,5, -999.000,5, -999.000,5,-999.0000,5,  -999.00,9,-999.000,9,-999.0000,-999.000,-999.000,-999.000
      74AB29_1,    I5,    33,  1,      8,     8.,2,19871122,0302,-33.3800,  46.9167, 3147,   1899.0,   2.5250,  34.6640,2,  34.6661,2,    186.0,2,  2.3892,    182.5,2,    74.98,2,    32.06,2,     0.01,2,     2.28,2, -999.000,5, -999.000,5, -999.000,5,-999.0000,5,  -999.00,9,-999.000,9,-999.0000,-999.000,-999.000,-999.000
      74AB29_1,    I5,    33,  1,      7,     7.,2,19871122,0302,-33.3800,  46.9167, 3147,   2101.0,   2.4385,  34.7200,2,  34.7239,2,    189.0,2,  2.2862,    192.0,2,    76.63,2,    30.69,2,     0.01,2,     2.18,2,    0.014,2,    0.000,2, -999.000,9,   1.8760,2,  -999.00,9,   8.170,2,  0.0090,-999.000,   0.160,-999.000
      74AB29_1,    I5,    33,  1,      6,     6.,2,19871122,0302,-33.3800,  46.9167, 3147,   2302.2,   2.2970,  34.7810,2,  34.7537,2,    203.8,2,  2.1289,    198.6,2,    76.78,2,    29.81,2,     0.01,2,     2.09,2, -999.000,5, -999.000,5, -999.000,5,-999.0000,5,  -999.00,9,-999.000,9,-999.0000,-999.000,-999.000,-999.000
      74AB29_1,    I5,    33,  1,      5,     5.,2,19871122,0302,-33.3800,  46.9167, 3147,   2501.4,   2.2360,  34.7910,2,  34.7842,2,    208.6,2,  2.0506,    208.1,2,    73.47,2,    28.54,2,     0.01,2,     2.01,2, -999.000,5, -999.000,5, -999.000,9,   1.9230,2,    14.80,2,   8.430,2,  0.0100,-999.000,   0.170,   0.200
      74AB29_1,    I5,    33,  1,      4,     4.,2,19871122,0302,-33.3800,  46.9167, 3147,   2704.4,   2.0181,  34.7900,2,  34.7842,2,    211.2,2,  1.8179,    212.9,2,    77.93,2,    28.44,2,     0.01,2,     2.02,2,    0.001,2, -999.000,5, -999.000,5,-999.0000,5,  -999.00,9,-999.000,9,-999.0000,-999.000,-999.000,-999.000
      74AB29_1,    I5,    33,  1,      3,     3.,2,19871122,0302,-33.3800,  46.9167, 3147,   2905.0,   1.9271,  34.7910,2,  34.7876,2,    214.6,2,  1.7096,    215.1,2,    78.59,2,    28.44,2,     0.01,2,     2.02,2, -999.000,5, -999.000,5, -999.000,5,-999.0000,5,  -999.00,9,-999.000,9,-999.0000,-999.000,-999.000,-999.000
      74AB29_1,    I5,    33,  1,      2,     2.,2,19871122,0302,-33.3800,  46.9167, 3147,   3095.9,   1.6561,  34.7580,2,  34.7557,2,    209.0,2,  1.4261,    209.4,2,    93.98,2,    30.01,2,     0.00,2,     2.12,2,    0.003,2,    0.000,2, -999.000,9,   1.9330,2,    12.20,2,   8.410,2,  0.0100,-999.000,   0.170,   0.200
      74AB29_1,    I5,    33,  1,      1,     1.,2,19871122,0302,-33.3800,  46.9167, 3147,   3186.1,   1.5792,  34.7520,2,  34.7531,2,    206.0,2,  1.3422,    205.5,2,    94.97,2,    30.20,2,     0.00,2,     2.09,2,    0.005,2, -999.000,5, -999.000,5,-999.0000,5,  -999.00,9,-999.000,9,-999.0000,-999.000,-999.000,-999.000