BOTTLE,20060509WHPSIOSA
EXPOCODE,SECT_ID,STNNBR,CASTNO,SAMPNO,BTLNBR,BTLNBR_FLAG_W,DATE,TIME,LATITUDE,LONGITUDE,DEPTH,CTDPRS,CTDTMP,CTDSAL,CTDSAL_FLAG_W,SALNTY,SALNTY_FLAG_W,CTDOXY,CTDOXY_FLAG_W,THETA,OXYGEN,OXYGEN_FLAG_W,SILCAT,SILCAT_FLAG_W,NITRAT,NITRAT_FLAG_W,NITRIT,NITRIT_FLAG_W,PHSPHT,PHSPHT_FLAG_W,CFC-11,CFC-11_FLAG_W,CFC-12,CFC-12_FLAG_W,TRITUM,TRITUM_FLAG_W,HELIUM,HELIUM_FLAG_W,DELHE3,DELHE3_FLAG_W,NEON,NEON_FLAG_W,HELIER,TRITER,NEONER,DELHER
,,,,,,,,,,,,DBAR,IPTS-68,PSS-78,,PSS-78,,UMOL/KG,,IPTS-68,UMOL/KG,,UMOL/KG,,UMOL/KG,,UMOL/KG,,UMOL/KG,,PMOL/KG,,PMOL/KG,,TU,,UMOL/KG,,PERCNT,,NMOL/KG,,NMOL/KG,TU,NMOL/KG,PERCNT
      74AB29_1,    I5,    90,  1,     24,    24.,2,19871211,1519,-33.0917, 104.5050, 5508,     16.8,  17.7763,  35.8650,2,  35.8485,2,    241.6,2, 17.7734,    240.1,2,     1.89,2,     0.10,2,     0.00,2,     0.19,2,    2.289,2,    1.279,2, -999.000,5,-999.0000,5,  -999.00,9,-999.000,9,-999.0000,-999.000,-999.000,-999.000
      74AB29_1,    I5,    90,  1,     23,    23.,2,19871211,1519,-33.0917, 104.5050, 5508,    102.4,  15.7858,  35.7460,2,-999.0000,5,    249.3,2, 15.7753,    247.4,2,     1.72,2,     0.10,2,     0.00,2,     0.23,2,    2.386,2,    1.342,2, -999.000,5,-999.0000,5,  -999.00,9,-999.000,9,-999.0000,-999.000,-999.000,-999.000
      74AB29_1,    I5,    90,  1,     22,    22.,2,19871211,1519,-33.0917, 104.5050, 5508,    204.3,  12.8544,  35.2260,2,  35.2343,2,    243.2,2, 12.8264,    246.3,2,     1.71,2,     5.76,2,     0.00,2,     0.53,2,    2.607,2,    1.404,2, -999.000,5,-999.0000,5,  -999.00,9,-999.000,9,-999.0000,-999.000,-999.000,-999.000
      74AB29_1,    I5,    90,  1,     21,    21.,2,19871211,1519,-33.0917, 104.5050, 5508,    302.0,  11.2830,  34.9400,2,  34.9697,2,    245.3,2, 11.2450,    246.3,2,     2.52,2,     9.87,2,     0.00,2,     0.78,2,    2.635,2,    1.419,2, -999.000,5,-999.0000,5,  -999.00,9,-999.000,9,-999.0000,-999.000,-999.000,-999.000
      74AB29_1,    I5,    90,  1,     20,    20.,2,19871211,1519,-33.0917, 104.5050, 5508,    398.1,  10.1056,  34.7810,2,  34.7787,2,    242.3,2, 10.0587,    244.6,2,     3.50,2,    13.68,2,     0.00,2,     0.98,2,    2.470,2,    1.329,2, -999.000,5,-999.0000,5,  -999.00,9,-999.000,9,-999.0000,-999.000,-999.000,-999.000
      74AB29_1,    I5,    90,  1,     19,    19.,2,19871211,1519,-33.0917, 104.5050, 5508,    501.5,   9.4812,  34.6980,2,  34.6958,2,    240.5,2,  9.4242,    238.5,2,     4.30,2,    16.32,2,     0.00,2,     1.15,2,    2.170,2,    1.232,2, -999.000,5,-999.0000,5,  -999.00,9,-999.000,9,-999.0000,-999.000,-999.000,-999.000
      74AB29_1,    I5,    90,  1,     18,    18.,2,19871211,1519,-33.0917, 104.5050, 5508,    550.1,   9.2652,  34.6720,2,  34.6718,2,    238.8,2,  9.2034,    237.7,2,     4.62,2,    17.10,2,     0.00,2,     1.18,2,    2.198,2,    1.179,2, -999.000,5,-999.0000,5,  -999.00,9,-999.000,9,-999.0000,-999.000,-999.000,-999.000
      74AB29_1,    I5,    90,  1,     17,    17.,2,19871211,1519,-33.0917, 104.5050, 5508,    598.1,   8.8652,  34.6280,2,  34.6254,2,    238.8,2,  8.7996,    236.8,2,     5.60,2,    18.47,2,     0.00,2,     1.28,2,    2.030,2,    1.104,2, -999.000,5,-999.0000,5,  -999.00,9,-999.000,9,-999.0000,-999.000,-999.000,-999.000
      74AB29_1,    I5,    90,  1,     16,    16.,2,19871211,1519,-33.0917, 104.5050, 5508,    650.6,   8.5092,  34.5900,2,-999.0000,5,    235.7,2,  8.4819,    232.9,2,     6.73,2,    19.84,2,     0.00,2,     1.36,2,    1.768,2,    0.941,2, -999.000,5,-999.0000,5,  -999.00,9,-999.000,9,-999.0000,-999.000,-999.000,-999.000
      74AB29_1,    I5,    90,  1,     15,    15.,2,19871211,1519,-33.0917, 104.5050, 5508,    700.4,   8.0718,  34.5560,2,  34.5453,2,    223.1,2,  7.9987,    220.3,2,     9.35,2,    22.09,2,     0.00,2,     1.52,2,    1.256,2,    0.692,2, -999.000,5,-999.0000,5,  -999.00,9,-999.000,9,-999.0000,-999.000,-999.000,-999.000
      74AB29_1,    I5,    90,  1,     14,    14.,2,19871211,1519,-33.0917, 104.5050, 5508,    797.9,   6.9469,  34.4850,2,-999.0000,5,    205.2,2,  6.9239,    201.6,2,    15.83,2,    26.30,2,     0.00,2,     1.79,2,    0.641,2,    0.372,2, -999.000,5,-999.0000,5,  -999.00,9,-999.000,9,-999.0000,-999.000,-999.000,-999.000
      74AB29_1,    I5,    90,  1,     13,    13.,2,19871211,1519,-33.0917, 104.5050, 5508,    900.4,   5.5036,  34.4040,2,  34.4098,2,    197.8,2,  5.4259,    197.7,2,    26.01,2,    29.72,2,     0.00,2,     2.02,2,    0.392,2,    0.218,2, -999.000,5,-999.0000,5,  -999.00,9,-999.000,9,-999.0000,-999.000,-999.000,-999.000
      74AB29_1,    I5,    90,  1,     12,    12.,2,19871211,1519,-33.0917, 104.5050, 5508,    999.3,   4.4557,  34.3840,2,  34.3843,2,    193.9,2,  4.3768,    194.3,2,    36.32,2,    31.87,2,     0.00,2,     2.20,2,    0.242,2,    0.137,2, -999.000,5,-999.0000,5,  -999.00,9,-999.000,9,-999.0000,-999.000,-999.000,-999.000
      74AB29_1,    I5,    90,  1,     11,    11.,2,19871211,1519,-33.0917, 104.5050, 5508,   1398.5,   3.2184,  34.5500,2,  34.5525,2,    156.5,2,  3.1166,    154.3,2,    74.73,2,    35.48,2,     0.00,2,     2.48,2,    0.003,2,    0.000,2, -999.000,5,-999.0000,5,  -999.00,9,-999.000,9,-999.0000,-999.000,-999.000,-999.000
      74AB29_1,    I5,    90,  1,     10,    10.,2,19871211,1519,-33.0917, 104.5050, 5508,   1800.1,   2.6550,  34.6640,2,-999.0000,5,    159.9,2,  2.6575,    161.2,2,    88.63,2,    34.51,2,     0.00,2,     2.43,2, -999.000,5, -999.000,5, -999.000,5,-999.0000,5,  -999.00,9,-999.000,9,-999.0000,-999.000,-999.000,-999.000
      74AB29_1,    I5,    90,  1,      9,     9.,2,19871211,1519,-33.0917, 104.5050, 5508,   2202.9,   2.2780,  34.7170,2,  34.7156,2,    170.8,2,  2.1193,    171.6,2,    95.99,2,    32.94,2,     0.00,2,     2.34,2, -999.000,5, -999.000,5, -999.000,5,-999.0000,5,  -999.00,9,-999.000,9,-999.0000,-999.000,-999.000,-999.000
      74AB29_1,    I5,    90,  1,      8,     8.,2,19871211,1519,-33.0917, 104.5050, 5508,   2600.1,   1.9376,  34.7350,2,  34.7368,2,    184.2,2,  1.7489,    186.4,2,    97.78,2,    32.35,2,     0.00,2,     2.23,2, -999.000,5, -999.000,5, -999.000,5,-999.0000,5,  -999.00,9,-999.000,9,-999.0000,-999.000,-999.000,-999.000
      74AB29_1,    I5,    90,  1,      7,     7.,2,19871211,1519,-33.0917, 104.5050, 5508,   3003.3,   1.6207,  34.7350,2,-999.0000,5,    190.8,2,  1.6164,    194.2,2,   104.33,2,    32.35,2,     0.00,2,     2.24,2, -999.000,5, -999.000,5, -999.000,5,-999.0000,5,  -999.00,9,-999.000,9,-999.0000,-999.000,-999.000,-999.000
      74AB29_1,    I5,    90,  1,      6,     6.,2,19871211,1519,-33.0917, 104.5050, 5508,   3506.6,   1.2862,  34.7260,2,-999.0000,5,    197.7,2,  1.2738,    201.6,2,   111.02,2,    32.35,2,     0.00,2,     2.24,2, -999.000,5, -999.000,5, -999.000,5,-999.0000,5,  -999.00,9,-999.000,9,-999.0000,-999.000,-999.000,-999.000
      74AB29_1,    I5,    90,  1,      5,     5.,2,19871211,1519,-33.0917, 104.5050, 5508,   4005.9,   1.0612,  34.7150,2,  34.7148,2,    204.2,2,  0.7538,   -999.0,5,   117.24,2,    32.74,2,     0.00,2,     2.24,2, -999.000,5, -999.000,5, -999.000,5,-999.0000,5,  -999.00,9,-999.000,9,-999.0000,-999.000,-999.000,-999.000
      74AB29_1,    I5,    90,  1,      4,     4.,2,19871211,1519,-33.0917, 104.5050, 5508,   4408.7,   0.9748,  34.7110,2,  34.7099,2,    207.3,2,  0.6262,    209.0,2,   119.54,2,    32.84,2,     0.00,2,     2.26,2, -999.000,5, -999.000,5, -999.000,5,-999.0000,5,  -999.00,9,-999.000,9,-999.0000,-999.000,-999.000,-999.000
      74AB29_1,    I5,    90,  1,      3,     3.,2,19871211,1519,-33.0917, 104.5050, 5508,   4791.2,   0.9603,  34.7070,2,  34.7090,2,    209.4,2,  0.5687,    209.9,2,   120.68,2,    32.84,2,     0.00,2,     2.27,2, -999.000,5, -999.000,5, -999.000,5,-999.0000,5,  -999.00,9,-999.000,9,-999.0000,-999.000,-999.000,-999.000
      74AB29_1,    I5,    90,  1,      2,     2.,2,19871211,1519,-33.0917, 104.5050, 5508,   5216.9,   0.9813,  34.7060,2,  34.7080,2,    211.2,2,  0.5384,    210.7,2,   121.17,2,    32.84,2,     0.00,2,     2.26,2, -999.000,5, -999.000,5, -999.000,5,-999.0000,5,  -999.00,9,-999.000,9,-999.0000,-999.000,-999.000,-999.000
      74AB29_1,    I5,    90,  1,      1,     1.,2,19871211,1519,-33.0917, 104.5050, 5508,   5539.9,   1.0108,  34.7050,2,  34.7022,2,    212.5,2,  0.5269,    209.4,2,   121.49,2,    32.74,2,     0.00,2,     2.29,2, -999.000,5, -999.000,5, -999.000,5,-999.0000,5,  -999.00,9,-999.000,9,-999.0000,-999.000,-999.000,-999.000
      74AB29_1,    I5,    91,  1,     24,    24.,2,19871211,2207,-33.2483, 105.0017, 5940,      1.7,  17.3783,  34.7030,2,  35.7959,2,    214.2,2, 17.3780,    240.5,2,     1.55,2,     0.00,2,     0.00,2,     0.20,2,    2.300,2,    1.278,2, -999.000,5,-999.0000,5,  -999.00,9,-999.000,9,-999.0000,-999.000,-999.000,-999.000
      74AB29_1,    I5,    91,  1,     23,    23.,2,19871211,2207,-33.2483, 105.0017, 5940,    103.5,  14.5324,  35.5480,2,-999.0000,5,    244.9,2, 14.5229,    247.9,2,     1.23,2,     0.78,2,     0.00,2,     0.27,2,    2.436,2,    1.319,2, -999.000,5,-999.0000,5,  -999.00,9,-999.000,9,-999.0000,-999.000,-999.000,-999.000
      74AB29_1,    I5,    91,  1,     22,    22.,2,19871211,2207,-33.2483, 105.0017, 5940,    199.6,  13.3654,  35.3450,2,-999.0000,5,    243.1,2, 13.3490,    241.8,2,     1.73,2,     4.69,2,     0.00,2,     0.50,2,    2.447,2,    1.369,2, -999.000,5,-999.0000,5,  -999.00,9,-999.000,9,-999.0000,-999.000,-999.000,-999.000
      74AB29_1,    I5,    91,  1,     21,    21.,2,19871211,2207,-33.2483, 105.0017, 5940,    300.7,  11.6360,  35.0270,2,-999.0000,5,    242.3,2, 11.6157,    244.1,2,     2.06,2,     8.79,2,     0.00,2,     0.73,2, -999.000,5, -999.000,5, -999.000,5,-999.0000,5,  -999.00,9,-999.000,9,-999.0000,-999.000,-999.000,-999.000
      74AB29_1,    I5,    91,  1,     20,    20.,2,19871211,2207,-33.2483, 105.0017, 5940,    400.2,  10.3771,  34.7960,2,  34.8151,2,    249.7,2, 10.3292,    249.4,2,     3.23,2,    12.22,2,     0.00,2,     0.93,2,    2.596,2,    1.441,2, -999.000,5,-999.0000,5,  -999.00,9,-999.000,9,-999.0000,-999.000,-999.000,-999.000
      74AB29_1,    I5,    91,  1,     19,    19.,2,19871211,2207,-33.2483, 105.0017, 5940,    500.2,   9.7196,  34.7150,2,  34.7164,2,    244.9,2,  9.6619,    242.9,2,     4.05,2,    15.15,2,     0.00,2,     1.10,2,    2.342,2,    1.336,2, -999.000,5,-999.0000,5,  -999.00,9,-999.000,9,-999.0000,-999.000,-999.000,-999.000
      74AB29_1,    I5,    91,  1,     18,    18.,2,19871211,2207,-33.2483, 105.0017, 5940,    600.8,   9.2302,  34.6630,2,  34.6673,2,    237.9,2,  9.1627,    237.2,2,     4.88,2,    17.30,2,     0.00,2,     1.24,2, -999.000,5, -999.000,5, -999.000,5,-999.0000,5,  -999.00,9,-999.000,9,-999.0000,-999.000,-999.000,-999.000
      74AB29_1,    I5,    91,  1,     17,    17.,2,19871211,2207,-33.2483, 105.0017, 5940,    701.7,   8.6162,  34.5930,2,  34.5924,2,    236.6,2,  8.5401,    234.6,2,     6.20,2,    19.35,2,     0.00,2,     1.37,2,    1.811,2,    1.032,2, -999.000,5,-999.0000,5,  -999.00,9,-999.000,9,-999.0000,-999.000,-999.000,-999.000
      74AB29_1,    I5,    91,  1,     16,    16.,2,19871211,2207,-33.2483, 105.0017, 5940,    803.3,   7.3389,  34.5060,2,  34.4991,2,    209.6,2,  7.2590,    204.7,2,    14.25,2,    25.03,2,     0.00,2,     1.73,2, -999.000,5, -999.000,5, -999.000,5,-999.0000,5,  -999.00,9,-999.000,9,-999.0000,-999.000,-999.000,-999.000
      74AB29_1,    I5,    91,  1,     15,    15.,2,19871211,2207,-33.2483, 105.0017, 5940,    901.6,   5.6346,  34.4170,2,  34.4051,2,    201.3,2,  5.5559,    197.3,2,    25.09,2,    29.33,2,     0.00,2,     2.04,2,    0.392,2,    0.252,2, -999.000,5,-999.0000,5,  -999.00,9,-999.000,9,-999.0000,-999.000,-999.000,-999.000
      74AB29_1,    I5,    91,  1,     14,    14.,2,19871211,2207,-33.2483, 105.0017, 5940,   1000.1,   4.4947,  34.3820,2,  34.3804,2,    193.9,2,  4.4154,    193.4,2,    36.58,2,    31.68,2,     0.00,2,     2.22,2,    0.227,2,    0.149,2, -999.000,5,-999.0000,5,  -999.00,9,-999.000,9,-999.0000,-999.000,-999.000,-999.000
      74AB29_1,    I5,    91,  1,     13,    13.,2,19871211,2207,-33.2483, 105.0017, 5940,   1401.8,   3.1859,  34.5280,2,-999.0000,5,    162.6,2,  3.1865,    158.2,2,    72.20,2,    35.10,2,     0.00,2,     2.51,2, -999.000,5, -999.000,5, -999.000,5,-999.0000,5,  -999.00,9,-999.000,9,-999.0000,-999.000,-999.000,-999.000
      74AB29_1,    I5,    91,  1,     12,    12.,2,19871211,2207,-33.2483, 105.0017, 5940,   1801.0,   2.6725,  34.6670,2,  34.6651,2,    158.6,2,  2.5431,    156.0,2,    91.07,2,    34.60,2,     0.00,2,     2.46,2, -999.000,5, -999.000,5, -999.000,5,-999.0000,5,  -999.00,9,-999.000,9,-999.0000,-999.000,-999.000,-999.000
      74AB29_1,    I5,    91,  1,     11,    11.,2,19871211,2207,-33.2483, 105.0017, 5940,   2200.5,   2.2635,  34.7170,2,  34.7162,2,    168.2,2,  2.1053,    166.8,2,   100.76,2,    33.62,2,     0.00,2,     2.40,2, -999.000,5, -999.000,5, -999.000,5,-999.0000,5,  -999.00,9,-999.000,9,-999.0000,-999.000,-999.000,-999.000
      74AB29_1,    I5,    91,  1,     10,    10.,2,19871211,2207,-33.2483, 105.0017, 5940,   2600.7,   1.9506,  34.7310,2,  34.7305,2,    179.0,2,  1.7616,    178.6,2,   104.54,2,    32.84,2,     0.00,2,     2.33,2, -999.000,5, -999.000,5, -999.000,5,-999.0000,5,  -999.00,9,-999.000,9,-999.0000,-999.000,-999.000,-999.000
      74AB29_1,    I5,    91,  1,      9,     9.,2,19871211,2207,-33.2483, 105.0017, 5940,   3002.7,   1.6621,  34.7350,2,  34.7310,2,    189.5,2,  1.4412,    194.2,2,   107.18,2,    32.25,2,     0.00,2,     2.30,2, -999.000,5, -999.000,5, -999.000,5,-999.0000,5,  -999.00,9,-999.000,9,-999.0000,-999.000,-999.000,-999.000
      74AB29_1,    I5,    91,  1,      8,     8.,2,19871211,2207,-33.2483, 105.0017, 5940,   3406.8,   1.3802,  34.7300,2,  34.7294,2,    197.7,2,  1.1261,    200.3,2,   109.33,2,    32.06,2,     0.00,2,     2.28,2, -999.000,5, -999.000,5, -999.000,5,-999.0000,5,  -999.00,9,-999.000,9,-999.0000,-999.000,-999.000,-999.000
      74AB29_1,    I5,    91,  1,      7,     7.,2,19871211,2207,-33.2483, 105.0017, 5940,   3807.7,   1.1442,  34.7190,2,  34.7217,2,    202.5,2,  0.8553,    203.3,2,   116.07,2,    32.45,2,     0.00,2,     2.28,2, -999.000,5, -999.000,5, -999.000,5,-999.0000,5,  -999.00,9,-999.000,9,-999.0000,-999.000,-999.000,-999.000
      74AB29_1,    I5,    91,  1,      6,     6.,2,19871211,2207,-33.2483, 105.0017, 5940,   4210.1,   1.0118,  34.7120,2,  34.7111,2,    206.0,2,  0.6839,    207.3,2,   119.20,2,    32.45,2,     0.00,2,     2.27,2, -999.000,5, -999.000,5, -999.000,5,-999.0000,5,  -999.00,9,-999.000,9,-999.0000,-999.000,-999.000,-999.000
      74AB29_1,    I5,    91,  1,      5,     5.,2,19871211,2207,-33.2483, 105.0017, 5940,   4608.7,   0.9518,  34.7080,2,  34.7083,2,    209.0,2,  0.5814,    209.0,2,   121.19,2,    32.74,2,     0.00,2,     2.28,2, -999.000,5, -999.000,5, -999.000,5,-999.0000,5,  -999.00,9,-999.000,9,-999.0000,-999.000,-999.000,-999.000
      74AB29_1,    I5,    91,  1,      4,     4.,2,19871211,2207,-33.2483, 105.0017, 5940,   5014.8,   0.9568,  34.7050,2,  34.7040,2,    209.9,2,  0.5390,    209.9,2,   122.02,2,    32.65,2,     0.00,2,     2.29,2, -999.000,5, -999.000,5, -999.000,5,-999.0000,5,  -999.00,9,-999.000,9,-999.0000,-999.000,-999.000,-999.000
      74AB29_1,    I5,    91,  1,      3,     3.,2,19871211,2207,-33.2483, 105.0017, 5940,   5314.0,   0.9803,  34.7050,2,  34.7034,2,    211.6,2,  0.5256,    209.4,2,   122.19,2,    32.65,2,     0.00,2,     2.30,2, -999.000,5, -999.000,5, -999.000,5,-999.0000,5,  -999.00,9,-999.000,9,-999.0000,-999.000,-999.000,-999.000
      74AB29_1,    I5,    91,  1,      2,     2.,2,19871211,2207,-33.2483, 105.0017, 5940,   5613.0,   1.0058,  34.7040,2,  34.7015,2,    212.9,2,  0.5129,    209.9,2,   122.21,2,    32.55,2,     0.00,2,     2.28,2,    0.006,2,    0.000,2, -999.000,5,-999.0000,5,  -999.00,9,-999.000,9,-999.0000,-999.000,-999.000,-999.000
      74AB29_1,    I5,    91,  1,      1,     1.,2,19871211,2207,-33.2483, 105.0017, 5940,   6056.5,   1.0572,  34.7030,2,  34.7032,2,    213.8,2,  0.5050,    209.4,2,   122.39,2,    32.45,2,     0.00,2,     2.28,2,    0.005,2,    0.000,2, -999.000,5,-999.0000,5,  -999.00,9,-999.000,9,-999.0000,-999.000,-999.000,-999.000