BOTTLE,20060509WHPSIOSA
EXPOCODE,SECT_ID,STNNBR,CASTNO,SAMPNO,BTLNBR,BTLNBR_FLAG_W,DATE,TIME,LATITUDE,LONGITUDE,DEPTH,CTDPRS,CTDTMP,CTDSAL,CTDSAL_FLAG_W,SALNTY,SALNTY_FLAG_W,CTDOXY,CTDOXY_FLAG_W,THETA,OXYGEN,OXYGEN_FLAG_W,SILCAT,SILCAT_FLAG_W,NITRAT,NITRAT_FLAG_W,NITRIT,NITRIT_FLAG_W,PHSPHT,PHSPHT_FLAG_W,CFC-11,CFC-11_FLAG_W,CFC-12,CFC-12_FLAG_W,TRITUM,TRITUM_FLAG_W,HELIUM,HELIUM_FLAG_W,DELHE3,DELHE3_FLAG_W,NEON,NEON_FLAG_W,HELIER,TRITER,NEONER,DELHER
,,,,,,,,,,,,DBAR,IPTS-68,PSS-78,,PSS-78,,UMOL/KG,,IPTS-68,UMOL/KG,,UMOL/KG,,UMOL/KG,,UMOL/KG,,UMOL/KG,,PMOL/KG,,PMOL/KG,,TU,,UMOL/KG,,PERCNT,,NMOL/KG,,NMOL/KG,TU,NMOL/KG,PERCNT
      74AB29_1,    I5,    62,  1,     23,    24.,2,19871203,0522,-30.3733,  79.2550, 3747,     22.3,  18.9008,  35.7750,2,  35.7716,2,    236.4,2, 18.8968,    236.6,2,     1.42,2,     0.00,2,     0.00,2,     0.22,2,    2.186,2,    1.160,2,    0.636,2,   1.7630,2,    -1.40,2,   7.200,2,  0.0090,   0.008,   0.140,   0.200
      74AB29_1,    I5,    62,  1,     22,    23.,2,19871203,0522,-30.3733,  79.2550, 3747,    102.1,  16.2813,  35.6240,2,  35.6220,2,    244.2,2, 16.2649,    246.2,2,     1.25,2,     0.00,2,     0.00,2,     0.26,2,    2.198,2,    1.247,2,    0.762,2,   1.7310,2,     3.10,2,   7.250,2,  0.0090,   0.008,   0.140,   0.200
      74AB29_1,    I5,    62,  1,     21,    22.,2,19871203,0522,-30.3733,  79.2550, 3747,    201.3,  13.6749,  35.3170,2,  35.3354,2,    230.1,2, 13.6462,    230.6,2,     2.06,2,     6.06,2,     0.00,2,     0.58,2,    2.271,2,    1.150,2,    0.645,2,   1.7760,2,     5.30,2,   7.260,2,  0.0090,   0.008,   0.150,   0.200
      74AB29_1,    I5,    62,  1,     20,    21.,2,19871203,0522,-30.3733,  79.2550, 3747,    301.4,  12.3415,  35.1240,2,  35.1207,2,    233.2,2, 12.3012,    235.9,2,     3.28,2,     9.38,2,     0.00,2,     0.75,2,    2.307,2,    1.305,2,    0.608,2,   1.8130,2,     5.70,2,   7.340,2,  0.0090,   0.008,   0.150,   0.200
      74AB29_1,    I5,    62,  1,     19,    20.,2,19871203,0522,-30.3733,  79.2550, 3747,    401.0,  11.4280,  34.9780,2,  34.9754,2,    237.5,2, 11.3769,    238.9,2,     3.70,2,    11.34,2,     0.00,2,     0.88,2,    2.223,2,    1.268,2,    0.741,2,   1.8120,2,     8.70,2,   7.530,2,  0.0090,   0.008,   0.150,   0.200
      74AB29_1,    I5,    62,  1,     18,    19.,2,19871203,0522,-30.3733,  79.2550, 3747,    499.9,  10.7276,  34.8770,2,  34.8755,2,    242.3,2, 10.6662,    240.7,2,     4.12,2,    12.61,2,     0.00,2,     0.96,2,    2.140,2,    1.238,2,    0.603,2,   1.7870,2,     6.60,2,   7.340,2,  0.0090,   0.008,   0.150,   0.200
      74AB29_1,    I5,    62,  1,     17,    18.,2,19871203,0522,-30.3733,  79.2550, 3747,    702.1,   9.2627,  34.6730,2,  34.6859,2,    230.1,2,  9.1832,    233.3,2,     5.74,2,    17.20,2,     0.00,2,     1.23,2,    1.540,2,    0.860,2, -999.000,9,   1.3810,2,     8.80,2,   7.850,2,  0.0070,-999.000,   0.160,   0.200
      74AB29_1,    I5,    62,  1,     16,    17.,2,19871203,0522,-30.3733,  79.2550, 3747,    798.9,   8.3198,  34.5810,2,-999.0000,5,    213.5,2,  8.2867,    214.6,2,    10.32,2,    21.41,2,     0.00,2,     1.50,2,    0.827,2,    0.476,2, -999.000,9,   1.8710,2,     9.80,2,   7.720,2,  0.0090,-999.000,   0.150,   0.200
      74AB29_1,    I5,    62,  1,     15,    16.,2,19871203,0522,-30.3733,  79.2550, 3747,   1000.5,   5.3791,  34.4140,2,  34.4104,2,    196.1,2,  5.2930,    197.7,2,    29.80,2,    29.62,2,     0.00,2,     2.07,2,    0.315,2,    0.188,2, -999.000,9,   1.8470,2,     9.40,2,   7.880,2,  0.0090,-999.000,   0.160,   0.200
      74AB29_1,    I5,    62,  1,     14,    15.,2,19871203,0522,-30.3733,  79.2550, 3747,   1099.0,   4.4187,  34.4040,2,  34.4078,2,    187.4,2,  4.3314,    186.9,2,    43.32,2,    31.87,2,     0.00,2,     2.26,2,    0.173,2,    0.096,2, -999.000,9,   1.8700,2,     7.20,2,   7.860,2,  0.0090,-999.000,   0.160,   0.200
      74AB29_1,    I5,    62,  1,     13,    14.,2,19871203,0522,-30.3733,  79.2550, 3747,   1297.5,   3.6803,  34.5050,2,  34.4928,2,    161.3,2,  3.5824,    162.5,2,    66.17,2,    34.31,2,     0.00,2,     2.44,2,    0.029,2, -999.000,5, -999.000,9,   1.9080,2,    11.10,2,   7.940,2,  0.0100,-999.000,   0.160,   0.200
      74AB29_1,    I5,    62,  1,     12,    13.,2,19871203,0522,-30.3733,  79.2550, 3747,   1501.3,   3.2789,  34.5810,2,  34.5720,2,    154.3,2,  3.1677,    158.6,2,    79.09,2,    34.70,2,     0.00,2,     2.48,2,    0.011,2,    0.000,2, -999.000,9,   1.8760,2,     9.00,2,   8.040,2,  0.0090,-999.000,   0.160,   0.200
      74AB29_1,    I5,    62,  1,     11,    12.,2,19871203,0522,-30.3733,  79.2550, 3747,   1699.6,   2.9599,  34.6490,2,  34.6462,2,    154.7,2,  2.8354,    153.4,2,    89.04,2,    34.50,2,     0.00,2,     2.45,2, -999.000,5, -999.000,5, -999.000,5,-999.0000,5,  -999.00,9,-999.000,9,-999.0000,-999.000,-999.000,-999.000
      74AB29_1,    I5,    62,  1,     10,    11.,2,19871203,0522,-30.3733,  79.2550, 3747,   1900.1,   2.7015,  34.6910,2,  34.6893,2,    158.6,2,  2.5630,    156.9,2,    97.19,2,    34.11,2,     0.00,2,     2.42,2, -999.000,5, -999.000,5, -999.000,5,-999.0000,5,  -999.00,9,-999.000,9,-999.0000,-999.000,-999.000,-999.000
      74AB29_1,    I5,    62,  1,      9,    10.,2,19871203,0522,-30.3733,  79.2550, 3747,   2097.5,   2.4315,  34.7080,2,  34.7040,2,    171.7,2,  2.2797,    170.8,2,    95.24,2,    33.13,2,     0.00,2,     2.35,2, -999.000,5, -999.000,5, -999.000,5,-999.0000,5,  -999.00,9,-999.000,9,-999.0000,-999.000,-999.000,-999.000
      74AB29_1,    I5,    62,  1,      8,     9.,2,19871203,0522,-30.3733,  79.2550, 3747,   2301.1,   2.1821,  34.7310,2,  34.7294,2,    188.2,2,  2.0162,    188.6,2,    87.12,2,    31.28,2,     0.00,2,     2.20,2,    0.009,2,    0.000,2, -999.000,9,   2.0200,2,    14.90,2,   8.350,2,  0.0100,-999.000,   0.170,   0.200
      74AB29_1,    I5,    62,  1,      7,     8.,2,19871203,0522,-30.3733,  79.2550, 3747,   2500.2,   1.9561,  34.7420,2,  34.7421,2,    192.1,2,  1.7762,    195.1,2,    92.52,2,    30.98,2,     0.00,2,     2.21,2, -999.000,5, -999.000,5, -999.000,5,-999.0000,5,  -999.00,9,-999.000,9,-999.0000,-999.000,-999.000,-999.000
      74AB29_1,    I5,    62,  1,      6,     7.,2,19871203,0522,-30.3733,  79.2550, 3747,   2701.7,   1.7696,  34.7420,2,  34.7419,2,    196.0,2,  1.5748,    197.7,2,    97.91,2,    31.37,2,     0.00,2,     2.19,2,    0.003,2,    0.000,2, -999.000,9,   1.9710,2,    10.90,2,   8.340,2,  0.0100,-999.000,   0.170,   0.200
      74AB29_1,    I5,    62,  1,      5,     6.,2,19871203,0522,-30.3733,  79.2550, 3747,   2906.0,   1.6087,  34.7370,2,  34.7347,2,    196.8,2,  1.3981,    197.3,2,   103.89,2,    31.37,2,     0.00,2,     2.22,2,    0.006,2,    0.000,2, -999.000,9,   1.9910,2,     8.20,2,   8.500,2,  0.0100,-999.000,   0.170,   0.200
      74AB29_1,    I5,    62,  1,      4,     5.,2,19871203,0522,-30.3733,  79.2550, 3747,   3103.7,   1.4837,  34.7330,2,  34.7319,2,    197.3,2,  1.2570,    199.4,2,   109.08,2,    31.76,2,     0.00,2,     2.23,2,    0.007,2,    0.000,2, -999.000,9,   1.8760,2,     6.40,2,   8.340,2,  0.0090,-999.000,   0.170,   0.200
      74AB29_1,    I5,    62,  1,      3,     3.,2,19871203,0522,-30.3733,  79.2550, 3747,   3506.4,   1.4002,  34.7280,2,  34.7260,2,    199.4,2,  1.1356,    199.9,2,   112.68,2,    31.86,2,     0.00,2,     2.24,2,    0.000,2,    0.000,2, -999.000,9,   1.8970,2,     5.00,2,   8.150,2,  0.0090,-999.000,   0.160,   0.200
      74AB29_1,    I5,    62,  1,      2,     2.,2,19871203,0522,-30.3733,  79.2550, 3747,   3705.7,   1.4042,  34.7270,2,  34.7260,2,    199.4,2,  1.1190,    200.7,2,   113.50,2,    31.96,2,     0.00,2,     2.24,2, -999.000,5, -999.000,5, -999.000,5,-999.0000,5,  -999.00,9,-999.000,9,-999.0000,-999.000,-999.000,-999.000
      74AB29_1,    I5,    62,  1,      1,     1.,2,19871203,0522,-30.3733,  79.2550, 3747,   3797.0,   1.4132,  34.7270,2,  34.7256,2,    198.6,2,  1.1182,    200.3,2,   113.73,2,    32.06,2,     0.00,2,     2.24,2,    0.010,2,    0.000,2, -999.000,9,   1.9290,2,     5.50,2,   8.400,2,  0.0100,-999.000,   0.170,   0.200
      74AB29_1,    I5,    63,  1,     24,    24.,2,19871203,1241,-30.0067,  80.0017, 3535,     15.3,  19.8323,  35.8840,2,  35.9174,2,    238.6,2, 19.8295,    232.7,2,     1.19,2,     0.00,2,     0.00,2,     0.14,2, -999.000,5, -999.000,5, -999.000,5,-999.0000,5,  -999.00,9,-999.000,9,-999.0000,-999.000,-999.000,-999.000
      74AB29_1,    I5,    63,  1,     23,    23.,2,19871203,1241,-30.0067,  80.0017, 3535,    102.7,  17.6993,  35.7720,2,  35.8109,2,    245.5,2, 17.6818,    242.7,2,     1.04,2,     0.00,2,     0.00,2,     0.18,2, -999.000,5, -999.000,5, -999.000,5,-999.0000,5,  -999.00,9,-999.000,9,-999.0000,-999.000,-999.000,-999.000
      74AB29_1,    I5,    63,  1,     22,    22.,2,19871203,1241,-30.0067,  80.0017, 3535,    204.4,  14.3134,  35.3710,2,  35.4028,2,    226.7,2, 14.2833,    230.6,2,     1.48,2,     4.79,2,     0.00,2,     0.48,2, -999.000,5, -999.000,5, -999.000,5,-999.0000,5,  -999.00,9,-999.000,9,-999.0000,-999.000,-999.000,-999.000
      74AB29_1,    I5,    63,  1,     21,    21.,2,19871203,1241,-30.0067,  80.0017, 3535,    304.2,  12.5564,  35.1430,2,  35.1541,2,    229.3,2, 12.5153,    234.1,2,     2.71,2,     8.60,2,     0.00,2,     0.69,2, -999.000,5, -999.000,5, -999.000,5,-999.0000,5,  -999.00,9,-999.000,9,-999.0000,-999.000,-999.000,-999.000
      74AB29_1,    I5,    63,  1,     20,    20.,2,19871203,1241,-30.0067,  80.0017, 3535,    402.8,  11.6645,  35.0050,2,  35.0130,2,    237.1,2, 11.6124,    237.6,2,     3.36,2,    10.75,2,     0.00,2,     0.83,2, -999.000,5, -999.000,5, -999.000,5,-999.0000,5,  -999.00,9,-999.000,9,-999.0000,-999.000,-999.000,-999.000
      74AB29_1,    I5,    63,  1,     19,    19.,2,19871203,1241,-30.0067,  80.0017, 3535,    500.9,  10.7591,  34.8860,2,  34.8851,2,    242.3,2, 10.6974,    239.4,2,     3.61,2,    12.70,2,     0.00,2,     0.95,2, -999.000,5, -999.000,5, -999.000,5,-999.0000,5,  -999.00,9,-999.000,9,-999.0000,-999.000,-999.000,-999.000
      74AB29_1,    I5,    63,  1,     18,    18.,2,19871203,1241,-30.0067,  80.0017, 3535,    701.2,   9.2277,  34.6820,2,  34.6867,2,    234.4,2,  9.1485,    233.3,2,     5.43,2,    17.20,2,     0.00,2,     1.21,2, -999.000,5, -999.000,5, -999.000,5,-999.0000,5,  -999.00,9,-999.000,9,-999.0000,-999.000,-999.000,-999.000
      74AB29_1,    I5,    63,  1,     17,    17.,2,19871203,1241,-30.0067,  80.0017, 3535,    803.1,   8.2343,  34.5880,2,  34.5897,2,    214.8,2,  8.1490,    212.9,2,    10.44,2,    21.80,2,     0.00,2,     1.52,2, -999.000,5, -999.000,5, -999.000,5,-999.0000,5,  -999.00,9,-999.000,9,-999.0000,-999.000,-999.000,-999.000
      74AB29_1,    I5,    63,  1,     16,    16.,2,19871203,1241,-30.0067,  80.0017, 3535,    899.4,   6.8569,  34.4840,2,  34.4889,2,    201.3,2,  6.7701,    201.2,2,    18.63,2,    26.00,2,     0.00,2,     1.81,2, -999.000,5, -999.000,5, -999.000,5,-999.0000,5,  -999.00,9,-999.000,9,-999.0000,-999.000,-999.000,-999.000
      74AB29_1,    I5,    63,  1,     15,    15.,2,19871203,1241,-30.0067,  80.0017, 3535,   1098.8,   4.4127,  34.4100,2,  34.4202,2,    185.6,2,  4.3254,    184.7,2,    43.91,2,    31.97,2,     0.00,2,     2.30,2, -999.000,5, -999.000,5, -999.000,5,-999.0000,5,  -999.00,9,-999.000,9,-999.0000,-999.000,-999.000,-999.000
      74AB29_1,    I5,    63,  1,     14,    14.,2,19871203,1241,-30.0067,  80.0017, 3535,   1301.7,   3.7368,  34.4960,2,  34.4926,2,    162.6,2,  3.6380,    159.5,2,    65.05,2,    34.21,2,     0.00,2,     2.46,2, -999.000,5, -999.000,5, -999.000,5,-999.0000,5,  -999.00,9,-999.000,9,-999.0000,-999.000,-999.000,-999.000
      74AB29_1,    I5,    63,  1,     13,    13.,2,19871203,1241,-30.0067,  80.0017, 3535,   1499.7,   3.2409,  34.5760,2,  34.5739,2,    155.6,2,  3.1303,    153.8,2,    78.03,2,    34.70,2,     0.00,2,     2.50,2, -999.000,5, -999.000,5, -999.000,5,-999.0000,5,  -999.00,9,-999.000,9,-999.0000,-999.000,-999.000,-999.000
      74AB29_1,    I5,    63,  1,     12,    12.,2,19871203,1241,-30.0067,  80.0017, 3535,   1701.1,   2.9454,  34.6460,2,  34.6480,2,    156.5,2,  2.8210,    153.8,2,    88.64,2,    34.41,2,     0.00,2,     2.48,2, -999.000,5, -999.000,5, -999.000,5,-999.0000,5,  -999.00,9,-999.000,9,-999.0000,-999.000,-999.000,-999.000
      74AB29_1,    I5,    63,  1,     11,    11.,2,19871203,1241,-30.0067,  80.0017, 3535,   1898.9,   2.6975,  34.6880,2,  34.6877,2,    159.1,2,  2.5592,    158.6,2,    95.48,2,    34.01,2,     0.00,2,     2.45,2, -999.000,5, -999.000,5, -999.000,5,-999.0000,5,  -999.00,9,-999.000,9,-999.0000,-999.000,-999.000,-999.000
      74AB29_1,    I5,    63,  1,     10,    10.,2,19871203,1241,-30.0067,  80.0017, 3535,   2100.5,   2.4035,  34.7100,2,  34.7099,2,    166.9,2,  2.2519,    168.1,2,    98.95,2,    33.33,2,     0.00,2,     2.38,2, -999.000,5, -999.000,5, -999.000,5,-999.0000,5,  -999.00,9,-999.000,9,-999.0000,-999.000,-999.000,-999.000
      74AB29_1,    I5,    63,  1,      9,     9.,2,19871203,1241,-30.0067,  80.0017, 3535,   2303.8,   2.1881,  34.7210,2,  34.7298,2,    177.3,2,  2.0219,    177.3,2,    98.24,2,    32.55,2,     0.00,2,     2.33,2, -999.000,5, -999.000,5, -999.000,5,-999.0000,5,  -999.00,9,-999.000,9,-999.0000,-999.000,-999.000,-999.000
      74AB29_1,    I5,    63,  1,      8,     8.,2,19871203,1241,-30.0067,  80.0017, 3535,   2504.4,   2.0151,  34.7380,2,  34.7376,2,    189.5,2,  1.8337,    191.2,2,    92.94,2,    31.28,2,     0.00,2,     2.22,2, -999.000,5, -999.000,5, -999.000,5,-999.0000,5,  -999.00,9,-999.000,9,-999.0000,-999.000,-999.000,-999.000
      74AB29_1,    I5,    63,  1,      7,     7.,2,19871203,1241,-30.0067,  80.0017, 3535,   2700.8,   1.8126,  34.7420,2,  34.7408,2,    194.2,2,  1.6170,    195.1,2,    98.21,2,    31.28,2,     0.00,2,     2.21,2, -999.000,5, -999.000,5, -999.000,5,-999.0000,5,  -999.00,9,-999.000,9,-999.0000,-999.000,-999.000,-999.000
      74AB29_1,    I5,    63,  1,      6,     6.,2,19871203,1241,-30.0067,  80.0017, 3535,   2904.3,   1.6606,  34.7390,2,  34.7392,2,    196.4,2,  1.4491,    197.7,2,   102.87,2,    31.37,2,     0.00,2,     2.23,2, -999.000,5, -999.000,5, -999.000,5,-999.0000,5,  -999.00,9,-999.000,9,-999.0000,-999.000,-999.000,-999.000
      74AB29_1,    I5,    63,  1,      5,     5.,2,19871203,1241,-30.0067,  80.0017, 3535,   3101.9,   1.5067,  34.7340,2,  34.7353,2,    197.3,2,  1.2796,   -999.0,5,   108.74,2,    31.57,2,     0.00,2,     2.24,2, -999.000,5, -999.000,5, -999.000,5,-999.0000,5,  -999.00,9,-999.000,9,-999.0000,-999.000,-999.000,-999.000
      74AB29_1,    I5,    63,  1,      4,     4.,2,19871203,1241,-30.0067,  80.0017, 3535,   3304.9,   1.4247,  34.7310,2,  34.7296,2,    199.0,2,  1.1797,    199.9,2,   111.23,2,    31.76,2,     0.00,2,     2.26,2, -999.000,5, -999.000,5, -999.000,5,-999.0000,5,  -999.00,9,-999.000,9,-999.0000,-999.000,-999.000,-999.000
      74AB29_1,    I5,    63,  1,      3,     3.,2,19871203,1241,-30.0067,  80.0017, 3535,   3405.3,   1.4007,  34.7300,2,-999.0000,5,    199.4,2,  1.3887,    199.4,2,   112.52,2,    31.96,2,     0.00,2,     2.28,2, -999.000,5, -999.000,5, -999.000,5,-999.0000,5,  -999.00,9,-999.000,9,-999.0000,-999.000,-999.000,-999.000
      74AB29_1,    I5,    63,  1,      2,     2.,2,19871203,1241,-30.0067,  80.0017, 3535,   3511.5,   1.3882,  34.7290,2,  34.7258,2,    199.4,2,  1.1234,    199.9,2,   113.40,2,    31.96,2,     0.00,2,     2.27,2, -999.000,5, -999.000,5, -999.000,5,-999.0000,5,  -999.00,9,-999.000,9,-999.0000,-999.000,-999.000,-999.000
      74AB29_1,    I5,    63,  1,      1,     1.,2,19871203,1241,-30.0067,  80.0017, 3535,   3568.4,   1.3827,  34.7280,2,  34.7286,2,    199.4,2,  1.1122,    198.6,2,   114.08,2,    32.06,2,     0.00,2,     2.27,2, -999.000,5, -999.000,5, -999.000,5,-999.0000,5,  -999.00,9,-999.000,9,-999.0000,-999.000,-999.000,-999.000