BOTTLE,20060509WHPSIOSA
EXPOCODE,SECT_ID,STNNBR,CASTNO,SAMPNO,BTLNBR,BTLNBR_FLAG_W,DATE,TIME,LATITUDE,LONGITUDE,DEPTH,CTDPRS,CTDTMP,CTDSAL,CTDSAL_FLAG_W,SALNTY,SALNTY_FLAG_W,CTDOXY,CTDOXY_FLAG_W,THETA,OXYGEN,OXYGEN_FLAG_W,SILCAT,SILCAT_FLAG_W,NITRAT,NITRAT_FLAG_W,NITRIT,NITRIT_FLAG_W,PHSPHT,PHSPHT_FLAG_W,CFC-11,CFC-11_FLAG_W,CFC-12,CFC-12_FLAG_W,TRITUM,TRITUM_FLAG_W,HELIUM,HELIUM_FLAG_W,DELHE3,DELHE3_FLAG_W,NEON,NEON_FLAG_W,HELIER,TRITER,NEONER,DELHER
,,,,,,,,,,,,DBAR,IPTS-68,PSS-78,,PSS-78,,UMOL/KG,,IPTS-68,UMOL/KG,,UMOL/KG,,UMOL/KG,,UMOL/KG,,UMOL/KG,,PMOL/KG,,PMOL/KG,,TU,,UMOL/KG,,PERCNT,,NMOL/KG,,NMOL/KG,TU,NMOL/KG,PERCNT
      74AB29_1,    I5,    70,  1,     14,    14.,2,19871206,0540,-29.6633,  87.8350, 1350,     14.6,  20.7489,  35.8770,2,  35.8983,2,    238.7,2, 20.7461,    228.8,2,     2.78,2,     0.20,2,     0.00,2,     0.16,2, -999.000,5, -999.000,5, -999.000,5,-999.0000,5,  -999.00,9,-999.000,9,-999.0000,-999.000,-999.000,-999.000
      74AB29_1,    I5,    70,  1,     13,    13.,2,19871206,0540,-29.6633,  87.8350, 1350,    103.4,  17.7028,  35.7840,2,  35.7989,2,    239.0,2, 17.6852,    238.3,2,     2.30,2,     0.20,2,     0.00,2,     0.21,2, -999.000,5, -999.000,5, -999.000,5,-999.0000,5,  -999.00,9,-999.000,9,-999.0000,-999.000,-999.000,-999.000
      74AB29_1,    I5,    70,  1,     12,    12.,2,19871206,0540,-29.6633,  87.8350, 1350,    203.2,  14.2894,  35.3660,2,  35.4037,2,    229.7,2, 14.2595,    228.0,2,     2.13,2,     5.08,2,     0.00,2,     0.50,2, -999.000,5, -999.000,5, -999.000,5,-999.0000,5,  -999.00,9,-999.000,9,-999.0000,-999.000,-999.000,-999.000
      74AB29_1,    I5,    70,  1,     11,    11.,2,19871206,0540,-29.6633,  87.8350, 1350,    302.3,  12.5749,  35.1000,2,  35.1490,2,    237.5,2, 12.5340,    234.1,2,     3.62,2,     8.79,2,     0.00,2,     0.71,2, -999.000,5, -999.000,5, -999.000,5,-999.0000,5,  -999.00,9,-999.000,9,-999.0000,-999.000,-999.000,-999.000
      74AB29_1,    I5,    70,  1,     10,    10.,2,19871206,0540,-29.6633,  87.8350, 1350,    399.4,  11.4995,  34.9810,2,  34.9807,2,    237.9,2, 11.4484,    242.0,2,     3.78,2,    11.04,2,     0.00,2,     0.85,2, -999.000,5, -999.000,5, -999.000,5,-999.0000,5,  -999.00,9,-999.000,9,-999.0000,-999.000,-999.000,-999.000
      74AB29_1,    I5,    70,  1,      9,     9.,2,19871206,0540,-29.6633,  87.8350, 1350,    501.8,  10.7551,  34.8910,2,  34.8821,2,    244.9,2, 10.6933,    240.7,2,     4.27,2,    12.80,2,     0.00,2,     0.95,2, -999.000,5, -999.000,5, -999.000,5,-999.0000,5,  -999.00,9,-999.000,9,-999.0000,-999.000,-999.000,-999.000
      74AB29_1,    I5,    70,  1,      8,     8.,2,19871206,0540,-29.6633,  87.8350, 1350,    600.4,   9.9976,  34.7950,2,  34.7779,2,    241.0,2,  9.9267,    238.1,2,     5.26,2,    15.15,2,     0.00,2,     1.08,2, -999.000,5, -999.000,5, -999.000,5,-999.0000,5,  -999.00,9,-999.000,9,-999.0000,-999.000,-999.000,-999.000
      74AB29_1,    I5,    70,  1,      7,     7.,2,19871206,0540,-29.6633,  87.8350, 1350,    698.6,   9.2442,  34.7080,2,  34.6865,2,    236.6,2,  9.1652,    231.6,2,     5.91,2,    17.69,2,     0.00,2,     1.24,2, -999.000,5, -999.000,5, -999.000,5,-999.0000,5,  -999.00,9,-999.000,9,-999.0000,-999.000,-999.000,-999.000
      74AB29_1,    I5,    70,  1,      6,     6.,2,19871206,0540,-29.6633,  87.8350, 1350,    798.7,   8.1883,  34.6060,2,  34.5902,2,    218.7,2,  8.1037,    213.4,2,    11.17,2,    22.29,2,     0.00,2,     1.51,2, -999.000,5, -999.000,5, -999.000,5,-999.0000,5,  -999.00,9,-999.000,9,-999.0000,-999.000,-999.000,-999.000
      74AB29_1,    I5,    70,  1,      5,     5.,2,19871206,0540,-29.6633,  87.8350, 1350,    899.9,   6.3025,  34.4620,2,  34.4573,2,    199.6,2,  6.2194,    197.3,2,    23.34,2,    28.06,2,     0.00,2,     1.91,2, -999.000,5, -999.000,5, -999.000,5,-999.0000,5,  -999.00,9,-999.000,9,-999.0000,-999.000,-999.000,-999.000
      74AB29_1,    I5,    70,  1,      4,     4.,2,19871206,0540,-29.6633,  87.8350, 1350,    997.7,   5.0766,  34.4240,2,  34.4163,2,    184.8,2,  4.9930,    186.4,2,    35.85,2,    31.28,2,     0.00,2,     2.15,2, -999.000,5, -999.000,5, -999.000,5,-999.0000,5,  -999.00,9,-999.000,9,-999.0000,-999.000,-999.000,-999.000
      74AB29_1,    I5,    70,  1,      3,     3.,2,19871206,0540,-29.6633,  87.8350, 1350,   1098.0,   4.2652,  34.4150,2,  34.4141,2,    177.8,2,  4.1792,    180.4,2,    46.89,2,    33.34,2,     0.00,2,     2.30,2, -999.000,5, -999.000,5, -999.000,5,-999.0000,5,  -999.00,9,-999.000,9,-999.0000,-999.000,-999.000,-999.000
      74AB29_1,    I5,    70,  1,      2,     2.,2,19871206,0540,-29.6633,  87.8350, 1350,   1201.3,   3.8163,  34.4750,2,-999.0000,5,    165.6,2,  3.8121,    164.3,2,    61.37,2,    34.90,2,     0.00,2,     2.41,2, -999.000,5, -999.000,5, -999.000,5,-999.0000,5,  -999.00,9,-999.000,9,-999.0000,-999.000,-999.000,-999.000
      74AB29_1,    I5,    70,  1,      1,     1.,2,19871206,0540,-29.6633,  87.8350, 1350,   1352.5,   3.4059,  34.5390,2,  34.5435,2,    155.6,2,  3.3060,    155.1,2,    74.05,2,    35.39,2,     0.00,2,     2.45,2, -999.000,5, -999.000,5, -999.000,5,-999.0000,5,  -999.00,9,-999.000,9,-999.0000,-999.000,-999.000,-999.000
      74AB29_1,    I5,    71,  1,     16,    16.,2,19871206,1030,-29.8300,  88.5800, 1844,      2.9,  21.4189,  34.6820,2,  35.9206,2,    159.5,2, 21.4183,    227.5,2,     2.44,2,     0.00,2,     0.00,2,     0.13,2, -999.000,5, -999.000,5, -999.000,5,-999.0000,5,  -999.00,9,-999.000,9,-999.0000,-999.000,-999.000,-999.000
      74AB29_1,    I5,    71,  1,     15,    15.,2,19871206,1030,-29.8300,  88.5800, 1844,    101.4,  17.0993,  35.7140,2,  35.7266,2,    246.4,2, 17.0825,    240.5,2,     1.46,2,     0.10,2,     0.00,2,     0.21,2, -999.000,5, -999.000,5, -999.000,5,-999.0000,5,  -999.00,9,-999.000,9,-999.0000,-999.000,-999.000,-999.000
      74AB29_1,    I5,    71,  1,     14,    14.,2,19871206,1030,-29.8300,  88.5800, 1844,    202.5,  13.9359,  35.3710,2,  35.3679,2,    230.6,2, 13.9066,    227.1,2,     2.11,2,     5.86,2,     0.00,2,     0.54,2, -999.000,5, -999.000,5, -999.000,5,-999.0000,5,  -999.00,9,-999.000,9,-999.0000,-999.000,-999.000,-999.000
      74AB29_1,    I5,    71,  1,     13,    13.,2,19871206,1030,-29.8300,  88.5800, 1844,    299.7,  12.4270,  35.1120,2,  35.1423,2,    235.3,2, 12.3868,    232.4,2,     2.93,2,     9.09,2,     0.00,2,     0.72,2, -999.000,5, -999.000,5, -999.000,5,-999.0000,5,  -999.00,9,-999.000,9,-999.0000,-999.000,-999.000,-999.000
      74AB29_1,    I5,    71,  1,     12,    12.,2,19871206,1030,-29.8300,  88.5800, 1844,    401.6,  11.3150,  34.9630,2,  34.9705,2,    238.4,2, 11.2641,    237.2,2,     3.60,2,    11.53,2,     0.00,2,     0.85,2, -999.000,5, -999.000,5, -999.000,5,-999.0000,5,  -999.00,9,-999.000,9,-999.0000,-999.000,-999.000,-999.000
      74AB29_1,    I5,    71,  1,     11,    11.,2,19871206,1030,-29.8300,  88.5800, 1844,    499.9,  10.4141,  34.8380,2,  34.8401,2,    241.4,2, 10.3538,    238.1,2,     4.09,2,    13.68,2,     0.00,2,     0.99,2, -999.000,5, -999.000,5, -999.000,5,-999.0000,5,  -999.00,9,-999.000,9,-999.0000,-999.000,-999.000,-999.000
      74AB29_1,    I5,    71,  1,     10,    10.,2,19871206,1030,-29.8300,  88.5800, 1844,    600.3,   9.6961,  34.7320,2,  34.7441,2,    238.3,2,  9.6265,    235.9,2,     4.74,2,    15.93,2,     0.00,2,     1.12,2, -999.000,5, -999.000,5, -999.000,5,-999.0000,5,  -999.00,9,-999.000,9,-999.0000,-999.000,-999.000,-999.000
      74AB29_1,    I5,    71,  1,      9,     9.,2,19871206,1030,-29.8300,  88.5800, 1844,    700.7,   8.9937,  34.6510,2,  34.6563,2,    229.2,2,  8.9157,    226.4,2,     6.55,2,    18.96,2,     0.00,2,     1.31,2, -999.000,5, -999.000,5, -999.000,5,-999.0000,5,  -999.00,9,-999.000,9,-999.0000,-999.000,-999.000,-999.000
      74AB29_1,    I5,    71,  1,      8,     8.,2,19871206,1030,-29.8300,  88.5800, 1844,    798.9,   7.7673,  34.5410,2,  34.5606,2,    209.2,2,  7.6852,    206.4,2,    13.13,2,    24.14,2,     0.00,2,     1.63,2, -999.000,5, -999.000,5, -999.000,5,-999.0000,5,  -999.00,9,-999.000,9,-999.0000,-999.000,-999.000,-999.000
      74AB29_1,    I5,    71,  1,      7,     7.,2,19871206,1030,-29.8300,  88.5800, 1844,    899.7,   6.5605,  34.4670,2,  34.4681,2,    200.0,2,  6.4756,    198.2,2,    20.38,2,    27.67,2,     0.00,2,     1.87,2, -999.000,5, -999.000,5, -999.000,5,-999.0000,5,  -999.00,9,-999.000,9,-999.0000,-999.000,-999.000,-999.000
      74AB29_1,    I5,    71,  1,      6,     6.,2,19871206,1030,-29.8300,  88.5800, 1844,    999.3,   5.2216,  34.4030,2,  34.4070,2,    192.6,2,  5.1368,    192.5,2,    31.24,2,    31.09,2,     0.00,2,     2.11,2, -999.000,5, -999.000,5, -999.000,5,-999.0000,5,  -999.00,9,-999.000,9,-999.0000,-999.000,-999.000,-999.000
      74AB29_1,    I5,    71,  1,      5,     5.,2,19871206,1030,-29.8300,  88.5800, 1844,   1198.6,   3.8473,  34.4640,2,  34.4622,2,    167.8,2,  3.7563,    166.4,2,    58.92,2,    35.29,2,     0.00,2,     2.43,2, -999.000,5, -999.000,5, -999.000,5,-999.0000,5,  -999.00,9,-999.000,9,-999.0000,-999.000,-999.000,-999.000
      74AB29_1,    I5,    71,  1,      4,     4.,2,19871206,1030,-29.8300,  88.5800, 1844,   1398.9,   3.2689,  34.5530,2,  34.5512,2,    156.0,2,  3.1666,    154.7,2,    75.03,2,    36.07,2,     0.00,2,     2.51,2, -999.000,5, -999.000,5, -999.000,5,-999.0000,5,  -999.00,9,-999.000,9,-999.0000,-999.000,-999.000,-999.000
      74AB29_1,    I5,    71,  1,      3,     3.,2,19871206,1030,-29.8300,  88.5800, 1844,   1600.5,   2.8979,  34.6210,2,  34.6223,2,    157.3,2,  2.7827,    156.4,2,    84.08,2,    35.48,2,     0.00,2,     2.49,2, -999.000,5, -999.000,5, -999.000,5,-999.0000,5,  -999.00,9,-999.000,9,-999.0000,-999.000,-999.000,-999.000
      74AB29_1,    I5,    71,  1,      2,     2.,2,19871206,1030,-29.8300,  88.5800, 1844,   1800.6,   2.6640,  34.6710,2,  34.6710,2,    158.6,2,  2.5347,    157.7,2,    92.46,2,    34.89,2,     0.00,2,     2.45,2, -999.000,5, -999.000,5, -999.000,5,-999.0000,5,  -999.00,9,-999.000,9,-999.0000,-999.000,-999.000,-999.000
      74AB29_1,    I5,    71,  1,      1,     1.,2,19871206,1030,-29.8300,  88.5800, 1844,   1840.6,   2.5920,  34.6820,2,-999.0000,5,    159.1,2,  2.5948,    159.5,2,    94.42,2,    34.50,2,     0.00,2,     2.45,2, -999.000,5, -999.000,5, -999.000,5,-999.0000,5,  -999.00,9,-999.000,9,-999.0000,-999.000,-999.000,-999.000
      74AB29_1,    I5,    72,  1,     18,    19.,2,19871206,1649,-30.0783,  89.4983, 2282,     12.8,  19.1673,  35.8050,2,  35.8145,2,    241.2,2, 19.1650,    236.6,2,     1.39,2,    -0.10,2,     0.00,2,     0.19,2, -999.000,5, -999.000,5, -999.000,5,-999.0000,5,  -999.00,9,-999.000,9,-999.0000,-999.000,-999.000,-999.000
      74AB29_1,    I5,    72,  1,     17,    18.,2,19871206,1649,-30.0783,  89.4983, 2282,    104.2,  15.8913,  35.4420,2,  35.5580,2,    246.8,2, 15.8749,    247.9,2,     1.18,2,     0.00,2,     0.00,2,     0.25,2, -999.000,5, -999.000,5, -999.000,5,-999.0000,5,  -999.00,9,-999.000,9,-999.0000,-999.000,-999.000,-999.000
      74AB29_1,    I5,    72,  1,     16,    17.,2,19871206,1649,-30.0783,  89.4983, 2282,    203.3,  13.2554,  35.1720,2,  35.2560,2,    237.5,2, 13.2270,    232.4,2,     2.26,2,     6.94,2,     0.00,2,     0.62,2, -999.000,5, -999.000,5, -999.000,5,-999.0000,5,  -999.00,9,-999.000,9,-999.0000,-999.000,-999.000,-999.000
      74AB29_1,    I5,    72,  1,     15,    16.,2,19871206,1649,-30.0783,  89.4983, 2282,    301.8,  11.7805,  35.0560,2,  35.0313,2,    236.2,2, 11.7414,    239.8,2,     3.24,2,    10.06,2,     0.00,2,     0.77,2, -999.000,5, -999.000,5, -999.000,5,-999.0000,5,  -999.00,9,-999.000,9,-999.0000,-999.000,-999.000,-999.000
      74AB29_1,    I5,    72,  1,     14,    15.,2,19871206,1649,-30.0783,  89.4983, 2282,    400.7,  10.8441,  34.9030,2,  34.8884,2,    242.7,2, 10.7947,    242.8,2,     3.83,2,    12.02,2,     0.00,2,     0.89,2, -999.000,5, -999.000,5, -999.000,5,-999.0000,5,  -999.00,9,-999.000,9,-999.0000,-999.000,-999.000,-999.000
      74AB29_1,    I5,    72,  1,     13,    14.,2,19871206,1649,-30.0783,  89.4983, 2282,    501.1,  10.1161,  34.8030,2,  34.7934,2,    242.3,2, 10.0568,    238.5,2,     4.52,2,    14.17,2,     0.00,2,     1.01,2, -999.000,5, -999.000,5, -999.000,5,-999.0000,5,  -999.00,9,-999.000,9,-999.0000,-999.000,-999.000,-999.000
      74AB29_1,    I5,    72,  1,     12,    13.,2,19871206,1649,-30.0783,  89.4983, 2282,    599.7,   9.4432,  34.7080,2,  34.7123,2,    237.9,2,  9.3748,    235.5,2,     5.21,2,    16.22,2,     0.00,2,     1.14,2, -999.000,5, -999.000,5, -999.000,5,-999.0000,5,  -999.00,9,-999.000,9,-999.0000,-999.000,-999.000,-999.000
      74AB29_1,    I5,    72,  1,     11,    12.,2,19871206,1649,-30.0783,  89.4983, 2282,    699.6,   8.6272,  34.6130,2,  34.6191,2,    221.4,2,  8.5513,    219.4,2,     8.35,2,    20.04,2,     0.00,2,     1.37,2, -999.000,5, -999.000,5, -999.000,5,-999.0000,5,  -999.00,9,-999.000,9,-999.0000,-999.000,-999.000,-999.000
      74AB29_1,    I5,    72,  1,     10,    11.,2,19871206,1649,-30.0783,  89.4983, 2282,    799.3,   7.1544,  34.5020,2,  34.5068,2,    203.5,2,  7.0760,    202.9,2,    16.40,2,    24.93,2,     0.00,2,     1.69,2, -999.000,5, -999.000,5, -999.000,5,-999.0000,5,  -999.00,9,-999.000,9,-999.0000,-999.000,-999.000,-999.000
      74AB29_1,    I5,    72,  1,      9,    10.,2,19871206,1649,-30.0783,  89.4983, 2282,    900.6,   5.7241,  34.4220,2,  34.4233,2,    196.5,2,  5.6449,    196.9,2,    25.94,2,    28.64,2,     0.00,2,     1.96,2, -999.000,5, -999.000,5, -999.000,5,-999.0000,5,  -999.00,9,-999.000,9,-999.0000,-999.000,-999.000,-999.000
      74AB29_1,    I5,    72,  1,      8,     9.,2,19871206,1649,-30.0783,  89.4983, 2282,   1100.4,   3.9713,  34.4450,2,  34.4424,2,    173.0,2,  3.8876,    173.0,2,    54.22,2,    33.24,2,     0.00,2,     2.32,2, -999.000,5, -999.000,5, -999.000,5,-999.0000,5,  -999.00,9,-999.000,9,-999.0000,-999.000,-999.000,-999.000
      74AB29_1,    I5,    72,  1,      7,     8.,2,19871206,1649,-30.0783,  89.4983, 2282,   1300.8,   3.3244,  34.5400,2,  34.5496,2,    156.5,2,  3.2297,    156.9,2,    73.47,2,    34.51,2,     0.00,2,     2.43,2, -999.000,5, -999.000,5, -999.000,5,-999.0000,5,  -999.00,9,-999.000,9,-999.0000,-999.000,-999.000,-999.000
      74AB29_1,    I5,    72,  1,      6,     7.,2,19871206,1649,-30.0783,  89.4983, 2282,   1500.5,   2.9674,  34.6060,2,  34.6134,2,    155.2,2,  2.8598,    156.4,2,    83.38,2,    34.31,2,     0.00,2,     2.44,2, -999.000,5, -999.000,5, -999.000,5,-999.0000,5,  -999.00,9,-999.000,9,-999.0000,-999.000,-999.000,-999.000
      74AB29_1,    I5,    72,  1,      5,     6.,2,19871206,1649,-30.0783,  89.4983, 2282,   1701.5,   2.6660,  34.6630,2,  34.6651,2,    158.2,2,  2.5451,    159.9,2,    91.04,2,    33.82,2,     0.00,2,     2.37,2, -999.000,5, -999.000,5, -999.000,5,-999.0000,5,  -999.00,9,-999.000,9,-999.0000,-999.000,-999.000,-999.000
      74AB29_1,    I5,    72,  1,      4,     5.,2,19871206,1649,-30.0783,  89.4983, 2282,   1899.9,   2.4355,  34.7000,2,  34.7024,2,    163.0,2,  2.3008,    163.4,2,    98.50,2,    33.43,2,     0.00,2,     2.36,2, -999.000,5, -999.000,5, -999.000,5,-999.0000,5,  -999.00,9,-999.000,9,-999.0000,-999.000,-999.000,-999.000
      74AB29_1,    I5,    72,  1,      3,     4.,2,19871206,1649,-30.0783,  89.4983, 2282,   2101.7,   2.1901,  34.7170,2,  34.7170,2,    168.2,2,  2.0417,    169.0,2,   104.69,2,    33.13,2,     0.00,2,     2.35,2, -999.000,5, -999.000,5, -999.000,5,-999.0000,5,  -999.00,9,-999.000,9,-999.0000,-999.000,-999.000,-999.000
      74AB29_1,    I5,    72,  1,      2,     3.,2,19871206,1649,-30.0783,  89.4983, 2282,   2201.7,   2.1201,  34.7200,2,  34.7215,2,    171.2,2,  1.9641,    169.9,2,   106.07,2,    33.13,2,     0.00,2,     2.31,2, -999.000,5, -999.000,5, -999.000,5,-999.0000,5,  -999.00,9,-999.000,9,-999.0000,-999.000,-999.000,-999.000
      74AB29_1,    I5,    72,  1,      1,     2.,2,19871206,1649,-30.0783,  89.4983, 2282,   2281.7,   2.1176,  34.7210,2,  34.7248,2,    171.6,2,  1.9546,    170.3,2,   106.26,2,    33.04,2,     0.00,2,     2.32,2, -999.000,5, -999.000,5, -999.000,5,-999.0000,5,  -999.00,9,-999.000,9,-999.0000,-999.000,-999.000,-999.000