BOTTLE,20060509WHPSIOSA
EXPOCODE,SECT_ID,STNNBR,CASTNO,SAMPNO,BTLNBR,BTLNBR_FLAG_W,DATE,TIME,LATITUDE,LONGITUDE,DEPTH,CTDPRS,CTDTMP,CTDSAL,CTDSAL_FLAG_W,SALNTY,SALNTY_FLAG_W,CTDOXY,CTDOXY_FLAG_W,THETA,OXYGEN,OXYGEN_FLAG_W,SILCAT,SILCAT_FLAG_W,NITRAT,NITRAT_FLAG_W,NITRIT,NITRIT_FLAG_W,PHSPHT,PHSPHT_FLAG_W,CFC-11,CFC-11_FLAG_W,CFC-12,CFC-12_FLAG_W,TRITUM,TRITUM_FLAG_W,HELIUM,HELIUM_FLAG_W,DELHE3,DELHE3_FLAG_W,NEON,NEON_FLAG_W,HELIER,TRITER,NEONER,DELHER
,,,,,,,,,,,,DBAR,IPTS-68,PSS-78,,PSS-78,,UMOL/KG,,IPTS-68,UMOL/KG,,UMOL/KG,,UMOL/KG,,UMOL/KG,,UMOL/KG,,PMOL/KG,,PMOL/KG,,TU,,UMOL/KG,,PERCNT,,NMOL/KG,,NMOL/KG,TU,NMOL/KG,PERCNT
      74AB29_1,    I5,   100,  1,     17,    18.,2,19871214,1647,-34.1633, 110.9967, 2123,     16.2,  17.0478,  35.7590,2,  35.7090,2,    242.4,2, 17.0451,    244.4,2,     1.34,2,     0.00,2,     0.00,2,  -999.00,5, -999.000,5, -999.000,5, -999.000,5,-999.0000,5,  -999.00,9,-999.000,9,-999.0000,-999.000,-999.000,-999.000
      74AB29_1,    I5,   100,  1,     16,    17.,2,19871214,1647,-34.1633, 110.9967, 2123,    103.8,  13.7644,  35.4510,2,  35.4184,2,    241.9,2, 13.7496,    248.8,2,     1.17,2,     2.54,2,     0.00,2,  -999.00,5, -999.000,5, -999.000,5, -999.000,5,-999.0000,5,  -999.00,9,-999.000,9,-999.0000,-999.000,-999.000,-999.000
      74AB29_1,    I5,   100,  1,     15,    16.,2,19871214,1647,-34.1633, 110.9967, 2123,    201.7,  12.4355,  35.1820,2,  35.1829,2,    244.0,2, 12.4085,    248.9,2,     1.67,2,     5.76,2,     0.00,2,  -999.00,5, -999.000,5, -999.000,5, -999.000,5,-999.0000,5,  -999.00,9,-999.000,9,-999.0000,-999.000,-999.000,-999.000
      74AB29_1,    I5,   100,  1,     14,    15.,2,19871214,1647,-34.1633, 110.9967, 2123,    300.0,  10.6031,  34.8500,2,  34.8507,2,    240.5,2, 10.5669,    248.1,2,     2.65,2,    11.04,2,     0.00,2,  -999.00,5, -999.000,5, -999.000,5, -999.000,5,-999.0000,5,  -999.00,9,-999.000,9,-999.0000,-999.000,-999.000,-999.000
      74AB29_1,    I5,   100,  1,     13,    14.,2,19871214,1647,-34.1633, 110.9967, 2123,    401.7,   9.7706,  34.7170,2,  34.7201,2,    244.0,2,  9.7243,    245.9,2,     3.48,2,    13.88,2,     0.00,2,  -999.00,5, -999.000,5, -999.000,5, -999.000,5,-999.0000,5,  -999.00,9,-999.000,9,-999.0000,-999.000,-999.000,-999.000
      74AB29_1,    I5,   100,  1,     12,    13.,2,19871214,1647,-34.1633, 110.9967, 2123,    499.4,   9.3347,  34.6660,2,  34.6781,2,    239.2,2,  9.2785,    238.1,2,     4.47,2,    16.13,2,     0.00,2,  -999.00,5, -999.000,5, -999.000,5, -999.000,5,-999.0000,5,  -999.00,9,-999.000,9,-999.0000,-999.000,-999.000,-999.000
      74AB29_1,    I5,   100,  1,     11,    12.,2,19871214,1647,-34.1633, 110.9967, 2123,    599.1,   8.7172,  34.5950,2,  34.6044,2,    236.2,2,  8.6522,    237.7,2,     5.46,2,    18.08,2,     0.00,2,  -999.00,5, -999.000,5, -999.000,5, -999.000,5,-999.0000,5,  -999.00,9,-999.000,9,-999.0000,-999.000,-999.000,-999.000
      74AB29_1,    I5,   100,  1,     10,    11.,2,19871214,1647,-34.1633, 110.9967, 2123,    699.6,   7.8293,  34.5250,2,  34.5250,2,    209.6,2,  7.7576,    213.4,2,    10.71,2,    22.48,2,     0.00,2,  -999.00,5, -999.000,5, -999.000,5, -999.000,5,-999.0000,5,  -999.00,9,-999.000,9,-999.0000,-999.000,-999.000,-999.000
      74AB29_1,    I5,   100,  1,      9,    10.,2,19871214,1647,-34.1633, 110.9967, 2123,    802.1,   6.2850,  34.4310,2,  34.4361,2,    198.3,2,  6.2116,    200.3,2,    20.09,2,    26.88,2,     0.00,2,  -999.00,5, -999.000,5, -999.000,5, -999.000,5,-999.0000,5,  -999.00,9,-999.000,9,-999.0000,-999.000,-999.000,-999.000
      74AB29_1,    I5,   100,  1,      8,     9.,2,19871214,1647,-34.1633, 110.9967, 2123,    900.0,   5.0011,  34.3800,2,  34.3780,2,    197.8,2,  4.9269,    200.4,2,    29.13,2,    29.52,2,     0.00,2,  -999.00,5, -999.000,5, -999.000,5, -999.000,5,-999.0000,5,  -999.00,9,-999.000,9,-999.0000,-999.000,-999.000,-999.000
      74AB29_1,    I5,   100,  1,      7,     8.,2,19871214,1647,-34.1633, 110.9967, 2123,    999.8,   4.0713,  34.3790,2,  34.3821,2,    192.6,2,  3.9953,    194.3,2,    40.81,2,    31.48,2,     0.00,2,  -999.00,5, -999.000,5, -999.000,5, -999.000,5,-999.0000,5,  -999.00,9,-999.000,9,-999.0000,-999.000,-999.000,-999.000
      74AB29_1,    I5,   100,  1,      6,     7.,2,19871214,1647,-34.1633, 110.9967, 2123,   1096.6,   3.6978,  34.4250,2,  34.4320,2,    180.4,2,  3.6167,    180.8,2,    52.15,2,    33.04,2,     0.00,2,  -999.00,5, -999.000,5, -999.000,5, -999.000,5,-999.0000,5,  -999.00,9,-999.000,9,-999.0000,-999.000,-999.000,-999.000
      74AB29_1,    I5,   100,  1,      5,     6.,2,19871214,1647,-34.1633, 110.9967, 2123,   1196.0,   3.4524,  34.4720,2,  34.4705,2,    168.7,2,  3.3652,    168.6,2,    61.87,2,    33.73,2,     0.00,2,  -999.00,5, -999.000,5, -999.000,5, -999.000,5,-999.0000,5,  -999.00,9,-999.000,9,-999.0000,-999.000,-999.000,-999.000
      74AB29_1,    I5,   100,  1,      4,     5.,2,19871214,1647,-34.1633, 110.9967, 2123,   1399.5,   3.0704,  34.5580,2,  34.5547,2,    158.6,2,  2.9701,    159.0,2,    74.71,2,    34.21,2,     0.00,2,  -999.00,5, -999.000,5, -999.000,5, -999.000,5,-999.0000,5,  -999.00,9,-999.000,9,-999.0000,-999.000,-999.000,-999.000
      74AB29_1,    I5,   100,  1,      3,     3.,2,19871214,1647,-34.1633, 110.9967, 2123,   1799.8,   2.5720,  34.6690,2,  34.6704,2,    163.4,2,  2.4440,    163.4,2,    89.69,2,    33.33,2,     0.00,2,  -999.00,5, -999.000,5, -999.000,5, -999.000,5,-999.0000,5,  -999.00,9,-999.000,9,-999.0000,-999.000,-999.000,-999.000
      74AB29_1,    I5,   100,  1,      2,     2.,2,19871214,1647,-34.1633, 110.9967, 2123,   1998.7,   2.3700,  34.7030,2,  34.7064,2,    165.1,2,  2.2278,    165.5,2,    97.10,2,    33.04,2,     0.00,2,  -999.00,5, -999.000,5, -999.000,5, -999.000,5,-999.0000,5,  -999.00,9,-999.000,9,-999.0000,-999.000,-999.000,-999.000
      74AB29_1,    I5,   100,  1,      1,     1.,2,19871214,1647,-34.1633, 110.9967, 2123,   2122.7,   2.2680,  34.7110,2,  34.7081,2,    166.9,2,  2.1166,    166.4,2,    97.46,2,    33.13,2,     0.00,2,  -999.00,5, -999.000,5, -999.000,5, -999.000,5,-999.0000,5,  -999.00,9,-999.000,9,-999.0000,-999.000,-999.000,-999.000
      74AB29_1,    I5,   101,  1,     18,    19.,2,19871215,0012,-34.1617, 112.1617, 2627,      2.4,  17.7933,  34.7310,2,  35.8390,2,    185.4,2, 17.7929,    239.2,2,     1.69,2,     0.10,2,     0.00,2,     0.16,2,    2.119,2,    1.151,2, -999.000,5,-999.0000,5,  -999.00,9,-999.000,9,-999.0000,-999.000,-999.000,-999.000
      74AB29_1,    I5,   101,  1,     17,    18.,2,19871215,0012,-34.1617, 112.1617, 2627,    102.9,  14.6934,  35.5520,2,  35.5129,2,    240.2,2, 14.6780,    241.9,2,     1.20,2,     1.76,2,     0.00,2,     0.32,2,    2.434,2,    1.286,2, -999.000,5,-999.0000,5,  -999.00,9,-999.000,9,-999.0000,-999.000,-999.000,-999.000
      74AB29_1,    I5,   101,  1,     16,    17.,2,19871215,0012,-34.1617, 112.1617, 2627,    201.9,  12.7809,  35.2640,2,  35.2022,2,    242.3,2, 12.7534,    241.0,2,     1.21,2,     5.47,2,     0.00,2,     0.54,2,    2.520,2,    1.386,2, -999.000,5,-999.0000,5,  -999.00,9,-999.000,9,-999.0000,-999.000,-999.000,-999.000
      74AB29_1,    I5,   101,  1,     15,    16.,2,19871215,0012,-34.1617, 112.1617, 2627,    299.4,  10.5231,  34.8680,2,  34.8320,2,    247.9,2, 10.4871,    245.5,2,     2.70,2,    11.83,2,     0.00,2,     0.90,2,    2.697,2,    1.438,2, -999.000,5,-999.0000,5,  -999.00,9,-999.000,9,-999.0000,-999.000,-999.000,-999.000
      74AB29_1,    I5,   101,  1,     14,    15.,2,19871215,0012,-34.1617, 112.1617, 2627,    400.6,   9.4172,  34.6970,2,  34.6908,2,    237.0,2,  9.3721,    238.5,2,     4.03,2,    16.13,2,     0.00,2,     1.15,2,    2.367,2,    1.270,2, -999.000,5,-999.0000,5,  -999.00,9,-999.000,9,-999.0000,-999.000,-999.000,-999.000
      74AB29_1,    I5,   101,  1,     13,    14.,2,19871215,0012,-34.1617, 112.1617, 2627,    501.5,   8.8552,  34.6340,2,  34.6221,2,    235.3,2,  8.8006,    236.4,2,     5.01,2,    18.18,2,     0.00,2,     1.32,2,    2.036,2,    1.112,2, -999.000,5,-999.0000,5,  -999.00,9,-999.000,9,-999.0000,-999.000,-999.000,-999.000
      74AB29_1,    I5,   101,  1,     12,    13.,2,19871215,0012,-34.1617, 112.1617, 2627,    600.9,   8.1948,  34.5490,2,  34.5537,2,    217.0,2,  8.1319,    225.1,2,     8.16,2,    21.02,2,     0.00,2,     1.49,2,    1.459,2,    0.769,2, -999.000,5,-999.0000,5,  -999.00,9,-999.000,9,-999.0000,-999.000,-999.000,-999.000
      74AB29_1,    I5,   101,  1,     11,    12.,2,19871215,0012,-34.1617, 112.1617, 2627,    699.7,   6.8704,  34.4720,2,  34.4646,2,    203.5,2,  6.8037,   -999.0,5,    17.08,2,    26.20,2,     0.00,2,     1.82,2,    0.608,2,    0.346,2, -999.000,5,-999.0000,5,  -999.00,9,-999.000,9,-999.0000,-999.000,-999.000,-999.000
      74AB29_1,    I5,   101,  1,     10,    11.,2,19871215,0012,-34.1617, 112.1617, 2627,    799.7,   5.2131,  34.3960,2,  34.3900,2,    196.5,2,  5.1465,    197.3,2,    28.14,2,    29.72,2,     0.00,2,     2.08,2,    0.377,2,    0.203,2, -999.000,5,-999.0000,5,  -999.00,9,-999.000,9,-999.0000,-999.000,-999.000,-999.000
      74AB29_1,    I5,   101,  1,      9,    10.,2,19871215,0012,-34.1617, 112.1617, 2627,    901.1,   4.1488,  34.3820,2,  34.3782,2,    193.0,2,  4.0804,    192.5,2,    40.51,2,    31.97,2,     0.00,2,     2.27,2,    0.206,2,    0.106,2, -999.000,5,-999.0000,5,  -999.00,9,-999.000,9,-999.0000,-999.000,-999.000,-999.000
      74AB29_1,    I5,   101,  1,      8,     8.,2,19871215,0012,-34.1617, 112.1617, 2627,   1098.5,   3.3304,  34.4690,2,  34.4644,2,    171.7,2,  3.2522,    172.5,2,    60.47,2,    34.02,2,     0.00,2,     2.42,2,    0.037,2, -999.000,5, -999.000,5,-999.0000,5,  -999.00,9,-999.000,9,-999.0000,-999.000,-999.000,-999.000
      74AB29_1,    I5,   101,  1,      7,     7.,2,19871215,0012,-34.1617, 112.1617, 2627,   1298.9,   2.9469,  34.5610,2,  34.5572,2,    163.0,2,  2.8561,    161.2,2,    74.49,2,    34.41,2,     0.00,2,     2.44,2,    0.016,2,    0.000,2, -999.000,5,-999.0000,5,  -999.00,9,-999.000,9,-999.0000,-999.000,-999.000,-999.000
      74AB29_1,    I5,   101,  1,      6,     6.,2,19871215,0012,-34.1617, 112.1617, 2627,   1502.0,   2.7460,  34.6280,2,  34.6203,2,    160.4,2,  2.6408,    160.3,2,    82.57,2,    34.02,2,     0.00,2,     2.43,2, -999.000,5, -999.000,5, -999.000,5,-999.0000,5,  -999.00,9,-999.000,9,-999.0000,-999.000,-999.000,-999.000
      74AB29_1,    I5,   101,  1,      5,     5.,2,19871215,0012,-34.1617, 112.1617, 2627,   1697.5,   2.5235,  34.6790,2,  34.6787,2,    163.4,2,  2.4048,    161.6,2,    91.96,2,    33.53,2,     0.00,2,     2.41,2, -999.000,5, -999.000,5, -999.000,5,-999.0000,5,  -999.00,9,-999.000,9,-999.0000,-999.000,-999.000,-999.000
      74AB29_1,    I5,   101,  1,      4,     4.,2,19871215,0012,-34.1617, 112.1617, 2627,   1898.2,   2.3325,  34.7080,2,  34.7062,2,    165.6,2,  2.1994,    165.1,2,    98.88,2,    33.23,2,     0.00,2,     2.37,2,    0.004,2,    0.000,2, -999.000,5,-999.0000,5,  -999.00,9,-999.000,9,-999.0000,-999.000,-999.000,-999.000
      74AB29_1,    I5,   101,  1,      3,     3.,2,19871215,0012,-34.1617, 112.1617, 2627,   2101.4,   2.1481,  34.7220,2,  34.7205,2,    170.3,2,  2.0004,    170.8,2,   103.00,2,    32.94,2,     0.00,2,     2.33,2, -999.000,5, -999.000,5, -999.000,5,-999.0000,5,  -999.00,9,-999.000,9,-999.0000,-999.000,-999.000,-999.000
      74AB29_1,    I5,   101,  1,      2,     2.,2,19871215,0012,-34.1617, 112.1617, 2627,   2401.1,   1.9196,  34.7300,2,  34.7303,2,    176.4,2,  1.7494,    177.7,2,   106.95,2,    32.55,2,     0.00,2,     2.30,2, -999.000,5, -999.000,5, -999.000,5,-999.0000,5,  -999.00,9,-999.000,9,-999.0000,-999.000,-999.000,-999.000
      74AB29_1,    I5,   101,  1,      1,     1.,2,19871215,0012,-34.1617, 112.1617, 2627,   2632.2,   1.6092,  34.7310,2,  34.7307,2,    185.1,2,  1.4240,    186.8,2,   111.23,2,    32.35,2,     0.00,2,     2.29,2, -999.000,5, -999.000,5, -999.000,5,-999.0000,5,  -999.00,9,-999.000,9,-999.0000,-999.000,-999.000,-999.000
      74AB29_1,    I5,   102,  1,     24,    24.,2,19871215,1201,-34.1550, 113.4900, 3023,      0.0,  18.7343,  34.7280,2,  35.8757,2,    184.6,2, 18.7343,    230.9,2,     2.33,2,     0.10,2,     0.00,2,     0.20,2,    2.098,2,    1.156,2, -999.000,5,-999.0000,5,  -999.00,9,-999.000,9,-999.0000,-999.000,-999.000,-999.000
      74AB29_1,    I5,   102,  1,     23,    23.,2,19871215,1201,-34.1550, 113.4900, 3023,    102.9,  15.9098,  35.6900,2,  35.6587,2,    240.2,2, 15.8935,    239.2,2,     1.67,2,     0.59,2,     0.00,2,     0.29,2,    2.216,2,    1.060,2, -999.000,5,-999.0000,5,  -999.00,9,-999.000,9,-999.0000,-999.000,-999.000,-999.000
      74AB29_1,    I5,   102,  1,     22,    22.,2,19871215,1201,-34.1550, 113.4900, 3023,    201.7,  13.2079,  35.2430,2,  35.2491,2,    238.8,2, 13.1798,    243.2,2,     1.17,2,     4.10,2,     0.00,2,     0.53,2,    2.593,2,    1.345,2, -999.000,5,-999.0000,5,  -999.00,9,-999.000,9,-999.0000,-999.000,-999.000,-999.000
      74AB29_1,    I5,   102,  1,     21,    21.,2,19871215,1201,-34.1550, 113.4900, 3023,    303.1,  10.8526,  34.8530,2,  34.8755,2,    236.2,2, 10.8154,    244.6,2,     2.34,2,    10.55,2,     0.00,2,     0.88,2,    2.786,2,    1.434,2, -999.000,5,-999.0000,5,  -999.00,9,-999.000,9,-999.0000,-999.000,-999.000,-999.000
      74AB29_1,    I5,   102,  1,     20,    20.,2,19871215,1201,-34.1550, 113.4900, 3023,    402.3,   9.7111,  34.7390,2,  34.7129,2,    238.8,2,  9.6649,    244.2,2,     3.83,2,    14.47,2,     0.00,2,     1.10,2,    2.678,2,    1.349,2, -999.000,5,-999.0000,5,  -999.00,9,-999.000,9,-999.0000,-999.000,-999.000,-999.000
      74AB29_1,    I5,   102,  1,     19,    19.,2,19871215,1201,-34.1550, 113.4900, 3023,    503.1,   9.0567,  34.6420,2,  34.6456,2,    235.7,2,  9.0011,    237.2,2,     5.17,2,    17.59,2,     0.00,2,     1.26,2,    2.142,2,    1.115,2, -999.000,5,-999.0000,5,  -999.00,9,-999.000,9,-999.0000,-999.000,-999.000,-999.000
      74AB29_1,    I5,   102,  1,     18,    18.,2,19871215,1201,-34.1550, 113.4900, 3023,    600.3,   8.2328,  34.5550,2,  34.5610,2,    225.3,2,  8.1698,    228.1,2,     8.16,2,    20.43,2,     0.00,2,     1.47,2,    1.603,2,    0.841,2, -999.000,5,-999.0000,5,  -999.00,9,-999.000,9,-999.0000,-999.000,-999.000,-999.000
      74AB29_1,    I5,   102,  1,     17,    17.,2,19871215,1201,-34.1550, 113.4900, 3023,    698.4,   6.8664,  34.4670,2,  34.4720,2,    201.8,2,  6.7999,    200.8,2,    17.48,2,    25.81,2,     0.00,2,     1.82,2,    0.701,2,    0.387,2, -999.000,5,-999.0000,5,  -999.00,9,-999.000,9,-999.0000,-999.000,-999.000,-999.000
      74AB29_1,    I5,   102,  1,     16,    16.,2,19871215,1201,-34.1550, 113.4900, 3023,    800.7,   5.2536,  34.4060,2,  34.4057,2,    193.0,2,  5.1866,    192.1,2,    30.63,2,    30.50,2,     0.00,2,     2.14,2,    0.267,2,    0.152,2, -999.000,5,-999.0000,5,  -999.00,9,-999.000,9,-999.0000,-999.000,-999.000,-999.000
      74AB29_1,    I5,   102,  1,     15,    15.,2,19871215,1201,-34.1550, 113.4900, 3023,    899.7,   4.3422,  34.3930,2,  34.4006,2,    186.5,2,  4.2726,    188.6,2,    41.26,2,    31.77,2,     0.00,2,     2.27,2,    0.208,2,    0.108,2, -999.000,5,-999.0000,5,  -999.00,9,-999.000,9,-999.0000,-999.000,-999.000,-999.000
      74AB29_1,    I5,   102,  1,     14,    14.,2,19871215,1201,-34.1550, 113.4900, 3023,    999.4,   4.0393,  34.4600,2,  34.4526,2,    165.2,2,  3.9635,    166.4,2,    57.54,2,    33.73,2,     0.00,2,     2.43,2,    0.056,2,    0.041,2, -999.000,5,-999.0000,5,  -999.00,9,-999.000,9,-999.0000,-999.000,-999.000,-999.000
      74AB29_1,    I5,   102,  1,     13,    13.,2,19871215,1201,-34.1550, 113.4900, 3023,   1098.4,   3.7723,  34.4970,2,  34.4860,2,    159.1,2,  3.6903,    159.1,2,    64.82,2,    34.31,2,     0.00,2,     2.49,2,    0.036,2,    0.039,2, -999.000,5,-999.0000,5,  -999.00,9,-999.000,9,-999.0000,-999.000,-999.000,-999.000
      74AB29_1,    I5,   102,  1,     12,    12.,2,19871215,1201,-34.1550, 113.4900, 3023,   1200.3,   3.4709,  34.5260,2,  34.5164,2,    154.7,2,  3.3831,    154.7,2,    71.78,2,    34.60,2,     0.00,2,     2.49,2,    0.029,2,    0.000,2, -999.000,5,-999.0000,5,  -999.00,9,-999.000,9,-999.0000,-999.000,-999.000,-999.000
      74AB29_1,    I5,   102,  1,     11,    11.,2,19871215,1201,-34.1550, 113.4900, 3023,   1300.4,   3.1739,  34.5430,2,  34.5380,2,    158.2,2,  3.0807,    158.6,2,    73.41,2,    34.60,2,     0.00,2,     2.50,2, -999.000,5, -999.000,5, -999.000,5,-999.0000,5,  -999.00,9,-999.000,9,-999.0000,-999.000,-999.000,-999.000
      74AB29_1,    I5,   102,  1,     10,    10.,2,19871215,1201,-34.1550, 113.4900, 3023,   1398.5,   3.0214,  34.5710,2,  34.5669,2,    158.2,2,  2.9217,    157.7,2,    78.02,2,    34.90,2,     0.00,2,     2.49,2, -999.000,5, -999.000,5, -999.000,5,-999.0000,5,  -999.00,9,-999.000,9,-999.0000,-999.000,-999.000,-999.000
      74AB29_1,    I5,   102,  1,      9,     9.,2,19871215,1201,-34.1550, 113.4900, 3023,   1600.5,   2.7565,  34.6350,2,  34.6364,2,    158.6,2,  2.6430,    158.6,2,    86.45,2,    34.21,2,     0.00,2,     2.48,2, -999.000,5, -999.000,5, -999.000,5,-999.0000,5,  -999.00,9,-999.000,9,-999.0000,-999.000,-999.000,-999.000
      74AB29_1,    I5,   102,  1,      8,     8.,2,19871215,1201,-34.1550, 113.4900, 3023,   1791.9,   2.5580,  34.6790,2,  34.6808,2,    160.4,2,  2.4309,    160.3,2,    94.21,2,    34.01,2,     0.00,2,     2.45,2, -999.000,5, -999.000,5, -999.000,5,-999.0000,5,  -999.00,9,-999.000,9,-999.0000,-999.000,-999.000,-999.000
      74AB29_1,    I5,   102,  1,      7,     7.,2,19871215,1201,-34.1550, 113.4900, 3023,   2000.0,   2.3515,  34.7070,2,  34.7101,2,    162.5,2,  2.2094,    162.5,2,   101.62,2,    33.52,2,     0.00,2,     2.42,2, -999.000,5, -999.000,5, -999.000,5,-999.0000,5,  -999.00,9,-999.000,9,-999.0000,-999.000,-999.000,-999.000
      74AB29_1,    I5,   102,  1,      6,     6.,2,19871215,1201,-34.1550, 113.4900, 3023,   2204.6,   2.1751,  34.7210,2,  34.7207,2,    166.9,2,  2.0179,    166.0,2,   106.39,2,    33.33,2,     0.00,2,     2.40,2, -999.000,5, -999.000,5, -999.000,5,-999.0000,5,  -999.00,9,-999.000,9,-999.0000,-999.000,-999.000,-999.000
      74AB29_1,    I5,   102,  1,      5,     5.,2,19871215,1201,-34.1550, 113.4900, 3023,   2402.7,   2.0366,  34.7270,2,  34.7319,2,    171.2,2,  1.8641,    172.1,2,   108.33,2,    33.04,2,     0.00,2,     2.38,2, -999.000,5, -999.000,5, -999.000,5,-999.0000,5,  -999.00,9,-999.000,9,-999.0000,-999.000,-999.000,-999.000
      74AB29_1,    I5,   102,  1,      4,     4.,2,19871215,1201,-34.1550, 113.4900, 3023,   2600.8,   1.8826,  34.7310,2,  34.7331,2,    176.9,2,  1.6949,    178.1,2,   109.94,2,    32.84,2,     0.00,2,     2.34,2, -999.000,5, -999.000,5, -999.000,5,-999.0000,5,  -999.00,9,-999.000,9,-999.0000,-999.000,-999.000,-999.000
      74AB29_1,    I5,   102,  1,      3,     3.,2,19871215,1201,-34.1550, 113.4900, 3023,   2802.5,   1.7476,  34.7300,2,  34.7276,2,    179.5,2,  1.5439,    179.9,2,   113.70,2,    32.84,2,     0.00,2,     2.35,2, -999.000,5, -999.000,5, -999.000,5,-999.0000,5,  -999.00,9,-999.000,9,-999.0000,-999.000,-999.000,-999.000
      74AB29_1,    I5,   102,  1,      2,     2.,2,19871215,1201,-34.1550, 113.4900, 3023,   3005.0,   1.5662,  34.7300,2,  34.7286,2,    184.2,2,  1.3472,    186.4,2,   114.66,2,    32.55,2,     0.00,2,     2.33,2,    0.000,2,    0.000,2, -999.000,5,-999.0000,5,  -999.00,9,-999.000,9,-999.0000,-999.000,-999.000,-999.000
      74AB29_1,    I5,   102,  1,      1,     1.,2,19871215,1201,-34.1550, 113.4900, 3023,   3037.4,   1.5127,  34.7280,2,  34.7335,2,    184.2,2,  1.2917,    186.4,2,   115.92,2,    32.55,2,     0.00,2,     2.32,2, -999.000,5, -999.000,5, -999.000,5,-999.0000,5,  -999.00,9,-999.000,9,-999.0000,-999.000,-999.000,-999.000