BOTTLE,20060509WHPSIOSA
EXPOCODE,SECT_ID,STNNBR,CASTNO,SAMPNO,BTLNBR,BTLNBR_FLAG_W,DATE,TIME,LATITUDE,LONGITUDE,DEPTH,CTDPRS,CTDTMP,CTDSAL,CTDSAL_FLAG_W,SALNTY,SALNTY_FLAG_W,CTDOXY,CTDOXY_FLAG_W,THETA,OXYGEN,OXYGEN_FLAG_W,SILCAT,SILCAT_FLAG_W,NITRAT,NITRAT_FLAG_W,NITRIT,NITRIT_FLAG_W,PHSPHT,PHSPHT_FLAG_W,CFC-11,CFC-11_FLAG_W,CFC-12,CFC-12_FLAG_W,TRITUM,TRITUM_FLAG_W,HELIUM,HELIUM_FLAG_W,DELHE3,DELHE3_FLAG_W,NEON,NEON_FLAG_W,HELIER,TRITER,NEONER,DELHER
,,,,,,,,,,,,DBAR,IPTS-68,PSS-78,,PSS-78,,UMOL/KG,,IPTS-68,UMOL/KG,,UMOL/KG,,UMOL/KG,,UMOL/KG,,UMOL/KG,,PMOL/KG,,PMOL/KG,,TU,,UMOL/KG,,PERCNT,,NMOL/KG,,NMOL/KG,TU,NMOL/KG,PERCNT
      74AB29_1,    I5,    68,  1,     24,    24.,2,19871205,1315,-29.4650,  85.9783, 4470,     14.4,  19.8813,  35.9020,2,  35.9366,2,    231.7,2, 19.8786,    231.8,2,     1.85,2,     0.10,2,     0.00,2,     0.13,2, -999.000,5, -999.000,5, -999.000,5,-999.0000,5,  -999.00,9,-999.000,9,-999.0000,-999.000,-999.000,-999.000
      74AB29_1,    I5,    68,  1,     23,    23.,2,19871205,1315,-29.4650,  85.9783, 4470,    103.5,  17.2423,  35.7300,2,  35.7392,2,    243.8,2, 17.2250,    238.8,2,     1.52,2,     0.10,2,     0.00,2,     0.20,2, -999.000,5, -999.000,5, -999.000,5,-999.0000,5,  -999.00,9,-999.000,9,-999.0000,-999.000,-999.000,-999.000
      74AB29_1,    I5,    68,  1,     22,    22.,2,19871205,1315,-29.4650,  85.9783, 4470,    201.9,  14.1324,  35.4270,2,  35.4001,2,    225.4,2, 14.1029,    231.0,2,     2.34,2,     5.76,2,     0.00,2,     0.53,2, -999.000,5, -999.000,5, -999.000,5,-999.0000,5,  -999.00,9,-999.000,9,-999.0000,-999.000,-999.000,-999.000
      74AB29_1,    I5,    68,  1,     21,    21.,2,19871205,1315,-29.4650,  85.9783, 4470,    302.0,  12.1635,  35.1330,2,  35.1108,2,    226.6,2, 12.1235,    229.3,2,     3.51,2,     9.67,2,     0.00,2,     0.73,2, -999.000,5, -999.000,5, -999.000,5,-999.0000,5,  -999.00,9,-999.000,9,-999.0000,-999.000,-999.000,-999.000
      74AB29_1,    I5,    68,  1,     20,    20.,2,19871205,1315,-29.4650,  85.9783, 4470,    504.0,   9.8176,  34.7840,2,  34.7730,2,    234.4,2,  9.7590,    235.0,2,     4.98,2,    15.15,2,     0.00,2,     1.07,2, -999.000,5, -999.000,5, -999.000,5,-999.0000,5,  -999.00,9,-999.000,9,-999.0000,-999.000,-999.000,-999.000
      74AB29_1,    I5,    68,  1,     19,    19.,2,19871205,1315,-29.4650,  85.9783, 4470,    650.5,   8.4048,  34.6200,2,  34.6140,2,    218.3,2,  8.3355,    214.2,2,     9.93,2,    20.92,2,     0.00,2,     1.42,2, -999.000,5, -999.000,5, -999.000,5,-999.0000,5,  -999.00,9,-999.000,9,-999.0000,-999.000,-999.000,-999.000
      74AB29_1,    I5,    68,  1,     18,    18.,2,19871205,1315,-29.4650,  85.9783, 4470,    799.1,   6.4050,  34.4850,2,  34.4673,2,    196.5,2,  6.3311,    195.6,2,    23.43,2,    27.37,2,     0.00,2,     1.85,2, -999.000,5, -999.000,5, -999.000,5,-999.0000,5,  -999.00,9,-999.000,9,-999.0000,-999.000,-999.000,-999.000
      74AB29_1,    I5,    68,  1,     17,    17.,2,19871205,1315,-29.4650,  85.9783, 4470,   1050.1,   4.2078,  34.4310,2,  34.4257,2,    176.1,2,  4.1264,    176.0,2,    49.94,2,    32.85,2,     0.00,2,     2.31,2, -999.000,5, -999.000,5, -999.000,5,-999.0000,5,  -999.00,9,-999.000,9,-999.0000,-999.000,-999.000,-999.000
      74AB29_1,    I5,    68,  1,     16,    16.,2,19871205,1315,-29.4650,  85.9783, 4470,   1200.1,   3.6523,  34.4980,2,  34.5097,2,    160.8,2,  3.5629,    157.3,2,    68.87,2,    34.70,2,     0.00,2,     2.45,2, -999.000,5, -999.000,5, -999.000,5,-999.0000,5,  -999.00,9,-999.000,9,-999.0000,-999.000,-999.000,-999.000
      74AB29_1,    I5,    68,  1,     15,    15.,2,19871205,1315,-29.4650,  85.9783, 4470,   1400.6,   3.1599,  34.5790,2,  34.5834,2,    154.3,2,  3.0585,    153.8,2,    80.88,2,    34.99,2,     0.00,2,     2.46,2,    0.015,2,    0.000,2, -999.000,5,-999.0000,5,  -999.00,9,-999.000,9,-999.0000,-999.000,-999.000,-999.000
      74AB29_1,    I5,    68,  1,     14,    14.,2,19871205,1315,-29.4650,  85.9783, 4470,   1599.7,   2.9989,  34.6230,2,  34.6313,2,    154.3,2,  2.8825,    152.1,2,    87.12,2,    34.70,2,     0.00,2,     2.45,2, -999.000,5, -999.000,5, -999.000,5,-999.0000,5,  -999.00,9,-999.000,9,-999.0000,-999.000,-999.000,-999.000
      74AB29_1,    I5,    68,  1,     13,    13.,2,19871205,1315,-29.4650,  85.9783, 4470,   1801.6,   2.6545,  34.6790,2,  34.6767,2,    160.8,2,  2.5252,    159.5,2,    93.53,2,    34.01,2,     0.00,2,     2.38,2, -999.000,5, -999.000,5, -999.000,5,-999.0000,5,  -999.00,9,-999.000,9,-999.0000,-999.000,-999.000,-999.000
      74AB29_1,    I5,    68,  1,     12,    12.,2,19871205,1315,-29.4650,  85.9783, 4470,   2002.8,   2.4190,  34.7050,2,  34.7042,2,    165.1,2,  2.2757,    164.7,2,    98.64,2,    33.62,2,     0.00,2,     2.35,2, -999.000,5, -999.000,5, -999.000,5,-999.0000,5,  -999.00,9,-999.000,9,-999.0000,-999.000,-999.000,-999.000
      74AB29_1,    I5,    68,  1,     11,    11.,2,19871205,1315,-29.4650,  85.9783, 4470,   2203.1,   2.1871,  34.7190,2,  34.7164,2,    172.1,2,  2.0299,    173.4,2,   101.26,2,    33.43,2,     0.00,2,     2.30,2,    0.008,2,    0.000,2, -999.000,5,-999.0000,5,  -999.00,9,-999.000,9,-999.0000,-999.000,-999.000,-999.000
      74AB29_1,    I5,    68,  1,     10,    10.,2,19871205,1315,-29.4650,  85.9783, 4470,   2402.7,   2.0026,  34.7260,2,  34.7266,2,    177.3,2,  1.8307,    179.0,2,   104.23,2,    32.84,2,     0.00,2,     2.28,2, -999.000,5, -999.000,5, -999.000,5,-999.0000,5,  -999.00,9,-999.000,9,-999.0000,-999.000,-999.000,-999.000
      74AB29_1,    I5,    68,  1,      9,     9.,2,19871205,1315,-29.4650,  85.9783, 4470,   2602.4,   1.8451,  34.7300,2,  34.7368,2,    182.9,2,  1.6580,    184.7,2,   105.69,2,    32.55,2,     0.00,2,     2.26,2, -999.000,5, -999.000,5, -999.000,5,-999.0000,5,  -999.00,9,-999.000,9,-999.0000,-999.000,-999.000,-999.000
      74AB29_1,    I5,    68,  1,      8,     8.,2,19871205,1315,-29.4650,  85.9783, 4470,   2802.3,   1.6841,  34.7300,2,  34.7307,2,    186.0,2,  1.4817,    187.7,2,   109.80,2,    32.55,2,     0.00,2,     2.25,2, -999.000,5, -999.000,5, -999.000,5,-999.0000,5,  -999.00,9,-999.000,9,-999.0000,-999.000,-999.000,-999.000
      74AB29_1,    I5,    68,  1,      7,     7.,2,19871205,1315,-29.4650,  85.9783, 4470,   3004.9,   1.5022,  34.7280,2,  34.7280,2,    187.7,2,  1.2846,    190.7,2,   114.90,2,    32.64,2,     0.00,2,     2.24,2, -999.000,5, -999.000,5, -999.000,5,-999.0000,5,  -999.00,9,-999.000,9,-999.0000,-999.000,-999.000,-999.000
      74AB29_1,    I5,    68,  1,      6,     6.,2,19871205,1315,-29.4650,  85.9783, 4470,   3305.2,   1.3847,  34.7240,2,  34.7250,2,    191.6,2,  1.1407,    193.3,2,   118.35,2,    32.74,2,     0.00,2,     2.25,2, -999.000,5, -999.000,5, -999.000,5,-999.0000,5,  -999.00,9,-999.000,9,-999.0000,-999.000,-999.000,-999.000
      74AB29_1,    I5,    68,  1,      5,     5.,2,19871205,1315,-29.4650,  85.9783, 4470,   3606.7,   1.3267,  34.7220,2,  34.7191,2,    193.4,2,  1.0538,    192.5,2,   121.15,2,    33.04,2,     0.00,2,     2.25,2,    0.006,2,    0.000,2, -999.000,5,-999.0000,5,  -999.00,9,-999.000,9,-999.0000,-999.000,-999.000,-999.000
      74AB29_1,    I5,    68,  1,      4,     4.,2,19871205,1315,-29.4650,  85.9783, 4470,   3804.9,   1.2867,  34.7200,2,  34.7221,2,    195.5,2,  0.9943,    194.6,2,   121.14,2,    32.64,2,     0.00,2,     2.25,2, -999.000,5, -999.000,5, -999.000,5,-999.0000,5,  -999.00,9,-999.000,9,-999.0000,-999.000,-999.000,-999.000
      74AB29_1,    I5,    68,  1,      3,     3.,2,19871205,1315,-29.4650,  85.9783, 4470,   4007.7,   1.2622,  34.7180,2,  34.7142,2,    196.8,2,  0.9489,    195.5,2,   122.28,2,    32.84,2,     0.00,2,  -999.00,5,    0.003,2,    0.000,2, -999.000,5,-999.0000,5,  -999.00,9,-999.000,9,-999.0000,-999.000,-999.000,-999.000
      74AB29_1,    I5,    68,  1,      2,     2.,2,19871205,1315,-29.4650,  85.9783, 4470,   4312.8,   1.2712,  34.7170,2,  34.7201,2,    197.7,2,  0.9242,    196.8,2,   122.12,2,    32.74,2,     0.00,2,     2.25,2, -999.000,5, -999.000,5, -999.000,5,-999.0000,5,  -999.00,9,-999.000,9,-999.0000,-999.000,-999.000,-999.000
      74AB29_1,    I5,    68,  1,      1,     1.,2,19871205,1315,-29.4650,  85.9783, 4470,   4532.9,   1.2702,  34.7160,2,  34.7144,2,    199.9,2,  0.8983,    196.8,2,   122.27,2,    32.84,2,     0.00,2,     2.24,2,    0.003,2,    0.000,2, -999.000,5,-999.0000,5,  -999.00,9,-999.000,9,-999.0000,-999.000,-999.000,-999.000
      74AB29_1,    I5,    69,  1,     24,    24.,2,19871205,2205,-29.5367,  86.9200, 3562,      2.6,  21.5994,  34.7210,2,  36.5287,2,    193.4,2, 21.5989,    223.9,2,     1.79,2,     0.00,2,     0.00,2,     0.19,2,    2.037,2,    1.118,2,    0.599,2,   1.6690,2,    -1.50,2,   6.960,2,  0.0080,   0.008,   0.140,   0.200
      74AB29_1,    I5,    69,  1,     23,    23.,2,19871205,2205,-29.5367,  86.9200, 3562,    102.5,  18.0288,  35.8140,2,  35.8538,2,    238.1,2, 18.0111,    232.7,2,     1.29,2,     0.00,2,     0.00,2,     0.24,2,    1.999,2,    1.124,2,    0.635,2,   1.7430,2,    -0.90,2,   7.100,2,  0.0090,   0.008,   0.140,   0.200
      74AB29_1,    I5,    69,  1,     22,    22.,2,19871205,2205,-29.5367,  86.9200, 3562,    202.2,  14.8064,  35.5050,2,  35.4926,2,    225.8,2, 14.7759,    222.3,2,     1.94,2,     3.71,2,     0.00,2,     0.52,2,    2.138,2,    1.170,2,    0.712,2,   1.7850,2,     0.60,2,   7.370,2,  0.0090,   0.008,   0.150,   0.200
      74AB29_1,    I5,    69,  1,     21,    21.,2,19871205,2205,-29.5367,  86.9200, 3562,    303.9,  12.6734,  35.2070,2,  35.1770,2,    228.4,2, 12.6321,    231.9,2,     2.44,2,     7.82,2,     0.00,2,     0.72,2,    2.184,2,    1.150,2,    0.652,2,   1.8020,2,  -999.00,9,   7.510,2,  0.0090,   0.008,   0.150,-999.000
      74AB29_1,    I5,    69,  1,     20,    20.,2,19871205,2205,-29.5367,  86.9200, 3562,    400.4,  11.4590,  35.0020,2,  34.9892,2,    235.8,2, 11.4079,    237.2,2,     3.44,2,    10.46,2,     0.00,2,     0.89,2,    2.068,2,    1.059,2,    0.783,2,   1.7960,2,     1.80,2,   7.520,2,  0.0090,   0.008,   0.150,   0.200
      74AB29_1,    I5,    69,  1,     19,    19.,2,19871205,2205,-29.5367,  86.9200, 3562,    501.6,  10.5806,  34.8730,2,  34.8656,2,    236.2,2, 10.5195,    238.1,2,     3.76,2,    12.41,2,     0.00,2,     1.04,2,    1.961,2,    1.062,2, -999.000,9,   1.8040,2,     0.90,2,   7.620,2,  0.0090,-999.000,   0.150,   0.200
      74AB29_1,    I5,    69,  1,     18,    18.,2,19871205,2205,-29.5367,  86.9200, 3562,    601.2,   9.8161,  34.7560,2,  34.7657,2,    233.6,2,  9.7459,    237.2,2,     4.25,2,    14.56,2,     0.00,2,     1.12,2,    1.852,2,    0.997,2,    0.406,2,   1.8190,2,     4.30,2,   7.640,2,  0.0090,   0.008,   0.150,   0.200
      74AB29_1,    I5,    69,  1,     17,    17.,2,19871205,2205,-29.5367,  86.9200, 3562,    701.4,   9.0492,  34.6670,2,  34.6657,2,    229.6,2,  8.9709,    229.0,2,     5.90,2,    17.50,2,     0.00,2,     1.30,2,    1.379,2,    0.779,2,    0.000,2,   1.8270,2,     5.80,2,   7.760,2,  0.0090,   0.008,   0.160,   0.200
      74AB29_1,    I5,    69,  1,     16,    16.,2,19871205,2205,-29.5367,  86.9200, 3562,    799.9,   7.9773,  34.5790,2,  34.5673,2,    214.8,2,  7.8939,    209.0,2,    12.21,2,    22.29,2,     0.00,2,     1.59,2,    0.708,2,    0.401,2, -999.000,9,   1.8350,2,     7.90,2,   7.750,2,  0.0090,-999.000,   0.160,   0.200
      74AB29_1,    I5,    69,  1,     15,    15.,2,19871205,2205,-29.5367,  86.9200, 3562,    901.0,   6.4230,  34.4610,2,  34.4616,2,    201.3,2,  6.3389,    198.2,2,    21.65,2,    26.59,2,     0.00,2,     1.90,2,    0.428,2,    0.265,2,    0.080,2,   1.8460,2,     9.50,2,   7.960,2,  0.0090,   0.008,   0.160,   0.200
      74AB29_1,    I5,    69,  1,     14,    14.,2,19871205,2205,-29.5367,  86.9200, 3562,    998.7,   4.8902,  34.3990,2,  34.4035,2,    192.2,2,  4.8080,    192.5,2,    35.06,2,    30.21,2,     0.00,2,     2.14,2,    0.221,2,    0.148,2,    0.040,2,   1.8910,2,     9.30,2,   8.090,2,  0.0090,   0.008,   0.160,   0.200
      74AB29_1,    I5,    69,  1,     13,    13.,2,19871205,2205,-29.5367,  86.9200, 3562,   1108.7,   4.3262,  34.4630,2,  34.4640,2,    166.9,2,  4.2387,    164.3,2,    56.24,2,    33.14,2,     0.00,2,     2.37,2,    0.056,2,    0.047,2, -999.000,9,   1.8490,2,    10.20,2,   7.930,2,  0.0090,-999.000,   0.160,   0.200
      74AB29_1,    I5,    69,  1,     12,    12.,2,19871205,2205,-29.5367,  86.9200, 3562,   1302.6,   3.5603,  34.5420,2,  34.5296,2,    150.4,2,  3.4631,    153.8,2,    73.11,2,    34.41,2,     0.00,2,     2.46,2,    0.018,2,    0.000,2,    0.058,2,   1.9040,2,     9.80,2,   8.060,2,  0.0100,   0.008,   0.160,   0.200
      74AB29_1,    I5,    69,  1,     11,    11.,2,19871205,2205,-29.5367,  86.9200, 3562,   1502.8,   3.2144,  34.5950,2,  34.6016,2,    151.7,2,  3.1038,    148.6,2,    86.14,2,    34.31,2,     0.00,2,     2.47,2, -999.000,5, -999.000,5, -999.000,5,-999.0000,5,  -999.00,9,-999.000,9,-999.0000,-999.000,-999.000,-999.000
      74AB29_1,    I5,    69,  1,     10,    10.,2,19871205,2205,-29.5367,  86.9200, 3562,   1695.2,   2.8245,  34.6430,2,  34.6537,2,    157.3,2,  2.7021,    159.5,2,    89.55,2,    34.89,2,     0.00,2,     2.42,2,    0.000,2,    0.000,2, -999.000,9,   1.9050,2,    10.90,2,   8.260,2,  0.0100,-999.000,   0.170,   0.200
      74AB29_1,    I5,    69,  1,      9,     9.,2,19871205,2205,-29.5367,  86.9200, 3562,   1898.3,   2.5820,  34.6860,2,  34.6932,2,    160.4,2,  2.4454,    161.2,2,    95.65,2,    35.09,2,     0.00,2,     2.38,2, -999.000,5, -999.000,5, -999.000,5,-999.0000,5,  -999.00,9,-999.000,9,-999.0000,-999.000,-999.000,-999.000
      74AB29_1,    I5,    69,  1,      8,     8.,2,19871205,2205,-29.5367,  86.9200, 3562,   2103.6,   2.3010,  34.7120,2,  34.7148,2,    167.3,2,  2.1507,    167.7,2,   101.85,2,    34.60,2,     0.00,2,     2.36,2, -999.000,5, -999.000,5, -999.000,5,-999.0000,5,  -999.00,9,-999.000,9,-999.0000,-999.000,-999.000,-999.000
      74AB29_1,    I5,    69,  1,      7,     7.,2,19871205,2205,-29.5367,  86.9200, 3562,   2302.4,   2.1056,  34.7220,2,  34.7246,2,    172.5,2,  1.9409,    173.8,2,   104.12,2,    34.11,2,     0.00,2,     2.31,2,    0.004,2,    0.000,2,    0.086,2,   1.9200,2,    11.20,2,   8.330,2,  0.0100,   0.008,   0.170,   0.200
      74AB29_1,    I5,    69,  1,      6,     6.,2,19871205,2205,-29.5367,  86.9200, 3562,   2502.4,   1.9266,  34.7280,2,  34.7290,2,    179.9,2,  1.7471,    181.2,2,   104.89,2,    33.72,2,     0.00,2,     2.27,2, -999.000,5, -999.000,5, -999.000,5,-999.0000,5,  -999.00,9,-999.000,9,-999.0000,-999.000,-999.000,-999.000
      74AB29_1,    I5,    69,  1,      5,     5.,2,19871205,2205,-29.5367,  86.9200, 3562,   2702.3,   1.7701,  34.7290,2,  34.7300,2,    183.4,2,  1.5753,    184.7,2,   108.42,2,    33.52,2,     0.00,2,     2.24,2,    0.002,2,    0.000,2, -999.000,9,   1.9260,2,    13.70,2,   8.390,2,  0.0100,-999.000,   0.170,   0.200
      74AB29_1,    I5,    69,  1,      4,     4.,2,19871205,2205,-29.5367,  86.9200, 3562,   2903.6,   1.6541,  34.7300,2,  34.7298,2,    186.8,2,  1.4428,    188.6,2,   109.20,2,    33.04,2,     0.00,2,     2.22,2, -999.000,5, -999.000,5, -999.000,5,-999.0000,5,  -999.00,9,-999.000,9,-999.0000,-999.000,-999.000,-999.000
      74AB29_1,    I5,    69,  1,      3,     3.,2,19871205,2205,-29.5367,  86.9200, 3562,   3103.0,   1.5507,  34.7280,2,  34.7311,2,    189.4,2,  1.3226,    188.6,2,   112.81,2,    33.13,2,     0.00,2,     2.25,2, -999.000,5, -999.000,5, -999.000,5,-999.0000,5,  -999.00,9,-999.000,9,-999.0000,-999.000,-999.000,-999.000
      74AB29_1,    I5,    69,  1,      2,     2.,2,19871205,2205,-29.5367,  86.9200, 3562,   3303.5,   1.4427,  34.7250,2,  34.7244,2,    190.8,2,  1.1975,    192.0,2,   115.88,2,    33.23,2,     0.00,2,     2.24,2,    0.001,2, -999.000,5,    0.000,2,   1.9140,2,    12.00,2,   8.410,2,  0.0100,   0.008,   0.170,   0.200
      74AB29_1,    I5,    69,  1,      1,     1.,2,19871205,2205,-29.5367,  86.9200, 3562,   3589.7,   1.3417,  34.7210,2,-999.0000,5,    192.9,2,  1.3242,    193.3,2,   119.28,2,    33.13,2,     0.00,2,     2.24,2,    0.003,2,    0.000,2, -999.000,9,   1.9320,2,    11.50,2,   8.450,2,  0.0100,-999.000,   0.170,   0.200