BOTTLE,20060509WHPSIOSA
EXPOCODE,SECT_ID,STNNBR,CASTNO,SAMPNO,BTLNBR,BTLNBR_FLAG_W,DATE,TIME,LATITUDE,LONGITUDE,DEPTH,CTDPRS,CTDTMP,CTDSAL,CTDSAL_FLAG_W,SALNTY,SALNTY_FLAG_W,CTDOXY,CTDOXY_FLAG_W,THETA,OXYGEN,OXYGEN_FLAG_W,SILCAT,SILCAT_FLAG_W,NITRAT,NITRAT_FLAG_W,NITRIT,NITRIT_FLAG_W,PHSPHT,PHSPHT_FLAG_W,CFC-11,CFC-11_FLAG_W,CFC-12,CFC-12_FLAG_W,TRITUM,TRITUM_FLAG_W,HELIUM,HELIUM_FLAG_W,DELHE3,DELHE3_FLAG_W,NEON,NEON_FLAG_W,HELIER,TRITER,NEONER,DELHER
,,,,,,,,,,,,DBAR,IPTS-68,PSS-78,,PSS-78,,UMOL/KG,,IPTS-68,UMOL/KG,,UMOL/KG,,UMOL/KG,,UMOL/KG,,UMOL/KG,,PMOL/KG,,PMOL/KG,,TU,,UMOL/KG,,PERCNT,,NMOL/KG,,NMOL/KG,TU,NMOL/KG,PERCNT
      74AB29_1,    I5,    25,  1,     23,    24.,2,19871119,1802,-32.9900,  39.4900, 5092,      8.0,  18.9273,  35.7010,2,  35.7055,2,    222.5,2, 18.9259,    233.1,2,     1.15,2,     0.39,2,     0.00,2,     0.21,2,    2.084,2,    1.196,2, -999.000,5,-999.0000,5,  -999.00,9,-999.000,9,-999.0000,-999.000,-999.000,-999.000
      74AB29_1,    I5,    25,  1,     22,    23.,2,19871119,1802,-32.9900,  39.4900, 5092,    103.0,  17.0793,  35.6400,2,  35.6392,2,    224.2,2, 17.0622,    231.4,2,     2.64,2,     2.34,2,     0.04,2,     0.37,2, -999.000,5, -999.000,5, -999.000,5,-999.0000,5,  -999.00,9,-999.000,9,-999.0000,-999.000,-999.000,-999.000
      74AB29_1,    I5,    25,  1,     21,    21.,2,19871119,1802,-32.9900,  39.4900, 5092,    302.5,  16.0063,  35.5490,2,  35.5452,2,    223.3,2, 15.9581,    219.3,2,     3.64,2,     4.79,2,     0.03,2,     0.57,2,    2.079,2,    1.188,2, -999.000,5,-999.0000,5,  -999.00,9,-999.000,9,-999.0000,-999.000,-999.000,-999.000
      74AB29_1,    I5,    25,  1,     20,    20.,2,19871119,1802,-32.9900,  39.4900, 5092,    450.7,  14.2644,  35.3690,2,  35.3567,2,    217.1,2, 14.1977,    216.3,2,     4.14,2,     8.11,2,     0.02,2,     0.72,2,    1.873,2,    1.164,2, -999.000,5,-999.0000,5,  -999.00,9,-999.000,9,-999.0000,-999.000,-999.000,-999.000
      74AB29_1,    I5,    25,  1,     19,    19.,2,19871119,1802,-32.9900,  39.4900, 5092,    600.9,  12.7254,  35.1290,2,  35.1476,2,    216.2,2, 12.6425,    215.9,2,     4.96,2,    11.43,2,     0.01,2,     0.93,2,    1.650,2,    0.929,2, -999.000,5,-999.0000,5,  -999.00,9,-999.000,9,-999.0000,-999.000,-999.000,-999.000
      74AB29_1,    I5,    25,  1,     18,    18.,2,19871119,1802,-32.9900,  39.4900, 5092,    800.5,  10.3776,  34.8350,2,  34.8509,2,    212.7,2, 10.2799,    214.2,2,     7.64,2,    16.52,2,     0.01,2,     1.24,2,    1.140,2,    0.717,2, -999.000,5,-999.0000,5,  -999.00,9,-999.000,9,-999.0000,-999.000,-999.000,-999.000
      74AB29_1,    I5,    25,  1,     17,    17.,2,19871119,1802,-32.9900,  39.4900, 5092,   1000.9,   7.3969,  34.5630,2,  34.5641,2,    207.0,2,  7.2955,    206.4,2,    18.14,2,    24.73,2,     0.00,2,     1.76,2,    0.714,2,    0.465,2, -999.000,5,-999.0000,5,  -999.00,9,-999.000,9,-999.0000,-999.000,-999.000,-999.000
      74AB29_1,    I5,    25,  1,     16,    16.,2,19871119,1802,-32.9900,  39.4900, 5092,   1200.4,   4.9227,  34.4090,2,-999.0000,5,    205.2,2,  4.9061,    204.7,2,    31.82,2,    29.52,2,     0.00,2,     2.10,2,    0.662,2,    0.377,2, -999.000,5,-999.0000,5,  -999.00,9,-999.000,9,-999.0000,-999.000,-999.000,-999.000
      74AB29_1,    I5,    25,  1,     15,    15.,2,19871119,1802,-32.9900,  39.4900, 5092,   1496.4,   3.4394,  34.5060,2,  34.4911,2,    182.1,2,  3.3270,    181.6,2,    58.19,2,    33.53,2,     0.00,2,     2.39,2,    0.158,2,    0.138,2, -999.000,5,-999.0000,5,  -999.00,9,-999.000,9,-999.0000,-999.000,-999.000,-999.000
      74AB29_1,    I5,    25,  1,     14,    14.,2,19871119,1802,-32.9900,  39.4900, 5092,   1799.5,   2.8944,  34.6350,2,  34.6266,2,    179.5,2,  2.7622,    178.6,2,    71.55,2,    33.23,2,     0.01,2,     2.29,2,    0.042,2,    0.054,2, -999.000,5,-999.0000,5,  -999.00,9,-999.000,9,-999.0000,-999.000,-999.000,-999.000
      74AB29_1,    I5,    25,  1,     13,    13.,2,19871119,1802,-32.9900,  39.4900, 5092,   2102.5,   2.6595,  34.7160,2,  34.7030,2,    186.4,2,  2.5037,    186.8,2,    74.57,2,    31.67,2,     0.00,2,     2.23,2,    0.042,2,    0.032,2, -999.000,5,-999.0000,5,  -999.00,9,-999.000,9,-999.0000,-999.000,-999.000,-999.000
      74AB29_1,    I5,    25,  1,     12,    12.,2,19871119,1802,-32.9900,  39.4900, 5092,   2401.4,   2.5565,  34.7770,2,  34.7760,2,    201.2,2,  2.3747,    202.0,2,    70.23,2,    29.42,2,     0.00,2,     2.03,2, -999.000,5, -999.000,5, -999.000,5,-999.0000,5,  -999.00,9,-999.000,9,-999.0000,-999.000,-999.000,-999.000
      74AB29_1,    I5,    25,  1,     11,    11.,2,19871119,1802,-32.9900,  39.4900, 5092,   2703.4,   2.3605,  34.7980,2,  34.7972,2,    211.2,2,  2.1535,    210.3,2,    70.58,2,    28.44,2,     0.00,2,     1.96,2, -999.000,5, -999.000,5, -999.000,5,-999.0000,5,  -999.00,9,-999.000,9,-999.0000,-999.000,-999.000,-999.000
      74AB29_1,    I5,    25,  1,     10,    10.,2,19871119,1802,-32.9900,  39.4900, 5092,   3004.3,   2.2256,  34.8050,2,  34.8035,2,    216.8,2,  1.9918,    217.7,2,    70.92,2,    27.95,2,     0.01,2,     1.93,2,    0.009,2, -999.000,5, -999.000,5,-999.0000,5,  -999.00,9,-999.000,9,-999.0000,-999.000,-999.000,-999.000
      74AB29_1,    I5,    25,  1,      9,     9.,2,19871119,1802,-32.9900,  39.4900, 5092,   3306.1,   2.0291,  34.8000,2,  34.7999,2,    218.6,2,  1.7692,    219.8,2,    75.63,2,    28.05,2,     0.01,2,     1.93,2, -999.000,5, -999.000,5, -999.000,5,-999.0000,5,  -999.00,9,-999.000,9,-999.0000,-999.000,-999.000,-999.000
      74AB29_1,    I5,    25,  1,      8,     8.,2,19871119,1802,-32.9900,  39.4900, 5092,   3606.4,   1.6596,  34.7750,2,  34.7744,2,    218.1,2,  1.3778,    219.8,2,    87.99,2,    29.32,2,     0.01,2,     2.01,2, -999.000,5, -999.000,5, -999.000,5,-999.0000,5,  -999.00,9,-999.000,9,-999.0000,-999.000,-999.000,-999.000
      74AB29_1,    I5,    25,  1,      7,     7.,2,19871119,1802,-32.9900,  39.4900, 5092,   3908.5,   1.2777,  34.7510,2,  34.7482,2,    219.0,2,  0.9744,    221.1,2,    99.90,2,    30.40,2,     0.01,2,     2.07,2, -999.000,5, -999.000,5, -999.000,5,-999.0000,5,  -999.00,9,-999.000,9,-999.0000,-999.000,-999.000,-999.000
      74AB29_1,    I5,    25,  1,      6,     6.,2,19871119,1802,-32.9900,  39.4900, 5092,   4112.6,   1.0447,  34.7320,2,  34.7327,2,    220.3,2,  0.7262,    220.7,2,   106.61,2,    30.89,2,     0.01,2,     2.17,2, -999.000,5, -999.000,5, -999.000,5,-999.0000,5,  -999.00,9,-999.000,9,-999.0000,-999.000,-999.000,-999.000
      74AB29_1,    I5,    25,  1,      5,     5.,2,19871119,1802,-32.9900,  39.4900, 5092,   4309.2,   0.8478,  34.7160,2,  34.7156,2,    221.6,2,  0.5140,    221.6,2,   112.82,2,    31.57,2,     0.01,2,     2.20,2,    0.001,2,    0.000,2, -999.000,5,-999.0000,5,  -999.00,9,-999.000,9,-999.0000,-999.000,-999.000,-999.000
      74AB29_1,    I5,    25,  1,      4,     4.,2,19871119,1802,-32.9900,  39.4900, 5092,   4510.1,   0.7233,  34.7060,2,  34.7060,2,    221.6,2,  0.3712,    222.0,2,   116.86,2,    31.77,2,     0.00,2,     2.21,2, -999.000,5, -999.000,5, -999.000,5,-999.0000,5,  -999.00,9,-999.000,9,-999.0000,-999.000,-999.000,-999.000
      74AB29_1,    I5,    25,  1,      3,     3.,2,19871119,1802,-32.9900,  39.4900, 5092,   4710.5,   0.6563,  34.6980,2,  34.7003,2,    222.9,2,  0.2839,    223.3,2,   119.90,2,    32.16,2,     0.00,2,     2.27,2, -999.000,5, -999.000,5, -999.000,5,-999.0000,5,  -999.00,9,-999.000,9,-999.0000,-999.000,-999.000,-999.000
      74AB29_1,    I5,    25,  1,      2,     2.,2,19871119,1802,-32.9900,  39.4900, 5092,   4912.6,   0.6243,  34.6950,2,  34.6981,2,    223.8,2,  0.2299,    222.9,2,   120.77,2,    32.06,2,     0.00,2,     2.26,2, -999.000,5, -999.000,5, -999.000,5,-999.0000,5,  -999.00,9,-999.000,9,-999.0000,-999.000,-999.000,-999.000
      74AB29_1,    I5,    25,  1,      1,     1.,2,19871119,1802,-32.9900,  39.4900, 5092,   5158.5,   0.5208,  34.6870,2,  34.6847,2,    225.5,2,  0.1012,    222.9,2,   123.30,2,    32.25,2,    -0.01,2,     2.30,2,    0.005,2, -999.000,5, -999.000,5,-999.0000,5,  -999.00,9,-999.000,9,-999.0000,-999.000,-999.000,-999.000
      74AB29_1,    I5,    26,  1,     22,    24.,2,19871120,0540,-33.0050,  41.0050, 5010,    102.3,  17.1333,  35.6340,2,  35.6362,2,    232.4,2, 17.1163,    232.7,2,     2.62,2,     1.37,2,     0.28,2,     0.35,2,    2.292,2,    1.304,2,    0.793,2,   1.7620,2,    -1.30,2,   7.180,2,  0.0090,   0.008,   0.140,   0.200
      74AB29_1,    I5,    26,  1,     21,    23.,2,19871120,0540,-33.0050,  41.0050, 5010,    202.2,  15.9713,  35.5350,2,  35.5298,2,    221.5,2, 15.9392,    221.4,2,     4.11,2,     4.88,2,     0.01,2,     0.58,2, -999.000,5, -999.000,5,    0.840,2,   1.7620,2,    -0.50,2,   7.330,2,  0.0090,   0.008,   0.150,   0.200
      74AB29_1,    I5,    26,  1,     20,    22.,2,19871120,0540,-33.0050,  41.0050, 5010,    302.2,  14.8463,  35.4330,2,  35.4285,2,    213.7,2, 14.8005,    216.3,2,     4.27,2,     6.74,2,     0.02,2,     0.66,2,    2.106,2,    1.084,2,    0.710,2,   1.7930,2,     1.00,2,   7.310,2,  0.0090,   0.008,   0.150,   0.200
      74AB29_1,    I5,    26,  1,     19,    21.,2,19871120,0540,-33.0050,  41.0050, 5010,    451.5,  13.2924,  35.2600,2,  35.2418,2,    221.4,2, 13.2286,    217.2,2,     5.09,2,     9.77,2,     0.01,2,     0.88,2,    1.883,2,    0.915,2,    0.547,2,   1.8020,2,     2.10,2,   7.550,2,  0.0090,   0.008,   0.150,   0.200
      74AB29_1,    I5,    26,  1,     18,    20.,2,19871120,0540,-33.0050,  41.0050, 5010,    601.4,  11.7185,  35.0360,2,  35.0216,2,    217.9,2, 11.6399,    218.9,2,     5.92,2,    13.09,2,     0.01,2,     1.09,2,    1.541,2,    0.755,2,    0.440,2,   1.7880,2,     4.80,2,   7.550,2,  0.0090,   0.008,   0.150,   0.200
      74AB29_1,    I5,    26,  1,     17,    19.,2,19871120,0540,-33.0050,  41.0050, 5010,    800.1,   9.2697,  34.7220,2,  34.7221,2,    214.8,2,  9.1785,    212.5,2,    10.90,2,    19.35,2,     0.02,2,     1.46,2,    0.977,2,    0.520,2, -999.000,9,   1.7850,2,     6.30,2,   7.660,2,  0.0090,-999.000,   0.150,   0.200
      74AB29_1,    I5,    26,  1,     16,    18.,2,19871120,0540,-33.0050,  41.0050, 5010,    999.9,   6.3185,  34.4750,2,  34.4746,2,    207.4,2,  6.2253,    206.9,2,    23.01,2,    26.79,2,     0.01,2,     1.96,2,    0.908,2,    0.452,2,    0.178,2,   1.8330,2,     6.40,2,   7.870,2,  0.0090,   0.008,   0.160,   0.200
      74AB29_1,    I5,    26,  1,     15,    17.,2,19871120,0540,-33.0050,  41.0050, 5010,   1202.0,   4.3742,  34.4150,2,  34.4122,2,    200.8,2,  4.2782,    200.8,2,    40.09,2,    30.89,2,     0.01,2,     2.27,2,    0.546,2,    0.271,2, -999.000,9,   1.8720,2,     5.70,2,   8.050,2,  0.0090,-999.000,   0.160,   0.200
      74AB29_1,    I5,    26,  1,     14,    16.,2,19871120,0540,-33.0050,  41.0050, 5010,   1502.0,   3.3564,  34.5470,2,  34.5537,2,    178.6,2,  3.2443,    176.0,2,    63.65,2,    32.94,2,     0.00,2,     2.39,2,    0.183,2,    0.152,2, -999.000,9,   1.8510,2,     7.30,2,   8.120,2,  0.0090,-999.000,   0.160,   0.200
      74AB29_1,    I5,    26,  1,     13,    14.,2,19871120,0540,-33.0050,  41.0050, 5010,   2102.0,   2.6435,  34.7390,2,  34.7474,2,    187.7,2,  2.4878,    188.6,2,    76.54,2,    30.59,2,     0.00,2,     2.23,2,    0.020,2,    0.030,2, -999.000,9,-999.0000,9,  -999.00,9,-999.000,9,-999.0000,-999.000,-999.000,-999.000
      74AB29_1,    I5,    26,  1,     12,    13.,2,19871120,0540,-33.0050,  41.0050, 5010,   2402.9,   2.4970,  34.7900,2,  34.7931,2,    206.8,2,  2.3160,    209.8,2,    67.07,2,    28.25,2,     0.00,2,     2.01,2,    0.014,2,    0.014,2, -999.000,9,   1.9400,2,     6.00,2,   8.260,2,  0.0100,-999.000,   0.170,   0.200
      74AB29_1,    I5,    26,  1,     11,    12.,2,19871120,0540,-33.0050,  41.0050, 5010,   2702.4,   2.3335,  34.8050,2,  34.8037,2,    214.2,2,  2.1271,    213.8,2,    69.21,2,    27.76,2,     0.00,2,     1.98,2, -999.000,5, -999.000,5, -999.000,9,-999.0000,9,  -999.00,9,-999.000,9,-999.0000,-999.000,-999.000,-999.000
      74AB29_1,    I5,    26,  1,     10,    11.,2,19871120,0540,-33.0050,  41.0050, 5010,   3004.2,   2.1566,  34.8040,2,  34.8019,2,    218.1,2,  1.9243,    216.4,2,    72.51,2,    27.76,2,     0.00,2,     1.98,2, -999.000,5, -999.000,5, -999.000,5,-999.0000,5,  -999.00,9,-999.000,9,-999.0000,-999.000,-999.000,-999.000
      74AB29_1,    I5,    26,  1,      9,    10.,2,19871120,0540,-33.0050,  41.0050, 5010,   3306.1,   1.9991,  34.7970,2,  34.7972,2,    220.3,2,  1.7399,    219.0,2,    75.98,2,    27.76,2,     0.00,2,     1.95,2, -999.000,5, -999.000,5,    0.005,2,-999.0000,9,  -999.00,9,-999.000,9,-999.0000,   0.008,-999.000,-999.000
      74AB29_1,    I5,    26,  1,      8,     9.,2,19871120,0540,-33.0050,  41.0050, 5010,   3607.6,   1.7286,  34.7780,2,  34.7773,2,    219.0,2,  1.4449,    218.5,2,    85.58,2,    28.73,2,     0.00,2,     2.07,2,    0.009,2,    0.000,2, -999.000,5,-999.0000,5,  -999.00,9,-999.000,9,-999.0000,-999.000,-999.000,-999.000
      74AB29_1,    I5,    26,  1,      7,     8.,2,19871120,0540,-33.0050,  41.0050, 5010,   3907.5,   1.3437,  34.7520,2,  34.7506,2,    219.4,2,  1.0387,    219.4,2,    97.32,2,    29.91,2,     0.00,2,     2.12,2, -999.000,5, -999.000,5, -999.000,5,-999.0000,5,  -999.00,9,-999.000,9,-999.0000,-999.000,-999.000,-999.000
      74AB29_1,    I5,    26,  1,      6,     7.,2,19871120,0540,-33.0050,  41.0050, 5010,   4110.4,   1.1347,  34.7370,2,  34.7366,2,    219.4,2,  0.8139,    219.8,2,   104.09,2,    30.40,2,     0.01,2,     2.15,2, -999.000,5, -999.000,5, -999.000,5,-999.0000,5,  -999.00,9,-999.000,9,-999.0000,-999.000,-999.000,-999.000
      74AB29_1,    I5,    26,  1,      5,     6.,2,19871120,0540,-33.0050,  41.0050, 5010,   4310.7,   0.8943,  34.7200,2,  34.7195,2,    221.2,2,  0.5589,    221.6,2,   111.35,2,    31.18,2,     0.00,2,     2.20,2, -999.000,5, -999.000,5, -999.000,5,-999.0000,5,  -999.00,9,-999.000,9,-999.0000,-999.000,-999.000,-999.000
      74AB29_1,    I5,    26,  1,      4,     5.,2,19871120,0540,-33.0050,  41.0050, 5010,   4511.4,   0.7273,  34.7070,2,  34.7050,2,    222.0,2,  0.3750,    222.5,2,   116.64,2,    31.57,2,    -0.01,2,     2.25,2, -999.000,5, -999.000,5,    0.025,2,-999.0000,9,  -999.00,9,-999.000,9,-999.0000,   0.008,-999.000,-999.000
      74AB29_1,    I5,    26,  1,      3,     4.,2,19871120,0540,-33.0050,  41.0050, 5010,   4710.6,   0.6483,  34.6990,2,  34.6989,2,    222.5,2,  0.2762,    223.3,2,   119.10,2,    31.77,2,    -0.01,2,     2.27,2,    0.009,2, -999.000,5, -999.000,5,-999.0000,5,  -999.00,9,-999.000,9,-999.0000,-999.000,-999.000,-999.000
      74AB29_1,    I5,    26,  1,      2,     3.,2,19871120,0540,-33.0050,  41.0050, 5010,   4913.8,   0.6243,  34.6960,2,  34.6956,2,    223.3,2,  0.2297,    222.5,2,   120.23,2,    31.86,2,     0.00,2,     2.27,2, -999.000,5, -999.000,5, -999.000,9,   1.9680,2,     5.80,2,   8.300,2,  0.0100,-999.000,   0.170,   0.200
      74AB29_1,    I5,    26,  1,      1,     2.,2,19871120,0540,-33.0050,  41.0050, 5010,   5100.0,   0.6083,  34.6930,2,  34.6916,2,    223.8,2,  0.1925,    222.5,2,   121.20,2,    31.96,2,     0.00,2,     2.25,2, -999.000,5, -999.000,5,    0.000,2,-999.0000,9,  -999.00,9,-999.000,9,-999.0000,   0.008,-999.000,-999.000