BOTTLE,20060509WHPSIOSA
EXPOCODE,SECT_ID,STNNBR,CASTNO,SAMPNO,BTLNBR,BTLNBR_FLAG_W,DATE,TIME,LATITUDE,LONGITUDE,DEPTH,CTDPRS,CTDTMP,CTDSAL,CTDSAL_FLAG_W,SALNTY,SALNTY_FLAG_W,CTDOXY,CTDOXY_FLAG_W,THETA,OXYGEN,OXYGEN_FLAG_W,SILCAT,SILCAT_FLAG_W,NITRAT,NITRAT_FLAG_W,NITRIT,NITRIT_FLAG_W,PHSPHT,PHSPHT_FLAG_W,CFC-11,CFC-11_FLAG_W,CFC-12,CFC-12_FLAG_W,TRITUM,TRITUM_FLAG_W,HELIUM,HELIUM_FLAG_W,DELHE3,DELHE3_FLAG_W,NEON,NEON_FLAG_W,HELIER,TRITER,NEONER,DELHER
,,,,,,,,,,,,DBAR,IPTS-68,PSS-78,,PSS-78,,UMOL/KG,,IPTS-68,UMOL/KG,,UMOL/KG,,UMOL/KG,,UMOL/KG,,UMOL/KG,,PMOL/KG,,PMOL/KG,,TU,,UMOL/KG,,PERCNT,,NMOL/KG,,NMOL/KG,TU,NMOL/KG,PERCNT
      74AB29_1,    I5,    82,  1,     18,    18.,2,19871209,1822,-31.9983, 100.9917, 2228,     11.3,  18.1098,  35.7520,2,  35.7363,2,    242.9,2, 18.1079,    243.6,2,     1.30,2,     0.29,2,     0.00,2,     0.19,2,    2.218,2,    1.419,2, -999.000,5,-999.0000,5,  -999.00,9,-999.000,9,-999.0000,-999.000,-999.000,-999.000
      74AB29_1,    I5,    82,  1,     17,    17.,2,19871209,1822,-31.9983, 100.9917, 2228,    104.0,  14.5564,  35.5470,2,  35.5004,2,    243.6,2, 14.5409,    242.3,2,     1.33,2,     2.44,2,     0.00,2,     0.34,2,    2.423,2,    1.322,2, -999.000,5,-999.0000,5,  -999.00,9,-999.000,9,-999.0000,-999.000,-999.000,-999.000
      74AB29_1,    I5,    82,  1,     16,    16.,2,19871209,1822,-31.9983, 100.9917, 2228,    199.4,  12.2800,  35.2110,2,  35.1366,2,    240.6,2, 12.2535,    238.9,2,     2.18,2,     8.21,2,     0.00,2,     0.64,2,    2.563,2,    1.393,2, -999.000,5,-999.0000,5,  -999.00,9,-999.000,9,-999.0000,-999.000,-999.000,-999.000
      74AB29_1,    I5,    82,  1,     15,    15.,2,19871209,1822,-31.9983, 100.9917, 2228,    304.5,  11.2455,  35.0190,2,  34.9658,2,    242.7,2, 11.2072,    245.9,2,     2.86,2,    10.55,2,     0.00,2,     0.78,2,    2.570,2,    1.381,2, -999.000,5,-999.0000,5,  -999.00,9,-999.000,9,-999.0000,-999.000,-999.000,-999.000
      74AB29_1,    I5,    82,  1,     14,    14.,2,19871209,1822,-31.9983, 100.9917, 2228,    399.9,  10.4706,  34.8860,2,  34.8373,2,    243.6,2, 10.4224,    245.0,2,     3.56,2,    12.31,2,     0.00,2,     0.91,2,    2.450,2,    1.353,2, -999.000,5,-999.0000,5,  -999.00,9,-999.000,9,-999.0000,-999.000,-999.000,-999.000
      74AB29_1,    I5,    82,  1,     13,    13.,2,19871209,1822,-31.9983, 100.9917, 2228,    500.7,   9.7961,  34.7630,2,  34.7364,2,    241.8,2,  9.7380,    241.6,2,     4.25,2,    14.47,2,     0.00,2,     1.05,2,    2.240,2,    1.248,2, -999.000,5,-999.0000,5,  -999.00,9,-999.000,9,-999.0000,-999.000,-999.000,-999.000
      74AB29_1,    I5,    82,  1,     12,    12.,2,19871209,1822,-31.9983, 100.9917, 2228,    600.6,   9.1467,  34.6780,2,  34.6572,2,    237.0,2,  9.0796,    236.8,2,     5.10,2,    16.91,2,     0.00,2,     1.18,2,    2.022,2,    1.072,2, -999.000,5,-999.0000,5,  -999.00,9,-999.000,9,-999.0000,-999.000,-999.000,-999.000
      74AB29_1,    I5,    82,  1,     11,    11.,2,19871209,1822,-31.9983, 100.9917, 2228,    698.7,   8.5532,  34.6080,2,  34.5881,2,    231.8,2,  8.4778,    230.3,2,     7.10,2,    19.26,2,     0.00,2,     1.35,2,    1.565,2,    0.909,2, -999.000,5,-999.0000,5,  -999.00,9,-999.000,9,-999.0000,-999.000,-999.000,-999.000
      74AB29_1,    I5,    82,  1,     10,    10.,2,19871209,1822,-31.9983, 100.9917, 2228,    798.5,   7.3809,  34.5240,2,  34.5070,2,    209.6,2,  7.3012,    204.7,2,    14.34,2,    24.34,2,     0.00,2,     1.66,2,    0.610,2,    0.420,2, -999.000,5,-999.0000,5,  -999.00,9,-999.000,9,-999.0000,-999.000,-999.000,-999.000
      74AB29_1,    I5,    82,  1,      9,     9.,2,19871209,1822,-31.9983, 100.9917, 2228,    901.3,   5.9580,  34.4230,2,  34.4235,2,    198.3,2,  5.8771,    198.6,2,    23.22,2,    28.06,2,     0.00,2,     1.96,2,    0.382,2,    0.225,2, -999.000,5,-999.0000,5,  -999.00,9,-999.000,9,-999.0000,-999.000,-999.000,-999.000
      74AB29_1,    I5,    82,  1,      8,     8.,2,19871209,1822,-31.9983, 100.9917, 2228,   1002.2,   4.7007,  34.3890,2,  34.3884,2,    192.6,2,  4.6197,    193.4,2,    35.20,2,    30.70,2,     0.00,2,     2.17,2,    0.158,2,    0.141,2, -999.000,5,-999.0000,5,  -999.00,9,-999.000,9,-999.0000,-999.000,-999.000,-999.000
      74AB29_1,    I5,    82,  1,      7,     7.,2,19871209,1822,-31.9983, 100.9917, 2228,   1100.9,   4.0183,  34.4190,2,-999.0000,5,    180.0,2,  4.0135,    179.9,2,  -999.00,5,  -999.00,5,  -999.00,5,  -999.00,5,    0.097,2,    0.055,2, -999.000,5,-999.0000,5,  -999.00,9,-999.000,9,-999.0000,-999.000,-999.000,-999.000
      74AB29_1,    I5,    82,  1,      6,     6.,2,19871209,1822,-31.9983, 100.9917, 2228,   1298.4,   3.4894,  34.4990,2,  34.4987,2,    162.6,2,  3.3933,    160.8,2,    66.68,2,    34.51,2,     0.00,2,     2.45,2,    0.023,2,    0.000,2, -999.000,5,-999.0000,5,  -999.00,9,-999.000,9,-999.0000,-999.000,-999.000,-999.000
      74AB29_1,    I5,    82,  1,      5,     5.,2,19871209,1822,-31.9983, 100.9917, 2228,   1503.3,   3.1354,  34.5650,2,  34.5659,2,    156.5,2,  3.0257,    156.4,2,    76.55,2,    34.80,2,     0.00,2,     2.46,2, -999.000,5, -999.000,5, -999.000,5,-999.0000,5,  -999.00,9,-999.000,9,-999.0000,-999.000,-999.000,-999.000
      74AB29_1,    I5,    82,  1,      4,     4.,2,19871209,1822,-31.9983, 100.9917, 2228,   1698.5,   2.8465,  34.6290,2,  34.6335,2,    156.0,2,  2.7236,    156.4,2,    85.60,2,    34.21,2,     0.00,2,     2.45,2, -999.000,5, -999.000,5, -999.000,5,-999.0000,5,  -999.00,9,-999.000,9,-999.0000,-999.000,-999.000,-999.000
      74AB29_1,    I5,    82,  1,      3,     3.,2,19871209,1822,-31.9983, 100.9917, 2228,   1899.1,   2.5810,  34.6740,2,  34.6757,2,    161.7,2,  2.4444,    162.9,2,    90.23,2,    33.53,2,     0.00,2,     2.38,2, -999.000,5, -999.000,5, -999.000,5,-999.0000,5,  -999.00,9,-999.000,9,-999.0000,-999.000,-999.000,-999.000
      74AB29_1,    I5,    82,  1,      2,     2.,2,19871209,1822,-31.9983, 100.9917, 2228,   2100.3,   2.3235,  34.7090,2,  34.7109,2,    169.0,2,  2.1731,    170.8,2,    95.50,2,    32.84,2,     0.00,2,     2.33,2, -999.000,5, -999.000,5, -999.000,5,-999.0000,5,  -999.00,9,-999.000,9,-999.0000,-999.000,-999.000,-999.000
      74AB29_1,    I5,    82,  1,      1,     1.,2,19871209,1822,-31.9983, 100.9917, 2228,   2234.0,   2.1671,  34.7250,2,  34.7264,2,    177.7,2,  2.0074,    181.2,2,    93.09,2,    32.06,2,     0.00,2,     2.25,2,    0.001,2,    0.000,2, -999.000,5,-999.0000,5,  -999.00,9,-999.000,9,-999.0000,-999.000,-999.000,-999.000
      74AB29_1,    I5,    83,  1,     24,    24.,2,19871210,0036,-32.2417, 101.8283, 2842,      2.2,  18.2543,  34.7400,2,  35.8720,2,    197.6,2, 18.2539,    237.9,2,     1.18,2,     0.10,2,     0.00,2,     0.20,2, -999.000,5, -999.000,5, -999.000,5,-999.0000,5,  -999.00,9,-999.000,9,-999.0000,-999.000,-999.000,-999.000
      74AB29_1,    I5,    83,  1,     23,    23.,2,19871210,0036,-32.2417, 101.8283, 2842,    103.3,  15.1603,  35.6360,2,  35.6139,2,    239.7,2, 15.1445,    240.5,2,     0.85,2,     1.66,2,     0.00,2,     0.30,2, -999.000,5, -999.000,5, -999.000,5,-999.0000,5,  -999.00,9,-999.000,9,-999.0000,-999.000,-999.000,-999.000
      74AB29_1,    I5,    83,  1,     22,    22.,2,19871210,0036,-32.2417, 101.8283, 2842,    203.4,  13.0559,  35.2570,2,  35.2692,2,    237.1,2, 13.0278,    234.1,2,     1.68,2,     6.55,2,     0.00,2,     0.58,2, -999.000,5, -999.000,5, -999.000,5,-999.0000,5,  -999.00,9,-999.000,9,-999.0000,-999.000,-999.000,-999.000
      74AB29_1,    I5,    83,  1,     21,    21.,2,19871210,0036,-32.2417, 101.8283, 2842,    303.0,  11.3715,  35.0180,2,  35.0016,2,    241.4,2, 11.3331,    240.7,2,     2.17,2,     9.87,2,     0.00,2,     0.80,2, -999.000,5, -999.000,5, -999.000,5,-999.0000,5,  -999.00,9,-999.000,9,-999.0000,-999.000,-999.000,-999.000
      74AB29_1,    I5,    83,  1,     20,    20.,2,19871210,0036,-32.2417, 101.8283, 2842,    401.2,  10.3296,  34.8290,2,  34.8165,2,    243.6,2, 10.2817,    244.6,2,     3.32,2,    13.19,2,     0.00,2,     0.98,2, -999.000,5, -999.000,5, -999.000,5,-999.0000,5,  -999.00,9,-999.000,9,-999.0000,-999.000,-999.000,-999.000
      74AB29_1,    I5,    83,  1,     19,    19.,2,19871210,0036,-32.2417, 101.8283, 2842,    501.9,   9.5781,  34.7280,2,  34.7158,2,    238.8,2,  9.5207,    238.1,2,     3.81,2,    15.54,2,     0.00,2,     1.13,2, -999.000,5, -999.000,5, -999.000,5,-999.0000,5,  -999.00,9,-999.000,9,-999.0000,-999.000,-999.000,-999.000
      74AB29_1,    I5,    83,  1,     18,    18.,2,19871210,0036,-32.2417, 101.8283, 2842,    602.0,   9.1027,  34.6600,2,  34.6527,2,    235.3,2,  9.0356,    235.5,2,     4.47,2,    17.11,2,     0.00,2,     1.23,2, -999.000,5, -999.000,5, -999.000,5,-999.0000,5,  -999.00,9,-999.000,9,-999.0000,-999.000,-999.000,-999.000
      74AB29_1,    I5,    83,  1,     17,    17.,2,19871210,0036,-32.2417, 101.8283, 2842,    700.4,   8.4548,  34.5870,2,  34.5843,2,    227.0,2,  8.3797,    226.8,2,     6.91,2,    20.23,2,     0.00,2,     1.40,2, -999.000,5, -999.000,5, -999.000,5,-999.0000,5,  -999.00,9,-999.000,9,-999.0000,-999.000,-999.000,-999.000
      74AB29_1,    I5,    83,  1,     16,    16.,2,19871210,0036,-32.2417, 101.8283, 2842,    800.7,   7.3194,  34.5130,2,  34.5034,2,    205.3,2,  7.2398,    204.2,2,    14.27,2,    24.83,2,     0.00,2,     1.71,2, -999.000,5, -999.000,5, -999.000,5,-999.0000,5,  -999.00,9,-999.000,9,-999.0000,-999.000,-999.000,-999.000
      74AB29_1,    I5,    83,  1,     15,    15.,2,19871210,0036,-32.2417, 101.8283, 2842,    900.8,   5.7755,  34.4250,2,  34.4125,2,    198.3,2,  5.6959,    197.7,2,    23.90,2,    28.74,2,     0.00,2,     2.00,2, -999.000,5, -999.000,5, -999.000,5,-999.0000,5,  -999.00,9,-999.000,9,-999.0000,-999.000,-999.000,-999.000
      74AB29_1,    I5,    83,  1,     14,    14.,2,19871210,0036,-32.2417, 101.8283, 2842,   1003.1,   4.5622,  34.3810,2,  34.3766,2,    194.3,2,  4.4822,    194.7,2,    34.35,2,    31.28,2,     0.00,2,     2.20,2, -999.000,5, -999.000,5, -999.000,5,-999.0000,5,  -999.00,9,-999.000,9,-999.0000,-999.000,-999.000,-999.000
      74AB29_1,    I5,    83,  1,     13,    13.,2,19871210,0036,-32.2417, 101.8283, 2842,   1100.5,   4.0903,  34.4150,2,  34.4110,2,    181.7,2,  4.0056,    180.4,2,    47.26,2,    32.95,2,     0.00,2,     2.34,2, -999.000,5, -999.000,5, -999.000,5,-999.0000,5,  -999.00,9,-999.000,9,-999.0000,-999.000,-999.000,-999.000
      74AB29_1,    I5,    83,  1,     12,    12.,2,19871210,0036,-32.2417, 101.8283, 2842,   1198.9,   3.6368,  34.4550,2,  34.4502,2,    170.4,2,  3.5477,    169.9,2,    57.54,2,    34.12,2,     0.00,2,     2.47,2, -999.000,5, -999.000,5, -999.000,5,-999.0000,5,  -999.00,9,-999.000,9,-999.0000,-999.000,-999.000,-999.000
      74AB29_1,    I5,    83,  1,     11,    11.,2,19871210,0036,-32.2417, 101.8283, 2842,   1398.5,   3.2224,  34.5480,2,  34.5464,2,    156.9,2,  3.1206,    155.1,2,    74.35,2,    35.00,2,     0.00,2,     2.52,2, -999.000,5, -999.000,5, -999.000,5,-999.0000,5,  -999.00,9,-999.000,9,-999.0000,-999.000,-999.000,-999.000
      74AB29_1,    I5,    83,  1,     10,    10.,2,19871210,0036,-32.2417, 101.8283, 2842,   1600.5,   2.8899,  34.6160,2,  34.6103,2,    156.5,2,  2.7748,    156.4,2,    82.20,2,    34.31,2,     0.00,2,     2.48,2, -999.000,5, -999.000,5, -999.000,5,-999.0000,5,  -999.00,9,-999.000,9,-999.0000,-999.000,-999.000,-999.000
      74AB29_1,    I5,    83,  1,      9,     9.,2,19871210,0036,-32.2417, 101.8283, 2842,   1800.9,   2.6055,  34.6700,2,  34.6663,2,    162.1,2,  2.4770,    162.9,2,    88.08,2,    33.82,2,     0.00,2,     2.40,2, -999.000,5, -999.000,5, -999.000,5,-999.0000,5,  -999.00,9,-999.000,9,-999.0000,-999.000,-999.000,-999.000
      74AB29_1,    I5,    83,  1,      8,     8.,2,19871210,0036,-32.2417, 101.8283, 2842,   2001.6,   2.4070,  34.7020,2,  34.7007,2,    168.6,2,  2.2640,    169.5,2,    91.18,2,    33.23,2,     0.00,2,     2.35,2, -999.000,5, -999.000,5, -999.000,5,-999.0000,5,  -999.00,9,-999.000,9,-999.0000,-999.000,-999.000,-999.000
      74AB29_1,    I5,    83,  1,      7,     7.,2,19871210,0036,-32.2417, 101.8283, 2842,   2200.9,   2.2166,  34.7220,2,  34.7209,2,    175.1,2,  2.0591,    175.1,2,    95.43,2,    32.94,2,     0.00,2,     2.32,2, -999.000,5, -999.000,5, -999.000,5,-999.0000,5,  -999.00,9,-999.000,9,-999.0000,-999.000,-999.000,-999.000
      74AB29_1,    I5,    83,  1,      6,     6.,2,19871210,0036,-32.2417, 101.8283, 2842,   2400.9,   2.0381,  34.7330,2,  34.7319,2,    182.5,2,  1.8658,    181.6,2,    96.74,2,    31.96,2,     0.00,2,     2.28,2, -999.000,5, -999.000,5, -999.000,5,-999.0000,5,  -999.00,9,-999.000,9,-999.0000,-999.000,-999.000,-999.000
      74AB29_1,    I5,    83,  1,      5,     5.,2,19871210,0036,-32.2417, 101.8283, 2842,   2601.9,   1.8766,  34.7410,2,  34.7408,2,    191.6,2,  1.6889,    191.2,2,    95.12,2,    31.08,2,     0.00,2,     2.20,2, -999.000,5, -999.000,5, -999.000,5,-999.0000,5,  -999.00,9,-999.000,9,-999.0000,-999.000,-999.000,-999.000
      74AB29_1,    I5,    83,  1,      4,     4.,2,19871210,0036,-32.2417, 101.8283, 2842,   2601.9,   1.8766,  34.7410,2,  34.7390,2,    191.6,2,  1.6889,    191.6,2,    94.96,2,    31.18,2,     0.00,2,     2.21,2, -999.000,5, -999.000,5, -999.000,5,-999.0000,5,  -999.00,9,-999.000,9,-999.0000,-999.000,-999.000,-999.000
      74AB29_1,    I5,    83,  1,      3,     3.,2,19871210,0036,-32.2417, 101.8283, 2842,   2801.2,   1.6871,  34.7400,2,  34.7366,2,    196.0,2,  1.4847,    195.5,2,    99.38,2,    31.28,2,     0.00,2,     2.20,2, -999.000,5, -999.000,5, -999.000,5,-999.0000,5,  -999.00,9,-999.000,9,-999.0000,-999.000,-999.000,-999.000
      74AB29_1,    I5,    83,  1,      2,     2.,2,19871210,0036,-32.2417, 101.8283, 2842,   2801.2,   1.6871,  34.7400,2,  34.7372,2,    196.0,2,  1.4847,    196.0,2,    99.55,2,    31.37,2,     0.00,2,     2.20,2, -999.000,5, -999.000,5, -999.000,5,-999.0000,5,  -999.00,9,-999.000,9,-999.0000,-999.000,-999.000,-999.000
      74AB29_1,    I5,    83,  1,      1,     1.,2,19871210,0036,-32.2417, 101.8283, 2842,   2871.4,   1.6516,  34.7400,2,  34.7374,2,    197.3,2,  1.4434,    196.0,2,   100.22,2,     0.00,2,     0.00,2,     2.20,2, -999.000,5, -999.000,5, -999.000,5,-999.0000,5,  -999.00,9,-999.000,9,-999.0000,-999.000,-999.000,-999.000