BOTTLE,20060509WHPSIOSA
EXPOCODE,SECT_ID,STNNBR,CASTNO,SAMPNO,BTLNBR,BTLNBR_FLAG_W,DATE,TIME,LATITUDE,LONGITUDE,DEPTH,CTDPRS,CTDTMP,CTDSAL,CTDSAL_FLAG_W,SALNTY,SALNTY_FLAG_W,CTDOXY,CTDOXY_FLAG_W,THETA,OXYGEN,OXYGEN_FLAG_W,SILCAT,SILCAT_FLAG_W,NITRAT,NITRAT_FLAG_W,NITRIT,NITRIT_FLAG_W,PHSPHT,PHSPHT_FLAG_W,CFC-11,CFC-11_FLAG_W,CFC-12,CFC-12_FLAG_W,TRITUM,TRITUM_FLAG_W,HELIUM,HELIUM_FLAG_W,DELHE3,DELHE3_FLAG_W,NEON,NEON_FLAG_W,HELIER,TRITER,NEONER,DELHER
,,,,,,,,,,,,DBAR,IPTS-68,PSS-78,,PSS-78,,UMOL/KG,,IPTS-68,UMOL/KG,,UMOL/KG,,UMOL/KG,,UMOL/KG,,UMOL/KG,,PMOL/KG,,PMOL/KG,,TU,,UMOL/KG,,PERCNT,,NMOL/KG,,NMOL/KG,TU,NMOL/KG,PERCNT
      74AB29_1,    I5,    94,  1,     24,    24.,2,19871213,0013,-33.8950, 107.2250, 5302,     13.4,  17.9033,  35.8910,2,  35.8933,2,    235.9,2, 17.9010,    237.9,2,     1.92,2,     0.10,2,     0.00,2,     0.12,2,    2.182,2,    1.174,2,    0.649,2,   1.7280,2,    -1.60,2,   7.150,2,  0.0090,   0.008,   0.140,   0.200
      74AB29_1,    I5,    94,  1,     23,    23.,2,19871213,0013,-33.8950, 107.2250, 5302,    101.9,  15.7188,  35.7820,2,-999.0000,5,    241.5,2, 15.7084,    238.7,2,     0.89,2,     0.68,2,     0.00,2,     0.21,2,    2.158,2,    1.188,2,    0.806,2,   1.7250,2,     0.00,2,   7.220,2,  0.0090,   0.008,   0.140,   0.200
      74AB29_1,    I5,    94,  1,     22,    22.,2,19871213,0013,-33.8950, 107.2250, 5302,    201.2,  13.4949,  35.3660,2,  35.3498,2,    240.6,2, 13.4664,    240.6,2,     1.20,2,     4.40,2,     0.00,2,     0.44,2,    2.530,2,    1.325,2,    0.682,2,   1.7900,2,     2.10,2,   7.480,2,  0.0090,   0.008,   0.150,   0.200
      74AB29_1,    I5,    94,  1,     21,    21.,2,19871213,0013,-33.8950, 107.2250, 5302,    300.2,  11.2475,  34.9690,2,  34.9626,2,    241.4,2, 11.2098,    244.1,2,     2.51,2,     9.77,2,     0.00,2,     0.75,2, -999.000,5, -999.000,5,    0.060,2,   1.8390,2,     0.80,2,   7.630,2,  0.0090,   0.008,   0.150,   0.200
      74AB29_1,    I5,    94,  1,     20,    20.,2,19871213,0013,-33.8950, 107.2250, 5302,    401.3,  10.0301,  34.8030,2,  34.7708,2,    243.6,2,  9.9831,    245.0,2,     3.66,2,    13.29,2,     0.00,2,     0.90,2,    2.586,2,    1.282,2, -999.000,9,   1.8230,2,     3.70,2,   7.650,2,  0.0090,-999.000,   0.150,   0.200
      74AB29_1,    I5,    94,  1,     19,    19.,2,19871213,0013,-33.8950, 107.2250, 5302,    501.4,   9.4037,  34.7130,2,  34.6863,2,    239.2,2,  9.3470,    237.2,2,     3.96,2,    16.13,2,     0.00,2,     1.01,2,    1.971,2,    1.095,2, -999.000,9,   1.8360,2,     4.90,2,   7.630,2,  0.0090,-999.000,   0.150,   0.200
      74AB29_1,    I5,    94,  1,     18,    18.,2,19871213,0013,-33.8950, 107.2250, 5302,    601.1,   8.7522,  34.6440,2,  34.6113,2,    236.2,2,  8.6868,    237.7,2,     5.43,2,    18.28,2,     0.00,2,     1.03,2,    1.891,2,    0.997,2, -999.000,9,   1.8660,2,     7.80,2,   7.750,2,  0.0090,-999.000,   0.150,   0.200
      74AB29_1,    I5,    94,  1,     17,    17.,2,19871213,0013,-33.8950, 107.2250, 5302,    700.9,   8.0743,  34.5600,2,  34.5523,2,    220.1,2,  8.0012,    219.9,2,    10.90,2,    21.60,2,     0.00,2,     1.32,2,    1.205,2,    0.665,2, -999.000,9,   1.8630,2,     8.40,2,   7.820,2,  0.0090,-999.000,   0.160,   0.200
      74AB29_1,    I5,    94,  1,     16,    16.,2,19871213,0013,-33.8950, 107.2250, 5302,    800.0,   6.6854,  34.4740,2,  34.4636,2,    202.2,2,  6.6097,    199.0,2,    19.03,2,    26.49,2,     0.00,2,     1.67,2,    0.505,2,    0.290,2, -999.000,9,   1.8790,2,     8.10,2,   7.940,2,  0.0090,-999.000,   0.160,   0.200
      74AB29_1,    I5,    94,  1,     15,    15.,2,19871213,0013,-33.8950, 107.2250, 5302,    899.3,   5.2221,  34.4000,2,  34.3955,2,    196.1,2,  5.1465,    196.4,2,    29.66,2,    29.62,2,     0.00,2,     1.98,2,    0.314,2,    0.174,2, -999.000,9,   1.8840,2,     7.90,2,   8.100,2,  0.0090,-999.000,   0.160,   0.200
      74AB29_1,    I5,    94,  1,     14,    14.,2,19871213,0013,-33.8950, 107.2250, 5302,   1000.5,   4.3467,  34.3900,2,  34.3964,2,    189.5,2,  4.2685,    186.4,2,    42.12,2,    31.68,2,     0.00,2,     2.14,2,    0.175,2,    0.142,2, -999.000,9,   1.9120,2,     8.80,2,   8.060,2,  0.0100,-999.000,   0.160,   0.200
      74AB29_1,    I5,    94,  1,     13,    13.,2,19871213,0013,-33.8950, 107.2250, 5302,   1199.9,   3.5968,  34.4660,2,  34.4818,2,    170.0,2,  3.5080,    162.1,2,    64.43,2,    34.21,2,     0.00,2,     2.39,2,    0.057,2,    0.000,2, -999.000,9,   1.9540,2,     7.60,2,   8.280,2,  0.0100,-999.000,   0.170,   0.200
      74AB29_1,    I5,    94,  1,     12,    12.,2,19871213,0013,-33.8950, 107.2250, 5302,   1396.0,   3.2009,  34.5510,2,  34.5504,2,    157.3,2,  3.0995,    155.6,2,    76.00,2,    34.60,2,     0.00,2,     2.42,2, -999.000,5, -999.000,5, -999.000,5,-999.0000,5,  -999.00,9,-999.000,9,-999.0000,-999.000,-999.000,-999.000
      74AB29_1,    I5,    94,  1,     11,    11.,2,19871213,0013,-33.8950, 107.2250, 5302,   1800.0,   2.6020,  34.6650,2,  34.6649,2,    162.1,2,  2.4736,    161.6,2,    90.27,2,    33.82,2,     0.00,2,     2.37,2, -999.000,5, -999.000,5, -999.000,9,   1.8800,2,     7.90,2,   8.160,2,  0.0090,-999.000,   0.160,   0.200
      74AB29_1,    I5,    94,  1,     10,    10.,2,19871213,0013,-33.8950, 107.2250, 5302,   2196.7,   2.2375,  34.7190,2,  34.7160,2,    164.3,2,  2.0800,    164.7,2,   107.19,2,    33.52,2,     0.00,2,     2.34,2, -999.000,5, -999.000,5, -999.000,5,-999.0000,5,  -999.00,9,-999.000,9,-999.0000,-999.000,-999.000,-999.000
      74AB29_1,    I5,    94,  1,      9,     9.,2,19871213,0013,-33.8950, 107.2250, 5302,   2602.0,   1.9396,  34.7290,2,  34.7276,2,    174.2,2,  1.7507,    175.1,2,   110.64,2,    32.94,2,     0.00,2,     2.27,2,    0.000,2,    0.000,2, -999.000,9,   1.9290,2,     8.80,2,   8.330,2,  0.0100,-999.000,   0.170,   0.200
      74AB29_1,    I5,    94,  1,      8,     8.,2,19871213,0013,-33.8950, 107.2250, 5302,   3002.1,   1.6931,  34.7330,2,  34.7317,2,    186.0,2,  1.4715,    186.8,2,   110.26,2,    33.04,2,     0.00,2,     2.21,2, -999.000,5, -999.000,5, -999.000,5,-999.0000,5,  -999.00,9,-999.000,9,-999.0000,-999.000,-999.000,-999.000
      74AB29_1,    I5,    94,  1,      7,     7.,2,19871213,0013,-33.8950, 107.2250, 5302,   3405.3,   1.4747,  34.7290,2,  34.7307,2,    192.5,2,  1.2185,    196.8,2,   110.87,2,    32.16,2,     0.00,2,     2.21,2, -999.000,5, -999.000,5, -999.000,9,   1.8950,2,    15.00,2,   8.420,2,  0.0090,-999.000,   0.170,   0.200
      74AB29_1,    I5,    94,  1,      6,     6.,2,19871213,0013,-33.8950, 107.2250, 5302,   3801.3,   1.2802,  34.7220,2,  34.7221,2,    196.0,2,  0.9883,    201.6,2,   115.97,2,    32.25,2,     0.00,2,     2.22,2, -999.000,5, -999.000,5, -999.000,5,-999.0000,5,  -999.00,9,-999.000,9,-999.0000,-999.000,-999.000,-999.000
      74AB29_1,    I5,    94,  1,      5,     5.,2,19871213,0013,-33.8950, 107.2250, 5302,   4195.8,   1.1452,  34.7170,2,  34.7154,2,    202.9,2,  0.8149,    203.8,2,   118.92,2,    32.64,2,     0.00,2,     2.25,2, -999.000,5, -999.000,5, -999.000,9,   1.9160,2,     6.40,2,   8.330,2,  0.0100,-999.000,   0.170,   0.200
      74AB29_1,    I5,    94,  1,      4,     4.,2,19871213,0013,-33.8950, 107.2250, 5302,   4611.0,   1.0043,  34.7100,2,  34.7091,2,    207.7,2,  0.6320,    208.6,2,   122.18,2,    32.74,2,     0.00,2,     2.28,2, -999.000,5, -999.000,5, -999.000,5,-999.0000,5,  -999.00,9,-999.000,9,-999.0000,-999.000,-999.000,-999.000
      74AB29_1,    I5,    94,  1,      3,     3.,2,19871213,0013,-33.8950, 107.2250, 5302,   4913.1,   0.9618,  34.7060,2,  34.7052,2,    209.4,2,  0.5559,    209.9,2,   123.14,2,    32.84,2,     0.00,2,     2.29,2, -999.000,5, -999.000,5, -999.000,9,   1.9040,2,    10.90,2,   8.290,2,  0.0100,-999.000,   0.170,   0.200
      74AB29_1,    I5,    94,  1,      2,     2.,2,19871213,0013,-33.8950, 107.2250, 5302,   5112.6,   0.9588,  34.7050,2,  34.7042,2,    211.2,2,  0.5293,    209.9,2,   123.42,2,    32.84,2,     0.00,2,     2.29,2, -999.000,5, -999.000,5, -999.000,5,-999.0000,5,  -999.00,9,-999.000,9,-999.0000,-999.000,-999.000,-999.000
      74AB29_1,    I5,    94,  1,      1,     1.,2,19871213,0013,-33.8950, 107.2250, 5302,   5391.8,   0.9683,  34.7040,2,  34.7068,2,    212.5,2,  0.5044,    209.4,2,   123.87,2,    32.94,2,     0.00,2,     2.28,2,    0.006,2,    0.000,2, -999.000,9,   1.9220,2,     8.60,2,   8.420,2,  0.0100,-999.000,   0.170,   0.200
      74AB29_1,    I5,    95,  1,     22,    24.,2,19871213,0846,-34.1633, 107.9967, 4984,      3.5,  17.0210,  35.7570,2,  35.7724,2,    252.0,2, 17.0204,    245.7,2,     1.52,2,     0.00,2,     0.00,2,  -999.00,5, -999.000,5, -999.000,5, -999.000,5,-999.0000,5,  -999.00,9,-999.000,9,-999.0000,-999.000,-999.000,-999.000
      74AB29_1,    I5,    95,  1,     21,    23.,2,19871213,0846,-34.1633, 107.9967, 4984,     92.4,  15.1071,  35.6240,2,  35.6551,2,    246.3,2, 15.0930,    244.9,2,     1.37,2,     0.59,2,     0.00,2,  -999.00,5, -999.000,5, -999.000,5, -999.000,5,-999.0000,5,  -999.00,9,-999.000,9,-999.0000,-999.000,-999.000,-999.000
      74AB29_1,    I5,    95,  1,     20,    22.,2,19871213,0846,-34.1633, 107.9967, 4984,    191.6,  13.9702,  35.4570,2,  35.4602,2,    243.2,2, 13.9424,    249.3,2,     1.53,2,     3.22,2,     0.00,2,  -999.00,5, -999.000,5, -999.000,5, -999.000,5,-999.0000,5,  -999.00,9,-999.000,9,-999.0000,-999.000,-999.000,-999.000
      74AB29_1,    I5,    95,  1,     19,    21.,2,19871213,0846,-34.1633, 107.9967, 4984,    290.7,  12.0690,  35.0830,2,  35.0994,2,    245.3,2, 12.0307,    246.7,2,     2.03,2,     7.82,2,     0.00,2,  -999.00,5, -999.000,5, -999.000,5, -999.000,5,-999.0000,5,  -999.00,9,-999.000,9,-999.0000,-999.000,-999.000,-999.000
      74AB29_1,    I5,    95,  1,     18,    20.,2,19871213,0846,-34.1633, 107.9967, 4984,    390.9,  10.6097,  34.8460,2,-999.0000,5,    247.0,2, 10.5867,    249.3,2,     3.20,2,    11.73,2,     0.00,2,  -999.00,5, -999.000,5, -999.000,5, -999.000,5,-999.0000,5,  -999.00,9,-999.000,9,-999.0000,-999.000,-999.000,-999.000
      74AB29_1,    I5,    95,  1,     17,    19.,2,19871213,0846,-34.1633, 107.9967, 4984,    490.6,   9.8139,  34.7380,2,  34.7315,2,    244.4,2,  9.7570,    244.6,2,     3.85,2,    14.86,2,     0.00,2,  -999.00,5, -999.000,5, -999.000,5, -999.000,5,-999.0000,5,  -999.00,9,-999.000,9,-999.0000,-999.000,-999.000,-999.000
      74AB29_1,    I5,    95,  1,     16,    18.,2,19871213,0846,-34.1633, 107.9967, 4984,    583.1,   9.3130,  34.6730,2,  34.6787,2,    236.6,2,  9.2472,    236.4,2,     4.85,2,    17.01,2,     0.00,2,  -999.00,5, -999.000,5, -999.000,5, -999.000,5,-999.0000,5,  -999.00,9,-999.000,9,-999.0000,-999.000,-999.000,-999.000
      74AB29_1,    I5,    95,  1,     15,    17.,2,19871213,0846,-34.1633, 107.9967, 4984,    690.8,   8.6296,  34.5920,2,  34.6016,2,    234.4,2,  8.5547,    233.8,2,     6.33,2,    19.45,2,     0.00,2,  -999.00,5, -999.000,5, -999.000,5, -999.000,5,-999.0000,5,  -999.00,9,-999.000,9,-999.0000,-999.000,-999.000,-999.000
      74AB29_1,    I5,    95,  1,     14,    16.,2,19871213,0846,-34.1633, 107.9967, 4984,    790.6,   7.5908,  34.5090,2,  34.5201,2,    211.3,2,  7.5107,    207.7,2,    12.94,2,    24.63,2,     0.00,2,  -999.00,5, -999.000,5, -999.000,5, -999.000,5,-999.0000,5,  -999.00,9,-999.000,9,-999.0000,-999.000,-999.000,-999.000
      74AB29_1,    I5,    95,  1,     13,    15.,2,19871213,0846,-34.1633, 107.9967, 4984,    893.6,   5.8777,  34.4260,2,  34.4290,2,    199.6,2,  5.7981,    197.7,2,    24.35,2,    29.13,2,     0.00,2,  -999.00,5, -999.000,5, -999.000,5, -999.000,5,-999.0000,5,  -999.00,9,-999.000,9,-999.0000,-999.000,-999.000,-999.000
      74AB29_1,    I5,    95,  1,     12,    14.,2,19871213,0846,-34.1633, 107.9967, 4984,    988.5,   4.8339,  34.3890,2,-999.0000,5,    194.3,2,  4.8231,    192.1,2,    34.10,2,    31.58,2,     0.00,2,  -999.00,5, -999.000,5, -999.000,5, -999.000,5,-999.0000,5,  -999.00,9,-999.000,9,-999.0000,-999.000,-999.000,-999.000
      74AB29_1,    I5,    95,  1,     11,    13.,2,19871213,0846,-34.1633, 107.9967, 4984,   1191.3,   3.6322,  34.4480,2,  34.4449,2,    176.1,2,  3.5438,    175.6,2,    57.55,2,    34.31,2,     0.00,2,  -999.00,5, -999.000,5, -999.000,5, -999.000,5,-999.0000,5,  -999.00,9,-999.000,9,-999.0000,-999.000,-999.000,-999.000
      74AB29_1,    I5,    95,  1,     10,    12.,2,19871213,0846,-34.1633, 107.9967, 4984,   1492.3,   2.9674,  34.5660,2,  34.5704,2,    160.8,2,  2.8606,   -999.0,5,    76.21,2,    35.19,2,     0.00,2,  -999.00,5, -999.000,5, -999.000,5, -999.000,5,-999.0000,5,  -999.00,9,-999.000,9,-999.0000,-999.000,-999.000,-999.000
      74AB29_1,    I5,    95,  1,      9,    11.,2,19871213,0846,-34.1633, 107.9967, 4984,   1791.0,   2.6230,  34.6580,2,  34.6590,2,    160.8,2,  2.4951,   -999.0,5,    88.92,2,    34.50,2,     0.00,2,  -999.00,5, -999.000,5, -999.000,5, -999.000,5,-999.0000,5,  -999.00,9,-999.000,9,-999.0000,-999.000,-999.000,-999.000
      74AB29_1,    I5,    95,  1,      8,    10.,2,19871213,0846,-34.1633, 107.9967, 4984,   2095.2,   2.3391,  34.7090,2,  34.7111,2,    165.1,2,  2.1889,   -999.0,5,    99.15,2,    34.01,2,     0.00,2,  -999.00,5, -999.000,5, -999.000,5, -999.000,5,-999.0000,5,  -999.00,9,-999.000,9,-999.0000,-999.000,-999.000,-999.000
      74AB29_1,    I5,    95,  1,      7,     9.,2,19871213,0846,-34.1633, 107.9967, 4984,   2395.8,   2.0887,  34.7260,2,  34.7298,2,    170.8,2,  1.9159,   -999.0,5,   105.42,2,    33.62,2,     0.00,2,  -999.00,5, -999.000,5, -999.000,5, -999.000,5,-999.0000,5,  -999.00,9,-999.000,9,-999.0000,-999.000,-999.000,-999.000
      74AB29_1,    I5,    95,  1,      6,     8.,2,19871213,0846,-34.1633, 107.9967, 4984,   2694.0,   1.8837,  34.7300,2,  34.7298,2,    176.0,2,  1.6874,    178.1,2,   107.57,2,    33.62,2,     0.00,2,  -999.00,5, -999.000,5, -999.000,5, -999.000,5,-999.0000,5,  -999.00,9,-999.000,9,-999.0000,-999.000,-999.000,-999.000
      74AB29_1,    I5,    95,  1,      5,     7.,2,19871213,0846,-34.1633, 107.9967, 4984,   2997.6,   1.7013,  34.7310,2,  34.7345,2,    184.7,2,  1.4800,   -999.0,5,   112.36,2,    33.13,2,     0.00,2,  -999.00,5, -999.000,5, -999.000,5, -999.000,5,-999.0000,5,  -999.00,9,-999.000,9,-999.0000,-999.000,-999.000,-999.000
      74AB29_1,    I5,    95,  1,      4,     6.,2,19871213,0846,-34.1633, 107.9967, 4984,   3300.5,   1.5203,  34.7300,2,  34.7298,2,    189.9,2,  1.2735,    192.9,2,   114.84,2,    33.13,2,     0.00,2,  -999.00,5, -999.000,5, -999.000,5, -999.000,5,-999.0000,5,  -999.00,9,-999.000,9,-999.0000,-999.000,-999.000,-999.000
      74AB29_1,    I5,    95,  1,      3,     5.,2,19871213,0846,-34.1633, 107.9967, 4984,   3701.3,   1.3084,  34.7250,2,  34.7217,2,    200.3,2,  1.0262,    199.9,2,   118.80,2,    33.04,2,     0.00,2,  -999.00,5, -999.000,5, -999.000,5, -999.000,5,-999.0000,5,  -999.00,9,-999.000,9,-999.0000,-999.000,-999.000,-999.000
      74AB29_1,    I5,    95,  1,      2,     3.,2,19871213,0846,-34.1633, 107.9967, 4984,   4503.5,   1.0195,  34.7120,2,  34.7142,2,    210.7,2,  0.6588,    209.0,2,   121.93,2,    32.84,2,     0.00,2,  -999.00,5, -999.000,5, -999.000,5, -999.000,5,-999.0000,5,  -999.00,9,-999.000,9,-999.0000,-999.000,-999.000,-999.000
      74AB29_1,    I5,    95,  1,      1,     2.,2,19871213,0846,-34.1633, 107.9967, 4984,   4906.1,   0.9495,  34.7060,2,  34.7070,2,    215.1,2,  0.5448,   -999.0,5,   123.26,2,    32.74,2,     0.00,2,  -999.00,5, -999.000,5, -999.000,5, -999.000,5,-999.0000,5,  -999.00,9,-999.000,9,-999.0000,-999.000,-999.000,-999.000