BOTTLE,20060509WHPSIOSA
EXPOCODE,SECT_ID,STNNBR,CASTNO,SAMPNO,BTLNBR,BTLNBR_FLAG_W,DATE,TIME,LATITUDE,LONGITUDE,DEPTH,CTDPRS,CTDTMP,CTDSAL,CTDSAL_FLAG_W,SALNTY,SALNTY_FLAG_W,CTDOXY,CTDOXY_FLAG_W,THETA,OXYGEN,OXYGEN_FLAG_W,SILCAT,SILCAT_FLAG_W,NITRAT,NITRAT_FLAG_W,NITRIT,NITRIT_FLAG_W,PHSPHT,PHSPHT_FLAG_W,CFC-11,CFC-11_FLAG_W,CFC-12,CFC-12_FLAG_W,TRITUM,TRITUM_FLAG_W,HELIUM,HELIUM_FLAG_W,DELHE3,DELHE3_FLAG_W,NEON,NEON_FLAG_W,HELIER,TRITER,NEONER,DELHER
,,,,,,,,,,,,DBAR,IPTS-68,PSS-78,,PSS-78,,UMOL/KG,,IPTS-68,UMOL/KG,,UMOL/KG,,UMOL/KG,,UMOL/KG,,UMOL/KG,,PMOL/KG,,PMOL/KG,,TU,,UMOL/KG,,PERCNT,,NMOL/KG,,NMOL/KG,TU,NMOL/KG,PERCNT
      74AB29_1,    I5,    23,  1,     24,    24.,2,19871118,2033,-32.9950,  37.0800, 5108,      3.5,  19.0413,  35.7150,2,  35.7185,2,    240.8,2, 19.0407,    236.6,2,     1.40,2,     0.00,2,    -0.01,2,     0.21,2, -999.000,5,    1.224,2, -999.000,5,-999.0000,5,  -999.00,9,-999.000,9,-999.0000,-999.000,-999.000,-999.000
      74AB29_1,    I5,    23,  1,     23,    23.,2,19871118,2033,-32.9950,  37.0800, 5108,    103.8,  17.3543,  35.6510,2,  35.6532,2,    227.2,2, 17.3369,    230.1,2,     2.73,2,     1.76,2,     0.03,2,     0.33,2,    2.106,2,    1.159,2, -999.000,5,-999.0000,5,  -999.00,9,-999.000,9,-999.0000,-999.000,-999.000,-999.000
      74AB29_1,    I5,    23,  1,     22,    22.,2,19871118,2033,-32.9950,  37.0800, 5108,    203.3,  16.8573,  35.6070,2,  35.6092,2,    222.4,2, 16.8238,    224.5,2,     3.25,2,     3.32,2,     0.02,2,     0.42,2,    2.121,2,    1.200,2, -999.000,5,-999.0000,5,  -999.00,9,-999.000,9,-999.0000,-999.000,-999.000,-999.000
      74AB29_1,    I5,    23,  1,     21,    21.,2,19871118,2033,-32.9950,  37.0800, 5108,    302.3,  15.8783,  35.5240,2,  35.5212,2,    215.0,2, 15.8304,    215.4,2,     3.75,2,     5.27,2,     0.00,2,     0.55,2,    2.064,2,    1.115,2, -999.000,5,-999.0000,5,  -999.00,9,-999.000,9,-999.0000,-999.000,-999.000,-999.000
      74AB29_1,    I5,    23,  1,     20,    20.,2,19871118,2033,-32.9950,  37.0800, 5108,    403.3,  14.6154,  35.4090,2,  35.4123,2,    216.3,2, 14.5548,    219.3,2,     3.76,2,     6.74,2,    -0.01,2,     0.61,2,    1.989,2,    1.141,2, -999.000,5,-999.0000,5,  -999.00,9,-999.000,9,-999.0000,-999.000,-999.000,-999.000
      74AB29_1,    I5,    23,  1,     19,    19.,2,19871118,2033,-32.9950,  37.0800, 5108,    601.6,  12.6324,  35.1600,2,  35.1413,2,    218.4,2, 12.5498,    221.5,2,     4.60,2,    10.94,2,     0.01,2,     0.91,2,    1.728,2,    1.001,2, -999.000,5,-999.0000,5,  -999.00,9,-999.000,9,-999.0000,-999.000,-999.000,-999.000
      74AB29_1,    I5,    23,  1,     18,    18.,2,19871118,2033,-32.9950,  37.0800, 5108,    800.4,  10.3456,  34.8550,2,  34.8499,2,    214.0,2, 10.2481,    217.7,2,     7.29,2,    16.22,2,     0.00,2,     1.23,2,    1.095,2,    0.616,2, -999.000,5,-999.0000,5,  -999.00,9,-999.000,9,-999.0000,-999.000,-999.000,-999.000
      74AB29_1,    I5,    23,  1,     17,    17.,2,19871118,2033,-32.9950,  37.0800, 5108,    999.8,   7.8088,  34.6180,2,  34.5989,2,    203.1,2,  7.7044,    204.7,2,    16.32,2,    23.56,2,     0.00,2,     1.68,2,    1.023,2,    0.630,2, -999.000,5,-999.0000,5,  -999.00,9,-999.000,9,-999.0000,-999.000,-999.000,-999.000
      74AB29_1,    I5,    23,  1,     16,    16.,2,19871118,2033,-32.9950,  37.0800, 5108,   1201.9,   5.5161,  34.4400,2,-999.0000,5,    199.1,2,  5.4929,    194.7,2,    33.21,2,    29.32,2,    -0.01,2,     2.09,2,    0.398,2,    0.230,2, -999.000,5,-999.0000,5,  -999.00,9,-999.000,9,-999.0000,-999.000,-999.000,-999.000
      74AB29_1,    I5,    23,  1,     15,    15.,2,19871118,2033,-32.9950,  37.0800, 5108,   1500.0,   3.9243,  34.5340,2,  34.5166,2,    170.8,2,  3.8060,    173.0,2,    57.47,2,    33.33,2,     0.00,2,     2.38,2,    0.146,2,    0.107,2, -999.000,5,-999.0000,5,  -999.00,9,-999.000,9,-999.0000,-999.000,-999.000,-999.000
      74AB29_1,    I5,    23,  1,     14,    14.,2,19871118,2033,-32.9950,  37.0800, 5108,   1799.9,   2.9889,  34.6120,2,  34.6093,2,    175.6,2,  2.8554,    176.0,2,    68.68,2,    33.33,2,     0.01,2,     2.36,2, -999.000,5, -999.000,5, -999.000,5,-999.0000,5,  -999.00,9,-999.000,9,-999.0000,-999.000,-999.000,-999.000
      74AB29_1,    I5,    23,  1,     13,    13.,2,19871118,2033,-32.9950,  37.0800, 5108,   2102.7,   2.7235,  34.7250,2,  34.7231,2,    186.9,2,  2.5666,    187.7,2,    72.52,2,    31.08,2,     0.00,2,     2.19,2, -999.000,5, -999.000,5, -999.000,5,-999.0000,5,  -999.00,9,-999.000,9,-999.0000,-999.000,-999.000,-999.000
      74AB29_1,    I5,    23,  1,     12,    12.,2,19871118,2033,-32.9950,  37.0800, 5108,   2401.5,   2.5620,  34.7780,2,  34.7746,2,    202.1,2,  2.3801,    200.7,2,    69.52,2,    29.13,2,     0.00,2,     2.03,2, -999.000,5, -999.000,5, -999.000,5,-999.0000,5,  -999.00,9,-999.000,9,-999.0000,-999.000,-999.000,-999.000
      74AB29_1,    I5,    23,  1,     11,    11.,2,19871118,2033,-32.9950,  37.0800, 5108,   2702.8,   2.3975,  34.8050,2,  34.8058,2,    211.6,2,  2.1898,    212.4,2,    67.69,2,    27.95,2,     0.00,2,     1.95,2, -999.000,5, -999.000,5, -999.000,5,-999.0000,5,  -999.00,9,-999.000,9,-999.0000,-999.000,-999.000,-999.000
      74AB29_1,    I5,    23,  1,     10,    10.,2,19871118,2033,-32.9950,  37.0800, 5108,   3004.7,   2.2221,  34.8070,2,  34.8056,2,    216.8,2,  1.9883,    218.5,2,    69.70,2,    27.66,2,    -0.01,2,     1.94,2, -999.000,5, -999.000,5, -999.000,5,-999.0000,5,  -999.00,9,-999.000,9,-999.0000,-999.000,-999.000,-999.000
      74AB29_1,    I5,    23,  1,      9,     9.,2,19871118,2033,-32.9950,  37.0800, 5108,   3201.1,   2.0751,  34.8030,2,  34.8060,2,    217.7,2,  1.8248,    219.0,2,    73.89,2,    27.85,2,     0.00,2,     1.94,2, -999.000,5, -999.000,5, -999.000,5,-999.0000,5,  -999.00,9,-999.000,9,-999.0000,-999.000,-999.000,-999.000
      74AB29_1,    I5,    23,  1,      8,     8.,2,19871118,2033,-32.9950,  37.0800, 5108,   3604.9,   1.6506,  34.7730,2,  34.7738,2,    218.6,2,  1.3692,    219.8,2,    87.61,2,    29.13,2,    -0.01,2,     2.06,2, -999.000,5, -999.000,5, -999.000,5,-999.0000,5,  -999.00,9,-999.000,9,-999.0000,-999.000,-999.000,-999.000
      74AB29_1,    I5,    23,  1,      7,     7.,2,19871118,2033,-32.9950,  37.0800, 5108,   3805.0,   1.4052,  34.7570,2,  34.7557,2,    218.6,2,  1.1093,    221.1,2,    95.14,2,    29.81,2,    -0.01,2,     2.11,2, -999.000,5, -999.000,5, -999.000,5,-999.0000,5,  -999.00,9,-999.000,9,-999.0000,-999.000,-999.000,-999.000
      74AB29_1,    I5,    23,  1,      6,     6.,2,19871118,2033,-32.9950,  37.0800, 5108,   4005.4,   1.1707,  34.7390,2,  34.7415,2,    219.9,2,  0.8601,    221.1,2,   102.17,2,    30.49,2,    -0.01,2,     2.16,2, -999.000,5, -999.000,5, -999.000,5,-999.0000,5,  -999.00,9,-999.000,9,-999.0000,-999.000,-999.000,-999.000
      74AB29_1,    I5,    23,  1,      5,     5.,2,19871118,2033,-32.9950,  37.0800, 5108,   4305.0,   0.8408,  34.7160,2,  34.7172,2,    220.3,2,  0.5076,    222.5,2,   112.71,2,    31.47,2,     0.00,2,     2.25,2, -999.000,5, -999.000,5, -999.000,5,-999.0000,5,  -999.00,9,-999.000,9,-999.0000,-999.000,-999.000,-999.000
      74AB29_1,    I5,    23,  1,      4,     4.,2,19871118,2033,-32.9950,  37.0800, 5108,   4610.7,   0.6528,  34.7010,2,  34.7003,2,    222.0,2,  0.2918,    223.3,2,   118.58,2,    32.06,2,     0.00,2,     2.27,2, -999.000,5, -999.000,5, -999.000,5,-999.0000,5,  -999.00,9,-999.000,9,-999.0000,-999.000,-999.000,-999.000
      74AB29_1,    I5,    23,  1,      3,     3.,2,19871118,2033,-32.9950,  37.0800, 5108,   4810.9,   0.5983,  34.6940,2,-999.0000,5,    222.9,2,  0.5474,    223.8,2,   120.76,2,    32.16,2,     0.00,2,     2.28,2, -999.000,5, -999.000,5, -999.000,5,-999.0000,5,  -999.00,9,-999.000,9,-999.0000,-999.000,-999.000,-999.000
      74AB29_1,    I5,    23,  1,      2,     2.,2,19871118,2033,-32.9950,  37.0800, 5108,   5012.5,   0.5293,  34.6880,2,  34.6875,2,    224.2,2,  0.1266,    225.1,2,   122.61,2,    32.35,2,    -0.01,2,     2.29,2, -999.000,5, -999.000,5, -999.000,5,-999.0000,5,  -999.00,9,-999.000,9,-999.0000,-999.000,-999.000,-999.000
      74AB29_1,    I5,    23,  1,      1,     1.,2,19871118,2033,-32.9950,  37.0800, 5108,   5168.9,   0.5093,  34.6850,2,-999.0000,5,    225.1,2,  0.4404,    223.8,2,   123.28,2,    32.35,2,     0.00,2,     2.30,2,    0.009,2,    0.054,2, -999.000,5,-999.0000,5,  -999.00,9,-999.000,9,-999.0000,-999.000,-999.000,-999.000
      74AB29_1,    I5,    24,  1,     22,    24.,2,19871119,0608,-33.0067,  38.0000, 5062,      3.0,  19.0198,  35.7150,2,  35.7227,2,    234.7,2, 19.0193,    228.4,2,     1.21,2,     0.00,2,     0.01,2,     0.20,2,    2.033,2,    1.179,2, -999.000,5,-999.0000,5,  -999.00,9,-999.000,9,-999.0000,-999.000,-999.000,-999.000
      74AB29_1,    I5,    24,  1,     21,    23.,2,19871119,0608,-33.0067,  38.0000, 5062,    101.1,  16.9318,  35.6300,2,  35.6269,2,    222.9,2, 16.9151,    224.9,2,     3.04,2,     2.25,2,     0.04,2,     0.36,2,    2.096,2,    1.226,2, -999.000,5,-999.0000,5,  -999.00,9,-999.000,9,-999.0000,-999.000,-999.000,-999.000
      74AB29_1,    I5,    24,  1,     20,    22.,2,19871119,0608,-33.0067,  38.0000, 5062,    203.5,  16.2448,  35.5550,2,  35.5486,2,    212.4,2, 16.2121,    211.9,2,     3.56,2,     4.59,2,    -0.01,2,     0.49,2,    1.968,2,    1.109,2, -999.000,5,-999.0000,5,  -999.00,9,-999.000,9,-999.0000,-999.000,-999.000,-999.000
      74AB29_1,    I5,    24,  1,     19,    21.,2,19871119,0608,-33.0067,  38.0000, 5062,    303.4,  15.1223,  35.4520,2,-999.0000,5,    210.2,2, 15.0925,    209.3,2,     3.89,2,     5.96,2,     0.03,2,     0.57,2,    2.030,2,    1.116,2, -999.000,5,-999.0000,5,  -999.00,9,-999.000,9,-999.0000,-999.000,-999.000,-999.000
      74AB29_1,    I5,    24,  1,     18,    20.,2,19871119,0608,-33.0067,  38.0000, 5062,    401.0,  14.2724,  35.3630,2,  35.3535,2,    211.9,2, 14.2131,    208.0,2,     4.23,2,     8.21,2,     0.02,2,     0.71,2,    1.805,2,    1.021,2, -999.000,5,-999.0000,5,  -999.00,9,-999.000,9,-999.0000,-999.000,-999.000,-999.000
      74AB29_1,    I5,    24,  1,     17,    19.,2,19871119,0608,-33.0067,  38.0000, 5062,    602.1,  12.4520,  35.1260,2,  35.1112,2,    217.1,2, 12.3701,    216.3,2,     4.90,2,    11.43,2,     0.01,2,     0.93,2,    1.651,2,    0.932,2, -999.000,5,-999.0000,5,  -999.00,9,-999.000,9,-999.0000,-999.000,-999.000,-999.000
      74AB29_1,    I5,    24,  1,     16,    18.,2,19871119,0608,-33.0067,  38.0000, 5062,    802.3,  10.3366,  34.8620,2,  34.8353,2,    215.3,2, 10.2389,    210.7,2,     7.57,2,    16.81,2,     0.02,2,     1.24,2,    1.069,2,    0.592,2, -999.000,5,-999.0000,5,  -999.00,9,-999.000,9,-999.0000,-999.000,-999.000,-999.000
      74AB29_1,    I5,    24,  1,     15,    17.,2,19871119,0608,-33.0067,  38.0000, 5062,    999.4,   7.7288,  34.5940,2,  34.5798,2,    204.8,2,  7.6251,    206.4,2,    16.60,2,    23.85,2,     0.01,2,     1.68,2,    0.718,2,    0.412,2, -999.000,5,-999.0000,5,  -999.00,9,-999.000,9,-999.0000,-999.000,-999.000,-999.000
      74AB29_1,    I5,    24,  1,     14,    14.,2,19871119,0608,-33.0067,  38.0000, 5062,   1799.7,   2.9464,  34.6100,2,  34.6146,2,    179.1,2,  2.8135,    178.6,2,    69.19,2,    33.14,2,     0.00,2,     2.30,2,    0.059,2,    0.046,2, -999.000,5,-999.0000,5,  -999.00,9,-999.000,9,-999.0000,-999.000,-999.000,-999.000
      74AB29_1,    I5,    24,  1,     13,    13.,2,19871119,0608,-33.0067,  38.0000, 5062,   2099.1,   2.6930,  34.7190,2,  34.7174,2,    186.0,2,  2.5369,    184.2,2,    74.53,2,    31.37,2,     0.00,2,     2.18,2, -999.000,5, -999.000,5, -999.000,5,-999.0000,5,  -999.00,9,-999.000,9,-999.0000,-999.000,-999.000,-999.000
      74AB29_1,    I5,    24,  1,     12,    12.,2,19871119,0608,-33.0067,  38.0000, 5062,   2400.9,   2.5265,  34.7750,2,  34.7779,2,    200.3,2,  2.3452,    200.3,2,    70.68,2,    29.52,2,     0.01,2,     2.02,2,    0.026,2, -999.000,5, -999.000,5,-999.0000,5,  -999.00,9,-999.000,9,-999.0000,-999.000,-999.000,-999.000
      74AB29_1,    I5,    24,  1,     11,    11.,2,19871119,0608,-33.0067,  38.0000, 5062,   2702.5,   2.3725,  34.7990,2,  34.7988,2,    210.3,2,  2.1654,    209.8,2,    69.35,2,    28.34,2,    -0.01,2,     1.93,2, -999.000,5, -999.000,5, -999.000,5,-999.0000,5,  -999.00,9,-999.000,9,-999.0000,-999.000,-999.000,-999.000
      74AB29_1,    I5,    24,  1,     10,    10.,2,19871119,0608,-33.0067,  38.0000, 5062,   3005.0,   2.2021,  34.8050,2,  34.8056,2,    216.8,2,  1.9687,    215.1,2,    70.51,2,    28.05,2,     0.02,2,     1.96,2, -999.000,5, -999.000,5, -999.000,5,-999.0000,5,  -999.00,9,-999.000,9,-999.0000,-999.000,-999.000,-999.000
      74AB29_1,    I5,    24,  1,      9,     9.,2,19871119,0608,-33.0067,  38.0000, 5062,   3205.5,   2.0596,  34.7980,2,  34.8017,2,    217.7,2,  1.8092,    215.1,2,    74.85,2,    28.24,2,     0.01,2,     1.91,2, -999.000,5, -999.000,5, -999.000,5,-999.0000,5,  -999.00,9,-999.000,9,-999.0000,-999.000,-999.000,-999.000
      74AB29_1,    I5,    24,  1,      8,     8.,2,19871119,0608,-33.0067,  38.0000, 5062,   3607.7,   1.6526,  34.7730,2,  34.7765,2,    219.0,2,  1.3708,    215.5,2,    87.55,2,    29.32,2,    -0.01,2,     1.99,2, -999.000,5, -999.000,5, -999.000,5,-999.0000,5,  -999.00,9,-999.000,9,-999.0000,-999.000,-999.000,-999.000
      74AB29_1,    I5,    24,  1,      7,     7.,2,19871119,0608,-33.0067,  38.0000, 5062,   3808.4,   1.4087,  34.7570,2,-999.0000,5,    219.0,2,  1.3797,    217.2,2,    95.72,2,    30.10,2,     0.02,2,     2.07,2, -999.000,5, -999.000,5, -999.000,5,-999.0000,5,  -999.00,9,-999.000,9,-999.0000,-999.000,-999.000,-999.000
      74AB29_1,    I5,    24,  1,      6,     6.,2,19871119,0608,-33.0067,  38.0000, 5062,   4007.4,   1.1907,  34.7400,2,  34.7443,2,    219.4,2,  0.8793,    219.8,2,   101.24,2,    30.59,2,     0.01,2,     2.10,2,    0.009,2, -999.000,5, -999.000,5,-999.0000,5,  -999.00,9,-999.000,9,-999.0000,-999.000,-999.000,-999.000
      74AB29_1,    I5,    24,  1,      5,     5.,2,19871119,0608,-33.0067,  38.0000, 5062,   4309.4,   0.8663,  34.7170,2,-999.0000,5,    221.2,2,  0.8322,    221.6,2,   112.42,2,    31.67,2,     0.01,2,     2.18,2, -999.000,5, -999.000,5, -999.000,5,-999.0000,5,  -999.00,9,-999.000,9,-999.0000,-999.000,-999.000,-999.000
      74AB29_1,    I5,    24,  1,      4,     4.,2,19871119,0608,-33.0067,  38.0000, 5062,   4610.4,   0.6913,  34.7020,2,  34.7020,2,    222.5,2,  0.3291,    222.0,2,   118.09,2,    32.16,2,     0.01,2,     2.21,2, -999.000,5, -999.000,5, -999.000,5,-999.0000,5,  -999.00,9,-999.000,9,-999.0000,-999.000,-999.000,-999.000
      74AB29_1,    I5,    24,  1,      3,     3.,2,19871119,0608,-33.0067,  38.0000, 5062,   4811.4,   0.6378,  34.6960,2,  34.6987,2,    223.3,2,  0.2546,    222.0,2,   119.10,2,    32.25,2,     0.00,2,     2.22,2, -999.000,5, -999.000,5, -999.000,5,-999.0000,5,  -999.00,9,-999.000,9,-999.0000,-999.000,-999.000,-999.000
      74AB29_1,    I5,    24,  1,      2,     2.,2,19871119,0608,-33.0067,  38.0000, 5062,   5014.2,   0.5998,  34.6920,2,  34.6928,2,    224.6,2,  0.1944,    222.5,2,   121.43,2,    32.55,2,     0.00,2,     2.23,2, -999.000,5, -999.000,5, -999.000,5,-999.0000,5,  -999.00,9,-999.000,9,-999.0000,-999.000,-999.000,-999.000
      74AB29_1,    I5,    24,  1,      1,     1.,2,19871119,0608,-33.0067,  38.0000, 5062,   5133.1,   0.5718,  34.6900,2,-999.0000,5,    225.1,2,  0.5025,    223.3,2,   122.43,2,    32.65,2,    -0.01,2,     2.26,2,    0.000,2, -999.000,5, -999.000,5,-999.0000,5,  -999.00,9,-999.000,9,-999.0000,-999.000,-999.000,-999.000