BOTTLE,20060509WHPSIOSA
EXPOCODE,SECT_ID,STNNBR,CASTNO,SAMPNO,BTLNBR,BTLNBR_FLAG_W,DATE,TIME,LATITUDE,LONGITUDE,DEPTH,CTDPRS,CTDTMP,CTDSAL,CTDSAL_FLAG_W,SALNTY,SALNTY_FLAG_W,CTDOXY,CTDOXY_FLAG_W,THETA,OXYGEN,OXYGEN_FLAG_W,SILCAT,SILCAT_FLAG_W,NITRAT,NITRAT_FLAG_W,NITRIT,NITRIT_FLAG_W,PHSPHT,PHSPHT_FLAG_W,CFC-11,CFC-11_FLAG_W,CFC-12,CFC-12_FLAG_W,TRITUM,TRITUM_FLAG_W,HELIUM,HELIUM_FLAG_W,DELHE3,DELHE3_FLAG_W,NEON,NEON_FLAG_W,HELIER,TRITER,NEONER,DELHER
,,,,,,,,,,,,DBAR,IPTS-68,PSS-78,,PSS-78,,UMOL/KG,,IPTS-68,UMOL/KG,,UMOL/KG,,UMOL/KG,,UMOL/KG,,UMOL/KG,,PMOL/KG,,PMOL/KG,,TU,,UMOL/KG,,PERCNT,,NMOL/KG,,NMOL/KG,TU,NMOL/KG,PERCNT
      74AB29_1,    I5,    19,  1,     20,    20.,2,19871118,0340,-32.9900,  36.0783, 2006,     12.6,  19.6153,  35.6860,2,  35.6826,2,    230.4,2, 19.6130,    232.3,2,     1.36,2,     0.00,2,     0.00,2,     0.08,2,    1.821,2,    1.139,2, -999.000,5,-999.0000,5,  -999.00,9,-999.000,9,-999.0000,-999.000,-999.000,-999.000
      74AB29_1,    I5,    19,  1,     19,    19.,2,19871118,0340,-32.9900,  36.0783, 2006,    101.6,  17.5833,  35.6430,2,  35.6431,2,    227.7,2, 17.5661,    222.3,2,     3.01,2,     2.54,2,     0.04,2,     0.25,2, -999.000,5, -999.000,5, -999.000,5,-999.0000,5,  -999.00,9,-999.000,9,-999.0000,-999.000,-999.000,-999.000
      74AB29_1,    I5,    19,  1,     18,    18.,2,19871118,0340,-32.9900,  36.0783, 2006,    206.1,  16.8123,  35.5930,2,  35.5878,2,    217.6,2, 16.7784,    216.2,2,     3.52,2,     4.10,2,     0.03,2,     0.37,2, -999.000,5, -999.000,5, -999.000,5,-999.0000,5,  -999.00,9,-999.000,9,-999.0000,-999.000,-999.000,-999.000
      74AB29_1,    I5,    19,  1,     17,    17.,2,19871118,0340,-32.9900,  36.0783, 2006,    302.9,  15.7533,  35.4890,2,  35.4985,2,    212.8,2, 15.7055,    208.9,2,     3.85,2,     6.06,2,     0.01,2,     0.51,2, -999.000,5, -999.000,5, -999.000,5,-999.0000,5,  -999.00,9,-999.000,9,-999.0000,-999.000,-999.000,-999.000
      74AB29_1,    I5,    19,  1,     16,    16.,2,19871118,0340,-32.9900,  36.0783, 2006,    400.7,  14.4354,  35.3580,2,  35.3640,2,    210.2,2, 14.3757,    210.6,2,     4.35,2,     8.01,2,     0.01,2,     0.62,2, -999.000,5, -999.000,5, -999.000,5,-999.0000,5,  -999.00,9,-999.000,9,-999.0000,-999.000,-999.000,-999.000
      74AB29_1,    I5,    19,  1,     15,    15.,2,19871118,0340,-32.9900,  36.0783, 2006,    500.4,  13.4389,  35.2080,2,  35.2580,2,    218.4,2, 13.3676,    217.2,2,     4.36,2,     9.28,2,     0.02,2,     0.69,2, -999.000,5, -999.000,5, -999.000,5,-999.0000,5,  -999.00,9,-999.000,9,-999.0000,-999.000,-999.000,-999.000
      74AB29_1,    I5,    19,  1,     14,    14.,2,19871118,0340,-32.9900,  36.0783, 2006,    600.9,  12.2455,  35.0440,2,  35.0850,2,    217.5,2, 12.1647,    216.3,2,     5.19,2,    12.12,2,     0.02,2,     0.88,2,    1.188,2,    0.731,2, -999.000,5,-999.0000,5,  -999.00,9,-999.000,9,-999.0000,-999.000,-999.000,-999.000
      74AB29_1,    I5,    19,  1,     13,    13.,2,19871118,0340,-32.9900,  36.0783, 2006,    698.4,  10.9970,  34.9190,2,  34.9215,2,    219.2,2, 10.9090,    215.9,2,     6.67,2,    14.76,2,     0.00,2,     1.04,2,    1.279,2,    0.727,2, -999.000,5,-999.0000,5,  -999.00,9,-999.000,9,-999.0000,-999.000,-999.000,-999.000
      74AB29_1,    I5,    19,  1,     12,    12.,2,19871118,0340,-32.9900,  36.0783, 2006,    798.9,   9.7951,  34.8020,2,  34.7860,2,    216.6,2,  9.7010,    211.1,2,     8.67,2,    17.79,2,     0.01,2,     1.20,2,    0.970,2,    0.561,2, -999.000,5,-999.0000,5,  -999.00,9,-999.000,9,-999.0000,-999.000,-999.000,-999.000
      74AB29_1,    I5,    19,  1,     11,    11.,2,19871118,0340,-32.9900,  36.0783, 2006,    899.2,   8.5447,  34.6810,2,  34.6608,2,    207.9,2,  8.4465,    204.7,2,    13.65,2,    21.60,2,     0.01,2,     1.47,2,    0.618,2,    0.417,2, -999.000,5,-999.0000,5,  -999.00,9,-999.000,9,-999.0000,-999.000,-999.000,-999.000
      74AB29_1,    I5,    19,  1,     10,    10.,2,19871118,0340,-32.9900,  36.0783, 2006,   1000.0,   6.9214,  34.5500,2,  34.5362,2,    200.9,2,  6.8236,    199.5,2,    21.95,2,    26.10,2,     0.00,2,     1.79,2,    0.618,2,    0.408,2, -999.000,5,-999.0000,5,  -999.00,9,-999.000,9,-999.0000,-999.000,-999.000,-999.000
      74AB29_1,    I5,    19,  1,      9,     9.,2,19871118,0340,-32.9900,  36.0783, 2006,   1100.9,   5.7336,  34.4520,2,  34.4496,2,    197.0,2,  5.6351,    200.3,2,    28.41,2,    28.35,2,     0.00,2,     1.99,2,    0.646,2,    0.391,2, -999.000,5,-999.0000,5,  -999.00,9,-999.000,9,-999.0000,-999.000,-999.000,-999.000
      74AB29_1,    I5,    19,  1,      8,     8.,2,19871118,0340,-32.9900,  36.0783, 2006,   1199.8,   4.7712,  34.4100,2,  34.4114,2,    201.3,2,  4.6718,    199.5,2,    35.20,2,    30.40,2,     0.01,2,     2.20,2,    0.637,2,    0.364,2, -999.000,5,-999.0000,5,  -999.00,9,-999.000,9,-999.0000,-999.000,-999.000,-999.000
      74AB29_1,    I5,    19,  1,      7,     7.,2,19871118,0340,-32.9900,  36.0783, 2006,   1299.1,   4.3017,  34.4500,2,  34.4528,2,    187.8,2,  4.1976,    186.0,2,    46.14,2,    31.77,2,     0.00,2,     2.23,2,    0.344,2,    0.186,2, -999.000,5,-999.0000,5,  -999.00,9,-999.000,9,-999.0000,-999.000,-999.000,-999.000
      74AB29_1,    I5,    19,  1,      6,     6.,2,19871118,0340,-32.9900,  36.0783, 2006,   1399.0,   3.8503,  34.4840,2,  34.4932,2,    180.8,2,  3.7419,    177.3,2,    55.10,2,    33.04,2,     0.00,2,     2.35,2,    0.206,2,    0.146,2, -999.000,5,-999.0000,5,  -999.00,9,-999.000,9,-999.0000,-999.000,-999.000,-999.000
      74AB29_1,    I5,    19,  1,      5,     5.,2,19871118,0340,-32.9900,  36.0783, 2006,   1499.4,   3.6338,  34.5410,2,  34.5504,2,    172.1,2,  3.5188,    169.0,2,    62.88,2,    33.53,2,     0.00,2,     2.38,2,    0.118,2,    0.097,2, -999.000,5,-999.0000,5,  -999.00,9,-999.000,9,-999.0000,-999.000,-999.000,-999.000
      74AB29_1,    I5,    19,  1,      4,     4.,2,19871118,0340,-32.9900,  36.0783, 2006,   1600.4,   3.1809,  34.5640,2,  34.5710,2,    173.9,2,  3.0624,    172.1,2,    66.36,2,    33.82,2,    -0.01,2,     2.37,2,    0.091,2,    0.061,2, -999.000,5,-999.0000,5,  -999.00,9,-999.000,9,-999.0000,-999.000,-999.000,-999.000
      74AB29_1,    I5,    19,  1,      3,     3.,2,19871118,0340,-32.9900,  36.0783, 2006,   1700.7,   3.1234,  34.6400,2,  34.6476,2,    172.5,2,  2.9967,    168.6,2,    73.49,2,    33.33,2,     0.00,2,     2.33,2,    0.082,2,    0.023,2, -999.000,5,-999.0000,5,  -999.00,9,-999.000,9,-999.0000,-999.000,-999.000,-999.000
      74AB29_1,    I5,    19,  1,      2,     2.,2,19871118,0340,-32.9900,  36.0783, 2006,   1800.0,   2.9054,  34.6650,2,  34.6678,2,    175.1,2,  2.7729,    174.7,2,    72.83,2,    32.65,2,    -0.01,2,     2.26,2,    0.009,2, -999.000,5, -999.000,5,-999.0000,5,  -999.00,9,-999.000,9,-999.0000,-999.000,-999.000,-999.000
      74AB29_1,    I5,    19,  1,      1,     1.,2,19871118,0340,-32.9900,  36.0783, 2006,   2007.6,   2.6680,  34.7460,2,  34.7581,2,    189.0,2,  2.5203,    188.6,2,    69.35,2,    29.91,2,     0.00,2,     2.03,2,    0.035,2, -999.000,5, -999.000,5,-999.0000,5,  -999.00,9,-999.000,9,-999.0000,-999.000,-999.000,-999.000
      74AB29_1,    I5,    20,  1,     22,    23.,2,19871118,0656,-33.0150,  36.3433, 2591,     13.7,  19.9613,  35.6600,2,  35.6613,2,    228.7,2, 19.9588,    231.4,2,     1.45,2,     0.00,2,     0.01,2,     0.16,2, -999.000,5, -999.000,5, -999.000,5,-999.0000,5,  -999.00,9,-999.000,9,-999.0000,-999.000,-999.000,-999.000
      74AB29_1,    I5,    20,  1,     21,    22.,2,19871118,0656,-33.0150,  36.3433, 2591,     88.5,  17.3388,  35.6470,2,  35.6413,2,    229.0,2, 17.3240,    229.2,2,     2.62,2,     1.66,2,     0.05,2,     0.31,2, -999.000,5, -999.000,5, -999.000,5,-999.0000,5,  -999.00,9,-999.000,9,-999.0000,-999.000,-999.000,-999.000
      74AB29_1,    I5,    20,  1,     20,    21.,2,19871118,0656,-33.0150,  36.3433, 2591,    303.8,  15.4913,  35.4860,2,  35.4862,2,    214.5,2, 15.4439,    215.8,2,     3.79,2,     5.67,2,     0.01,2,     0.53,2, -999.000,5, -999.000,5, -999.000,5,-999.0000,5,  -999.00,9,-999.000,9,-999.0000,-999.000,-999.000,-999.000
      74AB29_1,    I5,    20,  1,     19,    20.,2,19871118,0656,-33.0150,  36.3433, 2591,    402.0,  14.4879,  35.4030,2,  35.4018,2,    221.9,2, 14.4278,    216.7,2,     3.80,2,     6.74,2,     0.00,2,     0.58,2, -999.000,5, -999.000,5, -999.000,5,-999.0000,5,  -999.00,9,-999.000,9,-999.0000,-999.000,-999.000,-999.000
      74AB29_1,    I5,    20,  1,     18,    19.,2,19871118,0656,-33.0150,  36.3433, 2591,    503.6,  13.3574,  35.2450,2,  35.2467,2,    215.8,2, 13.2859,    216.7,2,     4.64,2,     9.38,2,     0.01,2,     0.71,2, -999.000,5, -999.000,5, -999.000,5,-999.0000,5,  -999.00,9,-999.000,9,-999.0000,-999.000,-999.000,-999.000
      74AB29_1,    I5,    20,  1,     17,    18.,2,19871118,0656,-33.0150,  36.3433, 2591,    603.5,  12.2935,  35.1000,2,  35.0919,2,    220.6,2, 12.2121,    220.2,2,     4.98,2,    11.53,2,     0.00,2,     0.87,2, -999.000,5, -999.000,5, -999.000,5,-999.0000,5,  -999.00,9,-999.000,9,-999.0000,-999.000,-999.000,-999.000
      74AB29_1,    I5,    20,  1,     16,    17.,2,19871118,0656,-33.0150,  36.3433, 2591,    703.7,  11.1770,  34.9610,2,  34.9510,2,    221.8,2, 11.0874,    219.8,2,     5.67,2,    13.88,2,     0.00,2,     1.05,2, -999.000,5, -999.000,5, -999.000,5,-999.0000,5,  -999.00,9,-999.000,9,-999.0000,-999.000,-999.000,-999.000
      74AB29_1,    I5,    20,  1,     15,    16.,2,19871118,0656,-33.0150,  36.3433, 2591,    801.6,   9.9161,  34.8180,2,  34.8017,2,    212.2,2,  9.8209,    215.9,2,     8.00,2,    17.10,2,    -0.01,2,     1.26,2, -999.000,5, -999.000,5, -999.000,5,-999.0000,5,  -999.00,9,-999.000,9,-999.0000,-999.000,-999.000,-999.000
      74AB29_1,    I5,    20,  1,     14,    15.,2,19871118,0656,-33.0150,  36.3433, 2591,    896.7,   8.5647,  34.6780,2,  34.6657,2,    209.6,2,  8.4667,    206.8,2,    13.16,2,    21.21,2,     0.00,2,     1.50,2, -999.000,5, -999.000,5, -999.000,5,-999.0000,5,  -999.00,9,-999.000,9,-999.0000,-999.000,-999.000,-999.000
      74AB29_1,    I5,    20,  1,     13,    14.,2,19871118,0656,-33.0150,  36.3433, 2591,    999.7,   7.1854,  34.5560,2,  34.5529,2,    199.6,2,  7.0857,    199.9,2,    20.80,2,    25.02,2,     0.01,2,     1.77,2, -999.000,5, -999.000,5, -999.000,5,-999.0000,5,  -999.00,9,-999.000,9,-999.0000,-999.000,-999.000,-999.000
      74AB29_1,    I5,    20,  1,     12,    13.,2,19871118,0656,-33.0150,  36.3433, 2591,   1100.5,   5.9115,  34.4480,2,  34.4512,2,    202.2,2,  5.8116,    203.8,2,    26.30,2,    27.67,2,     0.00,2,     1.96,2, -999.000,5, -999.000,5, -999.000,5,-999.0000,5,  -999.00,9,-999.000,9,-999.0000,-999.000,-999.000,-999.000
      74AB29_1,    I5,    20,  1,     11,    12.,2,19871118,0656,-33.0150,  36.3433, 2591,   1199.6,   4.8617,  34.4230,2,  34.4206,2,    196.5,2,  4.7614,    198.2,2,    35.58,2,    30.01,2,     0.00,2,     2.13,2, -999.000,5, -999.000,5, -999.000,5,-999.0000,5,  -999.00,9,-999.000,9,-999.0000,-999.000,-999.000,-999.000
      74AB29_1,    I5,    20,  1,     10,    11.,2,19871118,0656,-33.0150,  36.3433, 2591,   1299.9,   4.2947,  34.4410,2,  34.4418,2,    189.5,2,  4.1907,    189.0,2,    45.06,2,    31.48,2,     0.01,2,     2.23,2, -999.000,5, -999.000,5, -999.000,5,-999.0000,5,  -999.00,9,-999.000,9,-999.0000,-999.000,-999.000,-999.000
      74AB29_1,    I5,    20,  1,      9,    10.,2,19871118,0656,-33.0150,  36.3433, 2591,   1397.4,   3.8573,  34.4750,2,  34.4814,2,    183.0,2,  3.7490,    179.5,2,    53.85,2,    32.75,2,     0.01,2,     2.35,2, -999.000,5, -999.000,5, -999.000,5,-999.0000,5,  -999.00,9,-999.000,9,-999.0000,-999.000,-999.000,-999.000
      74AB29_1,    I5,    20,  1,      8,     9.,2,19871118,0656,-33.0150,  36.3433, 2591,   1500.3,   3.5468,  34.5270,2,  34.5278,2,    173.9,2,  3.4328,    172.1,2,    61.50,2,    33.24,2,     0.01,2,     2.38,2, -999.000,5, -999.000,5, -999.000,5,-999.0000,5,  -999.00,9,-999.000,9,-999.0000,-999.000,-999.000,-999.000
      74AB29_1,    I5,    20,  1,      7,     8.,2,19871118,0656,-33.0150,  36.3433, 2591,   1601.6,   3.3874,  34.5900,2,  34.5910,2,    169.1,2,  3.2662,    166.9,2,    68.80,2,    33.33,2,     0.00,2,     2.35,2, -999.000,5, -999.000,5, -999.000,5,-999.0000,5,  -999.00,9,-999.000,9,-999.0000,-999.000,-999.000,-999.000
      74AB29_1,    I5,    20,  1,      6,     7.,2,19871118,0656,-33.0150,  36.3433, 2591,   1702.3,   3.0859,  34.6230,2,  34.6256,2,    172.1,2,  2.9596,    170.8,2,    70.62,2,    32.84,2,     0.00,2,     2.32,2, -999.000,5, -999.000,5, -999.000,5,-999.0000,5,  -999.00,9,-999.000,9,-999.0000,-999.000,-999.000,-999.000
      74AB29_1,    I5,    20,  1,      5,     5.,2,19871118,0656,-33.0150,  36.3433, 2591,   1899.5,   2.8205,  34.7070,2,  34.7072,2,    178.6,2,  2.6803,    177.7,2,    75.29,2,    31.37,2,     0.01,2,     2.21,2, -999.000,5, -999.000,5, -999.000,5,-999.0000,5,  -999.00,9,-999.000,9,-999.0000,-999.000,-999.000,-999.000
      74AB29_1,    I5,    20,  1,      4,     4.,2,19871118,0656,-33.0150,  36.3433, 2591,   2002.2,   2.6955,  34.7320,2,  34.7337,2,    187.7,2,  2.5480,    187.7,2,    72.31,2,    30.30,2,     0.00,2,     2.11,2, -999.000,5, -999.000,5, -999.000,5,-999.0000,5,  -999.00,9,-999.000,9,-999.0000,-999.000,-999.000,-999.000
      74AB29_1,    I5,    20,  1,      3,     3.,2,19871118,0656,-33.0150,  36.3433, 2591,   2200.2,   2.5760,  34.7670,2,  34.7675,2,    196.0,2,  2.4124,    197.7,2,    70.49,2,    29.03,2,     0.01,2,     2.01,2, -999.000,5, -999.000,5, -999.000,5,-999.0000,5,  -999.00,9,-999.000,9,-999.0000,-999.000,-999.000,-999.000
      74AB29_1,    I5,    20,  1,      2,     2.,2,19871118,0656,-33.0150,  36.3433, 2591,   2366.3,   2.4730,  34.7890,2,  34.7909,2,    205.1,2,  2.2959,    207.2,2,    68.17,2,    28.05,2,    -0.01,2,     1.93,2, -999.000,5, -999.000,5, -999.000,5,-999.0000,5,  -999.00,9,-999.000,9,-999.0000,-999.000,-999.000,-999.000
      74AB29_1,    I5,    20,  1,      1,     1.,2,19871118,0656,-33.0150,  36.3433, 2591,   2599.4,   2.3565,  34.8050,2,  34.8111,2,    214.2,2,  2.1595,    213.8,2,    65.70,2,    26.97,2,     0.01,2,     1.83,2, -999.000,5, -999.000,5, -999.000,5,-999.0000,5,  -999.00,9,-999.000,9,-999.0000,-999.000,-999.000,-999.000