BOTTLE,20060509WHPSIOSA
EXPOCODE,SECT_ID,STNNBR,CASTNO,SAMPNO,BTLNBR,BTLNBR_FLAG_W,DATE,TIME,LATITUDE,LONGITUDE,DEPTH,CTDPRS,CTDTMP,CTDSAL,CTDSAL_FLAG_W,SALNTY,SALNTY_FLAG_W,CTDOXY,CTDOXY_FLAG_W,THETA,OXYGEN,OXYGEN_FLAG_W,SILCAT,SILCAT_FLAG_W,NITRAT,NITRAT_FLAG_W,NITRIT,NITRIT_FLAG_W,PHSPHT,PHSPHT_FLAG_W,CFC-11,CFC-11_FLAG_W,CFC-12,CFC-12_FLAG_W,TRITUM,TRITUM_FLAG_W,HELIUM,HELIUM_FLAG_W,DELHE3,DELHE3_FLAG_W,NEON,NEON_FLAG_W,HELIER,TRITER,NEONER,DELHER
,,,,,,,,,,,,DBAR,IPTS-68,PSS-78,,PSS-78,,UMOL/KG,,IPTS-68,UMOL/KG,,UMOL/KG,,UMOL/KG,,UMOL/KG,,UMOL/KG,,PMOL/KG,,PMOL/KG,,TU,,UMOL/KG,,PERCNT,,NMOL/KG,,NMOL/KG,TU,NMOL/KG,PERCNT
      74AB29_1,    I5,    38,  1,     20,    24.,2,19871123,2039,-33.9917,  52.1767, 4484,      3.0,  20.2773,  35.6760,2,  35.6948,2,    227.4,2, 20.2767,    231.8,2,     2.44,2,     0.10,2,    -0.01,2,     0.19,2,    2.030,2,    1.236,2, -999.000,5,-999.0000,5,  -999.00,9,-999.000,9,-999.0000,-999.000,-999.000,-999.000
      74AB29_1,    I5,    38,  1,     19,    23.,2,19871123,2039,-33.9917,  52.1767, 4484,    101.3,  16.6633,  35.5810,2,  35.5782,2,    232.4,2, 16.6468,    231.0,2,     3.63,2,     2.25,2,     0.18,2,     0.36,2,    2.158,2,    1.220,2, -999.000,5,-999.0000,5,  -999.00,9,-999.000,9,-999.0000,-999.000,-999.000,-999.000
      74AB29_1,    I5,    38,  1,     18,    22.,2,19871123,2039,-33.9917,  52.1767, 4484,    202.8,  15.5138,  35.5040,2,  35.5085,2,    221.5,2, 15.4822,    224.9,2,     4.03,2,     4.79,2,     0.03,2,     0.48,2,    2.122,2,    1.210,2, -999.000,5,-999.0000,5,  -999.00,9,-999.000,9,-999.0000,-999.000,-999.000,-999.000
      74AB29_1,    I5,    38,  1,     17,    21.,2,19871123,2039,-33.9917,  52.1767, 4484,    304.9,  14.4169,  35.3850,2,  35.3884,2,    224.5,2, 14.3716,    221.5,2,     4.67,2,     7.13,2,     0.00,2,     0.62,2,    2.103,2,    1.116,2, -999.000,5,-999.0000,5,  -999.00,9,-999.000,9,-999.0000,-999.000,-999.000,-999.000
      74AB29_1,    I5,    38,  1,     16,    20.,2,19871123,2039,-33.9917,  52.1767, 4484,    404.6,  13.5994,  35.3050,2,  35.2952,2,    224.9,2, 13.5415,    225.4,2,     4.90,2,     8.40,2,     0.01,2,     0.72,2,    1.896,2,    1.154,2, -999.000,5,-999.0000,5,  -999.00,9,-999.000,9,-999.0000,-999.000,-999.000,-999.000
      74AB29_1,    I5,    38,  1,     15,    19.,2,19871123,2039,-33.9917,  52.1767, 4484,    500.3,  12.8469,  35.1960,2,  35.1841,2,    226.7,2, 12.7777,    224.1,2,     5.32,2,    10.06,2,     0.00,2,     0.81,2,    1.864,2,    1.167,2, -999.000,5,-999.0000,5,  -999.00,9,-999.000,9,-999.0000,-999.000,-999.000,-999.000
      74AB29_1,    I5,    38,  1,     14,    18.,2,19871123,2039,-33.9917,  52.1767, 4484,    701.7,  10.8376,  34.8930,2,  34.8965,2,    217.5,2, 10.7500,    217.6,2,     7.59,2,    15.25,2,     0.00,2,     1.17,2,    1.350,2,    0.735,2, -999.000,5,-999.0000,5,  -999.00,9,-999.000,9,-999.0000,-999.000,-999.000,-999.000
      74AB29_1,    I5,    38,  1,     13,    17.,2,19871123,2039,-33.9917,  52.1767, 4484,    997.8,   6.6809,  34.5250,2,  34.5052,2,    207.0,2,  6.5852,    205.1,2,    21.78,2,    26.00,2,     0.01,2,     1.79,2,    0.657,2,    0.364,2, -999.000,5,-999.0000,5,  -999.00,9,-999.000,9,-999.0000,-999.000,-999.000,-999.000
      74AB29_1,    I5,    38,  1,     12,    16.,2,19871123,2039,-33.9917,  52.1767, 4484,   1299.9,   4.0083,  34.4150,2,  34.4092,2,    196.5,2,  3.9071,    197.7,2,    43.62,2,    31.67,2,     0.01,2,     2.21,2,    0.332,2,    0.170,2, -999.000,5,-999.0000,5,  -999.00,9,-999.000,9,-999.0000,-999.000,-999.000,-999.000
      74AB29_1,    I5,    38,  1,     11,    15.,2,19871123,2039,-33.9917,  52.1767, 4484,   1601.8,   3.0649,  34.5540,2,  34.5349,2,    184.3,2,  2.9478,    182.5,2,    63.26,2,    33.04,2,     0.00,2,     2.30,2,    0.135,2,    0.094,2, -999.000,5,-999.0000,5,  -999.00,9,-999.000,9,-999.0000,-999.000,-999.000,-999.000
      74AB29_1,    I5,    38,  1,     10,    14.,2,19871123,2039,-33.9917,  52.1767, 4484,   1895.8,   2.6300,  34.6470,2,  34.6368,2,    185.6,2,  2.4931,    182.9,2,    74.38,2,    32.35,2,     0.00,2,     2.27,2, -999.000,5, -999.000,5, -999.000,5,-999.0000,5,  -999.00,9,-999.000,9,-999.0000,-999.000,-999.000,-999.000
      74AB29_1,    I5,    38,  1,      9,    12.,2,19871123,2039,-33.9917,  52.1767, 4484,   2401.8,   2.1056,  34.7370,2,  34.7404,2,    196.8,2,  1.9319,    196.8,2,    86.87,2,    30.89,2,     0.01,2,     2.18,2, -999.000,5, -999.000,5, -999.000,5,-999.0000,5,  -999.00,9,-999.000,9,-999.0000,-999.000,-999.000,-999.000
      74AB29_1,    I5,    38,  1,      8,    11.,2,19871123,2039,-33.9917,  52.1767, 4484,   2601.2,   1.9321,  34.7430,2,  34.7396,2,    196.8,2,  1.7434,    198.6,2,    91.89,2,    30.69,2,     0.00,2,     2.20,2, -999.000,5, -999.000,5, -999.000,5,-999.0000,5,  -999.00,9,-999.000,9,-999.0000,-999.000,-999.000,-999.000
      74AB29_1,    I5,    38,  1,      7,    10.,2,19871123,2039,-33.9917,  52.1767, 4484,   2801.8,   1.7616,  34.7400,2,  34.7410,2,    198.6,2,  1.5576,    198.1,2,    99.62,2,    31.28,2,     0.01,2,     2.23,2, -999.000,5, -999.000,5, -999.000,5,-999.0000,5,  -999.00,9,-999.000,9,-999.0000,-999.000,-999.000,-999.000
      74AB29_1,    I5,    38,  1,      6,     9.,2,19871123,2039,-33.9917,  52.1767, 4484,   3002.6,   1.5887,  34.7360,2,  34.7345,2,    199.0,2,  1.3694,    199.9,2,   104.48,2,    31.37,2,     0.02,2,     2.18,2, -999.000,5, -999.000,5, -999.000,5,-999.0000,5,  -999.00,9,-999.000,9,-999.0000,-999.000,-999.000,-999.000
      74AB29_1,    I5,    38,  1,      5,     8.,2,19871123,2039,-33.9917,  52.1767, 4484,   3203.2,   1.4567,  34.7300,2,  34.7319,2,    200.7,2,  1.2210,    202.5,2,   109.51,2,    31.76,2,     0.02,2,     2.24,2, -999.000,5, -999.000,5, -999.000,5,-999.0000,5,  -999.00,9,-999.000,9,-999.0000,-999.000,-999.000,-999.000
      74AB29_1,    I5,    38,  1,      4,     7.,2,19871123,2039,-33.9917,  52.1767, 4484,   3404.2,   1.3197,  34.7250,2,  34.7235,2,    203.4,2,  1.0674,   -999.0,5,   112.66,2,    31.77,2,     0.01,2,     2.24,2,    0.006,2,    0.000,2, -999.000,5,-999.0000,5,  -999.00,9,-999.000,9,-999.0000,-999.000,-999.000,-999.000
      74AB29_1,    I5,    38,  1,      3,     6.,2,19871123,2039,-33.9917,  52.1767, 4484,   3608.1,   1.2462,  34.7210,2,  34.7260,2,    204.7,2,  0.9752,    205.5,2,   111.55,2,    31.47,2,     0.01,2,     2.21,2, -999.000,5, -999.000,5, -999.000,5,-999.0000,5,  -999.00,9,-999.000,9,-999.0000,-999.000,-999.000,-999.000
      74AB29_1,    I5,    38,  1,      2,     5.,2,19871123,2039,-33.9917,  52.1767, 4484,   3808.3,   1.1697,  34.7180,2,  34.7164,2,    207.7,2,  0.8801,    208.1,2,   115.89,2,    31.77,2,     0.02,2,     2.22,2, -999.000,5, -999.000,5, -999.000,5,-999.0000,5,  -999.00,9,-999.000,9,-999.0000,-999.000,-999.000,-999.000
      74AB29_1,    I5,    38,  1,      1,     2.,2,19871123,2039,-33.9917,  52.1767, 4484,   4357.7,   1.1272,  34.7130,2,  34.7066,2,    211.2,2,  0.7796,    207.7,2,   116.58,2,    32.06,2,     0.02,2,     2.28,2,    0.012,2, -999.000,5, -999.000,5,-999.0000,5,  -999.00,9,-999.000,9,-999.0000,-999.000,-999.000,-999.000
      74AB29_1,    I5,    39,  1,     22,    24.,2,19871124,0249,-33.9983,  52.7450, 4444,     10.1,  19.3523,  35.6200,2,  35.6249,2,    230.8,2, 19.3505,    234.0,2,     1.72,2,     0.00,2,     0.00,2,     0.17,2,    2.152,2,    1.156,2,    0.794,2,   1.7320,2,    -1.80,2,   7.140,2,  0.0090,   0.008,   0.140,   0.200
      74AB29_1,    I5,    39,  1,     21,    23.,2,19871124,0249,-33.9983,  52.7450, 4444,    102.6,  16.7303,  35.5940,2,  35.5918,2,    234.2,2, 16.7135,    233.6,2,     2.39,2,     1.47,2,     0.14,2,     0.33,2,    2.207,2,    1.164,2, -999.000,5,-999.0000,5,  -999.00,9,-999.000,9,-999.0000,-999.000,-999.000,-999.000
      74AB29_1,    I5,    39,  1,     20,    22.,2,19871124,0249,-33.9983,  52.7450, 4444,    203.7,  15.5203,  35.5180,2,  35.5073,2,    221.5,2, 15.4886,    222.3,2,  -999.00,5,  -999.00,5,  -999.00,5,  -999.00,5,    2.174,2,    1.228,2,    0.692,2,   1.7290,2,    -1.50,2,   7.330,2,  0.0090,   0.008,   0.150,   0.200
      74AB29_1,    I5,    39,  1,     19,    21.,2,19871124,0249,-33.9983,  52.7450, 4444,    301.4,  14.4874,  35.3960,2,  35.4042,2,    215.8,2, 14.4425,    221.9,2,     3.75,2,     6.74,2,     0.01,2,     0.62,2,    2.265,2,    1.206,2,    0.707,2,   1.7710,2,    -1.60,2,   7.340,2,  0.0090,   0.008,   0.150,   0.200
      74AB29_1,    I5,    39,  1,     18,    20.,2,19871124,0249,-33.9983,  52.7450, 4444,    403.4,  13.6194,  35.2980,2,  35.2970,2,    224.1,2, 13.5616,    225.8,2,     4.08,2,     8.11,2,     0.02,2,     0.72,2,    2.067,2,    1.184,2, -999.000,9,   1.7850,2,     5.10,2,   7.340,2,  0.0090,-999.000,   0.150,   0.200
      74AB29_1,    I5,    39,  1,     17,    19.,2,19871124,0249,-33.9983,  52.7450, 4444,    501.3,  12.7449,  35.1820,2,  35.1723,2,    222.7,2, 12.6759,    224.5,2,     4.43,2,    10.06,2,     0.02,2,     0.85,2,    1.973,2,    1.060,2, -999.000,9,   1.8040,2,     4.80,2,   7.460,2,  0.0090,-999.000,   0.150,   0.200
      74AB29_1,    I5,    39,  1,     16,    18.,2,19871124,0249,-33.9983,  52.7450, 4444,    701.8,  10.4591,  34.8770,2,  34.8674,2,    216.2,2, 10.3734,    216.3,2,     6.78,2,    15.64,2,     0.00,2,     1.18,2,    1.284,2,    0.720,2,    0.577,2,   1.8080,2,     5.00,2,   7.780,2,  0.0090,   0.008,   0.160,   0.200
      74AB29_1,    I5,    39,  1,     15,    17.,2,19871124,0249,-33.9983,  52.7450, 4444,    902.7,   7.5903,  34.5910,2,  34.5694,2,    206.1,2,  7.4981,    205.5,2,    16.72,2,    23.66,2,    -0.02,2,     1.72,2,    0.798,2,    0.430,2, -999.000,9,   1.8260,2,     6.80,2,   8.110,2,  0.0090,-999.000,   0.160,   0.200
      74AB29_1,    I5,    39,  1,     14,    16.,2,19871124,0249,-33.9983,  52.7450, 4444,   1100.2,   5.1101,  34.4110,2,  34.4014,2,    205.2,2,  5.0169,    206.4,2,    29.50,2,    28.94,2,     0.00,2,     2.07,2,    0.761,2,    0.409,2, -999.000,5,-999.0000,5,  -999.00,9,-999.000,9,-999.0000,-999.000,-999.000,-999.000
      74AB29_1,    I5,    39,  1,     13,    14.,2,19871124,0249,-33.9983,  52.7450, 4444,   1500.1,   3.2839,  34.5070,2,  34.4824,2,    182.1,2,  3.1730,    183.4,2,    55.92,2,    32.94,2,     0.01,2,     2.36,2,    0.209,2,    0.121,2,    0.144,2,   1.8500,2,     7.90,2,   8.110,2,  0.0090,   0.008,   0.160,   0.200
      74AB29_1,    I5,    39,  1,     12,    13.,2,19871124,0249,-33.9983,  52.7450, 4444,   1699.1,   2.8690,  34.5940,2,  34.5743,2,    178.6,2,  2.7459,    179.5,2,    69.72,2,    32.84,2,     0.01,2,     2.35,2, -999.000,5, -999.000,5, -999.000,5,-999.0000,5,  -999.00,9,-999.000,9,-999.0000,-999.000,-999.000,-999.000
      74AB29_1,    I5,    39,  1,     11,    12.,2,19871124,0249,-33.9983,  52.7450, 4444,   1903.6,   2.6155,  34.6590,2,  34.6462,2,    183.4,2,  2.4781,    182.1,2,    73.91,2,    32.16,2,     0.00,2,     2.29,2,    0.040,2,    0.029,2,    0.178,2,   1.8830,2,     5.10,2,   8.240,2,  0.0090,   0.008,   0.160,   0.200
      74AB29_1,    I5,    39,  1,     10,    11.,2,19871124,0249,-33.9983,  52.7450, 4444,   2100.4,   2.4585,  34.7000,2,  34.6871,2,    187.7,2,  2.3061,    186.4,2,    76.94,2,    31.38,2,     0.00,2,     2.24,2, -999.000,5, -999.000,5, -999.000,5,-999.0000,5,  -999.00,9,-999.000,9,-999.0000,-999.000,-999.000,-999.000
      74AB29_1,    I5,    39,  1,      9,    10.,2,19871124,0249,-33.9983,  52.7450, 4444,   2302.0,   2.2690,  34.7240,2,  34.7288,2,    191.2,2,  2.1015,    191.2,2,    81.99,2,    30.69,2,     0.00,2,     2.21,2, -999.000,5, -999.000,5, -999.000,5,-999.0000,5,  -999.00,9,-999.000,9,-999.0000,-999.000,-999.000,-999.000
      74AB29_1,    I5,    39,  1,      8,     9.,2,19871124,0249,-33.9983,  52.7450, 4444,   2504.6,   2.0851,  34.7420,2,  34.7414,2,    191.6,2,  1.9024,    191.6,2,    89.91,2,    30.89,2,     0.01,2,     2.19,2, -999.000,5, -999.000,5, -999.000,5,-999.0000,5,  -999.00,9,-999.000,9,-999.0000,-999.000,-999.000,-999.000
      74AB29_1,    I5,    39,  1,      7,     8.,2,19871124,0249,-33.9983,  52.7450, 4444,   2803.0,   1.8446,  34.7420,2,  34.7415,2,    194.2,2,  1.6388,    195.5,2,    97.13,2,    31.08,2,     0.00,2,     2.22,2,    0.024,2,    0.007,2, -999.000,9,   1.9260,2,     7.80,2,   8.110,2,  0.0100,-999.000,   0.160,   0.200
      74AB29_1,    I5,    39,  1,      6,     7.,2,19871124,0249,-33.9983,  52.7450, 4444,   3106.7,   1.5712,  34.7350,2,  34.7329,2,    197.7,2,  1.3422,   -999.0,5,   105.22,2,    31.37,2,     0.00,2,     2.24,2, -999.000,5, -999.000,5, -999.000,5,-999.0000,5,  -999.00,9,-999.000,9,-999.0000,-999.000,-999.000,-999.000
      74AB29_1,    I5,    39,  1,      5,     6.,2,19871124,0249,-33.9983,  52.7450, 4444,   3404.2,   1.3552,  34.7280,2,  34.7250,2,    200.3,2,  1.1021,    201.2,2,   108.92,2,    31.57,2,     0.00,2,     2.24,2,    0.013,2, -999.000,5,    0.032,2,   1.9540,2,     7.10,2,   8.390,2,  0.0100,   0.008,   0.170,   0.200
      74AB29_1,    I5,    39,  1,      4,     5.,2,19871124,0249,-33.9983,  52.7450, 4444,   3706.7,   1.2367,  34.7210,2,  34.7219,2,    202.5,2,  0.9558,    203.8,2,   113.96,2,    31.86,2,     0.00,2,     2.28,2, -999.000,5, -999.000,5, -999.000,5,-999.0000,5,  -999.00,9,-999.000,9,-999.0000,-999.000,-999.000,-999.000
      74AB29_1,    I5,    39,  1,      3,     4.,2,19871124,0249,-33.9983,  52.7450, 4444,   4007.4,   1.1487,  34.7160,2,  34.7158,2,    206.0,2,  0.8387,    205.5,2,   115.32,2,    31.96,2,     0.00,2,     2.28,2,    0.014,2,    0.017,2, -999.000,9,   1.9760,2,     5.60,2,   8.620,2,  0.0100,-999.000,   0.170,   0.200
      74AB29_1,    I5,    39,  1,      2,     3.,2,19871124,0249,-33.9983,  52.7450, 4444,   4209.2,   1.1317,  34.7140,2,  34.7134,2,    206.8,2,  0.8003,    207.3,2,   117.01,2,    32.06,2,    -0.01,2,     2.29,2,    0.015,2,    0.011,2,    0.044,2,   1.9360,2,     5.40,2,   8.410,2,  0.0100,   0.008,   0.170,   0.200
      74AB29_1,    I5,    39,  1,      1,     2.,2,19871124,0249,-33.9983,  52.7450, 4444,   4411.7,   1.1252,  34.7130,2,-999.0000,5,    207.7,2,  1.0761,    206.4,2,   118.19,2,    32.06,2,    -0.03,2,     2.27,2,    0.017,2,    0.000,2, -999.000,9,   1.9060,2,     4.80,2,   8.300,2,  0.0100,-999.000,   0.170,   0.200