BOTTLE,20060509WHPSIOSA
EXPOCODE,SECT_ID,STNNBR,CASTNO,SAMPNO,BTLNBR,BTLNBR_FLAG_W,DATE,TIME,LATITUDE,LONGITUDE,DEPTH,CTDPRS,CTDTMP,CTDSAL,CTDSAL_FLAG_W,SALNTY,SALNTY_FLAG_W,CTDOXY,CTDOXY_FLAG_W,THETA,OXYGEN,OXYGEN_FLAG_W,SILCAT,SILCAT_FLAG_W,NITRAT,NITRAT_FLAG_W,NITRIT,NITRIT_FLAG_W,PHSPHT,PHSPHT_FLAG_W,CFC-11,CFC-11_FLAG_W,CFC-12,CFC-12_FLAG_W,TRITUM,TRITUM_FLAG_W,HELIUM,HELIUM_FLAG_W,DELHE3,DELHE3_FLAG_W,NEON,NEON_FLAG_W,HELIER,TRITER,NEONER,DELHER
,,,,,,,,,,,,DBAR,IPTS-68,PSS-78,,PSS-78,,UMOL/KG,,IPTS-68,UMOL/KG,,UMOL/KG,,UMOL/KG,,UMOL/KG,,UMOL/KG,,PMOL/KG,,PMOL/KG,,TU,,UMOL/KG,,PERCNT,,NMOL/KG,,NMOL/KG,TU,NMOL/KG,PERCNT
      74AB29_1,    I5,    42,  1,     23,    24.,2,19871124,2148,-34.0117,  54.1183, 4393,     13.5,  18.6433,  35.5720,2,  35.5878,2,    235.2,2, 18.6409,    238.8,2,     1.95,2,     0.00,2,     0.02,2,     0.21,2, -999.000,5, -999.000,5, -999.000,5,-999.0000,5,  -999.00,9,-999.000,9,-999.0000,-999.000,-999.000,-999.000
      74AB29_1,    I5,    42,  1,     22,    23.,2,19871124,2148,-34.0117,  54.1183, 4393,    102.9,  15.8948,  35.5300,2,  35.5409,2,    223.3,2, 15.8786,    234.0,2,     2.97,2,     3.61,2,     0.06,2,     0.42,2, -999.000,5, -999.000,5, -999.000,5,-999.0000,5,  -999.00,9,-999.000,9,-999.0000,-999.000,-999.000,-999.000
      74AB29_1,    I5,    42,  1,     21,    22.,2,19871124,2148,-34.0117,  54.1183, 4393,    203.6,  14.8574,  35.4200,2,  35.4440,2,    223.7,2, 14.8266,    227.1,2,     3.66,2,     5.57,2,     0.01,2,     0.55,2, -999.000,5, -999.000,5, -999.000,5,-999.0000,5,  -999.00,9,-999.000,9,-999.0000,-999.000,-999.000,-999.000
      74AB29_1,    I5,    42,  1,     20,    21.,2,19871124,2148,-34.0117,  54.1183, 4393,    302.9,  14.1744,  35.3360,2,  35.3719,2,    224.1,2, 14.1300,    223.6,2,     3.51,2,     7.03,2,     0.00,2,     0.63,2, -999.000,5, -999.000,5, -999.000,5,-999.0000,5,  -999.00,9,-999.000,9,-999.0000,-999.000,-999.000,-999.000
      74AB29_1,    I5,    42,  1,     19,    20.,2,19871124,2148,-34.0117,  54.1183, 4393,    450.9,  13.0854,  35.1980,2,  35.2227,2,    221.9,2, 13.0224,    226.7,2,     4.19,2,     9.28,2,     0.02,2,     0.76,2, -999.000,5, -999.000,5, -999.000,5,-999.0000,5,  -999.00,9,-999.000,9,-999.0000,-999.000,-999.000,-999.000
      74AB29_1,    I5,    42,  1,     18,    19.,2,19871124,2148,-34.0117,  54.1183, 4393,    601.1,  11.3640,  35.0130,2,  34.9685,2,    221.8,2, 11.2870,    218.9,2,     5.38,2,    13.78,2,     0.01,2,     1.05,2, -999.000,5, -999.000,5, -999.000,5,-999.0000,5,  -999.00,9,-999.000,9,-999.0000,-999.000,-999.000,-999.000
      74AB29_1,    I5,    42,  1,     17,    18.,2,19871124,2148,-34.0117,  54.1183, 4393,    699.8,  10.5041,  34.8780,2,  34.8644,2,    217.5,2, 10.4184,    216.8,2,     7.41,2,    15.73,2,     0.01,2,     1.19,2, -999.000,5, -999.000,5, -999.000,5,-999.0000,5,  -999.00,9,-999.000,9,-999.0000,-999.000,-999.000,-999.000
      74AB29_1,    I5,    42,  1,     16,    17.,2,19871124,2148,-34.0117,  54.1183, 4393,    850.7,   8.9777,  34.6830,2,  34.6952,2,    209.2,2,  8.8823,    208.6,2,    11.10,2,    20.62,2,     0.00,2,     1.47,2, -999.000,5, -999.000,5, -999.000,5,-999.0000,5,  -999.00,9,-999.000,9,-999.0000,-999.000,-999.000,-999.000
      74AB29_1,    I5,    42,  1,     15,    16.,2,19871124,2148,-34.0117,  54.1183, 4393,   1001.0,   6.1740,  34.4570,2,  34.4685,2,    203.9,2,  6.0818,    204.7,2,    23.37,2,    26.88,2,    -0.01,2,     1.96,2, -999.000,5, -999.000,5, -999.000,5,-999.0000,5,  -999.00,9,-999.000,9,-999.0000,-999.000,-999.000,-999.000
      74AB29_1,    I5,    42,  1,     14,    14.,2,19871124,2148,-34.0117,  54.1183, 4393,   1400.7,   3.5274,  34.4450,2,  34.4516,2,    187.8,2,  3.4224,    185.6,2,    53.29,2,    32.85,2,     0.02,2,     2.37,2, -999.000,5, -999.000,5, -999.000,5,-999.0000,5,  -999.00,9,-999.000,9,-999.0000,-999.000,-999.000,-999.000
      74AB29_1,    I5,    42,  1,     13,    13.,2,19871124,2148,-34.0117,  54.1183, 4393,   1498.3,   3.1759,  34.4840,2,  34.5023,2,    183.4,2,  3.0664,    180.8,2,    60.68,2,    33.14,2,     0.00,2,     2.39,2, -999.000,5, -999.000,5, -999.000,5,-999.0000,5,  -999.00,9,-999.000,9,-999.0000,-999.000,-999.000,-999.000
      74AB29_1,    I5,    42,  1,     12,    12.,2,19871124,2148,-34.0117,  54.1183, 4393,   1699.8,   2.8480,  34.5650,2,  34.5820,2,    179.5,2,  2.7251,    177.7,2,    69.27,2,    32.84,2,     0.01,2,     2.38,2, -999.000,5, -999.000,5, -999.000,5,-999.0000,5,  -999.00,9,-999.000,9,-999.0000,-999.000,-999.000,-999.000
      74AB29_1,    I5,    42,  1,     11,    11.,2,19871124,2148,-34.0117,  54.1183, 4393,   1900.6,   2.5865,  34.6450,2,  34.6504,2,    181.7,2,  2.4498,    182.1,2,    74.98,2,    31.96,2,     0.00,2,     2.31,2, -999.000,5, -999.000,5, -999.000,5,-999.0000,5,  -999.00,9,-999.000,9,-999.0000,-999.000,-999.000,-999.000
      74AB29_1,    I5,    42,  1,     10,    10.,2,19871124,2148,-34.0117,  54.1183, 4393,   2100.0,   2.4005,  34.6880,2,  34.6932,2,    186.4,2,  2.2490,    186.8,2,    79.19,2,    31.47,2,     0.00,2,     2.26,2, -999.000,5, -999.000,5, -999.000,5,-999.0000,5,  -999.00,9,-999.000,9,-999.0000,-999.000,-999.000,-999.000
      74AB29_1,    I5,    42,  1,      9,     9.,2,19871124,2148,-34.0117,  54.1183, 4393,   2299.6,   2.2430,  34.7150,2,  34.7189,2,    188.6,2,  2.0762,    190.3,2,    81.90,2,    30.79,2,     0.00,2,     2.22,2, -999.000,5, -999.000,5, -999.000,5,-999.0000,5,  -999.00,9,-999.000,9,-999.0000,-999.000,-999.000,-999.000
      74AB29_1,    I5,    42,  1,      8,     8.,2,19871124,2148,-34.0117,  54.1183, 4393,   2500.2,   2.0246,  34.7330,2,  34.7384,2,    192.9,2,  1.8435,    194.2,2,    88.96,2,    30.79,2,     0.00,2,     2.19,2, -999.000,5, -999.000,5, -999.000,5,-999.0000,5,  -999.00,9,-999.000,9,-999.0000,-999.000,-999.000,-999.000
      74AB29_1,    I5,    42,  1,      7,     7.,2,19871124,2148,-34.0117,  54.1183, 4393,   2700.6,   1.8476,  34.7380,2,  34.7360,2,    196.0,2,  1.6514,    196.4,2,    94.19,2,    30.89,2,     0.01,2,     2.22,2, -999.000,5, -999.000,5, -999.000,5,-999.0000,5,  -999.00,9,-999.000,9,-999.0000,-999.000,-999.000,-999.000
      74AB29_1,    I5,    42,  1,      6,     6.,2,19871124,2148,-34.0117,  54.1183, 4393,   3003.6,   1.6821,  34.7360,2,  34.7394,2,    198.6,2,  1.4606,    200.3,2,    97.55,2,    30.89,2,     0.00,2,     2.19,2, -999.000,5, -999.000,5, -999.000,5,-999.0000,5,  -999.00,9,-999.000,9,-999.0000,-999.000,-999.000,-999.000
      74AB29_1,    I5,    42,  1,      5,     5.,2,19871124,2148,-34.0117,  54.1183, 4393,   3303.9,   1.4332,  34.7300,2,  34.7264,2,    203.8,2,  1.1881,    204.6,2,   104.46,2,    31.08,2,     0.01,2,     2.24,2, -999.000,5, -999.000,5, -999.000,5,-999.0000,5,  -999.00,9,-999.000,9,-999.0000,-999.000,-999.000,-999.000
      74AB29_1,    I5,    42,  1,      4,     4.,2,19871124,2148,-34.0117,  54.1183, 4393,   3604.6,   1.2792,  34.7250,2,  34.7280,2,    206.4,2,  1.0077,    207.7,2,   108.35,2,    30.89,2,     0.01,2,     2.20,2, -999.000,5, -999.000,5, -999.000,5,-999.0000,5,  -999.00,9,-999.000,9,-999.0000,-999.000,-999.000,-999.000
      74AB29_1,    I5,    42,  1,      3,     3.,2,19871124,2148,-34.0117,  54.1183, 4393,   3907.1,   1.1352,  34.7190,2,  34.7189,2,    209.4,2,  0.8362,    209.4,2,   112.40,2,    31.37,2,    -0.06,2,     2.25,2, -999.000,5, -999.000,5, -999.000,5,-999.0000,5,  -999.00,9,-999.000,9,-999.0000,-999.000,-999.000,-999.000
      74AB29_1,    I5,    42,  1,      2,     2.,2,19871124,2148,-34.0117,  54.1183, 4393,   4208.3,   1.0822,  34.7150,2,  34.7138,2,    211.2,2,  0.7524,    210.7,2,   114.43,2,    31.37,2,    -0.01,2,     2.24,2,    0.014,2, -999.000,5, -999.000,5,-999.0000,5,  -999.00,9,-999.000,9,-999.0000,-999.000,-999.000,-999.000
      74AB29_1,    I5,    42,  1,      1,     1.,2,19871124,2148,-34.0117,  54.1183, 4393,   4459.4,   1.0932,  34.7140,2,  34.7142,2,    212.5,2,  0.7352,    210.7,2,   114.95,2,    31.47,2,     0.00,2,     2.25,2,    0.016,2,    0.000,2, -999.000,5,-999.0000,5,  -999.00,9,-999.000,9,-999.0000,-999.000,-999.000,-999.000
      74AB29_1,    I5,    43,  1,     23,    24.,2,19871125,0919,-33.9917,  55.7833, 4325,     13.5,  18.7213,  35.4230,2,  35.6036,2,    246.0,2, 18.7189,    241.0,2,     2.13,2,     0.10,2,     0.03,2,     0.21,2, -999.000,5, -999.000,5, -999.000,5,-999.0000,5,  -999.00,9,-999.000,9,-999.0000,-999.000,-999.000,-999.000
      74AB29_1,    I5,    43,  1,     22,    23.,2,19871125,0919,-33.9917,  55.7833, 4325,    103.2,  15.4548,  35.5610,2,  35.5164,2,    242.8,2, 15.4388,    236.2,2,     3.18,2,     3.61,2,     0.03,2,     0.43,2,    2.149,2,    1.269,2, -999.000,5,-999.0000,5,  -999.00,9,-999.000,9,-999.0000,-999.000,-999.000,-999.000
      74AB29_1,    I5,    43,  1,     21,    22.,2,19871125,0919,-33.9917,  55.7833, 4325,    203.2,  14.9413,  35.5010,2,  35.4521,2,    234.5,2, 14.9105,    231.0,2,     3.72,2,     5.18,2,     0.02,2,     0.52,2,    2.482,2,    1.413,2, -999.000,5,-999.0000,5,  -999.00,9,-999.000,9,-999.0000,-999.000,-999.000,-999.000
      74AB29_1,    I5,    43,  1,     20,    21.,2,19871125,0919,-33.9917,  55.7833, 4325,    302.5,  14.0874,  35.3600,2,  35.3372,2,    230.2,2, 14.0432,    225.8,2,     4.26,2,     7.42,2,     0.04,2,     0.67,2,    2.122,2,    1.158,2, -999.000,5,-999.0000,5,  -999.00,9,-999.000,9,-999.0000,-999.000,-999.000,-999.000
      74AB29_1,    I5,    43,  1,     19,    20.,2,19871125,0919,-33.9917,  55.7833, 4325,    451.9,  13.1324,  35.2170,2,  35.2286,2,    228.8,2, 13.0691,    226.7,2,     4.46,2,     9.28,2,    -0.01,2,     0.76,2,    1.893,2,    1.119,2, -999.000,5,-999.0000,5,  -999.00,9,-999.000,9,-999.0000,-999.000,-999.000,-999.000
      74AB29_1,    I5,    43,  1,     18,    19.,2,19871125,0919,-33.9917,  55.7833, 4325,    600.2,  11.8330,  34.9760,2,  35.0368,2,    222.3,2, 11.7541,    220.2,2,     5.68,2,    12.51,2,     0.00,2,     0.98,2,    1.710,2,    0.897,2, -999.000,5,-999.0000,5,  -999.00,9,-999.000,9,-999.0000,-999.000,-999.000,-999.000
      74AB29_1,    I5,    43,  1,     17,    18.,2,19871125,0919,-33.9917,  55.7833, 4325,    750.5,   9.8806,  34.7530,2,  34.7846,2,    212.7,2,  9.7919,    215.1,2,     8.76,2,    17.59,2,     0.00,2,     1.31,2,    1.087,2,    0.672,2, -999.000,5,-999.0000,5,  -999.00,9,-999.000,9,-999.0000,-999.000,-999.000,-999.000
      74AB29_1,    I5,    43,  1,     16,    17.,2,19871125,0919,-33.9917,  55.7833, 4325,    901.6,   7.3364,  34.6270,2,  34.5541,2,    209.2,2,  7.2460,    206.4,2,    17.80,2,    24.24,2,     0.01,2,     1.74,2, -999.000,5, -999.000,5, -999.000,5,-999.0000,5,  -999.00,9,-999.000,9,-999.0000,-999.000,-999.000,-999.000
      74AB29_1,    I5,    43,  1,     15,    16.,2,19871125,0919,-33.9917,  55.7833, 4325,    998.7,   6.2925,  34.4960,2,-999.0000,5,    204.8,2,  6.2679,    207.3,2,    22.07,2,    25.90,2,     0.00,2,     1.87,2, -999.000,5, -999.000,5, -999.000,5,-999.0000,5,  -999.00,9,-999.000,9,-999.0000,-999.000,-999.000,-999.000
      74AB29_1,    I5,    43,  1,     14,    15.,2,19871125,0919,-33.9917,  55.7833, 4325,   1197.8,   4.3662,  34.3950,2,-999.0000,5,    201.7,2,  4.3559,    201.6,2,    37.72,2,    30.89,2,     0.01,2,     2.23,2,    0.509,2,    0.289,2, -999.000,5,-999.0000,5,  -999.00,9,-999.000,9,-999.0000,-999.000,-999.000,-999.000
      74AB29_1,    I5,    43,  1,     13,    14.,2,19871125,0919,-33.9917,  55.7833, 4325,   1398.1,   3.3474,  34.4570,2,  34.4679,2,    186.9,2,  3.2445,    185.6,2,    56.44,2,    33.04,2,     0.00,2,     2.37,2,    0.232,2, -999.000,5, -999.000,5,-999.0000,5,  -999.00,9,-999.000,9,-999.0000,-999.000,-999.000,-999.000
      74AB29_1,    I5,    43,  1,     12,    13.,2,19871125,0919,-33.9917,  55.7833, 4325,   1599.4,   2.9099,  34.5520,2,  34.5616,2,    180.4,2,  2.7948,    179.5,2,    67.33,2,    33.33,2,     0.00,2,     2.39,2, -999.000,5, -999.000,5, -999.000,5,-999.0000,5,  -999.00,9,-999.000,9,-999.0000,-999.000,-999.000,-999.000
      74AB29_1,    I5,    43,  1,     11,    12.,2,19871125,0919,-33.9917,  55.7833, 4325,   1799.1,   2.6305,  34.6270,2,  34.6285,2,    181.2,2,  2.5019,    180.8,2,    74.15,2,    32.65,2,     0.00,2,     2.34,2, -999.000,5, -999.000,5, -999.000,5,-999.0000,5,  -999.00,9,-999.000,9,-999.0000,-999.000,-999.000,-999.000
      74AB29_1,    I5,    43,  1,     10,    11.,2,19871125,0919,-33.9917,  55.7833, 4325,   2000.5,   2.4770,  34.6920,2,  34.6779,2,    183.4,2,  2.3331,    183.8,2,    78.77,2,    31.96,2,    -0.01,2,     2.28,2, -999.000,5, -999.000,5, -999.000,5,-999.0000,5,  -999.00,9,-999.000,9,-999.0000,-999.000,-999.000,-999.000
      74AB29_1,    I5,    43,  1,      9,    10.,2,19871125,0919,-33.9917,  55.7833, 4325,   2203.5,   2.3105,  34.7190,2,  34.7138,2,    187.7,2,  2.1512,    187.3,2,    84.23,2,    31.47,2,     0.01,2,     2.28,2, -999.000,5, -999.000,5, -999.000,5,-999.0000,5,  -999.00,9,-999.000,9,-999.0000,-999.000,-999.000,-999.000
      74AB29_1,    I5,    43,  1,      8,     9.,2,19871125,0919,-33.9917,  55.7833, 4325,   2400.0,   2.1646,  34.7340,2,  34.7351,2,    189.5,2,  1.9901,    190.7,2,    88.51,2,    31.08,2,    -0.01,2,     2.23,2, -999.000,5, -999.000,5, -999.000,5,-999.0000,5,  -999.00,9,-999.000,9,-999.0000,-999.000,-999.000,-999.000
      74AB29_1,    I5,    43,  1,      7,     8.,2,19871125,0919,-33.9917,  55.7833, 4325,   2594.4,   2.0286,  34.7410,2,  34.7394,2,    191.6,2,  1.8387,    192.0,2,    93.47,2,    31.28,2,     0.00,2,     2.23,2, -999.000,5, -999.000,5, -999.000,5,-999.0000,5,  -999.00,9,-999.000,9,-999.0000,-999.000,-999.000,-999.000
      74AB29_1,    I5,    43,  1,      6,     7.,2,19871125,0919,-33.9917,  55.7833, 4325,   2802.3,   1.8706,  34.7450,2,  34.7443,2,    194.7,2,  1.6643,    195.5,2,    96.90,2,    31.08,2,     0.00,2,     2.22,2, -999.000,5, -999.000,5, -999.000,5,-999.0000,5,  -999.00,9,-999.000,9,-999.0000,-999.000,-999.000,-999.000
      74AB29_1,    I5,    43,  1,      5,     6.,2,19871125,0919,-33.9917,  55.7833, 4325,   3003.1,   1.7381,  34.7420,2,  34.7415,2,    196.0,2,  1.5154,    198.6,2,    99.48,2,    31.08,2,     0.00,2,     2.23,2, -999.000,5, -999.000,5, -999.000,5,-999.0000,5,  -999.00,9,-999.000,9,-999.0000,-999.000,-999.000,-999.000
      74AB29_1,    I5,    43,  1,      4,     5.,2,19871125,0919,-33.9917,  55.7833, 4325,   3304.7,   1.5012,  34.7350,2,  34.7364,2,    199.4,2,  1.2544,   -999.0,5,   106.49,2,    31.47,2,    -0.01,2,     2.27,2, -999.000,5, -999.000,5, -999.000,5,-999.0000,5,  -999.00,9,-999.000,9,-999.0000,-999.000,-999.000,-999.000
      74AB29_1,    I5,    43,  1,      3,     3.,2,19871125,0919,-33.9917,  55.7833, 4325,   3905.1,   1.2707,  34.7250,2,  34.7229,2,    208.6,2,  0.9681,    207.2,2,   110.46,2,    31.57,2,     0.00,2,     2.25,2, -999.000,5, -999.000,5, -999.000,5,-999.0000,5,  -999.00,9,-999.000,9,-999.0000,-999.000,-999.000,-999.000
      74AB29_1,    I5,    43,  1,      2,     2.,2,19871125,0919,-33.9917,  55.7833, 4325,   4207.6,   1.2847,  34.7240,2,  34.7227,2,    209.9,2,  0.9489,    208.6,2,   109.98,2,    31.37,2,    -0.02,2,     2.24,2,    0.012,2, -999.000,5, -999.000,5,-999.0000,5,  -999.00,9,-999.000,9,-999.0000,-999.000,-999.000,-999.000
      74AB29_1,    I5,    43,  1,      1,     1.,2,19871125,0919,-33.9917,  55.7833, 4325,   4389.8,   1.2952,  34.7230,2,  34.7231,2,    208.1,2,  0.9388,    207.7,2,   110.53,2,    31.57,2,     0.00,2,     2.25,2,    0.019,2,    0.000,2, -999.000,5,-999.0000,5,  -999.00,9,-999.000,9,-999.0000,-999.000,-999.000,-999.000