BOTTLE,20060509WHPSIOSA
EXPOCODE,SECT_ID,STNNBR,CASTNO,SAMPNO,BTLNBR,BTLNBR_FLAG_W,DATE,TIME,LATITUDE,LONGITUDE,DEPTH,CTDPRS,CTDTMP,CTDSAL,CTDSAL_FLAG_W,SALNTY,SALNTY_FLAG_W,CTDOXY,CTDOXY_FLAG_W,THETA,OXYGEN,OXYGEN_FLAG_W,SILCAT,SILCAT_FLAG_W,NITRAT,NITRAT_FLAG_W,NITRIT,NITRIT_FLAG_W,PHSPHT,PHSPHT_FLAG_W,CFC-11,CFC-11_FLAG_W,CFC-12,CFC-12_FLAG_W,TRITUM,TRITUM_FLAG_W,HELIUM,HELIUM_FLAG_W,DELHE3,DELHE3_FLAG_W,NEON,NEON_FLAG_W,HELIER,TRITER,NEONER,DELHER
,,,,,,,,,,,,DBAR,IPTS-68,PSS-78,,PSS-78,,UMOL/KG,,IPTS-68,UMOL/KG,,UMOL/KG,,UMOL/KG,,UMOL/KG,,UMOL/KG,,PMOL/KG,,PMOL/KG,,TU,,UMOL/KG,,PERCNT,,NMOL/KG,,NMOL/KG,TU,NMOL/KG,PERCNT
      74AB29_1,    I5,    86,  1,     23,    24.,2,19871210,1356,-32.4950, 102.6567, 4565,    102.1,  15.7623,  35.7840,2,  35.7369,2,    242.4,2, 15.7463,    242.7,2,     0.66,2,     0.29,2,     0.00,2,     0.21,2, -999.000,5, -999.000,5, -999.000,5,-999.0000,5,  -999.00,9,-999.000,9,-999.0000,-999.000,-999.000,-999.000
      74AB29_1,    I5,    86,  1,     22,    23.,2,19871210,1356,-32.4950, 102.6567, 4565,    204.5,  13.8444,  35.3130,2,  35.3579,2,    235.8,2, 13.8150,    243.6,2,     0.98,2,     4.20,2,     0.00,2,     0.42,2, -999.000,5, -999.000,5, -999.000,5,-999.0000,5,  -999.00,9,-999.000,9,-999.0000,-999.000,-999.000,-999.000
      74AB29_1,    I5,    86,  1,     21,    22.,2,19871210,1356,-32.4950, 102.6567, 4565,    301.8,  11.9185,  35.0410,2,  35.0959,2,    240.1,2, 11.8791,    240.6,2,     2.12,2,     8.99,2,     0.00,2,     0.68,2, -999.000,5, -999.000,5, -999.000,5,-999.0000,5,  -999.00,9,-999.000,9,-999.0000,-999.000,-999.000,-999.000
      74AB29_1,    I5,    86,  1,     20,    21.,2,19871210,1356,-32.4950, 102.6567, 4565,    500.4,  10.1671,  34.7760,2,  34.7883,2,    244.4,2, 10.1077,    244.6,2,     3.61,2,    13.59,2,     0.00,2,     0.98,2, -999.000,5, -999.000,5, -999.000,5,-999.0000,5,  -999.00,9,-999.000,9,-999.0000,-999.000,-999.000,-999.000
      74AB29_1,    I5,    86,  1,     19,    20.,2,19871210,1356,-32.4950, 102.6567, 4565,    698.9,   8.8182,  34.6230,2,  34.6203,2,    235.3,2,  8.7414,    232.0,2,     5.74,2,    18.67,2,     0.00,2,     1.30,2, -999.000,5, -999.000,5, -999.000,5,-999.0000,5,  -999.00,9,-999.000,9,-999.0000,-999.000,-999.000,-999.000
      74AB29_1,    I5,    86,  1,     18,    19.,2,19871210,1356,-32.4950, 102.6567, 4565,    900.5,   6.0845,  34.4350,2,  34.4292,2,    201.3,2,  6.0028,    200.3,2,    21.82,2,    28.06,2,     0.00,2,     1.90,2, -999.000,5, -999.000,5, -999.000,5,-999.0000,5,  -999.00,9,-999.000,9,-999.0000,-999.000,-999.000,-999.000
      74AB29_1,    I5,    86,  1,     17,    18.,2,19871210,1356,-32.4950, 102.6567, 4565,   1099.5,   4.0013,  34.4030,2,  34.4074,2,    183.9,2,  3.9174,    184.3,2,    46.52,2,    33.24,2,     0.00,2,     2.30,2, -999.000,5, -999.000,5, -999.000,5,-999.0000,5,  -999.00,9,-999.000,9,-999.0000,-999.000,-999.000,-999.000
      74AB29_1,    I5,    86,  1,     16,    17.,2,19871210,1356,-32.4950, 102.6567, 4565,   1300.7,   3.4574,  34.5040,2,  34.5027,2,    160.8,2,  3.3615,    159.0,2,    67.57,2,    34.80,2,     0.00,2,     2.45,2, -999.000,5, -999.000,5, -999.000,5,-999.0000,5,  -999.00,9,-999.000,9,-999.0000,-999.000,-999.000,-999.000
      74AB29_1,    I5,    86,  1,     15,    16.,2,19871210,1356,-32.4950, 102.6567, 4565,   1498.6,   3.0474,  34.5720,2,  34.5733,2,    157.3,2,  2.9391,    157.3,2,    77.35,2,    34.80,2,     0.00,2,     2.45,2, -999.000,5, -999.000,5, -999.000,5,-999.0000,5,  -999.00,9,-999.000,9,-999.0000,-999.000,-999.000,-999.000
      74AB29_1,    I5,    86,  1,     14,    15.,2,19871210,1356,-32.4950, 102.6567, 4565,   1700.6,   2.7655,  34.6400,2,  34.6372,2,    159.5,2,  2.6435,    159.5,2,    85.29,2,    34.41,2,     0.00,2,     2.43,2, -999.000,5, -999.000,5, -999.000,5,-999.0000,5,  -999.00,9,-999.000,9,-999.0000,-999.000,-999.000,-999.000
      74AB29_1,    I5,    86,  1,     13,    14.,2,19871210,1356,-32.4950, 102.6567, 4565,   1900.2,   2.5450,  34.6820,2,  34.6810,2,    164.3,2,  2.4088,    164.7,2,    89.94,2,    33.72,2,     0.00,2,     2.38,2, -999.000,5, -999.000,5, -999.000,5,-999.0000,5,  -999.00,9,-999.000,9,-999.0000,-999.000,-999.000,-999.000
      74AB29_1,    I5,    86,  1,     12,    13.,2,19871210,1356,-32.4950, 102.6567, 4565,   2088.2,   2.3395,  34.7100,2,  34.7075,2,    166.9,2,  2.1900,    169.0,2,    96.90,2,    33.33,2,     0.00,2,     2.33,2, -999.000,5, -999.000,5, -999.000,5,-999.0000,5,  -999.00,9,-999.000,9,-999.0000,-999.000,-999.000,-999.000
      74AB29_1,    I5,    86,  1,     11,    12.,2,19871210,1356,-32.4950, 102.6567, 4565,   2304.6,   2.1526,  34.7270,2,  34.7237,2,    175.6,2,  1.9869,    175.5,2,    98.88,2,    32.84,2,     0.00,2,     2.31,2, -999.000,5, -999.000,5, -999.000,5,-999.0000,5,  -999.00,9,-999.000,9,-999.0000,-999.000,-999.000,-999.000
      74AB29_1,    I5,    86,  1,     10,    11.,2,19871210,1356,-32.4950, 102.6567, 4565,   2503.0,   1.9561,  34.7350,2,  34.7331,2,    183.4,2,  1.7760,    185.1,2,    98.87,2,    31.96,2,     0.00,2,     2.24,2, -999.000,5, -999.000,5, -999.000,5,-999.0000,5,  -999.00,9,-999.000,9,-999.0000,-999.000,-999.000,-999.000
      74AB29_1,    I5,    86,  1,      9,    10.,2,19871210,1356,-32.4950, 102.6567, 4565,   2804.1,   1.7136,  34.7410,2,  34.7384,2,    193.4,2,  1.5104,    195.5,2,    99.36,2,    31.47,2,     0.00,2,     2.19,2, -999.000,5, -999.000,5, -999.000,5,-999.0000,5,  -999.00,9,-999.000,9,-999.0000,-999.000,-999.000,-999.000
      74AB29_1,    I5,    86,  1,      8,     9.,2,19871210,1356,-32.4950, 102.6567, 4565,   3004.7,   1.5627,  34.7380,2,  34.7357,2,    197.7,2,  1.3437,    200.3,2,   102.52,2,    31.47,2,     0.00,2,     2.18,2, -999.000,5, -999.000,5, -999.000,5,-999.0000,5,  -999.00,9,-999.000,9,-999.0000,-999.000,-999.000,-999.000
      74AB29_1,    I5,    86,  1,      7,     8.,2,19871210,1356,-32.4950, 102.6567, 4565,   3204.7,   1.4182,  34.7340,2,  34.7319,2,    199.0,2,  1.1832,    201.2,2,   106.83,2,    31.47,2,     0.00,2,     2.19,2, -999.000,5, -999.000,5, -999.000,5,-999.0000,5,  -999.00,9,-999.000,9,-999.0000,-999.000,-999.000,-999.000
      74AB29_1,    I5,    86,  1,      6,     7.,2,19871210,1356,-32.4950, 102.6567, 4565,   3405.1,   1.3182,  34.7300,2,  34.7270,2,    201.2,2,  1.0659,    202.5,2,   109.64,2,    31.77,2,     0.00,2,     2.21,2, -999.000,5, -999.000,5, -999.000,5,-999.0000,5,  -999.00,9,-999.000,9,-999.0000,-999.000,-999.000,-999.000
      74AB29_1,    I5,    86,  1,      5,     6.,2,19871210,1356,-32.4950, 102.6567, 4565,   3707.0,   1.1677,  34.7220,2,  34.7241,2,    203.8,2,  0.8886,    205.1,2,   114.63,2,    31.96,2,     0.00,2,     2.23,2, -999.000,5, -999.000,5, -999.000,5,-999.0000,5,  -999.00,9,-999.000,9,-999.0000,-999.000,-999.000,-999.000
      74AB29_1,    I5,    86,  1,      4,     5.,2,19871210,1356,-32.4950, 102.6567, 4565,   4008.1,   1.0902,  34.7180,2,  34.7150,2,    205.5,2,  0.7818,   -999.0,5,   117.44,2,    32.16,2,     0.00,2,     2.23,2, -999.000,5, -999.000,5, -999.000,5,-999.0000,5,  -999.00,9,-999.000,9,-999.0000,-999.000,-999.000,-999.000
      74AB29_1,    I5,    86,  1,      3,     4.,2,19871210,1356,-32.4950, 102.6567, 4565,   4209.0,   1.0487,  34.7140,2,  34.7115,2,    207.3,2,  0.7198,    208.1,2,   118.94,2,    32.16,2,     0.00,2,     2.26,2, -999.000,5, -999.000,5, -999.000,5,-999.0000,5,  -999.00,9,-999.000,9,-999.0000,-999.000,-999.000,-999.000
      74AB29_1,    I5,    86,  1,      2,     3.,2,19871210,1356,-32.4950, 102.6567, 4565,   4412.3,   1.0188,  34.7130,2,  34.7091,2,    208.6,2,  0.6684,    208.1,2,   119.93,2,    32.25,2,     0.00,2,     2.28,2, -999.000,5, -999.000,5, -999.000,5,-999.0000,5,  -999.00,9,-999.000,9,-999.0000,-999.000,-999.000,-999.000
      74AB29_1,    I5,    86,  1,      1,     2.,2,19871210,1356,-32.4950, 102.6567, 4565,   4635.4,   1.0028,  34.7100,2,  34.7101,2,    209.0,2,  0.6277,    208.1,2,   120.76,2,    32.35,2,     0.00,2,     2.25,2, -999.000,5, -999.000,5, -999.000,5,-999.0000,5,  -999.00,9,-999.000,9,-999.0000,-999.000,-999.000,-999.000
      74AB29_1,    I5,    87,  1,     24,    24.,2,19871210,1917,-32.5983, 102.9917, 4779,      2.8,  17.7778,  34.7080,2,  35.7234,2,    210.7,2, 17.7773,    241.8,2,     0.73,2,     0.10,2,     0.00,2,     0.19,2, -999.000,5, -999.000,5, -999.000,5,-999.0000,5,  -999.00,9,-999.000,9,-999.0000,-999.000,-999.000,-999.000
      74AB29_1,    I5,    87,  1,     23,    23.,2,19871210,1917,-32.5983, 102.9917, 4779,    104.1,  15.2238,  35.6210,2,  35.6309,2,    245.8,2, 15.2078,    242.3,2,     0.93,2,     1.27,2,     0.00,2,     0.28,2, -999.000,5, -999.000,5, -999.000,5,-999.0000,5,  -999.00,9,-999.000,9,-999.0000,-999.000,-999.000,-999.000
      74AB29_1,    I5,    87,  1,     22,    22.,2,19871210,1917,-32.5983, 102.9917, 4779,    201.3,  13.2859,  35.3060,2,  35.3137,2,    231.9,2, 13.2577,    232.8,2,     1.46,2,     6.15,2,     0.00,2,     0.53,2, -999.000,5, -999.000,5, -999.000,5,-999.0000,5,  -999.00,9,-999.000,9,-999.0000,-999.000,-999.000,-999.000
      74AB29_1,    I5,    87,  1,     21,    21.,2,19871210,1917,-32.5983, 102.9917, 4779,    301.2,  11.5120,  35.0180,2,  35.0031,2,    241.9,2, 11.4736,    244.1,2,     2.47,2,     9.87,2,     0.00,2,     0.77,2,    2.608,2,    1.422,2, -999.000,5,-999.0000,5,  -999.00,9,-999.000,9,-999.0000,-999.000,-999.000,-999.000
      74AB29_1,    I5,    87,  1,     20,    20.,2,19871210,1917,-32.5983, 102.9917, 4779,    401.1,  10.5526,  34.8530,2,-999.0000,5,    246.6,2, 10.5292,    244.6,2,     2.82,2,    12.02,2,     0.00,2,     0.89,2, -999.000,5, -999.000,5, -999.000,5,-999.0000,5,  -999.00,9,-999.000,9,-999.0000,-999.000,-999.000,-999.000
      74AB29_1,    I5,    87,  1,     19,    19.,2,19871210,1917,-32.5983, 102.9917, 4779,    501.1,   9.7901,  34.7310,2,  34.7357,2,    241.4,2,  9.7320,    241.6,2,     3.68,2,    14.86,2,     0.00,2,     1.09,2,    2.354,2,    1.281,2, -999.000,5,-999.0000,5,  -999.00,9,-999.000,9,-999.0000,-999.000,-999.000,-999.000
      74AB29_1,    I5,    87,  1,     18,    18.,2,19871210,1917,-32.5983, 102.9917, 4779,    698.9,   8.6387,  34.6060,2,  34.6042,2,    229.2,2,  8.5628,    226.0,2,     7.18,2,    19.74,2,     0.00,2,     1.39,2, -999.000,5, -999.000,5, -999.000,5,-999.0000,5,  -999.00,9,-999.000,9,-999.0000,-999.000,-999.000,-999.000
      74AB29_1,    I5,    87,  1,     17,    17.,2,19871210,1917,-32.5983, 102.9917, 4779,    898.5,   6.0145,  34.4230,2,  34.4271,2,    198.3,2,  5.9335,    197.7,2,    22.45,2,    28.25,2,     0.00,2,     1.93,2, -999.000,5, -999.000,5, -999.000,5,-999.0000,5,  -999.00,9,-999.000,9,-999.0000,-999.000,-999.000,-999.000
      74AB29_1,    I5,    87,  1,     16,    16.,2,19871210,1917,-32.5983, 102.9917, 4779,   1099.4,   4.0033,  34.4080,2,  34.4045,2,    181.7,2,  3.9194,    183.4,2,    46.29,2,    32.95,2,     0.00,2,     2.30,2, -999.000,5, -999.000,5, -999.000,5,-999.0000,5,  -999.00,9,-999.000,9,-999.0000,-999.000,-999.000,-999.000
      74AB29_1,    I5,    87,  1,     15,    15.,2,19871210,1917,-32.5983, 102.9917, 4779,   1298.1,   3.4524,  34.5000,2,-999.0000,5,    163.0,2,  3.4511,    158.2,2,    67.84,2,    34.71,2,     0.00,2,     2.46,2,    0.017,2,    0.000,2, -999.000,5,-999.0000,5,  -999.00,9,-999.000,9,-999.0000,-999.000,-999.000,-999.000
      74AB29_1,    I5,    87,  1,     14,    14.,2,19871210,1917,-32.5983, 102.9917, 4779,   1499.2,   3.0989,  34.5800,2,  34.5690,2,    156.9,2,  2.9900,    154.7,2,    77.11,2,    34.90,2,     0.00,2,     2.48,2, -999.000,5, -999.000,5, -999.000,5,-999.0000,5,  -999.00,9,-999.000,9,-999.0000,-999.000,-999.000,-999.000
      74AB29_1,    I5,    87,  1,     13,    13.,2,19871210,1917,-32.5983, 102.9917, 4779,   1799.3,   2.6690,  34.6630,2,  34.6574,2,    161.7,2,  2.5398,    160.3,2,    87.55,2,    34.01,2,     0.00,2,     2.41,2, -999.000,5, -999.000,5, -999.000,5,-999.0000,5,  -999.00,9,-999.000,9,-999.0000,-999.000,-999.000,-999.000
      74AB29_1,    I5,    87,  1,     12,    12.,2,19871210,1917,-32.5983, 102.9917, 4779,   2099.3,   2.3605,  34.7110,2,  34.7066,2,    172.1,2,  2.2097,    172.5,2,    90.69,2,    32.94,2,     0.00,2,     2.31,2, -999.000,5, -999.000,5, -999.000,5,-999.0000,5,  -999.00,9,-999.000,9,-999.0000,-999.000,-999.000,-999.000
      74AB29_1,    I5,    87,  1,     11,    11.,2,19871210,1917,-32.5983, 102.9917, 4779,   2399.9,   2.0821,  34.7350,2,  34.7345,2,    184.7,2,  1.9090,    185.5,2,    92.04,2,    31.76,2,     0.00,2,     2.22,2,    0.001,2,    0.000,2, -999.000,5,-999.0000,5,  -999.00,9,-999.000,9,-999.0000,-999.000,-999.000,-999.000
      74AB29_1,    I5,    87,  1,     10,    10.,2,19871210,1917,-32.5983, 102.9917, 4779,   2701.2,   1.8231,  34.7420,2,  34.7437,2,    192.9,2,  1.6273,    193.3,2,    96.02,2,    31.28,2,     0.00,2,     2.21,2, -999.000,5, -999.000,5, -999.000,5,-999.0000,5,  -999.00,9,-999.000,9,-999.0000,-999.000,-999.000,-999.000
      74AB29_1,    I5,    87,  1,      9,     9.,2,19871210,1917,-32.5983, 102.9917, 4779,   3003.7,   1.5377,  34.7380,2,  34.7310,2,    198.1,2,  1.3194,    200.3,2,   106.61,2,    31.67,2,     0.00,2,     2.20,2, -999.000,5, -999.000,5, -999.000,5,-999.0000,5,  -999.00,9,-999.000,9,-999.0000,-999.000,-999.000,-999.000
      74AB29_1,    I5,    87,  1,      8,     8.,2,19871210,1917,-32.5983, 102.9917, 4779,   3202.0,   1.3737,  34.7320,2,  34.7313,2,    200.3,2,  1.1400,    201.2,2,   107.62,2,    31.57,2,     0.00,2,     2.19,2, -999.000,5, -999.000,5, -999.000,5,-999.0000,5,  -999.00,9,-999.000,9,-999.0000,-999.000,-999.000,-999.000
      74AB29_1,    I5,    87,  1,      7,     7.,2,19871210,1917,-32.5983, 102.9917, 4779,   3506.4,   1.2062,  34.7240,2,  34.7223,2,    202.9,2,  0.9465,    203.3,2,   113.09,2,    31.96,2,     0.00,2,     2.22,2, -999.000,5, -999.000,5, -999.000,5,-999.0000,5,  -999.00,9,-999.000,9,-999.0000,-999.000,-999.000,-999.000
      74AB29_1,    I5,    87,  1,      6,     6.,2,19871210,1917,-32.5983, 102.9917, 4779,   3705.6,   1.1297,  34.7200,2,  34.7195,2,    204.2,2,  0.8518,    204.6,2,   115.09,2,    32.06,2,     0.00,2,     2.22,2, -999.000,5, -999.000,5, -999.000,5,-999.0000,5,  -999.00,9,-999.000,9,-999.0000,-999.000,-999.000,-999.000
      74AB29_1,    I5,    87,  1,      5,     5.,2,19871210,1917,-32.5983, 102.9917, 4779,   4008.9,   1.0502,  34.7160,2,  34.7144,2,    205.5,2,  0.7428,    205.5,2,   117.90,2,    32.16,2,     0.00,2,     2.23,2, -999.000,5, -999.000,5, -999.000,5,-999.0000,5,  -999.00,9,-999.000,9,-999.0000,-999.000,-999.000,-999.000
      74AB29_1,    I5,    87,  1,      4,     4.,2,19871210,1917,-32.5983, 102.9917, 4779,   4208.5,   1.0178,  34.7130,2,  34.7121,2,    206.8,2,  0.6899,    207.3,2,   119.57,2,    32.35,2,     0.00,2,     2.22,2, -999.000,5, -999.000,5, -999.000,5,-999.0000,5,  -999.00,9,-999.000,9,-999.0000,-999.000,-999.000,-999.000
      74AB29_1,    I5,    87,  1,      3,     3.,2,19871210,1917,-32.5983, 102.9917, 4779,   4408.1,   0.9953,  34.7120,2,  34.7117,2,    208.1,2,  0.6461,    207.7,2,   120.08,2,    32.35,2,     0.00,2,     2.22,2, -999.000,5, -999.000,5, -999.000,5,-999.0000,5,  -999.00,9,-999.000,9,-999.0000,-999.000,-999.000,-999.000
      74AB29_1,    I5,    87,  1,      2,     2.,2,19871210,1917,-32.5983, 102.9917, 4779,   4611.0,   0.9833,  34.7100,2,  34.7120,2,    209.0,2,  0.6116,    207.7,2,   121.09,2,    32.55,2,     0.00,2,  -999.00,5, -999.000,5, -999.000,5, -999.000,5,-999.0000,5,  -999.00,9,-999.000,9,-999.0000,-999.000,-999.000,-999.000
      74AB29_1,    I5,    87,  1,      1,     1.,2,19871210,1917,-32.5983, 102.9917, 4779,   4860.7,   0.9803,  34.7080,2,  34.7030,2,    210.3,2,  0.5799,    207.7,2,   121.92,2,    32.55,2,     0.00,2,     2.22,2,    0.005,2,    0.000,2, -999.000,5,-999.0000,5,  -999.00,9,-999.000,9,-999.0000,-999.000,-999.000,-999.000