BOTTLE,20060509WHPSIOSA
EXPOCODE,SECT_ID,STNNBR,CASTNO,SAMPNO,BTLNBR,BTLNBR_FLAG_W,DATE,TIME,LATITUDE,LONGITUDE,DEPTH,CTDPRS,CTDTMP,CTDSAL,CTDSAL_FLAG_W,SALNTY,SALNTY_FLAG_W,CTDOXY,CTDOXY_FLAG_W,THETA,OXYGEN,OXYGEN_FLAG_W,SILCAT,SILCAT_FLAG_W,NITRAT,NITRAT_FLAG_W,NITRIT,NITRIT_FLAG_W,PHSPHT,PHSPHT_FLAG_W,CFC-11,CFC-11_FLAG_W,CFC-12,CFC-12_FLAG_W,TRITUM,TRITUM_FLAG_W,HELIUM,HELIUM_FLAG_W,DELHE3,DELHE3_FLAG_W,NEON,NEON_FLAG_W,HELIER,TRITER,NEONER,DELHER
,,,,,,,,,,,,DBAR,IPTS-68,PSS-78,,PSS-78,,UMOL/KG,,IPTS-68,UMOL/KG,,UMOL/KG,,UMOL/KG,,UMOL/KG,,UMOL/KG,,PMOL/KG,,PMOL/KG,,TU,,UMOL/KG,,PERCNT,,NMOL/KG,,NMOL/KG,TU,NMOL/KG,PERCNT
      74AB29_1,    I5,    50,  1,     24,    24.,2,19871127,2102,-33.9900,  61.9950, 5125,      3.2,  19.0153,  35.5450,2,  35.5496,2,    238.7,2, 19.0147,    239.2,2,     1.58,2,     0.20,2,     0.01,2,     0.23,2,    2.148,2,    1.245,2,    0.898,2,   1.7170,2,    -1.60,2,   7.250,2,  0.0090,   0.008,   0.140,   0.200
      74AB29_1,    I5,    50,  1,     23,    23.,2,19871127,2102,-33.9900,  61.9950, 5125,    101.9,  14.7089,  35.4380,2,  35.4344,2,    235.4,2, 14.6937,    242.7,2,     2.70,2,     4.10,2,     0.10,2,     0.46,2,    2.363,2,    1.243,2, -999.000,5,-999.0000,5,  -999.00,9,-999.000,9,-999.0000,-999.000,-999.000,-999.000
      74AB29_1,    I5,    50,  1,     22,    22.,2,19871127,2102,-33.9900,  61.9950, 5125,    201.4,  14.2224,  35.3970,2,  35.4003,2,    243.2,2, 14.1929,    246.7,2,     3.07,2,     5.28,2,     0.03,2,     0.56,2,    2.651,2,    1.383,2,    0.774,2,   1.7290,2,    -1.20,2,   7.270,2,  0.0090,   0.008,   0.150,   0.200
      74AB29_1,    I5,    50,  1,     21,    21.,2,19871127,2102,-33.9900,  61.9950, 5125,    300.5,  13.9104,  35.3390,2,  35.3441,2,    243.6,2, 13.8669,    241.9,2,     3.46,2,     6.35,2,     0.02,2,     0.58,2,    2.419,2,    1.375,2,    0.481,2,   1.7860,2,    -0.80,2,   7.420,2,  0.0090,   0.008,   0.150,   0.200
      74AB29_1,    I5,    50,  1,     20,    20.,2,19871127,2102,-33.9900,  61.9950, 5125,    400.8,  13.2204,  35.2570,2,  35.2522,2,    237.1,2, 13.1641,    233.7,2,     4.20,2,     8.60,2,     0.01,2,     0.72,2,    2.152,2,    1.222,2, -999.000,5,-999.0000,5,  -999.00,9,-999.000,9,-999.0000,-999.000,-999.000,-999.000
      74AB29_1,    I5,    50,  1,     19,    19.,2,19871127,2102,-33.9900,  61.9950, 5125,    600.3,  11.4055,  34.9420,2,  34.9620,2,    223.2,2, 11.3284,    223.3,2,     5.69,2,    13.58,2,     0.00,2,     1.03,2,    1.662,2,    0.940,2,    0.412,2,   1.8190,2,     1.80,2,   7.540,2,  0.0090,   0.008,   0.150,   0.200
      74AB29_1,    I5,    50,  1,     18,    18.,2,19871127,2102,-33.9900,  61.9950, 5125,    799.5,   8.8062,  34.6590,2,  34.6714,2,    210.5,2,  8.7178,    209.9,2,    11.75,2,    21.31,2,     0.00,2,     1.47,2,    1.036,2,    0.554,2, -999.000,9,   1.8340,2,     2.10,2,   7.720,2,  0.0090,-999.000,   0.150,   0.200
      74AB29_1,    I5,    50,  1,     17,    17.,2,19871127,2102,-33.9900,  61.9950, 5125,   1000.5,   5.6231,  34.4100,2,  34.4125,2,    208.3,2,  5.5352,    210.3,2,    24.04,2,    27.67,2,     0.01,2,     1.94,2,    0.849,2,    0.495,2, -999.000,5,-999.0000,5,  -999.00,9,-999.000,9,-999.0000,-999.000,-999.000,-999.000
      74AB29_1,    I5,    50,  1,     16,    16.,2,19871127,2102,-33.9900,  61.9950, 5125,   1100.4,   4.7177,  34.3700,2,  34.3717,2,    209.6,2,  4.6278,    212.5,2,    30.48,2,    30.01,2,     0.02,2,     2.07,2,    1.155,2,    0.439,2,    0.040,2,   1.8760,2,     3.00,2,   8.080,2,  0.0090,   0.008,   0.160,   0.200
      74AB29_1,    I5,    50,  1,     15,    15.,2,19871127,2102,-33.9900,  61.9950, 5125,   1199.0,   4.0378,  34.3680,2,  34.3680,2,    203.9,2,  3.9452,    206.0,2,    38.01,2,    31.38,2,     0.01,2,     2.19,2,    1.026,2,    0.542,2,    0.103,2,-999.0000,9,  -999.00,9,-999.000,9,-999.0000,   0.008,  -0.090,-999.000
      74AB29_1,    I5,    50,  1,     14,    14.,2,19871127,2102,-33.9900,  61.9950, 5125,   1399.0,   3.2839,  34.4560,2,  34.4542,2,    184.3,2,  3.1816,    185.1,2,    55.28,2,    33.63,2,     0.00,2,     2.34,2,    0.317,2,    0.177,2, -999.000,9,   1.8250,2,     6.40,2,   8.090,2,  0.0090,-999.000,   0.160,   0.200
      74AB29_1,    I5,    50,  1,     13,    13.,2,19871127,2102,-33.9900,  61.9950, 5125,   1598.8,   2.8420,  34.5620,2,  34.5602,2,    176.5,2,  2.7278,    176.0,2,    65.77,2,    33.92,2,     0.00,2,     2.35,2,    0.068,2,    0.044,2, -999.000,5,-999.0000,5,  -999.00,9,-999.000,9,-999.0000,-999.000,-999.000,-999.000
      74AB29_1,    I5,    50,  1,     12,    12.,2,19871127,2102,-33.9900,  61.9950, 5125,   1799.7,   2.6350,  34.6360,2,  34.6313,2,    177.3,2,  2.5063,    177.3,2,    72.59,2,    33.14,2,     0.00,2,     2.29,2,    0.033,2,    0.029,2, -999.000,5,-999.0000,5,  -999.00,9,-999.000,9,-999.0000,-999.000,-999.000,-999.000
      74AB29_1,    I5,    50,  1,     11,    11.,2,19871127,2102,-33.9900,  61.9950, 5125,   2099.4,   2.3095,  34.7110,2,  34.7091,2,    182.9,2,  2.1594,    183.8,2,    85.47,2,    32.16,2,     0.01,2,     2.23,2,    0.013,2, -999.000,5, -999.000,5,-999.0000,5,  -999.00,9,-999.000,9,-999.0000,-999.000,-999.000,-999.000
      74AB29_1,    I5,    50,  1,     10,    10.,2,19871127,2102,-33.9900,  61.9950, 5125,   2400.1,   2.0761,  34.7270,2,  34.7256,2,    180.8,2,  1.9032,    180.3,2,    98.91,2,    32.35,2,    -0.02,2,     2.28,2, -999.000,5, -999.000,5, -999.000,9,   1.8970,2,     8.90,2,   8.390,2,  0.0090,-999.000,   0.170,   0.200
      74AB29_1,    I5,    50,  1,      9,     9.,2,19871127,2102,-33.9900,  61.9950, 5125,   2701.4,   1.9141,  34.7300,2,  34.7292,2,    180.3,2,  1.7165,    179.9,2,   107.77,2,    33.04,2,     0.01,2,     2.32,2,    0.012,2,    0.005,2, -999.000,5,-999.0000,5,  -999.00,9,-999.000,9,-999.0000,-999.000,-999.000,-999.000
      74AB29_1,    I5,    50,  1,      8,     8.,2,19871127,2102,-33.9900,  61.9950, 5125,   3003.1,   1.7351,  34.7290,2,  34.7368,2,    182.5,2,  1.5125,    182.0,2,   114.11,2,    33.33,2,     0.01,2,     2.33,2,    0.011,2, -999.000,5, -999.000,9,   1.9520,2,     8.80,2,   8.370,2,  0.0100,-999.000,   0.170,   0.200
      74AB29_1,    I5,    50,  1,      7,     7.,2,19871127,2102,-33.9900,  61.9950, 5125,   3303.7,   1.5997,  34.7250,2,  34.7262,2,    186.0,2,  1.3507,    185.1,2,   117.06,2,    33.23,2,    -0.01,2,     2.32,2,    0.019,2,    0.000,2, -999.000,5,-999.0000,5,  -999.00,9,-999.000,9,-999.0000,-999.000,-999.000,-999.000
      74AB29_1,    I5,    50,  1,      6,     6.,2,19871127,2102,-33.9900,  61.9950, 5125,   3605.4,   1.3412,  34.7170,2,  34.7246,2,    193.4,2,  1.0680,    192.5,2,   120.05,2,    33.23,2,     0.00,2,     2.30,2,    0.013,2,    0.000,2,    0.028,2,   1.9190,2,  -999.00,9,   8.050,2,  0.0100,   0.008,   0.160,-999.000
      74AB29_1,    I5,    50,  1,      5,     5.,2,19871127,2102,-33.9900,  61.9950, 5125,   3906.0,   1.0013,  34.7060,2,  34.7095,2,    202.9,2,  0.7062,    204.2,2,   124.52,2,    32.94,2,    -0.01,2,     2.26,2, -999.000,5, -999.000,5, -999.000,9,   1.9100,2,     6.60,2,   8.370,2,  0.0100,-999.000,   0.170,   0.200
      74AB29_1,    I5,    50,  1,      4,     4.,2,19871127,2102,-33.9900,  61.9950, 5125,   4204.9,   0.7813,  34.6970,2,  34.7003,2,    210.7,2,  0.4609,    212.5,2,   127.71,2,    32.65,2,    -0.01,2,     2.24,2,    0.017,2, -999.000,5, -999.000,9,   1.9170,2,     5.80,2,   8.300,2,  0.0100,-999.000,   0.170,   0.200
      74AB29_1,    I5,    50,  1,      3,     3.,2,19871127,2102,-33.9900,  61.9950, 5125,   4511.1,   0.6318,  34.6920,2,  34.6922,2,    215.5,2,  0.2826,    217.7,2,   128.87,2,    32.74,2,     0.01,2,     2.25,2,    0.014,2,    0.000,2,    0.010,2,-999.0000,9,  -999.00,9,-999.000,9,-999.0000,   0.008,  -0.090,-999.000
      74AB29_1,    I5,    50,  1,      2,     2.,2,19871127,2102,-33.9900,  61.9950, 5125,   4811.2,   0.5368,  34.6860,2,-999.0000,5,    219.9,2,  0.4883,    219.4,2,   131.13,2,    32.74,2,     0.03,2,     2.23,2,    0.015,2,    0.018,2, -999.000,5,-999.0000,5,  -999.00,9,-999.000,9,-999.0000,-999.000,-999.000,-999.000
      74AB29_1,    I5,    50,  1,      1,     1.,2,19871127,2102,-33.9900,  61.9950, 5125,   5200.5,   0.5178,  34.6840,2,  34.6863,2,    220.7,2,  0.0934,    221.6,2,   133.03,2,    32.84,2,     0.07,2,     2.25,2,    0.014,2, -999.000,5, -999.000,5,-999.0000,5,  -999.00,9,-999.000,9,-999.0000,-999.000,-999.000,-999.000
      74AB29_1,    I5,    51,  1,     23,    24.,2,19871128,1024,-33.9917,  63.9983, 4689,     76.6,  16.4653,  35.5340,2,  35.5626,2,    241.1,2, 16.4529,    245.3,2,     2.44,2,     0.10,2,     0.00,2,     0.19,2,    2.221,2,    1.221,2, -999.000,5,-999.0000,5,  -999.00,9,-999.000,9,-999.0000,-999.000,-999.000,-999.000
      74AB29_1,    I5,    51,  1,     22,    23.,2,19871128,1024,-33.9917,  63.9983, 4689,    152.7,  14.9743,  35.4730,2,  35.4746,2,    233.7,2, 14.9511,    234.0,2,     2.64,2,     3.91,2,     0.00,2,     0.42,2,    2.265,2,    1.274,2, -999.000,5,-999.0000,5,  -999.00,9,-999.000,9,-999.0000,-999.000,-999.000,-999.000
      74AB29_1,    I5,    51,  1,     21,    22.,2,19871128,1024,-33.9917,  63.9983, 4689,    251.1,  14.1439,  35.3910,2,  35.3740,2,    228.9,2, 14.1072,    224.9,2,     3.42,2,     6.74,2,     0.00,2,     0.58,2,    2.439,2,    1.205,2, -999.000,5,-999.0000,5,  -999.00,9,-999.000,9,-999.0000,-999.000,-999.000,-999.000
      74AB29_1,    I5,    51,  1,     20,    21.,2,19871128,1024,-33.9917,  63.9983, 4689,    351.4,  13.4404,  35.2920,2,  35.2806,2,    230.6,2, 13.3906,    231.0,2,     3.81,2,     8.11,2,     0.00,2,     0.64,2,    2.232,2,    1.235,2, -999.000,5,-999.0000,5,  -999.00,9,-999.000,9,-999.0000,-999.000,-999.000,-999.000
      74AB29_1,    I5,    51,  1,     19,    20.,2,19871128,1024,-33.9917,  63.9983, 4689,    450.9,  12.7219,  35.1880,2,  35.1669,2,    231.0,2, 12.6601,    229.3,2,     4.01,2,     9.87,2,     0.00,2,     0.76,2,    1.940,2,    1.088,2, -999.000,5,-999.0000,5,  -999.00,9,-999.000,9,-999.0000,-999.000,-999.000,-999.000
      74AB29_1,    I5,    51,  1,     18,    19.,2,19871128,1024,-33.9917,  63.9983, 4689,    600.7,  10.8341,  34.9030,2,  34.8888,2,    220.5,2, 10.7595,    218.1,2,     6.06,2,    15.05,2,     0.00,2,     1.10,2,    1.422,2,    0.817,2, -999.000,5,-999.0000,5,  -999.00,9,-999.000,9,-999.0000,-999.000,-999.000,-999.000
      74AB29_1,    I5,    51,  1,     17,    18.,2,19871128,1024,-33.9917,  63.9983, 4689,    799.5,   8.3053,  34.6390,2,  34.6234,2,    208.7,2,  8.2199,    209.0,2,    12.41,2,    21.90,2,     0.00,2,     1.53,2,    0.683,2,    0.411,2, -999.000,5,-999.0000,5,  -999.00,9,-999.000,9,-999.0000,-999.000,-999.000,-999.000
      74AB29_1,    I5,    51,  1,     16,    17.,2,19871128,1024,-33.9917,  63.9983, 4689,    999.5,   5.6011,  34.4310,2,  34.4157,2,    205.2,2,  5.5134,    207.3,2,    25.32,2,    28.25,2,     0.00,2,     1.97,2,    0.728,2,    0.420,2, -999.000,5,-999.0000,5,  -999.00,9,-999.000,9,-999.0000,-999.000,-999.000,-999.000
      74AB29_1,    I5,    51,  1,     15,    16.,2,19871128,1024,-33.9917,  63.9983, 4689,   1158.6,   4.2812,  34.3690,2,  34.3694,2,    204.8,2,  4.1899,    206.4,2,    35.39,2,    30.89,2,     0.00,2,     2.18,2,    0.912,2,    0.373,2, -999.000,5,-999.0000,5,  -999.00,9,-999.000,9,-999.0000,-999.000,-999.000,-999.000
      74AB29_1,    I5,    51,  1,     14,    15.,2,19871128,1024,-33.9917,  63.9983, 4689,   1250.5,   3.8103,  34.3910,2,  34.3915,2,    195.6,2,  3.7154,    194.3,2,    43.60,2,    32.36,2,     0.00,2,     2.26,2,    0.413,2,    0.211,2, -999.000,5,-999.0000,5,  -999.00,9,-999.000,9,-999.0000,-999.000,-999.000,-999.000
      74AB29_1,    I5,    51,  1,     13,    14.,2,19871128,1024,-33.9917,  63.9983, 4689,   1400.1,   3.2504,  34.4520,2,  34.4610,2,    184.7,2,  3.1484,    180.3,2,    56.70,2,    33.73,2,     0.00,2,     2.39,2,    0.163,2,    0.113,2, -999.000,5,-999.0000,5,  -999.00,9,-999.000,9,-999.0000,-999.000,-999.000,-999.000
      74AB29_1,    I5,    51,  1,     12,    13.,2,19871128,1024,-33.9917,  63.9983, 4689,   1599.2,   2.9014,  34.5530,2,  34.5649,2,    174.7,2,  2.7864,    172.9,2,    68.91,2,    33.92,2,     0.00,2,     2.40,2,    0.046,2,    0.039,2, -999.000,5,-999.0000,5,  -999.00,9,-999.000,9,-999.0000,-999.000,-999.000,-999.000
      74AB29_1,    I5,    51,  1,     11,    12.,2,19871128,1024,-33.9917,  63.9983, 4689,   1800.5,   2.6520,  34.6270,2,  34.6272,2,    175.6,2,  2.5230,    174.2,2,    75.95,2,    33.14,2,     0.00,2,     2.34,2,    0.012,2,    0.019,2, -999.000,5,-999.0000,5,  -999.00,9,-999.000,9,-999.0000,-999.000,-999.000,-999.000
      74AB29_1,    I5,    51,  1,     10,    11.,2,19871128,1024,-33.9917,  63.9983, 4689,   2099.4,   2.3400,  34.6970,2,  34.6965,2,    177.7,2,  2.1895,    179.0,2,    88.75,2,    32.55,2,     0.00,2,     2.31,2, -999.000,5, -999.000,5, -999.000,5,-999.0000,5,  -999.00,9,-999.000,9,-999.0000,-999.000,-999.000,-999.000
      74AB29_1,    I5,    51,  1,      9,    10.,2,19871128,1024,-33.9917,  63.9983, 4689,   2400.3,   2.1361,  34.7210,2,  34.7213,2,    178.2,2,  1.9621,    179.0,2,    99.01,2,    32.64,2,     0.00,2,     2.32,2, -999.000,5, -999.000,5, -999.000,5,-999.0000,5,  -999.00,9,-999.000,9,-999.0000,-999.000,-999.000,-999.000
      74AB29_1,    I5,    51,  1,      8,     9.,2,19871128,1024,-33.9917,  63.9983, 4689,   2701.7,   1.9781,  34.7300,2,  34.7305,2,    179.0,2,  1.7792,    179.4,2,   105.66,2,    32.84,2,     0.00,2,     2.33,2,    0.000,2, -999.000,5, -999.000,5,-999.0000,5,  -999.00,9,-999.000,9,-999.0000,-999.000,-999.000,-999.000
      74AB29_1,    I5,    51,  1,      7,     8.,2,19871128,1024,-33.9917,  63.9983, 4689,   3002.0,   1.7961,  34.7310,2,  34.7343,2,    180.8,2,  1.5723,    180.3,2,   110.93,2,    32.94,2,     0.00,2,     2.35,2,    0.008,2, -999.000,5, -999.000,5,-999.0000,5,  -999.00,9,-999.000,9,-999.0000,-999.000,-999.000,-999.000
      74AB29_1,    I5,    51,  1,      6,     7.,2,19871128,1024,-33.9917,  63.9983, 4689,   3300.0,   1.6441,  34.7290,2,  34.7408,2,    183.4,2,  1.3943,    183.8,2,   116.11,2,    33.13,2,     0.00,2,     2.35,2, -999.000,5, -999.000,5, -999.000,5,-999.0000,5,  -999.00,9,-999.000,9,-999.0000,-999.000,-999.000,-999.000
      74AB29_1,    I5,    51,  1,      5,     6.,2,19871128,1024,-33.9917,  63.9983, 4689,   3606.0,   1.4322,  34.7220,2,  34.7221,2,    189.4,2,  1.1566,    189.9,2,   118.95,2,    32.84,2,     0.00,2,     2.32,2, -999.000,5, -999.000,5, -999.000,5,-999.0000,5,  -999.00,9,-999.000,9,-999.0000,-999.000,-999.000,-999.000
      74AB29_1,    I5,    51,  1,      4,     5.,2,19871128,1024,-33.9917,  63.9983, 4689,   3907.6,   1.1057,  34.7110,2,  34.7099,2,    199.9,2,  0.8075,    202.0,2,   121.39,2,    32.65,2,     0.00,2,     2.29,2,    0.005,2, -999.000,5, -999.000,5,-999.0000,5,  -999.00,9,-999.000,9,-999.0000,-999.000,-999.000,-999.000
      74AB29_1,    I5,    51,  1,      3,     4.,2,19871128,1024,-33.9917,  63.9983, 4689,   4208.4,   0.7848,  34.6980,2,  34.6993,2,    209.4,2,  0.4639,    210.7,2,   126.09,2,    32.65,2,     0.00,2,     2.28,2, -999.000,5, -999.000,5, -999.000,5,-999.0000,5,  -999.00,9,-999.000,9,-999.0000,-999.000,-999.000,-999.000
      74AB29_1,    I5,    51,  1,      2,     3.,2,19871128,1024,-33.9917,  63.9983, 4689,   4510.4,   0.6618,  34.6920,2,  34.6928,2,    213.8,2,  0.3117,    213.8,2,   128.63,2,    32.65,2,     0.00,2,     2.24,2,    0.005,2,    0.000,2, -999.000,5,-999.0000,5,  -999.00,9,-999.000,9,-999.0000,-999.000,-999.000,-999.000
      74AB29_1,    I5,    51,  1,      1,     2.,2,19871128,1024,-33.9917,  63.9983, 4689,   4760.0,   0.6278,  34.6900,2,  34.6926,2,    215.9,2,  0.2508,    215.9,2,   128.04,2,    32.55,2,     0.00,2,     2.15,2, -999.000,5, -999.000,5, -999.000,5,-999.0000,5,  -999.00,9,-999.000,9,-999.0000,-999.000,-999.000,-999.000