BOTTLE,20060509WHPSIOSA
EXPOCODE,SECT_ID,STNNBR,CASTNO,SAMPNO,BTLNBR,BTLNBR_FLAG_W,DATE,TIME,LATITUDE,LONGITUDE,DEPTH,CTDPRS,CTDTMP,CTDSAL,CTDSAL_FLAG_W,SALNTY,SALNTY_FLAG_W,CTDOXY,CTDOXY_FLAG_W,THETA,OXYGEN,OXYGEN_FLAG_W,SILCAT,SILCAT_FLAG_W,NITRAT,NITRAT_FLAG_W,NITRIT,NITRIT_FLAG_W,PHSPHT,PHSPHT_FLAG_W,CFC-11,CFC-11_FLAG_W,CFC-12,CFC-12_FLAG_W,TRITUM,TRITUM_FLAG_W,HELIUM,HELIUM_FLAG_W,DELHE3,DELHE3_FLAG_W,NEON,NEON_FLAG_W,HELIER,TRITER,NEONER,DELHER
,,,,,,,,,,,,DBAR,IPTS-68,PSS-78,,PSS-78,,UMOL/KG,,IPTS-68,UMOL/KG,,UMOL/KG,,UMOL/KG,,UMOL/KG,,UMOL/KG,,PMOL/KG,,PMOL/KG,,TU,,UMOL/KG,,PERCNT,,NMOL/KG,,NMOL/KG,TU,NMOL/KG,PERCNT
      74AB29_1,    I5,    66,  1,     24,    24.,2,19871204,1816,-29.1567,  83.4933, 4385,     15.9,  21.1504,  35.7160,2,  35.7714,2,    229.6,2, 21.1473,    228.4,2,  -999.00,2,  -999.00,5,  -999.00,5,     0.19,2,    2.041,2, -999.000,5, -999.000,5,-999.0000,5,  -999.00,9,-999.000,9,-999.0000,-999.000,-999.000,-999.000
      74AB29_1,    I5,    66,  1,     23,    23.,2,19871204,1816,-29.1567,  83.4933, 4385,    151.8,  16.1433,  35.6520,2,  35.6182,2,    244.1,2, 16.1190,    235.3,2,  -999.00,2,     0.68,2,     0.00,2,     0.32,2,    2.155,2, -999.000,5, -999.000,5,-999.0000,5,  -999.00,9,-999.000,9,-999.0000,-999.000,-999.000,-999.000
      74AB29_1,    I5,    66,  1,     22,    22.,2,19871204,1816,-29.1567,  83.4933, 4385,    251.8,  13.4974,  35.2710,2,  35.2895,2,    230.6,2, 13.4617,    229.3,2,     2.55,2,     7.13,2,     0.00,2,     0.66,2,    2.083,2, -999.000,5, -999.000,5,-999.0000,5,  -999.00,9,-999.000,9,-999.0000,-999.000,-999.000,-999.000
      74AB29_1,    I5,    66,  1,     21,    21.,2,19871204,1816,-29.1567,  83.4933, 4385,    350.3,  12.3555,  35.0910,2,  35.1128,2,    234.9,2, 12.3086,    233.7,2,     3.38,2,     9.58,2,     0.00,2,     0.80,2,    2.142,2, -999.000,5, -999.000,5,-999.0000,5,  -999.00,9,-999.000,9,-999.0000,-999.000,-999.000,-999.000
      74AB29_1,    I5,    66,  1,     20,    20.,2,19871204,1816,-29.1567,  83.4933, 4385,    452.1,  11.4205,  34.9820,2,  34.9841,2,    234.9,2, 11.3628,    233.3,2,     3.70,2,    11.73,2,     0.00,2,     0.90,2, -999.000,5, -999.000,5, -999.000,5,-999.0000,5,  -999.00,9,-999.000,9,-999.0000,-999.000,-999.000,-999.000
      74AB29_1,    I5,    66,  1,     19,    19.,2,19871204,1816,-29.1567,  83.4933, 4385,    550.2,  10.5866,  34.8520,2,  34.8694,2,    237.9,2, 10.5194,    234.6,2,     4.03,2,    13.58,2,     0.00,2,     1.02,2,    1.700,2, -999.000,5, -999.000,5,-999.0000,5,  -999.00,9,-999.000,9,-999.0000,-999.000,-999.000,-999.000
      74AB29_1,    I5,    66,  1,     18,    18.,2,19871204,1816,-29.1567,  83.4933, 4385,    750.5,   8.7902,  34.6510,2,  34.6551,2,    220.5,2,  8.7076,    219.9,2,     8.16,2,    19.74,2,     0.00,2,     1.39,2,    0.872,2, -999.000,5, -999.000,5,-999.0000,5,  -999.00,9,-999.000,9,-999.0000,-999.000,-999.000,-999.000
      74AB29_1,    I5,    66,  1,     17,    17.,2,19871204,1816,-29.1567,  83.4933, 4385,    947.8,   5.8740,  34.4350,2,  34.4367,2,    197.0,2,  5.7892,    197.3,2,    25.73,2,    28.45,2,     0.00,2,     1.98,2,    0.283,2, -999.000,5, -999.000,5,-999.0000,5,  -999.00,9,-999.000,9,-999.0000,-999.000,-999.000,-999.000
      74AB29_1,    I5,    66,  1,     16,    16.,2,19871204,1816,-29.1567,  83.4933, 4385,   1049.3,   4.7802,  34.4030,2,  34.4008,2,    189.6,2,  4.6943,    190.8,2,    37.19,2,    30.99,2,     0.00,2,     2.18,2,    0.184,2, -999.000,5, -999.000,5,-999.0000,5,  -999.00,9,-999.000,9,-999.0000,-999.000,-999.000,-999.000
      74AB29_1,    I5,    66,  1,     15,    15.,2,19871204,1816,-29.1567,  83.4933, 4385,   1148.6,   4.0688,  34.4330,2,  34.4284,2,    176.9,2,  3.9801,    176.9,2,    51.62,2,    33.14,2,     0.00,2,     2.35,2,    0.111,2, -999.000,5, -999.000,5,-999.0000,5,  -999.00,9,-999.000,9,-999.0000,-999.000,-999.000,-999.000
      74AB29_1,    I5,    66,  1,     14,    14.,2,19871204,1816,-29.1567,  83.4933, 4385,   1348.4,   3.4864,  34.5250,2,  34.5266,2,    158.7,2,  3.3861,    156.4,2,    72.03,2,    34.60,2,     0.00,2,     2.48,2,    0.012,2, -999.000,5, -999.000,5,-999.0000,5,  -999.00,9,-999.000,9,-999.0000,-999.000,-999.000,-999.000
      74AB29_1,    I5,    66,  1,     13,    13.,2,19871204,1816,-29.1567,  83.4933, 4385,   1549.4,   3.0974,  34.6040,2,  34.6010,2,    155.6,2,  2.9842,    155.1,2,    83.15,2,    34.60,2,     0.00,2,     2.47,2, -999.000,5, -999.000,5, -999.000,5,-999.0000,5,  -999.00,9,-999.000,9,-999.0000,-999.000,-999.000,-999.000
      74AB29_1,    I5,    66,  1,     12,    12.,2,19871204,1816,-29.1567,  83.4933, 4385,   1744.7,   2.8160,  34.6590,2,  34.6543,2,    158.2,2,  2.6895,    156.9,2,    89.65,2,    33.82,2,     0.00,2,     2.41,2, -999.000,5, -999.000,5, -999.000,5,-999.0000,5,  -999.00,9,-999.000,9,-999.0000,-999.000,-999.000,-999.000
      74AB29_1,    I5,    66,  1,     11,    11.,2,19871204,1816,-29.1567,  83.4933, 4385,   1949.4,   2.6065,  34.7000,2,  34.6997,2,    159.5,2,  2.4651,    159.5,2,    98.79,2,    33.72,2,     0.00,2,     2.40,2, -999.000,5, -999.000,5, -999.000,5,-999.0000,5,  -999.00,9,-999.000,9,-999.0000,-999.000,-999.000,-999.000
      74AB29_1,    I5,    66,  1,     10,    10.,2,19871204,1816,-29.1567,  83.4933, 4385,   2150.7,   2.3170,  34.7130,2,  34.7152,2,    171.2,2,  2.1623,    171.6,2,   100.13,2,    33.33,2,     0.00,2,     2.37,2, -999.000,5, -999.000,5, -999.000,5,-999.0000,5,  -999.00,9,-999.000,9,-999.0000,-999.000,-999.000,-999.000
      74AB29_1,    I5,    66,  1,      9,     9.,2,19871204,1816,-29.1567,  83.4933, 4385,   2350.9,   2.0836,  34.7250,2,-999.0000,5,    178.6,2,  2.0860,    179.4,2,   101.47,2,    32.55,2,     0.00,2,     2.31,2, -999.000,5, -999.000,5, -999.000,5,-999.0000,5,  -999.00,9,-999.000,9,-999.0000,-999.000,-999.000,-999.000
      74AB29_1,    I5,    66,  1,      8,     8.,2,19871204,1816,-29.1567,  83.4933, 4385,   2551.1,   1.9021,  34.7310,2,  34.7290,2,    185.1,2,  1.7186,    186.8,2,   102.82,2,    31.96,2,     0.00,2,     2.27,2, -999.000,5, -999.000,5, -999.000,5,-999.0000,5,  -999.00,9,-999.000,9,-999.0000,-999.000,-999.000,-999.000
      74AB29_1,    I5,    66,  1,      7,     7.,2,19871204,1816,-29.1567,  83.4933, 4385,   2752.3,   1.7666,  34.7340,2,  34.7325,2,    189.9,2,  1.5672,    190.7,2,   104.67,2,    31.86,2,     0.00,2,     2.22,2,    0.005,2, -999.000,5, -999.000,5,-999.0000,5,  -999.00,9,-999.000,9,-999.0000,-999.000,-999.000,-999.000
      74AB29_1,    I5,    66,  1,      6,     6.,2,19871204,1816,-29.1567,  83.4933, 4385,   3002.8,   1.6077,  34.7320,2,  34.7305,2,    192.5,2,  1.3880,    195.1,2,   108.68,2,    31.96,2,     0.00,2,     2.24,2, -999.000,5, -999.000,5, -999.000,5,-999.0000,5,  -999.00,9,-999.000,9,-999.0000,-999.000,-999.000,-999.000
      74AB29_1,    I5,    66,  1,      5,     5.,2,19871204,1816,-29.1567,  83.4933, 4385,   3303.5,   1.4607,  34.7290,2,  34.7311,2,    195.5,2,  1.2150,    196.8,2,   113.18,2,    32.06,2,     0.00,2,     2.24,2, -999.000,5, -999.000,5, -999.000,5,-999.0000,5,  -999.00,9,-999.000,9,-999.0000,-999.000,-999.000,-999.000
      74AB29_1,    I5,    66,  1,      4,     4.,2,19871204,1816,-29.1567,  83.4933, 4385,   3605.1,   1.3827,  34.7240,2,  34.7243,2,    196.4,2,  1.1085,    196.4,2,   117.85,2,    32.55,2,     0.00,2,     2.27,2, -999.000,5, -999.000,5, -999.000,5,-999.0000,5,  -999.00,9,-999.000,9,-999.0000,-999.000,-999.000,-999.000
      74AB29_1,    I5,    66,  1,      3,     3.,2,19871204,1816,-29.1567,  83.4933, 4385,   3905.4,   1.3647,  34.7210,2,  34.7225,2,    196.8,2,  1.0595,    195.5,2,   121.21,2,    32.64,2,     0.00,2,     2.29,2, -999.000,5, -999.000,5, -999.000,5,-999.0000,5,  -999.00,9,-999.000,9,-999.0000,-999.000,-999.000,-999.000
      74AB29_1,    I5,    66,  1,      2,     2.,2,19871204,1816,-29.1567,  83.4933, 4385,   4206.7,   1.3757,  34.7210,2,  34.7225,2,    198.1,2,  1.0374,    196.8,2,   120.39,2,    32.55,2,     0.00,2,     2.26,2, -999.000,5, -999.000,5, -999.000,5,-999.0000,5,  -999.00,9,-999.000,9,-999.0000,-999.000,-999.000,-999.000
      74AB29_1,    I5,    66,  1,      1,     1.,2,19871204,1816,-29.1567,  83.4933, 4385,   4451.4,   1.3982,  34.7210,2,  34.7187,2,    197.7,2,  1.0317,    195.5,2,   120.58,2,    32.55,2,     0.00,2,     2.28,2,    0.005,2, -999.000,5, -999.000,5,-999.0000,5,  -999.00,9,-999.000,9,-999.0000,-999.000,-999.000,-999.000
      74AB29_1,    I5,    67,  1,     24,    24.,2,19871205,0500,-29.3200,  84.9900, 3955,     11.9,  20.8104,  35.9220,2,  35.8607,2,    233.5,2, 20.8081,    230.1,2,     2.16,2,     0.10,2,     0.00,2,     0.18,2,    1.961,2, -999.000,5, -999.000,5,-999.0000,5,  -999.00,9,-999.000,9,-999.0000,-999.000,-999.000,-999.000
      74AB29_1,    I5,    67,  1,     23,    23.,2,19871205,0500,-29.3200,  84.9900, 3955,    152.5,  15.5103,  35.5110,2,  35.5237,2,    232.4,2, 15.4866,    236.6,2,     1.83,2,     1.37,2,     0.00,2,     0.37,2,    2.234,2, -999.000,5, -999.000,5,-999.0000,5,  -999.00,9,-999.000,9,-999.0000,-999.000,-999.000,-999.000
      74AB29_1,    I5,    67,  1,     22,    22.,2,19871205,0500,-29.3200,  84.9900, 3955,    252.4,  13.0824,  35.2000,2,  35.2211,2,    229.7,2, 13.0474,    233.7,2,     2.65,2,     7.62,2,     0.00,2,     0.67,2,    2.370,2, -999.000,5, -999.000,5,-999.0000,5,  -999.00,9,-999.000,9,-999.0000,-999.000,-999.000,-999.000
      74AB29_1,    I5,    67,  1,     21,    21.,2,19871205,0500,-29.3200,  84.9900, 3955,    350.8,  11.9410,  35.0450,2,  35.0455,2,    235.3,2, 11.8951,    240.2,2,     3.65,2,    10.16,2,     0.00,2,     0.80,2,    2.256,2, -999.000,5, -999.000,5,-999.0000,5,  -999.00,9,-999.000,9,-999.0000,-999.000,-999.000,-999.000
      74AB29_1,    I5,    67,  1,     20,    20.,2,19871205,0500,-29.3200,  84.9900, 3955,    449.9,  11.2575,  34.9620,2,  34.9626,2,    234.5,2, 11.2006,    236.7,2,     3.98,2,    11.92,2,     0.00,2,     0.92,2,    1.921,2, -999.000,5, -999.000,5,-999.0000,5,  -999.00,9,-999.000,9,-999.0000,-999.000,-999.000,-999.000
      74AB29_1,    I5,    67,  1,     19,    19.,2,19871205,0500,-29.3200,  84.9900, 3955,    551.2,  10.3866,  34.8330,2,  34.8395,2,    237.5,2, 10.3201,    237.6,2,     4.31,2,    13.88,2,     0.00,2,     1.06,2,    1.826,2, -999.000,5, -999.000,5,-999.0000,5,  -999.00,9,-999.000,9,-999.0000,-999.000,-999.000,-999.000
      74AB29_1,    I5,    67,  1,     18,    18.,2,19871205,0500,-29.3200,  84.9900, 3955,    749.8,   8.5957,  34.6270,2,  34.6201,2,    218.3,2,  8.5143,    218.6,2,     8.79,2,    20.62,2,     0.00,2,     1.45,2,    0.953,2, -999.000,5, -999.000,5,-999.0000,5,  -999.00,9,-999.000,9,-999.0000,-999.000,-999.000,-999.000
      74AB29_1,    I5,    67,  1,     17,    17.,2,19871205,0500,-29.3200,  84.9900, 3955,    850.8,   7.1794,  34.5200,2,  34.5174,2,    204.4,2,  7.0955,    202.9,2,    16.91,2,    25.32,2,     0.00,2,     1.75,2,    0.428,2, -999.000,5, -999.000,5,-999.0000,5,  -999.00,9,-999.000,9,-999.0000,-999.000,-999.000,-999.000
      74AB29_1,    I5,    67,  1,     16,    16.,2,19871205,0500,-29.3200,  84.9900, 3955,   1000.4,   5.0331,  34.4110,2,  34.4065,2,    190.9,2,  4.9496,    190.8,2,    35.49,2,    30.99,2,     0.00,2,     2.18,2,    0.168,2, -999.000,5, -999.000,5,-999.0000,5,  -999.00,9,-999.000,9,-999.0000,-999.000,-999.000,-999.000
      74AB29_1,    I5,    67,  1,     15,    15.,2,19871205,0500,-29.3200,  84.9900, 3955,   1199.9,   3.8768,  34.4750,2,  34.4742,2,    165.2,2,  3.7854,    164.3,2,    61.51,2,    34.51,2,     0.00,2,     2.47,2,    0.065,2, -999.000,5, -999.000,5,-999.0000,5,  -999.00,9,-999.000,9,-999.0000,-999.000,-999.000,-999.000
      74AB29_1,    I5,    67,  1,     14,    14.,2,19871205,0500,-29.3200,  84.9900, 3955,   1299.9,   3.5768,  34.5170,2,  34.5188,2,    157.8,2,  3.4797,    155.6,2,    70.44,2,    35.00,2,     0.00,2,     2.50,2, -999.000,5, -999.000,5, -999.000,5,-999.0000,5,  -999.00,9,-999.000,9,-999.0000,-999.000,-999.000,-999.000
      74AB29_1,    I5,    67,  1,     13,    13.,2,19871205,0500,-29.3200,  84.9900, 3955,   1400.0,   3.3789,  34.5490,2,  34.5496,2,    155.6,2,  3.2753,    153.8,2,    76.39,2,    35.29,2,     0.00,2,     2.51,2, -999.000,5, -999.000,5, -999.000,5,-999.0000,5,  -999.00,9,-999.000,9,-999.0000,-999.000,-999.000,-999.000
      74AB29_1,    I5,    67,  1,     12,    12.,2,19871205,0500,-29.3200,  84.9900, 3955,   1600.5,   2.9709,  34.6080,2,  34.6071,2,    157.3,2,  2.8549,    157.3,2,    83.51,2,    35.09,2,     0.00,2,     2.48,2, -999.000,5, -999.000,5, -999.000,5,-999.0000,5,  -999.00,9,-999.000,9,-999.0000,-999.000,-999.000,-999.000
      74AB29_1,    I5,    67,  1,     11,    11.,2,19871205,0500,-29.3200,  84.9900, 3955,   1680.4,   2.8480,  34.6360,2,  34.6325,2,    157.8,2,  2.7266,    157.3,2,    86.63,2,    34.90,2,     0.00,2,     2.47,2, -999.000,5, -999.000,5, -999.000,5,-999.0000,5,  -999.00,9,-999.000,9,-999.0000,-999.000,-999.000,-999.000
      74AB29_1,    I5,    67,  1,     10,    10.,2,19871205,0500,-29.3200,  84.9900, 3955,   1800.3,   2.7445,  34.6780,2,  34.6677,2,    156.4,2,  2.6141,    158.2,2,    92.90,2,    34.01,2,     0.00,2,     2.46,2, -999.000,5, -999.000,5, -999.000,5,-999.0000,5,  -999.00,9,-999.000,9,-999.0000,-999.000,-999.000,-999.000
      74AB29_1,    I5,    67,  1,      9,     9.,2,19871205,0500,-29.3200,  84.9900, 3955,   1999.6,   2.4925,  34.7030,2,  34.7024,2,    164.3,2,  2.3484,    165.5,2,    98.18,2,    34.01,2,     0.00,2,     2.40,2, -999.000,5, -999.000,5, -999.000,5,-999.0000,5,  -999.00,9,-999.000,9,-999.0000,-999.000,-999.000,-999.000
      74AB29_1,    I5,    67,  1,      8,     8.,2,19871205,0500,-29.3200,  84.9900, 3955,   2200.6,   2.2286,  34.7180,2,  34.7182,2,    171.2,2,  2.0709,    173.4,2,   100.31,2,    33.23,2,     0.00,2,     2.38,2,    0.009,2, -999.000,5, -999.000,5,-999.0000,5,  -999.00,9,-999.000,9,-999.0000,-999.000,-999.000,-999.000
      74AB29_1,    I5,    67,  1,      7,     7.,2,19871205,0500,-29.3200,  84.9900, 3955,   2400.9,   2.0201,  34.7260,2,  34.7258,2,    178.6,2,  1.8481,    181.2,2,   102.12,2,    32.64,2,     0.00,2,     2.31,2, -999.000,5, -999.000,5, -999.000,5,-999.0000,5,  -999.00,9,-999.000,9,-999.0000,-999.000,-999.000,-999.000
      74AB29_1,    I5,    67,  1,      6,     6.,2,19871205,0500,-29.3200,  84.9900, 3955,   2602.5,   1.8721,  34.7310,2,  34.7296,2,    183.8,2,  1.6845,    185.1,2,   104.25,2,    32.16,2,     0.00,2,     2.29,2, -999.000,5, -999.000,5, -999.000,5,-999.0000,5,  -999.00,9,-999.000,9,-999.0000,-999.000,-999.000,-999.000
      74AB29_1,    I5,    67,  1,      5,     5.,2,19871205,0500,-29.3200,  84.9900, 3955,   2878.6,   1.6631,  34.7320,2,  34.7294,2,    189.5,2,  1.4540,    191.6,2,   107.69,2,    31.96,2,     0.00,2,     2.26,2, -999.000,5, -999.000,5, -999.000,5,-999.0000,5,  -999.00,9,-999.000,9,-999.0000,-999.000,-999.000,-999.000
      74AB29_1,    I5,    67,  1,      4,     4.,2,19871205,0500,-29.3200,  84.9900, 3955,   3203.0,   1.4877,  34.7290,2,  34.7248,2,    192.1,2,  1.2513,    194.6,2,   112.97,2,    32.16,2,     0.00,2,     2.27,2, -999.000,5, -999.000,5, -999.000,5,-999.0000,5,  -999.00,9,-999.000,9,-999.0000,-999.000,-999.000,-999.000
      74AB29_1,    I5,    67,  1,      3,     3.,2,19871205,0500,-29.3200,  84.9900, 3955,   3505.3,   1.3802,  34.7250,2,  34.7227,2,    194.2,2,  1.1163,    196.0,2,   117.25,2,    32.25,2,     0.00,2,     2.29,2, -999.000,5, -999.000,5, -999.000,5,-999.0000,5,  -999.00,9,-999.000,9,-999.0000,-999.000,-999.000,-999.000
      74AB29_1,    I5,    67,  1,      2,     2.,2,19871205,0500,-29.3200,  84.9900, 3955,   3807.1,   1.3442,  34.7210,2,  34.7189,2,    194.7,2,  1.0500,    195.1,2,   120.19,2,    32.35,2,     0.00,2,     2.30,2, -999.000,5, -999.000,5, -999.000,5,-999.0000,5,  -999.00,9,-999.000,9,-999.0000,-999.000,-999.000,-999.000
      74AB29_1,    I5,    67,  1,      1,     1.,2,19871205,0500,-29.3200,  84.9900, 3955,   3994.7,   1.3572,  34.7210,2,  34.7197,2,    195.1,2,  1.0426,    194.2,2,   120.34,2,    32.55,2,     0.00,2,     2.30,2,    0.004,2, -999.000,5, -999.000,5,-999.0000,5,  -999.00,9,-999.000,9,-999.0000,-999.000,-999.000,-999.000