BOTTLE,20060509WHPSIOSA
#code : jjward hyd_to_exchange.pl 
#original files copied from HTML directory: May 9, 2006
#original HYD file: i05phy.txt   Tue May  9 10:14:00 2006
#original SUM file: i05psu.txt   Fri Jun 20 14:08:21 2003
EXPOCODE,SECT_ID,STNNBR,CASTNO,SAMPNO,BTLNBR,BTLNBR_FLAG_W,DATE,TIME,LATITUDE,LONGITUDE,DEPTH,CTDPRS,CTDTMP,CTDSAL,CTDSAL_FLAG_W,SALNTY,SALNTY_FLAG_W,CTDOXY,CTDOXY_FLAG_W,THETA,OXYGEN,OXYGEN_FLAG_W,SILCAT,SILCAT_FLAG_W,NITRAT,NITRAT_FLAG_W,NITRIT,NITRIT_FLAG_W,PHSPHT,PHSPHT_FLAG_W,CFC-11,CFC-11_FLAG_W,CFC-12,CFC-12_FLAG_W,TRITUM,TRITUM_FLAG_W,HELIUM,HELIUM_FLAG_W,DELHE3,DELHE3_FLAG_W,NEON,NEON_FLAG_W,HELIER,TRITER,NEONER,DELHER
,,,,,,,,,,,,DBAR,IPTS-68,PSS-78,,PSS-78,,UMOL/KG,,IPTS-68,UMOL/KG,,UMOL/KG,,UMOL/KG,,UMOL/KG,,UMOL/KG,,PMOL/KG,,PMOL/KG,,TU,,UMOL/KG,,PERCNT,,NMOL/KG,,NMOL/KG,TU,NMOL/KG,PERCNT
      74AB29_1,    I5,     1,  1,     17,   -999,2,19871113,0625,-31.5850,  31.1767, 3110,   1000.6,   6.4300,  34.5140,2,  34.5248,2,    198.3,2,  6.3358,   -999.0,5,  -999.00,5,  -999.00,5,  -999.00,5,  -999.00,5, -999.000,5, -999.000,5, -999.000,5,-999.0000,5,  -999.00,9,-999.000,9,-999.0000,-999.000,-999.000,-999.000
      74AB29_1,    I5,     1,  1,     18,   -999,2,19871113,0625,-31.5850,  31.1767, 3110,   1004.1,   6.4220,  34.5200,2,  34.5252,2,    197.8,2,  6.3275,    199.9,2,  -999.00,5,  -999.00,5,  -999.00,5,  -999.00,5, -999.000,5, -999.000,5, -999.000,5,-999.0000,5,  -999.00,9,-999.000,9,-999.0000,-999.000,-999.000,-999.000
      74AB29_1,    I5,     1,  1,     23,   -999,2,19871113,0625,-31.5850,  31.1767, 3110,   1010.1,   6.3755,  34.5240,2,  34.5402,2,    196.1,2,  6.2808,    196.0,2,  -999.00,5,  -999.00,5,  -999.00,5,  -999.00,5, -999.000,5, -999.000,5, -999.000,5,-999.0000,5,  -999.00,9,-999.000,9,-999.0000,-999.000,-999.000,-999.000
      74AB29_1,    I5,     1,  1,     22,   -999,2,19871113,0625,-31.5850,  31.1767, 3110,   1010.1,   6.3745,  34.5240,2,  34.5406,2,    196.1,2,  6.2798,    195.5,2,  -999.00,5,  -999.00,5,  -999.00,5,  -999.00,5, -999.000,5, -999.000,5, -999.000,5,-999.0000,5,  -999.00,9,-999.000,9,-999.0000,-999.000,-999.000,-999.000
      74AB29_1,    I5,     1,  1,     21,   -999,2,19871113,0625,-31.5850,  31.1767, 3110,   1012.4,   6.3605,  34.5260,2,  34.5388,2,    193.9,2,  6.2656,    195.5,2,  -999.00,5,  -999.00,5,  -999.00,5,  -999.00,5, -999.000,5, -999.000,5, -999.000,5,-999.0000,5,  -999.00,9,-999.000,9,-999.0000,-999.000,-999.000,-999.000
      74AB29_1,    I5,     1,  1,     20,   -999,2,19871113,0625,-31.5850,  31.1767, 3110,   1012.9,   6.3600,  34.5260,2,  34.5382,2,    193.9,2,  6.2651,    189.9,2,  -999.00,5,  -999.00,5,  -999.00,5,  -999.00,5, -999.000,5, -999.000,5, -999.000,5,-999.0000,5,  -999.00,9,-999.000,9,-999.0000,-999.000,-999.000,-999.000
      74AB29_1,    I5,     1,  1,     19,   -999,2,19871113,0625,-31.5850,  31.1767, 3110,   1012.9,   6.3595,  34.5260,2,  34.5368,2,    193.9,2,  6.2646,    192.9,2,  -999.00,5,  -999.00,5,  -999.00,5,  -999.00,5, -999.000,5, -999.000,5, -999.000,5,-999.0000,5,  -999.00,9,-999.000,9,-999.0000,-999.000,-999.000,-999.000
      74AB29_1,    I5,     1,  1,     16,   -999,2,19871113,0625,-31.5850,  31.1767, 3110,   1999.6,   2.7490,  34.7330,2,  34.7406,2,    190.3,2,  2.6009,    199.0,2,  -999.00,5,  -999.00,5,  -999.00,5,  -999.00,5, -999.000,5, -999.000,5, -999.000,5,-999.0000,5,  -999.00,9,-999.000,9,-999.0000,-999.000,-999.000,-999.000
      74AB29_1,    I5,     1,  1,     15,   -999,2,19871113,0625,-31.5850,  31.1767, 3110,   1999.6,   2.7490,  34.7330,2,  34.7412,2,    190.3,2,  2.6009,    190.3,2,  -999.00,5,  -999.00,5,  -999.00,5,  -999.00,5, -999.000,5, -999.000,5, -999.000,5,-999.0000,5,  -999.00,9,-999.000,9,-999.0000,-999.000,-999.000,-999.000
      74AB29_1,    I5,     1,  1,     14,   -999,2,19871113,0625,-31.5850,  31.1767, 3110,   2002.6,   2.7470,  34.7330,2,  34.7408,2,    190.8,2,  2.5986,    189.9,2,  -999.00,5,  -999.00,5,  -999.00,5,  -999.00,5, -999.000,5, -999.000,5, -999.000,5,-999.0000,5,  -999.00,9,-999.000,9,-999.0000,-999.000,-999.000,-999.000
      74AB29_1,    I5,     1,  1,     12,   -999,2,19871113,0625,-31.5850,  31.1767, 3110,   2002.6,   2.7465,  34.7330,2,  34.7380,2,    190.8,2,  2.5982,    190.7,2,  -999.00,5,  -999.00,5,  -999.00,5,  -999.00,5, -999.000,5, -999.000,5, -999.000,5,-999.0000,5,  -999.00,9,-999.000,9,-999.0000,-999.000,-999.000,-999.000
      74AB29_1,    I5,     1,  1,      9,   -999,2,19871113,0625,-31.5850,  31.1767, 3110,   2003.0,   2.7465,  34.7330,2,  34.9366,2,    190.7,2,  2.5975,    191.6,2,  -999.00,5,  -999.00,5,  -999.00,5,  -999.00,5, -999.000,5, -999.000,5, -999.000,5,-999.0000,5,  -999.00,9,-999.000,9,-999.0000,-999.000,-999.000,-999.000
      74AB29_1,    I5,     1,  1,     10,   -999,2,19871113,0625,-31.5850,  31.1767, 3110,   2003.4,   2.7470,  34.7330,2,  34.7380,2,    190.8,2,  2.5986,    189.9,2,  -999.00,5,  -999.00,5,  -999.00,5,  -999.00,5, -999.000,5, -999.000,5, -999.000,5,-999.0000,5,  -999.00,9,-999.000,9,-999.0000,-999.000,-999.000,-999.000
      74AB29_1,    I5,     1,  1,     11,   -999,2,19871113,0625,-31.5850,  31.1767, 3110,   2003.6,   2.7470,  34.7330,2,  34.7376,2,    190.8,2,  2.5986,    189.9,2,  -999.00,5,  -999.00,5,  -999.00,5,  -999.00,5, -999.000,5, -999.000,5, -999.000,5,-999.0000,5,  -999.00,9,-999.000,9,-999.0000,-999.000,-999.000,-999.000
      74AB29_1,    I5,     1,  1,     13,   -999,2,19871113,0625,-31.5850,  31.1767, 3110,   2004.0,   2.7460,  34.7330,2,  34.7404,2,    190.8,2,  2.5975,    190.7,2,  -999.00,5,  -999.00,5,  -999.00,5,  -999.00,5, -999.000,5, -999.000,5, -999.000,5,-999.0000,5,  -999.00,9,-999.000,9,-999.0000,-999.000,-999.000,-999.000
      74AB29_1,    I5,     1,  1,      7,   -999,2,19871113,0625,-31.5850,  31.1767, 3110,   3124.2,   2.0736,  34.8060,2,  34.8133,2,    226.8,2,  1.8311,    230.3,2,  -999.00,5,  -999.00,5,  -999.00,5,  -999.00,5, -999.000,5, -999.000,5, -999.000,5,-999.0000,5,  -999.00,9,-999.000,9,-999.0000,-999.000,-999.000,-999.000
      74AB29_1,    I5,     1,  1,      1,   -999,2,19871113,0625,-31.5850,  31.1767, 3110,   3124.5,   2.0731,  34.8060,2,  34.8111,2,    226.8,2,  1.8306,    226.4,2,  -999.00,5,  -999.00,5,  -999.00,5,  -999.00,5, -999.000,5, -999.000,5, -999.000,5,-999.0000,5,  -999.00,9,-999.000,9,-999.0000,-999.000,-999.000,-999.000
      74AB29_1,    I5,     1,  1,      8,   -999,2,19871113,0625,-31.5850,  31.1767, 3110,   3125.1,   2.0731,  34.8060,2,  34.8133,2,    226.8,2,  1.8305,    226.8,2,  -999.00,5,  -999.00,5,  -999.00,5,  -999.00,5, -999.000,5, -999.000,5, -999.000,5,-999.0000,5,  -999.00,9,-999.000,9,-999.0000,-999.000,-999.000,-999.000
      74AB29_1,    I5,     1,  1,      6,   -999,2,19871113,0625,-31.5850,  31.1767, 3110,   3125.4,   2.0726,  34.8060,2,  34.8133,2,    226.8,2,  1.8300,    225.9,2,  -999.00,5,  -999.00,5,  -999.00,5,  -999.00,5, -999.000,5, -999.000,5, -999.000,5,-999.0000,5,  -999.00,9,-999.000,9,-999.0000,-999.000,-999.000,-999.000
      74AB29_1,    I5,     1,  1,      3,   -999,2,19871113,0625,-31.5850,  31.1767, 3110,   3125.6,   2.0731,  34.8060,2,  34.8125,2,    226.8,2,  1.8305,    226.8,2,  -999.00,5,  -999.00,5,  -999.00,5,  -999.00,5, -999.000,5, -999.000,5, -999.000,5,-999.0000,5,  -999.00,9,-999.000,9,-999.0000,-999.000,-999.000,-999.000
      74AB29_1,    I5,     1,  1,      2,   -999,2,19871113,0625,-31.5850,  31.1767, 3110,   3125.7,   2.0731,  34.8060,2,  34.8137,2,    226.8,2,  1.8305,    225.9,2,  -999.00,5,  -999.00,5,  -999.00,5,  -999.00,5, -999.000,5, -999.000,5, -999.000,5,-999.0000,5,  -999.00,9,-999.000,9,-999.0000,-999.000,-999.000,-999.000
      74AB29_1,    I5,     1,  1,      5,   -999,2,19871113,0625,-31.5850,  31.1767, 3110,   3127.4,   2.0736,  34.8060,2,  34.8151,2,    226.8,2,  1.8308,    225.0,2,  -999.00,5,  -999.00,5,  -999.00,5,  -999.00,5, -999.000,5, -999.000,5, -999.000,5,-999.0000,5,  -999.00,9,-999.000,9,-999.0000,-999.000,-999.000,-999.000
      74AB29_1,    I5,     1,  1,      4,   -999,2,19871113,0625,-31.5850,  31.1767, 3110,   3129.5,   2.0731,  34.8060,2,  34.8137,2,    226.8,2,  1.8301,    226.4,2,  -999.00,5,  -999.00,5,  -999.00,5,  -999.00,5, -999.000,5, -999.000,5, -999.000,5,-999.0000,5,  -999.00,9,-999.000,9,-999.0000,-999.000,-999.000,-999.000
      74AB29_1,    I5,     3,  1,     11,    13.,2,19871113,2035,-31.3750,  30.8350, 2931,     14.3,  23.0985,  35.3880,2,  35.3922,2,    224.1,2, 23.0956,    228.0,2,     2.14,2,     0.20,2,     0.00,2,  -999.00,5, -999.000,5, -999.000,5, -999.000,5,-999.0000,5,  -999.00,9,-999.000,9,-999.0000,-999.000,-999.000,-999.000
      74AB29_1,    I5,     3,  1,     10,    12.,2,19871113,2035,-31.3750,  30.8350, 2931,    201.5,  16.4473,  35.5680,2,  35.5577,2,    210.2,2, 16.4147,    209.3,2,     4.02,2,     5.18,2,     0.01,2,  -999.00,5, -999.000,5, -999.000,5, -999.000,5,-999.0000,5,  -999.00,9,-999.000,9,-999.0000,-999.000,-999.000,-999.000
      74AB29_1,    I5,     3,  1,      9,    11.,2,19871113,2035,-31.3750,  30.8350, 2931,    402.4,  13.5674,  35.2710,2,  35.2737,2,    214.5,2, 13.5099,    217.6,2,     4.53,2,     9.18,2,     0.01,2,  -999.00,5, -999.000,5, -999.000,5, -999.000,5,-999.0000,5,  -999.00,9,-999.000,9,-999.0000,-999.000,-999.000,-999.000
      74AB29_1,    I5,     3,  1,      8,    10.,2,19871113,2035,-31.3750,  30.8350, 2931,    597.8,  11.1810,  34.9400,2,  34.9510,2,    215.7,2, 11.1052,    214.6,2,     6.93,2,    14.66,2,     0.01,2,  -999.00,5, -999.000,5, -999.000,5, -999.000,5,-999.0000,5,  -999.00,9,-999.000,9,-999.0000,-999.000,-999.000,-999.000
      74AB29_1,    I5,     3,  1,      7,     9.,2,19871113,2035,-31.3750,  30.8350, 2931,    803.8,   8.3278,  34.6720,2,  34.6728,2,    196.6,2,  8.2418,    195.5,2,    17.71,2,    22.87,2,     0.01,2,  -999.00,5, -999.000,5, -999.000,5, -999.000,5,-999.0000,5,  -999.00,9,-999.000,9,-999.0000,-999.000,-999.000,-999.000
      74AB29_1,    I5,     3,  1,      6,     7.,2,19871113,2035,-31.3750,  30.8350, 2931,   1402.5,   3.3324,  34.5900,2,  34.5802,2,    167.3,2,  3.2290,    169.9,2,    67.82,2,    33.43,2,     0.00,2,  -999.00,5, -999.000,5, -999.000,5, -999.000,5,-999.0000,5,  -999.00,9,-999.000,9,-999.0000,-999.000,-999.000,-999.000
      74AB29_1,    I5,     3,  1,      5,     6.,2,19871113,2035,-31.3750,  30.8350, 2931,   1800.6,   2.8060,  34.7180,2,  34.7227,2,    177.7,2,  2.6746,    176.0,2,    78.93,2,    31.77,2,     0.00,2,  -999.00,5, -999.000,5, -999.000,5, -999.000,5,-999.0000,5,  -999.00,9,-999.000,9,-999.0000,-999.000,-999.000,-999.000
      74AB29_1,    I5,     3,  1,      4,     5.,2,19871113,2035,-31.3750,  30.8350, 2931,   2199.9,   2.5270,  34.7720,2,  34.7779,2,    198.6,2,  2.3642,    201.2,2,    72.28,2,    29.32,2,     0.00,2,  -999.00,5, -999.000,5, -999.000,5, -999.000,5,-999.0000,5,  -999.00,9,-999.000,9,-999.0000,-999.000,-999.000,-999.000
      74AB29_1,    I5,     3,  1,      3,     4.,2,19871113,2035,-31.3750,  30.8350, 2931,   2603.4,   2.3715,  34.8040,2,  34.8084,2,    215.1,2,  2.1739,    215.1,2,    66.31,2,    27.56,2,     0.00,2,  -999.00,5, -999.000,5, -999.000,5, -999.000,5,-999.0000,5,  -999.00,9,-999.000,9,-999.0000,-999.000,-999.000,-999.000
      74AB29_1,    I5,     3,  1,      1,     2.,2,19871113,2035,-31.3750,  30.8350, 2931,   2949.1,   2.0411,  34.8040,2,  34.8096,2,    222.9,2,  1.8167,    223.3,2,    72.33,2,    27.46,2,     0.00,2,  -999.00,5, -999.000,5, -999.000,5, -999.000,5,-999.0000,5,  -999.00,9,-999.000,9,-999.0000,-999.000,-999.000,-999.000
      74AB29_1,    I5,     3,  1,      2,     3.,2,19871113,2035,-31.3750,  30.8350, 2931,   2949.7,   2.0416,  34.8040,2,  34.8066,2,    222.9,2,  1.8172,    221.6,2,    72.49,2,    27.46,2,     0.00,2,  -999.00,5, -999.000,5, -999.000,5, -999.000,5,-999.0000,5,  -999.00,9,-999.000,9,-999.0000,-999.000,-999.000,-999.000
      74AB29_1,    I5,     4,  1,     13,    14.,2,19871114,0125,-31.2600,  30.6550, 2926,     11.9,  23.3540,  35.3640,2,  35.3665,2,    229.8,2, 23.3515,    223.6,2,     2.25,2,     0.29,2,     0.01,2,  -999.00,5, -999.000,5, -999.000,5, -999.000,5,-999.0000,5,  -999.00,9,-999.000,9,-999.0000,-999.000,-999.000,-999.000
      74AB29_1,    I5,     4,  1,     12,    13.,2,19871114,0125,-31.2600,  30.6550, 2926,     79.3,  18.8633,  35.6050,2,  35.5987,2,    219.5,2, 18.8492,    214.1,2,     3.79,2,     2.64,2,     0.24,2,  -999.00,5, -999.000,5, -999.000,5, -999.000,5,-999.0000,5,  -999.00,9,-999.000,9,-999.0000,-999.000,-999.000,-999.000
      74AB29_1,    I5,     4,  1,     11,    12.,2,19871114,0125,-31.2600,  30.6550, 2926,    200.4,  16.4463,  35.5560,2,  35.5555,2,    215.0,2, 16.4138,    213.6,2,     4.13,2,     5.27,2,     0.01,2,  -999.00,5, -999.000,5, -999.000,5, -999.000,5,-999.0000,5,  -999.00,9,-999.000,9,-999.0000,-999.000,-999.000,-999.000
      74AB29_1,    I5,     4,  1,     10,    11.,2,19871114,0125,-31.2600,  30.6550, 2926,    500.4,  11.7690,  35.0380,2,  35.0338,2,    216.2,2, 11.7037,    220.7,2,     5.67,2,    12.80,2,     0.01,2,  -999.00,5, -999.000,5, -999.000,5, -999.000,5,-999.0000,5,  -999.00,9,-999.000,9,-999.0000,-999.000,-999.000,-999.000
      74AB29_1,    I5,     4,  1,      9,    10.,2,19871114,0125,-31.2600,  30.6550, 2926,    698.9,   9.4697,  34.7970,2,  34.7982,2,    178.3,2,  9.3894,    181.2,2,    18.29,2,    21.89,2,     0.01,2,  -999.00,5, -999.000,5, -999.000,5, -999.000,5,-999.0000,5,  -999.00,9,-999.000,9,-999.0000,-999.000,-999.000,-999.000
      74AB29_1,    I5,     4,  1,      8,     9.,2,19871114,0125,-31.2600,  30.6550, 2926,    800.3,   7.9513,  34.6730,2,  34.6690,2,    181.8,2,  7.8679,    182.5,2,    23.58,2,    25.02,2,     0.01,2,  -999.00,5, -999.000,5, -999.000,5, -999.000,5,-999.0000,5,  -999.00,9,-999.000,9,-999.0000,-999.000,-999.000,-999.000
      74AB29_1,    I5,     4,  1,      7,     8.,2,19871114,0125,-31.2600,  30.6550, 2926,   1001.9,   5.5001,  34.5270,2,  34.5541,2,    175.2,2,  5.4127,    169.0,2,    45.92,2,    31.18,2,     0.00,2,  -999.00,5, -999.000,5, -999.000,5, -999.000,5,-999.0000,5,  -999.00,9,-999.000,9,-999.0000,-999.000,-999.000,-999.000
      74AB29_1,    I5,     4,  1,      6,     7.,2,19871114,0125,-31.2600,  30.6550, 2926,   1199.6,   4.0938,  34.5800,2,  34.5812,2,    159.1,2,  4.0002,    160.8,2,    64.18,2,    33.63,2,     0.00,2,  -999.00,5, -999.000,5, -999.000,5, -999.000,5,-999.0000,5,  -999.00,9,-999.000,9,-999.0000,-999.000,-999.000,-999.000
      74AB29_1,    I5,     4,  1,      5,     6.,2,19871114,0125,-31.2600,  30.6550, 2926,   1399.6,   3.2379,  34.6680,2,  34.6759,2,    164.3,2,  3.1356,    163.4,2,    78.52,2,    33.33,2,     0.01,2,  -999.00,5, -999.000,5, -999.000,5, -999.000,5,-999.0000,5,  -999.00,9,-999.000,9,-999.0000,-999.000,-999.000,-999.000
      74AB29_1,    I5,     4,  1,      4,     5.,2,19871114,0125,-31.2600,  30.6550, 2926,   1600.4,   2.8475,  34.7100,2,  34.7150,2,    176.0,2,  2.7327,    175.1,2,    78.37,2,    31.96,2,     0.00,2,  -999.00,5, -999.000,5, -999.000,5, -999.000,5,-999.0000,5,  -999.00,9,-999.000,9,-999.0000,-999.000,-999.000,-999.000
      74AB29_1,    I5,     4,  1,      3,     4.,2,19871114,0125,-31.2600,  30.6550, 2926,   1898.2,   2.6010,  34.7590,2,  34.7638,2,    189.9,2,  2.4639,    192.5,2,    73.78,2,    29.61,2,     0.00,2,  -999.00,5, -999.000,5, -999.000,5, -999.000,5,-999.0000,5,  -999.00,9,-999.000,9,-999.0000,-999.000,-999.000,-999.000
      74AB29_1,    I5,     4,  1,      2,     3.,2,19871114,0125,-31.2600,  30.6550, 2926,   2200.6,   2.4605,  34.7890,2,  34.7931,2,    206.0,2,  2.2987,    208.1,2,  -999.00,5,  -999.00,5,  -999.00,5,  -999.00,5, -999.000,5, -999.000,5, -999.000,5,-999.0000,5,  -999.00,9,-999.000,9,-999.0000,-999.000,-999.000,-999.000
      74AB29_1,    I5,     4,  1,      1,     2.,2,19871114,0125,-31.2600,  30.6550, 2926,   2502.9,   2.3505,  34.8040,2,  34.8082,2,    211.6,2,  2.1628,    212.4,2,    67.14,2,    27.66,2,     0.00,2,  -999.00,5, -999.000,5, -999.000,5, -999.000,5,-999.0000,5,  -999.00,9,-999.000,9,-999.0000,-999.000,-999.000,-999.000