BOTTLE,20090923WHPSIOMYS
EXPOCODE,SECT_ID,STNNBR,CASTNO,SAMPNO,BTLNBR,BTLNBR_FLAG_W,DATE,TIME,LATITUDE,LONGITUDE,DEPTH,CTDRAW,CTDPRS,CTDTMP,CTDSAL,CTDSAL_FLAG_W,SALNTY,SALNTY_FLAG_W,CTDOXY,CTDOXY_FLAG_W,THETA,OXYGEN,OXYGEN_FLAG_W,SILCAT,SILCAT_FLAG_W,NO2+NO3,NO2+NO3_FLAG_W,PHSPHT,PHSPHT_FLAG_W,REVPRS,REVTMP
,,,,,,,,,,,,,DBAR,ITS-90,PSS-78,,PSS-78,,UMOL/KG,,ITS-90,UMOL/KG,,UMOL/KG,,UMOL/KG,,UMOL/KG,,DBAR,DEG C
     33KB154_1,  PRS2,     2,  3,     14,    101,2,20031220,0038, 22.7272,-157.9160, 4728,      5,      5.5,  24.6295,  35.2319,2,  35.2322,2,    209.6,1, 24.6283,   -999.0,9,  -999.00,9,  -999.00,9,  -999.00,9,  -999.0,-999.000
     33KB154_1,  PRS2,     2,  3,     13,     42,3,20031220,0038, 22.7272,-157.9160, 4728,     24,     24.2,  24.6299,  35.2330,2,  35.2373,2,    209.6,1, 24.6247,   -999.0,9,  -999.00,9,  -999.00,9,  -999.00,9,  -999.0,-999.000
     33KB154_1,  PRS2,     2,  3,     12,     12,2,20031220,0038, 22.7272,-157.9160, 4728,     46,     44.1,  24.3213,  35.2893,2,  35.2879,2,    210.3,1, 24.3119,   -999.0,9,  -999.00,9,  -999.00,9,  -999.00,9,  -999.0,-999.000
     33KB154_1,  PRS2,     2,  3,     11,     39,2,20031220,0038, 22.7272,-157.9160, 4728,     76,     75.2,  23.9319,  35.3819,2,  35.3790,2,    211.1,1, 23.9161,   -999.0,9,  -999.00,9,  -999.00,9,  -999.00,9,  -999.0,-999.000
     33KB154_1,  PRS2,     2,  3,     10,     32,2,20031220,0038, 22.7272,-157.9160, 4728,     96,     97.7,  23.7840,  35.3938,2,  35.3837,2,    211.5,1, 23.7636,   -999.0,9,  -999.00,9,  -999.00,9,  -999.00,9,  -999.0,-999.000
     33KB154_1,  PRS2,     2,  3,      9,      3,2,20031220,0038, 22.7272,-157.9160, 4728,    127,    125.9,  21.2289,  35.2869,2,  35.2873,2,    201.9,1, 21.2046,   -999.0,9,  -999.00,9,  -999.00,9,  -999.00,9,  -999.0,-999.000
     33KB154_1,  PRS2,     2,  3,      8,     29,2,20031220,0038, 22.7272,-157.9160, 4728,    150,    150.5,  20.4751,  35.2290,2,  35.2298,2,    201.6,1, 20.4468,   -999.0,9,  -999.00,9,  -999.00,9,  -999.00,9,  -999.0,-999.000
     33KB154_1,  PRS2,     2,  3,      7,     28,3,20031220,0038, 22.7272,-157.9160, 4728,    174,    173.9,  19.7876,  35.1461,2,  35.1681,3,    200.0,1, 19.7557,   -999.0,9,  -999.00,9,  -999.00,9,  -999.00,9,  -999.0,-999.000
     33KB154_1,  PRS2,     2,  3,      6,     13,3,20031220,0038, 22.7272,-157.9160, 4728,    200,    200.5,  18.3901,  34.9435,2,  34.9719,3,    201.5,1, 18.3551,   -999.0,9,  -999.00,9,  -999.00,9,  -999.00,9,  -999.0,-999.000
     33KB154_1,  PRS2,     2,  3,      5,     38,2,20031220,0038, 22.7272,-157.9160, 4728,    251,    251.0,  16.1345,  34.6114,2,  34.6195,2,    196.8,1, 16.0946,   -999.0,9,  -999.00,9,  -999.00,9,  -999.00,9,  -999.0,-999.000
     33KB154_1,  PRS2,     2,  3,      3,     35,3,20031220,0038, 22.7272,-157.9160, 4728,    351,    352.2,  10.5940,  34.1551,2,  34.3594,4,    199.9,1, 10.5517,   -999.0,9,  -999.00,9,  -999.00,9,  -999.00,9,  -999.0,-999.000
     33KB154_1,  PRS2,     2,  3,      4,     36,2,20031220,0038, 22.7272,-157.9160, 4728,    352,    352.4,  10.5847,  34.1556,2,  34.1546,2,    200.2,1, 10.5424,   -999.0,9,  -999.00,9,  -999.00,9,  -999.00,9,  -999.0,-999.000
     33KB154_1,  PRS2,     2,  3,      2,     34,2,20031220,0038, 22.7272,-157.9160, 4728,    500,    501.0,   6.8972,  34.0372,2,  34.0343,2,    116.8,1,  6.8503,   -999.0,9,  -999.00,9,  -999.00,9,  -999.00,9,  -999.0,-999.000
     33KB154_1,  PRS2,     2,  3,      1,     33,2,20031220,0038, 22.7272,-157.9160, 4728,   1023,   1020.5,   3.8424,  34.5038,2,  34.5036,2,     49.5,1,  3.7663,   -999.0,9,  -999.00,9,  -999.00,9,  -999.00,9,  -999.0,-999.000
     33KB154_1,  PRS2,     2,  4,     14,    101,3,20031220,0302, 22.7495,-157.9985, 4728,      5,      4.4,  24.2041,  35.3067,2,  35.3053,2,    211.3,1, 24.2032,   -999.0,9,  -999.00,9,  -999.00,9,  -999.00,9,  -999.0,-999.000
     33KB154_1,  PRS2,     2,  4,     13,     42,3,20031220,0302, 22.7495,-157.9985, 4728,     25,     23.1,  23.9509,  35.3677,2,  35.3709,2,    211.6,1, 23.9460,   -999.0,9,  -999.00,9,  -999.00,9,  -999.00,9,  -999.0,-999.000
     33KB154_1,  PRS2,     2,  4,     12,     12,2,20031220,0302, 22.7495,-157.9985, 4728,     45,     45.0,  23.9232,  35.3769,2,  35.3756,2,    211.9,1, 23.9138,   -999.0,9,  -999.00,9,  -999.00,9,  -999.00,9,  -999.0,-999.000
     33KB154_1,  PRS2,     2,  4,     11,     39,2,20031220,0302, 22.7495,-157.9985, 4728,     75,     75.0,  23.9156,  35.3778,2,  35.3752,2,    211.6,1, 23.8998,   -999.0,9,  -999.00,9,  -999.00,9,  -999.00,9,  -999.0,-999.000
     33KB154_1,  PRS2,     2,  4,     10,     32,2,20031220,0302, 22.7495,-157.9985, 4728,    101,     99.0,  22.5977,  35.3395,2,  35.3403,2,    214.2,1, 22.5777,   -999.0,9,  -999.00,9,  -999.00,9,  -999.00,9,  -999.0,-999.000
     33KB154_1,  PRS2,     2,  4,      9,      3,2,20031220,0302, 22.7495,-157.9985, 4728,    125,    124.7,  20.9159,  35.2646,2,  35.2668,2,    204.1,1, 20.8921,   -999.0,9,  -999.00,9,  -999.00,9,  -999.00,9,  -999.0,-999.000
     33KB154_1,  PRS2,     2,  4,      8,     29,2,20031220,0302, 22.7495,-157.9985, 4728,    149,    148.8,  19.5409,  35.1095,2,  35.1094,2,    197.9,1, 19.5138,   -999.0,9,  -999.00,9,  -999.00,9,  -999.00,9,  -999.0,-999.000
     33KB154_1,  PRS2,     2,  4,      7,     28,2,20031220,0302, 22.7495,-157.9985, 4728,    167,    167.3,  18.8553,  35.0088,2,  35.0108,2,    199.0,1, 18.8256,   -999.0,9,  -999.00,9,  -999.00,9,  -999.00,9,  -999.0,-999.000
     33KB154_1,  PRS2,     2,  4,      6,     13,2,20031220,0302, 22.7495,-157.9985, 4728,    200,    198.4,  18.2766,  34.9203,2,  34.9252,2,    200.9,1, 18.2421,   -999.0,9,  -999.00,9,  -999.00,9,  -999.00,9,  -999.0,-999.000
     33KB154_1,  PRS2,     2,  4,      5,     38,2,20031220,0302, 22.7495,-157.9985, 4728,    249,    247.9,  15.4171,  34.5174,2,  34.5248,2,    193.7,1, 15.3789,   -999.0,9,  -999.00,9,  -999.00,9,  -999.00,9,  -999.0,-999.000
     33KB154_1,  PRS2,     2,  4,      4,     36,2,20031220,0302, 22.7495,-157.9985, 4728,    350,    349.2,  10.5408,  34.1468,2,  34.1475,2,    200.3,1, 10.4990,   -999.0,9,  -999.00,9,  -999.00,9,  -999.00,9,  -999.0,-999.000
     33KB154_1,  PRS2,     2,  4,      3,     35,3,20031220,0302, 22.7495,-157.9985, 4728,    351,    349.4,  10.5339,  34.1463,2,  34.2695,4,    200.0,1, 10.4922,   -999.0,9,  -999.00,9,  -999.00,9,  -999.00,9,  -999.0,-999.000
     33KB154_1,  PRS2,     2,  4,      2,     34,2,20031220,0302, 22.7495,-157.9985, 4728,    502,    501.1,   7.3675,  34.0626,2,  34.0615,2,    122.2,1,  7.3189,   -999.0,9,  -999.00,9,  -999.00,9,  -999.00,9,  -999.0,-999.000
     33KB154_1,  PRS2,     2,  4,      1,     33,2,20031220,0302, 22.7495,-157.9985, 4728,   1018,   1018.8,   3.9249,  34.5014,2,  34.5017,2,     49.3,1,  3.8482,   -999.0,9,  -999.00,9,  -999.00,9,  -999.00,9,  -999.0,-999.000
     33KB154_1,  PRS2,     2,  5,     16,     16,3,20031220,0557, 22.7500,-157.9975, 4728,      5,      4.5,  23.9798,  35.3444,2,  35.3433,2,    211.3,1, 23.9788,   -999.0,9,  -999.00,9,  -999.00,9,  -999.00,9,  -999.0,-999.000
     33KB154_1,  PRS2,     2,  5,     15,     23,2,20031220,0557, 22.7500,-157.9975, 4728,     15,     14.4,  23.9375,  35.3710,2,  35.3689,2,    211.8,1, 23.9345,   -999.0,9,  -999.00,9,  -999.00,9,  -999.00,9,  -999.0,-999.000
     33KB154_1,  PRS2,     2,  5,     14,    101,3,20031220,0557, 22.7500,-157.9975, 4728,     25,     24.7,  23.9277,  35.3734,2,  35.3713,2,    211.5,1, 23.9225,   -999.0,9,  -999.00,9,  -999.00,9,  -999.00,9,  -999.0,-999.000
     33KB154_1,  PRS2,     2,  5,     13,     42,3,20031220,0557, 22.7500,-157.9975, 4728,     36,     35.5,  23.9228,  35.3735,2,  35.3717,2,    211.2,1, 23.9153,   -999.0,9,  -999.00,9,  -999.00,9,  -999.00,9,  -999.0,-999.000
     33KB154_1,  PRS2,     2,  5,     12,     12,3,20031220,0557, 22.7500,-157.9975, 4728,     36,     35.6,  23.9230,  35.3737,2,  35.3689,2,    211.3,1, 23.9156,   -999.0,9,  -999.00,9,  -999.00,9,  -999.00,9,  -999.0,-999.000
     33KB154_1,  PRS2,     2,  5,     11,     39,3,20031220,0557, 22.7500,-157.9975, 4728,     45,     45.5,  23.9220,  35.3740,2,  35.3717,2,    211.7,1, 23.9124,   -999.0,9,  -999.00,9,  -999.00,9,  -999.00,9,  -999.0,-999.000
     33KB154_1,  PRS2,     2,  5,     10,     32,2,20031220,0557, 22.7500,-157.9975, 4728,     60,     60.3,  23.9166,  35.3754,2,  35.3752,2,    211.5,1, 23.9040,   -999.0,9,  -999.00,9,  -999.00,9,  -999.00,9,  -999.0,-999.000
     33KB154_1,  PRS2,     2,  5,      9,      3,2,20031220,0557, 22.7500,-157.9975, 4728,     78,     77.7,  22.6929,  35.3388,2,  35.3360,2,    212.9,1, 22.6771,   -999.0,9,  -999.00,9,  -999.00,9,  -999.00,9,  -999.0,-999.000
     33KB154_1,  PRS2,     2,  5,      8,     29,2,20031220,0557, 22.7500,-157.9975, 4728,    101,     99.1,  21.1567,  35.2688,2,  35.2706,2,    205.0,1, 21.1376,   -999.0,9,  -999.00,9,  -999.00,9,  -999.00,9,  -999.0,-999.000
     33KB154_1,  PRS2,     2,  5,      7,     28,3,20031220,0557, 22.7500,-157.9975, 4728,    127,    124.8,  19.8005,  35.1498,2,  35.1563,2,    198.9,1, 19.7776,   -999.0,9,  -999.00,9,  -999.00,9,  -999.00,9,  -999.0,-999.000
     33KB154_1,  PRS2,     2,  5,      6,     13,3,20031220,0557, 22.7500,-157.9975, 4728,    150,    150.3,  18.9073,  35.0169,2,  35.0480,3,    198.4,1, 18.8806,   -999.0,9,  -999.00,9,  -999.00,9,  -999.00,9,  -999.0,-999.000
     33KB154_1,  PRS2,     2,  5,      5,     38,2,20031220,0557, 22.7500,-157.9975, 4728,    173,    173.8,  17.9392,  34.8730,2,  34.8796,2,    200.6,1, 17.9095,   -999.0,9,  -999.00,9,  -999.00,9,  -999.00,9,  -999.0,-999.000
     33KB154_1,  PRS2,     2,  5,      4,     36,2,20031220,0557, 22.7500,-157.9975, 4728,    502,    501.9,   7.3026,  34.0733,2,  34.0707,2,    115.6,1,  7.2541,   -999.0,9,  -999.00,9,  -999.00,9,  -999.00,9,  -999.0,-999.000
     33KB154_1,  PRS2,     2,  5,      2,     34,2,20031220,0557, 22.7500,-157.9975, 4728,   1024,   1024.2,   3.9876,  34.4941,2,  34.5027,4,     48.0,1,  3.9101,   -999.0,9,  -999.00,9,  -999.00,9,  -999.00,9,  -999.0,-999.000
     33KB154_1,  PRS2,     2,  5,      3,     35,3,20031220,0557, 22.7500,-157.9975, 4728,   1025,   1024.8,   3.9826,  34.4943,2,  34.4944,2,     48.1,1,  3.9050,   -999.0,9,  -999.00,9,  -999.00,9,  -999.00,9,  -999.0,-999.000
     33KB154_1,  PRS2,     2,  5,      1,     33,2,20031220,0557, 22.7500,-157.9975, 4728,   1025,   1024.8,   3.9931,  34.4953,2,  34.4954,2,     48.0,1,  3.9155,   -999.0,9,  -999.00,9,  -999.00,9,  -999.00,9,  -999.0,-999.000
     33KB154_1,  PRS2,     2,  6,     19,     19,2,20031220,0901, 22.7363,-157.9910, 4728,      7,      6.3,  24.0969,  35.3108,2,  35.3102,2,    211.1,2, 24.0956,   -999.0,5,  -999.00,9,  -999.00,9,  -999.00,9,  -999.0,-999.000
     33KB154_1,  PRS2,     2,  6,     18,     18,2,20031220,0901, 22.7363,-157.9910, 4728,      7,      6.5,  24.0972,  35.3091,2,  35.3147,2,    211.1,2, 24.0958,    210.0,2,  -999.00,9,  -999.00,9,  -999.00,9,  -999.0,-999.000
     33KB154_1,  PRS2,     2,  6,     17,     17,2,20031220,0901, 22.7363,-157.9910, 4728,     15,     14.9,  24.0589,  35.3296,2,  35.3228,2,    211.1,2, 24.0557,   -999.0,5,  -999.00,9,  -999.00,9,  -999.00,9,  -999.0,-999.000
     33KB154_1,  PRS2,     2,  6,     15,     23,2,20031220,0901, 22.7363,-157.9910, 4728,     24,     24.1,  23.9253,  35.3711,2,  35.3772,2,    211.4,2, 23.9203,    211.5,2,  -999.00,9,  -999.00,9,  -999.00,9,  -999.0,-999.000
     33KB154_1,  PRS2,     2,  6,     16,     16,3,20031220,0901, 22.7363,-157.9910, 4728,     25,     24.8,  23.9252,  35.3709,2,  35.3705,2,    211.3,2, 23.9200,   -999.0,5,  -999.00,9,  -999.00,9,  -999.00,9,  -999.0,-999.000
     33KB154_1,  PRS2,     2,  6,     14,    101,3,20031220,0901, 22.7363,-157.9910, 4728,     37,     36.5,  23.9204,  35.3706,2,  35.3697,2,    211.8,2, 23.9128,   -999.0,5,  -999.00,9,  -999.00,9,  -999.00,9,  -999.0,-999.000
     33KB154_1,  PRS2,     2,  6,     13,     42,3,20031220,0901, 22.7363,-157.9910, 4728,     46,     44.9,  23.9225,  35.3730,2,-999.0000,5,    211.3,2, 23.9130,    211.1,2,  -999.00,9,  -999.00,9,  -999.00,9,  -999.0,-999.000
     33KB154_1,  PRS2,     2,  6,     12,     12,3,20031220,0901, 22.7363,-157.9910, 4728,     61,     59.7,  23.9181,  35.3729,2,  35.3800,2,    210.9,2, 23.9055,   -999.0,5,  -999.00,9,  -999.00,9,  -999.00,9,  -999.0,-999.000
     33KB154_1,  PRS2,     2,  6,     11,     39,2,20031220,0901, 22.7363,-157.9910, 4728,     76,     75.4,  23.8207,  35.3839,2,  35.3871,2,    210.8,2, 23.8049,    209.9,2,  -999.00,9,  -999.00,9,  -999.00,9,  -999.0,-999.000
     33KB154_1,  PRS2,     2,  6,     10,     32,2,20031220,0901, 22.7363,-157.9910, 4728,     84,     84.3,  23.0986,  35.3639,2,  35.3585,2,    211.0,2, 23.0813,    211.9,2,  -999.00,9,  -999.00,9,  -999.00,9,  -999.0,-999.000
     33KB154_1,  PRS2,     2,  6,      9,      3,2,20031220,0901, 22.7363,-157.9910, 4728,    101,    100.5,  21.8600,  35.2889,2,  35.2867,2,    207.2,2, 21.8402,    209.9,2,  -999.00,9,  -999.00,9,  -999.00,9,  -999.0,-999.000
     33KB154_1,  PRS2,     2,  6,      8,     29,2,20031220,0901, 22.7363,-157.9910, 4728,    115,    115.1,  21.2238,  35.2757,2,  35.2720,2,    204.6,2, 21.2016,    204.2,2,  -999.00,9,  -999.00,9,  -999.00,9,  -999.0,-999.000
     33KB154_1,  PRS2,     2,  6,      7,     28,2,20031220,0901, 22.7363,-157.9910, 4728,    124,    124.8,  20.7588,  35.2611,2,  35.2599,2,    202.0,2, 20.7351,    203.0,2,  -999.00,9,  -999.00,9,  -999.00,9,  -999.0,-999.000
     33KB154_1,  PRS2,     2,  6,      6,     13,2,20031220,0901, 22.7363,-157.9910, 4728,    149,    149.6,  19.5650,  35.1137,2,  35.1258,2,    197.6,2, 19.5378,    198.9,2,  -999.00,9,  -999.00,9,  -999.00,9,  -999.0,-999.000
     33KB154_1,  PRS2,     2,  6,      5,     38,2,20031220,0901, 22.7363,-157.9910, 4728,    167,    166.4,  18.7368,  34.9913,2,  35.0065,2,    198.8,2, 18.7074,    199.4,2,  -999.00,9,  -999.00,9,  -999.00,9,  -999.0,-999.000
     33KB154_1,  PRS2,     2,  6,      4,     36,3,20031220,0901, 22.7363,-157.9910, 4728,    180,    181.0,  18.3698,  34.9383,2,  34.9429,2,    200.4,2, 18.3383,    200.8,2,  -999.00,9,  -999.00,9,  -999.00,9,  -999.0,-999.000
     33KB154_1,  PRS2,     2,  6,      3,     35,2,20031220,0901, 22.7363,-157.9910, 4728,    201,    199.8,  16.7059,  34.6938,2,  34.7083,2,    197.4,2, 16.6734,    199.0,2,  -999.00,9,  -999.00,9,  -999.00,9,  -999.0,-999.000
     33KB154_1,  PRS2,     2,  6,      2,     34,2,20031220,0901, 22.7363,-157.9910, 4728,    510,    508.4,   6.7970,  34.0874,2,  34.0897,2,     96.0,2,  6.7498,     95.6,2,  -999.00,9,  -999.00,9,  -999.00,9,  -999.0,-999.000
     33KB154_1,  PRS2,     2,  6,      1,     33,2,20031220,0901, 22.7363,-157.9910, 4728,   1019,   1019.7,   3.9806,  34.4885,2,  34.4881,2,     44.7,2,  3.9034,     46.4,2,  -999.00,9,  -999.00,9,  -999.00,9,  -999.0,-999.000
     33KB154_1,  PRS2,     2,  7,     20,     20,2,20031220,1211, 22.7473,-157.9838, 4728,      9,      9.8,  24.4890,  35.2545,2,  35.2566,2,    209.4,1, 24.4869,   -999.0,9,  -999.00,9,  -999.00,9,  -999.00,9,  -999.0,-999.000
     33KB154_1,  PRS2,     2,  7,     21,     21,2,20031220,1211, 22.7473,-157.9838, 4728,     10,     10.0,  24.4916,  35.2548,2,  35.2536,2,    209.4,1, 24.4894,   -999.0,9,  -999.00,9,  -999.00,9,  -999.00,9,  -999.0,-999.000
     33KB154_1,  PRS2,     2,  7,     22,     22,2,20031220,1211, 22.7473,-157.9838, 4728,     10,     10.2,  24.4902,  35.2549,2,  35.2558,2,    209.3,1, 24.4880,   -999.0,9,  -999.00,9,  -999.00,9,  -999.00,9,  -999.0,-999.000
     33KB154_1,  PRS2,     2,  7,     18,     18,3,20031220,1211, 22.7473,-157.9838, 4728,     26,     24.9,  24.1022,  35.3354,2,-999.0000,5,    209.9,1, 24.0969,   -999.0,9,  -999.00,9,  -999.00,9,  -999.00,9,  -999.0,-999.000
     33KB154_1,  PRS2,     2,  7,     19,     19,2,20031220,1211, 22.7473,-157.9838, 4728,     26,     25.1,  24.1230,  35.3302,2,  35.3246,2,    210.0,1, 24.1177,   -999.0,9,  -999.00,9,  -999.00,9,  -999.00,9,  -999.0,-999.000
     33KB154_1,  PRS2,     2,  7,     17,     17,3,20031220,1211, 22.7473,-157.9838, 4728,     26,     25.1,  24.0776,  35.3399,2,  35.3315,2,    210.1,1, 24.0723,   -999.0,9,  -999.00,9,  -999.00,9,  -999.00,9,  -999.0,-999.000
     33KB154_1,  PRS2,     2,  7,     15,     23,2,20031220,1211, 22.7473,-157.9838, 4728,     47,     45.2,  23.9214,  35.3777,2,  35.3762,2,    211.0,1, 23.9119,   -999.0,9,  -999.00,9,  -999.00,9,  -999.00,9,  -999.0,-999.000
     33KB154_1,  PRS2,     2,  7,     16,     16,2,20031220,1211, 22.7473,-157.9838, 4728,     45,     45.4,  23.9214,  35.3776,2,  35.3774,2,    211.0,1, 23.9119,   -999.0,9,  -999.00,9,  -999.00,9,  -999.00,9,  -999.0,-999.000
     33KB154_1,  PRS2,     2,  7,     14,    101,2,20031220,1211, 22.7473,-157.9838, 4728,     47,     45.6,  23.9214,  35.3776,2,  35.3760,2,    211.1,1, 23.9118,   -999.0,9,  -999.00,9,  -999.00,9,  -999.00,9,  -999.0,-999.000
     33KB154_1,  PRS2,     2,  7,     11,     39,2,20031220,1211, 22.7473,-157.9838, 4728,     76,     74.1,  23.9150,  35.3771,2,  35.3798,2,    210.9,1, 23.8995,   -999.0,9,  -999.00,9,  -999.00,9,  -999.00,9,  -999.0,-999.000
     33KB154_1,  PRS2,     2,  7,     12,     12,2,20031220,1211, 22.7473,-157.9838, 4728,     75,     74.5,  23.9151,  35.3771,2,  35.3685,2,    210.8,1, 23.8995,   -999.0,9,  -999.00,9,  -999.00,9,  -999.00,9,  -999.0,-999.000
     33KB154_1,  PRS2,     2,  7,     13,     42,3,20031220,1211, 22.7473,-157.9838, 4728,     75,     74.6,  23.9154,  35.3770,2,  35.3673,2,    210.7,1, 23.8997,   -999.0,9,  -999.00,9,  -999.00,9,  -999.00,9,  -999.0,-999.000
     33KB154_1,  PRS2,     2,  7,      9,      3,2,20031220,1211, 22.7473,-157.9838, 4728,    102,    100.6,  23.7082,  35.3837,2,  35.3847,2,    211.4,1, 23.6872,   -999.0,9,  -999.00,9,  -999.00,9,  -999.00,9,  -999.0,-999.000
     33KB154_1,  PRS2,     2,  7,      8,     29,2,20031220,1211, 22.7473,-157.9838, 4728,    101,    100.6,  23.6928,  35.3797,2,  35.3825,2,    211.3,1, 23.6718,   -999.0,9,  -999.00,9,  -999.00,9,  -999.00,9,  -999.0,-999.000
     33KB154_1,  PRS2,     2,  7,     10,     32,2,20031220,1211, 22.7473,-157.9838, 4728,    102,    100.7,  23.7009,  35.3842,2,  35.3833,2,    211.4,1, 23.6798,   -999.0,9,  -999.00,9,  -999.00,9,  -999.00,9,  -999.0,-999.000
     33KB154_1,  PRS2,     2,  7,      5,     38,2,20031220,1211, 22.7473,-157.9838, 4728,    125,    125.4,  21.8933,  35.2904,2,  35.2895,2,    211.0,1, 21.8685,   -999.0,9,  -999.00,9,  -999.00,9,  -999.00,9,  -999.0,-999.000
     33KB154_1,  PRS2,     2,  7,      6,     13,2,20031220,1211, 22.7473,-157.9838, 4728,    125,    125.7,  21.8831,  35.2901,2,  35.2932,2,    211.8,1, 21.8583,   -999.0,9,  -999.00,9,  -999.00,9,  -999.00,9,  -999.0,-999.000
     33KB154_1,  PRS2,     2,  7,      7,     28,2,20031220,1211, 22.7473,-157.9838, 4728,    124,    126.0,  21.8811,  35.2892,2,  35.2893,2,    212.6,1, 21.8562,   -999.0,9,  -999.00,9,  -999.00,9,  -999.00,9,  -999.0,-999.000
     33KB154_1,  PRS2,     2,  7,      4,     36,3,20031220,1211, 22.7473,-157.9838, 4728,    149,    149.0,  20.7805,  35.2633,2,  35.2613,2,    201.7,1, 20.7522,   -999.0,9,  -999.00,9,  -999.00,9,  -999.00,9,  -999.0,-999.000
     33KB154_1,  PRS2,     2,  7,      3,     35,2,20031220,1211, 22.7473,-157.9838, 4728,    180,    179.8,  18.7387,  34.9911,2,  34.9904,2,    199.2,1, 18.7070,   -999.0,9,  -999.00,9,  -999.00,9,  -999.00,9,  -999.0,-999.000
     33KB154_1,  PRS2,     2,  7,      2,     34,2,20031220,1211, 22.7473,-157.9838, 4728,    499,    499.9,   6.9086,  34.0383,2,  34.0417,2,    116.0,1,  6.8618,   -999.0,9,  -999.00,9,  -999.00,9,  -999.00,9,  -999.0,-999.000
     33KB154_1,  PRS2,     2,  7,      1,     33,2,20031220,1211, 22.7473,-157.9838, 4728,   1012,   1012.0,   3.9816,  34.4934,2,  34.4934,2,     47.2,1,  3.9051,   -999.0,9,  -999.00,9,  -999.00,9,  -999.00,9,  -999.0,-999.000