BOTTLE,20090923WHPSIOMYS
EXPOCODE,SECT_ID,STNNBR,CASTNO,SAMPNO,BTLNBR,BTLNBR_FLAG_W,DATE,TIME,LATITUDE,LONGITUDE,DEPTH,CTDRAW,CTDPRS,CTDTMP,CTDSAL,CTDSAL_FLAG_W,SALNTY,SALNTY_FLAG_W,CTDOXY,CTDOXY_FLAG_W,THETA,OXYGEN,OXYGEN_FLAG_W,SILCAT,SILCAT_FLAG_W,NO2+NO3,NO2+NO3_FLAG_W,PHSPHT,PHSPHT_FLAG_W,REVPRS,REVTMP
,,,,,,,,,,,,,DBAR,ITS-90,PSS-78,,PSS-78,,UMOL/KG,,ITS-90,UMOL/KG,,UMOL/KG,,UMOL/KG,,UMOL/KG,,DBAR,DEG C
     33KB154_1,  PRS2,     2, 14,     21,     21,3,20031221,0906, 22.7590,-157.9993, 4728,      7,      6.8,  23.9780,  35.3523,2,  35.3514,2,    211.3,4, 23.9766,    210.8,2,  -999.00,9,  -999.00,9,  -999.00,9,  -999.0,-999.000
     33KB154_1,  PRS2,     2, 14,     20,     20,2,20031221,0906, 22.7590,-157.9993, 4728,    351,    352.6,  10.4133,  34.1498,2,  34.1517,2,    200.0,2, 10.3714,    200.3,2,  -999.00,9,  -999.00,9,  -999.00,9,  -999.0,-999.000
     33KB154_1,  PRS2,     2, 14,     19,     19,2,20031221,0906, 22.7590,-157.9993, 4728,    402,    401.9,   9.1825,  34.1033,2,  34.1044,2,    175.7,2,  9.1383,   -999.0,5,  -999.00,9,  -999.00,9,  -999.00,9,  -999.0,-999.000
     33KB154_1,  PRS2,     2, 14,     18,     18,2,20031221,0906, 22.7590,-157.9993, 4728,    502,    502.0,   6.7816,  34.0679,2,  34.0668,2,     91.9,2,  6.7351,   -999.0,5,  -999.00,9,  -999.00,9,  -999.00,9,  -999.0,-999.000
     33KB154_1,  PRS2,     2, 14,     17,     17,2,20031221,0906, 22.7590,-157.9993, 4728,    802,    802.2,   4.3452,  34.3592,2,  34.3570,2,     31.2,2,  4.2838,     32.1,2,  -999.00,9,  -999.00,9,  -999.00,9,  -999.0,-999.000
     33KB154_1,  PRS2,     2, 14,     16,     16,2,20031221,0906, 22.7590,-157.9993, 4728,   1003,   1001.5,   3.8968,  34.4966,2,  34.4954,2,     47.7,2,  3.8218,   -999.0,5,  -999.00,9,  -999.00,9,  -999.00,9,  -999.0,-999.000
     33KB154_1,  PRS2,     2, 14,     15,     23,2,20031221,0906, 22.7590,-157.9993, 4728,   1002,   1001.9,   3.8966,  34.4969,2,  34.4958,2,     47.7,2,  3.8216,   -999.0,5,  -999.00,9,  -999.00,9,  -999.00,9,  -999.0,-999.000
     33KB154_1,  PRS2,     2, 14,     14,    101,2,20031221,0906, 22.7590,-157.9993, 4728,   1002,   1001.9,   3.8966,  34.4974,2,  34.4950,2,     47.8,2,  3.8216,     47.7,2,  -999.00,9,  -999.00,9,  -999.00,9,  -999.0,-999.000
     33KB154_1,  PRS2,     2, 14,     13,     42,2,20031221,0906, 22.7590,-157.9993, 4728,   2002,   1999.5,   2.1079,  34.6214,2,-999.0000,5,     89.7,2,  1.9699,   -999.0,5,  -999.00,9,  -999.00,9,  -999.00,9,  -999.0,-999.000
     33KB154_1,  PRS2,     2, 14,     12,     12,2,20031221,0906, 22.7590,-157.9993, 4728,   2001,   2000.2,   2.1077,  34.6213,2,  34.6211,2,     89.7,2,  1.9697,   -999.0,5,  -999.00,9,  -999.00,9,  -999.00,9,  -999.0,-999.000
     33KB154_1,  PRS2,     2, 14,     11,     39,2,20031221,0906, 22.7590,-157.9993, 4728,   2001,   2000.3,   2.1075,  34.6212,2,-999.0000,5,     89.7,2,  1.9695,     90.4,2,  -999.00,9,  -999.00,9,  -999.00,9,  -999.0,-999.000
     33KB154_1,  PRS2,     2, 14,      8,     29,2,20031221,0906, 22.7590,-157.9993, 4728,   2999,   3000.1,   1.5319,  34.6715,2,-999.0000,5,    125.8,2,  1.3145,    126.9,2,  -999.00,9,  -999.00,9,  -999.00,9,  -999.0,-999.000
     33KB154_1,  PRS2,     2, 14,      9,      3,2,20031221,0906, 22.7590,-157.9993, 4728,   3000,   3000.4,   1.5319,  34.6716,2,-999.0000,5,    125.8,2,  1.3144,   -999.0,5,  -999.00,9,  -999.00,9,  -999.00,9,  -999.0,-999.000
     33KB154_1,  PRS2,     2, 14,     10,     32,2,20031221,0906, 22.7590,-157.9993, 4728,   2999,   3001.1,   1.5319,  34.6715,2,  34.6716,2,    125.8,2,  1.3143,   -999.0,5,  -999.00,9,  -999.00,9,  -999.00,9,  -999.0,-999.000
     33KB154_1,  PRS2,     2, 14,      7,     28,2,20031221,0906, 22.7590,-157.9993, 4728,   4000,   3999.8,   1.4555,  34.6879,2,  34.6865,2,    148.0,2,  1.1378,   -999.0,5,  -999.00,9,  -999.00,9,  -999.00,9,  -999.0,-999.000
     33KB154_1,  PRS2,     2, 14,      6,     13,2,20031221,0906, 22.7590,-157.9993, 4728,   4000,   4000.1,   1.4555,  34.6878,2,  34.6873,2,    148.0,2,  1.1379,   -999.0,5,  -999.00,9,  -999.00,9,  -999.00,9,  -999.0,-999.000
     33KB154_1,  PRS2,     2, 14,      5,     38,2,20031221,0906, 22.7590,-157.9993, 4728,   4001,   4000.6,   1.4555,  34.6879,2,  34.6881,2,    148.0,2,  1.1378,    151.0,2,  -999.00,9,  -999.00,9,  -999.00,9,  -999.0,-999.000
     33KB154_1,  PRS2,     2, 14,      4,     36,2,20031221,0906, 22.7590,-157.9993, 4728,   4499,   4498.6,   1.4861,  34.6904,2,  34.6899,2,    151.7,2,  1.1117,   -999.0,5,  -999.00,9,  -999.00,9,  -999.00,9,  -999.0,-999.000
     33KB154_1,  PRS2,     2, 14,      2,     34,2,20031221,0906, 22.7590,-157.9993, 4728,   4500,   4498.7,   1.4862,  34.6904,2,  34.6936,3,    151.8,3,  1.1118,   -999.0,5,  -999.00,9,  -999.00,9,  -999.00,9,  -999.0,-999.000
     33KB154_1,  PRS2,     2, 14,      3,     35,2,20031221,0906, 22.7590,-157.9993, 4728,   4496,   4499.8,   1.4864,  34.6905,2,  34.6906,2,    151.8,2,  1.1118,   -999.0,5,  -999.00,9,  -999.00,9,  -999.00,9,  -999.0,-999.000
     33KB154_1,  PRS2,     2, 14,      1,     33,2,20031221,0906, 22.7590,-157.9993, 4728,   4794,   4795.7,   1.4981,  34.6919,2,  34.6926,2,    155.0,2,  1.0885,    156.5,2,  -999.00,9,  -999.00,9,  -999.00,9,  -999.0,-999.000
     33KB154_1,  PRS2,     2, 15,     10,     32,2,20031222,0536, 22.7492,-158.0000, 4728,      6,      4.5,  23.9654,  35.3591,2,  35.3561,2,    210.9,1, 23.9645,   -999.0,9,  -999.00,9,  -999.00,9,  -999.00,9,  -999.0,-999.000
     33KB154_1,  PRS2,     2, 15,      9,      3,2,20031222,0536, 22.7492,-158.0000, 4728,    350,    349.6,  10.5210,  34.1535,2,  34.1532,2,    200.3,1, 10.4792,   -999.0,9,  -999.00,9,  -999.00,9,  -999.00,9,  -999.0,-999.000
     33KB154_1,  PRS2,     2, 15,      8,     29,2,20031222,0536, 22.7492,-158.0000, 4728,    499,    499.1,   6.8338,  34.0426,2,  34.0427,2,    111.8,1,  6.7874,   -999.0,9,  -999.00,9,  -999.00,9,  -999.00,9,  -999.0,-999.000
     33KB154_1,  PRS2,     2, 15,      7,     28,2,20031222,0536, 22.7492,-158.0000, 4728,    804,    801.0,   4.2864,  34.3350,2,  34.3315,2,     29.3,1,  4.2255,   -999.0,9,  -999.00,9,  -999.00,9,  -999.00,9,  -999.0,-999.000
     33KB154_1,  PRS2,     2, 15,      6,     13,2,20031222,0536, 22.7492,-158.0000, 4728,   1002,   1000.8,   3.8632,  34.4808,2,  34.4809,2,     46.0,1,  3.7886,   -999.0,9,  -999.00,9,  -999.00,9,  -999.00,9,  -999.0,-999.000
     33KB154_1,  PRS2,     2, 15,      5,     38,2,20031222,0536, 22.7492,-158.0000, 4728,   2001,   2001.1,   2.0743,  34.6227,2,  34.6217,2,     90.6,1,  1.9367,   -999.0,9,  -999.00,9,  -999.00,9,  -999.00,9,  -999.0,-999.000
     33KB154_1,  PRS2,     2, 15,      4,     36,2,20031222,0536, 22.7492,-158.0000, 4728,   3001,   3001.6,   1.5362,  34.6721,2,  34.6704,2,    126.4,1,  1.3185,   -999.0,9,  -999.00,9,  -999.00,9,  -999.00,9,  -999.0,-999.000
     33KB154_1,  PRS2,     2, 15,      3,     35,2,20031222,0536, 22.7492,-158.0000, 4728,   4000,   4001.5,   1.4590,  34.6877,2,  34.6851,2,    147.3,1,  1.1411,   -999.0,9,  -999.00,9,  -999.00,9,  -999.00,9,  -999.0,-999.000
     33KB154_1,  PRS2,     2, 15,      2,     34,2,20031222,0536, 22.7492,-158.0000, 4728,   4500,   4500.8,   1.4878,  34.6902,2,  34.6887,2,    151.4,1,  1.1131,   -999.0,9,  -999.00,9,  -999.00,9,  -999.00,9,  -999.0,-999.000
     33KB154_1,  PRS2,     2, 15,      1,     33,2,20031222,0536, 22.7492,-158.0000, 4728,   4806,   4805.6,   1.4998,  34.6921,2,  34.6914,2,    154.5,1,  1.0890,   -999.0,9,  -999.00,9,  -999.00,9,  -999.00,9,  -999.0,-999.000