BOTTLE,20090923WHPSIOMYS
#code : jjward hyd_to_exchange.pl 
#original files copied from HTML directory: 20090923
#original HYD file: 33KB154_1_hy.txt   Wed Sep 23 17:55:16 2009
#original SUM file: ../33KB154_1su.txt   Wed Sep 23 17:55:14 2009
EXPOCODE,SECT_ID,STNNBR,CASTNO,SAMPNO,BTLNBR,BTLNBR_FLAG_W,DATE,TIME,LATITUDE,LONGITUDE,DEPTH,CTDRAW,CTDPRS,CTDTMP,CTDSAL,CTDSAL_FLAG_W,SALNTY,SALNTY_FLAG_W,CTDOXY,CTDOXY_FLAG_W,THETA,OXYGEN,OXYGEN_FLAG_W,SILCAT,SILCAT_FLAG_W,NO2+NO3,NO2+NO3_FLAG_W,PHSPHT,PHSPHT_FLAG_W,REVPRS,REVTMP
,,,,,,,,,,,,,DBAR,ITS-90,PSS-78,,PSS-78,,UMOL/KG,,ITS-90,UMOL/KG,,UMOL/KG,,UMOL/KG,,UMOL/KG,,DBAR,DEG C
     33KB154_1,  PRS2,     1,  1,     24,     31,2,20031219,0356, 21.3415,-158.2702, 1494,     12,      9.8,  25.2402,  35.0893,2,  35.0957,2,    205.6,2, 25.2381,    207.2,2,  -999.00,9,  -999.00,9,  -999.00,9,  -999.0,-999.000
     33KB154_1,  PRS2,     1,  1,     23,     30,3,20031219,0356, 21.3415,-158.2702, 1494,     10,     10.1,  25.2396,  35.0893,2,  35.0894,2,    205.5,2, 25.2374,    206.9,2,  -999.00,9,  -999.00,9,  -999.00,9,  -999.0,-999.000
     33KB154_1,  PRS2,     1,  1,     22,     22,3,20031219,0356, 21.3415,-158.2702, 1494,     24,     23.4,  24.9377,  35.1934,2,  35.1723,3,    206.8,3, 24.9326,    206.3,2,  -999.00,9,  -999.00,9,  -999.00,9,  -999.0,-999.000
     33KB154_1,  PRS2,     1,  1,     21,     21,3,20031219,0356, 21.3415,-158.2702, 1494,     44,     44.2,  24.8716,  35.2755,2,  35.2718,2,    208.1,2, 24.8621,    207.1,2,  -999.00,9,  -999.00,9,  -999.00,9,  -999.0,-999.000
     33KB154_1,  PRS2,     1,  1,     20,     20,3,20031219,0356, 21.3415,-158.2702, 1494,     58,     60.4,  24.0226,  35.2414,2,  35.2089,3,    203.6,3, 24.0099,    204.8,2,  -999.00,9,  -999.00,9,  -999.00,9,  -999.0,-999.000
     33KB154_1,  PRS2,     1,  1,     19,     19,2,20031219,0356, 21.3415,-158.2702, 1494,     74,     74.8,  22.4734,  35.2339,2,  35.2302,2,    207.1,2, 22.4583,    204.2,2,  -999.00,9,  -999.00,9,  -999.00,9,  -999.0,-999.000
     33KB154_1,  PRS2,     1,  1,     18,     18,2,20031219,0356, 21.3415,-158.2702, 1494,    100,     99.4,  22.3285,  35.2516,2,  35.2459,2,    208.7,2, 22.3086,    206.8,2,  -999.00,9,  -999.00,9,  -999.00,9,  -999.0,-999.000
     33KB154_1,  PRS2,     1,  1,     17,     17,3,20031219,0356, 21.3415,-158.2702, 1494,    115,    115.4,  21.0937,  35.2131,2,  35.2229,2,    205.2,2, 21.0715,    206.7,2,  -999.00,9,  -999.00,9,  -999.00,9,  -999.0,-999.000
     33KB154_1,  PRS2,     1,  1,     16,     16,3,20031219,0356, 21.3415,-158.2702, 1494,    127,    124.8,  20.3791,  35.1675,2,  35.1729,2,    203.2,2, 20.3557,    201.9,2,  -999.00,9,  -999.00,9,  -999.00,9,  -999.0,-999.000
     33KB154_1,  PRS2,     1,  1,     15,     23,2,20031219,0356, 21.3415,-158.2702, 1494,    151,    150.3,  18.7573,  34.9883,2,  34.9967,2,    200.0,2, 18.7308,    200.8,2,  -999.00,9,  -999.00,9,  -999.00,9,  -999.0,-999.000
     33KB154_1,  PRS2,     1,  1,     14,    101,2,20031219,0356, 21.3415,-158.2702, 1494,    175,    174.1,  17.3649,  34.8017,2,  34.8074,2,    196.7,2, 17.3358,    197.7,2,  -999.00,9,  -999.00,9,  -999.00,9,  -999.0,-999.000
     33KB154_1,  PRS2,     1,  1,     13,     42,2,20031219,0356, 21.3415,-158.2702, 1494,    203,    202.1,  15.2362,  34.5425,2,  34.5433,2,    195.4,2, 15.2054,    196.7,2,  -999.00,9,  -999.00,9,  -999.00,9,  -999.0,-999.000
     33KB154_1,  PRS2,     1,  1,     12,     12,2,20031219,0356, 21.3415,-158.2702, 1494,    225,    222.8,  14.4638,  34.4622,2,  34.4628,2,    197.4,2, 14.4310,    197.2,2,  -999.00,9,  -999.00,9,  -999.00,9,  -999.0,-999.000
     33KB154_1,  PRS2,     1,  1,     11,     39,2,20031219,0356, 21.3415,-158.2702, 1494,    249,    249.7,  13.2390,  34.3429,2,  34.3615,2,    195.0,2, 13.2043,    195.3,2,  -999.00,9,  -999.00,9,  -999.00,9,  -999.0,-999.000
     33KB154_1,  PRS2,     1,  1,     10,     32,2,20031219,0356, 21.3415,-158.2702, 1494,    299,    301.2,  11.5520,  34.2403,2,  34.2874,4,    184.9,3, 11.5138,    192.0,3,  -999.00,9,  -999.00,9,  -999.00,9,  -999.0,-999.000
     33KB154_1,  PRS2,     1,  1,      9,      3,2,20031219,0356, 21.3415,-158.2702, 1494,    349,    349.0,  10.0758,  34.1718,2,  34.1705,2,    167.6,2, 10.0353,    165.2,2,  -999.00,9,  -999.00,9,  -999.00,9,  -999.0,-999.000
     33KB154_1,  PRS2,     1,  1,      8,     29,2,20031219,0356, 21.3415,-158.2702, 1494,    399,    400.6,   8.7356,  34.1271,2,  34.1260,2,    145.4,2,  8.6929,    146.0,2,  -999.00,9,  -999.00,9,  -999.00,9,  -999.0,-999.000
     33KB154_1,  PRS2,     1,  1,      7,     28,2,20031219,0356, 21.3415,-158.2702, 1494,    500,    500.5,   6.6606,  34.1586,2,  34.1579,2,     78.5,2,  6.6146,     75.2,2,  -999.00,9,  -999.00,9,  -999.00,9,  -999.0,-999.000
     33KB154_1,  PRS2,     1,  1,      6,     13,2,20031219,0356, 21.3415,-158.2702, 1494,    600,    598.6,   5.5358,  34.2583,2,  34.2556,2,     45.0,2,  5.4854,     43.5,2,  -999.00,9,  -999.00,9,  -999.00,9,  -999.0,-999.000
     33KB154_1,  PRS2,     1,  1,      5,     38,2,20031219,0356, 21.3415,-158.2702, 1494,    700,    698.6,   5.1226,  34.3513,2,  34.3499,2,     35.4,2,  5.0655,     35.3,2,  -999.00,9,  -999.00,9,  -999.00,9,  -999.0,-999.000
     33KB154_1,  PRS2,     1,  1,      4,     36,2,20031219,0356, 21.3415,-158.2702, 1494,    752,    751.9,   4.8907,  34.4038,2,  34.4041,2,     36.6,2,  4.8301,     36.9,2,  -999.00,9,  -999.00,9,  -999.00,9,  -999.0,-999.000
     33KB154_1,  PRS2,     1,  1,      3,     35,2,20031219,0356, 21.3415,-158.2702, 1494,    799,    801.9,   4.6997,  34.4320,2,  34.5404,4,     38.8,3,  4.6360,     90.9,4,  -999.00,9,  -999.00,9,  -999.00,9,  -999.0,-999.000
     33KB154_1,  PRS2,     1,  1,      2,     34,2,20031219,0356, 21.3415,-158.2702, 1494,    898,    897.3,   4.4245,  34.4689,2,  34.4685,2,     43.2,2,  4.3544,     44.1,2,  -999.00,9,  -999.00,9,  -999.00,9,  -999.0,-999.000
     33KB154_1,  PRS2,     1,  1,      1,     33,2,20031219,0356, 21.3415,-158.2702, 1494,   1021,   1020.7,   4.1781,  34.4985,2,  34.4989,2,     45.8,2,  4.0993,     46.2,2,  -999.00,9,  -999.00,9,  -999.00,9,  -999.0,-999.000
     33KB154_1,  PRS2,     2,  1,     24,     31,3,20031219,1428, 22.7510,-157.9993, 4747,      6,      4.7,  24.5704,  35.2354,2,  35.2410,2,    209.5,2, 24.5694,    210.0,2,     0.99,2,     0.06,2,     0.01,2,  -999.0,-999.000
     33KB154_1,  PRS2,     2,  1,     23,     30,2,20031219,1428, 22.7510,-157.9993, 4747,    423,    422.5,   8.0304,  34.0595,2,  34.0603,2,    160.8,2,  7.9876,    160.5,2,    35.44,2,    24.33,2,     1.73,2,  -999.0,-999.000
     33KB154_1,  PRS2,     2,  1,     22,     22,2,20031219,1428, 22.7510,-157.9993, 4747,    747,    748.2,   4.7822,  34.2705,2,  34.2705,2,     33.0,2,  4.7228,     32.3,2,    86.19,4,    40.93,2,     3.00,2,  -999.0,-999.000
     33KB154_1,  PRS2,     2,  1,     21,     21,2,20031219,1428, 22.7510,-157.9993, 4747,   1000,    999.6,   4.0961,  34.4916,2,  34.4905,2,     46.9,2,  4.0198,     46.8,2,    70.71,4,    41.35,2,     2.99,2,  -999.0,-999.000
     33KB154_1,  PRS2,     2,  1,     20,     20,2,20031219,1428, 22.7510,-157.9993, 4747,   1198,   1199.0,   3.4624,  34.5244,2,  34.5241,2,     55.1,2,  3.3748,     54.5,2,   121.41,2,    41.48,2,     2.97,2,  -999.0,-999.000
     33KB154_1,  PRS2,     2,  1,     19,     19,2,20031219,1428, 22.7510,-157.9993, 4747,   1399,   1399.0,   3.0343,  34.5611,2,  34.5608,2,     63.5,2,  2.9345,     63.0,2,   129.16,2,    41.01,2,     2.84,3,  -999.0,-999.000
     33KB154_1,  PRS2,     2,  1,     18,     18,2,20031219,1428, 22.7510,-157.9993, 4747,   1599,   1600.0,   2.6226,  34.5885,2,  34.5881,2,     73.0,2,  2.5109,     73.6,2,   140.28,2,    40.55,2,     2.77,3,  -999.0,-999.000
     33KB154_1,  PRS2,     2,  1,     17,     17,2,20031219,1428, 22.7510,-157.9993, 4747,   1802,   1800.6,   2.3008,  34.6092,2,  34.6099,2,     83.4,2,  2.1767,     83.6,2,   147.52,2,    39.95,2,     2.83,2,  -999.0,-999.000
     33KB154_1,  PRS2,     2,  1,     16,     16,2,20031219,1428, 22.7510,-157.9993, 4747,   1996,   1998.5,   2.0698,  34.6259,2,  34.6256,2,     92.4,2,  1.9324,     92.0,2,   150.86,2,    39.43,2,     2.78,2,  -999.0,-999.000
     33KB154_1,  PRS2,     2,  1,     15,     23,2,20031219,1428, 22.7510,-157.9993, 4747,   2199,   2201.1,   1.9034,  34.6372,2,  34.6356,2,     98.2,2,  1.7514,     99.3,2,   153.46,2,    38.78,2,     2.78,2,  -999.0,-999.000
     33KB154_1,  PRS2,     2,  1,     14,    101,2,20031219,1428, 22.7510,-157.9993, 4747,   2397,   2398.5,   1.7597,  34.6474,2,  34.6470,2,    105.6,2,  1.5929,    105.7,2,   157.78,2,    38.55,2,     2.71,2,  -999.0,-999.000
     33KB154_1,  PRS2,     2,  1,     13,     42,2,20031219,1428, 22.7510,-157.9993, 4747,   2602,   2601.0,   1.6762,  34.6556,2,  34.6561,2,    111.1,2,  1.4929,    110.5,2,   159.96,2,    38.30,2,     2.68,2,  -999.0,-999.000
     33KB154_1,  PRS2,     2,  1,     12,     12,2,20031219,1428, 22.7510,-157.9993, 4747,   2803,   2801.5,   1.6112,  34.6638,2,  34.6635,2,    118.3,2,  1.4108,    118.4,2,   159.28,2,    37.84,2,     2.64,2,  -999.0,-999.000
     33KB154_1,  PRS2,     2,  1,     11,     39,2,20031219,1428, 22.7510,-157.9993, 4747,   2999,   2999.9,   1.5621,  34.6695,2,  34.6708,2,    124.3,2,  1.3440,    124.4,2,   158.79,2,    37.35,2,     2.58,2,  -999.0,-999.000
     33KB154_1,  PRS2,     2,  1,     10,     32,2,20031219,1428, 22.7510,-157.9993, 4747,   3200,   3200.9,   1.5141,  34.6750,2,  34.6749,2,    130.8,2,  1.2776,    130.6,2,   157.44,2,    36.99,2,     2.56,2,  -999.0,-999.000
     33KB154_1,  PRS2,     2,  1,      9,      3,2,20031219,1428, 22.7510,-157.9993, 4747,   3404,   3401.7,   1.4796,  34.6801,2,  34.6793,2,    136.9,2,  1.2239,    136.9,2,   156.03,2,    36.68,2,     2.54,2,  -999.0,-999.000
     33KB154_1,  PRS2,     2,  1,      8,     29,2,20031219,1428, 22.7510,-157.9993, 4747,   3600,   3600.6,   1.4635,  34.6833,2,  34.6832,2,    141.4,2,  1.1880,    141.3,2,   154.81,2,    36.24,2,     2.53,2,  -999.0,-999.000
     33KB154_1,  PRS2,     2,  1,      7,     28,2,20031219,1428, 22.7510,-157.9993, 4747,   3800,   3800.2,   1.4555,  34.6857,2,  34.6846,2,    145.3,2,  1.1593,    145.1,2,   153.80,2,    35.90,2,     2.46,3,  -999.0,-999.000
     33KB154_1,  PRS2,     2,  1,      6,     13,2,20031219,1428, 22.7510,-157.9993, 4747,   4001,   3999.9,   1.4592,  34.6873,2,  34.6885,2,    147.7,2,  1.1414,    147.8,2,   152.54,2,    35.74,2,     2.50,2,  -999.0,-999.000
     33KB154_1,  PRS2,     2,  1,      5,     38,2,20031219,1428, 22.7510,-157.9993, 4747,   4197,   4199.6,   1.4680,  34.6886,2,  34.6889,2,    149.8,2,  1.1281,    149.5,2,   151.73,2,    35.58,2,     2.49,2,  -999.0,-999.000
     33KB154_1,  PRS2,     2,  1,      4,     36,2,20031219,1428, 22.7510,-157.9993, 4747,   4401,   4400.7,   1.4800,  34.6895,2,  34.6905,2,    151.4,2,  1.1170,    151.3,2,   150.88,2,    35.56,2,     2.49,2,  -999.0,-999.000
     33KB154_1,  PRS2,     2,  1,      3,     35,2,20031219,1428, 22.7510,-157.9993, 4747,   4501,   4500.2,   1.4877,  34.6900,2,  34.6899,2,    152.1,2,  1.1131,    151.7,2,   150.00,2,    35.32,2,     2.46,2,  -999.0,-999.000
     33KB154_1,  PRS2,     2,  1,      2,     34,2,20031219,1428, 22.7510,-157.9993, 4747,   4600,   4601.1,   1.4978,  34.6901,2,  34.6912,2,    152.1,2,  1.1111,    152.5,2,   150.31,2,    35.32,2,     2.48,2,  -999.0,-999.000
     33KB154_1,  PRS2,     2,  1,      1,     33,2,20031219,1428, 22.7510,-157.9993, 4747,   4802,   4801.8,   1.5223,  34.6898,2,  34.6908,2,    152.1,2,  1.1112,    152.5,2,   149.93,2,    35.38,2,     2.47,2,  -999.0,-999.000
     33KB154_1,  PRS2,     2,  2,     24,     31,2,20031219,2104, 22.7450,-157.9552, 4731,      7,      4.1,  24.5385,  35.2489,2,  35.2469,2,    209.7,2, 24.5376,    209.1,2,     1.04,2,     0.00,2,     0.01,2,  -999.0,-999.000
     33KB154_1,  PRS2,     2,  2,     23,     30,2,20031219,2104, 22.7450,-157.9552, 4731,     24,     24.5,  24.4525,  35.2614,2,  35.2574,2,    209.8,2, 24.4473,    208.8,2,     1.01,2,     0.02,2,     0.00,2,  -999.0,-999.000
     33KB154_1,  PRS2,     2,  2,     22,     22,2,20031219,2104, 22.7450,-157.9552, 4731,     62,     61.2,  23.9295,  35.3838,2,  35.3813,2,    211.2,2, 23.9166,    209.2,2,     1.04,2,     0.01,2,     0.00,2,  -999.0,-999.000
     33KB154_1,  PRS2,     2,  2,     21,     21,2,20031219,2104, 22.7450,-157.9552, 4731,     98,     95.2,  22.4657,  35.3176,2,  35.3163,2,    210.7,2, 22.4466,    209.7,2,     1.40,2,     0.22,2,     0.01,2,  -999.0,-999.000
     33KB154_1,  PRS2,     2,  2,     20,     20,2,20031219,2104, 22.7450,-157.9552, 4731,    155,    154.3,  20.1667,  35.1946,2,  35.1957,2,    199.9,2, 20.1380,    199.9,2,     1.93,2,     1.38,2,     0.04,3,  -999.0,-999.000
     33KB154_1,  PRS2,     2,  2,     19,     19,2,20031219,2104, 22.7450,-157.9552, 4731,    189,    186.2,  18.6206,  34.9761,2,  34.9764,2,    201.4,2, 18.5879,    201.3,2,     2.70,2,     2.29,2,     0.05,3,  -999.0,-999.000
     33KB154_1,  PRS2,     2,  2,     18,     18,2,20031219,2104, 22.7450,-157.9552, 4731,    222,    220.7,  15.8054,  34.5683,2,  34.6193,4,    195.5,3, 15.7709,    196.3,2,     3.90,3,     5.24,2,     0.47,2,  -999.0,-999.000
     33KB154_1,  PRS2,     2,  2,     17,     17,2,20031219,2104, 22.7450,-157.9552, 4731,    266,    265.3,  13.9031,  34.3462,2,  34.3441,2,    197.2,2, 13.8651,    197.1,2,     6.60,2,     8.03,2,     0.67,2,  -999.0,-999.000
     33KB154_1,  PRS2,     2,  2,     16,     16,2,20031219,2104, 22.7450,-157.9552, 4731,    313,    312.3,  11.6759,  34.1881,2,  34.1881,2,    201.9,2, 11.6360,    201.2,2,    11.02,2,    12.18,2,     0.93,2,  -999.0,-999.000
     33KB154_1,  PRS2,     2,  2,     15,     23,2,20031219,2104, 22.7450,-157.9552, 4731,    347,    345.0,  10.4097,  34.1473,2,  34.1497,2,    198.4,2, 10.3688,    195.7,2,    16.43,2,    15.56,2,     1.14,2,  -999.0,-999.000
     33KB154_1,  PRS2,     2,  2,     14,    101,2,20031219,2104, 22.7450,-157.9552, 4731,    398,    396.6,   8.9774,  34.0970,2,  34.0966,2,    177.4,2,  8.9344,    176.2,2,    26.26,2,    20.75,2,     1.51,2,  -999.0,-999.000
     33KB154_1,  PRS2,     2,  2,     13,     42,2,20031219,2104, 22.7450,-157.9552, 4731,    426,    425.8,   8.3135,  34.0739,2,  34.0744,2,    168.0,2,  8.2694,    166.4,2,    31.66,2,    23.07,2,     1.63,2,  -999.0,-999.000
     33KB154_1,  PRS2,     2,  2,     12,     12,2,20031219,2104, 22.7450,-157.9552, 4731,    462,    461.8,   7.4638,  34.0340,2,  34.0356,2,    143.9,2,  7.4188,    144.9,2,    39.52,2,    26.45,2,     1.92,2,  -999.0,-999.000
     33KB154_1,  PRS2,     2,  2,     11,     39,2,20031219,2104, 22.7450,-157.9552, 4731,    500,    499.2,   6.8573,  34.0638,2,  34.0617,2,     98.9,2,  6.8108,    104.6,2,    49.72,2,    31.04,2,     2.24,2,  -999.0,-999.000
     33KB154_1,  PRS2,     2,  2,     10,     32,2,20031219,2104, 22.7450,-157.9552, 4731,    546,    548.2,   6.1611,  34.1101,2,  34.1089,2,     70.9,2,  6.1127,     71.3,2,    60.14,2,    35.18,2,     2.60,2,  -999.0,-999.000
     33KB154_1,  PRS2,     2,  2,      9,      3,2,20031219,2104, 22.7450,-157.9552, 4731,    617,    616.5,   5.5414,  34.1804,2,  34.1779,2,     49.2,2,  5.4896,     49.4,2,    60.37,4,    38.01,2,     2.77,2,  -999.0,-999.000
     33KB154_1,  PRS2,     2,  2,      8,     29,2,20031219,2104, 22.7450,-157.9552, 4731,    658,    656.2,   5.2026,  34.2248,2,  34.2238,2,     39.2,2,  5.1488,     38.4,2,    66.50,4,    39.63,2,     2.89,2,  -999.0,-999.000
     33KB154_1,  PRS2,     2,  2,      7,     28,2,20031219,2104, 22.7450,-157.9552, 4731,    696,    696.2,   4.9371,  34.2560,2,  34.2540,2,     34.3,2,  4.8812,     33.5,2,    87.60,2,    40.51,2,     3.00,2,  -999.0,-999.000
     33KB154_1,  PRS2,     2,  2,      6,     13,2,20031219,2104, 22.7450,-157.9552, 4731,    740,    740.9,   4.6797,  34.3001,2,  34.2989,2,     32.0,2,  4.6214,     31.5,2,    94.21,2,    41.17,2,     3.03,2,  -999.0,-999.000
     33KB154_1,  PRS2,     2,  2,      5,     38,2,20031219,2104, 22.7450,-157.9552, 4731,    783,    782.7,   4.7062,  34.3745,2,  34.3753,2,     32.6,2,  4.6442,     32.0,2,    90.75,2,    41.37,2,     3.03,2,  -999.0,-999.000
     33KB154_1,  PRS2,     2,  2,      4,     36,2,20031219,2104, 22.7450,-157.9552, 4731,    826,    824.9,   4.5281,  34.4030,2,  34.4004,2,     33.8,2,  4.4635,     34.0,2,    81.65,4,    41.65,2,     3.02,2,  -999.0,-999.000
     33KB154_1,  PRS2,     2,  2,      3,     35,2,20031219,2104, 22.7450,-157.9552, 4731,    892,    889.9,   4.2491,  34.4484,2,  34.4481,2,     38.6,2,  4.1808,     40.1,2,    57.58,4,    41.63,2,     2.99,2,  -999.0,-999.000
     33KB154_1,  PRS2,     2,  2,      2,     34,2,20031219,2104, 22.7450,-157.9552, 4731,    954,    952.9,   4.0722,  34.4788,2,  34.4785,2,     44.3,2,  4.0000,     43.7,2,   107.14,2,    41.53,2,     3.03,2,  -999.0,-999.000
     33KB154_1,  PRS2,     2,  2,      1,     33,2,20031219,2104, 22.7450,-157.9552, 4731,   1022,   1021.5,   3.8641,  34.4963,2,  34.4954,2,     48.0,2,  3.7877,     48.2,2,   109.92,2,    41.51,2,     3.01,2,  -999.0,-999.000