BOTTLE,20090923WHPSIOMYS
EXPOCODE,SECT_ID,STNNBR,CASTNO,SAMPNO,BTLNBR,BTLNBR_FLAG_W,DATE,TIME,LATITUDE,LONGITUDE,DEPTH,CTDRAW,CTDPRS,CTDTMP,CTDSAL,CTDSAL_FLAG_W,SALNTY,SALNTY_FLAG_W,CTDOXY,CTDOXY_FLAG_W,THETA,OXYGEN,OXYGEN_FLAG_W,SILCAT,SILCAT_FLAG_W,NO2+NO3,NO2+NO3_FLAG_W,PHSPHT,PHSPHT_FLAG_W,REVPRS,REVTMP
,,,,,,,,,,,,,DBAR,ITS-90,PSS-78,,PSS-78,,UMOL/KG,,ITS-90,UMOL/KG,,UMOL/KG,,UMOL/KG,,UMOL/KG,,DBAR,DEG C
     33KB154_1,  PRS2,     2,  8,      3,     35,2,20031220,1454, 22.7502,-157.9990, 4728,     11,      9.5,  24.4706,  35.2601,2,  35.2582,2,    209.1,1, 24.4686,   -999.0,9,  -999.00,9,  -999.00,9,  -999.00,9,  -999.0,-999.000
     33KB154_1,  PRS2,     2,  8,      2,     34,2,20031220,1454, 22.7502,-157.9990, 4728,    473,    471.6,   7.0816,  34.0419,2,  34.0439,2,    122.7,1,  7.0370,   -999.0,9,  -999.00,9,  -999.00,9,  -999.00,9,  -999.0,-999.000
     33KB154_1,  PRS2,     2,  8,      1,     33,2,20031220,1454, 22.7502,-157.9990, 4728,   1028,   1027.4,   3.8957,  34.4946,2,  34.5019,3,     47.4,1,  3.8186,   -999.0,9,  -999.00,9,  -999.00,9,  -999.00,9,  -999.0,-999.000
     33KB154_1,  PRS2,     2,  9,     15,     23,2,20031220,1801, 22.7472,-157.9568, 4720,      5,      5.7,  24.3925,  35.2710,2,  35.2674,2,    209.2,1, 24.3913,   -999.0,9,  -999.00,9,  -999.00,9,  -999.00,9,  -999.0,-999.000
     33KB154_1,  PRS2,     2,  9,     14,    101,2,20031220,1801, 22.7472,-157.9568, 4720,      5,      5.8,  24.3852,  35.2724,2,  35.2737,2,    209.2,1, 24.3840,   -999.0,9,  -999.00,9,  -999.00,9,  -999.00,9,  -999.0,-999.000
     33KB154_1,  PRS2,     2,  9,     13,     42,2,20031220,1801, 22.7472,-157.9568, 4720,     25,     25.7,  23.9356,  35.3667,2,  35.3636,2,    211.2,1, 23.9302,   -999.0,9,  -999.00,9,  -999.00,9,  -999.00,9,  -999.0,-999.000
     33KB154_1,  PRS2,     2,  9,     12,     12,2,20031220,1801, 22.7472,-157.9568, 4720,     25,     25.9,  23.9339,  35.3676,2,  35.3634,2,    211.3,1, 23.9285,   -999.0,9,  -999.00,9,  -999.00,9,  -999.00,9,  -999.0,-999.000
     33KB154_1,  PRS2,     2,  9,     11,     39,2,20031220,1801, 22.7472,-157.9568, 4720,     46,     44.5,  23.9081,  35.3786,2,  35.3774,2,    211.1,1, 23.8988,   -999.0,9,  -999.00,9,  -999.00,9,  -999.00,9,  -999.0,-999.000
     33KB154_1,  PRS2,     2,  9,     10,     32,2,20031220,1801, 22.7472,-157.9568, 4720,     45,     44.6,  23.9080,  35.3787,2,  35.3766,2,    211.1,1, 23.8987,   -999.0,9,  -999.00,9,  -999.00,9,  -999.00,9,  -999.0,-999.000
     33KB154_1,  PRS2,     2,  9,      8,     29,2,20031220,1801, 22.7472,-157.9568, 4720,     77,     75.3,  23.8491,  35.3858,2,  35.3851,2,    211.1,1, 23.8332,   -999.0,9,  -999.00,9,  -999.00,9,  -999.00,9,  -999.0,-999.000
     33KB154_1,  PRS2,     2,  9,      9,      3,2,20031220,1801, 22.7472,-157.9568, 4720,     76,     75.6,  23.8473,  35.3848,2,  35.3841,2,    211.1,1, 23.8314,   -999.0,9,  -999.00,9,  -999.00,9,  -999.00,9,  -999.0,-999.000
     33KB154_1,  PRS2,     2,  9,      6,     13,2,20031220,1801, 22.7472,-157.9568, 4720,    100,    101.0,  21.8218,  35.2927,2,  35.2917,2,    206.5,1, 21.8019,   -999.0,9,  -999.00,9,  -999.00,9,  -999.00,9,  -999.0,-999.000
     33KB154_1,  PRS2,     2,  9,      7,     28,2,20031220,1801, 22.7472,-157.9568, 4720,    101,    101.3,  21.8160,  35.2930,2,  35.2915,2,    206.6,1, 21.7960,   -999.0,9,  -999.00,9,  -999.00,9,  -999.00,9,  -999.0,-999.000
     33KB154_1,  PRS2,     2,  9,      5,     38,2,20031220,1801, 22.7472,-157.9568, 4720,    129,    127.4,  20.8865,  35.2588,2,-999.0000,5,    202.6,1, 20.8622,   -999.0,9,  -999.00,9,  -999.00,9,  -999.00,9,  -999.0,-999.000
     33KB154_1,  PRS2,     2,  9,      4,     36,3,20031220,1801, 22.7472,-157.9568, 4720,    150,    150.7,  19.7896,  35.1486,2,  35.1610,2,    198.6,1, 19.7619,   -999.0,9,  -999.00,9,  -999.00,9,  -999.00,9,  -999.0,-999.000
     33KB154_1,  PRS2,     2,  9,      3,     35,2,20031220,1801, 22.7472,-157.9568, 4720,    182,    181.9,  17.6085,  34.8223,2,  34.8646,3,    199.4,1, 17.5778,   -999.0,9,  -999.00,9,  -999.00,9,  -999.00,9,  -999.0,-999.000
     33KB154_1,  PRS2,     2,  9,      2,     34,2,20031220,1801, 22.7472,-157.9568, 4720,    752,    752.1,   4.6354,  34.3006,2,  34.3005,2,     31.4,1,  4.5764,   -999.0,9,  -999.00,9,  -999.00,9,  -999.00,9,  -999.0,-999.000
     33KB154_1,  PRS2,     2,  9,      1,     33,2,20031220,1801, 22.7472,-157.9568, 4720,   1020,   1020.8,   3.9288,  34.4957,2,  34.4960,2,     47.0,1,  3.8519,   -999.0,9,  -999.00,9,  -999.00,9,  -999.00,9,  -999.0,-999.000
     33KB154_1,  PRS2,     2, 10,     19,     19,2,20031220,2102, 22.7348,-157.9172, 4728,     10,      9.3,  24.3014,  35.2774,2,  35.2765,2,    209.9,1, 24.2995,   -999.0,9,  -999.00,9,  -999.00,9,  -999.00,9,  -999.0,-999.000
     33KB154_1,  PRS2,     2, 10,     18,     18,3,20031220,2102, 22.7348,-157.9172, 4728,     10,      9.3,  24.2990,  35.2778,2,  35.2759,2,    209.9,1, 24.2970,   -999.0,9,  -999.00,9,  -999.00,9,  -999.00,9,  -999.0,-999.000
     33KB154_1,  PRS2,     2, 10,     17,     17,3,20031220,2102, 22.7348,-157.9172, 4728,     25,     24.8,  23.9656,  35.3584,2,  35.3557,2,    211.5,1, 23.9604,   -999.0,9,  -999.00,9,  -999.00,9,  -999.00,9,  -999.0,-999.000
     33KB154_1,  PRS2,     2, 10,     16,     16,2,20031220,2102, 22.7348,-157.9172, 4728,     25,     24.8,  23.9627,  35.3601,2,  35.3557,2,    211.5,1, 23.9574,   -999.0,9,  -999.00,9,  -999.00,9,  -999.00,9,  -999.0,-999.000
     33KB154_1,  PRS2,     2, 10,     14,    101,2,20031220,2102, 22.7348,-157.9172, 4728,     47,     45.3,  23.9367,  35.3803,2,  35.3780,2,    211.4,1, 23.9272,   -999.0,9,  -999.00,9,  -999.00,9,  -999.00,9,  -999.0,-999.000
     33KB154_1,  PRS2,     2, 10,     15,     23,2,20031220,2102, 22.7348,-157.9172, 4728,     45,     45.5,  23.9369,  35.3803,2,  35.3823,2,    211.4,1, 23.9274,   -999.0,9,  -999.00,9,  -999.00,9,  -999.00,9,  -999.0,-999.000
     33KB154_1,  PRS2,     2, 10,     13,     42,3,20031220,2102, 22.7348,-157.9172, 4728,     58,     59.3,  23.9113,  35.3807,2,  35.3788,2,    211.8,1, 23.8988,   -999.0,9,  -999.00,9,  -999.00,9,  -999.00,9,  -999.0,-999.000
     33KB154_1,  PRS2,     2, 10,     12,     12,3,20031220,2102, 22.7348,-157.9172, 4728,     75,     74.2,  23.7691,  35.3783,2,  35.3778,2,    211.5,1, 23.7536,   -999.0,9,  -999.00,9,  -999.00,9,  -999.00,9,  -999.0,-999.000
     33KB154_1,  PRS2,     2, 10,     11,     39,2,20031220,2102, 22.7348,-157.9172, 4728,     74,     74.2,  23.7338,  35.3776,2,  35.3778,2,    211.5,1, 23.7183,   -999.0,9,  -999.00,9,  -999.00,9,  -999.00,9,  -999.0,-999.000
     33KB154_1,  PRS2,     2, 10,     10,     32,2,20031220,2102, 22.7348,-157.9172, 4728,     85,     85.0,  23.0548,  35.3627,2,  35.3573,2,    211.5,1, 23.0374,   -999.0,9,  -999.00,9,  -999.00,9,  -999.00,9,  -999.0,-999.000
     33KB154_1,  PRS2,     2, 10,      9,      3,2,20031220,2102, 22.7348,-157.9172, 4728,    102,     99.0,  21.7043,  35.2976,2,  35.2956,2,    206.3,1, 21.6848,   -999.0,9,  -999.00,9,  -999.00,9,  -999.00,9,  -999.0,-999.000
     33KB154_1,  PRS2,     2, 10,      8,     29,2,20031220,2102, 22.7348,-157.9172, 4728,    102,     99.8,  21.6908,  35.2975,2,  35.2952,2,    206.1,1, 21.6713,   -999.0,9,  -999.00,9,  -999.00,9,  -999.00,9,  -999.0,-999.000
     33KB154_1,  PRS2,     2, 10,      7,     28,2,20031220,2102, 22.7348,-157.9172, 4728,    117,    115.6,  21.1654,  35.2842,2,  35.2919,2,    203.8,1, 21.1431,   -999.0,9,  -999.00,9,  -999.00,9,  -999.00,9,  -999.0,-999.000
     33KB154_1,  PRS2,     2, 10,      6,     13,3,20031220,2102, 22.7348,-157.9172, 4728,    127,    124.8,  20.8529,  35.2667,2,  35.2690,2,    202.7,1, 20.8291,   -999.0,9,  -999.00,9,  -999.00,9,  -999.00,9,  -999.0,-999.000
     33KB154_1,  PRS2,     2, 10,      5,     38,2,20031220,2102, 22.7348,-157.9172, 4728,    153,    152.6,  19.5101,  35.1070,2,  35.1185,2,    198.0,1, 19.4824,   -999.0,9,  -999.00,9,  -999.00,9,  -999.00,9,  -999.0,-999.000
     33KB154_1,  PRS2,     2, 10,      4,     36,2,20031220,2102, 22.7348,-157.9172, 4728,    179,    178.8,  17.9513,  34.8727,2,  34.8882,2,    202.8,1, 17.9207,   -999.0,9,  -999.00,9,  -999.00,9,  -999.00,9,  -999.0,-999.000
     33KB154_1,  PRS2,     2, 10,      3,     35,2,20031220,2102, 22.7348,-157.9172, 4728,    203,    202.4,  16.9630,  34.7306,2,  34.7410,2,    194.2,1, 16.9297,   -999.0,9,  -999.00,9,  -999.00,9,  -999.00,9,  -999.0,-999.000
     33KB154_1,  PRS2,     2, 10,      2,     34,2,20031220,2102, 22.7348,-157.9172, 4728,    478,    477.7,   6.9654,  34.0332,2,  34.0441,2,    122.3,1,  6.9206,   -999.0,9,  -999.00,9,  -999.00,9,  -999.00,9,  -999.0,-999.000
     33KB154_1,  PRS2,     2, 10,      1,     33,2,20031220,2102, 22.7348,-157.9172, 4728,   1024,   1022.3,   3.8848,  34.4930,2,  34.4928,2,     47.6,1,  3.8082,   -999.0,9,  -999.00,9,  -999.00,9,  -999.00,9,  -999.0,-999.000
     33KB154_1,  PRS2,     2, 11,     15,     23,2,20031221,0108, 22.7200,-157.9282, 4728,      9,      8.0,  24.1141,  35.3463,2,  35.3459,2,    210.9,1, 24.1125,   -999.0,9,  -999.00,9,  -999.00,9,  -999.00,9,  -999.0,-999.000
     33KB154_1,  PRS2,     2, 11,     16,     16,3,20031221,0108, 22.7200,-157.9282, 4728,      9,      8.2,  24.0805,  35.3517,2,  35.3559,2,    211.5,1, 24.0788,   -999.0,9,  -999.00,9,  -999.00,9,  -999.00,9,  -999.0,-999.000
     33KB154_1,  PRS2,     2, 11,     14,    101,2,20031221,0108, 22.7200,-157.9282, 4728,     23,     24.5,  23.8937,  35.3750,2,  35.3744,2,    211.8,1, 23.8885,   -999.0,9,  -999.00,9,  -999.00,9,  -999.00,9,  -999.0,-999.000
     33KB154_1,  PRS2,     2, 11,     13,     42,3,20031221,0108, 22.7200,-157.9282, 4728,     23,     24.9,  23.8959,  35.3748,2,  35.3715,2,    211.8,1, 23.8906,   -999.0,9,  -999.00,9,  -999.00,9,  -999.00,9,  -999.0,-999.000
     33KB154_1,  PRS2,     2, 11,     12,     12,2,20031221,0108, 22.7200,-157.9282, 4728,     43,     43.4,  23.8704,  35.3796,2,  35.3806,2,    211.6,1, 23.8613,   -999.0,9,  -999.00,9,  -999.00,9,  -999.00,9,  -999.0,-999.000
     33KB154_1,  PRS2,     2, 11,     11,     39,2,20031221,0108, 22.7200,-157.9282, 4728,     44,     43.7,  23.8704,  35.3801,2,  35.3825,2,    211.5,1, 23.8612,   -999.0,9,  -999.00,9,  -999.00,9,  -999.00,9,  -999.0,-999.000
     33KB154_1,  PRS2,     2, 11,     10,     32,2,20031221,0108, 22.7200,-157.9282, 4728,     75,     74.1,  23.8806,  35.3875,2,  35.3878,2,    211.6,1, 23.8651,   -999.0,9,  -999.00,9,  -999.00,9,  -999.00,9,  -999.0,-999.000
     33KB154_1,  PRS2,     2, 11,      9,      3,2,20031221,0108, 22.7200,-157.9282, 4728,     74,     74.2,  23.8807,  35.3875,2,  35.3857,2,    211.5,1, 23.8651,   -999.0,9,  -999.00,9,  -999.00,9,  -999.00,9,  -999.0,-999.000
     33KB154_1,  PRS2,     2, 11,      8,     29,2,20031221,0108, 22.7200,-157.9282, 4728,    100,     99.2,  22.8260,  35.3347,2,  35.3399,2,    211.8,1, 22.8059,   -999.0,9,  -999.00,9,  -999.00,9,  -999.00,9,  -999.0,-999.000
     33KB154_1,  PRS2,     2, 11,      7,     28,3,20031221,0108, 22.7200,-157.9282, 4728,    102,     99.2,  22.8482,  35.3331,2,  35.3372,2,    211.3,1, 22.8280,   -999.0,9,  -999.00,9,  -999.00,9,  -999.00,9,  -999.0,-999.000
     33KB154_1,  PRS2,     2, 11,      6,     13,2,20031221,0108, 22.7200,-157.9282, 4728,    123,    122.9,  21.3912,  35.2921,2,  35.2917,2,    204.7,1, 21.3674,   -999.0,9,  -999.00,9,  -999.00,9,  -999.00,9,  -999.0,-999.000
     33KB154_1,  PRS2,     2, 11,      5,     38,2,20031221,0108, 22.7200,-157.9282, 4728,    149,    149.1,  20.2487,  35.2044,2,  35.2071,2,    200.3,1, 20.2209,   -999.0,9,  -999.00,9,  -999.00,9,  -999.00,9,  -999.0,-999.000
     33KB154_1,  PRS2,     2, 11,      4,     36,2,20031221,0108, 22.7200,-157.9282, 4728,    249,    248.8,  15.9582,  34.5915,2,  34.5995,2,    197.1,1, 15.9190,   -999.0,9,  -999.00,9,  -999.00,9,  -999.00,9,  -999.0,-999.000
     33KB154_1,  PRS2,     2, 11,      3,     35,2,20031221,0108, 22.7200,-157.9282, 4728,    351,    349.9,  10.3198,  34.1457,2,  34.1932,4,    195.3,1, 10.2785,   -999.0,9,  -999.00,9,  -999.00,9,  -999.00,9,  -999.0,-999.000
     33KB154_1,  PRS2,     2, 11,      2,     34,2,20031221,0108, 22.7200,-157.9282, 4728,    498,    497.8,   6.8224,  34.0558,2,  34.0537,2,    107.4,1,  6.7762,   -999.0,9,  -999.00,9,  -999.00,9,  -999.00,9,  -999.0,-999.000
     33KB154_1,  PRS2,     2, 11,      1,     33,2,20031221,0108, 22.7200,-157.9282, 4728,   1020,   1019.4,   3.8224,  34.5030,2,  34.5023,2,     49.4,1,  3.7465,   -999.0,9,  -999.00,9,  -999.00,9,  -999.00,9,  -999.0,-999.000
     33KB154_1,  PRS2,     2, 12,      8,     29,2,20031221,0316, 22.7233,-157.9222, 4728,      7,      6.6,  24.1048,  35.3483,2,  35.3500,2,    211.4,1, 24.1034,   -999.0,9,  -999.00,9,  -999.00,9,  -999.00,9,  -999.0,-999.000
     33KB154_1,  PRS2,     2, 12,      7,     28,2,20031221,0316, 22.7233,-157.9222, 4728,     23,     23.2,  23.9044,  35.3729,2,  35.3699,2,    211.5,1, 23.8995,   -999.0,9,  -999.00,9,  -999.00,9,  -999.00,9,  -999.0,-999.000
     33KB154_1,  PRS2,     2, 12,      6,     13,2,20031221,0316, 22.7233,-157.9222, 4728,     44,     44.8,  23.8866,  35.3831,2,  35.3804,2,    211.9,1, 23.8772,   -999.0,9,  -999.00,9,  -999.00,9,  -999.00,9,  -999.0,-999.000
     33KB154_1,  PRS2,     2, 12,      5,     38,2,20031221,0316, 22.7233,-157.9222, 4728,     73,     74.7,  23.8708,  35.3875,2,  35.3833,2,    211.5,1, 23.8551,   -999.0,9,  -999.00,9,  -999.00,9,  -999.00,9,  -999.0,-999.000
     33KB154_1,  PRS2,     2, 12,      4,     36,2,20031221,0316, 22.7233,-157.9222, 4728,    100,     99.8,  21.9568,  35.3019,2,  35.3011,2,    207.0,1, 21.9371,   -999.0,9,  -999.00,9,  -999.00,9,  -999.00,9,  -999.0,-999.000
     33KB154_1,  PRS2,     2, 12,      3,     35,2,20031221,0316, 22.7233,-157.9222, 4728,    472,    472.2,   7.6631,  34.0431,2,  34.0425,2,    155.0,1,  7.6163,   -999.0,9,  -999.00,9,  -999.00,9,  -999.00,9,  -999.0,-999.000
     33KB154_1,  PRS2,     2, 12,      2,     34,2,20031221,0316, 22.7233,-157.9222, 4728,    747,    746.6,   4.7700,  34.2903,2,  34.2895,2,     31.7,1,  4.7108,   -999.0,9,  -999.00,9,  -999.00,9,  -999.00,9,  -999.0,-999.000
     33KB154_1,  PRS2,     2, 12,      1,     33,2,20031221,0316, 22.7233,-157.9222, 4728,   1030,   1028.4,   3.8591,  34.4943,2,  34.4924,2,     47.6,1,  3.7822,   -999.0,9,  -999.00,9,  -999.00,9,  -999.00,9,  -999.0,-999.000
     33KB154_1,  PRS2,     2, 13,     21,     21,3,20031221,0610, 22.7457,-157.9783, 4728,      3,      4.0,  23.8903,  35.3736,2,  35.3715,2,    212.3,1, 23.8894,   -999.0,9,  -999.00,9,  -999.00,9,  -999.00,9,  -999.0,-999.000
     33KB154_1,  PRS2,     2, 13,     22,     22,3,20031221,0610, 22.7457,-157.9783, 4728,      5,      4.2,  23.8909,  35.3737,2,  35.3727,2,    212.3,1, 23.8900,   -999.0,9,  -999.00,9,  -999.00,9,  -999.00,9,  -999.0,-999.000
     33KB154_1,  PRS2,     2, 13,     20,     20,2,20031221,0610, 22.7457,-157.9783, 4728,     26,     25.7,  23.8912,  35.3739,2,  35.3719,2,    212.3,1, 23.8858,   -999.0,9,  -999.00,9,  -999.00,9,  -999.00,9,  -999.0,-999.000
     33KB154_1,  PRS2,     2, 13,     19,     19,2,20031221,0610, 22.7457,-157.9783, 4728,     25,     25.9,  23.8903,  35.3741,2,  35.3727,2,    212.2,1, 23.8848,   -999.0,9,  -999.00,9,  -999.00,9,  -999.00,9,  -999.0,-999.000
     33KB154_1,  PRS2,     2, 13,     18,     18,2,20031221,0610, 22.7457,-157.9783, 4728,     46,     44.8,  23.8631,  35.3820,2,  35.3800,2,    211.1,1, 23.8537,   -999.0,9,  -999.00,9,  -999.00,9,  -999.00,9,  -999.0,-999.000
     33KB154_1,  PRS2,     2, 13,     17,     17,3,20031221,0610, 22.7457,-157.9783, 4728,     46,     44.8,  23.8628,  35.3823,2,-999.0000,5,    211.0,1, 23.8534,   -999.0,9,  -999.00,9,  -999.00,9,  -999.00,9,  -999.0,-999.000
     33KB154_1,  PRS2,     2, 13,     16,     16,3,20031221,0610, 22.7457,-157.9783, 4728,     60,     59.9,  23.8383,  35.3847,2,  35.3835,2,    211.6,1, 23.8257,   -999.0,9,  -999.00,9,  -999.00,9,  -999.00,9,  -999.0,-999.000
     33KB154_1,  PRS2,     2, 13,     15,     23,2,20031221,0610, 22.7457,-157.9783, 4728,     77,     77.0,  22.7955,  35.3180,2,  35.3177,2,    215.7,1, 22.7799,   -999.0,9,  -999.00,9,  -999.00,9,  -999.00,9,  -999.0,-999.000
     33KB154_1,  PRS2,     2, 13,     14,    101,2,20031221,0610, 22.7457,-157.9783, 4728,     77,     77.0,  22.7955,  35.3172,2,  35.3204,2,    216.1,1, 22.7799,   -999.0,9,  -999.00,9,  -999.00,9,  -999.00,9,  -999.0,-999.000
     33KB154_1,  PRS2,     2, 13,     13,     42,2,20031221,0610, 22.7457,-157.9783, 4728,     86,     85.9,  21.8779,  35.2825,2,  35.2848,2,    210.9,1, 21.8610,   -999.0,9,  -999.00,9,  -999.00,9,  -999.00,9,  -999.0,-999.000
     33KB154_1,  PRS2,     2, 13,     12,     12,2,20031221,0610, 22.7457,-157.9783, 4728,    100,     99.2,  21.1061,  35.2468,2,  35.2483,2,    210.8,1, 21.0870,   -999.0,9,  -999.00,9,  -999.00,9,  -999.00,9,  -999.0,-999.000
     33KB154_1,  PRS2,     2, 13,     11,     39,2,20031221,0610, 22.7457,-157.9783, 4728,    100,     99.3,  21.1157,  35.2473,2,  35.2483,2,    209.9,1, 21.0967,   -999.0,9,  -999.00,9,  -999.00,9,  -999.00,9,  -999.0,-999.000
     33KB154_1,  PRS2,     2, 13,     10,     32,2,20031221,0610, 22.7457,-157.9783, 4728,    116,    114.7,  20.3754,  35.2181,2,  35.2201,2,    200.4,1, 20.3539,   -999.0,9,  -999.00,9,  -999.00,9,  -999.00,9,  -999.0,-999.000
     33KB154_1,  PRS2,     2, 13,      9,      3,2,20031221,0610, 22.7457,-157.9783, 4728,    124,    123.5,  20.1524,  35.1948,2,  35.1965,2,    200.6,1, 20.1294,   -999.0,9,  -999.00,9,  -999.00,9,  -999.00,9,  -999.0,-999.000
     33KB154_1,  PRS2,     2, 13,      8,     29,2,20031221,0610, 22.7457,-157.9783, 4728,    124,    123.5,  20.1501,  35.1945,2,  35.1935,2,    200.6,1, 20.1272,   -999.0,9,  -999.00,9,  -999.00,9,  -999.00,9,  -999.0,-999.000
     33KB154_1,  PRS2,     2, 13,      7,     28,2,20031221,0610, 22.7457,-157.9783, 4728,    134,    134.1,  19.6953,  35.1343,2,  35.1362,2,    198.8,1, 19.6708,   -999.0,9,  -999.00,9,  -999.00,9,  -999.00,9,  -999.0,-999.000
     33KB154_1,  PRS2,     2, 13,      5,     38,2,20031221,0610, 22.7457,-157.9783, 4728,    151,    150.2,  18.9502,  35.0227,2,  35.0402,2,    198.4,1, 18.9235,   -999.0,9,  -999.00,9,  -999.00,9,  -999.00,9,  -999.0,-999.000
     33KB154_1,  PRS2,     2, 13,      6,     13,2,20031221,0610, 22.7457,-157.9783, 4728,    150,    150.9,  18.9234,  35.0174,2,  35.0340,2,    198.4,1, 18.8966,   -999.0,9,  -999.00,9,  -999.00,9,  -999.00,9,  -999.0,-999.000
     33KB154_1,  PRS2,     2, 13,      3,     35,2,20031221,0610, 22.7457,-157.9783, 4728,    175,    175.3,  18.2860,  34.9222,2,  34.9290,2,    199.1,1, 18.2556,   -999.0,9,  -999.00,9,  -999.00,9,  -999.00,9,  -999.0,-999.000
     33KB154_1,  PRS2,     2, 13,      4,     36,2,20031221,0610, 22.7457,-157.9783, 4728,    176,    176.2,  18.2358,  34.9159,2,  34.9215,2,    199.0,1, 18.2053,   -999.0,9,  -999.00,9,  -999.00,9,  -999.00,9,  -999.0,-999.000
     33KB154_1,  PRS2,     2, 13,      2,     34,2,20031221,0610, 22.7457,-157.9783, 4728,    505,    505.7,   7.1267,  34.0324,2,  34.0329,2,    127.8,1,  7.0785,   -999.0,9,  -999.00,9,  -999.00,9,  -999.00,9,  -999.0,-999.000
     33KB154_1,  PRS2,     2, 13,      1,     33,2,20031221,0610, 22.7457,-157.9783, 4728,   1015,   1014.1,   3.9320,  34.4980,2,  34.4979,2,     48.2,1,  3.8557,   -999.0,9,  -999.00,9,  -999.00,9,  -999.00,9,  -999.0,-999.000