BOTTLE,20090923WHPSIOMYS
#code : jjward hyd_to_exchange.pl 
#original files copied from HTML directory: 20090923
#original HYD file: 33KB174_1_hy.txt   Wed Sep 23 17:58:19 2009
#original SUM file: ../33KB174_1su.txt   Wed Sep 23 17:58:18 2009
EXPOCODE,SECT_ID,STNNBR,CASTNO,SAMPNO,BTLNBR,BTLNBR_FLAG_W,DATE,TIME,LATITUDE,LONGITUDE,DEPTH,CTDRAW,CTDPRS,CTDTMP,CTDSAL,CTDSAL_FLAG_W,SALNTY,SALNTY_FLAG_W,CTDOXY,CTDOXY_FLAG_W,THETA,OXYGEN,OXYGEN_FLAG_W,SILCAT,SILCAT_FLAG_W,NO2+NO3,NO2+NO3_FLAG_W,PHSPHT,PHSPHT_FLAG_W,REVPRS,REVTMP
,,,,,,,,,,,,,DBAR,ITS-90,PSS-78,,PSS-78,,UMOL/KG,,ITS-90,UMOL/KG,,UMOL/KG,,UMOL/KG,,UMOL/KG,,DBAR,DEG C
     33KB174_1,  PRS2,     1,  1,     23,     30,2,20051006,2326, 21.3443,-158.2727, 1558,     12,     12.1,  27.2272,  34.9088,2,  34.9083,2,    200.5,2, 27.2244,    200.4,2,  -999.00,9,  -999.00,9,  -999.00,9,  -999.0,-999.000
     33KB174_1,  PRS2,     1,  1,     24,     23,2,20051006,2326, 21.3443,-158.2727, 1558,     12,     12.2,  27.2287,  34.9085,2,  34.9071,2,    200.5,2, 27.2258,    200.5,2,  -999.00,9,  -999.00,9,  -999.00,9,  -999.0,-999.000
     33KB174_1,  PRS2,     1,  1,     22,     22,2,20051006,2326, 21.3443,-158.2727, 1558,     26,     25.0,  27.1290,  34.9360,2,  34.9339,2,    201.6,2, 27.1232,    201.4,2,  -999.00,9,  -999.00,9,  -999.00,9,  -999.0,-999.000
     33KB174_1,  PRS2,     1,  1,     21,     21,2,20051006,2326, 21.3443,-158.2727, 1558,     44,     44.8,  25.7227,  35.0573,2,  35.0541,2,    208.8,2, 25.7128,    208.7,2,  -999.00,9,  -999.00,9,  -999.00,9,  -999.0,-999.000
     33KB174_1,  PRS2,     1,  1,     20,     16,3,20051006,2326, 21.3443,-158.2727, 1558,     60,     60.0,  24.5295,  35.1281,2,  35.1228,2,    211.2,2, 24.5167,    210.5,2,  -999.00,9,  -999.00,9,  -999.00,9,  -999.0,-999.000
     33KB174_1,  PRS2,     1,  1,     19,     19,2,20051006,2326, 21.3443,-158.2727, 1558,     75,     74.7,  23.8866,  35.1348,2,  35.1333,2,    211.3,2, 23.8709,    211.4,2,  -999.00,9,  -999.00,9,  -999.00,9,  -999.0,-999.000
     33KB174_1,  PRS2,     1,  1,     18,     18,2,20051006,2326, 21.3443,-158.2727, 1558,     98,     99.5,  22.5277,  35.1725,2,  35.1752,2,    207.7,2, 22.5077,    208.0,2,  -999.00,9,  -999.00,9,  -999.00,9,  -999.0,-999.000
     33KB174_1,  PRS2,     1,  1,     17,     17,2,20051006,2326, 21.3443,-158.2727, 1558,    115,    114.9,  21.7660,  35.1834,2,  35.1821,2,    202.6,2, 21.7435,    203.8,2,  -999.00,9,  -999.00,9,  -999.00,9,  -999.0,-999.000
     33KB174_1,  PRS2,     1,  1,     16,     34,2,20051006,2326, 21.3443,-158.2727, 1558,    125,    124.5,  21.3688,  35.1652,2,  35.1630,2,    199.4,2, 21.3447,    201.4,2,  -999.00,9,  -999.00,9,  -999.00,9,  -999.0,-999.000
     33KB174_1,  PRS2,     1,  1,     15,    102,2,20051006,2326, 21.3443,-158.2727, 1558,    150,    150.1,  19.9813,  35.0306,2,  35.0325,2,    194.1,2, 19.9536,    188.5,4,  -999.00,9,  -999.00,9,  -999.00,9,  -999.0,-999.000
     33KB174_1,  PRS2,     1,  1,     14,    101,2,20051006,2326, 21.3443,-158.2727, 1558,    176,    174.9,  18.4460,  34.8350,2,  34.8338,2,    194.7,2, 18.4155,    194.6,2,  -999.00,9,  -999.00,9,  -999.00,9,  -999.0,-999.000
     33KB174_1,  PRS2,     1,  1,     13,     42,2,20051006,2326, 21.3443,-158.2727, 1558,    199,    200.6,  15.9231,  34.5266,2,  34.5286,2,    197.0,2, 15.8916,    196.4,2,  -999.00,9,  -999.00,9,  -999.00,9,  -999.0,-999.000
     33KB174_1,  PRS2,     1,  1,     12,     12,2,20051006,2326, 21.3443,-158.2727, 1558,    226,    225.4,  14.1643,  34.3282,2,  34.3248,2,    194.9,2, 14.1316,    195.7,2,  -999.00,9,  -999.00,9,  -999.00,9,  -999.0,-999.000
     33KB174_1,  PRS2,     1,  1,     11,     39,2,20051006,2326, 21.3443,-158.2727, 1558,    250,    249.4,  12.4910,  34.2012,2,  34.1989,2,    195.2,2, 12.4578,    194.9,2,  -999.00,9,  -999.00,9,  -999.00,9,  -999.0,-999.000
     33KB174_1,  PRS2,     1,  1,     10,     33,2,20051006,2326, 21.3443,-158.2727, 1558,    299,    299.3,  10.9578,  34.1355,2,  34.1354,2,    189.0,2, 10.9212,    189.0,2,  -999.00,9,  -999.00,9,  -999.00,9,  -999.0,-999.000
     33KB174_1,  PRS2,     1,  1,      9,      3,2,20051006,2326, 21.3443,-158.2727, 1558,    352,    350.0,   9.2225,  34.1247,2,  34.1228,2,    152.9,2,  9.1840,    152.7,2,  -999.00,9,  -999.00,9,  -999.00,9,  -999.0,-999.000
     33KB174_1,  PRS2,     1,  1,      8,     29,2,20051006,2326, 21.3443,-158.2727, 1558,    399,    399.7,   8.5296,  34.1194,2,  34.1217,2,    135.4,2,  8.4876,    133.7,2,  -999.00,9,  -999.00,9,  -999.00,9,  -999.0,-999.000
     33KB174_1,  PRS2,     1,  1,      7,     28,2,20051006,2326, 21.3443,-158.2727, 1558,    501,    500.9,   6.6336,  34.1463,2,  34.1436,2,     75.8,2,  6.5877,     75.5,2,  -999.00,9,  -999.00,9,  -999.00,9,  -999.0,-999.000
     33KB174_1,  PRS2,     1,  1,      6,     13,2,20051006,2326, 21.3443,-158.2727, 1558,    601,    600.8,   5.6364,  34.2432,2,  34.2428,2,     44.4,2,  5.5854,     42.6,2,  -999.00,9,  -999.00,9,  -999.00,9,  -999.0,-999.000
     33KB174_1,  PRS2,     1,  1,      5,     38,2,20051006,2326, 21.3443,-158.2727, 1558,    700,    700.0,   5.1093,  34.3596,2,  34.3600,2,     35.0,2,  5.0521,     35.1,2,  -999.00,9,  -999.00,9,  -999.00,9,  -999.0,-999.000
     33KB174_1,  PRS2,     1,  1,      4,     36,2,20051006,2326, 21.3443,-158.2727, 1558,    750,    749.4,   4.8950,  34.3910,2,  34.3900,2,     35.4,2,  4.8346,     35.1,2,  -999.00,9,  -999.00,9,  -999.00,9,  -999.0,-999.000
     33KB174_1,  PRS2,     1,  1,      3,     35,2,20051006,2326, 21.3443,-158.2727, 1558,    800,    800.1,   4.7511,  34.4195,2,  34.4180,2,     36.8,2,  4.6873,     36.9,2,  -999.00,9,  -999.00,9,  -999.00,9,  -999.0,-999.000
     33KB174_1,  PRS2,     1,  1,      2,      7,2,20051006,2326, 21.3443,-158.2727, 1558,    901,    900.9,   4.3023,  34.4835,2,  34.4822,2,     42.7,2,  4.2328,     42.9,2,  -999.00,9,  -999.00,9,  -999.00,9,  -999.0,-999.000
     33KB174_1,  PRS2,     1,  1,      1,     11,2,20051006,2326, 21.3443,-158.2727, 1558,   1020,   1020.2,   4.0229,  34.5075,2,  34.5074,2,     47.1,2,  3.9454,     47.2,2,  -999.00,9,  -999.00,9,  -999.00,9,  -999.0,-999.000
     33KB174_1,  PRS2,     2,  1,     18,     18,2,20051007,0900, 22.7502,-158.0003, 4750,      7,      7.3,  26.3264,  35.1894,2,-999.0000,5,    206.1,1, 26.3248,   -999.0,9,  -999.00,9,  -999.00,9,  -999.00,9,  -999.0,-999.000
     33KB174_1,  PRS2,     2,  1,     17,     17,2,20051007,0900, 22.7502,-158.0003, 4750,      7,      7.3,  26.3247,  35.1894,2,-999.0000,5,    206.1,1, 26.3230,   -999.0,9,  -999.00,9,  -999.00,9,  -999.00,9,  -999.0,-999.000
     33KB174_1,  PRS2,     2,  1,     16,     34,2,20051007,0900, 22.7502,-158.0003, 4750,      9,      7.4,  26.3229,  35.1898,2,-999.0000,5,    206.2,1, 26.3212,   -999.0,9,  -999.00,9,  -999.00,9,  -999.00,9,  -999.0,-999.000
     33KB174_1,  PRS2,     2,  1,     15,    102,2,20051007,0900, 22.7502,-158.0003, 4750,      8,      7.4,  26.3284,  35.1894,2,-999.0000,5,    206.2,1, 26.3267,   -999.0,9,  -999.00,9,  -999.00,9,  -999.00,9,  -999.0,-999.000
     33KB174_1,  PRS2,     2,  1,     19,     19,2,20051007,0900, 22.7502,-158.0003, 4750,      8,      7.6,  26.3271,  35.1892,2,-999.0000,5,    206.0,1, 26.3253,   -999.0,9,  -999.00,9,  -999.00,9,  -999.00,9,  -999.0,-999.000
     33KB174_1,  PRS2,     2,  1,     20,     16,2,20051007,0900, 22.7502,-158.0003, 4750,      8,      7.7,  26.3281,  35.1894,2,-999.0000,5,    206.0,1, 26.3264,   -999.0,9,  -999.00,9,  -999.00,9,  -999.00,9,  -999.0,-999.000
     33KB174_1,  PRS2,     2,  1,     14,    101,2,20051007,0900, 22.7502,-158.0003, 4750,     28,     26.9,  26.3335,  35.1895,2,  35.1930,2,    206.1,1, 26.3275,   -999.0,9,  -999.00,9,  -999.00,9,  -999.00,9,  -999.0,-999.000
     33KB174_1,  PRS2,     2,  1,     11,     39,2,20051007,0900, 22.7502,-158.0003, 4750,     27,     26.9,  26.3379,  35.1895,2,-999.0000,5,    206.2,1, 26.3318,   -999.0,9,  -999.00,9,  -999.00,9,  -999.00,9,  -999.0,-999.000
     33KB174_1,  PRS2,     2,  1,     13,     42,2,20051007,0900, 22.7502,-158.0003, 4750,     27,     27.1,  26.3350,  35.1895,2,-999.0000,5,    206.1,1, 26.3288,   -999.0,9,  -999.00,9,  -999.00,9,  -999.00,9,  -999.0,-999.000
     33KB174_1,  PRS2,     2,  1,     10,     33,2,20051007,0900, 22.7502,-158.0003, 4750,     27,     27.1,  26.3393,  35.1895,2,-999.0000,5,    206.3,1, 26.3332,   -999.0,9,  -999.00,9,  -999.00,9,  -999.00,9,  -999.0,-999.000
     33KB174_1,  PRS2,     2,  1,      8,     29,2,20051007,0900, 22.7502,-158.0003, 4750,     28,     27.1,  26.3419,  35.1894,2,-999.0000,5,    206.5,1, 26.3358,   -999.0,9,  -999.00,9,  -999.00,9,  -999.00,9,  -999.0,-999.000
     33KB174_1,  PRS2,     2,  1,     12,     12,2,20051007,0900, 22.7502,-158.0003, 4750,     26,     27.2,  26.3366,  35.1894,2,-999.0000,5,    206.2,1, 26.3305,   -999.0,9,  -999.00,9,  -999.00,9,  -999.00,9,  -999.0,-999.000
     33KB174_1,  PRS2,     2,  1,      9,      3,2,20051007,0900, 22.7502,-158.0003, 4750,     28,     27.2,  26.3405,  35.1893,2,-999.0000,5,    206.4,1, 26.3343,   -999.0,9,  -999.00,9,  -999.00,9,  -999.00,9,  -999.0,-999.000
     33KB174_1,  PRS2,     2,  1,      7,     28,2,20051007,0900, 22.7502,-158.0003, 4750,     46,     46.1,  26.3476,  35.1899,2,-999.0000,5,    206.5,1, 26.3372,   -999.0,9,  -999.00,9,  -999.00,9,  -999.00,9,  -999.0,-999.000
     33KB174_1,  PRS2,     2,  1,      6,     13,2,20051007,0900, 22.7502,-158.0003, 4750,     47,     46.5,  26.3483,  35.1897,2,-999.0000,5,    206.5,1, 26.3378,   -999.0,9,  -999.00,9,  -999.00,9,  -999.00,9,  -999.0,-999.000
     33KB174_1,  PRS2,     2,  1,      5,     38,2,20051007,0900, 22.7502,-158.0003, 4750,     46,     46.5,  26.3502,  35.1896,2,-999.0000,5,    206.6,1, 26.3397,   -999.0,9,  -999.00,9,  -999.00,9,  -999.00,9,  -999.0,-999.000
     33KB174_1,  PRS2,     2,  1,      4,     36,2,20051007,0900, 22.7502,-158.0003, 4750,     47,     46.5,  26.3505,  35.1896,2,-999.0000,5,    206.6,1, 26.3400,   -999.0,9,  -999.00,9,  -999.00,9,  -999.00,9,  -999.0,-999.000
     33KB174_1,  PRS2,     2,  1,      2,      7,2,20051007,0900, 22.7502,-158.0003, 4750,     48,     46.6,  26.3497,  35.1897,2,-999.0000,5,    206.6,1, 26.3392,   -999.0,9,  -999.00,9,  -999.00,9,  -999.00,9,  -999.0,-999.000
     33KB174_1,  PRS2,     2,  1,      3,     35,2,20051007,0900, 22.7502,-158.0003, 4750,     48,     46.7,  26.3506,  35.1895,2,  35.1888,2,    206.6,1, 26.3401,   -999.0,9,  -999.00,9,  -999.00,9,  -999.00,9,  -999.0,-999.000
     33KB174_1,  PRS2,     2,  1,      1,     11,2,20051007,0900, 22.7502,-158.0003, 4750,     48,     46.7,  26.3488,  35.1896,2,-999.0000,5,    206.5,1, 26.3383,   -999.0,9,  -999.00,9,  -999.00,9,  -999.00,9,  -999.0,-999.000
     33KB174_1,  PRS2,     2,  2,     20,     16,2,20051007,1043, 22.7498,-157.9998, 4747,     78,     77.9,  26.3422,  35.1919,2,-999.0000,5,    206.0,1, 26.3246,   -999.0,9,  -999.00,9,  -999.00,9,  -999.00,9,  -999.0,-999.000
     33KB174_1,  PRS2,     2,  2,     17,     17,2,20051007,1043, 22.7498,-157.9998, 4747,     77,     77.9,  26.3417,  35.1920,2,  35.1926,2,    206.2,1, 26.3241,   -999.0,9,  -999.00,9,  -999.00,9,  -999.00,9,  -999.0,-999.000
     33KB174_1,  PRS2,     2,  2,     19,     19,2,20051007,1043, 22.7498,-157.9998, 4747,     77,     78.0,  26.3422,  35.1919,2,-999.0000,5,    206.1,1, 26.3247,   -999.0,9,  -999.00,9,  -999.00,9,  -999.00,9,  -999.0,-999.000
     33KB174_1,  PRS2,     2,  2,     18,     18,2,20051007,1043, 22.7498,-157.9998, 4747,     78,     78.0,  26.3420,  35.1920,2,-999.0000,5,    206.1,1, 26.3244,   -999.0,9,  -999.00,9,  -999.00,9,  -999.00,9,  -999.0,-999.000
     33KB174_1,  PRS2,     2,  2,     21,     21,2,20051007,1043, 22.7498,-157.9998, 4747,     78,     78.1,  26.3368,  35.1925,2,-999.0000,5,    206.0,1, 26.3192,   -999.0,9,  -999.00,9,  -999.00,9,  -999.00,9,  -999.0,-999.000
     33KB174_1,  PRS2,     2,  2,     16,     34,2,20051007,1043, 22.7498,-157.9998, 4747,     78,     78.1,  26.3411,  35.1922,2,-999.0000,5,    206.2,1, 26.3235,   -999.0,9,  -999.00,9,  -999.00,9,  -999.00,9,  -999.0,-999.000
     33KB174_1,  PRS2,     2,  2,     15,    102,2,20051007,1043, 22.7498,-157.9998, 4747,     78,     78.1,  26.3413,  35.1921,2,-999.0000,5,    206.2,1, 26.3237,   -999.0,9,  -999.00,9,  -999.00,9,  -999.00,9,  -999.0,-999.000
     33KB174_1,  PRS2,     2,  2,     11,     39,2,20051007,1043, 22.7498,-157.9998, 4747,    104,    102.9,  23.4482,  35.2135,2,-999.0000,5,    220.0,1, 23.4269,   -999.0,9,  -999.00,9,  -999.00,9,  -999.00,9,  -999.0,-999.000
     33KB174_1,  PRS2,     2,  2,      9,      3,2,20051007,1043, 22.7498,-157.9998, 4747,    102,    102.9,  23.4551,  35.2133,2,-999.0000,5,    219.9,1, 23.4337,   -999.0,9,  -999.00,9,  -999.00,9,  -999.00,9,  -999.0,-999.000
     33KB174_1,  PRS2,     2,  2,      8,     29,2,20051007,1043, 22.7498,-157.9998, 4747,    103,    102.9,  23.4613,  35.2134,2,-999.0000,5,    219.9,1, 23.4399,   -999.0,9,  -999.00,9,  -999.00,9,  -999.00,9,  -999.0,-999.000
     33KB174_1,  PRS2,     2,  2,     14,    101,2,20051007,1043, 22.7498,-157.9998, 4747,    104,    103.1,  23.4034,  35.2124,2,  35.2123,2,    220.3,1, 23.3820,   -999.0,9,  -999.00,9,  -999.00,9,  -999.00,9,  -999.0,-999.000
     33KB174_1,  PRS2,     2,  2,     13,     42,2,20051007,1043, 22.7498,-157.9998, 4747,    104,    103.1,  23.4181,  35.2136,2,-999.0000,5,    220.3,1, 23.3967,   -999.0,9,  -999.00,9,  -999.00,9,  -999.00,9,  -999.0,-999.000
     33KB174_1,  PRS2,     2,  2,     12,     12,2,20051007,1043, 22.7498,-157.9998, 4747,    103,    103.1,  23.4337,  35.2129,2,-999.0000,5,    220.2,1, 23.4123,   -999.0,9,  -999.00,9,  -999.00,9,  -999.00,9,  -999.0,-999.000
     33KB174_1,  PRS2,     2,  2,     10,     33,2,20051007,1043, 22.7498,-157.9998, 4747,    104,    103.1,  23.4477,  35.2137,2,-999.0000,5,    220.0,1, 23.4264,   -999.0,9,  -999.00,9,  -999.00,9,  -999.00,9,  -999.0,-999.000
     33KB174_1,  PRS2,     2,  2,      2,      7,2,20051007,1043, 22.7498,-157.9998, 4747,    125,    126.5,  21.7490,  35.1998,2,-999.0000,5,    205.2,1, 21.7242,   -999.0,9,  -999.00,9,  -999.00,9,  -999.00,9,  -999.0,-999.000
     33KB174_1,  PRS2,     2,  2,      1,     11,2,20051007,1043, 22.7498,-157.9998, 4747,    126,    126.5,  21.7418,  35.1998,2,-999.0000,5,    205.0,1, 21.7169,   -999.0,9,  -999.00,9,  -999.00,9,  -999.00,9,  -999.0,-999.000
     33KB174_1,  PRS2,     2,  2,      6,     13,2,20051007,1043, 22.7498,-157.9998, 4747,    126,    126.6,  21.7716,  35.2007,2,-999.0000,5,    205.7,1, 21.7467,   -999.0,9,  -999.00,9,  -999.00,9,  -999.00,9,  -999.0,-999.000
     33KB174_1,  PRS2,     2,  2,      5,     38,2,20051007,1043, 22.7498,-157.9998, 4747,    126,    126.6,  21.7744,  35.2009,2,-999.0000,5,    205.7,1, 21.7496,   -999.0,9,  -999.00,9,  -999.00,9,  -999.00,9,  -999.0,-999.000
     33KB174_1,  PRS2,     2,  2,      4,     36,2,20051007,1043, 22.7498,-157.9998, 4747,    126,    126.6,  21.7731,  35.2000,2,-999.0000,5,    205.6,1, 21.7482,   -999.0,9,  -999.00,9,  -999.00,9,  -999.00,9,  -999.0,-999.000
     33KB174_1,  PRS2,     2,  2,      7,     28,2,20051007,1043, 22.7498,-157.9998, 4747,    129,    126.8,  21.7711,  35.2010,2,  35.2008,2,    205.6,1, 21.7462,   -999.0,9,  -999.00,9,  -999.00,9,  -999.00,9,  -999.0,-999.000
     33KB174_1,  PRS2,     2,  2,      3,     35,2,20051007,1043, 22.7498,-157.9998, 4747,    127,    126.9,  21.7534,  35.1993,2,-999.0000,5,    205.4,1, 21.7285,   -999.0,9,  -999.00,9,  -999.00,9,  -999.00,9,  -999.0,-999.000