BOTTLE,20090923WHPSIOMYS
EXPOCODE,SECT_ID,STNNBR,CASTNO,SAMPNO,BTLNBR,BTLNBR_FLAG_W,DATE,TIME,LATITUDE,LONGITUDE,DEPTH,CTDRAW,CTDPRS,CTDTMP,CTDSAL,CTDSAL_FLAG_W,SALNTY,SALNTY_FLAG_W,CTDOXY,CTDOXY_FLAG_W,THETA,OXYGEN,OXYGEN_FLAG_W,SILCAT,SILCAT_FLAG_W,NO2+NO3,NO2+NO3_FLAG_W,PHSPHT,PHSPHT_FLAG_W,REVPRS,REVTMP
,,,,,,,,,,,,,DBAR,ITS-90,PSS-78,,PSS-78,,UMOL/KG,,ITS-90,UMOL/KG,,UMOL/KG,,UMOL/KG,,UMOL/KG,,DBAR,DEG C
     33KB174_1,  PRS2,     2, 18,     22,     22,2,20051010,0020, 22.7497,-158.0003, 4744,      6,      6.5,  26.2666,  35.1734,2,  35.1738,2,    204.9,2, 26.2652,    204.0,2,  -999.00,9,  -999.00,9,  -999.00,9,  -999.0,-999.000
     33KB174_1,  PRS2,     2, 18,     23,     30,3,20051010,0020, 22.7497,-158.0003, 4744,      6,      6.8,  26.2667,  35.1730,2,  35.1711,2,    204.9,2, 26.2652,   -999.0,5,  -999.00,9,  -999.00,9,  -999.00,9,  -999.0,-999.000
     33KB174_1,  PRS2,     2, 18,     21,     21,2,20051010,0020, 22.7497,-158.0003, 4744,     15,     14.9,  26.2608,  35.1729,2,  35.1707,2,    205.0,2, 26.2574,   -999.0,5,  -999.00,9,  -999.00,9,  -999.00,9,  -999.0,-999.000
     33KB174_1,  PRS2,     2, 18,     20,     16,2,20051010,0020, 22.7497,-158.0003, 4744,     24,     25.3,  26.2597,  35.1731,2,  35.1715,2,    205.0,2, 26.2540,   -999.0,5,  -999.00,9,  -999.00,9,  -999.00,9,  -999.0,-999.000
     33KB174_1,  PRS2,     2, 18,     19,     19,3,20051010,0020, 22.7497,-158.0003, 4744,     28,     26.1,  26.2594,  35.1731,2,  35.1786,2,    205.1,2, 26.2535,    205.1,2,  -999.00,9,  -999.00,9,  -999.00,9,  -999.0,-999.000
     33KB174_1,  PRS2,     2, 18,     18,     18,2,20051010,0020, 22.7497,-158.0003, 4744,     35,     34.9,  26.2486,  35.1734,2,  35.1723,2,    204.9,2, 26.2408,   -999.0,5,  -999.00,9,  -999.00,9,  -999.00,9,  -999.0,-999.000
     33KB174_1,  PRS2,     2, 18,     17,     17,2,20051010,0020, 22.7497,-158.0003, 4744,     46,     45.2,  26.2331,  35.1728,2,  35.1715,2,    204.8,2, 26.2230,    205.7,2,  -999.00,9,  -999.00,9,  -999.00,9,  -999.0,-999.000
     33KB174_1,  PRS2,     2, 18,     16,     34,2,20051010,0020, 22.7497,-158.0003, 4744,     62,     61.5,  26.2293,  35.1720,2,  35.1701,2,    205.0,2, 26.2155,   -999.0,5,  -999.00,9,  -999.00,9,  -999.00,9,  -999.0,-999.000
     33KB174_1,  PRS2,     2, 18,     15,    102,2,20051010,0020, 22.7497,-158.0003, 4744,     75,     75.1,  24.9458,  35.1852,2,  35.1965,3,    217.9,3, 24.9295,    218.9,2,  -999.00,9,  -999.00,9,  -999.00,9,  -999.0,-999.000
     33KB174_1,  PRS2,     2, 18,     14,    101,2,20051010,0020, 22.7497,-158.0003, 4744,     84,     84.0,  24.1021,  35.1792,2,  35.1772,2,    221.6,2, 24.0844,    222.0,2,  -999.00,9,  -999.00,9,  -999.00,9,  -999.0,-999.000
     33KB174_1,  PRS2,     2, 18,     13,     42,3,20051010,0020, 22.7497,-158.0003, 4744,     91,     90.1,  23.8150,  35.1873,2,  35.1847,2,    218.4,2, 23.7962,    219.3,2,  -999.00,9,  -999.00,9,  -999.00,9,  -999.0,-999.000
     33KB174_1,  PRS2,     2, 18,     12,     12,3,20051010,0020, 22.7497,-158.0003, 4744,    100,     99.9,  23.2511,  35.1680,2,  35.1658,2,    214.0,2, 23.2305,    213.7,2,  -999.00,9,  -999.00,9,  -999.00,9,  -999.0,-999.000
     33KB174_1,  PRS2,     2, 18,     11,     39,2,20051010,0020, 22.7497,-158.0003, 4744,    109,    109.7,  22.8263,  35.2013,2,  35.1969,2,    214.1,2, 22.8040,    213.6,2,  -999.00,9,  -999.00,9,  -999.00,9,  -999.0,-999.000
     33KB174_1,  PRS2,     2, 18,     10,     33,2,20051010,0020, 22.7497,-158.0003, 4744,    116,    115.7,  22.3407,  35.2050,2,  35.2046,2,    213.6,2, 22.3176,    213.6,2,  -999.00,9,  -999.00,9,  -999.00,9,  -999.0,-999.000
     33KB174_1,  PRS2,     2, 18,      9,      3,3,20051010,0020, 22.7497,-158.0003, 4744,    126,    124.9,  21.4846,  35.1697,2,  35.1727,2,    201.5,2, 21.4603,    202.8,2,  -999.00,9,  -999.00,9,  -999.00,9,  -999.0,-999.000
     33KB174_1,  PRS2,     2, 18,      8,  12054,2,20051010,0020, 22.7497,-158.0003, 4744,    130,    130.3,  21.2270,  35.1769,2,  35.1740,2,    204.5,2, 21.2018,    204.6,2,  -999.00,9,  -999.00,9,  -999.00,9,  -999.0,-999.000
     33KB174_1,  PRS2,     2, 18,      7,  12052,2,20051010,0020, 22.7497,-158.0003, 4744,    152,    151.0,  19.9143,  35.0423,2,  35.0435,2,    194.8,2, 19.8865,    193.9,2,  -999.00,9,  -999.00,9,  -999.00,9,  -999.0,-999.000
     33KB174_1,  PRS2,     2, 18,      6,  12048,2,20051010,0020, 22.7497,-158.0003, 4744,    164,    164.8,  19.1538,  34.9544,2,  34.9475,2,    196.2,2, 19.1242,    194.1,2,  -999.00,9,  -999.00,9,  -999.00,9,  -999.0,-999.000
     33KB174_1,  PRS2,     2, 18,      5,  12011,2,20051010,0020, 22.7497,-158.0003, 4744,    176,    175.5,  18.3860,  34.8636,2,  34.8609,2,    194.9,2, 18.3555,    196.1,2,  -999.00,9,  -999.00,9,  -999.00,9,  -999.0,-999.000
     33KB174_1,  PRS2,     2, 18,      4,     36,2,20051010,0020, 22.7497,-158.0003, 4744,    199,    199.1,  17.8532,  34.8799,2,  34.8820,2,    208.6,2, 17.8193,    208.4,2,  -999.00,9,  -999.00,9,  -999.00,9,  -999.0,-999.000
     33KB174_1,  PRS2,     2, 18,      3,  12053,2,20051010,0020, 22.7497,-158.0003, 4744,    550,    550.3,   6.7705,  34.0370,2,  34.0374,2,    111.5,2,  6.7194,    106.3,3,  -999.00,9,  -999.00,9,  -999.00,9,  -999.0,-999.000
     33KB174_1,  PRS2,     2, 18,      2,      7,2,20051010,0020, 22.7497,-158.0003, 4744,    827,    826.2,   4.2510,  34.3184,2,  34.3176,2,     23.7,2,  4.1882,     23.4,2,  -999.00,9,  -999.00,9,  -999.00,9,  -999.0,-999.000
     33KB174_1,  PRS2,     2, 18,      1,  12047,2,20051010,0020, 22.7497,-158.0003, 4744,   1020,   1020.1,   3.7933,  34.4640,2,  34.4636,2,     40.2,2,  3.7176,     40.6,2,  -999.00,9,  -999.00,9,  -999.00,9,  -999.0,-999.000
     33KB174_1,  PRS2,     2, 19,     21,     21,2,20051010,0259, 22.7307,-158.0615, 4768,    152,    151.1,  20.2340,  35.1071,2,-999.0000,5,    197.7,1, 20.2058,   -999.0,9,  -999.00,9,  -999.00,9,  -999.00,9,  -999.0,-999.000
     33KB174_1,  PRS2,     2, 19,     22,     22,2,20051010,0259, 22.7307,-158.0615, 4768,    152,    151.2,  20.2307,  35.1071,2,  35.1077,2,    198.0,1, 20.2026,   -999.0,9,  -999.00,9,  -999.00,9,  -999.00,9,  -999.0,-999.000
     33KB174_1,  PRS2,     2, 19,     20,     16,2,20051010,0259, 22.7307,-158.0615, 4768,    200,    200.0,  17.9054,  34.8817,2,  34.8766,2,    206.9,1, 17.8712,   -999.0,9,  -999.00,9,  -999.00,9,  -999.00,9,  -999.0,-999.000
     33KB174_1,  PRS2,     2, 19,     19,     19,2,20051010,0259, 22.7307,-158.0615, 4768,    199,    200.0,  17.8886,  34.8777,2,  34.8855,2,    206.7,1, 17.8544,   -999.0,9,  -999.00,9,  -999.00,9,  -999.00,9,  -999.0,-999.000
     33KB174_1,  PRS2,     2, 19,     17,     17,2,20051010,0259, 22.7307,-158.0615, 4768,    249,    248.8,  15.2339,  34.5347,2,  34.5276,2,    204.9,1, 15.1959,   -999.0,9,  -999.00,9,  -999.00,9,  -999.00,9,  -999.0,-999.000
     33KB174_1,  PRS2,     2, 19,     18,     18,2,20051010,0259, 22.7307,-158.0615, 4768,    249,    248.9,  15.2436,  34.5354,2,  34.5296,2,    204.9,1, 15.2056,   -999.0,9,  -999.00,9,  -999.00,9,  -999.00,9,  -999.0,-999.000
     33KB174_1,  PRS2,     2, 19,     15,    102,2,20051010,0259, 22.7307,-158.0615, 4768,    301,    300.6,  12.6117,  34.3123,2,  34.3105,2,    210.7,1, 12.5713,   -999.0,9,  -999.00,9,  -999.00,9,  -999.00,9,  -999.0,-999.000
     33KB174_1,  PRS2,     2, 19,     16,     34,2,20051010,0259, 22.7307,-158.0615, 4768,    302,    300.7,  12.6159,  34.3130,2,  34.3107,2,    210.7,1, 12.5755,   -999.0,9,  -999.00,9,  -999.00,9,  -999.00,9,  -999.0,-999.000
     33KB174_1,  PRS2,     2, 19,     13,     42,2,20051010,0259, 22.7307,-158.0615, 4768,    351,    349.0,  11.2899,  34.2351,2,-999.0000,5,    209.1,1, 11.2462,   -999.0,9,  -999.00,9,  -999.00,9,  -999.00,9,  -999.0,-999.000
     33KB174_1,  PRS2,     2, 19,     14,    101,2,20051010,0259, 22.7307,-158.0615, 4768,    351,    349.1,  11.2935,  34.2351,2,-999.0000,5,    209.0,1, 11.2498,   -999.0,9,  -999.00,9,  -999.00,9,  -999.00,9,  -999.0,-999.000
     33KB174_1,  PRS2,     2, 19,     12,     12,2,20051010,0259, 22.7307,-158.0615, 4768,    397,    398.7,  10.1349,  34.1381,2,  34.1379,2,    197.0,1, 10.0883,   -999.0,9,  -999.00,9,  -999.00,9,  -999.00,9,  -999.0,-999.000
     33KB174_1,  PRS2,     2, 19,     11,     39,2,20051010,0259, 22.7307,-158.0615, 4768,    400,    398.9,  10.1124,  34.1374,2,  34.1368,2,    197.0,1, 10.0659,   -999.0,9,  -999.00,9,  -999.00,9,  -999.00,9,  -999.0,-999.000
     33KB174_1,  PRS2,     2, 19,     10,     33,2,20051010,0259, 22.7307,-158.0615, 4768,    452,    451.0,   8.9595,  34.0986,2,  34.0983,2,    172.6,1,  8.9105,   -999.0,9,  -999.00,9,  -999.00,9,  -999.00,9,  -999.0,-999.000
     33KB174_1,  PRS2,     2, 19,      9,      3,2,20051010,0259, 22.7307,-158.0615, 4768,    452,    451.2,   8.9589,  34.0985,2,  34.1023,2,    172.6,1,  8.9099,   -999.0,9,  -999.00,9,  -999.00,9,  -999.00,9,  -999.0,-999.000
     33KB174_1,  PRS2,     2, 19,      6,  12048,2,20051010,0259, 22.7307,-158.0615, 4768,   1020,   1020.0,   3.8302,  34.4810,2,  34.4795,2,     43.2,1,  3.7543,   -999.0,9,  -999.00,9,  -999.00,9,  -999.00,9,  -999.0,-999.000
     33KB174_1,  PRS2,     2, 19,      4,     36,2,20051010,0259, 22.7307,-158.0615, 4768,   1019,   1020.0,   3.8299,  34.4809,2,  34.4799,2,     43.2,1,  3.7539,   -999.0,9,  -999.00,9,  -999.00,9,  -999.00,9,  -999.0,-999.000
     33KB174_1,  PRS2,     2, 19,      3,  12053,2,20051010,0259, 22.7307,-158.0615, 4768,   1022,   1020.0,   3.8296,  34.4807,2,  34.4797,2,     43.2,1,  3.7537,   -999.0,9,  -999.00,9,  -999.00,9,  -999.00,9,  -999.0,-999.000
     33KB174_1,  PRS2,     2, 19,      1,  12047,2,20051010,0259, 22.7307,-158.0615, 4768,   1022,   1020.0,   3.8288,  34.4806,2,  34.4803,2,     43.3,1,  3.7528,   -999.0,9,  -999.00,9,  -999.00,9,  -999.00,9,  -999.0,-999.000
     33KB174_1,  PRS2,     2, 19,      8,  12054,2,20051010,0259, 22.7307,-158.0615, 4768,   1020,   1020.1,   3.8302,  34.4809,2,  34.4809,2,     43.2,1,  3.7543,   -999.0,9,  -999.00,9,  -999.00,9,  -999.00,9,  -999.0,-999.000
     33KB174_1,  PRS2,     2, 19,      7,  12052,2,20051010,0259, 22.7307,-158.0615, 4768,   1020,   1020.1,   3.8302,  34.4810,2,  34.4803,2,     43.2,1,  3.7543,   -999.0,9,  -999.00,9,  -999.00,9,  -999.00,9,  -999.0,-999.000
     33KB174_1,  PRS2,     2, 19,      5,  12011,2,20051010,0259, 22.7307,-158.0615, 4768,   1021,   1020.1,   3.8302,  34.4809,2,  34.4793,2,     43.2,1,  3.7542,   -999.0,9,  -999.00,9,  -999.00,9,  -999.00,9,  -999.0,-999.000
     33KB174_1,  PRS2,     2, 19,      2,      7,2,20051010,0259, 22.7307,-158.0615, 4768,   1022,   1020.1,   3.8294,  34.4806,2,  34.4799,2,     43.2,1,  3.7535,   -999.0,9,  -999.00,9,  -999.00,9,  -999.00,9,  -999.0,-999.000
     33KB174_1,  PRS2,     2, 20,     20,     16,2,20051010,0611, 22.7545,-158.0212, 4748,      7,      7.0,  26.2180,  35.1446,2,-999.0000,5,    205.2,2, 26.2164,    204.6,2,  -999.00,9,  -999.00,9,  -999.00,9,  -999.0,-999.000
     33KB174_1,  PRS2,     2, 20,     23,     30,2,20051010,0611, 22.7545,-158.0212, 4748,      8,      7.2,  26.2153,  35.1446,2,-999.0000,5,    205.1,2, 26.2137,   -999.0,5,  -999.00,9,  -999.00,9,  -999.00,9,  -999.0,-999.000
     33KB174_1,  PRS2,     2, 20,     22,     22,3,20051010,0611, 22.7545,-158.0212, 4748,      8,      7.3,  26.2162,  35.1444,2,-999.0000,5,    205.2,2, 26.2145,   -999.0,5,  -999.00,9,  -999.00,9,  -999.00,9,  -999.0,-999.000
     33KB174_1,  PRS2,     2, 20,     21,     21,2,20051010,0611, 22.7545,-158.0212, 4748,      8,      7.3,  26.2174,  35.1447,2,-999.0000,5,    205.2,2, 26.2158,   -999.0,5,  -999.00,9,  -999.00,9,  -999.00,9,  -999.0,-999.000
     33KB174_1,  PRS2,     2, 20,     24,     23,2,20051010,0611, 22.7545,-158.0212, 4748,      8,      7.4,  26.2153,  35.1444,2,-999.0000,5,    205.0,2, 26.2136,   -999.0,5,  -999.00,9,  -999.00,9,  -999.00,9,  -999.0,-999.000
     33KB174_1,  PRS2,     2, 20,     19,     19,2,20051010,0611, 22.7545,-158.0212, 4748,      7,      7.5,  26.2158,  35.1449,2,  35.1423,2,    205.2,2, 26.2141,   -999.0,5,  -999.00,9,  -999.00,9,  -999.00,9,  -999.0,-999.000
     33KB174_1,  PRS2,     2, 20,     17,     17,2,20051010,0611, 22.7545,-158.0212, 4748,     14,     13.9,  26.2217,  35.1456,2,-999.0000,5,    205.1,2, 26.2186,   -999.0,5,  -999.00,9,  -999.00,9,  -999.00,9,  -999.0,-999.000
     33KB174_1,  PRS2,     2, 20,     16,     34,2,20051010,0611, 22.7545,-158.0212, 4748,     15,     14.0,  26.2216,  35.1457,2,-999.0000,5,    205.0,2, 26.2184,   -999.0,5,  -999.00,9,  -999.00,9,  -999.00,9,  -999.0,-999.000
     33KB174_1,  PRS2,     2, 20,     18,     18,2,20051010,0611, 22.7545,-158.0212, 4748,     14,     14.1,  26.2223,  35.1453,2,-999.0000,5,    205.1,2, 26.2191,   -999.0,5,  -999.00,9,  -999.00,9,  -999.00,9,  -999.0,-999.000
     33KB174_1,  PRS2,     2, 20,     15,    102,2,20051010,0611, 22.7545,-158.0212, 4748,     14,     14.1,  26.2219,  35.1457,2,  35.1435,2,    205.1,2, 26.2187,   -999.0,5,  -999.00,9,  -999.00,9,  -999.00,9,  -999.0,-999.000
     33KB174_1,  PRS2,     2, 20,     14,    101,4,20051010,0611, 22.7545,-158.0212, 4748,     24,     24.5,  26.2279,  35.1456,2,-999.0000,5,    205.1,2, 26.2224,   -999.0,5,  -999.00,9,  -999.00,9,  -999.00,9,  -999.0,-999.000
     33KB174_1,  PRS2,     2, 20,     13,     42,2,20051010,0611, 22.7545,-158.0212, 4748,     45,     44.6,  26.2351,  35.1461,2,  35.1451,2,    205.1,2, 26.2251,   -999.0,5,  -999.00,9,  -999.00,9,  -999.00,9,  -999.0,-999.000
     33KB174_1,  PRS2,     2, 20,     12,     12,2,20051010,0611, 22.7545,-158.0212, 4748,     61,     59.9,  26.2445,  35.1513,2,  35.1522,2,    205.1,2, 26.2311,   -999.0,5,  -999.00,9,  -999.00,9,  -999.00,9,  -999.0,-999.000
     33KB174_1,  PRS2,     2, 20,     11,     39,3,20051010,0611, 22.7545,-158.0212, 4748,     75,     75.2,  26.2476,  35.1695,2,  35.1668,2,    205.1,2, 26.2307,   -999.0,5,  -999.00,9,  -999.00,9,  -999.00,9,  -999.0,-999.000
     33KB174_1,  PRS2,     2, 20,     10,     33,2,20051010,0611, 22.7545,-158.0212, 4748,     87,     85.4,  26.0159,  35.1711,2,  35.1740,2,    208.2,2, 25.9968,   -999.0,5,  -999.00,9,  -999.00,9,  -999.00,9,  -999.0,-999.000
     33KB174_1,  PRS2,     2, 20,      9,      3,2,20051010,0611, 22.7545,-158.0212, 4748,     98,     98.6,  23.5638,  35.1803,2,  35.1790,2,    217.0,2, 23.5433,   -999.0,5,  -999.00,9,  -999.00,9,  -999.00,9,  -999.0,-999.000
     33KB174_1,  PRS2,     2, 20,      8,  12054,2,20051010,0611, 22.7545,-158.0212, 4748,    114,    114.8,  22.8556,  35.1910,2,  35.1890,2,    210.8,2, 22.8322,   -999.0,5,  -999.00,9,  -999.00,9,  -999.00,9,  -999.0,-999.000
     33KB174_1,  PRS2,     2, 20,      7,  12052,2,20051010,0611, 22.7545,-158.0212, 4748,    126,    125.2,  22.2076,  35.2061,2,  35.1995,2,    210.7,2, 22.1826,   -999.0,5,  -999.00,9,  -999.00,9,  -999.00,9,  -999.0,-999.000
     33KB174_1,  PRS2,     2, 20,      6,  12048,2,20051010,0611, 22.7545,-158.0212, 4748,    135,    135.1,  21.2191,  35.1561,2,  35.1534,2,    201.0,2, 21.1931,   -999.0,5,  -999.00,9,  -999.00,9,  -999.00,9,  -999.0,-999.000
     33KB174_1,  PRS2,     2, 20,      5,  12011,2,20051010,0611, 22.7545,-158.0212, 4748,    149,    149.0,  20.5615,  35.1314,2,  35.1284,2,    198.7,2, 20.5334,   -999.0,5,  -999.00,9,  -999.00,9,  -999.00,9,  -999.0,-999.000
     33KB174_1,  PRS2,     2, 20,      4,     36,2,20051010,0611, 22.7545,-158.0212, 4748,    176,    175.7,  18.5270,  34.8656,2,  34.8664,2,    193.6,2, 18.4962,   -999.0,5,  -999.00,9,  -999.00,9,  -999.00,9,  -999.0,-999.000
     33KB174_1,  PRS2,     2, 20,      3,  12053,2,20051010,0611, 22.7545,-158.0212, 4748,    539,    540.1,   6.7588,  34.0382,2,  34.0352,2,    110.0,2,  6.7088,   -999.0,5,  -999.00,9,  -999.00,9,  -999.00,9,  -999.0,-999.000
     33KB174_1,  PRS2,     2, 20,      2,      7,2,20051010,0611, 22.7545,-158.0212, 4748,    818,    818.0,   4.2605,  34.3153,2,-999.0000,5,     23.8,2,  4.1983,   -999.0,5,  -999.00,9,  -999.00,9,  -999.00,9,  -999.0,-999.000
     33KB174_1,  PRS2,     2, 20,      1,  12047,2,20051010,0611, 22.7545,-158.0212, 4748,   1020,   1019.5,   3.7571,  34.4599,2,  34.4602,2,     38.9,2,  3.6818,   -999.0,5,  -999.00,9,  -999.00,9,  -999.00,9,  -999.0,-999.000