BOTTLE,20090923WHPSIOMYS
EXPOCODE,SECT_ID,STNNBR,CASTNO,SAMPNO,BTLNBR,BTLNBR_FLAG_W,DATE,TIME,LATITUDE,LONGITUDE,DEPTH,CTDRAW,CTDPRS,CTDTMP,CTDSAL,CTDSAL_FLAG_W,SALNTY,SALNTY_FLAG_W,CTDOXY,CTDOXY_FLAG_W,THETA,OXYGEN,OXYGEN_FLAG_W,SILCAT,SILCAT_FLAG_W,NO2+NO3,NO2+NO3_FLAG_W,PHSPHT,PHSPHT_FLAG_W,REVPRS,REVTMP
,,,,,,,,,,,,,DBAR,ITS-90,PSS-78,,PSS-78,,UMOL/KG,,ITS-90,UMOL/KG,,UMOL/KG,,UMOL/KG,,UMOL/KG,,DBAR,DEG C
     33KB174_1,  PRS2,     2,  3,     24,     23,2,20051007,1205, 22.7498,-157.9998, 4746,     30,     30.8,  26.3170,  35.1893,2,-999.0000,9,    205.7,1, 26.3101,   -999.0,9,  -999.00,9,  -999.00,9,  -999.00,9,  -999.0,-999.000
     33KB174_1,  PRS2,     2,  3,      8,     29,2,20051007,1205, 22.7498,-157.9998, 4746,     31,     31.8,  26.3168,  35.1893,2,-999.0000,9,    205.6,1, 26.3096,   -999.0,9,  -999.00,9,  -999.00,9,  -999.00,9,  -999.0,-999.000
     33KB174_1,  PRS2,     2,  3,      4,     36,3,20051007,1205, 22.7498,-157.9998, 4746,     32,     31.8,  26.3159,  35.1893,2,-999.0000,9,    205.7,1, 26.3087,   -999.0,9,  -999.00,9,  -999.00,9,  -999.00,9,  -999.0,-999.000
     33KB174_1,  PRS2,     2,  3,      3,     35,2,20051007,1205, 22.7498,-157.9998, 4746,     31,     31.8,  26.3156,  35.1895,2,-999.0000,9,    205.7,1, 26.3085,   -999.0,9,  -999.00,9,  -999.00,9,  -999.00,9,  -999.0,-999.000
     33KB174_1,  PRS2,     2,  3,      2,      7,2,20051007,1205, 22.7498,-157.9998, 4746,     32,     31.8,  26.3158,  35.1894,2,-999.0000,9,    205.7,1, 26.3086,   -999.0,9,  -999.00,9,  -999.00,9,  -999.00,9,  -999.0,-999.000
     33KB174_1,  PRS2,     2,  3,      7,     28,2,20051007,1205, 22.7498,-157.9998, 4746,     32,     31.9,  26.3167,  35.1891,2,-999.0000,9,    205.5,1, 26.3095,   -999.0,9,  -999.00,9,  -999.00,9,  -999.00,9,  -999.0,-999.000
     33KB174_1,  PRS2,     2,  3,     10,     33,2,20051007,1205, 22.7498,-157.9998, 4746,     33,     32.0,  26.3169,  35.1891,2,-999.0000,9,    205.8,1, 26.3097,   -999.0,9,  -999.00,9,  -999.00,9,  -999.00,9,  -999.0,-999.000
     33KB174_1,  PRS2,     2,  3,      9,      3,2,20051007,1205, 22.7498,-157.9998, 4746,     32,     32.0,  26.3170,  35.1892,2,-999.0000,9,    205.7,1, 26.3098,   -999.0,9,  -999.00,9,  -999.00,9,  -999.00,9,  -999.0,-999.000
     33KB174_1,  PRS2,     2,  3,     20,     16,3,20051007,1205, 22.7498,-157.9998, 4746,     32,     32.1,  26.3167,  35.1892,2,-999.0000,9,    205.8,1, 26.3094,   -999.0,9,  -999.00,9,  -999.00,9,  -999.00,9,  -999.0,-999.000
     33KB174_1,  PRS2,     2,  3,     19,     19,2,20051007,1205, 22.7498,-157.9998, 4746,     32,     32.1,  26.3167,  35.1893,2,-999.0000,9,    205.8,1, 26.3095,   -999.0,9,  -999.00,9,  -999.00,9,  -999.00,9,  -999.0,-999.000
     33KB174_1,  PRS2,     2,  3,     18,     18,4,20051007,1205, 22.7498,-157.9998, 4746,     33,     32.1,  26.3171,  35.1893,2,-999.0000,9,    205.8,1, 26.3099,   -999.0,9,  -999.00,9,  -999.00,9,  -999.00,9,  -999.0,-999.000
     33KB174_1,  PRS2,     2,  3,     14,    101,2,20051007,1205, 22.7498,-157.9998, 4746,     32,     32.1,  26.3162,  35.1892,2,-999.0000,9,    205.9,1, 26.3089,   -999.0,9,  -999.00,9,  -999.00,9,  -999.00,9,  -999.0,-999.000
     33KB174_1,  PRS2,     2,  3,     13,     42,2,20051007,1205, 22.7498,-157.9998, 4746,     32,     32.1,  26.3162,  35.1891,2,-999.0000,9,    205.8,1, 26.3089,   -999.0,9,  -999.00,9,  -999.00,9,  -999.00,9,  -999.0,-999.000
     33KB174_1,  PRS2,     2,  3,     12,     12,2,20051007,1205, 22.7498,-157.9998, 4746,     31,     32.1,  26.3165,  35.1891,2,-999.0000,9,    205.8,1, 26.3092,   -999.0,9,  -999.00,9,  -999.00,9,  -999.00,9,  -999.0,-999.000
     33KB174_1,  PRS2,     2,  3,      5,     38,2,20051007,1205, 22.7498,-157.9998, 4746,     32,     32.1,  26.3167,  35.1892,2,-999.0000,9,    205.5,1, 26.3095,   -999.0,9,  -999.00,9,  -999.00,9,  -999.00,9,  -999.0,-999.000
     33KB174_1,  PRS2,     2,  3,     21,     21,2,20051007,1205, 22.7498,-157.9998, 4746,     33,     32.2,  26.3171,  35.1889,2,-999.0000,9,    205.7,1, 26.3099,   -999.0,9,  -999.00,9,  -999.00,9,  -999.00,9,  -999.0,-999.000
     33KB174_1,  PRS2,     2,  3,      6,     13,2,20051007,1205, 22.7498,-157.9998, 4746,     33,     32.2,  26.3167,  35.1891,2,-999.0000,9,    205.5,1, 26.3095,   -999.0,9,  -999.00,9,  -999.00,9,  -999.00,9,  -999.0,-999.000
     33KB174_1,  PRS2,     2,  3,     23,     30,2,20051007,1205, 22.7498,-157.9998, 4746,     35,     32.3,  26.3173,  35.1892,2,-999.0000,9,    205.7,1, 26.3100,   -999.0,9,  -999.00,9,  -999.00,9,  -999.00,9,  -999.0,-999.000
     33KB174_1,  PRS2,     2,  3,     17,     17,2,20051007,1205, 22.7498,-157.9998, 4746,     32,     32.3,  26.3170,  35.1893,2,-999.0000,9,    205.8,1, 26.3097,   -999.0,9,  -999.00,9,  -999.00,9,  -999.00,9,  -999.0,-999.000
     33KB174_1,  PRS2,     2,  3,     16,     34,2,20051007,1205, 22.7498,-157.9998, 4746,     33,     32.3,  26.3172,  35.1891,2,-999.0000,9,    205.9,1, 26.3100,   -999.0,9,  -999.00,9,  -999.00,9,  -999.00,9,  -999.0,-999.000
     33KB174_1,  PRS2,     2,  3,     15,    102,2,20051007,1205, 22.7498,-157.9998, 4746,     33,     32.3,  26.3172,  35.1892,2,-999.0000,9,    205.9,1, 26.3100,   -999.0,9,  -999.00,9,  -999.00,9,  -999.00,9,  -999.0,-999.000
     33KB174_1,  PRS2,     2,  3,     11,     39,2,20051007,1205, 22.7498,-157.9998, 4746,     32,     32.3,  26.3165,  35.1892,2,-999.0000,9,    205.8,1, 26.3092,   -999.0,9,  -999.00,9,  -999.00,9,  -999.00,9,  -999.0,-999.000
     33KB174_1,  PRS2,     2,  3,     22,     22,2,20051007,1205, 22.7498,-157.9998, 4746,     33,     32.4,  26.3173,  35.1892,2,-999.0000,9,    205.7,1, 26.3100,   -999.0,9,  -999.00,9,  -999.00,9,  -999.00,9,  -999.0,-999.000
     33KB174_1,  PRS2,     2,  3,      1,     11,2,20051007,1205, 22.7498,-157.9998, 4746,    707,    706.5,   4.8701,  34.1587,2,-999.0000,9,     42.4,1,  4.8138,   -999.0,9,  -999.00,9,  -999.00,9,  -999.00,9,  -999.0,-999.000
     33KB174_1,  PRS2,     2,  4,     19,     19,2,20051007,1609, 22.7508,-157.9977, 4743,      8,      8.4,  26.2721,  35.1777,2,-999.0000,5,    205.7,1, 26.2702,   -999.0,9,  -999.00,9,  -999.00,9,  -999.00,9,  -999.0,-999.000
     33KB174_1,  PRS2,     2,  4,     18,     18,2,20051007,1609, 22.7508,-157.9977, 4743,     25,     23.9,  26.2781,  35.1782,2,-999.0000,5,    205.7,1, 26.2727,   -999.0,9,  -999.00,9,  -999.00,9,  -999.00,9,  -999.0,-999.000
     33KB174_1,  PRS2,     2,  4,     17,     17,2,20051007,1609, 22.7508,-157.9977, 4743,     26,     24.4,  26.2788,  35.1788,2,  35.1772,2,    205.7,1, 26.2733,   -999.0,9,  -999.00,9,  -999.00,9,  -999.00,9,  -999.0,-999.000
     33KB174_1,  PRS2,     2,  4,     11,     39,2,20051007,1609, 22.7508,-157.9977, 4743,     29,     29.7,  26.2816,  35.1783,2,  35.2048,4,    205.4,1, 26.2749,   -999.0,9,  -999.00,9,  -999.00,9,  -999.00,9,  -999.0,-999.000
     33KB174_1,  PRS2,     2,  4,     12,     12,2,20051007,1609, 22.7508,-157.9977, 4743,     30,     29.8,  26.2817,  35.1783,2,-999.0000,5,    205.4,1, 26.2750,   -999.0,9,  -999.00,9,  -999.00,9,  -999.00,9,  -999.0,-999.000
     33KB174_1,  PRS2,     2,  4,     16,     34,2,20051007,1609, 22.7508,-157.9977, 4743,     30,     30.0,  26.2814,  35.1787,2,-999.0000,5,    205.6,1, 26.2747,   -999.0,9,  -999.00,9,  -999.00,9,  -999.00,9,  -999.0,-999.000
     33KB174_1,  PRS2,     2,  4,     14,    101,2,20051007,1609, 22.7508,-157.9977, 4743,     30,     30.0,  26.2810,  35.1785,2,-999.0000,5,    205.4,1, 26.2743,   -999.0,9,  -999.00,9,  -999.00,9,  -999.00,9,  -999.0,-999.000
     33KB174_1,  PRS2,     2,  4,     13,     42,2,20051007,1609, 22.7508,-157.9977, 4743,     30,     30.0,  26.2816,  35.1782,2,-999.0000,5,    205.4,1, 26.2749,   -999.0,9,  -999.00,9,  -999.00,9,  -999.00,9,  -999.0,-999.000
     33KB174_1,  PRS2,     2,  4,     15,    102,2,20051007,1609, 22.7508,-157.9977, 4743,     30,     30.1,  26.2810,  35.1786,2,-999.0000,5,    205.5,1, 26.2742,   -999.0,9,  -999.00,9,  -999.00,9,  -999.00,9,  -999.0,-999.000
     33KB174_1,  PRS2,     2,  4,     10,     33,2,20051007,1609, 22.7508,-157.9977, 4743,     44,     44.0,  26.2861,  35.1789,2,  35.1908,3,    205.5,1, 26.2762,   -999.0,9,  -999.00,9,  -999.00,9,  -999.00,9,  -999.0,-999.000
     33KB174_1,  PRS2,     2,  4,      9,      3,2,20051007,1609, 22.7508,-157.9977, 4743,     62,     60.7,  26.2909,  35.1789,2,  35.1888,2,    205.5,1, 26.2772,   -999.0,9,  -999.00,9,  -999.00,9,  -999.00,9,  -999.0,-999.000
     33KB174_1,  PRS2,     2,  4,      8,     29,2,20051007,1609, 22.7508,-157.9977, 4743,     76,     74.4,  26.2858,  35.1801,2,-999.0000,5,    205.8,1, 26.2691,   -999.0,9,  -999.00,9,  -999.00,9,  -999.00,9,  -999.0,-999.000
     33KB174_1,  PRS2,     2,  4,      7,     28,2,20051007,1609, 22.7508,-157.9977, 4743,     83,     83.6,  25.0910,  35.1624,2,  35.1902,4,    217.4,1, 25.0729,   -999.0,9,  -999.00,9,  -999.00,9,  -999.00,9,  -999.0,-999.000
     33KB174_1,  PRS2,     2,  4,      6,     13,2,20051007,1609, 22.7508,-157.9977, 4743,    101,     99.9,  23.6215,  35.1944,2,  35.1933,2,    220.0,1, 23.6007,   -999.0,9,  -999.00,9,  -999.00,9,  -999.00,9,  -999.0,-999.000
     33KB174_1,  PRS2,     2,  4,      5,     38,2,20051007,1609, 22.7508,-157.9977, 4743,    116,    115.6,  22.6930,  35.2012,2,-999.0000,5,    215.0,1, 22.6696,   -999.0,9,  -999.00,9,  -999.00,9,  -999.00,9,  -999.0,-999.000
     33KB174_1,  PRS2,     2,  4,      4,     36,2,20051007,1609, 22.7508,-157.9977, 4743,    125,    124.9,  22.0545,  35.2080,2,-999.0000,5,    209.2,1, 22.0297,   -999.0,9,  -999.00,9,  -999.00,9,  -999.00,9,  -999.0,-999.000
     33KB174_1,  PRS2,     2,  4,      3,     35,2,20051007,1609, 22.7508,-157.9977, 4743,    136,    135.6,  21.4176,  35.1862,2,  35.1865,2,    201.9,1, 21.3912,   -999.0,9,  -999.00,9,  -999.00,9,  -999.00,9,  -999.0,-999.000
     33KB174_1,  PRS2,     2,  4,      2,      7,2,20051007,1609, 22.7508,-157.9977, 4743,    149,    148.8,  20.9536,  35.1583,2,-999.0000,5,    201.5,1, 20.9251,   -999.0,9,  -999.00,9,  -999.00,9,  -999.00,9,  -999.0,-999.000
     33KB174_1,  PRS2,     2,  4,      1,     11,2,20051007,1609, 22.7508,-157.9977, 4743,    174,    174.0,  19.7258,  35.0673,2,-999.0000,5,    202.6,1, 19.6940,   -999.0,9,  -999.00,9,  -999.00,9,  -999.00,9,  -999.0,-999.000
     33KB174_1,  PRS2,     2,  5,     17,     17,2,20051007,1816, 22.7512,-157.9977, 4743,      9,      8.2,  26.2507,  35.1683,2,-999.0000,5,    205.9,1, 26.2488,   -999.0,9,  -999.00,9,  -999.00,9,  -999.00,9,  -999.0,-999.000
     33KB174_1,  PRS2,     2,  5,     15,    102,2,20051007,1816, 22.7512,-157.9977, 4743,     26,     25.1,  26.2510,  35.1684,2,  35.1750,2,    206.0,1, 26.2454,   -999.0,9,  -999.00,9,  -999.00,9,  -999.00,9,  -999.0,-999.000
     33KB174_1,  PRS2,     2,  5,     16,     34,2,20051007,1816, 22.7512,-157.9977, 4743,     26,     25.3,  26.2507,  35.1686,2,-999.0000,5,    206.0,1, 26.2451,   -999.0,9,  -999.00,9,  -999.00,9,  -999.00,9,  -999.0,-999.000
     33KB174_1,  PRS2,     2,  5,     14,    101,2,20051007,1816, 22.7512,-157.9977, 4743,     43,     43.4,  26.2554,  35.1685,2,  35.1697,2,    206.1,1, 26.2457,   -999.0,9,  -999.00,9,  -999.00,9,  -999.00,9,  -999.0,-999.000
     33KB174_1,  PRS2,     2,  5,     13,     42,3,20051007,1816, 22.7512,-157.9977, 4743,     49,     49.6,  26.2556,  35.1689,2,-999.0000,5,    206.1,1, 26.2445,   -999.0,9,  -999.00,9,  -999.00,9,  -999.00,9,  -999.0,-999.000
     33KB174_1,  PRS2,     2,  5,     11,     39,2,20051007,1816, 22.7512,-157.9977, 4743,     73,     73.6,  26.2585,  35.1686,2,  35.1666,2,    205.9,1, 26.2419,   -999.0,9,  -999.00,9,  -999.00,9,  -999.00,9,  -999.0,-999.000
     33KB174_1,  PRS2,     2,  5,     12,     12,2,20051007,1816, 22.7512,-157.9977, 4743,     74,     73.8,  26.2585,  35.1684,2,-999.0000,5,    205.9,1, 26.2419,   -999.0,9,  -999.00,9,  -999.00,9,  -999.00,9,  -999.0,-999.000
     33KB174_1,  PRS2,     2,  5,     10,     33,2,20051007,1816, 22.7512,-157.9977, 4743,    101,    100.5,  24.5497,  35.1792,2,  35.1868,2,    220.6,1, 24.5281,   -999.0,9,  -999.00,9,  -999.00,9,  -999.00,9,  -999.0,-999.000
     33KB174_1,  PRS2,     2,  5,      8,     29,2,20051007,1816, 22.7512,-157.9977, 4743,    126,    124.9,  22.7744,  35.2033,2,  35.2006,2,    214.5,1, 22.7491,   -999.0,9,  -999.00,9,  -999.00,9,  -999.00,9,  -999.0,-999.000
     33KB174_1,  PRS2,     2,  5,      9,      3,2,20051007,1816, 22.7512,-157.9977, 4743,    126,    125.1,  22.7857,  35.2021,2,-999.0000,5,    214.4,1, 22.7603,   -999.0,9,  -999.00,9,  -999.00,9,  -999.00,9,  -999.0,-999.000
     33KB174_1,  PRS2,     2,  5,      7,     28,2,20051007,1816, 22.7512,-157.9977, 4743,    150,    150.6,  21.7122,  35.1993,2,  35.2008,2,    207.2,1, 21.6826,   -999.0,9,  -999.00,9,  -999.00,9,  -999.00,9,  -999.0,-999.000
     33KB174_1,  PRS2,     2,  5,      6,     13,2,20051007,1816, 22.7512,-157.9977, 4743,    178,    174.8,  20.7572,  35.1443,2,  35.1435,2,    202.1,1, 20.7240,   -999.0,9,  -999.00,9,  -999.00,9,  -999.00,9,  -999.0,-999.000
     33KB174_1,  PRS2,     2,  5,      5,     38,2,20051007,1816, 22.7512,-157.9977, 4743,    199,    198.9,  19.7782,  35.0720,2,  35.0716,2,    202.5,1, 19.7417,   -999.0,9,  -999.00,9,  -999.00,9,  -999.00,9,  -999.0,-999.000
     33KB174_1,  PRS2,     2,  5,      4,     36,2,20051007,1816, 22.7512,-157.9977, 4743,    301,    299.3,  14.2155,  34.4336,2,-999.0000,5,    208.2,1, 14.1719,   -999.0,9,  -999.00,9,  -999.00,9,  -999.00,9,  -999.0,-999.000
     33KB174_1,  PRS2,     2,  5,      3,     35,2,20051007,1816, 22.7512,-157.9977, 4743,    501,    500.2,   7.8503,  34.0540,2,-999.0000,5,    150.2,1,  7.8000,   -999.0,9,  -999.00,9,  -999.00,9,  -999.00,9,  -999.0,-999.000
     33KB174_1,  PRS2,     2,  5,      2,      7,2,20051007,1816, 22.7512,-157.9977, 4743,    701,    700.5,   4.8805,  34.1566,2,-999.0000,5,     43.6,1,  4.8247,   -999.0,9,  -999.00,9,  -999.00,9,  -999.00,9,  -999.0,-999.000
     33KB174_1,  PRS2,     2,  5,      1,     11,2,20051007,1816, 22.7512,-157.9977, 4743,   1019,   1019.4,   3.8950,  34.4763,2,-999.0000,5,     42.7,1,  3.8186,   -999.0,9,  -999.00,9,  -999.00,9,  -999.00,9,  -999.0,-999.000
     33KB174_1,  PRS2,     2,  6,     23,  12048,2,20051008,0050, 22.7515,-157.9965, 4743,      8,      7.9,  26.2824,  35.1682,2,-999.0000,5,    206.5,1, 26.2806,   -999.0,9,  -999.00,9,  -999.00,9,  -999.00,9,  -999.0,-999.000
     33KB174_1,  PRS2,     2,  6,     22,     22,2,20051008,0050, 22.7515,-157.9965, 4743,      9,      8.0,  26.2825,  35.1682,2,-999.0000,5,    206.6,1, 26.2807,   -999.0,9,  -999.00,9,  -999.00,9,  -999.00,9,  -999.0,-999.000
     33KB174_1,  PRS2,     2,  6,     21,     21,2,20051008,0050, 22.7515,-157.9965, 4743,      8,      8.0,  26.2825,  35.1682,2,  35.1715,2,    206.7,1, 26.2807,   -999.0,9,  -999.00,9,  -999.00,9,  -999.00,9,  -999.0,-999.000
     33KB174_1,  PRS2,     2,  6,     20,     16,2,20051008,0050, 22.7515,-157.9965, 4743,      8,      8.0,  26.2817,  35.1680,2,  35.1671,2,    206.7,1, 26.2799,   -999.0,9,  -999.00,9,  -999.00,9,  -999.00,9,  -999.0,-999.000
     33KB174_1,  PRS2,     2,  6,     19,     19,3,20051008,0050, 22.7515,-157.9965, 4743,     17,     16.4,  26.2824,  35.1707,2,  35.1735,2,    207.0,1, 26.2787,   -999.0,9,  -999.00,9,  -999.00,9,  -999.00,9,  -999.0,-999.000
     33KB174_1,  PRS2,     2,  6,     18,     18,2,20051008,0050, 22.7515,-157.9965, 4743,     26,     25.6,  26.2864,  35.1685,2,  35.1662,2,    206.9,1, 26.2807,   -999.0,9,  -999.00,9,  -999.00,9,  -999.00,9,  -999.0,-999.000
     33KB174_1,  PRS2,     2,  6,     17,     17,2,20051008,0050, 22.7515,-157.9965, 4743,     35,     34.5,  26.2883,  35.1689,2,  35.1703,2,    206.8,1, 26.2806,   -999.0,9,  -999.00,9,  -999.00,9,  -999.00,9,  -999.0,-999.000
     33KB174_1,  PRS2,     2,  6,     16,     34,2,20051008,0050, 22.7515,-157.9965, 4743,     35,     34.5,  26.2884,  35.1687,2,  35.1677,2,    206.7,1, 26.2807,   -999.0,9,  -999.00,9,  -999.00,9,  -999.00,9,  -999.0,-999.000
     33KB174_1,  PRS2,     2,  6,     15,    102,2,20051008,0050, 22.7515,-157.9965, 4743,     43,     43.5,  26.2778,  35.1757,2,  35.1742,2,    206.8,1, 26.2680,   -999.0,9,  -999.00,9,  -999.00,9,  -999.00,9,  -999.0,-999.000
     33KB174_1,  PRS2,     2,  6,     14,    101,2,20051008,0050, 22.7515,-157.9965, 4743,     59,     59.2,  26.2848,  35.1791,2,  35.1776,2,    206.9,1, 26.2714,   -999.0,9,  -999.00,9,  -999.00,9,  -999.00,9,  -999.0,-999.000
     33KB174_1,  PRS2,     2,  6,     13,     42,2,20051008,0050, 22.7515,-157.9965, 4743,     76,     74.8,  26.2689,  35.1813,2,  35.1805,2,    206.2,1, 26.2521,   -999.0,9,  -999.00,9,  -999.00,9,  -999.00,9,  -999.0,-999.000
     33KB174_1,  PRS2,     2,  6,     12,     12,2,20051008,0050, 22.7515,-157.9965, 4743,    100,     99.2,  23.3997,  35.2087,2,  35.2073,2,    222.8,1, 23.3792,   -999.0,9,  -999.00,9,  -999.00,9,  -999.00,9,  -999.0,-999.000
     33KB174_1,  PRS2,     2,  6,     11,     39,2,20051008,0050, 22.7515,-157.9965, 4743,    124,    124.6,  21.5070,  35.1904,2,  35.1902,2,    203.9,1, 21.4827,   -999.0,9,  -999.00,9,  -999.00,9,  -999.00,9,  -999.0,-999.000
     33KB174_1,  PRS2,     2,  6,     10,     33,2,20051008,0050, 22.7515,-157.9965, 4743,    150,    149.5,  19.9991,  35.0910,2,  35.0963,2,    201.7,1, 19.9715,   -999.0,9,  -999.00,9,  -999.00,9,  -999.00,9,  -999.0,-999.000
     33KB174_1,  PRS2,     2,  6,      9,      3,2,20051008,0050, 22.7515,-157.9965, 4743,    176,    175.0,  18.7030,  34.9718,2,  34.9709,2,    207.5,1, 18.6722,   -999.0,9,  -999.00,9,  -999.00,9,  -999.00,9,  -999.0,-999.000
     33KB174_1,  PRS2,     2,  6,      8,  12054,2,20051008,0050, 22.7515,-157.9965, 4743,    201,    200.7,  17.3057,  34.8162,2,  34.8178,2,    209.8,1, 17.2722,   -999.0,9,  -999.00,9,  -999.00,9,  -999.00,9,  -999.0,-999.000
     33KB174_1,  PRS2,     2,  6,      7,  12052,2,20051008,0050, 22.7515,-157.9965, 4743,    398,    398.8,   9.9012,  34.1292,2,  34.1293,2,    193.2,1,  9.8553,   -999.0,9,  -999.00,9,  -999.00,9,  -999.00,9,  -999.0,-999.000
     33KB174_1,  PRS2,     2,  6,      6,     13,2,20051008,0050, 22.7515,-157.9965, 4743,    502,    501.7,   7.4514,  34.0426,2,  34.0401,2,    139.9,1,  7.4024,   -999.0,9,  -999.00,9,  -999.00,9,  -999.00,9,  -999.0,-999.000
     33KB174_1,  PRS2,     2,  6,      5,  12011,2,20051008,0050, 22.7515,-157.9965, 4743,    599,    600.3,   5.7011,  34.0912,2,  34.0954,2,     62.2,1,  5.6500,   -999.0,9,  -999.00,9,  -999.00,9,  -999.00,9,  -999.0,-999.000
     33KB174_1,  PRS2,     2,  6,      4,     36,2,20051008,0050, 22.7515,-157.9965, 4743,    800,    800.2,   4.3735,  34.2850,2,  34.2827,2,     24.6,1,  4.3121,   -999.0,9,  -999.00,9,  -999.00,9,  -999.00,9,  -999.0,-999.000
     33KB174_1,  PRS2,     2,  6,      3,  12053,2,20051008,0050, 22.7515,-157.9965, 4743,    800,    800.2,   4.3738,  34.2849,2,  34.6971,4,     24.6,1,  4.3124,   -999.0,9,  -999.00,9,  -999.00,9,  -999.00,9,  -999.0,-999.000
     33KB174_1,  PRS2,     2,  6,      1,     11,2,20051008,0050, 22.7515,-157.9965, 4743,   1019,   1019.7,   3.8556,  34.4758,2,  34.4767,2,     42.4,1,  3.7795,   -999.0,9,  -999.00,9,  -999.00,9,  -999.00,9,  -999.0,-999.000
     33KB174_1,  PRS2,     2,  6,      2,  12047,2,20051008,0050, 22.7515,-157.9965, 4743,   1020,   1019.8,   3.8553,  34.4755,2,  34.4760,2,     42.3,1,  3.7792,   -999.0,9,  -999.00,9,  -999.00,9,  -999.00,9,  -999.0,-999.000