BOTTLE,20090923WHPSIOMYS
EXPOCODE,SECT_ID,STNNBR,CASTNO,SAMPNO,BTLNBR,BTLNBR_FLAG_W,DATE,TIME,LATITUDE,LONGITUDE,DEPTH,CTDRAW,CTDPRS,CTDTMP,CTDSAL,CTDSAL_FLAG_W,SALNTY,SALNTY_FLAG_W,CTDOXY,CTDOXY_FLAG_W,THETA,OXYGEN,OXYGEN_FLAG_W,SILCAT,SILCAT_FLAG_W,NO2+NO3,NO2+NO3_FLAG_W,PHSPHT,PHSPHT_FLAG_W,REVPRS,REVTMP
,,,,,,,,,,,,,DBAR,ITS-90,PSS-78,,PSS-78,,UMOL/KG,,ITS-90,UMOL/KG,,UMOL/KG,,UMOL/KG,,UMOL/KG,,DBAR,DEG C
     33KB174_1,  PRS2,     2, 21,     24,     23,2,20051010,0906, 22.7500,-157.9997, 4746,      4,      4.8,  26.2028,  35.1496,2,-999.0000,5,    205.2,2, 26.2017,   -999.0,5,  -999.00,9,  -999.00,9,  -999.00,9,  -999.0,-999.000
     33KB174_1,  PRS2,     2, 21,     23,     30,2,20051010,0906, 22.7500,-157.9997, 4746,      5,      5.7,  26.2024,  35.1499,2,-999.0000,5,    205.2,2, 26.2012,   -999.0,5,  -999.00,9,  -999.00,9,  -999.00,9,  -999.0,-999.000
     33KB174_1,  PRS2,     2, 21,     21,     21,2,20051010,0906, 22.7500,-157.9997, 4746,      6,      5.9,  26.2040,  35.1500,2,-999.0000,5,    205.1,2, 26.2027,   -999.0,5,  -999.00,9,  -999.00,9,  -999.00,9,  -999.0,-999.000
     33KB174_1,  PRS2,     2, 21,     20,     16,2,20051010,0906, 22.7500,-157.9997, 4746,      5,      5.9,  26.2044,  35.1503,2,-999.0000,5,    205.0,2, 26.2031,    204.0,2,  -999.00,9,  -999.00,9,  -999.00,9,  -999.0,-999.000
     33KB174_1,  PRS2,     2, 21,     22,     22,2,20051010,0906, 22.7500,-157.9997, 4746,      6,      6.1,  26.2027,  35.1500,2,-999.0000,5,    205.1,2, 26.2013,   -999.0,5,  -999.00,9,  -999.00,9,  -999.00,9,  -999.0,-999.000
     33KB174_1,  PRS2,     2, 21,     19,     19,2,20051010,0906, 22.7500,-157.9997, 4746,     82,     81.1,  24.8989,  35.1919,2,  35.1947,2,    220.2,2, 24.8814,    220.0,2,  -999.00,9,  -999.00,9,  -999.00,9,  -999.0,-999.000
     33KB174_1,  PRS2,     2, 21,     18,     18,2,20051010,0906, 22.7500,-157.9997, 4746,    538,    539.9,   6.6198,  34.0399,2,  34.0380,2,    105.6,2,  6.5703,    103.4,2,  -999.00,9,  -999.00,9,  -999.00,9,  -999.0,-999.000
     33KB174_1,  PRS2,     2, 21,     17,     17,2,20051010,0906, 22.7500,-157.9997, 4746,    821,    820.5,   4.3837,  34.2814,2,  34.2815,2,     24.4,2,  4.3206,     25.2,2,  -999.00,9,  -999.00,9,  -999.00,9,  -999.0,-999.000
     33KB174_1,  PRS2,     2, 21,     16,     34,2,20051010,0906, 22.7500,-157.9997, 4746,   1000,    999.9,   3.9464,  34.4410,2,  34.4414,2,     36.3,2,  3.8713,   -999.0,5,  -999.00,9,  -999.00,9,  -999.00,9,  -999.0,-999.000
     33KB174_1,  PRS2,     2, 21,     15,  12054,2,20051010,0906, 22.7500,-157.9997, 4746,   1099,   1099.4,   3.6834,  34.4948,2,  34.4952,2,     44.6,2,  3.6021,   -999.0,5,  -999.00,9,  -999.00,9,  -999.00,9,  -999.0,-999.000
     33KB174_1,  PRS2,     2, 21,     14,  12052,2,20051010,0906, 22.7500,-157.9997, 4746,   1202,   1200.2,   3.4272,  34.5307,2,  34.5313,2,     52.4,2,  3.3398,   -999.0,5,  -999.00,9,  -999.00,9,  -999.00,9,  -999.0,-999.000
     33KB174_1,  PRS2,     2, 21,     13,  12048,2,20051010,0906, 22.7500,-157.9997, 4746,   1499,   1499.9,   2.8180,  34.5781,2,  34.5796,2,     66.2,2,  2.7123,   -999.0,5,  -999.00,9,  -999.00,9,  -999.00,9,  -999.0,-999.000
     33KB174_1,  PRS2,     2, 21,     12,  12011,2,20051010,0906, 22.7500,-157.9997, 4746,   2001,   2000.9,   2.1689,  34.6189,2,-999.0000,5,     87.1,2,  2.0298,   -999.0,5,  -999.00,9,  -999.00,9,  -999.00,9,  -999.0,-999.000
     33KB174_1,  PRS2,     2, 21,     11,     39,2,20051010,0906, 22.7500,-157.9997, 4746,   2002,   2000.9,   2.1691,  34.6191,2,  34.6199,2,     87.2,2,  2.0301,     87.4,2,  -999.00,9,  -999.00,9,  -999.00,9,  -999.0,-999.000
     33KB174_1,  PRS2,     2, 21,      6,     13,2,20051010,0906, 22.7500,-157.9997, 4746,   3001,   3000.2,   1.5610,  34.6697,2,-999.0000,5,    121.7,2,  1.3429,   -999.0,5,  -999.00,9,  -999.00,9,  -999.00,9,  -999.0,-999.000
     33KB174_1,  PRS2,     2, 21,      5,     38,2,20051010,0906, 22.7500,-157.9997, 4746,   2999,   3000.3,   1.5609,  34.6698,2,-999.0000,5,    121.9,2,  1.3428,   -999.0,5,  -999.00,9,  -999.00,9,  -999.00,9,  -999.0,-999.000
     33KB174_1,  PRS2,     2, 21,      8,     29,2,20051010,0906, 22.7500,-157.9997, 4746,   3000,   3000.4,   1.5611,  34.6696,2,-999.0000,5,    121.7,2,  1.3430,   -999.0,5,  -999.00,9,  -999.00,9,  -999.00,9,  -999.0,-999.000
     33KB174_1,  PRS2,     2, 21,     10,     33,2,20051010,0906, 22.7500,-157.9997, 4746,   3000,   3000.5,   1.5612,  34.6695,2,-999.0000,5,    121.6,2,  1.3430,   -999.0,5,  -999.00,9,  -999.00,9,  -999.00,9,  -999.0,-999.000
     33KB174_1,  PRS2,     2, 21,      9,      3,2,20051010,0906, 22.7500,-157.9997, 4746,   3000,   3000.5,   1.5613,  34.6694,2,-999.0000,5,    121.6,2,  1.3431,   -999.0,5,  -999.00,9,  -999.00,9,  -999.00,9,  -999.0,-999.000
     33KB174_1,  PRS2,     2, 21,      7,     28,2,20051010,0906, 22.7500,-157.9997, 4746,   3001,   3000.5,   1.5611,  34.6695,2,-999.0000,5,    121.7,2,  1.3430,   -999.0,5,  -999.00,9,  -999.00,9,  -999.00,9,  -999.0,-999.000
     33KB174_1,  PRS2,     2, 21,      4,     36,2,20051010,0906, 22.7500,-157.9997, 4746,   3001,   3000.6,   1.5608,  34.6696,2,-999.0000,5,    121.9,2,  1.3426,    122.5,2,  -999.00,9,  -999.00,9,  -999.00,9,  -999.0,-999.000
     33KB174_1,  PRS2,     2, 21,      3,  12053,2,20051010,0906, 22.7500,-157.9997, 4746,   4003,   4001.6,   1.4526,  34.6888,2,  34.6883,2,    147.7,2,  1.1348,    147.4,2,  -999.00,9,  -999.00,9,  -999.00,9,  -999.0,-999.000
     33KB174_1,  PRS2,     2, 21,      2,      7,2,20051010,0906, 22.7500,-157.9997, 4746,   4804,   4805.1,   1.5213,  34.6906,2,  34.6914,2,    151.0,2,  1.1098,    150.5,2,  -999.00,9,  -999.00,9,  -999.00,9,  -999.0,-999.000
     33KB174_1,  PRS2,     2, 21,      1,  12047,2,20051010,0906, 22.7500,-157.9997, 4746,   4805,   4805.1,   1.5212,  34.6907,2,  34.6914,2,    151.1,2,  1.1098,   -999.0,5,  -999.00,9,  -999.00,9,  -999.00,9,  -999.0,-999.000
     33KB174_1,  PRS2,     6,  1,     13,  12048,2,20051011,0650, 21.8465,-158.3632, 2439,      7,      7.2,  26.3149,  35.0307,2,  35.0293,2,    201.6,1, 26.3133,   -999.0,9,  -999.00,9,  -999.00,9,  -999.00,9,  -999.0,-999.000
     33KB174_1,  PRS2,     6,  1,     12,  12011,2,20051011,0650, 21.8465,-158.3632, 2439,     25,     26.2,  26.3017,  35.0489,2,  35.0433,2,    201.9,1, 26.2958,   -999.0,9,  -999.00,9,  -999.00,9,  -999.00,9,  -999.0,-999.000
     33KB174_1,  PRS2,     6,  1,     11,     39,3,20051011,0650, 21.8465,-158.3632, 2439,     42,     43.7,  26.1850,  35.0405,2,  35.0411,2,    202.3,1, 26.1752,   -999.0,9,  -999.00,9,  -999.00,9,  -999.00,9,  -999.0,-999.000
     33KB174_1,  PRS2,     6,  1,     10,     33,2,20051011,0650, 21.8465,-158.3632, 2439,     75,     75.9,  23.4990,  35.0708,2,  35.0709,2,    214.6,1, 23.4833,   -999.0,9,  -999.00,9,  -999.00,9,  -999.00,9,  -999.0,-999.000
     33KB174_1,  PRS2,     6,  1,      9,      3,2,20051011,0650, 21.8465,-158.3632, 2439,    101,     99.8,  22.3126,  35.1140,2,  35.1138,2,    203.5,1, 22.2927,   -999.0,9,  -999.00,9,  -999.00,9,  -999.00,9,  -999.0,-999.000
     33KB174_1,  PRS2,     6,  1,      8,     29,2,20051011,0650, 21.8465,-158.3632, 2439,    125,    125.0,  21.4195,  35.1573,2,  35.1553,2,    200.9,1, 21.3952,   -999.0,9,  -999.00,9,  -999.00,9,  -999.00,9,  -999.0,-999.000
     33KB174_1,  PRS2,     6,  1,      7,     28,2,20051011,0650, 21.8465,-158.3632, 2439,    150,    150.3,  20.8216,  35.1537,2,  35.1520,2,    197.3,1, 20.7930,   -999.0,9,  -999.00,9,  -999.00,9,  -999.00,9,  -999.0,-999.000
     33KB174_1,  PRS2,     6,  1,      6,     13,2,20051011,0650, 21.8465,-158.3632, 2439,    175,    175.8,  18.9590,  34.8887,2,  34.8890,2,    191.2,1, 18.9277,   -999.0,9,  -999.00,9,  -999.00,9,  -999.00,9,  -999.0,-999.000
     33KB174_1,  PRS2,     6,  1,      5,     38,2,20051011,0650, 21.8465,-158.3632, 2439,    499,    499.6,   6.2391,  34.1757,2,  34.1734,2,     50.7,1,  6.1948,   -999.0,9,  -999.00,9,  -999.00,9,  -999.00,9,  -999.0,-999.000
     33KB174_1,  PRS2,     6,  1,      4,     36,2,20051011,0650, 21.8465,-158.3632, 2439,    998,    999.5,   4.0996,  34.5072,2,  34.5058,2,     39.4,1,  4.0232,   -999.0,9,  -999.00,9,  -999.00,9,  -999.00,9,  -999.0,-999.000
     33KB174_1,  PRS2,     6,  1,      3,  12053,2,20051011,0650, 21.8465,-158.3632, 2439,   1499,   1499.5,   2.7957,  34.5831,2,  34.5822,2,     64.8,1,  2.6902,   -999.0,9,  -999.00,9,  -999.00,9,  -999.00,9,  -999.0,-999.000
     33KB174_1,  PRS2,     6,  1,      2,      7,2,20051011,0650, 21.8465,-158.3632, 2439,   1999,   1999.9,   2.0855,  34.6266,2,  34.6266,2,     91.5,1,  1.9478,   -999.0,9,  -999.00,9,  -999.00,9,  -999.00,9,  -999.0,-999.000
     33KB174_1,  PRS2,     6,  1,      1,  12047,4,20051011,0650, 21.8465,-158.3632, 2439,   2451,   2449.4,   1.7855,  34.6504,2,-999.0000,5,    107.6,1,  1.6137,   -999.0,9,  -999.00,9,  -999.00,9,  -999.00,9,  -999.0,-999.000
     33KB174_1,  PRS2,    51,  1,     13,  12048,2,20051010,1927, 22.7613,-158.1317, 4787,     32,     32.1,  26.2112,  35.1460,2,-999.0000,5,    203.2,1, 26.2040,   -999.0,9,  -999.00,9,  -999.00,9,  -999.00,9,  -999.0,-999.000
     33KB174_1,  PRS2,    51,  1,     12,  12011,2,20051010,1927, 22.7613,-158.1317, 4787,     32,     32.1,  26.2104,  35.1459,2,-999.0000,5,    203.2,1, 26.2032,   -999.0,9,  -999.00,9,  -999.00,9,  -999.00,9,  -999.0,-999.000
     33KB174_1,  PRS2,    51,  1,      2,      7,2,20051010,1927, 22.7613,-158.1317, 4787,     32,     32.1,  26.2100,  35.1461,2,-999.0000,5,    203.3,1, 26.2028,   -999.0,9,  -999.00,9,  -999.00,9,  -999.00,9,  -999.0,-999.000
     33KB174_1,  PRS2,    51,  1,     14,  12052,2,20051010,1927, 22.7613,-158.1317, 4787,     32,     32.2,  26.2115,  35.1461,2,-999.0000,5,    203.2,1, 26.2043,   -999.0,9,  -999.00,9,  -999.00,9,  -999.00,9,  -999.0,-999.000
     33KB174_1,  PRS2,    51,  1,     11,     39,2,20051010,1927, 22.7613,-158.1317, 4787,     33,     32.2,  26.2097,  35.1458,2,-999.0000,5,    203.2,1, 26.2025,   -999.0,9,  -999.00,9,  -999.00,9,  -999.00,9,  -999.0,-999.000
     33KB174_1,  PRS2,    51,  1,      9,      3,2,20051010,1927, 22.7613,-158.1317, 4787,     32,     32.2,  26.2104,  35.1460,2,-999.0000,5,    203.2,1, 26.2032,   -999.0,9,  -999.00,9,  -999.00,9,  -999.00,9,  -999.0,-999.000
     33KB174_1,  PRS2,    51,  1,     21,     21,3,20051010,1927, 22.7613,-158.1317, 4787,     34,     32.3,  26.2109,  35.1461,2,-999.0000,5,    203.3,1, 26.2037,   -999.0,9,  -999.00,9,  -999.00,9,  -999.00,9,  -999.0,-999.000
     33KB174_1,  PRS2,    51,  1,     15,    102,2,20051010,1927, 22.7613,-158.1317, 4787,     33,     32.3,  26.2116,  35.1461,2,-999.0000,5,    203.2,1, 26.2043,   -999.0,9,  -999.00,9,  -999.00,9,  -999.00,9,  -999.0,-999.000
     33KB174_1,  PRS2,    51,  1,     10,     33,2,20051010,1927, 22.7613,-158.1317, 4787,     33,     32.3,  26.2098,  35.1460,2,-999.0000,5,    203.2,1, 26.2025,   -999.0,9,  -999.00,9,  -999.00,9,  -999.00,9,  -999.0,-999.000
     33KB174_1,  PRS2,    51,  1,      8,     29,2,20051010,1927, 22.7613,-158.1317, 4787,     32,     32.4,  26.2110,  35.1461,2,-999.0000,5,    203.2,1, 26.2037,   -999.0,9,  -999.00,9,  -999.00,9,  -999.00,9,  -999.0,-999.000
     33KB174_1,  PRS2,    51,  1,      5,     38,2,20051010,1927, 22.7613,-158.1317, 4787,     31,     32.4,  26.2102,  35.1462,2,-999.0000,5,    203.4,1, 26.2029,   -999.0,9,  -999.00,9,  -999.00,9,  -999.00,9,  -999.0,-999.000
     33KB174_1,  PRS2,    51,  1,      4,     36,2,20051010,1927, 22.7613,-158.1317, 4787,     34,     32.4,  26.2102,  35.1462,2,-999.0000,5,    203.7,1, 26.2030,   -999.0,9,  -999.00,9,  -999.00,9,  -999.00,9,  -999.0,-999.000
     33KB174_1,  PRS2,    51,  1,     24,     23,3,20051010,1927, 22.7613,-158.1317, 4787,     33,     32.5,  26.2113,  35.1460,2,  35.1441,2,    203.3,1, 26.2040,   -999.0,9,  -999.00,9,  -999.00,9,  -999.00,9,  -999.0,-999.000
     33KB174_1,  PRS2,    51,  1,     23,     30,2,20051010,1927, 22.7613,-158.1317, 4787,     33,     32.5,  26.2111,  35.1460,2,-999.0000,5,    203.3,1, 26.2038,   -999.0,9,  -999.00,9,  -999.00,9,  -999.00,9,  -999.0,-999.000
     33KB174_1,  PRS2,    51,  1,     22,     22,2,20051010,1927, 22.7613,-158.1317, 4787,     33,     32.5,  26.2112,  35.1459,2,-999.0000,5,    203.3,1, 26.2039,   -999.0,9,  -999.00,9,  -999.00,9,  -999.00,9,  -999.0,-999.000
     33KB174_1,  PRS2,    51,  1,     20,     16,2,20051010,1927, 22.7613,-158.1317, 4787,     32,     32.5,  26.2109,  35.1460,2,-999.0000,5,    203.3,1, 26.2036,   -999.0,9,  -999.00,9,  -999.00,9,  -999.00,9,  -999.0,-999.000
     33KB174_1,  PRS2,    51,  1,     19,     19,3,20051010,1927, 22.7613,-158.1317, 4787,     33,     32.5,  26.2111,  35.1461,2,-999.0000,5,    203.3,1, 26.2038,   -999.0,9,  -999.00,9,  -999.00,9,  -999.00,9,  -999.0,-999.000
     33KB174_1,  PRS2,    51,  1,     17,     17,2,20051010,1927, 22.7613,-158.1317, 4787,     33,     32.5,  26.2114,  35.1460,2,-999.0000,5,    203.3,1, 26.2041,   -999.0,9,  -999.00,9,  -999.00,9,  -999.00,9,  -999.0,-999.000
     33KB174_1,  PRS2,    51,  1,     16,     34,2,20051010,1927, 22.7613,-158.1317, 4787,     32,     32.5,  26.2115,  35.1460,2,-999.0000,5,    203.2,1, 26.2042,   -999.0,9,  -999.00,9,  -999.00,9,  -999.00,9,  -999.0,-999.000
     33KB174_1,  PRS2,    51,  1,      6,     13,2,20051010,1927, 22.7613,-158.1317, 4787,     33,     32.5,  26.2101,  35.1461,2,-999.0000,5,    203.3,1, 26.2029,   -999.0,9,  -999.00,9,  -999.00,9,  -999.00,9,  -999.0,-999.000
     33KB174_1,  PRS2,    51,  1,      3,  12053,2,20051010,1927, 22.7613,-158.1317, 4787,     32,     32.5,  26.2103,  35.1462,2,-999.0000,5,    203.7,1, 26.2030,   -999.0,9,  -999.00,9,  -999.00,9,  -999.00,9,  -999.0,-999.000
     33KB174_1,  PRS2,    51,  1,     18,     18,2,20051010,1927, 22.7613,-158.1317, 4787,     33,     32.6,  26.2112,  35.1461,2,-999.0000,5,    203.3,1, 26.2039,   -999.0,9,  -999.00,9,  -999.00,9,  -999.00,9,  -999.0,-999.000
     33KB174_1,  PRS2,    51,  1,      7,     28,2,20051010,1927, 22.7613,-158.1317, 4787,     34,     32.7,  26.2105,  35.1460,2,-999.0000,5,    203.3,1, 26.2031,   -999.0,9,  -999.00,9,  -999.00,9,  -999.00,9,  -999.0,-999.000
     33KB174_1,  PRS2,    51,  1,      1,  12047,2,20051010,1927, 22.7613,-158.1317, 4787,    204,    203.1,  18.6422,  34.8838,2,  34.8853,2,    193.8,1, 18.6065,   -999.0,9,  -999.00,9,  -999.00,9,  -999.00,9,  -999.0,-999.000