BOTTLE,20090923WHPSIOMYS
EXPOCODE,SECT_ID,STNNBR,CASTNO,SAMPNO,BTLNBR,BTLNBR_FLAG_W,DATE,TIME,LATITUDE,LONGITUDE,DEPTH,CTDRAW,CTDPRS,CTDTMP,CTDSAL,CTDSAL_FLAG_W,SALNTY,SALNTY_FLAG_W,CTDOXY,CTDOXY_FLAG_W,THETA,OXYGEN,OXYGEN_FLAG_W,SILCAT,SILCAT_FLAG_W,NO2+NO3,NO2+NO3_FLAG_W,PHSPHT,PHSPHT_FLAG_W,REVPRS,REVTMP
,,,,,,,,,,,,,DBAR,ITS-90,PSS-78,,PSS-78,,UMOL/KG,,ITS-90,UMOL/KG,,UMOL/KG,,UMOL/KG,,UMOL/KG,,DBAR,DEG C
     33KB174_1,  PRS2,     2,  7,     24,     23,3,20051008,0431, 22.7498,-158.0002, 4745,      8,      8.3,  26.2533,  35.1734,2,  35.1835,2,    206.5,1, 26.2514,   -999.0,9,  -999.00,9,  -999.00,9,  -999.00,9,  -999.0,-999.000
     33KB174_1,  PRS2,     2,  7,     23,  12048,2,20051008,0431, 22.7498,-158.0002, 4745,     27,     26.3,  26.2542,  35.1723,2,  35.1719,2,    206.5,1, 26.2483,   -999.0,9,  -999.00,9,  -999.00,9,  -999.00,9,  -999.0,-999.000
     33KB174_1,  PRS2,     2,  7,     21,     21,2,20051008,0431, 22.7498,-158.0002, 4745,     30,     29.7,  26.2518,  35.1716,2,-999.0000,5,    206.5,1, 26.2451,   -999.0,9,  -999.00,9,  -999.00,9,  -999.00,9,  -999.0,-999.000
     33KB174_1,  PRS2,     2,  7,     20,     16,3,20051008,0431, 22.7498,-158.0002, 4745,     29,     29.7,  26.2513,  35.1716,2,-999.0000,5,    206.5,1, 26.2447,   -999.0,9,  -999.00,9,  -999.00,9,  -999.00,9,  -999.0,-999.000
     33KB174_1,  PRS2,     2,  7,     22,     22,2,20051008,0431, 22.7498,-158.0002, 4745,     31,     29.9,  26.2514,  35.1718,2,-999.0000,5,    206.5,1, 26.2447,   -999.0,9,  -999.00,9,  -999.00,9,  -999.00,9,  -999.0,-999.000
     33KB174_1,  PRS2,     2,  7,     19,     19,3,20051008,0431, 22.7498,-158.0002, 4745,     44,     44.2,  26.2553,  35.1720,2,-999.0000,5,    206.6,1, 26.2454,   -999.0,9,  -999.00,9,  -999.00,9,  -999.00,9,  -999.0,-999.000
     33KB174_1,  PRS2,     2,  7,     18,     18,2,20051008,0431, 22.7498,-158.0002, 4745,     60,     60.7,  26.2591,  35.1722,2,  35.1707,2,    206.8,1, 26.2455,   -999.0,9,  -999.00,9,  -999.00,9,  -999.00,9,  -999.0,-999.000
     33KB174_1,  PRS2,     2,  7,     17,     17,2,20051008,0431, 22.7498,-158.0002, 4745,     76,     74.8,  26.2582,  35.1719,2,  35.1697,2,    206.9,1, 26.2414,   -999.0,9,  -999.00,9,  -999.00,9,  -999.00,9,  -999.0,-999.000
     33KB174_1,  PRS2,     2,  7,     16,     34,2,20051008,0431, 22.7498,-158.0002, 4745,     85,     85.9,  26.2519,  35.1719,2,  35.1699,2,    207.1,1, 26.2326,   -999.0,9,  -999.00,9,  -999.00,9,  -999.00,9,  -999.0,-999.000
     33KB174_1,  PRS2,     2,  7,     15,    102,2,20051008,0431, 22.7498,-158.0002, 4745,    102,    100.8,  24.5228,  35.1198,2,  35.1213,2,    219.7,1, 24.5012,   -999.0,9,  -999.00,9,  -999.00,9,  -999.00,9,  -999.0,-999.000
     33KB174_1,  PRS2,     2,  7,     14,    101,2,20051008,0431, 22.7498,-158.0002, 4745,    116,    115.5,  22.6320,  35.2040,2,  35.2012,2,    218.9,1, 22.6087,   -999.0,9,  -999.00,9,  -999.00,9,  -999.00,9,  -999.0,-999.000
     33KB174_1,  PRS2,     2,  7,     13,     42,2,20051008,0431, 22.7498,-158.0002, 4745,    125,    125.6,  22.0490,  35.2087,2,  35.2065,2,    209.5,1, 22.0241,   -999.0,9,  -999.00,9,  -999.00,9,  -999.00,9,  -999.0,-999.000
     33KB174_1,  PRS2,     2,  7,     12,     12,2,20051008,0431, 22.7498,-158.0002, 4745,    135,    135.5,  21.7295,  35.2000,2,  35.1987,2,    205.1,1, 21.7029,   -999.0,9,  -999.00,9,  -999.00,9,  -999.00,9,  -999.0,-999.000
     33KB174_1,  PRS2,     2,  7,     11,     39,2,20051008,0431, 22.7498,-158.0002, 4745,    153,    151.6,  21.1152,  35.1700,2,-999.0000,5,    201.3,1, 21.0861,   -999.0,9,  -999.00,9,  -999.00,9,  -999.00,9,  -999.0,-999.000
     33KB174_1,  PRS2,     2,  7,     10,     33,2,20051008,0431, 22.7498,-158.0002, 4745,    176,    175.9,  19.8872,  35.0844,2,  35.0856,2,    202.1,1, 19.8548,   -999.0,9,  -999.00,9,  -999.00,9,  -999.00,9,  -999.0,-999.000
     33KB174_1,  PRS2,     2,  7,      9,      3,2,20051008,0431, 22.7498,-158.0002, 4745,    499,    498.8,   7.7812,  34.0511,2,  34.0496,2,    148.0,1,  7.7313,   -999.0,9,  -999.00,9,  -999.00,9,  -999.00,9,  -999.0,-999.000
     33KB174_1,  PRS2,     2,  7,      8,  12054,2,20051008,0431, 22.7498,-158.0002, 4745,   1002,   1001.0,   3.9248,  34.4654,2,  34.4657,2,     41.6,1,  3.8497,   -999.0,9,  -999.00,9,  -999.00,9,  -999.00,9,  -999.0,-999.000
     33KB174_1,  PRS2,     2,  7,      7,  12052,2,20051008,0431, 22.7498,-158.0002, 4745,   1499,   1498.6,   2.9905,  34.5680,2,  34.5663,2,     62.6,1,  2.8829,   -999.0,9,  -999.00,9,  -999.00,9,  -999.00,9,  -999.0,-999.000
     33KB174_1,  PRS2,     2,  7,      6,     13,2,20051008,0431, 22.7498,-158.0002, 4745,   2000,   2001.0,   2.2287,  34.6152,2,  34.6164,2,     86.3,1,  2.0888,   -999.0,9,  -999.00,9,  -999.00,9,  -999.00,9,  -999.0,-999.000
     33KB174_1,  PRS2,     2,  7,      5,  12011,2,20051008,0431, 22.7498,-158.0002, 4745,   2499,   2499.9,   1.7921,  34.6472,2,  34.6458,2,    103.1,1,  1.6157,   -999.0,9,  -999.00,9,  -999.00,9,  -999.00,9,  -999.0,-999.000
     33KB174_1,  PRS2,     2,  7,      4,     36,2,20051008,0431, 22.7498,-158.0002, 4745,   3002,   3001.4,   1.5746,  34.6694,2,  34.6704,2,    123.4,1,  1.3560,   -999.0,9,  -999.00,9,  -999.00,9,  -999.00,9,  -999.0,-999.000
     33KB174_1,  PRS2,     2,  7,      3,  12053,2,20051008,0431, 22.7498,-158.0002, 4745,   3500,   3500.0,   1.4844,  34.6813,2,  34.6830,2,    137.7,1,  1.2186,   -999.0,9,  -999.00,9,  -999.00,9,  -999.00,9,  -999.0,-999.000
     33KB174_1,  PRS2,     2,  7,      2,  12047,2,20051008,0431, 22.7498,-158.0002, 4745,   4001,   4001.1,   1.4570,  34.6885,2,  34.6875,2,    148.0,1,  1.1391,   -999.0,9,  -999.00,9,  -999.00,9,  -999.00,9,  -999.0,-999.000
     33KB174_1,  PRS2,     2,  7,      1,     11,2,20051008,0431, 22.7498,-158.0002, 4745,   4806,   4806.1,   1.5206,  34.6911,2,  34.6948,3,    151.3,1,  1.1090,   -999.0,9,  -999.00,9,  -999.00,9,  -999.00,9,  -999.0,-999.000
     33KB174_1,  PRS2,     2,  8,     24,     23,2,20051008,1527, 22.7503,-157.9998, 4746,      4,      5.5,  26.1871,  35.1745,2,  35.1723,2,    205.0,2, 26.1859,    206.5,2,     0.90,2,     0.09,2,     0.04,2,  -999.0,-999.000
     33KB174_1,  PRS2,     2,  8,     23,  12048,2,20051008,1527, 22.7503,-157.9998, 4746,    550,    548.9,   6.3426,  34.0442,2,  34.0450,2,     92.5,2,  6.2934,     91.9,2,    55.77,2,    33.24,2,     2.48,2,  -999.0,-999.000
     33KB174_1,  PRS2,     2,  8,     22,     22,2,20051008,1527, 22.7503,-157.9998, 4746,    850,    850.9,   4.2146,  34.3325,2,  34.3382,2,     24.0,2,  4.1500,     23.5,2,   106.07,2,    42.29,2,     3.12,2,  -999.0,-999.000
     33KB174_1,  PRS2,     2,  8,     21,     21,2,20051008,1527, 22.7503,-157.9998, 4746,   1001,    999.9,   3.8749,  34.4503,2,  34.4498,2,     37.8,2,  3.8003,     35.1,2,   112.61,2,    41.77,2,     3.06,2,  -999.0,-999.000
     33KB174_1,  PRS2,     2,  8,     20,     16,2,20051008,1527, 22.7503,-157.9998, 4746,   1200,   1199.6,   3.4967,  34.5193,2,  34.5193,2,     51.2,2,  3.4087,     50.4,2,   119.70,2,    41.34,2,     2.99,2,  -999.0,-999.000
     33KB174_1,  PRS2,     2,  8,     19,     19,2,20051008,1527, 22.7503,-157.9998, 4746,   1399,   1398.9,   3.1336,  34.5577,2,  34.5582,2,     58.8,2,  3.0327,     59.1,2,   127.16,2,    41.12,2,     2.97,2,  -999.0,-999.000
     33KB174_1,  PRS2,     2,  8,     18,     18,4,20051008,1527, 22.7503,-157.9998, 4746,   1598,   1599.0,   2.7637,  34.5820,2,-999.0000,5,     68.1,2,  2.6504,   -999.0,5,  -999.00,5,  -999.00,5,  -999.00,5,  -999.0,-999.000
     33KB174_1,  PRS2,     2,  8,     17,     17,2,20051008,1527, 22.7503,-157.9998, 4746,   1798,   1799.9,   2.4880,  34.5990,2,  34.5995,2,     77.6,2,  2.3614,     77.8,2,   141.42,2,    40.26,2,     2.87,2,  -999.0,-999.000
     33KB174_1,  PRS2,     2,  8,     16,     34,2,20051008,1527, 22.7503,-157.9998, 4746,   2000,   1999.3,   2.2246,  34.6157,2,  34.6168,2,     85.7,2,  2.0849,     85.9,2,   147.89,2,    39.79,2,     2.85,2,  -999.0,-999.000
     33KB174_1,  PRS2,     2,  8,     15,    102,2,20051008,1527, 22.7503,-157.9998, 4746,   2203,   2200.0,   2.0048,  34.6315,2,  34.6313,2,     93.4,2,  1.8512,     93.5,2,   153.60,2,    39.07,2,     2.79,2,  -999.0,-999.000
     33KB174_1,  PRS2,     2,  8,     14,    101,2,20051008,1527, 22.7503,-157.9998, 4746,   2401,   2400.2,   1.8453,  34.6431,2,  34.6431,2,    100.6,2,  1.6769,    100.5,2,   158.15,2,    38.57,2,     2.73,2,  -999.0,-999.000
     33KB174_1,  PRS2,     2,  8,     13,     42,2,20051008,1527, 22.7503,-157.9998, 4746,   2600,   2600.4,   1.7182,  34.6553,2,  34.6553,2,    111.1,2,  1.5341,    111.4,2,   157.87,2,    38.15,2,     2.69,2,  -999.0,-999.000
     33KB174_1,  PRS2,     2,  8,     12,     12,2,20051008,1527, 22.7503,-157.9998, 4746,   2801,   2800.4,   1.6173,  34.6652,2,  34.6647,2,    119.6,2,  1.4169,    119.5,2,   158.72,2,    37.84,2,     2.65,2,  -999.0,-999.000
     33KB174_1,  PRS2,     2,  8,     11,     39,2,20051008,1527, 22.7503,-157.9998, 4746,   3000,   3000.4,   1.5593,  34.6711,2,  34.6716,2,    124.0,2,  1.3411,    125.3,2,   158.54,2,    37.40,2,     2.63,2,  -999.0,-999.000
     33KB174_1,  PRS2,     2,  8,     10,     33,2,20051008,1527, 22.7503,-157.9998, 4746,   3201,   3199.3,   1.5152,  34.6761,2,  34.6769,2,    129.3,2,  1.2788,    129.7,2,   158.11,2,    37.17,2,     2.62,2,  -999.0,-999.000
     33KB174_1,  PRS2,     2,  8,      9,      3,2,20051008,1527, 22.7503,-157.9998, 4746,   3399,   3399.9,   1.4837,  34.6808,2,  34.6820,2,    136.2,2,  1.2281,   -999.0,5,   156.19,2,    36.84,2,     2.57,2,  -999.0,-999.000
     33KB174_1,  PRS2,     2,  8,      8,  12054,2,20051008,1527, 22.7503,-157.9998, 4746,   3601,   3600.2,   1.4673,  34.6837,2,  34.6832,2,    140.4,2,  1.1917,    140.5,2,   155.07,2,    36.52,2,     2.56,2,  -999.0,-999.000
     33KB174_1,  PRS2,     2,  8,      7,  12052,2,20051008,1527, 22.7503,-157.9998, 4746,   3800,   3798.4,   1.4558,  34.6868,2,  34.6877,2,    144.6,2,  1.1598,    138.3,4,   153.32,2,    36.05,2,     2.51,2,  -999.0,-999.000
     33KB174_1,  PRS2,     2,  8,      6,     13,2,20051008,1527, 22.7503,-157.9998, 4746,   4000,   3997.8,   1.4553,  34.6885,2,  34.6889,2,    147.5,2,  1.1378,    147.3,2,   150.20,2,    35.92,2,     2.51,2,  -999.0,-999.000
     33KB174_1,  PRS2,     2,  8,      5,  12011,2,20051008,1527, 22.7503,-157.9998, 4746,   4199,   4199.4,   1.4620,  34.6901,2,  34.6899,2,    150.0,2,  1.1222,    150.2,2,   148.83,2,    35.71,2,     2.51,2,  -999.0,-999.000
     33KB174_1,  PRS2,     2,  8,      4,     36,2,20051008,1527, 22.7503,-157.9998, 4746,   4398,   4399.4,   1.4776,  34.6906,2,  34.6914,2,    151.0,2,  1.1149,    150.6,2,   148.39,2,    35.66,2,     2.49,2,  -999.0,-999.000
     33KB174_1,  PRS2,     2,  8,      3,  12053,2,20051008,1527, 22.7503,-157.9998, 4746,   4496,   4497.9,   1.4865,  34.6909,2,  34.6906,2,    151.5,2,  1.1122,    151.3,2,   149.75,2,    35.71,2,     2.50,2,  -999.0,-999.000
     33KB174_1,  PRS2,     2,  8,      2,  12047,2,20051008,1527, 22.7503,-157.9998, 4746,   4601,   4600.4,   1.4970,  34.6911,2,  34.6918,2,    151.6,2,  1.1105,    153.3,3,   148.16,2,    35.80,2,     2.51,2,  -999.0,-999.000
     33KB174_1,  PRS2,     2,  8,      1,     11,2,20051008,1527, 22.7503,-157.9998, 4746,   4804,   4804.0,   1.5213,  34.6911,2,  34.6920,2,    151.7,2,  1.1100,   -999.0,5,   147.89,2,    35.44,2,     2.49,2,  -999.0,-999.000
     33KB174_1,  PRS2,     2,  9,     24,     23,2,20051008,2101, 22.7500,-158.0000, 4746,     13,     12.3,  26.1948,  35.1738,2,  35.1731,2,    204.6,2, 26.1921,    203.9,2,     1.21,2,     0.01,2,     0.02,2,  -999.0,-999.000
     33KB174_1,  PRS2,     2,  9,     23,  12048,2,20051008,2101, 22.7500,-158.0000, 4746,     52,     50.0,  26.1941,  35.1742,2,  35.1715,2,    204.6,2, 26.1829,    203.9,2,     1.34,2,     0.02,2,     0.02,2,  -999.0,-999.000
     33KB174_1,  PRS2,     2,  9,     22,     22,2,20051008,2101, 22.7500,-158.0000, 4746,     91,     89.1,  24.4453,  35.1291,2,  35.1274,2,    217.7,2, 24.4263,    216.8,2,     9.00,4,     0.06,2,     0.03,2,  -999.0,-999.000
     33KB174_1,  PRS2,     2,  9,     21,     21,2,20051008,2101, 22.7500,-158.0000, 4746,    114,    114.5,  22.5217,  35.2167,2,  35.2128,2,    215.3,2, 22.4987,    215.6,2,     3.23,4,     0.16,2,     0.04,2,  -999.0,-999.000
     33KB174_1,  PRS2,     2,  9,     20,     16,2,20051008,2101, 22.7500,-158.0000, 4746,    139,    139.0,  21.4337,  35.1865,2,  35.1843,2,    200.4,2, 21.4067,    200.6,2,     3.27,4,     0.74,2,     0.10,2,  -999.0,-999.000
     33KB174_1,  PRS2,     2,  9,     19,     19,2,20051008,2101, 22.7500,-158.0000, 4746,    190,    189.6,  18.8151,  34.9813,2,  34.9827,2,    206.7,2, 18.7816,    206.5,2,     5.11,4,     1.72,2,     0.17,2,  -999.0,-999.000
     33KB174_1,  PRS2,     2,  9,     18,     18,2,20051008,2101, 22.7500,-158.0000, 4746,    245,    245.1,  15.3110,  34.5498,2,  34.5474,2,    204.3,2, 15.2734,    204.6,2,     7.49,4,     5.71,2,     0.43,2,  -999.0,-999.000
     33KB174_1,  PRS2,     2,  9,     17,     17,2,20051008,2101, 22.7500,-158.0000, 4746,    291,    289.8,  13.5626,  34.3598,2,  34.3598,2,    207.4,2, 13.5217,    207.2,2,     7.77,2,     8.10,2,     0.61,2,  -999.0,-999.000
     33KB174_1,  PRS2,     2,  9,     16,     34,2,20051008,2101, 22.7500,-158.0000, 4746,    335,    335.2,  11.9574,  34.2697,2,  34.2691,2,    210.0,2, 11.9139,    209.4,2,    14.25,3,    11.33,2,     0.79,2,  -999.0,-999.000
     33KB174_1,  PRS2,     2,  9,     15,    102,2,20051008,2101, 22.7500,-158.0000, 4746,    384,    381.9,  10.6034,  34.1758,2,  34.1760,2,    204.1,2, 10.5575,    201.9,2,    16.62,2,    14.58,2,     0.95,2,  -999.0,-999.000
     33KB174_1,  PRS2,     2,  9,     14,    101,2,20051008,2101, 22.7500,-158.0000, 4746,    419,    419.0,   9.7349,  34.1243,2,  34.1256,2,    189.4,2,  9.6870,    188.9,2,    23.84,3,    17.46,2,     1.21,2,  -999.0,-999.000
     33KB174_1,  PRS2,     2,  9,     13,     42,2,20051008,2101, 22.7500,-158.0000, 4746,    453,    454.0,   8.9879,  34.0991,2,  34.0991,2,    172.4,2,  8.9385,    173.2,2,    30.49,3,    20.69,2,     1.48,2,  -999.0,-999.000
     33KB174_1,  PRS2,     2,  9,     12,     12,2,20051008,2101, 22.7500,-158.0000, 4746,    490,    490.3,   8.0252,  34.0620,2,  34.0629,2,    150.3,2,  7.9752,    149.2,2,    37.88,3,    24.74,2,     1.78,2,  -999.0,-999.000
     33KB174_1,  PRS2,     2,  9,     11,     39,2,20051008,2101, 22.7500,-158.0000, 4746,    524,    524.1,   7.1775,  34.0378,2,  34.0366,2,    127.2,2,  7.1273,    123.8,2,    45.68,2,    28.73,2,     2.07,2,  -999.0,-999.000
     33KB174_1,  PRS2,     2,  9,     10,     33,2,20051008,2101, 22.7500,-158.0000, 4746,    562,    560.1,   6.5009,  34.0427,2,  34.0452,2,     97.2,2,  6.4500,     97.4,2,    54.16,2,    31.94,2,     2.26,2,  -999.0,-999.000
     33KB174_1,  PRS2,     2,  9,      9,      3,2,20051008,2101, 22.7500,-158.0000, 4746,    615,    615.7,   5.8937,  34.1052,2,  34.1076,2,     60.8,2,  5.8403,     59.9,2,    68.86,2,    36.04,2,     2.66,2,  -999.0,-999.000
     33KB174_1,  PRS2,     2,  9,      8,  12054,2,20051008,2101, 22.7500,-158.0000, 4746,    676,    675.5,   5.1412,  34.1134,2,  34.1138,2,     53.0,2,  5.0862,     53.2,2,    84.34,2,    38.31,2,     2.80,2,  -999.0,-999.000
     33KB174_1,  PRS2,     2,  9,      7,  12052,2,20051008,2101, 22.7500,-158.0000, 4746,    710,    711.7,   4.8689,  34.1598,2,  34.1603,2,     40.8,2,  4.8122,     40.4,2,    89.42,2,    39.64,2,     2.90,2,  -999.0,-999.000
     33KB174_1,  PRS2,     2,  9,      6,     13,2,20051008,2101, 22.7500,-158.0000, 4746,    752,    750.3,   4.7102,  34.1974,2,  34.1907,2,     33.5,2,  4.6511,     33.4,2,    93.52,2,    40.61,2,     2.98,2,  -999.0,-999.000
     33KB174_1,  PRS2,     2,  9,      5,  12011,2,20051008,2101, 22.7500,-158.0000, 4746,    786,    784.3,   4.5374,  34.2401,2,  34.2370,2,     26.5,2,  4.4764,     26.1,2,    98.57,2,    41.36,2,     3.04,2,  -999.0,-999.000
     33KB174_1,  PRS2,     2,  9,      4,     36,2,20051008,2101, 22.7500,-158.0000, 4746,    818,    819.7,   4.4138,  34.2756,2,  34.2740,2,     24.3,2,  4.3506,     24.1,2,   101.16,2,    41.82,2,     3.07,2,  -999.0,-999.000
     33KB174_1,  PRS2,     2,  9,      3,  12053,2,20051008,2101, 22.7500,-158.0000, 4746,    890,    890.1,   4.1837,  34.3686,2,  34.3759,2,     26.8,2,  4.1160,     26.5,2,   111.78,4,    42.06,2,     3.11,2,  -999.0,-999.000
     33KB174_1,  PRS2,     2,  9,      2,  12047,2,20051008,2101, 22.7500,-158.0000, 4746,    948,    947.9,   4.0879,  34.4224,2,  34.4210,2,     33.2,2,  4.0161,     34.2,2,   111.79,4,    41.90,2,     3.07,2,  -999.0,-999.000
     33KB174_1,  PRS2,     2,  9,      1,     11,2,20051008,2101, 22.7500,-158.0000, 4746,   1004,   1004.8,   3.8810,  34.4551,2,  34.4532,2,     38.4,2,  3.8059,     38.6,2,   114.10,2,    41.82,2,     3.06,2,  -999.0,-999.000