BOTTLE,20090923WHPSIOMYS
EXPOCODE,SECT_ID,STNNBR,CASTNO,SAMPNO,BTLNBR,BTLNBR_FLAG_W,DATE,TIME,LATITUDE,LONGITUDE,DEPTH,CTDRAW,CTDPRS,CTDTMP,CTDSAL,CTDSAL_FLAG_W,SALNTY,SALNTY_FLAG_W,CTDOXY,CTDOXY_FLAG_W,THETA,OXYGEN,OXYGEN_FLAG_W,SILCAT,SILCAT_FLAG_W,NO2+NO3,NO2+NO3_FLAG_W,PHSPHT,PHSPHT_FLAG_W,REVPRS,REVTMP
,,,,,,,,,,,,,DBAR,ITS-90,PSS-78,,PSS-78,,UMOL/KG,,ITS-90,UMOL/KG,,UMOL/KG,,UMOL/KG,,UMOL/KG,,DBAR,DEG C
     33KB174_1,  PRS2,     2, 14,     22,     22,2,20051009,1201, 22.7517,-157.9870, 4743,      7,      7.6,  26.2185,  35.1667,2,  35.1644,2,    204.3,1, 26.2168,   -999.0,9,  -999.00,9,  -999.00,9,  -999.00,9,  -999.0,-999.000
     33KB174_1,  PRS2,     2, 14,     21,     21,2,20051009,1201, 22.7517,-157.9870, 4743,      7,      7.6,  26.2187,  35.1666,2,  35.1664,2,    204.4,1, 26.2170,   -999.0,9,  -999.00,9,  -999.00,9,  -999.00,9,  -999.0,-999.000
     33KB174_1,  PRS2,     2, 14,     20,     16,2,20051009,1201, 22.7517,-157.9870, 4743,      9,      8.0,  26.2188,  35.1665,2,  35.1677,2,    204.5,1, 26.2170,   -999.0,9,  -999.00,9,  -999.00,9,  -999.00,9,  -999.0,-999.000
     33KB174_1,  PRS2,     2, 14,     17,     17,2,20051009,1201, 22.7517,-157.9870, 4743,     26,     25.2,  26.2241,  35.1663,2,  35.1652,2,    204.7,1, 26.2185,   -999.0,9,  -999.00,9,  -999.00,9,  -999.00,9,  -999.0,-999.000
     33KB174_1,  PRS2,     2, 14,     19,     19,2,20051009,1201, 22.7517,-157.9870, 4743,     26,     25.5,  26.2239,  35.1664,2,  35.1646,2,    204.6,1, 26.2182,   -999.0,9,  -999.00,9,  -999.00,9,  -999.00,9,  -999.0,-999.000
     33KB174_1,  PRS2,     2, 14,     18,     18,2,20051009,1201, 22.7517,-157.9870, 4743,     27,     25.9,  26.2240,  35.1662,2,  35.1642,2,    204.7,1, 26.2182,   -999.0,9,  -999.00,9,  -999.00,9,  -999.00,9,  -999.0,-999.000
     33KB174_1,  PRS2,     2, 14,     16,     34,2,20051009,1201, 22.7517,-157.9870, 4743,     45,     45.6,  26.2211,  35.1652,2,  35.1630,2,    204.8,1, 26.2108,   -999.0,9,  -999.00,9,  -999.00,9,  -999.00,9,  -999.0,-999.000
     33KB174_1,  PRS2,     2, 14,     15,    102,2,20051009,1201, 22.7517,-157.9870, 4743,     46,     45.6,  26.2228,  35.1656,2,  35.1731,2,    204.8,1, 26.2125,   -999.0,9,  -999.00,9,  -999.00,9,  -999.00,9,  -999.0,-999.000
     33KB174_1,  PRS2,     2, 14,     14,    101,2,20051009,1201, 22.7517,-157.9870, 4743,     46,     45.8,  26.2249,  35.1661,2,  35.1652,2,    204.8,1, 26.2146,   -999.0,9,  -999.00,9,  -999.00,9,  -999.00,9,  -999.0,-999.000
     33KB174_1,  PRS2,     2, 14,     11,     39,2,20051009,1201, 22.7517,-157.9870, 4743,     75,     75.3,  25.2754,  35.1977,2,  35.2016,2,    217.4,1, 25.2589,   -999.0,9,  -999.00,9,  -999.00,9,  -999.00,9,  -999.0,-999.000
     33KB174_1,  PRS2,     2, 14,     12,     12,3,20051009,1201, 22.7517,-157.9870, 4743,     77,     75.4,  25.2705,  35.1981,2,  35.1987,2,    216.2,1, 25.2540,   -999.0,9,  -999.00,9,  -999.00,9,  -999.00,9,  -999.0,-999.000
     33KB174_1,  PRS2,     2, 14,     13,     42,3,20051009,1201, 22.7517,-157.9870, 4743,     75,     75.7,  25.2725,  35.1979,2,  35.1953,2,    215.0,1, 25.2559,   -999.0,9,  -999.00,9,  -999.00,9,  -999.00,9,  -999.0,-999.000
     33KB174_1,  PRS2,     2, 14,      8,  12054,2,20051009,1201, 22.7517,-157.9870, 4743,    100,    100.2,  23.0642,  35.1999,2,  35.1998,2,    216.6,1, 23.0437,   -999.0,9,  -999.00,9,  -999.00,9,  -999.00,9,  -999.0,-999.000
     33KB174_1,  PRS2,     2, 14,     10,     33,2,20051009,1201, 22.7517,-157.9870, 4743,    101,    100.5,  23.0638,  35.1995,2,  35.1977,2,    216.4,1, 23.0432,   -999.0,9,  -999.00,9,  -999.00,9,  -999.00,9,  -999.0,-999.000
     33KB174_1,  PRS2,     2, 14,      9,      3,2,20051009,1201, 22.7517,-157.9870, 4743,    101,    100.5,  23.0640,  35.1996,2,  35.2061,2,    216.5,1, 23.0435,   -999.0,9,  -999.00,9,  -999.00,9,  -999.00,9,  -999.0,-999.000
     33KB174_1,  PRS2,     2, 14,      5,  12011,2,20051009,1201, 22.7517,-157.9870, 4743,    125,    125.4,  21.4893,  35.1949,2,  35.2008,2,    208.4,1, 21.4649,   -999.0,9,  -999.00,9,  -999.00,9,  -999.00,9,  -999.0,-999.000
     33KB174_1,  PRS2,     2, 14,      7,  12052,2,20051009,1201, 22.7517,-157.9870, 4743,    126,    125.5,  21.4534,  35.1917,2,  35.1935,2,    209.9,1, 21.4290,   -999.0,9,  -999.00,9,  -999.00,9,  -999.00,9,  -999.0,-999.000
     33KB174_1,  PRS2,     2, 14,      6,  12048,2,20051009,1201, 22.7517,-157.9870, 4743,    126,    125.6,  21.4474,  35.1905,2,  35.1955,2,    209.2,1, 21.4230,   -999.0,9,  -999.00,9,  -999.00,9,  -999.00,9,  -999.0,-999.000
     33KB174_1,  PRS2,     2, 14,      4,     36,2,20051009,1201, 22.7517,-157.9870, 4743,    152,    151.3,  19.6708,  35.0280,2,  35.0352,2,    194.7,1, 19.6432,   -999.0,9,  -999.00,9,  -999.00,9,  -999.00,9,  -999.0,-999.000
     33KB174_1,  PRS2,     2, 14,      3,  12053,2,20051009,1201, 22.7517,-157.9870, 4743,    173,    174.1,  18.7796,  34.9840,2,  34.9909,2,    207.3,1, 18.7488,   -999.0,9,  -999.00,9,  -999.00,9,  -999.00,9,  -999.0,-999.000
     33KB174_1,  PRS2,     2, 14,      2,      7,2,20051009,1201, 22.7517,-157.9870, 4743,    520,    518.9,   6.8732,  34.0362,2,  34.0343,2,    114.1,1,  6.8247,   -999.0,9,  -999.00,9,  -999.00,9,  -999.00,9,  -999.0,-999.000
     33KB174_1,  PRS2,     2, 14,      1,  12047,2,20051009,1201, 22.7517,-157.9870, 4743,   1020,   1019.8,   3.8004,  34.4748,2,  34.4756,2,     42.1,1,  3.7247,   -999.0,9,  -999.00,9,  -999.00,9,  -999.00,9,  -999.0,-999.000
     33KB174_1,  PRS2,     2, 15,     14,    101,2,20051009,1456, 22.7498,-158.0000, 4749,     10,      8.9,  26.2091,  35.1745,2,-999.0000,5,    204.8,1, 26.2071,   -999.0,9,  -999.00,9,  -999.00,9,  -999.00,9,  -999.0,-999.000
     33KB174_1,  PRS2,     2, 15,     13,     42,2,20051009,1456, 22.7498,-158.0000, 4749,     26,     26.2,  26.2137,  35.1744,2,-999.0000,5,    204.8,1, 26.2078,   -999.0,9,  -999.00,9,  -999.00,9,  -999.00,9,  -999.0,-999.000
     33KB174_1,  PRS2,     2, 15,     12,     12,2,20051009,1456, 22.7498,-158.0000, 4749,     43,     43.6,  26.2202,  35.1745,2,-999.0000,5,    204.9,1, 26.2104,   -999.0,9,  -999.00,9,  -999.00,9,  -999.00,9,  -999.0,-999.000
     33KB174_1,  PRS2,     2, 15,     11,     39,2,20051009,1456, 22.7498,-158.0000, 4749,     60,     59.5,  26.2176,  35.1745,2,-999.0000,5,    205.0,1, 26.2043,   -999.0,9,  -999.00,9,  -999.00,9,  -999.00,9,  -999.0,-999.000
     33KB174_1,  PRS2,     2, 15,     10,     33,2,20051009,1456, 22.7498,-158.0000, 4749,     75,     74.2,  24.8054,  35.1808,2,-999.0000,5,    221.8,1, 24.7894,   -999.0,9,  -999.00,9,  -999.00,9,  -999.00,9,  -999.0,-999.000
     33KB174_1,  PRS2,     2, 15,      9,      3,3,20051009,1456, 22.7498,-158.0000, 4749,     84,     84.3,  23.9938,  35.1535,2,  35.1536,2,    218.5,1, 23.9760,   -999.0,9,  -999.00,9,  -999.00,9,  -999.00,9,  -999.0,-999.000
     33KB174_1,  PRS2,     2, 15,      8,  12054,2,20051009,1456, 22.7498,-158.0000, 4749,    102,    101.2,  23.0348,  35.2019,2,-999.0000,5,    217.1,1, 23.0141,   -999.0,9,  -999.00,9,  -999.00,9,  -999.00,9,  -999.0,-999.000
     33KB174_1,  PRS2,     2, 15,      7,  12052,2,20051009,1456, 22.7498,-158.0000, 4749,    116,    114.4,  22.1130,  35.2025,2,  35.1998,2,    214.3,1, 22.0903,   -999.0,9,  -999.00,9,  -999.00,9,  -999.00,9,  -999.0,-999.000
     33KB174_1,  PRS2,     2, 15,      6,  12048,2,20051009,1456, 22.7498,-158.0000, 4749,    125,    124.6,  21.7556,  35.2039,2,-999.0000,5,    212.4,1, 21.7312,   -999.0,9,  -999.00,9,  -999.00,9,  -999.00,9,  -999.0,-999.000
     33KB174_1,  PRS2,     2, 15,      5,  12011,2,20051009,1456, 22.7498,-158.0000, 4749,    135,    135.1,  21.4231,  35.1902,2,  35.1987,2,    209.3,1, 21.3969,   -999.0,9,  -999.00,9,  -999.00,9,  -999.00,9,  -999.0,-999.000
     33KB174_1,  PRS2,     2, 15,      4,     36,2,20051009,1456, 22.7498,-158.0000, 4749,    149,    149.6,  20.6982,  35.1501,2,-999.0000,5,    199.8,1, 20.6698,   -999.0,9,  -999.00,9,  -999.00,9,  -999.00,9,  -999.0,-999.000
     33KB174_1,  PRS2,     2, 15,      3,  12053,2,20051009,1456, 22.7498,-158.0000, 4749,    177,    175.2,  18.9962,  34.9614,2,  34.9699,2,    202.3,1, 18.9650,   -999.0,9,  -999.00,9,  -999.00,9,  -999.00,9,  -999.0,-999.000
     33KB174_1,  PRS2,     2, 15,      2,      7,2,20051009,1456, 22.7498,-158.0000, 4749,    550,    549.3,   6.5558,  34.0407,2,  34.0403,2,    101.0,1,  6.5057,   -999.0,9,  -999.00,9,  -999.00,9,  -999.00,9,  -999.0,-999.000
     33KB174_1,  PRS2,     2, 15,      1,  12047,2,20051009,1456, 22.7498,-158.0000, 4749,   1021,   1021.8,   3.8607,  34.4724,2,  34.4752,2,     41.8,1,  3.7844,   -999.0,9,  -999.00,9,  -999.00,9,  -999.00,9,  -999.0,-999.000
     33KB174_1,  PRS2,     2, 16,     23,     30,2,20051009,1756, 22.7522,-158.0078, 4743,      7,      7.2,  26.2205,  35.1771,2,-999.0000,5,    205.0,1, 26.2188,   -999.0,9,  -999.00,9,  -999.00,9,  -999.00,9,  -999.0,-999.000
     33KB174_1,  PRS2,     2, 16,     22,     22,2,20051009,1756, 22.7522,-158.0078, 4743,      8,      7.3,  26.2204,  35.1771,2,  35.1768,2,    204.8,1, 26.2188,   -999.0,9,  -999.00,9,  -999.00,9,  -999.00,9,  -999.0,-999.000
     33KB174_1,  PRS2,     2, 16,     21,     21,2,20051009,1756, 22.7522,-158.0078, 4743,     23,     24.0,  26.2250,  35.1765,2,-999.0000,5,    204.8,1, 26.2197,   -999.0,9,  -999.00,9,  -999.00,9,  -999.00,9,  -999.0,-999.000
     33KB174_1,  PRS2,     2, 16,     20,     16,2,20051009,1756, 22.7522,-158.0078, 4743,     25,     24.1,  26.2252,  35.1767,2,-999.0000,5,    204.7,1, 26.2198,   -999.0,9,  -999.00,9,  -999.00,9,  -999.00,9,  -999.0,-999.000
     33KB174_1,  PRS2,     2, 16,     19,     19,2,20051009,1756, 22.7522,-158.0078, 4743,     26,     24.3,  26.2253,  35.1766,2,  35.1742,2,    204.7,1, 26.2199,   -999.0,9,  -999.00,9,  -999.00,9,  -999.00,9,  -999.0,-999.000
     33KB174_1,  PRS2,     2, 16,     18,     18,2,20051009,1756, 22.7522,-158.0078, 4743,     44,     45.0,  26.2268,  35.1762,2,-999.0000,5,    204.8,1, 26.2167,   -999.0,9,  -999.00,9,  -999.00,9,  -999.00,9,  -999.0,-999.000
     33KB174_1,  PRS2,     2, 16,     17,     17,2,20051009,1756, 22.7522,-158.0078, 4743,     45,     45.1,  26.2267,  35.1761,2,  35.1748,2,    204.8,1, 26.2166,   -999.0,9,  -999.00,9,  -999.00,9,  -999.00,9,  -999.0,-999.000
     33KB174_1,  PRS2,     2, 16,     16,     34,2,20051009,1756, 22.7522,-158.0078, 4743,     50,     49.1,  26.2257,  35.1758,2,-999.0000,5,    204.9,1, 26.2147,   -999.0,9,  -999.00,9,  -999.00,9,  -999.00,9,  -999.0,-999.000
     33KB174_1,  PRS2,     2, 16,     15,    102,2,20051009,1756, 22.7522,-158.0078, 4743,     77,     75.7,  26.2226,  35.1764,2,-999.0000,5,    204.9,1, 26.2056,   -999.0,9,  -999.00,9,  -999.00,9,  -999.00,9,  -999.0,-999.000
     33KB174_1,  PRS2,     2, 16,     14,    101,2,20051009,1756, 22.7522,-158.0078, 4743,     75,     75.8,  26.2207,  35.1765,2,-999.0000,5,    204.9,1, 26.2037,   -999.0,9,  -999.00,9,  -999.00,9,  -999.00,9,  -999.0,-999.000
     33KB174_1,  PRS2,     2, 16,     13,     42,2,20051009,1756, 22.7522,-158.0078, 4743,     77,     76.0,  26.2189,  35.1767,2,  35.1744,2,    204.9,1, 26.2018,   -999.0,9,  -999.00,9,  -999.00,9,  -999.00,9,  -999.0,-999.000
     33KB174_1,  PRS2,     2, 16,     12,     12,2,20051009,1756, 22.7522,-158.0078, 4743,    101,    100.4,  23.7127,  35.1583,2,-999.0000,5,    217.6,1, 23.6917,   -999.0,9,  -999.00,9,  -999.00,9,  -999.00,9,  -999.0,-999.000
     33KB174_1,  PRS2,     2, 16,     11,     39,2,20051009,1756, 22.7522,-158.0078, 4743,    100,    100.4,  23.6677,  35.1570,2,  35.1648,2,    217.1,1, 23.6467,   -999.0,9,  -999.00,9,  -999.00,9,  -999.00,9,  -999.0,-999.000
     33KB174_1,  PRS2,     2, 16,     10,     33,2,20051009,1756, 22.7522,-158.0078, 4743,    124,    124.4,  22.3106,  35.2055,2,-999.0000,5,    216.6,1, 22.2858,   -999.0,9,  -999.00,9,  -999.00,9,  -999.00,9,  -999.0,-999.000
     33KB174_1,  PRS2,     2, 16,      9,      3,2,20051009,1756, 22.7522,-158.0078, 4743,    124,    124.5,  22.3093,  35.2056,2,-999.0000,5,    216.4,1, 22.2844,   -999.0,9,  -999.00,9,  -999.00,9,  -999.00,9,  -999.0,-999.000
     33KB174_1,  PRS2,     2, 16,      8,  12054,2,20051009,1756, 22.7522,-158.0078, 4743,    125,    124.5,  22.2945,  35.2071,2,-999.0000,5,    216.2,1, 22.2697,   -999.0,9,  -999.00,9,  -999.00,9,  -999.00,9,  -999.0,-999.000
     33KB174_1,  PRS2,     2, 16,      7,  12052,2,20051009,1756, 22.7522,-158.0078, 4743,    124,    124.6,  22.2920,  35.2069,2,  35.2089,2,    215.9,1, 22.2671,   -999.0,9,  -999.00,9,  -999.00,9,  -999.00,9,  -999.0,-999.000
     33KB174_1,  PRS2,     2, 16,      6,  12048,2,20051009,1756, 22.7522,-158.0078, 4743,    148,    148.8,  21.1697,  35.1785,2,-999.0000,5,    202.5,1, 21.1411,   -999.0,9,  -999.00,9,  -999.00,9,  -999.00,9,  -999.0,-999.000
     33KB174_1,  PRS2,     2, 16,      5,  12011,2,20051009,1756, 22.7522,-158.0078, 4743,    149,    148.9,  21.1687,  35.1785,2,  35.1794,2,    202.3,1, 21.1400,   -999.0,9,  -999.00,9,  -999.00,9,  -999.00,9,  -999.0,-999.000
     33KB174_1,  PRS2,     2, 16,      3,  12053,2,20051009,1756, 22.7522,-158.0078, 4743,    172,    173.3,  20.0426,  35.0881,2,  35.0955,2,    198.2,1, 20.0105,   -999.0,9,  -999.00,9,  -999.00,9,  -999.00,9,  -999.0,-999.000
     33KB174_1,  PRS2,     2, 16,      4,     36,2,20051009,1756, 22.7522,-158.0078, 4743,    175,    173.6,  20.0680,  35.0931,2,-999.0000,5,    198.3,1, 20.0358,   -999.0,9,  -999.00,9,  -999.00,9,  -999.00,9,  -999.0,-999.000
     33KB174_1,  PRS2,     2, 16,      2,      7,2,20051009,1756, 22.7522,-158.0078, 4743,    551,    550.8,   6.4110,  34.0422,2,  34.0407,2,     96.7,1,  6.3614,   -999.0,9,  -999.00,9,  -999.00,9,  -999.00,9,  -999.0,-999.000
     33KB174_1,  PRS2,     2, 16,      1,  12047,2,20051009,1756, 22.7522,-158.0078, 4743,   1023,   1021.5,   3.8306,  34.4791,2,  34.4805,2,     43.2,1,  3.7545,   -999.0,9,  -999.00,9,  -999.00,9,  -999.00,9,  -999.0,-999.000
     33KB174_1,  PRS2,     2, 17,     18,     18,2,20051009,2054, 22.7532,-158.0015, 4743,      7,      6.7,  26.2387,  35.1746,2,  35.1736,2,    204.7,1, 26.2372,   -999.0,9,  -999.00,9,  -999.00,9,  -999.00,9,  -999.0,-999.000
     33KB174_1,  PRS2,     2, 17,     17,     17,2,20051009,2054, 22.7532,-158.0015, 4743,     25,     24.8,  26.2333,  35.1754,2,  35.1735,2,    204.4,1, 26.2277,   -999.0,9,  -999.00,9,  -999.00,9,  -999.00,9,  -999.0,-999.000
     33KB174_1,  PRS2,     2, 17,     16,     34,2,20051009,2054, 22.7532,-158.0015, 4743,     46,     45.9,  26.2299,  35.1750,2,  35.1735,2,    204.5,1, 26.2196,   -999.0,9,  -999.00,9,  -999.00,9,  -999.00,9,  -999.0,-999.000
     33KB174_1,  PRS2,     2, 17,     15,    102,2,20051009,2054, 22.7532,-158.0015, 4743,     58,     58.6,  26.2292,  35.1752,2,  35.1736,2,    204.3,1, 26.2160,   -999.0,9,  -999.00,9,  -999.00,9,  -999.00,9,  -999.0,-999.000
     33KB174_1,  PRS2,     2, 17,     14,    101,2,20051009,2054, 22.7532,-158.0015, 4743,     74,     75.0,  26.1346,  35.1782,2,  35.1740,2,    205.4,1, 26.1178,   -999.0,9,  -999.00,9,  -999.00,9,  -999.00,9,  -999.0,-999.000
     33KB174_1,  PRS2,     2, 17,     13,     42,2,20051009,2054, 22.7532,-158.0015, 4743,     85,     84.8,  24.7557,  35.1850,2,  35.1870,2,    223.1,1, 24.7375,   -999.0,9,  -999.00,9,  -999.00,9,  -999.00,9,  -999.0,-999.000
     33KB174_1,  PRS2,     2, 17,     12,     12,2,20051009,2054, 22.7532,-158.0015, 4743,     99,     99.3,  23.7557,  35.1617,2,-999.0000,5,    218.3,1, 23.7350,   -999.0,9,  -999.00,9,  -999.00,9,  -999.00,9,  -999.0,-999.000
     33KB174_1,  PRS2,     2, 17,     11,     39,2,20051009,2054, 22.7532,-158.0015, 4743,    101,    100.1,  23.7516,  35.1618,2,  35.1599,2,    217.7,1, 23.7306,   -999.0,9,  -999.00,9,  -999.00,9,  -999.00,9,  -999.0,-999.000
     33KB174_1,  PRS2,     2, 17,     10,     33,2,20051009,2054, 22.7532,-158.0015, 4743,    114,    114.8,  23.4452,  35.1632,2,  35.1703,2,    215.0,1, 23.4214,   -999.0,9,  -999.00,9,  -999.00,9,  -999.00,9,  -999.0,-999.000
     33KB174_1,  PRS2,     2, 17,      9,      3,2,20051009,2054, 22.7532,-158.0015, 4743,    127,    125.6,  22.9539,  35.2039,2,-999.0000,5,    216.4,1, 22.9283,   -999.0,9,  -999.00,9,  -999.00,9,  -999.00,9,  -999.0,-999.000
     33KB174_1,  PRS2,     2, 17,      8,  12054,2,20051009,2054, 22.7532,-158.0015, 4743,    125,    125.6,  22.9530,  35.2044,2,  35.2034,2,    216.4,1, 22.9274,   -999.0,9,  -999.00,9,  -999.00,9,  -999.00,9,  -999.0,-999.000
     33KB174_1,  PRS2,     2, 17,      7,  12052,2,20051009,2054, 22.7532,-158.0015, 4743,    151,    150.9,  21.3834,  35.1824,2,-999.0000,5,    208.0,1, 21.3541,   -999.0,9,  -999.00,9,  -999.00,9,  -999.00,9,  -999.0,-999.000
     33KB174_1,  PRS2,     2, 17,      6,  12048,2,20051009,2054, 22.7532,-158.0015, 4743,    151,    151.0,  21.3639,  35.1827,2,  35.1833,2,    207.5,1, 21.3347,   -999.0,9,  -999.00,9,  -999.00,9,  -999.00,9,  -999.0,-999.000
     33KB174_1,  PRS2,     2, 17,      4,     36,2,20051009,2054, 22.7532,-158.0015, 4743,    173,    174.2,  20.4574,  35.1258,2,  35.1256,2,    199.2,1, 20.4246,   -999.0,9,  -999.00,9,  -999.00,9,  -999.00,9,  -999.0,-999.000
     33KB174_1,  PRS2,     2, 17,      5,  12011,2,20051009,2054, 22.7532,-158.0015, 4743,    176,    174.8,  20.4666,  35.1265,2,-999.0000,5,    199.3,1, 20.4338,   -999.0,9,  -999.00,9,  -999.00,9,  -999.00,9,  -999.0,-999.000
     33KB174_1,  PRS2,     2, 17,      3,  12053,2,20051009,2054, 22.7532,-158.0015, 4743,    200,    199.7,  19.0007,  34.9452,2,  34.9408,2,    194.6,1, 18.9651,   -999.0,9,  -999.00,9,  -999.00,9,  -999.00,9,  -999.0,-999.000
     33KB174_1,  PRS2,     2, 17,      2,      7,2,20051009,2054, 22.7532,-158.0015, 4743,    550,    550.4,   6.5903,  34.0403,2,  34.0405,2,    101.1,1,  6.5400,   -999.0,9,  -999.00,9,  -999.00,9,  -999.00,9,  -999.0,-999.000
     33KB174_1,  PRS2,     2, 17,      1,  12047,2,20051009,2054, 22.7532,-158.0015, 4743,   1019,   1019.1,   3.8803,  34.4576,2,  34.4565,2,     38.6,1,  3.8040,   -999.0,9,  -999.00,9,  -999.00,9,  -999.00,9,  -999.0,-999.000