BOTTLE,20090923WHPSIOMYS
EXPOCODE,SECT_ID,STNNBR,CASTNO,SAMPNO,BTLNBR,BTLNBR_FLAG_W,DATE,TIME,LATITUDE,LONGITUDE,DEPTH,CTDRAW,CTDPRS,CTDTMP,CTDSAL,CTDSAL_FLAG_W,SALNTY,SALNTY_FLAG_W,CTDOXY,CTDOXY_FLAG_W,THETA,OXYGEN,OXYGEN_FLAG_W,SILCAT,SILCAT_FLAG_W,NO2+NO3,NO2+NO3_FLAG_W,PHSPHT,PHSPHT_FLAG_W,REVPRS,REVTMP
,,,,,,,,,,,,,DBAR,ITS-90,PSS-78,,PSS-78,,UMOL/KG,,ITS-90,UMOL/KG,,UMOL/KG,,UMOL/KG,,UMOL/KG,,DBAR,DEG C
     33KB174_1,  PRS2,     2, 10,     17,     17,2,20051009,0035, 22.7500,-158.0000, 4747,     29,     29.2,  26.2186,  35.1810,2,-999.0000,5,    205.4,1, 26.2121,   -999.0,9,  -999.00,9,  -999.00,9,  -999.00,9,  -999.0,-999.000
     33KB174_1,  PRS2,     2, 10,     16,     34,2,20051009,0035, 22.7500,-158.0000, 4747,     30,     29.4,  26.2185,  35.1808,2,-999.0000,5,    205.4,1, 26.2119,   -999.0,9,  -999.00,9,  -999.00,9,  -999.00,9,  -999.0,-999.000
     33KB174_1,  PRS2,     2, 10,     24,     23,2,20051009,0035, 22.7500,-158.0000, 4747,     30,     29.5,  26.2212,  35.1811,2,-999.0000,5,    205.2,1, 26.2145,   -999.0,9,  -999.00,9,  -999.00,9,  -999.00,9,  -999.0,-999.000
     33KB174_1,  PRS2,     2, 10,     23,     30,2,20051009,0035, 22.7500,-158.0000, 4747,     30,     29.5,  26.2206,  35.1811,2,-999.0000,5,    205.3,1, 26.2140,   -999.0,9,  -999.00,9,  -999.00,9,  -999.00,9,  -999.0,-999.000
     33KB174_1,  PRS2,     2, 10,     20,     16,3,20051009,0035, 22.7500,-158.0000, 4747,     30,     29.5,  26.2200,  35.1809,2,-999.0000,5,    205.3,1, 26.2134,   -999.0,9,  -999.00,9,  -999.00,9,  -999.00,9,  -999.0,-999.000
     33KB174_1,  PRS2,     2, 10,     19,     19,2,20051009,0035, 22.7500,-158.0000, 4747,     30,     29.5,  26.2194,  35.1810,2,-999.0000,5,    205.3,1, 26.2128,   -999.0,9,  -999.00,9,  -999.00,9,  -999.00,9,  -999.0,-999.000
     33KB174_1,  PRS2,     2, 10,     18,     18,2,20051009,0035, 22.7500,-158.0000, 4747,     29,     29.5,  26.2189,  35.1810,2,-999.0000,5,    205.3,1, 26.2123,   -999.0,9,  -999.00,9,  -999.00,9,  -999.00,9,  -999.0,-999.000
     33KB174_1,  PRS2,     2, 10,     15,    102,2,20051009,0035, 22.7500,-158.0000, 4747,     29,     29.5,  26.2179,  35.1809,2,-999.0000,5,    205.3,1, 26.2113,   -999.0,9,  -999.00,9,  -999.00,9,  -999.00,9,  -999.0,-999.000
     33KB174_1,  PRS2,     2, 10,     14,    101,2,20051009,0035, 22.7500,-158.0000, 4747,     29,     29.5,  26.2179,  35.1810,2,-999.0000,5,    205.3,1, 26.2113,   -999.0,9,  -999.00,9,  -999.00,9,  -999.00,9,  -999.0,-999.000
     33KB174_1,  PRS2,     2, 10,     22,     22,2,20051009,0035, 22.7500,-158.0000, 4747,     30,     29.6,  26.2205,  35.1811,2,-999.0000,5,    205.3,1, 26.2139,   -999.0,9,  -999.00,9,  -999.00,9,  -999.00,9,  -999.0,-999.000
     33KB174_1,  PRS2,     2, 10,     21,     21,3,20051009,0035, 22.7500,-158.0000, 4747,     30,     29.6,  26.2204,  35.1811,2,-999.0000,5,    205.3,1, 26.2138,   -999.0,9,  -999.00,9,  -999.00,9,  -999.00,9,  -999.0,-999.000
     33KB174_1,  PRS2,     2, 10,     13,     42,2,20051009,0035, 22.7500,-158.0000, 4747,     29,     29.6,  26.2182,  35.1811,2,-999.0000,5,    205.3,1, 26.2116,   -999.0,9,  -999.00,9,  -999.00,9,  -999.00,9,  -999.0,-999.000
     33KB174_1,  PRS2,     2, 10,     12,     12,2,20051009,0035, 22.7500,-158.0000, 4747,     30,     29.6,  26.2188,  35.1810,2,-999.0000,5,    205.3,1, 26.2122,   -999.0,9,  -999.00,9,  -999.00,9,  -999.00,9,  -999.0,-999.000
     33KB174_1,  PRS2,     2, 10,     11,     39,2,20051009,0035, 22.7500,-158.0000, 4747,     30,     29.6,  26.2185,  35.1811,2,  35.1794,2,    205.4,1, 26.2119,   -999.0,9,  -999.00,9,  -999.00,9,  -999.00,9,  -999.0,-999.000
     33KB174_1,  PRS2,     2, 10,     10,     33,2,20051009,0035, 22.7500,-158.0000, 4747,     40,     39.8,  26.2151,  35.1808,2,  35.1831,2,    205.2,1, 26.2062,   -999.0,9,  -999.00,9,  -999.00,9,  -999.00,9,  -999.0,-999.000
     33KB174_1,  PRS2,     2, 10,      9,      3,2,20051009,0035, 22.7500,-158.0000, 4747,    147,    148.8,  20.3513,  35.1179,2,-999.0000,5,    199.7,1, 20.3234,   -999.0,9,  -999.00,9,  -999.00,9,  -999.00,9,  -999.0,-999.000
     33KB174_1,  PRS2,     2, 10,      8,  12054,2,20051009,0035, 22.7500,-158.0000, 4747,    148,    148.9,  20.3428,  35.1176,2,  35.1209,2,    200.2,1, 20.3149,   -999.0,9,  -999.00,9,  -999.00,9,  -999.00,9,  -999.0,-999.000
     33KB174_1,  PRS2,     2, 10,      7,  12052,2,20051009,0035, 22.7500,-158.0000, 4747,    249,    249.3,  14.5265,  34.4523,2,  34.4579,2,    205.7,1, 14.4897,   -999.0,9,  -999.00,9,  -999.00,9,  -999.00,9,  -999.0,-999.000
     33KB174_1,  PRS2,     2, 10,      6,  12048,2,20051009,0035, 22.7500,-158.0000, 4747,    301,    301.5,  12.1358,  34.2698,2,  34.2719,2,    210.0,1, 12.0963,   -999.0,9,  -999.00,9,  -999.00,9,  -999.00,9,  -999.0,-999.000
     33KB174_1,  PRS2,     2, 10,      5,  12011,2,20051009,0035, 22.7500,-158.0000, 4747,    500,    500.7,   7.3186,  34.0408,2,-999.0000,5,    131.1,1,  7.2702,   -999.0,9,  -999.00,9,  -999.00,9,  -999.00,9,  -999.0,-999.000
     33KB174_1,  PRS2,     2, 10,      4,     36,2,20051009,0035, 22.7500,-158.0000, 4747,    499,    500.8,   7.3092,  34.0411,2,  34.0396,2,    130.7,1,  7.2608,   -999.0,9,  -999.00,9,  -999.00,9,  -999.00,9,  -999.0,-999.000
     33KB174_1,  PRS2,     2, 10,      2,      7,2,20051009,0035, 22.7500,-158.0000, 4747,    701,    701.0,   4.8799,  34.1606,2,  34.1623,2,     41.0,1,  4.8241,   -999.0,9,  -999.00,9,  -999.00,9,  -999.00,9,  -999.0,-999.000
     33KB174_1,  PRS2,     2, 10,      3,  12053,2,20051009,0035, 22.7500,-158.0000, 4747,    700,    701.1,   4.8799,  34.1604,2,-999.0000,5,     41.1,1,  4.8241,   -999.0,9,  -999.00,9,  -999.00,9,  -999.00,9,  -999.0,-999.000
     33KB174_1,  PRS2,     2, 10,      1,  12047,2,20051009,0035, 22.7500,-158.0000, 4747,    897,    899.0,   4.1270,  34.3947,2,  34.3929,2,     28.4,1,  4.0590,   -999.0,9,  -999.00,9,  -999.00,9,  -999.00,9,  -999.0,-999.000
     33KB174_1,  PRS2,     2, 11,     22,     22,2,20051009,0438, 22.7500,-157.9997, 4746,      9,      9.0,  26.2446,  35.1850,2,-999.0000,5,    205.0,1, 26.2426,   -999.0,9,  -999.00,9,  -999.00,9,  -999.00,9,  -999.0,-999.000
     33KB174_1,  PRS2,     2, 11,     21,     21,2,20051009,0438, 22.7500,-157.9997, 4746,     10,      9.2,  26.2452,  35.1848,2,  35.1825,2,    205.1,1, 26.2431,   -999.0,9,  -999.00,9,  -999.00,9,  -999.00,9,  -999.0,-999.000
     33KB174_1,  PRS2,     2, 11,     19,     19,2,20051009,0438, 22.7500,-157.9997, 4746,     23,     23.2,  26.2488,  35.1848,2,  35.1908,2,    205.2,1, 26.2436,   -999.0,9,  -999.00,9,  -999.00,9,  -999.00,9,  -999.0,-999.000
     33KB174_1,  PRS2,     2, 11,     20,     16,2,20051009,0438, 22.7500,-157.9997, 4746,     25,     23.4,  26.2486,  35.1846,2,-999.0000,5,    205.1,1, 26.2433,   -999.0,9,  -999.00,9,  -999.00,9,  -999.00,9,  -999.0,-999.000
     33KB174_1,  PRS2,     2, 11,     18,     18,2,20051009,0438, 22.7500,-157.9997, 4746,     43,     43.0,  26.2431,  35.1837,2,-999.0000,5,    205.2,1, 26.2335,   -999.0,9,  -999.00,9,  -999.00,9,  -999.00,9,  -999.0,-999.000
     33KB174_1,  PRS2,     2, 11,     17,     17,2,20051009,0438, 22.7500,-157.9997, 4746,     43,     43.0,  26.2443,  35.1836,2,  35.1811,2,    205.2,1, 26.2346,   -999.0,9,  -999.00,9,  -999.00,9,  -999.00,9,  -999.0,-999.000
     33KB174_1,  PRS2,     2, 11,     16,     34,2,20051009,0438, 22.7500,-157.9997, 4746,     75,     73.4,  26.2062,  35.1792,2,-999.0000,5,    204.9,1, 26.1897,   -999.0,9,  -999.00,9,  -999.00,9,  -999.00,9,  -999.0,-999.000
     33KB174_1,  PRS2,     2, 11,     15,    102,2,20051009,0438, 22.7500,-157.9997, 4746,     75,     73.4,  26.2056,  35.1792,2,  35.1768,2,    204.9,1, 26.1891,   -999.0,9,  -999.00,9,  -999.00,9,  -999.00,9,  -999.0,-999.000
     33KB174_1,  PRS2,     2, 11,     13,     42,2,20051009,0438, 22.7500,-157.9997, 4746,     99,     99.3,  23.5466,  35.1697,2,  35.1551,3,    217.0,1, 23.5259,   -999.0,9,  -999.00,9,  -999.00,9,  -999.00,9,  -999.0,-999.000
     33KB174_1,  PRS2,     2, 11,     14,    101,2,20051009,0438, 22.7500,-157.9997, 4746,     99,     99.4,  23.5466,  35.1720,2,-999.0000,5,    216.8,1, 23.5259,   -999.0,9,  -999.00,9,  -999.00,9,  -999.00,9,  -999.0,-999.000
     33KB174_1,  PRS2,     2, 11,     11,     39,3,20051009,0438, 22.7500,-157.9997, 4746,    125,    123.9,  21.8720,  35.2043,2,  35.2018,2,    212.3,1, 21.8476,   -999.0,9,  -999.00,9,  -999.00,9,  -999.00,9,  -999.0,-999.000
     33KB174_1,  PRS2,     2, 11,     12,     12,2,20051009,0438, 22.7500,-157.9997, 4746,    125,    124.1,  21.8638,  35.2024,2,-999.0000,5,    213.1,1, 21.8393,   -999.0,9,  -999.00,9,  -999.00,9,  -999.00,9,  -999.0,-999.000
     33KB174_1,  PRS2,     2, 11,     10,     33,2,20051009,0438, 22.7500,-157.9997, 4746,    149,    149.4,  20.4718,  35.1191,2,  35.1861,4,    197.9,1, 20.4437,   -999.0,9,  -999.00,9,  -999.00,9,  -999.00,9,  -999.0,-999.000
     33KB174_1,  PRS2,     2, 11,      9,      3,2,20051009,0438, 22.7500,-157.9997, 4746,    151,    149.7,  20.4068,  35.1146,2,-999.0000,5,    197.9,1, 20.3787,   -999.0,9,  -999.00,9,  -999.00,9,  -999.00,9,  -999.0,-999.000
     33KB174_1,  PRS2,     2, 11,      8,  12054,2,20051009,0438, 22.7500,-157.9997, 4746,    173,    173.8,  19.1682,  35.0140,2,  35.0126,2,    205.2,1, 19.1370,   -999.0,9,  -999.00,9,  -999.00,9,  -999.00,9,  -999.0,-999.000
     33KB174_1,  PRS2,     2, 11,      7,  12052,2,20051009,0438, 22.7500,-157.9997, 4746,    173,    173.8,  19.1611,  35.0131,2,-999.0000,5,    204.9,1, 19.1300,   -999.0,9,  -999.00,9,  -999.00,9,  -999.00,9,  -999.0,-999.000
     33KB174_1,  PRS2,     2, 11,      6,  12048,2,20051009,0438, 22.7500,-157.9997, 4746,    200,    200.4,  18.1263,  34.9127,2,  34.9128,2,    207.5,1, 18.0918,   -999.0,9,  -999.00,9,  -999.00,9,  -999.00,9,  -999.0,-999.000
     33KB174_1,  PRS2,     2, 11,      5,  12011,2,20051009,0438, 22.7500,-157.9997, 4746,    253,    250.5,  15.5088,  34.5586,2,  34.5565,2,    203.6,1, 15.4700,   -999.0,9,  -999.00,9,  -999.00,9,  -999.00,9,  -999.0,-999.000
     33KB174_1,  PRS2,     2, 11,      3,  12053,2,20051009,0438, 22.7500,-157.9997, 4746,    349,    348.8,  11.3555,  34.2366,2,  34.2362,2,    209.4,1, 11.3117,   -999.0,9,  -999.00,9,  -999.00,9,  -999.00,9,  -999.0,-999.000
     33KB174_1,  PRS2,     2, 11,      4,     36,2,20051009,0438, 22.7500,-157.9997, 4746,    351,    349.0,  11.3667,  34.2380,2,  34.2364,2,    209.5,1, 11.3228,   -999.0,9,  -999.00,9,  -999.00,9,  -999.00,9,  -999.0,-999.000
     33KB174_1,  PRS2,     2, 11,      2,      7,2,20051009,0438, 22.7500,-157.9997, 4746,    524,    521.7,   7.1038,  34.0393,2,  34.0400,2,    120.4,1,  7.0542,   -999.0,9,  -999.00,9,  -999.00,9,  -999.00,9,  -999.0,-999.000
     33KB174_1,  PRS2,     2, 11,      1,  12047,2,20051009,0438, 22.7500,-157.9997, 4746,   1018,   1019.0,   3.8778,  34.4528,2,  34.4536,2,     37.8,1,  3.8016,   -999.0,9,  -999.00,9,  -999.00,9,  -999.00,9,  -999.0,-999.000
     33KB174_1,  PRS2,     2, 12,     14,    101,2,20051009,0624, 22.7500,-157.9997, 4746,      9,      8.0,  26.2355,  35.1823,2,  35.1863,2,    205.1,1, 26.2337,   -999.0,9,  -999.00,9,  -999.00,9,  -999.00,9,  -999.0,-999.000
     33KB174_1,  PRS2,     2, 12,     13,     42,2,20051009,0624, 22.7500,-157.9997, 4746,     26,     24.9,  26.2434,  35.1828,2,  35.1800,2,    205.1,1, 26.2378,   -999.0,9,  -999.00,9,  -999.00,9,  -999.00,9,  -999.0,-999.000
     33KB174_1,  PRS2,     2, 12,     12,     12,3,20051009,0624, 22.7500,-157.9997, 4746,     47,     45.9,  26.2255,  35.1790,2,  35.1776,2,    205.1,1, 26.2152,   -999.0,9,  -999.00,9,  -999.00,9,  -999.00,9,  -999.0,-999.000
     33KB174_1,  PRS2,     2, 12,     11,     39,2,20051009,0624, 22.7500,-157.9997, 4746,     74,     74.3,  26.2053,  35.1759,2,  35.1736,2,    205.1,1, 26.1886,   -999.0,9,  -999.00,9,  -999.00,9,  -999.00,9,  -999.0,-999.000
     33KB174_1,  PRS2,     2, 12,     10,     33,2,20051009,0624, 22.7500,-157.9997, 4746,     99,     98.2,  23.4962,  35.2006,2,  35.1764,4,    218.3,1, 23.4758,   -999.0,9,  -999.00,9,  -999.00,9,  -999.00,9,  -999.0,-999.000
     33KB174_1,  PRS2,     2, 12,      9,      3,2,20051009,0624, 22.7500,-157.9997, 4746,    124,    124.0,  21.8622,  35.2039,2,  35.2111,2,    212.0,1, 21.8378,   -999.0,9,  -999.00,9,  -999.00,9,  -999.00,9,  -999.0,-999.000
     33KB174_1,  PRS2,     2, 12,      8,  12054,2,20051009,0624, 22.7500,-157.9997, 4746,    151,    150.1,  20.7564,  35.1441,2,  35.1473,2,    199.5,1, 20.7279,   -999.0,9,  -999.00,9,  -999.00,9,  -999.00,9,  -999.0,-999.000
     33KB174_1,  PRS2,     2, 12,      7,  12052,2,20051009,0624, 22.7500,-157.9997, 4746,    175,    174.6,  19.4417,  35.0383,2,  35.0451,2,    203.1,1, 19.4100,   -999.0,9,  -999.00,9,  -999.00,9,  -999.00,9,  -999.0,-999.000
     33KB174_1,  PRS2,     2, 12,      6,  12048,2,20051009,0624, 22.7500,-157.9997, 4746,    200,    198.6,  18.2631,  34.9192,2,  34.9183,2,    206.8,1, 18.2287,   -999.0,9,  -999.00,9,  -999.00,9,  -999.00,9,  -999.0,-999.000
     33KB174_1,  PRS2,     2, 12,      5,  12011,2,20051009,0624, 22.7500,-157.9997, 4746,    247,    247.7,  16.2704,  34.6790,2,  34.6850,2,    205.1,1, 16.2308,   -999.0,9,  -999.00,9,  -999.00,9,  -999.00,9,  -999.0,-999.000
     33KB174_1,  PRS2,     2, 12,      4,     36,2,20051009,0624, 22.7500,-157.9997, 4746,    350,    349.4,  12.1371,  34.2773,2,  34.2746,2,    209.8,1, 12.0913,   -999.0,9,  -999.00,9,  -999.00,9,  -999.00,9,  -999.0,-999.000
     33KB174_1,  PRS2,     2, 12,      3,  12053,2,20051009,0624, 22.7500,-157.9997, 4746,    350,    349.6,  12.1362,  34.2774,2,  34.2746,2,    209.8,1, 12.0903,   -999.0,9,  -999.00,9,  -999.00,9,  -999.00,9,  -999.0,-999.000
     33KB174_1,  PRS2,     2, 12,      2,      7,2,20051009,0624, 22.7500,-157.9997, 4746,    560,    560.2,   6.5888,  34.0432,2,  34.0409,2,    100.0,1,  6.5375,   -999.0,9,  -999.00,9,  -999.00,9,  -999.00,9,  -999.0,-999.000
     33KB174_1,  PRS2,     2, 12,      1,  12047,2,20051009,0624, 22.7500,-157.9997, 4746,   1020,   1019.7,   3.8486,  34.4620,2,  34.4593,2,     39.4,1,  3.7726,   -999.0,9,  -999.00,9,  -999.00,9,  -999.00,9,  -999.0,-999.000
     33KB174_1,  PRS2,     2, 13,     11,     39,2,20051009,0901, 22.7500,-157.9997, 4745,      8,      8.0,  26.2129,  35.1795,2,  35.1868,2,    204.8,1, 26.2111,   -999.0,9,  -999.00,9,  -999.00,9,  -999.00,9,  -999.0,-999.000
     33KB174_1,  PRS2,     2, 13,     10,     33,2,20051009,0901, 22.7500,-157.9997, 4745,     25,     25.5,  26.2222,  35.1793,2,  35.1770,2,    204.8,1, 26.2165,   -999.0,9,  -999.00,9,  -999.00,9,  -999.00,9,  -999.0,-999.000
     33KB174_1,  PRS2,     2, 13,      9,      3,2,20051009,0901, 22.7500,-157.9997, 4745,     47,     46.0,  26.2253,  35.1795,2,  35.1766,2,    204.7,1, 26.2149,   -999.0,9,  -999.00,9,  -999.00,9,  -999.00,9,  -999.0,-999.000
     33KB174_1,  PRS2,     2, 13,      8,  12054,2,20051009,0901, 22.7500,-157.9997, 4745,     75,     75.0,  26.2175,  35.1800,2,  35.1750,2,    204.3,1, 26.2007,   -999.0,9,  -999.00,9,  -999.00,9,  -999.00,9,  -999.0,-999.000
     33KB174_1,  PRS2,     2, 13,      7,  12052,2,20051009,0901, 22.7500,-157.9997, 4745,    101,    100.5,  23.4035,  35.1646,2,  35.1626,2,    216.6,1, 23.3827,   -999.0,9,  -999.00,9,  -999.00,9,  -999.00,9,  -999.0,-999.000
     33KB174_1,  PRS2,     2, 13,      6,  12048,2,20051009,0901, 22.7500,-157.9997, 4745,    125,    124.9,  21.5498,  35.1948,2,  35.1939,2,    207.7,1, 21.5254,   -999.0,9,  -999.00,9,  -999.00,9,  -999.00,9,  -999.0,-999.000
     33KB174_1,  PRS2,     2, 13,      5,  12011,2,20051009,0901, 22.7500,-157.9997, 4745,    150,    149.2,  19.8874,  35.0548,2,  35.0559,2,    195.1,1, 19.8599,   -999.0,9,  -999.00,9,  -999.00,9,  -999.00,9,  -999.0,-999.000
     33KB174_1,  PRS2,     2, 13,      4,     36,2,20051009,0901, 22.7500,-157.9997, 4745,    251,    249.5,  15.7334,  34.6211,2,  34.6217,2,    205.5,1, 15.6944,   -999.0,9,  -999.00,9,  -999.00,9,  -999.00,9,  -999.0,-999.000
     33KB174_1,  PRS2,     2, 13,      3,  12053,2,20051009,0901, 22.7500,-157.9997, 4745,    351,    349.6,  12.1007,  34.2765,2,  34.2742,2,    210.1,1, 12.0549,   -999.0,9,  -999.00,9,  -999.00,9,  -999.00,9,  -999.0,-999.000
     33KB174_1,  PRS2,     2, 13,      2,      7,2,20051009,0901, 22.7500,-157.9997, 4745,    530,    530.0,   7.2112,  34.0396,2,  34.0382,2,    126.5,1,  7.1603,   -999.0,9,  -999.00,9,  -999.00,9,  -999.00,9,  -999.0,-999.000
     33KB174_1,  PRS2,     2, 13,      1,  12047,2,20051009,0901, 22.7500,-157.9997, 4745,   1020,   1019.3,   3.8235,  34.4609,2,  34.4604,2,     39.9,1,  3.7477,   -999.0,9,  -999.00,9,  -999.00,9,  -999.00,9,  -999.0,-999.000