BOTTLE,20140415SIOCCHRJL
EXPOCODE,SECT_ID,STNNBR,CASTNO,SAMPNO,BTLNBR,BTLNBR_FLAG_W,DATE,TIME,LATITUDE,LONGITUDE,DEPTH,CTDPRS,CTDTMP,CTDSAL,CTDSAL_FLAG_W,SALNTY,SALNTY_FLAG_W,CTDOXY,CTDOXY_FLAG_W,OXYGEN,OXYGEN_FLAG_W,SILCAT,SILCAT_FLAG_W,NITRAT,NITRAT_FLAG_W,NITRIT,NITRIT_FLAG_W,PHSPHT,PHSPHT_FLAG_W,CFC-11,CFC-11_FLAG_W,CFC-12,CFC-12_FLAG_W,TCARBN,TCARBN_FLAG_W,TRITUM,TRITUM_FLAG_W,TRITER,CCL4,CCL4_FLAG_W,DELO18,DELO18_FLAG_W,CTDRAW,THETA
,,,,,,,,,,,METERS,DBAR,ITS-90,PSS-78,,PSS-78,,UMOL/KG,,UMOL/KG,,UMOL/KG,,UMOL/KG,,UMOL/KG,,UMOL/KG,,PMOL/KG,,PMOL/KG,,UMOL/KG,,TU,,TU,PMOL/KG,,/MILLE,,DBAR,DEG C
06AQ19870704,        NAO,     310,          1,         24,         24,2,19870713,       1402,    82.0900,    32.0367,       3012,  1150.0,  -0.4979,  34.9322,2,  34.9205,2,-999.0000,9,   304.9,2,    9.86,2,   14.31,2,    0.00,2,    0.88,2,   0.799,2,   0.336,2,  2186.0,2,-999.000,9,-999.000,   2.960,2, -999.00,9, -999.00,  -0.5461
06AQ19870704,        NAO,     310,          1,         23,         23,2,19870713,       1402,    82.0900,    32.0367,       3012,  1303.0,  -0.6258,  34.9303,2,  34.9189,2,-999.0000,9,  -999.0,9,   10.26,2,   14.54,2,    0.00,2,    0.88,2,   0.677,2,   0.295,2,  2191.0,2,-999.000,9,-999.000,   2.570,2, -999.00,9, -999.00,  -0.6809
06AQ19870704,        NAO,     310,          1,         21,         21,2,19870713,       1402,    82.0900,    32.0367,       3012,  1452.0,  -0.7018,  34.9296,2,  34.9197,2,-999.0000,9,   303.2,2,   10.38,2,   14.64,2,    0.00,2,    0.88,2,-999.000,9,-999.000,9,  2182.0,2,-999.000,9,-999.000,-999.000,9, -999.00,9, -999.00,  -0.7642
06AQ19870704,        NAO,     310,          1,         22,         22,2,19870713,       1402,    82.0900,    32.0367,       3012,  1452.0,  -0.7018,  34.9296,2,  34.9205,2,-999.0000,9,  -999.0,9,   10.52,2,   14.56,2,    0.00,2,    0.89,2,-999.000,9,-999.000,9,  -999.0,9,-999.000,9,-999.000,-999.000,9, -999.00,9, -999.00,  -0.7642
06AQ19870704,        NAO,     310,          1,         20,         20,2,19870713,       1402,    82.0900,    32.0367,       3012,  1601.0,  -0.7518,  34.9336,2,  34.9205,2,-999.0000,9,   303.6,2,   10.65,2,   14.70,2,    0.00,2,    0.88,2,   0.382,2,   0.167,2,  2186.0,2,-999.000,9,-999.000,-999.000,9, -999.00,9, -999.00,  -0.8221
06AQ19870704,        NAO,     310,          1,         19,         19,2,19870713,       1402,    82.0900,    32.0367,       3012,  1726.0,  -0.7778,  34.9325,2,  34.9209,2,-999.0000,9,   304.1,2,   10.88,2,   14.81,2,    0.00,2,    0.88,2,   0.387,2,   0.167,2,  2190.0,2,-999.000,9,-999.000,-999.000,9, -999.00,9, -999.00,  -0.8551
06AQ19870704,        NAO,     310,          1,         18,         18,2,19870713,       1402,    82.0900,    32.0367,       3012,  1851.0,  -0.7908,  34.9372,2,  34.9221,2,-999.0000,9,   304.1,2,   10.96,2,   14.81,2,    0.00,2,    0.89,2,   0.365,2,   0.174,2,  2191.0,2,-999.000,9,-999.000,   2.140,2, -999.00,9, -999.00,  -0.8755
06AQ19870704,        NAO,     310,          1,         16,         16,2,19870713,       1402,    82.0900,    32.0367,       3012,  1951.0,  -0.8028,  34.9404,2,  34.9237,2,-999.0000,9,   303.2,2,   11.00,2,   14.78,2,    0.00,2,    0.90,2,   0.306,2,   0.126,2,  2191.0,2,-999.000,9,-999.000,-999.000,9, -999.00,9, -999.00,  -0.8937
06AQ19870704,        NAO,     310,          1,         17,         17,2,19870713,       1402,    82.0900,    32.0367,       3012,  1951.0,  -0.8028,  34.9404,2,  34.9229,2,-999.0000,9,  -999.0,9,   10.98,2,   14.80,2,    0.00,2,    0.90,2,-999.000,9,-999.000,9,  -999.0,9,-999.000,9,-999.000,-999.000,9, -999.00,9, -999.00,  -0.8937
06AQ19870704,        NAO,     310,          1,         15,         15,2,19870713,       1402,    82.0900,    32.0367,       3012,  2051.0,  -0.8028,  34.9356,2,  34.9246,2,-999.0000,9,   302.8,2,   11.00,2,   14.78,2,    0.00,2,    0.91,2,   0.226,2,   0.101,2,  2189.0,2,-999.000,9,-999.000,-999.000,9, -999.00,9, -999.00,  -0.9001
06AQ19870704,        NAO,     310,          1,         14,         14,2,19870713,       1402,    82.0900,    32.0367,       3012,  2150.0,  -0.8088,  34.9386,2,  34.9256,2,-999.0000,9,   303.2,2,   10.97,2,   14.78,2,    0.00,2,    0.90,2,   0.183,2,   0.070,2,  2184.0,2,-999.000,9,-999.000,-999.000,9, -999.00,9, -999.00,  -0.9125
06AQ19870704,        NAO,     310,          1,         13,         13,2,19870713,       1402,    82.0900,    32.0367,       3012,  2250.0,  -0.8118,  34.9393,2,  34.9276,2,-999.0000,9,   302.8,2,   11.10,2,   14.78,2,    0.00,2,    0.90,2,   0.162,2,   0.078,2,  2183.0,2,-999.000,9,-999.000,   2.690,2, -999.00,9, -999.00,  -0.9223
06AQ19870704,        NAO,     310,          1,         12,         12,2,19870713,       1402,    82.0900,    32.0367,       3012,  2351.0,  -0.8118,  34.9432,2,  34.9292,2,-999.0000,9,   302.8,2,   11.36,2,   14.78,2,    0.00,2,    0.94,2,   0.154,2,   0.050,2,  2190.0,2,-999.000,9,-999.000,   1.770,2, -999.00,9, -999.00,  -0.9293
06AQ19870704,        NAO,     310,          1,         11,         11,2,19870713,       1402,    82.0900,    32.0367,       3012,  2450.0,  -0.8098,  34.9436,2,  34.9301,2,-999.0000,9,   302.8,2,   11.43,2,   14.74,2,    0.00,2,    0.91,2,   0.127,2,   0.074,2,  2190.0,2,-999.000,9,-999.000,   1.610,2, -999.00,9, -999.00,  -0.9343
06AQ19870704,        NAO,     310,          1,          9,          9,2,19870713,       1402,    82.0900,    32.0367,       3012,  2575.0,  -0.8058,  34.9433,2,  34.9319,2,-999.0000,9,   302.3,2,   11.53,2,   14.78,2,    0.00,2,    0.91,2,   0.114,2,   0.048,2,  2185.0,2,-999.000,9,-999.000,-999.000,9, -999.00,9, -999.00,  -0.9395
06AQ19870704,        NAO,     310,          1,         10,         10,2,19870713,       1402,    82.0900,    32.0367,       3012,  2575.0,  -0.8058,  34.9433,2,  34.9339,2,-999.0000,9,  -999.0,9,   11.43,2,   14.78,2,    0.00,2,    0.92,2,-999.000,9,-999.000,9,  -999.0,9,-999.000,9,-999.000,-999.000,9, -999.00,9, -999.00,  -0.9395
06AQ19870704,        NAO,     310,          1,          8,          8,2,19870713,       1402,    82.0900,    32.0367,       3012,  2675.0,  -0.8018,  34.9471,2,  34.9335,2,-999.0000,9,   302.3,2,   11.53,2,   14.78,2,    0.00,2,    0.93,2,   0.079,2,   0.006,2,  2190.0,2,-999.000,9,-999.000,-999.000,9, -999.00,9, -999.00,  -0.9431
06AQ19870704,        NAO,     310,          1,          7,          7,2,19870713,       1402,    82.0900,    32.0367,       3012,  2775.0,  -0.7968,  34.9462,2,  34.9360,2,-999.0000,9,   302.3,2,   11.52,2,   14.73,2,    0.00,2,    0.93,2,   0.079,2,   0.005,2,  2190.0,2,-999.000,9,-999.000,   1.200,2, -999.00,9, -999.00,  -0.9458
06AQ19870704,        NAO,     310,          1,          6,          6,2,19870713,       1402,    82.0900,    32.0367,       3012,  2913.0,  -0.7878,  34.9512,2,  34.9374,2,-999.0000,9,   301.5,2,   11.55,2,   14.77,2,    0.00,2,    0.93,2,   0.050,2,   0.023,2,  2190.0,2,-999.000,9,-999.000,   2.070,2, -999.00,9, -999.00,  -0.9478
06AQ19870704,        NAO,     310,          1,          5,          5,2,19870713,       1402,    82.0900,    32.0367,       3012,  2913.0,  -0.7878,  34.9512,2,  34.9372,2,-999.0000,9,  -999.0,9,   11.57,2,   14.77,2,    0.00,2,    0.93,2,-999.000,9,-999.000,9,  -999.0,9,-999.000,9,-999.000,-999.000,9, -999.00,9, -999.00,  -0.9478
06AQ19870704,        NAO,     310,          1,          3,          3,2,19870713,       1402,    82.0900,    32.0367,       3012,  3010.0,  -0.7828,  34.9540,2,  34.9396,2,-999.0000,9,   300.6,2,   11.48,2,   14.73,2,    0.00,2,    0.93,2,-999.000,9,-999.000,9,  -999.0,9,-999.000,9,-999.000,-999.000,9, -999.00,9, -999.00,  -0.9507
06AQ19870704,        NAO,     310,          1,          4,          4,2,19870713,       1402,    82.0900,    32.0367,       3012,  3010.0,  -0.7828,  34.9540,2,  34.9398,2,-999.0000,9,  -999.0,9,   11.54,2,   14.75,2,    0.00,2,    0.93,2,   0.023,2,   0.010,2,  2192.0,2,-999.000,9,-999.000,   1.570,2, -999.00,9, -999.00,  -0.9507
06AQ19870704,        NAO,     310,          1,          1,          1,2,19870713,       1402,    82.0900,    32.0367,       3012,  3060.0,  -0.7758,  34.9570,2,  34.9414,2,-999.0000,9,   299.3,2,   11.87,2,   14.68,2,    0.00,2,    0.93,2,   0.020,2,   0.008,2,  2191.0,2,-999.000,9,-999.000,   1.620,2, -999.00,9, -999.00,  -0.9479
06AQ19870704,        NAO,     310,          1,          2,          2,2,19870713,       1402,    82.0900,    32.0367,       3012,  3060.0,  -0.7758,  34.9570,2,  34.9414,2,-999.0000,9,  -999.0,9,   11.85,2,   14.71,2,    0.00,2,    0.94,2,-999.000,9,-999.000,9,  -999.0,9,-999.000,9,-999.000,-999.000,9, -999.00,9, -999.00,  -0.9479
06AQ19870704,        NAO,     340,          1,         24,         24,2,19870717,       1005,    82.9883,    31.9817,       3784,     9.7,  -1.8286,  34.0916,2,  34.0780,2,-999.0000,9,   349.0,2,    3.03,2,    6.65,2,    0.04,2,    0.48,2,-999.000,9,-999.000,9,  2105.0,2,   4.070,2,   0.000,-999.000,9,    0.12,2, -999.00,  -1.8288
06AQ19870704,        NAO,     340,          1,         23,         23,2,19870717,       1005,    82.9883,    31.9817,       3784,    30.0,  -1.8286,  34.1415,2,  34.1130,2,-999.0000,9,   348.2,2,    3.03,2,    6.94,2,    0.04,2,    0.48,2,   4.483,2,   2.284,2,  2117.0,2,   4.020,2,   0.000,-999.000,9,    0.10,2, -999.00,  -1.8292
06AQ19870704,        NAO,     340,          1,         22,         22,2,19870717,       1005,    82.9883,    31.9817,       3784,    51.0,  -1.8306,  34.1848,2,  34.1740,2,-999.0000,9,   344.7,2,    3.13,2,    7.43,2,    0.04,2,    0.49,2,   4.579,2,   2.295,2,  2119.0,2,   4.510,2,   0.000,   7.800,2,    0.12,2, -999.00,  -1.8316
06AQ19870704,        NAO,     340,          4,         24,         24,2,19870717,       0059,    82.9883,    31.9817,       3784,    51.3,  -1.8416,  34.2393,2,  34.2250,2,-999.0000,9,   344.2,2,    3.32,2,    8.02,2,    0.04,2,    0.54,2,-999.000,9,-999.000,9,  -999.0,9,-999.000,9,-999.000,-999.000,9, -999.00,9, -999.00,  -1.8426
06AQ19870704,        NAO,     340,          1,         21,         21,2,19870717,       1005,    82.9883,    31.9817,       3784,    65.2,  -1.8066,  34.2626,2,  34.2550,2,-999.0000,9,   339.9,2,    3.32,2,    8.12,2,    0.03,2,    0.52,2,-999.000,9,-999.000,9,  2130.0,2,-999.000,9,-999.000,-999.000,9, -999.00,9, -999.00,  -1.8079
06AQ19870704,        NAO,     340,          4,         23,         23,2,19870717,       0059,    82.9883,    31.9817,       3784,    75.8,  -1.7546,  34.3478,2,  34.3330,2,-999.0000,9,   336.8,2,    3.81,2,    8.90,2,    0.02,2,    0.59,2,-999.000,9,-999.000,9,  -999.0,9,-999.000,9,-999.000,-999.000,9, -999.00,9, -999.00,  -1.7561
06AQ19870704,        NAO,     340,          1,         20,         20,2,19870717,       1005,    82.9883,    31.9817,       3784,    80.8,  -1.5516,  34.3533,2,  34.3410,2,-999.0000,9,   331.1,2,    3.42,2,    8.60,2,    0.00,2,    0.54,2,-999.000,9,-999.000,9,  2141.0,2,   4.890,2,   0.000,-999.000,9,    0.09,2, -999.00,  -1.5534
06AQ19870704,        NAO,     340,          1,         19,         19,2,19870717,       1005,    82.9883,    31.9817,       3784,    94.0,  -1.2167,  34.4092,2,  34.4060,2,-999.0000,9,   324.6,2,    3.91,2,    9.48,2,    0.00,2,    0.59,2,   4.361,2,   1.892,2,  2148.0,2,-999.000,9,-999.000,-999.000,9, -999.00,9, -999.00,  -1.2191
06AQ19870704,        NAO,     340,          4,         22,         22,2,19870717,       0059,    82.9883,    31.9817,       3784,    99.0,  -1.5296,  34.4730,2,  34.4070,2,-999.0000,9,   330.7,2,    4.30,2,    9.97,2,    0.01,2,    0.64,2,-999.000,9,-999.000,9,  -999.0,9,-999.000,9,-999.000,-999.000,9, -999.00,9, -999.00,  -1.5318
06AQ19870704,        NAO,     340,          1,         18,         18,2,19870717,       1005,    82.9883,    31.9817,       3784,   109.0,  -0.1390,  34.5183,2,  34.5750,2,-999.0000,9,   313.7,2,    4.89,2,   11.14,2,    0.00,2,    0.65,2,   3.643,2,   1.529,2,  2159.0,2,-999.000,9,-999.000,   7.140,2,    0.13,2, -999.00,  -0.1428
06AQ19870704,        NAO,     340,          4,         21,         21,2,19870717,       0059,    82.9883,    31.9817,       3784,   124.0,  -0.7948,  34.5155,2,  34.5050,2,-999.0000,9,   326.3,2,    4.79,2,   10.75,2,    0.00,2,    0.67,2,   3.847,2,   1.613,2,  2163.0,2,-999.000,9,-999.000,   6.690,2,    0.17,2, -999.00,  -0.7984
06AQ19870704,        NAO,     340,          1,         17,         17,2,19870717,       1005,    82.9883,    31.9817,       3784,   125.0,   0.6398,  34.6388,2,  34.6640,2,-999.0000,9,   312.0,2,    4.98,2,   11.53,2,    0.00,2,    0.68,2,-999.000,9,-999.000,9,  -999.0,9,-999.000,9,-999.000,-999.000,9, -999.00,9, -999.00,   0.6346
06AQ19870704,        NAO,     340,          1,         16,         16,2,19870717,       1005,    82.9883,    31.9817,       3784,   140.0,   1.1157,  34.7433,2,  34.7480,2,-999.0000,9,   309.4,2,    5.08,2,   12.12,2,    0.00,2,    0.69,2,-999.000,9,   1.609,2,  2165.0,2,-999.000,9,-999.000,-999.000,9,    0.23,2, -999.00,   1.1093
06AQ19870704,        NAO,     340,          4,         20,         20,2,19870717,       0059,    82.9883,    31.9817,       3784,   150.0,  -0.0940,  34.6499,2,  34.6480,2,-999.0000,9,   326.3,2,    5.08,2,   11.34,2,    0.00,2,    0.71,2,-999.000,9,-999.000,9,  -999.0,9,-999.000,9,-999.000,-999.000,9, -999.00,9, -999.00,  -0.0994
06AQ19870704,        NAO,     340,          1,         15,         15,2,19870717,       1005,    82.9883,    31.9817,       3784,   154.0,   1.4547,  34.8066,2,  34.8130,2,-999.0000,9,   308.5,2,    5.18,2,   12.41,2,    0.00,2,    0.71,2,   3.992,2,   1.615,2,  2164.0,2,-999.000,9,-999.000,   6.850,2,    0.24,2, -999.00,   1.4471
06AQ19870704,        NAO,     340,          1,         14,         14,2,19870717,       1005,    82.9883,    31.9817,       3784,   169.0,   1.4816,  34.8226,2,  34.8250,2,-999.0000,9,   314.1,2,    5.08,2,   12.22,2,    0.00,2,    0.69,2,   4.516,2,   1.850,2,  2164.0,2,-999.000,9,-999.000,   6.420,2,    0.22,2, -999.00,   1.4732
06AQ19870704,        NAO,     340,          4,         19,         19,2,19870717,       0059,    82.9883,    31.9817,       3784,   174.0,   0.7488,  34.7659,2,  34.7660,2,-999.0000,9,   322.4,2,    5.28,2,   11.73,2,    0.00,2,    0.72,2,-999.000,9,-999.000,9,  -999.0,9,-999.000,9,-999.000,-999.000,9, -999.00,9, -999.00,   0.7413
06AQ19870704,        NAO,     340,          1,         13,         13,2,19870717,       1005,    82.9883,    31.9817,       3784,   190.0,   1.7056,  34.8734,2,  34.8700,2,-999.0000,9,   309.3,2,    5.28,2,   12.80,2,    0.00,2,    0.72,2,   4.028,2,   1.719,2,  2170.0,2,-999.000,9,-999.000,-999.000,9,    0.25,2, -999.00,   1.6958
06AQ19870704,        NAO,     340,          4,         18,         18,2,19870717,       0059,    82.9883,    31.9817,       3784,   199.0,   0.8748,  34.8044,2,  34.8020,2,-999.0000,9,   322.4,2,    5.38,2,   11.92,2,    0.00,2,    0.72,2,-999.000,9,-999.000,9,  -999.0,9,-999.000,9,-999.000,-999.000,9, -999.00,9, -999.00,   0.8659
06AQ19870704,        NAO,     340,          1,         12,         12,2,19870717,       1005,    82.9883,    31.9817,       3784,   220.0,   1.7946,  34.8993,2,  34.8890,2,-999.0000,9,   311.1,2,    5.47,2,   12.80,2,    0.00,2,    0.71,2,   4.230,2,   1.673,2,  2169.0,2,-999.000,9,-999.000,   5.740,2, -999.00,9, -999.00,   1.7830
06AQ19870704,        NAO,     340,          4,         17,         17,2,19870717,       0059,    82.9883,    31.9817,       3784,   249.0,   1.4686,  34.9113,2,  34.9070,2,-999.0000,9,   314.5,2,    5.57,2,   12.51,2,    0.00,2,    0.76,2,   4.420,2,   1.832,2,  2169.0,2,-999.000,9,-999.000,-999.000,9,    0.25,2, -999.00,   1.4561
06AQ19870704,        NAO,     340,          1,         11,         11,2,19870717,       1005,    82.9883,    31.9817,       3784,   249.0,   1.7076,  34.8990,2,  34.9000,2,-999.0000,9,   315.0,2,    5.28,2,   12.70,2,    0.00,2,    0.69,2,-999.000,9,-999.000,9,  -999.0,9,-999.000,9,-999.000,-999.000,9, -999.00,9, -999.00,   1.6946
06AQ19870704,        NAO,     340,          1,         10,         10,2,19870717,       1005,    82.9883,    31.9817,       3784,   299.0,   1.7236,  34.9258,2,  34.9300,2,-999.0000,9,   313.7,2,    5.57,2,   12.90,2,    0.00,2,    0.71,2,-999.000,9,-999.000,9,  -999.0,9,-999.000,9,-999.000,-999.000,9, -999.00,9, -999.00,   1.7078
06AQ19870704,        NAO,     340,          4,         16,         16,2,19870717,       0059,    82.9883,    31.9817,       3784,   299.0,   1.4666,  34.9125,2,  34.9120,2,-999.0000,9,   317.6,2,    5.57,2,   12.31,2,    0.00,2,    0.76,2,   4.222,2,   1.784,2,  -999.0,9,-999.000,9,-999.000,   7.320,2, -999.00,9, -999.00,   1.4515
06AQ19870704,        NAO,     340,          1,          9,          9,2,19870717,       1005,    82.9883,    31.9817,       3784,   349.0,   1.6786,  34.9430,2,  34.9410,2,-999.0000,9,   314.5,2,    5.67,2,   12.90,2,    0.00,2,    0.71,2,   4.003,2,   1.650,2,  -999.0,9,-999.000,9,-999.000,-999.000,9,    0.28,2, -999.00,   1.6602
06AQ19870704,        NAO,     340,          4,         15,         15,2,19870717,       0059,    82.9883,    31.9817,       3784,   349.0,   1.6556,  34.9533,2,  34.9510,2,-999.0000,9,   314.1,2,    5.86,2,   12.61,2,    0.00,2,    0.77,2,-999.000,9,-999.000,9,  -999.0,9,-999.000,9,-999.000,-999.000,9, -999.00,9, -999.00,   1.6372
06AQ19870704,        NAO,     340,          4,         14,         14,2,19870717,       0059,    82.9883,    31.9817,       3784,   400.0,   1.5736,  34.9578,2,  34.9560,2,-999.0000,9,   310.2,2,    6.06,2,   12.80,2,    0.00,2,    0.78,2,   4.213,2,   1.707,2,  -999.0,9,-999.000,9,-999.000,   7.120,2, -999.00,9, -999.00,   1.5526
06AQ19870704,        NAO,     340,          1,          8,          8,2,19870717,       1005,    82.9883,    31.9817,       3784,   400.0,   1.6196,  34.9512,2,  34.9480,2,-999.0000,9,   316.7,2,    5.47,2,   13.00,2,    0.00,2,    0.72,2,-999.000,9,-999.000,9,  -999.0,9,-999.000,9,-999.000,-999.000,9, -999.00,9, -999.00,   1.5985
06AQ19870704,        NAO,     340,          4,         13,         13,2,19870717,       0059,    82.9883,    31.9817,       3784,   450.0,   1.3627,  34.9496,2,  34.9430,2,-999.0000,9,   316.7,2,    6.16,2,   12.90,2,    0.00,2,    0.79,2,-999.000,9,-999.000,9,  -999.0,9,-999.000,9,-999.000,-999.000,9, -999.00,9, -999.00,   1.3397
06AQ19870704,        NAO,     340,          4,         12,         12,2,19870717,       0059,    82.9883,    31.9817,       3784,   499.0,   1.2417,  34.9475,2,  34.9480,2,-999.0000,9,   310.2,2,    6.06,2,   13.00,2,    0.00,2,    0.79,2,-999.000,9,-999.000,9,  -999.0,9,-999.000,9,-999.000,-999.000,9, -999.00,9, -999.00,   1.2165
06AQ19870704,        NAO,     340,          1,          7,          7,2,19870717,       1005,    82.9883,    31.9817,       3784,   499.0,   1.2567,  34.9410,2,  34.9400,2,-999.0000,9,   307.6,2,    5.96,2,   13.29,2,    0.00,2,    0.74,2,   1.969,2,   1.033,2,  -999.0,9,-999.000,9,-999.000,   4.420,2, -999.00,9, -999.00,   1.2314
06AQ19870704,        NAO,     340,          1,          6,          6,2,19870717,       1005,    82.9883,    31.9817,       3784,   599.0,   0.9998,  34.9444,2,  34.9410,2,-999.0000,9,   308.4,2,    6.25,2,   13.58,2,    0.00,2,    0.75,2,   2.318,2,   0.974,2,  2177.0,2,-999.000,9,-999.000,   5.370,2, -999.00,9, -999.00,   0.9702
06AQ19870704,        NAO,     340,          4,         11,         11,2,19870717,       0059,    82.9883,    31.9817,       3784,   600.0,   0.9228,  34.9397,2,  34.9390,2,-999.0000,9,   307.6,2,    6.55,2,   13.09,2,    0.00,2,    0.80,2,-999.000,9,-999.000,9,  -999.0,9,-999.000,9,-999.000,-999.000,9, -999.00,9, -999.00,   0.8935
06AQ19870704,        NAO,     340,          4,         10,         10,2,19870717,       0059,    82.9883,    31.9817,       3784,   700.0,   0.5069,  34.9312,2,  34.9320,2,-999.0000,9,   307.1,2,    7.04,2,   13.49,2,    0.00,2,    0.85,2,-999.000,9,-999.000,9,  -999.0,9,-999.000,9,-999.000,-999.000,9, -999.00,9, -999.00,   0.4746