BOTTLE,20140415SIOCCHRJL
EXPOCODE,SECT_ID,STNNBR,CASTNO,SAMPNO,BTLNBR,BTLNBR_FLAG_W,DATE,TIME,LATITUDE,LONGITUDE,DEPTH,CTDPRS,CTDTMP,CTDSAL,CTDSAL_FLAG_W,SALNTY,SALNTY_FLAG_W,CTDOXY,CTDOXY_FLAG_W,OXYGEN,OXYGEN_FLAG_W,SILCAT,SILCAT_FLAG_W,NITRAT,NITRAT_FLAG_W,NITRIT,NITRIT_FLAG_W,PHSPHT,PHSPHT_FLAG_W,CFC-11,CFC-11_FLAG_W,CFC-12,CFC-12_FLAG_W,TCARBN,TCARBN_FLAG_W,TRITUM,TRITUM_FLAG_W,TRITER,CCL4,CCL4_FLAG_W,DELO18,DELO18_FLAG_W,CTDRAW,THETA
,,,,,,,,,,,METERS,DBAR,ITS-90,PSS-78,,PSS-78,,UMOL/KG,,UMOL/KG,,UMOL/KG,,UMOL/KG,,UMOL/KG,,UMOL/KG,,PMOL/KG,,PMOL/KG,,UMOL/KG,,TU,,TU,PMOL/KG,,/MILLE,,DBAR,DEG C
06AQ19870704,        NAO,     280,          1,         24,         24,2,19870708,       2155,    81.5750,    31.5433,       1028,     8.0,  -1.7256,  34.1235,2,  34.1100,2,-999.0000,9,   349.8,2,    3.91,2,    9.19,2,    0.05,2,    0.66,2,-999.000,9,-999.000,9,  -999.0,9,-999.000,9,-999.000,-999.000,9, -999.00,9, -999.00,  -1.7258
06AQ19870704,        NAO,     280,          1,         23,         23,2,19870708,       2155,    81.5750,    31.5433,       1028,    15.0,  -1.7196,  34.1511,2,  34.1300,2,-999.0000,9,   349.4,2,    4.01,2,    9.19,2,    0.05,2,    0.66,2,   5.740,2,   2.275,2,  2093.0,2,-999.000,9,-999.000,-999.000,9, -999.00,9, -999.00,  -1.7199
06AQ19870704,        NAO,     280,          1,         22,         22,2,19870708,       2155,    81.5750,    31.5433,       1028,    30.1,  -1.5176,  34.2758,2,  34.2500,2,-999.0000,9,   346.6,2,    4.01,2,    9.39,2,    0.05,2,    0.68,2,-999.000,9,-999.000,9,  -999.0,9,-999.000,9,-999.000,-999.000,9, -999.00,9, -999.00,  -1.5182
06AQ19870704,        NAO,     280,          1,         21,         21,2,19870708,       2155,    81.5750,    31.5433,       1028,    50.1,  -1.0817,  34.4999,2,  34.5250,2,-999.0000,9,   345.7,2,    4.40,2,    9.48,2,    0.10,2,    0.71,2,   5.735,2,   2.352,2,  2127.0,2,-999.000,9,-999.000,-999.000,9, -999.00,9, -999.00,  -1.0830
06AQ19870704,        NAO,     280,          1,         20,         20,2,19870708,       2155,    81.5750,    31.5433,       1028,    70.2,  -0.7998,  34.5916,2,  34.6250,2,-999.0000,9,   338.9,2,    4.69,2,   10.07,2,    0.14,2,    0.74,2,   5.701,2,   2.294,2,  2143.0,2,-999.000,9,-999.000,-999.000,9, -999.00,9, -999.00,  -0.8018
06AQ19870704,        NAO,     280,          1,         19,         19,2,19870708,       2155,    81.5750,    31.5433,       1028,    90.0,   0.5409,  34.7841,2,  34.7730,2,-999.0000,9,  -999.0,9,    4.69,2,   11.04,2,    0.17,2,    0.77,2,   5.122,2,   2.171,2,  2146.0,2,-999.000,9,-999.000,-999.000,9, -999.00,9, -999.00,   0.5372
06AQ19870704,        NAO,     280,          1,         18,         18,2,19870708,       2155,    81.5750,    31.5433,       1028,    90.0,   0.5409,  34.7841,2,  34.8030,2,-999.0000,9,   327.0,2,    4.79,2,   11.14,2,    0.18,2,    0.77,2,-999.000,9,-999.000,9,  -999.0,9,-999.000,9,-999.000,-999.000,9, -999.00,9, -999.00,   0.5372
06AQ19870704,        NAO,     280,          1,         17,         17,2,19870708,       2155,    81.5750,    31.5433,       1028,   110.0,   1.0427,  34.8503,2,  34.8490,2,-999.0000,9,   323.7,2,    4.79,2,   11.63,2,    0.21,2,    0.78,2,-999.000,9,-999.000,9,  -999.0,9,-999.000,9,-999.000,-999.000,9, -999.00,9, -999.00,   1.0377
06AQ19870704,        NAO,     280,          1,         16,         16,2,19870708,       2155,    81.5750,    31.5433,       1028,   150.0,   1.3567,  34.8910,2,  34.8880,2,-999.0000,9,   320.8,2,    5.18,2,   11.92,2,    0.13,2,    0.78,2,   4.748,2,   2.011,2,  2142.0,2,-999.000,9,-999.000,-999.000,9, -999.00,9, -999.00,   1.3494
06AQ19870704,        NAO,     280,          1,         15,         15,2,19870708,       2155,    81.5750,    31.5433,       1028,   190.0,   1.4716,  34.9144,2,  34.9100,2,-999.0000,9,   319.0,2,    5.18,2,   12.12,2,    0.05,2,    0.78,2,-999.000,9,-999.000,9,  -999.0,9,-999.000,9,-999.000,-999.000,9, -999.00,9, -999.00,   1.4622
06AQ19870704,        NAO,     280,          1,         14,         14,2,19870708,       2155,    81.5750,    31.5433,       1028,   230.0,   1.4956,  34.9293,2,  34.9250,2,-999.0000,9,   319.4,2,    5.37,2,   12.22,2,    0.00,2,    0.81,2,   4.784,2,   1.958,2,  2145.0,2,-999.000,9,-999.000,-999.000,9, -999.00,9, -999.00,   1.4840
06AQ19870704,        NAO,     280,          1,         13,         13,2,19870708,       2155,    81.5750,    31.5433,       1028,   279.0,   1.3927,  34.9337,2,  34.9330,2,-999.0000,9,   319.4,2,    5.47,2,   12.31,2,    0.01,2,    0.80,2,-999.000,9,-999.000,9,  -999.0,9,-999.000,9,-999.000,-999.000,9, -999.00,9, -999.00,   1.3788
06AQ19870704,        NAO,     280,          1,         12,         12,2,19870708,       2155,    81.5750,    31.5433,       1028,   340.0,   1.0857,  34.9304,2,-999.0000,9,-999.0000,9,   325.4,2,    5.47,2,   12.02,2,    0.02,2,    0.78,2,   5.112,2,   2.073,2,  2151.0,2,-999.000,9,-999.000,-999.000,9, -999.00,9, -999.00,   1.0694
06AQ19870704,        NAO,     280,          1,         11,         11,2,19870708,       2155,    81.5750,    31.5433,       1028,   400.0,   0.6588,  34.8927,2,  34.9010,2,-999.0000,9,   329.3,2,    5.08,2,   11.24,2,    0.12,2,    0.76,2,   5.257,2,   2.114,2,  2155.0,2,-999.000,9,-999.000,-999.000,9, -999.00,9, -999.00,   0.6409
06AQ19870704,        NAO,     280,          1,         10,         10,2,19870708,       2155,    81.5750,    31.5433,       1028,   460.0,   0.4059,  34.9112,2,  34.8970,2,-999.0000,9,   329.4,2,    5.18,2,   11.34,2,    0.11,2,    0.76,2,   5.204,2,   2.159,2,  2150.0,2,-999.000,9,-999.000,-999.000,9, -999.00,9, -999.00,   0.3860
06AQ19870704,        NAO,     280,          1,          9,          9,2,19870708,       2155,    81.5750,    31.5433,       1028,   460.0,   0.4059,  34.9112,2,  34.8980,2,-999.0000,9,  -999.0,9,    5.18,2,   11.34,2,    0.12,2, -999.00,9,-999.000,9,-999.000,9,  -999.0,9,-999.000,9,-999.000,-999.000,9, -999.00,9, -999.00,   0.3860
06AQ19870704,        NAO,     280,          1,          8,          8,2,19870708,       2155,    81.5750,    31.5433,       1028,   540.0,   0.5599,  34.9204,2,  34.9180,2,-999.0000,9,   328.7,2,    5.18,2,   11.04,2,    0.12,2,    0.77,2,   5.074,2,   2.054,2,  2155.0,2,-999.000,9,-999.000,-999.000,9, -999.00,9, -999.00,   0.5355
06AQ19870704,        NAO,     280,          1,          7,          7,2,19870708,       2155,    81.5750,    31.5433,       1028,   630.0,   0.4579,  34.9514,2,  34.9410,2,-999.0000,9,   311.8,2,    7.23,2,   13.39,2,    0.00,2,    0.88,2,-999.000,9,-999.000,9,  -999.0,9,-999.000,9,-999.000,-999.000,9, -999.00,9, -999.00,   0.4294
06AQ19870704,        NAO,     280,          1,          6,          6,2,19870708,       2155,    81.5750,    31.5433,       1028,   720.0,   0.0400,  34.9329,2,  34.9300,2,-999.0000,9,   310.2,2,    8.01,2,   13.49,2,    0.02,2,    0.90,2,   2.470,2,   1.078,2,  2171.0,2,-999.000,9,-999.000,-999.000,9, -999.00,9, -999.00,   0.0094
06AQ19870704,        NAO,     280,          1,          5,          5,2,19870708,       2155,    81.5750,    31.5433,       1028,   810.0,  -0.2000,  34.9369,2,  34.9250,2,-999.0000,9,   306.8,2,    8.99,2,   13.97,2,    0.00,2,    0.94,2,-999.000,9,-999.000,9,  -999.0,9,-999.000,9,-999.000,-999.000,9, -999.00,9, -999.00,  -0.2335
06AQ19870704,        NAO,     280,          1,          4,          4,2,19870708,       2155,    81.5750,    31.5433,       1028,   860.0,  -0.3369,  34.9346,2,  34.9200,2,-999.0000,9,   306.2,2,    9.58,2,   14.17,2,    0.01,2,    0.93,2,   1.513,2,   0.670,2,  2169.0,2,-999.000,9,-999.000,-999.000,9, -999.00,9, -999.00,  -0.3719
06AQ19870704,        NAO,     280,          1,          3,          3,2,19870708,       2155,    81.5750,    31.5433,       1028,   910.0,  -0.4079,  34.9329,2,  34.9210,2,-999.0000,9,   305.1,2,    9.97,2,   14.17,2,    0.00,2,    0.96,2,-999.000,9,-999.000,9,  2170.0,2,-999.000,9,-999.000,-999.000,9, -999.00,9, -999.00,  -0.4448
06AQ19870704,        NAO,     280,          1,          2,          2,2,19870708,       2155,    81.5750,    31.5433,       1028,   962.0,  -0.4209,  34.9334,2,  34.9190,2,-999.0000,9,   304.3,2,   10.07,2,   14.17,2,    0.00,2,    0.96,2,-999.000,9,-999.000,9,  -999.0,9,-999.000,9,-999.000,-999.000,9, -999.00,9, -999.00,  -0.4602
06AQ19870704,        NAO,     280,          1,          1,          1,2,19870708,       2155,    81.5750,    31.5433,       1028,   962.0,  -0.4209,  34.9334,2,  34.9210,2,-999.0000,9,  -999.0,9,   10.07,2,   14.17,2,    0.00,2,    0.96,2,-999.000,9,-999.000,9,  -999.0,9,-999.000,9,-999.000,-999.000,9, -999.00,9, -999.00,  -0.4602
06AQ19870704,        NAO,     282,          1,         24,         24,2,19870709,       1038,    81.5817,    31.6150,       1393,     7.6,  -1.6646,  34.0954,2,-999.0000,9,-999.0000,9,  -999.0,9, -999.00,9, -999.00,9, -999.00,9, -999.00,9,-999.000,9,-999.000,9,  -999.0,9,-999.000,9,-999.000,-999.000,9, -999.00,9, -999.00,  -1.6647
06AQ19870704,        NAO,     282,          1,         23,         23,2,19870709,       1038,    81.5817,    31.6150,       1393,    20.0,  -1.7286,  34.1527,2,  34.1420,2,-999.0000,9,   347.7,2,    4.01,2,    9.29,2,    0.04,2,    0.66,2,   1.358,3,   0.603,3,  -999.0,9,-999.000,9,-999.000,-999.000,9, -999.00,9, -999.00,  -1.7290
06AQ19870704,        NAO,     282,          1,         22,         22,2,19870709,       1038,    81.5817,    31.6150,       1393,    40.3,  -1.1957,  34.4094,2,  34.4090,2,-999.0000,9,   343.7,2,    4.20,2,    9.68,2,    0.06,2,    0.68,2,-999.000,9,-999.000,9,  -999.0,9,-999.000,9,-999.000,-999.000,9, -999.00,9, -999.00,  -1.1967
06AQ19870704,        NAO,     282,          1,         21,         21,2,19870709,       1038,    81.5817,    31.6150,       1393,    59.7,  -0.6988,  34.5679,2,  34.5760,2,-999.0000,9,   337.6,2,    4.40,2,   10.26,2,    0.11,2,    0.70,2,-999.000,9,-999.000,9,  -999.0,9,-999.000,9,-999.000,-999.000,9, -999.00,9, -999.00,  -0.7006
06AQ19870704,        NAO,     282,          1,         20,         20,2,19870709,       1038,    81.5817,    31.6150,       1393,    80.1,   0.4669,  34.7464,2,  34.7560,2,-999.0000,9,   328.9,2,    4.40,2,   10.85,2,    0.16,2,    0.73,2,-999.000,9,-999.000,9,  -999.0,9,-999.000,9,-999.000,-999.000,9, -999.00,9, -999.00,   0.4637
06AQ19870704,        NAO,     282,          1,         19,         19,2,19870709,       1038,    81.5817,    31.6150,       1393,   100.0,   0.9728,  34.8210,2,  34.8210,2,-999.0000,9,   323.7,2,    4.69,2,   11.53,2,    0.18,2,    0.74,2,-999.000,9,-999.000,9,  -999.0,9,-999.000,9,-999.000,-999.000,9, -999.00,9, -999.00,   0.9683
06AQ19870704,        NAO,     282,          1,         18,         18,2,19870709,       1038,    81.5817,    31.6150,       1393,   130.0,   1.2697,  34.8743,2,  34.8720,2,-999.0000,9,   321.5,2,    4.89,2,   11.83,2,    0.10,2,    0.76,2,-999.000,9,-999.000,9,  -999.0,9,-999.000,9,-999.000,-999.000,9, -999.00,9, -999.00,   1.2635
06AQ19870704,        NAO,     282,          1,         17,         17,2,19870709,       1038,    81.5817,    31.6150,       1393,   159.0,   1.4596,  34.9103,2,  34.9080,2,-999.0000,9,   319.3,2,    5.08,2,   12.02,2,    0.02,2,    0.77,2,-999.000,9,-999.000,9,  -999.0,9,-999.000,9,-999.000,-999.000,9, -999.00,9, -999.00,   1.4518
06AQ19870704,        NAO,     282,          1,         16,         16,2,19870709,       1038,    81.5817,    31.6150,       1393,   199.0,   1.5976,  34.9397,2,  34.9350,2,-999.0000,9,   316.3,2,    5.37,2,   12.22,2,    0.00,2,    0.79,2,-999.000,9,-999.000,9,  -999.0,9,-999.000,9,-999.000,-999.000,9, -999.00,9, -999.00,   1.5875
06AQ19870704,        NAO,     282,          1,         15,         15,2,19870709,       1038,    81.5817,    31.6150,       1393,   240.0,   1.5696,  34.9481,2,  34.9450,2,-999.0000,9,   317.6,2,    5.57,2,   12.31,2,    0.00,2,    0.79,2,-999.000,9,-999.000,9,  -999.0,9,-999.000,9,-999.000,-999.000,9, -999.00,9, -999.00,   1.5574
06AQ19870704,        NAO,     282,          1,         14,         14,2,19870709,       1038,    81.5817,    31.6150,       1393,   290.0,   1.5226,  34.9585,2,  34.9530,2,-999.0000,9,   318.4,2,    5.57,2,   12.31,2,    0.00,2,    0.79,2,-999.000,9,-999.000,9,  -999.0,9,-999.000,9,-999.000,-999.000,9, -999.00,9, -999.00,   1.5078
06AQ19870704,        NAO,     282,          1,         13,         13,2,19870709,       1038,    81.5817,    31.6150,       1393,   349.0,   1.4726,  34.9608,2,  34.9600,2,-999.0000,9,   319.7,2,    5.57,2,   12.31,2,    0.01,2,    0.79,2,-999.000,9,-999.000,9,  -999.0,9,-999.000,9,-999.000,-999.000,9, -999.00,9, -999.00,   1.4548
06AQ19870704,        NAO,     282,          1,         12,         12,2,19870709,       1038,    81.5817,    31.6150,       1393,   420.0,   1.3357,  34.9663,2,  34.9630,2,-999.0000,9,   318.0,2,    5.77,2,   12.41,2,    0.01,2,    0.79,2,-999.000,9,-999.000,9,  -999.0,9,-999.000,9,-999.000,-999.000,9, -999.00,9, -999.00,   1.3144
06AQ19870704,        NAO,     282,          1,         11,         11,2,19870709,       1038,    81.5817,    31.6150,       1393,   500.0,   1.0837,  34.9591,2,  34.9550,2,-999.0000,9,   321.0,2,    5.77,2,   12.31,2,    0.07,2,    0.80,2,-999.000,9,-999.000,9,  -999.0,9,-999.000,9,-999.000,-999.000,9, -999.00,9, -999.00,   1.0591
06AQ19870704,        NAO,     282,          1,         10,         10,2,19870709,       1038,    81.5817,    31.6150,       1393,   599.0,   0.7338,  34.9413,2,  34.9430,2,-999.0000,9,   318.0,2,    6.45,2,   12.51,2,    0.07,2,    0.80,2,-999.000,9,-999.000,9,  -999.0,9,-999.000,9,-999.000,-999.000,9, -999.00,9, -999.00,   0.7055
06AQ19870704,        NAO,     282,          1,          9,          9,2,19870709,       1038,    81.5817,    31.6150,       1393,   700.0,   0.2799,  34.9335,2,  34.9320,2,-999.0000,9,   314.5,2,    7.33,2,   12.80,2,    0.05,2,    0.82,2,-999.000,9,-999.000,9,  -999.0,9,-999.000,9,-999.000,-999.000,9, -999.00,9, -999.00,   0.2489
06AQ19870704,        NAO,     282,          1,          8,          8,2,19870709,       1038,    81.5817,    31.6150,       1393,   800.0,  -0.0700,  34.9435,2,  34.9290,2,-999.0000,9,   307.1,2,    8.70,2,   13.68,2,    0.00,2,    0.86,2,-999.000,9,-999.000,9,  -999.0,9,-999.000,9,-999.000,-999.000,9, -999.00,9, -999.00,  -0.1039
06AQ19870704,        NAO,     282,          1,          7,          7,2,19870709,       1038,    81.5817,    31.6150,       1393,   900.0,  -0.2579,  34.9383,2,  34.9240,2,-999.0000,9,   306.3,2,    8.99,2,   13.88,2,    0.00,2,    0.87,2,-999.000,9,-999.000,9,  -999.0,9,-999.000,9,-999.000,-999.000,9, -999.00,9, -999.00,  -0.2954
06AQ19870704,        NAO,     282,          1,          6,          6,2,19870709,       1038,    81.5817,    31.6150,       1393,  1000.0,  -0.4209,  34.9326,2,  34.9210,2,-999.0000,9,   304.9,2,    9.67,2,   13.97,2,    0.00,2,    0.89,2,-999.000,9,-999.000,9,  -999.0,9,-999.000,9,-999.000,-999.000,9, -999.00,9, -999.00,  -0.4621
06AQ19870704,        NAO,     282,          1,          5,          5,2,19870709,       1038,    81.5817,    31.6150,       1393,  1100.0,  -0.5659,  34.9304,2,  34.9170,2,-999.0000,9,   304.1,2,   10.07,2,   14.27,2,    0.00,2,    0.89,2,-999.000,9,-999.000,9,  -999.0,9,-999.000,9,-999.000,-999.000,9, -999.00,9, -999.00,  -0.6109
06AQ19870704,        NAO,     282,          1,          4,          4,2,19870709,       1038,    81.5817,    31.6150,       1393,  1222.0,  -0.6169,  34.9289,2,  34.9170,2,-999.0000,9,   304.1,2,   10.36,2,   14.27,2,    0.01,2,    0.89,2,-999.000,9,-999.000,9,  -999.0,9,-999.000,9,-999.000,-999.000,9, -999.00,9, -999.00,  -0.6677
06AQ19870704,        NAO,     282,          1,          3,          3,2,19870709,       1038,    81.5817,    31.6150,       1393,  1273.0,  -0.6378,  34.9277,2,  34.9160,2,-999.0000,9,   304.1,2,   10.65,2,   14.27,2,    0.00,2,    0.91,2,-999.000,9,-999.000,9,  -999.0,9,-999.000,9,-999.000,-999.000,9, -999.00,9, -999.00,  -0.6911
06AQ19870704,        NAO,     282,          1,          2,          2,2,19870709,       1038,    81.5817,    31.6150,       1393,  1321.0,  -0.6398,  34.9306,2,  34.9170,2,-999.0000,9,   303.6,2,   10.65,2,   14.27,2,    0.00,2,    0.89,2,-999.000,9,-999.000,9,  -999.0,9,-999.000,9,-999.000,-999.000,9, -999.00,9, -999.00,  -0.6957
06AQ19870704,        NAO,     282,          1,          1,          1,2,19870709,       1038,    81.5817,    31.6150,       1393,  1373.0,  -0.6338,  34.9290,2,  34.9160,2,-999.0000,9,   303.6,2,   10.65,2,   14.17,2,    0.00,2,    0.90,2,-999.000,9,-999.000,9,  -999.0,9,-999.000,9,-999.000,-999.000,9, -999.00,9, -999.00,  -0.6926