BOTTLE,20140415SIOCCHRJL
EXPOCODE,SECT_ID,STNNBR,CASTNO,SAMPNO,BTLNBR,BTLNBR_FLAG_W,DATE,TIME,LATITUDE,LONGITUDE,DEPTH,CTDPRS,CTDTMP,CTDSAL,CTDSAL_FLAG_W,SALNTY,SALNTY_FLAG_W,CTDOXY,CTDOXY_FLAG_W,OXYGEN,OXYGEN_FLAG_W,SILCAT,SILCAT_FLAG_W,NITRAT,NITRAT_FLAG_W,NITRIT,NITRIT_FLAG_W,PHSPHT,PHSPHT_FLAG_W,CFC-11,CFC-11_FLAG_W,CFC-12,CFC-12_FLAG_W,TCARBN,TCARBN_FLAG_W,TRITUM,TRITUM_FLAG_W,TRITER,CCL4,CCL4_FLAG_W,DELO18,DELO18_FLAG_W,CTDRAW,THETA
,,,,,,,,,,,METERS,DBAR,ITS-90,PSS-78,,PSS-78,,UMOL/KG,,UMOL/KG,,UMOL/KG,,UMOL/KG,,UMOL/KG,,UMOL/KG,,PMOL/KG,,PMOL/KG,,UMOL/KG,,TU,,TU,PMOL/KG,,/MILLE,,DBAR,DEG C
06AQ19870704,        NAO,     296,          2,         24,         24,2,19870712,       1836,    81.8200,    31.5850,       3014,   750.0,   0.4699,  34.9400,2,  34.9370,2,-999.0000,9,   311.2,2,    7.13,2,   13.09,2,    0.00,2,    0.83,2,-999.000,9,   1.097,2,  2181.0,2,-999.000,9,-999.000,   9.490,2, -999.00,9, -999.00,   0.4351
06AQ19870704,        NAO,     296,          2,         23,         23,2,19870712,       1836,    81.8200,    31.5850,       3014,   850.0,   0.1620,  34.9311,2,  34.9330,2,-999.0000,9,   308.7,2,    7.62,2,   13.39,2,    0.00,2,    0.83,2,   2.153,2,   0.969,2,  2185.0,2,-999.000,9,-999.000,   9.180,2, -999.00,9, -999.00,   0.1240
06AQ19870704,        NAO,     296,          2,         22,         22,2,19870712,       1836,    81.8200,    31.5850,       3014,   950.0,  -0.1080,  34.9364,2,  34.9250,2,-999.0000,9,   307.1,2,    8.50,2,   13.78,2,    0.00,2,    0.84,2,   1.638,2,   0.756,2,  2187.0,2,-999.000,9,-999.000,   8.970,2, -999.00,9, -999.00,  -0.1492
06AQ19870704,        NAO,     296,          2,         21,         21,2,19870712,       1836,    81.8200,    31.5850,       3014,  1050.0,  -0.3199,  34.9351,2,  34.9220,2,-999.0000,9,   305.9,2,    8.89,2,   13.88,2,    0.00,2,    0.86,2,   1.320,2,   0.629,2,  2185.0,2,-999.000,9,-999.000,   6.800,2, -999.00,9, -999.00,  -0.3645
06AQ19870704,        NAO,     296,          2,         20,         20,2,19870712,       1836,    81.8200,    31.5850,       3014,  1150.0,  -0.4849,  34.9321,2,  34.9190,2,-999.0000,9,   305.1,2,    9.28,2,   14.07,2,    0.00,2,    0.86,2,   0.947,2,   0.425,2,  2188.0,2,-999.000,9,-999.000,   5.850,2, -999.00,9, -999.00,  -0.5332
06AQ19870704,        NAO,     296,          2,         19,         19,2,19870712,       1836,    81.8200,    31.5850,       3014,  1300.0,  -0.6378,  34.9336,2,  34.9170,2,-999.0000,9,   304.1,2,    9.87,2,   14.27,2,    0.00,2,    0.88,2,   0.830,2,   0.434,2,  2189.0,2,-999.000,9,-999.000,   3.720,2, -999.00,9, -999.00,  -0.6926
06AQ19870704,        NAO,     296,          2,         18,         18,2,19870712,       1836,    81.8200,    31.5850,       3014,  1450.0,  -0.7208,  34.9283,2,  34.9150,2,-999.0000,9,  -999.0,9,   10.26,2,   14.46,2,    0.00,2,    0.88,2,-999.000,9,   0.317,2,  2190.0,2,-999.000,9,-999.000,   4.130,2, -999.00,9, -999.00,  -0.7828
06AQ19870704,        NAO,     296,          2,         17,         17,2,19870712,       1836,    81.8200,    31.5850,       3014,  1450.0,  -0.7208,  34.9283,2,  34.9140,2,-999.0000,9,   303.9,2,   10.36,2,   14.46,2,    0.00,2,    0.89,2,-999.000,9,-999.000,9,  -999.0,9,-999.000,9,-999.000,-999.000,9, -999.00,9, -999.00,  -0.7828
06AQ19870704,        NAO,     296,          2,         16,         16,2,19870712,       1836,    81.8200,    31.5850,       3014,  1600.0,  -0.7608,  34.9284,2,  34.9160,2,-999.0000,9,   303.1,2,   10.46,2,   14.46,2,    0.00,2,    0.90,2,   0.540,2,   0.276,2,  2191.0,2,-999.000,9,-999.000,-999.000,9, -999.00,9, -999.00,  -0.8309
06AQ19870704,        NAO,     296,          2,         15,         15,2,19870712,       1836,    81.8200,    31.5850,       3014,  1750.0,  -0.7798,  34.9269,2,  34.9170,2,-999.0000,9,   303.4,2,   10.65,2,   14.56,2,    0.00,2,    0.90,2,   0.505,2,   0.224,2,  2190.0,2,-999.000,9,-999.000,   3.590,2, -999.00,9, -999.00,  -0.8585
06AQ19870704,        NAO,     296,          2,         14,         14,2,19870712,       1836,    81.8200,    31.5850,       3014,  1900.0,  -0.7878,  34.9338,2,  34.9210,2,-999.0000,9,   303.1,2,   10.65,2,   14.56,2,    0.00,2,    0.91,2,   0.379,2,   0.186,2,  2193.0,2,-999.000,9,-999.000,   2.350,2, -999.00,9, -999.00,  -0.8756
06AQ19870704,        NAO,     296,          2,         12,         12,2,19870712,       1836,    81.8200,    31.5850,       3014,  2050.0,  -0.7968,  34.9373,2,  34.9220,2,-999.0000,9,   303.5,2,   10.85,2,   14.56,2,    0.00,2,    0.93,2,-999.000,9,   0.111,2,  2183.0,2,-999.000,9,-999.000,   1.850,2, -999.00,9, -999.00,  -0.8941
06AQ19870704,        NAO,     296,          2,         13,         13,2,19870712,       1836,    81.8200,    31.5850,       3014,  2050.0,  -0.7968,  34.9373,2,  34.9240,2,-999.0000,9,  -999.0,9,   10.65,2,   14.56,2,    0.00,2,    0.92,2,-999.000,9,-999.000,9,  -999.0,9,-999.000,9,-999.000,-999.000,9, -999.00,9, -999.00,  -0.8941
06AQ19870704,        NAO,     296,          2,         11,         11,2,19870712,       1836,    81.8200,    31.5850,       3014,  2200.0,  -0.8078,  34.9401,2,  34.9260,2,-999.0000,9,   302.8,2,   10.95,2,   14.46,2,    0.00,2,    0.93,2,   0.200,2,   0.103,2,  2185.0,2,-999.000,9,-999.000,   2.250,2, -999.00,9, -999.00,  -0.9149
06AQ19870704,        NAO,     296,          2,         10,         10,2,19870712,       1836,    81.8200,    31.5850,       3014,  2350.0,  -0.8088,  34.9430,2,  34.9280,2,-999.0000,9,   303.0,2,   11.14,2,   14.56,2,    0.00,2,    0.93,2,   0.115,2,   0.071,2,  2187.0,2,-999.000,9,-999.000,-999.000,9, -999.00,9, -999.00,  -0.9263
06AQ19870704,        NAO,     296,          2,          9,          9,2,19870712,       1836,    81.8200,    31.5850,       3014,  2500.0,  -0.8038,  34.9440,2,  34.9300,2,-999.0000,9,  -999.0,9,   11.24,2,   14.56,2,    0.00,2,    0.93,2,   0.140,2,   0.064,2,  2191.0,2,-999.000,9,-999.000,-999.000,9, -999.00,9, -999.00,  -0.9321
06AQ19870704,        NAO,     296,          2,          8,          8,2,19870712,       1836,    81.8200,    31.5850,       3014,  2500.0,  -0.8038,  34.9440,2,  34.9300,2,-999.0000,9,   302.1,2,   11.34,2,   14.46,2,    0.00,2,    0.93,2,-999.000,9,-999.000,9,  -999.0,9,-999.000,9,-999.000,-999.000,9, -999.00,9, -999.00,  -0.9321
06AQ19870704,        NAO,     296,          2,          7,          7,2,19870712,       1836,    81.8200,    31.5850,       3014,  2675.0,  -0.7988,  34.9464,2,  34.9330,2,-999.0000,9,   301.8,2,   11.43,2,   14.56,2,    0.00,2,    0.91,2,   0.114,2,   0.070,2,  2183.0,2,-999.000,9,-999.000,   1.640,2, -999.00,9, -999.00,  -0.9401
06AQ19870704,        NAO,     296,          2,          5,          5,2,19870712,       1836,    81.8200,    31.5850,       3014,  2851.0,  -0.7888,  34.9491,2,  34.9350,2,-999.0000,9,  -999.0,9,   11.43,2,   14.56,2,    0.00,2,    0.91,2,   0.096,2,   0.060,2,  2183.0,2,-999.000,9,-999.000,-999.000,9, -999.00,9, -999.00,  -0.9439
06AQ19870704,        NAO,     296,          2,          6,          6,2,19870712,       1836,    81.8200,    31.5850,       3014,  2851.0,  -0.7888,  34.9491,2,  34.9350,2,-999.0000,9,   301.5,2,   11.43,2,   14.56,2,    0.00,2,    0.91,2,-999.000,9,-999.000,9,  -999.0,9,-999.000,9,-999.000,-999.000,9, -999.00,9, -999.00,  -0.9439
06AQ19870704,        NAO,     296,          2,          3,          3,2,19870712,       1836,    81.8200,    31.5850,       3014,  2950.0,  -0.7808,  34.9473,2,  34.9350,2,-999.0000,9,   301.0,2,   11.53,2,   14.66,2,    0.00,2,    0.91,2,-999.000,9,-999.000,9,  -999.0,9,-999.000,9,-999.000,-999.000,9, -999.00,9, -999.00,  -0.9439
06AQ19870704,        NAO,     296,          2,          4,          4,2,19870712,       1836,    81.8200,    31.5850,       3014,  2950.0,  -0.7808,  34.9473,2,  34.9370,2,-999.0000,9,  -999.0,9,   11.43,2,   14.66,2,    0.00,2,    0.91,2,   0.060,2,   0.056,2,  2183.0,2,-999.000,9,-999.000,-999.000,9, -999.00,9, -999.00,  -0.9439
06AQ19870704,        NAO,     296,          2,          1,          1,2,19870712,       1836,    81.8200,    31.5850,       3014,  3001.0,  -0.7818,  34.9547,2,  34.9380,2,-999.0000,9,   300.5,2,   11.53,2,   14.56,2,    0.00,2,    0.92,2,   0.045,2,   0.047,2,  2183.0,2,-999.000,9,-999.000,   2.200,2, -999.00,9, -999.00,  -0.9490
06AQ19870704,        NAO,     296,          2,          2,          2,2,19870712,       1836,    81.8200,    31.5850,       3014,  3001.0,  -0.7818,  34.9547,2,  34.9380,2,-999.0000,9,  -999.0,9,   11.53,2,   14.56,2,    0.00,2,    0.92,2,-999.000,9,-999.000,9,  -999.0,9,-999.000,9,-999.000,-999.000,9, -999.00,9, -999.00,  -0.9490
06AQ19870704,        NAO,     310,          2,         24,         24,2,19870713,       1951,    82.0900,    32.0367,       3012,    10.4,  -1.8216,  34.2061,2,  34.1931,2,-999.0000,9,   348.6,2,    3.95,2,    9.02,2,    0.04,2,    0.59,2,-999.000,9,-999.000,9,  2121.0,2,   3.570,2,   0.000,-999.000,9,    0.21,2, -999.00,  -1.8218
06AQ19870704,        NAO,     310,          2,         23,         23,2,19870713,       1951,    82.0900,    32.0367,       3012,    29.3,  -1.8246,  34.2338,2,  34.2159,2,-999.0000,9,   347.3,2,    3.88,2,    9.12,2,    0.04,2,    0.59,2,   5.083,2,   2.230,2,  2121.0,2,   3.660,2,   0.000,-999.000,9,    0.22,2, -999.00,  -1.8251
06AQ19870704,        NAO,     310,          2,         22,         22,2,19870713,       1951,    82.0900,    32.0367,       3012,    50.4,  -1.8266,  34.3358,2,  34.3250,2,-999.0000,9,   339.4,2,    3.98,2,    9.58,2,    0.04,2,    0.60,2,-999.000,9,-999.000,9,  2134.0,2,-999.000,9,-999.000,-999.000,9,    0.19,2, -999.00,  -1.8276
06AQ19870704,        NAO,     310,          2,         21,         21,2,19870713,       1951,    82.0900,    32.0367,       3012,    65.3,  -1.7916,  34.3933,2,  34.3792,2,-999.0000,9,   335.0,2,    4.17,2,    9.95,2,    0.03,2, -999.00,9,-999.000,9,   2.221,2,  2134.0,2,   3.610,2,   0.000,-999.000,9,    0.24,2, -999.00,  -1.7929
06AQ19870704,        NAO,     310,          2,         20,         20,2,19870713,       1951,    82.0900,    32.0367,       3012,    80.7,  -1.8066,  34.4105,2,  34.3989,2,-999.0000,9,   334.2,2,    4.44,2,   10.38,2,    0.06,2,    0.65,2,   4.889,2,   2.222,2,  2143.0,2,-999.000,9,-999.000,-999.000,9,    0.25,2, -999.00,  -1.8082
06AQ19870704,        NAO,     310,          2,         19,         19,2,19870713,       1951,    82.0900,    32.0367,       3012,    95.0,  -1.7796,  34.4482,2,  34.4357,2,-999.0000,9,   333.3,2,    4.66,2,   10.71,2,    0.03,2,    0.68,2,   4.707,2,   2.231,2,  2143.0,2,   3.420,2,   0.000,  15.380,2,    0.24,2, -999.00,  -1.7815
06AQ19870704,        NAO,     310,          2,         18,         18,2,19870713,       1951,    82.0900,    32.0367,       3012,   110.0,  -0.7598,  34.5263,2,  34.5361,2,-999.0000,9,   328.9,2,    4.90,2,   10.93,2,    0.00,2,    0.70,2,   4.818,2,   2.138,2,  2150.0,2,-999.000,9,-999.000,  12.710,2,    0.26,2, -999.00,  -0.7630
06AQ19870704,        NAO,     310,          2,         17,         17,2,19870713,       1951,    82.0900,    32.0367,       3012,   125.0,  -0.1790,  34.6484,2,  34.6149,2,-999.0000,9,   329.4,2,    4.92,2,   11.17,2,    0.00,2,    0.71,2,-999.000,9,-999.000,9,  2156.0,2,-999.000,9,-999.000,-999.000,9,    0.30,2, -999.00,  -0.1833
06AQ19870704,        NAO,     310,          2,         16,         16,2,19870713,       1951,    82.0900,    32.0367,       3012,   140.0,   0.4329,  34.7249,2,  34.7113,2,-999.0000,9,   325.0,2,    5.06,2,   11.37,2,    0.00,2,    0.72,2,   4.732,2,   2.085,2,  2165.0,2,-999.000,9,-999.000,  12.270,2,    0.29,2, -999.00,   0.4273
06AQ19870704,        NAO,     310,          2,         15,         15,2,19870713,       1951,    82.0900,    32.0367,       3012,   155.0,   0.9788,  34.7789,2,  34.7854,2,-999.0000,9,   321.9,2,    5.13,2,   11.56,2,    0.01,2,    0.72,2,-999.000,9,-999.000,9,  2169.0,2,-999.000,9,-999.000,-999.000,9, -999.00,9, -999.00,   0.9718
06AQ19870704,        NAO,     310,          2,         14,         14,2,19870713,       1951,    82.0900,    32.0367,       3012,   171.0,   1.4487,  34.8606,2,  34.8545,2,-999.0000,9,   315.9,2,    5.17,2,   11.91,2,    0.00,2,    0.74,2,   4.185,2,   1.368,2,  2171.0,2,-999.000,9,-999.000,-999.000,9,    0.28,2, -999.00,   1.4403
06AQ19870704,        NAO,     310,          2,         13,         13,2,19870713,       1951,    82.0900,    32.0367,       3012,   191.0,   1.8026,  34.9059,2,  34.9016,2,-999.0000,9,   309.8,2,    5.44,2,   12.29,2,    0.00,2,    0.76,2,-999.000,9,-999.000,9,  2173.0,2,-999.000,9,-999.000,-999.000,9, -999.00,9, -999.00,   1.7926
06AQ19870704,        NAO,     310,          2,         12,         12,2,19870713,       1951,    82.0900,    32.0367,       3012,   220.0,   1.6866,  34.9074,2,  34.9028,2,-999.0000,9,   313.7,2,    5.35,2,   12.15,2,    0.00,2,    0.75,2,   4.201,2,   1.716,2,  2175.0,2,-999.000,9,-999.000,   9.110,2, -999.00,9, -999.00,   1.6752
06AQ19870704,        NAO,     310,          2,         11,         11,2,19870713,       1951,    82.0900,    32.0367,       3012,   250.0,   1.5596,  34.9077,2,  34.9074,2,-999.0000,9,   315.8,2,    5.32,2,   12.15,2,    0.00,2,    0.74,2,   3.763,2,   1.823,2,  2173.0,2,-999.000,9,-999.000,  11.700,2,    0.22,2, -999.00,   1.5469
06AQ19870704,        NAO,     310,          2,         10,         10,2,19870713,       1951,    82.0900,    32.0367,       3012,   300.0,   1.6786,  34.9421,2,  34.9419,2,-999.0000,9,   312.8,2,    5.56,2,   12.39,2,    0.00,2,    0.74,2,-999.000,9,-999.000,9,  2176.0,2,-999.000,9,-999.000,-999.000,9,    0.31,2, -999.00,   1.6629
06AQ19870704,        NAO,     310,          2,          9,          9,2,19870713,       1951,    82.0900,    32.0367,       3012,   350.0,   1.5946,  34.9582,2,  34.9534,2,-999.0000,9,   314.5,2,    5.45,2,   12.39,2,    0.00,2,    0.76,2,   3.956,2,   1.708,2,  2175.0,2,-999.000,9,-999.000,  10.340,2,    0.28,2, -999.00,   1.5763
06AQ19870704,        NAO,     310,          2,          8,          8,2,19870713,       1951,    82.0900,    32.0367,       3012,   452.0,   1.3197,  34.9631,2,  34.9523,2,-999.0000,9,   315.4,2,    5.59,2,   12.45,2,    0.00,2,    0.75,2,-999.000,9,-999.000,9,  2176.0,2,-999.000,9,-999.000,-999.000,9, -999.00,9, -999.00,   1.2968
06AQ19870704,        NAO,     310,          2,          7,          7,2,19870713,       1951,    82.0900,    32.0367,       3012,   551.0,   1.0487,  34.9533,2,  34.9480,2,-999.0000,9,   312.4,2,    6.02,2,   12.75,2,    0.00,2,    0.77,2,   2.949,2,   1.289,2,  2181.0,2,-999.000,9,-999.000,   7.840,2, -999.00,9, -999.00,   1.0215
06AQ19870704,        NAO,     310,          2,          6,          6,2,19870713,       1951,    82.0900,    32.0367,       3012,   653.0,   0.6039,  34.9392,2,  34.9359,2,-999.0000,9,   310.2,2,    6.57,2,   13.01,2,    0.00,2,    0.81,2,-999.000,9,-999.000,9,  2185.0,2,-999.000,9,-999.000,-999.000,9, -999.00,9, -999.00,   0.5735
06AQ19870704,        NAO,     310,          2,          5,          5,2,19870713,       1951,    82.0900,    32.0367,       3012,   700.0,   0.4539,  34.9361,2,  34.9336,2,-999.0000,9,   309.7,2,    6.92,2,   13.15,2,    0.00,2,    0.81,2,-999.000,9,-999.000,9,  2183.0,2,-999.000,9,-999.000,-999.000,9, -999.00,9, -999.00,   0.4219
06AQ19870704,        NAO,     310,          2,          4,          4,2,19870713,       1951,    82.0900,    32.0367,       3012,   749.0,   0.2729,  34.9325,2,  34.9293,2,-999.0000,9,   307.6,2,    7.25,2,   13.18,2,    0.00,2,    0.81,2,-999.000,9,-999.000,9,  2189.0,2,-999.000,9,-999.000,-999.000,9, -999.00,9, -999.00,   0.2394
06AQ19870704,        NAO,     310,          2,          3,          3,2,19870713,       1951,    82.0900,    32.0367,       3012,   801.0,   0.1150,  34.9272,2,  34.9235,2,-999.0000,9,   306.7,2,    7.44,2,   13.32,2,    0.00,2,    0.83,2,-999.000,9,-999.000,9,  2187.0,2,-999.000,9,-999.000,-999.000,9, -999.00,9, -999.00,   0.0799
06AQ19870704,        NAO,     310,          2,          2,          2,2,19870713,       1951,    82.0900,    32.0367,       3012,   901.0,  -0.1370,  34.9342,2,  34.9219,2,-999.0000,9,   305.8,2,    8.05,2,   13.50,2,    0.00,2,    0.83,2,   1.098,2,   0.489,2,  2189.0,2,-999.000,9,-999.000,   5.470,2, -999.00,9, -999.00,  -0.1755
06AQ19870704,        NAO,     310,          2,          1,          1,2,19870713,       1951,    82.0900,    32.0367,       3012,  1003.0,  -0.2849,  34.9344,2,  34.9236,2,-999.0000,9,   305.8,2,    8.79,2,   13.84,2,    0.00,2,    0.87,2,-999.000,9,-999.000,9,  2186.0,2,-999.000,9,-999.000,-999.000,9, -999.00,9, -999.00,  -0.3274