BOTTLE,20140415SIOCCHRJL
EXPOCODE,SECT_ID,STNNBR,CASTNO,SAMPNO,BTLNBR,BTLNBR_FLAG_W,DATE,TIME,LATITUDE,LONGITUDE,DEPTH,CTDPRS,CTDTMP,CTDSAL,CTDSAL_FLAG_W,SALNTY,SALNTY_FLAG_W,CTDOXY,CTDOXY_FLAG_W,OXYGEN,OXYGEN_FLAG_W,SILCAT,SILCAT_FLAG_W,NITRAT,NITRAT_FLAG_W,NITRIT,NITRIT_FLAG_W,PHSPHT,PHSPHT_FLAG_W,CFC-11,CFC-11_FLAG_W,CFC-12,CFC-12_FLAG_W,TCARBN,TCARBN_FLAG_W,TRITUM,TRITUM_FLAG_W,TRITER,CCL4,CCL4_FLAG_W,DELO18,DELO18_FLAG_W,CTDRAW,THETA
,,,,,,,,,,,METERS,DBAR,ITS-90,PSS-78,,PSS-78,,UMOL/KG,,UMOL/KG,,UMOL/KG,,UMOL/KG,,UMOL/KG,,UMOL/KG,,PMOL/KG,,PMOL/KG,,UMOL/KG,,TU,,TU,PMOL/KG,,/MILLE,,DBAR,DEG C
06AQ19870704,        NAO,     372,          1,         24,         24,2,19870806,       1527,    86.1383,    23.0233,       3986,     6.3,  -1.7886,  33.2152,2,  33.2100,2,-999.0000,9,   386.7,2,    3.05,2,    3.19,2,    0.04,2,    0.34,2,-999.000,9,-999.000,9,  2127.0,2,-999.000,9,-999.000,-999.000,9, -999.00,9, -999.00,  -1.7887
06AQ19870704,        NAO,     372,          1,         23,         23,2,19870806,       1527,    86.1383,    23.0233,       3986,    29.3,  -1.8046,  33.3942,2,  33.3920,2,-999.0000,9,   382.0,2,    2.88,2,    3.48,2,    0.02,2,    0.35,2,   4.729,2,   2.244,2,  2125.0,2,-999.000,9,-999.000,-999.000,9, -999.00,9, -999.00,  -1.8051
06AQ19870704,        NAO,     372,          1,         22,         22,2,19870806,       1527,    86.1383,    23.0233,       3986,    41.0,  -1.8026,  33.3832,2,  33.4290,2,-999.0000,9,   380.7,2,    2.88,2,    3.56,2,    0.02,2,    0.35,2,-999.000,9,-999.000,9,  2124.0,2,-999.000,9,-999.000,-999.000,9, -999.00,9, -999.00,  -1.8033
06AQ19870704,        NAO,     372,          1,         21,         21,2,19870806,       1527,    86.1383,    23.0233,       3986,    45.4,  -1.8186,  33.6299,2,  33.7660,2,-999.0000,9,   370.7,2,    3.01,2,    4.37,2,    0.02,2,    0.40,2,-999.000,9,-999.000,9,  2132.0,2,-999.000,9,-999.000,-999.000,9, -999.00,9, -999.00,  -1.8194
06AQ19870704,        NAO,     372,          1,         20,         20,2,19870806,       1527,    86.1383,    23.0233,       3986,    64.0,  -1.8386,  34.0109,2,  33.9980,2,-999.0000,9,   361.8,2,    3.07,2,    5.18,2,    0.00,2,    0.44,2,   4.058,2,   1.848,2,  2147.0,2,-999.000,9,-999.000,-999.000,9, -999.00,9, -999.00,  -1.8398
06AQ19870704,        NAO,     372,          1,         19,         19,2,19870806,       1527,    86.1383,    23.0233,       3986,    98.0,  -1.8156,  34.1262,2,  34.1120,2,-999.0000,9,   355.3,2,    3.62,2,    5.99,2,    0.00,2,    0.49,2,-999.000,9,-999.000,9,  2145.0,2,-999.000,9,-999.000,-999.000,9, -999.00,9, -999.00,  -1.8175
06AQ19870704,        NAO,     372,          1,         18,         18,2,19870806,       1527,    86.1383,    23.0233,       3986,   120.0,  -1.7806,  34.1667,2,  34.1600,2,-999.0000,9,   348.1,2,    3.63,2,    6.71,2,    0.00,2,    0.52,2,   3.748,2,   1.837,2,  2137.0,2,-999.000,9,-999.000,-999.000,9, -999.00,9, -999.00,  -1.7830
06AQ19870704,        NAO,     372,          1,         17,         17,2,19870806,       1527,    86.1383,    23.0233,       3986,   142.0,  -1.7066,  34.2138,2,  34.2100,2,-999.0000,9,   341.4,2,    3.82,2,    7.31,2,    0.00,2,    0.55,2,   3.249,2,   1.577,2,  2140.0,2,-999.000,9,-999.000,-999.000,9, -999.00,9, -999.00,  -1.7096
06AQ19870704,        NAO,     372,          1,         16,         16,2,19870806,       1527,    86.1383,    23.0233,       3986,   182.0,  -0.9198,  34.4225,2,  34.3970,2,-999.0000,9,   313.5,2,    5.46,2,    9.66,2,    0.00,2,    0.69,2,   2.062,2,   0.940,2,  -999.0,9,-999.000,9,-999.000,-999.000,9, -999.00,9, -999.00,  -0.9250
06AQ19870704,        NAO,     372,          1,         15,         15,2,19870806,       1527,    86.1383,    23.0233,       3986,   209.0,  -0.1810,  34.5300,2,  34.5320,2,-999.0000,9,   307.2,2,    5.80,2,   10.34,2,    0.00,2,    0.71,2,   1.644,2,   0.808,2,  -999.0,9,-999.000,9,-999.000,-999.000,9, -999.00,9, -999.00,  -0.1884
06AQ19870704,        NAO,     372,          1,         14,         14,2,19870806,       1527,    86.1383,    23.0233,       3986,   233.0,   0.2639,  34.6582,2,  34.6390,2,-999.0000,9,   304.3,2,    5.90,2,   10.85,2,    0.00,2,    0.74,2,   1.523,2,   0.771,2,  2166.0,2,-999.000,9,-999.000,-999.000,9, -999.00,9, -999.00,   0.2547
06AQ19870704,        NAO,     372,          1,         13,         13,2,19870806,       1527,    86.1383,    23.0233,       3986,   271.0,   0.9278,  34.8008,2,  34.7950,2,-999.0000,9,   303.1,2,    5.90,2,   11.78,2,    0.00,2,    0.79,2,   1.705,2,   0.861,2,  2170.0,2,-999.000,9,-999.000,-999.000,9, -999.00,9, -999.00,   0.9154
06AQ19870704,        NAO,     372,          1,         12,         12,2,19870806,       1527,    86.1383,    23.0233,       3986,   325.0,   0.9018,  34.8717,2,  34.8680,2,-999.0000,9,   303.5,2,    6.12,2,   12.35,2,    0.00,2,    0.81,2,   1.581,2,   0.812,2,  2172.0,2,-999.000,9,-999.000,-999.000,9, -999.00,9, -999.00,   0.8868
06AQ19870704,        NAO,     372,          1,         11,         11,2,19870806,       1527,    86.1383,    23.0233,       3986,   375.0,   0.7438,  34.8769,2,  34.8710,2,-999.0000,9,   301.1,2,    6.28,2,   12.35,2,    0.00,2,    0.82,2,   1.060,2,   0.532,2,  2169.0,2,-999.000,9,-999.000,-999.000,9, -999.00,9, -999.00,   0.7269
06AQ19870704,        NAO,     372,          1,         10,         10,2,19870806,       1527,    86.1383,    23.0233,       3986,   450.0,   0.7378,  34.8980,2,  34.8930,2,-999.0000,9,   301.4,2,    6.40,2,   12.60,2,    0.00,2,    0.83,2,   0.695,2,   0.428,2,  2171.0,2,-999.000,9,-999.000,-999.000,9, -999.00,9, -999.00,   0.7172
06AQ19870704,        NAO,     372,          1,          9,          9,2,19870806,       1527,    86.1383,    23.0233,       3986,   551.0,   0.5189,  34.8976,2,  34.8980,2,-999.0000,9,   303.9,2,    6.50,2,   12.57,2,    0.00,2,    0.85,2,   0.895,2,   0.550,2,  2171.0,2,-999.000,9,-999.000,-999.000,9, -999.00,9, -999.00,   0.4941
06AQ19870704,        NAO,     372,          1,          8,          8,2,19870806,       1527,    86.1383,    23.0233,       3986,   650.0,   0.2359,  34.9009,2,  34.8970,2,-999.0000,9,   304.9,2,    6.63,2,   12.54,2,    0.00,2,    0.85,2,   0.907,2,   0.466,2,  -999.0,9,-999.000,9,-999.000,-999.000,9, -999.00,9, -999.00,   0.2076
06AQ19870704,        NAO,     372,          1,          7,          7,2,19870806,       1527,    86.1383,    23.0233,       3986,   799.0,  -0.0540,  34.9127,2,  34.8990,2,-999.0000,9,   305.8,2,    6.91,2,   12.63,2,    0.00,2,    0.85,2,   0.932,2,   0.549,2,  -999.0,9,-999.000,9,-999.000,-999.000,9, -999.00,9, -999.00,  -0.0879
06AQ19870704,        NAO,     372,          1,          6,          6,2,19870806,       1527,    86.1383,    23.0233,       3986,  1001.0,  -0.2779,  34.9197,2,  34.9050,2,-999.0000,9,   306.2,2,    7.28,2,   12.76,2,    0.00,2,    0.86,2,   0.867,2,   0.384,2,  -999.0,9,-999.000,9,-999.000,-999.000,9, -999.00,9, -999.00,  -0.3203
06AQ19870704,        NAO,     372,          1,          5,          5,2,19870806,       1527,    86.1383,    23.0233,       3986,  1200.0,  -0.4209,  34.9252,2,  34.9130,2,-999.0000,9,   306.4,2,    8.04,2,   13.11,2,    0.00,2,    0.89,2,   0.796,2,   0.457,2,  -999.0,9,-999.000,9,-999.000,-999.000,9, -999.00,9, -999.00,  -0.4725
06AQ19870704,        NAO,     372,          1,          4,          4,2,19870806,       1527,    86.1383,    23.0233,       3986,  1400.0,  -0.5189,  34.9323,2,  34.9190,2,-999.0000,9,   304.6,2,    8.98,2,   13.58,2,    0.00,2,    0.93,2,   0.594,2,   0.315,2,  -999.0,9,-999.000,9,-999.000,-999.000,9, -999.00,9, -999.00,  -0.5805
06AQ19870704,        NAO,     372,          1,          3,          3,2,19870806,       1527,    86.1383,    23.0233,       3986,  1600.0,  -0.5769,  34.9394,2,  34.9240,2,-999.0000,9,   302.9,2,    9.81,2,   13.91,2,    0.00,2,    0.95,2,   0.461,2,   0.199,2,  -999.0,9,-999.000,9,-999.000,-999.000,9, -999.00,9, -999.00,  -0.6494
06AQ19870704,        NAO,     372,          1,          2,          2,2,19870806,       1527,    86.1383,    23.0233,       3986,  1793.0,  -0.6358,  34.9424,2,  34.9250,2,-999.0000,9,   302.5,2,   10.21,2,   14.20,2,    0.00,2,    0.95,2,   0.346,2,   0.205,2,  -999.0,9,-999.000,9,-999.000,-999.000,9, -999.00,9, -999.00,  -0.7192
06AQ19870704,        NAO,     372,          1,          1,          1,2,19870806,       1527,    86.1383,    23.0233,       3986,  2006.0,  -0.7158,  34.9385,2,  34.9250,2,-999.0000,9,   302.5,2,   10.37,2,   14.17,2,    0.00,2,    0.97,2,   0.418,2,   0.203,2,  -999.0,9,-999.000,9,-999.000,-999.000,9, -999.00,9, -999.00,  -0.8116
06AQ19870704,        NAO,     376,          1,         24,         24,2,19870810,       1302,    85.3817,    21.8983,       2874,    20.0,  -1.8116,  33.5641,2,  33.5760,2,-999.0000,9,   369.1,2,    4.11,2,    4.40,2,    0.02,2,    0.43,2,   4.530,2,   2.009,2,  2160.0,2,-999.000,9,-999.000,-999.000,9, -999.00,9, -999.00,  -1.8120
06AQ19870704,        NAO,     376,          1,         23,         23,2,19870810,       1302,    85.3817,    21.8983,       2874,    40.0,  -1.8066,  33.9560,2,  33.9450,2,-999.0000,9,   357.1,2,    3.91,2,    5.38,2,    0.03,2,    0.49,2,   3.816,2,   1.759,2,  2162.0,2,-999.000,9,-999.000,-999.000,9, -999.00,9, -999.00,  -1.8073
06AQ19870704,        NAO,     376,          1,         22,         22,2,19870810,       1302,    85.3817,    21.8983,       2874,    65.5,  -1.8386,  34.0799,2,  34.0730,2,-999.0000,9,   359.6,2,    3.62,2,    5.38,2,    0.02,2,    0.48,2,   3.750,2,   1.779,2,  2155.0,2,-999.000,9,-999.000,-999.000,9, -999.00,9, -999.00,  -1.8398
06AQ19870704,        NAO,     376,          1,         21,         21,2,19870810,       1302,    85.3817,    21.8983,       2874,    89.2,  -1.8306,  34.1239,2,  34.1180,2,-999.0000,9,   356.5,2,    3.62,2,    5.57,2,    0.02,2,    0.48,2,   4.000,2,   1.918,2,  2148.0,2,-999.000,9,-999.000,-999.000,9, -999.00,9, -999.00,  -1.8323
06AQ19870704,        NAO,     376,          1,         20,         20,2,19870810,       1302,    85.3817,    21.8983,       2874,   120.0,  -1.7466,  34.2056,2,  34.1960,2,-999.0000,9,   346.2,2,    3.81,2,    6.65,2,    0.01,2,    0.53,2,   3.979,2,   1.848,2,  2146.0,2,-999.000,9,-999.000,-999.000,9, -999.00,9, -999.00,  -1.7490
06AQ19870704,        NAO,     376,          1,         19,         19,2,19870810,       1302,    85.3817,    21.8983,       2874,   150.0,  -1.2037,  34.3315,2,  34.3290,2,-999.0000,9,   321.0,2,    4.89,2,    8.90,2,    0.02,2,    0.65,2,   4.004,2,   1.801,2,  2155.0,2,-999.000,9,-999.000,-999.000,9, -999.00,9, -999.00,  -1.2075
06AQ19870704,        NAO,     376,          1,         18,         18,2,19870810,       1302,    85.3817,    21.8983,       2874,   179.0,  -0.0750,  34.5469,2,  34.5300,2,-999.0000,9,   309.3,2,    5.67,2,   10.26,2,    0.01,2,    0.71,2,   3.352,2,   1.698,2,  2170.0,2,-999.000,9,-999.000,-999.000,9, -999.00,9, -999.00,  -0.0814
06AQ19870704,        NAO,     376,          1,         17,         17,2,19870810,       1302,    85.3817,    21.8983,       2874,   219.0,   1.2697,  34.8180,2,  34.7840,2,-999.0000,9,   305.7,2,    5.67,2,   11.63,2,    0.00,2,    0.78,2,   3.397,2,   1.703,2,  2171.0,2,-999.000,9,-999.000,-999.000,9, -999.00,9, -999.00,   1.2592
06AQ19870704,        NAO,     376,          1,         16,         16,2,19870810,       1302,    85.3817,    21.8983,       2874,   270.0,   1.7846,  34.9042,2,  34.8910,2,-999.0000,9,   305.8,2,    5.96,2,   12.31,2,    0.00,2,    0.80,2,   2.099,3,   1.102,3,  2178.0,2,-999.000,9,-999.000,-999.000,9, -999.00,9, -999.00,   1.7703
06AQ19870704,        NAO,     376,          1,         15,         15,2,19870810,       1302,    85.3817,    21.8983,       2874,   319.0,   1.4017,  34.8469,2,  34.9090,2,-999.0000,9,   306.4,2,    6.16,2,   12.41,2,    0.00,2,    0.81,2,   2.653,2,   1.358,2,  2174.0,2,-999.000,9,-999.000,-999.000,9, -999.00,9, -999.00,   1.3857
06AQ19870704,        NAO,     376,          1,         14,         14,2,19870810,       1302,    85.3817,    21.8983,       2874,   400.0,   0.9478,  34.8925,2,  34.8860,2,-999.0000,9,   301.8,2,    6.25,2,   12.51,2,    0.00,2,    0.81,2,   2.442,2,   1.326,2,  2178.0,2,-999.000,9,-999.000,-999.000,9, -999.00,9, -999.00,   0.9289
06AQ19870704,        NAO,     376,          1,         13,         13,2,19870810,       1302,    85.3817,    21.8983,       2874,   550.0,   0.7908,  34.9240,2,  34.9190,2,-999.0000,9,   304.1,2,    6.65,2,   12.90,2,    0.00,2,    0.82,2,   2.084,2,   1.164,2,  2188.0,2,-999.000,9,-999.000,-999.000,9, -999.00,9, -999.00,   0.7648
06AQ19870704,        NAO,     376,          1,         12,         12,2,19870810,       1302,    85.3817,    21.8983,       2874,   700.0,   0.2619,  34.9119,2,  34.9090,2,-999.0000,9,   304.6,2,    6.84,2,   12.70,2,    0.00,2,    0.83,2,   1.260,2,   0.676,2,  2188.0,2,-999.000,9,-999.000,-999.000,9, -999.00,9, -999.00,   0.2310
06AQ19870704,        NAO,     376,          1,         11,         11,2,19870810,       1302,    85.3817,    21.8983,       2874,   900.0,  -0.1220,  34.9244,2,  34.9110,2,-999.0000,9,   306.0,2,    7.33,2,   12.90,2,    0.00,2,    0.86,2,   0.955,2,   0.567,2,  2190.0,2,-999.000,9,-999.000,-999.000,9, -999.00,9, -999.00,  -0.1605
06AQ19870704,        NAO,     376,          1,         10,         10,2,19870810,       1302,    85.3817,    21.8983,       2874,  1100.0,  -0.3449,  34.9254,2,  34.9140,2,-999.0000,9,   306.8,2,    7.92,2,   13.10,2,    0.00,2,    0.87,2,   0.595,2,   0.427,2,  2187.0,2,-999.000,9,-999.000,-999.000,9, -999.00,9, -999.00,  -0.3919
06AQ19870704,        NAO,     376,          1,          9,          9,2,19870810,       1302,    85.3817,    21.8983,       2874,  1300.0,  -0.4729,  34.9313,2,  34.9180,2,-999.0000,9,   306.2,2,    8.60,2,   13.39,2,    0.00,2,    0.89,2,   0.495,2,   0.272,2,  2192.0,2,-999.000,9,-999.000,-999.000,9, -999.00,9, -999.00,  -0.5294
06AQ19870704,        NAO,     376,          1,          8,          8,2,19870810,       1302,    85.3817,    21.8983,       2874,  1499.0,  -0.5679,  34.9390,2,  34.9220,2,-999.0000,9,   304.6,2,    9.48,2,   13.78,2,    0.00,2,    0.92,2,   0.473,2,   0.269,2,  2186.0,2,-999.000,9,-999.000,-999.000,9, -999.00,9, -999.00,  -0.6346
06AQ19870704,        NAO,     376,          1,          7,          7,2,19870810,       1302,    85.3817,    21.8983,       2874,  1700.0,  -0.6368,  34.9414,2,-999.0000,9,-999.0000,9,   303.4,2,   10.26,2,   14.07,2,    0.00,2,    0.94,2,   0.340,2,   0.190,2,  2185.0,2,-999.000,9,-999.000,-999.000,9, -999.00,9, -999.00,  -0.7145
06AQ19870704,        NAO,     376,          1,          6,          6,2,19870810,       1302,    85.3817,    21.8983,       2874,  1900.0,  -0.7098,  34.9412,2,  34.9250,2,-999.0000,9,   304.1,2,   10.26,2,   14.17,2,    0.00,2,    0.94,2,   0.318,2,   0.166,2,  2184.0,2,-999.000,9,-999.000,-999.000,9, -999.00,9, -999.00,  -0.7988
06AQ19870704,        NAO,     376,          1,          5,          5,2,19870810,       1302,    85.3817,    21.8983,       2874,  2100.0,  -0.7568,  34.9411,2,  34.9260,2,-999.0000,9,   304.6,2,   10.46,2,   14.37,2,    0.00,2,    0.95,2,   0.281,2,   0.153,2,  2186.0,2,-999.000,9,-999.000,-999.000,9, -999.00,9, -999.00,  -0.8581
06AQ19870704,        NAO,     376,          1,          4,          4,2,19870810,       1302,    85.3817,    21.8983,       2874,  2300.0,  -0.7818,  34.9428,2,  34.9280,2,-999.0000,9,   304.0,2,   10.75,2,   14.46,2,    0.00,2,    0.96,2,   0.212,2,   0.132,2,  2188.0,2,-999.000,9,-999.000,-999.000,9, -999.00,9, -999.00,  -0.8963
06AQ19870704,        NAO,     376,          1,          3,          3,2,19870810,       1302,    85.3817,    21.8983,       2874,  2500.0,  -0.7908,  34.9493,2,  34.9310,2,-999.0000,9,   303.4,2,   11.04,2,   14.46,2,    0.00,2,    0.97,2,   0.122,2,   0.062,2,  2191.0,2,-999.000,9,-999.000,-999.000,9, -999.00,9, -999.00,  -0.9193
06AQ19870704,        NAO,     376,          1,          2,          2,2,19870810,       1302,    85.3817,    21.8983,       2874,  2700.0,  -0.7888,  34.9515,2,  34.9340,2,-999.0000,9,   302.4,2,   11.24,2,   14.56,2,    0.00,2,    0.97,2,   0.090,2,   0.086,2,  2188.0,2,-999.000,9,-999.000,-999.000,9, -999.00,9, -999.00,  -0.9322
06AQ19870704,        NAO,     376,          1,          1,          1,2,19870810,       1302,    85.3817,    21.8983,       2874,  2845.0,  -0.7808,  34.9510,2,  34.9340,2,-999.0000,9,   301.8,2,   11.43,2,   14.66,2,    0.00,2,    0.97,2,   0.086,2,-999.000,9,  2187.0,2,-999.000,9,-999.000,-999.000,9, -999.00,9, -999.00,  -0.9356