BOTTLE,20140415SIOCCHRJL
EXPOCODE,SECT_ID,STNNBR,CASTNO,SAMPNO,BTLNBR,BTLNBR_FLAG_W,DATE,TIME,LATITUDE,LONGITUDE,DEPTH,CTDPRS,CTDTMP,CTDSAL,CTDSAL_FLAG_W,SALNTY,SALNTY_FLAG_W,CTDOXY,CTDOXY_FLAG_W,OXYGEN,OXYGEN_FLAG_W,SILCAT,SILCAT_FLAG_W,NITRAT,NITRAT_FLAG_W,NITRIT,NITRIT_FLAG_W,PHSPHT,PHSPHT_FLAG_W,CFC-11,CFC-11_FLAG_W,CFC-12,CFC-12_FLAG_W,TCARBN,TCARBN_FLAG_W,TRITUM,TRITUM_FLAG_W,TRITER,CCL4,CCL4_FLAG_W,DELO18,DELO18_FLAG_W,CTDRAW,THETA
,,,,,,,,,,,METERS,DBAR,ITS-90,PSS-78,,PSS-78,,UMOL/KG,,UMOL/KG,,UMOL/KG,,UMOL/KG,,UMOL/KG,,UMOL/KG,,PMOL/KG,,PMOL/KG,,UMOL/KG,,TU,,TU,PMOL/KG,,/MILLE,,DBAR,DEG C
06AQ19870704,        NAO,     285,          1,         24,         24,2,19870709,       2125,    81.6450,    31.5017,       1927,    10.0,  -1.7256,  34.1752,2,  34.1650,2,-999.0000,9,   348.1,2,    3.72,2,    9.29,2,    0.04,2,    0.63,2,-999.000,9,-999.000,9,  -999.0,9,-999.000,9,-999.000,-999.000,9, -999.00,9, -999.00,  -1.7258
06AQ19870704,        NAO,     285,          1,         23,         23,2,19870709,       2125,    81.6450,    31.5017,       1927,    30.7,  -1.6976,  34.2105,2,  34.1930,2,-999.0000,9,   346.8,2,    3.72,2,    9.48,2,    0.04,2,    0.63,2,   5.342,2,   2.471,2,  -999.0,9,   3.410,2,   0.000,-999.000,9,    0.22,2, -999.00,  -1.6982
06AQ19870704,        NAO,     285,          1,         22,         22,2,19870709,       2125,    81.6450,    31.5017,       1927,    54.8,  -0.6248,  34.5662,2,  34.5580,2,-999.0000,9,   341.1,2,    3.52,2,    9.68,2,    0.06,2,    0.66,2,-999.000,9,-999.000,9,  -999.0,9,-999.000,9,-999.000,-999.000,9,    0.25,2, -999.00,  -0.6265
06AQ19870704,        NAO,     285,          1,         21,         21,2,19870709,       2125,    81.6450,    31.5017,       1927,    75.1,   0.2169,  34.6988,2,  34.7050,2,-999.0000,9,   327.6,2,    4.40,2,   10.95,2,    0.13,2,    0.71,2,-999.000,9,-999.000,9,  2159.0,2,-999.000,9,-999.000,-999.000,9, -999.00,9, -999.00,   0.2141
06AQ19870704,        NAO,     285,          1,         20,         20,2,19870709,       2125,    81.6450,    31.5017,       1927,    85.1,   0.6388,  34.7486,2,  34.7500,2,-999.0000,9,   324.6,2,    4.50,2,   11.24,2,    0.15,2,    0.72,2,-999.000,9,-999.000,9,  2160.0,2,-999.000,9,-999.000,-999.000,9, -999.00,9, -999.00,   0.6353
06AQ19870704,        NAO,     285,          1,         19,         19,2,19870709,       2125,    81.6450,    31.5017,       1927,    94.0,   0.8728,  34.7864,2,  34.7870,2,-999.0000,9,   322.8,2,    4.40,2,   11.43,2,    0.16,2,    0.73,2,-999.000,9,-999.000,9,  2161.0,2,-999.000,9,-999.000,-999.000,9,    0.21,2, -999.00,   0.8687
06AQ19870704,        NAO,     285,          1,         18,         18,2,19870709,       2125,    81.6450,    31.5017,       1927,   110.0,   1.1617,  34.8397,2,  34.8360,2,-999.0000,9,   321.5,2,    4.79,2,   11.63,2,    0.18,2,    0.74,2,-999.000,9,-999.000,9,  -999.0,9,-999.000,9,-999.000,-999.000,9, -999.00,9, -999.00,   1.1566
06AQ19870704,        NAO,     285,          1,         17,         17,2,19870709,       2125,    81.6450,    31.5017,       1927,   170.0,   1.4656,  34.9061,2,  34.9040,2,-999.0000,9,   320.2,2,    4.79,2,   12.02,2,    0.02,2,    0.75,2,-999.000,9,-999.000,9,  -999.0,9,-999.000,9,-999.000,-999.000,9,    0.27,2, -999.00,   1.4572
06AQ19870704,        NAO,     285,          1,         16,         16,2,19870709,       2125,    81.6450,    31.5017,       1927,   229.0,   1.5656,  34.9374,2,  34.9380,2,-999.0000,9,   318.0,2,    5.08,2,   12.22,2,    0.00,2,    0.76,2,-999.000,9,-999.000,9,  -999.0,9,-999.000,9,-999.000,-999.000,9, -999.00,9, -999.00,   1.5540
06AQ19870704,        NAO,     285,          1,         15,         15,2,19870709,       2125,    81.6450,    31.5017,       1927,   290.0,   1.5426,  34.9554,2,  34.9510,2,-999.0000,9,   318.4,2,    5.08,2,   12.31,2,    0.00,2,    0.76,2,   4.478,2,   1.894,2,  2174.0,2,-999.000,9,-999.000,-999.000,9,    0.25,2, -999.00,   1.5278
06AQ19870704,        NAO,     285,          1,         14,         14,2,19870709,       2125,    81.6450,    31.5017,       1927,   370.0,   1.4527,  34.9620,2,  34.9620,2,-999.0000,9,   319.3,2,    5.28,2,   12.41,2,    0.00,2,    0.78,2,-999.000,9,-999.000,9,  -999.0,9,-999.000,9,-999.000,-999.000,9,    0.29,2, -999.00,   1.4338
06AQ19870704,        NAO,     285,          1,         13,         13,2,19870709,       2125,    81.6450,    31.5017,       1927,   470.0,   1.3047,  34.9682,2,  34.9680,2,-999.0000,9,   320.2,2,    5.28,2,   12.31,2,    0.06,2,    0.77,2,-999.000,9,-999.000,9,  -999.0,9,-999.000,9,-999.000,-999.000,9,    0.35,2, -999.00,   1.2808
06AQ19870704,        NAO,     285,          1,         12,         12,2,19870709,       2125,    81.6450,    31.5017,       1927,   579.0,   0.8508,  34.9498,2,  34.9470,2,-999.0000,9,   319.7,2,    5.86,2,   12.51,2,    0.08,2,    0.80,2,-999.000,9,-999.000,9,  -999.0,9,-999.000,9,-999.000,-999.000,9, -999.00,9, -999.00,   0.8230
06AQ19870704,        NAO,     285,          1,         11,         11,2,19870709,       2125,    81.6450,    31.5017,       1927,   630.0,   0.7148,  34.9472,2,  34.9440,2,-999.0000,9,   317.6,2,    6.35,2,   12.80,2,    0.05,2,    0.82,2,-999.000,9,-999.000,9,  -999.0,9,-999.000,9,-999.000,-999.000,9,    0.29,2, -999.00,   0.6850
06AQ19870704,        NAO,     285,          1,         10,         10,2,19870709,       2125,    81.6450,    31.5017,       1927,   730.0,   0.2489,  34.9327,2,  34.9320,2,-999.0000,9,   313.6,2,    7.13,2,   13.09,2,    0.04,2,    0.85,2,-999.000,9,-999.000,9,  -999.0,9,-999.000,9,-999.000,-999.000,9, -999.00,9, -999.00,   0.2165
06AQ19870704,        NAO,     285,          1,          9,          9,2,19870709,       2125,    81.6450,    31.5017,       1927,   839.0,  -0.0280,  34.9418,2,  34.9290,2,-999.0000,9,   308.0,2,    8.11,2,   13.78,2,    0.00,2,    0.89,2,-999.000,9,-999.000,9,  -999.0,9,-999.000,9,-999.000,-999.000,9, -999.00,9, -999.00,  -0.0641
06AQ19870704,        NAO,     285,          1,          8,          8,2,19870709,       2125,    81.6450,    31.5017,       1927,   950.0,  -0.2949,  34.9367,2,  34.9200,2,-999.0000,9,   306.3,2,    8.80,2,   13.97,2,    0.00,2,    0.89,2,   1.463,2,   0.654,2,  2188.0,2,-999.000,9,-999.000,-999.000,9, -999.00,9, -999.00,  -0.3346
06AQ19870704,        NAO,     285,          1,          7,          7,2,19870709,       2125,    81.6450,    31.5017,       1927,  1049.0,  -0.4479,  34.9322,2,  34.9180,2,-999.0000,9,   304.9,2,    9.28,2,   14.27,2,    0.00,2,    0.90,2,   1.143,2,   0.566,2,  2186.0,2,-999.000,9,-999.000,-999.000,9,    0.26,2, -999.00,  -0.4914
06AQ19870704,        NAO,     285,          1,          6,          6,2,19870709,       2125,    81.6450,    31.5017,       1927,  1252.0,  -0.6099,  34.9278,2,  34.9150,2,-999.0000,9,   304.1,2,    9.87,2,   14.37,2,    0.00,2,    0.92,2,   0.846,2,   0.438,2,  2187.0,2,-999.000,9,-999.000,-999.000,9, -999.00,9, -999.00,  -0.6624
06AQ19870704,        NAO,     285,          1,          5,          5,2,19870709,       2125,    81.6450,    31.5017,       1927,  1450.0,  -0.6728,  34.9272,2,  34.9150,2,-999.0000,9,   303.6,2,   10.07,2,   14.46,2,    0.00,2,    0.92,2,   0.744,2,   0.353,2,  2188.0,2,-999.000,9,-999.000,-999.000,9, -999.00,9, -999.00,  -0.7354
06AQ19870704,        NAO,     285,          1,          4,          4,2,19870709,       2125,    81.6450,    31.5017,       1927,  1601.0,  -0.7038,  34.9298,2,  34.9160,2,-999.0000,9,   304.1,2,   10.26,2,   14.46,2,    0.00,2,    0.92,2,   0.680,2,   0.327,2,  2189.0,2,-999.000,9,-999.000,-999.000,9, -999.00,9, -999.00,  -0.7747
06AQ19870704,        NAO,     285,          1,          3,          3,2,19870709,       2125,    81.6450,    31.5017,       1927,  1760.0,  -0.7398,  34.9307,2,  34.9160,2,-999.0000,9,   303.6,2,   10.36,2,   14.56,2,    0.00,2,    0.92,2,   0.687,2,   0.320,2,  2190.0,2,-999.000,9,-999.000,-999.000,9, -999.00,9, -999.00,  -0.8197
06AQ19870704,        NAO,     285,          1,          2,          2,2,19870709,       2125,    81.6450,    31.5017,       1927,  1860.0,  -0.7408,  34.9290,2,  34.9160,2,-999.0000,9,   302.8,2,   10.65,2,   14.56,2,    0.00,2,    0.94,2,   0.728,2,   0.348,2,  2193.0,2,-999.000,9,-999.000,-999.000,9,    0.29,2, -999.00,  -0.8268
06AQ19870704,        NAO,     285,          1,          1,          1,2,19870709,       2125,    81.6450,    31.5017,       1927,  1907.0,  -0.7378,  34.9319,2,  34.9160,2,-999.0000,9,   302.8,2,   10.65,2,   14.56,2,    0.00,2,    0.92,2,   0.560,2,   0.259,2,  2180.0,2,-999.000,9,-999.000,-999.000,9, -999.00,9, -999.00,  -0.8268
06AQ19870704,        NAO,     287,          2,         24,         24,2,19870710,       1914,    81.6833,    30.9983,       2724,    10.2,  -1.7496,  34.0813,2,  34.0690,2,-999.0000,9,   353.7,2,    3.72,2,    8.70,2,    0.04,2,    0.61,2,-999.000,9,-999.000,9,  2106.0,2,-999.000,9,-999.000,-999.000,9,    0.27,2, -999.00,  -1.7498
06AQ19870704,        NAO,     287,          2,         23,         23,2,19870710,       1914,    81.6833,    30.9983,       2724,    30.5,  -1.7046,  34.1824,2,  34.1690,2,-999.0000,9,   353.3,2,    3.72,2,    8.51,2,    0.05,2,    0.61,2,   5.521,2,   2.337,2,  2112.0,2,   3.530,2,   0.000,-999.000,9,    0.24,2, -999.00,  -1.7052
06AQ19870704,        NAO,     287,          2,         22,         22,2,19870710,       1914,    81.6833,    30.9983,       2724,    40.4,  -1.5756,  34.2528,2,  34.2510,2,-999.0000,9,   349.3,2,    4.01,2,    8.90,2,    0.05,2,    0.63,2,   5.412,2,   2.347,2,  2124.0,2,   3.240,2,   0.000,-999.000,9,    0.22,2, -999.00,  -1.5765
06AQ19870704,        NAO,     287,          2,         21,         21,2,19870710,       1914,    81.6833,    30.9983,       2724,    50.1,  -1.2157,  34.4647,2,  34.4640,2,-999.0000,9,   347.4,2,    4.01,2,    8.90,2,    0.08,2,    0.63,2,   5.523,2,   2.339,2,  2144.0,2,   2.810,2,   0.000,-999.000,9,    0.28,2, -999.00,  -1.2169
06AQ19870704,        NAO,     287,          2,         20,         20,2,19870710,       1914,    81.6833,    30.9983,       2724,    60.0,  -0.8088,  34.5662,2,  34.5860,2,-999.0000,9,   341.1,2,    4.30,2,    9.68,2,    0.11,2,    0.66,2,   4.477,2,   2.118,2,  2145.0,2,-999.000,9,-999.000,-999.000,9,    0.25,2, -999.00,  -0.8105
06AQ19870704,        NAO,     287,          2,         19,         19,2,19870710,       1914,    81.6833,    30.9983,       2724,    69.8,  -0.0050,  34.6912,2,  34.6810,2,-999.0000,9,   332.9,2,    4.30,2,   10.46,2,    0.13,2,    0.69,2,   5.150,2,   2.203,2,  2157.0,2,-999.000,9,-999.000,-999.000,9,    0.26,2, -999.00,  -0.0075
06AQ19870704,        NAO,     287,          2,         18,         18,2,19870710,       1914,    81.6833,    30.9983,       2724,    80.2,   0.3299,  34.7170,2,  34.7190,2,-999.0000,9,   330.6,2,    4.59,2,   10.75,2,    0.14,2,    0.70,2,   5.052,2,   2.144,2,  2155.0,2,-999.000,9,-999.000,-999.000,9, -999.00,9, -999.00,   0.3268
06AQ19870704,        NAO,     287,          2,         17,         17,2,19870710,       1914,    81.6833,    30.9983,       2724,    90.0,   0.5179,  34.7537,2,  34.7500,2,-999.0000,9,   329.2,2,    4.50,2,   10.85,2,    0.16,2,    0.70,2,-999.000,9,-999.000,9,  2159.0,2,-999.000,9,-999.000,-999.000,9,    0.24,2, -999.00,   0.5143
06AQ19870704,        NAO,     287,          2,         16,         16,2,19870710,       1914,    81.6833,    30.9983,       2724,   100.0,   0.8298,  34.7972,2,  34.8050,2,-999.0000,9,   325.7,2,    4.69,2,   11.24,2,    0.20,2,    0.71,2,   4.827,2,   2.051,2,  2162.0,2,-999.000,9,-999.000,-999.000,9, -999.00,9, -999.00,   0.8255
06AQ19870704,        NAO,     287,          2,         15,         15,2,19870710,       1914,    81.6833,    30.9983,       2724,   120.0,   1.1917,  34.8620,2,  34.8640,2,-999.0000,9,   321.9,2,    4.98,2,   11.83,2,    0.07,2,    0.72,2,-999.000,9,-999.000,9,  2165.0,2,-999.000,9,-999.000,-999.000,9,    0.27,2, -999.00,   1.1861
06AQ19870704,        NAO,     287,          2,         14,         14,2,19870710,       1914,    81.6833,    30.9983,       2724,   140.0,   1.1357,  34.8638,2,  34.8630,2,-999.0000,9,   322.4,2,    4.98,2,   11.83,2,    0.08,2,    0.73,2,   4.779,2,   2.027,2,  2166.0,2,-999.000,9,-999.000,-999.000,9, -999.00,9, -999.00,   1.1292
06AQ19870704,        NAO,     287,          2,         13,         13,2,19870710,       1914,    81.6833,    30.9983,       2724,   169.0,   1.4996,  34.9147,2,  34.9120,2,-999.0000,9,   319.2,2,    5.18,2,   12.12,2,    0.04,2,    0.73,2,   4.623,2,   1.966,2,  2167.0,2,-999.000,9,-999.000,-999.000,9,    0.29,2, -999.00,   1.4912
06AQ19870704,        NAO,     287,          2,         12,         12,2,19870710,       1914,    81.6833,    30.9983,       2724,   199.0,   1.2407,  34.9031,2,  34.9030,2,-999.0000,9,   322.9,2,    4.98,2,   11.82,2,    0.14,2,    0.71,2,   4.884,2,   2.018,2,  2163.0,2,-999.000,9,-999.000,-999.000,9, -999.00,9, -999.00,   1.2312
06AQ19870704,        NAO,     287,          2,         11,         11,2,19870710,       1914,    81.6833,    30.9983,       2724,   229.0,   1.3607,  34.9232,2,  34.9280,2,-999.0000,9,   321.1,2,    5.08,2,   12.02,2,    0.10,2,    0.72,2,   4.681,2,   1.990,2,  2169.0,2,-999.000,9,-999.000,-999.000,9,    0.33,2, -999.00,   1.3494
06AQ19870704,        NAO,     287,          2,         10,         10,2,19870710,       1914,    81.6833,    30.9983,       2724,   259.0,   1.4866,  34.9466,2,  34.9430,2,-999.0000,9,   320.7,2,    5.28,2,   12.22,2,    0.02,2,    0.73,2,   4.717,2,   1.985,2,  2172.0,2,-999.000,9,-999.000,-999.000,9, -999.00,9, -999.00,   1.4735
06AQ19870704,        NAO,     287,          2,          9,          9,2,19870710,       1914,    81.6833,    30.9983,       2724,   300.0,   1.5356,  34.9599,2,  34.9580,2,-999.0000,9,   321.5,2,    5.18,2,   12.12,2,    0.07,2,    0.73,2,   4.783,2,   1.995,2,  2177.0,2,-999.000,9,-999.000,-999.000,9,    0.29,2, -999.00,   1.5202
06AQ19870704,        NAO,     287,          2,          8,          8,2,19870710,       1914,    81.6833,    30.9983,       2724,   339.0,   1.5516,  34.9716,2,  34.9660,2,-999.0000,9,   320.0,2,    6.16,2,   12.22,2,    0.06,2,    0.73,2,   4.655,2,   1.975,2,  2174.0,2,-999.000,9,-999.000,-999.000,9, -999.00,9, -999.00,   1.5341
06AQ19870704,        NAO,     287,          2,          7,          7,2,19870710,       1914,    81.6833,    30.9983,       2724,   379.0,   1.4567,  34.9676,2,  34.9650,2,-999.0000,9,   320.7,2,    5.37,2,   12.22,2,    0.05,2,    0.73,2,   4.659,2,   1.955,2,  2177.0,2,-999.000,9,-999.000,-999.000,9, -999.00,9, -999.00,   1.4373
06AQ19870704,        NAO,     287,          2,          6,          6,2,19870710,       1914,    81.6833,    30.9983,       2724,   430.0,   1.3797,  34.9690,2,  34.9660,2,-999.0000,9,   322.1,2,    5.37,2,   12.22,2,    0.05,2, -999.00,9,   4.864,2,   1.998,2,  2173.0,2,-999.000,9,-999.000,-999.000,9, -999.00,9, -999.00,   1.3577
06AQ19870704,        NAO,     287,          2,          5,          5,2,19870710,       1914,    81.6833,    30.9983,       2724,   480.0,   1.3087,  34.9733,2,  34.9690,2,-999.0000,9,   320.5,2,    5.67,2,   12.31,2,    0.04,2,    0.75,2,   4.586,2,   1.910,2,  2179.0,2,-999.000,9,-999.000,-999.000,9,    0.30,2, -999.00,   1.2842
06AQ19870704,        NAO,     287,          2,          4,          4,2,19870710,       1914,    81.6833,    30.9983,       2724,   530.0,   0.9618,  34.9404,2,  34.9400,2,-999.0000,9,   324.2,2,    5.47,2,   11.82,2,    0.09,2,    0.74,2,   4.802,2,   1.991,2,  2182.0,2,-999.000,9,-999.000,-999.000,9, -999.00,9, -999.00,   0.9361
06AQ19870704,        NAO,     287,          2,          3,          3,2,19870710,       1914,    81.6833,    30.9983,       2724,   580.0,   0.7518,  34.9347,2,  34.9310,2,-999.0000,9,   324.9,2,    5.47,2,   11.63,2,    0.11,2,    0.75,2,   3.809,2,   1.680,2,  2178.0,2,-999.000,9,-999.000,-999.000,9, -999.00,9, -999.00,   0.7244
06AQ19870704,        NAO,     287,          2,          2,          2,2,19870710,       1914,    81.6833,    30.9983,       2724,   630.0,   0.7708,  34.9479,2,  34.9450,2,-999.0000,9,   318.8,2,    6.16,2,   12.51,2,    0.05,2,    0.77,2,   3.154,2,   1.372,2,  2187.0,2,-999.000,9,-999.000,-999.000,9, -999.00,9, -999.00,   0.7407
06AQ19870704,        NAO,     287,          2,          1,          1,2,19870710,       1914,    81.6833,    30.9983,       2724,   703.0,   0.5339,  34.9512,2,  34.9450,2,-999.0000,9,   313.1,2,    6.94,2,   13.29,2,    0.01,2,    0.82,2,-999.000,9,-999.000,9,  2187.0,2,-999.000,9,-999.000,-999.000,9, -999.00,9, -999.00,   0.5012