BOTTLE,20140415SIOCCHRJL
EXPOCODE,SECT_ID,STNNBR,CASTNO,SAMPNO,BTLNBR,BTLNBR_FLAG_W,DATE,TIME,LATITUDE,LONGITUDE,DEPTH,CTDPRS,CTDTMP,CTDSAL,CTDSAL_FLAG_W,SALNTY,SALNTY_FLAG_W,CTDOXY,CTDOXY_FLAG_W,OXYGEN,OXYGEN_FLAG_W,SILCAT,SILCAT_FLAG_W,NITRAT,NITRAT_FLAG_W,NITRIT,NITRIT_FLAG_W,PHSPHT,PHSPHT_FLAG_W,CFC-11,CFC-11_FLAG_W,CFC-12,CFC-12_FLAG_W,TCARBN,TCARBN_FLAG_W,TRITUM,TRITUM_FLAG_W,TRITER,CCL4,CCL4_FLAG_W,DELO18,DELO18_FLAG_W,CTDRAW,THETA
,,,,,,,,,,,METERS,DBAR,ITS-90,PSS-78,,PSS-78,,UMOL/KG,,UMOL/KG,,UMOL/KG,,UMOL/KG,,UMOL/KG,,UMOL/KG,,PMOL/KG,,PMOL/KG,,UMOL/KG,,TU,,TU,PMOL/KG,,/MILLE,,DBAR,DEG C
06AQ19870704,        NAO,     370,          1,         21,         21,2,19870801,       1442,    85.9283,    22.7717,       5142,   135.0,  -1.5716,  34.2393,2,  34.2390,2,-999.0000,9,   338.1,2,    4.01,2,    7.24,2,    0.00,2,    0.56,2,   3.624,2,   1.548,2,  2144.0,2,-999.000,9,-999.000,-999.000,9, -999.00,9, -999.00,  -1.5746
06AQ19870704,        NAO,     370,          2,         17,         17,2,19870801,       1210,    85.9283,    22.7717,       5142,   154.0,  -1.3917,  34.3715,2,  34.2950,2,-999.0000,9,   324.6,2,    4.69,2,    8.90,2,    0.00,2,    0.64,2,-999.000,9,-999.000,9,  2155.0,2,-999.000,9,-999.000,-999.000,9, -999.00,9, -999.00,  -1.3954
06AQ19870704,        NAO,     370,          2,         16,         16,2,19870801,       1210,    85.9283,    22.7717,       5142,   175.0,  -0.6598,  34.4314,2,  34.4230,2,-999.0000,9,   313.8,2,    5.28,2,    9.97,2,    0.00,2,    0.68,2,   2.260,2,   1.046,2,  2163.0,2,-999.000,9,-999.000,-999.000,9, -999.00,9, -999.00,  -0.6652
06AQ19870704,        NAO,     370,          2,         15,         15,2,19870801,       1210,    85.9283,    22.7717,       5142,   195.0,   0.0700,  34.5618,2,  34.5840,2,-999.0000,9,   307.2,2,    5.77,2,   10.85,2,    0.00,2,    0.74,2,   2.077,2,   0.933,2,  2165.0,2,-999.000,9,-999.000,-999.000,9, -999.00,9, -999.00,   0.0627
06AQ19870704,        NAO,     370,          2,         14,         14,2,19870801,       1210,    85.9283,    22.7717,       5142,   225.0,   0.6408,  34.6822,2,  34.6830,2,-999.0000,9,   304.6,2,    5.86,2,   11.24,2,    0.00,2,    0.75,2,-999.000,9,-999.000,9,  2172.0,2,-999.000,9,-999.000,-999.000,9, -999.00,9, -999.00,   0.6312
06AQ19870704,        NAO,     370,          1,         20,         20,2,19870801,       1442,    85.9283,    22.7717,       5142,   259.0,   1.6526,  34.8743,2,  34.8760,2,-999.0000,9,   305.4,2,    5.96,2,   11.92,2,    0.00,2,    0.79,2,   2.760,2,   1.255,2,  2164.0,2,-999.000,9,-999.000,-999.000,9, -999.00,9, -999.00,   1.6392
06AQ19870704,        NAO,     370,          2,         13,         13,2,19870801,       1210,    85.9283,    22.7717,       5142,   300.0,   1.1497,  34.8567,2,  34.8600,2,-999.0000,9,   303.3,2,    5.96,2,   12.41,2,    0.00,2,    0.81,2,   1.636,2,   0.846,2,  2173.0,2,-999.000,9,-999.000,-999.000,9, -999.00,9, -999.00,   1.1353
06AQ19870704,        NAO,     370,          2,         12,         12,2,19870801,       1210,    85.9283,    22.7717,       5142,   376.0,   0.8958,  34.8886,2,  34.8840,2,-999.0000,9,   301.1,2,    6.16,2,   12.61,2,    0.00,2,    0.82,2,   1.086,2,   0.530,2,  2179.0,2,-999.000,9,-999.000,-999.000,9, -999.00,9, -999.00,   0.8783
06AQ19870704,        NAO,     370,          2,         11,         11,2,19870801,       1210,    85.9283,    22.7717,       5142,   500.0,   0.7888,  34.9139,2,  34.9100,2,-999.0000,9,   302.8,2,    6.45,2,   12.80,2,    0.00,2,    0.84,2,   0.750,2,   0.447,2,  2179.0,2,-999.000,9,-999.000,-999.000,9, -999.00,9, -999.00,   0.7654
06AQ19870704,        NAO,     370,          1,         19,         19,2,19870801,       1442,    85.9283,    22.7717,       5142,   500.0,   0.7988,  34.9131,2,  34.9110,2,-999.0000,9,   303.2,2,    6.65,2,   12.31,2,    0.00,2,    0.81,2,-999.000,9,   0.445,2,  -999.0,9,-999.000,9,-999.000,-999.000,9, -999.00,9, -999.00,   0.7754
06AQ19870704,        NAO,     370,          2,         10,         10,2,19870801,       1210,    85.9283,    22.7717,       5142,   700.0,   0.2129,  34.9055,2,  34.9050,2,-999.0000,9,   305.0,2,    6.55,2,   12.80,2,    0.00,2,    0.83,2,   0.718,2,-999.000,9,  2179.0,2,-999.000,9,-999.000,-999.000,9, -999.00,9, -999.00,   0.1823
06AQ19870704,        NAO,     370,          2,          9,          9,2,19870801,       1210,    85.9283,    22.7717,       5142,   899.0,  -0.1850,  34.9210,2,  34.9040,2,-999.0000,9,   306.7,2,    7.04,2,   12.90,2,    0.00,2,    0.85,2,   0.768,2,   0.434,2,  2183.0,2,-999.000,9,-999.000,-999.000,9, -999.00,9, -999.00,  -0.2230
06AQ19870704,        NAO,     370,          1,         18,         18,2,19870801,       1442,    85.9283,    22.7717,       5142,  1000.0,  -0.2869,  34.9199,2,  34.9080,2,-999.0000,9,   307.1,2,    7.52,2,   12.51,2,    0.00,2,    0.85,2,   0.792,2,   0.481,2,  2182.0,2,-999.000,9,-999.000,-999.000,9, -999.00,9, -999.00,  -0.3292
06AQ19870704,        NAO,     370,          2,          8,          8,2,19870801,       1210,    85.9283,    22.7717,       5142,  1100.0,  -0.3479,  34.9262,2,  34.9130,2,-999.0000,9,   306.7,2,    7.62,2,   13.10,2,    0.00,2,    0.87,2,-999.000,9,-999.000,9,  2187.0,2,-999.000,9,-999.000,-999.000,9, -999.00,9, -999.00,  -0.3949
06AQ19870704,        NAO,     370,          2,          7,          7,2,19870801,       1210,    85.9283,    22.7717,       5142,  1300.0,  -0.4629,  34.9266,2,  34.9180,2,-999.0000,9,   305.4,2,    8.50,2,   13.49,2,    0.00,2,    0.89,2,   0.536,2,   0.305,2,  2189.0,2,-999.000,9,-999.000,-999.000,9, -999.00,9, -999.00,  -0.5195
06AQ19870704,        NAO,     370,          2,          6,          6,2,19870801,       1210,    85.9283,    22.7717,       5142,  1499.0,  -0.5459,  34.9366,2,  34.9230,2,-999.0000,9,   304.1,2,    9.28,2,   13.88,2,    0.00,2,    0.92,2,   0.496,2,   0.247,2,  -999.0,9,-999.000,9,-999.000,-999.000,9, -999.00,9, -999.00,  -0.6128
06AQ19870704,        NAO,     370,          1,         17,         17,2,19870801,       1442,    85.9283,    22.7717,       5142,  1500.0,  -0.5519,  34.9349,2,  34.9220,2,-999.0000,9,   304.1,2,    9.48,2,   13.39,2,    0.00,2,    0.90,2,-999.000,9,-999.000,9,  2189.0,2,-999.000,9,-999.000,-999.000,9, -999.00,9, -999.00,  -0.6188
06AQ19870704,        NAO,     370,          2,          5,          5,2,19870801,       1210,    85.9283,    22.7717,       5142,  1699.0,  -0.5979,  34.9403,2,  34.9250,2,-999.0000,9,   302.3,2,   10.16,2,   14.27,2,    0.00,2,    0.94,2,   0.371,2,   0.207,2,  -999.0,9,-999.000,9,-999.000,-999.000,9, -999.00,9, -999.00,  -0.6761
06AQ19870704,        NAO,     370,          2,          4,          4,2,19870801,       1210,    85.9283,    22.7717,       5142,  1899.0,  -0.6818,  34.9393,2,  34.9240,2,-999.0000,9,   303.6,2,   10.26,2,   14.37,2,    0.00,2,    0.95,2,   0.277,2,   0.145,2,  2186.0,2,-999.000,9,-999.000,-999.000,9, -999.00,9, -999.00,  -0.7712
06AQ19870704,        NAO,     370,          1,         16,         16,2,19870801,       1442,    85.9283,    22.7717,       5142,  2000.0,  -0.7118,  34.9386,2,  34.9230,2,-999.0000,9,   304.1,2,   10.46,2,   13.97,2,    0.00,2,    0.94,2,   0.251,2,   0.138,2,  2191.0,2,-999.000,9,-999.000,-999.000,9, -999.00,9, -999.00,  -0.8072
06AQ19870704,        NAO,     370,          2,          3,          3,2,19870801,       1210,    85.9283,    22.7717,       5142,  2100.0,  -0.7358,  34.9399,2,  34.9250,2,-999.0000,9,   304.1,2,   10.46,2,   14.46,2,    0.00,2,    0.97,2,   0.201,2,   0.083,2,  2187.0,2,-999.000,9,-999.000,-999.000,9, -999.00,9, -999.00,  -0.8374
06AQ19870704,        NAO,     370,          2,          2,          2,2,19870801,       1210,    85.9283,    22.7717,       5142,  2300.0,  -0.7688,  34.9427,2,  34.9270,2,-999.0000,9,   304.5,2,   10.65,2,   14.46,2,    0.00,2,    0.96,2,   0.229,2,   0.145,2,  2192.0,2,-999.000,9,-999.000,-999.000,9, -999.00,9, -999.00,  -0.8835
06AQ19870704,        NAO,     370,          1,         15,         15,2,19870801,       1442,    85.9283,    22.7717,       5142,  2499.0,  -0.7848,  34.9444,2,  34.9280,2,-999.0000,9,   304.1,2,   10.95,2,   14.17,2,    0.00,2,    0.95,2,   0.170,2,   0.110,2,  2191.0,2,-999.000,9,-999.000,-999.000,9, -999.00,9, -999.00,  -0.9134
06AQ19870704,        NAO,     370,          2,          1,          1,2,19870801,       1210,    85.9283,    22.7717,       5142,  2506.0,  -0.7858,  34.9458,2,  34.9290,2,-999.0000,9,   303.6,2,   10.75,2,   14.66,2,    0.00,2,    0.98,2,-999.000,9,-999.000,9,  2188.0,2,-999.000,9,-999.000,-999.000,9, -999.00,9, -999.00,  -0.9148
06AQ19870704,        NAO,     370,          1,         14,         14,2,19870801,       1442,    85.9283,    22.7717,       5142,  3000.0,  -0.7788,  34.9505,2,  34.9350,2,-999.0000,9,   302.8,2,   11.24,2,   14.27,2,    0.00,2,    0.95,2,   0.113,2,-999.000,9,  2188.0,2,-999.000,9,-999.000,-999.000,9, -999.00,9, -999.00,  -0.9459
06AQ19870704,        NAO,     370,          1,         13,         13,2,19870801,       1442,    85.9283,    22.7717,       5142,  3201.0,  -0.7658,  34.9556,2,  34.9370,2,-999.0000,9,   301.9,2,   11.43,2,   14.37,2,    0.00,2,    0.96,2,   0.077,2,   0.046,2,  2189.0,2,-999.000,9,-999.000,-999.000,9, -999.00,9, -999.00,  -0.9498
06AQ19870704,        NAO,     370,          1,         12,         12,2,19870801,       1442,    85.9283,    22.7717,       5142,  3400.0,  -0.7458,  34.9553,2,  34.9380,2,-999.0000,9,   301.5,2,   11.73,2,   14.37,2,    0.00,2,    0.95,2,   0.073,2,   0.030,2,  2187.0,2,-999.000,9,-999.000,-999.000,9, -999.00,9, -999.00,  -0.9473
06AQ19870704,        NAO,     370,          1,         11,         11,2,19870801,       1442,    85.9283,    22.7717,       5142,  3550.0,  -0.7298,  34.9566,2,  34.9380,2,-999.0000,9,   300.6,2,   12.02,2,   14.37,2,    0.00,2,    0.96,2,   0.049,2,   0.012,2,  2185.0,2,-999.000,9,-999.000,-999.000,9, -999.00,9, -999.00,  -0.9449
06AQ19870704,        NAO,     370,          1,         10,         10,2,19870801,       1442,    85.9283,    22.7717,       5142,  3699.0,  -0.7158,  34.9574,2,  34.9390,2,-999.0000,9,   301.0,2,   11.92,2,   14.37,2,    0.00,2,    0.96,2,-999.000,9,-999.000,9,  2187.0,2,-999.000,9,-999.000,-999.000,9, -999.00,9, -999.00,  -0.9448
06AQ19870704,        NAO,     370,          1,          9,          9,2,19870801,       1442,    85.9283,    22.7717,       5142,  3850.0,  -0.7018,  34.9608,2,  34.9390,2,-999.0000,9,   301.0,2,   11.82,2,   14.37,2,    0.00,2,    0.96,2,   0.049,2,   0.054,2,  2186.0,2,-999.000,9,-999.000,-999.000,9, -999.00,9, -999.00,  -0.9452
06AQ19870704,        NAO,     370,          1,          8,          8,2,19870801,       1442,    85.9283,    22.7717,       5142,  4000.0,  -0.6868,  34.9630,2,  34.9380,2,-999.0000,9,   300.6,2,   11.73,2,   14.37,2,    0.00,2,    0.96,2,   0.058,2,   0.035,2,  2186.0,2,-999.000,9,-999.000,-999.000,9, -999.00,9, -999.00,  -0.9449
06AQ19870704,        NAO,     370,          1,          7,          7,2,19870801,       1442,    85.9283,    22.7717,       5142,  4150.0,  -0.6718,  34.9634,2,  34.9400,2,-999.0000,9,   301.0,2,   11.92,2,   14.37,2,    0.00,2,    0.96,2,   0.060,2,-999.000,9,  2191.0,2,-999.000,9,-999.000,-999.000,9, -999.00,9, -999.00,  -0.9449
06AQ19870704,        NAO,     370,          1,          6,          6,2,19870801,       1442,    85.9283,    22.7717,       5142,  4300.0,  -0.6568,  34.9646,2,  34.9400,2,-999.0000,9,   300.6,2,   11.92,2,   14.46,2,    0.00,2,    0.97,2,   0.053,2,   0.052,2,  2192.0,2,-999.000,9,-999.000,-999.000,9, -999.00,9, -999.00,  -0.9453
06AQ19870704,        NAO,     370,          1,          5,          5,2,19870801,       1442,    85.9283,    22.7717,       5142,  4385.0,  -0.6478,  34.9653,2,  34.9400,2,-999.0000,9,   301.0,2,   11.82,2,   14.46,2,    0.00,2,    0.96,2,   0.050,2,   0.030,2,  2187.0,2,-999.000,9,-999.000,-999.000,9, -999.00,9, -999.00,  -0.9452
06AQ19870704,        NAO,     370,          1,          4,          4,2,19870801,       1442,    85.9283,    22.7717,       5142,  4435.0,  -0.6428,  34.9665,2,  34.9410,2,-999.0000,9,   301.0,2,   11.82,2,   14.46,2,    0.00,2,    0.96,2,   0.043,2,   0.020,2,  2188.0,2,-999.000,9,-999.000,-999.000,9, -999.00,9, -999.00,  -0.9455
06AQ19870704,        NAO,     370,          1,          3,          3,2,19870801,       1442,    85.9283,    22.7717,       5142,  4485.0,  -0.6378,  34.9677,2,  34.9400,2,-999.0000,9,   301.0,2,   11.73,2,   14.46,2,    0.00,2,    0.95,2,   0.044,2,   0.021,2,  2190.0,2,-999.000,9,-999.000,-999.000,9, -999.00,9, -999.00,  -0.9458
06AQ19870704,        NAO,     370,          1,          2,          2,2,19870801,       1442,    85.9283,    22.7717,       5142,  4510.0,  -0.6348,  34.9665,2,  34.9400,2,-999.0000,9,   300.6,2,   11.82,2,   14.46,2,    0.00,2,    0.95,2,   0.048,2,   0.023,2,  2189.0,2,-999.000,9,-999.000,-999.000,9, -999.00,9, -999.00,  -0.9455
06AQ19870704,        NAO,     370,          1,          1,          1,2,19870801,       1442,    85.9283,    22.7717,       5142,  4526.0,  -0.6328,  34.9665,2,  34.9400,2,-999.0000,9,   301.0,2,   11.92,2,   14.46,2,    0.00,2,    0.97,2,   0.031,2,   0.023,2,  2189.0,2,-999.000,9,-999.000,-999.000,9, -999.00,9, -999.00,  -0.9452
06AQ19870704,        NAO,     371,          2,         24,         24,2,19870804,       0635,    86.1083,    22.0267,       3769,    24.4,  -1.8026,  33.2933,2,  33.2800,2,-999.0000,9,   384.9,2,    2.84,2,    3.13,2,    0.02,2,    0.33,2,   5.977,2,   2.237,2,  2126.0,2,-999.000,9,-999.000,-999.000,9,   -1.58,2, -999.00,  -1.8030
06AQ19870704,        NAO,     371,          1,         24,         24,2,19870804,       1716,    86.1083,    22.0267,       3769,    30.5,  -1.8016,  33.3162,2,  33.3030,2,-999.0000,9,  -999.0,9,    3.13,2,    2.94,2,    0.03,2,    0.33,2,-999.000,9,-999.000,9,  -999.0,9,-999.000,9,-999.000,-999.000,9, -999.00,9, -999.00,  -1.8021