BOTTLE,20140415SIOCCHRJL
# CTDOXY empty data values changed from flag 2 to flag 9
# DELO18 units changed from '0/00' to '/MILLE'
# BOTTLE,20120928PRINUNIVRMK
# ----------------------------------------------------- 
# BOTTLE,20090610CCHDOSIODM 
# original HYD file: nao_06AQ19870704hy.txt  2009-04-10 
# original SUM file: nao_06AQ19870704su.txt  2009-04-08 
# ----------------------------------------------------- 
# Data source: CCHDO, D. Wallace, L. Anderson via T.Tanhua 
# SHIP: Polarstern 
# Cruise: ARK IV_3; NAO 
# Region: eastern Arctic between Lomonosov Ridge and Eurasian continental margin 
# EXPOCODE: 06AQ19870704 
# DATES: 7/4 - 9/2/1987 
# Chief Scientist: J. Thiede 
# 25 stations with 24 place Rosette 
# Attribution of different measurements not given in cruise report 
# Hydro: Who - ?; Status - final 
# 	Notes: 	bottle and CTD salt in file 
# Nuts: Who - ?; Status - final 
# 	Notes: 
# O2: Who - ?; Status -final 
# 	Notes: bottle and CTD values in file 
# TCO2: Who - L.Anderson; Status - final 
# 	Notes:  
# CFC: Who - P.Jones; Status - final 
# 	Notes: included CCL4 
# C14: Who - ?; Status - 
# 	Notes: samples collected for both AMS and beta methods 
# 	No data in file 
# H3/He3: Who - P.Schlosser; Status -final 
# 	Notes: H3 only in file 
# O18: Who - ?; Status - final 
# 	Notes:  
# Ra-228/Ra-226: Who: R. Key; Status - final 
# 	Notes: data from separate casts not merged here 
# References: 
EXPOCODE,SECT_ID,STNNBR,CASTNO,SAMPNO,BTLNBR,BTLNBR_FLAG_W,DATE,TIME,LATITUDE,LONGITUDE,DEPTH,CTDPRS,CTDTMP,CTDSAL,CTDSAL_FLAG_W,SALNTY,SALNTY_FLAG_W,CTDOXY,CTDOXY_FLAG_W,OXYGEN,OXYGEN_FLAG_W,SILCAT,SILCAT_FLAG_W,NITRAT,NITRAT_FLAG_W,NITRIT,NITRIT_FLAG_W,PHSPHT,PHSPHT_FLAG_W,CFC-11,CFC-11_FLAG_W,CFC-12,CFC-12_FLAG_W,TCARBN,TCARBN_FLAG_W,TRITUM,TRITUM_FLAG_W,TRITER,CCL4,CCL4_FLAG_W,DELO18,DELO18_FLAG_W,CTDRAW,THETA
,,,,,,,,,,,METERS,DBAR,ITS-90,PSS-78,,PSS-78,,UMOL/KG,,UMOL/KG,,UMOL/KG,,UMOL/KG,,UMOL/KG,,UMOL/KG,,PMOL/KG,,PMOL/KG,,UMOL/KG,,TU,,TU,PMOL/KG,,/MILLE,,DBAR,DEG C
06AQ19870704,        NAO,     269,          1,         24,         24,2,19870707,       1730,    81.2717,    31.4033,        199,     2.8,  -1.6576,  34.1043,2,  34.0990,2,-999.0000,9,   358.1,2,    3.42,2,    7.53,2,    0.11,2, -999.00,9,-999.000,9,-999.000,9,  -999.0,9,   3.660,2,   0.000,-999.000,9,    0.25,2, -999.00,  -1.6577
06AQ19870704,        NAO,     269,          1,         23,         23,2,19870707,       1730,    81.2717,    31.4033,        199,     9.1,  -1.6636,  34.1141,2,  34.1020,2,-999.0000,9,   357.6,2,    3.32,2,    7.53,2,    0.11,2, -999.00,9,-999.000,9,-999.000,9,  -999.0,9,   3.430,2,   0.000,-999.000,9,    0.11,2, -999.00,  -1.6638
06AQ19870704,        NAO,     269,          1,         22,         22,2,19870707,       1730,    81.2717,    31.4033,        199,    20.2,  -1.6426,  34.1524,2,  34.1510,2,-999.0000,9,   357.8,2,    3.52,2,    7.53,2,    0.11,2, -999.00,9,-999.000,9,-999.000,9,  -999.0,9,   3.550,2,   0.000,-999.000,9,    0.24,2, -999.00,  -1.6430
06AQ19870704,        NAO,     269,          1,         21,         21,2,19870707,       1730,    81.2717,    31.4033,        199,    40.3,  -1.1347,  34.4436,2,  34.4540,2,-999.0000,9,  -999.0,9,    4.50,2,    9.29,2,    0.15,2,    0.73,2,-999.000,9,-999.000,9,  -999.0,9,   3.530,2,   0.000,-999.000,9,    0.14,2, -999.00,  -1.1357
06AQ19870704,        NAO,     269,          1,         20,         20,2,19870707,       1730,    81.2717,    31.4033,        199,    40.3,  -1.1347,  34.4436,2,  34.4610,2,-999.0000,9,   343.9,2,    4.50,2,    9.29,2,    0.14,2,    0.73,2,-999.000,9,-999.000,9,  -999.0,9,-999.000,9,-999.000,-999.000,9, -999.00,9, -999.00,  -1.1357
06AQ19870704,        NAO,     269,          1,         19,         19,2,19870707,       1730,    81.2717,    31.4033,        199,    60.0,  -0.4519,  34.6768,2,  34.6760,2,-999.0000,9,  -999.0,9,    5.57,2,   11.24,2,    0.15,2,    0.81,2,-999.000,9,-999.000,9,  -999.0,9,-999.000,9,-999.000,-999.000,9,    0.27,2, -999.00,  -0.4538
06AQ19870704,        NAO,     269,          1,         18,         18,2,19870707,       1730,    81.2717,    31.4033,        199,    60.0,  -0.4519,  34.6768,2,  34.6790,2,-999.0000,9,   331.5,2,    5.57,2,   11.24,2,    0.15,2,    0.81,2,-999.000,9,-999.000,9,  -999.0,9,-999.000,9,-999.000,-999.000,9, -999.00,9, -999.00,  -0.4538
06AQ19870704,        NAO,     269,          1,         17,         17,2,19870707,       1730,    81.2717,    31.4033,        199,    80.2,  -0.1240,  34.7442,2,  34.7340,2,-999.0000,9,   327.9,2,    5.86,2,   11.63,2,    0.07,2,    0.82,2,-999.000,9,-999.000,9,  -999.0,9,-999.000,9,-999.000,-999.000,9,    0.24,2, -999.00,  -0.1268
06AQ19870704,        NAO,     269,          1,         16,         16,2,19870707,       1730,    81.2717,    31.4033,        199,    99.0,  -0.1740,  34.7535,2,  34.7440,2,-999.0000,9,   328.8,2,    5.86,2,   11.73,2,    0.05,2,    0.84,2,-999.000,9,-999.000,9,  -999.0,9,-999.000,9,-999.000,-999.000,9,    0.19,2, -999.00,  -0.1774
06AQ19870704,        NAO,     269,          1,         15,         15,2,19870707,       1730,    81.2717,    31.4033,        199,   125.0,  -0.1910,  34.7608,2,  34.7520,2,-999.0000,9,   329.5,2,    5.96,2,   11.73,2,    0.04,2,    0.83,2,-999.000,9,-999.000,9,  -999.0,9,-999.000,9,-999.000,-999.000,9,    0.27,2, -999.00,  -0.1954
06AQ19870704,        NAO,     269,          1,         13,         13,2,19870707,       1730,    81.2717,    31.4033,        199,   149.0,  -0.1970,  34.7663,2,  34.7580,2,-999.0000,9,   329.5,2,    5.96,2,   11.73,2,    0.04,2,    0.85,2,-999.000,9,-999.000,9,  -999.0,9,-999.000,9,-999.000,-999.000,9,    0.14,2, -999.00,  -0.2022
06AQ19870704,        NAO,     269,          1,         14,         14,2,19870707,       1730,    81.2717,    31.4033,        199,   149.0,  -0.1970,  34.7663,2,  34.7570,2,-999.0000,9,  -999.0,9,    5.96,2,   11.83,2,    0.04,2,    0.84,2,-999.000,9,-999.000,9,  -999.0,9,-999.000,9,-999.000,-999.000,9, -999.00,9, -999.00,  -0.2022
06AQ19870704,        NAO,     269,          1,         11,         11,2,19870707,       1730,    81.2717,    31.4033,        199,   173.0,  -0.1750,  34.7705,2,  34.7630,2,-999.0000,9,  -999.0,9,    5.86,2,   11.83,2,    0.04,2,    0.83,2,-999.000,9,-999.000,9,  -999.0,9,-999.000,9,-999.000,-999.000,9, -999.00,9, -999.00,  -0.1811
06AQ19870704,        NAO,     269,          1,          5,          5,2,19870707,       1730,    81.2717,    31.4033,        199,   173.0,  -0.1750,  34.7705,2,  34.7640,2,-999.0000,9,  -999.0,9,    6.06,2,   11.83,2,    0.04,2,    0.85,2,-999.000,9,-999.000,9,  -999.0,9,-999.000,9,-999.000,-999.000,9, -999.00,9, -999.00,  -0.1811
06AQ19870704,        NAO,     269,          1,          4,          4,2,19870707,       1730,    81.2717,    31.4033,        199,   173.0,  -0.1750,  34.7705,2,  34.7640,2,-999.0000,9,  -999.0,9,    6.06,2,   11.83,2,    0.04,2,    0.86,2,-999.000,9,-999.000,9,  -999.0,9,-999.000,9,-999.000,-999.000,9, -999.00,9, -999.00,  -0.1811
06AQ19870704,        NAO,     269,          1,         10,         10,2,19870707,       1730,    81.2717,    31.4033,        199,   173.0,  -0.1750,  34.7705,2,  34.7630,2,-999.0000,9,   329.2,2,    6.06,2,   11.83,2,    0.05,2,    0.83,2,-999.000,9,-999.000,9,  -999.0,9,-999.000,9,-999.000,-999.000,9, -999.00,9, -999.00,  -0.1811
06AQ19870704,        NAO,     269,          1,          9,          9,2,19870707,       1730,    81.2717,    31.4033,        199,   173.0,  -0.1750,  34.7705,2,  34.7640,2,-999.0000,9,  -999.0,9,    5.96,2,   11.83,2,    0.04,2,    0.84,2,-999.000,9,-999.000,9,  -999.0,9,-999.000,9,-999.000,-999.000,9, -999.00,9, -999.00,  -0.1811
06AQ19870704,        NAO,     269,          1,          8,          8,2,19870707,       1730,    81.2717,    31.4033,        199,   173.0,  -0.1750,  34.7705,2,  34.7650,2,-999.0000,9,  -999.0,9,    5.96,2,   11.83,2,    0.04,2,    0.83,2,-999.000,9,-999.000,9,  -999.0,9,-999.000,9,-999.000,-999.000,9, -999.00,9, -999.00,  -0.1811
06AQ19870704,        NAO,     269,          1,          7,          7,2,19870707,       1730,    81.2717,    31.4033,        199,   173.0,  -0.1750,  34.7705,2,  34.7640,2,-999.0000,9,  -999.0,9,    5.96,2,   11.83,2,    0.04,2,    0.84,2,-999.000,9,-999.000,9,  -999.0,9,-999.000,9,-999.000,-999.000,9, -999.00,9, -999.00,  -0.1811
06AQ19870704,        NAO,     269,          1,         12,         12,2,19870707,       1730,    81.2717,    31.4033,        199,   173.0,  -0.1750,  34.7705,2,  34.7610,2,-999.0000,9,  -999.0,9,    5.86,2,   11.83,2,    0.04,2,    0.83,2,-999.000,9,-999.000,9,  -999.0,9,-999.000,9,-999.000,-999.000,9, -999.00,9, -999.00,  -0.1811
06AQ19870704,        NAO,     269,          1,          6,          6,2,19870707,       1730,    81.2717,    31.4033,        199,   173.0,  -0.1750,  34.7705,2,  34.7650,2,-999.0000,9,  -999.0,9,    5.96,2,   11.83,2,    0.04,2,    0.85,2,-999.000,9,-999.000,9,  -999.0,9,-999.000,9,-999.000,-999.000,9, -999.00,9, -999.00,  -0.1811
06AQ19870704,        NAO,     269,          1,          3,          3,2,19870707,       1730,    81.2717,    31.4033,        199,   173.0,  -0.1750,  34.7705,2,  34.7640,2,-999.0000,9,  -999.0,9,    6.06,2,   11.83,2,    0.04,2,    0.83,2,-999.000,9,-999.000,9,  -999.0,9,-999.000,9,-999.000,-999.000,9,    0.24,2, -999.00,  -0.1811
06AQ19870704,        NAO,     269,          1,          2,          2,2,19870707,       1730,    81.2717,    31.4033,        199,   190.0,  -0.1370,  34.7781,2,  34.7680,2,-999.0000,9,  -999.0,9,    6.06,2,   11.83,2,    0.05,2,    0.85,2,-999.000,9,-999.000,9,  -999.0,9,-999.000,9,-999.000,-999.000,9,    0.22,2, -999.00,  -0.1438
06AQ19870704,        NAO,     269,          1,          1,          1,2,19870707,       1730,    81.2717,    31.4033,        199,   190.0,  -0.1370,  34.7781,2,  34.7700,2,-999.0000,9,   328.9,2,    6.06,2,   11.83,2, -999.00,9,    0.86,2,-999.000,9,-999.000,9,  -999.0,9,-999.000,9,-999.000,-999.000,9, -999.00,9, -999.00,  -0.1438
06AQ19870704,        NAO,     274,          1,         17,         17,2,19870708,       0045,    81.4367,    31.3417,        251,     8.2,  -1.6846,  34.2322,2,  34.2160,2,-999.0000,9,   356.8,2,    3.62,2,    7.92,2,    0.09,2,    0.68,2,-999.000,9,-999.000,9,  -999.0,9,-999.000,9,-999.000,-999.000,9, -999.00,9, -999.00,  -1.6848
06AQ19870704,        NAO,     274,          1,         18,         18,2,19870708,       0045,    81.4367,    31.3417,        251,     8.2,  -1.6846,  34.2322,2,  34.2210,2,-999.0000,9,  -999.0,9,    3.72,2,    7.92,2,    0.09,2,    0.77,2,   5.871,2,   2.590,2,  -999.0,9,-999.000,9,-999.000,-999.000,9, -999.00,9, -999.00,  -1.6848
06AQ19870704,        NAO,     274,          1,         16,         16,2,19870708,       0045,    81.4367,    31.3417,        251,    20.3,  -1.6766,  34.2486,2,  34.2420,2,-999.0000,9,   356.8,2,    3.62,2,    7.92,2,    0.10,2,    0.68,2,   5.104,2,   2.640,2,  -999.0,9,-999.000,9,-999.000,-999.000,9, -999.00,9, -999.00,  -1.6770
06AQ19870704,        NAO,     274,          1,         15,         15,2,19870708,       0045,    81.4367,    31.3417,        251,    40.7,  -1.6416,  34.4373,2,  34.4200,2,-999.0000,9,   355.9,2,    3.42,2,    7.92,2,    0.11,2,    0.71,2,   5.061,2,   2.399,2,  -999.0,9,-999.000,9,-999.000,-999.000,9, -999.00,9, -999.00,  -1.6424
06AQ19870704,        NAO,     274,          1,         14,         14,2,19870708,       0045,    81.4367,    31.3417,        251,    60.5,  -1.3557,  34.6171,2,  34.6050,2,-999.0000,9,  -999.0,9,    5.08,2,   10.26,2,    0.17,2,    0.83,2,   5.295,2,   2.559,2,  -999.0,9,-999.000,9,-999.000,-999.000,9, -999.00,9, -999.00,  -1.3571
06AQ19870704,        NAO,     274,          1,         13,         13,2,19870708,       0045,    81.4367,    31.3417,        251,    60.5,  -1.3557,  34.6171,2,  34.6050,2,-999.0000,9,   340.2,2,    5.18,2,   10.17,2,    0.17,2,    0.82,2,-999.000,9,-999.000,9,  -999.0,9,-999.000,9,-999.000,-999.000,9, -999.00,9, -999.00,  -1.3571
06AQ19870704,        NAO,     274,          1,         12,         12,2,19870708,       0045,    81.4367,    31.3417,        251,    80.4,  -0.9038,  34.6925,2,  34.6800,2,-999.0000,9,   336.7,2,    5.57,2,   11.04,2,    0.18,2,    0.92,2,   5.750,2,   2.499,2,  -999.0,9,-999.000,9,-999.000,-999.000,9, -999.00,9, -999.00,  -0.9061
06AQ19870704,        NAO,     274,          1,         11,         11,2,19870708,       0045,    81.4367,    31.3417,        251,   100.0,  -0.4449,  34.7515,2,  34.7310,2,-999.0000,9,   331.5,2,    5.96,2,   11.53,2,    0.09,2,    0.87,2,   5.176,2,   2.432,2,  -999.0,9,-999.000,9,-999.000,-999.000,9, -999.00,9, -999.00,  -0.4481
06AQ19870704,        NAO,     274,          1,          9,          9,2,19870708,       0045,    81.4367,    31.3417,        251,   124.0,  -0.1010,  34.7869,2,  34.7790,2,-999.0000,9,  -999.0,9,    6.06,2,   11.73,2,    0.04,2,    0.92,2,   5.446,2,   2.399,2,  -999.0,9,-999.000,9,-999.000,-999.000,9, -999.00,9, -999.00,  -0.1054
06AQ19870704,        NAO,     274,          1,         10,         10,2,19870708,       0045,    81.4367,    31.3417,        251,   124.0,  -0.1010,  34.7869,2,  34.7750,2,-999.0000,9,   331.1,2,    5.96,2,   11.83,2,    0.03,2,    0.86,2,-999.000,9,-999.000,9,  -999.0,9,-999.000,9,-999.000,-999.000,9, -999.00,9, -999.00,  -0.1054
06AQ19870704,        NAO,     274,          1,          8,          8,2,19870708,       0045,    81.4367,    31.3417,        251,   150.0,  -0.1900,  34.7897,2,  34.7820,2,-999.0000,9,   329.3,2,    6.06,2,   11.83,2,    0.03,2,    0.87,2,   5.345,2,   2.397,2,  -999.0,9,-999.000,9,-999.000,-999.000,9, -999.00,9, -999.00,  -0.1953
06AQ19870704,        NAO,     274,          1,          7,          7,2,19870708,       0045,    81.4367,    31.3417,        251,   175.0,  -0.1200,  34.8119,2,  34.8010,2,-999.0000,9,   329.3,2,    6.06,2,   11.83,2,    0.05,2,    0.86,2,   4.939,2,   2.255,2,  -999.0,9,-999.000,9,-999.000,-999.000,9, -999.00,9, -999.00,  -0.1263
06AQ19870704,        NAO,     274,          1,          6,          6,2,19870708,       0045,    81.4367,    31.3417,        251,   200.0,  -0.0600,  34.8334,2,  34.8210,2,-999.0000,9,  -999.0,9,    5.86,2,   11.83,2,    0.07,2,    0.86,2,   5.465,2,   2.356,2,  -999.0,9,-999.000,9,-999.000,-999.000,9, -999.00,9, -999.00,  -0.0674
06AQ19870704,        NAO,     274,          1,          5,          5,2,19870708,       0045,    81.4367,    31.3417,        251,   200.0,  -0.0600,  34.8334,2,  34.8220,2,-999.0000,9,   331.0,2,    5.96,2,   11.83,2,    0.07,2,    0.89,2,-999.000,9,-999.000,9,  -999.0,9,-999.000,9,-999.000,-999.000,9, -999.00,9, -999.00,  -0.0674
06AQ19870704,        NAO,     274,          1,          4,          4,2,19870708,       0045,    81.4367,    31.3417,        251,   225.0,  -0.2509,  34.8346,2,  34.8230,2,-999.0000,9,   332.3,2,    5.86,2,   11.83,2,    0.07,2,    0.86,2,   5.588,2,   2.451,2,  -999.0,9,-999.000,9,-999.000,-999.000,9, -999.00,9, -999.00,  -0.2589
06AQ19870704,        NAO,     274,          1,          2,          2,2,19870708,       0045,    81.4367,    31.3417,        251,   242.0,  -0.2179,  34.8386,2,  34.8250,2,-999.0000,9,   331.9,2,    5.96,2,   11.73,2,    0.07,2,    0.92,2,   5.520,2,   2.443,2,  -999.0,9,-999.000,9,-999.000,-999.000,9, -999.00,9, -999.00,  -0.2266
06AQ19870704,        NAO,     274,          1,          1,          1,2,19870708,       0045,    81.4367,    31.3417,        251,   242.0,  -0.2179,  34.8386,2,-999.0000,9,-999.0000,9,  -999.0,9, -999.00,9, -999.00,9, -999.00,9, -999.00,9,-999.000,9,-999.000,9,  -999.0,9,-999.000,9,-999.000,-999.000,9, -999.00,9, -999.00,  -0.2266