BOTTLE,20140415SIOCCHRJL
EXPOCODE,SECT_ID,STNNBR,CASTNO,SAMPNO,BTLNBR,BTLNBR_FLAG_W,DATE,TIME,LATITUDE,LONGITUDE,DEPTH,CTDPRS,CTDTMP,CTDSAL,CTDSAL_FLAG_W,SALNTY,SALNTY_FLAG_W,CTDOXY,CTDOXY_FLAG_W,OXYGEN,OXYGEN_FLAG_W,SILCAT,SILCAT_FLAG_W,NITRAT,NITRAT_FLAG_W,NITRIT,NITRIT_FLAG_W,PHSPHT,PHSPHT_FLAG_W,CFC-11,CFC-11_FLAG_W,CFC-12,CFC-12_FLAG_W,TCARBN,TCARBN_FLAG_W,TRITUM,TRITUM_FLAG_W,TRITER,CCL4,CCL4_FLAG_W,DELO18,DELO18_FLAG_W,CTDRAW,THETA
,,,,,,,,,,,METERS,DBAR,ITS-90,PSS-78,,PSS-78,,UMOL/KG,,UMOL/KG,,UMOL/KG,,UMOL/KG,,UMOL/KG,,UMOL/KG,,PMOL/KG,,PMOL/KG,,UMOL/KG,,TU,,TU,PMOL/KG,,/MILLE,,DBAR,DEG C
06AQ19870704,        NAO,     287,          1,         24,         24,2,19870710,       0930,    81.6833,    30.9983,       2724,   754.0,   0.4069,  34.9408,2,  34.9390,2,-999.0000,9,   311.5,2,    7.23,2,   13.19,2,    0.03,2,    0.83,2,   2.954,2,   1.269,2,  2176.0,2,-999.000,9,-999.000,-999.000,9, -999.00,9, -999.00,   0.3723
06AQ19870704,        NAO,     287,          1,         23,         23,2,19870710,       0930,    81.6833,    30.9983,       2724,   863.0,   0.1070,  34.9293,2,  34.9310,2,-999.0000,9,   308.2,2,    8.01,2,   13.58,2,    0.00,2,    0.84,2,   2.056,2,   0.941,2,  2186.0,2,-999.000,9,-999.000,-999.000,9, -999.00,9, -999.00,   0.0687
06AQ19870704,        NAO,     287,          1,         22,         22,2,19870710,       0930,    81.6833,    30.9983,       2724,   951.0,  -0.1500,  34.9358,2,  34.9240,2,-999.0000,9,   307.0,2,    8.60,2,   13.88,2,    0.00,2,    0.86,2,   1.726,2,   0.751,2,  2184.0,2,-999.000,9,-999.000,-999.000,9, -999.00,9, -999.00,  -0.1909
06AQ19870704,        NAO,     287,          1,         21,         21,2,19870710,       0930,    81.6833,    30.9983,       2724,  1050.0,  -0.3599,  34.9314,2,  34.9200,2,-999.0000,9,   305.8,2,    9.09,2,   14.07,2,    0.00,2,    0.88,2,   1.326,2,   0.613,2,  2185.0,2,-999.000,9,-999.000,-999.000,9, -999.00,9, -999.00,  -0.4042
06AQ19870704,        NAO,     287,          1,         20,         20,2,19870710,       0930,    81.6833,    30.9983,       2724,  1151.0,  -0.4929,  34.9300,2,  34.9170,2,-999.0000,9,   305.3,2,    9.58,2,   14.27,2,    0.00,2,    0.89,2,   1.150,2,   0.537,2,  2183.0,2,-999.000,9,-999.000,-999.000,9, -999.00,9, -999.00,  -0.5412
06AQ19870704,        NAO,     287,          1,         18,         18,2,19870710,       0930,    81.6833,    30.9983,       2724,  1301.0,  -0.6039,  34.9264,2,  34.9150,2,-999.0000,9,   304.6,2,   10.07,2,   14.37,2,    0.00,2,    0.91,2,   0.909,2,   0.454,2,  2188.0,2,-999.000,9,-999.000,-999.000,9, -999.00,9, -999.00,  -0.6591
06AQ19870704,        NAO,     287,          1,         19,         19,2,19870710,       0930,    81.6833,    30.9983,       2724,  1301.0,  -0.6039,  34.9264,2,  34.9160,2,-999.0000,9,  -999.0,9,    9.97,2,   14.37,2,    0.00,2,    0.89,2,-999.000,9,-999.000,9,  -999.0,9,-999.000,9,-999.000,-999.000,9, -999.00,9, -999.00,  -0.6591
06AQ19870704,        NAO,     287,          1,         17,         17,2,19870710,       0930,    81.6833,    30.9983,       2724,  1451.0,  -0.6788,  34.9307,2,  34.9160,2,-999.0000,9,   303.8,2,   10.46,2,   14.46,2,    0.00,2,    0.93,2,-999.000,9,   0.306,2,  2182.0,2,-999.000,9,-999.000,-999.000,9, -999.00,9, -999.00,  -0.7414
06AQ19870704,        NAO,     287,          1,         16,         16,2,19870710,       0930,    81.6833,    30.9983,       2724,  1600.0,  -0.7388,  34.9368,2,  34.9160,2,-999.0000,9,   303.9,2,   10.95,2,   14.46,2,    0.00,2,    0.91,2,-999.000,9,-999.000,9,  2185.0,2,-999.000,9,-999.000,-999.000,9, -999.00,9, -999.00,  -0.8092
06AQ19870704,        NAO,     287,          1,         15,         15,2,19870710,       0930,    81.6833,    30.9983,       2724,  1700.0,  -0.7688,  34.9313,2,  34.9160,2,-999.0000,9,   303.5,2,   11.24,2,   14.56,2,    0.00,2,    0.88,2,   0.514,2,   0.294,2,  -999.0,9,-999.000,9,-999.000,-999.000,9, -999.00,9, -999.00,  -0.8447
06AQ19870704,        NAO,     287,          1,         14,         14,2,19870710,       0930,    81.6833,    30.9983,       2724,  1801.0,  -0.7768,  34.9301,2,  34.9170,2,-999.0000,9,   303.1,2,   11.34,2,   14.46,2,    0.00,2,    0.89,2,   0.524,2,   0.266,2,  2186.0,2,-999.000,9,-999.000,-999.000,9, -999.00,9, -999.00,  -0.8587
06AQ19870704,        NAO,     287,          1,         13,         13,2,19870710,       0930,    81.6833,    30.9983,       2724,  1901.0,  -0.7778,  34.9325,2,  34.9190,2,-999.0000,9,   303.2,2,   11.43,2,   14.56,2,    0.00,2,    0.90,2,   0.429,2,   0.271,2,  2188.0,2,-999.000,9,-999.000,-999.000,9, -999.00,9, -999.00,  -0.8659
06AQ19870704,        NAO,     287,          1,         12,         12,2,19870710,       0930,    81.6833,    30.9983,       2724,  2001.0,  -0.7798,  34.9325,2,  34.9190,2,-999.0000,9,   303.0,2,   11.43,2,   14.46,2,    0.00,2,    0.91,2,   0.404,2,   0.249,2,  2185.0,2,-999.000,9,-999.000,-999.000,9, -999.00,9, -999.00,  -0.8742
06AQ19870704,        NAO,     287,          1,         11,         11,2,19870710,       0930,    81.6833,    30.9983,       2724,  2122.0,  -0.7838,  34.9319,2,  34.9210,2,-999.0000,9,   302.9,2,   11.63,2,   14.56,2,    0.00,2,    0.91,2,-999.000,9,   0.208,2,  2188.0,2,-999.000,9,-999.000,-999.000,9,    0.25,2, -999.00,  -0.8861
06AQ19870704,        NAO,     287,          1,         10,         10,2,19870710,       0930,    81.6833,    30.9983,       2724,  2122.0,  -0.7838,  34.9319,2,  34.9210,2,-999.0000,9,  -999.0,9,   11.63,2,   14.46,2,    0.00,2,    0.91,2,-999.000,9,-999.000,9,  -999.0,9,-999.000,9,-999.000,-999.000,9, -999.00,9, -999.00,  -0.8861
06AQ19870704,        NAO,     287,          1,          9,          9,2,19870710,       0930,    81.6833,    30.9983,       2724,  2240.0,  -0.7938,  34.9389,2,  34.9230,2,-999.0000,9,   302.5,2,   11.43,2,   14.46,2,    0.00,2,    0.92,2,   0.304,2,   0.176,2,  2188.0,2,-999.000,9,-999.000,-999.000,9, -999.00,9, -999.00,  -0.9039
06AQ19870704,        NAO,     287,          1,          7,          7,2,19870710,       0930,    81.6833,    30.9983,       2724,  2371.0,  -0.7968,  34.9397,2,  34.9260,2,-999.0000,9,   302.6,2,   11.14,2,   14.56,2,    0.00,2,    0.93,2,   0.227,2,   0.141,2,  2186.0,2,-999.000,9,-999.000,-999.000,9,    0.28,2, -999.00,  -0.9159
06AQ19870704,        NAO,     287,          1,          8,          8,2,19870710,       0930,    81.6833,    30.9983,       2724,  2371.0,  -0.7968,  34.9397,2,  34.9260,2,-999.0000,9,  -999.0,9,   11.53,2, -999.00,9,    0.00,2,    0.94,2,-999.000,9,-999.000,9,  -999.0,9,-999.000,9,-999.000,-999.000,9, -999.00,9, -999.00,  -0.9159
06AQ19870704,        NAO,     287,          1,          5,          5,2,19870710,       0930,    81.6833,    30.9983,       2724,  2486.0,  -0.7948,  34.9412,2,  34.9260,2,-999.0000,9,   302.2,2,   11.34,2,   14.46,2,    0.00,2,    0.93,2,-999.000,9,-999.000,9,  -999.0,9,-999.000,9,-999.000,-999.000,9, -999.00,9, -999.00,  -0.9222
06AQ19870704,        NAO,     287,          1,          6,          6,2,19870710,       0930,    81.6833,    30.9983,       2724,  2486.0,  -0.7948,  34.9412,2,  34.9280,2,-999.0000,9,  -999.0,9,   11.34,2,   14.46,2,    0.00,2,    0.92,2,   0.229,2,   0.118,2,  2187.0,2,-999.000,9,-999.000,-999.000,9, -999.00,9, -999.00,  -0.9222
06AQ19870704,        NAO,     287,          1,          4,          4,2,19870710,       0930,    81.6833,    30.9983,       2724,  2578.0,  -0.7928,  34.9444,2,  34.9280,2,-999.0000,9,  -999.0,9,   11.14,2,   14.56,2,    0.00,2,    0.94,2,-999.000,9,-999.000,9,  -999.0,9,-999.000,9,-999.000,-999.000,9, -999.00,9, -999.00,  -0.9270
06AQ19870704,        NAO,     287,          1,          3,          3,2,19870710,       0930,    81.6833,    30.9983,       2724,  2578.0,  -0.7928,  34.9444,2,  34.9280,2,-999.0000,9,   301.9,2,   11.24,2,   14.46,2,    0.00,2,    0.93,2,   0.235,2,   0.130,2,  2187.0,2,-999.000,9,-999.000,-999.000,9,    0.26,2, -999.00,  -0.9270
06AQ19870704,        NAO,     287,          1,          1,          1,2,19870710,       0930,    81.6833,    30.9983,       2724,  2621.0,  -0.7908,  34.9386,2,  34.9300,2,-999.0000,9,   301.9,2,   11.82,2,   14.46,2,    0.04,2,    1.11,2,   0.186,2,   0.098,2,  2190.0,2,-999.000,9,-999.000,-999.000,9, -999.00,9, -999.00,  -0.9282
06AQ19870704,        NAO,     287,          1,          2,          2,2,19870710,       0930,    81.6833,    30.9983,       2724,  2621.0,  -0.7908,  34.9386,2,  34.9280,2,-999.0000,9,  -999.0,9,   11.73,2,   14.46,2,    0.04,2,    1.13,2,-999.000,9,-999.000,9,  -999.0,9,-999.000,9,-999.000,-999.000,9, -999.00,9, -999.00,  -0.9282
06AQ19870704,        NAO,     296,          1,         24,         24,2,19870712,       1400,    81.8200,    31.5850,       3014,     9.9,  -1.7206,  34.1834,2,  34.1630,2,-999.0000,9,   348.8,2,    3.91,2,    9.29,2,    0.05,2,    0.59,2,-999.000,9,-999.000,9,  2112.0,2,-999.000,9,-999.000,-999.000,9, -999.00,9, -999.00,  -1.7208
06AQ19870704,        NAO,     296,          1,         23,         23,2,19870712,       1400,    81.8200,    31.5850,       3014,    30.7,  -1.6856,  34.2328,2,  34.2250,2,-999.0000,9,   345.6,2,    4.30,2,    9.58,2,    0.05,2,    0.62,2,   5.410,2,   2.306,2,  2114.0,2,-999.000,9,-999.000,   6.620,2, -999.00,9, -999.00,  -1.6862
06AQ19870704,        NAO,     296,          1,         22,         22,2,19870712,       1400,    81.8200,    31.5850,       3014,    40.0,  -1.5976,  34.3423,2,  34.3340,2,-999.0000,9,   341.9,2,    4.30,2,    9.87,2,    0.05,2,    0.61,2,   5.259,2,   2.292,2,  2126.0,2,-999.000,9,-999.000,   7.750,2, -999.00,9, -999.00,  -1.5984
06AQ19870704,        NAO,     296,          1,         21,         21,2,19870712,       1400,    81.8200,    31.5850,       3014,    50.4,  -1.4417,  34.4646,2,  34.4710,2,-999.0000,9,   337.5,2,    4.30,2,   10.26,2,    0.07,2,    0.65,2,-999.000,9,-999.000,9,  2128.0,2,-999.000,9,-999.000,-999.000,9, -999.00,9, -999.00,  -1.4429
06AQ19870704,        NAO,     296,          1,         20,         20,2,19870712,       1400,    81.8200,    31.5850,       3014,    60.0,  -0.6938,  34.5661,2,  34.5430,2,-999.0000,9,   336.4,2,    4.30,2,   10.36,2,    0.09,2,    0.65,2,   5.174,2,   2.246,2,  2138.0,2,-999.000,9,-999.000,   4.710,2, -999.00,9, -999.00,  -0.6956
06AQ19870704,        NAO,     296,          1,         19,         19,2,19870712,       1400,    81.8200,    31.5850,       3014,    70.5,  -0.3379,  34.6409,2,  34.6170,2,-999.0000,9,   333.9,2,    4.30,2,   10.46,2,    0.10,2,    0.65,2,-999.000,9,-999.000,9,  2140.0,2,-999.000,9,-999.000,-999.000,9, -999.00,9, -999.00,  -0.3402
06AQ19870704,        NAO,     296,          1,         18,         18,2,19870712,       1400,    81.8200,    31.5850,       3014,    79.8,   0.1240,  34.6397,2,  34.6760,2,-999.0000,9,   333.6,2,    4.40,2,   10.46,2,    0.12,2,    0.67,2,   5.080,2,   2.216,2,  2148.0,2,-999.000,9,-999.000,-999.000,9, -999.00,9, -999.00,   0.1210
06AQ19870704,        NAO,     296,          1,         17,         17,2,19870712,       1400,    81.8200,    31.5850,       3014,    90.0,   0.4999,  34.7177,2,  34.7290,2,-999.0000,9,   328.9,2,    4.40,2,   10.85,2,    0.13,2,    0.69,2,-999.000,9,-999.000,9,  2157.0,2,-999.000,9,-999.000,-999.000,9, -999.00,9, -999.00,   0.4963
06AQ19870704,        NAO,     296,          1,         16,         16,2,19870712,       1400,    81.8200,    31.5850,       3014,   100.0,   0.6588,  34.7537,2,  34.7750,2,-999.0000,9,   326.1,2,    4.50,2,   11.14,2,    0.17,2,    0.69,2,   4.783,2,   2.067,2,  2156.0,2,-999.000,9,-999.000,   7.270,2, -999.00,9, -999.00,   0.6546
06AQ19870704,        NAO,     296,          1,         15,         15,2,19870712,       1400,    81.8200,    31.5850,       3014,   119.0,   1.0927,  34.8097,2,  34.8250,2,-999.0000,9,   322.1,2,    4.69,2,   11.53,2,    0.20,2,    0.71,2,   4.662,2,   1.940,2,  2157.0,2,-999.000,9,-999.000,   4.710,2, -999.00,9, -999.00,   1.0873
06AQ19870704,        NAO,     296,          1,         14,         14,2,19870712,       1400,    81.8200,    31.5850,       3014,   140.0,   1.1397,  34.8477,2,  34.8480,2,-999.0000,9,   322.8,2,    4.79,2,   11.63,2,    0.17,2,    0.71,2,   4.621,2,   2.002,2,  2163.0,2,-999.000,9,-999.000,   6.780,2, -999.00,9, -999.00,   1.1332
06AQ19870704,        NAO,     296,          1,         13,         13,2,19870712,       1400,    81.8200,    31.5850,       3014,   171.0,   1.3417,  34.8864,2,  34.8890,2,-999.0000,9,   321.1,2,    4.98,2,   11.92,2,    0.03,2,    0.72,2,   4.635,2,   1.984,2,  2166.0,2,-999.000,9,-999.000,   5.570,2, -999.00,9, -999.00,   1.3334
06AQ19870704,        NAO,     296,          1,         12,         12,2,19870712,       1400,    81.8200,    31.5850,       3014,   201.0,   1.4577,  34.9083,2,  34.9080,2,-999.0000,9,   319.5,2,    5.18,2,   12.12,2,    0.01,2,    0.75,2,   4.418,2,   1.992,2,  2172.0,2,-999.000,9,-999.000,   6.170,2, -999.00,9, -999.00,   1.4477
06AQ19870704,        NAO,     296,          1,         11,         11,2,19870712,       1400,    81.8200,    31.5850,       3014,   230.0,   1.5456,  34.9260,2,  34.9260,2,-999.0000,9,   318.5,2,    5.18,2,   12.12,2,    0.00,2,    0.73,2,-999.000,9,-999.000,9,  2173.0,2,-999.000,9,-999.000,-999.000,9, -999.00,9, -999.00,   1.5339
06AQ19870704,        NAO,     296,          1,         10,         10,2,19870712,       1400,    81.8200,    31.5850,       3014,   260.0,   1.5626,  34.9392,2,  34.9360,2,-999.0000,9,   318.7,2,    5.37,2,   12.22,2,    0.00,2,    0.73,2,   4.458,2,   1.926,2,  2173.0,2,-999.000,9,-999.000,   5.320,2, -999.00,9, -999.00,   1.5493
06AQ19870704,        NAO,     296,          1,          9,          9,2,19870712,       1400,    81.8200,    31.5850,       3014,   301.0,   1.5756,  34.9492,2,  34.9480,2,-999.0000,9,   316.9,2,    5.47,2,   12.31,2,    0.00,2,    0.74,2,-999.000,9,-999.000,9,  2178.0,2,-999.000,9,-999.000,-999.000,9, -999.00,9, -999.00,   1.5601
06AQ19870704,        NAO,     296,          1,          8,          8,2,19870712,       1400,    81.8200,    31.5850,       3014,   341.0,   1.5016,  34.9612,2,  34.9530,2,-999.0000,9,   316.9,2,    5.57,2,   12.31,2,    0.00,2,    0.74,2,   4.141,2,   1.782,2,  2176.0,2,-999.000,9,-999.000,   6.110,2, -999.00,9, -999.00,   1.4841
06AQ19870704,        NAO,     296,          1,          7,          7,2,19870712,       1400,    81.8200,    31.5850,       3014,   380.0,   1.4367,  34.9574,2,  34.9540,2,-999.0000,9,   317.0,2,    5.57,2,   12.41,2,    0.00,2,    0.76,2,-999.000,9,-999.000,9,  2177.0,2,-999.000,9,-999.000,-999.000,9, -999.00,9, -999.00,   1.4173
06AQ19870704,        NAO,     296,          1,          6,          6,2,19870712,       1400,    81.8200,    31.5850,       3014,   430.0,   1.5326,  34.9759,2,  34.9700,2,-999.0000,9,   320.1,2,    5.37,2,   12.31,2,    0.04,2,    0.74,2,   4.504,2,   1.972,2,  2178.0,2,-999.000,9,-999.000,   7.430,2, -999.00,9, -999.00,   1.5101
06AQ19870704,        NAO,     296,          1,          5,          5,2,19870712,       1400,    81.8200,    31.5850,       3014,   479.0,   1.3717,  34.9701,2,  34.9640,2,-999.0000,9,   320.3,2,    5.57,2,   12.41,2,    0.04,2,    0.75,2,-999.000,9,-999.000,9,  2178.0,2,-999.000,9,-999.000,-999.000,9, -999.00,9, -999.00,   1.3471
06AQ19870704,        NAO,     296,          1,          4,          4,2,19870712,       1400,    81.8200,    31.5850,       3014,   530.0,   1.2267,  34.9643,2,  34.9600,2,-999.0000,9,   321.6,2,    5.57,2,   12.22,2,    0.04,2,    0.75,2,   4.663,2,   2.018,2,  2178.0,2,-999.000,9,-999.000,  11.620,2, -999.00,9, -999.00,   1.1998
06AQ19870704,        NAO,     296,          1,          3,          3,2,19870712,       1400,    81.8200,    31.5850,       3014,   580.0,   1.0338,  34.9559,2,  34.9530,2,-999.0000,9,   322.1,2,    5.57,2,   12.31,2,    0.07,2,    0.75,2,-999.000,9,-999.000,9,  2171.0,2,-999.000,9,-999.000,-999.000,9, -999.00,9, -999.00,   1.0051
06AQ19870704,        NAO,     296,          1,          2,          2,2,19870712,       1400,    81.8200,    31.5850,       3014,   630.0,   0.8808,  34.9487,2,  34.9450,2,-999.0000,9,   320.8,2,    5.96,2,   12.31,2,    0.09,2,    0.75,2,   4.160,2,   1.825,2,  2178.0,2,-999.000,9,-999.000,  12.190,2, -999.00,9, -999.00,   0.8501
06AQ19870704,        NAO,     296,          1,          1,          1,2,19870712,       1400,    81.8200,    31.5850,       3014,   702.0,   0.7338,  34.9479,2,  34.9440,2,-999.0000,9,   316.5,2,    6.35,2,   12.70,2,    0.05,2,    0.78,2,   3.735,2,   1.641,2,  2179.0,2,-999.000,9,-999.000,   8.230,2, -999.00,9, -999.00,   0.7000