BOTTLE,20140415SIOCCHRJL
EXPOCODE,SECT_ID,STNNBR,CASTNO,SAMPNO,BTLNBR,BTLNBR_FLAG_W,DATE,TIME,LATITUDE,LONGITUDE,DEPTH,CTDPRS,CTDTMP,CTDSAL,CTDSAL_FLAG_W,SALNTY,SALNTY_FLAG_W,CTDOXY,CTDOXY_FLAG_W,OXYGEN,OXYGEN_FLAG_W,SILCAT,SILCAT_FLAG_W,NITRAT,NITRAT_FLAG_W,NITRIT,NITRIT_FLAG_W,PHSPHT,PHSPHT_FLAG_W,CFC-11,CFC-11_FLAG_W,CFC-12,CFC-12_FLAG_W,TCARBN,TCARBN_FLAG_W,TRITUM,TRITUM_FLAG_W,TRITER,CCL4,CCL4_FLAG_W,DELO18,DELO18_FLAG_W,CTDRAW,THETA
,,,,,,,,,,,METERS,DBAR,ITS-90,PSS-78,,PSS-78,,UMOL/KG,,UMOL/KG,,UMOL/KG,,UMOL/KG,,UMOL/KG,,UMOL/KG,,PMOL/KG,,PMOL/KG,,UMOL/KG,,TU,,TU,PMOL/KG,,/MILLE,,DBAR,DEG C
06AQ19870704,        NAO,     362,          1,         24,         24,2,19870726,       0400,    85.0833,    29.3300,       4037,    20.3,  -1.8136,  33.8719,2,  33.9000,2,-999.0000,9,   371.7,2,    3.03,2,    4.21,2,    0.03,2,    0.39,2,   5.039,2,   2.070,2,  2132.0,2,   7.560,2,   0.000,   9.007,2,   -0.75,2, -999.00,  -1.8140
06AQ19870704,        NAO,     362,          1,         23,         23,2,19870726,       0400,    85.0833,    29.3300,       4037,    40.1,  -1.8456,  34.1140,2,  34.1030,2,-999.0000,9,   362.1,2,    3.32,2,    5.28,2,    0.02,2,    0.43,2,-999.000,9,-999.000,9,  2139.0,2,-999.000,9,-999.000,-999.000,9,   -0.63,2, -999.00,  -1.8463
06AQ19870704,        NAO,     362,          1,         22,         22,2,19870726,       0400,    85.0833,    29.3300,       4037,    60.4,  -1.8486,  34.1702,2,  34.1600,2,-999.0000,9,   357.3,2,    3.52,2,    5.87,2,    0.01,2,    0.46,2,   4.314,2,   1.834,2,  2143.0,2,   7.430,2,   0.000,  13.437,2,   -0.59,2, -999.00,  -1.8497
06AQ19870704,        NAO,     362,          1,         21,         21,2,19870726,       0400,    85.0833,    29.3300,       4037,    75.1,  -1.8526,  34.1821,2,  34.1770,2,-999.0000,9,   356.8,2,    3.52,2,    5.96,2,    0.01,2,    0.47,2,-999.000,9,   1.840,2,  2142.0,2,   7.660,2,   0.000,-999.000,9,   -0.56,2, -999.00,  -1.8540
06AQ19870704,        NAO,     362,          1,         20,         20,2,19870726,       0400,    85.0833,    29.3300,       4037,    90.0,  -1.8316,  34.2084,2,  34.1940,2,-999.0000,9,   353.8,2,    3.62,2,    6.26,2,    0.01,2,    0.48,2,   4.174,2,   1.780,2,  2139.0,2,-999.000,9,-999.000,   7.585,2,   -0.52,2, -999.00,  -1.8333
06AQ19870704,        NAO,     362,          1,         19,         19,2,19870726,       0400,    85.0833,    29.3300,       4037,   105.0,  -1.8086,  34.2156,2,  34.2060,2,-999.0000,9,   351.6,2,    3.52,2,    6.45,2,    0.01,2,    0.49,2,   3.938,2,   1.714,2,  2145.0,2,-999.000,9,-999.000,   6.923,2,   -0.46,2, -999.00,  -1.8107
06AQ19870704,        NAO,     362,          1,         18,         18,2,19870726,       0400,    85.0833,    29.3300,       4037,   120.0,  -1.6076,  34.2458,2,  34.2420,2,-999.0000,9,   342.9,2,    3.81,2,    7.14,2,    0.00,2,    0.54,2,-999.000,9,-999.000,9,  2145.0,2,-999.000,9,-999.000,-999.000,9, -999.00,9, -999.00,  -1.6102
06AQ19870704,        NAO,     362,          1,         17,         17,2,19870726,       0400,    85.0833,    29.3300,       4037,   134.0,  -1.3517,  34.3230,2,  34.3040,2,-999.0000,9,   325.1,2,    4.69,2,    8.70,2,    0.00,2,    0.62,2,   3.234,2,   1.444,2,  2151.0,2,-999.000,9,-999.000,   8.218,2,   -0.03,2, -999.00,  -1.3549
06AQ19870704,        NAO,     362,          2,         23,         23,2,19870726,       1210,    85.0833,    29.3300,       4037,   149.0,  -1.1137,  34.3511,2,  34.3430,2,-999.0000,9,  -999.0,9,    4.69,2,    9.09,2,    0.00,2,    0.66,2,   2.974,2,   1.305,2,  -999.0,9,-999.000,9,-999.000,   8.442,2,    0.02,2, -999.00,  -1.1176
06AQ19870704,        NAO,     362,          1,         16,         16,2,19870726,       0400,    85.0833,    29.3300,       4037,   150.0,  -0.9858,  34.3694,2,  34.3740,2,-999.0000,9,   318.5,2,    5.08,2,    9.48,2,    0.00,2,    0.66,2,   2.472,2,   1.135,2,  2153.0,2,-999.000,9,-999.000,   6.884,2, -999.00,9, -999.00,  -0.9899
06AQ19870704,        NAO,     362,          1,         15,         15,2,19870726,       0400,    85.0833,    29.3300,       4037,   164.0,  -0.5169,  34.4456,2,  34.4530,2,-999.0000,9,   312.4,2,    5.47,2,   10.07,2,    0.00,2,    0.69,2,-999.000,9,-999.000,9,  2160.0,2,-999.000,9,-999.000,-999.000,9,   -0.03,2, -999.00,  -0.5221
06AQ19870704,        NAO,     362,          1,         14,         14,2,19870726,       0400,    85.0833,    29.3300,       4037,   179.0,   0.0450,  34.5401,2,  34.5630,2,-999.0000,9,   309.0,2,    5.57,2,   10.65,2,    0.00,2,    0.72,2,-999.000,9,-999.000,9,  2160.0,2,-999.000,9,-999.000,-999.000,9, -999.00,9, -999.00,   0.0384
06AQ19870704,        NAO,     362,          1,         13,         13,2,19870726,       0400,    85.0833,    29.3300,       4037,   199.0,   0.8498,  34.6602,2,  34.7170,2,-999.0000,9,   305.9,2,    5.67,2,   11.44,2,    0.00,2,    0.75,2,   2.759,2,   1.161,2,  2164.0,2,-999.000,9,-999.000,   7.274,2,    0.18,2, -999.00,   0.8410
06AQ19870704,        NAO,     362,          1,         12,         12,2,19870726,       0400,    85.0833,    29.3300,       4037,   220.0,   1.5036,  34.8016,2,  34.7920,2,-999.0000,9,   304.6,2,    5.57,2,   11.83,2,    0.00,2,    0.77,2,   3.074,2,   1.318,2,  2164.0,2,-999.000,9,-999.000,   9.299,2,    0.23,2, -999.00,   1.4926
06AQ19870704,        NAO,     362,          1,         11,         11,2,19870726,       0400,    85.0833,    29.3300,       4037,   250.0,   1.8326,  34.8829,2,  34.8700,2,-999.0000,9,   305.4,2,    5.67,2,   12.22,2,    0.00,2,    0.79,2,   3.304,2,   1.421,2,  2167.0,2,-999.000,9,-999.000,-999.000,9,    0.29,2, -999.00,   1.8193
06AQ19870704,        NAO,     362,          1,         10,         10,2,19870726,       0400,    85.0833,    29.3300,       4037,   300.0,   1.7316,  34.9101,2,  34.8990,2,-999.0000,9,   305.9,2,    5.86,2,   12.41,2,    0.00,2,    0.79,2,   2.694,2,   1.194,2,  2171.0,2,-999.000,9,-999.000,   8.160,2,    0.29,2, -999.00,   1.7158
06AQ19870704,        NAO,     362,          1,          9,          9,2,19870726,       0400,    85.0833,    29.3300,       4037,   349.0,   1.7216,  34.9359,2,  34.9350,2,-999.0000,9,   307.2,2,    5.96,2,   12.61,2,    0.00,2,    0.82,2,   2.795,2,   1.174,2,  2173.0,2,-999.000,9,-999.000,   5.988,2, -999.00,9, -999.00,   1.7031
06AQ19870704,        NAO,     362,          1,          8,          8,2,19870726,       0400,    85.0833,    29.3300,       4037,   400.0,   1.2987,  34.9131,2,  34.9110,2,-999.0000,9,   304.1,2,    6.16,2,   12.51,2,    0.00,2,    0.82,2,   2.344,2,   0.922,2,  2174.0,2,-999.000,9,-999.000,   5.745,2,    0.28,2, -999.00,   1.2787
06AQ19870704,        NAO,     362,          1,          7,          7,2,19870726,       0400,    85.0833,    29.3300,       4037,   500.0,   0.9348,  34.9171,2,  34.9120,2,-999.0000,9,   301.9,2,    6.25,2,   12.61,2,    0.00,2,    0.82,2,   1.253,2,   0.531,2,  2181.0,2,-999.000,9,-999.000,   5.716,2,    0.26,2, -999.00,   0.9108
06AQ19870704,        NAO,     362,          1,          6,          6,2,19870726,       0400,    85.0833,    29.3300,       4037,   625.0,   0.6199,  34.9206,2,  34.9170,2,-999.0000,9,   303.7,2,    6.55,2,   12.70,2,    0.00,2,    0.84,2,   0.881,2,   0.413,2,  2187.0,2,-999.000,9,-999.000,-999.000,9, -999.00,9, -999.00,   0.5909
06AQ19870704,        NAO,     362,          1,          5,          5,2,19870726,       0400,    85.0833,    29.3300,       4037,   750.0,   0.2489,  34.9184,2,  34.9130,2,-999.0000,9,   304.5,2,    6.74,2,   12.80,2,    0.00,2,    0.85,2,   0.691,2,   0.296,2,  2188.0,2,-999.000,9,-999.000,-999.000,9, -999.00,9, -999.00,   0.2155
06AQ19870704,        NAO,     362,          1,          4,          4,2,19870726,       0400,    85.0833,    29.3300,       4037,   849.0,   0.0400,  34.9144,2,  34.9120,2,-999.0000,9,   305.8,2,    6.94,2,   12.80,2,    0.00,2,    0.87,2,-999.000,9,   0.284,2,  2182.0,2,-999.000,9,-999.000,-999.000,9, -999.00,9, -999.00,   0.0029
06AQ19870704,        NAO,     362,          1,          3,          3,2,19870726,       0400,    85.0833,    29.3300,       4037,   949.0,  -0.1440,  34.9302,2,  34.9150,2,-999.0000,9,   305.8,2,    7.33,2,   12.90,2,    0.00,2,    0.87,2,   0.522,2,   0.254,2,  2187.0,2,-999.000,9,-999.000,   4.985,2, -999.00,9, -999.00,  -0.1848
06AQ19870704,        NAO,     362,          1,          2,          2,2,19870726,       0400,    85.0833,    29.3300,       4037,  1100.0,  -0.3269,  34.9262,2,  34.9160,2,-999.0000,9,   305.8,2,    7.82,2,   13.10,2,    0.00,2,    0.88,2,   0.635,2,   0.341,2,  2187.0,2,-999.000,9,-999.000,   4.362,2, -999.00,9, -999.00,  -0.3741
06AQ19870704,        NAO,     362,          1,          1,          1,2,19870726,       0400,    85.0833,    29.3300,       4037,  1251.0,  -0.4369,  34.9342,2,  34.9190,2,-999.0000,9,   305.4,2,    8.40,2,   13.39,2,    0.00,2,    0.91,2,   0.653,2,-999.000,9,  2194.0,2,-999.000,9,-999.000,   4.557,2, -999.00,9, -999.00,  -0.4911
06AQ19870704,        NAO,     362,          2,         22,         22,2,19870726,       1210,    85.0833,    29.3300,       4037,  1400.0,  -0.5319,  34.9337,2,  34.9210,2,-999.0000,9,   304.5,2,    9.19,2,   13.68,2,    0.00,2,    0.91,2,   0.409,2,   0.227,2,  2184.0,2,-999.000,9,-999.000,   3.340,2, -999.00,9, -999.00,  -0.5933
06AQ19870704,        NAO,     362,          2,         21,         21,2,19870726,       1210,    85.0833,    29.3300,       4037,  1599.0,  -0.6139,  34.9407,2,  34.9250,2,-999.0000,9,   304.1,2,   10.16,2,   13.88,2,    0.00,2,    0.93,2,   0.373,2,   0.205,2,  2193.0,2,-999.000,9,-999.000,   2.308,2, -999.00,9, -999.00,  -0.6858
06AQ19870704,        NAO,     362,          2,         20,         20,2,19870726,       1210,    85.0833,    29.3300,       4037,  1799.0,  -0.6888,  34.9393,2,  34.9230,2,-999.0000,9,   304.1,2,   10.36,2,   14.07,2,    0.00,2,    0.94,2,   0.355,2,   0.229,2,  2194.0,2,-999.000,9,-999.000,   2.463,2, -999.00,9, -999.00,  -0.7718
06AQ19870704,        NAO,     362,          2,         19,         19,2,19870726,       1210,    85.0833,    29.3300,       4037,  1950.0,  -0.7458,  34.9376,2,  34.9220,2,-999.0000,9,   302.8,2,   10.95,2,   14.56,2,    0.00,2,    0.96,2,   0.108,2,   0.065,2,  2192.0,2,-999.000,9,-999.000,   1.753,2, -999.00,9, -999.00,  -0.8375
06AQ19870704,        NAO,     362,          2,         18,         18,2,19870726,       1210,    85.0833,    29.3300,       4037,  2100.0,  -0.7718,  34.9407,2,  34.9240,2,-999.0000,9,   303.2,2,   11.04,2,   14.56,2,    0.00,2,    0.97,2,   0.113,2,   0.092,2,  2189.0,2,-999.000,9,-999.000,-999.000,9, -999.00,9, -999.00,  -0.8728
06AQ19870704,        NAO,     362,          2,         17,         17,2,19870726,       1210,    85.0833,    29.3300,       4037,  2250.0,  -0.7878,  34.9401,2,  34.9260,2,-999.0000,9,   303.6,2,   11.04,2,   14.46,2,    0.00,2,    0.98,2,   0.105,2,   0.067,2,  2188.0,2,-999.000,9,-999.000,   1.110,2, -999.00,9, -999.00,  -0.8987
06AQ19870704,        NAO,     362,          2,         16,         16,2,19870726,       1210,    85.0833,    29.3300,       4037,  2400.0,  -0.7958,  34.9433,2,  34.9270,2,-999.0000,9,   303.2,2,   11.04,2,   14.37,2,    0.00,2,    0.98,2,   0.112,2,   0.066,2,  2182.0,2,-999.000,9,-999.000,-999.000,9, -999.00,9, -999.00,  -0.9170
06AQ19870704,        NAO,     362,          2,         15,         15,2,19870726,       1210,    85.0833,    29.3300,       4037,  2600.0,  -0.8018,  34.9472,2,  34.9300,2,-999.0000,9,   302.8,2,   11.24,2,   14.46,2,    0.00,2,    0.98,2,   0.078,2,-999.000,9,  2188.0,2,-999.000,9,-999.000,-999.000,9, -999.00,9, -999.00,  -0.9374
06AQ19870704,        NAO,     362,          2,         14,         14,2,19870726,       1210,    85.0833,    29.3300,       4037,  2800.0,  -0.7988,  34.9464,2,  34.9320,2,-999.0000,9,   302.3,2,   11.34,2,   14.46,2,    0.00,2,    0.99,2,   0.047,2,   0.052,2,  2186.0,2,-999.000,9,-999.000,-999.000,9, -999.00,9, -999.00,  -0.9497
06AQ19870704,        NAO,     362,          2,         13,         13,2,19870726,       1210,    85.0833,    29.3300,       4037,  3000.0,  -0.7868,  34.9516,2,  34.9340,2,-999.0000,9,   301.9,2,   11.53,2,   14.46,2,    0.00,2,    0.99,2,   0.028,2,   0.011,2,  2193.0,2,-999.000,9,-999.000,   1.188,2, -999.00,9, -999.00,  -0.9538
06AQ19870704,        NAO,     362,          2,         12,         12,2,19870726,       1210,    85.0833,    29.3300,       4037,  3200.0,  -0.7708,  34.9538,2,  34.9370,2,-999.0000,9,   301.0,2,   11.63,2,   14.56,2,    0.00,2,    0.98,2,   0.020,2,   0.030,2,  2189.0,2,-999.000,9,-999.000,   0.672,2, -999.00,9, -999.00,  -0.9546
06AQ19870704,        NAO,     362,          2,         11,         11,2,19870726,       1210,    85.0833,    29.3300,       4037,  3349.0,  -0.7568,  34.9579,2,  34.9390,2,-999.0000,9,   300.6,2,   11.73,2,   14.66,2,    0.00,2,    0.98,2,-999.000,9,   0.005,2,  2188.0,2,-999.000,9,-999.000,   0.477,2, -999.00,9, -999.00,  -0.9536
06AQ19870704,        NAO,     362,          2,         10,         10,2,19870726,       1210,    85.0833,    29.3300,       4037,  3499.0,  -0.7378,  34.9608,2,  34.9410,2,-999.0000,9,   299.7,2,   11.73,2,   14.66,2,    0.00,2,    0.99,2,   0.017,2,   0.000,2,  2192.0,2,-999.000,9,-999.000,   0.789,2, -999.00,9, -999.00,  -0.9482
06AQ19870704,        NAO,     362,          2,          9,          9,2,19870726,       1210,    85.0833,    29.3300,       4037,  3650.0,  -0.7228,  34.9593,2,  34.9410,2,-999.0000,9,  -999.0,9,   11.73,2,   14.66,2,    0.00,2,    0.98,2,   0.012,2,  -0.016,2,  2190.0,2,-999.000,9,-999.000,   1.061,2, -999.00,9, -999.00,  -0.9472
06AQ19870704,        NAO,     362,          2,          8,          8,2,19870726,       1210,    85.0833,    29.3300,       4037,  3650.0,  -0.7238,  34.9604,2,  34.9410,2,-999.0000,9,   300.2,2,   11.73,2,   14.66,2,    0.00,2,    0.98,2,-999.000,9,-999.000,9,  -999.0,9,-999.000,9,-999.000,-999.000,9, -999.00,9, -999.00,  -0.9481
06AQ19870704,        NAO,     362,          2,          7,          7,2,19870726,       1210,    85.0833,    29.3300,       4037,  3800.0,  -0.7078,  34.9578,2,  34.9410,2,-999.0000,9,   299.7,2,   11.82,2,   14.66,2,    0.00,2,    0.98,2,   0.014,2,   0.000,2,  2191.0,2,-999.000,9,-999.000,   0.682,2, -999.00,9, -999.00,  -0.9464
06AQ19870704,        NAO,     362,          2,          6,          6,2,19870726,       1210,    85.0833,    29.3300,       4037,  3910.0,  -0.6978,  34.9601,2,  34.9420,2,-999.0000,9,   299.3,2,   11.63,2,   14.66,2,    0.00,2,    0.98,2,  -0.009,2,  -0.013,2,  2191.0,2,-999.000,9,-999.000,   0.964,2, -999.00,9, -999.00,  -0.9470
06AQ19870704,        NAO,     362,          2,          5,          5,2,19870726,       1210,    85.0833,    29.3300,       4037,  3910.0,  -0.6978,  34.9588,2,  34.9420,2,-999.0000,9,  -999.0,9,   11.63,2,   14.66,2,    0.00,2,    0.98,2,-999.000,9,-999.000,9,  -999.0,9,-999.000,9,-999.000,-999.000,9, -999.00,9, -999.00,  -0.9470
06AQ19870704,        NAO,     362,          2,          4,          4,2,19870726,       1210,    85.0833,    29.3300,       4037,  4010.0,  -0.6878,  34.9608,2,  34.9420,2,-999.0000,9,  -999.0,9,   11.73,2,   14.66,2,    0.00,2,    1.02,2,   0.001,2,   0.000,2,  -999.0,9,-999.000,9,-999.000,   0.857,2, -999.00,9, -999.00,  -0.9468
06AQ19870704,        NAO,     362,          2,          3,          3,2,19870726,       1210,    85.0833,    29.3300,       4037,  4010.0,  -0.6878,  34.9608,2,  34.9430,2,-999.0000,9,   299.7,2,   11.73,2,   14.66,2,    0.00,2,    0.99,2,-999.000,9,-999.000,9,  2193.0,2,-999.000,9,-999.000,-999.000,9, -999.00,9, -999.00,  -0.9469
06AQ19870704,        NAO,     362,          2,          2,          2,2,19870726,       1210,    85.0833,    29.3300,       4037,  4064.0,  -0.6818,  34.9610,2,  34.9430,2,-999.0000,9,  -999.0,9,   11.63,2,   14.56,2,    0.00,2,    0.99,2,-999.000,9,-999.000,9,  2193.0,2,-999.000,9,-999.000,-999.000,9, -999.00,9, -999.00,  -0.9463
06AQ19870704,        NAO,     362,          2,          1,          1,2,19870726,       1210,    85.0833,    29.3300,       4037,  4064.0,  -0.6818,  34.9610,2,  34.9420,2,-999.0000,9,   299.3,2,   11.63,2,   14.66,2,    0.00,2,    0.99,2,-999.000,9,-999.000,9,  -999.0,9,-999.000,9,-999.000,-999.000,9, -999.00,9, -999.00,  -0.9462