BOTTLE,20140415SIOCCHRJL
EXPOCODE,SECT_ID,STNNBR,CASTNO,SAMPNO,BTLNBR,BTLNBR_FLAG_W,DATE,TIME,LATITUDE,LONGITUDE,DEPTH,CTDPRS,CTDTMP,CTDSAL,CTDSAL_FLAG_W,SALNTY,SALNTY_FLAG_W,CTDOXY,CTDOXY_FLAG_W,OXYGEN,OXYGEN_FLAG_W,SILCAT,SILCAT_FLAG_W,NITRAT,NITRAT_FLAG_W,NITRIT,NITRIT_FLAG_W,PHSPHT,PHSPHT_FLAG_W,CFC-11,CFC-11_FLAG_W,CFC-12,CFC-12_FLAG_W,TCARBN,TCARBN_FLAG_W,TRITUM,TRITUM_FLAG_W,TRITER,CCL4,CCL4_FLAG_W,DELO18,DELO18_FLAG_W,CTDRAW,THETA
,,,,,,,,,,,METERS,DBAR,ITS-90,PSS-78,,PSS-78,,UMOL/KG,,UMOL/KG,,UMOL/KG,,UMOL/KG,,UMOL/KG,,UMOL/KG,,PMOL/KG,,PMOL/KG,,UMOL/KG,,TU,,TU,PMOL/KG,,/MILLE,,DBAR,DEG C
06AQ19870704,        NAO,     371,          2,         23,         23,2,19870804,       0635,    86.1083,    22.0267,       3769,    39.6,  -1.8016,  33.2938,2,  33.2830,2,-999.0000,9,   384.9,2,    2.84,2,    3.23,2,    0.02,2,    0.33,2,   5.914,2,   2.285,2,  2128.0,2,   8.380,2,   0.000,-999.000,9,   -1.41,2, -999.00,  -1.8023
06AQ19870704,        NAO,     371,          2,         22,         22,2,19870804,       0635,    86.1083,    22.0267,       3769,    50.3,  -1.8396,  33.8378,2,  33.8530,2,-999.0000,9,   367.8,2,    2.84,2,    4.60,2,    0.00,2,    0.40,2,   4.838,2,   2.031,2,  2142.0,2,   8.630,2,   0.000,-999.000,9,   -0.89,2, -999.00,  -1.8405
06AQ19870704,        NAO,     371,          2,         21,         21,2,19870804,       0635,    86.1083,    22.0267,       3769,    60.5,  -1.8406,  33.9554,2,  33.9530,2,-999.0000,9,   363.8,2,    2.93,2,    4.99,2,    0.00,2,    0.42,2,   4.748,2,-999.000,9,  2146.0,2,-999.000,9,-999.000,-999.000,9, -999.00,9, -999.00,  -1.8417
06AQ19870704,        NAO,     371,          2,         20,         20,2,19870804,       0635,    86.1083,    22.0267,       3769,    69.9,  -1.8406,  34.0108,2,  34.0160,2,-999.0000,9,   362.5,2,    2.93,2,    5.09,2,    0.00,2,    0.43,2,   4.529,2,   1.906,2,  2146.0,2,   0.000,2,   0.000,-999.000,9,   -0.74,2, -999.00,  -1.8419
06AQ19870704,        NAO,     371,          2,         19,         19,2,19870804,       0635,    86.1083,    22.0267,       3769,    83.5,  -1.8386,  34.0669,2,  34.0420,2,-999.0000,9,   363.4,2,    2.84,2,    5.08,2,    0.00,2,    0.43,2,   4.828,2,   1.903,2,  -999.0,9,   7.650,2,   0.000,-999.000,9,   -0.70,2, -999.00,  -1.8402
06AQ19870704,        NAO,     371,          2,         18,         18,2,19870804,       0635,    86.1083,    22.0267,       3769,   100.0,  -1.8516,  34.1161,2,  34.1140,2,-999.0000,9,   359.5,2,    2.93,2,    5.57,2,    0.00,2,    0.45,2,   4.401,2,   1.957,2,  2138.0,2,   7.590,2,   0.000,-999.000,9,   -0.66,2, -999.00,  -1.8535
06AQ19870704,        NAO,     371,          2,         17,         17,2,19870804,       0635,    86.1083,    22.0267,       3769,   120.0,  -1.8316,  34.1627,2,  34.1620,2,-999.0000,9,   351.6,2,    3.32,2,    6.45,2,    0.00,2,    0.51,2,   4.138,2,   1.713,2,  2142.0,2,   7.730,2,   0.000,-999.000,9,   -0.55,2, -999.00,  -1.8339
06AQ19870704,        NAO,     371,          2,         16,         16,2,19870804,       0635,    86.1083,    22.0267,       3769,   139.0,  -1.7136,  34.2168,2,  34.2190,2,-999.0000,9,   339.0,2,    3.72,2,    7.43,2,    0.00,2,    0.56,2,   3.502,2,   1.520,2,  2139.0,2,-999.000,9,-999.000,-999.000,9, -999.00,9, -999.00,  -1.7165
06AQ19870704,        NAO,     371,          2,         15,         15,2,19870804,       0635,    86.1083,    22.0267,       3769,   159.0,  -1.1847,  34.3219,2,  34.3340,2,-999.0000,9,   318.1,2,    4.79,2,    9.19,2,    0.00,2,    0.66,2,   2.699,2,   1.121,2,  2155.0,2,   6.590,2,   0.000,-999.000,9,   -0.16,2, -999.00,  -1.1888
06AQ19870704,        NAO,     371,          2,         14,         14,2,19870804,       0635,    86.1083,    22.0267,       3769,   179.0,  -0.5859,  34.4406,2,  34.4460,2,-999.0000,9,   309.8,2,    5.47,2,    9.97,2,    0.00,2,    0.70,2,   2.004,2,   0.886,2,  2155.0,2,   6.730,2,   0.000,-999.000,9,    0.02,2, -999.00,  -0.5915
06AQ19870704,        NAO,     371,          2,         13,         13,2,19870804,       0635,    86.1083,    22.0267,       3769,   199.0,  -0.1230,  34.5318,2,  34.5250,2,-999.0000,9,   307.7,2,    5.57,2,   10.36,2,    0.00,2,    0.72,2,   2.004,2,   0.853,2,  2166.0,2,-999.000,9,-999.000,-999.000,9, -999.00,9, -999.00,  -0.1301
06AQ19870704,        NAO,     371,          2,         12,         12,2,19870804,       0635,    86.1083,    22.0267,       3769,   229.0,   0.4889,  34.6609,2,  34.6540,2,-999.0000,9,   304.6,2,    5.57,2,   10.95,2,    0.00,2,    0.75,2,   2.096,2,   0.861,2,  2165.0,2,-999.000,9,-999.000,-999.000,9, -999.00,9, -999.00,   0.4794
06AQ19870704,        NAO,     371,          2,         11,         11,2,19870804,       0635,    86.1083,    22.0267,       3769,   275.0,   1.1997,  34.8567,2,  34.8520,2,-999.0000,9,   303.3,2,    5.77,2,   12.12,2,    0.00,2,    0.81,2,-999.000,9,   0.964,2,  2164.0,2,-999.000,9,-999.000,-999.000,9,    0.25,2, -999.00,   1.1865
06AQ19870704,        NAO,     371,          2,         10,         10,2,19870804,       0635,    86.1083,    22.0267,       3769,   309.0,   0.8118,  34.8318,2,  34.8360,2,-999.0000,9,   301.9,2,    5.77,2,   12.12,2,    0.00,2,    0.80,2,   1.552,2,   0.742,2,  2165.0,2,-999.000,9,-999.000,-999.000,9,    0.21,2, -999.00,   0.7979
06AQ19870704,        NAO,     371,          2,          9,          9,2,19870804,       0635,    86.1083,    22.0267,       3769,   320.0,   0.9378,  34.8770,2,  34.8770,2,-999.0000,9,   303.2,2,    5.96,2,   12.41,2,    0.00,2,    0.82,2,   1.732,2,   0.803,2,  2168.0,2,-999.000,9,-999.000,-999.000,9, -999.00,9, -999.00,   0.9230
06AQ19870704,        NAO,     371,          2,          8,          8,2,19870804,       0635,    86.1083,    22.0267,       3769,   376.0,   0.7428,  34.8723,2,  34.8720,2,-999.0000,9,   300.2,2,    5.96,2,   12.41,2,    0.00,2,    0.82,2,   1.235,2,   0.511,2,  2171.0,2,-999.000,9,-999.000,-999.000,9,    0.08,2, -999.00,   0.7258
06AQ19870704,        NAO,     371,          2,          7,          7,2,19870804,       0635,    86.1083,    22.0267,       3769,   399.0,   0.9198,  34.9025,2,  34.9050,2,-999.0000,9,   301.9,2,    6.16,2,   12.70,2,    0.00,2,    0.83,2,   1.391,2,   0.611,2,  2169.0,2,-999.000,9,-999.000,-999.000,9, -999.00,9, -999.00,   0.9011
06AQ19870704,        NAO,     371,          2,          6,          6,2,19870804,       0635,    86.1083,    22.0267,       3769,   470.0,   0.7918,  34.9035,2,  34.9000,2,-999.0000,9,   301.1,2,    6.16,2,   12.70,2,    0.00,2,    0.83,2,   0.786,2,   0.386,2,  2173.0,2,-999.000,9,-999.000,-999.000,9, -999.00,9, -999.00,   0.7700
06AQ19870704,        NAO,     371,          2,          5,          5,2,19870804,       0635,    86.1083,    22.0267,       3769,   499.0,   0.7558,  34.9126,2,  34.9080,2,-999.0000,9,   302.8,2,    6.35,2,   12.70,2,    0.00,2,    0.85,2,   0.871,2,-999.000,9,  2171.0,2,-999.000,9,-999.000,-999.000,9, -999.00,9, -999.00,   0.7326
06AQ19870704,        NAO,     371,          2,          4,          4,2,19870804,       0635,    86.1083,    22.0267,       3769,   550.0,   0.6169,  34.9130,2,  34.9090,2,-999.0000,9,   303.7,2,    6.35,2,   12.80,2,    0.00,2,    0.85,2,   0.999,2,   0.457,2,  2169.0,2,-999.000,9,-999.000,-999.000,9, -999.00,9, -999.00,   0.5917
06AQ19870704,        NAO,     371,          2,          3,          3,2,19870804,       0635,    86.1083,    22.0267,       3769,   651.0,   0.2979,  34.9077,2,  34.9020,2,-999.0000,9,   304.5,2,    6.35,2,   12.70,2,    0.00,2,    0.85,2,   0.868,2,   0.453,2,  2171.0,2,-999.000,9,-999.000,-999.000,9, -999.00,9, -999.00,   0.2693
06AQ19870704,        NAO,     371,          2,          2,          2,2,19870804,       0635,    86.1083,    22.0267,       3769,   750.0,   0.0690,  34.9063,2,  34.9030,2,-999.0000,9,   305.8,2,    6.55,2,   12.70,2,    0.00,2,    0.86,2,   0.797,2,   0.396,2,  2175.0,2,-999.000,9,-999.000,-999.000,9, -999.00,9, -999.00,   0.0368
06AQ19870704,        NAO,     371,          2,          1,          1,2,19870804,       0635,    86.1083,    22.0267,       3769,   855.0,  -0.1070,  34.9137,2,  34.9040,2,-999.0000,9,   306.7,2,    6.74,2,   12.70,2,    0.00,2,    0.87,2,   0.985,2,   0.512,2,  2186.0,2,-999.000,9,-999.000,-999.000,9, -999.00,9, -999.00,  -0.1433
06AQ19870704,        NAO,     371,          1,         23,         23,2,19870804,       1716,    86.1083,    22.0267,       3769,   951.0,  -0.2080,  34.9182,2,  34.9070,2,-999.0000,9,   307.1,2,    7.23,2,   12.41,2,    0.00,2,    0.85,2,   0.789,2,   0.370,2,  2190.0,2,-999.000,9,-999.000,-999.000,9, -999.00,9, -999.00,  -0.2484
06AQ19870704,        NAO,     371,          1,         22,         22,2,19870804,       1716,    86.1083,    22.0267,       3769,  1100.0,  -0.3489,  34.9260,2,  34.9090,2,-999.0000,9,   307.1,2,    7.62,2,   12.61,2,    0.00,2,    0.85,2,   0.751,2,   0.369,2,  2187.0,2,-999.000,9,-999.000,-999.000,9, -999.00,9, -999.00,  -0.3959
06AQ19870704,        NAO,     371,          1,         21,         21,2,19870804,       1716,    86.1083,    22.0267,       3769,  1250.0,  -0.4379,  34.9306,2,  34.9170,2,-999.0000,9,   306.7,2,    8.21,2,   12.90,2,    0.00,2,    0.87,2,   0.566,2,   0.323,2,  2180.0,2,-999.000,9,-999.000,-999.000,9, -999.00,9, -999.00,  -0.4920
06AQ19870704,        NAO,     371,          1,         20,         20,2,19870804,       1716,    86.1083,    22.0267,       3769,  1400.0,  -0.5149,  34.9357,2,  34.9200,2,-999.0000,9,   305.4,2,    8.99,2,   13.19,2,    0.00,2,    0.89,2,   0.529,2,   0.281,2,  2187.0,2,-999.000,9,-999.000,-999.000,9, -999.00,9, -999.00,  -0.5765
06AQ19870704,        NAO,     371,          1,         19,         19,2,19870804,       1716,    86.1083,    22.0267,       3769,  1550.0,  -0.5659,  34.9388,2,  34.9230,2,-999.0000,9,   303.2,2,    9.67,2,   13.39,2,    0.00,2,    0.92,2,   0.422,2,   0.277,2,  2189.0,2,-999.000,9,-999.000,-999.000,9, -999.00,9, -999.00,  -0.6356
06AQ19870704,        NAO,     371,          1,         18,         18,2,19870804,       1716,    86.1083,    22.0267,       3769,  1700.0,  -0.5999,  34.9394,2,  34.9240,2,-999.0000,9,   301.9,2,   10.26,2,   13.68,2,    0.00,2,    0.94,2,   0.374,2,   0.251,2,  2185.0,2,-999.000,9,-999.000,-999.000,9, -999.00,9, -999.00,  -0.6781
06AQ19870704,        NAO,     371,          1,         17,         17,2,19870804,       1716,    86.1083,    22.0267,       3769,  1849.0,  -0.6678,  34.9348,2,  34.9220,2,-999.0000,9,   303.6,2,   10.16,2,   13.78,2,    0.00,2,    0.94,2,   0.326,2,   0.192,2,  2188.0,2,-999.000,9,-999.000,-999.000,9, -999.00,9, -999.00,  -0.7542
06AQ19870704,        NAO,     371,          1,         16,         16,2,19870804,       1716,    86.1083,    22.0267,       3769,  1901.0,  -0.6868,  34.9373,2,  34.9220,2,-999.0000,9,   303.6,2,   10.16,2,   13.78,2,    0.00,2,    0.93,2,-999.000,9,-999.000,9,  2190.0,2,-999.000,9,-999.000,-999.000,9, -999.00,9, -999.00,  -0.7762
06AQ19870704,        NAO,     371,          1,         15,         15,2,19870804,       1716,    86.1083,    22.0267,       3769,  2000.0,  -0.7218,  34.9393,2,  34.9230,2,-999.0000,9,   304.1,2,   10.26,2,   13.88,2,    0.00,2,    0.94,2,-999.000,9,   0.125,2,  2191.0,2,-999.000,9,-999.000,-999.000,9,    0.24,2, -999.00,  -0.8171
06AQ19870704,        NAO,     371,          1,         14,         14,2,19870804,       1716,    86.1083,    22.0267,       3769,  2150.0,  -0.7518,  34.9406,2,  34.9250,2,-999.0000,9,   304.5,2,   10.46,2,   13.88,2,    0.00,2,    0.94,2,   0.217,2,   0.131,2,  2191.0,2,-999.000,9,-999.000,-999.000,9, -999.00,9, -999.00,  -0.8565
06AQ19870704,        NAO,     371,          1,         13,         13,2,19870804,       1716,    86.1083,    22.0267,       3769,  2301.0,  -0.7748,  34.9410,2,  34.9260,2,-999.0000,9,   304.9,2,   10.65,2,   13.97,2,    0.00,2,    0.94,2,   0.208,2,   0.148,2,  -999.0,9,-999.000,9,-999.000,-999.000,9, -999.00,9, -999.00,  -0.8894
06AQ19870704,        NAO,     371,          1,         12,         12,2,19870804,       1716,    86.1083,    22.0267,       3769,  2451.0,  -0.7908,  34.9442,2,-999.0000,9,-999.0000,9,   304.1,2,   10.75,2,   14.07,2,    0.00,2,    0.94,2,   0.184,2,   0.147,2,  2188.0,2,-999.000,9,-999.000,-999.000,9, -999.00,9, -999.00,  -0.9158
06AQ19870704,        NAO,     371,          1,         11,         11,2,19870804,       1716,    86.1083,    22.0267,       3769,  2601.0,  -0.7948,  34.9480,2,  34.9300,2,-999.0000,9,   303.2,2,   10.95,2,   14.07,2,    0.00,2,    0.95,2,   0.171,2,-999.000,9,  2188.0,2,-999.000,9,-999.000,-999.000,9, -999.00,9, -999.00,  -0.9307
06AQ19870704,        NAO,     371,          1,          9,          9,2,19870804,       1716,    86.1083,    22.0267,       3769,  2751.0,  -0.7908,  34.9490,2,  34.9320,2,-999.0000,9,   303.2,2,   11.14,2,   14.17,2,    0.00,2,    0.95,2,-999.000,9,-999.000,9,  2186.0,2,-999.000,9,-999.000,-999.000,9,    0.24,2, -999.00,  -0.9381
06AQ19870704,        NAO,     371,          1,         10,         10,2,19870804,       1716,    86.1083,    22.0267,       3769,  2751.0,  -0.7918,  34.9501,2,  34.9330,2,-999.0000,9,  -999.0,9,   11.14,2,   14.17,2,    0.00,2,    0.94,2,   0.141,2,-999.000,9,  -999.0,9,-999.000,9,-999.000,-999.000,9, -999.00,9, -999.00,  -0.9391
06AQ19870704,        NAO,     371,          1,          8,          8,2,19870804,       1716,    86.1083,    22.0267,       3769,  2851.0,  -0.7898,  34.9502,2,  34.9330,2,-999.0000,9,   302.8,2,   11.14,2,   14.17,2,    0.00,2,    0.96,2,   0.110,2,   0.070,2,  2185.0,2,-999.000,9,-999.000,-999.000,9, -999.00,9, -999.00,  -0.9449
06AQ19870704,        NAO,     371,          1,          7,          7,2,19870804,       1716,    86.1083,    22.0267,       3769,  2970.0,  -0.7848,  34.9550,2,  34.9360,2,-999.0000,9,   302.3,2,   11.14,2,   14.17,2,    0.00,2,    0.94,2,   0.103,2,-999.000,9,  2190.0,2,-999.000,9,-999.000,-999.000,9,    0.27,2, -999.00,  -0.9494
06AQ19870704,        NAO,     371,          1,          5,          5,2,19870804,       1716,    86.1083,    22.0267,       3769,  3081.0,  -0.7778,  34.9555,2,  34.9370,2,-999.0000,9,  -999.0,9,   11.34,2,   14.27,2,    0.00,2,    0.94,2,   0.055,2,   0.040,2,  2186.0,2,-999.000,9,-999.000,-999.000,9, -999.00,9, -999.00,  -0.9516
06AQ19870704,        NAO,     371,          1,          6,          6,2,19870804,       1716,    86.1083,    22.0267,       3769,  3082.0,  -0.7768,  34.9538,2,  34.9370,2,-999.0000,9,   302.3,2,   11.34,2,   14.17,2,    0.00,2,    0.95,2,   0.063,2,   0.032,2,  -999.0,9,-999.000,9,-999.000,-999.000,9, -999.00,9, -999.00,  -0.9507
06AQ19870704,        NAO,     371,          1,          3,          3,2,19870804,       1716,    86.1083,    22.0267,       3769,  3181.0,  -0.7638,  34.9565,2,  34.9380,2,-999.0000,9,  -999.0,9,   11.82,2,   14.27,2,    0.00,2,    0.94,2,-999.000,9,-999.000,9,  2192.0,2,-999.000,9,-999.000,-999.000,9, -999.00,9, -999.00,  -0.9462
06AQ19870704,        NAO,     371,          1,          4,          4,2,19870804,       1716,    86.1083,    22.0267,       3769,  3183.0,  -0.7648,  34.9567,2,  34.9390,2,-999.0000,9,   301.0,2,   11.82,2,   14.27,2,    0.00,2,    0.95,2,-999.000,9,-999.000,9,  -999.0,9,-999.000,9,-999.000,-999.000,9, -999.00,9, -999.00,  -0.9473
06AQ19870704,        NAO,     371,          1,          2,          2,2,19870804,       1716,    86.1083,    22.0267,       3769,  3225.0,  -0.7658,  34.9571,2,  34.9390,2,-999.0000,9,  -999.0,9,   11.63,2,   14.27,2,    0.02,2,    1.04,2,   0.059,2,   0.014,2,  -999.0,9,-999.000,9,-999.000,-999.000,9, -999.00,9, -999.00,  -0.9518
06AQ19870704,        NAO,     371,          1,          1,          1,2,19870804,       1716,    86.1083,    22.0267,       3769,  3225.0,  -0.7658,  34.9571,2,  34.9390,2,-999.0000,9,   301.9,2,   11.63,2,   14.17,2,    0.03,2,    1.08,2,-999.000,9,-999.000,9,  2188.0,2,-999.000,9,-999.000,-999.000,9, -999.00,9, -999.00,  -0.9518