BOTTLE,20140415SIOCCHRJL
EXPOCODE,SECT_ID,STNNBR,CASTNO,SAMPNO,BTLNBR,BTLNBR_FLAG_W,DATE,TIME,LATITUDE,LONGITUDE,DEPTH,CTDPRS,CTDTMP,CTDSAL,CTDSAL_FLAG_W,SALNTY,SALNTY_FLAG_W,CTDOXY,CTDOXY_FLAG_W,OXYGEN,OXYGEN_FLAG_W,SILCAT,SILCAT_FLAG_W,NITRAT,NITRAT_FLAG_W,NITRIT,NITRIT_FLAG_W,PHSPHT,PHSPHT_FLAG_W,CFC-11,CFC-11_FLAG_W,CFC-12,CFC-12_FLAG_W,TCARBN,TCARBN_FLAG_W,TRITUM,TRITUM_FLAG_W,TRITER,CCL4,CCL4_FLAG_W,DELO18,DELO18_FLAG_W,CTDRAW,THETA
,,,,,,,,,,,METERS,DBAR,ITS-90,PSS-78,,PSS-78,,UMOL/KG,,UMOL/KG,,UMOL/KG,,UMOL/KG,,UMOL/KG,,UMOL/KG,,PMOL/KG,,PMOL/KG,,UMOL/KG,,TU,,TU,PMOL/KG,,/MILLE,,DBAR,DEG C
06AQ19870704,        NAO,     276,          1,         23,         23,2,19870708,       0440,    81.5233,    31.4567,        571,     6.6,  -1.7086,  34.1870,2,  34.1810,2,-999.0000,9,   357.3,2,    3.91,2,    7.72,2,    0.09,2,    0.65,2,-999.000,9,-999.000,9,  -999.0,9,-999.000,9,-999.000,-999.000,9, -999.00,9, -999.00,  -1.7087
06AQ19870704,        NAO,     276,          1,         22,         22,2,19870708,       0440,    81.5233,    31.4567,        571,     6.6,  -1.7086,  34.1870,2,  34.1820,2,-999.0000,9,  -999.0,9,    3.91,2,    7.72,2,    0.09,2,    0.64,2,   5.726,2,   2.498,2,  -999.0,9,-999.000,9,-999.000,-999.000,9, -999.00,9, -999.00,  -1.7087
06AQ19870704,        NAO,     276,          1,         21,         21,2,19870708,       0440,    81.5233,    31.4567,        571,    20.3,  -1.7076,  34.2078,2,  34.1910,2,-999.0000,9,   355.5,2,    3.91,2,    7.72,2,    0.09,2,    0.64,2,-999.000,9,-999.000,9,  -999.0,9,-999.000,9,-999.000,-999.000,9, -999.00,9, -999.00,  -1.7080
06AQ19870704,        NAO,     276,          1,         20,         20,2,19870708,       0440,    81.5233,    31.4567,        571,    39.9,  -1.5146,  34.4907,2,  34.4950,2,-999.0000,9,   352.4,2,    4.01,2,    8.21,2,    0.12,2,    0.69,2,   5.892,2,   2.579,2,  -999.0,9,-999.000,9,-999.000,-999.000,9, -999.00,9, -999.00,  -1.5155
06AQ19870704,        NAO,     276,          1,         19,         19,2,19870708,       0440,    81.5233,    31.4567,        571,    60.3,  -1.3977,  34.5969,2,  34.5880,2,-999.0000,9,   344.1,2,    4.89,2,    9.58,2,    0.16,2,    0.74,2,-999.000,9,-999.000,9,  -999.0,9,-999.000,9,-999.000,-999.000,9, -999.00,9, -999.00,  -1.3991
06AQ19870704,        NAO,     276,          1,         18,         18,2,19870708,       0440,    81.5233,    31.4567,        571,    60.3,  -1.3977,  34.5969,2,  34.5910,2,-999.0000,9,  -999.0,9,    4.99,2,    9.58,2,    0.16,2,    0.74,2,-999.000,9,-999.000,9,  -999.0,9,-999.000,9,-999.000,-999.000,9, -999.00,9, -999.00,  -1.3991
06AQ19870704,        NAO,     276,          1,         17,         17,2,19870708,       0440,    81.5233,    31.4567,        571,    79.9,  -0.6748,  34.6957,2,  34.6840,2,-999.0000,9,   337.2,2,    5.08,2,   10.56,2,    0.17,2,    0.77,2,   5.524,2,   2.463,2,  -999.0,9,-999.000,9,-999.000,-999.000,9, -999.00,9, -999.00,  -0.6772
06AQ19870704,        NAO,     276,          1,         16,         16,2,19870708,       0440,    81.5233,    31.4567,        571,    99.0,  -0.2000,  34.7591,2,  34.7570,2,-999.0000,9,   331.9,2,    5.28,2,   11.04,2,    0.17,2,    0.77,2,-999.000,9,-999.000,9,  -999.0,9,-999.000,9,-999.000,-999.000,9, -999.00,9, -999.00,  -0.2034
06AQ19870704,        NAO,     276,          1,         15,         15,2,19870708,       0440,    81.5233,    31.4567,        571,   120.0,  -0.0610,  34.7918,2,  34.7770,2,-999.0000,9,   330.2,2,    5.67,2,   11.43,2,    0.12,2,    0.78,2,   5.180,2,   2.316,2,  -999.0,9,-999.000,9,-999.000,-999.000,9, -999.00,9, -999.00,  -0.0653
06AQ19870704,        NAO,     276,          1,         14,         14,2,19870708,       0440,    81.5233,    31.4567,        571,   143.0,   0.5279,  34.8413,2,  34.8390,2,-999.0000,9,   326.7,2,    5.67,2,   11.73,2,    0.08,2,    0.78,2,-999.000,9,-999.000,9,  -999.0,9,-999.000,9,-999.000,-999.000,9, -999.00,9, -999.00,   0.5220
06AQ19870704,        NAO,     276,          1,         13,         13,2,19870708,       0440,    81.5233,    31.4567,        571,   170.0,   1.3727,  34.9304,2,  34.9280,2,-999.0000,9,   318.9,2,    5.67,2,   12.22,2,    0.05,2,    0.80,2,   4.650,2,   2.090,2,  -999.0,9,-999.000,9,-999.000,-999.000,9, -999.00,9, -999.00,   1.3644
06AQ19870704,        NAO,     276,          1,         12,         12,2,19870708,       0440,    81.5233,    31.4567,        571,   210.0,   1.5006,  34.9533,2,  34.9470,2,-999.0000,9,   320.6,2,    5.67,2,   12.22,2,    0.10,2,    0.79,2,-999.000,9,-999.000,9,  -999.0,9,-999.000,9,-999.000,-999.000,9, -999.00,9, -999.00,   1.4901
06AQ19870704,        NAO,     276,          1,         11,         11,2,19870708,       0440,    81.5233,    31.4567,        571,   250.0,   1.4726,  34.9560,2,  34.9570,2,-999.0000,9,   321.0,2,    5.67,2,   12.22,2,    0.06,2,    0.80,2,   4.847,2,   2.160,2,  -999.0,9,-999.000,9,-999.000,-999.000,9, -999.00,9, -999.00,   1.4600
06AQ19870704,        NAO,     276,          1,         10,         10,2,19870708,       0440,    81.5233,    31.4567,        571,   301.0,   1.2747,  34.9552,2,  34.9490,2,-999.0000,9,   323.7,2,    5.57,2,   12.02,2,    0.12,2,    0.80,2,   4.786,2,   2.105,2,  -999.0,9,-999.000,9,-999.000,-999.000,9, -999.00,9, -999.00,   1.2599
06AQ19870704,        NAO,     276,          1,          9,          9,2,19870708,       0440,    81.5233,    31.4567,        571,   350.0,   0.8878,  34.9283,2,  34.9240,2,-999.0000,9,   328.9,2,    5.28,2,   11.14,2,    0.15,2,    0.79,2,   4.995,2,   2.214,2,  -999.0,9,-999.000,9,-999.000,-999.000,9, -999.00,9, -999.00,   0.8716
06AQ19870704,        NAO,     276,          1,          8,          8,2,19870708,       0440,    81.5233,    31.4567,        571,   410.0,   0.6658,  34.9218,2,  34.9210,2,-999.0000,9,  -999.0,9,    5.18,2,   10.85,2,    0.14,2,    0.77,2,-999.000,9,-999.000,9,  -999.0,9,-999.000,9,-999.000,-999.000,9, -999.00,9, -999.00,   0.6474
06AQ19870704,        NAO,     276,          1,          7,          7,2,19870708,       0440,    81.5233,    31.4567,        571,   410.0,   0.6658,  34.9218,2,  34.9210,2,-999.0000,9,   329.3,2,    5.28,2,   10.85,2,    0.14,2,    0.77,2,-999.000,9,-999.000,9,  -999.0,9,-999.000,9,-999.000,-999.000,9, -999.00,9, -999.00,   0.6474
06AQ19870704,        NAO,     276,          1,          6,          6,2,19870708,       0440,    81.5233,    31.4567,        571,   459.0,   0.2919,  34.9043,2,  34.9000,2,-999.0000,9,  -999.0,9,    4.98,2,   10.07,2,    0.13,2,    0.77,2,   4.733,2,   2.199,2,  -999.0,9,-999.000,9,-999.000,-999.000,9, -999.00,9, -999.00,   0.2725
06AQ19870704,        NAO,     276,          1,          5,          5,2,19870708,       0440,    81.5233,    31.4567,        571,   459.0,   0.2919,  34.9043,2,  34.8990,2,-999.0000,9,   332.8,2,    4.98,2,   10.07,2,    0.13,2,    0.77,2,   4.869,2,   2.289,2,  -999.0,9,-999.000,9,-999.000,-999.000,9, -999.00,9, -999.00,   0.2725
06AQ19870704,        NAO,     276,          1,          4,          4,2,19870708,       0440,    81.5233,    31.4567,        571,   509.0,  -0.0220,  34.9020,2,  34.8930,2,-999.0000,9,  -999.0,9,    4.89,2,    9.77,2,    0.13,2,    0.76,2,-999.000,9,-999.000,9,  -999.0,9,-999.000,9,-999.000,-999.000,9, -999.00,9, -999.00,  -0.0424
06AQ19870704,        NAO,     276,          1,          3,          3,2,19870708,       0440,    81.5233,    31.4567,        571,   509.0,  -0.0220,  34.9020,2,  34.8910,2,-999.0000,9,   336.2,2,    4.98,2,    9.67,2,    0.13,2,    0.77,2,-999.000,9,-999.000,9,  -999.0,9,-999.000,9,-999.000,-999.000,9, -999.00,9, -999.00,  -0.0424
06AQ19870704,        NAO,     276,          1,          2,          2,2,19870708,       0440,    81.5233,    31.4567,        571,   557.0,  -0.0550,  34.9043,2,  34.8910,2,-999.0000,9,   335.8,2,    4.98,2,    9.67,2,    0.13,2,    0.77,2,   4.873,2,   2.272,2,  -999.0,9,-999.000,9,-999.000,-999.000,9, -999.00,9, -999.00,  -0.0774
06AQ19870704,        NAO,     276,          1,          1,          1,2,19870708,       0440,    81.5233,    31.4567,        571,   557.0,  -0.0550,  34.9043,2,  34.8920,2,-999.0000,9,  -999.0,9,    5.08,2,    9.77,2,    0.13,2,    0.77,2,-999.000,9,-999.000,9,  -999.0,9,-999.000,9,-999.000,-999.000,9, -999.00,9, -999.00,  -0.0774
06AQ19870704,        NAO,     278,          1,         23,         23,2,19870708,       1232,    81.5350,    31.5483,        749,     8.1,  -1.6886,  34.1380,2,  34.1290,2,-999.0000,9,   353.5,2,    3.91,2,    8.41,2,    0.07,2,    0.66,2,-999.000,9,-999.000,9,  -999.0,9,-999.000,9,-999.000,-999.000,9, -999.00,9, -999.00,  -1.6888
06AQ19870704,        NAO,     278,          1,         24,         24,2,19870708,       1232,    81.5350,    31.5483,        749,     8.1,  -1.6886,  34.1380,2,  34.1270,2,-999.0000,9,  -999.0,9,    4.01,2,    8.41,2,    0.07,2,    0.68,2,-999.000,9,-999.000,9,  -999.0,9,-999.000,9,-999.000,-999.000,9, -999.00,9, -999.00,  -1.6888
06AQ19870704,        NAO,     278,          1,         22,         22,2,19870708,       1232,    81.5350,    31.5483,        749,    20.3,  -1.7036,  34.1502,2,  34.1460,2,-999.0000,9,   353.0,2,    3.91,2,    8.41,2,    0.06,2,    0.65,2,-999.000,9,-999.000,9,  -999.0,9,-999.000,9,-999.000,-999.000,9, -999.00,9, -999.00,  -1.7040
06AQ19870704,        NAO,     278,          1,         21,         21,2,19870708,       1232,    81.5350,    31.5483,        749,    39.2,  -1.2577,  34.4196,2,  34.4150,2,-999.0000,9,   342.8,2,    4.79,2,    9.48,2,    0.07,2,    0.70,2,-999.000,9,-999.000,9,  -999.0,9,-999.000,9,-999.000,-999.000,9, -999.00,9, -999.00,  -1.2586
06AQ19870704,        NAO,     278,          1,         20,         20,2,19870708,       1232,    81.5350,    31.5483,        749,    60.0,  -0.2040,  34.6408,2,  34.6300,2,-999.0000,9,  -999.0,9,    4.89,2,   10.26,2, -999.00,9,    0.73,2,-999.000,9,-999.000,9,  -999.0,9,-999.000,9,-999.000,-999.000,9, -999.00,9, -999.00,  -0.2060
06AQ19870704,        NAO,     278,          1,         19,         19,2,19870708,       1232,    81.5350,    31.5483,        749,    60.0,  -0.2040,  34.6408,2,  34.6290,2,-999.0000,9,   335.3,2,    4.89,2,   10.17,2,    0.12,2,    0.74,2,-999.000,9,-999.000,9,  -999.0,9,-999.000,9,-999.000,-999.000,9, -999.00,9, -999.00,  -0.2060
06AQ19870704,        NAO,     278,          1,         18,         18,2,19870708,       1232,    81.5350,    31.5483,        749,    84.8,   0.7038,  34.7827,2,  34.7870,2,-999.0000,9,   327.1,2,    5.18,2,   10.95,2,    0.20,2,    0.75,2,-999.000,9,-999.000,9,  -999.0,9,-999.000,9,-999.000,-999.000,9, -999.00,9, -999.00,   0.7002
06AQ19870704,        NAO,     278,          1,         17,         17,2,19870708,       1232,    81.5350,    31.5483,        749,   109.0,   1.1327,  34.8637,2,  34.8580,2,-999.0000,9,   322.8,2,    5.08,2,   11.63,2,    0.19,2,    0.77,2,-999.000,9,-999.000,9,  -999.0,9,-999.000,9,-999.000,-999.000,9, -999.00,9, -999.00,   1.1277
06AQ19870704,        NAO,     278,          1,         16,         16,2,19870708,       1232,    81.5350,    31.5483,        749,   140.0,   1.4926,  34.9089,2,  34.9060,2,-999.0000,9,   318.2,2,    5.37,2,   12.02,2,    0.04,2,    0.79,2,-999.000,9,-999.000,9,  -999.0,9,-999.000,9,-999.000,-999.000,9, -999.00,9, -999.00,   1.4857
06AQ19870704,        NAO,     278,          1,         15,         15,2,19870708,       1232,    81.5350,    31.5483,        749,   179.0,   1.5726,  34.9397,2,  34.9380,2,-999.0000,9,   317.2,2,    5.57,2,   12.22,2,    0.03,2,    0.79,2,   4.446,2,   1.988,2,  -999.0,9,-999.000,9,-999.000,-999.000,9, -999.00,9, -999.00,   1.5636
06AQ19870704,        NAO,     278,          1,         14,         14,2,19870708,       1232,    81.5350,    31.5483,        749,   229.0,   1.5566,  34.9563,2,  34.9480,2,-999.0000,9,   318.0,2,    5.57,2,   12.22,2,    0.03,2,    0.80,2,-999.000,9,-999.000,9,  -999.0,9,-999.000,9,-999.000,-999.000,9, -999.00,9, -999.00,   1.5450
06AQ19870704,        NAO,     278,          1,         13,         13,2,19870708,       1232,    81.5350,    31.5483,        749,   278.0,   1.4586,  34.9603,2,  34.9570,2,-999.0000,9,   320.1,2,    5.57,2,   12.22,2,    0.05,2,    0.81,2,-999.000,9,-999.000,9,  -999.0,9,-999.000,9,-999.000,-999.000,9, -999.00,9, -999.00,   1.4446
06AQ19870704,        NAO,     278,          1,         12,         12,2,19870708,       1232,    81.5350,    31.5483,        749,   329.0,   1.2637,  34.9524,2,  34.9540,2,-999.0000,9,   322.2,2,    5.67,2,   12.12,2,    0.10,2,    0.82,2,   4.798,2,   2.070,2,  -999.0,9,-999.000,9,-999.000,-999.000,9, -999.00,9, -999.00,   1.2475
06AQ19870704,        NAO,     278,          1,         11,         11,2,19870708,       1232,    81.5350,    31.5483,        749,   389.0,   1.1587,  34.9526,2,  34.9540,2,-999.0000,9,   321.9,2,    5.96,2,   12.22,2,    0.07,2,    0.83,2,-999.000,9,-999.000,9,  -999.0,9,-999.000,9,-999.000,-999.000,9, -999.00,9, -999.00,   1.1397
06AQ19870704,        NAO,     278,          1,          9,          9,2,19870708,       1232,    81.5350,    31.5483,        749,   449.0,   0.9768,  34.9539,2,  34.9510,2,-999.0000,9,   320.2,2,    6.45,2,   12.31,2,    0.09,2,    0.85,2,-999.000,9,-999.000,9,  -999.0,9,-999.000,9,-999.000,-999.000,9, -999.00,9, -999.00,   0.9553
06AQ19870704,        NAO,     278,          1,         10,         10,2,19870708,       1232,    81.5350,    31.5483,        749,   449.0,   0.9768,  34.9539,2,  34.9520,2,-999.0000,9,  -999.0,9,    6.16,2,   12.41,2,    0.09,2,    0.86,2,-999.000,9,-999.000,9,  -999.0,9,-999.000,9,-999.000,-999.000,9, -999.00,9, -999.00,   0.9553
06AQ19870704,        NAO,     278,          1,          8,          8,2,19870708,       1232,    81.5350,    31.5483,        749,   523.0,   0.4939,  34.9369,2,-999.0000,9,-999.0000,9,  -999.0,9, -999.00,9, -999.00,9, -999.00,9, -999.00,9,-999.000,9,-999.000,9,  -999.0,9,-999.000,9,-999.000,-999.000,9, -999.00,9, -999.00,   0.4706
06AQ19870704,        NAO,     278,          1,          6,          6,2,19870708,       1232,    81.5350,    31.5483,        749,   599.0,   0.0820,  34.8998,2,  34.9070,2,-999.0000,9,   329.5,2,    5.77,2,   10.75,2,    0.11,2,    0.80,2,-999.000,9,-999.000,9,  -999.0,9,-999.000,9,-999.000,-999.000,9, -999.00,9, -999.00,   0.0570
06AQ19870704,        NAO,     278,          1,          7,          7,2,19870708,       1232,    81.5350,    31.5483,        749,   599.0,   0.0820,  34.8998,2,  34.9060,2,-999.0000,9,  -999.0,9,    5.67,2,   10.75,2,    0.11,2,    0.80,2,-999.000,9,-999.000,9,  -999.0,9,-999.000,9,-999.000,-999.000,9, -999.00,9, -999.00,   0.0570
06AQ19870704,        NAO,     278,          1,          5,          5,2,19870708,       1232,    81.5350,    31.5483,        749,   649.0,  -0.2119,  34.9021,2,  34.8890,2,-999.0000,9,   337.5,2,    4.98,2,    9.77,2,    0.14,2,    0.76,2,-999.000,9,-999.000,9,  -999.0,9,-999.000,9,-999.000,-999.000,9, -999.00,9, -999.00,  -0.2377
06AQ19870704,        NAO,     278,          1,          4,          4,2,19870708,       1232,    81.5350,    31.5483,        749,   700.0,  -0.1940,  34.9125,2,  34.8960,2,-999.0000,9,  -999.0,9,    5.37,2,   10.36,2,    0.13,2,    0.78,2,-999.000,9,-999.000,9,  -999.0,9,-999.000,9,-999.000,-999.000,9, -999.00,9, -999.00,  -0.2223
06AQ19870704,        NAO,     278,          1,          3,          3,2,19870708,       1232,    81.5350,    31.5483,        749,   700.0,  -0.1940,  34.9125,2,  34.8950,2,-999.0000,9,   334.2,2,    5.47,2,   10.36,2,    0.14,2,    0.77,2,-999.000,9,-999.000,9,  -999.0,9,-999.000,9,-999.000,-999.000,9, -999.00,9, -999.00,  -0.2222
06AQ19870704,        NAO,     278,          1,          1,          1,2,19870708,       1232,    81.5350,    31.5483,        749,   730.0,  -0.2189,  34.9166,2,  34.9040,2,-999.0000,9,  -999.0,9,    6.35,2,   11.24,2,    0.11,2,    0.84,2,-999.000,9,-999.000,9,  -999.0,9,-999.000,9,-999.000,-999.000,9, -999.00,9, -999.00,  -0.2484
06AQ19870704,        NAO,     278,          1,          2,          2,2,19870708,       1232,    81.5350,    31.5483,        749,   730.0,  -0.2189,  34.9166,2,  34.9030,2,-999.0000,9,   327.8,2,    6.35,2,   11.14,2,    0.11,2,    0.82,2,-999.000,9,-999.000,9,  -999.0,9,-999.000,9,-999.000,-999.000,9, -999.00,9, -999.00,  -0.2484