BOTTLE,20140415SIOCCHRJL
EXPOCODE,SECT_ID,STNNBR,CASTNO,SAMPNO,BTLNBR,BTLNBR_FLAG_W,DATE,TIME,LATITUDE,LONGITUDE,DEPTH,CTDPRS,CTDTMP,CTDSAL,CTDSAL_FLAG_W,SALNTY,SALNTY_FLAG_W,CTDOXY,CTDOXY_FLAG_W,OXYGEN,OXYGEN_FLAG_W,SILCAT,SILCAT_FLAG_W,NITRAT,NITRAT_FLAG_W,NITRIT,NITRIT_FLAG_W,PHSPHT,PHSPHT_FLAG_W,CFC-11,CFC-11_FLAG_W,CFC-12,CFC-12_FLAG_W,TCARBN,TCARBN_FLAG_W,TRITUM,TRITUM_FLAG_W,TRITER,CCL4,CCL4_FLAG_W,DELO18,DELO18_FLAG_W,CTDRAW,THETA
,,,,,,,,,,,METERS,DBAR,ITS-90,PSS-78,,PSS-78,,UMOL/KG,,UMOL/KG,,UMOL/KG,,UMOL/KG,,UMOL/KG,,UMOL/KG,,PMOL/KG,,PMOL/KG,,UMOL/KG,,TU,,TU,PMOL/KG,,/MILLE,,DBAR,DEG C
06AQ19870704,        NAO,     364,          1,         24,         24,2,19870727,       1630,    85.3683,    26.1417,       3667,    20.7,  -1.8036,  33.6258,2,  33.6100,2,-999.0000,9,   378.3,2,    2.45,2,    3.91,2,    0.02,2,    0.36,2,   5.133,2,   2.281,2,  2131.0,2,   7.750,2,   0.000,   6.670,2,   -1.10,2, -999.00,  -1.8040
06AQ19870704,        NAO,     364,          1,         23,         23,2,19870727,       1630,    85.3683,    26.1417,       3667,    30.0,  -1.8106,  33.7045,2,  33.6710,2,-999.0000,9,   377.4,2,    2.45,2,    4.11,2,    0.02,2,    0.37,2,   4.970,2,   2.177,2,  2135.0,2,-999.000,9,-999.000,-999.000,9,   -0.99,2, -999.00,  -1.8111
06AQ19870704,        NAO,     364,          1,         22,         22,2,19870727,       1630,    85.3683,    26.1417,       3667,    39.6,  -1.8346,  33.9213,2,  33.9160,2,-999.0000,9,   371.3,2,    2.44,2,    4.60,2,    0.02,2,    0.39,2,   4.796,2,   2.163,2,  2144.0,2,   8.430,2,   0.000,   6.358,2,   -0.84,2, -999.00,  -1.8353
06AQ19870704,        NAO,     364,          1,         21,         21,2,19870727,       1630,    85.3683,    26.1417,       3667,    49.7,  -1.8386,  33.9418,2,  33.9330,2,-999.0000,9,   370.8,2,    2.44,2,    4.79,2,    0.02,2,    0.40,2,   4.849,2,   2.221,2,  2146.0,2,-999.000,9,-999.000,   6.475,2,   -0.77,2, -999.00,  -1.8395
06AQ19870704,        NAO,     364,          1,         20,         20,2,19870727,       1630,    85.3683,    26.1417,       3667,    59.9,  -1.8416,  33.9723,2,  33.9680,2,-999.0000,9,   367.8,2,    2.64,2,    4.99,2,    0.01,2,    0.42,2,   4.645,2,   2.155,2,  2147.0,2,   7.930,2,   0.000,   6.728,2,   -0.79,2, -999.00,  -1.8427
06AQ19870704,        NAO,     364,          1,         19,         19,2,19870727,       1630,    85.3683,    26.1417,       3667,    70.3,  -1.8466,  34.0874,2,  34.0720,2,-999.0000,9,   361.2,2,    2.84,2,    5.77,2,    0.00,2,    0.44,2,   3.804,2,   2.002,2,  2148.0,2,-999.000,9,-999.000,   6.086,2,   -0.65,2, -999.00,  -1.8479
06AQ19870704,        NAO,     364,          1,         18,         18,2,19870727,       1630,    85.3683,    26.1417,       3667,    84.4,  -1.8446,  34.1306,2,  34.1220,2,-999.0000,9,   356.8,2,    3.13,2,    6.26,2,    0.00,2,    0.49,2,   4.076,2,   2.047,2,  2150.0,2,   7.570,2,   0.000,   6.125,2,   -0.60,2, -999.00,  -1.8462
06AQ19870704,        NAO,     364,          1,         17,         17,2,19870727,       1630,    85.3683,    26.1417,       3667,   100.0,  -1.8246,  34.1688,2,  34.1560,2,-999.0000,9,   353.4,2,    3.13,2,    6.75,2,    0.00,2,    0.52,2,   3.905,2,   1.885,2,  2150.0,2,-999.000,9,-999.000,   6.456,2, -999.00,9, -999.00,  -1.8265
06AQ19870704,        NAO,     364,          1,         16,         16,2,19870727,       1630,    85.3683,    26.1417,       3667,   115.0,  -1.8206,  34.1909,2,  34.1880,2,-999.0000,9,   350.7,2,    3.13,2,    6.94,2,    0.00,2,    0.53,2,   4.001,2,   1.849,2,  2146.0,2,-999.000,9,-999.000,   7.809,2, -999.00,9, -999.00,  -1.8229
06AQ19870704,        NAO,     364,          1,         15,         15,2,19870727,       1630,    85.3683,    26.1417,       3667,   129.0,  -1.7726,  34.2159,2,  34.2090,2,-999.0000,9,   348.1,2,    3.23,2,    7.33,2,    0.00,2,    0.55,2,   3.631,2,   1.714,2,  2148.0,2,-999.000,9,-999.000,   6.436,2, -999.00,9, -999.00,  -1.7752
06AQ19870704,        NAO,     364,          1,         14,         14,2,19870727,       1630,    85.3683,    26.1417,       3667,   150.0,  -1.4167,  34.2841,2,  34.2870,2,-999.0000,9,   326.4,2,    4.30,2,    9.39,2,    0.00,2,    0.66,2,   3.124,2,   1.368,2,  2151.0,2,-999.000,9,-999.000,   6.592,2,   -0.14,2, -999.00,  -1.4202
06AQ19870704,        NAO,     364,          1,         13,         13,2,19870727,       1630,    85.3683,    26.1417,       3667,   170.0,  -1.0138,  34.3616,2,  34.3490,2,-999.0000,9,   319.0,2,    4.79,2,   10.07,2,    0.00,2,    0.69,2,   2.842,2,   1.231,2,  2156.0,2,-999.000,9,-999.000,   6.699,2, -999.00,9, -999.00,  -1.0185
06AQ19870704,        NAO,     364,          1,         12,         12,2,19870727,       1630,    85.3683,    26.1417,       3667,   199.0,  -0.1500,  34.5144,2,  34.5100,2,-999.0000,9,   309.0,2,    5.38,2,   11.14,2,    0.00,2,    0.76,2,   1.961,2,   0.953,2,  2166.0,2,-999.000,9,-999.000,   6.699,2,    0.04,2, -999.00,  -0.1571
06AQ19870704,        NAO,     364,          1,         11,         11,2,19870727,       1630,    85.3683,    26.1417,       3667,   230.0,   0.5729,  34.6406,2,  34.6420,2,-999.0000,9,   305.5,2,    5.57,2,   11.83,2,    0.00,2,    0.79,2,   1.816,2,   0.893,2,  2172.0,2,-999.000,9,-999.000,   6.621,2, -999.00,9, -999.00,   0.5632
06AQ19870704,        NAO,     364,          1,         10,         10,2,19870727,       1630,    85.3683,    26.1417,       3667,   259.0,   0.8928,  34.7307,2,  34.7400,2,-999.0000,9,   303.3,2,    5.67,2,   12.41,2,    0.00,2,    0.79,2,   1.758,2,   0.832,2,  2177.0,2,-999.000,9,-999.000,   4.800,2, -999.00,9, -999.00,   0.8811
06AQ19870704,        NAO,     364,          1,          9,          9,2,19870727,       1630,    85.3683,    26.1417,       3667,   299.0,   1.1337,  34.8533,2,  34.8520,2,-999.0000,9,   301.5,2,    5.96,2,   13.19,2,    0.00,2,    0.86,2,   1.631,2,   0.736,2,  2182.0,2,-999.000,9,-999.000,-999.000,9, -999.00,9, -999.00,   1.1194
06AQ19870704,        NAO,     364,          1,          8,          8,2,19870727,       1630,    85.3683,    26.1417,       3667,   350.0,   1.0188,  34.9184,2,  34.9130,2,-999.0000,9,   301.9,2,    6.35,2,   13.78,2,    0.00,2,    0.88,2,   1.082,2,   0.575,2,  2184.0,2,-999.000,9,-999.000,   5.083,2, -999.00,9, -999.00,   1.0022
06AQ19870704,        NAO,     364,          1,          7,          7,2,19870727,       1630,    85.3683,    26.1417,       3667,   400.0,   0.8658,  34.9210,2,  34.9150,2,-999.0000,9,   302.8,2,    6.45,2,   13.78,2,    0.00,2,    0.89,2,   1.122,2,   0.546,2,  2185.0,2,-999.000,9,-999.000,   2.853,2, -999.00,9, -999.00,   0.8472
06AQ19870704,        NAO,     364,          1,          6,          6,2,19870727,       1630,    85.3683,    26.1417,       3667,   501.0,   0.6948,  34.9254,2,  34.9190,2,-999.0000,9,   304.1,2,    6.55,2,   13.68,2,    0.00,2,    0.85,2,   0.801,2,   0.471,2,  2185.0,2,-999.000,9,-999.000,   3.700,2, -999.00,9, -999.00,   0.6718
06AQ19870704,        NAO,     364,          1,          5,          5,2,19870727,       1630,    85.3683,    26.1417,       3667,   649.0,   0.3289,  34.9184,2,  34.9140,2,-999.0000,9,   305.0,2,    6.84,2,   13.88,2,    0.00,2,    0.89,2,   0.746,2,   0.407,2,  2186.0,2,-999.000,9,-999.000,   3.466,2, -999.00,9, -999.00,   0.3002
06AQ19870704,        NAO,     364,          1,          4,          4,2,19870727,       1630,    85.3683,    26.1417,       3667,   800.0,   0.0130,  34.9168,2,  34.9120,2,-999.0000,9,   306.3,2,    6.94,2,   13.29,2,    0.00,2,    0.77,2,   0.558,2,   0.347,2,  2185.0,2,-999.000,9,-999.000,   3.486,2, -999.00,9, -999.00,  -0.0214
06AQ19870704,        NAO,     364,          1,          3,          3,2,19870727,       1630,    85.3683,    26.1417,       3667,   950.0,  -0.2050,  34.9287,2,  34.9140,2,-999.0000,9,   305.8,2,    7.62,2,   13.78,2,    0.00,2,    0.81,2,   0.476,2,   0.339,2,  2188.0,2,-999.000,9,-999.000,   3.856,2, -999.00,9, -999.00,  -0.2454
06AQ19870704,        NAO,     364,          1,          2,          2,2,19870727,       1630,    85.3683,    26.1417,       3667,  1100.0,  -0.3429,  34.9311,2,  34.9170,2,-999.0000,9,   305.4,2,    8.11,2,   14.07,2,    0.00,2,    0.83,2,   0.689,2,   0.241,2,  2193.0,2,-999.000,9,-999.000,   3.204,2, -999.00,9, -999.00,  -0.3899
06AQ19870704,        NAO,     364,          1,          1,          1,2,19870727,       1630,    85.3683,    26.1417,       3667,  1254.0,  -0.4709,  34.9352,2,  34.9200,2,-999.0000,9,   304.9,2,    8.80,2,   14.66,2,    0.00,2,    0.96,2,   0.393,2,   0.213,2,  -999.0,9,-999.000,9,-999.000,   3.311,2, -999.00,9, -999.00,  -0.5249
06AQ19870704,        NAO,     365,          1,         24,         24,2,19870728,       1545,    85.5233,    25.2917,       3177,    24.6,  -1.8066,  33.5946,2,  33.5810,2,-999.0000,9,   378.3,2,    2.45,2,    3.91,2,    0.04,2,    0.37,2,   4.554,2,   2.122,2,  2135.0,2,   8.420,2,   0.000,   5.959,2,   -1.07,2, -999.00,  -1.8070
06AQ19870704,        NAO,     365,          1,         23,         23,2,19870728,       1545,    85.5233,    25.2917,       3177,    50.1,  -1.8376,  34.0956,2,  34.0840,2,-999.0000,9,   360.3,2,    3.23,2,    6.06,2,    0.01,2,    0.50,2,   4.102,2,   1.660,2,  2149.0,2,   8.470,2,   0.000,   4.615,2,   -0.71,2, -999.00,  -1.8385
06AQ19870704,        NAO,     365,          1,         22,         22,2,19870728,       1545,    85.5233,    25.2917,       3177,    75.2,  -1.8536,  34.1371,2,  34.1310,2,-999.0000,9,   359.5,2,    3.13,2,    6.16,2,    0.01,2,    0.51,2,   3.880,2,   1.718,2,  2149.0,2,   7.900,2,   0.000,   5.521,2,   -0.62,2, -999.00,  -1.8550
06AQ19870704,        NAO,     365,          1,         21,         21,2,19870728,       1545,    85.5233,    25.2917,       3177,   100.0,  -1.8266,  34.1795,2,  34.1720,2,-999.0000,9,   353.8,2,    3.23,2,    6.84,2,    0.00,2,    0.55,2,   3.783,2,   1.691,2,  2150.0,2,   7.570,2,   0.000,   5.248,2,   -0.52,2, -999.00,  -1.8285
06AQ19870704,        NAO,     365,          1,         20,         20,2,19870728,       1545,    85.5233,    25.2917,       3177,   120.0,  -1.8116,  34.2178,2,  34.2000,2,-999.0000,9,   352.0,2,    3.32,2,    6.94,2,    0.00,2,    0.55,2,   3.558,2,   1.585,2,  2152.0,2,   7.080,2,   0.000,   6.573,2,   -0.46,2, -999.00,  -1.8140
06AQ19870704,        NAO,     365,          1,         19,         19,2,19870728,       1545,    85.5233,    25.2917,       3177,   140.0,  -1.5266,  34.2661,2,  34.2580,2,-999.0000,9,   332.9,2,    4.30,2,    8.80,2,    0.00,2,    0.65,2,   3.040,2,   1.451,2,  2155.0,2,-999.000,9,-999.000,   7.868,2,   -0.17,2, -999.00,  -1.5298
06AQ19870704,        NAO,     365,          1,         18,         18,2,19870728,       1545,    85.5233,    25.2917,       3177,   160.0,  -0.8198,  34.4050,2,  34.3930,2,-999.0000,9,   316.4,2,    5.18,2,   10.36,2,    0.00,2,    0.74,2,   2.449,2,   1.107,2,  2160.0,2,   5.660,2,   0.000,   7.011,2,    0.01,2, -999.00,  -0.8245
06AQ19870704,        NAO,     365,          1,         17,         17,2,19870728,       1545,    85.5233,    25.2917,       3177,   200.0,   0.5589,  34.6311,2,  34.6260,2,-999.0000,9,   306.3,2,    5.77,2,   11.83,2,    0.00,2,    0.82,2,   2.404,2,-999.000,9,  2168.0,2,-999.000,9,-999.000,   8.228,2,    0.13,2, -999.00,   0.5506
06AQ19870704,        NAO,     365,          1,         16,         16,2,19870728,       1545,    85.5233,    25.2917,       3177,   249.0,   1.4507,  34.8269,2,  34.8360,2,-999.0000,9,   304.6,2,    5.77,2,   13.00,2,    0.00,2,    0.88,2,   2.293,2,   1.235,2,  2174.0,2,-999.000,9,-999.000,   7.420,2,    0.25,2, -999.00,   1.4383
06AQ19870704,        NAO,     365,          1,         15,         15,2,19870728,       1545,    85.5233,    25.2917,       3177,   301.0,   1.2507,  34.8655,2,  34.8610,2,-999.0000,9,   303.7,2,    6.06,2,   13.19,2,    0.00,2,    0.88,2,   1.863,2,   0.904,2,  2174.0,2,-999.000,9,-999.000,   9.786,2,    0.21,2, -999.00,   1.2360
06AQ19870704,        NAO,     365,          1,         14,         14,2,19870728,       1545,    85.5233,    25.2917,       3177,   400.0,   0.7898,  34.8819,2,  34.8780,2,-999.0000,9,   301.1,2,    6.35,2,   13.39,2,    0.00,2,    0.90,2,   1.010,2,   0.529,2,  2175.0,2,-999.000,9,-999.000,-999.000,9, -999.00,9, -999.00,   0.7715
06AQ19870704,        NAO,     365,          1,         13,         13,2,19870728,       1545,    85.5233,    25.2917,       3177,   551.0,   0.7028,  34.9120,2,  34.9100,2,-999.0000,9,   303.7,2,    6.55,2,   13.68,2,    0.00,2,    0.92,2,   0.780,2,   0.464,2,  2178.0,2,-999.000,9,-999.000,-999.000,9, -999.00,9, -999.00,   0.6772
06AQ19870704,        NAO,     365,          1,         12,         12,2,19870728,       1545,    85.5233,    25.2917,       3177,   700.0,   0.2809,  34.9101,2,  34.9080,2,-999.0000,9,   304.1,2,    6.74,2,   13.68,2,    0.00,2,    0.93,2,   0.690,2,-999.000,9,  2186.0,2,-999.000,9,-999.000,-999.000,9, -999.00,9, -999.00,   0.2499
06AQ19870704,        NAO,     365,          1,         11,         11,2,19870728,       1545,    85.5233,    25.2917,       3177,   900.0,  -0.1140,  34.9233,2,  34.9080,2,-999.0000,9,   305.8,2,    7.13,2,   13.88,2,    0.00,2,    0.94,2,   0.536,2,   0.317,2,  2188.0,2,-999.000,9,-999.000,-999.000,9, -999.00,9, -999.00,  -0.1525
06AQ19870704,        NAO,     365,          1,         10,         10,2,19870728,       1545,    85.5233,    25.2917,       3177,  1150.0,  -0.3589,  34.9299,2,  34.9150,2,-999.0000,9,   306.7,2,    8.01,2,   14.27,2,    0.00,2,    0.98,2,   0.474,2,   0.281,2,  2189.0,2,-999.000,9,-999.000,-999.000,9, -999.00,9, -999.00,  -0.4084
06AQ19870704,        NAO,     365,          1,          9,          9,2,19870728,       1545,    85.5233,    25.2917,       3177,  1400.0,  -0.5169,  34.9300,2,  34.9200,2,-999.0000,9,   305.4,2,    8.99,2,   14.76,2,    0.00,2,    1.01,2,   0.360,2,-999.000,9,  2193.0,2,-999.000,9,-999.000,-999.000,9, -999.00,9, -999.00,  -0.5785
06AQ19870704,        NAO,     365,          1,          8,          8,2,19870728,       1545,    85.5233,    25.2917,       3177,  1651.0,  -0.6089,  34.9368,2,  34.9240,2,-999.0000,9,   303.2,2,    9.87,2,   15.15,2,    0.00,2,    1.04,2,   0.295,2,   0.133,2,  2195.0,2,-999.000,9,-999.000,-999.000,9, -999.00,9, -999.00,  -0.6840
06AQ19870704,        NAO,     365,          1,          7,          7,2,19870728,       1545,    85.5233,    25.2917,       3177,  1901.0,  -0.6948,  34.9383,2,  34.9240,2,-999.0000,9,   304.1,2,   10.26,2,   15.34,2,    0.00,2,    1.05,2,   0.263,2,   0.117,2,  2196.0,2,-999.000,9,-999.000,-999.000,9, -999.00,9, -999.00,  -0.7841
06AQ19870704,        NAO,     365,          1,          6,          6,2,19870728,       1545,    85.5233,    25.2917,       3177,  2156.0,  -0.7578,  34.9336,2,  34.9260,2,-999.0000,9,   304.1,2,   10.55,2,   15.44,2,    0.00,2,    1.06,2,   0.173,2,   0.112,2,  2194.0,2,-999.000,9,-999.000,-999.000,9, -999.00,9, -999.00,  -0.8628
06AQ19870704,        NAO,     365,          1,          5,          5,2,19870728,       1545,    85.5233,    25.2917,       3177,  2401.0,  -0.7818,  34.9429,2,  34.9280,2,-999.0000,9,   304.1,2,   10.85,2,   15.64,2,    0.00,2,    1.07,2,   0.154,2,   0.069,2,  2193.0,2,-999.000,9,-999.000,-999.000,9, -999.00,9, -999.00,  -0.9034
06AQ19870704,        NAO,     365,          1,          4,          4,2,19870728,       1545,    85.5233,    25.2917,       3177,  2650.0,  -0.7868,  34.9470,2,  34.9310,2,-999.0000,9,   303.6,2,   11.04,2,   15.73,2,    0.00,2,    1.07,2,   0.090,2,   0.064,2,  2194.0,2,-999.000,9,-999.000,-999.000,9, -999.00,9, -999.00,  -0.9265
06AQ19870704,        NAO,     365,          1,          3,          3,2,19870728,       1545,    85.5233,    25.2917,       3177,  2851.0,  -0.7798,  34.9495,2,  34.9340,2,-999.0000,9,   302.3,2,   11.24,2,   15.83,2,    0.00,2,    1.07,2,   0.069,2,   0.025,2,  2195.0,2,-999.000,9,-999.000,-999.000,9, -999.00,9, -999.00,  -0.9351
06AQ19870704,        NAO,     365,          1,          2,          2,2,19870728,       1545,    85.5233,    25.2917,       3177,  3000.0,  -0.7708,  34.9534,2,  34.9360,2,-999.0000,9,   301.9,2,   11.53,2,   15.83,2,    0.00,2,    1.08,2,   0.063,2,   0.040,2,  2193.0,2,-999.000,9,-999.000,-999.000,9, -999.00,9, -999.00,  -0.9381
06AQ19870704,        NAO,     365,          1,          1,          1,2,19870728,       1545,    85.5233,    25.2917,       3177,  3174.0,  -0.7598,  34.9555,2,  34.9370,2,-999.0000,9,   301.5,2,   11.53,2,   15.93,2,    0.00,2,    1.08,2,   0.072,2,   0.029,2,  2193.0,2,-999.000,9,-999.000,-999.000,9, -999.00,9, -999.00,  -0.9417
06AQ19870704,        NAO,     370,          2,         24,         24,2,19870801,       1210,    85.9283,    22.7717,       5142,    15.9,  -1.8086,  33.4197,2,  33.4080,2,-999.0000,9,   382.3,2,    2.74,2,    3.42,2,    0.03,2,    0.34,2,-999.000,9,-999.000,9,  -999.0,9,-999.000,9,-999.000,-999.000,9, -999.00,9, -999.00,  -1.8089
06AQ19870704,        NAO,     370,          1,         24,         24,2,19870801,       1442,    85.9283,    22.7717,       5142,    30.2,  -1.8086,  33.4469,2,  33.4410,2,-999.0000,9,   381.0,2,    2.93,2,    3.13,2,    0.02,2,    0.34,2,   4.967,2,   2.259,2,  2127.0,2,-999.000,9,-999.000,-999.000,9, -999.00,9, -999.00,  -1.8091
06AQ19870704,        NAO,     370,          2,         23,         23,2,19870801,       1210,    85.9283,    22.7717,       5142,    31.2,  -1.8096,  33.4586,2,  33.4410,2,-999.0000,9,   381.4,2,    2.74,2,    3.52,2,    0.03,2,    0.34,2,   4.658,2,   2.166,2,  -999.0,9,-999.000,9,-999.000,-999.000,9, -999.00,9, -999.00,  -1.8101
06AQ19870704,        NAO,     370,          2,         22,         22,2,19870801,       1210,    85.9283,    22.7717,       5142,    55.6,  -1.8266,  34.0263,2,  34.0380,2,-999.0000,9,   359.9,2,    3.42,2,    5.57,2,    0.02,2,    0.46,2,-999.000,9,-999.000,9,  2141.0,2,-999.000,9,-999.000,-999.000,9, -999.00,9, -999.00,  -1.8276
06AQ19870704,        NAO,     370,          1,         23,         23,2,19870801,       1442,    85.9283,    22.7717,       5142,    59.3,  -1.8366,  33.9935,2,  33.9840,2,-999.0000,9,   364.7,2,    3.42,2,    4.69,2,    0.02,2,    0.43,2,   4.371,2,   1.900,2,  2144.0,2,-999.000,9,-999.000,-999.000,9, -999.00,9, -999.00,  -1.8377
06AQ19870704,        NAO,     370,          2,         21,         21,2,19870801,       1210,    85.9283,    22.7717,       5142,    74.0,  -1.8516,  34.1299,2,  34.1180,2,-999.0000,9,   359.0,2,    3.13,2,    5.77,2,    0.00,2,    0.46,2,   4.216,2,   1.694,2,  2149.0,2,-999.000,9,-999.000,-999.000,9, -999.00,9, -999.00,  -1.8530
06AQ19870704,        NAO,     370,          1,         22,         22,2,19870801,       1442,    85.9283,    22.7717,       5142,    90.0,  -1.8506,  34.1367,2,  34.1310,2,-999.0000,9,   359.0,2,    3.42,2,    5.38,2,    0.00,2,    0.45,2,   4.293,2,   1.827,2,  2146.0,2,-999.000,9,-999.000,-999.000,9, -999.00,9, -999.00,  -1.8523
06AQ19870704,        NAO,     370,          2,         19,         19,2,19870801,       1210,    85.9283,    22.7717,       5142,   105.0,  -1.8386,  34.1650,2,  34.1610,2,-999.0000,9,   354.2,2,    3.32,2,    6.16,2,    0.00,2,    0.49,2,   4.026,2,   1.633,2,  -999.0,9,-999.000,9,-999.000,-999.000,9, -999.00,9, -999.00,  -1.8406
06AQ19870704,        NAO,     370,          2,         20,         20,2,19870801,       1210,    85.9283,    22.7717,       5142,   105.0,  -1.8376,  34.1610,2,  34.1650,2,-999.0000,9,  -999.0,9,    3.32,2,    6.26,2,    0.00,2,    0.49,2,-999.000,9,-999.000,9,  2152.0,2,-999.000,9,-999.000,-999.000,9, -999.00,9, -999.00,  -1.8396
06AQ19870704,        NAO,     370,          2,         18,         18,2,19870801,       1210,    85.9283,    22.7717,       5142,   127.0,  -1.8236,  34.2118,2,  34.2020,2,-999.0000,9,   349.9,2,    3.32,2,    6.65,2,    0.00,2,    0.51,2,   3.630,2,   1.592,2,  2152.0,2,-999.000,9,-999.000,-999.000,9, -999.00,9, -999.00,  -1.8261