BOTTLE,20140415SIOCCHRJL
EXPOCODE,SECT_ID,STNNBR,CASTNO,SAMPNO,BTLNBR,BTLNBR_FLAG_W,DATE,TIME,LATITUDE,LONGITUDE,DEPTH,CTDPRS,CTDTMP,CTDSAL,CTDSAL_FLAG_W,SALNTY,SALNTY_FLAG_W,CTDOXY,CTDOXY_FLAG_W,OXYGEN,OXYGEN_FLAG_W,SILCAT,SILCAT_FLAG_W,NITRAT,NITRAT_FLAG_W,NITRIT,NITRIT_FLAG_W,PHSPHT,PHSPHT_FLAG_W,CFC-11,CFC-11_FLAG_W,CFC-12,CFC-12_FLAG_W,TCARBN,TCARBN_FLAG_W,TRITUM,TRITUM_FLAG_W,TRITER,CCL4,CCL4_FLAG_W,DELO18,DELO18_FLAG_W,CTDRAW,THETA
,,,,,,,,,,,METERS,DBAR,ITS-90,PSS-78,,PSS-78,,UMOL/KG,,UMOL/KG,,UMOL/KG,,UMOL/KG,,UMOL/KG,,UMOL/KG,,PMOL/KG,,PMOL/KG,,UMOL/KG,,TU,,TU,PMOL/KG,,/MILLE,,DBAR,DEG C
06AQ19870704,        NAO,     382,          1,         24,         24,2,19870813,       2210,    83.4233,    20.0267,       4064,    27.6,  -1.7786,  34.0086,2,  34.0020,2,-999.0000,9,   365.5,2,    2.25,2,    5.18,2,    0.02,2,    0.45,2,   4.510,2,   2.180,2,  2099.0,2,-999.000,9,-999.000,-999.000,9, -999.00,9, -999.00,  -1.7791
06AQ19870704,        NAO,     382,          1,         23,         23,2,19870813,       2210,    83.4233,    20.0267,       4064,    62.0,  -1.8406,  34.2228,2,  34.2110,2,-999.0000,9,   356.9,2,    2.44,2,    6.36,2,    0.06,2,    0.51,2,-999.000,9,-999.000,9,  2115.0,2,-999.000,9,-999.000,-999.000,9, -999.00,9, -999.00,  -1.8418
06AQ19870704,        NAO,     382,          1,         22,         22,2,19870813,       2210,    83.4233,    20.0267,       4064,   120.0,  -1.0218,  34.4307,2,  34.4140,2,-999.0000,9,   323.1,2,    4.30,2,    9.39,2,    0.01,2,    0.67,2,   3.663,2,   1.725,2,  2152.0,2,-999.000,9,-999.000,-999.000,9, -999.00,9, -999.00,  -1.0250
06AQ19870704,        NAO,     382,          1,         21,         21,2,19870813,       2210,    83.4233,    20.0267,       4064,   146.0,   0.2959,  34.6075,2,  34.6060,2,-999.0000,9,   310.6,2,    5.28,2,   10.95,2,    0.01,2,    0.75,2,   3.217,2,   1.443,2,  2165.0,2,-999.000,9,-999.000,-999.000,9, -999.00,9, -999.00,   0.2902
06AQ19870704,        NAO,     382,          1,         20,         20,2,19870813,       2210,    83.4233,    20.0267,       4064,   188.0,   1.5796,  34.8238,2,  34.8210,2,-999.0000,9,   305.8,2,    5.47,2,   12.02,2,    0.01,2,    0.80,2,   2.840,2,   1.578,2,  2172.0,2,-999.000,9,-999.000,-999.000,9, -999.00,9, -999.00,   1.5701
06AQ19870704,        NAO,     382,          1,         19,         19,2,19870813,       2210,    83.4233,    20.0267,       4064,   249.0,   1.9455,  34.9175,2,  34.9120,2,-999.0000,9,   307.0,2,    5.77,2,   12.41,2,    0.00,2,    0.83,2,   2.860,2,   1.534,2,  2177.0,2,-999.000,9,-999.000,-999.000,9, -999.00,9, -999.00,   1.9320
06AQ19870704,        NAO,     382,          1,         18,         18,2,19870813,       2210,    83.4233,    20.0267,       4064,   339.0,   1.7596,  34.9489,2,  34.9430,2,-999.0000,9,   307.7,2,    5.96,2,   12.61,2,    0.00,2,    0.84,2,   2.656,2,   1.359,2,  2178.0,2,-999.000,9,-999.000,-999.000,9, -999.00,9, -999.00,   1.7415
06AQ19870704,        NAO,     382,          1,         17,         17,2,19870813,       2210,    83.4233,    20.0267,       4064,   420.0,   1.3927,  34.9438,2,  34.9380,2,-999.0000,9,   306.5,2,    6.16,2,   12.70,2,    0.00,2,    0.85,2,-999.000,9,   1.191,2,  2182.0,2,-999.000,9,-999.000,-999.000,9, -999.00,9, -999.00,   1.3713
06AQ19870704,        NAO,     382,          1,         16,         16,2,19870813,       2210,    83.4233,    20.0267,       4064,   500.0,   0.9798,  34.9209,2,  34.9160,2,-999.0000,9,   303.7,2,    6.35,2,   12.61,2,    0.00,2,    0.85,2,   1.071,2,   0.668,2,  2183.0,2,-999.000,9,-999.000,-999.000,9, -999.00,9, -999.00,   0.9556
06AQ19870704,        NAO,     382,          1,         15,         15,2,19870813,       2210,    83.4233,    20.0267,       4064,   700.0,   0.3959,  34.9218,2,  34.9170,2,-999.0000,9,   304.8,2,    6.94,2,   12.90,2,    0.00,2,    0.87,2,   0.739,2,   0.414,2,  2182.0,2,-999.000,9,-999.000,-999.000,9, -999.00,9, -999.00,   0.3642
06AQ19870704,        NAO,     382,          1,         14,         14,2,19870813,       2210,    83.4233,    20.0267,       4064,   901.0,  -0.0830,  34.9272,2,  34.9120,2,-999.0000,9,   305.4,2,    7.33,2,   13.00,2,    0.00,2,    0.89,2,   0.386,2,   0.243,2,  2184.0,2,-999.000,9,-999.000,-999.000,9, -999.00,9, -999.00,  -0.1218
06AQ19870704,        NAO,     382,          1,         13,         13,2,19870813,       2210,    83.4233,    20.0267,       4064,  1151.0,  -0.3519,  34.9320,2,  34.9200,2,-999.0000,9,   305.3,2,    8.50,2,   13.39,2,    0.00,2,    0.92,2,   0.308,2,   0.200,2,  2188.0,2,-999.000,9,-999.000,-999.000,9, -999.00,9, -999.00,  -0.4016
06AQ19870704,        NAO,     382,          1,         12,         12,2,19870813,       2210,    83.4233,    20.0267,       4064,  1400.0,  -0.5429,  34.9356,2,  34.9220,2,-999.0000,9,   304.4,2,    9.48,2,   13.88,2,    0.00,2,    0.95,2,   0.194,2,   0.179,2,  2190.0,2,-999.000,9,-999.000,-999.000,9, -999.00,9, -999.00,  -0.6042
06AQ19870704,        NAO,     382,          1,         11,         11,2,19870813,       2210,    83.4233,    20.0267,       4064,  1600.0,  -0.6448,  34.9367,2,  34.9230,2,-999.0000,9,   303.1,2,   10.36,2,   14.27,2,    0.00,2,    0.98,2,   0.155,2,-999.000,9,  2191.0,2,-999.000,9,-999.000,-999.000,9, -999.00,9, -999.00,  -0.7164
06AQ19870704,        NAO,     382,          1,         10,         10,2,19870813,       2210,    83.4233,    20.0267,       4064,  1801.0,  -0.7218,  34.9370,2,  34.9220,2,-999.0000,9,   303.2,2,   10.65,2,   14.37,2,    0.00,2,    0.99,2,   0.125,2,   0.098,2,  2192.0,2,-999.000,9,-999.000,-999.000,9, -999.00,9, -999.00,  -0.8045
06AQ19870704,        NAO,     382,          1,          9,          9,2,19870813,       2210,    83.4233,    20.0267,       4064,  2000.0,  -0.7678,  34.9381,2,  34.9250,2,-999.0000,9,   303.5,2,   10.85,2,   14.56,2,    0.00,2,    0.99,2,-999.000,9,-999.000,9,  2190.0,2,-999.000,9,-999.000,-999.000,9, -999.00,9, -999.00,  -0.8623
06AQ19870704,        NAO,     382,          1,          8,          8,2,19870813,       2210,    83.4233,    20.0267,       4064,  2350.0,  -0.8028,  34.9402,2,  34.9270,2,-999.0000,9,   303.2,2,   11.24,2,   14.56,2,    0.00,2,    1.00,2,-999.000,9,-999.000,9,  2190.0,2,-999.000,9,-999.000,-999.000,9, -999.00,9, -999.00,  -0.9204
06AQ19870704,        NAO,     382,          1,          7,          7,2,19870813,       2210,    83.4233,    20.0267,       4064,  2701.0,  -0.8038,  34.9493,2,  34.9320,2,-999.0000,9,   302.2,2,   11.24,2,   14.76,2,    0.00,2,    1.00,2,-999.000,9,-999.000,9,  2190.0,2,-999.000,9,-999.000,-999.000,9, -999.00,9, -999.00,  -0.9470
06AQ19870704,        NAO,     382,          1,          6,          6,2,19870813,       2210,    83.4233,    20.0267,       4064,  3056.0,  -0.7818,  34.9538,2,  34.9380,2,-999.0000,9,   301.6,2,   11.53,2,   14.76,2,    0.00,2,    1.00,2,-999.000,9,-999.000,9,  2190.0,2,-999.000,9,-999.000,-999.000,9, -999.00,9, -999.00,  -0.9534
06AQ19870704,        NAO,     382,          1,          5,          5,2,19870813,       2210,    83.4233,    20.0267,       4064,  3401.0,  -0.7508,  34.9591,2,  34.9410,2,-999.0000,9,   300.8,2,   11.73,2,   14.76,2,    0.00,2,    1.00,2,-999.000,9,-999.000,9,  2194.0,2,-999.000,9,-999.000,-999.000,9, -999.00,9, -999.00,  -0.9523
06AQ19870704,        NAO,     382,          1,          4,          4,2,19870813,       2210,    83.4233,    20.0267,       4064,  3751.0,  -0.7128,  34.9612,2,  34.9430,2,-999.0000,9,   299.1,2,   11.73,2,   14.66,2,    0.00,2,    1.00,2,-999.000,9,-999.000,9,  2194.0,2,-999.000,9,-999.000,-999.000,9, -999.00,9, -999.00,  -0.9467
06AQ19870704,        NAO,     382,          1,          1,          1,2,19870813,       2210,    83.4233,    20.0267,       4064,  4100.0,  -0.6778,  34.9664,2,  34.9420,2,-999.0000,9,   299.6,2,   11.82,2,   14.76,2,    0.00,2,    1.00,2,-999.000,9,-999.000,9,  2193.0,2,-999.000,9,-999.000,-999.000,9, -999.00,9, -999.00,  -0.9459
06AQ19870704,        NAO,     382,          1,          3,          3,2,19870813,       2210,    83.4233,    20.0267,       4064,  4101.0,  -0.6788,  34.9684,2,  34.9440,2,-999.0000,9,  -999.0,9,   11.82,2,   14.76,2,    0.00,2,    1.00,2,-999.000,9,-999.000,9,  -999.0,9,-999.000,9,-999.000,-999.000,9, -999.00,9, -999.00,  -0.9470
06AQ19870704,        NAO,     382,          1,          2,          2,2,19870813,       2210,    83.4233,    20.0267,       4064,  4101.0,  -0.6788,  34.9671,2,  34.9430,2,-999.0000,9,  -999.0,9,   11.73,2,   14.76,2,    0.00,2,    1.00,2,-999.000,9,-999.000,9,  -999.0,9,-999.000,9,-999.000,-999.000,9, -999.00,9, -999.00,  -0.9469
06AQ19870704,        NAO,     393,          1,         24,         24,2,19870814,       2323,    82.8500,    17.2633,       3411,    24.3,  -1.7656,  33.9330,2,  33.9410,2,-999.0000,9,   370.8,2,    1.76,2,    4.99,2,    0.01,2,    0.41,2,-999.000,9,-999.000,9,  2087.0,2,-999.000,9,-999.000,-999.000,9, -999.00,9, -999.00,  -1.7661
06AQ19870704,        NAO,     393,          1,         23,         23,2,19870814,       2323,    82.8500,    17.2633,       3411,    49.9,  -1.7996,  34.2140,2,  34.2000,2,-999.0000,9,   355.9,2,    2.64,2,    6.65,2,    0.04,2,    0.50,2,-999.000,9,-999.000,9,  2110.0,2,-999.000,9,-999.000,-999.000,9, -999.00,9, -999.00,  -1.8006
06AQ19870704,        NAO,     393,          1,         22,         22,2,19870814,       2323,    82.8500,    17.2633,       3411,    75.0,  -1.6776,  34.3191,2,  34.3060,2,-999.0000,9,   344.8,2,    3.03,2,    7.92,2,    0.02,2,    0.57,2,-999.000,9,-999.000,9,  2125.0,2,-999.000,9,-999.000,-999.000,9, -999.00,9, -999.00,  -1.6792
06AQ19870704,        NAO,     393,          1,         21,         21,2,19870814,       2323,    82.8500,    17.2633,       3411,   100.0,  -0.8298,  34.4551,2,  34.4390,2,-999.0000,9,   322.4,2,    4.40,2,   10.07,2,    0.00,2,    0.69,2,-999.000,9,-999.000,9,  2146.0,2,-999.000,9,-999.000,-999.000,9, -999.00,9, -999.00,  -0.8327
06AQ19870704,        NAO,     393,          1,         20,         20,2,19870814,       2323,    82.8500,    17.2633,       3411,   140.0,   0.8898,  34.6920,2,  34.6820,2,-999.0000,9,   310.5,2,    5.47,2,   11.44,2,    0.00,2,    0.77,2,-999.000,9,-999.000,9,  2159.0,2,-999.000,9,-999.000,-999.000,9, -999.00,9, -999.00,   0.8836
06AQ19870704,        NAO,     393,          1,         19,         19,2,19870814,       2323,    82.8500,    17.2633,       3411,   178.0,   1.6596,  34.8477,2,  34.8410,2,-999.0000,9,   308.0,2,    5.77,2,   12.31,2,    0.00,2,    0.81,2,-999.000,9,-999.000,9,  2170.0,2,-999.000,9,-999.000,-999.000,9, -999.00,9, -999.00,   1.6505
06AQ19870704,        NAO,     393,          1,         18,         18,2,19870814,       2323,    82.8500,    17.2633,       3411,   220.0,   1.9065,  34.9042,2,  34.9000,2,-999.0000,9,   307.8,2,    5.86,2,   12.51,2,    0.00,2,    0.82,2,-999.000,9,-999.000,9,  2167.0,2,-999.000,9,-999.000,-999.000,9, -999.00,9, -999.00,   1.8947
06AQ19870704,        NAO,     393,          1,         17,         17,2,19870814,       2323,    82.8500,    17.2633,       3411,   288.0,   1.8875,  34.9515,2,  34.9460,2,-999.0000,9,   309.4,2,    5.96,2,   12.90,2,    0.00,2,    0.84,2,-999.000,9,-999.000,9,  2171.0,2,-999.000,9,-999.000,-999.000,9, -999.00,9, -999.00,   1.8719
06AQ19870704,        NAO,     393,          1,         16,         16,2,19870814,       2323,    82.8500,    17.2633,       3411,   360.0,   1.6656,  34.9523,2,  34.9530,2,-999.0000,9,   309.1,2,    6.16,2,   13.00,2,    0.00,2,    0.85,2,-999.000,9,-999.000,9,  2177.0,2,-999.000,9,-999.000,-999.000,9, -999.00,9, -999.00,   1.6466
06AQ19870704,        NAO,     393,          1,         15,         15,2,19870814,       2323,    82.8500,    17.2633,       3411,   480.0,   1.1497,  34.9445,2,  34.9380,2,-999.0000,9,   307.2,2,    6.45,2,   13.09,2,    0.00,2,    0.85,2,-999.000,9,-999.000,9,  2175.0,2,-999.000,9,-999.000,-999.000,9, -999.00,9, -999.00,   1.1259
06AQ19870704,        NAO,     393,          1,         14,         14,2,19870814,       2323,    82.8500,    17.2633,       3411,   599.0,   0.5629,  34.9230,2,  34.9200,2,-999.0000,9,   305.1,2,    6.84,2,   13.19,2,    0.00,2,    0.86,2,-999.000,9,-999.000,9,  2178.0,2,-999.000,9,-999.000,-999.000,9, -999.00,9, -999.00,   0.5355
06AQ19870704,        NAO,     393,          1,         13,         13,2,19870814,       2323,    82.8500,    17.2633,       3411,   800.0,   0.0660,  34.9174,2,  34.9130,2,-999.0000,9,   305.8,2,    7.33,2,   13.19,2,    0.00,2,    0.88,2,-999.000,9,-999.000,9,  2182.0,2,-999.000,9,-999.000,-999.000,9, -999.00,9, -999.00,   0.0313
06AQ19870704,        NAO,     393,          1,         12,         12,2,19870814,       2323,    82.8500,    17.2633,       3411,   999.0,  -0.2419,  34.9317,2,  34.9160,2,-999.0000,9,   306.2,2,    8.01,2,   13.58,2,    0.00,2,    0.90,2,-999.000,9,-999.000,9,  2185.0,2,-999.000,9,-999.000,-999.000,9, -999.00,9, -999.00,  -0.2845
06AQ19870704,        NAO,     393,          1,         11,         11,2,19870814,       2323,    82.8500,    17.2633,       3411,  1199.0,  -0.4369,  34.9320,2,  34.9190,2,-999.0000,9,   304.9,2,    9.28,2,   13.97,2,    0.00,2,    0.96,2,-999.000,9,-999.000,9,  2187.0,2,-999.000,9,-999.000,-999.000,9, -999.00,9, -999.00,  -0.4883
06AQ19870704,        NAO,     393,          1,         10,         10,2,19870814,       2323,    82.8500,    17.2633,       3411,  1400.0,  -0.5899,  34.9357,2,  34.9210,2,-999.0000,9,   304.0,2,   10.16,2,   14.37,2,    0.00,2,    0.94,2,-999.000,9,-999.000,9,  2187.0,2,-999.000,9,-999.000,-999.000,9, -999.00,9, -999.00,  -0.6507
06AQ19870704,        NAO,     393,          1,          9,          9,2,19870814,       2323,    82.8500,    17.2633,       3411,  1598.0,  -0.6798,  34.9376,2,  34.9230,2,-999.0000,9,   303.7,2,   10.75,2,   14.66,2,    0.00,2,    0.98,2,-999.000,9,-999.000,9,  2190.0,2,-999.000,9,-999.000,-999.000,9, -999.00,9, -999.00,  -0.7508
06AQ19870704,        NAO,     393,          1,          8,          8,2,19870814,       2323,    82.8500,    17.2633,       3411,  1799.0,  -0.7828,  34.9340,2,  34.9200,2,-999.0000,9,   303.7,2,   11.24,2,   14.85,2,    0.00,2,    1.00,2,-999.000,9,-999.000,9,  2189.0,2,-999.000,9,-999.000,-999.000,9, -999.00,9, -999.00,  -0.8645
06AQ19870704,        NAO,     393,          1,          7,          7,2,19870814,       2323,    82.8500,    17.2633,       3411,  2000.0,  -0.8078,  34.9381,2,  34.9240,2,-999.0000,9,   303.3,2,   11.34,2,   14.95,2,    0.00,2,    1.01,2,-999.000,9,-999.000,9,  2191.0,2,-999.000,9,-999.000,-999.000,9, -999.00,9, -999.00,  -0.9017
06AQ19870704,        NAO,     393,          1,          6,          6,2,19870814,       2323,    82.8500,    17.2633,       3411,  2202.0,  -0.8228,  34.9400,2,  34.9250,2,-999.0000,9,   303.1,2,   11.53,2,   14.95,2,    0.00,2,    1.01,2,-999.000,9,-999.000,9,  2191.0,2,-999.000,9,-999.000,-999.000,9, -999.00,9, -999.00,  -0.9298
06AQ19870704,        NAO,     393,          1,          5,          5,2,19870814,       2323,    82.8500,    17.2633,       3411,  2500.0,  -0.8128,  34.9476,2,  34.9310,2,-999.0000,9,   302.4,2,   11.82,2,   14.95,2,    0.00,2,    1.01,2,-999.000,9,-999.000,9,  2190.0,2,-999.000,9,-999.000,-999.000,9, -999.00,9, -999.00,  -0.9409
06AQ19870704,        NAO,     393,          1,          4,          4,2,19870814,       2323,    82.8500,    17.2633,       3411,  2799.0,  -0.7978,  34.9511,2,  34.9350,2,-999.0000,9,   302.3,2,   11.82,2,   14.95,2,    0.00,2,    1.01,2,-999.000,9,-999.000,9,  2195.0,2,-999.000,9,-999.000,-999.000,9, -999.00,9, -999.00,  -0.9486
06AQ19870704,        NAO,     393,          1,          3,          3,2,19870814,       2323,    82.8500,    17.2633,       3411,  3100.0,  -0.7738,  34.9548,2,  34.9370,2,-999.0000,9,   300.8,2,   12.02,2,   14.95,2,    0.00,2,    1.01,2,-999.000,9,-999.000,9,  2194.0,2,-999.000,9,-999.000,-999.000,9, -999.00,9, -999.00,  -0.9492
06AQ19870704,        NAO,     393,          1,          2,          2,2,19870814,       2323,    82.8500,    17.2633,       3411,  3320.0,  -0.7548,  34.9552,2,  34.9390,2,-999.0000,9,   300.8,2,   12.02,2,   14.95,2,    0.00,2,    1.02,2,-999.000,9,-999.000,9,  2194.0,2,-999.000,9,-999.000,-999.000,9, -999.00,9, -999.00,  -0.9492
06AQ19870704,        NAO,     393,          1,          1,          1,2,19870814,       2323,    82.8500,    17.2633,       3411,  3470.0,  -0.7418,  34.9581,2,  34.9390,2,-999.0000,9,   300.6,2,   11.92,2,   14.95,2,    0.00,2,    1.02,2,-999.000,9,-999.000,9,  2192.0,2,-999.000,9,-999.000,-999.000,9, -999.00,9, -999.00,  -0.9495