BOTTLE,20140415SIOCCHRJL
EXPOCODE,SECT_ID,STNNBR,CASTNO,SAMPNO,BTLNBR,BTLNBR_FLAG_W,DATE,TIME,LATITUDE,LONGITUDE,DEPTH,CTDPRS,CTDTMP,CTDSAL,CTDSAL_FLAG_W,SALNTY,SALNTY_FLAG_W,CTDOXY,CTDOXY_FLAG_W,OXYGEN,OXYGEN_FLAG_W,SILCAT,SILCAT_FLAG_W,NITRAT,NITRAT_FLAG_W,NITRIT,NITRIT_FLAG_W,PHSPHT,PHSPHT_FLAG_W,CFC-11,CFC-11_FLAG_W,CFC-12,CFC-12_FLAG_W,TCARBN,TCARBN_FLAG_W,TRITUM,TRITUM_FLAG_W,TRITER,CCL4,CCL4_FLAG_W,DELO18,DELO18_FLAG_W,CTDRAW,THETA
,,,,,,,,,,,METERS,DBAR,ITS-90,PSS-78,,PSS-78,,UMOL/KG,,UMOL/KG,,UMOL/KG,,UMOL/KG,,UMOL/KG,,UMOL/KG,,PMOL/KG,,PMOL/KG,,UMOL/KG,,TU,,TU,PMOL/KG,,/MILLE,,DBAR,DEG C
06AQ19870704,        NAO,     340,          2,          3,          3,2,19870717,       1421,    82.9883,    31.9817,       3784,  3749.0,  -0.7138,  34.9607,2,  34.9420,2,-999.0000,9,   298.9,2,   11.53,2,   14.85,2,    0.00,2,    0.91,2,-999.000,9,-999.000,9,  2190.0,2,-999.000,9,-999.000,-999.000,9, -999.00,9, -999.00,  -0.9475
06AQ19870704,        NAO,     340,          2,          4,          4,2,19870717,       1421,    82.9883,    31.9817,       3784,  3749.0,  -0.7138,  34.9607,2,  34.9430,2,-999.0000,9,  -999.0,9,   11.63,2,   14.85,2,    0.00,2,    0.92,2,-999.000,9,-999.000,9,  -999.0,9,-999.000,9,-999.000,-999.000,9, -999.00,9, -999.00,  -0.9475
06AQ19870704,        NAO,     340,          2,          1,          1,2,19870717,       1421,    82.9883,    31.9817,       3784,  3802.0,  -0.7078,  34.9608,2,  34.9440,2,-999.0000,9,   298.9,2,   11.53,2,   14.85,2,    0.00,2,    0.92,2,-999.000,9,-999.000,9,  2192.0,2,-999.000,9,-999.000,-999.000,9, -999.00,9, -999.00,  -0.9466
06AQ19870704,        NAO,     340,          2,          2,          2,2,19870717,       1421,    82.9883,    31.9817,       3784,  3802.0,  -0.7078,  34.9608,2,  34.9430,2,-999.0000,9,  -999.0,9,   11.53,2,   14.76,2,    0.00,2,    0.92,2,-999.000,9,-999.000,9,  -999.0,9,-999.000,9,-999.000,-999.000,9, -999.00,9, -999.00,  -0.9466
06AQ19870704,        NAO,     358,          2,         24,         24,2,19870721,       1635,    84.0250,    30.5017,       4044,    19.9,  -1.7906,  34.0427,2,  34.0470,2,-999.0000,9,  -999.0,9,    2.35,2,    5.18,2,    0.02,2,    0.40,2,   5.131,2,   2.125,2,  2116.0,2,   5.890,2,   0.000,   8.218,2,   -0.34,2, -999.00,  -1.7910
06AQ19870704,        NAO,     358,          2,         23,         23,2,19870721,       1635,    84.0250,    30.5017,       4044,    20.0,  -1.7906,  34.0426,2,  34.0470,2,-999.0000,9,   364.7,2,    2.35,2,    5.08,2,    0.02,2,    0.40,2,   4.712,2,   2.082,2,  -999.0,9,-999.000,9,-999.000,   9.241,2, -999.00,9, -999.00,  -1.7910
06AQ19870704,        NAO,     358,          2,         22,         22,2,19870721,       1635,    84.0250,    30.5017,       4044,    45.3,  -1.8396,  34.1975,2,  34.1910,2,-999.0000,9,   360.3,2,    2.25,2,    5.87,2,    0.01,2,    0.45,2,   4.645,2,   2.081,2,  2123.0,2,   5.420,2,   0.000,   9.250,2,   -0.22,2, -999.00,  -1.8404
06AQ19870704,        NAO,     358,          2,         21,         21,2,19870721,       1635,    84.0250,    30.5017,       4044,    69.7,  -1.8586,  34.2303,2,  34.2170,2,-999.0000,9,   357.3,2,    2.44,2,    6.06,2, -999.00,9,    0.45,2,   4.675,2,   2.056,2,  -999.0,9,   5.690,2,   0.000,   9.805,2,   -0.27,2, -999.00,  -1.8599
06AQ19870704,        NAO,     358,          2,         20,         20,2,19870721,       1635,    84.0250,    30.5017,       4044,    90.0,  -1.8566,  34.2331,2,  34.2220,2,-999.0000,9,   356.8,2,    2.44,2,    6.16,2,    0.00,2,    0.46,2,   4.740,2,   2.091,2,  2122.0,2,   5.680,2,   0.000,   8.734,2,   -0.30,2, -999.00,  -1.8583
06AQ19870704,        NAO,     358,          2,         19,         19,2,19870721,       1635,    84.0250,    30.5017,       4044,   110.0,  -1.4816,  34.3192,2,  34.3110,2,-999.0000,9,   330.7,2,    3.52,2,    8.31,2,    0.00,2,    0.59,2,   3.900,2,   1.713,2,  2133.0,2,   5.440,2,   0.000,   7.858,2,   -0.03,2, -999.00,  -1.4841
06AQ19870704,        NAO,     358,          2,         18,         18,2,19870721,       1635,    84.0250,    30.5017,       4044,   125.0,  -1.2377,  34.3835,2,  34.3700,2,-999.0000,9,   325.5,2,    3.81,2,    8.90,2,    0.00,2,    0.61,2,   4.140,2,   1.776,2,  2132.0,2,   4.900,2,   0.000,   9.688,2,    0.03,2, -999.00,  -1.2408
06AQ19870704,        NAO,     358,          2,         17,         17,2,19870721,       1635,    84.0250,    30.5017,       4044,   140.0,  -0.7148,  34.4508,2,  34.4650,2,-999.0000,9,   315.0,2,    4.69,2,   10.07,2,    0.00,2,    0.67,2,   3.366,2,   1.477,2,  2144.0,2,   4.930,2,   0.000,   8.315,2,    0.05,2, -999.00,  -0.7190
06AQ19870704,        NAO,     358,          2,         16,         16,2,19870721,       1635,    84.0250,    30.5017,       4044,   154.0,   0.1550,  34.5623,2,  34.5720,2,-999.0000,9,   309.8,2,    5.08,2,   10.75,2,    0.00,2,    0.71,2,   2.900,2,   1.308,2,  2154.0,2,-999.000,9,-999.000,   6.972,2,    0.08,2, -999.00,   0.1492
06AQ19870704,        NAO,     358,          2,         15,         15,2,19870721,       1635,    84.0250,    30.5017,       4044,   170.0,   0.8298,  34.6764,2,  34.6930,2,-999.0000,9,   305.9,2,    5.28,2,   11.24,2,    0.00,2,    0.73,2,   2.852,2,   1.307,2,  2163.0,2,-999.000,9,-999.000,   7.683,2,    0.20,2, -999.00,   0.8224
06AQ19870704,        NAO,     358,          2,         14,         14,2,19870721,       1635,    84.0250,    30.5017,       4044,   190.0,   1.3677,  34.7620,2,  34.7810,2,-999.0000,9,   305.9,2,    5.28,2,   11.73,2,    0.00,2,    0.75,2,   3.306,2,   1.438,2,  2169.0,2,-999.000,9,-999.000,   6.018,2,    0.22,2, -999.00,   1.3585
06AQ19870704,        NAO,     358,          2,         13,         13,2,19870721,       1635,    84.0250,    30.5017,       4044,   220.0,   1.6256,  34.8241,2,  34.8360,2,-999.0000,9,   305.0,2,    5.28,2,   12.02,2,    0.00,2,    0.77,2,-999.000,9,-999.000,9,  2172.0,2,-999.000,9,-999.000,-999.000,9,    0.18,2, -999.00,   1.6144
06AQ19870704,        NAO,     358,          2,         12,         12,2,19870721,       1635,    84.0250,    30.5017,       4044,   249.0,   1.9035,  34.9059,2,  34.9000,2,-999.0000,9,  -999.0,9,    5.47,2,   12.41,2,    0.00,2,    0.79,2,   3.400,2,   1.545,2,  2171.0,2,-999.000,9,-999.000,   8.471,2,    0.22,2, -999.00,   1.8901
06AQ19870704,        NAO,     358,          2,         11,         11,2,19870721,       1635,    84.0250,    30.5017,       4044,   249.0,   1.9055,  34.9037,2,  34.9020,2,-999.0000,9,   306.3,2,    5.47,2,   12.41,2,    0.00,2,    0.79,2,-999.000,9,-999.000,9,  -999.0,9,-999.000,9,-999.000,-999.000,9, -999.00,9, -999.00,   1.8921
06AQ19870704,        NAO,     358,          2,         10,         10,2,19870721,       1635,    84.0250,    30.5017,       4044,   299.0,   1.7206,  34.9076,2,  34.9090,2,-999.0000,9,   307.2,2,    5.67,2,   12.41,2,    0.00,2,    0.79,2,   3.240,2,   1.396,2,  2167.0,2,-999.000,9,-999.000,   7.760,2,    0.23,2, -999.00,   1.7049
06AQ19870704,        NAO,     358,          2,          9,          9,2,19870721,       1635,    84.0250,    30.5017,       4044,   349.0,   1.7396,  34.9400,2,  34.9370,2,-999.0000,9,   307.6,2,    5.77,2,   12.61,2,    0.00,2,    0.80,2,   3.134,2,   1.406,2,  2178.0,2,-999.000,9,-999.000,   7.819,2,    0.20,2, -999.00,   1.7210
06AQ19870704,        NAO,     358,          2,          8,          8,2,19870721,       1635,    84.0250,    30.5017,       4044,   400.0,   1.3977,  34.9205,2,  34.9190,2,-999.0000,9,   304.5,2,    5.86,2,   12.51,2,    0.00,2,    0.80,2,   2.284,2,   1.070,2,  2181.0,2,-999.000,9,-999.000,   5.355,2,    0.22,2, -999.00,   1.3773
06AQ19870704,        NAO,     358,          2,          7,          7,2,19870721,       1635,    84.0250,    30.5017,       4044,   499.0,   1.0178,  34.9215,2,  34.9160,2,-999.0000,9,   302.4,2,    6.16,2,   12.61,2,    0.00,2,    0.80,2,   1.370,2,   0.662,2,  2180.0,2,-999.000,9,-999.000,   5.969,2,    0.23,2, -999.00,   0.9935
06AQ19870704,        NAO,     358,          2,          6,          6,2,19870721,       1635,    84.0250,    30.5017,       4044,   599.0,   0.8318,  34.9311,2,  34.9260,2,-999.0000,9,   303.7,2,    6.35,2,   12.80,2,    0.00,2,    0.82,2,   1.272,2,   0.616,2,  2186.0,2,-999.000,9,-999.000,   6.689,2,    0.27,2, -999.00,   0.8031
06AQ19870704,        NAO,     358,          2,          5,          5,2,19870721,       1635,    84.0250,    30.5017,       4044,   700.0,   0.4479,  34.9220,2,  34.9170,2,-999.0000,9,   304.5,2,    6.55,2,   12.80,2,    0.00,2,    0.83,2,   0.842,2,   0.400,2,  2187.0,2,-999.000,9,-999.000,   4.645,2,    0.26,2, -999.00,   0.4159
06AQ19870704,        NAO,     358,          2,          4,          4,2,19870721,       1635,    84.0250,    30.5017,       4044,   799.0,   0.1810,  34.9195,2,  34.9150,2,-999.0000,9,   305.4,2,    6.74,2,   12.80,2,    0.00,2,    0.82,2,   0.620,2,   0.330,2,  2187.0,2,-999.000,9,-999.000,   4.557,2,    0.23,2, -999.00,   0.1455
06AQ19870704,        NAO,     358,          2,          3,          3,2,19870721,       1635,    84.0250,    30.5017,       4044,   875.0,   0.0190,  34.9178,2,  34.9140,2,-999.0000,9,   305.0,2,    6.94,2,   12.80,2,    0.00,2,    0.85,2,   0.578,2,   0.300,2,  -999.0,9,-999.000,9,-999.000,-999.000,9,    0.21,2, -999.00,  -0.0192
06AQ19870704,        NAO,     358,          2,          2,          2,2,19870721,       1635,    84.0250,    30.5017,       4044,   925.0,  -0.0800,  34.9284,2,  34.9140,2,-999.0000,9,   305.4,2,    7.13,2,   12.90,2,    0.00,2,    0.85,2,   0.588,2,   0.296,2,  2192.0,2,-999.000,9,-999.000,   4.674,2,    0.23,2, -999.00,  -0.1201
06AQ19870704,        NAO,     358,          2,          1,          1,2,19870721,       1635,    84.0250,    30.5017,       4044,  1002.0,  -0.1800,  34.9312,2,-999.0000,9,-999.0000,9,  -999.0,9, -999.00,9, -999.00,9, -999.00,9, -999.00,9,-999.000,9,-999.000,9,  -999.0,9,-999.000,9,-999.000,-999.000,9, -999.00,9, -999.00,  -0.2233
06AQ19870704,        NAO,     358,          1,         24,         24,2,19870721,       2310,    84.0250,    30.5017,       4044,  1100.0,  -0.2959,  34.9308,2,  34.9190,2,-999.0000,9,   305.4,2,    8.31,2,   13.39,2,    0.00,2,    0.86,2,   0.420,2,   0.256,2,  2188.0,2,-999.000,9,-999.000,-999.000,9,    0.28,2, -999.00,  -0.3434
06AQ19870704,        NAO,     358,          1,         23,         23,2,19870721,       2310,    84.0250,    30.5017,       4044,  1248.0,  -0.4419,  34.9323,2,  34.9200,2,-999.0000,9,   303.2,2,    9.09,2,   13.78,2,    0.00,2,    0.89,2,   0.337,2,   0.208,2,  2189.0,2,-999.000,9,-999.000,   3.544,2,    0.26,2, -999.00,  -0.4959
06AQ19870704,        NAO,     358,          1,         22,         22,2,19870721,       2310,    84.0250,    30.5017,       4044,  1399.0,  -0.5489,  34.9363,2,  34.9200,2,-999.0000,9,   304.1,2,    9.58,2,   13.97,2,    0.00,2,    0.90,2,-999.000,9,   0.145,2,  2188.0,2,-999.000,9,-999.000,   2.639,2,    0.26,2, -999.00,  -0.6101
06AQ19870704,        NAO,     358,          1,         21,         21,2,19870721,       2310,    84.0250,    30.5017,       4044,  1600.0,  -0.6488,  34.9372,2,  34.9220,2,-999.0000,9,   302.3,2,   10.16,2,   14.37,2,    0.00,2,    0.92,2,   0.173,2,   0.114,2,  2184.0,2,-999.000,9,-999.000,-999.000,9,    0.27,2, -999.00,  -0.7203
06AQ19870704,        NAO,     358,          1,         20,         20,2,19870721,       2310,    84.0250,    30.5017,       4044,  1800.0,  -0.7208,  34.9364,2,  34.9200,2,-999.0000,9,   302.8,2,   10.65,2,   14.56,2,    0.00,2,    0.95,2,   0.123,2,   0.054,2,  -999.0,9,-999.000,9,-999.000,   1.928,2,    0.25,2, -999.00,  -0.8034
06AQ19870704,        NAO,     358,          1,         19,         19,2,19870721,       2310,    84.0250,    30.5017,       4044,  1949.0,  -0.7558,  34.9375,2,  34.9230,2,-999.0000,9,   302.8,2,   10.85,2,   14.66,2,    0.00,2,    0.94,2,   0.088,2,   0.090,2,  2183.0,2,-999.000,9,-999.000,-999.000,9,    0.18,2, -999.00,  -0.8473
06AQ19870704,        NAO,     358,          1,         18,         18,2,19870721,       2310,    84.0250,    30.5017,       4044,  2099.0,  -0.7798,  34.9384,2,  34.9250,2,-999.0000,9,   302.3,2,   11.04,2,   14.66,2,    0.00,2,    0.95,2,   0.071,2,   0.053,2,  2184.0,2,-999.000,9,-999.000,   1.957,2,    0.28,2, -999.00,  -0.8806
06AQ19870704,        NAO,     358,          1,         17,         17,2,19870721,       2310,    84.0250,    30.5017,       4044,  2251.0,  -0.7948,  34.9395,2,  34.9270,2,-999.0000,9,   302.3,2,   11.14,2,   14.66,2,    0.00,2,    0.96,2,-999.000,9,   0.021,2,  2189.0,2,-999.000,9,-999.000,-999.000,9,    0.27,2, -999.00,  -0.9056
06AQ19870704,        NAO,     358,          1,         16,         16,2,19870721,       2310,    84.0250,    30.5017,       4044,  2401.0,  -0.8018,  34.9429,2,  34.9280,2,-999.0000,9,   302.8,2,   11.04,2,   14.76,2,    0.00,2,    0.95,2,   0.051,2,   0.037,2,  2191.0,2,-999.000,9,-999.000,   1.373,2,    0.31,2, -999.00,  -0.9230
06AQ19870704,        NAO,     358,          1,         15,         15,2,19870721,       2310,    84.0250,    30.5017,       4044,  2600.0,  -0.8038,  34.9441,2,  34.9310,2,-999.0000,9,   302.8,2,   11.14,2,   14.76,2,    0.00,2,    0.96,2,   0.031,2,   0.022,2,  2187.0,2,-999.000,9,-999.000,   0.896,2,    0.34,2, -999.00,  -0.9394
06AQ19870704,        NAO,     358,          1,         14,         14,2,19870721,       2310,    84.0250,    30.5017,       4044,  2800.0,  -0.7998,  34.9475,2,  34.9340,2,-999.0000,9,   301.9,2,   11.34,2,   14.76,2,    0.00,2,    0.96,2,   0.018,2,   0.014,2,  2187.0,2,-999.000,9,-999.000,   0.906,2,    0.30,2, -999.00,  -0.9507
06AQ19870704,        NAO,     358,          1,         13,         13,2,19870721,       2310,    84.0250,    30.5017,       4044,  3000.0,  -0.7908,  34.9508,2,  34.9360,2,-999.0000,9,   301.5,2,   11.53,2,   14.76,2,    0.00,2,    0.95,2,-999.000,9,   0.014,2,  2186.0,2,-999.000,9,-999.000,-999.000,9,    0.25,2, -999.00,  -0.9577
06AQ19870704,        NAO,     358,          1,         12,         12,2,19870721,       2310,    84.0250,    30.5017,       4044,  3200.0,  -0.7738,  34.9558,2,  34.9390,2,-999.0000,9,   301.0,2,   11.63,2,   14.76,2,    0.00,2,    0.96,2,   0.018,2,   0.020,2,  2186.0,2,-999.000,9,-999.000,-999.000,9,    0.38,2, -999.00,  -0.9575
06AQ19870704,        NAO,     358,          1,         11,         11,2,19870721,       2310,    84.0250,    30.5017,       4044,  3350.0,  -0.7578,  34.9599,2,  34.9390,2,-999.0000,9,   300.2,2,   11.82,2,   14.66,2,    0.00,2,    0.95,2,   0.015,2,   0.008,2,  2187.0,2,-999.000,9,-999.000,   0.672,2,    0.30,2, -999.00,  -0.9547
06AQ19870704,        NAO,     358,          1,         10,         10,2,19870721,       2310,    84.0250,    30.5017,       4044,  3499.0,  -0.7388,  34.9619,2,  34.9420,2,-999.0000,9,   299.3,2,   11.92,2,   14.76,2,    0.00,2,    0.96,2,   0.006,2,   0.007,2,  2189.0,2,-999.000,9,-999.000,   0.633,2,    0.25,2, -999.00,  -0.9492
06AQ19870704,        NAO,     358,          1,          9,          9,2,19870721,       2310,    84.0250,    30.5017,       4044,  3650.0,  -0.7228,  34.9593,2,  34.9420,2,-999.0000,9,  -999.0,9,   11.92,2,   14.76,2,    0.00,2,    0.96,2,   0.005,2,   0.014,2,  2189.0,2,-999.000,9,-999.000,   0.584,2,    0.26,2, -999.00,  -0.9472
06AQ19870704,        NAO,     358,          1,          8,          8,2,19870721,       2310,    84.0250,    30.5017,       4044,  3650.0,  -0.7228,  34.9580,2,  34.9430,2,-999.0000,9,   299.3,2,   11.82,2,   14.76,2,    0.00,2,    0.96,2,-999.000,9,-999.000,9,  -999.0,9,-999.000,9,-999.000,-999.000,9, -999.00,9, -999.00,  -0.9472
06AQ19870704,        NAO,     358,          1,          7,          7,2,19870721,       2310,    84.0250,    30.5017,       4044,  3800.0,  -0.7078,  34.9591,2,  34.9420,2,-999.0000,9,   299.3,2,   11.92,2,   14.76,2,    0.00,2,    0.97,2,   0.002,2,   0.025,2,  2192.0,2,-999.000,9,-999.000,   0.467,2,    0.30,2, -999.00,  -0.9464
06AQ19870704,        NAO,     358,          1,          5,          5,2,19870721,       2310,    84.0250,    30.5017,       4044,  3925.0,  -0.6958,  34.9589,2,  34.9420,2,-999.0000,9,  -999.0,9,   11.82,2,   14.76,2,    0.00,2,    0.96,2,-999.000,9,-999.000,9,  -999.0,9,-999.000,9,-999.000,-999.000,9, -999.00,9, -999.00,  -0.9465
06AQ19870704,        NAO,     358,          1,          6,          6,2,19870721,       2310,    84.0250,    30.5017,       4044,  3927.0,  -0.6958,  34.9592,2,  34.9430,2,-999.0000,9,   298.9,2,   11.92,2,   14.76,2,    0.00,2,    0.96,2,   0.040,2,   0.016,2,  2193.0,2,-999.000,9,-999.000,   0.886,2,    0.30,2, -999.00,  -0.9467
06AQ19870704,        NAO,     358,          1,          3,          3,2,19870721,       2310,    84.0250,    30.5017,       4044,  4024.0,  -0.6868,  34.9625,2,  34.9430,2,-999.0000,9,   298.9,2,   11.82,2,   14.66,2,    0.00,2,    0.94,2,   0.040,2,   0.017,2,  2195.0,2,-999.000,9,-999.000,   0.331,2,    0.32,2, -999.00,  -0.9472
06AQ19870704,        NAO,     358,          1,          4,          4,2,19870721,       2310,    84.0250,    30.5017,       4044,  4025.0,  -0.6868,  34.9621,2,  34.9430,2,-999.0000,9,  -999.0,9,   11.82,2,   14.56,2,    0.00,2,    0.95,2,-999.000,9,-999.000,9,  -999.0,9,-999.000,9,-999.000,-999.000,9, -999.00,9, -999.00,  -0.9473
06AQ19870704,        NAO,     358,          1,          2,          2,2,19870721,       2310,    84.0250,    30.5017,       4044,  4075.0,  -0.6818,  34.9613,2,  34.9430,2,-999.0000,9,  -999.0,9,   11.82,2,   14.66,2,    0.00,2,    0.95,2,  -0.002,2,   0.000,2,  -999.0,9,-999.000,9,-999.000,   0.701,2, -999.00,9, -999.00,  -0.9473
06AQ19870704,        NAO,     358,          1,          1,          1,2,19870721,       2310,    84.0250,    30.5017,       4044,  4075.0,  -0.6818,  34.9600,2,  34.9430,2,-999.0000,9,   298.9,2,   11.73,2,   14.66,2,    0.00,2,    0.95,2,-999.000,9,-999.000,9,  2195.0,2,-999.000,9,-999.000,-999.000,9,    0.30,2, -999.00,  -0.9473
06AQ19870704,        NAO,     362,          2,         24,         24,2,19870726,       1210,    85.0833,    29.3300,       4037,    14.8,  -1.8036,  33.8081,2,  33.7860,2,-999.0000,9,  -999.0,9,    2.64,2,    3.72,2,    0.03,2,    0.36,2,-999.000,9,-999.000,9,  -999.0,9,-999.000,9,-999.000,-999.000,9, -999.00,9, -999.00,  -1.8039