BOTTLE,20140415SIOCCHRJL
EXPOCODE,SECT_ID,STNNBR,CASTNO,SAMPNO,BTLNBR,BTLNBR_FLAG_W,DATE,TIME,LATITUDE,LONGITUDE,DEPTH,CTDPRS,CTDTMP,CTDSAL,CTDSAL_FLAG_W,SALNTY,SALNTY_FLAG_W,CTDOXY,CTDOXY_FLAG_W,OXYGEN,OXYGEN_FLAG_W,SILCAT,SILCAT_FLAG_W,NITRAT,NITRAT_FLAG_W,NITRIT,NITRIT_FLAG_W,PHSPHT,PHSPHT_FLAG_W,CFC-11,CFC-11_FLAG_W,CFC-12,CFC-12_FLAG_W,TCARBN,TCARBN_FLAG_W,TRITUM,TRITUM_FLAG_W,TRITER,CCL4,CCL4_FLAG_W,DELO18,DELO18_FLAG_W,CTDRAW,THETA
,,,,,,,,,,,METERS,DBAR,ITS-90,PSS-78,,PSS-78,,UMOL/KG,,UMOL/KG,,UMOL/KG,,UMOL/KG,,UMOL/KG,,UMOL/KG,,PMOL/KG,,PMOL/KG,,UMOL/KG,,TU,,TU,PMOL/KG,,/MILLE,,DBAR,DEG C
06AQ19870704,        NAO,     423,          1,         24,         24,2,19870816,       2120,    81.3267,    15.3450,       2299,    20.4,  -1.7196,  33.7979,2,  33.7840,2,-999.0000,9,   361.4,2,    2.77,2,    6.23,2,    0.02,2,    0.48,2,-999.000,9,-999.000,9,  -999.0,9,-999.000,9,-999.000,-999.000,9, -999.00,9, -999.00,  -1.7200
06AQ19870704,        NAO,     423,          1,         23,         23,2,19870816,       2120,    81.3267,    15.3450,       2299,    35.1,  -1.6696,  34.0960,2,  34.1200,2,-999.0000,9,   354.0,2,    2.96,2,    6.86,2,    0.02,2,    0.52,2,-999.000,9,-999.000,9,  -999.0,9,-999.000,9,-999.000,-999.000,9, -999.00,9, -999.00,  -1.6703
06AQ19870704,        NAO,     423,          1,         22,         22,2,19870816,       2120,    81.3267,    15.3450,       2299,    45.5,  -1.3897,  34.2709,2,  34.2930,2,-999.0000,9,   344.5,2,    3.28,2,    7.85,2,    0.07,2,    0.59,2,-999.000,9,-999.000,9,  -999.0,9,-999.000,9,-999.000,-999.000,9, -999.00,9, -999.00,  -1.3907
06AQ19870704,        NAO,     423,          1,         21,         21,2,19870816,       2120,    81.3267,    15.3450,       2299,    65.0,  -0.4509,  34.5111,2,  34.5070,2,-999.0000,9,   331.5,2,    4.00,2,    9.33,2,    0.20,2,    0.68,2,-999.000,9,-999.000,9,  -999.0,9,-999.000,9,-999.000,-999.000,9, -999.00,9, -999.00,  -0.4530
06AQ19870704,        NAO,     423,          1,         20,         20,2,19870816,       2120,    81.3267,    15.3450,       2299,    85.5,   0.4479,  34.6504,2,  34.6600,2,-999.0000,9,   325.0,2,    4.21,2,    9.69,2,    0.25,2,    0.71,2,-999.000,9,-999.000,9,  -999.0,9,-999.000,9,-999.000,-999.000,9, -999.00,9, -999.00,   0.4445
06AQ19870704,        NAO,     423,          1,         19,         19,2,19870816,       2120,    81.3267,    15.3450,       2299,   105.0,   1.1747,  34.7767,2,  34.7810,2,-999.0000,9,   318.1,2,    4.84,2,   11.06,2,    0.21,2,    0.76,2,-999.000,9,-999.000,9,  -999.0,9,-999.000,9,-999.000,-999.000,9, -999.00,9, -999.00,   1.1698
06AQ19870704,        NAO,     423,          1,         18,         18,2,19870816,       2120,    81.3267,    15.3450,       2299,   130.0,   1.6216,  34.8505,2,  34.8500,2,-999.0000,9,   313.9,2,    5.14,2,   11.72,2,    0.17,2,    0.78,2,-999.000,9,-999.000,9,  -999.0,9,-999.000,9,-999.000,-999.000,9, -999.00,9, -999.00,   1.6151
06AQ19870704,        NAO,     423,          1,         17,         17,2,19870816,       2120,    81.3267,    15.3450,       2299,   160.0,   1.7516,  34.8906,2,  34.8870,2,-999.0000,9,   314.2,2,    5.24,2,   11.88,2,    0.17,2,    0.79,2,-999.000,9,-999.000,9,  -999.0,9,-999.000,9,-999.000,-999.000,9, -999.00,9, -999.00,   1.7433
06AQ19870704,        NAO,     423,          1,         16,         16,2,19870816,       2120,    81.3267,    15.3450,       2299,   200.0,   1.8256,  34.9170,2,  34.9160,2,-999.0000,9,   314.1,2,    5.52,2,   12.37,2,    0.01,2,    0.82,2,-999.000,9,-999.000,9,  -999.0,9,-999.000,9,-999.000,-999.000,9, -999.00,9, -999.00,   1.8151
06AQ19870704,        NAO,     423,          1,         15,         15,2,19870816,       2120,    81.3267,    15.3450,       2299,   249.0,   1.8026,  34.9342,2,  34.9310,2,-999.0000,9,   316.1,2,    5.31,2,   12.24,2,    0.01,2,    0.81,2,-999.000,9,-999.000,9,  -999.0,9,-999.000,9,-999.000,-999.000,9, -999.00,9, -999.00,   1.7894
06AQ19870704,        NAO,     423,          1,         14,         14,2,19870816,       2120,    81.3267,    15.3450,       2299,   326.0,   1.7806,  34.9584,2,  34.9530,2,-999.0000,9,   314.1,2,    5.67,2,   12.47,2,    0.00,2,    0.83,2,-999.000,9,-999.000,9,  -999.0,9,-999.000,9,-999.000,-999.000,9, -999.00,9, -999.00,   1.7632
06AQ19870704,        NAO,     423,          1,         13,         13,2,19870816,       2120,    81.3267,    15.3450,       2299,   400.0,   1.7046,  34.9672,2,  34.9630,2,-999.0000,9,   314.5,2,    5.85,2,   12.65,2,    0.00,2,    0.84,2,-999.000,9,-999.000,9,  2176.0,2,-999.000,9,-999.000,-999.000,9, -999.00,9, -999.00,   1.6832
06AQ19870704,        NAO,     423,          1,         12,         12,2,19870816,       2120,    81.3267,    15.3450,       2299,   475.0,   1.5056,  34.9635,2,  34.9590,2,-999.0000,9,   311.4,2,    6.00,2,   12.84,2,    0.00,2,    0.84,2,-999.000,9,-999.000,9,  2178.0,2,-999.000,9,-999.000,-999.000,9, -999.00,9, -999.00,   1.4807
06AQ19870704,        NAO,     423,          1,         11,         11,2,19870816,       2120,    81.3267,    15.3450,       2299,   600.0,   1.2227,  34.9631,2,  34.9700,2,-999.0000,9,   312.3,2,    6.24,2,   12.96,2,    0.00,2,    0.86,2,-999.000,9,-999.000,9,  2181.0,2,-999.000,9,-999.000,-999.000,9, -999.00,9, -999.00,   1.1919
06AQ19870704,        NAO,     423,          1,         10,         10,2,19870816,       2120,    81.3267,    15.3450,       2299,   799.0,   0.5099,  34.9436,2,  34.9410,2,-999.0000,9,   310.0,2,    7.32,2,   13.56,2,    0.00,2,    0.89,2,-999.000,9,-999.000,9,  2185.0,2,-999.000,9,-999.000,-999.000,9, -999.00,9, -999.00,   0.4723
06AQ19870704,        NAO,     423,          1,          9,          9,2,19870816,       2120,    81.3267,    15.3450,       2299,  1000.0,  -0.1560,  34.9368,2,  34.9230,2,-999.0000,9,   306.6,2,    8.65,2,   13.99,2,    0.00,2,    0.94,2,-999.000,9,-999.000,9,  2186.0,2,-999.000,9,-999.000,-999.000,9, -999.00,9, -999.00,  -0.1994
06AQ19870704,        NAO,     423,          1,          8,          8,2,19870816,       2120,    81.3267,    15.3450,       2299,  1200.0,  -0.4909,  34.9342,2,-999.0000,9,-999.0000,9,   304.6,2,    9.51,2,   14.26,2,    0.00,2,    0.97,2,-999.000,9,-999.000,9,  2192.0,2,-999.000,9,-999.000,-999.000,9, -999.00,9, -999.00,  -0.5419
06AQ19870704,        NAO,     423,          1,          7,          7,2,19870816,       2120,    81.3267,    15.3450,       2299,  1400.0,  -0.6678,  34.9323,2,  34.9210,2,-999.0000,9,   303.4,2,   10.25,2,   14.57,2,    0.00,2,    0.98,2,-999.000,9,-999.000,9,  2191.0,2,-999.000,9,-999.000,-999.000,9, -999.00,9, -999.00,  -0.7277
06AQ19870704,        NAO,     423,          1,          6,          6,2,19870816,       2120,    81.3267,    15.3450,       2299,  1602.0,  -0.7888,  34.9337,2,  34.9200,2,-999.0000,9,   303.2,2,   10.79,2,   14.71,2,    0.00,2,    0.99,2,-999.000,9,-999.000,9,  2193.0,2,-999.000,9,-999.000,-999.000,9, -999.00,9, -999.00,  -0.8587
06AQ19870704,        NAO,     423,          1,          5,          5,2,19870816,       2120,    81.3267,    15.3450,       2299,  1801.0,  -0.8188,  34.9391,2,  34.9240,2,-999.0000,9,   303.1,2,   11.08,2,   14.77,2,    0.00,2,    1.00,2,-999.000,9,-999.000,9,  2188.0,2,-999.000,9,-999.000,-999.000,9, -999.00,9, -999.00,  -0.9001
06AQ19870704,        NAO,     423,          1,          4,          4,2,19870816,       2120,    81.3267,    15.3450,       2299,  2000.0,  -0.8438,  34.9443,2,  34.9290,2,-999.0000,9,   303.1,2,   11.29,2,   14.85,2,    0.00,2,    1.00,2,-999.000,9,-999.000,9,  2190.0,2,-999.000,9,-999.000,-999.000,9, -999.00,9, -999.00,  -0.9372
06AQ19870704,        NAO,     423,          1,          3,          3,2,19870816,       2120,    81.3267,    15.3450,       2299,  2173.0,  -0.8368,  34.9447,2,  34.9320,2,-999.0000,9,   303.0,2,   11.47,2,   14.87,2,    0.00,2,    1.01,2,-999.000,9,-999.000,9,  2187.0,2,-999.000,9,-999.000,-999.000,9, -999.00,9, -999.00,  -0.9416
06AQ19870704,        NAO,     423,          1,          1,          1,2,19870816,       2120,    81.3267,    15.3450,       2299,  2272.0,  -0.8308,  34.9492,2,  34.9320,2,-999.0000,9,   301.7,2,   11.60,2,   14.89,2,    0.00,2,    1.01,2,-999.000,9,-999.000,9,  -999.0,9,-999.000,9,-999.000,-999.000,9, -999.00,9, -999.00,  -0.9425
06AQ19870704,        NAO,     423,          1,          2,          2,2,19870816,       2120,    81.3267,    15.3450,       2299,  2273.0,  -0.8308,  34.9473,2,  34.9330,2,-999.0000,9,  -999.0,9,   11.59,2,   14.89,2,    0.00,2,    1.01,2,-999.000,9,-999.000,9,  2191.0,2,-999.000,9,-999.000,-999.000,9, -999.00,9, -999.00,  -0.9425
06AQ19870704,        NAO,     430,          1,         24,         24,2,19870824,       0000,    78.7933,     1.6867,       2555,    50.2,   2.7034,  34.9411,2,  34.9425,2,-999.0000,9,   312.4,2, -999.00,9, -999.00,9, -999.00,9, -999.00,9,-999.000,9,-999.000,9,  -999.0,9,-999.000,9,-999.000,-999.000,9, -999.00,9, -999.00,   2.7005
06AQ19870704,        NAO,     430,          1,         21,         21,2,19870824,       0000,    78.7933,     1.6867,       2555,   591.0,   0.1040,  34.9152,2,-999.0000,9,-999.0000,9,  -999.0,9, -999.00,9, -999.00,9, -999.00,9, -999.00,9,-999.000,9,-999.000,9,  -999.0,9,-999.000,9,-999.000,-999.000,9, -999.00,9, -999.00,   0.0792
06AQ19870704,        NAO,     430,          1,         17,         17,2,19870824,       0000,    78.7933,     1.6867,       2555,   591.0,   0.0990,  34.9130,2,  34.9095,2,-999.0000,9,   317.0,2, -999.00,9, -999.00,9, -999.00,9, -999.00,9,-999.000,9,-999.000,9,  -999.0,9,-999.000,9,-999.000,-999.000,9, -999.00,9, -999.00,   0.0743
06AQ19870704,        NAO,     430,          1,         18,         18,2,19870824,       0000,    78.7933,     1.6867,       2555,   591.0,   0.0990,  34.9130,2,-999.0000,9,-999.0000,9,  -999.0,9, -999.00,9, -999.00,9, -999.00,9, -999.00,9,-999.000,9,-999.000,9,  -999.0,9,-999.000,9,-999.000,-999.000,9, -999.00,9, -999.00,   0.0743
06AQ19870704,        NAO,     430,          1,         20,         20,2,19870824,       0000,    78.7933,     1.6867,       2555,   591.0,   0.1050,  34.9141,2,-999.0000,9,-999.0000,9,  -999.0,9, -999.00,9, -999.00,9, -999.00,9, -999.00,9,-999.000,9,-999.000,9,  -999.0,9,-999.000,9,-999.000,-999.000,9, -999.00,9, -999.00,   0.0802
06AQ19870704,        NAO,     430,          1,         22,         22,2,19870824,       0000,    78.7933,     1.6867,       2555,   592.0,   0.1030,  34.9131,2,-999.0000,9,-999.0000,9,  -999.0,9, -999.00,9, -999.00,9, -999.00,9, -999.00,9,-999.000,9,-999.000,9,  -999.0,9,-999.000,9,-999.000,-999.000,9, -999.00,9, -999.00,   0.0782
06AQ19870704,        NAO,     430,          1,         23,         23,2,19870824,       0000,    78.7933,     1.6867,       2555,   592.0,   0.1020,  34.9129,2,  34.9090,2,-999.0000,9,  -999.0,9, -999.00,9, -999.00,9, -999.00,9, -999.00,9,-999.000,9,-999.000,9,  -999.0,9,-999.000,9,-999.000,-999.000,9, -999.00,9, -999.00,   0.0772
06AQ19870704,        NAO,     430,          1,         19,         19,2,19870824,       0000,    78.7933,     1.6867,       2555,   592.0,   0.1010,  34.9127,2,  34.9092,2,-999.0000,9,  -999.0,9, -999.00,9, -999.00,9, -999.00,9, -999.00,9,-999.000,9,-999.000,9,  -999.0,9,-999.000,9,-999.000,-999.000,9, -999.00,9, -999.00,   0.0762
06AQ19870704,        NAO,     430,          1,          1,          1,2,19870824,       0000,    78.7933,     1.6867,       2555,  2547.0,  -1.0697,  34.9141,2,  34.8991,2,-999.0000,9,   310.5,2, -999.00,9, -999.00,9, -999.00,9, -999.00,9,-999.000,9,-999.000,9,  -999.0,9,-999.000,9,-999.000,-999.000,9, -999.00,9, -999.00,  -1.1960
06AQ19870704,        NAO,     430,          1,          2,          2,2,19870824,       0000,    78.7933,     1.6867,       2555,  2548.0,  -1.0697,  34.9135,2,-999.0000,9,-999.0000,9,  -999.0,9, -999.00,9, -999.00,9, -999.00,9, -999.00,9,-999.000,9,-999.000,9,  -999.0,9,-999.000,9,-999.000,-999.000,9, -999.00,9, -999.00,  -1.1961
06AQ19870704,        NAO,     430,          1,          3,          3,2,19870824,       0000,    78.7933,     1.6867,       2555,  2549.0,  -1.0697,  34.9130,2,-999.0000,9,-999.0000,9,  -999.0,9, -999.00,9, -999.00,9, -999.00,9, -999.00,9,-999.000,9,-999.000,9,  -999.0,9,-999.000,9,-999.000,-999.000,9, -999.00,9, -999.00,  -1.1962
06AQ19870704,        NAO,     430,          1,          4,          4,2,19870824,       0000,    78.7933,     1.6867,       2555,  2550.0,  -1.0697,  34.9152,2,-999.0000,9,-999.0000,9,  -999.0,9, -999.00,9, -999.00,9, -999.00,9, -999.00,9,-999.000,9,-999.000,9,  -999.0,9,-999.000,9,-999.000,-999.000,9, -999.00,9, -999.00,  -1.1963
06AQ19870704,        NAO,     430,          1,          5,          5,2,19870824,       0000,    78.7933,     1.6867,       2555,  2551.0,  -1.0707,  34.9145,2,-999.0000,9,-999.0000,9,  -999.0,9, -999.00,9, -999.00,9, -999.00,9, -999.00,9,-999.000,9,-999.000,9,  -999.0,9,-999.000,9,-999.000,-999.000,9, -999.00,9, -999.00,  -1.1973
06AQ19870704,        NAO,     430,          1,         15,         15,2,19870824,       0000,    78.7933,     1.6867,       2555,  2552.0,  -1.0697,  34.9128,2,-999.0000,9,-999.0000,9,  -999.0,9, -999.00,9, -999.00,9, -999.00,9, -999.00,9,-999.000,9,-999.000,9,  -999.0,9,-999.000,9,-999.000,-999.000,9, -999.00,9, -999.00,  -1.1964
06AQ19870704,        NAO,     430,          1,         11,         11,2,19870824,       0000,    78.7933,     1.6867,       2555,  2552.0,  -1.0707,  34.9153,2,-999.0000,9,-999.0000,9,  -999.0,9, -999.00,9, -999.00,9, -999.00,9, -999.00,9,-999.000,9,-999.000,9,  -999.0,9,-999.000,9,-999.000,-999.000,9, -999.00,9, -999.00,  -1.1974
06AQ19870704,        NAO,     430,          1,         14,         14,2,19870824,       0000,    78.7933,     1.6867,       2555,  2552.0,  -1.0697,  34.9115,2,-999.0000,9,-999.0000,9,  -999.0,9, -999.00,9, -999.00,9, -999.00,9, -999.00,9,-999.000,9,-999.000,9,  -999.0,9,-999.000,9,-999.000,-999.000,9, -999.00,9, -999.00,  -1.1964
06AQ19870704,        NAO,     430,          1,          6,          6,2,19870824,       0000,    78.7933,     1.6867,       2555,  2552.0,  -1.0707,  34.9153,2,-999.0000,9,-999.0000,9,  -999.0,9, -999.00,9, -999.00,9, -999.00,9, -999.00,9,-999.000,9,-999.000,9,  -999.0,9,-999.000,9,-999.000,-999.000,9, -999.00,9, -999.00,  -1.1974
06AQ19870704,        NAO,     430,          1,         13,         13,2,19870824,       0000,    78.7933,     1.6867,       2555,  2552.0,  -1.0697,  34.9141,2,-999.0000,9,-999.0000,9,  -999.0,9, -999.00,9, -999.00,9, -999.00,9, -999.00,9,-999.000,9,-999.000,9,  -999.0,9,-999.000,9,-999.000,-999.000,9, -999.00,9, -999.00,  -1.1964
06AQ19870704,        NAO,     430,          1,         16,         16,2,19870824,       0000,    78.7933,     1.6867,       2555,  2552.0,  -1.0697,  34.9115,2,-999.0000,9,-999.0000,9,  -999.0,9, -999.00,9, -999.00,9, -999.00,9, -999.00,9,-999.000,9,-999.000,9,  -999.0,9,-999.000,9,-999.000,-999.000,9, -999.00,9, -999.00,  -1.1964
06AQ19870704,        NAO,     430,          1,         12,         12,2,19870824,       0000,    78.7933,     1.6867,       2555,  2552.0,  -1.0697,  34.9141,2,-999.0000,9,-999.0000,9,  -999.0,9, -999.00,9, -999.00,9, -999.00,9, -999.00,9,-999.000,9,-999.000,9,  -999.0,9,-999.000,9,-999.000,-999.000,9, -999.00,9, -999.00,  -1.1964
06AQ19870704,        NAO,     430,          1,          9,          9,2,19870824,       0000,    78.7933,     1.6867,       2555,  2553.0,  -1.0697,  34.9136,2,-999.0000,9,-999.0000,9,  -999.0,9, -999.00,9, -999.00,9, -999.00,9, -999.00,9,-999.000,9,-999.000,9,  -999.0,9,-999.000,9,-999.000,-999.000,9, -999.00,9, -999.00,  -1.1965
06AQ19870704,        NAO,     430,          1,          7,          7,2,19870824,       0000,    78.7933,     1.6867,       2555,  2553.0,  -1.0697,  34.9136,2,-999.0000,9,-999.0000,9,  -999.0,9, -999.00,9, -999.00,9, -999.00,9, -999.00,9,-999.000,9,-999.000,9,  -999.0,9,-999.000,9,-999.000,-999.000,9, -999.00,9, -999.00,  -1.1965
06AQ19870704,        NAO,     430,          1,          8,          8,2,19870824,       0000,    78.7933,     1.6867,       2555,  2553.0,  -1.0697,  34.9136,2,-999.0000,9,-999.0000,9,  -999.0,9, -999.00,9, -999.00,9, -999.00,9, -999.00,9,-999.000,9,-999.000,9,  -999.0,9,-999.000,9,-999.000,-999.000,9, -999.00,9, -999.00,  -1.1965
06AQ19870704,        NAO,     430,          1,         10,         10,2,19870824,       0000,    78.7933,     1.6867,       2555,  2553.0,  -1.0697,  34.9136,2,-999.0000,9,-999.0000,9,  -999.0,9, -999.00,9, -999.00,9, -999.00,9, -999.00,9,-999.000,9,-999.000,9,  -999.0,9,-999.000,9,-999.000,-999.000,9, -999.00,9, -999.00,  -1.1965