BOTTLE,20140415SIOCCHRJL
EXPOCODE,SECT_ID,STNNBR,CASTNO,SAMPNO,BTLNBR,BTLNBR_FLAG_W,DATE,TIME,LATITUDE,LONGITUDE,DEPTH,CTDPRS,CTDTMP,CTDSAL,CTDSAL_FLAG_W,SALNTY,SALNTY_FLAG_W,CTDOXY,CTDOXY_FLAG_W,OXYGEN,OXYGEN_FLAG_W,SILCAT,SILCAT_FLAG_W,NITRAT,NITRAT_FLAG_W,NITRIT,NITRIT_FLAG_W,PHSPHT,PHSPHT_FLAG_W,CFC-11,CFC-11_FLAG_W,CFC-12,CFC-12_FLAG_W,TCARBN,TCARBN_FLAG_W,TRITUM,TRITUM_FLAG_W,TRITER,CCL4,CCL4_FLAG_W,DELO18,DELO18_FLAG_W,CTDRAW,THETA
,,,,,,,,,,,METERS,DBAR,ITS-90,PSS-78,,PSS-78,,UMOL/KG,,UMOL/KG,,UMOL/KG,,UMOL/KG,,UMOL/KG,,UMOL/KG,,PMOL/KG,,PMOL/KG,,UMOL/KG,,TU,,TU,PMOL/KG,,/MILLE,,DBAR,DEG C
06AQ19870704,        NAO,     396,          1,         24,         24,2,19870815,       1453,    82.8017,    15.9983,       1387,    20.0,  -1.7826,  34.0209,2,  34.0040,2,-999.0000,9,   368.1,2,    1.96,2,    5.28,2,    0.02,2,    0.42,2,-999.000,9,-999.000,9,  2092.0,2,-999.000,9,-999.000,-999.000,9, -999.00,9, -999.00,  -1.7830
06AQ19870704,        NAO,     396,          1,         23,         23,2,19870815,       1453,    82.8017,    15.9983,       1387,    35.4,  -1.7936,  34.1382,2,  34.1160,2,-999.0000,9,   360.5,2,    2.44,2,    6.06,2,    0.02,2,    0.46,2,-999.000,9,-999.000,9,  2102.0,2,-999.000,9,-999.000,-999.000,9, -999.00,9, -999.00,  -1.7943
06AQ19870704,        NAO,     396,          1,         22,         22,2,19870815,       1453,    82.8017,    15.9983,       1387,    50.2,  -1.7666,  34.2609,2,  34.2580,2,-999.0000,9,   351.1,2,    2.84,2,    7.24,2,    0.04,2,    0.53,2,-999.000,9,-999.000,9,  2120.0,2,-999.000,9,-999.000,-999.000,9, -999.00,9, -999.00,  -1.7676
06AQ19870704,        NAO,     396,          1,         21,         21,2,19870815,       1453,    82.8017,    15.9983,       1387,    69.9,  -1.5546,  34.3388,2,  34.3310,2,-999.0000,9,   342.4,2,    3.32,2,    8.21,2,    0.01,2,    0.58,2,-999.000,9,-999.000,9,  2126.0,2,-999.000,9,-999.000,-999.000,9, -999.00,9, -999.00,  -1.5561
06AQ19870704,        NAO,     396,          1,         20,         20,2,19870815,       1453,    82.8017,    15.9983,       1387,    89.1,  -1.1597,  34.4017,2,  34.4010,2,-999.0000,9,   334.6,2,    3.91,2,    8.99,2,    0.01,2,    0.63,2,-999.000,9,-999.000,9,  2134.0,2,-999.000,9,-999.000,-999.000,9, -999.00,9, -999.00,  -1.1620
06AQ19870704,        NAO,     396,          1,         19,         19,2,19870815,       1453,    82.8017,    15.9983,       1387,   105.0,  -0.5469,  34.4959,2,  34.4420,2,-999.0000,9,   330.7,2,    4.01,2,    9.38,2,    0.00,2,    0.65,2,-999.000,9,-999.000,9,  2139.0,2,-999.000,9,-999.000,-999.000,9, -999.00,9, -999.00,  -0.5502
06AQ19870704,        NAO,     396,          1,         18,         18,2,19870815,       1453,    82.8017,    15.9983,       1387,   120.0,  -0.1060,  34.6513,2,  34.5620,2,-999.0000,9,   320.0,2,    4.79,2,   10.65,2,    0.00,2,    0.71,2,-999.000,9,-999.000,9,  2155.0,2,-999.000,9,-999.000,-999.000,9, -999.00,9, -999.00,  -0.1102
06AQ19870704,        NAO,     396,          1,         17,         17,2,19870815,       1453,    82.8017,    15.9983,       1387,   150.0,   0.9378,  34.6972,2,  34.7080,2,-999.0000,9,   312.1,2,    5.38,2,   11.63,2,    0.00,2,    0.77,2,-999.000,9,-999.000,9,  2168.0,2,-999.000,9,-999.000,-999.000,9, -999.00,9, -999.00,   0.9311
06AQ19870704,        NAO,     396,          1,         16,         16,2,19870815,       1453,    82.8017,    15.9983,       1387,   180.0,   1.3797,  34.7993,2,  34.7890,2,-999.0000,9,  -999.0,9,    5.57,2,   12.02,2,    0.00,2,    0.79,2,-999.000,9,-999.000,9,  -999.0,9,-999.000,9,-999.000,-999.000,9, -999.00,9, -999.00,   1.3709
06AQ19870704,        NAO,     396,          1,         15,         15,2,19870815,       1453,    82.8017,    15.9983,       1387,   180.0,   1.4317,  34.7518,2,  34.7940,2,-999.0000,9,   309.7,2,    5.47,2,   12.02,2,    0.00,2,    0.79,2,-999.000,9,-999.000,9,  -999.0,9,-999.000,9,-999.000,-999.000,9, -999.00,9, -999.00,   1.4229
06AQ19870704,        NAO,     396,          1,         14,         14,2,19870815,       1453,    82.8017,    15.9983,       1387,   220.0,   1.8196,  34.8906,2,  34.8830,2,-999.0000,9,   309.5,2,    5.67,2,   12.41,2,    0.00,2,    0.81,2,-999.000,9,-999.000,9,  -999.0,9,-999.000,9,-999.000,-999.000,9, -999.00,9, -999.00,   1.8080
06AQ19870704,        NAO,     396,          1,         13,         13,2,19870815,       1453,    82.8017,    15.9983,       1387,   250.0,   1.9065,  34.9297,2,  34.9250,2,-999.0000,9,   310.1,2,    5.77,2,   12.61,2,    0.00,2,    0.81,2,-999.000,9,-999.000,9,  -999.0,9,-999.000,9,-999.000,-999.000,9, -999.00,9, -999.00,   1.8931
06AQ19870704,        NAO,     396,          1,         12,         12,2,19870815,       1453,    82.8017,    15.9983,       1387,   320.0,   1.8036,  34.9402,2,-999.0000,9,-999.0000,9,   309.7,2,    5.86,2,   12.70,2,    0.00,2,    0.82,2,-999.000,9,-999.000,9,  2176.0,2,-999.000,9,-999.000,-999.000,9, -999.00,9, -999.00,   1.7865
06AQ19870704,        NAO,     396,          1,         11,         11,2,19870815,       1453,    82.8017,    15.9983,       1387,   399.0,   1.4676,  34.9566,2,  34.9500,2,-999.0000,9,   310.8,2,    6.16,2,   12.90,2,    0.00,2,    0.84,2,-999.000,9,-999.000,9,  -999.0,9,-999.000,9,-999.000,-999.000,9, -999.00,9, -999.00,   1.4470
06AQ19870704,        NAO,     396,          1,         10,         10,2,19870815,       1453,    82.8017,    15.9983,       1387,   500.0,   1.0677,  34.9448,2,  34.9430,2,-999.0000,9,   309.8,2,    6.45,2,   13.00,2,    0.00,2,    0.84,2,-999.000,9,-999.000,9,  -999.0,9,-999.000,9,-999.000,-999.000,9, -999.00,9, -999.00,   1.0432
06AQ19870704,        NAO,     396,          1,          9,          9,2,19870815,       1453,    82.8017,    15.9983,       1387,   650.0,   0.5189,  34.9363,2,  34.9310,2,-999.0000,9,   308.8,2,    7.04,2,   13.29,2,    0.00,2,    0.86,2,-999.000,9,-999.000,9,  -999.0,9,-999.000,9,-999.000,-999.000,9, -999.00,9, -999.00,   0.4891
06AQ19870704,        NAO,     396,          1,          8,          8,2,19870815,       1453,    82.8017,    15.9983,       1387,   800.0,   0.0190,  34.9297,2,  34.9250,2,-999.0000,9,   307.8,2,    8.31,2,   13.88,2,    0.00,2,    0.91,2,-999.000,9,-999.000,9,  -999.0,9,-999.000,9,-999.000,-999.000,9, -999.00,9, -999.00,  -0.0155
06AQ19870704,        NAO,     396,          1,          7,          7,2,19870815,       1453,    82.8017,    15.9983,       1387,   950.0,  -0.4459,  34.9315,2,  34.9180,2,-999.0000,9,   305.6,2,    9.87,2,   14.46,2,    0.00,2,    0.95,2,-999.000,9,-999.000,9,  2190.0,2,-999.000,9,-999.000,-999.000,9, -999.00,9, -999.00,  -0.4844
06AQ19870704,        NAO,     396,          1,          5,          5,2,19870815,       1453,    82.8017,    15.9983,       1387,  1100.0,  -0.6768,  34.9299,2,  34.9140,2,-999.0000,9,  -999.0,9,   10.65,2,   14.76,2,    0.00,2,    0.98,2,-999.000,9,-999.000,9,  -999.0,9,-999.000,9,-999.000,-999.000,9, -999.00,9, -999.00,  -0.7208
06AQ19870704,        NAO,     396,          1,          6,          6,2,19870815,       1453,    82.8017,    15.9983,       1387,  1101.0,  -0.6678,  34.9284,2,  34.9160,2,-999.0000,9,   304.1,2,   10.85,2,   14.76,2,    0.00,2,    0.98,2,-999.000,9,-999.000,9,  -999.0,9,-999.000,9,-999.000,-999.000,9, -999.00,9, -999.00,  -0.7119
06AQ19870704,        NAO,     396,          1,          4,          4,2,19870815,       1453,    82.8017,    15.9983,       1387,  1250.0,  -0.8388,  34.9303,2,  34.9170,2,-999.0000,9,   303.6,2,   11.34,2,   14.95,2,    0.00,2,    0.99,2,-999.000,9,-999.000,9,  2190.0,2,-999.000,9,-999.000,-999.000,9, -999.00,9, -999.00,  -0.8889
06AQ19870704,        NAO,     396,          1,          3,          3,2,19870815,       1453,    82.8017,    15.9983,       1387,  1340.0,  -0.8718,  34.9365,2,  34.9210,2,-999.0000,9,  -999.0,9,   11.43,2,   14.95,2,    0.00,2,    0.99,2,-999.000,9,-999.000,9,  2195.0,2,-999.000,9,-999.000,-999.000,9, -999.00,9, -999.00,  -0.9262
06AQ19870704,        NAO,     396,          1,          2,          2,2,19870815,       1453,    82.8017,    15.9983,       1387,  1369.0,  -0.8708,  34.9362,2,  34.9210,2,-999.0000,9,  -999.0,9,   11.43,2,   14.95,2,    0.00,2,    0.99,2,-999.000,9,-999.000,9,  -999.0,9,-999.000,9,-999.000,-999.000,9, -999.00,9, -999.00,  -0.9267
06AQ19870704,        NAO,     396,          1,          1,          1,2,19870815,       1453,    82.8017,    15.9983,       1387,  1369.0,  -0.8698,  34.9351,2,  34.9210,2,-999.0000,9,   302.9,2,   11.43,2,   14.95,2,    0.00,2,    1.00,2,-999.000,9,-999.000,9,  -999.0,9,-999.000,9,-999.000,-999.000,9, -999.00,9, -999.00,  -0.9257
06AQ19870704,        NAO,     412,          1,         24,         24,2,19870816,       0434,    82.0267,    15.1900,       2043,    20.5,  -1.7636,  33.8871,2,  33.8750,2,-999.0000,9,   360.6,2,    2.35,2,    5.87,2,    0.02,2,    0.47,2,-999.000,9,-999.000,9,  2090.0,2,-999.000,9,-999.000,-999.000,9, -999.00,9, -999.00,  -1.7640
06AQ19870704,        NAO,     412,          1,         23,         23,2,19870816,       0434,    82.0267,    15.1900,       2043,    33.8,  -1.7616,  34.0340,2,  34.0030,2,-999.0000,9,   358.9,2,    2.44,2,    6.06,2,    0.02,2,    0.48,2,-999.000,9,-999.000,9,  -999.0,9,-999.000,9,-999.000,-999.000,9, -999.00,9, -999.00,  -1.7622
06AQ19870704,        NAO,     412,          1,         22,         22,2,19870816,       0434,    82.0267,    15.1900,       2043,    50.2,  -1.7726,  34.2483,2,  34.2430,2,-999.0000,9,   351.2,2,    2.74,2,    7.14,2,    0.05,2,    0.53,2,-999.000,9,-999.000,9,  2116.0,2,-999.000,9,-999.000,-999.000,9, -999.00,9, -999.00,  -1.7736
06AQ19870704,        NAO,     412,          1,         21,         21,2,19870816,       0434,    82.0267,    15.1900,       2043,    70.1,  -1.6246,  34.3626,2,  34.3550,2,-999.0000,9,   340.3,2,    3.32,2,    8.41,2,    0.04,2,    0.60,2,-999.000,9,-999.000,9,  -999.0,9,-999.000,9,-999.000,-999.000,9, -999.00,9, -999.00,  -1.6261
06AQ19870704,        NAO,     412,          1,         20,         20,2,19870816,       0434,    82.0267,    15.1900,       2043,    90.0,  -1.1087,  34.4495,2,  34.4390,2,-999.0000,9,   331.0,2,    3.91,2,    9.48,2,    0.01,2,    0.65,2,-999.000,9,-999.000,9,  2139.0,2,-999.000,9,-999.000,-999.000,9, -999.00,9, -999.00,  -1.1110
06AQ19870704,        NAO,     412,          1,         19,         19,2,19870816,       0434,    82.0267,    15.1900,       2043,   109.0,   0.1280,  34.5989,2,  34.6040,2,-999.0000,9,   316.3,2,    4.89,2,   10.85,2,    0.01,2,    0.72,2,-999.000,9,-999.000,9,  -999.0,9,-999.000,9,-999.000,-999.000,9, -999.00,9, -999.00,   0.1240
06AQ19870704,        NAO,     412,          1,         18,         18,2,19870816,       0434,    82.0267,    15.1900,       2043,   134.0,   1.0308,  34.7514,2,  34.7350,2,-999.0000,9,   313.0,2,    5.08,2,   11.63,2,    0.01,2,    0.77,2,-999.000,9,-999.000,9,  2158.0,2,-999.000,9,-999.000,-999.000,9, -999.00,9, -999.00,   1.0247
06AQ19870704,        NAO,     412,          1,         17,         17,2,19870816,       0434,    82.0267,    15.1900,       2043,   165.0,   1.5716,  34.8359,2,  34.8420,2,-999.0000,9,   311.6,2,    5.18,2,   12.12,2,    0.01,2,    0.79,2,-999.000,9,-999.000,9,  -999.0,9,-999.000,9,-999.000,-999.000,9, -999.00,9, -999.00,   1.5633
06AQ19870704,        NAO,     412,          1,         16,         16,2,19870816,       0434,    82.0267,    15.1900,       2043,   205.0,   1.9365,  34.9150,2,  34.9110,2,-999.0000,9,   309.5,2,    5.57,2,   12.51,2,    0.01,2,    0.81,2,-999.000,9,-999.000,9,  2167.0,2,-999.000,9,-999.000,-999.000,9, -999.00,9, -999.00,   1.9255
06AQ19870704,        NAO,     412,          1,         15,         15,2,19870816,       0434,    82.0267,    15.1900,       2043,   240.0,   1.9685,  34.9350,2,  34.9300,2,-999.0000,9,   309.9,2,    5.57,2,   12.41,2,    0.01,2,    0.81,2,-999.000,9,-999.000,9,  -999.0,9,-999.000,9,-999.000,-999.000,9, -999.00,9, -999.00,   1.9555
06AQ19870704,        NAO,     412,          1,         14,         14,2,19870816,       0434,    82.0267,    15.1900,       2043,   275.0,   1.9945,  34.9591,2,  34.9540,2,-999.0000,9,   310.4,2,    6.74,2,   12.61,2,    0.01,2,    0.82,2,-999.000,9,-999.000,9,  2177.0,2,-999.000,9,-999.000,-999.000,9, -999.00,9, -999.00,   1.9794
06AQ19870704,        NAO,     412,          1,         13,         13,2,19870816,       0434,    82.0267,    15.1900,       2043,   330.0,   1.8915,  34.9695,2,  34.9650,2,-999.0000,9,   310.0,2,    6.74,2,   12.70,2,    0.01,2,    0.82,2,-999.000,9,-999.000,9,  -999.0,9,-999.000,9,-999.000,-999.000,9, -999.00,9, -999.00,   1.8735
06AQ19870704,        NAO,     412,          1,         12,         12,2,19870816,       0434,    82.0267,    15.1900,       2043,   400.0,   1.6586,  34.9675,2,  34.9660,2,-999.0000,9,   312.3,2,    6.74,2,   12.70,2,    0.01,2,    0.82,2,-999.000,9,-999.000,9,  -999.0,9,-999.000,9,-999.000,-999.000,9, -999.00,9, -999.00,   1.6374
06AQ19870704,        NAO,     412,          1,         11,         11,2,19870816,       0434,    82.0267,    15.1900,       2043,   500.0,   1.3917,  34.9702,2,  34.9630,2,-999.0000,9,   312.7,2,    6.94,2,   12.80,2,    0.01,2,    0.84,2,-999.000,9,-999.000,9,  -999.0,9,-999.000,9,-999.000,-999.000,9, -999.00,9, -999.00,   1.3658
06AQ19870704,        NAO,     412,          1,         10,         10,2,19870816,       0434,    82.0267,    15.1900,       2043,   650.0,   0.7798,  34.9496,2,  34.9450,2,-999.0000,9,   310.0,2,    7.52,2,   13.09,2,    0.01,2,    0.85,2,-999.000,9,-999.000,9,  2184.0,2,-999.000,9,-999.000,-999.000,9, -999.00,9, -999.00,   0.7486
06AQ19870704,        NAO,     412,          1,          9,          9,2,19870816,       0434,    82.0267,    15.1900,       2043,   800.0,   0.1800,  34.9279,2,  34.9260,2,-999.0000,9,   307.3,2,    8.01,2,   13.29,2,    0.01,2,    0.88,2,-999.000,9,-999.000,9,  -999.0,9,-999.000,9,-999.000,-999.000,9, -999.00,9, -999.00,   0.1445
06AQ19870704,        NAO,     412,          1,          8,          8,2,19870816,       0434,    82.0267,    15.1900,       2043,  1000.0,  -0.2749,  34.9341,2,  34.9200,2,-999.0000,9,   305.0,2,    8.99,2,   13.68,2,    0.01,2,    0.91,2,-999.000,9,-999.000,9,  2184.0,2,-999.000,9,-999.000,-999.000,9, -999.00,9, -999.00,  -0.3173
06AQ19870704,        NAO,     412,          1,          7,          7,2,19870816,       0434,    82.0267,    15.1900,       2043,  1200.0,  -0.4959,  34.9346,2,  34.9210,2,-999.0000,9,   304.4,2,    9.87,2,   13.97,2,    0.01,2,    0.93,2,-999.000,9,-999.000,9,  -999.0,9,-999.000,9,-999.000,-999.000,9, -999.00,9, -999.00,  -0.5468
06AQ19870704,        NAO,     412,          1,          6,          6,2,19870816,       0434,    82.0267,    15.1900,       2043,  1401.0,  -0.6508,  34.9338,2,  34.9210,2,-999.0000,9,   303.5,2,   10.65,2,   14.27,2,    0.01,2,    0.95,2,-999.000,9,-999.000,9,  -999.0,9,-999.000,9,-999.000,-999.000,9, -999.00,9, -999.00,  -0.7110
06AQ19870704,        NAO,     412,          1,          5,          5,2,19870816,       0434,    82.0267,    15.1900,       2043,  1600.0,  -0.7718,  34.9342,2,  34.9200,2,-999.0000,9,   303.3,2,   11.34,2,   14.56,2,    0.00,2,    0.97,2,-999.000,9,-999.000,9,  2188.0,2,-999.000,9,-999.000,-999.000,9, -999.00,9, -999.00,  -0.8418
06AQ19870704,        NAO,     412,          1,          4,          4,2,19870816,       0434,    82.0267,    15.1900,       2043,  1800.0,  -0.8378,  34.9398,2,  34.9260,2,-999.0000,9,   302.9,2,   11.82,2,   14.56,2,    0.00,2,    0.98,2,-999.000,9,-999.000,9,  2187.0,2,-999.000,9,-999.000,-999.000,9, -999.00,9, -999.00,  -0.9187
06AQ19870704,        NAO,     412,          1,          3,          3,2,19870816,       0434,    82.0267,    15.1900,       2043,  1900.0,  -0.8408,  34.9445,2,  34.9290,2,-999.0000,9,   302.6,2,   11.73,2,   14.66,2,    0.00,2,    0.99,2,-999.000,9,-999.000,9,  2191.0,2,-999.000,9,-999.000,-999.000,9, -999.00,9, -999.00,  -0.9279
06AQ19870704,        NAO,     412,          1,          2,          2,2,19870816,       0434,    82.0267,    15.1900,       2043,  1975.0,  -0.8448,  34.9469,2,  34.9310,2,-999.0000,9,   302.1,2,   11.73,2,   14.66,2,    0.00,2,    0.99,2,-999.000,9,-999.000,9,  -999.0,9,-999.000,9,-999.000,-999.000,9, -999.00,9, -999.00,  -0.9366
06AQ19870704,        NAO,     412,          1,          1,          1,2,19870816,       0434,    82.0267,    15.1900,       2043,  2046.0,  -0.8418,  34.9478,2,  34.9320,2,-999.0000,9,   301.8,2,   11.73,2,   14.66,2,    0.00,2,    0.99,2,-999.000,9,-999.000,9,  2186.0,2,-999.000,9,-999.000,-999.000,9, -999.00,9, -999.00,  -0.9382