BOTTLE,20140415SIOCCHRJL
EXPOCODE,SECT_ID,STNNBR,CASTNO,SAMPNO,BTLNBR,BTLNBR_FLAG_W,DATE,TIME,LATITUDE,LONGITUDE,DEPTH,CTDPRS,CTDTMP,CTDSAL,CTDSAL_FLAG_W,SALNTY,SALNTY_FLAG_W,CTDOXY,CTDOXY_FLAG_W,OXYGEN,OXYGEN_FLAG_W,SILCAT,SILCAT_FLAG_W,NITRAT,NITRAT_FLAG_W,NITRIT,NITRIT_FLAG_W,PHSPHT,PHSPHT_FLAG_W,CFC-11,CFC-11_FLAG_W,CFC-12,CFC-12_FLAG_W,TCARBN,TCARBN_FLAG_W,TRITUM,TRITUM_FLAG_W,TRITER,CCL4,CCL4_FLAG_W,DELO18,DELO18_FLAG_W,CTDRAW,THETA
,,,,,,,,,,,METERS,DBAR,ITS-90,PSS-78,,PSS-78,,UMOL/KG,,UMOL/KG,,UMOL/KG,,UMOL/KG,,UMOL/KG,,UMOL/KG,,PMOL/KG,,PMOL/KG,,UMOL/KG,,TU,,TU,PMOL/KG,,/MILLE,,DBAR,DEG C
06AQ19870704,        NAO,     340,          1,          5,          5,2,19870717,       1005,    82.9883,    31.9817,       3784,   700.0,   0.5879,  34.9390,2,  34.9300,2,-999.0000,9,   306.7,2,    6.84,2,   13.68,2,    0.00,2,    0.77,2,   1.399,2,   0.689,2,  2173.0,2,-999.000,9,-999.000,   3.700,2, -999.00,9, -999.00,   0.5551
06AQ19870704,        NAO,     340,          4,          9,          9,2,19870717,       0059,    82.9883,    31.9817,       3784,   799.0,   0.1560,  34.9241,2,  34.9210,2,-999.0000,9,   305.0,2,    7.43,2,   13.49,2,    0.00,2,    0.86,2,   0.897,2,   0.513,2,  2173.0,2,-999.000,9,-999.000,-999.000,9, -999.00,9, -999.00,   0.1207
06AQ19870704,        NAO,     340,          1,          4,          4,2,19870717,       1005,    82.9883,    31.9817,       3784,   800.0,   0.1880,  34.9255,2,  34.9210,2,-999.0000,9,   305.4,2,    7.33,2,   14.07,2,    0.00,2,    0.79,2,-999.000,9,-999.000,9,  -999.0,9,-999.000,9,-999.000,-999.000,9, -999.00,9, -999.00,   0.1524
06AQ19870704,        NAO,     340,          1,          3,          3,2,19870717,       1005,    82.9883,    31.9817,       3784,   850.0,   0.0480,  34.9206,2,  34.9190,2,-999.0000,9,   304.5,2,    7.52,2,   14.07,2,    0.00,2,    0.82,2,   0.814,2,   0.424,2,  -999.0,9,-999.000,9,-999.000,-999.000,9, -999.00,9, -999.00,   0.0108
06AQ19870704,        NAO,     340,          1,          2,          2,2,19870717,       1005,    82.9883,    31.9817,       3784,   900.0,  -0.0730,  34.9323,2,  34.9190,2,-999.0000,9,   305.0,2,    7.82,2,   14.07,2,    0.00,2,    0.83,2,   0.702,2,   0.424,2,  -999.0,9,-999.000,9,-999.000,-999.000,9, -999.00,9, -999.00,  -0.1119
06AQ19870704,        NAO,     340,          4,          8,          8,2,19870717,       0059,    82.9883,    31.9817,       3784,  1000.0,  -0.2869,  34.9305,2,  34.9190,2,-999.0000,9,   304.5,2,    8.99,2,   13.97,2,    0.00,2,    0.89,2,   0.683,2,   0.374,2,  -999.0,9,-999.000,9,-999.000,   2.530,2, -999.00,9, -999.00,  -0.3292
06AQ19870704,        NAO,     340,          1,          1,          1,2,19870717,       1005,    82.9883,    31.9817,       3784,  1002.0,  -0.2749,  34.9303,2,  34.9190,2,-999.0000,9,   304.1,2,    8.40,2,   14.37,2,    0.00,2,    0.86,2,-999.000,9,-999.000,9,  -999.0,9,-999.000,9,-999.000,-999.000,9, -999.00,9, -999.00,  -0.3174
06AQ19870704,        NAO,     340,          4,          7,          7,2,19870717,       0059,    82.9883,    31.9817,       3784,  1100.0,  -0.4289,  34.9384,2,  34.9190,2,-999.0000,9,   304.5,2,    9.19,2,   14.27,2,    0.00,2,    0.90,2,-999.000,9,-999.000,9,  2187.0,2,-999.000,9,-999.000,-999.000,9, -999.00,9, -999.00,  -0.4752
06AQ19870704,        NAO,     340,          2,         24,         24,2,19870717,       1421,    82.9883,    31.9817,       3784,  1110.0,  -0.4089,  34.9259,2,  34.9190,2,-999.0000,9,   304.1,2,    9.19,2,   14.27,2,    0.00,2,    0.86,2,-999.000,9,-999.000,9,  -999.0,9,-999.000,9,-999.000,-999.000,9, -999.00,9, -999.00,  -0.4559
06AQ19870704,        NAO,     340,          4,          6,          6,2,19870717,       0059,    82.9883,    31.9817,       3784,  1201.0,  -0.5229,  34.9327,2,  34.9190,2,-999.0000,9,   304.1,2,    9.58,2,   14.27,2,    0.00,2,    0.91,2,-999.000,9,-999.000,9,  -999.0,9,-999.000,9,-999.000,-999.000,9, -999.00,9, -999.00,  -0.5736
06AQ19870704,        NAO,     340,          2,         23,         23,2,19870717,       1421,    82.9883,    31.9817,       3784,  1251.0,  -0.5479,  34.9299,2,  34.9190,2,-999.0000,9,   304.1,2,    9.67,2,   14.46,2,    0.00,2,    0.87,2,-999.000,9,-999.000,9,  2188.0,2,-999.000,9,-999.000,-999.000,9, -999.00,9, -999.00,  -0.6010
06AQ19870704,        NAO,     340,          4,          3,          3,2,19870717,       0059,    82.9883,    31.9817,       3784,  1400.0,  -0.6578,  34.9330,2,  34.9200,2,-999.0000,9,   303.2,2,   10.55,2,   14.56,2,    0.00,2,    0.92,2,-999.000,9,-999.000,9,  -999.0,9,-999.000,9,-999.000,-999.000,9, -999.00,9, -999.00,  -0.7178
06AQ19870704,        NAO,     340,          2,         22,         22,2,19870717,       1421,    82.9883,    31.9817,       3784,  1400.0,  -0.6378,  34.9303,2,  34.9200,2,-999.0000,9,   303.2,2,   10.26,2,   14.66,2,    0.00,2,    0.89,2,-999.000,9,-999.000,9,  -999.0,9,-999.000,9,-999.000,-999.000,9, -999.00,9, -999.00,  -0.6980
06AQ19870704,        NAO,     340,          2,         21,         21,2,19870717,       1421,    82.9883,    31.9817,       3784,  1550.0,  -0.6998,  34.9337,2,  34.9210,2,-999.0000,9,   302.8,2,   10.55,2,   14.85,2,    0.00,2,    0.91,2,-999.000,9,-999.000,9,  2190.0,2,-999.000,9,-999.000,-999.000,9, -999.00,9, -999.00,  -0.7678
06AQ19870704,        NAO,     340,          2,         20,         20,2,19870717,       1421,    82.9883,    31.9817,       3784,  1700.0,  -0.7498,  34.9324,2,  34.9220,2,-999.0000,9,   303.2,2,   10.75,2,   14.95,2,    0.00,2,    0.91,2,-999.000,9,-999.000,9,  2190.0,2,-999.000,9,-999.000,-999.000,9, -999.00,9, -999.00,  -0.8259
06AQ19870704,        NAO,     340,          4,          2,          2,2,19870717,       0059,    82.9883,    31.9817,       3784,  1701.0,  -0.7878,  34.9323,2,  34.9190,2,-999.0000,9,   302.8,2,   11.04,2,   14.76,2,    0.00,2,    0.93,2,-999.000,9,-999.000,9,  -999.0,9,-999.000,9,-999.000,-999.000,9, -999.00,9, -999.00,  -0.8635
06AQ19870704,        NAO,     340,          2,         19,         19,2,19870717,       1421,    82.9883,    31.9817,       3784,  1850.0,  -0.7778,  34.9337,2,  34.9230,2,-999.0000,9,   302.8,2, -999.00,9, -999.00,9, -999.00,9,    0.90,2,-999.000,9,-999.000,9,  2186.0,2,-999.000,9,-999.000,-999.000,9, -999.00,9, -999.00,  -0.8627
06AQ19870704,        NAO,     340,          3,         24,         24,2,19870717,       1014,    82.9883,    31.9817,       3784,  1950.0,  -0.8178,  34.9326,2,  34.9210,2,-999.0000,9,   302.8,2,   11.43,2,   14.56,2,    0.00,2,    0.94,2,-999.000,9,-999.000,9,  -999.0,9,-999.000,9,-999.000,-999.000,9, -999.00,9, -999.00,  -0.9083
06AQ19870704,        NAO,     340,          2,         18,         18,2,19870717,       1421,    82.9883,    31.9817,       3784,  2000.0,  -0.7998,  34.9371,2,  34.9240,2,-999.0000,9,   302.8,2,   11.04,2,   14.95,2,    0.00,2,    0.89,2,-999.000,9,-999.000,9,  2188.0,2,-999.000,9,-999.000,-999.000,9, -999.00,9, -999.00,  -0.8938
06AQ19870704,        NAO,     340,          4,          1,          1,2,19870717,       0059,    82.9883,    31.9817,       3784,  2006.0,  -0.8148,  34.9295,2,  34.9210,2,-999.0000,9,   302.3,2,   11.14,2,   14.76,2,    0.00,2,    0.94,2,-999.000,9,-999.000,9,  -999.0,9,-999.000,9,-999.000,-999.000,9, -999.00,9, -999.00,  -0.9090
06AQ19870704,        NAO,     340,          2,         17,         17,2,19870717,       1421,    82.9883,    31.9817,       3784,  2150.0,  -0.8118,  34.9380,2,  34.9260,2,-999.0000,9,   301.5,2,   11.14,2,   14.95,2,    0.00,2,    0.89,2,-999.000,9,-999.000,9,  2187.0,2,-999.000,9,-999.000,-999.000,9, -999.00,9, -999.00,  -0.9155
06AQ19870704,        NAO,     340,          3,         21,         21,2,19870717,       1014,    82.9883,    31.9817,       3784,  2199.0,  -0.8168,  34.9362,2,  34.9240,2,-999.0000,9,  -999.0,9,   11.53,2,   14.56,2,    0.00,2,    0.94,2,-999.000,9,-999.000,9,  -999.0,9,-999.000,9,-999.000,-999.000,9, -999.00,9, -999.00,  -0.9237
06AQ19870704,        NAO,     340,          3,         23,         23,2,19870717,       1014,    82.9883,    31.9817,       3784,  2199.0,  -0.8168,  34.9362,2,  34.9230,2,-999.0000,9,   302.3,2,   11.53,2,   14.56,2,    0.00,2,    0.94,2,-999.000,9,-999.000,9,  -999.0,9,-999.000,9,-999.000,-999.000,9, -999.00,9, -999.00,  -0.9237
06AQ19870704,        NAO,     340,          3,         22,         22,2,19870717,       1014,    82.9883,    31.9817,       3784,  2199.0,  -0.8168,  34.9362,2,  34.9230,2,-999.0000,9,  -999.0,9,   11.53,2,   14.56,2,    0.00,2,    0.94,2,-999.000,9,-999.000,9,  -999.0,9,-999.000,9,-999.000,-999.000,9, -999.00,9, -999.00,  -0.9237
06AQ19870704,        NAO,     340,          3,         20,         20,2,19870717,       1014,    82.9883,    31.9817,       3784,  2200.0,  -0.8178,  34.9368,2,  34.9240,2,-999.0000,9,  -999.0,9,   11.53,2,   14.56,2,    0.00,2,    0.94,2,-999.000,9,-999.000,9,  -999.0,9,-999.000,9,-999.000,-999.000,9, -999.00,9, -999.00,  -0.9247
06AQ19870704,        NAO,     340,          2,         16,         16,2,19870717,       1421,    82.9883,    31.9817,       3784,  2301.0,  -0.8148,  34.9424,2,  34.9280,2,-999.0000,9,   302.3,2,   11.14,2,   14.95,2,    0.00,2,    0.88,2,-999.000,9,-999.000,9,  2190.0,2,-999.000,9,-999.000,-999.000,9, -999.00,9, -999.00,  -0.9287
06AQ19870704,        NAO,     340,          3,         19,         19,2,19870717,       1014,    82.9883,    31.9817,       3784,  2351.0,  -0.8148,  34.9386,2,  34.9260,2,-999.0000,9,   302.3,2,   11.53,2,   14.56,2,    0.00,2,    0.94,2,-999.000,9,-999.000,9,  -999.0,9,-999.000,9,-999.000,-999.000,9, -999.00,9, -999.00,  -0.9322
06AQ19870704,        NAO,     340,          2,         15,         15,2,19870717,       1421,    82.9883,    31.9817,       3784,  2451.0,  -0.8158,  34.9446,2,  34.9300,2,-999.0000,9,   301.9,2,   11.14,2,   14.95,2,    0.00,2,    0.89,2,-999.000,9,-999.000,9,  2192.0,2,-999.000,9,-999.000,-999.000,9, -999.00,9, -999.00,  -0.9403
06AQ19870704,        NAO,     340,          3,         18,         18,2,19870717,       1014,    82.9883,    31.9817,       3784,  2501.0,  -0.8078,  34.9401,2,  34.9280,2,-999.0000,9,   301.9,2,   11.43,2,   14.56,2,    0.00,2,    0.94,2,-999.000,9,-999.000,9,  -999.0,9,-999.000,9,-999.000,-999.000,9, -999.00,9, -999.00,  -0.9361
06AQ19870704,        NAO,     340,          2,         14,         14,2,19870717,       1421,    82.9883,    31.9817,       3784,  2601.0,  -0.8118,  34.9473,2,  34.9320,2,-999.0000,9,   302.3,2,   11.04,2,   15.05,2,    0.00,2,    0.90,2,-999.000,9,-999.000,9,  2189.0,2,-999.000,9,-999.000,-999.000,9, -999.00,9, -999.00,  -0.9473
06AQ19870704,        NAO,     340,          3,         17,         17,2,19870717,       1014,    82.9883,    31.9817,       3784,  2650.0,  -0.8058,  34.9472,2,  34.9300,2,-999.0000,9,   302.3,2,   11.53,2,   14.56,2,    0.00,2,    0.94,2,-999.000,9,-999.000,9,  -999.0,9,-999.000,9,-999.000,-999.000,9, -999.00,9, -999.00,  -0.9451
06AQ19870704,        NAO,     340,          2,         13,         13,2,19870717,       1421,    82.9883,    31.9817,       3784,  2750.0,  -0.8048,  34.9480,2,  34.9340,2,-999.0000,9,   301.5,2,   11.14,2,   14.85,2,    0.00,2,    0.90,2,-999.000,9,-999.000,9,  2188.0,2,-999.000,9,-999.000,-999.000,9, -999.00,9, -999.00,  -0.9517
06AQ19870704,        NAO,     340,          3,         16,         16,2,19870717,       1014,    82.9883,    31.9817,       3784,  2850.0,  -0.7978,  34.9491,2,  34.9350,2,-999.0000,9,   301.5,2,   11.43,2,   14.56,2,    0.00,2,    0.94,2,-999.000,9,-999.000,9,  -999.0,9,-999.000,9,-999.000,-999.000,9, -999.00,9, -999.00,  -0.9526
06AQ19870704,        NAO,     340,          2,         12,         12,2,19870717,       1421,    82.9883,    31.9817,       3784,  2901.0,  -0.7968,  34.9515,2,  34.9340,2,-999.0000,9,   301.0,2,   11.14,2,   15.05,2,    0.00,2,    0.91,2,-999.000,9,-999.000,9,  2186.0,2,-999.000,9,-999.000,-999.000,9, -999.00,9, -999.00,  -0.9556
06AQ19870704,        NAO,     340,          3,         15,         15,2,19870717,       1014,    82.9883,    31.9817,       3784,  2950.0,  -0.7918,  34.9478,2,  34.9360,2,-999.0000,9,   301.9,2,   11.43,2,   14.56,2,    0.00,2,    0.94,2,-999.000,9,-999.000,9,  -999.0,9,-999.000,9,-999.000,-999.000,9, -999.00,9, -999.00,  -0.9546
06AQ19870704,        NAO,     340,          2,         11,         11,2,19870717,       1421,    82.9883,    31.9817,       3784,  3051.0,  -0.7868,  34.9579,2,  34.9370,2,-999.0000,9,   300.6,2,   11.04,2,   14.95,2,    0.00,2,    0.92,2,-999.000,9,-999.000,9,  2190.0,2,-999.000,9,-999.000,-999.000,9, -999.00,9, -999.00,  -0.9579
06AQ19870704,        NAO,     340,          3,         14,         14,2,19870717,       1014,    82.9883,    31.9817,       3784,  3099.0,  -0.7818,  34.9537,2,  34.9380,2,-999.0000,9,   301.0,2,   11.63,2,   14.56,2,    0.00,2,    0.94,2,-999.000,9,-999.000,9,  -999.0,9,-999.000,9,-999.000,-999.000,9, -999.00,9, -999.00,  -0.9570
06AQ19870704,        NAO,     340,          2,         10,         10,2,19870717,       1421,    82.9883,    31.9817,       3784,  3201.0,  -0.7738,  34.9580,2,  34.9400,2,-999.0000,9,  -999.0,9,   11.43,2,   14.95,2,    0.00,2,    0.90,2,-999.000,9,-999.000,9,  -999.0,9,-999.000,9,-999.000,-999.000,9, -999.00,9, -999.00,  -0.9576
06AQ19870704,        NAO,     340,          2,          9,          9,2,19870717,       1421,    82.9883,    31.9817,       3784,  3201.0,  -0.7738,  34.9580,2,  34.9390,2,-999.0000,9,   300.6,2,   11.43,2,   14.95,2,    0.00,2,    0.90,2,-999.000,9,-999.000,9,  2183.0,2,-999.000,9,-999.000,-999.000,9, -999.00,9, -999.00,  -0.9576
06AQ19870704,        NAO,     340,          3,         13,         13,2,19870717,       1014,    82.9883,    31.9817,       3784,  3250.0,  -0.7698,  34.9560,2,  34.9410,2,-999.0000,9,   301.0,2,   11.73,2,   14.56,2,    0.00,2,    0.93,2,-999.000,9,-999.000,9,  -999.0,9,-999.000,9,-999.000,-999.000,9, -999.00,9, -999.00,  -0.9579
06AQ19870704,        NAO,     340,          2,          8,          8,2,19870717,       1421,    82.9883,    31.9817,       3784,  3351.0,  -0.7518,  34.9606,2,  34.9420,2,-999.0000,9,   299.7,2,   11.63,2,   14.95,2,    0.00,2,    0.91,2,-999.000,9,-999.000,9,  2188.0,2,-999.000,9,-999.000,-999.000,9, -999.00,9, -999.00,  -0.9489
06AQ19870704,        NAO,     340,          3,         12,         12,2,19870717,       1014,    82.9883,    31.9817,       3784,  3400.0,  -0.7488,  34.9573,2,  34.9410,2,-999.0000,9,   299.7,2,   11.63,2,   14.56,2,    0.00,2,    0.93,2,-999.000,9,-999.000,9,  -999.0,9,-999.000,9,-999.000,-999.000,9, -999.00,9, -999.00,  -0.9502
06AQ19870704,        NAO,     340,          2,          7,          7,2,19870717,       1421,    82.9883,    31.9817,       3784,  3501.0,  -0.7358,  34.9589,2,  34.9430,2,-999.0000,9,   299.7,2,   11.63,2,   14.95,2,    0.00,2,    0.91,2,-999.000,9,-999.000,9,  2190.0,2,-999.000,9,-999.000,-999.000,9, -999.00,9, -999.00,  -0.9465
06AQ19870704,        NAO,     340,          3,         11,         11,2,19870717,       1014,    82.9883,    31.9817,       3784,  3600.0,  -0.7268,  34.9571,2,  34.9440,2,-999.0000,9,   299.3,2,   11.82,2,   14.56,2,    0.00,2,    0.93,2,-999.000,9,-999.000,9,  -999.0,9,-999.000,9,-999.000,-999.000,9, -999.00,9, -999.00,  -0.9465
06AQ19870704,        NAO,     340,          2,          5,          5,2,19870717,       1421,    82.9883,    31.9817,       3784,  3649.0,  -0.7238,  34.9609,2,  34.9430,2,-999.0000,9,  -999.0,9,   11.63,2,   14.85,2,    0.00,2,    0.92,2,-999.000,9,-999.000,9,  2188.0,2,-999.000,9,-999.000,-999.000,9, -999.00,9, -999.00,  -0.9480
06AQ19870704,        NAO,     340,          2,          6,          6,2,19870717,       1421,    82.9883,    31.9817,       3784,  3649.0,  -0.7238,  34.9609,2,  34.9430,2,-999.0000,9,   299.3,2,   11.63,2,   14.95,2,    0.00,2,    0.91,2,-999.000,9,-999.000,9,  -999.0,9,-999.000,9,-999.000,-999.000,9, -999.00,9, -999.00,  -0.9480
06AQ19870704,        NAO,     340,          3,         10,         10,2,19870717,       1014,    82.9883,    31.9817,       3784,  3700.0,  -0.7178,  34.9579,2,  34.9440,2,-999.0000,9,   299.7,2,   11.82,2,   14.56,2,    0.00,2,    0.93,2,-999.000,9,-999.000,9,  -999.0,9,-999.000,9,-999.000,-999.000,9, -999.00,9, -999.00,  -0.9469
06AQ19870704,        NAO,     340,          3,          6,          6,2,19870717,       1014,    82.9883,    31.9817,       3784,  3737.0,  -0.7128,  34.9573,2,  34.9430,2,-999.0000,9,  -999.0,9,   11.73,2,   14.56,2,    0.00,2,    0.94,2,-999.000,9,-999.000,9,  -999.0,9,-999.000,9,-999.000,-999.000,9, -999.00,9, -999.00,  -0.9454
06AQ19870704,        NAO,     340,          3,          7,          7,2,19870717,       1014,    82.9883,    31.9817,       3784,  3737.0,  -0.7138,  34.9584,2,  34.9430,2,-999.0000,9,  -999.0,9,   11.82,2,   14.56,2,    0.00,2,    0.93,2,-999.000,9,-999.000,9,  -999.0,9,-999.000,9,-999.000,-999.000,9, -999.00,9, -999.00,  -0.9464
06AQ19870704,        NAO,     340,          3,          5,          5,2,19870717,       1014,    82.9883,    31.9817,       3784,  3737.0,  -0.7138,  34.9584,2,  34.9440,2,-999.0000,9,  -999.0,9,   11.73,2,   14.56,2,    0.00,2,    0.94,2,-999.000,9,-999.000,9,  -999.0,9,-999.000,9,-999.000,-999.000,9, -999.00,9, -999.00,  -0.9464
06AQ19870704,        NAO,     340,          3,          3,          3,2,19870717,       1014,    82.9883,    31.9817,       3784,  3737.0,  -0.7138,  34.9584,2,-999.0000,9,-999.0000,9,  -999.0,9, -999.00,9, -999.00,9, -999.00,9, -999.00,9,-999.000,9,-999.000,9,  -999.0,9,-999.000,9,-999.000,-999.000,9, -999.00,9, -999.00,  -0.9465
06AQ19870704,        NAO,     340,          3,          8,          8,2,19870717,       1014,    82.9883,    31.9817,       3784,  3737.0,  -0.7128,  34.9573,2,  34.9420,2,-999.0000,9,  -999.0,9,   11.82,2,   14.56,2,    0.00,2,    0.93,2,-999.000,9,-999.000,9,  -999.0,9,-999.000,9,-999.000,-999.000,9, -999.00,9, -999.00,  -0.9454
06AQ19870704,        NAO,     340,          3,          9,          9,2,19870717,       1014,    82.9883,    31.9817,       3784,  3737.0,  -0.7138,  34.9584,2,  34.9430,2,-999.0000,9,  -999.0,9,   11.82,2,   14.56,2,    0.00,2,    0.93,2,-999.000,9,-999.000,9,  -999.0,9,-999.000,9,-999.000,-999.000,9, -999.00,9, -999.00,  -0.9464
06AQ19870704,        NAO,     340,          3,          1,          1,2,19870717,       1014,    82.9883,    31.9817,       3784,  3737.0,  -0.7138,  34.9584,2,  34.9440,2,-999.0000,9,   299.3,2,   11.63,2,   14.46,2,    0.00,2,    0.93,2,-999.000,9,-999.000,9,  -999.0,9,-999.000,9,-999.000,-999.000,9, -999.00,9, -999.00,  -0.9464
06AQ19870704,        NAO,     340,          3,          2,          2,2,19870717,       1014,    82.9883,    31.9817,       3784,  3737.0,  -0.7138,  34.9584,2,  34.9440,2,-999.0000,9,  -999.0,9,   11.63,2,   14.46,2,    0.00,2,    0.93,2,-999.000,9,-999.000,9,  -999.0,9,-999.000,9,-999.000,-999.000,9, -999.00,9, -999.00,  -0.9464
06AQ19870704,        NAO,     340,          3,          4,          4,2,19870717,       1014,    82.9883,    31.9817,       3784,  3737.0,  -0.7128,  34.9573,2,  34.9430,2,-999.0000,9,  -999.0,9,   11.73,2,   14.46,2,    0.00,2,    0.93,2,-999.000,9,-999.000,9,  -999.0,9,-999.000,9,-999.000,-999.000,9, -999.00,9, -999.00,  -0.9454