BOTTLE,20120806PRINUNIVRMK
EXPOCODE,SECT_ID,STNNBR,CASTNO,BTLNBR,BTLNBR_FLAG_W,DATE,TIME,LATITUDE,LONGITUDE,DEPTH,CTDPRS,CTDTMP,CTDSAL,CTDSAL_FLAG_W,CTDOXY,CTDOXY_FLAG_W,OXYGEN,OXYGEN_FLAG_W,SILCAT,SILCAT_FLAG_W,NITRAT,NITRAT_FLAG_W,PHSPHT,PHSPHT_FLAG_W,TCARBN,TCARBN_FLAG_W,ALKALI,ALKALI_FLAG_W,THETA
,,,,,,,,,,METERS,DBAR,ITS-90,PSS-78,,UMOL/KG,,UMOL/KG,,UMOL/KG,,UMOL/KG,,UMOL/KG,,UMOL/KG,,UMOL/KG,,DEG C
  64PE20070830, AR07E,    48,  2,      1,2,20050921,1236, 56.0500, -12.3330, -999,   2731.0,   2.7405,  34.9282,2,    244.7,2,    243.3,2,    34.50,2,    20.30,2,     1.40,2,   2189.2,2,   2340.8,2,   2.5227
  64PE20070830, AR07E,    48,  2,      2,2,20050921,1236, 56.0500, -12.3330, -999,   2682.0,   2.7766,  34.9302,2,    246.1,2,    247.2,2,    31.60,2,    20.10,2,     1.36,2,   2187.0,2,   2338.4,2,   2.5629
  64PE20070830, AR07E,    48,  2,      3,2,20050921,1236, 56.0500, -12.3330, -999,   2631.0,   2.8904,  34.9336,2,    251.8,2,    254.2,2,    27.30,2,    19.30,2,     1.31,2,   2179.7,2,   2330.4,2,   2.6796
  64PE20070830, AR07E,    48,  2,      4,2,20050921,1236, 56.0500, -12.3330, -999,   2542.0,   2.9997,  34.9333,2,    257.4,2,    258.7,2,    22.70,2,    18.60,2,     1.25,2,   2172.0,2,   2322.8,2,   2.7956
  64PE20070830, AR07E,    48,  2,      5,2,20050921,1236, 56.0500, -12.3330, -999,   2290.0,   3.2296,  34.9225,2,    266.5,2,    268.9,2,    16.10,2,    17.50,2,     1.18,2,   2161.4,2,   2311.4,2,   3.0461
  64PE20070830, AR07E,    48,  2,      6,2,20050921,1236, 56.0500, -12.3330, -999,   2023.0,   3.4820,  34.9174,2,    268.4,2,    269.5,2,    13.40,2,    17.40,2,     1.17,2,   2162.7,2,   2307.6,2,   3.3201
  64PE20070830, AR07E,    48,  2,      7,2,20050921,1236, 56.0500, -12.3330, -999,   2023.0,   3.4785,  34.9179,2,    268.4,2,    269.2,2,    13.30,2,    17.40,2,     1.16,2,   2162.4,2,   2306.9,2,   3.3167
  64PE20070830, AR07E,    48,  2,      8,2,20050921,1236, 56.0500, -12.3330, -999,   1773.0,   3.8560,  34.9320,2,    264.3,2,    264.6,2,    12.00,2,    17.60,2,     1.17,2,   2163.6,2,   2307.7,2,   3.7124
  64PE20070830, AR07E,    48,  2,      9,2,20050921,1236, 56.0500, -12.3330, -999,   1520.0,   4.4699,  34.9818,2,    254.3,2,    254.5,2,    11.40,2,    17.80,2,     1.17,2,   2166.7,2,   2310.7,2,   4.3425
  64PE20070830, AR07E,    48,  2,     10,2,20050921,1236, 56.0500, -12.3330, -999,   1264.0,   5.8276,  35.1175,2,    231.6,2,    232.1,2,    11.20,2,    18.00,2,     1.18,2,   2173.5,2,   2319.2,2,   5.7109
  64PE20070830, AR07E,    48,  2,     11,2,20050921,1236, 56.0500, -12.3330, -999,   1011.0,   7.6941,  35.2608,2,    205.2,2,    205.0,2,    10.70,2,    18.30,2,     1.19,2,   2178.3,2,   2329.3,2,   7.5883
  64PE20070830, AR07E,    48,  2,     12,2,20050921,1236, 56.0500, -12.3330, -999,   1014.0,   7.7379,  35.2624,2,    205.6,2,    205.1,2,    10.60,2,    18.30,2,     1.18,2,   2181.2,2,   2327.4,2,   7.6315
  64PE20070830, AR07E,    48,  2,     13,2,20050921,1236, 56.0500, -12.3330, -999,    909.0,   8.6192,  35.3010,2,    208.0,2,    208.1,2,     9.30,2,    17.20,2,     1.11,2,   2170.9,2,   2327.9,2,   8.5185
  64PE20070830, AR07E,    48,  2,     14,2,20050921,1236, 56.0500, -12.3330, -999,    806.0,   9.2470,  35.3388,2,    232.7,2,    233.7,2,     6.90,2,    14.50,2,     0.94,2,   2154.9,2,   2329.0,2,   9.1545
  64PE20070830, AR07E,    48,  2,     15,2,20050921,1236, 56.0500, -12.3330, -999,    706.0,   9.5553,  35.3655,2,    242.0,2,    242.2,2,     5.90,2,    13.40,2,     0.87,2,   2150.3,2,   2328.8,2,   9.4731
  64PE20070830, AR07E,    48,  2,     16,2,20050921,1236, 56.0500, -12.3330, -999,    605.0,   9.9134,  35.4015,2,    243.3,2,    242.8,2,     5.30,2,    12.70,2,     0.82,2,   2148.1,2,   2331.4,2,   9.8418
  64PE20070830, AR07E,    48,  2,     17,2,20050921,1236, 56.0500, -12.3330, -999,    503.0,  10.1711,  35.4314,2,    250.1,2,    250.1,2,     4.70,2,    11.70,2,     0.75,2,   2143.6,2,   2332.7,2,  10.1109
  64PE20070830, AR07E,    48,  2,     18,2,20050921,1236, 56.0500, -12.3330, -999,    407.0,  10.3483,  35.4410,2,    250.1,2,    249.9,2,     4.40,2,    11.50,2,     0.74,2,   2140.0,2,   2331.8,2,  10.2993
  64PE20070830, AR07E,    48,  2,     19,2,20050921,1236, 56.0500, -12.3330, -999,    306.0,  10.4452,  35.4171,2,    245.4,2,    245.9,2,     4.60,2,    11.80,2,     0.75,2,   2143.0,2,   2334.4,2,  10.4083
  64PE20070830, AR07E,    48,  2,     20,2,20050921,1236, 56.0500, -12.3330, -999,    202.0,  10.8536,  35.4668,2,    246.2,2,    246.0,2,     4.10,2,    11.00,2,     0.70,2,   2142.4,2,   2335.8,2,  10.8288
  64PE20070830, AR07E,    48,  2,     21,2,20050921,1236, 56.0500, -12.3330, -999,    102.0,  11.5542,  35.4901,2,    239.5,2,    239.5,2,     2.70,2,    10.20,2,     0.63,2,   2135.9,2,   2337.3,2,  11.5412
  64PE20070830, AR07E,    48,  2,     22,2,20050921,1236, 56.0500, -12.3330, -999,     11.0,  14.5231,  35.4541,2,    249.9,2,    250.9,2,     0.20,2,     0.60,2,     0.09,2,   2068.7,2,   2342.2,2,  14.5215
  64PE20070830, AR07E,    49,  2,      1,2,20050921,0558, 55.9830, -11.4990, -999,   2708.0,   2.7310,  34.9284,2,    244.9,2,    245.7,2,    33.00,2,    20.50,2,     1.38,2,   2188.9,2,   2342.8,2,   2.5156
  64PE20070830, AR07E,    49,  2,      2,2,20050921,0558, 55.9830, -11.4990, -999,   2658.0,   2.7447,  34.9296,2,    245.6,2,    246.7,2,    32.40,2,    20.10,2,     1.37,2,   2186.6,2,   2338.9,2,   2.5340
  64PE20070830, AR07E,    49,  2,      3,2,20050921,0558, 55.9830, -11.4990, -999,   2588.0,   2.8897,  34.9334,2,    253.1,2,    254.2,2,    26.10,2,    19.10,2,     1.29,2,   2178.6,2,   2330.0,2,   2.6831
  64PE20070830, AR07E,    49,  2,      4,2,20050921,0558, 55.9830, -11.4990, -999,   2541.0,   2.9498,  34.9343,2,    255.7,2,    257.7,2,    23.40,2,    18.70,2,     1.26,2,   2172.4,2,   2325.9,2,   2.7467
  64PE20070830, AR07E,    49,  2,      5,2,20050921,0558, 55.9830, -11.4990, -999,   2285.0,   3.2389,  34.9229,2,    266.7,2,    268.4,2,    15.50,2,    17.40,2,     1.17,2,   2160.1,2,   2315.0,2,   3.0558
  64PE20070830, AR07E,    49,  2,      6,2,20050921,0558, 55.9830, -11.4990, -999,   2027.0,   3.4695,  34.9170,2,    268.5,2,    270.7,2,    13.00,2,    17.30,2,     1.15,2,   2158.5,2,   2309.2,2,   3.3074
  64PE20070830, AR07E,    49,  2,      7,2,20050921,0558, 55.9830, -11.4990, -999,   2027.0,   3.4707,  34.9177,2,    268.9,2,    270.4,2,    13.00,2,    17.30,2,     1.16,2,   2158.4,2,   2310.0,2,   3.3086
  64PE20070830, AR07E,    49,  2,      8,2,20050921,0558, 55.9830, -11.4990, -999,   1778.0,   3.7515,  34.9275,2,    265.8,2,    267.4,2,    11.90,2,    17.50,2,     1.15,2,   2159.6,2,   2309.2,2,   3.6088
  64PE20070830, AR07E,    49,  2,      9,2,20050921,0558, 55.9830, -11.4990, -999,   1520.0,   4.4279,  34.9866,2,    256.0,2,    257.4,2,    11.20,2,    17.40,2,     1.15,2,   2164.4,2,   2311.5,2,   4.3009
  64PE20070830, AR07E,    49,  2,     10,2,20050921,0558, 55.9830, -11.4990, -999,   1268.0,   5.7369,  35.1074,2,    230.7,2,    231.4,2,    10.90,2,    18.30,2,     1.20,2,   2173.7,2,   2319.9,2,   5.6206
  64PE20070830, AR07E,    49,  2,     11,2,20050921,0558, 55.9830, -11.4990, -999,   1009.0,   7.7647,  35.2617,2,    206.5,2,    205.6,2,    10.20,2,    18.20,2,     1.17,2,   2175.6,2,   2331.0,2,   7.6586
  64PE20070830, AR07E,    49,  2,     12,2,20050921,0558, 55.9830, -11.4990, -999,   1010.0,   7.7587,  35.2608,2,    206.4,2,    205.4,2,    10.30,2,    18.20,2,     1.17,2,   2177.1,2,   2329.5,2,   7.6526
  64PE20070830, AR07E,    49,  2,     13,2,20050921,0558, 55.9830, -11.4990, -999,    908.0,   8.4718,  35.2942,2,    208.4,2,    207.8,2,     9.20,2,    17.30,2,     1.12,2,   2173.1,2,   2330.3,2,   8.3722
  64PE20070830, AR07E,    49,  2,     14,2,20050921,0558, 55.9830, -11.4990, -999,    810.0,   9.1461,  35.3321,2,    228.6,2,    230.3,2,     7.10,2,    15.00,2,     0.97,2,   2157.8,2,   2330.6,2,   9.0538
  64PE20070830, AR07E,    49,  2,     15,2,20050921,0558, 55.9830, -11.4990, -999,    706.0,   9.5171,  35.3627,2,    240.7,2,    244.1,2,     5.90,2,    13.50,2,     0.87,2,   2146.6,2,   2330.9,2,   9.4351
  64PE20070830, AR07E,    49,  2,     16,2,20050921,0558, 55.9830, -11.4990, -999,    605.0,   9.9521,  35.4068,2,    244.0,2,    245.6,2,     5.20,2,    12.60,2,     0.81,2,   2143.6,2,   2333.0,2,   9.8803
  64PE20070830, AR07E,    49,  2,     17,2,20050921,0558, 55.9830, -11.4990, -999,    507.0,  10.1864,  35.4315,2,    249.9,2,    252.7,2,     4.60,2,    11.70,2,     0.76,2,   2138.9,2,   2334.2,2,  10.1256
  64PE20070830, AR07E,    49,  2,     18,2,20050921,0558, 55.9830, -11.4990, -999,    406.0,  10.3477,  35.4412,2,    250.5,2,    252.3,2,     4.40,2,    11.60,2,     0.74,2,   2138.6,2,   2333.8,2,  10.2988
  64PE20070830, AR07E,    49,  2,     19,2,20050921,0558, 55.9830, -11.4990, -999,    302.0,  10.4388,  35.4211,2,    246.9,2,    248.5,2,     4.50,2,    11.70,2,     0.75,2,   2139.2,2,   2332.8,2,  10.4024
  64PE20070830, AR07E,    49,  2,     20,2,20050921,0558, 55.9830, -11.4990, -999,    202.0,  10.8340,  35.4660,2,    247.5,2,    248.7,2,     4.00,2,    11.00,2,     0.70,2,   2134.7,2,   2334.7,2,  10.8092
  64PE20070830, AR07E,    49,  2,     21,2,20050921,0558, 55.9830, -11.4990, -999,    102.0,  11.3040,  35.4803,2,    242.7,2,    244.1,2,     3.10,2,    10.50,2,     0.65,2,   2135.2,2,   2335.4,2,  11.2912
  64PE20070830, AR07E,    49,  2,     22,2,20050921,0558, 55.9830, -11.4990, -999,     10.0,  14.0383,  35.4405,2,    249.8,2,    252.7,2,     0.30,2,     2.10,2,     0.17,2,   2082.2,2,   2338.3,2,  14.0369
  64PE20070830, AR07E,    50,  2,      1,2,20050921,1059, 55.9170, -10.7160, -999,   2393.0,   2.8923,  34.9299,2,    255.0,2,    254.4,2,    25.00,2,    18.80,2,     1.28,2,   2175.7,2,   2331.0,2,   2.7047
  64PE20070830, AR07E,    50,  2,      2,2,20050921,1059, 55.9170, -10.7160, -999,   2332.0,   3.0276,  34.9303,2,    258.3,2,    258.3,2,    22.00,2,    18.30,2,     1.24,2,   2173.5,2,   2323.3,2,   2.8435
  64PE20070830, AR07E,    50,  2,      3,2,20050921,1059, 55.9170, -10.7160, -999,   2281.0,   3.1517,  34.9272,2,    264.4,2,    266.1,2,    17.50,2,    17.60,2,     1.19,2,   2164.3,2,   2315.0,2,   2.9704
  64PE20070830, AR07E,    50,  2,      4,2,20050921,1059, 55.9170, -10.7160, -999,   2024.0,   3.3483,  34.9170,2,    269.2,2,    270.2,2,    13.80,2,    17.30,2,     1.15,2,   2157.5,2,   2311.4,2,   3.1883
  64PE20070830, AR07E,    50,  2,      5,2,20050921,1059, 55.9170, -10.7160, -999,   2022.0,   3.3490,  34.9171,2,    269.4,2,    270.0,2,    13.90,2,    17.30,2,     1.16,2,   2160.2,2,   2309.0,2,   3.1892
  64PE20070830, AR07E,    50,  2,      6,2,20050921,1059, 55.9170, -10.7160, -999,   1775.0,   3.6062,  34.9230,2,    268.3,2,    268.5,2,    12.30,2,    17.20,2,     1.15,2,   2158.0,2,   2308.3,2,   3.4657
  64PE20070830, AR07E,    50,  2,      7,2,20050921,1059, 55.9170, -10.7160, -999,   1513.0,   3.9686,  34.9417,2,    263.2,2,    264.1,2,    11.40,2,    17.40,2,     1.15,2,   2162.3,2,   2308.2,2,   3.8476
  64PE20070830, AR07E,    50,  2,      8,2,20050921,1059, 55.9170, -10.7160, -999,   1266.0,   4.6193,  35.0005,2,    251.9,2,    252.4,2,    11.00,2,    17.50,2,     1.16,2,   2162.0,2,   2310.9,2,   4.5140
  64PE20070830, AR07E,    50,  2,      9,2,20050921,1059, 55.9170, -10.7160, -999,   1013.0,   5.9830,  35.1328,2,    228.8,2,    229.1,2,    11.00,2,    18.00,2,     1.18,2,   2172.8,2,   2318.1,2,   5.8900
  64PE20070830, AR07E,    50,  2,     10,2,20050921,1059, 55.9170, -10.7160, -999,   1012.0,   5.9801,  35.1331,2,    228.8,2,    228.4,2,    10.90,2,    18.10,2,     1.17,2,   2173.3,2,   2322.6,2,   5.8872
  64PE20070830, AR07E,    50,  2,     11,2,20050921,1059, 55.9170, -10.7160, -999,    911.0,   6.5763,  35.1831,2,    219.2,2,    218.2,2,    10.80,2,    18.20,2,     1.18,2,   2172.2,2,   2323.2,2,   6.4892
  64PE20070830, AR07E,    50,  2,     12,2,20050921,1059, 55.9170, -10.7160, -999,    806.0,   7.3089,  35.2352,2,    209.1,2,    207.3,2,    10.50,2,    18.40,2,     1.18,2,   2174.2,2,   2327.6,2,   7.2279
  64PE20070830, AR07E,    50,  2,     13,2,20050921,1059, 55.9170, -10.7160, -999,    708.0,   7.9007,  35.2678,2,    205.1,2,    203.3,2,    10.00,2,    18.00,2,     1.17,2,   2173.6,2,   2330.0,2,   7.8269
  64PE20070830, AR07E,    50,  2,     14,2,20050921,1059, 55.9170, -10.7160, -999,    605.0,   8.6094,  35.3004,2,    212.0,2,    211.0,2,     8.70,2,    16.80,2,     1.08,2,   2167.7,2,   2328.8,2,   8.5436
  64PE20070830, AR07E,    50,  2,     15,2,20050921,1059, 55.9170, -10.7160, -999,    506.0,   9.1897,  35.3364,2,    231.6,2,    232.5,2,     6.80,2,    14.60,2,     0.93,2,   2153.9,2,   2329.5,2,   9.1328
  64PE20070830, AR07E,    50,  2,     16,2,20050921,1059, 55.9170, -10.7160, -999,    401.0,   9.5988,  35.3721,2,    237.6,2,    238.1,2,     5.70,2,    13.50,2,     0.87,2,   2148.9,2,   2329.9,2,   9.5527
  64PE20070830, AR07E,    50,  2,     17,2,20050921,1059, 55.9170, -10.7160, -999,    301.0,   9.9558,  35.4114,2,    246.9,2,    248.1,2,     4.80,2,    12.20,2,     0.78,2,   2142.6,2,   2332.5,2,   9.9206
  64PE20070830, AR07E,    50,  2,     18,2,20050921,1059, 55.9170, -10.7160, -999,    199.0,  10.2094,  35.4267,2,    245.4,2,    245.8,2,     4.50,2,    12.10,2,     0.76,2,   2139.6,2,   2333.3,2,  10.1859
  64PE20070830, AR07E,    50,  2,     19,2,20050921,1059, 55.9170, -10.7160, -999,    102.0,  11.8287,  35.4396,2,    239.7,2,    240.1,2,     1.40,2,     8.70,2,     0.56,2,   2123.8,2,   2334.4,2,  11.8155
  64PE20070830, AR07E,    50,  2,     20,2,20050921,1059, 55.9170, -10.7160, -999,      9.0,  14.2724,  35.4071,2,    253.9,2,    255.0,2,     0.00,2,     0.60,2,     0.10,2,   2067.3,2,   2337.8,2,  14.2711
  64PE20070830, AR07E,    51,  2,      1,2,20050921,1446, 55.8670, -10.2830, -999,   2291.0,   2.9506,  34.9308,2,    256.2,2,    254.5,2,    24.40,2,    18.80,2,     1.27,2,   -999.0,9,   -999.0,9,   2.7717
  64PE20070830, AR07E,    51,  2,      2,2,20050921,1446, 55.8670, -10.2830, -999,   2236.0,   3.0622,  34.9288,2,    260.0,2,    259.2,2,    20.80,2,    18.10,2,     1.22,2,   -999.0,9,   -999.0,9,   2.8867
  64PE20070830, AR07E,    51,  2,      3,2,20050921,1446, 55.8670, -10.2830, -999,   2185.0,   3.1848,  34.9242,2,    264.9,2,    264.5,2,    17.20,2,    17.50,2,     1.19,2,   -999.0,9,   -999.0,9,   3.0122
  64PE20070830, AR07E,    51,  2,      4,2,20050921,1446, 55.8670, -10.2830, -999,   2027.0,   3.3296,  34.9181,2,    269.8,2,    269.6,2,    14.00,2,    17.30,2,     1.16,2,   -999.0,9,   -999.0,9,   3.1696
  64PE20070830, AR07E,    51,  2,      5,2,20050921,1446, 55.8670, -10.2830, -999,   2030.0,   3.3278,  34.9180,2,    269.7,2,    272.7,2,    13.90,2,    17.10,2,     1.16,2,   -999.0,9,   -999.0,9,   3.1676
  64PE20070830, AR07E,    51,  2,      6,2,20050921,1446, 55.8670, -10.2830, -999,   1772.0,   3.5173,  34.9187,2,    268.7,2,    269.2,2,    12.60,2,    17.20,2,     1.15,2,   -999.0,9,   -999.0,9,   3.3783
  64PE20070830, AR07E,    51,  2,      7,2,20050921,1446, 55.8670, -10.2830, -999,   1521.0,   3.9409,  34.9389,2,    264.5,2,    264.8,2,    11.30,2,    17.30,2,     1.15,2,   -999.0,9,   -999.0,9,   3.8195
  64PE20070830, AR07E,    51,  2,      8,2,20050921,1446, 55.8670, -10.2830, -999,   1266.0,   4.6437,  35.0025,2,    252.3,2,    252.8,2,    11.00,2,    17.50,2,     1.16,2,   -999.0,9,   -999.0,9,   4.5382
  64PE20070830, AR07E,    51,  2,      9,2,20050921,1446, 55.8670, -10.2830, -999,   1015.0,   5.6559,  35.1025,2,    233.4,2,    233.4,2,    11.00,2,    18.00,2,     1.18,2,   -999.0,9,   -999.0,9,   5.5652
  64PE20070830, AR07E,    51,  2,     10,2,20050921,1446, 55.8670, -10.2830, -999,   1014.0,   5.6650,  35.1033,2,    233.3,2,    233.4,2,    11.00,2,    17.80,2,     1.18,2,   -999.0,9,   -999.0,9,   5.5743
  64PE20070830, AR07E,    51,  2,     11,2,20050921,1446, 55.8670, -10.2830, -999,    917.0,   6.2619,  35.1580,2,    223.5,2,    226.4,2,    10.90,2,    18.10,2,     1.18,2,   -999.0,9,   -999.0,9,   6.1764
  64PE20070830, AR07E,    51,  2,     12,2,20050921,1446, 55.8670, -10.2830, -999,    807.0,   7.0873,  35.2189,2,    213.3,2,    212.8,2,    10.60,2,    18.10,2,     1.17,2,   -999.0,9,   -999.0,9,   7.0076
  64PE20070830, AR07E,    51,  2,     13,2,20050921,1446, 55.8670, -10.2830, -999,    709.0,   7.7861,  35.2619,2,    207.6,2,    205.8,2,    10.10,2,    17.80,2,     1.16,2,   -999.0,9,   -999.0,9,   7.7128
  64PE20070830, AR07E,    51,  2,     14,2,20050921,1446, 55.8670, -10.2830, -999,    606.0,   8.5567,  35.2979,2,    208.7,2,   -999.0,9,  -999.00,9,  -999.00,9,  -999.00,9,   -999.0,9,   -999.0,9,   8.4910
  64PE20070830, AR07E,    51,  2,     15,2,20050921,1446, 55.8670, -10.2830, -999,    504.0,   9.0825,  35.3284,2,    227.3,2,    228.3,2,     7.20,2,    15.10,2,     0.97,2,   -999.0,9,   -999.0,9,   9.0262
  64PE20070830, AR07E,    51,  2,     16,2,20050921,1446, 55.8670, -10.2830, -999,    402.0,   9.5264,  35.3651,2,    236.1,2,    236.0,2,     6.00,2,    13.70,2,     0.88,2,   -999.0,9,   -999.0,9,   9.4804
  64PE20070830, AR07E,    51,  2,     17,2,20050921,1446, 55.8670, -10.2830, -999,    308.0,   9.8204,  35.3918,2,    238.6,2,    238.9,2,     5.40,2,    13.20,2,     0.84,2,   -999.0,9,   -999.0,9,   9.7847
  64PE20070830, AR07E,    51,  2,     18,2,20050921,1446, 55.8670, -10.2830, -999,    200.0,  10.1407,  35.4174,2,    245.0,2,    244.9,2,     4.50,2,    12.20,2,     0.77,2,   -999.0,9,   -999.0,9,  10.1172
  64PE20070830, AR07E,    51,  2,     19,2,20050921,1446, 55.8670, -10.2830, -999,    107.0,  11.4010,  35.4332,2,    244.2,2,    244.2,2,     1.60,2,     9.60,2,     0.61,2,   -999.0,9,   -999.0,9,  11.3875
  64PE20070830, AR07E,    51,  2,     20,2,20050921,1446, 55.8670, -10.2830, -999,     11.0,  14.5411,  35.4247,2,    251.9,2,   -999.0,9,     0.10,2,     0.60,2,     0.11,2,   -999.0,9,   -999.0,9,  14.5395