BOTTLE,20120806PRINUNIVRMK
EXPOCODE,SECT_ID,STNNBR,CASTNO,BTLNBR,BTLNBR_FLAG_W,DATE,TIME,LATITUDE,LONGITUDE,DEPTH,CTDPRS,CTDTMP,CTDSAL,CTDSAL_FLAG_W,CTDOXY,CTDOXY_FLAG_W,OXYGEN,OXYGEN_FLAG_W,SILCAT,SILCAT_FLAG_W,NITRAT,NITRAT_FLAG_W,PHSPHT,PHSPHT_FLAG_W,TCARBN,TCARBN_FLAG_W,ALKALI,ALKALI_FLAG_W,THETA
,,,,,,,,,,METERS,DBAR,ITS-90,PSS-78,,UMOL/KG,,UMOL/KG,,UMOL/KG,,UMOL/KG,,UMOL/KG,,UMOL/KG,,UMOL/KG,,DEG C
  64PE20070830, AR07E,    36,  2,      1,2,20050918,2000, 56.9330, -21.9160, -999,   2282.0,   3.1325,  34.9297,2,    270.8,2,   -999.0,9,    14.70,2,    16.90,2,     1.14,2,   2157.2,2,   2310.1,2,   2.9514
  64PE20070830, AR07E,    36,  2,      2,2,20050918,2000, 56.9330, -21.9160, -999,   2233.0,   3.1873,  34.9200,2,    271.3,2,   -999.0,9,    14.10,2,    17.00,2,     1.14,2,   2157.2,2,   2308.8,2,   3.0100
  64PE20070830, AR07E,    36,  2,      3,2,20050918,2000, 56.9330, -21.9160, -999,   2179.0,   3.2604,  34.9120,2,    273.3,2,   -999.0,9,    12.50,2,    16.90,2,     1.13,2,   2157.1,2,   2309.9,2,   3.0871
  64PE20070830, AR07E,    36,  2,      4,2,20050918,2000, 56.9330, -21.9160, -999,   2033.0,   3.3449,  34.9018,2,    273.9,2,   -999.0,9,    11.80,2,    17.10,2,     1.14,2,   2158.2,2,   2305.5,2,   3.1842
  64PE20070830, AR07E,    36,  2,      5,2,20050918,2000, 56.9330, -21.9160, -999,   2028.0,   3.3458,  34.9023,2,    274.1,2,   -999.0,9,    11.80,2,    17.10,2,     1.14,2,   2158.1,2,   2304.9,2,   3.1856
  64PE20070830, AR07E,    36,  2,      6,2,20050918,2000, 56.9330, -21.9160, -999,   1773.0,   3.5401,  34.9032,2,    271.1,2,   -999.0,9,    11.50,2,    17.10,2,     1.14,2,   2157.7,2,   2306.1,2,   3.4008
  64PE20070830, AR07E,    36,  2,      7,2,20050918,2000, 56.9330, -21.9160, -999,   1519.0,   3.7069,  34.8998,2,    270.4,2,   -999.0,9,    10.90,2,    17.20,2,     1.15,2,   2157.0,2,   -999.0,9,   3.5885
  64PE20070830, AR07E,    36,  2,      8,2,20050918,2000, 56.9330, -21.9160, -999,   1265.0,   4.1731,  34.9410,2,    259.6,2,   -999.0,9,    11.10,2,    17.60,2,     1.17,2,   2163.5,2,   2310.1,2,   4.0723
  64PE20070830, AR07E,    36,  2,      9,2,20050918,2000, 56.9330, -21.9160, -999,   1011.0,   5.3972,  35.0560,2,    235.3,2,   -999.0,9,    11.20,2,    18.30,2,     1.20,2,   2172.4,2,   2316.2,2,   5.3089
  64PE20070830, AR07E,    36,  2,     10,2,20050918,2000, 56.9330, -21.9160, -999,   1010.0,   5.4099,  35.0584,2,    234.7,2,   -999.0,9,    11.30,2,    18.20,2,     1.20,2,   2171.3,2,   2317.5,2,   5.3216
  64PE20070830, AR07E,    36,  2,     11,2,20050918,2000, 56.9330, -21.9160, -999,    910.0,   5.7630,  35.0561,2,    226.1,2,   -999.0,9,    11.20,2,    18.50,2,     1.21,2,   2174.7,2,   2317.2,2,   5.6817
  64PE20070830, AR07E,    36,  2,     12,2,20050918,2000, 56.9330, -21.9160, -999,    810.0,   7.0742,  35.1994,2,    208.6,2,    206.1,2,    11.20,2,    18.70,2,     1.21,2,   2175.2,2,   2325.2,2,   6.9943
  64PE20070830, AR07E,    36,  2,     13,2,20050918,2000, 56.9330, -21.9160, -999,    708.0,   7.8065,  35.2272,2,    200.9,2,    204.4,2,    10.50,2,    18.40,2,     1.20,2,   2175.5,2,   2327.4,2,   7.7332
  64PE20070830, AR07E,    36,  2,     14,2,20050918,2000, 56.9330, -21.9160, -999,    603.0,   8.4908,  35.2511,2,    203.3,2,    204.1,2,     9.50,2,    17.70,2,     1.14,2,   2169.9,2,   2327.7,2,   8.4258
  64PE20070830, AR07E,    36,  2,     15,2,20050918,2000, 56.9330, -21.9160, -999,    507.0,   9.2112,  35.3064,2,    224.9,2,    227.2,2,     7.30,2,    15.10,2,     0.98,2,   2156.4,2,   2326.2,2,   9.1541
  64PE20070830, AR07E,    36,  2,     16,2,20050918,2000, 56.9330, -21.9160, -999,    407.0,   9.7916,  35.3466,2,    235.0,2,   -999.0,9,     5.90,2,    13.40,2,     0.87,2,   2146.7,2,   2328.0,2,   9.7443
  64PE20070830, AR07E,    36,  2,     17,2,20050918,2000, 56.9330, -21.9160, -999,    303.0,  10.0865,  35.3357,2,    240.9,2,   -999.0,9,     5.40,2,    12.60,2,     0.81,2,   2143.4,2,   2329.6,2,  10.0508
  64PE20070830, AR07E,    36,  2,     18,2,20050918,2000, 56.9330, -21.9160, -999,    202.0,  10.4781,  35.3708,2,    240.2,2,   -999.0,9,     4.80,2,    12.10,2,     0.77,2,   2142.0,2,   2331.0,2,  10.4538
  64PE20070830, AR07E,    36,  2,     19,2,20050918,2000, 56.9330, -21.9160, -999,    100.0,  11.2401,  35.4348,2,    239.0,2,    242.2,2,     3.20,2,    10.70,2,     0.68,2,   2135.4,2,   2334.3,2,  11.2276
  64PE20070830, AR07E,    36,  2,     20,2,20050918,2000, 56.9330, -21.9160, -999,     10.0,  14.3616,  35.4558,2,    247.9,2,    251.7,2,     0.10,2,     2.00,2,     0.18,2,   2088.4,2,   2338.1,2,  14.3601
  64PE20070830, AR07E,    37,  2,      1,2,20050918,2333, 56.9000, -21.5000, -999,   2110.0,   3.1520,  34.9268,2,    272.0,2,    270.4,2,    14.20,2,    16.90,2,     1.13,2,   2162.6,2,   2314.1,2,   2.9870
  64PE20070830, AR07E,    37,  2,      2,2,20050918,2333, 56.9000, -21.5000, -999,   2062.0,   3.3266,  34.9063,2,    272.7,2,    272.1,2,    12.90,2,    17.20,2,     1.14,2,   2162.9,2,   2306.6,2,   3.1634
  64PE20070830, AR07E,    37,  2,      3,2,20050918,2333, 56.9000, -21.5000, -999,   2007.0,   3.3708,  34.9048,2,    273.1,2,    272.4,2,    12.40,2,    17.10,2,     1.14,2,   2156.9,2,   2306.7,2,   3.2121
  64PE20070830, AR07E,    37,  2,      4,2,20050918,2333, 56.9000, -21.5000, -999,   2012.0,   3.3718,  34.9050,2,    272.8,2,    272.6,2,    12.40,2,    17.00,2,     1.14,2,   2161.7,2,   2306.5,2,   3.2127
  64PE20070830, AR07E,    37,  2,      5,2,20050918,2333, 56.9000, -21.5000, -999,   1771.0,   3.5517,  34.9037,2,    271.3,2,    271.0,2,    11.60,2,    17.30,2,     1.15,2,   2159.6,2,   2306.2,2,   3.4124
  64PE20070830, AR07E,    37,  2,      6,2,20050918,2333, 56.9000, -21.5000, -999,   1568.0,   3.7003,  34.9040,2,    269.4,2,    269.4,2,    11.20,2,    17.20,2,     1.14,2,   2163.3,2,   2304.0,2,   3.5776
  64PE20070830, AR07E,    37,  2,      7,2,20050918,2333, 56.9000, -21.5000, -999,   1521.0,   3.8020,  34.9109,2,    267.7,2,    269.5,2,    11.30,2,    17.40,2,     1.15,2,   2159.1,2,   2305.6,2,   3.6823
  64PE20070830, AR07E,    37,  2,      8,2,20050918,2333, 56.9000, -21.5000, -999,   1265.0,   4.2315,  34.9358,2,    259.3,2,    258.4,2,    11.00,2,    17.60,2,     1.17,2,   2167.6,2,   2307.6,2,   4.1301
  64PE20070830, AR07E,    37,  2,      9,2,20050918,2333, 56.9000, -21.5000, -999,   1011.0,   5.7271,  35.0967,2,    228.7,2,    228.5,2,    11.40,2,    18.20,2,     1.19,2,   2175.2,2,   2319.1,2,   5.6363
  64PE20070830, AR07E,    37,  2,     10,2,20050918,2333, 56.9000, -21.5000, -999,   1010.0,   5.7289,  35.0974,2,    228.6,2,    228.4,2,    11.30,2,    18.30,2,     1.19,2,   2175.5,2,   2318.4,2,   5.6382
  64PE20070830, AR07E,    37,  2,     11,2,20050918,2333, 56.9000, -21.5000, -999,    910.0,   6.3994,  35.1565,2,    218.2,2,    216.8,2,    11.40,2,    18.50,2,     1.21,2,   -999.0,9,   -999.0,9,   6.3136
  64PE20070830, AR07E,    37,  2,     12,2,20050918,2333, 56.9000, -21.5000, -999,    810.0,   7.0273,  35.1695,2,    206.2,2,    205.5,2,    11.10,2,    18.80,2,     1.22,2,   -999.0,9,   -999.0,9,   6.9477
  64PE20070830, AR07E,    37,  2,     13,2,20050918,2333, 56.9000, -21.5000, -999,    702.0,   8.0399,  35.2338,2,    201.0,2,    199.8,2,    10.40,2,    18.30,2,     1.18,2,   -999.0,9,   -999.0,9,   7.9661
  64PE20070830, AR07E,    37,  2,     14,2,20050918,2333, 56.9000, -21.5000, -999,    601.0,   8.7927,  35.2734,2,    212.3,2,    213.1,2,     8.60,2,    16.50,2,     1.07,2,   -999.0,9,   -999.0,9,   8.7265
  64PE20070830, AR07E,    37,  2,     15,2,20050918,2333, 56.9000, -21.5000, -999,    506.0,   9.4040,  35.3198,2,    234.4,2,    236.7,2,     6.50,2,    14.10,2,     0.90,2,   -999.0,9,   -999.0,9,   9.3463
  64PE20070830, AR07E,    37,  2,     16,2,20050918,2333, 56.9000, -21.5000, -999,    401.0,   9.8473,  35.3469,2,    231.7,2,    234.2,2,     6.00,2,    13.60,2,     0.87,2,   -999.0,9,   -999.0,9,   9.8005
  64PE20070830, AR07E,    37,  2,     17,2,20050918,2333, 56.9000, -21.5000, -999,    305.0,  10.1287,  35.3480,2,    242.5,2,    244.9,2,     5.20,2,    12.40,2,     0.80,2,   -999.0,9,   -999.0,9,  10.0927
  64PE20070830, AR07E,    37,  2,     18,2,20050918,2333, 56.9000, -21.5000, -999,    204.0,  10.5436,  35.3786,2,    238.3,2,    240.7,2,     4.80,2,    12.10,2,     0.77,2,   -999.0,9,   -999.0,9,  10.5190
  64PE20070830, AR07E,    37,  2,     19,2,20050918,2333, 56.9000, -21.5000, -999,    102.0,  11.3428,  35.4832,2,    236.9,2,    238.7,2,     4.00,2,    11.00,2,     0.69,2,   -999.0,9,   -999.0,9,  11.3300
  64PE20070830, AR07E,    37,  2,     20,2,20050918,2333, 56.9000, -21.5000, -999,     10.0,  14.3978,  35.4291,2,    247.5,2,    249.3,2,     0.20,2,     1.90,2,     0.18,2,   -999.0,9,   -999.0,9,  14.3963
  64PE20070830, AR07E,    38,  2,      1,2,20050919,0316, 56.8670, -21.0320, -999,   1933.0,   3.1750,  34.9201,2,    273.4,2,    272.2,2,    13.40,2,    17.00,2,     1.13,2,   2162.0,2,   2307.5,2,   3.0260
  64PE20070830, AR07E,    38,  2,      2,2,20050919,0316, 56.8670, -21.0320, -999,   1877.0,   3.2665,  34.9086,2,    273.8,2,    274.6,2,    12.90,2,    17.20,2,     1.14,2,   2160.0,2,   2304.3,2,   3.1214
  64PE20070830, AR07E,    38,  2,      3,2,20050919,0316, 56.8670, -21.0320, -999,   1823.0,   3.3178,  34.9059,2,    273.7,2,    274.1,2,    12.40,2,    17.10,2,     1.14,2,   2161.3,2,   2305.5,2,   3.1769
  64PE20070830, AR07E,    38,  2,      4,2,20050919,0316, 56.8670, -21.0320, -999,   1777.0,   3.3634,  34.9046,2,    273.6,2,    272.9,2,    12.30,2,    17.20,2,     1.14,2,   2158.9,2,   2305.8,2,   3.2260
  64PE20070830, AR07E,    38,  2,      5,2,20050919,0316, 56.8670, -21.0320, -999,   1518.0,   3.7195,  34.9165,2,    267.5,2,    267.7,2,    11.70,2,    17.50,2,     1.15,2,   2165.8,2,   2305.3,2,   3.6010
  64PE20070830, AR07E,    38,  2,      6,2,20050919,0316, 56.8670, -21.0320, -999,   1263.0,   4.1452,  34.9340,2,    260.6,2,    261.0,2,    11.00,2,    17.70,2,     1.16,2,   2165.3,2,   2307.1,2,   4.0449
  64PE20070830, AR07E,    38,  2,      7,2,20050919,0316, 56.8670, -21.0320, -999,   1013.0,   5.4339,  35.0525,2,    234.1,2,    233.9,2,    11.30,2,    18.40,2,     1.20,2,   2172.8,2,   2313.2,2,   5.3452
  64PE20070830, AR07E,    38,  2,      8,2,20050919,0316, 56.8670, -21.0320, -999,   1010.0,   5.4409,  35.0533,2,    234.0,2,    233.7,2,    11.10,2,    18.40,2,     1.20,2,   2174.5,2,   2313.8,2,   5.3524
  64PE20070830, AR07E,    38,  2,      9,2,20050919,0316, 56.8670, -21.0320, -999,    913.0,   6.0024,  35.0765,2,    221.6,2,    223.0,2,    11.10,2,    18.70,2,     1.22,2,   2179.6,2,   2313.6,2,   5.9191
  64PE20070830, AR07E,    38,  2,     10,2,20050919,0316, 56.8670, -21.0320, -999,    810.0,   7.1957,  35.2018,2,    206.9,2,    206.2,2,    11.00,2,    18.80,2,     1.20,2,   2184.9,2,   2323.8,2,   7.1150
  64PE20070830, AR07E,    38,  2,     11,2,20050919,0316, 56.8670, -21.0320, -999,    711.0,   7.9511,  35.2208,2,    199.8,2,    200.9,2,    10.40,2,    18.60,2,     1.19,2,   2178.7,2,   2323.5,2,   7.8768
  64PE20070830, AR07E,    38,  2,     12,2,20050919,0316, 56.8670, -21.0320, -999,    607.0,   8.8886,  35.2797,2,    207.2,2,    209.5,2,     8.70,2,    17.00,2,     1.08,2,   2173.0,2,   2324.9,2,   8.8213
  64PE20070830, AR07E,    38,  2,     13,2,20050919,0316, 56.8670, -21.0320, -999,    508.0,   9.4653,  35.3104,2,    222.3,2,    223.0,2,     7.20,2,    15.10,2,     0.97,2,   2161.6,2,   2326.2,2,   9.4071
  64PE20070830, AR07E,    38,  2,     14,2,20050919,0316, 56.8670, -21.0320, -999,    405.0,  10.0492,  35.3719,2,    234.6,2,    235.0,2,     5.60,2,    13.10,2,     0.84,2,   2141.7,2,   2328.6,2,  10.0013
  64PE20070830, AR07E,    38,  2,     15,2,20050919,0316, 56.8670, -21.0320, -999,    302.0,  10.1546,  35.3495,2,    243.4,2,    241.5,2,     5.20,2,    12.60,2,     0.80,2,   2146.6,2,   2329.5,2,  10.1189
  64PE20070830, AR07E,    38,  2,     16,2,20050919,0316, 56.8670, -21.0320, -999,    200.0,  10.4789,  35.3833,2,    243.9,2,    242.4,2,     4.70,2,    11.90,2,     0.76,2,   2142.6,2,   2329.9,2,  10.4549
  64PE20070830, AR07E,    38,  2,     17,2,20050919,0316, 56.8670, -21.0320, -999,    100.0,  11.3218,  35.4532,2,    243.0,2,    243.8,2,     3.00,2,    10.40,2,     0.66,2,   2134.3,2,   2334.1,2,  11.3092
  64PE20070830, AR07E,    38,  2,     18,2,20050919,0316, 56.8670, -21.0320, -999,     12.0,  14.2275,  35.4375,2,    248.2,2,    251.7,2,     0.20,2,     2.30,2,     0.20,2,   2089.3,2,   2337.8,2,  14.2258
  64PE20070830, AR07E,    39,  2,      1,2,20050919,0824, 56.7840, -20.1500, -999,   1135.0,   4.5995,  35.0014,2,    248.7,2,    247.1,2,    13.30,2,    18.10,2,     1.19,2,   2169.0,2,   2311.6,2,   4.5064
  64PE20070830, AR07E,    39,  2,      2,2,20050919,0824, 56.7840, -20.1500, -999,   1082.0,   4.7952,  35.0193,2,    244.9,2,    244.3,2,    12.70,2,    18.00,2,     1.19,2,   2169.4,2,   2314.2,2,   4.7052
  64PE20070830, AR07E,    39,  2,      3,2,20050919,0824, 56.7840, -20.1500, -999,   1016.0,   5.4684,  35.0819,2,    234.0,2,    232.6,2,    12.30,2,    18.30,2,     1.20,2,   2174.1,2,   2317.5,2,   5.3791
  64PE20070830, AR07E,    39,  2,      4,2,20050919,0824, 56.7840, -20.1500, -999,   1016.0,   5.4534,  35.0812,2,    234.1,2,    232.9,2,    12.50,2,    18.20,2,     1.20,2,   2175.8,2,   2318.3,2,   5.3642
  64PE20070830, AR07E,    39,  2,      5,2,20050919,0824, 56.7840, -20.1500, -999,    910.0,   6.2603,  35.1515,2,    220.5,2,    219.7,2,    11.30,2,    18.50,2,     1.21,2,   2179.9,2,   2321.7,2,   6.1755
  64PE20070830, AR07E,    39,  2,      6,2,20050919,0824, 56.7840, -20.1500, -999,    810.0,   6.9039,  35.1880,2,    210.3,2,    210.2,2,    11.40,2,    18.70,2,     1.21,2,   2179.9,2,   2324.0,2,   6.8250
  64PE20070830, AR07E,    39,  2,      7,2,20050919,0824, 56.7840, -20.1500, -999,    706.0,   7.7854,  35.2305,2,    201.6,2,    202.0,2,    11.40,2,    18.70,2,     1.21,2,   2178.8,2,   2324.7,2,   7.7125
  64PE20070830, AR07E,    39,  2,      8,2,20050919,0824, 56.7840, -20.1500, -999,    605.0,   8.4822,  35.2455,2,    206.0,2,    207.1,2,    10.60,2,    18.50,2,     1.20,2,   2170.9,2,   2323.4,2,   8.4170
  64PE20070830, AR07E,    39,  2,      9,2,20050919,0824, 56.7840, -20.1500, -999,    505.0,   8.9344,  35.2167,2,    208.1,2,    207.8,2,     9.30,2,    17.60,2,     1.12,2,   2170.7,2,   2322.9,2,   8.8786
  64PE20070830, AR07E,    39,  2,     10,2,20050919,0824, 56.7840, -20.1500, -999,    402.0,   9.6991,  35.2915,2,    226.0,2,    228.0,2,     8.70,2,    17.00,2,     1.09,2,   2157.9,2,   2326.5,2,   9.6527
  64PE20070830, AR07E,    39,  2,     11,2,20050919,0824, 56.7840, -20.1500, -999,    305.0,  10.1921,  35.3413,2,    243.2,2,    245.0,2,     6.70,2,    14.50,2,     0.93,2,   2146.8,2,   2328.4,2,  10.1559
  64PE20070830, AR07E,    39,  2,     12,2,20050919,0824, 56.7840, -20.1500, -999,    202.0,  10.6229,  35.3853,2,    240.2,2,    240.7,2,     5.30,2,    12.30,2,     0.80,2,   2144.7,2,   2330.5,2,  10.5984
  64PE20070830, AR07E,    39,  2,     13,2,20050919,0824, 56.7840, -20.1500, -999,     93.0,  11.5427,  35.4427,2,    242.2,2,   -999.0,9,     4.70,2,    12.10,2,     0.77,2,   2133.5,2,   2334.7,2,  11.5309
  64PE20070830, AR07E,    39,  2,     14,2,20050919,0824, 56.7840, -20.1500, -999,     10.0,  14.5054,  35.4662,2,    245.1,2,    249.4,2,  -999.00,9,  -999.00,9,  -999.00,9,   2074.7,2,   2337.1,2,  14.5039
  64PE20070830, AR07E,    40,  2,      1,2,20050919,1313, 56.7010, -19.2680, -999,   1454.0,   3.7768,  34.9324,2,    264.6,2,    261.5,2,    13.60,2,    17.50,2,     1.17,2,   2165.4,2,   2310.6,2,   3.6633
  64PE20070830, AR07E,    40,  2,      2,2,20050919,1313, 56.7010, -19.2680, -999,   1407.0,   3.9823,  34.9445,2,    263.2,2,    260.0,2,    12.10,2,    17.40,2,     1.15,2,   2163.3,2,   2310.0,2,   3.8707
  64PE20070830, AR07E,    40,  2,      3,2,20050919,1313, 56.7010, -19.2680, -999,   1354.0,   4.1628,  34.9562,2,    260.6,2,    257.1,2,    11.70,2,    17.60,2,     1.16,2,   2165.0,2,   2309.4,2,   4.0541
  64PE20070830, AR07E,    40,  2,      4,2,20050919,1313, 56.7010, -19.2680, -999,   1266.0,   4.3424,  34.9697,2,    258.0,2,    253.3,2,    11.40,2,    17.60,2,     1.16,2,   2166.7,2,   2310.2,2,   4.2398
  64PE20070830, AR07E,    40,  2,      5,2,20050919,1313, 56.7010, -19.2680, -999,   1012.0,   5.4753,  35.0791,2,    234.6,2,    230.3,2,    11.40,2,    18.30,2,     1.19,2,   2173.3,2,   2318.5,2,   5.3863
  64PE20070830, AR07E,    40,  2,      6,2,20050919,1313, 56.7010, -19.2680, -999,   1009.0,   5.4846,  35.0805,2,    234.6,2,    229.4,2,    11.30,2,    18.40,2,     1.19,2,   2172.4,2,   2317.9,2,   5.3958
  64PE20070830, AR07E,    40,  2,      7,2,20050919,1313, 56.7010, -19.2680, -999,    914.0,   6.2730,  35.1461,2,    220.8,2,    215.8,2,    11.30,2,    18.50,2,     1.20,2,   2176.6,2,   2323.6,2,   6.1877
  64PE20070830, AR07E,    40,  2,      8,2,20050919,1313, 56.7010, -19.2680, -999,    810.0,   6.9098,  35.1906,2,    210.7,2,    205.7,2,    11.10,2,    18.70,2,     1.20,2,   2177.4,2,   2327.5,2,   6.8309
  64PE20070830, AR07E,    40,  2,      9,2,20050919,1313, 56.7010, -19.2680, -999,    706.0,   7.6838,  35.2178,2,    202.0,2,    196.8,2,    10.70,2,    18.60,2,     1.20,2,   2176.1,2,   2327.4,2,   7.6114
  64PE20070830, AR07E,    40,  2,     10,2,20050919,1313, 56.7010, -19.2680, -999,    609.0,   7.9801,  35.1482,2,    201.1,2,    196.2,2,    10.00,2,    18.50,2,     1.19,2,   2172.4,2,   2321.0,2,   7.9168
  64PE20070830, AR07E,    40,  2,     11,2,20050919,1313, 56.7010, -19.2680, -999,    508.0,   9.0687,  35.2196,2,    211.0,2,    206.0,2,     8.30,2,    16.60,2,     1.06,2,   2160.7,2,   2325.5,2,   9.0121
  64PE20070830, AR07E,    40,  2,     12,2,20050919,1313, 56.7010, -19.2680, -999,    404.0,   9.9297,  35.3120,2,    236.4,2,   -999.0,9,     6.10,2,    13.40,2,     0.87,2,   2145.1,2,   2327.1,2,   9.8823
  64PE20070830, AR07E,    40,  2,     13,2,20050919,1313, 56.7010, -19.2680, -999,    300.0,  10.4141,  35.3720,2,    243.3,2,   -999.0,9,     5.10,2,    12.10,2,     0.78,2,   2139.6,2,   2329.1,2,  10.3780
  64PE20070830, AR07E,    40,  2,     14,2,20050919,1313, 56.7010, -19.2680, -999,    203.0,  10.8775,  35.4129,2,    233.9,2,    228.7,2,     5.20,2,    12.40,2,     0.78,2,   2140.6,2,   2332.9,2,  10.8525
  64PE20070830, AR07E,    40,  2,     15,2,20050919,1313, 56.7010, -19.2680, -999,    105.0,  11.7423,  35.4975,2,    240.1,2,    235.8,2,     2.60,2,     9.90,2,     0.62,2,   2128.8,2,   2337.4,2,  11.7288
  64PE20070830, AR07E,    40,  2,     16,2,20050919,1313, 56.7010, -19.2680, -999,      9.0,  14.9025,  35.4416,2,    245.0,2,    242.6,2,     0.20,2,     1.10,2,     0.13,2,   -999.0,9,   -999.0,9,  14.9011