BOTTLE,20120806PRINUNIVRMK
EXPOCODE,SECT_ID,STNNBR,CASTNO,BTLNBR,BTLNBR_FLAG_W,DATE,TIME,LATITUDE,LONGITUDE,DEPTH,CTDPRS,CTDTMP,CTDSAL,CTDSAL_FLAG_W,CTDOXY,CTDOXY_FLAG_W,OXYGEN,OXYGEN_FLAG_W,SILCAT,SILCAT_FLAG_W,NITRAT,NITRAT_FLAG_W,PHSPHT,PHSPHT_FLAG_W,TCARBN,TCARBN_FLAG_W,ALKALI,ALKALI_FLAG_W,THETA
,,,,,,,,,,METERS,DBAR,ITS-90,PSS-78,,UMOL/KG,,UMOL/KG,,UMOL/KG,,UMOL/KG,,UMOL/KG,,UMOL/KG,,UMOL/KG,,DEG C
  64PE20070830, AR07E,    52,  2,      1,2,20050921,1831, 55.8340,  -9.8510, -999,   2027.0,   3.4460,  34.9190,2,    269.4,2,   -999.0,9,    14.00,2,    17.60,2,     1.19,2,   2162.1,2,   2313.6,2,   3.2843
  64PE20070830, AR07E,    52,  2,      2,2,20050921,1831, 55.8340,  -9.8510, -999,   2026.0,   3.4438,  34.9203,2,    269.3,2,   -999.0,9,  -999.00,9,  -999.00,9,  -999.00,9,   -999.0,9,   -999.0,9,   3.2822
  64PE20070830, AR07E,    52,  2,      3,2,20050921,1831, 55.8340,  -9.8510, -999,   1975.0,   3.4812,  34.9211,2,    268.6,2,    267.3,2,    13.80,2,    17.50,2,     1.19,2,   -999.0,9,   -999.0,9,   3.3239
  64PE20070830, AR07E,    52,  2,      4,2,20050921,1831, 55.8340,  -9.8510, -999,   1927.0,   3.5298,  34.9223,2,    268.0,2,    266.7,2,    13.60,2,    17.60,2,     1.19,2,   2159.8,2,   2310.2,2,   3.3763
  64PE20070830, AR07E,    52,  2,      5,2,20050921,1831, 55.8340,  -9.8510, -999,   1775.0,   3.6812,  34.9256,2,    267.3,2,    266.0,2,    12.70,2,    17.60,2,     1.18,2,   2161.2,2,   2307.6,2,   3.5397
  64PE20070830, AR07E,    52,  2,      6,2,20050921,1831, 55.8340,  -9.8510, -999,   1520.0,   4.2382,  34.9645,2,    258.8,2,    258.7,2,    11.50,2,    17.70,2,     1.19,2,   2161.6,2,   2309.3,2,   4.1134
  64PE20070830, AR07E,    52,  2,      7,2,20050921,1831, 55.8340,  -9.8510, -999,   1265.0,   5.1879,  35.0541,2,    241.5,2,    239.5,2,    11.30,2,    18.10,2,     1.20,2,   2170.2,2,   2315.3,2,   5.0772
  64PE20070830, AR07E,    52,  2,      8,2,20050921,1831, 55.8340,  -9.8510, -999,   1012.0,   6.9031,  35.2056,2,    215.9,2,    213.5,2,    11.00,2,    18.20,2,     1.21,2,   2174.0,2,   2325.5,2,   6.8032
  64PE20070830, AR07E,    52,  2,      9,2,20050921,1831, 55.8340,  -9.8510, -999,   1012.0,   6.9085,  35.2063,2,    215.9,2,    213.2,2,    10.80,2,    18.40,2,     1.21,2,   2174.8,2,   2325.5,2,   6.8085
  64PE20070830, AR07E,    52,  2,     10,2,20050921,1831, 55.8340,  -9.8510, -999,    909.0,   7.7026,  35.2558,2,    210.4,2,    207.4,2,    10.20,2,    17.90,2,     1.18,2,   2174.7,2,   2327.0,2,   7.6080
  64PE20070830, AR07E,    52,  2,     11,2,20050921,1831, 55.8340,  -9.8510, -999,    807.0,   8.4461,  35.2902,2,    219.6,2,    217.8,2,     8.70,2,    16.60,2,     1.08,2,   2164.8,2,   2326.3,2,   8.3582
  64PE20070830, AR07E,    52,  2,     12,2,20050921,1831, 55.8340,  -9.8510, -999,    707.0,   9.0421,  35.3239,2,    239.1,2,    238.7,2,     6.80,2,    14.50,2,     0.94,2,   2152.2,2,   2329.8,2,   8.9625
  64PE20070830, AR07E,    52,  2,     13,2,20050921,1831, 55.8340,  -9.8510, -999,    611.0,   9.3674,  35.3519,2,    253.4,2,    253.0,2,     5.50,2,    12.90,2,     0.85,2,   2144.0,2,   -999.0,9,   9.2975
  64PE20070830, AR07E,    52,  2,     14,2,20050921,1831, 55.8340,  -9.8510, -999,    502.0,   9.5955,  35.3684,2,    252.6,2,    252.0,2,     5.20,2,    12.70,2,     0.83,2,   2144.1,2,   2331.0,2,   9.5375
  64PE20070830, AR07E,    52,  2,     15,2,20050921,1831, 55.8340,  -9.8510, -999,    403.0,   9.9593,  35.4109,2,    249.6,2,    249.4,2,     4.90,2,    12.10,2,     0.80,2,   2140.5,2,   2335.3,2,   9.9119
  64PE20070830, AR07E,    52,  2,     16,2,20050921,1831, 55.8340,  -9.8510, -999,    306.0,  10.1933,  35.4357,2,    250.8,2,    250.5,2,     4.60,2,    11.70,2,     0.76,2,   2137.0,2,   2336.2,2,  10.1570
  64PE20070830, AR07E,    52,  2,     17,2,20050921,1831, 55.8340,  -9.8510, -999,    206.0,  10.3323,  35.4373,2,    247.8,2,    247.6,2,     4.60,2,    11.80,2,     0.77,2,   2140.0,2,   2336.7,2,  10.3078
  64PE20070830, AR07E,    52,  2,     18,2,20050921,1831, 55.8340,  -9.8510, -999,     98.0,  10.8474,  35.4330,2,    246.1,2,    245.7,2,     3.40,2,    10.90,2,     0.69,2,   2131.8,2,   2337.7,2,  10.8354
  64PE20070830, AR07E,    52,  2,     19,2,20050921,1831, 55.8340,  -9.8510, -999,     10.0,  14.2072,  35.4217,2,    255.1,2,    256.4,2,     0.20,2,     0.70,2,     0.11,2,   2063.8,2,   2341.9,2,  14.2057
  64PE20070830, AR07E,    53,  2,      1,2,20050921,2157, 55.7850,  -9.4340, -999,    816.0,   9.2789,  35.3454,2,    235.5,2,    232.3,2,     6.80,2,    14.50,2,     0.94,2,   2156.4,2,   2331.4,2,   9.1850
  64PE20070830, AR07E,    53,  2,      2,2,20050921,2157, 55.7850,  -9.4340, -999,    759.0,   9.5829,  35.3686,2,    240.9,2,    238.2,2,     6.10,2,    13.60,2,     0.89,2,   2155.0,2,   2330.3,2,   9.4942
  64PE20070830, AR07E,    53,  2,      3,2,20050921,2157, 55.7850,  -9.4340, -999,    710.0,   9.6829,  35.3791,2,    241.3,2,    239.5,2,     5.80,2,    13.40,2,     0.87,2,   2147.9,2,   2344.2,3,   9.5996
  64PE20070830, AR07E,    53,  2,      4,2,20050921,2157, 55.7850,  -9.4340, -999,    607.0,  10.0027,  35.4096,2,    244.2,2,    243.5,2,     5.30,2,    12.70,2,     0.82,2,   2147.0,2,   2335.5,2,   9.9304
  64PE20070830, AR07E,    53,  2,      5,2,20050921,2157, 55.7850,  -9.4340, -999,    505.0,  10.1967,  35.4263,2,    244.0,2,    243.1,2,     5.10,2,    12.30,2,     0.80,2,   2147.3,2,   2335.5,2,  10.1361
  64PE20070830, AR07E,    53,  2,      6,2,20050921,2157, 55.7850,  -9.4340, -999,    404.0,  10.3127,  35.4340,2,    244.3,2,    244.0,2,     4.90,2,    12.10,2,     0.78,2,   2146.2,2,   2336.9,2,  10.2642
  64PE20070830, AR07E,    53,  2,      7,2,20050921,2157, 55.7850,  -9.4340, -999,    308.0,  10.4402,  35.4307,2,    241.8,2,    241.5,2,     4.90,2,    12.10,2,     0.79,2,   2147.0,2,   -999.0,9,  10.4031
  64PE20070830, AR07E,    53,  2,      8,2,20050921,2157, 55.7850,  -9.4340, -999,    202.0,  10.6273,  35.4356,2,    244.9,2,    244.2,2,     4.40,2,    11.60,2,     0.74,2,   2141.9,2,   2335.1,2,  10.6028
  64PE20070830, AR07E,    53,  2,      9,2,20050921,2157, 55.7850,  -9.4340, -999,    101.0,  11.1694,  35.4635,2,    241.7,2,    241.7,2,     3.50,2,    10.90,2,     0.68,2,   2138.1,2,   2334.5,2,  11.1568
  64PE20070830, AR07E,    53,  2,     10,2,20050921,2157, 55.7850,  -9.4340, -999,     12.0,  14.2087,  35.4347,2,    253.7,2,    255.6,2,     0.30,2,     1.20,2,     0.12,2,   2075.1,2,   2337.6,2,  14.2070
  64PE20070830, AR07E,    54,  2,      1,2,20050922,1236, 55.7500,  -9.0020, -999,    107.0,  10.6058,  35.4262,2,    234.6,2,    232.3,2,     4.60,2,    12.40,2,     0.80,2,   2147.7,2,   2335.6,2,  10.5929
  64PE20070830, AR07E,    54,  2,      2,2,20050922,1236, 55.7500,  -9.0020, -999,     56.0,  12.0117,  35.3307,2,    233.2,2,    232.2,2,     2.30,2,     8.00,2,     0.54,2,   2120.9,2,   2332.5,2,  12.0044
  64PE20070830, AR07E,    54,  2,      3,2,20050922,1236, 55.7500,  -9.0020, -999,      8.0,  13.9247,  35.1296,2,    250.5,2,    251.8,2,     0.30,2,     0.60,2,     0.11,2,   2069.7,2,   2328.2,2,  13.9236