BOTTLE,20120806PRINUNIVRMK
EXPOCODE,SECT_ID,STNNBR,CASTNO,BTLNBR,BTLNBR_FLAG_W,DATE,TIME,LATITUDE,LONGITUDE,DEPTH,CTDPRS,CTDTMP,CTDSAL,CTDSAL_FLAG_W,CTDOXY,CTDOXY_FLAG_W,OXYGEN,OXYGEN_FLAG_W,SILCAT,SILCAT_FLAG_W,NITRAT,NITRAT_FLAG_W,PHSPHT,PHSPHT_FLAG_W,TCARBN,TCARBN_FLAG_W,ALKALI,ALKALI_FLAG_W,THETA
,,,,,,,,,,METERS,DBAR,ITS-90,PSS-78,,UMOL/KG,,UMOL/KG,,UMOL/KG,,UMOL/KG,,UMOL/KG,,UMOL/KG,,UMOL/KG,,DEG C
  64PE20070830, AR07E,    27,  1,      1,2,20050916,0904, 57.5500, -28.3330, -999,   2374.0,   2.8278,  34.9802,2,    270.3,2,    268.9,2,    13.40,2,    15.90,2,     1.07,2,   2170.1,2,   2314.7,2,   2.6430
  64PE20070830, AR07E,    27,  1,      2,2,20050916,0904, 57.5500, -28.3330, -999,   2308.0,   2.8584,  34.9742,2,    268.5,2,    270.5,2,    14.60,2,    16.20,2,     1.09,2,   2170.1,2,   2314.2,2,   2.6793
  64PE20070830, AR07E,    27,  1,      3,2,20050916,0904, 57.5500, -28.3330, -999,   2236.0,   2.9624,  34.9736,2,    268.9,2,    268.2,2,    13.60,2,    16.10,2,     1.07,2,   2166.7,2,   2314.5,2,   2.7884
  64PE20070830, AR07E,    27,  1,      4,2,20050916,0904, 57.5500, -28.3330, -999,   2030.0,   3.1992,  34.9568,2,    270.0,2,    269.7,2,    12.40,2,    16.10,2,     1.09,2,   2162.0,2,   2312.0,2,   3.0408
  64PE20070830, AR07E,    27,  1,      5,2,20050916,0904, 57.5500, -28.3330, -999,   2027.0,   3.2019,  34.9569,2,    270.1,2,    269.9,2,    12.30,2,    16.20,2,     1.08,2,   -999.0,9,   -999.0,9,   3.0437
  64PE20070830, AR07E,    27,  1,      6,2,20050916,0904, 57.5500, -28.3330, -999,   1764.0,   3.4302,  34.9199,2,    272.1,2,    271.9,2,    11.20,2,    16.60,2,     1.12,2,   2158.4,2,   2308.6,2,   3.2931
  64PE20070830, AR07E,    27,  1,      7,2,20050916,0904, 57.5500, -28.3330, -999,   1522.0,   3.6076,  34.9093,2,    269.0,2,    269.1,2,    11.10,2,    17.00,2,     1.14,2,   2160.0,2,   2304.4,2,   3.4900
  64PE20070830, AR07E,    27,  1,      8,2,20050916,0904, 57.5500, -28.3330, -999,   1268.0,   3.8062,  34.9078,2,    267.1,2,    266.8,2,    10.60,2,    17.10,2,     1.15,2,   2161.4,2,   2307.9,2,   3.7087
  64PE20070830, AR07E,    27,  1,      9,2,20050916,0904, 57.5500, -28.3330, -999,   1015.0,   4.2476,  34.9350,2,    257.6,2,    256.2,2,    10.60,2,    17.50,2,     1.17,2,   2163.4,2,   2309.0,2,   4.1680
  64PE20070830, AR07E,    27,  1,     10,2,20050916,0904, 57.5500, -28.3330, -999,   1016.0,   4.2468,  34.9356,2,    257.7,2,    256.2,2,    10.60,2,    17.60,2,     1.17,2,   -999.0,9,   2308.6,2,   4.1671
  64PE20070830, AR07E,    27,  1,     11,2,20050916,0904, 57.5500, -28.3330, -999,    911.0,   4.5879,  34.9639,2,    249.6,2,    248.0,2,    10.70,2,    17.80,2,     1.18,2,   -999.0,9,   2309.6,2,   4.5148
  64PE20070830, AR07E,    27,  1,     12,2,20050916,0904, 57.5500, -28.3330, -999,    803.0,   5.1643,  35.0059,2,    238.0,2,    235.3,2,    10.90,2,    18.20,2,     1.20,2,   2174.5,2,   2310.7,2,   5.0969
  64PE20070830, AR07E,    27,  1,     13,2,20050916,0904, 57.5500, -28.3330, -999,    710.0,   5.9421,  35.0627,2,    223.0,2,    221.4,2,    10.90,2,    18.40,2,     1.22,2,   2174.6,2,   2316.0,2,   5.8787
  64PE20070830, AR07E,    27,  1,     14,2,20050916,0904, 57.5500, -28.3330, -999,    606.0,   6.7072,  35.0986,2,    219.4,2,    217.3,2,    10.30,2,    18.10,2,     1.19,2,   2171.3,2,   2317.7,2,   6.6500
  64PE20070830, AR07E,    27,  1,     15,2,20050916,0904, 57.5500, -28.3330, -999,    504.0,   7.6701,  35.1750,2,    244.4,2,    244.1,2,     7.60,2,    15.50,2,     1.02,2,   2156.2,2,   2320.4,2,   7.6192
  64PE20070830, AR07E,    27,  1,     16,2,20050916,0904, 57.5500, -28.3330, -999,    403.0,   8.0029,  35.1689,2,    247.4,2,    248.1,2,     7.20,2,    15.00,2,     0.98,2,   2153.0,2,   2320.3,2,   7.9614
  64PE20070830, AR07E,    27,  1,     17,2,20050916,0904, 57.5500, -28.3330, -999,    305.0,   8.3102,  35.1568,2,    247.8,2,    246.8,2,     6.60,2,    14.60,2,     0.95,2,   2151.0,2,   2321.3,2,   8.2783
  64PE20070830, AR07E,    27,  1,     18,2,20050916,0904, 57.5500, -28.3330, -999,    104.0,   9.3855,  35.2166,2,    253.0,2,    251.9,2,     4.50,2,    12.60,2,     0.82,2,   2138.5,2,   2317.0,2,   9.3739
  64PE20070830, AR07E,    27,  1,     19,2,20050916,0904, 57.5500, -28.3330, -999,     13.0,  12.4325,  35.0740,2,    256.1,2,    257.8,2,     0.50,2,     3.80,2,     0.31,2,   2081.9,2,   2315.5,2,  12.4308
  64PE20070830, AR07E,    28,  1,      1,2,20050916,1437, 57.4500, -27.4010, -999,   2665.0,   2.8426,  34.9833,2,    272.5,2,    272.4,2,    11.90,2,    15.40,2,     1.04,2,   2162.5,2,   -999.0,9,   2.6291
  64PE20070830, AR07E,    28,  1,      2,2,20050916,1437, 57.4500, -27.4010, -999,   2618.0,   2.8493,  34.9839,2,    272.8,2,    273.1,2,    11.40,2,    15.30,2,     1.03,2,   2163.6,2,   -999.0,9,   2.6403
  64PE20070830, AR07E,    28,  1,      3,2,20050916,1437, 57.4500, -27.4010, -999,   2569.0,   2.8528,  34.9823,2,    271.7,2,    272.3,2,    11.90,2,    15.40,2,     1.05,2,   2167.3,2,   2311.9,2,   2.6486
  64PE20070830, AR07E,    28,  1,      4,2,20050916,1437, 57.4500, -27.4010, -999,   2287.0,   3.1238,  34.9638,2,    269.0,2,    269.8,2,    12.90,2,    16.20,2,     1.09,2,   2163.8,2,   2311.1,2,   2.9423
  64PE20070830, AR07E,    28,  1,      5,2,20050916,1437, 57.4500, -27.4010, -999,   2029.0,   3.1999,  34.9202,2,    271.6,2,    274.5,2,    12.10,2,    16.60,2,     1.11,2,   2157.9,2,   2306.2,2,   3.0417
  64PE20070830, AR07E,    28,  1,      6,2,20050916,1437, 57.4500, -27.4010, -999,   2028.0,   3.1987,  34.9202,2,    271.8,2,    272.0,2,    12.10,2,    16.60,2,     1.11,2,   2158.8,2,   2307.8,2,   3.0406
  64PE20070830, AR07E,    28,  1,      7,2,20050916,1437, 57.4500, -27.4010, -999,   1772.0,   3.2963,  34.9006,2,    272.5,2,   -999.0,9,    11.50,2,    16.90,2,     1.13,2,   -999.0,9,   2304.7,2,   3.1603
  64PE20070830, AR07E,    28,  1,      8,2,20050916,1437, 57.4500, -27.4010, -999,   1521.0,   3.5082,  34.9030,2,    269.5,2,   -999.0,9,    11.30,2,    17.10,2,     1.14,2,   2157.8,2,   2305.0,2,   3.3919
  64PE20070830, AR07E,    28,  1,      9,2,20050916,1437, 57.4500, -27.4010, -999,   1268.0,   3.6640,  34.8989,2,    269.9,2,    269.3,2,    10.70,2,    17.00,2,     1.14,2,   2160.5,2,   2305.3,2,   3.5679
  64PE20070830, AR07E,    28,  1,     10,2,20050916,1437, 57.4500, -27.4010, -999,   1011.0,   3.9383,  34.9078,2,    265.8,2,    265.5,2,    10.30,2,    17.20,2,     1.15,2,   2163.1,2,   2305.8,2,   3.8615
  64PE20070830, AR07E,    28,  1,     11,2,20050916,1437, 57.4500, -27.4010, -999,   1012.0,   3.9426,  34.9086,2,    265.4,2,    265.5,2,    10.40,2,    17.20,2,     1.15,2,   2164.5,2,   -999.0,9,   3.8657
  64PE20070830, AR07E,    28,  1,     12,2,20050916,1437, 57.4500, -27.4010, -999,    910.0,   4.1232,  34.9208,2,    261.0,2,    260.8,2,    10.40,2,    17.40,2,     1.16,2,   2165.5,2,   -999.0,9,   4.0535
  64PE20070830, AR07E,    28,  1,     13,2,20050916,1437, 57.4500, -27.4010, -999,    810.0,   4.4098,  34.9443,2,    254.0,2,    252.4,2,    10.60,2,    17.80,2,     1.18,2,   2168.3,2,   -999.0,9,   4.3465
  64PE20070830, AR07E,    28,  1,     14,2,20050916,1437, 57.4500, -27.4010, -999,    709.0,   4.9890,  34.9969,2,    241.1,2,    239.9,2,    10.80,2,    18.10,2,     1.21,2,   2174.1,2,   -999.0,9,   4.9309
  64PE20070830, AR07E,    28,  1,     15,2,20050916,1437, 57.4500, -27.4010, -999,    608.0,   5.7168,  35.0593,2,    228.9,2,    228.6,2,    10.70,2,    18.10,2,     1.19,2,   2174.8,2,   -999.0,9,   5.6640
  64PE20070830, AR07E,    28,  1,     16,2,20050916,1437, 57.4500, -27.4010, -999,    505.0,   6.2274,  35.0646,2,    217.6,2,    215.8,2,    10.90,2,    18.70,2,     1.24,2,   2178.1,2,   -999.0,9,   6.1819
  64PE20070830, AR07E,    28,  1,     17,2,20050916,1437, 57.4500, -27.4010, -999,    404.0,   6.7218,  35.0356,2,    217.0,2,    216.0,2,    10.20,2,    18.30,2,     1.21,2,   2172.5,2,   -999.0,9,   6.6842
  64PE20070830, AR07E,    28,  1,     18,2,20050916,1437, 57.4500, -27.4010, -999,    303.0,   7.2933,  35.0279,2,    238.8,2,    237.7,2,     8.30,2,    16.40,2,     1.10,2,   2160.0,2,   -999.0,9,   7.2640
  64PE20070830, AR07E,    28,  1,     19,2,20050916,1437, 57.4500, -27.4010, -999,    205.0,   7.8241,  35.0320,2,    245.9,2,    244.8,2,     7.30,2,    15.20,2,     1.01,2,   2151.8,2,   -999.0,9,   7.8036
  64PE20070830, AR07E,    28,  1,     20,2,20050916,1437, 57.4500, -27.4010, -999,    102.0,   8.8653,  35.0844,2,    255.6,2,    256.4,2,     4.50,2,    12.80,2,     0.85,2,   2136.7,2,   -999.0,9,   8.8544
  64PE20070830, AR07E,    28,  1,     21,2,20050916,1437, 57.4500, -27.4010, -999,     12.0,  12.9028,  35.0899,2,    253.4,2,    256.4,2,     0.60,2,     3.10,2,     0.29,2,   2077.6,2,   -999.0,9,  12.9012
  64PE20070830, AR07E,    30,  1,      1,2,20050917,0326, 57.3670, -26.5490, -999,   2807.0,   2.8230,  34.9811,2,    270.3,2,    270.1,2,    13.50,2,    15.80,2,     1.07,2,   2170.1,2,   -999.0,9,   2.5956
  64PE20070830, AR07E,    30,  1,      2,2,20050917,0326, 57.3670, -26.5490, -999,   2744.0,   2.8118,  34.9777,2,    268.1,2,   -999.0,9,    15.40,2,    16.10,2,     1.09,2,   2170.5,2,   -999.0,9,   2.5910
  64PE20070830, AR07E,    30,  1,      3,2,20050917,0326, 57.3670, -26.5490, -999,   2692.0,   2.8210,  34.9757,2,    266.9,2,    268.0,2,    15.40,2,    16.20,2,     1.09,2,   2170.4,2,   2312.5,2,   2.6053
  64PE20070830, AR07E,    30,  1,      4,2,20050917,0326, 57.3670, -26.5490, -999,   2537.0,   2.8889,  34.9693,2,    265.6,2,    266.3,2,    16.10,2,    16.50,2,     1.11,2,   2168.1,2,   2307.9,2,   2.6872
  64PE20070830, AR07E,    30,  1,      5,2,20050917,0326, 57.3670, -26.5490, -999,   2283.0,   3.1339,  34.9560,2,    268.2,2,    268.8,2,    13.40,2,    16.60,2,     1.10,2,   2162.2,2,   -999.0,9,   2.9526
  64PE20070830, AR07E,    30,  1,      6,2,20050917,0326, 57.3670, -26.5490, -999,   2027.0,   3.3109,  34.9301,2,    270.9,2,    271.8,2,    11.90,2,    16.70,2,     1.11,2,   2159.9,2,   -999.0,9,   3.1512
  64PE20070830, AR07E,    30,  1,      7,2,20050917,0326, 57.3670, -26.5490, -999,   2030.0,   3.3111,  34.9304,2,    271.7,2,    271.7,2,    11.80,2,    16.70,2,     1.11,2,   2155.6,2,   -999.0,9,   3.1511
  64PE20070830, AR07E,    30,  1,      8,2,20050917,0326, 57.3670, -26.5490, -999,   1774.0,   3.4993,  34.9212,2,    270.6,2,    270.9,2,    11.20,2,    16.90,2,     1.11,2,   2156.0,2,   -999.0,9,   3.3604
  64PE20070830, AR07E,    30,  1,      9,2,20050917,0326, 57.3670, -26.5490, -999,   1522.0,   3.6513,  34.9111,2,    268.1,2,    268.2,2,    11.10,2,    17.20,2,     1.14,2,   2159.9,2,   -999.0,9,   3.5332
  64PE20070830, AR07E,    30,  1,     10,2,20050917,0326, 57.3670, -26.5490, -999,   1265.0,   3.8198,  34.9105,2,    267.2,2,    266.6,2,    10.80,2,    17.40,2,     1.13,2,   2160.0,2,   -999.0,9,   3.7225
  64PE20070830, AR07E,    30,  1,     11,2,20050917,0326, 57.3670, -26.5490, -999,   1013.0,   4.0399,  34.9139,2,    262.5,2,    261.9,2,    10.40,2,    17.40,2,     1.15,2,   2160.6,2,   -999.0,9,   3.9621
  64PE20070830, AR07E,    30,  1,     12,2,20050917,0326, 57.3670, -26.5490, -999,   1012.0,   4.0477,  34.9141,2,    262.6,2,    261.7,2,    10.60,2,    17.40,2,     1.15,2,   2161.5,2,   -999.0,9,   3.9700
  64PE20070830, AR07E,    30,  1,     13,2,20050917,0326, 57.3670, -26.5490, -999,    911.0,   4.2055,  34.9184,2,    259.0,2,    256.6,2,    10.60,2,    17.80,2,     1.16,2,   2163.8,2,   -999.0,9,   4.1351
  64PE20070830, AR07E,    30,  1,     14,2,20050917,0326, 57.3670, -26.5490, -999,    811.0,   4.5266,  34.9481,2,    250.7,2,    247.5,2,    10.80,2,    18.00,2,     1.19,2,   2167.8,2,   -999.0,9,   4.4625
  64PE20070830, AR07E,    30,  1,     15,2,20050917,0326, 57.3670, -26.5490, -999,    706.0,   5.0567,  34.9983,2,    240.2,2,   -999.0,9,    10.90,2,    18.30,2,     1.19,2,   2169.4,2,   2300.6,2,   4.9985
  64PE20070830, AR07E,    30,  1,     16,2,20050917,0326, 57.3670, -26.5490, -999,    606.0,   5.6193,  35.0262,2,    227.1,2,    227.8,2,    11.10,2,    18.70,2,     1.22,2,   2172.0,2,   -999.0,9,   5.5671
  64PE20070830, AR07E,    30,  1,     17,2,20050917,0326, 57.3670, -26.5490, -999,    506.0,   5.9814,  34.9996,2,    219.4,2,    223.0,2,    11.00,2,    18.80,2,     1.24,2,   2171.5,2,   -999.0,9,   5.9368
  64PE20070830, AR07E,    30,  1,     18,2,20050917,0326, 57.3670, -26.5490, -999,    404.0,   6.3910,  34.9559,2,    227.0,2,    227.5,2,    10.00,2,    18.10,2,     1.19,2,   2166.7,2,   -999.0,9,   6.3545
  64PE20070830, AR07E,    30,  1,     19,2,20050917,0326, 57.3670, -26.5490, -999,    303.0,   7.3666,  35.0346,2,    233.1,2,    235.3,2,     8.70,2,    16.70,2,     1.09,2,   2159.2,2,   -999.0,9,   7.3371
  64PE20070830, AR07E,    30,  1,     20,2,20050917,0326, 57.3670, -26.5490, -999,    202.0,   8.2619,  35.0956,2,    245.0,2,    245.3,2,     6.90,2,    14.90,2,     0.97,2,   2150.2,2,   -999.0,9,   8.2410
  64PE20070830, AR07E,    30,  1,     21,2,20050917,0326, 57.3670, -26.5490, -999,     99.0,   9.1065,  35.0971,2,    253.2,2,    254.2,2,  -999.00,9,  -999.00,9,  -999.00,9,   2138.8,2,   -999.0,9,   9.0957
  64PE20070830, AR07E,    30,  1,     22,2,20050917,0326, 57.3670, -26.5490, -999,     10.0,  13.0621,  35.0835,2,    250.5,2,    254.6,2,  -999.00,9,  -999.00,9,  -999.00,9,   2081.0,2,   -999.0,9,  13.0607
  64PE20070830, AR07E,    31,  1,      1,2,20050917,0913, 57.2670, -25.5330, -999,   2761.0,   2.8407,  34.9735,2,    266.5,2,   -999.0,9,    16.30,2,    16.50,2,     1.11,2,   2169.5,2,   -999.0,9,   2.6177
  64PE20070830, AR07E,    31,  1,      2,2,20050917,0913, 57.2670, -25.5330, -999,   2715.0,   2.8388,  34.9727,2,    266.1,2,   -999.0,9,    16.10,2,    16.40,2,     1.11,2,   2167.3,2,   -999.0,9,   2.6204
  64PE20070830, AR07E,    31,  1,      3,2,20050917,0913, 57.2670, -25.5330, -999,   2642.0,   2.8553,  34.9722,2,    266.3,2,   -999.0,9,  -999.00,9,  -999.00,9,  -999.00,9,   -999.0,9,   2315.6,2,   2.6439
  64PE20070830, AR07E,    31,  1,      4,2,20050917,0913, 57.2670, -25.5330, -999,   2541.0,   2.8766,  34.9702,2,    265.9,2,   -999.0,9,    15.90,2,    16.50,2,     1.11,2,   2167.1,2,   2316.0,2,   2.6748
  64PE20070830, AR07E,    31,  1,      5,2,20050917,0913, 57.2670, -25.5330, -999,   2278.0,   3.0540,  34.9619,2,    267.9,2,   -999.0,9,    13.80,2,    16.50,2,     1.10,2,   2162.2,2,   2316.0,2,   2.8745
  64PE20070830, AR07E,    31,  1,      6,2,20050917,0913, 57.2670, -25.5330, -999,   2030.0,   3.1947,  34.9222,2,    271.2,2,   -999.0,9,    12.20,2,    16.70,2,     1.11,2,   2158.2,2,   2309.7,2,   3.0365
  64PE20070830, AR07E,    31,  1,      7,2,20050917,0913, 57.2670, -25.5330, -999,   2032.0,   3.1956,  34.9218,2,    271.5,2,   -999.0,9,    12.30,2,    16.80,2,     1.11,2,   2160.2,2,   2308.9,2,   3.0372
  64PE20070830, AR07E,    31,  1,      8,2,20050917,0913, 57.2670, -25.5330, -999,   1776.0,   3.3125,  34.9036,2,    272.6,2,   -999.0,9,    11.60,2,    17.00,2,     1.13,2,   2159.7,2,   2308.6,2,   3.1759
  64PE20070830, AR07E,    31,  1,      9,2,20050917,0913, 57.2670, -25.5330, -999,   1519.0,   3.5330,  34.9031,2,    270.2,2,   -999.0,9,    11.20,2,    17.10,2,     1.14,2,   2161.9,2,   2305.6,2,   3.4166
  64PE20070830, AR07E,    31,  1,     10,2,20050917,0913, 57.2670, -25.5330, -999,   1266.0,   3.6432,  34.8948,2,    270.7,2,   -999.0,9,    10.60,2,    17.20,2,     1.13,2,   2162.9,2,   2306.8,2,   3.5475
  64PE20070830, AR07E,    31,  1,     11,2,20050917,0913, 57.2670, -25.5330, -999,   1013.0,   3.9090,  34.9049,2,    266.6,2,   -999.0,9,    10.40,2,    17.40,2,     1.15,2,   2162.5,2,   2306.8,2,   3.8323
  64PE20070830, AR07E,    31,  1,     12,2,20050917,0913, 57.2670, -25.5330, -999,   1012.0,   3.9091,  34.9051,2,    266.5,2,   -999.0,9,    10.40,2,    17.40,2,     1.15,2,   2161.5,2,   2308.4,2,   3.8325
  64PE20070830, AR07E,    31,  1,     13,2,20050917,0913, 57.2670, -25.5330, -999,    912.0,   4.1681,  34.9293,2,    259.8,2,   -999.0,9,    10.70,2,    17.80,2,     1.16,2,   2165.6,2,   2309.1,2,   4.0979
  64PE20070830, AR07E,    31,  1,     14,2,20050917,0913, 57.2670, -25.5330, -999,    809.0,   4.3979,  34.9381,2,    254.1,2,   -999.0,9,    10.60,2,    17.90,2,     1.17,2,   2167.2,2,   2311.2,2,   4.3348
  64PE20070830, AR07E,    31,  1,     15,2,20050917,0913, 57.2670, -25.5330, -999,    710.0,   5.0030,  34.9932,2,    240.0,2,   -999.0,9,    11.10,2,    18.20,2,     1.20,2,   2169.0,2,   2312.0,2,   4.9447
  64PE20070830, AR07E,    31,  1,     16,2,20050917,0913, 57.2670, -25.5330, -999,    609.0,   5.5179,  35.0181,2,    229.0,2,   -999.0,9,    10.90,2,    18.70,2,     1.22,2,   2176.2,2,   2317.3,2,   5.4660
  64PE20070830, AR07E,    31,  1,     17,2,20050917,0913, 57.2670, -25.5330, -999,    505.0,   6.0883,  35.0296,2,    221.6,2,   -999.0,9,    10.80,2,    18.80,2,     1.22,2,   2175.6,2,   2315.6,2,   6.0434
  64PE20070830, AR07E,    31,  1,     18,2,20050917,0913, 57.2670, -25.5330, -999,    402.0,   6.9193,  35.0557,2,    221.1,2,   -999.0,9,     9.90,2,    18.30,2,     1.18,2,   2170.9,2,   2316.5,2,   6.8813
  64PE20070830, AR07E,    31,  1,     19,2,20050917,0913, 57.2670, -25.5330, -999,    302.0,   7.3269,  35.0165,2,    238.4,2,   -999.0,9,     8.40,2,    16.50,2,     1.09,2,   2160.3,2,   2315.1,2,   7.2976
  64PE20070830, AR07E,    31,  1,     20,2,20050917,0913, 57.2670, -25.5330, -999,    201.0,   7.9299,  35.0306,2,    249.2,2,   -999.0,9,     7.00,2,    15.00,2,     0.98,2,   2148.2,2,   2313.0,2,   7.9096
  64PE20070830, AR07E,    31,  1,     21,2,20050917,0913, 57.2670, -25.5330, -999,    101.0,   8.8242,  35.0241,2,    261.3,2,   -999.0,9,     3.70,2,    12.40,2,     0.83,2,   2133.9,2,   2312.2,2,   8.8134
  64PE20070830, AR07E,    31,  1,     22,2,20050917,0913, 57.2670, -25.5330, -999,     11.0,  13.0752,  35.0872,2,    253.4,2,   -999.0,9,     0.60,2,     3.10,2,     0.30,2,   2080.9,2,   2321.6,2,  13.0737