BOTTLE,20120806PRINUNIVRMK
EXPOCODE,SECT_ID,STNNBR,CASTNO,BTLNBR,BTLNBR_FLAG_W,DATE,TIME,LATITUDE,LONGITUDE,DEPTH,CTDPRS,CTDTMP,CTDSAL,CTDSAL_FLAG_W,CTDOXY,CTDOXY_FLAG_W,OXYGEN,OXYGEN_FLAG_W,SILCAT,SILCAT_FLAG_W,NITRAT,NITRAT_FLAG_W,PHSPHT,PHSPHT_FLAG_W,TCARBN,TCARBN_FLAG_W,ALKALI,ALKALI_FLAG_W,THETA
,,,,,,,,,,METERS,DBAR,ITS-90,PSS-78,,UMOL/KG,,UMOL/KG,,UMOL/KG,,UMOL/KG,,UMOL/KG,,UMOL/KG,,UMOL/KG,,DEG C
  64PE20070830, AR07E,    41,  2,      1,2,20050919,1759, 56.6170, -18.3660, -999,   1304.0,   3.7817,  34.9339,2,    263.4,2,    261.2,2,    13.80,2,    17.60,2,     1.17,2,   2166.4,2,   2311.9,2,   3.6813
  64PE20070830, AR07E,    41,  2,      2,2,20050919,1759, 56.6170, -18.3660, -999,   1253.0,   4.0722,  34.9538,2,    260.3,2,    257.0,2,    12.50,2,    17.60,2,     1.16,2,   2166.6,2,   2309.4,2,   3.9734
  64PE20070830, AR07E,    41,  2,      3,2,20050919,1759, 56.6170, -18.3660, -999,   1209.0,   4.2458,  34.9625,2,    258.0,2,    255.2,2,    11.70,2,    17.60,2,     1.17,2,   2167.1,2,   2308.8,2,   4.1492
  64PE20070830, AR07E,    41,  2,      4,2,20050919,1759, 56.6170, -18.3660, -999,   1012.0,   5.7301,  35.1049,2,    229.8,2,    226.4,2,    11.80,2,    18.20,2,     1.19,2,   2174.5,2,   2321.0,2,   5.6391
  64PE20070830, AR07E,    41,  2,      5,2,20050919,1759, 56.6170, -18.3660, -999,   1013.0,   5.7345,  35.1055,2,    230.0,2,    226.0,2,    11.70,2,    18.20,2,     1.18,2,   2173.5,2,   2318.6,2,   5.6434
  64PE20070830, AR07E,    41,  2,      6,2,20050919,1759, 56.6170, -18.3660, -999,    913.0,   6.3259,  35.1531,2,    220.0,2,    216.2,2,    11.50,2,    18.50,2,     1.20,2,   2180.9,2,   2321.5,2,   6.2403
  64PE20070830, AR07E,    41,  2,      7,2,20050919,1759, 56.6170, -18.3660, -999,    807.0,   7.2052,  35.2035,2,    207.0,2,    203.3,2,    11.00,2,    18.70,2,     1.20,2,   2176.5,2,   2325.9,2,   7.1248
  64PE20070830, AR07E,    41,  2,      8,2,20050919,1759, 56.6170, -18.3660, -999,    704.0,   8.0753,  35.2323,2,    202.9,2,    198.9,2,    10.10,2,    18.10,2,     1.17,2,   2174.4,2,   2324.4,2,   8.0011
  64PE20070830, AR07E,    41,  2,      9,2,20050919,1759, 56.6170, -18.3660, -999,    606.0,   8.8115,  35.2569,2,    208.9,2,    206.3,2,     8.70,2,    16.90,2,     1.08,2,   2167.9,2,   2324.0,2,   8.7447
  64PE20070830, AR07E,    41,  2,     10,2,20050919,1759, 56.6170, -18.3660, -999,    505.0,   9.5438,  35.2931,2,    220.8,2,    218.1,2,     7.10,2,    15.00,2,     0.96,2,   2153.7,2,   2325.8,2,   9.4857
  64PE20070830, AR07E,    41,  2,     11,2,20050919,1759, 56.6170, -18.3660, -999,    404.0,  10.1159,  35.3474,2,    237.6,2,    235.7,2,     5.70,2,    12.90,2,     0.83,2,   2142.8,2,   2329.0,2,  10.0680
  64PE20070830, AR07E,    41,  2,     12,2,20050919,1759, 56.6170, -18.3660, -999,    308.0,  10.3889,  35.3744,2,    244.5,2,    242.8,2,     5.00,2,    12.00,2,     0.77,2,   2137.8,2,   2329.6,2,  10.3519
  64PE20070830, AR07E,    41,  2,     13,2,20050919,1759, 56.6170, -18.3660, -999,    204.0,  10.9089,  35.4317,2,    240.8,2,    239.0,2,     4.40,2,    11.40,2,     0.72,2,   2133.8,2,   2332.9,2,  10.8837
  64PE20070830, AR07E,    41,  2,     14,2,20050919,1759, 56.6170, -18.3660, -999,    101.0,  11.5038,  35.4686,2,    242.8,2,    242.1,2,     2.30,2,     8.60,2,     0.55,2,   2122.1,2,   2333.6,2,  11.4910
  64PE20070830, AR07E,    41,  2,     15,2,20050919,1759, 56.6170, -18.3660, -999,     11.0,  14.5445,  35.4805,2,    246.8,2,    246.9,2,     0.20,2,     1.70,2,     0.16,2,   2084.1,2,   2338.8,2,  14.5429
  64PE20070830, AR07E,    42,  2,      1,2,20050919,2238, 56.5340, -17.4510, -999,    876.0,   7.3432,  35.2329,2,    208.9,2,    204.8,2,    11.20,2,    18.30,2,     1.20,2,   2178.4,2,   2328.0,2,   7.2546
  64PE20070830, AR07E,    42,  2,      2,2,20050919,2238, 56.5340, -17.4510, -999,    825.0,   7.7738,  35.2572,2,    205.0,2,    201.2,2,    10.70,2,    18.20,2,     1.19,2,   2177.3,2,   2329.1,2,   7.6880
  64PE20070830, AR07E,    42,  2,      3,2,20050919,2238, 56.5340, -17.4510, -999,    777.0,   8.0690,  35.2714,2,    204.0,2,    200.6,2,    10.40,2,    18.10,2,     1.16,2,   2178.3,2,   2330.4,2,   7.9867
  64PE20070830, AR07E,    42,  2,      4,2,20050919,2238, 56.5340, -17.4510, -999,    704.0,   8.4672,  35.2689,2,    202.8,2,    199.6,2,     9.80,2,    17.80,2,     1.14,2,   -999.0,9,   2329.3,2,   8.3909
  64PE20070830, AR07E,    42,  2,      5,2,20050919,2238, 56.5340, -17.4510, -999,    608.0,   9.3518,  35.3360,2,    222.1,2,    219.4,2,     7.70,2,    15.20,2,     0.98,2,   -999.0,9,   2329.1,2,   9.2823
  64PE20070830, AR07E,    42,  2,      6,2,20050919,2238, 56.5340, -17.4510, -999,    507.0,   9.9035,  35.3748,2,    230.6,2,    230.1,2,     6.10,2,    13.60,2,     0.87,2,   -999.0,9,   2331.2,2,   9.8438
  64PE20070830, AR07E,    42,  2,      7,2,20050919,2238, 56.5340, -17.4510, -999,    401.0,  10.2039,  35.3892,2,    236.6,2,    235.5,2,     5.40,2,    12.70,2,     0.90,2,   -999.0,9,   2329.5,2,  10.1561
  64PE20070830, AR07E,    42,  2,      8,2,20050919,2238, 56.5340, -17.4510, -999,    304.0,  10.4016,  35.3851,2,    245.4,2,    243.9,2,     4.80,2,    11.90,2,     0.76,2,   -999.0,9,   2331.2,2,  10.3651
  64PE20070830, AR07E,    42,  2,      9,2,20050919,2238, 56.5340, -17.4510, -999,    203.0,  10.8769,  35.4365,2,    240.5,2,    242.2,2,     4.40,2,    11.50,2,     0.72,2,   -999.0,9,   2332.2,2,  10.8519
  64PE20070830, AR07E,    42,  2,     10,2,20050919,2238, 56.5340, -17.4510, -999,    104.0,  11.5824,  35.4999,2,    240.5,2,    239.3,2,     3.10,2,    10.30,2,     0.64,2,   -999.0,9,   2336.4,2,  11.5691
  64PE20070830, AR07E,    42,  2,     11,2,20050919,2238, 56.5340, -17.4510, -999,     10.0,  14.6643,  35.4758,2,    243.8,2,    247.1,2,     0.10,2,     1.50,2,     0.15,2,   -999.0,9,   2340.1,2,  14.6628
  64PE20070830, AR07E,    43,  2,      1,2,20050920,0305, 56.4500, -16.5340, -999,    527.0,   9.3561,  35.3494,2,    227.5,2,    224.2,2,     8.60,2,    14.90,2,     0.97,2,   2157.6,2,   2329.9,2,   9.2961
  64PE20070830, AR07E,    43,  2,      2,2,20050920,0305, 56.4500, -16.5340, -999,    480.0,   9.5568,  35.3653,2,    237.7,2,    234.9,2,     6.70,2,    13.80,2,     0.89,2,   2147.0,2,   2329.5,2,   9.5016
  64PE20070830, AR07E,    43,  2,      3,2,20050920,0305, 56.4500, -16.5340, -999,    403.0,   9.7369,  35.3737,2,    237.1,2,    236.7,2,     5.90,2,    13.50,2,     0.86,2,   2146.6,2,   2327.0,2,   9.6902
  64PE20070830, AR07E,    43,  2,      4,2,20050920,0305, 56.4500, -16.5340, -999,    304.0,  10.1312,  35.3944,2,    243.3,2,    239.7,2,     5.20,2,    12.60,2,     0.81,2,   2143.1,2,   2329.5,2,  10.0953
  64PE20070830, AR07E,    43,  2,      5,2,20050920,0305, 56.4500, -16.5340, -999,    205.0,  10.2236,  35.3654,2,    248.8,2,    247.0,2,     4.60,2,    12.00,2,     0.77,2,   2138.0,2,   2329.8,2,  10.1994
  64PE20070830, AR07E,    43,  2,      6,2,20050920,0305, 56.4500, -16.5340, -999,     98.0,  11.1380,  35.4468,2,    242.8,2,    242.2,2,     3.30,2,    10.70,2,     0.69,2,   2136.0,2,   2331.1,2,  11.1258
  64PE20070830, AR07E,    43,  2,      7,2,20050920,0305, 56.4500, -16.5340, -999,     15.0,  14.1299,  35.4387,2,    249.4,2,    249.8,2,     0.20,2,     2.20,2,     0.21,2,   2081.1,2,   2335.4,2,  14.1277
  64PE20070830, AR07E,    44,  2,      1,2,20050920,0703, 56.3670, -15.6810, -999,    347.0,   9.5766,  35.3711,2,    236.7,2,   -999.0,9,     7.10,2,    13.90,2,     0.90,2,   -999.0,9,   -999.0,9,   9.5369
  64PE20070830, AR07E,    44,  2,      2,2,20050920,0703, 56.3670, -15.6810, -999,    346.0,   9.5767,  35.3709,2,    236.6,2,   -999.0,9,     7.10,2,    14.00,2,     0.91,2,   2153.3,2,   2329.9,2,   9.5371
  64PE20070830, AR07E,    44,  2,      3,2,20050920,0703, 56.3670, -15.6810, -999,    346.0,   9.5770,  35.3710,2,    236.7,2,    236.1,2,     7.10,2,    13.90,2,     0.90,2,   -999.0,9,   -999.0,9,   9.5374
  64PE20070830, AR07E,    44,  2,      4,2,20050920,0703, 56.3670, -15.6810, -999,    303.0,   9.5792,  35.3709,2,    236.3,2,    235.4,2,     6.90,2,    13.90,2,     0.90,2,   2154.8,2,   2330.2,2,   9.5446
  64PE20070830, AR07E,    44,  2,      5,2,20050920,0703, 56.3670, -15.6810, -999,    199.0,  10.0339,  35.3830,2,    242.6,2,    245.1,2,     5.10,2,    12.50,2,     0.80,2,   2142.0,2,   2332.1,2,  10.0106
  64PE20070830, AR07E,    44,  2,      6,2,20050920,0703, 56.3670, -15.6810, -999,    102.0,  10.2959,  35.3709,2,    247.7,2,    248.4,2,     4.50,2,    11.90,2,     0.75,2,   2137.4,2,   2328.9,2,  10.2838
  64PE20070830, AR07E,    44,  2,      7,2,20050920,0703, 56.3670, -15.6810, -999,     16.0,  13.7574,  35.3981,2,    250.4,2,    251.6,2,     0.30,2,     2.70,2,     0.23,2,   2082.2,2,   2329.0,2,  13.7551
  64PE20070830, AR07E,    45,  2,      1,2,20050920,1046, 56.2840, -14.7980, -999,    214.0,   9.6629,  35.3805,2,    240.5,2,    239.8,2,     6.40,2,    13.40,2,     0.88,2,   2153.7,2,   2330.7,2,   9.6384
  64PE20070830, AR07E,    45,  2,      2,2,20050920,1046, 56.2840, -14.7980, -999,    151.0,   9.9739,  35.3847,2,    246.9,2,    246.8,2,     4.90,2,    12.50,2,     0.79,2,   2143.4,2,   2331.2,2,   9.9564
  64PE20070830, AR07E,    45,  2,      3,2,20050920,1046, 56.2840, -14.7980, -999,    101.0,  10.3262,  35.3749,2,    250.4,2,    249.7,2,     3.20,2,    11.10,2,     0.71,2,   2135.8,2,   2330.6,2,  10.3142
  64PE20070830, AR07E,    45,  2,      4,2,20050920,1046, 56.2840, -14.7980, -999,     11.0,  13.7750,  35.3749,2,    250.4,2,    252.6,2,     0.10,2,     2.10,2,     0.19,2,   2080.8,2,   2329.2,2,  13.7734
  64PE20070830, AR07E,    46,  2,      1,2,20050920,1414, 56.2170, -13.9840, -999,   1891.0,   3.6355,  34.9449,2,    265.4,2,    264.5,2,    14.70,2,    17.40,2,     1.16,2,   2165.2,2,   2312.6,2,   3.4838
  64PE20070830, AR07E,    46,  2,      2,2,20050920,1414, 56.2170, -13.9840, -999,   1828.0,   3.6484,  34.9453,2,    265.2,2,    264.7,2,    14.40,2,    17.10,2,     1.15,2,   2165.2,2,   2310.8,2,   3.5024
  64PE20070830, AR07E,    46,  2,      3,2,20050920,1414, 56.2170, -13.9840, -999,   1775.0,   3.7977,  34.9535,2,    264.8,2,    264.4,2,    13.30,2,    17.10,2,     1.15,2,   2163.1,2,   2311.2,2,   3.6546
  64PE20070830, AR07E,    46,  2,      4,2,20050920,1414, 56.2170, -13.9840, -999,   1520.0,   4.3715,  34.9775,2,    257.2,2,    256.6,2,    11.40,2,    17.50,2,     1.16,2,   2165.5,2,   2311.6,2,   4.2452
  64PE20070830, AR07E,    46,  2,      5,2,20050920,1414, 56.2170, -13.9840, -999,   1264.0,   5.4331,  35.0830,2,    243.1,2,    242.6,2,    10.90,2,    17.30,2,     1.13,2,   2167.8,2,   2316.7,2,   5.3201
  64PE20070830, AR07E,    46,  2,      6,2,20050920,1414, 56.2170, -13.9840, -999,   1012.0,   7.3714,  35.2642,2,    206.0,2,    205.5,2,    11.00,2,    18.40,2,     1.20,2,   2180.4,2,   2329.7,2,   7.2679
  64PE20070830, AR07E,    46,  2,      7,2,20050920,1414, 56.2170, -13.9840, -999,   1016.0,   7.3901,  35.2643,2,    206.0,2,   -999.0,9,  -999.00,9,  -999.00,9,  -999.00,9,   -999.0,9,   -999.0,9,   7.2860
  64PE20070830, AR07E,    46,  2,      8,2,20050920,1414, 56.2170, -13.9840, -999,    910.0,   8.0704,  35.2796,2,    202.8,2,    202.4,2,    10.20,2,    18.10,2,     1.17,2,   2178.1,2,   2329.2,2,   7.9733
  64PE20070830, AR07E,    46,  2,      9,2,20050920,1414, 56.2170, -13.9840, -999,    810.0,   8.8002,  35.3089,2,    216.6,2,    216.7,2,     8.50,2,    16.20,2,     1.05,2,   2164.7,2,   2329.3,2,   8.7099
  64PE20070830, AR07E,    46,  2,     10,2,20050920,1414, 56.2170, -13.9840, -999,    708.0,   9.4421,  35.3550,2,    233.5,2,    234.3,2,     6.50,2,    14.10,2,     0.91,2,   2150.5,2,   2330.9,2,   9.3603
  64PE20070830, AR07E,    46,  2,     11,2,20050920,1414, 56.2170, -13.9840, -999,    605.0,   9.9086,  35.3994,2,    242.4,2,    242.5,2,     5.40,2,    12.70,2,     0.82,2,   2144.5,2,   2333.5,2,   9.8370
  64PE20070830, AR07E,    46,  2,     12,2,20050920,1414, 56.2170, -13.9840, -999,    505.0,  10.1719,  35.4274,2,    245.7,2,    247.8,2,     4.80,2,    11.80,2,     0.76,2,   2140.7,2,   2330.4,2,  10.1114
  64PE20070830, AR07E,    46,  2,     13,2,20050920,1414, 56.2170, -13.9840, -999,    406.0,  10.3380,  35.4378,2,    248.2,2,    249.3,2,     4.50,2,    11.60,2,     0.74,2,   2134.7,2,   2328.6,2,  10.2891
  64PE20070830, AR07E,    46,  2,     14,2,20050920,1414, 56.2170, -13.9840, -999,    305.0,  10.4636,  35.4165,2,    244.8,2,    245.4,2,     4.60,2,    11.80,2,     0.75,2,   2148.9,2,   2332.7,2,  10.4268
  64PE20070830, AR07E,    46,  2,     15,2,20050920,1414, 56.2170, -13.9840, -999,    204.0,  10.8716,  35.4606,2,    244.3,2,    245.3,2,     4.10,2,    11.10,2,     0.70,2,   2144.8,2,   2333.6,2,  10.8465
  64PE20070830, AR07E,    46,  2,     16,2,20050920,1414, 56.2170, -13.9840, -999,    100.0,  11.4960,  35.4938,2,    239.7,2,    241.3,2,     2.90,2,    10.20,2,     0.64,2,   2137.7,2,   2335.0,2,  11.4833
  64PE20070830, AR07E,    46,  2,     17,2,20050920,1414, 56.2170, -13.9840, -999,     13.0,  14.7050,  35.4699,2,    250.4,2,    253.2,2,     0.20,2,     0.30,2,     0.08,2,   2075.7,2,   2342.3,2,  14.7031
  64PE20070830, AR07E,    47,  2,      1,2,20050920,1919, 56.1350, -13.1670, -999,   2558.0,   2.9472,  34.9314,2,    253.6,2,    253.9,2,    26.60,2,    19.20,2,     1.30,2,   2179.6,2,   2330.0,2,   2.7425
  64PE20070830, AR07E,    47,  2,      2,2,20050920,1919, 56.1350, -13.1670, -999,   2511.0,   2.9630,  34.9318,2,    254.7,2,    255.8,2,    25.10,2,    19.00,2,     1.29,2,   2176.0,2,   2327.4,2,   2.7627
  64PE20070830, AR07E,    47,  2,      3,2,20050920,1919, 56.1350, -13.1670, -999,   2459.0,   3.0749,  34.9312,2,    260.6,2,    262.7,2,    20.40,2,    18.20,2,     1.22,2,   2169.5,2,   2319.5,2,   2.8776
  64PE20070830, AR07E,    47,  2,      4,2,20050920,1919, 56.1350, -13.1670, -999,   2285.0,   3.2767,  34.9227,2,    267.0,2,    269.4,2,    15.80,2,    17.60,2,     1.18,2,   2164.2,2,   2311.3,2,   3.0929
  64PE20070830, AR07E,    47,  2,      5,2,20050920,1919, 56.1350, -13.1670, -999,   2031.0,   3.5421,  34.9247,2,    267.7,2,    270.0,2,    13.40,2,    17.50,2,     1.17,2,   2163.4,2,   2307.9,2,   3.3785
  64PE20070830, AR07E,    47,  2,      6,2,20050920,1919, 56.1350, -13.1670, -999,   2028.0,   3.5439,  34.9248,2,    267.8,2,    271.8,2,    13.40,2,    17.40,2,     1.17,2,   2162.8,2,   2311.1,2,   3.3806
  64PE20070830, AR07E,    47,  2,      7,2,20050920,1919, 56.1350, -13.1670, -999,   1770.0,   3.9161,  34.9350,2,    264.2,2,    264.9,2,    11.70,2,    17.60,2,     1.17,2,   2163.3,2,   2308.6,2,   3.7720
  64PE20070830, AR07E,    47,  2,      8,2,20050920,1919, 56.1350, -13.1670, -999,   1519.0,   4.5546,  34.9911,2,    252.8,2,    252.8,2,    11.40,2,    17.80,2,     1.18,2,   2167.4,2,   2312.7,2,   4.4263
  64PE20070830, AR07E,    47,  2,      9,2,20050920,1919, 56.1350, -13.1670, -999,   1266.0,   5.8680,  35.1204,2,    229.3,2,    229.5,2,    11.30,2,    18.30,2,     1.19,2,   2173.6,2,   2320.9,2,   5.7507
  64PE20070830, AR07E,    47,  2,     10,2,20050920,1919, 56.1350, -13.1670, -999,   1011.0,   7.7323,  35.2620,2,    204.9,2,    205.0,2,    10.60,2,    18.40,2,     1.19,2,   2177.6,2,   2328.5,2,   7.6262
  64PE20070830, AR07E,    47,  2,     11,2,20050920,1919, 56.1350, -13.1670, -999,   1007.0,   7.7517,  35.2629,2,    204.7,2,    204.7,2,    10.60,2,    18.20,2,     1.19,2,   -999.0,9,   -999.0,9,   7.6459
  64PE20070830, AR07E,    47,  2,     12,2,20050920,1919, 56.1350, -13.1670, -999,    912.0,   8.4884,  35.2953,2,    205.7,2,    205.8,2,     9.60,2,    17.60,2,     1.13,2,   2173.0,2,   2328.9,2,   8.3882
  64PE20070830, AR07E,    47,  2,     13,2,20050920,1919, 56.1350, -13.1670, -999,    809.0,   9.1437,  35.3301,2,    224.7,2,    226.3,2,     7.50,2,    15.40,2,     0.99,2,   2160.1,2,   2329.5,2,   9.0515
  64PE20070830, AR07E,    47,  2,     14,2,20050920,1919, 56.1350, -13.1670, -999,    709.0,   9.5241,  35.3614,2,    244.2,2,    246.0,2,     5.80,2,    13.30,2,     0.86,2,   2149.1,2,   2329.4,2,   9.4417
  64PE20070830, AR07E,    47,  2,     15,2,20050920,1919, 56.1350, -13.1670, -999,    610.0,   9.9535,  35.4048,2,    244.5,2,    246.6,2,     5.10,2,    12.60,2,     0.81,2,   2145.6,2,   2330.5,2,   9.8811
  64PE20070830, AR07E,    47,  2,     16,2,20050920,1919, 56.1350, -13.1670, -999,    504.0,  10.2145,  35.4315,2,    248.0,2,    249.9,2,     4.70,2,    11.90,2,     0.76,2,   2144.2,2,   2331.9,2,  10.1540
  64PE20070830, AR07E,    47,  2,     17,2,20050920,1919, 56.1350, -13.1670, -999,    404.0,  10.3658,  35.4380,2,    248.4,2,    250.3,2,     4.60,2,    11.60,2,     0.74,2,   2141.2,2,   2339.4,2,  10.3171
  64PE20070830, AR07E,    47,  2,     18,2,20050920,1919, 56.1350, -13.1670, -999,    299.0,  10.5827,  35.4296,2,    247.4,2,   -999.0,9,     4.40,2,    11.40,2,     0.73,2,   2140.1,2,   2332.4,2,  10.5464
  64PE20070830, AR07E,    47,  2,     19,2,20050920,1919, 56.1350, -13.1670, -999,    203.0,  10.9027,  35.4563,2,    243.1,2,   -999.0,9,     4.10,2,    11.20,2,     0.71,2,   2140.5,2,   2334.0,2,  10.8777
  64PE20070830, AR07E,    47,  2,     20,2,20050920,1919, 56.1350, -13.1670, -999,    102.0,  11.6448,  35.5184,2,    238.7,2,   -999.0,9,     3.10,2,    10.40,2,     0.64,2,   2136.7,2,   2338.0,2,  11.6317
  64PE20070830, AR07E,    47,  2,     21,2,20050920,1919, 56.1350, -13.1670, -999,      9.0,  14.4974,  35.4669,2,    249.0,2,   -999.0,9,     0.20,2,     1.00,2,     0.11,2,   -999.0,9,   -999.0,9,  14.4961