BOTTLE,20120806PRINUNIVRMK
EXPOCODE,SECT_ID,STNNBR,CASTNO,BTLNBR,BTLNBR_FLAG_W,DATE,TIME,LATITUDE,LONGITUDE,DEPTH,CTDPRS,CTDTMP,CTDSAL,CTDSAL_FLAG_W,CTDOXY,CTDOXY_FLAG_W,OXYGEN,OXYGEN_FLAG_W,SILCAT,SILCAT_FLAG_W,NITRAT,NITRAT_FLAG_W,PHSPHT,PHSPHT_FLAG_W,TCARBN,TCARBN_FLAG_W,ALKALI,ALKALI_FLAG_W,THETA
,,,,,,,,,,METERS,DBAR,ITS-90,PSS-78,,UMOL/KG,,UMOL/KG,,UMOL/KG,,UMOL/KG,,UMOL/KG,,UMOL/KG,,UMOL/KG,,DEG C
  64PE20070830, AR07E,    14,  2,      1,2,20050912,1803, 59.7840, -41.7500, -999,   1850.0,   2.4691,  34.9038,2,    284.8,2,   -999.0,9,     9.70,2,    15.10,2,     1.01,2,   2159.4,2,   2305.6,2,   2.3376
  64PE20070830, AR07E,    14,  2,      2,2,20050912,1803, 59.7840, -41.7500, -999,   1795.0,   2.5277,  34.9046,2,    283.9,2,   -999.0,9,     9.90,2,    15.20,2,     1.01,2,   2156.9,2,   2307.3,2,   2.4000
  64PE20070830, AR07E,    14,  2,      3,2,20050912,1803, 59.7840, -41.7500, -999,   1743.0,   2.6244,  34.9060,2,    282.6,2,   -999.0,9,    10.10,2,    15.40,2,     1.01,2,   2159.2,2,   2304.9,2,   2.4999
  64PE20070830, AR07E,    14,  2,      4,2,20050912,1803, 59.7840, -41.7500, -999,   1523.0,   3.1668,  34.9174,2,    275.8,2,   -999.0,9,    10.50,2,    16.10,2,     1.06,2,   2159.4,2,   2309.8,2,   3.0542
  64PE20070830, AR07E,    14,  2,      5,2,20050912,1803, 59.7840, -41.7500, -999,   1263.0,   3.5539,  34.9253,2,    271.5,2,   -999.0,9,    10.20,2,    16.60,2,     1.09,2,   2160.9,2,   2311.1,2,   3.4593
  64PE20070830, AR07E,    14,  2,      6,2,20050912,1803, 59.7840, -41.7500, -999,   1011.0,   3.7086,  34.9095,2,    273.1,2,   -999.0,9,     9.90,2,    16.70,2,     1.09,2,   2160.4,2,   2304.0,2,   3.6336
  64PE20070830, AR07E,    14,  2,      7,2,20050912,1803, 59.7840, -41.7500, -999,    912.0,   3.7650,  34.9048,2,    274.3,2,   -999.0,9,     9.60,2,    16.70,2,     1.09,2,   2160.4,2,   2304.2,2,   3.6976
  64PE20070830, AR07E,    14,  2,      8,2,20050912,1803, 59.7840, -41.7500, -999,    812.0,   3.8941,  34.9087,2,    273.5,2,   -999.0,9,  -999.00,9,  -999.00,9,  -999.00,9,   2145.1,3,   2308.1,2,   3.8339
  64PE20070830, AR07E,    14,  2,      9,2,20050912,1803, 59.7840, -41.7500, -999,    707.0,   4.1490,  34.9219,2,    270.5,2,   -999.0,9,     9.40,2,    16.70,2,     1.10,2,   2164.8,2,   2308.1,2,   4.0957
  64PE20070830, AR07E,    14,  2,     10,2,20050912,1803, 59.7840, -41.7500, -999,    607.0,   4.4941,  34.9344,2,    269.1,2,   -999.0,9,     9.20,2,    17.00,2,     1.10,2,   2162.7,2,   -999.0,9,   4.4472
  64PE20070830, AR07E,    14,  2,     11,2,20050912,1803, 59.7840, -41.7500, -999,    505.0,   4.6871,  34.9390,2,    273.3,2,   -999.0,9,     8.70,2,    16.70,2,     1.09,2,   2159.4,2,   -999.0,9,   4.6477
  64PE20070830, AR07E,    14,  2,     12,2,20050912,1803, 59.7840, -41.7500, -999,    400.0,   4.9214,  34.9462,2,    278.4,2,   -999.0,9,     8.20,2,    16.20,2,     1.06,2,   2157.9,2,   -999.0,9,   4.8898
  64PE20070830, AR07E,    14,  2,     13,2,20050912,1803, 59.7840, -41.7500, -999,    304.0,   5.2839,  34.9634,2,    279.2,2,   -999.0,9,     7.90,2,    16.00,2,     1.04,2,   2156.7,2,   -999.0,9,   5.2592
  64PE20070830, AR07E,    14,  2,     14,2,20050912,1803, 59.7840, -41.7500, -999,    199.0,   5.5455,  34.9518,2,    280.0,2,   -999.0,9,     7.70,2,    15.70,2,     1.03,2,   2155.2,2,   -999.0,9,   5.5291
  64PE20070830, AR07E,    14,  2,     15,2,20050912,1803, 59.7840, -41.7500, -999,    102.0,   6.9378,  35.0793,2,    268.8,2,   -999.0,9,     6.50,2,    15.30,2,     0.99,2,   2152.9,2,   -999.0,9,   6.9283
  64PE20070830, AR07E,    14,  2,     16,2,20050912,1803, 59.7840, -41.7500, -999,    101.0,   6.9465,  35.0806,2,    268.7,2,   -999.0,9,     6.40,2,    15.10,2,     0.99,2,   2154.1,2,   -999.0,9,   6.9371
  64PE20070830, AR07E,    14,  2,     17,2,20050912,1803, 59.7840, -41.7500, -999,     11.0,   8.6887,  34.8504,2,    281.7,2,   -999.0,9,     2.60,2,     7.50,2,     0.54,2,   2093.8,2,   -999.0,9,   8.6875
  64PE20070830, AR07E,    14,  2,     18,2,20050912,1803, 59.7840, -41.7500, -999,     11.0,   8.6853,  34.8502,2,    282.9,2,   -999.0,9,     2.60,2,     7.50,2,     0.54,2,   2094.1,2,   -999.0,9,   8.6841
  64PE20070830, AR07E,    15,  3,      1,2,20050912,2153, 59.7000, -41.2490, -999,   2174.0,   2.4175,  34.9024,2,    285.7,2,    286.1,2,     9.70,2,    14.80,2,     1.00,2,   2158.9,2,   2304.8,2,   2.2584
  64PE20070830, AR07E,    15,  3,      2,2,20050912,2153, 59.7000, -41.2490, -999,   2122.0,   2.4387,  34.9030,2,    285.0,2,    284.9,2,     9.80,2,    14.80,2,     1.01,2,   2158.5,2,   2304.0,2,   2.2839
  64PE20070830, AR07E,    15,  3,      3,2,20050912,2153, 59.7000, -41.2490, -999,   2069.0,   2.4449,  34.9036,2,    284.3,2,    283.9,2,     9.90,2,    14.80,2,     1.00,2,   2155.9,2,   2306.5,2,   2.2947
  64PE20070830, AR07E,    15,  3,      4,2,20050912,2153, 59.7000, -41.2490, -999,   2031.0,   2.4980,  34.9073,2,    282.2,2,    282.3,2,    10.60,2,    15.10,2,     1.02,2,   2159.1,2,   2307.2,2,   2.3503
  64PE20070830, AR07E,    15,  3,      5,2,20050912,2153, 59.7000, -41.2490, -999,   1777.0,   3.1213,  34.9184,2,    275.7,2,    275.5,2,    11.00,2,    16.00,2,     1.07,2,   2158.2,2,   2305.0,2,   2.9871
  64PE20070830, AR07E,    15,  3,      6,2,20050912,2153, 59.7000, -41.2490, -999,   1521.0,   3.4461,  34.9222,2,    273.2,2,    272.8,2,    10.60,2,    16.30,2,     1.09,2,   2159.4,2,   2304.9,2,   3.3304
  64PE20070830, AR07E,    15,  3,      7,2,20050912,2153, 59.7000, -41.2490, -999,   1264.0,   3.7036,  34.9293,2,    271.2,2,    270.9,2,    10.10,2,    16.20,2,     1.08,2,   2159.3,2,   2309.3,2,   3.6074
  64PE20070830, AR07E,    15,  3,      8,2,20050912,2153, 59.7000, -41.2490, -999,   1014.0,   3.8656,  34.9284,2,    271.4,2,    270.2,2,     9.80,2,    16.10,2,     1.08,2,   2161.0,2,   2318.6,3,   3.7891
  64PE20070830, AR07E,    15,  3,      9,2,20050912,2153, 59.7000, -41.2490, -999,    911.0,   3.9806,  34.9298,2,    271.0,2,    269.7,2,     9.60,2,    16.20,2,     1.08,2,   2160.3,2,   2308.3,2,   3.9118
  64PE20070830, AR07E,    15,  3,     10,2,20050912,2153, 59.7000, -41.2490, -999,    810.0,   4.1587,  34.9347,2,    269.5,2,    267.7,2,     9.60,2,    16.30,2,     1.08,2,   2160.0,2,   2305.8,2,   4.0970
  64PE20070830, AR07E,    15,  3,     11,2,20050912,2153, 59.7000, -41.2490, -999,    710.0,   4.3989,  34.9454,2,    267.9,2,    265.4,2,     9.20,2,    16.20,2,     1.08,2,   2163.0,2,   2308.8,2,   4.3440
  64PE20070830, AR07E,    15,  3,     12,2,20050912,2153, 59.7000, -41.2490, -999,    607.0,   4.6873,  34.9573,2,    266.3,2,    264.3,2,     9.10,2,    16.30,2,     1.07,2,   2161.0,2,   2308.7,2,   4.6395
  64PE20070830, AR07E,    15,  3,     13,2,20050912,2153, 59.7000, -41.2490, -999,    507.0,   4.9825,  34.9673,2,    268.8,2,    266.5,2,     8.70,2,    16.10,2,     1.06,2,   2157.7,2,   2306.3,2,   4.9418
  64PE20070830, AR07E,    15,  3,     14,2,20050912,2153, 59.7000, -41.2490, -999,    403.0,   5.3344,  34.9853,2,    269.5,2,    266.5,2,     8.30,2,    15.80,2,     1.04,2,   2158.6,2,   2309.7,2,   5.3012
  64PE20070830, AR07E,    15,  3,     15,2,20050912,2153, 59.7000, -41.2490, -999,    306.0,   5.6764,  35.0059,2,    269.9,2,    267.3,2,     8.00,2,    15.60,2,     1.02,2,   2154.3,2,   2309.2,2,   5.6506
  64PE20070830, AR07E,    15,  3,     16,2,20050912,2153, 59.7000, -41.2490, -999,    203.0,   6.3797,  35.0567,2,    269.7,2,    267.5,2,     7.30,2,    15.20,2,     0.99,2,   2149.7,2,   2314.5,2,   6.3616
  64PE20070830, AR07E,    15,  3,     17,2,20050912,2153, 59.7000, -41.2490, -999,    102.0,   7.0317,  35.0779,2,    269.0,2,    266.5,2,     6.30,2,    14.40,2,     0.94,2,   2150.0,2,   2314.4,2,   7.0222
  64PE20070830, AR07E,    15,  3,     18,2,20050912,2153, 59.7000, -41.2490, -999,    102.0,   7.0074,  35.0799,2,    269.5,2,    266.3,2,     6.20,2,    14.40,2,     0.93,2,   2144.8,2,   2313.4,2,   6.9979
  64PE20070830, AR07E,    15,  3,     19,2,20050912,2153, 59.7000, -41.2490, -999,     14.0,   9.1130,  34.9152,2,    279.2,2,    277.0,2,     2.30,2,     6.90,2,     0.50,2,   2090.6,2,   2307.6,2,   9.1115
  64PE20070830, AR07E,    15,  3,     20,2,20050912,2153, 59.7000, -41.2490, -999,     13.0,   9.1161,  34.9154,2,    279.5,2,    277.2,2,     2.30,2,     6.90,2,     0.49,2,   2088.9,2,   2306.4,2,   9.1147
  64PE20070830, AR07E,    16,  2,      1,2,20050913,0154, 59.6170, -40.7500, -999,   2472.0,   1.7942,  34.8926,2,    293.2,2,   -999.0,9,     8.40,2,    13.80,2,     0.94,2,   2157.8,2,   -999.0,9,   1.6192
  64PE20070830, AR07E,    16,  2,      2,2,20050913,0154, 59.6170, -40.7500, -999,   2422.0,   1.8000,  34.8929,2,    293.0,2,   -999.0,9,     8.40,2,    13.90,2,     0.95,2,   2159.6,2,   -999.0,9,   1.6294
  64PE20070830, AR07E,    16,  2,      3,2,20050913,0154, 59.6170, -40.7500, -999,   2371.0,   1.8545,  34.8925,2,    292.2,2,   -999.0,9,     8.40,2,    13.90,2,     0.94,2,   2158.0,2,   -999.0,9,   1.6875
  64PE20070830, AR07E,    16,  2,      4,2,20050913,0154, 59.6170, -40.7500, -999,   2286.0,   2.1847,  34.9000,2,    287.3,2,   -999.0,9,     9.60,2,    14.40,2,     0.98,2,   2161.3,2,   -999.0,9,   2.0195
  64PE20070830, AR07E,    16,  2,      5,2,20050913,0154, 59.6170, -40.7500, -999,   2030.0,   2.7742,  34.9098,2,    279.8,2,   -999.0,9,    10.20,2,    15.30,2,     1.02,2,   2159.0,2,   -999.0,9,   2.6224
  64PE20070830, AR07E,    16,  2,      6,2,20050913,0154, 59.6170, -40.7500, -999,   1773.0,   3.1848,  34.9189,2,    274.3,2,   -999.0,9,    10.90,2,    16.00,2,     1.07,2,   2160.6,2,   -999.0,9,   3.0501
  64PE20070830, AR07E,    16,  2,      7,2,20050913,0154, 59.6170, -40.7500, -999,   1520.0,   3.5110,  34.9252,2,    272.1,2,   -999.0,9,    10.40,2,    16.30,2,     1.08,2,   2159.8,2,   -999.0,9,   3.3947
  64PE20070830, AR07E,    16,  2,      8,2,20050913,0154, 59.6170, -40.7500, -999,   1268.0,   3.6982,  34.9270,2,    270.2,2,   -999.0,9,    10.30,2,    16.50,2,     1.10,2,   2162.9,2,   -999.0,9,   3.6017
  64PE20070830, AR07E,    16,  2,      9,2,20050913,0154, 59.6170, -40.7500, -999,   1014.0,   3.7465,  34.9007,2,    274.6,2,    275.3,2,     9.70,2,    16.50,2,     1.09,2,   2162.3,2,   -999.0,9,   3.6710
  64PE20070830, AR07E,    16,  2,     10,2,20050913,0154, 59.6170, -40.7500, -999,    908.0,   3.8375,  34.8997,2,    275.1,2,    275.3,2,     9.50,2,    16.50,2,     1.09,2,   2162.8,2,   -999.0,9,   3.7700
  64PE20070830, AR07E,    16,  2,     11,2,20050913,0154, 59.6170, -40.7500, -999,    808.0,   4.0530,  34.9186,2,    271.1,2,    271.1,2,     9.60,2,    16.50,2,     1.09,2,   2164.1,2,   -999.0,9,   3.9921
  64PE20070830, AR07E,    16,  2,     12,2,20050913,0154, 59.6170, -40.7500, -999,    711.0,   4.3148,  34.9383,2,    268.5,2,   -999.0,9,     9.30,2,    16.50,2,     1.08,2,   2162.1,2,   -999.0,9,   4.2603
  64PE20070830, AR07E,    16,  2,     13,2,20050913,0154, 59.6170, -40.7500, -999,    609.0,   4.6074,  34.9539,2,    266.6,2,   -999.0,9,     9.00,2,    16.20,2,     1.07,2,   2161.1,2,   -999.0,9,   4.5598
  64PE20070830, AR07E,    16,  2,     14,2,20050913,0154, 59.6170, -40.7500, -999,    503.0,   4.9462,  34.9672,2,    266.9,2,   -999.0,9,     8.70,2,    16.00,2,     1.06,2,   2166.1,2,   -999.0,9,   4.9059
  64PE20070830, AR07E,    16,  2,     15,2,20050913,0154, 59.6170, -40.7500, -999,    403.0,   5.2565,  34.9793,2,    270.8,2,   -999.0,9,     8.30,2,    15.90,2,     1.05,2,   2158.9,2,   -999.0,9,   5.2236
  64PE20070830, AR07E,    16,  2,     16,2,20050913,0154, 59.6170, -40.7500, -999,    304.0,   5.7254,  35.0123,2,    271.4,2,   -999.0,9,     7.90,2,    15.50,2,     1.03,2,   2155.9,2,   -999.0,9,   5.6996
  64PE20070830, AR07E,    16,  2,     17,2,20050913,0154, 59.6170, -40.7500, -999,    201.0,   6.2783,  35.0467,2,    270.1,2,   -999.0,9,     7.40,2,    15.10,2,     1.00,2,   2153.8,2,   -999.0,9,   6.2606
  64PE20070830, AR07E,    16,  2,     18,2,20050913,0154, 59.6170, -40.7500, -999,    101.0,   7.0146,  35.0766,2,    268.6,2,   -999.0,9,     6.30,2,    14.40,2,     0.95,2,   2150.0,2,   -999.0,9,   7.0052
  64PE20070830, AR07E,    16,  2,     19,2,20050913,0154, 59.6170, -40.7500, -999,    102.0,   7.0166,  35.0764,2,    269.3,2,   -999.0,9,     6.30,2,    14.30,2,     0.94,2,   2147.9,2,   -999.0,9,   7.0071
  64PE20070830, AR07E,    16,  2,     20,2,20050913,0154, 59.6170, -40.7500, -999,     10.0,   8.8137,  34.8882,2,    280.0,2,   -999.0,9,     2.50,2,     7.50,2,     0.54,2,   2090.2,2,   -999.0,9,   8.8126
  64PE20070830, AR07E,    16,  2,     21,2,20050913,0154, 59.6170, -40.7500, -999,     10.0,   8.8134,  34.8882,2,    280.0,2,   -999.0,9,     2.60,2,     7.40,2,     0.54,2,   2092.2,2,   -999.0,9,   8.8123
  64PE20070830, AR07E,    17,  3,      1,2,20050913,0757, 59.4510, -39.7500, -999,   2963.0,   1.4867,  34.8907,2,    295.9,2,    297.4,2,     7.70,2,    14.10,2,     0.95,2,   2159.3,2,   2304.3,2,   1.2726
  64PE20070830, AR07E,    17,  3,      2,2,20050913,0757, 59.4510, -39.7500, -999,   2892.0,   1.8897,  34.8935,2,    292.2,2,   -999.0,9,     9.50,2,    14.40,2,     0.97,2,   -999.0,9,   2305.9,2,   1.6737
  64PE20070830, AR07E,    17,  3,      3,2,20050913,0757, 59.4510, -39.7500, -999,   2846.0,   2.0927,  34.8973,2,    288.3,2,    289.3,2,    11.00,2,    15.00,2,     1.01,2,   2155.9,2,   2302.7,2,   1.8769
  64PE20070830, AR07E,    17,  3,      4,2,20050913,0757, 59.4510, -39.7500, -999,   2744.0,   2.4206,  34.9054,2,    281.6,2,    283.0,2,    11.80,2,    15.60,2,     1.06,2,   2157.1,2,   2305.0,2,   2.2080
  64PE20070830, AR07E,    17,  3,      5,2,20050913,0757, 59.4510, -39.7500, -999,   2542.0,   2.7938,  34.9151,2,    275.7,2,    277.3,2,    12.60,2,    16.30,2,     1.10,2,   2157.5,2,   2307.9,2,   2.5936
  64PE20070830, AR07E,    17,  3,      6,2,20050913,0757, 59.4510, -39.7500, -999,   2285.0,   3.0376,  34.9271,2,    270.8,2,    272.3,2,    11.50,2,    16.40,2,     1.10,2,   2157.1,2,   2307.3,2,   2.8578
  64PE20070830, AR07E,    17,  3,      7,2,20050913,0757, 59.4510, -39.7500, -999,   2031.0,   3.1605,  34.9208,2,    272.3,2,    273.3,2,    11.60,2,    16.30,2,     1.10,2,   2157.3,2,   2306.6,2,   3.0027
  64PE20070830, AR07E,    17,  3,      8,2,20050913,0757, 59.4510, -39.7500, -999,   2031.0,   3.1608,  34.9206,2,    272.1,2,    272.7,2,    11.10,2,    16.60,2,     1.11,2,   2156.5,2,   2306.1,2,   3.0030
  64PE20070830, AR07E,    17,  3,      9,2,20050913,0757, 59.4510, -39.7500, -999,   1774.0,   3.2620,  34.9097,2,    273.2,2,    273.3,2,    11.00,2,    16.60,2,     1.11,2,   2155.4,2,   2304.2,2,   3.1263
  64PE20070830, AR07E,    17,  3,     10,2,20050913,0757, 59.4510, -39.7500, -999,   1520.0,   3.4447,  34.9136,2,    271.4,2,    271.0,2,  -999.00,9,  -999.00,9,  -999.00,9,   2157.5,2,   2305.0,2,   3.3292
  64PE20070830, AR07E,    17,  3,     11,2,20050913,0757, 59.4510, -39.7500, -999,   1265.0,   3.5767,  34.9029,2,    271.9,2,    270.8,2,    10.30,2,    16.60,2,     1.11,2,   2158.5,2,   2303.5,2,   3.4817
  64PE20070830, AR07E,    17,  3,     12,2,20050913,0757, 59.4510, -39.7500, -999,   1014.0,   3.6050,  34.8809,2,    278.0,2,    276.0,2,     9.70,2,    16.50,2,     1.10,2,   2156.7,2,   2301.7,2,   3.5306
  64PE20070830, AR07E,    17,  3,     13,2,20050913,0757, 59.4510, -39.7500, -999,   1013.0,   3.6047,  34.8812,2,    278.1,2,    275.4,2,     9.70,2,    16.60,2,     1.10,2,   2157.2,2,   2302.7,2,   3.5304
  64PE20070830, AR07E,    17,  3,     14,2,20050913,0757, 59.4510, -39.7500, -999,    910.0,   3.6234,  34.8756,2,    280.9,2,    278.2,2,     9.40,2,    16.40,2,     1.09,2,   2156.8,2,   2301.3,2,   3.5572
  64PE20070830, AR07E,    17,  3,     15,2,20050913,0757, 59.4510, -39.7500, -999,    806.0,   3.6987,  34.8765,2,    281.5,2,    278.0,2,     9.10,2,    16.40,2,     1.08,2,   2158.0,2,   2304.5,2,   3.6403
  64PE20070830, AR07E,    17,  3,     16,2,20050913,0757, 59.4510, -39.7500, -999,    704.0,   3.8740,  34.8889,2,    277.9,2,    274.3,2,     9.30,2,    16.50,2,     1.09,2,   2158.5,2,   2302.3,2,   3.8225
  64PE20070830, AR07E,    17,  3,     17,2,20050913,0757, 59.4510, -39.7500, -999,    609.0,   4.0579,  34.9006,2,    278.3,2,    275.0,2,     8.90,2,    16.40,2,     1.08,2,   2157.5,2,   2305.8,2,   4.0129
  64PE20070830, AR07E,    17,  3,     18,2,20050913,0757, 59.4510, -39.7500, -999,    503.0,   4.1553,  34.9006,2,    279.9,2,    275.7,2,     8.80,2,    16.40,2,     1.07,2,   2159.1,2,   2301.8,2,   4.1182
  64PE20070830, AR07E,    17,  3,     19,2,20050913,0757, 59.4510, -39.7500, -999,    402.0,   4.3696,  34.9112,2,    279.5,2,    274.5,2,     8.60,2,    16.40,2,     1.08,2,   2159.1,2,   2304.1,2,   4.3396
  64PE20070830, AR07E,    17,  3,     20,2,20050913,0757, 59.4510, -39.7500, -999,    305.0,   4.7497,  34.9349,2,    279.0,2,    274.9,2,     8.20,2,    16.10,2,     1.06,2,   2155.7,2,   2305.0,2,   4.7262
  64PE20070830, AR07E,    17,  3,     21,2,20050913,0757, 59.4510, -39.7500, -999,    202.0,   5.0795,  34.9381,2,    284.2,2,    279.3,2,     7.70,2,    15.40,2,     1.01,2,   2152.6,2,   2304.4,2,   5.0636
  64PE20070830, AR07E,    17,  3,     22,2,20050913,0757, 59.4510, -39.7500, -999,    100.0,   5.6180,  34.9434,2,    279.0,2,    273.8,2,     7.60,2,    15.60,2,     1.02,2,   2154.2,2,   2306.8,2,   5.6098
  64PE20070830, AR07E,    17,  3,     23,2,20050913,0757, 59.4510, -39.7500, -999,     12.0,   9.3818,  34.7737,2,    278.2,2,    274.9,2,     2.30,2,     6.60,2,     0.48,2,   2085.2,2,   2297.5,2,   9.3805