BOTTLE,20120806PRINUNIVRMK
EXPOCODE,SECT_ID,STNNBR,CASTNO,BTLNBR,BTLNBR_FLAG_W,DATE,TIME,LATITUDE,LONGITUDE,DEPTH,CTDPRS,CTDTMP,CTDSAL,CTDSAL_FLAG_W,CTDOXY,CTDOXY_FLAG_W,OXYGEN,OXYGEN_FLAG_W,SILCAT,SILCAT_FLAG_W,NITRAT,NITRAT_FLAG_W,PHSPHT,PHSPHT_FLAG_W,TCARBN,TCARBN_FLAG_W,ALKALI,ALKALI_FLAG_W,THETA
,,,,,,,,,,METERS,DBAR,ITS-90,PSS-78,,UMOL/KG,,UMOL/KG,,UMOL/KG,,UMOL/KG,,UMOL/KG,,UMOL/KG,,UMOL/KG,,DEG C
  64PE20070830, AR07E,    32,  1,      1,2,20050918,1216, 57.1840, -24.6320, -999,   2842.0,   2.7879,  34.9734,2,    265.3,2,    266.4,2,    17.40,2,    16.70,2,     1.11,2,   2173.2,2,   2319.3,2,   2.5577
  64PE20070830, AR07E,    32,  1,      2,2,20050918,1216, 57.1840, -24.6320, -999,   2796.0,   2.7764,  34.9650,2,    262.3,2,    263.6,2,    19.50,2,    17.30,2,     1.15,2,   2175.2,2,   2320.9,2,   2.5512
  64PE20070830, AR07E,    32,  1,      3,2,20050918,1216, 57.1840, -24.6320, -999,   2740.0,   2.8152,  34.9653,2,    263.3,2,    264.7,2,    18.30,2,    17.10,2,     1.14,2,   2172.9,2,   2321.5,2,   2.5948
  64PE20070830, AR07E,    32,  1,      4,2,20050918,1216, 57.1840, -24.6320, -999,   2541.0,   2.9403,  34.9574,2,    264.6,2,    266.9,2,    16.60,2,    17.00,2,     1.13,2,   2168.9,2,   2316.5,2,   2.7373
  64PE20070830, AR07E,    32,  1,      5,2,20050918,1216, 57.1840, -24.6320, -999,   2283.0,   3.1180,  34.9321,2,    268.8,2,   -999.0,9,    13.70,2,    16.90,2,     1.12,2,   2165.2,2,   2314.9,2,   2.9371
  64PE20070830, AR07E,    32,  1,      6,2,20050918,1216, 57.1840, -24.6320, -999,   2030.0,   3.2569,  34.9108,2,    272.8,2,    273.6,2,    12.00,2,    17.00,2,     1.12,2,   2157.6,2,   2309.5,2,   3.0978
  64PE20070830, AR07E,    32,  1,      7,2,20050918,1216, 57.1840, -24.6320, -999,   2030.0,   3.2573,  34.9107,2,    272.8,2,    274.7,2,    11.90,2,    17.00,2,     1.12,2,   -999.0,9,   2309.2,2,   3.0982
  64PE20070830, AR07E,    32,  1,      8,2,20050918,1216, 57.1840, -24.6320, -999,   1776.0,   3.4477,  34.9037,2,    270.6,2,    272.2,2,    11.70,2,    17.40,2,     1.14,2,   2162.3,2,   2308.1,2,   3.3093
  64PE20070830, AR07E,    32,  1,      9,2,20050918,1216, 57.1840, -24.6320, -999,   1518.0,   3.6339,  34.9018,2,    269.6,2,    270.8,2,    11.10,2,    17.40,2,     1.14,2,   2161.3,2,   2306.9,2,   3.5164
  64PE20070830, AR07E,    32,  1,     10,2,20050918,1216, 57.1840, -24.6320, -999,   1264.0,   3.8443,  34.9049,2,    267.8,2,    269.6,2,    10.60,2,    17.50,2,     1.15,2,   2161.5,2,   2306.3,2,   3.7468
  64PE20070830, AR07E,    32,  1,     11,2,20050918,1216, 57.1840, -24.6320, -999,   1007.0,   4.4954,  34.9632,2,    251.5,2,    252.4,2,    10.90,2,    18.00,2,     1.17,2,   2168.0,2,   2310.9,2,   4.4146
  64PE20070830, AR07E,    32,  1,     12,2,20050918,1216, 57.1840, -24.6320, -999,   1006.0,   4.5061,  34.9640,2,    251.8,2,    252.1,2,    11.00,2,    18.00,2,     1.17,2,   2165.1,2,   2311.8,2,   4.4253
  64PE20070830, AR07E,    32,  1,     13,2,20050918,1216, 57.1840, -24.6320, -999,    913.0,   4.7507,  34.9676,2,    247.6,2,    248.3,2,    10.60,2,    18.10,2,     1.18,2,   2169.2,2,   2310.5,2,   4.6762
  64PE20070830, AR07E,    32,  1,     14,2,20050918,1216, 57.1840, -24.6320, -999,    808.0,   5.4520,  35.0385,2,    232.1,2,    233.5,2,  -999.00,9,  -999.00,9,  -999.00,9,   2144.8,3,   2322.9,3,   5.3823
  64PE20070830, AR07E,    32,  1,     15,2,20050918,1216, 57.1840, -24.6320, -999,    705.0,   6.1106,  35.0869,2,    219.9,2,    220.0,2,    11.10,2,    18.90,2,     1.22,2,   2173.7,2,   2320.8,2,   6.0467
  64PE20070830, AR07E,    32,  1,     16,2,20050918,1216, 57.1840, -24.6320, -999,    605.0,   6.6124,  35.0570,2,    209.1,2,    208.8,2,    11.10,2,    19.30,2,     1.25,2,   2178.6,2,   2318.3,2,   6.5558
  64PE20070830, AR07E,    32,  1,     17,2,20050918,1216, 57.1840, -24.6320, -999,    508.0,   7.1684,  35.0316,2,    207.5,2,    206.7,2,    10.40,2,    19.00,2,     1.23,2,   2172.7,2,   2316.9,2,   7.1191
  64PE20070830, AR07E,    32,  1,     18,2,20050918,1216, 57.1840, -24.6320, -999,    400.0,   8.4810,  35.1151,2,    212.4,2,    213.8,2,     8.80,2,    17.30,2,     1.11,2,   2160.9,2,   2318.1,2,   8.4385
  64PE20070830, AR07E,    32,  1,     19,2,20050918,1216, 57.1840, -24.6320, -999,    307.0,   9.3757,  35.2016,2,    230.4,2,    231.4,2,     7.00,2,    14.90,2,     0.95,2,   2150.5,2,   2323.4,2,   9.3412
  64PE20070830, AR07E,    32,  1,     20,2,20050918,1216, 57.1840, -24.6320, -999,    202.0,  10.2281,  35.3121,2,    234.1,2,   -999.0,9,     5.80,2,    13.40,2,     0.84,2,   2143.7,2,   2329.8,2,  10.2042
  64PE20070830, AR07E,    32,  1,     21,2,20050918,1216, 57.1840, -24.6320, -999,    100.0,  11.2255,  35.3805,2,    237.6,2,    240.8,2,     2.90,2,    11.00,2,     0.69,2,   2132.0,2,   2333.3,2,  11.2130
  64PE20070830, AR07E,    32,  1,     22,2,20050918,1216, 57.1840, -24.6320, -999,     10.0,  14.3351,  35.2655,2,    246.1,2,    250.5,2,     0.40,2,     1.50,2,     0.17,2,   2076.4,2,   2333.0,2,  14.3336
  64PE20070830, AR07E,    33,  1,      1,2,20050918,0550, 57.1170, -23.7490, -999,   3052.0,   2.8194,  34.9771,2,    266.4,2,    267.5,2,    16.70,2,    16.50,2,     1.09,2,   2174.6,2,   2318.0,2,   2.5669
  64PE20070830, AR07E,    33,  1,      2,2,20050918,0550, 57.1170, -23.7490, -999,   2998.0,   2.8166,  34.9771,2,    266.1,2,    268.0,2,    16.20,2,    16.40,2,     1.08,2,   2171.7,2,   2317.4,2,   2.5698
  64PE20070830, AR07E,    33,  1,      3,2,20050918,0550, 57.1170, -23.7490, -999,   2948.0,   2.8448,  34.9721,2,    265.2,2,    267.5,2,    16.50,2,    16.70,2,     1.10,2,   2171.4,2,   2318.1,2,   2.6026
  64PE20070830, AR07E,    33,  1,      4,2,20050918,0550, 57.1170, -23.7490, -999,   2794.0,   2.9440,  34.9661,2,    265.0,2,    267.6,2,    15.80,2,    16.70,2,     1.11,2,   2169.4,2,   2315.6,2,   2.7156
  64PE20070830, AR07E,    33,  1,      5,2,20050918,0550, 57.1170, -23.7490, -999,   2537.0,   3.1409,  34.9429,2,    267.6,2,    270.8,2,    13.80,2,    16.80,2,     1.10,2,   2161.5,2,   2312.3,2,   2.9347
  64PE20070830, AR07E,    33,  1,      6,2,20050918,0550, 57.1170, -23.7490, -999,   2285.0,   3.2313,  34.9118,2,    270.5,2,    273.5,2,    12.80,2,    17.20,2,     1.12,2,   2160.2,2,   2308.2,2,   3.0483
  64PE20070830, AR07E,    33,  1,      7,2,20050918,0550, 57.1170, -23.7490, -999,   2029.0,   3.3742,  34.9008,2,    272.1,2,    274.6,2,    11.50,2,    17.20,2,     1.13,2,   2157.3,2,   2305.8,2,   3.2134
  64PE20070830, AR07E,    33,  1,      8,2,20050918,0550, 57.1170, -23.7490, -999,   2027.0,   3.3742,  34.9009,2,    272.0,2,    274.7,2,    11.50,2,    17.20,2,     1.13,2,   2158.0,2,   2307.6,2,   3.2136
  64PE20070830, AR07E,    33,  1,      9,2,20050918,0550, 57.1170, -23.7490, -999,   1775.0,   3.5820,  34.9025,2,    269.3,2,    271.6,2,    11.10,2,    17.40,2,     1.13,2,   2160.3,2,   2305.4,2,   3.4419
  64PE20070830, AR07E,    33,  1,     10,2,20050918,0550, 57.1170, -23.7490, -999,   1518.0,   3.7877,  34.9037,2,    267.5,2,    269.5,2,    10.70,2,    17.40,2,     1.14,2,   2161.3,2,   2304.8,2,   3.6684
  64PE20070830, AR07E,    33,  1,     11,2,20050918,0550, 57.1170, -23.7490, -999,   1266.0,   4.1885,  34.9306,2,    259.5,2,    261.0,2,    10.60,2,    17.80,2,     1.15,2,   2163.7,2,   2307.7,2,   4.0875
  64PE20070830, AR07E,    33,  1,     12,2,20050918,0550, 57.1170, -23.7490, -999,   1010.0,   5.3968,  35.0384,2,    233.0,2,    234.3,2,    11.10,2,    18.40,2,     1.20,2,   2171.8,2,   2315.8,2,   5.3087
  64PE20070830, AR07E,    33,  1,     13,2,20050918,0550, 57.1170, -23.7490, -999,   1011.0,   5.3951,  35.0382,2,    232.6,2,    234.1,2,    11.10,2,    18.50,2,     1.20,2,   2174.6,2,   2314.7,2,   5.3069
  64PE20070830, AR07E,    33,  1,     14,2,20050918,0550, 57.1170, -23.7490, -999,    910.0,   5.9221,  35.0615,2,    222.5,2,    223.3,2,    11.10,2,    19.00,2,     1.21,2,   2176.4,2,   2316.0,2,   5.8397
  64PE20070830, AR07E,    33,  1,     15,2,20050918,0550, 57.1170, -23.7490, -999,    806.0,   6.8583,  35.1335,2,    210.3,2,    210.6,2,    10.80,2,    18.90,2,     1.25,2,   2178.9,2,   2321.5,2,   6.7802
  64PE20070830, AR07E,    33,  1,     16,2,20050918,0550, 57.1170, -23.7490, -999,    703.0,   7.9641,  35.1948,2,    196.6,2,    196.1,2,    10.50,2,    19.00,2,     1.21,2,   2176.6,2,   2325.3,2,   7.8906
  64PE20070830, AR07E,    33,  1,     17,2,20050918,0550, 57.1170, -23.7490, -999,    606.0,   8.8457,  35.2672,2,    216.3,2,    217.9,2,     8.20,2,    16.30,2,     1.05,2,   2163.8,2,   2327.0,2,   8.7787
  64PE20070830, AR07E,    33,  1,     18,2,20050918,0550, 57.1170, -23.7490, -999,    507.0,   9.2152,  35.2819,2,    240.1,2,    242.5,2,     6.40,2,    14.20,2,     0.90,2,   2150.7,2,   2326.6,2,   9.1581
  64PE20070830, AR07E,    33,  1,     19,2,20050918,0550, 57.1170, -23.7490, -999,    401.0,   9.5751,  35.3119,2,    236.7,2,    238.1,2,     6.20,2,    13.90,2,     0.88,2,   2148.3,2,   2328.7,2,   9.5291
  64PE20070830, AR07E,    33,  1,     20,2,20050918,0550, 57.1170, -23.7490, -999,    305.0,  10.0008,  35.3479,2,    246.7,2,    248.4,2,     5.00,2,    12.50,2,     0.79,2,   2141.5,2,   2329.6,2,   9.9651
  64PE20070830, AR07E,    33,  1,     21,2,20050918,0550, 57.1170, -23.7490, -999,    204.0,  10.1348,  35.3327,2,    248.1,2,    249.8,2,     5.00,2,    12.30,2,     0.78,2,   2139.9,2,   2328.7,2,  10.1108
  64PE20070830, AR07E,    33,  1,     22,2,20050918,0550, 57.1170, -23.7490, -999,     98.0,  10.8522,  35.3921,2,    243.1,2,    247.0,2,     3.30,2,    11.00,2,     0.70,2,   2137.2,2,   2331.2,2,  10.8402
  64PE20070830, AR07E,    33,  1,     23,2,20050918,0550, 57.1170, -23.7490, -999,      9.0,  14.1745,  35.3423,2,    248.2,2,    251.7,2,     0.40,2,     2.20,2,     0.19,2,   2081.8,2,   2330.8,2,  14.1732
  64PE20070830, AR07E,    34,  1,      1,2,20050918,1141, 57.0170, -22.8160, -999,   3074.0,   2.8024,  34.9778,2,    266.6,2,    264.6,2,    16.20,2,    16.50,2,     1.10,2,   2173.7,2,   2318.1,2,   2.5479
  64PE20070830, AR07E,    34,  1,      2,2,20050918,1141, 57.0170, -22.8160, -999,   3026.0,   2.8074,  34.9611,2,    261.5,2,    260.1,2,    20.00,2,    17.50,2,     1.16,2,   2174.9,2,   2323.4,2,   2.5579
  64PE20070830, AR07E,    34,  1,      3,2,20050918,1141, 57.0170, -22.8160, -999,   2977.0,   2.8733,  34.9690,2,    264.8,2,    264.0,2,    16.70,2,    16.80,2,     1.12,2,   2170.8,2,   2319.1,2,   2.6275
  64PE20070830, AR07E,    34,  1,      4,2,20050918,1141, 57.0170, -22.8160, -999,   2751.0,   3.0007,  34.9579,2,    264.8,2,    265.1,2,    15.80,2,    16.90,2,     1.11,2,   2163.8,2,   2317.2,2,   2.7755
  64PE20070830, AR07E,    34,  1,      5,2,20050918,1141, 57.0170, -22.8160, -999,   2500.0,   3.2013,  34.9362,2,    268.5,2,    268.7,2,    12.80,2,    16.80,2,     1.11,2,   2160.0,2,   2313.7,2,   2.9977
  64PE20070830, AR07E,    34,  1,      6,2,20050918,1141, 57.0170, -22.8160, -999,   2249.0,   3.3090,  34.9098,2,    272.2,2,    271.4,2,    11.60,2,    17.10,2,     1.12,2,   2159.9,2,   2308.7,2,   3.1282
  64PE20070830, AR07E,    34,  1,      7,2,20050918,1141, 57.0170, -22.8160, -999,   2000.0,   3.4362,  34.9007,2,    270.9,2,   -999.0,9,  -999.00,9,  -999.00,9,  -999.00,9,   -999.0,9,   -999.0,9,   3.2772
  64PE20070830, AR07E,    34,  1,      8,2,20050918,1141, 57.0170, -22.8160, -999,   1999.0,   3.4384,  34.9012,2,    271.1,2,   -999.0,9,  -999.00,9,  -999.00,9,  -999.00,9,   -999.0,9,   -999.0,9,   3.2795
  64PE20070830, AR07E,    34,  1,      9,2,20050918,1141, 57.0170, -22.8160, -999,   1749.0,   3.6352,  34.9032,2,    268.7,2,    267.5,2,    11.00,2,    17.40,2,     1.14,2,   2158.8,2,   2306.5,2,   3.4968
  64PE20070830, AR07E,    34,  1,     10,2,20050918,1141, 57.0170, -22.8160, -999,   1499.0,   3.8186,  34.9058,2,    266.5,2,    265.8,2,    10.70,2,    17.50,2,     1.14,2,   2165.5,2,   2306.5,2,   3.7007
  64PE20070830, AR07E,    34,  1,     11,2,20050918,1141, 57.0170, -22.8160, -999,   1248.0,   4.2768,  34.9381,2,    256.3,2,    256.4,2,    10.70,2,    17.90,2,     1.17,2,   2163.5,2,   2308.2,2,   4.1765
  64PE20070830, AR07E,    34,  1,     12,2,20050918,1141, 57.0170, -22.8160, -999,   1000.0,   5.3030,  35.0184,2,    234.9,2,    235.2,2,    11.00,2,    18.60,2,     1.21,2,   2172.2,2,   2314.8,2,   5.2166
  64PE20070830, AR07E,    34,  1,     13,2,20050918,1141, 57.0170, -22.8160, -999,    998.0,   5.3128,  35.0195,2,    234.4,2,    234.7,2,    11.00,2,    18.70,2,     1.20,2,   2173.2,2,   2316.5,2,   5.2265
  64PE20070830, AR07E,    34,  1,     14,2,20050918,1141, 57.0170, -22.8160, -999,    901.0,   6.1869,  35.1094,2,    219.6,2,    220.2,2,    11.10,2,    18.70,2,     1.22,2,   2176.6,2,   2318.3,2,   6.1035
  64PE20070830, AR07E,    34,  1,     15,2,20050918,1141, 57.0170, -22.8160, -999,    799.0,   6.6893,  35.1217,2,    211.4,2,    212.4,2,    10.90,2,    19.00,2,     1.22,2,   2173.7,2,   2325.4,3,   6.6129
  64PE20070830, AR07E,    34,  1,     16,2,20050918,1141, 57.0170, -22.8160, -999,    700.0,   7.6350,  35.1795,2,    208.4,2,    210.1,2,    10.10,2,    18.40,2,     1.18,2,   2173.0,2,   2322.2,2,   7.5635
  64PE20070830, AR07E,    34,  1,     17,2,20050918,1141, 57.0170, -22.8160, -999,    599.0,   8.4963,  35.2193,2,    202.3,2,    203.3,2,     9.50,2,    18.00,2,     1.15,2,   2169.1,2,   2326.6,2,   8.4317
  64PE20070830, AR07E,    34,  1,     18,2,20050918,1141, 57.0170, -22.8160, -999,    501.0,   9.0040,  35.2351,2,    211.4,2,    213.3,2,     8.20,2,    16.70,2,     1.06,2,   2160.5,2,   2322.6,2,   8.9484
  64PE20070830, AR07E,    34,  1,     19,2,20050918,1141, 57.0170, -22.8160, -999,    398.0,   9.7578,  35.3324,2,    248.9,2,    250.2,2,     5.10,2,    12.70,2,     0.81,2,   2141.8,2,   2329.5,2,   9.7116
  64PE20070830, AR07E,    34,  1,     20,2,20050918,1141, 57.0170, -22.8160, -999,    299.0,  10.1826,  35.3673,2,    243.3,2,    245.5,2,     5.10,2,    12.40,2,     0.78,2,   2137.3,2,   2331.5,2,  10.1472
  64PE20070830, AR07E,    34,  1,     21,2,20050918,1141, 57.0170, -22.8160, -999,    203.0,  10.4136,  35.3702,2,    241.5,2,    244.0,2,     4.80,2,    12.10,2,     0.77,2,   2137.9,2,   2330.7,2,  10.3893
  64PE20070830, AR07E,    34,  1,     22,2,20050918,1141, 57.0170, -22.8160, -999,    101.0,  11.2378,  35.4310,2,    241.6,2,    243.8,2,     2.90,2,    10.40,2,     0.66,2,   2133.4,2,   2333.7,2,  11.2252
  64PE20070830, AR07E,    34,  1,     23,2,20050918,1141, 57.0170, -22.8160, -999,     10.0,  13.8842,  35.3138,2,    249.6,2,    252.3,2,     0.50,2,     3.00,2,     0.23,2,   2081.2,2,   2329.9,2,  13.8828
  64PE20070830, AR07E,    34,  1,     24,2,20050918,1141, 57.0170, -22.8160, -999,     11.0,  13.8905,  35.3139,2,    249.0,2,    252.5,2,     0.50,2,     3.00,2,     0.24,2,   -999.0,9,   -999.0,9,  13.8889
  64PE20070830, AR07E,    35,  1,      1,2,20050918,1559, 56.9830, -22.3670, -999,   2671.0,   2.8807,  34.9440,2,    261.3,2,    260.7,2,    21.00,2,    18.00,2,     1.19,2,   2174.9,2,   2322.7,2,   2.6660
  64PE20070830, AR07E,    35,  1,      2,2,20050918,1559, 56.9830, -22.3670, -999,   2620.0,   2.8977,  34.9434,2,    261.2,2,    261.2,2,    20.30,2,    17.70,2,     1.18,2,   2170.2,2,   2321.5,2,   2.6878
  64PE20070830, AR07E,    35,  1,      3,2,20050918,1559, 56.9830, -22.3670, -999,   2570.0,   2.9714,  34.9395,2,    263.4,2,    263.7,2,    18.30,2,    17.60,2,     1.16,2,   2169.6,2,   2317.0,2,   2.7651
  64PE20070830, AR07E,    35,  1,      4,2,20050918,1559, 56.9830, -22.3670, -999,   2539.0,   3.0093,  34.9371,2,    264.9,2,    264.8,2,    17.30,2,    17.50,2,     1.15,2,   2165.7,2,   2316.4,2,   2.8053
  64PE20070830, AR07E,    35,  1,      5,2,20050918,1559, 56.9830, -22.3670, -999,   2284.0,   3.2510,  34.9222,2,    272.4,2,    272.5,2,    11.80,2,    16.90,2,     1.11,2,   2157.8,2,   2308.7,2,   3.0678
  64PE20070830, AR07E,    35,  1,      6,2,20050918,1559, 56.9830, -22.3670, -999,   2029.0,   3.3699,  34.9024,2,    273.0,2,    272.8,2,    11.40,2,    17.30,2,     1.13,2,   2157.4,2,   2308.4,2,   3.2092
  64PE20070830, AR07E,    35,  1,      7,2,20050918,1559, 56.9830, -22.3670, -999,   2031.0,   3.3719,  34.9021,2,    272.8,2,    272.5,2,    11.40,2,    17.10,2,     1.13,2,   2158.2,2,   2305.8,2,   3.2110
  64PE20070830, AR07E,    35,  1,      8,2,20050918,1559, 56.9830, -22.3670, -999,   1773.0,   3.5667,  34.9029,2,    270.4,2,   -999.0,9,    11.00,2,    17.40,2,     1.13,2,   2158.5,2,   2307.2,2,   3.4270
  64PE20070830, AR07E,    35,  1,      9,2,20050918,1559, 56.9830, -22.3670, -999,   1518.0,   3.7462,  34.9027,2,    268.9,2,    270.0,2,    10.70,2,    17.40,2,     1.13,2,   2159.2,2,   2305.1,2,   3.6274
  64PE20070830, AR07E,    35,  1,     10,2,20050918,1559, 56.9830, -22.3670, -999,   1268.0,   4.1218,  34.9251,2,    261.5,2,    262.4,2,    10.60,2,    17.70,2,     1.15,2,   2162.5,2,   2305.9,2,   4.0213
  64PE20070830, AR07E,    35,  1,     11,2,20050918,1559, 56.9830, -22.3670, -999,   1011.0,   5.1766,  35.0285,2,    238.9,2,    245.0,2,    11.00,2,    18.40,2,     1.19,2,   2169.2,2,   2314.8,2,   5.0901
  64PE20070830, AR07E,    35,  1,     12,2,20050918,1559, 56.9830, -22.3670, -999,   1016.0,   5.0184,  35.0083,2,    240.4,2,    242.8,2,    11.00,2,    18.40,2,     1.19,2,   -999.0,9,   -999.0,9,   4.9327
  64PE20070830, AR07E,    35,  1,     13,2,20050918,1559, 56.9830, -22.3670, -999,    912.0,   5.8054,  35.0788,2,    226.0,2,    223.6,2,    11.10,2,    18.70,2,     1.21,2,   -999.0,9,   -999.0,9,   5.7236
  64PE20070830, AR07E,    35,  1,     14,2,20050918,1559, 56.9830, -22.3670, -999,    809.0,   6.4870,  35.1063,2,    215.5,2,    210.6,2,    11.00,2,    19.00,2,     1.22,2,   -999.0,9,   -999.0,9,   6.4108
  64PE20070830, AR07E,    35,  1,     15,2,20050918,1559, 56.9830, -22.3670, -999,    708.0,   7.2089,  35.1272,2,    203.4,2,   -999.0,9,    10.80,2,    19.20,2,     1.24,2,   -999.0,9,   -999.0,9,   7.1389
  64PE20070830, AR07E,    35,  1,     16,2,20050918,1559, 56.9830, -22.3670, -999,    604.0,   8.0793,  35.1647,2,    201.2,2,   -999.0,9,     9.80,2,    18.50,2,     1.18,2,   -999.0,9,   -999.0,9,   8.0161
  64PE20070830, AR07E,    35,  1,     17,2,20050918,1559, 56.9830, -22.3670, -999,    505.0,   9.2971,  35.2808,2,    219.6,2,   -999.0,9,     7.40,2,    15.70,2,     0.99,2,   -999.0,9,   -999.0,9,   9.2399
  64PE20070830, AR07E,    35,  1,     18,2,20050918,1559, 56.9830, -22.3670, -999,    402.0,   9.9144,  35.3430,2,    235.4,2,   -999.0,9,     5.70,2,    13.40,2,     0.85,2,   -999.0,9,   -999.0,9,   9.8673
  64PE20070830, AR07E,    35,  1,     19,2,20050918,1559, 56.9830, -22.3670, -999,    302.0,  10.0981,  35.3236,2,    243.1,2,   -999.0,9,     5.40,2,    12.90,2,     0.81,2,   -999.0,9,   -999.0,9,  10.0625
  64PE20070830, AR07E,    35,  1,     20,2,20050918,1559, 56.9830, -22.3670, -999,    200.0,  10.6886,  35.3999,2,    237.3,2,   -999.0,9,     4.80,2,    12.20,2,     0.76,2,   -999.0,9,   -999.0,9,  10.6643
  64PE20070830, AR07E,    35,  1,     21,2,20050918,1559, 56.9830, -22.3670, -999,    100.0,  11.6551,  35.4802,2,    238.9,2,   -999.0,9,     2.60,2,    10.20,2,     0.63,2,   -999.0,9,   -999.0,9,  11.6423
  64PE20070830, AR07E,    35,  1,     22,2,20050918,1559, 56.9830, -22.3670, -999,     10.0,  14.3104,  35.3930,2,    246.7,2,   -999.0,9,     0.40,2,     2.10,2,     0.17,2,   -999.0,9,   -999.0,9,  14.3089