BOTTLE,20010413WHPSIOKJU
EXPOCODE,SECT_ID,STNNBR,CASTNO,SAMPNO,BTLNBR,BTLNBR_FLAG_W,DATE,TIME,LATITUDE,LONGITUDE,DEPTH,CTDPRS,CTDTMP,CTDSAL,CTDSAL_FLAG_W,SALNTY,SALNTY_FLAG_W,OXYGEN,OXYGEN_FLAG_W,NITRAT,NITRAT_FLAG_W,NITRIT,NITRIT_FLAG_W,PHSPHT,PHSPHT_FLAG_W
,,,,,,,,,,,,DBAR,DEG C,PSS-78,,PSS-78,,UMOL/KG,,UMOL/KG,,UMOL/KG,,UMOL/KG,
    49RY9306_1,  PR04,RY8468,  1,      1,      1,2,19930615,2344, 24.0117, 154.9920, 5503,      0.0,  28.9355,  35.2860,2,-999.0000,9,    199.0,2,     0.20,2,     0.01,2,     0.03,2
    49RY9306_1,  PR04,RY8468,  1,      2,      2,2,19930615,2344, 24.0117, 154.9920, 5503,     24.7,  25.8702,  35.1690,2,-999.0000,9,    213.0,2,     0.10,2,     0.01,2,     0.03,2
    49RY9306_1,  PR04,RY8468,  1,      3,      3,2,19930615,2344, 24.0117, 154.9920, 5503,     49.8,  23.5490,  35.1220,2,-999.0000,9,    219.0,2,     0.10,2,     0.01,2,     0.03,2
    49RY9306_1,  PR04,RY8468,  1,      4,      4,2,19930615,2344, 24.0117, 154.9920, 5503,     99.9,  20.8873,  35.0350,2,-999.0000,9,    216.0,2,     0.20,2,     0.06,2,     0.04,2
    49RY9306_1,  PR04,RY8468,  1,      5,      5,2,19930615,2344, 24.0117, 154.9920, 5503,    151.1,  19.1734,  34.9640,2,-999.0000,9,    194.0,2,     2.40,2,     0.04,2,     0.23,2
    49RY9306_1,  PR04,RY8468,  1,      6,      6,2,19930615,2344, 24.0117, 154.9920, 5503,    200.6,  17.6419,  34.8350,2,-999.0000,9,    202.0,2,     3.80,2,     0.02,2,     0.31,2
    49RY9306_1,  PR04,RY8468,  1,      7,      7,2,19930615,2344, 24.0117, 154.9920, 5503,    301.6,  14.8662,  34.5930,2,-999.0000,9,    197.0,2,     8.10,2,     0.01,2,     0.63,2
    49RY9306_1,  PR04,RY8468,  1,      8,      8,2,19930615,2344, 24.0117, 154.9920, 5503,    402.9,  12.0709,  34.3580,2,-999.0000,9,    196.0,2,    12.50,2,     0.00,2,     0.95,2
    49RY9306_1,  PR04,RY8468,  1,      9,      9,2,19930615,2344, 24.0117, 154.9920, 5503,    503.3,   9.4259,  34.1800,2,-999.0000,9,    163.0,2,    20.30,2,     0.01,2,     1.53,2
    49RY9306_1,  PR04,RY8468,  1,     10,     10,2,19930615,2344, 24.0117, 154.9920, 5503,    604.4,   7.2334,  34.0900,2,-999.0000,9,    143.0,2,    26.90,2,     0.01,2,     1.98,2
    49RY9306_1,  PR04,RY8468,  1,     11,     11,2,19930615,2344, 24.0117, 154.9920, 5503,    806.4,   4.8425,  34.1970,2,-999.0000,9,     65.0,2,    38.40,2,     0.00,2,     2.81,2
    49RY9306_1,  PR04,RY8468,  1,     12,     12,2,19930615,2344, 24.0117, 154.9920, 5503,   1007.5,   3.8663,  34.3640,2,-999.0000,9,     52.0,2,    41.10,2,     0.00,2,     2.98,2
    49RY9306_1,  PR04,RY8468,  1,     13,     13,2,19930615,2344, 24.0117, 154.9920, 5503,   1261.2,   3.1013,  34.4810,2,-999.0000,9,     62.0,2,    41.30,2,     0.01,2,     2.98,2
    49RY9306_1,  PR04,RY8469,  1,      1,      1,2,19930616,0634, 23.0368, 155.0012, 5316,      0.0,  29.6965,  35.0560,2,-999.0000,9,   -999.0,5,     0.20,2,     0.01,2,     0.05,2
    49RY9306_1,  PR04,RY8469,  1,      2,      2,2,19930616,0634, 23.0368, 155.0012, 5316,     24.9,  29.0461,  35.0380,2,-999.0000,9,    203.0,2,     0.10,2,     0.02,2,     0.05,2
    49RY9306_1,  PR04,RY8469,  1,      3,      3,2,19930616,0634, 23.0368, 155.0012, 5316,     50.4,  26.0994,  35.0720,2,-999.0000,9,    214.0,2,     0.20,2,     0.01,2,     0.04,2
    49RY9306_1,  PR04,RY8469,  1,      4,      4,2,19930616,0634, 23.0368, 155.0012, 5316,    100.0,  23.1493,  35.1230,2,-999.0000,9,    216.0,2,     0.20,2,     0.02,2,     0.04,2
    49RY9306_1,  PR04,RY8469,  1,      5,      5,2,19930616,0634, 23.0368, 155.0012, 5316,    150.0,  20.7644,  35.0480,2,-999.0000,9,    204.0,2,     0.70,2,     0.11,2,     0.10,2
    49RY9306_1,  PR04,RY8469,  1,      6,      6,2,19930616,0634, 23.0368, 155.0012, 5316,    202.3,  18.4338,  34.8960,2,-999.0000,9,    198.0,2,     2.80,2,     0.02,2,     0.28,2
    49RY9306_1,  PR04,RY8469,  1,      7,      7,2,19930616,0634, 23.0368, 155.0012, 5316,    300.5,  15.6992,  34.6610,2,-999.0000,9,    195.0,2,     6.90,2,     0.01,2,     0.58,2
    49RY9306_1,  PR04,RY8469,  1,      8,      8,2,19930616,0634, 23.0368, 155.0012, 5316,    403.2,  12.4908,  34.3930,2,-999.0000,9,    192.0,2,    12.10,2,     0.01,2,     0.93,2
    49RY9306_1,  PR04,RY8469,  1,      9,      9,2,19930616,0634, 23.0368, 155.0012, 5316,    503.3,   9.6263,  34.1890,2,-999.0000,9,    167.0,2,    19.80,2,     0.00,2,     1.49,2
    49RY9306_1,  PR04,RY8469,  1,     10,     10,2,19930616,0634, 23.0368, 155.0012, 5316,    605.0,   7.2774,  34.1060,2,-999.0000,9,    125.0,2,    28.60,2,     0.01,2,     2.13,2
    49RY9306_1,  PR04,RY8469,  1,     11,     11,2,19930616,0634, 23.0368, 155.0012, 5316,    806.3,   4.9286,  34.2390,2,-999.0000,9,     56.0,2,    39.20,2,     0.00,2,     2.91,2
    49RY9306_1,  PR04,RY8469,  1,     12,     12,2,19930616,0634, 23.0368, 155.0012, 5316,   1008.7,   4.0185,  34.4120,2,-999.0000,9,     55.0,2,    41.00,2,     0.00,2,     2.98,2
    49RY9306_1,  PR04,RY8469,  1,     13,     13,2,19930616,0634, 23.0368, 155.0012, 5316,   1260.0,   3.2344,  34.5120,2,-999.0000,9,     71.0,2,    40.80,2,     0.01,2,     2.95,2
    49RY9306_1,  PR04,RY8470,  1,      1,      1,2,19930616,1337, 22.0143, 154.9983, 5537,      0.0,  29.5010,  35.0560,2,-999.0000,9,    198.0,2,     0.10,2,     0.00,2,     0.06,2
    49RY9306_1,  PR04,RY8470,  1,      2,      2,2,19930616,1337, 22.0143, 154.9983, 5537,     25.2,  27.8141,  35.1420,2,-999.0000,9,    214.0,2,     0.00,2,     0.00,2,     0.03,2
    49RY9306_1,  PR04,RY8470,  1,      3,      3,2,19930616,1337, 22.0143, 154.9983, 5537,     49.5,  25.2532,  35.1160,2,-999.0000,9,    223.0,2,     0.10,2,     0.00,2,     0.03,2
    49RY9306_1,  PR04,RY8470,  1,      4,      4,2,19930616,1337, 22.0143, 154.9983, 5537,    100.6,  23.1225,  35.1020,2,-999.0000,9,    217.0,2,     0.10,2,     0.00,2,     0.03,2
    49RY9306_1,  PR04,RY8470,  1,      5,      5,2,19930616,1337, 22.0143, 154.9983, 5537,    151.5,  19.7770,  34.9460,2,-999.0000,9,    213.0,2,     0.90,2,     0.03,2,     0.11,2
    49RY9306_1,  PR04,RY8470,  1,      6,      6,2,19930616,1337, 22.0143, 154.9983, 5537,    201.6,  18.3756,  34.8550,2,-999.0000,9,    229.0,2,     1.10,2,     0.05,2,     0.13,2
    49RY9306_1,  PR04,RY8470,  1,      7,      7,2,19930616,1337, 22.0143, 154.9983, 5537,    301.8,  16.2473,  34.7050,2,-999.0000,9,    207.0,2,     5.40,2,     0.01,2,     0.44,2
    49RY9306_1,  PR04,RY8470,  1,      8,      8,2,19930616,1337, 22.0143, 154.9983, 5537,    403.1,  13.0122,  34.4220,2,-999.0000,9,    198.0,2,    11.00,2,     0.00,2,     0.87,2
    49RY9306_1,  PR04,RY8470,  1,      9,      9,2,19930616,1337, 22.0143, 154.9983, 5537,    504.7,  10.0061,  34.2010,2,-999.0000,9,    183.0,2,    18.00,2,     0.00,2,     1.37,2
    49RY9306_1,  PR04,RY8470,  1,     10,     10,2,19930616,1337, 22.0143, 154.9983, 5537,    605.5,   7.5190,  34.0940,2,-999.0000,9,    145.0,2,    26.20,2,     0.00,2,     1.96,2
    49RY9306_1,  PR04,RY8470,  1,     11,     11,2,19930616,1337, 22.0143, 154.9983, 5537,    806.9,   4.8708,  34.2650,2,-999.0000,9,     54.0,2,    39.30,2,     0.00,2,     2.92,2
    49RY9306_1,  PR04,RY8470,  1,     12,     12,2,19930616,1337, 22.0143, 154.9983, 5537,   1008.8,   4.0337,  34.4220,2,-999.0000,9,     60.0,2,    40.40,2,     0.00,2,     2.97,2
    49RY9306_1,  PR04,RY8470,  1,     13,     13,2,19930616,1337, 22.0143, 154.9983, 5537,   1260.5,   3.1728,  34.5100,2,-999.0000,9,     72.0,2,    40.30,2,     0.01,2,     2.93,2
    49RY9306_1,  PR04,RY8471,  1,      1,      1,2,19930616,2058, 21.0118, 155.0247, 2651,      0.0,  29.5040,  35.0240,2,-999.0000,9,    197.0,2,     0.20,2,     0.02,2,     0.03,2
    49RY9306_1,  PR04,RY8471,  1,      2,      2,2,19930616,2058, 21.0118, 155.0247, 2651,     24.0,  27.7840,  35.0760,2,-999.0000,9,    209.0,2,     0.20,2,     0.02,2,     0.03,2
    49RY9306_1,  PR04,RY8471,  1,      3,      3,2,19930616,2058, 21.0118, 155.0247, 2651,     50.1,  25.9423,  35.0880,2,-999.0000,9,    216.0,2,     0.10,2,     0.02,2,     0.03,2
    49RY9306_1,  PR04,RY8471,  1,      4,      4,2,19930616,2058, 21.0118, 155.0247, 2651,    101.5,  24.0058,  35.1490,2,-999.0000,9,    211.0,2,     0.10,2,     0.01,2,     0.03,2
    49RY9306_1,  PR04,RY8471,  1,      5,      5,2,19930616,2058, 21.0118, 155.0247, 2651,    149.3,  21.8743,  35.1090,2,-999.0000,9,    201.0,2,     0.60,2,     0.09,2,     0.10,2
    49RY9306_1,  PR04,RY8471,  1,      6,      6,2,19930616,2058, 21.0118, 155.0247, 2651,    201.0,  19.0039,  34.9370,2,-999.0000,9,    200.0,2,     2.20,2,     0.03,2,     0.22,2
    49RY9306_1,  PR04,RY8471,  1,      7,      7,2,19930616,2058, 21.0118, 155.0247, 2651,    302.1,  16.1816,  34.7090,2,-999.0000,9,    204.0,2,     5.60,2,     0.01,2,     0.43,2
    49RY9306_1,  PR04,RY8471,  1,      8,      8,2,19930616,2058, 21.0118, 155.0247, 2651,    402.8,  12.7980,  34.4010,2,-999.0000,9,    195.0,2,    11.30,2,     0.01,2,     0.86,2
    49RY9306_1,  PR04,RY8471,  1,      9,      9,2,19930616,2058, 21.0118, 155.0247, 2651,    503.1,   9.2424,  34.1660,2,-999.0000,9,    166.0,2,    20.50,2,     0.00,2,     1.52,2
    49RY9306_1,  PR04,RY8471,  1,     10,     10,2,19930616,2058, 21.0118, 155.0247, 2651,    602.6,   7.2511,  34.1210,2,-999.0000,9,    113.0,2,    29.50,2,     0.01,2,     2.15,2
    49RY9306_1,  PR04,RY8471,  1,     11,     11,2,19930616,2058, 21.0118, 155.0247, 2651,    805.7,   4.9193,  34.3010,2,-999.0000,9,     54.0,2,    39.50,2,     0.01,2,     2.85,2
    49RY9306_1,  PR04,RY8471,  1,     12,     12,2,19930616,2058, 21.0118, 155.0247, 2651,   1007.9,   3.9918,  34.4370,2,-999.0000,9,     62.0,2,    40.30,2,     0.00,2,     2.91,2
    49RY9306_1,  PR04,RY8471,  1,     13,     13,2,19930616,2058, 21.0118, 155.0247, 2651,   1263.0,   3.2649,  34.5190,2,-999.0000,9,     86.0,2,    39.90,2,     0.02,2,     2.85,2
    49RY9306_1,  PR04,RY8472,  1,      1,      1,2,19930617,0350, 19.9698, 154.9987, 5362,      0.0,  29.9723,  35.0320,2,-999.0000,9,    193.0,2,     0.00,2,     0.02,2,     0.04,2
    49RY9306_1,  PR04,RY8472,  1,      2,      2,2,19930617,0350, 19.9698, 154.9987, 5362,     10.3,  29.4250,  34.9810,2,  34.9834,2,    201.0,2,     0.00,2,     0.03,2,     0.05,2
    49RY9306_1,  PR04,RY8472,  1,      3,      3,2,19930617,0350, 19.9698, 154.9987, 5362,     25.1,  27.7339,  35.0470,2,-999.0000,9,    210.0,2,     0.00,2,     0.01,2,     0.04,2
    49RY9306_1,  PR04,RY8472,  1,      4,      4,2,19930617,0350, 19.9698, 154.9987, 5362,     50.1,  26.2441,  35.0490,2,  35.0501,2,    216.0,2,     0.00,2,     0.03,2,     0.04,2
    49RY9306_1,  PR04,RY8472,  1,      5,      5,2,19930617,0350, 19.9698, 154.9987, 5362,     75.7,  25.2976,  35.1240,2,-999.0000,9,    218.0,2,     0.00,2,     0.01,2,     0.04,2
    49RY9306_1,  PR04,RY8472,  1,      6,      6,2,19930617,0350, 19.9698, 154.9987, 5362,    100.5,  24.1293,  35.1830,2,-999.0000,9,    202.0,2,     0.00,2,     0.02,2,     0.05,2
    49RY9306_1,  PR04,RY8472,  1,      7,      7,2,19930617,0350, 19.9698, 154.9987, 5362,    126.1,  22.6955,  35.2090,2,-999.0000,9,    190.0,2,     0.30,2,     0.15,2,     0.12,2
    49RY9306_1,  PR04,RY8472,  1,      8,      8,2,19930617,0350, 19.9698, 154.9987, 5362,    150.9,  21.4436,  35.1120,2,-999.0000,9,    187.0,2,     0.90,2,     0.04,2,     0.20,2
    49RY9306_1,  PR04,RY8472,  1,      9,      9,2,19930617,0350, 19.9698, 154.9987, 5362,    175.6,  20.2429,  35.0480,2,-999.0000,9,    195.0,2,     1.20,2,     0.03,2,     0.19,2
    49RY9306_1,  PR04,RY8472,  1,     10,     10,2,19930617,0350, 19.9698, 154.9987, 5362,    200.6,  18.8510,  34.9630,2,-999.0000,9,    203.0,2,     1.50,2,     0.04,2,     0.18,2
    49RY9306_1,  PR04,RY8472,  1,     11,     11,2,19930617,0350, 19.9698, 154.9987, 5362,    250.8,  17.0990,  34.7880,2,  34.8097,2,    196.0,2,     4.20,2,     0.02,2,     0.40,2
    49RY9306_1,  PR04,RY8472,  1,     12,     12,2,19930617,0350, 19.9698, 154.9987, 5362,    302.0,  15.8577,  34.6850,2,-999.0000,9,    203.0,2,     6.00,2,     0.02,2,     0.49,2
    49RY9306_1,  PR04,RY8472,  1,     13,     13,2,19930617,0350, 19.9698, 154.9987, 5362,    403.4,  12.7711,  34.4260,2,  34.4281,2,    194.0,2,    11.70,2,     0.04,2,     0.90,2
    49RY9306_1,  PR04,RY8472,  2,     14,     14,2,19930617,0533, 19.9685, 155.0007, 5357,    502.5,   9.0964,  34.1720,2,-999.0000,9,    174.0,2,    20.40,2,     0.02,2,     1.54,2
    49RY9306_1,  PR04,RY8472,  2,     15,     15,2,19930617,0533, 19.9685, 155.0007, 5357,    603.7,   7.0098,  34.1430,2,-999.0000,9,    106.0,2,    31.00,2,     0.00,2,     2.34,2
    49RY9306_1,  PR04,RY8472,  2,     16,     16,2,19930617,0533, 19.9685, 155.0007, 5357,    704.9,   5.7185,  34.2390,2,  34.2434,2,     63.0,2,    37.70,2,     0.01,2,     2.81,2
    49RY9306_1,  PR04,RY8472,  2,     17,     17,2,19930617,0533, 19.9685, 155.0007, 5357,    805.2,   5.0050,  34.3170,2,  34.3193,2,     59.0,2,    40.20,2,     0.02,2,     2.96,2
    49RY9306_1,  PR04,RY8472,  2,     18,     18,2,19930617,0533, 19.9685, 155.0007, 5357,    906.0,   4.6580,  34.4070,2,  34.4110,2,     59.0,2,    40.30,2,     0.01,2,     2.97,2
    49RY9306_1,  PR04,RY8472,  2,     19,     19,2,19930617,0533, 19.9685, 155.0007, 5357,   1007.5,   4.2760,  34.4730,2,-999.0000,9,     68.0,2,    40.10,2,     0.00,2,     2.91,2
    49RY9306_1,  PR04,RY8472,  2,     20,     20,2,19930617,0533, 19.9685, 155.0007, 5357,   1260.1,   3.2973,  34.5300,2,  34.5301,2,     77.0,2,    40.50,2,     0.00,2,     2.95,2
    49RY9306_1,  PR04,RY8472,  2,     21,     21,2,19930617,0533, 19.9685, 155.0007, 5357,   1513.5,   2.6988,  34.5710,2,  34.5720,2,     92.0,2,    40.10,2,     0.00,2,     2.91,2
    49RY9306_1,  PR04,RY8472,  2,     22,     22,2,19930617,0533, 19.9685, 155.0007, 5357,   2021.4,   2.0522,  34.6250,2,  34.6230,2,    111.0,2,    39.40,2,     0.01,2,     2.83,2
    49RY9306_1,  PR04,RY8472,  2,     23,     23,2,19930617,0533, 19.9685, 155.0007, 5357,   2530.7,   1.7411,  34.6500,2,  34.6526,2,    128.0,2,    38.50,2,     0.01,2,     2.78,2
    49RY9306_1,  PR04,RY8472,  2,     24,     24,2,19930617,0533, 19.9685, 155.0007, 5357,   3040.4,   1.6086,  34.6700,2,-999.0000,5,    139.0,2,    38.00,2,     0.00,2,     2.69,2
    49RY9306_1,  PR04,RY8472,  2,     25,     25,2,19930617,0533, 19.9685, 155.0007, 5357,   4071.4,   1.4806,  34.6880,2,  34.6849,2,    164.0,2,    36.40,2,     0.01,2,     2.60,2
    49RY9306_1,  PR04,RY8473,  1,      1,      1,2,19930617,1223, 19.0075, 154.9982, 5646,      0.0,  29.2180,  35.0120,2,-999.0000,9,    222.0,2,     0.10,2,     0.00,2,     0.10,2
    49RY9306_1,  PR04,RY8473,  1,      2,      2,2,19930617,1223, 19.0075, 154.9982, 5646,     26.0,  28.5310,  34.9860,2,-999.0000,9,    203.0,2,     0.10,2,     0.00,2,     0.06,2
    49RY9306_1,  PR04,RY8473,  1,      3,      3,2,19930617,1223, 19.0075, 154.9982, 5646,     50.7,  27.4670,  34.9880,2,-999.0000,9,    206.0,2,     0.10,2,     0.00,2,     0.04,2
    49RY9306_1,  PR04,RY8473,  1,      4,      4,2,19930617,1223, 19.0075, 154.9982, 5646,    100.8,  25.8403,  35.0730,2,-999.0000,9,    213.0,2,     0.10,2,     0.00,2,     0.04,2
    49RY9306_1,  PR04,RY8473,  1,      5,      5,2,19930617,1223, 19.0075, 154.9982, 5646,    150.5,  23.9696,  35.1690,2,-999.0000,9,    209.0,2,     0.10,2,     0.00,2,     0.03,2
    49RY9306_1,  PR04,RY8473,  1,      6,      6,2,19930617,1223, 19.0075, 154.9982, 5646,    201.8,  20.3621,  35.0760,2,-999.0000,9,    213.0,2,     1.70,2,     0.02,2,     0.17,2
    49RY9306_1,  PR04,RY8473,  1,      7,      7,2,19930617,1223, 19.0075, 154.9982, 5646,    302.3,  15.9274,  34.6900,2,-999.0000,9,    203.0,2,     6.10,2,     0.00,2,     0.47,2
    49RY9306_1,  PR04,RY8473,  1,      8,      8,2,19930617,1223, 19.0075, 154.9982, 5646,    402.6,  11.6179,  34.3210,2,-999.0000,9,    189.0,2,    14.20,2,     0.00,2,     1.07,2
    49RY9306_1,  PR04,RY8473,  1,      9,      9,2,19930617,1223, 19.0075, 154.9982, 5646,    503.5,   9.0644,  34.2460,2,-999.0000,9,    117.0,2,    25.90,2,     0.00,2,     1.94,2
    49RY9306_1,  PR04,RY8473,  1,     10,     10,2,19930617,1223, 19.0075, 154.9982, 5646,    604.1,   6.8324,  34.1870,2,-999.0000,9,     86.0,2,    33.10,2,     0.00,2,     2.46,2
    49RY9306_1,  PR04,RY8473,  1,     11,     11,2,19930617,1223, 19.0075, 154.9982, 5646,    807.0,   4.9995,  34.3300,2,-999.0000,9,     53.0,2,    39.80,2,     0.01,2,     2.91,2
    49RY9306_1,  PR04,RY8473,  1,     12,     12,2,19930617,1223, 19.0075, 154.9982, 5646,   1008.3,   4.1249,  34.4700,2,-999.0000,9,     68.0,2,    40.20,2,     0.00,2,     2.92,2
    49RY9306_1,  PR04,RY8473,  1,     13,     13,2,19930617,1223, 19.0075, 154.9982, 5646,   1262.1,   3.2672,  34.5380,2,-999.0000,9,     81.0,2,    40.00,2,     0.02,2,     2.90,2
    49RY9306_1,  PR04,RY8474,  1,      1,      1,2,19930618,0305, 18.0057, 155.0077, 5667,      0.0,  29.6205,  35.0550,2,-999.0000,9,    198.0,2,     0.20,2,     0.03,2,     0.08,2
    49RY9306_1,  PR04,RY8474,  1,      2,      2,2,19930618,0305, 18.0057, 155.0077, 5667,     25.3,  28.6709,  35.0330,2,  35.0387,2,    201.0,2,     0.10,2,     0.01,2,     0.06,2
    49RY9306_1,  PR04,RY8474,  1,      3,      3,2,19930618,0305, 18.0057, 155.0077, 5667,     50.4,  27.7404,  34.9800,2,  34.9779,2,    205.0,2,     0.10,2,     0.01,2,     0.06,2
    49RY9306_1,  PR04,RY8474,  1,      4,      4,2,19930618,0305, 18.0057, 155.0077, 5667,    100.5,  25.8744,  35.0420,2,  35.0464,2,    212.0,2,     0.10,2,     0.01,2,     0.05,2
    49RY9306_1,  PR04,RY8474,  1,      5,      5,2,19930618,0305, 18.0057, 155.0077, 5667,    150.6,  24.2028,  35.1830,2,  35.1850,2,    204.0,2,     0.10,2,     0.01,2,     0.05,2
    49RY9306_1,  PR04,RY8474,  1,      6,      6,2,19930618,0305, 18.0057, 155.0077, 5667,    200.9,  20.8872,  35.1230,2,  35.1319,2,    183.0,2,     1.90,2,     0.03,2,     0.24,2
    49RY9306_1,  PR04,RY8474,  1,      7,      7,2,19930618,0305, 18.0057, 155.0077, 5667,    301.0,  15.3384,  34.6230,2,-999.0000,9,    194.0,2,     7.20,2,     0.01,2,     0.60,2
    49RY9306_1,  PR04,RY8474,  1,      8,      8,2,19930618,0305, 18.0057, 155.0077, 5667,    402.6,  10.7247,  34.2490,2,-999.0000,9,    183.0,2,    16.10,2,     0.00,2,     1.24,2
    49RY9306_1,  PR04,RY8474,  1,      9,      9,2,19930618,0305, 18.0057, 155.0077, 5667,    502.9,   7.6592,  34.1690,2,  34.1608,2,    112.0,2,    29.00,2,     0.00,2,     2.19,2
    49RY9306_1,  PR04,RY8474,  1,     10,     10,2,19930618,0305, 18.0057, 155.0077, 5667,    603.5,   6.5694,  34.2850,2,  34.2864,2,     68.0,2,    35.70,2,     0.01,2,     2.68,2
    49RY9306_1,  PR04,RY8474,  1,     11,     11,2,19930618,0305, 18.0057, 155.0077, 5667,    805.6,   5.2590,  34.4480,2,  34.4527,2,     64.0,2,    39.00,2,     0.00,2,     2.89,2
    49RY9306_1,  PR04,RY8474,  1,     12,     12,2,19930618,0305, 18.0057, 155.0077, 5667,   1007.8,   4.5068,  34.5120,2,  34.5149,2,     75.0,2,    39.70,2,     0.01,2,     2.92,2
    49RY9306_1,  PR04,RY8474,  1,     13,     13,2,19930618,0305, 18.0057, 155.0077, 5667,   1263.1,   3.6181,  34.5520,2,  34.5521,2,     80.0,2,    40.00,2,     0.00,2,     2.95,2