BOTTLE,20010413WHPSIOKJU
#code : jjward hyd_to_exchange.pl 
#original files copied from HTML directory: 20010413
#original HYD file: pr04_dhy.txt   Fri Apr 13 13:56:20 2001
#original SUM file: pr04_dsu.txt   Tue Mar 27 13:51:30 2001
EXPOCODE,SECT_ID,STNNBR,CASTNO,SAMPNO,BTLNBR,BTLNBR_FLAG_W,DATE,TIME,LATITUDE,LONGITUDE,DEPTH,CTDPRS,CTDTMP,CTDSAL,CTDSAL_FLAG_W,SALNTY,SALNTY_FLAG_W,OXYGEN,OXYGEN_FLAG_W,NITRAT,NITRAT_FLAG_W,NITRIT,NITRIT_FLAG_W,PHSPHT,PHSPHT_FLAG_W
,,,,,,,,,,,,DBAR,DEG C,PSS-78,,PSS-78,,UMOL/KG,,UMOL/KG,,UMOL/KG,,UMOL/KG,
    49RY9306_1,  PR04,RY8462,  1,      1,      1,2,19930614,0232, 30.0028, 154.9817, 5498,      0.0,  23.3615,  35.1020,2,-999.0000,9,    216.0,2,     0.10,2,     0.01,2,     0.03,2
    49RY9306_1,  PR04,RY8462,  1,      2,      2,2,19930614,0232, 30.0028, 154.9817, 5498,     11.9,  23.1738,  35.0850,2,  35.0876,2,    219.0,2,     0.00,2,     0.01,2,     0.03,2
    49RY9306_1,  PR04,RY8462,  1,      3,      3,2,19930614,0232, 30.0028, 154.9817, 5498,     26.7,  21.4566,  35.1200,2,-999.0000,9,    236.0,2,     0.00,2,     0.01,2,     0.02,2
    49RY9306_1,  PR04,RY8462,  1,      4,      4,2,19930614,0232, 30.0028, 154.9817, 5498,     51.5,  19.9153,  35.0190,2,-999.0000,9,    230.0,2,     0.00,2,     0.00,2,     0.03,2
    49RY9306_1,  PR04,RY8462,  1,      5,      5,2,19930614,0232, 30.0028, 154.9817, 5498,     77.5,  19.0953,  34.9480,2,-999.0000,9,    228.0,2,     0.00,2,     0.06,2,     0.08,2
    49RY9306_1,  PR04,RY8462,  1,      6,      6,2,19930614,0232, 30.0028, 154.9817, 5498,    101.8,  18.3716,  34.8820,2,-999.0000,9,    230.0,2,     0.20,2,     0.19,2,     0.10,2
    49RY9306_1,  PR04,RY8462,  1,      7,      7,2,19930614,0232, 30.0028, 154.9817, 5498,    126.0,  18.0866,  34.8700,2,-999.0000,9,    228.0,2,     1.00,2,     0.04,2,     0.14,2
    49RY9306_1,  PR04,RY8462,  1,      8,      8,2,19930614,0232, 30.0028, 154.9817, 5498,    151.9,  17.8587,  34.8440,2,-999.0000,9,    227.0,2,     1.20,2,     0.05,2,     0.20,2
    49RY9306_1,  PR04,RY8462,  1,      9,      9,2,19930614,0232, 30.0028, 154.9817, 5498,    176.9,  17.6068,  34.8240,2,-999.0000,9,    222.0,2,     2.00,2,     0.02,2,     0.22,2
    49RY9306_1,  PR04,RY8462,  1,     10,     10,2,19930614,0232, 30.0028, 154.9817, 5498,    203.2,  17.4461,  34.8170,2,  34.8195,2,    225.0,2,     2.10,2,     0.02,2,     0.23,2
    49RY9306_1,  PR04,RY8462,  1,     11,     11,2,19930614,0232, 30.0028, 154.9817, 5498,    252.6,  17.1046,  34.7870,2,-999.0000,9,    218.0,2,     3.10,2,     0.01,2,     0.29,2
    49RY9306_1,  PR04,RY8462,  1,     12,     12,2,19930614,0232, 30.0028, 154.9817, 5498,    301.9,  16.8768,  34.7760,2,-999.0000,9,    223.0,2,     3.10,2,     0.01,2,     0.33,2
    49RY9306_1,  PR04,RY8462,  1,     13,     13,2,19930614,0232, 30.0028, 154.9817, 5498,    406.9,  15.6442,  34.6690,2,  34.6729,2,    208.0,2,     6.20,2,     0.01,2,     0.51,2
    49RY9306_1,  PR04,RY8462,  2,     14,     14,2,19930614,0428, 29.9868, 154.9720, 5250,    502.1,  14.0113,  34.5320,2,  34.5399,2,    195.0,2,    10.00,2,     0.00,2,     0.79,2
    49RY9306_1,  PR04,RY8462,  2,     15,     15,2,19930614,0428, 29.9868, 154.9720, 5250,    603.8,  10.9357,  34.3080,2,  34.3100,2,    190.0,2,    15.50,2,     0.00,2,     1.19,2
    49RY9306_1,  PR04,RY8462,  2,     16,     16,2,19930614,0428, 29.9868, 154.9720, 5250,    705.0,   7.9205,  34.0950,2,  34.1081,2,    172.0,2,    22.70,2,     0.01,2,     1.73,2
    49RY9306_1,  PR04,RY8462,  2,     17,     17,2,19930614,0428, 29.9868, 154.9720, 5250,    806.0,   6.0132,  34.0350,2,  34.0386,2,    140.0,2,    29.30,2,     0.00,2,     2.27,2
    49RY9306_1,  PR04,RY8462,  2,     18,     18,2,19930614,0428, 29.9868, 154.9720, 5250,    907.4,   4.9605,  34.0670,2,  34.0678,2,    113.0,2,    34.10,2,     0.00,2,     2.63,2
    49RY9306_1,  PR04,RY8462,  2,     19,     19,2,19930614,0428, 29.9868, 154.9720, 5250,   1007.9,   4.3310,  34.1720,2,-999.0000,9,   -999.0,5,    38.20,2,     0.00,2,     2.87,2
    49RY9306_1,  PR04,RY8462,  2,     20,     20,2,19930614,0428, 29.9868, 154.9720, 5250,   1261.6,   3.1870,  34.3740,2,  34.3744,2,     45.0,2,    41.60,2,     0.01,2,     3.10,2
    49RY9306_1,  PR04,RY8462,  2,     21,     21,2,19930614,0428, 29.9868, 154.9720, 5250,   1513.7,   2.7025,  34.4770,2,  34.4749,2,     46.0,2,    42.20,2,     0.00,2,     3.13,2
    49RY9306_1,  PR04,RY8462,  2,     22,     22,2,19930614,0428, 29.9868, 154.9720, 5250,   2022.5,   2.0083,  34.5910,2,  34.5980,2,     80.0,2,    40.40,2,     0.01,2,     2.98,2
    49RY9306_1,  PR04,RY8462,  2,     23,     23,2,19930614,0428, 29.9868, 154.9720, 5250,   2531.4,   1.6831,  34.6420,2,  34.6409,2,    110.0,2,    38.10,2,     0.00,2,     2.83,2
    49RY9306_1,  PR04,RY8462,  2,     24,     24,2,19930614,0428, 29.9868, 154.9720, 5250,   3041.5,   1.5386,  34.6660,2,  34.6656,2,    133.0,2,    36.80,2,     0.00,2,     2.71,2
    49RY9306_1,  PR04,RY8462,  2,     25,     25,2,19930614,0428, 29.9868, 154.9720, 5250,   4068.7,   1.4483,  34.6870,2,  34.6863,2,    158.0,2,    35.30,2,     0.00,2,     2.57,2
    49RY9306_1,  PR04,RY8463,  1,      1,      1,2,19930614,1133, 28.9978, 154.9953, 5944,      0.0,  22.5845,  34.7220,2,-999.0000,9,    224.0,2,     0.40,2,     0.00,2,     0.03,2
    49RY9306_1,  PR04,RY8463,  1,      2,      2,2,19930614,1133, 28.9978, 154.9953, 5944,     26.4,  20.4376,  34.9430,2,-999.0000,9,    234.0,2,     0.40,2,     0.00,2,     0.02,2
    49RY9306_1,  PR04,RY8463,  1,      3,      3,2,19930614,1133, 28.9978, 154.9953, 5944,     50.3,  18.5440,  34.8480,2,-999.0000,9,    246.0,2,     0.50,2,     0.00,2,     0.05,2
    49RY9306_1,  PR04,RY8463,  1,      4,      4,2,19930614,1133, 28.9978, 154.9953, 5944,    101.5,  17.6448,  34.8270,2,-999.0000,9,    229.0,2,     2.30,2,     0.03,2,     0.17,2
    49RY9306_1,  PR04,RY8463,  1,      5,      5,2,19930614,1133, 28.9978, 154.9953, 5944,    151.8,  17.2722,  34.8050,2,-999.0000,9,    228.0,2,     3.10,2,     0.02,2,     0.23,2
    49RY9306_1,  PR04,RY8463,  1,      6,      6,2,19930614,1133, 28.9978, 154.9953, 5944,    201.3,  16.9540,  34.7800,2,-999.0000,9,    232.0,2,     3.30,2,     0.01,2,     0.23,2
    49RY9306_1,  PR04,RY8463,  1,      7,      7,2,19930614,1133, 28.9978, 154.9953, 5944,    302.7,  16.2715,  34.7230,2,-999.0000,9,    203.0,2,     6.50,2,     0.00,2,     0.44,2
    49RY9306_1,  PR04,RY8463,  1,      8,      8,2,19930614,1133, 28.9978, 154.9953, 5944,    402.9,  14.5810,  34.5770,2,-999.0000,9,    196.0,2,    10.40,2,     0.01,2,     0.70,2
    49RY9306_1,  PR04,RY8463,  1,      9,      9,2,19930614,1133, 28.9978, 154.9953, 5944,    503.9,  11.7982,  34.3820,2,-999.0000,9,    188.0,2,    15.60,2,     0.00,2,     1.08,2
    49RY9306_1,  PR04,RY8463,  1,     10,     10,2,19930614,1133, 28.9978, 154.9953, 5944,    605.4,   8.9270,  34.1670,2,-999.0000,9,    189.0,2,    21.00,2,     0.00,2,     1.51,2
    49RY9306_1,  PR04,RY8463,  1,     11,     11,2,19930614,1133, 28.9978, 154.9953, 5944,    806.6,   4.8134,  34.0640,2,-999.0000,9,    108.0,2,    34.90,2,     0.00,2,     2.58,2
    49RY9306_1,  PR04,RY8463,  1,     12,     12,2,19930614,1133, 28.9978, 154.9953, 5944,   1009.1,   3.7951,  34.2690,2,-999.0000,9,     50.0,2,    40.10,2,     0.00,2,     3.02,2
    49RY9306_1,  PR04,RY8463,  1,     13,     13,2,19930614,1133, 28.9978, 154.9953, 5944,   1263.4,   3.0403,  34.4100,2,-999.0000,9,     44.0,2,    40.40,2,     0.00,2,     3.12,2
    49RY9306_1,  PR04,RY8464,  1,      1,      1,2,19930614,1821, 27.9608, 155.0010, 5705,      0.0,  24.6886,  35.0980,2,-999.0000,9,    215.0,2,     0.10,2,     0.00,2,     0.02,2
    49RY9306_1,  PR04,RY8464,  1,      2,      2,2,19930614,1821, 27.9608, 155.0010, 5705,     25.7,  23.9761,  35.0870,2,-999.0000,9,    223.0,2,     0.10,2,     0.00,2,     0.02,2
    49RY9306_1,  PR04,RY8464,  1,      3,      3,2,19930614,1821, 27.9608, 155.0010, 5705,     50.1,  21.2998,  35.0870,2,-999.0000,9,    237.0,2,     0.20,2,     0.00,2,     0.02,2
    49RY9306_1,  PR04,RY8464,  1,      4,      4,2,19930614,1821, 27.9608, 155.0010, 5705,    100.7,  19.1729,  34.9220,2,-999.0000,9,    229.0,2,     0.40,2,     0.10,2,     0.07,2
    49RY9306_1,  PR04,RY8464,  1,      5,      5,2,19930614,1821, 27.9608, 155.0010, 5705,    150.8,  18.5824,  34.8980,2,-999.0000,9,    221.0,2,     1.40,2,     0.04,2,     0.14,2
    49RY9306_1,  PR04,RY8464,  1,      6,      6,2,19930614,1821, 27.9608, 155.0010, 5705,    201.3,  17.3514,  34.7980,2,-999.0000,9,    210.0,2,     3.70,2,     0.00,2,     0.29,2
    49RY9306_1,  PR04,RY8464,  1,      7,      7,2,19930614,1821, 27.9608, 155.0010, 5705,    302.0,  15.9831,  34.7010,2,-999.0000,9,    205.0,2,     6.10,2,     0.01,2,     0.47,2
    49RY9306_1,  PR04,RY8464,  1,      8,      8,2,19930614,1821, 27.9608, 155.0010, 5705,    402.5,  13.9023,  34.5040,2,-999.0000,9,    201.0,2,     9.50,2,     0.00,2,     0.72,2
    49RY9306_1,  PR04,RY8464,  1,      9,      9,2,19930614,1821, 27.9608, 155.0010, 5705,    504.5,  11.0871,  34.2980,2,-999.0000,9,    197.0,2,    14.70,2,     0.00,2,     1.11,2
    49RY9306_1,  PR04,RY8464,  1,     10,     10,2,19930614,1821, 27.9608, 155.0010, 5705,    604.5,   8.3709,  34.1290,2,-999.0000,9,    178.0,2,    21.70,2,     0.01,2,     1.63,2
    49RY9306_1,  PR04,RY8464,  1,     11,     11,2,19930614,1821, 27.9608, 155.0010, 5705,    805.9,   5.1398,  34.0810,2,-999.0000,9,     98.0,2,    35.30,2,     0.00,2,     2.59,2
    49RY9306_1,  PR04,RY8464,  1,     12,     12,2,19930614,1821, 27.9608, 155.0010, 5705,   1007.9,   3.8616,  34.2760,2,-999.0000,9,     50.0,2,    41.80,2,     0.00,2,     3.03,2
    49RY9306_1,  PR04,RY8464,  1,     13,     13,2,19930614,1821, 27.9608, 155.0010, 5705,   1262.8,   3.1477,  34.4300,2,-999.0000,9,     45.0,2,    42.80,2,     0.00,2,     3.10,2
    49RY9306_1,  PR04,RY8465,  1,      1,      1,2,19930615,0037, 27.0032, 154.9878, 5907,      0.0,  25.9998,  35.0170,2,-999.0000,9,    205.0,2,     0.20,2,     0.06,2,     0.05,2
    49RY9306_1,  PR04,RY8465,  1,      2,      2,2,19930615,0037, 27.0032, 154.9878, 5907,     25.8,  25.8023,  35.1360,2,-999.0000,9,    208.0,2,     0.10,2,     0.03,2,     0.05,2
    49RY9306_1,  PR04,RY8465,  1,      3,      3,2,19930615,0037, 27.0032, 154.9878, 5907,     50.3,  22.4764,  35.1900,2,-999.0000,9,    232.0,2,     0.20,2,     0.03,2,     0.05,2
    49RY9306_1,  PR04,RY8465,  1,      4,      4,2,19930615,0037, 27.0032, 154.9878, 5907,    100.9,  20.3177,  35.0350,2,-999.0000,9,    225.0,2,     0.30,2,     0.07,2,     0.05,2
    49RY9306_1,  PR04,RY8465,  1,      5,      5,2,19930615,0037, 27.0032, 154.9878, 5907,    152.1,  18.7782,  34.9520,2,-999.0000,9,    206.0,2,     1.20,2,     0.21,2,     0.18,2
    49RY9306_1,  PR04,RY8465,  1,      6,      6,2,19930615,0037, 27.0032, 154.9878, 5907,    201.6,  17.3501,  34.8190,2,-999.0000,9,    204.0,2,     3.90,2,     0.04,2,     0.32,2
    49RY9306_1,  PR04,RY8465,  1,      7,      7,2,19930615,0037, 27.0032, 154.9878, 5907,    301.5,  15.5676,  34.6600,2,-999.0000,9,    204.0,2,     6.80,2,     0.07,2,     0.54,2
    49RY9306_1,  PR04,RY8465,  1,      8,      8,2,19930615,0037, 27.0032, 154.9878, 5907,    401.3,  13.2540,  34.4700,2,-999.0000,9,    198.0,2,    11.10,2,     0.05,2,     0.87,2
    49RY9306_1,  PR04,RY8465,  1,      9,      9,2,19930615,0037, 27.0032, 154.9878, 5907,    503.7,  10.7563,  34.2640,2,-999.0000,9,    193.0,2,    15.80,2,     0.01,2,     1.18,2
    49RY9306_1,  PR04,RY8465,  1,     10,     10,2,19930615,0037, 27.0032, 154.9878, 5907,    604.6,   8.2212,  34.1090,2,-999.0000,9,    169.0,2,    22.90,2,     0.00,2,     1.67,2
    49RY9306_1,  PR04,RY8465,  1,     11,     11,2,19930615,0037, 27.0032, 154.9878, 5907,    805.0,   4.9513,  34.0920,2,-999.0000,9,     94.0,2,    36.50,2,     0.02,2,     2.63,2
    49RY9306_1,  PR04,RY8465,  1,     12,     12,2,19930615,0037, 27.0032, 154.9878, 5907,   1007.1,   3.8251,  34.2850,2,-999.0000,9,     45.0,2,    42.40,2,     0.04,2,     3.03,2
    49RY9306_1,  PR04,RY8465,  1,     13,     13,2,19930615,0037, 27.0032, 154.9878, 5907,   1264.9,   3.0398,  34.4360,2,-999.0000,9,     41.0,2,    43.60,2,     0.01,2,     3.11,2
    49RY9306_1,  PR04,RY8466,  1,      1,      1,2,19930615,0708, 25.9957, 154.9998, 5664,      0.0,  26.5416,  35.1640,2,-999.0000,9,   -999.0,5,     0.30,2,     0.01,2,     0.09,2
    49RY9306_1,  PR04,RY8466,  1,      2,      2,2,19930615,0708, 25.9957, 154.9998, 5664,     25.4,  25.6955,  35.2230,2,-999.0000,9,    212.0,2,     0.10,2,     0.01,2,     0.04,2
    49RY9306_1,  PR04,RY8466,  1,      3,      3,2,19930615,0708, 25.9957, 154.9998, 5664,     51.1,  21.7122,  35.0220,2,-999.0000,9,    231.0,2,     0.10,2,     0.00,2,     0.03,2
    49RY9306_1,  PR04,RY8466,  1,      4,      4,2,19930615,0708, 25.9957, 154.9998, 5664,    100.7,  19.2288,  34.9770,2,-999.0000,9,    230.0,2,     0.20,2,     0.00,2,     0.06,2
    49RY9306_1,  PR04,RY8466,  1,      5,      5,2,19930615,0708, 25.9957, 154.9998, 5664,    152.9,  17.7540,  34.8100,2,-999.0000,9,    215.0,2,     2.90,2,     0.03,2,     0.24,2
    49RY9306_1,  PR04,RY8466,  1,      6,      6,2,19930615,0708, 25.9957, 154.9998, 5664,    202.6,  16.9759,  34.7840,2,-999.0000,9,    206.0,2,     4.40,2,     0.01,2,     0.34,2
    49RY9306_1,  PR04,RY8466,  1,      7,      7,2,19930615,0708, 25.9957, 154.9998, 5664,    302.9,  15.0346,  34.6220,2,-999.0000,9,    198.0,2,     8.30,2,     0.00,2,     0.63,2
    49RY9306_1,  PR04,RY8466,  1,      8,      8,2,19930615,0708, 25.9957, 154.9998, 5664,    403.8,  12.5606,  34.4120,2,-999.0000,9,    197.0,2,    11.90,2,     0.00,2,     0.90,2
    49RY9306_1,  PR04,RY8466,  1,      9,      9,2,19930615,0708, 25.9957, 154.9998, 5664,    503.2,  10.1286,  34.2340,2,-999.0000,9,    192.0,2,    16.90,2,     0.00,2,     1.25,2
    49RY9306_1,  PR04,RY8466,  1,     10,     10,2,19930615,0708, 25.9957, 154.9998, 5664,    603.8,   7.4420,  34.0590,2,-999.0000,9,    166.0,2,    24.40,2,     0.01,2,     1.79,2
    49RY9306_1,  PR04,RY8466,  1,     11,     11,2,19930615,0708, 25.9957, 154.9998, 5664,    806.0,   4.6389,  34.1340,2,-999.0000,9,     74.0,2,    37.80,2,     0.01,2,     2.72,2
    49RY9306_1,  PR04,RY8466,  1,     12,     12,2,19930615,0708, 25.9957, 154.9998, 5664,   1008.1,   3.6057,  34.3250,2,-999.0000,9,     40.0,2,    42.10,2,     0.00,2,     3.02,2
    49RY9306_1,  PR04,RY8466,  1,     13,     13,2,19930615,0708, 25.9957, 154.9998, 5664,   1264.8,   2.9186,  34.4580,2,-999.0000,9,     42.0,2,    42.70,2,     0.01,2,     3.03,2
    49RY9306_1,  PR04,RY8467,  1,      1,      1,2,19930615,1417, 25.0033, 155.0005, 5669,      0.0,  29.1430,  35.1040,2,-999.0000,9,   -999.0,5,     0.00,2,     0.00,2,     0.04,2
    49RY9306_1,  PR04,RY8467,  1,      2,      2,2,19930615,1417, 25.0033, 155.0005, 5669,     11.2,  29.1362,  35.1050,2,  35.1042,2,   -999.0,5,     0.00,2,     0.00,2,     0.02,2
    49RY9306_1,  PR04,RY8467,  1,      3,      3,2,19930615,1417, 25.0033, 155.0005, 5669,     26.7,  27.8075,  35.0800,2,-999.0000,9,   -999.0,5,     0.00,2,     0.00,2,     0.01,2
    49RY9306_1,  PR04,RY8467,  1,      4,      4,2,19930615,1417, 25.0033, 155.0005, 5669,     51.6,  25.2045,  35.1750,2,  35.1642,2,   -999.0,5,     0.00,2,     0.00,2,     0.01,2
    49RY9306_1,  PR04,RY8467,  1,      5,      5,2,19930615,1417, 25.0033, 155.0005, 5669,     76.2,  23.8458,  35.1790,2,-999.0000,9,    210.0,2,     0.00,2,     0.00,2,     0.04,2
    49RY9306_1,  PR04,RY8467,  1,      6,      6,2,19930615,1417, 25.0033, 155.0005, 5669,    101.5,  22.0353,  35.0770,2,-999.0000,9,    211.0,2,     0.00,2,     0.00,2,     0.03,2
    49RY9306_1,  PR04,RY8467,  1,      7,      7,2,19930615,1417, 25.0033, 155.0005, 5669,    127.7,  20.9861,  35.1490,2,-999.0000,9,    201.0,2,     0.60,2,     0.06,2,     0.10,2
    49RY9306_1,  PR04,RY8467,  1,      8,      8,2,19930615,1417, 25.0033, 155.0005, 5669,    151.9,  19.3995,  34.9960,2,-999.0000,9,   -999.0,5,     1.80,2,     0.00,2,     0.21,2
    49RY9306_1,  PR04,RY8467,  1,      9,      9,2,19930615,1417, 25.0033, 155.0005, 5669,    176.9,  18.3078,  34.8860,2,-999.0000,9,    203.0,2,     2.50,2,     0.00,2,     0.24,2
    49RY9306_1,  PR04,RY8467,  1,     10,     10,2,19930615,1417, 25.0033, 155.0005, 5669,    201.9,  17.6408,  34.8250,2,-999.0000,9,    205.0,2,     3.20,2,     0.01,2,     0.28,2
    49RY9306_1,  PR04,RY8467,  1,     11,     11,2,19930615,1417, 25.0033, 155.0005, 5669,    252.8,  16.5260,  34.7410,2,  34.7448,2,    204.0,2,     4.80,2,     0.00,2,     0.41,2
    49RY9306_1,  PR04,RY8467,  1,     12,     12,2,19930615,1417, 25.0033, 155.0005, 5669,    303.1,  15.5806,  34.6550,2,-999.0000,9,    199.0,2,     6.60,2,     0.00,2,     0.53,2
    49RY9306_1,  PR04,RY8467,  1,     13,     13,2,19930615,1417, 25.0033, 155.0005, 5669,    403.7,  12.7493,  34.4500,2,  34.4505,2,    184.0,2,    12.50,2,     0.00,2,     0.99,2
    49RY9306_1,  PR04,RY8467,  2,     14,     14,2,19930615,1627, 25.0075, 155.0003, 5669,    503.6,  10.9259,  34.3680,2,-999.0000,9,    157.0,2,    18.50,2,     0.00,2,     1.47,2
    49RY9306_1,  PR04,RY8467,  2,     15,     15,2,19930615,1627, 25.0075, 155.0003, 5669,    603.8,   8.6876,  34.2020,2,-999.0000,9,    156.0,2,    22.20,2,     0.00,2,     1.76,2
    49RY9306_1,  PR04,RY8467,  2,     16,     16,2,19930615,1627, 25.0075, 155.0003, 5669,    705.6,   6.2866,  34.0780,2,  34.0816,2,    130.0,2,    29.30,2,     0.00,2,     2.29,2
    49RY9306_1,  PR04,RY8467,  2,     17,     17,2,19930615,1627, 25.0075, 155.0003, 5669,    806.2,   4.9352,  34.1160,2,  34.1097,2,     82.0,2,    35.70,2,     0.00,2,     2.76,2
    49RY9306_1,  PR04,RY8467,  2,     18,     18,2,19930615,1627, 25.0075, 155.0003, 5669,    907.1,   4.1924,  34.2240,2,  34.3262,2,     51.0,2,    40.00,2,     0.00,2,     3.06,2
    49RY9306_1,  PR04,RY8467,  2,     19,     19,2,19930615,1627, 25.0075, 155.0003, 5669,   1008.3,   3.6852,  34.3260,2,-999.0000,9,     42.0,2,    41.40,2,     0.00,2,     3.13,2
    49RY9306_1,  PR04,RY8467,  2,     20,     20,2,19930615,1627, 25.0075, 155.0003, 5669,   1261.5,   3.0228,  34.4770,2,  34.4828,2,     54.0,2,    41.10,2,     0.00,2,     3.12,2
    49RY9306_1,  PR04,RY8467,  2,     21,     21,2,19930615,1627, 25.0075, 155.0003, 5669,   1514.7,   2.5386,  34.5460,2,  34.5497,2,   -999.0,5,    40.20,2,     0.00,2,     3.02,2
    49RY9306_1,  PR04,RY8467,  2,     22,     22,2,19930615,1627, 25.0075, 155.0003, 5669,   2022.2,   1.9162,  34.6170,2,  34.6175,2,    103.0,2,    38.80,2,     0.00,2,     2.91,2
    49RY9306_1,  PR04,RY8467,  2,     23,     23,2,19930615,1627, 25.0075, 155.0003, 5669,   2531.9,   1.6751,  34.6480,2,  34.6482,2,    123.0,2,    37.80,2,     0.00,2,     2.81,2
    49RY9306_1,  PR04,RY8467,  2,     24,     24,2,19930615,1627, 25.0075, 155.0003, 5669,   3041.9,   1.5466,  34.6670,2,  34.6675,2,    136.0,2,    36.50,2,     0.00,2,     2.70,2
    49RY9306_1,  PR04,RY8467,  2,     25,     25,2,19930615,1627, 25.0075, 155.0003, 5669,   4065.9,   1.4565,  34.6840,2,  34.6865,2,    161.0,2,    35.50,2,     0.01,2,     2.58,2