BOTTLE,20010413WHPSIOKJU
EXPOCODE,SECT_ID,STNNBR,CASTNO,SAMPNO,BTLNBR,BTLNBR_FLAG_W,DATE,TIME,LATITUDE,LONGITUDE,DEPTH,CTDPRS,CTDTMP,CTDSAL,CTDSAL_FLAG_W,SALNTY,SALNTY_FLAG_W,OXYGEN,OXYGEN_FLAG_W,NITRAT,NITRAT_FLAG_W,NITRIT,NITRIT_FLAG_W,PHSPHT,PHSPHT_FLAG_W
,,,,,,,,,,,,DBAR,DEG C,PSS-78,,PSS-78,,UMOL/KG,,UMOL/KG,,UMOL/KG,,UMOL/KG,
    49RY9306_1,  PR04,RY8482,  1,      1,      1,2,19930620,1143, 10.0020, 154.9885, 5537,      0.0,  28.6406,  33.8670,2,-999.0000,9,    200.0,2,     0.10,2,     0.01,2,     0.08,2
    49RY9306_1,  PR04,RY8482,  1,      2,      2,2,19930620,1143, 10.0020, 154.9885, 5537,     10.7,  28.6270,  33.8660,2,  33.8638,2,    213.0,2,     0.00,2,     0.00,2,     0.07,2
    49RY9306_1,  PR04,RY8482,  1,      3,      3,2,19930620,1143, 10.0020, 154.9885, 5537,     25.8,  28.6431,  33.8670,2,  33.8693,2,    198.0,2,     0.00,2,     0.00,2,     0.06,2
    49RY9306_1,  PR04,RY8482,  1,      4,      4,2,19930620,1143, 10.0020, 154.9885, 5537,     50.7,  28.5604,  33.9120,2,-999.0000,9,    199.0,2,     0.10,2,     0.01,2,     0.08,2
    49RY9306_1,  PR04,RY8482,  1,      5,      5,2,19930620,1143, 10.0020, 154.9885, 5537,     75.8,  27.8484,  34.1090,2,-999.0000,9,    203.0,2,     0.00,2,     0.00,2,     0.10,2
    49RY9306_1,  PR04,RY8482,  1,      6,      6,2,19930620,1143, 10.0020, 154.9885, 5537,    101.1,  26.4689,  34.5000,2,-999.0000,9,    205.0,2,     0.00,2,     0.01,2,     0.10,2
    49RY9306_1,  PR04,RY8482,  1,      7,      7,2,19930620,1143, 10.0020, 154.9885, 5537,    126.8,  22.2861,  34.7880,2,-999.0000,9,    189.0,2,     0.60,2,     0.07,2,     0.27,2
    49RY9306_1,  PR04,RY8482,  1,      8,      8,2,19930620,1143, 10.0020, 154.9885, 5537,    152.5,  18.6420,  34.7660,2,  34.7736,2,    166.0,2,     5.60,2,     0.20,2,     0.57,2
    49RY9306_1,  PR04,RY8482,  1,      9,      9,2,19930620,1143, 10.0020, 154.9885, 5537,    177.2,  14.9044,  34.5690,2,-999.0000,9,    137.0,2,    14.00,2,     0.03,2,     1.12,2
    49RY9306_1,  PR04,RY8482,  1,     10,     10,2,19930620,1143, 10.0020, 154.9885, 5537,    201.7,  12.7410,  34.5120,2,-999.0000,9,    137.0,2,    20.50,2,     0.02,2,     1.56,2
    49RY9306_1,  PR04,RY8482,  1,     11,     11,2,19930620,1143, 10.0020, 154.9885, 5537,    252.2,  10.6552,  34.4980,2,  34.4940,2,     77.0,2,    27.80,2,     0.02,2,     2.05,2
    49RY9306_1,  PR04,RY8482,  1,     12,     12,2,19930620,1143, 10.0020, 154.9885, 5537,    302.2,   9.7122,  34.5880,2,-999.0000,9,   -999.0,5,    32.50,2,     0.02,2,     2.35,2
    49RY9306_1,  PR04,RY8482,  1,     13,     13,2,19930620,1143, 10.0020, 154.9885, 5537,    401.9,   8.4341,  34.5730,2,-999.0000,9,     60.0,2,    34.60,2,     0.02,2,     2.48,2
    49RY9306_1,  PR04,RY8482,  2,     14,     14,2,19930620,1333, 10.0145, 154.9510, 5558,    503.7,   7.7282,  34.5590,2,  34.5622,2,     60.0,2,    36.50,2,     0.01,2,     2.63,2
    49RY9306_1,  PR04,RY8482,  2,     15,     15,2,19930620,1333, 10.0145, 154.9510, 5558,    604.8,   6.9929,  34.5360,2,-999.0000,9,     61.0,2,    37.70,2,     0.01,2,     2.74,2
    49RY9306_1,  PR04,RY8482,  2,     16,     16,2,19930620,1333, 10.0145, 154.9510, 5558,    705.7,   6.2598,  34.5250,2,  34.5285,2,     67.0,2,    38.50,2,     0.01,2,     2.80,2
    49RY9306_1,  PR04,RY8482,  2,     17,     17,2,19930620,1333, 10.0145, 154.9510, 5558,    806.9,   5.6610,  34.5290,2,  34.5322,2,     71.0,2,    39.20,2,     0.00,2,     2.85,2
    49RY9306_1,  PR04,RY8482,  2,     18,     18,2,19930620,1333, 10.0145, 154.9510, 5558,    907.3,   5.1402,  34.5350,2,  34.5371,2,     76.0,2,    39.80,2,     0.00,2,     2.88,2
    49RY9306_1,  PR04,RY8482,  2,     19,     19,2,19930620,1333, 10.0145, 154.9510, 5558,   1008.7,   4.7790,  34.5410,2,-999.0000,9,     80.0,2,    39.80,2,     0.01,2,     2.88,2
    49RY9306_1,  PR04,RY8482,  2,     20,     20,2,19930620,1333, 10.0145, 154.9510, 5558,   1262.6,   3.7452,  34.5670,2,-999.0000,5,     92.0,2,    39.60,2,     0.01,2,     2.87,2
    49RY9306_1,  PR04,RY8482,  2,     21,     21,2,19930620,1333, 10.0145, 154.9510, 5558,   1514.6,   2.9542,  34.5940,2,  34.5958,2,    100.0,2,    39.60,2,     0.02,2,     2.87,2
    49RY9306_1,  PR04,RY8482,  2,     22,     22,2,19930620,1333, 10.0145, 154.9510, 5558,   2021.5,   2.1576,  34.6350,2,  34.6337,2,    115.0,2,    39.00,2,     0.00,2,     2.79,2
    49RY9306_1,  PR04,RY8482,  2,     23,     23,2,19930620,1333, 10.0145, 154.9510, 5558,   2530.9,   1.8496,  34.6570,2,  34.6571,2,    127.0,2,    38.20,2,     0.00,2,     2.71,2
    49RY9306_1,  PR04,RY8482,  2,     24,     24,2,19930620,1333, 10.0145, 154.9510, 5558,   3040.4,   1.6271,  34.6710,2,  34.6707,2,    137.0,2,    37.40,2,     0.00,2,     2.64,2
    49RY9306_1,  PR04,RY8482,  2,     25,     25,2,19930620,1333, 10.0145, 154.9510, 5558,   4067.3,   1.4589,  34.6900,2,  34.6896,2,    169.0,2,    35.80,2,     0.00,2,     2.50,2
    49RY9306_1,  PR04,RY8483,  1,      1,      1,2,19930620,2115,  8.9977, 154.9943, 5312,      0.0,  28.6589,  33.7350,2,-999.0000,9,    200.0,2,     0.00,2,     0.00,2,     0.06,2
    49RY9306_1,  PR04,RY8483,  1,      2,      2,2,19930620,2115,  8.9977, 154.9943, 5312,     24.7,  28.6443,  33.7380,2,-999.0000,9,    200.0,2,     0.00,2,     0.00,2,     0.05,2
    49RY9306_1,  PR04,RY8483,  1,      3,      3,2,19930620,2115,  8.9977, 154.9943, 5312,     52.7,  28.2511,  33.8920,2,-999.0000,9,    203.0,2,     0.00,2,     0.00,2,     0.09,2
    49RY9306_1,  PR04,RY8483,  1,      4,      4,2,19930620,2115,  8.9977, 154.9943, 5312,    101.6,  24.6573,  34.5670,2,-999.0000,9,    202.0,2,     0.00,2,     0.00,2,     0.15,2
    49RY9306_1,  PR04,RY8483,  1,      5,      5,2,19930620,2115,  8.9977, 154.9943, 5312,    153.1,  14.3245,  34.5500,2,-999.0000,9,    130.0,2,    15.70,2,     0.02,2,     1.22,2
    49RY9306_1,  PR04,RY8483,  1,      6,      6,2,19930620,2115,  8.9977, 154.9943, 5312,    203.0,  11.8122,  34.5270,2,-999.0000,9,     89.0,2,    24.50,2,     0.01,2,     1.83,2
    49RY9306_1,  PR04,RY8483,  1,      7,      7,2,19930620,2115,  8.9977, 154.9943, 5312,    304.0,   9.7372,  34.6340,2,-999.0000,9,     43.0,2,    33.40,2,     0.00,2,     2.42,2
    49RY9306_1,  PR04,RY8483,  1,      8,      8,2,19930620,2115,  8.9977, 154.9943, 5312,    404.2,   8.8914,  34.6100,2,-999.0000,9,     48.0,2,    34.40,2,     0.01,2,     2.48,2
    49RY9306_1,  PR04,RY8483,  1,      9,      9,2,19930620,2115,  8.9977, 154.9943, 5312,    504.7,   7.9987,  34.5770,2,-999.0000,9,     56.0,2,    35.60,2,     0.01,2,     2.59,2
    49RY9306_1,  PR04,RY8483,  1,     10,     10,2,19930620,2115,  8.9977, 154.9943, 5312,    605.2,   7.0164,  34.5410,2,-999.0000,9,     58.0,2,    37.30,2,     0.02,2,     2.72,2
    49RY9306_1,  PR04,RY8483,  1,     11,     11,2,19930620,2115,  8.9977, 154.9943, 5312,    807.2,   5.7266,  34.5280,2,-999.0000,9,     66.0,2,    39.20,2,     0.00,2,     2.85,2
    49RY9306_1,  PR04,RY8483,  1,     12,     12,2,19930620,2115,  8.9977, 154.9943, 5312,   1009.5,   4.6235,  34.5420,2,-999.0000,9,     80.0,2,  -999.00,5,     0.00,2,     2.84,2
    49RY9306_1,  PR04,RY8483,  1,     13,     13,2,19930620,2115,  8.9977, 154.9943, 5312,   1260.0,   3.6349,  34.5760,2,-999.0000,9,     90.0,2,    39.40,2,     0.01,2,     2.85,2
    49RY9306_1,  PR04,RY8484,  1,      1,      1,2,19930621,0334,  7.9983, 154.9978, 3844,      0.0,  28.9031,  33.7320,2,-999.0000,9,    197.0,2,     0.00,2,     0.00,2,     0.07,2
    49RY9306_1,  PR04,RY8484,  1,      2,      2,2,19930621,0334,  7.9983, 154.9978, 3844,     24.7,  28.5217,  33.7700,2,-999.0000,9,    200.0,2,     0.00,2,     0.00,2,     0.07,2
    49RY9306_1,  PR04,RY8484,  1,      3,      3,2,19930621,0334,  7.9983, 154.9978, 3844,     50.8,  28.2929,  33.8910,2,-999.0000,9,    203.0,2,     0.00,2,     0.00,2,     0.08,2
    49RY9306_1,  PR04,RY8484,  1,      4,      4,2,19930621,0334,  7.9983, 154.9978, 3844,    100.7,  25.3029,  34.5950,2,-999.0000,9,    203.0,2,     0.00,2,     0.00,2,     0.14,2
    49RY9306_1,  PR04,RY8484,  1,      5,      5,2,19930621,0334,  7.9983, 154.9978, 3844,    151.3,  15.7801,  34.6360,2,-999.0000,9,    128.0,2,    14.60,2,     0.03,2,     1.13,2
    49RY9306_1,  PR04,RY8484,  1,      6,      6,2,19930621,0334,  7.9983, 154.9978, 3844,    201.9,  12.7833,  34.5500,2,-999.0000,9,    106.0,2,    21.60,2,     0.01,2,     1.60,2
    49RY9306_1,  PR04,RY8484,  1,      7,      7,2,19930621,0334,  7.9983, 154.9978, 3844,    302.5,   9.5188,  34.5980,2,-999.0000,9,     49.0,2,    33.50,2,     0.01,2,     2.42,2
    49RY9306_1,  PR04,RY8484,  1,      8,      8,2,19930621,0334,  7.9983, 154.9978, 3844,    402.7,   8.6274,  34.6030,2,-999.0000,9,     52.0,2,    34.70,2,     0.00,2,     2.52,2
    49RY9306_1,  PR04,RY8484,  1,      9,      9,2,19930621,0334,  7.9983, 154.9978, 3844,    503.5,   7.8260,  34.5670,2,-999.0000,9,     55.0,2,    36.30,2,     0.00,2,     2.62,2
    49RY9306_1,  PR04,RY8484,  1,     10,     10,2,19930621,0334,  7.9983, 154.9978, 3844,    603.8,   7.0783,  34.5390,2,-999.0000,9,     61.0,2,    37.20,2,     0.01,2,     2.70,2
    49RY9306_1,  PR04,RY8484,  1,     11,     11,2,19930621,0334,  7.9983, 154.9978, 3844,    805.8,   5.4996,  34.5340,2,-999.0000,9,     68.0,2,    39.20,2,     0.00,2,     2.85,2
    49RY9306_1,  PR04,RY8484,  1,     12,     12,2,19930621,0334,  7.9983, 154.9978, 3844,   1008.3,   4.5289,  34.5500,2,-999.0000,9,     82.0,2,    39.10,2,     0.00,2,     2.84,2
    49RY9306_1,  PR04,RY8484,  1,     13,     13,2,19930621,0334,  7.9983, 154.9978, 3844,   1263.2,   3.5752,  34.5790,2,-999.0000,9,     95.0,2,    39.30,2,     0.05,2,     2.81,2
    49RY9306_1,  PR04,RY8485,  1,      1,      1,2,19930621,1008,  6.9953, 155.0170, 4249,      0.0,  29.2791,  33.7390,2,-999.0000,9,    213.0,2,     0.00,2,     0.00,2,     0.11,2
    49RY9306_1,  PR04,RY8485,  1,      2,      2,2,19930621,1008,  6.9953, 155.0170, 4249,     25.0,  28.8996,  33.8520,2,-999.0000,9,    199.0,2,     0.00,2,     0.00,2,     0.04,2
    49RY9306_1,  PR04,RY8485,  1,      3,      3,2,19930621,1008,  6.9953, 155.0170, 4249,     50.8,  28.8943,  33.9510,2,-999.0000,9,   -999.0,5,     0.00,2,     0.00,2,     0.03,2
    49RY9306_1,  PR04,RY8485,  1,      4,      4,2,19930621,1008,  6.9953, 155.0170, 4249,    100.7,  25.0786,  34.5990,2,-999.0000,9,    207.0,2,     0.00,2,     0.01,2,     0.17,2
    49RY9306_1,  PR04,RY8485,  1,      5,      5,2,19930621,1008,  6.9953, 155.0170, 4249,    151.0,  14.5069,  34.6160,2,-999.0000,9,    138.0,2,    15.80,2,     0.01,2,     1.19,2
    49RY9306_1,  PR04,RY8485,  1,      6,      6,2,19930621,1008,  6.9953, 155.0170, 4249,    202.4,  11.9042,  34.5510,2,-999.0000,9,     96.0,2,    24.20,2,     0.00,2,     1.79,2
    49RY9306_1,  PR04,RY8485,  1,      7,      7,2,19930621,1008,  6.9953, 155.0170, 4249,    302.5,   9.6050,  34.6390,2,-999.0000,9,     38.0,2,    34.10,2,     0.00,2,     2.48,2
    49RY9306_1,  PR04,RY8485,  1,      8,      8,2,19930621,1008,  6.9953, 155.0170, 4249,    403.3,   8.8399,  34.6220,2,-999.0000,9,     50.0,2,    34.70,2,     0.00,2,     2.51,2
    49RY9306_1,  PR04,RY8485,  1,      9,      9,2,19930621,1008,  6.9953, 155.0170, 4249,    502.8,   8.2360,  34.5950,2,-999.0000,9,     61.0,2,    34.90,2,     0.00,2,     2.53,2
    49RY9306_1,  PR04,RY8485,  1,     10,     10,2,19930621,1008,  6.9953, 155.0170, 4249,    606.0,   7.3306,  34.5650,2,-999.0000,9,   -999.0,5,    37.80,2,     0.01,2,     2.79,2
    49RY9306_1,  PR04,RY8485,  1,     11,     11,2,19930621,1008,  6.9953, 155.0170, 4249,    807.6,   5.6758,  34.5370,2,-999.0000,9,     70.0,2,    38.70,2,     0.00,2,     2.82,2
    49RY9306_1,  PR04,RY8485,  1,     12,     12,2,19930621,1008,  6.9953, 155.0170, 4249,   1009.3,   4.4463,  34.5540,2,-999.0000,9,     85.0,2,    38.50,2,     0.00,2,     2.81,2
    49RY9306_1,  PR04,RY8485,  1,     13,     13,2,19930621,1008,  6.9953, 155.0170, 4249,   1262.6,   3.5617,  34.5790,2,-999.0000,9,     95.0,2,    38.90,2,     0.02,2,     2.85,2
    49RY9306_1,  PR04,RY8486,  1,      1,      1,2,19930621,1614,  5.9960, 155.0082, 4259,      0.0,  28.7395,  33.6230,2,-999.0000,9,    198.0,2,     0.00,2,     0.00,2,     0.04,2
    49RY9306_1,  PR04,RY8486,  1,      2,      2,2,19930621,1614,  5.9960, 155.0082, 4259,     25.8,  28.6978,  33.6850,2,-999.0000,9,    198.0,2,     0.00,2,     0.00,2,     0.04,2
    49RY9306_1,  PR04,RY8486,  1,      3,      3,2,19930621,1614,  5.9960, 155.0082, 4259,     50.7,  29.0554,  34.3090,2,-999.0000,9,    203.0,2,     0.00,2,     0.00,2,     0.05,2
    49RY9306_1,  PR04,RY8486,  1,      4,      4,2,19930621,1614,  5.9960, 155.0082, 4259,    101.1,  23.3199,  34.6960,2,-999.0000,9,    166.0,2,     3.60,2,     0.31,2,     0.42,2
    49RY9306_1,  PR04,RY8486,  1,      5,      5,2,19930621,1614,  5.9960, 155.0082, 4259,    151.3,  16.2017,  34.6680,2,-999.0000,9,    141.0,2,    13.50,2,     0.02,2,     1.03,2
    49RY9306_1,  PR04,RY8486,  1,      6,      6,2,19930621,1614,  5.9960, 155.0082, 4259,    201.8,  12.4216,  34.5460,2,-999.0000,9,    104.0,2,    22.70,2,     0.00,2,     1.72,2
    49RY9306_1,  PR04,RY8486,  1,      7,      7,2,19930621,1614,  5.9960, 155.0082, 4259,    302.3,   9.5543,  34.6320,2,-999.0000,9,     43.0,2,    34.50,2,     0.01,2,     2.49,2
    49RY9306_1,  PR04,RY8486,  1,      8,      8,2,19930621,1614,  5.9960, 155.0082, 4259,    402.8,   8.6248,  34.6080,2,-999.0000,9,     60.0,2,    34.70,2,     0.00,2,     2.50,2
    49RY9306_1,  PR04,RY8486,  1,      9,      9,2,19930621,1614,  5.9960, 155.0082, 4259,    503.6,   7.9196,  34.5830,2,-999.0000,9,     66.0,2,    35.50,2,     0.00,2,     2.57,2
    49RY9306_1,  PR04,RY8486,  1,     10,     10,2,19930621,1614,  5.9960, 155.0082, 4259,    604.9,   7.0866,  34.5580,2,-999.0000,9,     65.0,2,    37.90,2,     0.01,2,     2.77,2
    49RY9306_1,  PR04,RY8486,  1,     11,     11,2,19930621,1614,  5.9960, 155.0082, 4259,    806.4,   5.4281,  34.5380,2,-999.0000,9,     84.0,2,    38.80,2,     0.00,2,     2.82,2
    49RY9306_1,  PR04,RY8486,  1,     12,     12,2,19930621,1614,  5.9960, 155.0082, 4259,   1008.4,   4.2407,  34.5600,2,-999.0000,9,     91.0,2,    39.50,2,     0.00,2,     2.88,2
    49RY9306_1,  PR04,RY8486,  1,     13,     13,2,19930621,1614,  5.9960, 155.0082, 4259,   1262.2,   3.4337,  34.5830,2,-999.0000,9,     93.0,2,    39.90,2,     0.03,2,     2.91,2
    49RY9306_1,  PR04,RY8487,  1,      1,      1,2,19930621,2204,  4.9832, 155.0102, 3373,      0.0,  28.6179,  33.7030,2,-999.0000,9,    203.0,2,     0.00,2,     0.01,2,     0.05,2
    49RY9306_1,  PR04,RY8487,  1,      2,      2,2,19930621,2204,  4.9832, 155.0102, 3373,      9.9,  28.6136,  33.7030,2,  33.7072,2,    199.0,2,     0.00,2,     0.01,2,     0.05,2
    49RY9306_1,  PR04,RY8487,  1,      3,      3,2,19930621,2204,  4.9832, 155.0102, 3373,     25.0,  28.6030,  33.7050,2,-999.0000,9,    198.0,2,     0.00,2,     0.02,2,     0.04,2
    49RY9306_1,  PR04,RY8487,  1,      4,      4,2,19930621,2204,  4.9832, 155.0102, 3373,     50.8,  27.1734,  34.5540,2,-999.0000,9,    203.0,2,     0.00,2,     0.02,2,     0.11,2
    49RY9306_1,  PR04,RY8487,  1,      5,      5,2,19930621,2204,  4.9832, 155.0102, 3373,     75.1,  25.7797,  34.6480,2,-999.0000,9,    183.0,2,     0.50,2,     0.35,2,     0.21,2
    49RY9306_1,  PR04,RY8487,  1,      6,      6,2,19930621,2204,  4.9832, 155.0102, 3373,    101.6,  23.7193,  34.7500,2,  34.7416,2,    167.0,2,     3.30,2,     0.15,2,     0.38,2
    49RY9306_1,  PR04,RY8487,  1,      7,      7,2,19930621,2204,  4.9832, 155.0102, 3373,    125.5,  20.7370,  34.7430,2,-999.0000,9,    152.0,2,     7.30,2,     0.04,2,     0.65,2
    49RY9306_1,  PR04,RY8487,  1,      8,      8,2,19930621,2204,  4.9832, 155.0102, 3373,    151.3,  17.0746,  34.6740,2,-999.0000,9,    139.0,2,    12.60,2,     0.02,2,     1.00,2
    49RY9306_1,  PR04,RY8487,  1,      9,      9,2,19930621,2204,  4.9832, 155.0102, 3373,    176.2,  14.3094,  34.6200,2,-999.0000,9,    140.0,2,    16.30,2,     0.02,2,     1.23,2
    49RY9306_1,  PR04,RY8487,  1,     10,     10,2,19930621,2204,  4.9832, 155.0102, 3373,    202.9,  13.1750,  34.5840,2,  34.5921,2,    128.0,2,    19.50,2,     0.03,2,     1.46,2
    49RY9306_1,  PR04,RY8487,  1,     11,     11,2,19930621,2204,  4.9832, 155.0102, 3373,    250.2,  10.3444,  34.5380,2,-999.0000,9,    105.0,2,    26.80,2,     0.02,2,     1.96,2
    49RY9306_1,  PR04,RY8487,  1,     12,     12,2,19930621,2204,  4.9832, 155.0102, 3373,    302.6,   9.4123,  34.6320,2,  34.6360,2,     47.0,2,    34.40,2,     0.01,2,     2.48,2
    49RY9306_1,  PR04,RY8487,  1,     13,     13,2,19930621,2204,  4.9832, 155.0102, 3373,    403.4,   8.3156,  34.6040,2,-999.0000,9,     67.0,2,    35.10,2,     0.08,2,     2.53,2
    49RY9306_1,  PR04,RY8487,  2,     14,     14,2,19930621,2349,  4.9617, 155.0170, 3100,    503.3,   7.5717,  34.5750,2,  34.5740,2,     61.0,2,    37.00,2,     0.01,2,     2.70,2
    49RY9306_1,  PR04,RY8487,  2,     15,     15,2,19930621,2349,  4.9617, 155.0170, 3100,    604.5,   6.8933,  34.5540,2,-999.0000,9,     71.0,2,    37.50,2,     0.01,2,     2.73,2
    49RY9306_1,  PR04,RY8487,  2,     16,     16,2,19930621,2349,  4.9617, 155.0170, 3100,    705.4,   6.1693,  34.5380,2,  34.5423,2,     69.0,2,    38.90,2,     0.01,2,     2.85,2
    49RY9306_1,  PR04,RY8487,  2,     17,     17,2,19930621,2349,  4.9617, 155.0170, 3100,    806.0,   5.4148,  34.5370,2,-999.0000,9,     74.0,2,    39.60,2,     0.01,2,     2.90,2
    49RY9306_1,  PR04,RY8487,  2,     18,     18,2,19930621,2349,  4.9617, 155.0170, 3100,    906.7,   4.9901,  34.5400,2,  34.5458,2,     87.0,2,    39.00,2,     0.00,2,     2.85,2
    49RY9306_1,  PR04,RY8487,  2,     19,     19,2,19930621,2349,  4.9617, 155.0170, 3100,   1007.4,   4.4096,  34.5540,2,  34.5580,2,     89.0,2,    39.40,2,     0.01,2,     2.88,2
    49RY9306_1,  PR04,RY8487,  2,     20,     20,2,19930621,2349,  4.9617, 155.0170, 3100,   1261.5,   3.6861,  34.5740,2,  34.5775,2,     91.0,2,    39.90,2,     0.00,2,     2.92,2
    49RY9306_1,  PR04,RY8487,  2,     21,     21,2,19930621,2349,  4.9617, 155.0170, 3100,   1514.4,   2.8853,  34.6020,2,  34.6043,2,     96.0,2,    40.10,2,     0.02,2,     2.93,2
    49RY9306_1,  PR04,RY8487,  2,     22,     22,2,19930621,2349,  4.9617, 155.0170, 3100,   2022.6,   2.1985,  34.6370,2,  34.6400,2,    110.0,2,    39.50,2,     0.01,2,     2.87,2
    49RY9306_1,  PR04,RY8487,  2,     23,     23,2,19930621,2349,  4.9617, 155.0170, 3100,   2530.9,   1.8047,  34.6590,2,  34.6575,2,    129.0,2,    38.40,2,     0.00,2,     2.76,2
    49RY9306_1,  PR04,RY8487,  2,     24,     24,2,19930621,2349,  4.9617, 155.0170, 3100,   2943.8,   1.5938,  34.6690,2,  34.6711,2,    144.0,2,    37.50,2,     0.03,2,     2.67,2