BOTTLE,20010413WHPSIOKJU
EXPOCODE,SECT_ID,STNNBR,CASTNO,SAMPNO,BTLNBR,BTLNBR_FLAG_W,DATE,TIME,LATITUDE,LONGITUDE,DEPTH,CTDPRS,CTDTMP,CTDSAL,CTDSAL_FLAG_W,SALNTY,SALNTY_FLAG_W,OXYGEN,OXYGEN_FLAG_W,NITRAT,NITRAT_FLAG_W,NITRIT,NITRIT_FLAG_W,PHSPHT,PHSPHT_FLAG_W
,,,,,,,,,,,,DBAR,DEG C,PSS-78,,PSS-78,,UMOL/KG,,UMOL/KG,,UMOL/KG,,UMOL/KG,
    49RY9306_1,  PR04,RY8475,  1,      1,      1,2,19930618,1039, 16.9970, 154.9890, 5677,      0.0,  28.7905,  34.7530,2,-999.0000,9,    229.0,2,     0.20,2,     0.01,2,     0.17,2
    49RY9306_1,  PR04,RY8475,  1,      2,      2,2,19930618,1039, 16.9970, 154.9890, 5677,     25.9,  28.1975,  34.7340,2,-999.0000,9,    203.0,2,     0.20,2,     0.00,2,     0.10,2
    49RY9306_1,  PR04,RY8475,  1,      3,      3,2,19930618,1039, 16.9970, 154.9890, 5677,     51.2,  27.2372,  34.6850,2,-999.0000,9,    223.0,2,     0.20,2,     0.00,2,     0.10,2
    49RY9306_1,  PR04,RY8475,  1,      4,      4,2,19930618,1039, 16.9970, 154.9890, 5677,    100.9,  26.1075,  34.9740,2,-999.0000,9,    247.0,2,     0.20,2,     0.00,2,     0.06,2
    49RY9306_1,  PR04,RY8475,  1,      5,      5,2,19930618,1039, 16.9970, 154.9890, 5677,    151.3,  24.5939,  34.9410,2,-999.0000,9,    206.0,2,     0.20,2,     0.00,2,     0.09,2
    49RY9306_1,  PR04,RY8475,  1,      6,      6,2,19930618,1039, 16.9970, 154.9890, 5677,    201.0,  21.3432,  35.1660,2,-999.0000,9,    186.0,2,     1.60,2,     0.03,2,     0.21,2
    49RY9306_1,  PR04,RY8475,  1,      7,      7,2,19930618,1039, 16.9970, 154.9890, 5677,    302.4,  15.7268,  34.6560,2,-999.0000,9,    215.0,2,     6.80,2,     0.01,2,     0.55,2
    49RY9306_1,  PR04,RY8475,  1,      8,      8,2,19930618,1039, 16.9970, 154.9890, 5677,    403.0,  10.5333,  34.2440,2,-999.0000,9,    158.0,2,    19.00,2,     0.01,2,     1.43,2
    49RY9306_1,  PR04,RY8475,  1,      9,      9,2,19930618,1039, 16.9970, 154.9890, 5677,    504.8,   7.8727,  34.1780,2,-999.0000,9,    107.0,2,    28.90,2,     0.01,2,     2.16,2
    49RY9306_1,  PR04,RY8475,  1,     10,     10,2,19930618,1039, 16.9970, 154.9890, 5677,    605.2,   6.3201,  34.2680,2,-999.0000,9,     62.0,2,    36.70,2,     0.01,2,     2.73,2
    49RY9306_1,  PR04,RY8475,  1,     11,     11,2,19930618,1039, 16.9970, 154.9890, 5677,    806.9,   5.0838,  34.4700,2,-999.0000,9,     63.0,2,    39.30,2,     0.00,2,     2.88,2
    49RY9306_1,  PR04,RY8475,  1,     12,     12,2,19930618,1039, 16.9970, 154.9890, 5677,   1008.8,   4.2363,  34.5210,2,-999.0000,9,     72.0,2,    39.90,2,     0.00,2,     2.90,2
    49RY9306_1,  PR04,RY8475,  1,     13,     13,2,19930618,1039, 16.9970, 154.9890, 5677,   1263.9,   3.4717,  34.5470,2,-999.0000,9,     80.0,2,    39.90,2,     0.00,2,     2.91,2
    49RY9306_1,  PR04,RY8476,  1,      1,      1,2,19930618,1726, 16.0018, 154.9845, 4996,      0.0,  28.3759,  34.6230,2,-999.0000,9,    203.0,2,     0.20,2,     0.00,2,     0.09,2
    49RY9306_1,  PR04,RY8476,  1,      2,      2,2,19930618,1726, 16.0018, 154.9845, 4996,     25.2,  28.2119,  34.6130,2,-999.0000,9,    203.0,2,     0.10,2,     0.00,2,     0.09,2
    49RY9306_1,  PR04,RY8476,  1,      3,      3,2,19930618,1726, 16.0018, 154.9845, 4996,     50.8,  27.1573,  34.6180,2,-999.0000,9,    210.0,2,     0.20,2,     0.00,2,     0.09,2
    49RY9306_1,  PR04,RY8476,  1,      4,      4,2,19930618,1726, 16.0018, 154.9845, 4996,    100.7,  25.9607,  34.7550,2,-999.0000,9,    213.0,2,     0.10,2,     0.00,2,     0.08,2
    49RY9306_1,  PR04,RY8476,  1,      5,      5,2,19930618,1726, 16.0018, 154.9845, 4996,    150.5,  25.4304,  34.9990,2,-999.0000,9,    213.0,2,     0.10,2,     0.00,2,     0.05,2
    49RY9306_1,  PR04,RY8476,  1,      6,      6,2,19930618,1726, 16.0018, 154.9845, 4996,    201.7,  22.4843,  35.1730,2,-999.0000,9,    190.0,2,     0.80,2,     0.12,2,     0.17,2
    49RY9306_1,  PR04,RY8476,  1,      7,      7,2,19930618,1726, 16.0018, 154.9845, 4996,    302.2,  14.9355,  34.5880,2,-999.0000,9,    192.0,2,     8.50,2,     0.00,2,     0.67,2
    49RY9306_1,  PR04,RY8476,  1,      8,      8,2,19930618,1726, 16.0018, 154.9845, 4996,    402.3,  10.5892,  34.2710,2,-999.0000,9,    158.0,2,    19.10,2,     0.00,2,     1.44,2
    49RY9306_1,  PR04,RY8476,  1,      9,      9,2,19930618,1726, 16.0018, 154.9845, 4996,    503.3,   7.6330,  34.2130,2,-999.0000,9,    100.0,2,    30.70,2,     0.00,2,     2.29,2
    49RY9306_1,  PR04,RY8476,  1,     10,     10,2,19930618,1726, 16.0018, 154.9845, 4996,    604.0,   6.6666,  34.3320,2,-999.0000,9,     68.0,2,    35.90,2,     0.00,2,     2.66,2
    49RY9306_1,  PR04,RY8476,  1,     11,     11,2,19930618,1726, 16.0018, 154.9845, 4996,    807.0,   5.2362,  34.4480,2,-999.0000,9,     73.0,2,    38.40,2,     0.00,2,     2.82,2
    49RY9306_1,  PR04,RY8476,  1,     12,     12,2,19930618,1726, 16.0018, 154.9845, 4996,   1008.8,   4.3286,  34.5150,2,-999.0000,9,     77.0,2,    39.40,2,     0.00,2,     2.89,2
    49RY9306_1,  PR04,RY8476,  1,     13,     13,2,19930618,1726, 16.0018, 154.9845, 4996,   1263.0,   3.4580,  34.5500,2,-999.0000,9,     88.0,2,    39.50,2,     0.01,2,     2.88,2
    49RY9306_1,  PR04,RY8477,  1,      1,      1,2,19930618,2353, 14.9838, 155.0038, 5631,      0.0,  28.4483,  34.4710,2,-999.0000,9,    200.0,2,     0.40,2,     0.03,2,     0.07,2
    49RY9306_1,  PR04,RY8477,  1,      2,      2,2,19930618,2353, 14.9838, 155.0038, 5631,     11.3,  28.3118,  34.4720,2,  34.4759,2,    201.0,2,     0.10,2,     0.01,2,     0.11,2
    49RY9306_1,  PR04,RY8477,  1,      3,      3,2,19930618,2353, 14.9838, 155.0038, 5631,     25.2,  28.2802,  34.4670,2,-999.0000,9,    201.0,2,     0.10,2,     0.01,2,     0.11,2
    49RY9306_1,  PR04,RY8477,  1,      4,      4,2,19930618,2353, 14.9838, 155.0038, 5631,     50.3,  27.2629,  34.5830,2,  34.5819,2,    206.0,2,     0.30,2,     0.02,2,     0.10,2
    49RY9306_1,  PR04,RY8477,  1,      5,      5,2,19930618,2353, 14.9838, 155.0038, 5631,     75.6,  26.8489,  34.6960,2,-999.0000,9,    206.0,2,     0.10,2,     0.01,2,     0.10,2
    49RY9306_1,  PR04,RY8477,  1,      6,      6,2,19930618,2353, 14.9838, 155.0038, 5631,     99.9,  25.8598,  34.7580,2,-999.0000,9,    209.0,2,     0.10,2,     0.01,2,     0.09,2
    49RY9306_1,  PR04,RY8477,  1,      7,      7,2,19930618,2353, 14.9838, 155.0038, 5631,    126.1,  25.2338,  34.8830,2,-999.0000,9,    208.0,2,     0.10,2,     0.01,2,     0.09,2
    49RY9306_1,  PR04,RY8477,  1,      8,      8,2,19930618,2353, 14.9838, 155.0038, 5631,    152.2,  23.5923,  35.0470,2,-999.0000,9,    198.0,2,     0.10,2,     0.03,2,     0.13,2
    49RY9306_1,  PR04,RY8477,  1,      9,      9,2,19930618,2353, 14.9838, 155.0038, 5631,    176.6,  21.9594,  35.1140,2,-999.0000,9,    177.0,2,     0.90,2,     0.15,2,     0.22,2
    49RY9306_1,  PR04,RY8477,  1,     10,     10,2,19930618,2353, 14.9838, 155.0038, 5631,    202.7,  20.0357,  35.0400,2,  35.0460,2,    181.0,2,     2.70,2,     0.04,2,     0.31,2
    49RY9306_1,  PR04,RY8477,  1,     11,     11,2,19930618,2353, 14.9838, 155.0038, 5631,    251.8,  17.1130,  34.7940,2,-999.0000,9,    179.0,2,     5.40,2,     0.05,2,     0.50,2
    49RY9306_1,  PR04,RY8477,  1,     12,     12,2,19930618,2353, 14.9838, 155.0038, 5631,    301.9,  13.5386,  34.4850,2,-999.0000,9,    158.0,2,    13.20,2,     0.03,2,     1.07,2
    49RY9306_1,  PR04,RY8477,  1,     13,     13,2,19930618,2353, 14.9838, 155.0038, 5631,    404.0,   9.2530,  34.3180,2,  34.3214,2,     96.0,2,    27.80,2,     0.03,2,     2.13,2
    49RY9306_1,  PR04,RY8477,  2,     14,     14,2,19930619,0157, 14.9973, 154.9768, 5687,    504.8,   7.6876,  34.3650,2,  34.3667,2,   -999.0,5,    33.80,2,     0.01,2,     2.56,2
    49RY9306_1,  PR04,RY8477,  2,     15,     15,2,19930619,0157, 14.9973, 154.9768, 5687,    605.6,   6.7333,  34.4460,2,-999.0000,9,     63.0,2,    36.20,2,     0.01,2,     2.70,2
    49RY9306_1,  PR04,RY8477,  2,     16,     16,2,19930619,0157, 14.9973, 154.9768, 5687,    706.9,   6.1599,  34.4730,2,-999.0000,9,     63.0,2,    37.50,2,     0.00,2,     2.79,2
    49RY9306_1,  PR04,RY8477,  2,     17,     17,2,19930619,0157, 14.9973, 154.9768, 5687,    807.2,   5.6311,  34.4940,2,  34.4974,2,     65.0,2,    38.30,2,     0.01,2,     2.84,2
    49RY9306_1,  PR04,RY8477,  2,     18,     18,2,19930619,0157, 14.9973, 154.9768, 5687,    908.4,   5.1384,  34.5100,2,  34.5267,2,     65.0,2,    39.20,2,     0.02,2,     2.92,2
    49RY9306_1,  PR04,RY8477,  2,     19,     19,2,19930619,0157, 14.9973, 154.9768, 5687,   1009.5,   4.6826,  34.5260,2,-999.0000,9,     67.0,2,    39.30,2,     0.00,2,     2.93,2
    49RY9306_1,  PR04,RY8477,  2,     20,     20,2,19930619,0157, 14.9973, 154.9768, 5687,   1262.6,   3.7516,  34.5500,2,  34.5523,2,     84.0,2,    38.80,2,     0.00,2,     2.86,2
    49RY9306_1,  PR04,RY8477,  2,     21,     21,2,19930619,0157, 14.9973, 154.9768, 5687,   1516.0,   3.0638,  34.5750,2,  34.5773,2,     94.0,2,    38.70,2,     0.00,2,     2.86,2
    49RY9306_1,  PR04,RY8477,  2,     22,     22,2,19930619,0157, 14.9973, 154.9768, 5687,   2023.1,   2.1825,  34.6220,2,  34.6212,2,    110.0,2,    38.30,2,     0.01,2,     2.81,2
    49RY9306_1,  PR04,RY8477,  2,     23,     23,2,19930619,0157, 14.9973, 154.9768, 5687,   2532.3,   1.8082,  34.6570,2,  34.6553,2,    123.0,2,    37.80,2,     0.02,2,     2.75,2
    49RY9306_1,  PR04,RY8477,  2,     24,     24,2,19930619,0157, 14.9973, 154.9768, 5687,   3042.0,   1.6321,  34.6700,2,  34.6467,2,    131.0,2,    36.40,2,     0.00,2,     2.64,2
    49RY9306_1,  PR04,RY8477,  2,     25,     25,2,19930619,0157, 14.9973, 154.9768, 5687,   4063.9,   1.4511,  34.6890,2,  34.6892,2,    166.0,2,    35.20,2,     0.02,2,     2.54,2
    49RY9306_1,  PR04,RY8478,  1,      1,      1,2,19930619,0939, 13.9927, 154.9958, 6077,      0.0,  28.3687,  34.5440,2,-999.0000,9,    212.0,2,     0.20,2,     0.01,2,     0.10,2
    49RY9306_1,  PR04,RY8478,  1,      2,      2,2,19930619,0939, 13.9927, 154.9958, 6077,     24.9,  28.2690,  34.5380,2,-999.0000,9,    201.0,2,     0.20,2,     0.00,2,     0.11,2
    49RY9306_1,  PR04,RY8478,  1,      3,      3,2,19930619,0939, 13.9927, 154.9958, 6077,     49.7,  27.3641,  34.6080,2,-999.0000,9,    205.0,2,     0.20,2,     0.01,2,     0.10,2
    49RY9306_1,  PR04,RY8478,  1,      4,      4,2,19930619,0939, 13.9927, 154.9958, 6077,    101.5,  26.3109,  34.7100,2,-999.0000,9,    208.0,2,     0.20,2,     0.00,2,     0.10,2
    49RY9306_1,  PR04,RY8478,  1,      5,      5,2,19930619,0939, 13.9927, 154.9958, 6077,    151.1,  24.7933,  35.0690,2,-999.0000,9,    202.0,2,     0.20,2,     0.01,2,     0.08,2
    49RY9306_1,  PR04,RY8478,  1,      6,      6,2,19930619,0939, 13.9927, 154.9958, 6077,    201.6,  20.1671,  35.0400,2,-999.0000,9,    181.0,2,     2.60,2,     0.02,2,     0.31,2
    49RY9306_1,  PR04,RY8478,  1,      7,      7,2,19930619,0939, 13.9927, 154.9958, 6077,    302.8,  12.1605,  34.3540,2,-999.0000,9,    174.0,2,    14.30,2,     0.00,2,     1.13,2
    49RY9306_1,  PR04,RY8478,  1,      8,      8,2,19930619,0939, 13.9927, 154.9958, 6077,    403.4,   8.8080,  34.3480,2,-999.0000,9,     77.0,2,    30.10,2,     0.00,2,     2.27,2
    49RY9306_1,  PR04,RY8478,  1,      9,      9,2,19930619,0939, 13.9927, 154.9958, 6077,    503.1,   7.5628,  34.4130,2,-999.0000,9,     53.0,2,    35.10,2,     0.00,2,     2.62,2
    49RY9306_1,  PR04,RY8478,  1,     10,     10,2,19930619,0939, 13.9927, 154.9958, 6077,    604.7,   6.7435,  34.4530,2,-999.0000,9,     54.0,2,    37.10,2,     0.00,2,     2.74,2
    49RY9306_1,  PR04,RY8478,  1,     11,     11,2,19930619,0939, 13.9927, 154.9958, 6077,    806.3,   5.5682,  34.5000,2,-999.0000,9,     62.0,2,    38.90,2,     0.01,2,     2.85,2
    49RY9306_1,  PR04,RY8478,  1,     12,     12,2,19930619,0939, 13.9927, 154.9958, 6077,   1007.4,   4.5398,  34.5320,2,-999.0000,9,     68.0,2,    40.00,2,     0.00,2,     2.93,2
    49RY9306_1,  PR04,RY8478,  1,     13,     13,2,19930619,0939, 13.9927, 154.9958, 6077,   1261.7,   3.6079,  34.5670,2,-999.0000,9,     73.0,2,    40.60,2,     0.01,2,     2.97,2
    49RY9306_1,  PR04,RY8479,  1,      1,      1,2,19930619,1606, 12.9980, 154.9898, 6061,      0.0,  28.3917,  34.3670,2,-999.0000,9,    206.0,2,     0.10,2,     0.00,2,     0.05,2
    49RY9306_1,  PR04,RY8479,  1,      2,      2,2,19930619,1606, 12.9980, 154.9898, 6061,     25.3,  28.3373,  34.4570,2,-999.0000,9,    202.0,2,     0.10,2,     0.00,2,     0.08,2
    49RY9306_1,  PR04,RY8479,  1,      3,      3,2,19930619,1606, 12.9980, 154.9898, 6061,     50.4,  27.5005,  34.8450,2,-999.0000,9,    213.0,2,     0.10,2,     0.00,2,     0.06,2
    49RY9306_1,  PR04,RY8479,  1,      4,      4,2,19930619,1606, 12.9980, 154.9898, 6061,    101.1,  26.2499,  34.9600,2,-999.0000,9,    212.0,2,     0.10,2,     0.00,2,     0.04,2
    49RY9306_1,  PR04,RY8479,  1,      5,      5,2,19930619,1606, 12.9980, 154.9898, 6061,    151.5,  24.8057,  35.0790,2,-999.0000,9,    204.0,2,     0.20,2,     0.00,2,     0.04,2
    49RY9306_1,  PR04,RY8479,  1,      6,      6,2,19930619,1606, 12.9980, 154.9898, 6061,    201.7,  18.6508,  34.8820,2,-999.0000,9,    182.0,2,     4.80,2,     0.01,2,     0.49,2
    49RY9306_1,  PR04,RY8479,  1,      7,      7,2,19930619,1606, 12.9980, 154.9898, 6061,    302.6,  11.3686,  34.3270,2,-999.0000,9,    154.0,2,    19.30,2,     0.00,2,     1.50,2
    49RY9306_1,  PR04,RY8479,  1,      8,      8,2,19930619,1606, 12.9980, 154.9898, 6061,    402.9,   8.7378,  34.3910,2,-999.0000,9,     75.0,2,    33.30,2,     0.00,2,     2.49,2
    49RY9306_1,  PR04,RY8479,  1,      9,      9,2,19930619,1606, 12.9980, 154.9898, 6061,    503.5,   7.3877,  34.4630,2,-999.0000,9,     56.0,2,    37.90,2,     0.00,2,     2.83,2
    49RY9306_1,  PR04,RY8479,  1,     10,     10,2,19930619,1606, 12.9980, 154.9898, 6061,    604.4,   6.3936,  34.4720,2,-999.0000,9,     80.0,2,    38.40,2,     0.00,2,     2.82,2
    49RY9306_1,  PR04,RY8479,  1,     11,     11,2,19930619,1606, 12.9980, 154.9898, 6061,    806.7,   5.3330,  34.5050,2,-999.0000,9,     80.0,2,    40.40,2,     0.01,2,     2.95,2
    49RY9306_1,  PR04,RY8479,  1,     12,     12,2,19930619,1606, 12.9980, 154.9898, 6061,   1008.7,   4.3670,  34.5410,2,-999.0000,9,     85.0,2,    41.20,2,     0.00,2,     3.02,2
    49RY9306_1,  PR04,RY8479,  1,     13,     13,2,19930619,1606, 12.9980, 154.9898, 6061,   1262.0,   3.4967,  34.5700,2,-999.0000,9,     93.0,2,    41.60,2,     0.01,2,     3.03,2
    49RY9306_1,  PR04,RY8480,  1,      1,      1,2,19930619,2224, 11.9945, 154.9905, 5900,      0.0,  28.5447,  34.0280,2,-999.0000,9,    197.0,2,     0.10,2,     0.01,2,     0.07,2
    49RY9306_1,  PR04,RY8480,  1,      2,      2,2,19930619,2224, 11.9945, 154.9905, 5900,     26.9,  28.5207,  34.0290,2,-999.0000,9,    200.0,2,     0.20,2,     0.01,2,     0.09,2
    49RY9306_1,  PR04,RY8480,  1,      3,      3,2,19930619,2224, 11.9945, 154.9905, 5900,     51.2,  27.3485,  34.5590,2,-999.0000,9,    206.0,2,     0.20,2,     0.01,2,     0.10,2
    49RY9306_1,  PR04,RY8480,  1,      4,      4,2,19930619,2224, 11.9945, 154.9905, 5900,    101.7,  25.5959,  34.7640,2,-999.0000,9,    212.0,2,     0.30,2,     0.02,2,     0.09,2
    49RY9306_1,  PR04,RY8480,  1,      5,      5,2,19930619,2224, 11.9945, 154.9905, 5900,    151.0,  22.5166,  35.1310,2,-999.0000,9,    190.0,2,     0.70,2,     0.13,2,     0.16,2
    49RY9306_1,  PR04,RY8480,  1,      6,      6,2,19930619,2224, 11.9945, 154.9905, 5900,    202.2,  17.1861,  34.7790,2,-999.0000,9,    182.0,2,     5.80,2,     0.02,2,     0.52,2
    49RY9306_1,  PR04,RY8480,  1,      7,      7,2,19930619,2224, 11.9945, 154.9905, 5900,    303.5,  10.0909,  34.3580,2,-999.0000,9,    104.0,2,    25.20,2,     0.01,2,     1.96,2
    49RY9306_1,  PR04,RY8480,  1,      8,      8,2,19930619,2224, 11.9945, 154.9905, 5900,    403.6,   8.4256,  34.4850,2,-999.0000,9,     67.0,2,    32.50,2,     0.01,2,     2.43,2
    49RY9306_1,  PR04,RY8480,  1,      9,      9,2,19930619,2224, 11.9945, 154.9905, 5900,    604.5,   6.4725,  34.5070,2,-999.0000,9,     75.0,2,    35.50,2,     0.00,2,     2.65,2
    49RY9306_1,  PR04,RY8480,  1,     10,     10,2,19930619,2224, 11.9945, 154.9905, 5900,    805.1,   5.3722,  34.5250,2,-999.0000,9,     84.0,2,    37.60,2,     0.02,2,     2.80,2
    49RY9306_1,  PR04,RY8480,  1,     11,     11,2,19930619,2224, 11.9945, 154.9905, 5900,   1007.3,   4.4469,  34.5470,2,-999.0000,9,     80.0,2,    38.40,2,     0.00,2,     2.86,2
    49RY9306_1,  PR04,RY8480,  1,     12,     12,2,19930619,2224, 11.9945, 154.9905, 5900,   1258.6,   3.5876,  34.5710,2,-999.0000,9,     83.0,2,    39.30,2,     0.00,2,     2.92,2
    49RY9306_1,  PR04,RY8481,  1,      1,      1,2,19930620,0458, 10.9982, 154.9980, 5739,      0.0,  28.7547,  33.8310,2,-999.0000,9,   -999.0,5,     0.10,2,     0.02,2,     0.06,2
    49RY9306_1,  PR04,RY8481,  1,      2,      2,2,19930620,0458, 10.9982, 154.9980, 5739,     26.4,  28.6726,  33.8550,2,-999.0000,9,    199.0,2,     0.00,2,     0.00,2,     0.07,2
    49RY9306_1,  PR04,RY8481,  1,      3,      3,2,19930620,0458, 10.9982, 154.9980, 5739,     51.5,  28.4940,  33.9390,2,-999.0000,9,    200.0,2,     0.00,2,     0.01,2,     0.07,2
    49RY9306_1,  PR04,RY8481,  1,      4,      4,2,19930620,0458, 10.9982, 154.9980, 5739,    101.1,  26.3474,  34.5460,2,-999.0000,9,    207.0,2,     0.00,2,     0.01,2,     0.11,2
    49RY9306_1,  PR04,RY8481,  1,      5,      5,2,19930620,0458, 10.9982, 154.9980, 5739,    152.5,  19.2466,  34.8170,2,-999.0000,9,    177.0,2,     4.00,2,     0.11,2,     0.46,2
    49RY9306_1,  PR04,RY8481,  1,      6,      6,2,19930620,0458, 10.9982, 154.9980, 5739,    202.8,  14.2278,  34.5400,2,-999.0000,9,    151.0,2,    13.30,2,     0.04,2,     1.05,2
    49RY9306_1,  PR04,RY8481,  1,      7,      7,2,19930620,0458, 10.9982, 154.9980, 5739,    302.9,   9.9213,  34.5040,2,-999.0000,9,     66.0,2,    30.20,2,     0.02,2,     2.23,2
    49RY9306_1,  PR04,RY8481,  1,      8,      8,2,19930620,0458, 10.9982, 154.9980, 5739,    404.8,   8.3231,  34.5250,2,-999.0000,9,     63.0,2,    33.90,2,     0.01,2,     2.45,2
    49RY9306_1,  PR04,RY8481,  1,      9,      9,2,19930620,0458, 10.9982, 154.9980, 5739,    505.0,   7.2658,  34.5090,2,-999.0000,9,     72.0,2,    35.20,2,     0.02,2,     2.54,2
    49RY9306_1,  PR04,RY8481,  1,     10,     10,2,19930620,0458, 10.9982, 154.9980, 5739,    605.6,   6.6414,  34.5120,2,-999.0000,9,     76.0,2,    35.90,2,     0.01,2,     2.61,2
    49RY9306_1,  PR04,RY8481,  1,     11,     11,2,19930620,0458, 10.9982, 154.9980, 5739,    807.6,   5.5932,  34.5270,2,-999.0000,9,     77.0,2,    38.00,2,     0.00,2,     2.76,2
    49RY9306_1,  PR04,RY8481,  1,     12,     12,2,19930620,0458, 10.9982, 154.9980, 5739,   1008.3,   4.7172,  34.5450,2,-999.0000,9,     79.0,2,    39.10,2,     0.00,2,     2.85,2
    49RY9306_1,  PR04,RY8481,  1,     13,     13,2,19930620,0458, 10.9982, 154.9980, 5739,   1263.4,   3.6191,  34.5680,2,-999.0000,9,     87.0,2,    39.50,2,     0.00,2,     2.86,2