BOTTLE,20010413WHPSIOKJU
EXPOCODE,SECT_ID,STNNBR,CASTNO,SAMPNO,BTLNBR,BTLNBR_FLAG_W,DATE,TIME,LATITUDE,LONGITUDE,DEPTH,CTDPRS,CTDTMP,CTDSAL,CTDSAL_FLAG_W,SALNTY,SALNTY_FLAG_W,OXYGEN,OXYGEN_FLAG_W,NITRAT,NITRAT_FLAG_W,NITRIT,NITRIT_FLAG_W,PHSPHT,PHSPHT_FLAG_W
,,,,,,,,,,,,DBAR,DEG C,PSS-78,,PSS-78,,UMOL/KG,,UMOL/KG,,UMOL/KG,,UMOL/KG,
    49RY9306_1,  PR04,RY8495,  1,      1,      1,2,19930624,0157, -2.9957, 154.9925, 2379,      0.0,  29.2173,  34.1580,2,-999.0000,9,    197.0,2,     0.00,2,     0.01,2,     0.13,2
    49RY9306_1,  PR04,RY8495,  1,      2,      2,2,19930624,0157, -2.9957, 154.9925, 2379,     25.9,  28.9748,  34.1530,2,-999.0000,9,    198.0,2,     0.00,2,     0.00,2,     0.12,2
    49RY9306_1,  PR04,RY8495,  1,      3,      3,2,19930624,0157, -2.9957, 154.9925, 2379,     51.0,  28.8870,  35.1220,2,-999.0000,9,    200.0,2,     0.00,2,     0.03,2,     0.24,2
    49RY9306_1,  PR04,RY8495,  1,      4,      4,2,19930624,0157, -2.9957, 154.9925, 2379,    100.8,  26.1025,  35.2330,2,-999.0000,9,    145.0,2,     6.80,2,     0.11,2,     0.66,2
    49RY9306_1,  PR04,RY8495,  1,      5,      5,2,19930624,0157, -2.9957, 154.9925, 2379,    151.5,  22.5742,  35.4480,2,-999.0000,9,    133.0,2,     8.60,2,     0.02,2,     0.75,2
    49RY9306_1,  PR04,RY8495,  1,      6,      6,2,19930624,0157, -2.9957, 154.9925, 2379,    202.5,  16.9901,  35.3720,2,-999.0000,9,    121.0,2,    15.10,2,     0.02,2,     1.19,2
    49RY9306_1,  PR04,RY8495,  1,      7,      7,2,19930624,0157, -2.9957, 154.9925, 2379,    303.1,  10.6124,  34.7920,2,-999.0000,9,    128.0,2,    24.60,2,     0.01,2,     1.76,2
    49RY9306_1,  PR04,RY8495,  1,      8,      8,2,19930624,0157, -2.9957, 154.9925, 2379,    403.7,   9.1267,  34.6730,2,-999.0000,9,    127.0,2,    27.60,2,     0.00,2,     1.94,2
    49RY9306_1,  PR04,RY8495,  1,      9,      9,2,19930624,0157, -2.9957, 154.9925, 2379,    504.4,   7.7726,  34.5840,2,-999.0000,9,    133.0,2,    30.00,2,     0.00,2,     2.12,2
    49RY9306_1,  PR04,RY8495,  1,     10,     10,2,19930624,0157, -2.9957, 154.9925, 2379,    604.9,   6.7524,  34.5520,2,-999.0000,9,    102.0,2,    35.60,2,     0.01,2,     2.53,2
    49RY9306_1,  PR04,RY8495,  1,     11,     11,2,19930624,0157, -2.9957, 154.9925, 2379,    806.1,   5.3502,  34.5270,2,-999.0000,9,    112.0,2,    36.60,2,     0.00,2,     2.63,2
    49RY9306_1,  PR04,RY8495,  1,     12,     12,2,19930624,0157, -2.9957, 154.9925, 2379,   1008.8,   4.4001,  34.5420,2,-999.0000,9,    109.0,2,    38.10,2,     0.00,2,     2.73,2
    49RY9306_1,  PR04,RY8495,  1,     13,     13,2,19930624,0157, -2.9957, 154.9925, 2379,   1252.4,   3.6786,  34.5580,2,-999.0000,9,    121.0,2,    37.60,2,     0.00,2,     2.71,2
    49RY9306_1,  PR04,RY8496,  1,      1,      1,2,19930624,0954, -3.9990, 154.9945, 2419,      0.0,  28.8052,  34.1410,2,-999.0000,9,    199.0,2,     0.00,2,     0.01,2,     0.16,2
    49RY9306_1,  PR04,RY8496,  1,      2,      2,2,19930624,0954, -3.9990, 154.9945, 2419,     26.3,  28.5850,  34.3860,2,-999.0000,5,    202.0,2,     0.00,2,     0.00,2,     0.16,2
    49RY9306_1,  PR04,RY8496,  1,      3,      3,2,19930624,0954, -3.9990, 154.9945, 2419,     51.6,  28.2744,  34.8270,2,-999.0000,9,    194.0,2,     0.90,2,     0.31,2,     0.24,2
    49RY9306_1,  PR04,RY8496,  1,      4,      4,2,19930624,0954, -3.9990, 154.9945, 2419,    101.2,  26.6288,  35.2070,2,  35.2071,2,    161.0,2,     5.00,2,     0.58,2,     0.52,2
    49RY9306_1,  PR04,RY8496,  1,      5,      5,2,19930624,0954, -3.9990, 154.9945, 2419,    151.4,  23.6215,  35.4390,2,-999.0000,5,    132.0,2,     8.70,2,     0.03,2,     0.72,2
    49RY9306_1,  PR04,RY8496,  1,      6,      6,2,19930624,0954, -3.9990, 154.9945, 2419,    203.0,  15.4640,  35.2290,2,-999.0000,9,    106.0,2,    19.00,2,     0.02,2,     1.45,2
    49RY9306_1,  PR04,RY8496,  1,      7,      7,2,19930624,0954, -3.9990, 154.9945, 2419,    303.2,   9.5874,  34.7310,2,  34.7192,2,     97.0,2,    29.40,2,     0.00,2,     2.05,2
    49RY9306_1,  PR04,RY8496,  1,      8,      8,2,19930624,0954, -3.9990, 154.9945, 2419,    403.7,   8.5754,  34.6360,2,  34.6427,2,    112.0,2,    30.10,2,     0.00,2,     2.08,2
    49RY9306_1,  PR04,RY8496,  1,      9,      9,2,19930624,0954, -3.9990, 154.9945, 2419,    504.8,   7.7175,  34.5900,2,  34.5950,2,    103.0,2,    33.00,2,     0.01,2,     2.29,2
    49RY9306_1,  PR04,RY8496,  1,     10,     10,2,19930624,0954, -3.9990, 154.9945, 2419,    605.9,   6.6863,  34.5420,2,  34.5470,2,    120.0,2,    33.20,2,     0.01,2,     2.33,2
    49RY9306_1,  PR04,RY8496,  1,     11,     11,2,19930624,0954, -3.9990, 154.9945, 2419,    805.6,   5.3289,  34.5160,2,-999.0000,5,    126.0,2,    34.80,2,     0.00,2,     2.47,2
    49RY9306_1,  PR04,RY8496,  1,     12,     12,2,19930624,0954, -3.9990, 154.9945, 2419,   1009.9,   4.5344,  34.5380,2,  34.5403,2,    112.0,2,    37.10,2,     0.00,2,     2.63,2
    49RY9306_1,  PR04,RY8496,  1,     13,     13,2,19930624,0954, -3.9990, 154.9945, 2419,   1265.0,   3.6130,  34.5620,2,-999.0000,5,    117.0,2,    37.60,2,     0.00,2,     2.69,2