BOTTLE,20010413WHPSIOKJU
EXPOCODE,SECT_ID,STNNBR,CASTNO,SAMPNO,BTLNBR,BTLNBR_FLAG_W,DATE,TIME,LATITUDE,LONGITUDE,DEPTH,CTDPRS,CTDTMP,CTDSAL,CTDSAL_FLAG_W,SALNTY,SALNTY_FLAG_W,OXYGEN,OXYGEN_FLAG_W,NITRAT,NITRAT_FLAG_W,NITRIT,NITRIT_FLAG_W,PHSPHT,PHSPHT_FLAG_W
,,,,,,,,,,,,DBAR,DEG C,PSS-78,,PSS-78,,UMOL/KG,,UMOL/KG,,UMOL/KG,,UMOL/KG,
    49RY9306_1,  PR04,RY8488,  1,      1,      1,2,19930622,0633,  3.9930, 155.1692, 2995,      0.0,  28.9372,  33.8130,2,-999.0000,9,   -999.0,5,     0.00,2,     0.01,2,     0.05,2
    49RY9306_1,  PR04,RY8488,  1,      2,      2,2,19930622,0633,  3.9930, 155.1692, 2995,     24.6,  28.6351,  33.8130,2,-999.0000,9,   -999.0,5,     0.00,2,     0.01,2,     0.05,2
    49RY9306_1,  PR04,RY8488,  1,      3,      3,2,19930622,0633,  3.9930, 155.1692, 2995,     50.6,  26.6284,  34.6180,2,-999.0000,9,    188.0,2,     0.00,2,     0.01,2,     0.16,2
    49RY9306_1,  PR04,RY8488,  1,      4,      4,2,19930622,0633,  3.9930, 155.1692, 2995,    100.5,  24.0586,  34.6100,2,-999.0000,9,    158.0,2,     5.60,2,     0.06,2,     0.49,2
    49RY9306_1,  PR04,RY8488,  1,      5,      5,2,19930622,0633,  3.9930, 155.1692, 2995,    151.4,  20.2795,  34.8600,2,-999.0000,9,    147.0,2,     8.90,2,     0.04,2,     0.73,2
    49RY9306_1,  PR04,RY8488,  1,      6,      6,2,19930622,0633,  3.9930, 155.1692, 2995,    201.2,  13.3650,  34.5490,2,-999.0000,9,    130.0,2,    18.50,2,     0.02,2,     1.38,2
    49RY9306_1,  PR04,RY8488,  1,      7,      7,2,19930622,0633,  3.9930, 155.1692, 2995,    301.8,   9.2200,  34.5900,2,-999.0000,9,     77.0,2,    31.40,2,     0.01,2,     2.28,2
    49RY9306_1,  PR04,RY8488,  1,      8,      8,2,19930622,0633,  3.9930, 155.1692, 2995,    402.3,   8.3185,  34.6000,2,-999.0000,9,     58.0,2,    35.00,2,     0.01,2,     2.55,2
    49RY9306_1,  PR04,RY8488,  1,      9,      9,2,19930622,0633,  3.9930, 155.1692, 2995,    503.3,   7.3889,  34.5650,2,-999.0000,9,     76.0,2,    35.40,2,     0.01,2,     2.57,2
    49RY9306_1,  PR04,RY8488,  1,     10,     10,2,19930622,0633,  3.9930, 155.1692, 2995,    604.3,   6.6259,  34.5480,2,-999.0000,9,     72.0,2,    37.30,2,     0.01,2,     2.73,2
    49RY9306_1,  PR04,RY8488,  1,     11,     11,2,19930622,0633,  3.9930, 155.1692, 2995,    805.6,   5.2967,  34.5390,2,-999.0000,9,     85.0,2,    38.20,2,     0.01,2,     2.83,2
    49RY9306_1,  PR04,RY8488,  1,     12,     12,2,19930622,0633,  3.9930, 155.1692, 2995,   1008.1,   4.5304,  34.5540,2,-999.0000,9,     93.0,2,    38.50,2,     0.00,2,     2.84,2
    49RY9306_1,  PR04,RY8488,  1,     13,     13,2,19930622,0633,  3.9930, 155.1692, 2995,   1262.4,   3.7214,  34.5770,2,-999.0000,9,     85.0,2,    40.20,2,     0.03,2,     2.96,2
    49RY9306_1,  PR04,RY8489,  1,      1,      1,2,19930622,1229,  2.9960, 155.0015, 2804,      0.0,  28.7626,  33.7390,2,-999.0000,9,    198.0,2,     0.00,2,     0.00,2,     0.05,2
    49RY9306_1,  PR04,RY8489,  1,      2,      2,2,19930622,1229,  2.9960, 155.0015, 2804,     24.6,  28.6763,  33.7770,2,-999.0000,9,    198.0,2,     0.00,2,     0.00,2,     0.04,2
    49RY9306_1,  PR04,RY8489,  1,      3,      3,2,19930622,1229,  2.9960, 155.0015, 2804,     50.6,  27.3546,  34.6630,2,-999.0000,9,    198.0,2,     0.00,2,     0.00,2,     0.10,2
    49RY9306_1,  PR04,RY8489,  1,      4,      4,2,19930622,1229,  2.9960, 155.0015, 2804,    101.8,  24.0178,  35.0520,2,-999.0000,9,    143.0,2,     7.60,2,     0.11,2,     0.65,2
    49RY9306_1,  PR04,RY8489,  1,      5,      5,2,19930622,1229,  2.9960, 155.0015, 2804,    152.6,  20.9537,  34.8920,2,-999.0000,9,    145.0,2,     8.60,2,     0.03,2,     0.69,2
    49RY9306_1,  PR04,RY8489,  1,      6,      6,2,19930622,1229,  2.9960, 155.0015, 2804,    202.0,  13.5144,  34.5580,2,-999.0000,9,    131.0,2,    18.00,2,     0.01,2,     1.33,2
    49RY9306_1,  PR04,RY8489,  1,      7,      7,2,19930622,1229,  2.9960, 155.0015, 2804,    302.6,  10.7005,  34.7530,2,-999.0000,9,    123.0,2,    24.50,2,     0.00,2,     1.75,2
    49RY9306_1,  PR04,RY8489,  1,      8,      8,2,19930622,1229,  2.9960, 155.0015, 2804,    402.7,   8.8994,  34.6310,2,-999.0000,9,    100.0,2,    30.10,2,     0.00,2,     2.13,2
    49RY9306_1,  PR04,RY8489,  1,      9,      9,2,19930622,1229,  2.9960, 155.0015, 2804,    504.1,   7.8253,  34.5760,2,-999.0000,9,     83.0,2,    31.80,2,     0.00,2,     2.28,2
    49RY9306_1,  PR04,RY8489,  1,     10,     10,2,19930622,1229,  2.9960, 155.0015, 2804,    604.5,   7.0141,  34.5630,2,-999.0000,9,     65.0,2,    37.30,2,     0.01,2,     2.71,2
    49RY9306_1,  PR04,RY8489,  1,     11,     11,2,19930622,1229,  2.9960, 155.0015, 2804,    805.2,   5.4680,  34.5420,2,-999.0000,9,     75.0,2,    39.10,2,     0.00,2,     2.85,2
    49RY9306_1,  PR04,RY8489,  1,     12,     12,2,19930622,1229,  2.9960, 155.0015, 2804,   1008.2,   4.4839,  34.5510,2,-999.0000,9,     84.0,2,    39.00,2,     0.00,2,     2.87,2
    49RY9306_1,  PR04,RY8489,  1,     13,     13,2,19930622,1229,  2.9960, 155.0015, 2804,   1258.2,   3.6021,  34.5780,2,-999.0000,9,     91.0,2,    39.20,2,     0.02,2,     2.88,2
    49RY9306_1,  PR04,RY8490,  1,      1,      1,2,19930622,1807,  1.9958, 155.0005, 2754,      0.0,  28.5976,  33.8620,2,-999.0000,9,    199.0,2,     0.00,2,     0.00,2,     0.03,2
    49RY9306_1,  PR04,RY8490,  1,      2,      2,2,19930622,1807,  1.9958, 155.0005, 2754,     25.3,  28.5951,  33.8970,2,-999.0000,9,    200.0,2,     0.00,2,     0.00,2,     0.03,2
    49RY9306_1,  PR04,RY8490,  1,      3,      3,2,19930622,1807,  1.9958, 155.0005, 2754,     49.6,  28.6626,  34.3740,2,-999.0000,9,    196.0,2,     0.00,2,     0.00,2,     0.09,2
    49RY9306_1,  PR04,RY8490,  1,      4,      4,2,19930622,1807,  1.9958, 155.0005, 2754,    100.7,  25.0538,  35.0490,2,-999.0000,9,    154.0,2,     6.50,2,     0.64,2,     0.61,2
    49RY9306_1,  PR04,RY8490,  1,      5,      5,2,19930622,1807,  1.9958, 155.0005, 2754,    150.8,  20.2254,  34.9000,2,-999.0000,9,    149.0,2,     9.20,2,     0.01,2,     0.73,2
    49RY9306_1,  PR04,RY8490,  1,      6,      6,2,19930622,1807,  1.9958, 155.0005, 2754,    201.2,  13.8372,  34.6880,2,-999.0000,9,    134.0,2,    18.90,2,     0.00,2,     1.38,2
    49RY9306_1,  PR04,RY8490,  1,      7,      7,2,19930622,1807,  1.9958, 155.0005, 2754,    301.8,  11.0123,  34.7690,2,-999.0000,9,    109.0,2,    25.60,2,     0.00,2,     1.83,2
    49RY9306_1,  PR04,RY8490,  1,      8,      8,2,19930622,1807,  1.9958, 155.0005, 2754,    402.7,   9.3181,  34.6530,2,-999.0000,9,    108.0,2,    29.10,2,     0.00,2,     2.06,2
    49RY9306_1,  PR04,RY8490,  1,      9,      9,2,19930622,1807,  1.9958, 155.0005, 2754,    503.7,   7.7850,  34.5790,2,-999.0000,9,    111.0,2,    31.70,2,     0.00,2,     2.27,2
    49RY9306_1,  PR04,RY8490,  1,     10,     10,2,19930622,1807,  1.9958, 155.0005, 2754,    604.1,   6.6894,  34.5420,2,-999.0000,9,    109.0,2,    34.20,2,     0.00,2,     2.46,2
    49RY9306_1,  PR04,RY8490,  1,     11,     11,2,19930622,1807,  1.9958, 155.0005, 2754,    806.0,   5.1676,  34.5350,2,-999.0000,9,    104.0,2,    36.90,2,     0.00,2,     2.67,2
    49RY9306_1,  PR04,RY8490,  1,     12,     12,2,19930622,1807,  1.9958, 155.0005, 2754,   1008.2,   4.3833,  34.5540,2,-999.0000,9,     99.0,2,    38.20,2,     0.00,2,     2.78,2
    49RY9306_1,  PR04,RY8490,  1,     13,     13,2,19930622,1807,  1.9958, 155.0005, 2754,   1260.7,   3.5017,  34.5800,2,-999.0000,9,    105.0,2,    38.70,2,     0.02,2,     2.82,2
    49RY9306_1,  PR04,RY8491,  1,      1,      1,2,19930623,0014,  0.9783, 155.0018, 2775,      0.0,  28.8641,  33.8900,2,-999.0000,9,    197.0,2,     0.00,2,     0.01,2,     0.04,2
    49RY9306_1,  PR04,RY8491,  1,      2,      2,2,19930623,0014,  0.9783, 155.0018, 2775,     24.5,  28.7651,  33.8940,2,-999.0000,9,    198.0,2,     0.00,2,     0.01,2,     0.04,2
    49RY9306_1,  PR04,RY8491,  1,      3,      3,2,19930623,0014,  0.9783, 155.0018, 2775,     51.0,  28.7321,  33.9080,2,-999.0000,9,    199.0,2,     0.00,2,     0.01,2,     0.04,2
    49RY9306_1,  PR04,RY8491,  1,      4,      4,2,19930623,0014,  0.9783, 155.0018, 2775,    100.6,  24.0557,  35.1250,2,-999.0000,9,    152.0,2,     6.20,2,     0.28,2,     0.56,2
    49RY9306_1,  PR04,RY8491,  1,      5,      5,2,19930623,0014,  0.9783, 155.0018, 2775,    152.1,  20.1310,  34.9860,2,-999.0000,9,    143.0,2,    10.30,2,     0.05,2,     0.80,2
    49RY9306_1,  PR04,RY8491,  1,      6,      6,2,19930623,0014,  0.9783, 155.0018, 2775,    201.9,  14.9986,  34.7630,2,-999.0000,9,    136.0,2,    17.00,2,     0.02,2,     1.25,2
    49RY9306_1,  PR04,RY8491,  1,      7,      7,2,19930623,0014,  0.9783, 155.0018, 2775,    303.2,  11.5277,  34.7980,2,-999.0000,9,    108.0,2,    24.90,2,     0.01,2,     1.78,2
    49RY9306_1,  PR04,RY8491,  1,      8,      8,2,19930623,0014,  0.9783, 155.0018, 2775,    402.1,   9.5546,  34.6860,2,-999.0000,9,     94.0,2,    29.90,2,     0.01,2,     2.11,2
    49RY9306_1,  PR04,RY8491,  1,      9,      9,2,19930623,0014,  0.9783, 155.0018, 2775,    503.2,   8.4307,  34.6070,2,-999.0000,9,    108.0,2,    30.80,2,     0.01,2,     2.17,2
    49RY9306_1,  PR04,RY8491,  1,     10,     10,2,19930623,0014,  0.9783, 155.0018, 2775,    605.7,   6.9295,  34.5490,2,-999.0000,9,    101.0,2,    34.30,2,     0.01,2,     2.46,2
    49RY9306_1,  PR04,RY8491,  1,     11,     11,2,19930623,0014,  0.9783, 155.0018, 2775,    806.0,   5.1443,  34.5370,2,-999.0000,9,    106.0,2,    36.90,2,     0.01,2,     2.66,2
    49RY9306_1,  PR04,RY8491,  1,     12,     12,2,19930623,0014,  0.9783, 155.0018, 2775,   1007.2,   4.4738,  34.5520,2,-999.0000,9,     99.0,2,    37.90,2,     0.00,2,     2.75,2
    49RY9306_1,  PR04,RY8491,  1,     13,     13,2,19930623,0014,  0.9783, 155.0018, 2775,   1260.8,   3.6153,  34.5780,2,-999.0000,9,     99.0,2,    38.70,2,     0.00,2,     2.82,2
    49RY9306_1,  PR04,RY8492,  1,      1,      1,2,19930623,0546,  0.0017, 155.0153, 2460,      0.0,  29.2683,  33.8520,2,-999.0000,9,    199.0,2,     0.00,2,     0.00,2,     0.03,2
    49RY9306_1,  PR04,RY8492,  1,      2,      2,2,19930623,0546,  0.0017, 155.0153, 2460,     10.7,  28.8866,  33.8470,2,  33.8485,2,    199.0,2,     0.00,2,     0.00,2,     0.03,2
    49RY9306_1,  PR04,RY8492,  1,      3,      3,2,19930623,0546,  0.0017, 155.0153, 2460,     25.8,  28.8161,  33.9120,2,-999.0000,9,    199.0,2,     0.00,2,     0.00,2,     0.03,2
    49RY9306_1,  PR04,RY8492,  1,      4,      4,2,19930623,0546,  0.0017, 155.0153, 2460,     51.1,  28.7411,  33.9970,2,-999.0000,9,    199.0,2,     0.00,2,     0.00,2,     0.03,2
    49RY9306_1,  PR04,RY8492,  1,      5,      5,2,19930623,0546,  0.0017, 155.0153, 2460,     76.4,  24.1714,  35.1230,2,-999.0000,9,    153.0,2,     5.50,2,     0.37,2,     0.55,2
    49RY9306_1,  PR04,RY8492,  1,      6,      6,2,19930623,0546,  0.0017, 155.0153, 2460,    101.0,  22.3849,  35.0470,2,  35.0482,2,    146.0,2,     6.90,2,     0.05,2,     0.62,2
    49RY9306_1,  PR04,RY8492,  1,      7,      7,2,19930623,0546,  0.0017, 155.0153, 2460,    126.7,  21.0948,  35.2130,2,-999.0000,9,   -999.0,5,     8.70,2,     0.02,2,     0.74,2
    49RY9306_1,  PR04,RY8492,  1,      8,      8,2,19930623,0546,  0.0017, 155.0153, 2460,    151.3,  19.5825,  35.1140,2,-999.0000,9,    142.0,2,    10.40,2,     0.02,2,     0.83,2
    49RY9306_1,  PR04,RY8492,  1,      9,      9,2,19930623,0546,  0.0017, 155.0153, 2460,    177.2,  18.3556,  35.3140,2,-999.0000,9,   -999.0,5,    11.10,2,     0.01,2,     0.90,2
    49RY9306_1,  PR04,RY8492,  1,     10,     10,2,19930623,0546,  0.0017, 155.0153, 2460,    202.6,  16.4330,  35.0690,2,  35.0793,2,    143.0,2,    13.50,2,     0.02,2,     1.05,2
    49RY9306_1,  PR04,RY8492,  1,     11,     11,2,19930623,0546,  0.0017, 155.0153, 2460,    252.2,  13.1823,  34.8470,2,-999.0000,9,    138.0,2,    18.60,2,     0.02,2,     1.39,2
    49RY9306_1,  PR04,RY8492,  1,     12,     12,2,19930623,0546,  0.0017, 155.0153, 2460,    301.9,  11.9959,  34.8110,2,  34.8177,2,    131.0,2,    20.90,2,     0.01,2,     1.54,2
    49RY9306_1,  PR04,RY8492,  1,     13,     13,2,19930623,0546,  0.0017, 155.0153, 2460,    401.6,   9.7003,  34.6950,2,-999.0000,9,     93.0,2,    29.30,2,     0.05,2,     2.07,2
    49RY9306_1,  PR04,RY8492,  2,     14,     14,2,19930623,0702, -0.0312, 155.0313, 2445,    503.5,   8.7560,  34.6360,2,  34.6368,2,    125.0,2,    28.60,2,     0.00,2,     2.04,2
    49RY9306_1,  PR04,RY8492,  2,     15,     15,2,19930623,0702, -0.0312, 155.0313, 2445,    603.0,   6.8826,  34.5460,2,-999.0000,9,    121.0,2,    32.40,2,     0.01,2,     2.33,2
    49RY9306_1,  PR04,RY8492,  2,     16,     16,2,19930623,0702, -0.0312, 155.0313, 2445,    704.7,   5.8714,  34.5360,2,  34.5379,2,    104.0,2,    35.90,2,     0.00,2,     2.60,2
    49RY9306_1,  PR04,RY8492,  2,     17,     17,2,19930623,0702, -0.0312, 155.0313, 2445,    806.8,   5.3177,  34.5340,2,-999.0000,9,    105.0,2,    36.40,2,     0.00,2,     2.65,2
    49RY9306_1,  PR04,RY8492,  2,     18,     18,2,19930623,0702, -0.0312, 155.0313, 2445,    906.9,   4.7580,  34.5380,2,  34.5405,2,    108.0,2,    37.50,2,     0.00,2,     2.72,2
    49RY9306_1,  PR04,RY8492,  2,     19,     19,2,19930623,0702, -0.0312, 155.0313, 2445,   1009.0,   4.3250,  34.5530,2,  34.5592,2,     98.0,2,    38.30,2,     0.00,2,     2.79,2
    49RY9306_1,  PR04,RY8492,  2,     20,     20,2,19930623,0702, -0.0312, 155.0313, 2445,   1261.9,   3.6806,  34.5730,2,  34.5761,2,    103.0,2,    38.50,2,     0.01,2,     2.83,2
    49RY9306_1,  PR04,RY8492,  2,     21,     21,2,19930623,0702, -0.0312, 155.0313, 2445,   1514.9,   3.0209,  34.5980,2,  34.6010,2,    113.0,2,    38.00,2,     0.00,2,     2.77,2
    49RY9306_1,  PR04,RY8492,  2,     22,     22,2,19930623,0702, -0.0312, 155.0313, 2445,   2023.0,   2.2540,  34.6340,2,-999.0000,5,    122.0,2,    37.90,2,     0.03,2,     2.75,2
    49RY9306_1,  PR04,RY8493,  1,      1,      1,2,19930623,1340, -1.0027, 155.0045, 2424,      0.0,  28.8786,  33.9230,2,-999.0000,9,    202.0,2,     0.00,2,     0.01,2,     0.07,2
    49RY9306_1,  PR04,RY8493,  1,      2,      2,2,19930623,1340, -1.0027, 155.0045, 2424,     26.0,  28.8477,  34.0910,2,-999.0000,9,    200.0,2,     0.00,2,     0.01,2,     0.05,2
    49RY9306_1,  PR04,RY8493,  1,      3,      3,2,19930623,1340, -1.0027, 155.0045, 2424,     51.3,  28.8026,  34.2100,2,-999.0000,9,    197.0,2,     0.00,2,     0.00,2,     0.07,2
    49RY9306_1,  PR04,RY8493,  1,      4,      4,2,19930623,1340, -1.0027, 155.0045, 2424,    101.7,  25.9685,  35.0080,2,-999.0000,9,    172.0,2,     3.00,2,     0.18,2,     0.39,2
    49RY9306_1,  PR04,RY8493,  1,      5,      5,2,19930623,1340, -1.0027, 155.0045, 2424,    152.9,  22.7565,  35.4300,2,-999.0000,9,    145.0,2,     6.80,2,     0.03,2,     0.60,2
    49RY9306_1,  PR04,RY8493,  1,      6,      6,2,19930623,1340, -1.0027, 155.0045, 2424,    201.8,  17.2502,  35.3770,2,-999.0000,9,    144.0,2,    11.80,2,     0.02,2,     0.94,2
    49RY9306_1,  PR04,RY8493,  1,      7,      7,2,19930623,1340, -1.0027, 155.0045, 2424,    303.1,  11.5765,  34.8100,2,-999.0000,9,    107.0,2,    24.80,2,     0.00,2,     1.77,2
    49RY9306_1,  PR04,RY8493,  1,      8,      8,2,19930623,1340, -1.0027, 155.0045, 2424,    403.8,   9.9841,  34.7110,2,-999.0000,9,     89.0,2,    29.50,2,     0.00,2,     2.08,2
    49RY9306_1,  PR04,RY8493,  1,      9,      9,2,19930623,1340, -1.0027, 155.0045, 2424,    504.2,   8.1889,  34.6090,2,-999.0000,9,    135.0,2,    28.80,2,     0.00,2,     2.02,2
    49RY9306_1,  PR04,RY8493,  1,     10,     10,2,19930623,1340, -1.0027, 155.0045, 2424,    605.7,   6.7002,  34.5440,2,-999.0000,9,    120.0,2,    33.40,2,     0.00,2,     2.35,2
    49RY9306_1,  PR04,RY8493,  1,     11,     11,2,19930623,1340, -1.0027, 155.0045, 2424,    807.4,   5.3167,  34.5290,2,-999.0000,9,    113.0,2,    36.40,2,     0.00,2,     2.61,2
    49RY9306_1,  PR04,RY8493,  1,     12,     12,2,19930623,1340, -1.0027, 155.0045, 2424,   1009.3,   4.4334,  34.5500,2,-999.0000,9,    100.0,2,    38.60,2,     0.00,2,     2.80,2
    49RY9306_1,  PR04,RY8493,  1,     13,     13,2,19930623,1340, -1.0027, 155.0045, 2424,   1261.8,   3.6100,  34.5750,2,-999.0000,9,    100.0,2,    39.10,2,     0.01,2,     2.84,2
    49RY9306_1,  PR04,RY8494,  1,      1,      1,2,19930623,1929, -1.9867, 155.0078, 2320,      0.0,  28.6785,  34.3510,2,-999.0000,9,    198.0,2,     0.00,2,     0.00,2,     0.13,2
    49RY9306_1,  PR04,RY8494,  1,      2,      2,2,19930623,1929, -1.9867, 155.0078, 2320,     25.1,  28.8586,  34.5240,2,-999.0000,9,    199.0,2,     0.00,2,     0.00,2,     0.16,2
    49RY9306_1,  PR04,RY8494,  1,      3,      3,2,19930623,1929, -1.9867, 155.0078, 2320,     50.7,  28.8745,  34.7500,2,-999.0000,9,    200.0,2,     0.00,2,     0.01,2,     0.19,2
    49RY9306_1,  PR04,RY8494,  1,      4,      4,2,19930623,1929, -1.9867, 155.0078, 2320,    101.2,  25.8507,  35.2430,2,-999.0000,9,    160.0,2,     6.00,2,     0.64,2,     0.58,2
    49RY9306_1,  PR04,RY8494,  1,      5,      5,2,19930623,1929, -1.9867, 155.0078, 2320,    150.2,  22.2569,  35.5810,2,-999.0000,9,    140.0,2,     7.90,2,     0.03,2,     0.67,2
    49RY9306_1,  PR04,RY8494,  1,      6,      6,2,19930623,1929, -1.9867, 155.0078, 2320,    201.0,  15.1179,  35.1310,2,-999.0000,9,    116.0,2,    18.40,2,     0.01,2,     1.39,2
    49RY9306_1,  PR04,RY8494,  1,      7,      7,2,19930623,1929, -1.9867, 155.0078, 2320,    301.3,  11.5022,  34.8800,2,-999.0000,9,    131.0,2,    22.60,2,     0.00,2,     1.61,2
    49RY9306_1,  PR04,RY8494,  1,      8,      8,2,19930623,1929, -1.9867, 155.0078, 2320,    402.1,  10.3522,  34.7670,2,-999.0000,9,    124.0,2,    25.50,2,     0.00,2,     1.81,2
    49RY9306_1,  PR04,RY8494,  1,      9,      9,2,19930623,1929, -1.9867, 155.0078, 2320,    502.7,   8.2184,  34.6160,2,-999.0000,9,    119.0,2,    30.70,2,     0.01,2,     2.15,2
    49RY9306_1,  PR04,RY8494,  1,     10,     10,2,19930623,1929, -1.9867, 155.0078, 2320,    604.2,   6.5286,  34.5390,2,-999.0000,9,    117.0,2,    34.10,2,     0.00,2,     2.43,2
    49RY9306_1,  PR04,RY8494,  1,     11,     11,2,19930623,1929, -1.9867, 155.0078, 2320,    806.0,   5.1803,  34.5320,2,-999.0000,9,    110.0,2,    37.00,2,     0.00,2,     2.66,2
    49RY9306_1,  PR04,RY8494,  1,     12,     12,2,19930623,1929, -1.9867, 155.0078, 2320,   1008.4,   4.2990,  34.5450,2,-999.0000,9,    111.0,2,    37.70,2,     0.00,2,     2.73,2
    49RY9306_1,  PR04,RY8494,  1,     13,     13,2,19930623,1929, -1.9867, 155.0078, 2320,   1263.9,   3.4979,  34.5800,2,-999.0000,9,    103.0,2,    38.90,2,     0.02,2,     2.85,2