BOTTLE,20020619WHPSIOKJU
EXPOCODE,SECT_ID,STNNBR,CASTNO,SAMPNO,BTLNBR,BTLNBR_FLAG_W,DATE,TIME,LATITUDE,LONGITUDE,DEPTH,CTDPRS,CTDTMP,CTDSAL,CTDSAL_FLAG_W,SALNTY,SALNTY_FLAG_W,THETA,CTDRAW
,,,,,,,,,,,,DBAR,ITS-90,PSS-78,,PSS-78,,ITS-90,
   31DSEP692_2,  PR16,    55,  1,     24,   -999,2,19921102,0633,  2.9967,-110.0100, -999,      6.6,  25.7270,  33.9696,2,  33.9690,2, 25.7255,   -999
   31DSEP692_2,  PR16,    55,  1,     23,   -999,2,19921102,0633,  2.9967,-110.0100, -999,     12.4,  25.7270,  33.9696,2,  33.9690,2, 25.7243,   -999
   31DSEP692_2,  PR16,    55,  1,     22,   -999,2,19921102,0633,  2.9967,-110.0100, -999,     21.7,  25.7220,  33.9706,2,  33.9700,2, 25.7172,   -999
   31DSEP692_2,  PR16,    55,  1,     21,   -999,2,19921102,0633,  2.9967,-110.0100, -999,     42.7,  25.6420,  33.9886,2,  33.9880,2, 25.6326,   -999
   31DSEP692_2,  PR16,    55,  1,     20,   -999,2,19921102,0633,  2.9967,-110.0100, -999,     53.1,  25.4790,  34.0197,2,  34.0220,2, 25.4674,   -999
   31DSEP692_2,  PR16,    55,  1,     19,   -999,2,19921102,0633,  2.9967,-110.0100, -999,     61.7,  25.0190,  34.1301,2,  34.0990,2, 25.0057,   -999
   31DSEP692_2,  PR16,    55,  1,     18,   -999,2,19921102,0633,  2.9967,-110.0100, -999,     81.6,  22.2960,  34.7068,2,  34.6680,2, 22.2797,   -999
   31DSEP692_2,  PR16,    55,  1,     17,   -999,2,19921102,0633,  2.9967,-110.0100, -999,     92.4,  21.1630,  34.7460,2,  34.7410,2, 21.1453,   -999
   31DSEP692_2,  PR16,    55,  1,     16,   -999,2,19921102,0633,  2.9967,-110.0100, -999,    101.2,  17.9670,  34.8262,2,  34.8580,2, 17.9497,   -999
   31DSEP692_2,  PR16,    55,  1,     15,   -999,2,19921102,0633,  2.9967,-110.0100, -999,    112.6,  15.2340,  34.9385,2,  34.9360,2, 15.2168,   -999
   31DSEP692_2,  PR16,    55,  1,     14,   -999,2,19921102,0633,  2.9967,-110.0100, -999,    123.2,  14.6210,  34.9746,2,  34.9630,2, 14.6027,   -999
   31DSEP692_2,  PR16,    55,  1,     13,   -999,2,19921102,0633,  2.9967,-110.0100, -999,    132.1,  14.2840,  34.9436,2,  34.9550,2, 14.2647,   -999
   31DSEP692_2,  PR16,    55,  1,     12,   -999,2,19921102,0633,  2.9967,-110.0100, -999,    143.0,  13.7880,  34.9235,2,  34.9250,2, 13.7676,   -999
   31DSEP692_2,  PR16,    55,  1,     11,   -999,2,19921102,0633,  2.9967,-110.0100, -999,    152.1,  13.6040,  34.9235,2,  34.9240,2, 13.5825,   -999
   31DSEP692_2,  PR16,    55,  1,     10,   -999,2,19921102,0633,  2.9967,-110.0100, -999,    166.6,  13.4360,  34.9215,2,  34.9220,2, 13.4126,   -999
   31DSEP692_2,  PR16,    55,  1,      9,   -999,4,19921102,0633,  2.9967,-110.0100, -999,    182.9,  13.3950,  34.9215,2,  34.9210,2, 13.3694,   -999
   31DSEP692_2,  PR16,    55,  1,      8,   -999,2,19921102,0633,  2.9967,-110.0100, -999,    205.6,  13.1910,  34.9115,2,  34.9110,2, 13.1625,   -999
   31DSEP692_2,  PR16,    55,  1,      7,   -999,2,19921102,0633,  2.9967,-110.0100, -999,    255.9,  12.5580,  34.8693,2,  34.8720,2, 12.5236,   -999
   31DSEP692_2,  PR16,    55,  1,      6,   -999,2,19921102,0633,  2.9967,-110.0100, -999,    305.1,  11.9250,  34.8212,2,  34.8220,2, 11.8853,   -999
   31DSEP692_2,  PR16,    55,  1,      5,   -999,2,19921102,0633,  2.9967,-110.0100, -999,    404.8,   9.7340,  34.6808,2,  34.6930,2,  9.6875,   -999
   31DSEP692_2,  PR16,    55,  1,      4,   -999,2,19921102,0633,  2.9967,-110.0100, -999,    604.7,   6.5370,  34.5614,2,  34.5660,2,  6.4812,   -999
   31DSEP692_2,  PR16,    55,  1,      3,   -999,2,19921102,0633,  2.9967,-110.0100, -999,    812.1,   5.3330,  34.5493,2,  34.5550,2,  5.2643,   -999
   31DSEP692_2,  PR16,    55,  1,      1,   -999,2,19921102,0633,  2.9967,-110.0100, -999,    991.7,   4.4180,  34.5594,2,  34.5630,2,  4.3397,   -999
   31DSEP692_2,  PR16,    55,  1,      2,   -999,4,19921102,0633,  2.9967,-110.0100, -999,    991.7,   4.4180,  34.5594,2,  34.5630,2,  4.3397,   -999
   31DSEP692_2,  PR16,    56,  1,     23,   -999,2,19921102,1243,  2.1117,-110.1133, -999,      5.8,  25.9120,  33.9204,2,  33.9200,2, 25.9107,   -999
   31DSEP692_2,  PR16,    56,  1,     24,   -999,2,19921102,1243,  2.1117,-110.1133, -999,      5.8,  25.9120,  33.9204,2,  33.9210,2, 25.9107,   -999
   31DSEP692_2,  PR16,    56,  1,     21,   -999,2,19921102,1243,  2.1117,-110.1133, -999,     22.5,  25.8960,  33.9254,2,  33.9190,2, 25.8910,   -999
   31DSEP692_2,  PR16,    56,  1,     20,   -999,2,19921102,1243,  2.1117,-110.1133, -999,     44.1,  25.5430,  33.9846,2,  33.9810,2, 25.5333,   -999
   31DSEP692_2,  PR16,    56,  1,     19,   -999,2,19921102,1243,  2.1117,-110.1133, -999,     51.6,  24.1110,  34.3156,2,  34.3080,2, 24.1001,   -999
   31DSEP692_2,  PR16,    56,  1,     18,   -999,2,19921102,1243,  2.1117,-110.1133, -999,     61.2,  23.8150,  34.3668,2,  34.3580,2, 23.8022,   -999
   31DSEP692_2,  PR16,    56,  1,     17,   -999,2,19921102,1243,  2.1117,-110.1133, -999,     81.3,  18.8490,  34.7841,2,  34.7850,2, 18.8346,   -999
   31DSEP692_2,  PR16,    56,  1,     16,   -999,2,19921102,1243,  2.1117,-110.1133, -999,     91.3,  16.6320,  34.9185,2,  34.8950,2, 16.6172,   -999
   31DSEP692_2,  PR16,    56,  1,     15,   -999,2,19921102,1243,  2.1117,-110.1133, -999,    102.1,  15.2640,  34.9355,2,  34.9340,2, 15.2484,   -999
   31DSEP692_2,  PR16,    56,  1,     14,   -999,2,19921102,1243,  2.1117,-110.1133, -999,    112.8,  14.6990,  34.9606,2,  34.9590,2, 14.6822,   -999
   31DSEP692_2,  PR16,    56,  1,     13,   -999,2,19921102,1243,  2.1117,-110.1133, -999,    122.8,  14.3900,  34.9556,2,  34.9540,2, 14.3720,   -999
   31DSEP692_2,  PR16,    56,  1,     12,   -999,2,19921102,1243,  2.1117,-110.1133, -999,    133.3,  14.2030,  34.9506,2,  34.9510,2, 14.1836,   -999
   31DSEP692_2,  PR16,    56,  1,     11,   -999,2,19921102,1243,  2.1117,-110.1133, -999,    142.5,  14.0000,  34.9466,2,  34.9450,2, 13.9795,   -999
   31DSEP692_2,  PR16,    56,  1,     10,   -999,2,19921102,1243,  2.1117,-110.1133, -999,    151.8,  13.8410,  34.9285,2,  34.9390,2, 13.8193,   -999
   31DSEP692_2,  PR16,    56,  1,      9,   -999,4,19921102,1243,  2.1117,-110.1133, -999,    168.0,  13.6410,  34.9275,2,  34.9300,2, 13.6172,   -999
   31DSEP692_2,  PR16,    56,  1,      8,   -999,2,19921102,1243,  2.1117,-110.1133, -999,    182.6,  13.4090,  34.9195,2,  34.9200,2, 13.3834,   -999
   31DSEP692_2,  PR16,    56,  1,      7,   -999,2,19921102,1243,  2.1117,-110.1133, -999,    202.1,  13.1360,  34.9074,2,  34.9080,2, 13.1080,   -999
   31DSEP692_2,  PR16,    56,  1,      6,   -999,2,19921102,1243,  2.1117,-110.1133, -999,    252.5,  12.3060,  34.8362,2,  34.8540,2, 12.2725,   -999
   31DSEP692_2,  PR16,    56,  1,      5,   -999,2,19921102,1243,  2.1117,-110.1133, -999,    300.8,  11.2040,  34.7660,2,  34.7680,2, 11.1664,   -999
   31DSEP692_2,  PR16,    56,  1,      4,   -999,2,19921102,1243,  2.1117,-110.1133, -999,    403.1,   8.8880,  34.6577,2,  34.6610,2,  8.8442,   -999
   31DSEP692_2,  PR16,    56,  1,      3,   -999,2,19921102,1243,  2.1117,-110.1133, -999,    602.8,   6.9190,  34.5754,2,  34.5800,2,  6.8616,   -999
   31DSEP692_2,  PR16,    56,  1,      2,   -999,4,19921102,1243,  2.1117,-110.1133, -999,    804.4,   5.5510,  34.5483,2,  34.5530,2,  5.4817,   -999
   31DSEP692_2,  PR16,    56,  1,      1,   -999,2,19921102,1243,  2.1117,-110.1133, -999,   1000.6,   4.6130,  34.5584,2,  34.5620,2,  4.5325,   -999
   31DSEP692_2,  PR16,    57,  1,     24,   -999,2,19921103,1333,  0.9950,-110.0117, 3806,      6.2,  24.6010,  34.0117,2,  34.0060,2, 24.5997,   -999
   31DSEP692_2,  PR16,    57,  1,     23,   -999,2,19921103,1333,  0.9950,-110.0117, 3806,     12.7,  24.4200,  34.0558,2,  34.0570,2, 24.4173,   -999
   31DSEP692_2,  PR16,    57,  1,     22,   -999,2,19921103,1333,  0.9950,-110.0117, 3806,     21.8,  23.2410,  34.3257,2,  34.3060,2, 23.2365,   -999
   31DSEP692_2,  PR16,    57,  1,     21,   -999,2,19921103,1333,  0.9950,-110.0117, 3806,     42.3,  21.8800,  34.6396,2,  34.6650,2, 21.8717,   -999
   31DSEP692_2,  PR16,    57,  1,     20,   -999,2,19921103,1333,  0.9950,-110.0117, 3806,     53.0,  20.8700,  34.7259,2,  34.7270,2, 20.8599,   -999
   31DSEP692_2,  PR16,    57,  1,     19,   -999,2,19921103,1333,  0.9950,-110.0117, 3806,     61.6,  18.8440,  34.9295,2,  34.9050,2, 18.8331,   -999
   31DSEP692_2,  PR16,    57,  1,     18,   -999,2,19921103,1333,  0.9950,-110.0117, 3806,     82.9,  15.8500,  34.9436,2,  34.9370,2, 15.8370,   -999
   31DSEP692_2,  PR16,    57,  1,     17,   -999,2,19921103,1333,  0.9950,-110.0117, 3806,     92.6,  14.6710,  34.9506,2,  34.9470,2, 14.6572,   -999
   31DSEP692_2,  PR16,    57,  1,     16,   -999,2,19921103,1333,  0.9950,-110.0117, 3806,    102.7,  14.1350,  34.9275,2,  34.9250,2, 14.1201,   -999
   31DSEP692_2,  PR16,    57,  1,     15,   -999,2,19921103,1333,  0.9950,-110.0117, 3806,    111.4,  13.9360,  34.9345,2,  34.9290,2, 13.9200,   -999
   31DSEP692_2,  PR16,    57,  1,     14,   -999,2,19921103,1333,  0.9950,-110.0117, 3806,    121.9,  13.8020,  34.9385,2,  34.9320,2, 13.7846,   -999
   31DSEP692_2,  PR16,    57,  1,     13,   -999,2,19921103,1333,  0.9950,-110.0117, 3806,    132.2,  13.6150,  34.9315,2,  34.9290,2, 13.5963,   -999
   31DSEP692_2,  PR16,    57,  1,     12,   -999,2,19921103,1333,  0.9950,-110.0117, 3806,    141.7,  13.5730,  34.9315,2,  34.9270,2, 13.5530,   -999
   31DSEP692_2,  PR16,    57,  1,     11,   -999,2,19921103,1333,  0.9950,-110.0117, 3806,    152.4,  13.4550,  34.9265,2,  34.9260,2, 13.4336,   -999
   31DSEP692_2,  PR16,    57,  1,     10,   -999,2,19921103,1333,  0.9950,-110.0117, 3806,    168.5,  13.2540,  34.9175,2,  34.9090,2, 13.2306,   -999
   31DSEP692_2,  PR16,    57,  1,      9,   -999,2,19921103,1333,  0.9950,-110.0117, 3806,    179.2,  13.1590,  34.9115,2,  34.9140,2, 13.1342,   -999
   31DSEP692_2,  PR16,    57,  1,      8,   -999,2,19921103,1333,  0.9950,-110.0117, 3806,    201.3,  12.9090,  34.8974,2,  34.8050,2, 12.8815,   -999
   31DSEP692_2,  PR16,    57,  1,      7,   -999,4,19921103,1333,  0.9950,-110.0117, 3806,    251.8,  11.6090,  34.8071,2,  34.8940,2, 11.5768,   -999
   31DSEP692_2,  PR16,    57,  1,      6,   -999,2,19921103,1333,  0.9950,-110.0117, 3806,    302.6,  10.4940,  34.7209,2,  34.7320,2, 10.4577,   -999
   31DSEP692_2,  PR16,    57,  1,      5,   -999,2,19921103,1333,  0.9950,-110.0117, 3806,    402.3,   8.4820,  34.6497,2,  34.6490,2,  8.4395,   -999
   31DSEP692_2,  PR16,    57,  1,      4,   -999,2,19921103,1333,  0.9950,-110.0117, 3806,    601.8,   6.4890,  34.5724,2,  34.5750,2,  6.4337,   -999
   31DSEP692_2,  PR16,    57,  1,      3,   -999,2,19921103,1333,  0.9950,-110.0117, 3806,    801.8,   5.3440,  34.5584,2,  34.5530,2,  5.2762,   -999
   31DSEP692_2,  PR16,    57,  1,      1,   -999,4,19921103,1333,  0.9950,-110.0117, 3806,   1002.4,   4.5320,  34.5724,2,  34.5600,2,  4.4519,   -999
   31DSEP692_2,  PR16,    57,  1,      2,   -999,4,19921103,1333,  0.9950,-110.0117, 3806,   1002.4,   4.5320,  34.5724,2,  34.5600,2,  4.4519,   -999
   31DSEP692_2,  PR16,    58,  1,     24,   -999,2,19921103,2007,  0.5203,-110.0037, -999,      6.2,  21.7620,  34.8152,2,  34.8120,2, 21.7608,   -999
   31DSEP692_2,  PR16,    58,  1,     23,   -999,2,19921103,2007,  0.5203,-110.0037, -999,     13.9,  21.5670,  34.8001,2,  34.8000,2, 21.5643,   -999
   31DSEP692_2,  PR16,    58,  1,     22,   -999,2,19921103,2007,  0.5203,-110.0037, -999,     22.7,  21.4280,  34.7911,2,  34.7840,2, 21.4236,   -999
   31DSEP692_2,  PR16,    58,  1,     21,   -999,2,19921103,2007,  0.5203,-110.0037, -999,     43.4,  21.2910,  34.7700,2,  34.7670,2, 21.2826,   -999
   31DSEP692_2,  PR16,    58,  1,     20,   -999,2,19921103,2007,  0.5203,-110.0037, -999,     52.6,  21.2420,  34.7620,2,  34.7550,2, 21.2319,   -999
   31DSEP692_2,  PR16,    58,  1,     19,   -999,2,19921103,2007,  0.5203,-110.0037, -999,     61.2,  19.6800,  34.8463,2,  34.8600,2, 19.6688,   -999
   31DSEP692_2,  PR16,    58,  1,     18,   -999,2,19921103,2007,  0.5203,-110.0037, -999,     82.2,  15.4120,  34.9165,2,  34.9100,2, 15.3994,   -999
   31DSEP692_2,  PR16,    58,  1,     17,   -999,2,19921103,2007,  0.5203,-110.0037, -999,     93.6,  14.8430,  34.9165,2,  34.9140,2, 14.8290,   -999
   31DSEP692_2,  PR16,    58,  1,     16,   -999,2,19921103,2007,  0.5203,-110.0037, -999,    102.6,  14.5610,  34.9385,2,  34.9330,2, 14.5458,   -999
   31DSEP692_2,  PR16,    58,  1,     15,   -999,2,19921103,2007,  0.5203,-110.0037, -999,    111.7,  14.1730,  34.9596,2,  34.9480,2, 14.1568,   -999
   31DSEP692_2,  PR16,    58,  1,     14,   -999,2,19921103,2007,  0.5203,-110.0037, -999,    123.8,  13.7700,  34.9295,2,  34.9350,2, 13.7524,   -999
   31DSEP692_2,  PR16,    58,  1,     13,   -999,2,19921103,2007,  0.5203,-110.0037, -999,    131.9,  13.5580,  34.9365,2,  34.9340,2, 13.5394,   -999
   31DSEP692_2,  PR16,    58,  1,     12,   -999,2,19921103,2007,  0.5203,-110.0037, -999,    143.5,  13.2210,  34.9155,2,  34.9130,2, 13.2011,   -999
   31DSEP692_2,  PR16,    58,  1,     11,   -999,2,19921103,2007,  0.5203,-110.0037, -999,    152.7,  13.1820,  34.9135,2,  34.9110,2, 13.1609,   -999
   31DSEP692_2,  PR16,    58,  1,     10,   -999,2,19921103,2007,  0.5203,-110.0037, -999,    168.0,  13.0350,  34.9034,2,  34.9000,2, 13.0119,   -999
   31DSEP692_2,  PR16,    58,  1,      9,   -999,4,19921103,2007,  0.5203,-110.0037, -999,    181.9,  12.8900,  34.8402,2,  34.8900,2, 12.8652,   -999
   31DSEP692_2,  PR16,    58,  1,      8,   -999,2,19921103,2007,  0.5203,-110.0037, -999,    202.4,  12.6780,  34.8814,2,  34.8790,2, 12.6506,   -999
   31DSEP692_2,  PR16,    58,  1,      7,   -999,4,19921103,2007,  0.5203,-110.0037, -999,    251.7,  12.1660,  34.8483,2,  34.8470,2, 12.1328,   -999
   31DSEP692_2,  PR16,    58,  1,      6,   -999,2,19921103,2007,  0.5203,-110.0037, -999,    301.7,  11.3050,  34.7961,2,  34.7950,2, 11.2670,   -999
   31DSEP692_2,  PR16,    58,  1,      5,   -999,2,19921103,2007,  0.5203,-110.0037, -999,    402.7,   8.6960,  34.6577,2,  34.6580,2,  8.6528,   -999
   31DSEP692_2,  PR16,    58,  1,      4,   -999,2,19921103,2007,  0.5203,-110.0037, -999,    602.6,   6.9980,  34.5875,2,  34.5880,2,  6.9403,   -999
   31DSEP692_2,  PR16,    58,  1,      3,   -999,2,19921103,2007,  0.5203,-110.0037, -999,    802.8,   5.2980,  34.5524,2,  34.5530,2,  5.2304,   -999
   31DSEP692_2,  PR16,    58,  1,      1,   -999,4,19921103,2007,  0.5203,-110.0037, -999,   1004.8,   4.3880,  34.5604,2,  34.5590,2,  4.3088,   -999
   31DSEP692_2,  PR16,    58,  1,      2,   -999,2,19921103,2007,  0.5203,-110.0037, -999,   1004.8,   4.3880,  34.5604,2,  34.5590,2,  4.3088,   -999
   31DSEP692_2,  PR16,    59,  1,     23,   -999,2,19921104,0128,  0.2527,-109.9997, 3768,      6.1,  21.6700,  34.8493,2,  34.8450,2, 21.6688,   -999
   31DSEP692_2,  PR16,    59,  1,     24,   -999,2,19921104,0128,  0.2527,-109.9997, 3768,      6.1,  21.6700,  34.8493,2,  34.8470,2, 21.6688,   -999
   31DSEP692_2,  PR16,    59,  1,     22,   -999,2,19921104,0128,  0.2527,-109.9997, 3768,     12.4,  21.2740,  34.8362,2,  34.8320,2, 21.2716,   -999
   31DSEP692_2,  PR16,    59,  1,     21,   -999,2,19921104,0128,  0.2527,-109.9997, 3768,     23.2,  20.8090,  34.8081,2,  34.8210,2, 20.8046,   -999
   31DSEP692_2,  PR16,    59,  1,     20,   -999,4,19921104,0128,  0.2527,-109.9997, 3768,     42.8,  20.5210,  34.8041,2,  34.8000,2, 20.5130,   -999
   31DSEP692_2,  PR16,    59,  1,     19,   -999,4,19921104,0128,  0.2527,-109.9997, 3768,     52.9,  20.4150,  34.8051,2,  34.7990,2, 20.4051,   -999
   31DSEP692_2,  PR16,    59,  1,     18,   -999,2,19921104,0128,  0.2527,-109.9997, 3768,     83.3,  15.0060,  34.8623,2,  34.8600,2, 14.9934,   -999
   31DSEP692_2,  PR16,    59,  1,     17,   -999,2,19921104,0128,  0.2527,-109.9997, 3768,     90.6,  14.8810,  34.8713,2,  34.8670,2, 14.8674,   -999
   31DSEP692_2,  PR16,    59,  1,     16,   -999,2,19921104,0128,  0.2527,-109.9997, 3768,    102.6,  14.6830,  34.8844,2,  34.8790,2, 14.6677,   -999
   31DSEP692_2,  PR16,    59,  1,     15,   -999,2,19921104,0128,  0.2527,-109.9997, 3768,    112.5,  14.2440,  34.9135,2,  34.9230,2, 14.2276,   -999
   31DSEP692_2,  PR16,    59,  1,     14,   -999,2,19921104,0128,  0.2527,-109.9997, 3768,    121.8,  13.8990,  34.9235,2,  34.9170,2, 13.8815,   -999
   31DSEP692_2,  PR16,    59,  1,     13,   -999,2,19921104,0128,  0.2527,-109.9997, 3768,    132.0,  13.4160,  34.9064,2,  34.9080,2, 13.3975,   -999
   31DSEP692_2,  PR16,    59,  1,     12,   -999,2,19921104,0128,  0.2527,-109.9997, 3768,    142.6,  13.2050,  34.9024,2,  34.9040,2, 13.1852,   -999
   31DSEP692_2,  PR16,    59,  1,     11,   -999,2,19921104,0128,  0.2527,-109.9997, 3768,    152.0,  13.0960,  34.9014,2,  34.9020,2, 13.0750,   -999
   31DSEP692_2,  PR16,    59,  1,     10,   -999,2,19921104,0128,  0.2527,-109.9997, 3768,    168.5,  12.7550,  34.8924,2,  34.8910,2, 12.7322,   -999
   31DSEP692_2,  PR16,    59,  1,      9,   -999,2,19921104,0128,  0.2527,-109.9997, 3768,    183.1,  12.5950,  34.8854,2,  34.8830,2, 12.5704,   -999
   31DSEP692_2,  PR16,    59,  1,      8,   -999,2,19921104,0128,  0.2527,-109.9997, 3768,    202.9,  12.4970,  34.8804,2,  34.8810,2, 12.4698,   -999
   31DSEP692_2,  PR16,    59,  1,      7,   -999,4,19921104,0128,  0.2527,-109.9997, 3768,    251.2,  12.1510,  34.8563,2,  34.8560,2, 12.1179,   -999
   31DSEP692_2,  PR16,    59,  1,      6,   -999,2,19921104,0128,  0.2527,-109.9997, 3768,    301.5,  10.8220,  34.7720,2,  34.7710,2, 10.7851,   -999
   31DSEP692_2,  PR16,    59,  1,      5,   -999,2,19921104,0128,  0.2527,-109.9997, 3768,    402.5,   8.7550,  34.6607,2,  34.6610,2,  8.7117,   -999
   31DSEP692_2,  PR16,    59,  1,      4,   -999,2,19921104,0128,  0.2527,-109.9997, 3768,    603.0,   6.8020,  34.5784,2,  34.5800,2,  6.7451,   -999
   31DSEP692_2,  PR16,    59,  1,      3,   -999,2,19921104,0128,  0.2527,-109.9997, 3768,    803.7,   5.3230,  34.5504,2,  34.5520,2,  5.2551,   -999
   31DSEP692_2,  PR16,    59,  1,      1,   -999,4,19921104,0128,  0.2527,-109.9997, 3768,   1004.3,   4.4630,  34.5564,2,  34.5570,2,  4.3833,   -999
   31DSEP692_2,  PR16,    59,  1,      2,   -999,2,19921104,0128,  0.2527,-109.9997, 3768,   1004.3,   4.4630,  34.5564,2,  34.5570,2,  4.3833,   -999