BOTTLE,20020619WHPSIOKJU
EXPOCODE,SECT_ID,STNNBR,CASTNO,SAMPNO,BTLNBR,BTLNBR_FLAG_W,DATE,TIME,LATITUDE,LONGITUDE,DEPTH,CTDPRS,CTDTMP,CTDSAL,CTDSAL_FLAG_W,SALNTY,SALNTY_FLAG_W,THETA,CTDRAW
,,,,,,,,,,,,DBAR,ITS-90,PSS-78,,PSS-78,,ITS-90,
   31DSEP692_2,  PR16,    65,  1,     24,   -999,2,19921106,2331, -2.0948,-109.9022, 3965,      3.3,  23.3000,  34.8302,2,  34.8290,2, 23.2993,   -999
   31DSEP692_2,  PR16,    65,  1,     23,   -999,2,19921106,2331, -2.0948,-109.9022, 3965,      9.0,  22.9850,  34.8252,2,  34.8250,2, 22.9832,   -999
   31DSEP692_2,  PR16,    65,  1,     22,   -999,2,19921106,2331, -2.0948,-109.9022, 3965,     20.5,  22.8400,  34.8212,2,  34.8240,2, 22.8358,   -999
   31DSEP692_2,  PR16,    65,  1,     21,   -999,2,19921106,2331, -2.0948,-109.9022, 3965,     28.7,  22.6290,  34.8312,2,  34.8290,2, 22.6232,   -999
   31DSEP692_2,  PR16,    65,  1,     20,   -999,2,19921106,2331, -2.0948,-109.9022, 3965,     39.2,  22.3280,  34.8533,2,  34.8510,2, 22.3202,   -999
   31DSEP692_2,  PR16,    65,  1,     19,   -999,2,19921106,2331, -2.0948,-109.9022, 3965,     58.9,  21.9450,  35.1060,2,  35.0930,2, 21.9334,   -999
   31DSEP692_2,  PR16,    65,  1,     18,   -999,2,19921106,2331, -2.0948,-109.9022, 3965,     79.9,  16.4000,  35.1472,2,  35.1360,2, 16.3872,   -999
   31DSEP692_2,  PR16,    65,  1,     17,   -999,2,19921106,2331, -2.0948,-109.9022, 3965,    100.0,  14.6340,  35.0449,2,  35.0510,2, 14.6191,   -999
   31DSEP692_2,  PR16,    65,  1,     16,   -999,2,19921106,2331, -2.0948,-109.9022, 3965,    118.7,  14.0690,  34.9997,2,  35.0000,2, 14.0518,   -999
   31DSEP692_2,  PR16,    65,  1,     15,   -999,2,19921106,2331, -2.0948,-109.9022, 3965,    129.5,  13.7640,  34.9767,2,  34.9800,2, 13.7455,   -999
   31DSEP692_2,  PR16,    65,  1,     14,   -999,2,19921106,2331, -2.0948,-109.9022, 3965,    151.3,  13.5230,  34.9586,2,  34.9600,2, 13.5017,   -999
   31DSEP692_2,  PR16,    65,  1,     13,   -999,2,19921106,2331, -2.0948,-109.9022, 3965,    174.0,  13.2660,  34.9295,2,  34.9340,2, 13.2418,   -999
   31DSEP692_2,  PR16,    65,  1,     12,   -999,2,19921106,2331, -2.0948,-109.9022, 3965,    198.3,  13.0880,  34.9235,2,  34.9240,2, 13.0606,   -999
   31DSEP692_2,  PR16,    65,  1,     11,   -999,2,19921106,2331, -2.0948,-109.9022, 3965,    230.6,  12.8480,  34.9094,2,  34.9110,2, 12.8165,   -999
   31DSEP692_2,  PR16,    65,  1,     10,   -999,2,19921106,2331, -2.0948,-109.9022, 3965,    260.2,  12.4230,  34.8884,2,  34.8900,2, 12.3882,   -999
   31DSEP692_2,  PR16,    65,  1,      9,   -999,4,19921106,2331, -2.0948,-109.9022, 3965,    289.8,  12.1870,  34.8743,2,  34.8760,2, 12.1487,   -999
   31DSEP692_2,  PR16,    65,  1,      8,   -999,2,19921106,2331, -2.0948,-109.9022, 3965,    329.6,  11.1760,  34.8081,2,  34.8140,2, 11.1348,   -999
   31DSEP692_2,  PR16,    65,  1,      7,   -999,4,19921106,2331, -2.0948,-109.9022, 3965,    380.3,   9.6940,  34.7249,2,  34.7260,2,  9.6505,   -999
   31DSEP692_2,  PR16,    65,  1,      6,   -999,2,19921106,2331, -2.0948,-109.9022, 3965,    450.6,   8.2770,  34.6316,2,  34.6390,2,  8.2300,   -999
   31DSEP692_2,  PR16,    65,  1,      5,   -999,2,19921106,2331, -2.0948,-109.9022, 3965,    598.0,   7.3330,  34.5885,2,  34.5920,2,  7.2742,   -999
   31DSEP692_2,  PR16,    65,  1,      4,   -999,2,19921106,2331, -2.0948,-109.9022, 3965,    799.8,   5.5460,  34.5433,2,  34.5490,2,  5.4771,   -999
   31DSEP692_2,  PR16,    65,  1,      1,   -999,4,19921106,2331, -2.0948,-109.9022, 3965,   1000.5,   4.5640,  34.5554,2,  34.5600,2,  4.4839,   -999
   31DSEP692_2,  PR16,    65,  1,      2,   -999,2,19921106,2331, -2.0948,-109.9022, 3965,   1000.5,   4.5640,  34.5554,2,  34.5600,2,  4.4839,   -999
   31DSEP692_2,  PR16,    65,  1,      3,   -999,4,19921106,2331, -2.0948,-109.9022, 3965,   1000.6,   4.5650,  34.5554,2,  34.5600,2,  4.4849,   -999
   31DSEP692_2,  PR16,    66,  1,     24,   -999,2,19921107,0909, -2.9920,-110.0187, -999,      2.9,  22.9900,  34.7891,2,  34.7900,2, 22.9894,   -999
   31DSEP692_2,  PR16,    66,  1,     23,   -999,2,19921107,0909, -2.9920,-110.0187, -999,     10.0,  22.9760,  34.7891,2,  34.7890,2, 22.9740,   -999
   31DSEP692_2,  PR16,    66,  1,     22,   -999,2,19921107,0909, -2.9920,-110.0187, -999,     20.1,  22.9640,  34.7951,2,  34.7880,2, 22.9599,   -999
   31DSEP692_2,  PR16,    66,  1,     21,   -999,2,19921107,0909, -2.9920,-110.0187, -999,     29.9,  22.8260,  34.7941,2,  34.7910,2, 22.8199,   -999
   31DSEP692_2,  PR16,    66,  1,     20,   -999,2,19921107,0909, -2.9920,-110.0187, -999,     38.7,  22.6400,  34.8021,2,  34.8010,2, 22.6322,   -999
   31DSEP692_2,  PR16,    66,  1,     19,   -999,2,19921107,0909, -2.9920,-110.0187, -999,     59.3,  21.4390,  35.1652,2,  35.1610,2, 21.4275,   -999
   31DSEP692_2,  PR16,    66,  1,     18,   -999,2,19921107,0909, -2.9920,-110.0187, -999,     79.8,  16.1890,  35.0960,2,  35.0970,2, 16.1763,   -999
   31DSEP692_2,  PR16,    66,  1,     17,   -999,2,19921107,0909, -2.9920,-110.0187, -999,    100.8,  14.4050,  35.0108,2,  35.0070,2, 14.3902,   -999
   31DSEP692_2,  PR16,    66,  1,     16,   -999,2,19921107,0909, -2.9920,-110.0187, -999,    121.0,  14.1150,  34.9807,2,  34.9840,2, 14.0975,   -999
   31DSEP692_2,  PR16,    66,  1,     15,   -999,2,19921107,0909, -2.9920,-110.0187, -999,    129.2,  14.0260,  34.9777,2,  34.9790,2, 14.0073,   -999
   31DSEP692_2,  PR16,    66,  1,     14,   -999,2,19921107,0909, -2.9920,-110.0187, -999,    138.6,  13.9740,  34.9807,2,  34.9820,2, 13.9540,   -999
   31DSEP692_2,  PR16,    66,  1,     13,   -999,2,19921107,0909, -2.9920,-110.0187, -999,    149.5,  13.8780,  34.9726,2,  34.9730,2, 13.8566,   -999
   31DSEP692_2,  PR16,    66,  1,     12,   -999,4,19921107,0909, -2.9920,-110.0187, -999,    173.7,  13.6130,  34.9566,2,  34.9580,2, 13.5884,   -999
   31DSEP692_2,  PR16,    66,  1,     11,   -999,2,19921107,0909, -2.9920,-110.0187, -999,    199.8,  13.3370,  34.9867,2,  34.9420,2, 13.3090,   -999
   31DSEP692_2,  PR16,    66,  1,     10,   -999,2,19921107,0909, -2.9920,-110.0187, -999,    229.4,  12.9270,  34.9135,2,  34.9140,2, 12.8956,   -999
   31DSEP692_2,  PR16,    66,  1,      9,   -999,2,19921107,0909, -2.9920,-110.0187, -999,    258.9,  12.7140,  34.9004,2,  34.9040,2, 12.6789,   -999
   31DSEP692_2,  PR16,    66,  1,      8,   -999,2,19921107,0909, -2.9920,-110.0187, -999,    289.7,  12.3070,  34.8794,2,  34.8830,2, 12.2685,   -999
   31DSEP692_2,  PR16,    66,  1,      7,   -999,2,19921107,0909, -2.9920,-110.0187, -999,    331.8,  11.3050,  34.8272,2,  34.8250,2, 11.2632,   -999
   31DSEP692_2,  PR16,    66,  1,      6,   -999,2,19921107,0909, -2.9920,-110.0187, -999,    381.1,  10.1330,  34.7239,2,  34.7520,2, 10.0881,   -999
   31DSEP692_2,  PR16,    66,  1,      5,   -999,2,19921107,0909, -2.9920,-110.0187, -999,    447.1,   8.6070,  34.6617,2,  34.6670,2,  8.5592,   -999
   31DSEP692_2,  PR16,    66,  1,      4,   -999,2,19921107,0909, -2.9920,-110.0187, -999,    598.6,   6.8520,  34.5734,2,  34.5800,2,  6.7954,   -999
   31DSEP692_2,  PR16,    66,  1,      3,   -999,2,19921107,0909, -2.9920,-110.0187, -999,    801.2,   5.3420,  34.5433,2,  34.5510,2,  5.2742,   -999
   31DSEP692_2,  PR16,    66,  1,      1,   -999,4,19921107,0909, -2.9920,-110.0187, -999,   1007.5,   4.3520,  34.5463,2,  34.5540,2,  4.2729,   -999
   31DSEP692_2,  PR16,    66,  1,      2,   -999,2,19921107,0909, -2.9920,-110.0187, -999,   1007.5,   4.3520,  34.5463,2,  34.5540,2,  4.2729,   -999
   31DSEP692_2,  PR16,    67,  2,     12,   -999,2,19921108,0454, -3.9995,-109.9725, -999,    173.5,  13.1720,  34.9314,2,  34.9190,2, 13.1480,   -999
   31DSEP692_2,  PR16,    67,  2,     11,   -999,2,19921108,0454, -3.9995,-109.9725, -999,    199.7,  13.0170,  34.9213,2,  34.9300,2, 12.9895,   -999
   31DSEP692_2,  PR16,    67,  2,     10,   -999,2,19921108,0454, -3.9995,-109.9725, -999,    228.5,  12.8230,  34.9092,2,  34.9090,2, 12.7918,   -999
   31DSEP692_2,  PR16,    67,  2,      9,   -999,2,19921108,0454, -3.9995,-109.9725, -999,    257.9,  12.6050,  34.9021,2,  34.8980,2, 12.5702,   -999
   31DSEP692_2,  PR16,    67,  2,      8,   -999,2,19921108,0454, -3.9995,-109.9725, -999,    288.2,  12.1760,  34.8779,2,  34.8750,2, 12.1379,   -999
   31DSEP692_2,  PR16,    67,  2,      7,   -999,2,19921108,0454, -3.9995,-109.9725, -999,    328.9,  11.7070,  34.8548,2,  34.8500,2, 11.6646,   -999
   31DSEP692_2,  PR16,    67,  2,      6,   -999,2,19921108,0454, -3.9995,-109.9725, -999,    378.2,  10.5730,  34.7862,2,  34.7810,2, 10.5273,   -999
   31DSEP692_2,  PR16,    67,  2,      5,   -999,2,19921108,0454, -3.9995,-109.9725, -999,    450.0,   9.4200,  34.7106,2,  34.7120,2,  9.3692,   -999
   31DSEP692_2,  PR16,    67,  2,      4,   -999,2,19921108,0454, -3.9995,-109.9725, -999,    597.8,   6.8760,  34.5796,2,  34.5820,2,  6.8193,   -999
   31DSEP692_2,  PR16,    67,  2,      3,   -999,2,19921108,0454, -3.9995,-109.9725, -999,    800.2,   5.3070,  34.5413,2,  34.5420,2,  5.2396,   -999
   31DSEP692_2,  PR16,    67,  2,      1,   -999,2,19921108,0454, -3.9995,-109.9725, -999,   1000.4,   4.2260,  34.5544,2,  34.5570,2,  4.1485,   -999
   31DSEP692_2,  PR16,    67,  3,     12,   -999,2,19921108,0649, -4.0007,-109.9757, -999,      2.3,  23.1100,  34.7761,2,  34.7780,2, 23.1095,   -999
   31DSEP692_2,  PR16,    67,  3,     11,   -999,2,19921108,0649, -4.0007,-109.9757, -999,     10.0,  23.1050,  34.7761,2,  34.7780,2, 23.1030,   -999
   31DSEP692_2,  PR16,    67,  3,     10,   -999,2,19921108,0649, -4.0007,-109.9757, -999,     20.4,  23.0580,  34.7761,2,  34.7770,2, 23.0538,   -999
   31DSEP692_2,  PR16,    67,  3,      9,   -999,2,19921108,0649, -4.0007,-109.9757, -999,     29.6,  22.9960,  34.7933,2,  34.7890,2, 22.9900,   -999
   31DSEP692_2,  PR16,    67,  3,      8,   -999,2,19921108,0649, -4.0007,-109.9757, -999,     37.9,  23.0930,  34.9818,2,  34.9600,2, 23.0853,   -999
   31DSEP692_2,  PR16,    67,  3,      7,   -999,2,19921108,0649, -4.0007,-109.9757, -999,     59.0,  18.1250,  35.3658,2,  35.2530,2, 18.1148,   -999
   31DSEP692_2,  PR16,    67,  3,      6,   -999,2,19921108,0649, -4.0007,-109.9757, -999,     79.7,  14.7550,  35.0412,2,  35.0510,2, 14.7431,   -999
   31DSEP692_2,  PR16,    67,  3,      5,   -999,2,19921108,0649, -4.0007,-109.9757, -999,     99.3,  14.0760,  34.9918,2,  34.9930,2, 14.0616,   -999
   31DSEP692_2,  PR16,    67,  3,      4,   -999,2,19921108,0649, -4.0007,-109.9757, -999,    119.3,  13.7830,  34.9737,2,  34.9730,2, 13.7660,   -999
   31DSEP692_2,  PR16,    67,  3,      3,   -999,2,19921108,0649, -4.0007,-109.9757, -999,    129.7,  13.6570,  34.9636,2,  34.9640,2, 13.6386,   -999
   31DSEP692_2,  PR16,    67,  3,      2,   -999,2,19921108,0649, -4.0007,-109.9757, -999,    139.0,  13.5830,  34.9606,2,  34.9620,2, 13.5634,   -999
   31DSEP692_2,  PR16,    67,  3,      1,   -999,2,19921108,0649, -4.0007,-109.9757, -999,    150.6,  13.4790,  34.9525,2,  34.9540,2, 13.4578,   -999
   31DSEP692_2,  PR16,    68,  1,     12,   -999,2,19921108,1154, -4.9978,-110.0353, -999,    175.4,  12.3150,  34.8844,2,  34.8830,2, 12.2918,   -999
   31DSEP692_2,  PR16,    68,  1,     11,   -999,2,19921108,1154, -4.9978,-110.0353, -999,    200.9,  12.1720,  34.8765,2,  34.8760,2, 12.1456,   -999
   31DSEP692_2,  PR16,    68,  1,     10,   -999,2,19921108,1154, -4.9978,-110.0353, -999,    230.0,  11.9290,  34.8645,2,  34.8640,2, 11.8991,   -999
   31DSEP692_2,  PR16,    68,  1,      9,   -999,2,19921108,1154, -4.9978,-110.0353, -999,    259.0,  11.6680,  34.8525,2,  34.8520,2, 11.6348,   -999
   31DSEP692_2,  PR16,    68,  1,      8,   -999,2,19921108,1154, -4.9978,-110.0353, -999,    287.8,  11.3020,  34.8256,2,  34.8310,2, 11.2658,   -999
   31DSEP692_2,  PR16,    68,  1,      7,   -999,2,19921108,1154, -4.9978,-110.0353, -999,    329.1,  10.5830,  34.7837,2,  34.7830,2, 10.5433,   -999
   31DSEP692_2,  PR16,    68,  2,      6,   -999,2,19921108,1345, -4.9983,-110.0283, -999,    379.3,   9.8750,  34.7408,2,  34.7400,2,  9.8311,   -999
   31DSEP692_2,  PR16,    68,  2,      5,   -999,2,19921108,1345, -4.9983,-110.0283, -999,    449.7,   8.9720,  34.6870,2,  34.6860,2,  8.9227,   -999
   31DSEP692_2,  PR16,    68,  2,      4,   -999,2,19921108,1345, -4.9983,-110.0283, -999,    599.7,   6.7800,  34.5803,2,  34.5790,2,  6.7236,   -999
   31DSEP692_2,  PR16,    68,  2,      3,   -999,2,19921108,1345, -4.9983,-110.0283, -999,    798.6,   5.2070,  34.5374,2,  34.5430,2,  5.1403,   -999
   31DSEP692_2,  PR16,    68,  2,      2,   -999,2,19921108,1345, -4.9983,-110.0283, -999,   1000.1,   4.2990,  34.5493,2,  34.5520,2,  4.2209,   -999
   31DSEP692_2,  PR16,    68,  2,      1,   -999,2,19921108,1345, -4.9983,-110.0283, -999,   1000.6,   4.2980,  34.5513,2,  34.5520,2,  4.2199,   -999
   31DSEP692_2,  PR16,    69,  1,     12,   -999,2,19921108,2339, -6.0005,-110.0007, 3687,    173.3,  12.2330,  34.8954,2,  34.8970,2, 12.2101,   -999
   31DSEP692_2,  PR16,    69,  1,     11,   -999,2,19921108,2339, -6.0005,-110.0007, 3687,    198.3,  11.8780,  34.8316,2,  34.8730,2, 11.8523,   -999
   31DSEP692_2,  PR16,    69,  1,     10,   -999,2,19921108,2339, -6.0005,-110.0007, 3687,    229.0,  11.2550,  34.8306,2,  34.8300,2, 11.2264,   -999
   31DSEP692_2,  PR16,    69,  1,      9,   -999,2,19921108,2339, -6.0005,-110.0007, 3687,    259.8,  10.8220,  34.8007,2,  34.7980,2, 10.7903,   -999
   31DSEP692_2,  PR16,    69,  1,      8,   -999,2,19921108,2339, -6.0005,-110.0007, 3687,    290.7,  10.5090,  34.7598,2,  34.7790,2, 10.4741,   -999
   31DSEP692_2,  PR16,    69,  1,      7,   -999,2,19921108,2339, -6.0005,-110.0007, 3687,    327.6,  10.1880,  34.7598,2,  34.7590,2, 10.1494,   -999
   31DSEP692_2,  PR16,    69,  1,      6,   -999,2,19921108,2339, -6.0005,-110.0007, 3687,    378.3,   9.6620,  34.7279,2,  34.7280,2,  9.6188,   -999
   31DSEP692_2,  PR16,    69,  1,      5,   -999,2,19921108,2339, -6.0005,-110.0007, 3687,    451.5,   8.5890,  34.6700,2,  34.6670,2,  8.5408,   -999
   31DSEP692_2,  PR16,    69,  1,      4,   -999,2,19921108,2339, -6.0005,-110.0007, 3687,    598.5,   6.8270,  34.5853,2,  34.5840,2,  6.7705,   -999
   31DSEP692_2,  PR16,    69,  1,      3,   -999,2,19921108,2339, -6.0005,-110.0007, 3687,    798.7,   5.3700,  34.5434,2,  34.5450,2,  5.3023,   -999
   31DSEP692_2,  PR16,    69,  1,      2,   -999,2,19921108,2339, -6.0005,-110.0007, 3687,   1000.2,   4.4260,  34.5474,2,  34.5500,2,  4.3470,   -999
   31DSEP692_2,  PR16,    69,  1,      1,   -999,2,19921108,2339, -6.0005,-110.0007, 3687,   1001.3,   4.4110,  34.5474,2,  34.5500,2,  4.3320,   -999
   31DSEP692_2,  PR16,    69,  2,     12,   -999,2,19921109,0128, -5.9988,-110.0010, 3671,      1.5,  24.2450,  35.3222,2,  35.3240,2, 24.2447,   -999
   31DSEP692_2,  PR16,    69,  2,     11,   -999,2,19921109,0128, -5.9988,-110.0010, 3671,      9.8,  24.2440,  35.3242,2,  35.3240,2, 24.2419,   -999
   31DSEP692_2,  PR16,    69,  2,     10,   -999,2,19921109,0128, -5.9988,-110.0010, 3671,     19.8,  24.2170,  35.3202,2,  35.3190,2, 24.2128,   -999
   31DSEP692_2,  PR16,    69,  2,      9,   -999,2,19921109,0128, -5.9988,-110.0010, 3671,     29.1,  24.2110,  35.3282,2,  35.3180,2, 24.2048,   -999
   31DSEP692_2,  PR16,    69,  2,      8,   -999,2,19921109,0128, -5.9988,-110.0010, 3671,     40.1,  24.1490,  35.3073,2,  35.3080,2, 24.1405,   -999
   31DSEP692_2,  PR16,    69,  2,      7,   -999,2,19921109,0128, -5.9988,-110.0010, 3671,     59.1,  24.1370,  35.3063,2,  35.3070,2, 24.1245,   -999
   31DSEP692_2,  PR16,    69,  2,      6,   -999,2,19921109,0128, -5.9988,-110.0010, 3671,     78.8,  22.4070,  35.6753,2,  35.6750,2, 22.3912,   -999
   31DSEP692_2,  PR16,    69,  2,      5,   -999,2,19921109,0128, -5.9988,-110.0010, 3671,     98.7,  19.5520,  35.6084,2,  35.6280,2, 19.5340,   -999
   31DSEP692_2,  PR16,    69,  2,      4,   -999,2,19921109,0128, -5.9988,-110.0010, 3671,    119.9,  16.3440,  35.2036,2,  35.2240,2, 16.3248,   -999
   31DSEP692_2,  PR16,    69,  2,      3,   -999,2,19921109,0128, -5.9988,-110.0010, 3671,    129.4,  14.8800,  35.0699,2,  35.0670,2, 14.8605,   -999
   31DSEP692_2,  PR16,    69,  2,      2,   -999,2,19921109,0128, -5.9988,-110.0010, 3671,    139.8,  13.8250,  34.9921,2,  34.9990,2, 13.8050,   -999
   31DSEP692_2,  PR16,    69,  2,      1,   -999,2,19921109,0128, -5.9988,-110.0010, 3671,    150.4,  13.1670,  34.9463,2,  34.9510,2, 13.1462,   -999
   31DSEP692_2,  PR16,    70,  1,     12,   -999,2,19921109,1029, -8.0010,-109.9995, 3463,    172.0,  12.5020,  34.9114,2,  34.9090,2, 12.4790,   -999
   31DSEP692_2,  PR16,    70,  1,     11,   -999,2,19921109,1029, -8.0010,-109.9995, 3463,    201.2,  12.1360,  34.8894,2,  34.8880,2, 12.1096,   -999
   31DSEP692_2,  PR16,    70,  1,     10,   -999,2,19921109,1029, -8.0010,-109.9995, 3463,    228.0,  11.7180,  34.8585,2,  34.8580,2, 11.6887,   -999
   31DSEP692_2,  PR16,    70,  1,      9,   -999,2,19921109,1029, -8.0010,-109.9995, 3463,    257.4,  11.3860,  34.8376,2,  34.8370,2, 11.3535,   -999
   31DSEP692_2,  PR16,    70,  1,      8,   -999,2,19921109,1029, -8.0010,-109.9995, 3463,    287.5,  11.0790,  34.8136,2,  34.8150,2, 11.0433,   -999
   31DSEP692_2,  PR16,    70,  1,      7,   -999,2,19921109,1029, -8.0010,-109.9995, 3463,    332.2,  10.5700,  34.7847,2,  34.7830,2, 10.5299,   -999
   31DSEP692_2,  PR16,    70,  1,      6,   -999,2,19921109,1029, -8.0010,-109.9995, 3463,    380.0,  10.0160,  34.7488,2,  34.7490,2,  9.9716,   -999
   31DSEP692_2,  PR16,    70,  1,      5,   -999,2,19921109,1029, -8.0010,-109.9995, 3463,    445.7,   9.3310,  34.7079,2,  34.7060,2,  9.2810,   -999
   31DSEP692_2,  PR16,    70,  1,      4,   -999,2,19921109,1029, -8.0010,-109.9995, 3463,    597.5,   7.4300,  34.6022,2,  34.6010,2,  7.3709,   -999
   31DSEP692_2,  PR16,    70,  1,      3,   -999,2,19921109,1029, -8.0010,-109.9995, 3463,    798.4,   5.6020,  34.5434,2,  34.5440,2,  5.5329,   -999
   31DSEP692_2,  PR16,    70,  1,      1,   -999,2,19921109,1029, -8.0010,-109.9995, 3463,   1000.2,   4.5570,  34.5424,2,  34.5460,2,  4.4770,   -999
   31DSEP692_2,  PR16,    70,  1,      2,   -999,2,19921109,1029, -8.0010,-109.9995, 3463,   1000.9,   4.5480,  34.5454,2,  34.5460,2,  4.4680,   -999