BOTTLE,20020619WHPSIOKJU
EXPOCODE,SECT_ID,STNNBR,CASTNO,SAMPNO,BTLNBR,BTLNBR_FLAG_W,DATE,TIME,LATITUDE,LONGITUDE,DEPTH,CTDPRS,CTDTMP,CTDSAL,CTDSAL_FLAG_W,SALNTY,SALNTY_FLAG_W,THETA,CTDRAW
,,,,,,,,,,,,DBAR,ITS-90,PSS-78,,PSS-78,,ITS-90,
   31DSEP692_2,  PR16,    70,  2,     12,   -999,2,19921109,1219, -7.9950,-110.0025, 3460,      2.5,  24.0830,  35.2365,2,  35.2340,2, 24.0825,   -999
   31DSEP692_2,  PR16,    70,  2,     11,   -999,2,19921109,1219, -7.9950,-110.0025, 3460,      9.1,  24.0880,  35.2355,2,  35.2350,2, 24.0861,   -999
   31DSEP692_2,  PR16,    70,  2,     10,   -999,2,19921109,1219, -7.9950,-110.0025, 3460,     20.0,  24.0770,  35.2345,2,  35.2330,2, 24.0728,   -999
   31DSEP692_2,  PR16,    70,  2,      9,   -999,2,19921109,1219, -7.9950,-110.0025, 3460,     28.8,  24.0910,  35.2365,2,  35.2350,2, 24.0849,   -999
   31DSEP692_2,  PR16,    70,  2,      8,   -999,2,19921109,1219, -7.9950,-110.0025, 3460,     39.7,  22.9520,  35.2305,2,  35.2280,2, 22.9439,   -999
   31DSEP692_2,  PR16,    70,  2,      7,   -999,2,19921109,1219, -7.9950,-110.0025, 3460,     59.0,  23.8600,  35.2335,2,  35.2300,2, 23.8476,   -999
   31DSEP692_2,  PR16,    70,  2,      6,   -999,2,19921109,1219, -7.9950,-110.0025, 3460,     79.7,  21.8760,  35.8009,2,  35.8000,2, 21.8603,   -999
   31DSEP692_2,  PR16,    70,  2,      5,   -999,2,19921109,1219, -7.9950,-110.0025, 3460,    102.9,  19.5990,  35.6164,2,  35.6200,2, 19.5802,   -999
   31DSEP692_2,  PR16,    70,  2,      4,   -999,2,19921109,1219, -7.9950,-110.0025, 3460,    116.8,  17.6160,  35.3462,2,  35.3610,2, 17.5962,   -999
   31DSEP692_2,  PR16,    70,  2,      3,   -999,2,19921109,1219, -7.9950,-110.0025, 3460,    129.2,  16.1270,  35.1726,2,  35.1660,2, 16.1064,   -999
   31DSEP692_2,  PR16,    70,  2,      2,   -999,2,19921109,1219, -7.9950,-110.0025, 3460,    140.2,  14.8830,  35.0430,2,  35.0490,2, 14.8619,   -999
   31DSEP692_2,  PR16,    70,  2,      1,   -999,2,19921109,1219, -7.9950,-110.0025, 3460,    149.5,  13.9700,  34.9852,2,  34.9880,2, 13.9485,   -999
   31DSEP692_2,  PR16,    71,  1,     12,   -999,2,19921110,0233,-10.0005,-110.0018, -999,    172.8,  14.5160,  34.9532,2,  34.9540,2, 14.4904,   -999
   31DSEP692_2,  PR16,    71,  1,     11,   -999,2,19921110,0233,-10.0005,-110.0018, -999,    198.8,  12.6880,  34.8236,2,  34.8300,2, 12.6611,   -999
   31DSEP692_2,  PR16,    71,  1,     10,   -999,2,19921110,0233,-10.0005,-110.0018, -999,    228.8,  11.6950,  34.8126,2,  34.8060,2, 11.6657,   -999
   31DSEP692_2,  PR16,    71,  1,      9,   -999,2,19921110,0233,-10.0005,-110.0018, -999,    259.1,  10.9030,  34.8046,2,  34.7780,2, 10.8712,   -999
   31DSEP692_2,  PR16,    71,  1,      8,   -999,2,19921110,0233,-10.0005,-110.0018, -999,    289.9,  10.4790,  34.7757,2,  34.7990,2, 10.4443,   -999
   31DSEP692_2,  PR16,    71,  1,      7,   -999,2,19921110,0233,-10.0005,-110.0018, -999,    330.6,   9.9950,  34.7458,2,  34.7460,2,  9.9565,   -999
   31DSEP692_2,  PR16,    71,  1,      6,   -999,2,19921110,0233,-10.0005,-110.0018, -999,    378.9,   9.5930,  34.7219,2,  34.7200,2,  9.5499,   -999
   31DSEP692_2,  PR16,    71,  1,      5,   -999,2,19921110,0233,-10.0005,-110.0018, -999,    449.8,   8.7980,  34.6740,2,  34.6730,2,  8.7493,   -999
   31DSEP692_2,  PR16,    71,  1,      4,   -999,2,19921110,0233,-10.0005,-110.0018, -999,    599.0,   7.2890,  34.5962,2,  34.5930,2,  7.2303,   -999
   31DSEP692_2,  PR16,    71,  1,      3,   -999,2,19921110,0233,-10.0005,-110.0018, -999,    799.2,   5.7220,  34.5444,2,  34.5410,2,  5.6521,   -999
   31DSEP692_2,  PR16,    71,  1,      1,   -999,2,19921110,0233,-10.0005,-110.0018, -999,   1002.4,   4.6630,  34.5384,2,  34.5390,2,  4.5820,   -999
   31DSEP692_2,  PR16,    71,  1,      2,   -999,2,19921110,0233,-10.0005,-110.0018, -999,   1003.1,   4.6610,  34.5384,2,  34.5400,2,  4.5799,   -999
   31DSEP692_2,  PR16,    71,  2,     12,   -999,2,19921110,0422, -9.9985,-109.9990, -999,      3.1,  23.8900,  35.0939,2,  35.0920,2, 23.8894,   -999
   31DSEP692_2,  PR16,    71,  2,     11,   -999,2,19921110,0422, -9.9985,-109.9990, -999,      9.5,  23.8850,  35.0949,2,  35.0920,2, 23.8830,   -999
   31DSEP692_2,  PR16,    71,  2,     10,   -999,2,19921110,0422, -9.9985,-109.9990, -999,     19.2,  23.8880,  35.0929,2,  35.0910,2, 23.8840,   -999
   31DSEP692_2,  PR16,    71,  2,      9,   -999,2,19921110,0422, -9.9985,-109.9990, -999,     30.1,  23.7650,  35.0849,2,  35.0840,2, 23.7587,   -999
   31DSEP692_2,  PR16,    71,  2,      8,   -999,2,19921110,0422, -9.9985,-109.9990, -999,     39.1,  23.5870,  35.0958,2,  35.0910,2, 23.5789,   -999
   31DSEP692_2,  PR16,    71,  2,      6,   -999,2,19921110,0422, -9.9985,-109.9990, -999,     80.5,  21.1960,  35.0011,2,  35.0340,2, 21.1805,   -999
   31DSEP692_2,  PR16,    71,  2,      5,   -999,2,19921110,0422, -9.9985,-109.9990, -999,     98.0,  21.0730,  35.6583,2,  35.5670,2, 21.0542,   -999
   31DSEP692_2,  PR16,    71,  2,      4,   -999,2,19921110,0422, -9.9985,-109.9990, -999,    120.4,  19.4980,  35.5785,2,  35.5840,2, 19.4761,   -999
   31DSEP692_2,  PR16,    71,  2,      3,   -999,2,19921110,0422, -9.9985,-109.9990, -999,    129.2,  19.1120,  35.5217,2,  35.5270,2, 19.0888,   -999
   31DSEP692_2,  PR16,    71,  2,      2,   -999,2,19921110,0422, -9.9985,-109.9990, -999,    139.3,  18.2250,  35.4040,2,  35.4160,2, 18.2008,   -999
   31DSEP692_2,  PR16,    71,  2,      1,   -999,2,19921110,0422, -9.9985,-109.9990, -999,    149.9,  17.2970,  35.2973,2,  35.3110,2, 17.2719,   -999