BOTTLE,20020619WHPSIOKJU
EXPOCODE,SECT_ID,STNNBR,CASTNO,SAMPNO,BTLNBR,BTLNBR_FLAG_W,DATE,TIME,LATITUDE,LONGITUDE,DEPTH,CTDPRS,CTDTMP,CTDSAL,CTDSAL_FLAG_W,SALNTY,SALNTY_FLAG_W,THETA,CTDRAW
,,,,,,,,,,,,DBAR,ITS-90,PSS-78,,PSS-78,,ITS-90,
   31DSEP692_2,  PR16,    60,  1,     23,   -999,2,19921104,0944,  0.1943,-110.0885, 3822,     12.6,  21.2810,  34.8412,2,  34.8450,2, 21.2786,   -999
   31DSEP692_2,  PR16,    60,  1,     22,   -999,2,19921104,0944,  0.1943,-110.0885, 3822,     22.5,  20.8810,  34.8302,2,  34.8260,2, 20.8767,   -999
   31DSEP692_2,  PR16,    60,  1,     21,   -999,2,19921104,0944,  0.1943,-110.0885, 3822,     43.4,  20.1590,  34.8081,2,  34.8050,2, 20.1510,   -999
   31DSEP692_2,  PR16,    60,  1,     20,   -999,2,19921104,0944,  0.1943,-110.0885, 3822,     52.3,  19.4830,  34.9466,2,  34.8210,2, 19.4735,   -999
   31DSEP692_2,  PR16,    60,  1,     19,   -999,2,19921104,0944,  0.1943,-110.0885, 3822,     62.6,  18.3070,  34.8653,2,  34.8600,2, 18.2962,   -999
   31DSEP692_2,  PR16,    60,  1,     18,   -999,2,19921104,0944,  0.1943,-110.0885, 3822,     82.2,  15.5970,  34.8523,2,  34.8470,2, 15.5843,   -999
   31DSEP692_2,  PR16,    60,  1,     17,   -999,2,19921104,0944,  0.1943,-110.0885, 3822,     92.5,  14.8480,  34.8693,2,  34.8690,2, 14.8341,   -999
   31DSEP692_2,  PR16,    60,  1,     16,   -999,2,19921104,0944,  0.1943,-110.0885, 3822,    101.9,  14.6940,  34.8814,2,  34.8790,2, 14.6788,   -999
   31DSEP692_2,  PR16,    60,  1,     15,   -999,2,19921104,0944,  0.1943,-110.0885, 3822,    113.0,  14.4760,  34.8874,2,  34.8850,2, 14.4594,   -999
   31DSEP692_2,  PR16,    60,  1,     14,   -999,2,19921104,0944,  0.1943,-110.0885, 3822,    122.8,  14.1860,  34.9155,2,  34.9060,2, 14.1681,   -999
   31DSEP692_2,  PR16,    60,  1,     13,   -999,2,19921104,0944,  0.1943,-110.0885, 3822,    134.1,  13.9050,  34.9205,2,  34.9240,2, 13.8858,   -999
   31DSEP692_2,  PR16,    60,  1,     12,   -999,2,19921104,0944,  0.1943,-110.0885, 3822,    142.5,  13.5010,  34.9125,2,  34.9120,2, 13.4810,   -999
   31DSEP692_2,  PR16,    60,  1,     11,   -999,4,19921104,0944,  0.1943,-110.0885, 3822,    152.9,  13.2700,  34.8854,2,  34.9060,2, 13.2487,   -999
   31DSEP692_2,  PR16,    60,  1,     10,   -999,2,19921104,0944,  0.1943,-110.0885, 3822,    163.7,  12.9280,  34.8934,2,  34.8950,2, 12.9056,   -999
   31DSEP692_2,  PR16,    60,  1,      9,   -999,4,19921104,0944,  0.1943,-110.0885, 3822,    183.2,  12.6900,  34.8864,2,  34.8870,2, 12.6652,   -999
   31DSEP692_2,  PR16,    60,  1,      8,   -999,2,19921104,0944,  0.1943,-110.0885, 3822,    202.4,  12.5180,  34.8844,2,  34.8850,2, 12.4909,   -999
   31DSEP692_2,  PR16,    60,  1,      7,   -999,4,19921104,0944,  0.1943,-110.0885, 3822,    251.8,  12.2240,  34.8623,2,  34.8630,2, 12.1907,   -999
   31DSEP692_2,  PR16,    60,  1,      6,   -999,2,19921104,0944,  0.1943,-110.0885, 3822,    304.4,  10.2690,  34.7359,2,  34.7380,2, 10.2330,   -999
   31DSEP692_2,  PR16,    60,  1,      5,   -999,2,19921104,0944,  0.1943,-110.0885, 3822,    404.3,   8.7130,  34.6607,2,  34.6600,2,  8.6696,   -999
   31DSEP692_2,  PR16,    60,  1,      4,   -999,2,19921104,0944,  0.1943,-110.0885, 3822,    603.4,   6.5730,  34.5664,2,  34.5730,2,  6.5172,   -999
   31DSEP692_2,  PR16,    60,  1,      3,   -999,2,19921104,0944,  0.1943,-110.0885, 3822,    803.4,   5.3050,  34.5483,2,  34.5520,2,  5.2373,   -999
   31DSEP692_2,  PR16,    60,  1,      1,   -999,4,19921104,0944,  0.1943,-110.0885, 3822,   1001.1,   4.4020,  34.5564,2,  34.5600,2,  4.3231,   -999
   31DSEP692_2,  PR16,    60,  1,      2,   -999,2,19921104,0944,  0.1943,-110.0885, 3822,   1001.1,   4.4020,  34.5564,2,  34.5610,2,  4.3231,   -999
   31DSEP692_2,  PR16,    61,  1,     24,   -999,2,19921104,2110,  0.0132,-110.0065, -999,      5.0,  21.8670,  34.9094,2,  34.9040,2, 21.8660,   -999
   31DSEP692_2,  PR16,    61,  1,     23,   -999,2,19921104,2110,  0.0132,-110.0065, -999,     11.5,  21.3270,  34.8974,2,  34.8960,2, 21.3248,   -999
   31DSEP692_2,  PR16,    61,  1,     22,   -999,2,19921104,2110,  0.0132,-110.0065, -999,     21.8,  20.3950,  34.8854,2,  34.8790,2, 20.3909,   -999
   31DSEP692_2,  PR16,    61,  1,     21,   -999,2,19921104,2110,  0.0132,-110.0065, -999,     41.4,  18.9020,  34.8774,2,  34.8660,2, 18.8947,   -999
   31DSEP692_2,  PR16,    61,  1,     20,   -999,2,19921104,2110,  0.0132,-110.0065, -999,     52.6,  17.8890,  34.8553,2,  34.8560,2, 17.8800,   -999
   31DSEP692_2,  PR16,    61,  1,     19,   -999,2,19921104,2110,  0.0132,-110.0065, -999,     60.9,  17.0400,  34.8864,2,  34.8790,2, 17.0300,   -999
   31DSEP692_2,  PR16,    61,  1,     18,   -999,2,19921104,2110,  0.0132,-110.0065, -999,     86.2,  15.6260,  34.8854,2,  34.8870,2, 15.6126,   -999
   31DSEP692_2,  PR16,    61,  1,     17,   -999,2,19921104,2110,  0.0132,-110.0065, -999,     90.8,  15.5920,  35.0659,2,  35.0480,2, 15.5779,   -999
   31DSEP692_2,  PR16,    61,  1,     16,   -999,2,19921104,2110,  0.0132,-110.0065, -999,    100.8,  14.9270,  34.9275,2,  34.9300,2, 14.9118,   -999
   31DSEP692_2,  PR16,    61,  1,     15,   -999,2,19921104,2110,  0.0132,-110.0065, -999,    112.1,  14.5400,  34.9145,2,  34.9120,2, 14.5234,   -999
   31DSEP692_2,  PR16,    61,  1,     14,   -999,2,19921104,2110,  0.0132,-110.0065, -999,    120.8,  14.1650,  34.9024,2,  34.9000,2, 14.1475,   -999
   31DSEP692_2,  PR16,    61,  1,     13,   -999,2,19921104,2110,  0.0132,-110.0065, -999,    132.0,  13.7720,  34.9135,2,  34.9130,2, 13.7532,   -999
   31DSEP692_2,  PR16,    61,  1,     12,   -999,2,19921104,2110,  0.0132,-110.0065, -999,    140.2,  13.2850,  34.9054,2,  34.9050,2, 13.2655,   -999
   31DSEP692_2,  PR16,    61,  1,     11,   -999,2,19921104,2110,  0.0132,-110.0065, -999,    150.9,  12.9450,  34.8944,2,  34.8950,2, 12.9244,   -999
   31DSEP692_2,  PR16,    61,  1,     10,   -999,2,19921104,2110,  0.0132,-110.0065, -999,    162.1,  12.8120,  34.8924,2,  34.8910,2, 12.7900,   -999
   31DSEP692_2,  PR16,    61,  1,      9,   -999,4,19921104,2110,  0.0132,-110.0065, -999,    181.9,  12.5950,  34.8874,2,  34.8890,2, 12.5705,   -999
   31DSEP692_2,  PR16,    61,  1,      8,   -999,2,19921104,2110,  0.0132,-110.0065, -999,    202.3,  12.5030,  34.8814,2,  34.8800,2, 12.4759,   -999
   31DSEP692_2,  PR16,    61,  1,      7,   -999,4,19921104,2110,  0.0132,-110.0065, -999,    252.6,  11.8510,  34.8382,2,  34.8370,2, 11.8183,   -999
   31DSEP692_2,  PR16,    61,  1,      6,   -999,2,19921104,2110,  0.0132,-110.0065, -999,    304.1,  10.7460,  34.7670,2,  34.7640,2, 10.7090,   -999
   31DSEP692_2,  PR16,    61,  1,      5,   -999,2,19921104,2110,  0.0132,-110.0065, -999,    401.3,   8.9680,  34.6687,2,  34.6700,2,  8.9242,   -999
   31DSEP692_2,  PR16,    61,  1,      4,   -999,2,19921104,2110,  0.0132,-110.0065, -999,    603.4,   6.8240,  34.5744,2,  34.5490,2,  6.7670,   -999
   31DSEP692_2,  PR16,    61,  1,      3,   -999,2,19921104,2110,  0.0132,-110.0065, -999,    802.4,   5.2620,  34.5473,2,  34.5780,2,  5.1946,   -999
   31DSEP692_2,  PR16,    61,  1,      1,   -999,4,19921104,2110,  0.0132,-110.0065, -999,   1005.3,   4.5700,  34.5534,2,  34.5560,2,  4.4894,   -999
   31DSEP692_2,  PR16,    61,  1,      2,   -999,2,19921104,2110,  0.0132,-110.0065, -999,   1005.3,   4.5700,  34.5534,2,  34.5560,2,  4.4894,   -999
   31DSEP692_2,  PR16,    62,  1,     24,   -999,2,19921105,0756, -0.2530,-110.0033, -999,      2.2,  22.2380,  34.9225,2,  34.9210,2, 22.2376,   -999
   31DSEP692_2,  PR16,    62,  1,     23,   -999,2,19921105,0756, -0.2530,-110.0033, -999,      9.7,  21.8300,  34.8934,2,  34.9230,2, 21.8281,   -999
   31DSEP692_2,  PR16,    62,  1,     22,   -999,2,19921105,0756, -0.2530,-110.0033, -999,     20.1,  20.7900,  34.9195,2,  34.9280,2, 20.7862,   -999
   31DSEP692_2,  PR16,    62,  1,     21,   -999,2,19921105,0756, -0.2530,-110.0033, -999,     29.4,  19.9760,  34.9636,2,  34.9630,2, 19.9706,   -999
   31DSEP692_2,  PR16,    62,  1,     20,   -999,2,19921105,0756, -0.2530,-110.0033, -999,     40.8,  19.5160,  34.9746,2,  34.9720,2, 19.5086,   -999
   31DSEP692_2,  PR16,    62,  1,     19,   -999,2,19921105,0756, -0.2530,-110.0033, -999,     61.1,  18.4700,  35.2244,2,  35.1820,2, 18.4593,   -999
   31DSEP692_2,  PR16,    62,  1,     18,   -999,2,19921105,0756, -0.2530,-110.0033, -999,     80.1,  17.0060,  35.0970,2,  35.0990,2, 16.9928,   -999
   31DSEP692_2,  PR16,    62,  1,     17,   -999,2,19921105,0756, -0.2530,-110.0033, -999,     99.3,  15.9350,  35.1060,2,  35.1100,2, 15.9194,   -999
   31DSEP692_2,  PR16,    62,  1,     16,   -999,2,19921105,0756, -0.2530,-110.0033, -999,    119.8,  14.5190,  34.9686,2,  34.9770,2, 14.5013,   -999
   31DSEP692_2,  PR16,    62,  1,     15,   -999,2,19921105,0756, -0.2530,-110.0033, -999,    129.9,  14.2080,  34.9305,2,  34.9310,2, 14.1891,   -999
   31DSEP692_2,  PR16,    62,  1,     14,   -999,2,19921105,0756, -0.2530,-110.0033, -999,    140.5,  13.7750,  34.9044,2,  34.8970,2, 13.7550,   -999
   31DSEP692_2,  PR16,    62,  1,     13,   -999,2,19921105,0756, -0.2530,-110.0033, -999,    149.7,  13.2540,  34.9074,2,  34.9090,2, 13.2332,   -999
   31DSEP692_2,  PR16,    62,  1,     12,   -999,4,19921105,0756, -0.2530,-110.0033, -999,    175.5,  12.7540,  34.8984,2,  34.9010,2, 12.7302,   -999
   31DSEP692_2,  PR16,    62,  1,     11,   -999,2,19921105,0756, -0.2530,-110.0033, -999,    201.0,  12.5140,  34.8834,2,  34.8850,2, 12.4871,   -999
   31DSEP692_2,  PR16,    62,  1,     10,   -999,2,19921105,0756, -0.2530,-110.0033, -999,    228.6,  12.0960,  34.8523,2,  34.8570,2, 12.0660,   -999
   31DSEP692_2,  PR16,    62,  1,      9,   -999,2,19921105,0756, -0.2530,-110.0033, -999,    259.2,  12.0220,  34.8533,2,  34.8540,2, 11.9881,   -999
   31DSEP692_2,  PR16,    62,  1,      8,   -999,2,19921105,0756, -0.2530,-110.0033, -999,    289.7,  11.2970,  34.8142,2,  34.8130,2, 11.2606,   -999
   31DSEP692_2,  PR16,    62,  1,      7,   -999,2,19921105,0756, -0.2530,-110.0033, -999,    331.0,  10.2140,  34.7359,2,  34.7400,2, 10.1749,   -999
   31DSEP692_2,  PR16,    62,  1,      6,   -999,2,19921105,0756, -0.2530,-110.0033, -999,    378.8,   9.6400,  34.7078,2,  34.7120,2,  9.5968,   -999
   31DSEP692_2,  PR16,    62,  1,      5,   -999,2,19921105,0756, -0.2530,-110.0033, -999,    450.7,   8.7850,  34.6607,2,  34.6650,2,  8.7362,   -999
   31DSEP692_2,  PR16,    62,  1,      4,   -999,2,19921105,0756, -0.2530,-110.0033, -999,    599.4,   7.0330,  34.5534,2,  34.5850,2,  6.9755,   -999
   31DSEP692_2,  PR16,    62,  1,      3,   -999,2,19921105,0756, -0.2530,-110.0033, -999,    798.5,   5.3940,  34.5453,2,  34.5520,2,  5.3262,   -999
   31DSEP692_2,  PR16,    62,  1,      1,   -999,4,19921105,0756, -0.2530,-110.0033, -999,    998.9,   4.3940,  34.5564,2,  34.5610,2,  4.3153,   -999
   31DSEP692_2,  PR16,    62,  1,      2,   -999,2,19921105,0756, -0.2530,-110.0033, -999,    998.9,   4.3940,  34.5564,2,  34.5600,2,  4.3153,   -999
   31DSEP692_2,  PR16,    63,  1,     24,   -999,2,19921105,1119, -0.5150,-110.0060, 3650,      2.2,  22.3710,  34.9135,2,  34.9150,2, 22.3706,   -999
   31DSEP692_2,  PR16,    63,  1,     23,   -999,2,19921105,1119, -0.5150,-110.0060, 3650,      9.0,  22.1860,  34.9215,2,  34.9310,2, 22.1842,   -999
   31DSEP692_2,  PR16,    63,  1,     22,   -999,2,19921105,1119, -0.5150,-110.0060, 3650,     20.3,  21.6500,  34.9476,2,  34.9490,2, 21.6460,   -999
   31DSEP692_2,  PR16,    63,  1,     21,   -999,2,19921105,1119, -0.5150,-110.0060, 3650,     28.8,  21.0400,  34.9275,2,  34.9460,2, 21.0345,   -999
   31DSEP692_2,  PR16,    63,  1,     20,   -999,2,19921105,1119, -0.5150,-110.0060, 3650,     49.7,  19.9950,  35.1722,2,  35.1660,2, 19.9858,   -999
   31DSEP692_2,  PR16,    63,  1,     19,   -999,2,19921105,1119, -0.5150,-110.0060, 3650,     58.8,  20.0480,  35.3588,2,  35.3420,2, 20.0371,   -999
   31DSEP692_2,  PR16,    63,  1,     18,   -999,2,19921105,1119, -0.5150,-110.0060, 3650,     80.5,  17.3720,  35.3127,2,  35.3430,2, 17.3585,   -999
   31DSEP692_2,  PR16,    63,  1,     17,   -999,2,19921105,1119, -0.5150,-110.0060, 3650,    100.3,  15.8840,  35.1502,2,  35.1510,2, 15.8682,   -999
   31DSEP692_2,  PR16,    63,  1,     16,   -999,2,19921105,1119, -0.5150,-110.0060, 3650,    120.8,  14.6990,  35.0228,2,  35.0450,2, 14.6810,   -999
   31DSEP692_2,  PR16,    63,  1,     15,   -999,2,19921105,1119, -0.5150,-110.0060, 3650,    128.7,  14.1680,  34.9395,2,  34.9440,2, 14.1493,   -999
   31DSEP692_2,  PR16,    63,  1,     14,   -999,2,19921105,1119, -0.5150,-110.0060, 3650,    140.1,  13.7580,  34.9014,2,  34.9050,2, 13.7380,   -999
   31DSEP692_2,  PR16,    63,  1,     13,   -999,2,19921105,1119, -0.5150,-110.0060, 3650,    150.4,  13.3330,  34.9115,2,  34.9060,2, 13.3120,   -999
   31DSEP692_2,  PR16,    63,  1,     12,   -999,4,19921105,1119, -0.5150,-110.0060, 3650,    175.6,  12.9060,  34.9165,2,  34.9140,2, 12.8820,   -999
   31DSEP692_2,  PR16,    63,  1,     11,   -999,2,19921105,1119, -0.5150,-110.0060, 3650,    199.6,  12.6840,  34.8974,2,  34.8990,2, 12.6570,   -999
   31DSEP692_2,  PR16,    63,  1,     10,   -999,2,19921105,1119, -0.5150,-110.0060, 3650,    231.6,  12.3720,  34.8673,2,  34.8760,2, 12.3412,   -999
   31DSEP692_2,  PR16,    63,  1,      9,   -999,2,19921105,1119, -0.5150,-110.0060, 3650,    259.8,  12.0660,  34.8533,2,  34.8580,2, 12.0319,   -999
   31DSEP692_2,  PR16,    63,  1,      8,   -999,2,19921105,1119, -0.5150,-110.0060, 3650,    291.1,  10.9600,  34.7881,2,  34.7880,2, 10.9241,   -999
   31DSEP692_2,  PR16,    63,  1,      7,   -999,2,19921105,1119, -0.5150,-110.0060, 3650,    329.6,  10.3730,  34.7429,2,  34.7490,2, 10.3337,   -999
   31DSEP692_2,  PR16,    63,  1,      6,   -999,2,19921105,1119, -0.5150,-110.0060, 3650,    378.2,   9.3990,  34.6446,2,  34.6990,2,  9.3566,   -999
   31DSEP692_2,  PR16,    63,  1,      5,   -999,2,19921105,1119, -0.5150,-110.0060, 3650,    451.2,   8.7860,  34.6607,2,  34.6640,2,  8.7372,   -999
   31DSEP692_2,  PR16,    63,  1,      4,   -999,2,19921105,1119, -0.5150,-110.0060, 3650,    601.9,   7.1190,  34.5814,2,  34.5870,2,  7.0608,   -999
   31DSEP692_2,  PR16,    63,  1,      3,   -999,2,19921105,1119, -0.5150,-110.0060, 3650,    795.5,   5.6950,  34.5493,2,  34.5540,2,  5.6256,   -999
   31DSEP692_2,  PR16,    63,  1,      1,   -999,4,19921105,1119, -0.5150,-110.0060, 3650,   1001.5,   4.5940,  34.5493,2,  34.5550,2,  4.5136,   -999
   31DSEP692_2,  PR16,    63,  1,      2,   -999,2,19921105,1119, -0.5150,-110.0060, 3650,   1001.5,   4.5940,  34.5493,2,  34.5550,2,  4.5136,   -999
   31DSEP692_2,  PR16,    64,  1,     24,   -999,2,19921106,0546, -1.0000,-110.0000, -999,      2.7,  22.7640,  34.8804,2,  34.8770,2, 22.7635,   -999
   31DSEP692_2,  PR16,    64,  1,     23,   -999,2,19921106,0546, -1.0000,-110.0000, -999,     10.0,  22.6900,  34.8804,2,  34.8790,2, 22.6880,   -999
   31DSEP692_2,  PR16,    64,  1,     22,   -999,2,19921106,0546, -1.0000,-110.0000, -999,     19.5,  22.4140,  34.9074,2,  34.8970,2, 22.4101,   -999
   31DSEP692_2,  PR16,    64,  1,     21,   -999,2,19921106,0546, -1.0000,-110.0000, -999,     30.1,  21.9770,  34.9746,2,  34.9720,2, 21.9711,   -999
   31DSEP692_2,  PR16,    64,  1,     20,   -999,2,19921106,0546, -1.0000,-110.0000, -999,     39.2,  21.8760,  35.0740,2,  35.0720,2, 21.8683,   -999
   31DSEP692_2,  PR16,    64,  1,     19,   -999,2,19921106,0546, -1.0000,-110.0000, -999,     60.0,  21.4500,  35.1953,2,  35.1890,2, 21.4384,   -999
   31DSEP692_2,  PR16,    64,  1,     18,   -999,2,19921106,0546, -1.0000,-110.0000, -999,     78.8,  15.6730,  35.1753,2,  35.1770,2, 15.6607,   -999
   31DSEP692_2,  PR16,    64,  1,     17,   -999,2,19921106,0546, -1.0000,-110.0000, -999,    100.9,  14.5040,  35.0770,2,  35.0830,2, 14.4891,   -999
   31DSEP692_2,  PR16,    64,  1,     16,   -999,2,19921106,0546, -1.0000,-110.0000, -999,    119.9,  13.8770,  34.9877,2,  34.9900,2, 13.8598,   -999
   31DSEP692_2,  PR16,    64,  1,     15,   -999,2,19921106,0546, -1.0000,-110.0000, -999,    129.6,  13.6830,  34.9726,2,  34.9740,2, 13.6646,   -999
   31DSEP692_2,  PR16,    64,  1,     14,   -999,2,19921106,0546, -1.0000,-110.0000, -999,    139.8,  13.4870,  34.9446,2,  34.9470,2, 13.4673,   -999
   31DSEP692_2,  PR16,    64,  1,     13,   -999,2,19921106,0546, -1.0000,-110.0000, -999,    149.7,  13.3290,  34.9395,2,  34.9410,2, 13.3081,   -999
   31DSEP692_2,  PR16,    64,  1,     12,   -999,4,19921106,0546, -1.0000,-110.0000, -999,    176.4,  12.8760,  34.9165,2,  34.9190,2, 12.8519,   -999
   31DSEP692_2,  PR16,    64,  1,     11,   -999,2,19921106,0546, -1.0000,-110.0000, -999,    199.5,  12.6430,  34.8934,2,  34.8960,2, 12.6161,   -999
   31DSEP692_2,  PR16,    64,  1,     10,   -999,2,19921106,0546, -1.0000,-110.0000, -999,    229.6,  12.5320,  34.8643,2,  34.8860,2, 12.5012,   -999
   31DSEP692_2,  PR16,    64,  1,      9,   -999,2,19921106,0546, -1.0000,-110.0000, -999,    259.5,  12.4180,  34.8753,2,  34.8780,2, 12.3833,   -999
   31DSEP692_2,  PR16,    64,  1,      8,   -999,2,19921106,0546, -1.0000,-110.0000, -999,    289.7,  11.9800,  34.8553,2,  34.8530,2, 11.9422,   -999
   31DSEP692_2,  PR16,    64,  1,      7,   -999,2,19921106,0546, -1.0000,-110.0000, -999,    330.9,  10.6380,  34.7750,2,  34.7760,2, 10.5979,   -999
   31DSEP692_2,  PR16,    64,  1,      6,   -999,2,19921106,0546, -1.0000,-110.0000, -999,    379.5,   9.5270,  34.7058,2,  34.7120,2,  9.4840,   -999
   31DSEP692_2,  PR16,    64,  1,      5,   -999,2,19921106,0546, -1.0000,-110.0000, -999,    448.2,   8.7660,  34.6587,2,  34.6630,2,  8.7176,   -999
   31DSEP692_2,  PR16,    64,  1,      4,   -999,2,19921106,0546, -1.0000,-110.0000, -999,    599.3,   7.2790,  34.5885,2,  34.5940,2,  7.2204,   -999
   31DSEP692_2,  PR16,    64,  1,      3,   -999,4,19921106,0546, -1.0000,-110.0000, -999,    798.5,   5.6130,  34.5413,2,  34.5460,2,  5.5438,   -999
   31DSEP692_2,  PR16,    64,  1,      1,   -999,4,19921106,0546, -1.0000,-110.0000, -999,   1005.8,   4.2490,  34.5584,2,  34.5640,2,  4.1708,   -999
   31DSEP692_2,  PR16,    64,  1,      2,   -999,2,19921106,0546, -1.0000,-110.0000, -999,   1005.8,   4.2490,  34.5584,2,  34.5630,2,  4.1708,   -999