BOTTLE,20020619WHPSIOKJU
#code : jjward hyd_to_exchange.pl 
#original files copied from HTML directory: 20020619
#original HYD file: pr16_ehy.txt   Wed Jun 19 14:25:13 2002
#original SUM file: pr16_esu.txt   Wed Jun 19 14:31:17 2002
EXPOCODE,SECT_ID,STNNBR,CASTNO,SAMPNO,BTLNBR,BTLNBR_FLAG_W,DATE,TIME,LATITUDE,LONGITUDE,DEPTH,CTDPRS,CTDTMP,CTDSAL,CTDSAL_FLAG_W,SALNTY,SALNTY_FLAG_W,THETA,CTDRAW
,,,,,,,,,,,,DBAR,ITS-90,PSS-78,,PSS-78,,ITS-90,
   31DSEP692_2,  PR16,    50,  1,     24,   -999,2,19921017,0430, 10.0180,-109.9485, -999,      6.7,  27.4470,  33.0799,2,  33.1710,2, 27.4455,   -999
   31DSEP692_2,  PR16,    50,  1,     23,   -999,2,19921017,0430, 10.0180,-109.9485, -999,     13.8,  27.5590,  33.1892,2,  33.3590,2, 27.5558,   -999
   31DSEP692_2,  PR16,    50,  1,     22,   -999,2,19921017,0430, 10.0180,-109.9485, -999,     23.1,  27.6110,  33.3567,2,  33.6860,2, 27.6056,   -999
   31DSEP692_2,  PR16,    50,  1,     20,   -999,3,19921017,0430, 10.0180,-109.9485, -999,     53.0,  24.6210,  34.0388,2,  34.4480,2, 24.6097,   -999
   31DSEP692_2,  PR16,    50,  1,     21,   -999,2,19921017,0430, 10.0180,-109.9485, -999,     53.5,  26.7820,  33.6887,2,  34.0540,2, 26.7699,   -999
   31DSEP692_2,  PR16,    50,  1,     19,   -999,2,19921017,0430, 10.0180,-109.9485, -999,     63.1,  19.9750,  34.5373,2,  34.0500,2, 19.9634,   -999
   31DSEP692_2,  PR16,    50,  1,     18,   -999,2,19921017,0430, 10.0180,-109.9485, -999,     83.5,  15.5720,  34.6517,2,  34.6480,2, 15.5591,   -999
   31DSEP692_2,  PR16,    50,  1,     17,   -999,2,19921017,0430, 10.0180,-109.9485, -999,     93.1,  14.6570,  34.7058,2,  34.6970,2, 14.6432,   -999
   31DSEP692_2,  PR16,    50,  1,     16,   -999,2,19921017,0430, 10.0180,-109.9485, -999,    103.5,  14.0980,  34.7309,2,  34.7270,2, 14.0831,   -999
   31DSEP692_2,  PR16,    50,  1,     15,   -999,2,19921017,0430, 10.0180,-109.9485, -999,    113.8,  13.7410,  34.7630,2,  34.7590,2, 13.7248,   -999
   31DSEP692_2,  PR16,    50,  1,     14,   -999,2,19921017,0430, 10.0180,-109.9485, -999,    122.9,  13.2540,  34.7740,2,  34.7720,2, 13.2370,   -999
   31DSEP692_2,  PR16,    50,  1,     13,   -999,2,19921017,0430, 10.0180,-109.9485, -999,    133.2,  12.6010,  34.7780,2,  34.7840,2, 12.5831,   -999
   31DSEP692_2,  PR16,    50,  1,     12,   -999,2,19921017,0430, 10.0180,-109.9485, -999,    143.7,  12.3390,  34.7831,2,  34.7780,2, 12.3200,   -999
   31DSEP692_2,  PR16,    50,  1,     11,   -999,2,19921017,0430, 10.0180,-109.9485, -999,    153.2,  12.1710,  34.7750,2,  34.7710,2, 12.1509,   -999
   31DSEP692_2,  PR16,    50,  1,     10,   -999,2,19921017,0430, 10.0180,-109.9485, -999,    168.5,  11.8810,  34.7570,2,  34.7640,2, 11.8592,   -999
   31DSEP692_2,  PR16,    50,  1,      9,   -999,2,19921017,0430, 10.0180,-109.9485, -999,    183.5,  11.5840,  34.7520,2,  34.7510,2, 11.5607,   -999
   31DSEP692_2,  PR16,    50,  1,      8,   -999,2,19921017,0430, 10.0180,-109.9485, -999,    203.6,  11.2770,  34.7439,2,  34.7400,2, 11.2516,   -999
   31DSEP692_2,  PR16,    50,  1,      7,   -999,2,19921017,0430, 10.0180,-109.9485, -999,    253.5,  10.5890,  34.7159,2,  34.7140,2, 10.5585,   -999
   31DSEP692_2,  PR16,    50,  1,      6,   -999,2,19921017,0430, 10.0180,-109.9485, -999,    303.4,   9.9170,  34.6797,2,  34.6810,2,  9.8819,   -999
   31DSEP692_2,  PR16,    50,  1,      5,   -999,2,19921017,0430, 10.0180,-109.9485, -999,    403.9,   8.5380,  34.6045,2,  34.6030,2,  8.4952,   -999
   31DSEP692_2,  PR16,    50,  1,      4,   -999,2,19921017,0430, 10.0180,-109.9485, -999,    603.3,   6.4120,  34.5614,2,  34.5620,2,  6.3569,   -999
   31DSEP692_2,  PR16,    50,  1,      3,   -999,2,19921017,0430, 10.0180,-109.9485, -999,    803.5,   5.0750,  34.5554,2,  34.5550,2,  5.0087,   -999
   31DSEP692_2,  PR16,    50,  1,      1,   -999,2,19921017,0430, 10.0180,-109.9485, -999,   1004.8,   4.2810,  34.5694,2,  34.5670,2,  4.2027,   -999
   31DSEP692_2,  PR16,    50,  1,      2,   -999,2,19921017,0430, 10.0180,-109.9485, -999,   1004.8,   4.2830,  34.5694,2,  34.5670,2,  4.2046,   -999
   31DSEP692_2,  PR16,    51,  1,     24,   -999,2,19921031,1200,  8.0005,-110.0017, 3623,      5.9,  28.0680,  33.2795,2,  33.2780,2, 28.0666,   -999
   31DSEP692_2,  PR16,    51,  1,     23,   -999,2,19921031,1200,  8.0005,-110.0017, 3623,     13.3,  28.0480,  33.3156,2,  33.3130,2, 28.0449,   -999
   31DSEP692_2,  PR16,    51,  1,     22,   -999,2,19921031,1200,  8.0005,-110.0017, 3623,     22.9,  27.8140,  33.4019,2,  33.4020,2, 27.8087,   -999
   31DSEP692_2,  PR16,    51,  1,     21,   -999,2,19921031,1200,  8.0005,-110.0017, 3623,     41.4,  27.1330,  33.7529,2,  33.7600,2, 27.1235,   -999
   31DSEP692_2,  PR16,    51,  1,     20,   -999,2,19921031,1200,  8.0005,-110.0017, 3623,     53.6,  26.3570,  33.9295,2,  33.9160,2, 26.3450,   -999
   31DSEP692_2,  PR16,    51,  1,     19,   -999,2,19921031,1200,  8.0005,-110.0017, 3623,     62.2,  23.1010,  34.3437,2,  34.3230,2, 23.0883,   -999
   31DSEP692_2,  PR16,    51,  1,     18,   -999,2,19921031,1200,  8.0005,-110.0017, 3623,     84.8,  17.4440,  34.6797,2,  34.6800,2, 17.4298,   -999
   31DSEP692_2,  PR16,    51,  1,     17,   -999,2,19921031,1200,  8.0005,-110.0017, 3623,     91.2,  15.2920,  34.7620,2,  34.7660,2, 15.2781,   -999
   31DSEP692_2,  PR16,    51,  1,     16,   -999,2,19921031,1200,  8.0005,-110.0017, 3623,    101.5,  14.1670,  34.7991,2,  34.8070,2, 14.1523,   -999
   31DSEP692_2,  PR16,    51,  1,     15,   -999,2,19921031,1200,  8.0005,-110.0017, 3623,    112.0,  13.4410,  34.8272,2,  34.8260,2, 13.4253,   -999
   31DSEP692_2,  PR16,    51,  1,     14,   -999,2,19921031,1200,  8.0005,-110.0017, 3623,    123.0,  12.9710,  34.8222,2,  34.8190,2, 12.9542,   -999
   31DSEP692_2,  PR16,    51,  1,     13,   -999,2,19921031,1200,  8.0005,-110.0017, 3623,    133.3,  12.4350,  34.7991,2,  34.7970,2, 12.4173,   -999
   31DSEP692_2,  PR16,    51,  1,     12,   -999,2,19921031,1200,  8.0005,-110.0017, 3623,    142.8,  12.3100,  34.7921,2,  34.7910,2, 12.2911,   -999
   31DSEP692_2,  PR16,    51,  1,     10,   -999,2,19921031,1200,  8.0005,-110.0017, 3623,    165.6,  11.8090,  34.7710,2,  34.7720,2, 11.7877,   -999
   31DSEP692_2,  PR16,    51,  1,      9,   -999,2,19921031,1200,  8.0005,-110.0017, 3623,    182.1,  11.5510,  34.7630,2,  34.7620,2, 11.5279,   -999
   31DSEP692_2,  PR16,    51,  1,      8,   -999,2,19921031,1200,  8.0005,-110.0017, 3623,    199.8,  11.3250,  34.7510,2,  34.7500,2, 11.3000,   -999
   31DSEP692_2,  PR16,    51,  1,      7,   -999,2,19921031,1200,  8.0005,-110.0017, 3623,    251.5,  10.6610,  34.7219,2,  34.7220,2, 10.6306,   -999
   31DSEP692_2,  PR16,    51,  1,      6,   -999,2,19921031,1200,  8.0005,-110.0017, 3623,    301.7,  10.3020,  34.7058,2,  34.7060,2, 10.2663,   -999
   31DSEP692_2,  PR16,    51,  1,      5,   -999,2,19921031,1200,  8.0005,-110.0017, 3623,    401.2,   9.2170,  34.6477,2,  34.6480,2,  9.1725,   -999
   31DSEP692_2,  PR16,    51,  1,      4,   -999,2,19921031,1200,  8.0005,-110.0017, 3623,    607.1,   6.5790,  34.5584,2,  34.5640,2,  6.5228,   -999
   31DSEP692_2,  PR16,    51,  1,      3,   -999,2,19921031,1200,  8.0005,-110.0017, 3623,    805.8,   5.2390,  34.5564,2,  34.5550,2,  5.1714,   -999
   31DSEP692_2,  PR16,    51,  1,      2,   -999,4,19921031,1200,  8.0005,-110.0017, 3623,    998.9,   4.4930,  34.5734,2,  34.5670,2,  4.4135,   -999
   31DSEP692_2,  PR16,    51,  1,      1,   -999,2,19921031,1200,  8.0005,-110.0017, 3623,   1000.7,   4.4930,  34.5734,2,  34.5690,2,  4.4134,   -999
   31DSEP692_2,  PR16,    52,  1,     24,   -999,2,19921101,0401,  5.9963,-109.9967, 3676,      6.4,  26.9450,  33.8753,2,  33.8750,2, 26.9435,   -999
   31DSEP692_2,  PR16,    52,  1,     23,   -999,2,19921101,0401,  5.9963,-109.9967, 3676,      6.6,  26.9390,  33.8753,2,  33.8730,2, 26.9375,   -999
   31DSEP692_2,  PR16,    52,  1,     22,   -999,2,19921101,0401,  5.9963,-109.9967, 3676,     13.0,  26.9570,  33.8813,2,  33.8750,2, 26.9540,   -999
   31DSEP692_2,  PR16,    52,  1,     21,   -999,2,19921101,0401,  5.9963,-109.9967, 3676,     23.1,  26.9680,  33.8883,2,  33.8850,2, 26.9627,   -999
   31DSEP692_2,  PR16,    52,  1,     20,   -999,2,19921101,0401,  5.9963,-109.9967, 3676,     43.7,  26.9660,  33.9214,2,  33.9180,2, 26.9560,   -999
   31DSEP692_2,  PR16,    52,  1,     19,   -999,2,19921101,0401,  5.9963,-109.9967, 3676,     62.4,  26.8960,  33.9646,2,  33.9560,2, 26.8818,   -999
   31DSEP692_2,  PR16,    52,  1,     18,   -999,2,19921101,0401,  5.9963,-109.9967, 3676,     83.6,  26.1920,  34.1341,2,  34.1300,2, 26.1733,   -999
   31DSEP692_2,  PR16,    52,  1,     17,   -999,2,19921101,0401,  5.9963,-109.9967, 3676,     93.7,  23.4640,  34.3538,2,  34.3550,2, 23.4447,   -999
   31DSEP692_2,  PR16,    52,  1,     16,   -999,2,19921101,0401,  5.9963,-109.9967, 3676,    103.8,  19.9930,  34.5865,2,  34.5250,2, 19.9739,   -999
   31DSEP692_2,  PR16,    52,  1,     15,   -999,2,19921101,0401,  5.9963,-109.9967, 3676,    113.4,  15.6050,  34.7269,2,  34.7280,2, 15.5874,   -999
   31DSEP692_2,  PR16,    52,  1,     14,   -999,2,19921101,0401,  5.9963,-109.9967, 3676,    122.7,  13.8320,  34.7189,2,  34.7150,2, 13.8145,   -999
   31DSEP692_2,  PR16,    52,  1,     13,   -999,2,19921101,0401,  5.9963,-109.9967, 3676,    132.8,  12.9610,  34.7339,2,  34.7180,2, 12.9429,   -999
   31DSEP692_2,  PR16,    52,  1,     12,   -999,2,19921101,0401,  5.9963,-109.9967, 3676,    143.2,  12.3980,  34.7349,2,  34.7390,2, 12.3790,   -999
   31DSEP692_2,  PR16,    52,  1,     11,   -999,2,19921101,0401,  5.9963,-109.9967, 3676,    151.8,  12.2740,  34.7710,2,  34.7740,2, 12.2540,   -999
   31DSEP692_2,  PR16,    52,  1,     10,   -999,2,19921101,0401,  5.9963,-109.9967, 3676,    169.3,  11.8760,  34.7700,2,  34.7720,2, 11.8541,   -999
   31DSEP692_2,  PR16,    52,  1,      9,   -999,2,19921101,0401,  5.9963,-109.9967, 3676,    182.5,  11.4900,  34.7449,2,  34.7480,2, 11.4669,   -999
   31DSEP692_2,  PR16,    52,  1,      8,   -999,2,19921101,0401,  5.9963,-109.9967, 3676,    202.9,  11.1070,  34.7329,2,  34.7320,2, 11.0819,   -999
   31DSEP692_2,  PR16,    52,  1,      7,   -999,2,19921101,0401,  5.9963,-109.9967, 3676,    252.4,  10.6830,  34.7319,2,  34.7330,2, 10.6525,   -999
   31DSEP692_2,  PR16,    52,  1,      6,   -999,2,19921101,0401,  5.9963,-109.9967, 3676,    302.9,  10.3110,  34.7139,2,  34.7200,2, 10.2751,   -999
   31DSEP692_2,  PR16,    52,  1,      5,   -999,2,19921101,0401,  5.9963,-109.9967, 3676,    403.3,   9.1850,  34.6627,2,  34.6670,2,  9.1403,   -999
   31DSEP692_2,  PR16,    52,  1,      4,   -999,2,19921101,0401,  5.9963,-109.9967, 3676,    604.1,   6.7540,  34.5694,2,  34.5720,2,  6.6973,   -999
   31DSEP692_2,  PR16,    52,  1,      1,   -999,4,19921101,0401,  5.9963,-109.9967, 3676,   1005.4,   4.4370,  34.5664,2,  34.5670,2,  4.3574,   -999
   31DSEP692_2,  PR16,    52,  1,      2,   -999,2,19921101,0401,  5.9963,-109.9967, 3676,   1005.4,   4.4370,  34.5664,2,  34.5660,2,  4.3574,   -999
   31DSEP692_2,  PR16,    53,  1,     24,   -999,2,19921101,1647,  4.9690,-109.9163, -999,      3.0,  26.9200,  33.8011,2,  33.8070,2, 26.9193,   -999
   31DSEP692_2,  PR16,    53,  1,     23,   -999,2,19921101,1647,  4.9690,-109.9163, -999,     12.6,  26.8760,  33.8011,2,  33.7990,2, 26.8731,   -999
   31DSEP692_2,  PR16,    53,  1,     22,   -999,2,19921101,1647,  4.9690,-109.9163, -999,     23.3,  26.5990,  33.8613,2,  33.8620,2, 26.5937,   -999
   31DSEP692_2,  PR16,    53,  1,     21,   -999,2,19921101,1647,  4.9690,-109.9163, -999,     42.6,  26.0980,  33.9214,2,  33.9200,2, 26.0885,   -999
   31DSEP692_2,  PR16,    53,  1,     20,   -999,2,19921101,1647,  4.9690,-109.9163, -999,     54.0,  25.9870,  33.9405,2,  33.9370,2, 25.9750,   -999
   31DSEP692_2,  PR16,    53,  1,     19,   -999,2,19921101,1647,  4.9690,-109.9163, -999,     61.9,  25.8990,  33.9606,2,  33.9570,2, 25.8853,   -999
   31DSEP692_2,  PR16,    53,  1,     18,   -999,2,19921101,1647,  4.9690,-109.9163, -999,     81.9,  25.7520,  34.0077,2,  34.1420,2, 25.7339,   -999
   31DSEP692_2,  PR16,    53,  1,     17,   -999,2,19921101,1647,  4.9690,-109.9163, -999,     93.1,  24.7810,  34.3568,2,  34.0010,2, 24.7610,   -999
   31DSEP692_2,  PR16,    53,  1,     16,   -999,2,19921101,1647,  4.9690,-109.9163, -999,    101.8,  22.2960,  34.5714,2,  34.5320,2, 22.2757,   -999
   31DSEP692_2,  PR16,    53,  1,     15,   -999,2,19921101,1647,  4.9690,-109.9163, -999,    111.4,  19.8930,  34.7399,2,  34.7240,2, 19.8725,   -999
   31DSEP692_2,  PR16,    53,  1,     14,   -999,2,19921101,1647,  4.9690,-109.9163, -999,    122.5,  18.2180,  34.8432,2,  34.8320,2, 18.1968,   -999
   31DSEP692_2,  PR16,    53,  1,     13,   -999,2,19921101,1647,  4.9690,-109.9163, -999,    131.1,  17.7440,  34.8402,2,  34.8410,2, 17.7218,   -999
   31DSEP692_2,  PR16,    53,  1,     12,   -999,2,19921101,1647,  4.9690,-109.9163, -999,    143.8,  15.0510,  34.6607,2,  34.7310,2, 15.0293,   -999
   31DSEP692_2,  PR16,    53,  1,     11,   -999,2,19921101,1647,  4.9690,-109.9163, -999,    151.4,  13.3430,  34.7670,2,  34.7650,2, 13.3219,   -999
   31DSEP692_2,  PR16,    53,  1,     10,   -999,2,19921101,1647,  4.9690,-109.9163, -999,    168.3,  12.3370,  34.7610,2,  34.7640,2, 12.3147,   -999
   31DSEP692_2,  PR16,    53,  1,      9,   -999,2,19921101,1647,  4.9690,-109.9163, -999,    180.5,  12.0430,  34.7720,2,  34.7720,2, 12.0195,   -999
   31DSEP692_2,  PR16,    53,  1,      8,   -999,2,19921101,1647,  4.9690,-109.9163, -999,    203.5,  11.2850,  34.7429,2,  34.7240,2, 11.2596,   -999
   31DSEP692_2,  PR16,    53,  1,      7,   -999,2,19921101,1647,  4.9690,-109.9163, -999,    254.1,  10.5410,  34.7209,2,  34.7440,2, 10.5105,   -999
   31DSEP692_2,  PR16,    53,  1,      6,   -999,2,19921101,1647,  4.9690,-109.9163, -999,    304.1,  10.0650,  34.7028,2,  34.7050,2, 10.0295,   -999
   31DSEP692_2,  PR16,    53,  1,      5,   -999,2,19921101,1647,  4.9690,-109.9163, -999,    406.2,   8.8430,  34.6456,2,  34.6540,2,  8.7990,   -999
   31DSEP692_2,  PR16,    53,  1,      4,   -999,2,19921101,1647,  4.9690,-109.9163, -999,    603.8,   6.3420,  34.5694,2,  34.5680,2,  6.2872,   -999
   31DSEP692_2,  PR16,    53,  1,      3,   -999,2,19921101,1647,  4.9690,-109.9163, -999,    801.7,   5.0750,  34.5594,2,  34.5650,2,  5.0088,   -999
   31DSEP692_2,  PR16,    53,  1,      1,   -999,4,19921101,1647,  4.9690,-109.9163, -999,   1002.0,   4.2250,  34.5704,2,  34.5740,2,  4.1473,   -999
   31DSEP692_2,  PR16,    53,  1,      2,   -999,2,19921101,1647,  4.9690,-109.9163, -999,   1002.0,   4.2250,  34.5704,2,  34.5730,2,  4.1473,   -999
   31DSEP692_2,  PR16,    54,  1,     24,   -999,2,19921102,0040,  3.9833,-109.9967, -999,      5.5,  25.9050,  33.9736,2,  33.9700,2, 25.9038,   -999
   31DSEP692_2,  PR16,    54,  1,     23,   -999,2,19921102,0040,  3.9833,-109.9967, -999,     13.0,  25.8820,  33.9736,2,  33.9690,2, 25.8791,   -999
   31DSEP692_2,  PR16,    54,  1,     22,   -999,4,19921102,0040,  3.9833,-109.9967, -999,     23.7,  25.8170,  33.9736,2,  33.9710,2, 25.8118,   -999
   31DSEP692_2,  PR16,    54,  1,     21,   -999,2,19921102,0040,  3.9833,-109.9967, -999,     42.8,  25.7680,  33.9786,2,  33.9780,2, 25.7586,   -999
   31DSEP692_2,  PR16,    54,  1,     20,   -999,2,19921102,0040,  3.9833,-109.9967, -999,     52.5,  25.7410,  33.9876,2,  33.9840,2, 25.7294,   -999
   31DSEP692_2,  PR16,    54,  1,     19,   -999,2,19921102,0040,  3.9833,-109.9967, -999,     62.3,  25.7240,  33.9927,2,  33.9880,2, 25.7103,   -999
   31DSEP692_2,  PR16,    54,  1,     18,   -999,2,19921102,0040,  3.9833,-109.9967, -999,     82.9,  24.2140,  34.3788,2,  34.2950,2, 24.1965,   -999
   31DSEP692_2,  PR16,    54,  1,     17,   -999,2,19921102,0040,  3.9833,-109.9967, -999,     93.6,  22.4190,  34.6878,2,  34.6790,2, 22.4003,   -999
   31DSEP692_2,  PR16,    54,  1,     16,   -999,2,19921102,0040,  3.9833,-109.9967, -999,    102.0,  21.0790,  34.7289,2,  34.7590,2, 21.0595,   -999
   31DSEP692_2,  PR16,    54,  1,     15,   -999,2,19921102,0040,  3.9833,-109.9967, -999,    111.0,  19.4190,  34.8553,2,  34.8490,2, 19.3989,   -999
   31DSEP692_2,  PR16,    54,  1,     14,   -999,2,19921102,0040,  3.9833,-109.9967, -999,    122.0,  18.8720,  34.8111,2,  34.8300,2, 18.8504,   -999
   31DSEP692_2,  PR16,    54,  1,     13,   -999,2,19921102,0040,  3.9833,-109.9967, -999,    133.4,  16.9350,  34.8944,2,  34.8980,2, 16.9131,   -999
   31DSEP692_2,  PR16,    54,  1,     12,   -999,2,19921102,0040,  3.9833,-109.9967, -999,    141.4,  14.9120,  34.7179,2,  34.7170,2, 14.8908,   -999
   31DSEP692_2,  PR16,    54,  1,     11,   -999,4,19921102,0040,  3.9833,-109.9967, -999,    152.1,  13.9070,  34.8402,2,  34.8340,2, 13.8852,   -999
   31DSEP692_2,  PR16,    54,  1,     10,   -999,2,19921102,0040,  3.9833,-109.9967, -999,    165.5,  13.5360,  34.8954,2,  34.8930,2, 13.5127,   -999
   31DSEP692_2,  PR16,    54,  1,      9,   -999,4,19921102,0040,  3.9833,-109.9967, -999,    183.5,  13.1640,  34.8884,2,  34.8890,2, 13.1386,   -999
   31DSEP692_2,  PR16,    54,  1,      8,   -999,2,19921102,0040,  3.9833,-109.9967, -999,    202.4,  12.7890,  34.8713,2,  34.8650,2, 12.7615,   -999
   31DSEP692_2,  PR16,    54,  1,      7,   -999,2,19921102,0040,  3.9833,-109.9967, -999,    252.6,  11.2410,  34.7510,2,  34.7540,2, 11.2094,   -999
   31DSEP692_2,  PR16,    54,  1,      6,   -999,2,19921102,0040,  3.9833,-109.9967, -999,    302.1,  10.5680,  34.7269,2,  34.7260,2, 10.5316,   -999
   31DSEP692_2,  PR16,    54,  1,      5,   -999,2,19921102,0040,  3.9833,-109.9967, -999,    402.0,   9.3700,  34.6757,2,  34.6780,2,  9.3249,   -999
   31DSEP692_2,  PR16,    54,  1,      4,   -999,2,19921102,0040,  3.9833,-109.9967, -999,    602.3,   6.6670,  34.5774,2,  34.5780,2,  6.6108,   -999
   31DSEP692_2,  PR16,    54,  1,      3,   -999,2,19921102,0040,  3.9833,-109.9967, -999,    805.1,   5.2290,  34.5554,2,  34.5610,2,  5.1616,   -999
   31DSEP692_2,  PR16,    54,  1,      1,   -999,4,19921102,0040,  3.9833,-109.9967, -999,   1003.0,   4.2900,  34.5704,2,  34.5680,2,  4.2117,   -999
   31DSEP692_2,  PR16,    54,  1,      2,   -999,2,19921102,0040,  3.9833,-109.9967, -999,   1003.0,   4.2900,  34.5704,2,  34.5690,2,  4.2117,   -999