BOTTLE,20030404WHPSIOdm
EXPOCODE,SECT_ID,STNNBR,CASTNO,SAMPNO,BTLNBR,BTLNBR_FLAG_W,DATE,TIME,LATITUDE,LONGITUDE,DEPTH,CTDPRS,CTDTMP,CTDSAL,CTDSAL_FLAG_W,SALNTY,SALNTY_FLAG_W,CTDOXY,CTDOXY_FLAG_W,OXYGEN,OXYGEN_FLAG_W,SILCAT,SILCAT_FLAG_W,NITRAT,NITRAT_FLAG_W,NITRIT,NITRIT_FLAG_W,PHSPHT,PHSPHT_FLAG_W,CFC-11,CFC-11_FLAG_W,CFC-12,CFC-12_FLAG_W,TRITUM,TRITUM_FLAG_W,HELIUM,HELIUM_FLAG_W,DELHE3,DELHE3_FLAG_W,DELC14,DELC14_FLAG_W,CTDRAW,C14ERR,REVTMP,HELIER,DELHER,REVPRS,THETA,TRITER
,,,,,,,,,,,,DBAR,ITS-90,PSS-78,,PSS-78,,UMOL/KG,,UMOL/KG,,UMOL/KG,,UMOL/KG,,UMOL/KG,,UMOL/KG,,PMOL/KG,,PMOL/KG,,TU,,NMOL/KG,,PERCNT,,/MILLE,,,/MILLE,ITS-90,NMOL/KG,PERCNT,DBAR,DEG C,TU
    49RY9511_2,   P24,     6,  1,     18,  12824,2,19951117,1518, 30.1395, 132.0720, 3738,    806.1,   6.1755,  34.1951,2,  34.1966,2,   -999.0,9,    102.5,2,    73.48,2,    32.73,2,     0.00,2,     2.39,2,    0.372,2,    0.185,2, -999.000,9,-999.0000,9,  -999.00,9,   -999.0,9,   -999,  -999.0,-999.000,-999.0000,-999.000,  -999.0,  6.1027,-999.000
    49RY9511_2,   P24,     6,  1,     17,  12814,2,19951117,1518, 30.1395, 132.0720, 3738,    905.8,   5.1104,  34.2973,2,  34.2974,2,   -999.0,9,     80.2,2,    94.21,2,    36.59,2,     0.00,2,     2.66,2, -999.000,9, -999.000,9, -999.000,9,-999.0000,9,  -999.00,9,   -999.0,9,   -999,  -999.0,-999.000,-999.0000,-999.000,  -999.0,  5.0351,-999.000
    49RY9511_2,   P24,     6,  1,     16,  12823,2,19951117,1518, 30.1395, 132.0720, 3738,   1007.8,   4.0815,  34.3575,2,  34.3596,2,   -999.0,9,     65.6,2,   111.65,2,    39.13,2,     0.00,2,     2.85,2,    0.156,2,    0.074,2, -999.000,9,-999.0000,9,  -999.00,9,   -999.0,9,   -999,  -999.0,-999.000,-999.0000,-999.000,  -999.0,  4.0048,-999.000
    49RY9511_2,   P24,     6,  1,     15,  12813,2,19951117,1518, 30.1395, 132.0720, 3738,   1261.2,   3.0976,  34.4570,2,  34.4569,2,   -999.0,9,     66.6,2,   130.29,2,    40.32,2,     0.00,2,     2.94,2,    0.030,2,    0.016,2, -999.000,9,-999.0000,9,  -999.00,9,   -999.0,9,   -999,  -999.0,-999.000,-999.0000,-999.000,  -999.0,  3.0085,-999.000
    49RY9511_2,   P24,     6,  1,     14,  12822,2,19951117,1518, 30.1395, 132.0720, 3738,   1514.8,   2.5950,  34.5216,2,  34.5218,2,   -999.0,9,     80.7,2,   138.30,2,    40.08,2,     0.00,2,     2.89,2,    0.021,2,    0.006,2, -999.000,9,-999.0000,9,  -999.00,9,   -999.0,9,   -999,  -999.0,-999.000,-999.0000,-999.000,  -999.0,  2.4908,-999.000
    49RY9511_2,   P24,     6,  1,     13,  12812,2,19951117,1518, 30.1395, 132.0720, 3738,   1768.8,   2.2395,  34.5727,2,  34.5735,2,   -999.0,9,     97.1,2,   140.62,2,    39.07,2,     0.00,2,     2.82,2,    0.002,2,    0.000,2, -999.000,9,-999.0000,9,  -999.00,9,   -999.0,9,   -999,  -999.0,-999.000,-999.0000,-999.000,  1765.0,  2.1190,-999.000
    49RY9511_2,   P24,     6,  1,     10,  12820,2,19951117,1518, 30.1395, 132.0720, 3738,   2022.3,   2.0358,  34.6006,2,  34.6023,2,   -999.0,9,    109.1,6,   141.76,6,    38.48,2,     0.00,2,     2.78,6,    0.000,2,    0.000,2, -999.000,9,-999.0000,9,  -999.00,9,   -999.0,9,   -999,  -999.0,-999.000,-999.0000,-999.000,  -999.0,  1.8970,-999.000
    49RY9511_2,   P24,     6,  1,     11,  12811,2,19951117,1518, 30.1395, 132.0720, 3738,   2023.8,   2.0355,  34.6014,2,  34.6019,2,   -999.0,9,   -999.0,9,  -999.00,9,  -999.00,9,  -999.00,9,  -999.00,9, -999.000,9, -999.000,9, -999.000,9,-999.0000,9,  -999.00,9,   -999.0,9,   -999,  -999.0,-999.000,-999.0000,-999.000,  -999.0,  1.8967,-999.000
    49RY9511_2,   P24,     6,  1,     12,  12821,2,19951117,1518, 30.1395, 132.0720, 3738,   2024.8,   2.0350,  34.6013,2,  34.6019,2,   -999.0,9,   -999.0,9,  -999.00,9,  -999.00,9,  -999.00,9,  -999.00,9, -999.000,9, -999.000,9, -999.000,9,-999.0000,9,  -999.00,9,   -999.0,9,   -999,  -999.0,-999.000,-999.0000,-999.000,  -999.0,  1.8961,-999.000
    49RY9511_2,   P24,     6,  1,      9,  12810,2,19951117,1518, 30.1395, 132.0720, 3738,   2277.3,   1.8444,  34.6272,2,  34.6278,2,   -999.0,9,    121.3,2,   142.08,2,    37.77,2,     0.00,2,     2.71,2, -999.000,9, -999.000,9, -999.000,9,-999.0000,9,  -999.00,9,   -999.0,9,   -999,  -999.0,-999.000,-999.0000,-999.000,  2275.0,  1.6868,-999.000
    49RY9511_2,   P24,     6,  1,      8,  12819,2,19951117,1518, 30.1395, 132.0720, 3738,   2531.2,   1.7341,  34.6429,2,  34.6440,2,   -999.0,9,    131.9,2,   141.74,2,    37.44,2,     0.00,2,     2.66,2, -999.000,9, -999.000,9, -999.000,9,-999.0000,9,  -999.00,9,   -999.0,9,   -999,  -999.0,-999.000,-999.0000,-999.000,  -999.0,  1.5560,-999.000
    49RY9511_2,   P24,     6,  1,      7,  12815,2,19951117,1518, 30.1395, 132.0720, 3738,   2786.6,   1.6493,  34.6569,2,  34.6564,2,   -999.0,9,    137.6,2,   141.24,2,    36.93,2,     0.00,2,     2.63,2, -999.000,9, -999.000,9, -999.000,9,-999.0000,9,  -999.00,9,   -999.0,9,   -999,  -999.0,-999.000,-999.0000,-999.000,  -999.0,  1.4495,-999.000
    49RY9511_2,   P24,     6,  1,      6,  12818,2,19951117,1518, 30.1395, 132.0720, 3738,   3041.0,   1.5520,  34.6691,2,  34.6694,2,   -999.0,9,    145.4,2,   140.75,2,    36.43,2,     0.00,2,     2.58,2, -999.000,9, -999.000,9, -999.000,9,-999.0000,9,  -999.00,9,   -999.0,9,   -999,  -999.0,-999.000,-999.0000,-999.000,  -999.0,  1.3302,-999.000
    49RY9511_2,   P24,     6,  1,      5,  12809,2,19951117,1518, 30.1395, 132.0720, 3738,   3297.6,   1.5122,  34.6760,2,  34.6756,2,   -999.0,9,    149.9,2,   140.32,2,    36.22,2,     0.00,2,     2.58,2, -999.000,9, -999.000,9, -999.000,9,-999.0000,9,  -999.00,9,   -999.0,9,   -999,  -999.0,-999.000,-999.0000,-999.000,  -999.0,  1.2661,-999.000
    49RY9511_2,   P24,     6,  1,      4,  12817,2,19951117,1518, 30.1395, 132.0720, 3738,   3553.9,   1.5076,  34.6791,2,  34.6802,2,   -999.0,9,    152.1,2,   140.14,2,    36.01,2,     0.00,2,     2.56,2, -999.000,9, -999.000,9, -999.000,9,-999.0000,9,  -999.00,9,   -999.0,9,   -999,  -999.0,-999.000,-999.0000,-999.000,  -999.0,  1.2358,-999.000
    49RY9511_2,   P24,     6,  1,      3,  12808,2,19951117,1518, 30.1395, 132.0720, 3738,   3809.8,   1.5290,  34.6798,2,  34.6802,2,   -999.0,9,    153.4,2,   139.98,2,    35.99,2,     0.00,2,     2.55,2, -999.000,9, -999.000,9, -999.000,9,-999.0000,9,  -999.00,9,   -999.0,9,   -999,  -999.0,   1.526,-999.0000,-999.000,  3801.0,  1.2298,-999.000
    49RY9511_2,   P24,     6,  1,      1,  12807,2,19951117,1518, 30.1395, 132.0720, 3738,   3908.7,   1.5382,  34.6797,2,  34.6798,2,   -999.0,9,    154.7,2,   139.90,2,    36.03,2,     0.00,2,     2.55,2, -999.000,9, -999.000,9, -999.000,9,-999.0000,9,  -999.00,9,   -999.0,9,   -999,  -999.0,-999.000,-999.0000,-999.000,  -999.0,  1.2281,-999.000
    49RY9511_2,   P24,     6,  1,      2,  12914,2,19951117,1518, 30.1395, 132.0720, 3738,   3909.3,   1.5377,  34.6799,2,  34.6800,2,   -999.0,9,    152.5,2,   140.11,2,    36.00,2,     0.00,2,     2.55,2, -999.000,9, -999.000,9, -999.000,9,-999.0000,9,  -999.00,9,   -999.0,9,   -999,  -999.0,-999.000,-999.0000,-999.000,  -999.0,  1.2276,-999.000
    49RY9511_2,   P24,     6,  2,     13,  12812,2,19951117,1859, 30.1333, 132.0978, 3906,      4.7,  23.7209,  34.7683,2,  34.7687,2,   -999.0,9,    214.0,2,     1.46,2,     0.00,2,     0.00,2,     0.03,2,    1.952,2,    1.165,2, -999.000,9,-999.0000,9,  -999.00,9,   -999.0,9,   -999,  -999.0,-999.000,-999.0000,-999.000,  -999.0, 23.7199,-999.000
    49RY9511_2,   P24,     6,  2,     12,  12821,2,19951117,1859, 30.1333, 132.0978, 3906,     24.1,  23.7412,  34.7682,2,  34.7686,2,   -999.0,9,    212.8,2,     1.51,2,     0.02,2,     0.00,2,     0.02,2,    1.946,2,    1.138,2, -999.000,9,-999.0000,9,  -999.00,9,   -999.0,9,   -999,  -999.0,-999.000,-999.0000,-999.000,  -999.0, 23.7362,-999.000
    49RY9511_2,   P24,     6,  2,     11,  12811,2,19951117,1859, 30.1333, 132.0978, 3906,     50.9,  23.7421,  34.7687,2,  34.7686,2,   -999.0,9,    211.2,2,     1.61,2,     0.03,2,     0.00,2,     0.03,2,    1.937,2,    1.144,2, -999.000,9,-999.0000,9,  -999.00,9,   -999.0,9,   -999,  -999.0,-999.000,-999.0000,-999.000,  -999.0, 23.7315,-999.000
    49RY9511_2,   P24,     6,  2,     10,  12820,2,19951117,1859, 30.1333, 132.0978, 3906,     76.0,  22.2608,  34.8666,2,  34.8645,2,   -999.0,9,    209.4,2,     2.12,2,     0.40,2,     0.05,2,     0.06,2, -999.000,9, -999.000,9, -999.000,9,-999.0000,9,  -999.00,9,   -999.0,9,   -999,  -999.0,-999.000,-999.0000,-999.000,  -999.0, 22.2456,-999.000
    49RY9511_2,   P24,     6,  2,      9,  12810,2,19951117,1859, 30.1333, 132.0978, 3906,    102.0,  21.0398,  34.9082,2,  34.9017,3,   -999.0,9,    202.4,2,     2.39,2,     1.50,2,     0.03,2,     0.14,2,    2.182,2,    1.246,2, -999.000,9,-999.0000,9,  -999.00,9,   -999.0,9,   -999,  -999.0,-999.000,-999.0000,-999.000,  -999.0, 21.0203,-999.000
    49RY9511_2,   P24,     6,  2,      8,  12819,2,19951117,1859, 30.1333, 132.0978, 3906,    151.3,  19.3359,  34.9004,2,  34.9019,2,   -999.0,9,    202.7,2,     2.54,2,     2.31,2,     0.02,2,     0.17,2,    2.311,2,    1.302,2, -999.000,9,-999.0000,9,  -999.00,9,   -999.0,9,   -999,  -999.0,-999.000,-999.0000,-999.000,  -999.0, 19.3086,-999.000
    49RY9511_2,   P24,     6,  2,      7,  12815,2,19951117,1859, 30.1333, 132.0978, 3906,    203.4,  18.5070,  34.8881,2,  34.8875,2,   -999.0,9,    201.6,2,     3.37,2,     3.39,2,     0.01,2,     0.26,2, -999.000,9, -999.000,9, -999.000,9,-999.0000,9,  -999.00,9,   -999.0,9,   -999,  -999.0,-999.000,-999.0000,-999.000,  -999.0, 18.4714,-999.000
    49RY9511_2,   P24,     6,  2,      6,  12818,2,19951117,1859, 30.1333, 132.0978, 3906,    203.6,  18.5015,  34.8823,2,  34.8877,2,   -999.0,9,    202.8,2,     3.34,2,     3.34,2,     0.02,2,     0.24,2,    2.342,6,    1.319,6, -999.000,9,-999.0000,9,  -999.00,9,   -999.0,9,   -999,  -999.0,-999.000,-999.0000,-999.000,  -999.0, 18.4659,-999.000
    49RY9511_2,   P24,     6,  2,      5,  12809,2,19951117,1859, 30.1333, 132.0978, 3906,    302.6,  17.1408,  34.8001,2,  34.8006,2,   -999.0,9,    199.4,2,     4.97,2,     5.51,2,     0.01,2,     0.37,2,    2.392,2,    1.330,2, -999.000,9,-999.0000,9,  -999.00,9,   -999.0,9,   -999,  -999.0,-999.000,-999.0000,-999.000,  -999.0, 17.0906,-999.000
    49RY9511_2,   P24,     6,  2,      4,  12817,2,19951117,1859, 30.1333, 132.0978, 3906,    403.3,  15.2984,  34.6387,2,  34.8615,4,   -999.0,9,    208.9,4,     2.16,4,     0.42,4,     0.05,4,     0.08,4,    2.239,2,    1.200,2, -999.000,9,-999.0000,9,  -999.00,9,   -999.0,9,   -999,  -999.0,-999.000,-999.0000,-999.000,  -999.0, 15.2363,-999.000
    49RY9511_2,   P24,     6,  2,      3,  12808,2,19951117,1859, 30.1333, 132.0978, 3906,    502.7,  12.6335,  34.4310,2,  34.4328,2,   -999.0,9,    177.5,2,    18.19,2,    14.75,2,     0.00,2,     1.05,2,    2.045,2,    1.072,2, -999.000,9,-999.0000,9,  -999.00,9,   -999.0,9,   -999,  -999.0,-999.000,-999.0000,-999.000,  -999.0, 12.5652,-999.000
    49RY9511_2,   P24,     6,  2,      2,  12914,2,19951117,1859, 30.1333, 132.0978, 3906,    602.8,  10.1977,  34.2849,2,  34.2879,2,   -999.0,9,    163.5,2,    32.16,2,    20.57,2,     0.01,2,     1.45,2,    1.721,2,    0.884,2, -999.000,9,-999.0000,9,  -999.00,9,   -999.0,9,   -999,  -999.0,-999.000,-999.0000,-999.000,  -999.0, 10.1261,-999.000
    49RY9511_2,   P24,     6,  2,      1,  12807,2,19951117,1859, 30.1333, 132.0978, 3906,    709.1,   8.0573,  34.2365,2,  34.2253,3,   -999.0,9,    129.8,6,    51.63,6,    27.34,2,     0.00,2,     1.96,6,    1.123,2,    0.569,2, -999.000,9,-999.0000,9,  -999.00,9,   -999.0,9,   -999,  -999.0,-999.000,-999.0000,-999.000,  -999.0,  7.9837,-999.000
    49RY9511_2,   P24,     7,  1,     20,  12826,2,19951117,2332, 29.9092, 132.2340, 4672,    805.0,   5.9551,  34.1660,2,  34.1664,2,   -999.0,9,    103.6,2,    74.17,6,    33.25,6,     0.00,6,     2.40,6, -999.000,9, -999.000,9, -999.000,9,-999.0000,9,  -999.00,9,   -999.0,9,   -999,  -999.0,-999.000,-999.0000,-999.000,  -999.0,  5.8838,-999.000
    49RY9511_2,   P24,     7,  1,     19,  12825,2,19951117,2332, 29.9092, 132.2340, 4672,    907.4,   4.9129,  34.2452,2,  34.2461,2,   -999.0,9,     76.7,2,    93.61,6,    37.09,6,     0.00,6,     2.67,6, -999.000,9, -999.000,9, -999.000,9,-999.0000,9,  -999.00,9,   -999.0,9,   -999,  -999.0,-999.000,-999.0000,-999.000,  -999.0,  4.8389,-999.000
    49RY9511_2,   P24,     7,  1,     18,  12824,2,19951117,2332, 29.9092, 132.2340, 4672,   1007.4,   4.1860,  34.3227,2,  34.3221,2,   -999.0,9,     65.6,2,   108.74,6,    39.13,6,     0.00,6,     2.82,6, -999.000,9, -999.000,9, -999.000,9,-999.0000,9,  -999.00,9,   -999.0,9,   -999,  -999.0,-999.000,-999.0000,-999.000,  -999.0,  4.1085,-999.000
    49RY9511_2,   P24,     7,  1,     17,  12814,2,19951117,2332, 29.9092, 132.2340, 4672,   1260.1,   3.2013,  34.4417,2,  34.4418,2,   -999.0,9,     65.3,2,   128.66,6,    40.40,6,     0.00,6,     2.91,6, -999.000,9, -999.000,9, -999.000,9,-999.0000,9,  -999.00,9,   -999.0,9,   -999,  -999.0,-999.000,-999.0000,-999.000,  -999.0,  3.1113,-999.000
    49RY9511_2,   P24,     7,  1,     16,  12823,2,19951117,2332, 29.9092, 132.2340, 4672,   1513.3,   2.6020,  34.5209,2,-999.0000,9,   -999.0,9,     80.3,2,   137.75,6,    39.92,6,     0.00,6,     2.85,6, -999.000,9, -999.000,9, -999.000,9,-999.0000,9,  -999.00,9,   -999.0,9,   -999,  -999.0,-999.000,-999.0000,-999.000,  -999.0,  2.4978,-999.000
    49RY9511_2,   P24,     7,  1,     15,  12813,2,19951117,2332, 29.9092, 132.2340, 4672,   1767.1,   2.2360,  34.5716,2,-999.0000,9,   -999.0,9,   -999.0,5,   141.48,6,    39.29,6,     0.00,6,     2.80,6, -999.000,9, -999.000,9, -999.000,9,-999.0000,9,  -999.00,9,   -999.0,9,   -999,  -999.0,-999.000,-999.0000,-999.000,  -999.0,  2.1156,-999.000
    49RY9511_2,   P24,     7,  1,     14,  12822,2,19951117,2332, 29.9092, 132.2340, 4672,   2020.9,   2.0001,  34.6043,2,-999.0000,9,   -999.0,9,    110.6,2,   141.88,6,    38.42,6,     0.00,6,     2.73,6, -999.000,9, -999.000,9, -999.000,9,-999.0000,9,  -999.00,9,   -999.0,9,   -999,  -999.0,-999.000,-999.0000,-999.000,  -999.0,  1.8620,-999.000
    49RY9511_2,   P24,     7,  1,     13,  12812,2,19951117,2332, 29.9092, 132.2340, 4672,   2275.8,   1.8592,  34.6246,2,  34.6180,3,   -999.0,9,    120.9,2,   141.87,6,    37.90,6,     0.00,6,     2.68,6, -999.000,9, -999.000,9, -999.000,9,-999.0000,9,  -999.00,9,   -999.0,9,   -999,  -999.0,-999.000,-999.0000,-999.000,  2272.0,  1.7016,-999.000
    49RY9511_2,   P24,     7,  1,     12,  12821,2,19951117,2332, 29.9092, 132.2340, 4672,   2529.5,   1.7317,  34.6434,2,  34.6428,2,   -999.0,9,    131.0,6,   141.64,6,    37.34,6,     0.00,6,     2.63,6, -999.000,9, -999.000,9, -999.000,9,-999.0000,9,  -999.00,9,   -999.0,9,   -999,  -999.0,-999.000,-999.0000,-999.000,  -999.0,  1.5538,-999.000
    49RY9511_2,   P24,     7,  1,     11,  12811,2,19951117,2332, 29.9092, 132.2340, 4672,   2784.0,   1.6386,  34.6570,2,  34.6566,2,   -999.0,9,    138.4,2,   141.16,6,    36.91,6,     0.00,6,     2.59,6, -999.000,9, -999.000,9, -999.000,9,-999.0000,9,  -999.00,9,   -999.0,9,   -999,  -999.0,-999.000,-999.0000,-999.000,  -999.0,  1.4392,-999.000
    49RY9511_2,   P24,     7,  1,     10,  12820,2,19951117,2332, 29.9092, 132.2340, 4672,   3040.7,   1.5820,  34.6656,2,-999.0000,9,   -999.0,9,    143.9,2,   140.83,6,    36.60,6,     0.00,6,     2.57,6, -999.000,9, -999.000,9, -999.000,9,-999.0000,9,  -999.00,9,   -999.0,9,   -999,  -999.0,-999.000,-999.0000,-999.000,  -999.0,  1.3595,-999.000
    49RY9511_2,   P24,     7,  1,      9,  12810,2,19951117,2332, 29.9092, 132.2340, 4672,   3295.9,   1.5468,  34.6724,2,  34.6713,2,   -999.0,9,    147.7,2,   140.47,6,    36.33,6,     0.00,6,     2.54,6, -999.000,9, -999.000,9, -999.000,9,-999.0000,9,  -999.00,9,   -999.0,9,   -999,  -999.0,-999.000,-999.0000,-999.000,  3291.0,  1.3002,-999.000
    49RY9511_2,   P24,     7,  1,      8,  12819,2,19951117,2332, 29.9092, 132.2340, 4672,   3551.4,   1.5403,  34.6747,2,  34.6768,2,   -999.0,9,    150.4,2,   140.48,6,    36.19,6,     0.00,6,     2.53,6, -999.000,9, -999.000,9, -999.000,9,-999.0000,9,  -999.00,9,   -999.0,9,   -999,  -999.0,-999.000,-999.0000,-999.000,  -999.0,  1.2679,-999.000
    49RY9511_2,   P24,     7,  1,      7,  12815,2,19951117,2332, 29.9092, 132.2340, 4672,   3807.3,   1.5570,  34.6767,2,  34.6766,2,   -999.0,9,    150.0,2,   140.20,6,    36.16,6,     0.00,6,     2.53,6, -999.000,9, -999.000,9, -999.000,9,-999.0000,9,  -999.00,9,   -999.0,9,   -999,  -999.0,-999.000,-999.0000,-999.000,  -999.0,  1.2573,-999.000
    49RY9511_2,   P24,     7,  1,      6,  12818,2,19951117,2332, 29.9092, 132.2340, 4672,   4063.8,   1.5789,  34.6772,2,  34.6794,2,   -999.0,9,    151.7,2,   140.11,6,    36.11,6,     0.00,6,     2.53,6, -999.000,9, -999.000,9, -999.000,9,-999.0000,9,  -999.00,9,   -999.0,9,   -999,  -999.0,-999.000,-999.0000,-999.000,  -999.0,  1.2509,-999.000
    49RY9511_2,   P24,     7,  1,      5,  12809,2,19951117,2332, 29.9092, 132.2340, 4672,   4322.6,   1.6028,  34.6774,2,  34.6790,2,   -999.0,9,    152.5,2,   140.34,6,    36.13,6,     0.00,6,     2.53,6, -999.000,9, -999.000,9, -999.000,9,-999.0000,9,  -999.00,9,   -999.0,9,   -999,  -999.0,-999.000,-999.0000,-999.000,  -999.0,  1.2450,-999.000
    49RY9511_2,   P24,     7,  1,      4,  12817,2,19951117,2332, 29.9092, 132.2340, 4672,   4578.7,   1.6227,  34.6789,2,  34.6794,2,   -999.0,9,    152.3,2,   140.00,6,    36.02,6,     0.00,6,     2.52,6, -999.000,9, -999.000,9, -999.000,9,-999.0000,9,  -999.00,9,   -999.0,9,   -999,  -999.0,-999.000,-999.0000,-999.000,  -999.0,  1.2348,-999.000
    49RY9511_2,   P24,     7,  1,      3,  12808,2,19951117,2332, 29.9092, 132.2340, 4672,   4732.0,   1.6372,  34.6776,2,  34.6792,2,   -999.0,9,    154.0,2,   139.92,6,    36.04,6,     0.00,6,     2.51,6, -999.000,9, -999.000,9, -999.000,9,-999.0000,9,  -999.00,9,   -999.0,9,   -999,  -999.0,   1.633,-999.0000,-999.000,  4730.0,  1.2308,-999.000
    49RY9511_2,   P24,     7,  1,      2,  12914,2,19951117,2332, 29.9092, 132.2340, 4672,   4732.0,   1.6366,  34.6782,2,  34.6804,2,   -999.0,9,    153.1,2,   139.98,6,    36.05,6,     0.00,6,     2.52,6, -999.000,9, -999.000,9, -999.000,9,-999.0000,9,  -999.00,9,   -999.0,9,   -999,  -999.0,-999.000,-999.0000,-999.000,  -999.0,  1.2301,-999.000