BOTTLE,20030404WHPSIOdm
EXPOCODE,SECT_ID,STNNBR,CASTNO,SAMPNO,BTLNBR,BTLNBR_FLAG_W,DATE,TIME,LATITUDE,LONGITUDE,DEPTH,CTDPRS,CTDTMP,CTDSAL,CTDSAL_FLAG_W,SALNTY,SALNTY_FLAG_W,CTDOXY,CTDOXY_FLAG_W,OXYGEN,OXYGEN_FLAG_W,SILCAT,SILCAT_FLAG_W,NITRAT,NITRAT_FLAG_W,NITRIT,NITRIT_FLAG_W,PHSPHT,PHSPHT_FLAG_W,CFC-11,CFC-11_FLAG_W,CFC-12,CFC-12_FLAG_W,TRITUM,TRITUM_FLAG_W,HELIUM,HELIUM_FLAG_W,DELHE3,DELHE3_FLAG_W,DELC14,DELC14_FLAG_W,CTDRAW,C14ERR,REVTMP,HELIER,DELHER,REVPRS,THETA,TRITER
,,,,,,,,,,,,DBAR,ITS-90,PSS-78,,PSS-78,,UMOL/KG,,UMOL/KG,,UMOL/KG,,UMOL/KG,,UMOL/KG,,UMOL/KG,,PMOL/KG,,PMOL/KG,,TU,,NMOL/KG,,PERCNT,,/MILLE,,,/MILLE,ITS-90,NMOL/KG,PERCNT,DBAR,DEG C,TU
    49RY9511_2,   P24,    15,  1,     18,  12824,2,19951120,0733, 27.6277, 133.5858, 4793,    806.3,   5.5819,  34.2028,2,  34.2055,2,   -999.0,9,     93.0,2,    81.91,2,    34.87,2,     0.00,2,     2.52,2, -999.000,9, -999.000,9, -999.000,9,-999.0000,9,  -999.00,9,   -999.0,9,   -999,  -999.0,-999.000,-999.0000,-999.000,  -999.0,  5.5127,-999.000
    49RY9511_2,   P24,    15,  1,     17,  12814,2,19951120,0733, 27.6277, 133.5858, 4793,    907.3,   4.6678,  34.2798,2,  34.2807,2,   -999.0,9,     73.1,2,    99.82,2,    38.04,2,     0.00,2,     2.74,2, -999.000,9, -999.000,9, -999.000,9,-999.0000,9,  -999.00,9,   -999.0,9,   -999,  -999.0,-999.000,-999.0000,-999.000,  -999.0,  4.5955,-999.000
    49RY9511_2,   P24,    15,  1,     16,  12823,2,19951120,0733, 27.6277, 133.5858, 4793,   1007.7,   3.9382,  34.3563,2,  34.3549,2,   -999.0,9,     62.5,2,   114.38,2,    39.83,2,     0.00,2,     2.87,2, -999.000,9, -999.000,9, -999.000,9,-999.0000,9,  -999.00,9,   -999.0,9,   -999,  -999.0,-999.000,-999.0000,-999.000,  -999.0,  3.8626,-999.000
    49RY9511_2,   P24,    15,  1,     15,  12813,2,19951120,0733, 27.6277, 133.5858, 4793,   1262.4,   3.0244,  34.4639,2,  34.4630,2,   -999.0,9,     68.4,2,   132.10,2,    40.51,2,     0.00,2,     2.92,2, -999.000,9, -999.000,9, -999.000,9,-999.0000,9,  -999.00,9,   -999.0,9,   -999,  -999.0,-999.000,-999.0000,-999.000,  -999.0,  2.9360,-999.000
    49RY9511_2,   P24,    15,  1,     14,  12822,2,19951120,0733, 27.6277, 133.5858, 4793,   1516.2,   2.5232,  34.5311,2,  34.5311,2,   -999.0,9,     82.1,2,   139.35,2,    40.01,2,     0.00,2,     2.87,2, -999.000,9, -999.000,9, -999.000,9,-999.0000,9,  -999.00,9,   -999.0,9,   -999,  -999.0,-999.000,-999.0000,-999.000,  -999.0,  2.4197,-999.000
    49RY9511_2,   P24,    15,  1,     13,  12812,2,19951120,0733, 27.6277, 133.5858, 4793,   1769.9,   2.1315,  34.5850,2,  34.5850,2,   -999.0,9,    101.7,6,   142.39,6,    39.10,6,     0.00,6,     2.78,6, -999.000,9, -999.000,9, -999.000,9,-999.0000,9,  -999.00,9,   -999.0,9,   -999,  -999.0,-999.000,-999.0000,-999.000,  1767.0,  2.0123,-999.000
    49RY9511_2,   P24,    15,  1,     12,  12821,2,19951120,0733, 27.6277, 133.5858, 4793,   2023.0,   1.9191,  34.6159,2,  34.6166,2,   -999.0,9,    116.5,2,   142.24,2,    38.28,2,     0.00,2,     2.71,2, -999.000,9, -999.000,9, -999.000,9,-999.0000,9,  -999.00,9,   -999.0,9,   -999,  -999.0,-999.000,-999.0000,-999.000,  -999.0,  1.7820,-999.000
    49RY9511_2,   P24,    15,  1,     11,  12811,2,19951120,0733, 27.6277, 133.5858, 4793,   2277.4,   1.7949,  34.6339,2,  34.6343,2,   -999.0,9,    126.2,2,   142.04,2,    37.80,2,     0.00,2,     2.68,2, -999.000,9, -999.000,9, -999.000,9,-999.0000,9,  -999.00,9,   -999.0,9,   -999,  -999.0,-999.000,-999.0000,-999.000,  -999.0,  1.6382,-999.000
    49RY9511_2,   P24,    15,  1,     10,  12820,2,19951120,0733, 27.6277, 133.5858, 4793,   2533.2,   1.6599,  34.6520,2,  34.6507,2,   -999.0,9,    135.6,2,   141.72,2,    37.09,2,     0.00,2,     2.61,2, -999.000,9, -999.000,9, -999.000,9,-999.0000,9,  -999.00,9,   -999.0,9,   -999,  -999.0,-999.000,-999.0000,-999.000,  -999.0,  1.4830,-999.000
    49RY9511_2,   P24,    15,  1,      9,  12810,2,19951120,0733, 27.6277, 133.5858, 4793,   2787.1,   1.6061,  34.6606,2,  34.6607,2,   -999.0,9,    140.6,2,   141.38,2,    36.91,2,     0.00,2,     2.58,2, -999.000,9, -999.000,9, -999.000,9,-999.0000,9,  -999.00,9,   -999.0,9,   -999,  -999.0,-999.000,-999.0000,-999.000,  2785.0,  1.4072,-999.000
    49RY9511_2,   P24,    15,  1,      8,  12819,2,19951120,0733, 27.6277, 133.5858, 4793,   3041.4,   1.5601,  34.6690,2,  34.6686,2,   -999.0,9,    146.1,2,   141.02,2,    36.62,2,     0.00,2,     2.57,2, -999.000,9, -999.000,9, -999.000,9,-999.0000,9,  -999.00,9,   -999.0,9,   -999,  -999.0,-999.000,-999.0000,-999.000,  -999.0,  1.3380,-999.000
    49RY9511_2,   P24,    15,  1,      7,  12815,2,19951120,0733, 27.6277, 133.5858, 4793,   3298.3,   1.5381,  34.6725,2,  34.6737,2,   -999.0,9,    150.4,2,   140.64,2,    36.49,2,     0.00,2,     2.55,2, -999.000,9, -999.000,9, -999.000,9,-999.0000,9,  -999.00,9,   -999.0,9,   -999,  -999.0,-999.000,-999.0000,-999.000,  -999.0,  1.2914,-999.000
    49RY9511_2,   P24,    15,  1,      6,  12818,2,19951120,0733, 27.6277, 133.5858, 4793,   3553.7,   1.5420,  34.6758,2,  34.6756,2,   -999.0,9,    151.0,2,   140.59,2,    36.40,2,     0.00,2,     2.55,2, -999.000,9, -999.000,9, -999.000,9,-999.0000,9,  -999.00,9,   -999.0,9,   -999,  -999.0,-999.000,-999.0000,-999.000,  -999.0,  1.2693,-999.000
    49RY9511_2,   P24,    15,  1,      5,  12809,2,19951120,0733, 27.6277, 133.5858, 4793,   3809.1,   1.5511,  34.6770,2,  34.6780,2,   -999.0,9,    152.0,2,   140.32,2,    36.37,2,     0.00,2,     2.54,2, -999.000,9, -999.000,9, -999.000,9,-999.0000,9,  -999.00,9,   -999.0,9,   -999,  -999.0,-999.000,-999.0000,-999.000,  -999.0,  1.2514,-999.000
    49RY9511_2,   P24,    15,  1,      4,  12817,2,19951120,0733, 27.6277, 133.5858, 4793,   4065.4,   1.5692,  34.6792,2,  34.6814,2,   -999.0,9,    155.5,3,   139.95,2,    36.23,2,     0.00,2,     2.53,2, -999.000,9, -999.000,9, -999.000,9,-999.0000,9,  -999.00,9,   -999.0,9,   -999,  -999.0,-999.000,-999.0000,-999.000,  -999.0,  1.2412,-999.000
    49RY9511_2,   P24,    15,  1,      3,  12808,2,19951120,0733, 27.6277, 133.5858, 4793,   4322.0,   1.5892,  34.6792,2,  34.6798,2,   -999.0,9,    154.6,2,   139.90,2,    36.28,2,     0.00,2,     2.52,2, -999.000,9, -999.000,9, -999.000,9,-999.0000,9,  -999.00,9,   -999.0,9,   -999,  -999.0,   1.586,-999.0000,-999.000,  4318.0,  1.2320,-999.000
    49RY9511_2,   P24,    15,  1,      2,  12914,2,19951120,0733, 27.6277, 133.5858, 4793,   4578.8,   1.6134,  34.6799,2,  34.6798,2,   -999.0,9,    153.9,2,   140.02,2,    36.12,2,     0.00,2,     2.52,2, -999.000,9, -999.000,9, -999.000,9,-999.0000,9,  -999.00,9,   -999.0,9,   -999,  -999.0,-999.000,-999.0000,-999.000,  -999.0,  1.2258,-999.000
    49RY9511_2,   P24,    15,  1,      1,  12807,2,19951120,0733, 27.6277, 133.5858, 4793,   4861.8,   1.6422,  34.6808,2,  34.6810,2,   -999.0,9,    154.4,2,   139.76,2,    36.17,2,     0.00,2,     2.51,2, -999.000,9, -999.000,9, -999.000,9,-999.0000,9,  -999.00,9,   -999.0,9,   -999,  -999.0,-999.000,-999.0000,-999.000,  -999.0,  1.2201,-999.000
    49RY9511_2,   P24,    15,  2,     12,  12821,2,19951120,1030, 27.6125, 133.6105, 4769,      4.2,  24.5896,  34.7475,2,  34.7481,2,   -999.0,9,    212.1,2,     1.57,2,     0.08,2,     0.00,2,     0.02,2, -999.000,9, -999.000,9, -999.000,9,-999.0000,9,  -999.00,9,   -999.0,9,   -999,  -999.0,-999.000,-999.0000,-999.000,  -999.0, 24.5887,-999.000
    49RY9511_2,   P24,    15,  2,     11,  12811,2,19951120,1030, 27.6125, 133.6105, 4769,     24.3,  24.5971,  34.7485,2,  34.7485,2,   -999.0,9,    210.2,2,     1.49,2,     0.06,2,     0.00,2,     0.03,2, -999.000,9, -999.000,9, -999.000,9,-999.0000,9,  -999.00,9,   -999.0,9,   -999,  -999.0,-999.000,-999.0000,-999.000,  -999.0, 24.5919,-999.000
    49RY9511_2,   P24,    15,  2,     10,  12820,2,19951120,1030, 27.6125, 133.6105, 4769,     50.2,  24.6119,  34.7561,2,  34.7569,2,   -999.0,9,    209.0,2,     1.34,2,     0.02,2,     0.00,2,     0.03,2, -999.000,9, -999.000,9, -999.000,9,-999.0000,9,  -999.00,9,   -999.0,9,   -999,  -999.0,-999.000,-999.0000,-999.000,  -999.0, 24.6011,-999.000
    49RY9511_2,   P24,    15,  2,      9,  12810,2,19951120,1030, 27.6125, 133.6105, 4769,     75.0,  22.9981,  34.8526,2,  34.8493,2,   -999.0,9,    215.9,2,     1.78,2,     0.05,2,     0.00,2,     0.04,2, -999.000,9, -999.000,9, -999.000,9,-999.0000,9,  -999.00,9,   -999.0,9,   -999,  -999.0,-999.000,-999.0000,-999.000,    69.0, 22.9828,-999.000
    49RY9511_2,   P24,    15,  2,      8,  12819,2,19951120,1030, 27.6125, 133.6105, 4769,     99.3,  20.7478,  34.8953,2,  34.8956,2,   -999.0,9,    205.3,2,     2.17,2,     1.02,2,     0.06,2,     0.12,2, -999.000,9, -999.000,9, -999.000,9,-999.0000,9,  -999.00,9,   -999.0,9,   -999,  -999.0,-999.000,-999.0000,-999.000,  -999.0, 20.7290,-999.000
    49RY9511_2,   P24,    15,  2,      7,  12815,2,19951120,1030, 27.6125, 133.6105, 4769,    150.1,  19.0676,  34.9087,2,  34.9084,2,   -999.0,9,    202.9,2,     2.70,2,     2.70,2,     0.01,2,     0.21,2, -999.000,9, -999.000,9, -999.000,9,-999.0000,9,  -999.00,9,   -999.0,9,   -999,  -999.0,-999.000,-999.0000,-999.000,  -999.0, 19.0408,-999.000
    49RY9511_2,   P24,    15,  2,      6,  12818,2,19951120,1030, 27.6125, 133.6105, 4769,    201.2,  18.3604,  34.8880,2,  34.8881,2,   -999.0,9,    206.8,2,     2.97,2,     3.14,2,     0.01,2,     0.24,2, -999.000,9, -999.000,9, -999.000,9,-999.0000,9,  -999.00,9,   -999.0,9,   -999,  -999.0,-999.000,-999.0000,-999.000,  -999.0, 18.3254,-999.000
    49RY9511_2,   P24,    15,  2,      5,  12809,2,19951120,1030, 27.6125, 133.6105, 4769,    301.4,  16.7982,  34.7749,2,  34.7741,2,   -999.0,9,    199.2,2,     5.69,2,     6.22,2,     0.00,2,     0.43,2, -999.000,9, -999.000,9, -999.000,9,-999.0000,9,  -999.00,9,   -999.0,9,   -999,  -999.0,-999.000,-999.0000,-999.000,  -999.0, 16.7488,-999.000
    49RY9511_2,   P24,    15,  2,      4,  12817,2,19951120,1030, 27.6125, 133.6105, 4769,    404.4,  14.5191,  34.5819,2,  34.5787,2,   -999.0,9,    184.8,6,    11.76,6,    11.15,6,     0.00,6,     0.75,6, -999.000,9, -999.000,9, -999.000,9,-999.0000,9,  -999.00,9,   -999.0,9,   -999,  -999.0,-999.000,-999.0000,-999.000,  -999.0, 14.4591,-999.000
    49RY9511_2,   P24,    15,  2,      3,  12808,2,19951120,1030, 27.6125, 133.6105, 4769,    501.5,  11.9252,  34.3987,2,  34.3988,2,   -999.0,9,    171.8,2,    22.79,2,    16.76,2,     0.00,2,     1.17,2, -999.000,9, -999.000,9, -999.000,9,-999.0000,9,  -999.00,9,   -999.0,9,   -999,  -999.0,  11.940,-999.0000,-999.000,   502.0, 11.8596,-999.000
    49RY9511_2,   P24,    15,  2,      2,  12914,2,19951120,1030, 27.6125, 133.6105, 4769,    603.5,   9.2001,  34.2566,2,  34.2522,2,   -999.0,9,    149.8,2,    40.58,2,    23.59,2,     0.00,2,     1.67,2, -999.000,9, -999.000,9, -999.000,9,-999.0000,9,  -999.00,9,   -999.0,9,   -999,  -999.0,-999.000,-999.0000,-999.000,  -999.0,  9.1328,-999.000
    49RY9511_2,   P24,    15,  2,      1,  12807,2,19951120,1030, 27.6125, 133.6105, 4769,    705.3,   6.9093,  34.1972,2,  34.1876,2,   -999.0,9,    120.0,2,    63.10,2,    30.41,2,     0.00,2,     2.17,2, -999.000,9, -999.000,9, -999.000,9,-999.0000,9,  -999.00,9,   -999.0,9,   -999,  -999.0,-999.000,-999.0000,-999.000,  -999.0,  6.8421,-999.000
    49RY9511_2,   P24,    16,  1,     19,  12825,2,19951120,1432, 27.1933, 133.8452, 4810,    805.7,   5.5769,  34.2278,2,  34.2288,2,   -999.0,9,     89.3,2,    83.94,2,    34.90,2,     0.00,2,     2.53,2, -999.000,9, -999.000,9, -999.000,9,-999.0000,9,  -999.00,9,   -999.0,9,   -999,  -999.0,-999.000,-999.0000,-999.000,  -999.0,  5.5077,-999.000
    49RY9511_2,   P24,    16,  1,     18,  12824,2,19951120,1432, 27.1933, 133.8452, 4810,    907.8,   4.8213,  34.2788,2,  34.2787,2,   -999.0,9,     74.8,2,    97.51,2,    37.28,2,     0.00,2,     2.70,2, -999.000,9, -999.000,9, -999.000,9,-999.0000,9,  -999.00,9,   -999.0,9,   -999,  -999.0,-999.000,-999.0000,-999.000,  -999.0,  4.7479,-999.000
    49RY9511_2,   P24,    16,  1,     17,  12814,2,19951120,1432, 27.1933, 133.8452, 4810,   1009.2,   4.0976,  34.3377,2,  34.3378,2,   -999.0,9,     64.8,2,   111.20,2,    39.30,2,     0.00,2,     2.84,2, -999.000,9, -999.000,9, -999.000,9,-999.0000,9,  -999.00,9,   -999.0,9,   -999,  -999.0,-999.000,-999.0000,-999.000,  -999.0,  4.0207,-999.000
    49RY9511_2,   P24,    16,  1,     16,  12823,2,19951120,1432, 27.1933, 133.8452, 4810,   1261.9,   2.9985,  34.4617,2,  34.4615,2,   -999.0,9,     66.4,2,   132.88,2,    40.50,2,     0.00,2,     2.93,2, -999.000,9, -999.000,9, -999.000,9,-999.0000,9,  -999.00,9,   -999.0,9,   -999,  -999.0,-999.000,-999.0000,-999.000,  -999.0,  2.9103,-999.000
    49RY9511_2,   P24,    16,  1,     15,  12813,2,19951120,1432, 27.1933, 133.8452, 4810,   1515.0,   2.5159,  34.5331,2,  34.5332,2,   -999.0,9,     86.1,2,   138.87,2,    39.79,2,     0.00,2,     2.85,2, -999.000,9, -999.000,9, -999.000,9,-999.0000,9,  -999.00,9,   -999.0,9,   -999,  -999.0,-999.000,-999.0000,-999.000,  -999.0,  2.4125,-999.000
    49RY9511_2,   P24,    16,  1,     14,  12822,2,19951120,1432, 27.1933, 133.8452, 4810,   1769.5,   2.1640,  34.5829,2,  34.5828,2,   -999.0,9,     89.0,3,   141.69,2,    38.90,2,     0.00,2,     2.78,2, -999.000,9, -999.000,9, -999.000,9,-999.0000,9,  -999.00,9,   -999.0,9,   -999,  -999.0,-999.000,-999.0000,-999.000,  -999.0,  2.0444,-999.000
    49RY9511_2,   P24,    16,  1,     13,  12812,2,19951120,1432, 27.1933, 133.8452, 4810,   2023.7,   1.9529,  34.6131,2,  34.6123,2,   -999.0,9,    115.0,2,   141.92,2,    38.30,2,     0.00,2,     2.72,2, -999.000,9, -999.000,9, -999.000,9,-999.0000,9,  -999.00,9,   -999.0,9,   -999,  -999.0,-999.000,-999.0000,-999.000,  2024.0,  1.8152,-999.000
    49RY9511_2,   P24,    16,  1,     12,  12821,2,19951120,1432, 27.1933, 133.8452, 4810,   2277.4,   1.7805,  34.6374,2,  34.6363,2,   -999.0,9,    126.5,2,   141.82,2,    37.52,2,     0.00,2,     2.66,2, -999.000,9, -999.000,9, -999.000,9,-999.0000,9,  -999.00,9,   -999.0,9,   -999,  -999.0,-999.000,-999.0000,-999.000,  -999.0,  1.6239,-999.000
    49RY9511_2,   P24,    16,  1,     11,  12811,2,19951120,1432, 27.1933, 133.8452, 4810,   2530.3,   1.6848,  34.6499,2,  34.6495,2,   -999.0,9,    135.2,2,   141.44,2,    37.15,2,     0.00,2,     2.62,2, -999.000,9, -999.000,9, -999.000,9,-999.0000,9,  -999.00,9,   -999.0,9,   -999,  -999.0,-999.000,-999.0000,-999.000,  -999.0,  1.5077,-999.000
    49RY9511_2,   P24,    16,  1,     10,  12820,2,19951120,1432, 27.1933, 133.8452, 4810,   2786.8,   1.6107,  34.6602,2,  34.6607,2,   -999.0,9,    140.3,2,   141.00,2,    36.73,2,     0.00,2,     2.58,2, -999.000,9, -999.000,9, -999.000,9,-999.0000,9,  -999.00,9,   -999.0,9,   -999,  -999.0,-999.000,-999.0000,-999.000,  -999.0,  1.4117,-999.000
    49RY9511_2,   P24,    16,  1,      9,  12810,2,19951120,1432, 27.1933, 133.8452, 4810,   3042.2,   1.5683,  34.6667,2,  34.6682,2,   -999.0,9,    145.7,2,   140.49,2,    36.51,2,     0.00,2,     2.56,2, -999.000,9, -999.000,9, -999.000,9,-999.0000,9,  -999.00,9,   -999.0,9,   -999,  -999.0,-999.000,-999.0000,-999.000,  3042.0,  1.3460,-999.000
    49RY9511_2,   P24,    16,  1,      8,  12819,2,19951120,1432, 27.1933, 133.8452, 4810,   3296.8,   1.5485,  34.6719,2,  34.6723,2,   -999.0,9,    148.0,2,   140.26,2,    36.27,2,     0.00,2,     2.56,2, -999.000,9, -999.000,9, -999.000,9,-999.0000,9,  -999.00,9,   -999.0,9,   -999,  -999.0,-999.000,-999.0000,-999.000,  -999.0,  1.3017,-999.000
    49RY9511_2,   P24,    16,  1,      7,  12815,2,19951120,1432, 27.1933, 133.8452, 4810,   3552.9,   1.5426,  34.6764,2,  34.6753,2,   -999.0,9,    150.1,2,   140.22,2,    36.24,2,     0.00,2,     2.54,2, -999.000,9, -999.000,9, -999.000,9,-999.0000,9,  -999.00,9,   -999.0,9,   -999,  -999.0,-999.000,-999.0000,-999.000,  -999.0,  1.2700,-999.000
    49RY9511_2,   P24,    16,  1,      6,  12818,2,19951120,1432, 27.1933, 133.8452, 4810,   3808.1,   1.5528,  34.6784,2,  34.6772,2,   -999.0,9,    151.4,6,   139.83,6,    36.13,6,     0.00,6,     2.52,6, -999.000,9, -999.000,9, -999.000,9,-999.0000,9,  -999.00,9,   -999.0,9,   -999,  -999.0,-999.000,-999.0000,-999.000,  -999.0,  1.2532,-999.000
    49RY9511_2,   P24,    16,  1,      5,  12809,2,19951120,1432, 27.1933, 133.8452, 4810,   4065.0,   1.5680,  34.6797,2,  34.6790,2,   -999.0,9,    154.4,2,   139.86,2,    36.11,2,     0.00,2,     2.52,2, -999.000,9, -999.000,9, -999.000,9,-999.0000,9,  -999.00,9,   -999.0,9,   -999,  -999.0,-999.000,-999.0000,-999.000,  -999.0,  1.2401,-999.000
    49RY9511_2,   P24,    16,  1,      4,  12817,2,19951120,1432, 27.1933, 133.8452, 4810,   4320.2,   1.5899,  34.6797,2,  34.6796,2,   -999.0,9,    153.8,2,   139.55,2,    36.02,2,     0.00,2,     2.51,2, -999.000,9, -999.000,9, -999.000,9,-999.0000,9,  -999.00,9,   -999.0,9,   -999,  -999.0,-999.000,-999.0000,-999.000,  -999.0,  1.2328,-999.000
    49RY9511_2,   P24,    16,  1,      3,  12808,2,19951120,1432, 27.1933, 133.8452, 4810,   4577.0,   1.6146,  34.6790,2,  34.6804,2,   -999.0,9,    153.0,2,   139.65,2,    35.99,2,     0.00,2,     2.51,2, -999.000,9, -999.000,9, -999.000,9,-999.0000,9,  -999.00,9,   -999.0,9,   -999,  -999.0,   1.610,-999.0000,-999.000,  4577.0,  1.2272,-999.000
    49RY9511_2,   P24,    16,  1,      2,  12914,2,19951120,1432, 27.1933, 133.8452, 4810,   4834.3,   1.6407,  34.6798,2,  34.6800,2,   -999.0,9,    154.9,2,   139.41,2,    36.00,2,     0.00,2,     2.53,2, -999.000,9, -999.000,9, -999.000,9,-999.0000,9,  -999.00,9,   -999.0,9,   -999,  -999.0,-999.000,-999.0000,-999.000,  -999.0,  1.2219,-999.000
    49RY9511_2,   P24,    16,  1,      1,  12807,2,19951120,1432, 27.1933, 133.8452, 4810,   4880.7,   1.6433,  34.6805,2,  34.6802,2,   -999.0,9,    154.7,2,   139.29,2,    36.00,2,     0.00,2,     2.51,2, -999.000,9, -999.000,9, -999.000,9,-999.0000,9,  -999.00,9,   -999.0,9,   -999,  -999.0,-999.000,-999.0000,-999.000,  -999.0,  1.2188,-999.000