BOTTLE,20030404WHPSIOdm
EXPOCODE,SECT_ID,STNNBR,CASTNO,SAMPNO,BTLNBR,BTLNBR_FLAG_W,DATE,TIME,LATITUDE,LONGITUDE,DEPTH,CTDPRS,CTDTMP,CTDSAL,CTDSAL_FLAG_W,SALNTY,SALNTY_FLAG_W,CTDOXY,CTDOXY_FLAG_W,OXYGEN,OXYGEN_FLAG_W,SILCAT,SILCAT_FLAG_W,NITRAT,NITRAT_FLAG_W,NITRIT,NITRIT_FLAG_W,PHSPHT,PHSPHT_FLAG_W,CFC-11,CFC-11_FLAG_W,CFC-12,CFC-12_FLAG_W,TRITUM,TRITUM_FLAG_W,HELIUM,HELIUM_FLAG_W,DELHE3,DELHE3_FLAG_W,DELC14,DELC14_FLAG_W,CTDRAW,C14ERR,REVTMP,HELIER,DELHER,REVPRS,THETA,TRITER
,,,,,,,,,,,,DBAR,ITS-90,PSS-78,,PSS-78,,UMOL/KG,,UMOL/KG,,UMOL/KG,,UMOL/KG,,UMOL/KG,,UMOL/KG,,PMOL/KG,,PMOL/KG,,TU,,NMOL/KG,,PERCNT,,/MILLE,,,/MILLE,ITS-90,NMOL/KG,PERCNT,DBAR,DEG C,TU
    49RY9511_2,   P24,     9,  1,     20,  12826,2,19951118,1324, 29.4478, 132.4682, 5015,    805.7,   5.9402,  34.1709,2,  34.1697,2,   -999.0,9,    103.2,6,    74.68,6,    33.13,6,     0.00,6,     2.39,6, -999.000,9, -999.000,9, -999.000,9,-999.0000,9,  -999.00,9,   -999.0,9,   -999,  -999.0,-999.000,-999.0000,-999.000,  -999.0,  5.8689,-999.000
    49RY9511_2,   P24,     9,  1,     19,  12825,2,19951118,1324, 29.4478, 132.4682, 5015,    909.2,   4.8491,  34.2260,2,  34.2278,2,   -999.0,9,     77.5,2,    94.07,2,    37.10,2,     0.00,2,     2.69,2, -999.000,9, -999.000,9, -999.000,9,-999.0000,9,  -999.00,9,   -999.0,9,   -999,  -999.0,-999.000,-999.0000,-999.000,  -999.0,  4.7754,-999.000
    49RY9511_2,   P24,     9,  1,     18,  12824,2,19951118,1324, 29.4478, 132.4682, 5015,   1008.6,   4.1809,  34.3164,2,  34.3184,2,   -999.0,9,     63.9,2,   108.93,2,    39.10,2,     0.00,2,     2.83,2, -999.000,9, -999.000,9, -999.000,9,-999.0000,9,  -999.00,9,   -999.0,9,   -999,  -999.0,-999.000,-999.0000,-999.000,  -999.0,  4.1034,-999.000
    49RY9511_2,   P24,     9,  1,     17,  12814,2,19951118,1324, 29.4478, 132.4682, 5015,   1262.4,   3.1771,  34.4419,2,  34.4420,2,   -999.0,9,     65.0,2,   129.53,2,    40.34,2,     0.00,2,     2.92,2, -999.000,9, -999.000,9, -999.000,9,-999.0000,9,  -999.00,9,   -999.0,9,   -999,  -999.0,-999.000,-999.0000,-999.000,  -999.0,  3.0872,-999.000
    49RY9511_2,   P24,     9,  1,     16,  12823,2,19951118,1324, 29.4478, 132.4682, 5015,   1514.8,   2.6860,  34.5147,2,  34.5116,3,   -999.0,9,     78.2,2,   136.74,2,    39.84,2,     0.00,2,     2.88,2, -999.000,9, -999.000,9, -999.000,9,-999.0000,9,  -999.00,9,   -999.0,9,   -999,  -999.0,-999.000,-999.0000,-999.000,  -999.0,  2.5808,-999.000
    49RY9511_2,   P24,     9,  1,     15,  12813,2,19951118,1324, 29.4478, 132.4682, 5015,   1767.7,   2.3128,  34.5613,2,  34.5612,2,   -999.0,9,     92.9,2,   140.85,2,    39.28,2,     0.00,2,     2.81,2, -999.000,9, -999.000,9, -999.000,9,-999.0000,9,  -999.00,9,   -999.0,9,   -999,  -999.0,-999.000,-999.0000,-999.000,  -999.0,  2.1914,-999.000
    49RY9511_2,   P24,     9,  1,     14,  12822,2,19951118,1324, 29.4478, 132.4682, 5015,   2024.7,   2.0604,  34.5973,2,  34.5960,2,   -999.0,9,    107.4,2,   142.38,2,    38.51,2,     0.00,2,     2.77,2, -999.000,9, -999.000,9, -999.000,9,-999.0000,9,  -999.00,9,   -999.0,9,   -999,  -999.0,-999.000,-999.0000,-999.000,  -999.0,  1.9211,-999.000
    49RY9511_2,   P24,     9,  1,     13,  12812,2,19951118,1324, 29.4478, 132.4682, 5015,   2276.8,   1.8910,  34.6218,2,  34.6211,2,   -999.0,9,    118.8,2,   142.19,2,    37.83,2,     0.00,2,     2.70,2, -999.000,9, -999.000,9, -999.000,9,-999.0000,9,  -999.00,9,   -999.0,9,   -999,  -999.0,-999.000,-999.0000,-999.000,  2274.0,  1.7327,-999.000
    49RY9511_2,   P24,     9,  1,     12,  12821,2,19951118,1324, 29.4478, 132.4682, 5015,   2530.9,   1.7279,  34.6444,2,  34.6385,3,   -999.0,9,    131.6,2,   141.63,2,    37.10,2,     0.00,2,     2.64,2, -999.000,9, -999.000,9, -999.000,9,-999.0000,9,  -999.00,9,   -999.0,9,   -999,  -999.0,-999.000,-999.0000,-999.000,  -999.0,  1.5499,-999.000
    49RY9511_2,   P24,     9,  1,     11,  12811,2,19951118,1324, 29.4478, 132.4682, 5015,   2787.1,   1.6388,  34.6563,2,  34.6514,3,   -999.0,9,    139.2,2,   141.17,2,    36.72,2,     0.00,2,     2.60,2, -999.000,9, -999.000,9, -999.000,9,-999.0000,9,  -999.00,9,   -999.0,9,   -999,  -999.0,-999.000,-999.0000,-999.000,  -999.0,  1.4392,-999.000
    49RY9511_2,   P24,     9,  1,      9,  12810,2,19951118,1324, 29.4478, 132.4682, 5015,   3041.4,   1.5772,  34.6671,2,  34.6666,2,   -999.0,9,    144.7,2,   140.82,2,    36.43,2,     0.00,2,     2.57,2, -999.000,9, -999.000,9, -999.000,9,-999.0000,9,  -999.00,9,   -999.0,9,   -999,  -999.0,-999.000,-999.0000,-999.000,  3041.0,  1.3548,-999.000
    49RY9511_2,   P24,     9,  1,     10,  12820,2,19951118,1324, 29.4478, 132.4682, 5015,   3042.8,   1.5776,  34.6667,2,  34.6660,2,   -999.0,9,    146.7,3,   140.92,2,    36.47,2,     0.00,2,     2.57,2, -999.000,9, -999.000,9, -999.000,9,-999.0000,9,  -999.00,9,   -999.0,9,   -999,  -999.0,-999.000,-999.0000,-999.000,  -999.0,  1.3550,-999.000
    49RY9511_2,   P24,     9,  1,      8,  12819,2,19951118,1324, 29.4478, 132.4682, 5015,   3297.4,   1.5434,  34.6729,2,  34.6725,2,   -999.0,9,    149.3,2,   140.62,2,    36.15,2,     0.00,2,     2.56,2, -999.000,9, -999.000,9, -999.000,9,-999.0000,9,  -999.00,9,   -999.0,9,   -999,  -999.0,-999.000,-999.0000,-999.000,  -999.0,  1.2966,-999.000
    49RY9511_2,   P24,     9,  1,      7,  12815,2,19951118,1324, 29.4478, 132.4682, 5015,   3552.9,   1.5409,  34.6750,2,  34.6753,2,   -999.0,9,    150.1,2,   140.37,2,    36.04,2,     0.00,2,     2.54,2, -999.000,9, -999.000,9, -999.000,9,-999.0000,9,  -999.00,9,   -999.0,9,   -999,  -999.0,-999.000,-999.0000,-999.000,  -999.0,  1.2683,-999.000
    49RY9511_2,   P24,     9,  1,      6,  12818,2,19951118,1324, 29.4478, 132.4682, 5015,   3808.0,   1.5558,  34.6767,2,  34.6770,2,   -999.0,9,    151.4,2,   140.24,2,    36.01,2,     0.00,2,     2.54,2, -999.000,9, -999.000,9, -999.000,9,-999.0000,9,  -999.00,9,   -999.0,9,   -999,  -999.0,-999.000,-999.0000,-999.000,  -999.0,  1.2560,-999.000
    49RY9511_2,   P24,     9,  1,      5,  12809,2,19951118,1324, 29.4478, 132.4682, 5015,   4065.9,   1.5778,  34.6776,2,  34.6774,2,   -999.0,9,    151.9,2,   140.33,2,    35.97,2,     0.00,2,     2.54,2, -999.000,9, -999.000,9, -999.000,9,-999.0000,9,  -999.00,9,   -999.0,9,   -999,  -999.0,-999.000,-999.0000,-999.000,  -999.0,  1.2495,-999.000
    49RY9511_2,   P24,     9,  1,      4,  12817,2,19951118,1324, 29.4478, 132.4682, 5015,   4322.4,   1.6016,  34.6774,2,  34.6776,2,   -999.0,9,    152.8,2,   140.36,2,    36.03,2,     0.00,2,     2.53,2, -999.000,9, -999.000,9, -999.000,9,-999.0000,9,  -999.00,9,   -999.0,9,   -999,  -999.0,-999.000,-999.0000,-999.000,  -999.0,  1.2440,-999.000
    49RY9511_2,   P24,     9,  1,      3,  12808,2,19951118,1324, 29.4478, 132.4682, 5015,   4578.3,   1.6283,  34.6778,2,  34.6792,2,   -999.0,9,    152.3,2,   140.17,2,    36.05,2,     0.00,2,     2.54,2, -999.000,9, -999.000,9, -999.000,9,-999.0000,9,  -999.00,9,   -999.0,9,   -999,  -999.0,   1.625,-999.0000,-999.000,  4578.0,  1.2403,-999.000
    49RY9511_2,   P24,     9,  1,      2,  12914,2,19951118,1324, 29.4478, 132.4682, 5015,   4834.0,   1.6571,  34.6792,2,  34.6794,2,   -999.0,9,    152.1,2,   140.07,2,    35.98,2,     0.00,2,     2.53,2, -999.000,9, -999.000,9, -999.000,9,-999.0000,9,  -999.00,9,   -999.0,9,   -999,  -999.0,-999.000,-999.0000,-999.000,  -999.0,  1.2378,-999.000
    49RY9511_2,   P24,     9,  1,      1,  12807,2,19951118,1324, 29.4478, 132.4682, 5015,   5008.6,   1.6794,  34.6792,2,  34.6780,2,   -999.0,9,    152.3,2,   140.22,2,    35.93,2,     0.00,2,     2.52,2, -999.000,9, -999.000,9, -999.000,9,-999.0000,9,  -999.00,9,   -999.0,9,   -999,  -999.0,-999.000,-999.0000,-999.000,  -999.0,  1.2382,-999.000
    49RY9511_2,   P24,     9,  2,     13,  12812,2,19951118,1632, 29.4393, 132.4413, 5044,      4.8,  23.9618,  34.7328,2,  34.7319,2,   -999.0,9,    209.8,2,     1.46,2,     0.02,2,     0.00,2,     0.01,2, -999.000,9, -999.000,9, -999.000,9,-999.0000,9,  -999.00,9,   -999.0,9,   -999,  -999.0,-999.000,-999.0000,-999.000,     9.0, 23.9608,-999.000
    49RY9511_2,   P24,     9,  2,     12,  12821,2,19951118,1632, 29.4393, 132.4413, 5044,     25.3,  23.9623,  34.7301,2,  34.7310,2,   -999.0,9,    210.4,2,     1.55,2,     0.11,2,     0.00,2,     0.04,2, -999.000,9, -999.000,9, -999.000,9,-999.0000,9,  -999.00,9,   -999.0,9,   -999,  -999.0,-999.000,-999.0000,-999.000,  -999.0, 23.9570,-999.000
    49RY9511_2,   P24,     9,  2,     11,  12811,2,19951118,1632, 29.4393, 132.4413, 5044,     50.7,  23.7568,  34.8126,2,  34.8071,3,   -999.0,9,    209.8,2,     1.50,6,     0.07,6,     0.00,6,     0.02,6, -999.000,9, -999.000,9, -999.000,9,-999.0000,9,  -999.00,9,   -999.0,9,   -999,  -999.0,-999.000,-999.0000,-999.000,  -999.0, 23.7462,-999.000
    49RY9511_2,   P24,     9,  2,     10,  12820,2,19951118,1632, 29.4393, 132.4413, 5044,     74.8,  23.6809,  34.8290,2,  34.8290,2,   -999.0,9,    212.4,6,     1.49,2,     0.00,2,     0.00,2,     0.03,2, -999.000,9, -999.000,9, -999.000,9,-999.0000,9,  -999.00,9,   -999.0,9,   -999,  -999.0,-999.000,-999.0000,-999.000,  -999.0, 23.6654,-999.000
    49RY9511_2,   P24,     9,  2,      9,  12810,2,19951118,1632, 29.4393, 132.4413, 5044,    100.3,  21.6485,  34.9168,2,  34.9133,3,   -999.0,9,    209.0,2,     1.75,2,     0.23,2,     0.15,2,     0.07,2, -999.000,9, -999.000,9, -999.000,9,-999.0000,9,  -999.00,9,   -999.0,9,   -999,  -999.0,-999.000,-999.0000,-999.000,    96.0, 21.6289,-999.000
    49RY9511_2,   P24,     9,  2,      8,  12819,2,19951118,1632, 29.4393, 132.4413, 5044,    151.1,  19.7582,  34.9101,2,  34.9119,2,   -999.0,9,    200.5,2,     2.50,2,     2.10,2,     0.02,2,     0.18,2, -999.000,9, -999.000,9, -999.000,9,-999.0000,9,  -999.00,9,   -999.0,9,   -999,  -999.0,-999.000,-999.0000,-999.000,  -999.0, 19.7306,-999.000
    49RY9511_2,   P24,     9,  2,      7,  12815,2,19951118,1632, 29.4393, 132.4413, 5044,    201.0,  18.7102,  34.8965,2,  34.8977,3,   -999.0,9,    201.0,2,     3.10,2,     3.22,2,     0.00,2,     0.24,2, -999.000,9, -999.000,9, -999.000,9,-999.0000,9,  -999.00,9,   -999.0,9,   -999,  -999.0,-999.000,-999.0000,-999.000,  -999.0, 18.6747,-999.000
    49RY9511_2,   P24,     9,  2,      6,  12818,2,19951118,1632, 29.4393, 132.4413, 5044,    301.7,  17.2183,  34.8009,2,  34.8044,2,   -999.0,9,    197.6,2,     4.94,2,     5.44,2,     0.00,2,     0.38,2, -999.000,9, -999.000,9, -999.000,9,-999.0000,9,  -999.00,9,   -999.0,9,   -999,  -999.0,-999.000,-999.0000,-999.000,  -999.0, 17.1680,-999.000
    49RY9511_2,   P24,     9,  2,      5,  12809,2,19951118,1632, 29.4393, 132.4413, 5044,    402.1,  15.4288,  34.6474,2,  34.6532,2,   -999.0,9,    189.7,2,     9.62,2,     9.29,2,     0.00,2,     0.64,2, -999.000,9, -999.000,9, -999.000,9,-999.0000,9,  -999.00,9,   -999.0,9,   -999,  -999.0,-999.000,-999.0000,-999.000,  -999.0, 15.3665,-999.000
    49RY9511_2,   P24,     9,  2,      4,  12817,2,19951118,1632, 29.4393, 132.4413, 5044,    504.0,  12.8054,  34.4565,2,  34.4567,2,   -999.0,9,    178.5,2,    18.62,2,    14.47,2,     0.00,2,     1.01,2, -999.000,9, -999.000,9, -999.000,9,-999.0000,9,  -999.00,9,   -999.0,9,   -999,  -999.0,-999.000,-999.0000,-999.000,  -999.0, 12.7364,-999.000
    49RY9511_2,   P24,     9,  2,      2,  12914,2,19951118,1632, 29.4393, 132.4413, 5044,    605.6,  10.0105,  34.2686,2,  34.2667,2,   -999.0,9,    163.6,2,    31.98,2,    20.67,2,     0.00,2,     1.46,2, -999.000,9, -999.000,9, -999.000,9,-999.0000,9,  -999.00,9,   -999.0,9,   -999,  -999.0,-999.000,-999.0000,-999.000,  -999.0,  9.9393,-999.000
    49RY9511_2,   P24,     9,  2,      3,  12808,2,19951118,1632, 29.4393, 132.4413, 5044,    606.3,  10.0195,  34.2693,2,  34.2683,2,   -999.0,9,    164.5,2,    31.83,2,    20.62,2,     0.00,2,     1.46,2, -999.000,9, -999.000,9, -999.000,9,-999.0000,9,  -999.00,9,   -999.0,9,   -999,  -999.0,  10.020,-999.0000,-999.000,   604.0,  9.9482,-999.000
    49RY9511_2,   P24,     9,  2,      1,  12807,2,19951118,1632, 29.4393, 132.4413, 5044,    705.1,   7.5718,  34.1771,2,  34.1685,3,   -999.0,9,    135.4,2,    53.97,2,    27.72,2,     0.00,2,     1.98,2, -999.000,9, -999.000,9, -999.000,9,-999.0000,9,  -999.00,9,   -999.0,9,   -999,  -999.0,-999.000,-999.0000,-999.000,  -999.0,  7.5013,-999.000
    49RY9511_2,   P24,    10,  1,     16,  12823,2,19951118,2014, 29.2298, 132.5970, 4110,    806.0,   6.0572,  34.1708,2,  34.1746,2,   -999.0,9,    105.2,2,    73.63,2,    32.93,2,     0.00,2,     2.38,2,    0.896,2,    0.514,2, -999.000,9,-999.0000,9,  -999.00,9,   -999.0,9,   -999,  -999.0,-999.000,-999.0000,-999.000,  -999.0,  5.9852,-999.000
    49RY9511_2,   P24,    10,  1,     17,  12814,2,19951118,2014, 29.2298, 132.5970, 4110,    807.8,   6.0405,  34.1737,2,  34.1762,2,   -999.0,9,    104.4,2,    73.31,2,    33.03,2,     0.00,2,     2.36,2, -999.000,9, -999.000,9, -999.000,9,-999.0000,9,  -999.00,9,   -999.0,9,   -999,  -999.0,-999.000,-999.0000,-999.000,  -999.0,  5.9684,-999.000
    49RY9511_2,   P24,    10,  1,     15,  12813,2,19951118,2014, 29.2298, 132.5970, 4110,    906.7,   4.9893,  34.2186,2,  34.2192,2,   -999.0,9,     80.7,2,    91.27,2,    36.64,2,     0.00,2,     2.64,2, -999.000,9, -999.000,9, -999.000,9,-999.0000,9,  -999.00,9,   -999.0,9,   -999,  -999.0,-999.000,-999.0000,-999.000,  -999.0,  4.9149,-999.000
    49RY9511_2,   P24,    10,  1,     14,  12822,2,19951118,2014, 29.2298, 132.5970, 4110,   1008.5,   4.2024,  34.3118,2,  34.3137,2,   -999.0,9,     65.6,2,   108.23,2,    39.09,2,     0.00,2,     2.82,2,    0.198,2,    0.114,2, -999.000,9,-999.0000,9,  -999.00,9,   -999.0,9,   -999,  -999.0,-999.000,-999.0000,-999.000,  -999.0,  4.1248,-999.000
    49RY9511_2,   P24,    10,  1,     13,  12812,2,19951118,2014, 29.2298, 132.5970, 4110,   1262.7,   3.1114,  34.4506,2,-999.0000,9,   -999.0,9,     66.9,2,   130.63,2,    40.36,2,     0.00,2,     2.91,2,    0.032,2,    0.026,2, -999.000,9,-999.0000,9,  -999.00,9,   -999.0,9,   -999,  -999.0,-999.000,-999.0000,-999.000,  1262.0,  3.0221,-999.000
    49RY9511_2,   P24,    10,  1,     12,  12821,2,19951118,2014, 29.2298, 132.5970, 4110,   1513.4,   2.5956,  34.5215,2,  34.5216,2,   -999.0,9,     80.9,2,   138.66,2,    39.90,2,     0.00,2,     2.87,2,    0.044,2,    0.035,2, -999.000,9,-999.0000,9,  -999.00,9,   -999.0,9,   -999,  -999.0,-999.000,-999.0000,-999.000,  -999.0,  2.4915,-999.000
    49RY9511_2,   P24,    10,  1,     11,  12811,2,19951118,2014, 29.2298, 132.5970, 4110,   1768.7,   2.2407,  34.5712,2,  34.5718,2,   -999.0,9,     96.6,2,   141.18,2,    39.08,2,     0.00,2,     2.79,2,    0.009,2,    0.019,2, -999.000,9,-999.0000,9,  -999.00,9,   -999.0,9,   -999,  -999.0,-999.000,-999.0000,-999.000,  -999.0,  2.1202,-999.000
    49RY9511_2,   P24,    10,  1,     10,  12820,2,19951118,2014, 29.2298, 132.5970, 4110,   2022.3,   2.0071,  34.6044,2,  34.6042,2,   -999.0,9,    110.4,2,   142.21,2,    38.47,2,     0.00,2,     2.76,2,    0.000,2,    0.000,2, -999.000,9,-999.0000,9,  -999.00,9,   -999.0,9,   -999,  -999.0,-999.000,-999.0000,-999.000,  -999.0,  1.8687,-999.000
    49RY9511_2,   P24,    10,  1,      9,  12810,2,19951118,2014, 29.2298, 132.5970, 4110,   2276.2,   1.8412,  34.6283,2,  34.6278,2,   -999.0,9,    122.1,2,   141.90,2,    37.74,2,     0.00,2,     2.68,2, -999.000,9, -999.000,9, -999.000,9,-999.0000,9,  -999.00,9,   -999.0,9,   -999,  -999.0,-999.000,-999.0000,-999.000,  2273.0,  1.6838,-999.000
    49RY9511_2,   P24,    10,  1,      8,  12819,2,19951118,2014, 29.2298, 132.5970, 4110,   2530.6,   1.7273,  34.6442,2,  34.6430,2,   -999.0,9,    131.1,2,   142.02,2,    37.25,2,     0.00,2,     2.63,2, -999.000,9, -999.000,9, -999.000,9,-999.0000,9,  -999.00,9,   -999.0,9,   -999,  -999.0,-999.000,-999.0000,-999.000,  -999.0,  1.5494,-999.000
    49RY9511_2,   P24,    10,  1,      7,  12815,2,19951118,2014, 29.2298, 132.5970, 4110,   2786.2,   1.6132,  34.6604,2,  34.6595,2,   -999.0,9,    140.8,2,   141.26,2,    36.71,2,     0.00,2,     2.58,2, -999.000,9, -999.000,9, -999.000,9,-999.0000,9,  -999.00,9,   -999.0,9,   -999,  -999.0,-999.000,-999.0000,-999.000,  -999.0,  1.4142,-999.000
    49RY9511_2,   P24,    10,  1,      6,  12818,2,19951118,2014, 29.2298, 132.5970, 4110,   3041.0,   1.5729,  34.6670,2,  34.6662,2,   -999.0,9,    145.1,2,   140.94,2,    36.46,2,     0.00,2,     2.57,2, -999.000,9, -999.000,9, -999.000,9,-999.0000,9,  -999.00,9,   -999.0,9,   -999,  -999.0,-999.000,-999.0000,-999.000,  -999.0,  1.3506,-999.000
    49RY9511_2,   P24,    10,  1,      5,  12809,2,19951118,2014, 29.2298, 132.5970, 4110,   3297.1,   1.5413,  34.6733,2,  34.6727,2,   -999.0,9,    148.5,2,   140.35,2,    36.23,2,     0.00,2,     2.54,2, -999.000,9, -999.000,9, -999.000,9,-999.0000,9,  -999.00,9,   -999.0,9,   -999,  -999.0,-999.000,-999.0000,-999.000,  -999.0,  1.2947,-999.000
    49RY9511_2,   P24,    10,  1,      4,  12817,2,19951118,2014, 29.2298, 132.5970, 4110,   3553.1,   1.5367,  34.6768,2,  34.6758,2,   -999.0,9,    151.2,6,   140.25,2,    36.14,2,     0.00,2,     2.53,2, -999.000,9, -999.000,9, -999.000,9,-999.0000,9,  -999.00,9,   -999.0,9,   -999,  -999.0,-999.000,-999.0000,-999.000,  -999.0,  1.2642,-999.000
    49RY9511_2,   P24,    10,  1,      3,  12808,2,19951118,2014, 29.2298, 132.5970, 4110,   3808.6,   1.5514,  34.6782,2,  34.6774,2,   -999.0,9,    152.6,2,   140.52,2,    36.07,2,     0.00,2,     2.53,2, -999.000,9, -999.000,9, -999.000,9,-999.0000,9,  -999.00,9,   -999.0,9,   -999,  -999.0,   1.548,-999.0000,-999.000,  3800.0,  1.2518,-999.000
    49RY9511_2,   P24,    10,  1,      2,  12914,2,19951118,2014, 29.2298, 132.5970, 4110,   4149.5,   1.5811,  34.6793,2,  34.6774,2,   -999.0,9,    153.1,2,   140.20,2,    36.06,2,     0.00,2,     2.53,2, -999.000,9, -999.000,9, -999.000,9,-999.0000,9,  -999.00,9,   -999.0,9,   -999,  -999.0,-999.000,-999.0000,-999.000,  -999.0,  1.2434,-999.000
    49RY9511_2,   P24,    10,  1,      1,  12807,2,19951118,2014, 29.2298, 132.5970, 4110,   4151.5,   1.5810,  34.6794,2,  34.6784,2,   -999.0,9,    151.6,2,   139.90,2,    36.19,2,     0.00,2,     2.52,2, -999.000,9, -999.000,9, -999.000,9,-999.0000,9,  -999.00,9,   -999.0,9,   -999,  -999.0,-999.000,-999.0000,-999.000,  -999.0,  1.2431,-999.000