BOTTLE,20030404WHPSIOdm
#code : jjward hyd_to_exchange.pl 
#original files copied from HTML directory: 20030404
#original HYD file: p24hy.txt   Fri Apr  4 08:29:31 2003
#original SUM file: p24su.txt   Fri Apr  4 09:08:43 2003
EXPOCODE,SECT_ID,STNNBR,CASTNO,SAMPNO,BTLNBR,BTLNBR_FLAG_W,DATE,TIME,LATITUDE,LONGITUDE,DEPTH,CTDPRS,CTDTMP,CTDSAL,CTDSAL_FLAG_W,SALNTY,SALNTY_FLAG_W,CTDOXY,CTDOXY_FLAG_W,OXYGEN,OXYGEN_FLAG_W,SILCAT,SILCAT_FLAG_W,NITRAT,NITRAT_FLAG_W,NITRIT,NITRIT_FLAG_W,PHSPHT,PHSPHT_FLAG_W,CFC-11,CFC-11_FLAG_W,CFC-12,CFC-12_FLAG_W,TRITUM,TRITUM_FLAG_W,HELIUM,HELIUM_FLAG_W,DELHE3,DELHE3_FLAG_W,DELC14,DELC14_FLAG_W,CTDRAW,C14ERR,REVTMP,HELIER,DELHER,REVPRS,THETA,TRITER
,,,,,,,,,,,,DBAR,ITS-90,PSS-78,,PSS-78,,UMOL/KG,,UMOL/KG,,UMOL/KG,,UMOL/KG,,UMOL/KG,,UMOL/KG,,PMOL/KG,,PMOL/KG,,TU,,NMOL/KG,,PERCNT,,/MILLE,,,/MILLE,ITS-90,NMOL/KG,PERCNT,DBAR,DEG C,TU
    49RY9511_2,   P24,     1,  1,      8,  12819,2,19951116,1231, 31.2548, 131.4712,  185,      4.7,  21.0009,  34.4945,2,  34.4947,2,   -999.0,9,    214.0,6,     3.60,6,     1.71,6,     0.10,6,     0.16,6, -999.000,9, -999.000,9, -999.000,9,-999.0000,9,  -999.00,9,   -999.0,9,   -999,  -999.0,-999.000,-999.0000,-999.000,  -999.0, 21.0000,-999.000
    49RY9511_2,   P24,     1,  1,      9,  12810,2,19951116,1231, 31.2548, 131.4712,  185,      4.9,  21.0112,  34.4930,2,  34.4935,2,   -999.0,9,    213.0,6,     3.53,6,     1.69,6,     0.10,6,     0.16,6, -999.000,9, -999.000,9, -999.000,9,-999.0000,9,  -999.00,9,   -999.0,9,   -999,  -999.0,-999.000,-999.0000,-999.000,  -999.0, 21.0103,-999.000
    49RY9511_2,   P24,     1,  1,      7,  12815,2,19951116,1231, 31.2548, 131.4712,  185,     25.3,  20.7052,  34.5069,2,  34.5069,2,   -999.0,9,    207.5,2,     4.85,2,     2.58,2,     0.11,2,     0.24,2, -999.000,9, -999.000,9, -999.000,9,-999.0000,9,  -999.00,9,   -999.0,9,   -999,  -999.0,-999.000,-999.0000,-999.000,  -999.0, 20.7004,-999.000
    49RY9511_2,   P24,     1,  1,      6,  12818,2,19951116,1231, 31.2548, 131.4712,  185,     49.9,  18.9442,  34.6793,2,  34.6731,3,   -999.0,9,    179.4,2,     9.39,2,     7.07,2,     0.04,2,     0.53,2, -999.000,9, -999.000,9, -999.000,9,-999.0000,9,  -999.00,9,   -999.0,9,   -999,  -999.0,-999.000,-999.0000,-999.000,  -999.0, 18.9354,-999.000
    49RY9511_2,   P24,     1,  1,      5,  12809,2,19951116,1231, 31.2548, 131.4712,  185,     75.0,  18.3607,  34.6864,2,  34.6851,2,   -999.0,9,    177.6,2,    10.08,2,     7.64,2,     0.03,2,     0.56,2, -999.000,9, -999.000,9, -999.000,9,-999.0000,9,  -999.00,9,   -999.0,9,   -999,  -999.0,-999.000,-999.0000,-999.000,  -999.0, 18.3477,-999.000
    49RY9511_2,   P24,     1,  1,      4,  12817,2,19951116,1231, 31.2548, 131.4712,  185,    100.5,  17.0638,  34.6226,2,  34.6391,3,   -999.0,9,    176.0,2,    12.52,2,     9.00,2,     0.04,2,     0.65,2, -999.000,9, -999.000,9, -999.000,9,-999.0000,9,  -999.00,9,   -999.0,9,   -999,  -999.0,-999.000,-999.0000,-999.000,  -999.0, 17.0472,-999.000
    49RY9511_2,   P24,     1,  1,      3,  12808,2,19951116,1231, 31.2548, 131.4712,  185,    150.4,  15.7284,  34.6032,2,  34.6050,2,   -999.0,9,    169.9,2,    16.81,2,    11.67,2,     0.02,2,     0.83,2, -999.000,9, -999.000,9, -999.000,9,-999.0000,9,  -999.00,9,   -999.0,9,   -999,  -999.0,-999.000,-999.0000,-999.000,  -999.0, 15.7050,-999.000
    49RY9511_2,   P24,     1,  1,      2,  12914,2,19951116,1231, 31.2548, 131.4712,  185,    177.8,  13.4696,  34.5255,2,  34.5202,3,   -999.0,9,    157.1,6,    25.57,6,    15.89,6,     0.04,6,     1.13,6, -999.000,9, -999.000,9, -999.000,9,-999.0000,9,  -999.00,9,   -999.0,9,   -999,  -999.0,-999.000,-999.0000,-999.000,  -999.0, 13.4447,-999.000
    49RY9511_2,   P24,     1,  1,      1,  12807,2,19951116,1231, 31.2548, 131.4712,  185,    177.8,  13.4907,  34.5230,2,  34.5228,2,   -999.0,9,    158.4,6,    25.34,6,    15.78,6,     0.05,6,     1.12,6, -999.000,9, -999.000,9, -999.000,9,-999.0000,9,  -999.00,9,   -999.0,9,   -999,  -999.0,-999.000,-999.0000,-999.000,  -999.0, 13.4658,-999.000
    49RY9511_2,   P24,     2,  1,     17,  12814,2,19951116,1700, 31.0498, 131.5950,  989,      4.4,  24.7012,  34.7228,2,  34.7254,2,   -999.0,9,    205.0,2,     1.38,2,     0.01,2,     0.01,2,     0.02,2,    1.750,3,    1.121,2, -999.000,9,-999.0000,9,  -999.00,9,   -999.0,9,   -999,  -999.0,-999.000,-999.0000,-999.000,  -999.0, 24.7002,-999.000
    49RY9511_2,   P24,     2,  1,     16,  12823,2,19951116,1700, 31.0498, 131.5950,  989,     25.2,  24.7048,  34.7138,2,  34.7209,2,   -999.0,9,    205.7,2,     1.34,2,     0.06,2,     0.01,2,     0.02,2, -999.000,9, -999.000,9, -999.000,9,-999.0000,9,  -999.00,9,   -999.0,9,   -999,  -999.0,-999.000,-999.0000,-999.000,  -999.0, 24.6994,-999.000
    49RY9511_2,   P24,     2,  1,     15,  12813,2,19951116,1700, 31.0498, 131.5950,  989,     25.3,  24.7013,  34.7162,2,  34.7186,2,   -999.0,9,    204.7,2,     1.55,2,     0.11,2,     0.02,2,     0.03,2,    1.760,3,    1.107,2, -999.000,9,-999.0000,9,  -999.00,9,   -999.0,9,   -999,  -999.0,-999.000,-999.0000,-999.000,  -999.0, 24.6959,-999.000
    49RY9511_2,   P24,     2,  1,     14,  12822,2,19951116,1700, 31.0498, 131.5950,  989,     50.3,  24.6146,  34.6984,2,  34.6847,3,   -999.0,9,    205.2,2,     1.80,2,     0.11,2,     0.03,2,     0.03,2,    1.765,3,    1.092,2, -999.000,9,-999.0000,9,  -999.00,9,   -999.0,9,   -999,  -999.0,-999.000,-999.0000,-999.000,  -999.0, 24.6039,-999.000
    49RY9511_2,   P24,     2,  1,     13,  12812,2,19951116,1700, 31.0498, 131.5950,  989,     75.7,  24.1777,  34.6348,2,  34.6406,2,   -999.0,9,    204.8,2,     2.06,2,     0.50,2,     0.09,2,     0.07,2, -999.000,9, -999.000,9, -999.000,9,-999.0000,9,  -999.00,9,   -999.0,9,   -999,  -999.0,-999.000,-999.0000,-999.000,    78.0, 24.1617,-999.000
    49RY9511_2,   P24,     2,  1,     12,  12821,2,19951116,1700, 31.0498, 131.5950,  989,    100.5,  21.6705,  34.5858,2,  34.6847,3,   -999.0,9,    194.2,2,     5.21,2,     3.26,2,     0.13,2,     0.27,2,    1.905,3,    1.137,2, -999.000,9,-999.0000,9,  -999.00,9,   -999.0,9,   -999,  -999.0,-999.000,-999.0000,-999.000,  -999.0, 21.6509,-999.000
    49RY9511_2,   P24,     2,  1,     11,  12811,2,19951116,1700, 31.0498, 131.5950,  989,    151.3,  19.3402,  34.6817,2,  34.6896,3,   -999.0,9,    184.2,2,     8.76,2,     6.19,2,     0.06,2,     0.46,2,    1.946,3,    1.134,2, -999.000,9,-999.0000,9,  -999.00,9,   -999.0,9,   -999,  -999.0,-999.000,-999.0000,-999.000,  -999.0, 19.3130,-999.000
    49RY9511_2,   P24,     2,  1,     10,  12820,2,19951116,1700, 31.0498, 131.5950,  989,    200.3,  17.7794,  34.7341,2,  34.7432,3,   -999.0,9,    182.7,6,     8.99,2,     7.28,2,     0.02,2,     0.53,2,    2.047,3,    1.178,2, -999.000,9,-999.0000,9,  -999.00,9,   -999.0,9,   -999,  -999.0,-999.000,-999.0000,-999.000,  -999.0, 17.7454,-999.000
    49RY9511_2,   P24,     2,  1,      9,  12810,2,19951116,1700, 31.0498, 131.5950,  989,    304.4,  12.2588,  34.4759,2,  34.4786,2,   -999.0,9,    152.7,2,    31.55,2,    18.28,2,     0.01,2,     1.30,2,    1.542,3,    0.855,2, -999.000,9,-999.0000,9,  -999.00,9,   -999.0,9,   -999,  -999.0,-999.000,-999.0000,-999.000,   305.0, 12.2186,-999.000
    49RY9511_2,   P24,     2,  1,      8,  12819,2,19951116,1700, 31.0498, 131.5950,  989,    405.4,   9.1886,  34.3437,2,  34.3642,3,   -999.0,9,    127.1,2,    51.89,2,    25.56,2,     0.00,2,     1.82,2,    1.063,3,    0.593,2, -999.000,9,-999.0000,9,  -999.00,9,   -999.0,9,   -999,  -999.0,-999.000,-999.0000,-999.000,  -999.0,  9.1439,-999.000
    49RY9511_2,   P24,     2,  1,      7,  12815,2,19951116,1700, 31.0498, 131.5950,  989,    507.3,   6.6217,  34.3124,2,  34.3113,2,   -999.0,9,     93.9,2,    76.30,2,    32.28,2,     0.00,2,     2.33,2,    0.608,3,    0.330,2, -999.000,9,-999.0000,9,  -999.00,9,   -999.0,9,   -999,  -999.0,-999.000,-999.0000,-999.000,  -999.0,  6.5751,-999.000
    49RY9511_2,   P24,     2,  1,      6,  12818,2,19951116,1700, 31.0498, 131.5950,  989,    606.7,   4.8980,  34.3093,2,  34.3093,2,   -999.0,9,     75.7,2,    96.76,2,    36.92,2,     0.00,2,     2.68,2,    0.297,3,    0.165,2, -999.000,9,-999.0000,9,  -999.00,9,   -999.0,9,   -999,  -999.0,-999.000,-999.0000,-999.000,  -999.0,  4.8498,-999.000
    49RY9511_2,   P24,     2,  1,      5,  12809,2,19951116,1700, 31.0498, 131.5950,  989,    706.6,   4.3657,  34.3405,2,  34.3394,2,   -999.0,9,     70.1,2,   106.15,2,    38.21,2,     0.00,2,     2.78,2,    0.204,3,    0.124,2, -999.000,9,-999.0000,9,  -999.00,9,   -999.0,9,   -999,  -999.0,-999.000,-999.0000,-999.000,  -999.0,  4.3119,-999.000
    49RY9511_2,   P24,     2,  1,      4,  12817,2,19951116,1700, 31.0498, 131.5950,  989,    807.0,   3.7710,  34.3894,2,  34.3887,2,   -999.0,9,     65.0,2,   117.36,2,    39.37,2,     0.00,2,     2.86,2,    0.103,3,    0.062,2, -999.000,9,-999.0000,9,  -999.00,9,   -999.0,9,   -999,  -999.0,-999.000,-999.0000,-999.000,  -999.0,  3.7127,-999.000
    49RY9511_2,   P24,     2,  1,      3,  12808,2,19951116,1700, 31.0498, 131.5950,  989,    906.4,   3.4181,  34.4234,2,  34.4212,2,   -999.0,9,   -999.0,5,   123.45,2,    39.96,2,     0.00,2,     2.91,2, -999.000,9, -999.000,9, -999.000,9,-999.0000,9,  -999.00,9,   -999.0,9,   -999,  -999.0,   3.424,-999.0000,-999.000,   898.0,  3.3544,-999.000
    49RY9511_2,   P24,     2,  1,      2,  12914,2,19951116,1700, 31.0498, 131.5950,  989,    968.5,   3.3015,  34.4366,2,  34.4357,2,   -999.0,9,     67.1,6,   125.55,2,    39.89,2,     0.00,2,     2.90,2, -999.000,9, -999.000,9, -999.000,9,-999.0000,9,  -999.00,9,   -999.0,9,   -999,  -999.0,-999.000,-999.0000,-999.000,  -999.0,  3.2338,-999.000
    49RY9511_2,   P24,     2,  1,      1,  12807,2,19951116,1700, 31.0498, 131.5950,  989,    976.1,   3.2954,  34.4382,2,  34.4343,2,   -999.0,9,     65.9,6,   125.78,2,    39.88,2,     0.00,2,     2.91,2,    0.036,3,    0.035,2, -999.000,9,-999.0000,9,  -999.00,9,   -999.0,9,   -999,  -999.0,-999.000,-999.0000,-999.000,  -999.0,  3.2272,-999.000
    49RY9511_2,   P24,     3,  1,     21,  12827,2,19951116,2144, 30.8125, 131.7268, 1629,      6.2,  24.2402,  34.7384,2,  34.7426,2,   -999.0,9,    210.0,2,     1.58,2,     0.01,2,     0.00,2,     0.02,2, -999.000,9, -999.000,9, -999.000,9,-999.0000,9,  -999.00,9,   -999.0,9,   -999,  -999.0,-999.000,-999.0000,-999.000,  -999.0, 24.2389,-999.000
    49RY9511_2,   P24,     3,  1,     20,  12826,2,19951116,2144, 30.8125, 131.7268, 1629,     25.0,  24.2558,  34.7403,2,  34.7412,2,   -999.0,9,    207.4,2,     1.45,2,     0.04,2,     0.01,2,     0.03,2, -999.000,9, -999.000,9, -999.000,9,-999.0000,9,  -999.00,9,   -999.0,9,   -999,  -999.0,-999.000,-999.0000,-999.000,  -999.0, 24.2506,-999.000
    49RY9511_2,   P24,     3,  1,     18,  12824,2,19951116,2144, 30.8125, 131.7268, 1629,     50.2,  24.2469,  34.7433,2,  34.7461,2,   -999.0,9,    206.9,2,     1.55,2,     0.00,2,     0.00,2,     0.03,2, -999.000,9, -999.000,9, -999.000,9,-999.0000,9,  -999.00,9,   -999.0,9,   -999,  -999.0,-999.000,-999.0000,-999.000,  -999.0, 24.2363,-999.000
    49RY9511_2,   P24,     3,  1,     19,  12825,2,19951116,2144, 30.8125, 131.7268, 1629,     50.6,  24.2475,  34.7422,2,  34.7455,2,   -999.0,9,    208.4,2,     1.53,2,     0.00,2,     0.01,2,     0.03,2, -999.000,9, -999.000,9, -999.000,9,-999.0000,9,  -999.00,9,   -999.0,9,   -999,  -999.0,-999.000,-999.0000,-999.000,  -999.0, 24.2368,-999.000
    49RY9511_2,   P24,     3,  1,     17,  12814,2,19951116,2144, 30.8125, 131.7268, 1629,     75.1,  24.2365,  34.7478,2,  34.7534,2,   -999.0,9,    210.8,2,     1.69,2,     0.06,2,     0.01,2,     0.04,2, -999.000,9, -999.000,9, -999.000,9,-999.0000,9,  -999.00,9,   -999.0,9,   -999,  -999.0,-999.000,-999.0000,-999.000,  -999.0, 24.2206,-999.000
    49RY9511_2,   P24,     3,  1,     16,  12823,2,19951116,2144, 30.8125, 131.7268, 1629,    101.1,  23.8154,  34.7907,2,  34.7987,3,   -999.0,9,    202.3,2,     1.80,2,     0.62,2,     0.11,2,     0.08,2, -999.000,9, -999.000,9, -999.000,9,-999.0000,9,  -999.00,9,   -999.0,9,   -999,  -999.0,-999.000,-999.0000,-999.000,  -999.0, 23.7942,-999.000
    49RY9511_2,   P24,     3,  1,     15,  12813,2,19951116,2144, 30.8125, 131.7268, 1629,    150.8,  20.3653,  34.8805,2,  34.8895,3,   -999.0,9,    197.0,2,     3.02,2,     2.93,2,     0.02,2,     0.24,2, -999.000,9, -999.000,9, -999.000,9,-999.0000,9,  -999.00,9,   -999.0,9,   -999,  -999.0,-999.000,-999.0000,-999.000,  -999.0, 20.3371,-999.000
    49RY9511_2,   P24,     3,  1,     14,  12822,2,19951116,2144, 30.8125, 131.7268, 1629,    202.6,  18.5589,  34.8513,2,  34.8526,2,   -999.0,9,    194.5,2,     4.49,2,     4.43,2,     0.01,2,     0.33,2, -999.000,9, -999.000,9, -999.000,9,-999.0000,9,  -999.00,9,   -999.0,9,   -999,  -999.0,-999.000,-999.0000,-999.000,  -999.0, 18.5233,-999.000
    49RY9511_2,   P24,     3,  1,     13,  12812,2,19951116,2144, 30.8125, 131.7268, 1629,    301.6,  15.2411,  34.6222,2,  34.6369,3,   -999.0,9,    185.4,6,    10.03,6,     9.85,6,     0.00,6,     0.68,6, -999.000,9, -999.000,9, -999.000,9,-999.0000,9,  -999.00,9,   -999.0,9,   -999,  -999.0,-999.000,-999.0000,-999.000,  -999.0, 15.1949,-999.000
    49RY9511_2,   P24,     3,  1,     12,  12821,2,19951116,2144, 30.8125, 131.7268, 1629,    402.4,  11.5448,  34.4178,2,  34.4029,3,   -999.0,9,    161.2,2,    26.92,2,    18.15,2,     0.00,2,     1.28,2, -999.000,9, -999.000,9, -999.000,9,-999.0000,9,  -999.00,9,   -999.0,9,   -999,  -999.0,-999.000,-999.0000,-999.000,  -999.0, 11.4935,-999.000
    49RY9511_2,   P24,     3,  1,     11,  12811,2,19951116,2144, 30.8125, 131.7268, 1629,    501.3,   8.3919,  34.2498,2,  34.2402,3,   -999.0,9,    134.0,2,    47.58,2,    26.22,2,     0.00,2,     1.87,2, -999.000,9, -999.000,9, -999.000,9,-999.0000,9,  -999.00,9,   -999.0,9,   -999,  -999.0,-999.000,-999.0000,-999.000,  -999.0,  8.3392,-999.000
    49RY9511_2,   P24,     3,  1,     10,  12820,2,19951116,2144, 30.8125, 131.7268, 1629,    604.2,   5.8913,  34.2242,2,  34.2259,2,   -999.0,9,     92.9,2,    77.27,2,    34.14,2,     0.00,2,     2.45,2, -999.000,9, -999.000,9, -999.000,9,-999.0000,9,  -999.00,9,   -999.0,9,   -999,  -999.0,-999.000,-999.0000,-999.000,  -999.0,  5.8388,-999.000
    49RY9511_2,   P24,     3,  1,      9,  12810,2,19951116,2144, 30.8125, 131.7268, 1629,    704.8,   4.7142,  34.2296,2,  34.2314,2,   -999.0,9,     75.1,2,    95.55,2,    37.51,2,     0.00,2,     2.70,2, -999.000,9, -999.000,9, -999.000,9,-999.0000,9,  -999.00,9,   -999.0,9,   -999,  -999.0,-999.000,-999.0000,-999.000,  -999.0,  4.6589,-999.000
    49RY9511_2,   P24,     3,  1,      8,  12819,2,19951116,2144, 30.8125, 131.7268, 1629,    806.5,   4.2226,  34.3369,2,  34.3374,2,   -999.0,9,     61.5,2,   106.73,2,    39.41,2,     0.00,2,     2.85,2, -999.000,9, -999.000,9, -999.000,9,-999.0000,9,  -999.00,9,   -999.0,9,   -999,  -999.0,-999.000,-999.0000,-999.000,  -999.0,  4.1616,-999.000
    49RY9511_2,   P24,     3,  1,      7,  12815,2,19951116,2144, 30.8125, 131.7268, 1629,    907.2,   3.8189,  34.3884,2,  34.3883,2,   -999.0,9,     63.3,2,   115.44,2,    39.95,2,     0.00,2,     2.87,2, -999.000,9, -999.000,9, -999.000,9,-999.0000,9,  -999.00,9,   -999.0,9,   -999,  -999.0,-999.000,-999.0000,-999.000,  -999.0,  3.7523,-999.000
    49RY9511_2,   P24,     3,  1,      6,  12818,2,19951116,2144, 30.8125, 131.7268, 1629,   1009.6,   3.5156,  34.4236,2,  34.4225,2,   -999.0,9,     65.3,2,   121.64,2,    40.05,2,     0.00,2,     2.89,2, -999.000,9, -999.000,9, -999.000,9,-999.0000,9,  -999.00,9,   -999.0,9,   -999,  -999.0,-999.000,-999.0000,-999.000,  -999.0,  3.4431,-999.000
    49RY9511_2,   P24,     3,  1,      5,  12809,2,19951116,2144, 30.8125, 131.7268, 1629,   1262.7,   2.9031,  34.4862,2,  34.4852,2,   -999.0,9,     73.6,2,   133.04,2,    40.06,2,     0.00,2,     2.88,2, -999.000,9, -999.000,9, -999.000,9,-999.0000,9,  -999.00,9,   -999.0,9,   -999,  -999.0,-999.000,-999.0000,-999.000,  -999.0,  2.8157,-999.000
    49RY9511_2,   P24,     3,  1,      4,  12817,2,19951116,2144, 30.8125, 131.7268, 1629,   1515.1,   2.5874,  34.5279,2,  34.5265,2,   -999.0,9,     84.5,2,   137.42,2,    39.66,2,     0.00,2,     2.85,2, -999.000,9, -999.000,9, -999.000,9,-999.0000,9,  -999.00,9,   -999.0,9,   -999,  -999.0,-999.000,-999.0000,-999.000,  -999.0,  2.4832,-999.000
    49RY9511_2,   P24,     3,  1,      3,  12808,2,19951116,2144, 30.8125, 131.7268, 1629,   1652.9,   2.4089,  34.5515,2,  34.5478,3,   -999.0,9,     89.4,6,   139.61,2,    39.48,2,     0.00,2,     2.82,2, -999.000,9, -999.000,9, -999.000,9,-999.0000,9,  -999.00,9,   -999.0,9,   -999,  -999.0,-999.000,-999.0000,-999.000,  -999.0,  2.2956,-999.000
    49RY9511_2,   P24,     3,  1,      2,  12914,2,19951116,2144, 30.8125, 131.7268, 1629,   1653.6,   2.4210,  34.5502,2,  34.5492,2,   -999.0,9,     90.8,6,   139.70,2,    39.47,2,     0.01,2,     2.85,2, -999.000,9, -999.000,9, -999.000,9,-999.0000,9,  -999.00,9,   -999.0,9,   -999,  -999.0,-999.000,-999.0000,-999.000,  -999.0,  2.3076,-999.000
    49RY9511_2,   P24,     3,  1,      1,  12807,2,19951116,2144, 30.8125, 131.7268, 1629,   1653.8,   2.4139,  34.5519,2,  34.5497,2,   -999.0,9,   -999.0,9,  -999.00,9,  -999.00,9,  -999.00,9,  -999.00,9, -999.000,9, -999.000,9, -999.000,9,-999.0000,9,  -999.00,9,   -999.0,9,   -999,  -999.0,-999.000,-999.0000,-999.000,  -999.0,  2.3006,-999.000