BOTTLE,20030404WHPSIOdm
EXPOCODE,SECT_ID,STNNBR,CASTNO,SAMPNO,BTLNBR,BTLNBR_FLAG_W,DATE,TIME,LATITUDE,LONGITUDE,DEPTH,CTDPRS,CTDTMP,CTDSAL,CTDSAL_FLAG_W,SALNTY,SALNTY_FLAG_W,CTDOXY,CTDOXY_FLAG_W,OXYGEN,OXYGEN_FLAG_W,SILCAT,SILCAT_FLAG_W,NITRAT,NITRAT_FLAG_W,NITRIT,NITRIT_FLAG_W,PHSPHT,PHSPHT_FLAG_W,CFC-11,CFC-11_FLAG_W,CFC-12,CFC-12_FLAG_W,TRITUM,TRITUM_FLAG_W,HELIUM,HELIUM_FLAG_W,DELHE3,DELHE3_FLAG_W,DELC14,DELC14_FLAG_W,CTDRAW,C14ERR,REVTMP,HELIER,DELHER,REVPRS,THETA,TRITER
,,,,,,,,,,,,DBAR,ITS-90,PSS-78,,PSS-78,,UMOL/KG,,UMOL/KG,,UMOL/KG,,UMOL/KG,,UMOL/KG,,UMOL/KG,,PMOL/KG,,PMOL/KG,,TU,,NMOL/KG,,PERCNT,,/MILLE,,,/MILLE,ITS-90,NMOL/KG,PERCNT,DBAR,DEG C,TU
    49RY9511_2,   P24,    19,  2,     13,  12812,2,19951121,1753, 25.9938, 134.5762, 4930,      5.4,  25.1040,  34.8061,2,  34.8040,2,   -999.0,9,    206.7,2,     1.45,2,     0.05,2,     0.00,2,     0.02,2, -999.000,9, -999.000,9, -999.000,9,-999.0000,9,  -999.00,9,   -999.0,9,   -999,  -999.0,-999.000,-999.0000,-999.000,     9.0, 25.1028,-999.000
    49RY9511_2,   P24,    19,  2,     12,  12821,2,19951121,1753, 25.9938, 134.5762, 4930,     25.2,  25.1229,  34.8027,2,  34.8026,2,   -999.0,9,    207.2,6,     1.45,6,     0.09,6,     0.00,6,     0.01,6, -999.000,9, -999.000,9, -999.000,9,-999.0000,9,  -999.00,9,   -999.0,9,   -999,  -999.0,-999.000,-999.0000,-999.000,  -999.0, 25.1175,-999.000
    49RY9511_2,   P24,    19,  2,     11,  12811,2,19951121,1753, 25.9938, 134.5762, 4930,     50.8,  25.1267,  34.8043,2,  34.8026,2,   -999.0,9,    206.9,2,     1.48,2,     0.05,2,     0.00,2,     0.02,2, -999.000,9, -999.000,9, -999.000,9,-999.0000,9,  -999.00,9,   -999.0,9,   -999,  -999.0,-999.000,-999.0000,-999.000,  -999.0, 25.1157,-999.000
    49RY9511_2,   P24,    19,  2,     10,  12820,2,19951121,1753, 25.9938, 134.5762, 4930,     74.9,  24.9069,  34.7964,2,  34.8325,3,   -999.0,9,    211.3,2,     1.38,2,     0.04,2,     0.00,2,     0.02,2, -999.000,9, -999.000,9, -999.000,9,-999.0000,9,  -999.00,9,   -999.0,9,   -999,  -999.0,-999.000,-999.0000,-999.000,  -999.0, 24.8908,-999.000
    49RY9511_2,   P24,    19,  2,      9,  12810,2,19951121,1753, 25.9938, 134.5762, 4930,    101.0,  21.1070,  34.9432,2,  34.9472,2,   -999.0,9,    210.4,2,     1.85,2,     0.08,2,     0.06,2,     0.06,2, -999.000,9, -999.000,9, -999.000,9,-999.0000,9,  -999.00,9,   -999.0,9,   -999,  -999.0,-999.000,-999.0000,-999.000,    95.0, 21.0876,-999.000
    49RY9511_2,   P24,    19,  2,      8,  12819,2,19951121,1753, 25.9938, 134.5762, 4930,    149.8,  19.2983,  34.9450,2,  34.9375,3,   -999.0,9,    200.4,2,     2.62,2,     2.22,2,     0.02,2,     0.19,2, -999.000,9, -999.000,9, -999.000,9,-999.0000,9,  -999.00,9,   -999.0,9,   -999,  -999.0,-999.000,-999.0000,-999.000,  -999.0, 19.2713,-999.000
    49RY9511_2,   P24,    19,  2,      7,  12815,2,19951121,1753, 25.9938, 134.5762, 4930,    202.5,  18.0120,  34.8674,2,  34.8686,2,   -999.0,9,    202.4,2,     3.56,2,     3.75,2,     0.01,2,     0.28,2, -999.000,9, -999.000,9, -999.000,9,-999.0000,9,  -999.00,9,   -999.0,9,   -999,  -999.0,-999.000,-999.0000,-999.000,  -999.0, 17.9772,-999.000
    49RY9511_2,   P24,    19,  2,      6,  12818,2,19951121,1753, 25.9938, 134.5762, 4930,    303.2,  16.2745,  34.7314,2,  34.7296,2,   -999.0,9,    196.3,2,     6.86,2,     7.24,2,     0.00,2,     0.50,2, -999.000,9, -999.000,9, -999.000,9,-999.0000,9,  -999.00,9,   -999.0,9,   -999,  -999.0,-999.000,-999.0000,-999.000,  -999.0, 16.2259,-999.000
    49RY9511_2,   P24,    19,  2,      5,  12809,2,19951121,1753, 25.9938, 134.5762, 4930,    402.2,  13.7454,  34.5258,2,  34.5232,2,   -999.0,9,    182.0,2,    14.94,2,    12.71,2,     0.00,2,     0.88,2, -999.000,9, -999.000,9, -999.000,9,-999.0000,9,  -999.00,9,   -999.0,9,   -999,  -999.0,-999.000,-999.0000,-999.000,  -999.0, 13.6878,-999.000
    49RY9511_2,   P24,    19,  2,      4,  12817,2,19951121,1753, 25.9938, 134.5762, 4930,    502.5,  10.9169,  34.3391,2,  34.3400,2,   -999.0,9,    165.7,2,    28.04,2,    18.98,2,     0.00,2,     1.33,2, -999.000,9, -999.000,9, -999.000,9,-999.0000,9,  -999.00,9,   -999.0,9,   -999,  -999.0,-999.000,-999.0000,-999.000,  -999.0, 10.8548,-999.000
    49RY9511_2,   P24,    19,  2,      3,  12808,2,19951121,1753, 25.9938, 134.5762, 4930,    604.6,   8.0581,  34.1795,2,  34.1913,3,   -999.0,9,    141.1,2,    48.35,2,    26.25,2,     0.00,2,     1.90,2, -999.000,9, -999.000,9, -999.000,9,-999.0000,9,  -999.00,9,   -999.0,9,   -999,  -999.0,   8.092,-999.0000,-999.000,   603.0,  7.9958,-999.000
    49RY9511_2,   P24,    19,  2,      2,  12914,2,19951121,1753, 25.9938, 134.5762, 4930,    707.3,   6.1423,  34.1846,2,  34.1746,2,   -999.0,9,    106.0,2,    72.23,2,    32.59,2,     0.00,2,     2.35,2, -999.000,9, -999.000,9, -999.000,9,-999.0000,9,  -999.00,9,   -999.0,9,   -999,  -999.0,-999.000,-999.0000,-999.000,  -999.0,  6.0790,-999.000
    49RY9511_2,   P24,    19,  2,      1,  12807,2,19951121,1753, 25.9938, 134.5762, 4930,    707.3,   6.1906,  34.1794,2,  34.1744,2,   -999.0,9,    105.8,2,    71.88,2,    32.50,2,     0.00,2,     2.33,2, -999.000,9, -999.000,9, -999.000,9,-999.0000,9,  -999.00,9,   -999.0,9,   -999,  -999.0,-999.000,-999.0000,-999.000,  -999.0,  6.1271,-999.000
    49RY9511_2,   P24,    20,  1,     13,  12812,2,19951121,2119, 25.7297, 134.7243, 3424,    807.8,   4.9774,  34.2019,2,  34.2015,2,   -999.0,9,     78.7,2,    90.09,2,    36.81,2,     0.00,2,     2.68,2,    0.566,3,    0.246,3, -999.000,9,-999.0000,9,  -999.00,9,   -999.0,9,   -999,  -999.0,-999.000,-999.0000,-999.000,   805.0,  4.9117,-999.000
    49RY9511_2,   P24,    20,  1,     11,  12811,2,19951121,2119, 25.7297, 134.7243, 3424,    908.5,   4.2899,  34.2801,2,  34.2809,2,   -999.0,9,     63.5,6,   105.09,6,    39.08,6,     0.00,6,     2.85,6, -999.000,9, -999.000,9, -999.000,9,-999.0000,9,  -999.00,9,   -999.0,9,   -999,  -999.0,-999.000,-999.0000,-999.000,  -999.0,  4.2201,-999.000
    49RY9511_2,   P24,    20,  1,     12,  12821,2,19951121,2119, 25.7297, 134.7243, 3424,    909.8,   4.2857,  34.2818,2,  34.2817,2,   -999.0,9,     63.3,6,   105.40,6,    39.12,6,     0.00,6,     2.86,6, -999.000,9, -999.000,9, -999.000,9,-999.0000,9,  -999.00,9,   -999.0,9,   -999,  -999.0,-999.000,-999.0000,-999.000,  -999.0,  4.2158,-999.000
    49RY9511_2,   P24,    20,  1,     10,  12820,2,19951121,2119, 25.7297, 134.7243, 3424,   1009.1,   3.8758,  34.3469,2,  34.3475,2,   -999.0,9,     57.7,2,   114.75,2,    40.12,2,     0.00,2,     2.92,2,    0.132,2,    0.066,2, -999.000,9,-999.0000,9,  -999.00,9,   -999.0,9,   -999,  -999.0,-999.000,-999.0000,-999.000,  -999.0,  3.8007,-999.000
    49RY9511_2,   P24,    20,  1,      9,  12810,2,19951121,2119, 25.7297, 134.7243, 3424,   1263.6,   2.9810,  34.4642,2,  34.4648,2,   -999.0,9,     65.0,2,   133.34,2,    40.54,2,     0.00,2,     2.94,2,    0.039,2,    0.016,2, -999.000,9,-999.0000,9,  -999.00,9,   -999.0,9,   -999,  -999.0,-999.000,-999.0000,-999.000,  1262.0,  2.8929,-999.000
    49RY9511_2,   P24,    20,  1,      8,  12819,2,19951121,2119, 25.7297, 134.7243, 3424,   1516.2,   2.4742,  34.5353,2,  34.5362,2,   -999.0,9,     85.8,2,   139.93,2,    39.78,2,     0.00,2,     2.87,2,    0.018,2,    0.016,2, -999.000,9,-999.0000,9,  -999.00,9,   -999.0,9,   -999,  -999.0,-999.000,-999.0000,-999.000,  -999.0,  2.3712,-999.000
    49RY9511_2,   P24,    20,  1,      7,  12815,2,19951121,2119, 25.7297, 134.7243, 3424,   1769.5,   2.1528,  34.5849,2,  34.5848,2,   -999.0,9,    102.6,2,   141.50,2,    38.69,2,     0.00,2,     2.78,2,    0.009,2,    0.011,2, -999.000,9,-999.0000,9,  -999.00,9,   -999.0,9,   -999,  -999.0,-999.000,-999.0000,-999.000,  -999.0,  2.0334,-999.000
    49RY9511_2,   P24,    20,  1,      6,  12818,2,19951121,2119, 25.7297, 134.7243, 3424,   2023.2,   1.9437,  34.6165,2,  34.6156,2,   -999.0,9,    116.6,2,   141.62,2,    37.98,2,     0.00,2,     2.72,2,    0.000,2,    0.000,2, -999.000,9,-999.0000,9,  -999.00,9,   -999.0,9,   -999,  -999.0,-999.000,-999.0000,-999.000,  -999.0,  1.8062,-999.000
    49RY9511_2,   P24,    20,  1,      5,  12809,2,19951121,2119, 25.7297, 134.7243, 3424,   2278.1,   1.8206,  34.6342,2,  34.6339,2,   -999.0,9,    125.7,2,   141.68,2,    37.44,2,     0.00,2,     2.67,2, -999.000,9, -999.000,9, -999.000,9,-999.0000,9,  -999.00,9,   -999.0,9,   -999,  -999.0,-999.000,-999.0000,-999.000,  -999.0,  1.6634,-999.000
    49RY9511_2,   P24,    20,  1,      4,  12817,2,19951121,2119, 25.7297, 134.7243, 3424,   2532.0,   1.7128,  34.6497,2,  34.6487,2,   -999.0,9,    132.7,2,   141.60,2,    37.16,2,     0.00,2,     2.63,2, -999.000,9, -999.000,9, -999.000,9,-999.0000,9,  -999.00,9,   -999.0,9,   -999,  -999.0,-999.000,-999.0000,-999.000,  -999.0,  1.5350,-999.000
    49RY9511_2,   P24,    20,  1,      3,  12808,2,19951121,2119, 25.7297, 134.7243, 3424,   2786.4,   1.6353,  34.6593,2,  34.6591,2,   -999.0,9,    139.8,2,   141.64,2,    36.82,2,     0.00,2,     2.60,2, -999.000,9, -999.000,9, -999.000,9,-999.0000,9,  -999.00,9,   -999.0,9,   -999,  -999.0,   1.631,-999.0000,-999.000,  2771.0,  1.4358,-999.000
    49RY9511_2,   P24,    20,  1,      2,  12914,2,19951121,2119, 25.7297, 134.7243, 3424,   3041.0,   1.6017,  34.6664,2,  34.6648,2,   -999.0,9,    144.0,2,   141.34,2,    36.51,2,     0.00,2,     2.58,2, -999.000,9, -999.000,9, -999.000,9,-999.0000,9,  -999.00,9,   -999.0,9,   -999,  -999.0,-999.000,-999.0000,-999.000,  -999.0,  1.3788,-999.000
    49RY9511_2,   P24,    20,  1,      1,  12807,2,19951121,2119, 25.7297, 134.7243, 3424,   3226.1,   1.5481,  34.6731,2,  34.6721,2,   -999.0,9,    148.8,6,   140.77,6,    36.26,6,     0.00,6,     2.55,6, -999.000,9, -999.000,9, -999.000,9,-999.0000,9,  -999.00,9,   -999.0,9,   -999,  -999.0,-999.000,-999.0000,-999.000,  -999.0,  1.3083,-999.000
    49RY9511_2,   P24,    20,  1,     24,  12830,2,19951121,2119, 25.7297, 134.7243, 3424,   3228.2,   1.5482,  34.6729,2,  34.6719,2,   -999.0,9,   -999.0,5,   140.80,6,    36.29,6,     0.00,6,     2.55,6, -999.000,9, -999.000,9, -999.000,9,-999.0000,9,  -999.00,9,   -999.0,9,   -999,  -999.0,-999.000,-999.0000,-999.000,  -999.0,  1.3083,-999.000
    49RY9511_2,   P24,    20,  2,     12,  12821,2,19951121,2324, 25.6935, 134.7190, 3816,      5.7,  25.1500,  34.7935,2,  34.7940,2,   -999.0,9,    206.5,2,     1.56,2,     0.00,2,     0.00,2,     0.02,2,    1.761,3,    1.123,2, -999.000,9,-999.0000,9,  -999.00,9,   -999.0,9,   -999,  -999.0,-999.000,-999.0000,-999.000,  -999.0, 25.1487,-999.000
    49RY9511_2,   P24,    20,  2,     11,  12811,2,19951121,2324, 25.6935, 134.7190, 3816,     26.1,  25.1510,  34.7939,2,  34.7926,2,   -999.0,9,    208.9,6,     1.48,6,     0.03,6,     0.00,6,     0.01,6,    1.726,3,    1.118,2, -999.000,9,-999.0000,9,  -999.00,9,   -999.0,9,   -999,  -999.0,-999.000,-999.0000,-999.000,  -999.0, 25.1454,-999.000
    49RY9511_2,   P24,    20,  2,     10,  12820,2,19951121,2324, 25.6935, 134.7190, 3816,     51.1,  25.1529,  34.7937,2,  34.7934,2,   -999.0,9,    208.8,2,     1.44,2,     0.00,2,     0.00,2,     0.03,2,    1.755,3,    1.128,2, -999.000,9,-999.0000,9,  -999.00,9,   -999.0,9,   -999,  -999.0,-999.000,-999.0000,-999.000,  -999.0, 25.1418,-999.000
    49RY9511_2,   P24,    20,  2,      9,  12810,2,19951121,2324, 25.6935, 134.7190, 3816,     76.4,  25.0997,  34.7989,2,  34.8310,3,   -999.0,9,    209.9,2,     1.60,2,     0.01,2,     0.00,2,     0.05,2, -999.000,9, -999.000,9, -999.000,9,-999.0000,9,  -999.00,9,   -999.0,9,   -999,  -999.0,-999.000,-999.0000,-999.000,    68.0, 25.0831,-999.000
    49RY9511_2,   P24,    20,  2,      8,  12819,2,19951121,2324, 25.6935, 134.7190, 3816,    100.9,  21.5008,  34.9210,2,  34.9233,2,   -999.0,9,    209.6,2,     1.96,2,     0.31,2,     0.09,2,     0.08,2,    2.157,2,    1.298,2, -999.000,9,-999.0000,9,  -999.00,9,   -999.0,9,   -999,  -999.0,-999.000,-999.0000,-999.000,  -999.0, 21.4812,-999.000
    49RY9511_2,   P24,    20,  2,      7,  12815,2,19951121,2324, 25.6935, 134.7190, 3816,    152.5,  19.0874,  34.8941,2,  34.8954,2,   -999.0,9,    204.5,2,     2.98,2,     2.71,2,     0.01,2,     0.21,2,    2.281,2,    1.357,2, -999.000,9,-999.0000,9,  -999.00,9,   -999.0,9,   -999,  -999.0,-999.000,-999.0000,-999.000,  -999.0, 19.0602,-999.000
    49RY9511_2,   P24,    20,  2,      6,  12818,2,19951121,2324, 25.6935, 134.7190, 3816,    202.8,  18.0004,  34.8642,2,  34.8666,2,   -999.0,9,    204.3,2,     3.75,2,     3.81,2,     0.00,2,     0.28,2,    2.385,6,    1.385,6, -999.000,9,-999.0000,9,  -999.00,9,   -999.0,9,   -999,  -999.0,-999.000,-999.0000,-999.000,  -999.0, 17.9656,-999.000
    49RY9511_2,   P24,    20,  2,      5,  12809,2,19951121,2324, 25.6935, 134.7190, 3816,    302.1,  16.2448,  34.7252,2,  34.7247,2,   -999.0,9,    194.7,2,     7.27,2,     7.42,2,     0.00,2,     0.51,2,    2.323,2,    1.334,2, -999.000,9,-999.0000,9,  -999.00,9,   -999.0,9,   -999,  -999.0,-999.000,-999.0000,-999.000,  -999.0, 16.1964,-999.000
    49RY9511_2,   P24,    20,  2,      4,  12817,2,19951121,2324, 25.6935, 134.7190, 3816,    403.4,  13.7000,  34.5172,2,  34.5163,2,   -999.0,9,    183.0,2,    14.57,2,    12.57,2,     0.00,2,     0.90,2,    2.068,2,    1.185,2, -999.000,9,-999.0000,9,  -999.00,9,   -999.0,9,   -999,  -999.0,-999.000,-999.0000,-999.000,  -999.0, 13.6423,-999.000
    49RY9511_2,   P24,    20,  2,      3,  12808,2,19951121,2324, 25.6935, 134.7190, 3816,    503.7,  11.0413,  34.3396,2,  34.3386,2,   -999.0,9,    168.0,2,    27.14,2,    18.59,2,     0.00,2,     1.33,2,    1.769,2,    1.006,2, -999.000,9,-999.0000,9,  -999.00,9,   -999.0,9,   -999,  -999.0,  11.041,-999.0000,-999.000,   503.0, 10.9786,-999.000
    49RY9511_2,   P24,    20,  2,      2,  12914,2,19951121,2324, 25.6935, 134.7190, 3816,    605.2,   8.5846,  34.2190,2,  34.2145,2,   -999.0,9,    146.1,2,    44.42,2,    24.91,2,     0.00,2,     1.80,2,    1.551,2,    0.754,2, -999.000,9,-999.0000,9,  -999.00,9,   -999.0,9,   -999,  -999.0,-999.000,-999.0000,-999.000,  -999.0,  8.5198,-999.000
    49RY9511_2,   P24,    20,  2,      1,  12807,2,19951121,2324, 25.6935, 134.7190, 3816,    708.0,   6.3563,  34.1475,2,  34.1499,2,   -999.0,9,    118.3,2,    67.62,2,    31.40,2,     0.00,2,     2.28,2,    1.051,2,    0.558,2, -999.000,9,-999.0000,9,  -999.00,9,   -999.0,9,   -999,  -999.0,-999.000,-999.0000,-999.000,  -999.0,  6.2919,-999.000