BOTTLE,20030404WHPSIOdm
EXPOCODE,SECT_ID,STNNBR,CASTNO,SAMPNO,BTLNBR,BTLNBR_FLAG_W,DATE,TIME,LATITUDE,LONGITUDE,DEPTH,CTDPRS,CTDTMP,CTDSAL,CTDSAL_FLAG_W,SALNTY,SALNTY_FLAG_W,CTDOXY,CTDOXY_FLAG_W,OXYGEN,OXYGEN_FLAG_W,SILCAT,SILCAT_FLAG_W,NITRAT,NITRAT_FLAG_W,NITRIT,NITRIT_FLAG_W,PHSPHT,PHSPHT_FLAG_W,CFC-11,CFC-11_FLAG_W,CFC-12,CFC-12_FLAG_W,TRITUM,TRITUM_FLAG_W,HELIUM,HELIUM_FLAG_W,DELHE3,DELHE3_FLAG_W,DELC14,DELC14_FLAG_W,CTDRAW,C14ERR,REVTMP,HELIER,DELHER,REVPRS,THETA,TRITER
,,,,,,,,,,,,DBAR,ITS-90,PSS-78,,PSS-78,,UMOL/KG,,UMOL/KG,,UMOL/KG,,UMOL/KG,,UMOL/KG,,UMOL/KG,,PMOL/KG,,PMOL/KG,,TU,,NMOL/KG,,PERCNT,,/MILLE,,,/MILLE,ITS-90,NMOL/KG,PERCNT,DBAR,DEG C,TU
    49RY9511_2,   P24,     4,  1,     22,  12828,2,19951117,0313, 30.5930, 131.8377, 2027,      6.2,  24.0474,  34.7719,2,  34.7729,2,   -999.0,9,    209.4,2,     1.52,2,     0.02,2,     0.01,2,     0.01,2,    1.916,2,    1.122,2, -999.000,9,-999.0000,9,  -999.00,9,   -999.0,9,   -999,  -999.0,-999.000,-999.0000,-999.000,  -999.0, 24.0461,-999.000
    49RY9511_2,   P24,     4,  1,     21,  12827,2,19951117,0313, 30.5930, 131.8377, 2027,     25.0,  24.0320,  34.7688,2,  34.7703,2,   -999.0,9,    211.2,2,     1.52,2,     0.00,2,     0.00,2,     0.01,2,    1.874,2,    1.117,2, -999.000,9,-999.0000,9,  -999.00,9,   -999.0,9,   -999,  -999.0,-999.000,-999.0000,-999.000,  -999.0, 24.0267,-999.000
    49RY9511_2,   P24,     4,  1,     20,  12826,2,19951117,0313, 30.5930, 131.8377, 2027,     49.4,  23.8610,  34.7506,2,  34.7528,2,   -999.0,9,    210.1,2,     1.41,2,     0.06,2,     0.01,2,     0.02,2,    1.863,6,    1.100,6, -999.000,9,-999.0000,9,  -999.00,9,   -999.0,9,   -999,  -999.0,-999.000,-999.0000,-999.000,  -999.0, 23.8507,-999.000
    49RY9511_2,   P24,     4,  1,     18,  12824,2,19951117,0313, 30.5930, 131.8377, 2027,     75.4,  23.7355,  34.7694,2,  34.7987,3,   -999.0,9,   -999.0,5,     1.63,2,     0.22,2,     0.05,2,     0.04,2, -999.000,9, -999.000,9, -999.000,9,-999.0000,9,  -999.00,9,   -999.0,9,   -999,  -999.0,-999.000,-999.0000,-999.000,  -999.0, 23.7198,-999.000
    49RY9511_2,   P24,     4,  1,     19,  12825,2,19951117,0313, 30.5930, 131.8377, 2027,     75.7,  23.7853,  34.7499,2,  34.7680,3,   -999.0,9,    208.8,2,     1.41,2,     0.08,2,     0.02,2,     0.03,2, -999.000,9, -999.000,9, -999.000,9,-999.0000,9,  -999.00,9,   -999.0,9,   -999,  -999.0,-999.000,-999.0000,-999.000,  -999.0, 23.7695,-999.000
    49RY9511_2,   P24,     4,  1,     17,  12814,2,19951117,0313, 30.5930, 131.8377, 2027,    100.8,  21.3736,  34.8890,2,  34.8938,2,   -999.0,9,    204.3,2,     1.99,2,     1.06,2,     0.07,2,     0.10,2,    2.113,2,    1.220,2, -999.000,9,-999.0000,9,  -999.00,9,   -999.0,9,   -999,  -999.0,-999.000,-999.0000,-999.000,  -999.0, 21.3541,-999.000
    49RY9511_2,   P24,     4,  1,     16,  12823,2,19951117,0313, 30.5930, 131.8377, 2027,    150.9,  19.7390,  34.9008,2,  34.9066,2,   -999.0,9,    199.0,2,     2.69,2,     2.44,2,     0.02,2,     0.18,2,    2.225,2,    1.260,2, -999.000,9,-999.0000,9,  -999.00,9,   -999.0,9,   -999,  -999.0,-999.000,-999.0000,-999.000,  -999.0, 19.7114,-999.000
    49RY9511_2,   P24,     4,  1,     15,  12813,2,19951117,0313, 30.5930, 131.8377, 2027,    200.4,  18.2466,  34.8783,2,  34.8796,2,   -999.0,9,    205.0,2,     3.29,2,     3.46,2,     0.01,2,     0.23,2,    2.322,6,    1.315,6, -999.000,9,-999.0000,9,  -999.00,9,   -999.0,9,   -999,  -999.0,-999.000,-999.0000,-999.000,  -999.0, 18.2119,-999.000
    49RY9511_2,   P24,     4,  1,     14,  12822,2,19951117,0313, 30.5930, 131.8377, 2027,    300.6,  16.2768,  34.7237,2,  34.7233,2,   -999.0,9,    191.2,2,     6.94,2,     7.59,2,     0.01,2,     0.51,2,    2.270,2,    1.231,2, -999.000,9,-999.0000,9,  -999.00,9,   -999.0,9,   -999,  -999.0,-999.000,-999.0000,-999.000,  -999.0, 16.2286,-999.000
    49RY9511_2,   P24,     4,  1,     13,  12812,2,19951117,0313, 30.5930, 131.8377, 2027,    401.4,  13.3685,  34.4948,2,  34.4929,2,   -999.0,9,    179.7,2,    15.85,2,    13.55,2,     0.00,2,     0.95,2,    2.046,2,    1.080,2, -999.000,9,-999.0000,9,  -999.00,9,   -999.0,9,   -999,  -999.0,-999.000,-999.0000,-999.000,   400.0, 13.3121,-999.000
    49RY9511_2,   P24,     4,  1,     12,  12821,2,19951117,0313, 30.5930, 131.8377, 2027,    503.4,  10.3050,  34.2872,2,  34.2940,2,   -999.0,9,    160.2,6,    30.08,6,    20.38,6,     0.00,6,     1.43,6,    1.639,2,    0.840,2, -999.000,9,-999.0000,9,  -999.00,9,   -999.0,9,   -999,  -999.0,-999.000,-999.0000,-999.000,  -999.0, 10.2451,-999.000
    49RY9511_2,   P24,     4,  1,     11,  12811,2,19951117,0313, 30.5930, 131.8377, 2027,    602.8,   7.8092,  34.1884,2,  34.1909,2,   -999.0,9,    131.2,2,    50.39,2,    27.44,2,     0.00,2,     1.99,2,    1.141,2,    0.582,2, -999.000,9,-999.0000,9,  -999.00,9,   -999.0,9,   -999,  -999.0,-999.000,-999.0000,-999.000,  -999.0,  7.7482,-999.000
    49RY9511_2,   P24,     4,  1,     10,  12820,2,19951117,0313, 30.5930, 131.8377, 2027,    704.6,   5.8136,  34.1621,2,  34.1587,2,   -999.0,9,    102.5,2,    75.14,2,    33.34,2,     0.00,2,     2.44,2,    0.825,2,    0.407,2, -999.000,9,-999.0000,9,  -999.00,9,   -999.0,9,   -999,  -999.0,-999.000,-999.0000,-999.000,  -999.0,  5.7524,-999.000
    49RY9511_2,   P24,     4,  1,      9,  12810,2,19951117,0313, 30.5930, 131.8377, 2027,    805.3,   4.8263,  34.2277,2,  34.2293,6,   -999.0,9,     77.0,2,    93.86,2,    37.05,2,     0.00,2,     2.73,2,    0.425,6,    0.218,6, -999.000,9,-999.0000,9,  -999.00,9,   -999.0,9,   -999,  -999.0,-999.000,-999.0000,-999.000,   803.0,  4.7617,-999.000
    49RY9511_2,   P24,     4,  1,      8,  12819,2,19951117,0313, 30.5930, 131.8377, 2027,    907.8,   4.3136,  34.2995,2,  34.3003,2,   -999.0,9,     65.8,2,   105.45,2,    38.70,2,     0.00,2,     2.86,2, -999.000,9, -999.000,9, -999.000,9,-999.0000,9,  -999.00,9,   -999.0,9,   -999,  -999.0,-999.000,-999.0000,-999.000,  -999.0,  4.2437,-999.000
    49RY9511_2,   P24,     4,  1,      7,  12815,2,19951117,0313, 30.5930, 131.8377, 2027,   1008.7,   3.7961,  34.3905,2,  34.3905,2,   -999.0,9,     64.8,2,   116.74,2,    39.52,2,     0.00,2,     2.91,2,    0.082,2,    0.046,2, -999.000,9,-999.0000,9,  -999.00,9,   -999.0,9,   -999,  -999.0,-999.000,-999.0000,-999.000,  -999.0,  3.7215,-999.000
    49RY9511_2,   P24,     4,  1,      6,  12818,2,19951117,0313, 30.5930, 131.8377, 2027,   1260.6,   2.9742,  34.4778,2,  34.4782,6,   -999.0,9,     72.3,2,   131.62,2,    39.99,2,     0.00,2,     2.93,2,    0.013,2,    0.013,2, -999.000,9,-999.0000,9,  -999.00,9,   -999.0,9,   -999,  -999.0,-999.000,-999.0000,-999.000,  -999.0,  2.8863,-999.000
    49RY9511_2,   P24,     4,  1,      5,  12809,2,19951117,0313, 30.5930, 131.8377, 2027,   1513.8,   2.6069,  34.5232,2,-999.0000,9,   -999.0,9,     84.2,2,   137.23,2,    39.62,2,     0.00,2,     2.90,2,    0.001,2,    0.002,2, -999.000,9,-999.0000,9,  -999.00,9,   -999.0,9,   -999,  -999.0,-999.000,-999.0000,-999.000,  -999.0,  2.5026,-999.000
    49RY9511_2,   P24,     4,  1,      4,  12817,2,19951117,0313, 30.5930, 131.8377, 2027,   1768.7,   2.2533,  34.5701,2,  34.5713,6,   -999.0,9,     96.3,2,   140.68,2,    39.06,2,     0.00,2,     2.84,2,    0.000,2,    0.009,2, -999.000,9,-999.0000,9,  -999.00,9,   -999.0,9,   -999,  -999.0,-999.000,-999.0000,-999.000,  -999.0,  2.1326,-999.000
    49RY9511_2,   P24,     4,  1,      1,  12807,2,19951117,0313, 30.5930, 131.8377, 2027,   2057.6,   2.0563,  34.5994,2,  34.5992,6,   -999.0,9,    107.3,6,   141.82,6,    38.39,6,     0.00,6,     2.87,6, -999.000,9, -999.000,9, -999.000,9,-999.0000,9,  -999.00,9,   -999.0,9,   -999,  -999.0,-999.000,-999.0000,-999.000,  -999.0,  1.9142,-999.000
    49RY9511_2,   P24,     4,  1,      3,  12808,2,19951117,0313, 30.5930, 131.8377, 2027,   2057.7,   2.0577,  34.5996,2,  34.5651,4,   -999.0,9,   -999.0,9,  -999.00,9,  -999.00,9,  -999.00,9,  -999.00,9, -999.000,9, -999.000,9, -999.000,9,-999.0000,9,  -999.00,9,   -999.0,9,   -999,  -999.0,   2.056,-999.0000,-999.000,  2043.0,  1.9157,-999.000
    49RY9511_2,   P24,     4,  1,      2,  12914,2,19951117,0313, 30.5930, 131.8377, 2027,   2058.0,   2.0582,  34.5984,2,  34.5991,2,   -999.0,9,    107.8,6,   141.75,6,    38.45,6,     0.00,6,     2.78,6, -999.000,9, -999.000,9, -999.000,9,-999.0000,9,  -999.00,9,   -999.0,9,   -999,  -999.0,-999.000,-999.0000,-999.000,  -999.0,  1.9161,-999.000
    49RY9511_2,   P24,     5,  1,     23,  12829,2,19951117,0643, 30.3563, 131.9820, 2824,      4.5,  23.8481,  34.7838,2,  34.7847,2,   -999.0,9,    210.7,2,     1.52,2,     0.01,2,     0.00,2,     0.02,2, -999.000,9, -999.000,9, -999.000,9,-999.0000,9,  -999.00,9,   -999.0,9,   -999,  -999.0,-999.000,-999.0000,-999.000,  -999.0, 23.8472,-999.000
    49RY9511_2,   P24,     5,  1,     22,  12828,2,19951117,0643, 30.3563, 131.9820, 2824,     25.6,  23.8585,  34.7809,2,  34.7849,2,   -999.0,9,    210.6,2,     1.49,2,     0.08,2,     0.00,2,     0.03,2, -999.000,9, -999.000,9, -999.000,9,-999.0000,9,  -999.00,9,   -999.0,9,   -999,  -999.0,-999.000,-999.0000,-999.000,  -999.0, 23.8532,-999.000
    49RY9511_2,   P24,     5,  1,     21,  12827,2,19951117,0643, 30.3563, 131.9820, 2824,     51.6,  23.8608,  34.7796,2,  34.7849,2,   -999.0,9,    211.4,2,     1.54,2,     0.04,2,     0.00,2,     0.03,2, -999.000,9, -999.000,9, -999.000,9,-999.0000,9,  -999.00,9,   -999.0,9,   -999,  -999.0,-999.000,-999.0000,-999.000,  -999.0, 23.8500,-999.000
    49RY9511_2,   P24,     5,  1,     20,  12826,2,19951117,0643, 30.3563, 131.9820, 2824,     75.1,  23.2773,  34.8170,2,  34.8325,3,   -999.0,9,    217.3,2,     1.76,2,     0.19,2,     0.01,2,     0.05,2, -999.000,9, -999.000,9, -999.000,9,-999.0000,9,  -999.00,9,   -999.0,9,   -999,  -999.0,-999.000,-999.0000,-999.000,  -999.0, 23.2618,-999.000
    49RY9511_2,   P24,     5,  1,     19,  12825,2,19951117,0643, 30.3563, 131.9820, 2824,    100.4,  20.8024,  34.9013,2,  34.9011,3,   -999.0,9,    206.1,2,     2.41,2,     0.80,2,     0.09,2,     0.10,2, -999.000,9, -999.000,9, -999.000,9,-999.0000,9,  -999.00,9,   -999.0,9,   -999,  -999.0,-999.000,-999.0000,-999.000,  -999.0, 20.7834,-999.000
    49RY9511_2,   P24,     5,  1,     18,  12824,2,19951117,0643, 30.3563, 131.9820, 2824,    150.2,  19.2209,  34.9030,2,  34.9054,2,   -999.0,9,    204.4,2,     2.67,6,     2.40,6,     0.02,6,     0.19,6, -999.000,9, -999.000,9, -999.000,9,-999.0000,9,  -999.00,9,   -999.0,9,   -999,  -999.0,-999.000,-999.0000,-999.000,  -999.0, 19.1939,-999.000
    49RY9511_2,   P24,     5,  1,     17,  12814,2,19951117,0643, 30.3563, 131.9820, 2824,    201.3,  18.1145,  34.8670,2,  34.8698,2,   -999.0,9,    204.9,2,     3.48,2,     3.78,2,     0.01,2,     0.27,2, -999.000,9, -999.000,9, -999.000,9,-999.0000,9,  -999.00,9,   -999.0,9,   -999,  -999.0,-999.000,-999.0000,-999.000,  -999.0, 18.0798,-999.000
    49RY9511_2,   P24,     5,  1,     16,  12823,2,19951117,0643, 30.3563, 131.9820, 2824,    301.3,  16.9336,  34.7904,2,  34.7912,2,   -999.0,9,    202.7,2,     5.39,2,     5.68,2,     0.00,2,     0.39,2, -999.000,9, -999.000,9, -999.000,9,-999.0000,9,  -999.00,9,   -999.0,9,   -999,  -999.0,-999.000,-999.0000,-999.000,  -999.0, 16.8839,-999.000
    49RY9511_2,   P24,     5,  1,     15,  12813,2,19951117,0643, 30.3563, 131.9820, 2824,    402.2,  14.7190,  34.5940,2,  34.5979,2,   -999.0,9,    185.3,2,    11.75,2,    10.80,2,     0.00,2,     0.73,2, -999.000,9, -999.000,9, -999.000,9,-999.0000,9,  -999.00,9,   -999.0,9,   -999,  -999.0,-999.000,-999.0000,-999.000,  -999.0, 14.6587,-999.000
    49RY9511_2,   P24,     5,  1,     14,  12822,2,19951117,0643, 30.3563, 131.9820, 2824,    502.5,  11.8889,  34.3938,2,  34.3925,2,   -999.0,9,    175.5,2,    22.71,2,    16.53,2,     0.00,2,     1.15,2, -999.000,9, -999.000,9, -999.000,9,-999.0000,9,  -999.00,9,   -999.0,9,   -999,  -999.0,-999.000,-999.0000,-999.000,  -999.0, 11.8233,-999.000
    49RY9511_2,   P24,     5,  1,     13,  12812,2,19951117,0643, 30.3563, 131.9820, 2824,    603.6,   9.4673,  34.2419,2,  34.2449,2,   -999.0,9,    156.2,2,    36.34,2,    22.43,2,     0.00,2,     1.59,2, -999.000,9, -999.000,9, -999.000,9,-999.0000,9,  -999.00,9,   -999.0,9,   -999,  -999.0,-999.000,-999.0000,-999.000,  -999.0,  9.3988,-999.000
    49RY9511_2,   P24,     5,  1,     12,  12821,2,19951117,0643, 30.3563, 131.9820, 2824,    704.9,   7.2666,  34.1487,2,  34.1513,2,   -999.0,9,    135.3,6,    55.43,6,    28.26,6,     0.00,6,     2.03,6, -999.000,9, -999.000,9, -999.000,9,-999.0000,9,  -999.00,9,   -999.0,9,   -999,  -999.0,-999.000,-999.0000,-999.000,  -999.0,  7.1977,-999.000
    49RY9511_2,   P24,     5,  1,     11,  12811,2,19951117,0643, 30.3563, 131.9820, 2824,    806.7,   5.8183,  34.2209,2,  34.2212,2,   -999.0,9,     94.7,2,    79.39,2,    34.18,2,     0.00,2,     2.47,2, -999.000,9, -999.000,9, -999.000,9,-999.0000,9,  -999.00,9,   -999.0,9,   -999,  -999.0,-999.000,-999.0000,-999.000,  -999.0,  5.7476,-999.000
    49RY9511_2,   P24,     5,  1,     10,  12820,2,19951117,0643, 30.3563, 131.9820, 2824,    907.0,   4.8913,  34.3044,2,  34.3074,2,   -999.0,9,     75.7,2,    97.57,2,    37.18,2,     0.00,2,     2.70,2, -999.000,9, -999.000,9, -999.000,9,-999.0000,9,  -999.00,9,   -999.0,9,   -999,  -999.0,-999.000,-999.0000,-999.000,  -999.0,  4.8174,-999.000
    49RY9511_2,   P24,     5,  1,      9,  12810,2,19951117,0643, 30.3563, 131.9820, 2824,   1008.3,   3.9726,  34.3688,2,  34.3685,2,   -999.0,9,     65.2,2,   113.29,2,    39.35,2,     0.00,2,     2.85,2, -999.000,9, -999.000,9, -999.000,9,-999.0000,9,  -999.00,9,   -999.0,9,   -999,  -999.0,-999.000,-999.0000,-999.000,  -999.0,  3.8967,-999.000
    49RY9511_2,   P24,     5,  1,      8,  12819,2,19951117,0643, 30.3563, 131.9820, 2824,   1260.1,   3.0895,  34.4583,2,  34.4585,2,   -999.0,9,     67.5,2,   130.57,2,    40.34,2,     0.00,2,     2.92,2, -999.000,9, -999.000,9, -999.000,9,-999.0000,9,  -999.00,9,   -999.0,9,   -999,  -999.0,-999.000,-999.0000,-999.000,  -999.0,  3.0006,-999.000
    49RY9511_2,   P24,     5,  1,      7,  12815,2,19951117,0643, 30.3563, 131.9820, 2824,   1514.8,   2.5919,  34.5236,2,-999.0000,9,   -999.0,9,     81.0,2,   137.57,2,    39.87,2,     0.00,2,     2.87,2, -999.000,9, -999.000,9, -999.000,9,-999.0000,9,  -999.00,9,   -999.0,9,   -999,  -999.0,-999.000,-999.0000,-999.000,  -999.0,  2.4877,-999.000
    49RY9511_2,   P24,     5,  1,      6,  12818,2,19951117,0643, 30.3563, 131.9820, 2824,   1766.3,   2.3041,  34.5640,2,  34.5651,2,   -999.0,9,     94.6,2,   140.39,2,    39.30,2,     0.00,2,     2.82,2, -999.000,9, -999.000,9, -999.000,9,-999.0000,9,  -999.00,9,   -999.0,9,   -999,  -999.0,-999.000,-999.0000,-999.000,  -999.0,  2.1829,-999.000
    49RY9511_2,   P24,     5,  1,      5,  12809,2,19951117,0643, 30.3563, 131.9820, 2824,   2021.7,   2.0775,  34.5961,2,  34.5964,2,   -999.0,9,    106.9,2,   141.54,2,    38.68,2,     0.00,2,     2.76,2, -999.000,9, -999.000,9, -999.000,9,-999.0000,9,  -999.00,9,   -999.0,9,   -999,  -999.0,-999.000,-999.0000,-999.000,  -999.0,  1.9381,-999.000
    49RY9511_2,   P24,     5,  1,      4,  12817,2,19951117,0643, 30.3563, 131.9820, 2824,   2276.4,   1.8947,  34.6216,2,  34.6213,2,   -999.0,9,    119.1,2,   142.00,2,    37.99,2,     0.00,2,     2.71,2, -999.000,9, -999.000,9, -999.000,9,-999.0000,9,  -999.00,9,   -999.0,9,   -999,  -999.0,-999.000,-999.0000,-999.000,  -999.0,  1.7363,-999.000
    49RY9511_2,   P24,     5,  1,      3,  12808,2,19951117,0643, 30.3563, 131.9820, 2824,   2531.2,   1.7468,  34.6419,2,  34.6414,2,   -999.0,9,    129.3,2,   141.69,2,    37.35,2,     0.00,2,     2.65,2, -999.000,9, -999.000,9, -999.000,9,-999.0000,9,  -999.00,9,   -999.0,9,   -999,  -999.0,-999.000,-999.0000,-999.000,  -999.0,  1.5685,-999.000
    49RY9511_2,   P24,     5,  1,      2,  12914,2,19951117,0643, 30.3563, 131.9820, 2824,   2785.4,   1.6012,  34.6602,2,  34.6609,2,   -999.0,9,    140.9,2,   141.29,2,    36.76,2,     0.00,2,     2.59,2, -999.000,9, -999.000,9, -999.000,9,-999.0000,9,  -999.00,9,   -999.0,9,   -999,  -999.0,-999.000,-999.0000,-999.000,  -999.0,  1.4025,-999.000
    49RY9511_2,   P24,     5,  1,      1,  12807,2,19951117,0643, 30.3563, 131.9820, 2824,   2989.7,   1.5362,  34.6707,2,  34.6699,2,   -999.0,9,    146.3,6,   140.67,6,    36.42,6,     0.00,6,     2.58,6, -999.000,9, -999.000,9, -999.000,9,-999.0000,9,  -999.00,9,   -999.0,9,   -999,  -999.0,-999.000,-999.0000,-999.000,  -999.0,  1.3196,-999.000