BOTTLE,20030404WHPSIOdm
EXPOCODE,SECT_ID,STNNBR,CASTNO,SAMPNO,BTLNBR,BTLNBR_FLAG_W,DATE,TIME,LATITUDE,LONGITUDE,DEPTH,CTDPRS,CTDTMP,CTDSAL,CTDSAL_FLAG_W,SALNTY,SALNTY_FLAG_W,CTDOXY,CTDOXY_FLAG_W,OXYGEN,OXYGEN_FLAG_W,SILCAT,SILCAT_FLAG_W,NITRAT,NITRAT_FLAG_W,NITRIT,NITRIT_FLAG_W,PHSPHT,PHSPHT_FLAG_W,CFC-11,CFC-11_FLAG_W,CFC-12,CFC-12_FLAG_W,TRITUM,TRITUM_FLAG_W,HELIUM,HELIUM_FLAG_W,DELHE3,DELHE3_FLAG_W,DELC14,DELC14_FLAG_W,CTDRAW,C14ERR,REVTMP,HELIER,DELHER,REVPRS,THETA,TRITER
,,,,,,,,,,,,DBAR,ITS-90,PSS-78,,PSS-78,,UMOL/KG,,UMOL/KG,,UMOL/KG,,UMOL/KG,,UMOL/KG,,UMOL/KG,,PMOL/KG,,PMOL/KG,,TU,,NMOL/KG,,PERCNT,,/MILLE,,,/MILLE,ITS-90,NMOL/KG,PERCNT,DBAR,DEG C,TU
    49RY9511_2,   P24,    16,  2,     13,  12812,2,19951120,1724, 27.1550, 133.8595, 4829,      5.3,  24.6929,  34.8085,2,  34.8071,2,   -999.0,9,    209.5,2,     1.43,2,     0.07,2,     0.00,2,     0.02,2, -999.000,9, -999.000,9, -999.000,9,-999.0000,9,  -999.00,9,   -999.0,9,   -999,  -999.0,-999.000,-999.0000,-999.000,     8.0, 24.6918,-999.000
    49RY9511_2,   P24,    16,  2,     12,  12821,2,19951120,1724, 27.1550, 133.8595, 4829,     24.1,  24.7152,  34.8067,2,  34.8064,2,   -999.0,9,    209.1,2,     1.52,2,     0.07,2,     0.00,2,     0.02,2, -999.000,9, -999.000,9, -999.000,9,-999.0000,9,  -999.00,9,   -999.0,9,   -999,  -999.0,-999.000,-999.0000,-999.000,  -999.0, 24.7101,-999.000
    49RY9511_2,   P24,    16,  2,     11,  12811,2,19951120,1724, 27.1550, 133.8595, 4829,     50.7,  24.7194,  34.8076,2,  34.8054,2,   -999.0,9,   -999.0,5,     1.50,2,     0.01,2,     0.00,2,     0.03,2, -999.000,9, -999.000,9, -999.000,9,-999.0000,9,  -999.00,9,   -999.0,9,   -999,  -999.0,-999.000,-999.0000,-999.000,  -999.0, 24.7085,-999.000
    49RY9511_2,   P24,    16,  2,     10,  12820,2,19951120,1724, 27.1550, 133.8595, 4829,     73.2,  24.5827,  34.8086,2,  34.8075,2,   -999.0,9,    208.6,2,     1.55,2,     0.05,2,     0.00,2,     0.04,2, -999.000,9, -999.000,9, -999.000,9,-999.0000,9,  -999.00,9,   -999.0,9,   -999,  -999.0,-999.000,-999.0000,-999.000,  -999.0, 24.5671,-999.000
    49RY9511_2,   P24,    16,  2,      8,  12819,2,19951120,1724, 27.1550, 133.8595, 4829,     99.3,  21.5411,  34.8813,2,  34.8839,2,   -999.0,9,    209.4,2,     2.02,2,     0.13,2,     0.07,2,     0.07,2, -999.000,9, -999.000,9, -999.000,9,-999.0000,9,  -999.00,9,   -999.0,9,   -999,  -999.0,-999.000,-999.0000,-999.000,  -999.0, 21.5218,-999.000
    49RY9511_2,   P24,    16,  2,      9,  12810,2,19951120,1724, 27.1550, 133.8595, 4829,    100.3,  21.5399,  34.8861,2,  34.8845,2,   -999.0,9,    208.8,2,     2.08,2,     0.16,2,     0.07,2,     0.07,2, -999.000,9, -999.000,9, -999.000,9,-999.0000,9,  -999.00,9,   -999.0,9,   -999,  -999.0,-999.000,-999.0000,-999.000,    94.0, 21.5203,-999.000
    49RY9511_2,   P24,    16,  2,      7,  12815,2,19951120,1724, 27.1550, 133.8595, 4829,    151.1,  19.2967,  34.9087,2,  34.9088,2,   -999.0,9,    202.7,2,     2.52,2,     2.41,2,     0.01,2,     0.20,2, -999.000,9, -999.000,9, -999.000,9,-999.0000,9,  -999.00,9,   -999.0,9,   -999,  -999.0,-999.000,-999.0000,-999.000,  -999.0, 19.2695,-999.000
    49RY9511_2,   P24,    16,  2,      6,  12818,2,19951120,1724, 27.1550, 133.8595, 4829,    202.0,  18.5085,  34.8950,2,  34.8944,2,   -999.0,9,    206.4,2,     3.18,2,     3.02,2,     0.00,2,     0.23,2, -999.000,9, -999.000,9, -999.000,9,-999.0000,9,  -999.00,9,   -999.0,9,   -999,  -999.0,-999.000,-999.0000,-999.000,  -999.0, 18.4731,-999.000
    49RY9511_2,   P24,    16,  2,      5,  12809,2,19951120,1724, 27.1550, 133.8595, 4829,    302.1,  16.8908,  34.7795,2,  34.7743,2,   -999.0,9,    197.0,2,     5.67,2,     6.05,2,     0.00,2,     0.44,2, -999.000,9, -999.000,9, -999.000,9,-999.0000,9,  -999.00,9,   -999.0,9,   -999,  -999.0,-999.000,-999.0000,-999.000,  -999.0, 16.8411,-999.000
    49RY9511_2,   P24,    16,  2,      4,  12817,2,19951120,1724, 27.1550, 133.8595, 4829,    401.9,  14.7734,  34.5970,2,  34.5973,2,   -999.0,9,    186.1,2,    11.07,2,    10.46,2,     0.00,2,     0.75,2, -999.000,9, -999.000,9, -999.000,9,-999.0000,9,  -999.00,9,   -999.0,9,   -999,  -999.0,-999.000,-999.0000,-999.000,  -999.0, 14.7129,-999.000
    49RY9511_2,   P24,    16,  2,      3,  12808,2,19951120,1724, 27.1550, 133.8595, 4829,    503.1,  12.1062,  34.4080,2,  34.4056,2,   -999.0,9,    175.3,2,    21.36,2,    16.07,2,     0.00,2,     1.13,2, -999.000,9, -999.000,9, -999.000,9,-999.0000,9,  -999.00,9,   -999.0,9,   -999,  -999.0,  12.162,-999.0000,-999.000,   502.0, 12.0398,-999.000
    49RY9511_2,   P24,    16,  2,      2,  12914,2,19951120,1724, 27.1550, 133.8595, 4829,    604.2,   9.2931,  34.2549,2,  34.2485,2,   -999.0,9,    153.8,2,    39.28,2,    22.97,2,     0.00,2,     1.64,2, -999.000,9, -999.000,9, -999.000,9,-999.0000,9,  -999.00,9,   -999.0,9,   -999,  -999.0,-999.000,-999.0000,-999.000,  -999.0,  9.2253,-999.000
    49RY9511_2,   P24,    16,  2,      1,  12807,2,19951120,1724, 27.1550, 133.8595, 4829,    705.2,   6.9875,  34.1850,2,  34.1784,2,   -999.0,9,    121.9,2,    61.51,2,    29.71,2,     0.00,2,     2.15,2, -999.000,9, -999.000,9, -999.000,9,-999.0000,9,  -999.00,9,   -999.0,9,   -999,  -999.0,-999.000,-999.0000,-999.000,  -999.0,  6.9200,-999.000
    49RY9511_2,   P24,    17,  1,     19,  12825,2,19951120,2208, 26.7353, 134.1352, 5099,    805.0,   5.5453,  34.2286,2,  34.2233,2,   -999.0,9,     90.0,2,    83.14,2,    34.82,2,     0.00,2,     2.55,2,    0.631,2,    0.293,2, -999.000,9,-999.0000,9,  -999.00,9,   -999.0,9,   -999,  -999.0,-999.000,-999.0000,-999.000,  -999.0,  5.4764,-999.000
    49RY9511_2,   P24,    17,  1,     18,  12824,2,19951120,2208, 26.7353, 134.1352, 5099,    906.7,   4.5208,  34.2913,2,  34.2914,6,   -999.0,9,     69.7,2,   102.08,2,    38.11,2,     0.00,2,     2.77,2, -999.000,9, -999.000,9, -999.000,9,-999.0000,9,  -999.00,9,   -999.0,9,   -999,  -999.0,-999.000,-999.0000,-999.000,  -999.0,  4.4495,-999.000
    49RY9511_2,   P24,    17,  1,     17,  12814,2,19951120,2208, 26.7353, 134.1352, 5099,   1008.8,   3.8878,  34.3538,2,  34.3538,2,   -999.0,9,     62.9,2,   114.90,2,    39.70,2,     0.00,2,     2.88,2,    0.166,2,    0.067,2, -999.000,9,-999.0000,9,  -999.00,9,   -173.0,2,   -999,     4.0,-999.000,-999.0000,-999.000,  -999.0,  3.8125,-999.000
    49RY9511_2,   P24,    17,  1,     16,  12823,2,19951120,2208, 26.7353, 134.1352, 5099,   1260.1,   2.9772,  34.4575,2,  34.4575,2,   -999.0,9,     62.1,2,   133.54,2,    40.74,2,     0.00,2,     2.92,2,    0.041,2,    0.010,2, -999.000,9,-999.0000,9,  -999.00,9,   -999.0,9,   -999,  -999.0,-999.000,-999.0000,-999.000,  -999.0,  2.8894,-999.000
    49RY9511_2,   P24,    17,  1,     15,  12813,2,19951120,2208, 26.7353, 134.1352, 5099,   1515.0,   2.4291,  34.5425,2,  34.5393,3,   -999.0,9,     82.9,2,   140.70,2,    39.76,2,     0.00,2,     2.87,2,    0.016,2,    0.000,2, -999.000,9,-999.0000,9,  -999.00,9,   -999.0,9,   -999,  -999.0,-999.000,-999.0000,-999.000,  -999.0,  2.3267,-999.000
    49RY9511_2,   P24,    17,  1,     14,  12822,2,19951120,2208, 26.7353, 134.1352, 5099,   1768.3,   2.1567,  34.5813,2,  34.5810,2,   -999.0,9,    100.4,2,   141.87,2,    38.92,2,     0.00,2,     2.78,2,    0.011,2,    0.000,2, -999.000,9,-999.0000,9,  -999.00,9,   -999.0,9,   -999,  -999.0,-999.000,-999.0000,-999.000,  -999.0,  2.0373,-999.000
    49RY9511_2,   P24,    17,  1,     13,  12812,2,19951120,2208, 26.7353, 134.1352, 5099,   2023.2,   1.9529,  34.6124,2,  34.6120,6,   -999.0,9,    116.2,2,   141.99,2,    38.16,2,     0.00,2,     2.72,2,    0.000,2,    0.000,2, -999.000,9,-999.0000,9,  -999.00,9,   -224.0,2,   -999,     4.0,-999.000,-999.0000,-999.000,  2021.0,  1.8153,-999.000
    49RY9511_2,   P24,    17,  1,     12,  12821,2,19951120,2208, 26.7353, 134.1352, 5099,   2277.4,   1.8032,  34.6338,2,  34.6347,2,   -999.0,9,    127.8,2,   141.70,2,    37.48,2,     0.00,2,     2.66,2, -999.000,9, -999.000,9, -999.000,9,-999.0000,9,  -999.00,9,   -999.0,9,   -999,  -999.0,-999.000,-999.0000,-999.000,  -999.0,  1.6463,-999.000
    49RY9511_2,   P24,    17,  1,     11,  12811,2,19951120,2208, 26.7353, 134.1352, 5099,   2533.5,   1.6784,  34.6513,2,  34.6511,2,   -999.0,9,    134.7,2,   141.22,2,    37.05,2,     0.00,2,     2.62,2, -999.000,9, -999.000,9, -999.000,9,-999.0000,9,  -999.00,9,   -999.0,9,   -999,  -999.0,-999.000,-999.0000,-999.000,  -999.0,  1.5012,-999.000
    49RY9511_2,   P24,    17,  1,     10,  12820,2,19951120,2208, 26.7353, 134.1352, 5099,   2785.3,   1.5973,  34.6631,2,  34.6629,2,   -999.0,9,    141.3,6,   140.61,6,    36.53,6,     0.00,6,     2.58,6, -999.000,9, -999.000,9, -999.000,9,-999.0000,9,  -999.00,9,   -999.0,9,   -999,  -999.0,-999.000,-999.0000,-999.000,  -999.0,  1.3987,-999.000
    49RY9511_2,   P24,    17,  1,      9,  12810,2,19951120,2208, 26.7353, 134.1352, 5099,   3041.6,   1.5598,  34.6692,2,  34.6686,2,   -999.0,9,    146.1,2,   140.32,2,    36.36,2,     0.00,2,     2.56,2, -999.000,9, -999.000,9, -999.000,9,-999.0000,9,  -999.00,9,   -208.0,2,   -999,     4.0,-999.000,-999.0000,-999.000,  3039.0,  1.3378,-999.000
    49RY9511_2,   P24,    17,  1,      8,  12819,2,19951120,2208, 26.7353, 134.1352, 5099,   3295.2,   1.5415,  34.6728,2,  34.6731,2,   -999.0,9,    153.1,3,   140.15,2,    36.20,2,     0.00,2,     2.57,2, -999.000,9, -999.000,9, -999.000,9,-999.0000,9,  -999.00,9,   -999.0,9,   -999,  -999.0,-999.000,-999.0000,-999.000,  -999.0,  1.2950,-999.000
    49RY9511_2,   P24,    17,  1,      7,  12815,2,19951120,2208, 26.7353, 134.1352, 5099,   3553.4,   1.5381,  34.6753,2,  34.6766,2,   -999.0,9,    151.4,2,   139.86,2,    36.02,2,     0.00,2,     2.54,2, -999.000,9, -999.000,9, -999.000,9,-999.0000,9,  -999.00,9,   -999.0,9,   -999,  -999.0,-999.000,-999.0000,-999.000,  -999.0,  1.2656,-999.000
    49RY9511_2,   P24,    17,  1,      6,  12818,2,19951120,2208, 26.7353, 134.1352, 5099,   3808.0,   1.5542,  34.6770,2,  34.6774,2,   -999.0,9,    152.5,2,   140.02,2,    35.94,2,     0.00,2,     2.54,2, -999.000,9, -999.000,9, -999.000,9,-999.0000,9,  -999.00,9,   -999.0,9,   -999,  -999.0,-999.000,-999.0000,-999.000,  -999.0,  1.2545,-999.000
    49RY9511_2,   P24,    17,  1,      5,  12809,2,19951120,2208, 26.7353, 134.1352, 5099,   4065.8,   1.5745,  34.6775,2,  34.6785,6,   -999.0,9,    151.9,2,   139.66,2,    35.91,2,     0.00,2,     2.53,2, -999.000,9, -999.000,9, -999.000,9,-999.0000,9,  -999.00,9,   -206.0,2,   -999,     4.0,-999.000,-999.0000,-999.000,  -999.0,  1.2463,-999.000
    49RY9511_2,   P24,    17,  1,      4,  12817,2,19951120,2208, 26.7353, 134.1352, 5099,   4322.2,   1.5979,  34.6781,2,  34.6794,2,   -999.0,9,    156.3,3,   139.55,2,    35.86,2,     0.00,2,     2.53,2, -999.000,9, -999.000,9, -999.000,9,-999.0000,9,  -999.00,9,   -999.0,9,   -999,  -999.0,-999.000,-999.0000,-999.000,  -999.0,  1.2403,-999.000
    49RY9511_2,   P24,    17,  1,      3,  12808,2,19951120,2208, 26.7353, 134.1352, 5099,   4577.8,   1.6211,  34.6792,2,  34.6796,2,   -999.0,9,    153.3,2,   139.94,2,    35.83,2,     0.00,2,     2.52,2, -999.000,9, -999.000,9, -999.000,9,-999.0000,9,  -999.00,9,   -999.0,9,   -999,  -999.0,   1.617,-999.0000,-999.000,  4577.0,  1.2334,-999.000
    49RY9511_2,   P24,    17,  1,      2,  12914,2,19951120,2208, 26.7353, 134.1352, 5099,   4836.7,   1.6458,  34.6804,2,  34.6809,6,   -999.0,9,    154.4,2,   139.73,2,    35.83,2,     0.00,2,     2.55,2, -999.000,9, -999.000,9, -999.000,9,-999.0000,9,  -999.00,9,   -210.0,2,   -999,     4.0,-999.000,-999.0000,-999.000,  -999.0,  1.2266,-999.000
    49RY9511_2,   P24,    17,  1,      1,  12807,2,19951120,2208, 26.7353, 134.1352, 5099,   5163.9,   1.6844,  34.6802,2,  34.6806,2,   -999.0,9,    154.7,6,   139.60,6,    35.85,6,     0.00,6,     2.52,6, -999.000,9, -999.000,9, -999.000,9,-999.0000,9,  -999.00,9,   -216.0,2,   -999,     4.0,-999.000,-999.0000,-999.000,  -999.0,  1.2238,-999.000
    49RY9511_2,   P24,    17,  2,     13,  12812,2,19951121,0409, 26.7000, 134.1623, 5105,      5.8,  25.0510,  34.8128,2,  34.8099,2,   -999.0,9,    207.7,2,     1.45,2,     0.00,2,     0.00,2,     0.01,2,    1.641,3,    1.088,2, -999.000,9,-999.0000,9,  -999.00,9,   -999.0,9,   -999,  -999.0,-999.000,-999.0000,-999.000,    10.0, 25.0498,-999.000
    49RY9511_2,   P24,    17,  2,     12,  12821,2,19951121,0409, 26.7000, 134.1623, 5105,     24.5,  25.0478,  34.8091,2,  34.8099,2,   -999.0,9,    206.7,2,     1.49,2,     0.02,2,     0.00,2,     0.02,2,    1.735,3,    1.085,2, -999.000,9,-999.0000,9,  -999.00,9,    122.0,2,   -999,     5.0,-999.000,-999.0000,-999.000,  -999.0, 25.0425,-999.000
    49RY9511_2,   P24,    17,  2,     11,  12811,2,19951121,0409, 26.7000, 134.1623, 5105,     50.9,  24.5311,  34.7358,2,  34.7303,6,   -999.0,9,    208.2,2,     1.52,2,     0.00,2,     0.00,2,     0.03,2,    1.735,3,    1.140,2, -999.000,9,-999.0000,9,  -999.00,9,   -999.0,9,   -999,  -999.0,-999.000,-999.0000,-999.000,  -999.0, 24.5202,-999.000
    49RY9511_2,   P24,    17,  2,     10,  12820,2,19951121,0409, 26.7000, 134.1623, 5105,     76.0,  23.6647,  34.8135,2,  34.8138,2,   -999.0,9,    209.4,2,     1.67,2,     0.02,2,     0.00,2,     0.05,2, -999.000,9, -999.000,9, -999.000,9,-999.0000,9,  -999.00,9,   -999.0,9,   -999,  -999.0,-999.000,-999.0000,-999.000,  -999.0, 23.6489,-999.000
    49RY9511_2,   P24,    17,  2,      9,  12810,2,19951121,0409, 26.7000, 134.1623, 5105,    101.0,  21.2075,  34.9128,2,  34.9094,2,   -999.0,9,    209.3,2,     2.03,2,     0.24,2,     0.12,2,     0.07,2,    2.119,2,    1.248,2, -999.000,9,-999.0000,9,  -999.00,9,   -999.0,9,   -999,  -999.0,-999.000,-999.0000,-999.000,    97.0, 21.1880,-999.000
    49RY9511_2,   P24,    17,  2,      8,  12819,2,19951121,0409, 26.7000, 134.1623, 5105,    151.9,  19.1952,  34.9018,2,  34.9050,2,   -999.0,9,    204.3,2,     2.74,2,     2.63,2,     0.01,2,     0.20,2,    2.096,2,    1.293,3, -999.000,9,-999.0000,9,  -999.00,9,   -999.0,9,   -999,  -999.0,-999.000,-999.0000,-999.000,  -999.0, 19.1679,-999.000
    49RY9511_2,   P24,    17,  2,      7,  12815,2,19951121,0409, 26.7000, 134.1623, 5105,    201.6,  18.0356,  34.8675,2,  34.8654,2,   -999.0,9,    202.1,2,     3.43,2,     3.89,2,     0.01,2,     0.27,2, -999.000,9, -999.000,9, -999.000,9,-999.0000,9,  -999.00,9,   -999.0,9,   -999,  -999.0,-999.000,-999.0000,-999.000,  -999.0, 18.0009,-999.000
    49RY9511_2,   P24,    17,  2,      6,  12818,2,19951121,0409, 26.7000, 134.1623, 5105,    201.7,  18.0297,  34.8618,2,  34.8658,2,   -999.0,9,    202.1,2,     3.63,2,     3.84,2,     0.01,2,     0.28,2,    2.143,2,    1.314,3, -999.000,9,-999.0000,9,  -999.00,9,   -999.0,9,   -999,  -999.0,-999.000,-999.0000,-999.000,  -999.0, 17.9950,-999.000
    49RY9511_2,   P24,    17,  2,      5,  12809,2,19951121,0409, 26.7000, 134.1623, 5105,    301.6,  16.7336,  34.7704,2,  34.7674,2,   -999.0,9,    198.6,2,     5.90,2,     6.29,2,     0.00,2,     0.44,2,    2.226,2,    1.292,2, -999.000,9,-999.0000,9,  -999.00,9,   -999.0,9,   -999,  -999.0,-999.000,-999.0000,-999.000,  -999.0, 16.6844,-999.000
    49RY9511_2,   P24,    17,  2,      4,  12817,2,19951121,0409, 26.7000, 134.1623, 5105,    404.9,  14.7696,  34.6097,2,  34.6048,2,   -999.0,9,    186.0,2,    11.04,2,    10.32,2,     0.00,2,     0.72,2,    2.096,2,    1.174,2, -999.000,9,-999.0000,9,  -999.00,9,   -999.0,9,   -999,  -999.0,-999.000,-999.0000,-999.000,  -999.0, 14.7087,-999.000
    49RY9511_2,   P24,    17,  2,      3,  12808,2,19951121,0409, 26.7000, 134.1623, 5105,    502.8,  11.6201,  34.3834,2,  34.3797,2,   -999.0,9,    169.4,2,    24.29,2,    17.40,2,     0.00,2,     1.22,2,    1.776,2,    0.977,2, -999.000,9,-999.0000,9,  -999.00,9,   -999.0,9,   -999,  -999.0,  11.609,-999.0000,-999.000,   503.0, 11.5554,-999.000
    49RY9511_2,   P24,    17,  2,      2,  12914,2,19951121,0409, 26.7000, 134.1623, 5105,    605.6,   9.2339,  34.2574,2,  34.2510,2,   -999.0,9,    150.5,2,    39.90,2,    23.29,2,     0.00,2,     1.66,2,    1.538,2,    0.771,2, -999.000,9,-999.0000,9,  -999.00,9,   -999.0,9,   -999,  -999.0,-999.000,-999.0000,-999.000,  -999.0,  9.1662,-999.000
    49RY9511_2,   P24,    17,  2,      1,  12807,2,19951121,0409, 26.7000, 134.1623, 5105,    708.8,   6.6825,  34.1880,2,  34.1801,2,   -999.0,9,    116.6,2,    64.45,2,    30.55,2,     0.00,2,     2.21,2,    1.036,2,    0.502,2, -999.000,9,-999.0000,9,  -999.00,9,   -999.0,9,   -999,  -999.0,-999.000,-999.0000,-999.000,  -999.0,  6.6162,-999.000