BOTTLE,20030404WHPSIOdm
EXPOCODE,SECT_ID,STNNBR,CASTNO,SAMPNO,BTLNBR,BTLNBR_FLAG_W,DATE,TIME,LATITUDE,LONGITUDE,DEPTH,CTDPRS,CTDTMP,CTDSAL,CTDSAL_FLAG_W,SALNTY,SALNTY_FLAG_W,CTDOXY,CTDOXY_FLAG_W,OXYGEN,OXYGEN_FLAG_W,SILCAT,SILCAT_FLAG_W,NITRAT,NITRAT_FLAG_W,NITRIT,NITRIT_FLAG_W,PHSPHT,PHSPHT_FLAG_W,CFC-11,CFC-11_FLAG_W,CFC-12,CFC-12_FLAG_W,TRITUM,TRITUM_FLAG_W,HELIUM,HELIUM_FLAG_W,DELHE3,DELHE3_FLAG_W,DELC14,DELC14_FLAG_W,CTDRAW,C14ERR,REVTMP,HELIER,DELHER,REVPRS,THETA,TRITER
,,,,,,,,,,,,DBAR,ITS-90,PSS-78,,PSS-78,,UMOL/KG,,UMOL/KG,,UMOL/KG,,UMOL/KG,,UMOL/KG,,UMOL/KG,,PMOL/KG,,PMOL/KG,,TU,,NMOL/KG,,PERCNT,,/MILLE,,,/MILLE,ITS-90,NMOL/KG,PERCNT,DBAR,DEG C,TU
    49RY9511_2,   P24,    22,  2,     12,  12821,2,19951122,1318, 25.0313, 135.0895, 5291,      5.0,  25.3758,  34.7204,2,  34.7209,2,   -999.0,9,    207.6,2,     1.42,2,     0.00,2,     0.00,2,     0.02,2, -999.000,9, -999.000,9, -999.000,9,-999.0000,9,  -999.00,9,   -999.0,9,   -999,  -999.0,-999.000,-999.0000,-999.000,  -999.0, 25.3747,-999.000
    49RY9511_2,   P24,    22,  2,     11,  12811,2,19951122,1318, 25.0313, 135.0895, 5291,     24.4,  25.3808,  34.7211,2,  34.7223,2,   -999.0,9,    207.5,2,     1.42,2,     0.03,2,     0.00,2,     0.03,2, -999.000,9, -999.000,9, -999.000,9,-999.0000,9,  -999.00,9,   -999.0,9,   -999,  -999.0,-999.000,-999.0000,-999.000,  -999.0, 25.3755,-999.000
    49RY9511_2,   P24,    22,  2,     10,  12820,2,19951122,1318, 25.0313, 135.0895, 5291,     49.7,  25.3715,  34.7228,2,  34.7245,2,   -999.0,9,    208.0,2,     1.49,2,     0.00,2,     0.00,2,     0.04,2, -999.000,9, -999.000,9, -999.000,9,-999.0000,9,  -999.00,9,   -999.0,9,   -999,  -999.0,-999.000,-999.0000,-999.000,  -999.0, 25.3607,-999.000
    49RY9511_2,   P24,    22,  2,      9,  12810,2,19951122,1318, 25.0313, 135.0895, 5291,     75.1,  21.8670,  34.9346,2,  34.9352,2,   -999.0,9,    218.4,6,     1.78,6,     0.05,6,     0.00,6,     0.04,6, -999.000,9, -999.000,9, -999.000,9,-999.0000,9,  -999.00,9,   -999.0,9,   -999,  -999.0,-999.000,-999.0000,-999.000,  -999.0, 21.8522,-999.000
    49RY9511_2,   P24,    22,  2,      8,  12819,2,19951122,1318, 25.0313, 135.0895, 5291,    101.7,  20.0529,  34.9277,2,  34.9352,2,   -999.0,9,    216.0,2,     2.00,2,     0.44,2,     0.06,2,     0.09,2, -999.000,9, -999.000,9, -999.000,9,-999.0000,9,  -999.00,9,   -999.0,9,   -999,  -999.0,-999.000,-999.0000,-999.000,  -999.0, 20.0341,-999.000
    49RY9511_2,   P24,    22,  2,      7,  12815,2,19951122,1318, 25.0313, 135.0895, 5291,    151.0,  18.3536,  34.8862,2,  34.8871,2,   -999.0,9,    203.2,2,     3.38,2,     3.31,2,     0.01,2,     0.25,2, -999.000,9, -999.000,9, -999.000,9,-999.0000,9,  -999.00,9,   -999.0,9,   -999,  -999.0,-999.000,-999.0000,-999.000,  -999.0, 18.3274,-999.000
    49RY9511_2,   P24,    22,  2,      6,  12818,2,19951122,1318, 25.0313, 135.0895, 5291,    202.2,  17.5004,  34.8369,2,  34.8377,2,   -999.0,9,    205.3,2,     4.05,2,     4.41,2,     0.00,2,     0.32,2, -999.000,9, -999.000,9, -999.000,9,-999.0000,9,  -999.00,9,   -999.0,9,   -999,  -999.0,-999.000,-999.0000,-999.000,  -999.0, 17.4663,-999.000
    49RY9511_2,   P24,    22,  2,      5,  12809,2,19951122,1318, 25.0313, 135.0895, 5291,    302.4,  16.0664,  34.7103,2,  34.7115,2,   -999.0,9,    196.5,2,     7.39,2,     7.61,2,     0.00,2,     0.53,2, -999.000,9, -999.000,9, -999.000,9,-999.0000,9,  -999.00,9,   -999.0,9,   -999,  -999.0,-999.000,-999.0000,-999.000,  -999.0, 16.0183,-999.000
    49RY9511_2,   P24,    22,  2,      4,  12817,2,19951122,1318, 25.0313, 135.0895, 5291,    403.9,  13.6149,  34.5146,2,  34.5126,2,   -999.0,9,    181.3,2,    15.22,2,    12.76,2,     0.00,2,     0.90,2, -999.000,9, -999.000,9, -999.000,9,-999.0000,9,  -999.00,9,   -999.0,9,   -999,  -999.0,-999.000,-999.0000,-999.000,  -999.0, 13.5574,-999.000
    49RY9511_2,   P24,    22,  2,      3,  12808,2,19951122,1318, 25.0313, 135.0895, 5291,    502.7,  10.6195,  34.3062,2,  34.3035,2,   -999.0,9,    169.6,2,    28.21,2,    19.08,2,     0.00,2,     1.36,2, -999.000,9, -999.000,9, -999.000,9,-999.0000,9,  -999.00,9,   -999.0,9,   -999,  -999.0,  10.609,-999.0000,-999.000,   502.0, 10.5585,-999.000
    49RY9511_2,   P24,    22,  2,      2,  12914,2,19951122,1318, 25.0313, 135.0895, 5291,    604.9,   7.9442,  34.1714,2,  34.1678,2,   -999.0,9,    142.8,2,    48.26,2,    26.26,2,     0.00,2,     1.90,2, -999.000,9, -999.000,9, -999.000,9,-999.0000,9,  -999.00,9,   -999.0,9,   -999,  -999.0,-999.000,-999.0000,-999.000,  -999.0,  7.8823,-999.000
    49RY9511_2,   P24,    22,  2,      1,  12807,2,19951122,1318, 25.0313, 135.0895, 5291,    702.5,   6.1839,  34.1433,2,  34.1363,2,   -999.0,9,    110.0,2,    67.91,2,    32.30,2,     0.00,2,     2.35,2, -999.000,9, -999.000,9, -999.000,9,-999.0000,9,  -999.00,9,   -999.0,9,   -999,  -999.0,-999.000,-999.0000,-999.000,  -999.0,  6.1209,-999.000
    49RY9511_2,   P24,    23,  1,     20,  12826,2,19951122,1735, 24.6818, 135.3353, 5301,    806.2,   4.6840,  34.2301,2,  34.2308,2,   -999.0,9,     71.0,2,    96.01,2,    37.62,2,     0.00,2,     2.77,2,    0.438,3,    0.209,2, -999.000,9,-999.0000,9,  -999.00,9,   -999.0,9,   -999,  -999.0,-999.000,-999.0000,-999.000,  -999.0,  4.6203,-999.000
    49RY9511_2,   P24,    23,  1,     19,  12825,2,19951122,1735, 24.6818, 135.3353, 5301,    908.2,   4.0900,  34.3183,2,  34.3180,2,   -999.0,9,     58.4,6,   108.87,6,    39.67,6,     0.00,6,     2.90,6,    0.173,3,    0.079,2, -999.000,9,-999.0000,9,  -999.00,9,   -999.0,9,   -999,  -999.0,-999.000,-999.0000,-999.000,  -999.0,  4.0216,-999.000
    49RY9511_2,   P24,    23,  1,     18,  12824,2,19951122,1735, 24.6818, 135.3353, 5301,   1010.1,   3.6957,  34.3917,2,  34.3925,2,   -999.0,9,     57.6,2,   117.42,2,    40.31,2,     0.00,2,     2.95,2,    0.078,3,    0.037,2, -999.000,9,-999.0000,9,  -999.00,9,   -183.0,2,   -999,     4.0,-999.000,-999.0000,-999.000,  -999.0,  3.6217,-999.000
    49RY9511_2,   P24,    23,  1,     17,  12814,2,19951122,1735, 24.6818, 135.3353, 5301,   1261.2,   2.9309,  34.4898,2,  34.4906,2,   -999.0,9,     69.6,2,   132.39,2,    40.30,2,     0.00,2,     2.94,2,    0.008,3,    0.006,2, -999.000,9,-999.0000,9,  -999.00,9,   -208.0,2,   -999,     3.0,-999.000,-999.0000,-999.000,  -999.0,  2.8434,-999.000
    49RY9511_2,   P24,    23,  1,     16,  12823,2,19951122,1735, 24.6818, 135.3353, 5301,   1514.0,   2.5592,  34.5495,2,  34.5503,2,   -999.0,9,     88.1,2,   136.71,2,    39.37,2,     0.00,2,     2.85,2,    0.000,3,    0.000,2, -999.000,9,-999.0000,9,  -999.00,9,   -213.0,2,   -999,     4.0,-999.000,-999.0000,-999.000,  -999.0,  2.4554,-999.000
    49RY9511_2,   P24,    23,  1,     15,  12813,2,19951122,1735, 24.6818, 135.3353, 5301,   1768.3,   2.2062,  34.5847,2,  34.5851,2,   -999.0,9,    102.0,2,   139.82,2,    38.71,2,     0.00,2,     2.78,2,    0.000,3,    0.003,2, -999.000,9,-999.0000,9,  -999.00,9,   -221.0,2,   -999,     3.0,-999.000,-999.0000,-999.000,  -999.0,  2.0861,-999.000
    49RY9511_2,   P24,    23,  1,     14,  12822,2,19951122,1735, 24.6818, 135.3353, 5301,   2024.1,   1.9233,  34.6200,2,  34.6206,2,   -999.0,9,    117.5,2,   140.98,2,    37.88,2,     0.00,2,     2.72,2,    0.000,3,    0.000,2, -999.000,9,-999.0000,9,  -999.00,9,   -223.0,2,   -999,     4.0,-999.000,-999.0000,-999.000,  -999.0,  1.7860,-999.000
    49RY9511_2,   P24,    23,  1,     13,  12812,2,19951122,1735, 24.6818, 135.3353, 5301,   2276.6,   1.8147,  34.6353,2,  34.6353,2,   -999.0,9,    124.7,2,   140.99,2,    37.51,2,     0.00,2,     2.68,2, -999.000,9, -999.000,9, -999.000,9,-999.0000,9,  -999.00,9,   -213.0,2,   -999,     3.0,-999.000,-999.0000,-999.000,  2276.0,  1.6577,-999.000
    49RY9511_2,   P24,    23,  1,     12,  12821,2,19951122,1735, 24.6818, 135.3353, 5301,   2531.9,   1.7163,  34.6484,2,  34.6491,2,   -999.0,9,    132.7,2,   140.86,2,    37.05,2,     0.00,2,     2.64,2, -999.000,9, -999.000,9, -999.000,9,-999.0000,9,  -999.00,9,   -222.0,2,   -999,     4.0,-999.000,-999.0000,-999.000,  -999.0,  1.5384,-999.000
    49RY9511_2,   P24,    23,  1,     11,  12811,2,19951122,1735, 24.6818, 135.3353, 5301,   2787.1,   1.6503,  34.6571,2,  34.6581,2,   -999.0,9,    138.3,2,   140.82,2,    36.77,2,     0.00,2,     2.61,2, -999.000,9, -999.000,9, -999.000,9,-999.0000,9,  -999.00,9,   -214.0,2,   -999,     3.0,-999.000,-999.0000,-999.000,  -999.0,  1.4504,-999.000
    49RY9511_2,   P24,    23,  1,     10,  12820,2,19951122,1735, 24.6818, 135.3353, 5301,   3041.2,   1.6010,  34.6649,2,  34.6654,2,   -999.0,9,    142.0,2,   140.53,2,    36.43,2,     0.00,2,     2.59,2, -999.000,9, -999.000,9, -999.000,9,-999.0000,9,  -999.00,9,   -223.0,2,   -999,     4.0,-999.000,-999.0000,-999.000,  -999.0,  1.3781,-999.000
    49RY9511_2,   P24,    23,  1,      9,  12810,2,19951122,1735, 24.6818, 135.3353, 5301,   3298.3,   1.5496,  34.6720,2,  34.6735,2,   -999.0,9,    148.9,2,   140.04,2,    36.17,2,     0.00,2,     2.57,2, -999.000,9, -999.000,9, -999.000,9,-999.0000,9,  -999.00,9,   -215.0,2,   -999,     3.0,-999.000,-999.0000,-999.000,  3296.0,  1.3027,-999.000
    49RY9511_2,   P24,    23,  1,      8,  12819,2,19951122,1735, 24.6818, 135.3353, 5301,   3554.6,   1.5360,  34.6759,2,  34.6770,2,   -999.0,9,    151.1,2,   139.72,2,    36.01,2,     0.00,2,     2.55,2, -999.000,9, -999.000,9, -999.000,9,-999.0000,9,  -999.00,9,   -211.0,2,   -999,     4.0,-999.000,-999.0000,-999.000,  -999.0,  1.2634,-999.000
    49RY9511_2,   P24,    23,  1,      7,  12815,2,19951122,1735, 24.6818, 135.3353, 5301,   3809.2,   1.5447,  34.6784,2,  34.6784,2,   -999.0,9,    152.1,2,   139.81,2,    35.86,2,     0.00,2,     2.54,2, -999.000,9, -999.000,9, -999.000,9,-999.0000,9,  -999.00,9,   -999.0,9,   -999,  -999.0,-999.000,-999.0000,-999.000,  -999.0,  1.2452,-999.000
    49RY9511_2,   P24,    23,  1,      6,  12818,2,19951122,1735, 24.6818, 135.3353, 5301,   4065.9,   1.5475,  34.6806,2,  34.6816,2,   -999.0,9,    154.7,2,   139.20,2,    35.79,2,     0.00,2,     2.53,2, -999.000,9, -999.000,9, -999.000,9,-999.0000,9,  -999.00,9,   -208.0,2,   -999,     4.0,-999.000,-999.0000,-999.000,  -999.0,  1.2201,-999.000
    49RY9511_2,   P24,    23,  1,      5,  12809,2,19951122,1735, 24.6818, 135.3353, 5301,   4322.0,   1.5660,  34.6809,2,  34.6813,6,   -999.0,9,    156.5,2,   139.03,2,    35.71,2,     0.00,2,     2.53,2, -999.000,9, -999.000,9, -999.000,9,-999.0000,9,  -999.00,9,   -205.0,2,   -999,     4.0,-999.000,-999.0000,-999.000,  -999.0,  1.2095,-999.000
    49RY9511_2,   P24,    23,  1,      4,  12817,2,19951122,1735, 24.6818, 135.3353, 5301,   4579.4,   1.5888,  34.6817,2,  34.6826,6,   -999.0,9,    156.9,2,   138.76,2,    35.71,2,     0.00,2,     2.52,2, -999.000,9, -999.000,9, -999.000,9,-999.0000,9,  -999.00,9,   -999.0,9,   -999,  -999.0,-999.000,-999.0000,-999.000,  -999.0,  1.2019,-999.000
    49RY9511_2,   P24,    23,  1,      3,  12808,2,19951122,1735, 24.6818, 135.3353, 5301,   4836.7,   1.6155,  34.6820,2,  34.6829,6,   -999.0,9,    157.6,2,   138.72,2,    35.57,2,     0.00,2,     2.52,2, -999.000,9, -999.000,9, -999.000,9,-999.0000,9,  -999.00,9,   -210.0,2,   -999,     4.0,   1.612,-999.0000,-999.000,  4839.0,  1.1972,-999.000
    49RY9511_2,   P24,    23,  1,      2,  12914,2,19951122,1735, 24.6818, 135.3353, 5301,   5093.8,   1.6459,  34.6831,2,  34.6830,6,   -999.0,9,    156.6,2,   138.71,2,    35.61,2,     0.00,2,     2.52,2, -999.000,9, -999.000,9, -999.000,9,-999.0000,9,  -999.00,9,   -212.0,2,   -999,     4.0,-999.000,-999.0000,-999.000,  -999.0,  1.1952,-999.000
    49RY9511_2,   P24,    23,  1,      1,  12807,2,19951122,1735, 24.6818, 135.3353, 5301,   5375.8,   1.6823,  34.6823,2,  34.6832,6,   -999.0,9,    156.1,2,   138.72,2,    35.69,2,     0.00,2,     2.52,2, -999.000,9, -999.000,9, -999.000,9,-999.0000,9,  -999.00,9,   -202.0,2,   -999,     4.0,-999.000,-999.0000,-999.000,  -999.0,  1.1950,-999.000
    49RY9511_2,   P24,    23,  2,     13,  12812,2,19951122,2252, 24.6702, 135.3100, 5297,      6.5,  25.6733,  34.7964,2,  34.7969,2,   -999.0,9,    205.1,2,     1.45,2,     0.04,2,     0.00,2,     0.02,2,    1.615,3,    1.098,6, -999.000,9,-999.0000,9,  -999.00,9,    122.0,2,   -999,     5.0,-999.000,-999.0000,-999.000,    10.0, 25.6719,-999.000
    49RY9511_2,   P24,    23,  2,     12,  12821,2,19951122,2252, 24.6702, 135.3100, 5297,     25.6,  25.6787,  34.7944,2,  34.7967,2,   -999.0,9,    205.1,2,     1.44,2,     0.06,2,     0.00,2,     0.02,2, -999.000,9, -999.000,9, -999.000,9,-999.0000,9,  -999.00,9,   -999.0,9,   -999,  -999.0,-999.000,-999.0000,-999.000,  -999.0, 25.6731,-999.000
    49RY9511_2,   P24,    23,  2,     11,  12811,2,19951122,2252, 24.6702, 135.3100, 5297,     49.5,  25.2563,  34.8362,2,  34.8117,3,   -999.0,9,    208.2,2,     1.45,2,     0.01,2,     0.00,2,     0.03,2,    1.809,3,    1.116,2, -999.000,9,-999.0000,9,  -999.00,9,   -999.0,9,   -999,  -999.0,-999.000,-999.0000,-999.000,  -999.0, 25.2455,-999.000
    49RY9511_2,   P24,    23,  2,     10,  12820,2,19951122,2252, 24.6702, 135.3100, 5297,     76.0,  20.4994,  34.9234,2,  34.9230,2,   -999.0,9,    213.8,6,     1.88,6,     0.06,6,     0.00,6,     0.08,6, -999.000,9, -999.000,9, -999.000,9,-999.0000,9,  -999.00,9,   -999.0,9,   -999,  -999.0,-999.000,-999.0000,-999.000,  -999.0, 20.4852,-999.000
    49RY9511_2,   P24,    23,  2,      9,  12810,2,19951122,2252, 24.6702, 135.3100, 5297,    100.8,  19.2353,  34.9151,2,  34.9161,2,   -999.0,9,    207.2,2,     2.56,2,     1.68,2,     0.05,2,     0.17,2,    2.416,3,    1.387,3, -999.000,9,-999.0000,9,  -999.00,9,    119.0,2,   -999,     4.0,-999.000,-999.0000,-999.000,    96.0, 19.2172,-999.000
    49RY9511_2,   P24,    23,  2,      8,  12819,2,19951122,2252, 24.6702, 135.3100, 5297,    151.2,  18.0967,  34.8658,2,  34.8721,2,   -999.0,9,    200.2,2,     3.55,2,     3.91,2,     0.01,2,     0.31,2,    2.144,3,    1.328,2, -999.000,9,-999.0000,9,  -999.00,9,    120.0,2,   -999,     4.0,-999.000,-999.0000,-999.000,  -999.0, 18.0707,-999.000
    49RY9511_2,   P24,    23,  2,      7,  12815,2,19951122,2252, 24.6702, 135.3100, 5297,    201.1,  17.2830,  34.8220,2,  34.8217,2,   -999.0,9,    205.3,2,     4.32,2,     4.82,2,     0.00,2,     0.33,2, -999.000,9, -999.000,9, -999.000,9,-999.0000,9,  -999.00,9,   -999.0,9,   -999,  -999.0,-999.000,-999.0000,-999.000,  -999.0, 17.2494,-999.000
    49RY9511_2,   P24,    23,  2,      6,  12818,2,19951122,2252, 24.6702, 135.3100, 5297,    201.2,  17.2802,  34.8244,2,  34.8243,2,   -999.0,9,    205.2,2,     4.25,2,     4.73,2,     0.01,2,     0.34,2,    2.266,3,    1.383,3, -999.000,9,-999.0000,9,  -999.00,9,   -999.0,9,   -999,  -999.0,-999.000,-999.0000,-999.000,  -999.0, 17.2467,-999.000
    49RY9511_2,   P24,    23,  2,      5,  12809,2,19951122,2252, 24.6702, 135.3100, 5297,    302.6,  15.3783,  34.6506,2,  34.6518,2,   -999.0,9,    190.7,2,     9.11,2,     8.98,2,     0.00,2,     0.64,2,    2.096,3,    1.229,2, -999.000,9,-999.0000,9,  -999.00,9,   -999.0,9,   -999,  -999.0,-999.000,-999.0000,-999.000,  -999.0, 15.3316,-999.000
    49RY9511_2,   P24,    23,  2,      4,  12817,2,19951122,2252, 24.6702, 135.3100, 5297,    403.1,  13.1119,  34.4643,2,  34.4691,2,   -999.0,9,    184.3,2,    16.00,2,    13.41,2,     0.00,2,     0.95,2,    1.988,3,    1.167,2, -999.000,9,-999.0000,9,  -999.00,9,     80.0,2,   -999,     5.0,-999.000,-999.0000,-999.000,  -999.0, 13.0560,-999.000
    49RY9511_2,   P24,    23,  2,      3,  12808,2,19951122,2252, 24.6702, 135.3100, 5297,    503.9,   9.9507,  34.2492,2,  34.2553,2,   -999.0,9,    166.7,2,    31.61,2,    20.66,2,     0.00,2,     1.49,2,    1.664,3,    0.949,6, -999.000,9,-999.0000,9,  -999.00,9,     32.0,2,   -999,     5.0,   9.866,-999.0000,-999.000,   501.0,  9.8920,-999.000
    49RY9511_2,   P24,    23,  2,      2,  12914,2,19951122,2252, 24.6702, 135.3100, 5297,    605.2,   7.7891,  34.1501,2,  34.1505,2,   -999.0,9,    147.3,2,    48.27,2,    26.27,2,     0.00,2,     1.91,2,    1.564,3,    0.782,2, -999.000,9,-999.0000,9,  -999.00,9,   -999.0,9,   -999,  -999.0,-999.000,-999.0000,-999.000,  -999.0,  7.7280,-999.000
    49RY9511_2,   P24,    23,  2,      1,  12807,2,19951122,2252, 24.6702, 135.3100, 5297,    707.9,   6.1579,  34.1333,2,  34.1295,2,   -999.0,9,    114.7,2,    68.10,2,    31.79,2,     0.00,2,     2.32,2,    1.040,3,    0.566,2, -999.000,9,-999.0000,9,  -999.00,9,   -999.0,9,   -999,  -999.0,-999.000,-999.0000,-999.000,  -999.0,  6.0946,-999.000
    49RY9511_2,   P24,    23,  2,     23,  12829,2,19951122,2252, 24.6702, 135.3100, 5297,    808.3,   4.9971,  34.2078,2,  34.2944,4,   -999.0,9,   -999.0,9,  -999.00,9,  -999.00,9,  -999.00,9,  -999.00,9, -999.000,9, -999.000,9, -999.000,9,-999.0000,9,  -999.00,9,   -141.0,2,   -999,     4.0,-999.000,-999.0000,-999.000,  -999.0,  4.9312,-999.000
    49RY9511_2,   P24,    23,  2,     22,  12828,2,19951122,2252, 24.6702, 135.3100, 5297,    908.6,   4.2344,  34.3025,2,  34.2940,2,   -999.0,9,   -999.0,9,  -999.00,9,  -999.00,9,  -999.00,9,  -999.00,9, -999.000,9, -999.000,9, -999.000,9,-999.0000,9,  -999.00,9,   -999.0,9,   -999,  -999.0,-999.000,-999.0000,-999.000,  -999.0,  4.1649,-999.000