BOTTLE,20030404WHPSIOdm
EXPOCODE,SECT_ID,STNNBR,CASTNO,SAMPNO,BTLNBR,BTLNBR_FLAG_W,DATE,TIME,LATITUDE,LONGITUDE,DEPTH,CTDPRS,CTDTMP,CTDSAL,CTDSAL_FLAG_W,SALNTY,SALNTY_FLAG_W,CTDOXY,CTDOXY_FLAG_W,OXYGEN,OXYGEN_FLAG_W,SILCAT,SILCAT_FLAG_W,NITRAT,NITRAT_FLAG_W,NITRIT,NITRIT_FLAG_W,PHSPHT,PHSPHT_FLAG_W,CFC-11,CFC-11_FLAG_W,CFC-12,CFC-12_FLAG_W,TRITUM,TRITUM_FLAG_W,HELIUM,HELIUM_FLAG_W,DELHE3,DELHE3_FLAG_W,DELC14,DELC14_FLAG_W,CTDRAW,C14ERR,REVTMP,HELIER,DELHER,REVPRS,THETA,TRITER
,,,,,,,,,,,,DBAR,ITS-90,PSS-78,,PSS-78,,UMOL/KG,,UMOL/KG,,UMOL/KG,,UMOL/KG,,UMOL/KG,,UMOL/KG,,PMOL/KG,,PMOL/KG,,TU,,NMOL/KG,,PERCNT,,/MILLE,,,/MILLE,ITS-90,NMOL/KG,PERCNT,DBAR,DEG C,TU
    49RY9511_2,   P24,    18,  1,     20,  12826,2,19951121,0813, 26.3008, 134.3890, 5206,    806.1,   5.2548,  34.2242,2,  34.2263,2,   -999.0,9,     85.6,2,    88.25,2,    35.75,2,     0.00,2,     2.62,2, -999.000,9, -999.000,9, -999.000,9,-999.0000,9,  -999.00,9,   -999.0,9,   -999,  -999.0,-999.000,-999.0000,-999.000,  -999.0,  5.1876,-999.000
    49RY9511_2,   P24,    18,  1,     19,  12825,2,19951121,0813, 26.3008, 134.3890, 5206,    908.0,   4.2698,  34.3077,2,  34.3072,2,   -999.0,9,     66.3,2,   106.86,2,    38.84,2,     0.00,2,     2.83,2, -999.000,9, -999.000,9, -999.000,9,-999.0000,9,  -999.00,9,   -999.0,9,   -999,  -999.0,-999.000,-999.0000,-999.000,  -999.0,  4.2001,-999.000
    49RY9511_2,   P24,    18,  1,     18,  12824,2,19951121,0813, 26.3008, 134.3890, 5206,   1007.4,   3.8841,  34.3558,2,  34.3547,2,   -999.0,9,     62.9,2,   115.39,2,    39.65,2,     0.00,2,     2.89,2, -999.000,9, -999.000,9, -999.000,9,-999.0000,9,  -999.00,9,   -999.0,9,   -999,  -999.0,-999.000,-999.0000,-999.000,  -999.0,  3.8090,-999.000
    49RY9511_2,   P24,    18,  1,     17,  12814,2,19951121,0813, 26.3008, 134.3890, 5206,   1259.8,   2.9712,  34.4734,2,  34.4721,2,   -999.0,9,     69.6,2,   132.98,2,    40.33,2,     0.00,2,     2.92,2, -999.000,9, -999.000,9, -999.000,9,-999.0000,9,  -999.00,9,   -999.0,9,   -999,  -999.0,-999.000,-999.0000,-999.000,  -999.0,  2.8835,-999.000
    49RY9511_2,   P24,    18,  1,     16,  12823,2,19951121,0813, 26.3008, 134.3890, 5206,   1514.5,   2.4482,  34.5437,2,  34.5429,2,   -999.0,9,     90.5,2,   139.61,2,    39.56,2,     0.00,2,     2.85,2, -999.000,9, -999.000,9, -999.000,9,-999.0000,9,  -999.00,9,   -999.0,9,   -999,  -999.0,-999.000,-999.0000,-999.000,  -999.0,  2.3457,-999.000
    49RY9511_2,   P24,    18,  1,     15,  12813,2,19951121,0813, 26.3008, 134.3890, 5206,   1765.4,   2.1320,  34.5878,2,  34.5889,2,   -999.0,9,    105.5,2,   141.47,2,    38.66,2,     0.00,2,     2.77,2, -999.000,9, -999.000,9, -999.000,9,-999.0000,9,  -999.00,9,   -999.0,9,   -999,  -999.0,-999.000,-999.0000,-999.000,  -999.0,  2.0131,-999.000
    49RY9511_2,   P24,    18,  1,     14,  12822,2,19951121,0813, 26.3008, 134.3890, 5206,   2021.1,   1.9313,  34.6175,2,  34.6170,2,   -999.0,9,    117.7,2,   141.77,2,    38.06,2,     0.00,2,     2.71,2, -999.000,9, -999.000,9, -999.000,9,-999.0000,9,  -999.00,9,   -999.0,9,   -999,  -999.0,-999.000,-999.0000,-999.000,  -999.0,  1.7942,-999.000
    49RY9511_2,   P24,    18,  1,     13,  12812,2,19951121,0813, 26.3008, 134.3890, 5206,   2276.0,   1.7742,  34.6386,2,  34.6391,2,   -999.0,9,    130.0,2,   141.74,2,    37.47,2,     0.00,2,     2.65,2, -999.000,9, -999.000,9, -999.000,9,-999.0000,9,  -999.00,9,   -999.0,9,   -999,  -999.0,-999.000,-999.0000,-999.000,  2278.0,  1.6179,-999.000
    49RY9511_2,   P24,    18,  1,     12,  12821,2,19951121,0813, 26.3008, 134.3890, 5206,   2532.1,   1.6809,  34.6515,2,  34.6522,2,   -999.0,9,    137.1,2,   141.66,2,    36.96,2,     0.00,2,     2.63,2, -999.000,9, -999.000,9, -999.000,9,-999.0000,9,  -999.00,9,   -999.0,9,   -999,  -999.0,-999.000,-999.0000,-999.000,  -999.0,  1.5037,-999.000
    49RY9511_2,   P24,    18,  1,     11,  12811,2,19951121,0813, 26.3008, 134.3890, 5206,   2784.4,   1.5963,  34.6633,2,  34.6631,2,   -999.0,9,    142.8,2,   141.33,2,    36.59,2,     0.00,2,     2.59,2, -999.000,9, -999.000,9, -999.000,9,-999.0000,9,  -999.00,9,   -999.0,9,   -999,  -999.0,-999.000,-999.0000,-999.000,  -999.0,  1.3978,-999.000
    49RY9511_2,   P24,    18,  1,     10,  12820,2,19951121,0813, 26.3008, 134.3890, 5206,   3039.4,   1.5608,  34.6684,2,  34.6690,2,   -999.0,9,    146.5,2,   141.01,2,    36.40,2,     0.00,2,     2.57,2, -999.000,9, -999.000,9, -999.000,9,-999.0000,9,  -999.00,9,   -999.0,9,   -999,  -999.0,-999.000,-999.0000,-999.000,  -999.0,  1.3389,-999.000
    49RY9511_2,   P24,    18,  1,      9,  12810,2,19951121,0813, 26.3008, 134.3890, 5206,   3295.4,   1.5415,  34.6739,2,  34.6731,2,   -999.0,9,    149.3,2,   140.92,2,    36.26,2,     0.00,2,     2.57,2, -999.000,9, -999.000,9, -999.000,9,-999.0000,9,  -999.00,9,   -999.0,9,   -999,  -999.0,-999.000,-999.0000,-999.000,  3296.0,  1.2950,-999.000
    49RY9511_2,   P24,    18,  1,      8,  12819,2,19951121,0813, 26.3008, 134.3890, 5206,   3551.6,   1.5412,  34.6766,2,  34.6760,2,   -999.0,9,    151.2,2,   140.82,2,    36.12,2,     0.00,2,     2.54,2, -999.000,9, -999.000,9, -999.000,9,-999.0000,9,  -999.00,9,   -999.0,9,   -999,  -999.0,-999.000,-999.0000,-999.000,  -999.0,  1.2688,-999.000
    49RY9511_2,   P24,    18,  1,      7,  12815,2,19951121,0813, 26.3008, 134.3890, 5206,   3807.3,   1.5523,  34.6772,2,  34.6776,2,   -999.0,9,    152.3,2,   140.52,2,    36.05,2,     0.00,2,     2.53,2, -999.000,9, -999.000,9, -999.000,9,-999.0000,9,  -999.00,9,   -999.0,9,   -999,  -999.0,-999.000,-999.0000,-999.000,  -999.0,  1.2527,-999.000
    49RY9511_2,   P24,    18,  1,      6,  12818,2,19951121,0813, 26.3008, 134.3890, 5206,   4066.4,   1.5691,  34.6790,2,  34.6788,2,   -999.0,9,    153.3,2,   140.18,2,    35.98,2,     0.00,2,     2.53,2, -999.000,9, -999.000,9, -999.000,9,-999.0000,9,  -999.00,9,   -999.0,9,   -999,  -999.0,-999.000,-999.0000,-999.000,  -999.0,  1.2410,-999.000
    49RY9511_2,   P24,    18,  1,      5,  12809,2,19951121,0813, 26.3008, 134.3890, 5206,   4320.8,   1.5902,  34.6799,2,  34.6796,2,   -999.0,9,    154.1,2,   140.38,2,    36.00,2,     0.00,2,     2.53,2, -999.000,9, -999.000,9, -999.000,9,-999.0000,9,  -999.00,9,   -999.0,9,   -999,  -999.0,-999.000,-999.0000,-999.000,  -999.0,  1.2331,-999.000
    49RY9511_2,   P24,    18,  1,      4,  12817,2,19951121,0813, 26.3008, 134.3890, 5206,   4579.5,   1.6147,  34.6807,2,  34.6806,2,   -999.0,9,    154.6,2,   140.17,2,    35.97,2,     0.00,2,     2.53,2, -999.000,9, -999.000,9, -999.000,9,-999.0000,9,  -999.00,9,   -999.0,9,   -999,  -999.0,-999.000,-999.0000,-999.000,  -999.0,  1.2270,-999.000
    49RY9511_2,   P24,    18,  1,      3,  12808,2,19951121,0813, 26.3008, 134.3890, 5206,   4834.9,   1.6419,  34.6811,2,  34.6810,2,   -999.0,9,    154.4,6,   140.03,6,    36.00,6,     0.00,6,     2.52,6, -999.000,9, -999.000,9, -999.000,9,-999.0000,9,  -999.00,9,   -999.0,9,   -999,  -999.0,   1.639,-999.0000,-999.000,  4837.0,  1.2230,-999.000
    49RY9511_2,   P24,    18,  1,      2,  12914,2,19951121,0813, 26.3008, 134.3890, 5206,   5092.8,   1.6707,  34.6801,2,  34.6808,2,   -999.0,9,    155.4,2,   139.97,2,    36.01,2,     0.00,2,     2.53,2, -999.000,9, -999.000,9, -999.000,9,-999.0000,9,  -999.00,9,   -999.0,9,   -999,  -999.0,-999.000,-999.0000,-999.000,  -999.0,  1.2193,-999.000
    49RY9511_2,   P24,    18,  1,      1,  12807,2,19951121,0813, 26.3008, 134.3890, 5206,   5287.3,   1.6945,  34.6807,2,  34.6814,2,   -999.0,9,    155.2,2,   140.02,2,    35.96,2,     0.00,2,     2.52,2, -999.000,9, -999.000,9, -999.000,9,-999.0000,9,  -999.00,9,   -999.0,9,   -999,  -999.0,-999.000,-999.0000,-999.000,  -999.0,  1.2180,-999.000
    49RY9511_2,   P24,    18,  2,     13,  12812,2,19951121,1114, 26.2795, 134.4055, 5204,      4.1,  25.1636,  34.8027,2,  34.7981,2,   -999.0,9,    207.8,2,     1.36,2,     0.01,2,     0.00,2,     0.03,2, -999.000,9, -999.000,9, -999.000,9,-999.0000,9,  -999.00,9,   -999.0,9,   -999,  -999.0,-999.000,-999.0000,-999.000,     9.0, 25.1627,-999.000
    49RY9511_2,   P24,    18,  2,     12,  12821,2,19951121,1114, 26.2795, 134.4055, 5204,     25.0,  25.1732,  34.8001,2,  34.7981,2,   -999.0,9,    207.2,2,     1.46,2,     0.04,2,     0.00,2,     0.02,2, -999.000,9, -999.000,9, -999.000,9,-999.0000,9,  -999.00,9,   -999.0,9,   -999,  -999.0,-999.000,-999.0000,-999.000,  -999.0, 25.1678,-999.000
    49RY9511_2,   P24,    18,  2,     11,  12811,2,19951121,1114, 26.2795, 134.4055, 5204,     49.9,  25.1730,  34.8000,2,  34.7991,2,   -999.0,9,    207.2,2,     1.54,2,     0.00,2,     0.00,2,     0.02,2, -999.000,9, -999.000,9, -999.000,9,-999.0000,9,  -999.00,9,   -999.0,9,   -999,  -999.0,-999.000,-999.0000,-999.000,  -999.0, 25.1621,-999.000
    49RY9511_2,   P24,    18,  2,     10,  12820,2,19951121,1114, 26.2795, 134.4055, 5204,     75.1,  25.1765,  34.7969,2,  34.7995,2,   -999.0,9,    208.3,2,     1.46,2,     0.03,2,     0.00,2,     0.04,2, -999.000,9, -999.000,9, -999.000,9,-999.0000,9,  -999.00,9,   -999.0,9,   -999,  -999.0,-999.000,-999.0000,-999.000,  -999.0, 25.1601,-999.000
    49RY9511_2,   P24,    18,  2,      9,  12810,2,19951121,1114, 26.2795, 134.4055, 5204,    100.0,  22.5648,  34.9119,2,  34.9131,2,   -999.0,9,    217.5,2,     1.76,2,     0.00,2,     0.00,2,     0.04,2, -999.000,9, -999.000,9, -999.000,9,-999.0000,9,  -999.00,9,   -999.0,9,   -999,  -999.0,-999.000,-999.0000,-999.000,    96.0, 22.5447,-999.000
    49RY9511_2,   P24,    18,  2,      8,  12819,2,19951121,1114, 26.2795, 134.4055, 5204,    150.4,  19.3055,  34.8943,2,  34.9360,3,   -999.0,9,    208.5,2,     2.55,2,     2.08,2,     0.02,2,     0.18,2, -999.000,9, -999.000,9, -999.000,9,-999.0000,9,  -999.00,9,   -999.0,9,   -999,  -999.0,-999.000,-999.0000,-999.000,  -999.0, 19.2784,-999.000
    49RY9511_2,   P24,    18,  2,      7,  12815,2,19951121,1114, 26.2795, 134.4055, 5204,    199.1,  18.0887,  34.8602,2,  34.8763,3,   -999.0,9,    202.7,2,     3.29,2,     3.67,2,     0.01,2,     0.27,2, -999.000,9, -999.000,9, -999.000,9,-999.0000,9,  -999.00,9,   -999.0,9,   -999,  -999.0,-999.000,-999.0000,-999.000,  -999.0, 18.0544,-999.000
    49RY9511_2,   P24,    18,  2,      6,  12818,2,19951121,1114, 26.2795, 134.4055, 5204,    302.3,  16.3647,  34.7455,2,  34.7426,3,   -999.0,9,    198.4,2,     6.58,2,     6.84,2,     0.00,2,     0.47,2, -999.000,9, -999.000,9, -999.000,9,-999.0000,9,  -999.00,9,   -999.0,9,   -999,  -999.0,-999.000,-999.0000,-999.000,  -999.0, 16.3161,-999.000
    49RY9511_2,   P24,    18,  2,      4,  12817,2,19951121,1114, 26.2795, 134.4055, 5204,    403.1,  14.4625,  34.5729,2,  34.5773,2,   -999.0,9,    185.9,2,    12.32,2,    11.02,2,     0.00,2,     0.77,2, -999.000,9, -999.000,9, -999.000,9,-999.0000,9,  -999.00,9,   -999.0,9,   -999,  -999.0,-999.000,-999.0000,-999.000,  -999.0, 14.4028,-999.000
    49RY9511_2,   P24,    18,  2,      5,  12809,2,19951121,1114, 26.2795, 134.4055, 5204,    403.8,  14.4385,  34.5783,2,  34.5749,2,   -999.0,9,    184.9,2,    12.08,2,    11.14,2,     0.00,2,     0.75,2, -999.000,9, -999.000,9, -999.000,9,-999.0000,9,  -999.00,9,   -999.0,9,   -999,  -999.0,-999.000,-999.0000,-999.000,  -999.0, 14.3787,-999.000
    49RY9511_2,   P24,    18,  2,      3,  12808,2,19951121,1114, 26.2795, 134.4055, 5204,    501.5,  11.8499,  34.3967,2,  34.3974,2,   -999.0,9,    170.6,2,    23.59,2,    17.03,2,     0.00,2,     1.20,2, -999.000,9, -999.000,9, -999.000,9,-999.0000,9,  -999.00,9,   -999.0,9,   -999,  -999.0,  11.851,-999.0000,-999.000,   502.0, 11.7846,-999.000
    49RY9511_2,   P24,    18,  2,      2,  12914,2,19951121,1114, 26.2795, 134.4055, 5204,    604.5,   9.0130,  34.2467,2,  34.2426,2,   -999.0,9,    150.0,2,    42.36,2,    23.87,2,     0.00,2,     1.71,2, -999.000,9, -999.000,9, -999.000,9,-999.0000,9,  -999.00,9,   -999.0,9,   -999,  -999.0,-999.000,-999.0000,-999.000,  -999.0,  8.9464,-999.000
    49RY9511_2,   P24,    18,  2,      1,  12807,2,19951121,1114, 26.2795, 134.4055, 5204,    705.5,   6.8999,  34.1978,2,  34.1852,3,   -999.0,9,    118.1,2,    63.53,2,    30.26,2,     0.00,2,     2.18,2, -999.000,9, -999.000,9, -999.000,9,-999.0000,9,  -999.00,9,   -999.0,9,   -999,  -999.0,-999.000,-999.0000,-999.000,  -999.0,  6.8328,-999.000
    49RY9511_2,   P24,    19,  1,     21,  12827,2,19951121,1454, 26.0263, 134.5537, 4875,    807.5,   5.1345,  34.1957,2,  34.1960,2,   -999.0,9,     85.7,2,    87.57,2,    36.05,2,     0.00,2,     2.61,2, -999.000,9, -999.000,9, -999.000,9,-999.0000,9,  -999.00,9,   -999.0,9,   -999,  -999.0,-999.000,-999.0000,-999.000,  -999.0,  5.0680,-999.000
    49RY9511_2,   P24,    19,  1,     20,  12826,2,19951121,1454, 26.0263, 134.5537, 4875,    908.0,   4.3188,  34.2925,2,  34.2932,2,   -999.0,9,     65.5,2,   105.48,2,    38.84,2,     0.00,2,     2.81,2, -999.000,9, -999.000,9, -999.000,9,-999.0000,9,  -999.00,9,   -999.0,9,   -999,  -999.0,-999.000,-999.0000,-999.000,  -999.0,  4.2488,-999.000
    49RY9511_2,   P24,    19,  1,     19,  12825,2,19951121,1454, 26.0263, 134.5537, 4875,   1008.2,   3.8332,  34.3635,2,  34.3634,2,   -999.0,9,     61.7,2,   115.98,2,    39.77,2,     0.00,2,     2.88,2, -999.000,9, -999.000,9, -999.000,9,-999.0000,9,  -999.00,9,   -999.0,9,   -999,  -999.0,-999.000,-999.0000,-999.000,  -999.0,  3.7584,-999.000
    49RY9511_2,   P24,    19,  1,     18,  12824,2,19951121,1454, 26.0263, 134.5537, 4875,   1261.3,   2.9559,  34.4751,2,  34.4746,2,   -999.0,9,     69.8,2,   132.61,2,    40.14,2,     0.00,2,     2.90,2, -999.000,9, -999.000,9, -999.000,9,-999.0000,9,  -999.00,9,   -999.0,9,   -999,  -999.0,-999.000,-999.0000,-999.000,  -999.0,  2.8682,-999.000
    49RY9511_2,   P24,    19,  1,     17,  12814,2,19951121,1454, 26.0263, 134.5537, 4875,   1515.4,   2.4810,  34.5362,2,  34.5360,2,   -999.0,9,     83.7,2,   139.37,2,    39.70,2,     0.00,2,     2.84,2, -999.000,9, -999.000,9, -999.000,9,-999.0000,9,  -999.00,9,   -999.0,9,   -999,  -999.0,-999.000,-999.0000,-999.000,  -999.0,  2.3780,-999.000
    49RY9511_2,   P24,    19,  1,     16,  12823,2,19951121,1454, 26.0263, 134.5537, 4875,   1766.8,   2.1513,  34.5862,2,  34.5855,2,   -999.0,9,    102.5,2,   140.97,2,    38.70,2,     0.00,2,     2.76,2, -999.000,9, -999.000,9, -999.000,9,-999.0000,9,  -999.00,9,   -999.0,9,   -999,  -999.0,-999.000,-999.0000,-999.000,  -999.0,  2.0321,-999.000
    49RY9511_2,   P24,    19,  1,     13,  12812,2,19951121,1454, 26.0263, 134.5537, 4875,   2022.8,   1.9410,  34.6150,2,  34.6162,2,   -999.0,9,   -999.0,9,  -999.00,9,  -999.00,9,  -999.00,9,  -999.00,9, -999.000,9, -999.000,9, -999.000,9,-999.0000,9,  -999.00,9,   -999.0,9,   -999,  -999.0,-999.000,-999.0000,-999.000,  2019.0,  1.8036,-999.000
    49RY9511_2,   P24,    19,  1,     14,  12822,2,19951121,1454, 26.0263, 134.5537, 4875,   2023.7,   1.9412,  34.6170,2,  34.6168,2,   -999.0,9,   -999.0,9,  -999.00,9,  -999.00,9,  -999.00,9,  -999.00,9, -999.000,9, -999.000,9, -999.000,9,-999.0000,9,  -999.00,9,   -999.0,9,   -999,  -999.0,-999.000,-999.0000,-999.000,  -999.0,  1.8037,-999.000
    49RY9511_2,   P24,    19,  1,     15,  12813,2,19951121,1454, 26.0263, 134.5537, 4875,   2024.6,   1.9415,  34.6164,2,  34.6166,2,   -999.0,9,    116.3,2,   141.31,2,    37.93,2,     0.00,2,     2.70,2, -999.000,9, -999.000,9, -999.000,9,-999.0000,9,  -999.00,9,   -999.0,9,   -999,  -999.0,-999.000,-999.0000,-999.000,  -999.0,  1.8039,-999.000
    49RY9511_2,   P24,    19,  1,     12,  12821,2,19951121,1454, 26.0263, 134.5537, 4875,   2275.4,   1.8040,  34.6344,2,  34.6357,2,   -999.0,9,    126.8,2,   141.45,2,    37.48,2,     0.00,2,     2.65,2, -999.000,9, -999.000,9, -999.000,9,-999.0000,9,  -999.00,9,   -999.0,9,   -999,  -999.0,-999.000,-999.0000,-999.000,  -999.0,  1.6473,-999.000
    49RY9511_2,   P24,    19,  1,     11,  12811,2,19951121,1454, 26.0263, 134.5537, 4875,   2532.4,   1.7042,  34.6491,2,  34.6491,2,   -999.0,9,    135.3,2,   141.27,2,    37.00,2,     0.00,2,     2.61,2, -999.000,9, -999.000,9, -999.000,9,-999.0000,9,  -999.00,9,   -999.0,9,   -999,  -999.0,-999.000,-999.0000,-999.000,  -999.0,  1.5266,-999.000
    49RY9511_2,   P24,    19,  1,     10,  12820,2,19951121,1454, 26.0263, 134.5537, 4875,   2785.7,   1.6201,  34.6614,2,  34.6603,2,   -999.0,9,    142.0,2,   140.98,2,    36.71,2,     0.00,2,     2.59,2, -999.000,9, -999.000,9, -999.000,9,-999.0000,9,  -999.00,9,   -999.0,9,   -999,  -999.0,-999.000,-999.0000,-999.000,  -999.0,  1.4209,-999.000
    49RY9511_2,   P24,    19,  1,      9,  12810,2,19951121,1454, 26.0263, 134.5537, 4875,   3039.3,   1.5678,  34.6680,2,  34.6680,2,   -999.0,9,    145.3,2,   140.58,2,    36.32,2,     0.00,2,     2.55,2, -999.000,9, -999.000,9, -999.000,9,-999.0000,9,  -999.00,9,   -999.0,9,   -999,  -999.0,-999.000,-999.0000,-999.000,  3039.0,  1.3457,-999.000
    49RY9511_2,   P24,    19,  1,      8,  12819,2,19951121,1454, 26.0263, 134.5537, 4875,   3295.6,   1.5417,  34.6736,2,  34.6733,2,   -999.0,9,    148.5,2,   140.47,2,    36.18,2,     0.00,2,     2.54,2, -999.000,9, -999.000,9, -999.000,9,-999.0000,9,  -999.00,9,   -999.0,9,   -999,  -999.0,-999.000,-999.0000,-999.000,  -999.0,  1.2952,-999.000
    49RY9511_2,   P24,    19,  1,      7,  12815,2,19951121,1454, 26.0263, 134.5537, 4875,   3551.6,   1.5435,  34.6765,2,  34.6753,2,   -999.0,9,    150.4,2,   140.34,2,    36.03,2,     0.00,2,     2.52,2, -999.000,9, -999.000,9, -999.000,9,-999.0000,9,  -999.00,9,   -999.0,9,   -999,  -999.0,-999.000,-999.0000,-999.000,  -999.0,  1.2710,-999.000
    49RY9511_2,   P24,    19,  1,      6,  12818,2,19951121,1454, 26.0263, 134.5537, 4875,   3809.0,   1.5544,  34.6782,2,  34.6776,2,   -999.0,9,    152.3,2,   140.26,2,    35.95,2,     0.00,2,     2.52,2, -999.000,9, -999.000,9, -999.000,9,-999.0000,9,  -999.00,9,   -999.0,9,   -999,  -999.0,-999.000,-999.0000,-999.000,  -999.0,  1.2547,-999.000
    49RY9511_2,   P24,    19,  1,      5,  12809,2,19951121,1454, 26.0263, 134.5537, 4875,   4064.7,   1.5704,  34.6782,2,  34.6784,2,   -999.0,9,    152.3,2,   139.98,2,    35.92,2,     0.00,2,     2.52,2, -999.000,9, -999.000,9, -999.000,9,-999.0000,9,  -999.00,9,   -999.0,9,   -999,  -999.0,-999.000,-999.0000,-999.000,  -999.0,  1.2424,-999.000
    49RY9511_2,   P24,    19,  1,      4,  12817,2,19951121,1454, 26.0263, 134.5537, 4875,   4321.9,   1.5919,  34.6797,2,  34.6792,2,   -999.0,9,    153.3,2,   139.86,2,    35.83,2,     0.00,2,     2.53,2, -999.000,9, -999.000,9, -999.000,9,-999.0000,9,  -999.00,9,   -999.0,9,   -999,  -999.0,-999.000,-999.0000,-999.000,  -999.0,  1.2346,-999.000
    49RY9511_2,   P24,    19,  1,      3,  12808,2,19951121,1454, 26.0263, 134.5537, 4875,   4577.8,   1.6178,  34.6804,2,  34.6798,2,   -999.0,9,    153.7,6,   139.81,6,    35.87,6,     0.00,6,     2.51,6, -999.000,9, -999.000,9, -999.000,9,-999.0000,9,  -999.00,9,   -999.0,9,   -999,  -999.0,   1.616,-999.0000,-999.000,  4578.0,  1.2302,-999.000
    49RY9511_2,   P24,    19,  1,      2,  12914,2,19951121,1454, 26.0263, 134.5537, 4875,   4835.3,   1.6468,  34.6808,2,  34.6802,2,   -999.0,9,    152.9,2,   139.82,2,    35.77,2,     0.00,2,     2.52,2, -999.000,9, -999.000,9, -999.000,9,-999.0000,9,  -999.00,9,   -999.0,9,   -999,  -999.0,-999.000,-999.0000,-999.000,  -999.0,  1.2277,-999.000
    49RY9511_2,   P24,    19,  1,      1,  12807,2,19951121,1454, 26.0263, 134.5537, 4875,   4900.8,   1.6542,  34.6799,2,  34.6804,2,   -999.0,9,    154.3,2,   139.78,2,    35.73,2,     0.00,2,     2.51,2, -999.000,9, -999.000,9, -999.000,9,-999.0000,9,  -999.00,9,   -999.0,9,   -999,  -999.0,-999.000,-999.0000,-999.000,  -999.0,  1.2269,-999.000