BOTTLE,20030404WHPSIOdm
EXPOCODE,SECT_ID,STNNBR,CASTNO,SAMPNO,BTLNBR,BTLNBR_FLAG_W,DATE,TIME,LATITUDE,LONGITUDE,DEPTH,CTDPRS,CTDTMP,CTDSAL,CTDSAL_FLAG_W,SALNTY,SALNTY_FLAG_W,CTDOXY,CTDOXY_FLAG_W,OXYGEN,OXYGEN_FLAG_W,SILCAT,SILCAT_FLAG_W,NITRAT,NITRAT_FLAG_W,NITRIT,NITRIT_FLAG_W,PHSPHT,PHSPHT_FLAG_W,CFC-11,CFC-11_FLAG_W,CFC-12,CFC-12_FLAG_W,TRITUM,TRITUM_FLAG_W,HELIUM,HELIUM_FLAG_W,DELHE3,DELHE3_FLAG_W,DELC14,DELC14_FLAG_W,CTDRAW,C14ERR,REVTMP,HELIER,DELHER,REVPRS,THETA,TRITER
,,,,,,,,,,,,DBAR,ITS-90,PSS-78,,PSS-78,,UMOL/KG,,UMOL/KG,,UMOL/KG,,UMOL/KG,,UMOL/KG,,UMOL/KG,,PMOL/KG,,PMOL/KG,,TU,,NMOL/KG,,PERCNT,,/MILLE,,,/MILLE,ITS-90,NMOL/KG,PERCNT,DBAR,DEG C,TU
    49RY9511_2,   P24,    21,  1,     20,  12826,2,19951122,0303, 25.4062, 134.9098, 4991,    809.2,   4.9168,  34.2160,2,  34.2147,2,   -999.0,9,     74.5,2,    91.05,2,    37.46,2,     0.00,2,     2.71,2, -999.000,9, -999.000,9, -999.000,9,-999.0000,9,  -999.00,9,   -999.0,9,   -999,  -999.0,-999.000,-999.0000,-999.000,  -999.0,  4.8514,-999.000
    49RY9511_2,   P24,    21,  1,     19,  12825,2,19951122,0303, 25.4062, 134.9098, 4991,    908.5,   4.2101,  34.2981,2,  34.2980,2,   -999.0,9,     60.7,2,   106.96,2,    39.64,2,     0.00,2,     2.86,2, -999.000,9, -999.000,9, -999.000,9,-999.0000,9,  -999.00,9,   -999.0,9,   -999,  -999.0,-999.000,-999.0000,-999.000,  -999.0,  4.1408,-999.000
    49RY9511_2,   P24,    21,  1,     18,  12824,2,19951122,0303, 25.4062, 134.9098, 4991,   1009.4,   3.8868,  34.3668,2,  34.3657,2,   -999.0,9,     58.2,2,   114.40,2,    40.25,2,     0.00,2,     2.91,2, -999.000,9, -999.000,9, -999.000,9,-999.0000,9,  -999.00,9,   -999.0,9,   -999,  -999.0,-999.000,-999.0000,-999.000,  -999.0,  3.8115,-999.000
    49RY9511_2,   P24,    21,  1,     17,  12814,2,19951122,0303, 25.4062, 134.9098, 4991,   1262.6,   2.9718,  34.4746,2,  34.4748,2,   -999.0,9,     68.1,2,   132.87,2,    40.68,2,     0.00,2,     2.92,2, -999.000,9, -999.000,9, -999.000,9,-999.0000,9,  -999.00,9,   -999.0,9,   -999,  -999.0,-999.000,-999.0000,-999.000,  -999.0,  2.8838,-999.000
    49RY9511_2,   P24,    21,  1,     16,  12823,2,19951122,0303, 25.4062, 134.9098, 4991,   1512.8,   2.4674,  34.5417,2,  34.5431,2,   -999.0,9,     86.4,2,   139.32,2,    39.93,2,     0.00,2,     2.84,2, -999.000,9, -999.000,9, -999.000,9,-999.0000,9,  -999.00,9,   -999.0,9,   -999,  -999.0,-999.000,-999.0000,-999.000,  -999.0,  2.3648,-999.000
    49RY9511_2,   P24,    21,  1,     15,  12813,2,19951122,0303, 25.4062, 134.9098, 4991,   1768.7,   2.1356,  34.5873,2,  34.5871,2,   -999.0,9,    103.1,2,   141.71,2,    39.04,2,     0.00,2,     2.76,2, -999.000,9, -999.000,9, -999.000,9,-999.0000,9,  -999.00,9,   -999.0,9,   -999,  -999.0,-999.000,-999.0000,-999.000,  -999.0,  2.0164,-999.000
    49RY9511_2,   P24,    21,  1,     14,  12822,2,19951122,0303, 25.4062, 134.9098, 4991,   2021.3,   1.9615,  34.6138,2,  34.6135,2,   -999.0,9,    115.4,2,   141.71,2,    38.29,2,     0.00,2,     2.71,2, -999.000,9, -999.000,9, -999.000,9,-999.0000,9,  -999.00,9,   -999.0,9,   -999,  -999.0,-999.000,-999.0000,-999.000,  -999.0,  1.8239,-999.000
    49RY9511_2,   P24,    21,  1,     13,  12812,2,19951122,0303, 25.4062, 134.9098, 4991,   2275.1,   1.8022,  34.6361,2,  34.6361,2,   -999.0,9,    127.0,2,   141.69,2,    37.70,2,     0.00,2,     2.65,2, -999.000,9, -999.000,9, -999.000,9,-999.0000,9,  -999.00,9,   -999.0,9,   -999,  -999.0,-999.000,-999.0000,-999.000,  2273.0,  1.6455,-999.000
    49RY9511_2,   P24,    21,  1,     12,  12821,2,19951122,0303, 25.4062, 134.9098, 4991,   2533.7,   1.7065,  34.6489,2,  34.6495,2,   -999.0,9,    134.5,2,   141.42,2,    37.24,2,     0.00,2,     2.61,2, -999.000,9, -999.000,9, -999.000,9,-999.0000,9,  -999.00,9,   -999.0,9,   -999,  -999.0,-999.000,-999.0000,-999.000,  -999.0,  1.5287,-999.000
    49RY9511_2,   P24,    21,  1,     10,  12820,2,19951122,0303, 25.4062, 134.9098, 4991,   2787.2,   1.6307,  34.6593,2,  34.6595,2,   -999.0,9,    140.3,2,   141.15,2,    36.82,2,     0.00,2,     2.58,2, -999.000,9, -999.000,9, -999.000,9,-999.0000,9,  -999.00,9,   -999.0,9,   -999,  -999.0,-999.000,-999.0000,-999.000,  -999.0,  1.4312,-999.000
    49RY9511_2,   P24,    21,  1,     11,  12811,2,19951122,0303, 25.4062, 134.9098, 4991,   2788.4,   1.6309,  34.6593,2,  34.6589,2,   -999.0,9,    138.5,2,   141.39,2,    36.83,2,     0.00,2,     2.57,2, -999.000,9, -999.000,9, -999.000,9,-999.0000,9,  -999.00,9,   -999.0,9,   -999,  -999.0,-999.000,-999.0000,-999.000,  -999.0,  1.4313,-999.000
    49RY9511_2,   P24,    21,  1,      9,  12810,2,19951122,0303, 25.4062, 134.9098, 4991,   3044.2,   1.5794,  34.6669,2,  34.6670,2,   -999.0,9,    144.3,2,   141.05,2,    36.60,2,     0.00,2,     2.56,2, -999.000,9, -999.000,9, -999.000,9,-999.0000,9,  -999.00,9,   -999.0,9,   -999,  -999.0,-999.000,-999.0000,-999.000,  3042.0,  1.3567,-999.000
    49RY9511_2,   P24,    21,  1,      8,  12819,2,19951122,0303, 25.4062, 134.9098, 4991,   3298.2,   1.5537,  34.6716,2,  34.6721,2,   -999.0,9,    148.3,2,   140.79,2,    36.37,2,     0.00,2,     2.54,2, -999.000,9, -999.000,9, -999.000,9,-999.0000,9,  -999.00,9,   -999.0,9,   -999,  -999.0,-999.000,-999.0000,-999.000,  -999.0,  1.3067,-999.000
    49RY9511_2,   P24,    21,  1,      7,  12815,2,19951122,0303, 25.4062, 134.9098, 4991,   3553.4,   1.5431,  34.6758,2,  34.6756,2,   -999.0,9,    150.4,2,   140.72,2,    36.20,2,     0.00,2,     2.53,2, -999.000,9, -999.000,9, -999.000,9,-999.0000,9,  -999.00,9,   -999.0,9,   -999,  -999.0,-999.000,-999.0000,-999.000,  -999.0,  1.2705,-999.000
    49RY9511_2,   P24,    21,  1,      6,  12818,2,19951122,0303, 25.4062, 134.9098, 4991,   3808.1,   1.5481,  34.6776,2,  34.6770,2,   -999.0,9,    153.1,2,   140.29,2,    36.15,2,     0.00,2,     2.52,2, -999.000,9, -999.000,9, -999.000,9,-999.0000,9,  -999.00,9,   -999.0,9,   -999,  -999.0,-999.000,-999.0000,-999.000,  -999.0,  1.2486,-999.000
    49RY9511_2,   P24,    21,  1,      5,  12809,2,19951122,0303, 25.4062, 134.9098, 4991,   4065.2,   1.5523,  34.6800,2,  34.6798,2,   -999.0,9,    155.1,2,   139.79,2,    35.99,2,     0.00,2,     2.51,2, -999.000,9, -999.000,9, -999.000,9,-999.0000,9,  -999.00,9,   -999.0,9,   -999,  -999.0,-999.000,-999.0000,-999.000,  -999.0,  1.2248,-999.000
    49RY9511_2,   P24,    21,  1,      4,  12817,2,19951122,0303, 25.4062, 134.9098, 4991,   4321.9,   1.5691,  34.6815,2,  34.6812,2,   -999.0,9,    155.6,2,   139.76,2,    36.02,2,     0.00,2,     2.50,2, -999.000,9, -999.000,9, -999.000,9,-999.0000,9,  -999.00,9,   -999.0,9,   -999,  -999.0,-999.000,-999.0000,-999.000,  -999.0,  1.2124,-999.000
    49RY9511_2,   P24,    21,  1,      3,  12808,2,19951122,0303, 25.4062, 134.9098, 4991,   4579.1,   1.5922,  34.6817,2,  34.6818,2,   -999.0,9,    156.1,6,   139.50,2,    35.96,2,     0.00,2,     2.50,2, -999.000,9, -999.000,9, -999.000,9,-999.0000,9,  -999.00,9,   -999.0,9,   -999,  -999.0,   1.589,-999.0000,-999.000,  4579.0,  1.2052,-999.000
    49RY9511_2,   P24,    21,  1,      2,  12914,2,19951122,0303, 25.4062, 134.9098, 4991,   4836.1,   1.6184,  34.6822,2,  34.6825,2,   -999.0,9,    155.9,2,   139.57,2,    35.91,2,     0.00,2,     2.50,2, -999.000,9, -999.000,9, -999.000,9,-999.0000,9,  -999.00,9,   -999.0,9,   -999,  -999.0,-999.000,-999.0000,-999.000,  -999.0,  1.2001,-999.000
    49RY9511_2,   P24,    21,  1,      1,  12807,2,19951122,0303, 25.4062, 134.9098, 4991,   5054.5,   1.6455,  34.6819,2,  34.6821,6,   -999.0,9,    155.9,2,   139.43,2,    35.84,2,     0.00,2,     2.49,2, -999.000,9, -999.000,9, -999.000,9,-999.0000,9,  -999.00,9,   -999.0,9,   -999,  -999.0,-999.000,-999.0000,-999.000,  -999.0,  1.1997,-999.000
    49RY9511_2,   P24,    21,  2,     12,  12821,2,19951122,0623, 25.3547, 134.8967, 4920,      5.2,  25.0865,  34.7906,2,  34.7894,2,   -999.0,9,    207.8,6,     1.34,6,     0.03,6,     0.00,6,     0.01,6, -999.000,9, -999.000,9, -999.000,9,-999.0000,9,  -999.00,9,   -999.0,9,   -999,  -999.0,-999.000,-999.0000,-999.000,  -999.0, 25.0853,-999.000
    49RY9511_2,   P24,    21,  2,     11,  12811,2,19951122,0623, 25.3547, 134.8967, 4920,     24.9,  25.0978,  34.7891,2,  34.7902,2,   -999.0,9,    208.3,2,     1.51,2,     0.01,2,     0.00,2,     0.01,2, -999.000,9, -999.000,9, -999.000,9,-999.0000,9,  -999.00,9,   -999.0,9,   -999,  -999.0,-999.000,-999.0000,-999.000,  -999.0, 25.0924,-999.000
    49RY9511_2,   P24,    21,  2,     10,  12820,2,19951122,0623, 25.3547, 134.8967, 4920,     51.5,  25.0795,  34.7841,2,  34.7875,2,   -999.0,9,    208.5,2,     1.43,2,     0.06,2,     0.00,2,     0.02,2, -999.000,9, -999.000,9, -999.000,9,-999.0000,9,  -999.00,9,   -999.0,9,   -999,  -999.0,-999.000,-999.0000,-999.000,  -999.0, 25.0683,-999.000
    49RY9511_2,   P24,    21,  2,      9,  12810,2,19951122,0623, 25.3547, 134.8967, 4920,     75.4,  21.7323,  34.9573,2,  34.9683,3,   -999.0,9,    210.6,2,     1.92,2,     0.05,2,     0.00,2,     0.05,2, -999.000,9, -999.000,9, -999.000,9,-999.0000,9,  -999.00,9,   -999.0,9,   -999,  -999.0,-999.000,-999.0000,-999.000,    70.0, 21.7175,-999.000
    49RY9511_2,   P24,    21,  2,      8,  12819,2,19951122,0623, 25.3547, 134.8967, 4920,    100.9,  19.9985,  34.9391,2,  34.9395,2,   -999.0,9,   -999.0,5,     2.28,2,     1.27,2,     0.04,2,     0.14,2, -999.000,9, -999.000,9, -999.000,9,-999.0000,9,  -999.00,9,   -999.0,9,   -999,  -999.0,-999.000,-999.0000,-999.000,  -999.0, 19.9799,-999.000
    49RY9511_2,   P24,    21,  2,      7,  12815,2,19951122,0623, 25.3547, 134.8967, 4920,    150.6,  18.5577,  34.8902,2,  34.8891,2,   -999.0,9,    205.6,2,     3.13,2,     3.23,2,     0.01,2,     0.24,2, -999.000,9, -999.000,9, -999.000,9,-999.0000,9,  -999.00,9,   -999.0,9,   -999,  -999.0,-999.000,-999.0000,-999.000,  -999.0, 18.5313,-999.000
    49RY9511_2,   P24,    21,  2,      6,  12818,2,19951122,0623, 25.3547, 134.8967, 4920,    200.6,  18.1469,  34.8738,2,  34.8743,2,   -999.0,9,    205.4,2,     3.70,2,     3.70,2,     0.01,2,     0.26,2, -999.000,9, -999.000,9, -999.000,9,-999.0000,9,  -999.00,9,   -999.0,9,   -999,  -999.0,-999.000,-999.0000,-999.000,  -999.0, 18.1122,-999.000
    49RY9511_2,   P24,    21,  2,      5,  12809,2,19951122,0623, 25.3547, 134.8967, 4920,    300.9,  16.1658,  34.7170,2,  34.7178,2,   -999.0,9,    195.2,2,     7.34,2,     7.59,2,     0.00,2,     0.52,2, -999.000,9, -999.000,9, -999.000,9,-999.0000,9,  -999.00,9,   -999.0,9,   -999,  -999.0,-999.000,-999.0000,-999.000,  -999.0, 16.1178,-999.000
    49RY9511_2,   P24,    21,  2,      4,  12817,2,19951122,0623, 25.3547, 134.8967, 4920,    403.5,  13.7937,  34.5224,2,  34.5261,2,   -999.0,9,    179.6,2,    14.80,2,    12.81,2,     0.00,2,     0.88,2, -999.000,9, -999.000,9, -999.000,9,-999.0000,9,  -999.00,9,   -999.0,9,   -999,  -999.0,-999.000,-999.0000,-999.000,  -999.0, 13.7358,-999.000
    49RY9511_2,   P24,    21,  2,      3,  12808,2,19951122,0623, 25.3547, 134.8967, 4920,    505.0,  10.2236,  34.2686,2,  34.2720,2,   -999.0,9,    164.3,2,    29.35,2,    20.32,2,     0.00,2,     1.43,2, -999.000,9, -999.000,9, -999.000,9,-999.0000,9,  -999.00,9,   -999.0,9,   -999,  -999.0,  10.223,-999.0000,-999.000,   502.0, 10.1637,-999.000
    49RY9511_2,   P24,    21,  2,      2,  12914,2,19951122,0623, 25.3547, 134.8967, 4920,    604.3,   7.3067,  34.1516,2,  34.1448,2,   -999.0,9,    132.6,2,    54.07,2,    28.45,2,     0.00,2,     2.03,2, -999.000,9, -999.000,9, -999.000,9,-999.0000,9,  -999.00,9,   -999.0,9,   -999,  -999.0,-999.000,-999.0000,-999.000,  -999.0,  7.2479,-999.000
    49RY9511_2,   P24,    21,  2,      1,  12807,2,19951122,0623, 25.3547, 134.8967, 4920,    706.8,   5.7933,  34.1556,2,  34.1479,2,   -999.0,9,     99.0,2,    74.29,2,    33.95,2,     0.00,2,     2.44,2, -999.000,9, -999.000,9, -999.000,9,-999.0000,9,  -999.00,9,   -999.0,9,   -999,  -999.0,-999.000,-999.0000,-999.000,  -999.0,  5.7321,-999.000
    49RY9511_2,   P24,    22,  1,     20,  12826,2,19951122,1015, 25.0323, 135.1065, 5288,    807.3,   4.9035,  34.2080,2,  34.1964,3,   -999.0,9,     74.6,2,    91.25,2,    37.26,2,     0.00,2,     2.73,2, -999.000,9, -999.000,9, -999.000,9,-999.0000,9,  -999.00,9,   -999.0,9,   -999,  -999.0,-999.000,-999.0000,-999.000,  -999.0,  4.8384,-999.000
    49RY9511_2,   P24,    22,  1,     19,  12825,2,19951122,1015, 25.0323, 135.1065, 5288,    910.3,   4.3096,  34.2921,2,  34.2932,2,   -999.0,9,     60.9,6,   104.29,6,    39.34,6,     0.00,6,     2.88,6, -999.000,9, -999.000,9, -999.000,9,-999.0000,9,  -999.00,9,   -999.0,9,   -999,  -999.0,-999.000,-999.0000,-999.000,  -999.0,  4.2395,-999.000
    49RY9511_2,   P24,    22,  1,     18,  12824,2,19951122,1015, 25.0323, 135.1065, 5288,   1009.1,   3.8745,  34.3699,2,  34.3703,2,   -999.0,9,     57.6,2,   114.05,2,    40.19,2,     0.00,2,     2.94,2, -999.000,9, -999.000,9, -999.000,9,-999.0000,9,  -999.00,9,   -999.0,9,   -999,  -999.0,-999.000,-999.0000,-999.000,  -999.0,  3.7993,-999.000
    49RY9511_2,   P24,    22,  1,     17,  12814,2,19951122,1015, 25.0323, 135.1065, 5288,   1262.0,   3.0594,  34.4734,2,  34.4742,3,   -999.0,9,     67.0,2,   130.70,2,    40.44,2,     0.00,2,     2.95,2, -999.000,9, -999.000,9, -999.000,9,-999.0000,9,  -999.00,9,   -999.0,9,   -999,  -999.0,-999.000,-999.0000,-999.000,  -999.0,  2.9706,-999.000
    49RY9511_2,   P24,    22,  1,     16,  12823,2,19951122,1015, 25.0323, 135.1065, 5288,   1513.6,   2.5189,  34.5369,2,  34.5381,2,   -999.0,9,     84.1,2,   138.30,2,    39.60,2,     0.00,2,     2.86,2, -999.000,9, -999.000,9, -999.000,9,-999.0000,9,  -999.00,9,   -999.0,9,   -999,  -999.0,-999.000,-999.0000,-999.000,  -999.0,  2.4156,-999.000
    49RY9511_2,   P24,    22,  1,     15,  12813,2,19951122,1015, 25.0323, 135.1065, 5288,   1766.3,   2.1908,  34.5812,2,  34.5820,2,   -999.0,9,    103.1,2,   140.87,2,    38.78,2,     0.00,2,     2.80,2, -999.000,9, -999.000,9, -999.000,9,-999.0000,9,  -999.00,9,   -999.0,9,   -999,  -999.0,-999.000,-999.0000,-999.000,  -999.0,  2.0711,-999.000
    49RY9511_2,   P24,    22,  1,     14,  12822,2,19951122,1015, 25.0323, 135.1065, 5288,   2021.1,   1.9802,  34.6118,2,  34.6127,2,   -999.0,9,    115.3,2,   141.43,2,    38.07,2,     0.00,2,     2.74,2, -999.000,9, -999.000,9, -999.000,9,-999.0000,9,  -999.00,9,   -999.0,9,   -999,  -999.0,-999.000,-999.0000,-999.000,  -999.0,  1.8424,-999.000
    49RY9511_2,   P24,    22,  1,     13,  12812,2,19951122,1015, 25.0323, 135.1065, 5288,   2275.8,   1.8227,  34.6334,2,  34.6318,2,   -999.0,9,    124.5,2,   141.21,2,    37.61,2,     0.00,2,     2.69,2, -999.000,9, -999.000,9, -999.000,9,-999.0000,9,  -999.00,9,   -999.0,9,   -999,  -999.0,-999.000,-999.0000,-999.000,  -999.0,  1.6656,-999.000
    49RY9511_2,   P24,    22,  1,     12,  12821,2,19951122,1015, 25.0323, 135.1065, 5288,   2529.1,   1.7256,  34.6486,2,  34.6479,2,   -999.0,9,    132.7,2,   141.62,2,    37.24,2,     0.00,2,     2.64,2, -999.000,9, -999.000,9, -999.000,9,-999.0000,9,  -999.00,9,   -999.0,9,   -999,  -999.0,-999.000,-999.0000,-999.000,  -999.0,  1.5479,-999.000
    49RY9511_2,   P24,    22,  1,     11,  12811,2,19951122,1015, 25.0323, 135.1065, 5288,   2785.0,   1.6488,  34.6574,2,  34.6581,2,   -999.0,9,    138.2,2,   141.28,2,    36.83,2,     0.00,2,     2.61,2, -999.000,9, -999.000,9, -999.000,9,-999.0000,9,  -999.00,9,   -999.0,9,   -999,  -999.0,-999.000,-999.0000,-999.000,  -999.0,  1.4491,-999.000
    49RY9511_2,   P24,    22,  1,     10,  12820,2,19951122,1015, 25.0323, 135.1065, 5288,   3041.5,   1.6003,  34.6651,2,  34.6654,2,   -999.0,9,    142.2,2,   141.01,2,    36.51,2,     0.00,2,     2.58,2, -999.000,9, -999.000,9, -999.000,9,-999.0000,9,  -999.00,9,   -999.0,9,   -999,  -999.0,-999.000,-999.0000,-999.000,  -999.0,  1.3774,-999.000
    49RY9511_2,   P24,    22,  1,      9,  12810,2,19951122,1015, 25.0323, 135.1065, 5288,   3295.1,   1.5468,  34.6736,2,  34.6735,2,   -999.0,9,    149.4,2,   140.81,2,    36.27,2,     0.00,2,     2.56,2, -999.000,9, -999.000,9, -999.000,9,-999.0000,9,  -999.00,9,   -999.0,9,   -999,  -999.0,-999.000,-999.0000,-999.000,  3293.0,  1.3002,-999.000
    49RY9511_2,   P24,    22,  1,      8,  12819,2,19951122,1015, 25.0323, 135.1065, 5288,   3553.5,   1.5385,  34.6758,2,  34.6764,2,   -999.0,9,    150.4,2,   140.25,2,    36.13,2,     0.00,2,     2.55,2, -999.000,9, -999.000,9, -999.000,9,-999.0000,9,  -999.00,9,   -999.0,9,   -999,  -999.0,-999.000,-999.0000,-999.000,  -999.0,  1.2660,-999.000
    49RY9511_2,   P24,    22,  1,      7,  12815,2,19951122,1015, 25.0323, 135.1065, 5288,   3807.3,   1.5340,  34.6790,2,  34.6796,2,   -999.0,9,    153.7,2,   139.70,2,    35.97,2,     0.00,2,     2.53,2, -999.000,9, -999.000,9, -999.000,9,-999.0000,9,  -999.00,9,   -999.0,9,   -999,  -999.0,-999.000,-999.0000,-999.000,  -999.0,  1.2349,-999.000
    49RY9511_2,   P24,    22,  1,      6,  12818,2,19951122,1015, 25.0323, 135.1065, 5288,   4061.1,   1.5418,  34.6813,2,  34.6814,2,   -999.0,9,    153.7,2,   139.62,2,    35.86,2,     0.00,2,     2.52,2, -999.000,9, -999.000,9, -999.000,9,-999.0000,9,  -999.00,9,   -999.0,9,   -999,  -999.0,-999.000,-999.0000,-999.000,  -999.0,  1.2150,-999.000
    49RY9511_2,   P24,    22,  1,      5,  12809,2,19951122,1015, 25.0323, 135.1065, 5288,   4323.1,   1.5610,  34.6814,2,  34.6829,6,   -999.0,9,    156.8,2,   139.51,2,    35.89,2,     0.00,2,     2.52,2, -999.000,9, -999.000,9, -999.000,9,-999.0000,9,  -999.00,9,   -999.0,9,   -999,  -999.0,-999.000,-999.0000,-999.000,  -999.0,  1.2045,-999.000
    49RY9511_2,   P24,    22,  1,      4,  12817,2,19951122,1015, 25.0323, 135.1065, 5288,   4577.5,   1.5848,  34.6833,2,  34.6835,6,   -999.0,9,    156.3,2,   139.30,2,    35.81,2,     0.00,2,     2.51,2, -999.000,9, -999.000,9, -999.000,9,-999.0000,9,  -999.00,9,   -999.0,9,   -999,  -999.0,-999.000,-999.0000,-999.000,  -999.0,  1.1982,-999.000
    49RY9511_2,   P24,    22,  1,      3,  12808,2,19951122,1015, 25.0323, 135.1065, 5288,   4836.6,   1.6143,  34.6830,2,  34.6835,6,   -999.0,9,    156.4,2,   139.38,2,    35.75,2,     0.00,2,     2.51,2, -999.000,9, -999.000,9, -999.000,9,-999.0000,9,  -999.00,9,   -999.0,9,   -999,  -999.0,   1.611,-999.0000,-999.000,  4847.0,  1.1960,-999.000
    49RY9511_2,   P24,    22,  1,      2,  12914,2,19951122,1015, 25.0323, 135.1065, 5288,   5087.6,   1.6454,  34.6830,2,  34.6836,6,   -999.0,9,    156.3,2,   139.29,2,    35.84,2,     0.00,2,     2.51,2, -999.000,9, -999.000,9, -999.000,9,-999.0000,9,  -999.00,9,   -999.0,9,   -999,  -999.0,-999.000,-999.0000,-999.000,  -999.0,  1.1955,-999.000
    49RY9511_2,   P24,    22,  1,      1,  12807,2,19951122,1015, 25.0323, 135.1065, 5288,   5372.2,   1.6804,  34.6823,2,  34.6830,6,   -999.0,9,    157.2,6,   139.16,6,    35.66,6,     0.00,6,     2.51,6, -999.000,9, -999.000,9, -999.000,9,-999.0000,9,  -999.00,9,   -999.0,9,   -999,  -999.0,-999.000,-999.0000,-999.000,  -999.0,  1.1936,-999.000