BOTTLE,20030404WHPSIOdm
EXPOCODE,SECT_ID,STNNBR,CASTNO,SAMPNO,BTLNBR,BTLNBR_FLAG_W,DATE,TIME,LATITUDE,LONGITUDE,DEPTH,CTDPRS,CTDTMP,CTDSAL,CTDSAL_FLAG_W,SALNTY,SALNTY_FLAG_W,CTDOXY,CTDOXY_FLAG_W,OXYGEN,OXYGEN_FLAG_W,SILCAT,SILCAT_FLAG_W,NITRAT,NITRAT_FLAG_W,NITRIT,NITRIT_FLAG_W,PHSPHT,PHSPHT_FLAG_W,CFC-11,CFC-11_FLAG_W,CFC-12,CFC-12_FLAG_W,TRITUM,TRITUM_FLAG_W,HELIUM,HELIUM_FLAG_W,DELHE3,DELHE3_FLAG_W,DELC14,DELC14_FLAG_W,CTDRAW,C14ERR,REVTMP,HELIER,DELHER,REVPRS,THETA,TRITER
,,,,,,,,,,,,DBAR,ITS-90,PSS-78,,PSS-78,,UMOL/KG,,UMOL/KG,,UMOL/KG,,UMOL/KG,,UMOL/KG,,UMOL/KG,,PMOL/KG,,PMOL/KG,,TU,,NMOL/KG,,PERCNT,,/MILLE,,,/MILLE,ITS-90,NMOL/KG,PERCNT,DBAR,DEG C,TU
    49RY9511_2,   P24,    10,  2,     12,  12821,2,19951118,2257, 29.2223, 132.6025, 4097,      6.0,  23.5124,  34.7420,2,  34.7420,2,   -999.0,9,    210.8,2,     1.59,2,     0.00,2,     0.00,2,     0.02,2,    1.723,3,    1.044,2, -999.000,9,-999.0000,9,  -999.00,9,   -999.0,9,   -999,  -999.0,-999.000,-999.0000,-999.000,  -999.0, 23.5111,-999.000
    49RY9511_2,   P24,    10,  2,     11,  12811,2,19951118,2257, 29.2223, 132.6025, 4097,     26.4,  23.5329,  34.7445,2,  34.7430,2,   -999.0,9,    211.4,6,     1.54,2,     0.04,2,     0.00,2,     0.02,2,    1.719,3,    1.050,2, -999.000,9,-999.0000,9,  -999.00,9,   -999.0,9,   -999,  -999.0,-999.000,-999.0000,-999.000,  -999.0, 23.5274,-999.000
    49RY9511_2,   P24,    10,  2,     10,  12820,2,19951118,2257, 29.2223, 132.6025, 4097,     50.5,  23.5584,  34.7566,2,  34.7520,2,   -999.0,9,    211.4,2,     1.67,2,     0.02,2,     0.00,2,     0.03,2,    1.717,3,    1.065,2, -999.000,9,-999.0000,9,  -999.00,9,   -999.0,9,   -999,  -999.0,-999.000,-999.0000,-999.000,  -999.0, 23.5480,-999.000
    49RY9511_2,   P24,    10,  2,      9,  12810,2,19951118,2257, 29.2223, 132.6025, 4097,     77.4,  23.6257,  34.8213,2,  34.8182,2,   -999.0,9,    210.4,2,     1.68,2,     0.01,2,     0.00,2,     0.03,2, -999.000,9, -999.000,9, -999.000,9,-999.0000,9,  -999.00,9,   -999.0,9,   -999,  -999.0,-999.000,-999.0000,-999.000,    70.0, 23.6096,-999.000
    49RY9511_2,   P24,    10,  2,      8,  12819,2,19951118,2257, 29.2223, 132.6025, 4097,    100.5,  23.5698,  34.8264,2,  34.8322,2,   -999.0,9,    213.4,2,     1.63,2,     0.07,2,     0.02,2,     0.03,2,    1.746,3,    1.098,6, -999.000,9,-999.0000,9,  -999.00,9,   -999.0,9,   -999,  -999.0,-999.000,-999.0000,-999.000,  -999.0, 23.5489,-999.000
    49RY9511_2,   P24,    10,  2,      7,  12815,2,19951118,2257, 29.2223, 132.6025, 4097,    152.0,  20.2284,  34.9269,2,  34.9096,3,   -999.0,9,    200.4,2,     2.32,2,     1.65,2,     0.02,2,     0.16,2,    1.995,2,    1.162,2, -999.000,9,-999.0000,9,  -999.00,9,   -999.0,9,   -999,  -999.0,-999.000,-999.0000,-999.000,  -999.0, 20.2001,-999.000
    49RY9511_2,   P24,    10,  2,      6,  12818,2,19951118,2257, 29.2223, 132.6025, 4097,    200.8,  18.8492,  34.9051,2,  34.9050,2,   -999.0,9,    199.2,2,     2.98,2,     3.15,2,     0.01,2,     0.24,2,    2.080,6,    1.204,6, -999.000,9,-999.0000,9,  -999.00,9,   -999.0,9,   -999,  -999.0,-999.000,-999.0000,-999.000,  -999.0, 18.8136,-999.000
    49RY9511_2,   P24,    10,  2,      5,  12809,2,19951118,2257, 29.2223, 132.6025, 4097,    302.4,  17.2682,  34.8031,2,  34.8042,2,   -999.0,9,    197.7,2,     4.89,2,     5.58,2,     0.00,2,     0.39,2,    2.187,2,    1.235,2, -999.000,9,-999.0000,9,  -999.00,9,   -999.0,9,   -999,  -999.0,-999.000,-999.0000,-999.000,  -999.0, 17.2176,-999.000
    49RY9511_2,   P24,    10,  2,      4,  12817,2,19951118,2257, 29.2223, 132.6025, 4097,    402.8,  14.9938,  34.6152,2,  34.6135,2,   -999.0,9,    184.9,2,    10.66,2,    10.20,2,     0.00,2,     0.71,2,    2.033,2,    1.113,2, -999.000,9,-999.0000,9,  -999.00,9,   -999.0,9,   -999,  -999.0,-999.000,-999.0000,-999.000,  -999.0, 14.9326,-999.000
    49RY9511_2,   P24,    10,  2,      3,  12808,2,19951118,2257, 29.2223, 132.6025, 4097,    503.8,  12.4862,  34.4335,2,  34.4298,2,   -999.0,9,    178.2,2,    19.46,2,    15.13,2,     0.00,2,     1.05,2,    2.569,3,    1.249,3, -999.000,9,-999.0000,9,  -999.00,9,   -999.0,9,   -999,  -999.0,  12.479,-999.0000,-999.000,   503.0, 12.4183,-999.000
    49RY9511_2,   P24,    10,  2,      2,  12914,2,19951118,2257, 29.2223, 132.6025, 4097,    604.6,   9.7366,  34.2679,2,  34.2673,2,   -999.0,9,    159.0,2,    35.65,2,    21.73,2,     0.00,2,     1.54,2,    1.503,2,    0.791,2, -999.000,9,-999.0000,9,  -999.00,9,   -999.0,9,   -999,  -999.0,-999.000,-999.0000,-999.000,  -999.0,  9.6667,-999.000
    49RY9511_2,   P24,    10,  2,      1,  12807,2,19951118,2257, 29.2223, 132.6025, 4097,    707.1,   7.2790,  34.1604,2,  34.1550,2,   -999.0,9,    132.0,2,    55.67,2,    28.33,2,     0.00,2,     2.03,2,    1.136,2,    0.585,2, -999.000,9,-999.0000,9,  -999.00,9,   -999.0,9,   -999,  -999.0,-999.000,-999.0000,-999.000,  -999.0,  7.2098,-999.000
    49RY9511_2,   P24,    11,  1,     18,  12824,2,19951119,0232, 29.0077, 132.7460, 4250,    806.5,   5.8838,  34.1682,2,  34.1701,2,   -999.0,9,    101.9,2,    75.55,2,    33.37,2,     0.01,2,     2.42,2, -999.000,9, -999.000,9, -999.000,9,-999.0000,9,  -999.00,9,   -999.0,9,   -999,  -999.0,-999.000,-999.0000,-999.000,  -999.0,  5.8127,-999.000
    49RY9511_2,   P24,    11,  1,     17,  12814,2,19951119,0232, 29.0077, 132.7460, 4250,    907.8,   4.7888,  34.2395,2,  34.2416,2,   -999.0,9,     74.9,2,    95.77,2,    37.29,2,     0.00,2,     2.71,2, -999.000,9, -999.000,9, -999.000,9,-999.0000,9,  -999.00,9,   -999.0,9,   -999,  -999.0,-999.000,-999.0000,-999.000,  -999.0,  4.7156,-999.000
    49RY9511_2,   P24,    11,  1,     16,  12823,2,19951119,0232, 29.0077, 132.7460, 4250,   1008.5,   4.0814,  34.3333,2,  34.3335,2,   -999.0,9,     63.9,2,   111.01,2,    39.18,2,     0.00,2,     2.84,2, -999.000,9, -999.000,9, -999.000,9,-999.0000,9,  -999.00,9,   -999.0,9,   -999,  -999.0,-999.000,-999.0000,-999.000,  -999.0,  4.0047,-999.000
    49RY9511_2,   P24,    11,  1,     15,  12813,2,19951119,0232, 29.0077, 132.7460, 4250,   1262.1,   3.1866,  34.4427,2,  34.4428,2,   -999.0,9,     64.2,6,   129.00,6,    40.25,6,     0.00,6,     2.91,6, -999.000,9, -999.000,9, -999.000,9,-999.0000,9,  -999.00,9,   -999.0,9,   -999,  -999.0,-999.000,-999.0000,-999.000,  -999.0,  3.0967,-999.000
    49RY9511_2,   P24,    11,  1,     14,  12822,2,19951119,0232, 29.0077, 132.7460, 4250,   1514.4,   2.5932,  34.5228,2,  34.5216,2,   -999.0,9,     80.2,2,   138.33,2,    39.85,2,     0.00,2,     2.85,2, -999.000,9, -999.000,9, -999.000,9,-999.0000,9,  -999.00,9,   -999.0,9,   -999,  -999.0,-999.000,-999.0000,-999.000,  -999.0,  2.4890,-999.000
    49RY9511_2,   P24,    11,  1,     13,  12812,2,19951119,0232, 29.0077, 132.7460, 4250,   1768.5,   2.2303,  34.5712,2,  34.5718,2,   -999.0,9,     96.2,2,   141.74,2,    39.03,2,     0.00,2,     2.80,2, -999.000,9, -999.000,9, -999.000,9,-999.0000,9,  -999.00,9,   -999.0,9,   -999,  -999.0,-999.000,-999.0000,-999.000,  1765.0,  2.1099,-999.000
    49RY9511_2,   P24,    11,  1,     12,  12821,2,19951119,0232, 29.0077, 132.7460, 4250,   2021.4,   2.0260,  34.6025,2,  34.6019,6,   -999.0,9,    109.1,2,   142.12,2,    38.44,2,     0.00,2,     2.74,2, -999.000,9, -999.000,9, -999.000,9,-999.0000,9,  -999.00,9,   -999.0,9,   -999,  -999.0,-999.000,-999.0000,-999.000,  -999.0,  1.8875,-999.000
    49RY9511_2,   P24,    11,  1,     11,  12811,2,19951119,0232, 29.0077, 132.7460, 4250,   2277.3,   1.8462,  34.6275,2,  34.6274,2,   -999.0,9,    121.3,2,   142.11,2,    37.70,2,     0.00,2,     2.69,2, -999.000,9, -999.000,9, -999.000,9,-999.0000,9,  -999.00,9,   -999.0,9,   -999,  -999.0,-999.000,-999.0000,-999.000,  -999.0,  1.6886,-999.000
    49RY9511_2,   P24,    11,  1,     10,  12820,2,19951119,0232, 29.0077, 132.7460, 4250,   2531.9,   1.7166,  34.6458,2,  34.6444,2,   -999.0,9,    131.5,2,   141.65,2,    37.17,2,     0.00,2,     2.61,2, -999.000,9, -999.000,9, -999.000,9,-999.0000,9,  -999.00,9,   -999.0,9,   -999,  -999.0,-999.000,-999.0000,-999.000,  -999.0,  1.5388,-999.000
    49RY9511_2,   P24,    11,  1,      9,  12810,2,19951119,0232, 29.0077, 132.7460, 4250,   2532.3,   1.7184,  34.6448,2,  34.6446,2,   -999.0,9,    131.6,2,   141.66,2,    37.17,2,     0.00,2,     2.64,2, -999.000,9, -999.000,9, -999.000,9,-999.0000,9,  -999.00,9,   -999.0,9,   -999,  -999.0,-999.000,-999.0000,-999.000,  2530.0,  1.5405,-999.000
    49RY9511_2,   P24,    11,  1,      8,  12819,2,19951119,0232, 29.0077, 132.7460, 4250,   2785.7,   1.6265,  34.6591,2,  34.6581,2,   -999.0,9,    140.0,2,   141.35,2,    36.67,2,     0.00,2,     2.59,2, -999.000,9, -999.000,9, -999.000,9,-999.0000,9,  -999.00,9,   -999.0,9,   -999,  -999.0,-999.000,-999.0000,-999.000,  -999.0,  1.4272,-999.000
    49RY9511_2,   P24,    11,  1,      7,  12815,2,19951119,0232, 29.0077, 132.7460, 4250,   3041.0,   1.5772,  34.6670,2,  34.6656,2,   -999.0,9,    144.0,2,   140.85,2,    36.41,2,     0.00,2,     2.57,2, -999.000,9, -999.000,9, -999.000,9,-999.0000,9,  -999.00,9,   -999.0,9,   -999,  -999.0,-999.000,-999.0000,-999.000,  -999.0,  1.3548,-999.000
    49RY9511_2,   P24,    11,  1,      6,  12818,2,19951119,0232, 29.0077, 132.7460, 4250,   3295.2,   1.5374,  34.6738,2,  34.6729,2,   -999.0,9,    148.8,2,   140.53,2,    36.14,2,     0.00,2,     2.54,2, -999.000,9, -999.000,9, -999.000,9,-999.0000,9,  -999.00,9,   -999.0,9,   -999,  -999.0,-999.000,-999.0000,-999.000,  -999.0,  1.2911,-999.000
    49RY9511_2,   P24,    11,  1,      5,  12809,2,19951119,0232, 29.0077, 132.7460, 4250,   3552.0,   1.5379,  34.6761,2,  34.6759,6,   -999.0,9,    151.2,2,   140.26,2,    36.05,2,     0.00,2,     2.54,2, -999.000,9, -999.000,9, -999.000,9,-999.0000,9,  -999.00,9,   -999.0,9,   -999,  -999.0,-999.000,-999.0000,-999.000,  -999.0,  1.2655,-999.000
    49RY9511_2,   P24,    11,  1,      4,  12817,2,19951119,0232, 29.0077, 132.7460, 4250,   3807.9,   1.5501,  34.6780,2,  34.6753,3,   -999.0,9,    151.7,2,   140.32,2,    36.04,2,     0.00,2,     2.54,2, -999.000,9, -999.000,9, -999.000,9,-999.0000,9,  -999.00,9,   -999.0,9,   -999,  -999.0,-999.000,-999.0000,-999.000,  -999.0,  1.2506,-999.000
    49RY9511_2,   P24,    11,  1,      3,  12808,2,19951119,0232, 29.0077, 132.7460, 4250,   4064.6,   1.5740,  34.6791,2,  34.6783,6,   -999.0,9,    151.7,2,   140.24,2,    35.94,2,     0.00,2,     2.53,2, -999.000,9, -999.000,9, -999.000,9,-999.0000,9,  -999.00,9,   -999.0,9,   -999,  -999.0,   1.571,-999.0000,-999.000,  4057.0,  1.2459,-999.000
    49RY9511_2,   P24,    11,  1,      2,  12914,2,19951119,0232, 29.0077, 132.7460, 4250,   4233.1,   1.5904,  34.6786,2,  34.6786,2,   -999.0,9,    152.2,2,   139.95,2,    35.90,2,     0.00,2,     2.53,2, -999.000,9, -999.000,9, -999.000,9,-999.0000,9,  -999.00,9,   -999.0,9,   -999,  -999.0,-999.000,-999.0000,-999.000,  -999.0,  1.2431,-999.000
    49RY9511_2,   P24,    11,  1,      1,  12807,2,19951119,0232, 29.0077, 132.7460, 4250,   4233.7,   1.5904,  34.6797,2,  34.6789,6,   -999.0,9,    152.4,6,   139.98,6,    35.94,6,     0.00,6,     2.53,6, -999.000,9, -999.000,9, -999.000,9,-999.0000,9,  -999.00,9,   -999.0,9,   -999,  -999.0,-999.000,-999.0000,-999.000,  -999.0,  1.2431,-999.000
    49RY9511_2,   P24,    11,  2,     12,  12821,2,19951119,0509, 28.9847, 132.7010, 4477,      5.6,  23.7947,  34.7020,2,  34.7034,2,   -999.0,9,    213.1,2,     1.65,2,     0.07,2,     0.00,2,     0.01,2, -999.000,9, -999.000,9, -999.000,9,-999.0000,9,  -999.00,9,   -999.0,9,   -999,  -999.0,-999.000,-999.0000,-999.000,  -999.0, 23.7935,-999.000
    49RY9511_2,   P24,    11,  2,     11,  12811,2,19951119,0509, 28.9847, 132.7010, 4477,     25.4,  23.5483,  34.6967,2,  34.6955,2,   -999.0,9,    212.3,2,     1.80,2,     0.00,2,     0.00,2,     0.01,2, -999.000,9, -999.000,9, -999.000,9,-999.0000,9,  -999.00,9,   -999.0,9,   -999,  -999.0,-999.000,-999.0000,-999.000,  -999.0, 23.5430,-999.000
    49RY9511_2,   P24,    11,  2,     10,  12820,2,19951119,0509, 28.9847, 132.7010, 4477,     51.8,  23.4978,  34.7047,2,  34.7026,2,   -999.0,9,    212.0,2,     1.91,2,     0.03,2,     0.00,2,     0.02,2, -999.000,9, -999.000,9, -999.000,9,-999.0000,9,  -999.00,9,   -999.0,9,   -999,  -999.0,-999.000,-999.0000,-999.000,  -999.0, 23.4871,-999.000
    49RY9511_2,   P24,    11,  2,      9,  12810,2,19951119,0509, 28.9847, 132.7010, 4477,     75.9,  23.4683,  34.7134,2,  34.7109,2,   -999.0,9,    211.8,2,     1.77,2,     0.01,2,     0.00,2,     0.02,2, -999.000,9, -999.000,9, -999.000,9,-999.0000,9,  -999.00,9,   -999.0,9,   -999,  -999.0,-999.000,-999.0000,-999.000,    70.0, 23.4526,-999.000
    49RY9511_2,   P24,    11,  2,      8,  12819,2,19951119,0509, 28.9847, 132.7010, 4477,    101.7,  21.3812,  34.8791,2,  34.8832,2,   -999.0,9,    214.0,2,     2.27,2,     0.19,2,     0.15,2,     0.06,2, -999.000,9, -999.000,9, -999.000,9,-999.0000,9,  -999.00,9,   -999.0,9,   -999,  -999.0,-999.000,-999.0000,-999.000,  -999.0, 21.3615,-999.000
    49RY9511_2,   P24,    11,  2,      7,  12815,2,19951119,0509, 28.9847, 132.7010, 4477,    150.4,  19.0473,  34.9025,2,  34.8995,2,   -999.0,9,    211.0,2,     2.52,2,     1.58,2,     0.02,2,     0.15,2, -999.000,9, -999.000,9, -999.000,9,-999.0000,9,  -999.00,9,   -999.0,9,   -999,  -999.0,-999.000,-999.0000,-999.000,  -999.0, 19.0204,-999.000
    49RY9511_2,   P24,    11,  2,      6,  12818,2,19951119,0509, 28.9847, 132.7010, 4477,    200.5,  18.3617,  34.8804,2,  34.8796,2,   -999.0,9,    201.8,2,     3.51,2,     3.67,2,     0.01,2,     0.26,2, -999.000,9, -999.000,9, -999.000,9,-999.0000,9,  -999.00,9,   -999.0,9,   -999,  -999.0,-999.000,-999.0000,-999.000,  -999.0, 18.3268,-999.000
    49RY9511_2,   P24,    11,  2,      5,  12809,2,19951119,0509, 28.9847, 132.7010, 4477,    304.0,  16.9231,  34.7787,2,  34.7794,2,   -999.0,9,    197.3,2,     5.57,2,     6.08,2,     0.00,2,     0.42,2, -999.000,9, -999.000,9, -999.000,9,-999.0000,9,  -999.00,9,   -999.0,9,   -999,  -999.0,-999.000,-999.0000,-999.000,  -999.0, 16.8730,-999.000
    49RY9511_2,   P24,    11,  2,      4,  12817,2,19951119,0509, 28.9847, 132.7010, 4477,    403.8,  15.2423,  34.6309,2,  34.6341,2,   -999.0,9,    186.4,2,    10.39,2,     9.83,2,     0.00,2,     0.67,2, -999.000,9, -999.000,9, -999.000,9,-999.0000,9,  -999.00,9,   -999.0,9,   -999,  -999.0,-999.000,-999.0000,-999.000,  -999.0, 15.1802,-999.000
    49RY9511_2,   P24,    11,  2,      3,  12808,2,19951119,0509, 28.9847, 132.7010, 4477,    504.2,  12.1445,  34.4132,2,  34.4092,2,   -999.0,9,    175.3,2,    21.51,2,    16.00,2,     0.00,2,     1.12,2, -999.000,9, -999.000,9, -999.000,9,-999.0000,9,  -999.00,9,   -999.0,9,   -999,  -999.0,  12.085,-999.0000,-999.000,   505.0, 12.0778,-999.000
    49RY9511_2,   P24,    11,  2,      2,  12914,2,19951119,0509, 28.9847, 132.7010, 4477,    605.6,   9.6098,  34.2522,2,  34.2475,2,   -999.0,9,    160.1,6,    34.87,6,    21.81,6,     0.00,6,     1.52,6, -999.000,9, -999.000,9, -999.000,9,-999.0000,9,  -999.00,9,   -999.0,9,   -999,  -999.0,-999.000,-999.0000,-999.000,  -999.0,  9.5404,-999.000
    49RY9511_2,   P24,    11,  2,      1,  12807,2,19951119,0509, 28.9847, 132.7010, 4477,    707.4,   7.4572,  34.1709,2,  34.1620,6,   -999.0,9,    133.9,2,    54.23,2,    27.80,2,     0.00,2,     2.00,2, -999.000,9, -999.000,9, -999.000,9,-999.0000,9,  -999.00,9,   -999.0,9,   -999,  -999.0,-999.000,-999.0000,-999.000,  -999.0,  7.3870,-999.000