BOTTLE,20030404WHPSIOdm
EXPOCODE,SECT_ID,STNNBR,CASTNO,SAMPNO,BTLNBR,BTLNBR_FLAG_W,DATE,TIME,LATITUDE,LONGITUDE,DEPTH,CTDPRS,CTDTMP,CTDSAL,CTDSAL_FLAG_W,SALNTY,SALNTY_FLAG_W,CTDOXY,CTDOXY_FLAG_W,OXYGEN,OXYGEN_FLAG_W,SILCAT,SILCAT_FLAG_W,NITRAT,NITRAT_FLAG_W,NITRIT,NITRIT_FLAG_W,PHSPHT,PHSPHT_FLAG_W,CFC-11,CFC-11_FLAG_W,CFC-12,CFC-12_FLAG_W,TRITUM,TRITUM_FLAG_W,HELIUM,HELIUM_FLAG_W,DELHE3,DELHE3_FLAG_W,DELC14,DELC14_FLAG_W,CTDRAW,C14ERR,REVTMP,HELIER,DELHER,REVPRS,THETA,TRITER
,,,,,,,,,,,,DBAR,ITS-90,PSS-78,,PSS-78,,UMOL/KG,,UMOL/KG,,UMOL/KG,,UMOL/KG,,UMOL/KG,,UMOL/KG,,PMOL/KG,,PMOL/KG,,TU,,NMOL/KG,,PERCNT,,/MILLE,,,/MILLE,ITS-90,NMOL/KG,PERCNT,DBAR,DEG C,TU
    49RY9511_2,   P24,    13,  2,     13,  12812,2,19951119,1813, 28.3220, 133.1510, 3623,      5.7,  24.2069,  34.6929,2,  34.6916,2,   -999.0,9,    209.1,2,     1.34,2,     0.00,2,     0.00,2,     0.01,2, -999.000,9, -999.000,9, -999.000,9,-999.0000,9,  -999.00,9,   -999.0,9,   -999,  -999.0,-999.000,-999.0000,-999.000,    10.0, 24.2057,-999.000
    49RY9511_2,   P24,    13,  2,     12,  12821,2,19951119,1813, 28.3220, 133.1510, 3623,     25.9,  24.2299,  34.6921,2,  34.6930,2,   -999.0,9,    209.6,2,     1.49,2,     0.01,2,     0.00,2,     0.02,2, -999.000,9, -999.000,9, -999.000,9,-999.0000,9,  -999.00,9,   -999.0,9,   -999,  -999.0,-999.000,-999.0000,-999.000,  -999.0, 24.2244,-999.000
    49RY9511_2,   P24,    13,  2,     11,  12811,2,19951119,1813, 28.3220, 133.1510, 3623,     51.1,  24.2440,  34.6966,2,  34.6965,2,   -999.0,9,    209.6,2,     1.32,2,     0.04,2,     0.00,2,     0.02,2, -999.000,9, -999.000,9, -999.000,9,-999.0000,9,  -999.00,9,   -999.0,9,   -999,  -999.0,-999.000,-999.0000,-999.000,  -999.0, 24.2332,-999.000
    49RY9511_2,   P24,    13,  2,     10,  12820,2,19951119,1813, 28.3220, 133.1510, 3623,     75.7,  24.2205,  34.6862,2,  34.7347,3,   -999.0,9,    211.1,6,     1.60,6,     0.05,6,     0.00,6,     0.02,6, -999.000,9, -999.000,9, -999.000,9,-999.0000,9,  -999.00,9,   -999.0,9,   -999,  -999.0,-999.000,-999.0000,-999.000,  -999.0, 24.2045,-999.000
    49RY9511_2,   P24,    13,  2,      9,  12810,2,19951119,1813, 28.3220, 133.1510, 3623,    100.6,  21.3909,  34.9083,2,  34.9066,2,   -999.0,9,    211.1,2,     1.82,2,     0.18,2,     0.09,2,     0.07,2, -999.000,9, -999.000,9, -999.000,9,-999.0000,9,  -999.00,9,   -999.0,9,   -999,  -999.0,-999.000,-999.0000,-999.000,    96.0, 21.3715,-999.000
    49RY9511_2,   P24,    13,  2,      8,  12819,2,19951119,1813, 28.3220, 133.1510, 3623,    152.0,  19.1348,  34.9058,2,  34.9062,2,   -999.0,9,    202.9,2,     2.63,2,     2.63,2,     0.01,2,     0.20,2, -999.000,9, -999.000,9, -999.000,9,-999.0000,9,  -999.00,9,   -999.0,9,   -999,  -999.0,-999.000,-999.0000,-999.000,  -999.0, 19.1076,-999.000
    49RY9511_2,   P24,    13,  2,      7,  12815,2,19951119,1813, 28.3220, 133.1510, 3623,    201.4,  18.1266,  34.8915,2,  34.8780,3,   -999.0,9,    204.6,2,     3.30,2,     3.44,2,     0.01,2,     0.24,2, -999.000,9, -999.000,9, -999.000,9,-999.0000,9,  -999.00,9,   -999.0,9,   -999,  -999.0,-999.000,-999.0000,-999.000,  -999.0, 18.0918,-999.000
    49RY9511_2,   P24,    13,  2,      6,  12818,2,19951119,1813, 28.3220, 133.1510, 3623,    303.1,  16.6133,  34.7478,2,  34.7634,3,   -999.0,9,    198.1,2,     5.88,2,     6.34,2,     0.00,2,     0.43,2, -999.000,9, -999.000,9, -999.000,9,-999.0000,9,  -999.00,9,   -999.0,9,   -999,  -999.0,-999.000,-999.0000,-999.000,  -999.0, 16.5640,-999.000
    49RY9511_2,   P24,    13,  2,      5,  12809,2,19951119,1813, 28.3220, 133.1510, 3623,    403.6,  14.9133,  34.6023,2,  34.6149,3,   -999.0,9,    187.0,2,    10.82,2,    10.33,2,     0.00,2,     0.70,2, -999.000,9, -999.000,9, -999.000,9,-999.0000,9,  -999.00,9,   -999.0,9,   -999,  -999.0,-999.000,-999.0000,-999.000,  -999.0, 14.8522,-999.000
    49RY9511_2,   P24,    13,  2,      4,  12817,2,19951119,1813, 28.3220, 133.1510, 3623,    503.4,  12.0550,  34.3928,2,  34.4001,2,   -999.0,9,    171.8,2,    22.02,2,    16.55,2,     0.00,2,     1.15,2, -999.000,9, -999.000,9, -999.000,9,-999.0000,9,  -999.00,9,   -999.0,9,   -999,  -999.0,-999.000,-999.0000,-999.000,  -999.0, 11.9887,-999.000
    49RY9511_2,   P24,    13,  2,      3,  12808,2,19951119,1813, 28.3220, 133.1510, 3623,    605.3,   9.2108,  34.2509,2,  34.2445,2,   -999.0,9,    154.3,2,    37.55,2,    22.79,2,     0.00,2,     1.60,2, -999.000,9, -999.000,9, -999.000,9,-999.0000,9,  -999.00,9,   -999.0,9,   -999,  -999.0,-999.000,-999.0000,-999.000,  -999.0,  9.1433,-999.000
    49RY9511_2,   P24,    13,  2,      2,  12914,2,19951119,1813, 28.3220, 133.1510, 3623,    707.3,   7.1534,  34.1914,2,  34.1711,3,   -999.0,9,    127.0,2,    58.87,2,    29.20,2,     0.00,2,     2.08,2, -999.000,9, -999.000,9, -999.000,9,-999.0000,9,  -999.00,9,   -999.0,9,   -999,  -999.0,-999.000,-999.0000,-999.000,  -999.0,  7.0848,-999.000
    49RY9511_2,   P24,    14,  1,     18,  12824,2,19951119,2248, 28.1065, 133.3080, 4242,    805.3,   5.9575,  34.2031,2,  34.2053,2,   -999.0,9,     98.5,2,    76.25,2,    33.54,2,     0.00,2,     2.41,2,    0.748,2,    0.387,2, -999.000,9,-999.0000,9,  -999.00,9,   -999.0,9,   -999,  -999.0,-999.000,-999.0000,-999.000,  -999.0,  5.8861,-999.000
    49RY9511_2,   P24,    14,  1,     17,  12814,2,19951119,2248, 28.1065, 133.3080, 4242,    907.0,   4.8885,  34.2840,2,  34.2836,2,   -999.0,9,   -999.0,5,    95.97,2,    37.17,2,     0.00,2,     2.68,2, -999.000,9, -999.000,9, -999.000,9,-999.0000,9,  -999.00,9,   -999.0,9,   -999,  -999.0,-999.000,-999.0000,-999.000,  -999.0,  4.8147,-999.000
    49RY9511_2,   P24,    14,  1,     16,  12823,2,19951119,2248, 28.1065, 133.3080, 4242,   1007.2,   3.9290,  34.3556,2,  34.3553,2,   -999.0,9,     62.6,2,   113.76,2,    39.50,2,     0.00,2,     2.86,2,    0.150,2,    0.076,2, -999.000,9,-999.0000,9,  -999.00,9,   -999.0,9,   -999,  -999.0,-999.000,-999.0000,-999.000,  -999.0,  3.8535,-999.000
    49RY9511_2,   P24,    14,  1,     15,  12813,2,19951119,2248, 28.1065, 133.3080, 4242,   1260.9,   3.0303,  34.4589,2,  34.4597,2,   -999.0,9,     65.9,2,   131.69,2,    40.33,2,     0.00,2,     2.91,2,    0.036,2,    0.020,2, -999.000,9,-999.0000,9,  -999.00,9,   -999.0,9,   -999,  -999.0,-999.000,-999.0000,-999.000,  -999.0,  2.9419,-999.000
    49RY9511_2,   P24,    14,  1,     14,  12822,2,19951119,2248, 28.1065, 133.3080, 4242,   1514.5,   2.5503,  34.5274,2,  34.5279,2,   -999.0,9,     81.2,2,   138.46,2,    39.83,2,     0.00,2,     2.86,2,    0.019,2,    0.006,2, -999.000,9,-999.0000,9,  -999.00,9,   -999.0,9,   -999,  -999.0,-999.000,-999.0000,-999.000,  -999.0,  2.4466,-999.000
    49RY9511_2,   P24,    14,  1,     13,  12812,2,19951119,2248, 28.1065, 133.3080, 4242,   1768.0,   2.1996,  34.5763,2,  34.5771,2,   -999.0,9,    100.1,2,   141.75,2,    39.08,2,     0.00,2,     2.79,2,    0.007,6,    0.002,6, -999.000,9,-999.0000,9,  -999.00,9,   -999.0,9,   -999,  -999.0,-999.000,-999.0000,-999.000,  1764.0,  2.0797,-999.000
    49RY9511_2,   P24,    14,  1,     12,  12821,2,19951119,2248, 28.1065, 133.3080, 4242,   2022.3,   1.9546,  34.6107,2,  34.6117,2,   -999.0,9,    113.2,2,   142.01,2,    38.11,2,     0.00,2,     2.71,2,    0.000,2,    0.000,2, -999.000,9,-999.0000,9,  -999.00,9,   -999.0,9,   -999,  -999.0,-999.000,-999.0000,-999.000,  -999.0,  1.8171,-999.000
    49RY9511_2,   P24,    14,  1,     10,  12820,2,19951119,2248, 28.1065, 133.3080, 4242,   2274.9,   1.8009,  34.6337,2,  34.6347,2,   -999.0,9,    124.9,6,   141.61,6,    37.59,6,     0.00,6,     2.68,6, -999.000,9, -999.000,9, -999.000,9,-999.0000,9,  -999.00,9,   -999.0,9,   -999,  -999.0,-999.000,-999.0000,-999.000,  -999.0,  1.6443,-999.000
    49RY9511_2,   P24,    14,  1,     11,  12811,2,19951119,2248, 28.1065, 133.3080, 4242,   2275.2,   1.8011,  34.6339,2,  34.6333,2,   -999.0,9,    124.8,6,   141.42,6,    37.53,6,     0.00,6,     2.67,6, -999.000,9, -999.000,9, -999.000,9,-999.0000,9,  -999.00,9,   -999.0,9,   -999,  -999.0,-999.000,-999.0000,-999.000,  -999.0,  1.6444,-999.000
    49RY9511_2,   P24,    14,  1,      9,  12810,2,19951119,2248, 28.1065, 133.3080, 4242,   2530.8,   1.6934,  34.6493,2,  34.6501,2,   -999.0,9,    134.1,2,   141.32,2,    37.13,2,     0.00,2,     2.63,2, -999.000,9, -999.000,9, -999.000,9,-999.0000,9,  -999.00,9,   -999.0,9,   -999,  -999.0,-999.000,-999.0000,-999.000,  -999.0,  1.5161,-999.000
    49RY9511_2,   P24,    14,  1,      8,  12819,2,19951119,2248, 28.1065, 133.3080, 4242,   2784.8,   1.6000,  34.6630,2,  34.6621,2,   -999.0,9,    140.9,2,   141.19,2,    36.58,2,     0.00,2,     2.58,2, -999.000,9, -999.000,9, -999.000,9,-999.0000,9,  -999.00,9,   -999.0,9,   -999,  -999.0,-999.000,-999.0000,-999.000,  -999.0,  1.4013,-999.000
    49RY9511_2,   P24,    14,  1,      7,  12815,2,19951119,2248, 28.1065, 133.3080, 4242,   3039.9,   1.5614,  34.6679,2,  34.6686,2,   -999.0,9,    145.7,2,   140.54,2,    36.41,2,     0.00,2,     2.55,2, -999.000,9, -999.000,9, -999.000,9,-999.0000,9,  -999.00,9,   -999.0,9,   -999,  -999.0,-999.000,-999.0000,-999.000,  -999.0,  1.3395,-999.000
    49RY9511_2,   P24,    14,  1,      6,  12818,2,19951119,2248, 28.1065, 133.3080, 4242,   3296.6,   1.5393,  34.6743,2,  34.6733,2,   -999.0,9,    148.0,2,   140.38,2,    36.13,2,     0.00,2,     2.54,2, -999.000,9, -999.000,9, -999.000,9,-999.0000,9,  -999.00,9,   -999.0,9,   -999,  -999.0,-999.000,-999.0000,-999.000,  -999.0,  1.2927,-999.000
    49RY9511_2,   P24,    14,  1,      5,  12809,2,19951119,2248, 28.1065, 133.3080, 4242,   3552.1,   1.5413,  34.6762,2,  34.6768,2,   -999.0,9,    150.7,2,   140.28,2,    36.17,2,     0.00,2,     2.54,2, -999.000,9, -999.000,9, -999.000,9,-999.0000,9,  -999.00,9,   -999.0,9,   -999,  -999.0,-999.000,-999.0000,-999.000,  -999.0,  1.2688,-999.000
    49RY9511_2,   P24,    14,  1,      4,  12817,2,19951119,2248, 28.1065, 133.3080, 4242,   3807.7,   1.5547,  34.6773,2,  34.6778,2,   -999.0,9,    151.3,2,   139.92,2,    36.05,2,     0.00,2,     2.53,2, -999.000,9, -999.000,9, -999.000,9,-999.0000,9,  -999.00,9,   -999.0,9,   -999,  -999.0,-999.000,-999.0000,-999.000,  -999.0,  1.2551,-999.000
    49RY9511_2,   P24,    14,  1,      3,  12808,2,19951119,2248, 28.1065, 133.3080, 4242,   4064.0,   1.5670,  34.6793,2,  34.6798,2,   -999.0,9,    152.3,2,   139.90,2,    35.99,2,     0.00,2,     2.52,2, -999.000,9, -999.000,9, -999.000,9,-999.0000,9,  -999.00,9,   -999.0,9,   -999,  -999.0,   1.564,-999.0000,-999.000,  4057.0,  1.2392,-999.000
    49RY9511_2,   P24,    14,  1,      2,  12914,2,19951119,2248, 28.1065, 133.3080, 4242,   4289.4,   1.5813,  34.6801,2,  34.6804,2,   -999.0,9,    154.1,2,   139.50,2,    35.92,2,     0.00,2,     2.52,2, -999.000,9, -999.000,9, -999.000,9,-999.0000,9,  -999.00,9,   -999.0,9,   -999,  -999.0,-999.000,-999.0000,-999.000,  -999.0,  1.2279,-999.000
    49RY9511_2,   P24,    14,  1,      1,  12807,2,19951119,2248, 28.1065, 133.3080, 4242,   4289.5,   1.5813,  34.6805,2,  34.6798,2,   -999.0,9,    154.6,2,   139.37,2,    35.95,2,     0.00,2,     2.50,2, -999.000,9, -999.000,9, -999.000,9,-999.0000,9,  -999.00,9,   -999.0,9,   -999,  -999.0,-999.000,-999.0000,-999.000,  -999.0,  1.2279,-999.000
    49RY9511_2,   P24,    14,  2,     13,  12812,2,19951120,0259, 28.0953, 133.3558, 4518,      4.9,  24.4945,  34.8010,2,  34.7993,2,   -999.0,9,    209.2,2,     1.59,2,     0.01,2,     0.00,2,     0.02,2,    1.869,6,    1.126,6, -999.000,9,-999.0000,9,  -999.00,9,   -999.0,9,   -999,  -999.0,-999.000,-999.0000,-999.000,     9.0, 24.4935,-999.000
    49RY9511_2,   P24,    14,  2,     12,  12821,2,19951120,0259, 28.0953, 133.3558, 4518,     26.3,  24.4943,  34.8005,2,  34.7981,2,   -999.0,9,    209.6,2,     1.72,2,     0.00,2,     0.00,2,     0.03,2,    1.887,2,    1.134,2, -999.000,9,-999.0000,9,  -999.00,9,   -999.0,9,   -999,  -999.0,-999.000,-999.0000,-999.000,  -999.0, 24.4887,-999.000
    49RY9511_2,   P24,    14,  2,     11,  12811,2,19951120,0259, 28.0953, 133.3558, 4518,     49.8,  24.4924,  34.8005,2,  34.7979,2,   -999.0,9,    208.8,2,     1.52,2,     0.00,2,     0.00,2,     0.04,2,    1.886,2,    1.140,2, -999.000,9,-999.0000,9,  -999.00,9,   -999.0,9,   -999,  -999.0,-999.000,-999.0000,-999.000,  -999.0, 24.4818,-999.000
    49RY9511_2,   P24,    14,  2,     10,  12820,2,19951120,0259, 28.0953, 133.3558, 4518,     75.7,  24.4435,  34.7940,2,  34.7705,3,   -999.0,9,    209.3,2,     1.59,2,     0.01,2,     0.00,2,     0.09,2, -999.000,9, -999.000,9, -999.000,9,-999.0000,9,  -999.00,9,   -999.0,9,   -999,  -999.0,-999.000,-999.0000,-999.000,  -999.0, 24.4274,-999.000
    49RY9511_2,   P24,    14,  2,      8,  12819,2,19951120,0259, 28.0953, 133.3558, 4518,    101.4,  20.4982,  34.9021,2,  34.9001,2,   -999.0,9,    202.8,2,     2.26,2,     1.18,2,     0.04,2,     0.15,2,    2.212,2,    1.270,2, -999.000,9,-999.0000,9,  -999.00,9,   -999.0,9,   -999,  -999.0,-999.000,-999.0000,-999.000,  -999.0, 20.4792,-999.000
    49RY9511_2,   P24,    14,  2,      7,  12815,2,19951120,0259, 28.0953, 133.3558, 4518,    151.7,  18.9266,  34.9110,2,  34.9094,2,   -999.0,9,    204.8,2,     2.70,2,     2.58,2,     0.01,2,     0.20,2,    2.384,2,    1.341,2, -999.000,9,-999.0000,9,  -999.00,9,   -999.0,9,   -999,  -999.0,-999.000,-999.0000,-999.000,  -999.0, 18.8997,-999.000
    49RY9511_2,   P24,    14,  2,      6,  12818,2,19951120,0259, 28.0953, 133.3558, 4518,    203.1,  17.9818,  34.8707,2,  34.8694,2,   -999.0,9,    205.4,2,     3.47,2,     3.74,2,     0.00,2,     0.27,2,    2.435,6,    1.377,6, -999.000,9,-999.0000,9,  -999.00,9,   -999.0,9,   -999,  -999.0,-999.000,-999.0000,-999.000,  -999.0, 17.9469,-999.000
    49RY9511_2,   P24,    14,  2,      5,  12809,2,19951120,0259, 28.0953, 133.3558, 4518,    302.4,  16.9018,  34.7807,2,  34.7806,2,   -999.0,9,    198.5,2,     5.49,2,     6.05,2,     0.00,2,     0.44,2,    2.426,2,    1.357,2, -999.000,9,-999.0000,9,  -999.00,9,   -999.0,9,   -999,  -999.0,-999.000,-999.0000,-999.000,  -999.0, 16.8521,-999.000
    49RY9511_2,   P24,    14,  2,      4,  12817,2,19951120,0259, 28.0953, 133.3558, 4518,    403.8,  14.8003,  34.6026,2,  34.6011,2,   -999.0,9,    186.9,2,    11.03,2,    10.50,2,     0.00,2,     0.73,2,    2.251,2,    1.223,2, -999.000,9,-999.0000,9,  -999.00,9,   -999.0,9,   -999,  -999.0,-999.000,-999.0000,-999.000,  -999.0, 14.7395,-999.000
    49RY9511_2,   P24,    14,  2,      3,  12808,2,19951120,0259, 28.0953, 133.3558, 4518,    503.3,  12.1412,  34.4094,2,  34.4046,2,   -999.0,9,    176.7,2,    20.53,2,    15.76,2,     0.00,2,     1.10,2,    2.023,2,    1.088,2, -999.000,9,-999.0000,9,  -999.00,9,   -999.0,9,   -999,  -999.0,  12.140,-999.0000,-999.000,   502.0, 12.0746,-999.000
    49RY9511_2,   P24,    14,  2,      2,  12914,2,19951120,0259, 28.0953, 133.3558, 4518,    604.9,   9.2710,  34.2353,2,  34.2345,2,   -999.0,9,    155.6,2,    37.36,2,    22.81,2,     0.00,2,     1.64,2,    1.593,2,    0.837,2, -999.000,9,-999.0000,9,  -999.00,9,   -999.0,9,   -999,  -999.0,-999.000,-999.0000,-999.000,  -999.0,  9.2033,-999.000
    49RY9511_2,   P24,    14,  2,      1,  12807,2,19951120,0259, 28.0953, 133.3558, 4518,    707.4,   7.2827,  34.1716,2,  34.1687,2,   -999.0,9,    130.7,2,    56.44,2,    28.51,2,     0.00,2,     2.04,2,    1.268,2,    0.651,2, -999.000,9,-999.0000,9,  -999.00,9,   -999.0,9,   -999,  -999.0,-999.000,-999.0000,-999.000,  -999.0,  7.2134,-999.000