BOTTLE,20030404WHPSIOdm
EXPOCODE,SECT_ID,STNNBR,CASTNO,SAMPNO,BTLNBR,BTLNBR_FLAG_W,DATE,TIME,LATITUDE,LONGITUDE,DEPTH,CTDPRS,CTDTMP,CTDSAL,CTDSAL_FLAG_W,SALNTY,SALNTY_FLAG_W,CTDOXY,CTDOXY_FLAG_W,OXYGEN,OXYGEN_FLAG_W,SILCAT,SILCAT_FLAG_W,NITRAT,NITRAT_FLAG_W,NITRIT,NITRIT_FLAG_W,PHSPHT,PHSPHT_FLAG_W,CFC-11,CFC-11_FLAG_W,CFC-12,CFC-12_FLAG_W,TRITUM,TRITUM_FLAG_W,HELIUM,HELIUM_FLAG_W,DELHE3,DELHE3_FLAG_W,DELC14,DELC14_FLAG_W,CTDRAW,C14ERR,REVTMP,HELIER,DELHER,REVPRS,THETA,TRITER
,,,,,,,,,,,,DBAR,ITS-90,PSS-78,,PSS-78,,UMOL/KG,,UMOL/KG,,UMOL/KG,,UMOL/KG,,UMOL/KG,,UMOL/KG,,PMOL/KG,,PMOL/KG,,TU,,NMOL/KG,,PERCNT,,/MILLE,,,/MILLE,ITS-90,NMOL/KG,PERCNT,DBAR,DEG C,TU
    49RY9511_2,   P24,     7,  2,     14,  12822,2,19951118,0234, 29.9032, 132.2142, 4759,      5.2,  23.8586,  34.7744,2,  34.7719,3,   -999.0,9,    210.9,6,     1.48,6,     0.03,6,     0.00,6,     0.02,6, -999.000,9, -999.000,9, -999.000,9,-999.0000,9,  -999.00,9,   -999.0,9,   -999,  -999.0,-999.000,-999.0000,-999.000,  -999.0, 23.8575,-999.000
    49RY9511_2,   P24,     7,  2,     13,  12812,2,19951118,0234, 29.9032, 132.2142, 4759,      5.9,  23.8574,  34.7744,2,  34.7721,3,   -999.0,9,    211.4,6,     1.52,6,     0.07,6,     0.00,6,     0.02,6, -999.000,9, -999.000,9, -999.000,9,-999.0000,9,  -999.00,9,   -999.0,9,   -999,  -999.0,-999.000,-999.0000,-999.000,     8.0, 23.8561,-999.000
    49RY9511_2,   P24,     7,  2,     12,  12821,2,19951118,0234, 29.9032, 132.2142, 4759,     24.6,  23.8548,  34.7728,2,  34.7723,2,   -999.0,9,    210.9,2,     1.74,2,     0.07,2,     0.00,2,     0.03,2, -999.000,9, -999.000,9, -999.000,9,-999.0000,9,  -999.00,9,   -999.0,9,   -999,  -999.0,-999.000,-999.0000,-999.000,  -999.0, 23.8496,-999.000
    49RY9511_2,   P24,     7,  2,     11,  12811,2,19951118,0234, 29.9032, 132.2142, 4759,     50.9,  23.7605,  34.7838,2,  34.7841,2,   -999.0,9,    212.1,2,     1.78,2,     0.08,2,     0.00,2,     0.02,2, -999.000,9, -999.000,9, -999.000,9,-999.0000,9,  -999.00,9,   -999.0,9,   -999,  -999.0,-999.000,-999.0000,-999.000,  -999.0, 23.7499,-999.000
    49RY9511_2,   P24,     7,  2,     10,  12820,2,19951118,0234, 29.9032, 132.2142, 4759,     75.0,  23.7327,  34.7822,2,  34.7859,2,   -999.0,9,    211.0,2,     1.66,2,     0.05,2,     0.00,2,     0.02,2, -999.000,9, -999.000,9, -999.000,9,-999.0000,9,  -999.00,9,   -999.0,9,   -999,  -999.0,-999.000,-999.0000,-999.000,  -999.0, 23.7171,-999.000
    49RY9511_2,   P24,     7,  2,      9,  12810,2,19951118,0234, 29.9032, 132.2142, 4759,    100.3,  21.6220,  34.8716,2,  34.8751,2,   -999.0,9,    213.3,2,     2.14,2,     0.43,2,     0.07,2,     0.07,2, -999.000,9, -999.000,9, -999.000,9,-999.0000,9,  -999.00,9,   -999.0,9,   -999,  -999.0,-999.000,-999.0000,-999.000,    95.0, 21.6025,-999.000
    49RY9511_2,   P24,     7,  2,      8,  12819,2,19951118,0234, 29.9032, 132.2142, 4759,    152.2,  19.5371,  34.9155,2,  34.9139,2,   -999.0,9,    198.1,2,     2.46,2,     2.54,2,     0.01,2,     0.19,2, -999.000,9, -999.000,9, -999.000,9,-999.0000,9,  -999.00,9,   -999.0,9,   -999,  -999.0,-999.000,-999.0000,-999.000,  -999.0, 19.5094,-999.000
    49RY9511_2,   P24,     7,  2,      7,  12815,2,19951118,0234, 29.9032, 132.2142, 4759,    201.7,  18.6455,  34.8813,2,  34.8810,2,   -999.0,9,    197.4,2,     3.39,2,     3.75,2,     0.01,2,     0.27,2, -999.000,9, -999.000,9, -999.000,9,-999.0000,9,  -999.00,9,   -999.0,9,   -999,  -999.0,-999.000,-999.0000,-999.000,  -999.0, 18.6100,-999.000
    49RY9511_2,   P24,     7,  2,      5,  12809,2,19951118,0234, 29.9032, 132.2142, 4759,    301.6,  17.2780,  34.8054,2,  34.8046,2,   -999.0,9,    198.4,6,     4.80,6,     5.56,6,     0.00,6,     0.38,6, -999.000,9, -999.000,9, -999.000,9,-999.0000,9,  -999.00,9,   -999.0,9,   -999,  -999.0,-999.000,-999.0000,-999.000,  -999.0, 17.2276,-999.000
    49RY9511_2,   P24,     7,  2,      6,  12818,2,19951118,0234, 29.9032, 132.2142, 4759,    301.9,  17.2763,  34.8059,2,  34.8046,2,   -999.0,9,    198.7,6,     4.94,6,     5.56,6,     0.00,6,     0.38,6, -999.000,9, -999.000,9, -999.000,9,-999.0000,9,  -999.00,9,   -999.0,9,   -999,  -999.0,-999.000,-999.0000,-999.000,  -999.0, 17.2259,-999.000
    49RY9511_2,   P24,     7,  2,      4,  12817,2,19951118,0234, 29.9032, 132.2142, 4759,    402.6,  15.7577,  34.6822,2,  34.6788,2,   -999.0,9,    192.0,2,     8.54,2,     8.72,2,     0.00,2,     0.59,2, -999.000,9, -999.000,9, -999.000,9,-999.0000,9,  -999.00,9,   -999.0,9,   -999,  -999.0,-999.000,-999.0000,-999.000,  -999.0, 15.6944,-999.000
    49RY9511_2,   P24,     7,  2,      3,  12808,2,19951118,0234, 29.9032, 132.2142, 4759,    504.4,  13.0063,  34.4663,2,  34.4707,2,   -999.0,9,    177.3,2,    17.86,2,    14.39,2,     0.00,2,     0.98,2, -999.000,9, -999.000,9, -999.000,9,-999.0000,9,  -999.00,9,   -999.0,9,   -999,  -999.0,  12.988,-999.0000,-999.000,   503.0, 12.9365,-999.000
    49RY9511_2,   P24,     7,  2,      2,  12914,2,19951118,0234, 29.9032, 132.2142, 4759,    603.9,  10.4364,  34.3038,2,  34.3090,2,   -999.0,9,    164.4,2,    31.11,2,    20.05,2,     0.00,2,     1.40,2, -999.000,9, -999.000,9, -999.000,9,-999.0000,9,  -999.00,9,   -999.0,9,   -999,  -999.0,-999.000,-999.0000,-999.000,  -999.0, 10.3636,-999.000
    49RY9511_2,   P24,     7,  2,      1,  12807,2,19951118,0234, 29.9032, 132.2142, 4759,    706.2,   7.9501,  34.2224,2,  34.2003,3,   -999.0,9,    136.3,2,    51.57,2,    26.96,2,     0.00,2,     1.92,2, -999.000,9, -999.000,9, -999.000,9,-999.0000,9,  -999.00,9,   -999.0,9,   -999,  -999.0,-999.000,-999.0000,-999.000,  -999.0,  7.8774,-999.000
    49RY9511_2,   P24,     8,  1,     21,  12827,2,19951118,0616, 29.6663, 132.3112, 5025,    810.3,   5.9983,  34.1750,2,  34.1717,2,   -999.0,9,    103.8,2,    73.77,2,    32.89,2,     0.00,2,     2.39,2, -999.000,9, -999.000,9, -999.000,9,-999.0000,9,  -999.00,9,   -999.0,9,   -999,  -999.0,-999.000,-999.0000,-999.000,  -999.0,  5.9262,-999.000
    49RY9511_2,   P24,     8,  1,     20,  12826,2,19951118,0616, 29.6663, 132.3112, 5025,    911.2,   4.8933,  34.2353,2,  34.2353,2,   -999.0,9,     78.0,2,    93.54,2,    36.89,2,     0.00,2,     2.70,2, -999.000,9, -999.000,9, -999.000,9,-999.0000,9,  -999.00,9,   -999.0,9,   -999,  -999.0,-999.000,-999.0000,-999.000,  -999.0,  4.8191,-999.000
    49RY9511_2,   P24,     8,  1,     19,  12825,2,19951118,0616, 29.6663, 132.3112, 5025,   1013.2,   4.1517,  34.3256,2,  34.3260,2,   -999.0,9,     65.2,2,   109.32,2,    38.87,2,     0.00,2,     2.85,2, -999.000,9, -999.000,9, -999.000,9,-999.0000,9,  -999.00,9,   -999.0,9,   -999,  -999.0,-999.000,-999.0000,-999.000,  -999.0,  4.0740,-999.000
    49RY9511_2,   P24,     8,  1,     18,  12824,2,19951118,0616, 29.6663, 132.3112, 5025,   1254.2,   3.2019,  34.4445,2,  34.4447,2,   -999.0,9,     65.9,2,   128.53,2,    40.04,2,     0.00,2,     2.92,2, -999.000,9, -999.000,9, -999.000,9,-999.0000,9,  -999.00,9,   -999.0,9,   -999,  -999.0,-999.000,-999.0000,-999.000,  -999.0,  3.1124,-999.000
    49RY9511_2,   P24,     8,  1,     16,  12823,2,19951118,0616, 29.6663, 132.3112, 5025,   1518.4,   2.6745,  34.5114,2,  34.5116,2,   -999.0,9,     78.5,2,   137.08,2,    39.92,2,     0.00,2,     2.89,2, -999.000,9, -999.000,9, -999.000,9,-999.0000,9,  -999.00,9,   -999.0,9,   -999,  -999.0,-999.000,-999.0000,-999.000,  -999.0,  2.5691,-999.000
    49RY9511_2,   P24,     8,  1,     17,  12814,2,19951118,0616, 29.6663, 132.3112, 5025,   1523.9,   2.6672,  34.5135,2,  34.5126,3,   -999.0,9,     77.4,2,   137.35,2,    39.82,2,     0.00,2,     2.89,2, -999.000,9, -999.000,9, -999.000,9,-999.0000,9,  -999.00,9,   -999.0,9,   -999,  -999.0,-999.000,-999.0000,-999.000,  -999.0,  2.5614,-999.000
    49RY9511_2,   P24,     8,  1,     15,  12813,2,19951118,0616, 29.6663, 132.3112, 5025,   1769.3,   2.2962,  34.5636,2,  34.5633,2,   -999.0,9,     95.0,2,   140.93,2,    39.08,2,     0.00,2,     2.82,2, -999.000,9, -999.000,9, -999.000,9,-999.0000,9,  -999.00,9,   -999.0,9,   -999,  -999.0,-999.000,-999.0000,-999.000,  -999.0,  2.1749,-999.000
    49RY9511_2,   P24,     8,  1,     14,  12822,2,19951118,0616, 29.6663, 132.3112, 5025,   2024.0,   2.0382,  34.6010,2,  34.6003,2,   -999.0,9,   -999.0,5,   141.76,2,    38.32,2,     0.00,2,     2.75,2, -999.000,9, -999.000,9, -999.000,9,-999.0000,9,  -999.00,9,   -999.0,9,   -999,  -999.0,-999.000,-999.0000,-999.000,  -999.0,  1.8993,-999.000
    49RY9511_2,   P24,     8,  1,     13,  12812,2,19951118,0616, 29.6663, 132.3112, 5025,   2277.1,   1.8553,  34.6263,2,  34.6269,2,   -999.0,9,   -999.0,5,   141.68,2,    37.59,2,     0.00,2,     2.69,2, -999.000,9, -999.000,9, -999.000,9,-999.0000,9,  -999.00,9,   -999.0,9,   -999,  -999.0,-999.000,-999.0000,-999.000,  2278.0,  1.6976,-999.000
    49RY9511_2,   P24,     8,  1,     12,  12821,2,19951118,0616, 29.6663, 132.3112, 5025,   2531.2,   1.7272,  34.6436,2,  34.6442,2,   -999.0,9,    130.5,2,   141.57,2,    37.26,2,     0.00,2,     2.65,2, -999.000,9, -999.000,9, -999.000,9,-999.0000,9,  -999.00,9,   -999.0,9,   -999,  -999.0,-999.000,-999.0000,-999.000,  -999.0,  1.5493,-999.000
    49RY9511_2,   P24,     8,  1,     11,  12811,2,19951118,0616, 29.6663, 132.3112, 5025,   2785.7,   1.6271,  34.6588,2,  34.6589,2,   -999.0,9,    139.2,2,   141.15,2,    36.62,2,     0.00,2,     2.61,2, -999.000,9, -999.000,9, -999.000,9,-999.0000,9,  -999.00,9,   -999.0,9,   -999,  -999.0,-999.000,-999.0000,-999.000,  -999.0,  1.4278,-999.000
    49RY9511_2,   P24,     8,  1,     10,  12820,2,19951118,0616, 29.6663, 132.3112, 5025,   3041.5,   1.5814,  34.6661,2,  34.6648,3,   -999.0,9,    143.9,2,   140.81,2,    36.37,2,     0.00,2,     2.59,2, -999.000,9, -999.000,9, -999.000,9,-999.0000,9,  -999.00,9,   -999.0,9,   -999,  -999.0,-999.000,-999.0000,-999.000,  -999.0,  1.3589,-999.000
    49RY9511_2,   P24,     8,  1,      9,  12810,2,19951118,0616, 29.6663, 132.3112, 5025,   3294.5,   1.5482,  34.6721,2,  34.6699,2,   -999.0,9,    147.5,2,   140.65,2,    36.02,2,     0.00,2,     2.57,2, -999.000,9, -999.000,9, -999.000,9,-999.0000,9,  -999.00,9,   -999.0,9,   -999,  -999.0,-999.000,-999.0000,-999.000,  3295.0,  1.3016,-999.000
    49RY9511_2,   P24,     8,  1,      8,  12819,2,19951118,0616, 29.6663, 132.3112, 5025,   3552.2,   1.5446,  34.6753,2,  34.6749,2,   -999.0,9,    149.9,2,   140.23,2,    35.95,2,     0.00,2,     2.55,2, -999.000,9, -999.000,9, -999.000,9,-999.0000,9,  -999.00,9,   -999.0,9,   -999,  -999.0,-999.000,-999.0000,-999.000,  -999.0,  1.2720,-999.000
    49RY9511_2,   P24,     8,  1,      7,  12815,2,19951118,0616, 29.6663, 132.3112, 5025,   3807.0,   1.5569,  34.6771,2,  34.6762,3,   -999.0,9,    151.8,2,   140.08,2,    35.97,2,     0.00,2,     2.55,2, -999.000,9, -999.000,9, -999.000,9,-999.0000,9,  -999.00,9,   -999.0,9,   -999,  -999.0,-999.000,-999.0000,-999.000,  -999.0,  1.2572,-999.000
    49RY9511_2,   P24,     8,  1,      6,  12818,2,19951118,0616, 29.6663, 132.3112, 5025,   4061.8,   1.5771,  34.6777,2,  34.6764,2,   -999.0,9,    151.3,6,   140.21,6,    35.88,6,     0.00,6,     2.54,6, -999.000,9, -999.000,9, -999.000,9,-999.0000,9,  -999.00,9,   -999.0,9,   -999,  -999.0,-999.000,-999.0000,-999.000,  -999.0,  1.2493,-999.000
    49RY9511_2,   P24,     8,  1,      5,  12809,2,19951118,0616, 29.6663, 132.3112, 5025,   4320.1,   1.6029,  34.6777,2,  34.6782,2,   -999.0,9,    152.7,2,   140.37,2,    36.07,2,     0.00,2,     2.54,2, -999.000,9, -999.000,9, -999.000,9,-999.0000,9,  -999.00,9,   -999.0,9,   -999,  -999.0,-999.000,-999.0000,-999.000,  -999.0,  1.2454,-999.000
    49RY9511_2,   P24,     8,  1,      4,  12817,2,19951118,0616, 29.6663, 132.3112, 5025,   4576.6,   1.6289,  34.6779,2,  34.6776,2,   -999.0,9,    153.8,2,   140.22,2,    35.99,2,     0.00,2,     2.54,2, -999.000,9, -999.000,9, -999.000,9,-999.0000,9,  -999.00,9,   -999.0,9,   -999,  -999.0,-999.000,-999.0000,-999.000,  -999.0,  1.2410,-999.000
    49RY9511_2,   P24,     8,  1,      3,  12808,2,19951118,0616, 29.6663, 132.3112, 5025,   4824.2,   1.6565,  34.6798,2,  34.6788,2,   -999.0,9,    152.3,2,   140.14,2,    35.92,2,     0.00,2,     2.54,2, -999.000,9, -999.000,9, -999.000,9,-999.0000,9,  -999.00,9,   -999.0,9,   -999,  -999.0,   1.653,-999.0000,-999.000,  4822.0,  1.2384,-999.000
    49RY9511_2,   P24,     8,  1,      2,  12914,2,19951118,0616, 29.6663, 132.3112, 5025,   4828.5,   1.6578,  34.6778,2,  34.6772,3,   -999.0,9,    153.3,2,   140.21,2,    35.87,2,     0.00,2,     2.54,2, -999.000,9, -999.000,9, -999.000,9,-999.0000,9,  -999.00,9,   -999.0,9,   -999,  -999.0,-999.000,-999.0000,-999.000,  -999.0,  1.2392,-999.000
    49RY9511_2,   P24,     8,  1,      1,  12807,2,19951118,0616, 29.6663, 132.3112, 5025,   4832.7,   1.6584,  34.6779,2,  34.6758,3,   -999.0,9,    152.8,2,   140.35,2,    36.04,2,     0.00,2,     2.53,2, -999.000,9, -999.000,9, -999.000,9,-999.0000,9,  -999.00,9,   -999.0,9,   -999,  -999.0,-999.000,-999.0000,-999.000,  -999.0,  1.2392,-999.000
    49RY9511_2,   P24,     8,  1,     24,  12830,2,19951118,0616, 29.6663, 132.3112, 5025,   4833.8,   1.6581,  34.6781,2,  34.6788,2,   -999.0,9,   -999.0,9,  -999.00,9,  -999.00,9,  -999.00,9,  -999.00,9, -999.000,9, -999.000,9, -999.000,9,-999.0000,9,  -999.00,9,   -999.0,9,   -999,  -999.0,-999.000,-999.0000,-999.000,  -999.0,  1.2388,-999.000
    49RY9511_2,   P24,     8,  2,     23,  12829,2,19951118,0947, 29.6698, 132.3348, 5060,      5.8,  23.7465,  34.7975,2,  34.7959,2,   -999.0,9,    210.8,2,     1.42,2,     0.09,2,     0.00,2,     0.02,2, -999.000,9, -999.000,9, -999.000,9,-999.0000,9,  -999.00,9,   -999.0,9,   -999,  -999.0,-999.000,-999.0000,-999.000,  -999.0, 23.7453,-999.000
    49RY9511_2,   P24,     8,  2,     11,  12811,2,19951118,0947, 29.6698, 132.3348, 5060,     24.8,  23.7553,  34.7958,2,  34.7938,2,   -999.0,9,    211.2,2,     1.43,2,     0.09,2,     0.00,2,     0.02,2, -999.000,9, -999.000,9, -999.000,9,-999.0000,9,  -999.00,9,   -999.0,9,   -999,  -999.0,-999.000,-999.0000,-999.000,  -999.0, 23.7501,-999.000
    49RY9511_2,   P24,     8,  2,     10,  12820,2,19951118,0947, 29.6698, 132.3348, 5060,     51.0,  23.7626,  34.7963,2,  34.7963,2,   -999.0,9,    210.6,2,     1.47,2,     0.00,2,     0.00,2,     0.03,2, -999.000,9, -999.000,9, -999.000,9,-999.0000,9,  -999.00,9,   -999.0,9,   -999,  -999.0,-999.000,-999.0000,-999.000,  -999.0, 23.7519,-999.000
    49RY9511_2,   P24,     8,  2,      9,  12810,2,19951118,0947, 29.6698, 132.3348, 5060,     75.2,  23.7205,  34.8079,2,  34.8079,2,   -999.0,9,    212.8,2,     1.61,2,     0.01,2,     0.00,2,     0.03,2, -999.000,9, -999.000,9, -999.000,9,-999.0000,9,  -999.00,9,   -999.0,9,   -999,  -999.0,-999.000,-999.0000,-999.000,    69.0, 23.7048,-999.000
    49RY9511_2,   P24,     8,  2,      8,  12819,2,19951118,0947, 29.6698, 132.3348, 5060,    102.9,  21.9955,  34.9009,2,  34.9009,2,   -999.0,9,    209.5,6,     1.90,6,     0.30,6,     0.15,6,     0.06,6, -999.000,9, -999.000,9, -999.000,9,-999.0000,9,  -999.00,9,   -999.0,9,   -999,  -999.0,-999.000,-999.0000,-999.000,  -999.0, 21.9751,-999.000
    49RY9511_2,   P24,     8,  2,      7,  12815,2,19951118,0947, 29.6698, 132.3348, 5060,    153.4,  19.8778,  34.9005,2,  34.9001,2,   -999.0,9,    198.3,2,     2.78,2,     2.56,2,     0.01,2,     0.21,2, -999.000,9, -999.000,9, -999.000,9,-999.0000,9,  -999.00,9,   -999.0,9,   -999,  -999.0,-999.000,-999.0000,-999.000,  -999.0, 19.8496,-999.000
    49RY9511_2,   P24,     8,  2,      6,  12818,2,19951118,0947, 29.6698, 132.3348, 5060,    202.9,  18.7437,  34.8976,2,  34.8983,2,   -999.0,9,    202.4,2,     3.12,2,     3.10,2,     0.01,2,     0.24,2, -999.000,9, -999.000,9, -999.000,9,-999.0000,9,  -999.00,9,   -999.0,9,   -999,  -999.0,-999.000,-999.0000,-999.000,  -999.0, 18.7078,-999.000
    49RY9511_2,   P24,     8,  2,      5,  12809,2,19951118,0947, 29.6698, 132.3348, 5060,    305.0,  17.5509,  34.8354,2,  34.8322,2,   -999.0,9,    202.5,2,     4.01,2,     4.79,2,     0.00,2,     0.34,2, -999.000,9, -999.000,9, -999.000,9,-999.0000,9,  -999.00,9,   -999.0,9,   -999,  -999.0,-999.000,-999.0000,-999.000,  -999.0, 17.4993,-999.000
    49RY9511_2,   P24,     8,  2,      4,  12817,2,19951118,0947, 29.6698, 132.3348, 5060,    403.4,  15.2474,  34.6395,2,  34.6371,2,   -999.0,9,    186.3,2,    10.00,2,     9.79,2,     0.00,2,     0.68,2, -999.000,9, -999.000,9, -999.000,9,-999.0000,9,  -999.00,9,   -999.0,9,   -999,  -999.0,-999.000,-999.0000,-999.000,  -999.0, 15.1855,-999.000
    49RY9511_2,   P24,     8,  2,      3,  12808,2,19951118,0947, 29.6698, 132.3348, 5060,    504.1,  12.8539,  34.4647,2,  34.4558,3,   -999.0,9,    178.9,2,    18.61,2,    14.57,2,     0.00,2,     1.03,2, -999.000,9, -999.000,9, -999.000,9,-999.0000,9,  -999.00,9,   -999.0,9,   -999,  -999.0,-999.000,-999.0000,-999.000,  -999.0, 12.7847,-999.000
    49RY9511_2,   P24,     8,  2,      2,  12914,2,19951118,0947, 29.6698, 132.3348, 5060,    603.4,  10.1913,  34.2988,2,  34.2968,2,   -999.0,9,    161.2,2,    33.02,2,    20.57,2,     0.00,2,     1.47,2, -999.000,9, -999.000,9, -999.000,9,-999.0000,9,  -999.00,9,   -999.0,9,   -999,  -999.0,-999.000,-999.0000,-999.000,  -999.0, 10.1196,-999.000
    49RY9511_2,   P24,     8,  2,      1,  12807,2,19951118,0947, 29.6698, 132.3348, 5060,    707.7,   7.6991,  34.1890,2,  34.1825,3,   -999.0,9,    149.6,2,    52.67,2,    27.28,2,     0.00,2,     1.98,2, -999.000,9, -999.000,9, -999.000,9,-999.0000,9,  -999.00,9,   -999.0,9,   -999,  -999.0,-999.000,-999.0000,-999.000,  -999.0,  7.6276,-999.000