BOTTLE,20030404WHPSIOdm
EXPOCODE,SECT_ID,STNNBR,CASTNO,SAMPNO,BTLNBR,BTLNBR_FLAG_W,DATE,TIME,LATITUDE,LONGITUDE,DEPTH,CTDPRS,CTDTMP,CTDSAL,CTDSAL_FLAG_W,SALNTY,SALNTY_FLAG_W,CTDOXY,CTDOXY_FLAG_W,OXYGEN,OXYGEN_FLAG_W,SILCAT,SILCAT_FLAG_W,NITRAT,NITRAT_FLAG_W,NITRIT,NITRIT_FLAG_W,PHSPHT,PHSPHT_FLAG_W,CFC-11,CFC-11_FLAG_W,CFC-12,CFC-12_FLAG_W,TRITUM,TRITUM_FLAG_W,HELIUM,HELIUM_FLAG_W,DELHE3,DELHE3_FLAG_W,DELC14,DELC14_FLAG_W,CTDRAW,C14ERR,REVTMP,HELIER,DELHER,REVPRS,THETA,TRITER
,,,,,,,,,,,,DBAR,ITS-90,PSS-78,,PSS-78,,UMOL/KG,,UMOL/KG,,UMOL/KG,,UMOL/KG,,UMOL/KG,,UMOL/KG,,PMOL/KG,,PMOL/KG,,TU,,NMOL/KG,,PERCNT,,/MILLE,,,/MILLE,ITS-90,NMOL/KG,PERCNT,DBAR,DEG C,TU
    49RY9511_2,   P24,    26,  1,     23,  12829,2,19951123,2222, 25.0273, 137.0275, 5038,   1767.7,   2.2313,  34.5748,2,  34.5747,2,   -999.0,9,     94.5,2,   141.57,2,    39.31,2,     0.00,2,     2.81,2, -999.000,9, -999.000,9, -999.000,9,-999.0000,9,  -999.00,9,   -999.0,9,   -999,  -999.0,-999.000,-999.0000,-999.000,  -999.0,  2.1110,-999.000
    49RY9511_2,   P24,    26,  1,     22,  12828,2,19951123,2222, 25.0273, 137.0275, 5038,   2027.6,   2.0215,  34.6112,2,  34.6123,2,   -999.0,9,    112.2,2,   140.95,2,    38.25,2,     0.00,2,     2.73,2, -999.000,9, -999.000,9, -999.000,9,-999.0000,9,  -999.00,9,   -999.0,9,   -999,  -999.0,-999.000,-999.0000,-999.000,  -999.0,  1.8825,-999.000
    49RY9511_2,   P24,    26,  1,     21,  12827,2,19951123,2222, 25.0273, 137.0275, 5038,   2280.6,   1.8613,  34.6333,2,  34.6330,2,   -999.0,9,    123.1,2,   141.19,2,    37.71,2,     0.00,2,     2.68,2, -999.000,9, -999.000,9, -999.000,9,-999.0000,9,  -999.00,9,   -999.0,9,   -999,  -999.0,-999.000,-999.0000,-999.000,  -999.0,  1.7032,-999.000
    49RY9511_2,   P24,    26,  1,     11,  12811,2,19951123,2222, 25.0273, 137.0275, 5038,   2534.2,   1.7802,  34.6443,2,  34.6442,2,   -999.0,9,   -999.0,9,  -999.00,9,  -999.00,9,  -999.00,9,  -999.00,9, -999.000,9, -999.000,9, -999.000,9,-999.0000,9,  -999.00,9,   -999.0,9,   -999,  -999.0,-999.000,-999.0000,-999.000,  -999.0,  1.6010,-999.000
    49RY9511_2,   P24,    26,  1,     12,  12821,2,19951123,2222, 25.0273, 137.0275, 5038,   2538.4,   1.7791,  34.6442,2,  34.6448,2,   -999.0,9,   -999.0,9,  -999.00,9,  -999.00,9,  -999.00,9,  -999.00,9, -999.000,9, -999.000,9, -999.000,9,-999.0000,9,  -999.00,9,   -999.0,9,   -999,  -999.0,-999.000,-999.0000,-999.000,  -999.0,  1.5995,-999.000
    49RY9511_2,   P24,    26,  1,     13,  12812,2,19951123,2222, 25.0273, 137.0275, 5038,   2540.4,   1.7789,  34.6439,2,  34.6444,2,   -999.0,9,   -999.0,9,  -999.00,9,  -999.00,9,  -999.00,9,  -999.00,9, -999.000,9, -999.000,9, -999.000,9,-999.0000,9,  -999.00,9,   -999.0,9,   -999,  -999.0,-999.000,-999.0000,-999.000,  2542.0,  1.5992,-999.000
    49RY9511_2,   P24,    26,  1,     14,  12822,2,19951123,2222, 25.0273, 137.0275, 5038,   2542.9,   1.7770,  34.6437,2,  34.6446,2,   -999.0,9,   -999.0,9,  -999.00,9,  -999.00,9,  -999.00,9,  -999.00,9, -999.000,9, -999.000,9, -999.000,9,-999.0000,9,  -999.00,9,   -999.0,9,   -999,  -999.0,-999.000,-999.0000,-999.000,  -999.0,  1.5970,-999.000
    49RY9511_2,   P24,    26,  1,     15,  12813,2,19951123,2222, 25.0273, 137.0275, 5038,   2545.8,   1.7759,  34.6454,2,  34.6450,2,   -999.0,9,   -999.0,9,  -999.00,9,  -999.00,9,  -999.00,9,  -999.00,9, -999.000,9, -999.000,9, -999.000,9,-999.0000,9,  -999.00,9,   -999.0,9,   -999,  -999.0,-999.000,-999.0000,-999.000,  -999.0,  1.5957,-999.000
    49RY9511_2,   P24,    26,  1,     16,  12823,2,19951123,2222, 25.0273, 137.0275, 5038,   2548.0,   1.7762,  34.6449,2,  34.6442,2,   -999.0,9,   -999.0,9,  -999.00,9,  -999.00,9,  -999.00,9,  -999.00,9, -999.000,9, -999.000,9, -999.000,9,-999.0000,9,  -999.00,9,   -999.0,9,   -999,  -999.0,-999.000,-999.0000,-999.000,  -999.0,  1.5958,-999.000
    49RY9511_2,   P24,    26,  1,     17,  12814,2,19951123,2222, 25.0273, 137.0275, 5038,   2549.3,   1.7756,  34.6450,2,  34.6446,2,   -999.0,9,   -999.0,9,  -999.00,9,  -999.00,9,  -999.00,9,  -999.00,9, -999.000,9, -999.000,9, -999.000,9,-999.0000,9,  -999.00,9,   -999.0,9,   -999,  -999.0,-999.000,-999.0000,-999.000,  -999.0,  1.5951,-999.000
    49RY9511_2,   P24,    26,  1,     18,  12824,2,19951123,2222, 25.0273, 137.0275, 5038,   2551.2,   1.7761,  34.6440,2,  34.6420,2,   -999.0,9,   -999.0,9,  -999.00,9,  -999.00,9,  -999.00,9,  -999.00,9, -999.000,9, -999.000,9, -999.000,9,-999.0000,9,  -999.00,9,   -999.0,9,   -999,  -999.0,-999.000,-999.0000,-999.000,  -999.0,  1.5954,-999.000
    49RY9511_2,   P24,    26,  1,     19,  12825,2,19951123,2222, 25.0273, 137.0275, 5038,   2553.6,   1.7738,  34.6457,2,  34.6446,2,   -999.0,9,   -999.0,9,  -999.00,9,  -999.00,9,  -999.00,9,  -999.00,9, -999.000,9, -999.000,9, -999.000,9,-999.0000,9,  -999.00,9,   -999.0,9,   -999,  -999.0,-999.000,-999.0000,-999.000,  -999.0,  1.5929,-999.000
    49RY9511_2,   P24,    26,  1,     20,  12826,2,19951123,2222, 25.0273, 137.0275, 5038,   2555.9,   1.7729,  34.6449,2,  34.6453,2,   -999.0,9,    131.5,2,   141.35,2,    37.28,2,     0.00,2,     2.65,2, -999.000,9, -999.000,9, -999.000,9,-999.0000,9,  -999.00,9,   -999.0,9,   -999,  -999.0,-999.000,-999.0000,-999.000,  -999.0,  1.5919,-999.000
    49RY9511_2,   P24,    26,  1,     10,  12820,2,19951123,2222, 25.0273, 137.0275, 5038,   2787.8,   1.7093,  34.6517,2,  34.6526,2,   -999.0,9,    134.2,2,   141.19,2,    37.16,2,     0.00,2,     2.62,2, -999.000,9, -999.000,9, -999.000,9,-999.0000,9,  -999.00,9,   -999.0,9,   -999,  -999.0,-999.000,-999.0000,-999.000,  -999.0,  1.5081,-999.000
    49RY9511_2,   P24,    26,  1,      9,  12810,2,19951123,2222, 25.0273, 137.0275, 5038,   3042.7,   1.6387,  34.6617,2,  34.6621,2,   -999.0,9,    140.4,2,   140.80,2,    36.83,2,     0.00,2,     2.60,2, -999.000,9, -999.000,9, -999.000,9,-999.0000,9,  -999.00,9,   -999.0,9,   -999,  -999.0,-999.000,-999.0000,-999.000,  3043.0,  1.4148,-999.000
    49RY9511_2,   P24,    26,  1,      8,  12819,2,19951123,2222, 25.0273, 137.0275, 5038,   3297.8,   1.5782,  34.6689,2,  34.6701,2,   -999.0,9,    146.1,2,   140.58,2,    36.49,2,     0.00,2,     2.57,2, -999.000,9, -999.000,9, -999.000,9,-999.0000,9,  -999.00,9,   -999.0,9,   -999,  -999.0,-999.000,-999.0000,-999.000,  -999.0,  1.3307,-999.000
    49RY9511_2,   P24,    26,  1,      7,  12815,2,19951123,2222, 25.0273, 137.0275, 5038,   3554.5,   1.5491,  34.6751,2,  34.6753,2,   -999.0,9,    149.9,6,   140.28,6,    36.20,6,     0.00,6,     2.55,6, -999.000,9, -999.000,9, -999.000,9,-999.0000,9,  -999.00,9,   -999.0,9,   -999,  -999.0,-999.000,-999.0000,-999.000,  -999.0,  1.2761,-999.000
    49RY9511_2,   P24,    26,  1,      6,  12818,2,19951123,2222, 25.0273, 137.0275, 5038,   3810.1,   1.5298,  34.6797,2,  34.6798,2,   -999.0,9,    153.6,2,   139.57,2,    35.98,2,     0.00,2,     2.53,2, -999.000,9, -999.000,9, -999.000,9,-999.0000,9,  -999.00,9,   -999.0,9,   -999,  -999.0,-999.000,-999.0000,-999.000,  -999.0,  1.2306,-999.000
    49RY9511_2,   P24,    26,  1,      5,  12809,2,19951123,2222, 25.0273, 137.0275, 5038,   4066.9,   1.5271,  34.6835,2,  34.6825,2,   -999.0,9,    156.7,2,   139.02,2,    35.81,2,     0.00,2,     2.52,2, -999.000,9, -999.000,9, -999.000,9,-999.0000,9,  -999.00,9,   -999.0,9,   -999,  -999.0,-999.000,-999.0000,-999.000,  -999.0,  1.2001,-999.000
    49RY9511_2,   P24,    26,  1,      4,  12817,2,19951123,2222, 25.0273, 137.0275, 5038,   4322.7,   1.5469,  34.6831,2,  34.6827,2,   -999.0,9,    157.6,2,   138.71,2,    35.83,2,     0.00,2,     2.51,2, -999.000,9, -999.000,9, -999.000,9,-999.0000,9,  -999.00,9,   -999.0,9,   -999,  -999.0,-999.000,-999.0000,-999.000,  -999.0,  1.1908,-999.000
    49RY9511_2,   P24,    26,  1,      3,  12808,2,19951123,2222, 25.0273, 137.0275, 5038,   4579.9,   1.5715,  34.6826,2,  34.6833,2,   -999.0,9,    157.9,2,   138.91,2,    35.76,2,     0.00,2,     2.52,2, -999.000,9, -999.000,9, -999.000,9,-999.0000,9,  -999.00,9,   -999.0,9,   -999,  -999.0,   1.568,-999.0000,-999.000,  4580.0,  1.1850,-999.000
    49RY9511_2,   P24,    26,  1,      2,  12914,2,19951123,2222, 25.0273, 137.0275, 5038,   4831.1,   1.5983,  34.6834,2,  34.6837,2,   -999.0,9,    157.1,2,   138.67,2,    35.77,2,     0.00,2,     2.52,2, -999.000,9, -999.000,9, -999.000,9,-999.0000,9,  -999.00,9,   -999.0,9,   -999,  -999.0,-999.000,-999.0000,-999.000,  -999.0,  1.1812,-999.000
    49RY9511_2,   P24,    26,  1,      1,  12807,2,19951123,2222, 25.0273, 137.0275, 5038,   5044.5,   1.6229,  34.6844,2,  34.6843,2,   -999.0,9,    157.9,2,   138.69,2,    35.80,2,     0.00,2,     2.50,2, -999.000,9, -999.000,9, -999.000,9,-999.0000,9,  -999.00,9,   -999.0,9,   -999,  -999.0,-999.000,-999.0000,-999.000,  -999.0,  1.1791,-999.000
    49RY9511_2,   P24,    26,  2,     23,  12829,2,19951124,0414, 24.9993, 137.0538, 5082,     53.1,  27.2807,  34.7655,2,  34.7650,2,   -999.0,9,    203.1,6,     1.44,6,     0.08,6,     0.01,6,     0.03,6, -999.000,9, -999.000,9, -999.000,9,-999.0000,9,  -999.00,9,   -999.0,9,   -999,  -999.0,-999.000,-999.0000,-999.000,  -999.0, 27.2684,-999.000
    49RY9511_2,   P24,    26,  2,     22,  12828,2,19951124,0414, 24.9993, 137.0538, 5082,    103.1,  22.6337,  35.0052,2,  35.0079,2,   -999.0,9,    200.6,2,     1.62,2,     0.06,2,     0.03,2,     0.06,2, -999.000,9, -999.000,9, -999.000,9,-999.0000,9,  -999.00,9,   -999.0,9,   -999,  -999.0,-999.000,-999.0000,-999.000,  -999.0, 22.6129,-999.000
    49RY9511_2,   P24,    26,  2,     21,  12827,2,19951124,0414, 24.9993, 137.0538, 5082,    154.1,  20.3526,  34.9415,2,  34.9440,2,   -999.0,9,    205.3,2,     2.28,2,     1.24,2,     0.04,2,     0.14,2, -999.000,9, -999.000,9, -999.000,9,-999.0000,9,  -999.00,9,   -999.0,9,   -999,  -999.0,-999.000,-999.0000,-999.000,  -999.0, 20.3238,-999.000
    49RY9511_2,   P24,    26,  2,     20,  12826,2,19951124,0414, 24.9993, 137.0538, 5082,    202.1,  18.9057,  34.9241,2,  34.9218,2,   -999.0,9,    197.8,2,     3.15,2,     3.13,2,     0.01,2,     0.24,2, -999.000,9, -999.000,9, -999.000,9,-999.0000,9,  -999.00,9,   -999.0,9,   -999,  -999.0,-999.000,-999.0000,-999.000,  -999.0, 18.8698,-999.000
    49RY9511_2,   P24,    26,  2,     10,  12820,2,19951124,0414, 24.9993, 137.0538, 5082,    304.2,  16.9748,  34.8045,2,  34.8004,2,   -999.0,9,   -999.0,9,  -999.00,9,  -999.00,9,  -999.00,9,  -999.00,9, -999.000,9, -999.000,9, -999.000,9,-999.0000,9,  -999.00,9,   -999.0,9,   -999,  -999.0,-999.000,-999.0000,-999.000,  -999.0, 16.9246,-999.000
    49RY9511_2,   P24,    26,  2,     11,  12811,2,19951124,0414, 24.9993, 137.0538, 5082,    307.9,  16.9145,  34.7939,2,  34.7940,2,   -999.0,9,   -999.0,9,  -999.00,9,  -999.00,9,  -999.00,9,  -999.00,9, -999.000,9, -999.000,9, -999.000,9,-999.0000,9,  -999.00,9,   -999.0,9,   -999,  -999.0,-999.000,-999.0000,-999.000,  -999.0, 16.8638,-999.000
    49RY9511_2,   P24,    26,  2,     12,  12821,2,19951124,0414, 24.9993, 137.0538, 5082,    309.5,  16.8599,  34.7912,2,  34.7912,2,   -999.0,9,   -999.0,9,  -999.00,9,  -999.00,9,  -999.00,9,  -999.00,9, -999.000,9, -999.000,9, -999.000,9,-999.0000,9,  -999.00,9,   -999.0,9,   -999,  -999.0,-999.000,-999.0000,-999.000,  -999.0, 16.8090,-999.000
    49RY9511_2,   P24,    26,  2,     14,  12822,2,19951124,0414, 24.9993, 137.0538, 5082,    309.7,  16.8491,  34.7809,2,  34.7916,3,   -999.0,9,   -999.0,9,  -999.00,9,  -999.00,9,  -999.00,9,  -999.00,9, -999.000,9, -999.000,9, -999.000,9,-999.0000,9,  -999.00,9,   -999.0,9,   -999,  -999.0,-999.000,-999.0000,-999.000,  -999.0, 16.7982,-999.000
    49RY9511_2,   P24,    26,  2,     13,  12812,2,19951124,0414, 24.9993, 137.0538, 5082,    310.6,  16.8416,  34.8017,2,  34.7920,3,   -999.0,9,   -999.0,9,  -999.00,9,  -999.00,9,  -999.00,9,  -999.00,9, -999.000,9, -999.000,9, -999.000,9,-999.0000,9,  -999.00,9,   -999.0,9,   -999,  -999.0,-999.000,-999.0000,-999.000,   311.0, 16.7906,-999.000
    49RY9511_2,   P24,    26,  2,     15,  12813,2,19951124,0414, 24.9993, 137.0538, 5082,    310.7,  16.8127,  34.7950,2,  34.7855,3,   -999.0,9,   -999.0,9,  -999.00,9,  -999.00,9,  -999.00,9,  -999.00,9, -999.000,9, -999.000,9, -999.000,9,-999.0000,9,  -999.00,9,   -999.0,9,   -999,  -999.0,-999.000,-999.0000,-999.000,  -999.0, 16.7617,-999.000
    49RY9511_2,   P24,    26,  2,     16,  12823,2,19951124,0414, 24.9993, 137.0538, 5082,    312.4,  16.7579,  34.7792,2,  34.7812,2,   -999.0,9,   -999.0,9,  -999.00,9,  -999.00,9,  -999.00,9,  -999.00,9, -999.000,9, -999.000,9, -999.000,9,-999.0000,9,  -999.00,9,   -999.0,9,   -999,  -999.0,-999.000,-999.0000,-999.000,  -999.0, 16.7068,-999.000
    49RY9511_2,   P24,    26,  2,     17,  12814,2,19951124,0414, 24.9993, 137.0538, 5082,    312.6,  16.7513,  34.7793,2,  34.7806,2,   -999.0,9,   -999.0,9,  -999.00,9,  -999.00,9,  -999.00,9,  -999.00,9, -999.000,9, -999.000,9, -999.000,9,-999.0000,9,  -999.00,9,   -999.0,9,   -999,  -999.0,-999.000,-999.0000,-999.000,  -999.0, 16.7001,-999.000
    49RY9511_2,   P24,    26,  2,     18,  12824,2,19951124,0414, 24.9993, 137.0538, 5082,    312.8,  16.7566,  34.7812,2,  34.7808,2,   -999.0,9,   -999.0,9,  -999.00,9,  -999.00,9,  -999.00,9,  -999.00,9, -999.000,9, -999.000,9, -999.000,9,-999.0000,9,  -999.00,9,   -999.0,9,   -999,  -999.0,-999.000,-999.0000,-999.000,  -999.0, 16.7055,-999.000
    49RY9511_2,   P24,    26,  2,     19,  12825,2,19951124,0414, 24.9993, 137.0538, 5082,    313.0,  16.7574,  34.7818,2,  34.7810,2,   -999.0,9,    204.6,6,     5.36,6,     5.86,6,     0.01,6,     0.39,6, -999.000,9, -999.000,9, -999.000,9,-999.0000,9,  -999.00,9,   -999.0,9,   -999,  -999.0,-999.000,-999.0000,-999.000,  -999.0, 16.7062,-999.000
    49RY9511_2,   P24,    26,  2,      9,  12810,2,19951124,0414, 24.9993, 137.0538, 5082,    406.7,  14.5216,  34.5711,2,  34.5667,2,   -999.0,9,    187.1,2,    11.14,2,    10.89,2,     0.00,2,     0.75,2, -999.000,9, -999.000,9, -999.000,9,-999.0000,9,  -999.00,9,   -999.0,9,   -999,  -999.0,-999.000,-999.0000,-999.000,   406.0, 14.4611,-999.000
    49RY9511_2,   P24,    26,  2,      8,  12819,2,19951124,0414, 24.9993, 137.0538, 5082,    505.5,  11.2269,  34.3294,2,  34.3310,2,   -999.0,9,    176.5,2,    23.64,2,    17.38,2,     0.00,2,     1.22,2, -999.000,9, -999.000,9, -999.000,9,-999.0000,9,  -999.00,9,   -999.0,9,   -999,  -999.0,-999.000,-999.0000,-999.000,  -999.0, 11.1633,-999.000
    49RY9511_2,   P24,    26,  2,      7,  12815,2,19951124,0414, 24.9993, 137.0538, 5082,    603.3,   8.6718,  34.1862,2,  34.1878,2,   -999.0,9,    155.0,2,    40.62,2,    23.99,2,     0.00,2,     1.72,2, -999.000,9, -999.000,9, -999.000,9,-999.0000,9,  -999.00,9,   -999.0,9,   -999,  -999.0,-999.000,-999.0000,-999.000,  -999.0,  8.6069,-999.000
    49RY9511_2,   P24,    26,  2,      6,  12818,2,19951124,0414, 24.9993, 137.0538, 5082,    707.2,   6.4114,  34.1225,2,  34.1206,2,   -999.0,9,    119.9,2,    63.96,2,    31.01,2,     0.00,2,     2.25,2, -999.000,9, -999.000,9, -999.000,9,-999.0000,9,  -999.00,9,   -999.0,9,   -999,  -999.0,-999.000,-999.0000,-999.000,  -999.0,  6.3468,-999.000
    49RY9511_2,   P24,    26,  2,      5,  12809,2,19951124,0414, 24.9993, 137.0538, 5082,    806.1,   5.2831,  34.1588,2,  34.1581,2,   -999.0,9,     89.2,6,    82.20,2,    35.42,2,     0.00,2,     2.57,2, -999.000,9, -999.000,9, -999.000,9,-999.0000,9,  -999.00,9,   -999.0,9,   -999,  -999.0,-999.000,-999.0000,-999.000,  -999.0,  5.2158,-999.000
    49RY9511_2,   P24,    26,  2,      4,  12817,2,19951124,0414, 24.9993, 137.0538, 5082,    909.6,   4.5002,  34.2468,2,  34.2459,2,   -999.0,9,     66.7,2,    99.37,2,    38.55,2,     0.00,2,     2.80,2, -999.000,9, -999.000,9, -999.000,9,-999.0000,9,  -999.00,9,   -999.0,9,   -999,  -999.0,-999.000,-999.0000,-999.000,  -999.0,  4.4288,-999.000
    49RY9511_2,   P24,    26,  2,      3,  12808,2,19951124,0414, 24.9993, 137.0538, 5082,   1008.0,   3.8434,  34.3280,2,  34.3259,2,   -999.0,9,     55.6,6,   114.47,6,    40.35,6,     0.00,6,     2.93,6, -999.000,9, -999.000,9, -999.000,9,-999.0000,9,  -999.00,9,   -999.0,9,   -999,  -999.0,   3.842,-999.0000,-999.000,  1001.0,  3.7686,-999.000
    49RY9511_2,   P24,    26,  2,      2,  12914,2,19951124,0414, 24.9993, 137.0538, 5082,   1262.1,   3.1825,  34.4563,2,  34.4532,3,   -999.0,9,     61.5,2,   128.52,2,    40.72,2,     0.00,2,     2.95,2, -999.000,9, -999.000,9, -999.000,9,-999.0000,9,  -999.00,9,   -999.0,9,   -999,  -999.0,-999.000,-999.0000,-999.000,  -999.0,  3.0925,-999.000
    49RY9511_2,   P24,    26,  2,      1,  12807,2,19951124,0414, 24.9993, 137.0538, 5082,   1517.5,   2.4970,  34.5336,2,  34.5297,3,   -999.0,9,     76.1,2,   140.92,2,    40.35,2,     0.00,2,     2.91,2, -999.000,9, -999.000,9, -999.000,9,-999.0000,9,  -999.00,9,   -999.0,9,   -999,  -999.0,-999.000,-999.0000,-999.000,  -999.0,  2.3937,-999.000