BOTTLE,20030404WHPSIOdm
EXPOCODE,SECT_ID,STNNBR,CASTNO,SAMPNO,BTLNBR,BTLNBR_FLAG_W,DATE,TIME,LATITUDE,LONGITUDE,DEPTH,CTDPRS,CTDTMP,CTDSAL,CTDSAL_FLAG_W,SALNTY,SALNTY_FLAG_W,CTDOXY,CTDOXY_FLAG_W,OXYGEN,OXYGEN_FLAG_W,SILCAT,SILCAT_FLAG_W,NITRAT,NITRAT_FLAG_W,NITRIT,NITRIT_FLAG_W,PHSPHT,PHSPHT_FLAG_W,CFC-11,CFC-11_FLAG_W,CFC-12,CFC-12_FLAG_W,TRITUM,TRITUM_FLAG_W,HELIUM,HELIUM_FLAG_W,DELHE3,DELHE3_FLAG_W,DELC14,DELC14_FLAG_W,CTDRAW,C14ERR,REVTMP,HELIER,DELHER,REVPRS,THETA,TRITER
,,,,,,,,,,,,DBAR,ITS-90,PSS-78,,PSS-78,,UMOL/KG,,UMOL/KG,,UMOL/KG,,UMOL/KG,,UMOL/KG,,UMOL/KG,,PMOL/KG,,PMOL/KG,,TU,,NMOL/KG,,PERCNT,,/MILLE,,,/MILLE,ITS-90,NMOL/KG,PERCNT,DBAR,DEG C,TU
    49RY9511_2,   P24,    24,  1,     19,  12825,2,19951123,0522, 24.2550, 136.1910, 4336,    808.0,   5.1088,  34.1751,2,  34.1784,2,   -999.0,9,     83.4,2,    86.43,2,    36.08,2,     0.00,2,     2.64,2, -999.000,9, -999.000,9, -999.000,9,-999.0000,9,  -999.00,9,   -999.0,9,   -999,  -999.0,-999.000,-999.0000,-999.000,  -999.0,  5.0423,-999.000
    49RY9511_2,   P24,    24,  1,     18,  12824,2,19951123,0522, 24.2550, 136.1910, 4336,    909.4,   4.3856,  34.2571,2,  34.2569,2,   -999.0,9,     63.0,2,   101.89,2,    38.95,2,     0.00,2,     2.84,2, -999.000,9, -999.000,9, -999.000,9,-999.0000,9,  -999.00,9,   -999.0,9,   -999,  -999.0,-999.000,-999.0000,-999.000,  -999.0,  4.3151,-999.000
    49RY9511_2,   P24,    24,  1,     17,  12814,2,19951123,0522, 24.2550, 136.1910, 4336,   1011.2,   3.9532,  34.3254,2,  34.3253,2,   -999.0,9,     55.2,2,   112.01,2,    40.12,2,     0.00,2,     2.93,2, -999.000,9, -999.000,9, -999.000,9,-999.0000,9,  -999.00,9,   -999.0,9,   -999,  -999.0,-999.000,-999.0000,-999.000,  -999.0,  3.8773,-999.000
    49RY9511_2,   P24,    24,  1,     16,  12823,2,19951123,0522, 24.2550, 136.1910, 4336,   1262.8,   3.0126,  34.4552,2,  34.4546,2,   -999.0,9,     57.4,6,   133.34,6,    40.90,6,     0.00,6,     2.98,6, -999.000,9, -999.000,9, -999.000,9,-999.0000,9,  -999.00,9,   -999.0,9,   -999,  -999.0,-999.000,-999.0000,-999.000,  -999.0,  2.9242,-999.000
    49RY9511_2,   P24,    24,  1,     15,  12813,2,19951123,0522, 24.2550, 136.1910, 4336,   1516.1,   2.4561,  34.5374,2,  34.5372,2,   -999.0,9,     79.2,2,   136.84,2,    40.05,2,     0.00,2,     2.90,2, -999.000,9, -999.000,9, -999.000,9,-999.0000,9,  -999.00,9,   -999.0,9,   -999,  -999.0,-999.000,-999.0000,-999.000,  -999.0,  2.3534,-999.000
    49RY9511_2,   P24,    24,  1,     14,  12822,2,19951123,0522, 24.2550, 136.1910, 4336,   1769.8,   2.1591,  34.5886,2,  34.5897,2,   -999.0,9,    105.3,2,   140.65,2,    38.68,2,     0.00,2,     2.78,2, -999.000,9, -999.000,9, -999.000,9,-999.0000,9,  -999.00,9,   -999.0,9,   -999,  -999.0,-999.000,-999.0000,-999.000,  -999.0,  2.0396,-999.000
    49RY9511_2,   P24,    24,  1,     13,  12812,2,19951123,0522, 24.2550, 136.1910, 4336,   2021.0,   2.0016,  34.6147,2,  34.6150,2,   -999.0,9,    114.5,2,   140.92,2,    37.98,2,     0.00,2,     2.73,2, -999.000,9, -999.000,9, -999.000,9,-999.0000,9,  -999.00,9,   -999.0,9,   -999,  -999.0,-999.000,-999.0000,-999.000,  2016.0,  1.8634,-999.000
    49RY9511_2,   P24,    24,  1,     12,  12821,2,19951123,0522, 24.2550, 136.1910, 4336,   2276.6,   1.8341,  34.6348,2,  34.6343,2,   -999.0,9,    124.2,2,   141.24,2,    37.56,2,     0.00,2,     2.68,2, -999.000,9, -999.000,9, -999.000,9,-999.0000,9,  -999.00,9,   -999.0,9,   -999,  -999.0,-999.000,-999.0000,-999.000,  -999.0,  1.6767,-999.000
    49RY9511_2,   P24,    24,  1,     11,  12811,2,19951123,0522, 24.2550, 136.1910, 4336,   2530.7,   1.7323,  34.6467,2,  34.6473,2,   -999.0,9,    132.5,2,   141.44,2,    37.16,2,     0.00,2,     2.64,2, -999.000,9, -999.000,9, -999.000,9,-999.0000,9,  -999.00,9,   -999.0,9,   -999,  -999.0,-999.000,-999.0000,-999.000,  -999.0,  1.5543,-999.000
    49RY9511_2,   P24,    24,  1,     10,  12820,2,19951123,0522, 24.2550, 136.1910, 4336,   2786.7,   1.6567,  34.6573,2,  34.6572,2,   -999.0,9,    138.2,2,   141.05,2,    36.81,2,     0.00,2,     2.62,2, -999.000,9, -999.000,9, -999.000,9,-999.0000,9,  -999.00,9,   -999.0,9,   -999,  -999.0,-999.000,-999.0000,-999.000,  -999.0,  1.4567,-999.000
    49RY9511_2,   P24,    24,  1,      9,  12810,2,19951123,0522, 24.2550, 136.1910, 4336,   3041.6,   1.6016,  34.6651,2,  34.6647,6,   -999.0,9,    143.0,2,   140.99,2,    36.59,2,     0.00,2,     2.59,2, -999.000,9, -999.000,9, -999.000,9,-999.0000,9,  -999.00,9,   -999.0,9,   -999,  -999.0,-999.000,-999.0000,-999.000,  3039.0,  1.3787,-999.000
    49RY9511_2,   P24,    24,  1,      8,  12819,2,19951123,0522, 24.2550, 136.1910, 4336,   3296.0,   1.5584,  34.6721,2,  34.6717,2,   -999.0,9,    150.8,3,   140.46,2,    36.46,2,     0.00,2,     2.59,2, -999.000,9, -999.000,9, -999.000,9,-999.0000,9,  -999.00,9,   -999.0,9,   -999,  -999.0,-999.000,-999.0000,-999.000,  -999.0,  1.3114,-999.000
    49RY9511_2,   P24,    24,  1,      7,  12815,2,19951123,0522, 24.2550, 136.1910, 4336,   3553.2,   1.5417,  34.6763,2,  34.6758,6,   -999.0,9,    151.5,2,   140.13,2,    36.07,2,     0.00,2,     2.56,2, -999.000,9, -999.000,9, -999.000,9,-999.0000,9,  -999.00,9,   -999.0,9,   -999,  -999.0,-999.000,-999.0000,-999.000,  -999.0,  1.2691,-999.000
    49RY9511_2,   P24,    24,  1,      6,  12818,2,19951123,0522, 24.2550, 136.1910, 4336,   3808.2,   1.5374,  34.6781,2,  34.6792,2,   -999.0,9,    153.2,2,   139.96,2,    35.95,2,     0.00,2,     2.55,2, -999.000,9, -999.000,9, -999.000,9,-999.0000,9,  -999.00,9,   -999.0,9,   -999,  -999.0,-999.000,-999.0000,-999.000,  -999.0,  1.2382,-999.000
    49RY9511_2,   P24,    24,  1,      5,  12809,2,19951123,0522, 24.2550, 136.1910, 4336,   4064.7,   1.5440,  34.6820,2,  34.6810,6,   -999.0,9,    155.3,2,   139.40,2,    35.85,2,     0.00,2,     2.55,2, -999.000,9, -999.000,9, -999.000,9,-999.0000,9,  -999.00,9,   -999.0,9,   -999,  -999.0,-999.000,-999.0000,-999.000,  -999.0,  1.2168,-999.000
    49RY9511_2,   P24,    24,  1,      4,  12817,2,19951123,0522, 24.2550, 136.1910, 4336,   4253.3,   1.5527,  34.6832,2,  34.6816,2,   -999.0,9,    157.4,6,   139.27,6,    35.79,6,     0.00,6,     2.54,6, -999.000,9, -999.000,9, -999.000,9,-999.0000,9,  -999.00,9,   -999.0,9,   -999,  -999.0,-999.000,-999.0000,-999.000,  -999.0,  1.2042,-999.000
    49RY9511_2,   P24,    24,  1,      3,  12808,2,19951123,0522, 24.2550, 136.1910, 4336,   4255.6,   1.5547,  34.6822,2,  34.6819,2,   -999.0,9,   -999.0,9,  -999.00,9,  -999.00,9,  -999.00,9,  -999.00,9, -999.000,9, -999.000,9, -999.000,9,-999.0000,9,  -999.00,9,   -999.0,9,   -999,  -999.0,   1.549,-999.0000,-999.000,  4249.0,  1.2059,-999.000
    49RY9511_2,   P24,    24,  1,      2,  12914,2,19951123,0522, 24.2550, 136.1910, 4336,   4257.9,   1.5549,  34.6813,2,  34.6819,2,   -999.0,9,   -999.0,9,  -999.00,9,  -999.00,9,  -999.00,9,  -999.00,9, -999.000,9, -999.000,9, -999.000,9,-999.0000,9,  -999.00,9,   -999.0,9,   -999,  -999.0,-999.000,-999.0000,-999.000,  -999.0,  1.2058,-999.000
    49RY9511_2,   P24,    24,  1,      1,  12807,2,19951123,0522, 24.2550, 136.1910, 4336,   4259.6,   1.5543,  34.6808,2,  34.6817,6,   -999.0,9,    154.9,2,   139.26,2,    35.75,2,     0.00,2,     2.52,2, -999.000,9, -999.000,9, -999.000,9,-999.0000,9,  -999.00,9,   -999.0,9,   -999,  -999.0,-999.000,-999.0000,-999.000,  -999.0,  1.2051,-999.000
    49RY9511_2,   P24,    24,  2,     12,  12821,2,19951123,0825, 24.2432, 136.1873, 4322,      5.8,  26.3850,  34.7610,2,  34.7640,2,   -999.0,9,    204.3,6,     1.37,6,     0.04,6,     0.00,6,     0.02,6, -999.000,9, -999.000,9, -999.000,9,-999.0000,9,  -999.00,9,   -999.0,9,   -999,  -999.0,-999.000,-999.0000,-999.000,  -999.0, 26.3837,-999.000
    49RY9511_2,   P24,    24,  2,     11,  12811,2,19951123,0825, 24.2432, 136.1873, 4322,     25.2,  26.2334,  34.7611,2,  34.7577,2,   -999.0,9,    204.6,2,     1.33,2,     0.01,2,     0.00,2,     0.02,2, -999.000,9, -999.000,9, -999.000,9,-999.0000,9,  -999.00,9,   -999.0,9,   -999,  -999.0,-999.000,-999.0000,-999.000,  -999.0, 26.2277,-999.000
    49RY9511_2,   P24,    24,  2,     10,  12820,2,19951123,0825, 24.2432, 136.1873, 4322,     50.5,  25.8395,  34.8154,2,  34.8125,2,   -999.0,9,    205.8,2,     1.40,2,     0.00,2,     0.00,2,     0.02,2, -999.000,9, -999.000,9, -999.000,9,-999.0000,9,  -999.00,9,   -999.0,9,   -999,  -999.0,-999.000,-999.0000,-999.000,  -999.0, 25.8283,-999.000
    49RY9511_2,   P24,    24,  2,      9,  12810,2,19951123,0825, 24.2432, 136.1873, 4322,     76.4,  23.5059,  34.8761,2,  34.8715,2,   -999.0,9,    220.4,2,     1.59,2,     0.00,2,     0.00,2,     0.04,2, -999.000,9, -999.000,9, -999.000,9,-999.0000,9,  -999.00,9,   -999.0,9,   -999,  -999.0,-999.000,-999.0000,-999.000,    70.0, 23.4900,-999.000
    49RY9511_2,   P24,    24,  2,      8,  12819,2,19951123,0825, 24.2432, 136.1873, 4322,    100.6,  20.9164,  34.9240,2,  34.9261,2,   -999.0,9,    215.0,2,     1.83,2,     0.03,2,     0.03,2,     0.07,2, -999.000,9, -999.000,9, -999.000,9,-999.0000,9,  -999.00,9,   -999.0,9,   -999,  -999.0,-999.000,-999.0000,-999.000,  -999.0, 20.8973,-999.000
    49RY9511_2,   P24,    24,  2,      7,  12815,2,19951123,0825, 24.2432, 136.1873, 4322,    151.4,  18.6638,  34.9013,2,  34.8999,2,   -999.0,9,    203.5,2,     2.94,2,     2.96,2,     0.02,2,     0.24,2, -999.000,9, -999.000,9, -999.000,9,-999.0000,9,  -999.00,9,   -999.0,9,   -999,  -999.0,-999.000,-999.0000,-999.000,  -999.0, 18.6372,-999.000
    49RY9511_2,   P24,    24,  2,      6,  12818,2,19951123,0825, 24.2432, 136.1873, 4322,    204.1,  17.7739,  34.8544,2,  34.8548,2,   -999.0,9,    205.6,2,     3.65,2,     4.02,2,     0.01,2,     0.31,2, -999.000,9, -999.000,9, -999.000,9,-999.0000,9,  -999.00,9,   -999.0,9,   -999,  -999.0,-999.000,-999.0000,-999.000,  -999.0, 17.7392,-999.000
    49RY9511_2,   P24,    24,  2,      5,  12809,2,19951123,0825, 24.2432, 136.1873, 4322,    304.3,  16.1127,  34.7151,2,  34.7142,2,   -999.0,9,    194.6,2,     7.10,2,     7.50,2,     0.00,2,     0.54,2, -999.000,9, -999.000,9, -999.000,9,-999.0000,9,  -999.00,9,   -999.0,9,   -999,  -999.0,-999.000,-999.0000,-999.000,  -999.0, 16.0643,-999.000
    49RY9511_2,   P24,    24,  2,      4,  12817,2,19951123,0825, 24.2432, 136.1873, 4322,    404.8,  13.4791,  34.4969,2,  34.4959,2,   -999.0,9,    184.1,2,    14.67,2,    12.74,2,     0.00,2,     0.90,2, -999.000,9, -999.000,9, -999.000,9,-999.0000,9,  -999.00,9,   -999.0,9,   -999,  -999.0,-999.000,-999.0000,-999.000,  -999.0, 13.4219,-999.000
    49RY9511_2,   P24,    24,  2,      3,  12808,2,19951123,0825, 24.2432, 136.1873, 4322,    504.9,  10.5263,  34.2986,2,  34.2887,3,   -999.0,9,    170.4,2,    27.73,2,    19.14,2,     0.00,2,     1.37,2, -999.000,9, -999.000,9, -999.000,9,-999.0000,9,  -999.00,9,   -999.0,9,   -999,  -999.0,  10.533,-999.0000,-999.000,   505.0, 10.4654,-999.000
    49RY9511_2,   P24,    24,  2,      2,  12914,2,19951123,0825, 24.2432, 136.1873, 4322,    605.1,   8.1253,  34.1671,2,  34.1619,2,   -999.0,9,    149.6,6,    45.31,6,    25.28,6,     0.00,6,     1.83,6, -999.000,9, -999.000,9, -999.000,9,-999.0000,9,  -999.00,9,   -999.0,9,   -999,  -999.0,-999.000,-999.0000,-999.000,  -999.0,  8.0626,-999.000
    49RY9511_2,   P24,    24,  2,      1,  12807,2,19951123,0825, 24.2432, 136.1873, 4322,    705.8,   6.2334,  34.1382,2,  34.1252,3,   -999.0,9,    115.5,2,    66.80,2,    31.48,2,     0.00,2,     2.30,2, -999.000,9, -999.000,9, -999.000,9,-999.0000,9,  -999.00,9,   -999.0,9,   -999,  -999.0,-999.000,-999.0000,-999.000,  -999.0,  6.1699,-999.000
    49RY9511_2,   P24,    25,  1,     24,  12830,2,19951123,1402, 23.9677, 137.0093, 4008,      0.0,  27.5297,  34.9341,2,  34.9346,2,   -999.0,9,    200.5,2,     1.35,2,     0.05,2,     0.00,2,     0.03,2,    1.503,3,    0.996,2, -999.000,9,-999.0000,9,  -999.00,9,   -999.0,9,   -999,  -999.0,-999.000,-999.0000,-999.000,  -999.0, 27.5297,-999.000
    49RY9511_2,   P24,    25,  1,     23,  12829,2,19951123,1402, 23.9677, 137.0093, 4008,     50.7,  27.5478,  34.9264,2,  34.9348,3,   -999.0,9,    201.1,6,     1.29,6,     0.07,6,     0.00,6,     0.02,6,    1.497,3,    1.000,2, -999.000,9,-999.0000,9,  -999.00,9,   -999.0,9,   -999,  -999.0,-999.000,-999.0000,-999.000,  -999.0, 27.5360,-999.000
    49RY9511_2,   P24,    25,  1,     22,  12828,2,19951123,1402, 23.9677, 137.0093, 4008,    101.2,  23.2534,  35.0718,2,  35.0761,2,   -999.0,9,    203.2,2,     1.54,2,     0.09,2,     0.02,2,     0.07,2,    1.816,3,    1.174,2, -999.000,9,-999.0000,9,  -999.00,9,   -999.0,9,   -999,  -999.0,-999.000,-999.0000,-999.000,  -999.0, 23.2326,-999.000
    49RY9511_2,   P24,    25,  1,     21,  12827,2,19951123,1402, 23.9677, 137.0093, 4008,    201.1,  18.8678,  34.9247,2,  34.9261,2,   -999.0,9,    202.3,2,     3.07,2,     2.54,2,     0.01,2,     0.22,2,    2.144,6,    1.324,6, -999.000,9,-999.0000,9,  -999.00,9,   -999.0,9,   -999,  -999.0,-999.000,-999.0000,-999.000,  -999.0, 18.8321,-999.000
    49RY9511_2,   P24,    25,  1,     20,  12826,2,19951123,1402, 23.9677, 137.0093, 4008,    303.1,  17.2874,  34.8264,2,  34.8260,2,   -999.0,9,    207.8,2,     4.29,2,     4.51,2,     0.01,2,     0.34,2,    2.495,2,    1.411,2, -999.000,9,-999.0000,9,  -999.00,9,   -999.0,9,   -999,  -999.0,-999.000,-999.0000,-999.000,  -999.0, 17.2367,-999.000
    49RY9511_2,   P24,    25,  1,     19,  12825,2,19951123,1402, 23.9677, 137.0093, 4008,    504.0,  11.8903,  34.3651,2,  34.3673,2,   -999.0,9,    174.6,2,    19.70,2,    16.23,2,     0.00,2,     1.15,2,    2.031,6,    1.088,6, -999.000,9,-999.0000,9,  -999.00,9,   -999.0,9,   -999,  -999.0,-999.000,-999.0000,-999.000,  -999.0, 11.8246,-999.000
    49RY9511_2,   P24,    25,  1,     18,  12824,2,19951123,1402, 23.9677, 137.0093, 4008,    604.5,   9.2139,  34.2117,2,  34.2104,2,   -999.0,9,    142.8,2,    34.24,2,    23.84,2,     0.00,2,     1.73,2,    1.377,2,    0.722,2, -999.000,9,-999.0000,9,  -999.00,9,   -999.0,9,   -999,  -999.0,-999.000,-999.0000,-999.000,  -999.0,  9.1464,-999.000
    49RY9511_2,   P24,    25,  1,     17,  12814,2,19951123,1402, 23.9677, 137.0093, 4008,    705.5,   7.0842,  34.1421,2,  34.1452,2,   -999.0,9,    122.4,6,    56.21,6,    29.59,6,     0.00,6,     2.14,6,    1.100,2,    0.566,2, -999.000,9,-999.0000,9,  -999.00,9,   -999.0,9,   -999,  -999.0,-999.000,-999.0000,-999.000,  -999.0,  7.0162,-999.000
    49RY9511_2,   P24,    25,  1,     16,  12823,2,19951123,1402, 23.9677, 137.0093, 4008,    806.1,   5.6122,  34.1485,2,  34.1515,2,   -999.0,9,     96.7,6,    77.31,6,    34.42,6,     0.00,6,     2.51,6,    0.766,2,    0.387,2, -999.000,9,-999.0000,9,  -999.00,9,   -999.0,9,   -999,  -999.0,-999.000,-999.0000,-999.000,  -999.0,  5.5429,-999.000
    49RY9511_2,   P24,    25,  1,     15,  12813,2,19951123,1402, 23.9677, 137.0093, 4008,    908.0,   4.4923,  34.2348,2,  34.2408,2,   -999.0,9,     67.0,2,   100.28,2,    38.50,2,     0.00,2,     2.81,2,    0.360,2,    0.180,2, -999.000,9,-999.0000,9,  -999.00,9,   -999.0,9,   -999,  -999.0,-999.000,-999.0000,-999.000,  -999.0,  4.4212,-999.000
    49RY9511_2,   P24,    25,  1,     14,  12822,2,19951123,1402, 23.9677, 137.0093, 4008,   1009.2,   3.9711,  34.3185,2,  34.3198,2,   -999.0,9,   -999.0,5,   111.95,2,    40.03,2,     0.00,2,     2.93,2,    0.165,2,    0.078,2, -999.000,9,-999.0000,9,  -999.00,9,   -999.0,9,   -999,  -999.0,-999.000,-999.0000,-999.000,  -999.0,  3.8952,-999.000
    49RY9511_2,   P24,    25,  1,     13,  12812,2,19951123,1402, 23.9677, 137.0093, 4008,   1261.6,   3.0960,  34.4546,2,  34.4561,2,   -999.0,9,     60.8,2,   130.89,2,    40.89,2,     0.00,2,     2.95,2,    0.025,2,    0.012,2, -999.000,9,-999.0000,9,  -999.00,9,   -999.0,9,   -999,  -999.0,-999.000,-999.0000,-999.000,  1259.0,  3.0069,-999.000
    49RY9511_2,   P24,    25,  1,     12,  12821,2,19951123,1402, 23.9677, 137.0093, 4008,   1514.5,   2.5745,  34.5340,2,  34.5348,2,   -999.0,9,     82.6,2,   137.68,2,    39.83,2,     0.00,2,     2.88,2,    0.017,2,    0.016,2, -999.000,9,-999.0000,9,  -999.00,9,   -999.0,9,   -999,  -999.0,-999.000,-999.0000,-999.000,  -999.0,  2.4706,-999.000
    49RY9511_2,   P24,    25,  1,     11,  12811,2,19951123,1402, 23.9677, 137.0093, 4008,   1767.6,   2.2647,  34.5734,2,  34.5739,2,   -999.0,9,     97.1,2,   140.84,2,    39.13,2,     0.00,2,     2.82,2,    0.001,2,    0.001,2, -999.000,9,-999.0000,9,  -999.00,9,   -999.0,9,   -999,  -999.0,-999.000,-999.0000,-999.000,  -999.0,  2.1439,-999.000
    49RY9511_2,   P24,    25,  1,     10,  12820,2,19951123,1402, 23.9677, 137.0093, 4008,   2022.5,   2.0229,  34.6106,2,  34.6109,2,   -999.0,9,    113.8,2,   140.93,2,    38.20,2,     0.00,2,     2.74,2,    0.000,2,    0.000,2, -999.000,9,-999.0000,9,  -999.00,9,   -999.0,9,   -999,  -999.0,-999.000,-999.0000,-999.000,  -999.0,  1.8843,-999.000
    49RY9511_2,   P24,    25,  1,      9,  12810,2,19951123,1402, 23.9677, 137.0093, 4008,   2276.3,   1.8586,  34.6319,2,  34.6341,2,   -999.0,9,    126.4,6,   141.14,6,    37.62,6,     0.00,6,     2.67,6, -999.000,9, -999.000,9, -999.000,9,-999.0000,9,  -999.00,9,   -999.0,9,   -999,  -999.0,-999.000,-999.0000,-999.000,  2273.0,  1.7009,-999.000
    49RY9511_2,   P24,    25,  1,      8,  12819,2,19951123,1402, 23.9677, 137.0093, 4008,   2531.5,   1.7412,  34.6470,2,  34.6473,2,   -999.0,9,    137.3,3,   141.03,6,    37.15,6,     0.00,6,     2.65,6, -999.000,9, -999.000,9, -999.000,9,-999.0000,9,  -999.00,9,   -999.0,9,   -999,  -999.0,-999.000,-999.0000,-999.000,  -999.0,  1.5629,-999.000
    49RY9511_2,   P24,    25,  1,      7,  12815,2,19951123,1402, 23.9677, 137.0093, 4008,   2785.4,   1.6951,  34.6548,2,  34.6552,2,   -999.0,9,    135.1,2,   141.43,2,    37.05,2,     0.00,2,     2.62,2, -999.000,9, -999.000,9, -999.000,9,-999.0000,9,  -999.00,9,   -999.0,9,   -999,  -999.0,-999.000,-999.0000,-999.000,  -999.0,  1.4944,-999.000
    49RY9511_2,   P24,    25,  1,      6,  12818,2,19951123,1402, 23.9677, 137.0093, 4008,   3041.3,   1.6459,  34.6628,2,  34.6625,2,   -999.0,9,    139.6,2,   141.27,2,    36.81,2,     0.00,2,     2.60,2, -999.000,9, -999.000,9, -999.000,9,-999.0000,9,  -999.00,9,   -999.0,9,   -999,  -999.0,-999.000,-999.0000,-999.000,  -999.0,  1.4219,-999.000
    49RY9511_2,   P24,    25,  1,      5,  12809,2,19951123,1402, 23.9677, 137.0093, 4008,   3296.1,   1.5931,  34.6685,2,  34.6684,2,   -999.0,9,    144.2,2,   140.87,2,    36.41,2,     0.00,2,     2.58,2, -999.000,9, -999.000,9, -999.000,9,-999.0000,9,  -999.00,9,   -999.0,9,   -999,  -999.0,-999.000,-999.0000,-999.000,  -999.0,  1.3453,-999.000
    49RY9511_2,   P24,    25,  1,      4,  12817,2,19951123,1402, 23.9677, 137.0093, 4008,   3552.1,   1.5366,  34.6768,2,  34.6772,2,   -999.0,9,    152.7,2,   139.98,2,    36.04,2,     0.00,2,     2.54,2, -999.000,9, -999.000,9, -999.000,9,-999.0000,9,  -999.00,9,   -999.0,9,   -999,  -999.0,-999.000,-999.0000,-999.000,  -999.0,  1.2642,-999.000
    49RY9511_2,   P24,    25,  1,      3,  12808,2,19951123,1402, 23.9677, 137.0093, 4008,   3808.8,   1.5191,  34.6800,2,  34.6816,2,   -999.0,9,    155.3,2,   139.28,2,    35.94,2,     0.00,2,     2.52,2, -999.000,9, -999.000,9, -999.000,9,-999.0000,9,  -999.00,9,   -999.0,9,   -999,  -999.0,   1.515,-999.0000,-999.000,  3800.0,  1.2203,-999.000
    49RY9511_2,   P24,    25,  1,      2,  12914,2,19951123,1402, 23.9677, 137.0093, 4008,   4066.5,   1.5406,  34.6812,2,  34.6818,2,   -999.0,9,    155.0,2,   139.11,2,    35.82,2,     0.00,2,     2.53,2, -999.000,9, -999.000,9, -999.000,9,-999.0000,9,  -999.00,9,   -999.0,9,   -999,  -999.0,-999.000,-999.0000,-999.000,  -999.0,  1.2133,-999.000
    49RY9511_2,   P24,    25,  1,      1,  12807,2,19951123,1402, 23.9677, 137.0093, 4008,   4170.1,   1.5413,  34.6829,2,  34.6824,6,   -999.0,9,    156.7,2,   139.07,2,    35.72,2,     0.00,2,     2.52,2, -999.000,9, -999.000,9, -999.000,9,-999.0000,9,  -999.00,9,   -999.0,9,   -999,  -999.0,-999.000,-999.0000,-999.000,  -999.0,  1.2025,-999.000