BOTTLE,20030404WHPSIOdm
EXPOCODE,SECT_ID,STNNBR,CASTNO,SAMPNO,BTLNBR,BTLNBR_FLAG_W,DATE,TIME,LATITUDE,LONGITUDE,DEPTH,CTDPRS,CTDTMP,CTDSAL,CTDSAL_FLAG_W,SALNTY,SALNTY_FLAG_W,CTDOXY,CTDOXY_FLAG_W,OXYGEN,OXYGEN_FLAG_W,SILCAT,SILCAT_FLAG_W,NITRAT,NITRAT_FLAG_W,NITRIT,NITRIT_FLAG_W,PHSPHT,PHSPHT_FLAG_W,CFC-11,CFC-11_FLAG_W,CFC-12,CFC-12_FLAG_W,TRITUM,TRITUM_FLAG_W,HELIUM,HELIUM_FLAG_W,DELHE3,DELHE3_FLAG_W,DELC14,DELC14_FLAG_W,CTDRAW,C14ERR,REVTMP,HELIER,DELHER,REVPRS,THETA,TRITER
,,,,,,,,,,,,DBAR,ITS-90,PSS-78,,PSS-78,,UMOL/KG,,UMOL/KG,,UMOL/KG,,UMOL/KG,,UMOL/KG,,UMOL/KG,,PMOL/KG,,PMOL/KG,,TU,,NMOL/KG,,PERCNT,,/MILLE,,,/MILLE,ITS-90,NMOL/KG,PERCNT,DBAR,DEG C,TU
    49RY9511_2,   P24,    12,  1,     17,  12814,2,19951119,0945, 28.5480, 133.0225, 4356,    806.3,   5.9973,  34.2136,2,  34.2153,2,   -999.0,9,     96.3,2,    75.91,6,    33.69,6,     0.00,6,     2.45,2, -999.000,9, -999.000,9, -999.000,9,-999.0000,9,  -999.00,9,   -999.0,9,   -999,  -999.0,-999.000,-999.0000,-999.000,  -999.0,  5.9255,-999.000
    49RY9511_2,   P24,    12,  1,     16,  12823,2,19951119,0945, 28.5480, 133.0225, 4356,    907.2,   4.8022,  34.2796,2,  34.2805,2,   -999.0,9,     74.7,6,    97.21,6,    37.41,6,     0.00,6,     2.72,6, -999.000,9, -999.000,9, -999.000,9,-999.0000,9,  -999.00,9,   -999.0,9,   -999,  -999.0,-999.000,-999.0000,-999.000,  -999.0,  4.7290,-999.000
    49RY9511_2,   P24,    12,  1,     15,  12813,2,19951119,0945, 28.5480, 133.0225, 4356,   1009.3,   4.0944,  34.3295,2,  34.3298,2,   -999.0,9,     63.7,2,   110.76,6,    39.24,6,     0.00,6,     2.86,2, -999.000,9, -999.000,9, -999.000,9,-999.0000,9,  -999.00,9,   -999.0,9,   -999,  -999.0,-999.000,-999.0000,-999.000,  -999.0,  4.0175,-999.000
    49RY9511_2,   P24,    12,  1,     14,  12822,2,19951119,0945, 28.5480, 133.0225, 4356,   1259.3,   3.0744,  34.4571,2,  34.4571,2,   -999.0,9,     66.6,2,   131.41,6,    40.28,6,     0.00,6,     2.93,2, -999.000,9, -999.000,9, -999.000,9,-999.0000,9,  -999.00,9,   -999.0,9,   -999,  -999.0,-999.000,-999.0000,-999.000,  -999.0,  2.9858,-999.000
    49RY9511_2,   P24,    12,  1,     13,  12812,2,19951119,0945, 28.5480, 133.0225, 4356,   1512.6,   2.6036,  34.5207,2,  34.5206,2,   -999.0,9,     80.9,2,   138.27,6,    39.89,6,     0.00,6,     2.89,2, -999.000,9, -999.000,9, -999.000,9,-999.0000,9,  -999.00,9,   -999.0,9,   -999,  -999.0,-999.000,-999.0000,-999.000,  1511.0,  2.4994,-999.000
    49RY9511_2,   P24,    12,  1,     12,  12821,2,19951119,0945, 28.5480, 133.0225, 4356,   1769.2,   2.1975,  34.5756,2,  34.5767,2,   -999.0,9,     98.5,2,   141.88,6,    39.04,6,     0.00,6,     2.81,2, -999.000,9, -999.000,9, -999.000,9,-999.0000,9,  -999.00,9,   -999.0,9,   -999,  -999.0,-999.000,-999.0000,-999.000,  -999.0,  2.0774,-999.000
    49RY9511_2,   P24,    12,  1,     11,  12811,2,19951119,0945, 28.5480, 133.0225, 4356,   2023.1,   1.9700,  34.6086,2,  34.6089,2,   -999.0,9,    112.0,2,   142.65,6,    38.26,6,     0.00,6,     2.75,2, -999.000,9, -999.000,9, -999.000,9,-999.0000,9,  -999.00,9,   -999.0,9,   -999,  -999.0,-999.000,-999.0000,-999.000,  -999.0,  1.8321,-999.000
    49RY9511_2,   P24,    12,  1,     10,  12820,2,19951119,0945, 28.5480, 133.0225, 4356,   2276.9,   1.8037,  34.6325,2,  34.6324,2,   -999.0,9,    124.3,2,   142.29,6,    37.58,6,     0.00,6,     2.68,6, -999.000,9, -999.000,9, -999.000,9,-999.0000,9,  -999.00,9,   -999.0,9,   -999,  -999.0,-999.000,-999.0000,-999.000,  -999.0,  1.6468,-999.000
    49RY9511_2,   P24,    12,  1,      9,  12810,2,19951119,0945, 28.5480, 133.0225, 4356,   2531.2,   1.6710,  34.6507,2,  34.6514,2,   -999.0,9,    134.6,2,   141.46,2,    36.91,2,     0.00,2,     2.64,2, -999.000,9, -999.000,9, -999.000,9,-999.0000,9,  -999.00,9,   -999.0,9,   -999,  -999.0,-999.000,-999.0000,-999.000,  2527.0,  1.4941,-999.000
    49RY9511_2,   P24,    12,  1,      8,  12819,2,19951119,0945, 28.5480, 133.0225, 4356,   2786.5,   1.5931,  34.6623,2,  34.6627,2,   -999.0,9,    141.4,2,   141.01,2,    36.62,2,     0.00,2,     2.60,2, -999.000,9, -999.000,9, -999.000,9,-999.0000,9,  -999.00,9,   -999.0,9,   -999,  -999.0,-999.000,-999.0000,-999.000,  -999.0,  1.3945,-999.000
    49RY9511_2,   P24,    12,  1,      7,  12815,2,19951119,0945, 28.5480, 133.0225, 4356,   3041.5,   1.5504,  34.6701,2,  34.6697,2,   -999.0,9,    146.7,2,   140.65,2,    36.37,2,     0.00,2,     2.58,2, -999.000,9, -999.000,9, -999.000,9,-999.0000,9,  -999.00,9,   -999.0,9,   -999,  -999.0,-999.000,-999.0000,-999.000,  -999.0,  1.3286,-999.000
    49RY9511_2,   P24,    12,  1,      6,  12818,2,19951119,0945, 28.5480, 133.0225, 4356,   3296.5,   1.5289,  34.6748,2,  34.6749,2,   -999.0,9,    149.3,6,   140.43,6,    36.10,6,     0.00,6,     2.56,6, -999.000,9, -999.000,9, -999.000,9,-999.0000,9,  -999.00,9,   -999.0,9,   -999,  -999.0,-999.000,-999.0000,-999.000,  -999.0,  1.2826,-999.000
    49RY9511_2,   P24,    12,  1,      5,  12809,2,19951119,0945, 28.5480, 133.0225, 4356,   3551.5,   1.5342,  34.6771,2,  34.6768,2,   -999.0,9,    151.2,2,   140.19,2,    36.03,2,     0.00,2,     2.55,2, -999.000,9, -999.000,9, -999.000,9,-999.0000,9,  -999.00,9,   -999.0,9,   -999,  -999.0,-999.000,-999.0000,-999.000,  -999.0,  1.2620,-999.000
    49RY9511_2,   P24,    12,  1,      4,  12817,2,19951119,0945, 28.5480, 133.0225, 4356,   3807.8,   1.5503,  34.6782,2,  34.6778,2,   -999.0,9,    151.2,2,   140.21,2,    35.95,2,     0.00,2,     2.54,2, -999.000,9, -999.000,9, -999.000,9,-999.0000,9,  -999.00,9,   -999.0,9,   -999,  -999.0,-999.000,-999.0000,-999.000,  -999.0,  1.2508,-999.000
    49RY9511_2,   P24,    12,  1,      3,  12808,2,19951119,0945, 28.5480, 133.0225, 4356,   4063.0,   1.5730,  34.6787,2,  34.6782,2,   -999.0,9,   -999.0,5,   140.22,2,    35.91,2,     0.00,2,     2.54,2, -999.000,9, -999.000,9, -999.000,9,-999.0000,9,  -999.00,9,   -999.0,9,   -999,  -999.0,   1.569,-999.0000,-999.000,  4057.0,  1.2452,-999.000
    49RY9511_2,   P24,    12,  1,      2,  12914,2,19951119,0945, 28.5480, 133.0225, 4356,   4319.0,   1.5986,  34.6799,2,  34.6788,2,   -999.0,9,    151.9,2,   140.27,2,    35.96,2,     0.00,2,     2.53,2, -999.000,9, -999.000,9, -999.000,9,-999.0000,9,  -999.00,9,   -999.0,9,   -999,  -999.0,-999.000,-999.0000,-999.000,  -999.0,  1.2414,-999.000
    49RY9511_2,   P24,    12,  1,      1,  12807,2,19951119,0945, 28.5480, 133.0225, 4356,   4432.0,   1.6113,  34.6788,2,  34.6790,2,   -999.0,9,    151.9,2,   140.24,2,    35.88,2,     0.00,2,     2.53,2, -999.000,9, -999.000,9, -999.000,9,-999.0000,9,  -999.00,9,   -999.0,9,   -999,  -999.0,-999.000,-999.0000,-999.000,  -999.0,  1.2408,-999.000
    49RY9511_2,   P24,    12,  2,     13,  12812,2,19951119,1223, 28.5420, 132.9798, 4334,      6.5,  24.2308,  34.6380,2,  34.6363,2,   -999.0,9,    211.1,2,     1.59,2,     0.01,2,     0.00,2,     0.04,2, -999.000,9, -999.000,9, -999.000,9,-999.0000,9,  -999.00,9,   -999.0,9,   -999,  -999.0,-999.000,-999.0000,-999.000,     9.0, 24.2294,-999.000
    49RY9511_2,   P24,    12,  2,     12,  12821,2,19951119,1223, 28.5420, 132.9798, 4334,     24.3,  24.2386,  34.6362,2,  34.6359,2,   -999.0,9,   -999.0,5,     1.61,2,     0.01,2,     0.00,2,     0.04,2, -999.000,9, -999.000,9, -999.000,9,-999.0000,9,  -999.00,9,   -999.0,9,   -999,  -999.0,-999.000,-999.0000,-999.000,  -999.0, 24.2334,-999.000
    49RY9511_2,   P24,    12,  2,     11,  12811,2,19951119,1223, 28.5420, 132.9798, 4334,     49.0,  24.2464,  34.6461,2,  34.6440,2,   -999.0,9,    211.5,2,     1.60,2,     0.01,2,     0.00,2,     0.05,2, -999.000,9, -999.000,9, -999.000,9,-999.0000,9,  -999.00,9,   -999.0,9,   -999,  -999.0,-999.000,-999.0000,-999.000,  -999.0, 24.2360,-999.000
    49RY9511_2,   P24,    12,  2,     10,  12820,2,19951119,1223, 28.5420, 132.9798, 4334,     77.0,  23.8419,  34.7366,2,  34.7398,2,   -999.0,9,    212.0,2,     1.78,2,     0.00,2,     0.00,2,     0.10,2, -999.000,9, -999.000,9, -999.000,9,-999.0000,9,  -999.00,9,   -999.0,9,   -999,  -999.0,-999.000,-999.0000,-999.000,  -999.0, 23.8258,-999.000
    49RY9511_2,   P24,    12,  2,      9,  12810,2,19951119,1223, 28.5420, 132.9798, 4334,     97.8,  21.1307,  34.8882,2,  34.8944,2,   -999.0,9,    206.5,2,     2.07,2,     0.45,2,     0.07,2,     0.11,2, -999.000,9, -999.000,9, -999.000,9,-999.0000,9,  -999.00,9,   -999.0,9,   -999,  -999.0,-999.000,-999.0000,-999.000,    96.0, 21.1119,-999.000
    49RY9511_2,   P24,    12,  2,      8,  12819,2,19951119,1223, 28.5420, 132.9798, 4334,    148.7,  19.2188,  34.9005,2,  34.9027,2,   -999.0,9,    200.6,2,     3.01,2,     2.72,2,     0.01,2,     0.24,2, -999.000,9, -999.000,9, -999.000,9,-999.0000,9,  -999.00,9,   -999.0,9,   -999,  -999.0,-999.000,-999.0000,-999.000,  -999.0, 19.1921,-999.000
    49RY9511_2,   P24,    12,  2,      7,  12815,2,19951119,1223, 28.5420, 132.9798, 4334,    200.0,  18.3425,  34.8868,2,  34.8861,2,   -999.0,9,    205.9,2,     3.28,2,     3.13,2,     0.01,2,     0.26,2, -999.000,9, -999.000,9, -999.000,9,-999.0000,9,  -999.00,9,   -999.0,9,   -999,  -999.0,-999.000,-999.0000,-999.000,  -999.0, 18.3077,-999.000
    49RY9511_2,   P24,    12,  2,      6,  12818,2,19951119,1223, 28.5420, 132.9798, 4334,    303.1,  16.7706,  34.7739,2,  34.7731,2,   -999.0,9,    199.5,2,     5.96,2,     6.11,2,     0.00,2,     0.45,2, -999.000,9, -999.000,9, -999.000,9,-999.0000,9,  -999.00,9,   -999.0,9,   -999,  -999.0,-999.000,-999.0000,-999.000,  -999.0, 16.7210,-999.000
    49RY9511_2,   P24,    12,  2,      5,  12809,2,19951119,1223, 28.5420, 132.9798, 4334,    403.4,  14.7690,  34.6011,2,  34.5995,2,   -999.0,9,    184.6,2,    11.50,2,    10.56,2,     0.00,2,     0.76,2, -999.000,9, -999.000,9, -999.000,9,-999.0000,9,  -999.00,9,   -999.0,9,   -999,  -999.0,-999.000,-999.0000,-999.000,  -999.0, 14.7083,-999.000
    49RY9511_2,   P24,    12,  2,      3,  12808,2,19951119,1223, 28.5420, 132.9798, 4334,    503.5,  12.0920,  34.4081,2,  34.4045,2,   -999.0,9,    175.3,2,    21.12,2,    15.87,2,     0.00,2,     1.14,2, -999.000,9, -999.000,9, -999.000,9,-999.0000,9,  -999.00,9,   -999.0,9,   -999,  -999.0,  12.102,-999.0000,-999.000,   500.0, 12.0255,-999.000
    49RY9511_2,   P24,    12,  2,      4,  12817,2,19951119,1223, 28.5420, 132.9798, 4334,    504.3,  12.1130,  34.4074,2,  34.4050,2,   -999.0,9,    174.5,2,    21.14,2,    15.94,2,     0.00,2,     1.14,2, -999.000,9, -999.000,9, -999.000,9,-999.0000,9,  -999.00,9,   -999.0,9,   -999,  -999.0,-999.000,-999.0000,-999.000,  -999.0, 12.0464,-999.000
    49RY9511_2,   P24,    12,  2,      2,  12914,2,19951119,1223, 28.5420, 132.9798, 4334,    604.3,   9.1294,  34.2399,2,  34.2359,2,   -999.0,9,    154.1,2,    39.67,6,    23.24,6,     0.00,6,     1.65,6, -999.000,9, -999.000,9, -999.000,9,-999.0000,9,  -999.00,9,   -999.0,9,   -999,  -999.0,-999.000,-999.0000,-999.000,  -999.0,  9.0623,-999.000
    49RY9511_2,   P24,    12,  2,      1,  12807,2,19951119,1223, 28.5420, 132.9798, 4334,    705.1,   7.0348,  34.1584,2,  34.1566,2,   -999.0,9,    129.2,2,    58.44,6,    29.12,6,     0.00,6,     2.11,2, -999.000,9, -999.000,9, -999.000,9,-999.0000,9,  -999.00,9,   -999.0,9,   -999,  -999.0,-999.000,-999.0000,-999.000,  -999.0,  6.9670,-999.000
    49RY9511_2,   P24,    13,  1,     15,  12813,2,19951119,1550, 28.3205, 133.1768, 3554,    805.2,   5.8189,  34.2347,2,  34.2353,2,   -999.0,9,     92.8,2,    80.65,2,    34.32,2,     0.00,2,     2.46,2, -999.000,9, -999.000,9, -999.000,9,-999.0000,9,  -999.00,9,   -999.0,9,   -999,  -999.0,-999.000,-999.0000,-999.000,  -999.0,  5.7482,-999.000
    49RY9511_2,   P24,    13,  1,     14,  12822,2,19951119,1550, 28.3205, 133.1768, 3554,    907.0,   4.8325,  34.2779,2,  34.2781,2,   -999.0,9,     73.8,2,    96.94,2,    37.52,2,     0.00,2,     2.70,2, -999.000,9, -999.000,9, -999.000,9,-999.0000,9,  -999.00,9,   -999.0,9,   -999,  -999.0,-999.000,-999.0000,-999.000,  -999.0,  4.7591,-999.000
    49RY9511_2,   P24,    13,  1,     13,  12812,2,19951119,1550, 28.3205, 133.1768, 3554,   1009.0,   3.9164,  34.3513,2,  34.3518,2,   -999.0,9,     61.7,2,   114.43,2,    39.77,2,     0.00,2,     2.86,2, -999.000,9, -999.000,9, -999.000,9,-999.0000,9,  -999.00,9,   -999.0,9,   -999,  -999.0,-999.000,-999.0000,-999.000,  1006.0,  3.8409,-999.000
    49RY9511_2,   P24,    13,  1,     11,  12811,2,19951119,1550, 28.3205, 133.1768, 3554,   1259.5,   3.0527,  34.4619,2,  34.4609,2,   -999.0,9,     67.2,6,   131.15,6,    40.37,6,     0.00,6,     2.89,6, -999.000,9, -999.000,9, -999.000,9,-999.0000,9,  -999.00,9,   -999.0,9,   -999,  -999.0,-999.000,-999.0000,-999.000,  -999.0,  2.9643,-999.000
    49RY9511_2,   P24,    13,  1,     12,  12821,2,19951119,1550, 28.3205, 133.1768, 3554,   1261.4,   3.0570,  34.4612,2,  34.4609,2,   -999.0,9,     67.1,6,   131.00,6,    40.46,6,     0.00,6,     2.90,6, -999.000,9, -999.000,9, -999.000,9,-999.0000,9,  -999.00,9,   -999.0,9,   -999,  -999.0,-999.000,-999.0000,-999.000,  -999.0,  2.9684,-999.000
    49RY9511_2,   P24,    13,  1,     10,  12820,2,19951119,1550, 28.3205, 133.1768, 3554,   1514.8,   2.5741,  34.5251,2,  34.5259,2,   -999.0,9,     82.0,2,   138.57,2,    39.92,2,     0.00,2,     2.85,2, -999.000,9, -999.000,9, -999.000,9,-999.0000,9,  -999.00,9,   -999.0,9,   -999,  -999.0,-999.000,-999.0000,-999.000,  -999.0,  2.4701,-999.000
    49RY9511_2,   P24,    13,  1,      9,  12810,2,19951119,1550, 28.3205, 133.1768, 3554,   1768.4,   2.2061,  34.5752,2,  34.5753,2,   -999.0,9,     97.0,2,   141.64,2,    39.24,2,     0.00,2,     2.79,2, -999.000,9, -999.000,9, -999.000,9,-999.0000,9,  -999.00,9,   -999.0,9,   -999,  -999.0,-999.000,-999.0000,-999.000,  1765.0,  2.0860,-999.000
    49RY9511_2,   P24,    13,  1,      8,  12819,2,19951119,1550, 28.3205, 133.1768, 3554,   2021.6,   1.9835,  34.6085,2,  34.6074,2,   -999.0,9,    111.8,2,   141.95,2,    38.42,2,     0.00,2,     2.72,2, -999.000,9, -999.000,9, -999.000,9,-999.0000,9,  -999.00,9,   -999.0,9,   -999,  -999.0,-999.000,-999.0000,-999.000,  -999.0,  1.8456,-999.000
    49RY9511_2,   P24,    13,  1,      7,  12815,2,19951119,1550, 28.3205, 133.1768, 3554,   2274.8,   1.8124,  34.6327,2,  34.6316,2,   -999.0,9,    123.5,2,   141.86,2,    37.85,2,     0.00,2,     2.66,2, -999.000,9, -999.000,9, -999.000,9,-999.0000,9,  -999.00,9,   -999.0,9,   -999,  -999.0,-999.000,-999.0000,-999.000,  -999.0,  1.6556,-999.000
    49RY9511_2,   P24,    13,  1,      6,  12818,2,19951119,1550, 28.3205, 133.1768, 3554,   2530.9,   1.6885,  34.6510,2,  34.6491,2,   -999.0,9,    133.9,2,   141.40,2,    37.20,2,     0.00,2,     2.61,2, -999.000,9, -999.000,9, -999.000,9,-999.0000,9,  -999.00,9,   -999.0,9,   -999,  -999.0,-999.000,-999.0000,-999.000,  -999.0,  1.5112,-999.000
    49RY9511_2,   P24,    13,  1,      5,  12809,2,19951119,1550, 28.3205, 133.1768, 3554,   2786.2,   1.5873,  34.6632,2,  34.6629,2,   -999.0,9,    141.4,2,   141.05,2,    36.77,2,     0.00,2,     2.57,2, -999.000,9, -999.000,9, -999.000,9,-999.0000,9,  -999.00,9,   -999.0,9,   -999,  -999.0,-999.000,-999.0000,-999.000,  -999.0,  1.3888,-999.000
    49RY9511_2,   P24,    13,  1,      4,  12817,2,19951119,1550, 28.3205, 133.1768, 3554,   3041.8,   1.5387,  34.6708,2,  34.6707,2,   -999.0,9,    146.7,2,   140.64,2,    36.46,2,     0.00,2,     2.54,2, -999.000,9, -999.000,9, -999.000,9,-999.0000,9,  -999.00,9,   -999.0,9,   -999,  -999.0,-999.000,-999.0000,-999.000,  -999.0,  1.3170,-999.000
    49RY9511_2,   P24,    13,  1,      3,  12808,2,19951119,1550, 28.3205, 133.1768, 3554,   3297.2,   1.5363,  34.6745,2,  34.6739,2,   -999.0,9,    148.5,2,   140.66,2,    36.31,2,     0.00,2,     2.54,2, -999.000,9, -999.000,9, -999.000,9,-999.0000,9,  -999.00,9,   -999.0,9,   -999,  -999.0,   1.533,-999.0000,-999.000,  3287.0,  1.2898,-999.000
    49RY9511_2,   P24,    13,  1,      2,  12914,2,19951119,1550, 28.3205, 133.1768, 3554,   3561.2,   1.5371,  34.6777,2,  34.6766,2,   -999.0,9,    151.7,2,   140.62,2,    36.24,2,     0.00,2,     2.54,2, -999.000,9, -999.000,9, -999.000,9,-999.0000,9,  -999.00,9,   -999.0,9,   -999,  -999.0,-999.000,-999.0000,-999.000,  -999.0,  1.2638,-999.000
    49RY9511_2,   P24,    13,  1,      1,  12807,2,19951119,1550, 28.3205, 133.1768, 3554,   3561.4,   1.5368,  34.6775,2,  34.6760,2,   -999.0,9,    150.2,6,   140.52,6,    36.20,6,     0.00,6,     2.53,6, -999.000,9, -999.000,9, -999.000,9,-999.0000,9,  -999.00,9,   -999.0,9,   -999,  -999.0,-999.000,-999.0000,-999.000,  -999.0,  1.2634,-999.000