BOTTLE,20020809WHPSIObren
EXPOCODE,SECT_ID,STNNBR,CASTNO,SAMPNO,BTLNBR,BTLNBR_FLAG_W,DATE,TIME,LATITUDE,LONGITUDE,DEPTH,CTDPRS,CTDTMP,CTDSAL,CTDSAL_FLAG_W,SALNTY,SALNTY_FLAG_W,CTDOXY,CTDOXY_FLAG_W,OXYGEN,OXYGEN_FLAG_W,SILCAT,SILCAT_FLAG_W,NO2+NO3,NO2+NO3_FLAG_W,PHSPHT,PHSPHT_FLAG_W,CTDRAW,REVTMP,REVPRS,THETA
,,,,,,,,,,,,DBAR,ITS-90,PSS-78,,PSS-78,,UMOL/KG,,UMOL/KG,,UMOL/KG,,UMOL/KG,,UMOL/KG,,,DEG C,DBAR,ITS-90
     33KI108_1,  PRS2,     2,  4,     12,     12,2,19991015,0157, 22.7497,-158.0015, 4730,      5.1,  26.0151,  35.1679,2,  35.1875,4,    205.1,1,   -999.0,9,  -999.00,9,  -999.00,9,  -999.00,9,      5,-999.000,  -999.0, 26.0140
     33KI108_1,  PRS2,     2,  4,     11,     11,2,19991015,0157, 22.7497,-158.0015, 4730,     24.9,  25.7718,  35.1621,2,  35.1622,2,    206.3,1,   -999.0,9,  -999.00,9,  -999.00,9,  -999.00,9,     25,-999.000,  -999.0, 25.7662
     33KI108_1,  PRS2,     2,  4,     10,     32,2,19991015,0157, 22.7497,-158.0015, 4730,     45.0,  25.7547,  35.1604,2,  35.1596,2,    207.1,1,   -999.0,9,  -999.00,9,  -999.00,9,  -999.00,9,     45,-999.000,  -999.0, 25.7447
     33KI108_1,  PRS2,     2,  4,      9,      3,2,19991015,0157, 22.7497,-158.0015, 4730,     74.5,  25.5812,  35.1735,2,  35.1722,2,    208.6,1,   -999.0,9,  -999.00,9,  -999.00,9,  -999.00,9,     75,-999.000,  -999.0, 25.5648
     33KI108_1,  PRS2,     2,  4,      8,     29,2,19991015,0157, 22.7497,-158.0015, 4730,    100.3,  23.2194,  35.2661,2,  35.2586,2,    210.5,1,   -999.0,9,  -999.00,9,  -999.00,9,  -999.00,9,    100,-999.000,  -999.0, 23.1988
     33KI108_1,  PRS2,     2,  4,      7,     28,2,19991015,0157, 22.7497,-158.0015, 4730,    125.4,  22.0801,  35.2263,2,  35.2261,2,    199.0,1,   -999.0,9,  -999.00,9,  -999.00,9,  -999.00,9,    126,-999.000,  -999.0, 22.0552
     33KI108_1,  PRS2,     2,  4,      6,      7,2,19991015,0157, 22.7497,-158.0015, 4730,    149.8,  21.2844,  35.2494,2,  35.2487,2,    196.6,1,   -999.0,9,  -999.00,9,  -999.00,9,  -999.00,9,    150,-999.000,  -999.0, 21.2554
     33KI108_1,  PRS2,     2,  4,      5,     38,2,19991015,0157, 22.7497,-158.0015, 4730,    175.0,  20.6089,  35.2697,2,  35.2662,2,    202.4,1,   -999.0,9,  -999.00,9,  -999.00,9,  -999.00,9,    175,-999.000,  -999.0, 20.5759
     33KI108_1,  PRS2,     2,  4,      4,     36,2,19991015,0157, 22.7497,-158.0015, 4730,    250.7,  16.0992,  34.6421,2,  34.6381,2,    204.5,1,   -999.0,9,  -999.00,9,  -999.00,9,  -999.00,9,    251,-999.000,  -999.0, 16.0594
     33KI108_1,  PRS2,     2,  4,      3,     35,2,19991015,0157, 22.7497,-158.0015, 4730,    499.8,   8.0921,  34.0581,2,  34.0595,2,    156.0,1,   -999.0,9,  -999.00,9,  -999.00,9,  -999.00,9,    499,-999.000,  -999.0,  8.0409
     33KI108_1,  PRS2,     2,  4,      2,     34,2,19991015,0157, 22.7497,-158.0015, 4730,    750.5,   5.0550,  34.2854,2,  34.2890,2,     32.3,1,   -999.0,9,  -999.00,9,  -999.00,9,  -999.00,9,    751,-999.000,  -999.0,  4.9938
     33KI108_1,  PRS2,     2,  4,      1,     33,2,19991015,0157, 22.7497,-158.0015, 4730,   1021.2,   4.0561,  34.4704,2,  34.4733,2,     42.4,1,   -999.0,9,  -999.00,9,  -999.00,9,  -999.00,9,   1021,-999.000,  -999.0,  3.9783
     33KI108_1,  PRS2,     2,  5,     17,     17,2,19991015,0456, 22.7455,-157.9978, 4723,      4.8,  25.9184,  35.1662,2,  35.1653,2,    207.0,2,    205.9,2,  -999.00,5,  -999.00,5,  -999.00,5,      4,-999.000,  -999.0, 25.9173
     33KI108_1,  PRS2,     2,  5,     16,     16,2,19991015,0456, 22.7455,-157.9978, 4723,    119.5,  23.4456,  35.2610,2,  35.2605,2,    212.3,2,    215.5,2,  -999.00,5,  -999.00,5,  -999.00,5,    120,-999.000,  -999.0, 23.4208
     33KI108_1,  PRS2,     2,  5,     15,     15,2,19991015,0456, 22.7455,-157.9978, 4723,    210.3,  19.4658,  35.0722,2,  35.0747,2,    194.5,2,    193.9,2,     2.65,2,     2.45,2,     0.26,2,    211,-999.000,  -999.0, 19.4277
     33KI108_1,  PRS2,     2,  5,     14,     14,2,19991015,0456, 22.7455,-157.9978, 4723,    224.7,  18.9202,  35.0110,2,  35.0087,2,    194.4,2,    194.2,2,     2.95,2,     2.78,2,     0.29,2,    225,-999.000,  -999.0, 18.8802
     33KI108_1,  PRS2,     2,  5,     13,     13,2,19991015,0456, 22.7455,-157.9978, 4723,    235.3,  18.3505,  34.9399,2,  34.9423,2,    197.1,2,    194.4,2,     3.21,2,     3.13,2,     0.33,2,    235,-999.000,  -999.0, 18.3095
     33KI108_1,  PRS2,     2,  5,     12,     12,3,19991015,0456, 22.7455,-157.9978, 4723,    249.6,  17.5274,  34.8252,2,  34.8397,2,    194.2,2,    197.1,2,     3.69,2,     3.34,2,     0.32,2,    250,-999.000,  -999.0, 17.4854
     33KI108_1,  PRS2,     2,  5,     11,     11,2,19991015,0456, 22.7455,-157.9978, 4723,    274.1,  15.6496,  34.5731,2,  34.5804,2,    202.2,2,    201.7,2,     5.01,2,     4.70,2,     0.44,2,    274,-999.000,  -999.0, 15.6070
     33KI108_1,  PRS2,     2,  5,     10,     32,2,19991015,0456, 22.7455,-157.9978, 4723,    299.8,  14.5628,  34.4432,2,  34.4484,2,    205.3,2,    202.6,2,     6.04,2,     6.03,2,     0.54,2,    300,-999.000,  -999.0, 14.5184
     33KI108_1,  PRS2,     2,  5,      9,      3,2,19991015,0456, 22.7455,-157.9978, 4723,    324.7,  12.5824,  34.2510,2,  34.2590,2,    201.8,2,    201.9,2,     9.06,2,     9.33,2,     0.73,2,    325,-999.000,  -999.0, 12.5388
     33KI108_1,  PRS2,     2,  5,      8,     29,3,19991015,0456, 22.7455,-157.9978, 4723,    349.3,  11.7731,  34.2417,2,  34.2955,4,    208.9,3,    205.0,2,    10.61,2,    10.32,2,     0.77,2,    350,-999.000,  -999.0, 11.7282
     33KI108_1,  PRS2,     2,  5,      7,     28,2,19991015,0456, 22.7455,-157.9978, 4723,    398.2,  10.1170,  34.1146,2,  34.1123,2,    167.4,2,    173.9,2,    19.80,2,    17.71,2,     1.30,2,    398,-999.000,  -999.0, 10.0705
     33KI108_1,  PRS2,     2,  5,      6,      7,2,19991015,0456, 22.7455,-157.9978, 4723,    500.1,   7.4289,  34.0437,2,  34.0426,2,    140.0,2,    131.4,2,    41.92,2,    27.18,2,     2.01,2,    500,-999.000,  -999.0,  7.3802
     33KI108_1,  PRS2,     2,  5,      5,     38,2,19991015,0456, 22.7455,-157.9978, 4723,    599.3,   6.0633,  34.1090,2,  34.1070,2,     73.4,2,     72.6,2,    64.95,2,    34.63,2,     2.56,2,    599,-999.000,  -999.0,  6.0107
     33KI108_1,  PRS2,     2,  5,      4,     36,2,19991015,0456, 22.7455,-157.9978, 4723,    700.3,   5.2280,  34.2212,2,  34.2164,2,     42.6,2,     40.3,2,    83.33,2,    38.81,2,     2.85,2,    700,-999.000,  -999.0,  5.1703
     33KI108_1,  PRS2,     2,  5,      3,     35,2,19991015,0456, 22.7455,-157.9978, 4723,    799.4,   4.4999,  34.3147,2,  34.3135,2,     27.6,2,     27.8,2,    99.70,2,    41.10,2,     3.02,2,    800,-999.000,  -999.0,  4.4378
     33KI108_1,  PRS2,     2,  5,      2,     34,2,19991015,0456, 22.7455,-157.9978, 4723,    898.2,   4.1796,  34.3937,2,  34.3920,2,     32.0,2,     32.0,2,   107.63,2,    41.43,2,     3.01,2,    899,-999.000,  -999.0,  4.1113
     33KI108_1,  PRS2,     2,  5,      1,     33,2,19991015,0456, 22.7455,-157.9978, 4723,   1019.7,   3.9585,  34.4732,2,  34.4728,2,     43.8,2,     42.3,2,   112.42,2,    41.12,2,     3.02,2,   1021,-999.000,  -999.0,  3.8816
     33KI108_1,  PRS2,     2,  6,     23,     30,2,19991015,0756, 22.7495,-157.9982, 4723,      5.0,  25.8063,  35.1468,2,  35.1454,2,    207.3,2,   -999.0,5,  -999.00,5,  -999.00,5,  -999.00,5,      5,-999.000,  -999.0, 25.8052
     33KI108_1,  PRS2,     2,  6,     22,     22,2,19991015,0756, 22.7495,-157.9982, 4723,      5.0,  25.8058,  35.1466,2,  35.1454,2,    207.2,2,    206.7,2,     1.22,2,     0.01,2,     0.09,2,      5,-999.000,  -999.0, 25.8047
     33KI108_1,  PRS2,     2,  6,     21,     21,2,19991015,0756, 22.7495,-157.9982, 4723,     15.1,  25.8071,  35.1456,2,  35.1440,2,    207.2,2,    206.4,2,     1.23,2,     0.01,2,     0.10,2,     16,-999.000,  -999.0, 25.8037
     33KI108_1,  PRS2,     2,  6,     20,     20,2,19991015,0756, 22.7495,-157.9982, 4723,     24.6,  25.6842,  35.1234,2,  35.1328,2,    207.4,2,   -999.0,5,  -999.00,5,  -999.00,5,  -999.00,5,     24,-999.000,  -999.0, 25.6788
     33KI108_1,  PRS2,     2,  6,     19,     19,2,19991015,0756, 22.7495,-157.9982, 4723,     24.6,  25.6842,  35.1234,2,  35.1357,3,    207.4,3,    207.0,2,     1.22,2,     0.01,2,     0.09,2,     25,-999.000,  -999.0, 25.6788
     33KI108_1,  PRS2,     2,  6,     18,     18,2,19991015,0756, 22.7495,-157.9982, 4723,     34.9,  25.6586,  35.1172,2,  35.1298,3,    207.6,3,    207.1,2,     1.30,2,     0.04,2,     0.10,2,     35,-999.000,  -999.0, 25.6509
     33KI108_1,  PRS2,     2,  6,     17,     17,2,19991015,0756, 22.7495,-157.9982, 4723,     44.2,  25.6627,  35.1208,2,  35.1192,2,    207.9,2,    207.0,2,     1.26,2,     0.03,2,     0.09,2,     45,-999.000,  -999.0, 25.6529
     33KI108_1,  PRS2,     2,  6,     16,     16,2,19991015,0756, 22.7495,-157.9982, 4723,     59.4,  25.6742,  35.1281,2,  35.1271,2,    208.0,2,    206.6,2,     1.22,2,     0.02,2,     0.10,2,     60,-999.000,  -999.0, 25.6611
     33KI108_1,  PRS2,     2,  6,     15,     15,2,19991015,0756, 22.7495,-157.9982, 4723,     74.1,  25.6707,  35.1284,2,  35.1283,2,    208.0,2,    206.5,2,     1.24,2,     0.03,2,     0.09,2,     75,-999.000,  -999.0, 25.6543
     33KI108_1,  PRS2,     2,  6,     14,     14,2,19991015,0756, 22.7495,-157.9982, 4723,     84.5,  25.6364,  35.1320,2,  35.1340,2,    208.3,2,    207.1,2,     1.23,2,     0.03,2,     0.10,2,     85,-999.000,  -999.0, 25.6177
     33KI108_1,  PRS2,     2,  6,     13,     13,2,19991015,0756, 22.7495,-157.9982, 4723,     94.5,  25.2702,  35.2117,2,  35.2062,2,    211.3,2,    211.7,2,     1.32,2,     0.02,2,     0.07,2,     94,-999.000,  -999.0, 25.2495
     33KI108_1,  PRS2,     2,  6,     12,     12,2,19991015,0756, 22.7495,-157.9982, 4723,    105.3,  24.5654,  35.2288,2,  35.2243,2,    214.4,2,    214.5,2,     1.76,2,     0.01,2,     0.11,2,    105,-999.000,  -999.0, 24.5429
     33KI108_1,  PRS2,     2,  6,     11,     11,2,19991015,0756, 22.7495,-157.9982, 4723,    114.5,  24.0459,  35.2861,2,  35.2853,2,    218.1,2,    217.3,2,     1.42,2,     0.05,2,     0.07,2,    116,-999.000,  -999.0, 24.0218
     33KI108_1,  PRS2,     2,  6,     10,     32,2,19991015,0756, 22.7495,-157.9982, 4723,    123.8,  23.4659,  35.2771,2,  35.2814,2,    216.2,2,    217.8,2,     1.46,2,     0.01,2,     0.08,2,    124,-999.000,  -999.0, 23.4402
     33KI108_1,  PRS2,     2,  6,      9,      3,2,19991015,0756, 22.7495,-157.9982, 4723,    134.2,  22.4720,  35.2507,2,  35.2519,2,    205.8,2,    207.6,2,     1.57,2,     0.29,2,     0.14,2,    135,-999.000,  -999.0, 22.4450
     33KI108_1,  PRS2,     2,  6,      8,     29,2,19991015,0756, 22.7495,-157.9982, 4723,    149.7,  21.6536,  35.2364,2,  35.2944,4,    195.5,3,    198.5,2,     1.82,2,     1.01,2,     0.19,2,    150,-999.000,  -999.0, 21.6243
     33KI108_1,  PRS2,     2,  6,      7,     28,2,19991015,0756, 22.7495,-157.9982, 4723,    159.9,  21.2945,  35.2541,2,  35.2514,2,    198.1,2,    196.5,2,  -999.00,5,  -999.00,5,  -999.00,5,    161,-999.000,  -999.0, 21.2636
     33KI108_1,  PRS2,     2,  6,      6,      7,2,19991015,0756, 22.7495,-157.9982, 4723,    174.9,  20.9651,  35.2458,2,  35.2362,2,    197.3,2,    195.8,2,     1.89,2,     1.58,2,     0.21,2,    176,-999.000,  -999.0, 20.9316
     33KI108_1,  PRS2,     2,  6,      5,     38,2,19991015,0756, 22.7495,-157.9982, 4723,    184.3,  20.5637,  35.2184,2,  35.2260,2,    196.6,2,    197.9,2,  -999.00,5,  -999.00,5,  -999.00,5,    184,-999.000,  -999.0, 20.5290
     33KI108_1,  PRS2,     2,  6,      4,     36,2,19991015,0756, 22.7495,-157.9982, 4723,    200.0,  20.0265,  35.1734,2,  35.1571,2,    201.6,2,    197.5,2,     2.38,2,     1.88,2,     0.22,2,    200,-999.000,  -999.0, 19.9894
     33KI108_1,  PRS2,     2,  6,      3,     35,2,19991015,0756, 22.7495,-157.9982, 4723,    530.2,   7.1425,  34.0427,2,  34.0410,2,    122.2,2,    122.1,2,  -999.00,5,  -999.00,5,  -999.00,5,    531,-999.000,  -999.0,  7.0918
     33KI108_1,  PRS2,     2,  6,      2,     34,2,19991015,0756, 22.7495,-157.9982, 4723,    820.2,   4.4710,  34.3206,2,  34.3215,2,     27.8,2,     27.1,2,  -999.00,5,  -999.00,5,  -999.00,5,    821,-999.000,  -999.0,  4.4073
     33KI108_1,  PRS2,     2,  6,      1,     33,2,19991015,0756, 22.7495,-157.9982, 4723,   1020.3,   3.9594,  34.4668,2,  34.4742,2,     41.7,2,     41.0,2,  -999.00,5,  -999.00,5,  -999.00,5,   1021,-999.000,  -999.0,  3.8824
     33KI108_1,  PRS2,     2,  7,     14,     14,2,19991015,1057, 22.7528,-157.9702, 4710,      4.5,  25.7161,  35.1278,2,  35.1276,2,    207.5,1,   -999.0,9,  -999.00,9,  -999.00,9,  -999.00,9,      5,-999.000,  -999.0, 25.7151
     33KI108_1,  PRS2,     2,  7,     12,     12,2,19991015,1057, 22.7528,-157.9702, 4710,    148.6,  21.1133,  35.2436,2,  35.2417,2,    195.5,1,   -999.0,9,  -999.00,9,  -999.00,9,  -999.00,9,    149,-999.000,  -999.0, 21.0848
     33KI108_1,  PRS2,     2,  7,      6,      7,2,19991015,1057, 22.7528,-157.9702, 4710,    148.6,  21.1108,  35.2440,2,  35.2439,2,    196.9,1,   -999.0,9,  -999.00,9,  -999.00,9,  -999.00,9,    150,-999.000,  -999.0, 21.0822
     33KI108_1,  PRS2,     2,  7,     11,     11,2,19991015,1057, 22.7528,-157.9702, 4710,    148.7,  21.1133,  35.2431,2,  35.2654,3,    195.6,1,   -999.0,9,  -999.00,9,  -999.00,9,  -999.00,9,    149,-999.000,  -999.0, 21.0847
     33KI108_1,  PRS2,     2,  7,      9,      3,2,19991015,1057, 22.7528,-157.9702, 4710,    148.7,  21.1121,  35.2433,2,  35.2434,2,    196.0,1,   -999.0,9,  -999.00,9,  -999.00,9,  -999.00,9,    149,-999.000,  -999.0, 21.0835
     33KI108_1,  PRS2,     2,  7,      5,     38,2,19991015,1057, 22.7528,-157.9702, 4710,    148.7,  21.1095,  35.2437,2,  35.2708,3,    197.2,1,   -999.0,9,  -999.00,9,  -999.00,9,  -999.00,9,    149,-999.000,  -999.0, 21.0809
     33KI108_1,  PRS2,     2,  7,      4,     36,2,19991015,1057, 22.7528,-157.9702, 4710,    148.7,  21.1058,  35.2440,2,  35.2439,2,    197.5,1,   -999.0,9,  -999.00,9,  -999.00,9,  -999.00,9,    149,-999.000,  -999.0, 21.0772
     33KI108_1,  PRS2,     2,  7,     10,     32,2,19991015,1057, 22.7528,-157.9702, 4710,    148.8,  21.1121,  35.2435,2,  35.2434,2,    195.7,1,   -999.0,9,  -999.00,9,  -999.00,9,  -999.00,9,    149,-999.000,  -999.0, 21.0835
     33KI108_1,  PRS2,     2,  7,      8,     29,2,19991015,1057, 22.7528,-157.9702, 4710,    148.8,  21.1116,  35.2437,2,  35.2422,2,    196.2,1,   -999.0,9,  -999.00,9,  -999.00,9,  -999.00,9,    149,-999.000,  -999.0, 21.0830
     33KI108_1,  PRS2,     2,  7,      7,     28,2,19991015,1057, 22.7528,-157.9702, 4710,    148.8,  21.1128,  35.2436,2,  35.2442,2,    196.6,1,   -999.0,9,  -999.00,9,  -999.00,9,  -999.00,9,    148,-999.000,  -999.0, 21.0842
     33KI108_1,  PRS2,     2,  7,     13,     13,2,19991015,1057, 22.7528,-157.9702, 4710,    148.9,  21.1137,  35.2435,2,  35.2421,2,    195.4,1,   -999.0,9,  -999.00,9,  -999.00,9,  -999.00,9,    150,-999.000,  -999.0, 21.0851
     33KI108_1,  PRS2,     2,  7,      3,     35,2,19991015,1057, 22.7528,-157.9702, 4710,    499.5,   7.7658,  34.0491,2,  34.0480,2,    152.8,1,   -999.0,9,  -999.00,9,  -999.00,9,  -999.00,9,    500,-999.000,  -999.0,  7.7159
     33KI108_1,  PRS2,     2,  7,      2,     34,2,19991015,1057, 22.7528,-157.9702, 4710,    749.7,   5.2271,  34.2835,2,  34.2827,2,     31.5,1,   -999.0,9,  -999.00,9,  -999.00,9,  -999.00,9,    751,-999.000,  -999.0,  5.1650
     33KI108_1,  PRS2,     2,  7,      1,     33,2,19991015,1057, 22.7528,-157.9702, 4710,   1020.6,   3.9512,  34.4637,2,  34.4645,2,     41.6,1,   -999.0,9,  -999.00,9,  -999.00,9,  -999.00,9,   1021,-999.000,  -999.0,  3.8743