BOTTLE,20020809WHPSIObren
EXPOCODE,SECT_ID,STNNBR,CASTNO,SAMPNO,BTLNBR,BTLNBR_FLAG_W,DATE,TIME,LATITUDE,LONGITUDE,DEPTH,CTDPRS,CTDTMP,CTDSAL,CTDSAL_FLAG_W,SALNTY,SALNTY_FLAG_W,CTDOXY,CTDOXY_FLAG_W,OXYGEN,OXYGEN_FLAG_W,SILCAT,SILCAT_FLAG_W,NO2+NO3,NO2+NO3_FLAG_W,PHSPHT,PHSPHT_FLAG_W,CTDRAW,REVTMP,REVPRS,THETA
,,,,,,,,,,,,DBAR,ITS-90,PSS-78,,PSS-78,,UMOL/KG,,UMOL/KG,,UMOL/KG,,UMOL/KG,,UMOL/KG,,,DEG C,DBAR,ITS-90
     33KI108_1,  PRS2,     2, 13,     19,     19,2,19991016,0458, 22.7210,-158.0005, 4719,      4.8,  25.7930,  35.0971,2,  35.0938,2,    207.3,1,   -999.0,9,  -999.00,9,  -999.00,9,  -999.00,9,      5,-999.000,  -999.0, 25.7919
     33KI108_1,  PRS2,     2, 13,     18,     18,2,19991016,0458, 22.7210,-158.0005, 4719,     24.3,  25.6231,  35.0906,2,  35.0877,2,    208.9,1,   -999.0,9,  -999.00,9,  -999.00,9,  -999.00,9,     25,-999.000,  -999.0, 25.6177
     33KI108_1,  PRS2,     2, 13,     17,     17,2,19991016,0458, 22.7210,-158.0005, 4719,     50.1,  25.5946,  35.0923,2,  35.0901,2,    209.2,1,   -999.0,9,  -999.00,9,  -999.00,9,  -999.00,9,     50,-999.000,  -999.0, 25.5835
     33KI108_1,  PRS2,     2, 13,     16,     16,2,19991016,0458, 22.7210,-158.0005, 4719,     74.8,  25.5979,  35.0983,2,  35.0971,2,    209.3,1,   -999.0,9,  -999.00,9,  -999.00,9,  -999.00,9,     75,-999.000,  -999.0, 25.5814
     33KI108_1,  PRS2,     2, 13,     15,     15,2,19991016,0458, 22.7210,-158.0005, 4719,     84.7,  24.9396,  35.1480,2,  35.1404,2,    213.0,1,   -999.0,9,  -999.00,9,  -999.00,9,  -999.00,9,     86,-999.000,  -999.0, 24.9213
     33KI108_1,  PRS2,     2, 13,     14,     14,2,19991016,0458, 22.7210,-158.0005, 4719,     94.2,  24.3786,  35.2354,2,  35.2323,2,    213.1,1,   -999.0,9,  -999.00,9,  -999.00,9,  -999.00,9,     94,-999.000,  -999.0, 24.3586
     33KI108_1,  PRS2,     2, 13,     13,     13,2,19991016,0458, 22.7210,-158.0005, 4719,    104.4,  23.8788,  35.2527,2,  35.2504,2,    213.3,1,   -999.0,9,  -999.00,9,  -999.00,9,  -999.00,9,    105,-999.000,  -999.0, 23.8569
     33KI108_1,  PRS2,     2, 13,     12,     12,2,19991016,0458, 22.7210,-158.0005, 4719,    114.3,  23.2582,  35.2859,2,  35.2924,2,    217.2,1,   -999.0,9,  -999.00,9,  -999.00,9,  -999.00,9,    115,-999.000,  -999.0, 23.2347
     33KI108_1,  PRS2,     2, 13,     11,     11,2,19991016,0458, 22.7210,-158.0005, 4719,    124.8,  22.6128,  35.2930,2,  35.2925,2,    214.0,1,   -999.0,9,  -999.00,9,  -999.00,9,  -999.00,9,    125,-999.000,  -999.0, 22.5876
     33KI108_1,  PRS2,     2, 13,     10,     32,2,19991016,0458, 22.7210,-158.0005, 4719,    134.8,  22.0258,  35.2719,2,  35.2719,2,    205.0,1,   -999.0,9,  -999.00,9,  -999.00,9,  -999.00,9,    135,-999.000,  -999.0, 21.9991
     33KI108_1,  PRS2,     2, 13,      9,      3,2,19991016,0458, 22.7210,-158.0005, 4719,    144.5,  21.4630,  35.2197,2,  35.2138,2,    190.5,1,   -999.0,9,  -999.00,9,  -999.00,9,  -999.00,9,    145,-999.000,  -999.0, 21.4349
     33KI108_1,  PRS2,     2, 13,      8,     29,2,19991016,0458, 22.7210,-158.0005, 4719,    154.9,  21.2903,  35.2111,2,  35.2100,2,    191.4,1,   -999.0,9,  -999.00,9,  -999.00,9,  -999.00,9,    156,-999.000,  -999.0, 21.2603
     33KI108_1,  PRS2,     2, 13,      7,     28,2,19991016,0458, 22.7210,-158.0005, 4719,    164.5,  21.0560,  35.2236,2,  35.2236,2,    197.6,1,   -999.0,9,  -999.00,9,  -999.00,9,  -999.00,9,    166,-999.000,  -999.0, 21.0244
     33KI108_1,  PRS2,     2, 13,      6,      7,2,19991016,0458, 22.7210,-158.0005, 4719,    174.9,  21.0373,  35.2470,2,  35.2413,2,    199.2,1,   -999.0,9,  -999.00,9,  -999.00,9,  -999.00,9,    175,-999.000,  -999.0, 21.0037
     33KI108_1,  PRS2,     2, 13,      5,     38,2,19991016,0458, 22.7210,-158.0005, 4719,    199.7,  19.8518,  35.1263,2,  35.1033,3,    195.9,1,   -999.0,9,  -999.00,9,  -999.00,9,  -999.00,9,    200,-999.000,  -999.0, 19.8150
     33KI108_1,  PRS2,     2, 13,      4,     36,2,19991016,0458, 22.7210,-158.0005, 4719,    249.6,  17.1397,  34.7907,2,  34.7892,2,    199.2,1,   -999.0,9,  -999.00,9,  -999.00,9,  -999.00,9,    250,-999.000,  -999.0, 17.0983
     33KI108_1,  PRS2,     2, 13,      3,     35,2,19991016,0458, 22.7210,-158.0005, 4719,    350.9,  11.7955,  34.2295,2,  34.2256,2,    201.6,1,   -999.0,9,  -999.00,9,  -999.00,9,  -999.00,9,    350,-999.000,  -999.0, 11.7503
     33KI108_1,  PRS2,     2, 13,      2,     34,2,19991016,0458, 22.7210,-158.0005, 4719,    500.5,   7.6640,  34.0433,2,  34.0576,4,    145.7,1,   -999.0,9,  -999.00,9,  -999.00,9,  -999.00,9,    501,-999.000,  -999.0,  7.6143
     33KI108_1,  PRS2,     2, 13,      1,     33,2,19991016,0458, 22.7210,-158.0005, 4719,   1020.2,   3.8733,  34.4768,2,  34.4754,2,     43.3,1,   -999.0,9,  -999.00,9,  -999.00,9,  -999.00,9,   1020,-999.000,  -999.0,  3.7971
     33KI108_1,  PRS2,     2, 14,     19,     19,2,19991016,0759, 22.7495,-157.9975, 4725,      4.8,  25.7113,  35.0998,2,  35.0993,2,    208.2,1,   -999.0,9,  -999.00,9,  -999.00,9,  -999.00,9,      5,-999.000,  -999.0, 25.7103
     33KI108_1,  PRS2,     2, 14,     18,     18,2,19991016,0759, 22.7495,-157.9975, 4725,      4.8,  25.7112,  35.0998,2,  35.1033,2,    208.2,1,   -999.0,9,  -999.00,9,  -999.00,9,  -999.00,9,      5,-999.000,  -999.0, 25.7101
     33KI108_1,  PRS2,     2, 14,     17,     17,2,19991016,0759, 22.7495,-157.9975, 4725,     24.7,  25.6370,  35.0968,2,  35.0963,2,    208.8,1,   -999.0,9,  -999.00,9,  -999.00,9,  -999.00,9,     25,-999.000,  -999.0, 25.6316
     33KI108_1,  PRS2,     2, 14,     16,     16,2,19991016,0759, 22.7495,-157.9975, 4725,     24.7,  25.6371,  35.0980,2,  35.0980,2,    208.6,1,   -999.0,9,  -999.00,9,  -999.00,9,  -999.00,9,     25,-999.000,  -999.0, 25.6317
     33KI108_1,  PRS2,     2, 14,     15,     15,2,19991016,0759, 22.7495,-157.9975, 4725,     44.6,  25.6104,  35.1044,2,  35.1039,2,    209.1,1,   -999.0,9,  -999.00,9,  -999.00,9,  -999.00,9,     45,-999.000,  -999.0, 25.6005
     33KI108_1,  PRS2,     2, 14,     14,     14,2,19991016,0759, 22.7495,-157.9975, 4725,     44.6,  25.6118,  35.1044,2,  35.1063,2,    209.1,1,   -999.0,9,  -999.00,9,  -999.00,9,  -999.00,9,     45,-999.000,  -999.0, 25.6019
     33KI108_1,  PRS2,     2, 14,     12,     12,2,19991016,0759, 22.7495,-157.9975, 4725,     74.5,  25.7020,  35.1587,2,  35.1591,2,    208.6,1,   -999.0,9,  -999.00,9,  -999.00,9,  -999.00,9,     75,-999.000,  -999.0, 25.6855
     33KI108_1,  PRS2,     2, 14,     13,     13,2,19991016,0759, 22.7495,-157.9975, 4725,     74.6,  25.7025,  35.1591,2,  35.1571,2,    208.6,1,   -999.0,9,  -999.00,9,  -999.00,9,  -999.00,9,     75,-999.000,  -999.0, 25.6860
     33KI108_1,  PRS2,     2, 14,     10,     32,2,19991016,0759, 22.7495,-157.9975, 4725,     99.8,  24.2087,  35.2249,2,  35.2249,2,    213.4,1,   -999.0,9,  -999.00,9,  -999.00,9,  -999.00,9,    100,-999.000,  -999.0, 24.1876
     33KI108_1,  PRS2,     2, 14,     11,     11,2,19991016,0759, 22.7495,-157.9975, 4725,     99.9,  24.2072,  35.2259,2,  35.2253,2,    213.4,1,   -999.0,9,  -999.00,9,  -999.00,9,  -999.00,9,    100,-999.000,  -999.0, 24.1860
     33KI108_1,  PRS2,     2, 14,      9,      3,2,19991016,0759, 22.7495,-157.9975, 4725,    125.3,  23.0598,  35.2766,2,  35.2836,2,    213.1,1,   -999.0,9,  -999.00,9,  -999.00,9,  -999.00,9,    126,-999.000,  -999.0, 23.0342
     33KI108_1,  PRS2,     2, 14,      8,     29,2,19991016,0759, 22.7495,-157.9975, 4725,    125.3,  23.0555,  35.2778,2,  35.3197,4,    213.5,1,   -999.0,9,  -999.00,9,  -999.00,9,  -999.00,9,    126,-999.000,  -999.0, 23.0299
     33KI108_1,  PRS2,     2, 14,      7,     28,2,19991016,0759, 22.7495,-157.9975, 4725,    149.4,  21.6334,  35.2614,2,  35.2488,2,    196.4,1,   -999.0,9,  -999.00,9,  -999.00,9,  -999.00,9,    150,-999.000,  -999.0, 21.6041
     33KI108_1,  PRS2,     2, 14,      6,      7,2,19991016,0759, 22.7495,-157.9975, 4725,    149.5,  21.6353,  35.2614,2,  35.2494,2,    196.0,1,   -999.0,9,  -999.00,9,  -999.00,9,  -999.00,9,    149,-999.000,  -999.0, 21.6061
     33KI108_1,  PRS2,     2, 14,      5,     38,2,19991016,0759, 22.7495,-157.9975, 4725,    175.4,  20.5735,  35.1487,2,  35.1490,2,    191.3,1,   -999.0,9,  -999.00,9,  -999.00,9,  -999.00,9,    176,-999.000,  -999.0, 20.5404
     33KI108_1,  PRS2,     2, 14,      4,     36,2,19991016,0759, 22.7495,-157.9975, 4725,    175.4,  20.5707,  35.1503,2,  35.1481,2,    191.3,1,   -999.0,9,  -999.00,9,  -999.00,9,  -999.00,9,    176,-999.000,  -999.0, 20.5376
     33KI108_1,  PRS2,     2, 14,      3,     35,2,19991016,0759, 22.7495,-157.9975, 4725,    499.0,   7.9183,  34.0548,2,  34.0530,2,    154.9,1,   -999.0,9,  -999.00,9,  -999.00,9,  -999.00,9,    499,-999.000,  -999.0,  7.8678
     33KI108_1,  PRS2,     2, 14,      2,     34,2,19991016,0759, 22.7495,-157.9975, 4725,    750.4,   4.9400,  34.2783,2,  34.2818,2,     35.0,1,   -999.0,9,  -999.00,9,  -999.00,9,  -999.00,9,    750,-999.000,  -999.0,  4.8794
     33KI108_1,  PRS2,     2, 14,      1,     33,2,19991016,0759, 22.7495,-157.9975, 4725,   1020.7,   3.7993,  34.4783,2,  34.4763,2,     43.2,1,   -999.0,9,  -999.00,9,  -999.00,9,  -999.00,9,   1021,-999.000,  -999.0,  3.7235
     33KI108_1,  PRS2,     2, 15,     22,     22,2,19991016,1222, 22.7475,-157.9982, 4723,      4.5,  25.5788,  35.0488,2,  35.0496,2,    208.4,2,    206.6,2,  -999.00,9,  -999.00,9,  -999.00,9,      4,-999.000,  -999.0, 25.5778
     33KI108_1,  PRS2,     2, 15,     19,     19,2,19991016,1222, 22.7475,-157.9982, 4723,    500.7,   8.0569,  34.0577,2,  34.0648,3,    156.1,3,   -999.0,5,  -999.00,9,  -999.00,9,  -999.00,9,    502,-999.000,  -999.0,  8.0057
     33KI108_1,  PRS2,     2, 15,     20,     20,2,19991016,1222, 22.7475,-157.9982, 4723,    500.8,   8.0506,  34.0571,2,  34.0595,2,    156.6,2,   -999.0,5,  -999.00,9,  -999.00,9,  -999.00,9,    500,-999.000,  -999.0,  7.9994
     33KI108_1,  PRS2,     2, 15,     21,     21,2,19991016,1222, 22.7475,-157.9982, 4723,    500.9,   8.0506,  34.0574,2,  34.0593,2,    157.3,2,    156.0,2,  -999.00,9,  -999.00,9,  -999.00,9,    501,-999.000,  -999.0,  7.9994
     33KI108_1,  PRS2,     2, 15,     16,     16,2,19991016,1222, 22.7475,-157.9982, 4723,    751.2,   5.1821,  34.2851,2,  34.2871,2,     34.9,2,   -999.0,5,  -999.00,9,  -999.00,9,  -999.00,9,    752,-999.000,  -999.0,  5.1201
     33KI108_1,  PRS2,     2, 15,     17,     17,2,19991016,1222, 22.7475,-157.9982, 4723,    751.4,   5.1825,  34.2855,2,-999.0000,5,     35.1,2,   -999.0,5,  -999.00,9,  -999.00,9,  -999.00,9,    751,-999.000,  -999.0,  5.1205
     33KI108_1,  PRS2,     2, 15,     18,     18,2,19991016,1222, 22.7475,-157.9982, 4723,    751.6,   5.1829,  34.2858,2,  34.2860,2,     35.2,2,     32.6,2,  -999.00,9,  -999.00,9,  -999.00,9,    752,-999.000,  -999.0,  5.1209
     33KI108_1,  PRS2,     2, 15,     15,     15,2,19991016,1222, 22.7475,-157.9982, 4723,   1000.5,   3.9750,  34.4405,2,  34.4434,2,     37.7,2,     36.5,2,  -999.00,9,  -999.00,9,  -999.00,9,   1000,-999.000,  -999.0,  3.8996
     33KI108_1,  PRS2,     2, 15,     14,     14,2,19991016,1222, 22.7475,-157.9982, 4723,   2000.2,   2.1260,  34.6165,2,  34.6178,2,     86.1,2,     86.0,2,  -999.00,9,  -999.00,9,  -999.00,9,   2000,-999.000,  -999.0,  1.9877
     33KI108_1,  PRS2,     2, 15,     13,     13,2,19991016,1222, 22.7475,-157.9982, 4723,   2000.2,   2.1264,  34.6165,2,  34.6172,2,     86.2,2,   -999.0,5,  -999.00,9,  -999.00,9,  -999.00,9,   2000,-999.000,  -999.0,  1.9881
     33KI108_1,  PRS2,     2, 15,     12,     12,2,19991016,1222, 22.7475,-157.9982, 4723,   2000.3,   2.1266,  34.6168,2,  34.6168,2,     86.2,2,   -999.0,5,  -999.00,9,  -999.00,9,  -999.00,9,   2001,-999.000,  -999.0,  1.9883
     33KI108_1,  PRS2,     2, 15,     11,     11,2,19991016,1222, 22.7475,-157.9982, 4723,   3000.0,   1.5636,  34.6689,2,  34.6716,2,    123.7,2,    123.2,2,  -999.00,9,  -999.00,9,  -999.00,9,   3000,-999.000,  -999.0,  1.3454
     33KI108_1,  PRS2,     2, 15,      5,     38,2,19991016,1222, 22.7475,-157.9982, 4723,   3499.9,   1.4824,  34.6801,2,  34.6787,2,    137.7,2,   -999.0,5,  -999.00,9,  -999.00,9,  -999.00,9,   3499,-999.000,  -999.0,  1.2168
     33KI108_1,  PRS2,     2, 15,      6,      7,2,19991016,1222, 22.7475,-157.9982, 4723,   3500.0,   1.4824,  34.6801,2,  34.6819,2,    137.7,2,   -999.0,5,  -999.00,9,  -999.00,9,  -999.00,9,   3500,-999.000,  -999.0,  1.2167
     33KI108_1,  PRS2,     2, 15,      7,     28,2,19991016,1222, 22.7475,-157.9982, 4723,   3500.1,   1.4824,  34.6801,2,  34.6804,2,    137.7,2,   -999.0,5,  -999.00,9,  -999.00,9,  -999.00,9,   3501,-999.000,  -999.0,  1.2168
     33KI108_1,  PRS2,     2, 15,      9,      3,2,19991016,1222, 22.7475,-157.9982, 4723,   3500.2,   1.4823,  34.6802,2,  34.6815,2,    137.7,2,   -999.0,5,  -999.00,9,  -999.00,9,  -999.00,9,   3502,-999.000,  -999.0,  1.2166
     33KI108_1,  PRS2,     2, 15,      8,     29,2,19991016,1222, 22.7475,-157.9982, 4723,   3500.2,   1.4824,  34.6801,2,  34.6802,2,    137.7,2,   -999.0,5,  -999.00,9,  -999.00,9,  -999.00,9,   3500,-999.000,  -999.0,  1.2167
     33KI108_1,  PRS2,     2, 15,     10,     32,2,19991016,1222, 22.7475,-157.9982, 4723,   3500.5,   1.4824,  34.6801,2,  34.6807,2,    137.7,2,   -999.0,5,  -999.00,9,  -999.00,9,  -999.00,9,   3502,-999.000,  -999.0,  1.2167
     33KI108_1,  PRS2,     2, 15,      4,     36,2,19991016,1222, 22.7475,-157.9982, 4723,   3999.4,   1.4590,  34.6865,2,  34.6865,2,    148.2,2,    147.0,2,  -999.00,9,  -999.00,9,  -999.00,9,   4000,-999.000,  -999.0,  1.1413
     33KI108_1,  PRS2,     2, 15,      2,     34,2,19991016,1222, 22.7475,-157.9982, 4723,   4599.7,   1.4942,  34.6893,2,  34.6893,2,    155.1,2,   -999.0,5,  -999.00,9,  -999.00,9,  -999.00,9,   4600,-999.000,  -999.0,  1.1078
     33KI108_1,  PRS2,     2, 15,      3,     35,2,19991016,1222, 22.7475,-157.9982, 4723,   4599.8,   1.4942,  34.6894,2,  34.6891,2,    155.2,2,   -999.0,5,  -999.00,9,  -999.00,9,  -999.00,9,   4599,-999.000,  -999.0,  1.1079
     33KI108_1,  PRS2,     2, 15,      1,     33,2,19991016,1222, 22.7475,-157.9982, 4723,   4802.7,   1.5017,  34.6908,2,  34.6904,2,    158.3,2,    155.1,2,  -999.00,9,  -999.00,9,  -999.00,9,   4803,-999.000,  -999.0,  1.0911
     33KI108_1,  PRS2,     8,  1,     18,     18,2,19991017,0212, 22.4565,-158.2107, 4823,      4.7,  26.0797,  35.2022,2,  35.2003,2,    205.2,2,    205.7,2,  -999.00,9,  -999.00,9,  -999.00,9,      5,-999.000,  -999.0, 26.0787
     33KI108_1,  PRS2,     8,  1,     17,     17,2,19991017,0212, 22.4565,-158.2107, 4823,     20.0,  25.8648,  35.1863,2,  35.1850,2,    205.7,2,   -999.0,5,  -999.00,9,  -999.00,9,  -999.00,9,     20,-999.000,  -999.0, 25.8604
     33KI108_1,  PRS2,     8,  1,     16,     16,2,19991017,0212, 22.4565,-158.2107, 4823,     24.8,  25.8668,  35.1892,2,  35.1872,2,    206.0,2,    206.1,2,  -999.00,9,  -999.00,9,  -999.00,9,     25,-999.000,  -999.0, 25.8612
     33KI108_1,  PRS2,     8,  1,     15,     15,2,19991017,0212, 22.4565,-158.2107, 4823,     24.8,  25.8666,  35.1892,2,  35.1886,2,    206.1,2,   -999.0,5,  -999.00,9,  -999.00,9,  -999.00,9,     25,-999.000,  -999.0, 25.8611
     33KI108_1,  PRS2,     8,  1,     14,     14,2,19991017,0212, 22.4565,-158.2107, 4823,     30.1,  25.8638,  35.1908,2,  35.1916,2,    206.3,2,   -999.0,5,  -999.00,9,  -999.00,9,  -999.00,9,     30,-999.000,  -999.0, 25.8571
     33KI108_1,  PRS2,     8,  1,     13,     13,2,19991017,0212, 22.4565,-158.2107, 4823,     45.1,  25.8394,  35.1845,2,  35.1840,2,    206.4,2,   -999.0,5,  -999.00,9,  -999.00,9,  -999.00,9,     46,-999.000,  -999.0, 25.8294
     33KI108_1,  PRS2,     8,  1,     12,     12,2,19991017,0212, 22.4565,-158.2107, 4823,     45.1,  25.8398,  35.1846,2,  35.1853,2,    206.4,2,    206.2,2,  -999.00,9,  -999.00,9,  -999.00,9,     45,-999.000,  -999.0, 25.8298
     33KI108_1,  PRS2,     8,  1,     11,     11,2,19991017,0212, 22.4565,-158.2107, 4823,     50.0,  25.8283,  35.1814,2,  35.1808,2,    206.5,2,   -999.0,5,  -999.00,9,  -999.00,9,  -999.00,9,     50,-999.000,  -999.0, 25.8172
     33KI108_1,  PRS2,     8,  1,     10,     32,2,19991017,0212, 22.4565,-158.2107, 4823,     54.5,  25.7987,  35.1726,2,  35.1746,2,    206.5,2,   -999.0,5,  -999.00,9,  -999.00,9,  -999.00,9,     55,-999.000,  -999.0, 25.7866
     33KI108_1,  PRS2,     8,  1,      9,      3,2,19991017,0212, 22.4565,-158.2107, 4823,     75.6,  25.7677,  35.1719,2,  35.1662,2,    206.8,2,    206.3,2,  -999.00,9,  -999.00,9,  -999.00,9,     76,-999.000,  -999.0, 25.7510
     33KI108_1,  PRS2,     8,  1,      8,     29,2,19991017,0212, 22.4565,-158.2107, 4823,     99.9,  23.8722,  35.1918,2,  35.1933,2,    213.5,2,    213.4,2,  -999.00,9,  -999.00,9,  -999.00,9,    100,-999.000,  -999.0, 23.8512
     33KI108_1,  PRS2,     8,  1,      7,     28,2,19991017,0212, 22.4565,-158.2107, 4823,    125.8,  22.4076,  35.2103,2,  35.2073,2,    205.5,2,    205.4,2,  -999.00,9,  -999.00,9,  -999.00,9,    126,-999.000,  -999.0, 22.3823
     33KI108_1,  PRS2,     8,  1,      6,      7,2,19991017,0212, 22.4565,-158.2107, 4823,    149.9,  21.8018,  35.2363,2,  35.2307,2,    199.7,2,    199.9,2,  -999.00,9,  -999.00,9,  -999.00,9,    150,-999.000,  -999.0, 21.7723
     33KI108_1,  PRS2,     8,  1,      5,     38,2,19991017,0212, 22.4565,-158.2107, 4823,    176.4,  20.9289,  35.2291,2,  35.2334,2,    198.2,2,    198.8,2,  -999.00,9,  -999.00,9,  -999.00,9,    177,-999.000,  -999.0, 20.8952
     33KI108_1,  PRS2,     8,  1,      4,     36,2,19991017,0212, 22.4565,-158.2107, 4823,    253.9,  16.3061,  34.6798,2,  34.6987,2,    196.7,2,    196.4,2,  -999.00,9,  -999.00,9,  -999.00,9,    254,-999.000,  -999.0, 16.2654
     33KI108_1,  PRS2,     8,  1,      3,     35,2,19991017,0212, 22.4565,-158.2107, 4823,    504.0,   7.5913,  34.0370,2,  34.0387,2,    151.1,2,    151.1,2,  -999.00,9,  -999.00,9,  -999.00,9,    505,-999.000,  -999.0,  7.5415
     33KI108_1,  PRS2,     8,  1,      2,     34,2,19991017,0212, 22.4565,-158.2107, 4823,    752.4,   4.8409,  34.2514,2,  34.2506,2,     32.5,2,     32.3,2,  -999.00,9,  -999.00,9,  -999.00,9,    752,-999.000,  -999.0,  4.7808
     33KI108_1,  PRS2,     8,  1,      1,     33,2,19991017,0212, 22.4565,-158.2107, 4823,   1019.4,   4.0518,  34.4956,2,  34.4963,2,     45.1,2,     45.4,2,  -999.00,9,  -999.00,9,  -999.00,9,   1020,-999.000,  -999.0,  3.9741