BOTTLE,20020809WHPSIObren
EXPOCODE,SECT_ID,STNNBR,CASTNO,SAMPNO,BTLNBR,BTLNBR_FLAG_W,DATE,TIME,LATITUDE,LONGITUDE,DEPTH,CTDPRS,CTDTMP,CTDSAL,CTDSAL_FLAG_W,SALNTY,SALNTY_FLAG_W,CTDOXY,CTDOXY_FLAG_W,OXYGEN,OXYGEN_FLAG_W,SILCAT,SILCAT_FLAG_W,NO2+NO3,NO2+NO3_FLAG_W,PHSPHT,PHSPHT_FLAG_W,CTDRAW,REVTMP,REVPRS,THETA
,,,,,,,,,,,,DBAR,ITS-90,PSS-78,,PSS-78,,UMOL/KG,,UMOL/KG,,UMOL/KG,,UMOL/KG,,UMOL/KG,,,DEG C,DBAR,ITS-90
     33KI108_1,  PRS2,     2,  8,     24,     31,2,19991015,1357, 22.7478,-157.9973, 4724,      4.3,  25.6233,  35.0986,2,  35.1243,4,    208.0,1,   -999.0,9,  -999.00,9,  -999.00,9,  -999.00,9,      5,-999.000,  -999.0, 25.6223
     33KI108_1,  PRS2,     2,  8,     14,     14,2,19991015,1357, 22.7478,-157.9973, 4724,    150.0,  21.3599,  35.2026,2,  35.2065,2,    195.5,1,   -999.0,9,  -999.00,9,  -999.00,9,  -999.00,9,    152,-999.000,  -999.0, 21.3308
     33KI108_1,  PRS2,     2,  8,     23,     30,2,19991015,1357, 22.7478,-157.9973, 4724,    150.1,  21.3510,  35.2026,2,  35.2291,4,    193.6,1,   -999.0,9,  -999.00,9,  -999.00,9,  -999.00,9,    151,-999.000,  -999.0, 21.3219
     33KI108_1,  PRS2,     2,  8,     13,     13,2,19991015,1357, 22.7478,-157.9973, 4724,    150.1,  21.3604,  35.2028,2,  35.2018,2,    195.5,1,   -999.0,9,  -999.00,9,  -999.00,9,  -999.00,9,    151,-999.000,  -999.0, 21.3313
     33KI108_1,  PRS2,     2,  8,     12,     12,2,19991015,1357, 22.7478,-157.9973, 4724,    150.1,  21.3601,  35.2028,2,  35.2016,2,    195.5,1,   -999.0,9,  -999.00,9,  -999.00,9,  -999.00,9,    151,-999.000,  -999.0, 21.3310
     33KI108_1,  PRS2,     2,  8,     22,     22,2,19991015,1357, 22.7478,-157.9973, 4724,    150.2,  21.3518,  35.2023,2,  35.2028,2,    193.9,1,   -999.0,9,  -999.00,9,  -999.00,9,  -999.00,9,    151,-999.000,  -999.0, 21.3227
     33KI108_1,  PRS2,     2,  8,     19,     19,2,19991015,1357, 22.7478,-157.9973, 4724,    150.2,  21.3560,  35.2026,2,  35.2026,2,    194.9,1,   -999.0,9,  -999.00,9,  -999.00,9,  -999.00,9,    151,-999.000,  -999.0, 21.3269
     33KI108_1,  PRS2,     2,  8,     18,     18,2,19991015,1357, 22.7478,-157.9973, 4724,    150.2,  21.3580,  35.2023,2,  35.2018,2,    195.1,1,   -999.0,9,  -999.00,9,  -999.00,9,  -999.00,9,    151,-999.000,  -999.0, 21.3289
     33KI108_1,  PRS2,     2,  8,     11,     11,2,19991015,1357, 22.7478,-157.9973, 4724,    150.2,  21.3594,  35.2026,2,  35.2020,2,    195.5,1,   -999.0,9,  -999.00,9,  -999.00,9,  -999.00,9,    150,-999.000,  -999.0, 21.3302
     33KI108_1,  PRS2,     2,  8,      8,     29,2,19991015,1357, 22.7478,-157.9973, 4724,    150.2,  21.3592,  35.2028,2,  35.2021,2,    195.6,1,   -999.0,9,  -999.00,9,  -999.00,9,  -999.00,9,    151,-999.000,  -999.0, 21.3301
     33KI108_1,  PRS2,     2,  8,     21,     21,2,19991015,1357, 22.7478,-157.9973, 4724,    150.3,  21.3509,  35.2024,2,  35.2024,2,    194.2,1,   -999.0,9,  -999.00,9,  -999.00,9,  -999.00,9,    151,-999.000,  -999.0, 21.3218
     33KI108_1,  PRS2,     2,  8,     20,     20,2,19991015,1357, 22.7478,-157.9973, 4724,    150.3,  21.3538,  35.2025,2,  35.2028,2,    194.5,1,   -999.0,9,  -999.00,9,  -999.00,9,  -999.00,9,    150,-999.000,  -999.0, 21.3247
     33KI108_1,  PRS2,     2,  8,     17,     17,2,19991015,1357, 22.7478,-157.9973, 4724,    150.3,  21.3563,  35.2023,2,  35.2021,2,    195.4,1,   -999.0,9,  -999.00,9,  -999.00,9,  -999.00,9,    151,-999.000,  -999.0, 21.3272
     33KI108_1,  PRS2,     2,  8,     15,     15,2,19991015,1357, 22.7478,-157.9973, 4724,    150.3,  21.3567,  35.2024,2,  35.2021,2,    195.5,1,   -999.0,9,  -999.00,9,  -999.00,9,  -999.00,9,    150,-999.000,  -999.0, 21.3276
     33KI108_1,  PRS2,     2,  8,      9,      3,2,19991015,1357, 22.7478,-157.9973, 4724,    150.4,  21.3585,  35.2026,2,  35.2025,2,    195.6,1,   -999.0,9,  -999.00,9,  -999.00,9,  -999.00,9,    151,-999.000,  -999.0, 21.3294
     33KI108_1,  PRS2,     2,  8,     10,     32,2,19991015,1357, 22.7478,-157.9973, 4724,    150.5,  21.3584,  35.2027,2,  35.2024,2,    195.6,1,   -999.0,9,  -999.00,9,  -999.00,9,  -999.00,9,    149,-999.000,  -999.0, 21.3292
     33KI108_1,  PRS2,     2,  8,     16,     16,2,19991015,1357, 22.7478,-157.9973, 4724,    150.6,  21.3543,  35.2024,2,  35.2109,2,    195.5,1,   -999.0,9,  -999.00,9,  -999.00,9,  -999.00,9,    150,-999.000,  -999.0, 21.3251
     33KI108_1,  PRS2,     2,  8,      7,     28,2,19991015,1357, 22.7478,-157.9973, 4724,    150.6,  21.3582,  35.2025,2,  35.2020,2,    195.6,1,   -999.0,9,  -999.00,9,  -999.00,9,  -999.00,9,    151,-999.000,  -999.0, 21.3290
     33KI108_1,  PRS2,     2,  8,      3,     35,2,19991015,1357, 22.7478,-157.9973, 4724,    150.7,  21.3611,  35.2028,2,  35.2032,2,    195.9,1,   -999.0,9,  -999.00,9,  -999.00,9,  -999.00,9,    151,-999.000,  -999.0, 21.3319
     33KI108_1,  PRS2,     2,  8,      4,     36,2,19991015,1357, 22.7478,-157.9973, 4724,    150.8,  21.3609,  35.2028,2,  35.2036,2,    195.7,1,   -999.0,9,  -999.00,9,  -999.00,9,  -999.00,9,    151,-999.000,  -999.0, 21.3316
     33KI108_1,  PRS2,     2,  8,      6,      7,2,19991015,1357, 22.7478,-157.9973, 4724,    151.0,  21.3577,  35.2027,2,  35.2034,2,    195.6,1,   -999.0,9,  -999.00,9,  -999.00,9,  -999.00,9,    151,-999.000,  -999.0, 21.3284
     33KI108_1,  PRS2,     2,  8,      5,     38,2,19991015,1357, 22.7478,-157.9973, 4724,    151.0,  21.3589,  35.2029,2,  35.2014,2,    195.7,1,   -999.0,9,  -999.00,9,  -999.00,9,  -999.00,9,    151,-999.000,  -999.0, 21.3296
     33KI108_1,  PRS2,     2,  8,      2,     34,2,19991015,1357, 22.7478,-157.9973, 4724,    750.0,   5.0183,  34.2513,2,  34.2503,2,     30.0,1,   -999.0,9,  -999.00,9,  -999.00,9,  -999.00,9,    750,-999.000,  -999.0,  4.9573
     33KI108_1,  PRS2,     2,  8,      1,     33,2,19991015,1357, 22.7478,-157.9973, 4724,   1020.9,   4.0102,  34.4608,2,  34.4618,2,     40.6,1,   -999.0,9,  -999.00,9,  -999.00,9,  -999.00,9,   1021,-999.000,  -999.0,  3.9328
     33KI108_1,  PRS2,     2,  9,     11,     11,2,19991015,1658, 22.7490,-158.0000, 4725,      4.9,  25.6123,  35.1001,2,  35.0994,2,    206.8,1,   -999.0,9,  -999.00,9,  -999.00,9,  -999.00,9,      5,-999.000,  -999.0, 25.6112
     33KI108_1,  PRS2,     2,  9,     10,     32,2,19991015,1658, 22.7490,-158.0000, 4725,     14.9,  25.6090,  35.1001,2,  35.1043,2,    207.9,1,   -999.0,9,  -999.00,9,  -999.00,9,  -999.00,9,     15,-999.000,  -999.0, 25.6058
     33KI108_1,  PRS2,     2,  9,      9,      3,2,19991015,1658, 22.7490,-158.0000, 4725,     24.7,  25.6098,  35.0993,2,  35.1268,4,    207.9,1,   -999.0,9,  -999.00,9,  -999.00,9,  -999.00,9,     25,-999.000,  -999.0, 25.6043
     33KI108_1,  PRS2,     2,  9,      8,     29,2,19991015,1658, 22.7490,-158.0000, 4725,     44.8,  25.6104,  35.1024,2,  35.1391,4,    208.0,1,   -999.0,9,  -999.00,9,  -999.00,9,  -999.00,9,     44,-999.000,  -999.0, 25.6005
     33KI108_1,  PRS2,     2,  9,      7,     28,2,19991015,1658, 22.7490,-158.0000, 4725,     74.7,  25.6036,  35.1019,2,  35.1049,2,    208.1,1,   -999.0,9,  -999.00,9,  -999.00,9,  -999.00,9,     75,-999.000,  -999.0, 25.5871
     33KI108_1,  PRS2,     2,  9,      6,      7,2,19991015,1658, 22.7490,-158.0000, 4725,    100.2,  24.5760,  35.2326,2,  35.2207,3,    213.6,1,   -999.0,9,  -999.00,9,  -999.00,9,  -999.00,9,    100,-999.000,  -999.0, 24.5545
     33KI108_1,  PRS2,     2,  9,      5,     38,2,19991015,1658, 22.7490,-158.0000, 4725,    124.6,  22.9838,  35.2948,2,  35.2942,2,    214.1,1,   -999.0,9,  -999.00,9,  -999.00,9,  -999.00,9,    125,-999.000,  -999.0, 22.9583
     33KI108_1,  PRS2,     2,  9,      4,     36,2,19991015,1658, 22.7490,-158.0000, 4725,    150.0,  21.7997,  35.2278,2,  35.2316,2,    196.7,1,   -999.0,9,  -999.00,9,  -999.00,9,  -999.00,9,    150,-999.000,  -999.0, 21.7702
     33KI108_1,  PRS2,     2,  9,      3,     35,2,19991015,1658, 22.7490,-158.0000, 4725,    175.5,  21.2580,  35.2297,2,  35.2407,2,    195.6,1,   -999.0,9,  -999.00,9,  -999.00,9,  -999.00,9,    176,-999.000,  -999.0, 21.2241
     33KI108_1,  PRS2,     2,  9,      2,     34,2,19991015,1658, 22.7490,-158.0000, 4725,    523.5,   7.0832,  34.0454,2,  34.0445,2,    119.4,1,   -999.0,9,  -999.00,9,  -999.00,9,  -999.00,9,    524,-999.000,  -999.0,  7.0334
     33KI108_1,  PRS2,     2,  9,      1,     33,2,19991015,1658, 22.7490,-158.0000, 4725,   1019.5,   3.8921,  34.4665,2,  34.4672,2,     41.7,1,   -999.0,9,  -999.00,9,  -999.00,9,  -999.00,9,   1020,-999.000,  -999.0,  3.8158
     33KI108_1,  PRS2,     2, 10,     12,     12,2,19991015,2000, 22.7475,-158.0100, 4723,      4.7,  25.7343,  35.0965,2,  35.0981,2,    205.7,1,   -999.0,9,  -999.00,9,  -999.00,9,  -999.00,9,      5,-999.000,  -999.0, 25.7333
     33KI108_1,  PRS2,     2, 10,     11,     11,2,19991015,2000, 22.7475,-158.0100, 4723,     25.0,  25.6111,  35.0938,2,  35.0950,2,    207.3,1,   -999.0,9,  -999.00,9,  -999.00,9,  -999.00,9,     25,-999.000,  -999.0, 25.6056
     33KI108_1,  PRS2,     2, 10,     10,     32,2,19991015,2000, 22.7475,-158.0100, 4723,     44.8,  25.6112,  35.0983,2,  35.1009,2,    207.9,1,   -999.0,9,  -999.00,9,  -999.00,9,  -999.00,9,     46,-999.000,  -999.0, 25.6013
     33KI108_1,  PRS2,     2, 10,      9,      3,2,19991015,2000, 22.7475,-158.0100, 4723,     75.3,  25.5544,  35.1007,2,  35.1018,2,    207.9,1,   -999.0,9,  -999.00,9,  -999.00,9,  -999.00,9,     76,-999.000,  -999.0, 25.5379
     33KI108_1,  PRS2,     2, 10,      8,     29,2,19991015,2000, 22.7475,-158.0100, 4723,    100.1,  23.9931,  35.2534,2,  35.2563,2,    213.5,1,   -999.0,9,  -999.00,9,  -999.00,9,  -999.00,9,    100,-999.000,  -999.0, 23.9720
     33KI108_1,  PRS2,     2, 10,      7,     28,2,19991015,2000, 22.7475,-158.0100, 4723,    124.2,  22.5667,  35.2905,2,  35.2934,2,    211.9,1,   -999.0,9,  -999.00,9,  -999.00,9,  -999.00,9,    124,-999.000,  -999.0, 22.5417
     33KI108_1,  PRS2,     2, 10,      6,      7,2,19991015,2000, 22.7475,-158.0100, 4723,    149.1,  21.5929,  35.2128,2,  35.2122,2,    192.2,1,   -999.0,9,  -999.00,9,  -999.00,9,  -999.00,9,    149,-999.000,  -999.0, 21.5638
     33KI108_1,  PRS2,     2, 10,      5,     38,2,19991015,2000, 22.7475,-158.0100, 4723,    173.2,  20.9774,  35.2444,2,  35.2484,2,    197.2,1,   -999.0,9,  -999.00,9,  -999.00,9,  -999.00,9,    174,-999.000,  -999.0, 20.9442
     33KI108_1,  PRS2,     2, 10,      4,     36,2,19991015,2000, 22.7475,-158.0100, 4723,    250.3,  16.3074,  34.6725,2,  34.6845,2,    204.3,1,   -999.0,9,  -999.00,9,  -999.00,9,  -999.00,9,    250,-999.000,  -999.0, 16.2673
     33KI108_1,  PRS2,     2, 10,      3,     35,2,19991015,2000, 22.7475,-158.0100, 4723,    500.6,   7.7808,  34.0455,2,  34.0468,2,    150.2,1,   -999.0,9,  -999.00,9,  -999.00,9,  -999.00,9,    500,-999.000,  -999.0,  7.7306
     33KI108_1,  PRS2,     2, 10,      2,     34,2,19991015,2000, 22.7475,-158.0100, 4723,    750.9,   4.9949,  34.2585,2,  34.2582,2,     31.6,1,   -999.0,9,  -999.00,9,  -999.00,9,  -999.00,9,    752,-999.000,  -999.0,  4.9341
     33KI108_1,  PRS2,     2, 10,      1,     33,2,19991015,2000, 22.7475,-158.0100, 4723,   1020.1,   3.8463,  34.4668,2,  34.4742,3,     41.8,1,   -999.0,9,  -999.00,9,  -999.00,9,  -999.00,9,   1021,-999.000,  -999.0,  3.7702
     33KI108_1,  PRS2,     2, 11,      5,     38,2,19991015,2255, 22.7352,-158.0020, 4724,      4.4,  25.9519,  35.1034,2,  35.1016,2,    206.8,1,   -999.0,9,  -999.00,9,  -999.00,9,  -999.00,9,      5,-999.000,  -999.0, 25.9510
     33KI108_1,  PRS2,     2, 11,      4,     36,2,19991015,2255, 22.7352,-158.0020, 4724,    151.1,  21.2744,  35.2572,2,  35.2524,2,    197.9,1,   -999.0,9,  -999.00,9,  -999.00,9,  -999.00,9,    151,-999.000,  -999.0, 21.2451
     33KI108_1,  PRS2,     2, 11,      3,     35,2,19991015,2255, 22.7352,-158.0020, 4724,    521.4,   7.3696,  34.0426,2,  34.0411,2,    131.6,1,   -999.0,9,  -999.00,9,  -999.00,9,  -999.00,9,    521,-999.000,  -999.0,  7.3189
     33KI108_1,  PRS2,     2, 11,      2,     34,2,19991015,2255, 22.7352,-158.0020, 4724,    749.3,   5.0009,  34.2578,2,  34.2549,2,     28.5,1,   -999.0,9,  -999.00,9,  -999.00,9,  -999.00,9,    749,-999.000,  -999.0,  4.9402
     33KI108_1,  PRS2,     2, 11,      1,     33,2,19991015,2255, 22.7352,-158.0020, 4724,   1021.1,   3.9667,  34.4707,2,  34.4716,2,     42.1,1,   -999.0,9,  -999.00,9,  -999.00,9,  -999.00,9,   1022,-999.000,  -999.0,  3.8896
     33KI108_1,  PRS2,     2, 12,     24,     31,2,19991016,0157, 22.7067,-157.9823, 4724,      4.6,  25.9130,  35.1107,2,  35.1541,4,    207.4,1,   -999.0,9,  -999.00,9,  -999.00,9,  -999.00,9,      5,-999.000,  -999.0, 25.9120
     33KI108_1,  PRS2,     2, 12,     23,     30,2,19991016,0157, 22.7067,-157.9823, 4724,     45.5,  25.6020,  35.1017,2,  35.1012,2,    208.5,1,   -999.0,9,  -999.00,9,  -999.00,9,  -999.00,9,     45,-999.000,  -999.0, 25.5920
     33KI108_1,  PRS2,     2, 12,     22,     22,2,19991016,0157, 22.7067,-157.9823, 4724,     75.6,  24.5104,  35.2358,2,  35.2554,4,    214.1,1,   -999.0,9,  -999.00,9,  -999.00,9,  -999.00,9,     76,-999.000,  -999.0, 24.4942
     33KI108_1,  PRS2,     2, 12,     21,     21,2,19991016,0157, 22.7067,-157.9823, 4724,    100.8,  22.7964,  35.2961,2,  35.2948,2,    213.1,1,   -999.0,9,  -999.00,9,  -999.00,9,  -999.00,9,    101,-999.000,  -999.0, 22.7759
     33KI108_1,  PRS2,     2, 12,     20,     20,2,19991016,0157, 22.7067,-157.9823, 4724,    125.5,  21.6760,  35.2254,2,  35.2220,2,    190.6,1,   -999.0,9,  -999.00,9,  -999.00,9,  -999.00,9,    125,-999.000,  -999.0, 21.6514
     33KI108_1,  PRS2,     2, 12,     19,     19,2,19991016,0157, 22.7067,-157.9823, 4724,    149.0,  21.3589,  35.2573,2,  35.2544,2,    198.5,1,   -999.0,9,  -999.00,9,  -999.00,9,  -999.00,9,    148,-999.000,  -999.0, 21.3300
     33KI108_1,  PRS2,     2, 12,     18,     18,2,19991016,0157, 22.7067,-157.9823, 4724,    174.2,  20.6569,  35.2188,2,  35.2183,2,    196.6,1,   -999.0,9,  -999.00,9,  -999.00,9,  -999.00,9,    174,-999.000,  -999.0, 20.6239
     33KI108_1,  PRS2,     2, 12,     17,     17,2,19991016,0157, 22.7067,-157.9823, 4724,    199.3,  19.2371,  35.0493,2,  35.0680,2,    195.9,1,   -999.0,9,  -999.00,9,  -999.00,9,  -999.00,9,    199,-999.000,  -999.0, 19.2012
     33KI108_1,  PRS2,     2, 12,     16,     16,2,19991016,0157, 22.7067,-157.9823, 4724,    223.8,  17.6668,  34.8390,2,  34.8371,2,    193.7,1,   -999.0,9,  -999.00,9,  -999.00,9,  -999.00,9,    225,-999.000,  -999.0, 17.6288
     33KI108_1,  PRS2,     2, 12,     15,     15,2,19991016,0157, 22.7067,-157.9823, 4724,    248.7,  16.5866,  34.7152,2,  34.7139,2,    206.7,1,   -999.0,9,  -999.00,9,  -999.00,9,  -999.00,9,    250,-999.000,  -999.0, 16.5462
     33KI108_1,  PRS2,     2, 12,     14,     14,2,19991016,0157, 22.7067,-157.9823, 4724,    275.0,  15.0264,  34.4979,2,  34.4937,2,    201.4,1,   -999.0,9,  -999.00,9,  -999.00,9,  -999.00,9,    275,-999.000,  -999.0, 14.9848
     33KI108_1,  PRS2,     2, 12,     13,     13,2,19991016,0157, 22.7067,-157.9823, 4724,    299.6,  13.5272,  34.3339,2,  34.3348,2,    203.5,1,   -999.0,9,  -999.00,9,  -999.00,9,  -999.00,9,    299,-999.000,  -999.0, 13.4850
     33KI108_1,  PRS2,     2, 12,     12,     12,2,19991016,0157, 22.7067,-157.9823, 4724,    350.8,  11.6689,  34.2506,2,  34.2500,2,    209.9,1,   -999.0,9,  -999.00,9,  -999.00,9,  -999.00,9,    352,-999.000,  -999.0, 11.6240
     33KI108_1,  PRS2,     2, 12,     11,     11,2,19991016,0157, 22.7067,-157.9823, 4724,    399.9,   9.9611,  34.1102,2,  34.1111,2,    172.9,1,   -999.0,9,  -999.00,9,  -999.00,9,  -999.00,9,    400,-999.000,  -999.0,  9.9149
     33KI108_1,  PRS2,     2, 12,     10,     32,2,19991016,0157, 22.7067,-157.9823, 4724,    450.1,   8.6071,  34.0714,2,  34.3527,4,    170.8,1,   -999.0,9,  -999.00,9,  -999.00,9,  -999.00,9,    450,-999.000,  -999.0,  8.5594
     33KI108_1,  PRS2,     2, 12,      9,      3,2,19991016,0157, 22.7067,-157.9823, 4724,    499.9,   7.5542,  34.0430,2,  34.0418,2,    143.4,1,   -999.0,9,  -999.00,9,  -999.00,9,  -999.00,9,    500,-999.000,  -999.0,  7.5050
     33KI108_1,  PRS2,     2, 12,      8,     29,2,19991016,0157, 22.7067,-157.9823, 4724,    550.4,   6.6702,  34.0573,2,  34.0562,2,    102.7,1,   -999.0,9,  -999.00,9,  -999.00,9,  -999.00,9,    550,-999.000,  -999.0,  6.6195
     33KI108_1,  PRS2,     2, 12,      7,     28,2,19991016,0157, 22.7067,-157.9823, 4724,    600.9,   6.0976,  34.1053,2,  34.1049,2,     74.7,1,   -999.0,9,  -999.00,9,  -999.00,9,  -999.00,9,    601,-999.000,  -999.0,  6.0446
     33KI108_1,  PRS2,     2, 12,      6,      7,2,19991016,0157, 22.7067,-157.9823, 4724,    700.2,   5.3541,  34.1876,2,  34.1866,2,     40.7,1,   -999.0,9,  -999.00,9,  -999.00,9,  -999.00,9,    701,-999.000,  -999.0,  5.2958
     33KI108_1,  PRS2,     2, 12,      5,     38,2,19991016,0157, 22.7067,-157.9823, 4724,    751.1,   5.0919,  34.2302,2,  34.2306,2,     36.6,1,   -999.0,9,  -999.00,9,  -999.00,9,  -999.00,9,    752,-999.000,  -999.0,  5.0305
     33KI108_1,  PRS2,     2, 12,      4,     36,2,19991016,0157, 22.7067,-157.9823, 4724,    800.8,   4.9877,  34.3491,2,  34.3475,2,     31.8,1,   -999.0,9,  -999.00,9,  -999.00,9,  -999.00,9,    801,-999.000,  -999.0,  4.9224
     33KI108_1,  PRS2,     2, 12,      3,     35,2,19991016,0157, 22.7067,-157.9823, 4724,    901.2,   4.3365,  34.3794,2,  34.3799,2,     31.8,1,   -999.0,9,  -999.00,9,  -999.00,9,  -999.00,9,    902,-999.000,  -999.0,  4.2668
     33KI108_1,  PRS2,     2, 12,      1,     33,2,19991016,0157, 22.7067,-157.9823, 4724,   1020.2,   3.9148,  34.4736,2,  34.4730,2,     43.6,1,   -999.0,9,  -999.00,9,  -999.00,9,  -999.00,9,   1020,-999.000,  -999.0,  3.8381
     33KI108_1,  PRS2,     2, 12,      2,     34,2,19991016,0157, 22.7067,-157.9823, 4724,   1020.5,   3.9152,  34.4732,2,  34.4744,2,     43.5,1,   -999.0,9,  -999.00,9,  -999.00,9,  -999.00,9,   1020,-999.000,  -999.0,  3.8386