BOTTLE,20020809WHPSIObren
#code : jjward hyd_to_exchange.pl 
#original files copied from HTML directory: 20020809
#original HYD file: /whpo/11/HOTS/BOTTLE/hot108/hot108.sea   Fri Aug  9 09:51:26 2002
#original SUM file: /whpo/11/HOTS/BOTTLE/hot108/hot108.sum   Fri Aug  9 13:30:31 2002
EXPOCODE,SECT_ID,STNNBR,CASTNO,SAMPNO,BTLNBR,BTLNBR_FLAG_W,DATE,TIME,LATITUDE,LONGITUDE,DEPTH,CTDPRS,CTDTMP,CTDSAL,CTDSAL_FLAG_W,SALNTY,SALNTY_FLAG_W,CTDOXY,CTDOXY_FLAG_W,OXYGEN,OXYGEN_FLAG_W,SILCAT,SILCAT_FLAG_W,NO2+NO3,NO2+NO3_FLAG_W,PHSPHT,PHSPHT_FLAG_W,CTDRAW,REVTMP,REVPRS,THETA
,,,,,,,,,,,,DBAR,ITS-90,PSS-78,,PSS-78,,UMOL/KG,,UMOL/KG,,UMOL/KG,,UMOL/KG,,UMOL/KG,,,DEG C,DBAR,ITS-90
     33KI108_1,  PRS2,     1,  1,     24,     31,2,19991014,0030, 21.3417,-158.2742, 1504,      5.0,  26.4163,  34.9844,2,  34.9825,2,    204.1,2,    204.7,2,  -999.00,5,  -999.00,5,  -999.00,5,      5,-999.000,  -999.0, 26.4152
     33KI108_1,  PRS2,     1,  1,     23,     30,2,19991014,0030, 21.3417,-158.2742, 1504,      5.0,  26.4132,  34.9841,2,  35.0094,4,    204.2,3,    204.5,2,     1.11,2,     0.00,2,     0.12,2,      5,-999.000,  -999.0, 26.4120
     33KI108_1,  PRS2,     1,  1,     22,     22,2,19991014,0030, 21.3417,-158.2742, 1504,     24.9,  26.1620,  34.9765,2,  34.9795,2,    204.6,2,    204.7,2,     1.11,2,    -0.01,2,     0.15,2,     25,-999.000,  -999.0, 26.1564
     33KI108_1,  PRS2,     1,  1,     21,     21,2,19991014,0030, 21.3417,-158.2742, 1504,     44.4,  26.1514,  34.9760,2,  34.9753,2,    205.8,2,    204.8,2,     1.55,2,    -0.01,2,     0.13,2,     45,-999.000,  -999.0, 26.1414
     33KI108_1,  PRS2,     1,  1,     20,     20,2,19991014,0030, 21.3417,-158.2742, 1504,     59.3,  26.0497,  34.9764,2,  34.9813,2,    206.8,2,    206.6,2,     1.26,2,    -0.01,2,     0.12,2,     59,-999.000,  -999.0, 26.0364
     33KI108_1,  PRS2,     1,  1,     19,     19,2,19991014,0030, 21.3417,-158.2742, 1504,     74.6,  24.5235,  35.1088,2,  35.1219,2,    210.6,2,    211.4,2,     1.35,2,    -0.01,2,     0.10,2,     74,-999.000,  -999.0, 24.5075
     33KI108_1,  PRS2,     1,  1,     18,     18,2,19991014,0030, 21.3417,-158.2742, 1504,     95.7,  23.3192,  35.1866,2,  35.1871,2,    206.7,2,    204.8,2,     1.44,2,     0.13,2,     0.17,2,     95,-999.000,  -999.0, 23.2994
     33KI108_1,  PRS2,     1,  1,     17,     17,2,19991014,0030, 21.3417,-158.2742, 1504,    105.5,  22.7775,  35.1713,2,  35.1758,2,    199.3,2,    201.4,2,     2.03,2,     0.38,2,     0.19,2,    105,-999.000,  -999.0, 22.7561
     33KI108_1,  PRS2,     1,  1,     16,     16,2,19991014,0030, 21.3417,-158.2742, 1504,    115.1,  22.1221,  35.1776,2,  35.1761,2,    193.9,2,    194.3,2,     1.73,2,     0.89,2,     0.21,2,    116,-999.000,  -999.0, 22.0993
     33KI108_1,  PRS2,     1,  1,     15,     15,2,19991014,0030, 21.3417,-158.2742, 1504,    124.8,  21.6404,  35.2117,2,  35.2154,2,    194.2,2,    196.2,2,     1.82,2,     0.94,2,     0.21,2,    125,-999.000,  -999.0, 21.6160
     33KI108_1,  PRS2,     1,  1,     14,     14,2,19991014,0030, 21.3417,-158.2742, 1504,    150.1,  20.3260,  35.1084,2,  35.1218,2,    191.7,2,    188.6,2,     2.35,2,     2.10,2,     0.30,2,    150,-999.000,  -999.0, 20.2980
     33KI108_1,  PRS2,     1,  1,     13,     13,2,19991014,0030, 21.3417,-158.2742, 1504,    174.7,  19.4676,  35.0306,2,  35.0384,2,    189.7,2,    189.8,2,     2.85,2,     2.73,2,     0.32,2,    175,-999.000,  -999.0, 19.4359
     33KI108_1,  PRS2,     1,  1,     12,     12,2,19991014,0030, 21.3417,-158.2742, 1504,    199.6,  18.3867,  34.9258,2,  34.9252,2,    192.5,2,    192.2,2,     3.65,2,     3.51,2,     0.38,2,    200,-999.000,  -999.0, 18.3519
     33KI108_1,  PRS2,     1,  1,     11,     11,2,19991014,0030, 21.3417,-158.2742, 1504,    224.0,  17.4522,  34.8158,2,  34.8168,2,    193.0,2,    191.1,2,     4.72,2,     4.43,2,     0.43,2,    224,-999.000,  -999.0, 17.4146
     33KI108_1,  PRS2,     1,  1,     10,     32,2,19991014,0030, 21.3417,-158.2742, 1504,    250.5,  15.8261,  34.6372,2,  34.6406,2,    191.6,2,    193.1,2,     6.37,2,     6.11,2,     0.54,2,    251,-999.000,  -999.0, 15.7868
     33KI108_1,  PRS2,     1,  1,      9,      3,2,19991014,0030, 21.3417,-158.2742, 1504,    273.8,  14.9200,  34.5425,2,  34.5457,2,    193.6,2,    193.1,2,  -999.00,5,  -999.00,5,  -999.00,5,    274,-999.000,  -999.0, 14.8787
     33KI108_1,  PRS2,     1,  1,      8,     29,2,19991014,0030, 21.3417,-158.2742, 1504,    300.5,  13.0987,  34.3793,2,  34.3794,2,    191.3,2,    192.4,2,    11.34,2,    10.25,2,     0.81,2,    300,-999.000,  -999.0, 13.0573
     33KI108_1,  PRS2,     1,  1,      7,     28,2,19991014,0030, 21.3417,-158.2742, 1504,    399.5,   8.7921,  34.1266,2,  34.1261,2,    147.2,2,    149.1,2,    33.09,2,    22.13,2,     1.63,2,    400,-999.000,  -999.0,  8.7493
     33KI108_1,  PRS2,     1,  1,      6,      7,2,19991014,0030, 21.3417,-158.2742, 1504,    499.1,   6.9193,  34.1173,2,  34.1173,2,     95.4,2,     92.3,2,    53.43,2,    30.81,2,     2.32,2,    499,-999.000,  -999.0,  6.8725
     33KI108_1,  PRS2,     1,  1,      5,     38,2,19991014,0030, 21.3417,-158.2742, 1504,    600.0,   5.9313,  34.2256,2,  34.2240,2,     48.6,2,     46.7,2,  -999.00,5,  -999.00,5,  -999.00,5,    600,-999.000,  -999.0,  5.8790
     33KI108_1,  PRS2,     1,  1,      4,     36,2,19991014,0030, 21.3417,-158.2742, 1504,    699.3,   5.3069,  34.3115,2,  34.3109,2,     35.5,2,     35.9,2,    83.82,2,    38.76,2,     2.91,2,    699,-999.000,  -999.0,  5.2487
     33KI108_1,  PRS2,     1,  1,      3,     35,2,19991014,0030, 21.3417,-158.2742, 1504,    799.4,   5.0631,  34.4025,2,  34.4018,2,     34.4,2,     35.2,2,  -999.00,5,  -999.00,5,  -999.00,5,    799,-999.000,  -999.0,  4.9974
     33KI108_1,  PRS2,     1,  1,      2,     34,2,19991014,0030, 21.3417,-158.2742, 1504,    899.6,   4.7134,  34.4510,2,  34.4515,2,     37.1,2,     37.9,2,  -999.00,5,  -999.00,5,  -999.00,5,    900,-999.000,  -999.0,  4.6411
     33KI108_1,  PRS2,     1,  1,      1,     33,2,19991014,0030, 21.3417,-158.2742, 1504,   1020.4,   4.2733,  34.4968,2,  34.4954,2,     42.5,2,     43.1,2,   103.34,2,    40.84,2,     3.00,2,   1020,-999.000,  -999.0,  4.1938
     33KI108_1,  PRS2,     2,  1,     24,     31,2,19991014,1406, 22.7398,-158.0007, 4723,      4.8,  25.8039,  35.1924,2,  35.1930,2,    205.1,2,    205.1,2,     1.41,2,     0.00,2,     0.09,2,      5,-999.000,  -999.0, 25.8028
     33KI108_1,  PRS2,     2,  1,     23,     30,2,19991014,1406, 22.7398,-158.0007, 4723,    551.2,   6.5339,  34.0680,2,  34.0674,2,     94.8,2,     93.6,2,    55.12,2,    31.93,2,     2.25,2,    551,-999.000,  -999.0,  6.4837
     33KI108_1,  PRS2,     2,  1,     22,     22,2,19991014,1406, 22.7398,-158.0007, 4723,    851.3,   4.4341,  34.3732,2,  34.3729,2,     28.6,2,     30.6,2,   100.99,2,    41.06,2,     2.93,2,    850,-999.000,  -999.0,  4.3680
     33KI108_1,  PRS2,     2,  1,     21,     21,2,19991014,1406, 22.7398,-158.0007, 4723,   1001.9,   4.0167,  34.4624,2,  34.4612,2,     40.3,2,     40.0,2,   109.92,2,    41.30,2,     2.94,2,   1001,-999.000,  -999.0,  3.9408
     33KI108_1,  PRS2,     2,  1,     20,     20,2,19991014,1406, 22.7398,-158.0007, 4723,   1202.7,   3.5211,  34.5245,2,  34.5260,2,     53.1,2,     52.3,2,   119.68,2,    41.12,2,     2.93,2,   1203,-999.000,  -999.0,  3.4326
     33KI108_1,  PRS2,     2,  1,     19,     19,2,19991014,1406, 22.7398,-158.0007, 4723,   1400.2,   3.0386,  34.5567,2,  34.5571,2,     61.3,2,     62.0,2,   129.93,2,    40.78,2,     2.89,2,   1400,-999.000,  -999.0,  2.9386
     33KI108_1,  PRS2,     2,  1,     18,     18,2,19991014,1406, 22.7398,-158.0007, 4723,   1601.2,   2.6587,  34.5803,2,  34.5806,2,     70.2,2,     70.5,2,   138.94,2,    40.44,2,     2.87,2,   1601,-999.000,  -999.0,  2.5466
     33KI108_1,  PRS2,     2,  1,     17,     17,2,19991014,1406, 22.7398,-158.0007, 4723,   1800.3,   2.3806,  34.5993,2,  34.6002,2,     78.4,2,     78.0,2,   147.71,2,    40.21,2,     2.83,2,   1800,-999.000,  -999.0,  2.2554
     33KI108_1,  PRS2,     2,  1,     16,     16,2,19991014,1406, 22.7398,-158.0007, 4723,   2000.2,   2.1320,  34.6164,2,  34.6179,2,     85.2,2,     85.7,2,   151.64,2,    39.63,2,     2.78,2,   2000,-999.000,  -999.0,  1.9936
     33KI108_1,  PRS2,     2,  1,     15,     15,2,19991014,1406, 22.7398,-158.0007, 4723,   2202.0,   1.9634,  34.6306,2,  34.6311,2,     94.2,2,     93.9,2,   154.58,2,    39.17,2,     2.75,2,   2202,-999.000,  -999.0,  1.8103
     33KI108_1,  PRS2,     2,  1,     14,     14,2,19991014,1406, 22.7398,-158.0007, 4723,   2399.9,   1.8313,  34.6424,2,  34.6305,4,    100.2,3,    101.5,2,   157.63,2,    38.78,2,     2.71,2,   2400,-999.000,  -999.0,  1.6631
     33KI108_1,  PRS2,     2,  1,     13,     13,2,19991014,1406, 22.7398,-158.0007, 4723,   2600.4,   1.7250,  34.6522,2,  34.6527,2,    107.6,2,    109.0,2,   157.93,2,    38.41,2,     2.68,2,   2600,-999.000,  -999.0,  1.5408
     33KI108_1,  PRS2,     2,  1,     12,     12,2,19991014,1406, 22.7398,-158.0007, 4723,   2800.6,   1.6445,  34.6599,2,  34.6602,2,    116.1,2,    115.0,2,   158.59,2,    38.06,2,     2.66,2,   2801,-999.000,  -999.0,  1.4435
     33KI108_1,  PRS2,     2,  1,     11,     11,2,19991014,1406, 22.7398,-158.0007, 4723,   3000.8,   1.5866,  34.6665,2,  34.6665,2,    120.0,2,    121.5,2,   158.89,2,    37.55,2,     2.61,2,   3001,-999.000,  -999.0,  1.3679
     33KI108_1,  PRS2,     2,  1,     10,     32,2,19991014,1406, 22.7398,-158.0007, 4723,   3199.6,   1.5410,  34.6721,2,  34.6725,2,    126.5,2,    126.7,2,   158.96,2,    37.12,2,     2.59,2,   3200,-999.000,  -999.0,  1.3040
     33KI108_1,  PRS2,     2,  1,      9,      3,2,19991014,1406, 22.7398,-158.0007, 4723,   3400.6,   1.5091,  34.6765,2,  34.6766,2,    131.3,2,    132.6,2,   157.75,2,    36.91,2,     2.55,2,   3399,-999.000,  -999.0,  1.2529
     33KI108_1,  PRS2,     2,  1,      8,     29,2,19991014,1406, 22.7398,-158.0007, 4723,   3599.8,   1.4817,  34.6808,2,  34.6799,2,    137.1,2,    138.7,2,   155.80,2,    36.64,2,     2.53,2,   3599,-999.000,  -999.0,  1.2058
     33KI108_1,  PRS2,     2,  1,      7,     28,2,19991014,1406, 22.7398,-158.0007, 4723,   3799.0,   1.4678,  34.6837,2,  34.6834,2,    142.2,2,    142.9,2,   154.52,2,    36.60,2,     2.51,2,   3799,-999.000,  -999.0,  1.1714
     33KI108_1,  PRS2,     2,  1,      6,      7,2,19991014,1406, 22.7398,-158.0007, 4723,   4000.9,   1.4629,  34.6859,2,  34.6858,2,    146.6,2,    146.8,2,   151.98,2,    36.01,2,     2.50,2,   4001,-999.000,  -999.0,  1.1449
     33KI108_1,  PRS2,     2,  1,      5,     38,2,19991014,1406, 22.7398,-158.0007, 4723,   4200.3,   1.4659,  34.6875,2,  34.6875,2,    150.0,2,    149.6,2,   151.11,2,    35.76,2,     2.48,2,   4200,-999.000,  -999.0,  1.1259
     33KI108_1,  PRS2,     2,  1,      4,     36,2,19991014,1406, 22.7398,-158.0007, 4723,   4399.4,   1.4767,  34.6888,2,  34.6881,2,    152.3,2,    151.2,2,   149.27,2,    35.59,2,     2.48,2,   4400,-999.000,  -999.0,  1.1140
     33KI108_1,  PRS2,     2,  1,      3,     35,2,19991014,1406, 22.7398,-158.0007, 4723,   4500.2,   1.4861,  34.6889,2,  34.6881,2,    152.5,2,    151.6,2,   148.95,2,    35.89,3,     2.48,2,   4501,-999.000,  -999.0,  1.1116
     33KI108_1,  PRS2,     2,  1,      2,     34,2,19991014,1406, 22.7398,-158.0007, 4723,   4598.1,   1.4946,  34.6892,2,  34.6880,2,    153.6,2,    152.3,2,   150.05,3,    35.75,2,     2.50,3,   4598,-999.000,  -999.0,  1.1084
     33KI108_1,  PRS2,     2,  1,      1,     33,2,19991014,1406, 22.7398,-158.0007, 4723,   4800.1,   1.5022,  34.6906,2,  34.6899,2,    156.2,2,    156.2,2,   147.40,2,    35.68,2,     2.46,2,   4801,-999.000,  -999.0,  1.0920
     33KI108_1,  PRS2,     2,  2,     24,     31,2,19991014,1956, 22.7527,-158.0012, 4724,      4.3,  25.8145,  35.1719,2,  35.1739,2,    204.6,2,    205.9,2,     1.25,2,     0.00,2,     0.09,2,      4,-999.000,  -999.0, 25.8135
     33KI108_1,  PRS2,     2,  2,     23,     30,2,19991014,1956, 22.7527,-158.0012, 4724,     39.3,  25.7621,  35.1706,2,  35.1763,2,    206.3,2,    205.8,2,     1.23,2,     0.00,2,     0.13,2,     40,-999.000,  -999.0, 25.7534
     33KI108_1,  PRS2,     2,  2,     22,     22,2,19991014,1956, 22.7527,-158.0012, 4724,     79.8,  25.1632,  35.2037,2,  35.1996,2,    208.4,2,    211.1,2,     1.29,2,     0.00,2,     0.14,2,     80,-999.000,  -999.0, 25.1459
     33KI108_1,  PRS2,     2,  2,     21,     21,2,19991014,1956, 22.7527,-158.0012, 4724,     98.9,  23.7887,  35.2556,2,  35.2590,2,    212.4,2,    215.7,2,     1.36,2,     0.00,2,     0.10,2,    100,-999.000,  -999.0, 23.7680
     33KI108_1,  PRS2,     2,  2,     20,     20,2,19991014,1956, 22.7527,-158.0012, 4724,    137.0,  22.2299,  35.2273,2,  35.2305,2,    200.9,2,    204.4,2,     1.89,2,     0.47,2,     0.17,2,    137,-999.000,  -999.0, 22.2026
     33KI108_1,  PRS2,     2,  2,     19,     19,2,19991014,1956, 22.7527,-158.0012, 4724,    195.7,  19.5902,  35.1361,2,  35.1368,2,    194.1,2,    198.2,2,     3.44,2,     1.98,2,     0.21,2,    196,-999.000,  -999.0, 19.5545
     33KI108_1,  PRS2,     2,  2,     18,     18,2,19991014,1956, 22.7527,-158.0012, 4724,    224.8,  17.7727,  34.8567,2,  34.8545,2,    191.2,2,    194.2,2,     3.51,2,     3.57,2,     0.32,2,    226,-999.000,  -999.0, 17.7344
     33KI108_1,  PRS2,     2,  2,     17,     17,2,19991014,1956, 22.7527,-158.0012, 4724,    269.9,  15.8116,  34.5956,2,  34.6008,2,    202.5,2,    201.6,2,     4.60,2,     4.44,2,     0.40,2,    270,-999.000,  -999.0, 15.7693
     33KI108_1,  PRS2,     2,  2,     16,     16,2,19991014,1956, 22.7527,-158.0012, 4724,    299.9,  14.0767,  34.3866,2,  34.3869,2,    197.9,2,    201.8,2,     6.66,2,     6.83,2,     0.55,2,    300,-999.000,  -999.0, 14.0333
     33KI108_1,  PRS2,     2,  2,     15,     15,2,19991014,1956, 22.7527,-158.0012, 4724,    339.0,  12.1998,  34.2623,2,  34.2635,2,    208.6,2,    206.6,2,    10.02,2,    10.20,2,     0.79,2,    340,-999.000,  -999.0, 12.1551
     33KI108_1,  PRS2,     2,  2,     14,     14,2,19991014,1956, 22.7527,-158.0012, 4724,    399.8,  10.2517,  34.1189,2,  34.1223,2,    176.5,2,    175.1,2,    18.75,2,    17.13,2,     1.30,2,    400,-999.000,  -999.0, 10.2046
     33KI108_1,  PRS2,     2,  2,     13,     13,2,19991014,1956, 22.7527,-158.0012, 4724,    454.3,   8.7700,  34.0769,2,  34.0792,2,    163.5,2,    165.2,2,    27.63,2,    21.48,2,     1.55,2,    455,-999.000,  -999.0,  8.7213
     33KI108_1,  PRS2,     2,  2,     12,     12,2,19991014,1956, 22.7527,-158.0012, 4724,    518.8,   7.4567,  34.0436,2,  34.0434,2,    142.6,2,    138.6,2,    40.84,2,    26.56,2,     1.94,2,    519,-999.000,  -999.0,  7.4060
     33KI108_1,  PRS2,     2,  2,     11,     11,2,19991014,1956, 22.7527,-158.0012, 4724,    565.8,   6.6579,  34.0588,2,  34.0581,2,    101.3,2,     99.4,2,    52.89,2,    31.49,2,     2.31,2,    566,-999.000,  -999.0,  6.6058
     33KI108_1,  PRS2,     2,  2,     10,     32,2,19991014,1956, 22.7527,-158.0012, 4724,    613.0,   6.0987,  34.1116,2,  34.1103,2,     71.1,2,     70.1,2,    64.43,2,    34.95,2,     2.58,2,    613,-999.000,  -999.0,  6.0446
     33KI108_1,  PRS2,     2,  2,      9,      3,2,19991014,1956, 22.7527,-158.0012, 4724,    664.7,   5.6295,  34.1585,2,  34.1591,2,     54.9,2,     53.9,2,    74.43,2,    37.24,2,     2.75,2,    665,-999.000,  -999.0,  5.5729
     33KI108_1,  PRS2,     2,  2,      8,     29,2,19991014,1956, 22.7527,-158.0012, 4724,    690.2,   5.4087,  34.1897,2,  34.1904,2,     48.8,2,     44.7,2,    79.40,2,    38.68,2,     2.82,2,    691,-999.000,  -999.0,  5.3509
     33KI108_1,  PRS2,     2,  2,      7,     28,2,19991014,1956, 22.7527,-158.0012, 4724,    729.4,   5.0688,  34.2251,2,  34.2261,2,     34.0,2,     33.5,2,    86.92,2,    40.09,2,     2.94,2,    730,-999.000,  -999.0,  5.0094
     33KI108_1,  PRS2,     2,  2,      6,      7,2,19991014,1956, 22.7527,-158.0012, 4724,    761.0,   4.9771,  34.2772,2,  34.2740,2,     32.5,2,     31.3,2,    89.90,2,    40.38,2,     2.97,2,    761,-999.000,  -999.0,  4.9155
     33KI108_1,  PRS2,     2,  2,      5,     38,2,19991014,1956, 22.7527,-158.0012, 4724,    800.2,   4.9033,  34.3527,2,  34.3525,2,     33.3,2,     31.9,2,    92.08,2,    40.64,2,     2.99,2,    802,-999.000,  -999.0,  4.8386
     33KI108_1,  PRS2,     2,  2,      4,     36,2,19991014,1956, 22.7527,-158.0012, 4724,    865.3,   4.2732,  34.3718,2,  34.3711,2,     32.1,2,     30.2,2,   105.13,2,    41.56,2,     3.04,2,    866,-999.000,  -999.0,  4.2070
     33KI108_1,  PRS2,     2,  2,      3,     35,2,19991014,1956, 22.7527,-158.0012, 4724,    919.2,   4.1719,  34.4452,2,  34.4473,2,     38.8,2,     37.9,2,   106.48,2,    41.41,2,     3.02,2,    920,-999.000,  -999.0,  4.1018
     33KI108_1,  PRS2,     2,  2,      2,     34,2,19991014,1956, 22.7527,-158.0012, 4724,    980.0,   3.9944,  34.4669,2,  34.4674,2,     41.5,2,     41.0,2,   111.21,2,    41.48,2,     3.03,2,    980,-999.000,  -999.0,  3.9205
     33KI108_1,  PRS2,     2,  2,      1,     33,2,19991014,1956, 22.7527,-158.0012, 4724,   1023.0,   3.8990,  34.4809,2,  34.4808,2,     44.0,2,     42.9,2,   112.13,2,    41.42,2,     3.03,2,   1023,-999.000,  -999.0,  3.8222
     33KI108_1,  PRS2,     2,  3,     12,     12,2,19991014,2303, 22.7498,-158.0017, 4724,      4.7,  25.9105,  35.1702,2,  35.1734,2,    205.5,1,   -999.0,9,  -999.00,9,  -999.00,9,  -999.00,9,      5,-999.000,  -999.0, 25.9095
     33KI108_1,  PRS2,     2,  3,     11,     11,2,19991014,2303, 22.7498,-158.0017, 4724,     24.5,  25.7663,  35.1666,2,  35.1697,2,    205.5,1,   -999.0,9,  -999.00,9,  -999.00,9,  -999.00,9,     25,-999.000,  -999.0, 25.7609
     33KI108_1,  PRS2,     2,  3,     10,     32,2,19991014,2303, 22.7498,-158.0017, 4724,     44.7,  25.7574,  35.1657,2,  35.1690,2,    206.2,1,   -999.0,9,  -999.00,9,  -999.00,9,  -999.00,9,     45,-999.000,  -999.0, 25.7475
     33KI108_1,  PRS2,     2,  3,      9,      3,2,19991014,2303, 22.7498,-158.0017, 4724,     74.2,  25.7504,  35.1655,2,  35.1693,2,    206.6,1,   -999.0,9,  -999.00,9,  -999.00,9,  -999.00,9,     74,-999.000,  -999.0, 25.7339
     33KI108_1,  PRS2,     2,  3,      8,     29,2,19991014,2303, 22.7498,-158.0017, 4724,     98.9,  23.6132,  35.2600,2,  35.2303,4,    212.0,1,   -999.0,9,  -999.00,9,  -999.00,9,  -999.00,9,     99,-999.000,  -999.0, 23.5926
     33KI108_1,  PRS2,     2,  3,      7,     28,2,19991014,2303, 22.7498,-158.0017, 4724,    124.2,  22.4054,  35.2298,2,  35.2564,4,    197.0,1,   -999.0,9,  -999.00,9,  -999.00,9,  -999.00,9,    124,-999.000,  -999.0, 22.3805
     33KI108_1,  PRS2,     2,  3,      6,      7,2,19991014,2303, 22.7498,-158.0017, 4724,    149.7,  21.3573,  35.2411,2,  35.2419,2,    192.3,1,   -999.0,9,  -999.00,9,  -999.00,9,  -999.00,9,    150,-999.000,  -999.0, 21.3283
     33KI108_1,  PRS2,     2,  3,      5,     38,2,19991014,2303, 22.7498,-158.0017, 4724,    174.7,  20.5718,  35.2686,2,  35.2688,2,    202.8,1,   -999.0,9,  -999.00,9,  -999.00,9,  -999.00,9,    175,-999.000,  -999.0, 20.5388
     33KI108_1,  PRS2,     2,  3,      4,     36,2,19991014,2303, 22.7498,-158.0017, 4724,    249.4,  15.2142,  34.5168,2,  34.5223,2,    196.4,1,   -999.0,9,  -999.00,9,  -999.00,9,  -999.00,9,    249,-999.000,  -999.0, 15.1761
     33KI108_1,  PRS2,     2,  3,      3,     35,2,19991014,2303, 22.7498,-158.0017, 4724,    500.0,   7.8884,  34.0549,2,  34.0548,2,    157.9,1,   -999.0,9,  -999.00,9,  -999.00,9,  -999.00,9,    500,-999.000,  -999.0,  7.8380
     33KI108_1,  PRS2,     2,  3,      2,     34,2,19991014,2303, 22.7498,-158.0017, 4724,    749.2,   5.0943,  34.2317,2,  34.2310,2,     37.2,1,   -999.0,9,  -999.00,9,  -999.00,9,  -999.00,9,    750,-999.000,  -999.0,  5.0330
     33KI108_1,  PRS2,     2,  3,      1,     33,2,19991014,2303, 22.7498,-158.0017, 4724,   1023.1,   4.0542,  34.4673,2,  34.4667,2,     41.7,1,   -999.0,9,  -999.00,9,  -999.00,9,  -999.00,9,   1025,-999.000,  -999.0,  3.9762