BOTTLE,20090923WHPSIOMYS
EXPOCODE,SECT_ID,STNNBR,CASTNO,SAMPNO,BTLNBR,BTLNBR_FLAG_W,DATE,TIME,LATITUDE,LONGITUDE,DEPTH,CTDRAW,CTDPRS,CTDTMP,CTDSAL,CTDSAL_FLAG_W,SALNTY,SALNTY_FLAG_W,CTDOXY,CTDOXY_FLAG_W,THETA,OXYGEN,OXYGEN_FLAG_W,SILCAT,SILCAT_FLAG_W,NO2+NO3,NO2+NO3_FLAG_W,PHSPHT,PHSPHT_FLAG_W,REVPRS,REVTMP
,,,,,,,,,,,,,DBAR,ITS-90,PSS-78,,PSS-78,,UMOL/KG,,ITS-90,UMOL/KG,,UMOL/KG,,UMOL/KG,,UMOL/KG,,DBAR,DEG C
     33KI145_1,  PRS2,     2,  3,     19,     19,2,20030225,2057, 22.7607,-158.0155, 4724,      5,      4.2,  23.2942,  35.3219,2,-999.0000,5,    312.5,1, 23.2934,   -999.0,9,  -999.00,9,  -999.00,9,  -999.00,9,  -999.0,-999.000
     33KI145_1,  PRS2,     2,  3,     18,     18,2,20030225,2057, 22.7607,-158.0155, 4724,      5,      4.3,  23.2926,  35.3220,2,  35.3214,2,    312.7,1, 23.2917,   -999.0,9,  -999.00,9,  -999.00,9,  -999.00,9,  -999.0,-999.000
     33KI145_1,  PRS2,     2,  3,     16,     16,2,20030225,2057, 22.7607,-158.0155, 4724,     25,     23.9,  23.2694,  35.3212,2,  35.3206,2,    314.6,1, 23.2645,   -999.0,9,  -999.00,9,  -999.00,9,  -999.00,9,  -999.0,-999.000
     33KI145_1,  PRS2,     2,  3,     17,     17,2,20030225,2057, 22.7607,-158.0155, 4724,     24,     24.0,  23.2681,  35.3213,2,  35.3230,2,    314.6,1, 23.2632,   -999.0,9,  -999.00,9,  -999.00,9,  -999.00,9,  -999.0,-999.000
     33KI145_1,  PRS2,     2,  3,     15,     23,2,20030225,2057, 22.7607,-158.0155, 4724,     25,     24.0,  23.2680,  35.3213,2,  34.4883,4,    314.6,1, 23.2630,   -999.0,9,  -999.00,9,  -999.00,9,  -999.00,9,  -999.0,-999.000
     33KI145_1,  PRS2,     2,  3,     14,     40,2,20030225,2057, 22.7607,-158.0155, 4724,     45,     44.3,  23.0368,  35.3076,2,  35.3082,2,    314.5,1, 23.0277,   -999.0,9,  -999.00,9,  -999.00,9,  -999.00,9,  -999.0,-999.000
     33KI145_1,  PRS2,     2,  3,     13,     13,2,20030225,2057, 22.7607,-158.0155, 4724,     60,     58.9,  23.0066,  35.2988,2,  35.2978,2,    314.1,1, 22.9946,   -999.0,9,  -999.00,9,  -999.00,9,  -999.00,9,  -999.0,-999.000
     33KI145_1,  PRS2,     2,  3,     12,     12,2,20030225,2057, 22.7607,-158.0155, 4724,     75,     73.4,  22.9381,  35.2929,2,  35.2958,2,    314.8,1, 22.9231,   -999.0,9,  -999.00,9,  -999.00,9,  -999.00,9,  -999.0,-999.000
     33KI145_1,  PRS2,     2,  3,     11,     39,2,20030225,2057, 22.7607,-158.0155, 4724,     80,     79.2,  22.8977,  35.3038,2,  35.3009,2,    313.2,1, 22.8816,   -999.0,9,  -999.00,9,  -999.00,9,  -999.00,9,  -999.0,-999.000
     33KI145_1,  PRS2,     2,  3,     10,     32,2,20030225,2057, 22.7607,-158.0155, 4724,     86,     84.1,  22.8360,  35.3403,2,  35.3415,2,    307.7,1, 22.8189,   -999.0,9,  -999.00,9,  -999.00,9,  -999.00,9,  -999.0,-999.000
     33KI145_1,  PRS2,     2,  3,      9,      3,2,20030225,2057, 22.7607,-158.0155, 4724,     99,     99.1,  22.6451,  35.3365,2,  35.3364,2,    307.4,1, 22.6250,   -999.0,9,  -999.00,9,  -999.00,9,  -999.00,9,  -999.0,-999.000
     33KI145_1,  PRS2,     2,  3,      8,     29,2,20030225,2057, 22.7607,-158.0155, 4724,    114,    114.0,  22.2667,  35.3279,2,  35.3271,2,    302.7,1, 22.2440,   -999.0,9,  -999.00,9,  -999.00,9,  -999.00,9,  -999.0,-999.000
     33KI145_1,  PRS2,     2,  3,      7,     28,3,20030225,2057, 22.7607,-158.0155, 4724,    125,    123.3,  21.7489,  35.2860,2,  35.3066,4,    293.5,1, 21.7247,   -999.0,9,  -999.00,9,  -999.00,9,  -999.00,9,  -999.0,-999.000
     33KI145_1,  PRS2,     2,  3,      6,      7,2,20030225,2057, 22.7607,-158.0155, 4724,    152,    149.5,  20.6396,  35.1993,2,  35.2028,2,    282.2,1, 20.6114,   -999.0,9,  -999.00,9,  -999.00,9,  -999.00,9,  -999.0,-999.000
     33KI145_1,  PRS2,     2,  3,      5,     38,2,20030225,2057, 22.7607,-158.0155, 4724,    175,    174.2,  20.0317,  35.1483,2,  35.1561,2,    278.7,1, 19.9994,   -999.0,9,  -999.00,9,  -999.00,9,  -999.00,9,  -999.0,-999.000
     33KI145_1,  PRS2,     2,  3,      3,     35,2,20030225,2057, 22.7607,-158.0155, 4724,    199,    197.7,  19.1487,  35.0506,2,  35.0618,2,    276.0,1, 19.1133,   -999.0,9,  -999.00,9,  -999.00,9,  -999.00,9,  -999.0,-999.000
     33KI145_1,  PRS2,     2,  3,      4,     36,2,20030225,2057, 22.7607,-158.0155, 4724,    198,    198.2,  19.1330,  35.0488,2,  35.0551,2,    276.3,1, 19.0974,   -999.0,9,  -999.00,9,  -999.00,9,  -999.00,9,  -999.0,-999.000
     33KI145_1,  PRS2,     2,  3,      2,     34,2,20030225,2057, 22.7607,-158.0155, 4724,    501,    499.9,   7.1875,  34.0552,2,  34.0570,2,    127.9,1,  7.1396,   -999.0,9,  -999.00,9,  -999.00,9,  -999.00,9,  -999.0,-999.000
     33KI145_1,  PRS2,     2,  3,      1,     33,2,20030225,2057, 22.7607,-158.0155, 4724,   1024,   1022.9,   4.0163,  34.4898,2,  34.4989,4,     44.6,1,  3.9387,   -999.0,9,  -999.00,9,  -999.00,9,  -999.00,9,  -999.0,-999.000
     33KI145_1,  PRS2,     2,  4,     16,     16,2,20030225,2358, 22.7487,-157.9983, 4720,      5,      4.8,  23.3997,  35.3259,2,  35.3238,2,    313.8,1, 23.3987,   -999.0,9,  -999.00,9,  -999.00,9,  -999.00,9,  -999.0,-999.000
     33KI145_1,  PRS2,     2,  4,     15,     23,2,20030225,2358, 22.7487,-157.9983, 4720,     24,     23.6,  23.2740,  35.3202,2,  35.3181,2,    314.9,1, 23.2691,   -999.0,9,  -999.00,9,  -999.00,9,  -999.00,9,  -999.0,-999.000
     33KI145_1,  PRS2,     2,  4,     14,     40,2,20030225,2358, 22.7487,-157.9983, 4720,     45,     44.7,  22.9870,  35.3014,2,  35.3100,2,    315.1,1, 22.9779,   -999.0,9,  -999.00,9,  -999.00,9,  -999.00,9,  -999.0,-999.000
     33KI145_1,  PRS2,     2,  4,     13,     13,2,20030225,2358, 22.7487,-157.9983, 4720,     60,     59.9,  22.9715,  35.2995,2,  35.2974,2,    315.1,1, 22.9592,   -999.0,9,  -999.00,9,  -999.00,9,  -999.00,9,  -999.0,-999.000
     33KI145_1,  PRS2,     2,  4,     12,     12,2,20030225,2358, 22.7487,-157.9983, 4720,     73,     72.8,  22.9393,  35.2992,2,  35.2984,2,    314.7,1, 22.9244,   -999.0,9,  -999.00,9,  -999.00,9,  -999.00,9,  -999.0,-999.000
     33KI145_1,  PRS2,     2,  4,     11,     39,2,20030225,2358, 22.7487,-157.9983, 4720,    100,     99.3,  22.7428,  35.3330,2,  35.3374,2,    312.2,1, 22.7226,   -999.0,9,  -999.00,9,  -999.00,9,  -999.00,9,  -999.0,-999.000
     33KI145_1,  PRS2,     2,  4,     10,     32,3,20030225,2358, 22.7487,-157.9983, 4720,    124,    122.3,  22.4251,  35.3361,2,-999.0000,5,    306.1,1, 22.4005,   -999.0,9,  -999.00,9,  -999.00,9,  -999.00,9,  -999.0,-999.000
     33KI145_1,  PRS2,     2,  4,      9,      3,2,20030225,2358, 22.7487,-157.9983, 4720,    139,    138.4,  21.8831,  35.3114,2,  35.3161,2,    299.8,1, 21.8558,   -999.0,9,  -999.00,9,  -999.00,9,  -999.00,9,  -999.0,-999.000
     33KI145_1,  PRS2,     2,  4,      8,     29,2,20030225,2358, 22.7487,-157.9983, 4720,    150,    149.2,  21.6509,  35.2915,2,  35.3074,4,    295.6,1, 21.6217,   -999.0,9,  -999.00,9,  -999.00,9,  -999.00,9,  -999.0,-999.000
     33KI145_1,  PRS2,     2,  4,      7,     28,2,20030225,2358, 22.7487,-157.9983, 4720,    175,    174.5,  20.1470,  35.1601,2,  35.1616,2,    277.0,1, 20.1145,   -999.0,9,  -999.00,9,  -999.00,9,  -999.00,9,  -999.0,-999.000
     33KI145_1,  PRS2,     2,  4,      6,      7,2,20030225,2358, 22.7487,-157.9983, 4720,    200,    199.0,  19.4714,  35.0857,2,  35.0874,2,    273.8,1, 19.4352,   -999.0,9,  -999.00,9,  -999.00,9,  -999.00,9,  -999.0,-999.000
     33KI145_1,  PRS2,     2,  4,      5,     38,2,20030225,2358, 22.7487,-157.9983, 4720,    249,    248.6,  16.2579,  34.6349,2,  34.6431,2,    267.1,1, 16.2182,   -999.0,9,  -999.00,9,  -999.00,9,  -999.00,9,  -999.0,-999.000
     33KI145_1,  PRS2,     2,  4,      3,     35,2,20030225,2358, 22.7487,-157.9983, 4720,    350,    349.5,  11.3696,  34.1667,2,  34.1664,2,    243.8,1, 11.3257,   -999.0,9,  -999.00,9,  -999.00,9,  -999.00,9,  -999.0,-999.000
     33KI145_1,  PRS2,     2,  4,      4,     36,2,20030225,2358, 22.7487,-157.9983, 4720,    351,    349.6,  11.3696,  34.1666,2,  34.1822,3,    243.8,1, 11.3257,   -999.0,9,  -999.00,9,  -999.00,9,  -999.00,9,  -999.0,-999.000
     33KI145_1,  PRS2,     2,  4,      2,     34,2,20030225,2358, 22.7487,-157.9983, 4720,    498,    499.1,   7.6040,  34.0521,2,  34.0533,2,    148.4,1,  7.5547,   -999.0,9,  -999.00,9,  -999.00,9,  -999.00,9,  -999.0,-999.000
     33KI145_1,  PRS2,     2,  4,      1,     33,2,20030225,2358, 22.7487,-157.9983, 4720,   1032,   1029.9,   3.9314,  34.4999,2,  34.4993,2,     46.3,1,  3.8538,   -999.0,9,  -999.00,9,  -999.00,9,  -999.00,9,  -999.0,-999.000
     33KI145_1,  PRS2,     2,  5,     16,     16,3,20030226,0250, 22.7538,-158.0080, 4722,      5,      4.8,  23.3403,  35.3238,2,  35.3244,2,    315.2,1, 23.3393,   -999.0,9,  -999.00,9,  -999.00,9,  -999.00,9,  -999.0,-999.000
     33KI145_1,  PRS2,     2,  5,     15,     23,3,20030226,0250, 22.7538,-158.0080, 4722,     25,     24.0,  22.9809,  35.2982,2,  35.2972,2,    314.9,1, 22.9761,   -999.0,9,  -999.00,9,  -999.00,9,  -999.00,9,  -999.0,-999.000
     33KI145_1,  PRS2,     2,  5,     14,     40,2,20030226,0250, 22.7538,-158.0080, 4722,     40,     39.2,  22.9605,  35.3020,2,  35.3074,2,    314.6,1, 22.9525,   -999.0,9,  -999.00,9,  -999.00,9,  -999.00,9,  -999.0,-999.000
     33KI145_1,  PRS2,     2,  5,     13,     13,3,20030226,0250, 22.7538,-158.0080, 4722,     45,     45.0,  22.9598,  35.3040,2,  35.3068,2,    314.9,1, 22.9506,   -999.0,9,  -999.00,9,  -999.00,9,  -999.00,9,  -999.0,-999.000
     33KI145_1,  PRS2,     2,  5,     12,     12,2,20030226,0250, 22.7538,-158.0080, 4722,     74,     73.5,  22.7618,  35.3231,2,  35.3242,2,    310.9,1, 22.7469,   -999.0,9,  -999.00,9,  -999.00,9,  -999.00,9,  -999.0,-999.000
     33KI145_1,  PRS2,     2,  5,     11,     39,2,20030226,0250, 22.7538,-158.0080, 4722,     99,     98.7,  22.5755,  35.3361,2,  35.3372,2,    307.7,1, 22.5556,   -999.0,9,  -999.00,9,  -999.00,9,  -999.00,9,  -999.0,-999.000
     33KI145_1,  PRS2,     2,  5,     10,     32,2,20030226,0250, 22.7538,-158.0080, 4722,    119,    118.2,  22.1395,  35.3404,2,  35.3395,2,    302.9,1, 22.1160,   -999.0,9,  -999.00,9,  -999.00,9,  -999.00,9,  -999.0,-999.000
     33KI145_1,  PRS2,     2,  5,      9,      3,2,20030226,0250, 22.7538,-158.0080, 4722,    126,    125.6,  21.8036,  35.3124,2,  35.3187,2,    298.0,1, 21.7789,   -999.0,9,  -999.00,9,  -999.00,9,  -999.00,9,  -999.0,-999.000
     33KI145_1,  PRS2,     2,  5,      8,     29,2,20030226,0250, 22.7538,-158.0080, 4722,    149,    148.3,  20.3502,  35.1849,2,  35.1874,2,    279.5,1, 20.3225,   -999.0,9,  -999.00,9,  -999.00,9,  -999.00,9,  -999.0,-999.000
     33KI145_1,  PRS2,     2,  5,      7,     28,2,20030226,0250, 22.7538,-158.0080, 4722,    174,    173.1,  19.2175,  35.0598,2,  35.0590,2,    273.5,1, 19.1864,   -999.0,9,  -999.00,9,  -999.00,9,  -999.00,9,  -999.0,-999.000
     33KI145_1,  PRS2,     2,  5,      6,      7,2,20030226,0250, 22.7538,-158.0080, 4722,    200,    199.0,  18.2897,  34.9271,2,  34.9264,2,    271.0,1, 18.2551,   -999.0,9,  -999.00,9,  -999.00,9,  -999.00,9,  -999.0,-999.000
     33KI145_1,  PRS2,     2,  5,      5,     38,2,20030226,0250, 22.7538,-158.0080, 4722,    250,    249.7,  15.7213,  34.5701,2,  34.5702,2,    263.4,1, 15.6823,   -999.0,9,  -999.00,9,  -999.00,9,  -999.00,9,  -999.0,-999.000
     33KI145_1,  PRS2,     2,  5,      4,     36,2,20030226,0250, 22.7538,-158.0080, 4722,    350,    348.2,  11.6205,  34.1827,2,  34.1822,2,    245.9,1, 11.5761,   -999.0,9,  -999.00,9,  -999.00,9,  -999.00,9,  -999.0,-999.000
     33KI145_1,  PRS2,     2,  5,      3,     35,2,20030226,0250, 22.7538,-158.0080, 4722,    349,    348.2,  11.6168,  34.1825,2,  34.1850,2,    245.7,1, 11.5724,   -999.0,9,  -999.00,9,  -999.00,9,  -999.00,9,  -999.0,-999.000
     33KI145_1,  PRS2,     2,  5,      2,     34,2,20030226,0250, 22.7538,-158.0080, 4722,    499,    498.3,   7.7350,  34.0570,2,  34.0560,2,    158.3,1,  7.6853,   -999.0,9,  -999.00,9,  -999.00,9,  -999.00,9,  -999.0,-999.000
     33KI145_1,  PRS2,     2,  5,      1,     33,2,20030226,0250, 22.7538,-158.0080, 4722,   1021,   1019.7,   3.9154,  34.5017,2,  34.5048,2,     46.6,1,  3.8388,   -999.0,9,  -999.00,9,  -999.00,9,  -999.00,9,  -999.0,-999.000
     33KI145_1,  PRS2,     2,  6,     16,     16,2,20030226,0559, 22.7468,-157.9883, 4719,      4,      3.8,  23.3751,  35.3271,2,  35.3248,2,    299.9,1, 23.3743,   -999.0,9,  -999.00,9,  -999.00,9,  -999.00,9,  -999.0,-999.000
     33KI145_1,  PRS2,     2,  6,     15,     23,2,20030226,0559, 22.7468,-157.9883, 4719,     15,     14.2,  23.3734,  35.3265,2,  35.3242,2,    313.6,1, 23.3705,   -999.0,9,  -999.00,9,  -999.00,9,  -999.00,9,  -999.0,-999.000
     33KI145_1,  PRS2,     2,  6,     14,     40,2,20030226,0559, 22.7468,-157.9883, 4719,     20,     19.5,  23.3704,  35.3261,2,  35.3244,2,    313.2,1, 23.3664,   -999.0,9,  -999.00,9,  -999.00,9,  -999.00,9,  -999.0,-999.000
     33KI145_1,  PRS2,     2,  6,     13,     13,2,20030226,0559, 22.7468,-157.9883, 4719,     25,     24.6,  23.3233,  35.3231,2,  35.3218,2,    314.7,1, 23.3183,   -999.0,9,  -999.00,9,  -999.00,9,  -999.00,9,  -999.0,-999.000
     33KI145_1,  PRS2,     2,  6,     12,     12,2,20030226,0559, 22.7468,-157.9883, 4719,     36,     34.8,  22.9917,  35.3062,2,  35.3043,2,    314.4,1, 22.9846,   -999.0,9,  -999.00,9,  -999.00,9,  -999.00,9,  -999.0,-999.000
     33KI145_1,  PRS2,     2,  6,     11,     39,2,20030226,0559, 22.7468,-157.9883, 4719,     35,     34.8,  22.9914,  35.3064,2,  35.3039,2,    314.3,1, 22.9843,   -999.0,9,  -999.00,9,  -999.00,9,  -999.00,9,  -999.0,-999.000
     33KI145_1,  PRS2,     2,  6,     10,     32,2,20030226,0559, 22.7468,-157.9883, 4719,     46,     45.2,  22.9743,  35.3137,2,  35.3110,2,    314.0,1, 22.9651,   -999.0,9,  -999.00,9,  -999.00,9,  -999.00,9,  -999.0,-999.000
     33KI145_1,  PRS2,     2,  6,      9,      3,2,20030226,0559, 22.7468,-157.9883, 4719,     60,     59.1,  22.9088,  35.3202,2,  35.3204,2,    313.3,1, 22.8968,   -999.0,9,  -999.00,9,  -999.00,9,  -999.00,9,  -999.0,-999.000
     33KI145_1,  PRS2,     2,  6,      8,     29,2,20030226,0559, 22.7468,-157.9883, 4719,     75,     74.8,  22.7647,  35.3250,2,  35.3271,2,    312.1,1, 22.7496,   -999.0,9,  -999.00,9,  -999.00,9,  -999.00,9,  -999.0,-999.000
     33KI145_1,  PRS2,     2,  6,      6,      7,2,20030226,0559, 22.7468,-157.9883, 4719,    100,     99.5,  22.5191,  35.3345,2,  35.3340,2,    307.3,1, 22.4991,   -999.0,9,  -999.00,9,  -999.00,9,  -999.00,9,  -999.0,-999.000
     33KI145_1,  PRS2,     2,  6,      7,     28,2,20030226,0559, 22.7468,-157.9883, 4719,    100,     99.9,  22.5064,  35.3347,2,  35.3350,2,    307.4,1, 22.4863,   -999.0,9,  -999.00,9,  -999.00,9,  -999.00,9,  -999.0,-999.000
     33KI145_1,  PRS2,     2,  6,      5,     38,2,20030226,0559, 22.7468,-157.9883, 4719,    128,    127.4,  21.6085,  35.3004,2,  35.3129,2,    296.2,1, 21.5836,   -999.0,9,  -999.00,9,  -999.00,9,  -999.00,9,  -999.0,-999.000
     33KI145_1,  PRS2,     2,  6,      4,     36,2,20030226,0559, 22.7468,-157.9883, 4719,    154,    153.7,  19.7642,  35.1238,2,  35.1392,2,    275.1,1, 19.7360,   -999.0,9,  -999.00,9,  -999.00,9,  -999.00,9,  -999.0,-999.000
     33KI145_1,  PRS2,     2,  6,      3,     35,2,20030226,0559, 22.7468,-157.9883, 4719,    177,    176.1,  18.9958,  35.0296,2,  35.0333,2,    276.8,1, 18.9644,   -999.0,9,  -999.00,9,  -999.00,9,  -999.00,9,  -999.0,-999.000
     33KI145_1,  PRS2,     2,  6,      2,     34,2,20030226,0559, 22.7468,-157.9883, 4719,    520,    519.3,   7.0665,  34.0445,2,  34.0443,2,    132.8,1,  7.0172,   -999.0,9,  -999.00,9,  -999.00,9,  -999.00,9,  -999.0,-999.000
     33KI145_1,  PRS2,     2,  6,      1,     33,2,20030226,0559, 22.7468,-157.9883, 4719,   1021,   1019.9,   3.9778,  34.4931,2,  34.4921,2,     45.4,1,  3.9006,   -999.0,9,  -999.00,9,  -999.00,9,  -999.00,9,  -999.0,-999.000