BOTTLE,20090923WHPSIOMYS
#code : jjward hyd_to_exchange.pl 
#original files copied from HTML directory: 20090923
#original HYD file: 33KI145_1_hy.txt   Wed Sep 23 17:53:57 2009
#original SUM file: ../33KI145_1su.txt   Wed Sep 23 17:53:55 2009
EXPOCODE,SECT_ID,STNNBR,CASTNO,SAMPNO,BTLNBR,BTLNBR_FLAG_W,DATE,TIME,LATITUDE,LONGITUDE,DEPTH,CTDRAW,CTDPRS,CTDTMP,CTDSAL,CTDSAL_FLAG_W,SALNTY,SALNTY_FLAG_W,CTDOXY,CTDOXY_FLAG_W,THETA,OXYGEN,OXYGEN_FLAG_W,SILCAT,SILCAT_FLAG_W,NO2+NO3,NO2+NO3_FLAG_W,PHSPHT,PHSPHT_FLAG_W,REVPRS,REVTMP
,,,,,,,,,,,,,DBAR,ITS-90,PSS-78,,PSS-78,,UMOL/KG,,ITS-90,UMOL/KG,,UMOL/KG,,UMOL/KG,,UMOL/KG,,DBAR,DEG C
     33KI145_1,  PRS2,     1,  1,     24,     31,3,20030224,2325, 21.3450,-158.2747, 1636,      5,      4.3,  24.4097,  35.1314,2,-999.0000,5,    381.9,2, 24.4088,    199.2,3,  -999.00,9,  -999.00,9,  -999.00,9,  -999.0,-999.000
     33KI145_1,  PRS2,     1,  1,     23,     30,2,20030224,2325, 21.3450,-158.2747, 1636,      5,      4.3,  24.4069,  35.1313,2,-999.0000,5,    382.1,2, 24.4059,    200.3,3,  -999.00,9,  -999.00,9,  -999.00,9,  -999.0,-999.000
     33KI145_1,  PRS2,     1,  1,     22,     22,2,20030224,2325, 21.3450,-158.2747, 1636,     25,     24.5,  24.2285,  35.1197,2,  35.1199,2,    381.8,2, 24.2233,    198.7,3,  -999.00,9,  -999.00,9,  -999.00,9,  -999.0,-999.000
     33KI145_1,  PRS2,     1,  1,     21,     21,2,20030224,2325, 21.3450,-158.2747, 1636,     45,     44.0,  24.2101,  35.1200,2,  35.1230,2,    382.5,2, 24.2008,    200.0,3,  -999.00,9,  -999.00,9,  -999.00,9,  -999.0,-999.000
     33KI145_1,  PRS2,     1,  1,     20,     20,2,20030224,2325, 21.3450,-158.2747, 1636,     60,     59.6,  24.2131,  35.1286,2,  35.1270,2,    383.2,2, 24.2005,    201.2,3,  -999.00,9,  -999.00,9,  -999.00,9,  -999.0,-999.000
     33KI145_1,  PRS2,     1,  1,     19,     19,2,20030224,2325, 21.3450,-158.2747, 1636,     76,     75.4,  24.1286,  35.1550,2,  35.1518,2,    382.5,2, 24.1126,    199.7,3,  -999.00,9,  -999.00,9,  -999.00,9,  -999.0,-999.000
     33KI145_1,  PRS2,     1,  1,     18,     18,4,20030224,2325, 21.3450,-158.2747, 1636,     99,     98.7,  23.1079,  35.3344,2,-999.0000,5,    377.2,2, 23.0877,   -999.0,5,  -999.00,9,  -999.00,9,  -999.00,9,  -999.0,-999.000
     33KI145_1,  PRS2,     1,  1,     17,     17,3,20030224,2325, 21.3450,-158.2747, 1636,    115,    114.3,  22.6386,  35.3221,2,-999.0000,5,    374.4,2, 22.6155,    202.7,3,  -999.00,9,  -999.00,9,  -999.00,9,  -999.0,-999.000
     33KI145_1,  PRS2,     1,  1,     16,     16,2,20030224,2325, 21.3450,-158.2747, 1636,    125,    124.4,  22.5091,  35.3197,2,  35.3191,2,    372.8,2, 22.4841,    203.1,3,  -999.00,9,  -999.00,9,  -999.00,9,  -999.0,-999.000
     33KI145_1,  PRS2,     1,  1,     15,     23,2,20030224,2325, 21.3450,-158.2747, 1636,    149,    148.6,  21.4987,  35.3333,2,  35.3482,4,    360.8,3, 21.4698,    200.2,3,  -999.00,9,  -999.00,9,  -999.00,9,  -999.0,-999.000
     33KI145_1,  PRS2,     1,  1,     14,     40,2,20030224,2325, 21.3450,-158.2747, 1636,    175,    174.0,  20.5705,  35.1869,2,  35.1876,2,    339.3,2, 20.5377,    193.5,3,  -999.00,9,  -999.00,9,  -999.00,9,  -999.0,-999.000
     33KI145_1,  PRS2,     1,  1,     13,     13,2,20030224,2325, 21.3450,-158.2747, 1636,    200,    198.7,  18.4077,  34.9357,2,  34.9368,2,    318.0,2, 18.3730,    190.4,3,  -999.00,9,  -999.00,9,  -999.00,9,  -999.0,-999.000
     33KI145_1,  PRS2,     1,  1,     12,     12,2,20030224,2325, 21.3450,-158.2747, 1636,    225,    224.3,  15.9040,  34.6207,2,  34.6274,2,    299.8,2, 15.8687,    190.5,3,  -999.00,9,  -999.00,9,  -999.00,9,  -999.0,-999.000
     33KI145_1,  PRS2,     1,  1,     11,     39,2,20030224,2325, 21.3450,-158.2747, 1636,    251,    250.0,  14.1879,  34.4335,2,  34.4406,2,    287.1,2, 14.1516,    188.6,3,  -999.00,9,  -999.00,9,  -999.00,9,  -999.0,-999.000
     33KI145_1,  PRS2,     1,  1,     10,     32,2,20030224,2325, 21.3450,-158.2747, 1636,    301,    300.2,  11.5561,  34.2399,2,  34.2403,2,    261.6,2, 11.5180,    179.2,3,  -999.00,9,  -999.00,9,  -999.00,9,  -999.0,-999.000
     33KI145_1,  PRS2,     1,  1,      9,      3,2,20030224,2325, 21.3450,-158.2747, 1636,    350,    349.4,   9.7986,  34.1630,2,  34.1650,2,    220.3,2,  9.7587,    157.9,3,  -999.00,9,  -999.00,9,  -999.00,9,  -999.0,-999.000
     33KI145_1,  PRS2,     1,  1,      8,     29,2,20030224,2325, 21.3450,-158.2747, 1636,    399,    398.3,   8.9516,  34.1256,2,  34.1228,2,    199.6,2,  8.9085,    144.2,3,  -999.00,9,  -999.00,9,  -999.00,9,  -999.0,-999.000
     33KI145_1,  PRS2,     1,  1,      7,     28,2,20030224,2325, 21.3450,-158.2747, 1636,    507,    505.9,   6.8066,  34.1430,2,  34.1419,2,    101.5,2,  6.7595,     75.6,3,  -999.00,9,  -999.00,9,  -999.00,9,  -999.0,-999.000
     33KI145_1,  PRS2,     1,  1,      6,      7,2,20030224,2325, 21.3450,-158.2747, 1636,    597,    596.5,   5.6788,  34.2170,2,  34.2317,4,     53.6,3,  5.6280,     42.0,3,  -999.00,9,  -999.00,9,  -999.00,9,  -999.0,-999.000
     33KI145_1,  PRS2,     1,  1,      5,     38,2,20030224,2325, 21.3450,-158.2747, 1636,    698,    697.0,   5.2741,  34.3248,2,-999.0000,5,     39.2,2,  5.2163,     29.0,3,  -999.00,9,  -999.00,9,  -999.00,9,  -999.0,-999.000
     33KI145_1,  PRS2,     1,  1,      4,     36,2,20030224,2325, 21.3450,-158.2747, 1636,    747,    746.7,   4.9925,  34.3599,2,  34.3602,2,     39.0,2,  4.9319,     29.9,3,  -999.00,9,  -999.00,9,  -999.00,9,  -999.0,-999.000
     33KI145_1,  PRS2,     1,  1,      3,     35,2,20030224,2325, 21.3450,-158.2747, 1636,    800,    799.2,   4.7652,  34.4064,2,  34.4084,2,     40.5,2,  4.7014,     30.4,3,  -999.00,9,  -999.00,9,  -999.00,9,  -999.0,-999.000
     33KI145_1,  PRS2,     1,  1,      2,     34,2,20030224,2325, 21.3450,-158.2747, 1636,    900,    899.6,   4.5359,  34.4524,2,  34.4510,2,     45.7,2,  4.4648,     35.5,3,  -999.00,9,  -999.00,9,  -999.00,9,  -999.0,-999.000
     33KI145_1,  PRS2,     1,  1,      1,     33,2,20030224,2325, 21.3450,-158.2747, 1636,   1024,   1022.7,   4.2486,  34.4879,2,  34.4873,2,     51.8,2,  4.1691,     39.2,3,  -999.00,9,  -999.00,9,  -999.00,9,  -999.0,-999.000
     33KI145_1,  PRS2,     2,  1,     24,     31,3,20030225,1159, 22.7498,-158.0013, 4728,      6,      4.9,  23.3138,  35.3210,2,-999.0000,5,    318.9,2, 23.3128,    200.9,3,     1.06,2,     0.03,2,     0.01,2,  -999.0,-999.000
     33KI145_1,  PRS2,     2,  1,     23,     30,3,20030225,1159, 22.7498,-158.0013, 4728,    500,    500.5,   7.5391,  34.0583,2,  34.0613,2,    154.2,2,  7.4899,    116.5,3,    39.17,2,    27.82,2,     1.98,2,  -999.0,-999.000
     33KI145_1,  PRS2,     2,  1,     22,     22,2,20030225,1159, 22.7498,-158.0013, 4728,    751,    750.4,   5.2353,  34.2969,2,  34.2964,2,     32.4,2,  5.1731,     24.3,3,    80.82,2,    40.37,2,     2.73,3,  -999.0,-999.000
     33KI145_1,  PRS2,     2,  1,     21,     21,2,20030225,1159, 22.7498,-158.0013, 4728,   1003,   1002.6,   4.0680,  34.4812,2,  34.4809,2,     44.2,2,  3.9916,     36.0,3,   107.52,2,    42.15,2,     3.04,2,  -999.0,-999.000
     33KI145_1,  PRS2,     2,  1,     20,     20,2,20030225,1159, 22.7498,-158.0013, 4728,   1198,   1197.0,   3.4367,  34.5257,2,  34.5248,2,     57.3,2,  3.3495,     46.6,3,   121.30,2,    41.45,2,     3.00,2,  -999.0,-999.000
     33KI145_1,  PRS2,     2,  1,     19,     19,2,20030225,1159, 22.7498,-158.0013, 4728,   1401,   1399.7,   2.9614,  34.5673,2,  34.5669,2,     70.0,2,  2.8623,     57.0,3,   131.28,2,    41.16,2,     2.61,4,  -999.0,-999.000
     33KI145_1,  PRS2,     2,  1,     18,     18,4,20030225,1159, 22.7498,-158.0013, 4728,   1603,   1599.2,   2.6333,  34.5876,2,-999.0000,5,     78.3,2,  2.5216,   -999.0,5,  -999.00,5,  -999.00,5,  -999.00,5,  -999.0,-999.000
     33KI145_1,  PRS2,     2,  1,     17,     17,2,20030225,1159, 22.7498,-158.0013, 4728,   1802,   1800.4,   2.4137,  34.6025,2,  34.6016,2,     85.8,2,  2.2881,     69.9,3,   143.65,2,    40.23,2,     2.88,2,  -999.0,-999.000
     33KI145_1,  PRS2,     2,  1,     16,     16,2,20030225,1159, 22.7498,-158.0013, 4728,   1999,   1998.8,   2.1632,  34.6198,2,  34.6223,2,     96.6,2,  2.0244,     83.0,3,   148.71,2,    40.13,2,     2.83,2,  -999.0,-999.000
     33KI145_1,  PRS2,     2,  1,     15,     23,2,20030225,1159, 22.7498,-158.0013, 4728,   2200,   2199.5,   1.9552,  34.6340,2,  34.6354,2,    104.2,2,  1.8024,     90.3,3,   152.78,2,    39.64,2,     2.68,4,  -999.0,-999.000
     33KI145_1,  PRS2,     2,  1,     14,     40,2,20030225,1159, 22.7498,-158.0013, 4728,   2401,   2401.2,   1.8054,  34.6463,2,  34.6455,2,    113.3,2,  1.6376,     97.8,3,   155.85,2,    39.18,2,     2.67,4,  -999.0,-999.000
     33KI145_1,  PRS2,     2,  1,     13,     13,2,20030225,1159, 22.7498,-158.0013, 4728,   2602,   2600.7,   1.6917,  34.6564,2,  34.6551,2,    120.8,2,  1.5081,    105.8,3,   157.37,2,    38.58,2,     2.22,4,  -999.0,-999.000
     33KI145_1,  PRS2,     2,  1,     12,     12,2,20030225,1159, 22.7498,-158.0013, 4728,   2800,   2797.4,   1.6130,  34.6645,2,  34.6629,2,    127.7,2,  1.4129,    112.8,3,   157.34,2,    38.04,2,     2.55,4,  -999.0,-999.000
     33KI145_1,  PRS2,     2,  1,     11,     39,2,20030225,1159, 22.7498,-158.0013, 4728,   3001,   2999.6,   1.5468,  34.6709,2,  34.6708,2,    133.3,2,  1.3291,    116.4,3,   159.44,2,    37.70,2,     2.63,2,  -999.0,-999.000
     33KI145_1,  PRS2,     2,  1,     10,     32,3,20030225,1159, 22.7498,-158.0013, 4728,   3201,   3199.7,   1.5094,  34.6756,2,  34.6677,4,    139.2,3,  1.2731,    120.1,3,   156.56,2,    37.22,2,     2.61,2,  -999.0,-999.000
     33KI145_1,  PRS2,     2,  1,      9,      3,3,20030225,1159, 22.7498,-158.0013, 4728,   3399,   3397.4,   1.4729,  34.6800,2,  34.6739,4,    146.5,3,  1.2178,    127.4,3,   154.82,2,    36.84,2,     2.56,2,  -999.0,-999.000
     33KI145_1,  PRS2,     2,  1,      8,     29,2,20030225,1159, 22.7498,-158.0013, 4728,   3601,   3598.6,   1.4590,  34.6834,2,  34.6828,2,    151.4,2,  1.1838,    135.0,3,   153.34,2,    36.31,2,     2.52,2,  -999.0,-999.000
     33KI145_1,  PRS2,     2,  1,      7,     28,2,20030225,1159, 22.7498,-158.0013, 4728,   3799,   3799.8,   1.4515,  34.6857,2,  34.6861,2,    155.3,2,  1.1554,    137.8,3,   152.93,2,    35.93,2,     2.53,2,  -999.0,-999.000
     33KI145_1,  PRS2,     2,  1,      6,      7,2,20030225,1159, 22.7498,-158.0013, 4728,   3988,   3987.7,   1.4544,  34.6871,2,  34.6863,2,    157.6,2,  1.1381,    141.1,3,   152.10,2,    35.56,2,     2.45,3,  -999.0,-999.000
     33KI145_1,  PRS2,     2,  1,      5,     38,2,20030225,1159, 22.7498,-158.0013, 4728,   4197,   4198.1,   1.4626,  34.6884,2,  34.6881,2,    160.0,2,  1.1230,    143.6,3,   150.73,2,    35.19,2,     2.49,2,  -999.0,-999.000
     33KI145_1,  PRS2,     2,  1,      4,     36,2,20030225,1159, 22.7498,-158.0013, 4728,   4400,   4398.0,   1.4782,  34.6891,2,  34.6891,2,    161.2,2,  1.1156,   -999.0,5,   150.33,2,    35.50,2,     2.50,2,  -999.0,-999.000
     33KI145_1,  PRS2,     2,  1,      3,     35,2,20030225,1159, 22.7498,-158.0013, 4728,   4500,   4498.4,   1.4871,  34.6892,2,  34.6895,2,    161.5,2,  1.1127,    144.5,3,   149.50,2,    35.36,2,     2.17,4,  -999.0,-999.000
     33KI145_1,  PRS2,     2,  1,      2,     34,2,20030225,1159, 22.7498,-158.0013, 4728,   4599,   4599.4,   1.4971,  34.6892,2,  34.6908,2,    161.6,2,  1.1107,    146.2,3,   147.53,2,    35.45,2,     2.34,4,  -999.0,-999.000
     33KI145_1,  PRS2,     2,  1,      1,     33,2,20030225,1159, 22.7498,-158.0013, 4728,   4799,   4801.3,   1.5209,  34.6892,2,  34.6899,2,    161.7,2,  1.1099,    145.9,3,   147.64,2,    35.38,2,     2.33,4,  -999.0,-999.000
     33KI145_1,  PRS2,     2,  2,     24,     31,2,20030225,1758, 22.7518,-157.9958, 4721,      5,      3.9,  23.2914,  35.3234,2,  35.3281,2,    313.6,2, 23.2906,    201.5,3,     1.04,2,     0.05,2,     0.01,2,  -999.0,-999.000
     33KI145_1,  PRS2,     2,  2,     23,     30,2,20030225,1758, 22.7518,-157.9958, 4721,     41,     40.4,  23.0797,  35.3109,2,  35.3106,2,    313.7,2, 23.0714,    201.9,3,     1.06,2,     0.05,2,     0.02,2,  -999.0,-999.000
     33KI145_1,  PRS2,     2,  2,     22,     22,2,20030225,1758, 22.7518,-157.9958, 4721,     75,     74.1,  22.9750,  35.2952,2,  35.3090,3,    311.8,3, 22.9599,    204.3,3,     1.07,2,     0.06,2,     0.03,2,  -999.0,-999.000
     33KI145_1,  PRS2,     2,  2,     21,     21,2,20030225,1758, 22.7518,-157.9958, 4721,    103,    101.2,  22.5773,  35.3333,2,  35.3332,2,    306.4,2, 22.5569,    200.0,3,     1.16,2,     0.08,2,     0.04,2,  -999.0,-999.000
     33KI145_1,  PRS2,     2,  2,     20,     20,2,20030225,1758, 22.7518,-157.9958, 4721,    166,    164.7,  19.9635,  35.1404,2,  35.1443,2,    278.9,2, 19.9331,    187.6,3,     2.04,2,     1.61,2,     0.08,2,  -999.0,-999.000
     33KI145_1,  PRS2,     2,  2,     19,     19,2,20030225,1758, 22.7518,-157.9958, 4721,    199,    198.5,  18.3546,  34.9332,2,  34.9315,2,    270.8,2, 18.3201,    188.2,3,     2.94,2,     2.57,2,     0.18,2,  -999.0,-999.000
     33KI145_1,  PRS2,     2,  2,     18,     18,4,20030225,1758, 22.7518,-157.9958, 4721,    234,    233.5,  15.7481,  34.5722,2,-999.0000,5,    263.7,2, 15.7116,   -999.0,5,  -999.00,5,  -999.00,5,  -999.00,5,  -999.0,-999.000
     33KI145_1,  PRS2,     2,  2,     17,     17,2,20030225,1758, 22.7518,-157.9958, 4721,    272,    271.3,  13.4402,  34.3031,2,  34.3068,2,    253.7,2, 13.4022,    188.9,3,     6.91,2,     8.30,2,     0.47,4,  -999.0,-999.000
     33KI145_1,  PRS2,     2,  2,     16,     16,2,20030225,1758, 22.7518,-157.9958, 4721,    310,    308.4,  11.7183,  34.1899,2,  34.1966,2,    248.9,2, 11.6789,    191.5,3,    10.81,2,    11.60,2,     0.87,2,  -999.0,-999.000
     33KI145_1,  PRS2,     2,  2,     15,     23,2,20030225,1758, 22.7518,-157.9958, 4721,    350,    348.9,  10.5219,  34.1372,2,  34.1389,2,    231.9,2, 10.4803,    177.8,3,    15.91,2,    15.37,2,     1.05,2,  -999.0,-999.000
     33KI145_1,  PRS2,     2,  2,     14,     40,2,20030225,1758, 22.7518,-157.9958, 4721,    384,    384.3,   9.8922,  34.1205,2,  34.1276,2,    219.9,2,  9.8479,    172.5,3,    19.80,2,    17.78,2,     1.16,2,  -999.0,-999.000
     33KI145_1,  PRS2,     2,  2,     13,     13,2,20030225,1758, 22.7518,-157.9958, 4721,    425,    421.9,   9.0244,  34.0904,2,  34.0895,2,    203.9,2,  8.9785,    161.0,3,    25.86,2,    20.82,2,     1.28,2,  -999.0,-999.000
     33KI145_1,  PRS2,     2,  2,     12,     12,2,20030225,1758, 22.7518,-157.9958, 4721,    489,    488.8,   7.4086,  34.0556,2,  34.0588,2,    139.5,2,  7.3611,    114.6,3,    41.56,2,    28.03,2,     2.05,2,  -999.0,-999.000
     33KI145_1,  PRS2,     2,  2,     11,     39,2,20030225,1758, 22.7518,-157.9958, 4721,    534,    533.2,   6.6874,  34.0741,2,  34.0776,2,    105.9,2,  6.6383,     84.2,3,    52.69,2,    32.08,2,     2.13,2,  -999.0,-999.000
     33KI145_1,  PRS2,     2,  2,     10,     32,2,20030225,1758, 22.7518,-157.9958, 4721,    588,    586.1,   6.1636,  34.1246,2,  34.1260,2,     74.4,2,  6.1117,     59.6,3,    62.60,2,    35.32,2,     2.59,2,  -999.0,-999.000
     33KI145_1,  PRS2,     2,  2,      9,      3,2,20030225,1758, 22.7518,-157.9958, 4721,    649,    649.1,   5.6701,  34.1806,2,  34.1797,2,     51.6,2,  5.6146,     39.3,3,    71.30,2,    37.93,2,     2.80,2,  -999.0,-999.000
     33KI145_1,  PRS2,     2,  2,      8,     29,2,20030225,1758, 22.7518,-157.9958, 4721,    707,    706.9,   5.3459,  34.2657,2,  34.2662,2,     35.2,2,  5.2869,     26.1,3,    79.99,2,    39.73,2,     2.97,2,  -999.0,-999.000
     33KI145_1,  PRS2,     2,  2,      7,     28,2,20030225,1758, 22.7518,-157.9958, 4721,    753,    750.5,   4.9497,  34.3430,2,  34.3468,2,     30.7,2,  4.8891,     21.8,3,    87.24,2,    40.96,2,     2.96,2,  -999.0,-999.000
     33KI145_1,  PRS2,     2,  2,      6,      7,2,20030225,1758, 22.7518,-157.9958, 4721,    814,    814.5,   4.5684,  34.4079,2,  34.4071,2,     32.7,2,  4.5045,     24.1,3,    96.88,2,    41.64,2,     3.06,2,  -999.0,-999.000
     33KI145_1,  PRS2,     2,  2,      5,     38,2,20030225,1758, 22.7518,-157.9958, 4721,    853,    850.9,   4.4593,  34.4383,2,  34.4436,2,     35.8,2,  4.3930,     26.1,3,    99.79,2,    41.60,2,     2.96,2,  -999.0,-999.000
     33KI145_1,  PRS2,     2,  2,      4,     36,2,20030225,1758, 22.7518,-157.9958, 4721,    887,    887.4,   4.3230,  34.4560,2,  34.4579,2,     38.0,2,  4.2545,     28.3,3,   102.70,2,    41.72,2,     3.08,2,  -999.0,-999.000
     33KI145_1,  PRS2,     2,  2,      3,     35,2,20030225,1758, 22.7518,-157.9958, 4721,    924,    922.9,   4.2122,  34.4630,2,  34.4640,2,     39.7,2,  4.1414,     30.6,3,    72.42,4,    41.92,2,     3.00,2,  -999.0,-999.000
     33KI145_1,  PRS2,     2,  2,      2,     34,2,20030225,1758, 22.7518,-157.9958, 4721,    959,    958.0,   4.0924,  34.4762,2,  34.4754,2,     43.2,2,  4.0196,     33.0,3,   105.87,4,    41.64,2,     3.05,2,  -999.0,-999.000
     33KI145_1,  PRS2,     2,  2,      1,     33,2,20030225,1758, 22.7518,-157.9958, 4721,    959,    958.0,   4.0924,  34.4762,2,  34.4760,2,     43.2,2,  4.0196,     33.2,3,    74.77,4,    41.74,2,     3.02,2,  -999.0,-999.000