BOTTLE,20090923WHPSIOMYS
EXPOCODE,SECT_ID,STNNBR,CASTNO,SAMPNO,BTLNBR,BTLNBR_FLAG_W,DATE,TIME,LATITUDE,LONGITUDE,DEPTH,CTDRAW,CTDPRS,CTDTMP,CTDSAL,CTDSAL_FLAG_W,SALNTY,SALNTY_FLAG_W,CTDOXY,CTDOXY_FLAG_W,THETA,OXYGEN,OXYGEN_FLAG_W,SILCAT,SILCAT_FLAG_W,NO2+NO3,NO2+NO3_FLAG_W,PHSPHT,PHSPHT_FLAG_W,REVPRS,REVTMP
,,,,,,,,,,,,,DBAR,ITS-90,PSS-78,,PSS-78,,UMOL/KG,,ITS-90,UMOL/KG,,UMOL/KG,,UMOL/KG,,UMOL/KG,,DBAR,DEG C
     33KI145_1,  PRS2,     2, 14,     22,     22,2,20030227,0555, 22.7510,-158.0032, 4721,      5,      4.5,  23.4309,  35.3298,2,  35.3277,2,    294.0,1, 23.4300,   -999.0,9,  -999.00,9,  -999.00,9,  -999.00,9,  -999.0,-999.000
     33KI145_1,  PRS2,     2, 14,     21,     21,2,20030227,0555, 22.7510,-158.0032, 4721,      5,      4.5,  23.4304,  35.3299,2,  35.3275,2,    294.1,1, 23.4295,   -999.0,9,  -999.00,9,  -999.00,9,  -999.00,9,  -999.0,-999.000
     33KI145_1,  PRS2,     2, 14,     20,     20,2,20030227,0555, 22.7510,-158.0032, 4721,     25,     24.0,  23.4261,  35.3300,2,  35.3267,2,    294.2,1, 23.4211,   -999.0,9,  -999.00,9,  -999.00,9,  -999.00,9,  -999.0,-999.000
     33KI145_1,  PRS2,     2, 14,     19,     19,2,20030227,0555, 22.7510,-158.0032, 4721,     25,     24.0,  23.4246,  35.3297,2,  35.3263,2,    294.3,1, 23.4196,   -999.0,9,  -999.00,9,  -999.00,9,  -999.00,9,  -999.0,-999.000
     33KI145_1,  PRS2,     2, 14,     18,     18,2,20030227,0555, 22.7510,-158.0032, 4721,     45,     44.1,  23.0846,  35.3191,2,  35.3222,2,    295.2,1, 23.0756,   -999.0,9,  -999.00,9,  -999.00,9,  -999.00,9,  -999.0,-999.000
     33KI145_1,  PRS2,     2, 14,     17,     17,2,20030227,0555, 22.7510,-158.0032, 4721,     45,     44.1,  23.0842,  35.3191,2,  35.3167,2,    295.2,1, 23.0752,   -999.0,9,  -999.00,9,  -999.00,9,  -999.00,9,  -999.0,-999.000
     33KI145_1,  PRS2,     2, 14,     16,     16,2,20030227,0555, 22.7510,-158.0032, 4721,     61,     60.3,  22.9184,  35.3307,2,  35.3321,2,    292.4,1, 22.9061,   -999.0,9,  -999.00,9,  -999.00,9,  -999.00,9,  -999.0,-999.000
     33KI145_1,  PRS2,     2, 14,     14,     40,4,20030227,0555, 22.7510,-158.0032, 4721,     76,     74.9,  22.8333,  35.3325,2,-999.0000,5,    293.5,1, 22.8180,   -999.0,9,  -999.00,9,  -999.00,9,  -999.00,9,  -999.0,-999.000
     33KI145_1,  PRS2,     2, 14,     15,     23,2,20030227,0555, 22.7510,-158.0032, 4721,     75,     75.0,  22.8400,  35.3326,2,  35.3360,2,    293.7,1, 22.8247,   -999.0,9,  -999.00,9,  -999.00,9,  -999.00,9,  -999.0,-999.000
     33KI145_1,  PRS2,     2, 14,     13,     13,3,20030227,0555, 22.7510,-158.0032, 4721,     85,     84.3,  22.7624,  35.3267,2,-999.0000,5,    293.0,1, 22.7453,   -999.0,9,  -999.00,9,  -999.00,9,  -999.00,9,  -999.0,-999.000
     33KI145_1,  PRS2,     2, 14,     11,     39,2,20030227,0555, 22.7510,-158.0032, 4721,    101,    100.1,  22.6804,  35.3328,2,  35.3447,2,    290.8,1, 22.6602,   -999.0,9,  -999.00,9,  -999.00,9,  -999.00,9,  -999.0,-999.000
     33KI145_1,  PRS2,     2, 14,     12,     12,3,20030227,0555, 22.7510,-158.0032, 4721,    101,    100.3,  22.6802,  35.3330,2,  35.3311,2,    291.0,1, 22.6599,   -999.0,9,  -999.00,9,  -999.00,9,  -999.00,9,  -999.0,-999.000
     33KI145_1,  PRS2,     2, 14,     10,     32,2,20030227,0555, 22.7510,-158.0032, 4721,    115,    114.4,  22.4270,  35.3639,2,  35.3628,2,    287.3,1, 22.4041,   -999.0,9,  -999.00,9,  -999.00,9,  -999.00,9,  -999.0,-999.000
     33KI145_1,  PRS2,     2, 14,      8,     29,2,20030227,0555, 22.7510,-158.0032, 4721,    126,    124.6,  21.9864,  35.3364,2,  35.3323,2,    284.2,1, 21.9617,   -999.0,9,  -999.00,9,  -999.00,9,  -999.00,9,  -999.0,-999.000
     33KI145_1,  PRS2,     2, 14,      9,      3,2,20030227,0555, 22.7510,-158.0032, 4721,    125,    124.7,  21.9777,  35.3351,2,  35.3409,2,    284.8,1, 21.9531,   -999.0,9,  -999.00,9,  -999.00,9,  -999.00,9,  -999.0,-999.000
     33KI145_1,  PRS2,     2, 14,      7,     28,2,20030227,0555, 22.7510,-158.0032, 4721,    136,    134.4,  21.4797,  35.3134,2,  35.3210,2,    279.7,1, 21.4535,   -999.0,9,  -999.00,9,  -999.00,9,  -999.00,9,  -999.0,-999.000
     33KI145_1,  PRS2,     2, 14,      5,     38,2,20030227,0555, 22.7510,-158.0032, 4721,    150,    149.3,  20.9146,  35.2515,2,  35.2586,2,    272.3,1, 20.8861,   -999.0,9,  -999.00,9,  -999.00,9,  -999.00,9,  -999.0,-999.000
     33KI145_1,  PRS2,     2, 14,      6,      7,2,20030227,0555, 22.7510,-158.0032, 4721,    150,    149.6,  20.9038,  35.2499,2,  35.2536,2,    272.4,1, 20.8753,   -999.0,9,  -999.00,9,  -999.00,9,  -999.00,9,  -999.0,-999.000
     33KI145_1,  PRS2,     2, 14,      3,     35,3,20030227,0555, 22.7510,-158.0032, 4721,    175,    173.8,  19.8866,  35.1376,2,  35.1492,2,    264.1,1, 19.8546,   -999.0,9,  -999.00,9,  -999.00,9,  -999.00,9,  -999.0,-999.000
     33KI145_1,  PRS2,     2, 14,      4,     36,3,20030227,0555, 22.7510,-158.0032, 4721,    175,    173.9,  19.8638,  35.1351,2,  35.1445,2,    264.1,1, 19.8318,   -999.0,9,  -999.00,9,  -999.00,9,  -999.00,9,  -999.0,-999.000
     33KI145_1,  PRS2,     2, 14,      2,     34,2,20030227,0555, 22.7510,-158.0032, 4721,    519,    519.7,   6.9969,  34.0428,2,  34.0490,3,    135.6,1,  6.9479,   -999.0,9,  -999.00,9,  -999.00,9,  -999.00,9,  -999.0,-999.000
     33KI145_1,  PRS2,     2, 14,      1,     33,2,20030227,0555, 22.7510,-158.0032, 4721,   1019,   1018.4,   3.9398,  34.4967,2,  34.4962,2,     44.9,1,  3.8631,   -999.0,9,  -999.00,9,  -999.00,9,  -999.00,9,  -999.0,-999.000
     33KI145_1,  PRS2,     2, 15,     12,     12,2,20030227,0855, 22.7578,-157.9965, 4719,      4,      3.9,  23.3614,  35.3262,2,  35.3273,2,    294.7,2, 23.3605,    203.0,3,  -999.00,9,  -999.00,9,  -999.00,9,  -999.0,-999.000
     33KI145_1,  PRS2,     2, 15,     11,     39,2,20030227,0855, 22.7578,-157.9965, 4719,    111,    109.9,  22.5053,  35.3533,2,  35.3555,2,    290.0,2, 22.4832,    201.6,3,  -999.00,9,  -999.00,9,  -999.00,9,  -999.0,-999.000
     33KI145_1,  PRS2,     2, 15,     10,     32,2,20030227,0855, 22.7578,-157.9965, 4719,    349,    348.9,  11.1371,  34.1691,2,  34.1730,2,    239.9,2, 11.0939,    191.5,3,  -999.00,9,  -999.00,9,  -999.00,9,  -999.0,-999.000
     33KI145_1,  PRS2,     2, 15,      9,      3,2,20030227,0855, 22.7578,-157.9965, 4719,    449,    448.9,   8.0945,  34.0570,2,  34.0594,2,    166.8,2,  8.0486,    137.8,3,  -999.00,9,  -999.00,9,  -999.00,9,  -999.0,-999.000
     33KI145_1,  PRS2,     2, 15,      8,     29,2,20030227,0855, 22.7578,-157.9965, 4719,    700,    699.1,   5.2805,  34.2756,2,  34.2752,2,     31.5,2,  5.2226,     23.3,3,  -999.00,9,  -999.00,9,  -999.00,9,  -999.0,-999.000
     33KI145_1,  PRS2,     2, 15,      7,     28,2,20030227,0855, 22.7578,-157.9965, 4719,   1000,    999.6,   4.0946,  34.4805,2,  34.4807,2,     42.5,2,  4.0183,     33.5,3,  -999.00,9,  -999.00,9,  -999.00,9,  -999.0,-999.000
     33KI145_1,  PRS2,     2, 15,      6,      7,2,20030227,0855, 22.7578,-157.9965, 4719,   2001,   2000.5,   2.1922,  34.6164,2,  34.6166,2,     92.5,2,  2.0529,     81.0,3,  -999.00,9,  -999.00,9,  -999.00,9,  -999.0,-999.000
     33KI145_1,  PRS2,     2, 15,      5,     38,2,20030227,0855, 22.7578,-157.9965, 4719,   3002,   3000.3,   1.5616,  34.6681,2,  34.6682,2,    129.7,2,  1.3435,   -999.0,5,  -999.00,9,  -999.00,9,  -999.00,9,  -999.0,-999.000
     33KI145_1,  PRS2,     2, 15,      4,     36,2,20030227,0855, 22.7578,-157.9965, 4719,   3001,   3000.3,   1.5615,  34.6682,2,  34.6681,2,    129.7,2,  1.3433,    114.9,3,  -999.00,9,  -999.00,9,  -999.00,9,  -999.0,-999.000
     33KI145_1,  PRS2,     2, 15,      3,     35,2,20030227,0855, 22.7578,-157.9965, 4719,   3001,   3000.3,   1.5615,  34.6681,2,  34.6686,2,    129.8,2,  1.3433,   -999.0,5,  -999.00,9,  -999.00,9,  -999.00,9,  -999.0,-999.000
     33KI145_1,  PRS2,     2, 15,      2,     34,2,20030227,0855, 22.7578,-157.9965, 4719,   4000,   3999.1,   1.4533,  34.6857,2,  34.6859,2,    156.1,2,  1.1358,    138.3,3,  -999.00,9,  -999.00,9,  -999.00,9,  -999.0,-999.000
     33KI145_1,  PRS2,     2, 15,      1,     33,2,20030227,0855, 22.7578,-157.9965, 4719,   4791,   4790.3,   1.5194,  34.6875,2,  34.6861,2,    160.1,2,  1.1098,    123.8,4,  -999.00,9,  -999.00,9,  -999.00,9,  -999.0,-999.000
     33KI145_1,  PRS2,     6,  1,     13,     13,2,20030228,0557, 21.8478,-158.3638, 2459,      5,      5.0,  24.0989,  35.1363,2,  35.1406,2,    291.7,1, 24.0978,   -999.0,9,  -999.00,9,  -999.00,9,  -999.00,9,  -999.0,-999.000
     33KI145_1,  PRS2,     6,  1,     12,     12,2,20030228,0557, 21.8478,-158.3638, 2459,     26,     25.6,  23.8363,  35.2058,2,  35.1898,3,    292.1,1, 23.8310,   -999.0,9,  -999.00,9,  -999.00,9,  -999.00,9,  -999.0,-999.000
     33KI145_1,  PRS2,     6,  1,     11,     39,2,20030228,0557, 21.8478,-158.3638, 2459,     45,     45.1,  23.3591,  35.2710,2,  35.2690,2,    292.6,1, 23.3498,   -999.0,9,  -999.00,9,  -999.00,9,  -999.00,9,  -999.0,-999.000
     33KI145_1,  PRS2,     6,  1,     10,     32,2,20030228,0557, 21.8478,-158.3638, 2459,     76,     75.0,  23.0302,  35.3277,2,  35.3267,2,    290.2,1, 23.0148,   -999.0,9,  -999.00,9,  -999.00,9,  -999.00,9,  -999.0,-999.000
     33KI145_1,  PRS2,     6,  1,      9,      3,2,20030228,0557, 21.8478,-158.3638, 2459,    101,    100.3,  22.7120,  35.3334,2,  35.3330,2,    284.8,1, 22.6916,   -999.0,9,  -999.00,9,  -999.00,9,  -999.00,9,  -999.0,-999.000
     33KI145_1,  PRS2,     6,  1,      8,     29,2,20030228,0557, 21.8478,-158.3638, 2459,    126,    124.9,  21.0131,  35.2323,2,  35.2335,2,    267.2,1, 20.9891,   -999.0,9,  -999.00,9,  -999.00,9,  -999.00,9,  -999.0,-999.000
     33KI145_1,  PRS2,     6,  1,      7,     28,2,20030228,0557, 21.8478,-158.3638, 2459,    150,    149.8,  20.1758,  35.1640,2,  35.1660,2,    263.0,1, 20.1479,   -999.0,9,  -999.00,9,  -999.00,9,  -999.00,9,  -999.0,-999.000
     33KI145_1,  PRS2,     6,  1,      6,      7,2,20030228,0557, 21.8478,-158.3638, 2459,    176,    175.8,  19.2098,  35.0576,2,  35.0642,2,    258.1,1, 19.1783,   -999.0,9,  -999.00,9,  -999.00,9,  -999.00,9,  -999.0,-999.000
     33KI145_1,  PRS2,     6,  1,      5,     38,2,20030228,0557, 21.8478,-158.3638, 2459,    432,    431.2,   8.3617,  34.0798,2,  34.0803,2,    172.3,1,  8.3168,   -999.0,9,  -999.00,9,  -999.00,9,  -999.00,9,  -999.0,-999.000
     33KI145_1,  PRS2,     6,  1,      4,     36,2,20030228,0557, 21.8478,-158.3638, 2459,   1000,    999.6,   3.9947,  34.4969,2,  34.4966,2,     49.6,1,  3.9191,   -999.0,9,  -999.00,9,  -999.00,9,  -999.00,9,  -999.0,-999.000
     33KI145_1,  PRS2,     6,  1,      3,     35,2,20030228,0557, 21.8478,-158.3638, 2459,   1500,   1498.8,   2.9935,  34.5664,2,  34.5659,2,     66.8,1,  2.8859,   -999.0,9,  -999.00,9,  -999.00,9,  -999.00,9,  -999.0,-999.000
     33KI145_1,  PRS2,     6,  1,      2,     34,2,20030228,0557, 21.8478,-158.3638, 2459,   2000,   2000.0,   2.1886,  34.6177,2,  34.6178,2,     92.6,1,  2.0494,   -999.0,9,  -999.00,9,  -999.00,9,  -999.00,9,  -999.0,-999.000
     33KI145_1,  PRS2,     6,  1,      1,     33,2,20030228,0557, 21.8478,-158.3638, 2459,   2459,   2458.8,   1.8193,  34.6452,2,  34.6457,2,    111.4,1,  1.6461,   -999.0,9,  -999.00,9,  -999.00,9,  -999.00,9,  -999.0,-999.000