BOTTLE,20090923WHPSIOMYS
EXPOCODE,SECT_ID,STNNBR,CASTNO,SAMPNO,BTLNBR,BTLNBR_FLAG_W,DATE,TIME,LATITUDE,LONGITUDE,DEPTH,CTDRAW,CTDPRS,CTDTMP,CTDSAL,CTDSAL_FLAG_W,SALNTY,SALNTY_FLAG_W,CTDOXY,CTDOXY_FLAG_W,THETA,OXYGEN,OXYGEN_FLAG_W,SILCAT,SILCAT_FLAG_W,NO2+NO3,NO2+NO3_FLAG_W,PHSPHT,PHSPHT_FLAG_W,REVPRS,REVTMP
,,,,,,,,,,,,,DBAR,ITS-90,PSS-78,,PSS-78,,UMOL/KG,,ITS-90,UMOL/KG,,UMOL/KG,,UMOL/KG,,UMOL/KG,,DBAR,DEG C
     33KI145_1,  PRS2,     2,  7,     19,     19,3,20030226,0848, 22.7512,-157.9838, 4715,      5,      4.5,  23.3665,  35.3271,2,  35.3325,2,    310.3,2, 23.3655,   -999.0,5,  -999.00,9,  -999.00,9,  -999.00,9,  -999.0,-999.000
     33KI145_1,  PRS2,     2,  7,     18,     18,2,20030226,0848, 22.7512,-157.9838, 4715,      5,      4.5,  23.3672,  35.3270,2,  35.3250,2,    310.6,2, 23.3662,    202.6,3,  -999.00,9,  -999.00,9,  -999.00,9,  -999.0,-999.000
     33KI145_1,  PRS2,     2,  7,     17,     17,3,20030226,0848, 22.7512,-157.9838, 4715,     15,     14.4,  23.3696,  35.3268,2,  35.3258,2,    310.8,2, 23.3667,    202.4,3,  -999.00,9,  -999.00,9,  -999.00,9,  -999.0,-999.000
     33KI145_1,  PRS2,     2,  7,     15,     23,2,20030226,0848, 22.7512,-157.9838, 4715,     25,     24.0,  23.3702,  35.3271,2,  35.3303,2,    310.9,2, 23.3652,    202.2,3,  -999.00,9,  -999.00,9,  -999.00,9,  -999.0,-999.000
     33KI145_1,  PRS2,     2,  7,     16,     16,3,20030226,0848, 22.7512,-157.9838, 4715,     25,     24.1,  23.3651,  35.3265,2,  35.3254,2,    310.9,2, 23.3602,   -999.0,5,  -999.00,9,  -999.00,9,  -999.00,9,  -999.0,-999.000
     33KI145_1,  PRS2,     2,  7,     14,     40,3,20030226,0848, 22.7512,-157.9838, 4715,     35,     34.1,  23.3642,  35.3267,2,  35.3244,2,    310.9,2, 23.3572,    199.5,3,  -999.00,9,  -999.00,9,  -999.00,9,  -999.0,-999.000
     33KI145_1,  PRS2,     2,  7,     13,     13,2,20030226,0848, 22.7512,-157.9838, 4715,     46,     44.7,  23.3646,  35.3263,2,  35.3240,2,    311.0,2, 23.3553,    201.8,3,  -999.00,9,  -999.00,9,  -999.00,9,  -999.0,-999.000
     33KI145_1,  PRS2,     2,  7,     12,     12,2,20030226,0848, 22.7512,-157.9838, 4715,     62,     60.7,  22.9997,  35.3017,2,  35.2984,2,    314.4,2, 22.9874,    204.4,3,  -999.00,9,  -999.00,9,  -999.00,9,  -999.0,-999.000
     33KI145_1,  PRS2,     2,  7,     11,     39,2,20030226,0848, 22.7512,-157.9838, 4715,     74,     73.1,  22.9670,  35.2966,2,  35.2950,2,    314.5,2, 22.9520,    204.4,3,  -999.00,9,  -999.00,9,  -999.00,9,  -999.0,-999.000
     33KI145_1,  PRS2,     2,  7,     10,     32,2,20030226,0848, 22.7512,-157.9838, 4715,     83,     83.0,  22.8961,  35.3337,2,  35.3317,2,    311.4,2, 22.8792,    203.1,3,  -999.00,9,  -999.00,9,  -999.00,9,  -999.0,-999.000
     33KI145_1,  PRS2,     2,  7,      9,      3,2,20030226,0848, 22.7512,-157.9838, 4715,    100,     99.2,  22.7740,  35.3222,2,  35.3218,2,    310.2,2, 22.7538,    203.0,3,  -999.00,9,  -999.00,9,  -999.00,9,  -999.0,-999.000
     33KI145_1,  PRS2,     2,  7,      8,     29,2,20030226,0848, 22.7512,-157.9838, 4715,    116,    114.0,  22.6748,  35.3335,2,  35.3321,2,    307.4,2, 22.6518,    202.3,3,  -999.00,9,  -999.00,9,  -999.00,9,  -999.0,-999.000
     33KI145_1,  PRS2,     2,  7,      7,     28,2,20030226,0848, 22.7512,-157.9838, 4715,    127,    126.0,  22.4403,  35.3446,2,  35.3451,2,    305.6,2, 22.4150,    199.7,3,  -999.00,9,  -999.00,9,  -999.00,9,  -999.0,-999.000
     33KI145_1,  PRS2,     2,  7,      6,      7,3,20030226,0848, 22.7512,-157.9838, 4715,    149,    149.5,  21.7002,  35.3092,2,  35.3175,2,    297.5,2, 21.6708,    196.8,3,  -999.00,9,  -999.00,9,  -999.00,9,  -999.0,-999.000
     33KI145_1,  PRS2,     2,  7,      5,     38,2,20030226,0848, 22.7512,-157.9838, 4715,    166,    165.2,  20.4314,  35.2000,2,  35.2113,2,    278.2,2, 20.4004,    190.4,3,  -999.00,9,  -999.00,9,  -999.00,9,  -999.0,-999.000
     33KI145_1,  PRS2,     2,  7,      4,     36,3,20030226,0848, 22.7512,-157.9838, 4715,    175,    174.5,  19.7440,  35.1239,2,  35.1382,2,    274.0,2, 19.7120,    188.4,3,  -999.00,9,  -999.00,9,  -999.00,9,  -999.0,-999.000
     33KI145_1,  PRS2,     2,  7,      3,     35,2,20030226,0848, 22.7512,-157.9838, 4715,    201,    200.2,  18.9317,  35.0178,2,  35.0195,2,    275.0,2, 18.8961,    191.4,3,  -999.00,9,  -999.00,9,  -999.00,9,  -999.0,-999.000
     33KI145_1,  PRS2,     2,  7,      2,     34,2,20030226,0848, 22.7512,-157.9838, 4715,    511,    509.4,   6.8243,  34.0598,2,  34.0601,2,    116.3,2,  6.7769,     92.9,3,  -999.00,9,  -999.00,9,  -999.00,9,  -999.0,-999.000
     33KI145_1,  PRS2,     2,  7,      1,     33,2,20030226,0848, 22.7512,-157.9838, 4715,   1021,   1020.0,   4.0232,  34.4863,2,  34.4858,2,     44.7,2,  3.9457,     37.2,3,  -999.00,9,  -999.00,9,  -999.00,9,  -999.0,-999.000
     33KI145_1,  PRS2,     2,  8,     22,     22,2,20030226,1146, 22.7512,-157.9958, 4719,      5,      4.2,  23.3318,  35.3234,2,  35.3240,2,    294.2,1, 23.3309,   -999.0,9,  -999.00,9,  -999.00,9,  -999.00,9,  -999.0,-999.000
     33KI145_1,  PRS2,     2,  8,     20,     20,2,20030226,1146, 22.7512,-157.9958, 4719,      5,      4.2,  23.3338,  35.3234,2,  35.3220,2,    294.3,1, 23.3329,   -999.0,9,  -999.00,9,  -999.00,9,  -999.00,9,  -999.0,-999.000
     33KI145_1,  PRS2,     2,  8,     21,     21,2,20030226,1146, 22.7512,-157.9958, 4719,      5,      4.3,  23.3326,  35.3234,2,  35.3342,3,    294.2,1, 23.3317,   -999.0,9,  -999.00,9,  -999.00,9,  -999.00,9,  -999.0,-999.000
     33KI145_1,  PRS2,     2,  8,     19,     19,2,20030226,1146, 22.7512,-157.9958, 4719,     24,     23.9,  23.3455,  35.3227,2,  35.3224,2,    294.4,1, 23.3406,   -999.0,9,  -999.00,9,  -999.00,9,  -999.00,9,  -999.0,-999.000
     33KI145_1,  PRS2,     2,  8,     18,     18,2,20030226,1146, 22.7512,-157.9958, 4719,     25,     23.9,  23.3455,  35.3227,2,  35.3226,2,    294.5,1, 23.3405,   -999.0,9,  -999.00,9,  -999.00,9,  -999.00,9,  -999.0,-999.000
     33KI145_1,  PRS2,     2,  8,     17,     17,2,20030226,1146, 22.7512,-157.9958, 4719,     25,     24.0,  23.3457,  35.3226,2,  35.3277,2,    294.5,1, 23.3407,   -999.0,9,  -999.00,9,  -999.00,9,  -999.00,9,  -999.0,-999.000
     33KI145_1,  PRS2,     2,  8,     16,     16,2,20030226,1146, 22.7512,-157.9958, 4719,     47,     45.3,  23.3458,  35.3229,2,  35.3234,2,    294.5,1, 23.3364,   -999.0,9,  -999.00,9,  -999.00,9,  -999.00,9,  -999.0,-999.000
     33KI145_1,  PRS2,     2,  8,     15,     23,2,20030226,1146, 22.7512,-157.9958, 4719,     46,     45.5,  23.3367,  35.3234,2,  35.3220,2,    294.5,1, 23.3273,   -999.0,9,  -999.00,9,  -999.00,9,  -999.00,9,  -999.0,-999.000
     33KI145_1,  PRS2,     2,  8,     14,     40,2,20030226,1146, 22.7512,-157.9958, 4719,     46,     45.5,  23.3342,  35.3233,2,  35.3216,2,    294.5,1, 23.3248,   -999.0,9,  -999.00,9,  -999.00,9,  -999.00,9,  -999.0,-999.000
     33KI145_1,  PRS2,     2,  8,     12,     12,2,20030226,1146, 22.7512,-157.9958, 4719,     75,     74.2,  23.0142,  35.3294,2,  35.3297,2,    293.0,1, 22.9990,   -999.0,9,  -999.00,9,  -999.00,9,  -999.00,9,  -999.0,-999.000
     33KI145_1,  PRS2,     2,  8,     11,     39,2,20030226,1146, 22.7512,-157.9958, 4719,     74,     74.2,  23.0140,  35.3292,2,  35.3293,2,    293.1,1, 22.9988,   -999.0,9,  -999.00,9,  -999.00,9,  -999.00,9,  -999.0,-999.000
     33KI145_1,  PRS2,     2,  8,     13,     13,2,20030226,1146, 22.7512,-157.9958, 4719,     75,     74.3,  23.0141,  35.3295,2,  35.3330,2,    293.1,1, 22.9989,   -999.0,9,  -999.00,9,  -999.00,9,  -999.00,9,  -999.0,-999.000
     33KI145_1,  PRS2,     2,  8,      9,      3,2,20030226,1146, 22.7512,-157.9958, 4719,    100,     98.9,  22.7889,  35.3250,2,  35.3244,2,    293.6,1, 22.7688,   -999.0,9,  -999.00,9,  -999.00,9,  -999.00,9,  -999.0,-999.000
     33KI145_1,  PRS2,     2,  8,     10,     32,2,20030226,1146, 22.7512,-157.9958, 4719,    100,     99.2,  22.7890,  35.3250,2,  35.3234,2,    293.6,1, 22.7689,   -999.0,9,  -999.00,9,  -999.00,9,  -999.00,9,  -999.0,-999.000
     33KI145_1,  PRS2,     2,  8,      8,     29,3,20030226,1146, 22.7512,-157.9958, 4719,    100,     99.2,  22.7880,  35.3247,2,  35.3311,2,    293.5,1, 22.7678,   -999.0,9,  -999.00,9,  -999.00,9,  -999.00,9,  -999.0,-999.000
     33KI145_1,  PRS2,     2,  8,      5,     38,2,20030226,1146, 22.7512,-157.9958, 4719,    128,    126.6,  22.2788,  35.3303,2,  35.3307,2,    283.2,1, 22.2536,   -999.0,9,  -999.00,9,  -999.00,9,  -999.00,9,  -999.0,-999.000
     33KI145_1,  PRS2,     2,  8,      7,     28,2,20030226,1146, 22.7512,-157.9958, 4719,    128,    126.9,  22.2670,  35.3298,2,  35.3319,2,    283.6,1, 22.2416,   -999.0,9,  -999.00,9,  -999.00,9,  -999.00,9,  -999.0,-999.000
     33KI145_1,  PRS2,     2,  8,      6,      7,2,20030226,1146, 22.7512,-157.9958, 4719,    127,    127.0,  22.2693,  35.3300,2,  35.3305,2,    283.4,1, 22.2439,   -999.0,9,  -999.00,9,  -999.00,9,  -999.00,9,  -999.0,-999.000
     33KI145_1,  PRS2,     2,  8,      4,     36,2,20030226,1146, 22.7512,-157.9958, 4719,    153,    152.8,  21.5047,  35.2897,2,  35.2954,2,    278.8,1, 21.4749,   -999.0,9,  -999.00,9,  -999.00,9,  -999.00,9,  -999.0,-999.000
     33KI145_1,  PRS2,     2,  8,      3,     35,2,20030226,1146, 22.7512,-157.9958, 4719,    175,    172.6,  20.2846,  35.1824,2,  35.1888,2,    264.6,1, 20.2523,   -999.0,9,  -999.00,9,  -999.00,9,  -999.00,9,  -999.0,-999.000
     33KI145_1,  PRS2,     2,  8,      2,     34,2,20030226,1146, 22.7512,-157.9958, 4719,    504,    502.5,   6.9750,  34.0512,2,  34.0511,2,    127.5,1,  6.9277,   -999.0,9,  -999.00,9,  -999.00,9,  -999.00,9,  -999.0,-999.000
     33KI145_1,  PRS2,     2,  8,      1,     33,2,20030226,1146, 22.7512,-157.9958, 4719,   1018,   1017.6,   4.0555,  34.4820,2,  34.4820,2,     43.6,1,  3.9780,   -999.0,9,  -999.00,9,  -999.00,9,  -999.00,9,  -999.0,-999.000
     33KI145_1,  PRS2,     2,  9,      4,     36,2,20030226,1458, 22.7423,-157.9598, 4707,      5,      4.2,  23.3178,  35.3219,2,  35.3216,2,    294.6,1, 23.3169,   -999.0,9,  -999.00,9,  -999.00,9,  -999.00,9,  -999.0,-999.000
     33KI145_1,  PRS2,     2,  9,      3,     35,2,20030226,1458, 22.7423,-157.9598, 4707,    110,    108.2,  22.5318,  35.3414,2,  35.3472,2,    287.2,1, 22.5100,   -999.0,9,  -999.00,9,  -999.00,9,  -999.00,9,  -999.0,-999.000
     33KI145_1,  PRS2,     2,  9,      2,     34,2,20030226,1458, 22.7423,-157.9598, 4707,    501,    499.6,   7.3767,  34.0466,2,  34.0468,2,    140.8,1,  7.3282,   -999.0,9,  -999.00,9,  -999.00,9,  -999.00,9,  -999.0,-999.000
     33KI145_1,  PRS2,     2,  9,      1,     33,2,20030226,1458, 22.7423,-157.9598, 4707,   1021,   1020.8,   3.9481,  34.4970,2,  34.4952,2,     45.5,1,  3.8711,   -999.0,9,  -999.00,9,  -999.00,9,  -999.00,9,  -999.0,-999.000
     33KI145_1,  PRS2,     2, 10,     14,     40,2,20030226,1755, 22.7498,-158.0057, 4723,      5,      4.0,  23.3646,  35.3181,2,  35.3165,2,    292.9,1, 23.3638,   -999.0,9,  -999.00,9,  -999.00,9,  -999.00,9,  -999.0,-999.000
     33KI145_1,  PRS2,     2, 10,     13,     13,3,20030226,1755, 22.7498,-158.0057, 4723,     10,      9.3,  23.3598,  35.3183,2,  35.3240,2,    292.7,1, 23.3579,   -999.0,9,  -999.00,9,  -999.00,9,  -999.00,9,  -999.0,-999.000
     33KI145_1,  PRS2,     2, 10,     12,     12,2,20030226,1755, 22.7498,-158.0057, 4723,     25,     24.4,  23.3604,  35.3184,2,-999.0000,5,    293.8,1, 23.3554,   -999.0,9,  -999.00,9,  -999.00,9,  -999.00,9,  -999.0,-999.000
     33KI145_1,  PRS2,     2, 10,     10,     32,2,20030226,1755, 22.7498,-158.0057, 4723,     25,     24.4,  23.3578,  35.3194,2,  35.3181,2,    293.9,1, 23.3527,   -999.0,9,  -999.00,9,  -999.00,9,  -999.00,9,  -999.0,-999.000
     33KI145_1,  PRS2,     2, 10,     11,     39,3,20030226,1755, 22.7498,-158.0057, 4723,     25,     24.6,  23.3578,  35.3195,2,-999.0000,5,    294.0,1, 23.3527,   -999.0,9,  -999.00,9,  -999.00,9,  -999.00,9,  -999.0,-999.000
     33KI145_1,  PRS2,     2, 10,      9,      3,2,20030226,1755, 22.7498,-158.0057, 4723,     45,     44.6,  23.0449,  35.3345,2,  35.3348,2,    293.6,1, 23.0358,   -999.0,9,  -999.00,9,  -999.00,9,  -999.00,9,  -999.0,-999.000
     33KI145_1,  PRS2,     2, 10,      8,     29,2,20030226,1755, 22.7498,-158.0057, 4723,     75,     74.7,  22.8275,  35.3418,2,  35.3409,2,    290.0,1, 22.8123,   -999.0,9,  -999.00,9,  -999.00,9,  -999.00,9,  -999.0,-999.000
     33KI145_1,  PRS2,     2, 10,      7,     28,2,20030226,1755, 22.7498,-158.0057, 4723,    100,     99.5,  22.1877,  35.3164,2,  35.3169,2,    280.3,1, 22.1679,   -999.0,9,  -999.00,9,  -999.00,9,  -999.00,9,  -999.0,-999.000
     33KI145_1,  PRS2,     2, 10,      6,      7,3,20030226,1755, 22.7498,-158.0057, 4723,    126,    125.4,  20.9515,  35.2401,2,-999.0000,5,    271.6,1, 20.9275,   -999.0,9,  -999.00,9,  -999.00,9,  -999.00,9,  -999.0,-999.000
     33KI145_1,  PRS2,     2, 10,      5,     38,2,20030226,1755, 22.7498,-158.0057, 4723,    154,    153.7,  19.8661,  35.1389,2,  35.1415,2,    262.9,1, 19.8378,   -999.0,9,  -999.00,9,  -999.00,9,  -999.00,9,  -999.0,-999.000
     33KI145_1,  PRS2,     2, 10,      4,     36,2,20030226,1755, 22.7498,-158.0057, 4723,    178,    177.3,  19.0851,  35.0399,2,  35.0535,2,    259.9,1, 19.0534,   -999.0,9,  -999.00,9,  -999.00,9,  -999.00,9,  -999.0,-999.000
     33KI145_1,  PRS2,     2, 10,      3,     35,2,20030226,1755, 22.7498,-158.0057, 4723,    297,    296.1,  12.4204,  34.2285,2,  34.2358,2,    241.2,1, 12.3811,   -999.0,9,  -999.00,9,  -999.00,9,  -999.00,9,  -999.0,-999.000
     33KI145_1,  PRS2,     2, 10,      2,     34,2,20030226,1755, 22.7498,-158.0057, 4723,    752,    750.8,   5.0336,  34.3365,2,  34.3337,2,     30.6,1,  4.9724,   -999.0,9,  -999.00,9,  -999.00,9,  -999.00,9,  -999.0,-999.000
     33KI145_1,  PRS2,     2, 10,      1,     33,2,20030226,1755, 22.7498,-158.0057, 4723,   1022,   1020.5,   4.0200,  34.4888,2,  34.4883,2,     44.0,1,  3.9425,   -999.0,9,  -999.00,9,  -999.00,9,  -999.00,9,  -999.0,-999.000
     33KI145_1,  PRS2,     2, 11,      4,     36,3,20030226,2056, 22.7353,-157.9470, 4707,      5,      4.6,  23.3740,  35.3262,2,  35.3334,2,    293.0,1, 23.3731,   -999.0,9,  -999.00,9,  -999.00,9,  -999.00,9,  -999.0,-999.000
     33KI145_1,  PRS2,     2, 11,      3,     35,2,20030226,2056, 22.7353,-157.9470, 4707,    500,    498.7,   7.3767,  34.0617,2,  34.0819,4,    131.6,1,  7.3283,   -999.0,9,  -999.00,9,  -999.00,9,  -999.00,9,  -999.0,-999.000
     33KI145_1,  PRS2,     2, 11,      2,     34,2,20030226,2056, 22.7353,-157.9470, 4707,    824,    824.3,   4.6650,  34.4031,2,  34.4080,2,     31.9,1,  4.5996,   -999.0,9,  -999.00,9,  -999.00,9,  -999.00,9,  -999.0,-999.000
     33KI145_1,  PRS2,     2, 11,      1,     33,2,20030226,2056, 22.7353,-157.9470, 4707,   1021,   1020.9,   3.9773,  34.4951,2,  34.4946,2,     44.5,1,  3.9001,   -999.0,9,  -999.00,9,  -999.00,9,  -999.00,9,  -999.0,-999.000
     33KI145_1,  PRS2,     2, 12,     11,     39,2,20030226,2359, 22.7433,-157.9512, 4705,      5,      4.3,  23.5048,  35.3289,2,  35.3321,2,    295.9,1, 23.5039,   -999.0,9,  -999.00,9,  -999.00,9,  -999.00,9,  -999.0,-999.000
     33KI145_1,  PRS2,     2, 12,     10,     32,2,20030226,2359, 22.7433,-157.9512, 4705,     25,     24.7,  23.3292,  35.3262,2,  35.3250,2,    294.7,1, 23.3241,   -999.0,9,  -999.00,9,  -999.00,9,  -999.00,9,  -999.0,-999.000
     33KI145_1,  PRS2,     2, 12,      9,      3,2,20030226,2359, 22.7433,-157.9512, 4705,     44,     43.5,  23.0313,  35.2998,2,  35.3013,2,    295.5,1, 23.0224,   -999.0,9,  -999.00,9,  -999.00,9,  -999.00,9,  -999.0,-999.000
     33KI145_1,  PRS2,     2, 12,      8,     29,2,20030226,2359, 22.7433,-157.9512, 4705,     74,     73.7,  22.8025,  35.3277,2,  35.3271,2,    293.3,1, 22.7876,   -999.0,9,  -999.00,9,  -999.00,9,  -999.00,9,  -999.0,-999.000
     33KI145_1,  PRS2,     2, 12,      7,     28,2,20030226,2359, 22.7433,-157.9512, 4705,    100,     99.2,  22.6822,  35.3291,2,  35.3269,2,    292.2,1, 22.6621,   -999.0,9,  -999.00,9,  -999.00,9,  -999.00,9,  -999.0,-999.000
     33KI145_1,  PRS2,     2, 12,      6,      7,2,20030226,2359, 22.7433,-157.9512, 4705,    126,    124.9,  22.4088,  35.3645,2,  35.3742,2,    288.3,1, 22.3837,   -999.0,9,  -999.00,9,  -999.00,9,  -999.00,9,  -999.0,-999.000
     33KI145_1,  PRS2,     2, 12,      5,     38,2,20030226,2359, 22.7433,-157.9512, 4705,    150,    148.7,  21.7503,  35.3233,2,  35.3315,2,    281.1,1, 21.7211,   -999.0,9,  -999.00,9,  -999.00,9,  -999.00,9,  -999.0,-999.000
     33KI145_1,  PRS2,     2, 12,      4,     36,2,20030226,2359, 22.7433,-157.9512, 4705,    250,    249.3,  16.1488,  34.6224,2,  34.6354,2,    253.1,1, 16.1091,   -999.0,9,  -999.00,9,  -999.00,9,  -999.00,9,  -999.0,-999.000
     33KI145_1,  PRS2,     2, 12,      3,     35,2,20030226,2359, 22.7433,-157.9512, 4705,    351,    350.5,  11.0723,  34.1661,2,  34.1707,2,    237.8,1, 11.0291,   -999.0,9,  -999.00,9,  -999.00,9,  -999.00,9,  -999.0,-999.000
     33KI145_1,  PRS2,     2, 12,      2,     34,2,20030226,2359, 22.7433,-157.9512, 4705,    748,    748.0,   5.0544,  34.3124,2,  34.3117,2,     27.4,1,  4.9934,   -999.0,9,  -999.00,9,  -999.00,9,  -999.00,9,  -999.0,-999.000
     33KI145_1,  PRS2,     2, 12,      1,     33,2,20030226,2359, 22.7433,-157.9512, 4705,   1019,   1019.0,   3.9654,  34.4949,2,  34.4942,2,     45.0,1,  3.8885,   -999.0,9,  -999.00,9,  -999.00,9,  -999.00,9,  -999.0,-999.000
     33KI145_1,  PRS2,     2, 13,      6,      7,2,20030227,0248, 22.7517,-158.0320, 4725,      5,      4.3,  23.5047,  35.3224,2,  35.3212,2,    294.4,1, 23.5038,   -999.0,9,  -999.00,9,  -999.00,9,  -999.00,9,  -999.0,-999.000
     33KI145_1,  PRS2,     2, 13,      5,     38,2,20030227,0248, 22.7517,-158.0320, 4725,     25,     24.5,  23.3859,  35.3213,2,  35.3252,2,    294.6,1, 23.3809,   -999.0,9,  -999.00,9,  -999.00,9,  -999.00,9,  -999.0,-999.000
     33KI145_1,  PRS2,     2, 13,      4,     36,3,20030227,0248, 22.7517,-158.0320, 4725,     25,     24.6,  23.3853,  35.3212,2,  35.3202,2,    294.7,1, 23.3803,   -999.0,9,  -999.00,9,  -999.00,9,  -999.00,9,  -999.0,-999.000
     33KI145_1,  PRS2,     2, 13,      3,     35,3,20030227,0248, 22.7517,-158.0320, 4725,    103,    102.6,  22.8112,  35.3416,2,  35.3455,2,    290.2,1, 22.7904,   -999.0,9,  -999.00,9,  -999.00,9,  -999.00,9,  -999.0,-999.000
     33KI145_1,  PRS2,     2, 13,      2,     34,2,20030227,0248, 22.7517,-158.0320, 4725,    530,    529.6,   7.1072,  34.0389,2,  34.0390,2,    136.1,1,  7.0567,   -999.0,9,  -999.00,9,  -999.00,9,  -999.00,9,  -999.0,-999.000
     33KI145_1,  PRS2,     2, 13,      1,     33,2,20030227,0248, 22.7517,-158.0320, 4725,   1020,   1020.0,   3.9326,  34.4979,2,  34.4968,2,     45.8,1,  3.8558,   -999.0,9,  -999.00,9,  -999.00,9,  -999.00,9,  -999.0,-999.000